BOTTLE,20090521WHPSIOdm
EXPOCODE,SECT_ID,STNNBR,CASTNO,SAMPNO,BTLNBR,BTLNBR_FLAG_W,DATE,TIME,LATITUDE,LONGITUDE,DEPTH,CTDRAW,CTDPRS,CTDTMP,CTDSAL,CTDSAL_FLAG_W,SALNTY,SALNTY_FLAG_W,CTDOXY,CTDOXY_FLAG_W,THETA,OXYGEN,OXYGEN_FLAG_W,SILCAT,SILCAT_FLAG_W,NITRAT,NITRAT_FLAG_W,NITRIT,NITRIT_FLAG_W,PHSPHT,PHSPHT_FLAG_W,CFC-11,CFC-11_FLAG_W,CFC-12,CFC-12_FLAG_W,TRITUM,TRITUM_FLAG_W,HELIUM,HELIUM_FLAG_W,DELHE3,DELHE3_FLAG_W,DELC14,DELC14_FLAG_W,DELC13,DELC13_FLAG_W,NEON,NEON_FLAG_W,TCARBN,TCARBN_FLAG_W,ALKALI,ALKALI_FLAG_W,C14ERR,DELHER,HELIER,NEONER,TRITER
,,,,,,,,,,,,,DBAR,IPTS-68,PSS-78,,PSS-78,,UMOL/KG,,IPTS-68,UMOL/KG,,UMOL/KG,,UMOL/KG,,UMOL/KG,,UMOL/KG,,PMOL/KG,,PMOL/KG,,TU,,NMOL/KG,,PERCNT,,/MILLE,,/MILLE,,NMOL/KG,,UMOL/KG,,UMOL/KG,,/MILLE,PERCNT,NMOL/KG,NMOL/KG,TU
     316N145_5,  I08S,    39,  1,     26, SIH005,2,19941215,2119,-46.7222,  93.5417, 3710, 4073.4,    404.9,   6.3661,  34.3708,2,  34.3337,2,    241.2,3,  6.3299,    263.5,2,    12.72,2,    22.05,2,     0.01,2,     1.56,2,    3.617,2,    1.819,2, -999.000,5,-999.0000,5,  -999.00,9,   -999.0,9,  -999.00,9,-999.000,9,   2132.3,6,   2273.1,2,  -999.0, -999.00,-999.0000,-999.000,-999.000
     316N145_5,  I08S,    39,  1,     25, SIH019,2,19941215,2119,-46.7222,  93.5417, 3710, 4599.3,    457.8,   5.5608,  34.3122,2,  34.3082,2,    236.3,2,  5.5226,    234.6,2,    17.58,2,    26.04,2,     0.01,2,     1.81,2,    2.857,2,    1.416,2, -999.000,5,-999.0000,5,  -999.00,9,   -999.0,9,  -999.00,9,-999.000,9,   2154.5,2,   -999.0,9,  -999.0, -999.00,-999.0000,-999.000,-999.000
     316N145_5,  I08S,    39,  1,     24, SIH037,9,19941215,2119,-46.7222,  93.5417, 3710, 5034.2,    501.6,   5.1605,  34.2988,3,-999.0000,9,    235.4,3,  5.1201,   -999.0,9,  -999.00,9,  -999.00,9,  -999.00,9,  -999.00,9, -999.000,9, -999.000,9, -999.000,5,-999.0000,5,  -999.00,9,   -999.0,9,  -999.00,9,-999.000,9,   -999.0,9,   -999.0,9,  -999.0, -999.00,-999.0000,-999.000,-999.000
     316N145_5,  I08S,    39,  1,     23, SIH033,2,19941215,2119,-46.7222,  93.5417, 3710, 6044.0,    603.1,   4.5003,  34.2994,2,  34.3001,2,    228.8,2,  4.4543,    225.1,2,    26.10,2,    29.18,2,     0.01,2,     2.01,2,    2.271,2,    1.087,2, -999.000,5,-999.0000,5,  -999.00,9,   -999.0,9,  -999.00,9,-999.000,9,   2174.9,2,   2288.6,2,  -999.0, -999.00,-999.0000,-999.000,-999.000
     316N145_5,  I08S,    39,  1,     22, SIH031,2,19941215,2119,-46.7222,  93.5417, 3710, 7010.7,    700.4,   3.7882,  34.2972,2,  34.2985,2,    223.9,2,  3.7382,    220.7,2,    33.59,2,    30.94,2,     0.00,2,     2.12,2,    1.997,2,    0.945,2, -999.000,5,-999.0000,5,  -999.00,9,   -999.0,9,  -999.00,9,-999.000,9,   2188.7,2,   2274.5,2,  -999.0, -999.00,-999.0000,-999.000,-999.000
     316N145_5,  I08S,    39,  1,     21, SIH030,2,19941215,2119,-46.7222,  93.5417, 3710, 8053.5,    805.2,   3.4642,  34.3345,2,  34.3346,2,    211.2,2,  3.4080,    209.4,2,    40.92,2,    32.07,2,     0.00,2,     2.21,2,    1.517,2,    0.723,2, -999.000,5,-999.0000,5,  -999.00,9,   -999.0,9,  -999.00,9,-999.000,9,   2201.6,2,   2279.5,2,  -999.0, -999.00,-999.0000,-999.000,-999.000
     316N145_5,  I08S,    39,  1,     20, SIH028,2,19941215,2119,-46.7222,  93.5417, 3710, 9139.7,    914.5,   3.1746,  34.3862,2,  34.3827,2,    200.3,2,  3.1120,    197.9,2,    48.95,2,    33.19,2,     0.00,2,     2.28,2,    1.066,2,    0.501,2, -999.000,5,-999.0000,5,  -999.00,9,   -999.0,9,  -999.00,9,-999.000,9,   2214.5,2,   2307.0,2,  -999.0, -999.00,-999.0000,-999.000,-999.000
     316N145_5,  I08S,    39,  1,     19, SIH027,2,19941215,2119,-46.7222,  93.5417, 3710,10116.1,   1012.7,   3.0201,  34.4272,2,  34.4261,2,    189.4,2,  2.9512,    189.5,2,    54.89,2,    33.65,2,     0.00,2,     2.32,2,    0.772,2,    0.358,2, -999.000,5,-999.0000,5,  -999.00,9,   -999.0,9,  -999.00,9,-999.000,9,   2223.3,2,   2323.3,2,  -999.0, -999.00,-999.0000,-999.000,-999.000
     316N145_5,  I08S,    39,  1,     18, SIH003,2,19941215,2119,-46.7222,  93.5417, 3710,11125.2,   1114.2,   2.8393,  34.4822,2,  34.4813,2,    183.6,2,  2.7640,    182.1,2,    61.72,2,    34.05,2,     0.00,2,     2.34,2,    0.527,2,    0.258,2, -999.000,5,-999.0000,5,  -999.00,9,   -999.0,9,  -999.00,9,-999.000,9,   2234.4,6,   2330.4,2,  -999.0, -999.00,-999.0000,-999.000,-999.000
     316N145_5,  I08S,    39,  1,     17, SIH024,2,19941215,2119,-46.7222,  93.5417, 3710,12105.6,   1212.8,   2.7374,  34.5353,2,  34.5364,2,    177.6,2,  2.6554,    177.4,2,    66.29,2,    33.88,2,     0.00,2,     2.33,2, -999.000,9, -999.000,9, -999.000,5,-999.0000,5,  -999.00,9,   -999.0,9,  -999.00,9,-999.000,9,   2239.5,2,   -999.0,9,  -999.0, -999.00,-999.0000,-999.000,-999.000
     316N145_5,  I08S,    39,  1,     16, SIH022,2,19941215,2119,-46.7222,  93.5417, 3710,13163.9,   1319.3,   2.6244,  34.5804,2,  34.5808,2,    177.5,2,  2.5352,    176.5,2,    69.81,2,    33.55,2,     0.00,2,     2.30,2,    0.256,2,    0.130,2, -999.000,5,-999.0000,5,  -999.00,9,   -999.0,9,  -999.00,9,-999.000,9,   2243.1,2,   2335.3,2,  -999.0, -999.00,-999.0000,-999.000,-999.000
     316N145_5,  I08S,    39,  1,     15, SIH021,2,19941215,2119,-46.7222,  93.5417, 3710,14180.4,   1421.5,   2.5822,  34.6193,2,  34.6193,2,    176.6,2,  2.4853,    176.9,2,    71.77,2,    32.99,2,     0.00,2,     2.26,2, -999.000,9, -999.000,9, -999.000,5,-999.0000,5,  -999.00,9,   -999.0,9,  -999.00,9,-999.000,9,   2244.7,2,   -999.0,9,  -999.0, -999.00,-999.0000,-999.000,-999.000
     316N145_5,  I08S,    39,  1,     14, SIH002,2,19941215,2119,-46.7222,  93.5417, 3710,15137.7,   1517.8,   2.5284,  34.6503,2,  34.6511,2,    179.3,2,  2.4244,    179.1,2,    73.02,2,    32.48,2,     0.00,2,     2.23,2,    0.127,2,    0.067,2, -999.000,5,-999.0000,5,  -999.00,9,   -999.0,9,  -999.00,9,-999.000,9,   2243.9,2,   2338.6,2,  -999.0, -999.00,-999.0000,-999.000,-999.000
     316N145_5,  I08S,    39,  1,     13, SIH018,2,19941215,2119,-46.7222,  93.5417, 3710,16213.8,   1626.1,   2.4781,  34.6765,2,  34.6775,2,    180.9,2,  2.3658,    181.5,2,    73.76,2,    31.92,2,     0.00,2,     2.19,2, -999.000,9, -999.000,9, -999.000,5,-999.0000,5,  -999.00,9,   -999.0,9,  -999.00,9,-999.000,9,   2241.9,2,   2364.2,3,  -999.0, -999.00,-999.0000,-999.000,-999.000
     316N145_5,  I08S,    39,  1,     12, SIH016,2,19941215,2119,-46.7222,  93.5417, 3710,17163.0,   1721.5,   2.4268,  34.7015,2,  34.7028,2,    184.3,2,  2.3072,    184.6,2,    74.67,2,    31.31,2,     0.00,2,     2.15,2,    0.078,2,    0.037,2, -999.000,5,-999.0000,5,  -999.00,9,   -999.0,9,  -999.00,9,-999.000,9,   2241.0,2,   2337.3,2,  -999.0, -999.00,-999.0000,-999.000,-999.000
     316N145_5,  I08S,    39,  1,     11, SIH015,9,19941215,2119,-46.7222,  93.5417, 3710,19325.4,   1939.0,   2.2830,  34.7360,3,-999.0000,9,    189.1,3,  2.1471,   -999.0,9,  -999.00,9,  -999.00,9,  -999.00,9,  -999.00,9, -999.000,9, -999.000,9, -999.000,5,-999.0000,5,  -999.00,9,   -999.0,9,  -999.00,9,-999.000,9,   -999.0,9,   -999.0,9,  -999.0, -999.00,-999.0000,-999.000,-999.000
     316N145_5,  I08S,    39,  1,     10, SIH013,2,19941215,2119,-46.7222,  93.5417, 3710,21281.0,   2135.7,   2.1374,  34.7530,2,  34.7545,2,    195.1,2,  1.9868,    195.4,2,    81.19,2,    30.07,2,     0.00,2,     2.06,2,    0.041,2,    0.023,2, -999.000,5,-999.0000,5,  -999.00,9,   -999.0,9,  -999.00,9,-999.000,9,   2239.9,2,   2351.6,2,  -999.0, -999.00,-999.0000,-999.000,-999.000
     316N145_5,  I08S,    39,  1,      9, SIH012,2,19941215,2119,-46.7222,  93.5417, 3710,23413.7,   2350.3,   1.9727,  34.7570,2,  34.7579,2,    198.2,2,  1.8060,    197.9,2,    86.49,2,    30.01,2,     0.00,2,     2.07,2, -999.000,9, -999.000,9, -999.000,5,-999.0000,5,  -999.00,9,   -999.0,9,  -999.00,9,-999.000,9,   2242.7,2,   2345.2,2,  -999.0, -999.00,-999.0000,-999.000,-999.000
     316N145_5,  I08S,    39,  1,      8, SIH010,2,19941215,2119,-46.7222,  93.5417, 3710,25555.3,   2565.7,   1.7402,  34.7516,2,  34.7528,2,    197.8,2,  1.5584,    199.8,2,    94.79,2,    30.47,2,     0.00,2,     2.10,2,    0.024,2,    0.019,2, -999.000,5,-999.0000,5,  -999.00,9,   -999.0,9,  -999.00,9,-999.000,9,   2248.0,2,   2360.9,2,  -999.0, -999.00,-999.0000,-999.000,-999.000
     316N145_5,  I08S,    39,  1,      7, SIH009,2,19941215,2119,-46.7222,  93.5417, 3710,27387.1,   2749.9,   1.5391,  34.7418,2,  34.7443,2,    200.6,2,  1.3445,    200.8,2,   101.33,2,    30.92,2,     0.00,2,     2.12,2,    0.023,2,    0.011,2, -999.000,5,-999.0000,5,  -999.00,9,   -999.0,9,  -999.00,9,-999.000,9,   2250.6,2,   2355.7,2,  -999.0, -999.00,-999.0000,-999.000,-999.000
     316N145_5,  I08S,    39,  1,      6, SIH038,2,19941215,2119,-46.7222,  93.5417, 3710,29196.2,   2931.9,   1.3943,  34.7360,2,  34.7366,2,    201.0,2,  1.1859,    202.3,2,   106.31,2,    31.22,2,     0.00,2,     2.14,2, -999.000,9, -999.000,9, -999.000,5,-999.0000,5,  -999.00,9,   -999.0,9,  -999.00,9,-999.000,9,   2253.1,2,   2369.6,2,  -999.0, -999.00,-999.0000,-999.000,-999.000
     316N145_5,  I08S,    39,  1,      5, SIH006,2,19941215,2119,-46.7222,  93.5417, 3710,31445.5,   3158.2,   1.2199,  34.7268,2,  34.7274,2,    203.5,2,  0.9940,    204.1,2,   111.64,2,    31.56,2,     0.00,2,     2.17,2,    0.055,2,    0.027,2, -999.000,5,-999.0000,5,  -999.00,9,   -999.0,9,  -999.00,9,-999.000,9,   2254.2,2,   2344.9,3,  -999.0, -999.00,-999.0000,-999.000,-999.000
     316N145_5,  I08S,    39,  1,      4, SIH004,2,19941215,2119,-46.7222,  93.5417, 3710,33455.1,   3360.3,   1.0775,  34.7193,2,  34.7209,2,    205.7,2,  0.8355,    206.2,2,   116.10,2,    31.78,2,     0.00,2,     2.19,2,    0.094,2,    0.048,2, -999.000,5,-999.0000,5,  -999.00,9,   -999.0,9,  -999.00,9,-999.000,9,   2255.3,2,   2355.1,2,  -999.0, -999.00,-999.0000,-999.000,-999.000
     316N145_5,  I08S,    39,  1,      3, SIH025,2,19941215,2119,-46.7222,  93.5417, 3710,35422.7,   3558.2,   1.0687,  34.7190,2,  34.7199,2,    206.7,2,  0.8073,    206.8,2,   116.87,2,    31.84,2,     0.00,2,     2.18,2, -999.000,9, -999.000,9, -999.000,5,-999.0000,5,  -999.00,9,   -999.0,9,  -999.00,9,-999.000,9,   2256.4,2,   -999.0,9,  -999.0, -999.00,-999.0000,-999.000,-999.000
     316N145_5,  I08S,    39,  1,      2, SIH001,2,19941215,2119,-46.7222,  93.5417, 3710,36818.4,   3698.6,   1.0660,  34.7158,2,  34.7193,2,    207.9,2,  0.7905,    207.1,2,   117.64,2,    31.85,2,     0.00,2,     2.19,2,    0.105,2,    0.051,2, -999.000,5,-999.0000,5,  -999.00,9,   -999.0,9,  -999.00,9,-999.000,9,   2256.8,2,   2362.5,2,  -999.0, -999.00,-999.0000,-999.000,-999.000
     316N145_5,  I08S,    39,  1,      1, SIH036,2,19941215,2119,-46.7222,  93.5417, 3710,37265.1,   3743.6,   1.0630,  34.7183,2,  34.7193,2,    207.3,2,  0.7830,    206.8,2,   118.14,2,    31.89,2,     0.00,2,     2.19,2,    0.106,2,    0.050,2, -999.000,5,-999.0000,5,  -999.00,9,   -999.0,9,  -999.00,9,-999.000,9,   2257.4,6,   -999.0,9,  -999.0, -999.00,-999.0000,-999.000,-999.000