BOTTLE,20090521WHPSIOdm
EXPOCODE,SECT_ID,STNNBR,CASTNO,SAMPNO,BTLNBR,BTLNBR_FLAG_W,DATE,TIME,LATITUDE,LONGITUDE,DEPTH,CTDRAW,CTDPRS,CTDTMP,CTDSAL,CTDSAL_FLAG_W,SALNTY,SALNTY_FLAG_W,CTDOXY,CTDOXY_FLAG_W,THETA,OXYGEN,OXYGEN_FLAG_W,SILCAT,SILCAT_FLAG_W,NITRAT,NITRAT_FLAG_W,NITRIT,NITRIT_FLAG_W,PHSPHT,PHSPHT_FLAG_W,CFC-11,CFC-11_FLAG_W,CFC-12,CFC-12_FLAG_W,TRITUM,TRITUM_FLAG_W,HELIUM,HELIUM_FLAG_W,DELHE3,DELHE3_FLAG_W,DELC14,DELC14_FLAG_W,DELC13,DELC13_FLAG_W,NEON,NEON_FLAG_W,TCARBN,TCARBN_FLAG_W,ALKALI,ALKALI_FLAG_W,C14ERR,DELHER,HELIER,NEONER,TRITER
,,,,,,,,,,,,,DBAR,IPTS-68,PSS-78,,PSS-78,,UMOL/KG,,IPTS-68,UMOL/KG,,UMOL/KG,,UMOL/KG,,UMOL/KG,,UMOL/KG,,PMOL/KG,,PMOL/KG,,TU,,NMOL/KG,,PERCNT,,/MILLE,,/MILLE,,NMOL/KG,,UMOL/KG,,UMOL/KG,,/MILLE,PERCNT,NMOL/KG,NMOL/KG,TU
     316N145_5,  I09S,   123,  1,     36, SI9446,2,19950112,1133,-45.5055, 115.0055, 4160,  172.2,     12.0,  10.6870,  34.7831,2,  34.7880,2,    268.1,2, 10.6856,    276.4,2,     1.88,2,     9.01,2,     0.20,2,     0.74,2, -999.000,9, -999.000,9, -999.000,5,-999.0000,5,  -999.00,9,   -999.0,9,  -999.00,9,-999.000,9,   -999.0,9,   -999.0,9,  -999.0, -999.00,-999.0000,-999.000,-999.000
     316N145_5,  I09S,   123,  1,     35, SIH032,2,19950112,1133,-45.5055, 115.0055, 4160,  360.3,     30.9,  10.6907,  34.7837,2,  34.7870,2,    266.6,2, 10.6870,    276.7,2,     1.72,2,     8.97,2,     0.19,2,     0.74,2, -999.000,9, -999.000,9, -999.000,5,-999.0000,5,  -999.00,9,   -999.0,9,  -999.00,9,-999.000,9,   -999.0,9,   -999.0,9,  -999.0, -999.00,-999.0000,-999.000,-999.000
     316N145_5,  I09S,   123,  1,     34, SIH029,3,19950112,1133,-45.5055, 115.0055, 4160,  618.8,     56.9,  10.6817,  34.7846,2,-999.0000,9,    265.6,2, 10.6749,   -999.0,9,  -999.00,9,  -999.00,9,  -999.00,9,  -999.00,9, -999.000,9, -999.000,9, -999.000,5,-999.0000,5,  -999.00,9,   -999.0,9,  -999.00,9,-999.000,9,   -999.0,9,   -999.0,9,  -999.0, -999.00,-999.0000,-999.000,-999.000
     316N145_5,  I09S,   123,  1,     33, SIH026,2,19950112,1133,-45.5055, 115.0055, 4160,  867.9,     81.9,  10.6123,  34.7819,2,  34.7854,2,    266.7,2, 10.6025,    274.8,2,     2.03,2,     9.15,2,     0.20,2,     0.76,2, -999.000,9, -999.000,9, -999.000,5,-999.0000,5,  -999.00,9,   -999.0,9,  -999.00,9,-999.000,9,   -999.0,9,   -999.0,9,  -999.0, -999.00,-999.0000,-999.000,-999.000
     316N145_5,  I09S,   123,  1,     32, SIH023,2,19950112,1133,-45.5055, 115.0055, 4160, 1132.5,    108.5,  10.4007,  34.7872,2,  34.7862,2,    263.7,2, 10.3879,    270.5,2,     2.98,2,     9.75,2,     0.22,2,     0.83,2, -999.000,9, -999.000,9, -999.000,5,-999.0000,5,  -999.00,9,   -999.0,9,  -999.00,9,-999.000,9,   -999.0,9,   -999.0,9,  -999.0, -999.00,-999.0000,-999.000,-999.000
     316N145_5,  I09S,   123,  1,     31, SIH020,2,19950112,1133,-45.5055, 115.0055, 4160, 1626.1,    158.1,  10.1241,  34.7768,2,  34.7805,2,    256.1,2, 10.1057,    266.5,2,     3.62,2,    11.22,2,     0.22,2,     0.89,2, -999.000,9, -999.000,9, -999.000,5,-999.0000,5,  -999.00,9,   -999.0,9,  -999.00,9,-999.000,9,   -999.0,9,   -999.0,9,  -999.0, -999.00,-999.0000,-999.000,-999.000
     316N145_5,  I09S,   123,  1,     30, SIH017,2,19950112,1133,-45.5055, 115.0055, 4160, 2112.5,    207.1,   9.7785,  34.7742,2,  34.7762,2,    256.3,2,  9.7549,    266.0,2,     4.25,2,    12.63,2,     0.01,2,     0.96,2, -999.000,9, -999.000,9, -999.000,5,-999.0000,5,  -999.00,9,   -999.0,9,  -999.00,9,-999.000,9,   -999.0,9,   -999.0,9,  -999.0, -999.00,-999.0000,-999.000,-999.000
     316N145_5,  I09S,   123,  1,     29, SIH014,2,19950112,1133,-45.5055, 115.0055, 4160, 2612.9,    257.4,   9.8170,  34.7856,2,  34.7891,2,    263.2,2,  9.7875,    267.6,2,     4.25,2,    12.33,2,     0.01,2,     0.94,2, -999.000,9, -999.000,9, -999.000,5,-999.0000,5,  -999.00,9,   -999.0,9,  -999.00,9,-999.000,9,   -999.0,9,   -999.0,9,  -999.0, -999.00,-999.0000,-999.000,-999.000
     316N145_5,  I09S,   123,  1,     28, SIH011,2,19950112,1133,-45.5055, 115.0055, 4160, 3098.2,    306.2,   9.7851,  34.7812,2,  34.7854,2,    265.3,2,  9.7500,    267.0,2,     4.41,2,    12.52,2,     0.01,2,     0.95,2, -999.000,9, -999.000,9, -999.000,5,-999.0000,5,  -999.00,9,   -999.0,9,  -999.00,9,-999.000,9,   -999.0,9,   -999.0,9,  -999.0, -999.00,-999.0000,-999.000,-999.000
     316N145_5,  I09S,   123,  1,     27, SIH008,2,19950112,1133,-45.5055, 115.0055, 4160, 3586.1,    355.2,   9.7244,  34.7698,2,  34.7769,2,    261.8,2,  9.6837,    266.4,2,     4.24,2,    12.71,2,     0.01,2,     0.97,2, -999.000,9, -999.000,9, -999.000,5,-999.0000,5,  -999.00,9,   -999.0,9,  -999.00,9,-999.000,9,   -999.0,9,   -999.0,9,  -999.0, -999.00,-999.0000,-999.000,-999.000
     316N145_5,  I09S,   123,  1,     26, SIH005,2,19950112,1133,-45.5055, 115.0055, 4160, 4061.8,    403.1,   9.6156,  34.7496,2,  34.7551,2,    266.1,2,  9.5696,    266.1,2,     4.40,2,    13.04,2,     0.01,2,     0.99,2, -999.000,9, -999.000,9, -999.000,5,-999.0000,5,  -999.00,9,   -999.0,9,  -999.00,9,-999.000,9,   -999.0,9,   -999.0,9,  -999.0, -999.00,-999.0000,-999.000,-999.000
     316N145_5,  I09S,   123,  1,     25, SIH019,2,19950112,1133,-45.5055, 115.0055, 4160, 4603.4,    457.5,   9.5121,  34.7306,2,  34.7337,2,    262.7,2,  9.4600,    265.8,2,     4.55,2,    13.37,2,     0.01,2,     1.01,2, -999.000,9, -999.000,9, -999.000,5,-999.0000,5,  -999.00,9,   -999.0,9,  -999.00,9,-999.000,9,   -999.0,9,   -999.0,9,  -999.0, -999.00,-999.0000,-999.000,-999.000
     316N145_5,  I09S,   123,  1,     21, SIH030,2,19950112,1133,-45.5055, 115.0055, 4160, 5120.7,    509.5,   9.3481,  34.7009,2,  34.7052,2,    264.9,2,  9.2906,    265.7,2,     4.88,2,    13.94,2,     0.01,2,     1.04,2, -999.000,9, -999.000,9, -999.000,5,-999.0000,5,  -999.00,9,   -999.0,9,  -999.00,9,-999.000,9,   -999.0,9,   -999.0,9,  -999.0, -999.00,-999.0000,-999.000,-999.000
     316N145_5,  I09S,   123,  1,     20, SIH028,2,19950112,1133,-45.5055, 115.0055, 4160, 5120.7,    509.5,   9.3484,  34.7009,2,  34.7038,2,    266.9,2,  9.2910,    266.1,2,     4.87,2,    13.89,2,     0.01,2,     1.04,2, -999.000,9, -999.000,9, -999.000,5,-999.0000,5,  -999.00,9,   -999.0,9,  -999.00,9,-999.000,9,   -999.0,9,   -999.0,9,  -999.0, -999.00,-999.0000,-999.000,-999.000
     316N145_5,  I09S,   123,  1,     19, SIH027,2,19950112,1133,-45.5055, 115.0055, 4160,10102.5,   1010.6,   5.0777,  34.3439,2,  34.3474,2,    214.0,2,  4.9931,    214.4,2,    24.65,2,    28.42,2,     0.00,2,     1.95,2, -999.000,9, -999.000,9, -999.000,5,-999.0000,5,  -999.00,9,   -999.0,9,  -999.00,9,-999.000,9,   -999.0,9,   -999.0,9,  -999.0, -999.00,-999.0000,-999.000,-999.000
     316N145_5,  I09S,   123,  1,     18, SIH003,2,19950112,1133,-45.5055, 115.0055, 4160,11058.0,   1106.7,   4.2430,  34.3174,2,  34.3201,2,    215.3,2,  4.1567,    215.2,2,    30.88,2,    30.08,2,     0.00,2,     2.06,2, -999.000,9, -999.000,9, -999.000,5,-999.0000,5,  -999.00,9,   -999.0,9,  -999.00,9,-999.000,9,   -999.0,9,   -999.0,9,  -999.0, -999.00,-999.0000,-999.000,-999.000
     316N145_5,  I09S,   123,  1,     17, SIH024,2,19950112,1133,-45.5055, 115.0055, 4160,12070.8,   1208.5,   3.8028,  34.3300,2,  34.3327,2,    209.6,2,  3.7117,    209.5,2,    37.09,2,    31.27,2,     0.00,2,     2.14,2, -999.000,9, -999.000,9, -999.000,5,-999.0000,5,  -999.00,9,   -999.0,9,  -999.00,9,-999.000,9,   -999.0,9,   -999.0,9,  -999.0, -999.00,-999.0000,-999.000,-999.000
     316N145_5,  I09S,   123,  1,     16, SIH022,2,19950112,1133,-45.5055, 115.0055, 4160,14205.2,   1423.2,   3.0817,  34.4227,2,  34.4245,2,    182.8,2,  2.9797,    187.1,2,    54.79,2,    33.40,2,     0.00,2,     2.30,2, -999.000,9, -999.000,9, -999.000,5,-999.0000,5,  -999.00,9,   -999.0,9,  -999.00,9,-999.000,9,   -999.0,9,   -999.0,9,  -999.0, -999.00,-999.0000,-999.000,-999.000
     316N145_5,  I09S,   123,  1,     15, SIH021,2,19950112,1133,-45.5055, 115.0055, 4160,16083.5,   1612.2,   2.7395,  34.4987,2,  34.5001,2,    171.7,2,  2.6257,    178.5,2,    64.35,2,    33.86,2,     0.00,2,     2.32,2, -999.000,9, -999.000,9, -999.000,5,-999.0000,5,  -999.00,9,   -999.0,9,  -999.00,9,-999.000,9,   -999.0,9,   -999.0,9,  -999.0, -999.00,-999.0000,-999.000,-999.000
     316N145_5,  I09S,   123,  1,     14, SIH002,2,19950112,1133,-45.5055, 115.0055, 4160,18111.7,   1816.2,   2.5887,  34.5978,2,  34.6022,2,    171.3,2,  2.4593,    175.7,2,    71.37,2,    33.09,2,     0.00,2,     2.26,2, -999.000,9, -999.000,9, -999.000,5,-999.0000,5,  -999.00,9,   -999.0,9,  -999.00,9,-999.000,9,   -999.0,9,   -999.0,9,  -999.0, -999.00,-999.0000,-999.000,-999.000
     316N145_5,  I09S,   123,  1,     13, SIH018,2,19950112,1133,-45.5055, 115.0055, 4160,20248.6,   2031.1,   2.4871,  34.6695,2,  34.6706,2,    174.3,2,  2.3404,    178.9,2,    75.35,2,    31.99,2,     0.00,2,     2.18,2, -999.000,9, -999.000,9, -999.000,5,-999.0000,5,  -999.00,9,   -999.0,9,  -999.00,9,-999.000,9,   -999.0,9,   -999.0,9,  -999.0, -999.00,-999.0000,-999.000,-999.000
     316N145_5,  I09S,   123,  1,     12, SIH016,2,19950112,1133,-45.5055, 115.0055, 4160,22311.3,   2238.6,   2.3541,  34.7178,2,  34.7191,2,    181.8,2,  2.1910,    186.9,2,    77.10,2,    30.74,2,     0.00,2,     2.10,2, -999.000,9, -999.000,9, -999.000,5,-999.0000,5,  -999.00,9,   -999.0,9,  -999.00,9,-999.000,9,   -999.0,9,   -999.0,9,  -999.0, -999.00,-999.0000,-999.000,-999.000
     316N145_5,  I09S,   123,  1,     11, SIH015,2,19950112,1133,-45.5055, 115.0055, 4160,24326.4,   2441.3,   2.1955,  34.7412,2,  34.7447,2,    186.9,2,  2.0166,    192.2,2,    80.93,2,    30.21,2,     0.00,2,     2.06,2, -999.000,9, -999.000,9, -999.000,5,-999.0000,5,  -999.00,9,   -999.0,9,  -999.00,9,-999.000,9,   -999.0,9,   -999.0,9,  -999.0, -999.00,-999.0000,-999.000,-999.000
     316N145_5,  I09S,   123,  1,     10, SIH013,2,19950112,1133,-45.5055, 115.0055, 4160,27265.8,   2736.9,   1.9295,  34.7492,2,  34.7504,2,    192.0,2,  1.7282,    196.2,2,    89.37,2,    30.20,2,     0.00,2,     2.06,2, -999.000,9, -999.000,9, -999.000,5,-999.0000,5,  -999.00,9,   -999.0,9,  -999.00,9,-999.000,9,   -999.0,9,   -999.0,9,  -999.0, -999.00,-999.0000,-999.000,-999.000
     316N145_5,  I09S,   123,  1,      9, SIH012,2,19950112,1133,-45.5055, 115.0055, 4160,27275.5,   2737.9,   1.9298,  34.7490,2,  34.7520,2,    192.1,2,  1.7283,    196.3,2,    89.37,2,    30.25,2,     0.00,2,     2.06,2, -999.000,9, -999.000,9, -999.000,5,-999.0000,5,  -999.00,9,   -999.0,9,  -999.00,9,-999.000,9,   -999.0,9,   -999.0,9,  -999.0, -999.00,-999.0000,-999.000,-999.000
     316N145_5,  I09S,   123,  1,      8, SIH010,2,19950112,1133,-45.5055, 115.0055, 4160,31222.1,   3134.9,   1.4754,  34.7355,2,  34.7380,2,    195.9,2,  1.2459,    201.2,2,   103.89,2,    30.90,2,     0.00,2,     2.11,2, -999.000,9, -999.000,9, -999.000,5,-999.0000,5,  -999.00,9,   -999.0,9,  -999.00,9,-999.000,9,   -999.0,9,   -999.0,9,  -999.0, -999.00,-999.0000,-999.000,-999.000
     316N145_5,  I09S,   123,  1,      6, SIH038,2,19950112,1133,-45.5055, 115.0055, 4160,33350.5,   3349.0,   1.2687,  34.7263,2,  34.7286,2,    198.7,2,  1.0232,    203.6,2,   110.90,2,    31.27,2,     0.00,2,     2.14,2, -999.000,9, -999.000,9, -999.000,5,-999.0000,5,  -999.00,9,   -999.0,9,  -999.00,9,-999.000,9,   -999.0,9,   -999.0,9,  -999.0, -999.00,-999.0000,-999.000,-999.000
     316N145_5,  I09S,   123,  1,      7, SIH009,2,19950112,1133,-45.5055, 115.0055, 4160,33356.1,   3349.6,   1.2681,  34.7261,2,  34.7294,2,    198.3,2,  1.0225,    203.3,2,   110.75,2,    31.23,2,     0.00,2,     2.14,2, -999.000,9, -999.000,9, -999.000,5,-999.0000,5,  -999.00,9,   -999.0,9,  -999.00,9,-999.000,9,   -999.0,9,   -999.0,9,  -999.0, -999.00,-999.0000,-999.000,-999.000
     316N145_5,  I09S,   123,  1,      5, SIH006,2,19950112,1133,-45.5055, 115.0055, 4160,37472.8,   3763.7,   1.0348,  34.7136,2,  34.7168,2,    202.6,2,  0.7535,    206.6,2,   118.40,2,    31.69,2,     0.00,2,     2.17,2, -999.000,9, -999.000,9, -999.000,5,-999.0000,5,  -999.00,9,   -999.0,9,  -999.00,9,-999.000,9,   -999.0,9,   -999.0,9,  -999.0, -999.00,-999.0000,-999.000,-999.000
     316N145_5,  I09S,   123,  1,      4, SIH004,2,19950112,1133,-45.5055, 115.0055, 4160,39495.9,   3967.2,   0.9483,  34.7091,2,  34.7132,2,    205.1,2,  0.6483,    208.3,2,   121.11,2,    31.82,2,     0.00,2,     2.18,2, -999.000,9, -999.000,9, -999.000,5,-999.0000,5,  -999.00,9,   -999.0,9,  -999.00,9,-999.000,9,   -999.0,9,   -999.0,9,  -999.0, -999.00,-999.0000,-999.000,-999.000
     316N145_5,  I09S,   123,  1,      3, SIH025,2,19950112,1133,-45.5055, 115.0055, 4160,40762.0,   4094.5,   0.9057,  34.7076,2,  34.7074,2,    205.8,2,  0.5934,    209.3,2,   122.55,2,    31.86,2,     0.00,2,     2.18,2, -999.000,9, -999.000,9, -999.000,5,-999.0000,5,  -999.00,9,   -999.0,9,  -999.00,9,-999.000,9,   -999.0,9,   -999.0,9,  -999.0, -999.00,-999.0000,-999.000,-999.000
     316N145_5,  I09S,   123,  1,      2, SIH001,2,19950112,1133,-45.5055, 115.0055, 4160,41547.9,   4173.6,   0.8890,  34.7058,2,  34.7074,2,    207.3,2,  0.5687,    209.9,2,   123.02,2,    31.90,2,     0.00,2,     2.18,2, -999.000,9, -999.000,9, -999.000,5,-999.0000,5,  -999.00,9,   -999.0,9,  -999.00,9,-999.000,9,   -999.0,9,   -999.0,9,  -999.0, -999.00,-999.0000,-999.000,-999.000
     316N145_5,  I09S,   123,  1,      1, SIH036,2,19950112,1133,-45.5055, 115.0055, 4160,42059.1,   4225.0,   0.8934,  34.7056,2,  34.7076,2,    206.4,2,  0.5674,    209.5,2,   123.12,2,    31.93,2,     0.00,2,     2.18,2, -999.000,9, -999.000,9, -999.000,5,-999.0000,5,  -999.00,9,   -999.0,9,  -999.00,9,-999.000,9,   -999.0,9,   -999.0,9,  -999.0, -999.00,-999.0000,-999.000,-999.000