BOTTLE,20090521WHPSIOdm
EXPOCODE,SECT_ID,STNNBR,CASTNO,SAMPNO,BTLNBR,BTLNBR_FLAG_W,DATE,TIME,LATITUDE,LONGITUDE,DEPTH,CTDRAW,CTDPRS,CTDTMP,CTDSAL,CTDSAL_FLAG_W,SALNTY,SALNTY_FLAG_W,CTDOXY,CTDOXY_FLAG_W,THETA,OXYGEN,OXYGEN_FLAG_W,SILCAT,SILCAT_FLAG_W,NITRAT,NITRAT_FLAG_W,NITRIT,NITRIT_FLAG_W,PHSPHT,PHSPHT_FLAG_W,CFC-11,CFC-11_FLAG_W,CFC-12,CFC-12_FLAG_W,TRITUM,TRITUM_FLAG_W,HELIUM,HELIUM_FLAG_W,DELHE3,DELHE3_FLAG_W,DELC14,DELC14_FLAG_W,DELC13,DELC13_FLAG_W,NEON,NEON_FLAG_W,TCARBN,TCARBN_FLAG_W,ALKALI,ALKALI_FLAG_W,C14ERR,DELHER,HELIER,NEONER,TRITER
,,,,,,,,,,,,,DBAR,IPTS-68,PSS-78,,PSS-78,,UMOL/KG,,IPTS-68,UMOL/KG,,UMOL/KG,,UMOL/KG,,UMOL/KG,,UMOL/KG,,PMOL/KG,,PMOL/KG,,TU,,NMOL/KG,,PERCNT,,/MILLE,,/MILLE,,NMOL/KG,,UMOL/KG,,UMOL/KG,,/MILLE,PERCNT,NMOL/KG,NMOL/KG,TU
     316N145_5,  I09S,   115,  1,     29, SIH014,2,19950110,0939,-49.5055, 115.0000, 3450,  171.3,     12.0,   6.6910,  34.0272,2,  34.0337,2,    298.7,2,  6.6899,    299.5,2,     1.93,2,    19.24,2,     0.24,2,     1.40,2, -999.000,9, -999.000,9, -999.000,5,-999.0000,5,  -999.00,9,   -999.0,9,  -999.00,9,-999.000,9,   -999.0,9,   -999.0,9,  -999.0, -999.00,-999.0000,-999.000,-999.000
     316N145_5,  I09S,   115,  1,     28, SIH011,2,19950110,0939,-49.5055, 115.0000, 3450,  367.3,     31.7,   6.6924,  34.0262,2,  34.0315,2,    300.4,2,  6.6896,    299.5,2,     1.92,2,    19.23,2,     0.24,2,     1.40,2, -999.000,9, -999.000,9, -999.000,5,-999.0000,5,  -999.00,9,   -999.0,9,  -999.00,9,-999.000,9,   -999.0,9,   -999.0,9,  -999.0, -999.00,-999.0000,-999.000,-999.000
     316N145_5,  I09S,   115,  1,     27, SIH008,2,19950110,0939,-49.5055, 115.0000, 3450,  594.8,     54.6,   6.6923,  34.0269,2,  34.0327,2,    304.8,2,  6.6874,    299.6,2,     1.92,2,    19.13,2,     0.24,2,     1.40,2, -999.000,9, -999.000,9, -999.000,5,-999.0000,5,  -999.00,9,   -999.0,9,  -999.00,9,-999.000,9,   -999.0,9,   -999.0,9,  -999.0, -999.00,-999.0000,-999.000,-999.000
     316N145_5,  I09S,   115,  1,     26, SIH005,2,19950110,0939,-49.5055, 115.0000, 3450,  863.1,     81.5,   6.5570,  34.0350,2,  34.0398,2,    304.6,2,  6.5498,    300.7,2,     2.06,2,    19.27,2,     0.24,2,     1.41,2, -999.000,9, -999.000,9, -999.000,5,-999.0000,5,  -999.00,9,   -999.0,9,  -999.00,9,-999.000,9,   -999.0,9,   -999.0,9,  -999.0, -999.00,-999.0000,-999.000,-999.000
     316N145_5,  I09S,   115,  1,     25, SIH019,2,19950110,0939,-49.5055, 115.0000, 3450, 1129.6,    108.3,   5.7121,  34.1461,2,  34.1377,2,    297.0,2,  5.7032,    294.6,2,     7.62,2,    20.82,2,     0.31,2,     1.53,2, -999.000,9, -999.000,9, -999.000,5,-999.0000,5,  -999.00,9,   -999.0,9,  -999.00,9,-999.000,9,   -999.0,9,   -999.0,9,  -999.0, -999.00,-999.0000,-999.000,-999.000
     316N145_5,  I09S,   115,  1,     24, SIH037,2,19950110,0939,-49.5055, 115.0000, 3450, 5165.1,    514.2,   3.6546,  34.2553,2,  34.2579,2,    231.2,2,  3.6192,    229.0,2,    30.45,2,    30.18,2,     0.01,2,     2.08,2, -999.000,9, -999.000,9, -999.000,5,-999.0000,5,  -999.00,9,   -999.0,9,  -999.00,9,-999.000,9,   -999.0,9,   -999.0,9,  -999.0, -999.00,-999.0000,-999.000,-999.000
     316N145_5,  I09S,   115,  1,     23, SIH033,2,19950110,0939,-49.5055, 115.0000, 3450, 6128.8,    611.1,   3.3632,  34.2888,2,  34.2923,2,    219.5,2,  3.3221,    219.1,2,    36.78,2,    31.27,2,     0.01,2,     2.16,2, -999.000,9, -999.000,9, -999.000,5,-999.0000,5,  -999.00,9,   -999.0,9,  -999.00,9,-999.000,9,   -999.0,9,   -999.0,9,  -999.0, -999.00,-999.0000,-999.000,-999.000
     316N145_5,  I09S,   115,  1,     22, SIH031,2,19950110,0939,-49.5055, 115.0000, 3450, 7094.0,    708.2,   3.2220,  34.3575,2,  34.3607,2,    199.6,2,  3.1744,    201.3,2,    45.82,2,    32.26,2,     0.01,2,     2.24,2, -999.000,9, -999.000,9, -999.000,5,-999.0000,5,  -999.00,9,   -999.0,9,  -999.00,9,-999.000,9,   -999.0,9,   -999.0,9,  -999.0, -999.00,-999.0000,-999.000,-999.000
     316N145_5,  I09S,   115,  1,     21, SIH030,2,19950110,0939,-49.5055, 115.0000, 3450, 8220.1,    821.5,   2.8982,  34.4025,2,  34.4072,2,    190.4,2,  2.8444,    191.6,2,    54.06,2,    33.27,2,     0.00,2,     2.30,2, -999.000,9, -999.000,9, -999.000,5,-999.0000,5,  -999.00,9,   -999.0,9,  -999.00,9,-999.000,9,   -999.0,9,   -999.0,9,  -999.0, -999.00,-999.0000,-999.000,-999.000
     316N145_5,  I09S,   115,  1,     20, SIH028,2,19950110,0939,-49.5055, 115.0000, 3450, 9351.3,    935.3,   2.8056,  34.4652,2,  34.4703,2,    178.3,2,  2.7441,    182.0,2,    60.72,2,    33.64,2,     0.00,2,     2.33,2, -999.000,9, -999.000,9, -999.000,5,-999.0000,5,  -999.00,9,   -999.0,9,  -999.00,9,-999.000,9,   -999.0,9,   -999.0,9,  -999.0, -999.00,-999.0000,-999.000,-999.000
     316N145_5,  I09S,   115,  1,     19, SIH027,2,19950110,0939,-49.5055, 115.0000, 3450,10192.4,   1019.9,   2.6162,  34.4960,2,  34.5052,2,    177.4,2,  2.5499,    180.4,2,    64.53,2,    33.76,2,     0.00,2,     2.33,2, -999.000,9, -999.000,9, -999.000,5,-999.0000,5,  -999.00,9,   -999.0,9,  -999.00,9,-999.000,9,   -999.0,9,   -999.0,9,  -999.0, -999.00,-999.0000,-999.000,-999.000
     316N145_5,  I09S,   115,  1,     18, SIH003,2,19950110,0939,-49.5055, 115.0000, 3450,11048.0,   1105.9,   2.6285,  34.5486,2,  34.5545,2,    173.2,2,  2.5556,    175.6,2,    68.33,2,    33.46,2,     0.00,2,     2.31,2, -999.000,9, -999.000,9, -999.000,5,-999.0000,5,  -999.00,9,   -999.0,9,  -999.00,9,-999.000,9,   -999.0,9,   -999.0,9,  -999.0, -999.00,-999.0000,-999.000,-999.000
     316N145_5,  I09S,   115,  1,     17, SIH024,2,19950110,0939,-49.5055, 115.0000, 3450,12021.2,   1203.8,   2.4770,  34.5777,2,  34.5818,2,    172.0,2,  2.3981,    176.0,2,    70.86,2,    33.30,2,     0.00,2,     2.30,2, -999.000,9, -999.000,9, -999.000,5,-999.0000,5,  -999.00,9,   -999.0,9,  -999.00,9,-999.000,9,   -999.0,9,   -999.0,9,  -999.0, -999.00,-999.0000,-999.000,-999.000
     316N145_5,  I09S,   115,  1,     16, SIH022,2,19950110,0939,-49.5055, 115.0000, 3450,12916.1,   1293.8,   2.4116,  34.6158,2,  34.6215,2,    172.1,2,  2.3265,    176.4,2,    73.33,2,    32.76,2,     0.00,2,     2.26,2, -999.000,9, -999.000,9, -999.000,5,-999.0000,5,  -999.00,9,   -999.0,9,  -999.00,9,-999.000,9,   -999.0,9,   -999.0,9,  -999.0, -999.00,-999.0000,-999.000,-999.000
     316N145_5,  I09S,   115,  1,     15, SIH021,2,19950110,0939,-49.5055, 115.0000, 3450,14038.2,   1406.7,   2.4246,  34.6570,2,  34.6624,2,    173.8,2,  2.3305,    178.6,2,    74.19,2,    32.09,2,     0.00,2,     2.21,2, -999.000,9, -999.000,9, -999.000,5,-999.0000,5,  -999.00,9,   -999.0,9,  -999.00,9,-999.000,9,   -999.0,9,   -999.0,9,  -999.0, -999.00,-999.0000,-999.000,-999.000
     316N145_5,  I09S,   115,  1,     14, SIH002,2,19950110,0939,-49.5055, 115.0000, 3450,15105.3,   1514.0,   2.3355,  34.6831,2,  34.6887,2,    175.7,2,  2.2339,    181.6,2,    75.93,2,    31.60,2,     0.00,2,     2.18,2, -999.000,9, -999.000,9, -999.000,5,-999.0000,5,  -999.00,9,   -999.0,9,  -999.00,9,-999.000,9,   -999.0,9,   -999.0,9,  -999.0, -999.00,-999.0000,-999.000,-999.000
     316N145_5,  I09S,   115,  1,     13, SIH018,2,19950110,0939,-49.5055, 115.0000, 3450,16208.2,   1625.0,   2.3110,  34.7103,2,  34.7146,2,    182.0,2,  2.2008,    186.0,2,    76.40,2,    30.78,2,     0.00,2,     2.12,2, -999.000,9, -999.000,9, -999.000,5,-999.0000,5,  -999.00,9,   -999.0,9,  -999.00,9,-999.000,9,   -999.0,9,   -999.0,9,  -999.0, -999.00,-999.0000,-999.000,-999.000
     316N145_5,  I09S,   115,  1,     12, SIH016,2,19950110,0939,-49.5055, 115.0000, 3450,17179.3,   1722.7,   2.2523,  34.7252,2,  34.7245,2,    184.3,2,  2.1349,    188.2,2,    78.14,2,    30.47,2,     0.00,2,     2.10,2, -999.000,9, -999.000,9, -999.000,5,-999.0000,5,  -999.00,9,   -999.0,9,  -999.00,9,-999.000,9,   -999.0,9,   -999.0,9,  -999.0, -999.00,-999.0000,-999.000,-999.000
     316N145_5,  I09S,   115,  1,     11, SIH015,2,19950110,0939,-49.5055, 115.0000, 3450,17927.2,   1797.9,   2.2044,  34.7329,2,  34.7372,2,    186.6,2,  2.0815,    190.3,2,    79.26,2,    30.23,2,     0.00,2,     2.08,2, -999.000,9, -999.000,9, -999.000,5,-999.0000,5,  -999.00,9,   -999.0,9,  -999.00,9,-999.000,9,   -999.0,9,   -999.0,9,  -999.0, -999.00,-999.0000,-999.000,-999.000
     316N145_5,  I09S,   115,  1,     10, SIH013,2,19950110,0939,-49.5055, 115.0000, 3450,19008.5,   1906.7,   2.1307,  34.7420,2,  34.7455,2,    190.1,2,  1.9997,    192.3,2,    81.47,2,    30.02,2,     0.00,2,     2.07,2, -999.000,9, -999.000,9, -999.000,5,-999.0000,5,  -999.00,9,   -999.0,9,  -999.00,9,-999.000,9,   -999.0,9,   -999.0,9,  -999.0, -999.00,-999.0000,-999.000,-999.000
     316N145_5,  I09S,   115,  1,      9, SIH012,2,19950110,0939,-49.5055, 115.0000, 3450,21042.7,   2111.3,   1.9609,  34.7480,2,  34.7541,2,    192.9,2,  1.8152,    195.6,2,    86.55,2,    29.92,2,     0.00,2,     2.06,2, -999.000,9, -999.000,9, -999.000,5,-999.0000,5,  -999.00,9,   -999.0,9,  -999.00,9,-999.000,9,   -999.0,9,   -999.0,9,  -999.0, -999.00,-999.0000,-999.000,-999.000
     316N145_5,  I09S,   115,  1,      8, SIH010,2,19950110,0939,-49.5055, 115.0000, 3450,23228.5,   2331.1,   1.7447,  34.7453,2,  34.7506,2,    194.5,2,  1.5837,    198.4,2,    93.37,2,    30.19,2,     0.00,2,     2.08,2, -999.000,9, -999.000,9, -999.000,5,-999.0000,5,  -999.00,9,   -999.0,9,  -999.00,9,-999.000,9,   -999.0,9,   -999.0,9,  -999.0, -999.00,-999.0000,-999.000,-999.000
     316N145_5,  I09S,   115,  1,      7, SIH009,2,19950110,0939,-49.5055, 115.0000, 3450,25280.6,   2537.5,   1.5237,  34.7381,2,  34.7423,2,    197.0,2,  1.3486,    200.5,2,   100.51,2,    30.51,2,     0.00,2,     2.11,2, -999.000,9, -999.000,9, -999.000,5,-999.0000,5,  -999.00,9,   -999.0,9,  -999.00,9,-999.000,9,   -999.0,9,   -999.0,9,  -999.0, -999.00,-999.0000,-999.000,-999.000
     316N145_5,  I09S,   115,  1,      6, SIH038,2,19950110,0939,-49.5055, 115.0000, 3450,27330.0,   2743.7,   1.3404,  34.7305,2,  34.7341,2,    199.4,2,  1.1504,    202.4,2,   106.70,2,    30.89,2,     0.00,2,     2.13,2, -999.000,9, -999.000,9, -999.000,5,-999.0000,5,  -999.00,9,   -999.0,9,  -999.00,9,-999.000,9,   -999.0,9,   -999.0,9,  -999.0, -999.00,-999.0000,-999.000,-999.000
     316N145_5,  I09S,   115,  1,      5, SIH006,2,19950110,0939,-49.5055, 115.0000, 3450,29351.8,   2947.1,   1.1879,  34.7232,2,  34.7278,2,    200.1,2,  0.9826,    204.1,2,   111.94,2,    31.16,2,     0.00,2,     2.15,2, -999.000,9, -999.000,9, -999.000,5,-999.0000,5,  -999.00,9,   -999.0,9,  -999.00,9,-999.000,9,   -999.0,9,   -999.0,9,  -999.0, -999.00,-999.0000,-999.000,-999.000
     316N145_5,  I09S,   115,  1,      4, SIH004,2,19950110,0939,-49.5055, 115.0000, 3450,31514.3,   3164.6,   1.0609,  34.7169,2,  34.7197,2,    202.6,2,  0.8382,    206.1,2,   115.74,2,    31.34,2,     0.00,2,     2.17,2, -999.000,9, -999.000,9, -999.000,5,-999.0000,5,  -999.00,9,   -999.0,9,  -999.00,9,-999.000,9,   -999.0,9,   -999.0,9,  -999.0, -999.00,-999.0000,-999.000,-999.000
     316N145_5,  I09S,   115,  1,      3, SIH025,2,19950110,0939,-49.5055, 115.0000, 3450,33257.8,   3340.0,   1.0039,  34.7137,2,  34.7146,2,    204.3,2,  0.7657,    207.0,2,   117.82,2,    31.37,2,     0.00,2,     2.17,2, -999.000,9, -999.000,9, -999.000,5,-999.0000,5,  -999.00,9,   -999.0,9,  -999.00,9,-999.000,9,   -999.0,9,   -999.0,9,  -999.0, -999.00,-999.0000,-999.000,-999.000
     316N145_5,  I09S,   115,  1,      2, SIH001,2,19950110,0939,-49.5055, 115.0000, 3450,33961.7,   3410.8,   0.9910,  34.7129,2,  34.7154,2,    204.3,2,  0.7463,    207.2,2,   118.61,2,    31.51,2,     0.00,2,     2.17,2, -999.000,9, -999.000,9, -999.000,5,-999.0000,5,  -999.00,9,   -999.0,9,  -999.00,9,-999.000,9,   -999.0,9,   -999.0,9,  -999.0, -999.00,-999.0000,-999.000,-999.000
     316N145_5,  I09S,   115,  1,      1, SIH036,2,19950110,0939,-49.5055, 115.0000, 3450,34624.8,   3477.5,   0.9676,  34.7117,2,  34.7138,2,    206.2,3,  0.7169,    207.7,2,   119.26,2,    31.50,2,     0.00,2,     2.18,2, -999.000,9, -999.000,9, -999.000,5,-999.0000,5,  -999.00,9,   -999.0,9,  -999.00,9,-999.000,9,   -999.0,9,   -999.0,9,  -999.0, -999.00,-999.0000,-999.000,-999.000