BOTTLE,20090521WHPSIOdm
EXPOCODE,SECT_ID,STNNBR,CASTNO,SAMPNO,BTLNBR,BTLNBR_FLAG_W,DATE,TIME,LATITUDE,LONGITUDE,DEPTH,CTDRAW,CTDPRS,CTDTMP,CTDSAL,CTDSAL_FLAG_W,SALNTY,SALNTY_FLAG_W,CTDOXY,CTDOXY_FLAG_W,THETA,OXYGEN,OXYGEN_FLAG_W,SILCAT,SILCAT_FLAG_W,NITRAT,NITRAT_FLAG_W,NITRIT,NITRIT_FLAG_W,PHSPHT,PHSPHT_FLAG_W,CFC-11,CFC-11_FLAG_W,CFC-12,CFC-12_FLAG_W,TRITUM,TRITUM_FLAG_W,HELIUM,HELIUM_FLAG_W,DELHE3,DELHE3_FLAG_W,DELC14,DELC14_FLAG_W,DELC13,DELC13_FLAG_W,NEON,NEON_FLAG_W,TCARBN,TCARBN_FLAG_W,ALKALI,ALKALI_FLAG_W,C14ERR,DELHER,HELIER,NEONER,TRITER
,,,,,,,,,,,,,DBAR,IPTS-68,PSS-78,,PSS-78,,UMOL/KG,,IPTS-68,UMOL/KG,,UMOL/KG,,UMOL/KG,,UMOL/KG,,UMOL/KG,,PMOL/KG,,PMOL/KG,,TU,,NMOL/KG,,PERCNT,,/MILLE,,/MILLE,,NMOL/KG,,UMOL/KG,,UMOL/KG,,/MILLE,PERCNT,NMOL/KG,NMOL/KG,TU
     316N145_5,  I08S,    48,  1,     24, WHF004,2,19941218,1200,-50.5695,  90.0333, 4015,  435.4,      6.0,   5.5295,  33.9910,2,  33.9906,2,    305.5,3,  5.5290,    309.9,2,     0.84,2,    19.30,2,     0.24,2,     1.39,2,    4.883,2,    2.423,2, -999.000,5,-999.0000,5,  -999.00,9,     18.7,2,  -999.00,9,-999.000,9,   -999.0,9,   -999.0,9,     3.9, -999.00,-999.0000,-999.000,-999.000
     316N145_5,  I08S,    48,  1,     25, WHF026,9,19941218,1200,-50.5695,  90.0333, 4015,  440.7,      6.6,   5.5291,  33.9911,3,-999.0000,9,    305.7,3,  5.5285,   -999.0,9,  -999.00,9,  -999.00,9,  -999.00,9,  -999.00,9, -999.000,9, -999.000,9, -999.000,5,-999.0000,5,  -999.00,9,   -999.0,9,  -999.00,9,-999.000,9,   -999.0,9,   -999.0,9,  -999.0, -999.00,-999.0000,-999.000,-999.000
     316N145_5,  I08S,    48,  1,     23, WHF017,2,19941218,1200,-50.5695,  90.0333, 4015,  628.2,     26.7,   5.5336,  33.9910,2,  33.9910,2,    306.4,2,  5.5315,    309.2,2,     0.85,2,    19.30,2,     0.24,2,     1.39,2,    4.900,2,    2.438,2, -999.000,5,-999.0000,5,  -999.00,9,      0.2,2,     1.73,2,-999.000,9,   -999.0,9,   -999.0,9,     4.4, -999.00,-999.0000,-999.000,-999.000
     316N145_5,  I08S,    48,  1,     22, WHF007,2,19941218,1200,-50.5695,  90.0333, 4015,  839.5,     49.4,   5.5348,  33.9909,2,  33.9675,2,    306.8,2,  5.5309,    309.6,2,     1.01,2,    19.35,2,     0.24,2,     1.39,2,    4.839,2,    2.397,2, -999.000,5,-999.0000,5,  -999.00,9,     -3.9,2,     1.70,2,-999.000,9,   -999.0,9,   -999.0,9,     3.2, -999.00,-999.0000,-999.000,-999.000
     316N145_5,  I08S,    48,  1,     21, WHF022,2,19941218,1200,-50.5695,  90.0333, 4015, 1342.4,    103.3,   5.1230,  33.9844,2,  33.9912,2,    300.8,2,  5.1151,    310.6,2,     1.02,2,    19.60,2,     0.24,2,     1.44,2,    5.016,2,    2.546,2, -999.000,5,-999.0000,5,  -999.00,9,    -10.6,2,     1.75,2,-999.000,9,   -999.0,9,   -999.0,9,     3.8, -999.00,-999.0000,-999.000,-999.000
     316N145_5,  I08S,    48,  1,     20, WHF016,2,19941218,1200,-50.5695,  90.0333, 4015, 2256.5,    201.5,   4.9886,  34.1225,2,  34.1240,2,    267.9,2,  4.9732,    287.5,2,    10.47,2,    23.26,2,     0.05,2,     1.62,2,    4.513,2,    2.224,2, -999.000,5,-999.0000,5,  -999.00,9,     -8.2,2,     1.43,2,-999.000,9,   -999.0,9,   -999.0,9,     3.1, -999.00,-999.0000,-999.000,-999.000
     316N145_5,  I08S,    48,  1,     19, WHF014,2,19941218,1200,-50.5695,  90.0333, 4015, 3153.4,    297.8,   4.8372,  34.2163,2,  34.1805,2,    254.0,2,  4.8144,    260.8,2,    15.92,2,    25.98,2,     0.01,2,     1.80,2, -999.000,9, -999.000,9, -999.000,5,-999.0000,5,  -999.00,9,    -24.4,2,     1.22,2,-999.000,9,   -999.0,9,   -999.0,9,     3.0, -999.00,-999.0000,-999.000,-999.000
     316N145_5,  I08S,    48,  1,     18, WHF018,2,19941218,1200,-50.5695,  90.0333, 4015, 4131.9,    402.8,   4.3810,  34.2588,2,  34.2593,2,    232.4,2,  4.3513,    235.7,2,    23.29,2,    28.55,2,     0.01,2,     1.97,2, -999.000,9, -999.000,9, -999.000,5,-999.0000,5,  -999.00,9,    -37.0,2,     1.09,2,-999.000,9,   -999.0,9,   -999.0,9,     3.3, -999.00,-999.0000,-999.000,-999.000
     316N145_5,  I08S,    48,  1,     17, WHF019,2,19941218,1200,-50.5695,  90.0333, 4015, 5016.4,    497.8,   3.7439,  34.2442,2,  34.2442,2,    232.9,2,  3.7094,    235.9,2,    27.93,2,    29.98,2,     0.00,2,     2.05,2,    2.693,2,    1.277,2, -999.000,5,-999.0000,5,  -999.00,9,    -39.9,2,     1.01,2,-999.000,9,   -999.0,9,   -999.0,9,     3.3, -999.00,-999.0000,-999.000,-999.000
     316N145_5,  I08S,    48,  1,     16, WHF009,2,19941218,1200,-50.5695,  90.0333, 4015, 5989.9,    602.3,   3.1589,  34.2676,2,  34.2668,2,    216.2,2,  3.1194,    226.9,2,    36.10,2,    31.55,2,     0.00,2,     2.17,2,    2.276,2,    1.071,2, -999.000,5,-999.0000,5,  -999.00,9,    -72.4,2,     0.89,2,-999.000,9,   -999.0,9,   -999.0,9,     3.4, -999.00,-999.0000,-999.000,-999.000
     316N145_5,  I08S,    48,  1,     15, WHF008,2,19941218,1200,-50.5695,  90.0333, 4015, 7007.2,    711.5,   2.9619,  34.3340,2,  34.3337,2,    202.8,2,  2.9156,    209.7,2,    45.71,2,    32.80,2,     0.00,2,     2.25,2,    1.607,2,    0.793,2, -999.000,5,-999.0000,5,  -999.00,9,    -86.9,2,     0.79,2,-999.000,9,   -999.0,9,   -999.0,9,     3.8, -999.00,-999.0000,-999.000,-999.000
     316N145_5,  I08S,    48,  1,     14, WHF027,2,19941218,1200,-50.5695,  90.0333, 4015, 7947.5,    812.5,   2.8504,  34.3891,2,  34.3864,2,    194.3,2,  2.7976,    197.4,2,    52.43,2,    33.48,2,     0.00,2,     2.30,2,    1.163,2,    0.552,2, -999.000,5,-999.0000,5,  -999.00,9,    -92.7,2,     0.66,2,-999.000,9,   -999.0,9,   -999.0,9,     4.5, -999.00,-999.0000,-999.000,-999.000
     316N145_5,  I08S,    48,  1,     13, WHF012,2,19941218,1200,-50.5695,  90.0333, 4015, 9820.5,   1013.5,   2.6734,  34.5021,2,  34.5009,2,    178.0,2,  2.6071,    180.9,2,    64.26,2,    33.89,2,     0.00,2,     2.33,2,    0.534,2,    0.251,2, -999.000,5,-999.0000,5,  -999.00,9,   -124.0,2,     0.53,2,-999.000,9,   -999.0,9,   -999.0,9,     4.4, -999.00,-999.0000,-999.000,-999.000
     316N145_5,  I08S,    48,  1,     12, WHF020,2,19941218,1200,-50.5695,  90.0333, 4015,11674.7,   1212.6,   2.5169,  34.5849,2,  34.5834,2,    174.3,2,  2.4369,    177.3,2,    70.83,2,    33.46,2,     0.00,2,     2.30,2,    0.332,2,    0.156,2, -999.000,5,-999.0000,5,  -999.00,9,   -133.0,2,     0.49,2,-999.000,9,   -999.0,9,   -999.0,9,     3.3, -999.00,-999.0000,-999.000,-999.000
     316N145_5,  I08S,    48,  1,     11, WHF011,2,19941218,1200,-50.5695,  90.0333, 4015,14174.7,   1481.0,   2.4187,  34.6814,2,  34.6814,2,    178.0,2,  2.3188,    182.0,2,    74.50,2,    31.78,2,     0.00,2,     2.18,2,    0.127,2,    0.074,2, -999.000,5,-999.0000,5,  -999.00,9,   -136.8,2,     0.50,2,-999.000,9,   -999.0,9,   -999.0,9,     2.7, -999.00,-999.0000,-999.000,-999.000
     316N145_5,  I08S,    48,  1,     10, WHF003,2,19941218,1200,-50.5695,  90.0333, 4015,16853.9,   1768.7,   2.2230,  34.7282,2,  34.7286,2,    187.0,2,  2.1023,    189.8,2,    78.97,2,    30.77,2,     0.00,2,     2.11,2,    0.095,2,    0.039,2, -999.000,5,-999.0000,5,  -999.00,9,   -136.3,2,     0.48,2,-999.000,9,   -999.0,9,   -999.0,9,     3.2, -999.00,-999.0000,-999.000,-999.000
     316N145_5,  I08S,    48,  1,      9, WHF015,2,19941218,1200,-50.5695,  90.0333, 4015,19688.5,   2073.1,   2.0174,  34.7497,2,  34.7500,2,    191.6,2,  1.8741,    195.8,2,    84.25,2,    30.24,2,     0.00,2,     2.07,2,    0.076,2,    0.037,2, -999.000,5,-999.0000,5,  -999.00,9,   -139.9,2,     0.49,2,-999.000,9,   -999.0,9,   -999.0,9,     3.2, -999.00,-999.0000,-999.000,-999.000
     316N145_5,  I08S,    48,  1,      8, WHF013,2,19941218,1200,-50.5695,  90.0333, 4015,22604.4,   2386.2,   1.7313,  34.7513,2,  34.7500,2,    197.0,2,  1.5657,    200.1,2,    92.40,2,    30.34,2,     0.00,2,     2.08,2,    0.065,2,    0.035,2, -999.000,5,-999.0000,5,  -999.00,9,   -144.1,2,     0.52,2,-999.000,9,   -999.0,9,   -999.0,9,     3.0, -999.00,-999.0000,-999.000,-999.000
     316N145_5,  I08S,    48,  1,      7, WHF006,2,19941218,1200,-50.5695,  90.0333, 4015,25473.9,   2694.3,   1.4522,  34.7396,2,  34.7390,2,    199.1,2,  1.2645,    202.5,2,   100.72,2,    30.81,2,     0.00,2,     2.11,2,    0.079,2,    0.047,2, -999.000,5,-999.0000,5,  -999.00,9,   -157.1,2,     0.49,2,-999.000,9,   -999.0,9,   -999.0,9,     3.2, -999.00,-999.0000,-999.000,-999.000
     316N145_5,  I08S,    48,  1,      6, WHF001,2,19941218,1200,-50.5695,  90.0333, 4015,28317.5,   2999.7,   1.1967,  34.7269,2,  34.7260,2,    202.2,2,  0.9864,    205.3,2,   108.87,2,    31.33,2,     0.00,2,     2.15,2,    0.072,2,    0.034,2, -999.000,5,-999.0000,5,  -999.00,9,   -143.8,2,     0.48,2,-999.000,9,   -999.0,9,   -999.0,9,     2.9, -999.00,-999.0000,-999.000,-999.000
     316N145_5,  I08S,    48,  1,      5, WHF023,2,19941218,1200,-50.5695,  90.0333, 4015,31171.5,   3306.2,   0.9098,  34.7118,2,  34.7136,2,    206.3,2,  0.6772,    209.0,2,   116.22,2,    31.79,2,     0.00,2,     2.19,2,    0.113,2,    0.052,2, -999.000,5,-999.0000,5,  -999.00,9,   -162.1,2,     0.47,2,-999.000,9,   -999.0,9,   -999.0,9,     3.3, -999.00,-999.0000,-999.000,-999.000
     316N145_5,  I08S,    48,  1,      4, WHF024,2,19941218,1200,-50.5695,  90.0333, 4015,34032.0,   3613.4,   0.5997,  34.6975,2,  34.6973,2,    212.2,2,  0.3452,    214.6,2,   123.09,2,    32.15,2,     0.00,2,     2.22,2,    0.238,2,    0.119,2, -999.000,5,-999.0000,5,  -999.00,9,   -151.8,2,     0.46,2,-999.000,9,   -999.0,9,   -999.0,9,     5.9, -999.00,-999.0000,-999.000,-999.000
     316N145_5,  I08S,    48,  1,      3, WHF002,2,19941218,1200,-50.5695,  90.0333, 4015,35919.3,   3816.1,   0.3763,  34.6875,2,  34.6877,2,    217.1,2,  0.1078,    219.8,2,   127.25,2,    32.30,2,     0.00,2,     2.22,2,    0.368,2,    0.189,2, -999.000,5,-999.0000,5,  -999.00,9,   -164.6,2,     0.47,2,-999.000,9,   -999.0,9,   -999.0,9,     2.7, -999.00,-999.0000,-999.000,-999.000
     316N145_5,  I08S,    48,  1,      2, WHF021,2,19941218,1200,-50.5695,  90.0333, 4015,37711.0,   4008.5,   0.3011,  34.6845,2,  34.6816,2,    218.6,2,  0.0153,    222.5,2,   127.89,2,    32.35,2,     0.00,2,     2.23,2,    0.431,2,    0.207,2, -999.000,5,-999.0000,5,  -999.00,9,   -176.6,2,     0.33,2,-999.000,9,   -999.0,9,   -999.0,9,     5.3, -999.00,-999.0000,-999.000,-999.000
     316N145_5,  I08S,    48,  1,      1, WHF025,2,19941218,1200,-50.5695,  90.0333, 4015,38187.6,   4059.7,   0.3020,  34.6850,2,  34.6832,2,    216.7,3,  0.0110,    223.2,2,   127.88,2,    32.37,2,     0.00,2,     2.23,2,    0.431,2,    0.208,2, -999.000,5,-999.0000,5,  -999.00,9,   -167.1,2,     0.45,2,-999.000,9,   -999.0,9,   -999.0,9,     2.6, -999.00,-999.0000,-999.000,-999.000
     316N145_5,  I08S,    49,  1,     24, WHF004,2,19941219,0433,-50.9833,  89.6083, 4200,  449.6,      7.5,   5.0973,  33.9691,2,  33.9684,2,    305.1,2,  5.0967,    312.6,2,     0.58,2,    19.49,2,     0.28,2,     1.42,2,    5.096,2,    2.474,2, -999.000,5,-999.0000,5,  -999.00,9,   -999.0,9,  -999.00,9,-999.000,9,   2099.9,6,   2249.9,3,  -999.0, -999.00,-999.0000,-999.000,-999.000
     316N145_5,  I08S,    49,  1,     23, WHF017,2,19941219,0433,-50.9833,  89.6083, 4200,  631.8,     27.1,   5.0762,  33.9680,2,  33.9677,2,    300.7,2,  5.0741,    312.4,2,     0.59,2,    19.55,2,     0.28,2,     1.42,2,    5.086,2,    2.486,2, -999.000,5,-999.0000,5,  -999.00,9,   -999.0,9,  -999.00,9,-999.000,9,   2099.9,2,   2257.0,3,  -999.0, -999.00,-999.0000,-999.000,-999.000
     316N145_5,  I08S,    49,  1,     22, WHF007,2,19941219,0433,-50.9833,  89.6083, 4200,  867.4,     52.3,   5.0698,  33.9672,2,  33.9690,2,    298.3,2,  5.0658,    311.6,2,     0.93,2,    19.55,2,     0.28,2,     1.42,2,    5.134,2,    2.559,2, -999.000,5,-999.0000,5,  -999.00,9,   -999.0,9,  -999.00,9,-999.000,9,   2103.1,2,   2269.4,3,  -999.0, -999.00,-999.0000,-999.000,-999.000
     316N145_5,  I08S,    49,  1,     21, WHF022,2,19941219,0433,-50.9833,  89.6083, 4200, 1347.4,    103.9,   4.8383,  34.0082,2,  34.0039,2,    287.4,2,  4.8306,    306.4,2,     3.50,2,    20.52,2,     0.29,2,     1.55,2,    5.183,2,    2.488,2, -999.000,5,-999.0000,5,  -999.00,9,   -999.0,9,  -999.00,9,-999.000,9,   2114.1,2,   -999.0,9,  -999.0, -999.00,-999.0000,-999.000,-999.000
     316N145_5,  I08S,    49,  1,     20, WHF016,9,19941219,0433,-50.9833,  89.6083, 4200, 2266.4,    202.5,   4.7520,  34.1483,3,-999.0000,9,    278.8,3,  4.7368,   -999.0,9,  -999.00,9,  -999.00,9,  -999.00,9,  -999.00,9, -999.000,9, -999.000,9, -999.000,5,-999.0000,5,  -999.00,9,   -999.0,9,  -999.00,9,-999.000,9,   -999.0,9,   -999.0,9,  -999.0, -999.00,-999.0000,-999.000,-999.000
     316N145_5,  I08S,    49,  1,     19, WHF014,2,19941219,0433,-50.9833,  89.6083, 4200, 3211.6,    304.0,   3.3370,  34.0392,2,  34.0443,2,    268.9,2,  3.3174,    287.8,2,    16.79,2,    26.73,2,     0.02,2,     1.84,2,    4.753,2,    2.303,2, -999.000,5,-999.0000,5,  -999.00,9,   -999.0,9,  -999.00,9,-999.000,9,   2149.5,2,   2283.9,2,  -999.0, -999.00,-999.0000,-999.000,-999.000
     316N145_5,  I08S,    49,  1,     18, WHF018,2,19941219,0433,-50.9833,  89.6083, 4200, 4157.5,    405.5,   3.5621,  34.1925,2,  34.1807,3,    235.9,2,  3.5348,    252.8,2,    24.47,2,    29.15,2,     0.01,2,     1.98,2,    3.386,2,    1.639,2, -999.000,5,-999.0000,5,  -999.00,9,   -999.0,9,  -999.00,9,-999.000,9,   2170.6,2,   2277.6,2,  -999.0, -999.00,-999.0000,-999.000,-999.000
     316N145_5,  I08S,    49,  1,     17, WHF019,9,19941219,0433,-50.9833,  89.6083, 4200, 5090.2,    505.7,   3.2080,  34.2330,3,-999.0000,9,    223.3,3,  3.1751,   -999.0,9,  -999.00,9,  -999.00,9,  -999.00,9,  -999.00,9, -999.000,9, -999.000,9, -999.000,5,-999.0000,5,  -999.00,9,   -999.0,9,  -999.00,9,-999.000,9,   -999.0,9,   -999.0,9,  -999.0, -999.00,-999.0000,-999.000,-999.000
     316N145_5,  I08S,    49,  1,     16, WHF009,2,19941219,0433,-50.9833,  89.6083, 4200, 6017.9,    605.3,   3.0295,  34.3000,2,  34.2976,2,    203.2,2,  2.9903,    218.3,2,    41.28,2,    32.25,2,     0.01,2,     2.20,2,    1.959,2,    0.919,2, -999.000,5,-999.0000,5,  -999.00,9,   -999.0,9,  -999.00,9,-999.000,9,   2203.8,2,   2292.1,2,  -999.0, -999.00,-999.0000,-999.000,-999.000
     316N145_5,  I08S,    49,  1,     15, WHF008,2,19941219,0433,-50.9833,  89.6083, 4200, 6959.5,    706.4,   2.6466,  34.3340,2,  34.3307,2,    196.4,2,  2.6025,    208.1,2,    49.27,2,    33.41,2,     0.00,2,     2.28,2,    1.682,2,    0.785,2, -999.000,5,-999.0000,5,  -999.00,9,   -999.0,9,  -999.00,9,-999.000,9,   2217.6,2,   2306.2,2,  -999.0, -999.00,-999.0000,-999.000,-999.000
     316N145_5,  I08S,    49,  1,     14, WHF027,2,19941219,0433,-50.9833,  89.6083, 4200, 7902.4,    807.6,   2.7410,  34.4248,2,  34.4222,2,    179.9,2,  2.6892,    191.3,2,    56.96,2,    33.89,2,     0.00,2,     2.31,2,    0.962,2,    0.458,2, -999.000,5,-999.0000,5,  -999.00,9,   -999.0,9,  -999.00,9,-999.000,9,   2229.0,2,   -999.0,9,  -999.0, -999.00,-999.0000,-999.000,-999.000
     316N145_5,  I08S,    49,  1,     13, WHF012,2,19941219,0433,-50.9833,  89.6083, 4200, 9763.8,   1007.4,   2.5323,  34.5331,2,  34.5296,2,    171.0,2,  2.4674,    179.1,2,    67.35,2,    34.00,2,     0.00,2,     2.31,2,    0.478,2,    0.239,2, -999.000,5,-999.0000,5,  -999.00,9,   -999.0,9,  -999.00,9,-999.000,9,   2243.3,2,   2327.6,2,  -999.0, -999.00,-999.0000,-999.000,-999.000
     316N145_5,  I08S,    49,  1,     12, WHF020,2,19941219,0433,-50.9833,  89.6083, 4200,11672.1,   1212.3,   2.4933,  34.6247,2,  34.6246,2,    170.4,2,  2.4135,    178.5,2,    71.82,2,    32.91,2,     0.00,2,     2.24,2,    0.210,2,    0.101,2, -999.000,5,-999.0000,5,  -999.00,9,   -999.0,9,  -999.00,9,-999.000,9,   2245.6,2,   2326.0,2,  -999.0, -999.00,-999.0000,-999.000,-999.000
     316N145_5,  I08S,    49,  1,     11, WHF011,2,19941219,0433,-50.9833,  89.6083, 4200,14479.5,   1513.8,   2.3508,  34.7072,2,  34.7077,2,    177.1,2,  2.2490,    186.3,2,    75.18,2,    31.22,2,     0.00,2,     2.12,2,    0.099,2,    0.052,2, -999.000,5,-999.0000,5,  -999.00,9,   -999.0,9,  -999.00,9,-999.000,9,   2240.3,2,   2350.9,2,  -999.0, -999.00,-999.0000,-999.000,-999.000
     316N145_5,  I08S,    49,  1,     10, WHF003,2,19941219,0433,-50.9833,  89.6083, 4200,17308.9,   1817.5,   2.1806,  34.7461,2,  34.7459,2,    183.6,2,  2.0563,    193.6,2,    79.02,2,    30.24,2,     0.00,2,     2.06,2,    0.057,2,    0.057,3, -999.000,5,-999.0000,5,  -999.00,9,   -999.0,9,  -999.00,9,-999.000,9,   2242.0,2,   2347.0,2,  -999.0, -999.00,-999.0000,-999.000,-999.000
     316N145_5,  I08S,    49,  1,      9, WHF015,2,19941219,0433,-50.9833,  89.6083, 4200,20149.3,   2122.5,   1.9081,  34.7561,2,  34.7555,2,    189.7,2,  1.7623,    199.7,2,    86.85,2,    30.07,2,     0.00,2,     2.05,2,    0.042,2,    0.033,2, -999.000,5,-999.0000,5,  -999.00,9,   -999.0,9,  -999.00,9,-999.000,9,   2244.2,2,   2350.3,2,  -999.0, -999.00,-999.0000,-999.000,-999.000
     316N145_5,  I08S,    49,  1,      8, WHF013,2,19941219,0433,-50.9833,  89.6083, 4200,23001.2,   2428.8,   1.6285,  34.7487,2,  34.7500,2,    190.2,2,  1.4610,    202.0,2,    95.48,2,    30.51,2,     0.00,2,     2.08,2, -999.000,9, -999.000,9, -999.000,5,-999.0000,5,  -999.00,9,   -999.0,9,  -999.00,9,-999.000,9,   2248.6,2,   -999.0,9,  -999.0, -999.00,-999.0000,-999.000,-999.000
     316N145_5,  I08S,    49,  1,      7, WHF006,2,19941219,0433,-50.9833,  89.6083, 4200,25859.5,   2735.7,   1.3495,  34.7349,2,  34.7349,2,    193.7,2,  1.1601,    203.3,2,   105.38,2,    31.11,2,     0.00,2,     2.12,2,    0.037,2,    0.023,2, -999.000,5,-999.0000,5,  -999.00,9,   -999.0,9,  -999.00,9,-999.000,9,   2255.4,2,   -999.0,9,  -999.0, -999.00,-999.0000,-999.000,-999.000
     316N145_5,  I08S,    49,  1,      6, WHF001,2,19941219,0433,-50.9833,  89.6083, 4200,28679.1,   3038.5,   1.1210,  34.7241,2,  34.7221,2,    197.7,2,  0.9087,    206.2,2,   111.94,2,    31.55,2,     0.00,2,     2.16,2,    0.071,2,    0.041,2, -999.000,5,-999.0000,5,  -999.00,9,   -999.0,9,  -999.00,9,-999.000,9,   2255.2,2,   -999.0,9,  -999.0, -999.00,-999.0000,-999.000,-999.000
     316N145_5,  I08S,    49,  1,      5, WHF023,2,19941219,0433,-50.9833,  89.6083, 4200,31527.1,   3344.4,   0.8110,  34.7073,2,  34.7060,2,    203.3,2,  0.5771,    211.2,2,   118.49,2,    31.99,2,     0.00,2,     2.18,2,    0.160,2,    0.097,2, -999.000,5,-999.0000,5,  -999.00,9,   -999.0,9,  -999.00,9,-999.000,9,   2257.6,2,   -999.0,9,  -999.0, -999.00,-999.0000,-999.000,-999.000
     316N145_5,  I08S,    49,  1,      4, WHF024,2,19941219,0433,-50.9833,  89.6083, 4200,34400.4,   3653.0,   0.5004,  34.6934,2,  34.6926,2,    209.4,2,  0.2446,    217.7,2,   124.40,2,    32.31,2,     0.00,2,     2.21,2,    0.285,2,    0.150,2, -999.000,5,-999.0000,5,  -999.00,9,   -999.0,9,  -999.00,9,-999.000,9,   -999.0,9,   -999.0,9,  -999.0, -999.00,-999.0000,-999.000,-999.000
     316N145_5,  I08S,    49,  1,      3, WHF002,2,19941219,0433,-50.9833,  89.6083, 4200,37227.8,   3956.6,   0.3363,  34.6863,2,  34.6850,2,    215.9,2,  0.0548,    221.6,2,   126.95,2,    32.48,2,     0.00,2,     2.21,2,    0.401,2,    0.195,2, -999.000,5,-999.0000,5,  -999.00,9,   -999.0,9,  -999.00,9,-999.000,9,   2257.1,2,   -999.0,9,  -999.0, -999.00,-999.0000,-999.000,-999.000
     316N145_5,  I08S,    49,  1,      2, WHF021,2,19941219,0433,-50.9833,  89.6083, 4200,39451.5,   4195.5,   0.3092,  34.6852,2,  34.6840,2,    218.8,2,  0.0039,    223.3,2,   127.59,2,    32.48,2,     0.00,2,     2.22,2,    0.441,2,    0.216,2, -999.000,5,-999.0000,5,  -999.00,9,   -999.0,9,  -999.00,9,-999.000,9,   2256.2,2,   2356.7,2,  -999.0, -999.00,-999.0000,-999.000,-999.000
     316N145_5,  I08S,    49,  1,      1, WHF025,2,19941219,0433,-50.9833,  89.6083, 4200,39920.7,   4245.9,   0.3137,  34.6851,2,  34.6834,2,    219.7,2,  0.0029,    222.5,2,   127.66,2,    32.45,2,     0.00,2,     2.22,2,    0.441,2,    0.212,2, -999.000,5,-999.0000,5,  -999.00,9,   -999.0,9,  -999.00,9,-999.000,9,   2258.8,2,   -999.0,9,  -999.0, -999.00,-999.0000,-999.000,-999.000