BOTTLE,20090521WHPSIOdm
EXPOCODE,SECT_ID,STNNBR,CASTNO,SAMPNO,BTLNBR,BTLNBR_FLAG_W,DATE,TIME,LATITUDE,LONGITUDE,DEPTH,CTDRAW,CTDPRS,CTDTMP,CTDSAL,CTDSAL_FLAG_W,SALNTY,SALNTY_FLAG_W,CTDOXY,CTDOXY_FLAG_W,THETA,OXYGEN,OXYGEN_FLAG_W,SILCAT,SILCAT_FLAG_W,NITRAT,NITRAT_FLAG_W,NITRIT,NITRIT_FLAG_W,PHSPHT,PHSPHT_FLAG_W,CFC-11,CFC-11_FLAG_W,CFC-12,CFC-12_FLAG_W,TRITUM,TRITUM_FLAG_W,HELIUM,HELIUM_FLAG_W,DELHE3,DELHE3_FLAG_W,DELC14,DELC14_FLAG_W,DELC13,DELC13_FLAG_W,NEON,NEON_FLAG_W,TCARBN,TCARBN_FLAG_W,ALKALI,ALKALI_FLAG_W,C14ERR,DELHER,HELIER,NEONER,TRITER
,,,,,,,,,,,,,DBAR,IPTS-68,PSS-78,,PSS-78,,UMOL/KG,,IPTS-68,UMOL/KG,,UMOL/KG,,UMOL/KG,,UMOL/KG,,UMOL/KG,,PMOL/KG,,PMOL/KG,,TU,,NMOL/KG,,PERCNT,,/MILLE,,/MILLE,,NMOL/KG,,UMOL/KG,,UMOL/KG,,/MILLE,PERCNT,NMOL/KG,NMOL/KG,TU
     316N145_5,  I08S,    77,  1,     31, SIH020,2,19941226,1843,-61.9778,  82.0112, 2295,  146.1,      9.3,   0.1516,  33.9231,2,  33.9295,2,    346.5,2,  0.1512,    346.2,2,    42.24,2,    26.81,2,     0.24,2,     1.76,2,    6.448,2,    3.036,2, -999.000,5,-999.0000,5,  -999.00,9,   -999.0,9,  -999.00,9,-999.000,9,   2162.1,6,   2301.8,2,  -999.0, -999.00,-999.0000,-999.000,-999.000
     316N145_5,  I08S,    77,  1,     30, SIH017,2,19941226,1843,-61.9778,  82.0112, 2295,  351.4,     30.0,   0.1540,  33.9235,2,  33.9291,2,    345.1,2,  0.1529,    345.9,2,    42.05,2,    26.99,2,     0.24,2,     1.77,2,    6.556,2,    3.060,2, -999.000,5,-999.0000,5,  -999.00,9,   -999.0,9,  -999.00,9,-999.000,9,   2161.7,2,   -999.0,9,  -999.0, -999.00,-999.0000,-999.000,-999.000
     316N145_5,  I08S,    77,  1,     29, SIH014,2,19941226,1843,-61.9778,  82.0112, 2295,  595.9,     54.6,  -0.9611,  34.0119,2,  34.0258,2,    342.2,2, -0.9625,    329.9,2,    48.46,2,    28.80,2,     0.21,2,     2.00,2,    5.616,2,    2.702,2, -999.000,5,-999.0000,5,  -999.00,9,   -999.0,9,  -999.00,9,-999.000,9,   2181.9,2,   2304.1,2,  -999.0, -999.00,-999.0000,-999.000,-999.000
     316N145_5,  I08S,    77,  1,     28, SIH011,2,19941226,1843,-61.9778,  82.0112, 2295,  847.5,     79.9,  -0.0125,  34.2779,2,  34.2736,2,    251.1,2, -0.0153,    246.9,2,    66.07,2,    32.69,2,     0.13,2,     2.34,2,    3.319,2,    1.570,2, -999.000,5,-999.0000,5,  -999.00,9,   -999.0,9,  -999.00,9,-999.000,9,   2227.4,2,   2325.3,2,  -999.0, -999.00,-999.0000,-999.000,-999.000
     316N145_5,  I08S,    77,  1,     27, SIH008,2,19941226,1843,-61.9778,  82.0112, 2295, 1096.5,    104.9,   0.9577,  34.4219,2,  34.4153,2,    207.0,2,  0.9531,    205.9,2,    72.81,2,    34.19,2,     0.14,2,     2.40,2,    2.041,2,    0.941,2, -999.000,5,-999.0000,5,  -999.00,9,   -999.0,9,  -999.00,9,-999.000,9,   2245.1,2,   -999.0,9,  -999.0, -999.00,-999.0000,-999.000,-999.000
     316N145_5,  I08S,    77,  1,     26, SIH005,2,19941226,1843,-61.9778,  82.0112, 2295, 1594.6,    155.0,   1.7837,  34.5572,2,  34.5610,2,    173.4,2,  1.7758,    174.7,2,    79.87,2,    34.91,2,     0.05,2,     2.40,2,    0.835,2,    0.400,2, -999.000,5,-999.0000,5,  -999.00,9,   -999.0,9,  -999.00,9,-999.000,9,   2259.6,2,   2333.5,2,  -999.0, -999.00,-999.0000,-999.000,-999.000
     316N145_5,  I08S,    77,  1,     25, SIH019,2,19941226,1843,-61.9778,  82.0112, 2295, 2096.0,    205.5,   1.8903,  34.6036,2,  34.6066,2,    170.9,2,  1.8795,    171.9,2,    82.00,2,    34.48,2,     0.02,2,     2.38,2,    0.584,2,    0.275,2, -999.000,5,-999.0000,5,  -999.00,9,   -999.0,9,  -999.00,9,-999.000,9,   2261.2,2,   2339.8,2,  -999.0, -999.00,-999.0000,-999.000,-999.000
     316N145_5,  I08S,    77,  1,     24, SIH037,2,19941226,1843,-61.9778,  82.0112, 2295, 2598.5,    256.0,   1.9714,  34.6386,2,  34.6394,2,    170.7,2,  1.9576,    172.3,2,    82.98,2,    33.92,2,     0.01,2,     2.34,2,    0.417,2,    0.206,2, -999.000,5,-999.0000,5,  -999.00,9,   -999.0,9,  -999.00,9,-999.000,9,   2259.9,2,   -999.0,9,  -999.0, -999.00,-999.0000,-999.000,-999.000
     316N145_5,  I08S,    77,  1,     23, SIH033,2,19941226,1843,-61.9778,  82.0112, 2295, 3091.4,    305.6,   1.9888,  34.6563,2,  34.6574,2,    170.9,2,  1.9722,    172.6,2,    83.79,2,    33.56,2,     0.01,2,     2.32,2,    0.344,2,    0.164,2, -999.000,5,-999.0000,5,  -999.00,9,   -999.0,9,  -999.00,9,-999.000,9,   2259.3,2,   2355.3,3,  -999.0, -999.00,-999.0000,-999.000,-999.000
     316N145_5,  I08S,    77,  1,     22, SIH031,2,19941226,1843,-61.9778,  82.0112, 2295, 3597.8,    356.5,   1.9955,  34.6750,2,  34.6781,2,    172.3,2,  1.9759,    175.3,2,    84.26,2,    33.06,2,     0.00,2,     2.28,2,    0.287,2,    0.138,2, -999.000,5,-999.0000,5,  -999.00,9,   -999.0,9,  -999.00,9,-999.000,9,   2254.6,2,   2344.5,2,  -999.0, -999.00,-999.0000,-999.000,-999.000
     316N145_5,  I08S,    77,  1,     21, SIH030,2,19941226,1843,-61.9778,  82.0112, 2295, 4097.5,    406.8,   1.9922,  34.6884,2,  34.6916,2,    175.5,2,  1.9697,    177.6,2,    84.41,2,    32.65,2,     0.00,2,     2.25,2,    0.243,2,    0.119,2, -999.000,5,-999.0000,5,  -999.00,9,   -999.0,9,  -999.00,9,-999.000,9,   2254.9,2,   2345.1,2,  -999.0, -999.00,-999.0000,-999.000,-999.000
     316N145_5,  I08S,    77,  1,     20, SIH028,2,19941226,1843,-61.9778,  82.0112, 2295, 4588.4,    456.2,   1.9813,  34.7042,2,  34.7076,2,    178.0,2,  1.9558,    180.6,2,    84.73,2,    32.19,2,     0.00,2,     2.22,2,    0.200,2,    0.098,2, -999.000,5,-999.0000,5,  -999.00,9,   -999.0,9,  -999.00,9,-999.000,9,   2251.5,2,   2349.1,2,  -999.0, -999.00,-999.0000,-999.000,-999.000
     316N145_5,  I08S,    77,  1,     19, SIH027,2,19941226,1843,-61.9778,  82.0112, 2295, 5087.2,    506.3,   1.9577,  34.7152,2,  34.7186,2,    180.6,2,  1.9294,    183.6,2,    85.04,2,    31.78,2,     0.00,2,     2.19,2,    0.177,2,    0.083,2, -999.000,5,-999.0000,5,  -999.00,9,   -999.0,9,  -999.00,9,-999.000,9,   2250.8,2,   2348.1,2,  -999.0, -999.00,-999.0000,-999.000,-999.000
     316N145_5,  I08S,    77,  1,     18, SIH003,2,19941226,1843,-61.9778,  82.0112, 2295, 6125.5,    610.8,   1.9101,  34.7310,2,  34.7333,2,    185.0,2,  1.8756,    187.7,2,    85.52,2,    31.22,2,     0.00,2,     2.15,2,    0.152,2,    0.069,2, -999.000,5,-999.0000,5,  -999.00,9,   -999.0,9,  -999.00,9,-999.000,9,   2249.3,2,   2344.9,2,  -999.0, -999.00,-999.0000,-999.000,-999.000
     316N145_5,  I08S,    77,  1,     17, SIH024,2,19941226,1843,-61.9778,  82.0112, 2295, 7159.3,    714.7,   1.8281,  34.7391,2,  34.7427,2,    187.3,2,  1.7876,    192.0,2,    86.83,2,    30.87,2,     0.00,2,     2.13,2,    0.132,2,    0.066,2, -999.000,5,-999.0000,5,  -999.00,9,   -999.0,9,  -999.00,9,-999.000,9,   2248.8,2,   2352.2,2,  -999.0, -999.00,-999.0000,-999.000,-999.000
     316N145_5,  I08S,    77,  1,     16, SIH022,2,19941226,1843,-61.9778,  82.0112, 2295, 8138.3,    813.2,   1.7400,  34.7419,2,  34.7445,2,    189.4,2,  1.6938,    194.0,2,    88.95,2,    30.72,2,     0.00,2,     2.12,2, -999.000,9, -999.000,9, -999.000,5,-999.0000,5,  -999.00,9,   -999.0,9,  -999.00,9,-999.000,9,   2247.2,2,   2349.3,2,  -999.0, -999.00,-999.0000,-999.000,-999.000
     316N145_5,  I08S,    77,  1,     15, SIH021,2,19941226,1843,-61.9778,  82.0112, 2295, 9076.5,    907.6,   1.6957,  34.7468,2,  34.7500,2,    191.7,2,  1.6437,    197.1,2,    89.44,2,    30.32,2,     0.00,2,     2.10,2,    0.103,2,    0.051,2, -999.000,5,-999.0000,5,  -999.00,9,   -999.0,9,  -999.00,9,-999.000,9,   2243.6,2,   -999.0,9,  -999.0, -999.00,-999.0000,-999.000,-999.000
     316N145_5,  I08S,    77,  1,     14, SIH002,2,19941226,1843,-61.9778,  82.0112, 2295,10095.6,   1010.1,   1.5815,  34.7470,2,  34.7502,2,    193.8,2,  1.5237,    199.3,2,    92.06,2,    30.28,2,     0.00,2,     2.10,2,    0.093,2,    0.047,2, -999.000,5,-999.0000,5,  -999.00,9,   -999.0,9,  -999.00,9,-999.000,9,   2243.8,2,   2355.8,2,  -999.0, -999.00,-999.0000,-999.000,-999.000
     316N145_5,  I08S,    77,  1,     13, SIH018,2,19941226,1843,-61.9778,  82.0112, 2295,11131.0,   1114.2,   1.4943,  34.7456,2,  34.7482,2,    194.7,2,  1.4304,    200.4,2,    94.69,2,    30.44,2,     0.00,2,     2.10,2, -999.000,9, -999.000,9, -999.000,5,-999.0000,5,  -999.00,9,   -999.0,9,  -999.00,9,-999.000,9,   2246.5,2,   2357.3,2,  -999.0, -999.00,-999.0000,-999.000,-999.000
     316N145_5,  I08S,    77,  1,     12, SIH016,2,19941226,1843,-61.9778,  82.0112, 2295,12125.4,   1214.3,   1.3772,  34.7402,2,  34.7423,2,    198.0,2,  1.3077,    201.5,2,    97.81,2,    30.60,2,     0.00,2,     2.12,2,    0.099,2,    0.051,2, -999.000,5,-999.0000,5,  -999.00,9,   -999.0,9,  -999.00,9,-999.000,9,   2249.1,2,   -999.0,9,  -999.0, -999.00,-999.0000,-999.000,-999.000
     316N145_5,  I08S,    77,  1,     11, SIH015,2,19941226,1843,-61.9778,  82.0112, 2295,13121.8,   1314.5,   1.2840,  34.7337,2,  34.7378,2,    196.3,2,  1.2086,    202.4,2,   100.27,2,    30.76,2,     0.00,2,     2.13,2, -999.000,9, -999.000,9, -999.000,5,-999.0000,5,  -999.00,9,   -999.0,9,  -999.00,9,-999.000,9,   2249.6,2,   2357.0,2,  -999.0, -999.00,-999.0000,-999.000,-999.000
     316N145_5,  I08S,    77,  1,     10, SIH013,2,19941226,1843,-61.9778,  82.0112, 2295,14132.4,   1416.1,   1.1836,  34.7311,2,  34.7341,2,    200.4,2,  1.1023,    203.4,2,   103.39,2,    30.91,2,     0.00,2,     2.15,2,    0.081,2,    0.045,2, -999.000,5,-999.0000,5,  -999.00,9,   -999.0,9,  -999.00,9,-999.000,9,   2250.7,2,   2359.4,2,  -999.0, -999.00,-999.0000,-999.000,-999.000
     316N145_5,  I08S,    77,  1,      9, SIH012,2,19941226,1843,-61.9778,  82.0112, 2295,15140.0,   1517.5,   1.0818,  34.7252,2,  34.7284,2,    199.8,2,  0.9947,    204.3,2,   106.18,2,    31.13,2,     0.00,2,     2.16,2, -999.000,9, -999.000,9, -999.000,5,-999.0000,5,  -999.00,9,   -999.0,9,  -999.00,9,-999.000,9,   2252.6,2,   -999.0,9,  -999.0, -999.00,-999.0000,-999.000,-999.000
     316N145_5,  I08S,    77,  1,      8, SIH010,2,19941226,1843,-61.9778,  82.0112, 2295,16154.8,   1619.6,   1.0074,  34.7208,2,  34.7233,2,    201.8,2,  0.9140,    205.0,2,   108.97,2,    31.29,2,     0.00,2,     2.18,2,    0.076,2,    0.040,2, -999.000,5,-999.0000,5,  -999.00,9,   -999.0,9,  -999.00,9,-999.000,9,   2253.2,2,   2367.0,2,  -999.0, -999.00,-999.0000,-999.000,-999.000
     316N145_5,  I08S,    77,  1,      7, SIH009,2,19941226,1843,-61.9778,  82.0112, 2295,17235.6,   1728.3,   0.9148,  34.7165,2,  34.7191,2,    201.5,2,  0.8148,    205.3,2,   112.92,2,    31.54,2,     0.00,2,     2.19,2, -999.000,9, -999.000,9, -999.000,5,-999.0000,5,  -999.00,9,   -999.0,9,  -999.00,9,-999.000,9,   2252.2,2,   2355.9,2,  -999.0, -999.00,-999.0000,-999.000,-999.000
     316N145_5,  I08S,    77,  1,      6, SIH038,2,19941226,1843,-61.9778,  82.0112, 2295,18229.5,   1828.3,   0.8244,  34.7112,2,  34.7138,2,    204.0,2,  0.7185,    206.2,2,   116.04,2,    31.70,2,     0.00,2,     2.21,2,    0.059,2,    0.036,2, -999.000,5,-999.0000,5,  -999.00,9,   -999.0,9,  -999.00,9,-999.000,9,   2253.8,2,   -999.0,9,  -999.0, -999.00,-999.0000,-999.000,-999.000
     316N145_5,  I08S,    77,  1,      5, SIH006,2,19941226,1843,-61.9778,  82.0112, 2295,19244.2,   1930.3,   0.7378,  34.7063,2,  34.7095,2,    205.7,2,  0.6257,    207.2,2,   119.32,2,    31.96,2,     0.00,2,     2.22,2, -999.000,9, -999.000,9, -999.000,5,-999.0000,5,  -999.00,9,   -999.0,9,  -999.00,9,-999.000,9,   2257.6,2,   2360.7,2,  -999.0, -999.00,-999.0000,-999.000,-999.000
     316N145_5,  I08S,    77,  1,      4, SIH004,2,19941226,1843,-61.9778,  82.0112, 2295,20235.5,   2030.1,   0.6360,  34.7013,2,  34.7036,2,    206.5,2,  0.5180,    208.2,2,   122.78,2,    32.06,2,     0.00,2,     2.24,2,    0.064,2,    0.031,2, -999.000,5,-999.0000,5,  -999.00,9,   -999.0,9,  -999.00,9,-999.000,9,   2256.2,2,   2356.1,2,  -999.0, -999.00,-999.0000,-999.000,-999.000
     316N145_5,  I08S,    77,  1,      3, SIH025,2,19941226,1843,-61.9778,  82.0112, 2295,21233.9,   2130.5,   0.5518,  34.6963,2,  34.6987,2,    208.8,2,  0.4276,    209.1,2,   126.40,2,    32.26,2,     0.00,2,     2.25,2, -999.000,9, -999.000,9, -999.000,5,-999.0000,5,  -999.00,9,   -999.0,9,  -999.00,9,-999.000,9,   2258.0,2,   -999.0,9,  -999.0, -999.00,-999.0000,-999.000,-999.000
     316N145_5,  I08S,    77,  1,      2, SIH001,2,19941226,1843,-61.9778,  82.0112, 2295,22094.2,   2217.0,   0.4999,  34.6938,2,  34.6961,2,    209.6,2,  0.3700,    209.9,2,   128.53,2,    32.32,2,     0.00,2,     2.26,2,    0.056,2,    0.034,2, -999.000,5,-999.0000,5,  -999.00,9,   -999.0,9,  -999.00,9,-999.000,9,   2257.8,2,   2373.3,2,  -999.0, -999.00,-999.0000,-999.000,-999.000
     316N145_5,  I08S,    77,  1,      1, SIH036,2,19941226,1843,-61.9778,  82.0112, 2295,22614.2,   2269.3,   0.4581,  34.6911,2,  34.6938,2,    208.6,2,  0.3249,    209.4,2,   130.84,2,    32.25,2,     0.01,2,     2.26,2,    0.058,2,    0.034,2, -999.000,5,-999.0000,5,  -999.00,9,   -999.0,9,  -999.00,9,-999.000,9,   2260.9,6,   2377.3,2,  -999.0, -999.00,-999.0000,-999.000,-999.000