BOTTLE,20090521WHPSIOdm
EXPOCODE,SECT_ID,STNNBR,CASTNO,SAMPNO,BTLNBR,BTLNBR_FLAG_W,DATE,TIME,LATITUDE,LONGITUDE,DEPTH,CTDRAW,CTDPRS,CTDTMP,CTDSAL,CTDSAL_FLAG_W,SALNTY,SALNTY_FLAG_W,CTDOXY,CTDOXY_FLAG_W,THETA,OXYGEN,OXYGEN_FLAG_W,SILCAT,SILCAT_FLAG_W,NITRAT,NITRAT_FLAG_W,NITRIT,NITRIT_FLAG_W,PHSPHT,PHSPHT_FLAG_W,CFC-11,CFC-11_FLAG_W,CFC-12,CFC-12_FLAG_W,TRITUM,TRITUM_FLAG_W,HELIUM,HELIUM_FLAG_W,DELHE3,DELHE3_FLAG_W,DELC14,DELC14_FLAG_W,DELC13,DELC13_FLAG_W,NEON,NEON_FLAG_W,TCARBN,TCARBN_FLAG_W,ALKALI,ALKALI_FLAG_W,C14ERR,DELHER,HELIER,NEONER,TRITER
,,,,,,,,,,,,,DBAR,IPTS-68,PSS-78,,PSS-78,,UMOL/KG,,IPTS-68,UMOL/KG,,UMOL/KG,,UMOL/KG,,UMOL/KG,,UMOL/KG,,PMOL/KG,,PMOL/KG,,TU,,NMOL/KG,,PERCNT,,/MILLE,,/MILLE,,NMOL/KG,,UMOL/KG,,UMOL/KG,,/MILLE,PERCNT,NMOL/KG,NMOL/KG,TU
     316N145_5,  I08S,    17,  1,     24, SIH037,2,19941209,0129,-37.0000,  95.0055, 4130,  159.3,     11.2,  14.7081,  35.0744,2,  35.0758,2,    301.1,2, 14.7065,    277.9,3,     1.62,2,     4.60,2,     0.09,2,     0.50,2,    3.130,2,    1.654,2, -999.000,5,-999.0000,5,  -999.00,9,   -999.0,9,  -999.00,9,-999.000,9,   2064.9,6,   2315.4,2,  -999.0, -999.00,-999.0000,-999.000,-999.000
     316N145_5,  I08S,    17,  1,     23, SIH033,2,19941209,0129,-37.0000,  95.0055, 4130,  358.5,     31.2,  14.2861,  35.0266,2,  35.0262,2,    290.0,2, 14.2815,    263.0,2,     1.48,2,     5.00,2,     0.10,2,     0.53,2,    3.184,6,    1.698,6, -999.000,5,-999.0000,5,  -999.00,9,   -999.0,9,  -999.00,9,-999.000,9,   2065.8,2,   2313.4,2,  -999.0, -999.00,-999.0000,-999.000,-999.000
     316N145_5,  I08S,    17,  1,     22, SIH031,2,19941209,0129,-37.0000,  95.0055, 4130,  608.4,     56.3,  13.4736,  35.0085,2,  35.0087,2,    274.1,2, 13.4657,    264.8,2,     1.82,2,     5.62,2,     0.11,2,     0.57,2,    3.266,2,    1.732,2, -999.000,5,-999.0000,5,  -999.00,9,   -999.0,9,  -999.00,9,-999.000,9,   2068.8,2,   -999.0,9,  -999.0, -999.00,-999.0000,-999.000,-999.000
     316N145_5,  I08S,    17,  1,     21, SIH030,2,19941209,0129,-37.0000,  95.0055, 4130, 1106.4,    106.4,  11.7809,  34.9845,2,  34.9841,2,    265.5,2, 11.7673,    264.8,2,     2.95,2,     7.54,2,     0.21,2,     0.71,2,    3.484,2,    1.807,2, -999.000,5,-999.0000,5,  -999.00,9,   -999.0,9,  -999.00,9,-999.000,9,   2084.2,2,   2313.6,2,  -999.0, -999.00,-999.0000,-999.000,-999.000
     316N145_5,  I08S,    17,  1,     20, SIH028,2,19941209,0129,-37.0000,  95.0055, 4130, 2108.7,    207.2,  11.1405,  34.9664,2,  34.9652,2,    252.9,2, 11.1147,    254.9,2,     3.77,2,    10.43,2,     0.01,2,     0.84,2,    3.347,2,    1.728,2, -999.000,5,-999.0000,5,  -999.00,9,   -999.0,9,  -999.00,9,-999.000,9,   2095.9,2,   2302.4,2,  -999.0, -999.00,-999.0000,-999.000,-999.000
     316N145_5,  I08S,    17,  1,     19, SIH027,2,19941209,0129,-37.0000,  95.0055, 4130, 3106.8,    307.6,  10.9274,  34.9361,2,  34.9359,2,    257.5,2, 10.8895,    257.7,2,     3.78,2,    10.52,2,     0.01,2,     0.85,2,    3.434,2,    1.755,2, -999.000,5,-999.0000,5,  -999.00,9,   -999.0,9,  -999.00,9,-999.000,9,   2094.9,2,   2304.8,2,  -999.0, -999.00,-999.0000,-999.000,-999.000
     316N145_5,  I08S,    17,  1,     18, SIH003,2,19941209,0129,-37.0000,  95.0055, 4130, 4101.6,    407.6,  10.6447,  34.8937,2,  34.8934,2,    256.8,2, 10.5951,    255.4,2,     3.96,2,    11.40,2,     0.01,2,     0.90,2,    3.344,2,    1.740,2, -999.000,5,-999.0000,5,  -999.00,9,   -999.0,9,  -999.00,9,-999.000,9,   2099.6,2,   2301.3,2,  -999.0, -999.00,-999.0000,-999.000,-999.000
     316N145_5,  I08S,    17,  1,     17, SIH024,2,19941209,0129,-37.0000,  95.0055, 4130, 5108.1,    508.9,  10.1122,  34.8025,2,  34.8011,2,    246.2,2, 10.0520,    244.4,2,     5.26,2,    13.95,2,     0.01,2,     1.06,2,    3.131,2,    1.596,2, -999.000,5,-999.0000,5,  -999.00,9,   -999.0,9,  -999.00,9,-999.000,9,   2107.0,2,   2302.3,2,  -999.0, -999.00,-999.0000,-999.000,-999.000
     316N145_5,  I08S,    17,  1,     16, SIH022,2,19941209,0129,-37.0000,  95.0055, 4130, 6108.4,    609.4,   9.4624,  34.7074,2,  34.7105,2,    241.3,2,  9.3928,    237.2,2,     5.76,2,    16.08,2,     0.00,2,     1.18,2,    2.929,2,    1.470,2, -999.000,5,-999.0000,5,  -999.00,9,   -999.0,9,  -999.00,9,-999.000,9,   2118.1,2,   -999.0,9,  -999.0, -999.00,-999.0000,-999.000,-999.000
     316N145_5,  I08S,    17,  1,     15, SIH021,2,19941209,0129,-37.0000,  95.0055, 4130, 7106.6,    709.8,   8.6664,  34.6140,2,  34.6121,2,    220.5,2,  8.5891,    220.1,2,     8.82,2,    19.85,2,     0.00,2,     1.41,2,    2.122,2,    1.048,2, -999.000,5,-999.0000,5,  -999.00,9,   -999.0,9,  -999.00,9,-999.000,9,   2132.6,2,   2290.4,2,  -999.0, -999.00,-999.0000,-999.000,-999.000
     316N145_5,  I08S,    17,  1,     14, SIH002,2,19941209,0129,-37.0000,  95.0055, 4130, 8103.6,    810.1,   7.4937,  34.5136,2,  34.5111,2,    207.4,2,  7.4121,    207.0,2,    14.45,2,    23.69,2,     0.00,2,     1.65,2,    1.593,2,    0.818,2, -999.000,5,-999.0000,5,  -999.00,9,   -999.0,9,  -999.00,9,-999.000,9,   2150.5,2,   2284.5,2,  -999.0, -999.00,-999.0000,-999.000,-999.000
     316N145_5,  I08S,    17,  1,     13, SIH018,2,19941209,0129,-37.0000,  95.0055, 4130,10030.8,   1003.9,   5.1233,  34.3660,2,  34.3658,2,    202.3,2,  5.0389,    207.3,2,    26.51,2,    29.07,2,     0.00,2,     2.00,2,    1.182,2,    0.577,2, -999.000,5,-999.0000,5,  -999.00,9,   -999.0,9,  -999.00,9,-999.000,9,   2178.6,2,   2300.3,2,  -999.0, -999.00,-999.0000,-999.000,-999.000
     316N145_5,  I08S,    17,  1,     12, SIH016,2,19941209,0129,-37.0000,  95.0055, 4130,12068.7,   1208.9,   3.6763,  34.3791,2,  34.3796,2,    190.5,2,  3.5862,    192.8,2,    45.47,2,    32.58,2,     0.00,2,     2.26,2,    0.646,2,    0.338,2, -999.000,5,-999.0000,5,  -999.00,9,   -999.0,9,  -999.00,9,-999.000,9,   2211.0,2,   2315.1,2,  -999.0, -999.00,-999.0000,-999.000,-999.000
     316N145_5,  I08S,    17,  1,     11, SIH015,2,19941209,0129,-37.0000,  95.0055, 4130,15066.0,   1510.4,   3.1440,  34.5453,2,  34.5461,2,    157.8,2,  3.0337,    157.9,2,    74.05,2,    34.70,2,     0.00,2,     2.42,2,    0.044,2,    0.023,2, -999.000,5,-999.0000,5,  -999.00,9,   -999.0,9,  -999.00,9,-999.000,9,   2254.0,6,   2339.4,2,  -999.0, -999.00,-999.0000,-999.000,-999.000
     316N145_5,  I08S,    17,  1,     10, SIH013,2,19941209,0129,-37.0000,  95.0055, 4130,18052.2,   1810.8,   2.7333,  34.6269,2,  34.6272,2,    162.5,2,  2.6023,    162.8,2,    81.11,2,    33.92,2,     0.00,2,     2.37,2,    0.023,2,    0.009,2, -999.000,5,-999.0000,5,  -999.00,9,   -999.0,9,  -999.00,9,-999.000,9,   2259.2,2,   2358.6,2,  -999.0, -999.00,-999.0000,-999.000,-999.000
     316N145_5,  I08S,    17,  1,      9, SIH012,2,19941209,0129,-37.0000,  95.0055, 4130,21101.5,   2117.5,   2.4169,  34.6994,2,  34.6995,2,    173.6,2,  2.2636,    174.4,2,    84.97,2,    32.36,2,     0.00,2,     2.24,2, -999.000,9, -999.000,9, -999.000,5,-999.0000,5,  -999.00,9,   -999.0,9,  -999.00,9,-999.000,9,   2255.7,2,   -999.0,9,  -999.0, -999.00,-999.0000,-999.000,-999.000
     316N145_5,  I08S,    17,  1,      8, SIH010,2,19941209,0129,-37.0000,  95.0055, 4130,24161.7,   2425.3,   2.1494,  34.7384,2,  34.7418,2,    186.7,2,  1.9728,    188.2,2,    86.73,2,    31.02,2,     0.00,2,     2.13,2,    0.010,2,    0.000,3, -999.000,5,-999.0000,5,  -999.00,9,   -999.0,9,  -999.00,9,-999.000,9,   2249.8,2,   -999.0,9,  -999.0, -999.00,-999.0000,-999.000,-999.000
     316N145_5,  I08S,    17,  1,      7, SIH009,2,19941209,0129,-37.0000,  95.0055, 4130,27211.7,   2732.1,   1.8340,  34.7473,2,  34.7476,2,    193.8,2,  1.6351,    196.5,2,    93.43,2,    30.67,2,     0.00,2,     2.11,2,    0.018,2,    0.031,4, -999.000,5,-999.0000,5,  -999.00,9,   -999.0,9,  -999.00,9,-999.000,9,   2249.4,2,   2369.9,2,  -999.0, -999.00,-999.0000,-999.000,-999.000
     316N145_5,  I08S,    17,  1,      6, SIH038,2,19941209,0129,-37.0000,  95.0055, 4130,30216.5,   3034.3,   1.4856,  34.7376,2,  34.7382,2,    198.0,2,  1.2655,    201.1,2,   103.91,2,    31.07,2,     0.00,2,     2.14,2,    0.018,6,    0.006,6, -999.000,5,-999.0000,5,  -999.00,9,   -999.0,9,  -999.00,9,-999.000,9,   2252.5,2,   -999.0,9,  -999.0, -999.00,-999.0000,-999.000,-999.000
     316N145_5,  I08S,    17,  1,      5, SIH006,2,19941209,0129,-37.0000,  95.0055, 4130,33207.6,   3335.2,   1.2070,  34.7252,2,  34.7252,2,    201.6,2,  0.9643,    204.0,2,   112.10,2,    31.58,2,     0.00,2,     2.18,2,    0.016,2,    0.010,2, -999.000,5,-999.0000,5,  -999.00,9,   -999.0,9,  -999.00,9,-999.000,9,   2256.5,2,   2376.0,2,  -999.0, -999.00,-999.0000,-999.000,-999.000
     316N145_5,  I08S,    17,  1,      4, SIH004,2,19941209,0129,-37.0000,  95.0055, 4130,36243.4,   3640.6,   1.0344,  34.7162,2,  34.7160,2,    203.5,2,  0.7658,    206.0,2,   118.03,2,    31.94,2,     0.00,2,     2.21,2,    0.017,2,    0.002,3, -999.000,5,-999.0000,5,  -999.00,9,   -999.0,9,  -999.00,9,-999.000,9,   2260.8,2,   2381.3,2,  -999.0, -999.00,-999.0000,-999.000,-999.000
     316N145_5,  I08S,    17,  1,      3, SIH025,2,19941209,0129,-37.0000,  95.0055, 4130,39303.7,   3948.4,   0.9804,  34.7116,2,  34.7111,2,    204.3,2,  0.6815,    206.1,2,   120.43,2,    32.15,2,     0.00,2,     2.22,2, -999.000,9, -999.000,9, -999.000,5,-999.0000,5,  -999.00,9,   -999.0,9,  -999.00,9,-999.000,9,   2264.7,2,   2371.5,2,  -999.0, -999.00,-999.0000,-999.000,-999.000
     316N145_5,  I08S,    17,  1,      2, SIH001,2,19941209,0129,-37.0000,  95.0055, 4130,41334.0,   4152.7,   0.9808,  34.7104,2,  34.7105,2,    205.1,2,  0.6601,    206.4,2,   120.76,2,    32.20,2,     0.00,2,     2.22,2,    0.024,2,    0.011,2, -999.000,5,-999.0000,5,  -999.00,9,   -999.0,9,  -999.00,9,-999.000,9,   2265.7,6,   2388.5,2,  -999.0, -999.00,-999.0000,-999.000,-999.000
     316N145_5,  I08S,    17,  1,      1, SIH036,2,19941209,0129,-37.0000,  95.0055, 4130,41729.7,   4192.5,   0.9794,  34.7106,2,  34.7125,2,    204.7,2,  0.6544,    206.6,2,   121.30,2,    32.17,2,     0.00,2,     2.22,2,    0.037,3,    0.073,3, -999.000,5,-999.0000,5,  -999.00,9,   -999.0,9,  -999.00,9,-999.000,9,   2265.8,2,   2366.3,2,  -999.0, -999.00,-999.0000,-999.000,-999.000
     316N145_5,  I08S,    18,  1,     24, SIH037,2,19941210,0903,-37.5000,  95.0000, 4215,  191.0,     14.2,  15.2724,  35.1606,2,  35.1604,2,    271.0,2, 15.2702,    257.7,2,     1.67,2,     3.08,2,     0.06,2,     0.40,2,    3.033,2,    1.592,2,    0.762,2,   1.7310,2,    -1.57,2,   -999.0,9,  -999.00,9,   7.185,2,   -999.0,9,   -999.0,9,  -999.0,    0.10,  0.0020,   0.048,   0.010
     316N145_5,  I08S,    18,  1,     23, SIH033,2,19941210,0903,-37.5000,  95.0000, 4215,  381.8,     33.4,  15.1520,  35.1585,2,  35.1516,2,    273.1,2, 15.1470,    258.9,2,     1.83,2,     3.17,2,     0.06,2,     0.41,2, -999.000,9, -999.000,9,    0.511,2,   1.7350,2,    -1.53,2,   -999.0,9,  -999.00,9,   7.164,2,   -999.0,9,   -999.0,9,  -999.0,    0.10,  0.0020,   0.039,   0.008
     316N145_5,  I08S,    18,  1,     22, SIH031,2,19941210,0903,-37.5000,  95.0000, 4215,  633.6,     58.7,  13.8971,  35.0772,2,  35.0774,2,    283.5,2, 13.8887,    266.6,2,     1.98,2,     4.20,2,     0.09,2,     0.48,2,    3.215,2,    1.684,2,    0.803,2,   1.7610,2,    -1.77,2,   -999.0,9,  -999.00,9,   7.288,2,   -999.0,9,   -999.0,9,  -999.0,    0.10,  0.0020,   0.052,   0.010
     316N145_5,  I08S,    18,  1,     21, SIH030,2,19941210,0903,-37.5000,  95.0000, 4215, 1133.1,    108.9,  11.7653,  35.0077,2,  35.0073,2,    271.5,2, 11.7513,    263.7,2,     3.25,2,     7.63,2,     0.28,2,     0.72,2,    3.449,2,    1.797,2,    0.718,2,   1.7580,2,    -1.71,2,   -999.0,9,  -999.00,9,   7.397,2,   -999.0,9,   -999.0,9,  -999.0,    0.10,  0.0020,   0.052,   0.011
     316N145_5,  I08S,    18,  1,     20, SIH028,2,19941210,0903,-37.5000,  95.0000, 4215, 2139.5,    210.1,  11.2203,  34.9757,2,  34.9754,2,    267.8,2, 11.1941,    256.2,2,     3.88,2,    10.05,2,     0.01,2,     0.81,2,    3.331,2,    1.747,2,   -0.010,4,   1.7570,2,    -1.35,2,   -999.0,9,  -999.00,9,   7.369,2,   -999.0,9,   -999.0,9,  -999.0,    0.10,  0.0020,   0.039,   0.004
     316N145_5,  I08S,    18,  1,     19, SIH027,2,19941210,0903,-37.5000,  95.0000, 4215, 3136.9,    310.4,  10.8955,  34.9280,2,  34.9276,2,    268.1,2, 10.8573,    255.0,2,     4.19,2,    10.98,2,     0.01,2,     0.87,2,    3.346,2,    1.734,2,    0.673,2,   1.7740,2,    -1.26,2,   -999.0,9,  -999.00,9,   7.461,2,   -999.0,9,   -999.0,9,  -999.0,    0.10,  0.0020,   0.033,   0.010
     316N145_5,  I08S,    18,  1,     18, SIH003,2,19941210,0903,-37.5000,  95.0000, 4215, 4131.2,    410.4,  10.5658,  34.8784,2,  34.8778,2,    266.9,2, 10.5161,    251.5,2,     4.35,2,    11.98,2,     0.01,2,     0.93,2,    3.261,2,    1.661,2,    0.003,4,   1.8070,2,    -0.83,2,   -999.0,9,  -999.00,9,   7.566,2,   -999.0,9,   -999.0,9,  -999.0,    0.10,  0.0020,   0.033,   0.004
     316N145_5,  I08S,    18,  1,     17, SIH024,2,19941210,0903,-37.5000,  95.0000, 4215, 5127.7,    510.6,  10.0118,  34.7894,2,  34.7907,2,    260.6,2,  9.9517,    244.5,2,     5.30,2,    14.03,2,     0.00,2,     1.06,2,    3.123,2,    1.602,2,    0.589,2,   1.7720,2,    -0.57,2,   -999.0,9,  -999.00,9,   7.547,2,   -999.0,9,   -999.0,9,  -999.0,    0.10,  0.0020,   0.044,   0.010
     316N145_5,  I08S,    18,  1,     16, SIH022,2,19941210,0903,-37.5000,  95.0000, 4215, 6123.1,    610.7,   9.4247,  34.7047,2,  34.7048,2,    250.1,2,  9.3552,    233.7,2,     6.41,2,    16.55,2,     0.00,2,     1.21,2, -999.000,9, -999.000,9,    0.520,2,   1.7710,2,     0.15,2,   -999.0,9,  -999.00,9,   7.484,2,   -999.0,9,   -999.0,9,  -999.0,    0.10,  0.0020,   0.034,   0.008
     316N145_5,  I08S,    18,  1,     15, SIH021,2,19941210,0903,-37.5000,  95.0000, 4215, 7115.1,    710.5,   8.6258,  34.6089,2,  34.6097,2,    233.3,2,  8.5487,    221.6,2,     9.12,2,    19.65,2,     0.00,2,     1.40,2,    2.255,2,    1.143,2,    0.468,2,   1.7650,2,     0.76,2,   -999.0,9,  -999.00,9,   7.595,2,   -999.0,9,   -999.0,9,  -999.0,    0.10,  0.0020,   0.032,   0.010
     316N145_5,  I08S,    18,  1,     14, SIH002,2,19941210,0903,-37.5000,  95.0000, 4215, 8090.4,    808.6,   7.5076,  34.5114,2,  34.5119,2,    216.7,2,  7.4261,    206.6,2,    14.38,2,    23.68,2,     0.00,2,     1.65,2,    1.552,6,    0.791,6,    0.340,2,   1.8390,3,     1.38,2,   -999.0,9,  -999.00,9,   7.927,3,   -999.0,9,   -999.0,9,  -999.0,    0.10,  0.0020,   0.042,   0.006
     316N145_5,  I08S,    18,  1,     13, SIH018,2,19941210,0903,-37.5000,  95.0000, 4215,10049.9,   1005.7,   4.8682,  34.3561,2,  34.3543,2,    212.7,2,  4.7857,    207.0,2,    28.60,2,    29.54,2,     0.00,2,     2.04,2,    1.171,6,    0.595,6,    0.238,2,   1.7890,2,     2.50,2,   -999.0,9,  -999.00,9,   7.709,2,   -999.0,9,   -999.0,9,  -999.0,    0.10,  0.0020,   0.051,   0.006
     316N145_5,  I08S,    18,  1,     12, SIH016,2,19941210,0903,-37.5000,  95.0000, 4215,12052.1,   1207.0,   3.7049,  34.3795,2,  34.3809,2,    199.7,2,  3.6147,    192.6,2,    45.53,2,    32.54,2,     0.00,2,     2.26,2,    0.621,2,    0.315,2,    0.199,4,   1.8620,3,     4.84,2,   -999.0,9,  -999.00,9,   8.048,3,   -999.0,9,   -999.0,9,  -999.0,    0.10,  0.0020,   0.057,   0.007
     316N145_5,  I08S,    18,  1,     11, SIH015,2,19941210,0903,-37.5000,  95.0000, 4215,15055.1,   1509.1,   3.2083,  34.5390,2,  34.5400,2,    165.7,2,  3.0974,    157.6,2,    73.47,2,    34.67,2,     0.00,2,     2.42,2,    0.067,2,    0.025,2,    0.161,4,   1.8360,2,     9.17,2,   -999.0,9,  -999.00,9,   7.927,2,   -999.0,9,   -999.0,9,  -999.0,    0.10,  0.0020,   0.035,   0.009
     316N145_5,  I08S,    18,  1,     10, SIH013,2,19941210,0903,-37.5000,  95.0000, 4215,18105.2,   1815.9,   2.7080,  34.6319,2,  34.6339,2,    168.8,2,  2.5769,    162.8,2,    82.08,2,    33.83,2,     0.00,2,     2.37,2,    0.025,2,    0.009,2,    0.137,4,   1.8520,2,    10.07,2,   -999.0,9,  -999.00,9,   7.981,2,   -999.0,9,   -999.0,9,  -999.0,    0.14,  0.0020,   0.047,   0.006
     316N145_5,  I08S,    18,  1,      9, SIH012,2,19941210,0903,-37.5000,  95.0000, 4215,21154.4,   2122.6,   2.4277,  34.6967,2,  34.6975,2,    181.0,2,  2.2738,    173.8,2,    85.26,2,    32.25,2,     0.00,2,     2.25,2,    0.025,2,    0.006,2,    0.156,4,   1.8780,2,    10.81,2,   -999.0,9,  -999.00,9,   8.057,2,   -999.0,9,   -999.0,9,  -999.0,    0.16,  0.0030,   0.004,   0.007
     316N145_5,  I08S,    18,  1,      8, SIH010,2,19941210,0903,-37.5000,  95.0000, 4215,24200.1,   2429.0,   2.1770,  34.7342,2,  34.7366,2,    192.1,2,  1.9996,    185.4,2,    87.81,2,    31.21,2,     0.00,2,     2.16,2,    0.017,2,    0.011,2,    0.139,4,   1.9070,2,    10.80,2,   -999.0,9,  -999.00,9,   8.180,2,   -999.0,9,   -999.0,9,  -999.0,    0.15,  0.0030,   0.035,   0.008
     316N145_5,  I08S,    18,  1,      7, SIH009,3,19941210,0903,-37.5000,  95.0000, 4215,27236.4,   2734.4,   1.8945,  34.7472,2,  34.7986,4,    201.3,2,  1.6942,    196.5,3,    71.82,4,    25.79,4,     0.02,4,     1.80,4, -999.000,9, -999.000,9,    0.261,4,   1.8620,3,     9.81,3,   -999.0,9,  -999.00,9,   7.973,3,   -999.0,9,   -999.0,9,  -999.0,    0.16,  0.0030,   0.045,   0.008
     316N145_5,  I08S,    18,  1,      6, SIH038,2,19941210,0903,-37.5000,  95.0000, 4215,30280.1,   3040.5,   1.5342,  34.7390,2,  34.7400,2,    205.6,2,  1.3125,    200.0,2,   102.63,2,    30.99,2,     0.00,2,     2.14,2,    0.011,2,    0.004,2,    0.126,4,   1.9290,2,    10.48,2,   -999.0,9,  -999.00,9,   8.272,2,   -999.0,9,   -999.0,9,  -999.0,    0.15,  0.0030,   0.041,   0.006
     316N145_5,  I08S,    18,  1,      5, SIH006,2,19941210,0903,-37.5000,  95.0000, 4215,33308.6,   3345.2,   1.2602,  34.7265,2,  34.7282,2,    209.5,2,  1.0152,    203.6,2,   111.09,2,    31.41,2,     0.00,2,     2.17,2,    0.019,2,    0.011,2,   -0.045,4,   1.9140,2,    10.67,2,   -999.0,9,  -999.00,9,   8.228,2,   -999.0,9,   -999.0,9,  -999.0,    0.16,  0.0030,   0.047,   0.009
     316N145_5,  I08S,    18,  1,      4, SIH004,2,19941210,0903,-37.5000,  95.0000, 4215,36877.8,   3704.2,   1.0270,  34.7153,2,  34.7158,2,    211.5,2,  0.7521,    205.4,2,   118.42,2,    31.88,2,     0.00,2,     2.21,2,    0.023,2,    0.005,3,    0.112,4,   1.9910,3,    10.39,2,   -999.0,9,  -999.00,9,   8.513,3,   -999.0,9,   -999.0,9,  -999.0,    0.15,  0.0030,   0.038,   0.007
     316N145_5,  I08S,    18,  1,      3, SIH025,2,19941210,0903,-37.5000,  95.0000, 4215,40327.7,   4051.2,   0.9645,  34.7103,2,  34.7109,2,    212.8,2,  0.6551,    206.6,2,   121.29,2,    32.09,2,     0.00,2,     2.22,2,    0.017,2,    0.014,2,    0.056,4,   1.9340,2,    10.48,2,   -999.0,9,  -999.00,9,   8.331,2,   -999.0,9,   -999.0,9,  -999.0,    0.16,  0.0030,   0.033,   0.009
     316N145_5,  I08S,    18,  1,      2, SIH001,2,19941210,0903,-37.5000,  95.0000, 4215,41929.5,   4212.3,   0.9682,  34.7103,2,  34.7111,2,    211.6,2,  0.6414,    206.7,2,   121.60,2,    32.14,2,     0.00,2,     2.22,2,    0.023,2,    0.010,2,    0.188,4,   1.9490,2,    10.12,2,   -999.0,9,  -999.00,9,   8.418,2,   -999.0,9,   -999.0,9,  -999.0,    0.15,  0.0030,   0.028,   0.007
     316N145_5,  I08S,    18,  1,      1, SIH036,2,19941210,0903,-37.5000,  95.0000, 4215,42565.3,   4276.3,   0.9737,  34.7099,2,  34.7121,2,    210.6,2,  0.6398,    207.2,2,   121.52,2,    32.14,2,     0.00,2,     2.22,2,    0.022,2,    0.005,3,    0.160,2,   1.9170,2,    10.28,2,   -999.0,9,  -999.00,9,   8.256,2,   -999.0,9,   -999.0,9,  -999.0,    0.16,  0.0030,   0.030,   0.007