BOTTLE,20090521WHPSIOdm
EXPOCODE,SECT_ID,STNNBR,CASTNO,SAMPNO,BTLNBR,BTLNBR_FLAG_W,DATE,TIME,LATITUDE,LONGITUDE,DEPTH,CTDRAW,CTDPRS,CTDTMP,CTDSAL,CTDSAL_FLAG_W,SALNTY,SALNTY_FLAG_W,CTDOXY,CTDOXY_FLAG_W,THETA,OXYGEN,OXYGEN_FLAG_W,SILCAT,SILCAT_FLAG_W,NITRAT,NITRAT_FLAG_W,NITRIT,NITRIT_FLAG_W,PHSPHT,PHSPHT_FLAG_W,CFC-11,CFC-11_FLAG_W,CFC-12,CFC-12_FLAG_W,TRITUM,TRITUM_FLAG_W,HELIUM,HELIUM_FLAG_W,DELHE3,DELHE3_FLAG_W,DELC14,DELC14_FLAG_W,DELC13,DELC13_FLAG_W,NEON,NEON_FLAG_W,TCARBN,TCARBN_FLAG_W,ALKALI,ALKALI_FLAG_W,C14ERR,DELHER,HELIER,NEONER,TRITER
,,,,,,,,,,,,,DBAR,IPTS-68,PSS-78,,PSS-78,,UMOL/KG,,IPTS-68,UMOL/KG,,UMOL/KG,,UMOL/KG,,UMOL/KG,,UMOL/KG,,PMOL/KG,,PMOL/KG,,TU,,NMOL/KG,,PERCNT,,/MILLE,,/MILLE,,NMOL/KG,,UMOL/KG,,UMOL/KG,,/MILLE,PERCNT,NMOL/KG,NMOL/KG,TU
     316N145_5,  I09S,   118,  1,     36, SI9446,2,19950111,0346,-48.0000, 115.0055, 3615,  162.3,     11.0,   9.5515,  34.5845,2,  34.5873,2,    273.4,2,  9.5503,    281.2,2,     1.14,2,    11.71,2,     0.22,2,     0.90,2,    3.962,2,    2.013,2,    0.801,2,   1.7510,2,    -1.74,2,   -999.0,9,  -999.00,9,   7.450,2,   2086.2,6,   2304.2,2,  -999.0,   20.14,  0.0030,   0.026,   0.015
     316N145_5,  I09S,   118,  1,     35, SIH032,2,19950111,0346,-48.0000, 115.0055, 3615,  357.9,     30.7,   9.5507,  34.5853,2,  34.5912,2,    268.9,2,  9.5473,    281.0,2,     1.14,2,    11.70,2,     0.22,2,     0.90,2, -999.000,9, -999.000,9, -999.000,5,-999.0000,5,  -999.00,9,   -999.0,9,  -999.00,9,-999.000,9,   2085.0,2,   2289.8,2,  -999.0, -999.00,-999.0000,-999.000,-999.000
     316N145_5,  I09S,   118,  1,     34, SIH029,2,19950111,0346,-48.0000, 115.0055, 3615,  612.9,     56.3,   9.5277,  34.5854,2,  34.5879,2,    274.5,2,  9.5215,    281.1,2,     1.14,2,    11.69,2,     0.22,2,     0.90,2,    3.937,2,    2.003,2,    0.498,2,   1.7620,2,    -1.36,2,   -999.0,9,  -999.00,9,   7.469,2,   2085.3,2,   2303.2,2,  -999.0,   10.14,  0.0030,   0.026,   0.009
     316N145_5,  I09S,   118,  1,     33, SIH026,2,19950111,0346,-48.0000, 115.0055, 3615,  851.0,     80.2,   9.5252,  34.5911,2,  34.5975,2,    273.6,2,  9.5163,    280.7,2,     1.31,2,    11.72,2,     0.22,2,     0.90,2, -999.000,9, -999.000,9, -999.000,5,-999.0000,5,  -999.00,9,   -999.0,9,  -999.00,9,-999.000,9,   2086.5,2,   2294.4,6,  -999.0, -999.00,-999.0000,-999.000,-999.000
     316N145_5,  I09S,   118,  1,     32, SIH023,2,19950111,0346,-48.0000, 115.0055, 3615, 1109.8,    106.3,   9.4682,  34.6174,2,  34.6211,2,    274.8,2,  9.4564,    279.7,2,     2.10,2,    11.86,2,     0.22,2,     0.93,2,    3.933,2,    2.006,2, -999.000,5,-999.0000,5,  -999.00,9,   -999.0,9,  -999.00,9,-999.000,9,   2090.2,2,   2290.5,2,  -999.0, -999.00,-999.0000,-999.000,-999.000
     316N145_5,  I09S,   118,  1,     31, SIH020,2,19950111,0346,-48.0000, 115.0055, 3615, 1592.1,    154.8,   9.1223,  34.6109,2,  34.6124,2,    265.4,2,  9.1054,    271.1,2,     4.32,2,    14.06,2,     0.14,2,     1.04,2,    3.901,2,    1.994,2,    0.641,2,   1.7840,2,    -1.23,2,   -999.0,9,  -999.00,9,   7.562,2,   2099.8,2,   2291.5,2,  -999.0,    0.17,  0.0030,   0.017,   0.010
     316N145_5,  I09S,   118,  1,     30, SIH017,2,19950111,0346,-48.0000, 115.0055, 3615, 2081.7,    204.0,   9.4057,  34.7027,2,  34.7077,2,    262.2,2,  9.3830,    265.7,2,     4.49,2,    13.59,2,     0.02,2,     1.03,2, -999.000,9, -999.000,9, -999.000,5,-999.0000,5,  -999.00,9,   -999.0,9,  -999.00,9,-999.000,9,   2102.7,2,   2322.6,3,  -999.0, -999.00,-999.0000,-999.000,-999.000
     316N145_5,  I09S,   118,  1,     29, SIH014,2,19950111,0346,-48.0000, 115.0055, 3615, 2573.0,    253.4,   9.2423,  34.6784,2,  34.6812,2,    263.9,2,  9.2144,    265.8,2,     4.64,2,    14.06,2,     0.02,2,     1.06,2,    3.698,2,    1.875,2,    0.537,2,   1.8080,2,    -1.33,2,   -999.0,9,  -999.00,9,   7.699,2,   2103.7,2,   2293.4,2,  -999.0,    0.14,  0.0030,   0.027,   0.011
     316N145_5,  I09S,   118,  1,     28, SIH011,2,19950111,0346,-48.0000, 115.0055, 3615, 3099.8,    306.4,   9.0330,  34.6465,2,  34.6517,2,    263.8,2,  8.9996,    264.1,2,     4.81,2,    14.79,2,     0.01,2,     1.09,2,    3.672,2,    1.883,2, -999.000,5,-999.0000,5,  -999.00,9,   -999.0,9,  -999.00,9,-999.000,9,   2106.8,2,   2293.2,2,  -999.0, -999.00,-999.0000,-999.000,-999.000
     316N145_5,  I09S,   118,  1,     27, SIH008,2,19950111,0346,-48.0000, 115.0055, 3615, 3579.8,    354.6,   8.6728,  34.5889,2,  34.5936,2,    268.5,2,  8.6350,    265.9,2,     4.97,2,    15.74,2,     0.01,2,     1.15,2, -999.000,9, -999.000,9, -999.000,5,-999.0000,5,  -999.00,9,   -999.0,9,  -999.00,9,-999.000,9,   2108.4,2,   2302.5,2,  -999.0, -999.00,-999.0000,-999.000,-999.000
     316N145_5,  I09S,   118,  1,     26, SIH005,2,19950111,0346,-48.0000, 115.0055, 3615, 4097.6,    406.7,   8.1247,  34.5010,2,  34.5080,2,    255.6,2,  8.0829,    256.9,2,     6.24,2,    17.94,2,     0.01,2,     1.29,2,    3.451,2,    1.709,2,    0.586,2,   1.7980,2,    -0.79,2,   -999.0,9,  -999.00,9,   7.666,2,   2117.2,2,   2290.5,2,  -999.0,   10.14,  0.0030,   0.027,   0.012
     316N145_5,  I09S,   118,  1,     25, SIH019,2,19950111,0346,-48.0000, 115.0055, 3615, 4594.8,    456.7,   7.7295,  34.4535,2,  34.4567,2,    256.2,2,  7.6838,    253.7,2,     7.51,2,    19.28,2,     0.01,2,     1.37,2,    3.352,2,    1.676,2, -999.000,5,-999.0000,5,  -999.00,9,   -999.0,9,  -999.00,9,-999.000,9,   2122.4,2,   2288.6,2,  -999.0, -999.00,-999.0000,-999.000,-999.000
     316N145_5,  I09S,   118,  1,     24, SIH037,2,19950111,0346,-48.0000, 115.0055, 3615, 5093.2,    506.8,   7.3857,  34.4242,2,  34.4294,2,    251.8,2,  7.3361,    249.7,2,     8.78,2,    20.36,2,     0.01,2,     1.43,2,    3.216,2,    1.582,2, -999.000,5,-999.0000,5,  -999.00,9,   -999.0,9,  -999.00,9,-999.000,9,   2127.4,2,   -999.0,9,  -999.0, -999.00,-999.0000,-999.000,-999.000
     316N145_5,  I09S,   118,  1,     23, SIH033,2,19950111,0346,-48.0000, 115.0055, 3615, 6105.3,    608.6,   6.5883,  34.3928,2,  34.3951,2,    229.1,2,  6.5321,    228.4,2,    13.85,2,    23.82,2,     0.00,2,     1.64,2,    2.512,2,    1.234,2,    0.307,2,   1.8450,2,     0.70,2,   -999.0,9,  -999.00,9,   7.877,2,   2147.8,2,   2288.0,2,  -999.0,    0.14,  0.0030,   0.027,   0.009
     316N145_5,  I09S,   118,  1,     22, SIH031,2,19950111,0346,-48.0000, 115.0055, 3615, 7109.0,    709.6,   5.8548,  34.3774,2,  34.3804,2,    216.1,2,  5.7927,    215.1,2,    19.55,2,    26.59,2,     0.00,2,     1.83,2, -999.000,9, -999.000,9, -999.000,5,-999.0000,5,  -999.00,9,   -999.0,9,  -999.00,9,-999.000,9,   2164.5,2,   2295.6,2,  -999.0, -999.00,-999.0000,-999.000,-999.000
     316N145_5,  I09S,   118,  1,     21, SIH030,2,19950111,0346,-48.0000, 115.0055, 3615, 8100.2,    809.3,   4.8590,  34.3201,2,  34.3235,2,    222.0,2,  4.7938,    220.0,2,    24.31,2,    28.39,2,     0.00,2,     1.95,2,    1.966,2,    0.949,2,    0.163,2,   1.8130,2,     1.65,2,   -999.0,9,  -999.00,9,   7.897,2,   2173.6,2,   2310.8,2,  -999.0,    0.14,  0.0030,   0.027,   0.007
     316N145_5,  I09S,   118,  1,     20, SIH028,2,19950111,0346,-48.0000, 115.0055, 3615, 9111.8,    911.0,   4.1523,  34.3169,2,  34.3170,2,    215.9,2,  4.0832,    215.6,2,    31.13,2,    30.01,2,     0.00,2,     2.06,2,    1.650,2,    0.771,2, -999.000,5,-999.0000,5,  -999.00,9,   -999.0,9,  -999.00,9,-999.000,9,   2187.4,2,   2303.7,2,  -999.0, -999.00,-999.0000,-999.000,-999.000
     316N145_5,  I09S,   118,  1,     19, SIH027,2,19950111,0346,-48.0000, 115.0055, 3615,10111.3,   1011.5,   3.7682,  34.3329,2,  34.3382,2,    209.2,2,  3.6937,    208.6,2,    37.31,2,    31.14,2,     0.00,2,     2.14,2,    1.325,2,    0.633,2, -999.000,5,-999.0000,5,  -999.00,9,   -999.0,9,  -999.00,9,-999.000,9,   2197.4,2,   2315.0,2,  -999.0, -999.00,-999.0000,-999.000,-999.000
     316N145_5,  I09S,   118,  1,     18, SIH003,2,19950111,0346,-48.0000, 115.0055, 3615,11090.9,   1110.1,   3.2511,  34.3433,2,  34.3482,2,    204.4,2,  3.1729,    204.9,2,    44.12,2,    32.27,2,     0.00,2,     2.21,2,    1.313,2,    0.619,2,    0.252,2,   1.8290,2,     4.19,2,   -999.0,9,  -999.00,9,   7.928,2,   2208.3,6,   2315.4,2,  -999.0,    0.14,  0.0030,   0.028,   0.007
     316N145_5,  I09S,   118,  1,     17, SIH024,2,19950111,0346,-48.0000, 115.0055, 3615,12090.6,   1210.6,   3.0705,  34.3969,2,  34.4017,2,    189.4,2,  2.9859,    193.0,2,    51.57,2,    33.06,2,     0.00,2,     2.26,2, -999.000,9, -999.000,9, -999.000,5,-999.0000,5,  -999.00,9,   -999.0,9,  -999.00,9,-999.000,9,   2222.1,2,   2316.4,6,  -999.0, -999.00,-999.0000,-999.000,-999.000
     316N145_5,  I09S,   118,  1,     16, SIH022,2,19950111,0346,-48.0000, 115.0055, 3615,13142.8,   1316.5,   2.8865,  34.4537,2,  34.4573,2,    179.5,2,  2.7951,    183.3,2,    58.86,2,    33.57,2,     0.00,2,     2.30,2, -999.000,9, -999.000,9, -999.000,5,-999.0000,5,  -999.00,9,   -999.0,9,  -999.00,9,-999.000,9,   2232.6,2,   2331.5,2,  -999.0, -999.00,-999.0000,-999.000,-999.000
     316N145_5,  I09S,   118,  1,     15, SIH021,2,19950111,0346,-48.0000, 115.0055, 3615,14133.1,   1416.1,   2.7737,  34.5047,2,  34.5080,2,    173.0,2,  2.6754,    177.5,2,    64.40,2,    33.69,2,     0.00,2,     2.30,2,    0.397,2,    0.184,2,    0.000,5,   1.8340,2,     7.37,2,   -999.0,9,  -999.00,9,   8.021,2,   2239.9,2,   2334.4,2,  -999.0,    0.14,  0.0030,   0.028,   0.000
     316N145_5,  I09S,   118,  1,     14, SIH002,2,19950111,0346,-48.0000, 115.0055, 3615,15148.5,   1518.2,   2.5753,  34.5315,2,  34.5333,2,    174.5,2,  2.4709,    178.2,2,    67.58,2,    33.57,2,     0.00,2,     2.30,2, -999.000,9, -999.000,9, -999.000,5,-999.0000,5,  -999.00,9,   -999.0,9,  -999.00,9,-999.000,9,   2241.9,2,   2331.2,2,  -999.0, -999.00,-999.0000,-999.000,-999.000
     316N145_5,  I09S,   118,  1,     13, SIH018,2,19950111,0346,-48.0000, 115.0055, 3615,16171.6,   1621.1,   2.6074,  34.5897,2,  34.5934,2,    170.4,2,  2.4941,    175.3,2,    70.43,2,    33.03,2,     0.00,2,     2.25,2,    0.222,2,    0.106,2, -999.000,5,-999.0000,5,  -999.00,9,   -999.0,9,  -999.00,9,-999.000,9,   2245.4,2,   2342.8,2,  -999.0, -999.00,-999.0000,-999.000,-999.000
     316N145_5,  I09S,   118,  1,     12, SIH016,2,19950111,0346,-48.0000, 115.0055, 3615,17155.1,   1720.0,   2.5169,  34.6252,2,  34.6299,2,    171.4,2,  2.3965,    176.7,2,    72.64,2,    32.53,2,     0.00,2,     2.23,2,    0.196,2,    0.092,2,    8.468,4,   1.9100,3,     8.18,2,   -999.0,9,  -999.00,9,   8.216,3,   2246.0,2,   2347.7,2,  -999.0,    0.14,  0.0060,   0.023,   0.004
     316N145_5,  I09S,   118,  1,     11, SIH015,2,19950111,0346,-48.0000, 115.0055, 3615,18151.5,   1820.3,   2.4541,  34.6559,2,  34.6596,2,    174.2,2,  2.3261,    179.5,2,    74.39,2,    32.08,2,     0.00,2,     2.19,2, -999.000,9, -999.000,9, -999.000,5,-999.0000,5,  -999.00,9,   -999.0,9,  -999.00,9,-999.000,9,   2245.7,2,   2346.3,2,  -999.0, -999.00,-999.0000,-999.000,-999.000
     316N145_5,  I09S,   118,  1,     10, SIH013,2,19950111,0346,-48.0000, 115.0055, 3615,20275.4,   2033.9,   2.3510,  34.7072,2,  34.7097,2,    180.1,2,  2.2060,    185.3,2,    76.45,2,    30.92,2,     0.00,2,     2.11,2,    0.096,2,    0.044,2,    0.090,2,   1.8470,2,     8.95,2,   -999.0,9,  -999.00,9,   8.014,2,   2242.4,2,   2349.7,2,  -999.0,    0.14,  0.0030,   0.028,   0.005
     316N145_5,  I09S,   118,  1,      9, SIH012,2,19950111,0346,-48.0000, 115.0055, 3615,22186.2,   2226.1,   2.2198,  34.7352,2,  34.7380,2,    185.6,2,  2.0600,    190.7,2,    79.93,2,    30.23,2,     0.00,2,     2.06,2,    0.051,2,    0.031,2, -999.000,5,-999.0000,5,  -999.00,9,   -999.0,9,  -999.00,9,-999.000,9,   2242.8,2,   2351.0,2,  -999.0, -999.00,-999.0000,-999.000,-999.000
     316N145_5,  I09S,   118,  1,      8, SIH010,2,19950111,0346,-48.0000, 115.0055, 3615,24245.5,   2433.2,   2.0547,  34.7481,2,  34.7522,2,    190.2,2,  1.8791,    195.0,2,    84.53,2,    29.98,2,     0.00,2,     2.05,2,    0.037,2,    0.022,2,    0.096,2,   1.9060,2,     9.31,2,   -999.0,9,  -999.00,9,   8.180,2,   2243.0,2,   2350.9,2,  -999.0,    0.14,  0.0060,   0.050,   0.005
     316N145_5,  I09S,   118,  1,      7, SIH009,2,19950111,0346,-48.0000, 115.0055, 3615,26279.4,   2637.8,   1.8909,  34.7498,2,  34.7532,2,    192.6,2,  1.6996,    197.0,2,    89.76,2,    29.96,2,     0.00,2,     2.05,2, -999.000,9, -999.000,9, -999.000,5,-999.0000,5,  -999.00,9,   -999.0,9,  -999.00,9,-999.000,9,   2245.0,2,   2374.0,2,  -999.0, -999.00,-999.0000,-999.000,-999.000
     316N145_5,  I09S,   118,  1,      6, SIH038,2,19950111,0346,-48.0000, 115.0055, 3615,28295.4,   2840.6,   1.6428,  34.7433,2,  34.7453,2,    196.6,2,  1.4376,    199.8,2,    97.37,2,    30.42,2,     0.00,2,     2.07,2,    0.029,2,    0.014,2,    0.007,4,   1.8870,2,    10.25,2,   -999.0,9,  -999.00,9,   8.185,2,   2249.2,2,   2361.5,2,  -999.0,   60.13,  0.0040,   0.028,   0.021
     316N145_5,  I09S,   118,  1,      5, SIH006,2,19950111,0346,-48.0000, 115.0055, 3615,30376.8,   3050.0,   1.4075,  34.7336,2,  34.7355,2,    197.4,2,  1.1876,    202.5,2,   105.13,2,    30.82,2,     0.00,2,     2.10,2, -999.000,9, -999.000,9, -999.000,5,-999.0000,5,  -999.00,9,   -999.0,9,  -999.00,9,-999.000,9,   2252.1,2,   2361.7,2,  -999.0, -999.00,-999.0000,-999.000,-999.000
     316N145_5,  I09S,   118,  1,      4, SIH004,2,19950111,0346,-48.0000, 115.0055, 3615,32394.8,   3253.0,   1.1997,  34.7241,2,  34.7272,2,    199.4,2,  0.9652,    204.6,2,   112.11,2,    31.18,2,     0.00,2,     2.12,2,    0.056,2,    0.030,2,    0.037,4,   1.8690,2,    10.29,2,   -999.0,9,  -999.00,9,   8.051,2,   2255.0,2,   2372.4,2,  -999.0,    0.14,  0.0030,   0.023,   0.063
     316N145_5,  I09S,   118,  1,      3, SIH025,2,19950111,0346,-48.0000, 115.0055, 3615,34424.0,   3457.1,   1.0749,  34.7169,2,  34.7182,2,    202.5,2,  0.8235,    205.7,2,   114.79,2,    31.35,2,     0.00,2,     2.14,2, -999.000,9, -999.000,9,    0.208,4,-999.0000,5,  -999.00,9,   -999.0,9,  -999.00,9,-999.000,9,   2255.1,2,   2365.4,2,  -999.0, -999.00,-999.0000,-999.000,   0.006
     316N145_5,  I09S,   118,  1,      2, SIH001,2,19950111,0346,-48.0000, 115.0055, 3615,35806.8,   3596.2,   1.0369,  34.7153,2,  34.7178,2,    201.7,2,  0.7726,    207.7,2,   117.34,2,    31.38,2,     0.00,2,     2.15,2,    0.086,2,    0.047,2, -999.000,5,-999.0000,5,  -999.00,9,   -999.0,9,  -999.00,9,-999.000,9,   2253.0,2,   2349.9,3,  -999.0, -999.00,-999.0000,-999.000,-999.000
     316N145_5,  I09S,   118,  1,      1, SIH036,2,19950111,0346,-48.0000, 115.0055, 3615,36286.6,   3644.5,   1.0295,  34.7152,2,  34.7172,2,    204.9,2,  0.7605,    208.5,2,   117.72,2,    31.39,2,     0.00,2,     2.14,2,    0.091,2,    0.044,2,    0.188,4,   1.9520,3,    10.11,2,   -999.0,9,  -999.00,9,   8.375,3,   2256.1,6,   2364.9,2,  -999.0,    0.14,  0.0060,   0.038,   0.005