BOTTLE,20090521WHPSIOdm
EXPOCODE,SECT_ID,STNNBR,CASTNO,SAMPNO,BTLNBR,BTLNBR_FLAG_W,DATE,TIME,LATITUDE,LONGITUDE,DEPTH,CTDRAW,CTDPRS,CTDTMP,CTDSAL,CTDSAL_FLAG_W,SALNTY,SALNTY_FLAG_W,CTDOXY,CTDOXY_FLAG_W,THETA,OXYGEN,OXYGEN_FLAG_W,SILCAT,SILCAT_FLAG_W,NITRAT,NITRAT_FLAG_W,NITRIT,NITRIT_FLAG_W,PHSPHT,PHSPHT_FLAG_W,CFC-11,CFC-11_FLAG_W,CFC-12,CFC-12_FLAG_W,TRITUM,TRITUM_FLAG_W,HELIUM,HELIUM_FLAG_W,DELHE3,DELHE3_FLAG_W,DELC14,DELC14_FLAG_W,DELC13,DELC13_FLAG_W,NEON,NEON_FLAG_W,TCARBN,TCARBN_FLAG_W,ALKALI,ALKALI_FLAG_W,C14ERR,DELHER,HELIER,NEONER,TRITER
,,,,,,,,,,,,,DBAR,IPTS-68,PSS-78,,PSS-78,,UMOL/KG,,IPTS-68,UMOL/KG,,UMOL/KG,,UMOL/KG,,UMOL/KG,,UMOL/KG,,PMOL/KG,,PMOL/KG,,TU,,NMOL/KG,,PERCNT,,/MILLE,,/MILLE,,NMOL/KG,,UMOL/KG,,UMOL/KG,,/MILLE,PERCNT,NMOL/KG,NMOL/KG,TU
     316N145_5,  I09S,   141,  1,     36, SI9446,2,19950117,0930,-35.9972, 114.9972, 5225,  199.5,     15.0,  20.0726,  35.8978,2,  35.8973,2,    250.5,2, 20.0698,    229.3,2,     1.41,2,     0.10,2,     0.00,2,     0.06,2,    2.419,2,    1.307,2, -999.000,5,-999.0000,5,  -999.00,9,   -999.0,9,  -999.00,9,-999.000,9,   -999.0,9,   -999.0,9,  -999.0, -999.00,-999.0000,-999.000,-999.000
     316N145_5,  I09S,   141,  1,     35, SIH032,2,19950117,0930,-35.9972, 114.9972, 5225,  383.4,     33.4,  19.8739,  35.9419,2,  35.9415,2,    259.0,2, 19.8677,    230.4,2,     1.41,2,     0.10,2,     0.00,2,     0.06,2,    2.367,2,    1.290,2, -999.000,5,-999.0000,5,  -999.00,9,   -999.0,9,  -999.00,9,-999.000,9,   -999.0,9,   -999.0,9,  -999.0, -999.00,-999.0000,-999.000,-999.000
     316N145_5,  I09S,   141,  1,     34, SIH029,2,19950117,0930,-35.9972, 114.9972, 5225,  649.1,     60.1,  16.8941,  35.5323,2,  35.5277,2,    269.6,2, 16.8842,    250.9,2,     0.63,2,     0.10,2,     0.00,2,     0.14,2,    2.767,2,    1.479,2, -999.000,5,-999.0000,5,  -999.00,9,   -999.0,9,  -999.00,9,-999.000,9,   -999.0,9,   -999.0,9,  -999.0, -999.00,-999.0000,-999.000,-999.000
     316N145_5,  I09S,   141,  1,     33, SIH026,2,19950117,0930,-35.9972, 114.9972, 5225,  879.7,     83.3,  15.1074,  35.4903,2,  35.4853,2,    271.0,2, 15.0947,    248.3,2,     1.10,2,     0.25,2,     0.12,2,     0.20,2,    2.958,2,    1.548,2, -999.000,5,-999.0000,5,  -999.00,9,   -999.0,9,  -999.00,9,-999.000,9,   -999.0,9,   -999.0,9,  -999.0, -999.00,-999.0000,-999.000,-999.000
     316N145_5,  I09S,   141,  1,     32, SIH023,2,19950117,0930,-35.9972, 114.9972, 5225, 1137.9,    109.3,  13.9575,  35.3312,2,  35.3301,2,    260.7,2, 13.9417,    245.5,2,     1.27,2,     2.44,2,     0.16,2,     0.35,2,    3.134,6,    1.646,6, -999.000,5,-999.0000,5,  -999.00,9,   -999.0,9,  -999.00,9,-999.000,9,   -999.0,9,   -999.0,9,  -999.0, -999.00,-999.0000,-999.000,-999.000
     316N145_5,  I09S,   141,  1,     31, SIH020,2,19950117,0930,-35.9972, 114.9972, 5225, 1647.0,    160.4,  12.6301,  35.1356,2,  35.1380,2,    252.4,2, 12.6084,    240.7,2,     1.44,2,     5.72,2,     0.01,2,     0.55,2,    3.251,2,    1.708,2, -999.000,5,-999.0000,5,  -999.00,9,   -999.0,9,  -999.00,9,-999.000,9,   -999.0,9,   -999.0,9,  -999.0, -999.00,-999.0000,-999.000,-999.000
     316N145_5,  I09S,   141,  1,     30, SIH017,2,19950117,0930,-35.9972, 114.9972, 5225, 2121.3,    208.1,  11.9978,  35.0968,2,  35.1018,2,    243.3,2, 11.9706,    230.9,2,     1.59,2,     8.08,2,     0.01,2,     0.67,2,    3.255,6,    1.677,6, -999.000,5,-999.0000,5,  -999.00,9,   -999.0,9,  -999.00,9,-999.000,9,   -999.0,9,   -999.0,9,  -999.0, -999.00,-999.0000,-999.000,-999.000
     316N145_5,  I09S,   141,  1,     29, SIH014,2,19950117,0930,-35.9972, 114.9972, 5225, 2635.1,    259.8,  11.0697,  34.9529,2,  34.9538,2,    244.9,2, 11.0374,    234.1,2,     2.07,2,    10.45,2,     0.00,2,     0.82,2,    3.352,2,    1.687,2, -999.000,5,-999.0000,5,  -999.00,9,   -999.0,9,  -999.00,9,-999.000,9,   -999.0,9,   -999.0,9,  -999.0, -999.00,-999.0000,-999.000,-999.000
     316N145_5,  I09S,   141,  1,     28, SIH011,2,19950117,0930,-35.9972, 114.9972, 5225, 3145.4,    311.1,  10.0298,  34.7697,2,  34.7720,2,    249.1,2,  9.9935,    244.9,2,     2.87,2,    12.72,2,     0.00,2,     0.96,2, -999.000,9, -999.000,9, -999.000,5,-999.0000,5,  -999.00,9,   -999.0,9,  -999.00,9,-999.000,9,   -999.0,9,   -999.0,9,  -999.0, -999.00,-999.0000,-999.000,-999.000
     316N145_5,  I09S,   141,  1,     27, SIH008,2,19950117,0930,-35.9972, 114.9972, 5225, 3645.1,    361.4,   9.5777,  34.7041,2,  34.7074,2,    258.4,2,  9.5367,    252.0,2,     3.51,2,    13.81,2,     0.00,2,     1.03,2,    3.566,2,    1.819,2, -999.000,5,-999.0000,5,  -999.00,9,   -999.0,9,  -999.00,9,-999.000,9,   -999.0,9,   -999.0,9,  -999.0, -999.00,-999.0000,-999.000,-999.000
     316N145_5,  I09S,   141,  1,     26, SIH005,2,19950117,0930,-35.9972, 114.9972, 5225, 4131.0,    410.2,   9.3511,  34.6700,2,  34.6708,2,    263.2,2,  9.3051,    256.8,2,     3.83,2,    14.26,2,     0.00,2,     1.06,2,    3.628,2,    1.834,2, -999.000,5,-999.0000,5,  -999.00,9,   -999.0,9,  -999.00,9,-999.000,9,   -999.0,9,   -999.0,9,  -999.0, -999.00,-999.0000,-999.000,-999.000
     316N145_5,  I09S,   141,  1,     25, SIH019,2,19950117,0930,-35.9972, 114.9972, 5225, 4637.2,    461.1,   9.2919,  34.6684,2,  34.6683,2,    257.4,2,  9.2403,    249.9,2,     4.15,2,    15.12,2,     0.00,2,     1.10,2,    3.489,2,    1.763,2, -999.000,5,-999.0000,5,  -999.00,9,   -999.0,9,  -999.00,9,-999.000,9,   -999.0,9,   -999.0,9,  -999.0, -999.00,-999.0000,-999.000,-999.000
     316N145_5,  I09S,   141,  1,     24, SIH037,2,19950117,0930,-35.9972, 114.9972, 5225, 5127.7,    510.4,   9.1530,  34.6476,2,  34.6502,2,    256.3,2,  9.0962,    249.1,2,     4.48,2,    15.58,2,     0.00,2,     1.13,2,    3.452,2,    1.741,2, -999.000,5,-999.0000,5,  -999.00,9,   -999.0,9,  -999.00,9,-999.000,9,   -999.0,9,   -999.0,9,  -999.0, -999.00,-999.0000,-999.000,-999.000
     316N145_5,  I09S,   141,  1,     23, SIH033,2,19950117,0930,-35.9972, 114.9972, 5225, 6133.6,    611.6,   8.8438,  34.6163,2,  34.6156,2,    239.6,2,  8.7768,    235.8,2,     5.89,2,    18.02,2,     0.00,2,     1.27,2,    2.955,2,    1.496,2, -999.000,5,-999.0000,5,  -999.00,9,   -999.0,9,  -999.00,9,-999.000,9,   -999.0,9,   -999.0,9,  -999.0, -999.00,-999.0000,-999.000,-999.000
     316N145_5,  I09S,   141,  1,     22, SIH031,2,19950117,0930,-35.9972, 114.9972, 5225, 7140.7,    712.9,   8.0392,  34.5311,2,  34.5333,2,    223.5,2,  7.9649,    219.1,2,     9.53,2,    21.53,2,     0.00,2,     1.49,2, -999.000,9, -999.000,9, -999.000,5,-999.0000,5,  -999.00,9,   -999.0,9,  -999.00,9,-999.000,9,   -999.0,9,   -999.0,9,  -999.0, -999.00,-999.0000,-999.000,-999.000
     316N145_5,  I09S,   141,  1,     21, SIH030,2,19950117,0930,-35.9972, 114.9972, 5225, 8137.8,    813.1,   6.8264,  34.4608,2,  34.4604,2,    202.0,2,  6.7486,    197.1,2,    17.60,2,    25.96,2,     0.00,2,     1.78,2,    1.147,2,    0.579,2, -999.000,5,-999.0000,5,  -999.00,9,   -999.0,9,  -999.00,9,-999.000,9,   -999.0,9,   -999.0,9,  -999.0, -999.00,-999.0000,-999.000,-999.000
     316N145_5,  I09S,   141,  1,     20, SIH028,2,19950117,0930,-35.9972, 114.9972, 5225, 9145.0,    914.4,   5.5982,  34.4046,2,  34.4104,3,    197.2,2,  5.5186,    193.5,2,    26.44,2,    28.78,2,     0.00,2,     1.97,2,    0.762,2,    0.380,2, -999.000,5,-999.0000,5,  -999.00,9,   -999.0,9,  -999.00,9,-999.000,9,   -999.0,9,   -999.0,9,  -999.0, -999.00,-999.0000,-999.000,-999.000
     316N145_5,  I09S,   141,  1,     19, SIH027,2,19950117,0930,-35.9972, 114.9972, 5225,10145.6,   1015.1,   4.6170,  34.3850,2,  34.3864,2,    195.8,2,  4.5355,    192.2,2,    36.08,2,    30.82,2,     0.00,2,     2.11,2,    0.565,2,    0.283,2, -999.000,5,-999.0000,5,  -999.00,9,   -999.0,9,  -999.00,9,-999.000,9,   -999.0,9,   -999.0,9,  -999.0, -999.00,-999.0000,-999.000,-999.000
     316N145_5,  I09S,   141,  1,     18, SIH003,2,19950117,0930,-35.9972, 114.9972, 5225,11139.5,   1115.1,   3.8263,  34.3933,2,  34.3931,2,    187.5,2,  3.7426,    187.5,2,    46.19,2,    32.41,2,     0.00,2,     2.24,2,    0.387,2,    0.202,2, -999.000,5,-999.0000,5,  -999.00,9,   -999.0,9,  -999.00,9,-999.000,9,   -999.0,9,   -999.0,9,  -999.0, -999.00,-999.0000,-999.000,-999.000
     316N145_5,  I09S,   141,  1,     17, SIH024,2,19950117,0930,-35.9972, 114.9972, 5225,12146.8,   1216.4,   3.3869,  34.4366,2,  34.4359,2,    179.3,2,  3.2988,    177.8,2,    56.31,2,    33.59,2,     0.00,2,     2.32,2,    0.203,2,    0.104,2, -999.000,5,-999.0000,5,  -999.00,9,   -999.0,9,  -999.00,9,-999.000,9,   -999.0,9,   -999.0,9,  -999.0, -999.00,-999.0000,-999.000,-999.000
     316N145_5,  I09S,   141,  1,     16, SIH022,2,19950117,0930,-35.9972, 114.9972, 5225,14157.1,   1418.6,   2.9574,  34.5296,2,  34.5298,2,    167.6,2,  2.8568,    164.6,2,    70.53,2,    34.40,2,     0.00,2,     2.38,2,    0.063,2,    0.047,2, -999.000,5,-999.0000,5,  -999.00,9,   -999.0,9,  -999.00,9,-999.000,9,   -999.0,9,   -999.0,9,  -999.0, -999.00,-999.0000,-999.000,-999.000
     316N145_5,  I09S,   141,  1,     15, SIH021,2,19950117,0930,-35.9972, 114.9972, 5225,16167.2,   1620.8,   2.7607,  34.6079,2,  34.6075,2,    163.3,2,  2.6456,    160.1,2,    80.49,2,    34.17,2,     0.00,2,     2.37,2,    0.027,2,    0.024,2, -999.000,5,-999.0000,5,  -999.00,9,   -999.0,9,  -999.00,9,-999.000,9,   -999.0,9,   -999.0,9,  -999.0, -999.00,-999.0000,-999.000,-999.000
     316N145_5,  I09S,   141,  1,     14, SIH002,2,19950117,0930,-35.9972, 114.9972, 5225,18206.1,   1825.9,   2.5779,  34.6663,2,  34.6661,2,    165.2,2,  2.4476,    161.9,2,    88.23,2,    33.62,2,     0.00,2,     2.33,2,    0.010,3,    0.010,2, -999.000,5,-999.0000,5,  -999.00,9,   -999.0,9,  -999.00,9,-999.000,9,   -999.0,9,   -999.0,9,  -999.0, -999.00,-999.0000,-999.000,-999.000
     316N145_5,  I09S,   141,  1,     13, SIH018,2,19950117,0930,-35.9972, 114.9972, 5225,20209.9,   2027.4,   2.3968,  34.7019,2,  34.7009,2,    167.6,2,  2.2517,    166.2,2,    94.56,2,    33.12,2,    -0.01,2,     2.29,2,    0.015,2,    0.031,4, -999.000,5,-999.0000,5,  -999.00,9,   -999.0,9,  -999.00,9,-999.000,9,   -999.0,9,   -999.0,9,  -999.0, -999.00,-999.0000,-999.000,-999.000
     316N145_5,  I09S,   141,  1,     12, SIH016,2,19950117,0930,-35.9972, 114.9972, 5225,23219.1,   2330.1,   2.1608,  34.7251,2,  34.7264,2,    175.1,2,  1.9927,    173.9,2,    99.16,2,    32.54,2,    -0.01,2,     2.24,2, -999.000,9, -999.000,9, -999.000,5,-999.0000,5,  -999.00,9,   -999.0,9,  -999.00,9,-999.000,9,   -999.0,9,   -999.0,9,  -999.0, -999.00,-999.0000,-999.000,-999.000
     316N145_5,  I09S,   141,  1,     11, SIH015,2,19950117,0930,-35.9972, 114.9972, 5225,26227.4,   2632.7,   1.9266,  34.7332,2,  34.7335,2,    181.9,2,  1.7351,    180.4,2,   104.07,2,    32.18,2,     0.00,2,     2.21,2, -999.000,9, -999.000,9, -999.000,5,-999.0000,5,  -999.00,9,   -999.0,9,  -999.00,9,-999.000,9,   -999.0,9,   -999.0,9,  -999.0, -999.00,-999.0000,-999.000,-999.000
     316N145_5,  I09S,   141,  1,     10, SI9426,2,19950117,0930,-35.9972, 114.9972, 5225,29269.1,   2938.6,   1.7078,  34.7345,2,  34.7341,2,    186.0,2,  1.4920,    186.5,2,   108.03,2,    31.99,2,     0.00,2,     2.20,2, -999.000,9, -999.000,9, -999.000,5,-999.0000,5,  -999.00,9,   -999.0,9,  -999.00,9,-999.000,9,   -999.0,9,   -999.0,9,  -999.0, -999.00,-999.0000,-999.000,-999.000
     316N145_5,  I09S,   141,  1,      9, SIH012,2,19950117,0930,-35.9972, 114.9972, 5225,32322.3,   3245.8,   1.5092,  34.7312,2,  34.7309,2,    190.1,2,  1.2680,    191.9,2,   111.69,2,    31.94,2,     0.00,2,     2.19,2,    0.025,2,    0.011,2, -999.000,5,-999.0000,5,  -999.00,9,   -999.0,9,  -999.00,9,-999.000,9,   -999.0,9,   -999.0,9,  -999.0, -999.00,-999.0000,-999.000,-999.000
     316N145_5,  I09S,   141,  1,      8, SIH010,2,19950117,0930,-35.9972, 114.9972, 5225,35353.8,   3550.7,   1.3470,  34.7255,2,  34.7256,2,    195.2,2,  1.0792,    195.3,2,   116.12,2,    32.17,2,     0.00,2,     2.20,2, -999.000,9, -999.000,9, -999.000,5,-999.0000,5,  -999.00,9,   -999.0,9,  -999.00,9,-999.000,9,   -999.0,9,   -999.0,9,  -999.0, -999.00,-999.0000,-999.000,-999.000
     316N145_5,  I09S,   141,  1,      7, SIH009,2,19950117,0930,-35.9972, 114.9972, 5225,38393.2,   3856.4,   1.2439,  34.7207,2,  34.7205,2,    197.5,2,  0.9472,    197.3,2,   119.77,2,    32.35,2,     0.00,2,     2.21,2, -999.000,9, -999.000,9, -999.000,5,-999.0000,5,  -999.00,9,   -999.0,9,  -999.00,9,-999.000,9,   -999.0,9,   -999.0,9,  -999.0, -999.00,-999.0000,-999.000,-999.000
     316N145_5,  I09S,   141,  1,      6, SIH038,2,19950117,0930,-35.9972, 114.9972, 5225,41448.3,   4163.7,   1.1523,  34.7172,2,  34.7170,2,    202.1,2,  0.8252,    200.7,2,   120.74,2,    32.30,2,     0.00,2,     2.21,2, -999.000,9, -999.000,9, -999.000,5,-999.0000,5,  -999.00,9,   -999.0,9,  -999.00,9,-999.000,9,   -999.0,9,   -999.0,9,  -999.0, -999.00,-999.0000,-999.000,-999.000
     316N145_5,  I09S,   141,  1,      5, SIH006,2,19950117,0930,-35.9972, 114.9972, 5225,44598.4,   4480.6,   1.0295,  34.7113,2,  34.7123,2,    205.8,2,  0.6711,    205.1,2,   122.17,2,    32.30,2,     0.00,2,     2.20,2,    0.017,2,    0.015,2, -999.000,5,-999.0000,5,  -999.00,9,   -999.0,9,  -999.00,9,-999.000,9,   -999.0,9,   -999.0,9,  -999.0, -999.00,-999.0000,-999.000,-999.000
     316N145_5,  I09S,   141,  1,      4, SIH004,2,19950117,0930,-35.9972, 114.9972, 5225,47670.6,   4789.6,   0.9485,  34.7071,2,  34.7077,2,    210.7,2,  0.5574,    207.3,2,   124.09,2,    32.35,2,     0.00,2,     2.21,2, -999.000,9, -999.000,9, -999.000,5,-999.0000,5,  -999.00,9,   -999.0,9,  -999.00,9,-999.000,9,   -999.0,9,   -999.0,9,  -999.0, -999.00,-999.0000,-999.000,-999.000
     316N145_5,  I09S,   141,  1,      3, SIH025,2,19950117,0930,-35.9972, 114.9972, 5225,50636.1,   5087.9,   0.9417,  34.7059,2,  34.7034,2,    214.2,2,  0.5157,    208.4,2,   124.74,2,    32.39,2,     0.00,2,     2.22,2, -999.000,9, -999.000,9, -999.000,5,-999.0000,5,  -999.00,9,   -999.0,9,  -999.00,9,-999.000,9,   -999.0,9,   -999.0,9,  -999.0, -999.00,-999.0000,-999.000,-999.000
     316N145_5,  I09S,   141,  1,      2, SIH001,2,19950117,0930,-35.9972, 114.9972, 5225,52613.0,   5286.8,   0.9499,  34.7047,2,  34.7020,2,    216.0,2,  0.4996,    208.8,2,   124.91,2,    32.44,2,     0.00,2,     2.22,2, -999.000,9, -999.000,9, -999.000,5,-999.0000,5,  -999.00,9,   -999.0,9,  -999.00,9,-999.000,9,   -999.0,9,   -999.0,9,  -999.0, -999.00,-999.0000,-999.000,-999.000
     316N145_5,  I09S,   141,  1,      1, SIH036,2,19950117,0930,-35.9972, 114.9972, 5225,53135.9,   5339.4,   0.9552,  34.7041,2,  34.7042,2,    216.7,2,  0.4983,    208.7,2,   124.79,2,    32.29,2,     0.00,2,     2.22,2, -999.000,9, -999.000,9, -999.000,5,-999.0000,5,  -999.00,9,   -999.0,9,  -999.00,9,-999.000,9,   -999.0,9,   -999.0,9,  -999.0, -999.00,-999.0000,-999.000,-999.000