BOTTLE,20090521WHPSIOdm
EXPOCODE,SECT_ID,STNNBR,CASTNO,SAMPNO,BTLNBR,BTLNBR_FLAG_W,DATE,TIME,LATITUDE,LONGITUDE,DEPTH,CTDRAW,CTDPRS,CTDTMP,CTDSAL,CTDSAL_FLAG_W,SALNTY,SALNTY_FLAG_W,CTDOXY,CTDOXY_FLAG_W,THETA,OXYGEN,OXYGEN_FLAG_W,SILCAT,SILCAT_FLAG_W,NITRAT,NITRAT_FLAG_W,NITRIT,NITRIT_FLAG_W,PHSPHT,PHSPHT_FLAG_W,CFC-11,CFC-11_FLAG_W,CFC-12,CFC-12_FLAG_W,TRITUM,TRITUM_FLAG_W,HELIUM,HELIUM_FLAG_W,DELHE3,DELHE3_FLAG_W,DELC14,DELC14_FLAG_W,DELC13,DELC13_FLAG_W,NEON,NEON_FLAG_W,TCARBN,TCARBN_FLAG_W,ALKALI,ALKALI_FLAG_W,C14ERR,DELHER,HELIER,NEONER,TRITER
,,,,,,,,,,,,,DBAR,IPTS-68,PSS-78,,PSS-78,,UMOL/KG,,IPTS-68,UMOL/KG,,UMOL/KG,,UMOL/KG,,UMOL/KG,,UMOL/KG,,PMOL/KG,,PMOL/KG,,TU,,NMOL/KG,,PERCNT,,/MILLE,,/MILLE,,NMOL/KG,,UMOL/KG,,UMOL/KG,,/MILLE,PERCNT,NMOL/KG,NMOL/KG,TU
     316N145_5,  I08S,    27,  1,     24, SIH037,2,19941212,2300,-42.0083,  95.0055, 3285,  162.6,     11.7,  12.2275,  34.9358,2,  34.9364,2,    276.7,2, 12.2259,    268.0,2,     2.15,2,     6.27,2,     0.19,2,     0.64,2,    3.435,2,    1.804,2, -999.000,5,-999.0000,5,  -999.00,9,     65.1,2,  -999.00,9,-999.000,9,   2072.2,6,   2309.4,2,     5.3, -999.00,-999.0000,-999.000,-999.000
     316N145_5,  I08S,    27,  1,     23, SIH033,9,19941212,2300,-42.0083,  95.0055, 3285,  364.9,     32.0,  12.2239,  34.9359,2,-999.0000,9,    271.9,3, 12.2197,   -999.0,9,     2.15,4,     6.34,4,     0.18,4,     0.64,4, -999.000,9, -999.000,9, -999.000,5,-999.0000,5,  -999.00,9,   -999.0,9,  -999.00,9,-999.000,9,   -999.0,9,   -999.0,9,  -999.0, -999.00,-999.0000,-999.000,-999.000
     316N145_5,  I08S,    27,  1,     22, SIH031,2,19941212,2300,-42.0083,  95.0055, 3285,  612.5,     56.9,  12.2271,  34.9364,2,  34.9366,2,    270.7,2, 12.2196,    267.8,2,     2.15,2,     6.34,2,     0.18,2,     0.64,2,    3.534,2,    1.835,2, -999.000,5,-999.0000,5,  -999.00,9,     72.9,6,     1.51,6,-999.000,9,   2072.8,2,   2304.0,2,     2.1, -999.00,-999.0000,-999.000,-999.000
     316N145_5,  I08S,    27,  1,     21, SIH030,2,19941212,2300,-42.0083,  95.0055, 3285, 1110.8,    107.0,  11.1615,  34.9572,2,  34.9579,2,    260.2,2, 11.1482,    260.6,2,     3.44,2,     9.05,2,     0.25,2,     0.80,2,    3.517,2,    1.839,2, -999.000,5,-999.0000,5,  -999.00,9,     72.7,2,     1.31,2,-999.000,9,   2091.2,2,   2322.6,2,     4.3, -999.00,-999.0000,-999.000,-999.000
     316N145_5,  I08S,    27,  1,     20, SIH028,2,19941212,2300,-42.0083,  95.0055, 3285, 2118.4,    208.3,  10.7780,  34.9182,2,  34.9176,2,    256.6,2, 10.7527,    259.3,2,     3.76,2,    10.31,2,     0.01,2,     0.87,2,    3.456,2,    1.789,2, -999.000,5,-999.0000,5,  -999.00,9,     68.8,2,     1.33,2,-999.000,9,   2095.2,2,   -999.0,9,     4.0, -999.00,-999.0000,-999.000,-999.000
     316N145_5,  I08S,    27,  1,     19, SIH027,2,19941212,2300,-42.0083,  95.0055, 3285, 3098.6,    306.9,  10.2262,  34.8269,2,  34.8261,2,    259.7,2, 10.1900,    260.4,2,     4.40,2,    11.87,2,     0.01,2,     0.97,2,    3.446,2,    1.791,2, -999.000,5,-999.0000,5,  -999.00,9,     59.2,2,     1.31,2,-999.000,9,   2097.7,2,   2301.5,2,     4.2, -999.00,-999.0000,-999.000,-999.000
     316N145_5,  I08S,    27,  1,     18, SIH003,2,19941212,2300,-42.0083,  95.0055, 3285, 4095.4,    407.2,   9.5514,  34.7232,2,  34.7231,2,    269.6,2,  9.5051,    270.1,2,     4.56,2,    12.90,2,     0.00,2,     1.03,2,    3.743,2,    1.959,2, -999.000,5,-999.0000,5,  -999.00,9,     55.8,2,     1.39,2,-999.000,9,   2098.5,2,   2285.9,2,     3.7, -999.00,-999.0000,-999.000,-999.000
     316N145_5,  I08S,    27,  1,     17, SIH024,2,19941212,2300,-42.0083,  95.0055, 3285, 5093.3,    507.5,   9.2382,  34.6723,2,  34.6724,2,    272.0,2,  9.1814,    272.3,2,     4.56,2,    13.54,2,     0.02,2,     1.07,2,    3.795,2,    1.917,2, -999.000,5,-999.0000,5,  -999.00,9,     44.4,2,     1.40,2,-999.000,9,   2099.5,2,   -999.0,9,     3.7, -999.00,-999.0000,-999.000,-999.000
     316N145_5,  I08S,    27,  1,     16, SIH022,2,19941212,2300,-42.0083,  95.0055, 3285, 6087.9,    607.5,   8.7137,  34.5945,2,  34.5952,2,    273.1,2,  8.6478,    274.0,2,     4.40,2,    14.47,2,     0.01,2,     1.12,2,    3.881,2,    2.005,2, -999.000,5,-999.0000,5,  -999.00,9,   -999.0,9,  -999.00,9,-999.000,9,   2101.1,2,   -999.0,9,  -999.0, -999.00,-999.0000,-999.000,-999.000
     316N145_5,  I08S,    27,  1,     15, SIH021,2,19941212,2300,-42.0083,  95.0055, 3285, 7093.3,    708.6,   8.5303,  34.5690,2,  34.5690,2,    275.3,2,  8.4539,    274.0,2,     4.40,2,    14.68,2,     0.01,2,     1.13,2,    3.945,2,    2.011,2, -999.000,5,-999.0000,5,  -999.00,9,     45.5,2,     1.46,2,-999.000,9,   2101.3,2,   2300.2,2,     4.1, -999.00,-999.0000,-999.000,-999.000
     316N145_5,  I08S,    27,  1,     14, SIH002,2,19941212,2300,-42.0083,  95.0055, 3285, 8157.3,    815.6,   8.5245,  34.5685,2,  34.5694,2,    274.5,2,  8.4360,    274.6,2,     4.40,2,    14.63,2,     0.01,2,     1.13,2,    3.935,2,    2.033,2, -999.000,5,-999.0000,5,  -999.00,9,     43.9,2,     1.46,2,-999.000,9,   2101.0,2,   2305.3,2,     4.2, -999.00,-999.0000,-999.000,-999.000
     316N145_5,  I08S,    27,  1,     13, SIH018,2,19941212,2300,-42.0083,  95.0055, 3285,10216.4,   1022.7,   6.0790,  34.4018,2,  34.4033,2,    216.3,2,  5.9855,    214.8,2,    19.71,2,    26.36,2,     0.00,2,     1.84,2, -999.000,9, -999.000,9, -999.000,5,-999.0000,5,  -999.00,9,    -28.5,2,     1.10,2,-999.000,9,   2161.8,2,   2305.4,2,     4.9, -999.00,-999.0000,-999.000,-999.000
     316N145_5,  I08S,    27,  1,     12, SIH016,2,19941212,2300,-42.0083,  95.0055, 3285,12179.1,   1220.1,   4.1228,  34.3501,2,  34.3519,2,    204.5,2,  4.0276,    204.2,2,    36.49,2,    31.36,2,     0.00,2,     2.16,2,    0.942,2,    0.467,2, -999.000,5,-999.0000,5,  -999.00,9,    -81.6,2,     0.90,2,-999.000,9,   2194.9,2,   2310.7,2,     3.6, -999.00,-999.0000,-999.000,-999.000
     316N145_5,  I08S,    27,  1,     11, SIH015,2,19941212,2300,-42.0083,  95.0055, 3285,14125.2,   1415.9,   3.2950,  34.4226,2,  34.4233,2,    187.3,2,  3.1913,    184.6,2,    54.22,2,    33.63,2,     0.00,2,     2.33,2,    0.490,2,    0.255,2, -999.000,5,-999.0000,5,  -999.00,9,   -116.8,2,     0.67,2,-999.000,9,   2224.9,2,   -999.0,9,     3.7, -999.00,-999.0000,-999.000,-999.000
     316N145_5,  I08S,    27,  1,     10, SIH013,2,19941212,2300,-42.0083,  95.0055, 3285,16121.4,   1616.7,   2.8908,  34.5095,2,  34.5093,2,    175.2,2,  2.7747,    176.0,2,    64.86,2,    34.13,2,     0.00,2,     2.36,2,    0.322,2,    0.169,2, -999.000,5,-999.0000,5,  -999.00,9,   -135.2,2,     0.56,2,-999.000,9,   2240.5,2,   2332.4,2,     3.5, -999.00,-999.0000,-999.000,-999.000
     316N145_5,  I08S,    27,  1,      9, SIH012,2,19941212,2300,-42.0083,  95.0055, 3285,18131.6,   1818.9,   2.6643,  34.5985,2,  34.5993,2,    173.5,2,  2.5337,    174.9,2,    71.14,2,    33.44,2,     0.00,2,     2.30,2,    0.148,2,    0.079,2, -999.000,5,-999.0000,5,  -999.00,9,   -142.2,2,     0.43,2,-999.000,9,   2245.9,2,   2344.1,2,     2.7, -999.00,-999.0000,-999.000,-999.000
     316N145_5,  I08S,    27,  1,      8, SIH010,2,19941212,2300,-42.0083,  95.0055, 3285,20182.5,   2025.2,   2.5339,  34.6628,2,  34.6627,2,    178.3,2,  2.3870,    178.3,2,    75.01,2,    32.43,2,     0.00,2,     2.24,2,    0.076,2,    0.046,2, -999.000,5,-999.0000,5,  -999.00,9,   -144.6,2,     0.59,2,-999.000,9,   2252.9,2,   2352.9,2,     3.3, -999.00,-999.0000,-999.000,-999.000
     316N145_5,  I08S,    27,  1,      7, SIH009,2,19941212,2300,-42.0083,  95.0055, 3285,21825.4,   2190.4,   2.4249,  34.7014,2,  34.7015,2,    182.0,2,  2.2649,    182.3,2,    77.43,2,    31.64,2,     0.00,2,     2.18,2,    0.054,2,    0.037,2, -999.000,5,-999.0000,5,  -999.00,9,   -154.8,2,    -0.69,4,-999.000,9,   -999.0,9,   2356.9,2,     3.0, -999.00,-999.0000,-999.000,-999.000
     316N145_5,  I08S,    27,  1,      6, SIH038,2,19941212,2300,-42.0083,  95.0055, 3285,23885.5,   2397.6,   2.2725,  34.7361,2,  34.7366,2,    188.8,2,  2.0963,    190.0,2,    80.32,2,    30.68,2,     0.00,2,     2.11,2,    0.036,2,    0.018,2, -999.000,5,-999.0000,5,  -999.00,9,   -133.8,2,     0.53,2,-999.000,9,   2242.3,2,   2358.6,2,     3.0, -999.00,-999.0000,-999.000,-999.000
     316N145_5,  I08S,    27,  1,      5, SIH006,2,19941212,2300,-42.0083,  95.0055, 3285,26993.9,   2710.3,   1.9777,  34.7515,2,  34.7514,2,    195.7,2,  1.7779,    196.4,2,    88.87,2,    30.43,2,     0.00,2,     2.10,2,    0.020,2,    0.010,2, -999.000,5,-999.0000,5,  -999.00,9,   -143.2,2,     0.57,2,-999.000,9,   2244.3,2,   2372.9,2,     2.6, -999.00,-999.0000,-999.000,-999.000
     316N145_5,  I08S,    27,  1,      4, SIH004,2,19941212,2300,-42.0083,  95.0055, 3285,29076.1,   2919.8,   1.7361,  34.7469,2,  34.7471,2,    198.7,2,  1.5215,    198.8,2,    96.29,2,    30.77,2,     0.00,2,     2.12,2,    0.031,3,    0.029,3, -999.000,5,-999.0000,5,  -999.00,9,   -138.2,2,     0.43,2,-999.000,9,   2247.2,2,   2367.6,2,     4.7, -999.00,-999.0000,-999.000,-999.000
     316N145_5,  I08S,    27,  1,      3, SIH025,2,19941212,2300,-42.0083,  95.0055, 3285,31183.7,   3131.8,   1.5170,  34.7393,2,  34.7386,2,    199.7,2,  1.2868,    201.2,2,   104.03,2,    31.10,2,     0.00,2,     2.15,2,    0.019,2,    0.016,2, -999.000,5,-999.0000,5,  -999.00,9,   -140.3,2,     0.51,2,-999.000,9,   2253.8,2,   2374.8,2,     4.8, -999.00,-999.0000,-999.000,-999.000
     316N145_5,  I08S,    27,  1,      2, SIH001,2,19941212,2300,-42.0083,  95.0055, 3285,32515.7,   3265.8,   1.3935,  34.7325,2,  34.7325,2,    201.2,2,  1.1531,    202.0,2,   108.70,2,    31.55,2,     0.00,2,     2.16,2,    0.022,2,    0.017,2, -999.000,5,-999.0000,5,  -999.00,9,   -144.4,2,     0.51,2,-999.000,9,   2256.9,2,   2381.5,2,     3.2, -999.00,-999.0000,-999.000,-999.000
     316N145_5,  I08S,    27,  1,      1, SIH036,2,19941212,2300,-42.0083,  95.0055, 3285,33036.9,   3318.2,   1.3560,  34.7316,2,  34.7317,2,    200.6,2,  1.1113,    202.6,2,   109.99,2,    31.68,2,     0.00,2,     2.17,2,    0.023,2,    0.014,2, -999.000,5,-999.0000,5,  -999.00,9,   -146.2,2,     0.51,2,-999.000,9,   2258.6,6,   2374.6,2,     4.0, -999.00,-999.0000,-999.000,-999.000
     316N145_5,  I08S,    28,  1,     24, SIH037,2,19941213,0420,-42.5112,  95.0083, 3330,  162.6,     11.9,  12.0536,  34.9373,2,  34.9353,2,    272.2,2, 12.0520,    271.0,2,     1.96,2,     7.05,2,     0.20,2,     0.64,2, -999.000,9, -999.000,9, -999.000,5,-999.0000,5,  -999.00,9,   -999.0,9,  -999.00,9,-999.000,9,   -999.0,9,   -999.0,9,  -999.0, -999.00,-999.0000,-999.000,-999.000
     316N145_5,  I08S,    28,  1,     23, SIH033,2,19941213,0420,-42.5112,  95.0083, 3330,  348.0,     30.5,  11.9963,  34.9368,2,  34.9380,2,    270.6,2, 11.9924,    270.3,2,     2.04,2,     7.16,2,     0.20,2,     0.64,2, -999.000,9, -999.000,9, -999.000,5,-999.0000,5,  -999.00,9,   -999.0,9,  -999.00,9,-999.000,9,   -999.0,9,   -999.0,9,  -999.0, -999.00,-999.0000,-999.000,-999.000
     316N145_5,  I08S,    28,  1,     22, SIH031,2,19941213,0420,-42.5112,  95.0083, 3330,  603.8,     56.2,  11.8272,  34.9133,2,  34.9113,2,    271.3,2, 11.8200,    271.4,2,     2.12,2,     7.61,2,     0.21,2,     0.67,2, -999.000,9, -999.000,9, -999.000,5,-999.0000,5,  -999.00,9,   -999.0,9,  -999.00,9,-999.000,9,   -999.0,9,   -999.0,9,  -999.0, -999.00,-999.0000,-999.000,-999.000
     316N145_5,  I08S,    28,  1,     21, SIH030,2,19941213,0420,-42.5112,  95.0083, 3330, 1114.0,    107.5,  11.1977,  34.9661,2,  34.9660,2,    259.8,2, 11.1844,    262.6,2,     3.35,2,     9.17,2,     0.57,2,     0.79,2, -999.000,9, -999.000,9, -999.000,5,-999.0000,5,  -999.00,9,   -999.0,9,  -999.00,9,-999.000,9,   -999.0,9,   -999.0,9,  -999.0, -999.00,-999.0000,-999.000,-999.000
     316N145_5,  I08S,    28,  1,     20, SIH028,2,19941213,0420,-42.5112,  95.0083, 3330, 2111.8,    207.8,  10.9631,  34.9460,2,  34.9461,2,    257.8,2, 10.9375,    259.9,2,     3.43,2,    10.35,2,     0.01,2,     0.83,2, -999.000,9, -999.000,9, -999.000,5,-999.0000,5,  -999.00,9,   -999.0,9,  -999.00,9,-999.000,9,   -999.0,9,   -999.0,9,  -999.0, -999.00,-999.0000,-999.000,-999.000
     316N145_5,  I08S,    28,  1,     19, SIH027,2,19941213,0420,-42.5112,  95.0083, 3330, 3102.5,    307.5,  10.6615,  34.8961,2,-999.0000,9,    260.1,3, 10.6242,   -999.0,9,     3.67,2,    10.89,2,     0.03,2,     0.87,2, -999.000,9, -999.000,9, -999.000,5,-999.0000,5,  -999.00,9,   -999.0,9,  -999.00,9,-999.000,9,   -999.0,9,   -999.0,9,  -999.0, -999.00,-999.0000,-999.000,-999.000
     316N145_5,  I08S,    28,  1,     18, SIH003,2,19941213,0420,-42.5112,  95.0083, 3330, 4116.0,    409.4,  10.3617,  34.8485,2,  34.8458,2,    261.0,2, 10.3127,    259.8,2,     3.92,2,    12.02,2,     0.01,2,     0.94,2, -999.000,9, -999.000,9, -999.000,5,-999.0000,5,  -999.00,9,   -999.0,9,  -999.00,9,-999.000,9,   -999.0,9,   -999.0,9,  -999.0, -999.00,-999.0000,-999.000,-999.000
     316N145_5,  I08S,    28,  1,     17, SIH024,2,19941213,0420,-42.5112,  95.0083, 3330, 5104.0,    508.7,   9.8901,  34.7725,2,  34.7763,2,    249.5,2,  9.8307,    248.7,2,     4.82,2,    14.10,2,     0.01,2,     1.06,2, -999.000,9, -999.000,9, -999.000,5,-999.0000,5,  -999.00,9,   -999.0,9,  -999.00,9,-999.000,9,   -999.0,9,   -999.0,9,  -999.0, -999.00,-999.0000,-999.000,-999.000
     316N145_5,  I08S,    28,  1,     16, SIH022,2,19941213,0420,-42.5112,  95.0083, 3330, 6110.0,    609.9,   9.0276,  34.6547,2,  34.6547,2,    236.4,2,  8.9599,    230.9,2,     6.72,2,    17.88,2,     0.00,2,     1.28,2, -999.000,9, -999.000,9, -999.000,5,-999.0000,5,  -999.00,9,   -999.0,9,  -999.00,9,-999.000,9,   -999.0,9,   -999.0,9,  -999.0, -999.00,-999.0000,-999.000,-999.000
     316N145_5,  I08S,    28,  1,     15, SIH021,2,19941213,0420,-42.5112,  95.0083, 3330, 7104.6,    709.9,   7.8971,  34.5468,2,  34.5466,2,    214.3,2,  7.8239,    212.3,2,    12.26,2,    22.30,2,     0.00,2,     1.55,2, -999.000,9, -999.000,9, -999.000,5,-999.0000,5,  -999.00,9,   -999.0,9,  -999.00,9,-999.000,9,   -999.0,9,   -999.0,9,  -999.0, -999.00,-999.0000,-999.000,-999.000
     316N145_5,  I08S,    28,  1,     14, SIH002,2,19941213,0420,-42.5112,  95.0083, 3330, 8095.5,    809.6,   6.6079,  34.4462,2,  34.4463,2,    215.2,2,  6.5318,    207.5,2,    17.63,2,    25.80,2,     0.00,2,     1.78,2, -999.000,9, -999.000,9, -999.000,5,-999.0000,5,  -999.00,9,   -999.0,9,  -999.00,9,-999.000,9,   -999.0,9,   -999.0,9,  -999.0, -999.00,-999.0000,-999.000,-999.000
     316N145_5,  I08S,    28,  1,     13, SIH018,2,19941213,0420,-42.5112,  95.0083, 3330,10096.8,   1010.9,   4.6310,  34.3328,2,  34.3343,2,    216.5,2,  4.5498,    216.5,2,    27.80,2,    29.46,2,     0.00,2,     2.02,2, -999.000,9, -999.000,9, -999.000,5,-999.0000,5,  -999.00,9,   -999.0,9,  -999.00,9,-999.000,9,   -999.0,9,   -999.0,9,  -999.0, -999.00,-999.0000,-999.000,-999.000
     316N145_5,  I08S,    28,  1,     12, SIH016,2,19941213,0420,-42.5112,  95.0083, 3330,12155.0,   1217.9,   3.5448,  34.3720,2,  34.3731,2,    202.4,2,  3.4552,    200.8,2,    43.59,2,    32.30,2,     0.00,2,     2.23,2, -999.000,9, -999.000,9, -999.000,5,-999.0000,5,  -999.00,9,   -999.0,9,  -999.00,9,-999.000,9,   -999.0,9,   -999.0,9,  -999.0, -999.00,-999.0000,-999.000,-999.000
     316N145_5,  I08S,    28,  1,     11, SIH015,2,19941213,0420,-42.5112,  95.0083, 3330,14114.5,   1415.0,   3.0521,  34.4476,2,  34.4479,2,    186.5,2,  2.9510,    186.2,2,    56.07,2,    33.56,2,     0.00,2,     2.32,2, -999.000,9, -999.000,9, -999.000,5,-999.0000,5,  -999.00,9,   -999.0,9,  -999.00,9,-999.000,9,   -999.0,9,   -999.0,9,  -999.0, -999.00,-999.0000,-999.000,-999.000
     316N145_5,  I08S,    28,  1,     10, SIH013,2,19941213,0420,-42.5112,  95.0083, 3330,16184.3,   1623.2,   2.7457,  34.5552,2,  34.5559,2,    175.2,2,  2.6307,    175.2,2,    67.55,2,    33.76,2,     0.00,2,     2.33,2, -999.000,9, -999.000,9, -999.000,5,-999.0000,5,  -999.00,9,   -999.0,9,  -999.00,9,-999.000,9,   -999.0,9,   -999.0,9,  -999.0, -999.00,-999.0000,-999.000,-999.000
     316N145_5,  I08S,    28,  1,      9, SIH012,2,19941213,0420,-42.5112,  95.0083, 3330,18176.0,   1823.5,   2.5886,  34.6312,2,  34.6327,2,    173.7,2,  2.4585,    175.7,2,    72.91,2,    32.94,2,     0.00,2,     2.27,2, -999.000,9, -999.000,9, -999.000,5,-999.0000,5,  -999.00,9,   -999.0,9,  -999.00,9,-999.000,9,   -999.0,9,   -999.0,9,  -999.0, -999.00,-999.0000,-999.000,-999.000
     316N145_5,  I08S,    28,  1,      8, SIH010,2,19941213,0420,-42.5112,  95.0083, 3330,20235.7,   2030.7,   2.4483,  34.6916,2,  34.6950,2,    179.6,2,  2.3022,    180.5,2,    76.45,2,    31.87,2,     0.00,2,     2.19,2, -999.000,9, -999.000,9, -999.000,5,-999.0000,5,  -999.00,9,   -999.0,9,  -999.00,9,-999.000,9,   -999.0,9,   -999.0,9,  -999.0, -999.00,-999.0000,-999.000,-999.000
     316N145_5,  I08S,    28,  1,      7, SIH009,2,19941213,0420,-42.5112,  95.0083, 3330,22215.3,   2229.8,   2.3179,  34.7281,2,  34.7390,4,    187.6,2,  2.1560,    190.9,3,    81.31,2,    30.65,2,     0.00,2,     2.11,2, -999.000,9, -999.000,9, -999.000,5,-999.0000,5,  -999.00,9,   -999.0,9,  -999.00,9,-999.000,9,   -999.0,9,   -999.0,9,  -999.0, -999.00,-999.0000,-999.000,-999.000
     316N145_5,  I08S,    28,  1,      6, SIH038,2,19941213,0420,-42.5112,  95.0083, 3330,24242.8,   2433.8,   2.1725,  34.7455,2,  34.7455,2,    191.8,2,  1.9947,    193.0,2,    81.71,2,    30.40,2,     0.00,2,     2.09,2, -999.000,9, -999.000,9, -999.000,5,-999.0000,5,  -999.00,9,   -999.0,9,  -999.00,9,-999.000,9,   -999.0,9,   -999.0,9,  -999.0, -999.00,-999.0000,-999.000,-999.000
     316N145_5,  I08S,    28,  1,      5, SIH006,2,19941213,0420,-42.5112,  95.0083, 3330,27299.9,   2741.3,   1.8174,  34.7491,2,  34.7494,2,    196.5,2,  1.6179,    198.1,2,    93.35,2,    30.60,2,     0.00,2,     2.10,2, -999.000,9, -999.000,9, -999.000,5,-999.0000,5,  -999.00,9,   -999.0,9,  -999.00,9,-999.000,9,   -999.0,9,   -999.0,9,  -999.0, -999.00,-999.0000,-999.000,-999.000
     316N145_5,  I08S,    28,  1,      4, SIH004,2,19941213,0420,-42.5112,  95.0083, 3330,29336.5,   2946.2,   1.6612,  34.7443,2,  34.7427,2,    198.6,2,  1.4456,    199.3,2,    98.70,2,    30.80,2,     0.00,2,     2.12,2, -999.000,9, -999.000,9, -999.000,5,-999.0000,5,  -999.00,9,   -999.0,9,  -999.00,9,-999.000,9,   -999.0,9,   -999.0,9,  -999.0, -999.00,-999.0000,-999.000,-999.000
     316N145_5,  I08S,    28,  1,      3, SIH025,2,19941213,0420,-42.5112,  95.0083, 3330,31353.0,   3149.0,   1.4980,  34.7371,2,  34.7378,2,    198.9,2,  1.2666,    200.2,2,   104.73,2,    31.15,2,     0.00,2,     2.14,2, -999.000,9, -999.000,9, -999.000,5,-999.0000,5,  -999.00,9,   -999.0,9,  -999.00,9,-999.000,9,   -999.0,9,   -999.0,9,  -999.0, -999.00,-999.0000,-999.000,-999.000
     316N145_5,  I08S,    28,  1,      2, SIH001,2,19941213,0420,-42.5112,  95.0083, 3330,33177.0,   3332.5,   1.4337,  34.7338,2,  34.7339,2,    199.8,2,  1.1858,    201.2,2,   107.27,2,    31.20,2,     0.00,2,     2.15,2, -999.000,9, -999.000,9, -999.000,5,-999.0000,5,  -999.00,9,   -999.0,9,  -999.00,9,-999.000,9,   -999.0,9,   -999.0,9,  -999.0, -999.00,-999.0000,-999.000,-999.000
     316N145_5,  I08S,    28,  1,      1, SIH036,2,19941213,0420,-42.5112,  95.0083, 3330,33794.8,   3394.6,   1.4231,  34.7342,2,  34.7335,2,    200.1,2,  1.1692,    201.4,2,   107.66,2,    31.33,2,     0.00,2,     2.16,2, -999.000,9, -999.000,9, -999.000,5,-999.0000,5,  -999.00,9,   -999.0,9,  -999.00,9,-999.000,9,   -999.0,9,   -999.0,9,  -999.0, -999.00,-999.0000,-999.000,-999.000