BOTTLE,20090521WHPSIOdm
EXPOCODE,SECT_ID,STNNBR,CASTNO,SAMPNO,BTLNBR,BTLNBR_FLAG_W,DATE,TIME,LATITUDE,LONGITUDE,DEPTH,CTDRAW,CTDPRS,CTDTMP,CTDSAL,CTDSAL_FLAG_W,SALNTY,SALNTY_FLAG_W,CTDOXY,CTDOXY_FLAG_W,THETA,OXYGEN,OXYGEN_FLAG_W,SILCAT,SILCAT_FLAG_W,NITRAT,NITRAT_FLAG_W,NITRIT,NITRIT_FLAG_W,PHSPHT,PHSPHT_FLAG_W,CFC-11,CFC-11_FLAG_W,CFC-12,CFC-12_FLAG_W,TRITUM,TRITUM_FLAG_W,HELIUM,HELIUM_FLAG_W,DELHE3,DELHE3_FLAG_W,DELC14,DELC14_FLAG_W,DELC13,DELC13_FLAG_W,NEON,NEON_FLAG_W,TCARBN,TCARBN_FLAG_W,ALKALI,ALKALI_FLAG_W,C14ERR,DELHER,HELIER,NEONER,TRITER
,,,,,,,,,,,,,DBAR,IPTS-68,PSS-78,,PSS-78,,UMOL/KG,,IPTS-68,UMOL/KG,,UMOL/KG,,UMOL/KG,,UMOL/KG,,UMOL/KG,,PMOL/KG,,PMOL/KG,,TU,,NMOL/KG,,PERCNT,,/MILLE,,/MILLE,,NMOL/KG,,UMOL/KG,,UMOL/KG,,/MILLE,PERCNT,NMOL/KG,NMOL/KG,TU
     316N145_5,  I09S,   127,  1,     36, SI9446,2,19950113,1145,-43.4972, 115.0000, 4435,  161.8,     10.8,  11.1390,  34.7488,2,  34.7496,2,    284.3,2, 11.1376,    278.1,2,     0.96,2,     8.68,2,     0.20,2,     0.71,2,    3.628,2,    1.889,2,    0.660,2,   1.7550,2,    -1.76,2,   -999.0,9,  -999.00,9,   7.395,2,   -999.0,9,   -999.0,9,  -999.0,   40.18,  0.0070,   0.029,   0.010
     316N145_5,  I09S,   127,  1,     35, SIH032,2,19950113,1145,-43.4972, 115.0000, 4435,  328.1,     27.5,  11.1407,  34.7494,2,  34.7526,2,    284.2,2, 11.1373,    278.0,2,     0.96,2,     8.65,2,     0.19,2,     0.71,2, -999.000,9, -999.000,9, -999.000,5,-999.0000,5,  -999.00,9,   -999.0,9,  -999.00,9,-999.000,9,   -999.0,9,   -999.0,9,  -999.0, -999.00,-999.0000,-999.000,-999.000
     316N145_5,  I09S,   127,  1,     34, SIH029,2,19950113,1145,-43.4972, 115.0000, 4435,  578.6,     52.7,  11.1185,  34.7484,2,  34.7486,2,    273.4,2, 11.1120,    277.7,2,     1.11,2,     8.73,2,     0.19,2,     0.71,2,    3.619,2,    1.883,2,    0.576,2,   1.7760,2,    -1.60,2,   -999.0,9,  -999.00,9,   7.430,2,   -999.0,9,   -999.0,9,  -999.0,   80.12,  0.0030,   0.056,   0.014
     316N145_5,  I09S,   127,  1,     33, SIH026,2,19950113,1145,-43.4972, 115.0000, 4435,  827.5,     77.7,  10.8961,  34.7523,2,  34.7589,2,    277.5,2, 10.8867,    273.2,2,     1.92,2,     9.28,2,     0.21,2,     0.78,2, -999.000,9, -999.000,9, -999.000,5,-999.0000,5,  -999.00,9,   -999.0,9,  -999.00,9,-999.000,9,   -999.0,9,   -999.0,9,  -999.0, -999.00,-999.0000,-999.000,-999.000
     316N145_5,  I09S,   127,  1,     32, SIH023,2,19950113,1145,-43.4972, 115.0000, 4435, 1086.2,    103.7,  10.4772,  34.7502,2,  34.7488,2,    268.1,2, 10.4649,    270.1,2,     2.87,2,     9.92,2,     0.23,2,     0.84,2,    3.678,6,    1.918,6,    0.000,5,   1.8140,2,    -1.83,2,   -999.0,9,  -999.00,9,   7.651,2,   -999.0,9,   -999.0,9,  -999.0,   10.18,  0.0080,   0.030,   0.000
     316N145_5,  I09S,   127,  1,     31, SIH020,2,19950113,1145,-43.4972, 115.0000, 4435, 1580.2,    153.4,   9.8241,  34.7611,2,  34.7608,2,    265.0,2,  9.8066,    264.2,2,     4.14,2,    12.72,2,     0.02,2,     0.96,2, -999.000,9, -999.000,9, -999.000,5,-999.0000,5,  -999.00,9,   -999.0,9,  -999.00,9,-999.000,9,   -999.0,9,   -999.0,9,  -999.0, -999.00,-999.0000,-999.000,-999.000
     316N145_5,  I09S,   127,  1,     30, SIH017,2,19950113,1145,-43.4972, 115.0000, 4435, 2070.1,    202.7,   9.7119,  34.7636,2,  34.7638,2,    270.1,2,  9.6889,    265.0,2,     4.30,2,    12.87,2,     0.01,2,     0.96,2,    3.611,2,    1.875,2,    0.653,2,   1.7980,2,    -1.38,2,   -999.0,9,  -999.00,9,   7.561,2,   -999.0,9,   -999.0,9,  -999.0,   60.12,  0.0040,   0.059,   0.015
     316N145_5,  I09S,   127,  1,     29, SIH014,2,19950113,1145,-43.4972, 115.0000, 4435, 2588.6,    254.8,   9.6022,  34.7461,2,  34.7484,2,    268.5,2,  9.5733,    267.1,2,     4.30,2,    13.06,2,     0.01,2,     0.98,2, -999.000,9, -999.000,9, -999.000,5,-999.0000,5,  -999.00,9,   -999.0,9,  -999.00,9,-999.000,9,   -999.0,9,   -999.0,9,  -999.0, -999.00,-999.0000,-999.000,-999.000
     316N145_5,  I09S,   127,  1,     28, SIH011,2,19950113,1145,-43.4972, 115.0000, 4435, 3092.7,    305.5,   9.5746,  34.7448,2,  34.7449,2,    263.5,2,  9.5400,    267.6,2,     4.30,2,    13.11,2,     0.01,2,     0.98,2,    3.626,2,    1.876,2,    0.550,2,   1.7800,2,    -1.84,2,   -999.0,9,  -999.00,9,   7.549,2,   -999.0,9,   -999.0,9,  -999.0,   90.18,  0.0070,   0.029,   0.013
     316N145_5,  I09S,   127,  1,     27, SIH008,2,19950113,1145,-43.4972, 115.0000, 4435, 3576.2,    354.1,   9.4579,  34.7248,2,  34.7243,2,    262.3,2,  9.4181,    266.3,2,     4.47,2,    13.48,2,     0.01,2,     1.00,2, -999.000,9, -999.000,9, -999.000,5,-999.0000,5,  -999.00,9,   -999.0,9,  -999.00,9,-999.000,9,   -999.0,9,   -999.0,9,  -999.0, -999.00,-999.0000,-999.000,-999.000
     316N145_5,  I09S,   127,  1,     26, SIH005,2,19950113,1145,-43.4972, 115.0000, 4435, 4135.3,    410.3,   9.3280,  34.7020,2,  34.7020,2,    266.7,2,  9.2821,    265.5,2,     4.62,2,    13.91,2,     0.01,2,     1.03,2,    3.604,2,    1.863,2,    0.000,5,   1.7670,2,    -1.26,2,   -999.0,9,  -999.00,9,   7.429,2,   -999.0,9,   -999.0,9,  -999.0,   90.12,  0.0030,   0.056,   0.000
     316N145_5,  I09S,   127,  1,     25, SIH019,2,19950113,1145,-43.4972, 115.0000, 4435, 4627.9,    459.9,   9.2648,  34.6930,2,  34.6952,2,    266.5,2,  9.2134,    265.8,2,     4.78,2,    14.05,2,     0.01,2,     1.04,2, -999.000,9, -999.000,9, -999.000,5,-999.0000,5,  -999.00,9,   -999.0,9,  -999.00,9,-999.000,9,   -999.0,9,   -999.0,9,  -999.0, -999.00,-999.0000,-999.000,-999.000
     316N145_5,  I09S,   127,  1,     24, SIH037,2,19950113,1145,-43.4972, 115.0000, 4435, 5132.7,    510.6,   9.1071,  34.6636,2,  34.6643,2,    263.5,2,  9.0504,    261.8,2,     5.10,2,    14.85,2,     0.01,2,     1.08,2, -999.000,9, -999.000,9, -999.000,5,-999.0000,5,  -999.00,9,   -999.0,9,  -999.00,9,-999.000,9,   -999.0,9,   -999.0,9,  -999.0, -999.00,-999.0000,-999.000,-999.000
     316N145_5,  I09S,   127,  1,     23, SIH033,2,19950113,1145,-43.4972, 115.0000, 4435, 6132.1,    611.1,   8.5827,  34.5808,2,  34.5785,2,    256.7,2,  8.5169,    260.3,2,     6.06,2,    16.55,2,     0.00,2,     1.19,2,    3.428,2,    1.756,2,    0.487,2,   1.7750,2,    -1.22,2,   -999.0,9,  -999.00,9,   7.541,2,   -999.0,9,   -999.0,9,  -999.0,   80.18,  0.0070,   0.029,   0.013
     316N145_5,  I09S,   127,  1,     22, SIH031,2,19950113,1145,-43.4972, 115.0000, 4435, 7133.2,    711.8,   7.8483,  34.4836,2,  34.4832,2,    246.7,2,  7.7752,    248.8,2,     8.30,2,    19.34,2,     0.00,2,     1.36,2, -999.000,9, -999.000,9, -999.000,5,-999.0000,5,  -999.00,9,   -999.0,9,  -999.00,9,-999.000,9,   -999.0,9,   -999.0,9,  -999.0, -999.00,-999.0000,-999.000,-999.000
     316N145_5,  I09S,   127,  1,     21, SIH030,2,19950113,1145,-43.4972, 115.0000, 4435, 8122.8,    811.3,   7.0562,  34.4577,2,  34.4579,2,    210.9,2,  6.9771,    210.0,2,    15.00,2,    24.37,2,     0.00,2,     1.66,2,    1.751,2,    0.871,2,    0.294,2,   1.7180,4,     1.24,2,   -999.0,9,  -999.00,9,   7.345,4,   -999.0,9,   -999.0,9,  -999.0,    0.12,  0.0030,   0.059,   0.010
     316N145_5,  I09S,   127,  1,     20, SIH028,2,19950113,1145,-43.4972, 115.0000, 4435, 9110.8,    910.7,   5.9880,  34.4087,2,  34.4088,2,    200.7,2,  5.9061,    200.5,2,    22.03,2,    27.48,2,     0.00,2,     1.87,2, -999.000,9, -999.000,9, -999.000,5,-999.0000,5,  -999.00,9,   -999.0,9,  -999.00,9,-999.000,9,   -999.0,9,   -999.0,9,  -999.0, -999.00,-999.0000,-999.000,-999.000
     316N145_5,  I09S,   127,  1,     19, SIH027,2,19950113,1145,-43.4972, 115.0000, 4435,10119.8,   1012.2,   4.8199,  34.3357,2,  34.3325,2,    213.2,2,  4.7371,    214.6,2,    26.33,2,    28.85,2,     0.00,2,     1.97,2,    1.670,2,    0.806,2,    0.049,4,   1.8290,2,     2.01,2,   -999.0,9,  -999.00,9,   7.914,2,   -999.0,9,   -999.0,9,  -999.0,    0.16,  0.0040,   0.026,   0.005
     316N145_5,  I09S,   127,  1,     18, SIH003,2,19950113,1145,-43.4972, 115.0000, 4435,11117.0,   1112.5,   4.1037,  34.3250,2,  34.3250,2,    208.6,2,  4.0180,    212.3,2,    33.04,2,    30.41,2,     0.00,2,     2.07,2, -999.000,9, -999.000,9, -999.000,5,-999.0000,5,  -999.00,9,   -999.0,9,  -999.00,9,-999.000,9,   -999.0,9,   -999.0,9,  -999.0, -999.00,-999.0000,-999.000,-999.000
     316N145_5,  I09S,   127,  1,     17, SIH024,2,19950113,1145,-43.4972, 115.0000, 4435,12104.9,   1211.9,   3.6254,  34.3387,2,  34.3403,2,    205.2,2,  3.5355,    207.3,2,    39.74,2,    31.58,2,     0.00,2,     2.15,2,    1.303,2,    0.620,2,    0.191,2,   1.8060,2,     3.38,2,   -999.0,9,  -999.00,9,   7.812,2,   -999.0,9,   -999.0,9,  -999.0,    0.17,  0.0070,   0.031,   0.011
     316N145_5,  I09S,   127,  1,     16, SIH022,2,19950113,1145,-43.4972, 115.0000, 4435,14116.4,   1414.2,   3.0529,  34.4170,2,  34.4173,2,    187.3,2,  2.9519,    189.0,2,    54.43,2,    33.33,2,     0.00,2,     2.27,2,    0.739,2,    0.358,2,    0.031,2,   1.8850,2,     5.53,2,   -999.0,9,  -999.00,9,   8.146,2,   -999.0,9,   -999.0,9,  -999.0,    0.16,  0.0040,   0.026,   0.006
     316N145_5,  I09S,   127,  1,     15, SIH021,2,19950113,1145,-43.4972, 115.0000, 4435,16148.0,   1618.5,   2.7622,  34.5178,2,  34.5180,2,    176.5,2,  2.6474,    176.6,2,    65.76,2,    33.74,2,     0.00,2,     2.29,2, -999.000,9, -999.000,9,    0.053,2,   1.8500,2,     7.75,2,   -999.0,9,  -999.00,9,   7.937,2,   -999.0,9,   -999.0,9,  -999.0,    0.17,  0.0080,   0.031,   0.007
     316N145_5,  I09S,   127,  1,     14, SIH002,2,19950113,1145,-43.4972, 115.0000, 4435,18133.4,   1818.2,   2.5905,  34.6058,2,  34.6052,2,    173.7,2,  2.4609,    175.3,2,    71.99,2,    32.94,2,     0.00,2,     2.24,2,    0.186,2,    0.089,2,    0.042,2,   1.8890,2,     8.46,2,   -999.0,9,  -999.00,9,   8.154,2,   -999.0,9,   -999.0,9,  -999.0,    0.16,  0.0040,   0.026,   0.005
     316N145_5,  I09S,   127,  1,     13, SIH018,2,19950113,1145,-43.4972, 115.0000, 4435,20134.9,   2019.6,   2.4652,  34.6727,2,  34.6734,2,    176.0,2,  2.3198,    177.3,2,    77.10,2,    32.05,2,     0.00,2,     2.18,2,    0.084,2,    0.046,2,    0.004,2,   1.8210,2,     9.21,2,   -999.0,9,  -999.00,9,   7.956,2,   -999.0,9,   -999.0,9,  -999.0,    0.17,  0.0080,   0.031,   0.005
     316N145_5,  I09S,   127,  1,     12, SIH016,2,19950113,1145,-43.4972, 115.0000, 4435,22143.6,   2221.6,   2.3462,  34.7131,2,  34.7136,2,    180.2,2,  2.1848,    180.4,2,    82.21,2,    31.43,2,     0.00,2,     2.14,2, -999.000,9, -999.000,9, -999.000,5,-999.0000,5,  -999.00,9,   -999.0,9,  -999.00,9,-999.000,9,   -999.0,9,   -999.0,9,  -999.0, -999.00,-999.0000,-999.000,-999.000
     316N145_5,  I09S,   127,  1,     11, SIH015,2,19950113,1145,-43.4972, 115.0000, 4435,24209.3,   2429.4,   2.1887,  34.7404,2,  34.7394,2,    186.2,2,  2.0110,    189.9,2,    83.01,2,    30.40,2,     0.00,2,     2.06,2,    0.034,2,    0.019,2,    0.088,4,   1.9040,2,     9.43,2,   -999.0,9,  -999.00,9,   8.178,2,   -999.0,9,   -999.0,9,  -999.0,    0.16,  0.0040,   0.026,   0.007
     316N145_5,  I09S,   127,  1,     10, SIH013,2,19950113,1145,-43.4972, 115.0000, 4435,27328.5,   2743.1,   1.8938,  34.7505,2,  34.7504,2,    192.3,2,  1.6926,    195.5,2,    91.33,2,    30.16,2,     0.00,2,     2.05,2,    0.026,2,    0.017,2,    0.020,3,   1.8570,2,     9.98,2,   -999.0,9,  -999.00,9,   7.985,2,   -999.0,9,   -999.0,9,  -999.0,    0.17,  0.0080,   0.031,   0.006
     316N145_5,  I09S,   127,  1,      9, SIH012,2,19950113,1145,-43.4972, 115.0000, 4435,30344.4,   3046.5,   1.5666,  34.7419,2,  34.7400,2,    197.0,2,  1.3435,    199.7,2,   101.55,2,    30.68,2,     0.00,2,     2.08,2,    0.024,2,    0.018,2,   -0.003,4,   1.9020,2,    10.63,2,   -999.0,9,  -999.00,9,   8.210,2,   -999.0,9,   -999.0,9,  -999.0,   60.16,  0.0040,   0.027,   0.007
     316N145_5,  I09S,   127,  1,      8, SIH010,2,19950113,1145,-43.4972, 115.0000, 4435,33375.4,   3351.4,   1.2682,  34.7293,2,  34.7288,2,    200.2,2,  1.0224,    203.3,2,   110.69,2,    31.15,2,     0.00,2,     2.11,2,    0.031,2,    0.017,2,    0.014,3,   1.8860,2,    10.67,2,   -999.0,9,  -999.00,9,   8.192,2,   -999.0,9,   -999.0,9,  -999.0,   90.17,  0.0080,   0.032,   0.006
     316N145_5,  I09S,   127,  1,      7, SIH009,2,19950113,1145,-43.4972, 115.0000, 4435,35426.6,   3557.7,   1.0858,  34.7197,2,  34.7239,3,    203.0,2,  0.8240,    205.9,2,   116.44,2,    31.50,2,     0.00,2,     2.13,2,    0.043,2,    0.027,2,    0.013,3,   1.9020,2,    11.05,2,   -999.0,9,  -999.00,9,   8.159,2,   -999.0,9,   -999.0,9,  -999.0,   60.16,  0.0040,   0.027,   0.008
     316N145_5,  I09S,   127,  1,      6, SIH038,2,19950113,1145,-43.4972, 115.0000, 4435,37481.0,   3764.4,   0.9910,  34.7144,2,  34.7134,2,    204.5,2,  0.7108,    207.2,2,   119.63,2,    31.67,2,     0.00,2,     2.14,2, -999.000,9, -999.000,9, -999.000,5,-999.0000,5,  -999.00,9,   -999.0,9,  -999.00,9,-999.000,9,   -999.0,9,   -999.0,9,  -999.0, -999.00,-999.0000,-999.000,-999.000
     316N145_5,  I09S,   127,  1,      5, SIH006,2,19950113,1145,-43.4972, 115.0000, 4435,39521.2,   3969.6,   0.9111,  34.7105,3,  34.7091,2,    206.8,3,  0.6118,    208.8,2,   121.55,2,    31.77,2,     0.00,2,     2.16,2,    0.074,2,    0.038,2,    0.139,4,   1.8890,2,    11.14,2,   -999.0,9,  -999.00,9,   8.126,2,   -999.0,9,   -999.0,9,  -999.0,   30.17,  0.0080,   0.032,   0.005
     316N145_5,  I09S,   127,  1,      4, SIH004,2,19950113,1145,-43.4972, 115.0000, 4435,41541.1,   4172.8,   0.8630,  34.7077,2,  34.7068,2,    209.0,2,  0.5435,    209.7,2,   123.39,2,    31.90,2,     0.00,2,     2.16,2,    0.084,2,    0.051,2,    0.054,4,   1.9560,3,    10.85,2,   -999.0,9,  -999.00,9,   8.443,3,   -999.0,9,   -999.0,9,  -999.0,   80.16,  0.0040,   0.027,   0.005
     316N145_5,  I09S,   127,  1,      3, SIH025,2,19950113,1145,-43.4972, 115.0000, 4435,43578.6,   4377.7,   0.8473,  34.7063,2,  34.7070,2,    210.6,2,  0.5061,    209.9,2,   124.12,2,    31.91,2,     0.00,2,     2.17,2, -999.000,9, -999.000,9,    0.011,3,   1.8950,2,    10.77,2,   -999.0,9,  -999.00,9,   8.231,2,   -999.0,9,   -999.0,9,  -999.0,   40.17,  0.0080,   0.032,   0.007
     316N145_5,  I09S,   127,  1,      2, SIH001,2,19950113,1145,-43.4972, 115.0000, 4435,44594.5,   4479.9,   0.8576,  34.7059,2,  34.7062,2,    212.0,2,  0.5047,    210.3,2,   124.13,2,    31.91,2,     0.00,2,     2.17,2,    0.072,2,    0.040,2,    0.024,3,   1.9440,3,    10.81,2,   -999.0,9,  -999.00,9,   8.387,3,   -999.0,9,   -999.0,9,  -999.0,   60.16,  0.0040,   0.027,   0.006
     316N145_5,  I09S,   127,  1,      1, SIH036,2,19950113,1145,-43.4972, 115.0000, 4435,45104.5,   4531.2,   0.8634,  34.7060,2,  34.7030,2,    212.5,2,  0.5046,    211.3,2,   124.13,2,    32.00,2,     0.00,2,     2.17,2,    0.077,2,    0.036,2,    0.226,4,   1.8890,2,    10.66,2,   -999.0,9,  -999.00,9,   8.224,2,   -999.0,9,   -999.0,9,  -999.0,   30.17,  0.0080,   0.032,   0.007