BOTTLE,20090521WHPSIOdm
EXPOCODE,SECT_ID,STNNBR,CASTNO,SAMPNO,BTLNBR,BTLNBR_FLAG_W,DATE,TIME,LATITUDE,LONGITUDE,DEPTH,CTDRAW,CTDPRS,CTDTMP,CTDSAL,CTDSAL_FLAG_W,SALNTY,SALNTY_FLAG_W,CTDOXY,CTDOXY_FLAG_W,THETA,OXYGEN,OXYGEN_FLAG_W,SILCAT,SILCAT_FLAG_W,NITRAT,NITRAT_FLAG_W,NITRIT,NITRIT_FLAG_W,PHSPHT,PHSPHT_FLAG_W,CFC-11,CFC-11_FLAG_W,CFC-12,CFC-12_FLAG_W,TRITUM,TRITUM_FLAG_W,HELIUM,HELIUM_FLAG_W,DELHE3,DELHE3_FLAG_W,DELC14,DELC14_FLAG_W,DELC13,DELC13_FLAG_W,NEON,NEON_FLAG_W,TCARBN,TCARBN_FLAG_W,ALKALI,ALKALI_FLAG_W,C14ERR,DELHER,HELIER,NEONER,TRITER
,,,,,,,,,,,,,DBAR,IPTS-68,PSS-78,,PSS-78,,UMOL/KG,,IPTS-68,UMOL/KG,,UMOL/KG,,UMOL/KG,,UMOL/KG,,UMOL/KG,,PMOL/KG,,PMOL/KG,,TU,,NMOL/KG,,PERCNT,,/MILLE,,/MILLE,,NMOL/KG,,UMOL/KG,,UMOL/KG,,/MILLE,PERCNT,NMOL/KG,NMOL/KG,TU
     316N145_5,  I08S,    60,  1,     36, SIH035,2,19941222,1828,-55.2083,  85.1888, 4650,  149.3,      9.7,   1.7599,  33.9827,2,  33.9863,2,    338.7,2,  1.7594,    335.1,2,    15.06,2,    24.32,2,     0.21,2,     1.60,2,    6.031,2,    2.979,2, -999.000,5,-999.0000,5,  -999.00,9,   -999.0,9,  -999.00,9,-999.000,9,   2141.5,6,   2301.8,2,  -999.0, -999.00,-999.0000,-999.000,-999.000
     316N145_5,  I08S,    60,  1,     35, SIH032,2,19941222,1828,-55.2083,  85.1888, 4650,  362.1,     31.1,   1.7624,  33.9798,2,  33.9871,2,    340.1,2,  1.7609,    335.0,2,    15.05,2,    24.27,2,     0.21,2,     1.61,2, -999.000,9, -999.000,9, -999.000,5,-999.0000,5,  -999.00,9,   -999.0,9,  -999.00,9,-999.000,9,   2142.4,2,   2290.3,2,  -999.0, -999.00,-999.0000,-999.000,-999.000
     316N145_5,  I08S,    60,  1,     34, SIH029,2,19941222,1828,-55.2083,  85.1888, 4650,  600.2,     55.1,   1.7152,  33.9850,2,  33.9869,2,    332.0,2,  1.7125,    334.3,2,    15.54,2,    24.43,2,     0.21,2,     1.61,2,    6.082,2,    3.010,2, -999.000,5,-999.0000,5,  -999.00,9,   -999.0,9,  -999.00,9,-999.000,9,   2144.6,2,   2295.1,2,  -999.0, -999.00,-999.0000,-999.000,-999.000
     316N145_5,  I08S,    60,  1,     33, SIH026,2,19941222,1828,-55.2083,  85.1888, 4650,  846.6,     79.9,   1.1471,  34.0442,2,  34.0460,2,    331.4,2,  1.1436,    324.7,2,    30.46,2,    27.06,2,     0.21,2,     1.90,2, -999.000,9, -999.000,9, -999.000,5,-999.0000,5,  -999.00,9,   -999.0,9,  -999.00,9,-999.000,9,   2164.1,2,   2301.8,2,  -999.0, -999.00,-999.0000,-999.000,-999.000
     316N145_5,  I08S,    60,  1,     32, SIH023,2,19941222,1828,-55.2083,  85.1888, 4650, 1104.4,    105.8,   0.9095,  34.0655,2,  34.0703,2,    336.1,2,  0.9049,    323.5,2,    36.92,2,    28.03,2,     0.21,2,     1.95,2,    6.001,2,    2.971,2, -999.000,5,-999.0000,5,  -999.00,9,   -999.0,9,  -999.00,9,-999.000,9,   2173.6,2,   2295.0,2,  -999.0, -999.00,-999.0000,-999.000,-999.000
     316N145_5,  I08S,    60,  1,     31, SIH020,2,19941222,1828,-55.2083,  85.1888, 4650, 1597.8,    155.4,   1.0640,  34.1473,2,  34.1493,2,    287.6,2,  1.0571,    280.5,2,    43.88,2,    30.93,2,     0.15,2,     2.17,2, -999.000,9, -999.000,9, -999.000,5,-999.0000,5,  -999.00,9,   -999.0,9,  -999.00,9,-999.000,9,   2194.7,2,   -999.0,9,  -999.0, -999.00,-999.0000,-999.000,-999.000
     316N145_5,  I08S,    60,  1,     30, SIH017,2,19941222,1828,-55.2083,  85.1888, 4650, 2104.8,    206.4,   1.1517,  34.2259,2,  34.2283,2,    262.7,2,  1.1422,    259.2,2,    51.83,2,    32.28,2,     0.14,2,     2.25,2,    3.877,2,    1.908,2, -999.000,5,-999.0000,5,  -999.00,9,   -999.0,9,  -999.00,9,-999.000,9,   2209.9,2,   2317.8,2,  -999.0, -999.00,-999.0000,-999.000,-999.000
     316N145_5,  I08S,    60,  1,     29, SIH014,2,19941222,1828,-55.2083,  85.1888, 4650, 2610.1,    257.3,   1.8216,  34.3674,2,  34.3698,2,    210.5,2,  1.8082,    211.1,2,    61.28,2,    34.11,2,     0.03,2,     2.37,2, -999.000,9, -999.000,9, -999.000,5,-999.0000,5,  -999.00,9,   -999.0,9,  -999.00,9,-999.000,9,   2230.8,2,   2313.8,2,  -999.0, -999.00,-999.0000,-999.000,-999.000
     316N145_5,  I08S,    60,  1,     28, SIH011,2,19941222,1828,-55.2083,  85.1888, 4650, 3098.7,    306.4,   1.5637,  34.4007,2,  34.4065,2,    212.5,2,  1.5482,    214.2,2,    65.59,2,    34.03,2,     0.06,2,     2.36,2,    2.285,2,    1.098,2, -999.000,5,-999.0000,5,  -999.00,9,   -999.0,9,  -999.00,9,-999.000,9,   2235.0,2,   2321.8,2,  -999.0, -999.00,-999.0000,-999.000,-999.000
     316N145_5,  I08S,    60,  1,     27, SIH008,2,19941222,1828,-55.2083,  85.1888, 4650, 3599.0,    356.7,   1.8651,  34.4772,2,  34.4787,2,    191.9,2,  1.8460,    197.6,2,    70.38,2,    34.39,2,     0.02,2,     2.39,2,    1.392,2,    0.676,2, -999.000,5,-999.0000,5,  -999.00,9,   -999.0,9,  -999.00,9,-999.000,9,   2244.1,2,   2335.2,3,  -999.0, -999.00,-999.0000,-999.000,-999.000
     316N145_5,  I08S,    60,  1,     26, SIH005,2,19941222,1828,-55.2083,  85.1888, 4650, 4122.1,    409.4,   2.0268,  34.5237,2,  34.5233,2,    182.4,2,  2.0041,    185.0,2,    72.70,2,    34.29,2,     0.02,2,     2.38,2,    0.989,2,    0.484,2, -999.000,5,-999.0000,5,  -999.00,9,   -999.0,9,  -999.00,9,-999.000,9,   2246.5,2,   2317.5,2,  -999.0, -999.00,-999.0000,-999.000,-999.000
     316N145_5,  I08S,    60,  1,     25, SIH019,2,19941222,1828,-55.2083,  85.1888, 4650, 4581.0,    455.5,   2.1413,  34.5745,2,  34.5755,2,    178.1,2,  2.1154,    178.8,2,    74.85,2,    33.93,2,     0.01,2,     2.35,2,    0.627,2,    0.308,2, -999.000,5,-999.0000,5,  -999.00,9,   -999.0,9,  -999.00,9,-999.000,9,   2250.3,2,   2336.0,2,  -999.0, -999.00,-999.0000,-999.000,-999.000
     316N145_5,  I08S,    60,  1,     24, SIH037,2,19941222,1828,-55.2083,  85.1888, 4650, 5099.4,    507.7,   2.1419,  34.6144,2,  34.6152,2,    175.5,2,  2.1128,    177.6,2,    77.00,2,    33.45,2,     0.01,2,     2.31,2,    0.465,2,    0.231,2, -999.000,5,-999.0000,5,  -999.00,9,   -999.0,9,  -999.00,9,-999.000,9,   2252.4,2,   2343.1,3,  -999.0, -999.00,-999.0000,-999.000,-999.000
     316N145_5,  I08S,    60,  1,     23, SIH033,2,19941222,1828,-55.2083,  85.1888, 4650, 6102.6,    608.6,   2.1422,  34.6668,2,  34.6659,2,    177.1,2,  2.1068,    179.9,2,    78.81,2,    32.54,2,     0.01,2,     2.25,2,    0.291,2,    0.137,2, -999.000,5,-999.0000,5,  -999.00,9,   -999.0,9,  -999.00,9,-999.000,9,   2250.3,2,   2340.9,2,  -999.0, -999.00,-999.0000,-999.000,-999.000
     316N145_5,  I08S,    60,  1,     22, SIH031,2,19941222,1828,-55.2083,  85.1888, 4650, 7115.5,    710.4,   2.0423,  34.7028,2,  34.7038,2,    181.9,2,  2.0009,    184.9,2,    81.29,2,    31.64,2,     0.00,2,     2.19,2, -999.000,9, -999.000,9, -999.000,5,-999.0000,5,  -999.00,9,   -999.0,9,  -999.00,9,-999.000,9,   2248.5,2,   2335.8,2,  -999.0, -999.00,-999.0000,-999.000,-999.000
     316N145_5,  I08S,    60,  1,     21, SIH030,2,19941222,1828,-55.2083,  85.1888, 4650, 8100.6,    809.5,   1.9618,  34.7164,2,  34.7164,2,    184.9,2,  1.9145,    187.8,2,    82.94,2,    31.32,2,     0.00,2,     2.17,2,    0.255,2,    0.119,2, -999.000,5,-999.0000,5,  -999.00,9,   -999.0,9,  -999.00,9,-999.000,9,   2247.4,2,   2344.5,2,  -999.0, -999.00,-999.0000,-999.000,-999.000
     316N145_5,  I08S,    60,  1,     20, SIH028,2,19941222,1828,-55.2083,  85.1888, 4650, 9118.3,    911.9,   1.8269,  34.7235,2,  34.7229,2,    189.4,2,  1.7738,    190.7,2,    85.92,2,    31.22,2,     0.00,2,     2.16,2, -999.000,9, -999.000,9, -999.000,5,-999.0000,5,  -999.00,9,   -999.0,9,  -999.00,9,-999.000,9,   2248.7,2,   2345.3,2,  -999.0, -999.00,-999.0000,-999.000,-999.000
     316N145_5,  I08S,    60,  1,     19, SIH027,2,19941222,1828,-55.2083,  85.1888, 4650,10133.9,   1014.0,   1.7953,  34.7367,2,  34.7374,2,    190.7,2,  1.7355,    193.8,2,    87.42,2,    30.74,2,     0.00,2,     2.13,2,    0.172,2,    0.083,2, -999.000,5,-999.0000,5,  -999.00,9,   -999.0,9,  -999.00,9,-999.000,9,   2246.9,2,   2344.9,2,  -999.0, -999.00,-999.0000,-999.000,-999.000
     316N145_5,  I08S,    60,  1,     18, SIH003,2,19941222,1828,-55.2083,  85.1888, 4650,11163.9,   1117.7,   1.7066,  34.7416,2,  34.7418,2,    194.8,2,  1.6406,    196.2,2,    89.90,2,    30.58,2,     0.00,2,     2.12,2,    0.181,3,    0.072,2, -999.000,5,-999.0000,5,  -999.00,9,   -999.0,9,  -999.00,9,-999.000,9,   2247.6,6,   2348.2,2,  -999.0, -999.00,-999.0000,-999.000,-999.000
     316N145_5,  I08S,    60,  1,     17, SIH024,2,19941222,1828,-55.2083,  85.1888, 4650,12179.0,   1219.8,   1.6264,  34.7420,2,  34.7429,2,    194.9,2,  1.5541,    198.1,2,    91.88,2,    30.58,2,     0.00,2,     2.11,2, -999.000,9, -999.000,9, -999.000,5,-999.0000,5,  -999.00,9,   -999.0,9,  -999.00,9,-999.000,9,   2247.1,2,   2348.8,2,  -999.0, -999.00,-999.0000,-999.000,-999.000
     316N145_5,  I08S,    60,  1,     16, SIH022,2,19941222,1828,-55.2083,  85.1888, 4650,14131.3,   1416.1,   1.4740,  34.7370,2,  34.7433,2,    197.1,2,  1.3894,    201.3,2,    97.02,2,    30.53,2,     0.00,2,     2.11,2, -999.000,9, -999.000,9, -999.000,5,-999.0000,5,  -999.00,9,   -999.0,9,  -999.00,9,-999.000,9,   2247.9,2,   2346.4,2,  -999.0, -999.00,-999.0000,-999.000,-999.000
     316N145_5,  I08S,    60,  1,     15, SIH021,2,19941222,1828,-55.2083,  85.1888, 4650,16160.4,   1620.2,   1.2578,  34.7345,2,  34.7339,2,    200.4,2,  1.1611,    203.0,2,   103.33,2,    30.86,2,     0.00,2,     2.14,2, -999.000,9, -999.000,9, -999.000,5,-999.0000,5,  -999.00,9,   -999.0,9,  -999.00,9,-999.000,9,   2249.5,2,   2353.8,2,  -999.0, -999.00,-999.0000,-999.000,-999.000
     316N145_5,  I08S,    60,  1,     14, SIH002,2,19941222,1828,-55.2083,  85.1888, 4650,18189.9,   1824.4,   1.1271,  34.7276,2,  34.7272,2,    201.5,2,  1.0172,    204.8,2,   107.14,2,    31.08,2,     0.00,2,     2.16,2,    0.075,2,    0.050,2, -999.000,5,-999.0000,5,  -999.00,9,   -999.0,9,  -999.00,9,-999.000,9,   2251.4,2,   2354.6,2,  -999.0, -999.00,-999.0000,-999.000,-999.000
     316N145_5,  I08S,    60,  1,     13, SIH018,2,19941222,1828,-55.2083,  85.1888, 4650,20269.6,   2033.6,   0.9958,  34.7206,2,  34.7205,2,    202.3,2,  0.8718,    206.1,2,   111.45,2,    31.40,2,     0.00,2,     2.17,2, -999.000,9, -999.000,9, -999.000,5,-999.0000,5,  -999.00,9,   -999.0,9,  -999.00,9,-999.000,9,   2252.9,2,   2348.6,2,  -999.0, -999.00,-999.0000,-999.000,-999.000
     316N145_5,  I08S,    60,  1,     12, SIH016,2,19941222,1828,-55.2083,  85.1888, 4650,22262.2,   2234.0,   0.8964,  34.7135,2,  34.7140,2,    202.7,2,  0.7583,    206.8,2,   114.11,2,    31.62,2,     0.00,2,     2.20,2,    0.096,2,    0.040,2, -999.000,5,-999.0000,5,  -999.00,9,   -999.0,9,  -999.00,9,-999.000,9,   2255.6,2,   2357.0,2,  -999.0, -999.00,-999.0000,-999.000,-999.000
     316N145_5,  I08S,    60,  1,     11, SIH015,2,19941222,1828,-55.2083,  85.1888, 4650,24339.6,   2443.0,   0.7385,  34.7048,2,  34.7058,2,    206.0,2,  0.5864,    209.2,2,   118.42,2,    31.89,2,     0.00,2,     2.22,2, -999.000,9, -999.000,9, -999.000,5,-999.0000,5,  -999.00,9,   -999.0,9,  -999.00,9,-999.000,9,   2256.3,2,   2356.2,2,  -999.0, -999.00,-999.0000,-999.000,-999.000
     316N145_5,  I08S,    60,  1,     10, SIH013,2,19941222,1828,-55.2083,  85.1888, 4650,27346.5,   2745.4,   0.5716,  34.6964,2,  34.6960,2,    208.3,2,  0.3975,    212.1,2,   122.23,2,    32.27,2,     0.00,2,     2.24,2,    0.154,2,    0.077,2, -999.000,5,-999.0000,5,  -999.00,9,   -999.0,9,  -999.00,9,-999.000,9,   2257.1,2,   2348.8,2,  -999.0, -999.00,-999.0000,-999.000,-999.000
     316N145_5,  I08S,    60,  1,      9, SIH012,2,19941222,1828,-55.2083,  85.1888, 4650,30394.0,   3052.0,   0.3596,  34.6867,2,  34.6916,3,    211.4,2,  0.1634,    216.5,2,   125.72,2,    32.44,2,     0.00,2,     2.25,2, -999.000,9, -999.000,9, -999.000,5,-999.0000,5,  -999.00,9,   -999.0,9,  -999.00,9,-999.000,9,   2257.0,2,   2356.6,2,  -999.0, -999.00,-999.0000,-999.000,-999.000
     316N145_5,  I08S,    60,  1,      8, SIH010,2,19941222,1828,-55.2083,  85.1888, 4650,33440.6,   3358.4,   0.2106,  34.6813,2,  34.6802,2,    218.7,2, -0.0096,    221.9,2,   127.04,2,    31.37,2,  -999.00,9,     2.26,2,    0.353,2,    0.172,2, -999.000,5,-999.0000,5,  -999.00,9,   -999.0,9,  -999.00,9,-999.000,9,   2257.4,2,   2354.6,2,  -999.0, -999.00,-999.0000,-999.000,-999.000
     316N145_5,  I08S,    60,  1,      7, SIH009,2,19941222,1828,-55.2083,  85.1888, 4650,36505.0,   3666.7,   0.0729,  34.6771,2,  34.6765,2,    223.9,2, -0.1728,    227.6,2,   127.21,2,    32.28,2,     0.00,2,     2.24,2, -999.000,9, -999.000,9, -999.000,5,-999.0000,5,  -999.00,9,   -999.0,9,  -999.00,9,-999.000,9,   2253.9,2,   2342.4,3,  -999.0, -999.00,-999.0000,-999.000,-999.000
     316N145_5,  I08S,    60,  1,      6, SIH038,2,19941222,1828,-55.2083,  85.1888, 4650,39661.5,   3984.2,   0.0667,  34.6769,2,  34.6743,2,    225.7,2, -0.2098,    228.7,2,   128.03,2,    32.34,2,     0.00,2,     2.25,2, -999.000,9, -999.000,9, -999.000,5,-999.0000,5,  -999.00,9,   -999.0,9,  -999.00,9,-999.000,9,   -999.0,9,   2354.1,2,  -999.0, -999.00,-999.0000,-999.000,-999.000
     316N145_5,  I08S,    60,  1,      5, SIH006,2,19941222,1828,-55.2083,  85.1888, 4650,41665.3,   4185.7,   0.0368,  34.6748,2,  34.6743,2,    229.2,2, -0.2593,    229.8,2,   127.87,2,    32.25,2,     0.00,2,     2.25,2, -999.000,9, -999.000,9, -999.000,5,-999.0000,5,  -999.00,9,   -999.0,9,  -999.00,9,-999.000,9,   2254.3,2,   2351.7,2,  -999.0, -999.00,-999.0000,-999.000,-999.000
     316N145_5,  I08S,    60,  1,      4, SIH004,2,19941222,1828,-55.2083,  85.1888, 4650,43694.1,   4389.8,   0.0218,  34.6743,2,  34.6734,2,    230.3,2, -0.2950,    231.6,2,   127.70,2,    32.25,2,     0.00,2,     2.25,2,    0.773,2,    0.384,2, -999.000,5,-999.0000,5,  -999.00,9,   -999.0,9,  -999.00,9,-999.000,9,   2253.0,2,   2339.7,3,  -999.0, -999.00,-999.0000,-999.000,-999.000
     316N145_5,  I08S,    60,  1,      3, SIH025,2,19941222,1828,-55.2083,  85.1888, 4650,45708.3,   4592.4,   0.0076,  34.6738,2,  34.6724,2,    233.0,2, -0.3305,    232.8,2,   128.36,2,    32.30,2,     0.00,2,     2.25,2,    0.876,2,    0.424,2, -999.000,5,-999.0000,5,  -999.00,9,   -999.0,9,  -999.00,9,-999.000,9,   2255.0,2,   2356.9,2,  -999.0, -999.00,-999.0000,-999.000,-999.000
     316N145_5,  I08S,    60,  1,      2, SIH001,2,19941222,1828,-55.2083,  85.1888, 4650,46692.9,   4691.5,  -0.0144,  34.6727,2,  34.6702,2,    235.1,2, -0.3625,    233.3,2,   127.86,2,    32.26,2,     0.00,2,     2.24,2,    0.951,2,    0.460,2, -999.000,5,-999.0000,5,  -999.00,9,   -999.0,9,  -999.00,9,-999.000,9,   2254.4,2,   2352.8,2,  -999.0, -999.00,-999.0000,-999.000,-999.000
     316N145_5,  I08S,    60,  1,      1, SIH036,2,19941222,1828,-55.2083,  85.1888, 4650,47235.6,   4746.0,  -0.0170,  34.6717,2,  34.6698,2,    235.9,2, -0.3710,    233.6,2,   127.79,2,    32.22,2,     0.00,2,     2.24,2,    0.998,2,    0.483,2, -999.000,5,-999.0000,5,  -999.00,9,   -999.0,9,  -999.00,9,-999.000,9,   2253.5,2,   2338.0,3,  -999.0, -999.00,-999.0000,-999.000,-999.000