BOTTLE,20090521WHPSIOdm
EXPOCODE,SECT_ID,STNNBR,CASTNO,SAMPNO,BTLNBR,BTLNBR_FLAG_W,DATE,TIME,LATITUDE,LONGITUDE,DEPTH,CTDRAW,CTDPRS,CTDTMP,CTDSAL,CTDSAL_FLAG_W,SALNTY,SALNTY_FLAG_W,CTDOXY,CTDOXY_FLAG_W,THETA,OXYGEN,OXYGEN_FLAG_W,SILCAT,SILCAT_FLAG_W,NITRAT,NITRAT_FLAG_W,NITRIT,NITRIT_FLAG_W,PHSPHT,PHSPHT_FLAG_W,CFC-11,CFC-11_FLAG_W,CFC-12,CFC-12_FLAG_W,TRITUM,TRITUM_FLAG_W,HELIUM,HELIUM_FLAG_W,DELHE3,DELHE3_FLAG_W,DELC14,DELC14_FLAG_W,DELC13,DELC13_FLAG_W,NEON,NEON_FLAG_W,TCARBN,TCARBN_FLAG_W,ALKALI,ALKALI_FLAG_W,C14ERR,DELHER,HELIER,NEONER,TRITER
,,,,,,,,,,,,,DBAR,IPTS-68,PSS-78,,PSS-78,,UMOL/KG,,IPTS-68,UMOL/KG,,UMOL/KG,,UMOL/KG,,UMOL/KG,,UMOL/KG,,PMOL/KG,,PMOL/KG,,TU,,NMOL/KG,,PERCNT,,/MILLE,,/MILLE,,NMOL/KG,,UMOL/KG,,UMOL/KG,,/MILLE,PERCNT,NMOL/KG,NMOL/KG,TU
     316N145_5,  I08S,    46,  1,     36, SIH035,2,19941217,2118,-49.6972,  90.8167, 3870, 1173.1,    113.2,   4.7998,  33.9960,2,  33.9955,2,    311.3,3,  4.7914,    308.0,2,     3.33,2,    20.69,2,     0.24,2,     1.56,2,    5.133,2,    2.496,2, -999.000,5,-999.0000,5,  -999.00,9,   -999.0,9,  -999.00,9,-999.000,9,   2114.6,6,   2278.5,2,  -999.0, -999.00,-999.0000,-999.000,-999.000
     316N145_5,  I08S,    46,  1,     35, SIH032,2,19941217,2118,-49.6972,  90.8167, 3870, 1406.1,    136.6,   4.0647,  33.9509,2,  33.9526,2,    302.1,3,  4.0553,    304.5,2,     8.83,2,    23.09,2,     0.24,2,     1.76,2,    5.301,2,    2.577,2, -999.000,5,-999.0000,5,  -999.00,9,   -999.0,9,  -999.00,9,-999.000,9,   2131.7,2,   2285.8,2,  -999.0, -999.00,-999.0000,-999.000,-999.000
     316N145_5,  I08S,    46,  1,     34, SIH029,2,19941217,2118,-49.6972,  90.8167, 3870, 1681.6,    164.3,   4.1865,  34.0234,2,  34.0164,2,    297.1,3,  4.1750,    298.7,2,    11.10,2,    24.01,2,     0.22,2,     1.72,2, -999.000,9, -999.000,9, -999.000,5,-999.0000,5,  -999.00,9,   -999.0,9,  -999.00,9,-999.000,9,   2132.6,2,   2278.4,2,  -999.0, -999.00,-999.0000,-999.000,-999.000
     316N145_5,  I08S,    46,  1,     33, SIH026,2,19941217,2118,-49.6972,  90.8167, 3870, 2166.1,    213.1,   5.2086,  34.2058,2,  34.2136,2,    283.6,3,  5.1919,    290.5,2,     9.97,2,    22.13,2,     0.06,2,     1.56,2,    4.624,2,    2.302,2, -999.000,5,-999.0000,5,  -999.00,9,   -999.0,9,  -999.00,9,-999.000,9,   2127.0,2,   2284.4,2,  -999.0, -999.00,-999.0000,-999.000,-999.000
     316N145_5,  I08S,    46,  1,     32, SIH023,9,19941217,2118,-49.6972,  90.8167, 3870, 2683.3,    265.1,   4.3656,  34.1365,2,-999.0000,9,    279.0,3,  4.3464,   -999.0,9,  -999.00,9,  -999.00,9,  -999.00,9,  -999.00,9, -999.000,9, -999.000,9, -999.000,5,-999.0000,5,  -999.00,9,   -999.0,9,  -999.00,9,-999.000,9,   -999.0,9,   -999.0,9,  -999.0, -999.00,-999.0000,-999.000,-999.000
     316N145_5,  I08S,    46,  1,     31, SIH020,2,19941217,2118,-49.6972,  90.8167, 3870, 3175.2,    314.6,   4.1325,  34.1503,2,  34.1497,2,    263.0,3,  4.1102,    265.7,2,    17.73,2,    26.94,2,     0.01,2,     1.86,2,    3.927,2,    1.895,2, -999.000,5,-999.0000,5,  -999.00,9,   -999.0,9,  -999.00,9,-999.000,9,   2154.8,2,   2288.4,2,  -999.0, -999.00,-999.0000,-999.000,-999.000
     316N145_5,  I08S,    46,  1,     30, SIH017,2,19941217,2118,-49.6972,  90.8167, 3870, 3660.3,    363.4,   3.4254,  34.1346,2,  34.1148,2,    252.1,3,  3.4016,    269.4,2,    21.13,2,    28.40,2,     0.01,2,     1.96,2,    3.992,2,    1.925,2, -999.000,5,-999.0000,5,  -999.00,9,   -999.0,9,  -999.00,9,-999.000,9,   2161.9,2,   2277.6,2,  -999.0, -999.00,-999.0000,-999.000,-999.000
     316N145_5,  I08S,    46,  1,     29, SIH014,2,19941217,2118,-49.6972,  90.8167, 3870, 4146.1,    412.2,   3.9396,  34.2402,2,  34.2407,2,    245.4,3,  3.9107,    238.3,2,    25.81,2,    29.45,2,     0.01,2,     2.02,2,    2.818,2,    1.337,2, -999.000,5,-999.0000,5,  -999.00,9,   -999.0,9,  -999.00,9,-999.000,9,   2174.7,2,   2287.0,2,  -999.0, -999.00,-999.0000,-999.000,-999.000
     316N145_5,  I08S,    46,  1,     28, SIH011,2,19941217,2118,-49.6972,  90.8167, 3870, 4654.1,    463.3,   3.3420,  34.2022,2,  34.2040,2,    241.9,3,  3.3115,    245.6,2,    28.25,2,    30.22,2,     0.00,2,     2.07,2,    3.090,2,    1.449,2, -999.000,5,-999.0000,5,  -999.00,9,   -999.0,9,  -999.00,9,-999.000,9,   2178.6,2,   -999.0,9,  -999.0, -999.00,-999.0000,-999.000,-999.000
     316N145_5,  I08S,    46,  1,     27, SIH008,2,19941217,2118,-49.6972,  90.8167, 3870, 5179.5,    516.2,   3.2665,  34.2441,2,  34.2464,2,    226.9,3,  3.2326,    234.2,2,    32.93,2,    31.06,2,     0.01,2,     2.13,2,    2.578,6,    1.221,6, -999.000,5,-999.0000,5,  -999.00,9,   -999.0,9,  -999.00,9,-999.000,9,   2187.2,2,   2291.1,2,  -999.0, -999.00,-999.0000,-999.000,-999.000
     316N145_5,  I08S,    46,  1,     26, SIH005,2,19941217,2118,-49.6972,  90.8167, 3870, 6153.5,    614.1,   3.0725,  34.3056,2,  34.3050,2,    220.4,3,  3.0326,    216.4,2,    41.33,2,    32.43,2,     0.00,2,     2.23,2,    1.871,2,    0.882,2, -999.000,5,-999.0000,5,  -999.00,9,   -999.0,9,  -999.00,9,-999.000,9,   2203.6,2,   2308.9,2,  -999.0, -999.00,-999.0000,-999.000,-999.000
     316N145_5,  I08S,    46,  1,     25, SIH019,2,19941217,2118,-49.6972,  90.8167, 3870, 7144.9,    713.8,   2.9508,  34.3714,2,  34.3729,2,    211.8,3,  2.9044,    200.0,2,    50.05,2,    33.44,2,     0.00,2,     2.30,2,    1.242,2,    0.595,2, -999.000,5,-999.0000,5,  -999.00,9,   -999.0,9,  -999.00,9,-999.000,9,   2218.3,2,   2309.9,2,  -999.0, -999.00,-999.0000,-999.000,-999.000
     316N145_5,  I08S,    46,  1,     24, SIH037,2,19941217,2118,-49.6972,  90.8167, 3870, 7657.0,    765.4,   2.8916,  34.4024,2,  34.4035,2,    208.9,3,  2.8418,    194.2,2,    53.11,2,    33.69,2,     0.00,2,     2.32,2,    1.016,2,    0.509,2, -999.000,5,-999.0000,5,  -999.00,9,   -999.0,9,  -999.00,9,-999.000,9,   2225.4,2,   2316.1,2,  -999.0, -999.00,-999.0000,-999.000,-999.000
     316N145_5,  I08S,    46,  1,     23, SIH033,2,19941217,2118,-49.6972,  90.8167, 3870, 8147.8,    814.7,   2.7787,  34.4272,2,  34.4281,2,    197.5,3,  2.7261,    189.6,2,    56.83,2,    33.99,2,     0.00,2,     2.34,2, -999.000,9, -999.000,9, -999.000,5,-999.0000,5,  -999.00,9,   -999.0,9,  -999.00,9,-999.000,9,   2230.7,2,   2318.3,2,  -999.0, -999.00,-999.0000,-999.000,-999.000
     316N145_5,  I08S,    46,  1,     22, SIH031,2,19941217,2118,-49.6972,  90.8167, 3870, 9135.2,    914.0,   2.7440,  34.5012,2,  34.5023,2,    188.6,3,  2.6843,    180.9,2,    63.61,2,    34.00,2,     0.00,2,     2.34,2,    0.502,2,    0.251,2, -999.000,5,-999.0000,5,  -999.00,9,   -999.0,9,  -999.00,9,-999.000,9,   2241.4,2,   2327.4,2,  -999.0, -999.00,-999.0000,-999.000,-999.000
     316N145_5,  I08S,    46,  1,     21, SIH030,2,19941217,2118,-49.6972,  90.8167, 3870,10095.6,   1010.6,   2.6691,  34.5404,2,  34.5427,2,    180.2,3,  2.6029,    177.9,2,    66.68,2,    33.85,2,     0.00,2,     2.33,2,    0.383,2,    0.193,2, -999.000,5,-999.0000,5,  -999.00,9,   -999.0,9,  -999.00,9,-999.000,9,   2242.2,2,   2325.9,2,  -999.0, -999.00,-999.0000,-999.000,-999.000
     316N145_5,  I08S,    46,  1,     20, SIH028,2,19941217,2118,-49.6972,  90.8167, 3870,11123.5,   1114.0,   2.5929,  34.5737,2,  34.5747,2,    178.7,3,  2.5196,    177.2,2,    69.26,2,    33.66,2,     0.00,2,     2.30,2,    0.341,2,    0.159,2, -999.000,5,-999.0000,5,  -999.00,9,   -999.0,9,  -999.00,9,-999.000,9,   2244.2,2,   2337.6,2,  -999.0, -999.00,-999.0000,-999.000,-999.000
     316N145_5,  I08S,    46,  1,     19, SIH027,2,19941217,2118,-49.6972,  90.8167, 3870,12046.7,   1206.9,   2.5563,  34.6183,2,  34.6183,2,    178.9,3,  2.4764,    177.7,2,    71.03,2,    33.00,2,     0.00,2,     2.27,2,    0.201,2,    0.104,2, -999.000,5,-999.0000,5,  -999.00,9,   -999.0,9,  -999.00,9,-999.000,9,   2246.0,2,   -999.0,9,  -999.0, -999.00,-999.0000,-999.000,-999.000
     316N145_5,  I08S,    46,  1,     18, SIH003,2,19941217,2118,-49.6972,  90.8167, 3870,13092.0,   1312.0,   2.4871,  34.6598,2,  34.6614,2,    179.0,3,  2.3996,    180.0,2,    72.98,2,    32.30,2,     0.00,2,     2.22,2,    0.133,2,    0.069,2, -999.000,5,-999.0000,5,  -999.00,9,   -999.0,9,  -999.00,9,-999.000,9,   2247.1,6,   2336.7,2,  -999.0, -999.00,-999.0000,-999.000,-999.000
     316N145_5,  I08S,    46,  1,     17, SIH024,2,19941217,2118,-49.6972,  90.8167, 3870,14099.2,   1413.3,   2.4387,  34.6874,2,  34.6889,2,    182.6,3,  2.3438,    183.0,2,    73.79,2,    31.76,2,     0.00,2,     2.17,2, -999.000,9, -999.000,9, -999.000,5,-999.0000,5,  -999.00,9,   -999.0,9,  -999.00,9,-999.000,9,   2242.7,2,   2336.2,2,  -999.0, -999.00,-999.0000,-999.000,-999.000
     316N145_5,  I08S,    46,  1,     16, SIH022,2,19941217,2118,-49.6972,  90.8167, 3870,15146.5,   1518.7,   2.3838,  34.7048,2,  34.7064,2,    185.2,3,  2.2813,    185.5,2,    74.75,2,    31.36,2,     0.00,2,     2.15,2,    0.093,2,    0.043,2, -999.000,5,-999.0000,5,  -999.00,9,   -999.0,9,  -999.00,9,-999.000,9,   2242.8,2,   2342.9,2,  -999.0, -999.00,-999.0000,-999.000,-999.000
     316N145_5,  I08S,    46,  1,     15, SIH021,2,19941217,2118,-49.6972,  90.8167, 3870,16131.8,   1617.8,   2.3370,  34.7263,2,  34.7252,2,    188.6,3,  2.2270,    189.1,2,    75.40,2,    30.71,2,     0.00,2,     2.11,2, -999.000,9, -999.000,9, -999.000,5,-999.0000,5,  -999.00,9,   -999.0,9,  -999.00,9,-999.000,9,   2241.2,2,   2343.1,2,  -999.0, -999.00,-999.0000,-999.000,-999.000
     316N145_5,  I08S,    46,  1,     14, SIH002,2,19941217,2118,-49.6972,  90.8167, 3870,17150.0,   1720.2,   2.2580,  34.7391,2,  34.7390,2,    192.6,3,  2.1407,    191.8,2,    77.17,2,    30.41,2,     0.00,2,     2.08,2,    0.058,2,    0.031,2, -999.000,5,-999.0000,5,  -999.00,9,   -999.0,9,  -999.00,9,-999.000,9,   2240.5,2,   2341.8,2,  -999.0, -999.00,-999.0000,-999.000,-999.000
     316N145_5,  I08S,    46,  1,     13, SIH018,2,19941217,2118,-49.6972,  90.8167, 3870,18173.6,   1823.2,   2.1893,  34.7456,2,  34.7453,2,    196.4,3,  2.0644,    193.6,2,    78.95,2,    30.31,2,     0.00,2,     2.07,2, -999.000,9, -999.000,9, -999.000,5,-999.0000,5,  -999.00,9,   -999.0,9,  -999.00,9,-999.000,9,   2240.2,2,   2354.1,2,  -999.0, -999.00,-999.0000,-999.000,-999.000
     316N145_5,  I08S,    46,  1,     12, SIH016,2,19941217,2118,-49.6972,  90.8167, 3870,19196.2,   1926.0,   2.1163,  34.7517,2,  34.7522,2,    196.2,3,  1.9839,    195.5,2,    80.73,2,    30.16,2,     0.00,2,     2.07,2,    0.046,2,    0.022,2, -999.000,5,-999.0000,5,  -999.00,9,   -999.0,9,  -999.00,9,-999.000,9,   2240.5,2,   -999.0,9,  -999.0, -999.00,-999.0000,-999.000,-999.000
     316N145_5,  I08S,    46,  1,     11, SIH015,2,19941217,2118,-49.6972,  90.8167, 3870,20197.5,   2026.7,   2.0477,  34.7552,2,  34.7549,2,    199.5,3,  1.9078,    197.3,2,    82.83,2,    30.06,2,     0.00,2,     2.06,2, -999.000,9, -999.000,9, -999.000,5,-999.0000,5,  -999.00,9,   -999.0,9,  -999.00,9,-999.000,9,   2241.8,2,   2347.5,2,  -999.0, -999.00,-999.0000,-999.000,-999.000
     316N145_5,  I08S,    46,  1,     10, SIH013,2,19941217,2118,-49.6972,  90.8167, 3870,22207.0,   2228.9,   1.8481,  34.7563,2,  34.7567,2,    200.7,3,  1.6942,    199.4,2,    89.28,2,    30.17,2,     0.00,2,     2.07,2,    0.039,2,    0.017,2, -999.000,5,-999.0000,5,  -999.00,9,   -999.0,9,  -999.00,9,-999.000,9,   2245.4,2,   2361.0,2,  -999.0, -999.00,-999.0000,-999.000,-999.000
     316N145_5,  I08S,    46,  1,      9, SIH012,2,19941217,2118,-49.6972,  90.8167, 3870,24231.9,   2432.5,   1.6670,  34.7494,2,  34.7506,2,    201.1,3,  1.4985,    200.7,2,    95.57,2,    30.57,2,     0.00,2,     2.10,2, -999.000,9, -999.000,9, -999.000,5,-999.0000,5,  -999.00,9,   -999.0,9,  -999.00,9,-999.000,9,   2248.6,2,   -999.0,9,  -999.0, -999.00,-999.0000,-999.000,-999.000
     316N145_5,  I08S,    46,  1,      8, SIH010,2,19941217,2118,-49.6972,  90.8167, 3870,26232.5,   2633.8,   1.4380,  34.7391,2,  34.7396,2,    200.6,3,  1.2560,    202.2,2,   103.15,2,    31.08,2,     0.00,2,     2.14,2,    0.030,2,    0.016,2, -999.000,5,-999.0000,5,  -999.00,9,   -999.0,9,  -999.00,9,-999.000,9,   2251.4,2,   2343.8,3,  -999.0, -999.00,-999.0000,-999.000,-999.000
     316N145_5,  I08S,    46,  1,      7, SIH009,2,19941217,2118,-49.6972,  90.8167, 3870,28267.9,   2838.5,   1.2939,  34.7320,2,  34.7331,2,    200.3,3,  1.0963,    203.5,2,   108.15,2,    31.33,2,     0.00,2,     2.16,2,    0.043,2,    0.019,2, -999.000,5,-999.0000,5,  -999.00,9,   -999.0,9,  -999.00,9,-999.000,9,   2255.3,2,   2365.8,2,  -999.0, -999.00,-999.0000,-999.000,-999.000
     316N145_5,  I08S,    46,  1,      6, SIH038,2,19941217,2118,-49.6972,  90.8167, 3870,30243.1,   3037.2,   1.1127,  34.7220,2,  34.7235,2,    203.3,3,  0.9007,    205.8,2,   113.31,2,    31.64,2,     0.00,2,     2.18,2,    0.071,2,    0.035,2, -999.000,5,-999.0000,5,  -999.00,9,   -999.0,9,  -999.00,9,-999.000,9,   2256.2,2,   2357.9,2,  -999.0, -999.00,-999.0000,-999.000,-999.000
     316N145_5,  I08S,    46,  1,      5, SIH006,2,19941217,2118,-49.6972,  90.8167, 3870,32303.3,   3244.4,   0.8212,  34.7086,2,  34.7105,2,    208.6,3,  0.5966,    210.6,2,   119.43,2,    32.05,2,     0.00,2,     2.21,2, -999.000,9, -999.000,9, -999.000,5,-999.0000,5,  -999.00,9,   -999.0,9,  -999.00,9,-999.000,9,   2256.8,2,   2355.0,2,  -999.0, -999.00,-999.0000,-999.000,-999.000
     316N145_5,  I08S,    46,  1,      4, SIH004,2,19941217,2118,-49.6972,  90.8167, 3870,34354.5,   3450.8,   0.6773,  34.7022,2,  34.7024,2,    211.0,3,  0.4366,    213.5,2,   122.82,2,    32.21,2,     0.00,2,     2.22,2,    0.224,2,    0.111,2, -999.000,5,-999.0000,5,  -999.00,9,   -999.0,9,  -999.00,9,-999.000,9,   2256.8,2,   -999.0,9,  -999.0, -999.00,-999.0000,-999.000,-999.000
     316N145_5,  I08S,    46,  1,      3, SIH025,2,19941217,2118,-49.6972,  90.8167, 3870,36393.7,   3655.9,   0.5228,  34.6954,2,  34.6950,2,    217.3,3,  0.2661,    216.4,2,   125.24,2,    32.36,2,     0.00,2,     2.24,2,    0.300,2,    0.150,2, -999.000,5,-999.0000,5,  -999.00,9,   -999.0,9,  -999.00,9,-999.000,9,   2257.7,2,   2356.6,2,  -999.0, -999.00,-999.0000,-999.000,-999.000
     316N145_5,  I08S,    46,  1,      2, SIH001,2,19941217,2118,-49.6972,  90.8167, 3870,37928.4,   3810.3,   0.4180,  34.6899,2,  34.6889,2,    220.2,3,  0.1489,    219.2,2,   126.53,2,    32.41,2,     0.00,2,     2.24,2, -999.000,9, -999.000,9, -999.000,5,-999.0000,5,  -999.00,9,   -999.0,9,  -999.00,9,-999.000,9,   2258.4,2,   2359.2,2,  -999.0, -999.00,-999.0000,-999.000,-999.000
     316N145_5,  I08S,    46,  1,      1, SIH036,2,19941217,2118,-49.6972,  90.8167, 3870,38546.9,   3872.5,   0.3299,  34.6861,2,  34.6844,2,    224.4,3,  0.0571,    220.5,2,   127.88,2,    32.51,2,     0.00,2,     2.24,2,    0.404,2,    0.197,2, -999.000,5,-999.0000,5,  -999.00,9,   -999.0,9,  -999.00,9,-999.000,9,   2258.7,6,   2363.3,2,  -999.0, -999.00,-999.0000,-999.000,-999.000