BOTTLE,20090521WHPSIOdm
EXPOCODE,SECT_ID,STNNBR,CASTNO,SAMPNO,BTLNBR,BTLNBR_FLAG_W,DATE,TIME,LATITUDE,LONGITUDE,DEPTH,CTDRAW,CTDPRS,CTDTMP,CTDSAL,CTDSAL_FLAG_W,SALNTY,SALNTY_FLAG_W,CTDOXY,CTDOXY_FLAG_W,THETA,OXYGEN,OXYGEN_FLAG_W,SILCAT,SILCAT_FLAG_W,NITRAT,NITRAT_FLAG_W,NITRIT,NITRIT_FLAG_W,PHSPHT,PHSPHT_FLAG_W,CFC-11,CFC-11_FLAG_W,CFC-12,CFC-12_FLAG_W,TRITUM,TRITUM_FLAG_W,HELIUM,HELIUM_FLAG_W,DELHE3,DELHE3_FLAG_W,DELC14,DELC14_FLAG_W,DELC13,DELC13_FLAG_W,NEON,NEON_FLAG_W,TCARBN,TCARBN_FLAG_W,ALKALI,ALKALI_FLAG_W,C14ERR,DELHER,HELIER,NEONER,TRITER
,,,,,,,,,,,,,DBAR,IPTS-68,PSS-78,,PSS-78,,UMOL/KG,,IPTS-68,UMOL/KG,,UMOL/KG,,UMOL/KG,,UMOL/KG,,UMOL/KG,,PMOL/KG,,PMOL/KG,,TU,,NMOL/KG,,PERCNT,,/MILLE,,/MILLE,,NMOL/KG,,UMOL/KG,,UMOL/KG,,/MILLE,PERCNT,NMOL/KG,NMOL/KG,TU
     316N145_5,  I09S,   138,  1,     36, SI9446,2,19950116,1412,-37.5028, 114.9972, 5050,  191.2,     13.9,  17.7143,  35.4819,2,  35.4849,2,    259.4,2, 17.7119,    244.3,2,     0.31,2,     0.21,2,     0.01,2,     0.17,2, -999.000,9, -999.000,9, -999.000,5,-999.0000,5,  -999.00,9,     86.9,2,  -999.00,9,-999.000,9,   2053.8,6,   -999.0,9,     3.7, -999.00,-999.0000,-999.000,-999.000
     316N145_5,  I09S,   138,  1,     35, SIH032,2,19950116,1412,-37.5028, 114.9972, 5050,  391.2,     34.0,  16.7019,  35.3585,2,  35.3579,2,    259.6,2, 16.6963,    254.6,2,     0.46,2,     0.61,2,     0.03,2,     0.21,2, -999.000,9, -999.000,9, -999.000,5,-999.0000,5,  -999.00,9,     51.3,2,     0.98,2,-999.000,9,   2053.3,2,   -999.0,9,     3.0, -999.00,-999.0000,-999.000,-999.000
     316N145_5,  I09S,   138,  1,     34, SIH029,2,19950116,1412,-37.5028, 114.9972, 5050,  650.3,     60.1,  14.3662,  35.0049,2,  35.0110,2,    281.8,2, 14.3574,    274.1,2,     0.61,2,     3.55,2,     0.09,2,     0.41,2, -999.000,9, -999.000,9, -999.000,5,-999.0000,5,  -999.00,9,     30.4,2,     0.44,2,-999.000,9,   2056.5,2,   -999.0,9,     3.3, -999.00,-999.0000,-999.000,-999.000
     316N145_5,  I09S,   138,  1,     33, SIH026,2,19950116,1412,-37.5028, 114.9972, 5050,  880.3,     83.2,  14.0901,  35.2679,2,  35.2704,2,    275.0,2, 14.0781,    259.5,2,     1.38,2,     1.79,2,     0.12,2,     0.32,2, -999.000,9, -999.000,9, -999.000,5,-999.0000,5,  -999.00,9,     46.3,2,     0.67,2,-999.000,9,   2064.3,2,   2319.5,2,     3.3, -999.00,-999.0000,-999.000,-999.000
     316N145_5,  I09S,   138,  1,     32, SIH023,2,19950116,1412,-37.5028, 114.9972, 5050, 1139.4,    109.2,  13.4355,  35.3094,2,  35.3096,2,    258.1,2, 13.4202,    249.0,2,     1.69,2,     2.87,2,     0.39,2,     0.40,2, -999.000,9, -999.000,9, -999.000,5,-999.0000,5,  -999.00,9,     78.8,2,     1.49,2,-999.000,9,   2077.6,2,   2328.1,2,     4.3, -999.00,-999.0000,-999.000,-999.000
     316N145_5,  I09S,   138,  1,     31, SIH020,2,19950116,1412,-37.5028, 114.9972, 5050, 1647.9,    160.3,  12.2082,  35.1035,2,  35.1065,2,    256.9,2, 12.1870,    249.3,2,     1.99,2,     6.14,2,     0.02,2,     0.57,2, -999.000,9, -999.000,9, -999.000,5,-999.0000,5,  -999.00,9,     39.8,2,     0.89,2,-999.000,9,   2087.7,2,   2318.5,2,     5.7, -999.00,-999.0000,-999.000,-999.000
     316N145_5,  I09S,   138,  1,     30, SIH017,2,19950116,1412,-37.5028, 114.9972, 5050, 2137.6,    209.6,  11.6514,  35.0433,2,  35.0449,2,    252.9,2, 11.6245,    253.7,2,     2.30,2,     7.36,2,     0.01,2,     0.64,2, -999.000,9, -999.000,9, -999.000,5,-999.0000,5,  -999.00,9,     46.4,2,     0.63,2,-999.000,9,   2090.7,2,   2328.6,2,     3.9, -999.00,-999.0000,-999.000,-999.000
     316N145_5,  I09S,   138,  1,     29, SIH014,2,19950116,1412,-37.5028, 114.9972, 5050, 2639.6,    260.1,  10.8027,  34.8966,2,  34.8985,2,    256.7,2, 10.7709,    253.2,2,     2.76,2,     9.64,2,     0.01,2,     0.78,2, -999.000,9, -999.000,9, -999.000,5,-999.0000,5,  -999.00,9,     58.8,2,     1.00,2,-999.000,9,   2097.0,2,   -999.0,9,     3.3, -999.00,-999.0000,-999.000,-999.000
     316N145_5,  I09S,   138,  1,     28, SIH011,2,19950116,1412,-37.5028, 114.9972, 5050, 3140.9,    310.5,  10.2030,  34.8011,2,  34.8037,2,    246.0,2, 10.1663,    249.7,2,     3.23,2,    11.78,2,     0.01,2,     0.91,2, -999.000,9, -999.000,9, -999.000,5,-999.0000,5,  -999.00,9,     55.8,2,     0.90,2,-999.000,9,   2102.6,2,   2301.9,2,     3.9, -999.00,-999.0000,-999.000,-999.000
     316N145_5,  I09S,   138,  1,     27, SIH008,2,19950116,1412,-37.5028, 114.9972, 5050, 3640.1,    360.7,   9.8400,  34.7494,2,  34.7506,2,    248.9,2,  9.7983,    246.4,2,     3.84,2,    13.26,2,     0.00,2,     1.00,2, -999.000,9, -999.000,9, -999.000,5,-999.0000,5,  -999.00,9,     58.4,2,     1.02,2,-999.000,9,   2108.3,2,   2303.2,2,     3.2, -999.00,-999.0000,-999.000,-999.000
     316N145_5,  I09S,   138,  1,     26, SIH005,2,19950116,1412,-37.5028, 114.9972, 5050, 4142.7,    411.2,   9.6457,  34.7211,2,  34.7231,2,    249.5,2,  9.5987,    245.6,2,     4.14,2,    13.90,2,     0.01,2,     1.04,2, -999.000,9, -999.000,9, -999.000,5,-999.0000,5,  -999.00,9,     63.3,2,     1.03,2,-999.000,9,   2108.9,2,   2298.3,2,     3.2, -999.00,-999.0000,-999.000,-999.000
     316N145_5,  I09S,   138,  1,     25, SIH019,2,19950116,1412,-37.5028, 114.9972, 5050, 4638.9,    461.1,   9.4659,  34.6933,2,  34.6948,2,    250.0,2,  9.4136,    248.4,2,     4.45,2,    14.49,2,     0.01,2,     1.07,2, -999.000,9, -999.000,9, -999.000,5,-999.0000,5,  -999.00,9,     61.7,2,     1.10,2,-999.000,9,   2109.1,2,   2302.4,2,     3.3, -999.00,-999.0000,-999.000,-999.000
     316N145_5,  I09S,   138,  1,     24, SIH037,2,19950116,1412,-37.5028, 114.9972, 5050, 6143.8,    612.4,   9.0208,  34.6363,2,  34.6366,2,    243.5,2,  8.9529,    238.9,2,     5.70,2,    17.04,2,     0.00,2,     1.22,2, -999.000,9, -999.000,9, -999.000,5,-999.0000,5,  -999.00,9,     52.8,2,     1.24,2,-999.000,9,   2118.5,2,   2294.4,2,     3.2, -999.00,-999.0000,-999.000,-999.000
     316N145_5,  I09S,   138,  1,     23, SIH033,2,19950116,1412,-37.5028, 114.9972, 5050, 7159.2,    714.5,   8.3669,  34.5605,2,  34.5622,2,    230.8,2,  8.2907,    226.3,2,     8.21,2,    19.95,2,     0.00,2,     1.40,2, -999.000,9, -999.000,9, -999.000,5,-999.0000,5,  -999.00,9,     25.9,2,     1.19,2,-999.000,9,   2129.8,2,   2284.0,2,     2.6, -999.00,-999.0000,-999.000,-999.000
     316N145_5,  I09S,   138,  1,     22, SIH031,2,19950116,1412,-37.5028, 114.9972, 5050, 8135.6,    812.7,   7.5081,  34.4944,2,  34.4948,2,    210.3,2,  7.4262,    207.1,2,    13.26,2,    23.65,2,     0.00,2,     1.63,2, -999.000,9, -999.000,9, -999.000,5,-999.0000,5,  -999.00,9,    -99.3,2,    -1.80,4,-999.000,9,   2149.7,2,   2294.0,2,     2.6, -999.00,-999.0000,-999.000,-999.000
     316N145_5,  I09S,   138,  1,     21, SIH030,2,19950116,1412,-37.5028, 114.9972, 5050, 9126.4,    912.4,   6.1090,  34.4223,2,  34.4241,2,    197.5,2,  6.0260,    196.1,2,    22.35,2,    27.61,2,     0.00,2,     1.90,2, -999.000,9, -999.000,9, -999.000,5,-999.0000,5,  -999.00,9,    -68.4,2,     0.14,2,-999.000,9,   2175.6,2,   2304.0,2,     4.7, -999.00,-999.0000,-999.000,-999.000
     316N145_5,  I09S,   138,  1,     20, SIH028,2,19950116,1412,-37.5028, 114.9972, 5050,10125.5,   1012.9,   5.0354,  34.3803,2,  34.3815,2,    198.3,2,  4.9508,    196.9,2,    30.26,2,    29.86,2,     0.00,2,     2.04,2, -999.000,9, -999.000,9, -999.000,5,-999.0000,5,  -999.00,9,    -84.3,2,     0.77,2,-999.000,9,   2184.9,2,   2307.2,2,     4.8, -999.00,-999.0000,-999.000,-999.000
     316N145_5,  I09S,   138,  1,     19, SIH027,2,19950116,1412,-37.5028, 114.9972, 5050,11132.8,   1114.2,   4.2339,  34.3770,2,  34.3806,2,    193.2,2,  4.1469,    192.3,2,    39.40,2,    31.64,2,     0.00,2,     2.17,2, -999.000,9, -999.000,9, -999.000,5,-999.0000,5,  -999.00,9,   -128.6,2,    -0.16,2,-999.000,9,   2202.9,2,   2326.5,2,     4.0, -999.00,-999.0000,-999.000,-999.000
     316N145_5,  I09S,   138,  1,     18, SIH003,2,19950116,1412,-37.5028, 114.9972, 5050,12242.1,   1225.8,   3.6692,  34.4128,2,  34.4145,2,    180.3,2,  3.5777,    181.3,2,    50.72,2,    32.93,2,     0.00,2,     2.28,2, -999.000,9, -999.000,9, -999.000,5,-999.0000,5,  -999.00,9,   -134.6,2,     0.06,2,-999.000,9,   2220.8,6,   2320.2,2,     3.4, -999.00,-999.0000,-999.000,-999.000
     316N145_5,  I09S,   138,  1,     17, SIH024,2,19950116,1412,-37.5028, 114.9972, 5050,14241.2,   1426.8,   3.1078,  34.4873,2,  34.4899,2,    168.6,2,  3.0051,    163.0,4,    64.28,2,    34.20,2,     0.00,2,     2.36,2, -999.000,9, -999.000,9, -999.000,5,-999.0000,5,  -999.00,9,   -151.7,2,     0.02,2,-999.000,9,   2239.1,2,   2330.0,6,     3.4, -999.00,-999.0000,-999.000,-999.000
     316N145_5,  I09S,   138,  1,     16, SIH022,2,19950116,1412,-37.5028, 114.9972, 5050,16228.4,   1626.7,   2.8150,  34.5732,2,  34.5753,2,    162.9,2,  2.6987,    162.5,2,    75.14,2,    34.31,2,     0.00,2,     2.37,2, -999.000,9, -999.000,9, -999.000,5,-999.0000,5,  -999.00,9,   -157.2,2,     0.21,2,-999.000,9,   2254.3,2,   2351.7,2,     3.5, -999.00,-999.0000,-999.000,-999.000
     316N145_5,  I09S,   138,  1,     15, SIH021,2,19950116,1412,-37.5028, 114.9972, 5050,18198.3,   1824.9,   2.6212,  34.6449,2,  34.6470,2,    162.9,2,  2.4905,    162.5,2,    83.95,2,    33.72,2,     0.00,2,     2.34,2, -999.000,9, -999.000,9, -999.000,5,-999.0000,5,  -999.00,9,   -999.0,9,  -999.00,9,-999.000,9,   2262.5,2,   2352.7,2,  -999.0, -999.00,-999.0000,-999.000,-999.000
     316N145_5,  I09S,   138,  1,     14, SIH002,2,19950116,1412,-37.5028, 114.9972, 5050,20098.8,   2016.0,   2.4639,  34.6874,2,  34.6879,2,    165.8,2,  2.3188,    165.1,2,    91.04,2,    33.28,2,     0.00,2,     2.30,2, -999.000,9, -999.000,9, -999.000,5,-999.0000,5,  -999.00,9,   -999.0,9,  -999.00,9,-999.000,9,   2266.7,2,   2369.9,2,  -999.0, -999.00,-999.0000,-999.000,-999.000
     316N145_5,  I09S,   138,  1,     13, SIH018,2,19950116,1412,-37.5028, 114.9972, 5050,23145.5,   2322.5,   2.2108,  34.7209,2,  34.7211,2,    170.8,2,  2.0425,    170.2,2,   100.01,2,    32.83,2,     0.00,2,     2.27,2, -999.000,9, -999.000,9, -999.000,5,-999.0000,5,  -999.00,9,   -999.0,9,  -999.00,9,-999.000,9,   2270.4,2,   2385.4,2,  -999.0, -999.00,-999.0000,-999.000,-999.000
     316N145_5,  I09S,   138,  1,     12, SIH016,2,19950116,1412,-37.5028, 114.9972, 5050,26216.8,   2631.4,   1.9668,  34.7319,2,  34.7331,2,    176.5,2,  1.7746,    177.0,2,   104.72,2,    32.43,2,     0.00,2,     2.24,2, -999.000,9, -999.000,9, -999.000,5,-999.0000,5,  -999.00,9,   -999.0,9,  -999.00,9,-999.000,9,   2271.8,2,   2375.6,2,  -999.0, -999.00,-999.0000,-999.000,-999.000
     316N145_5,  I09S,   138,  1,     11, SIH015,2,19950116,1412,-37.5028, 114.9972, 5050,29341.9,   2945.8,   1.7404,  34.7346,2,  34.7353,2,    183.0,2,  1.5232,    185.4,2,   107.54,2,    32.13,2,     0.00,2,     2.21,2, -999.000,9, -999.000,9, -999.000,5,-999.0000,5,  -999.00,9,   -999.0,9,  -999.00,9,-999.000,9,   2268.7,2,   2374.7,2,  -999.0, -999.00,-999.0000,-999.000,-999.000
     316N145_5,  I09S,   138,  1,     10, SI9426,2,19950116,1412,-37.5028, 114.9972, 5050,32382.6,   3251.6,   1.5356,  34.7326,2,  34.7337,2,    189.1,2,  1.2932,    192.1,2,   109.73,2,    31.81,2,     0.00,2,     2.18,2, -999.000,9, -999.000,9, -999.000,5,-999.0000,5,  -999.00,9,   -999.0,9,  -999.00,9,-999.000,9,   2265.1,2,   2380.8,2,  -999.0, -999.00,-999.0000,-999.000,-999.000
     316N145_5,  I09S,   138,  1,      9, SIH012,2,19950116,1412,-37.5028, 114.9972, 5050,35417.2,   3556.9,   1.3329,  34.7263,2,  34.7262,2,    193.7,2,  1.0649,    196.0,2,   115.37,2,    31.85,2,     0.00,2,     2.19,2, -999.000,9, -999.000,9, -999.000,5,-999.0000,5,  -999.00,9,   -999.0,9,  -999.00,9,-999.000,9,   2267.8,2,   2378.2,2,  -999.0, -999.00,-999.0000,-999.000,-999.000
     316N145_5,  I09S,   138,  1,      8, SIH010,2,19950116,1412,-37.5028, 114.9972, 5050,38471.5,   3864.1,   1.2040,  34.7204,2,  34.7213,2,    196.9,2,  0.9076,    198.9,2,   118.69,2,    32.13,2,     0.00,2,     2.20,2, -999.000,9, -999.000,9, -999.000,5,-999.0000,5,  -999.00,9,   -999.0,9,  -999.00,9,-999.000,9,   2267.6,2,   2387.4,2,  -999.0, -999.00,-999.0000,-999.000,-999.000
     316N145_5,  I09S,   138,  1,      7, SIH009,2,19950116,1412,-37.5028, 114.9972, 5050,41524.4,   4171.2,   1.0686,  34.7152,2,  34.7148,2,    203.0,2,  0.7432,    204.0,2,   120.09,2,    32.09,2,     0.00,2,     2.20,2, -999.000,9, -999.000,9, -999.000,5,-999.0000,5,  -999.00,9,   -999.0,9,  -999.00,9,-999.000,9,   2264.7,2,   2392.8,2,  -999.0, -999.00,-999.0000,-999.000,-999.000
     316N145_5,  I09S,   138,  1,      6, SIH038,2,19950116,1412,-37.5028, 114.9972, 5050,44596.7,   4480.2,   0.9318,  34.7086,2,  34.7093,2,    207.6,2,  0.5765,    207.8,2,   122.29,2,    32.16,2,     0.00,2,     2.20,2, -999.000,9, -999.000,9, -999.000,5,-999.0000,5,  -999.00,9,   -999.0,9,  -999.00,9,-999.000,9,   2262.7,2,   2371.6,2,  -999.0, -999.00,-999.0000,-999.000,-999.000
     316N145_5,  I09S,   138,  1,      4, SIH004,2,19950116,1412,-37.5028, 114.9972, 5050,47636.5,   4786.0,   0.8768,  34.7051,2,  34.7046,2,    209.6,2,  0.4885,    210.0,2,   124.31,2,    32.19,2,     0.00,2,     2.21,2, -999.000,9, -999.000,9, -999.000,5,-999.0000,5,  -999.00,9,   -999.0,9,  -999.00,9,-999.000,9,   2262.1,6,   2367.9,2,  -999.0, -999.00,-999.0000,-999.000,-999.000
     316N145_5,  I09S,   138,  1,      5, SIH006,2,19950116,1412,-37.5028, 114.9972, 5050,47642.3,   4786.6,   0.8768,  34.7050,2,  34.7048,2,    209.6,2,  0.4885,    209.7,2,   123.69,2,    32.17,2,     0.00,2,     2.21,2, -999.000,9, -999.000,9, -999.000,5,-999.0000,5,  -999.00,9,   -999.0,9,  -999.00,9,-999.000,9,   -999.0,9,   2374.4,2,  -999.0, -999.00,-999.0000,-999.000,-999.000
     316N145_5,  I09S,   138,  1,      3, SIH025,2,19950116,1412,-37.5028, 114.9972, 5050,50689.1,   5093.1,   0.8877,  34.7036,2,  34.7022,2,    215.3,2,  0.4630,    210.4,2,   124.79,2,    32.08,2,     0.00,2,     2.21,2, -999.000,9, -999.000,9, -999.000,5,-999.0000,5,  -999.00,9,   -999.0,9,  -999.00,9,-999.000,9,   2262.2,2,   2380.7,2,  -999.0, -999.00,-999.0000,-999.000,-999.000
     316N145_5,  I09S,   138,  1,      2, SIH001,2,19950116,1412,-37.5028, 114.9972, 5050,52742.3,   5299.6,   0.9043,  34.7039,2,  34.7044,2,    217.1,2,  0.4540,    207.3,4,   123.24,2,    32.01,2,     0.00,2,     2.21,2, -999.000,9, -999.000,9, -999.000,5,-999.0000,5,  -999.00,9,   -999.0,9,  -999.00,9,-999.000,9,   2261.9,2,   2380.9,2,  -999.0, -999.00,-999.0000,-999.000,-999.000
     316N145_5,  I09S,   138,  1,      1, SIH036,3,19950116,1412,-37.5028, 114.9972, 5050,53259.4,   5351.6,   0.9080,  34.7033,2,  34.8121,4,    216.0,2,  0.4513,    209.7,4,    51.70,4,    19.29,4,     0.03,4,     1.39,4, -999.000,9, -999.000,9, -999.000,5,-999.0000,5,  -999.00,9,   -999.0,9,  -999.00,9,-999.000,9,   2261.6,3,   2382.4,3,  -999.0, -999.00,-999.0000,-999.000,-999.000