BOTTLE,20090521WHPSIOdm
EXPOCODE,SECT_ID,STNNBR,CASTNO,SAMPNO,BTLNBR,BTLNBR_FLAG_W,DATE,TIME,LATITUDE,LONGITUDE,DEPTH,CTDRAW,CTDPRS,CTDTMP,CTDSAL,CTDSAL_FLAG_W,SALNTY,SALNTY_FLAG_W,CTDOXY,CTDOXY_FLAG_W,THETA,OXYGEN,OXYGEN_FLAG_W,SILCAT,SILCAT_FLAG_W,NITRAT,NITRAT_FLAG_W,NITRIT,NITRIT_FLAG_W,PHSPHT,PHSPHT_FLAG_W,CFC-11,CFC-11_FLAG_W,CFC-12,CFC-12_FLAG_W,TRITUM,TRITUM_FLAG_W,HELIUM,HELIUM_FLAG_W,DELHE3,DELHE3_FLAG_W,DELC14,DELC14_FLAG_W,DELC13,DELC13_FLAG_W,NEON,NEON_FLAG_W,TCARBN,TCARBN_FLAG_W,ALKALI,ALKALI_FLAG_W,C14ERR,DELHER,HELIER,NEONER,TRITER
,,,,,,,,,,,,,DBAR,IPTS-68,PSS-78,,PSS-78,,UMOL/KG,,IPTS-68,UMOL/KG,,UMOL/KG,,UMOL/KG,,UMOL/KG,,UMOL/KG,,PMOL/KG,,PMOL/KG,,TU,,NMOL/KG,,PERCNT,,/MILLE,,/MILLE,,NMOL/KG,,UMOL/KG,,UMOL/KG,,/MILLE,PERCNT,NMOL/KG,NMOL/KG,TU
     316N145_5,  I09S,    93,  1,     36, SIH035,2,19950103,2320,-61.5028, 115.0000, 4365,  167.3,     11.9,   0.7853,  33.8837,2,  33.8880,2,    345.7,2,  0.7848,    340.6,2,    36.50,2,    26.68,2,     0.26,2,     1.81,2, -999.000,9, -999.000,9, -999.000,5,-999.0000,5,  -999.00,9,   -999.0,9,  -999.00,9,-999.000,9,   -999.0,9,   -999.0,9,  -999.0, -999.00,-999.0000,-999.000,-999.000
     316N145_5,  I09S,    93,  1,     35, SIH032,2,19950103,2320,-61.5028, 115.0000, 4365,  372.6,     32.6,   0.7930,  33.8851,2,  33.8878,2,    339.5,2,  0.7917,    341.0,2,    36.50,2,    26.67,2,     0.26,2,     1.81,2, -999.000,9, -999.000,9, -999.000,5,-999.0000,5,  -999.00,9,   -999.0,9,  -999.00,9,-999.000,9,   -999.0,9,   -999.0,9,  -999.0, -999.00,-999.0000,-999.000,-999.000
     316N145_5,  I09S,    93,  1,     34, SIH029,2,19950103,2320,-61.5028, 115.0000, 4365,  614.9,     57.0,   0.5357,  33.8991,2,  33.9017,2,    340.6,2,  0.5335,    343.1,2,    36.20,2,    26.68,2,     0.24,2,     1.81,2, -999.000,9, -999.000,9, -999.000,5,-999.0000,5,  -999.00,9,   -999.0,9,  -999.00,9,-999.000,9,   -999.0,9,   -999.0,9,  -999.0, -999.00,-999.0000,-999.000,-999.000
     316N145_5,  I09S,    93,  1,     33, SIH026,2,19950103,2320,-61.5028, 115.0000, 4365,  871.0,     82.7,  -1.2669,  33.9770,2,  33.9812,2,    343.6,2, -1.2689,    348.9,2,    40.21,2,    27.61,2,     0.16,2,     1.90,2, -999.000,9, -999.000,9, -999.000,5,-999.0000,5,  -999.00,9,   -999.0,9,  -999.00,9,-999.000,9,   -999.0,9,   -999.0,9,  -999.0, -999.00,-999.0000,-999.000,-999.000
     316N145_5,  I09S,    93,  1,     32, SIH023,2,19950103,2320,-61.5028, 115.0000, 4365, 1131.1,    108.9,  -0.6744,  34.0968,2,  34.0960,2,    308.3,2, -0.6776,    308.1,2,    48.72,2,    29.73,2,     0.18,2,     2.05,2, -999.000,9, -999.000,9, -999.000,5,-999.0000,5,  -999.00,9,   -999.0,9,  -999.00,9,-999.000,9,   -999.0,9,   -999.0,9,  -999.0, -999.00,-999.0000,-999.000,-999.000
     316N145_5,  I09S,    93,  1,     31, SIH020,2,19950103,2320,-61.5028, 115.0000, 4365, 1614.1,    157.5,   1.4871,  34.4604,2,  34.4740,2,    190.2,2,  1.4794,    194.4,2,    71.43,2,    34.00,2,     0.03,2,     2.35,2, -999.000,9, -999.000,9, -999.000,5,-999.0000,5,  -999.00,9,   -999.0,9,  -999.00,9,-999.000,9,   -999.0,9,   -999.0,9,  -999.0, -999.00,-999.0000,-999.000,-999.000
     316N145_5,  I09S,    93,  1,     30, SIH017,2,19950103,2320,-61.5028, 115.0000, 4365, 2112.1,    207.6,   1.7995,  34.5528,2,  34.5549,2,    176.4,2,  1.7887,    180.2,2,    75.91,2,    33.91,2,     0.00,2,     2.33,2, -999.000,9, -999.000,9, -999.000,5,-999.0000,5,  -999.00,9,   -999.0,9,  -999.00,9,-999.000,9,   -999.0,9,   -999.0,9,  -999.0, -999.00,-999.0000,-999.000,-999.000
     316N145_5,  I09S,    93,  1,     29, SIH014,2,19950103,2320,-61.5028, 115.0000, 4365, 2608.3,    257.5,   1.9391,  34.6068,2,  34.6107,2,    170.9,2,  1.9253,    174.9,2,    79.47,2,    33.48,2,     0.00,2,     2.30,2, -999.000,9, -999.000,9, -999.000,5,-999.0000,5,  -999.00,9,   -999.0,9,  -999.00,9,-999.000,9,   -999.0,9,   -999.0,9,  -999.0, -999.00,-999.0000,-999.000,-999.000
     316N145_5,  I09S,    93,  1,     28, SIH011,2,19950103,2320,-61.5028, 115.0000, 4365, 3126.6,    309.6,   1.9559,  34.6357,2,  34.6390,2,    171.7,2,  1.9391,    175.6,2,    80.86,2,    33.06,2,     0.00,2,     2.26,2, -999.000,9, -999.000,9, -999.000,5,-999.0000,5,  -999.00,9,   -999.0,9,  -999.00,9,-999.000,9,   -999.0,9,   -999.0,9,  -999.0, -999.00,-999.0000,-999.000,-999.000
     316N145_5,  I09S,    93,  1,     27, SIH008,2,19950103,2320,-61.5028, 115.0000, 4365, 3626.9,    359.9,   1.9377,  34.6561,2,  34.6594,2,    168.8,2,  1.9181,    177.4,2,    82.10,2,    32.64,2,     0.00,2,     2.23,2, -999.000,9, -999.000,9, -999.000,5,-999.0000,5,  -999.00,9,   -999.0,9,  -999.00,9,-999.000,9,   -999.0,9,   -999.0,9,  -999.0, -999.00,-999.0000,-999.000,-999.000
     316N145_5,  I09S,    93,  1,     26, SIH005,2,19950103,2320,-61.5028, 115.0000, 4365, 4125.7,    410.1,   1.9132,  34.6715,2,  34.6736,2,    172.4,2,  1.8908,    179.9,2,    82.72,2,    32.36,2,     0.00,2,     2.21,2, -999.000,9, -999.000,9, -999.000,5,-999.0000,5,  -999.00,9,   -999.0,9,  -999.00,9,-999.000,9,   -999.0,9,   -999.0,9,  -999.0, -999.00,-999.0000,-999.000,-999.000
     316N145_5,  I09S,    93,  1,     25, SIH019,2,19950103,2320,-61.5028, 115.0000, 4365, 4626.8,    460.5,   1.9144,  34.6889,2,  34.6905,2,    175.3,2,  1.8890,    181.3,2,    83.80,2,    31.89,2,     0.00,2,     2.17,2, -999.000,9, -999.000,9, -999.000,5,-999.0000,5,  -999.00,9,   -999.0,9,  -999.00,9,-999.000,9,   -999.0,9,   -999.0,9,  -999.0, -999.00,-999.0000,-999.000,-999.000
     316N145_5,  I09S,    93,  1,     23, SIH033,2,19950103,2320,-61.5028, 115.0000, 4365, 5119.3,    510.0,   1.9003,  34.6995,2,  34.7060,2,    183.2,2,  1.8720,    183.2,2,    84.12,2,    31.57,2,     0.00,2,     2.15,2, -999.000,9, -999.000,9, -999.000,5,-999.0000,5,  -999.00,9,   -999.0,9,  -999.00,9,-999.000,9,   -999.0,9,   -999.0,9,  -999.0, -999.00,-999.0000,-999.000,-999.000
     316N145_5,  I09S,    93,  1,     22, SIH031,2,19950103,2320,-61.5028, 115.0000, 4365, 6142.6,    613.0,   1.8776,  34.7162,2,  34.7217,2,    184.8,2,  1.8431,    187.0,2,    85.36,2,    30.99,2,     0.00,2,     2.12,2, -999.000,9, -999.000,9, -999.000,5,-999.0000,5,  -999.00,9,   -999.0,9,  -999.00,9,-999.000,9,   -999.0,9,   -999.0,9,  -999.0, -999.00,-999.0000,-999.000,-999.000
     316N145_5,  I09S,    93,  1,     21, SIH030,2,19950103,2320,-61.5028, 115.0000, 4365, 7151.8,    714.5,   1.8122,  34.7266,2,  34.7292,2,    188.6,2,  1.7718,    190.0,2,    87.37,2,    30.73,2,     0.00,2,     2.09,2, -999.000,9, -999.000,9, -999.000,5,-999.0000,5,  -999.00,9,   -999.0,9,  -999.00,9,-999.000,9,   -999.0,9,   -999.0,9,  -999.0, -999.00,-999.0000,-999.000,-999.000
     316N145_5,  I09S,    93,  1,     20, SIH028,2,19950103,2320,-61.5028, 115.0000, 4365, 8125.6,    812.4,   1.7429,  34.7327,2,  34.7362,2,    189.1,2,  1.6967,    192.2,2,    89.07,2,    30.46,2,     0.00,2,     2.08,2, -999.000,9, -999.000,9, -999.000,5,-999.0000,5,  -999.00,9,   -999.0,9,  -999.00,9,-999.000,9,   -999.0,9,   -999.0,9,  -999.0, -999.00,-999.0000,-999.000,-999.000
     316N145_5,  I09S,    93,  1,     19, SIH027,2,19950103,2320,-61.5028, 115.0000, 4365, 9123.3,    912.8,   1.6727,  34.7369,2,  34.7396,2,    192.9,2,  1.6206,    194.9,2,    91.08,2,    30.29,2,     0.00,2,     2.07,2, -999.000,9, -999.000,9, -999.000,5,-999.0000,5,  -999.00,9,   -999.0,9,  -999.00,9,-999.000,9,   -999.0,9,   -999.0,9,  -999.0, -999.00,-999.0000,-999.000,-999.000
     316N145_5,  I09S,    93,  1,     18, SIH003,2,19950103,2320,-61.5028, 115.0000, 4365,10140.2,   1015.1,   1.5945,  34.7371,2,  34.7427,3,    194.3,2,  1.5363,    196.8,2,    93.25,2,    30.28,2,     0.00,2,     2.07,2, -999.000,9, -999.000,9, -999.000,5,-999.0000,5,  -999.00,9,   -999.0,9,  -999.00,9,-999.000,9,   -999.0,9,   -999.0,9,  -999.0, -999.00,-999.0000,-999.000,-999.000
     316N145_5,  I09S,    93,  1,     17, SIH024,2,19950103,2320,-61.5028, 115.0000, 4365,11119.2,   1113.5,   1.5105,  34.7377,2,  34.7406,2,    195.6,2,  1.4465,    198.5,2,    95.57,2,    30.31,2,     0.00,2,     2.07,2, -999.000,9, -999.000,9, -999.000,5,-999.0000,5,  -999.00,9,   -999.0,9,  -999.00,9,-999.000,9,   -999.0,9,   -999.0,9,  -999.0, -999.00,-999.0000,-999.000,-999.000
     316N145_5,  I09S,    93,  1,     16, SIH022,2,19950103,2320,-61.5028, 115.0000, 4365,12210.2,   1223.3,   1.4210,  34.7357,2,  34.7390,2,    196.9,2,  1.3504,    200.2,2,    98.05,2,    30.35,2,     0.00,2,     2.07,2, -999.000,9, -999.000,9, -999.000,5,-999.0000,5,  -999.00,9,   -999.0,9,  -999.00,9,-999.000,9,   -999.0,9,   -999.0,9,  -999.0, -999.00,-999.0000,-999.000,-999.000
     316N145_5,  I09S,    93,  1,     15, SIH021,2,19950103,2320,-61.5028, 115.0000, 4365,14282.9,   1431.8,   1.2524,  34.7294,2,  34.7362,3,    199.0,2,  1.1693,    201.8,2,   103.31,2,    30.59,2,     0.00,2,     2.09,2, -999.000,9, -999.000,9, -999.000,5,-999.0000,5,  -999.00,9,   -999.0,9,  -999.00,9,-999.000,9,   -999.0,9,   -999.0,9,  -999.0, -999.00,-999.0000,-999.000,-999.000
     316N145_5,  I09S,    93,  1,     14, SIH002,2,19950103,2320,-61.5028, 115.0000, 4365,16304.4,   1635.1,   1.0875,  34.7212,2,  34.7243,2,    201.7,2,  0.9920,    203.6,2,   107.81,2,    30.92,2,     0.00,2,     2.11,2, -999.000,9, -999.000,9, -999.000,5,-999.0000,5,  -999.00,9,   -999.0,9,  -999.00,9,-999.000,9,   -999.0,9,   -999.0,9,  -999.0, -999.00,-999.0000,-999.000,-999.000
     316N145_5,  I09S,    93,  1,     13, SIH018,2,19950103,2320,-61.5028, 115.0000, 4365,20091.2,   2016.0,   0.8016,  34.7079,2,  34.7099,2,    201.6,2,  0.6821,    206.7,2,   116.47,2,    31.47,2,     0.00,2,     2.14,2, -999.000,9, -999.000,9, -999.000,5,-999.0000,5,  -999.00,9,   -999.0,9,  -999.00,9,-999.000,9,   -999.0,9,   -999.0,9,  -999.0, -999.00,-999.0000,-999.000,-999.000
     316N145_5,  I09S,    93,  1,     12, SIH016,2,19950103,2320,-61.5028, 115.0000, 4365,22215.7,   2229.7,   0.6570,  34.6997,2,  34.7032,2,    203.4,2,  0.5234,    208.8,2,   119.88,2,    31.71,2,     0.00,2,     2.16,2, -999.000,9, -999.000,9, -999.000,5,-999.0000,5,  -999.00,9,   -999.0,9,  -999.00,9,-999.000,9,   -999.0,9,   -999.0,9,  -999.0, -999.00,-999.0000,-999.000,-999.000
     316N145_5,  I09S,    93,  1,     11, SIH015,2,19950103,2320,-61.5028, 115.0000, 4365,24271.5,   2436.5,   0.5090,  34.6926,2,  34.6960,2,    205.5,2,  0.3617,    211.6,2,   123.59,2,    31.84,2,     0.00,2,     2.17,2, -999.000,9, -999.000,9, -999.000,5,-999.0000,5,  -999.00,9,   -999.0,9,  -999.00,9,-999.000,9,   -999.0,9,   -999.0,9,  -999.0, -999.00,-999.0000,-999.000,-999.000
     316N145_5,  I09S,    93,  1,     10, SIH013,2,19950103,2320,-61.5028, 115.0000, 4365,27183.6,   2729.4,   0.3432,  34.6859,2,  34.6879,2,    210.8,2,  0.1752,    216.6,2,   126.38,2,    31.98,2,     0.00,2,     2.18,2, -999.000,9, -999.000,9, -999.000,5,-999.0000,5,  -999.00,9,   -999.0,9,  -999.00,9,-999.000,9,   -999.0,9,   -999.0,9,  -999.0, -999.00,-999.0000,-999.000,-999.000
     316N145_5,  I09S,    93,  1,      9, SIH012,2,19950103,2320,-61.5028, 115.0000, 4365,30262.4,   3039.1,   0.2128,  34.6819,2,  34.6853,2,    217.3,2,  0.0211,    220.8,2,   128.55,2,    31.92,2,     0.00,2,     2.18,2, -999.000,9, -999.000,9, -999.000,5,-999.0000,5,  -999.00,9,   -999.0,9,  -999.00,9,-999.000,9,   -999.0,9,   -999.0,9,  -999.0, -999.00,-999.0000,-999.000,-999.000
     316N145_5,  I09S,    93,  1,      8, SIH010,2,19950103,2320,-61.5028, 115.0000, 4365,32380.3,   3252.2,   0.1549,  34.6794,2,  34.6824,2,    217.6,2, -0.0543,    223.3,2,   130.56,2,    32.00,2,     0.00,2,     2.18,2, -999.000,9, -999.000,9, -999.000,5,-999.0000,5,  -999.00,9,   -999.0,9,  -999.00,9,-999.000,9,   -999.0,9,   -999.0,9,  -999.0, -999.00,-999.0000,-999.000,-999.000
     316N145_5,  I09S,    93,  1,      7, SIH009,2,19950103,2320,-61.5028, 115.0000, 4365,34416.0,   3456.9,   0.0957,  34.6781,2,  34.6749,4,    222.0,2, -0.1308,    225.8,2,   131.03,2,    31.94,2,     0.00,2,     2.18,2, -999.000,9, -999.000,9, -999.000,5,-999.0000,5,  -999.00,9,   -999.0,9,  -999.00,9,-999.000,9,   -999.0,9,   -999.0,9,  -999.0, -999.00,-999.0000,-999.000,-999.000
     316N145_5,  I09S,    93,  1,      6, SIH038,2,19950103,2320,-61.5028, 115.0000, 4365,36495.9,   3666.1,   0.0393,  34.6762,2,  34.6773,2,    225.9,2, -0.2054,    228.4,2,   131.82,2,    31.97,2,     0.00,2,     2.18,2, -999.000,9, -999.000,9, -999.000,5,-999.0000,5,  -999.00,9,   -999.0,9,  -999.00,9,-999.000,9,   -999.0,9,   -999.0,9,  -999.0, -999.00,-999.0000,-999.000,-999.000
     316N145_5,  I09S,    93,  1,      5, SIH006,2,19950103,2320,-61.5028, 115.0000, 4365,38581.3,   3875.9,  -0.0160,  34.6751,2,  34.6759,2,    227.5,2, -0.2794,    230.9,2,   131.20,2,    31.91,2,     0.00,2,     2.18,2, -999.000,9, -999.000,9, -999.000,5,-999.0000,5,  -999.00,9,   -999.0,9,  -999.00,9,-999.000,9,   -999.0,9,   -999.0,9,  -999.0, -999.00,-999.0000,-999.000,-999.000
     316N145_5,  I09S,    93,  1,      4, SIH004,2,19950103,2320,-61.5028, 115.0000, 4365,40622.6,   4081.2,  -0.0634,  34.6730,2,  34.6730,2,    229.4,2, -0.3459,    233.2,2,   130.90,2,    31.84,2,     0.00,2,     2.18,2, -999.000,9, -999.000,9, -999.000,5,-999.0000,5,  -999.00,9,   -999.0,9,  -999.00,9,-999.000,9,   -999.0,9,   -999.0,9,  -999.0, -999.00,-999.0000,-999.000,-999.000
     316N145_5,  I09S,    93,  1,      3, SIH025,2,19950103,2320,-61.5028, 115.0000, 4365,42294.2,   4249.4,  -0.1034,  34.6707,2,  34.6712,2,    232.2,2, -0.4018,    235.1,2,   131.67,2,    31.83,2,     0.00,2,     2.17,2, -999.000,9, -999.000,9, -999.000,5,-999.0000,5,  -999.00,9,   -999.0,9,  -999.00,9,-999.000,9,   -999.0,9,   -999.0,9,  -999.0, -999.00,-999.0000,-999.000,-999.000
     316N145_5,  I09S,    93,  1,      2, SIH001,2,19950103,2320,-61.5028, 115.0000, 4365,43324.7,   4353.1,  -0.1197,  34.6691,2,  34.6728,2,    233.9,2, -0.4283,    235.2,2,   138.40,2,    31.91,2,     0.00,2,     2.17,2, -999.000,9, -999.000,9, -999.000,5,-999.0000,5,  -999.00,9,   -999.0,9,  -999.00,9,-999.000,9,   -999.0,9,   -999.0,9,  -999.0, -999.00,-999.0000,-999.000,-999.000
     316N145_5,  I09S,    93,  1,      1, SIH036,2,19950103,2320,-61.5028, 115.0000, 4365,43829.5,   4403.8,  -0.1182,  34.6688,2,  34.6741,3,    234.2,3, -0.4322,    234.7,3,   139.16,2,    31.85,2,     0.00,2,     2.17,2, -999.000,9, -999.000,9, -999.000,5,-999.0000,5,  -999.00,9,   -999.0,9,  -999.00,9,-999.000,9,   -999.0,9,   -999.0,9,  -999.0, -999.00,-999.0000,-999.000,-999.000