BOTTLE,20090521WHPSIOdm
EXPOCODE,SECT_ID,STNNBR,CASTNO,SAMPNO,BTLNBR,BTLNBR_FLAG_W,DATE,TIME,LATITUDE,LONGITUDE,DEPTH,CTDRAW,CTDPRS,CTDTMP,CTDSAL,CTDSAL_FLAG_W,SALNTY,SALNTY_FLAG_W,CTDOXY,CTDOXY_FLAG_W,THETA,OXYGEN,OXYGEN_FLAG_W,SILCAT,SILCAT_FLAG_W,NITRAT,NITRAT_FLAG_W,NITRIT,NITRIT_FLAG_W,PHSPHT,PHSPHT_FLAG_W,CFC-11,CFC-11_FLAG_W,CFC-12,CFC-12_FLAG_W,TRITUM,TRITUM_FLAG_W,HELIUM,HELIUM_FLAG_W,DELHE3,DELHE3_FLAG_W,DELC14,DELC14_FLAG_W,DELC13,DELC13_FLAG_W,NEON,NEON_FLAG_W,TCARBN,TCARBN_FLAG_W,ALKALI,ALKALI_FLAG_W,C14ERR,DELHER,HELIER,NEONER,TRITER
,,,,,,,,,,,,,DBAR,IPTS-68,PSS-78,,PSS-78,,UMOL/KG,,IPTS-68,UMOL/KG,,UMOL/KG,,UMOL/KG,,UMOL/KG,,UMOL/KG,,PMOL/KG,,PMOL/KG,,TU,,NMOL/KG,,PERCNT,,/MILLE,,/MILLE,,NMOL/KG,,UMOL/KG,,UMOL/KG,,/MILLE,PERCNT,NMOL/KG,NMOL/KG,TU
     316N145_5,  I09S,    86,  1,     36, SIH035,2,19950102,0403,-64.8583, 110.8138, 2655,  148.0,      9.6,  -0.8024,  33.5755,2,  33.5829,2,    345.5,2, -0.8027,    342.5,2,    64.25,2,    26.66,2,     0.22,2,     1.90,2, -999.000,9, -999.000,9,    0.231,4,   1.8130,2,    -1.49,2,   -999.0,9,  -999.00,9,   8.205,2,   2148.4,6,   2290.7,3,  -999.0,   40.17,  0.0030,   0.018,   0.006
     316N145_5,  I09S,    86,  1,     35, SIH032,2,19950102,0403,-64.8583, 110.8138, 2655,  342.8,     29.2,  -1.5772,  33.9861,2,  33.9929,2,    345.9,2, -1.5778,    333.3,2,    65.65,2,    27.11,2,     0.13,2,     1.92,2, -999.000,9, -999.000,9, -999.000,5,-999.0000,5,  -999.00,9,   -999.0,9,  -999.00,9,-999.000,9,   2175.1,2,   2298.6,2,  -999.0, -999.00,-999.0000,-999.000,-999.000
     316N145_5,  I09S,    86,  1,     34, SIH029,2,19950102,0403,-64.8583, 110.8138, 2655,  601.9,     55.3,  -1.7662,  34.2282,2,  34.2368,2,    326.1,2, -1.7673,    313.8,2,    67.36,2,    28.27,2,     0.10,2,     1.99,2, -999.000,9, -999.000,9,    0.070,2,-999.0000,5,  -999.00,5,   -999.0,9,  -999.00,9,  18.760,4,   2197.5,2,   2308.6,2,  -999.0, -999.00,-999.0000,  20.070,   0.005
     316N145_5,  I09S,    86,  1,     33, SIH026,2,19950102,0403,-64.8583, 110.8138, 2655,  847.8,     80.0,  -1.7707,  34.3312,2,  34.3378,2,    316.1,2, -1.7723,    303.4,2,    69.07,2,    29.23,2,     0.13,2,     2.05,2, -999.000,9, -999.000,9, -999.000,5,-999.0000,5,  -999.00,9,   -999.0,9,  -999.00,9,-999.000,9,   2209.4,2,   2323.1,2,  -999.0, -999.00,-999.0000,-999.000,-999.000
     316N145_5,  I09S,    86,  1,     32, SIH023,2,19950102,0403,-64.8583, 110.8138, 2655, 1095.6,    105.0,  -1.8223,  34.3660,2,  34.3753,2,    330.7,2, -1.8244,    315.2,2,    67.66,2,    29.58,2,     0.03,2,     2.07,2, -999.000,9, -999.000,9,    0.388,4,   1.8780,2,    -0.24,2,   -999.0,9,  -999.00,9,   8.352,2,   2208.3,2,   2315.7,2,  -999.0,   20.12,  0.0030,   0.048,   0.008
     316N145_5,  I09S,    86,  1,     31, SIH020,2,19950102,0403,-64.8583, 110.8138, 2655, 1600.2,    155.7,  -1.5184,  34.4273,2,  34.4359,2,    315.1,2, -1.5220,    301.0,2,    71.27,2,    29.86,2,     0.01,2,     2.10,2, -999.000,9, -999.000,9, -999.000,5,-999.0000,5,  -999.00,9,   -999.0,9,  -999.00,9,-999.000,9,   2216.2,2,   -999.0,9,  -999.0, -999.00,-999.0000,-999.000,-999.000
     316N145_5,  I09S,    86,  1,     30, SIH017,2,19950102,0403,-64.8583, 110.8138, 2655, 2106.2,    206.6,  -0.0248,  34.5746,2,  34.5773,2,    248.6,2, -0.0323,    242.7,2,    83.78,2,    30.58,2,     0.01,2,     2.16,2, -999.000,9, -999.000,9,    0.000,5,   1.8860,2,     4.84,2,   -999.0,9,  -999.00,9,   8.314,2,   2236.3,2,   2341.1,2,  -999.0,    0.14,  0.0040,   0.029,   0.000
     316N145_5,  I09S,    86,  1,     29, SIH014,2,19950102,0403,-64.8583, 110.8138, 2655, 2597.0,    256.0,   0.6514,  34.6577,2,  34.6635,2,    222.1,2,  0.6404,    216.5,2,    92.07,2,    30.85,2,     0.00,2,     2.17,2, -999.000,9, -999.000,9, -999.000,5,-999.0000,5,  -999.00,9,   -999.0,9,  -999.00,9,-999.000,9,   2244.3,2,   2343.7,2,  -999.0, -999.00,-999.0000,-999.000,-999.000
     316N145_5,  I09S,    86,  1,     28, SIH011,2,19950102,0403,-64.8583, 110.8138, 2655, 3097.5,    306.3,   0.7745,  34.6778,2,  34.6826,2,    216.2,2,  0.7608,    228.6,4,    95.68,2,    30.84,2,     0.00,2,     2.17,2, -999.000,9, -999.000,9,    0.280,4,   1.8010,3,     7.18,2,   -999.0,9,  -999.00,9,   7.849,4,   2248.0,2,   2347.4,2,  -999.0,    0.12,  0.0050,   0.033,   0.007
     316N145_5,  I09S,    86,  1,     27, SIH008,2,19950102,0403,-64.8583, 110.8138, 2655, 3594.8,    356.4,   0.7892,  34.6876,2,  34.6908,2,    215.1,2,  0.7732,    211.0,2,    98.35,2,    30.89,2,     0.00,2,     2.17,2, -999.000,9, -999.000,9, -999.000,5,-999.0000,5,  -999.00,9,   -999.0,9,  -999.00,9,-999.000,9,   2247.9,2,   2361.1,2,  -999.0, -999.00,-999.0000,-999.000,-999.000
     316N145_5,  I09S,    86,  1,     26, SIH005,2,19950102,0403,-64.8583, 110.8138, 2655, 4094.1,    406.6,   0.8577,  34.6978,2,  34.7030,2,    210.6,2,  0.8389,    207.6,2,   101.48,2,    30.84,2,     0.00,2,     2.17,2, -999.000,9, -999.000,9,    0.000,5,   1.8950,2,     8.02,2,   -999.0,9,  -999.00,9,   8.208,2,   2249.3,2,   2346.2,2,  -999.0,    0.14,  0.0040,   0.029,   0.000
     316N145_5,  I09S,    86,  1,     25, SIH019,2,19950102,0403,-64.8583, 110.8138, 2655, 4595.5,    457.0,   0.8433,  34.7013,2,  34.7042,2,    209.2,2,  0.8221,    207.6,2,   103.84,2,    30.83,2,     0.00,2,     2.17,2, -999.000,9, -999.000,9, -999.000,5,-999.0000,5,  -999.00,9,   -999.0,9,  -999.00,9,-999.000,9,   2251.2,2,   2345.8,2,  -999.0, -999.00,-999.0000,-999.000,-999.000
     316N145_5,  I09S,    86,  1,     24, SIH037,2,19950102,0403,-64.8583, 110.8138, 2655, 5084.8,    506.2,   0.7817,  34.6985,2,  34.7024,2,    211.2,2,  0.7582,    208.8,2,   104.93,2,    30.88,2,     0.00,2,     2.17,2, -999.000,9, -999.000,9,    0.042,2,   1.8690,2,     7.83,2,   -999.0,9,  -999.00,9,   8.153,2,   2250.8,2,   2362.5,2,  -999.0,    0.12,  0.0040,   0.035,   0.007
     316N145_5,  I09S,    86,  1,     23, SIH033,2,19950102,0403,-64.8583, 110.8138, 2655, 6072.4,    605.6,   0.6957,  34.6960,2,  34.7003,2,    210.7,2,  0.6675,    209.7,2,   108.08,2,    30.98,2,     0.00,2,     2.18,2, -999.000,9, -999.000,9, -999.000,5,-999.0000,5,  -999.00,9,   -999.0,9,  -999.00,9,-999.000,9,   2252.5,2,   2359.9,2,  -999.0, -999.00,-999.0000,-999.000,-999.000
     316N145_5,  I09S,    86,  1,     22, SIH031,2,19950102,0403,-64.8583, 110.8138, 2655, 7066.8,    705.6,   0.6393,  34.6962,2,  34.7005,2,    212.0,2,  0.6062,    209.7,2,   111.84,2,    31.19,2,     0.00,2,     2.19,2, -999.000,9, -999.000,9,    0.000,5,   1.8990,2,     7.86,2,   -999.0,9,  -999.00,9,   8.330,2,   2256.1,2,   2352.6,2,  -999.0,    0.16,  0.0030,   0.018,   0.000
     316N145_5,  I09S,    86,  1,     21, SIH030,2,19950102,0403,-64.8583, 110.8138, 2655, 8083.7,    807.9,   0.5568,  34.6923,2,  34.6940,2,    210.9,2,  0.5187,    211.0,2,   114.04,2,    31.29,2,     0.00,2,     2.20,2, -999.000,9, -999.000,9, -999.000,5,-999.0000,5,  -999.00,9,   -999.0,9,  -999.00,9,-999.000,9,   2255.1,2,   2354.2,2,  -999.0, -999.00,-999.0000,-999.000,-999.000
     316N145_5,  I09S,    86,  1,     20, SIH028,2,19950102,0403,-64.8583, 110.8138, 2655, 9104.8,    910.6,   0.4638,  34.6875,2,  34.6916,2,    212.1,2,  0.4208,    212.8,2,   115.31,2,    31.23,2,     0.00,2,     2.20,2, -999.000,9, -999.000,9,    0.000,5,-999.0000,5,     2.96,4,   -999.0,9,  -999.00,9,-999.000,5,   2255.7,2,   2348.7,2,  -999.0,    1.02,-999.0000,-999.000,   0.000
     316N145_5,  I09S,    86,  1,     19, SIH027,2,19950102,0403,-64.8583, 110.8138, 2655,10112.5,   1012.0,   0.3845,  34.6845,2,  34.6859,2,    215.2,2,  0.3365,    214.6,2,   116.72,2,    31.38,2,     0.00,2,     2.21,2, -999.000,9, -999.000,9, -999.000,5,-999.0000,5,  -999.00,9,   -999.0,9,  -999.00,9,-999.000,9,   2254.4,2,   2363.3,2,  -999.0, -999.00,-999.0000,-999.000,-999.000
     316N145_5,  I09S,    86,  1,     18, SIH003,2,19950102,0403,-64.8583, 110.8138, 2655,11161.0,   1117.4,   0.3005,  34.6800,2,  34.6796,4,    215.6,2,  0.2471,    216.4,2,   117.83,2,    31.38,2,     0.00,2,     2.21,2, -999.000,9, -999.000,9, -999.000,5,-999.0000,5,  -999.00,9,   -999.0,9,  -999.00,9,-999.000,9,   2254.9,6,   -999.0,9,  -999.0, -999.00,-999.0000,-999.000,-999.000
     316N145_5,  I09S,    86,  1,     17, SIH024,2,19950102,0403,-64.8583, 110.8138, 2655,12157.9,   1217.7,   0.2607,  34.6814,2,  34.6848,2,    214.5,2,  0.2019,    216.8,2,   119.88,2,    31.48,2,     0.00,2,     2.22,2, -999.000,9, -999.000,9,    0.038,2,   2.0440,4,     7.23,2,   -999.0,9,  -999.00,9,   8.706,4,   2258.2,2,   2356.3,2,  -999.0,    0.13,  0.0040,   0.030,   0.005
     316N145_5,  I09S,    86,  1,     16, SIH022,2,19950102,0403,-64.8583, 110.8138, 2655,13201.1,   1322.6,   0.2047,  34.6783,2,  34.6822,2,    216.6,2,  0.1402,    218.8,2,   120.52,2,    31.48,2,     0.00,2,     2.22,2, -999.000,9, -999.000,9, -999.000,5,-999.0000,5,  -999.00,9,   -999.0,9,  -999.00,9,-999.000,9,   2255.6,2,   2354.5,2,  -999.0, -999.00,-999.0000,-999.000,-999.000
     316N145_5,  I09S,    86,  1,     15, SIH021,2,19950102,0403,-64.8583, 110.8138, 2655,14180.2,   1421.1,   0.1463,  34.6771,2,  34.6812,2,    220.6,2,  0.0765,    220.3,2,   121.00,2,    31.47,2,     0.00,2,     2.22,2, -999.000,9, -999.000,9, -999.000,5,-999.0000,5,  -999.00,9,   -999.0,9,  -999.00,9,-999.000,9,   2253.6,2,   -999.0,9,  -999.0, -999.00,-999.0000,-999.000,-999.000
     316N145_5,  I09S,    86,  1,     14, SIH002,2,19950102,0403,-64.8583, 110.8138, 2655,15209.4,   1524.6,   0.0628,  34.6714,2,  34.6745,2,    223.8,2, -0.0123,    223.9,2,   118.49,2,    31.37,2,     0.00,2,     2.21,2, -999.000,9, -999.000,9,    0.022,4,   1.9120,2,     6.99,2,   -999.0,9,  -999.00,9,   8.298,2,   2255.1,2,   2357.3,2,  -999.0,    0.12,  0.0050,   0.050,   0.004
     316N145_5,  I09S,    86,  1,     13, SIH018,2,19950102,0403,-64.8583, 110.8138, 2655,16186.8,   1623.0,   0.0316,  34.6727,2,  34.6761,2,    226.2,2, -0.0494,    224.7,2,   119.60,2,    31.41,2,     0.00,2,     2.21,2, -999.000,9, -999.000,9, -999.000,5,-999.0000,5,  -999.00,9,   -999.0,9,  -999.00,9,-999.000,9,   2252.1,2,   2364.1,2,  -999.0, -999.00,-999.0000,-999.000,-999.000
     316N145_5,  I09S,    86,  1,     12, SIH016,2,19950102,0403,-64.8583, 110.8138, 2655,17231.6,   1728.1,   0.0098,  34.6744,2,  34.6765,2,    226.6,2, -0.0777,    225.2,2,   121.34,2,    31.46,2,     0.00,2,     2.22,2, -999.000,9, -999.000,9, -999.000,5,-999.0000,5,  -999.00,9,   -999.0,9,  -999.00,9,-999.000,9,   2254.6,2,   -999.0,9,  -999.0, -999.00,-999.0000,-999.000,-999.000
     316N145_5,  I09S,    86,  1,     11, SIH015,2,19950102,0403,-64.8583, 110.8138, 2655,18229.5,   1828.4,  -0.0294,  34.6735,2,  34.6775,2,    229.8,2, -0.1230,    226.7,2,   120.56,2,    31.41,2,     0.00,2,     2.21,2, -999.000,9, -999.000,9,    0.380,4,-999.0000,5,  -999.00,9,   -999.0,9,  -999.00,9,-999.000,9,   2254.2,2,   2364.4,2,  -999.0, -999.00,-999.0000,-999.000,   0.007
     316N145_5,  I09S,    86,  1,     10, SIH013,2,19950102,0403,-64.8583, 110.8138, 2655,19231.5,   1929.2,  -0.0573,  34.6723,2,  34.6781,3,    230.5,2, -0.1572,    228.1,2,   120.25,2,    31.36,2,     0.00,2,     2.21,2, -999.000,9, -999.000,9, -999.000,5,-999.0000,5,  -999.00,9,   -999.0,9,  -999.00,9,-999.000,9,   2251.4,2,   2363.0,2,  -999.0, -999.00,-999.0000,-999.000,-999.000
     316N145_5,  I09S,    86,  1,      9, SIH012,2,19950102,0403,-64.8583, 110.8138, 2655,20250.8,   2031.8,  -0.1128,  34.6698,2,  34.6737,2,    232.3,2, -0.2190,    230.8,2,   116.97,2,    31.25,2,     0.00,2,     2.21,2, -999.000,9, -999.000,9, -999.000,5,-999.0000,5,  -999.00,9,   -999.0,9,  -999.00,9,-999.000,9,   2253.5,2,   -999.0,9,  -999.0, -999.00,-999.0000,-999.000,-999.000
     316N145_5,  I09S,    86,  1,      8, SIH010,2,19950102,0403,-64.8583, 110.8138, 2655,21262.4,   2133.5,  -0.1400,  34.6698,2,  34.6639,4,    235.8,2, -0.2529,    232.3,2,   115.73,2,    31.19,2,     0.00,2,     2.20,2, -999.000,9, -999.000,9,    0.000,5,   1.9180,2,     6.17,2,   -999.0,9,  -999.00,9,   8.376,2,   2250.0,2,   2357.6,2,  -999.0,    0.14,  0.0020,   0.047,   0.000
     316N145_5,  I09S,    86,  1,      7, SIH009,2,19950102,0403,-64.8583, 110.8138, 2655,22278.5,   2235.7,  -0.1679,  34.6691,2,  34.6716,2,    235.4,2, -0.2876,    233.7,2,   114.32,2,    31.19,2,     0.00,2,     2.20,2, -999.000,9, -999.000,9, -999.000,5,-999.0000,5,  -999.00,9,   -999.0,9,  -999.00,9,-999.000,9,   2250.3,2,   2365.0,2,  -999.0, -999.00,-999.0000,-999.000,-999.000
     316N145_5,  I09S,    86,  1,      6, SIH038,2,19950102,0403,-64.8583, 110.8138, 2655,23289.4,   2337.4,  -0.1937,  34.6683,2,  34.6706,2,    238.5,2, -0.3204,    235.3,2,   112.44,2,    31.19,2,     0.00,2,     2.20,2, -999.000,9, -999.000,9, -999.000,5,-999.0000,5,  -999.00,9,   -999.0,9,  -999.00,9,-999.000,9,   2250.2,2,   2358.9,2,  -999.0, -999.00,-999.0000,-999.000,-999.000
     316N145_5,  I09S,    86,  1,      5, SIH006,2,19950102,0403,-64.8583, 110.8138, 2655,24091.7,   2418.1,  -0.2111,  34.6672,2,  34.6694,2,    239.3,2, -0.3434,    236.1,2,   111.51,2,    31.13,2,     0.00,2,     2.20,2, -999.000,9, -999.000,9,    0.154,4,   1.8950,2,     5.98,2,   -999.0,9,  -999.00,9,   8.240,2,   2250.0,2,   2372.5,3,  -999.0,    0.14,  0.0030,   0.029,   0.005
     316N145_5,  I09S,    86,  1,      4, SIH004,2,19950102,0403,-64.8583, 110.8138, 2655,25094.9,   2519.0,  -0.2319,  34.6673,2,  34.6698,2,    242.2,2, -0.3715,    236.9,2,   110.89,2,    31.13,2,     0.00,2,     2.20,2, -999.000,9, -999.000,9, -999.000,5,-999.0000,5,  -999.00,9,   -999.0,9,  -999.00,9,-999.000,9,   2251.5,2,   -999.0,9,  -999.0, -999.00,-999.0000,-999.000,-999.000
     316N145_5,  I09S,    86,  1,      3, SIH025,2,19950102,0403,-64.8583, 110.8138, 2655,25794.2,   2589.4,  -0.2339,  34.6683,2,  34.6702,2,    240.3,2, -0.3789,    237.2,2,   111.06,2,    31.12,2,     0.00,2,     2.20,2, -999.000,9, -999.000,9,    0.227,4,   1.9010,2,     5.64,2,   -999.0,9,  -999.00,9,   8.320,2,   2252.4,2,   2368.2,2,  -999.0,    0.14,  0.0030,   0.033,   0.006
     316N145_5,  I09S,    86,  1,      1, SIH036,2,19950102,0403,-64.8583, 110.8138, 2655,26296.4,   2639.9,  -0.2306,  34.6669,2,  34.6718,2,    239.5,2, -0.3796,    237.5,2,   111.12,2,    31.15,2,     0.00,2,     2.19,2, -999.000,9, -999.000,9, -999.000,5,-999.0000,5,  -999.00,9,   -999.0,9,  -999.00,9,-999.000,9,   2249.6,6,   -999.0,9,  -999.0, -999.00,-999.0000,-999.000,-999.000
     316N145_5,  I09S,    86,  1,      2, SIH001,2,19950102,0403,-64.8583, 110.8138, 2655,26298.7,   2640.1,  -0.2309,  34.6677,2,  34.6708,2,    241.6,2, -0.3799,    237.5,2,   111.07,2,    31.17,2,     0.00,2,     2.20,2, -999.000,9, -999.000,9,    0.072,2,-999.0000,5,  -999.00,9,   -999.0,9,  -999.00,9,-999.000,9,   2251.1,2,   2362.3,2,  -999.0, -999.00,-999.0000,-999.000,   0.004