BOTTLE,20090521WHPSIOdm
EXPOCODE,SECT_ID,STNNBR,CASTNO,SAMPNO,BTLNBR,BTLNBR_FLAG_W,DATE,TIME,LATITUDE,LONGITUDE,DEPTH,CTDRAW,CTDPRS,CTDTMP,CTDSAL,CTDSAL_FLAG_W,SALNTY,SALNTY_FLAG_W,CTDOXY,CTDOXY_FLAG_W,THETA,OXYGEN,OXYGEN_FLAG_W,SILCAT,SILCAT_FLAG_W,NITRAT,NITRAT_FLAG_W,NITRIT,NITRIT_FLAG_W,PHSPHT,PHSPHT_FLAG_W,CFC-11,CFC-11_FLAG_W,CFC-12,CFC-12_FLAG_W,TRITUM,TRITUM_FLAG_W,HELIUM,HELIUM_FLAG_W,DELHE3,DELHE3_FLAG_W,DELC14,DELC14_FLAG_W,DELC13,DELC13_FLAG_W,NEON,NEON_FLAG_W,TCARBN,TCARBN_FLAG_W,ALKALI,ALKALI_FLAG_W,C14ERR,DELHER,HELIER,NEONER,TRITER
,,,,,,,,,,,,,DBAR,IPTS-68,PSS-78,,PSS-78,,UMOL/KG,,IPTS-68,UMOL/KG,,UMOL/KG,,UMOL/KG,,UMOL/KG,,UMOL/KG,,PMOL/KG,,PMOL/KG,,TU,,NMOL/KG,,PERCNT,,/MILLE,,/MILLE,,NMOL/KG,,UMOL/KG,,UMOL/KG,,/MILLE,PERCNT,NMOL/KG,NMOL/KG,TU
     316N145_5,  I08S,    32,  1,     36, SIH035,2,19941214,0010,-44.0055,  95.0138, 3000,  147.1,     10.1,   9.3508,  34.4531,2,  34.4534,2,    303.3,2,  9.3497,    288.8,2,     0.78,2,    12.44,2,     0.26,2,     0.96,2,    3.981,2,    2.032,2, -999.000,5,-999.0000,5,  -999.00,9,   -999.0,9,  -999.00,9,-999.000,9,   2081.6,2,   2288.3,2,  -999.0, -999.00,-999.0000,-999.000,-999.000
     316N145_5,  I08S,    32,  1,     35, SIH037,2,19941214,0010,-44.0055,  95.0138, 3000,  368.3,     32.4,   9.2731,  34.4439,2,  34.4498,2,    299.9,2,  9.2696,    288.4,2,     0.96,2,    12.60,2,     0.26,2,     0.99,2,    3.931,2,    2.006,2, -999.000,5,-999.0000,5,  -999.00,9,   -999.0,9,  -999.00,9,-999.000,9,   2083.5,2,   2286.4,2,  -999.0, -999.00,-999.0000,-999.000,-999.000
     316N145_5,  I08S,    32,  1,     34, SIH033,2,19941214,0010,-44.0055,  95.0138, 3000,  600.7,     55.7,   9.2031,  34.4484,2,  34.4493,2,    291.7,2,  9.1970,    286.6,2,     1.13,2,    12.74,2,     0.27,2,     0.99,2,    3.995,2,    2.036,2, -999.000,5,-999.0000,5,  -999.00,9,   -999.0,9,  -999.00,9,-999.000,9,   2084.1,2,   2304.1,2,  -999.0, -999.00,-999.0000,-999.000,-999.000
     316N145_5,  I08S,    32,  1,     33, SIH032,2,19941214,0010,-44.0055,  95.0138, 3000,  846.5,     80.4,   9.0726,  34.4478,2,  34.4487,2,    289.1,2,  9.0639,    284.9,2,     1.82,2,    13.09,2,     0.30,2,     1.03,2, -999.000,9, -999.000,9, -999.000,5,-999.0000,5,  -999.00,9,   -999.0,9,  -999.00,9,-999.000,9,   2087.2,2,   2289.2,2,  -999.0, -999.00,-999.0000,-999.000,-999.000
     316N145_5,  I08S,    32,  1,     32, SIH031,2,19941214,0010,-44.0055,  95.0138, 3000, 1095.1,    105.4,   8.3273,  34.4409,2,  34.4445,2,    285.2,2,  8.3165,    281.4,2,     5.23,2,    15.44,2,     0.45,2,     1.19,2,    4.130,2,    2.116,2, -999.000,5,-999.0000,5,  -999.00,9,   -999.0,9,  -999.00,9,-999.000,9,   2103.4,2,   2296.2,2,  -999.0, -999.00,-999.0000,-999.000,-999.000
     316N145_5,  I08S,    32,  1,     31, SIH030,2,19941214,0010,-44.0055,  95.0138, 3000, 1594.4,    155.7,   8.6562,  34.5516,2,  34.5518,2,    276.6,2,  8.6398,    274.6,2,     5.23,2,    15.42,2,     0.09,2,     1.13,2,    3.895,2,    2.014,2, -999.000,5,-999.0000,5,  -999.00,9,   -999.0,9,  -999.00,9,-999.000,9,   2099.9,2,   2291.7,2,  -999.0, -999.00,-999.0000,-999.000,-999.000
     316N145_5,  I08S,    32,  1,     30, SIH029,3,19941214,0010,-44.0055,  95.0138, 3000, 2098.3,    206.3,   8.6182,  34.5537,2,  34.4844,4,    275.2,2,  8.5965,   -999.0,9,     2.50,4,    13.55,4,     0.21,4,     1.04,4, -999.000,9, -999.000,9, -999.000,5,-999.0000,5,  -999.00,9,   -999.0,9,  -999.00,9,-999.000,9,   2089.0,4,   2301.4,4,  -999.0, -999.00,-999.0000,-999.000,-999.000
     316N145_5,  I08S,    32,  1,     29, SIH028,2,19941214,0010,-44.0055,  95.0138, 3000, 2594.3,    256.2,   8.2101,  34.4849,2,  34.4860,2,    278.1,2,  8.1839,    274.5,2,     5.74,2,    16.48,2,     0.10,2,     1.20,2,    3.913,2,    2.034,2, -999.000,5,-999.0000,5,  -999.00,9,   -999.0,9,  -999.00,9,-999.000,9,   2106.8,2,   2291.3,2,  -999.0, -999.00,-999.0000,-999.000,-999.000
     316N145_5,  I08S,    32,  1,     28, SIH027,2,19941214,0010,-44.0055,  95.0138, 3000, 3102.8,    307.3,   7.6917,  34.4275,2,  34.4086,4,    267.2,2,  7.6613,    265.7,2,     7.28,2,    18.92,2,     0.10,2,     1.35,2,    3.705,2,    1.878,2, -999.000,5,-999.0000,5,  -999.00,9,   -999.0,9,  -999.00,9,-999.000,9,   2109.2,2,   2301.7,2,  -999.0, -999.00,-999.0000,-999.000,-999.000
     316N145_5,  I08S,    32,  1,     27, SIH026,2,19941214,0010,-44.0055,  95.0138, 3000, 3600.9,    357.4,   7.1182,  34.3679,2,  34.3700,2,    240.8,2,  7.0843,    264.7,2,     8.31,2,    20.24,2,     0.01,2,     1.42,2,    3.683,2,    1.871,2, -999.000,5,-999.0000,5,  -999.00,9,   -999.0,9,  -999.00,9,-999.000,9,   2122.0,2,   2286.9,2,  -999.0, -999.00,-999.0000,-999.000,-999.000
     316N145_5,  I08S,    32,  1,     26, SIH003,2,19941214,0010,-44.0055,  95.0138, 3000, 4094.9,    407.1,   7.2220,  34.4340,2,  34.4332,2,    234.5,2,  7.1829,    236.0,2,    11.55,2,    22.09,2,     0.01,2,     1.53,2,    2.845,2,    1.407,2, -999.000,5,-999.0000,5,  -999.00,9,   -999.0,9,  -999.00,9,-999.000,9,   2137.4,2,   2298.0,2,  -999.0, -999.00,-999.0000,-999.000,-999.000
     316N145_5,  I08S,    32,  1,     25, SIH024,2,19941214,0010,-44.0055,  95.0138, 3000, 4576.7,    455.6,   6.3897,  34.3381,2,  34.3407,2,    248.9,2,  6.3488,    245.9,2,    12.23,2,    23.16,2,     0.01,2,     1.60,2,    3.217,2,    1.587,2, -999.000,5,-999.0000,5,  -999.00,9,   -999.0,9,  -999.00,9,-999.000,9,   2138.7,2,   2295.9,2,  -999.0, -999.00,-999.0000,-999.000,-999.000
     316N145_5,  I08S,    32,  1,     24, SIH023,2,19941214,0010,-44.0055,  95.0138, 3000, 5105.2,    508.7,   6.1209,  34.3436,2,  34.3441,2,    237.0,2,  6.0761,    234.3,2,    14.97,2,    24.76,2,     0.00,2,     1.70,2,    2.859,2,    1.422,2, -999.000,5,-999.0000,5,  -999.00,9,   -999.0,9,  -999.00,9,-999.000,9,   2150.3,6,   2294.8,2,  -999.0, -999.00,-999.0000,-999.000,-999.000
     316N145_5,  I08S,    32,  1,     23, SIH022,2,19941214,0010,-44.0055,  95.0138, 3000, 6099.6,    608.7,   5.3083,  34.3267,2,  34.3286,2,    225.5,2,  5.2580,    226.1,2,    20.26,2,    27.21,2,     0.00,2,     1.86,2,    2.456,2,    1.196,2, -999.000,5,-999.0000,5,  -999.00,9,   -999.0,9,  -999.00,9,-999.000,9,   2164.4,2,   2296.3,2,  -999.0, -999.00,-999.0000,-999.000,-999.000
     316N145_5,  I08S,    32,  1,     22, SIH021,2,19941214,0010,-44.0055,  95.0138, 3000, 7086.8,    708.0,   4.6483,  34.3121,2,  34.3121,2,    223.8,2,  4.5930,    223.2,2,    25.55,2,    29.02,2,     0.00,2,     1.97,2,    2.164,2,    1.031,2, -999.000,5,-999.0000,5,  -999.00,9,   -999.0,9,  -999.00,9,-999.000,9,   2175.0,2,   -999.0,9,  -999.0, -999.00,-999.0000,-999.000,-999.000
     316N145_5,  I08S,    32,  1,     21, SIH020,2,19941214,0010,-44.0055,  95.0138, 3000, 8094.3,    809.4,   4.0631,  34.3142,2,  34.3138,2,    219.1,2,  4.0029,    219.1,2,    31.69,2,    30.40,2,     0.00,2,     2.07,2,    1.866,2,    0.898,2, -999.000,5,-999.0000,5,  -999.00,9,   -999.0,9,  -999.00,9,-999.000,9,   2186.2,2,   -999.0,9,  -999.0, -999.00,-999.0000,-999.000,-999.000
     316N145_5,  I08S,    32,  1,     20, SIH002,2,19941214,0010,-44.0055,  95.0138, 3000, 9110.0,    911.5,   3.6140,  34.3354,2,  34.3370,2,    211.2,2,  3.5486,    210.4,2,    38.85,2,    31.73,2,     0.00,2,     2.16,2,    1.485,2,    0.711,2, -999.000,5,-999.0000,5,  -999.00,9,   -999.0,9,  -999.00,9,-999.000,9,   2199.3,2,   2306.9,2,  -999.0, -999.00,-999.0000,-999.000,-999.000
     316N145_5,  I08S,    32,  1,     19, SIH018,2,19941214,0010,-44.0055,  95.0138, 3000,10104.7,   1011.6,   3.2284,  34.3735,2,  34.3743,2,    202.7,2,  3.1581,    200.8,2,    46.87,2,    32.84,2,     0.00,2,     2.24,2,    1.129,2,    0.540,2, -999.000,5,-999.0000,5,  -999.00,9,   -999.0,9,  -999.00,9,-999.000,9,   2207.9,2,   2312.9,2,  -999.0, -999.00,-999.0000,-999.000,-999.000
     316N145_5,  I08S,    32,  1,     18, SIH017,2,19941214,0010,-44.0055,  95.0138, 3000,11102.7,   1112.0,   3.0362,  34.4210,2,  34.4222,2,    192.1,2,  2.9596,    190.6,2,    54.03,2,    33.48,2,     0.00,2,     2.29,2,    0.779,2,    0.380,2, -999.000,5,-999.0000,5,  -999.00,9,   -999.0,9,  -999.00,9,-999.000,9,   2224.8,2,   -999.0,9,  -999.0, -999.00,-999.0000,-999.000,-999.000
     316N145_5,  I08S,    32,  1,     17, SIH016,2,19941214,0010,-44.0055,  95.0138, 3000,12112.5,   1213.5,   2.9148,  34.4751,2,  34.4754,2,    181.3,2,  2.8313,    182.1,2,    60.18,2,    33.75,2,     0.00,2,     2.32,2,    0.480,2,    0.241,2, -999.000,5,-999.0000,5,  -999.00,9,   -999.0,9,  -999.00,9,-999.000,9,   2234.2,2,   2327.9,2,  -999.0, -999.00,-999.0000,-999.000,-999.000
     316N145_5,  I08S,    32,  1,     16, SIH015,2,19941214,0010,-44.0055,  95.0138, 3000,13119.0,   1314.8,   2.7930,  34.5239,2,  34.5274,2,    178.5,2,  2.7026,    177.0,2,    65.12,2,    33.79,2,     0.00,2,     2.31,2,    0.299,2,    0.153,2, -999.000,5,-999.0000,5,  -999.00,9,   -999.0,9,  -999.00,9,-999.000,9,   2240.7,2,   2333.4,2,  -999.0, -999.00,-999.0000,-999.000,-999.000
     316N145_5,  I08S,    32,  1,     15, SIH014,2,19941214,0010,-44.0055,  95.0138, 3000,14122.1,   1415.7,   2.7011,  34.5686,2,  34.5710,2,    175.1,2,  2.6035,    174.9,2,    69.04,2,    33.59,2,     0.00,2,     2.30,2,    0.188,2,    0.093,2, -999.000,5,-999.0000,5,  -999.00,9,   -999.0,9,  -999.00,9,-999.000,9,   2244.6,2,   2327.7,2,  -999.0, -999.00,-999.0000,-999.000,-999.000
     316N145_5,  I08S,    32,  1,     14, SIH013,2,19941214,0010,-44.0055,  95.0138, 3000,15135.7,   1517.6,   2.6071,  34.6053,2,  34.6064,2,    177.5,2,  2.5023,    177.0,2,    70.58,2,    33.06,2,     0.00,2,     2.26,2,    0.189,2,    0.106,2, -999.000,5,-999.0000,5,  -999.00,9,   -999.0,9,  -999.00,9,-999.000,9,   2244.9,2,   2343.5,2,  -999.0, -999.00,-999.0000,-999.000,-999.000
     316N145_5,  I08S,    32,  1,     13, SIH012,2,19941214,0010,-44.0055,  95.0138, 3000,16124.2,   1617.1,   2.5566,  34.6383,2,  34.6386,2,    179.2,2,  2.4442,    179.0,2,    71.61,2,    32.47,2,     0.00,2,     2.22,2,    0.147,2,    0.070,2, -999.000,5,-999.0000,5,  -999.00,9,   -999.0,9,  -999.00,9,-999.000,9,   2244.2,2,   2332.9,2,  -999.0, -999.00,-999.0000,-999.000,-999.000
     316N145_5,  I08S,    32,  1,     12, SIH011,2,19941214,0010,-44.0055,  95.0138, 3000,17133.5,   1718.6,   2.5134,  34.6668,2,  34.6655,2,    181.7,2,  2.3931,    181.0,2,    72.97,2,    31.99,2,     0.00,2,     2.18,2,    0.112,2,    0.062,2, -999.000,5,-999.0000,5,  -999.00,9,   -999.0,9,  -999.00,9,-999.000,9,   2243.7,2,   2350.3,2,  -999.0, -999.00,-999.0000,-999.000,-999.000
     316N145_5,  I08S,    32,  1,     11, SIH010,2,19941214,0010,-44.0055,  95.0138, 3000,18137.6,   1819.6,   2.4490,  34.6953,2,  34.6961,2,    185.5,2,  2.3210,    184.7,2,    73.99,2,    31.40,2,     0.00,2,     2.14,2,    0.084,2,    0.044,2, -999.000,5,-999.0000,5,  -999.00,9,   -999.0,9,  -999.00,9,-999.000,9,   2242.0,2,   2350.3,2,  -999.0, -999.00,-999.0000,-999.000,-999.000
     316N145_5,  I08S,    32,  1,     10, SIH009,2,19941214,0010,-44.0055,  95.0138, 3000,19145.9,   1921.0,   2.4047,  34.7123,2,  34.7127,2,    188.8,2,  2.2687,    186.8,2,    74.85,2,    30.93,2,     0.00,2,     2.10,2,    0.068,2,    0.037,2, -999.000,5,-999.0000,5,  -999.00,9,   -999.0,9,  -999.00,9,-999.000,9,   2240.3,2,   2352.9,2,  -999.0, -999.00,-999.0000,-999.000,-999.000
     316N145_5,  I08S,    32,  1,      9, SIH008,2,19941214,0010,-44.0055,  95.0138, 3000,20206.4,   2027.7,   2.3435,  34.7313,2,  34.7327,2,    192.0,2,  2.1991,    190.9,2,    75.70,2,    30.40,2,     0.00,2,     2.07,2,    0.066,2,    0.045,3, -999.000,5,-999.0000,5,  -999.00,9,   -999.0,9,  -999.00,9,-999.000,9,   2239.9,2,   2361.9,2,  -999.0, -999.00,-999.0000,-999.000,-999.000
     316N145_5,  I08S,    32,  1,      8, SIH038,2,19941214,0010,-44.0055,  95.0138, 3000,21207.7,   2128.4,   2.2734,  34.7435,2,  34.7445,2,    194.6,2,  2.1213,    193.5,2,    77.41,2,    30.13,2,     0.00,2,     2.05,2, -999.000,9, -999.000,9, -999.000,5,-999.0000,5,  -999.00,9,   -999.0,9,  -999.00,9,-999.000,9,   2239.2,2,   2357.5,2,  -999.0, -999.00,-999.0000,-999.000,-999.000
     316N145_5,  I08S,    32,  1,      7, SIH006,2,19941214,0010,-44.0055,  95.0138, 3000,22218.4,   2230.1,   2.1800,  34.7505,2,  34.7522,2,    196.4,2,  2.0204,    195.8,2,    79.79,2,    29.98,2,     0.00,2,     2.04,2,    0.049,2,    0.075,3, -999.000,5,-999.0000,5,  -999.00,9,   -999.0,9,  -999.00,9,-999.000,9,   2238.9,2,   2365.4,2,  -999.0, -999.00,-999.0000,-999.000,-999.000
     316N145_5,  I08S,    32,  1,      6, SIH005,2,19941214,0010,-44.0055,  95.0138, 3000,24245.2,   2433.9,   1.9857,  34.7545,2,  34.7553,2,    198.1,2,  1.8112,    198.5,3,    86.27,2,    30.08,2,     0.00,2,     2.05,2, -999.000,9, -999.000,9, -999.000,5,-999.0000,5,  -999.00,9,   -999.0,9,  -999.00,9,-999.000,9,   2243.6,2,   2372.3,2,  -999.0, -999.00,-999.0000,-999.000,-999.000
     316N145_5,  I08S,    32,  1,      5, SIH004,2,19941214,0010,-44.0055,  95.0138, 3000,26296.0,   2640.2,   1.7063,  34.7465,2,  34.7476,2,    201.3,2,  1.5184,    201.0,3,    95.83,2,    30.51,2,     0.00,2,     2.09,2,    0.027,2,    0.017,2, -999.000,5,-999.0000,5,  -999.00,9,   -999.0,9,  -999.00,9,-999.000,9,   2249.0,2,   2360.7,2,  -999.0, -999.00,-999.0000,-999.000,-999.000
     316N145_5,  I08S,    32,  1,      4, SIH025,2,19941214,0010,-44.0055,  95.0138, 3000,28320.0,   2843.8,   1.5308,  34.7398,2,  34.7400,2,    201.0,2,  1.3277,    201.0,2,   102.65,2,    30.93,2,     0.00,2,     2.12,2, -999.000,9, -999.000,9, -999.000,5,-999.0000,5,  -999.00,9,   -999.0,9,  -999.00,9,-999.000,9,   2253.7,2,   2376.9,2,  -999.0, -999.00,-999.0000,-999.000,-999.000
     316N145_5,  I08S,    32,  1,      3, SIH019,2,19941214,0010,-44.0055,  95.0138, 3000,29219.5,   2934.3,   1.5156,  34.7395,2,  34.7402,2,    201.0,2,  1.3043,    201.6,2,   103.50,2,    30.93,2,     0.00,2,     2.12,2,    0.033,2,    0.017,2, -999.000,5,-999.0000,5,  -999.00,9,   -999.0,9,  -999.00,9,-999.000,9,   2252.6,2,   2372.1,2,  -999.0, -999.00,-999.0000,-999.000,-999.000
     316N145_5,  I08S,    32,  1,      2, SIH001,2,19941214,0010,-44.0055,  95.0138, 3000,29916.9,   3004.5,   1.4905,  34.7381,2,  34.7388,2,    201.4,2,  1.2731,    202.2,2,   103.85,2,    30.99,2,     0.00,2,     2.12,2,    0.035,2,    0.032,3, -999.000,5,-999.0000,5,  -999.00,9,   -999.0,9,  -999.00,9,-999.000,9,   2240.9,3,   -999.0,9,  -999.0, -999.00,-999.0000,-999.000,-999.000
     316N145_5,  I08S,    32,  1,      1, SIH036,2,19941214,0010,-44.0055,  95.0138, 3000,30406.5,   3053.7,   1.4833,  34.7379,2,  34.7384,2,    200.9,2,  1.2614,    202.2,2,   104.25,2,    31.00,2,     0.00,2,     2.12,2,    0.036,2,    0.025,2, -999.000,5,-999.0000,5,  -999.00,9,   -999.0,9,  -999.00,9,-999.000,9,   2253.9,6,   2372.1,2,  -999.0, -999.00,-999.0000,-999.000,-999.000