BOTTLE,20090521WHPSIOdm
EXPOCODE,SECT_ID,STNNBR,CASTNO,SAMPNO,BTLNBR,BTLNBR_FLAG_W,DATE,TIME,LATITUDE,LONGITUDE,DEPTH,CTDRAW,CTDPRS,CTDTMP,CTDSAL,CTDSAL_FLAG_W,SALNTY,SALNTY_FLAG_W,CTDOXY,CTDOXY_FLAG_W,THETA,OXYGEN,OXYGEN_FLAG_W,SILCAT,SILCAT_FLAG_W,NITRAT,NITRAT_FLAG_W,NITRIT,NITRIT_FLAG_W,PHSPHT,PHSPHT_FLAG_W,CFC-11,CFC-11_FLAG_W,CFC-12,CFC-12_FLAG_W,TRITUM,TRITUM_FLAG_W,HELIUM,HELIUM_FLAG_W,DELHE3,DELHE3_FLAG_W,DELC14,DELC14_FLAG_W,DELC13,DELC13_FLAG_W,NEON,NEON_FLAG_W,TCARBN,TCARBN_FLAG_W,ALKALI,ALKALI_FLAG_W,C14ERR,DELHER,HELIER,NEONER,TRITER
,,,,,,,,,,,,,DBAR,IPTS-68,PSS-78,,PSS-78,,UMOL/KG,,IPTS-68,UMOL/KG,,UMOL/KG,,UMOL/KG,,UMOL/KG,,UMOL/KG,,PMOL/KG,,PMOL/KG,,TU,,NMOL/KG,,PERCNT,,/MILLE,,/MILLE,,NMOL/KG,,UMOL/KG,,UMOL/KG,,/MILLE,PERCNT,NMOL/KG,NMOL/KG,TU
     316N145_5,  I09S,   142,  1,     24, SIH037,2,19950117,1509,-35.6500, 114.9972, 5085, 5122.5,    509.8,   9.1258,  34.6583,2,  34.6586,2,    244.8,2,  9.0692,    237.8,2,     6.13,2,    16.92,2,     0.00,2,     1.20,2, -999.000,9, -999.000,9, -999.000,5,-999.0000,5,  -999.00,9,     37.3,2,     1.06,2,-999.000,9,   2118.4,2,   -999.0,9,     3.5, -999.00,-999.0000,-999.000,-999.000
     316N145_5,  I09S,   142,  1,     23, SIH033,2,19950117,1509,-35.6500, 114.9972, 5085, 6110.6,    609.2,   8.4496,  34.5740,2,  34.5755,2,    236.0,2,  8.3847,    227.1,2,     8.51,2,    19.91,2,     0.00,2,     1.38,2, -999.000,9, -999.000,9, -999.000,5,-999.0000,5,  -999.00,9,      3.4,2,     0.90,2,-999.000,9,   2129.9,2,   2299.2,2,     3.5, -999.00,-999.0000,-999.000,-999.000
     316N145_5,  I09S,   142,  1,     22, SIH031,2,19950117,1509,-35.6500, 114.9972, 5085, 7123.6,    711.0,   7.5075,  34.4931,2,  34.4942,2,    208.3,2,  7.4363,    206.8,2,    13.64,2,    23.96,2,     0.00,2,     1.63,2, -999.000,9, -999.000,9, -999.000,5,-999.0000,5,  -999.00,9,    -22.9,2,     1.08,2,-999.000,9,   2149.8,2,   2317.3,3,     3.1, -999.00,-999.0000,-999.000,-999.000
     316N145_5,  I09S,   142,  1,     21, SIH030,2,19950117,1509,-35.6500, 114.9972, 5085, 8119.9,    811.2,   6.2234,  34.4237,2,  34.4239,2,    200.2,2,  6.1495,    198.4,2,    21.51,2,    27.56,2,     0.00,2,     1.86,2, -999.000,9, -999.000,9, -999.000,5,-999.0000,5,  -999.00,9,    -60.6,2,     0.95,2,-999.000,9,   -999.0,9,   2292.2,2,     3.1, -999.00,-999.0000,-999.000,-999.000
     316N145_5,  I09S,   142,  1,     20, SIH028,2,19950117,1509,-35.6500, 114.9972, 5085, 9119.2,    911.7,   4.9711,  34.3711,2,  34.3719,2,    201.8,2,  4.8961,    199.8,2,    30.01,2,    29.92,2,     0.00,2,     2.03,2, -999.000,9, -999.000,9, -999.000,5,-999.0000,5,  -999.00,9,    -81.1,2,     0.70,2,-999.000,9,   2185.4,2,   2309.2,2,     3.6, -999.00,-999.0000,-999.000,-999.000
     316N145_5,  I09S,   142,  1,     19, SIH027,2,19950117,1509,-35.6500, 114.9972, 5085,10143.8,   1014.8,   4.1111,  34.3773,2,-999.0000,9,    191.7,2,  4.0336,    192.9,2,    40.79,2,    31.86,2,     0.00,2,     2.17,2, -999.000,9, -999.000,9, -999.000,5,-999.0000,5,  -999.00,9,   -111.3,2,     0.42,2,-999.000,9,   2202.9,2,   2327.6,2,     3.4, -999.00,-999.0000,-999.000,-999.000
     316N145_5,  I09S,   142,  1,     18, SIH003,2,19950117,1509,-35.6500, 114.9972, 5085,11113.9,   1112.4,   3.6527,  34.4158,2,  34.4186,2,    180.6,2,  3.5707,    181.7,2,    51.24,2,    33.15,2,     0.00,2,     2.27,2, -999.000,9, -999.000,9, -999.000,5,-999.0000,5,  -999.00,9,   -132.0,2,     0.31,2,-999.000,9,   2220.6,2,   2318.1,2,     3.4, -999.00,-999.0000,-999.000,-999.000
     316N145_5,  I09S,   142,  1,     17, SIH024,2,19950117,1509,-35.6500, 114.9972, 5085,12135.6,   1215.1,   3.2664,  34.4549,2,  34.4589,2,    175.5,2,  3.1794,    174.4,2,    59.27,2,    33.94,2,     0.00,2,     2.34,2, -999.000,9, -999.000,9, -999.000,5,-999.0000,5,  -999.00,9,   -144.4,2,     0.36,2,-999.000,9,   2233.9,2,   2329.8,2,     2.9, -999.00,-999.0000,-999.000,-999.000
     316N145_5,  I09S,   142,  1,     16, SIH022,2,19950117,1509,-35.6500, 114.9972, 5085,14124.4,   1415.2,   2.8890,  34.5441,2,  34.5465,2,    166.3,2,  2.7894,    164.0,2,    72.15,2,    34.46,2,     0.00,2,     2.38,2, -999.000,9, -999.000,9, -999.000,5,-999.0000,5,  -999.00,9,   -164.7,2,     0.09,2,-999.000,9,   2250.0,2,   2345.6,2,     3.2, -999.00,-999.0000,-999.000,-999.000
     316N145_5,  I09S,   142,  1,     15, SIH021,2,19950117,1509,-35.6500, 114.9972, 5085,16121.7,   1616.1,   2.7052,  34.6218,2,  34.6250,2,    162.2,2,  2.5911,    160.8,2,    81.79,2,    34.19,2,     0.00,2,     2.36,2, -999.000,9, -999.000,9, -999.000,5,-999.0000,5,  -999.00,9,   -173.1,2,     0.19,2,-999.000,9,   2260.8,2,   2341.9,2,     2.8, -999.00,-999.0000,-999.000,-999.000
     316N145_5,  I09S,   142,  1,     14, SIH002,2,19950117,1509,-35.6500, 114.9972, 5085,18119.3,   1817.0,   2.5293,  34.6761,2,  34.6779,2,    166.2,2,  2.4005,    180.7,4,    89.35,2,    33.51,2,     0.00,2,     2.32,2, -999.000,9, -999.000,9, -999.000,5,-999.0000,5,  -999.00,9,   -165.7,2,     0.24,2,-999.000,9,   2265.9,2,   2368.1,2,     2.8, -999.00,-999.0000,-999.000,-999.000
     316N145_5,  I09S,   142,  1,     13, SIH018,2,19950117,1509,-35.6500, 114.9972, 5085,20160.7,   2022.4,   2.3382,  34.7082,2,  34.7113,2,    165.5,2,  2.1944,    165.7,2,    97.39,2,    33.24,2,     0.00,2,     2.30,2, -999.000,9, -999.000,9, -999.000,5,-999.0000,5,  -999.00,9,   -191.6,2,    -0.07,2,-999.000,9,   2271.0,2,   2386.6,2,     3.0, -999.00,-999.0000,-999.000,-999.000
     316N145_5,  I09S,   142,  1,     12, SIH016,2,19950117,1509,-35.6500, 114.9972, 5085,22190.9,   2226.6,   2.1521,  34.7245,2,  34.7256,2,    173.2,2,  1.9934,    171.9,2,   100.44,2,    32.78,2,     0.00,2,     2.26,2, -999.000,9, -999.000,9, -999.000,5,-999.0000,5,  -999.00,9,   -190.4,2,    -0.28,2,-999.000,9,   2269.7,2,   2370.9,2,     3.8, -999.00,-999.0000,-999.000,-999.000
     316N145_5,  I09S,   142,  1,     11, SIH015,2,19950117,1509,-35.6500, 114.9972, 5085,25228.2,   2532.1,   1.9072,  34.7311,2,  34.7335,2,    178.1,2,  1.7253,    177.5,2,   106.39,2,    32.52,2,     0.00,2,     2.24,2, -999.000,9, -999.000,9, -999.000,5,-999.0000,5,  -999.00,9,   -158.1,2,    -0.10,2,-999.000,9,   2272.3,2,   2382.6,2,     4.2, -999.00,-999.0000,-999.000,-999.000
     316N145_5,  I09S,   142,  1,     10, SI9426,2,19950117,1509,-35.6500, 114.9972, 5085,28260.8,   2837.1,   1.6930,  34.7303,2,  34.7313,2,    181.1,2,  1.4872,    183.1,2,   110.56,2,    32.29,2,     0.00,2,     2.23,2, -999.000,9, -999.000,9, -999.000,5,-999.0000,5,  -999.00,9,   -172.4,2,    -0.22,2,-999.000,9,   2272.3,2,   2393.5,2,     4.4, -999.00,-999.0000,-999.000,-999.000
     316N145_5,  I09S,   142,  1,      9, SIH012,2,19950117,1509,-35.6500, 114.9972, 5085,31288.9,   3141.7,   1.5156,  34.7305,2,  34.7319,2,    188.6,2,  1.2845,    190.8,2,   111.68,2,    31.93,2,     0.00,2,     2.20,2, -999.000,9, -999.000,9, -999.000,5,-999.0000,5,  -999.00,9,   -157.3,2,     0.30,2,-999.000,9,   2268.3,2,   2375.9,2,     3.3, -999.00,-999.0000,-999.000,-999.000
     316N145_5,  I09S,   142,  1,      8, SIH010,2,19950117,1509,-35.6500, 114.9972, 5085,34346.7,   3449.3,   1.3477,  34.7243,2,  34.7252,2,    192.1,2,  1.0902,    193.8,2,   116.66,2,    32.18,2,     0.00,2,     2.21,2, -999.000,9, -999.000,9, -999.000,5,-999.0000,5,  -999.00,9,   -162.5,2,     0.31,2,-999.000,9,   2270.9,2,   2383.0,2,     3.1, -999.00,-999.0000,-999.000,-999.000
     316N145_5,  I09S,   142,  1,      7, SIH009,2,19950117,1509,-35.6500, 114.9972, 5085,37488.1,   3765.3,   1.2734,  34.7214,2,  34.7233,2,    195.0,2,  0.9854,    195.4,2,   119.07,2,    32.27,2,     0.00,2,     2.22,2, -999.000,9, -999.000,9, -999.000,5,-999.0000,5,  -999.00,9,   -179.9,2,    -0.34,2,-999.000,9,   2271.4,2,   2393.5,2,     2.9, -999.00,-999.0000,-999.000,-999.000
     316N145_5,  I09S,   142,  1,      6, SIH038,2,19950117,1509,-35.6500, 114.9972, 5085,40518.9,   4070.1,   1.2559,  34.7201,2,  34.7205,2,    197.2,2,  0.9361,    196.7,2,   120.02,2,    32.23,2,     0.00,2,     2.22,2, -999.000,9, -999.000,9, -999.000,5,-999.0000,5,  -999.00,9,   -195.6,2,    -0.63,2,-999.000,9,   2271.6,2,   2385.1,2,     2.5, -999.00,-999.0000,-999.000,-999.000
     316N145_5,  I09S,   142,  1,      5, SIH006,2,19950117,1509,-35.6500, 114.9972, 5085,43553.4,   4375.4,   1.1818,  34.7174,2,  34.7176,2,    202.4,2,  0.8305,    200.4,2,   120.49,2,    32.20,2,     0.00,2,     2.21,2, -999.000,9, -999.000,9, -999.000,5,-999.0000,5,  -999.00,9,   -171.7,2,    -0.08,2,-999.000,9,   2268.6,2,   2386.3,2,     2.8, -999.00,-999.0000,-999.000,-999.000
     316N145_5,  I09S,   142,  1,      4, SIH004,2,19950117,1509,-35.6500, 114.9972, 5085,46635.7,   4685.4,   1.0229,  34.7102,2,  34.7111,2,    209.2,2,  0.6415,    205.7,2,   122.25,2,    32.17,2,     0.00,2,     2.21,2, -999.000,9, -999.000,9, -999.000,5,-999.0000,5,  -999.00,9,   -162.1,2,     0.03,2,-999.000,9,   2264.8,2,   -999.0,9,     3.4, -999.00,-999.0000,-999.000,-999.000
     316N145_5,  I09S,   142,  1,      3, SIH025,2,19950117,1509,-35.6500, 114.9972, 5085,49688.5,   4992.5,   0.9517,  34.7063,2,  34.7070,2,    213.0,2,  0.5367,    207.5,2,   124.01,2,    32.22,2,     0.00,2,     2.21,2, -999.000,9, -999.000,9, -999.000,5,-999.0000,5,  -999.00,9,   -159.8,2,     0.21,2,-999.000,9,   2263.7,2,   2388.1,2,     3.8, -999.00,-999.0000,-999.000,-999.000
     316N145_5,  I09S,   142,  1,      2, SIH001,2,19950117,1509,-35.6500, 114.9972, 5085,51077.6,   5132.2,   0.9531,  34.7049,2,  34.7074,3,    214.2,2,  0.5214,    208.6,2,   124.32,2,    32.27,2,     0.00,2,     2.21,2, -999.000,9, -999.000,9, -999.000,5,-999.0000,5,  -999.00,9,   -152.1,2,     0.35,2,-999.000,9,   2264.8,2,   2387.5,2,     2.8, -999.00,-999.0000,-999.000,-999.000
     316N145_5,  I09S,   142,  1,      1, SIH036,2,19950117,1509,-35.6500, 114.9972, 5085,51579.3,   5182.7,   0.9536,  34.7055,2,  34.7052,2,    215.5,2,  0.5158,    208.6,2,   124.59,2,    32.32,2,     0.00,2,     2.21,2, -999.000,9, -999.000,9, -999.000,5,-999.0000,5,  -999.00,9,   -147.7,2,     0.41,2,-999.000,9,   2263.0,2,   -999.0,9,     6.3, -999.00,-999.0000,-999.000,-999.000
     316N145_5,  I09S,   143,  1,     14, SIH002,2,19950117,1844,-35.6445, 115.0138, 4470,  148.9,      9.9,  19.4467,  35.6605,2,  35.6599,2,    249.9,2, 19.4449,    232.3,2,     0.75,2,     0.03,2,     0.00,2,     0.11,2, -999.000,9, -999.000,9, -999.000,5,-999.0000,5,  -999.00,9,     89.8,2,  -999.00,9,-999.000,9,   2048.6,2,   -999.0,9,     3.9, -999.00,-999.0000,-999.000,-999.000
     316N145_5,  I09S,   143,  1,     13, SIH018,2,19950117,1844,-35.6445, 115.0138, 4470,  343.3,     29.4,  19.2178,  35.6352,2,  35.6321,2,    257.8,2, 19.2125,    234.8,2,     1.05,2,     0.03,2,     0.00,2,     0.12,2, -999.000,9, -999.000,9, -999.000,5,-999.0000,5,  -999.00,9,     73.0,2,     1.39,2,-999.000,9,   2047.6,2,   -999.0,9,     3.6, -999.00,-999.0000,-999.000,-999.000
     316N145_5,  I09S,   143,  1,     12, SIH016,2,19950117,1844,-35.6445, 115.0138, 4470,  601.6,     55.4,  16.8817,  35.6536,2,  35.6705,2,    249.3,2, 16.8726,    244.6,2,     2.13,2,     0.02,2,     0.00,2,     0.14,2, -999.000,9, -999.000,9, -999.000,5,-999.0000,5,  -999.00,9,     74.4,2,     1.00,2,-999.000,9,   2054.1,2,   -999.0,9,     3.7, -999.00,-999.0000,-999.000,-999.000
     316N145_5,  I09S,   143,  1,     11, SIH015,2,19950117,1844,-35.6445, 115.0138, 4470,  843.2,     79.7,  15.2530,  35.5121,2,  35.5095,2,    258.3,2, 15.2408,    243.1,2,     2.42,2,     1.12,2,     0.14,2,     0.24,2, -999.000,9, -999.000,9, -999.000,5,-999.0000,5,  -999.00,9,     81.5,2,     1.39,2,-999.000,9,   2066.6,2,   -999.0,9,     3.6, -999.00,-999.0000,-999.000,-999.000
     316N145_5,  I09S,   143,  1,     10, SI9426,2,19950117,1844,-35.6445, 115.0138, 4470, 1094.6,    105.0,  14.5667,  35.4462,2,  35.4575,2,    241.0,2, 14.5511,    240.5,2,     2.23,2,     1.73,2,     0.03,2,     0.28,2, -999.000,9, -999.000,9, -999.000,5,-999.0000,5,  -999.00,9,     58.9,2,     0.76,2,-999.000,9,   2070.6,2,   -999.0,9,     3.6, -999.00,-999.0000,-999.000,-999.000
     316N145_5,  I09S,   143,  1,      9, SIH012,2,19950117,1844,-35.6445, 115.0138, 4470, 1591.7,    155.0,  13.3827,  35.2439,2,  35.2475,2,    249.3,2, 13.3609,    241.8,2,     2.35,2,     3.86,2,     0.01,2,     0.42,2, -999.000,9, -999.000,9, -999.000,5,-999.0000,5,  -999.00,9,     73.1,2,     1.27,2,-999.000,9,   2081.9,2,   -999.0,9,     4.0, -999.00,-999.0000,-999.000,-999.000
     316N145_5,  I09S,   143,  1,      8, SIH010,2,19950117,1844,-35.6445, 115.0138, 4470, 2107.8,    206.9,  12.1523,  35.0816,2,  35.0929,2,    249.4,2, 12.1250,    238.9,2,     2.81,2,     6.79,2,     0.01,2,     0.60,2, -999.000,9, -999.000,9, -999.000,5,-999.0000,5,  -999.00,9,     52.3,2,     0.82,2,-999.000,9,   2092.4,2,   -999.0,9,     4.1, -999.00,-999.0000,-999.000,-999.000
     316N145_5,  I09S,   143,  1,      7, SIH009,2,19950117,1844,-35.6445, 115.0138, 4470, 2585.5,    255.0,  11.3218,  34.9794,2,  34.9785,2,    241.5,2, 11.2897,    235.2,2,     3.42,2,     9.68,2,     0.01,2,     0.76,2, -999.000,9, -999.000,9, -999.000,5,-999.0000,5,  -999.00,9,     63.0,2,     1.06,2,-999.000,9,   2102.4,2,   2305.9,2,     3.6, -999.00,-999.0000,-999.000,-999.000
     316N145_5,  I09S,   143,  1,      6, SIH038,2,19950117,1844,-35.6445, 115.0138, 4470, 3067.9,    303.5,  10.6478,  34.8883,2,  34.8881,2,    243.0,2, 10.6110,    236.3,2,     4.04,2,    11.76,2,     0.00,2,     0.89,2, -999.000,9, -999.000,9, -999.000,5,-999.0000,5,  -999.00,9,     43.5,2,     0.53,2,-999.000,9,   2106.9,2,   2312.5,2,     3.7, -999.00,-999.0000,-999.000,-999.000
     316N145_5,  I09S,   143,  1,      5, SIH006,2,19950117,1844,-35.6445, 115.0138, 4470, 3565.6,    353.6,  10.0725,  34.8005,2,  34.8025,2,    244.1,2, 10.0310,    239.0,2,     4.64,2,    13.41,2,     0.00,2,     0.99,2, -999.000,9, -999.000,9, -999.000,5,-999.0000,5,  -999.00,9,     42.9,2,     0.34,2,-999.000,9,   2110.4,2,   2317.6,2,     5.2, -999.00,-999.0000,-999.000,-999.000
     316N145_5,  I09S,   143,  1,      4, SIH004,2,19950117,1844,-35.6445, 115.0138, 4470, 4029.8,    400.3,   9.6843,  34.7456,2,  34.7429,2,    243.1,2,  9.6384,    239.3,2,     5.09,2,    14.84,2,     0.00,2,     1.07,2, -999.000,9, -999.000,9, -999.000,5,-999.0000,5,  -999.00,9,     65.4,2,     1.12,2,-999.000,9,   2114.8,2,   2300.3,2,     4.1, -999.00,-999.0000,-999.000,-999.000
     316N145_5,  I09S,   143,  1,      3, SIH025,2,19950117,1844,-35.6445, 115.0138, 4470, 4514.6,    449.1,   9.3861,  34.6978,2,  34.6956,2,    239.8,2,  9.3355,    239.6,2,     5.55,2,    15.80,2,     0.00,2,     1.13,2, -999.000,9, -999.000,9, -999.000,5,-999.0000,5,  -999.00,9,     61.0,2,     1.00,2,-999.000,9,   2116.8,2,   2304.1,2,     4.8, -999.00,-999.0000,-999.000,-999.000
     316N145_5,  I09S,   143,  1,      1, SIH036,2,19950117,1844,-35.6445, 115.0138, 4470, 5014.9,    499.4,   9.1940,  34.6683,2,  34.6675,2,    239.3,3,  9.1383,    239.1,2,     6.00,2,    16.64,2,     0.00,2,     1.18,2, -999.000,9, -999.000,9, -999.000,5,-999.0000,5,  -999.00,9,     35.3,2,     1.08,2,-999.000,9,   -999.0,9,   2258.9,3,     4.8, -999.00,-999.0000,-999.000,-999.000
     316N145_5,  I09S,   143,  1,      2, SIH001,2,19950117,1844,-35.6445, 115.0138, 4470, 5016.3,    499.6,   9.1936,  34.6678,3,-999.0000,9,    238.6,3,  9.1379,   -999.0,9,  -999.00,9,  -999.00,9,  -999.00,9,  -999.00,9, -999.000,9, -999.000,9, -999.000,5,-999.0000,5,  -999.00,9,     53.1,6,     1.25,6,-999.000,9,   -999.0,9,   -999.0,9,     3.8, -999.00,-999.0000,-999.000,-999.000