BOTTLE,20090521WHPSIOdm
EXPOCODE,SECT_ID,STNNBR,CASTNO,SAMPNO,BTLNBR,BTLNBR_FLAG_W,DATE,TIME,LATITUDE,LONGITUDE,DEPTH,CTDRAW,CTDPRS,CTDTMP,CTDSAL,CTDSAL_FLAG_W,SALNTY,SALNTY_FLAG_W,CTDOXY,CTDOXY_FLAG_W,THETA,OXYGEN,OXYGEN_FLAG_W,SILCAT,SILCAT_FLAG_W,NITRAT,NITRAT_FLAG_W,NITRIT,NITRIT_FLAG_W,PHSPHT,PHSPHT_FLAG_W,CFC-11,CFC-11_FLAG_W,CFC-12,CFC-12_FLAG_W,TRITUM,TRITUM_FLAG_W,HELIUM,HELIUM_FLAG_W,DELHE3,DELHE3_FLAG_W,DELC14,DELC14_FLAG_W,DELC13,DELC13_FLAG_W,NEON,NEON_FLAG_W,TCARBN,TCARBN_FLAG_W,ALKALI,ALKALI_FLAG_W,C14ERR,DELHER,HELIER,NEONER,TRITER
,,,,,,,,,,,,,DBAR,IPTS-68,PSS-78,,PSS-78,,UMOL/KG,,IPTS-68,UMOL/KG,,UMOL/KG,,UMOL/KG,,UMOL/KG,,UMOL/KG,,PMOL/KG,,PMOL/KG,,TU,,NMOL/KG,,PERCNT,,/MILLE,,/MILLE,,NMOL/KG,,UMOL/KG,,UMOL/KG,,/MILLE,PERCNT,NMOL/KG,NMOL/KG,TU
     316N145_5,  I08S,    35,  1,     30, SIH017,2,19941214,1602,-44.9917,  94.9972, 2890,  401.6,     35.6,   9.4742,  34.5021,2,  34.5040,2,    291.9,2,  9.4702,    284.4,2,     1.24,2,    11.25,2,     0.26,2,     0.97,2,    3.866,2,    1.988,2,    0.521,2,-999.0000,5,  -999.00,9,     31.2,2,     1.65,2,-999.000,9,   2081.5,2,   2301.0,2,     5.6, -999.00,-999.0000,-999.000,   0.009
     316N145_5,  I08S,    35,  1,     29, SIH014,2,19941214,1602,-44.9917,  94.9972, 2890,  833.1,     79.0,   9.3749,  34.4905,2,  34.4883,2,    288.5,2,  9.3662,    283.3,2,     1.41,2,    11.54,2,     0.26,2,     1.00,2,    4.057,2,    1.967,2,    0.563,2,   1.7790,2,    -1.20,2,     38.6,2,     1.61,2,   7.597,2,   2083.4,2,   -999.0,9,     4.6,    0.14,  0.0040,   0.032,   0.009
     316N145_5,  I08S,    35,  1,     28, SIH011,2,19941214,1602,-44.9917,  94.9972, 2890, 1645.4,    160.7,   9.2292,  34.6460,2,  34.6466,2,    272.3,2,  9.2116,    268.4,2,     4.86,2,    13.32,2,     0.07,2,     1.08,2,    3.684,6,    1.910,6,    0.572,2,-999.0000,5,  -999.00,9,     44.2,2,     1.35,2,-999.000,9,   2099.1,2,   2291.7,2,     4.3, -999.00,-999.0000,-999.000,   0.012
     316N145_5,  I08S,    35,  1,     27, SIH008,2,19941214,1602,-44.9917,  94.9972, 2890, 2642.0,    260.9,   8.6057,  34.5527,2,  34.5504,2,    264.2,2,  8.5781,    269.7,2,     5.37,2,    14.94,2,     0.00,2,     1.18,2,    3.742,2,    1.925,2,    0.558,2,   1.7670,2,    -1.66,2,     43.9,2,     1.40,2,   7.533,2,   2102.7,2,   -999.0,9,     4.3,    0.14,  0.0040,   0.042,   0.010
     316N145_5,  I08S,    35,  1,     26, SIH005,2,19941214,1602,-44.9917,  94.9972, 2890, 3636.6,    360.9,   7.9663,  34.4819,2,  34.4809,2,    250.1,2,  7.9298,    247.9,2,     8.12,2,    18.57,2,     0.00,2,     1.39,2,    3.208,2,    1.645,2,    0.468,2,   1.7840,2,    -0.08,2,     29.2,2,     1.34,2,   7.608,2,   2121.8,2,   2288.3,2,     4.2,    0.17,  0.0030,   0.035,   0.008
     316N145_5,  I08S,    35,  1,     25, SIH019,2,19941214,1602,-44.9917,  94.9972, 2890, 4633.8,    461.2,   7.0040,  34.4312,2,  34.4332,2,    227.5,2,  6.9604,    227.6,2,    13.14,2,    22.78,2,     0.00,2,     1.63,2,    2.580,2,    1.283,2,    0.239,2,   1.7920,2,     0.49,2,     -5.6,2,     1.22,2,   7.667,2,   2142.3,2,   -999.0,9,     3.7,    0.17,  0.0030,   0.038,   0.007
     316N145_5,  I08S,    35,  1,     24, SIH037,2,19941214,1602,-44.9917,  94.9972, 2890, 5139.1,    512.0,   6.5429,  34.4147,2,  34.4163,2,    220.2,2,  6.4961,    220.8,2,    15.90,2,    24.51,2,     0.00,2,     1.73,2,    2.391,2,    1.163,2,    0.270,2,-999.0000,5,  -999.00,9,    -12.2,2,     1.15,2,-999.000,9,   2150.4,2,   2293.1,2,     4.2, -999.00,-999.0000,-999.000,   0.007
     316N145_5,  I08S,    35,  1,     23, SIH033,2,19941214,1602,-44.9917,  94.9972, 2890, 6146.3,    613.3,   5.3854,  34.3459,2,  34.3478,2,    218.3,2,  5.3343,    221.9,2,    21.09,2,    27.37,2,    -0.01,2,     1.91,2,    2.231,2,    1.086,2,    0.186,2,   1.8000,2,     1.48,2,    -26.6,2,     1.09,2,   7.796,2,   2163.5,2,   2308.6,2,     3.7,    0.17,  0.0030,   0.020,   0.007
     316N145_5,  I08S,    35,  1,     22, SIH031,2,19941214,1602,-44.9917,  94.9972, 2890, 7224.0,    721.7,   4.4397,  34.3078,2,  34.3085,2,    221.9,2,  4.3843,    223.0,2,    26.79,2,    29.39,2,    -0.01,2,     2.03,2,    2.131,2,    1.018,2,    0.247,2,-999.0000,5,  -999.00,9,    -45.9,2,     1.06,2,-999.000,9,   2175.9,2,   2289.5,2,     3.5, -999.00,-999.0000,-999.000,   0.007
     316N145_5,  I08S,    35,  1,     21, SIH030,2,19941214,1602,-44.9917,  94.9972, 2890, 8116.5,    811.5,   3.9832,  34.3143,2,  34.3146,2,    218.2,2,  3.9233,    217.7,2,    32.20,2,    30.67,2,    -0.01,2,     2.12,2,    1.865,2,    0.903,2,    0.233,2,   1.9790,4,   -25.05,4,    -64.5,2,     0.91,2,  10.290,4,   2185.2,2,   2320.7,2,     3.7,    0.14,  0.0040,  10.053,   0.007
     316N145_5,  I08S,    35,  1,     20, SIH028,2,19941214,1602,-44.9917,  94.9972, 2890, 9101.8,    910.6,   3.5374,  34.3256,2,  34.3282,2,    211.2,2,  3.4727,    212.3,2,    38.76,2,    31.97,2,    -0.01,2,     2.20,2,    1.600,2,    0.748,2,    0.072,4,-999.0000,5,  -999.00,9,    -67.4,2,     0.87,2,-999.000,9,   2196.7,2,   2303.3,2,     5.1, -999.00,-999.0000,-999.000,   0.007
     316N145_5,  I08S,    35,  1,     19, SIH027,2,19941214,1602,-44.9917,  94.9972, 2890,10187.2,   1019.8,   3.1944,  34.3836,2,  34.3855,2,    198.8,2,  3.1237,    198.4,2,    48.45,2,    33.34,2,    -0.01,2,     2.29,2,    1.058,2,    0.511,2,    0.178,2,-999.0000,5,  -999.00,9,   -100.2,2,     0.63,2,-999.000,9,   2213.6,2,   2326.0,2,     3.1, -999.00,-999.0000,-999.000,   0.007
     316N145_5,  I08S,    35,  1,     18, SIH003,2,19941214,1602,-44.9917,  94.9972, 2890,11163.0,   1117.9,   2.9851,  34.4276,2,  34.4296,2,    191.8,2,  2.9084,    192.9,2,    55.16,2,    34.02,2,    -0.01,2,     2.33,2,    0.786,2,    0.381,2, -999.000,5,-999.0000,5,  -999.00,9,   -111.8,2,     0.61,2,-999.000,9,   2223.7,6,   2315.7,2,     5.8, -999.00,-999.0000,-999.000,-999.000
     316N145_5,  I08S,    35,  1,     17, SIH024,2,19941214,1602,-44.9917,  94.9972, 2890,12109.2,   1213.1,   2.8710,  34.4839,2,  34.4836,2,    184.9,2,  2.7878,    181.5,2,    61.04,2,    34.28,2,    -0.01,2,     2.35,2,    0.484,2,    0.237,2,    0.000,5,   1.8310,2,     6.56,2,   -132.0,2,     0.64,2,   7.903,2,   2232.5,2,   -999.0,9,     3.4,    0.15,  0.0030,   0.040,   0.000
     316N145_5,  I08S,    35,  1,     16, SIH022,2,19941214,1602,-44.9917,  94.9972, 2890,13040.0,   1306.7,   2.7309,  34.5270,2,  34.5276,2,    181.2,2,  2.6417,    177.8,2,    65.53,2,    34.21,2,    -0.01,2,     2.35,2,    0.389,2,    0.193,2, -999.000,5,-999.0000,5,  -999.00,9,   -116.2,2,     0.48,2,-999.000,9,   2238.4,2,   2326.9,2,     3.5, -999.00,-999.0000,-999.000,-999.000
     316N145_5,  I08S,    35,  1,     15, SIH021,2,19941214,1602,-44.9917,  94.9972, 2890,13995.9,   1402.9,   2.6611,  34.5712,2,  34.5716,2,    179.1,2,  2.5649,    176.1,2,    68.65,2,    33.84,2,    -0.01,2,     2.32,2,    0.261,2,    0.129,2,    0.000,5,   1.8360,2,     8.11,2,   -124.5,2,     0.42,2,   7.951,2,   2240.4,2,   2344.6,2,     3.3,    0.17,  0.0020,   0.022,   0.000
     316N145_5,  I08S,    35,  1,     14, SIH002,2,19941214,1602,-44.9917,  94.9972, 2890,15033.3,   1507.2,   2.6035,  34.6060,2,  34.6079,2,    178.7,2,  2.4995,    177.1,2,    70.54,2,    33.42,2,    -0.01,2,     2.29,2,    0.192,2,    0.084,2, -999.000,5,-999.0000,5,  -999.00,9,   -138.9,2,     0.48,2,-999.000,9,   2242.3,2,   2334.2,2,     4.8, -999.00,-999.0000,-999.000,-999.000
     316N145_5,  I08S,    35,  1,     13, SIH018,2,19941214,1602,-44.9917,  94.9972, 2890,16073.4,   1611.8,   2.5426,  34.6449,2,  34.6466,2,    180.8,2,  2.4308,    178.9,2,    72.27,2,    32.72,2,    -0.01,2,     2.25,2,    0.135,2,    0.055,2,    0.000,5,-999.0000,5,  -999.00,5,   -134.3,2,     0.48,2,-999.000,5,   2241.6,2,   -999.0,9,     4.0, -999.00,-999.0000,-999.000,   0.000
     316N145_5,  I08S,    35,  1,     12, SIH016,2,19941214,1602,-44.9917,  94.9972, 2890,17003.3,   1705.4,   2.5005,  34.6740,2,  34.6761,2,    184.0,2,  2.3814,    181.3,2,    73.30,2,    32.12,2,    -0.01,2,     2.21,2,    0.104,2,    0.050,2, -999.000,5,-999.0000,5,  -999.00,9,   -132.4,2,     0.51,2,-999.000,9,   2240.9,2,   2339.5,2,     4.6, -999.00,-999.0000,-999.000,-999.000
     316N145_5,  I08S,    35,  1,     11, SIH015,2,19941214,1602,-44.9917,  94.9972, 2890,18077.3,   1813.4,   2.4471,  34.6962,2,  34.6961,2,    186.7,2,  2.3197,    183.8,2,    74.16,2,    31.52,2,    -0.01,2,     2.18,2,    0.085,2,    0.040,2,    0.029,4,   1.8670,2,     8.56,2,   -140.9,2,     0.48,2,   8.012,2,   2239.1,2,   2365.6,3,     3.3,    0.14,  0.0020,   0.051,   0.006
     316N145_5,  I08S,    35,  1,     10, SIH013,2,19941214,1602,-44.9917,  94.9972, 2890,19079.6,   1914.2,   2.3939,  34.7174,2,  34.7172,2,    189.5,2,  2.2586,    187.4,2,    75.19,2,    30.98,2,    -0.01,2,     2.14,2,    0.069,2,    0.030,2, -999.000,5,-999.0000,5,  -999.00,9,   -131.2,2,     0.47,2,-999.000,9,   2238.8,2,   2343.9,2,     4.6, -999.00,-999.0000,-999.000,-999.000
     316N145_5,  I08S,    35,  1,      9, SIH012,2,19941214,1602,-44.9917,  94.9972, 2890,20122.6,   2019.1,   2.3308,  34.7340,2,  34.7359,2,    192.8,2,  2.1873,    190.7,2,    76.23,2,    30.50,2,    -0.01,2,     2.10,2,    0.067,2,    0.044,3,    0.156,4,   1.8580,2,     8.84,2,   -122.8,2,     0.50,2,   8.036,2,   2237.4,2,   -999.0,9,     3.3,    0.14,  0.0020,   0.037,   0.006
     316N145_5,  I08S,    35,  1,      8, SIH010,2,19941214,1602,-44.9917,  94.9972, 2890,21136.2,   2121.1,   2.2580,  34.7447,2,  34.7467,2,    195.9,2,  2.1068,    193.5,2,    77.96,2,    30.25,2,    -0.01,2,     2.08,2,    0.044,2,    0.017,2,    0.217,4,   1.8680,2,     9.10,2,   -121.8,2,     0.50,2,   8.065,2,   2237.2,2,   -999.0,9,     4.9,    0.14,  0.0020,   0.037,   0.006
     316N145_5,  I08S,    35,  1,      7, SIH009,2,19941214,1602,-44.9917,  94.9972, 2890,22154.6,   2223.5,   2.1759,  34.7527,2,  34.7526,2,    197.0,2,  2.0169,    195.6,2,    80.03,2,    29.94,2,    -0.01,2,     2.07,2, -999.000,9, -999.000,9,    0.174,4,   1.8690,2,     9.08,2,   -129.6,2,     0.45,2,   8.048,2,   2237.1,2,   -999.0,9,     3.4,    0.11,  0.0020,   0.004,   0.006
     316N145_5,  I08S,    35,  1,      6, SIH038,2,19941214,1602,-44.9917,  94.9972, 2890,23137.3,   2322.4,   2.0854,  34.7550,2,  34.7547,2,    199.0,2,  1.9192,    197.1,2,    82.79,2,    29.91,2,    -0.01,2,     2.07,2, -999.000,9, -999.000,9,    0.724,4,   1.8740,2,     9.65,2,   -132.2,2,     0.47,2,   8.075,2,   2238.5,2,   2355.5,2,     2.9,    0.14,  0.0020,   0.050,   0.011
     316N145_5,  I08S,    35,  1,      5, SIH006,2,19941214,1602,-44.9917,  94.9972, 2890,25133.5,   2523.2,   1.8263,  34.7522,2,  34.7533,2,    200.9,2,  1.6467,    199.1,2,    92.15,2,    30.29,2,    -0.01,2,     2.10,2,    0.023,2,    0.005,2,    0.165,4,   1.8810,2,     9.93,2,   -139.7,2,     0.47,2,   8.145,2,   2243.6,2,   2365.7,2,     2.9,    0.10,  0.0040,   0.023,   0.006
     316N145_5,  I08S,    35,  1,      4, SIH004,2,19941214,1602,-44.9917,  94.9972, 2890,26152.5,   2625.7,   1.6544,  34.7471,2,  34.7476,2,    201.7,2,  1.4688,    199.7,2,    98.56,2,    30.67,2,    -0.01,2,     2.13,2, -999.000,9, -999.000,9,    0.177,4,   1.9010,2,    12.30,2,   -145.4,2,     0.53,2,   8.160,2,   2247.5,2,   2362.7,2,     3.4,    0.14,  0.0020,   0.040,   0.005
     316N145_5,  I08S,    35,  1,      3, SIH025,2,19941214,1602,-44.9917,  94.9972, 2890,27191.4,   2730.2,   1.4526,  34.7388,2,  34.7378,2,    202.2,2,  1.2616,    201.2,2,   105.14,2,    31.11,2,    -0.01,2,     2.16,2, -999.000,9, -999.000,9, -999.000,5,-999.0000,5,  -999.00,9,   -156.5,2,     0.49,2,-999.000,9,   2251.2,2,   2355.3,2,     2.9, -999.00,-999.0000,-999.000,-999.000
     316N145_5,  I08S,    35,  1,      2, SIH001,2,19941214,1602,-44.9917,  94.9972, 2890,28694.8,   2881.4,   1.4596,  34.7371,2,  34.7382,2,    203.0,2,  1.2545,    200.6,2,   105.48,2,    31.08,2,    -0.01,2,     2.16,2,    0.031,2,    0.013,2,    0.156,4,   1.8740,2,     9.62,2,   -153.3,2,     0.36,2,   8.109,2,   2251.9,2,   2376.2,2,     3.1,    0.10,  0.0030,   0.042,   0.006
     316N145_5,  I08S,    35,  1,      1, SIH036,2,19941214,1602,-44.9917,  94.9972, 2890,29224.0,   2934.7,   1.4633,  34.7381,2,  34.7347,2,    202.7,2,  1.2531,    203.0,3,   105.15,2,    31.20,2,    -0.01,2,     2.16,2, -999.000,9, -999.000,9,    0.016,4,   1.8800,2,     9.23,2,   -156.9,2,     0.44,2,   8.087,2,   2252.6,6,   2370.2,2,     4.6,    0.14,  0.0020,   0.054,   0.005