BOTTLE,20090521WHPSIOdm
EXPOCODE,SECT_ID,STNNBR,CASTNO,SAMPNO,BTLNBR,BTLNBR_FLAG_W,DATE,TIME,LATITUDE,LONGITUDE,DEPTH,CTDRAW,CTDPRS,CTDTMP,CTDSAL,CTDSAL_FLAG_W,SALNTY,SALNTY_FLAG_W,CTDOXY,CTDOXY_FLAG_W,THETA,OXYGEN,OXYGEN_FLAG_W,SILCAT,SILCAT_FLAG_W,NITRAT,NITRAT_FLAG_W,NITRIT,NITRIT_FLAG_W,PHSPHT,PHSPHT_FLAG_W,CFC-11,CFC-11_FLAG_W,CFC-12,CFC-12_FLAG_W,TRITUM,TRITUM_FLAG_W,HELIUM,HELIUM_FLAG_W,DELHE3,DELHE3_FLAG_W,DELC14,DELC14_FLAG_W,DELC13,DELC13_FLAG_W,NEON,NEON_FLAG_W,TCARBN,TCARBN_FLAG_W,ALKALI,ALKALI_FLAG_W,C14ERR,DELHER,HELIER,NEONER,TRITER
,,,,,,,,,,,,,DBAR,IPTS-68,PSS-78,,PSS-78,,UMOL/KG,,IPTS-68,UMOL/KG,,UMOL/KG,,UMOL/KG,,UMOL/KG,,UMOL/KG,,PMOL/KG,,PMOL/KG,,TU,,NMOL/KG,,PERCNT,,/MILLE,,/MILLE,,NMOL/KG,,UMOL/KG,,UMOL/KG,,/MILLE,PERCNT,NMOL/KG,NMOL/KG,TU
     316N145_5,  I09S,    89,  1,     36, SIH035,2,19950102,2222,-63.2722, 113.2028, 3595,  155.7,     10.4,   0.1943,  33.7254,2,  33.7280,2,    336.3,2,  0.1939,    336.2,2,    60.61,2,    27.23,2,     0.22,2,     1.86,2,    6.364,2,    3.004,2,    0.000,5,   1.7860,2,    -1.79,2,   -999.0,9,  -999.00,9,   8.018,2,   -999.0,9,   -999.0,9,  -999.0,   80.17,  0.0030,   0.023,   0.000
     316N145_5,  I09S,    89,  1,     35, SIH032,2,19950102,2222,-63.2722, 113.2028, 3595,  365.5,     31.5,  -0.8240,  33.9604,2,  33.9581,2,    331.6,2, -0.8248,    322.3,2,    63.17,2,    27.61,2,     0.14,2,     1.90,2,    5.365,2,    2.563,2, -999.000,5,-999.0000,5,  -999.00,9,   -999.0,9,  -999.00,9,-999.000,9,   -999.0,9,   -999.0,9,  -999.0, -999.00,-999.0000,-999.000,-999.000
     316N145_5,  I09S,    89,  1,     34, SIH029,2,19950102,2222,-63.2722, 113.2028, 3595,  613.8,     56.4,  -0.7419,  34.3504,2,  34.3272,2,    296.4,2, -0.7436,    281.1,2,    69.50,2,    29.04,2,     0.07,2,     1.99,2,    3.713,2,    1.754,2,    0.290,4,-999.0000,5,  -999.00,5,   -999.0,9,  -999.00,9,-999.000,5,   -999.0,9,   -999.0,9,  -999.0, -999.00,-999.0000,-999.000,   0.006
     316N145_5,  I09S,    89,  1,     33, SIH026,2,19950102,2222,-63.2722, 113.2028, 3595,  862.8,     81.5,   0.7989,  34.5848,2,  34.5849,2,    225.0,2,  0.7955,    221.1,2,    80.89,2,    30.47,2,     0.07,2,     2.08,2,    1.532,2,    0.706,2, -999.000,5,-999.0000,5,  -999.00,9,   -999.0,9,  -999.00,9,-999.000,9,   -999.0,9,   -999.0,9,  -999.0, -999.00,-999.0000,-999.000,-999.000
     316N145_5,  I09S,    89,  1,     32, SIH023,2,19950102,2222,-63.2722, 113.2028, 3595, 1115.9,    106.9,   1.1694,  34.6482,2,  34.6417,2,    202.8,2,  1.1645,    203.1,2,    85.18,2,    31.08,2,     0.08,2,     2.13,2,    1.032,2,    0.466,2,    0.022,4,   1.8580,2,     7.60,2,   -999.0,9,  -999.00,9,   8.058,2,   -999.0,9,   -999.0,9,  -999.0,    0.17,  0.0030,   0.024,   0.004
     316N145_5,  I09S,    89,  1,     31, SIH020,2,19950102,2222,-63.2722, 113.2028, 3595, 1604.4,    156.1,   1.4272,  34.6889,2,  34.6908,2,    195.8,2,  1.4196,    193.2,2,    87.27,2,    31.30,2,     0.01,2,     2.14,2,    0.606,2,    0.294,2,    0.361,4,   1.8770,2,     8.28,2,   -999.0,9,  -999.00,9,   8.160,2,   -999.0,9,   -999.0,9,  -999.0,    0.17,  0.0040,   0.044,   0.007
     316N145_5,  I09S,    89,  1,     30, SIH017,4,19950102,2222,-63.2722, 113.2028, 3595, 2103.0,    206.2,   1.4284,  34.7023,2,  34.6993,3,    195.3,2,  1.4183,    193.3,3,    89.05,3,    31.18,3,     0.00,3,     2.13,3, -999.000,9, -999.000,9,    0.196,4,-999.0000,5,  -999.00,9,   -999.0,9,  -999.00,9,-999.000,9,   -999.0,9,   -999.0,9,  -999.0, -999.00,-999.0000,-999.000,   0.006
     316N145_5,  I09S,    89,  1,     29, SIH014,2,19950102,2222,-63.2722, 113.2028, 3595, 2608.3,    257.1,   1.4720,  34.7166,2,  34.7144,2,    194.2,2,  1.4592,    194.1,2,    90.51,2,    30.69,2,     0.00,2,     2.10,2,    0.373,3,    0.155,2, -999.000,5,-999.0000,5,  -999.00,9,   -999.0,9,  -999.00,9,-999.000,9,   -999.0,9,   -999.0,9,  -999.0, -999.00,-999.0000,-999.000,-999.000
     316N145_5,  I09S,    89,  1,     28, SIH011,2,19950102,2222,-63.2722, 113.2028, 3595, 3110.8,    307.6,   1.4706,  34.7226,2,  34.7256,2,    195.0,2,  1.4552,    195.1,2,    91.49,2,    30.63,2,     0.00,2,     2.09,2,    0.305,2,    0.136,2,    0.179,4,   1.8570,2,     8.75,2,   -999.0,9,  -999.00,9,   8.053,2,   -999.0,9,   -999.0,9,  -999.0,    0.17,  0.0030,   0.024,   0.006
     316N145_5,  I09S,    89,  1,     27, SIH008,2,19950102,2222,-63.2722, 113.2028, 3595, 3610.9,    357.9,   1.4372,  34.7261,2,  34.7286,2,    194.3,2,  1.4192,    195.8,2,    92.96,2,    30.56,2,     0.00,2,     2.09,2,    0.265,2,    0.117,2, -999.000,5,-999.0000,5,  -999.00,9,   -999.0,9,  -999.00,9,-999.000,9,   -999.0,9,   -999.0,9,  -999.0, -999.00,-999.0000,-999.000,-999.000
     316N145_5,  I09S,    89,  1,     26, SIH005,2,19950102,2222,-63.2722, 113.2028, 3595, 4113.9,    408.5,   1.3892,  34.7278,2,  34.7282,2,    194.0,2,  1.3686,    196.8,2,    94.42,2,    30.55,2,     0.00,2,     2.09,2,    0.254,2,    0.113,2, -999.000,5,-999.0000,5,  -999.00,9,   -999.0,9,  -999.00,9,-999.000,9,   -999.0,9,   -999.0,9,  -999.0, -999.00,-999.0000,-999.000,-999.000
     316N145_5,  I09S,    89,  1,     25, SIH019,2,19950102,2222,-63.2722, 113.2028, 3595, 4614.8,    458.9,   1.3494,  34.7278,2,  34.7298,2,    196.6,2,  1.3261,    197.5,2,    95.88,2,    30.48,2,     0.00,2,     2.08,2,    0.231,2,    0.125,4,    0.263,4,   1.8640,2,     8.78,2,   -999.0,9,  -999.00,9,   8.164,2,   -999.0,9,   -999.0,9,  -999.0,    0.17,  0.0030,   0.024,   0.007
     316N145_5,  I09S,    89,  1,     24, SIH037,2,19950102,2222,-63.2722, 113.2028, 3595, 5115.5,    509.2,   1.3047,  34.7284,2,  34.7309,2,    199.5,2,  1.2788,    198.2,2,    97.18,2,    30.57,2,     0.00,2,     2.09,2,    0.219,2,    0.097,2, -999.000,5,-999.0000,5,  -999.00,9,   -999.0,9,  -999.00,9,-999.000,9,   -999.0,9,   -999.0,9,  -999.0, -999.00,-999.0000,-999.000,-999.000
     316N145_5,  I09S,    89,  1,     23, SIH033,2,19950102,2222,-63.2722, 113.2028, 3595, 6113.8,    609.7,   1.2363,  34.7277,2,  34.7296,2,    199.7,2,  1.2052,    199.7,2,    99.59,2,    30.51,2,     0.00,2,     2.09,2, -999.000,9, -999.000,9, -999.000,5,-999.0000,5,  -999.00,9,   -999.0,9,  -999.00,9,-999.000,9,   -999.0,9,   -999.0,9,  -999.0, -999.00,-999.0000,-999.000,-999.000
     316N145_5,  I09S,    89,  1,     22, SIH031,2,19950102,2222,-63.2722, 113.2028, 3595, 7116.5,    710.5,   1.1577,  34.7255,2,  34.7278,2,    198.7,2,  1.1213,    200.4,2,   102.63,2,    30.66,2,     0.00,2,     2.10,2,    0.150,2,    0.067,2,    0.229,4,   1.8720,2,     8.80,2,   -999.0,9,  -999.00,9,   8.186,2,   -999.0,9,   -999.0,9,  -999.0,    0.17,  0.0030,   0.024,   0.006
     316N145_5,  I09S,    89,  1,     21, SIH030,2,19950102,2222,-63.2722, 113.2028, 3595, 8124.2,    811.9,   1.0742,  34.7220,2,  34.7227,2,    202.0,2,  1.0325,    201.7,2,   105.04,2,    30.75,2,     0.00,2,     2.11,2,    0.143,3,    0.051,2, -999.000,5,-999.0000,5,  -999.00,9,   -999.0,9,  -999.00,9,-999.000,9,   -999.0,9,   -999.0,9,  -999.0, -999.00,-999.0000,-999.000,-999.000
     316N145_5,  I09S,    89,  1,     20, SIH028,2,19950102,2222,-63.2722, 113.2028, 3595, 9123.7,    912.4,   0.9800,  34.7168,2,  34.7188,2,    201.8,2,  0.9330,    203.1,2,   107.29,2,    30.95,2,     0.00,2,     2.12,2,    0.157,2,    0.067,2,    0.000,5,   1.8650,2,     8.57,2,   -999.0,9,  -999.00,9,   8.148,2,   -999.0,9,   -999.0,9,  -999.0,    0.17,  0.0040,   0.024,   0.000
     316N145_5,  I09S,    89,  1,     19, SIH027,2,19950102,2222,-63.2722, 113.2028, 3595,10130.5,   1013.7,   0.9058,  34.7123,2,  34.7164,2,    202.4,2,  0.8533,    204.1,2,   109.22,2,    31.04,2,     0.00,2,     2.12,2,    0.164,2,    0.082,2, -999.000,5,-999.0000,5,  -999.00,9,   -999.0,9,  -999.00,9,-999.000,9,   -999.0,9,   -999.0,9,  -999.0, -999.00,-999.0000,-999.000,-999.000
     316N145_5,  I09S,    89,  1,     18, SIH003,2,19950102,2222,-63.2722, 113.2028, 3595,11171.0,   1118.3,   0.8170,  34.7058,2,  34.7103,2,    205.0,2,  0.7589,    205.3,2,   111.63,2,    31.14,2,     0.00,2,     2.14,2,    0.155,3,    0.059,2, -999.000,5,-999.0000,5,  -999.00,9,   -999.0,9,  -999.00,9,-999.000,9,   -999.0,9,   -999.0,9,  -999.0, -999.00,-999.0000,-999.000,-999.000
     316N145_5,  I09S,    89,  1,     17, SIH024,2,19950102,2222,-63.2722, 113.2028, 3595,12199.6,   1221.8,   0.7315,  34.7038,2,  34.7062,2,    206.5,2,  0.6679,    206.5,2,   113.88,2,    31.29,2,     0.00,2,     2.14,2,    0.168,3,    0.065,2,    0.325,4,-999.0000,5,  -999.00,9,   -999.0,9,  -999.00,9,-999.000,9,   -999.0,9,   -999.0,9,  -999.0, -999.00,-999.0000,-999.000,   0.007
     316N145_5,  I09S,    89,  1,     16, SIH022,2,19950102,2222,-63.2722, 113.2028, 3595,13173.0,   1319.7,   0.6746,  34.7020,2,  34.7036,2,    207.6,2,  0.6053,    207.5,2,   115.81,2,    31.27,2,     0.00,2,     2.15,2,    0.155,3,    0.062,2, -999.000,5,-999.0000,5,  -999.00,9,   -999.0,9,  -999.00,9,-999.000,9,   -999.0,9,   -999.0,9,  -999.0, -999.00,-999.0000,-999.000,-999.000
     316N145_5,  I09S,    89,  1,     15, SIH021,2,19950102,2222,-63.2722, 113.2028, 3595,14192.5,   1422.3,   0.5942,  34.6978,2,  34.6979,2,    208.7,2,  0.5192,    208.8,2,   117.44,2,    31.47,2,     0.00,2,     2.16,2,    0.169,2,    0.070,2, -999.000,5,-999.0000,5,  -999.00,9,   -999.0,9,  -999.00,9,-999.000,9,   -999.0,9,   -999.0,9,  -999.0, -999.00,-999.0000,-999.000,-999.000
     316N145_5,  I09S,    89,  1,     14, SIH002,2,19950102,2222,-63.2722, 113.2028, 3595,15204.8,   1524.1,   0.5213,  34.6936,2,  34.6960,2,    211.3,2,  0.4406,    210.0,2,   118.89,2,    31.56,2,     0.00,2,     2.16,2,    0.178,2,    0.081,2,    0.340,4,   1.9380,3,     7.93,2,   -999.0,9,  -999.00,9,   8.410,2,   -999.0,9,   -999.0,9,  -999.0,    0.17,  0.0040,   0.024,   0.006
     316N145_5,  I09S,    89,  1,     13, SIH018,2,19950102,2222,-63.2722, 113.2028, 3595,16218.8,   1626.1,   0.4500,  34.6906,2,  34.6899,2,    212.3,2,  0.3634,    211.3,2,   120.51,2,    31.50,2,     0.00,2,     2.17,2,    0.202,2,    0.096,2, -999.000,5,-999.0000,5,  -999.00,9,   -999.0,9,  -999.00,9,-999.000,9,   -999.0,9,   -999.0,9,  -999.0, -999.00,-999.0000,-999.000,-999.000
     316N145_5,  I09S,    89,  1,     12, SIH016,2,19950102,2222,-63.2722, 113.2028, 3595,17210.0,   1725.8,   0.3741,  34.6871,2,  34.6867,2,    213.3,2,  0.2817,    214.2,2,   120.88,2,    31.64,2,     0.00,2,     2.17,2,    0.262,2,    0.123,2, -999.000,5,-999.0000,5,  -999.00,9,   -999.0,9,  -999.00,9,-999.000,9,   -999.0,9,   -999.0,9,  -999.0, -999.00,-999.0000,-999.000,-999.000
     316N145_5,  I09S,    89,  1,     11, SIH015,2,19950102,2222,-63.2722, 113.2028, 3595,18217.6,   1827.1,   0.2942,  34.6827,2,  34.6861,2,    216.7,2,  0.1960,    216.9,2,   120.76,2,    31.52,2,     0.00,2,     2.17,2,    0.353,2,    0.167,2,    0.000,5,   1.9140,6,     6.84,6,   -999.0,9,  -999.00,9,   8.410,6,   -999.0,9,   -999.0,9,  -999.0,    0.16,  0.0030,   0.032,   0.000
     316N145_5,  I09S,    89,  1,     10, SIH013,2,19950102,2222,-63.2722, 113.2028, 3595,20214.0,   2027.9,   0.2062,  34.6812,2,  34.6826,2,    218.6,2,  0.0952,    219.0,2,   122.85,2,    31.62,2,     0.00,2,     2.17,2,    0.395,2,    0.175,2, -999.000,5,-999.0000,5,  -999.00,9,   -999.0,9,  -999.00,9,-999.000,9,   -999.0,9,   -999.0,9,  -999.0, -999.00,-999.0000,-999.000,-999.000
     316N145_5,  I09S,    89,  1,      9, SIH012,2,19950102,2222,-63.2722, 113.2028, 3595,22281.7,   2235.9,   0.1056,  34.6794,2,  34.6794,2,    223.3,2, -0.0189,    222.3,2,   123.37,2,    31.61,2,     0.00,2,     2.17,2,    0.428,2,    0.200,2,    0.261,4,   1.9250,2,     7.46,2,   -999.0,9,  -999.00,9,   8.311,2,   -999.0,9,   -999.0,9,  -999.0,    0.17,  0.0040,   0.024,   0.008
     316N145_5,  I09S,    89,  1,      8, SIH010,2,19950102,2222,-63.2722, 113.2028, 3595,24439.9,   2453.0,   0.0319,  34.6787,2,  34.6794,2,    224.9,2, -0.1078,    225.5,2,   125.46,2,    31.59,2,     0.00,2,     2.17,2,    0.444,2,    0.208,2, -999.000,5,-999.0000,5,  -999.00,9,   -999.0,9,  -999.00,9,-999.000,9,   -999.0,9,   -999.0,9,  -999.0, -999.00,-999.0000,-999.000,-999.000
     316N145_5,  I09S,    89,  1,      7, SIH009,2,19950102,2222,-63.2722, 113.2028, 3595,26475.7,   2657.8,  -0.0338,  34.6763,2,  34.6769,2,    229.2,2, -0.1883,    228.2,2,   123.34,2,    31.54,2,     0.00,2,     2.16,2,    0.641,2,    0.299,2,    0.033,4,   1.8940,2,     6.69,2,   -999.0,9,  -999.00,9,   8.315,2,   -999.0,9,   -999.0,9,  -999.0,    0.17,  0.0030,   0.045,   0.005
     316N145_5,  I09S,    89,  1,      6, SIH038,2,19950102,2222,-63.2722, 113.2028, 3595,28388.1,   2850.2,  -0.0961,  34.6746,2,  34.6741,2,    232.7,2, -0.2649,    231.6,2,   120.23,2,    31.44,2,     0.00,2,     2.16,2,    0.882,2,    0.408,2, -999.000,5,-999.0000,5,  -999.00,9,   -999.0,9,  -999.00,9,-999.000,9,   -999.0,9,   -999.0,9,  -999.0, -999.00,-999.0000,-999.000,-999.000
     316N145_5,  I09S,    89,  1,      5, SIH006,2,19950102,2222,-63.2722, 113.2028, 3595,30340.0,   3046.5,  -0.1431,  34.6727,2,  34.6743,2,    235.2,2, -0.3272,    233.0,2,   125.00,2,    31.56,2,     0.00,2,     2.16,2,    0.801,2,    0.371,2,    0.243,4,   1.9550,3,     6.29,2,   -999.0,9,  -999.00,9,   8.475,3,   -999.0,9,   -999.0,9,  -999.0,    0.17,  0.0040,   0.025,   0.006
     316N145_5,  I09S,    89,  1,      4, SIH004,2,19950102,2222,-63.2722, 113.2028, 3595,32383.9,   3252.1,  -0.1909,  34.6707,2,  34.6706,2,    238.7,2, -0.3917,    236.4,2,   116.06,2,    31.29,2,     0.00,2,     2.14,2,    1.317,2,    0.606,2, -999.000,5,-999.0000,5,  -999.00,9,   -999.0,9,  -999.00,9,-999.000,9,   -999.0,9,   -999.0,9,  -999.0, -999.00,-999.0000,-999.000,-999.000
     316N145_5,  I09S,    89,  1,      3, SIH025,2,19950102,2222,-63.2722, 113.2028, 3595,34224.8,   3437.3,  -0.2248,  34.6704,2,  34.6708,2,    240.9,2, -0.4413,    238.1,2,   114.84,2,    31.30,2,     0.00,2,     2.14,2,    1.569,2,    0.720,2,    0.068,3,   1.8930,2,     5.76,2,   -999.0,9,  -999.00,9,   8.313,2,   -999.0,9,   -999.0,9,  -999.0,    0.17,  0.0030,   0.045,   0.005
     316N145_5,  I09S,    89,  1,      2, SIH001,2,19950102,2222,-63.2722, 113.2028, 3595,35248.5,   3540.3,  -0.2431,  34.6700,2,  34.6677,2,    243.2,2, -0.4685,    239.1,2,   118.58,2,    31.35,2,     0.00,2,     2.15,2,    1.665,2,    0.756,2,    0.000,5,   1.9230,2,     5.66,2,   -999.0,9,  -999.00,9,   8.473,2,   -999.0,9,   -999.0,9,  -999.0,    0.16,  0.0030,   0.018,   0.000
     316N145_5,  I09S,    89,  1,      1, SIH036,2,19950102,2222,-63.2722, 113.2028, 3595,35815.2,   3597.3,  -0.2439,  34.6693,2,  34.6698,2,    243.7,3, -0.4745,    238.4,2,   119.15,2,    31.41,2,     0.00,2,     2.15,2,    1.662,2,    0.766,2,    0.220,4,   1.9750,3,     5.47,2,   -999.0,9,  -999.00,9,   8.573,3,   -999.0,9,   -999.0,9,  -999.0,    0.17,  0.0040,   0.025,   0.005