BOTTLE,20090521WHPSIOdm
EXPOCODE,SECT_ID,STNNBR,CASTNO,SAMPNO,BTLNBR,BTLNBR_FLAG_W,DATE,TIME,LATITUDE,LONGITUDE,DEPTH,CTDRAW,CTDPRS,CTDTMP,CTDSAL,CTDSAL_FLAG_W,SALNTY,SALNTY_FLAG_W,CTDOXY,CTDOXY_FLAG_W,THETA,OXYGEN,OXYGEN_FLAG_W,SILCAT,SILCAT_FLAG_W,NITRAT,NITRAT_FLAG_W,NITRIT,NITRIT_FLAG_W,PHSPHT,PHSPHT_FLAG_W,CFC-11,CFC-11_FLAG_W,CFC-12,CFC-12_FLAG_W,TRITUM,TRITUM_FLAG_W,HELIUM,HELIUM_FLAG_W,DELHE3,DELHE3_FLAG_W,DELC14,DELC14_FLAG_W,DELC13,DELC13_FLAG_W,NEON,NEON_FLAG_W,TCARBN,TCARBN_FLAG_W,ALKALI,ALKALI_FLAG_W,C14ERR,DELHER,HELIER,NEONER,TRITER
,,,,,,,,,,,,,DBAR,IPTS-68,PSS-78,,PSS-78,,UMOL/KG,,IPTS-68,UMOL/KG,,UMOL/KG,,UMOL/KG,,UMOL/KG,,UMOL/KG,,PMOL/KG,,PMOL/KG,,TU,,NMOL/KG,,PERCNT,,/MILLE,,/MILLE,,NMOL/KG,,UMOL/KG,,UMOL/KG,,/MILLE,PERCNT,NMOL/KG,NMOL/KG,TU
     316N145_5,  I08S,    44,  1,     36, SIH035,2,19941217,0752,-48.8555,  91.6167, 3095,  156.9,     10.8,   6.5955,  33.9543,2,  33.9559,2,    301.6,2,  6.5945,    305.5,2,     0.43,2,    18.40,2,     0.25,2,     1.31,2,    4.720,2,    2.335,2, -999.000,5,-999.0000,5,  -999.00,9,   -999.0,9,  -999.00,9,-999.000,9,   -999.0,9,   -999.0,9,  -999.0, -999.00,-999.0000,-999.000,-999.000
     316N145_5,  I08S,    44,  1,     35, SIH032,2,19941217,0752,-48.8555,  91.6167, 3095,  366.0,     31.8,   6.7191,  33.9929,2,  34.0133,4,    300.6,2,  6.7162,    303.9,2,     0.75,2,    17.88,2,     0.25,2,     1.28,2,    4.587,2,    2.303,2, -999.000,5,-999.0000,5,  -999.00,9,   -999.0,9,  -999.00,9,-999.000,9,   -999.0,9,   -999.0,9,  -999.0, -999.00,-999.0000,-999.000,-999.000
     316N145_5,  I08S,    44,  1,     34, SIH029,2,19941217,0752,-48.8555,  91.6167, 3095,  614.6,     56.8,   6.9396,  34.0663,2,  34.0639,2,    293.9,2,  6.9344,    301.3,2,     0.93,2,    17.51,2,     0.26,2,     1.25,2,    4.586,2,    2.281,2, -999.000,5,-999.0000,5,  -999.00,9,   -999.0,9,  -999.00,9,-999.000,9,   -999.0,9,   -999.0,9,  -999.0, -999.00,-999.0000,-999.000,-999.000
     316N145_5,  I08S,    44,  1,     33, SIH026,2,19941217,0752,-48.8555,  91.6167, 3095,  862.0,     81.7,   7.0643,  34.1041,2,  34.1025,2,    291.9,2,  7.0568,    296.1,2,     2.06,2,    17.44,2,     0.27,2,     1.29,2,    4.535,2,    2.281,2, -999.000,5,-999.0000,5,  -999.00,9,   -999.0,9,  -999.00,9,-999.000,9,   -999.0,9,   -999.0,9,  -999.0, -999.00,-999.0000,-999.000,-999.000
     316N145_5,  I08S,    44,  1,     32, SIH023,2,19941217,0752,-48.8555,  91.6167, 3095, 1095.7,    105.2,   7.0643,  34.1490,2,  34.1424,3,    289.0,2,  7.0546,    294.0,3,     3.68,2,    17.53,2,     0.28,2,     1.30,2,    4.483,6,    2.261,6, -999.000,5,-999.0000,5,  -999.00,9,   -999.0,9,  -999.00,9,-999.000,9,   -999.0,9,   -999.0,9,  -999.0, -999.00,-999.0000,-999.000,-999.000
     316N145_5,  I08S,    44,  1,     31, SIH020,2,19941217,0752,-48.8555,  91.6167, 3095, 1600.6,    155.9,   6.8130,  34.2475,2,  34.2481,2,    279.0,2,  6.7988,    280.3,2,     7.06,2,    19.32,2,     0.17,2,     1.39,2,    4.162,2,    2.138,2, -999.000,5,-999.0000,5,  -999.00,9,   -999.0,9,  -999.00,9,-999.000,9,   -999.0,9,   -999.0,9,  -999.0, -999.00,-999.0000,-999.000,-999.000
     316N145_5,  I08S,    44,  1,     30, SIH017,2,19941217,0752,-48.8555,  91.6167, 3095, 2055.0,    201.6,   6.8218,  34.3088,2,  34.3070,2,    258.0,2,  6.8034,    257.2,2,     9.15,2,    21.22,2,     0.05,2,     1.49,2,    3.597,2,    1.819,2, -999.000,5,-999.0000,5,  -999.00,9,   -999.0,9,  -999.00,9,-999.000,9,   -999.0,9,   -999.0,9,  -999.0, -999.00,-999.0000,-999.000,-999.000
     316N145_5,  I08S,    44,  1,     29, SIH014,2,19941217,0752,-48.8555,  91.6167, 3095, 2556.6,    252.1,   6.2320,  34.2726,2,  34.2721,2,    257.6,2,  6.2101,    250.1,2,    11.58,2,    23.14,2,     0.02,2,     1.59,2,    3.497,2,    1.720,2, -999.000,5,-999.0000,5,  -999.00,9,   -999.0,9,  -999.00,9,-999.000,9,   -999.0,9,   -999.0,9,  -999.0, -999.00,-999.0000,-999.000,-999.000
     316N145_5,  I08S,    44,  1,     28, SIH011,2,19941217,0752,-48.8555,  91.6167, 3095, 3064.8,    303.2,   6.2452,  34.3337,2,  34.3233,4,    239.4,2,  6.2186,    239.4,2,    13.67,2,    24.00,2,     0.02,2,     1.64,2,    3.113,2,    1.530,2, -999.000,5,-999.0000,5,  -999.00,9,   -999.0,9,  -999.00,9,-999.000,9,   -999.0,9,   -999.0,9,  -999.0, -999.00,-999.0000,-999.000,-999.000
     316N145_5,  I08S,    44,  1,     27, SIH008,2,19941217,0752,-48.8555,  91.6167, 3095, 3551.2,    352.1,   5.9236,  34.3295,2,  34.3299,2,    237.0,2,  5.8935,    234.1,2,    15.77,2,    25.12,2,     0.02,2,     1.72,2,    2.859,2,    1.395,2, -999.000,5,-999.0000,5,  -999.00,9,   -999.0,9,  -999.00,9,-999.000,9,   -999.0,9,   -999.0,9,  -999.0, -999.00,-999.0000,-999.000,-999.000
     316N145_5,  I08S,    44,  1,     26, SIH005,2,19941217,0752,-48.8555,  91.6167, 3095, 4056.5,    402.9,   5.1531,  34.2492,2,  34.2554,3,    253.2,2,  5.1210,    254.3,2,    15.29,2,    25.17,2,     0.02,2,     1.72,2,    3.409,2,    1.694,2, -999.000,5,-999.0000,5,  -999.00,9,   -999.0,9,  -999.00,9,-999.000,9,   -999.0,9,   -999.0,9,  -999.0, -999.00,-999.0000,-999.000,-999.000
     316N145_5,  I08S,    44,  1,     25, SIH019,2,19941217,0752,-48.8555,  91.6167, 3095, 4599.2,    457.5,   5.1097,  34.3054,2,  34.3052,2,    233.1,2,  5.0732,    230.0,2,    20.44,2,    27.32,2,     0.01,2,     1.86,2,    2.572,2,    1.252,2, -999.000,5,-999.0000,5,  -999.00,9,   -999.0,9,  -999.00,9,-999.000,9,   -999.0,9,   -999.0,9,  -999.0, -999.00,-999.0000,-999.000,-999.000
     316N145_5,  I08S,    44,  1,     24, SIH037,2,19941217,0752,-48.8555,  91.6167, 3095, 5101.9,    508.1,   4.6484,  34.2786,2,  34.2829,2,    230.6,2,  4.6095,    232.1,2,    22.54,2,    28.23,2,     0.01,2,     1.92,2,    2.670,2,    1.294,2, -999.000,5,-999.0000,5,  -999.00,9,   -999.0,9,  -999.00,9,-999.000,9,   -999.0,9,   -999.0,9,  -999.0, -999.00,-999.0000,-999.000,-999.000
     316N145_5,  I08S,    44,  1,     23, SIH033,2,19941217,0752,-48.8555,  91.6167, 3095, 6111.5,    609.6,   3.9943,  34.2799,2,  34.2787,2,    228.4,2,  3.9502,    228.6,2,    28.49,2,    29.75,2,     0.01,2,     2.02,2,    2.376,2,    1.133,2, -999.000,5,-999.0000,5,  -999.00,9,   -999.0,9,  -999.00,9,-999.000,9,   -999.0,9,   -999.0,9,  -999.0, -999.00,-999.0000,-999.000,-999.000
     316N145_5,  I08S,    44,  1,     22, SIH031,2,19941217,0752,-48.8555,  91.6167, 3095, 7108.9,    709.9,   3.4116,  34.2815,2,  34.2830,2,    224.8,2,  3.3630,    224.5,2,    34.92,2,    31.14,2,     0.00,2,     2.12,2,    2.169,2,    1.025,2, -999.000,5,-999.0000,5,  -999.00,9,   -999.0,9,  -999.00,9,-999.000,9,   -999.0,9,   -999.0,9,  -999.0, -999.00,-999.0000,-999.000,-999.000
     316N145_5,  I08S,    44,  1,     21, SIH030,2,19941217,0752,-48.8555,  91.6167, 3095, 8013.9,    801.0,   3.1417,  34.3161,2,  34.3186,2,    212.7,2,  3.0879,    213.9,2,    41.36,2,    32.20,2,     0.00,2,     2.19,2,    1.774,2,    0.823,2, -999.000,5,-999.0000,5,  -999.00,9,   -999.0,9,  -999.00,9,-999.000,9,   -999.0,9,   -999.0,9,  -999.0, -999.00,-999.0000,-999.000,-999.000
     316N145_5,  I08S,    44,  1,     20, SIH028,2,19941217,0752,-48.8555,  91.6167, 3095, 9059.0,    906.1,   3.0186,  34.3926,2,  34.3939,2,    198.1,2,  2.9578,    196.3,2,    51.00,2,    33.21,2,     0.00,2,     2.26,2,    1.059,2,    0.511,2, -999.000,5,-999.0000,5,  -999.00,9,   -999.0,9,  -999.00,9,-999.000,9,   -999.0,9,   -999.0,9,  -999.0, -999.00,-999.0000,-999.000,-999.000
     316N145_5,  I08S,    44,  1,     19, SIH027,2,19941217,0752,-48.8555,  91.6167, 3095,10311.5,   1032.1,   2.7844,  34.4378,2,  34.4379,2,    188.8,2,  2.7159,    188.4,2,    57.28,2,    33.77,2,     0.00,2,     2.30,2,    0.780,2,    0.396,2, -999.000,5,-999.0000,5,  -999.00,9,   -999.0,9,  -999.00,9,-999.000,9,   -999.0,9,   -999.0,9,  -999.0, -999.00,-999.0000,-999.000,-999.000
     316N145_5,  I08S,    44,  1,     18, SIH003,2,19941217,0752,-48.8555,  91.6167, 3095,11205.7,   1122.0,   2.6669,  34.4791,2,  34.4803,2,    183.7,2,  2.5926,    183.4,2,    61.94,2,    33.96,2,     0.00,2,     2.30,2,    0.623,2,    0.299,2, -999.000,5,-999.0000,5,  -999.00,9,   -999.0,9,  -999.00,9,-999.000,9,   -999.0,9,   -999.0,9,  -999.0, -999.00,-999.0000,-999.000,-999.000
     316N145_5,  I08S,    44,  1,     17, SIH024,2,19941217,0752,-48.8555,  91.6167, 3095,12050.9,   1207.0,   2.6585,  34.5205,2,  34.5205,2,    179.9,2,  2.5778,    179.0,2,    65.15,2,    33.85,2,     0.00,2,     2.30,2,    0.456,2,    0.222,2, -999.000,5,-999.0000,5,  -999.00,9,   -999.0,9,  -999.00,9,-999.000,9,   -999.0,9,   -999.0,9,  -999.0, -999.00,-999.0000,-999.000,-999.000
     316N145_5,  I08S,    44,  1,     16, SIH022,2,19941217,0752,-48.8555,  91.6167, 3095,12970.5,   1299.5,   2.5955,  34.5707,2,  34.5712,2,    177.0,2,  2.5081,    176.9,2,    68.53,2,    33.49,2,     0.00,2,     2.27,2,    0.317,2,    0.152,2, -999.000,5,-999.0000,5,  -999.00,9,   -999.0,9,  -999.00,9,-999.000,9,   -999.0,9,   -999.0,9,  -999.0, -999.00,-999.0000,-999.000,-999.000
     316N145_5,  I08S,    44,  1,     15, SIH021,2,19941217,0752,-48.8555,  91.6167, 3095,14011.1,   1404.2,   2.5684,  34.6193,2,  34.6176,2,    177.6,2,  2.4730,    177.8,2,    70.62,2,    32.81,2,     0.00,2,     2.22,2,    0.198,2,    0.094,2, -999.000,5,-999.0000,5,  -999.00,9,   -999.0,9,  -999.00,9,-999.000,9,   -999.0,9,   -999.0,9,  -999.0, -999.00,-999.0000,-999.000,-999.000
     316N145_5,  I08S,    44,  1,     14, SIH002,2,19941217,0752,-48.8555,  91.6167, 3095,14983.4,   1502.0,   2.5027,  34.6472,2,  34.6476,2,    180.1,2,  2.4003,    179.2,2,    72.40,2,    32.40,2,     0.00,2,     2.19,2,    0.167,2,    0.099,3, -999.000,5,-999.0000,5,  -999.00,9,   -999.0,9,  -999.00,9,-999.000,9,   -999.0,9,   -999.0,9,  -999.0, -999.00,-999.0000,-999.000,-999.000
     316N145_5,  I08S,    44,  1,     13, SIH018,2,19941217,0752,-48.8555,  91.6167, 3095,17102.7,   1715.2,   2.4228,  34.7039,2,  34.7042,2,    184.1,2,  2.3038,    185.1,2,    74.17,2,    31.17,2,     0.00,2,     2.11,2,    0.075,2,    0.040,2, -999.000,5,-999.0000,5,  -999.00,9,   -999.0,9,  -999.00,9,-999.000,9,   -999.0,9,   -999.0,9,  -999.0, -999.00,-999.0000,-999.000,-999.000
     316N145_5,  I08S,    44,  1,     12, SIH016,2,19941217,0752,-48.8555,  91.6167, 3095,19137.5,   1919.8,   2.2937,  34.7366,2,  34.7366,2,    191.0,2,  2.1593,    191.1,2,    76.42,2,    30.34,2,     0.00,2,     2.05,2,    0.060,2,    0.031,2, -999.000,5,-999.0000,5,  -999.00,9,   -999.0,9,  -999.00,9,-999.000,9,   -999.0,9,   -999.0,9,  -999.0, -999.00,-999.0000,-999.000,-999.000
     316N145_5,  I08S,    44,  1,     11, SIH015,2,19941217,0752,-48.8555,  91.6167, 3095,21174.8,   2124.8,   2.1490,  34.7535,2,  34.7518,2,    195.4,2,  1.9991,    195.8,2,    79.96,2,    29.93,2,     0.00,2,     2.03,2,    0.044,2,    0.025,2, -999.000,5,-999.0000,5,  -999.00,9,   -999.0,9,  -999.00,9,-999.000,9,   -999.0,9,   -999.0,9,  -999.0, -999.00,-999.0000,-999.000,-999.000
     316N145_5,  I08S,    44,  1,     10, SIH013,2,19941217,0752,-48.8555,  91.6167, 3095,23119.7,   2320.4,   1.9889,  34.7578,2,  34.7573,2,    198.0,2,  1.8245,    198.2,2,    85.10,2,    29.87,2,     0.00,2,     2.03,2,    0.034,2,    0.019,2, -999.000,5,-999.0000,5,  -999.00,9,   -999.0,9,  -999.00,9,-999.000,9,   -999.0,9,   -999.0,9,  -999.0, -999.00,-999.0000,-999.000,-999.000
     316N145_5,  I08S,    44,  1,      9, SIH012,2,19941217,0752,-48.8555,  91.6167, 3095,25192.8,   2528.9,   1.7769,  34.7528,2,  34.7541,2,    199.3,2,  1.5977,    199.8,2,    92.33,2,    30.26,2,     0.01,2,     2.06,2,    0.029,2,    0.014,2, -999.000,5,-999.0000,5,  -999.00,9,   -999.0,9,  -999.00,9,-999.000,9,   -999.0,9,   -999.0,9,  -999.0, -999.00,-999.0000,-999.000,-999.000
     316N145_5,  I08S,    44,  1,      8, SIH010,2,19941217,0752,-48.8555,  91.6167, 3095,27359.9,   2746.9,   1.5319,  34.7426,2,  34.7418,2,    200.7,2,  1.3377,    201.0,2,   100.86,2,    30.77,2,     0.00,2,     2.10,2,    0.024,2,    0.018,2, -999.000,5,-999.0000,5,  -999.00,9,   -999.0,9,  -999.00,9,-999.000,9,   -999.0,9,   -999.0,9,  -999.0, -999.00,-999.0000,-999.000,-999.000
     316N145_5,  I08S,    44,  1,      7, SIH009,2,19941217,0752,-48.8555,  91.6167, 3095,29364.1,   2948.5,   1.3569,  34.7348,2,  34.7339,2,    202.4,2,  1.1478,    202.7,2,   106.02,2,    31.05,2,     0.00,2,     2.12,2,    0.035,2,    0.017,2, -999.000,5,-999.0000,5,  -999.00,9,   -999.0,9,  -999.00,9,-999.000,9,   -999.0,9,   -999.0,9,  -999.0, -999.00,-999.0000,-999.000,-999.000
     316N145_5,  I08S,    44,  1,      6, SIH038,2,19941217,0752,-48.8555,  91.6167, 3095,31333.8,   3146.6,   1.2036,  34.7274,2,  34.7266,2,    204.6,2,  0.9792,    204.9,2,   110.97,2,    31.37,2,     0.00,2,     2.14,2,    0.055,2,    0.029,2, -999.000,5,-999.0000,5,  -999.00,9,   -999.0,9,  -999.00,9,-999.000,9,   -999.0,9,   -999.0,9,  -999.0, -999.00,-999.0000,-999.000,-999.000
     316N145_5,  I08S,    44,  1,      5, SIH006,2,19941217,0752,-48.8555,  91.6167, 3095,33375.1,   3352.0,   0.9606,  34.7154,2,  34.7150,2,    208.2,2,  0.7223,    208.8,2,   116.60,2,    31.73,2,     0.00,2,     2.16,2,    0.129,2,    0.070,2, -999.000,5,-999.0000,5,  -999.00,9,   -999.0,9,  -999.00,9,-999.000,9,   -999.0,9,   -999.0,9,  -999.0, -999.00,-999.0000,-999.000,-999.000
     316N145_5,  I08S,    44,  1,      4, SIH004,2,19941217,0752,-48.8555,  91.6167, 3095,35177.2,   3533.2,   0.8149,  34.7079,2,  34.7074,2,    211.7,2,  0.5626,    211.2,2,   119.80,2,    31.89,2,     0.00,2,     2.17,2,    0.230,4,    0.143,4, -999.000,5,-999.0000,5,  -999.00,9,   -999.0,9,  -999.00,9,-999.000,9,   -999.0,9,   -999.0,9,  -999.0, -999.00,-999.0000,-999.000,-999.000
     316N145_5,  I08S,    44,  1,      3, SIH025,2,19941217,0752,-48.8555,  91.6167, 3095,36703.0,   3686.7,   0.6900,  34.7020,2,  34.7013,2,    214.3,2,  0.4258,    213.6,2,   121.92,2,    32.06,2,     0.00,2,     2.18,2,    0.231,2,    0.110,2, -999.000,5,-999.0000,5,  -999.00,9,   -999.0,9,  -999.00,9,-999.000,9,   -999.0,9,   -999.0,9,  -999.0, -999.00,-999.0000,-999.000,-999.000
     316N145_5,  I08S,    44,  1,      2, SIH001,2,19941217,0752,-48.8555,  91.6167, 3095,37708.3,   3787.8,   0.5354,  34.6954,2,  34.6956,2,    216.8,2,  0.2653,    216.9,2,   124.34,2,    32.16,2,     0.00,2,     2.19,2,    0.289,2,    0.142,2, -999.000,5,-999.0000,5,  -999.00,9,   -999.0,9,  -999.00,9,-999.000,9,   -999.0,9,   -999.0,9,  -999.0, -999.00,-999.0000,-999.000,-999.000
     316N145_5,  I08S,    44,  1,      1, SIH036,2,19941217,0752,-48.8555,  91.6167, 3095,38173.1,   3834.6,   0.5212,  34.6943,2,  34.6934,2,    216.6,2,  0.2468,    217.4,2,   124.83,2,    32.18,2,     0.01,2,     2.19,2,    0.314,6,    0.154,6, -999.000,5,-999.0000,5,  -999.00,9,   -999.0,9,  -999.00,9,-999.000,9,   -999.0,9,   -999.0,9,  -999.0, -999.00,-999.0000,-999.000,-999.000