BOTTLE,20090521WHPSIOdm
EXPOCODE,SECT_ID,STNNBR,CASTNO,SAMPNO,BTLNBR,BTLNBR_FLAG_W,DATE,TIME,LATITUDE,LONGITUDE,DEPTH,CTDRAW,CTDPRS,CTDTMP,CTDSAL,CTDSAL_FLAG_W,SALNTY,SALNTY_FLAG_W,CTDOXY,CTDOXY_FLAG_W,THETA,OXYGEN,OXYGEN_FLAG_W,SILCAT,SILCAT_FLAG_W,NITRAT,NITRAT_FLAG_W,NITRIT,NITRIT_FLAG_W,PHSPHT,PHSPHT_FLAG_W,CFC-11,CFC-11_FLAG_W,CFC-12,CFC-12_FLAG_W,TRITUM,TRITUM_FLAG_W,HELIUM,HELIUM_FLAG_W,DELHE3,DELHE3_FLAG_W,DELC14,DELC14_FLAG_W,DELC13,DELC13_FLAG_W,NEON,NEON_FLAG_W,TCARBN,TCARBN_FLAG_W,ALKALI,ALKALI_FLAG_W,C14ERR,DELHER,HELIER,NEONER,TRITER
,,,,,,,,,,,,,DBAR,IPTS-68,PSS-78,,PSS-78,,UMOL/KG,,IPTS-68,UMOL/KG,,UMOL/KG,,UMOL/KG,,UMOL/KG,,UMOL/KG,,PMOL/KG,,PMOL/KG,,TU,,NMOL/KG,,PERCNT,,/MILLE,,/MILLE,,NMOL/KG,,UMOL/KG,,UMOL/KG,,/MILLE,PERCNT,NMOL/KG,NMOL/KG,TU
     316N145_5,  I08S,     9,  1,     24, SIH037,2,19941207,1752,-33.0167,  94.9750, 4155,  180.8,     13.9,  18.9562,  35.8235,2,  35.8238,2,    243.6,2, 18.9537,    234.0,2,     1.44,2,    -0.08,2,     0.00,2,     0.16,2,    1.548,4,    1.363,2, -999.000,5,-999.0000,5,  -999.00,9,    101.8,2,  -999.00,9,-999.000,9,   2062.9,6,   2355.5,2,     3.8, -999.00,-999.0000,-999.000,-999.000
     316N145_5,  I08S,     9,  1,     23, SIH033,2,19941207,1752,-33.0167,  94.9750, 4155,  378.1,     33.7,  18.7561,  35.8297,2,  35.8287,2,    240.4,2, 18.7501,    235.6,2,     1.46,2,    -0.11,2,     0.00,2,     0.16,2,    2.613,2,    1.371,2, -999.000,5,-999.0000,5,  -999.00,9,     89.3,2,     1.54,2,-999.000,9,   2065.5,2,   -999.0,9,     3.1, -999.00,-999.0000,-999.000,-999.000
     316N145_5,  I08S,     9,  1,     22, SIH031,2,19941207,1752,-33.0167,  94.9750, 4155,  625.5,     58.5,  16.9915,  35.6934,2,  35.6948,2,    252.6,2, 16.9818,    249.2,2,     1.49,2,    -0.14,2,     0.00,2,     0.17,2,    2.871,2,    1.452,2, -999.000,5,-999.0000,5,  -999.00,9,     94.3,6,     1.61,6,-999.000,9,   2058.8,2,   2345.2,2,     2.1, -999.00,-999.0000,-999.000,-999.000
     316N145_5,  I08S,     9,  1,     21, SIH030,2,19941207,1752,-33.0167,  94.9750, 4155, 1131.2,    109.4,  14.9757,  35.5092,2,  35.5103,2,    243.0,2, 14.9591,    243.8,2,     1.70,2,     1.02,2,     0.21,2,     0.31,2,    3.041,2,    1.536,2, -999.000,5,-999.0000,5,  -999.00,9,     94.9,2,     1.45,2,-999.000,9,   2072.4,2,   2334.5,2,     3.7, -999.00,-999.0000,-999.000,-999.000
     316N145_5,  I08S,     9,  1,     20, SIH028,2,19941207,1752,-33.0167,  94.9750, 4155, 2103.0,    207.1,  13.0366,  35.2647,2,  35.2686,2,    229.3,2, 13.0080,    232.7,2,     2.91,2,     6.71,2,     0.01,2,     0.63,2,    3.260,2,    1.579,2, -999.000,5,-999.0000,5,  -999.00,9,     89.2,2,     1.27,2,-999.000,9,   2095.9,2,   2317.3,2,     2.9, -999.00,-999.0000,-999.000,-999.000
     316N145_5,  I08S,     9,  1,     19, SIH027,2,19941207,1752,-33.0167,  94.9750, 4155, 3074.0,    304.8,  11.8658,  35.0865,2,  35.0856,2,    235.3,2, 11.8262,    238.6,2,     3.63,2,     9.13,2,     0.01,2,     0.77,2,    3.396,2,    1.638,2, -999.000,5,-999.0000,5,  -999.00,9,     83.2,2,     1.27,2,-999.000,9,   2099.8,2,   2309.4,2,     3.0, -999.00,-999.0000,-999.000,-999.000
     316N145_5,  I08S,     9,  1,     18, SIH003,2,19941207,1752,-33.0167,  94.9750, 4155, 4073.2,    405.2,  10.9989,  34.9519,2,  34.9514,2,    240.8,2, 10.9485,    240.6,2,     4.33,2,    11.07,2,     0.01,2,     0.89,2,    3.383,2,    1.603,2, -999.000,5,-999.0000,5,  -999.00,9,     69.5,2,     1.33,2,-999.000,9,   2104.4,2,   2301.9,2,     3.0, -999.00,-999.0000,-999.000,-999.000
     316N145_5,  I08S,     9,  1,     17, SIH024,2,19941207,1752,-33.0167,  94.9750, 4155, 5041.4,    502.6,  10.2864,  34.8362,2,  34.8389,2,    241.9,2, 10.2262,    241.2,2,     5.04,2,    12.97,2,     0.00,2,     1.00,2,    3.320,6,    1.563,6, -999.000,5,-999.0000,5,  -999.00,9,     85.0,2,     1.31,2,-999.000,9,   2107.6,2,   2296.5,2,     3.5, -999.00,-999.0000,-999.000,-999.000
     316N145_5,  I08S,     9,  1,     16, SIH022,2,19941207,1752,-33.0167,  94.9750, 4155, 6166.8,    615.8,   9.5084,  34.7166,2,  34.7170,2,    237.1,2,  9.4379,    236.1,2,     6.26,2,    15.85,2,     0.00,2,     1.17,2,    2.968,2,    1.404,2, -999.000,5,-999.0000,5,  -999.00,9,     64.8,2,     1.30,2,-999.000,9,   2115.1,2,   2290.0,2,     4.2, -999.00,-999.0000,-999.000,-999.000
     316N145_5,  I08S,     9,  1,     15, SIH021,2,19941207,1752,-33.0167,  94.9750, 4155, 8196.2,    819.9,   7.3837,  34.5084,2,  34.5089,2,    203.1,2,  7.3018,    203.9,2,    16.14,2,    24.09,2,     0.00,2,     1.69,2,    1.234,2,    0.611,2, -999.000,5,-999.0000,5,  -999.00,9,    -21.1,2,     1.13,2,-999.000,9,   2153.9,2,   2286.0,2,     8.2, -999.00,-999.0000,-999.000,-999.000
     316N145_5,  I08S,     9,  1,     14, SIH002,2,19941207,1752,-33.0167,  94.9750, 4155,10128.5,   1014.2,   4.8412,  34.3874,2,  34.3884,2,    191.7,2,  4.7580,    193.5,2,    35.04,2,    30.49,2,     0.00,2,     2.12,2,    0.574,6,    0.283,6, -999.000,5,-999.0000,5,  -999.00,9,    -81.1,2,     0.89,2,-999.000,9,   2193.1,2,   2298.2,2,     3.2, -999.00,-999.0000,-999.000,-999.000
     316N145_5,  I08S,     9,  1,     13, SIH018,2,19941207,1752,-33.0167,  94.9750, 4155,12106.6,   1213.2,   3.8614,  34.4620,2,  34.4622,2,    166.1,2,  3.7690,    165.2,2,    60.20,2,    33.83,2,     0.00,2,     2.38,2,    0.121,2,    0.059,2, -999.000,5,-999.0000,5,  -999.00,9,   -122.5,2,     0.54,2,-999.000,9,   2234.4,2,   2322.0,2,     4.4, -999.00,-999.0000,-999.000,-999.000
     316N145_5,  I08S,     9,  1,     12, SIH016,2,19941207,1752,-33.0167,  94.9750, 4155,14326.8,   1436.5,   3.3084,  34.5454,2,  34.5457,2,    154.5,2,  3.2026,    154.1,2,    75.34,2,    34.78,2,     0.00,2,     2.44,2,    0.039,2,    0.018,2, -999.000,5,-999.0000,5,  -999.00,9,   -137.7,2,     0.47,2,-999.000,9,   2256.2,2,   2344.7,2,     3.8, -999.00,-999.0000,-999.000,-999.000
     316N145_5,  I08S,     9,  1,     11, SIH015,2,19941207,1752,-33.0167,  94.9750, 4155,17215.1,   1727.0,   2.8131,  34.6348,2,  34.6362,2,    158.3,2,  2.6883,    157.6,2,    86.22,2,    34.23,2,     0.00,2,     2.40,2,    0.009,2,    0.006,2, -999.000,5,-999.0000,5,  -999.00,9,   -149.8,2,     0.43,2,-999.000,9,   2265.7,6,   2353.0,2,     2.7, -999.00,-999.0000,-999.000,-999.000
     316N145_5,  I08S,     9,  1,     10, SIH013,2,19941207,1752,-33.0167,  94.9750, 4155,20267.2,   2034.0,   2.4702,  34.6927,2,  34.6936,2,    168.9,2,  2.3234,    168.5,2,    89.97,2,    32.94,2,     0.00,2,     2.31,2,    0.007,2,    0.000,2, -999.000,5,-999.0000,5,  -999.00,9,   -149.4,2,     0.45,2,-999.000,9,   2262.1,2,   2366.7,2,     3.2, -999.00,-999.0000,-999.000,-999.000
     316N145_5,  I08S,     9,  1,      9, SIH012,2,19941207,1752,-33.0167,  94.9750, 4155,23189.0,   2327.9,   2.1889,  34.7289,2,  34.7290,2,    182.8,2,  2.0205,    182.4,2,    90.50,2,    31.61,2,     0.00,2,     2.20,2,    0.011,2,    0.000,2, -999.000,5,-999.0000,5,  -999.00,9,   -148.6,2,     0.48,2,-999.000,9,   2254.4,2,   2355.5,2,     4.4, -999.00,-999.0000,-999.000,-999.000
     316N145_5,  I08S,     9,  1,      8, SIH010,2,19941207,1752,-33.0167,  94.9750, 4155,26235.6,   2634.4,   1.9113,  34.7421,2,  34.7431,2,    191.8,2,  1.7200,    191.8,2,    94.92,2,    31.00,2,     0.00,2,     2.15,2,    0.004,2,    0.001,2, -999.000,5,-999.0000,5,  -999.00,9,   -154.6,2,     0.46,2,-999.000,9,   2252.8,2,   2365.6,2,     3.1, -999.00,-999.0000,-999.000,-999.000
     316N145_5,  I08S,     9,  1,      7, SIH009,2,19941207,1752,-33.0167,  94.9750, 4155,29328.5,   2945.5,   1.6441,  34.7399,2,  34.7402,2,    196.5,2,  1.4290,    196.6,2,   102.07,2,    31.17,2,     0.00,2,     2.16,2,    0.008,2,   -0.004,2, -999.000,5,-999.0000,5,  -999.00,9,   -163.0,2,     0.50,2,-999.000,9,   2256.2,2,   2363.0,2,     4.7, -999.00,-999.0000,-999.000,-999.000
     316N145_5,  I08S,     9,  1,      6, SIH038,2,19941207,1752,-33.0167,  94.9750, 4155,32272.3,   3241.6,   1.4154,  34.7331,2,  34.7325,2,    199.4,2,  1.1769,    199.6,2,   108.87,2,    31.45,2,     0.00,2,     2.18,2,    0.008,2,   -0.003,2, -999.000,5,-999.0000,5,  -999.00,9,   -164.0,2,     0.49,2,-999.000,9,   2258.1,2,   2365.2,2,     3.3, -999.00,-999.0000,-999.000,-999.000
     316N145_5,  I08S,     9,  1,      5, SIH006,2,19941207,1752,-33.0167,  94.9750, 4155,35358.9,   3552.1,   1.2540,  34.7264,2,  34.7258,2,    201.8,2,  0.9886,    202.0,2,   113.63,2,    31.77,2,     0.00,2,     2.20,2,    0.006,2,    0.006,2, -999.000,5,-999.0000,5,  -999.00,9,   -156.2,2,     0.45,2,-999.000,9,   2261.1,2,   2367.8,2,     4.1, -999.00,-999.0000,-999.000,-999.000
     316N145_5,  I08S,     9,  1,      4, SIH004,2,19941207,1752,-33.0167,  94.9750, 4155,38304.7,   3848.4,   1.1458,  34.7202,2,  34.7188,2,    202.6,2,  0.8527,    203.5,2,   117.21,2,    32.00,2,     0.00,2,     2.22,2,    0.010,2,    0.002,2, -999.000,5,-999.0000,5,  -999.00,9,   -156.3,2,     0.48,2,-999.000,9,   2262.6,2,   2371.2,2,     5.0, -999.00,-999.0000,-999.000,-999.000
     316N145_5,  I08S,     9,  1,      3, SIH025,2,19941207,1752,-33.0167,  94.9750, 4155,39908.6,   4009.7,   1.1125,  34.7183,2,  34.7164,2,    203.2,2,  0.8033,    203.9,2,   118.41,2,    32.07,2,     0.00,2,     2.22,2,    0.008,2,   -0.001,2, -999.000,5,-999.0000,5,  -999.00,9,   -151.0,2,     0.46,2,-999.000,9,   2265.0,2,   2385.7,3,     2.8, -999.00,-999.0000,-999.000,-999.000
     316N145_5,  I08S,     9,  1,      2, SIH001,2,19941207,1752,-33.0167,  94.9750, 4155,40979.9,   4117.5,   1.0896,  34.7167,2,  34.7160,2,    204.0,2,  0.7695,    204.3,2,   119.11,2,    32.14,2,     0.00,2,     2.22,2,    0.012,2,    0.000,2, -999.000,5,-999.0000,5,  -999.00,9,   -140.2,2,     0.45,2,-999.000,9,   2265.5,2,   2370.0,2,     4.4, -999.00,-999.0000,-999.000,-999.000
     316N145_5,  I08S,     9,  1,      1, SIH036,2,19941207,1752,-33.0167,  94.9750, 4155,41512.0,   4171.0,   1.0836,  34.7165,2,  34.7146,2,    203.7,2,  0.7578,    204.3,2,   119.13,2,    32.05,2,     0.00,2,     2.22,2,    0.007,2,    0.000,2, -999.000,5,-999.0000,5,  -999.00,9,   -133.2,2,     0.47,2,-999.000,9,   2266.1,6,   2375.8,2,     3.6, -999.00,-999.0000,-999.000,-999.000
     316N145_5,  I08S,    10,  1,     24, SIH037,2,19941208,0022,-33.5055,  95.0028, 4360,  168.3,     12.3,  17.8856,  35.4446,2,  35.4458,2,    260.3,2, 17.8835,    243.9,2,     0.49,2,    -0.13,2,     0.01,2,     0.21,2, -999.000,9, -999.000,9, -999.000,5,-999.0000,5,  -999.00,9,   -999.0,9,  -999.00,9,-999.000,9,   -999.0,9,   -999.0,9,  -999.0, -999.00,-999.0000,-999.000,-999.000
     316N145_5,  I08S,    10,  1,     23, SIH033,2,19941208,0022,-33.5055,  95.0028, 4360,  370.4,     32.6,  16.2183,  35.3361,2,  35.3368,2,    271.6,2, 16.2131,    262.6,2,     0.69,2,     0.20,2,     0.03,2,     0.23,2, -999.000,9, -999.000,9, -999.000,5,-999.0000,5,  -999.00,9,   -999.0,9,  -999.00,9,-999.000,9,   -999.0,9,   -999.0,9,  -999.0, -999.00,-999.0000,-999.000,-999.000
     316N145_5,  I08S,    10,  1,     22, SIH031,2,19941208,0022,-33.5055,  95.0028, 4360,  620.8,     57.8,  15.2746,  35.3083,2,  35.3076,2,    278.8,2, 15.2658,    259.9,2,     1.06,2,     0.99,2,     0.04,2,     0.29,2, -999.000,9, -999.000,9, -999.000,5,-999.0000,5,  -999.00,9,   -999.0,9,  -999.00,9,-999.000,9,   -999.0,9,   -999.0,9,  -999.0, -999.00,-999.0000,-999.000,-999.000
     316N145_5,  I08S,    10,  1,     21, SIH030,2,19941208,0022,-33.5055,  95.0028, 4360, 1111.1,    107.1,  14.0992,  35.3928,2,  35.3882,2,    246.7,2, 14.0837,    240.0,2,     1.27,2,     2.98,2,     0.22,2,     0.44,2, -999.000,9, -999.000,9, -999.000,5,-999.0000,5,  -999.00,9,   -999.0,9,  -999.00,9,-999.000,9,   -999.0,9,   -999.0,9,  -999.0, -999.00,-999.0000,-999.000,-999.000
     316N145_5,  I08S,    10,  1,     20, SIH028,2,19941208,0022,-33.5055,  95.0028, 4360, 2124.6,    209.0,  12.6846,  35.2026,2,  35.2034,2,    234.5,2, 12.6562,    235.6,2,     2.15,2,     7.19,2,     0.01,2,     0.66,2, -999.000,9, -999.000,9, -999.000,5,-999.0000,5,  -999.00,9,   -999.0,9,  -999.00,9,-999.000,9,   -999.0,9,   -999.0,9,  -999.0, -999.00,-999.0000,-999.000,-999.000
     316N145_5,  I08S,    10,  1,     19, SIH027,2,19941208,0022,-33.5055,  95.0028, 4360, 3116.3,    308.7,  11.7170,  35.0559,2,  35.0553,2,    241.9,2, 11.6771,    239.1,2,     3.04,2,     9.48,2,     0.01,2,     0.79,2, -999.000,9, -999.000,9, -999.000,5,-999.0000,5,  -999.00,9,   -999.0,9,  -999.00,9,-999.000,9,   -999.0,9,   -999.0,9,  -999.0, -999.00,-999.0000,-999.000,-999.000
     316N145_5,  I08S,    10,  1,     18, SIH003,2,19941208,0022,-33.5055,  95.0028, 4360, 4110.4,    408.7,  11.0735,  34.9567,2,  34.9579,2,    245.4,2, 11.0224,    241.9,2,     3.59,2,    10.80,2,     0.01,2,     0.88,2, -999.000,9, -999.000,9, -999.000,5,-999.0000,5,  -999.00,9,   -999.0,9,  -999.00,9,-999.000,9,   -999.0,9,   -999.0,9,  -999.0, -999.00,-999.0000,-999.000,-999.000
     316N145_5,  I08S,    10,  1,     17, SIH024,2,19941208,0022,-33.5055,  95.0028, 4360, 5107.5,    508.9,  10.4314,  34.8601,2,  34.8595,2,    246.0,2, 10.3700,    241.0,2,     3.96,2,    12.45,2,     0.01,2,     0.98,2, -999.000,9, -999.000,9, -999.000,5,-999.0000,5,  -999.00,9,   -999.0,9,  -999.00,9,-999.000,9,   -999.0,9,   -999.0,9,  -999.0, -999.00,-999.0000,-999.000,-999.000
     316N145_5,  I08S,    10,  1,     16, SIH022,2,19941208,0022,-33.5055,  95.0028, 4360, 6115.0,    610.3,   9.7926,  34.7587,2,  34.7583,2,    242.8,2,  9.7215,    239.1,2,     4.84,2,    14.58,2,     0.01,2,     1.10,2, -999.000,9, -999.000,9, -999.000,5,-999.0000,5,  -999.00,9,   -999.0,9,  -999.00,9,-999.000,9,   -999.0,9,   -999.0,9,  -999.0, -999.00,-999.0000,-999.000,-999.000
     316N145_5,  I08S,    10,  1,     15, SIH021,2,19941208,0022,-33.5055,  95.0028, 4360, 8105.5,    810.4,   7.9394,  34.5468,2,  34.5449,2,    218.7,2,  7.8551,    210.1,2,    12.01,2,    22.36,2,     0.00,2,     1.56,2, -999.000,9, -999.000,9, -999.000,5,-999.0000,5,  -999.00,9,   -999.0,9,  -999.00,9,-999.000,9,   -999.0,9,   -999.0,9,  -999.0, -999.00,-999.0000,-999.000,-999.000
     316N145_5,  I08S,    10,  1,     14, SIH002,2,19941208,0022,-33.5055,  95.0028, 4360,10108.2,   1011.9,   5.1860,  34.3988,2,  34.4008,2,    196.7,2,  5.1004,    192.0,2,    31.77,2,    29.86,2,     0.00,2,     2.07,2, -999.000,9, -999.000,9, -999.000,5,-999.0000,5,  -999.00,9,   -999.0,9,  -999.00,9,-999.000,9,   -999.0,9,   -999.0,9,  -999.0, -999.00,-999.0000,-999.000,-999.000
     316N145_5,  I08S,    10,  1,     13, SIH018,2,19941208,0022,-33.5055,  95.0028, 4360,12117.5,   1214.0,   3.7701,  34.4375,2,  34.4359,2,    181.0,2,  3.6786,    173.6,2,    55.09,2,    33.49,2,     0.00,2,     2.34,2, -999.000,9, -999.000,9, -999.000,5,-999.0000,5,  -999.00,9,   -999.0,9,  -999.00,9,-999.000,9,   -999.0,9,   -999.0,9,  -999.0, -999.00,-999.0000,-999.000,-999.000
     316N145_5,  I08S,    10,  1,     12, SIH016,2,19941208,0022,-33.5055,  95.0028, 4360,14122.6,   1415.7,   3.2881,  34.5275,2,  34.5264,2,    161.2,2,  3.1842,    157.9,2,    71.60,2,    34.60,2,     0.00,2,     2.42,2, -999.000,9, -999.000,9, -999.000,5,-999.0000,5,  -999.00,9,   -999.0,9,  -999.00,9,-999.000,9,   -999.0,9,   -999.0,9,  -999.0, -999.00,-999.0000,-999.000,-999.000
     316N145_5,  I08S,    10,  1,     11, SIH015,2,19941208,0022,-33.5055,  95.0028, 4360,17117.0,   1716.9,   2.8269,  34.6231,2,  34.6244,2,    160.5,2,  2.7028,    163.4,2,    83.02,2,    34.16,2,     0.00,2,     2.39,2, -999.000,9, -999.000,9, -999.000,5,-999.0000,5,  -999.00,9,   -999.0,9,  -999.00,9,-999.000,9,   -999.0,9,   -999.0,9,  -999.0, -999.00,-999.0000,-999.000,-999.000
     316N145_5,  I08S,    10,  1,     10, SIH013,2,19941208,0022,-33.5055,  95.0028, 4360,20158.6,   2022.8,   2.4866,  34.6891,2,  34.6891,2,    172.1,2,  2.3406,    169.0,2,    88.14,2,    32.80,2,     0.00,2,     2.29,2, -999.000,9, -999.000,9, -999.000,5,-999.0000,5,  -999.00,9,   -999.0,9,  -999.00,9,-999.000,9,   -999.0,9,   -999.0,9,  -999.0, -999.00,-999.0000,-999.000,-999.000
     316N145_5,  I08S,    10,  1,      9, SIH012,2,19941208,0022,-33.5055,  95.0028, 4360,23673.4,   2376.3,   2.1399,  34.7342,2,  34.7337,2,    187.9,2,  1.9680,    185.6,2,    89.19,2,    31.23,2,     0.00,2,     2.16,2, -999.000,9, -999.000,9, -999.000,5,-999.0000,5,  -999.00,9,   -999.0,9,  -999.00,9,-999.000,9,   -999.0,9,   -999.0,9,  -999.0, -999.00,-999.0000,-999.000,-999.000
     316N145_5,  I08S,    10,  1,      8, SIH010,2,19941208,0022,-33.5055,  95.0028, 4360,26704.4,   2681.2,   1.8601,  34.7433,2,  34.7437,2,    195.3,2,  1.6654,    193.5,2,    94.82,2,    30.84,2,     0.00,2,     2.14,2, -999.000,9, -999.000,9, -999.000,5,-999.0000,5,  -999.00,9,   -999.0,9,  -999.00,9,-999.000,9,   -999.0,9,   -999.0,9,  -999.0, -999.00,-999.0000,-999.000,-999.000
     316N145_5,  I08S,    10,  1,      7, SIH009,2,19941208,0022,-33.5055,  95.0028, 4360,29712.4,   2983.8,   1.5769,  34.7389,2,  34.7394,2,    198.5,2,  1.3597,    197.8,2,   103.18,2,    31.58,2,     0.00,2,     2.15,2, -999.000,9, -999.000,9, -999.000,5,-999.0000,5,  -999.00,9,   -999.0,9,  -999.00,9,-999.000,9,   -999.0,9,   -999.0,9,  -999.0, -999.00,-999.0000,-999.000,-999.000
     316N145_5,  I08S,    10,  1,      6, SIH038,2,19941208,0022,-33.5055,  95.0028, 4360,32740.6,   3288.4,   1.3781,  34.7317,2,  34.7309,2,    201.7,2,  1.1359,    200.4,2,   109.33,2,    31.88,2,     0.00,2,     2.18,2, -999.000,9, -999.000,9, -999.000,5,-999.0000,5,  -999.00,9,   -999.0,9,  -999.00,9,-999.000,9,   -999.0,9,   -999.0,9,  -999.0, -999.00,-999.0000,-999.000,-999.000
     316N145_5,  I08S,    10,  1,      5, SIH006,2,19941208,0022,-33.5055,  95.0028, 4360,35822.4,   3598.4,   1.2343,  34.7248,2,  34.7245,2,    204.0,2,  0.9647,    202.3,2,   113.78,2,    31.81,2,     0.00,2,     2.19,2, -999.000,9, -999.000,9, -999.000,5,-999.0000,5,  -999.00,9,   -999.0,9,  -999.00,9,-999.000,9,   -999.0,9,   -999.0,9,  -999.0, -999.00,-999.0000,-999.000,-999.000
     316N145_5,  I08S,    10,  1,      4, SIH004,2,19941208,0022,-33.5055,  95.0028, 4360,38856.9,   3903.6,   1.1344,  34.7195,2,  34.7184,2,    205.4,2,  0.8359,    203.7,2,   117.03,2,    32.07,2,     0.00,2,     2.21,2, -999.000,9, -999.000,9, -999.000,5,-999.0000,5,  -999.00,9,   -999.0,9,  -999.00,9,-999.000,9,   -999.0,9,   -999.0,9,  -999.0, -999.00,-999.0000,-999.000,-999.000
     316N145_5,  I08S,    10,  1,      3, SIH025,2,19941208,0022,-33.5055,  95.0028, 4360,42014.2,   4221.2,   1.1026,  34.7170,2,  34.7154,2,    206.6,2,  0.7708,    204.5,2,   118.76,2,    32.12,2,     0.00,2,     2.21,2, -999.000,9, -999.000,9, -999.000,5,-999.0000,5,  -999.00,9,   -999.0,9,  -999.00,9,-999.000,9,   -999.0,9,   -999.0,9,  -999.0, -999.00,-999.0000,-999.000,-999.000
     316N145_5,  I08S,    10,  1,      2, SIH001,3,19941208,0022,-33.5055,  95.0028, 4360,43529.6,   4373.7,   1.0801,  34.7146,2,  34.7693,4,    207.7,2,  0.7322,    203.4,4,    97.40,4,    28.70,4,     0.01,4,     1.98,4, -999.000,9, -999.000,9, -999.000,5,-999.0000,5,  -999.00,9,   -999.0,9,  -999.00,9,-999.000,9,   -999.0,9,   -999.0,9,  -999.0, -999.00,-999.0000,-999.000,-999.000
     316N145_5,  I08S,    10,  1,      1, SIH036,2,19941208,0022,-33.5055,  95.0028, 4360,43924.3,   4413.4,   1.0596,  34.7133,2,  34.7146,2,    208.0,2,  0.7079,    205.4,2,   119.65,2,    31.94,2,     0.00,2,     2.21,2, -999.000,9, -999.000,9, -999.000,5,-999.0000,5,  -999.00,9,   -999.0,9,  -999.00,9,-999.000,9,   -999.0,9,   -999.0,9,  -999.0, -999.00,-999.0000,-999.000,-999.000