BOTTLE,20090521WHPSIOdm
EXPOCODE,SECT_ID,STNNBR,CASTNO,SAMPNO,BTLNBR,BTLNBR_FLAG_W,DATE,TIME,LATITUDE,LONGITUDE,DEPTH,CTDRAW,CTDPRS,CTDTMP,CTDSAL,CTDSAL_FLAG_W,SALNTY,SALNTY_FLAG_W,CTDOXY,CTDOXY_FLAG_W,THETA,OXYGEN,OXYGEN_FLAG_W,SILCAT,SILCAT_FLAG_W,NITRAT,NITRAT_FLAG_W,NITRIT,NITRIT_FLAG_W,PHSPHT,PHSPHT_FLAG_W,CFC-11,CFC-11_FLAG_W,CFC-12,CFC-12_FLAG_W,TRITUM,TRITUM_FLAG_W,HELIUM,HELIUM_FLAG_W,DELHE3,DELHE3_FLAG_W,DELC14,DELC14_FLAG_W,DELC13,DELC13_FLAG_W,NEON,NEON_FLAG_W,TCARBN,TCARBN_FLAG_W,ALKALI,ALKALI_FLAG_W,C14ERR,DELHER,HELIER,NEONER,TRITER
,,,,,,,,,,,,,DBAR,IPTS-68,PSS-78,,PSS-78,,UMOL/KG,,IPTS-68,UMOL/KG,,UMOL/KG,,UMOL/KG,,UMOL/KG,,UMOL/KG,,PMOL/KG,,PMOL/KG,,TU,,NMOL/KG,,PERCNT,,/MILLE,,/MILLE,,NMOL/KG,,UMOL/KG,,UMOL/KG,,/MILLE,PERCNT,NMOL/KG,NMOL/KG,TU
     316N145_5,  I08S,    72,  1,     30, SIH017,9,19941225,1746,-59.5000,  82.0112, 1730,  149.5,      9.8,   0.4523,  34.0443,3,-999.0000,9,    342.8,3,  0.4520,   -999.0,9,  -999.00,9,  -999.00,9,  -999.00,9,  -999.00,9, -999.000,9, -999.000,9, -999.000,5,-999.0000,5,  -999.00,9,   -999.0,9,  -999.00,9,-999.000,9,   -999.0,9,   -999.0,9,  -999.0, -999.00,-999.0000,-999.000,-999.000
     316N145_5,  I08S,    72,  1,     29, SIH014,9,19941225,1746,-59.5000,  82.0112, 1730,  349.1,     29.9,   0.2826,  34.0424,3,-999.0000,9,    345.4,3,  0.2815,   -999.0,9,  -999.00,9,  -999.00,9,  -999.00,9,  -999.00,9, -999.000,9, -999.000,9, -999.000,5,-999.0000,5,  -999.00,9,   -999.0,9,  -999.00,9,-999.000,9,   -999.0,9,   -999.0,9,  -999.0, -999.00,-999.0000,-999.000,-999.000
     316N145_5,  I08S,    72,  1,     28, SIH011,9,19941225,1746,-59.5000,  82.0112, 1730,  593.1,     54.5,   0.0618,  34.0494,3,-999.0000,9,    347.2,3,  0.0599,   -999.0,9,  -999.00,9,  -999.00,9,  -999.00,9,  -999.00,9, -999.000,9, -999.000,9, -999.000,5,-999.0000,5,  -999.00,9,   -999.0,9,  -999.00,9,-999.000,9,   -999.0,9,   -999.0,9,  -999.0, -999.00,-999.0000,-999.000,-999.000
     316N145_5,  I08S,    72,  1,     27, SIH008,2,19941225,1746,-59.5000,  82.0112, 1730,  865.9,     81.9,  -0.5770,  34.2477,2,  34.2372,2,    293.4,2, -0.5795,    283.8,2,    61.95,2,    31.48,2,     0.21,2,     2.18,2,    4.415,2,    2.147,2, -999.000,5,-999.0000,5,  -999.00,9,   -999.0,9,  -999.00,9,-999.000,9,   2211.2,6,   2315.4,2,  -999.0, -999.00,-999.0000,-999.000,-999.000
     316N145_5,  I08S,    72,  1,     26, SIH005,2,19941225,1746,-59.5000,  82.0112, 1730, 1089.4,    104.4,   1.2922,  34.5179,2,  34.5219,2,    195.0,2,  1.2873,    172.1,2,    78.43,2,    34.35,2,     0.16,2,     2.37,2, -999.000,9, -999.000,9, -999.000,5,-999.0000,5,  -999.00,9,   -999.0,9,  -999.00,9,-999.000,9,   2251.4,2,   2333.0,2,  -999.0, -999.00,-999.0000,-999.000,-999.000
     316N145_5,  I08S,    72,  1,     25, SIH019,2,19941225,1746,-59.5000,  82.0112, 1730, 1614.1,    157.2,   1.8495,  34.6151,2,  34.6177,2,    173.7,2,  1.8413,    171.3,2,    83.52,2,    34.59,2,     0.02,2,     2.37,2,    0.555,2,    0.266,2, -999.000,5,-999.0000,5,  -999.00,9,   -999.0,9,  -999.00,9,-999.000,9,   2259.3,2,   2337.2,2,  -999.0, -999.00,-999.0000,-999.000,-999.000
     316N145_5,  I08S,    72,  1,     24, SIH037,2,19941225,1746,-59.5000,  82.0112, 1730, 1847.3,    180.6,   1.8879,  34.6323,2,  34.6344,2,    170.8,2,  1.8785,    171.7,2,    84.51,2,    34.35,2,     0.01,2,     2.36,2,    0.491,2,    0.243,2, -999.000,5,-999.0000,5,  -999.00,9,   -999.0,9,  -999.00,9,-999.000,9,   2258.5,2,   2340.4,2,  -999.0, -999.00,-999.0000,-999.000,-999.000
     316N145_5,  I08S,    72,  1,     23, SIH033,2,19941225,1746,-59.5000,  82.0112, 1730, 2100.9,    206.1,   1.9255,  34.6480,2,  34.6490,2,    171.2,2,  1.9146,    170.7,2,    84.67,2,    34.05,2,     0.01,2,     2.34,2,    0.392,2,    0.201,2, -999.000,5,-999.0000,5,  -999.00,9,   -999.0,9,  -999.00,9,-999.000,9,   2259.7,2,   2338.4,2,  -999.0, -999.00,-999.0000,-999.000,-999.000
     316N145_5,  I08S,    72,  1,     22, SIH031,2,19941225,1746,-59.5000,  82.0112, 1730, 2596.5,    256.0,   1.9375,  34.6688,2,  34.6694,2,    171.7,2,  1.9238,    172.3,2,    85.16,2,    33.61,2,     0.01,2,     2.31,2, -999.000,9, -999.000,9, -999.000,5,-999.0000,5,  -999.00,9,   -999.0,9,  -999.00,9,-999.000,9,   2258.2,2,   2341.5,2,  -999.0, -999.00,-999.0000,-999.000,-999.000
     316N145_5,  I08S,    72,  1,     21, SIH030,2,19941225,1746,-59.5000,  82.0112, 1730, 3092.6,    305.9,   1.9350,  34.6879,2,  34.6885,2,    173.7,2,  1.9185,    174.4,2,    85.82,2,    33.16,2,     0.01,2,     2.28,2,    0.255,2,    0.126,2, -999.000,5,-999.0000,5,  -999.00,9,   -999.0,9,  -999.00,9,-999.000,9,   2257.0,2,   2342.1,2,  -999.0, -999.00,-999.0000,-999.000,-999.000
     316N145_5,  I08S,    72,  1,     20, SIH028,2,19941225,1746,-59.5000,  82.0112, 1730, 3592.9,    356.2,   1.9211,  34.7027,2,  34.7026,2,    177.8,2,  1.9017,    176.9,2,    86.47,2,    32.72,2,     0.00,2,     2.25,2, -999.000,9, -999.000,9, -999.000,5,-999.0000,5,  -999.00,9,   -999.0,9,  -999.00,9,-999.000,9,   2255.5,2,   2347.6,2,  -999.0, -999.00,-999.0000,-999.000,-999.000
     316N145_5,  I08S,    72,  1,     19, SIH027,2,19941225,1746,-59.5000,  82.0112, 1730, 4088.7,    406.1,   1.9040,  34.7104,2,  34.7113,2,    178.6,2,  1.8818,    178.7,2,    86.46,2,    32.38,2,     0.00,2,     2.23,2, -999.000,9, -999.000,9, -999.000,5,-999.0000,5,  -999.00,9,   -999.0,9,  -999.00,9,-999.000,9,   2254.4,2,   2346.3,2,  -999.0, -999.00,-999.0000,-999.000,-999.000
     316N145_5,  I08S,    72,  1,     18, SIH003,2,19941225,1746,-59.5000,  82.0112, 1730, 4568.7,    454.4,   1.8914,  34.7189,2,  34.7197,2,    180.2,2,  1.8664,    181.0,2,    86.78,2,    32.03,2,     0.00,2,     2.20,2,    0.187,2,    0.085,2, -999.000,5,-999.0000,5,  -999.00,9,   -999.0,9,  -999.00,9,-999.000,9,   2254.1,2,   2346.9,2,  -999.0, -999.00,-999.0000,-999.000,-999.000
     316N145_5,  I08S,    72,  1,     17, SIH024,2,19941225,1746,-59.5000,  82.0112, 1730, 5090.0,    506.8,   1.8693,  34.7266,2,  34.7286,2,    182.9,2,  1.8413,    183.6,2,    87.28,2,    31.74,2,     0.00,2,     2.18,2, -999.000,9, -999.000,9, -999.000,5,-999.0000,5,  -999.00,9,   -999.0,9,  -999.00,9,-999.000,9,   2251.8,2,   2347.0,2,  -999.0, -999.00,-999.0000,-999.000,-999.000
     316N145_5,  I08S,    72,  1,     16, SIH022,2,19941225,1746,-59.5000,  82.0112, 1730, 6087.2,    607.1,   1.8079,  34.7367,2,  34.7374,2,    185.5,2,  1.7741,    188.2,2,    87.93,2,    31.29,2,     0.00,2,     2.15,2, -999.000,9, -999.000,9, -999.000,5,-999.0000,5,  -999.00,9,   -999.0,9,  -999.00,9,-999.000,9,   2249.6,2,   -999.0,9,  -999.0, -999.00,-999.0000,-999.000,-999.000
     316N145_5,  I08S,    72,  1,     15, SIH021,2,19941225,1746,-59.5000,  82.0112, 1730, 7074.1,    706.4,   1.7294,  34.7437,2,  34.7449,2,    191.0,2,  1.6900,    192.5,2,    88.91,2,    30.84,2,     0.00,2,     2.12,2, -999.000,9, -999.000,9, -999.000,5,-999.0000,5,  -999.00,9,   -999.0,9,  -999.00,9,-999.000,9,   2247.4,2,   2352.9,2,  -999.0, -999.00,-999.0000,-999.000,-999.000
     316N145_5,  I08S,    72,  1,     14, SIH002,2,19941225,1746,-59.5000,  82.0112, 1730, 8052.7,    804.8,   1.6365,  34.7476,2,  34.7480,2,    195.3,2,  1.5914,    196.1,2,    90.90,2,    30.64,2,     0.00,2,     2.10,2,    0.094,2,    0.051,2, -999.000,5,-999.0000,5,  -999.00,9,   -999.0,9,  -999.00,9,-999.000,9,   2246.3,2,   2350.8,2,  -999.0, -999.00,-999.0000,-999.000,-999.000
     316N145_5,  I08S,    72,  1,     13, SIH018,2,19941225,1746,-59.5000,  82.0112, 1730, 9050.3,    905.2,   1.5502,  34.7472,2,  34.7465,2,    195.9,2,  1.4994,    198.4,2,    93.04,2,    30.60,2,     0.00,2,     2.10,2, -999.000,9, -999.000,9, -999.000,5,-999.0000,5,  -999.00,9,   -999.0,9,  -999.00,9,-999.000,9,   2246.5,2,   2351.2,2,  -999.0, -999.00,-999.0000,-999.000,-999.000
     316N145_5,  I08S,    72,  1,     12, SIH016,2,19941225,1746,-59.5000,  82.0112, 1730,10057.9,   1006.5,   1.4436,  34.7451,2,  34.7459,2,    198.2,2,  1.3872,    200.2,2,    95.83,2,    30.66,2,     0.00,2,     2.11,2, -999.000,9, -999.000,9, -999.000,5,-999.0000,5,  -999.00,9,   -999.0,9,  -999.00,9,-999.000,9,   2246.8,2,   2356.8,2,  -999.0, -999.00,-999.0000,-999.000,-999.000
     316N145_5,  I08S,    72,  1,     11, SIH015,2,19941225,1746,-59.5000,  82.0112, 1730,11053.6,   1106.7,   1.3543,  34.7392,2,  34.7416,2,    201.1,2,  1.2921,    200.9,2,    98.47,2,    30.91,2,     0.00,2,     2.12,2, -999.000,9, -999.000,9, -999.000,5,-999.0000,5,  -999.00,9,   -999.0,9,  -999.00,9,-999.000,9,   2249.0,2,   2354.9,2,  -999.0, -999.00,-999.0000,-999.000,-999.000
     316N145_5,  I08S,    72,  1,      9, SIH012,2,19941225,1746,-59.5000,  82.0112, 1730,12081.6,   1210.1,   1.2525,  34.7353,2,  34.7370,2,    201.4,2,  1.1845,    201.3,2,   101.76,2,    31.02,2,     0.00,2,     2.13,2, -999.000,9, -999.000,9, -999.000,5,-999.0000,5,  -999.00,9,   -999.0,9,  -999.00,9,-999.000,9,   2250.5,2,   2355.1,2,  -999.0, -999.00,-999.0000,-999.000,-999.000
     316N145_5,  I08S,    72,  1,     10, SIH013,2,19941225,1746,-59.5000,  82.0112, 1730,12095.3,   1211.4,   1.2523,  34.7356,2,  34.7382,2,    200.8,2,  1.1841,    200.7,2,   101.76,2,    31.07,2,     0.00,2,     2.13,2,    0.076,2,    0.041,2, -999.000,5,-999.0000,5,  -999.00,9,   -999.0,9,  -999.00,9,-999.000,9,   -999.0,9,   -999.0,9,  -999.0, -999.00,-999.0000,-999.000,-999.000
     316N145_5,  I08S,    72,  1,      7, SIH009,2,19941225,1746,-59.5000,  82.0112, 1730,13207.3,   1323.3,   1.1354,  34.7288,2,  34.7311,2,    201.8,2,  1.0610,    202.0,2,   106.53,2,    31.39,2,     0.00,2,     2.15,2, -999.000,9, -999.000,9, -999.000,5,-999.0000,5,  -999.00,9,   -999.0,9,  -999.00,9,-999.000,9,   2252.5,2,   2357.5,2,  -999.0, -999.00,-999.0000,-999.000,-999.000
     316N145_5,  I08S,    72,  1,      8, SIH010,2,19941225,1746,-59.5000,  82.0112, 1730,13216.5,   1324.2,   1.1348,  34.7296,2,  34.7307,2,    201.4,2,  1.0604,    201.8,2,   106.38,2,    31.33,2,     0.00,2,     2.15,2, -999.000,9, -999.000,9, -999.000,5,-999.0000,5,  -999.00,9,   -999.0,9,  -999.00,9,-999.000,9,   -999.0,9,   -999.0,9,  -999.0, -999.00,-999.0000,-999.000,-999.000
     316N145_5,  I08S,    72,  1,      6, SIH038,2,19941225,1746,-59.5000,  82.0112, 1730,14211.9,   1424.4,   1.0306,  34.7246,2,  34.7243,2,    201.3,2,  0.9505,    200.3,2,   115.77,2,    31.75,2,     0.00,2,     2.18,2,    0.059,2,    0.033,2, -999.000,5,-999.0000,5,  -999.00,9,   -999.0,9,  -999.00,9,-999.000,9,   2255.7,2,   -999.0,9,  -999.0, -999.00,-999.0000,-999.000,-999.000
     316N145_5,  I08S,    72,  1,      5, SIH006,2,19941225,1746,-59.5000,  82.0112, 1730,15203.8,   1524.1,   0.9499,  34.7200,2,  34.7203,2,    202.4,2,  0.8639,    201.4,2,   119.73,2,    32.01,2,     0.00,2,     2.20,2, -999.000,9, -999.000,9, -999.000,5,-999.0000,5,  -999.00,9,   -999.0,9,  -999.00,9,-999.000,9,   -999.0,9,   -999.0,9,  -999.0, -999.00,-999.0000,-999.000,-999.000
     316N145_5,  I08S,    72,  1,      4, SIH004,2,19941225,1746,-59.5000,  82.0112, 1730,15216.0,   1525.4,   0.9458,  34.7199,2,  34.7217,2,    202.5,2,  0.8598,    190.7,4,   119.73,2,    31.96,2,     0.00,2,     2.20,2, -999.000,9, -999.000,9, -999.000,5,-999.0000,5,  -999.00,9,   -999.0,9,  -999.00,9,-999.000,9,   2256.7,2,   2356.7,2,  -999.0, -999.00,-999.0000,-999.000,-999.000
     316N145_5,  I08S,    72,  1,      3, SIH025,2,19941225,1746,-59.5000,  82.0112, 1730,15985.5,   1602.8,   0.8783,  34.7162,2,  34.7184,2,    204.3,2,  0.7877,    202.5,2,   122.37,2,    32.07,2,     0.00,2,     2.21,2, -999.000,9, -999.000,9, -999.000,5,-999.0000,5,  -999.00,9,   -999.0,9,  -999.00,9,-999.000,9,   2257.4,2,   2363.7,2,  -999.0, -999.00,-999.0000,-999.000,-999.000
     316N145_5,  I08S,    72,  1,      2, SIH001,2,19941225,1746,-59.5000,  82.0112, 1730,16549.3,   1659.5,   0.7931,  34.7111,2,  34.7123,2,    206.1,2,  0.6997,    202.9,2,   125.66,2,    32.18,2,     0.00,2,     2.22,2, -999.000,9, -999.000,9, -999.000,5,-999.0000,5,  -999.00,9,   -999.0,9,  -999.00,9,-999.000,9,   2258.4,2,   2372.7,2,  -999.0, -999.00,-999.0000,-999.000,-999.000
     316N145_5,  I08S,    72,  1,      1, SIH036,2,19941225,1746,-59.5000,  82.0112, 1730,17030.5,   1707.9,   0.7516,  34.7075,2,  34.7095,2,    206.8,2,  0.6553,    203.3,2,   129.53,2,    32.30,2,     0.01,2,     2.23,2,    0.058,2,    0.035,2, -999.000,5,-999.0000,5,  -999.00,9,   -999.0,9,  -999.00,9,-999.000,9,   2259.8,6,   2375.1,2,  -999.0, -999.00,-999.0000,-999.000,-999.000
     316N145_5,  I08S,    73,  1,     18, SIH003,2,19941225,2256,-59.9972,  82.0000, 1000,  142.6,      9.1,   0.4609,  34.0042,2,  34.0070,2,    344.4,2,  0.4606,    345.0,2,    48.49,2,    28.36,2,     0.27,2,     1.89,2,    6.625,2,    3.112,2,    0.478,4,   1.7620,4,    -1.81,2,   -999.0,9,  -999.00,9,   7.907,2,   -999.0,9,   -999.0,9,  -999.0,    0.12,  0.0030,   0.077,   0.008
     316N145_5,  I08S,    73,  1,     17, SIH024,2,19941225,2256,-59.9972,  82.0000, 1000,  337.3,     28.6,   0.2484,  34.0066,2,  34.0076,2,    342.9,2,  0.2474,    346.9,2,    48.00,2,    28.32,2,     0.26,2,     1.88,2,    6.574,2,    3.077,2,    0.000,5,   1.7720,4,    -1.64,2,   -999.0,9,  -999.00,9,   7.957,2,   -999.0,9,   -999.0,9,  -999.0,    0.10,  0.0020,   0.082,   0.000
     316N145_5,  I08S,    73,  1,     16, SIH022,2,19941225,2256,-59.9972,  82.0000, 1000,  573.9,     52.5,  -0.7716,  34.0537,2,  34.0664,2,    339.5,2, -0.7731,    338.1,2,    50.96,2,    29.22,2,     0.22,2,     1.99,2,    6.084,2,    2.838,2,    0.122,4,   1.8000,2,    -1.12,2,   -999.0,9,  -999.00,9,   8.124,2,   -999.0,9,   -999.0,9,  -999.0,    0.12,  0.0030,   0.078,   0.005
     316N145_5,  I08S,    73,  1,     15, SIH021,2,19941225,2256,-59.9972,  82.0000, 1000,  840.1,     79.2,  -0.6657,  34.2525,2,  34.2524,2,    292.7,2, -0.6680,    278.7,2,    64.28,2,    31.83,2,     0.18,2,     2.23,2,    4.204,2,    2.005,2,    0.062,4,   1.8110,2,     2.05,2,   -999.0,9,  -999.00,9,   8.073,2,   -999.0,9,   -999.0,9,  -999.0,    0.09,  0.0020,   0.077,   0.004
     316N145_5,  I08S,    73,  1,     14, SIH002,2,19941225,2256,-59.9972,  82.0000, 1000, 1077.4,    103.1,   1.0349,  34.5262,2,  34.5282,2,    203.2,2,  1.0303,    198.5,2,    79.40,2,    34.03,2,     0.10,2,     2.34,2,    1.539,2,    0.729,2,    0.200,4,   1.8470,2,     7.03,2,   -999.0,9,  -999.00,9,   8.033,2,   -999.0,9,   -999.0,9,  -999.0,    0.12,  0.0030,   0.082,   0.006
     316N145_5,  I08S,    73,  1,     13, SIH018,2,19941225,2256,-59.9972,  82.0000, 1000, 1585.5,    154.2,   1.8391,  34.6624,2,  34.6624,2,    171.3,2,  1.8311,    172.8,2,    85.63,2,    33.92,2,     0.01,2,     2.32,2,    0.396,2,    0.192,2,    0.190,4,   1.8490,2,     9.16,2,   -999.0,9,  -999.00,9,   8.059,2,   -999.0,9,   -999.0,9,  -999.0,    0.09,  0.0020,   0.080,   0.005
     316N145_5,  I08S,    73,  1,     12, SIH016,2,19941225,2256,-59.9972,  82.0000, 1000, 2094.2,    205.4,   1.8853,  34.6867,2,  34.6887,2,    172.5,2,  1.8745,    173.4,2,    86.78,2,    33.46,2,     0.01,2,     2.29,2,    0.274,2,    0.145,2,    0.199,4,   1.8470,2,     9.26,2,   -999.0,9,  -999.00,9,   7.979,2,   -999.0,9,   -999.0,9,  -999.0,    0.12,  0.0030,   0.083,   0.006
     316N145_5,  I08S,    73,  1,     11, SIH015,2,19941225,2256,-59.9972,  82.0000, 1000, 2591.4,    255.4,   1.8918,  34.7041,2,  34.7042,2,    174.9,2,  1.8781,   -999.0,1,    87.27,2,    32.97,2,     0.00,2,     2.25,2,    0.214,2,    0.113,2,    0.190,4,   1.8580,2,     9.46,2,   -999.0,9,  -999.00,9,   8.092,2,   -999.0,9,   -999.0,9,  -999.0,    0.09,  0.0020,   0.086,   0.006
     316N145_5,  I08S,    73,  1,     10, SIH013,2,19941225,2256,-59.9972,  82.0000, 1000, 3084.7,    305.0,   1.8755,  34.7134,2,  34.7162,2,    179.2,2,  1.8591,    179.4,2,    87.43,2,    32.56,2,     0.01,2,     2.22,2,    0.202,2,    0.098,2,    0.232,4,   1.8490,2,     9.47,2,   -999.0,9,  -999.00,9,   7.948,3,   -999.0,9,   -999.0,9,  -999.0,    0.12,  0.0030,   0.080,   0.006
     316N145_5,  I08S,    73,  1,      9, SIH012,2,19941225,2256,-59.9972,  82.0000, 1000, 3579.0,    354.7,   1.8555,  34.7209,2,  34.7213,2,    179.6,2,  1.8364,    181.4,2,    87.59,2,    32.25,2,     0.01,2,     2.21,2,    0.167,2,    0.085,2, -999.000,5,-999.0000,5,  -999.00,9,   -999.0,9,  -999.00,9,-999.000,9,   -999.0,9,   -999.0,9,  -999.0, -999.00,-999.0000,-999.000,-999.000
     316N145_5,  I08S,    73,  1,      8, SIH010,2,19941225,2256,-59.9972,  82.0000, 1000, 4089.7,    406.1,   1.8338,  34.7291,2,  34.7292,2,    182.1,2,  1.8118,    184.0,2,    87.92,2,    31.90,2,     0.01,2,     2.18,2,    0.149,2,    0.073,2,    0.234,4,   1.8580,2,     9.33,2,   -999.0,9,  -999.00,9,   8.085,2,   -999.0,9,   -999.0,9,  -999.0,    0.09,  0.0020,   0.085,   0.006
     316N145_5,  I08S,    73,  1,      7, SIH009,2,19941225,2256,-59.9972,  82.0000, 1000, 4592.3,    456.7,   1.8035,  34.7334,2,  34.7345,2,    186.4,2,  1.7787,    185.8,2,    88.40,2,    31.71,2,     0.00,2,     2.16,2,    0.138,2,    0.075,2, -999.000,5,-999.0000,5,  -999.00,9,   -999.0,9,  -999.00,9,-999.000,9,   -999.0,9,   -999.0,9,  -999.0, -999.00,-999.0000,-999.000,-999.000
     316N145_5,  I08S,    73,  1,      6, SIH038,2,19941225,2256,-59.9972,  82.0000, 1000, 5096.3,    507.4,   1.7622,  34.7385,2,  34.7351,2,    188.7,2,  1.7345,    186.6,2,    88.23,2,    31.66,2,     0.00,2,     2.17,2,    0.141,2,    0.072,2,    0.145,4,   1.8660,2,     9.31,2,   -999.0,9,  -999.00,9,   8.264,2,   -999.0,9,   -999.0,9,  -999.0,    0.12,  0.0040,   0.081,   0.005
     316N145_5,  I08S,    73,  1,      5, SIH006,2,19941225,2256,-59.9972,  82.0000, 1000, 6100.6,    608.4,   1.6751,  34.7450,2,  34.7447,2,    190.8,2,  1.6419,    192.9,2,    90.20,2,    31.00,2,     0.00,2,     2.12,2,    0.097,2,    0.051,2,    0.000,5,   1.8700,2,     9.20,2,   -999.0,9,  -999.00,9,   8.164,2,   -999.0,9,   -999.0,9,  -999.0,    0.09,  0.0020,   0.078,   0.000
     316N145_5,  I08S,    73,  1,      4, SIH004,2,19941225,2256,-59.9972,  82.0000, 1000, 7090.1,    707.9,   1.6241,  34.7449,2,  34.7447,2,    194.8,2,  1.5851,    194.8,2,    91.84,2,    30.95,2,     0.00,2,     2.11,2,    0.096,2,    0.053,2,    0.027,4,   1.8720,2,     9.03,2,   -999.0,9,  -999.00,9,   8.307,2,   -999.0,9,   -999.0,9,  -999.0,    0.12,  0.0030,   0.074,   0.005
     316N145_5,  I08S,    73,  1,      3, SIH025,2,19941225,2256,-59.9972,  82.0000, 1000, 8143.4,    813.9,   1.4849,  34.7422,2,  34.7431,2,    197.2,2,  1.4403,    197.5,2,    96.12,2,    30.96,2,     0.00,2,     2.12,2,    0.080,2,    0.043,2,    0.182,4,   1.8670,2,     8.85,2,   -999.0,9,  -999.00,9,   8.138,2,   -999.0,9,   -999.0,9,  -999.0,    0.09,  0.0020,   0.090,   0.006
     316N145_5,  I08S,    73,  1,      2, SIH001,2,19941225,2256,-59.9972,  82.0000, 1000, 9170.1,    917.2,   1.2691,  34.7364,2,  34.7360,2,    199.1,2,  1.2197,    200.0,2,   103.02,2,    31.15,2,     0.01,2,     2.14,2,    0.071,2,    0.036,2,    0.088,4,   1.8790,2,     9.04,2,   -999.0,9,  -999.00,9,   8.250,2,   -999.0,9,   -999.0,9,  -999.0,    0.12,  0.0030,   0.077,   0.005
     316N145_5,  I08S,    73,  1,      1, SIH036,2,19941225,2256,-59.9972,  82.0000, 1000, 9726.1,    973.1,   1.2409,  34.7341,2,  34.7351,2,    201.5,3,  1.1882,    200.3,2,   104.62,2,    31.26,2,     0.01,2,     2.14,2,    0.077,2,    0.039,2,    0.000,5,   1.8770,2,     8.83,2,   -999.0,9,  -999.00,9,   8.163,2,   -999.0,9,   -999.0,9,  -999.0,    0.14,  0.0020,   0.041,   0.000