BOTTLE,20090521WHPSIOdm
EXPOCODE,SECT_ID,STNNBR,CASTNO,SAMPNO,BTLNBR,BTLNBR_FLAG_W,DATE,TIME,LATITUDE,LONGITUDE,DEPTH,CTDRAW,CTDPRS,CTDTMP,CTDSAL,CTDSAL_FLAG_W,SALNTY,SALNTY_FLAG_W,CTDOXY,CTDOXY_FLAG_W,THETA,OXYGEN,OXYGEN_FLAG_W,SILCAT,SILCAT_FLAG_W,NITRAT,NITRAT_FLAG_W,NITRIT,NITRIT_FLAG_W,PHSPHT,PHSPHT_FLAG_W,CFC-11,CFC-11_FLAG_W,CFC-12,CFC-12_FLAG_W,TRITUM,TRITUM_FLAG_W,HELIUM,HELIUM_FLAG_W,DELHE3,DELHE3_FLAG_W,DELC14,DELC14_FLAG_W,DELC13,DELC13_FLAG_W,NEON,NEON_FLAG_W,TCARBN,TCARBN_FLAG_W,ALKALI,ALKALI_FLAG_W,C14ERR,DELHER,HELIER,NEONER,TRITER
,,,,,,,,,,,,,DBAR,IPTS-68,PSS-78,,PSS-78,,UMOL/KG,,IPTS-68,UMOL/KG,,UMOL/KG,,UMOL/KG,,UMOL/KG,,UMOL/KG,,PMOL/KG,,PMOL/KG,,TU,,NMOL/KG,,PERCNT,,/MILLE,,/MILLE,,NMOL/KG,,UMOL/KG,,UMOL/KG,,/MILLE,PERCNT,NMOL/KG,NMOL/KG,TU
     316N145_5,  I09S,   116,  1,     35, SIH032,2,19950110,1604,-49.0000, 115.0028, 3410,  163.0,     11.1,   6.6969,  34.0264,2,  34.0309,2,    299.5,2,  6.6959,    299.6,2,     1.65,2,    19.06,2,     0.24,2,     1.40,2,    4.750,2,    2.394,2, -999.000,5,-999.0000,5,  -999.00,9,     -5.6,2,  -999.00,9,-999.000,9,   2101.9,6,   2286.3,2,     5.1, -999.00,-999.0000,-999.000,-999.000
     316N145_5,  I09S,   116,  1,     34, SIH029,2,19950110,1604,-49.0000, 115.0028, 3410,  364.1,     31.3,   6.6964,  34.0270,2,  34.0335,2,    298.1,2,  6.6937,    299.6,2,     1.64,2,    19.05,2,     0.24,2,     1.39,2,    4.705,2,    2.427,2, -999.000,5,-999.0000,5,  -999.00,9,     21.0,2,     1.74,2,-999.000,9,   2102.4,2,   2281.2,2,     5.0, -999.00,-999.0000,-999.000,-999.000
     316N145_5,  I09S,   116,  1,     33, SIH026,2,19950110,1604,-49.0000, 115.0028, 3410,  627.7,     57.9,   6.6997,  34.0299,2,  34.0350,2,    303.2,2,  6.6946,    299.4,2,     1.96,2,    19.04,2,     0.24,2,     1.40,2,    4.673,2,    2.363,2, -999.000,5,-999.0000,5,  -999.00,9,     -4.5,2,     1.69,2,-999.000,9,   2101.9,2,   2285.0,2,     3.9, -999.00,-999.0000,-999.000,-999.000
     316N145_5,  I09S,   116,  1,     32, SIH023,2,19950110,1604,-49.0000, 115.0028, 3410, 1118.0,    107.2,   6.6551,  34.0644,2,  34.0672,2,    306.8,2,  6.6456,    299.3,2,     2.26,2,    18.74,2,     0.23,2,     1.39,2,    4.679,6,    2.361,6, -999.000,5,-999.0000,5,  -999.00,9,     -2.9,2,     1.69,2,-999.000,9,   2103.4,2,   2285.8,2,     6.0, -999.00,-999.0000,-999.000,-999.000
     316N145_5,  I09S,   116,  1,     31, SIH020,2,19950110,1604,-49.0000, 115.0028, 3410, 1615.9,    157.2,   5.0852,  34.0790,2,  34.0717,2,    296.9,2,  5.0731,    298.9,2,     2.25,2,    18.73,2,     0.23,2,     1.39,2,    4.731,2,    2.367,2, -999.000,5,-999.0000,5,  -999.00,9,    -14.9,2,     1.61,2,-999.000,9,   2104.9,2,   2282.0,2,     4.9, -999.00,-999.0000,-999.000,-999.000
     316N145_5,  I09S,   116,  1,     29, SIH014,2,19950110,1604,-49.0000, 115.0028, 3410, 2109.5,    206.9,   4.2138,  34.0278,2,  34.0327,2,    300.8,2,  4.1992,    304.2,2,    10.68,2,    23.46,2,     0.12,2,     1.66,2,    5.176,2,    2.544,2, -999.000,5,-999.0000,5,  -999.00,9,    -15.0,2,     1.54,2,-999.000,9,   2132.5,6,   2264.9,3,     4.1, -999.00,-999.0000,-999.000,-999.000
     316N145_5,  I09S,   116,  1,     30, SIH017,2,19950110,1604,-49.0000, 115.0028, 3410, 2111.6,    207.1,   4.2143,  34.0271,2,  34.0335,2,    300.4,2,  4.1997,    303.9,2,    10.69,2,    23.52,2,     0.12,2,     1.67,2,    5.160,2,    2.520,2, -999.000,5,-999.0000,5,  -999.00,9,    -30.7,2,     1.52,2,-999.000,9,   -999.0,9,   2278.8,2,     6.0, -999.00,-999.0000,-999.000,-999.000
     316N145_5,  I09S,   116,  1,     28, SIH011,2,19950110,1604,-49.0000, 115.0028, 3410, 3104.1,    306.9,   4.0123,  34.0855,2,  34.0901,2,    284.9,2,  3.9908,    286.0,2,    13.86,2,    24.86,2,     0.01,2,     1.75,2,    4.621,2,    2.257,2, -999.000,5,-999.0000,5,  -999.00,9,    -36.7,2,     1.25,2,-999.000,9,   2141.1,2,   2287.8,2,     5.0, -999.00,-999.0000,-999.000,-999.000
     316N145_5,  I09S,   116,  1,     27, SIH008,2,19950110,1604,-49.0000, 115.0028, 3410, 3616.9,    358.5,   3.4956,  34.0673,2,  34.0709,2,    282.5,2,  3.4719,    285.5,2,    16.40,2,    26.15,2,     0.01,2,     1.82,2,    4.574,2,    2.258,2, -999.000,5,-999.0000,5,  -999.00,9,    -40.1,2,     1.34,2,-999.000,9,   -999.0,9,   2280.9,2,     6.8, -999.00,-999.0000,-999.000,-999.000
     316N145_5,  I09S,   116,  1,     26, SIH005,2,19950110,1604,-49.0000, 115.0028, 3410, 3622.4,    359.0,   3.4866,  34.0669,2,  34.0703,2,    282.5,2,  3.4629,    285.2,2,    16.55,2,    26.14,2,     0.01,2,     1.82,2,    4.596,2,    2.244,2, -999.000,5,-999.0000,5,  -999.00,9,    -38.1,2,     1.21,2,-999.000,9,   2149.7,6,   -999.0,9,     3.5, -999.00,-999.0000,-999.000,-999.000
     316N145_5,  I09S,   116,  1,     25, SIH019,2,19950110,1604,-49.0000, 115.0028, 3410, 4095.5,    406.6,   4.2393,  34.2277,2,  34.2326,2,    245.5,2,  4.2098,    242.1,2,    22.43,2,    27.98,2,     0.01,2,     1.95,2,    2.979,2,    1.446,2, -999.000,5,-999.0000,5,  -999.00,9,    -45.2,2,     1.10,2,-999.000,9,   2168.6,2,   2291.1,2,     2.5, -999.00,-999.0000,-999.000,-999.000
     316N145_5,  I09S,   116,  1,     24, SIH037,2,19950110,1604,-49.0000, 115.0028, 3410, 5105.7,    508.2,   3.8228,  34.2485,2,  34.2517,2,    231.8,2,  3.7872,    232.6,2,    28.32,2,    29.63,2,     0.01,2,     2.05,2,    2.591,2,    1.223,2, -999.000,5,-999.0000,5,  -999.00,9,    -63.9,2,     1.01,2,-999.000,9,   2180.7,2,   2295.6,2,     3.4, -999.00,-999.0000,-999.000,-999.000
     316N145_5,  I09S,   116,  1,     23, SIH033,2,19950110,1604,-49.0000, 115.0028, 3410, 6102.4,    608.5,   3.3991,  34.2680,2,  34.2740,2,    224.2,2,  3.3580,    224.8,2,    34.53,2,    30.91,2,     0.01,2,     2.14,2,    2.206,2,    1.041,2, -999.000,5,-999.0000,5,  -999.00,9,    -69.2,2,     0.93,2,-999.000,9,   2192.6,2,   2304.2,2,     5.3, -999.00,-999.0000,-999.000,-999.000
     316N145_5,  I09S,   116,  1,     22, SIH031,2,19950110,1604,-49.0000, 115.0028, 3410, 7093.8,    708.2,   3.0628,  34.3093,2,  34.3101,2,    209.6,2,  3.0162,    212.6,2,    42.80,2,    32.16,2,     0.00,2,     2.23,2, -999.000,9, -999.000,9, -999.000,5,-999.0000,5,  -999.00,9,   -100.9,2,     0.73,2,-999.000,9,   2205.8,2,   2306.6,2,     4.0, -999.00,-999.0000,-999.000,-999.000
     316N145_5,  I09S,   116,  1,     21, SIH030,2,19950110,1604,-49.0000, 115.0028, 3410, 8119.0,    811.3,   2.7391,  34.3500,2,  34.3533,2,    199.6,2,  2.6871,    202.6,2,    50.61,2,    33.19,2,     0.00,2,     2.29,2,    1.446,2,    0.678,2, -999.000,5,-999.0000,5,  -999.00,9,   -104.0,2,     0.57,2,-999.000,9,   2218.0,2,   2314.3,2,     5.9, -999.00,-999.0000,-999.000,-999.000
     316N145_5,  I09S,   116,  1,     20, SIH028,2,19950110,1604,-49.0000, 115.0028, 3410, 9125.7,    912.6,   2.6093,  34.4025,2,  34.4061,2,    190.0,2,  2.5509,    193.0,2,    57.13,2,    33.67,2,     0.00,2,     2.33,2,    1.110,2,    0.522,2, -999.000,5,-999.0000,5,  -999.00,9,   -119.4,2,     0.56,2,-999.000,9,   2228.4,2,   2326.1,2,     4.2, -999.00,-999.0000,-999.000,-999.000
     316N145_5,  I09S,   116,  1,     19, SIH027,2,19950110,1604,-49.0000, 115.0028, 3410,10134.5,   1014.1,   2.7762,  34.4870,2,  34.4901,2,    175.6,2,  2.7090,    179.1,2,    63.02,2,    33.65,2,     0.00,2,     2.33,2,    0.480,2,    0.224,2, -999.000,5,-999.0000,5,  -999.00,9,   -140.4,2,    -0.18,4,-999.000,9,   2238.4,2,   2328.9,2,     3.7, -999.00,-999.0000,-999.000,-999.000
     316N145_5,  I09S,   116,  1,     18, SIH003,2,19950110,1604,-49.0000, 115.0028, 3410,11115.9,   1112.8,   2.6599,  34.5371,2,  34.5406,2,    172.5,2,  2.5862,    176.2,2,    67.64,2,    33.58,2,     0.00,2,     2.32,2,    0.336,2,    0.171,2, -999.000,5,-999.0000,5,  -999.00,9,   -124.9,2,     0.52,2,-999.000,9,   2244.0,6,   2332.1,2,     3.7, -999.00,-999.0000,-999.000,-999.000
     316N145_5,  I09S,   116,  1,     17, SIH024,2,19950110,1604,-49.0000, 115.0028, 3410,12130.2,   1214.8,   2.6069,  34.5793,2,  34.5830,2,    171.3,2,  2.5259,    175.0,2,    70.35,2,    33.21,2,     0.00,2,     2.30,2,    0.222,2,    0.103,2, -999.000,5,-999.0000,5,  -999.00,9,   -134.4,2,     0.45,2,-999.000,9,   2246.1,2,   2353.1,3,     5.7, -999.00,-999.0000,-999.000,-999.000
     316N145_5,  I09S,   116,  1,     16, SIH022,2,19950110,1604,-49.0000, 115.0028, 3410,13075.6,   1309.9,   2.4803,  34.6017,2,  34.6054,2,    170.2,2,  2.3933,    176.1,2,    72.41,2,    32.94,2,     0.00,2,     2.27,2,    0.264,2,    0.119,2, -999.000,5,-999.0000,5,  -999.00,9,   -143.4,2,     0.32,2,-999.000,9,   2246.8,2,   2334.8,2,     4.1, -999.00,-999.0000,-999.000,-999.000
     316N145_5,  I09S,   116,  1,     15, SIH021,2,19950110,1604,-49.0000, 115.0028, 3410,14093.7,   1412.3,   2.4652,  34.6391,2,  34.6437,2,    173.4,2,  2.3702,    177.3,2,    73.69,2,    32.37,2,     0.00,2,     2.24,2,    0.176,2,    0.083,2, -999.000,5,-999.0000,5,  -999.00,9,   -149.4,2,     0.34,2,-999.000,9,   2245.0,2,   2340.5,2,     8.6, -999.00,-999.0000,-999.000,-999.000
     316N145_5,  I09S,   116,  1,     14, SIH002,2,19950110,1604,-49.0000, 115.0028, 3410,15093.4,   1512.9,   2.4277,  34.6728,2,  34.6789,2,    175.5,2,  2.3252,    181.2,2,    74.80,2,    31.65,2,     0.00,2,     2.18,2,    0.109,2,    0.046,2, -999.000,5,-999.0000,5,  -999.00,9,   -999.0,9,  -999.00,9,-999.000,9,   2244.4,2,   2346.0,2,  -999.0, -999.00,-999.0000,-999.000,-999.000
     316N145_5,  I09S,   116,  1,     13, SIH018,2,19950110,1604,-49.0000, 115.0028, 3410,16156.0,   1619.7,   2.3810,  34.6971,2,  34.7015,2,    180.4,2,  2.2704,    183.7,2,    75.59,2,    31.14,2,     0.00,2,     2.15,2,    0.085,2,    0.039,2, -999.000,5,-999.0000,5,  -999.00,9,   -999.0,9,  -999.00,9,-999.000,9,   2242.2,2,   2341.5,2,  -999.0, -999.00,-999.0000,-999.000,-999.000
     316N145_5,  I09S,   116,  1,     12, SIH016,2,19950110,1604,-49.0000, 115.0028, 3410,17174.6,   1722.2,   2.3162,  34.7138,2,  34.7150,2,    183.6,2,  2.1980,    186.3,2,    77.02,2,    30.82,2,     0.00,2,     2.12,2,    0.081,2,    0.036,2, -999.000,5,-999.0000,5,  -999.00,9,   -999.0,9,  -999.00,9,-999.000,9,   2242.2,2,   2349.8,6,  -999.0, -999.00,-999.0000,-999.000,-999.000
     316N145_5,  I09S,   116,  1,     11, SIH015,2,19950110,1604,-49.0000, 115.0028, 3410,18161.7,   1821.5,   2.2261,  34.7231,2,  34.7268,2,    184.6,2,  2.1009,    188.8,2,    78.93,2,    30.60,2,     0.00,2,     2.11,2,    0.092,2,    0.045,2, -999.000,5,-999.0000,5,  -999.00,9,   -999.0,9,  -999.00,9,-999.000,9,   2243.6,2,   -999.0,9,  -999.0, -999.00,-999.0000,-999.000,-999.000
     316N145_5,  I09S,   116,  1,     10, SIH013,2,19950110,1604,-49.0000, 115.0028, 3410,20197.2,   2026.2,   2.1063,  34.7462,2,  34.7482,2,    190.5,2,  1.9656,    194.4,2,    81.96,2,    29.94,2,     0.00,2,     2.06,2, -999.000,9, -999.000,9, -999.000,5,-999.0000,5,  -999.00,9,   -999.0,9,  -999.00,9,-999.000,9,   2242.4,2,   2354.9,2,  -999.0, -999.00,-999.0000,-999.000,-999.000
     316N145_5,  I09S,   116,  1,      9, SIH012,2,19950110,1604,-49.0000, 115.0028, 3410,22213.6,   2229.0,   1.9100,  34.7495,2,  34.7537,2,    192.0,2,  1.7550,    196.7,2,    88.66,2,    30.02,2,     0.00,2,     2.07,2,    0.031,2,    0.018,2, -999.000,5,-999.0000,5,  -999.00,9,   -999.0,9,  -999.00,9,-999.000,9,   2244.7,2,   2358.0,2,  -999.0, -999.00,-999.0000,-999.000,-999.000
     316N145_5,  I09S,   116,  1,      8, SIH010,2,19950110,1604,-49.0000, 115.0028, 3410,24228.8,   2431.7,   1.6955,  34.7456,2,  34.7488,2,    196.1,2,  1.5266,    199.1,2,    94.87,2,    30.25,2,     0.00,2,     2.08,2,    0.039,2,    0.021,2, -999.000,5,-999.0000,5,  -999.00,9,   -999.0,9,  -999.00,9,-999.000,9,   2248.0,2,   2359.5,2,  -999.0, -999.00,-999.0000,-999.000,-999.000
     316N145_5,  I09S,   116,  1,      7, SIH009,2,19950110,1604,-49.0000, 115.0028, 3410,26325.4,   2642.6,   1.4601,  34.7367,2,  34.7398,2,    197.7,2,  1.2768,    201.6,2,   102.54,2,    30.68,2,     0.00,2,     2.11,2,    0.041,2,    0.018,2, -999.000,5,-999.0000,5,  -999.00,9,   -999.0,9,  -999.00,9,-999.000,9,   2250.4,2,   2362.5,2,  -999.0, -999.00,-999.0000,-999.000,-999.000
     316N145_5,  I09S,   116,  1,      6, SIH038,2,19950110,1604,-49.0000, 115.0028, 3410,28344.2,   2845.7,   1.2782,  34.7282,2,  34.7325,2,    199.4,2,  1.0803,    203.0,2,   109.87,2,    31.16,2,     0.00,2,     2.14,2,    0.040,6,    0.019,6, -999.000,5,-999.0000,5,  -999.00,9,   -999.0,9,  -999.00,9,-999.000,9,   2254.3,2,   2367.0,2,  -999.0, -999.00,-999.0000,-999.000,-999.000
     316N145_5,  I09S,   116,  1,      5, SIH006,2,19950110,1604,-49.0000, 115.0028, 3410,30369.2,   3049.4,   1.1210,  34.7204,2,  34.7235,2,    201.4,2,  0.9078,    205.1,2,   114.66,2,    31.34,2,     0.00,2,     2.16,2,    0.066,2,    0.034,2, -999.000,5,-999.0000,5,  -999.00,9,   -999.0,9,  -999.00,9,-999.000,9,   2255.2,2,   2363.0,2,  -999.0, -999.00,-999.0000,-999.000,-999.000
     316N145_5,  I09S,   116,  1,      4, SIH004,2,19950110,1604,-49.0000, 115.0028, 3410,32409.3,   3254.6,   1.0719,  34.7170,2,  34.7203,2,    201.2,2,  0.8403,    205.7,2,   116.57,2,    31.47,2,     0.00,2,     2.17,2,    0.073,2,    0.035,2, -999.000,5,-999.0000,5,  -999.00,9,   -999.0,9,  -999.00,9,-999.000,9,   2256.5,2,   2363.2,2,  -999.0, -999.00,-999.0000,-999.000,-999.000
     316N145_5,  I09S,   116,  1,      3, SIH025,2,19950110,1604,-49.0000, 115.0028, 3410,34343.0,   3449.1,   1.0673,  34.7162,2,  34.7191,2,    202.9,2,  0.8169,    206.1,2,   117.22,2,    31.51,2,     0.00,2,     2.17,2,    0.078,2,    0.040,2, -999.000,5,-999.0000,5,  -999.00,9,   -999.0,9,  -999.00,9,-999.000,9,   2256.2,2,   -999.0,9,  -999.0, -999.00,-999.0000,-999.000,-999.000
     316N145_5,  I09S,   116,  1,      2, SIH001,2,19950110,1604,-49.0000, 115.0028, 3410,35374.4,   3552.9,   1.0718,  34.7158,2,  34.7199,2,    201.9,2,  0.8110,    206.7,2,   117.22,2,    31.49,2,     0.00,2,     2.17,2,    0.092,2,    0.049,2, -999.000,5,-999.0000,5,  -999.00,9,   -999.0,9,  -999.00,9,-999.000,9,   2255.6,2,   -999.0,9,  -999.0, -999.00,-999.0000,-999.000,-999.000
     316N145_5,  I09S,   116,  1,      1, SIH036,2,19950110,1604,-49.0000, 115.0028, 3410,35936.6,   3609.4,   1.0618,  34.7148,2,  34.7184,2,    204.0,2,  0.7955,    207.0,2,   117.71,2,    31.48,2,     0.00,2,     2.17,2,    0.078,2,    0.040,2, -999.000,5,-999.0000,5,  -999.00,9,   -999.0,9,  -999.00,9,-999.000,9,   2257.6,6,   -999.0,9,  -999.0, -999.00,-999.0000,-999.000,-999.000