BOTTLE,20090521WHPSIOdm
EXPOCODE,SECT_ID,STNNBR,CASTNO,SAMPNO,BTLNBR,BTLNBR_FLAG_W,DATE,TIME,LATITUDE,LONGITUDE,DEPTH,CTDRAW,CTDPRS,CTDTMP,CTDSAL,CTDSAL_FLAG_W,SALNTY,SALNTY_FLAG_W,CTDOXY,CTDOXY_FLAG_W,THETA,OXYGEN,OXYGEN_FLAG_W,SILCAT,SILCAT_FLAG_W,NITRAT,NITRAT_FLAG_W,NITRIT,NITRIT_FLAG_W,PHSPHT,PHSPHT_FLAG_W,CFC-11,CFC-11_FLAG_W,CFC-12,CFC-12_FLAG_W,TRITUM,TRITUM_FLAG_W,HELIUM,HELIUM_FLAG_W,DELHE3,DELHE3_FLAG_W,DELC14,DELC14_FLAG_W,DELC13,DELC13_FLAG_W,NEON,NEON_FLAG_W,TCARBN,TCARBN_FLAG_W,ALKALI,ALKALI_FLAG_W,C14ERR,DELHER,HELIER,NEONER,TRITER
,,,,,,,,,,,,,DBAR,IPTS-68,PSS-78,,PSS-78,,UMOL/KG,,IPTS-68,UMOL/KG,,UMOL/KG,,UMOL/KG,,UMOL/KG,,UMOL/KG,,PMOL/KG,,PMOL/KG,,TU,,NMOL/KG,,PERCNT,,/MILLE,,/MILLE,,NMOL/KG,,UMOL/KG,,UMOL/KG,,/MILLE,PERCNT,NMOL/KG,NMOL/KG,TU
     316N145_5,  I08S,    69,  1,     36, SIH035,2,19941225,0429,-58.2222,  82.0000, 1825,  132.8,      8.1,   0.7041,  34.0483,2,  34.0519,2,    344.5,2,  0.7038,    343.9,2,    45.30,2,    27.58,2,     0.27,2,     1.76,2, -999.000,9, -999.000,9, -999.000,5,-999.0000,5,  -999.00,9,   -999.0,9,  -999.00,9,-999.000,9,   -999.0,9,   -999.0,9,  -999.0, -999.00,-999.0000,-999.000,-999.000
     316N145_5,  I08S,    69,  1,     35, SIH032,2,19941225,0429,-58.2222,  82.0000, 1825,  335.2,     28.4,   0.6530,  34.0505,2,  34.0529,2,    340.8,2,  0.6518,    344.4,2,    45.46,2,    27.63,2,     0.27,2,     1.77,2, -999.000,9, -999.000,9, -999.000,5,-999.0000,5,  -999.00,9,   -999.0,9,  -999.00,9,-999.000,9,   -999.0,9,   -999.0,9,  -999.0, -999.00,-999.0000,-999.000,-999.000
     316N145_5,  I08S,    69,  1,     34, SIH029,2,19941225,0429,-58.2222,  82.0000, 1825,  574.4,     52.5,   0.4238,  34.0569,2,  34.0613,2,    339.3,2,  0.4218,    340.1,2,    46.62,2,    27.96,2,     0.24,2,     1.84,2, -999.000,9, -999.000,9, -999.000,5,-999.0000,5,  -999.00,9,   -999.0,9,  -999.00,9,-999.000,9,   -999.0,9,   -999.0,9,  -999.0, -999.00,-999.0000,-999.000,-999.000
     316N145_5,  I08S,    69,  1,     33, SIH026,2,19941225,0429,-58.2222,  82.0000, 1825,  738.3,     69.0,  -0.1091,  34.0895,2,  34.0880,2,    335.6,2, -0.1114,    330.2,2,    49.59,2,    28.70,2,     0.21,2,     1.94,2, -999.000,9, -999.000,9, -999.000,5,-999.0000,5,  -999.00,9,   -999.0,9,  -999.00,9,-999.000,9,   -999.0,9,   -999.0,9,  -999.0, -999.00,-999.0000,-999.000,-999.000
     316N145_5,  I08S,    69,  1,     32, SIH023,2,19941225,0429,-58.2222,  82.0000, 1825,  838.2,     79.0,  -0.2414,  34.1661,2,  34.1511,3,    309.6,2, -0.2440,    303.4,2,    55.36,2,    29.83,2,     0.18,2,     2.06,2, -999.000,9, -999.000,9, -999.000,5,-999.0000,5,  -999.00,9,   -999.0,9,  -999.00,9,-999.000,9,   -999.0,9,   -999.0,9,  -999.0, -999.00,-999.0000,-999.000,-999.000
     316N145_5,  I08S,    69,  1,     31, SIH020,2,19941225,0429,-58.2222,  82.0000, 1825,  984.3,     93.7,   0.1470,  34.3394,2,  34.3409,2,    244.4,2,  0.1435,    237.7,2,    68.88,2,    32.49,2,     0.13,2,     2.27,2, -999.000,9, -999.000,9, -999.000,5,-999.0000,5,  -999.00,9,   -999.0,9,  -999.00,9,-999.000,9,   -999.0,9,   -999.0,9,  -999.0, -999.00,-999.0000,-999.000,-999.000
     316N145_5,  I08S,    69,  1,     30, SIH017,2,19941225,0429,-58.2222,  82.0000, 1825, 1098.9,    105.3,   0.7282,  34.4161,2,  34.4090,4,    222.2,2,  0.7238,    218.3,2,    72.83,2,    33.29,2,     0.14,2,     2.32,2, -999.000,9, -999.000,9, -999.000,5,-999.0000,5,  -999.00,9,   -999.0,9,  -999.00,9,-999.000,9,   -999.0,9,   -999.0,9,  -999.0, -999.00,-999.0000,-999.000,-999.000
     316N145_5,  I08S,    69,  1,     29, SIH014,2,19941225,0429,-58.2222,  82.0000, 1825, 1585.6,    154.2,   1.7193,  34.5761,2,  34.5759,2,    178.4,2,  1.7115,    177.2,2,    80.73,2,    34.48,2,     0.05,2,     2.38,2, -999.000,9, -999.000,9, -999.000,5,-999.0000,5,  -999.00,9,   -999.0,9,  -999.00,9,-999.000,9,   -999.0,9,   -999.0,9,  -999.0, -999.00,-999.0000,-999.000,-999.000
     316N145_5,  I08S,    69,  1,     28, SIH011,2,19941225,0429,-58.2222,  82.0000, 1825, 2096.6,    205.6,   1.8299,  34.6207,2,  34.6213,2,    174.2,2,  1.8192,    174.8,2,    82.71,2,    33.99,2,     0.03,2,     2.35,2, -999.000,9, -999.000,9, -999.000,5,-999.0000,5,  -999.00,9,   -999.0,9,  -999.00,9,-999.000,9,   -999.0,9,   -999.0,9,  -999.0, -999.00,-999.0000,-999.000,-999.000
     316N145_5,  I08S,    69,  1,     27, SIH008,2,19941225,0429,-58.2222,  82.0000, 1825, 2564.4,    252.7,   1.9399,  34.6552,2,  34.6553,2,    176.8,2,  1.9264,    174.3,2,    83.71,2,    33.45,2,     0.01,2,     2.31,2, -999.000,9, -999.000,9, -999.000,5,-999.0000,5,  -999.00,9,   -999.0,9,  -999.00,9,-999.000,9,   -999.0,9,   -999.0,9,  -999.0, -999.00,-999.0000,-999.000,-999.000
     316N145_5,  I08S,    69,  1,     26, SIH005,2,19941225,0429,-58.2222,  82.0000, 1825, 3085.5,    305.1,   1.9653,  34.6763,2,  34.6769,2,    175.5,2,  1.9487,    176.1,2,    84.04,2,    32.99,2,     0.01,2,     2.28,2, -999.000,9, -999.000,9, -999.000,5,-999.0000,5,  -999.00,9,   -999.0,9,  -999.00,9,-999.000,9,   -999.0,9,   -999.0,9,  -999.0, -999.00,-999.0000,-999.000,-999.000
     316N145_5,  I08S,    69,  1,     25, SIH019,2,19941225,0429,-58.2222,  82.0000, 1825, 3590.4,    355.9,   1.8320,  34.6801,2,  34.6859,4,    181.0,2,  1.8129,    180.9,2,    84.69,2,    32.63,2,     0.01,2,     2.25,2, -999.000,9, -999.000,9, -999.000,5,-999.0000,5,  -999.00,9,   -999.0,9,  -999.00,9,-999.000,9,   -999.0,9,   -999.0,9,  -999.0, -999.00,-999.0000,-999.000,-999.000
     316N145_5,  I08S,    69,  1,     24, SIH037,2,19941225,0429,-58.2222,  82.0000, 1825, 4092.4,    406.4,   1.7832,  34.6909,2,  34.6928,2,    186.4,2,  1.7614,    185.9,2,    84.37,2,    32.13,2,     0.00,2,     2.22,2, -999.000,9, -999.000,9, -999.000,5,-999.0000,5,  -999.00,9,   -999.0,9,  -999.00,9,-999.000,9,   -999.0,9,   -999.0,9,  -999.0, -999.00,-999.0000,-999.000,-999.000
     316N145_5,  I08S,    69,  1,     23, SIH033,2,19941225,0429,-58.2222,  82.0000, 1825, 4565.1,    453.9,   1.8624,  34.7116,2,  34.7109,2,    183.7,2,  1.8376,    184.5,2,    85.69,2,    31.91,2,     0.00,2,     2.21,2, -999.000,9, -999.000,9, -999.000,5,-999.0000,5,  -999.00,9,   -999.0,9,  -999.00,9,-999.000,9,   -999.0,9,   -999.0,9,  -999.0, -999.00,-999.0000,-999.000,-999.000
     316N145_5,  I08S,    69,  1,     22, SIH031,2,19941225,0429,-58.2222,  82.0000, 1825, 5056.6,    503.3,   1.8638,  34.7223,2,  34.7233,2,    184.4,2,  1.8360,    185.5,2,    86.35,2,    31.56,2,     0.00,2,     2.18,2, -999.000,9, -999.000,9, -999.000,5,-999.0000,5,  -999.00,9,   -999.0,9,  -999.00,9,-999.000,9,   -999.0,9,   -999.0,9,  -999.0, -999.00,-999.0000,-999.000,-999.000
     316N145_5,  I08S,    69,  1,     21, SIH030,2,19941225,0429,-58.2222,  82.0000, 1825, 6047.5,    603.0,   1.8127,  34.7341,2,  34.7368,2,    189.2,2,  1.7791,    189.2,2,    87.18,2,    31.10,2,     0.00,2,     2.15,2, -999.000,9, -999.000,9, -999.000,5,-999.0000,5,  -999.00,9,   -999.0,9,  -999.00,9,-999.000,9,   -999.0,9,   -999.0,9,  -999.0, -999.00,-999.0000,-999.000,-999.000
     316N145_5,  I08S,    69,  1,     20, SIH028,2,19941225,0429,-58.2222,  82.0000, 1825, 7049.5,    703.8,   1.7017,  34.7404,2,  34.7410,2,    193.4,2,  1.6625,    194.6,2,    88.67,2,    30.79,2,     0.00,2,     2.12,2, -999.000,9, -999.000,9, -999.000,5,-999.0000,5,  -999.00,9,   -999.0,9,  -999.00,9,-999.000,9,   -999.0,9,   -999.0,9,  -999.0, -999.00,-999.0000,-999.000,-999.000
     316N145_5,  I08S,    69,  1,     19, SIH027,2,19941225,0429,-58.2222,  82.0000, 1825, 8075.5,    807.0,   1.6555,  34.7484,2,  34.7494,2,    193.4,2,  1.6102,    196.9,2,    90.15,2,    30.53,2,     0.00,2,     2.12,2, -999.000,9, -999.000,9, -999.000,5,-999.0000,5,  -999.00,9,   -999.0,9,  -999.00,9,-999.000,9,   -999.0,9,   -999.0,9,  -999.0, -999.00,-999.0000,-999.000,-999.000
     316N145_5,  I08S,    69,  1,     18, SIH003,2,19941225,0429,-58.2222,  82.0000, 1825, 9088.1,    908.9,   1.5636,  34.7482,2,  34.7502,2,    198.3,2,  1.5125,    198.9,2,    92.13,2,    30.38,2,     0.00,2,     2.09,2, -999.000,9, -999.000,9, -999.000,5,-999.0000,5,  -999.00,9,   -999.0,9,  -999.00,9,-999.000,9,   -999.0,9,   -999.0,9,  -999.0, -999.00,-999.0000,-999.000,-999.000
     316N145_5,  I08S,    69,  1,     17, SIH024,2,19941225,0429,-58.2222,  82.0000, 1825,10163.7,   1017.0,   1.4357,  34.7430,2,  34.7449,2,    199.9,2,  1.3786,    200.7,2,    95.26,2,    30.62,2,     0.00,2,     2.11,2, -999.000,9, -999.000,9, -999.000,5,-999.0000,5,  -999.00,9,   -999.0,9,  -999.00,9,-999.000,9,   -999.0,9,   -999.0,9,  -999.0, -999.00,-999.0000,-999.000,-999.000
     316N145_5,  I08S,    69,  1,     16, SIH022,2,19941225,0429,-58.2222,  82.0000, 1825,11157.9,   1117.1,   1.3424,  34.7402,2,  34.7404,2,    200.0,2,  1.2797,    201.7,2,    98.40,2,    30.77,2,     0.00,2,     2.12,2, -999.000,9, -999.000,9, -999.000,5,-999.0000,5,  -999.00,9,   -999.0,9,  -999.00,9,-999.000,9,   -999.0,9,   -999.0,9,  -999.0, -999.00,-999.0000,-999.000,-999.000
     316N145_5,  I08S,    69,  1,     15, SIH021,2,19941225,0429,-58.2222,  82.0000, 1825,12143.3,   1216.2,   1.2404,  34.7351,2,  34.7359,2,    201.0,2,  1.1720,    202.1,2,   101.21,2,    30.86,2,     0.00,2,     2.13,2, -999.000,9, -999.000,9, -999.000,5,-999.0000,5,  -999.00,9,   -999.0,9,  -999.00,9,-999.000,9,   -999.0,9,   -999.0,9,  -999.0, -999.00,-999.0000,-999.000,-999.000
     316N145_5,  I08S,    69,  1,     14, SIH002,2,19941225,0429,-58.2222,  82.0000, 1825,12159.7,   1217.8,   1.2395,  34.7351,2,  34.7390,3,    200.5,2,  1.1710,    202.6,2,   101.04,2,    30.90,2,     0.00,2,     2.14,2, -999.000,9, -999.000,9, -999.000,5,-999.0000,5,  -999.00,9,   -999.0,9,  -999.00,9,-999.000,9,   -999.0,9,   -999.0,9,  -999.0, -999.00,-999.0000,-999.000,-999.000
     316N145_5,  I08S,    69,  1,     13, SIH018,2,19941225,0429,-58.2222,  82.0000, 1825,13188.5,   1321.3,   1.1579,  34.7311,2,  34.7317,2,    202.3,2,  1.0833,    203.3,2,   103.85,2,    31.10,2,     0.00,2,     2.15,2, -999.000,9, -999.000,9, -999.000,5,-999.0000,5,  -999.00,9,   -999.0,9,  -999.00,9,-999.000,9,   -999.0,9,   -999.0,9,  -999.0, -999.00,-999.0000,-999.000,-999.000
     316N145_5,  I08S,    69,  1,     12, SIH016,2,19941225,0429,-58.2222,  82.0000, 1825,13195.0,   1322.0,   1.1565,  34.7303,2,  34.7309,2,    202.5,2,  1.0820,    203.4,2,   103.36,2,    31.15,2,     0.00,2,     2.15,2, -999.000,9, -999.000,9, -999.000,5,-999.0000,5,  -999.00,9,   -999.0,9,  -999.00,9,-999.000,9,   -999.0,9,   -999.0,9,  -999.0, -999.00,-999.0000,-999.000,-999.000
     316N145_5,  I08S,    69,  1,     10, SIH013,2,19941225,0429,-58.2222,  82.0000, 1825,14201.7,   1423.2,   1.0566,  34.7242,2,  34.7268,2,    202.0,2,  0.9763,    203.3,2,   108.80,2,    31.43,2,     0.00,2,     2.17,2, -999.000,9, -999.000,9, -999.000,5,-999.0000,5,  -999.00,9,   -999.0,9,  -999.00,9,-999.000,9,   -999.0,9,   -999.0,9,  -999.0, -999.00,-999.0000,-999.000,-999.000
     316N145_5,  I08S,    69,  1,     11, SIH015,2,19941225,0429,-58.2222,  82.0000, 1825,14220.0,   1425.1,   1.0581,  34.7253,2,  34.7268,2,    203.9,2,  0.9776,    203.0,2,   108.80,2,    31.44,2,     0.00,2,     2.17,2, -999.000,9, -999.000,9, -999.000,5,-999.0000,5,  -999.00,9,   -999.0,9,  -999.00,9,-999.000,9,   -999.0,9,   -999.0,9,  -999.0, -999.00,-999.0000,-999.000,-999.000
     316N145_5,  I08S,    69,  1,      9, SIH012,2,19941225,0429,-58.2222,  82.0000, 1825,15166.8,   1520.3,   0.9617,  34.7200,2,  34.7213,2,    201.6,2,  0.8758,    203.6,2,   113.09,2,    31.69,2,     0.00,2,     2.19,2, -999.000,9, -999.000,9, -999.000,5,-999.0000,5,  -999.00,9,   -999.0,9,  -999.00,9,-999.000,9,   -999.0,9,   -999.0,9,  -999.0, -999.00,-999.0000,-999.000,-999.000
     316N145_5,  I08S,    69,  1,      8, SIH010,2,19941225,0429,-58.2222,  82.0000, 1825,15171.2,   1520.8,   0.9617,  34.7207,2,  34.7211,2,    202.2,2,  0.8758,    204.1,2,   113.09,2,    31.63,2,     0.00,2,     2.19,2, -999.000,9, -999.000,9, -999.000,5,-999.0000,5,  -999.00,9,   -999.0,9,  -999.00,9,-999.000,9,   -999.0,9,   -999.0,9,  -999.0, -999.00,-999.0000,-999.000,-999.000
     316N145_5,  I08S,    69,  1,      6, SIH038,2,19941225,0429,-58.2222,  82.0000, 1825,16181.1,   1622.3,   0.8656,  34.7146,2,  34.7152,2,    206.8,2,  0.7739,    205.3,2,   115.08,2,    31.81,2,     0.00,2,     2.20,2, -999.000,9, -999.000,9, -999.000,5,-999.0000,5,  -999.00,9,   -999.0,9,  -999.00,9,-999.000,9,   -999.0,9,   -999.0,9,  -999.0, -999.00,-999.0000,-999.000,-999.000
     316N145_5,  I08S,    69,  1,      7, SIH009,2,19941225,0429,-58.2222,  82.0000, 1825,16186.5,   1622.9,   0.8655,  34.7143,2,  34.7156,2,    205.7,2,  0.7737,    205.1,2,   115.08,2,    31.82,2,     0.00,2,     2.20,2, -999.000,9, -999.000,9, -999.000,5,-999.0000,5,  -999.00,9,   -999.0,9,  -999.00,9,-999.000,9,   -999.0,9,   -999.0,9,  -999.0, -999.00,-999.0000,-999.000,-999.000
     316N145_5,  I08S,    69,  1,      5, SIH006,2,19941225,0429,-58.2222,  82.0000, 1825,16981.5,   1702.9,   0.8016,  34.7121,2,  34.7121,2,    206.8,2,  0.7050,    205.6,2,   118.71,2,    32.01,2,     0.00,2,     2.21,2, -999.000,9, -999.000,9, -999.000,5,-999.0000,5,  -999.00,9,   -999.0,9,  -999.00,9,-999.000,9,   -999.0,9,   -999.0,9,  -999.0, -999.00,-999.0000,-999.000,-999.000
     316N145_5,  I08S,    69,  1,      4, SIH004,2,19941225,0429,-58.2222,  82.0000, 1825,16996.2,   1704.3,   0.8006,  34.7122,2,  34.7132,2,    207.1,2,  0.7039,    205.6,2,   118.55,2,    32.01,2,     0.00,2,     2.21,2, -999.000,9, -999.000,9, -999.000,5,-999.0000,5,  -999.00,9,   -999.0,9,  -999.00,9,-999.000,9,   -999.0,9,   -999.0,9,  -999.0, -999.00,-999.0000,-999.000,-999.000
     316N145_5,  I08S,    69,  1,      3, SIH025,2,19941225,0429,-58.2222,  82.0000, 1825,17384.0,   1743.3,   0.7498,  34.7076,2,  34.7093,2,    207.1,2,  0.6510,    206.2,2,   119.05,2,    32.00,2,     0.00,2,     2.22,2, -999.000,9, -999.000,9, -999.000,5,-999.0000,5,  -999.00,9,   -999.0,9,  -999.00,9,-999.000,9,   -999.0,9,   -999.0,9,  -999.0, -999.00,-999.0000,-999.000,-999.000
     316N145_5,  I08S,    69,  1,      2, SIH001,2,19941225,0429,-58.2222,  82.0000, 1825,17426.9,   1747.7,   0.7476,  34.7075,2,  34.7101,2,    208.3,2,  0.6485,    206.5,2,   119.38,2,    32.10,2,     0.00,2,     2.22,2, -999.000,9, -999.000,9, -999.000,5,-999.0000,5,  -999.00,9,   -999.0,9,  -999.00,9,-999.000,9,   -999.0,9,   -999.0,9,  -999.0, -999.00,-999.0000,-999.000,-999.000
     316N145_5,  I08S,    69,  1,      1, SIH036,2,19941225,0429,-58.2222,  82.0000, 1825,17910.7,   1796.3,   0.7422,  34.7074,2,  34.7097,2,    206.7,2,  0.6398,    206.9,2,   121.72,2,    32.09,2,     0.01,2,     2.22,2, -999.000,9, -999.000,9, -999.000,5,-999.0000,5,  -999.00,9,   -999.0,9,  -999.00,9,-999.000,9,   -999.0,9,   -999.0,9,  -999.0, -999.00,-999.0000,-999.000,-999.000