BOTTLE,20090521WHPSIOdm
EXPOCODE,SECT_ID,STNNBR,CASTNO,SAMPNO,BTLNBR,BTLNBR_FLAG_W,DATE,TIME,LATITUDE,LONGITUDE,DEPTH,CTDRAW,CTDPRS,CTDTMP,CTDSAL,CTDSAL_FLAG_W,SALNTY,SALNTY_FLAG_W,CTDOXY,CTDOXY_FLAG_W,THETA,OXYGEN,OXYGEN_FLAG_W,SILCAT,SILCAT_FLAG_W,NITRAT,NITRAT_FLAG_W,NITRIT,NITRIT_FLAG_W,PHSPHT,PHSPHT_FLAG_W,CFC-11,CFC-11_FLAG_W,CFC-12,CFC-12_FLAG_W,TRITUM,TRITUM_FLAG_W,HELIUM,HELIUM_FLAG_W,DELHE3,DELHE3_FLAG_W,DELC14,DELC14_FLAG_W,DELC13,DELC13_FLAG_W,NEON,NEON_FLAG_W,TCARBN,TCARBN_FLAG_W,ALKALI,ALKALI_FLAG_W,C14ERR,DELHER,HELIER,NEONER,TRITER
,,,,,,,,,,,,,DBAR,IPTS-68,PSS-78,,PSS-78,,UMOL/KG,,IPTS-68,UMOL/KG,,UMOL/KG,,UMOL/KG,,UMOL/KG,,UMOL/KG,,PMOL/KG,,PMOL/KG,,TU,,NMOL/KG,,PERCNT,,/MILLE,,/MILLE,,NMOL/KG,,UMOL/KG,,UMOL/KG,,/MILLE,PERCNT,NMOL/KG,NMOL/KG,TU
     316N145_5,  I08S,    38,  1,     36, SIH035,2,19941215,1346,-46.2778,  93.8833, 3270,  180.4,     13.4,   7.8800,  34.2460,2,  34.2462,2,    288.7,2,  7.8787,    292.2,2,     1.84,2,    15.51,2,     0.30,2,     1.19,2, -999.000,9, -999.000,9,    0.549,2,-999.0000,5,  -999.00,9,   -999.0,9,  -999.00,9,-999.000,9,   -999.0,9,   -999.0,9,  -999.0, -999.00,-999.0000,-999.000,   0.009
     316N145_5,  I08S,    38,  1,     35, SIH032,2,19941215,1346,-46.2778,  93.8833, 3270,  387.0,     34.2,   7.8754,  34.2464,2,  34.2479,2,    289.2,2,  7.8721,    292.6,2,     1.86,2,    15.55,2,     0.29,2,     1.19,2, -999.000,9, -999.000,9, -999.000,5,-999.0000,5,  -999.00,9,   -999.0,9,  -999.00,9,-999.000,9,   -999.0,9,   -999.0,9,  -999.0, -999.00,-999.0000,-999.000,-999.000
     316N145_5,  I08S,    38,  1,     34, SIH029,2,19941215,1346,-46.2778,  93.8833, 3270,  624.9,     58.1,   7.8660,  34.2468,2,  34.2485,2,    291.6,2,  7.8603,    291.7,2,     2.03,2,    15.57,2,     0.30,2,     1.19,2, -999.000,9, -999.000,9,    0.557,2,   1.7630,2,    -1.97,4,   -999.0,9,  -999.00,9,   7.552,2,   -999.0,9,   -999.0,9,  -999.0,    0.12,  0.0020,   0.041,   0.009
     316N145_5,  I08S,    38,  1,     33, SIH026,2,19941215,1346,-46.2778,  93.8833, 3270,  890.3,     84.8,   7.8575,  34.2487,2,  34.2477,2,    288.3,2,  7.8492,    291.7,2,     2.05,2,    15.60,2,     0.30,2,     1.20,2, -999.000,9, -999.000,9, -999.000,5,-999.0000,5,  -999.00,9,   -999.0,9,  -999.00,9,-999.000,9,   -999.0,9,   -999.0,9,  -999.0, -999.00,-999.0000,-999.000,-999.000
     316N145_5,  I08S,    38,  1,     32, SIH023,2,19941215,1346,-46.2778,  93.8833, 3270, 1126.7,    108.6,   7.6553,  34.2598,2,  34.2585,2,    286.7,2,  7.6448,    289.2,2,     3.58,2,    16.06,2,     0.35,2,     1.26,2,    4.304,2,    2.179,2,    0.345,2,-999.0000,5,  -999.00,9,   -999.0,9,  -999.00,9,-999.000,9,   -999.0,9,   -999.0,9,  -999.0, -999.00,-999.0000,-999.000,   0.007
     316N145_5,  I08S,    38,  1,     31, SIH020,2,19941215,1346,-46.2778,  93.8833, 3270, 1619.1,    158.1,   7.0300,  34.2874,2,  34.2889,2,    274.8,2,  7.0153,    284.1,2,     6.97,2,    18.58,2,     0.35,2,     1.38,2, -999.000,9, -999.000,9, -999.000,5,-999.0000,5,  -999.00,9,   -999.0,9,  -999.00,9,-999.000,9,   -999.0,9,   -999.0,9,  -999.0, -999.00,-999.0000,-999.000,-999.000
     316N145_5,  I08S,    38,  1,     30, SIH017,2,19941215,1346,-46.2778,  93.8833, 3270, 2138.4,    210.3,   7.1727,  34.3539,2,  34.3670,2,    268.7,2,  7.1529,    262.5,2,     8.67,2,    20.03,2,     0.01,2,     1.44,2,    3.675,2,    1.840,3,    0.474,2,   1.7700,2,    -0.71,2,   -999.0,9,  -999.00,9,   7.609,2,   -999.0,9,   -999.0,9,  -999.0,    0.12,  0.0020,   0.031,   0.008
     316N145_5,  I08S,    38,  1,     29, SIH014,2,19941215,1346,-46.2778,  93.8833, 3270, 2618.5,    258.6,   6.7789,  34.3407,2,  34.3446,2,    260.8,2,  6.7553,    263.3,2,     9.52,2,    21.00,2,     0.00,2,     1.50,2, -999.000,9, -999.000,9, -999.000,5,-999.0000,5,  -999.00,9,   -999.0,9,  -999.00,9,-999.000,9,   -999.0,9,   -999.0,9,  -999.0, -999.00,-999.0000,-999.000,-999.000
     316N145_5,  I08S,    38,  1,     28, SIH011,2,19941215,1346,-46.2778,  93.8833, 3270, 3126.5,    309.7,   6.8459,  34.3858,2,  34.3857,2,    242.2,2,  6.8173,    242.9,2,    11.90,2,    22.50,2,     0.01,2,     1.57,2,    3.081,2,    1.533,2,    0.458,2,-999.0000,5,  -999.00,9,   -999.0,9,  -999.00,9,-999.000,9,   -999.0,9,   -999.0,9,  -999.0, -999.00,-999.0000,-999.000,   0.008
     316N145_5,  I08S,    38,  1,     27, SIH008,2,19941215,1346,-46.2778,  93.8833, 3270, 3613.3,    358.7,   6.4533,  34.3707,2,  34.3725,2,    223.7,2,  6.4211,    234.0,2,    14.44,2,    24.28,2,     0.01,2,     1.68,2, -999.000,9, -999.000,9, -999.000,5,-999.0000,5,  -999.00,9,   -999.0,9,  -999.00,9,-999.000,9,   -999.0,9,   -999.0,9,  -999.0, -999.00,-999.0000,-999.000,-999.000
     316N145_5,  I08S,    38,  1,     26, SIH005,2,19941215,1346,-46.2778,  93.8833, 3270, 4106.7,    408.3,   5.8794,  34.3387,2,  34.3409,2,    223.9,2,  5.8445,    231.3,2,    16.82,2,    25.97,2,     0.01,2,     1.78,2, -999.000,9, -999.000,9, -999.000,5,-999.0000,5,  -999.00,9,   -999.0,9,  -999.00,9,-999.000,9,   -999.0,9,   -999.0,9,  -999.0, -999.00,-999.0000,-999.000,-999.000
     316N145_5,  I08S,    38,  1,     25, SIH019,2,19941215,1346,-46.2778,  93.8833, 3270, 4616.5,    459.5,   5.4217,  34.3233,2,  34.3240,2,    225.1,2,  5.3839,    227.4,2,    19.87,2,    27.49,2,     0.00,2,     1.87,2,    2.540,2,    1.226,2,    0.270,2,   1.7840,2,     0.87,2,   -999.0,9,  -999.00,9,   7.702,2,   -999.0,9,   -999.0,9,  -999.0,    0.11,  0.0020,   0.046,   0.007
     316N145_5,  I08S,    38,  1,     24, SIH037,2,19941215,1346,-46.2778,  93.8833, 3270, 5108.9,    509.1,   4.9979,  34.3130,2,  34.3170,2,    223.6,2,  4.9575,    224.9,2,    22.74,2,    28.74,2,     0.00,2,     1.95,2, -999.000,9, -999.000,9, -999.000,5,-999.0000,5,  -999.00,9,   -999.0,9,  -999.00,9,-999.000,9,   -999.0,9,   -999.0,9,  -999.0, -999.00,-999.0000,-999.000,-999.000
     316N145_5,  I08S,    38,  1,     23, SIH033,2,19941215,1346,-46.2778,  93.8833, 3270, 6073.4,    606.1,   4.3394,  34.2981,2,  34.2991,2,    221.0,2,  4.2940,    224.2,2,    27.65,2,    30.33,2,     0.00,2,     2.04,2,    2.189,2,    1.024,2,    0.259,2,-999.0000,5,  -999.00,9,   -999.0,9,  -999.00,9,-999.000,9,   -999.0,9,   -999.0,9,  -999.0, -999.00,-999.0000,-999.000,   0.007
     316N145_5,  I08S,    38,  1,     22, SIH031,2,19941215,1346,-46.2778,  93.8833, 3270, 7107.3,    710.1,   3.8701,  34.3255,2,  34.3262,2,    212.0,2,  3.8188,    214.1,2,    35.25,2,    32.03,2,     0.00,2,     2.15,2, -999.000,9, -999.000,9, -999.000,5,-999.0000,5,  -999.00,9,   -999.0,9,  -999.00,9,-999.000,9,   -999.0,9,   -999.0,9,  -999.0, -999.00,-999.0000,-999.000,-999.000
     316N145_5,  I08S,    38,  1,     21, SIH030,2,19941215,1346,-46.2778,  93.8833, 3270, 8059.3,    805.8,   3.4392,  34.3493,2,  34.3507,2,    204.3,2,  3.3831,    205.7,2,    42.85,2,    33.46,2,     0.00,2,     2.23,2,    1.357,2,    0.647,2,    0.123,2,   1.8370,2,     3.72,2,   -999.0,9,  -999.00,9,   7.957,2,   -999.0,9,   -999.0,9,  -999.0,    0.11,  0.0020,   0.027,   0.006
     316N145_5,  I08S,    38,  1,     20, SIH028,2,19941215,1346,-46.2778,  93.8833, 3270, 9164.6,    917.0,   3.1012,  34.3919,2,  34.3953,2,    195.3,2,  3.0390,    195.7,2,    51.12,2,    34.73,2,     0.00,2,     2.30,2, -999.000,9, -999.000,9, -999.000,5,-999.0000,5,  -999.00,9,   -999.0,9,  -999.00,9,-999.000,9,   -999.0,9,   -999.0,9,  -999.0, -999.00,-999.0000,-999.000,-999.000
     316N145_5,  I08S,    38,  1,     19, SIH027,2,19941215,1346,-46.2778,  93.8833, 3270,10135.8,   1014.7,   2.8642,  34.4334,2,  34.4345,2,    187.5,2,  2.7963,    188.3,2,    57.54,2,    35.51,2,    -0.01,2,     2.34,2, -999.000,9, -999.000,9, -999.000,5,-999.0000,5,  -999.00,9,   -999.0,9,  -999.00,9,-999.000,9,   -999.0,9,   -999.0,9,  -999.0, -999.00,-999.0000,-999.000,-999.000
     316N145_5,  I08S,    38,  1,     18, SIH003,2,19941215,1346,-46.2778,  93.8833, 3270,11098.9,   1111.6,   2.8091,  34.4952,2,  34.4958,2,    181.5,2,  2.7343,    179.9,2,    63.29,2,    35.61,2,     0.00,2,     2.35,2,    0.459,2,    0.216,2,    0.177,2,-999.0000,5,  -999.00,9,   -999.0,9,  -999.00,9,-999.000,9,   -999.0,9,   -999.0,9,  -999.0, -999.00,-999.0000,-999.000,   0.006
     316N145_5,  I08S,    38,  1,     17, SIH024,2,19941215,1346,-46.2778,  93.8833, 3270,12066.6,   1208.9,   2.7046,  34.5341,2,  34.5358,2,    179.2,2,  2.6232,    177.4,2,    66.67,2,    35.45,2,     0.00,2,     2.34,2, -999.000,9, -999.000,9,    0.039,2,-999.0000,5,  -999.00,9,   -999.0,9,  -999.00,9,-999.000,9,   -999.0,9,   -999.0,9,  -999.0, -999.00,-999.0000,-999.000,   0.007
     316N145_5,  I08S,    38,  1,     16, SIH022,2,19941215,1346,-46.2778,  93.8833, 3270,13093.5,   1312.2,   2.6215,  34.5814,2,  34.5824,2,    176.0,2,  2.5329,    176.2,2,    69.71,2,    35.01,2,     0.00,2,     2.32,2, -999.000,9, -999.000,9, -999.000,5,-999.0000,5,  -999.00,9,   -999.0,9,  -999.00,9,-999.000,9,   -999.0,9,   -999.0,9,  -999.0, -999.00,-999.0000,-999.000,-999.000
     316N145_5,  I08S,    38,  1,     15, SIH021,2,19941215,1346,-46.2778,  93.8833, 3270,14197.6,   1423.3,   2.5696,  34.6217,2,  34.6203,2,    176.9,2,  2.4727,    176.6,2,    71.92,2,    33.96,2,     0.00,2,     2.28,2,    0.169,2,    0.072,2,    0.008,2,   1.8540,2,     8.48,2,   -999.0,9,  -999.00,9,   8.032,2,   -999.0,9,   -999.0,9,  -999.0,    0.11,  0.0020,   0.025,   0.005
     316N145_5,  I08S,    38,  1,     14, SIH002,2,19941215,1346,-46.2778,  93.8833, 3270,15207.1,   1524.8,   2.5097,  34.6523,2,  34.6527,2,    178.4,2,  2.4054,    179.1,2,    73.28,2,    33.40,2,     0.00,2,     2.24,2, -999.000,9, -999.000,9, -999.000,5,-999.0000,5,  -999.00,9,   -999.0,9,  -999.00,9,-999.000,9,   -999.0,9,   -999.0,9,  -999.0, -999.00,-999.0000,-999.000,-999.000
     316N145_5,  I08S,    38,  1,     13, SIH018,2,19941215,1346,-46.2778,  93.8833, 3270,16161.3,   1620.8,   2.4746,  34.6792,2,  34.6810,2,    181.7,2,  2.3628,    181.8,2,    73.96,2,    32.73,2,     0.00,2,     2.20,2, -999.000,9, -999.000,9,    0.116,4,-999.0000,5,  -999.00,9,   -999.0,9,  -999.00,9,-999.000,9,   -999.0,9,   -999.0,9,  -999.0, -999.00,-999.0000,-999.000,   0.006
     316N145_5,  I08S,    38,  1,     12, SIH016,2,19941215,1346,-46.2778,  93.8833, 3270,17157.9,   1721.0,   2.4193,  34.7040,2,  34.7050,2,    184.3,2,  2.2999,    185.7,2,    74.99,2,    32.06,2,     0.00,2,     2.16,2,    0.075,2,    0.028,2,    0.102,4,-999.0000,5,  -999.00,9,   -999.0,9,  -999.00,9,-999.000,9,   -999.0,9,   -999.0,9,  -999.0, -999.00,-999.0000,-999.000,   0.006
     316N145_5,  I08S,    38,  1,     11, SIH015,2,19941215,1346,-46.2778,  93.8833, 3270,18210.6,   1826.9,   2.3558,  34.7248,2,  34.7258,2,    187.8,2,  2.2284,    188.6,2,    76.18,2,    31.44,2,     0.00,2,     2.12,2, -999.000,9, -999.000,9, -999.000,5,-999.0000,5,  -999.00,9,   -999.0,9,  -999.00,9,-999.000,9,   -999.0,9,   -999.0,9,  -999.0, -999.00,-999.0000,-999.000,-999.000
     316N145_5,  I08S,    38,  1,     10, SIH013,2,19941215,1346,-46.2778,  93.8833, 3270,19082.2,   1914.6,   2.3099,  34.7360,2,  34.7380,2,    189.7,2,  2.1757,    191.2,2,    77.04,2,    31.10,2,    -0.01,2,     2.10,2, -999.000,9, -999.000,9, -999.000,5,-999.0000,5,  -999.00,9,   -999.0,9,  -999.00,9,-999.000,9,   -999.0,9,   -999.0,9,  -999.0, -999.00,-999.0000,-999.000,-999.000
     316N145_5,  I08S,    38,  1,      9, SIH012,2,19941215,1346,-46.2778,  93.8833, 3270,20136.0,   2020.6,   2.2106,  34.7475,2,  34.7504,2,    193.4,2,  2.0688,    193.9,2,    79.24,2,    30.76,2,    -0.01,2,     2.08,2,    0.039,2,    0.027,2,    0.178,4,   1.8630,2,     9.22,2,   -999.0,9,  -999.00,9,   8.046,2,   -999.0,9,   -999.0,9,  -999.0,    0.11,  0.0020,   0.046,   0.016
     316N145_5,  I08S,    38,  1,      8, SIH010,2,19941215,1346,-46.2778,  93.8833, 3270,22094.5,   2217.6,   2.0632,  34.7566,2,  34.7592,2,    195.2,2,  1.9067,    197.0,2,    83.80,2,    30.64,2,     0.00,2,     2.07,2, -999.000,9, -999.000,9, -999.000,5,-999.0000,5,  -999.00,9,   -999.0,9,  -999.00,9,-999.000,9,   -999.0,9,   -999.0,9,  -999.0, -999.00,-999.0000,-999.000,-999.000
     316N145_5,  I08S,    38,  1,      7, SIH009,2,19941215,1346,-46.2778,  93.8833, 3270,24201.3,   2429.5,   1.8293,  34.7543,2,  34.7547,2,    197.2,2,  1.6580,    198.9,2,    91.57,2,    30.91,2,     0.00,2,     2.09,2,    0.029,2,    0.015,2,    0.012,4,-999.0000,5,  -999.00,9,   -999.0,9,  -999.00,9,-999.000,9,   -999.0,9,   -999.0,9,  -999.0, -999.00,-999.0000,-999.000,   0.006
     316N145_5,  I08S,    38,  1,      6, SIH038,2,19941215,1346,-46.2778,  93.8833, 3270,26256.3,   2636.2,   1.5929,  34.7448,2,  34.7443,2,    198.6,2,  1.4076,    200.0,2,    99.51,2,    31.48,2,     0.00,2,     2.13,2, -999.000,9, -999.000,9, -999.000,5,-999.0000,5,  -999.00,9,   -999.0,9,  -999.00,9,-999.000,9,   -999.0,9,   -999.0,9,  -999.0, -999.00,-999.0000,-999.000,-999.000
     316N145_5,  I08S,    38,  1,      5, SIH006,2,19941215,1346,-46.2778,  93.8833, 3270,28316.3,   2843.4,   1.3888,  34.7351,2,  34.7360,2,    200.7,2,  1.1887,    202.1,2,   106.60,2,    31.86,2,     0.00,2,     2.16,2,    0.034,2,    0.018,2,    0.143,4,   1.8830,2,     9.10,2,   -999.0,9,  -999.00,9,   8.137,2,   -999.0,9,   -999.0,9,  -999.0,    0.11,  0.0020,   0.041,   0.006
     316N145_5,  I08S,    38,  1,      4, SIH004,2,19941215,1346,-46.2778,  93.8833, 3270,30297.3,   3042.7,   1.2359,  34.7277,2,  34.7286,2,    202.2,2,  1.0207,    203.9,2,   110.83,2,    32.15,2,     0.00,2,     2.18,2, -999.000,9, -999.000,9, -999.000,5,-999.0000,5,  -999.00,9,   -999.0,9,  -999.00,9,-999.000,9,   -999.0,9,   -999.0,9,  -999.0, -999.00,-999.0000,-999.000,-999.000
     316N145_5,  I08S,    38,  1,      3, SIH025,2,19941215,1346,-46.2778,  93.8833, 3270,31314.7,   3145.0,   1.1844,  34.7256,2,  34.7256,2,    203.1,2,  0.9606,    204.4,2,   112.70,2,    32.15,2,     0.00,2,     2.19,2,    0.067,2,    0.031,2,   -0.460,4,-999.0000,5,  -999.00,9,   -999.0,9,  -999.00,9,-999.000,9,   -999.0,9,   -999.0,9,  -999.0, -999.00,-999.0000,-999.000,   0.040
     316N145_5,  I08S,    38,  1,      2, SIH001,2,19941215,1346,-46.2778,  93.8833, 3270,32763.6,   3290.8,   1.1139,  34.7224,2,  34.7225,2,    205.2,2,  0.8778,    205.7,2,   115.07,2,    32.14,2,     0.00,2,     2.20,2, -999.000,9, -999.000,9, -999.000,5,-999.0000,5,  -999.00,9,   -999.0,9,  -999.00,9,-999.000,9,   -999.0,9,   -999.0,9,  -999.0, -999.00,-999.0000,-999.000,-999.000
     316N145_5,  I08S,    38,  1,      1, SIH036,2,19941215,1346,-46.2778,  93.8833, 3270,33308.3,   3345.6,   1.1129,  34.7204,2,  34.7225,2,    205.4,2,  0.8715,    206.1,2,   115.43,2,    32.01,2,     0.00,2,     2.20,2,    0.082,2,    0.034,2,   -0.002,4,   1.8740,2,     8.56,2,   -999.0,9,  -999.00,9,   8.140,2,   -999.0,9,   -999.0,9,  -999.0,    0.14,  0.0040,   0.049,   0.005