BOTTLE,20090521WHPSIOdm
EXPOCODE,SECT_ID,STNNBR,CASTNO,SAMPNO,BTLNBR,BTLNBR_FLAG_W,DATE,TIME,LATITUDE,LONGITUDE,DEPTH,CTDRAW,CTDPRS,CTDTMP,CTDSAL,CTDSAL_FLAG_W,SALNTY,SALNTY_FLAG_W,CTDOXY,CTDOXY_FLAG_W,THETA,OXYGEN,OXYGEN_FLAG_W,SILCAT,SILCAT_FLAG_W,NITRAT,NITRAT_FLAG_W,NITRIT,NITRIT_FLAG_W,PHSPHT,PHSPHT_FLAG_W,CFC-11,CFC-11_FLAG_W,CFC-12,CFC-12_FLAG_W,TRITUM,TRITUM_FLAG_W,HELIUM,HELIUM_FLAG_W,DELHE3,DELHE3_FLAG_W,DELC14,DELC14_FLAG_W,DELC13,DELC13_FLAG_W,NEON,NEON_FLAG_W,TCARBN,TCARBN_FLAG_W,ALKALI,ALKALI_FLAG_W,C14ERR,DELHER,HELIER,NEONER,TRITER
,,,,,,,,,,,,,DBAR,IPTS-68,PSS-78,,PSS-78,,UMOL/KG,,IPTS-68,UMOL/KG,,UMOL/KG,,UMOL/KG,,UMOL/KG,,UMOL/KG,,PMOL/KG,,PMOL/KG,,TU,,NMOL/KG,,PERCNT,,/MILLE,,/MILLE,,NMOL/KG,,UMOL/KG,,UMOL/KG,,/MILLE,PERCNT,NMOL/KG,NMOL/KG,TU
     316N145_5,  I08S,    74,  1,     32, SIH023,2,19941226,0318,-60.4778,  82.0000, 1800,  140.2,      8.7,   0.3449,  33.9510,2,  33.9545,2,    346.2,2,  0.3446,    347.0,2,    43.99,2,    28.19,2,     0.26,2,     1.79,2, -999.000,9, -999.000,9, -999.000,5,-999.0000,5,  -999.00,9,   -999.0,9,  -999.00,9,-999.000,9,   -999.0,9,   -999.0,9,  -999.0, -999.00,-999.0000,-999.000,-999.000
     316N145_5,  I08S,    74,  1,     31, SIH020,2,19941226,0318,-60.4778,  82.0000, 1800,  342.4,     29.0,   0.2021,  33.9519,2,  33.9557,2,    342.9,2,  0.2011,    348.4,2,    43.67,2,    28.19,2,     0.25,2,     1.80,2, -999.000,9, -999.000,9, -999.000,5,-999.0000,5,  -999.00,9,   -999.0,9,  -999.00,9,-999.000,9,   -999.0,9,   -999.0,9,  -999.0, -999.00,-999.0000,-999.000,-999.000
     316N145_5,  I08S,    74,  1,     30, SIH017,2,19941226,0318,-60.4778,  82.0000, 1800,  597.5,     54.7,  -1.0924,  34.0357,2,  34.0256,2,    345.9,2, -1.0938,    342.2,2,    47.28,2,    29.43,2,     0.22,2,     1.96,2, -999.000,9, -999.000,9, -999.000,5,-999.0000,5,  -999.00,9,   -999.0,9,  -999.00,9,-999.000,9,   -999.0,9,   -999.0,9,  -999.0, -999.00,-999.0000,-999.000,-999.000
     316N145_5,  I08S,    74,  1,     29, SIH014,2,19941226,0318,-60.4778,  82.0000, 1800,  835.5,     78.7,  -1.2024,  34.1768,2,  34.1750,2,    312.3,2, -1.2043,    298.5,2,    59.78,2,    32.01,2,     0.19,2,     2.23,2, -999.000,9, -999.000,9, -999.000,5,-999.0000,5,  -999.00,9,   -999.0,9,  -999.00,9,-999.000,9,   -999.0,9,   -999.0,9,  -999.0, -999.00,-999.0000,-999.000,-999.000
     316N145_5,  I08S,    74,  1,     28, SIH011,2,19941226,0318,-60.4778,  82.0000, 1800, 1101.2,    105.4,   0.0751,  34.3798,2,  34.3631,2,    241.6,2,  0.0713,    240.4,2,    70.15,2,    34.08,2,     0.15,2,     2.32,2, -999.000,9, -999.000,9, -999.000,5,-999.0000,5,  -999.00,9,   -999.0,9,  -999.00,9,-999.000,9,   -999.0,9,   -999.0,9,  -999.0, -999.00,-999.0000,-999.000,-999.000
     316N145_5,  I08S,    74,  1,     27, SIH008,2,19941226,0318,-60.4778,  82.0000, 1800, 1599.4,    155.5,   1.7542,  34.6408,2,  34.6425,2,    173.0,2,  1.7463,    172.4,2,    84.76,2,    35.24,2,     0.01,2,     2.36,2, -999.000,9, -999.000,9, -999.000,5,-999.0000,5,  -999.00,9,   -999.0,9,  -999.00,9,-999.000,9,   -999.0,9,   -999.0,9,  -999.0, -999.00,-999.0000,-999.000,-999.000
     316N145_5,  I08S,    74,  1,     26, SIH005,2,19941226,0318,-60.4778,  82.0000, 1800, 2103.8,    206.2,   1.8907,  34.6780,2,  34.6787,2,    173.3,2,  1.8798,    173.0,2,    85.91,2,    34.60,2,     0.01,2,     2.30,2, -999.000,9, -999.000,9, -999.000,5,-999.0000,5,  -999.00,9,   -999.0,9,  -999.00,9,-999.000,9,   -999.0,9,   -999.0,9,  -999.0, -999.00,-999.0000,-999.000,-999.000
     316N145_5,  I08S,    74,  1,     25, SIH019,2,19941226,0318,-60.4778,  82.0000, 1800, 2594.7,    255.6,   1.9057,  34.6947,2,  34.6969,2,    175.1,2,  1.8921,    174.9,2,    86.39,2,    34.13,2,     0.01,2,     2.28,2, -999.000,9, -999.000,9, -999.000,5,-999.0000,5,  -999.00,9,   -999.0,9,  -999.00,9,-999.000,9,   -999.0,9,   -999.0,9,  -999.0, -999.00,-999.0000,-999.000,-999.000
     316N145_5,  I08S,    74,  1,     24, SIH037,2,19941226,0318,-60.4778,  82.0000, 1800, 3106.4,    307.1,   1.8959,  34.7064,2,  34.7079,2,    176.4,2,  1.8794,    177.4,2,    86.55,2,    33.81,2,     0.01,2,     2.25,2, -999.000,9, -999.000,9, -999.000,5,-999.0000,5,  -999.00,9,   -999.0,9,  -999.00,9,-999.000,9,   -999.0,9,   -999.0,9,  -999.0, -999.00,-999.0000,-999.000,-999.000
     316N145_5,  I08S,    74,  1,     23, SIH033,2,19941226,0318,-60.4778,  82.0000, 1800, 3595.5,    356.3,   1.8750,  34.7157,2,  34.7170,2,    178.3,2,  1.8557,    179.5,2,    87.03,2,    33.49,2,     0.01,2,     2.23,2, -999.000,9, -999.000,9, -999.000,5,-999.0000,5,  -999.00,9,   -999.0,9,  -999.00,9,-999.000,9,   -999.0,9,   -999.0,9,  -999.0, -999.00,-999.0000,-999.000,-999.000
     316N145_5,  I08S,    74,  1,     22, SIH031,2,19941226,0318,-60.4778,  82.0000, 1800, 4090.3,    406.0,   1.8516,  34.7252,2,  34.7262,2,    179.0,2,  1.8296,    182.7,2,    87.18,2,    33.17,2,     0.00,2,     2.20,2, -999.000,9, -999.000,9, -999.000,5,-999.0000,5,  -999.00,9,   -999.0,9,  -999.00,9,-999.000,9,   -999.0,9,   -999.0,9,  -999.0, -999.00,-999.0000,-999.000,-999.000
     316N145_5,  I08S,    74,  1,     21, SIH030,2,19941226,0318,-60.4778,  82.0000, 1800, 4596.6,    457.0,   1.8234,  34.7324,2,  34.7335,2,    182.4,2,  1.7985,    185.8,2,    87.51,2,    32.74,2,     0.00,2,     2.17,2, -999.000,9, -999.000,9, -999.000,5,-999.0000,5,  -999.00,9,   -999.0,9,  -999.00,9,-999.000,9,   -999.0,9,   -999.0,9,  -999.0, -999.00,-999.0000,-999.000,-999.000
     316N145_5,  I08S,    74,  1,     20, SIH028,2,19941226,0318,-60.4778,  82.0000, 1800, 5101.7,    507.8,   1.7935,  34.7366,2,  34.7394,2,    186.5,2,  1.7657,    187.8,2,    87.99,2,    32.58,2,     0.00,2,     2.16,2, -999.000,9, -999.000,9, -999.000,5,-999.0000,5,  -999.00,9,   -999.0,9,  -999.00,9,-999.000,9,   -999.0,9,   -999.0,9,  -999.0, -999.00,-999.0000,-999.000,-999.000
     316N145_5,  I08S,    74,  1,     19, SIH027,2,19941226,0318,-60.4778,  82.0000, 1800, 6092.5,    607.4,   1.7344,  34.7428,2,  34.7431,2,    188.1,2,  1.7009,    191.4,2,    89.13,2,    32.19,2,     0.00,2,     2.14,2, -999.000,9, -999.000,9, -999.000,5,-999.0000,5,  -999.00,9,   -999.0,9,  -999.00,9,-999.000,9,   -999.0,9,   -999.0,9,  -999.0, -999.00,-999.0000,-999.000,-999.000
     316N145_5,  I08S,    74,  1,     18, SIH003,2,19941226,0318,-60.4778,  82.0000, 1800, 7102.4,    709.0,   1.6568,  34.7455,2,  34.7476,2,    192.7,2,  1.6176,    194.5,2,    90.44,2,    31.82,2,     0.00,2,     2.12,2, -999.000,9, -999.000,9, -999.000,5,-999.0000,5,  -999.00,9,   -999.0,9,  -999.00,9,-999.000,9,   -999.0,9,   -999.0,9,  -999.0, -999.00,-999.0000,-999.000,-999.000
     316N145_5,  I08S,    74,  1,     17, SIH024,2,19941226,0318,-60.4778,  82.0000, 1800, 8112.1,    810.6,   1.5578,  34.7465,2,  34.7482,2,    195.8,2,  1.5130,    197.6,2,    92.40,2,    31.49,2,     0.00,2,     2.12,2, -999.000,9, -999.000,9, -999.000,5,-999.0000,5,  -999.00,9,   -999.0,9,  -999.00,9,-999.000,9,   -999.0,9,   -999.0,9,  -999.0, -999.00,-999.0000,-999.000,-999.000
     316N145_5,  I08S,    74,  1,     16, SIH022,2,19941226,0318,-60.4778,  82.0000, 1800, 9107.8,    910.7,   1.4760,  34.7450,2,  34.7469,2,    196.4,2,  1.4254,    199.7,2,    94.52,2,    31.32,2,     0.00,2,     2.12,2, -999.000,9, -999.000,9, -999.000,5,-999.0000,5,  -999.00,9,   -999.0,9,  -999.00,9,-999.000,9,   -999.0,9,   -999.0,9,  -999.0, -999.00,-999.0000,-999.000,-999.000
     316N145_5,  I08S,    74,  1,     15, SIH021,2,19941226,0318,-60.4778,  82.0000, 1800,10112.8,   1011.8,   1.3914,  34.7430,2,  34.7437,2,    196.4,2,  1.3351,    200.9,2,    96.65,2,    31.21,2,     0.00,2,     2.12,2, -999.000,9, -999.000,9, -999.000,5,-999.0000,5,  -999.00,9,   -999.0,9,  -999.00,9,-999.000,9,   -999.0,9,   -999.0,9,  -999.0, -999.00,-999.0000,-999.000,-999.000
     316N145_5,  I08S,    74,  1,     14, SIH002,2,19941226,0318,-60.4778,  82.0000, 1800,11117.4,   1112.9,   1.3189,  34.7394,2,  34.7402,2,    198.9,2,  1.2566,    202.0,2,    98.44,2,    31.19,2,     0.00,2,     2.13,2, -999.000,9, -999.000,9, -999.000,5,-999.0000,5,  -999.00,9,   -999.0,9,  -999.00,9,-999.000,9,   -999.0,9,   -999.0,9,  -999.0, -999.00,-999.0000,-999.000,-999.000
     316N145_5,  I08S,    74,  1,     12, SIH016,2,19941226,0318,-60.4778,  82.0000, 1800,12117.8,   1213.5,   1.2232,  34.7344,2,  34.4436,4,    199.3,2,  1.1552,    202.7,2,   101.71,2,    31.36,2,     0.00,2,     2.14,2, -999.000,9, -999.000,9, -999.000,5,-999.0000,5,  -999.00,9,   -999.0,9,  -999.00,9,-999.000,9,   -999.0,9,   -999.0,9,  -999.0, -999.00,-999.0000,-999.000,-999.000
     316N145_5,  I08S,    74,  1,     13, SIH018,2,19941226,0318,-60.4778,  82.0000, 1800,12128.5,   1214.6,   1.2248,  34.7348,2,  34.7360,2,    199.2,2,  1.1567,    202.7,2,   101.55,2,    31.38,2,     0.00,2,     2.14,2, -999.000,9, -999.000,9, -999.000,5,-999.0000,5,  -999.00,9,   -999.0,9,  -999.00,9,-999.000,9,   -999.0,9,   -999.0,9,  -999.0, -999.00,-999.0000,-999.000,-999.000
     316N145_5,  I08S,    74,  1,     10, SIH013,2,19941226,0318,-60.4778,  82.0000, 1800,13127.3,   1315.1,   1.1161,  34.7302,2,  34.7319,2,    201.7,2,  1.0424,    203.7,2,   104.80,2,    31.54,2,     0.00,2,     2.16,2, -999.000,9, -999.000,9, -999.000,5,-999.0000,5,  -999.00,9,   -999.0,9,  -999.00,9,-999.000,9,   -999.0,9,   -999.0,9,  -999.0, -999.00,-999.0000,-999.000,-999.000
     316N145_5,  I08S,    74,  1,     11, SIH015,2,19941226,0318,-60.4778,  82.0000, 1800,13131.3,   1315.5,   1.1164,  34.7299,2,  34.7329,2,    202.0,2,  1.0427,    203.8,2,   104.98,2,    31.56,2,     0.00,2,     2.16,2, -999.000,9, -999.000,9, -999.000,5,-999.0000,5,  -999.00,9,   -999.0,9,  -999.00,9,-999.000,9,   -999.0,9,   -999.0,9,  -999.0, -999.00,-999.0000,-999.000,-999.000
     316N145_5,  I08S,    74,  1,      8, SIH010,2,19941226,0318,-60.4778,  82.0000, 1800,14137.1,   1416.6,   1.0342,  34.7253,2,  34.7254,2,    201.2,2,  0.9546,    202.7,2,   110.52,2,    31.77,2,     0.00,2,     2.18,2, -999.000,9, -999.000,9, -999.000,5,-999.0000,5,  -999.00,9,   -999.0,9,  -999.00,9,-999.000,9,   -999.0,9,   -999.0,9,  -999.0, -999.00,-999.0000,-999.000,-999.000
     316N145_5,  I08S,    74,  1,      9, SIH012,2,19941226,0318,-60.4778,  82.0000, 1800,14142.5,   1417.2,   1.0346,  34.7248,2,  34.7260,2,    201.8,2,  0.9550,    202.7,2,   110.37,2,    31.84,2,     0.00,2,     2.18,2, -999.000,9, -999.000,9, -999.000,5,-999.0000,5,  -999.00,9,   -999.0,9,  -999.00,9,-999.000,9,   -999.0,9,   -999.0,9,  -999.0, -999.00,-999.0000,-999.000,-999.000
     316N145_5,  I08S,    74,  1,      6, SIH038,2,19941226,0318,-60.4778,  82.0000, 1800,15144.3,   1517.9,   0.9741,  34.7213,2,  34.7231,2,    201.6,2,  0.8883,    202.0,2,   116.40,2,    32.01,2,     0.00,2,     2.20,2, -999.000,9, -999.000,9, -999.000,5,-999.0000,5,  -999.00,9,   -999.0,9,  -999.00,9,-999.000,9,   -999.0,9,   -999.0,9,  -999.0, -999.00,-999.0000,-999.000,-999.000
     316N145_5,  I08S,    74,  1,      7, SIH009,2,19941226,0318,-60.4778,  82.0000, 1800,15146.2,   1518.1,   0.9743,  34.7211,2,  34.7231,2,    200.8,2,  0.8885,    202.0,2,   116.57,2,    32.02,2,     0.00,2,     2.20,2, -999.000,9, -999.000,9, -999.000,5,-999.0000,5,  -999.00,9,   -999.0,9,  -999.00,9,-999.000,9,   -999.0,9,   -999.0,9,  -999.0, -999.00,-999.0000,-999.000,-999.000
     316N145_5,  I08S,    74,  1,      5, SIH006,2,19941226,0318,-60.4778,  82.0000, 1800,16130.8,   1617.2,   0.8914,  34.7160,2,  34.7195,2,    201.0,2,  0.7997,    202.0,2,   124.09,2,    32.30,2,     0.00,2,     2.22,2, -999.000,9, -999.000,9, -999.000,5,-999.0000,5,  -999.00,9,   -999.0,9,  -999.00,9,-999.000,9,   -999.0,9,   -999.0,9,  -999.0, -999.00,-999.0000,-999.000,-999.000
     316N145_5,  I08S,    74,  1,      4, SIH004,2,19941226,0318,-60.4778,  82.0000, 1800,16148.6,   1619.0,   0.8911,  34.7171,2,  34.7178,2,    200.8,2,  0.7992,    202.0,2,   125.30,2,    32.47,2,     0.00,2,     2.22,2, -999.000,9, -999.000,9, -999.000,5,-999.0000,5,  -999.00,9,   -999.0,9,  -999.00,9,-999.000,9,   -999.0,9,   -999.0,9,  -999.0, -999.00,-999.0000,-999.000,-999.000
     316N145_5,  I08S,    74,  1,      3, SIH025,2,19941226,0318,-60.4778,  82.0000, 1800,17153.1,   1720.0,   0.7502,  34.7084,2,  34.7109,2,    202.5,2,  0.6530,    204.5,2,   127.01,2,    32.61,2,     0.00,2,     2.23,2, -999.000,9, -999.000,9, -999.000,5,-999.0000,5,  -999.00,9,   -999.0,9,  -999.00,9,-999.000,9,   -999.0,9,   -999.0,9,  -999.0, -999.00,-999.0000,-999.000,-999.000
     316N145_5,  I08S,    74,  1,      2, SIH001,2,19941226,0318,-60.4778,  82.0000, 1800,17152.7,   1720.0,   0.7524,  34.7093,2,  34.7087,2,    205.3,2,  0.6553,    205.0,2,   126.75,2,    32.62,2,     0.00,2,     2.23,2, -999.000,9, -999.000,9, -999.000,5,-999.0000,5,  -999.00,9,   -999.0,9,  -999.00,9,-999.000,9,   -999.0,9,   -999.0,9,  -999.0, -999.00,-999.0000,-999.000,-999.000
     316N145_5,  I08S,    74,  1,      1, SIH036,2,19941226,0318,-60.4778,  82.0000, 1800,17751.2,   1780.2,   0.6479,  34.7025,2,  34.7058,2,    209.0,2,  0.5480,    207.6,2,   124.64,2,    32.72,2,     0.00,2,     2.24,2, -999.000,9, -999.000,9, -999.000,5,-999.0000,5,  -999.00,9,   -999.0,9,  -999.00,9,-999.000,9,   -999.0,9,   -999.0,9,  -999.0, -999.00,-999.0000,-999.000,-999.000