BOTTLE,20090521WHPSIOdm
EXPOCODE,SECT_ID,STNNBR,CASTNO,SAMPNO,BTLNBR,BTLNBR_FLAG_W,DATE,TIME,LATITUDE,LONGITUDE,DEPTH,CTDRAW,CTDPRS,CTDTMP,CTDSAL,CTDSAL_FLAG_W,SALNTY,SALNTY_FLAG_W,CTDOXY,CTDOXY_FLAG_W,THETA,OXYGEN,OXYGEN_FLAG_W,SILCAT,SILCAT_FLAG_W,NITRAT,NITRAT_FLAG_W,NITRIT,NITRIT_FLAG_W,PHSPHT,PHSPHT_FLAG_W,CFC-11,CFC-11_FLAG_W,CFC-12,CFC-12_FLAG_W,TRITUM,TRITUM_FLAG_W,HELIUM,HELIUM_FLAG_W,DELHE3,DELHE3_FLAG_W,DELC14,DELC14_FLAG_W,DELC13,DELC13_FLAG_W,NEON,NEON_FLAG_W,TCARBN,TCARBN_FLAG_W,ALKALI,ALKALI_FLAG_W,C14ERR,DELHER,HELIER,NEONER,TRITER
,,,,,,,,,,,,,DBAR,IPTS-68,PSS-78,,PSS-78,,UMOL/KG,,IPTS-68,UMOL/KG,,UMOL/KG,,UMOL/KG,,UMOL/KG,,UMOL/KG,,PMOL/KG,,PMOL/KG,,TU,,NMOL/KG,,PERCNT,,/MILLE,,/MILLE,,NMOL/KG,,UMOL/KG,,UMOL/KG,,/MILLE,PERCNT,NMOL/KG,NMOL/KG,TU
     316N145_5,  I09S,   137,  1,     36, SI9446,2,19950116,0751,-38.0028, 114.9945, 4765,  107.7,      5.5,  16.9685,  35.2819,2,  35.2820,2,    270.3,2, 16.9675,    254.7,2,     0.54,2,     0.83,2,     0.03,2,     0.23,2,    2.896,2,    1.520,2, -999.000,5,-999.0000,5,  -999.00,9,   -999.0,9,  -999.00,9,-999.000,9,   -999.0,9,   -999.0,9,  -999.0, -999.00,-999.0000,-999.000,-999.000
     316N145_5,  I09S,   137,  1,     35, SIH032,2,19950116,0751,-38.0028, 114.9945, 4765,  293.5,     24.2,  16.1723,  35.2517,2,  35.2505,2,    273.1,2, 16.1685,    262.7,2,     0.69,2,     0.92,2,     0.04,2,     0.23,2,    2.939,2,    1.562,2, -999.000,5,-999.0000,5,  -999.00,9,   -999.0,9,  -999.00,9,-999.000,9,   -999.0,9,   -999.0,9,  -999.0, -999.00,-999.0000,-999.000,-999.000
     316N145_5,  I09S,   137,  1,     34, SIH029,2,19950116,0751,-38.0028, 114.9945, 4765,  544.5,     49.4,  14.5702,  35.1233,2,  35.0823,2,    258.4,2, 14.5629,    270.0,2,     0.53,2,     3.13,2,     0.08,2,     0.38,2,    3.195,6,    1.679,2, -999.000,5,-999.0000,5,  -999.00,9,   -999.0,9,  -999.00,9,-999.000,9,   -999.0,9,   -999.0,9,  -999.0, -999.00,-999.0000,-999.000,-999.000
     316N145_5,  I09S,   137,  1,     33, SIH026,2,19950116,0751,-38.0028, 114.9945, 4765,  796.8,     74.8,  13.1907,  35.1653,2,  35.1738,2,    263.8,2, 13.1804,    257.8,2,     1.32,2,     3.60,2,     0.21,2,     0.45,2,    3.291,6,    1.710,6, -999.000,5,-999.0000,5,  -999.00,9,   -999.0,9,  -999.00,9,-999.000,9,   -999.0,9,   -999.0,9,  -999.0, -999.00,-999.0000,-999.000,-999.000
     316N145_5,  I09S,   137,  1,     32, SIH023,2,19950116,0751,-38.0028, 114.9945, 4765, 1035.2,     98.7,  12.4887,  35.1601,2,  35.1608,2,    261.4,2, 12.4755,    253.5,2,     1.48,2,     5.21,2,     0.26,2,     0.53,2,    3.358,6,    1.770,6, -999.000,5,-999.0000,5,  -999.00,9,   -999.0,9,  -999.00,9,-999.000,9,   -999.0,9,   -999.0,9,  -999.0, -999.00,-999.0000,-999.000,-999.000
     316N145_5,  I09S,   137,  1,     31, SIH020,2,19950116,0751,-38.0028, 114.9945, 4765, 1585.5,    154.1,  11.4710,  34.9987,2,  34.9984,2,    255.6,2, 11.4515,    254.9,2,     1.79,2,     7.72,2,     0.06,2,     0.66,2,    3.484,2,    1.808,2, -999.000,5,-999.0000,5,  -999.00,9,   -999.0,9,  -999.00,9,-999.000,9,   -999.0,9,   -999.0,9,  -999.0, -999.00,-999.0000,-999.000,-999.000
     316N145_5,  I09S,   137,  1,     30, SIH017,2,19950116,0751,-38.0028, 114.9945, 4765, 2091.4,    204.9,  11.0740,  34.9395,2,  34.9410,2,    252.7,2, 11.0487,    255.5,2,     1.94,2,     8.82,2,     0.01,2,     0.73,2,    3.520,2,    1.816,2, -999.000,5,-999.0000,5,  -999.00,9,   -999.0,9,  -999.00,9,-999.000,9,   -999.0,9,   -999.0,9,  -999.0, -999.00,-999.0000,-999.000,-999.000
     316N145_5,  I09S,   137,  1,     29, SIH014,2,19950116,0751,-38.0028, 114.9945, 4765, 2586.8,    254.8,  10.6140,  34.8724,2,  34.8725,2,    250.5,2, 10.5832,    254.7,2,     2.41,2,    10.25,2,     0.01,2,     0.82,2,    3.567,2,    1.826,2, -999.000,5,-999.0000,5,  -999.00,9,   -999.0,9,  -999.00,9,-999.000,9,   -999.0,9,   -999.0,9,  -999.0, -999.00,-999.0000,-999.000,-999.000
     316N145_5,  I09S,   137,  1,     28, SIH011,2,19950116,0751,-38.0028, 114.9945, 4765, 3094.3,    305.8,  10.1221,  34.7913,2,  34.7919,2,    260.1,2, 10.0862,    255.5,2,     2.88,2,    11.68,2,     0.01,2,     0.91,2,    3.606,2,    1.848,2, -999.000,5,-999.0000,5,  -999.00,9,   -999.0,9,  -999.00,9,-999.000,9,   -999.0,9,   -999.0,9,  -999.0, -999.00,-999.0000,-999.000,-999.000
     316N145_5,  I09S,   137,  1,     27, SIH008,2,19950116,0751,-38.0028, 114.9945, 4765, 3576.4,    354.3,   9.9121,  34.7611,2,  34.7598,2,    258.4,2,  9.8710,    253.5,2,     3.20,2,    12.60,2,     0.01,2,     0.96,2,    3.589,2,    1.827,2, -999.000,5,-999.0000,5,  -999.00,9,   -999.0,9,  -999.00,9,-999.000,9,   -999.0,9,   -999.0,9,  -999.0, -999.00,-999.0000,-999.000,-999.000
     316N145_5,  I09S,   137,  1,     26, SIH005,2,19950116,0751,-38.0028, 114.9945, 4765, 4067.1,    403.6,   9.6852,  34.7279,2,  34.7278,2,    255.1,2,  9.6389,    252.4,2,     3.67,2,    13.52,2,     0.00,2,     1.01,2,    3.548,2,    1.807,2, -999.000,5,-999.0000,5,  -999.00,9,   -999.0,9,  -999.00,9,-999.000,9,   -999.0,9,   -999.0,9,  -999.0, -999.00,-999.0000,-999.000,-999.000
     316N145_5,  I09S,   137,  1,     25, SIH019,2,19950116,0751,-38.0028, 114.9945, 4765, 4676.1,    464.8,   9.4894,  34.6997,2,  34.6991,2,    252.4,2,  9.4367,    250.3,2,     3.98,2,    14.49,2,     0.00,2,     1.07,2,    3.497,2,    1.761,2, -999.000,5,-999.0000,5,  -999.00,9,   -999.0,9,  -999.00,9,-999.000,9,   -999.0,9,   -999.0,9,  -999.0, -999.00,-999.0000,-999.000,-999.000
     316N145_5,  I09S,   137,  1,     24, SIH037,2,19950116,0751,-38.0028, 114.9945, 4765, 5138.7,    511.4,   9.3918,  34.6860,2,  34.6857,2,    250.0,2,  9.3340,    248.4,2,     4.30,2,    15.08,2,     0.00,2,     1.09,2,    3.419,2,    1.703,2, -999.000,5,-999.0000,5,  -999.00,9,   -999.0,9,  -999.00,9,-999.000,9,   -999.0,9,   -999.0,9,  -999.0, -999.00,-999.0000,-999.000,-999.000
     316N145_5,  I09S,   137,  1,     23, SIH033,2,19950116,0751,-38.0028, 114.9945, 4765, 6135.5,    611.6,   9.0941,  34.6457,2,  34.6458,2,    237.0,2,  9.0260,    241.5,2,     5.08,2,    16.72,2,     0.00,2,     1.20,2,    3.183,2,    1.566,2, -999.000,5,-999.0000,5,  -999.00,9,   -999.0,9,  -999.00,9,-999.000,9,   -999.0,9,   -999.0,9,  -999.0, -999.00,-999.0000,-999.000,-999.000
     316N145_5,  I09S,   137,  1,     22, SIH031,2,19950116,0751,-38.0028, 114.9945, 4765, 7124.4,    711.0,   8.4951,  34.5748,2,  34.5757,2,    230.3,2,  8.4186,    228.8,2,     7.44,2,    19.67,2,     0.00,2,     1.38,2,    2.646,2,    1.269,2, -999.000,5,-999.0000,5,  -999.00,9,   -999.0,9,  -999.00,9,-999.000,9,   -999.0,9,   -999.0,9,  -999.0, -999.00,-999.0000,-999.000,-999.000
     316N145_5,  I09S,   137,  1,     21, SIH030,2,19950116,0751,-38.0028, 114.9945, 4765, 8115.5,    810.7,   7.5387,  34.5002,2,  34.4997,2,    207.1,2,  7.4568,    206.4,2,    12.95,2,    23.83,2,     0.00,2,     1.63,2,    1.590,6,    0.774,6, -999.000,5,-999.0000,5,  -999.00,9,   -999.0,9,  -999.00,9,-999.000,9,   -999.0,9,   -999.0,9,  -999.0, -999.00,-999.0000,-999.000,-999.000
     316N145_5,  I09S,   137,  1,     20, SIH028,2,19950116,0751,-38.0028, 114.9945, 4765, 9131.8,    912.9,   6.4047,  34.4393,2,  34.4389,2,    198.3,2,  6.3196,    196.9,2,    20.20,2,    27.13,2,     0.00,2,     1.85,2,    1.005,2,    0.503,2, -999.000,5,-999.0000,5,  -999.00,9,   -999.0,9,  -999.00,9,-999.000,9,   -999.0,9,   -999.0,9,  -999.0, -999.00,-999.0000,-999.000,-999.000
     316N145_5,  I09S,   137,  1,     19, SIH027,2,19950116,0751,-38.0028, 114.9945, 4765,10128.4,   1013.2,   5.2500,  34.3812,2,  34.3833,2,    199.6,2,  5.1637,    199.7,2,    27.29,2,    29.33,2,     0.00,2,     2.00,2,    0.896,2,    0.447,2, -999.000,5,-999.0000,5,  -999.00,9,   -999.0,9,  -999.00,9,-999.000,9,   -999.0,9,   -999.0,9,  -999.0, -999.00,-999.0000,-999.000,-999.000
     316N145_5,  I09S,   137,  1,     18, SIH003,2,19950116,0751,-38.0028, 114.9945, 4765,11133.2,   1114.2,   4.3207,  34.3625,2,  34.3639,2,    196.1,2,  4.2330,    198.5,2,    36.11,2,    31.20,2,     0.00,2,     2.14,2,    0.718,2,    0.354,2, -999.000,5,-999.0000,5,  -999.00,9,   -999.0,9,  -999.00,9,-999.000,9,   -999.0,9,   -999.0,9,  -999.0, -999.00,-999.0000,-999.000,-999.000
     316N145_5,  I09S,   137,  1,     17, SIH024,2,19950116,0751,-38.0028, 114.9945, 4765,12154.4,   1216.9,   3.7362,  34.3854,2,  34.3859,2,    188.2,2,  3.6448,    190.9,2,    45.40,2,    32.56,2,     0.00,2,     2.24,2,    0.498,2,    0.250,2, -999.000,5,-999.0000,5,  -999.00,9,   -999.0,9,  -999.00,9,-999.000,9,   -999.0,9,   -999.0,9,  -999.0, -999.00,-999.0000,-999.000,-999.000
     316N145_5,  I09S,   137,  1,     16, SIH022,2,19950116,0751,-38.0028, 114.9945, 4765,14256.5,   1428.4,   3.1255,  34.4826,2,  34.4842,2,    170.4,2,  3.0225,    169.9,2,    63.99,2,    34.24,2,     0.00,2,     2.37,2,    0.139,2,    0.076,2, -999.000,5,-999.0000,5,  -999.00,9,   -999.0,9,  -999.00,9,-999.000,9,   -999.0,9,   -999.0,9,  -999.0, -999.00,-999.0000,-999.000,-999.000
     316N145_5,  I09S,   137,  1,     15, SIH021,2,19950116,0751,-38.0028, 114.9945, 4765,16240.7,   1628.0,   2.8494,  34.5675,2,  34.5677,2,    162.5,2,  2.7327,    162.6,2,    74.71,2,    34.45,2,     0.00,2,     2.39,2,    0.032,2,    0.025,2, -999.000,5,-999.0000,5,  -999.00,9,   -999.0,9,  -999.00,9,-999.000,9,   -999.0,9,   -999.0,9,  -999.0, -999.00,-999.0000,-999.000,-999.000
     316N145_5,  I09S,   137,  1,     14, SIH002,2,19950116,0751,-38.0028, 114.9945, 4765,18179.7,   1823.0,   2.6668,  34.6299,2,  34.6303,2,    163.4,2,  2.5357,    162.0,2,    81.96,2,    34.03,2,     0.00,2,     2.35,2,    0.017,2,    0.018,2, -999.000,5,-999.0000,5,  -999.00,9,   -999.0,9,  -999.00,9,-999.000,9,   -999.0,9,   -999.0,9,  -999.0, -999.00,-999.0000,-999.000,-999.000
     316N145_5,  I09S,   137,  1,     13, SIH018,2,19950116,0751,-38.0028, 114.9945, 4765,20183.9,   2024.6,   2.5082,  34.6765,2,  34.6773,2,    165.8,2,  2.3617,    164.0,2,    89.04,2,    33.47,2,     0.00,2,     2.32,2,    0.028,2,    0.134,4, -999.000,5,-999.0000,5,  -999.00,9,   -999.0,9,  -999.00,9,-999.000,9,   -999.0,9,   -999.0,9,  -999.0, -999.00,-999.0000,-999.000,-999.000
     316N145_5,  I09S,   137,  1,     12, SIH016,2,19950116,0751,-38.0028, 114.9945, 4765,22239.3,   2231.3,   2.3553,  34.7087,2,  34.7091,2,    169.1,2,  2.1928,    168.8,2,    94.25,2,    32.86,2,     0.00,2,     2.28,2,    0.011,2,    0.010,2, -999.000,5,-999.0000,5,  -999.00,9,   -999.0,9,  -999.00,9,-999.000,9,   -999.0,9,   -999.0,9,  -999.0, -999.00,-999.0000,-999.000,-999.000
     316N145_5,  I09S,   137,  1,     11, SIH015,2,19950116,0751,-38.0028, 114.9945, 4765,24266.6,   2435.3,   2.1918,  34.7269,2,  34.7278,2,    175.6,2,  2.0136,    176.4,2,    95.35,2,    32.17,2,     0.00,2,     2.22,2, -999.000,9, -999.000,9, -999.000,5,-999.0000,5,  -999.00,9,   -999.0,9,  -999.00,9,-999.000,9,   -999.0,9,   -999.0,9,  -999.0, -999.00,-999.0000,-999.000,-999.000
     316N145_5,  I09S,   137,  1,     10, SI9426,2,19950116,0751,-38.0028, 114.9945, 4765,27323.5,   2742.7,   1.9719,  34.7404,2,  34.7404,2,    185.0,2,  1.7692,    186.3,2,    96.94,2,    31.51,2,     0.00,2,     2.17,2,    0.007,2,    0.008,2, -999.000,5,-999.0000,5,  -999.00,9,   -999.0,9,  -999.00,9,-999.000,9,   -999.0,9,   -999.0,9,  -999.0, -999.00,-999.0000,-999.000,-999.000
     316N145_5,  I09S,   137,  1,      9, SIH012,2,19950116,0751,-38.0028, 114.9945, 4765,30367.2,   3048.9,   1.7177,  34.7418,2,  34.7433,2,    191.4,2,  1.4910,    193.7,2,   100.88,2,    31.18,2,     0.00,2,     2.14,2, -999.000,9, -999.000,9, -999.000,5,-999.0000,5,  -999.00,9,   -999.0,9,  -999.00,9,-999.000,9,   -999.0,9,   -999.0,9,  -999.0, -999.00,-999.0000,-999.000,-999.000
     316N145_5,  I09S,   137,  1,      8, SIH010,2,19950116,0751,-38.0028, 114.9945, 4765,33381.7,   3352.1,   1.4258,  34.7341,2,  34.7341,2,    196.8,2,  1.1760,    199.2,2,   108.14,2,    31.40,2,     0.00,2,     2.16,2,    0.008,2,    0.007,2, -999.000,5,-999.0000,5,  -999.00,9,   -999.0,9,  -999.00,9,-999.000,9,   -999.0,9,   -999.0,9,  -999.0, -999.00,-999.0000,-999.000,-999.000
     316N145_5,  I09S,   137,  1,      7, SIH009,2,19950116,0751,-38.0028, 114.9945, 4765,36404.5,   3656.2,   1.1845,  34.7232,2,  34.7252,2,    200.2,2,  0.9102,    202.4,2,   115.40,2,    31.80,2,     0.00,2,     2.18,2, -999.000,9, -999.000,9, -999.000,5,-999.0000,5,  -999.00,9,   -999.0,9,  -999.00,9,-999.000,9,   -999.0,9,   -999.0,9,  -999.0, -999.00,-999.0000,-999.000,-999.000
     316N145_5,  I09S,   137,  1,      6, SIH038,2,19950116,0751,-38.0028, 114.9945, 4765,39466.2,   3964.2,   0.9404,  34.7115,2,  34.7109,2,    205.0,2,  0.6409,    207.4,2,   120.92,2,    32.07,2,     0.00,2,     2.20,2,    0.031,2,    0.063,4, -999.000,5,-999.0000,5,  -999.00,9,   -999.0,9,  -999.00,9,-999.000,9,   -999.0,9,   -999.0,9,  -999.0, -999.00,-999.0000,-999.000,-999.000
     316N145_5,  I09S,   137,  1,      5, SIH006,2,19950116,0751,-38.0028, 114.9945, 4765,42525.4,   4271.9,   0.8376,  34.7055,2,  34.7064,2,    208.3,2,  0.5082,    209.1,2,   123.77,2,    32.28,2,     0.00,2,     2.22,2, -999.000,9, -999.000,9, -999.000,5,-999.0000,5,  -999.00,9,   -999.0,9,  -999.00,9,-999.000,9,   -999.0,9,   -999.0,9,  -999.0, -999.00,-999.0000,-999.000,-999.000
     316N145_5,  I09S,   137,  1,      4, SIH004,2,19950116,0751,-38.0028, 114.9945, 4765,45607.8,   4581.9,   0.8455,  34.7050,2,  34.7030,2,    211.0,2,  0.4816,    209.9,2,   124.41,2,    32.31,2,     0.00,2,     2.22,2,    0.037,2,    0.029,2, -999.000,5,-999.0000,5,  -999.00,9,   -999.0,9,  -999.00,9,-999.000,9,   -999.0,9,   -999.0,9,  -999.0, -999.00,-999.0000,-999.000,-999.000
     316N145_5,  I09S,   137,  1,      3, SIH025,2,19950116,0751,-38.0028, 114.9945, 4765,47402.8,   4762.5,   0.8592,  34.7049,2,  34.7038,2,    212.2,2,  0.4743,    209.8,2,   124.42,2,    32.30,2,     0.00,2,     2.22,2, -999.000,9, -999.000,9, -999.000,5,-999.0000,5,  -999.00,9,   -999.0,9,  -999.00,9,-999.000,9,   -999.0,9,   -999.0,9,  -999.0, -999.00,-999.0000,-999.000,-999.000
     316N145_5,  I09S,   137,  1,      2, SIH001,2,19950116,0751,-38.0028, 114.9945, 4765,48417.1,   4864.5,   0.8709,  34.7042,2,  34.7034,2,    213.8,2,  0.4737,    210.3,2,   124.42,2,    32.29,2,     0.00,2,     2.21,2,    0.038,2,    0.027,2, -999.000,5,-999.0000,5,  -999.00,9,   -999.0,9,  -999.00,9,-999.000,9,   -999.0,9,   -999.0,9,  -999.0, -999.00,-999.0000,-999.000,-999.000
     316N145_5,  I09S,   137,  1,      1, SIH036,2,19950116,0751,-38.0028, 114.9945, 4765,48940.8,   4917.2,   0.8770,  34.7045,2,  34.7044,2,    214.3,3,  0.4734,    210.2,2,   124.38,2,    32.20,2,     0.00,2,     2.21,2,    0.041,2,    0.039,2, -999.000,5,-999.0000,5,  -999.00,9,   -999.0,9,  -999.00,9,-999.000,9,   -999.0,9,   -999.0,9,  -999.0, -999.00,-999.0000,-999.000,-999.000