BOTTLE,20090521WHPSIOdm
EXPOCODE,SECT_ID,STNNBR,CASTNO,SAMPNO,BTLNBR,BTLNBR_FLAG_W,DATE,TIME,LATITUDE,LONGITUDE,DEPTH,CTDRAW,CTDPRS,CTDTMP,CTDSAL,CTDSAL_FLAG_W,SALNTY,SALNTY_FLAG_W,CTDOXY,CTDOXY_FLAG_W,THETA,OXYGEN,OXYGEN_FLAG_W,SILCAT,SILCAT_FLAG_W,NITRAT,NITRAT_FLAG_W,NITRIT,NITRIT_FLAG_W,PHSPHT,PHSPHT_FLAG_W,CFC-11,CFC-11_FLAG_W,CFC-12,CFC-12_FLAG_W,TRITUM,TRITUM_FLAG_W,HELIUM,HELIUM_FLAG_W,DELHE3,DELHE3_FLAG_W,DELC14,DELC14_FLAG_W,DELC13,DELC13_FLAG_W,NEON,NEON_FLAG_W,TCARBN,TCARBN_FLAG_W,ALKALI,ALKALI_FLAG_W,C14ERR,DELHER,HELIER,NEONER,TRITER
,,,,,,,,,,,,,DBAR,IPTS-68,PSS-78,,PSS-78,,UMOL/KG,,IPTS-68,UMOL/KG,,UMOL/KG,,UMOL/KG,,UMOL/KG,,UMOL/KG,,PMOL/KG,,PMOL/KG,,TU,,NMOL/KG,,PERCNT,,/MILLE,,/MILLE,,NMOL/KG,,UMOL/KG,,UMOL/KG,,/MILLE,PERCNT,NMOL/KG,NMOL/KG,TU
     316N145_5,  I08S,    45,  1,     36, SIH035,2,19941217,1424,-49.2833,  91.2195, 3720,  204.9,     15.5,   5.5840,  33.9592,2,  33.9608,2,    305.4,2,  5.5828,    313.8,2,     0.48,2,    19.13,2,     0.24,2,     1.37,2, -999.000,9, -999.000,9, -999.000,5,-999.0000,5,  -999.00,9,   -999.0,9,  -999.00,9,-999.000,9,   -999.0,9,   -999.0,9,  -999.0, -999.00,-999.0000,-999.000,-999.000
     316N145_5,  I08S,    45,  1,     35, SIH032,2,19941217,1424,-49.2833,  91.2195, 3720,  301.9,     25.3,   5.5733,  33.9563,2,  33.9643,2,    306.9,2,  5.5713,    314.2,2,     0.48,2,    19.18,2,     0.24,2,     1.37,2, -999.000,9, -999.000,9, -999.000,5,-999.0000,5,  -999.00,9,   -999.0,9,  -999.00,9,-999.000,9,   -999.0,9,   -999.0,9,  -999.0, -999.00,-999.0000,-999.000,-999.000
     316N145_5,  I08S,    45,  1,     34, SIH029,2,19941217,1424,-49.2833,  91.2195, 3720,  548.5,     50.1,   5.4810,  33.9512,2,  33.9528,2,    306.6,2,  5.4770,    315.6,2,     0.32,2,    19.29,2,     0.24,2,     1.39,2, -999.000,9, -999.000,9, -999.000,5,-999.0000,5,  -999.00,9,   -999.0,9,  -999.00,9,-999.000,9,   -999.0,9,   -999.0,9,  -999.0, -999.00,-999.0000,-999.000,-999.000
     316N145_5,  I08S,    45,  1,     33, SIH026,2,19941217,1424,-49.2833,  91.2195, 3720,  815.9,     76.9,   5.3999,  33.9535,2,  33.9547,2,    305.6,2,  5.3938,    312.3,2,     0.48,2,    19.61,2,     0.24,2,     1.42,2, -999.000,9, -999.000,9, -999.000,5,-999.0000,5,  -999.00,9,   -999.0,9,  -999.00,9,-999.000,9,   -999.0,9,   -999.0,9,  -999.0, -999.00,-999.0000,-999.000,-999.000
     316N145_5,  I08S,    45,  1,     32, SIH023,2,19941217,1424,-49.2833,  91.2195, 3720, 1050.5,    100.5,   4.9072,  33.9424,2,  33.9430,2,    306.5,2,  4.8997,    309.1,2,     3.22,2,    20.82,2,     0.23,2,     1.56,2, -999.000,9, -999.000,9, -999.000,5,-999.0000,5,  -999.00,9,   -999.0,9,  -999.00,9,-999.000,9,   -999.0,9,   -999.0,9,  -999.0, -999.00,-999.0000,-999.000,-999.000
     316N145_5,  I08S,    45,  1,     31, SIH020,2,19941217,1424,-49.2833,  91.2195, 3720, 1538.1,    149.6,   3.8833,  33.9491,2,  33.9493,2,    307.4,2,  3.8732,    310.6,2,     8.68,2,    22.96,2,     0.22,2,     1.70,2, -999.000,9, -999.000,9, -999.000,5,-999.0000,5,  -999.00,9,   -999.0,9,  -999.00,9,-999.000,9,   -999.0,9,   -999.0,9,  -999.0, -999.00,-999.0000,-999.000,-999.000
     316N145_5,  I08S,    45,  1,     30, SIH017,2,19941217,1424,-49.2833,  91.2195, 3720, 2064.2,    202.5,   3.4084,  33.9492,2,  33.9469,2,    305.5,2,  3.3954,    313.9,2,     9.16,2,    23.23,2,     0.21,2,     1.75,2, -999.000,9, -999.000,9, -999.000,5,-999.0000,5,  -999.00,9,   -999.0,9,  -999.00,9,-999.000,9,   -999.0,9,   -999.0,9,  -999.0, -999.00,-999.0000,-999.000,-999.000
     316N145_5,  I08S,    45,  1,     29, SIH014,2,19941217,1424,-49.2833,  91.2195, 3720, 2549.2,    251.3,   2.9979,  33.9698,2,  33.9698,2,    286.4,2,  2.9826,    308.3,2,    13.98,2,    25.33,2,     0.23,2,     1.83,2, -999.000,9, -999.000,9, -999.000,5,-999.0000,5,  -999.00,9,   -999.0,9,  -999.00,9,-999.000,9,   -999.0,9,   -999.0,9,  -999.0, -999.00,-999.0000,-999.000,-999.000
     316N145_5,  I08S,    45,  1,     28, SIH011,2,19941217,1424,-49.2833,  91.2195, 3720, 3047.4,    301.4,   2.7237,  33.9945,2,  33.9970,2,    262.4,3,  2.7058,    300.5,2,    18.00,2,    27.06,2,     0.14,2,     1.91,2, -999.000,9, -999.000,9, -999.000,5,-999.0000,5,  -999.00,9,   -999.0,9,  -999.00,9,-999.000,9,   -999.0,9,   -999.0,9,  -999.0, -999.00,-999.0000,-999.000,-999.000
     316N145_5,  I08S,    45,  1,     27, SIH008,2,19941217,1424,-49.2833,  91.2195, 3720, 3610.8,    358.1,   2.8608,  34.0827,2,  34.0782,2,    253.2,2,  2.8390,    281.6,2,    22.51,2,    28.28,2,     0.10,2,     1.98,2, -999.000,9, -999.000,9, -999.000,5,-999.0000,5,  -999.00,9,   -999.0,9,  -999.00,9,-999.000,9,   -999.0,9,   -999.0,9,  -999.0, -999.00,-999.0000,-999.000,-999.000
     316N145_5,  I08S,    45,  1,     26, SIH005,2,19941217,1424,-49.2833,  91.2195, 3720, 4106.7,    407.9,   3.8419,  34.2353,2,  34.2354,2,    231.6,2,  3.8135,    238.9,2,    26.20,2,    29.51,2,     0.01,2,     2.05,2, -999.000,9, -999.000,9, -999.000,5,-999.0000,5,  -999.00,9,   -999.0,9,  -999.00,9,-999.000,9,   -999.0,9,   -999.0,9,  -999.0, -999.00,-999.0000,-999.000,-999.000
     316N145_5,  I08S,    45,  1,     25, SIH019,2,19941217,1424,-49.2833,  91.2195, 3720, 4606.4,    458.2,   3.4007,  34.2180,2,  34.2199,2,    236.4,2,  3.3703,    241.4,2,    28.93,2,    30.31,2,     0.01,2,     2.09,2, -999.000,9, -999.000,9, -999.000,5,-999.0000,5,  -999.00,9,   -999.0,9,  -999.00,9,-999.000,9,   -999.0,9,   -999.0,9,  -999.0, -999.00,-999.0000,-999.000,-999.000
     316N145_5,  I08S,    45,  1,     24, SIH037,2,19941217,1424,-49.2833,  91.2195, 3720, 5148.3,    512.7,   2.8665,  34.2053,2,  34.2093,2,    231.8,2,  2.8345,    243.4,2,    32.95,2,    30.97,2,     0.00,2,     2.14,2, -999.000,9, -999.000,9, -999.000,5,-999.0000,5,  -999.00,9,   -999.0,9,  -999.00,9,-999.000,9,   -999.0,9,   -999.0,9,  -999.0, -999.00,-999.0000,-999.000,-999.000
     316N145_5,  I08S,    45,  1,     23, SIH033,2,19941217,1424,-49.2833,  91.2195, 3720, 6149.8,    613.4,   2.9401,  34.3015,2,  34.3007,2,    213.9,2,  2.9008,    216.7,2,    42.60,2,    32.48,2,     0.00,2,     2.25,2, -999.000,9, -999.000,9, -999.000,5,-999.0000,5,  -999.00,9,   -999.0,9,  -999.00,9,-999.000,9,   -999.0,9,   -999.0,9,  -999.0, -999.00,-999.0000,-999.000,-999.000
     316N145_5,  I08S,    45,  1,     22, SIH031,2,19941217,1424,-49.2833,  91.2195, 3720, 7131.6,    712.2,   2.7696,  34.3627,2,  34.3619,2,    199.7,2,  2.7243,    202.4,2,    50.79,2,    33.45,2,     0.00,2,     2.32,2, -999.000,9, -999.000,9, -999.000,5,-999.0000,5,  -999.00,9,   -999.0,9,  -999.00,9,-999.000,9,   -999.0,9,   -999.0,9,  -999.0, -999.00,-999.0000,-999.000,-999.000
     316N145_5,  I08S,    45,  1,     21, SIH030,2,19941217,1424,-49.2833,  91.2195, 3720, 8158.7,    815.5,   2.6436,  34.4325,2,  34.4338,2,    188.7,2,  2.5918,    188.9,2,    59.30,2,    34.03,2,     0.00,2,     2.35,2, -999.000,9, -999.000,9, -999.000,5,-999.0000,5,  -999.00,9,   -999.0,9,  -999.00,9,-999.000,9,   -999.0,9,   -999.0,9,  -999.0, -999.00,-999.0000,-999.000,-999.000
     316N145_5,  I08S,    45,  1,     20, SIH028,2,19941217,1424,-49.2833,  91.2195, 3720, 9152.9,    915.5,   2.3364,  34.4572,2,  34.4583,2,    185.6,2,  2.2797,    187.2,2,    64.61,2,    34.40,2,     0.00,2,     2.38,2, -999.000,9, -999.000,9, -999.000,5,-999.0000,5,  -999.00,9,   -999.0,9,  -999.00,9,-999.000,9,   -999.0,9,   -999.0,9,  -999.0, -999.00,-999.0000,-999.000,-999.000
     316N145_5,  I08S,    45,  1,     19, SIH027,2,19941217,1424,-49.2833,  91.2195, 3720,10156.4,   1016.5,   2.4002,  34.5175,2,  34.5225,2,    180.1,2,  2.3358,    179.2,2,    68.94,2,    34.28,2,     0.00,2,     2.37,2, -999.000,9, -999.000,9, -999.000,5,-999.0000,5,  -999.00,9,   -999.0,9,  -999.00,9,-999.000,9,   -999.0,9,   -999.0,9,  -999.0, -999.00,-999.0000,-999.000,-999.000
     316N145_5,  I08S,    45,  1,     18, SIH003,2,19941217,1424,-49.2833,  91.2195, 3720,11171.6,   1118.6,   2.4054,  34.5732,2,  34.5745,2,    179.5,2,  2.3334,    176.3,2,    71.98,2,    33.78,2,     0.00,2,     2.34,2, -999.000,9, -999.000,9, -999.000,5,-999.0000,5,  -999.00,9,   -999.0,9,  -999.00,9,-999.000,9,   -999.0,9,   -999.0,9,  -999.0, -999.00,-999.0000,-999.000,-999.000
     316N145_5,  I08S,    45,  1,     17, SIH024,2,19941217,1424,-49.2833,  91.2195, 3720,12169.4,   1218.9,   2.4028,  34.6160,2,  34.6166,2,    182.2,2,  2.3234,    181.6,2,    74.07,2,    33.22,2,     0.00,2,     2.30,2, -999.000,9, -999.000,9, -999.000,5,-999.0000,5,  -999.00,9,   -999.0,9,  -999.00,9,-999.000,9,   -999.0,9,   -999.0,9,  -999.0, -999.00,-999.0000,-999.000,-999.000
     316N145_5,  I08S,    45,  1,     16, SIH022,2,19941217,1424,-49.2833,  91.2195, 3720,13168.7,   1319.4,   2.3562,  34.6439,2,  34.6439,2,    181.6,2,  2.2696,    178.1,2,    75.52,2,    32.83,2,     0.00,2,     2.27,2, -999.000,9, -999.000,9, -999.000,5,-999.0000,5,  -999.00,9,   -999.0,9,  -999.00,9,-999.000,9,   -999.0,9,   -999.0,9,  -999.0, -999.00,-999.0000,-999.000,-999.000
     316N145_5,  I08S,    45,  1,     15, SIH021,2,19941217,1424,-49.2833,  91.2195, 3720,14188.4,   1422.0,   2.3277,  34.6756,2,  34.6767,2,    185.5,2,  2.2335,    180.8,2,    76.47,2,    32.17,2,     0.00,2,     2.22,2, -999.000,9, -999.000,9, -999.000,5,-999.0000,5,  -999.00,9,   -999.0,9,  -999.00,9,-999.000,9,   -999.0,9,   -999.0,9,  -999.0, -999.00,-999.0000,-999.000,-999.000
     316N145_5,  I08S,    45,  1,     14, SIH002,2,19941217,1424,-49.2833,  91.2195, 3720,15200.1,   1523.8,   2.2903,  34.7031,2,  34.7026,2,    187.4,2,  2.1884,    184.1,2,    77.44,2,    31.56,2,     0.00,2,     2.18,2, -999.000,9, -999.000,9, -999.000,5,-999.0000,5,  -999.00,9,   -999.0,9,  -999.00,9,-999.000,9,   -999.0,9,   -999.0,9,  -999.0, -999.00,-999.0000,-999.000,-999.000
     316N145_5,  I08S,    45,  1,     13, SIH018,2,19941217,1424,-49.2833,  91.2195, 3720,16189.2,   1623.3,   2.2342,  34.7208,2,  34.7201,2,    190.2,2,  2.1251,    187.6,2,    78.56,2,    31.05,2,     0.00,2,     2.14,2, -999.000,9, -999.000,9, -999.000,5,-999.0000,5,  -999.00,9,   -999.0,9,  -999.00,9,-999.000,9,   -999.0,9,   -999.0,9,  -999.0, -999.00,-999.0000,-999.000,-999.000
     316N145_5,  I08S,    45,  1,     12, SIH016,2,19941217,1424,-49.2833,  91.2195, 3720,17208.0,   1725.7,   2.1821,  34.7350,2,  34.7349,2,    193.0,2,  2.0653,    190.6,2,    79.52,2,    30.67,2,     0.00,2,     2.12,2, -999.000,9, -999.000,9, -999.000,5,-999.0000,5,  -999.00,9,   -999.0,9,  -999.00,9,-999.000,9,   -999.0,9,   -999.0,9,  -999.0, -999.00,-999.0000,-999.000,-999.000
     316N145_5,  I08S,    45,  1,     11, SIH015,2,19941217,1424,-49.2833,  91.2195, 3720,19195.7,   1925.7,   2.0423,  34.7496,2,  34.7478,2,    197.0,2,  1.9111,    195.3,2,    83.06,2,    30.22,2,     0.00,2,     2.09,2, -999.000,9, -999.000,9, -999.000,5,-999.0000,5,  -999.00,9,   -999.0,9,  -999.00,9,-999.000,9,   -999.0,9,   -999.0,9,  -999.0, -999.00,-999.0000,-999.000,-999.000
     316N145_5,  I08S,    45,  1,     10, SIH013,2,19941217,1424,-49.2833,  91.2195, 3720,21193.4,   2126.6,   1.8803,  34.7530,2,  34.7537,2,    199.8,2,  1.7346,    198.0,2,    87.88,2,    30.21,2,     0.00,2,     2.09,2, -999.000,9, -999.000,9, -999.000,5,-999.0000,5,  -999.00,9,   -999.0,9,  -999.00,9,-999.000,9,   -999.0,9,   -999.0,9,  -999.0, -999.00,-999.0000,-999.000,-999.000
     316N145_5,  I08S,    45,  1,      9, SIH012,2,19941217,1424,-49.2833,  91.2195, 3720,23285.6,   2337.1,   1.6791,  34.7487,2,  34.7488,2,    203.0,2,  1.5187,    200.2,2,    93.97,2,    30.42,2,     0.00,2,     2.11,2, -999.000,9, -999.000,9, -999.000,5,-999.0000,5,  -999.00,9,   -999.0,9,  -999.00,9,-999.000,9,   -999.0,9,   -999.0,9,  -999.0, -999.00,-999.0000,-999.000,-999.000
     316N145_5,  I08S,    45,  1,      8, SIH010,2,19941217,1424,-49.2833,  91.2195, 3720,25301.1,   2539.8,   1.4638,  34.7412,2,  34.7421,2,    205.8,2,  1.2897,    202.1,2,   101.21,2,    30.79,2,     0.00,2,     2.13,2, -999.000,9, -999.000,9, -999.000,5,-999.0000,5,  -999.00,9,   -999.0,9,  -999.00,9,-999.000,9,   -999.0,9,   -999.0,9,  -999.0, -999.00,-999.0000,-999.000,-999.000
     316N145_5,  I08S,    45,  1,      7, SIH009,2,19941217,1424,-49.2833,  91.2195, 3720,27309.8,   2741.8,   1.2918,  34.7326,2,  34.7292,2,    205.5,2,  1.1030,    203.8,2,   106.66,2,    31.10,2,     0.00,2,     2.16,2, -999.000,9, -999.000,9, -999.000,5,-999.0000,5,  -999.00,9,   -999.0,9,  -999.00,9,-999.000,9,   -999.0,9,   -999.0,9,  -999.0, -999.00,-999.0000,-999.000,-999.000
     316N145_5,  I08S,    45,  1,      6, SIH038,2,19941217,1424,-49.2833,  91.2195, 3720,29294.1,   2941.4,   1.1302,  34.7236,2,  34.7237,2,    208.3,2,  0.9267,    205.8,2,   111.65,2,    31.47,2,     0.00,2,     2.19,2, -999.000,9, -999.000,9, -999.000,5,-999.0000,5,  -999.00,9,   -999.0,9,  -999.00,9,-999.000,9,   -999.0,9,   -999.0,9,  -999.0, -999.00,-999.0000,-999.000,-999.000
     316N145_5,  I08S,    45,  1,      5, SIH006,2,19941217,1424,-49.2833,  91.2195, 3720,31331.0,   3146.3,   0.9351,  34.7143,2,  34.7150,2,    209.8,2,  0.7170,    209.1,2,   117.10,2,    31.78,2,     0.00,2,     2.21,2, -999.000,9, -999.000,9, -999.000,5,-999.0000,5,  -999.00,9,   -999.0,9,  -999.00,9,-999.000,9,   -999.0,9,   -999.0,9,  -999.0, -999.00,-999.0000,-999.000,-999.000
     316N145_5,  I08S,    45,  1,      4, SIH004,2,19941217,1424,-49.2833,  91.2195, 3720,33430.5,   3357.5,   0.6503,  34.7016,2,  34.7001,2,    214.0,2,  0.4192,    213.8,2,   122.40,2,    32.04,2,     0.00,2,     2.23,2, -999.000,9, -999.000,9, -999.000,5,-999.0000,5,  -999.00,9,   -999.0,9,  -999.00,9,-999.000,9,   -999.0,9,   -999.0,9,  -999.0, -999.00,-999.0000,-999.000,-999.000
     316N145_5,  I08S,    45,  1,      3, SIH025,2,19941217,1424,-49.2833,  91.2195, 3720,35433.6,   3559.0,   0.4693,  34.6938,2,  34.6916,2,    218.5,2,  0.2235,    217.6,2,   125.77,2,    32.30,2,     0.00,2,     2.24,2, -999.000,9, -999.000,9, -999.000,5,-999.0000,5,  -999.00,9,   -999.0,9,  -999.00,9,-999.000,9,   -999.0,9,   -999.0,9,  -999.0, -999.00,-999.0000,-999.000,-999.000
     316N145_5,  I08S,    45,  1,      2, SIH001,2,19941217,1424,-49.2833,  91.2195, 3720,36566.9,   3673.0,   0.3604,  34.6879,2,  34.6861,2,    219.9,2,  0.1064,    220.1,2,   127.05,2,    32.40,2,     0.00,2,     2.25,2, -999.000,9, -999.000,9, -999.000,5,-999.0000,5,  -999.00,9,   -999.0,9,  -999.00,9,-999.000,9,   -999.0,9,   -999.0,9,  -999.0, -999.00,-999.0000,-999.000,-999.000
     316N145_5,  I08S,    45,  1,      1, SIH036,2,19941217,1424,-49.2833,  91.2195, 3720,37089.2,   3725.6,   0.3466,  34.6875,2,  34.6855,2,    220.3,2,  0.0878,    221.1,2,   127.17,2,    32.38,2,     0.00,2,     2.25,2, -999.000,9, -999.000,9, -999.000,5,-999.0000,5,  -999.00,9,   -999.0,9,  -999.00,9,-999.000,9,   -999.0,9,   -999.0,9,  -999.0, -999.00,-999.0000,-999.000,-999.000