BOTTLE,20090521WHPSIOdm
EXPOCODE,SECT_ID,STNNBR,CASTNO,SAMPNO,BTLNBR,BTLNBR_FLAG_W,DATE,TIME,LATITUDE,LONGITUDE,DEPTH,CTDRAW,CTDPRS,CTDTMP,CTDSAL,CTDSAL_FLAG_W,SALNTY,SALNTY_FLAG_W,CTDOXY,CTDOXY_FLAG_W,THETA,OXYGEN,OXYGEN_FLAG_W,SILCAT,SILCAT_FLAG_W,NITRAT,NITRAT_FLAG_W,NITRIT,NITRIT_FLAG_W,PHSPHT,PHSPHT_FLAG_W,CFC-11,CFC-11_FLAG_W,CFC-12,CFC-12_FLAG_W,TRITUM,TRITUM_FLAG_W,HELIUM,HELIUM_FLAG_W,DELHE3,DELHE3_FLAG_W,DELC14,DELC14_FLAG_W,DELC13,DELC13_FLAG_W,NEON,NEON_FLAG_W,TCARBN,TCARBN_FLAG_W,ALKALI,ALKALI_FLAG_W,C14ERR,DELHER,HELIER,NEONER,TRITER
,,,,,,,,,,,,,DBAR,IPTS-68,PSS-78,,PSS-78,,UMOL/KG,,IPTS-68,UMOL/KG,,UMOL/KG,,UMOL/KG,,UMOL/KG,,UMOL/KG,,PMOL/KG,,PMOL/KG,,TU,,NMOL/KG,,PERCNT,,/MILLE,,/MILLE,,NMOL/KG,,UMOL/KG,,UMOL/KG,,/MILLE,PERCNT,NMOL/KG,NMOL/KG,TU
     316N145_5,  I09S,   139,  1,     36, SI9446,2,19950116,2056,-37.0028, 115.0112, 5155,  211.7,     16.2,  18.1560,  35.4807,2,  35.4817,2,    257.1,2, 18.1532,    241.9,2,     0.65,2,     0.00,2,     0.00,2,     0.16,2,    2.700,2,    1.446,2, -999.000,5,-999.0000,5,  -999.00,9,   -999.0,9,  -999.00,9,-999.000,9,   -999.0,9,   -999.0,9,  -999.0, -999.00,-999.0000,-999.000,-999.000
     316N145_5,  I09S,   139,  1,     35, SIH032,2,19950116,2056,-37.0028, 115.0112, 5155,  402.1,     35.4,  17.5050,  35.4562,2,  35.4460,2,    257.8,2, 17.4991,    247.9,2,     0.67,2,     0.00,2,     0.00,2,     0.16,2,    2.765,2,    1.489,2, -999.000,5,-999.0000,5,  -999.00,9,   -999.0,9,  -999.00,9,-999.000,9,   -999.0,9,   -999.0,9,  -999.0, -999.00,-999.0000,-999.000,-999.000
     316N145_5,  I09S,   139,  1,     34, SIH029,2,19950116,2056,-37.0028, 115.0112, 5155,  645.8,     59.9,  14.3542,  35.2887,2,  35.2117,2,    271.1,2, 14.3454,    252.5,2,     1.36,2,     3.97,2,     0.28,2,     0.45,2,    3.249,6,    1.692,6, -999.000,5,-999.0000,5,  -999.00,9,   -999.0,9,  -999.00,9,-999.000,9,   -999.0,9,   -999.0,9,  -999.0, -999.00,-999.0000,-999.000,-999.000
     316N145_5,  I09S,   139,  1,     33, SIH026,2,19950116,2056,-37.0028, 115.0112, 5155,  894.3,     84.9,  13.0925,  35.2107,3,  35.0590,2,    256.8,2, 13.0807,    251.8,2,     1.49,2,     6.28,2,     0.06,2,     0.59,2,    3.370,2,    1.758,2, -999.000,5,-999.0000,5,  -999.00,9,   -999.0,9,  -999.00,9,-999.000,9,   -999.0,9,   -999.0,9,  -999.0, -999.00,-999.0000,-999.000,-999.000
     316N145_5,  I09S,   139,  1,     32, SIH023,2,19950116,2056,-37.0028, 115.0112, 5155, 1156.4,    111.2,  12.1266,  35.0598,2,  34.9748,2,    255.2,2, 12.1121,    253.1,2,     1.83,2,     7.98,2,     0.01,2,     0.68,2,    3.593,2,    1.819,2, -999.000,5,-999.0000,5,  -999.00,9,   -999.0,9,  -999.00,9,-999.000,9,   -999.0,9,   -999.0,9,  -999.0, -999.00,-999.0000,-999.000,-999.000
     316N145_5,  I09S,   139,  1,     31, SIH020,2,19950116,2056,-37.0028, 115.0112, 5155, 1638.3,    159.7,  11.3986,  34.9746,2,  34.9026,2,    262.1,2, 11.3785,    249.4,2,     2.16,2,     9.59,2,     0.01,2,     0.78,2,    3.485,2,    1.796,2, -999.000,5,-999.0000,5,  -999.00,9,   -999.0,9,  -999.00,9,-999.000,9,   -999.0,9,   -999.0,9,  -999.0, -999.00,-999.0000,-999.000,-999.000
     316N145_5,  I09S,   139,  1,     30, SIH017,2,19950116,2056,-37.0028, 115.0112, 5155, 2136.7,    209.8,  10.9104,  34.9036,2,  34.8322,2,    256.5,2, 10.8847,    246.0,2,     2.65,2,    11.38,2,     0.01,2,     0.89,2,    3.479,2,    1.773,2, -999.000,5,-999.0000,5,  -999.00,9,   -999.0,9,  -999.00,9,-999.000,9,   -999.0,9,   -999.0,9,  -999.0, -999.00,-999.0000,-999.000,-999.000
     316N145_5,  I09S,   139,  1,     29, SIH014,2,19950116,2056,-37.0028, 115.0112, 5155, 2628.9,    259.3,  10.4096,  34.8309,2,  34.7738,2,    250.4,2, 10.3787,    244.4,2,     3.14,2,    12.92,2,     0.01,2,     0.98,2,    3.486,2,    1.737,2, -999.000,5,-999.0000,5,  -999.00,9,   -999.0,9,  -999.00,9,-999.000,9,   -999.0,9,   -999.0,9,  -999.0, -999.00,-999.0000,-999.000,-999.000
     316N145_5,  I09S,   139,  1,     28, SIH011,2,19950116,2056,-37.0028, 115.0112, 5155, 3147.0,    311.4,   9.9947,  34.7716,2,  34.7323,2,    241.7,2,  9.9585,    245.4,2,     3.63,2,    13.80,2,     0.01,2,     1.03,2,    3.502,2,    1.795,2, -999.000,5,-999.0000,5,  -999.00,9,   -999.0,9,  -999.00,9,-999.000,9,   -999.0,9,   -999.0,9,  -999.0, -999.00,-999.0000,-999.000,-999.000
     316N145_5,  I09S,   139,  1,     27, SIH008,2,19950116,2056,-37.0028, 115.0112, 5155, 3641.3,    361.1,   9.7110,  34.7348,2,  34.7370,2,    245.5,2,  9.6696,    245.0,2,     3.64,2,    13.84,2,     0.01,2,     1.04,2,    3.473,2,    1.760,2, -999.000,5,-999.0000,5,  -999.00,9,   -999.0,9,  -999.00,9,-999.000,9,   -999.0,9,   -999.0,9,  -999.0, -999.00,-999.0000,-999.000,-999.000
     316N145_5,  I09S,   139,  1,     26, SIH005,2,19950116,2056,-37.0028, 115.0112, 5155, 4134.4,    410.7,   9.4764,  34.6973,2,  34.6965,2,    244.8,2,  9.4300,    247.7,2,     3.97,2,    14.44,2,     0.01,2,     1.07,2,    3.488,2,    1.773,2, -999.000,5,-999.0000,5,  -999.00,9,   -999.0,9,  -999.00,9,-999.000,9,   -999.0,9,   -999.0,9,  -999.0, -999.00,-999.0000,-999.000,-999.000
     316N145_5,  I09S,   139,  1,     25, SIH019,2,19950116,2056,-37.0028, 115.0112, 5155, 4628.4,    460.3,   9.3789,  34.6861,2,  34.6844,2,    246.9,2,  9.3270,    246.3,2,     4.14,2,    14.98,2,     0.01,2,     1.09,2,    3.427,2,    1.695,2, -999.000,5,-999.0000,5,  -999.00,9,   -999.0,9,  -999.00,9,-999.000,9,   -999.0,9,   -999.0,9,  -999.0, -999.00,-999.0000,-999.000,-999.000
     316N145_5,  I09S,   139,  1,     24, SIH037,2,19950116,2056,-37.0028, 115.0112, 5155, 5138.8,    511.7,   9.2678,  34.6692,2,  34.6696,2,    251.0,2,  9.2104,    245.6,2,     4.32,2,    15.48,2,     0.01,2,     1.12,2,    3.398,2,    1.722,2, -999.000,5,-999.0000,5,  -999.00,9,   -999.0,9,  -999.00,9,-999.000,9,   -999.0,9,   -999.0,9,  -999.0, -999.00,-999.0000,-999.000,-999.000
     316N145_5,  I09S,   139,  1,     23, SIH033,2,19950116,2056,-37.0028, 115.0112, 5155, 6141.2,    612.5,   8.9673,  34.6286,2,  34.6319,2,    244.2,2,  8.8997,    238.8,2,     5.43,2,    17.21,2,     0.00,2,     1.23,2,    3.082,2,    1.548,2, -999.000,5,-999.0000,5,  -999.00,9,   -999.0,9,  -999.00,9,-999.000,9,   -999.0,9,   -999.0,9,  -999.0, -999.00,-999.0000,-999.000,-999.000
     316N145_5,  I09S,   139,  1,     22, SIH031,2,19950116,2056,-37.0028, 115.0112, 5155, 7148.2,    713.7,   8.3206,  34.5543,2,  34.5557,2,    224.1,2,  8.2447,    225.1,2,     8.13,2,    20.25,2,     0.00,2,     1.42,2,    2.431,2,    1.297,2, -999.000,5,-999.0000,5,  -999.00,9,   -999.0,9,  -999.00,9,-999.000,9,   -999.0,9,   -999.0,9,  -999.0, -999.00,-999.0000,-999.000,-999.000
     316N145_5,  I09S,   139,  1,     21, SIH030,2,19950116,2056,-37.0028, 115.0112, 5155, 8148.3,    814.3,   7.2816,  34.4819,2,  34.4834,2,    206.3,2,  7.2009,    203.0,2,    14.60,2,    24.45,2,     0.00,2,     1.68,2,    1.438,2,    0.720,2, -999.000,5,-999.0000,5,  -999.00,9,   -999.0,9,  -999.00,9,-999.000,9,   -999.0,9,   -999.0,9,  -999.0, -999.00,-999.0000,-999.000,-999.000
     316N145_5,  I09S,   139,  1,     20, SIH028,2,19950116,2056,-37.0028, 115.0112, 5155, 9140.9,    914.1,   5.9997,  34.4174,2,  34.4204,2,    195.8,2,  5.9173,    196.2,2,    22.64,2,    27.63,2,     0.00,2,     1.91,2,    0.904,2,    0.459,2, -999.000,5,-999.0000,5,  -999.00,9,   -999.0,9,  -999.00,9,-999.000,9,   -999.0,9,   -999.0,9,  -999.0, -999.00,-999.0000,-999.000,-999.000
     316N145_5,  I09S,   139,  1,     19, SIH027,2,19950116,2056,-37.0028, 115.0112, 5155,10127.6,   1013.4,   4.8318,  34.3642,2,  34.3680,2,    197.7,2,  4.7488,    200.8,2,    30.68,2,    29.87,2,     0.00,2,     2.05,2,    0.901,2,    0.457,2, -999.000,5,-999.0000,5,  -999.00,9,   -999.0,9,  -999.00,9,-999.000,9,   -999.0,9,   -999.0,9,  -999.0, -999.00,-999.0000,-999.000,-999.000
     316N145_5,  I09S,   139,  1,     18, SIH003,2,19950116,2056,-37.0028, 115.0112, 5155,11109.1,   1112.1,   4.0622,  34.3607,2,  34.3635,2,    197.0,2,  3.9769,    197.8,2,    39.04,2,    31.37,2,     0.00,2,     2.16,2,    0.699,2,    0.350,2, -999.000,5,-999.0000,5,  -999.00,9,   -999.0,9,  -999.00,9,-999.000,9,   -999.0,9,   -999.0,9,  -999.0, -999.00,-999.0000,-999.000,-999.000
     316N145_5,  I09S,   139,  1,     17, SIH024,2,19950116,2056,-37.0028, 115.0112, 5155,12081.4,   1209.9,   3.5651,  34.4013,2,  34.4019,2,    185.3,2,  3.4759,    186.3,2,    49.75,2,    32.79,2,     0.00,2,     2.27,2,    0.386,2,    0.200,2, -999.000,5,-999.0000,5,  -999.00,9,   -999.0,9,  -999.00,9,-999.000,9,   -999.0,9,   -999.0,9,  -999.0, -999.00,-999.0000,-999.000,-999.000
     316N145_5,  I09S,   139,  1,     16, SIH022,2,19950116,2056,-37.0028, 115.0112, 5155,14083.5,   1411.3,   3.0346,  34.4849,2,  34.4860,2,    172.7,2,  2.9339,    171.8,2,    64.25,2,    33.96,2,     0.00,2,     2.36,2,    0.155,2,    0.098,2, -999.000,5,-999.0000,5,  -999.00,9,   -999.0,9,  -999.00,9,-999.000,9,   -999.0,9,   -999.0,9,  -999.0, -999.00,-999.0000,-999.000,-999.000
     316N145_5,  I09S,   139,  1,     15, SIH021,2,19950116,2056,-37.0028, 115.0112, 5155,16189.4,   1623.1,   2.7333,  34.5833,2,  34.5848,2,    166.2,2,  2.6183,    164.5,2,    75.43,2,    33.92,2,     0.00,2,     2.35,2,    0.046,2,    0.026,2, -999.000,5,-999.0000,5,  -999.00,9,   -999.0,9,  -999.00,9,-999.000,9,   -999.0,9,   -999.0,9,  -999.0, -999.00,-999.0000,-999.000,-999.000
     316N145_5,  I09S,   139,  1,     14, SIH002,2,19950116,2056,-37.0028, 115.0112, 5155,18205.8,   1825.9,   2.5821,  34.6541,2,  34.6563,2,    163.7,2,  2.4518,    162.6,2,    85.67,2,    33.47,2,     0.00,2,     2.33,2,    0.012,2,    0.018,2, -999.000,5,-999.0000,5,  -999.00,9,   -999.0,9,  -999.00,9,-999.000,9,   -999.0,9,   -999.0,9,  -999.0, -999.00,-999.0000,-999.000,-999.000
     316N145_5,  I09S,   139,  1,     13, SIH018,2,19950116,2056,-37.0028, 115.0112, 5155,20243.3,   2030.9,   2.4114,  34.6956,2,  34.6952,2,    165.7,2,  2.2658,    166.0,2,    92.78,2,    32.92,2,     0.00,2,     2.29,2, -999.000,9, -999.000,9, -999.000,5,-999.0000,5,  -999.00,9,   -999.0,9,  -999.00,9,-999.000,9,   -999.0,9,   -999.0,9,  -999.0, -999.00,-999.0000,-999.000,-999.000
     316N145_5,  I09S,   139,  1,     12, SIH016,2,19950116,2056,-37.0028, 115.0112, 5155,22253.0,   2233.0,   2.2534,  34.7167,2,  34.7182,2,    169.7,2,  2.0925,    169.1,2,    98.92,2,    32.61,2,     0.00,2,     2.27,2,    0.010,2,    0.019,2, -999.000,5,-999.0000,5,  -999.00,9,   -999.0,9,  -999.00,9,-999.000,9,   -999.0,9,   -999.0,9,  -999.0, -999.00,-999.0000,-999.000,-999.000
     316N145_5,  I09S,   139,  1,     11, SIH015,2,19950116,2056,-37.0028, 115.0112, 5155,25306.5,   2540.2,   2.0362,  34.7290,2,  34.7290,2,    174.7,2,  1.8512,    175.6,2,   103.51,2,    32.29,2,     0.00,2,     2.24,2, -999.000,9, -999.000,9, -999.000,5,-999.0000,5,  -999.00,9,   -999.0,9,  -999.00,9,-999.000,9,   -999.0,9,   -999.0,9,  -999.0, -999.00,-999.0000,-999.000,-999.000
     316N145_5,  I09S,   139,  1,     10, SI9426,2,19950116,2056,-37.0028, 115.0112, 5155,28304.3,   2841.7,   1.8290,  34.7346,2,  34.7353,2,    182.3,2,  1.6199,    183.1,2,   105.73,2,    31.79,2,     0.00,2,     2.20,2,    0.004,2,    0.009,2, -999.000,5,-999.0000,5,  -999.00,9,   -999.0,9,  -999.00,9,-999.000,9,   -999.0,9,   -999.0,9,  -999.0, -999.00,-999.0000,-999.000,-999.000
     316N145_5,  I09S,   139,  1,      9, SIH012,2,19950116,2056,-37.0028, 115.0112, 5155,31307.1,   3143.7,   1.6208,  34.7341,2,  34.7349,2,    188.1,2,  1.3870,    190.2,2,   108.43,2,    31.62,2,     0.00,2,     2.18,2, -999.000,9, -999.000,9, -999.000,5,-999.0000,5,  -999.00,9,   -999.0,9,  -999.00,9,-999.000,9,   -999.0,9,   -999.0,9,  -999.0, -999.00,-999.0000,-999.000,-999.000
     316N145_5,  I09S,   139,  1,      8, SIH010,2,19950116,2056,-37.0028, 115.0112, 5155,34351.1,   3449.9,   1.4169,  34.7294,2,  34.7294,2,    192.6,2,  1.1576,    195.5,2,   112.39,2,    31.59,2,     0.00,2,     2.18,2, -999.000,9, -999.000,9, -999.000,5,-999.0000,5,  -999.00,9,   -999.0,9,  -999.00,9,-999.000,9,   -999.0,9,   -999.0,9,  -999.0, -999.00,-999.0000,-999.000,-999.000
     316N145_5,  I09S,   139,  1,      7, SIH009,2,19950116,2056,-37.0028, 115.0112, 5155,37388.8,   3755.5,   1.2600,  34.7228,2,  34.7213,2,    195.7,2,  0.9735,    198.2,2,   117.29,2,    31.78,2,     0.00,2,     2.20,2, -999.000,9, -999.000,9, -999.000,5,-999.0000,5,  -999.00,9,   -999.0,9,  -999.00,9,-999.000,9,   -999.0,9,   -999.0,9,  -999.0, -999.00,-999.0000,-999.000,-999.000
     316N145_5,  I09S,   139,  1,      6, SIH038,2,19950116,2056,-37.0028, 115.0112, 5155,40494.7,   4067.9,   1.1470,  34.7172,2,  34.7158,2,    200.1,2,  0.8305,    201.4,2,   119.83,2,    31.98,2,     0.00,2,     2.20,2,    0.007,2,    0.011,2, -999.000,5,-999.0000,5,  -999.00,9,   -999.0,9,  -999.00,9,-999.000,9,   -999.0,9,   -999.0,9,  -999.0, -999.00,-999.0000,-999.000,-999.000
     316N145_5,  I09S,   139,  1,      5, SIH006,2,19950116,2056,-37.0028, 115.0112, 5155,43552.3,   4375.5,   1.0207,  34.7119,2,  34.7113,2,    204.9,2,  0.6743,    205.4,2,   121.59,2,    31.99,2,     0.00,2,     2.20,2, -999.000,9, -999.000,9, -999.000,5,-999.0000,5,  -999.00,9,   -999.0,9,  -999.00,9,-999.000,9,   -999.0,9,   -999.0,9,  -999.0, -999.00,-999.0000,-999.000,-999.000
     316N145_5,  I09S,   139,  1,      4, SIH004,2,19950116,2056,-37.0028, 115.0112, 5155,46653.7,   4687.4,   0.9276,  34.7060,2,  34.7066,2,    209.6,2,  0.5490,    207.7,2,   123.53,2,    31.97,2,     0.00,2,     2.20,2,    0.015,2,    0.015,2, -999.000,5,-999.0000,5,  -999.00,9,   -999.0,9,  -999.00,9,-999.000,9,   -999.0,9,   -999.0,9,  -999.0, -999.00,-999.0000,-999.000,-999.000
     316N145_5,  I09S,   139,  1,      3, SIH025,2,19950116,2056,-37.0028, 115.0112, 5155,49190.9,   4942.7,   0.9174,  34.7057,2,  34.7046,2,    211.7,2,  0.5095,    208.0,2,   124.27,2,    32.05,2,     0.00,2,     2.21,2, -999.000,9, -999.000,9, -999.000,5,-999.0000,5,  -999.00,9,   -999.0,9,  -999.00,9,-999.000,9,   -999.0,9,   -999.0,9,  -999.0, -999.00,-999.0000,-999.000,-999.000
     316N145_5,  I09S,   139,  1,      2, SIH001,2,19950116,2056,-37.0028, 115.0112, 5155,52037.2,   5229.0,   0.9291,  34.7047,2,  34.7028,2,    214.8,2,  0.4866,    208.6,2,   124.76,2,    32.09,2,     0.00,2,     2.21,2,    0.015,2,    0.017,2, -999.000,5,-999.0000,5,  -999.00,9,   -999.0,9,  -999.00,9,-999.000,9,   -999.0,9,   -999.0,9,  -999.0, -999.00,-999.0000,-999.000,-999.000
     316N145_5,  I09S,   139,  1,      1, SIH036,2,19950116,2056,-37.0028, 115.0112, 5155,52526.3,   5278.2,   0.9364,  34.7040,2,  34.7011,2,    215.1,2,  0.4876,    208.8,2,   124.68,2,    32.09,2,     0.00,2,     2.21,2,    0.014,2,    0.015,2, -999.000,5,-999.0000,5,  -999.00,9,   -999.0,9,  -999.00,9,-999.000,9,   -999.0,9,   -999.0,9,  -999.0, -999.00,-999.0000,-999.000,-999.000