BOTTLE,20090521WHPSIOdm
EXPOCODE,SECT_ID,STNNBR,CASTNO,SAMPNO,BTLNBR,BTLNBR_FLAG_W,DATE,TIME,LATITUDE,LONGITUDE,DEPTH,CTDRAW,CTDPRS,CTDTMP,CTDSAL,CTDSAL_FLAG_W,SALNTY,SALNTY_FLAG_W,CTDOXY,CTDOXY_FLAG_W,THETA,OXYGEN,OXYGEN_FLAG_W,SILCAT,SILCAT_FLAG_W,NITRAT,NITRAT_FLAG_W,NITRIT,NITRIT_FLAG_W,PHSPHT,PHSPHT_FLAG_W,CFC-11,CFC-11_FLAG_W,CFC-12,CFC-12_FLAG_W,TRITUM,TRITUM_FLAG_W,HELIUM,HELIUM_FLAG_W,DELHE3,DELHE3_FLAG_W,DELC14,DELC14_FLAG_W,DELC13,DELC13_FLAG_W,NEON,NEON_FLAG_W,TCARBN,TCARBN_FLAG_W,ALKALI,ALKALI_FLAG_W,C14ERR,DELHER,HELIER,NEONER,TRITER
,,,,,,,,,,,,,DBAR,IPTS-68,PSS-78,,PSS-78,,UMOL/KG,,IPTS-68,UMOL/KG,,UMOL/KG,,UMOL/KG,,UMOL/KG,,UMOL/KG,,PMOL/KG,,PMOL/KG,,TU,,NMOL/KG,,PERCNT,,/MILLE,,/MILLE,,NMOL/KG,,UMOL/KG,,UMOL/KG,,/MILLE,PERCNT,NMOL/KG,NMOL/KG,TU
     316N145_5,  I09S,    92,  1,     36, SIH035,7,19950103,1632,-62.0138, 114.9972, 4255,  161.1,     10.9,   0.3972,  33.8375,3,-999.0000,9,    345.5,3,  0.3968,   -999.0,9,  -999.00,9,  -999.00,9,  -999.00,9,  -999.00,9, -999.000,9, -999.000,9, -999.000,5,-999.0000,5,  -999.00,9,   -999.0,9,  -999.00,9,-999.000,9,   -999.0,9,   -999.0,9,  -999.0, -999.00,-999.0000,-999.000,-999.000
     316N145_5,  I09S,    92,  1,     35, SIH032,2,19950103,1632,-62.0138, 114.9972, 4255,  352.0,     30.1,   0.4115,  33.8424,2,  33.8467,2,    347.2,2,  0.4104,    344.7,2,    40.81,2,    26.32,2,     0.25,2,     1.84,2,    6.832,2,    3.243,2,    0.000,5,   1.7580,4,    -1.81,2,    -88.7,2,  -999.00,9,   7.926,2,   2158.2,6,   2289.4,2,     3.8,   20.18,  0.0070,   0.031,   0.000
     316N145_5,  I09S,    92,  1,     34, SIH029,2,19950103,1632,-62.0138, 114.9972, 4255,  611.6,     56.2,  -0.7966,  33.9507,2,  33.9561,2,    349.7,2, -0.7981,    351.8,2,    36.63,2,    26.90,2,     0.18,2,     1.89,2,    6.906,2,    3.285,2,    0.000,5,   1.7870,4,    -1.65,2,   -115.4,2,     0.49,2,   8.108,2,   2164.8,2,   2311.2,3,     4.6,   30.13,  0.0030,   0.036,   0.000
     316N145_5,  I09S,    92,  1,     33, SIH026,2,19950103,1632,-62.0138, 114.9972, 4255,  859.8,     81.2,  -1.0170,  34.0320,2,  34.0356,2,    333.6,2, -1.0191,    333.8,2,    42.67,2,    28.20,2,     0.16,2,     1.98,2,    6.240,6,    2.981,6, -999.000,5,-999.0000,5,  -999.00,9,   -125.8,2,     0.05,2,-999.000,9,   2177.4,2,   -999.0,9,     3.0, -999.00,-999.0000,-999.000,-999.000
     316N145_5,  I09S,    92,  1,     32, SIH023,2,19950103,1632,-62.0138, 114.9972, 4255, 1108.1,    106.2,   0.4500,  34.2911,2,  34.2915,2,    242.4,2,  0.4458,    247.4,2,    59.85,2,    32.02,2,     0.15,2,     2.26,2,    3.433,2,    1.616,2,    0.000,5,   1.8170,2,     3.18,2,   -153.9,2,    -0.17,2,   8.057,2,   2220.2,2,   2319.6,2,     6.4,    0.17,  0.0080,   0.031,   0.000
     316N145_5,  I09S,    92,  1,     31, SIH020,2,19950103,1632,-62.0138, 114.9972, 4255, 1616.8,    157.3,   1.7865,  34.5455,2,  34.5466,2,    177.1,2,  1.7785,    181.1,2,    74.68,2,    33.82,2,     0.01,2,     2.36,2,    0.984,2,    0.465,2, -999.000,5,-999.0000,5,  -999.00,9,   -144.4,2,     0.29,2,-999.000,9,   2251.2,2,   2334.7,2,     4.9, -999.00,-999.0000,-999.000,-999.000
     316N145_5,  I09S,    92,  1,     30, SIH017,2,19950103,1632,-62.0138, 114.9972, 4255, 2114.7,    207.4,   1.9153,  34.6011,2,  34.6058,2,    172.7,2,  1.9043,    176.6,2,    77.47,2,    33.72,2,     0.00,2,     2.32,2,    0.642,2,    0.289,2,    0.000,5,   1.8620,2,     7.83,2,   -144.9,2,     0.32,2,   8.129,2,   2253.0,2,   2343.4,2,     4.2,    0.12,  0.0050,   0.039,   0.000
     316N145_5,  I09S,    92,  1,     29, SIH014,2,19950103,1632,-62.0138, 114.9972, 4255, 2626.6,    258.9,   1.9666,  34.6357,2,  34.6435,4,    174.7,2,  1.9527,    176.4,2,    79.16,2,    33.09,2,     0.00,2,     2.28,2,    0.473,2,    0.213,2, -999.000,5,-999.0000,5,  -999.00,9,   -150.5,2,     0.29,2,-999.000,9,   2253.1,2,   2343.6,2,     3.6, -999.00,-999.0000,-999.000,-999.000
     316N145_5,  I09S,    92,  1,     28, SIH011,2,19950103,1632,-62.0138, 114.9972, 4255, 3115.3,    308.1,   1.9874,  34.6640,2,  34.6671,2,    175.8,2,  1.9706,    178.4,2,    80.24,2,    32.52,2,     0.00,2,     2.24,2,    0.361,2,    0.161,2,    0.000,5,   1.8240,2,     8.85,2,   -158.4,2,     0.40,2,   7.993,2,   2251.5,2,   2331.8,2,     4.4,    0.17,  0.0080,   0.031,   0.000
     316N145_5,  I09S,    92,  1,     27, SIH008,2,19950103,1632,-62.0138, 114.9972, 4255, 3615.8,    358.4,   1.9449,  34.6773,2,  34.6820,2,    177.8,2,  1.9254,    180.1,2,    81.17,2,    32.18,2,     0.00,2,     2.22,2, -999.000,9, -999.000,9, -999.000,5,-999.0000,5,  -999.00,9,   -154.4,2,     0.28,2,-999.000,9,   2250.9,2,   2349.9,2,     3.0, -999.00,-999.0000,-999.000,-999.000
     316N145_5,  I09S,    92,  1,     26, SIH005,2,19950103,1632,-62.0138, 114.9972, 4255, 4112.2,    408.3,   1.9155,  34.6894,2,  34.6950,3,    179.4,2,  1.8932,    182.7,2,    81.94,2,    31.96,2,     0.00,2,     2.20,2,    0.333,2,    0.156,2,    0.000,5,   1.8780,2,     8.67,2,   -159.9,2,     0.23,2,   8.199,2,   -999.0,9,   2345.7,2,     4.0,    0.12,  0.0030,   0.032,   0.000
     316N145_5,  I09S,    92,  1,     25, SIH019,2,19950103,1632,-62.0138, 114.9972, 4255, 4608.1,    458.2,   1.8794,  34.6989,2,  34.7017,2,    182.9,2,  1.8542,    184.5,2,    83.18,2,    31.57,2,     0.00,2,     2.18,2,    0.296,2,    0.134,2, -999.000,5,-999.0000,5,  -999.00,9,   -149.2,2,     0.37,2,-999.000,9,   2250.2,2,   -999.0,9,     3.3, -999.00,-999.0000,-999.000,-999.000
     316N145_5,  I09S,    92,  1,     24, SIH037,2,19950103,1632,-62.0138, 114.9972, 4255, 5113.0,    509.0,   1.8730,  34.7090,2,  34.7107,2,    183.2,2,  1.8448,    185.7,2,    83.48,2,    31.53,2,     0.00,2,     2.16,2,    0.258,2,    0.119,2,    0.000,5,   1.8810,2,     9.07,2,   -149.7,2,     0.35,2,   8.160,2,   2249.2,2,   2342.3,2,     3.5,    0.17,  0.0080,   0.032,   0.000
     316N145_5,  I09S,    92,  1,     23, SIH033,2,19950103,1632,-62.0138, 114.9972, 4255, 6105.1,    608.8,   1.8009,  34.7209,2,  34.7229,2,    188.5,2,  1.7671,    188.8,2,    85.34,2,    31.32,2,     0.00,2,     2.14,2,    0.237,2,    0.102,2,    0.000,5,   1.8150,3,     9.02,2,   -144.7,2,     0.48,2,   7.875,3,   2248.3,2,   -999.0,9,     3.8,    0.12,  0.0030,   0.052,   0.000
     316N145_5,  I09S,    92,  1,     22, SIH031,2,19950103,1632,-62.0138, 114.9972, 4255, 7116.6,    710.5,   1.7416,  34.7318,2,  34.7380,4,    191.4,2,  1.7018,    192.5,2,    87.34,2,    30.98,2,     0.00,2,     2.11,2,    0.175,2,    0.085,2, -999.000,5,-999.0000,5,  -999.00,9,   -143.7,2,     0.47,2,-999.000,9,   2248.0,2,   2348.2,2,     3.0, -999.00,-999.0000,-999.000,-999.000
     316N145_5,  I09S,    92,  1,     21, SIH030,2,19950103,1632,-62.0138, 114.9972, 4255, 8100.3,    809.5,   1.6629,  34.7368,2,  34.7402,2,    193.8,2,  1.6174,    194.9,2,    89.50,2,    30.71,2,     0.00,2,     2.10,2,    0.151,2,    0.065,2,    0.000,5,   1.8880,2,     8.97,2,   -144.5,2,     0.50,2,   8.217,2,   2246.4,2,   2342.7,2,     3.1,    0.14,  0.0040,   0.029,   0.000
     316N145_5,  I09S,    92,  1,     20, SIH028,2,19950103,1632,-62.0138, 114.9972, 4255, 9115.0,    911.5,   1.5899,  34.7365,2,  34.7425,4,    194.5,2,  1.5384,    196.5,2,    91.50,2,    30.55,2,     0.00,2,     2.10,2,    0.148,2,    0.066,2, -999.000,5,-999.0000,5,  -999.00,9,   -149.9,2,     0.55,2,-999.000,9,   2248.3,2,   -999.0,9,     3.0, -999.00,-999.0000,-999.000,-999.000
     316N145_5,  I09S,    92,  1,     19, SIH027,2,19950103,1632,-62.0138, 114.9972, 4255,10107.8,   1011.4,   1.5076,  34.7364,2,  34.7410,2,    196.2,2,  1.4504,    198.1,2,    93.82,2,    30.57,2,     0.00,2,     2.10,2,    0.134,2,    0.059,2,    0.000,5,   1.8610,2,     9.00,2,   -154.7,2,     0.42,2,   8.047,2,   2249.6,2,   2361.1,2,     3.9,    0.12,  0.0040,   0.034,   0.000
     316N145_5,  I09S,    92,  1,     18, SIH003,2,19950103,1632,-62.0138, 114.9972, 4255,11163.2,   1117.6,   1.4144,  34.7355,2,  34.7490,4,    197.4,2,  1.3509,    199.1,3,    96.60,2,    30.58,2,     0.00,2,     2.10,2,    0.124,2,    0.052,2, -999.000,5,-999.0000,5,  -999.00,9,   -152.2,2,     0.42,2,-999.000,9,   2249.6,6,   2346.5,2,     3.1, -999.00,-999.0000,-999.000,-999.000
     316N145_5,  I09S,    92,  1,     17, SIH024,2,19950103,1632,-62.0138, 114.9972, 4255,12190.7,   1220.9,   1.3275,  34.7325,2,  34.7380,4,    198.4,2,  1.2580,    201.0,2,    99.54,2,    31.10,2,     0.00,2,     2.11,2,    0.112,2,    0.046,2,    0.000,5,   1.9050,2,     8.65,2,   -176.5,2,     0.42,2,   8.221,2,   2251.0,2,   2358.2,2,     3.2,    0.14,  0.0040,   0.029,   0.000
     316N145_5,  I09S,    92,  1,     16, SIH022,2,19950103,1632,-62.0138, 114.9972, 4255,14219.4,   1425.0,   1.1514,  34.7248,2,  34.7335,4,    200.0,2,  1.0699,    203.0,2,   104.78,2,    31.45,2,     0.00,2,     2.13,2,    0.095,2,    0.042,2,    0.000,5,   1.8620,2,     8.91,2,   -153.3,2,     0.38,2,   8.053,2,   2255.7,2,   2345.5,3,     4.6,    0.12,  0.0040,   0.034,   0.000
     316N145_5,  I09S,    92,  1,     15, SIH021,2,19950103,1632,-62.0138, 114.9972, 4255,16254.6,   1629.7,   0.9778,  34.7167,2,  34.7201,2,    200.7,2,  0.8840,    204.8,2,   109.88,2,    31.57,2,     0.00,2,     2.16,2,    0.101,2,    0.043,2,    0.000,5,   1.9030,2,     8.53,2,   -999.0,9,  -999.00,9,   8.310,2,   2254.5,2,   2360.4,2,  -999.0,    0.14,  0.0040,   0.029,   0.000
     316N145_5,  I09S,    92,  1,     14, SIH002,2,19950103,1632,-62.0138, 114.9972, 4255,18274.3,   1832.8,   0.8345,  34.7088,2,  34.7107,2,    202.9,2,  0.7281,    206.2,2,   114.19,2,    31.80,2,     0.00,2,     2.17,2,    0.092,2,    0.048,2,    0.000,5,   1.8670,2,     8.45,2,   -999.0,9,  -999.00,9,   8.140,2,   2257.2,2,   2359.5,2,  -999.0,    0.12,  0.0040,   0.034,   0.000
     316N145_5,  I09S,    92,  1,     13, SIH018,2,19950103,1632,-62.0138, 114.9972, 4255,20197.5,   2026.3,   0.6709,  34.7013,2,  34.7028,2,    203.2,2,  0.5526,    208.1,2,   118.82,2,    32.09,2,     0.00,2,     2.20,2, -999.000,9, -999.000,9,    0.000,5,   1.8910,2,     8.13,2,   -999.0,9,  -999.00,9,   8.205,2,   2258.5,2,   2355.5,2,  -999.0,    0.12,  0.0040,   0.035,   0.000
     316N145_5,  I09S,    92,  1,     12, SIH016,2,19950103,1632,-62.0138, 114.9972, 4255,22159.3,   2223.6,   0.5275,  34.6945,2,  34.6971,2,    207.3,2,  0.3966,    210.8,2,   121.90,2,    32.25,2,     0.00,2,     2.21,2,    0.105,2,    0.050,2,    0.000,5,   2.0630,4,     7.80,2,   -999.0,9,  -999.00,9,   8.688,4,   2258.6,2,   2352.9,2,  -999.0,    0.13,  0.0040,   0.025,   0.000
     316N145_5,  I09S,    92,  1,     11, SIH015,2,19950103,1632,-62.0138, 114.9972, 4255,24223.0,   2431.2,   0.4035,  34.6892,2,  34.6973,4,    206.8,2,  0.2586,    214.3,2,   124.22,2,    32.37,2,     0.00,2,     2.22,2,    0.141,2,    0.065,2,    0.000,5,   1.8860,2,     7.56,2,   -999.0,9,  -999.00,9,   8.222,2,   2258.9,2,   2368.8,2,  -999.0,    0.14,  0.0040,   0.029,   0.000
     316N145_5,  I09S,    92,  1,     10, SIH013,2,19950103,1632,-62.0138, 114.9972, 4255,27307.9,   2741.5,   0.2439,  34.6835,2,  34.6846,2,    213.7,2,  0.0769,    219.1,2,   126.83,2,    32.37,2,     0.00,2,     2.22,2,    0.214,2,    0.101,2,    0.000,5,   1.8790,2,     7.10,2,   -999.0,9,  -999.00,9,   8.190,2,   2257.5,2,   2354.7,2,  -999.0,    0.12,  0.0040,   0.035,   0.000
     316N145_5,  I09S,    92,  1,      9, SIH012,2,19950103,1632,-62.0138, 114.9972, 4255,29353.5,   2947.3,   0.1597,  34.6792,2,  34.6802,2,    216.4,2, -0.0228,    222.2,2,   127.76,2,    32.43,2,     0.00,2,     2.22,2,    0.283,2,    0.134,2, -999.000,5,-999.0000,5,  -999.00,9,   -999.0,9,  -999.00,9,-999.000,9,   2256.8,2,   2361.8,2,  -999.0, -999.00,-999.0000,-999.000,-999.000
     316N145_5,  I09S,    92,  1,      8, SIH010,2,19950103,1632,-62.0138, 114.9972, 4255,31412.0,   3154.3,   0.0857,  34.6776,2,  34.6838,4,    219.2,2, -0.1131,    225.5,2,   128.06,2,    32.37,2,     0.00,2,     2.21,2, -999.000,9, -999.000,9,    0.000,5,   1.8830,2,     6.70,2,   -999.0,9,  -999.00,9,   8.312,2,   2255.5,2,   2365.7,2,  -999.0,    0.14,  0.0040,   0.028,   0.000
     316N145_5,  I09S,    92,  1,      7, SIH009,2,19950103,1632,-62.0138, 114.9972, 4255,33610.9,   3375.5,   0.0107,  34.6750,2,  34.6753,2,    223.7,2, -0.2061,    228.6,2,   126.51,2,    32.31,2,     0.00,2,     2.21,2,    0.521,2,    0.245,2, -999.000,5,-999.0000,5,  -999.00,9,   -999.0,9,  -999.00,9,-999.000,9,   2254.6,2,   2350.2,2,  -999.0, -999.00,-999.0000,-999.000,-999.000
     316N145_5,  I09S,    92,  1,      6, SIH038,2,19950103,1632,-62.0138, 114.9972, 4255,35511.9,   3566.8,  -0.0390,  34.6743,2,  34.6739,2,    226.8,2, -0.2721,    230.9,2,   127.43,2,    32.16,2,     0.00,2,     2.21,2,    0.600,2,    0.281,2,    0.000,5,   1.8820,2,     6.20,2,   -999.0,9,  -999.00,9,   8.199,2,   2254.6,2,   -999.0,9,  -999.0,    0.12,  0.0040,   0.035,   0.000
     316N145_5,  I09S,    92,  1,      5, SIH006,2,19950103,1632,-62.0138, 114.9972, 4255,37532.0,   3770.0,  -0.0734,  34.6731,2,  34.6893,4,    229.0,2, -0.3250,    233.1,2,   125.88,2,    32.10,2,     0.00,2,     2.21,2,    0.756,6,    0.352,6, -999.000,5,-999.0000,5,  -999.00,9,   -999.0,9,  -999.00,9,-999.000,9,   2254.2,2,   2357.3,2,  -999.0, -999.00,-999.0000,-999.000,-999.000
     316N145_5,  I09S,    92,  1,      4, SIH004,2,19950103,1632,-62.0138, 114.9972, 4255,39562.5,   3974.2,  -0.1178,  34.6711,2,  34.6730,2,    233.5,2, -0.3880,    235.7,2,   123.25,2,    32.04,2,     0.00,2,     2.20,2, -999.000,9, -999.000,9,    0.000,5,   2.0060,4,     5.76,2,   -999.0,9,  -999.00,9,   8.697,4,   2253.7,2,   2351.8,2,  -999.0,    0.13,  0.0040,   0.025,   0.000
     316N145_5,  I09S,    92,  1,      3, SIH025,2,19950103,1632,-62.0138, 114.9972, 4255,41102.2,   4129.1,  -0.1546,  34.6685,2,  34.6708,2,    236.9,2, -0.4392,    237.8,2,   116.76,2,    31.88,2,     0.00,2,     2.19,2,    1.428,2,    0.667,2,    0.000,5,   1.9060,2,     5.70,2,   -999.0,9,  -999.00,9,   8.313,2,   2251.9,2,   2392.9,3,  -999.0,    0.12,  0.0040,   0.035,   0.000
     316N145_5,  I09S,    92,  1,      2, SIH001,2,19950103,1632,-62.0138, 114.9972, 4255,42110.2,   4230.5,  -0.1902,  34.6680,2,  34.6692,2,    238.5,2, -0.4840,    239.0,2,   121.78,2,    31.93,2,     0.00,2,     2.20,2,    1.641,2,    0.758,2,    0.000,5,   1.8720,2,     5.38,2,   -999.0,9,  -999.00,9,   8.216,2,   2237.1,2,   2355.2,2,  -999.0,    0.14,  0.0040,   0.028,   0.000
     316N145_5,  I09S,    92,  1,      1, SIH036,2,19950103,1632,-62.0138, 114.9972, 4255,42630.8,   4282.8,  -0.1868,  34.6665,2,  34.6679,2,    237.8,2, -0.4861,    239.4,2,   122.26,2,    31.84,2,     0.00,2,     2.19,2,    1.630,2,    0.752,2,    0.000,5,   1.9400,3,     5.26,2,   -999.0,9,  -999.00,9,   8.454,3,   2253.9,6,   2371.8,3,  -999.0,    0.12,  0.0040,   0.035,   0.000