BOTTLE,20090521WHPSIOdm
EXPOCODE,SECT_ID,STNNBR,CASTNO,SAMPNO,BTLNBR,BTLNBR_FLAG_W,DATE,TIME,LATITUDE,LONGITUDE,DEPTH,CTDRAW,CTDPRS,CTDTMP,CTDSAL,CTDSAL_FLAG_W,SALNTY,SALNTY_FLAG_W,CTDOXY,CTDOXY_FLAG_W,THETA,OXYGEN,OXYGEN_FLAG_W,SILCAT,SILCAT_FLAG_W,NITRAT,NITRAT_FLAG_W,NITRIT,NITRIT_FLAG_W,PHSPHT,PHSPHT_FLAG_W,CFC-11,CFC-11_FLAG_W,CFC-12,CFC-12_FLAG_W,TRITUM,TRITUM_FLAG_W,HELIUM,HELIUM_FLAG_W,DELHE3,DELHE3_FLAG_W,DELC14,DELC14_FLAG_W,DELC13,DELC13_FLAG_W,NEON,NEON_FLAG_W,TCARBN,TCARBN_FLAG_W,ALKALI,ALKALI_FLAG_W,C14ERR,DELHER,HELIER,NEONER,TRITER
,,,,,,,,,,,,,DBAR,IPTS-68,PSS-78,,PSS-78,,UMOL/KG,,IPTS-68,UMOL/KG,,UMOL/KG,,UMOL/KG,,UMOL/KG,,UMOL/KG,,PMOL/KG,,PMOL/KG,,TU,,NMOL/KG,,PERCNT,,/MILLE,,/MILLE,,NMOL/KG,,UMOL/KG,,UMOL/KG,,/MILLE,PERCNT,NMOL/KG,NMOL/KG,TU
     316N145_5,  I09S,   135,  1,     36, SI9446,2,19950115,1831,-39.1083, 114.9972, 4685,  189.6,     13.8,  16.0527,  35.1132,2,  35.1136,2,    263.1,2, 16.0505,    254.2,2,     0.12,2,     2.49,2,     0.06,2,     0.35,2,    2.966,2,    1.579,2, -999.000,5,-999.0000,5,  -999.00,9,   -999.0,9,  -999.00,9,-999.000,9,   -999.0,9,   -999.0,9,  -999.0, -999.00,-999.0000,-999.000,-999.000
     316N145_5,  I09S,   135,  1,     35, SIH032,2,19950115,1831,-39.1083, 114.9972, 4685,  386.5,     33.6,  15.0681,  35.0983,2,  35.0892,2,    272.7,2, 15.0630,    264.2,2,     0.28,2,     2.76,2,     0.08,2,     0.37,2,    3.108,2,    1.610,2, -999.000,5,-999.0000,5,  -999.00,9,   -999.0,9,  -999.00,9,-999.000,9,   -999.0,9,   -999.0,9,  -999.0, -999.00,-999.0000,-999.000,-999.000
     316N145_5,  I09S,   135,  1,     34, SIH029,2,19950115,1831,-39.1083, 114.9972, 4685,  640.2,     59.1,  13.6905,  35.1169,2,  35.1526,2,    268.3,2, 13.6821,    260.8,2,     0.61,2,     3.18,2,     0.16,2,     0.42,2,    3.204,2,    1.711,2, -999.000,5,-999.0000,5,  -999.00,9,   -999.0,9,  -999.00,9,-999.000,9,   -999.0,9,   -999.0,9,  -999.0, -999.00,-999.0000,-999.000,-999.000
     316N145_5,  I09S,   135,  1,     33, SIH026,2,19950115,1831,-39.1083, 114.9972, 4685,  883.1,     83.5,  13.3218,  35.3159,2,  35.3210,2,    249.0,2, 13.3101,    249.1,2,     0.77,2,     2.82,2,     0.51,2,     0.40,2,    3.164,6,    1.677,6, -999.000,5,-999.0000,5,  -999.00,9,   -999.0,9,  -999.00,9,-999.000,9,   -999.0,9,   -999.0,9,  -999.0, -999.00,-999.0000,-999.000,-999.000
     316N145_5,  I09S,   135,  1,     32, SIH023,2,19950115,1831,-39.1083, 114.9972, 4685, 1137.5,    109.1,  12.9333,  35.2493,2,  35.2530,2,    251.6,2, 12.9184,    248.4,2,     1.09,2,     4.28,2,     0.09,2,     0.47,2,    3.228,2,    1.686,2, -999.000,5,-999.0000,5,  -999.00,9,   -999.0,9,  -999.00,9,-999.000,9,   -999.0,9,   -999.0,9,  -999.0, -999.00,-999.0000,-999.000,-999.000
     316N145_5,  I09S,   135,  1,     31, SIH020,2,19950115,1831,-39.1083, 114.9972, 4685, 1634.6,    159.1,  11.9725,  35.0943,2,  35.0903,2,    249.9,2, 11.9518,    249.3,2,     1.74,2,     6.57,2,     0.02,2,     0.61,2,    3.375,2,    1.783,2, -999.000,5,-999.0000,5,  -999.00,9,   -999.0,9,  -999.00,9,-999.000,9,   -999.0,9,   -999.0,9,  -999.0, -999.00,-999.0000,-999.000,-999.000
     316N145_5,  I09S,   135,  1,     30, SIH017,2,19950115,1831,-39.1083, 114.9972, 4685, 2127.2,    208.6,  11.0760,  34.9393,2,  34.9347,2,    258.5,2, 11.0502,    253.8,2,     2.22,2,     8.65,2,     0.01,2,     0.73,2,    3.481,2,    1.794,2, -999.000,5,-999.0000,5,  -999.00,9,   -999.0,9,  -999.00,9,-999.000,9,   -999.0,9,   -999.0,9,  -999.0, -999.00,-999.0000,-999.000,-999.000
     316N145_5,  I09S,   135,  1,     29, SIH014,2,19950115,1831,-39.1083, 114.9972, 4685, 2634.5,    259.6,  10.5848,  34.8726,2,  34.8694,2,    240.2,2, 10.5535,    247.7,2,     2.71,2,    10.47,2,     0.01,2,     0.84,2,    3.486,2,    1.799,2, -999.000,5,-999.0000,5,  -999.00,9,   -999.0,9,  -999.00,9,-999.000,9,   -999.0,9,   -999.0,9,  -999.0, -999.00,-999.0000,-999.000,-999.000
     316N145_5,  I09S,   135,  1,     28, SIH011,2,19950115,1831,-39.1083, 114.9972, 4685, 3133.5,    309.8,  10.2474,  34.8209,2,  34.8202,2,    243.3,2, 10.2108,    246.1,2,     3.19,2,    11.68,2,     0.01,2,     0.92,2, -999.000,9, -999.000,9, -999.000,5,-999.0000,5,  -999.00,9,   -999.0,9,  -999.00,9,-999.000,9,   -999.0,9,   -999.0,9,  -999.0, -999.00,-999.0000,-999.000,-999.000
     316N145_5,  I09S,   135,  1,     27, SIH008,2,19950115,1831,-39.1083, 114.9972, 4685, 3636.8,    360.4,   9.9057,  34.7673,2,  34.7673,2,    245.9,2,  9.8639,    245.9,2,     3.67,2,    12.85,2,     0.01,2,     0.99,2,    3.508,2,    1.748,2, -999.000,5,-999.0000,5,  -999.00,9,   -999.0,9,  -999.00,9,-999.000,9,   -999.0,9,   -999.0,9,  -999.0, -999.00,-999.0000,-999.000,-999.000
     316N145_5,  I09S,   135,  1,     26, SIH005,2,19950115,1831,-39.1083, 114.9972, 4685, 4138.9,    410.9,   9.6776,  34.7307,2,  34.7311,2,    252.1,2,  9.6305,    245.5,2,     4.00,2,    13.83,2,     0.00,2,     1.04,2,    3.414,6,    1.719,6, -999.000,5,-999.0000,5,  -999.00,9,   -999.0,9,  -999.00,9,-999.000,9,   -999.0,9,   -999.0,9,  -999.0, -999.00,-999.0000,-999.000,-999.000
     316N145_5,  I09S,   135,  1,     25, SIH019,2,19950115,1831,-39.1083, 114.9972, 4685, 4641.4,    461.5,   9.4624,  34.6978,2,  34.6981,2,    249.3,2,  9.4101,    246.2,2,     4.32,2,    14.53,2,     0.01,2,     1.08,2,    3.409,2,    1.721,2, -999.000,5,-999.0000,5,  -999.00,9,   -999.0,9,  -999.00,9,-999.000,9,   -999.0,9,   -999.0,9,  -999.0, -999.00,-999.0000,-999.000,-999.000
     316N145_5,  I09S,   135,  1,     24, SIH037,2,19950115,1831,-39.1083, 114.9972, 4685, 5142.1,    511.8,   9.3323,  34.6793,2,  34.6777,2,    246.0,2,  9.2747,    244.2,2,     4.64,2,    15.17,2,     0.00,2,     1.12,2,    3.327,2,    1.677,2, -999.000,5,-999.0000,5,  -999.00,9,   -999.0,9,  -999.00,9,-999.000,9,   -999.0,9,   -999.0,9,  -999.0, -999.00,-999.0000,-999.000,-999.000
     316N145_5,  I09S,   135,  1,     23, SIH033,2,19950115,1831,-39.1083, 114.9972, 4685, 6136.4,    611.8,   9.0446,  34.6421,2,  34.6399,2,    238.2,2,  8.9767,    237.7,2,     5.44,2,    16.81,2,     0.00,2,     1.22,2,    3.080,2,    1.533,2, -999.000,5,-999.0000,5,  -999.00,9,   -999.0,9,  -999.00,9,-999.000,9,   -999.0,9,   -999.0,9,  -999.0, -999.00,-999.0000,-999.000,-999.000
     316N145_5,  I09S,   135,  1,     22, SIH031,2,19950115,1831,-39.1083, 114.9972, 4685, 7141.1,    712.8,   8.3953,  34.5659,2,  34.5653,2,    225.8,2,  8.3191,    225.0,2,     8.00,2,    19.69,2,     0.00,2,     1.40,2,    2.393,2,    1.217,2, -999.000,5,-999.0000,5,  -999.00,9,   -999.0,9,  -999.00,9,-999.000,9,   -999.0,9,   -999.0,9,  -999.0, -999.00,-999.0000,-999.000,-999.000
     316N145_5,  I09S,   135,  1,     21, SIH030,2,19950115,1831,-39.1083, 114.9972, 4685, 8130.2,    812.3,   7.4955,  34.4941,2,  34.4958,2,    206.2,2,  7.4137,    206.3,2,    13.25,2,    23.48,2,     0.00,2,     1.62,2,    1.614,2,    0.811,2, -999.000,5,-999.0000,5,  -999.00,9,   -999.0,9,  -999.00,9,-999.000,9,   -999.0,9,   -999.0,9,  -999.0, -999.00,-999.0000,-999.000,-999.000
     316N145_5,  I09S,   135,  1,     20, SIH028,2,19950115,1831,-39.1083, 114.9972, 4685, 9138.8,    913.7,   6.2092,  34.4293,2,  34.4332,2,    199.6,2,  6.1254,    195.3,2,    21.75,2,    28.00,2,     0.00,2,     1.87,2,    0.941,2,    0.469,2, -999.000,5,-999.0000,5,  -999.00,9,   -999.0,9,  -999.00,9,-999.000,9,   -999.0,9,   -999.0,9,  -999.0, -999.00,-999.0000,-999.000,-999.000
     316N145_5,  I09S,   135,  1,     19, SIH027,2,19950115,1831,-39.1083, 114.9972, 4685,10128.7,   1013.3,   5.1197,  34.3859,2,  34.3884,2,    194.7,2,  5.0345,    194.9,2,    30.02,2,    30.31,2,     0.00,2,     2.02,2,    0.690,2,    0.348,2, -999.000,5,-999.0000,5,  -999.00,9,   -999.0,9,  -999.00,9,-999.000,9,   -999.0,9,   -999.0,9,  -999.0, -999.00,-999.0000,-999.000,-999.000
     316N145_5,  I09S,   135,  1,     18, SIH003,2,19950115,1831,-39.1083, 114.9972, 4685,11136.1,   1114.6,   4.2256,  34.3680,2,  34.3694,2,    192.9,2,  4.1387,    195.6,2,    38.13,2,    31.93,2,     0.00,2,     2.14,2,    0.608,2,    0.319,2, -999.000,5,-999.0000,5,  -999.00,9,   -999.0,9,  -999.00,9,-999.000,9,   -999.0,9,   -999.0,9,  -999.0, -999.00,-999.0000,-999.000,-999.000
     316N145_5,  I09S,   135,  1,     17, SIH024,2,19950115,1831,-39.1083, 114.9972, 4685,12173.4,   1219.0,   3.7811,  34.3972,2,  34.3955,2,    183.8,2,  3.6891,    185.9,2,    47.19,2,    33.01,2,     0.00,2,     2.24,2,    0.371,2,    0.191,2, -999.000,5,-999.0000,5,  -999.00,9,   -999.0,9,  -999.00,9,-999.000,9,   -999.0,9,   -999.0,9,  -999.0, -999.00,-999.0000,-999.000,-999.000
     316N145_5,  I09S,   135,  1,     16, SIH022,2,19950115,1831,-39.1083, 114.9972, 4685,14186.5,   1421.4,   3.1064,  34.4805,2,  34.4815,2,    171.3,2,  3.0041,    171.0,2,    63.96,2,    34.38,2,     0.00,2,     2.35,2,    0.126,2,    0.073,2, -999.000,5,-999.0000,5,  -999.00,9,   -999.0,9,  -999.00,9,-999.000,9,   -999.0,9,   -999.0,9,  -999.0, -999.00,-999.0000,-999.000,-999.000
     316N145_5,  I09S,   135,  1,     15, SIH021,2,19950115,1831,-39.1083, 114.9972, 4685,16180.6,   1622.0,   2.8147,  34.5636,2,  34.5643,2,    166.2,2,  2.6989,    163.4,2,    73.81,2,    34.48,2,     0.00,2,     2.36,2,    0.066,2,    0.043,2, -999.000,5,-999.0000,5,  -999.00,9,   -999.0,9,  -999.00,9,-999.000,9,   -999.0,9,   -999.0,9,  -999.0, -999.00,-999.0000,-999.000,-999.000
     316N145_5,  I09S,   135,  1,     14, SIH002,2,19950115,1831,-39.1083, 114.9972, 4685,18170.2,   1822.1,   2.6393,  34.6296,2,  34.6305,2,    164.6,2,  2.5086,    163.8,2,    81.13,2,    33.80,2,     0.00,2,     2.32,2,    0.027,2,    0.023,2, -999.000,5,-999.0000,5,  -999.00,9,   -999.0,9,  -999.00,9,-999.000,9,   -999.0,9,   -999.0,9,  -999.0, -999.00,-999.0000,-999.000,-999.000
     316N145_5,  I09S,   135,  1,     13, SIH018,2,19950115,1831,-39.1083, 114.9972, 4685,20224.0,   2028.7,   2.4898,  34.6821,2,  34.6834,2,    166.7,2,  2.3432,    166.4,2,    87.97,2,    33.12,2,     0.00,2,     2.28,2,    0.011,2,    0.010,2, -999.000,5,-999.0000,5,  -999.00,9,   -999.0,9,  -999.00,9,-999.000,9,   -999.0,9,   -999.0,9,  -999.0, -999.00,-999.0000,-999.000,-999.000
     316N145_5,  I09S,   135,  1,     12, SIH016,2,19950115,1831,-39.1083, 114.9972, 4685,22252.0,   2232.7,   2.3337,  34.7123,2,  34.7113,2,    171.9,2,  2.1715,    173.3,2,    91.62,2,    32.46,2,     0.00,2,     2.24,2, -999.000,9, -999.000,9, -999.000,5,-999.0000,5,  -999.00,9,   -999.0,9,  -999.00,9,-999.000,9,   -999.0,9,   -999.0,9,  -999.0, -999.00,-999.0000,-999.000,-999.000
     316N145_5,  I09S,   135,  1,     11, SIH015,2,19950115,1831,-39.1083, 114.9972, 4685,24230.6,   2431.7,   2.1931,  34.7293,2,  34.7288,2,    178.8,2,  2.0151,    179.3,2,    92.42,2,    31.78,2,     0.00,2,     2.18,2,    0.014,2,    0.015,2, -999.000,5,-999.0000,5,  -999.00,9,   -999.0,9,  -999.00,9,-999.000,9,   -999.0,9,   -999.0,9,  -999.0, -999.00,-999.0000,-999.000,-999.000
     316N145_5,  I09S,   135,  1,     10, SI9426,2,19950115,1831,-39.1083, 114.9972, 4685,27302.3,   2740.7,   1.9342,  34.7424,2,  34.7418,2,    186.5,2,  1.7325,    188.8,2,    96.09,2,    31.22,2,     0.00,2,     2.13,2,    0.010,2,    0.009,2, -999.000,5,-999.0000,5,  -999.00,9,   -999.0,9,  -999.00,9,-999.000,9,   -999.0,9,   -999.0,9,  -999.0, -999.00,-999.0000,-999.000,-999.000
     316N145_5,  I09S,   135,  1,      9, SIH012,2,19950115,1831,-39.1083, 114.9972, 4685,30304.3,   3042.7,   1.6749,  34.7401,2,  34.7410,2,    191.8,2,  1.4498,    193.2,2,   102.93,2,    31.28,2,     0.00,2,     2.14,2,    0.007,2,    0.009,2, -999.000,5,-999.0000,5,  -999.00,9,   -999.0,9,  -999.00,9,-999.000,9,   -999.0,9,   -999.0,9,  -999.0, -999.00,-999.0000,-999.000,-999.000
     316N145_5,  I09S,   135,  1,      8, SIH010,2,19950115,1831,-39.1083, 114.9972, 4685,33438.8,   3358.0,   1.3923,  34.7315,2,  34.7294,2,    195.3,2,  1.1428,    197.1,2,   111.68,2,    31.67,2,     0.00,2,     2.16,2,    0.007,2,    0.014,4, -999.000,5,-999.0000,5,  -999.00,9,   -999.0,9,  -999.00,9,-999.000,9,   -999.0,9,   -999.0,9,  -999.0, -999.00,-999.0000,-999.000,-999.000
     316N145_5,  I09S,   135,  1,      7, SIH009,2,19950115,1831,-39.1083, 114.9972, 4685,36446.1,   3660.5,   1.1842,  34.7236,2,  34.7213,2,    199.9,2,  0.9095,    201.5,2,   116.29,2,    31.82,2,     0.00,2,     2.17,2,    0.011,2,    0.011,3, -999.000,5,-999.0000,5,  -999.00,9,   -999.0,9,  -999.00,9,-999.000,9,   -999.0,9,   -999.0,9,  -999.0, -999.00,-999.0000,-999.000,-999.000
     316N145_5,  I09S,   135,  1,      6, SIH038,2,19950115,1831,-39.1083, 114.9972, 4685,39506.3,   3968.3,   0.9743,  34.7132,2,  34.7129,2,    205.4,2,  0.6734,    206.6,2,   121.07,2,    32.02,2,     0.00,2,     2.19,2,    0.029,2,    0.024,2, -999.000,5,-999.0000,5,  -999.00,9,   -999.0,9,  -999.00,9,-999.000,9,   -999.0,9,   -999.0,9,  -999.0, -999.00,-999.0000,-999.000,-999.000
     316N145_5,  I09S,   135,  1,      5, SIH006,2,19950115,1831,-39.1083, 114.9972, 4685,42571.8,   4276.6,   0.8429,  34.7059,2,  34.7054,2,    210.6,2,  0.5128,    209.8,2,   124.10,2,    32.13,2,     0.00,2,     2.19,2,    0.043,2,    0.026,2, -999.000,5,-999.0000,5,  -999.00,9,   -999.0,9,  -999.00,9,-999.000,9,   -999.0,9,   -999.0,9,  -999.0, -999.00,-999.0000,-999.000,-999.000
     316N145_5,  I09S,   135,  1,      4, SIH004,2,19950115,1831,-39.1083, 114.9972, 4685,44597.5,   4480.4,   0.8270,  34.7048,2,  34.7030,2,    211.2,2,  0.4750,    210.3,2,   124.90,2,    32.27,2,     0.00,2,     2.20,2,    0.048,2,    0.036,2, -999.000,5,-999.0000,5,  -999.00,9,   -999.0,9,  -999.00,9,-999.000,9,   -999.0,9,   -999.0,9,  -999.0, -999.00,-999.0000,-999.000,-999.000
     316N145_5,  I09S,   135,  1,      3, SIH025,2,19950115,1831,-39.1083, 114.9972, 4685,46619.3,   4683.8,   0.8310,  34.7041,2,  34.7017,2,    213.8,2,  0.4560,    210.4,2,   125.39,2,    32.28,2,     0.00,2,     2.20,2,    0.046,2,    0.034,2, -999.000,5,-999.0000,5,  -999.00,9,   -999.0,9,  -999.00,9,-999.000,9,   -999.0,9,   -999.0,9,  -999.0, -999.00,-999.0000,-999.000,-999.000
     316N145_5,  I09S,   135,  1,      2, SIH001,2,19950115,1831,-39.1083, 114.9972, 4685,48150.5,   4837.8,   0.8440,  34.7042,2,  34.7007,2,    214.8,2,  0.4508,    210.1,2,   125.56,2,    32.24,2,     0.00,2,     2.20,2,    0.052,2,    0.038,2, -999.000,5,-999.0000,5,  -999.00,9,   -999.0,9,  -999.00,9,-999.000,9,   -999.0,9,   -999.0,9,  -999.0, -999.00,-999.0000,-999.000,-999.000
     316N145_5,  I09S,   135,  1,      1, SIH036,2,19950115,1831,-39.1083, 114.9972, 4685,48665.3,   4889.6,   0.8436,  34.7040,2,  34.7011,2,    214.3,2,  0.4444,    210.4,2,   125.68,2,    32.27,2,     0.00,2,     2.20,2,    0.053,2,    0.034,2, -999.000,5,-999.0000,5,  -999.00,9,   -999.0,9,  -999.00,9,-999.000,9,   -999.0,9,   -999.0,9,  -999.0, -999.00,-999.0000,-999.000,-999.000