BOTTLE,20090521WHPSIOdm
EXPOCODE,SECT_ID,STNNBR,CASTNO,SAMPNO,BTLNBR,BTLNBR_FLAG_W,DATE,TIME,LATITUDE,LONGITUDE,DEPTH,CTDRAW,CTDPRS,CTDTMP,CTDSAL,CTDSAL_FLAG_W,SALNTY,SALNTY_FLAG_W,CTDOXY,CTDOXY_FLAG_W,THETA,OXYGEN,OXYGEN_FLAG_W,SILCAT,SILCAT_FLAG_W,NITRAT,NITRAT_FLAG_W,NITRIT,NITRIT_FLAG_W,PHSPHT,PHSPHT_FLAG_W,CFC-11,CFC-11_FLAG_W,CFC-12,CFC-12_FLAG_W,TRITUM,TRITUM_FLAG_W,HELIUM,HELIUM_FLAG_W,DELHE3,DELHE3_FLAG_W,DELC14,DELC14_FLAG_W,DELC13,DELC13_FLAG_W,NEON,NEON_FLAG_W,TCARBN,TCARBN_FLAG_W,ALKALI,ALKALI_FLAG_W,C14ERR,DELHER,HELIER,NEONER,TRITER
,,,,,,,,,,,,,DBAR,IPTS-68,PSS-78,,PSS-78,,UMOL/KG,,IPTS-68,UMOL/KG,,UMOL/KG,,UMOL/KG,,UMOL/KG,,UMOL/KG,,PMOL/KG,,PMOL/KG,,TU,,NMOL/KG,,PERCNT,,/MILLE,,/MILLE,,NMOL/KG,,UMOL/KG,,UMOL/KG,,/MILLE,PERCNT,NMOL/KG,NMOL/KG,TU
     316N145_5,  I09S,    96,  1,     36, SIH035,2,19950104,2256,-59.8028, 115.0362, 4520,  227.1,     17.8,   1.7777,  33.9171,2,  33.9207,2,    345.8,2,  1.7768,    333.9,2,    17.27,2,    25.15,2,     0.22,2,     1.67,2,    6.299,2,    2.979,2, -999.000,5,-999.0000,5,  -999.00,9,   -999.0,9,  -999.00,9,-999.000,9,   2144.8,6,   -999.0,9,  -999.0, -999.00,-999.0000,-999.000,-999.000
     316N145_5,  I09S,    96,  1,     35, SIH032,2,19950104,2256,-59.8028, 115.0362, 4520,  371.5,     32.3,   1.7805,  33.9174,2,  33.9236,2,    352.2,2,  1.7789,    333.7,2,    17.26,2,    25.24,2,     0.22,2,     1.67,2,    6.365,2,    2.999,2, -999.000,5,-999.0000,5,  -999.00,9,   -999.0,9,  -999.00,9,-999.000,9,   2146.3,2,   2300.2,2,  -999.0, -999.00,-999.0000,-999.000,-999.000
     316N145_5,  I09S,    96,  1,     34, SIH029,2,19950104,2256,-59.8028, 115.0362, 4520,  596.4,     54.9,   1.7817,  33.9171,2,  33.9203,2,    349.4,2,  1.7790,    333.7,2,    17.25,2,    25.21,2,     0.22,2,     1.68,2,    6.323,2,    2.990,2, -999.000,5,-999.0000,5,  -999.00,9,   -999.0,9,  -999.00,9,-999.000,9,   2142.8,2,   2296.9,2,  -999.0, -999.00,-999.0000,-999.000,-999.000
     316N145_5,  I09S,    96,  1,     33, SIH026,2,19950104,2256,-59.8028, 115.0362, 4520,  891.5,     84.6,   0.5315,  33.9459,2,  33.9444,2,    336.8,2,  0.5282,    332.6,2,    25.55,2,    26.66,2,     0.22,2,     1.89,2,    6.495,2,    3.062,2, -999.000,5,-999.0000,5,  -999.00,9,   -999.0,9,  -999.00,9,-999.000,9,   2157.8,2,   2295.2,2,  -999.0, -999.00,-999.0000,-999.000,-999.000
     316N145_5,  I09S,    96,  1,     32, SIH023,2,19950104,2256,-59.8028, 115.0362, 4520, 1139.3,    109.5,   0.0710,  33.9516,2,  33.9549,2,    340.1,2,  0.0671,    336.0,2,    29.30,2,    27.40,2,     0.22,2,     1.92,2,    6.553,2,    3.110,2, -999.000,5,-999.0000,5,  -999.00,9,   -999.0,9,  -999.00,9,-999.000,9,   2161.8,2,   -999.0,9,  -999.0, -999.00,-999.0000,-999.000,-999.000
     316N145_5,  I09S,    96,  1,     31, SIH020,2,19950104,2256,-59.8028, 115.0362, 4520, 1626.2,    158.5,   0.4345,  34.0690,2,  34.0721,2,    304.4,2,  0.4283,    301.9,2,    38.85,2,    29.74,2,     0.14,2,     2.04,2,    5.413,2,    2.542,2, -999.000,5,-999.0000,5,  -999.00,9,   -999.0,9,  -999.00,9,-999.000,9,   2185.7,2,   2295.4,2,  -999.0, -999.00,-999.0000,-999.000,-999.000
     316N145_5,  I09S,    96,  1,     30, SIH017,2,19950104,2256,-59.8028, 115.0362, 4520, 2120.3,    208.2,   1.7776,  34.3678,2,  34.3692,2,    205.2,2,  1.7669,    205.2,2,    60.62,2,    33.99,2,     0.01,2,     2.33,2,    1.987,2,    0.919,2, -999.000,5,-999.0000,5,  -999.00,9,   -999.0,9,  -999.00,9,-999.000,9,   2233.9,2,   2312.2,2,  -999.0, -999.00,-999.0000,-999.000,-999.000
     316N145_5,  I09S,    96,  1,     29, SIH014,2,19950104,2256,-59.8028, 115.0362, 4520, 2621.2,    258.6,   1.9989,  34.4520,2,  34.4520,2,    187.7,2,  1.9850,    187.3,2,    67.03,2,    34.37,2,     0.01,2,     2.35,2,    1.288,2,    0.587,2, -999.000,5,-999.0000,5,  -999.00,9,   -999.0,9,  -999.00,9,-999.000,9,   2243.2,2,   2309.1,2,  -999.0, -999.00,-999.0000,-999.000,-999.000
     316N145_5,  I09S,    96,  1,     28, SIH011,2,19950104,2256,-59.8028, 115.0362, 4520, 3093.4,    306.1,   2.1027,  34.5106,2,  34.5119,2,    176.8,2,  2.0858,    180.4,2,    70.78,2,    34.29,2,     0.01,2,     2.35,2, -999.000,9, -999.000,9, -999.000,5,-999.0000,5,  -999.00,9,   -999.0,9,  -999.00,9,-999.000,9,   2250.9,2,   2324.3,2,  -999.0, -999.00,-999.0000,-999.000,-999.000
     316N145_5,  I09S,    96,  1,     27, SIH008,2,19950104,2256,-59.8028, 115.0362, 4520, 3569.7,    354.0,   2.1529,  34.5538,2,  34.5547,2,    172.1,2,  2.1331,    174.7,2,    73.60,2,    33.91,2,     0.00,2,     2.32,2,    0.632,2,    0.289,2, -999.000,5,-999.0000,5,  -999.00,9,   -999.0,9,  -999.00,9,-999.000,9,   2253.7,2,   2333.8,2,  -999.0, -999.00,-999.0000,-999.000,-999.000
     316N145_5,  I09S,    96,  1,     26, SIH005,2,19950104,2256,-59.8028, 115.0362, 4520, 4088.6,    406.2,   2.1702,  34.5899,2,  34.5897,2,    172.1,2,  2.1472,    173.9,2,    75.31,2,    33.68,2,     0.00,2,     2.30,2,    0.491,2,    0.220,2, -999.000,5,-999.0000,5,  -999.00,9,   -999.0,9,  -999.00,9,-999.000,9,   2253.3,2,   2334.0,2,  -999.0, -999.00,-999.0000,-999.000,-999.000
     316N145_5,  I09S,    96,  1,     25, SIH019,2,19950104,2256,-59.8028, 115.0362, 4520, 4651.9,    462.8,   2.1593,  34.6231,2,  34.6256,2,    174.4,2,  2.1329,    175.4,2,    76.86,2,    32.99,2,     0.00,2,     2.26,2,    0.398,2,    0.181,2, -999.000,5,-999.0000,5,  -999.00,9,   -999.0,9,  -999.00,9,-999.000,9,   2252.9,2,   2349.8,3,  -999.0, -999.00,-999.0000,-999.000,-999.000
     316N145_5,  I09S,    96,  1,     24, SIH037,2,19950104,2256,-59.8028, 115.0362, 4520, 5126.8,    510.6,   2.1467,  34.6434,2,  34.6464,2,    171.2,2,  2.1174,    175.4,2,    78.26,2,    32.72,2,     0.00,2,     2.24,2,    0.339,3,    0.145,2, -999.000,5,-999.0000,5,  -999.00,9,   -999.0,9,  -999.00,9,-999.000,9,   2251.9,2,   2338.0,2,  -999.0, -999.00,-999.0000,-999.000,-999.000
     316N145_5,  I09S,    96,  1,     23, SIH033,2,19950104,2256,-59.8028, 115.0362, 4520, 6101.3,    608.6,   2.1227,  34.6769,2,  34.6794,2,    177.8,2,  2.0873,    178.0,2,    79.97,2,    32.13,2,     0.00,2,     2.19,2,    0.224,3,    0.093,2, -999.000,5,-999.0000,5,  -999.00,9,   -999.0,9,  -999.00,9,-999.000,9,   2251.6,2,   2343.0,2,  -999.0, -999.00,-999.0000,-999.000,-999.000
     316N145_5,  I09S,    96,  1,     22, SIH031,2,19950104,2256,-59.8028, 115.0362, 4520, 7139.0,    713.0,   2.0501,  34.7043,2,  34.7058,2,    182.2,2,  2.0085,    183.3,2,    81.37,2,    31.39,2,     0.00,2,     2.15,2, -999.000,9, -999.000,9, -999.000,5,-999.0000,5,  -999.00,9,   -999.0,9,  -999.00,9,-999.000,9,   2250.0,2,   2348.1,2,  -999.0, -999.00,-999.0000,-999.000,-999.000
     316N145_5,  I09S,    96,  1,     21, SIH030,2,19950104,2256,-59.8028, 115.0362, 4520, 8210.2,    820.8,   1.9792,  34.7193,2,  34.7193,2,    184.9,2,  1.9310,    185.9,2,    82.93,2,    30.87,2,     0.00,2,     2.12,2,    0.172,2,    0.075,2, -999.000,5,-999.0000,5,  -999.00,9,   -999.0,9,  -999.00,9,-999.000,9,   2248.7,2,   2344.0,2,  -999.0, -999.00,-999.0000,-999.000,-999.000
     316N145_5,  I09S,    96,  1,     20, SIH028,2,19950104,2256,-59.8028, 115.0362, 4520, 9227.0,    923.0,   1.9219,  34.7307,2,  34.7311,2,    188.0,2,  1.8673,    189.6,2,    84.33,2,    30.58,2,     0.00,2,     2.09,2, -999.000,9, -999.000,9, -999.000,5,-999.0000,5,  -999.00,9,   -999.0,9,  -999.00,9,-999.000,9,   2247.3,2,   2352.2,2,  -999.0, -999.00,-999.0000,-999.000,-999.000
     316N145_5,  I09S,    96,  1,     19, SIH027,2,19950104,2256,-59.8028, 115.0362, 4520,10306.2,   1031.6,   1.8535,  34.7380,2,  34.7394,2,    191.0,2,  1.7921,    192.7,2,    86.04,2,    30.31,2,     0.00,2,     2.07,2,    0.117,2,    0.056,2, -999.000,5,-999.0000,5,  -999.00,9,   -999.0,9,  -999.00,9,-999.000,9,   2247.3,2,   2345.4,2,  -999.0, -999.00,-999.0000,-999.000,-999.000
     316N145_5,  I09S,    96,  1,     18, SIH003,2,19950104,2256,-59.8028, 115.0362, 4520,11301.2,   1131.7,   1.7850,  34.7418,2,  34.7427,2,    192.3,2,  1.7173,    194.5,2,    87.91,2,    30.18,2,     0.00,2,     2.06,2,    0.106,2,    0.050,2, -999.000,5,-999.0000,5,  -999.00,9,   -999.0,9,  -999.00,9,-999.000,9,   2247.1,6,   2352.9,2,  -999.0, -999.00,-999.0000,-999.000,-999.000
     316N145_5,  I09S,    96,  1,     17, SIH024,2,19950104,2256,-59.8028, 115.0362, 4520,12150.0,   1217.0,   1.7216,  34.7421,2,  34.7443,2,    194.8,2,  1.6485,    196.7,2,    89.31,2,    30.15,2,     0.00,2,     2.06,2, -999.000,9, -999.000,9, -999.000,5,-999.0000,5,  -999.00,9,   -999.0,9,  -999.00,9,-999.000,9,   2247.1,2,   2351.2,2,  -999.0, -999.00,-999.0000,-999.000,-999.000
     316N145_5,  I09S,    96,  1,     16, SIH022,2,19950104,2256,-59.8028, 115.0362, 4520,14030.1,   1406.2,   1.5534,  34.7411,2,  34.7429,2,    198.1,2,  1.4687,    199.2,2,    94.16,2,    30.07,2,     0.00,2,     2.07,2, -999.000,9, -999.000,9, -999.000,5,-999.0000,5,  -999.00,9,   -999.0,9,  -999.00,9,-999.000,9,   2247.8,2,   2367.9,2,  -999.0, -999.00,-999.0000,-999.000,-999.000
     316N145_5,  I09S,    96,  1,     15, SIH021,2,19950104,2256,-59.8028, 115.0362, 4520,16090.7,   1613.4,   1.3700,  34.7338,2,  34.7374,2,    200.7,2,  1.2724,    201.6,2,    99.64,2,    30.35,2,     0.00,2,     2.08,2,    0.094,2,    0.046,2, -999.000,5,-999.0000,5,  -999.00,9,   -999.0,9,  -999.00,9,-999.000,9,   2250.9,2,   2350.7,2,  -999.0, -999.00,-999.0000,-999.000,-999.000
     316N145_5,  I09S,    96,  1,     14, SIH002,2,19950104,2256,-59.8028, 115.0362, 4520,18155.8,   1821.1,   1.1931,  34.7279,2,  34.7292,2,    200.7,2,  1.0824,    203.4,2,   104.81,2,    30.72,2,     0.00,2,     2.10,2, -999.000,9, -999.000,9, -999.000,5,-999.0000,5,  -999.00,9,   -999.0,9,  -999.00,9,-999.000,9,   2252.7,2,   2366.0,2,  -999.0, -999.00,-999.0000,-999.000,-999.000
     316N145_5,  I09S,    96,  1,     13, SIH018,2,19950104,2256,-59.8028, 115.0362, 4520,20254.6,   2032.3,   1.0244,  34.7198,2,  34.7213,2,    203.4,2,  0.9000,    205.3,2,   109.50,2,    30.99,2,     0.00,2,     2.12,2,    0.096,3,    0.034,2, -999.000,5,-999.0000,5,  -999.00,9,   -999.0,9,  -999.00,9,-999.000,9,   2255.1,2,   2350.8,2,  -999.0, -999.00,-999.0000,-999.000,-999.000
     316N145_5,  I09S,    96,  1,     12, SIH016,4,19950104,2256,-59.8028, 115.0362, 4520,22235.0,   2231.5,   0.8516,  34.7105,2,  33.9577,4,    202.7,2,  0.7145,    334.4,4,    29.08,4,    27.45,4,     0.22,4,     1.92,4, -999.000,9, -999.000,9, -999.000,5,-999.0000,5,  -999.00,9,   -999.0,9,  -999.00,9,-999.000,9,   2163.2,3,   -999.0,9,  -999.0, -999.00,-999.0000,-999.000,-999.000
     316N145_5,  I09S,    96,  1,     11, SIH015,2,19950104,2256,-59.8028, 115.0362, 4520,24273.3,   2436.5,   0.7036,  34.7023,2,  34.7040,2,    204.6,2,  0.5526,    208.4,2,   118.58,2,    31.59,2,     0.00,2,     2.17,2,    0.109,2,    0.050,2, -999.000,5,-999.0000,5,  -999.00,9,   -999.0,9,  -999.00,9,-999.000,9,   2258.7,2,   2353.3,2,  -999.0, -999.00,-999.0000,-999.000,-999.000
     316N145_5,  I09S,    96,  1,     10, SIH013,2,19950104,2256,-59.8028, 115.0362, 4520,27281.9,   2739.1,   0.4912,  34.6926,2,  34.6922,2,    208.4,2,  0.3193,    213.0,2,   123.43,2,    31.71,2,     0.00,2,     2.18,2, -999.000,9, -999.000,9, -999.000,5,-999.0000,5,  -999.00,9,   -999.0,9,  -999.00,9,-999.000,9,   2259.9,2,   2372.6,2,  -999.0, -999.00,-999.0000,-999.000,-999.000
     316N145_5,  I09S,    96,  1,      9, SIH012,2,19950104,2256,-59.8028, 115.0362, 4520,30302.5,   3042.9,   0.3223,  34.6865,2,  34.6871,2,    213.2,2,  0.1278,    218.1,2,   126.87,2,    31.93,2,     0.00,2,     2.19,2,    0.192,2,    0.092,2, -999.000,5,-999.0000,5,  -999.00,9,   -999.0,9,  -999.00,9,-999.000,9,   2258.0,2,   2359.1,2,  -999.0, -999.00,-999.0000,-999.000,-999.000
     316N145_5,  I09S,    96,  1,      8, SIH010,2,19950104,2256,-59.8028, 115.0362, 4520,33357.2,   3350.2,   0.1896,  34.6818,2,  34.6810,2,    218.6,2, -0.0294,    223.0,2,   128.89,2,    32.00,2,     0.00,2,     2.19,2, -999.000,9, -999.000,9, -999.000,5,-999.0000,5,  -999.00,9,   -999.0,9,  -999.00,9,-999.000,9,   2258.1,2,   2376.1,2,  -999.0, -999.00,-999.0000,-999.000,-999.000
     316N145_5,  I09S,    96,  1,      7, SIH009,2,19950104,2256,-59.8028, 115.0362, 4520,35443.7,   3560.1,   0.1225,  34.6805,2,  34.6808,2,    222.2,2, -0.1143,    225.7,2,   129.99,2,    31.87,2,     0.00,2,     2.19,2,    0.338,2,    0.158,2, -999.000,5,-999.0000,5,  -999.00,9,   -999.0,9,  -999.00,9,-999.000,9,   2256.6,2,   2356.1,2,  -999.0, -999.00,-999.0000,-999.000,-999.000
     316N145_5,  I09S,    96,  1,      6, SIH038,2,19950104,2256,-59.8028, 115.0362, 4520,37464.8,   3763.4,   0.0647,  34.6782,2,  34.6791,2,    226.3,2, -0.1900,    228.2,2,   129.51,2,    31.95,2,     0.00,2,     2.18,2, -999.000,9, -999.000,9, -999.000,5,-999.0000,5,  -999.00,9,   -999.0,9,  -999.00,9,-999.000,9,   2256.5,2,   2378.2,2,  -999.0, -999.00,-999.0000,-999.000,-999.000
     316N145_5,  I09S,    96,  1,      5, SIH006,2,19950104,2256,-59.8028, 115.0362, 4520,39473.1,   3965.4,   0.0115,  34.6766,2,  34.6781,2,    227.5,2, -0.2616,    230.3,2,   129.50,2,    31.87,2,     0.00,2,     2.18,2,    0.550,2,    0.274,2, -999.000,5,-999.0000,5,  -999.00,9,   -999.0,9,  -999.00,9,-999.000,9,   2256.2,2,   2339.2,3,  -999.0, -999.00,-999.0000,-999.000,-999.000
     316N145_5,  I09S,    96,  1,      4, SIH004,2,19950104,2256,-59.8028, 115.0362, 4520,41573.5,   4176.7,  -0.0319,  34.6739,2,  34.6745,2,    232.3,2, -0.3250,    233.1,2,   129.65,2,    31.80,2,     0.00,2,     2.18,2, -999.000,9, -999.000,9, -999.000,5,-999.0000,5,  -999.00,9,   -999.0,9,  -999.00,9,-999.000,9,   2254.2,2,   -999.0,9,  -999.0, -999.00,-999.0000,-999.000,-999.000
     316N145_5,  I09S,    96,  1,      3, SIH025,2,19950104,2256,-59.8028, 115.0362, 4520,43629.1,   4383.5,  -0.0607,  34.6733,2,  34.6710,2,    233.6,2, -0.3744,    234.5,2,   130.42,2,    31.82,2,     0.00,2,     2.18,2,    0.874,2,    0.410,2, -999.000,5,-999.0000,5,  -999.00,9,   -999.0,9,  -999.00,9,-999.000,9,   2255.2,2,   2365.2,2,  -999.0, -999.00,-999.0000,-999.000,-999.000
     316N145_5,  I09S,    96,  1,      2, SIH001,2,19950104,2256,-59.8028, 115.0362, 4520,44961.4,   4517.5,  -0.0996,  34.6707,2,  34.6690,2,    237.1,2, -0.4261,    236.0,2,   132.76,2,    31.79,2,     0.00,2,     2.18,2,    1.166,2,    0.544,2, -999.000,5,-999.0000,5,  -999.00,9,   -999.0,9,  -999.00,9,-999.000,9,   2255.8,2,   -999.0,9,  -999.0, -999.00,-999.0000,-999.000,-999.000
     316N145_5,  I09S,    96,  1,      1, SIH036,2,19950104,2256,-59.8028, 115.0362, 4520,45511.8,   4572.9,  -0.1032,  34.6712,2,  34.6704,2,    236.0,3, -0.4356,    236.7,2,   133.46,2,    31.84,2,     0.00,2,     2.18,2,    1.244,2,    0.612,2, -999.000,5,-999.0000,5,  -999.00,9,   -999.0,9,  -999.00,9,-999.000,9,   2253.8,6,   2371.3,2,  -999.0, -999.00,-999.0000,-999.000,-999.000