BOTTLE,20090521WHPSIOdm
EXPOCODE,SECT_ID,STNNBR,CASTNO,SAMPNO,BTLNBR,BTLNBR_FLAG_W,DATE,TIME,LATITUDE,LONGITUDE,DEPTH,CTDRAW,CTDPRS,CTDTMP,CTDSAL,CTDSAL_FLAG_W,SALNTY,SALNTY_FLAG_W,CTDOXY,CTDOXY_FLAG_W,THETA,OXYGEN,OXYGEN_FLAG_W,SILCAT,SILCAT_FLAG_W,NITRAT,NITRAT_FLAG_W,NITRIT,NITRIT_FLAG_W,PHSPHT,PHSPHT_FLAG_W,CFC-11,CFC-11_FLAG_W,CFC-12,CFC-12_FLAG_W,TRITUM,TRITUM_FLAG_W,HELIUM,HELIUM_FLAG_W,DELHE3,DELHE3_FLAG_W,DELC14,DELC14_FLAG_W,DELC13,DELC13_FLAG_W,NEON,NEON_FLAG_W,TCARBN,TCARBN_FLAG_W,ALKALI,ALKALI_FLAG_W,C14ERR,DELHER,HELIER,NEONER,TRITER
,,,,,,,,,,,,,DBAR,IPTS-68,PSS-78,,PSS-78,,UMOL/KG,,IPTS-68,UMOL/KG,,UMOL/KG,,UMOL/KG,,UMOL/KG,,UMOL/KG,,PMOL/KG,,PMOL/KG,,TU,,NMOL/KG,,PERCNT,,/MILLE,,/MILLE,,NMOL/KG,,UMOL/KG,,UMOL/KG,,/MILLE,PERCNT,NMOL/KG,NMOL/KG,TU
     316N145_5,  I08S,    40,  1,     36, SIH035,2,19941216,0641,-47.1500,  93.1583, 3320,  186.0,     13.7,   7.5087,  34.1632,2,  34.1640,2,    297.7,2,  7.5074,    298.3,2,     1.07,2,    16.36,2,     0.27,2,     1.20,2,    4.498,2,    2.241,2, -999.000,5,-999.0000,5,  -999.00,9,   -999.0,9,  -999.00,9,-999.000,9,   -999.0,9,   -999.0,9,  -999.0, -999.00,-999.0000,-999.000,-999.000
     316N145_5,  I08S,    40,  1,     35, SIH032,2,19941216,0641,-47.1500,  93.1583, 3320,  378.5,     33.0,   7.4781,  34.1622,2,  34.1624,2,    301.9,2,  7.4749,    298.6,2,     1.09,2,    16.29,2,     0.27,2,     1.21,2,    4.500,2,    2.259,2, -999.000,5,-999.0000,5,  -999.00,9,   -999.0,9,  -999.00,9,-999.000,9,   -999.0,9,   -999.0,9,  -999.0, -999.00,-999.0000,-999.000,-999.000
     316N145_5,  I08S,    40,  1,     34, SIH029,2,19941216,0641,-47.1500,  93.1583, 3320,  635.4,     58.9,   7.4118,  34.1582,2,  34.1595,2,    302.8,2,  7.4063,    298.2,2,     1.10,2,    16.41,2,     0.26,2,     1.21,2,    4.509,2,    2.236,2, -999.000,5,-999.0000,5,  -999.00,9,   -999.0,9,  -999.00,9,-999.000,9,   -999.0,9,   -999.0,9,  -999.0, -999.00,-999.0000,-999.000,-999.000
     316N145_5,  I08S,    40,  1,     33, SIH026,2,19941216,0641,-47.1500,  93.1583, 3320,  861.1,     81.6,   7.0858,  34.1276,2,  34.1270,2,    297.5,2,  7.0783,    298.8,2,     2.61,2,    17.46,2,     0.26,2,     1.29,2,    4.588,2,    2.287,2, -999.000,5,-999.0000,5,  -999.00,9,   -999.0,9,  -999.00,9,-999.000,9,   -999.0,9,   -999.0,9,  -999.0, -999.00,-999.0000,-999.000,-999.000
     316N145_5,  I08S,    40,  1,     32, SIH023,2,19941216,0641,-47.1500,  93.1583, 3320, 1136.2,    109.2,   6.5582,  34.1054,2,  34.1007,2,    296.2,2,  6.5486,    296.5,2,     4.78,2,    18.68,2,     0.26,2,     1.40,2,    4.679,2,    2.305,2, -999.000,5,-999.0000,5,  -999.00,9,   -999.0,9,  -999.00,9,-999.000,9,   -999.0,9,   -999.0,9,  -999.0, -999.00,-999.0000,-999.000,-999.000
     316N145_5,  I08S,    40,  1,     31, SIH020,2,19941216,0641,-47.1500,  93.1583, 3320, 1628.3,    158.7,   6.0592,  34.2144,2,  34.2273,2,    284.6,2,  6.0457,    285.8,2,     7.94,2,    20.33,2,     0.47,2,     1.49,2,    4.475,2,    2.237,2, -999.000,5,-999.0000,5,  -999.00,9,   -999.0,9,  -999.00,9,-999.000,9,   -999.0,9,   -999.0,9,  -999.0, -999.00,-999.0000,-999.000,-999.000
     316N145_5,  I08S,    40,  1,     30, SIH017,2,19941216,0641,-47.1500,  93.1583, 3320, 2130.4,    209.2,   5.6090,  34.1758,2,  34.1764,2,    277.6,2,  5.5919,    270.7,2,    10.92,2,    23.19,2,     0.04,2,     1.62,2,    4.155,2,    2.052,2, -999.000,5,-999.0000,5,  -999.00,9,   -999.0,9,  -999.00,9,-999.000,9,   -999.0,9,   -999.0,9,  -999.0, -999.00,-999.0000,-999.000,-999.000
     316N145_5,  I08S,    40,  1,     29, SIH014,9,19941216,0641,-47.1500,  93.1583, 3320, 2598.7,    256.3,   5.5432,  34.2227,2,-999.0000,9,    270.3,3,  5.5223,   -999.0,9,  -999.00,9,  -999.00,9,  -999.00,9,  -999.00,9, -999.000,9, -999.000,9, -999.000,5,-999.0000,5,  -999.00,9,   -999.0,9,  -999.00,9,-999.000,9,   -999.0,9,   -999.0,9,  -999.0, -999.00,-999.0000,-999.000,-999.000
     316N145_5,  I08S,    40,  1,     28, SIH011,2,19941216,0641,-47.1500,  93.1583, 3320, 3114.4,    308.2,   4.9947,  34.1733,2,  34.1744,2,    279.3,2,  4.9708,    277.9,2,    11.94,2,    23.73,2,     0.02,2,     1.66,2,    4.281,2,    2.064,2, -999.000,5,-999.0000,5,  -999.00,9,   -999.0,9,  -999.00,9,-999.000,9,   -999.0,9,   -999.0,9,  -999.0, -999.00,-999.0000,-999.000,-999.000
     316N145_5,  I08S,    40,  1,     27, SIH008,2,19941216,0641,-47.1500,  93.1583, 3320, 3599.6,    357.0,   4.9341,  34.2175,2,  34.2185,2,    263.3,2,  4.9064,    255.5,2,    15.92,2,    25.75,2,     0.02,2,     1.78,2,    3.579,6,    1.747,6, -999.000,5,-999.0000,5,  -999.00,9,   -999.0,9,  -999.00,9,-999.000,9,   -999.0,9,   -999.0,9,  -999.0, -999.00,-999.0000,-999.000,-999.000
     316N145_5,  I08S,    40,  1,     26, SIH005,2,19941216,0641,-47.1500,  93.1583, 3320, 4109.5,    408.2,   4.9369,  34.2687,2,  34.2513,2,    245.5,2,  4.9050,    243.8,2,    20.23,2,    26.91,2,     0.02,2,     1.87,2,    3.084,2,    1.511,2, -999.000,5,-999.0000,5,  -999.00,9,   -999.0,9,  -999.00,9,-999.000,9,   -999.0,9,   -999.0,9,  -999.0, -999.00,-999.0000,-999.000,-999.000
     316N145_5,  I08S,    40,  1,     25, SIH019,2,19941216,0641,-47.1500,  93.1583, 3320, 4603.6,    457.9,   4.7036,  34.2826,2,  34.2815,2,    236.7,2,  4.6685,    231.5,2,    22.40,2,    28.24,2,     0.01,2,     1.95,2,    2.637,2,    1.265,2, -999.000,5,-999.0000,5,  -999.00,9,   -999.0,9,  -999.00,9,-999.000,9,   -999.0,9,   -999.0,9,  -999.0, -999.00,-999.0000,-999.000,-999.000
     316N145_5,  I08S,    40,  1,     24, SIH037,2,19941216,0641,-47.1500,  93.1583, 3320, 5095.0,    507.4,   4.4094,  34.2815,2,  34.2813,2,    232.8,2,  4.3715,    230.1,2,    24.89,2,    28.74,2,     0.01,2,     1.99,2,    2.515,6,    1.195,6, -999.000,5,-999.0000,5,  -999.00,9,   -999.0,9,  -999.00,9,-999.000,9,   -999.0,9,   -999.0,9,  -999.0, -999.00,-999.0000,-999.000,-999.000
     316N145_5,  I08S,    40,  1,     23, SIH033,2,19941216,0641,-47.1500,  93.1583, 3320, 6058.3,    604.3,   3.7335,  34.2712,2,  34.2689,2,    228.5,2,  3.6911,    227.2,2,    31.18,2,    30.54,2,     0.00,2,     2.09,2, -999.000,9, -999.000,9, -999.000,5,-999.0000,5,  -999.00,9,   -999.0,9,  -999.00,9,-999.000,9,   -999.0,9,   -999.0,9,  -999.0, -999.00,-999.0000,-999.000,-999.000
     316N145_5,  I08S,    40,  1,     22, SIH031,2,19941216,0641,-47.1500,  93.1583, 3320, 7034.8,    702.5,   3.3249,  34.2982,2,  34.2982,2,    218.2,2,  3.2773,    218.4,2,    38.13,2,    31.80,2,     0.00,2,     2.18,2,    1.918,2,    0.910,2, -999.000,5,-999.0000,5,  -999.00,9,   -999.0,9,  -999.00,9,-999.000,9,   -999.0,9,   -999.0,9,  -999.0, -999.00,-999.0000,-999.000,-999.000
     316N145_5,  I08S,    40,  1,     21, SIH030,2,19941216,0641,-47.1500,  93.1583, 3320, 8013.2,    800.9,   3.0793,  34.3355,2,  34.3423,2,    207.5,2,  3.0259,    207.3,2,    45.09,2,    32.77,2,     0.00,2,     2.25,2, -999.000,9, -999.000,9, -999.000,5,-999.0000,5,  -999.00,9,   -999.0,9,  -999.00,9,-999.000,9,   -999.0,9,   -999.0,9,  -999.0, -999.00,-999.0000,-999.000,-999.000
     316N145_5,  I08S,    40,  1,     20, SIH028,2,19941216,0641,-47.1500,  93.1583, 3320, 9018.7,    902.0,   2.8421,  34.3831,2,  34.3833,2,    198.4,2,  2.7829,    198.0,2,    52.69,2,    33.62,2,     0.00,2,     2.30,2,    1.175,2,    0.554,2, -999.000,5,-999.0000,5,  -999.00,9,   -999.0,9,  -999.00,9,-999.000,9,   -999.0,9,   -999.0,9,  -999.0, -999.00,-999.0000,-999.000,-999.000
     316N145_5,  I08S,    40,  1,     19, SIH027,2,19941216,0641,-47.1500,  93.1583, 3320,10064.9,   1007.3,   2.8494,  34.4558,2,  34.4559,2,    187.0,2,  2.7822,    185.2,2,    59.15,2,    33.78,2,     0.00,2,     2.32,2, -999.000,9, -999.000,9, -999.000,5,-999.0000,5,  -999.00,9,   -999.0,9,  -999.00,9,-999.000,9,   -999.0,9,   -999.0,9,  -999.0, -999.00,-999.0000,-999.000,-999.000
     316N145_5,  I08S,    40,  1,     18, SIH003,2,19941216,0641,-47.1500,  93.1583, 3320,11129.1,   1114.3,   2.7055,  34.5089,2,  34.5056,2,    181.5,2,  2.6314,    180.1,2,    64.28,2,    33.81,2,     0.00,2,     2.33,2, -999.000,9, -999.000,9, -999.000,5,-999.0000,5,  -999.00,9,   -999.0,9,  -999.00,9,-999.000,9,   -999.0,9,   -999.0,9,  -999.0, -999.00,-999.0000,-999.000,-999.000
     316N145_5,  I08S,    40,  1,     17, SIH024,2,19941216,0641,-47.1500,  93.1583, 3320,12130.9,   1215.1,   2.6748,  34.5627,2,  34.5627,2,    178.1,2,  2.5932,    176.6,2,    68.10,2,    33.45,2,     0.00,2,     2.31,2, -999.000,9, -999.000,9, -999.000,5,-999.0000,5,  -999.00,9,   -999.0,9,  -999.00,9,-999.000,9,   -999.0,9,   -999.0,9,  -999.0, -999.00,-999.0000,-999.000,-999.000
     316N145_5,  I08S,    40,  1,     16, SIH022,2,19941216,0641,-47.1500,  93.1583, 3320,13098.9,   1312.4,   2.5936,  34.5995,2,  34.5993,2,    177.2,2,  2.5052,    176.9,2,    70.59,2,    33.14,2,     0.00,2,     2.28,2,    0.222,2,    0.106,2, -999.000,5,-999.0000,5,  -999.00,9,   -999.0,9,  -999.00,9,-999.000,9,   -999.0,9,   -999.0,9,  -999.0, -999.00,-999.0000,-999.000,-999.000
     316N145_5,  I08S,    40,  1,     15, SIH021,2,19941216,0641,-47.1500,  93.1583, 3320,14147.2,   1417.9,   2.5430,  34.6340,2,  34.6354,2,    177.5,2,  2.4468,    177.8,2,    72.11,2,    32.60,2,     0.00,2,     2.24,2, -999.000,9, -999.000,9, -999.000,5,-999.0000,5,  -999.00,9,   -999.0,9,  -999.00,9,-999.000,9,   -999.0,9,   -999.0,9,  -999.0, -999.00,-999.0000,-999.000,-999.000
     316N145_5,  I08S,    40,  1,     14, SIH002,2,19941216,0641,-47.1500,  93.1583, 3320,15156.6,   1519.4,   2.4894,  34.6620,2,  34.6633,2,    180.1,2,  2.3856,    180.3,2,    73.28,2,    32.06,2,     0.00,2,     2.21,2,    0.128,2,    0.063,2, -999.000,5,-999.0000,5,  -999.00,9,   -999.0,9,  -999.00,9,-999.000,9,   -999.0,9,   -999.0,9,  -999.0, -999.00,-999.0000,-999.000,-999.000
     316N145_5,  I08S,    40,  1,     13, SIH018,2,19941216,0641,-47.1500,  93.1583, 3320,16144.6,   1618.8,   2.4233,  34.6886,2,  34.6885,2,    183.2,2,  2.3123,    182.9,2,    74.78,2,    31.52,2,     0.00,2,     2.16,2, -999.000,9, -999.000,9, -999.000,5,-999.0000,5,  -999.00,9,   -999.0,9,  -999.00,9,-999.000,9,   -999.0,9,   -999.0,9,  -999.0, -999.00,-999.0000,-999.000,-999.000
     316N145_5,  I08S,    40,  1,     12, SIH016,2,19941216,0641,-47.1500,  93.1583, 3320,17109.5,   1715.8,   2.3757,  34.7114,2,  34.7117,2,    185.0,2,  2.2573,    186.2,2,    75.46,2,    31.09,2,     0.00,2,     2.13,2,    0.079,2,    0.033,2, -999.000,5,-999.0000,5,  -999.00,9,   -999.0,9,  -999.00,9,-999.000,9,   -999.0,9,   -999.0,9,  -999.0, -999.00,-999.0000,-999.000,-999.000
     316N145_5,  I08S,    40,  1,     11, SIH015,2,19941216,0641,-47.1500,  93.1583, 3320,18083.3,   1813.8,   2.3326,  34.7271,2,  34.7282,2,    188.5,2,  2.2066,    189.2,2,    76.31,2,    30.61,2,     0.00,2,     2.10,2, -999.000,9, -999.000,9, -999.000,5,-999.0000,5,  -999.00,9,   -999.0,9,  -999.00,9,-999.000,9,   -999.0,9,   -999.0,9,  -999.0, -999.00,-999.0000,-999.000,-999.000
     316N145_5,  I08S,    40,  1,     10, SIH013,2,19941216,0641,-47.1500,  93.1583, 3320,19034.5,   1909.5,   2.2753,  34.7379,2,  34.7400,2,    191.0,2,  2.1420,    191.8,2,    77.33,2,    30.19,2,     0.00,2,     2.08,2, -999.000,9, -999.000,9, -999.000,5,-999.0000,5,  -999.00,9,   -999.0,9,  -999.00,9,-999.000,9,   -999.0,9,   -999.0,9,  -999.0, -999.00,-999.0000,-999.000,-999.000
     316N145_5,  I08S,    40,  1,      9, SIH012,2,19941216,0641,-47.1500,  93.1583, 3320,20123.2,   2019.0,   2.2023,  34.7495,2,  34.7502,2,    194.4,2,  2.0607,    194.5,2,    79.00,2,    30.01,2,     0.00,2,     2.05,2,    0.041,2,    0.021,2, -999.000,5,-999.0000,5,  -999.00,9,   -999.0,9,  -999.00,9,-999.000,9,   -999.0,9,   -999.0,9,  -999.0, -999.00,-999.0000,-999.000,-999.000
     316N145_5,  I08S,    40,  1,      8, SIH010,2,19941216,0641,-47.1500,  93.1583, 3320,21132.6,   2120.5,   2.1277,  34.7548,2,  34.7520,2,    196.5,2,  1.9786,    195.9,2,    81.17,2,    29.87,2,     0.00,2,     2.05,2, -999.000,9, -999.000,9, -999.000,5,-999.0000,5,  -999.00,9,   -999.0,9,  -999.00,9,-999.000,9,   -999.0,9,   -999.0,9,  -999.0, -999.00,-999.0000,-999.000,-999.000
     316N145_5,  I08S,    40,  1,      7, SIH009,2,19941216,0641,-47.1500,  93.1583, 3320,23153.8,   2323.8,   1.9651,  34.7574,2,  34.7563,2,    198.1,2,  1.8008,    198.6,2,    86.63,2,    29.91,2,     0.00,2,     2.05,2, -999.000,9, -999.000,9, -999.000,5,-999.0000,5,  -999.00,9,   -999.0,9,  -999.00,9,-999.000,9,   -999.0,9,   -999.0,9,  -999.0, -999.00,-999.0000,-999.000,-999.000
     316N145_5,  I08S,    40,  1,      6, SIH038,2,19941216,0641,-47.1500,  93.1583, 3320,25210.4,   2530.7,   1.7605,  34.7520,2,  34.7520,2,    199.9,2,  1.5815,    199.8,2,    93.43,2,    30.18,2,     0.00,2,     2.08,2,    0.025,2,    0.011,2, -999.000,5,-999.0000,5,  -999.00,9,   -999.0,9,  -999.00,9,-999.000,9,   -999.0,9,   -999.0,9,  -999.0, -999.00,-999.0000,-999.000,-999.000
     316N145_5,  I08S,    40,  1,      5, SIH006,2,19941216,0641,-47.1500,  93.1583, 3320,27268.5,   2737.7,   1.5230,  34.7422,2,  34.7423,2,    200.4,2,  1.3298,    201.2,2,   101.37,2,    30.80,2,     0.00,2,     2.12,2, -999.000,9, -999.000,9, -999.000,5,-999.0000,5,  -999.00,9,   -999.0,9,  -999.00,9,-999.000,9,   -999.0,9,   -999.0,9,  -999.0, -999.00,-999.0000,-999.000,-999.000
     316N145_5,  I08S,    40,  1,      4, SIH004,2,19941216,0641,-47.1500,  93.1583, 3320,29281.6,   2940.2,   1.3171,  34.7325,2,  34.7323,2,    203.7,2,  1.1096,    203.4,2,   108.16,2,    31.18,2,     0.00,2,     2.15,2,    0.037,2,    0.023,2, -999.000,5,-999.0000,5,  -999.00,9,   -999.0,9,  -999.00,9,-999.000,9,   -999.0,9,   -999.0,9,  -999.0, -999.00,-999.0000,-999.000,-999.000
     316N145_5,  I08S,    40,  1,      3, SIH025,2,19941216,0641,-47.1500,  93.1583, 3320,31733.1,   3186.8,   1.0735,  34.7207,2,  34.7203,2,    207.9,2,  0.8483,    206.4,2,   115.45,2,    31.57,2,     0.00,2,     2.17,2,    0.093,2,    0.045,2, -999.000,5,-999.0000,5,  -999.00,9,   -999.0,9,  -999.00,9,-999.000,9,   -999.0,9,   -999.0,9,  -999.0, -999.00,-999.0000,-999.000,-999.000
     316N145_5,  I08S,    40,  1,      2, SIH001,2,19941216,0641,-47.1500,  93.1583, 3320,32696.5,   3283.7,   1.0556,  34.7193,2,  34.7184,2,    208.0,2,  0.8216,    207.0,2,   115.97,2,    31.55,2,     0.00,2,     2.18,2,    0.096,2,    0.045,2, -999.000,5,-999.0000,5,  -999.00,9,   -999.0,9,  -999.00,9,-999.000,9,   -999.0,9,   -999.0,9,  -999.0, -999.00,-999.0000,-999.000,-999.000
     316N145_5,  I08S,    40,  1,      1, SIH036,2,19941216,0641,-47.1500,  93.1583, 3320,33335.0,   3348.0,   1.0528,  34.7197,2,  34.7184,2,    207.4,2,  0.8126,    207.1,2,   116.39,2,    31.62,2,     0.01,2,     2.18,2,    0.106,2,    0.050,2, -999.000,5,-999.0000,5,  -999.00,9,   -999.0,9,  -999.00,9,-999.000,9,   -999.0,9,   -999.0,9,  -999.0, -999.00,-999.0000,-999.000,-999.000