BOTTLE,20090521WHPSIOdm
EXPOCODE,SECT_ID,STNNBR,CASTNO,SAMPNO,BTLNBR,BTLNBR_FLAG_W,DATE,TIME,LATITUDE,LONGITUDE,DEPTH,CTDRAW,CTDPRS,CTDTMP,CTDSAL,CTDSAL_FLAG_W,SALNTY,SALNTY_FLAG_W,CTDOXY,CTDOXY_FLAG_W,THETA,OXYGEN,OXYGEN_FLAG_W,SILCAT,SILCAT_FLAG_W,NITRAT,NITRAT_FLAG_W,NITRIT,NITRIT_FLAG_W,PHSPHT,PHSPHT_FLAG_W,CFC-11,CFC-11_FLAG_W,CFC-12,CFC-12_FLAG_W,TRITUM,TRITUM_FLAG_W,HELIUM,HELIUM_FLAG_W,DELHE3,DELHE3_FLAG_W,DELC14,DELC14_FLAG_W,DELC13,DELC13_FLAG_W,NEON,NEON_FLAG_W,TCARBN,TCARBN_FLAG_W,ALKALI,ALKALI_FLAG_W,C14ERR,DELHER,HELIER,NEONER,TRITER
,,,,,,,,,,,,,DBAR,IPTS-68,PSS-78,,PSS-78,,UMOL/KG,,IPTS-68,UMOL/KG,,UMOL/KG,,UMOL/KG,,UMOL/KG,,UMOL/KG,,PMOL/KG,,PMOL/KG,,TU,,NMOL/KG,,PERCNT,,/MILLE,,/MILLE,,NMOL/KG,,UMOL/KG,,UMOL/KG,,/MILLE,PERCNT,NMOL/KG,NMOL/KG,TU
     316N145_5,  I09S,   100,  1,     22, SIH031,2,19950106,0250,-57.9972, 115.0055, 4585,  198.4,     14.6,   1.6924,  33.9176,2,  33.9191,2,    343.0,2,  1.6917,    335.5,2,    18.64,2,    25.70,2,     0.24,2,     1.69,2,    6.272,2,    2.989,2, -999.000,5,-999.0000,5,  -999.00,9,    -63.9,2,  -999.00,9,-999.000,9,   2144.1,6,   2296.4,3,     2.9, -999.00,-999.0000,-999.000,-999.000
     316N145_5,  I09S,   100,  1,     23, SIH033,2,19950106,0250,-57.9972, 115.0055, 4585,  201.3,     14.9,   1.6927,  33.9175,2,  33.9201,2,    344.1,2,  1.6920,    335.5,2,    18.65,2,    25.60,2,     0.24,2,     1.68,2, -999.000,9, -999.000,9, -999.000,5,-999.0000,5,  -999.00,9,   -999.0,9,  -999.00,9,-999.000,9,   2140.6,2,   2296.2,2,  -999.0, -999.00,-999.0000,-999.000,-999.000
     316N145_5,  I09S,   100,  1,     24, SIH037,2,19950106,0250,-57.9972, 115.0055, 4585,  206.4,     15.4,   1.6915,  33.9178,2,  33.9224,2,    344.8,2,  1.6907,    335.6,2,    18.50,2,    25.60,2,     0.24,2,     1.68,2, -999.000,9, -999.000,9, -999.000,5,-999.0000,5,  -999.00,9,   -999.0,9,  -999.00,9,-999.000,9,   -999.0,9,   -999.0,9,  -999.0, -999.00,-999.0000,-999.000,-999.000
     316N145_5,  I09S,   100,  1,     21, SIH030,2,19950106,0250,-57.9972, 115.0055, 4585,  351.8,     30.0,   1.6832,  33.9175,2,  33.9195,2,    345.0,2,  1.6818,    335.7,2,    18.48,2,    25.65,2,     0.24,2,     1.69,2,    6.323,2,    2.951,2, -999.000,5,-999.0000,5,  -999.00,9,    -63.3,2,     1.43,2,-999.000,9,   2141.7,2,   2288.6,2,     3.1, -999.00,-999.0000,-999.000,-999.000
     316N145_5,  I09S,   100,  1,     20, SIH028,2,19950106,0250,-57.9972, 115.0055, 4585,  605.7,     55.5,   1.6772,  33.9183,2,  33.9201,2,    342.1,2,  1.6745,    335.5,2,    18.63,2,    25.71,2,     0.23,2,     1.69,2,    6.349,2,    3.005,2, -999.000,5,-999.0000,5,  -999.00,9,    -69.8,6,     1.52,6,-999.000,9,   2141.6,2,   2288.1,2,    14.1, -999.00,-999.0000,-999.000,-999.000
     316N145_5,  I09S,   100,  1,     19, SIH027,2,19950106,0250,-57.9972, 115.0055, 4585,  853.8,     80.5,   1.6438,  33.9190,2,  33.9216,2,    340.3,2,  1.6399,    334.9,2,    18.93,2,    25.80,2,     0.23,2,     1.70,2,    6.296,2,    3.037,2, -999.000,5,-999.0000,5,  -999.00,9,    -82.2,2,     1.35,2,-999.000,9,   2142.2,2,   2296.4,2,     5.2, -999.00,-999.0000,-999.000,-999.000
     316N145_5,  I09S,   100,  1,     18, SIH003,2,19950106,0250,-57.9972, 115.0055, 4585, 1096.3,    104.9,   0.8232,  33.9405,2,  33.9434,2,    334.7,2,  0.8188,    334.6,2,    24.39,2,    26.52,2,     0.22,2,     1.84,2,    6.490,2,    3.063,2, -999.000,5,-999.0000,5,  -999.00,9,    -78.4,2,     1.27,2,-999.000,9,   2150.9,2,   -999.0,9,     3.1, -999.00,-999.0000,-999.000,-999.000
     316N145_5,  I09S,   100,  1,     17, SIH024,2,19950106,0250,-57.9972, 115.0055, 4585, 1600.5,    155.6,  -0.0221,  33.9603,2,  33.9641,2,    335.9,2, -0.0275,    335.5,2,    30.79,2,    27.68,2,     0.21,2,     1.92,2,    6.464,2,    3.038,2, -999.000,5,-999.0000,5,  -999.00,9,    -78.8,2,     1.19,2,-999.000,9,   2161.2,2,   2277.8,3,     3.0, -999.00,-999.0000,-999.000,-999.000
     316N145_5,  I09S,   100,  1,     16, SIH022,2,19950106,0250,-57.9972, 115.0055, 4585, 2099.5,    205.8,   0.3329,  34.0944,2,  34.1050,2,    292.2,2,  0.3249,    290.3,2,    43.10,2,    30.74,2,     0.10,2,     2.08,2,    4.998,6,    2.353,6, -999.000,5,-999.0000,5,  -999.00,9,    -97.4,2,     0.86,2,-999.000,9,   2187.0,2,   2300.7,2,     3.4, -999.00,-999.0000,-999.000,-999.000
     316N145_5,  I09S,   100,  1,     15, SIH021,2,19950106,0250,-57.9972, 115.0055, 4585, 2609.2,    257.1,   1.7839,  34.3891,2,  34.3900,2,    196.5,2,  1.7705,    200.4,2,    62.90,2,    34.50,2,     0.00,2,     2.34,2,    1.831,2,    0.851,2, -999.000,5,-999.0000,5,  -999.00,9,   -115.2,2,     0.48,2,-999.000,9,   2234.1,2,   -999.0,9,     4.6, -999.00,-999.0000,-999.000,-999.000
     316N145_5,  I09S,   100,  1,     14, SIH002,2,19950106,0250,-57.9972, 115.0055, 4585, 3116.1,    308.1,   1.9699,  34.4612,2,  34.4642,2,    183.8,2,  1.9533,    186.0,2,    68.35,2,    34.59,2,     0.00,2,     2.35,2,    1.221,2,    0.568,2, -999.000,5,-999.0000,5,  -999.00,9,   -125.8,2,     0.43,2,-999.000,9,   2243.1,2,   2327.6,2,     4.3, -999.00,-999.0000,-999.000,-999.000
     316N145_5,  I09S,   100,  1,     13, SIH018,2,19950106,0250,-57.9972, 115.0055, 4585, 3603.6,    357.1,   2.0866,  34.5204,2,  34.5192,2,    175.0,2,  2.0668,    178.0,2,    71.93,2,    34.49,2,     0.00,2,     2.34,2,    0.852,2,    0.397,2, -999.000,5,-999.0000,5,  -999.00,9,   -136.3,2,     0.35,2,-999.000,9,   2247.2,2,   2339.6,2,     3.1, -999.00,-999.0000,-999.000,-999.000
     316N145_5,  I09S,   100,  1,     12, SIH016,2,19950106,0250,-57.9972, 115.0055, 4585, 4106.0,    407.6,   2.1381,  34.5748,2,  34.5755,2,    171.4,2,  2.1151,    174.1,2,    75.66,2,    34.02,2,     0.01,2,     2.31,2,    0.569,6,    0.264,6, -999.000,5,-999.0000,5,  -999.00,9,   -143.3,2,     0.37,2,-999.000,9,   2248.9,2,   2334.7,2,     3.8, -999.00,-999.0000,-999.000,-999.000
     316N145_5,  I09S,   100,  1,     11, SIH015,2,19950106,0250,-57.9972, 115.0055, 4585, 4591.5,    456.5,   2.1481,  34.6031,2,  34.6032,2,    170.8,2,  2.1221,    174.1,2,    76.74,2,    33.62,2,     0.01,2,     2.28,2,    0.464,2,    0.214,2, -999.000,5,-999.0000,5,  -999.00,9,   -135.8,2,     0.35,2,-999.000,9,   2249.6,2,   2342.7,3,     4.1, -999.00,-999.0000,-999.000,-999.000
     316N145_5,  I09S,   100,  1,     10, SIH013,2,19950106,0250,-57.9972, 115.0055, 4585, 5091.3,    506.8,   2.1660,  34.6322,2,  34.6337,2,    170.8,2,  2.1369,    174.1,2,    77.82,2,    33.12,2,     0.00,2,     2.25,2, -999.000,9, -999.000,9, -999.000,5,-999.0000,5,  -999.00,9,   -145.0,2,     0.41,2,-999.000,9,   2250.6,2,   2330.2,2,     5.9, -999.00,-999.0000,-999.000,-999.000
     316N145_5,  I09S,   100,  1,      9, SIH012,2,19950106,0250,-57.9972, 115.0055, 4585, 6087.7,    607.0,   2.1349,  34.6683,2,  34.6698,2,    174.0,2,  2.0996,    177.3,2,    79.69,2,    32.46,2,     0.01,2,     2.20,2,    0.260,2,    0.117,2, -999.000,5,-999.0000,5,  -999.00,9,   -133.2,2,     0.44,2,-999.000,9,   2249.2,2,   2339.3,2,     6.0, -999.00,-999.0000,-999.000,-999.000
     316N145_5,  I09S,   100,  1,      8, SIH010,2,19950106,0250,-57.9972, 115.0055, 4585, 7047.6,    703.5,   2.0759,  34.6899,2,  34.6899,2,    175.7,2,  2.0347,    181.6,2,    80.93,2,    31.91,2,     0.00,2,     2.17,2,    0.234,2,    0.103,2, -999.000,5,-999.0000,5,  -999.00,9,   -144.2,2,     0.43,2,-999.000,9,   2249.5,2,   2337.3,2,     8.3, -999.00,-999.0000,-999.000,-999.000
     316N145_5,  I09S,   100,  1,      7, SIH009,2,19950106,0250,-57.9972, 115.0055, 4585, 8013.3,    800.7,   2.0273,  34.7066,2,  34.7097,2,    180.9,2,  1.9800,    184.2,2,    81.86,2,    31.46,2,     0.00,2,     2.14,2,    0.208,3,    0.082,2, -999.000,5,-999.0000,5,  -999.00,9,   -143.5,2,     0.42,2,-999.000,9,   2245.1,2,   2342.6,2,     5.0, -999.00,-999.0000,-999.000,-999.000
     316N145_5,  I09S,   100,  1,      6, SIH038,2,19950106,0250,-57.9972, 115.0055, 4585, 9008.2,    900.7,   1.9672,  34.7203,2,  34.7213,2,    184.9,2,  1.9137,    187.5,2,    83.25,2,    31.11,2,     0.00,2,     2.10,2,    0.183,2,    0.083,2, -999.000,5,-999.0000,5,  -999.00,9,   -143.3,2,     0.48,2,-999.000,9,   2248.9,2,   2351.3,2,     2.6, -999.00,-999.0000,-999.000,-999.000
     316N145_5,  I09S,   100,  1,      5, SIH006,2,19950106,0250,-57.9972, 115.0055, 4585,10068.3,   1007.4,   1.8766,  34.7301,2,  34.7311,2,    188.7,2,  1.8167,    191.0,2,    85.59,2,    30.81,2,     0.00,2,     2.09,2,    0.167,2,    0.076,2, -999.000,5,-999.0000,5,  -999.00,9,   -148.1,2,     0.45,2,-999.000,9,   2246.1,2,   2353.7,2,     2.7, -999.00,-999.0000,-999.000,-999.000
     316N145_5,  I09S,   100,  1,      4, SIH004,2,19950106,0250,-57.9972, 115.0055, 4585,11103.7,   1111.5,   1.7893,  34.7368,2,  34.7370,2,    188.0,2,  1.7229,    193.2,2,    87.76,2,    30.55,2,     0.00,2,     2.07,2,    0.150,2,    0.071,2, -999.000,5,-999.0000,5,  -999.00,9,   -151.8,2,     0.36,2,-999.000,9,   2248.1,2,   2346.5,2,     2.8, -999.00,-999.0000,-999.000,-999.000
     316N145_5,  I09S,   100,  1,      3, SIH025,2,19950106,0250,-57.9972, 115.0055, 4585,12111.9,   1212.9,   1.7082,  34.7398,2,  34.7406,2,    193.6,2,  1.6356,    195.7,2,    89.78,2,    30.45,2,     0.00,2,     2.07,2,    0.139,2,    0.072,2, -999.000,5,-999.0000,5,  -999.00,9,   -153.0,2,     0.45,2,-999.000,9,   2247.1,2,   2352.6,2,     3.4, -999.00,-999.0000,-999.000,-999.000
     316N145_5,  I09S,   100,  1,      2, SIH001,2,19950106,0250,-57.9972, 115.0055, 4585,14190.0,   1422.0,   1.5536,  34.7397,2,  34.7398,2,    197.7,2,  1.4678,    199.1,2,    94.14,2,    30.49,2,     0.00,2,     2.07,2,    0.126,2,    0.056,2, -999.000,5,-999.0000,5,  -999.00,9,   -999.0,9,  -999.00,9,-999.000,9,   2249.9,2,   2352.0,2,  -999.0, -999.00,-999.0000,-999.000,-999.000
     316N145_5,  I09S,   100,  1,      1, SIH036,2,19950106,0250,-57.9972, 115.0055, 4585,16253.3,   1629.5,   1.3762,  34.7352,2,  34.7368,2,    198.0,2,  1.2774,    201.6,2,    99.13,2,    30.56,2,     0.00,2,     2.08,2,    0.102,2,    0.052,2, -999.000,5,-999.0000,5,  -999.00,9,   -999.0,9,  -999.00,9,-999.000,9,   2250.1,2,   2362.4,2,  -999.0, -999.00,-999.0000,-999.000,-999.000
     316N145_5,  I09S,   100,  1,     25, SIH019,2,19950106,0250,-57.9972, 115.0055, 4585,20222.5,   2028.8,   1.0692,  34.7213,2,  34.7223,2,    202.9,2,  0.9445,    204.6,2,   108.59,2,    31.04,2,     0.00,2,     2.11,2,    0.090,2,    0.044,2, -999.000,5,-999.0000,5,  -999.00,9,   -999.0,9,  -999.00,9,-999.000,9,   -999.0,9,   -999.0,9,  -999.0, -999.00,-999.0000,-999.000,-999.000