BOTTLE,20090521WHPSIOdm
EXPOCODE,SECT_ID,STNNBR,CASTNO,SAMPNO,BTLNBR,BTLNBR_FLAG_W,DATE,TIME,LATITUDE,LONGITUDE,DEPTH,CTDRAW,CTDPRS,CTDTMP,CTDSAL,CTDSAL_FLAG_W,SALNTY,SALNTY_FLAG_W,CTDOXY,CTDOXY_FLAG_W,THETA,OXYGEN,OXYGEN_FLAG_W,SILCAT,SILCAT_FLAG_W,NITRAT,NITRAT_FLAG_W,NITRIT,NITRIT_FLAG_W,PHSPHT,PHSPHT_FLAG_W,CFC-11,CFC-11_FLAG_W,CFC-12,CFC-12_FLAG_W,TRITUM,TRITUM_FLAG_W,HELIUM,HELIUM_FLAG_W,DELHE3,DELHE3_FLAG_W,DELC14,DELC14_FLAG_W,DELC13,DELC13_FLAG_W,NEON,NEON_FLAG_W,TCARBN,TCARBN_FLAG_W,ALKALI,ALKALI_FLAG_W,C14ERR,DELHER,HELIER,NEONER,TRITER
,,,,,,,,,,,,,DBAR,IPTS-68,PSS-78,,PSS-78,,UMOL/KG,,IPTS-68,UMOL/KG,,UMOL/KG,,UMOL/KG,,UMOL/KG,,UMOL/KG,,PMOL/KG,,PMOL/KG,,TU,,NMOL/KG,,PERCNT,,/MILLE,,/MILLE,,NMOL/KG,,UMOL/KG,,UMOL/KG,,/MILLE,PERCNT,NMOL/KG,NMOL/KG,TU
     316N145_5,  I08S,    47,  1,     36, SIH035,2,19941218,0425,-50.1250,  90.4250, 4040,  161.7,     11.3,   6.3457,  34.0241,2,  34.0251,2,    309.9,3,  6.3448,    302.5,2,     1.90,2,    18.71,2,     0.27,2,     1.33,2, -999.000,9, -999.000,9,    0.000,5,   1.7910,2,    -1.90,2,   -999.0,9,  -999.00,9,   7.767,2,   -999.0,9,   -999.0,9,  -999.0,    0.14,  0.0020,   0.039,   0.000
     316N145_5,  I08S,    47,  1,     35, SIH032,2,19941218,0425,-50.1250,  90.4250, 4040,  161.5,     11.3,   6.3397,  34.0249,2,  34.0280,2,    310.0,3,  6.3388,    302.8,2,     1.75,2,    18.77,2,     0.26,2,     1.33,2, -999.000,9, -999.000,9,    0.236,2,   1.8090,2,    -1.67,2,   -999.0,9,  -999.00,9,   7.826,2,   -999.0,9,   -999.0,9,  -999.0,    0.13,  0.0020,   0.038,   0.005
     316N145_5,  I08S,    47,  1,     34, SIH029,2,19941218,0425,-50.1250,  90.4250, 4040,  360.7,     31.3,   6.3346,  34.0253,2,  34.0268,2,    305.1,3,  6.3319,    303.1,2,     1.60,2,    18.71,2,     0.26,2,     1.33,2, -999.000,9, -999.000,9,    0.280,2,   1.7930,2,    -1.87,2,   -999.0,9,  -999.00,9,   7.774,2,   -999.0,9,   -999.0,9,  -999.0,    0.13,  0.0020,   0.036,   0.006
     316N145_5,  I08S,    47,  1,     33, SIH026,2,19941218,0425,-50.1250,  90.4250, 4040,  606.2,     56.0,   6.3144,  34.0289,2,  34.0276,2,    304.8,3,  6.3096,    303.1,2,     1.78,2,    18.76,2,     0.26,2,     1.34,2, -999.000,9, -999.000,9,    0.412,2,   1.7800,2,    -1.69,2,   -999.0,9,  -999.00,9,   7.706,2,   -999.0,9,   -999.0,9,  -999.0,    0.13,  0.0020,   0.051,   0.008
     316N145_5,  I08S,    47,  1,     32, SIH023,9,19941218,0425,-50.1250,  90.4250, 4040,  862.5,     81.8,   6.1646,  34.0221,2,-999.0000,9,    300.5,3,  6.1577,   -999.0,9,     2.43,4,    19.00,4,     0.27,4,     1.36,4, -999.000,9, -999.000,9, -999.000,5,-999.0000,5,  -999.00,9,   -999.0,9,  -999.00,9,-999.000,9,   -999.0,9,   -999.0,9,  -999.0, -999.00,-999.0000,-999.000,-999.000
     316N145_5,  I08S,    47,  1,     31, SIH020,2,19941218,0425,-50.1250,  90.4250, 4040, 1102.3,    105.9,   5.2543,  33.9827,2,  33.9837,2,    294.5,3,  5.2460,    294.8,2,     8.53,2,    22.12,2,     0.39,2,     1.59,2, -999.000,9, -999.000,9,    0.204,2,   2.6080,4,    -1.09,2,   -999.0,9,  -999.00,9,  10.670,4,   -999.0,9,   -999.0,9,  -999.0,    0.14,  0.0040,  80.057,   0.006
     316N145_5,  I08S,    47,  1,     30, SIH017,2,19941218,0425,-50.1250,  90.4250, 4040, 1621.6,    158.1,   5.3827,  34.0766,2,  34.0715,2,    280.7,3,  5.3701,    279.8,2,     9.82,2,    23.27,2,     0.05,2,     1.61,2, -999.000,9, -999.000,9,    0.219,2,   1.8060,2,    -0.95,2,   -999.0,9,  -999.00,9,   7.873,2,   -999.0,9,   -999.0,9,  -999.0,    0.13,  0.0020,   0.035,   0.006
     316N145_5,  I08S,    47,  1,     29, SIH014,2,19941218,0425,-50.1250,  90.4250, 4040, 2065.1,    202.7,   5.6994,  34.1789,2,  34.1699,2,    301.2,3,  5.6827,    273.2,2,    10.31,2,    22.90,2,     0.06,2,     1.59,2, -999.000,9, -999.000,9,    0.302,2,   1.7850,2,    -0.90,2,   -999.0,9,  -999.00,9,   7.797,2,   -999.0,9,   -999.0,9,  -999.0,    0.14,  0.0020,   0.048,   0.008
     316N145_5,  I08S,    47,  1,     28, SIH011,2,19941218,0425,-50.1250,  90.4250, 4040, 2575.2,    254.0,   5.2353,  34.1445,2,  34.1493,2,    304.3,3,  5.2152,    283.1,2,    10.48,2,    23.08,2,     0.03,2,     1.60,2, -999.000,9, -999.000,9,    0.275,2,-999.0000,5,  -999.00,9,   -999.0,9,  -999.00,9,-999.000,9,   -999.0,9,   -999.0,9,  -999.0, -999.00,-999.0000,-999.000,   0.005
     316N145_5,  I08S,    47,  1,     27, SIH008,2,19941218,0425,-50.1250,  90.4250, 4040, 3089.8,    305.8,   5.1913,  34.1962,2,  34.1905,2,    273.9,3,  5.1671,    259.5,2,    13.85,2,    25.06,2,     0.02,2,     1.71,2, -999.000,9, -999.000,9,    0.226,2,-999.0000,5,  -999.00,9,   -999.0,9,  -999.00,9,-999.000,9,   -999.0,9,   -999.0,9,  -999.0, -999.00,-999.0000,-999.000,   0.006
     316N145_5,  I08S,    47,  1,     26, SIH005,2,19941218,0425,-50.1250,  90.4250, 4040, 3593.7,    356.5,   5.1056,  34.2357,2,  34.2370,2,    261.7,3,  5.0775,    245.8,2,    17.23,2,    26.28,2,     0.01,2,     1.79,2, -999.000,9, -999.000,9, -999.000,5,-999.0000,5,  -999.00,9,   -999.0,9,  -999.00,9,-999.000,9,   -999.0,9,   -999.0,9,  -999.0, -999.00,-999.0000,-999.000,-999.000
     316N145_5,  I08S,    47,  1,     25, SIH019,2,19941218,0425,-50.1250,  90.4250, 4040, 4090.2,    406.4,   4.7958,  34.2404,2,  34.2662,2,    264.1,3,  4.7645,    236.2,2,    24.44,2,    28.55,2,     0.01,2,     1.95,2, -999.000,9, -999.000,9,    0.063,4,   1.7920,2,     1.06,2,   -999.0,9,  -999.00,9,   7.792,2,   -999.0,9,   -999.0,9,  -999.0,    0.16,  0.0040,   0.046,   0.005
     316N145_5,  I08S,    47,  1,     24, SIH037,2,19941218,0425,-50.1250,  90.4250, 4040, 5115.0,    509.5,   4.1028,  34.2450,2,  34.2458,2,    247.3,3,  4.0660,    237.7,2,    24.45,2,    29.12,2,     0.00,2,     1.98,2, -999.000,9, -999.000,9,    0.226,2,-999.0000,5,  -999.00,9,   -999.0,9,  -999.00,9,-999.000,9,   -999.0,9,   -999.0,9,  -999.0, -999.00,-999.0000,-999.000,   0.007
     316N145_5,  I08S,    47,  1,     23, SIH033,2,19941218,0425,-50.1250,  90.4250, 4040, 6106.4,    609.2,   3.8136,  34.3028,2,  34.3027,2,    231.4,3,  3.7704,    220.1,2,    33.11,2,    30.78,2,     0.00,2,     2.10,2, -999.000,9, -999.000,9,    0.008,4,-999.0000,5,  -999.00,9,   -999.0,9,  -999.00,9,-999.000,9,   -999.0,9,   -999.0,9,  -999.0, -999.00,-999.0000,-999.000,   0.005
     316N145_5,  I08S,    47,  1,     22, SIH031,2,19941218,0425,-50.1250,  90.4250, 4040, 7109.9,    710.1,   3.4081,  34.3300,2,  34.3301,2,    220.9,3,  3.3594,    212.0,2,    40.34,2,    31.99,2,     0.00,2,     2.18,2, -999.000,9, -999.000,9,    0.139,2,-999.0000,5,  -999.00,9,   -999.0,9,  -999.00,9,-999.000,9,   -999.0,9,   -999.0,9,  -999.0, -999.00,-999.0000,-999.000,   0.005
     316N145_5,  I08S,    47,  1,     21, SIH030,2,19941218,0425,-50.1250,  90.4250, 4040, 8102.4,    810.0,   3.0850,  34.3772,2,  34.3776,2,    202.8,3,  3.0308,    199.5,2,    49.00,2,    33.15,2,     0.00,2,     2.25,2, -999.000,9, -999.000,9,    0.088,2,-999.0000,5,  -999.00,9,   -999.0,9,  -999.00,9,-999.000,9,   -999.0,9,   -999.0,9,  -999.0, -999.00,-999.0000,-999.000,   0.006
     316N145_5,  I08S,    47,  1,     20, SIH028,2,19941218,0425,-50.1250,  90.4250, 4040, 9111.5,    911.5,   2.8589,  34.4355,2,  34.4357,2,    190.0,3,  2.7987,    188.8,2,    56.86,2,    33.81,2,     0.00,2,     2.30,2, -999.000,9, -999.000,9, -999.000,5,-999.0000,5,  -999.00,9,   -999.0,9,  -999.00,9,-999.000,9,   -999.0,9,   -999.0,9,  -999.0, -999.00,-999.0000,-999.000,-999.000
     316N145_5,  I08S,    47,  1,     19, SIH027,2,19941218,0425,-50.1250,  90.4250, 4040,10105.2,   1011.4,   2.9370,  34.5020,2,  34.5058,2,    180.3,3,  2.8688,    182.4,2,    61.67,2,    33.65,2,     0.00,2,     2.30,2, -999.000,9, -999.000,9,    0.060,2,-999.0000,5,  -999.00,9,   -999.0,9,  -999.00,9,-999.000,9,   -999.0,9,   -999.0,9,  -999.0, -999.00,-999.0000,-999.000,   0.006
     316N145_5,  I08S,    47,  1,     18, SIH003,2,19941218,0425,-50.1250,  90.4250, 4040,11120.8,   1113.6,   2.5812,  34.5288,2,  34.5296,2,    179.5,3,  2.5081,    179.6,2,    66.97,2,    33.94,2,     0.00,2,     2.30,2, -999.000,9, -999.000,9, -999.000,5,-999.0000,5,  -999.00,9,   -999.0,9,  -999.00,9,-999.000,9,   -999.0,9,   -999.0,9,  -999.0, -999.00,-999.0000,-999.000,-999.000
     316N145_5,  I08S,    47,  1,     17, SIH024,2,19941218,0425,-50.1250,  90.4250, 4040,12132.1,   1215.3,   2.5517,  34.5804,2,  34.5804,2,    176.5,3,  2.4712,    177.5,2,    70.02,2,    33.48,2,     0.00,2,     2.27,2, -999.000,9, -999.000,9,    0.061,4,   1.8530,2,     7.91,2,   -999.0,9,  -999.00,9,   8.007,2,   -999.0,9,   -999.0,9,  -999.0,    0.14,  0.0040,   0.044,   0.005
     316N145_5,  I08S,    47,  1,     16, SIH022,2,19941218,0425,-50.1250,  90.4250, 4040,13122.7,   1314.9,   2.4795,  34.6267,2,  34.6252,2,    175.8,3,  2.3920,    178.4,2,    72.27,2,    32.92,2,     0.00,2,     2.25,2, -999.000,9, -999.000,9,   -0.028,4,-999.0000,5,  -999.00,9,   -999.0,9,  -999.00,9,-999.000,9,   -999.0,9,   -999.0,9,  -999.0, -999.00,-999.0000,-999.000,   0.003
     316N145_5,  I08S,    47,  1,     15, SIH021,2,19941218,0425,-50.1250,  90.4250, 4040,15127.0,   1516.5,   2.3494,  34.6946,2,  34.6954,2,    183.5,3,  2.2474,    184.0,2,    75.65,2,    31.60,2,     0.00,2,     2.18,2, -999.000,9, -999.000,9,   -0.042,4,   1.8520,2,     8.78,2,   -999.0,9,  -999.00,9,   8.024,2,   -999.0,9,   -999.0,9,  -999.0,    0.14,  0.0040,   0.036,   0.005
     316N145_5,  I08S,    47,  1,     14, SIH002,2,19941218,0425,-50.1250,  90.4250, 4040,17155.8,   1720.6,   2.2901,  34.7335,2,  34.7341,2,    191.3,3,  2.1724,    191.9,2,    76.30,2,    30.48,2,     0.00,2,     2.10,2, -999.000,9, -999.000,9,   -0.069,4,-999.0000,5,  -999.00,9,   -999.0,9,  -999.00,9,-999.000,9,   -999.0,9,   -999.0,9,  -999.0, -999.00,-999.0000,-999.000,   0.007
     316N145_5,  I08S,    47,  1,     13, SIH018,2,19941218,0425,-50.1250,  90.4250, 4040,19166.6,   1922.9,   2.1943,  34.7495,2,  34.7498,2,    197.9,3,  2.0611,    195.0,2,    78.39,2,    30.07,2,     0.00,2,     2.07,2, -999.000,9, -999.000,9,    0.031,4,   1.8550,2,     8.55,2,   -999.0,9,  -999.00,9,-999.000,5,   -999.0,9,   -999.0,9,  -999.0,    0.14,  0.0040,-999.000,   0.005
     316N145_5,  I08S,    47,  1,     12, SIH016,2,19941218,0425,-50.1250,  90.4250, 4040,21190.4,   2126.4,   2.0655,  34.7531,2,  34.7533,2,    201.1,3,  1.9169,    196.5,2,    82.42,2,    30.01,2,     0.00,2,     2.07,2, -999.000,9, -999.000,9,   -0.080,4,-999.0000,5,  -999.00,9,   -999.0,9,  -999.00,9,-999.000,9,   -999.0,9,   -999.0,9,  -999.0, -999.00,-999.0000,-999.000,   0.005
     316N145_5,  I08S,    47,  1,     11, SIH015,2,19941218,0425,-50.1250,  90.4250, 4040,23206.9,   2329.3,   1.8808,  34.7545,2,  34.7557,2,    200.4,3,  1.7176,    198.8,2,    87.72,2,    30.16,2,     0.00,2,     2.08,2, -999.000,9, -999.000,9,   -0.019,4,   1.8620,2,     8.50,2,   -999.0,9,  -999.00,9,   8.041,2,   -999.0,9,   -999.0,9,  -999.0,    0.14,  0.0040,   0.050,   0.004
     316N145_5,  I08S,    47,  1,     10, SIH013,2,19941218,0425,-50.1250,  90.4250, 4040,25225.1,   2532.3,   1.7836,  34.7549,2,  34.7541,2,    202.7,3,  1.6040,    200.8,2,    90.78,2,    30.16,2,     0.00,2,     2.08,2, -999.000,9, -999.000,9,   -0.053,4,-999.0000,5,  -999.00,9,   -999.0,9,  -999.00,9,-999.000,9,   -999.0,9,   -999.0,9,  -999.0, -999.00,-999.0000,-999.000,   0.005
     316N145_5,  I08S,    47,  1,      9, SIH012,2,19941218,0425,-50.1250,  90.4250, 4040,27258.4,   2736.8,   1.6987,  34.7519,2,  34.7518,2,    203.5,3,  1.5020,    202.2,2,    93.36,2,    30.31,2,     0.00,2,     2.09,2, -999.000,9, -999.000,9, -999.000,5,-999.0000,5,  -999.00,9,   -999.0,9,  -999.00,9,-999.000,9,   -999.0,9,   -999.0,9,  -999.0, -999.00,-999.0000,-999.000,-999.000
     316N145_5,  I08S,    47,  1,      8, SIH010,2,19941218,0425,-50.1250,  90.4250, 4040,29249.5,   2937.1,   1.4868,  34.7413,2,  34.7388,2,    200.5,3,  1.2759,    202.8,2,   100.43,2,    30.81,2,     0.00,2,     2.13,2, -999.000,9, -999.000,9,   -0.030,4,-999.0000,5,  -999.00,9,   -999.0,9,  -999.00,9,-999.000,9,   -999.0,9,   -999.0,9,  -999.0, -999.00,-999.0000,-999.000,   0.005
     316N145_5,  I08S,    47,  1,      7, SIH009,2,19941218,0425,-50.1250,  90.4250, 4040,31282.7,   3141.6,   1.2903,  34.7309,2,  34.7313,2,    202.5,3,  1.0644,    204.6,2,   106.53,2,    31.21,2,     0.00,2,     2.16,2, -999.000,9, -999.000,9,    0.033,4,-999.0000,5,    -2.08,4,   -999.0,9,  -999.00,9,-999.000,5,   -999.0,9,   -999.0,9,  -999.0,    0.28,-999.0000,-999.000,   0.006
     316N145_5,  I08S,    47,  1,      6, SIH038,2,19941218,0425,-50.1250,  90.4250, 4040,33291.7,   3343.7,   1.0345,  34.7174,2,  34.7156,2,    206.1,3,  0.7952,    207.9,2,   113.92,2,    31.72,2,     0.00,2,     2.19,2, -999.000,9, -999.000,9,   -0.043,4,-999.0000,5,  -999.00,9,   -999.0,9,  -999.00,9,-999.000,9,   -999.0,9,   -999.0,9,  -999.0, -999.00,-999.0000,-999.000,   0.002
     316N145_5,  I08S,    47,  1,      5, SIH006,2,19941218,0425,-50.1250,  90.4250, 4040,35322.7,   3548.0,   0.7373,  34.7033,2,  34.7038,2,    209.8,3,  0.4856,    212.3,2,   120.66,2,    32.12,2,     0.00,2,     2.21,2, -999.000,9, -999.000,9,   -0.031,4,-999.0000,5,  -999.00,9,   -999.0,9,  -999.00,9,-999.000,9,   -999.0,9,   -999.0,9,  -999.0, -999.00,-999.0000,-999.000,   0.004
     316N145_5,  I08S,    47,  1,      4, SIH004,2,19941218,0425,-50.1250,  90.4250, 4040,37344.5,   3751.3,   0.5010,  34.6942,2,  34.6922,2,    216.8,3,  0.2355,    217.5,2,   125.00,2,    32.31,2,     0.00,2,     2.24,2, -999.000,9, -999.000,9,   -0.059,4,   1.8910,2,     7.27,2,   -999.0,9,  -999.00,9,   8.267,2,   -999.0,9,   -999.0,9,  -999.0,    0.14,  0.0030,   0.062,   0.005
     316N145_5,  I08S,    47,  1,      3, SIH025,2,19941218,0425,-50.1250,  90.4250, 4040,39098.2,   3927.7,   0.3650,  34.6876,2,  34.6857,2,    222.2,3,  0.0856,    221.2,2,   127.10,2,    32.36,2,     0.00,2,     2.24,2, -999.000,9, -999.000,9,   -0.064,4,   1.8950,2,     7.28,2,   -999.0,9,  -999.00,9,   8.254,2,   -999.0,9,   -999.0,9,  -999.0,    0.11,  0.0030,   0.032,   0.005
     316N145_5,  I08S,    47,  1,      2, SIH001,2,19941218,0425,-50.1250,  90.4250, 4040,40107.1,   4029.2,   0.3370,  34.6859,2,  34.6863,2,    221.3,3,  0.0481,    221.7,2,   127.60,2,    32.46,2,     0.00,2,     2.24,2, -999.000,9, -999.000,9,    0.014,4,   1.8910,2,     7.02,2,   -999.0,9,  -999.00,9,   8.244,2,   -999.0,9,   -999.0,9,  -999.0,    0.14,  0.0030,   0.055,   0.006
     316N145_5,  I08S,    47,  1,      1, SIH036,2,19941218,0425,-50.1250,  90.4250, 4040,40622.7,   4081.1,   0.3422,  34.6861,2,  34.6897,3,    222.6,3,  0.0478,    222.0,2,   127.47,2,    32.41,2,     0.00,2,     2.23,2, -999.000,9, -999.000,9,    0.074,4,-999.0000,5,  -999.00,9,   -999.0,9,  -999.00,9,-999.000,9,   -999.0,9,   -999.0,9,  -999.0, -999.00,-999.0000,-999.000,   0.005