BOTTLE,20090521WHPSIOdm
EXPOCODE,SECT_ID,STNNBR,CASTNO,SAMPNO,BTLNBR,BTLNBR_FLAG_W,DATE,TIME,LATITUDE,LONGITUDE,DEPTH,CTDRAW,CTDPRS,CTDTMP,CTDSAL,CTDSAL_FLAG_W,SALNTY,SALNTY_FLAG_W,CTDOXY,CTDOXY_FLAG_W,THETA,OXYGEN,OXYGEN_FLAG_W,SILCAT,SILCAT_FLAG_W,NITRAT,NITRAT_FLAG_W,NITRIT,NITRIT_FLAG_W,PHSPHT,PHSPHT_FLAG_W,CFC-11,CFC-11_FLAG_W,CFC-12,CFC-12_FLAG_W,TRITUM,TRITUM_FLAG_W,HELIUM,HELIUM_FLAG_W,DELHE3,DELHE3_FLAG_W,DELC14,DELC14_FLAG_W,DELC13,DELC13_FLAG_W,NEON,NEON_FLAG_W,TCARBN,TCARBN_FLAG_W,ALKALI,ALKALI_FLAG_W,C14ERR,DELHER,HELIER,NEONER,TRITER
,,,,,,,,,,,,,DBAR,IPTS-68,PSS-78,,PSS-78,,UMOL/KG,,IPTS-68,UMOL/KG,,UMOL/KG,,UMOL/KG,,UMOL/KG,,UMOL/KG,,PMOL/KG,,PMOL/KG,,TU,,NMOL/KG,,PERCNT,,/MILLE,,/MILLE,,NMOL/KG,,UMOL/KG,,UMOL/KG,,/MILLE,PERCNT,NMOL/KG,NMOL/KG,TU
     316N145_5,  I08S,    36,  1,     36, SIH035,2,19941214,2300,-45.4388,  94.6333, 3095,  171.9,     12.4,   8.5986,  34.3050,2,  34.3044,2,    294.2,2,  8.5973,    292.3,2,     1.02,2,    14.10,2,     0.28,2,     1.09,2, -999.000,9, -999.000,9, -999.000,5,-999.0000,5,  -999.00,9,   -999.0,9,  -999.00,9,-999.000,9,   -999.0,9,   -999.0,9,  -999.0, -999.00,-999.0000,-999.000,-999.000
     316N145_5,  I08S,    36,  1,     35, SIH032,2,19941214,2300,-45.4388,  94.6333, 3095,  370.1,     32.3,   8.6025,  34.3064,2,  34.3064,2,    295.2,2,  8.5991,    292.4,2,     0.84,2,    14.13,2,     0.28,2,     1.09,2, -999.000,9, -999.000,9, -999.000,5,-999.0000,5,  -999.00,9,   -999.0,9,  -999.00,9,-999.000,9,   -999.0,9,   -999.0,9,  -999.0, -999.00,-999.0000,-999.000,-999.000
     316N145_5,  I08S,    36,  1,     34, SIH029,2,19941214,2300,-45.4388,  94.6333, 3095,  614.9,     56.9,   8.5955,  34.3074,2,  34.3076,2,    293.8,2,  8.5896,    292.1,2,     0.66,2,    14.15,2,     0.28,2,     1.09,2, -999.000,9, -999.000,9, -999.000,5,-999.0000,5,  -999.00,9,   -999.0,9,  -999.00,9,-999.000,9,   -999.0,9,   -999.0,9,  -999.0, -999.00,-999.0000,-999.000,-999.000
     316N145_5,  I08S,    36,  1,     33, SIH026,2,19941214,2300,-45.4388,  94.6333, 3095,  863.1,     81.9,   8.3787,  34.3099,2,  34.3097,2,    293.9,2,  8.3703,    290.8,2,     1.00,2,    14.44,2,     0.28,2,     1.12,2, -999.000,9, -999.000,9, -999.000,5,-999.0000,5,  -999.00,9,   -999.0,9,  -999.00,9,-999.000,9,   -999.0,9,   -999.0,9,  -999.0, -999.00,-999.0000,-999.000,-999.000
     316N145_5,  I08S,    36,  1,     32, SIH023,2,19941214,2300,-45.4388,  94.6333, 3095, 1123.1,    108.0,   8.2519,  34.2988,2,  34.3027,2,    278.2,2,  8.2410,    289.1,2,     1.51,2,    14.68,2,     0.29,2,     1.16,2, -999.000,9, -999.000,9, -999.000,5,-999.0000,5,  -999.00,9,   -999.0,9,  -999.00,9,-999.000,9,   -999.0,9,   -999.0,9,  -999.0, -999.00,-999.0000,-999.000,-999.000
     316N145_5,  I08S,    36,  1,     31, SIH020,2,19941214,2300,-45.4388,  94.6333, 3095, 1618.3,    157.8,   7.3453,  34.2839,2,  34.2770,2,    277.4,2,  7.3303,    277.4,2,     5.93,2,    18.46,2,     0.18,2,     1.36,2, -999.000,9, -999.000,9, -999.000,5,-999.0000,5,  -999.00,9,   -999.0,9,  -999.00,9,-999.000,9,   -999.0,9,   -999.0,9,  -999.0, -999.00,-999.0000,-999.000,-999.000
     316N145_5,  I08S,    36,  1,     30, SIH017,2,19941214,2300,-45.4388,  94.6333, 3095, 2104.0,    206.7,   7.3722,  34.3517,2,  34.3535,2,    271.2,2,  7.3524,    258.2,2,     7.81,2,    19.92,2,     0.01,2,     1.43,2, -999.000,9, -999.000,9, -999.000,5,-999.0000,5,  -999.00,9,   -999.0,9,  -999.00,9,-999.000,9,   -999.0,9,   -999.0,9,  -999.0, -999.00,-999.0000,-999.000,-999.000
     316N145_5,  I08S,    36,  1,     29, SIH014,2,19941214,2300,-45.4388,  94.6333, 3095, 2593.9,    255.9,   7.2997,  34.3996,2,  34.3998,2,    247.6,2,  7.2752,    241.2,2,    10.02,2,    21.49,2,     0.01,2,     1.52,2, -999.000,9, -999.000,9, -999.000,5,-999.0000,5,  -999.00,9,   -999.0,9,  -999.00,9,-999.000,9,   -999.0,9,   -999.0,9,  -999.0, -999.00,-999.0000,-999.000,-999.000
     316N145_5,  I08S,    36,  1,     28, SIH011,2,19941214,2300,-45.4388,  94.6333, 3095, 3086.0,    305.4,   6.7221,  34.3446,2,  34.3431,2,    267.1,2,  6.6942,    256.3,2,    10.53,2,    21.73,2,     0.02,2,     1.53,2, -999.000,9, -999.000,9, -999.000,5,-999.0000,5,  -999.00,9,   -999.0,9,  -999.00,9,-999.000,9,   -999.0,9,   -999.0,9,  -999.0, -999.00,-999.0000,-999.000,-999.000
     316N145_5,  I08S,    36,  1,     27, SIH008,2,19941214,2300,-45.4388,  94.6333, 3095, 3554.4,    352.5,   6.7385,  34.3981,2,  34.4057,2,    269.0,2,  6.7062,    233.9,2,    12.91,2,    23.26,2,     0.01,2,     1.62,2, -999.000,9, -999.000,9, -999.000,5,-999.0000,5,  -999.00,9,   -999.0,9,  -999.00,9,-999.000,9,   -999.0,9,   -999.0,9,  -999.0, -999.00,-999.0000,-999.000,-999.000
     316N145_5,  I08S,    36,  1,     26, SIH005,2,19941214,2300,-45.4388,  94.6333, 3095, 4132.6,    410.7,   5.6021,  34.2549,2,  34.2528,2,    262.2,2,  5.5679,    260.5,2,    12.40,2,    23.95,2,     0.01,2,     1.67,2, -999.000,9, -999.000,9, -999.000,5,-999.0000,5,  -999.00,9,   -999.0,9,  -999.00,9,-999.000,9,   -999.0,9,   -999.0,9,  -999.0, -999.00,-999.0000,-999.000,-999.000
     316N145_5,  I08S,    36,  1,     25, SIH019,2,19941214,2300,-45.4388,  94.6333, 3095, 4489.4,    446.6,   5.6619,  34.3085,2,  34.3050,2,    249.0,2,  5.6244,    238.4,2,    15.80,2,    25.64,2,     0.01,2,     1.78,2, -999.000,9, -999.000,9, -999.000,5,-999.0000,5,  -999.00,9,   -999.0,9,  -999.00,9,-999.000,9,   -999.0,9,   -999.0,9,  -999.0, -999.00,-999.0000,-999.000,-999.000
     316N145_5,  I08S,    36,  1,     24, SIH037,2,19941214,2300,-45.4388,  94.6333, 3095, 5221.4,    520.2,   5.2509,  34.3213,2,  34.3221,2,    230.2,2,  5.2085,    226.3,2,    20.41,2,    27.63,2,     0.00,2,     1.90,2, -999.000,9, -999.000,9, -999.000,5,-999.0000,5,  -999.00,9,   -999.0,9,  -999.00,9,-999.000,9,   -999.0,9,   -999.0,9,  -999.0, -999.00,-999.0000,-999.000,-999.000
     316N145_5,  I08S,    36,  1,     23, SIH033,2,19941214,2300,-45.4388,  94.6333, 3095, 6217.6,    620.4,   4.4931,  34.3045,2,  34.3058,2,    227.0,2,  4.4458,    224.5,2,    25.87,2,    29.33,2,     0.00,2,     2.02,2, -999.000,9, -999.000,9, -999.000,5,-999.0000,5,  -999.00,9,   -999.0,9,  -999.00,9,-999.000,9,   -999.0,9,   -999.0,9,  -999.0, -999.00,-999.0000,-999.000,-999.000
     316N145_5,  I08S,    36,  1,     22, SIH031,2,19941214,2300,-45.4388,  94.6333, 3095, 7118.2,    711.0,   3.9667,  34.2996,2,  34.3007,2,    222.6,2,  3.9149,    222.2,2,    30.99,2,    30.59,2,     0.00,2,     2.10,2, -999.000,9, -999.000,9, -999.000,5,-999.0000,5,  -999.00,9,   -999.0,9,  -999.00,9,-999.000,9,   -999.0,9,   -999.0,9,  -999.0, -999.00,-999.0000,-999.000,-999.000
     316N145_5,  I08S,    36,  1,     21, SIH030,2,19941214,2300,-45.4388,  94.6333, 3095, 8041.6,    803.9,   3.7340,  34.3282,2,  34.3297,2,    210.1,2,  3.6763,    212.6,2,    36.62,2,    31.58,2,     0.00,2,     2.17,2, -999.000,9, -999.000,9, -999.000,5,-999.0000,5,  -999.00,9,   -999.0,9,  -999.00,9,-999.000,9,   -999.0,9,   -999.0,9,  -999.0, -999.00,-999.0000,-999.000,-999.000
     316N145_5,  I08S,    36,  1,     20, SIH028,2,19941214,2300,-45.4388,  94.6333, 3095, 9162.3,    916.6,   3.2627,  34.3663,2,  34.3678,2,    199.6,2,  3.1994,    202.0,2,    45.84,2,    33.02,2,     0.00,2,     2.27,2, -999.000,9, -999.000,9, -999.000,5,-999.0000,5,  -999.00,9,   -999.0,9,  -999.00,9,-999.000,9,   -999.0,9,   -999.0,9,  -999.0, -999.00,-999.0000,-999.000,-999.000
     316N145_5,  I08S,    36,  1,     19, SIH027,2,19941214,2300,-45.4388,  94.6333, 3095,10359.8,   1037.0,   3.0420,  34.4253,2,  34.4263,2,    189.7,2,  2.9711,    189.5,2,    54.04,2,    33.74,2,     0.00,2,     2.33,2, -999.000,9, -999.000,9, -999.000,5,-999.0000,5,  -999.00,9,   -999.0,9,  -999.00,9,-999.000,9,   -999.0,9,   -999.0,9,  -999.0, -999.00,-999.0000,-999.000,-999.000
     316N145_5,  I08S,    36,  1,     18, SIH003,2,19941214,2300,-45.4388,  94.6333, 3095,11268.7,   1128.5,   2.9176,  34.4690,2,  34.4691,2,    182.8,2,  2.8406,    183.1,2,    59.33,2,    34.06,2,     0.00,2,     2.34,2, -999.000,9, -999.000,9, -999.000,5,-999.0000,5,  -999.00,9,   -999.0,9,  -999.00,9,-999.000,9,   -999.0,9,   -999.0,9,  -999.0, -999.00,-999.0000,-999.000,-999.000
     316N145_5,  I08S,    36,  1,     17, SIH024,2,19941214,2300,-45.4388,  94.6333, 3095,12089.4,   1211.0,   2.8121,  34.5137,2,  34.5144,2,    179.3,2,  2.7296,    178.8,2,    63.60,2,    34.06,2,     0.00,2,     2.34,2, -999.000,9, -999.000,9, -999.000,5,-999.0000,5,  -999.00,9,   -999.0,9,  -999.00,9,-999.000,9,   -999.0,9,   -999.0,9,  -999.0, -999.00,-999.0000,-999.000,-999.000
     316N145_5,  I08S,    36,  1,     16, SIH022,2,19941214,2300,-45.4388,  94.6333, 3095,13070.3,   1309.7,   2.6676,  34.5470,2,  34.5478,2,    178.1,2,  2.5788,    177.5,2,    67.17,2,    33.89,2,     0.00,2,     2.33,2, -999.000,9, -999.000,9, -999.000,5,-999.0000,5,  -999.00,9,   -999.0,9,  -999.00,9,-999.000,9,   -999.0,9,   -999.0,9,  -999.0, -999.00,-999.0000,-999.000,-999.000
     316N145_5,  I08S,    36,  1,     15, SIH021,2,19941214,2300,-45.4388,  94.6333, 3095,14145.3,   1417.8,   2.5806,  34.5907,2,  34.5916,2,    177.5,2,  2.4841,    176.9,2,    70.24,2,    33.49,2,     0.00,2,     2.30,2, -999.000,9, -999.000,9, -999.000,5,-999.0000,5,  -999.00,9,   -999.0,9,  -999.00,9,-999.000,9,   -999.0,9,   -999.0,9,  -999.0, -999.00,-999.0000,-999.000,-999.000
     316N145_5,  I08S,    36,  1,     14, SIH002,2,19941214,2300,-45.4388,  94.6333, 3095,15050.9,   1508.9,   2.5419,  34.6242,2,  34.6185,3,    178.4,2,  2.4385,    177.8,2,    71.77,2,    32.98,2,     0.00,2,     2.27,2, -999.000,9, -999.000,9, -999.000,5,-999.0000,5,  -999.00,9,   -999.0,9,  -999.00,9,-999.000,9,   -999.0,9,   -999.0,9,  -999.0, -999.00,-999.0000,-999.000,-999.000
     316N145_5,  I08S,    36,  1,     13, SIH018,2,19941214,2300,-45.4388,  94.6333, 3095,16151.3,   1619.6,   2.4990,  34.6703,2,  34.6720,2,    181.6,2,  2.3870,    181.1,2,    72.79,2,    31.96,2,     0.00,2,     2.21,2, -999.000,9, -999.000,9, -999.000,5,-999.0000,5,  -999.00,9,   -999.0,9,  -999.00,9,-999.000,9,   -999.0,9,   -999.0,9,  -999.0, -999.00,-999.0000,-999.000,-999.000
     316N145_5,  I08S,    36,  1,     12, SIH016,2,19941214,2300,-45.4388,  94.6333, 3095,17259.2,   1731.0,   2.4531,  34.6941,2,  34.6946,2,    183.3,2,  2.3325,    183.8,2,    73.64,2,    31.39,2,     0.00,2,     2.17,2, -999.000,9, -999.000,9, -999.000,5,-999.0000,5,  -999.00,9,   -999.0,9,  -999.00,9,-999.000,9,   -999.0,9,   -999.0,9,  -999.0, -999.00,-999.0000,-999.000,-999.000
     316N145_5,  I08S,    36,  1,     11, SIH015,3,19941214,2300,-45.4388,  94.6333, 3095,18252.3,   1830.9,   2.3867,  34.7173,2,-999.0000,9,    186.5,3,  2.2585,   -999.0,9,  -999.00,9,  -999.00,9,  -999.00,9,  -999.00,9, -999.000,9, -999.000,9, -999.000,5,-999.0000,5,  -999.00,9,   -999.0,9,  -999.00,9,-999.000,9,   -999.0,9,   -999.0,9,  -999.0, -999.00,-999.0000,-999.000,-999.000
     316N145_5,  I08S,    36,  1,     10, SIH013,2,19941214,2300,-45.4388,  94.6333, 3095,19421.5,   1948.5,   2.3201,  34.7335,2,  34.7349,2,    189.8,2,  2.1828,    190.7,2,    76.36,2,    30.32,2,     0.00,2,     2.10,2, -999.000,9, -999.000,9, -999.000,5,-999.0000,5,  -999.00,9,   -999.0,9,  -999.00,9,-999.000,9,   -999.0,9,   -999.0,9,  -999.0, -999.00,-999.0000,-999.000,-999.000
     316N145_5,  I08S,    36,  1,      9, SIH012,2,19941214,2300,-45.4388,  94.6333, 3095,20229.9,   2029.8,   2.2653,  34.7430,2,  34.7445,2,    192.8,2,  2.1219,    193.2,2,    77.55,2,    30.02,2,     0.00,2,     2.08,2, -999.000,9, -999.000,9, -999.000,5,-999.0000,5,  -999.00,9,   -999.0,9,  -999.00,9,-999.000,9,   -999.0,9,   -999.0,9,  -999.0, -999.00,-999.0000,-999.000,-999.000
     316N145_5,  I08S,    36,  1,      8, SIH010,2,19941214,2300,-45.4388,  94.6333, 3095,21320.5,   2139.5,   2.1818,  34.7510,2,  34.7516,2,    195.2,2,  2.0301,    195.3,2,    79.94,2,    29.85,2,     0.00,2,     2.07,2, -999.000,9, -999.000,9, -999.000,5,-999.0000,5,  -999.00,9,   -999.0,9,  -999.00,9,-999.000,9,   -999.0,9,   -999.0,9,  -999.0, -999.00,-999.0000,-999.000,-999.000
     316N145_5,  I08S,    36,  1,      7, SIH009,2,19941214,2300,-45.4388,  94.6333, 3095,22338.1,   2241.9,   2.0843,  34.7549,2,  34.7557,2,    195.9,2,  1.9253,    197.3,2,    82.67,2,    29.78,2,     0.00,2,     2.06,2, -999.000,9, -999.000,9, -999.000,5,-999.0000,5,  -999.00,9,   -999.0,9,  -999.00,9,-999.000,9,   -999.0,9,   -999.0,9,  -999.0, -999.00,-999.0000,-999.000,-999.000
     316N145_5,  I08S,    36,  1,      6, SIH038,2,19941214,2300,-45.4388,  94.6333, 3095,24142.9,   2423.4,   1.8875,  34.7532,2,  34.7551,2,    197.7,2,  1.7158,    198.8,2,    89.50,2,    30.04,2,     0.00,2,     2.08,2, -999.000,9, -999.000,9, -999.000,5,-999.0000,5,  -999.00,9,   -999.0,9,  -999.00,9,-999.000,9,   -999.0,9,   -999.0,9,  -999.0, -999.00,-999.0000,-999.000,-999.000
     316N145_5,  I08S,    36,  1,      5, SIH006,2,19941214,2300,-45.4388,  94.6333, 3095,26074.9,   2617.8,   1.6720,  34.7468,2,  34.7473,2,    199.9,2,  1.4869,    199.5,2,    97.19,2,    30.54,2,     0.00,2,     2.12,2, -999.000,9, -999.000,9, -999.000,5,-999.0000,5,  -999.00,9,   -999.0,9,  -999.00,9,-999.000,9,   -999.0,9,   -999.0,9,  -999.0, -999.00,-999.0000,-999.000,-999.000
     316N145_5,  I08S,    36,  1,      4, SIH004,2,19941214,2300,-45.4388,  94.6333, 3095,28262.7,   2837.8,   1.3883,  34.7351,2,  34.7357,2,    201.7,2,  1.1887,    202.4,2,   106.24,2,    31.10,2,     0.00,2,     2.16,2, -999.000,9, -999.000,9, -999.000,5,-999.0000,5,  -999.00,9,   -999.0,9,  -999.00,9,-999.000,9,   -999.0,9,   -999.0,9,  -999.0, -999.00,-999.0000,-999.000,-999.000
     316N145_5,  I08S,    36,  1,      3, SIH025,2,19941214,2300,-45.4388,  94.6333, 3095,29927.3,   3005.3,   1.3693,  34.7343,2,  34.7339,2,    202.1,2,  1.1546,    202.9,2,   107.09,2,    31.15,2,     0.00,2,     2.17,2, -999.000,9, -999.000,9, -999.000,5,-999.0000,5,  -999.00,9,   -999.0,9,  -999.00,9,-999.000,9,   -999.0,9,   -999.0,9,  -999.0, -999.00,-999.0000,-999.000,-999.000
     316N145_5,  I08S,    36,  1,      2, SIH001,2,19941214,2300,-45.4388,  94.6333, 3095,30990.8,   3112.3,   1.3642,  34.7340,2,  34.7333,2,    202.2,2,  1.1394,    202.8,2,   107.77,2,    31.20,2,     0.00,2,     2.16,2, -999.000,9, -999.000,9, -999.000,5,-999.0000,5,  -999.00,9,   -999.0,9,  -999.00,9,-999.000,9,   -999.0,9,   -999.0,9,  -999.0, -999.00,-999.0000,-999.000,-999.000
     316N145_5,  I08S,    36,  1,      1, SIH036,2,19941214,2300,-45.4388,  94.6333, 3095,31462.5,   3159.7,   1.3585,  34.7333,2,  34.7319,2,    202.7,2,  1.1293,    203.0,2,   107.81,2,    31.27,2,     0.00,2,     2.16,2, -999.000,9, -999.000,9, -999.000,5,-999.0000,5,  -999.00,9,   -999.0,9,  -999.00,9,-999.000,9,   -999.0,9,   -999.0,9,  -999.0, -999.00,-999.0000,-999.000,-999.000