BOTTLE,20090521WHPSIOdm
EXPOCODE,SECT_ID,STNNBR,CASTNO,SAMPNO,BTLNBR,BTLNBR_FLAG_W,DATE,TIME,LATITUDE,LONGITUDE,DEPTH,CTDRAW,CTDPRS,CTDTMP,CTDSAL,CTDSAL_FLAG_W,SALNTY,SALNTY_FLAG_W,CTDOXY,CTDOXY_FLAG_W,THETA,OXYGEN,OXYGEN_FLAG_W,SILCAT,SILCAT_FLAG_W,NITRAT,NITRAT_FLAG_W,NITRIT,NITRIT_FLAG_W,PHSPHT,PHSPHT_FLAG_W,CFC-11,CFC-11_FLAG_W,CFC-12,CFC-12_FLAG_W,TRITUM,TRITUM_FLAG_W,HELIUM,HELIUM_FLAG_W,DELHE3,DELHE3_FLAG_W,DELC14,DELC14_FLAG_W,DELC13,DELC13_FLAG_W,NEON,NEON_FLAG_W,TCARBN,TCARBN_FLAG_W,ALKALI,ALKALI_FLAG_W,C14ERR,DELHER,HELIER,NEONER,TRITER
,,,,,,,,,,,,,DBAR,IPTS-68,PSS-78,,PSS-78,,UMOL/KG,,IPTS-68,UMOL/KG,,UMOL/KG,,UMOL/KG,,UMOL/KG,,UMOL/KG,,PMOL/KG,,PMOL/KG,,TU,,NMOL/KG,,PERCNT,,/MILLE,,/MILLE,,NMOL/KG,,UMOL/KG,,UMOL/KG,,/MILLE,PERCNT,NMOL/KG,NMOL/KG,TU
     316N145_5,  I08S,    34,  1,     36, SIH035,2,19941214,0929,-44.4888,  95.0250, 3055,  144.4,      9.7,   9.1007,  34.3728,2,  34.3733,2,    293.7,2,  9.0996,    289.3,2,     1.41,2,    13.02,2,     0.27,2,     1.03,2, -999.000,9, -999.000,9, -999.000,5,-999.0000,5,  -999.00,9,   -999.0,9,  -999.00,9,-999.000,9,   -999.0,9,   -999.0,9,  -999.0, -999.00,-999.0000,-999.000,-999.000
     316N145_5,  I08S,    34,  1,     35, SIH032,2,19941214,0929,-44.4888,  95.0250, 3055,  343.3,     29.6,   9.0979,  34.3733,2,  34.3739,2,    295.6,2,  9.0947,    289.3,2,     1.24,2,    12.96,2,     0.27,2,     1.03,2,    4.107,2,    2.107,2, -999.000,5,-999.0000,5,  -999.00,9,   -999.0,9,  -999.00,9,-999.000,9,   -999.0,9,   -999.0,9,  -999.0, -999.00,-999.0000,-999.000,-999.000
     316N145_5,  I08S,    34,  1,     34, SIH029,2,19941214,0929,-44.4888,  95.0250, 3055,  607.2,     56.2,   9.1340,  34.4249,2,  34.4245,2,    288.6,2,  9.1280,    285.5,2,     1.42,2,    12.55,2,     0.26,2,     1.06,2,    4.037,2,    2.036,2, -999.000,5,-999.0000,5,  -999.00,9,   -999.0,9,  -999.00,9,-999.000,9,   -999.0,9,   -999.0,9,  -999.0, -999.00,-999.0000,-999.000,-999.000
     316N145_5,  I08S,    34,  1,     33, SIH026,2,19941214,0929,-44.4888,  95.0250, 3055,  832.6,     78.8,   9.1303,  34.4346,2,  34.4339,2,    287.4,2,  9.1218,    284.6,2,     1.42,2,    12.49,2,     0.26,2,     1.03,2, -999.000,9, -999.000,9, -999.000,5,-999.0000,5,  -999.00,9,   -999.0,9,  -999.00,9,-999.000,9,   -999.0,9,   -999.0,9,  -999.0, -999.00,-999.0000,-999.000,-999.000
     316N145_5,  I08S,    34,  1,     32, SIH023,2,19941214,0929,-44.4888,  95.0250, 3055, 1084.0,    104.1,   8.4270,  34.3666,2,  34.3672,2,    292.5,2,  8.4162,    284.8,2,     3.31,2,    14.32,2,     0.30,2,     1.15,2,    4.184,2,    2.128,2, -999.000,5,-999.0000,5,  -999.00,9,   -999.0,9,  -999.00,9,-999.000,9,   -999.0,9,   -999.0,9,  -999.0, -999.00,-999.0000,-999.000,-999.000
     316N145_5,  I08S,    34,  1,     31, SIH020,2,19941214,0929,-44.4888,  95.0250, 3055, 1583.7,    154.4,   7.5809,  34.3730,2,  34.3727,2,    280.0,2,  7.5659,    278.3,2,     6.07,2,    17.48,2,     0.22,2,     1.30,2, -999.000,9, -999.000,9, -999.000,5,-999.0000,5,  -999.00,9,   -999.0,9,  -999.00,9,-999.000,9,   -999.0,9,   -999.0,9,  -999.0, -999.00,-999.0000,-999.000,-999.000
     316N145_5,  I08S,    34,  1,     30, SIH017,2,19941214,0929,-44.4888,  95.0250, 3055, 2095.0,    205.8,   6.9555,  34.2967,2,  34.2976,2,    284.2,2,  6.9365,    284.6,2,     6.59,2,    18.65,2,     0.27,2,     1.37,2,    4.343,6,    2.178,6, -999.000,5,-999.0000,5,  -999.00,9,   -999.0,9,  -999.00,9,-999.000,9,   -999.0,9,   -999.0,9,  -999.0, -999.00,-999.0000,-999.000,-999.000
     316N145_5,  I08S,    34,  1,     29, SIH014,2,19941214,0929,-44.4888,  95.0250, 3055, 2587.8,    255.3,   6.7826,  34.2988,2,  34.3021,2,    281.0,2,  6.7592,    279.9,2,     7.11,2,    19.53,2,     0.02,2,     1.41,2, -999.000,9, -999.000,9, -999.000,5,-999.0000,5,  -999.00,9,   -999.0,9,  -999.00,9,-999.000,9,   -999.0,9,   -999.0,9,  -999.0, -999.00,-999.0000,-999.000,-999.000
     316N145_5,  I08S,    34,  1,     28, SIH011,2,19941214,0929,-44.4888,  95.0250, 3055, 3096.4,    306.5,   6.7638,  34.3446,2,  34.3443,2,    258.5,2,  6.7357,    259.0,2,     9.35,2,    20.99,2,     0.01,2,     1.49,2,    3.598,2,    1.906,2, -999.000,5,-999.0000,5,  -999.00,9,   -999.0,9,  -999.00,9,-999.000,9,   -999.0,9,   -999.0,9,  -999.0, -999.00,-999.0000,-999.000,-999.000
     316N145_5,  I08S,    34,  1,     27, SIH008,2,19941214,0929,-44.4888,  95.0250, 3055, 3590.6,    356.2,   6.4014,  34.3070,2,  34.3082,2,    257.0,2,  6.3697,    299.4,2,     9.51,2,    21.39,2,     0.01,2,     1.52,2, -999.000,9, -999.000,9, -999.000,5,-999.0000,5,  -999.00,9,   -999.0,9,  -999.00,9,-999.000,9,   -999.0,9,   -999.0,9,  -999.0, -999.00,-999.0000,-999.000,-999.000
     316N145_5,  I08S,    34,  1,     26, SIH005,2,19941214,0929,-44.4888,  95.0250, 3055, 4082.1,    405.6,   6.6258,  34.4025,2,  34.4021,2,    233.4,2,  6.5888,    226.5,2,    14.50,2,    24.00,2,     0.01,2,     1.67,2,    2.604,2,    1.265,2, -999.000,5,-999.0000,5,  -999.00,9,   -999.0,9,  -999.00,9,-999.000,9,   -999.0,9,   -999.0,9,  -999.0, -999.00,-999.0000,-999.000,-999.000
     316N145_5,  I08S,    34,  1,     25, SIH019,2,19941214,0929,-44.4888,  95.0250, 3055, 4598.6,    457.6,   5.7930,  34.3177,2,  34.3180,2,    236.6,2,  5.7540,    235.8,2,    15.71,2,    25.27,2,     0.01,2,     1.74,2,    2.927,2,    1.428,2, -999.000,5,-999.0000,5,  -999.00,9,   -999.0,9,  -999.00,9,-999.000,9,   -999.0,9,   -999.0,9,  -999.0, -999.00,-999.0000,-999.000,-999.000
     316N145_5,  I08S,    34,  1,     24, SIH037,2,19941214,0929,-44.4888,  95.0250, 3055, 5088.3,    506.8,   5.4581,  34.3253,2,  34.3256,2,    228.3,2,  5.4160,    227.8,2,    18.98,2,    26.85,2,     0.00,2,     1.84,2,    2.576,2,    1.240,2, -999.000,5,-999.0000,5,  -999.00,9,   -999.0,9,  -999.00,9,-999.000,9,   -999.0,9,   -999.0,9,  -999.0, -999.00,-999.0000,-999.000,-999.000
     316N145_5,  I08S,    34,  1,     23, SIH033,2,19941214,0929,-44.4888,  95.0250, 3055, 6116.8,    610.3,   4.7546,  34.3098,2,  34.3113,2,    224.8,2,  4.7068,    224.4,2,    23.95,2,    28.58,2,     0.00,2,     1.96,2, -999.000,9, -999.000,9, -999.000,5,-999.0000,5,  -999.00,9,   -999.0,9,  -999.00,9,-999.000,9,   -999.0,9,   -999.0,9,  -999.0, -999.00,-999.0000,-999.000,-999.000
     316N145_5,  I08S,    34,  1,     22, SIH031,2,19941214,0929,-44.4888,  95.0250, 3055, 7091.8,    708.3,   4.1791,  34.3146,2,  34.3138,2,    222.2,2,  4.1263,    218.4,2,    30.31,2,    30.13,2,     0.00,2,     2.05,2,    1.865,6,    0.897,6, -999.000,5,-999.0000,5,  -999.00,9,   -999.0,9,  -999.00,9,-999.000,9,   -999.0,9,   -999.0,9,  -999.0, -999.00,-999.0000,-999.000,-999.000
     316N145_5,  I08S,    34,  1,     21, SIH030,2,19941214,0929,-44.4888,  95.0250, 3055, 8077.1,    807.4,   3.7521,  34.3310,2,  34.3284,2,    214.5,2,  3.6939,    211.2,2,    36.50,2,    31.34,2,     0.00,2,     2.14,2, -999.000,9, -999.000,9, -999.000,5,-999.0000,5,  -999.00,9,   -999.0,9,  -999.00,9,-999.000,9,   -999.0,9,   -999.0,9,  -999.0, -999.00,-999.0000,-999.000,-999.000
     316N145_5,  I08S,    34,  1,     20, SIH028,2,19941214,0929,-44.4888,  95.0250, 3055, 9107.5,    911.1,   3.3654,  34.3639,2,  34.3647,2,    204.9,2,  3.3017,    201.2,2,    44.56,2,    32.50,2,     0.00,2,     2.22,2,    1.144,2,    0.543,2, -999.000,5,-999.0000,5,  -999.00,9,   -999.0,9,  -999.00,9,-999.000,9,   -999.0,9,   -999.0,9,  -999.0, -999.00,-999.0000,-999.000,-999.000
     316N145_5,  I08S,    34,  1,     19, SIH027,2,19941214,0929,-44.4888,  95.0250, 3055,10113.4,   1012.2,   3.2129,  34.4168,2,  34.4165,2,    193.1,2,  3.1426,    187.0,2,    52.97,2,    33.35,2,     0.00,2,     2.29,2,    0.608,2,    0.312,2, -999.000,5,-999.0000,5,  -999.00,9,   -999.0,9,  -999.00,9,-999.000,9,   -999.0,9,   -999.0,9,  -999.0, -999.00,-999.0000,-999.000,-999.000
     316N145_5,  I08S,    34,  1,     18, SIH003,2,19941214,0929,-44.4888,  95.0250, 3055,11100.0,   1111.5,   3.0592,  34.4545,2,  34.4548,2,    182.4,2,  2.9824,    180.9,2,    58.46,2,    33.91,2,     0.00,2,     2.32,2,    0.434,2,    0.221,2, -999.000,5,-999.0000,5,  -999.00,9,   -999.0,9,  -999.00,9,-999.000,9,   -999.0,9,   -999.0,9,  -999.0, -999.00,-999.0000,-999.000,-999.000
     316N145_5,  I08S,    34,  1,     17, SIH024,2,19941214,0929,-44.4888,  95.0250, 3055,12209.8,   1223.1,   2.8209,  34.5035,2,  34.5050,2,    179.0,2,  2.7374,    177.2,2,    63.77,2,    34.02,2,     0.00,2,     2.32,2, -999.000,9, -999.000,9, -999.000,5,-999.0000,5,  -999.00,9,   -999.0,9,  -999.00,9,-999.000,9,   -999.0,9,   -999.0,9,  -999.0, -999.00,-999.0000,-999.000,-999.000
     316N145_5,  I08S,    34,  1,     16, SIH022,2,19941214,0929,-44.4888,  95.0250, 3055,13177.1,   1320.4,   2.7366,  34.5483,2,  34.5480,2,    175.1,2,  2.6462,    175.0,2,    67.19,2,    33.77,2,     0.00,2,     2.31,2,    0.242,2,    0.111,2, -999.000,5,-999.0000,5,  -999.00,9,   -999.0,9,  -999.00,9,-999.000,9,   -999.0,9,   -999.0,9,  -999.0, -999.00,-999.0000,-999.000,-999.000
     316N145_5,  I08S,    34,  1,     15, SIH021,2,19941214,0929,-44.4888,  95.0250, 3055,14184.9,   1421.8,   2.6476,  34.5900,2,  34.5940,2,    174.5,2,  2.5500,    174.9,2,    70.27,2,    33.35,2,     0.00,2,     2.28,2, -999.000,9, -999.000,9, -999.000,5,-999.0000,5,  -999.00,9,   -999.0,9,  -999.00,9,-999.000,9,   -999.0,9,   -999.0,9,  -999.0, -999.00,-999.0000,-999.000,-999.000
     316N145_5,  I08S,    34,  1,     14, SIH002,2,19941214,0929,-44.4888,  95.0250, 3055,15168.5,   1520.7,   2.5700,  34.6273,2,  34.6288,2,    176.1,2,  2.4653,    176.8,2,    71.64,2,    32.75,2,     0.00,2,     2.24,2,    0.162,2,    0.068,2, -999.000,5,-999.0000,5,  -999.00,9,   -999.0,9,  -999.00,9,-999.000,9,   -999.0,9,   -999.0,9,  -999.0, -999.00,-999.0000,-999.000,-999.000
     316N145_5,  I08S,    34,  1,     13, SIH018,2,19941214,0929,-44.4888,  95.0250, 3055,16221.2,   1626.6,   2.5138,  34.6605,2,  34.6608,2,    179.1,2,  2.4011,    179.9,2,    72.32,2,    32.16,2,     0.00,2,     2.19,2, -999.000,9, -999.000,9, -999.000,5,-999.0000,5,  -999.00,9,   -999.0,9,  -999.00,9,-999.000,9,   -999.0,9,   -999.0,9,  -999.0, -999.00,-999.0000,-999.000,-999.000
     316N145_5,  I08S,    34,  1,     12, SIH016,2,19941214,0929,-44.4888,  95.0250, 3055,17270.2,   1732.1,   2.4530,  34.6897,2,  34.6912,2,    182.6,2,  2.3323,    183.1,2,    73.68,2,    31.51,2,     0.00,2,     2.15,2,    0.092,2,    0.045,2, -999.000,5,-999.0000,5,  -999.00,9,   -999.0,9,  -999.00,9,-999.000,9,   -999.0,9,   -999.0,9,  -999.0, -999.00,-999.0000,-999.000,-999.000
     316N145_5,  I08S,    34,  1,     11, SIH015,2,19941214,0929,-44.4888,  95.0250, 3055,18242.3,   1829.9,   2.4000,  34.7095,2,  34.7105,2,    184.8,2,  2.2717,    185.9,2,    74.87,2,    31.09,2,     0.00,2,     2.12,2, -999.000,9, -999.000,9, -999.000,5,-999.0000,5,  -999.00,9,   -999.0,9,  -999.00,9,-999.000,9,   -999.0,9,   -999.0,9,  -999.0, -999.00,-999.0000,-999.000,-999.000
     316N145_5,  I08S,    34,  1,     10, SIH013,2,19941214,0929,-44.4888,  95.0250, 3055,19192.5,   1925.5,   2.3529,  34.7255,2,  34.7284,2,    187.9,2,  2.2172,    188.8,2,    75.55,2,    30.62,2,     0.00,2,     2.09,2, -999.000,9, -999.000,9, -999.000,5,-999.0000,5,  -999.00,9,   -999.0,9,  -999.00,9,-999.000,9,   -999.0,9,   -999.0,9,  -999.0, -999.00,-999.0000,-999.000,-999.000
     316N145_5,  I08S,    34,  1,      9, SIH012,2,19941214,0929,-44.4888,  95.0250, 3055,20295.9,   2036.5,   2.3018,  34.7384,2,  34.7384,2,    191.6,2,  2.1573,    191.9,2,    76.40,2,    30.26,2,    -0.01,2,     2.06,2,    0.048,2,    0.023,2, -999.000,5,-999.0000,5,  -999.00,9,   -999.0,9,  -999.00,9,-999.000,9,   -999.0,9,   -999.0,9,  -999.0, -999.00,-999.0000,-999.000,-999.000
     316N145_5,  I08S,    34,  1,      8, SIH010,2,19941214,0929,-44.4888,  95.0250, 3055,22274.0,   2235.4,   2.1452,  34.7529,2,  34.7551,2,    196.8,2,  1.9857,    196.1,2,    80.67,2,    29.90,2,     0.00,2,     2.04,2, -999.000,9, -999.000,9, -999.000,5,-999.0000,5,  -999.00,9,   -999.0,9,  -999.00,9,-999.000,9,   -999.0,9,   -999.0,9,  -999.0, -999.00,-999.0000,-999.000,-999.000
     316N145_5,  I08S,    34,  1,      7, SIH009,2,19941214,0929,-44.4888,  95.0250, 3055,24258.5,   2435.1,   1.9427,  34.7551,2,  34.7557,2,    199.1,2,  1.7689,    265.3,4,    87.18,2,    30.06,2,     0.00,2,     2.05,2, -999.000,9, -999.000,9, -999.000,5,-999.0000,5,  -999.00,9,   -999.0,9,  -999.00,9,-999.000,9,   -999.0,9,   -999.0,9,  -999.0, -999.00,-999.0000,-999.000,-999.000
     316N145_5,  I08S,    34,  1,      6, SIH038,2,19941214,0929,-44.4888,  95.0250, 3055,26274.3,   2637.8,   1.6871,  34.7481,2,  34.7488,2,    200.3,2,  1.4998,    200.1,2,    95.73,2,    30.51,2,     0.00,2,     2.09,2,    0.030,2,    0.018,2, -999.000,5,-999.0000,5,  -999.00,9,   -999.0,9,  -999.00,9,-999.000,9,   -999.0,9,   -999.0,9,  -999.0, -999.00,-999.0000,-999.000,-999.000
     316N145_5,  I08S,    34,  1,      5, SIH006,2,19941214,0929,-44.4888,  95.0250, 3055,28313.7,   2843.0,   1.4898,  34.7398,2,  34.7384,2,    201.7,2,  1.2877,    200.7,2,   103.27,2,    31.02,2,     0.00,2,     2.13,2, -999.000,9, -999.000,9, -999.000,5,-999.0000,5,  -999.00,9,   -999.0,9,  -999.00,9,-999.000,9,   -999.0,9,   -999.0,9,  -999.0, -999.00,-999.0000,-999.000,-999.000
     316N145_5,  I08S,    34,  1,      4, SIH004,2,19941214,0929,-44.4888,  95.0250, 3055,29314.8,   2943.7,   1.4766,  34.7384,2,  34.7400,2,    202.0,2,  1.2653,    201.3,2,   103.94,2,    31.00,2,     0.00,2,     2.12,2, -999.000,9, -999.000,9, -999.000,5,-999.0000,5,  -999.00,9,   -999.0,9,  -999.00,9,-999.000,9,   -999.0,9,   -999.0,9,  -999.0, -999.00,-999.0000,-999.000,-999.000
     316N145_5,  I08S,    34,  1,      3, SIH025,2,19941214,0929,-44.4888,  95.0250, 3055,30399.4,   3052.8,   1.4709,  34.7378,2,  34.7378,2,    201.5,2,  1.2494,    201.6,2,   104.44,2,    31.11,2,     0.00,2,     2.13,2,    0.037,2,    0.029,2, -999.000,5,-999.0000,5,  -999.00,9,   -999.0,9,  -999.00,9,-999.000,9,   -999.0,9,   -999.0,9,  -999.0, -999.00,-999.0000,-999.000,-999.000
     316N145_5,  I08S,    34,  1,      2, SIH001,2,19941214,0929,-44.4888,  95.0250, 3055,31217.2,   3135.0,   1.4577,  34.7374,2,  34.7364,2,    201.9,2,  1.2286,    201.8,2,   104.95,2,    31.04,2,     0.00,2,     2.13,2, -999.000,9, -999.000,9, -999.000,5,-999.0000,5,  -999.00,9,   -999.0,9,  -999.00,9,-999.000,9,   -999.0,9,   -999.0,9,  -999.0, -999.00,-999.0000,-999.000,-999.000
     316N145_5,  I08S,    34,  1,      1, SIH036,2,19941214,0929,-44.4888,  95.0250, 3055,31782.8,   3191.9,   1.4579,  34.7366,2,  34.7357,2,    201.8,2,  1.2232,    201.8,2,   105.39,2,    30.93,2,     0.00,2,     2.12,2,    0.037,2,    0.015,2, -999.000,5,-999.0000,5,  -999.00,9,   -999.0,9,  -999.00,9,-999.000,9,   -999.0,9,   -999.0,9,  -999.0, -999.00,-999.0000,-999.000,-999.000