BOTTLE,20090521WHPSIOdm
EXPOCODE,SECT_ID,STNNBR,CASTNO,SAMPNO,BTLNBR,BTLNBR_FLAG_W,DATE,TIME,LATITUDE,LONGITUDE,DEPTH,CTDRAW,CTDPRS,CTDTMP,CTDSAL,CTDSAL_FLAG_W,SALNTY,SALNTY_FLAG_W,CTDOXY,CTDOXY_FLAG_W,THETA,OXYGEN,OXYGEN_FLAG_W,SILCAT,SILCAT_FLAG_W,NITRAT,NITRAT_FLAG_W,NITRIT,NITRIT_FLAG_W,PHSPHT,PHSPHT_FLAG_W,CFC-11,CFC-11_FLAG_W,CFC-12,CFC-12_FLAG_W,TRITUM,TRITUM_FLAG_W,HELIUM,HELIUM_FLAG_W,DELHE3,DELHE3_FLAG_W,DELC14,DELC14_FLAG_W,DELC13,DELC13_FLAG_W,NEON,NEON_FLAG_W,TCARBN,TCARBN_FLAG_W,ALKALI,ALKALI_FLAG_W,C14ERR,DELHER,HELIER,NEONER,TRITER
,,,,,,,,,,,,,DBAR,IPTS-68,PSS-78,,PSS-78,,UMOL/KG,,IPTS-68,UMOL/KG,,UMOL/KG,,UMOL/KG,,UMOL/KG,,UMOL/KG,,PMOL/KG,,PMOL/KG,,TU,,NMOL/KG,,PERCNT,,/MILLE,,/MILLE,,NMOL/KG,,UMOL/KG,,UMOL/KG,,/MILLE,PERCNT,NMOL/KG,NMOL/KG,TU
     316N145_5,  I08S,    11,  1,     24, SIH037,2,19941208,0720,-33.9972,  95.0000, 4470,  179.5,     13.0,  17.8682,  35.3938,2,  35.3961,2,    243.4,2, 17.8660,    244.7,2,     0.89,2,     0.66,2,     0.02,2,     0.24,2,    2.720,2,    1.460,2, -999.000,5,-999.0000,5,  -999.00,9,   -999.0,9,  -999.00,9,-999.000,9,   2056.4,6,   2333.4,2,  -999.0, -999.00,-999.0000,-999.000,-999.000
     316N145_5,  I08S,    11,  1,     23, SIH033,2,19941208,0720,-33.9972,  95.0000, 4470,  370.2,     32.1,  17.5273,  35.7420,2,  35.7406,2,    248.0,2, 17.5219,    244.9,2,     0.76,2,     0.05,2,     0.00,2,     0.16,2, -999.000,9, -999.000,9, -999.000,5,-999.0000,5,  -999.00,9,   -999.0,9,  -999.00,9,-999.000,9,   2061.4,2,   2351.9,2,  -999.0, -999.00,-999.0000,-999.000,-999.000
     316N145_5,  I08S,    11,  1,     22, SIH031,3,19941208,0720,-33.9972,  95.0000, 4470,  621.7,     57.4,  15.8667,  35.5594,2,  35.5588,2,    257.9,2, 15.8577,   -999.0,9,     0.80,2,     0.01,2,     0.00,2,     0.20,2, -999.000,9, -999.000,9, -999.000,5,-999.0000,5,  -999.00,9,   -999.0,9,  -999.00,9,-999.000,9,   2060.3,2,   2335.7,2,  -999.0, -999.00,-999.0000,-999.000,-999.000
     316N145_5,  I08S,    11,  1,     21, SIH030,2,19941208,0720,-33.9972,  95.0000, 4470, 1121.8,    107.7,  14.0934,  35.3741,2,  35.3727,2,    238.7,2, 14.0778,    246.5,2,     1.36,2,     2.37,2,     0.34,2,     0.39,2,    3.034,2,    1.624,2, -999.000,5,-999.0000,5,  -999.00,9,   -999.0,9,  -999.00,9,-999.000,9,   2078.8,2,   2324.5,2,  -999.0, -999.00,-999.0000,-999.000,-999.000
     316N145_5,  I08S,    11,  1,     20, SIH028,2,19941208,0720,-33.9972,  95.0000, 4470, 2120.2,    208.1,  12.5153,  35.1619,2,  35.1612,2,    243.6,2, 12.4873,    244.0,2,     2.58,2,     7.19,2,     0.02,2,     0.65,2,    3.319,2,    1.877,2, -999.000,5,-999.0000,5,  -999.00,9,   -999.0,9,  -999.00,9,-999.000,9,   2093.2,2,   2320.5,2,  -999.0, -999.00,-999.0000,-999.000,-999.000
     316N145_5,  I08S,    11,  1,     19, SIH027,2,19941208,0720,-33.9972,  95.0000, 4470, 3104.6,    307.1,  11.5688,  35.0178,2,  35.0207,2,    241.3,2, 11.5295,    242.7,2,     3.64,2,    10.02,2,     0.01,2,     0.81,2,    3.213,6,    1.655,6, -999.000,5,-999.0000,5,  -999.00,9,   -999.0,9,  -999.00,9,-999.000,9,   2102.2,2,   2306.6,2,  -999.0, -999.00,-999.0000,-999.000,-999.000
     316N145_5,  I08S,    11,  1,     18, SIH003,2,19941208,0720,-33.9972,  95.0000, 4470, 4103.1,    407.5,  10.9750,  34.9360,2,  34.9349,2,    248.5,2, 10.9244,    244.6,2,     3.86,2,    11.08,2,     0.01,2,     0.88,2,    3.257,2,    1.666,2, -999.000,5,-999.0000,5,  -999.00,9,   -999.0,9,  -999.00,9,-999.000,9,   2103.6,2,   -999.0,9,  -999.0, -999.00,-999.0000,-999.000,-999.000
     316N145_5,  I08S,    11,  1,     17, SIH024,2,19941208,0720,-33.9972,  95.0000, 4470, 5110.2,    508.8,  10.3339,  34.8384,2,  34.8371,2,    247.4,2, 10.2728,    240.2,2,     4.75,2,    13.20,2,     0.00,2,     1.01,2, -999.000,9, -999.000,9, -999.000,5,-999.0000,5,  -999.00,9,   -999.0,9,  -999.00,9,-999.000,9,   2109.9,2,   2299.5,2,  -999.0, -999.00,-999.0000,-999.000,-999.000
     316N145_5,  I08S,    11,  1,     16, SIH022,2,19941208,0720,-33.9972,  95.0000, 4470, 6103.6,    608.7,   9.6972,  34.7424,2,  34.7433,2,    239.1,2,  9.6266,    237.3,2,     5.46,2,    15.03,2,     0.01,2,     1.13,2,    2.862,2,    1.478,2, -999.000,5,-999.0000,5,  -999.00,9,   -999.0,9,  -999.00,9,-999.000,9,   2115.6,2,   2292.0,2,  -999.0, -999.00,-999.0000,-999.000,-999.000
     316N145_5,  I08S,    11,  1,     15, SIH021,2,19941208,0720,-33.9972,  95.0000, 4470, 7093.4,    708.2,   8.8583,  34.6345,2,  34.6354,2,    224.2,2,  8.7802,    223.0,2,     8.05,2,    18.87,2,     0.00,2,     1.34,2,    2.194,2,    1.101,2, -999.000,5,-999.0000,5,  -999.00,9,   -999.0,9,  -999.00,9,-999.000,9,   2129.2,2,   2293.7,2,  -999.0, -999.00,-999.0000,-999.000,-999.000
     316N145_5,  I08S,    11,  1,     14, SIH002,2,19941208,0720,-33.9972,  95.0000, 4470, 8112.8,    810.7,   7.7066,  34.5314,2,  34.5309,2,    210.6,2,  7.6236,    207.5,2,    13.88,2,    23.15,2,     0.00,2,     1.61,2,    1.442,2,    0.728,2, -999.000,5,-999.0000,5,  -999.00,9,   -999.0,9,  -999.00,9,-999.000,9,   2147.3,2,   2288.6,2,  -999.0, -999.00,-999.0000,-999.000,-999.000
     316N145_5,  I08S,    11,  1,     13, SIH018,2,19941208,0720,-33.9972,  95.0000, 4470,10097.4,   1010.3,   5.0287,  34.3805,2,  34.3792,2,    199.0,2,  4.9444,    200.0,2,    30.41,2,    29.80,2,     0.00,2,     2.04,2,    0.789,2,    0.390,2, -999.000,5,-999.0000,5,  -999.00,9,   -999.0,9,  -999.00,9,-999.000,9,   2186.8,2,   2297.0,2,  -999.0, -999.00,-999.0000,-999.000,-999.000
     316N145_5,  I08S,    11,  1,     12, SIH016,2,19941208,0720,-33.9972,  95.0000, 4470,12111.6,   1212.9,   3.7915,  34.4342,2,  34.4336,2,    177.5,2,  3.6999,    173.9,2,    54.60,2,    33.65,2,     0.00,2,     2.32,2, -999.000,9, -999.000,9, -999.000,5,-999.0000,5,  -999.00,9,   -999.0,9,  -999.00,9,-999.000,9,   2229.0,2,   2324.9,2,  -999.0, -999.00,-999.0000,-999.000,-999.000
     316N145_5,  I08S,    11,  1,     11, SIH015,2,19941208,0720,-33.9972,  95.0000, 4470,15134.8,   1517.0,   3.0950,  34.5555,2,  34.5574,2,    161.4,2,  2.9847,    158.6,2,    75.03,2,    34.85,2,     0.00,2,     2.40,2,    0.041,2,    0.028,2, -999.000,5,-999.0000,5,  -999.00,9,   -999.0,9,  -999.00,9,-999.000,9,   2257.4,6,   2343.8,2,  -999.0, -999.00,-999.0000,-999.000,-999.000
     316N145_5,  I08S,    11,  1,     10, SIH013,2,19941208,0720,-33.9972,  95.0000, 4470,18151.2,   1820.4,   2.6777,  34.6583,2,  34.6578,2,    162.9,2,  2.5466,    161.6,2,    87.47,2,    34.01,2,     0.00,2,     2.35,2, -999.000,9, -999.000,9, -999.000,5,-999.0000,5,  -999.00,9,   -999.0,9,  -999.00,9,-999.000,9,   2265.5,2,   2354.7,2,  -999.0, -999.00,-999.0000,-999.000,-999.000
     316N145_5,  I08S,    11,  1,      9, SIH012,2,19941208,0720,-33.9972,  95.0000, 4470,21180.4,   2125.1,   2.3799,  34.7059,2,  34.7066,2,    177.2,2,  2.2266,    174.8,2,    88.02,2,    32.67,2,     0.00,2,     2.24,2,    0.027,3,    0.000,3, -999.000,5,-999.0000,5,  -999.00,9,   -999.0,9,  -999.00,9,-999.000,9,   2260.9,2,   -999.0,9,  -999.0, -999.00,-999.0000,-999.000,-999.000
     316N145_5,  I08S,    11,  1,      8, SIH010,2,19941208,0720,-33.9972,  95.0000, 4470,24719.4,   2481.1,   2.0483,  34.7435,2,  34.7437,2,    191.9,2,  1.8684,    191.0,2,    89.07,2,    31.06,2,     0.00,2,     2.12,2, -999.000,9, -999.000,9, -999.000,5,-999.0000,5,  -999.00,9,   -999.0,9,  -999.00,9,-999.000,9,   2252.8,2,   2354.1,2,  -999.0, -999.00,-999.0000,-999.000,-999.000
     316N145_5,  I08S,    11,  1,      7, SIH009,2,19941208,0720,-33.9972,  95.0000, 4470,28246.6,   2835.9,   1.7030,  34.7437,2,  34.7437,2,    198.5,2,  1.4970,    197.1,2,    98.45,2,    31.10,2,     0.00,2,     2.12,2, -999.000,9, -999.000,9, -999.000,5,-999.0000,5,  -999.00,9,   -999.0,9,  -999.00,9,-999.000,9,   2252.0,2,   -999.0,9,  -999.0, -999.00,-999.0000,-999.000,-999.000
     316N145_5,  I08S,    11,  1,      6, SIH038,2,19941208,0720,-33.9972,  95.0000, 4470,31799.3,   3193.3,   1.3494,  34.7311,2,  34.7309,2,    202.0,2,  1.1172,    200.9,2,   109.70,2,    31.54,2,     0.00,2,     2.16,2,    0.043,3,    0.024,3, -999.000,5,-999.0000,5,  -999.00,9,   -999.0,9,  -999.00,9,-999.000,9,   2258.0,2,   2365.2,2,  -999.0, -999.00,-999.0000,-999.000,-999.000
     316N145_5,  I08S,    11,  1,      5, SIH006,2,19941208,0720,-33.9972,  95.0000, 4470,35356.1,   3551.0,   1.1637,  34.7221,2,  34.7217,2,    204.2,2,  0.9007,    203.3,2,   115.18,2,    31.91,2,     0.00,2,     2.18,2,    0.005,3,   -0.009,3, -999.000,5,-999.0000,5,  -999.00,9,   -999.0,9,  -999.00,9,-999.000,9,   2262.9,2,   2367.9,2,  -999.0, -999.00,-999.0000,-999.000,-999.000
     316N145_5,  I08S,    11,  1,      4, SIH004,2,19941208,0720,-33.9972,  95.0000, 4470,38904.7,   3908.0,   1.0749,  34.7163,2,  34.7166,2,    205.4,2,  0.7776,    204.5,2,   118.10,2,    32.07,2,     0.00,2,     2.20,2,    0.011,2,    0.012,2, -999.000,5,-999.0000,5,  -999.00,9,   -999.0,9,  -999.00,9,-999.000,9,   2246.0,2,   2378.2,2,  -999.0, -999.00,-999.0000,-999.000,-999.000
     316N145_5,  I08S,    11,  1,      3, SIH025,2,19941208,0720,-33.9972,  95.0000, 4470,42462.3,   4265.8,   1.0319,  34.7132,2,  34.7119,2,    207.7,2,  0.6973,    205.8,2,   120.35,2,    32.18,2,     0.00,2,     2.21,2,    0.009,2,   -0.005,3, -999.000,5,-999.0000,5,  -999.00,9,   -999.0,9,  -999.00,9,-999.000,9,   2265.8,2,   2381.5,2,  -999.0, -999.00,-999.0000,-999.000,-999.000
     316N145_5,  I08S,    11,  1,      2, SIH001,2,19941208,0720,-33.9972,  95.0000, 4470,44498.5,   4470.7,   1.0243,  34.7120,2,  34.7107,2,    207.8,2,  0.6673,    206.0,2,   120.88,2,    32.17,2,     0.00,2,     2.21,2, -999.000,9, -999.000,9, -999.000,5,-999.0000,5,  -999.00,9,   -999.0,9,  -999.00,9,-999.000,9,   2265.6,2,   2375.4,2,  -999.0, -999.00,-999.0000,-999.000,-999.000
     316N145_5,  I08S,    11,  1,      1, SIH036,2,19941208,0720,-33.9972,  95.0000, 4470,45461.4,   4567.5,   1.0337,  34.7119,2,  34.7089,2,    208.2,2,  0.6654,    206.7,2,   120.76,2,    32.34,2,     0.00,2,     2.21,2, -999.000,9, -999.000,9, -999.000,5,-999.0000,5,  -999.00,9,   -999.0,9,  -999.00,9,-999.000,9,   2267.2,6,   2374.4,2,  -999.0, -999.00,-999.0000,-999.000,-999.000
     316N145_5,  I08S,    12,  1,     24, SIH037,2,19941208,1413,-34.5028,  95.0028, 4455,  175.9,     12.7,  17.5700,  35.3767,2,  35.3766,2,    265.1,2, 17.5678,    248.2,2,     0.80,2,     0.55,2,     0.02,2,     0.23,2, -999.000,9, -999.000,9, -999.000,5,-999.0000,5,  -999.00,9,   -999.0,9,  -999.00,9,-999.000,9,   -999.0,9,   -999.0,9,  -999.0, -999.00,-999.0000,-999.000,-999.000
     316N145_5,  I08S,    12,  1,     23, SIH033,2,19941208,1413,-34.5028,  95.0028, 4455,  380.4,     33.2,  17.1624,  35.3697,2,  35.3677,2,    265.3,2, 17.1569,    251.9,2,     1.01,2,     0.56,2,     0.02,2,     0.23,2, -999.000,9, -999.000,9, -999.000,5,-999.0000,5,  -999.00,9,   -999.0,9,  -999.00,9,-999.000,9,   -999.0,9,   -999.0,9,  -999.0, -999.00,-999.0000,-999.000,-999.000
     316N145_5,  I08S,    12,  1,     22, SIH031,2,19941208,1413,-34.5028,  95.0028, 4455,  625.2,     57.8,  14.5850,  35.2850,2,  35.2857,2,    279.1,2, 14.5764,    267.9,2,     1.20,2,     1.36,2,     0.05,2,     0.30,2, -999.000,9, -999.000,9, -999.000,5,-999.0000,5,  -999.00,9,   -999.0,9,  -999.00,9,-999.000,9,   -999.0,9,   -999.0,9,  -999.0, -999.00,-999.0000,-999.000,-999.000
     316N145_5,  I08S,    12,  1,     21, SIH030,2,19941208,1413,-34.5028,  95.0028, 4455, 1127.4,    108.3,  13.0449,  35.2346,2,  35.2341,2,    244.6,2, 13.0300,    250.2,2,     1.74,2,     4.38,2,     0.56,2,     0.52,2, -999.000,9, -999.000,9, -999.000,5,-999.0000,5,  -999.00,9,   -999.0,9,  -999.00,9,-999.000,9,   -999.0,9,   -999.0,9,  -999.0, -999.00,-999.0000,-999.000,-999.000
     316N145_5,  I08S,    12,  1,     20, SIH028,2,19941208,1413,-34.5028,  95.0028, 4455, 2117.0,    207.9,  11.8569,  35.0804,2,  35.0839,2,    240.8,2, 11.8300,    241.3,2,     2.78,2,     8.85,2,     0.01,2,     0.75,2,    3.283,2,    1.697,2, -999.000,5,-999.0000,5,  -999.00,9,   -999.0,9,  -999.00,9,-999.000,9,   -999.0,9,   -999.0,9,  -999.0, -999.00,-999.0000,-999.000,-999.000
     316N145_5,  I08S,    12,  1,     19, SIH027,2,19941208,1413,-34.5028,  95.0028, 4455, 3117.5,    308.5,  11.0405,  34.9408,2,  34.9421,2,    245.2,2, 11.0022,    242.7,2,     3.84,2,    11.34,2,     0.01,2,     0.89,2, -999.000,9, -999.000,9, -999.000,5,-999.0000,5,  -999.00,9,   -999.0,9,  -999.00,9,-999.000,9,   -999.0,9,   -999.0,9,  -999.0, -999.00,-999.0000,-999.000,-999.000
     316N145_5,  I08S,    12,  1,     18, SIH003,2,19941208,1413,-34.5028,  95.0028, 4455, 4117.8,    409.1,  10.7088,  34.8965,2,  34.8961,2,    245.7,2, 10.6588,    241.7,2,     4.04,2,    12.07,2,     0.00,2,     0.94,2,    3.149,2,    1.581,2, -999.000,5,-999.0000,5,  -999.00,9,   -999.0,9,  -999.00,9,-999.000,9,   -999.0,9,   -999.0,9,  -999.0, -999.00,-999.0000,-999.000,-999.000
     316N145_5,  I08S,    12,  1,     17, SIH024,2,19941208,1413,-34.5028,  95.0028, 4455, 5121.3,    510.0,  10.1889,  34.8188,2,  34.8184,2,    244.6,2, 10.1282,    240.7,2,     4.57,2,    13.45,2,     0.00,2,     1.03,2,    3.101,2,    1.589,2, -999.000,5,-999.0000,5,  -999.00,9,   -999.0,9,  -999.00,9,-999.000,9,   -999.0,9,   -999.0,9,  -999.0, -999.00,-999.0000,-999.000,-999.000
     316N145_5,  I08S,    12,  1,     16, SIH022,2,19941208,1413,-34.5028,  95.0028, 4455, 6111.8,    609.6,   9.5641,  34.7234,2,  34.7241,2,    237.1,2,  9.4941,    234.9,2,     5.80,2,    15.91,2,     0.01,2,     1.17,2,    2.767,2,    1.374,2, -999.000,5,-999.0000,5,  -999.00,9,   -999.0,9,  -999.00,9,-999.000,9,   -999.0,9,   -999.0,9,  -999.0, -999.00,-999.0000,-999.000,-999.000
     316N145_5,  I08S,    12,  1,     15, SIH021,2,19941208,1413,-34.5028,  95.0028, 4455, 7121.6,    711.1,   8.6581,  34.6092,2,  34.6115,2,    221.3,2,  8.5807,    221.3,2,     8.39,2,    19.55,2,     0.00,2,     1.39,2,    2.156,6,    1.066,6, -999.000,5,-999.0000,5,  -999.00,9,   -999.0,9,  -999.00,9,-999.000,9,   -999.0,9,   -999.0,9,  -999.0, -999.00,-999.0000,-999.000,-999.000
     316N145_5,  I08S,    12,  1,     14, SIH002,2,19941208,1413,-34.5028,  95.0028, 4455, 8114.1,    811.0,   7.4828,  34.5095,2,  34.5101,2,    204.3,2,  7.4012,    205.2,2,    14.57,2,    23.89,2,     0.00,2,     1.66,2,    1.390,2,    0.701,2, -999.000,5,-999.0000,5,  -999.00,9,   -999.0,9,  -999.00,9,-999.000,9,   -999.0,9,   -999.0,9,  -999.0, -999.00,-999.0000,-999.000,-999.000
     316N145_5,  I08S,    12,  1,     13, SIH018,2,19941208,1413,-34.5028,  95.0028, 4455,10106.7,   1011.4,   4.7862,  34.3762,2,  34.3762,2,    198.6,2,  4.7037,    199.3,2,    32.90,2,    30.37,2,     0.00,2,     2.10,2,    0.643,2,    0.326,2, -999.000,5,-999.0000,5,  -999.00,9,   -999.0,9,  -999.00,9,-999.000,9,   -999.0,9,   -999.0,9,  -999.0, -999.00,-999.0000,-999.000,-999.000
     316N145_5,  I08S,    12,  1,     12, SIH016,2,19941208,1413,-34.5028,  95.0028, 4455,12122.6,   1214.1,   3.7484,  34.4333,2,  34.4332,2,    175.5,2,  3.6571,    174.5,2,    54.81,2,    33.48,2,     0.00,2,     2.34,2, -999.000,9, -999.000,9, -999.000,5,-999.0000,5,  -999.00,9,   -999.0,9,  -999.00,9,-999.000,9,   -999.0,9,   -999.0,9,  -999.0, -999.00,-999.0000,-999.000,-999.000
     316N145_5,  I08S,    12,  1,     11, SIH015,2,19941208,1413,-34.5028,  95.0028, 4455,15111.3,   1514.8,   3.1067,  34.5547,2,  34.5561,2,    159.9,2,  2.9964,    157.3,2,    75.36,2,    34.57,2,     0.00,2,     2.41,2,    0.052,3,    0.026,3, -999.000,5,-999.0000,5,  -999.00,9,   -999.0,9,  -999.00,9,-999.000,9,   -999.0,9,   -999.0,9,  -999.0, -999.00,-999.0000,-999.000,-999.000
     316N145_5,  I08S,    12,  1,     10, SIH013,2,19941208,1413,-34.5028,  95.0028, 4455,18660.8,   1871.8,   2.5797,  34.6656,2,  34.6665,2,    167.5,2,  2.4455,    167.5,2,    84.43,2,    33.19,2,     0.00,2,     2.32,2, -999.000,9, -999.000,9, -999.000,5,-999.0000,5,  -999.00,9,   -999.0,9,  -999.00,9,-999.000,9,   -999.0,9,   -999.0,9,  -999.0, -999.00,-999.0000,-999.000,-999.000
     316N145_5,  I08S,    12,  1,      9, SIH012,2,19941208,1413,-34.5028,  95.0028, 4455,22147.1,   2222.5,   2.2802,  34.7223,2,  34.7223,2,    181.6,2,  2.1198,    181.3,2,    85.98,2,    31.59,2,     0.00,2,     2.19,2,    0.007,4,   -0.010,4, -999.000,5,-999.0000,5,  -999.00,9,   -999.0,9,  -999.00,9,-999.000,9,   -999.0,9,   -999.0,9,  -999.0, -999.00,-999.0000,-999.000,-999.000
     316N145_5,  I08S,    12,  1,      8, SIH010,2,19941208,1413,-34.5028,  95.0028, 4455,25669.7,   2576.8,   1.9290,  34.7455,2,  34.7459,2,    194.4,2,  1.7426,    193.7,2,    92.32,2,    30.66,2,     0.00,2,     2.12,2,    0.014,2,    0.000,2, -999.000,5,-999.0000,5,  -999.00,9,   -999.0,9,  -999.00,9,-999.000,9,   -999.0,9,   -999.0,9,  -999.0, -999.00,-999.0000,-999.000,-999.000
     316N145_5,  I08S,    12,  1,      7, SIH009,2,19941208,1413,-34.5028,  95.0028, 4455,29316.1,   2943.6,   1.5665,  34.7393,2,  34.7390,2,    199.7,2,  1.3533,    198.4,2,   102.60,2,    30.98,2,     0.00,2,     2.14,2, -999.000,9, -999.000,9, -999.000,5,-999.0000,5,  -999.00,9,   -999.0,9,  -999.00,9,-999.000,9,   -999.0,9,   -999.0,9,  -999.0, -999.00,-999.0000,-999.000,-999.000
     316N145_5,  I08S,    12,  1,      6, SIH038,2,19941208,1413,-34.5028,  95.0028, 4455,32867.4,   3300.8,   1.3105,  34.7297,2,  34.7280,2,    203.0,2,  1.0687,    202.0,2,   110.83,2,    31.52,2,     0.00,2,     2.18,2, -999.000,9, -999.000,9, -999.000,5,-999.0000,5,  -999.00,9,   -999.0,9,  -999.00,9,-999.000,9,   -999.0,9,   -999.0,9,  -999.0, -999.00,-999.0000,-999.000,-999.000
     316N145_5,  I08S,    12,  1,      5, SIH006,2,19941208,1413,-34.5028,  95.0028, 4455,36524.3,   3668.6,   1.1295,  34.7195,2,  34.7193,2,    204.8,2,  0.8554,    203.9,2,   116.83,2,    31.78,2,     0.00,2,     2.20,2, -999.000,9, -999.000,9, -999.000,5,-999.0000,5,  -999.00,9,   -999.0,9,  -999.00,9,-999.000,9,   -999.0,9,   -999.0,9,  -999.0, -999.00,-999.0000,-999.000,-999.000
     316N145_5,  I08S,    12,  1,      4, SIH004,2,19941208,1413,-34.5028,  95.0028, 4455,40104.0,   4028.7,   1.0720,  34.7161,2,  34.7152,2,    206.4,2,  0.7619,    205.0,2,   119.23,2,    32.00,2,     0.00,2,     2.21,2,    0.015,2,    0.010,2, -999.000,5,-999.0000,5,  -999.00,9,   -999.0,9,  -999.00,9,-999.000,9,   -999.0,9,   -999.0,9,  -999.0, -999.00,-999.0000,-999.000,-999.000
     316N145_5,  I08S,    12,  1,      3, SIH025,2,19941208,1413,-34.5028,  95.0028, 4455,43635.8,   4384.0,   1.0447,  34.7131,2,  34.7129,2,    207.7,2,  0.6967,    206.0,2,   120.44,2,    32.05,2,     0.00,2,     2.22,2,    0.010,2,    0.002,2, -999.000,5,-999.0000,5,  -999.00,9,   -999.0,9,  -999.00,9,-999.000,9,   -999.0,9,   -999.0,9,  -999.0, -999.00,-999.0000,-999.000,-999.000
     316N145_5,  I08S,    12,  1,      2, SIH001,2,19941208,1413,-34.5028,  95.0028, 4455,44583.6,   4479.3,   1.0397,  34.7120,2,  34.7115,2,    207.9,2,  0.6812,    206.1,2,   121.31,2,    32.09,2,     0.00,2,     2.22,2, -999.000,9, -999.000,9, -999.000,5,-999.0000,5,  -999.00,9,   -999.0,9,  -999.00,9,-999.000,9,   -999.0,9,   -999.0,9,  -999.0, -999.00,-999.0000,-999.000,-999.000
     316N145_5,  I08S,    12,  1,      1, SIH036,2,19941208,1413,-34.5028,  95.0028, 4455,44976.4,   4518.8,   1.0402,  34.7120,2,  34.7119,2,    207.7,3,  0.6773,    207.0,2,   120.92,2,    32.14,2,     0.00,2,     2.22,2,    0.018,2,    0.012,2, -999.000,5,-999.0000,5,  -999.00,9,   -999.0,9,  -999.00,9,-999.000,9,   -999.0,9,   -999.0,9,  -999.0, -999.00,-999.0000,-999.000,-999.000