BOTTLE,20090521WHPSIOdm
EXPOCODE,SECT_ID,STNNBR,CASTNO,SAMPNO,BTLNBR,BTLNBR_FLAG_W,DATE,TIME,LATITUDE,LONGITUDE,DEPTH,CTDRAW,CTDPRS,CTDTMP,CTDSAL,CTDSAL_FLAG_W,SALNTY,SALNTY_FLAG_W,CTDOXY,CTDOXY_FLAG_W,THETA,OXYGEN,OXYGEN_FLAG_W,SILCAT,SILCAT_FLAG_W,NITRAT,NITRAT_FLAG_W,NITRIT,NITRIT_FLAG_W,PHSPHT,PHSPHT_FLAG_W,CFC-11,CFC-11_FLAG_W,CFC-12,CFC-12_FLAG_W,TRITUM,TRITUM_FLAG_W,HELIUM,HELIUM_FLAG_W,DELHE3,DELHE3_FLAG_W,DELC14,DELC14_FLAG_W,DELC13,DELC13_FLAG_W,NEON,NEON_FLAG_W,TCARBN,TCARBN_FLAG_W,ALKALI,ALKALI_FLAG_W,C14ERR,DELHER,HELIER,NEONER,TRITER
,,,,,,,,,,,,,DBAR,IPTS-68,PSS-78,,PSS-78,,UMOL/KG,,IPTS-68,UMOL/KG,,UMOL/KG,,UMOL/KG,,UMOL/KG,,UMOL/KG,,PMOL/KG,,PMOL/KG,,TU,,NMOL/KG,,PERCNT,,/MILLE,,/MILLE,,NMOL/KG,,UMOL/KG,,UMOL/KG,,/MILLE,PERCNT,NMOL/KG,NMOL/KG,TU
     316N145_5,  I08S,    53,  1,     36, SIH035,2,19941220,0416,-52.2500,  88.3028, 4300,  157.7,     10.6,   4.0759,  33.9205,2,  33.9211,2,    339.7,2,  4.0752,    320.8,2,     1.62,2,    21.37,2,     0.22,2,     1.53,2,    5.395,2,    2.625,2,    0.334,4,   1.7900,2,    -1.65,2,   -999.0,9,  -999.00,9,   7.852,2,   -999.0,9,   -999.0,9,  -999.0,    0.10,  0.0020,   0.056,   0.007
     316N145_5,  I08S,    53,  1,     35, SIH032,2,19941220,0416,-52.2500,  88.3028, 4300,  368.4,     31.8,   4.0414,  33.9231,2,  33.9250,2,    329.3,2,  4.0392,    318.1,2,     1.63,2,    21.44,2,     0.22,2,     1.54,2,    5.309,2,    2.610,2,   -0.030,4,   1.7910,2,    -1.74,2,   -999.0,9,  -999.00,9,   7.772,2,   -999.0,9,   -999.0,9,  -999.0,    0.14,  0.0020,   0.074,   0.167
     316N145_5,  I08S,    53,  1,     34, SIH029,2,19941220,0416,-52.2500,  88.3028, 4300,  606.5,     55.8,   4.0166,  33.9257,2,  33.9265,2,    327.6,2,  4.0128,    317.9,2,     1.63,2,    21.35,2,     0.22,2,     1.54,2,    5.332,2,    2.609,2,    0.284,4,   1.7960,2,    -1.70,2,   -999.0,9,  -999.00,9,   7.851,2,   -999.0,9,   -999.0,9,  -999.0,    0.10,  0.0020,   0.056,   0.007
     316N145_5,  I08S,    53,  1,     33, SIH026,2,19941220,0416,-52.2500,  88.3028, 4300,  851.7,     80.4,   3.9230,  33.9476,2,  33.9493,2,    326.6,2,  3.9176,    313.5,2,     4.01,2,    22.03,2,     0.21,2,     1.58,2,    5.273,2,    2.595,2,    0.213,4,   1.8020,2,    -1.57,2,   -999.0,9,  -999.00,9,   7.900,2,   -999.0,9,   -999.0,9,  -999.0,    0.14,  0.0020,   0.051,   0.006
     316N145_5,  I08S,    53,  1,     32, SIH023,2,19941220,0416,-52.2500,  88.3028, 4300, 1110.2,    106.4,   3.6665,  33.9810,2,  33.9782,2,    313.4,2,  3.6596,    306.5,2,     8.56,2,    23.65,2,     0.18,2,     1.69,2,    5.160,2,    2.528,2,    0.449,4,   1.7980,2,    -1.50,2,   -999.0,9,  -999.00,9,   7.916,2,   -999.0,9,   -999.0,9,  -999.0,    0.10,  0.0020,   0.035,   0.010
     316N145_5,  I08S,    53,  1,     31, SIH020,2,19941220,0416,-52.2500,  88.3028, 4300, 1612.8,    157.0,   2.9897,  34.0018,2,  34.0117,2,    306.9,2,  2.9803,    296.8,2,    16.49,2,    26.64,2,     0.13,2,     1.87,2,    4.965,2,    2.407,2,    0.311,4,   1.7990,2,    -1.04,2,   -999.0,9,  -999.00,9,   7.967,2,   -999.0,9,   -999.0,9,  -999.0,    0.14,  0.0020,   0.034,   0.007
     316N145_5,  I08S,    53,  1,     30, SIH017,2,19941220,0416,-52.2500,  88.3028, 4300, 2101.9,    206.2,   3.0073,  34.0958,2,  34.0985,2,    301.3,2,  2.9947,    275.2,2,    22.73,2,    28.84,2,     0.06,2,     1.99,2,    4.200,2,    2.042,2,    0.000,5,   1.7390,4,    -0.44,2,   -999.0,9,  -999.00,9,   7.753,3,   -999.0,9,   -999.0,9,  -999.0,    0.14,  0.0020,   0.057,   0.000
     316N145_5,  I08S,    53,  1,     29, SIH014,2,19941220,0416,-52.2500,  88.3028, 4300, 2604.3,    256.7,   2.3485,  34.0780,2,  34.0805,2,    286.0,2,  2.3341,    280.4,2,    27.11,2,    29.60,2,     0.08,2,     2.02,2,    4.412,2,    2.123,2,   -0.573,4,   1.8360,2,     0.03,2,   -999.0,9,  -999.00,9,   8.081,2,   -999.0,9,   -999.0,9,  -999.0,    0.14,  0.0020,   0.035,   0.158
     316N145_5,  I08S,    53,  1,     28, SIH011,2,19941220,0416,-52.2500,  88.3028, 4300, 3102.6,    306.8,   2.3739,  34.1697,2,  34.1721,2,    264.3,2,  2.3565,    252.1,2,    35.03,2,    31.75,2,     0.01,2,     2.16,2,    3.365,2,    1.605,2, -999.000,5,-999.0000,5,  -999.00,9,   -999.0,9,  -999.00,9,-999.000,9,   -999.0,9,   -999.0,9,  -999.0, -999.00,-999.0000,-999.000,-999.000
     316N145_5,  I08S,    53,  1,     27, SIH008,2,19941220,0416,-52.2500,  88.3028, 4300, 3595.6,    356.4,   2.4551,  34.2820,2,  34.2834,2,    243.3,2,  2.4345,    219.6,2,    45.98,2,    33.45,2,     0.01,2,     2.28,2, -999.000,9, -999.000,9, -999.000,5,-999.0000,5,  -999.00,9,   -999.0,9,  -999.00,9,-999.000,9,   -999.0,9,   -999.0,9,  -999.0, -999.00,-999.0000,-999.000,-999.000
     316N145_5,  I08S,    53,  1,     26, SIH005,2,19941220,0416,-52.2500,  88.3028, 4300, 4100.4,    407.2,   2.3717,  34.3428,2,  34.3429,2,    224.9,2,  2.3481,    205.8,2,    53.22,2,    34.34,2,     0.01,2,     2.33,2,    1.700,2,    0.791,2,    0.047,4,   1.8210,2,     4.45,2,   -999.0,9,  -999.00,9,   7.979,2,   -999.0,9,   -999.0,9,  -999.0,    0.16,  0.0040,   0.037,   0.005
     316N145_5,  I08S,    53,  1,     25, SIH019,2,19941220,0416,-52.2500,  88.3028, 4300, 4596.3,    457.1,   2.3070,  34.3732,2,  34.3753,2,    217.0,2,  2.2806,    199.6,2,    57.44,2,    34.70,2,     0.00,2,     2.35,2, -999.000,9, -999.000,9, -999.000,5,-999.0000,5,  -999.00,9,   -999.0,9,  -999.00,9,-999.000,9,   -999.0,9,   -999.0,9,  -999.0, -999.00,-999.0000,-999.000,-999.000
     316N145_5,  I08S,    53,  1,     24, SIH037,2,19941220,0416,-52.2500,  88.3028, 4300, 5100.0,    507.7,   2.3376,  34.4145,2,  34.4155,2,    206.5,2,  2.3078,    192.2,2,    61.14,2,    34.88,2,     0.00,2,     2.37,2, -999.000,9, -999.000,9,    0.219,4,-999.0000,5,  -999.00,9,   -999.0,9,  -999.00,9,-999.000,9,   -999.0,9,   -999.0,9,  -999.0, -999.00,-999.0000,-999.000,   0.006
     316N145_5,  I08S,    53,  1,     23, SIH033,2,19941220,0416,-52.2500,  88.3028, 4300, 6095.6,    607.9,   2.3357,  34.5021,2,  34.5032,2,    196.8,2,  2.2995,    181.5,2,    68.39,2,    34.80,2,     0.00,2,     2.36,2,    0.758,2,    0.358,2,    0.357,4,   1.8390,2,     6.96,2,   -999.0,9,  -999.00,9,   7.986,2,   -999.0,9,   -999.0,9,  -999.0,    0.16,  0.0040,   0.048,   0.007
     316N145_5,  I08S,    53,  1,     22, SIH031,2,19941220,0416,-52.2500,  88.3028, 4300, 7098.8,    708.8,   2.3216,  34.5545,2,  34.5527,2,    189.1,2,  2.2788,    177.7,2,    71.93,2,    34.39,2,     0.00,2,     2.34,2,    0.539,2,    0.260,2,    0.219,4,-999.0000,5,  -999.00,9,   -999.0,9,  -999.00,9,-999.000,9,   -999.0,9,   -999.0,9,  -999.0, -999.00,-999.0000,-999.000,   0.006
     316N145_5,  I08S,    53,  1,     21, SIH030,2,19941220,0416,-52.2500,  88.3028, 4300, 8083.3,    807.8,   2.3547,  34.6186,2,  34.6187,2,    186.7,2,  2.3050,    177.8,2,    74.11,2,    33.60,2,     0.00,2,     2.28,2,    0.309,2,    0.157,2,    0.000,4,   1.8540,2,     8.43,2,   -999.0,9,  -999.00,9,   8.037,2,   -999.0,9,   -999.0,9,  -999.0,    0.16,  0.0040,   0.051,   0.005
     316N145_5,  I08S,    53,  1,     20, SIH028,2,19941220,0416,-52.2500,  88.3028, 4300, 9144.4,    914.5,   2.2820,  34.6395,2,  34.6413,2,    185.7,2,  2.2254,    177.8,2,    76.13,2,    33.40,2,     0.00,2,     2.27,2, -999.000,9, -999.000,9, -999.000,5,-999.0000,5,  -999.00,9,   -999.0,9,  -999.00,9,-999.000,9,   -999.0,9,   -999.0,9,  -999.0, -999.00,-999.0000,-999.000,-999.000
     316N145_5,  I08S,    53,  1,     19, SIH027,2,19941220,0416,-52.2500,  88.3028, 4300,10204.6,   1021.2,   2.2347,  34.6781,2,  34.6793,2,    189.1,2,  2.1710,    180.9,2,    77.99,2,    32.55,2,     0.00,2,     2.21,2,    0.212,2,    0.126,2,    0.076,4,-999.0000,5,  -999.00,9,   -999.0,9,  -999.00,9,-999.000,9,   -999.0,9,   -999.0,9,  -999.0, -999.00,-999.0000,-999.000,   0.005
     316N145_5,  I08S,    53,  1,     18, SIH003,2,19941220,0416,-52.2500,  88.3028, 4300,11320.9,   1133.5,   2.2144,  34.7088,2,  34.7113,2,    195.1,2,  2.1428,    185.6,2,    78.33,2,    31.65,2,     0.00,2,     2.16,2, -999.000,9, -999.000,9, -999.000,5,-999.0000,5,  -999.00,9,   -999.0,9,  -999.00,9,-999.000,9,   -999.0,9,   -999.0,9,  -999.0, -999.00,-999.0000,-999.000,-999.000
     316N145_5,  I08S,    53,  1,     17, SIH024,2,19941220,0416,-52.2500,  88.3028, 4300,12489.9,   1251.0,   2.1558,  34.7263,2,  34.7288,2,    198.3,2,  2.0761,    189.0,2,    79.51,2,    31.18,2,     0.00,2,     2.13,2,    0.108,2,    0.045,2,    0.126,4,   1.8500,2,     9.14,2,   -999.0,9,  -999.00,9,   8.058,2,   -999.0,9,   -999.0,9,  -999.0,    0.16,  0.0040,   0.027,   0.006
     316N145_5,  I08S,    53,  1,     16, SIH022,2,19941220,0416,-52.2500,  88.3028, 4300,14316.9,   1434.8,   1.9277,  34.7486,2,  34.7492,2,    196.1,2,  1.8368,    196.2,2,    85.40,2,    30.55,2,     0.00,2,     2.09,2,    0.088,2,    0.042,2,    0.112,4,-999.0000,5,  -999.00,9,   -999.0,9,  -999.00,9,-999.000,9,   -999.0,9,   -999.0,9,  -999.0, -999.00,-999.0000,-999.000,   0.005
     316N145_5,  I08S,    53,  1,     15, SIH021,2,19941220,0416,-52.2500,  88.3028, 4300,16443.7,   1648.7,   1.7860,  34.7524,2,  34.7528,2,    199.2,2,  1.6804,    199.1,2,    89.28,2,    30.52,2,     0.00,2,     2.08,2,    0.060,2,    0.031,2,    0.019,4,   1.8480,2,     8.89,2,   -999.0,9,  -999.00,9,   8.029,2,   -999.0,9,   -999.0,9,  -999.0,    0.16,  0.0040,   0.039,   0.004
     316N145_5,  I08S,    53,  1,     14, SIH002,2,19941220,0416,-52.2500,  88.3028, 4300,18333.5,   1838.8,   1.6374,  34.7481,2,  34.7492,2,    202.0,2,  1.5190,    200.8,2,    94.16,2,    30.65,2,     0.00,2,     2.10,2,    0.053,2,    0.022,2,    0.079,4,-999.0000,5,  -999.00,9,   -999.0,9,  -999.00,9,-999.000,9,   -999.0,9,   -999.0,9,  -999.0, -999.00,-999.0000,-999.000,   0.005
     316N145_5,  I08S,    53,  1,     13, SIH018,2,19941220,0416,-52.2500,  88.3028, 4300,20088.6,   2015.4,   1.3950,  34.7382,2,  34.7408,2,    203.9,2,  1.2661,    202.5,2,   100.89,2,    31.11,2,     0.00,2,     2.13,2,    0.063,2,    0.025,2,    0.078,4,   1.8550,2,     9.01,2,   -999.0,9,  -999.00,9,   8.070,2,   -999.0,9,   -999.0,9,  -999.0,    0.16,  0.0040,   0.032,   0.005
     316N145_5,  I08S,    53,  1,     12, SIH016,2,19941220,0416,-52.2500,  88.3028, 4300,22110.9,   2218.8,   1.2898,  34.7335,2,  34.7331,2,    203.0,2,  1.1462,    203.8,2,   104.61,2,    31.34,2,     0.00,2,     2.14,2,    0.075,2,    0.040,2,    0.160,4,-999.0000,5,  -999.00,9,   -999.0,9,  -999.00,9,-999.000,9,   -999.0,9,   -999.0,9,  -999.0, -999.00,-999.0000,-999.000,   0.006
     316N145_5,  I08S,    53,  1,     11, SIH015,2,19941220,0416,-52.2500,  88.3028, 4300,24233.6,   2432.3,   1.1446,  34.7252,2,  34.7256,2,    207.5,2,  0.9857,    205.4,2,   108.81,2,    31.65,2,     0.00,2,     2.17,2,    0.076,2,    0.044,2,   -0.019,4,   1.8560,2,     8.50,2,   -999.0,9,  -999.00,9,   8.093,2,   -999.0,9,   -999.0,9,  -999.0,    0.16,  0.0040,   0.050,   0.004
     316N145_5,  I08S,    53,  1,     10, SIH013,2,19941220,0416,-52.2500,  88.3028, 4300,27408.0,   2751.6,   0.7949,  34.7064,2,  34.7079,2,    211.1,2,  0.6156,    210.0,2,   117.57,2,    32.26,2,     0.00,2,     2.21,2,    0.138,2,    0.065,2,    0.157,4,-999.0000,5,  -999.00,9,   -999.0,9,  -999.00,9,-999.000,9,   -999.0,9,   -999.0,9,  -999.0, -999.00,-999.0000,-999.000,   0.005
     316N145_5,  I08S,    53,  1,      9, SIH012,2,19941220,0416,-52.2500,  88.3028, 4300,30406.6,   3053.2,   0.5737,  34.6955,2,  34.6965,2,    213.6,2,  0.3726,    213.3,2,   122.62,2,    32.57,2,     0.00,2,     2.23,2,    0.197,2,    0.092,2,    0.080,4,   1.9180,3,     7.61,2,   -999.0,9,  -999.00,9,   8.293,3,   -999.0,9,   -999.0,9,  -999.0,    0.16,  0.0040,   0.053,   0.005
     316N145_5,  I08S,    53,  1,      8, SIH010,2,19941220,0416,-52.2500,  88.3028, 4300,32122.5,   3225.8,   0.3846,  34.6885,2,  34.6887,2,    218.4,2,  0.1723,    218.5,2,   125.99,2,    32.69,2,     0.00,2,     2.24,2,    0.302,2,    0.139,2,    0.083,4,   1.8810,2,     7.42,2,   -999.0,9,  -999.00,9,   8.155,2,   -999.0,9,   -999.0,9,  -999.0,    0.14,  0.0030,   0.054,   0.005
     316N145_5,  I08S,    53,  1,      7, SIH009,2,19941220,0416,-52.2500,  88.3028, 4300,33834.0,   3398.0,   0.2938,  34.6851,2,  34.6873,2,    223.5,2,  0.0678,    220.9,2,   126.83,2,    32.72,2,     0.00,2,     2.24,2,    0.376,2,    0.179,2,    0.163,4,-999.0000,5,  -999.00,9,   -999.0,9,  -999.00,9,-999.000,9,   -999.0,9,   -999.0,9,  -999.0, -999.00,-999.0000,-999.000,   0.006
     316N145_5,  I08S,    53,  1,      6, SIH038,2,19941220,0416,-52.2500,  88.3028, 4300,35184.5,   3533.8,   0.2584,  34.6833,2,  34.6826,2,    227.9,2,  0.0205,    222.1,2,   127.50,2,    32.68,2,     0.00,2,     2.24,2,    0.419,2,    0.200,2,    0.167,4,   1.8900,2,     7.00,2,   -999.0,9,  -999.00,9,   8.193,2,   -999.0,9,   -999.0,9,  -999.0,    0.14,  0.0030,   0.059,   0.005
     316N145_5,  I08S,    53,  1,      5, SIH006,2,19941220,0416,-52.2500,  88.3028, 4300,38058.0,   3822.9,   0.2471,  34.6826,2,  34.6830,2,    229.8,2, -0.0185,    223.2,2,   127.51,2,    32.76,2,     0.00,2,     2.24,2,    0.439,2,    0.208,2,    0.174,4,-999.0000,5,  -999.00,9,   -999.0,9,  -999.00,9,-999.000,9,   -999.0,9,   -999.0,9,  -999.0, -999.00,-999.0000,-999.000,   0.006
     316N145_5,  I08S,    53,  1,      4, SIH004,2,19941220,0416,-52.2500,  88.3028, 4300,40170.1,   4035.3,   0.1949,  34.6801,2,  34.6796,2,    233.0,2, -0.0905,    225.2,2,   128.19,2,    32.63,2,     0.00,2,     2.25,2,    0.500,2,    0.236,2,    0.111,4,-999.0000,5,  -999.00,9,   -999.0,9,  -999.00,9,-999.000,9,   -999.0,9,   -999.0,9,  -999.0, -999.00,-999.0000,-999.000,   0.005
     316N145_5,  I08S,    53,  1,      3, SIH025,2,19941220,0416,-52.2500,  88.3028, 4300,41910.9,   4210.4,   0.1052,  34.6763,2,  34.6749,2,    232.2,2, -0.1955,    228.3,2,   128.36,2,    32.70,2,     0.00,2,     2.24,2,    0.644,2,    0.305,2,   -0.026,4,   1.5680,4,     7.52,2,   -999.0,9,  -999.00,9,   6.369,4,   -999.0,9,   -999.0,9,  -999.0,    0.12,  0.0020,   0.032,   0.005
     316N145_5,  I08S,    53,  1,      2, SIH001,2,19941220,0416,-52.2500,  88.3028, 4300,43034.1,   4323.4,   0.0292,  34.6741,2,  34.6722,2,    238.8,2, -0.2809,    231.3,2,   128.20,2,    32.62,2,     0.00,2,     2.24,2,    0.760,2,    0.361,2,    0.101,4,   1.8840,2,     6.40,2,   -999.0,9,  -999.00,9,   8.222,2,   -999.0,9,   -999.0,9,  -999.0,    0.14,  0.0030,   0.053,   0.005
     316N145_5,  I08S,    53,  1,      1, SIH036,2,19941220,0416,-52.2500,  88.3028, 4300,43634.7,   4383.8,   0.0320,  34.6736,2,  34.6722,2,    236.5,2, -0.2845,    232.0,2,   128.51,2,    32.54,2,     0.00,2,     2.24,2,    0.769,2,    0.360,2,    0.126,4,   1.9250,3,     6.29,2,   -999.0,9,  -999.00,9,   8.385,3,   -999.0,9,   -999.0,9,  -999.0,    0.13,  0.0030,   0.049,   0.005