BOTTLE,20090521WHPSIOdm
EXPOCODE,SECT_ID,STNNBR,CASTNO,SAMPNO,BTLNBR,BTLNBR_FLAG_W,DATE,TIME,LATITUDE,LONGITUDE,DEPTH,CTDRAW,CTDPRS,CTDTMP,CTDSAL,CTDSAL_FLAG_W,SALNTY,SALNTY_FLAG_W,CTDOXY,CTDOXY_FLAG_W,THETA,OXYGEN,OXYGEN_FLAG_W,SILCAT,SILCAT_FLAG_W,NITRAT,NITRAT_FLAG_W,NITRIT,NITRIT_FLAG_W,PHSPHT,PHSPHT_FLAG_W,CFC-11,CFC-11_FLAG_W,CFC-12,CFC-12_FLAG_W,TRITUM,TRITUM_FLAG_W,HELIUM,HELIUM_FLAG_W,DELHE3,DELHE3_FLAG_W,DELC14,DELC14_FLAG_W,DELC13,DELC13_FLAG_W,NEON,NEON_FLAG_W,TCARBN,TCARBN_FLAG_W,ALKALI,ALKALI_FLAG_W,C14ERR,DELHER,HELIER,NEONER,TRITER
,,,,,,,,,,,,,DBAR,IPTS-68,PSS-78,,PSS-78,,UMOL/KG,,IPTS-68,UMOL/KG,,UMOL/KG,,UMOL/KG,,UMOL/KG,,UMOL/KG,,PMOL/KG,,PMOL/KG,,TU,,NMOL/KG,,PERCNT,,/MILLE,,/MILLE,,NMOL/KG,,UMOL/KG,,UMOL/KG,,/MILLE,PERCNT,NMOL/KG,NMOL/KG,TU
     316N145_5,  I09S,   132,  1,     36, SI9446,2,19950114,2212,-40.8862, 115.0028, 4590,  185.2,     13.4,  13.0312,  34.8036,2,  34.8033,2,    276.1,2, 13.0294,    270.9,2,     0.46,2,     6.54,2,     0.13,2,     0.58,2, -999.000,9, -999.000,9, -999.000,5,-999.0000,5,  -999.00,9,   -999.0,9,  -999.00,9,-999.000,9,   2064.3,6,   2290.5,2,  -999.0, -999.00,-999.0000,-999.000,-999.000
     316N145_5,  I09S,   132,  1,     35, SIH032,2,19950114,2212,-40.8862, 115.0028, 4590,  384.8,     33.4,  13.0246,  34.8083,2,  34.8096,2,    274.9,2, 13.0201,    270.9,2,     0.46,2,     6.48,2,     0.13,2,     0.58,2, -999.000,9, -999.000,9, -999.000,5,-999.0000,5,  -999.00,9,   -999.0,9,  -999.00,9,-999.000,9,   2065.1,2,   2337.0,3,  -999.0, -999.00,-999.0000,-999.000,-999.000
     316N145_5,  I09S,   132,  1,     34, SIH029,2,19950114,2212,-40.8862, 115.0028, 4590,  635.3,     58.6,  12.1103,  34.8238,2,  34.8245,2,    269.8,2, 12.1027,    265.5,2,     1.90,2,     7.60,2,     0.14,2,     0.68,2, -999.000,9, -999.000,9, -999.000,5,-999.0000,5,  -999.00,9,   -999.0,9,  -999.00,9,-999.000,9,   2077.9,2,   2304.4,6,  -999.0, -999.00,-999.0000,-999.000,-999.000
     316N145_5,  I09S,   132,  1,     33, SIH026,2,19950114,2212,-40.8862, 115.0028, 4590,  883.5,     83.6,  12.1665,  35.1109,2,  35.1095,2,    260.0,2, 12.1555,    253.7,2,     1.57,2,     5.94,2,     0.27,2,     0.56,2, -999.000,9, -999.000,9, -999.000,5,-999.0000,5,  -999.00,9,   -999.0,9,  -999.00,9,-999.000,9,   2086.1,2,   2309.1,2,  -999.0, -999.00,-999.0000,-999.000,-999.000
     316N145_5,  I09S,   132,  1,     32, SIH023,2,19950114,2212,-40.8862, 115.0028, 4590, 1137.4,    109.1,  11.5469,  35.0097,2,  35.0132,2,    254.7,2, 11.5331,    254.9,2,     1.74,2,     7.50,2,     0.04,2,     0.64,2, -999.000,9, -999.000,9, -999.000,5,-999.0000,5,  -999.00,9,   -999.0,9,  -999.00,9,-999.000,9,   2089.7,2,   2325.8,2,  -999.0, -999.00,-999.0000,-999.000,-999.000
     316N145_5,  I09S,   132,  1,     31, SIH020,2,19950114,2212,-40.8862, 115.0028, 4590, 1629.5,    158.6,  10.7974,  34.8834,2,  34.8841,2,    260.9,2, 10.7781,    259.5,2,     2.05,2,     9.14,2,     0.02,2,     0.75,2, -999.000,9, -999.000,9, -999.000,5,-999.0000,5,  -999.00,9,   -999.0,9,  -999.00,9,-999.000,9,   2092.5,2,   2302.1,2,  -999.0, -999.00,-999.0000,-999.000,-999.000
     316N145_5,  I09S,   132,  1,     30, SIH017,2,19950114,2212,-40.8862, 115.0028, 4590, 2129.3,    208.8,  10.2283,  34.7972,2,  34.7964,2,    265.6,2, 10.2038,    261.6,2,     2.69,2,    10.81,2,     0.01,2,     0.85,2, -999.000,9, -999.000,9, -999.000,5,-999.0000,5,  -999.00,9,   -999.0,9,  -999.00,9,-999.000,9,   2096.3,2,   2305.8,2,  -999.0, -999.00,-999.0000,-999.000,-999.000
     316N145_5,  I09S,   132,  1,     29, SIH014,2,19950114,2212,-40.8862, 115.0028, 4590, 2625.2,    258.7,   9.9836,  34.7715,2,  34.7693,2,    261.5,2,  9.9536,    256.8,2,     3.17,2,    12.51,2,     0.01,2,     0.92,2, -999.000,9, -999.000,9, -999.000,5,-999.0000,5,  -999.00,9,   -999.0,9,  -999.00,9,-999.000,9,   2100.5,2,   2293.7,2,  -999.0, -999.00,-999.0000,-999.000,-999.000
     316N145_5,  I09S,   132,  1,     28, SIH011,2,19950114,2212,-40.8862, 115.0028, 4590, 3124.8,    309.0,   9.7507,  34.7369,2,  34.7366,2,    264.1,2,  9.7153,    259.2,2,     3.49,2,    13.08,2,     0.01,2,     0.96,2, -999.000,9, -999.000,9, -999.000,5,-999.0000,5,  -999.00,9,   -999.0,9,  -999.00,9,-999.000,9,   2101.9,2,   2274.8,2,  -999.0, -999.00,-999.0000,-999.000,-999.000
     316N145_5,  I09S,   132,  1,     27, SIH008,2,19950114,2212,-40.8862, 115.0028, 4590, 3628.5,    359.6,   9.5452,  34.7043,2,  34.7024,2,    264.3,2,  9.5045,    260.3,2,     3.81,2,    13.69,2,     0.01,2,     0.99,2, -999.000,9, -999.000,9, -999.000,5,-999.0000,5,  -999.00,9,   -999.0,9,  -999.00,9,-999.000,9,   2101.7,2,   2321.3,3,  -999.0, -999.00,-999.0000,-999.000,-999.000
     316N145_5,  I09S,   132,  1,     26, SIH005,2,19950114,2212,-40.8862, 115.0028, 4590, 4121.2,    409.1,   9.4633,  34.6943,2,  34.6930,2,    260.7,2,  9.4170,    257.5,2,     3.97,2,    14.21,2,     0.01,2,     1.03,2, -999.000,9, -999.000,9, -999.000,5,-999.0000,5,  -999.00,9,   -999.0,9,  -999.00,9,-999.000,9,   2104.4,2,   2293.6,2,  -999.0, -999.00,-999.0000,-999.000,-999.000
     316N145_5,  I09S,   132,  1,     25, SIH019,2,19950114,2212,-40.8862, 115.0028, 4590, 4621.7,    459.5,   9.3787,  34.6849,2,  34.6848,2,    253.6,2,  9.3269,    247.7,2,     4.29,2,    15.40,2,     0.00,2,     1.08,2, -999.000,9, -999.000,9, -999.000,5,-999.0000,5,  -999.00,9,   -999.0,9,  -999.00,9,-999.000,9,   2110.4,2,   2310.8,2,  -999.0, -999.00,-999.0000,-999.000,-999.000
     316N145_5,  I09S,   132,  1,     24, SIH037,2,19950114,2212,-40.8862, 115.0028, 4590, 5127.5,    510.3,   9.2772,  34.6721,2,  34.6704,2,    246.5,2,  9.2200,    244.3,2,     4.60,2,    16.06,2,     0.00,2,     1.12,2, -999.000,9, -999.000,9, -999.000,5,-999.0000,5,  -999.00,9,   -999.0,9,  -999.00,9,-999.000,9,   2113.3,2,   -999.0,9,  -999.0, -999.00,-999.0000,-999.000,-999.000
     316N145_5,  I09S,   132,  1,     23, SIH033,2,19950114,2212,-40.8862, 115.0028, 4590, 6125.1,    610.7,   8.9712,  34.6333,2,  34.6327,2,    233.5,2,  8.9037,    235.9,2,     5.73,2,    17.87,2,     0.00,2,     1.24,2, -999.000,9, -999.000,9, -999.000,5,-999.0000,5,  -999.00,9,   -999.0,9,  -999.00,9,-999.000,9,   2119.8,2,   2287.9,2,  -999.0, -999.00,-999.0000,-999.000,-999.000
     316N145_5,  I09S,   132,  1,     22, SIH031,2,19950114,2212,-40.8862, 115.0028, 4590, 7121.9,    710.9,   8.3193,  34.5559,2,  34.5573,2,    224.0,2,  8.2438,    225.2,2,     8.13,2,    20.45,2,     0.00,2,     1.40,2, -999.000,9, -999.000,9, -999.000,5,-999.0000,5,  -999.00,9,   -999.0,9,  -999.00,9,-999.000,9,   2130.6,2,   2280.7,2,  -999.0, -999.00,-999.0000,-999.000,-999.000
     316N145_5,  I09S,   132,  1,     21, SIH030,2,19950114,2212,-40.8862, 115.0028, 4590, 8132.2,    812.5,   7.4300,  34.4916,2,  34.4913,2,    205.0,2,  7.3485,    207.6,2,    13.33,2,    23.96,2,     0.00,2,     1.62,2, -999.000,9, -999.000,9, -999.000,5,-999.0000,5,  -999.00,9,   -999.0,9,  -999.00,9,-999.000,9,   2150.1,2,   -999.0,9,  -999.0, -999.00,-999.0000,-999.000,-999.000
     316N145_5,  I09S,   132,  1,     20, SIH028,2,19950114,2212,-40.8862, 115.0028, 4590, 9123.0,    912.1,   6.2459,  34.4243,2,  34.4233,2,    197.4,2,  6.1620,    199.4,2,    20.76,2,    27.55,2,     0.00,2,     1.84,2, -999.000,9, -999.000,9, -999.000,5,-999.0000,5,  -999.00,9,   -999.0,9,  -999.00,9,-999.000,9,   2168.0,2,   -999.0,9,  -999.0, -999.00,-999.0000,-999.000,-999.000
     316N145_5,  I09S,   132,  1,     19, SIH027,2,19950114,2212,-40.8862, 115.0028, 4590,10117.4,   1012.2,   5.1510,  34.3672,2,  34.3670,2,    203.9,2,  5.0656,    205.0,2,    26.69,2,    29.40,2,     0.00,2,     1.97,2, -999.000,9, -999.000,9, -999.000,5,-999.0000,5,  -999.00,9,   -999.0,9,  -999.00,9,-999.000,9,   2179.4,2,   2300.9,2,  -999.0, -999.00,-999.0000,-999.000,-999.000
     316N145_5,  I09S,   132,  1,     18, SIH003,2,19950114,2212,-40.8862, 115.0028, 4590,11129.3,   1113.9,   4.2973,  34.3510,2,  34.3527,2,    201.9,2,  4.2098,    203.2,2,    34.70,2,    31.16,2,     0.00,2,     2.10,2, -999.000,9, -999.000,9, -999.000,5,-999.0000,5,  -999.00,9,   -999.0,9,  -999.00,9,-999.000,9,   2191.6,6,   2303.3,2,  -999.0, -999.00,-999.0000,-999.000,-999.000
     316N145_5,  I09S,   132,  1,     17, SIH024,2,19950114,2212,-40.8862, 115.0028, 4590,12121.5,   1213.7,   3.6948,  34.3643,2,  34.3633,2,    196.5,2,  3.6042,    199.5,2,    43.02,2,    32.44,2,     0.00,2,     2.19,2, -999.000,9, -999.000,9, -999.000,5,-999.0000,5,  -999.00,9,   -999.0,9,  -999.00,9,-999.000,9,   2206.5,2,   2307.3,6,  -999.0, -999.00,-999.0000,-999.000,-999.000
     316N145_5,  I09S,   132,  1,     16, SIH022,2,19950114,2212,-40.8862, 115.0028, 4590,14129.7,   1415.7,   3.0515,  34.4544,2,  34.4524,2,    179.7,2,  2.9503,    179.5,2,    59.51,2,    34.09,2,     0.00,2,     2.31,2, -999.000,9, -999.000,9, -999.000,5,-999.0000,5,  -999.00,9,   -999.0,9,  -999.00,9,-999.000,9,   2232.8,2,   -999.0,9,  -999.0, -999.00,-999.0000,-999.000,-999.000
     316N145_5,  I09S,   132,  1,     15, SIH021,2,19950114,2212,-40.8862, 115.0028, 4590,16227.9,   1626.8,   2.7563,  34.5508,2,  34.5523,2,    169.5,2,  2.6408,    169.2,2,    71.03,2,    34.22,2,     0.00,2,     2.33,2, -999.000,9, -999.000,9, -999.000,5,-999.0000,5,  -999.00,9,   -999.0,9,  -999.00,9,-999.000,9,   2247.5,2,   2331.7,2,  -999.0, -999.00,-999.0000,-999.000,-999.000
     316N145_5,  I09S,   132,  1,     14, SIH002,2,19950114,2212,-40.8862, 115.0028, 4590,18193.4,   1824.5,   2.6332,  34.6291,2,  34.6293,2,    165.5,2,  2.5024,    164.7,2,    80.63,2,    33.89,2,     0.00,2,     2.31,2, -999.000,9, -999.000,9, -999.000,5,-999.0000,5,  -999.00,9,   -999.0,9,  -999.00,9,-999.000,9,   2257.3,2,   2346.2,2,  -999.0, -999.00,-999.0000,-999.000,-999.000
     316N145_5,  I09S,   132,  1,     13, SIH018,2,19950114,2212,-40.8862, 115.0028, 4590,20242.3,   2030.6,   2.4773,  34.6823,2,  34.6808,2,    167.8,2,  2.3308,    168.7,2,    85.75,2,    33.07,2,     0.00,2,     2.26,2, -999.000,9, -999.000,9, -999.000,5,-999.0000,5,  -999.00,9,   -999.0,9,  -999.00,9,-999.000,9,   2259.4,2,   2357.9,2,  -999.0, -999.00,-999.0000,-999.000,-999.000
     316N145_5,  I09S,   132,  1,     12, SIH016,2,19950114,2212,-40.8862, 115.0028, 4590,22310.2,   2238.6,   2.3313,  34.7111,2,  34.7111,2,    169.6,2,  2.1686,    170.0,2,    93.27,2,    32.82,2,     0.00,2,     2.24,2, -999.000,9, -999.000,9, -999.000,5,-999.0000,5,  -999.00,9,   -999.0,9,  -999.00,9,-999.000,9,   2264.4,2,   2344.0,3,  -999.0, -999.00,-999.0000,-999.000,-999.000
     316N145_5,  I09S,   132,  1,     11, SIH015,2,19950114,2212,-40.8862, 115.0028, 4590,24266.3,   2435.3,   2.1880,  34.7260,2,  34.7276,2,    174.3,2,  2.0098,    175.3,2,    97.12,2,    32.34,2,     0.00,2,     2.22,2, -999.000,9, -999.000,9, -999.000,5,-999.0000,5,  -999.00,9,   -999.0,9,  -999.00,9,-999.000,9,   2264.8,2,   2371.8,2,  -999.0, -999.00,-999.0000,-999.000,-999.000
     316N145_5,  I09S,   132,  1,     10, SI9426,2,19950114,2212,-40.8862, 115.0028, 4590,27285.4,   2739.0,   1.9811,  34.7396,2,  34.7378,2,    181.9,2,  1.7786,    184.2,2,    98.57,2,    31.76,2,     0.00,2,     2.16,2, -999.000,9, -999.000,9, -999.000,5,-999.0000,5,  -999.00,9,   -999.0,9,  -999.00,9,-999.000,9,   2259.9,2,   2363.0,2,  -999.0, -999.00,-999.0000,-999.000,-999.000
     316N145_5,  I09S,   132,  1,      9, SIH012,2,19950114,2212,-40.8862, 115.0028, 4590,30320.5,   3044.3,   1.7310,  34.7431,2,  34.7429,2,    191.5,2,  1.5045,    193.9,2,   100.48,2,    31.19,2,     0.00,2,     2.11,2, -999.000,9, -999.000,9, -999.000,5,-999.0000,5,  -999.00,9,   -999.0,9,  -999.00,9,-999.000,9,   2255.6,2,   2389.6,3,  -999.0, -999.00,-999.0000,-999.000,-999.000
     316N145_5,  I09S,   132,  1,      8, SIH010,2,19950114,2212,-40.8862, 115.0028, 4590,33382.9,   3352.3,   1.4580,  34.7353,2,  34.7364,2,    196.7,2,  1.2074,    199.1,2,   107.54,2,    31.37,2,     0.00,2,     2.12,2, -999.000,9, -999.000,9, -999.000,5,-999.0000,5,  -999.00,9,   -999.0,9,  -999.00,9,-999.000,9,   2256.3,2,   2364.0,2,  -999.0, -999.00,-999.0000,-999.000,-999.000
     316N145_5,  I09S,   132,  1,      7, SIH009,2,19950114,2212,-40.8862, 115.0028, 4590,36452.9,   3661.1,   1.1656,  34.7232,2,  34.7254,2,    202.6,2,  0.8913,    204.9,2,   114.91,2,    31.66,2,     0.00,2,     2.15,2, -999.000,9, -999.000,9, -999.000,5,-999.0000,5,  -999.00,9,   -999.0,9,  -999.00,9,-999.000,9,   2256.9,2,   2377.7,2,  -999.0, -999.00,-999.0000,-999.000,-999.000
     316N145_5,  I09S,   132,  1,      6, SIH038,2,19950114,2212,-40.8862, 115.0028, 4590,38486.3,   3865.7,   0.9787,  34.7142,2,  34.7117,2,    206.6,2,  0.6884,    207.3,2,   119.88,2,    31.79,2,     0.00,2,     2.16,2, -999.000,9, -999.000,9, -999.000,5,-999.0000,5,  -999.00,9,   -999.0,9,  -999.00,9,-999.000,9,   2256.2,2,   2378.4,2,  -999.0, -999.00,-999.0000,-999.000,-999.000
     316N145_5,  I09S,   132,  1,      5, SIH006,2,19950114,2212,-40.8862, 115.0028, 4590,40560.4,   4074.3,   0.8552,  34.7080,2,  34.7076,2,    209.3,2,  0.5465,    210.1,2,   123.24,2,    32.08,2,     0.00,2,     2.18,2, -999.000,9, -999.000,9, -999.000,5,-999.0000,5,  -999.00,9,   -999.0,9,  -999.00,9,-999.000,9,   2257.1,2,   2361.2,2,  -999.0, -999.00,-999.0000,-999.000,-999.000
     316N145_5,  I09S,   132,  1,      4, SIH004,2,19950114,2212,-40.8862, 115.0028, 4590,42554.2,   4274.9,   0.8127,  34.7054,2,  34.7030,2,    211.3,2,  0.4838,    210.7,2,   124.53,2,    32.17,2,     0.00,2,     2.18,2, -999.000,9, -999.000,9, -999.000,5,-999.0000,5,  -999.00,9,   -999.0,9,  -999.00,9,-999.000,9,   2259.5,2,   2378.5,2,  -999.0, -999.00,-999.0000,-999.000,-999.000
     316N145_5,  I09S,   132,  1,      3, SIH025,2,19950114,2212,-40.8862, 115.0028, 4590,44580.5,   4478.7,   0.8046,  34.7041,2,  34.7020,2,    212.2,2,  0.4536,    211.0,2,   125.50,2,    32.21,2,     0.00,2,     2.19,2, -999.000,9, -999.000,9, -999.000,5,-999.0000,5,  -999.00,9,   -999.0,9,  -999.00,9,-999.000,9,   2260.4,2,   2372.7,2,  -999.0, -999.00,-999.0000,-999.000,-999.000
     316N145_5,  I09S,   132,  1,      2, SIH001,2,19950114,2212,-40.8862, 115.0028, 4590,46079.6,   4629.5,   0.8148,  34.7039,2,  34.7028,2,    213.7,2,  0.4464,    211.6,2,   125.50,2,    32.16,2,     0.00,2,     2.19,2, -999.000,9, -999.000,9, -999.000,5,-999.0000,5,  -999.00,9,   -999.0,9,  -999.00,9,-999.000,9,   2261.1,2,   2364.7,6,  -999.0, -999.00,-999.0000,-999.000,-999.000
     316N145_5,  I09S,   132,  1,      1, SIH036,2,19950114,2212,-40.8862, 115.0028, 4590,46607.8,   4682.6,   0.8202,  34.7040,2,  34.7015,2,    214.4,2,  0.4457,    210.9,2,   125.34,2,    32.24,2,     0.00,2,     2.19,2, -999.000,9, -999.000,9, -999.000,5,-999.0000,5,  -999.00,9,   -999.0,9,  -999.00,9,-999.000,9,   2262.7,6,   -999.0,9,  -999.0, -999.00,-999.0000,-999.000,-999.000