BOTTLE,20090521WHPSIOdm
EXPOCODE,SECT_ID,STNNBR,CASTNO,SAMPNO,BTLNBR,BTLNBR_FLAG_W,DATE,TIME,LATITUDE,LONGITUDE,DEPTH,CTDRAW,CTDPRS,CTDTMP,CTDSAL,CTDSAL_FLAG_W,SALNTY,SALNTY_FLAG_W,CTDOXY,CTDOXY_FLAG_W,THETA,OXYGEN,OXYGEN_FLAG_W,SILCAT,SILCAT_FLAG_W,NITRAT,NITRAT_FLAG_W,NITRIT,NITRIT_FLAG_W,PHSPHT,PHSPHT_FLAG_W,CFC-11,CFC-11_FLAG_W,CFC-12,CFC-12_FLAG_W,TRITUM,TRITUM_FLAG_W,HELIUM,HELIUM_FLAG_W,DELHE3,DELHE3_FLAG_W,DELC14,DELC14_FLAG_W,DELC13,DELC13_FLAG_W,NEON,NEON_FLAG_W,TCARBN,TCARBN_FLAG_W,ALKALI,ALKALI_FLAG_W,C14ERR,DELHER,HELIER,NEONER,TRITER
,,,,,,,,,,,,,DBAR,IPTS-68,PSS-78,,PSS-78,,UMOL/KG,,IPTS-68,UMOL/KG,,UMOL/KG,,UMOL/KG,,UMOL/KG,,UMOL/KG,,PMOL/KG,,PMOL/KG,,TU,,NMOL/KG,,PERCNT,,/MILLE,,/MILLE,,NMOL/KG,,UMOL/KG,,UMOL/KG,,/MILLE,PERCNT,NMOL/KG,NMOL/KG,TU
     316N145_5,  I09S,   112,  1,     36, SIH035,2,19950109,1530,-51.0000, 114.9972, 3970,  186.7,     13.3,   3.6240,  33.9128,2,  33.9148,2,    324.4,2,  3.6231,    323.9,2,     1.06,2,    23.08,2,     0.25,2,     1.58,2, -999.000,9, -999.000,9, -999.000,5,-999.0000,5,  -999.00,9,   -999.0,9,  -999.00,9,-999.000,9,   2126.1,6,   2289.8,2,  -999.0, -999.00,-999.0000,-999.000,-999.000
     316N145_5,  I09S,   112,  1,     35, SIH032,2,19950109,1530,-51.0000, 114.9972, 3970,  374.5,     32.2,   3.6226,  33.9118,2,  33.9165,2,    335.0,2,  3.6205,    324.3,2,     0.90,2,    23.06,2,     0.25,2,     1.58,2, -999.000,9, -999.000,9, -999.000,5,-999.0000,5,  -999.00,9,   -999.0,9,  -999.00,9,-999.000,9,   2125.4,2,   2289.8,6,  -999.0, -999.00,-999.0000,-999.000,-999.000
     316N145_5,  I09S,   112,  1,     34, SIH029,2,19950109,1530,-51.0000, 114.9972, 3970,  614.7,     56.4,   3.3855,  33.9247,2,  33.9165,2,    337.9,2,  3.3820,    324.2,2,     0.90,2,    23.10,2,     0.25,2,     1.57,2, -999.000,9, -999.000,9, -999.000,5,-999.0000,5,  -999.00,9,   -999.0,9,  -999.00,9,-999.000,9,   2127.0,2,   2281.2,2,  -999.0, -999.00,-999.0000,-999.000,-999.000
     316N145_5,  I09S,   112,  1,     33, SIH026,2,19950109,1530,-51.0000, 114.9972, 3970,  860.2,     81.1,   3.1240,  33.9324,2,  33.9269,2,    333.2,2,  3.1191,    326.1,2,     0.91,2,    23.20,2,     0.24,2,     1.60,2, -999.000,9, -999.000,9, -999.000,5,-999.0000,5,  -999.00,9,   -999.0,9,  -999.00,9,-999.000,9,   2128.7,2,   2288.5,2,  -999.0, -999.00,-999.0000,-999.000,-999.000
     316N145_5,  I09S,   112,  1,     32, SIH023,2,19950109,1530,-51.0000, 114.9972, 3970, 1124.8,    107.7,   2.3985,  33.9571,2,  33.9639,2,    320.0,2,  2.3925,    316.8,2,     9.67,2,    24.92,2,     0.23,2,     1.82,2, -999.000,9, -999.000,9, -999.000,5,-999.0000,5,  -999.00,9,   -999.0,9,  -999.00,9,-999.000,9,   2146.3,2,   2277.6,2,  -999.0, -999.00,-999.0000,-999.000,-999.000
     316N145_5,  I09S,   112,  1,     31, SIH020,2,19950109,1530,-51.0000, 114.9972, 3970, 1628.4,    158.3,   1.5366,  34.0354,2,  34.0372,2,    300.7,2,  1.5289,    308.3,2,    27.07,2,    28.45,2,     0.15,2,     1.99,2, -999.000,9, -999.000,9, -999.000,5,-999.0000,5,  -999.00,9,   -999.0,9,  -999.00,9,-999.000,9,   2166.6,2,   2289.7,2,  -999.0, -999.00,-999.0000,-999.000,-999.000
     316N145_5,  I09S,   112,  1,     30, SIH017,2,19950109,1530,-51.0000, 114.9972, 3970, 2126.0,    208.4,   2.0101,  34.1492,2,  34.1517,2,    258.3,2,  1.9991,    261.1,2,    35.07,2,    31.03,2,     0.02,2,     2.13,2, -999.000,9, -999.000,9, -999.000,5,-999.0000,5,  -999.00,9,   -999.0,9,  -999.00,9,-999.000,9,   2187.0,2,   2296.1,2,  -999.0, -999.00,-999.0000,-999.000,-999.000
     316N145_5,  I09S,   112,  1,     29, SIH014,2,19950109,1530,-51.0000, 114.9972, 3970, 2635.1,    259.6,   2.3010,  34.2818,2,  34.3702,4,    218.5,2,  2.2865,    192.4,4,    53.12,2,    33.26,2,     0.01,2,     2.28,2, -999.000,9, -999.000,9, -999.000,5,-999.0000,5,  -999.00,9,   -999.0,9,  -999.00,9,-999.000,9,   2233.6,2,   2314.6,2,  -999.0, -999.00,-999.0000,-999.000,-999.000
     316N145_5,  I09S,   112,  1,     28, SIH011,2,19950109,1530,-51.0000, 114.9972, 3970, 3114.4,    307.8,   2.2738,  34.3520,2,  34.3566,2,    203.7,2,  2.2565,    203.8,2,    54.56,2,    33.84,2,     0.01,2,     2.32,2, -999.000,9, -999.000,9, -999.000,5,-999.0000,5,  -999.00,9,   -999.0,9,  -999.00,9,-999.000,9,   2224.5,2,   2309.6,2,  -999.0, -999.00,-999.0000,-999.000,-999.000
     316N145_5,  I09S,   112,  1,     27, SIH008,2,19950109,1530,-51.0000, 114.9972, 3970, 3627.5,    359.4,   2.3479,  34.4107,2,  34.3741,2,    188.0,2,  2.3273,    193.0,2,    58.72,2,    34.01,2,     0.01,2,     2.34,2, -999.000,9, -999.000,9, -999.000,5,-999.0000,5,  -999.00,9,   -999.0,9,  -999.00,9,-999.000,9,   2231.0,2,   2321.7,2,  -999.0, -999.00,-999.0000,-999.000,-999.000
     316N145_5,  I09S,   112,  1,     26, SIH005,2,19950109,1530,-51.0000, 114.9972, 3970, 4127.6,    409.7,   2.3632,  34.4569,2,  34.4599,2,    181.9,2,  2.3395,    185.2,2,    63.36,2,    34.23,2,     0.01,2,     2.35,2, -999.000,9, -999.000,9, -999.000,5,-999.0000,5,  -999.00,9,   -999.0,9,  -999.00,9,-999.000,9,   2232.7,2,   2318.2,2,  -999.0, -999.00,-999.0000,-999.000,-999.000
     316N145_5,  I09S,   112,  1,     25, SIH019,2,19950109,1530,-51.0000, 114.9972, 3970, 4614.3,    458.7,   2.3462,  34.4878,2,  34.4928,2,    179.5,2,  2.3194,    182.1,2,    65.92,2,    34.21,2,     0.01,2,     2.34,2, -999.000,9, -999.000,9, -999.000,5,-999.0000,5,  -999.00,9,   -999.0,9,  -999.00,9,-999.000,9,   2242.9,2,   2329.1,2,  -999.0, -999.00,-999.0000,-999.000,-999.000
     316N145_5,  I09S,   112,  1,     24, SIH037,2,19950109,1530,-51.0000, 114.9972, 3970, 5117.3,    509.3,   2.3529,  34.5227,2,  34.5256,2,    174.5,2,  2.3229,    178.9,2,    68.49,2,    34.05,2,     0.01,2,     2.34,2, -999.000,9, -999.000,9, -999.000,5,-999.0000,5,  -999.00,9,   -999.0,9,  -999.00,9,-999.000,9,   2244.6,2,   2332.2,2,  -999.0, -999.00,-999.0000,-999.000,-999.000
     316N145_5,  I09S,   112,  1,     23, SIH033,2,19950109,1530,-51.0000, 114.9972, 3970, 6132.9,    611.4,   2.3346,  34.5750,2,  34.5791,2,    173.3,2,  2.2982,    176.4,2,    71.85,2,    33.65,2,     0.00,2,     2.31,2, -999.000,9, -999.000,9, -999.000,5,-999.0000,5,  -999.00,9,   -999.0,9,  -999.00,9,-999.000,9,   2246.7,2,   -999.0,9,  -999.0, -999.00,-999.0000,-999.000,-999.000
     316N145_5,  I09S,   112,  1,     22, SIH031,2,19950109,1530,-51.0000, 114.9972, 3970, 7127.6,    711.5,   2.2837,  34.6286,2,  34.6317,2,    169.5,2,  2.2409,    176.5,2,    74.73,2,    33.00,2,     0.00,2,     2.26,2, -999.000,9, -999.000,9, -999.000,5,-999.0000,5,  -999.00,9,   -999.0,9,  -999.00,9,-999.000,9,   2247.9,2,   2336.2,2,  -999.0, -999.00,-999.0000,-999.000,-999.000
     316N145_5,  I09S,   112,  1,     20, SIH028,2,19950109,1530,-51.0000, 114.9972, 3970, 8141.6,    813.5,   2.2592,  34.6654,2,  34.6683,2,    175.5,2,  2.2097,    177.9,2,    76.98,2,    32.37,2,     0.00,2,     2.22,2, -999.000,9, -999.000,9, -999.000,5,-999.0000,5,  -999.00,9,   -999.0,9,  -999.00,9,-999.000,9,   2247.4,6,   2334.9,2,  -999.0, -999.00,-999.0000,-999.000,-999.000
     316N145_5,  I09S,   112,  1,     21, SIH030,2,19950109,1530,-51.0000, 114.9972, 3970, 8146.5,    814.0,   2.2591,  34.6655,2,  34.6680,2,    174.8,2,  2.2096,    178.1,2,    76.82,2,    32.34,2,     0.00,2,     2.22,2, -999.000,9, -999.000,9, -999.000,5,-999.0000,5,  -999.00,9,   -999.0,9,  -999.00,9,-999.000,9,   -999.0,9,   2346.2,2,  -999.0, -999.00,-999.0000,-999.000,-999.000
     316N145_5,  I09S,   112,  1,     19, SIH027,2,19950109,1530,-51.0000, 114.9972, 3970,10147.4,   1015.2,   2.1672,  34.7043,2,  34.7077,2,    178.3,2,  2.1044,    183.0,2,    79.38,2,    31.48,2,     0.00,2,     2.16,2, -999.000,9, -999.000,9, -999.000,5,-999.0000,5,  -999.00,9,   -999.0,9,  -999.00,9,-999.000,9,   2246.6,2,   2343.2,2,  -999.0, -999.00,-999.0000,-999.000,-999.000
     316N145_5,  I09S,   112,  1,     18, SIH003,2,19950109,1530,-51.0000, 114.9972, 3970,11153.9,   1116.5,   2.1087,  34.7190,2,  34.7219,2,    182.7,2,  2.0393,    186.0,2,    80.52,2,    31.12,2,     0.00,2,     2.14,2, -999.000,9, -999.000,9, -999.000,5,-999.0000,5,  -999.00,9,   -999.0,9,  -999.00,9,-999.000,9,   2244.9,6,   2341.2,2,  -999.0, -999.00,-999.0000,-999.000,-999.000
     316N145_5,  I09S,   112,  1,     17, SIH024,2,19950109,1530,-51.0000, 114.9972, 3970,12147.7,   1216.4,   2.0406,  34.7282,2,  34.7307,2,    186.2,2,  1.9645,    188.9,2,    82.29,2,    30.82,2,     0.00,2,     2.11,2, -999.000,9, -999.000,9, -999.000,5,-999.0000,5,  -999.00,9,   -999.0,9,  -999.00,9,-999.000,9,   2244.3,2,   2341.1,2,  -999.0, -999.00,-999.0000,-999.000,-999.000
     316N145_5,  I09S,   112,  1,     16, SIH022,2,19950109,1530,-51.0000, 114.9972, 3970,13152.8,   1317.5,   1.9489,  34.7341,2,  34.7341,3,    186.2,2,  1.8665,    191.1,2,    84.15,2,    30.62,2,     0.00,2,     2.10,2, -999.000,9, -999.000,9, -999.000,5,-999.0000,5,  -999.00,9,   -999.0,9,  -999.00,9,-999.000,9,   2244.3,2,   -999.0,9,  -999.0, -999.00,-999.0000,-999.000,-999.000
     316N145_5,  I09S,   112,  1,     15, SIH021,2,19950109,1530,-51.0000, 114.9972, 3970,14163.5,   1419.2,   1.8973,  34.7417,2,  34.7441,2,    191.8,2,  1.8079,    193.3,2,    85.20,2,    30.38,2,     0.00,2,     2.09,2, -999.000,9, -999.000,9, -999.000,5,-999.0000,5,  -999.00,9,   -999.0,9,  -999.00,9,-999.000,9,   2244.7,2,   2348.9,2,  -999.0, -999.00,-999.0000,-999.000,-999.000
     316N145_5,  I09S,   112,  1,     14, SIH002,2,19950109,1530,-51.0000, 114.9972, 3970,16154.1,   1619.4,   1.6858,  34.7434,2,  34.7461,2,    193.3,2,  1.5838,    197.8,2,    91.11,2,    30.47,2,     0.00,2,     2.09,2, -999.000,9, -999.000,9, -999.000,5,-999.0000,5,  -999.00,9,   -999.0,9,  -999.00,9,-999.000,9,   2246.2,2,   2348.6,2,  -999.0, -999.00,-999.0000,-999.000,-999.000
     316N145_5,  I09S,   112,  1,     13, SIH018,2,19950109,1530,-51.0000, 114.9972, 3970,18184.8,   1823.7,   1.5019,  34.7400,2,  34.7435,2,    197.0,2,  1.3866,    200.7,2,    96.72,2,    30.65,2,     0.00,2,     2.10,2, -999.000,9, -999.000,9, -999.000,5,-999.0000,5,  -999.00,9,   -999.0,9,  -999.00,9,-999.000,9,   2247.9,2,   -999.0,9,  -999.0, -999.00,-999.0000,-999.000,-999.000
     316N145_5,  I09S,   112,  1,     12, SIH016,2,19950109,1530,-51.0000, 114.9972, 3970,20196.1,   2026.0,   1.3169,  34.7331,2,  34.7364,2,    196.8,2,  1.1885,    202.0,2,   102.01,2,    30.83,2,     0.00,2,     2.12,2, -999.000,9, -999.000,9, -999.000,5,-999.0000,5,  -999.00,9,   -999.0,9,  -999.00,9,-999.000,9,   2250.6,2,   2355.1,2,  -999.0, -999.00,-999.0000,-999.000,-999.000
     316N145_5,  I09S,   112,  1,     11, SIH015,2,19950109,1530,-51.0000, 114.9972, 3970,22198.8,   2227.4,   1.1793,  34.7258,2,  34.7290,2,    200.0,2,  1.0369,    203.5,2,   106.51,2,    31.20,2,     0.00,2,     2.14,2, -999.000,9, -999.000,9, -999.000,5,-999.0000,5,  -999.00,9,   -999.0,9,  -999.00,9,-999.000,9,   2253.2,2,   2353.6,2,  -999.0, -999.00,-999.0000,-999.000,-999.000
     316N145_5,  I09S,   112,  1,     10, SIH013,2,19950109,1530,-51.0000, 114.9972, 3970,24313.2,   2440.1,   0.9894,  34.7162,2,  34.7201,2,    199.4,2,  0.8328,    205.3,2,   111.96,2,    31.52,2,     0.00,2,     2.16,2, -999.000,9, -999.000,9, -999.000,5,-999.0000,5,  -999.00,9,   -999.0,9,  -999.00,9,-999.000,9,   2255.0,2,   2358.6,2,  -999.0, -999.00,-999.0000,-999.000,-999.000
     316N145_5,  I09S,   112,  1,      9, SIH012,2,19950109,1530,-51.0000, 114.9972, 3970,26345.8,   2644.6,   0.8248,  34.7075,2,  34.7109,2,    201.9,2,  0.6541,    207.9,2,   116.29,2,    31.79,2,     0.00,2,     2.19,2, -999.000,9, -999.000,9, -999.000,5,-999.0000,5,  -999.00,9,   -999.0,9,  -999.00,9,-999.000,9,   2256.5,2,   2354.3,2,  -999.0, -999.00,-999.0000,-999.000,-999.000
     316N145_5,  I09S,   112,  1,      8, SIH010,2,19950109,1530,-51.0000, 114.9972, 3970,28356.8,   2846.8,   0.6508,  34.6994,2,  34.7017,2,    206.2,2,  0.4662,    210.7,2,   120.94,2,    32.07,2,     0.00,2,     2.20,2, -999.000,9, -999.000,9, -999.000,5,-999.0000,5,  -999.00,9,   -999.0,9,  -999.00,9,-999.000,9,   2255.8,2,   2355.9,2,  -999.0, -999.00,-999.0000,-999.000,-999.000
     316N145_5,  I09S,   112,  1,      7, SIH009,2,19950109,1530,-51.0000, 114.9972, 3970,30401.6,   3052.5,   0.4864,  34.6930,2,  34.6930,3,    210.6,2,  0.2873,    214.4,2,   124.33,2,    32.24,2,     0.00,2,     2.22,2, -999.000,9, -999.000,9, -999.000,5,-999.0000,5,  -999.00,9,   -999.0,9,  -999.00,9,-999.000,9,   2257.2,2,   -999.0,9,  -999.0, -999.00,-999.0000,-999.000,-999.000
     316N145_5,  I09S,   112,  1,      5, SIH006,2,19950109,1530,-51.0000, 114.9972, 3970,32477.3,   3261.3,   0.3493,  34.6875,2,  34.6899,2,    214.5,2,  0.1345,    218.4,2,   127.68,2,    32.22,2,     0.00,2,     2.22,2, -999.000,9, -999.000,9, -999.000,5,-999.0000,5,  -999.00,9,   -999.0,9,  -999.00,9,-999.000,9,   2256.3,6,   2353.5,2,  -999.0, -999.00,-999.0000,-999.000,-999.000
     316N145_5,  I09S,   112,  1,      6, SIH038,2,19950109,1530,-51.0000, 114.9972, 3970,32479.3,   3261.5,   0.3507,  34.6880,2,  34.6901,2,    214.1,2,  0.1359,    218.0,2,   127.66,2,    32.18,2,     0.00,2,     2.22,2, -999.000,9, -999.000,9, -999.000,5,-999.0000,5,  -999.00,9,   -999.0,9,  -999.00,9,-999.000,9,   -999.0,9,   2359.9,2,  -999.0, -999.00,-999.0000,-999.000,-999.000
     316N145_5,  I09S,   112,  1,      4, SIH004,2,19950109,1530,-51.0000, 114.9972, 3970,36492.0,   3665.2,   0.2671,  34.6838,2,  34.6853,2,    217.8,2,  0.0164,    221.3,2,   131.10,2,    32.29,2,     0.00,2,     2.22,2, -999.000,9, -999.000,9, -999.000,5,-999.0000,5,  -999.00,9,   -999.0,9,  -999.00,9,-999.000,9,   2255.2,2,   2361.9,2,  -999.0, -999.00,-999.0000,-999.000,-999.000
     316N145_5,  I09S,   112,  1,      3, SIH025,2,19950109,1530,-51.0000, 114.9972, 3970,38297.8,   3846.8,   0.2798,  34.6841,2,  34.6848,2,    218.6,2,  0.0109,    221.5,2,   131.11,2,    32.27,2,     0.00,2,     2.22,2, -999.000,9, -999.000,9, -999.000,5,-999.0000,5,  -999.00,9,   -999.0,9,  -999.00,9,-999.000,9,   2256.6,2,   2352.7,2,  -999.0, -999.00,-999.0000,-999.000,-999.000
     316N145_5,  I09S,   112,  1,      2, SIH001,2,19950109,1530,-51.0000, 114.9972, 3970,39554.8,   3973.3,   0.2772,  34.6835,2,  34.6842,2,    221.7,2, -0.0043,    222.2,2,   131.13,2,    32.21,2,     0.00,2,     2.22,2, -999.000,9, -999.000,9, -999.000,5,-999.0000,5,  -999.00,9,   -999.0,9,  -999.00,9,-999.000,9,   2256.9,2,   2361.1,2,  -999.0, -999.00,-999.0000,-999.000,-999.000
     316N145_5,  I09S,   112,  1,      1, SIH036,2,19950109,1530,-51.0000, 114.9972, 3970,40090.4,   4027.1,   0.2641,  34.6829,2,  34.6840,2,    221.4,2, -0.0225,    222.8,2,   131.84,2,    32.23,2,     0.00,2,     2.23,2, -999.000,9, -999.000,9, -999.000,5,-999.0000,5,  -999.00,9,   -999.0,9,  -999.00,9,-999.000,9,   2257.3,6,   2367.5,6,  -999.0, -999.00,-999.0000,-999.000,-999.000