BOTTLE,20090521WHPSIOdm
EXPOCODE,SECT_ID,STNNBR,CASTNO,SAMPNO,BTLNBR,BTLNBR_FLAG_W,DATE,TIME,LATITUDE,LONGITUDE,DEPTH,CTDRAW,CTDPRS,CTDTMP,CTDSAL,CTDSAL_FLAG_W,SALNTY,SALNTY_FLAG_W,CTDOXY,CTDOXY_FLAG_W,THETA,OXYGEN,OXYGEN_FLAG_W,SILCAT,SILCAT_FLAG_W,NITRAT,NITRAT_FLAG_W,NITRIT,NITRIT_FLAG_W,PHSPHT,PHSPHT_FLAG_W,CFC-11,CFC-11_FLAG_W,CFC-12,CFC-12_FLAG_W,TRITUM,TRITUM_FLAG_W,HELIUM,HELIUM_FLAG_W,DELHE3,DELHE3_FLAG_W,DELC14,DELC14_FLAG_W,DELC13,DELC13_FLAG_W,NEON,NEON_FLAG_W,TCARBN,TCARBN_FLAG_W,ALKALI,ALKALI_FLAG_W,C14ERR,DELHER,HELIER,NEONER,TRITER
,,,,,,,,,,,,,DBAR,IPTS-68,PSS-78,,PSS-78,,UMOL/KG,,IPTS-68,UMOL/KG,,UMOL/KG,,UMOL/KG,,UMOL/KG,,UMOL/KG,,PMOL/KG,,PMOL/KG,,TU,,NMOL/KG,,PERCNT,,/MILLE,,/MILLE,,NMOL/KG,,UMOL/KG,,UMOL/KG,,/MILLE,PERCNT,NMOL/KG,NMOL/KG,TU
     316N145_5,  I08S,    51,  1,     36, SIH035,2,19941219,1632,-51.6333,  89.0028, 4165,  186.8,     13.4,   3.0830,  33.9305,2,  33.9320,2,    339.3,2,  3.0821,    328.5,2,     5.16,2,    22.66,2,     0.20,2,     1.58,2, -999.000,9, -999.000,9, -999.000,5,-999.0000,5,  -999.00,9,   -999.0,9,  -999.00,9,-999.000,9,   -999.0,9,   -999.0,9,  -999.0, -999.00,-999.0000,-999.000,-999.000
     316N145_5,  I08S,    51,  1,     35, SIH032,2,19941219,1632,-51.6333,  89.0028, 4165,  376.9,     32.5,   3.0414,  33.9287,2,  33.9283,2,    333.1,2,  3.0395,    328.4,2,     5.86,2,    22.70,2,     0.20,2,     1.58,2, -999.000,9, -999.000,9, -999.000,5,-999.0000,5,  -999.00,9,   -999.0,9,  -999.00,9,-999.000,9,   -999.0,9,   -999.0,9,  -999.0, -999.00,-999.0000,-999.000,-999.000
     316N145_5,  I08S,    51,  1,     34, SIH029,2,19941219,1632,-51.6333,  89.0028, 4165,  621.6,     57.2,   2.9409,  33.9226,2,  33.9238,2,    327.1,2,  2.9376,    328.4,2,     6.88,2,    22.90,2,     0.20,2,     1.60,2, -999.000,9, -999.000,9, -999.000,5,-999.0000,5,  -999.00,9,   -999.0,9,  -999.00,9,-999.000,9,   -999.0,9,   -999.0,9,  -999.0, -999.00,-999.0000,-999.000,-999.000
     316N145_5,  I08S,    51,  1,     33, SIH026,2,19941219,1632,-51.6333,  89.0028, 4165,  881.5,     83.3,   2.6661,  33.9289,2,  33.9342,2,    320.0,2,  2.6613,    323.3,2,    11.25,2,    23.96,2,     0.19,2,     1.78,2, -999.000,9, -999.000,9, -999.000,5,-999.0000,5,  -999.00,9,   -999.0,9,  -999.00,9,-999.000,9,   -999.0,9,   -999.0,9,  -999.0, -999.00,-999.0000,-999.000,-999.000
     316N145_5,  I08S,    51,  1,     32, SIH023,2,19941219,1632,-51.6333,  89.0028, 4165, 1136.1,    108.9,   2.0353,  33.9103,2,  33.9116,2,    340.4,2,  2.0297,    327.5,2,    16.29,2,    24.94,2,     0.20,2,     1.78,2, -999.000,9, -999.000,9, -999.000,5,-999.0000,5,  -999.00,9,   -999.0,9,  -999.00,9,-999.000,9,   -999.0,9,   -999.0,9,  -999.0, -999.00,-999.0000,-999.000,-999.000
     316N145_5,  I08S,    51,  1,     31, SIH020,2,19941219,1632,-51.6333,  89.0028, 4165, 1624.1,    158.0,   1.4896,  33.9161,2,  33.9177,2,    320.1,2,  1.4821,    326.7,2,    23.18,2,    26.75,2,     0.18,2,     1.89,2, -999.000,9, -999.000,9, -999.000,5,-999.0000,5,  -999.00,9,   -999.0,9,  -999.00,9,-999.000,9,   -999.0,9,   -999.0,9,  -999.0, -999.00,-999.0000,-999.000,-999.000
     316N145_5,  I08S,    51,  1,     30, SIH017,2,19941219,1632,-51.6333,  89.0028, 4165, 2136.5,    209.5,   1.6404,  34.0160,2,  34.0139,2,    286.7,2,  1.6300,    298.4,2,    28.89,2,    29.27,2,     0.10,2,     2.04,2, -999.000,9, -999.000,9, -999.000,5,-999.0000,5,  -999.00,9,   -999.0,9,  -999.00,9,-999.000,9,   -999.0,9,   -999.0,9,  -999.0, -999.00,-999.0000,-999.000,-999.000
     316N145_5,  I08S,    51,  1,     29, SIH014,2,19941219,1632,-51.6333,  89.0028, 4165, 2618.3,    258.0,   1.9089,  34.1145,2,  34.1160,2,    256.5,2,  1.8954,    270.0,2,    34.93,2,    30.49,2,     0.07,2,     2.13,2, -999.000,9, -999.000,9, -999.000,5,-999.0000,5,  -999.00,9,   -999.0,9,  -999.00,9,-999.000,9,   -999.0,9,   -999.0,9,  -999.0, -999.00,-999.0000,-999.000,-999.000
     316N145_5,  I08S,    51,  1,     28, SIH011,2,19941219,1632,-51.6333,  89.0028, 4165, 3137.6,    310.2,   2.2661,  34.2017,2,  34.2032,2,    255.5,2,  2.2488,    244.5,2,    39.80,2,    31.72,2,     0.03,2,     2.21,2, -999.000,9, -999.000,9, -999.000,5,-999.0000,5,  -999.00,9,   -999.0,9,  -999.00,9,-999.000,9,   -999.0,9,   -999.0,9,  -999.0, -999.00,-999.0000,-999.000,-999.000
     316N145_5,  I08S,    51,  1,     27, SIH008,2,19941219,1632,-51.6333,  89.0028, 4165, 3624.3,    359.2,   2.7262,  34.3061,2,  34.3046,2,    222.4,2,  2.7045,    215.2,2,    45.34,2,    32.78,2,     0.01,2,     2.28,2, -999.000,9, -999.000,9, -999.000,5,-999.0000,5,  -999.00,9,   -999.0,9,  -999.00,9,-999.000,9,   -999.0,9,   -999.0,9,  -999.0, -999.00,-999.0000,-999.000,-999.000
     316N145_5,  I08S,    51,  1,     26, SIH005,2,19941219,1632,-51.6333,  89.0028, 4165, 4123.8,    409.4,   2.4521,  34.3356,2,  34.3344,2,    231.1,2,  2.4282,    208.4,2,    51.88,2,    33.53,2,     0.01,2,     2.33,2, -999.000,9, -999.000,9, -999.000,5,-999.0000,5,  -999.00,9,   -999.0,9,  -999.00,9,-999.000,9,   -999.0,9,   -999.0,9,  -999.0, -999.00,-999.0000,-999.000,-999.000
     316N145_5,  I08S,    51,  1,     25, SIH019,2,19941219,1632,-51.6333,  89.0028, 4165, 4633.0,    460.7,   2.2426,  34.3778,2,  34.3794,2,    252.4,2,  2.2162,    202.1,2,    58.59,2,    33.97,2,     0.01,2,     2.36,2, -999.000,9, -999.000,9, -999.000,5,-999.0000,5,  -999.00,9,   -999.0,9,  -999.00,9,-999.000,9,   -999.0,9,   -999.0,9,  -999.0, -999.00,-999.0000,-999.000,-999.000
     316N145_5,  I08S,    51,  1,      1, SIH036,2,19941219,1632,-51.6333,  89.0028, 4165, 5129.6,    510.6,   2.0963,  34.4013,2,  34.4008,2,    231.3,2,  2.0674,    200.3,2,    61.82,2,    34.28,2,     0.01,2,     2.37,2,    1.583,2,    0.738,2, -999.000,5,-999.0000,5,  -999.00,9,   -999.0,9,  -999.00,9,-999.000,9,   -999.0,9,   -999.0,9,  -999.0, -999.00,-999.0000,-999.000,-999.000
     316N145_5,  I08S,    51,  1,     24, SIH037,2,19941219,1632,-51.6333,  89.0028, 4165, 6124.4,    610.7,   2.2117,  34.4976,2,  34.4966,2,    205.9,2,  2.1760,    184.6,2,    69.14,2,    34.22,2,     0.01,2,     2.38,2, -999.000,9, -999.000,9, -999.000,5,-999.0000,5,  -999.00,9,   -999.0,9,  -999.00,9,-999.000,9,   -999.0,9,   -999.0,9,  -999.0, -999.00,-999.0000,-999.000,-999.000
     316N145_5,  I08S,    51,  1,     23, SIH033,2,19941219,1632,-51.6333,  89.0028, 4165, 7106.1,    709.4,   2.2195,  34.5628,2,  34.5641,2,    198.3,2,  2.1773,    179.7,2,    73.33,2,    33.82,2,     0.01,2,     2.34,2, -999.000,9, -999.000,9, -999.000,5,-999.0000,5,  -999.00,9,   -999.0,9,  -999.00,9,-999.000,9,   -999.0,9,   -999.0,9,  -999.0, -999.00,-999.0000,-999.000,-999.000
     316N145_5,  I08S,    51,  1,     22, SIH031,2,19941219,1632,-51.6333,  89.0028, 4165, 8130.9,    812.5,   2.3191,  34.6268,2,  34.6266,2,    193.5,2,  2.2694,    177.8,2,    75.52,2,    32.93,2,     0.00,2,     2.29,2, -999.000,9, -999.000,9, -999.000,5,-999.0000,5,  -999.00,9,   -999.0,9,  -999.00,9,-999.000,9,   -999.0,9,   -999.0,9,  -999.0, -999.00,-999.0000,-999.000,-999.000
     316N145_5,  I08S,    51,  1,     21, SIH030,2,19941219,1632,-51.6333,  89.0028, 4165, 9136.8,    913.7,   2.2817,  34.6720,2,  34.6732,2,    196.4,2,  2.2252,    181.4,2,    77.03,2,    32.08,2,     0.00,2,     2.23,2, -999.000,9, -999.000,9, -999.000,5,-999.0000,5,  -999.00,9,   -999.0,9,  -999.00,9,-999.000,9,   -999.0,9,   -999.0,9,  -999.0, -999.00,-999.0000,-999.000,-999.000
     316N145_5,  I08S,    51,  1,     20, SIH028,2,19941219,1632,-51.6333,  89.0028, 4165,10150.1,   1015.6,   2.1584,  34.6862,2,  34.6867,2,    198.5,2,  2.0957,    181.8,2,    80.39,2,    32.13,2,     0.00,2,     2.23,2,    0.216,2,    0.101,2, -999.000,5,-999.0000,5,  -999.00,9,   -999.0,9,  -999.00,9,-999.000,9,   -999.0,9,   -999.0,9,  -999.0, -999.00,-999.0000,-999.000,-999.000
     316N145_5,  I08S,    51,  1,     19, SIH027,2,19941219,1632,-51.6333,  89.0028, 4165,11138.3,   1115.0,   2.0164,  34.7067,2,  34.7070,2,    201.6,2,  1.9479,    183.4,2,    84.08,2,    31.87,2,     0.00,2,     2.21,2, -999.000,9, -999.000,9, -999.000,5,-999.0000,5,  -999.00,9,   -999.0,9,  -999.00,9,-999.000,9,   -999.0,9,   -999.0,9,  -999.0, -999.00,-999.0000,-999.000,-999.000
     316N145_5,  I08S,    51,  1,     18, SIH003,2,19941219,1632,-51.6333,  89.0028, 4165,12109.2,   1212.6,   1.9839,  34.7206,2,  34.7231,2,    203.0,2,  1.9087,    186.3,2,    84.93,2,    31.42,2,     0.00,2,     2.18,2, -999.000,9, -999.000,9, -999.000,5,-999.0000,5,  -999.00,9,   -999.0,9,  -999.00,9,-999.000,9,   -999.0,9,   -999.0,9,  -999.0, -999.00,-999.0000,-999.000,-999.000
     316N145_5,  I08S,    51,  1,     17, SIH024,2,19941219,1632,-51.6333,  89.0028, 4165,14127.2,   1415.6,   1.8461,  34.7393,2,  34.7408,2,    209.3,2,  1.7574,    194.8,2,    87.28,2,    30.61,2,     0.00,2,     2.12,2,    0.153,2,    0.069,2, -999.000,5,-999.0000,5,  -999.00,9,   -999.0,9,  -999.00,9,-999.000,9,   -999.0,9,   -999.0,9,  -999.0, -999.00,-999.0000,-999.000,-999.000
     316N145_5,  I08S,    51,  1,     16, SIH022,2,19941219,1632,-51.6333,  89.0028, 4165,16146.4,   1618.7,   1.6720,  34.7443,2,  34.7453,2,    204.6,2,  1.5702,    198.7,2,    92.30,2,    30.46,2,     0.00,2,     2.11,2, -999.000,9, -999.000,9, -999.000,5,-999.0000,5,  -999.00,9,   -999.0,9,  -999.00,9,-999.000,9,   -999.0,9,   -999.0,9,  -999.0, -999.00,-999.0000,-999.000,-999.000
     316N145_5,  I08S,    51,  1,     15, SIH021,2,19941219,1632,-51.6333,  89.0028, 4165,18160.9,   1821.4,   1.5054,  34.7401,2,  34.7406,2,    216.6,2,  1.3903,    201.3,2,    96.66,2,    30.61,2,     0.00,2,     2.13,2, -999.000,9, -999.000,9, -999.000,5,-999.0000,5,  -999.00,9,   -999.0,9,  -999.00,9,-999.000,9,   -999.0,9,   -999.0,9,  -999.0, -999.00,-999.0000,-999.000,-999.000
     316N145_5,  I08S,    51,  1,     14, SIH002,2,19941219,1632,-51.6333,  89.0028, 4165,20268.3,   2033.3,   1.3326,  34.7345,2,  34.7335,2,    209.6,2,  1.2033,    203.0,2,   101.85,2,    30.86,2,     0.00,2,     2.14,2,    0.101,2,    0.049,2, -999.000,5,-999.0000,5,  -999.00,9,   -999.0,9,  -999.00,9,-999.000,9,   -999.0,9,   -999.0,9,  -999.0, -999.00,-999.0000,-999.000,-999.000
     316N145_5,  I08S,    51,  1,     13, SIH018,2,19941219,1632,-51.6333,  89.0028, 4165,22273.0,   2235.0,   1.1309,  34.7250,2,  34.7248,2,    216.9,2,  0.9887,    204.9,2,   107.88,2,    31.21,2,     0.00,2,     2.18,2, -999.000,9, -999.000,9, -999.000,5,-999.0000,5,  -999.00,9,   -999.0,9,  -999.00,9,-999.000,9,   -999.0,9,   -999.0,9,  -999.0, -999.00,-999.0000,-999.000,-999.000
     316N145_5,  I08S,    51,  1,     12, SIH016,2,19941219,1632,-51.6333,  89.0028, 4165,24268.3,   2435.7,   0.9586,  34.7156,2,  34.7160,2,    213.2,2,  0.8029,    207.3,2,   113.07,2,    31.66,2,     0.00,2,     2.20,2, -999.000,9, -999.000,9, -999.000,5,-999.0000,5,  -999.00,9,   -999.0,9,  -999.00,9,-999.000,9,   -999.0,9,   -999.0,9,  -999.0, -999.00,-999.0000,-999.000,-999.000
     316N145_5,  I08S,    51,  1,     11, SIH015,2,19941219,1632,-51.6333,  89.0028, 4165,26264.3,   2636.5,   0.7720,  34.7051,2,  34.7054,2,    218.8,2,  0.6031,    208.6,2,   117.93,2,    32.00,2,     0.00,2,     2.22,2,    0.124,2,    0.059,2, -999.000,5,-999.0000,5,  -999.00,9,   -999.0,9,  -999.00,9,-999.000,9,   -999.0,9,   -999.0,9,  -999.0, -999.00,-999.0000,-999.000,-999.000
     316N145_5,  I08S,    51,  1,     10, SIH013,2,19941219,1632,-51.6333,  89.0028, 4165,28386.5,   2849.9,   0.6291,  34.6982,2,  34.6983,2,    216.9,2,  0.4447,    211.4,2,   121.62,2,    32.25,2,     0.00,2,     2.24,2,    0.162,2,    0.088,2, -999.000,5,-999.0000,5,  -999.00,9,   -999.0,9,  -999.00,9,-999.000,9,   -999.0,9,   -999.0,9,  -999.0, -999.00,-999.0000,-999.000,-999.000
     316N145_5,  I08S,    51,  1,      9, SIH012,2,19941219,1632,-51.6333,  89.0028, 4165,30401.7,   3052.6,   0.5104,  34.6934,2,  34.6926,2,    222.2,2,  0.3108,    214.2,2,   123.86,2,    32.33,2,     0.00,2,     2.25,2,    0.209,2,    0.101,2, -999.000,5,-999.0000,5,  -999.00,9,   -999.0,9,  -999.00,9,-999.000,9,   -999.0,9,   -999.0,9,  -999.0, -999.00,-999.0000,-999.000,-999.000
     316N145_5,  I08S,    51,  1,      8, SIH010,2,19941219,1632,-51.6333,  89.0028, 4165,32465.3,   3260.2,   0.3074,  34.6858,2,  34.6867,2,    229.1,2,  0.0938,    220.1,2,   126.49,2,    32.35,2,     0.00,2,     2.26,2,    0.338,2,    0.161,2, -999.000,5,-999.0000,5,  -999.00,9,   -999.0,9,  -999.00,9,-999.000,9,   -999.0,9,   -999.0,9,  -999.0, -999.00,-999.0000,-999.000,-999.000
     316N145_5,  I08S,    51,  1,      7, SIH009,2,19941219,1632,-51.6333,  89.0028, 4165,34471.8,   3462.0,   0.2092,  34.6818,2,  34.6806,2,    233.4,2, -0.0206,    223.1,2,   127.33,2,    32.39,2,     0.00,2,     2.26,2, -999.000,9, -999.000,9, -999.000,5,-999.0000,5,  -999.00,9,   -999.0,9,  -999.00,9,-999.000,9,   -999.0,9,   -999.0,9,  -999.0, -999.00,-999.0000,-999.000,-999.000
     316N145_5,  I08S,    51,  1,      6, SIH038,2,19941219,1632,-51.6333,  89.0028, 4165,36506.8,   3666.7,   0.1448,  34.6801,2,  34.6798,2,    234.1,2, -0.1028,    225.5,2,   128.17,2,    32.39,2,     0.00,2,     2.25,2,    0.527,3,    0.225,2, -999.000,5,-999.0000,5,  -999.00,9,   -999.0,9,  -999.00,9,-999.000,9,   -999.0,9,   -999.0,9,  -999.0, -999.00,-999.0000,-999.000,-999.000
     316N145_5,  I08S,    51,  1,      5, SIH006,2,19941219,1632,-51.6333,  89.0028, 4165,38538.4,   3871.1,   0.0928,  34.6780,2,  34.6765,2,    236.8,2, -0.1732,    227.4,2,   128.35,2,    32.44,2,     0.00,2,     2.25,2,    0.598,3,    0.252,2, -999.000,5,-999.0000,5,  -999.00,9,   -999.0,9,  -999.00,9,-999.000,9,   -999.0,9,   -999.0,9,  -999.0, -999.00,-999.0000,-999.000,-999.000
     316N145_5,  I08S,    51,  1,      4, SIH004,2,19941219,1632,-51.6333,  89.0028, 4165,40561.3,   4074.6,   0.0383,  34.6756,2,  34.6757,2,    241.0,2, -0.2465,    229.8,2,   128.69,2,    32.49,2,     0.00,2,     2.25,2,    0.710,2,    0.338,2, -999.000,5,-999.0000,5,  -999.00,9,   -999.0,9,  -999.00,9,-999.000,9,   -999.0,9,   -999.0,9,  -999.0, -999.00,-999.0000,-999.000,-999.000
     316N145_5,  I08S,    51,  1,      3, SIH025,2,19941219,1632,-51.6333,  89.0028, 4165,41382.8,   4157.2,   0.0304,  34.6743,2,  34.6739,2,    243.0,2, -0.2625,    229.7,2,   128.57,2,    32.42,2,     0.00,2,     2.25,2,    0.735,2,    0.349,2, -999.000,5,-999.0000,5,  -999.00,9,   -999.0,9,  -999.00,9,-999.000,9,   -999.0,9,   -999.0,9,  -999.0, -999.00,-999.0000,-999.000,-999.000
     316N145_5,  I08S,    51,  1,      2, SIH001,2,19941219,1632,-51.6333,  89.0028, 4165,41967.7,   4216.1,   0.0267,  34.6753,2,  34.6736,2,    241.9,2, -0.2723,    230.2,2,   129.24,2,    32.39,2,     0.00,2,     2.25,2,    0.736,3,    0.318,2, -999.000,5,-999.0000,5,  -999.00,9,   -999.0,9,  -999.00,9,-999.000,9,   -999.0,9,   -999.0,9,  -999.0, -999.00,-999.0000,-999.000,-999.000