BOTTLE,20090521WHPSIOdm
EXPOCODE,SECT_ID,STNNBR,CASTNO,SAMPNO,BTLNBR,BTLNBR_FLAG_W,DATE,TIME,LATITUDE,LONGITUDE,DEPTH,CTDRAW,CTDPRS,CTDTMP,CTDSAL,CTDSAL_FLAG_W,SALNTY,SALNTY_FLAG_W,CTDOXY,CTDOXY_FLAG_W,THETA,OXYGEN,OXYGEN_FLAG_W,SILCAT,SILCAT_FLAG_W,NITRAT,NITRAT_FLAG_W,NITRIT,NITRIT_FLAG_W,PHSPHT,PHSPHT_FLAG_W,CFC-11,CFC-11_FLAG_W,CFC-12,CFC-12_FLAG_W,TRITUM,TRITUM_FLAG_W,HELIUM,HELIUM_FLAG_W,DELHE3,DELHE3_FLAG_W,DELC14,DELC14_FLAG_W,DELC13,DELC13_FLAG_W,NEON,NEON_FLAG_W,TCARBN,TCARBN_FLAG_W,ALKALI,ALKALI_FLAG_W,C14ERR,DELHER,HELIER,NEONER,TRITER
,,,,,,,,,,,,,DBAR,IPTS-68,PSS-78,,PSS-78,,UMOL/KG,,IPTS-68,UMOL/KG,,UMOL/KG,,UMOL/KG,,UMOL/KG,,UMOL/KG,,PMOL/KG,,PMOL/KG,,TU,,NMOL/KG,,PERCNT,,/MILLE,,/MILLE,,NMOL/KG,,UMOL/KG,,UMOL/KG,,/MILLE,PERCNT,NMOL/KG,NMOL/KG,TU
     316N145_5,  I08S,    41,  1,     36, SIH035,2,19941216,1315,-47.5612,  92.7333, 3570,  169.6,     11.7,   7.7588,  34.2184,2,  34.2166,2,    302.1,2,  7.7576,    295.2,2,     2.35,2,    16.07,2,     0.30,2,     1.18,2,    4.346,2,    2.215,2, -999.000,5,-999.0000,5,  -999.00,9,     12.8,2,  -999.00,9,-999.000,9,   2090.6,2,   2288.7,2,     7.1, -999.00,-999.0000,-999.000,-999.000
     316N145_5,  I08S,    41,  1,     35, SIH032,2,19941216,1315,-47.5612,  92.7333, 3570,  379.0,     32.8,   7.7776,  34.2219,2,  34.2140,2,    301.8,2,  7.7744,    295.2,2,     2.18,2,    16.12,2,     0.30,2,     1.18,2,    4.247,2,    2.186,2, -999.000,5,-999.0000,5,  -999.00,9,      8.2,2,     1.71,2,-999.000,9,   2091.3,2,   -999.0,9,     3.8, -999.00,-999.0000,-999.000,-999.000
     316N145_5,  I08S,    41,  1,     34, SIH029,2,19941216,1315,-47.5612,  92.7333, 3570,  634.3,     58.5,   7.9777,  34.2821,2,  34.2817,2,    294.8,2,  7.9719,    291.0,2,     2.36,2,    15.54,2,     0.31,2,     1.17,2,    4.277,2,    2.141,2, -999.000,5,-999.0000,5,  -999.00,9,     18.5,6,     1.67,6,-999.000,9,   2093.3,2,   2274.3,2,     2.8, -999.00,-999.0000,-999.000,-999.000
     316N145_5,  I08S,    41,  1,     33, SIH026,2,19941216,1315,-47.5612,  92.7333, 3570,  870.3,     82.2,   7.9519,  34.2794,2,  34.2793,2,    293.9,2,  7.9438,    291.0,2,     2.52,2,    15.64,2,     0.31,2,     1.18,2,    4.287,2,    2.182,2, -999.000,5,-999.0000,5,  -999.00,9,     15.0,2,     1.65,2,-999.000,9,   2094.3,2,   2291.6,2,     4.8, -999.00,-999.0000,-999.000,-999.000
     316N145_5,  I08S,    41,  1,     32, SIH023,2,19941216,1315,-47.5612,  92.7333, 3570, 1102.4,    105.5,   7.1585,  34.1645,2,  34.1666,2,    299.1,2,  7.1487,    293.5,2,     4.01,2,    17.69,2,     0.29,2,     1.31,2,    4.361,2,    2.239,2, -999.000,5,-999.0000,5,  -999.00,9,      5.5,2,     1.71,2,-999.000,9,   2101.4,2,   2298.7,2,     4.6, -999.00,-999.0000,-999.000,-999.000
     316N145_5,  I08S,    41,  1,     31, SIH020,2,19941216,1315,-47.5612,  92.7333, 3570, 1596.6,    155.2,   6.2015,  34.1964,2,  34.1995,2,    287.6,2,  6.1881,    289.2,2,     8.14,2,    19.99,2,     0.38,2,     1.48,2,    4.510,2,    2.267,2, -999.000,5,-999.0000,5,  -999.00,9,     13.2,2,     1.52,2,-999.000,9,   2118.2,2,   2296.7,2,     4.2, -999.00,-999.0000,-999.000,-999.000
     316N145_5,  I08S,    41,  1,     30, SIH017,2,19941216,1315,-47.5612,  92.7333, 3570, 2079.2,    203.8,   6.3195,  34.2619,2,  34.2662,2,    280.7,2,  6.3017,    279.1,2,     8.81,2,    20.68,2,     0.23,2,     1.48,2,    4.175,2,    2.103,2, -999.000,5,-999.0000,5,  -999.00,9,     14.7,2,     1.47,2,-999.000,9,   2121.2,2,   2288.3,2,     4.4, -999.00,-999.0000,-999.000,-999.000
     316N145_5,  I08S,    41,  1,     29, SIH014,2,19941216,1315,-47.5612,  92.7333, 3570, 2597.3,    255.9,   6.1254,  34.2538,2,  34.2581,2,    281.4,2,  6.1033,    280.1,2,     9.14,2,    21.25,2,     0.02,2,     1.50,2,    4.140,2,    2.081,2, -999.000,5,-999.0000,5,  -999.00,9,      4.5,2,     1.44,2,-999.000,9,   2125.3,2,   2302.0,2,     3.2, -999.00,-999.0000,-999.000,-999.000
     316N145_5,  I08S,    41,  1,     28, SIH011,2,19941216,1315,-47.5612,  92.7333, 3570, 3088.5,    305.3,   6.2029,  34.3243,2,  34.3305,2,    248.0,2,  6.1762,    242.3,2,    13.93,2,    23.78,2,     0.02,2,     1.65,2, -999.000,9, -999.000,9, -999.000,5,-999.0000,5,  -999.00,9,     -3.8,2,     1.27,2,-999.000,9,   2144.5,2,   2279.7,2,     4.3, -999.00,-999.0000,-999.000,-999.000
     316N145_5,  I08S,    41,  1,     27, SIH008,2,19941216,1315,-47.5612,  92.7333, 3570, 3380.2,    334.6,   6.2478,  34.3690,2,  34.3703,2,    232.3,2,  6.2183,    228.6,2,    16.25,2,    24.89,2,     0.02,2,     1.72,2, -999.000,9, -999.000,9, -999.000,5,-999.0000,5,  -999.00,9,     -9.1,2,     1.14,2,-999.000,9,   2153.3,2,   2296.4,2,     3.3, -999.00,-999.0000,-999.000,-999.000
     316N145_5,  I08S,    41,  1,     26, SIH005,2,19941216,1315,-47.5612,  92.7333, 3570, 3783.8,    375.2,   5.6713,  34.3200,2,  34.3193,2,    233.4,2,  5.6399,    232.5,2,    17.74,2,    25.90,2,     0.02,2,     1.78,2,    2.809,2,    1.345,2, -999.000,5,-999.0000,5,  -999.00,9,     -5.5,2,     1.10,2,-999.000,9,   2155.4,2,   2293.2,2,     3.6, -999.00,-999.0000,-999.000,-999.000
     316N145_5,  I08S,    41,  1,     25, SIH019,2,19941216,1315,-47.5612,  92.7333, 3570, 4096.2,    406.6,   5.5757,  34.3389,2,  34.3395,2,    236.8,2,  5.5418,    225.8,2,    19.89,2,    26.66,2,     0.01,2,     1.83,2,    2.476,2,    1.198,2, -999.000,5,-999.0000,5,  -999.00,9,    -15.0,2,     1.09,2,-999.000,9,   2162.2,2,   -999.0,9,     5.9, -999.00,-999.0000,-999.000,-999.000
     316N145_5,  I08S,    41,  1,     24, SIH037,2,19941216,1315,-47.5612,  92.7333, 3570, 5203.2,    518.0,   4.5782,  34.2995,2,  34.2997,2,    229.6,2,  4.5387,    226.8,2,    25.33,2,    28.84,2,     0.01,2,     1.97,2, -999.000,9, -999.000,9, -999.000,5,-999.0000,5,  -999.00,9,    -49.6,2,     0.75,3,-999.000,9,   2173.1,2,   2283.9,2,     6.0, -999.00,-999.0000,-999.000,-999.000
     316N145_5,  I08S,    41,  1,     23, SIH033,2,19941216,1315,-47.5612,  92.7333, 3570, 6087.5,    606.9,   4.0220,  34.2928,2,  34.2940,2,    226.2,2,  3.9780,    223.7,2,    30.29,2,    30.16,2,     0.00,2,     2.06,2,    2.132,2,    1.023,2, -999.000,5,-999.0000,5,  -999.00,9,    -64.6,2,     1.00,2,-999.000,9,   2183.7,2,   2318.7,2,     5.4, -999.00,-999.0000,-999.000,-999.000
     316N145_5,  I08S,    41,  1,     22, SIH031,2,19941216,1315,-47.5612,  92.7333, 3570, 7117.4,    710.5,   3.5667,  34.3078,2,  34.3140,2,    218.2,2,  3.5171,    217.7,2,    36.73,2,    31.47,2,     0.00,2,     2.15,2, -999.000,9, -999.000,9, -999.000,5,-999.0000,5,  -999.00,9,    -78.7,2,     0.91,2,-999.000,9,   2195.4,2,   2304.6,2,     3.7, -999.00,-999.0000,-999.000,-999.000
     316N145_5,  I08S,    41,  1,     21, SIH030,2,19941216,1315,-47.5612,  92.7333, 3570, 8089.6,    808.3,   3.3228,  34.3476,2,  34.3476,2,    206.6,2,  3.2673,    206.2,2,    43.51,2,    32.48,2,     0.00,2,     2.22,2,    1.370,2,    0.647,2, -999.000,5,-999.0000,5,  -999.00,9,    -90.4,2,     0.81,2,-999.000,9,   2205.6,2,   2309.9,2,     3.8, -999.00,-999.0000,-999.000,-999.000
     316N145_5,  I08S,    41,  1,     20, SIH028,2,19941216,1315,-47.5612,  92.7333, 3570, 9091.0,    909.0,   3.0116,  34.3848,2,  34.3859,2,    197.7,2,  2.9507,    197.4,2,    50.77,2,    33.33,2,     0.00,2,     2.28,2, -999.000,9, -999.000,9, -999.000,5,-999.0000,5,  -999.00,9,   -109.9,2,     0.71,2,-999.000,9,   2217.5,2,   -999.0,9,     4.1, -999.00,-999.0000,-999.000,-999.000
     316N145_5,  I08S,    41,  1,     19, SIH027,2,19941216,1315,-47.5612,  92.7333, 3570,10100.7,   1010.6,   2.8531,  34.4337,2,  34.4316,2,    189.9,2,  2.7857,    188.8,2,    57.21,2,    33.88,2,     0.00,2,     2.31,2,    0.833,2,    0.393,2, -999.000,5,-999.0000,5,  -999.00,9,   -118.2,2,     0.61,2,-999.000,9,   2228.6,2,   2329.7,2,     4.0, -999.00,-999.0000,-999.000,-999.000
     316N145_5,  I08S,    41,  1,     18, SIH003,2,19941216,1315,-47.5612,  92.7333, 3570,11111.6,   1112.2,   2.7635,  34.4956,2,  34.4950,2,    183.7,2,  2.6891,    180.9,2,    63.15,2,    34.02,2,     0.00,2,     2.32,2,    0.502,2,    0.250,2, -999.000,5,-999.0000,5,  -999.00,9,   -125.2,2,     0.53,2,-999.000,9,   2236.2,6,   2332.8,2,     3.6, -999.00,-999.0000,-999.000,-999.000
     316N145_5,  I08S,    41,  1,     17, SIH024,2,19941216,1315,-47.5612,  92.7333, 3570,12125.1,   1214.2,   2.6530,  34.5447,2,  34.5445,2,    181.2,2,  2.5717,    177.8,2,    67.61,2,    33.81,2,     0.00,2,     2.31,2,    0.369,2,    0.170,2, -999.000,5,-999.0000,5,  -999.00,9,   -136.2,2,     0.46,2,-999.000,9,   2243.3,2,   2349.1,3,     4.5, -999.00,-999.0000,-999.000,-999.000
     316N145_5,  I08S,    41,  1,     16, SIH022,2,19941216,1315,-47.5612,  92.7333, 3570,13131.3,   1315.4,   2.6253,  34.5866,2,  34.5891,2,    178.7,2,  2.5364,    177.1,2,    69.42,2,    33.34,2,     0.00,2,     2.27,2, -999.000,9, -999.000,9, -999.000,5,-999.0000,5,  -999.00,9,   -147.7,2,     0.53,2,-999.000,9,   2243.3,2,   2337.7,2,     2.4, -999.00,-999.0000,-999.000,-999.000
     316N145_5,  I08S,    41,  1,     15, SIH021,2,19941216,1315,-47.5612,  92.7333, 3570,14155.9,   1418.5,   2.5782,  34.6255,2,  34.6266,2,    179.4,2,  2.4816,    177.8,2,    71.24,2,    32.83,2,     0.00,2,     2.24,2,    0.177,2,    0.082,2, -999.000,5,-999.0000,5,  -999.00,9,   -136.6,2,     0.53,2,-999.000,9,   2243.8,2,   2344.6,2,     2.9, -999.00,-999.0000,-999.000,-999.000
     316N145_5,  I08S,    41,  1,     14, SIH002,2,19941216,1315,-47.5612,  92.7333, 3570,15152.6,   1518.7,   2.5081,  34.6587,2,  34.6588,2,    181.3,2,  2.4043,    180.6,2,    72.89,2,    32.27,2,     0.00,2,     2.19,2, -999.000,9, -999.000,9, -999.000,5,-999.0000,5,  -999.00,9,   -999.0,9,  -999.00,9,-999.000,9,   2242.6,2,   -999.0,9,  -999.0, -999.00,-999.0000,-999.000,-999.000
     316N145_5,  I08S,    41,  1,     13, SIH018,2,19941216,1315,-47.5612,  92.7333, 3570,16183.8,   1622.4,   2.4557,  34.6867,2,  34.6869,2,    184.2,2,  2.3440,    182.9,2,    73.87,2,    31.75,2,     0.00,2,     2.16,2,    0.097,2,    0.046,2, -999.000,5,-999.0000,5,  -999.00,9,   -999.0,9,  -999.00,9,-999.000,9,   2242.4,2,   -999.0,9,  -999.0, -999.00,-999.0000,-999.000,-999.000
     316N145_5,  I08S,    41,  1,     12, SIH016,2,19941216,1315,-47.5612,  92.7333, 3570,17176.9,   1722.3,   2.3960,  34.7088,2,  34.7087,2,    185.9,2,  2.2768,    185.8,2,    74.70,2,    31.18,2,     0.00,2,     2.12,2,    0.075,2,    0.033,2, -999.000,5,-999.0000,5,  -999.00,9,   -999.0,9,  -999.00,9,-999.000,9,   -999.0,9,   -999.0,9,  -999.0, -999.00,-999.0000,-999.000,-999.000
     316N145_5,  I08S,    41,  1,     11, SIH015,2,19941216,1315,-47.5612,  92.7333, 3570,18186.0,   1823.8,   2.3318,  34.7259,2,  34.7268,2,    187.9,2,  2.2049,   -999.0,9,    76.35,2,    30.77,2,     0.00,2,     2.09,2, -999.000,9, -999.000,9, -999.000,5,-999.0000,5,  -999.00,9,   -999.0,9,  -999.00,9,-999.000,9,   2240.7,2,   2342.0,2,  -999.0, -999.00,-999.0000,-999.000,-999.000
     316N145_5,  I08S,    41,  1,     10, SIH013,2,19941216,1315,-47.5612,  92.7333, 3570,20159.5,   2022.3,   2.1952,  34.7464,2,  34.7465,2,    193.1,2,  2.0535,    193.6,2,    79.65,2,    30.26,2,     0.00,2,     2.06,2, -999.000,9, -999.000,9, -999.000,5,-999.0000,5,  -999.00,9,   -999.0,9,  -999.00,9,-999.000,9,   2239.4,2,   2354.1,2,  -999.0, -999.00,-999.0000,-999.000,-999.000
     316N145_5,  I08S,    41,  1,      9, SIH012,2,19941216,1315,-47.5612,  92.7333, 3570,22268.3,   2234.4,   2.0324,  34.7560,2,  34.7579,2,    196.9,2,  1.8748,    197.6,2,    84.10,2,    30.00,2,     0.00,2,     2.04,2,    0.034,2,    0.013,2, -999.000,5,-999.0000,5,  -999.00,9,   -999.0,9,  -999.00,9,-999.000,9,   2241.5,2,   2368.4,2,  -999.0, -999.00,-999.0000,-999.000,-999.000
     316N145_5,  I08S,    41,  1,      8, SIH010,2,19941216,1315,-47.5612,  92.7333, 3570,24262.8,   2435.1,   1.8432,  34.7550,2,  34.7559,2,    199.3,2,  1.6712,    199.1,2,    90.71,2,    30.29,2,     0.00,2,     2.06,2,    0.027,2,    0.010,2, -999.000,5,-999.0000,5,  -999.00,9,   -999.0,9,  -999.00,9,-999.000,9,   2244.9,2,   2360.9,2,  -999.0, -999.00,-999.0000,-999.000,-999.000
     316N145_5,  I08S,    41,  1,      7, SIH009,2,19941216,1315,-47.5612,  92.7333, 3570,26321.6,   2642.2,   1.6262,  34.7473,2,  34.7484,2,    200.7,2,  1.4397,    200.7,2,    98.46,2,    30.69,2,     0.00,2,     2.09,2,    0.030,2,    0.023,2, -999.000,5,-999.0000,5,  -999.00,9,   -999.0,9,  -999.00,9,-999.000,9,   2249.4,2,   2376.8,2,  -999.0, -999.00,-999.0000,-999.000,-999.000
     316N145_5,  I08S,    41,  1,      6, SIH038,2,19941216,1315,-47.5612,  92.7333, 3570,28285.8,   2839.7,   1.4499,  34.7382,2,  34.7398,2,    202.5,2,  1.2489,    202.4,2,   104.40,2,    31.08,2,     0.00,2,     2.12,2, -999.000,9, -999.000,9, -999.000,5,-999.0000,5,  -999.00,9,   -999.0,9,  -999.00,9,-999.000,9,   2253.3,2,   2369.4,2,  -999.0, -999.00,-999.0000,-999.000,-999.000
     316N145_5,  I08S,    41,  1,      5, SIH006,2,19941216,1315,-47.5612,  92.7333, 3570,30415.2,   3053.9,   1.2596,  34.7302,2,  34.7305,2,    203.7,2,  1.0427,    204.6,2,   109.85,2,    31.38,2,     0.00,2,     2.15,2,    0.066,2,    0.047,2, -999.000,5,-999.0000,5,  -999.00,9,   -999.0,9,  -999.00,9,-999.000,9,   2255.1,2,   2376.8,2,  -999.0, -999.00,-999.0000,-999.000,-999.000
     316N145_5,  I08S,    41,  1,      4, SIH004,2,19941216,1315,-47.5612,  92.7333, 3570,32435.4,   3257.1,   1.1083,  34.7221,2,  34.7231,2,    206.2,2,  0.8756,    205.9,2,   114.31,2,    31.63,2,     0.00,2,     2.16,2,    0.085,2,    0.049,2, -999.000,5,-999.0000,5,  -999.00,9,   -999.0,9,  -999.00,9,-999.000,9,   2256.4,2,   2367.7,2,  -999.0, -999.00,-999.0000,-999.000,-999.000
     316N145_5,  I08S,    41,  1,      3, SIH025,2,19941216,1315,-47.5612,  92.7333, 3570,34466.9,   3461.5,   1.0364,  34.7184,2,  34.7170,2,    208.5,2,  0.7855,    207.0,2,   117.10,2,    31.77,2,     0.00,2,     2.17,2,    0.105,2,    0.053,2, -999.000,5,-999.0000,5,  -999.00,9,   -999.0,9,  -999.00,9,-999.000,9,   2255.4,2,   2383.4,2,  -999.0, -999.00,-999.0000,-999.000,-999.000
     316N145_5,  I08S,    41,  1,      2, SIH001,2,19941216,1315,-47.5612,  92.7333, 3570,35483.9,   3563.8,   1.0280,  34.7178,2,  34.7180,2,    209.0,2,  0.7672,    207.2,2,   117.27,2,    31.77,2,     0.00,2,     2.17,2,    0.112,6,    0.056,6, -999.000,5,-999.0000,5,  -999.00,9,   -999.0,9,  -999.00,9,-999.000,9,   2256.1,2,   -999.0,9,  -999.0, -999.00,-999.0000,-999.000,-999.000
     316N145_5,  I08S,    41,  1,      1, SIH036,2,19941216,1315,-47.5612,  92.7333, 3570,36109.3,   3626.7,   1.0298,  34.7177,2,  34.7156,2,    210.6,2,  0.7626,    208.2,2,   117.44,2,    31.80,2,     0.00,2,     2.17,2,    0.113,2,    0.061,2, -999.000,5,-999.0000,5,  -999.00,9,   -999.0,9,  -999.00,9,-999.000,9,   2256.9,6,   2373.7,2,  -999.0, -999.00,-999.0000,-999.000,-999.000