BOTTLE,20090521WHPSIOdm
EXPOCODE,SECT_ID,STNNBR,CASTNO,SAMPNO,BTLNBR,BTLNBR_FLAG_W,DATE,TIME,LATITUDE,LONGITUDE,DEPTH,CTDRAW,CTDPRS,CTDTMP,CTDSAL,CTDSAL_FLAG_W,SALNTY,SALNTY_FLAG_W,CTDOXY,CTDOXY_FLAG_W,THETA,OXYGEN,OXYGEN_FLAG_W,SILCAT,SILCAT_FLAG_W,NITRAT,NITRAT_FLAG_W,NITRIT,NITRIT_FLAG_W,PHSPHT,PHSPHT_FLAG_W,CFC-11,CFC-11_FLAG_W,CFC-12,CFC-12_FLAG_W,TRITUM,TRITUM_FLAG_W,HELIUM,HELIUM_FLAG_W,DELHE3,DELHE3_FLAG_W,DELC14,DELC14_FLAG_W,DELC13,DELC13_FLAG_W,NEON,NEON_FLAG_W,TCARBN,TCARBN_FLAG_W,ALKALI,ALKALI_FLAG_W,C14ERR,DELHER,HELIER,NEONER,TRITER
,,,,,,,,,,,,,DBAR,IPTS-68,PSS-78,,PSS-78,,UMOL/KG,,IPTS-68,UMOL/KG,,UMOL/KG,,UMOL/KG,,UMOL/KG,,UMOL/KG,,PMOL/KG,,PMOL/KG,,TU,,NMOL/KG,,PERCNT,,/MILLE,,/MILLE,,NMOL/KG,,UMOL/KG,,UMOL/KG,,/MILLE,PERCNT,NMOL/KG,NMOL/KG,TU
     316N145_5,  I09S,   140,  1,     36, SI9446,2,19950117,0331,-36.4972, 115.0028, 5350,  188.2,     13.6,  18.4171,  35.5030,2,  35.5026,2,    260.7,2, 18.4147,    239.6,2,     0.00,2,     0.00,2,     0.00,2,     0.16,2, -999.000,9, -999.000,9,    1.085,2,   1.6770,2,    -1.45,2,   -999.0,9,  -999.00,9,   6.971,2,   2052.1,6,   -999.0,9,  -999.0,   60.12,  0.0030,   0.049,   0.013
     316N145_5,  I09S,   140,  1,     35, SIH032,2,19950117,0331,-36.4972, 115.0028, 5350,  378.1,     32.7,  17.6705,  35.5067,2,  35.5091,2,    264.5,2, 17.6650,    243.6,2,     0.00,2,     0.00,2,     0.00,2,     0.15,2, -999.000,9, -999.000,9,    0.000,5,   1.7180,2,    -1.48,2,   -999.0,9,  -999.00,9,   7.089,2,   2051.4,2,   -999.0,9,  -999.0,   60.12,  0.0040,   0.065,   0.000
     316N145_5,  I09S,   140,  1,     34, SIH029,2,19950117,0331,-36.4972, 115.0028, 5350,  621.5,     57.1,  16.6498,  35.5561,2,  35.5573,2,    265.3,2, 16.6405,    248.1,2,     0.00,2,     0.00,2,     0.00,2,     0.15,2, -999.000,9, -999.000,9,    1.127,2,   1.7440,2,    -1.67,2,   -999.0,9,  -999.00,9,   7.139,2,   2054.5,2,   -999.0,9,  -999.0,   60.10,  0.0030,   0.030,   0.014
     316N145_5,  I09S,   140,  1,     33, SIH026,2,19950117,0331,-36.4972, 115.0028, 5350,  882.4,     83.4,  14.5930,  35.4463,2,  35.4496,2,    253.7,2, 14.5806,    245.4,2,     0.04,2,     1.01,2,     0.22,2,     0.27,2, -999.000,9, -999.000,9, -999.000,5,-999.0000,5,  -999.00,9,   -999.0,9,  -999.00,9,-999.000,9,   2068.1,2,   -999.0,9,  -999.0, -999.00,-999.0000,-999.000,-999.000
     316N145_5,  I09S,   140,  1,     32, SIH023,2,19950117,0331,-36.4972, 115.0028, 5350, 1128.5,    108.1,  13.7170,  35.2966,2,  35.3068,2,    254.9,2, 13.7016,    243.3,2,     0.21,2,     2.98,2,     0.06,2,     0.38,2, -999.000,9, -999.000,9,    0.764,2,   1.7510,2,    -1.65,2,   -999.0,9,  -999.00,9,   7.400,2,   2077.5,2,   -999.0,9,  -999.0,   10.12,  0.0030,   0.052,   0.011
     316N145_5,  I09S,   140,  1,     31, SIH020,2,19950117,0331,-36.4972, 115.0028, 5350, 1632.4,    158.8,  12.6854,  35.1410,2,  35.1408,2,    251.8,2, 12.6639,    245.8,2,     0.39,2,     5.01,2,     0.03,2,     0.51,2, -999.000,9, -999.000,9,    0.921,2,   1.7590,2,    -1.49,2,   -999.0,9,  -999.00,9,   7.337,2,   2083.2,2,   2307.5,2,  -999.0,    0.11,  0.0040,   0.028,   0.013
     316N145_5,  I09S,   140,  1,     30, SIH017,2,19950117,0331,-36.4972, 115.0028, 5350, 2135.2,    209.3,  11.7384,  34.9869,2,  34.9943,2,    249.5,2, 11.7115,    248.3,2,     0.89,2,     7.25,2,     0.01,2,     0.65,2, -999.000,9, -999.000,9,    0.859,2,   1.7500,2,    -1.34,2,   -999.0,9,  -999.00,9,   7.418,2,   2089.5,2,   -999.0,9,  -999.0,   90.12,  0.0030,   0.053,   0.012
     316N145_5,  I09S,   140,  1,     29, SIH014,2,19950117,0331,-36.4972, 115.0028, 5350, 2622.9,    258.4,  11.0911,  34.9025,2,  34.9024,2,    249.6,2, 11.0590,    249.6,2,     1.22,2,     9.07,2,     0.01,2,     0.75,2, -999.000,9, -999.000,9, -999.000,5,-999.0000,5,  -999.00,9,   -999.0,9,  -999.00,9,-999.000,9,   2092.9,2,   -999.0,9,  -999.0, -999.00,-999.0000,-999.000,-999.000
     316N145_5,  I09S,   140,  1,     28, SIH011,2,19950117,0331,-36.4972, 115.0028, 5350, 3130.8,    309.4,  10.3911,  34.8159,2,  34.8182,2,    254.1,2, 10.3541,    249.1,2,     2.02,2,    11.24,2,     0.01,2,     0.88,2, -999.000,9, -999.000,9,    0.000,5,   1.7730,2,    -1.24,2,   -999.0,9,  -999.00,9,   7.539,2,   2100.1,2,   2314.1,2,  -999.0,   50.11,  0.0030,   0.029,   0.000
     316N145_5,  I09S,   140,  1,     27, SIH008,2,19950117,0331,-36.4972, 115.0028, 5350, 3619.1,    358.5,   9.9300,  34.7573,2,  34.7579,2,    252.4,2,  9.8884,    249.3,2,     2.67,2,    12.82,2,     0.01,2,     0.98,2, -999.000,9, -999.000,9, -999.000,5,-999.0000,5,  -999.00,9,   -999.0,9,  -999.00,9,-999.000,9,   2103.8,2,   2303.1,2,  -999.0, -999.00,-999.0000,-999.000,-999.000
     316N145_5,  I09S,   140,  1,     26, SIH005,2,19950117,0331,-36.4972, 115.0028, 5350, 4125.6,    409.5,   9.4981,  34.6859,2,  34.6899,2,    257.6,2,  9.4517,    253.7,2,     3.16,2,    13.88,2,     0.00,2,     1.05,2, -999.000,9, -999.000,9,    0.803,2,   1.7610,2,    -1.05,2,   -999.0,9,  -999.00,9,   7.580,2,   2104.2,2,   2290.2,2,  -999.0,   80.12,  0.0030,   0.062,   0.012
     316N145_5,  I09S,   140,  1,     25, SIH019,2,19950117,0331,-36.4972, 115.0028, 5350, 4620.6,    459.3,   9.3198,  34.6641,2,  34.6637,2,    256.7,2,  9.2683,    254.2,2,     3.65,2,    14.55,2,     0.00,2,     1.08,2, -999.000,9, -999.000,9, -999.000,5,-999.0000,5,  -999.00,9,   -999.0,9,  -999.00,9,-999.000,9,   2106.0,2,   -999.0,9,  -999.0, -999.00,-999.0000,-999.000,-999.000
     316N145_5,  I09S,   140,  1,     24, SIH037,2,19950117,0331,-36.4972, 115.0028, 5350, 5129.5,    510.4,   9.2699,  34.6656,2,  34.6669,2,    253.1,2,  9.2127,    249.3,2,     3.82,2,    15.23,2,     0.00,2,     1.12,2, -999.000,9, -999.000,9,    0.511,2,   1.7570,2,    -0.83,2,   -999.0,9,  -999.00,9,   7.452,2,   2109.1,2,   2307.1,2,  -999.0,   50.11,  0.0030,   0.028,   0.009
     316N145_5,  I09S,   140,  1,     23, SIH033,2,19950117,0331,-36.4972, 115.0028, 5350, 6130.8,    611.1,   8.9702,  34.6310,2,  34.6339,2,    241.8,2,  8.9027,    238.3,2,     4.95,2,    17.35,2,     0.00,2,     1.25,2, -999.000,9, -999.000,9,    0.000,5,   1.7650,2,    -0.47,2,   -999.0,9,  -999.00,9,   7.529,2,   2118.0,2,   2288.8,2,  -999.0,   30.11,  0.0030,   0.028,   0.000
     316N145_5,  I09S,   140,  1,     22, SIH031,2,19950117,0331,-36.4972, 115.0028, 5350, 7133.2,    711.9,   8.3512,  34.5563,2,  34.5586,2,    234.2,2,  8.2754,    227.2,2,     7.48,2,    20.02,2,     0.00,2,     1.41,2, -999.000,9, -999.000,9, -999.000,5,-999.0000,5,  -999.00,9,   -999.0,9,  -999.00,9,-999.000,9,   2128.5,2,   2287.3,2,  -999.0, -999.00,-999.0000,-999.000,-999.000
     316N145_5,  I09S,   140,  1,     21, SIH030,2,19950117,0331,-36.4972, 115.0028, 5350, 8137.5,    812.9,   7.4066,  34.4865,2,  34.4862,2,    207.7,2,  7.3252,    205.4,2,    13.15,2,    24.22,2,     0.00,2,     1.66,2, -999.000,9, -999.000,9,    0.308,2,   1.8140,2,     1.08,2,   -999.0,9,  -999.00,9,   7.787,2,   2150.2,2,   2306.1,2,  -999.0,    0.09,  0.0040,   0.033,   0.006
     316N145_5,  I09S,   140,  1,     20, SIH028,2,19950117,0331,-36.4972, 115.0028, 5350, 9114.5,    911.2,   6.2651,  34.4335,2,  34.4353,2,    195.7,2,  6.1812,    194.6,2,    21.64,2,    27.52,2,     0.00,2,     1.89,2, -999.000,9, -999.000,9,    0.115,2,   1.7860,2,     2.45,2,   -999.0,9,  -999.00,9,   7.777,2,   2170.2,2,   2293.6,2,  -999.0,    0.11,  0.0030,   0.029,   0.005
     316N145_5,  I09S,   140,  1,     19, SIH027,2,19950117,0331,-36.4972, 115.0028, 5350,10144.4,   1014.8,   5.0123,  34.3910,2,  34.3925,2,    193.4,2,  4.9277,    194.3,2,    32.03,2,    30.04,2,     0.00,2,     2.06,2, -999.000,9, -999.000,9,    0.091,2,   1.8080,2,     3.78,2,   -999.0,9,  -999.00,9,   7.796,2,   2188.7,2,   2303.4,2,  -999.0,    0.12,  0.0050,   0.067,   0.005
     316N145_5,  I09S,   140,  1,     18, SIH003,2,19950117,0331,-36.4972, 115.0028, 5350,11140.4,   1114.9,   4.0723,  34.3825,2,  34.3841,2,    189.9,2,  3.9866,    191.6,2,    41.31,2,    31.89,2,     0.00,2,     2.20,2, -999.000,9, -999.000,9,    0.048,2,   1.8310,2,     5.27,2,   -999.0,9,  -999.00,9,   7.988,2,   2204.4,6,   2306.9,2,  -999.0,    0.12,  0.0040,   0.056,   0.005
     316N145_5,  I09S,   140,  1,     17, SIH024,2,19950117,0331,-36.4972, 115.0028, 5350,12117.3,   1213.2,   3.5548,  34.4160,2,  34.4175,2,    182.1,2,  3.4654,    181.7,2,    51.54,2,    33.24,2,     0.00,2,     2.30,2, -999.000,9, -999.000,9,   -0.038,4,   1.8240,2,     6.67,2,   -999.0,9,  -999.00,9,   7.931,2,   2220.7,2,   2329.9,6,  -999.0,    0.11,  0.0030,   0.030,   0.005
     316N145_5,  I09S,   140,  1,     16, SIH022,2,19950117,0331,-36.4972, 115.0028, 5350,14145.9,   1417.3,   2.9957,  34.4991,2,  34.5005,2,    167.9,2,  2.8949,    169.9,2,    65.38,2,    34.31,2,     0.00,2,     2.38,2, -999.000,9, -999.000,9,    0.205,2,   1.8720,2,     8.04,2,   -999.0,9,  -999.00,9,   8.117,2,   2241.9,2,   2336.1,2,  -999.0,    0.20,  0.0040,   0.029,   0.006
     316N145_5,  I09S,   140,  1,     15, SIH021,2,19950117,0331,-36.4972, 115.0028, 5350,16157.9,   1619.6,   2.7788,  34.5883,2,  34.5916,2,    163.0,2,  2.6636,    162.0,2,    76.88,2,    34.24,2,     0.00,2,     2.38,2, -999.000,9, -999.000,9,    0.089,2,   1.8470,2,     9.31,2,   -999.0,9,  -999.00,9,   8.018,2,   2255.1,2,   2346.1,2,  -999.0,    0.20,  0.0040,   0.029,   0.005
     316N145_5,  I09S,   140,  1,     14, SIH002,2,19950117,0331,-36.4972, 115.0028, 5350,18172.1,   1822.2,   2.5969,  34.6529,2,  34.6547,2,    163.7,2,  2.4667,    163.2,2,    84.91,2,    33.73,2,     0.00,2,     2.34,2, -999.000,9, -999.000,9,    0.029,2,   1.8810,2,    10.39,2,   -999.0,9,  -999.00,9,   8.159,2,   2261.9,2,   2357.0,2,  -999.0,   80.20,  0.0040,   0.030,   0.004
     316N145_5,  I09S,   140,  1,     13, SIH018,2,19950117,0331,-36.4972, 115.0028, 5350,21209.5,   2127.8,   2.3455,  34.7066,2,  34.7070,2,    168.6,2,  2.1924,    167.3,2,    95.14,2,    33.04,2,     0.00,2,     2.30,2, -999.000,9, -999.000,9,   -0.005,4,   1.8660,2,    12.38,2,   -999.0,9,  -999.00,9,   8.016,2,   2267.5,2,   2367.9,2,  -999.0,   40.20,  0.0040,   0.029,   0.005
     316N145_5,  I09S,   140,  1,     12, SIH016,2,19950117,0331,-36.4972, 115.0028, 5350,24224.6,   2431.0,   2.1178,  34.7261,2,  34.7286,2,    172.7,2,  1.9413,    173.1,2,   101.77,2,    32.53,2,     0.00,2,     2.27,2, -999.000,9, -999.000,9,   -0.020,4,   1.8880,2,    12.82,2,   -999.0,9,  -999.00,9,   8.071,2,   2269.1,2,   2392.9,2,  -999.0,   90.20,  0.0040,   0.029,   0.004
     316N145_5,  I09S,   140,  1,     11, SIH015,2,19950117,0331,-36.4972, 115.0028, 5350,27240.2,   2734.4,   1.8993,  34.7335,2,  34.7357,2,    179.0,2,  1.6988,    180.0,2,   105.24,2,    32.29,2,     0.00,2,     2.24,2, -999.000,9, -999.000,9,    0.118,4,   1.8710,2,    12.50,2,   -999.0,9,  -999.00,9,   8.056,2,   2268.2,2,   2375.5,2,  -999.0,   60.20,  0.0040,   0.029,   0.005
     316N145_5,  I09S,   140,  1,     10, SI9426,2,19950117,0331,-36.4972, 115.0028, 5350,30336.5,   3045.8,   1.6969,  34.7328,2,  34.7360,2,    185.7,2,  1.4710,    187.2,2,   108.25,2,    32.06,2,     0.00,2,     2.22,2, -999.000,9, -999.000,9,   -0.021,4,   1.9150,3,    11.95,2,   -999.0,9,  -999.00,9,   8.208,3,   -999.0,9,   2387.9,2,  -999.0,   50.20,  0.0040,   0.030,   0.005
     316N145_5,  I09S,   140,  1,      9, SIH012,2,19950117,0331,-36.4972, 115.0028, 5350,33377.3,   3351.7,   1.4907,  34.7302,2,  34.7294,2,    190.3,2,  1.2395,    191.8,2,   112.68,2,    32.00,2,     0.00,2,     2.21,2, -999.000,9, -999.000,9,    0.008,4,   1.8760,2,    11.89,2,   -999.0,9,  -999.00,9,   8.072,2,   2266.6,2,   2375.6,2,  -999.0,   60.20,  0.0040,   0.029,   0.005
     316N145_5,  I09S,   140,  1,      8, SIH010,2,19950117,0331,-36.4972, 115.0028, 5350,36434.2,   3659.2,   1.3080,  34.7255,2,  34.7247,2,    194.9,2,  1.0301,    198.0,2,   115.22,2,    31.99,2,     0.00,2,     2.20,2, -999.000,9, -999.000,9,    0.009,4,   1.9460,3,    11.09,2,   -999.0,9,  -999.00,9,   8.361,3,   2262.7,2,   2395.6,2,  -999.0,   10.20,  0.0040,   0.031,   0.006
     316N145_5,  I09S,   140,  1,      7, SIH009,2,19950117,0331,-36.4972, 115.0028, 5350,39480.2,   3965.6,   1.1930,  34.7199,2,  34.3906,4,    198.5,2,  0.8861,    199.8,2,   118.86,2,    32.16,2,     0.00,2,     2.21,2, -999.000,9, -999.000,9,    0.230,4,   1.8820,2,    10.80,2,   -999.0,9,  -999.00,9,   8.106,2,   2266.6,2,   2381.0,3,  -999.0,   70.20,  0.0040,   0.030,   0.007
     316N145_5,  I09S,   140,  1,      6, SIH038,2,19950117,0331,-36.4972, 115.0028, 5350,42588.9,   4278.3,   1.0598,  34.7141,2,  34.7144,2,    204.0,2,  0.7230,    204.8,2,   120.62,2,    32.11,2,     0.00,2,     2.21,2, -999.000,9, -999.000,9,    0.203,4,   1.9140,2,    10.32,2,   -999.0,9,  -999.00,9,   8.237,2,   2264.3,2,   -999.0,9,  -999.0,   50.20,  0.0040,   0.030,   0.007
     316N145_5,  I09S,   140,  1,      5, SIH006,2,19950117,0331,-36.4972, 115.0028, 5350,45609.9,   4582.1,   0.9196,  34.7066,2,  34.7062,2,    208.5,2,  0.5533,    207.5,2,   123.16,2,    32.19,2,     0.00,2,     2.22,2, -999.000,9, -999.000,9,   -0.020,4,   1.8800,2,     9.65,2,   -999.0,9,  -999.00,9,   8.171,2,   2263.6,2,   2360.4,3,  -999.0,    0.20,  0.0040,   0.030,   0.006
     316N145_5,  I09S,   140,  1,      4, SIH004,2,19950117,0331,-36.4972, 115.0028, 5350,48677.8,   4890.7,   0.9096,  34.7050,2,  34.7038,2,    211.5,2,  0.5080,    207.9,2,   123.97,2,    32.26,2,     0.00,2,     2.22,2, -999.000,9, -999.000,9,    0.042,4,-999.0000,5,  -999.00,9,   -999.0,9,  -999.00,9,-999.000,9,   2263.3,2,   2373.3,2,  -999.0, -999.00,-999.0000,-999.000,   0.006
     316N145_5,  I09S,   140,  1,      3, SIH025,2,19950117,0331,-36.4972, 115.0028, 5350,51742.6,   5199.0,   0.9149,  34.7043,2,  34.7050,2,    213.4,2,  0.4765,    208.7,2,   124.47,2,    32.29,2,     0.00,2,     2.22,2, -999.000,9, -999.000,9,    0.004,4,   1.8830,2,     9.30,2,   -999.0,9,  -999.00,9,   8.129,2,   2263.6,2,   -999.0,9,  -999.0,    0.20,  0.0040,   0.030,   0.006
     316N145_5,  I09S,   140,  1,      2, SIH001,2,19950117,0331,-36.4972, 115.0028, 5350,53931.5,   5419.2,   0.9347,  34.7039,2,  34.7046,2,    216.8,2,  0.4686,    209.0,2,   124.66,2,    32.33,2,     0.00,2,     2.22,2, -999.000,9, -999.000,9,    0.120,4,-999.0000,5,  -999.00,5,   -999.0,9,  -999.00,9,-999.000,5,   2263.7,2,   2377.6,6,  -999.0, -999.00,-999.0000,-999.000,   0.006
     316N145_5,  I09S,   140,  1,      1, SIH036,2,19950117,0331,-36.4972, 115.0028, 5350,54459.0,   5472.3,   0.9408,  34.7035,2,  34.7011,2,    216.2,3,  0.4680,    209.5,2,   124.72,2,    32.34,2,     0.00,2,     2.23,2, -999.000,9, -999.000,9,    0.270,4,   1.8860,2,     9.19,2,   -999.0,9,  -999.00,9,   8.228,2,   2264.4,6,   2375.4,2,  -999.0,    0.09,  0.0040,   0.035,   0.008