BOTTLE,20090521WHPSIOdm
EXPOCODE,SECT_ID,STNNBR,CASTNO,SAMPNO,BTLNBR,BTLNBR_FLAG_W,DATE,TIME,LATITUDE,LONGITUDE,DEPTH,CTDRAW,CTDPRS,CTDTMP,CTDSAL,CTDSAL_FLAG_W,SALNTY,SALNTY_FLAG_W,CTDOXY,CTDOXY_FLAG_W,THETA,OXYGEN,OXYGEN_FLAG_W,SILCAT,SILCAT_FLAG_W,NITRAT,NITRAT_FLAG_W,NITRIT,NITRIT_FLAG_W,PHSPHT,PHSPHT_FLAG_W,CFC-11,CFC-11_FLAG_W,CFC-12,CFC-12_FLAG_W,TRITUM,TRITUM_FLAG_W,HELIUM,HELIUM_FLAG_W,DELHE3,DELHE3_FLAG_W,DELC14,DELC14_FLAG_W,DELC13,DELC13_FLAG_W,NEON,NEON_FLAG_W,TCARBN,TCARBN_FLAG_W,ALKALI,ALKALI_FLAG_W,C14ERR,DELHER,HELIER,NEONER,TRITER
,,,,,,,,,,,,,DBAR,IPTS-68,PSS-78,,PSS-78,,UMOL/KG,,IPTS-68,UMOL/KG,,UMOL/KG,,UMOL/KG,,UMOL/KG,,UMOL/KG,,PMOL/KG,,PMOL/KG,,TU,,NMOL/KG,,PERCNT,,/MILLE,,/MILLE,,NMOL/KG,,UMOL/KG,,UMOL/KG,,/MILLE,PERCNT,NMOL/KG,NMOL/KG,TU
     316N145_5,  I08S,     5,  1,     21, SIH016,2,19941206,1300,-31.3000,  95.0028, 1465, 1581.0,    154.0,  13.3162,  35.2933,2,  35.2917,2,    233.9,2, 13.2946,    237.4,2,     1.75,2,     5.52,2,     0.04,2,     0.56,2,    3.266,2,    1.608,2, -999.000,5,-999.0000,5,  -999.00,9,   -999.0,9,  -999.00,9,-999.000,9,   2087.3,6,   2318.1,2,  -999.0, -999.00,-999.0000,-999.000,-999.000
     316N145_5,  I08S,     5,  1,     20, SIH017,2,19941206,1300,-31.3000,  95.0028, 1465, 2087.6,    204.9,  12.8484,  35.2431,2,  35.2434,2,    229.7,2, 12.8203,    233.3,2,     2.13,2,     6.97,2,     0.01,2,     0.64,2,    3.253,2,    1.604,2, -999.000,5,-999.0000,5,  -999.00,9,   -999.0,9,  -999.00,9,-999.000,9,   2095.1,2,   2313.1,2,  -999.0, -999.00,-999.0000,-999.000,-999.000
     316N145_5,  I08S,     5,  1,     19, SIH018,2,19941206,1300,-31.3000,  95.0028, 1465, 2580.2,    254.4,  12.0723,  35.1109,2,  35.1126,2,    235.7,2, 12.0389,    238.0,2,     2.86,2,     8.68,2,     0.01,2,     0.75,2,    3.362,2,    1.614,2, -999.000,5,-999.0000,5,  -999.00,9,   -999.0,9,  -999.00,9,-999.000,9,   2098.3,2,   2305.6,2,  -999.0, -999.00,-999.0000,-999.000,-999.000
     316N145_5,  I08S,     5,  1,     18, SIH019,2,19941206,1300,-31.3000,  95.0028, 1465, 3077.8,    304.5,  11.7059,  35.0521,2,  35.0553,2,    241.9,2, 11.6666,    239.8,2,     3.24,2,     9.36,2,     0.01,2,     0.79,2, -999.000,9, -999.000,9, -999.000,5,-999.0000,5,  -999.00,9,   -999.0,9,  -999.00,9,-999.000,9,   2099.0,2,   -999.0,9,  -999.0, -999.00,-999.0000,-999.000,-999.000
     316N145_5,  I08S,     5,  1,     17, SIH020,2,19941206,1300,-31.3000,  95.0028, 1465, 3570.7,    354.1,  11.2998,  34.9876,2,  34.9870,2,    244.7,2, 11.2551,    242.3,2,     3.64,2,    10.19,2,     0.01,2,     0.85,2, -999.000,9, -999.000,9, -999.000,5,-999.0000,5,  -999.00,9,   -999.0,9,  -999.00,9,-999.000,9,   2099.4,2,   -999.0,9,  -999.0, -999.00,-999.0000,-999.000,-999.000
     316N145_5,  I08S,     5,  1,     16, SIH021,2,19941206,1300,-31.3000,  95.0028, 1465, 4083.4,    405.6,  11.0239,  34.9523,2,  34.9512,2,    245.2,2, 10.9734,    241.6,2,     3.68,2,    10.73,2,     0.01,2,     0.88,2,    3.337,2,    1.620,2, -999.000,5,-999.0000,5,  -999.00,9,   -999.0,9,  -999.00,9,-999.000,9,   2101.7,2,   2301.1,2,  -999.0, -999.00,-999.0000,-999.000,-999.000
     316N145_5,  I08S,     5,  1,     15, SIH022,2,19941206,1300,-31.3000,  95.0028, 1465, 4576.3,    455.2,  10.6425,  34.8929,2,  34.8934,2,    246.7,2, 10.5869,    242.0,2,     4.07,2,    11.64,2,     0.00,2,     0.94,2,    3.369,2,    1.600,2, -999.000,5,-999.0000,5,  -999.00,9,   -999.0,9,  -999.00,9,-999.000,9,   2104.7,2,   2320.0,3,  -999.0, -999.00,-999.0000,-999.000,-999.000
     316N145_5,  I08S,     5,  1,     14, SIH023,2,19941206,1300,-31.3000,  95.0028, 1465, 5071.1,    504.9,  10.3379,  34.8470,2,  34.8467,2,    246.1,2, 10.2773,    241.4,2,     4.28,2,    12.40,2,     0.00,2,     0.99,2, -999.000,9, -999.000,9, -999.000,5,-999.0000,5,  -999.00,9,   -999.0,9,  -999.00,9,-999.000,9,   2106.6,2,   2297.5,2,  -999.0, -999.00,-999.0000,-999.000,-999.000
     316N145_5,  I08S,     5,  1,     13, SIH024,2,19941206,1300,-31.3000,  95.0028, 1465, 6070.4,    605.4,   9.5778,  34.7274,2,  34.7254,2,    240.6,2,  9.5082,    237.4,2,     5.35,2,    15.00,2,     0.00,2,     1.15,2,    2.835,2,    1.389,2, -999.000,5,-999.0000,5,  -999.00,9,   -999.0,9,  -999.00,9,-999.000,9,   2115.0,2,   2285.3,2,  -999.0, -999.00,-999.0000,-999.000,-999.000
     316N145_5,  I08S,     5,  1,     12, SIH003,2,19941206,1300,-31.3000,  95.0028, 1465, 7064.1,    705.3,   8.8891,  34.6352,2,  34.6335,2,    231.6,2,  8.8112,    226.5,2,     7.59,2,    17.98,2,     0.00,2,     1.33,2,    2.354,2,    1.159,2, -999.000,5,-999.0000,5,  -999.00,9,   -999.0,9,  -999.00,9,-999.000,9,   2124.4,2,   2288.1,2,  -999.0, -999.00,-999.0000,-999.000,-999.000
     316N145_5,  I08S,     5,  1,     11, SIH026,2,19941206,1300,-31.3000,  95.0028, 1465, 8061.7,    805.6,   7.7187,  34.5303,2,  34.5459,2,    211.3,2,  7.6363,    210.3,2,    12.52,2,    21.16,2,     0.00,2,     1.56,2,    1.559,2,    0.772,2, -999.000,5,-999.0000,5,  -999.00,9,   -999.0,9,  -999.00,9,-999.000,9,   2143.3,2,   2276.5,2,  -999.0, -999.00,-999.0000,-999.000,-999.000
     316N145_5,  I08S,     5,  1,     10, SIH027,2,19941206,1300,-31.3000,  95.0028, 1465, 9057.8,    905.8,   6.2926,  34.4381,2,  34.4394,2,    199.7,2,  6.2090,    198.7,2,    22.02,2,    25.84,2,     0.00,2,     1.88,2,    0.905,2,    0.470,2, -999.000,5,-999.0000,5,  -999.00,9,   -999.0,9,  -999.00,9,-999.000,9,   2167.9,2,   2275.6,2,  -999.0, -999.00,-999.0000,-999.000,-999.000
     316N145_5,  I08S,     5,  1,      9, SIH028,2,19941206,1300,-31.3000,  95.0028, 1465,10054.1,   1006.0,   4.9006,  34.4120,2,  34.4118,2,    189.5,2,  4.8177,    184.8,2,    38.60,2,    29.61,2,     0.00,2,     2.15,2,    0.398,2,    0.189,2, -999.000,5,-999.0000,5,  -999.00,9,   -999.0,9,  -999.00,9,-999.000,9,   2199.7,2,   2299.4,2,  -999.0, -999.00,-999.0000,-999.000,-999.000
     316N145_5,  I08S,     5,  1,      8, SIH029,2,19941206,1300,-31.3000,  95.0028, 1465,11064.8,   1107.7,   4.3142,  34.4419,2,  34.4418,2,    170.6,2,  4.2269,    169.7,2,    52.13,2,    31.63,2,     0.00,2,     2.31,2, -999.000,9, -999.000,9, -999.000,5,-999.0000,5,  -999.00,9,   -999.0,9,  -999.00,9,-999.000,9,   2222.9,6,   2330.5,2,  -999.0, -999.00,-999.0000,-999.000,-999.000
     316N145_5,  I08S,     5,  1,      6, SIH031,2,19941206,1300,-31.3000,  95.0028, 1465,12067.3,   1208.5,   3.8881,  34.4696,2,  34.4699,2,    166.1,2,  3.7959,    162.8,2,    61.32,2,    32.63,2,     0.00,2,     2.39,2,    0.117,2,    0.058,2, -999.000,5,-999.0000,5,  -999.00,9,   -999.0,9,  -999.00,9,-999.000,9,   -999.0,9,   -999.0,9,  -999.0, -999.00,-999.0000,-999.000,-999.000
     316N145_5,  I08S,     5,  1,      7, SIH030,2,19941206,1300,-31.3000,  95.0028, 1465,12069.3,   1208.7,   3.8878,  34.4694,2,  34.4697,2,    166.1,2,  3.7956,    163.1,2,    61.11,2,    32.53,2,     0.00,2,     2.39,2,    0.116,2,    0.059,2, -999.000,5,-999.0000,5,  -999.00,9,   -999.0,9,  -999.00,9,-999.000,9,   -999.0,9,   -999.0,9,  -999.0, -999.00,-999.0000,-999.000,-999.000
     316N145_5,  I08S,     5,  1,      5, SIH032,2,19941206,1300,-31.3000,  95.0028, 1465,13049.5,   1307.3,   3.6414,  34.5081,2,  34.5076,2,    156.9,2,  3.5431,    155.7,2,    68.78,2,    33.24,2,     0.00,2,     2.42,2,    0.083,2,    0.034,2, -999.000,5,-999.0000,5,  -999.00,9,   -999.0,9,  -999.00,9,-999.000,9,   -999.0,9,   -999.0,9,  -999.0, -999.00,-999.0000,-999.000,-999.000
     316N145_5,  I08S,     5,  1,      4, SIH033,2,19941206,1300,-31.3000,  95.0028, 1465,14581.2,   1461.5,   3.4050,  34.5528,2,  34.5506,2,    150.3,2,  3.2959,    150.1,2,    76.58,2,    33.56,2,     0.00,2,     2.46,2,    0.026,2,    0.016,2, -999.000,5,-999.0000,5,  -999.00,9,   -999.0,9,  -999.00,9,-999.000,9,   -999.0,9,   -999.0,9,  -999.0, -999.00,-999.0000,-999.000,-999.000
     316N145_5,  I08S,     5,  1,      3, SIH037,2,19941206,1300,-31.3000,  95.0028, 1465,14580.4,   1461.5,   3.4048,  34.5529,2,  34.5506,2,    150.3,2,  3.2957,    150.0,2,    76.45,2,    33.50,2,     0.00,2,     2.46,2, -999.000,9, -999.000,9, -999.000,5,-999.0000,5,  -999.00,9,   -999.0,9,  -999.00,9,-999.000,9,   -999.0,9,   -999.0,9,  -999.0, -999.00,-999.0000,-999.000,-999.000
     316N145_5,  I08S,     5,  1,      1, SIH036,2,19941206,1300,-31.3000,  95.0028, 1465,14745.2,   1478.1,   3.3817,  34.5578,2,  34.5557,2,    151.5,2,  3.2715,    150.4,2,    76.83,2,    33.99,2,     0.00,2,     2.45,2,    0.028,2,    0.017,2, -999.000,5,-999.0000,5,  -999.00,9,   -999.0,9,  -999.00,9,-999.000,9,   -999.0,9,   -999.0,9,  -999.0, -999.00,-999.0000,-999.000,-999.000
     316N145_5,  I08S,     5,  1,      2, SIH035,2,19941206,1300,-31.3000,  95.0028, 1465,14748.1,   1478.4,   3.3817,  34.5574,2,  34.5559,2,    151.5,2,  3.2715,    150.3,2,    77.17,2,    33.60,2,     0.00,2,     2.46,2, -999.000,9, -999.000,9, -999.000,5,-999.0000,5,  -999.00,9,   -999.0,9,  -999.00,9,-999.000,9,   -999.0,9,   -999.0,9,  -999.0, -999.00,-999.0000,-999.000,-999.000
     316N145_5,  I08S,     6,  1,     24, SIH037,9,19941206,2317,-32.0083,  95.0138, 4150,  157.1,     16.1,  18.8856,  35.7359,3,-999.0000,9,    245.9,3, 18.8827,   -999.0,9,  -999.00,9,  -999.00,9,  -999.00,9,  -999.00,9, -999.000,9, -999.000,9, -999.000,5,-999.0000,5,  -999.00,9,   -999.0,9,  -999.00,9,-999.000,9,   -999.0,9,   -999.0,9,  -999.0, -999.00,-999.0000,-999.000,-999.000
     316N145_5,  I08S,     6,  1,     23, SIH033,9,19941206,2317,-32.0083,  95.0138, 4150,  602.3,     60.8,  17.7866,  35.7676,3,-999.0000,9,    251.6,3, 17.7762,   -999.0,9,  -999.00,9,  -999.00,9,  -999.00,9,  -999.00,9, -999.000,9, -999.000,9, -999.000,5,-999.0000,5,  -999.00,9,   -999.0,9,  -999.00,9,-999.000,9,   -999.0,9,   -999.0,9,  -999.0, -999.00,-999.0000,-999.000,-999.000
     316N145_5,  I08S,     6,  1,     22, SIH031,9,19941206,2317,-32.0083,  95.0138, 4150, 1097.5,    110.6,  16.2627,  35.6754,3,-999.0000,9,    246.3,3, 16.2449,   -999.0,9,  -999.00,9,  -999.00,9,  -999.00,9,  -999.00,9, -999.000,9, -999.000,9, -999.000,5,-999.0000,5,  -999.00,9,   -999.0,9,  -999.00,9,-999.000,9,   -999.0,9,   -999.0,9,  -999.0, -999.00,-999.0000,-999.000,-999.000
     316N145_5,  I08S,     6,  1,     21, SIH030,9,19941206,2317,-32.0083,  95.0138, 4150, 2098.9,    211.3,  14.2143,  35.4777,3,-999.0000,9,    235.6,3, 14.1834,   -999.0,9,  -999.00,9,  -999.00,9,  -999.00,9,  -999.00,9, -999.000,9, -999.000,9, -999.000,5,-999.0000,5,  -999.00,9,   -999.0,9,  -999.00,9,-999.000,9,   -999.0,9,   -999.0,9,  -999.0, -999.00,-999.0000,-999.000,-999.000
     316N145_5,  I08S,     6,  1,     20, SIH028,9,19941206,2317,-32.0083,  95.0138, 4150, 3091.6,    311.1,  12.3507,  35.1711,3,-999.0000,9,    233.2,3, 12.3091,   -999.0,9,  -999.00,9,  -999.00,9,  -999.00,9,  -999.00,9, -999.000,9, -999.000,9, -999.000,5,-999.0000,5,  -999.00,9,   -999.0,9,  -999.00,9,-999.000,9,   -999.0,9,   -999.0,9,  -999.0, -999.00,-999.0000,-999.000,-999.000
     316N145_5,  I08S,     6,  1,     19, SIH027,9,19941206,2317,-32.0083,  95.0138, 4150, 4096.3,    412.1,  11.3118,  35.0080,3,-999.0000,9,    234.7,3, 11.2596,   -999.0,9,  -999.00,9,  -999.00,9,  -999.00,9,  -999.00,9, -999.000,9, -999.000,9, -999.000,5,-999.0000,5,  -999.00,9,   -999.0,9,  -999.00,9,-999.000,9,   -999.0,9,   -999.0,9,  -999.0, -999.00,-999.0000,-999.000,-999.000
     316N145_5,  I08S,     6,  1,     18, SIH003,9,19941206,2317,-32.0083,  95.0138, 4150, 5098.9,    512.9,  10.3552,  34.8460,3,-999.0000,9,    242.5,3, 10.2935,   -999.0,9,  -999.00,9,  -999.00,9,  -999.00,9,  -999.00,9, -999.000,9, -999.000,9, -999.000,5,-999.0000,5,  -999.00,9,   -999.0,9,  -999.00,9,-999.000,9,   -999.0,9,   -999.0,9,  -999.0, -999.00,-999.0000,-999.000,-999.000
     316N145_5,  I08S,     6,  1,     17, SIH024,9,19941206,2317,-32.0083,  95.0138, 4150, 6095.5,    613.1,   9.5777,  34.7204,3,-999.0000,9,    239.7,3,  9.5072,   -999.0,9,  -999.00,9,  -999.00,9,  -999.00,9,  -999.00,9, -999.000,9, -999.000,9, -999.000,5,-999.0000,5,  -999.00,9,   -999.0,9,  -999.00,9,-999.000,9,   -999.0,9,   -999.0,9,  -999.0, -999.00,-999.0000,-999.000,-999.000
     316N145_5,  I08S,     6,  1,     16, SIH022,9,19941206,2317,-32.0083,  95.0138, 4150, 7089.4,    713.1,   8.7818,  34.6204,3,-999.0000,9,    231.7,3,  8.7036,   -999.0,9,  -999.00,9,  -999.00,9,  -999.00,9,  -999.00,9, -999.000,9, -999.000,9, -999.000,5,-999.0000,5,  -999.00,9,   -999.0,9,  -999.00,9,-999.000,9,   -999.0,9,   -999.0,9,  -999.0, -999.00,-999.0000,-999.000,-999.000
     316N145_5,  I08S,     6,  1,     15, SIH021,9,19941206,2317,-32.0083,  95.0138, 4150, 8088.6,    813.6,   7.6530,  34.5176,3,-999.0000,9,    208.3,3,  7.5701,   -999.0,9,  -999.00,9,  -999.00,9,  -999.00,9,  -999.00,9, -999.000,9, -999.000,9, -999.000,5,-999.0000,5,  -999.00,9,   -999.0,9,  -999.00,9,-999.000,9,   -999.0,9,   -999.0,9,  -999.0, -999.00,-999.0000,-999.000,-999.000
     316N145_5,  I08S,     6,  1,     14, SIH002,9,19941206,2317,-32.0083,  95.0138, 4150,10081.5,   1014.0,   4.8080,  34.3887,3,-999.0000,9,    187.8,3,  4.7251,   -999.0,9,  -999.00,9,  -999.00,9,  -999.00,9,  -999.00,9, -999.000,9, -999.000,9, -999.000,5,-999.0000,5,  -999.00,9,   -999.0,9,  -999.00,9,-999.000,9,   -999.0,9,   -999.0,9,  -999.0, -999.00,-999.0000,-999.000,-999.000
     316N145_5,  I08S,     6,  1,     13, SIH018,9,19941206,2317,-32.0083,  95.0138, 4150,12587.5,   1266.1,   3.7118,  34.4865,3,-999.0000,9,    152.7,3,  3.6163,   -999.0,9,  -999.00,9,  -999.00,9,  -999.00,9,  -999.00,9, -999.000,9, -999.000,9, -999.000,5,-999.0000,5,  -999.00,9,   -999.0,9,  -999.00,9,-999.000,9,   -999.0,9,   -999.0,9,  -999.0, -999.00,-999.0000,-999.000,-999.000
     316N145_5,  I08S,     6,  1,     12, SIH016,9,19941206,2317,-32.0083,  95.0138, 4150,15101.1,   1518.9,   3.1832,  34.5632,3,-999.0000,9,    150.5,3,  3.0717,   -999.0,9,  -999.00,9,  -999.00,9,  -999.00,9,  -999.00,9, -999.000,9, -999.000,9, -999.000,5,-999.0000,5,  -999.00,9,   -999.0,9,  -999.00,9,-999.000,9,   -999.0,9,   -999.0,9,  -999.0, -999.00,-999.0000,-999.000,-999.000
     316N145_5,  I08S,     6,  1,     11, SIH015,9,19941206,2317,-32.0083,  95.0138, 4150,18107.6,   1821.3,   2.7273,  34.6482,3,-999.0000,9,    155.4,3,  2.5955,   -999.0,9,  -999.00,9,  -999.00,9,  -999.00,9,  -999.00,9, -999.000,9, -999.000,9, -999.000,5,-999.0000,5,  -999.00,9,   -999.0,9,  -999.00,9,-999.000,9,   -999.0,9,   -999.0,9,  -999.0, -999.00,-999.0000,-999.000,-999.000
     316N145_5,  I08S,     6,  1,     10, SIH013,9,19941206,2317,-32.0083,  95.0138, 4150,20061.6,   2017.8,   2.4871,  34.6885,3,-999.0000,9,    163.4,3,  2.3415,   -999.0,9,  -999.00,9,  -999.00,9,  -999.00,9,  -999.00,9, -999.000,9, -999.000,9, -999.000,5,-999.0000,5,  -999.00,9,   -999.0,9,  -999.00,9,-999.000,9,   -999.0,9,   -999.0,9,  -999.0, -999.00,-999.0000,-999.000,-999.000
     316N145_5,  I08S,     6,  1,      9, SIH012,9,19941206,2317,-32.0083,  95.0138, 4150,22082.6,   2221.1,   2.2694,  34.7167,3,-999.0000,9,    172.1,3,  2.1092,   -999.0,9,  -999.00,9,  -999.00,9,  -999.00,9,  -999.00,9, -999.000,9, -999.000,9, -999.000,5,-999.0000,5,  -999.00,9,   -999.0,9,  -999.00,9,-999.000,9,   -999.0,9,   -999.0,9,  -999.0, -999.00,-999.0000,-999.000,-999.000
     316N145_5,  I08S,     6,  1,      8, SIH010,9,19941206,2317,-32.0083,  95.0138, 4150,24092.3,   2423.3,   2.0543,  34.7350,3,-999.0000,9,    181.6,3,  1.8797,   -999.0,9,  -999.00,9,  -999.00,9,  -999.00,9,  -999.00,9, -999.000,9, -999.000,9, -999.000,5,-999.0000,5,  -999.00,9,   -999.0,9,  -999.00,9,-999.000,9,   -999.0,9,   -999.0,9,  -999.0, -999.00,-999.0000,-999.000,-999.000
     316N145_5,  I08S,     6,  1,      7, SIH009,9,19941206,2317,-32.0083,  95.0138, 4150,26128.8,   2628.1,   1.8948,  34.7393,3,-999.0000,9,    182.0,3,  1.7045,   -999.0,9,  -999.00,9,  -999.00,9,  -999.00,9,  -999.00,9, -999.000,9, -999.000,9, -999.000,5,-999.0000,5,  -999.00,9,   -999.0,9,  -999.00,9,-999.000,9,   -999.0,9,   -999.0,9,  -999.0, -999.00,-999.0000,-999.000,-999.000
     316N145_5,  I08S,     6,  1,      6, SIH038,9,19941206,2317,-32.0083,  95.0138, 4150,28141.5,   2830.6,   1.7205,  34.7389,3,-999.0000,9,    190.5,3,  1.5147,   -999.0,9,  -999.00,9,  -999.00,9,  -999.00,9,  -999.00,9, -999.000,9, -999.000,9, -999.000,5,-999.0000,5,  -999.00,9,   -999.0,9,  -999.00,9,-999.000,9,   -999.0,9,   -999.0,9,  -999.0, -999.00,-999.0000,-999.000,-999.000
     316N145_5,  I08S,     6,  1,      5, SIH006,9,19941206,2317,-32.0083,  95.0138, 4150,30021.2,   3019.6,   1.5617,  34.7350,3,-999.0000,9,    192.5,3,  1.3414,   -999.0,9,  -999.00,9,  -999.00,9,  -999.00,9,  -999.00,9, -999.000,9, -999.000,9, -999.000,5,-999.0000,5,  -999.00,9,   -999.0,9,  -999.00,9,-999.000,9,   -999.0,9,   -999.0,9,  -999.0, -999.00,-999.0000,-999.000,-999.000
     316N145_5,  I08S,     6,  1,      4, SIH004,9,19941206,2317,-32.0083,  95.0138, 4150,32035.8,   3222.3,   1.4133,  34.7303,3,-999.0000,9,    189.4,3,  1.1768,   -999.0,9,  -999.00,9,  -999.00,9,  -999.00,9,  -999.00,9, -999.000,9, -999.000,9, -999.000,5,-999.0000,5,  -999.00,9,   -999.0,9,  -999.00,9,-999.000,9,   -999.0,9,   -999.0,9,  -999.0, -999.00,-999.0000,-999.000,-999.000
     316N145_5,  I08S,     6,  1,      3, SIH025,9,19941206,2317,-32.0083,  95.0138, 4150,34113.1,   3431.2,   1.3086,  34.7262,3,-999.0000,9,    195.1,3,  1.0540,   -999.0,9,  -999.00,9,  -999.00,9,  -999.00,9,  -999.00,9, -999.000,9, -999.000,9, -999.000,5,-999.0000,5,  -999.00,9,   -999.0,9,  -999.00,9,-999.000,9,   -999.0,9,   -999.0,9,  -999.0, -999.00,-999.0000,-999.000,-999.000
     316N145_5,  I08S,     6,  1,      2, SIH001,9,19941206,2317,-32.0083,  95.0138, 4150,35675.3,   3588.4,   1.2545,  34.7229,3,-999.0000,9,    191.4,3,  0.9854,   -999.0,9,  -999.00,9,  -999.00,9,  -999.00,9,  -999.00,9, -999.000,9, -999.000,9, -999.000,5,-999.0000,5,  -999.00,9,   -999.0,9,  -999.00,9,-999.000,9,   -999.0,9,   -999.0,9,  -999.0, -999.00,-999.0000,-999.000,-999.000
     316N145_5,  I08S,     6,  1,      1, SIH036,9,19941206,2317,-32.0083,  95.0138, 4150,36945.0,   3716.1,   1.2172,  34.7215,3,-999.0000,9,    192.8,3,  0.9359,   -999.0,9,  -999.00,9,  -999.00,9,  -999.00,9,  -999.00,9, -999.000,9, -999.000,9, -999.000,5,-999.0000,5,  -999.00,9,   -999.0,9,  -999.00,9,-999.000,9,   -999.0,9,   -999.0,9,  -999.0, -999.00,-999.0000,-999.000,-999.000