BOTTLE,20090521WHPSIOdm
EXPOCODE,SECT_ID,STNNBR,CASTNO,SAMPNO,BTLNBR,BTLNBR_FLAG_W,DATE,TIME,LATITUDE,LONGITUDE,DEPTH,CTDRAW,CTDPRS,CTDTMP,CTDSAL,CTDSAL_FLAG_W,SALNTY,SALNTY_FLAG_W,CTDOXY,CTDOXY_FLAG_W,THETA,OXYGEN,OXYGEN_FLAG_W,SILCAT,SILCAT_FLAG_W,NITRAT,NITRAT_FLAG_W,NITRIT,NITRIT_FLAG_W,PHSPHT,PHSPHT_FLAG_W,CFC-11,CFC-11_FLAG_W,CFC-12,CFC-12_FLAG_W,TRITUM,TRITUM_FLAG_W,HELIUM,HELIUM_FLAG_W,DELHE3,DELHE3_FLAG_W,DELC14,DELC14_FLAG_W,DELC13,DELC13_FLAG_W,NEON,NEON_FLAG_W,TCARBN,TCARBN_FLAG_W,ALKALI,ALKALI_FLAG_W,C14ERR,DELHER,HELIER,NEONER,TRITER
,,,,,,,,,,,,,DBAR,IPTS-68,PSS-78,,PSS-78,,UMOL/KG,,IPTS-68,UMOL/KG,,UMOL/KG,,UMOL/KG,,UMOL/KG,,UMOL/KG,,PMOL/KG,,PMOL/KG,,TU,,NMOL/KG,,PERCNT,,/MILLE,,/MILLE,,NMOL/KG,,UMOL/KG,,UMOL/KG,,/MILLE,PERCNT,NMOL/KG,NMOL/KG,TU
     316N145_5,  I08S,    13,  1,     24, SIH037,2,19941208,2132,-35.0000,  95.0028, 4290,  182.9,     13.4,  17.0619,  35.4380,2,  35.4381,2,    267.6,2, 17.0597,    258.7,2,     0.72,2,     0.05,2,     0.02,2,     0.22,2,    2.774,2,    1.492,2,    1.002,2,   1.7030,2,    -1.61,2,   -999.0,9,  -999.00,9,   7.012,2,   2058.1,6,   2327.6,2,  -999.0,    0.16,  0.0030,   0.043,   0.014
     316N145_5,  I08S,    13,  1,     23, SIH033,2,19941208,2132,-35.0000,  95.0028, 4290,  377.4,     32.9,  16.8719,  35.4335,2,  35.4287,2,    276.8,2, 16.8665,    250.1,2,     0.76,2,     0.37,2,     0.02,2,     0.22,2,    2.767,2,    1.487,2,    0.006,4,   1.7260,2,    -1.35,2,   -999.0,9,  -999.00,9,   7.076,2,   2057.7,2,   2331.7,2,  -999.0,    0.17,  0.0030,   0.034,   0.011
     316N145_5,  I08S,    13,  1,     22, SIH031,2,19941208,2132,-35.0000,  95.0028, 4290,  625.1,     57.8,  14.1529,  35.2626,2,  35.2662,2,    274.6,2, 14.1445,    268.0,2,     1.15,2,     1.86,2,     0.06,2,     0.33,2,    3.149,2,    1.644,2,    0.901,2,   1.7220,2,    -1.54,2,   -999.0,9,  -999.00,9,   7.140,2,   2064.8,2,   2328.7,2,  -999.0,    0.16,  0.0030,   0.036,   0.013
     316N145_5,  I08S,    13,  1,     21, SIH030,2,19941208,2132,-35.0000,  95.0028, 4290, 1123.4,    107.9,  13.0063,  35.2339,2,  35.2329,2,    259.8,2, 12.9914,    248.2,2,     1.54,2,     4.85,2,     0.43,2,     0.54,2,    3.150,6,    1.668,6,    0.921,2,   1.7450,2,    -1.50,2,   -999.0,9,  -999.00,9,   7.297,2,   2086.5,2,   2318.4,2,  -999.0,    0.17,  0.0030,   0.021,   0.016
     316N145_5,  I08S,    13,  1,     20, SIH028,2,19941208,2132,-35.0000,  95.0028, 4290, 2112.8,    207.4,  11.8952,  35.0857,2,  35.0888,2,    247.4,2, 11.8683,    240.9,2,     2.52,2,     8.90,2,     0.02,2,     0.75,2,    3.256,2,    1.688,2,    0.795,2,   1.7280,2,    -1.32,2,   -999.0,9,  -999.00,9,   7.306,2,   2098.5,2,   2316.1,2,  -999.0,    0.16,  0.0030,   0.027,   0.015
     316N145_5,  I08S,    13,  1,     19, SIH027,2,19941208,2132,-35.0000,  95.0028, 4290, 3110.3,    307.8,  11.1460,  34.9635,2,  34.9675,2,    245.4,2, 11.1076,    246.0,2,     3.25,2,    10.50,2,     0.01,2,     0.85,2,    3.349,2,    1.716,2,    0.753,2,   1.7670,2,    -1.10,2,   -999.0,9,  -999.00,9,   7.443,2,   2101.7,2,   2313.3,2,  -999.0,    0.17,  0.0030,   0.041,   0.012
     316N145_5,  I08S,    13,  1,     18, SIH003,2,19941208,2132,-35.0000,  95.0028, 4290, 4075.3,    404.8,  10.7650,  34.9126,2,  34.9120,2,    256.5,2, 10.7154,    244.7,2,     3.38,2,    11.30,2,     0.01,2,     0.90,2,    3.288,2,    1.678,2,    0.801,2,   1.8750,3,    -0.73,2,   -999.0,9,  -999.00,9,   7.801,3,   2104.3,2,   2304.0,2,  -999.0,    0.16,  0.0030,   0.046,   0.015
     316N145_5,  I08S,    13,  1,     17, SIH024,2,19941208,2132,-35.0000,  95.0028, 4290, 5062.5,    504.1,  10.2073,  34.8220,2,  34.8224,2,    240.7,2, 10.1472,    243.3,2,     3.86,2,    13.06,2,     0.00,2,     1.01,2,    3.186,2,    1.611,2,    0.658,2,   1.8480,3,    -0.69,2,   -999.0,9,  -999.00,9,   7.735,3,   2109.0,2,   2302.3,2,  -999.0,    0.15,  0.0020,   0.047,   0.010
     316N145_5,  I08S,    13,  1,     16, SIH022,2,19941208,2132,-35.0000,  95.0028, 4290, 6052.5,    603.6,   9.5469,  34.7180,2,  34.7229,2,    246.4,2,  9.4776,    236.4,2,     5.21,2,    15.62,2,     0.01,2,     1.16,2,    2.875,2,    1.436,2,    0.634,2,   1.7580,2,    -0.25,2,   -999.0,9,  -999.00,9,   7.493,2,   2115.2,2,   2314.2,3,  -999.0,    0.11,  0.0030,   0.025,   0.013
     316N145_5,  I08S,    13,  1,     15, SIH021,2,19941208,2132,-35.0000,  95.0028, 4290, 7007.7,    699.7,   8.8143,  34.6260,2,  34.6290,2,    224.3,2,  8.7374,    225.0,2,     7.31,2,    18.70,2,     0.01,2,     1.35,2,    2.315,2,    1.154,2,   -0.020,4,   1.8740,3,     0.51,2,   -999.0,9,  -999.00,9,   7.893,3,   2126.2,2,   2287.1,2,  -999.0,    0.15,  0.0020,   0.041,   0.005
     316N145_5,  I08S,    13,  1,     14, SIH002,2,19941208,2132,-35.0000,  95.0028, 4290, 7966.8,    796.1,   7.7191,  34.5257,2,  34.5270,2,    216.3,2,  7.6376,    207.4,2,    12.85,2,    23.03,2,     0.01,2,     1.61,2,    1.475,2,    0.743,2,    0.351,2,   1.8220,2,     1.14,2,   -999.0,9,  -999.00,9,   7.756,2,   2148.3,2,   2287.2,2,  -999.0,    0.11,  0.0030,   0.040,   0.008
     316N145_5,  I08S,    13,  1,     13, SIH018,2,19941208,2132,-35.0000,  95.0028, 4290, 9908.0,    991.4,   5.2516,  34.3861,2,  34.3862,2,    203.2,2,  5.1673,    199.2,2,    28.01,2,    29.20,2,     0.00,2,     2.02,2,    0.784,2,    0.396,2,   -0.021,4,   1.8170,2,     2.80,2,   -999.0,9,  -999.00,9,   7.786,2,   2183.5,2,   2289.2,2,  -999.0,    0.15,  0.0020,   0.033,   0.005
     316N145_5,  I08S,    13,  1,     12, SIH016,2,19941208,2132,-35.0000,  95.0028, 4290,11897.8,   1191.5,   3.9006,  34.4100,2,  34.4104,2,    183.1,2,  3.8098,    180.6,2,    49.17,2,    32.93,2,     0.00,2,     2.29,2, -999.000,9, -999.000,9,    0.173,2,   1.8250,2,     5.62,2,   -999.0,9,  -999.00,9,   7.907,2,   2220.7,2,   2315.0,2,  -999.0,    0.10,  0.0030,   0.022,   0.006
     316N145_5,  I08S,    13,  1,     11, SIH015,2,19941208,2132,-35.0000,  95.0028, 4290,14939.4,   1497.5,   3.2080,  34.5425,2,  34.5423,2,    157.5,2,  3.0981,    156.9,2,    73.60,2,    34.67,2,     0.00,2,     2.42,2,    0.045,2,    0.028,2,    0.000,5,   1.8440,2,     9.31,2,   -999.0,9,  -999.00,9,   7.882,2,   2255.9,6,   2346.0,2,  -999.0,    0.15,  0.0020,   0.048,   0.000
     316N145_5,  I08S,    13,  1,     10, SIH013,2,19941208,2132,-35.0000,  95.0028, 4290,17952.6,   1800.5,   2.7364,  34.6364,2,  34.6378,2,    161.2,2,  2.6063,    161.0,2,    83.78,2,    34.05,2,     0.00,2,     2.37,2, -999.000,9, -999.000,9,    0.173,2,-999.0000,5,  -999.00,9,   -999.0,9,  -999.00,9,-999.000,9,   2263.0,2,   2361.6,2,  -999.0, -999.00,-999.0000,-999.000,   0.007
     316N145_5,  I08S,    13,  1,      9, SIH012,2,19941208,2132,-35.0000,  95.0028, 4290,21017.4,   2108.8,   2.3981,  34.7021,2,  34.7032,2,    176.4,2,  2.2458,    176.7,2,    83.82,2,    32.13,2,     0.00,2,     2.22,2,    0.034,6,    0.014,6,    0.145,2,   1.8950,2,    10.72,2,   -999.0,9,  -999.00,9,   8.107,2,   2253.8,2,   2348.1,2,  -999.0,    0.15,  0.0020,   0.052,   0.007
     316N145_5,  I08S,    13,  1,      8, SIH010,2,19941208,2132,-35.0000,  95.0028, 4290,24069.1,   2415.8,   2.1128,  34.7422,2,  34.7418,2,    190.5,2,  1.9378,    190.5,2,    86.27,2,    30.74,2,     0.00,2,     2.12,2, -999.000,9, -999.000,9,    0.062,2,   1.9750,3,    10.74,2,   -999.0,9,  -999.00,9,   8.451,3,   2248.2,2,   2350.2,2,  -999.0,    0.10,  0.0040,   0.042,   0.006
     316N145_5,  I08S,    13,  1,      7, SIH009,2,19941208,2132,-35.0000,  95.0028, 4290,27094.7,   2720.1,   1.8136,  34.7458,2,  34.7467,2,    191.9,2,  1.6162,    195.6,2,    94.57,2,    30.85,2,     0.00,2,     2.12,2,    0.048,3,    0.034,3,    0.000,5,   1.9040,2,    11.51,2,   -999.0,9,  -999.00,9,   8.187,2,   2251.4,2,   2370.6,3,  -999.0,    0.15,  0.0020,   0.047,   0.000
     316N145_5,  I08S,    13,  1,      6, SIH038,2,19941208,2132,-35.0000,  95.0028, 4290,30686.0,   3081.4,   1.4260,  34.7345,2,  34.7347,2,    197.9,2,  1.2028,    200.7,2,   106.99,2,    31.38,2,     0.00,2,     2.16,2, -999.000,9, -999.000,9,    0.154,4,   1.9570,2,    10.51,2,   -999.0,9,  -999.00,9,   8.386,2,   2256.9,2,   2362.9,2,  -999.0,    0.10,  0.0030,   0.047,   0.006
     316N145_5,  I08S,    13,  1,      5, SIH006,2,19941208,2132,-35.0000,  95.0028, 4290,34237.3,   3438.6,   1.1596,  34.7225,2,  34.7221,2,    202.9,2,  0.9079,    203.8,2,   114.77,2,    31.87,2,     0.00,2,     2.19,2,    0.022,3,    0.006,2,    0.029,2,   1.1890,4,     9.88,2,   -999.0,9,  -999.00,9,   5.213,4,   2261.4,2,   2363.1,2,  -999.0,    0.16,  0.0010,   0.027,   0.004
     316N145_5,  I08S,    13,  1,      4, SIH004,2,19941208,2132,-35.0000,  95.0028, 4290,38641.0,   3881.6,   1.0506,  34.7153,2,  34.7158,2,    202.8,2,  0.7567,    204.9,2,   119.12,2,    32.08,2,     0.00,2,     2.21,2,    0.008,2,    0.000,2,    0.118,4,   2.0270,3,    10.23,2,   -999.0,9,  -999.00,9,   8.678,3,   2265.5,2,   2382.9,2,  -999.0,    0.10,  0.0040,   0.027,   0.006
     316N145_5,  I08S,    13,  1,      3, SIH025,2,19941208,2132,-35.0000,  95.0028, 4290,42229.7,   4242.5,   1.0153,  34.7128,2,  34.7117,2,    204.7,2,  0.6838,    206.0,2,   121.25,2,    32.13,2,     0.00,2,     2.22,2, -999.000,9, -999.000,9,    0.001,2,   1.9260,2,    10.66,2,   -999.0,9,  -999.00,9,   8.280,2,   2265.9,2,   2371.3,2,  -999.0,    0.15,  0.0020,   0.043,   0.004
     316N145_5,  I08S,    13,  1,      2, SIH001,2,19941208,2132,-35.0000,  95.0028, 4290,44154.6,   4436.2,   1.0257,  34.7123,2,  34.7111,2,    206.0,2,  0.6725,    206.0,2,   121.65,2,    32.18,2,     0.00,2,     2.23,2,    0.019,2,    0.003,2,    0.017,2,   2.0390,3,     9.82,2,   -999.0,9,  -999.00,9,   8.701,3,   2266.9,2,   2374.5,2,  -999.0,    0.10,  0.0040,   0.044,   0.005
     316N145_5,  I08S,    13,  1,      1, SIH036,2,19941208,2132,-35.0000,  95.0028, 4290,44624.4,   4483.4,   1.0311,  34.7121,2,  34.7107,2,    207.4,2,  0.6724,    205.7,2,   121.29,2,    32.12,2,     0.00,2,     2.21,2,    0.013,2,    0.001,2,    0.140,4,   1.9500,2,    10.40,2,   -999.0,9,  -999.00,9,   8.373,2,   2266.7,6,   2391.8,2,  -999.0,    0.16,  0.0030,   0.023,   0.005
     316N145_5,  I08S,    14,  1,     24, SIH037,2,19941209,0434,-35.4972,  94.9917, 4090,  161.8,     11.2,  15.1339,  35.0795,2,  35.0785,2,    263.4,2, 15.1323,    259.2,2,     1.38,2,     4.40,2,     0.09,2,     0.49,2, -999.000,9, -999.000,9, -999.000,5,-999.0000,5,  -999.00,9,   -999.0,9,  -999.00,9,-999.000,9,   -999.0,9,   -999.0,9,  -999.0, -999.00,-999.0000,-999.000,-999.000
     316N145_5,  I08S,    14,  1,     23, SIH033,2,19941209,0434,-35.4972,  94.9917, 4090,  355.2,     30.6,  14.5032,  35.0650,2,  35.0695,2,    267.1,2, 14.4987,    264.7,2,     1.56,2,     4.50,2,     0.10,2,     0.49,2, -999.000,9, -999.000,9, -999.000,5,-999.0000,5,  -999.00,9,   -999.0,9,  -999.00,9,-999.000,9,   -999.0,9,   -999.0,9,  -999.0, -999.00,-999.0000,-999.000,-999.000
     316N145_5,  I08S,    14,  1,     22, SIH031,2,19941209,0434,-35.4972,  94.9917, 4090,  611.4,     56.3,  13.6244,  35.2511,2,  35.2497,2,    268.9,2, 13.6165,    260.4,2,     1.75,2,     3.22,2,     0.19,2,     0.42,2, -999.000,9, -999.000,9, -999.000,5,-999.0000,5,  -999.00,9,   -999.0,9,  -999.00,9,-999.000,9,   -999.0,9,   -999.0,9,  -999.0, -999.00,-999.0000,-999.000,-999.000
     316N145_5,  I08S,    14,  1,     21, SIH030,2,19941209,0434,-35.4972,  94.9917, 4090, 1116.0,    107.1,  12.6552,  35.1772,2,  35.1703,2,    253.8,2, 12.6408,    251.9,2,     2.28,2,     6.08,2,     0.27,2,     0.60,2, -999.000,9, -999.000,9, -999.000,5,-999.0000,5,  -999.00,9,   -999.0,9,  -999.00,9,-999.000,9,   -999.0,9,   -999.0,9,  -999.0, -999.00,-999.0000,-999.000,-999.000
     316N145_5,  I08S,    14,  1,     20, SIH028,2,19941209,0434,-35.4972,  94.9917, 4090, 2107.5,    206.8,  11.8725,  35.0702,2,  35.0695,2,    246.9,2, 11.8457,    247.1,2,     3.15,2,     8.96,2,     0.01,2,     0.74,2, -999.000,9, -999.000,9, -999.000,5,-999.0000,5,  -999.00,9,   -999.0,9,  -999.00,9,-999.000,9,   -999.0,9,   -999.0,9,  -999.0, -999.00,-999.0000,-999.000,-999.000
     316N145_5,  I08S,    14,  1,     19, SIH027,2,19941209,0434,-35.4972,  94.9917, 4090, 3122.2,    308.8,  11.1366,  34.9537,2,  34.9543,2,    251.7,2, 11.0981,    252.3,2,     3.67,2,    10.53,2,     0.01,2,     0.84,2, -999.000,9, -999.000,9, -999.000,5,-999.0000,5,  -999.00,9,   -999.0,9,  -999.00,9,-999.000,9,   -999.0,9,   -999.0,9,  -999.0, -999.00,-999.0000,-999.000,-999.000
     316N145_5,  I08S,    14,  1,     18, SIH003,2,19941209,0434,-35.4972,  94.9917, 4090, 4107.1,    407.9,  10.8690,  34.9295,2,  34.9282,2,    253.8,2, 10.8186,    259.5,2,     3.86,2,    10.54,2,     0.01,2,     0.84,2, -999.000,9, -999.000,9, -999.000,5,-999.0000,5,  -999.00,9,   -999.0,9,  -999.00,9,-999.000,9,   -999.0,9,   -999.0,9,  -999.0, -999.00,-999.0000,-999.000,-999.000
     316N145_5,  I08S,    14,  1,     17, SIH024,2,19941209,0434,-35.4972,  94.9917, 4090, 5109.3,    508.7,  10.3975,  34.8530,2,  34.8524,2,    250.2,2, 10.3362,    248.1,2,     4.39,2,    12.50,2,     0.00,2,     0.96,2, -999.000,9, -999.000,9, -999.000,5,-999.0000,5,  -999.00,9,   -999.0,9,  -999.00,9,-999.000,9,   -999.0,9,   -999.0,9,  -999.0, -999.00,-999.0000,-999.000,-999.000
     316N145_5,  I08S,    14,  1,     16, SIH022,2,19941209,0434,-35.4972,  94.9917, 4090, 6107.3,    609.0,   9.8439,  34.7635,2,  34.7632,2,    245.5,2,  9.7726,    244.9,2,     4.92,2,    14.34,2,     0.00,2,     1.07,2, -999.000,9, -999.000,9, -999.000,5,-999.0000,5,  -999.00,9,   -999.0,9,  -999.00,9,-999.000,9,   -999.0,9,   -999.0,9,  -999.0, -999.00,-999.0000,-999.000,-999.000
     316N145_5,  I08S,    14,  1,     15, SIH021,2,19941209,0434,-35.4972,  94.9917, 4090, 7105.4,    709.4,   9.0098,  34.6468,2,  34.6458,2,    236.0,2,  8.9308,    229.4,2,     7.15,2,    18.05,2,     0.00,2,     1.29,2, -999.000,9, -999.000,9, -999.000,5,-999.0000,5,  -999.00,9,   -999.0,9,  -999.00,9,-999.000,9,   -999.0,9,   -999.0,9,  -999.0, -999.00,-999.0000,-999.000,-999.000
     316N145_5,  I08S,    14,  1,     14, SIH002,2,19941209,0434,-35.4972,  94.9917, 4090, 8106.3,    810.1,   7.9552,  34.5457,2,  34.5447,2,    213.4,2,  7.8708,    210.4,2,    11.96,2,    22.28,2,     0.00,2,     1.55,2, -999.000,9, -999.000,9, -999.000,5,-999.0000,5,  -999.00,9,   -999.0,9,  -999.00,9,-999.000,9,   -999.0,9,   -999.0,9,  -999.0, -999.00,-999.0000,-999.000,-999.000
     316N145_5,  I08S,    14,  1,     13, SIH018,2,19941209,0434,-35.4972,  94.9917, 4090,10105.4,   1011.1,   5.0842,  34.3725,2,  34.3737,2,    198.3,2,  4.9995,    202.2,2,    28.55,2,    29.44,2,     0.00,2,     2.03,2, -999.000,9, -999.000,9, -999.000,5,-999.0000,5,  -999.00,9,   -999.0,9,  -999.00,9,-999.000,9,   -999.0,9,   -999.0,9,  -999.0, -999.00,-999.0000,-999.000,-999.000
     316N145_5,  I08S,    14,  1,     12, SIH016,2,19941209,0434,-35.4972,  94.9917, 4090,12100.4,   1211.8,   3.8715,  34.4187,2,  34.4192,2,    180.9,2,  3.7793,    178.4,2,    51.28,2,    33.14,2,     0.00,2,     2.31,2, -999.000,9, -999.000,9, -999.000,5,-999.0000,5,  -999.00,9,   -999.0,9,  -999.00,9,-999.000,9,   -999.0,9,   -999.0,9,  -999.0, -999.00,-999.0000,-999.000,-999.000
     316N145_5,  I08S,    14,  1,     11, SIH015,2,19941209,0434,-35.4972,  94.9917, 4090,15116.3,   1515.2,   3.2158,  34.5495,2,  34.5482,2,    155.0,2,  3.1043,    175.0,4,    75.37,2,    34.75,2,     0.00,2,     2.44,2, -999.000,9, -999.000,9, -999.000,5,-999.0000,5,  -999.00,9,   -999.0,9,  -999.00,9,-999.000,9,   -999.0,9,   -999.0,9,  -999.0, -999.00,-999.0000,-999.000,-999.000
     316N145_5,  I08S,    14,  1,     10, SIH013,2,19941209,0434,-35.4972,  94.9917, 4090,18144.3,   1819.7,   2.7365,  34.6374,2,  34.6386,2,    161.4,2,  2.6047,    161.0,2,    84.07,2,    33.87,2,     0.00,2,     2.37,2, -999.000,9, -999.000,9, -999.000,5,-999.0000,5,  -999.00,9,   -999.0,9,  -999.00,9,-999.000,9,   -999.0,9,   -999.0,9,  -999.0, -999.00,-999.0000,-999.000,-999.000
     316N145_5,  I08S,    14,  1,      9, SIH012,2,19941209,0434,-35.4972,  94.9917, 4090,21172.5,   2124.3,   2.4201,  34.6999,2,  34.7009,2,    171.7,2,  2.2662,    172.3,2,    88.34,2,    32.52,2,     0.00,2,     2.27,2, -999.000,9, -999.000,9, -999.000,5,-999.0000,5,  -999.00,9,   -999.0,9,  -999.00,9,-999.000,9,   -999.0,9,   -999.0,9,  -999.0, -999.00,-999.0000,-999.000,-999.000
     316N145_5,  I08S,    14,  1,      8, SIH010,2,19941209,0434,-35.4972,  94.9917, 4090,24188.5,   2427.7,   2.1602,  34.7374,2,  34.7406,2,    185.3,2,  1.9833,    187.5,2,    86.98,2,    30.96,2,     0.00,2,     2.14,2, -999.000,9, -999.000,9, -999.000,5,-999.0000,5,  -999.00,9,   -999.0,9,  -999.00,9,-999.000,9,   -999.0,9,   -999.0,9,  -999.0, -999.00,-999.0000,-999.000,-999.000
     316N145_5,  I08S,    14,  1,      7, SIH009,2,19941209,0434,-35.4972,  94.9917, 4090,27224.8,   2733.1,   1.8431,  34.7483,2,  34.7478,2,    195.1,2,  1.6439,    196.9,2,    93.47,2,    30.60,2,     0.00,2,     2.11,2, -999.000,9, -999.000,9, -999.000,5,-999.0000,5,  -999.00,9,   -999.0,9,  -999.00,9,-999.000,9,   -999.0,9,   -999.0,9,  -999.0, -999.00,-999.0000,-999.000,-999.000
     316N145_5,  I08S,    14,  1,      6, SIH038,2,19941209,0434,-35.4972,  94.9917, 4090,30270.8,   3039.5,   1.4735,  34.7370,2,  34.7374,2,    199.1,2,  1.2532,    201.1,2,   104.39,2,    31.08,2,     0.00,2,     2.14,2, -999.000,9, -999.000,9, -999.000,5,-999.0000,5,  -999.00,9,   -999.0,9,  -999.00,9,-999.000,9,   -999.0,9,   -999.0,9,  -999.0, -999.00,-999.0000,-999.000,-999.000
     316N145_5,  I08S,    14,  1,      5, SIH006,2,19941209,0434,-35.4972,  94.9917, 4090,33288.3,   3343.0,   1.1977,  34.7248,2,  34.7243,2,    203.0,2,  0.9545,    204.3,2,   113.09,2,    31.55,2,     0.00,2,     2.18,2, -999.000,9, -999.000,9, -999.000,5,-999.0000,5,  -999.00,9,   -999.0,9,  -999.00,9,-999.000,9,   -999.0,9,   -999.0,9,  -999.0, -999.00,-999.0000,-999.000,-999.000
     316N145_5,  I08S,    14,  1,      4, SIH004,2,19941209,0434,-35.4972,  94.9917, 4090,36320.6,   3648.1,   1.0731,  34.7175,2,  34.7176,2,    202.4,3,  0.8027,    205.2,2,   117.71,2,    31.87,2,     0.00,2,     2.20,2, -999.000,9, -999.000,9, -999.000,5,-999.0000,5,  -999.00,9,   -999.0,9,  -999.00,9,-999.000,9,   -999.0,9,   -999.0,9,  -999.0, -999.00,-999.0000,-999.000,-999.000
     316N145_5,  I08S,    14,  1,      3, SIH025,2,19941209,0434,-35.4972,  94.9917, 4090,38349.9,   3852.2,   1.0398,  34.7158,2,  34.7140,2,    203.9,2,  0.7493,    205.6,2,   119.07,2,    31.92,2,     0.00,2,     2.21,2, -999.000,9, -999.000,9, -999.000,5,-999.0000,5,  -999.00,9,   -999.0,9,  -999.00,9,-999.000,9,   -999.0,9,   -999.0,9,  -999.0, -999.00,-999.0000,-999.000,-999.000
     316N145_5,  I08S,    14,  1,      2, SIH001,2,19941209,0434,-35.4972,  94.9917, 4090,40384.5,   4056.9,   1.0092,  34.7131,2,  34.7138,2,    204.7,2,  0.6980,    206.2,2,   120.09,2,    32.04,2,     0.00,2,     2.22,2, -999.000,9, -999.000,9, -999.000,5,-999.0000,5,  -999.00,9,   -999.0,9,  -999.00,9,-999.000,9,   -999.0,9,   -999.0,9,  -999.0, -999.00,-999.0000,-999.000,-999.000
     316N145_5,  I08S,    14,  1,      1, SIH036,2,19941209,0434,-35.4972,  94.9917, 4090,41327.6,   4151.7,   1.0009,  34.7127,2,  34.7119,2,    205.3,2,  0.6797,    206.7,2,   120.79,2,    32.07,2,     0.00,2,     2.22,2, -999.000,9, -999.000,9, -999.000,5,-999.0000,5,  -999.00,9,   -999.0,9,  -999.00,9,-999.000,9,   -999.0,9,   -999.0,9,  -999.0, -999.00,-999.0000,-999.000,-999.000