BOTTLE,20090521WHPSIOdm
EXPOCODE,SECT_ID,STNNBR,CASTNO,SAMPNO,BTLNBR,BTLNBR_FLAG_W,DATE,TIME,LATITUDE,LONGITUDE,DEPTH,CTDRAW,CTDPRS,CTDTMP,CTDSAL,CTDSAL_FLAG_W,SALNTY,SALNTY_FLAG_W,CTDOXY,CTDOXY_FLAG_W,THETA,OXYGEN,OXYGEN_FLAG_W,SILCAT,SILCAT_FLAG_W,NITRAT,NITRAT_FLAG_W,NITRIT,NITRIT_FLAG_W,PHSPHT,PHSPHT_FLAG_W,CFC-11,CFC-11_FLAG_W,CFC-12,CFC-12_FLAG_W,TRITUM,TRITUM_FLAG_W,HELIUM,HELIUM_FLAG_W,DELHE3,DELHE3_FLAG_W,DELC14,DELC14_FLAG_W,DELC13,DELC13_FLAG_W,NEON,NEON_FLAG_W,TCARBN,TCARBN_FLAG_W,ALKALI,ALKALI_FLAG_W,C14ERR,DELHER,HELIER,NEONER,TRITER
,,,,,,,,,,,,,DBAR,IPTS-68,PSS-78,,PSS-78,,UMOL/KG,,IPTS-68,UMOL/KG,,UMOL/KG,,UMOL/KG,,UMOL/KG,,UMOL/KG,,PMOL/KG,,PMOL/KG,,TU,,NMOL/KG,,PERCNT,,/MILLE,,/MILLE,,NMOL/KG,,UMOL/KG,,UMOL/KG,,/MILLE,PERCNT,NMOL/KG,NMOL/KG,TU
     316N145_5,  I09S,   103,  1,     36, SIH035,2,19950106,2327,-56.1888, 114.9945, 4580,  167.1,     11.2,   2.6748,  33.8807,2,  33.8838,2,    333.7,2,  2.6742,    328.8,2,    13.25,2,    24.88,2,     0.24,2,     1.68,2,    6.070,2,    2.932,2,    0.356,2,   1.8390,2,    -1.54,2,   -999.0,9,  -999.00,9,   8.036,2,   -999.0,9,   -999.0,9,  -999.0,   70.13,  0.0030,   0.030,   0.007
     316N145_5,  I09S,   103,  1,     35, SIH032,2,19950106,2327,-56.1888, 114.9945, 4580,  372.1,     31.8,   2.6665,  33.8816,2,  33.8850,2,    335.8,2,  2.6647,    328.6,2,    13.25,2,    24.89,2,     0.23,2,     1.68,2, -999.000,9, -999.000,9, -999.000,5,-999.0000,5,  -999.00,9,   -999.0,9,  -999.00,9,-999.000,9,   -999.0,9,   -999.0,9,  -999.0, -999.00,-999.0000,-999.000,-999.000
     316N145_5,  I09S,   103,  1,     34, SIH029,2,19950106,2327,-56.1888, 114.9945, 4580,  617.1,     56.5,   2.6466,  33.8819,2,  33.8838,2,    339.2,2,  2.6434,    328.5,2,    13.41,2,    24.99,2,     0.24,2,     1.68,2,    6.089,2,    2.909,2,    0.531,2,   1.8200,2,    -1.85,2,   -999.0,9,  -999.00,9,   8.014,2,   -999.0,9,   -999.0,9,  -999.0,   40.13,  0.0030,   0.030,   0.038
     316N145_5,  I09S,   103,  1,     33, SIH026,2,19950106,2327,-56.1888, 114.9945, 4580,  868.9,     81.8,   2.5262,  33.8842,2,  33.8862,2,    336.2,2,  2.5217,    328.1,2,    14.35,2,    25.15,2,     0.24,2,     1.71,2, -999.000,9, -999.000,9, -999.000,5,-999.0000,5,  -999.00,9,   -999.0,9,  -999.00,9,-999.000,9,   -999.0,9,   -999.0,9,  -999.0, -999.00,-999.0000,-999.000,-999.000
     316N145_5,  I09S,   103,  1,     32, SIH023,2,19950106,2327,-56.1888, 114.9945, 4580, 1112.3,    106.3,   2.3420,  33.8866,2,  33.8895,2,    333.3,2,  2.3363,    329.0,2,    15.28,2,    25.31,2,     0.24,2,     1.73,2,    6.167,2,    2.939,2,    0.128,4,   1.8140,2,    -1.70,2,   -999.0,9,  -999.00,9,   7.993,2,   -999.0,9,   -999.0,9,  -999.0,   80.14,  0.0030,   0.030,   0.016
     316N145_5,  I09S,   103,  1,     31, SIH020,2,19950106,2327,-56.1888, 114.9945, 4580, 1610.3,    156.4,   0.7930,  33.9580,2,  33.9637,2,    329.7,2,  0.7865,    328.4,2,    26.89,2,    27.46,2,     0.25,2,     1.94,2,    6.207,2,    2.976,2,    0.225,2,   1.8510,2,    -1.49,2,   -999.0,9,  -999.00,9,   8.181,2,   -999.0,9,   -999.0,9,  -999.0,   20.13,  0.0040,   0.024,   0.005
     316N145_5,  I09S,   103,  1,     30, SIH017,2,19950106,2327,-56.1888, 114.9945, 4580, 2117.7,    207.4,   0.4283,  34.0260,2,  34.0296,2,    318.4,2,  0.4201,    316.3,2,    34.84,2,    29.07,2,     0.18,2,     2.01,2,    5.852,2,    2.804,2, -999.000,5,-999.0000,5,  -999.00,9,   -999.0,9,  -999.00,9,-999.000,9,   -999.0,9,   -999.0,9,  -999.0, -999.00,-999.0000,-999.000,-999.000
     316N145_5,  I09S,   103,  1,     29, SIH014,2,19950106,2327,-56.1888, 114.9945, 4580, 2617.5,    257.7,   1.5575,  34.2718,2,  34.2715,2,    228.6,2,  1.5447,    232.2,2,    52.07,2,    33.36,2,     0.01,2,     2.28,2,    2.914,2,    1.364,2,    0.078,4,   1.8470,2,     2.97,2,   -999.0,9,  -999.00,9,   8.153,2,   -999.0,9,   -999.0,9,  -999.0,    0.13,  0.0030,   0.030,   0.014
     316N145_5,  I09S,   103,  1,     28, SIH011,2,19950106,2327,-56.1888, 114.9945, 4580, 3114.9,    307.8,   1.8200,  34.3754,2,  34.3778,2,    196.5,2,  1.8039,    204.1,2,    61.11,2,    34.47,2,     0.00,2,     2.36,2,    1.893,2,    0.882,2, -999.000,5,-999.0000,5,  -999.00,9,   -999.0,9,  -999.00,9,-999.000,9,   -999.0,9,   -999.0,9,  -999.0, -999.00,-999.0000,-999.000,-999.000
     316N145_5,  I09S,   103,  1,     27, SIH008,2,19950106,2327,-56.1888, 114.9945, 4580, 3610.6,    357.6,   1.9475,  34.4415,2,  34.4445,2,    183.8,2,  1.9281,    190.3,2,    66.57,2,    34.83,2,     0.00,2,     2.38,2,    1.366,2,    0.630,2,    0.000,5,   1.8560,2,     5.92,2,   -999.0,9,  -999.00,9,   8.063,2,   -999.0,9,   -999.0,9,  -999.0,    0.13,  0.0030,   0.030,   0.000
     316N145_5,  I09S,   103,  1,     26, SIH005,2,19950106,2327,-56.1888, 114.9945, 4580, 4110.4,    407.9,   2.1008,  34.5003,2,  34.5027,2,    172.8,2,  2.0780,    181.5,2,    70.00,2,    34.53,2,     0.00,2,     2.37,2,    0.944,2,    0.437,2, -999.000,5,-999.0000,5,  -999.00,9,   -999.0,9,  -999.00,9,-999.000,9,   -999.0,9,   -999.0,9,  -999.0, -999.00,-999.0000,-999.000,-999.000
     316N145_5,  I09S,   103,  1,     25, SIH019,2,19950106,2327,-56.1888, 114.9945, 4580, 4618.0,    458.9,   2.1456,  34.5382,2,  34.5404,2,    172.8,2,  2.1195,    177.0,2,    72.35,2,    34.43,2,     0.00,2,     2.35,2,    0.726,2,    0.331,2,    0.068,2,   1.8830,2,     7.25,2,   -999.0,9,  -999.00,9,   8.161,2,   -999.0,9,   -999.0,9,  -999.0,    0.13,  0.0030,   0.030,   0.004
     316N145_5,  I09S,   103,  1,     24, SIH037,2,19950106,2327,-56.1888, 114.9945, 4580, 5111.5,    508.6,   2.2549,  34.5774,2,  34.5804,2,    170.0,2,  2.2253,    175.6,2,    73.45,2,    33.78,2,     0.00,2,     2.31,2,    0.485,2,    0.223,2, -999.000,5,-999.0000,5,  -999.00,9,   -999.0,9,  -999.00,9,-999.000,9,   -999.0,9,   -999.0,9,  -999.0, -999.00,-999.0000,-999.000,-999.000
     316N145_5,  I09S,   103,  1,     23, SIH033,2,19950106,2327,-56.1888, 114.9945, 4580, 6119.6,    610.0,   2.2441,  34.6204,2,  34.6223,2,    169.4,2,  2.2081,    176.4,2,    75.63,2,    33.23,2,     0.00,2,     2.28,2,    0.350,2,    0.164,2,    0.008,2,   1.8520,2,     8.45,2,   -999.0,9,  -999.00,9,   8.030,2,   -999.0,9,   -999.0,9,  -999.0,    0.16,  0.0030,   0.018,   0.003
     316N145_5,  I09S,   103,  1,     22, SIH031,2,19950106,2327,-56.1888, 114.9945, 4580, 7120.4,    710.6,   2.2066,  34.6539,2,  34.6555,2,    172.1,2,  2.1642,    177.9,2,    77.20,2,    32.69,2,     0.00,2,     2.23,2, -999.000,9, -999.000,9, -999.000,5,-999.0000,5,  -999.00,9,   -999.0,9,  -999.00,9,-999.000,9,   -999.0,9,   -999.0,9,  -999.0, -999.00,-999.0000,-999.000,-999.000
     316N145_5,  I09S,   103,  1,     21, SIH030,2,19950106,2327,-56.1888, 114.9945, 4580, 8115.5,    810.7,   2.1675,  34.6798,2,  34.6814,2,    175.9,2,  2.1188,    180.0,2,    78.45,2,    32.14,2,     0.00,2,     2.20,2,    0.232,2,    0.115,2,    0.004,4,   1.8660,2,     8.84,2,   -999.0,9,  -999.00,9,   8.069,2,   -999.0,9,   -999.0,9,  -999.0,    0.12,  0.0040,   0.070,   0.005
     316N145_5,  I09S,   103,  1,     20, SIH028,2,19950106,2327,-56.1888, 114.9945, 4580, 9127.9,    912.6,   2.1286,  34.7038,2,  34.7064,2,    177.3,2,  2.0732,    183.4,2,    79.54,2,    31.39,2,     0.00,2,     2.15,2, -999.000,9, -999.000,9, -999.000,5,-999.0000,5,  -999.00,9,   -999.0,9,  -999.00,9,-999.000,9,   -999.0,9,   -999.0,9,  -999.0, -999.00,-999.0000,-999.000,-999.000
     316N145_5,  I09S,   103,  1,     19, SIH027,2,19950106,2327,-56.1888, 114.9945, 4580,10138.2,   1014.2,   2.0465,  34.7162,2,  34.7191,2,    179.8,2,  1.9848,    185.5,2,    81.73,2,    31.10,2,     0.00,2,     2.14,2,    0.160,2,    0.071,2,    0.003,4,   1.8740,2,     9.30,2,   -999.0,9,  -999.00,9,   8.042,2,   -999.0,9,   -999.0,9,  -999.0,    0.13,  0.0030,   0.030,   0.005
     316N145_5,  I09S,   103,  1,     18, SIH003,2,19950106,2327,-56.1888, 114.9945, 4580,11143.0,   1115.3,   1.9727,  34.7293,2,  34.7337,2,    184.5,2,  1.9045,    189.2,2,    83.92,2,    30.86,2,     0.00,2,     2.11,2, -999.000,9, -999.000,9, -999.000,5,-999.0000,5,  -999.00,9,   -999.0,9,  -999.00,9,-999.000,9,   -999.0,9,   -999.0,9,  -999.0, -999.00,-999.0000,-999.000,-999.000
     316N145_5,  I09S,   103,  1,     17, SIH024,2,19950106,2327,-56.1888, 114.9945, 4580,12145.5,   1216.1,   1.9081,  34.7369,2,  34.7406,2,    188.2,2,  1.8333,    192.5,2,    85.02,2,    30.55,2,     0.00,2,     2.09,2,    0.115,2,    0.052,2,    0.099,4,   1.8580,2,     9.05,2,   -999.0,9,  -999.00,9,   8.055,2,   -999.0,9,   -999.0,9,  -999.0,    0.12,  0.0040,   0.057,   0.005
     316N145_5,  I09S,   103,  1,     16, SIH022,2,19950106,2327,-56.1888, 114.9945, 4580,14155.3,   1418.3,   1.7446,  34.7438,2,  34.7475,2,    190.1,2,  1.6569,    196.4,2,    89.70,2,    30.31,2,     0.00,2,     2.08,2,    0.094,2,    0.045,2,    0.075,2,   1.8730,2,     9.05,2,   -999.0,9,  -999.00,9,   8.077,2,   -999.0,9,   -999.0,9,  -999.0,    0.13,  0.0040,   0.024,   0.005
     316N145_5,  I09S,   103,  1,     15, SIH021,2,19950106,2327,-56.1888, 114.9945, 4580,16180.7,   1622.0,   1.5733,  34.7419,2,  34.7457,2,    192.7,2,  1.4725,    199.5,2,    94.24,2,    30.32,2,     0.00,2,     2.09,2,    0.086,2,    0.042,2,   -0.011,4,   1.8530,2,     9.04,2,   -999.0,9,  -999.00,9,   8.046,2,   -999.0,9,   -999.0,9,  -999.0,    0.12,  0.0040,   0.066,   0.008
     316N145_5,  I09S,   103,  1,     14, SIH002,2,19950106,2327,-56.1888, 114.9945, 4580,18184.5,   1823.5,   1.4061,  34.7373,2,  34.7400,2,    193.9,2,  1.2922,    201.4,2,    99.55,2,    30.57,2,     0.00,2,     2.10,2,    0.070,6,    0.032,6,   -0.111,4,   1.8980,2,     8.78,2,   -999.0,9,  -999.00,9,   8.204,2,   -999.0,9,   -999.0,9,  -999.0,    0.13,  0.0040,   0.024,   0.007
     316N145_5,  I09S,   103,  1,     13, SIH018,2,19950106,2327,-56.1888, 114.9945, 4580,20201.5,   2026.4,   1.2470,  34.7300,2,  34.7311,2,    198.0,2,  1.1196,    203.0,2,   104.71,2,    30.88,2,     0.00,2,     2.12,2, -999.000,9, -999.000,9,    0.049,2,   1.8840,2,     8.58,2,   -999.0,9,  -999.00,9,   8.155,2,   -999.0,9,   -999.0,9,  -999.0,    0.12,  0.0090,   0.061,   0.006
     316N145_5,  I09S,   103,  1,     12, SIH016,2,19950106,2327,-56.1888, 114.9945, 4580,22261.1,   2233.6,   1.0808,  34.7230,2,  34.7245,2,    199.6,2,  0.9396,    205.1,2,   110.49,2,    31.18,2,     0.00,2,     2.15,2,    0.068,2,    0.031,2, -999.000,5,-999.0000,5,  -999.00,9,   -999.0,9,  -999.00,9,-999.000,9,   -999.0,9,   -999.0,9,  -999.0, -999.00,-999.0000,-999.000,-999.000
     316N145_5,  I09S,   103,  1,     11, SIH015,2,19950106,2327,-56.1888, 114.9945, 4580,24270.6,   2435.7,   0.9135,  34.7135,2,  34.7125,2,    199.2,2,  0.7587,    207.0,2,   114.56,2,    31.48,2,     0.00,2,     2.17,2,    0.082,2,    0.041,2,    0.026,2,   1.8830,2,     8.79,2,   -999.0,9,  -999.00,9,   8.182,2,   -999.0,9,   -999.0,9,  -999.0,    0.13,  0.0030,   0.030,   0.018
     316N145_5,  I09S,   103,  1,     10, SIH013,2,19950106,2327,-56.1888, 114.9945, 4580,27351.3,   2745.6,   0.6560,  34.7004,2,  34.7009,2,    204.9,2,  0.4801,    210.8,2,   120.96,2,    31.74,2,     0.00,2,     2.20,2, -999.000,9, -999.000,9,    0.000,5,   1.8760,2,     8.16,2,   -999.0,9,  -999.00,9,   8.179,2,   -999.0,9,   -999.0,9,  -999.0,    0.13,  0.0040,   0.024,   0.000
     316N145_5,  I09S,   103,  1,      9, SIH012,2,19950106,2327,-56.1888, 114.9945, 4580,30431.2,   3055.4,   0.4739,  34.6921,2,  34.6940,2,    208.0,2,  0.2748,    213.5,3,   125.34,2,    31.88,2,     0.00,2,     2.21,2,    0.165,2,    0.083,2,    0.000,5,   1.8980,2,     7.50,2,   -999.0,9,  -999.00,9,   8.250,2,   -999.0,9,   -999.0,9,  -999.0,    0.13,  0.0030,   0.031,   0.000
     316N145_5,  I09S,   103,  1,      8, SIH010,2,19950106,2327,-56.1888, 114.9945, 4580,33457.6,   3359.8,   0.3099,  34.6865,2,  34.6871,2,    214.4,2,  0.0871,    219.7,2,   128.32,2,    32.09,2,     0.00,2,     2.22,2,    0.245,2,    0.125,2,    0.026,2,   1.8910,2,     6.80,2,   -999.0,9,  -999.00,9,   8.229,2,   -999.0,9,   -999.0,9,  -999.0,    0.12,  0.0070,   0.062,   0.006
     316N145_5,  I09S,   103,  1,      7, SIH009,2,19950106,2327,-56.1888, 114.9945, 4580,36487.5,   3664.6,   0.1929,  34.6817,2,  34.6810,2,    218.3,2, -0.0557,    224.1,2,   130.83,2,    32.15,2,     0.00,2,     2.22,2,    0.324,2,    0.165,2,    0.058,2,   1.9160,2,     6.61,2,   -999.0,9,  -999.00,9,   8.344,2,   -999.0,9,   -999.0,9,  -999.0,    0.13,  0.0040,   0.024,   0.006
     316N145_5,  I09S,   103,  1,      6, SIH038,2,19950106,2327,-56.1888, 114.9945, 4580,38546.7,   3871.7,   0.1432,  34.6802,2,  34.6810,2,    221.1,2, -0.1243,    225.5,2,   132.56,2,    32.10,2,     0.00,2,     2.22,2,    0.387,2,    0.190,2,    0.204,4,   1.8750,2,     6.79,2,   -999.0,9,  -999.00,9,   8.178,2,   -999.0,9,   -999.0,9,  -999.0,    0.12,  0.0040,   0.072,   0.017
     316N145_5,  I09S,   103,  1,      5, SIH006,2,19950106,2327,-56.1888, 114.9945, 4580,40605.1,   4078.8,   0.0936,  34.6781,2,  34.6781,2,    223.8,2, -0.1933,    228.0,2,   133.19,2,    32.10,2,     0.00,2,     2.22,2, -999.000,9, -999.000,9, -999.000,5,-999.0000,5,  -999.00,9,   -999.0,9,  -999.00,9,-999.000,9,   -999.0,9,   -999.0,9,  -999.0, -999.00,-999.0000,-999.000,-999.000
     316N145_5,  I09S,   103,  1,      4, SIH004,2,19950106,2327,-56.1888, 114.9945, 4580,42644.6,   4283.9,   0.0326,  34.6756,2,  34.6757,2,    228.9,2, -0.2735,    230.8,2,   134.77,2,    31.95,2,     0.00,2,     2.22,2,    0.588,2,    0.277,2,    0.095,2,   1.9670,3,     6.26,2,   -999.0,9,  -999.00,9,   8.563,3,   -999.0,9,   -999.0,9,  -999.0,    0.12,  0.0040,   0.065,   0.006
     316N145_5,  I09S,   103,  1,      3, SIH025,2,19950106,2327,-56.1888, 114.9945, 4580,44158.4,   4436.2,  -0.0043,  34.6735,2,  34.6751,2,    229.7,2, -0.3252,    232.4,2,   137.12,2,    31.82,2,     0.00,2,     2.22,2, -999.000,9, -999.000,9, -999.000,5,-999.0000,5,  -999.00,9,   -999.0,9,  -999.00,9,-999.000,9,   -999.0,9,   -999.0,9,  -999.0, -999.00,-999.0000,-999.000,-999.000
     316N145_5,  I09S,   103,  1,      2, SIH001,2,19950106,2327,-56.1888, 114.9945, 4580,45392.9,   4560.4,  -0.0197,  34.6734,2,  34.6741,2,    230.5,2, -0.3534,    232.9,2,   139.63,2,    31.96,2,     0.00,2,     2.22,2,    0.826,2,    0.387,2,    0.053,2,   1.8780,2,     5.82,2,   -999.0,9,  -999.00,9,   8.250,2,   -999.0,9,   -999.0,9,  -999.0,    0.12,  0.0070,   0.056,   0.006
     316N145_5,  I09S,   103,  1,      1, SIH036,2,19950106,2327,-56.1888, 114.9945, 4580,45896.3,   4611.0,  -0.0139,  34.6738,2,  34.6737,2,    229.0,2, -0.3533,    232.6,2,   139.75,2,    32.04,2,     0.00,2,     2.21,2,    0.815,2,    0.374,2,    0.138,2,   1.8750,2,     6.08,2,   -999.0,9,  -999.00,9,   8.201,2,   -999.0,9,   -999.0,9,  -999.0,    0.13,  0.0030,   0.030,   0.007