BOTTLE,20090521WHPSIOdm
EXPOCODE,SECT_ID,STNNBR,CASTNO,SAMPNO,BTLNBR,BTLNBR_FLAG_W,DATE,TIME,LATITUDE,LONGITUDE,DEPTH,CTDRAW,CTDPRS,CTDTMP,CTDSAL,CTDSAL_FLAG_W,SALNTY,SALNTY_FLAG_W,CTDOXY,CTDOXY_FLAG_W,THETA,OXYGEN,OXYGEN_FLAG_W,SILCAT,SILCAT_FLAG_W,NITRAT,NITRAT_FLAG_W,NITRIT,NITRIT_FLAG_W,PHSPHT,PHSPHT_FLAG_W,CFC-11,CFC-11_FLAG_W,CFC-12,CFC-12_FLAG_W,TRITUM,TRITUM_FLAG_W,HELIUM,HELIUM_FLAG_W,DELHE3,DELHE3_FLAG_W,DELC14,DELC14_FLAG_W,DELC13,DELC13_FLAG_W,NEON,NEON_FLAG_W,TCARBN,TCARBN_FLAG_W,ALKALI,ALKALI_FLAG_W,C14ERR,DELHER,HELIER,NEONER,TRITER
,,,,,,,,,,,,,DBAR,IPTS-68,PSS-78,,PSS-78,,UMOL/KG,,IPTS-68,UMOL/KG,,UMOL/KG,,UMOL/KG,,UMOL/KG,,UMOL/KG,,PMOL/KG,,PMOL/KG,,TU,,NMOL/KG,,PERCNT,,/MILLE,,/MILLE,,NMOL/KG,,UMOL/KG,,UMOL/KG,,/MILLE,PERCNT,NMOL/KG,NMOL/KG,TU
     316N145_5,  I08S,    15,  1,     24, SIH037,2,19941209,1127,-36.0167,  95.0112, 4285,  175.3,     12.6,  15.0615,  35.0456,2,-999.0000,9,    269.3,2, 15.0596,    270.7,2,     1.26,2,     4.67,2,     0.10,2,     0.51,2, -999.000,9, -999.000,9, -999.000,5,-999.0000,5,  -999.00,9,   -999.0,9,  -999.00,9,-999.000,9,   -999.0,9,   -999.0,9,  -999.0, -999.00,-999.0000,-999.000,-999.000
     316N145_5,  I08S,    15,  1,     23, SIH033,2,19941209,1127,-36.0167,  95.0112, 4285,  326.3,     27.8,  14.6989,  35.0586,2,  35.0581,2,    271.7,2, 14.6948,    263.1,2,     1.42,2,     4.40,2,     0.10,2,     0.49,2,    3.139,2,    1.669,2, -999.000,5,-999.0000,5,  -999.00,9,     75.7,2,     1.66,2,-999.000,9,   2064.4,2,   -999.0,9,     3.0, -999.00,-999.0000,-999.000,-999.000
     316N145_5,  I08S,    15,  1,     22, SIH031,2,19941209,1127,-36.0167,  95.0112, 4285,  635.1,     58.8,  12.8888,  35.0896,2,  35.0852,2,    274.5,2, 12.8808,    273.3,2,     2.06,2,     4.95,2,     0.12,2,     0.54,2, -999.000,9, -999.000,9, -999.000,5,-999.0000,5,  -999.00,9,     77.5,2,     1.60,2,-999.000,9,   2072.4,2,   2318.3,2,     4.2, -999.00,-999.0000,-999.000,-999.000
     316N145_5,  I08S,    15,  1,     21, SIH030,2,19941209,1127,-36.0167,  95.0112, 4285, 1118.6,    107.4,  12.3713,  35.1301,2,  35.1354,2,    250.9,2, 12.3570,    253.3,2,     2.23,2,     6.12,2,     0.28,2,     0.62,2,    3.289,2,    1.694,2, -999.000,5,-999.0000,5,  -999.00,9,     84.4,2,     1.41,2,-999.000,9,   2087.8,2,   2328.8,2,     3.0, -999.00,-999.0000,-999.000,-999.000
     316N145_5,  I08S,    15,  1,     20, SIH028,2,19941209,1127,-36.0167,  95.0112, 4285, 2127.4,    208.9,  11.2768,  34.9791,2,  34.9803,2,    246.9,2, 11.2506,    254.6,2,     3.68,2,     9.83,2,     0.01,2,     0.82,2,    3.361,2,    1.771,2, -999.000,5,-999.0000,5,  -999.00,9,     77.3,2,     1.32,2,-999.000,9,   2096.0,2,   2309.4,2,     2.9, -999.00,-999.0000,-999.000,-999.000
     316N145_5,  I08S,    15,  1,     19, SIH027,2,19941209,1127,-36.0167,  95.0112, 4285, 3129.9,    309.7,  11.0214,  34.9498,2,  34.9508,2,    262.2,2, 10.9830,    258.2,2,     4.01,2,    10.34,2,     0.01,2,     0.84,2,    3.405,2,    1.772,2, -999.000,5,-999.0000,5,  -999.00,9,     70.0,2,     1.26,2,-999.000,9,   2095.4,2,   2311.4,2,     3.3, -999.00,-999.0000,-999.000,-999.000
     316N145_5,  I08S,    15,  1,     18, SIH003,2,19941209,1127,-36.0167,  95.0112, 4285, 4111.2,    408.4,  10.6897,  34.9046,2,  34.9054,2,    319.6,2, 10.6399,    258.0,2,     3.67,2,    10.69,2,     0.01,2,     0.87,2, -999.000,9, -999.000,9, -999.000,5,-999.0000,5,  -999.00,9,     57.6,2,     1.43,3,-999.000,9,   2096.3,2,   -999.0,9,     3.5, -999.00,-999.0000,-999.000,-999.000
     316N145_5,  I08S,    15,  1,     17, SIH024,2,19941209,1127,-36.0167,  95.0112, 4285, 5119.3,    509.8,  10.2320,  34.8272,2,  34.8281,2,    251.6,2, 10.1712,    251.3,2,     4.33,2,    12.54,2,     0.01,2,     0.98,2,    3.384,2,    1.723,2, -999.000,5,-999.0000,5,  -999.00,9,     61.3,2,     1.34,2,-999.000,9,   2104.8,2,   2297.1,2,     3.4, -999.00,-999.0000,-999.000,-999.000
     316N145_5,  I08S,    15,  1,     16, SIH022,2,19941209,1127,-36.0167,  95.0112, 4285, 6110.2,    609.4,   9.5397,  34.7187,2,  34.7158,2,    245.5,2,  9.4698,    239.5,2,     5.13,2,    15.57,2,     0.00,2,     1.15,2,    3.010,2,    1.514,2, -999.000,5,-999.0000,5,  -999.00,9,     60.8,2,     1.31,2,-999.000,9,   2115.2,2,   2300.4,2,     5.2, -999.00,-999.0000,-999.000,-999.000
     316N145_5,  I08S,    15,  1,     15, SIH021,2,19941209,1127,-36.0167,  95.0112, 4285, 7112.3,    710.2,   8.7232,  34.6147,2,  34.6132,2,    230.7,2,  8.6456,    224.2,2,     7.90,2,    19.21,2,     0.00,2,     1.38,2,    2.331,2,    1.175,2,    0.000,5,   1.8170,2,     1.39,2,     33.1,2,     1.27,2,   7.729,2,   2128.8,2,   2288.9,2,     4.1,    0.17,  0.0030,   0.042,   0.000
     316N145_5,  I08S,    15,  1,     14, SIH002,2,19941209,1127,-36.0167,  95.0112, 4285, 8122.2,    811.8,   7.6707,  34.5226,2,  34.5231,2,    210.8,2,  7.5879,    207.9,2,    13.27,2,    23.15,2,     0.00,2,     1.62,2,    1.582,6,    0.808,6, -999.000,5,-999.0000,5,  -999.00,9,     -9.1,2,     1.18,2,-999.000,9,   2148.2,2,   2290.0,2,     3.3, -999.00,-999.0000,-999.000,-999.000
     316N145_5,  I08S,    15,  1,     13, SIH018,2,19941209,1127,-36.0167,  95.0112, 4285,10125.5,   1013.3,   4.9665,  34.3767,2,  34.3778,2,    198.6,2,  4.8824,    198.2,2,    30.84,2,    29.91,2,     0.00,2,     2.09,2,    0.738,2,    0.366,2, -999.000,5,-999.0000,5,  -999.00,9,    -86.7,2,     0.97,2,-999.000,9,   2187.4,2,   -999.0,9,     5.0, -999.00,-999.0000,-999.000,-999.000
     316N145_5,  I08S,    15,  1,     12, SIH016,2,19941209,1127,-36.0167,  95.0112, 4285,12128.1,   1214.7,   3.8193,  34.4178,2,  34.4186,2,    181.6,2,  3.7273,    178.4,2,    51.50,2,    33.07,2,     0.00,2,     2.32,2,    0.262,2,    0.127,2, -999.000,5,-999.0000,5,  -999.00,9,   -117.0,2,     0.69,2,-999.000,9,   2222.4,2,   2313.9,2,     2.6, -999.00,-999.0000,-999.000,-999.000
     316N145_5,  I08S,    15,  1,     11, SIH015,3,19941209,1127,-36.0167,  95.0112, 4285,15127.6,   1516.4,   3.2135,  34.5447,2,  34.6620,4,    158.0,2,  3.1019,    176.7,4,    53.93,4,    27.80,4,     0.03,4,     1.98,4, -999.000,9, -999.000,9, -999.000,5,-999.0000,5,  -999.00,9,   -999.0,9,  -999.00,9,-999.000,9,   2215.4,3,   2333.8,3,  -999.0, -999.00,-999.0000,-999.000,-999.000
     316N145_5,  I08S,    15,  1,     10, SIH013,2,19941209,1127,-36.0167,  95.0112, 4285,18157.8,   1821.2,   2.6904,  34.6305,2,  34.6311,2,    166.9,2,  2.5591,    165.3,2,    80.12,2,    33.56,2,     0.00,2,     2.35,2,    0.032,2,    0.012,2, -999.000,5,-999.0000,5,  -999.00,9,   -999.0,9,  -999.00,9,-999.000,9,   2256.3,2,   2340.6,2,  -999.0, -999.00,-999.0000,-999.000,-999.000
     316N145_5,  I08S,    15,  1,      9, SIH012,2,19941209,1127,-36.0167,  95.0112, 4285,21212.8,   2128.5,   2.3942,  34.7036,2,  34.7044,2,    176.9,2,  2.2403,    176.6,2,    84.34,2,    32.00,2,     0.00,2,     2.23,2,    0.017,2,    0.005,2, -999.000,5,-999.0000,5,  -999.00,9,   -999.0,9,  -999.00,9,-999.000,9,   2254.6,2,   2350.3,2,  -999.0, -999.00,-999.0000,-999.000,-999.000
     316N145_5,  I08S,    15,  1,      8, SIH010,2,19941209,1127,-36.0167,  95.0112, 4285,24120.6,   2421.0,   2.1396,  34.7395,2,  34.7414,2,    188.3,2,  1.9636,    188.9,2,    86.12,2,    30.76,2,     0.00,2,     2.13,2,    0.016,2,    0.007,2, -999.000,5,-999.0000,5,  -999.00,9,   -999.0,9,  -999.00,9,-999.000,9,   2249.1,2,   2353.8,2,  -999.0, -999.00,-999.0000,-999.000,-999.000
     316N145_5,  I08S,    15,  1,      7, SIH009,2,19941209,1127,-36.0167,  95.0112, 4285,27332.6,   2744.1,   1.8198,  34.7474,2,  34.7480,2,    196.0,2,  1.6201,    196.4,2,    93.92,2,    30.54,2,     0.00,2,     2.13,2,    0.008,2,    0.000,2, -999.000,5,-999.0000,5,  -999.00,9,   -999.0,9,  -999.00,9,-999.000,9,   2250.2,2,   2360.1,2,  -999.0, -999.00,-999.0000,-999.000,-999.000
     316N145_5,  I08S,    15,  1,      6, SIH038,2,19941209,1127,-36.0167,  95.0112, 4285,30111.5,   3023.6,   1.4946,  34.7376,2,  34.7382,2,    200.5,2,  1.2753,    200.8,2,   103.50,2,    30.94,2,     0.00,2,     2.15,2,    0.008,2,    0.004,2, -999.000,5,-999.0000,5,  -999.00,9,   -999.0,9,  -999.00,9,-999.000,9,   2253.6,2,   2360.6,2,  -999.0, -999.00,-999.0000,-999.000,-999.000
     316N145_5,  I08S,    15,  1,      5, SIH006,2,19941209,1127,-36.0167,  95.0112, 4285,32970.3,   3311.1,   1.2235,  34.7261,2,  34.7264,2,    202.9,2,  0.9828,    203.8,2,   111.79,2,    31.39,2,     0.00,2,     2.19,2,    0.027,2,    0.010,2, -999.000,5,-999.0000,5,  -999.00,9,   -999.0,9,  -999.00,9,-999.000,9,   2257.8,2,   2369.7,2,  -999.0, -999.00,-999.0000,-999.000,-999.000
     316N145_5,  I08S,    15,  1,      4, SIH004,2,19941209,1127,-36.0167,  95.0112, 4285,36970.0,   3713.5,   1.0501,  34.7163,2,  34.7174,2,    205.3,2,  0.7736,    205.5,2,   118.13,2,    31.78,2,     0.00,2,     2.21,2,    0.017,2,    0.004,2, -999.000,5,-999.0000,5,  -999.00,9,   -999.0,9,  -999.00,9,-999.000,9,   2262.9,2,   2369.6,2,  -999.0, -999.00,-999.0000,-999.000,-999.000
     316N145_5,  I08S,    15,  1,      3, SIH025,2,19941209,1127,-36.0167,  95.0112, 4285,40596.7,   4078.3,   1.0016,  34.7125,2,  34.7123,2,    206.1,2,  0.6883,    206.0,2,   120.56,2,    32.03,2,     0.00,2,     2.23,2,    0.016,2,    0.004,2, -999.000,5,-999.0000,5,  -999.00,9,   -999.0,9,  -999.00,9,-999.000,9,   2266.6,2,   2377.7,2,  -999.0, -999.00,-999.0000,-999.000,-999.000
     316N145_5,  I08S,    15,  1,      2, SIH001,2,19941209,1127,-36.0167,  95.0112, 4285,42555.5,   4275.3,   0.9979,  34.7112,2,  34.7115,2,    206.7,2,  0.6634,    206.5,2,   121.04,2,    32.07,2,     0.00,2,     2.23,2,    0.013,2,    0.005,2, -999.000,5,-999.0000,5,  -999.00,9,   -999.0,9,  -999.00,9,-999.000,9,   2266.5,2,   2384.2,2,  -999.0, -999.00,-999.0000,-999.000,-999.000
     316N145_5,  I08S,    15,  1,      1, SIH036,2,19941209,1127,-36.0167,  95.0112, 4285,43321.7,   4352.4,   0.9999,  34.7110,2,  34.7166,3,    206.0,3,  0.6569,    206.7,2,   121.39,2,    32.08,2,     0.00,2,     2.24,2, -999.000,9, -999.000,9, -999.000,5,-999.0000,5,  -999.00,9,   -999.0,9,  -999.00,9,-999.000,9,   2267.7,6,   2375.1,2,  -999.0, -999.00,-999.0000,-999.000,-999.000
     316N145_5,  I08S,    16,  1,     24, SIH037,2,19941209,1826,-36.4972,  95.0028, 4230,  170.0,     11.9,  14.5753,  35.0283,2,  35.0281,2,    272.2,2, 14.5736,    261.1,2,     1.39,2,     4.94,2,     0.11,2,     0.52,2,    3.182,2,    1.692,2, -999.000,5,-999.0000,5,  -999.00,9,   -999.0,9,  -999.00,9,-999.000,9,   -999.0,9,   -999.0,9,  -999.0, -999.00,-999.0000,-999.000,-999.000
     316N145_5,  I08S,    16,  1,     23, SIH033,2,19941209,1826,-36.4972,  95.0028, 4230,  371.4,     32.1,  14.3610,  35.0250,2,  35.0248,2,    277.7,2, 14.3563,    262.9,2,     1.40,2,     4.82,2,     0.11,2,     0.51,2,    3.209,2,    1.674,2, -999.000,5,-999.0000,5,  -999.00,9,   -999.0,9,  -999.00,9,-999.000,9,   -999.0,9,   -999.0,9,  -999.0, -999.00,-999.0000,-999.000,-999.000
     316N145_5,  I08S,    16,  1,     22, SIH031,2,19941209,1826,-36.4972,  95.0028, 4230,  620.6,     57.2,  13.8744,  35.0197,2,  35.0187,2,    280.9,2, 13.8663,    264.6,2,     1.72,2,     5.37,2,     0.12,2,     0.55,2,    3.254,2,    1.722,2, -999.000,5,-999.0000,5,  -999.00,9,   -999.0,9,  -999.00,9,-999.000,9,   -999.0,9,   -999.0,9,  -999.0, -999.00,-999.0000,-999.000,-999.000
     316N145_5,  I08S,    16,  1,     21, SIH030,2,19941209,1826,-36.4972,  95.0028, 4230, 1117.7,    107.2,  11.8717,  34.9987,2,  34.9982,2,    271.4,2, 11.8578,    264.6,2,     3.01,2,     7.31,2,     0.22,2,     0.70,2,    3.462,6,    1.824,6, -999.000,5,-999.0000,5,  -999.00,9,   -999.0,9,  -999.00,9,-999.000,9,   -999.0,9,   -999.0,9,  -999.0, -999.00,-999.0000,-999.000,-999.000
     316N145_5,  I08S,    16,  1,     20, SIH028,2,19941209,1826,-36.4972,  95.0028, 4230, 2114.7,    207.4,  11.3077,  34.9838,2,  34.9833,2,    257.2,2, 11.2816,    254.1,2,     3.66,2,     9.84,2,     0.01,2,     0.81,2,    3.386,2,    1.800,2, -999.000,5,-999.0000,5,  -999.00,9,   -999.0,9,  -999.00,9,-999.000,9,   -999.0,9,   -999.0,9,  -999.0, -999.00,-999.0000,-999.000,-999.000
     316N145_5,  I08S,    16,  1,     19, SIH027,2,19941209,1826,-36.4972,  95.0028, 4230, 3110.9,    307.6,  11.0531,  34.9529,2,  34.9532,2,    260.3,2, 11.0149,    258.5,2,     3.83,2,    10.17,2,     0.01,2,     0.83,2, -999.000,9, -999.000,9, -999.000,5,-999.0000,5,  -999.00,9,   -999.0,9,  -999.00,9,-999.000,9,   -999.0,9,   -999.0,9,  -999.0, -999.00,-999.0000,-999.000,-999.000
     316N145_5,  I08S,    16,  1,     18, SIH003,2,19941209,1826,-36.4972,  95.0028, 4230, 4110.4,    408.1,  10.7458,  34.9028,2,  34.9028,2,    253.4,2, 10.6958,    251.1,2,     4.00,2,    11.33,2,     0.01,2,     0.90,2,    3.303,2,    1.709,2, -999.000,5,-999.0000,5,  -999.00,9,   -999.0,9,  -999.00,9,-999.000,9,   -999.0,9,   -999.0,9,  -999.0, -999.00,-999.0000,-999.000,-999.000
     316N145_5,  I08S,    16,  1,     17, SIH024,2,19941209,1826,-36.4972,  95.0028, 4230, 5095.4,    507.2,  10.3074,  34.8335,2,  34.8332,2,    251.3,2, 10.2466,    246.3,2,     4.81,2,    13.03,2,     0.01,2,     1.01,2,    3.173,2,    1.630,2, -999.000,5,-999.0000,5,  -999.00,9,   -999.0,9,  -999.00,9,-999.000,9,   -999.0,9,   -999.0,9,  -999.0, -999.00,-999.0000,-999.000,-999.000
     316N145_5,  I08S,    16,  1,     16, SIH022,2,19941209,1826,-36.4972,  95.0028, 4230, 6092.4,    607.4,   9.7519,  34.7494,2,  34.7512,2,    239.7,2,  9.6812,    237.6,2,     5.93,2,    15.19,2,     0.00,2,     1.14,2,    2.901,2,    1.479,2, -999.000,5,-999.0000,5,  -999.00,9,   -999.0,9,  -999.00,9,-999.000,9,   -999.0,9,   -999.0,9,  -999.0, -999.00,-999.0000,-999.000,-999.000
     316N145_5,  I08S,    16,  1,     15, SIH021,2,19941209,1826,-36.4972,  95.0028, 4230, 7089.7,    707.7,   8.8611,  34.6359,2,  34.6370,2,    225.8,2,  8.7830,    223.0,2,     8.35,2,    18.71,2,     0.00,2,     1.36,2,    2.289,6,    1.154,6, -999.000,5,-999.0000,5,  -999.00,9,   -999.0,9,  -999.00,9,-999.000,9,   -999.0,9,   -999.0,9,  -999.0, -999.00,-999.0000,-999.000,-999.000
     316N145_5,  I08S,    16,  1,     14, SIH002,2,19941209,1826,-36.4972,  95.0028, 4230, 8075.4,    806.9,   7.7112,  34.5301,2,  34.5303,2,    210.0,2,  7.6286,    208.3,2,    13.47,2,    22.73,2,     0.00,2,     1.61,2,    1.631,2,    0.810,2, -999.000,5,-999.0000,5,  -999.00,9,   -999.0,9,  -999.00,9,-999.000,9,   -999.0,9,   -999.0,9,  -999.0, -999.00,-999.0000,-999.000,-999.000
     316N145_5,  I08S,    16,  1,     13, SIH018,2,19941209,1826,-36.4972,  95.0028, 4230,10077.4,   1008.2,   4.9569,  34.3588,2,  34.3596,2,    205.2,2,  4.8734,    220.3,4,    27.88,2,    29.05,2,     0.00,2,     2.03,2,    1.067,2,    0.525,2, -999.000,5,-999.0000,5,  -999.00,9,   -999.0,9,  -999.00,9,-999.000,9,   -999.0,9,   -999.0,9,  -999.0, -999.00,-999.0000,-999.000,-999.000
     316N145_5,  I08S,    16,  1,     12, SIH016,2,19941209,1826,-36.4972,  95.0028, 4230,12057.8,   1207.4,   3.8676,  34.4082,2,  34.4080,2,    181.1,2,  3.7758,    181.6,2,    49.01,2,    32.45,2,     0.00,2,     2.29,2,    0.334,2,    0.255,2, -999.000,5,-999.0000,5,  -999.00,9,   -999.0,9,  -999.00,9,-999.000,9,   -999.0,9,   -999.0,9,  -999.0, -999.00,-999.0000,-999.000,-999.000
     316N145_5,  I08S,    16,  1,     11, SIH015,2,19941209,1826,-36.4972,  95.0028, 4230,15072.7,   1510.7,   3.2175,  34.5423,2,  34.5429,2,    157.8,2,  3.1063,    156.3,2,    73.80,2,    34.18,2,     0.00,2,     2.43,2,   -0.001,4,    0.055,2, -999.000,5,-999.0000,5,  -999.00,9,   -999.0,9,  -999.00,9,-999.000,9,   -999.0,9,   -999.0,9,  -999.0, -999.00,-999.0000,-999.000,-999.000
     316N145_5,  I08S,    16,  1,     10, SIH013,2,19941209,1826,-36.4972,  95.0028, 4230,18115.5,   1816.7,   2.7652,  34.6277,2,  34.6280,2,    161.5,2,  2.6333,    160.6,2,    82.76,2,    33.56,2,     0.00,2,     2.38,2,    0.022,6,    0.004,6, -999.000,5,-999.0000,5,  -999.00,9,   -999.0,9,  -999.00,9,-999.000,9,   -999.0,9,   -999.0,9,  -999.0, -999.00,-999.0000,-999.000,-999.000
     316N145_5,  I08S,    16,  1,      9, SIH012,2,19941209,1826,-36.4972,  95.0028, 4230,21133.0,   2120.3,   2.4164,  34.6999,2,  34.7005,2,    175.3,2,  2.2629,    174.7,2,    85.48,2,    31.88,2,     0.00,2,     2.25,2,    0.019,2,    0.019,2, -999.000,5,-999.0000,5,  -999.00,9,   -999.0,9,  -999.00,9,-999.000,9,   -999.0,9,   -999.0,9,  -999.0, -999.00,-999.0000,-999.000,-999.000
     316N145_5,  I08S,    16,  1,      8, SIH010,2,19941209,1826,-36.4972,  95.0028, 4230,24133.0,   2422.0,   2.1558,  34.7373,2,  34.7382,2,    187.8,2,  1.9794,    187.3,2,    86.61,2,    30.48,2,     0.00,2,     2.14,2,    0.008,2,    0.002,2, -999.000,5,-999.0000,5,  -999.00,9,   -999.0,9,  -999.00,9,-999.000,9,   -999.0,9,   -999.0,9,  -999.0, -999.00,-999.0000,-999.000,-999.000
     316N145_5,  I08S,    16,  1,      7, SIH009,2,19941209,1826,-36.4972,  95.0028, 4230,27183.5,   2728.9,   1.8420,  34.7480,2,  34.7476,2,    195.9,2,  1.6432,    195.5,2,    93.16,2,    30.19,2,     0.00,2,     2.12,2, -999.000,9, -999.000,9, -999.000,5,-999.0000,5,  -999.00,9,   -999.0,9,  -999.00,9,-999.000,9,   -999.0,9,   -999.0,9,  -999.0, -999.00,-999.0000,-999.000,-999.000
     316N145_5,  I08S,    16,  1,      6, SIH038,2,19941209,1826,-36.4972,  95.0028, 4230,30221.0,   3034.4,   1.4672,  34.7371,2,  34.7366,2,    200.1,2,  1.2476,    202.4,2,   104.36,2,    30.60,2,     0.00,2,     2.15,2, -999.000,9, -999.000,9, -999.000,5,-999.0000,5,  -999.00,9,   -999.0,9,  -999.00,9,-999.000,9,   -999.0,9,   -999.0,9,  -999.0, -999.00,-999.0000,-999.000,-999.000
     316N145_5,  I08S,    16,  1,      5, SIH006,2,19941209,1826,-36.4972,  95.0028, 4230,33280.2,   3342.1,   1.2002,  34.7250,2,  34.7245,2,    203.5,2,  0.9570,    203.9,2,   112.69,2,    31.08,2,     0.00,2,     2.18,2, -999.000,9, -999.000,9, -999.000,5,-999.0000,5,  -999.00,9,   -999.0,9,  -999.00,9,-999.000,9,   -999.0,9,   -999.0,9,  -999.0, -999.00,-999.0000,-999.000,-999.000
     316N145_5,  I08S,    16,  1,      4, SIH004,2,19941209,1826,-36.4972,  95.0028, 4230,36826.8,   3698.9,   1.0385,  34.7154,2,  34.7144,2,    204.7,2,  0.7638,    205.1,2,   118.45,2,    31.55,2,     0.00,2,     2.21,2, -999.000,9, -999.000,9, -999.000,5,-999.0000,5,  -999.00,9,   -999.0,9,  -999.00,9,-999.000,9,   -999.0,9,   -999.0,9,  -999.0, -999.00,-999.0000,-999.000,-999.000
     316N145_5,  I08S,    16,  1,      3, SIH025,2,19941209,1826,-36.4972,  95.0028, 4230,39866.9,   4004.7,   1.0007,  34.7121,2,  34.7223,3,    206.7,2,  0.6953,    205.7,2,   120.38,2,    31.64,2,     0.00,2,     2.22,2, -999.000,9, -999.000,9, -999.000,5,-999.0000,5,  -999.00,9,   -999.0,9,  -999.00,9,-999.000,9,   -999.0,9,   -999.0,9,  -999.0, -999.00,-999.0000,-999.000,-999.000
     316N145_5,  I08S,    16,  1,      2, SIH001,2,19941209,1826,-36.4972,  95.0028, 4230,41913.3,   4210.5,   0.9927,  34.7112,2,  34.7097,2,    206.0,2,  0.6654,    205.7,2,   121.02,2,    31.73,2,     0.00,2,     2.22,2, -999.000,9, -999.000,9, -999.000,5,-999.0000,5,  -999.00,9,   -999.0,9,  -999.00,9,-999.000,9,   -999.0,9,   -999.0,9,  -999.0, -999.00,-999.0000,-999.000,-999.000
     316N145_5,  I08S,    16,  1,      1, SIH036,2,19941209,1826,-36.4972,  95.0028, 4230,42726.3,   4292.3,   0.9856,  34.7108,2,  34.7095,2,    206.5,2,  0.6496,    205.9,2,   121.12,2,    31.81,2,     0.00,2,     2.22,2, -999.000,9, -999.000,9, -999.000,5,-999.0000,5,  -999.00,9,   -999.0,9,  -999.00,9,-999.000,9,   -999.0,9,   -999.0,9,  -999.0, -999.00,-999.0000,-999.000,-999.000