BOTTLE,20090521WHPSIOdm
EXPOCODE,SECT_ID,STNNBR,CASTNO,SAMPNO,BTLNBR,BTLNBR_FLAG_W,DATE,TIME,LATITUDE,LONGITUDE,DEPTH,CTDRAW,CTDPRS,CTDTMP,CTDSAL,CTDSAL_FLAG_W,SALNTY,SALNTY_FLAG_W,CTDOXY,CTDOXY_FLAG_W,THETA,OXYGEN,OXYGEN_FLAG_W,SILCAT,SILCAT_FLAG_W,NITRAT,NITRAT_FLAG_W,NITRIT,NITRIT_FLAG_W,PHSPHT,PHSPHT_FLAG_W,CFC-11,CFC-11_FLAG_W,CFC-12,CFC-12_FLAG_W,TRITUM,TRITUM_FLAG_W,HELIUM,HELIUM_FLAG_W,DELHE3,DELHE3_FLAG_W,DELC14,DELC14_FLAG_W,DELC13,DELC13_FLAG_W,NEON,NEON_FLAG_W,TCARBN,TCARBN_FLAG_W,ALKALI,ALKALI_FLAG_W,C14ERR,DELHER,HELIER,NEONER,TRITER
,,,,,,,,,,,,,DBAR,IPTS-68,PSS-78,,PSS-78,,UMOL/KG,,IPTS-68,UMOL/KG,,UMOL/KG,,UMOL/KG,,UMOL/KG,,UMOL/KG,,PMOL/KG,,PMOL/KG,,TU,,NMOL/KG,,PERCNT,,/MILLE,,/MILLE,,NMOL/KG,,UMOL/KG,,UMOL/KG,,/MILLE,PERCNT,NMOL/KG,NMOL/KG,TU
     316N145_5,  I08S,    19,  1,     24, SIH037,2,19941210,1555,-38.0028,  95.0000, 4105,  169.6,     12.1,  13.7237,  34.9872,2,  34.9929,2,    282.3,2, 13.7220,    265.5,2,     1.93,2,     5.64,2,     0.11,2,     0.56,2,    2.993,4,    1.566,4, -999.000,5,-999.0000,5,  -999.00,9,   -999.0,9,  -999.00,9,-999.000,9,   2068.6,6,   2304.1,2,  -999.0, -999.00,-999.0000,-999.000,-999.000
     316N145_5,  I08S,    19,  1,     23, SIH033,2,19941210,1555,-38.0028,  95.0000, 4105,  375.1,     32.8,  13.6995,  34.9836,2,  34.9868,2,    284.1,2, 13.6948,    265.8,2,     1.93,2,     5.63,2,     0.12,2,     0.56,2,    3.337,2,    1.759,2, -999.000,5,-999.0000,5,  -999.00,9,   -999.0,9,  -999.00,9,-999.000,9,   2068.4,2,   2307.6,2,  -999.0, -999.00,-999.0000,-999.000,-999.000
     316N145_5,  I08S,    19,  1,     22, SIH031,2,19941210,1555,-38.0028,  95.0000, 4105,  624.8,     57.9,  12.8499,  34.9897,2,  34.9874,2,    283.5,2, 12.8420,    266.5,2,     2.39,2,     6.43,2,     0.12,2,     0.62,2,    3.382,2,    1.768,2, -999.000,5,-999.0000,5,  -999.00,9,   -999.0,9,  -999.00,9,-999.000,9,   2076.1,2,   2308.1,2,  -999.0, -999.00,-999.0000,-999.000,-999.000
     316N145_5,  I08S,    19,  1,     21, SIH030,2,19941210,1555,-38.0028,  95.0000, 4105, 1119.5,    107.6,  11.7728,  35.0427,2,  35.0429,2,    260.6,2, 11.7589,    256.5,2,     3.19,2,     8.14,2,     0.39,2,     0.72,2,    3.416,6,    1.782,6, -999.000,5,-999.0000,5,  -999.00,9,   -999.0,9,  -999.00,9,-999.000,9,   2091.1,2,   2304.8,2,  -999.0, -999.00,-999.0000,-999.000,-999.000
     316N145_5,  I08S,    19,  1,     20, SIH028,2,19941210,1555,-38.0028,  95.0000, 4105, 2051.5,    201.4,  11.1801,  34.9659,2,  34.9667,2,    258.1,2, 11.1550,    255.1,2,     3.65,2,    10.17,2,     0.01,2,     0.82,2,    3.415,2,    1.760,2, -999.000,5,-999.0000,5,  -999.00,9,   -999.0,9,  -999.00,9,-999.000,9,   2095.7,2,   2307.1,2,  -999.0, -999.00,-999.0000,-999.000,-999.000
     316N145_5,  I08S,    19,  1,     19, SIH027,2,19941210,1555,-38.0028,  95.0000, 4105, 3084.1,    305.2,  10.9182,  34.9380,2,  34.9376,2,    262.7,2, 10.8806,    258.6,2,     3.80,2,    10.46,2,     0.00,2,     0.84,2,    3.469,2,    1.778,2,    0.000,5,   1.8130,3,     4.48,3,   -999.0,9,  -999.00,9,   7.875,3,   2096.2,2,   2302.9,2,  -999.0,    0.17,  0.0030,   0.021,   0.000
     316N145_5,  I08S,    19,  1,     18, SIH003,2,19941210,1555,-38.0028,  95.0000, 4105, 4106.9,    408.1,  10.6135,  34.8914,2,  34.8910,2,    261.7,2, 10.5639,    256.2,2,     3.78,2,    11.20,2,     0.00,2,     0.89,2,    3.460,2,    1.751,2, -999.000,5,-999.0000,5,  -999.00,9,   -999.0,9,  -999.00,9,-999.000,9,   2098.9,2,   2305.9,2,  -999.0, -999.00,-999.0000,-999.000,-999.000
     316N145_5,  I08S,    19,  1,     17, SIH024,2,19941210,1555,-38.0028,  95.0000, 4105, 5092.1,    507.1,  10.1669,  34.8157,2,  34.8161,2,    250.4,2, 10.1067,    245.5,2,     4.25,2,    13.13,2,     0.00,2,     1.00,2,    3.268,2,    1.648,2, -999.000,5,-999.0000,5,  -999.00,9,   -999.0,9,  -999.00,9,-999.000,9,   2106.6,2,   2299.2,2,  -999.0, -999.00,-999.0000,-999.000,-999.000
     316N145_5,  I08S,    19,  1,     16, SIH022,2,19941210,1555,-38.0028,  95.0000, 4105, 6081.4,    606.6,   9.5643,  34.7210,2,  34.7213,2,    247.0,2,  9.4946,    240.0,2,     5.52,2,    15.53,2,     0.00,2,     1.15,2,    3.019,2,    1.501,2, -999.000,5,-999.0000,5,  -999.00,9,   -999.0,9,  -999.00,9,-999.000,9,   2113.9,2,   2292.8,2,  -999.0, -999.00,-999.0000,-999.000,-999.000
     316N145_5,  I08S,    19,  1,     15, SIH021,2,19941210,1555,-38.0028,  95.0000, 4105, 7070.8,    706.1,   8.7806,  34.6209,2,  34.6233,2,    230.3,2,  8.7032,    224.6,2,     7.92,2,    19.00,2,     0.00,2,     1.36,2,    2.344,6,    1.163,6, -999.000,5,-999.0000,5,  -999.00,9,   -999.0,9,  -999.00,9,-999.000,9,   2127.9,2,   2290.0,2,  -999.0, -999.00,-999.0000,-999.000,-999.000
     316N145_5,  I08S,    19,  1,     14, SIH002,2,19941210,1555,-38.0028,  95.0000, 4105, 8051.0,    804.7,   7.7559,  34.5276,2,  34.5280,2,    210.8,2,  7.6733,    207.6,2,    12.72,2,    23.01,2,     0.00,2,     1.60,2, -999.000,9, -999.000,9, -999.000,5,-999.0000,5,  -999.00,9,   -999.0,9,  -999.00,9,-999.000,9,   2147.3,2,   2291.6,2,  -999.0, -999.00,-999.0000,-999.000,-999.000
     316N145_5,  I08S,    19,  1,     13, SIH018,2,19941210,1555,-38.0028,  95.0000, 4105,10026.9,   1003.4,   5.3099,  34.3769,2,  34.3802,2,    203.9,2,  5.2242,    203.9,2,    26.01,2,    28.88,2,     0.00,2,     1.99,2,    1.073,2,    0.559,2, -999.000,5,-999.0000,5,  -999.00,9,   -999.0,9,  -999.00,9,-999.000,9,   2176.6,2,   2295.3,2,  -999.0, -999.00,-999.0000,-999.000,-999.000
     316N145_5,  I08S,    19,  1,     12, SIH016,2,19941210,1555,-38.0028,  95.0000, 4105,12017.1,   1203.6,   3.9223,  34.3939,2,  34.3947,2,    187.5,2,  3.8303,    186.4,2,    46.05,2,    32.56,2,     0.00,2,     2.27,2,    0.408,2,    0.232,2, -999.000,5,-999.0000,5,  -999.00,9,   -999.0,9,  -999.00,9,-999.000,9,   2213.1,2,   2306.9,2,  -999.0, -999.00,-999.0000,-999.000,-999.000
     316N145_5,  I08S,    19,  1,     11, SIH015,2,19941210,1555,-38.0028,  95.0000, 4105,15095.3,   1513.2,   3.1738,  34.5286,2,  34.5290,2,    164.3,2,  3.0630,    160.3,2,    71.37,2,    34.54,2,     0.00,2,     2.41,2,    0.072,2,    0.034,3, -999.000,5,-999.0000,5,  -999.00,9,   -999.0,9,  -999.00,9,-999.000,9,   2251.9,6,   2335.0,2,  -999.0, -999.00,-999.0000,-999.000,-999.000
     316N145_5,  I08S,    19,  1,     10, SIH013,2,19941210,1555,-38.0028,  95.0000, 4105,18126.9,   1818.2,   2.7206,  34.6278,2,  34.6290,2,    164.4,2,  2.5892,    163.3,2,    81.61,2,    33.85,2,     0.00,2,     2.36,2,    0.039,2,    0.029,2, -999.000,5,-999.0000,5,  -999.00,9,   -999.0,9,  -999.00,9,-999.000,9,   2259.3,2,   2344.3,2,  -999.0, -999.00,-999.0000,-999.000,-999.000
     316N145_5,  I08S,    19,  1,      9, SIH012,2,19941210,1555,-38.0028,  95.0000, 4105,21164.9,   2123.8,   2.4238,  34.6969,2,  34.6981,2,    176.8,2,  2.2699,    175.8,2,    83.35,2,    32.20,2,     0.00,2,     2.23,2, -999.000,9, -999.000,9, -999.000,5,-999.0000,5,  -999.00,9,   -999.0,9,  -999.00,9,-999.000,9,   2253.2,2,   2348.8,2,  -999.0, -999.00,-999.0000,-999.000,-999.000
     316N145_5,  I08S,    19,  1,      8, SIH010,2,19941210,1555,-38.0028,  95.0000, 4105,24202.7,   2429.3,   2.1732,  34.7393,2,  34.7412,2,    190.1,2,  1.9958,    189.2,2,    84.78,2,    30.76,2,     0.00,2,     2.12,2,    0.018,2,    0.011,2, -999.000,5,-999.0000,5,  -999.00,9,   -999.0,9,  -999.00,9,-999.000,9,   2246.8,2,   2356.4,2,  -999.0, -999.00,-999.0000,-999.000,-999.000
     316N145_5,  I08S,    19,  1,      7, SIH009,2,19941210,1555,-38.0028,  95.0000, 4105,27223.5,   2733.2,   1.8728,  34.7474,2,  34.7484,2,    195.9,2,  1.6730,    194.7,2,    92.62,2,    30.66,2,     0.00,2,     2.12,2,    0.018,2,    0.009,2, -999.000,5,-999.0000,5,  -999.00,9,   -999.0,9,  -999.00,9,-999.000,9,   2247.6,2,   -999.0,9,  -999.0, -999.00,-999.0000,-999.000,-999.000
     316N145_5,  I08S,    19,  1,      6, SIH038,2,19941210,1555,-38.0028,  95.0000, 4105,30259.1,   3038.5,   1.5086,  34.7377,2,  34.7380,2,    200.4,2,  1.2876,    200.3,2,   103.50,2,    31.03,2,     0.00,2,     2.14,2,    0.009,2,    0.009,2, -999.000,5,-999.0000,5,  -999.00,9,   -999.0,9,  -999.00,9,-999.000,9,   2252.3,2,   -999.0,9,  -999.0, -999.00,-999.0000,-999.000,-999.000
     316N145_5,  I08S,    19,  1,      5, SIH006,2,19941210,1555,-38.0028,  95.0000, 4105,33298.4,   3344.2,   1.2139,  34.7250,2,  34.7262,2,    204.0,2,  0.9702,    204.3,2,   112.31,2,    31.52,2,     0.00,2,     2.18,2,    0.012,2,    0.009,2, -999.000,5,-999.0000,5,  -999.00,9,   -999.0,9,  -999.00,9,-999.000,9,   2255.9,2,   2358.8,2,  -999.0, -999.00,-999.0000,-999.000,-999.000
     316N145_5,  I08S,    19,  1,      4, SIH004,2,19941210,1555,-38.0028,  95.0000, 4105,36351.7,   3651.4,   1.0011,  34.7136,2,  34.7148,2,    206.8,2,  0.7323,    206.7,2,   119.03,2,    31.89,2,     0.00,2,     2.21,2,    0.022,2,    0.015,2, -999.000,5,-999.0000,5,  -999.00,9,   -999.0,9,  -999.00,9,-999.000,9,   2260.1,2,   2362.7,2,  -999.0, -999.00,-999.0000,-999.000,-999.000
     316N145_5,  I08S,    19,  1,      3, SIH025,2,19941210,1555,-38.0028,  95.0000, 4105,38383.3,   3855.7,   0.9619,  34.7120,2,  34.7117,2,    207.7,2,  0.6732,    206.1,2,   120.93,2,    32.06,2,     0.00,2,     2.22,2,    0.020,2,    0.013,2, -999.000,5,-999.0000,5,  -999.00,9,   -999.0,9,  -999.00,9,-999.000,9,   2263.9,2,   2370.1,2,  -999.0, -999.00,-999.0000,-999.000,-999.000
     316N145_5,  I08S,    19,  1,      2, SIH001,2,19941210,1555,-38.0028,  95.0000, 4105,40398.3,   4058.4,   0.9514,  34.7107,2,  34.7101,2,    207.0,2,  0.6416,    206.7,2,   121.73,2,    32.17,2,     0.00,2,     2.22,2,    0.015,2,    0.009,2, -999.000,5,-999.0000,5,  -999.00,9,   -999.0,9,  -999.00,9,-999.000,9,   2264.6,2,   2370.6,2,  -999.0, -999.00,-999.0000,-999.000,-999.000
     316N145_5,  I08S,    19,  1,      1, SIH036,2,19941210,1555,-38.0028,  95.0000, 4105,41412.5,   4160.5,   0.9601,  34.7098,2,  34.7076,2,    206.4,2,  0.6392,    207.0,2,   121.81,2,    32.17,2,     0.00,2,     2.22,2, -999.000,9, -999.000,9, -999.000,5,-999.0000,5,  -999.00,9,   -999.0,9,  -999.00,9,-999.000,9,   2265.8,6,   2371.2,2,  -999.0, -999.00,-999.0000,-999.000,-999.000
     316N145_5,  I08S,    20,  1,     24, SIH037,2,19941211,0146,-38.4888,  95.0055, 3850,  166.1,     11.9,  13.0489,  34.9564,2,  34.9569,2,    274.5,2, 13.0473,    269.5,2,     1.58,2,     6.01,2,     0.14,2,     0.58,2,    3.364,2,    1.785,2, -999.000,5,-999.0000,5,  -999.00,9,   -999.0,9,  -999.00,9,-999.000,9,   -999.0,9,   -999.0,9,  -999.0, -999.00,-999.0000,-999.000,-999.000
     316N145_5,  I08S,    20,  1,     23, SIH033,2,19941211,0146,-38.4888,  95.0055, 3850,  361.4,     31.6,  13.0152,  34.9547,2,  34.9551,2,    275.6,2, 13.0108,    269.7,2,     1.58,2,     6.06,2,     0.14,2,     0.58,2,    3.349,2,    1.782,2, -999.000,5,-999.0000,5,  -999.00,9,   -999.0,9,  -999.00,9,-999.000,9,   -999.0,9,   -999.0,9,  -999.0, -999.00,-999.0000,-999.000,-999.000
     316N145_5,  I08S,    20,  1,     22, SIH031,2,19941211,0146,-38.4888,  95.0055, 3850,  627.7,     58.3,  12.4608,  34.9412,2,  34.9414,2,    274.7,2, 12.4530,    268.9,2,     2.22,2,     6.92,2,     0.14,2,     0.65,2,    3.452,2,    1.832,2, -999.000,5,-999.0000,5,  -999.00,9,   -999.0,9,  -999.00,9,-999.000,9,   -999.0,9,   -999.0,9,  -999.0, -999.00,-999.0000,-999.000,-999.000
     316N145_5,  I08S,    20,  1,     21, SIH030,2,19941211,0146,-38.4888,  95.0055, 3850, 1114.0,    107.2,  11.2207,  34.9672,2,  34.9685,2,    259.2,2, 11.2073,    257.8,2,     3.34,2,     9.62,2,     0.09,2,     0.80,2,    3.490,2,    1.803,2, -999.000,5,-999.0000,5,  -999.00,9,   -999.0,9,  -999.00,9,-999.000,9,   -999.0,9,   -999.0,9,  -999.0, -999.00,-999.0000,-999.000,-999.000
     316N145_5,  I08S,    20,  1,     20, SIH028,2,19941211,0146,-38.4888,  95.0055, 3850, 2100.7,    206.5,  10.9271,  34.9373,2,  34.9368,2,    255.2,2, 10.9017,    258.3,2,     3.66,2,    10.35,2,     0.01,2,     0.84,2,    3.473,2,    1.795,2, -999.000,5,-999.0000,5,  -999.00,9,   -999.0,9,  -999.00,9,-999.000,9,   -999.0,9,   -999.0,9,  -999.0, -999.00,-999.0000,-999.000,-999.000
     316N145_5,  I08S,    20,  1,     19, SIH027,2,19941211,0146,-38.4888,  95.0055, 3850, 3110.4,    308.0,  10.6305,  34.8946,2,  34.8947,2,    253.2,2, 10.5932,    253.9,2,     3.82,2,    11.25,2,     0.01,2,     0.90,2,    3.415,2,    1.740,2, -999.000,5,-999.0000,5,  -999.00,9,   -999.0,9,  -999.00,9,-999.000,9,   -999.0,9,   -999.0,9,  -999.0, -999.00,-999.0000,-999.000,-999.000
     316N145_5,  I08S,    20,  1,     18, SIH003,2,19941211,0146,-38.4888,  95.0055, 3850, 4105.4,    408.0,  10.2771,  34.8343,2,  34.8375,2,    254.7,2, 10.2285,    251.7,2,     4.30,2,    12.48,2,     0.01,2,     0.97,2,    3.365,2,    1.703,2, -999.000,5,-999.0000,5,  -999.00,9,   -999.0,9,  -999.00,9,-999.000,9,   -999.0,9,   -999.0,9,  -999.0, -999.00,-999.0000,-999.000,-999.000
     316N145_5,  I08S,    20,  1,     17, SIH024,2,19941211,0146,-38.4888,  95.0055, 3850, 5103.7,    508.4,  10.0605,  34.8041,2,  34.8029,2,    257.8,2, 10.0005,    256.0,2,     4.30,2,    12.64,2,     0.01,2,     0.99,2,    3.426,2,    1.747,2, -999.000,5,-999.0000,5,  -999.00,9,   -999.0,9,  -999.00,9,-999.000,9,   -999.0,9,   -999.0,9,  -999.0, -999.00,-999.0000,-999.000,-999.000
     316N145_5,  I08S,    20,  1,     16, SIH022,2,19941211,0146,-38.4888,  95.0055, 3850, 6113.6,    610.0,   9.5697,  34.7229,2,  34.7225,2,    242.5,2,  9.4996,    243.3,2,     5.41,2,    15.25,2,     0.01,2,     1.14,2,    3.133,2,    1.635,2, -999.000,5,-999.0000,5,  -999.00,9,   -999.0,9,  -999.00,9,-999.000,9,   -999.0,9,   -999.0,9,  -999.0, -999.00,-999.0000,-999.000,-999.000
     316N145_5,  I08S,    20,  1,     15, SIH021,2,19941211,0146,-38.4888,  95.0055, 3850, 7123.9,    711.6,   8.8004,  34.6247,2,  34.6242,2,    226.2,2,  8.7222,    225.6,2,     7.83,2,    18.87,2,     0.00,2,     1.36,2,    2.391,2,    1.213,2, -999.000,5,-999.0000,5,  -999.00,9,   -999.0,9,  -999.00,9,-999.000,9,   -999.0,9,   -999.0,9,  -999.0, -999.00,-999.0000,-999.000,-999.000
     316N145_5,  I08S,    20,  1,     14, SIH002,2,19941211,0146,-38.4888,  95.0055, 3850, 8105.9,    810.3,   7.6378,  34.5202,2,  34.5201,2,    209.8,2,  7.5553,    208.1,2,    13.60,2,    23.29,2,     0.00,2,     1.63,2,    1.618,2,    0.822,2, -999.000,5,-999.0000,5,  -999.00,9,   -999.0,9,  -999.00,9,-999.000,9,   -999.0,9,   -999.0,9,  -999.0, -999.00,-999.0000,-999.000,-999.000
     316N145_5,  I08S,    20,  1,     13, SIH018,2,19941211,0146,-38.4888,  95.0055, 3850,10113.7,   1012.3,   5.3017,  34.3706,2,  34.3713,2,    202.9,2,  5.2152,    206.9,2,    25.48,2,    28.72,2,     0.00,2,     1.99,2,    1.253,2,    0.621,2, -999.000,5,-999.0000,5,  -999.00,9,   -999.0,9,  -999.00,9,-999.000,9,   -999.0,9,   -999.0,9,  -999.0, -999.00,-999.0000,-999.000,-999.000
     316N145_5,  I08S,    20,  1,     12, SIH016,2,19941211,0146,-38.4888,  95.0055, 3850,12118.2,   1213.9,   3.8932,  34.3706,2,  34.3686,2,    193.6,2,  3.8007,    195.6,2,    42.18,2,    32.03,2,     0.00,2,     2.23,2,    0.649,2,    0.326,2, -999.000,5,-999.0000,5,  -999.00,9,   -999.0,9,  -999.00,9,-999.000,9,   -999.0,9,   -999.0,9,  -999.0, -999.00,-999.0000,-999.000,-999.000
     316N145_5,  I08S,    20,  1,     11, SIH015,2,19941211,0146,-38.4888,  95.0055, 3850,14096.8,   1412.9,   3.2305,  34.4431,2,  34.4434,2,    179.2,2,  3.1276,    180.5,2,    57.74,2,    33.79,2,     0.00,2,     2.36,2,    0.346,2,    0.167,2, -999.000,5,-999.0000,5,  -999.00,9,   -999.0,9,  -999.00,9,-999.000,9,   -999.0,9,   -999.0,9,  -999.0, -999.00,-999.0000,-999.000,-999.000
     316N145_5,  I08S,    20,  1,     10, SIH013,2,19941211,0146,-38.4888,  95.0055, 3850,17127.3,   1717.7,   2.7268,  34.5782,2,  34.5794,2,    171.5,2,  2.6040,    169.7,2,    72.82,2,    33.84,2,     0.00,2,     2.36,2,    0.117,2,    0.058,2, -999.000,5,-999.0000,5,  -999.00,9,   -999.0,9,  -999.00,9,-999.000,9,   -999.0,9,   -999.0,9,  -999.0, -999.00,-999.0000,-999.000,-999.000
     316N145_5,  I08S,    20,  1,      9, SIH012,2,19941211,0146,-38.4888,  95.0055, 3850,20130.9,   2019.9,   2.4857,  34.6754,2,  34.6765,2,    175.7,2,  2.3400,    174.4,2,    80.21,2,    32.51,2,     0.00,2,     2.26,2,    0.091,2,    0.037,2, -999.000,5,-999.0000,5,  -999.00,9,   -999.0,9,  -999.00,9,-999.000,9,   -999.0,9,   -999.0,9,  -999.0, -999.00,-999.0000,-999.000,-999.000
     316N145_5,  I08S,    20,  1,      8, SIH010,2,19941211,0146,-38.4888,  95.0055, 3850,23170.0,   2325.6,   2.2688,  34.7285,2,  34.7304,2,    185.9,2,  2.0992,    185.1,2,    83.41,2,    31.13,2,     0.00,2,     2.16,2,    0.022,2,    0.006,2, -999.000,5,-999.0000,5,  -999.00,9,   -999.0,9,  -999.00,9,-999.000,9,   -999.0,9,   -999.0,9,  -999.0, -999.00,-999.0000,-999.000,-999.000
     316N145_5,  I08S,    20,  1,      7, SIH009,2,19941211,0146,-38.4888,  95.0055, 3850,26181.3,   2628.5,   2.0089,  34.7495,2,  34.7494,2,    194.9,2,  1.8162,    194.5,2,    88.23,2,    30.39,2,     0.00,2,     2.11,2,    0.021,2,    0.013,2, -999.000,5,-999.0000,5,  -999.00,9,   -999.0,9,  -999.00,9,-999.000,9,   -999.0,9,   -999.0,9,  -999.0, -999.00,-999.0000,-999.000,-999.000
     316N145_5,  I08S,    20,  1,      6, SIH038,2,19941211,0146,-38.4888,  95.0055, 3850,29232.4,   2935.4,   1.6471,  34.7436,2,  34.7439,2,    198.4,2,  1.4329,    199.4,2,    98.99,2,    30.77,2,     0.00,2,     2.13,2,    0.012,2,    0.002,3, -999.000,5,-999.0000,5,  -999.00,9,   -999.0,9,  -999.00,9,-999.000,9,   -999.0,9,   -999.0,9,  -999.0, -999.00,-999.0000,-999.000,-999.000
     316N145_5,  I08S,    20,  1,      5, SIH006,2,19941211,0146,-38.4888,  95.0055, 3850,31272.7,   3140.6,   1.4215,  34.7352,2,  34.7347,2,    201.7,2,  1.1926,    201.7,2,   106.38,2,    31.15,2,     0.00,2,     2.16,2,    0.014,3,    0.016,2, -999.000,5,-999.0000,5,  -999.00,9,   -999.0,9,  -999.00,9,-999.000,9,   -999.0,9,   -999.0,9,  -999.0, -999.00,-999.0000,-999.000,-999.000
     316N145_5,  I08S,    20,  1,      4, SIH004,2,19941211,0146,-38.4888,  95.0055, 3850,34317.0,   3446.8,   1.1922,  34.7240,2,  34.7241,2,    203.8,2,  0.9389,    204.3,2,   113.93,2,    31.52,2,     0.00,2,     2.19,2,    0.028,2,    0.021,2, -999.000,5,-999.0000,5,  -999.00,9,   -999.0,9,  -999.00,9,-999.000,9,   -999.0,9,   -999.0,9,  -999.0, -999.00,-999.0000,-999.000,-999.000
     316N145_5,  I08S,    20,  1,      3, SIH025,2,19941211,0146,-38.4888,  95.0055, 3850,36343.4,   3650.7,   1.0931,  34.7183,2,  34.7233,3,    205.4,2,  0.8218,    205.6,2,   117.31,2,    31.79,2,     0.00,2,     2.20,2,    0.024,2,    0.014,2, -999.000,5,-999.0000,5,  -999.00,9,   -999.0,9,  -999.00,9,-999.000,9,   -999.0,9,   -999.0,9,  -999.0, -999.00,-999.0000,-999.000,-999.000
     316N145_5,  I08S,    20,  1,      2, SIH001,2,19941211,0146,-38.4888,  95.0055, 3850,38378.2,   3855.4,   1.0388,  34.7161,2,  34.7146,2,    206.0,2,  0.7478,    206.0,2,   119.24,2,    31.90,2,     0.00,2,     2.22,2,    0.023,2,    0.012,2, -999.000,5,-999.0000,5,  -999.00,9,   -999.0,9,  -999.00,9,-999.000,9,   -999.0,9,   -999.0,9,  -999.0, -999.00,-999.0000,-999.000,-999.000
     316N145_5,  I08S,    20,  1,      1, SIH036,2,19941211,0146,-38.4888,  95.0055, 3850,38783.1,   3896.1,   1.0172,  34.7158,2,  34.7152,2,    204.7,2,  0.7226,    206.3,2,   119.46,2,    31.97,2,     0.00,2,     2.22,2,    0.024,2,    0.014,2, -999.000,5,-999.0000,5,  -999.00,9,   -999.0,9,  -999.00,9,-999.000,9,   -999.0,9,   -999.0,9,  -999.0, -999.00,-999.0000,-999.000,-999.000