BOTTLE,20090521WHPSIOdm
EXPOCODE,SECT_ID,STNNBR,CASTNO,SAMPNO,BTLNBR,BTLNBR_FLAG_W,DATE,TIME,LATITUDE,LONGITUDE,DEPTH,CTDRAW,CTDPRS,CTDTMP,CTDSAL,CTDSAL_FLAG_W,SALNTY,SALNTY_FLAG_W,CTDOXY,CTDOXY_FLAG_W,THETA,OXYGEN,OXYGEN_FLAG_W,SILCAT,SILCAT_FLAG_W,NITRAT,NITRAT_FLAG_W,NITRIT,NITRIT_FLAG_W,PHSPHT,PHSPHT_FLAG_W,CFC-11,CFC-11_FLAG_W,CFC-12,CFC-12_FLAG_W,TRITUM,TRITUM_FLAG_W,HELIUM,HELIUM_FLAG_W,DELHE3,DELHE3_FLAG_W,DELC14,DELC14_FLAG_W,DELC13,DELC13_FLAG_W,NEON,NEON_FLAG_W,TCARBN,TCARBN_FLAG_W,ALKALI,ALKALI_FLAG_W,C14ERR,DELHER,HELIER,NEONER,TRITER
,,,,,,,,,,,,,DBAR,IPTS-68,PSS-78,,PSS-78,,UMOL/KG,,IPTS-68,UMOL/KG,,UMOL/KG,,UMOL/KG,,UMOL/KG,,UMOL/KG,,PMOL/KG,,PMOL/KG,,TU,,NMOL/KG,,PERCNT,,/MILLE,,/MILLE,,NMOL/KG,,UMOL/KG,,UMOL/KG,,/MILLE,PERCNT,NMOL/KG,NMOL/KG,TU
     316N145_5,  I08S,    61,  1,     36, SIH035,2,19941223,0131,-55.6250,  84.7388, 4790,  167.8,     11.7,   2.1627,  33.9361,2,  33.9375,2,    334.6,2,  2.1621,    334.2,2,     9.59,2,    23.80,2,     0.19,2,     1.58,2, -999.000,9, -999.000,9, -999.000,5,-999.0000,5,  -999.00,9,   -999.0,9,  -999.00,9,-999.000,9,   -999.0,9,   -999.0,9,  -999.0, -999.00,-999.0000,-999.000,-999.000
     316N145_5,  I08S,    61,  1,     35, SIH032,2,19941223,0131,-55.6250,  84.7388, 4790,  366.2,     31.7,   2.1717,  33.9362,2,  33.9379,2,    333.3,2,  2.1701,    333.8,2,     9.93,2,    23.74,2,     0.19,2,     1.61,2, -999.000,9, -999.000,9, -999.000,5,-999.0000,5,  -999.00,9,   -999.0,9,  -999.00,9,-999.000,9,   -999.0,9,   -999.0,9,  -999.0, -999.00,-999.0000,-999.000,-999.000
     316N145_5,  I08S,    61,  1,     34, SIH029,2,19941223,0131,-55.6250,  84.7388, 4790,  621.6,     57.3,   2.1086,  33.9360,2,  33.9389,2,    332.0,2,  2.1056,    331.3,2,    10.92,2,    24.05,2,     0.19,2,     1.64,2, -999.000,9, -999.000,9, -999.000,5,-999.0000,5,  -999.00,9,   -999.0,9,  -999.00,9,-999.000,9,   -999.0,9,   -999.0,9,  -999.0, -999.00,-999.0000,-999.000,-999.000
     316N145_5,  I08S,    61,  1,     33, SIH026,2,19941223,0131,-55.6250,  84.7388, 4790,  853.7,     80.7,   1.9672,  33.9323,2,  33.9422,2,    332.9,2,  1.9630,    329.8,2,    12.09,2,    24.22,2,     0.19,2,     1.66,2, -999.000,9, -999.000,9, -999.000,5,-999.0000,5,  -999.00,9,   -999.0,9,  -999.00,9,-999.000,9,   -999.0,9,   -999.0,9,  -999.0, -999.00,-999.0000,-999.000,-999.000
     316N145_5,  I08S,    61,  1,     32, SIH023,2,19941223,0131,-55.6250,  84.7388, 4790, 1084.5,    103.9,   1.7424,  33.9547,2,  33.9579,2,    325.5,2,  1.7372,    323.9,2,    18.71,2,    25.71,2,     0.19,2,     1.81,2, -999.000,9, -999.000,9, -999.000,5,-999.0000,5,  -999.00,9,   -999.0,9,  -999.00,9,-999.000,9,   -999.0,9,   -999.0,9,  -999.0, -999.00,-999.0000,-999.000,-999.000
     316N145_5,  I08S,    61,  1,     31, SIH020,2,19941223,0131,-55.6250,  84.7388, 4790, 1629.4,    158.7,   0.2765,  33.9627,2,  33.9606,2,    338.3,2,  0.2705,    322.2,2,    35.58,2,    28.48,2,     0.18,2,     2.01,2, -999.000,9, -999.000,9, -999.000,5,-999.0000,5,  -999.00,9,   -999.0,9,  -999.00,9,-999.000,9,   -999.0,9,   -999.0,9,  -999.0, -999.00,-999.0000,-999.000,-999.000
     316N145_5,  I08S,    61,  1,     30, SIH017,2,19941223,0131,-55.6250,  84.7388, 4790, 2065.8,    202.6,   1.0067,  34.1319,2,  34.1393,2,    294.6,2,  0.9977,    283.1,2,    43.68,2,    30.81,2,     0.14,2,     2.16,2, -999.000,9, -999.000,9, -999.000,5,-999.0000,5,  -999.00,9,   -999.0,9,  -999.00,9,-999.000,9,   -999.0,9,   -999.0,9,  -999.0, -999.00,-999.0000,-999.000,-999.000
     316N145_5,  I08S,    61,  1,     29, SIH014,2,19941223,0131,-55.6250,  84.7388, 4790, 2599.3,    256.3,   1.4952,  34.2604,2,  34.2646,2,    237.6,2,  1.4825,    235.5,2,    53.28,2,    33.24,2,     0.05,2,     2.31,2, -999.000,9, -999.000,9, -999.000,5,-999.0000,5,  -999.00,9,   -999.0,9,  -999.00,9,-999.000,9,   -999.0,9,   -999.0,9,  -999.0, -999.00,-999.0000,-999.000,-999.000
     316N145_5,  I08S,    61,  1,     28, SIH011,2,19941223,0131,-55.6250,  84.7388, 4790, 3102.6,    306.9,   1.6666,  34.3534,2,  34.3556,2,    220.4,2,  1.6509,    216.5,2,    60.71,2,    33.95,2,     0.03,2,     2.35,2, -999.000,9, -999.000,9, -999.000,5,-999.0000,5,  -999.00,9,   -999.0,9,  -999.00,9,-999.000,9,   -999.0,9,   -999.0,9,  -999.0, -999.00,-999.0000,-999.000,-999.000
     316N145_5,  I08S,    61,  1,     27, SIH008,2,19941223,0131,-55.6250,  84.7388, 4790, 3597.7,    356.7,   2.1379,  34.4615,2,  34.4620,2,    186.8,2,  2.1181,    187.6,2,    66.83,2,    34.44,2,     0.02,2,     2.39,2, -999.000,9, -999.000,9, -999.000,5,-999.0000,5,  -999.00,9,   -999.0,9,  -999.00,9,-999.000,9,   -999.0,9,   -999.0,9,  -999.0, -999.00,-999.0000,-999.000,-999.000
     316N145_5,  I08S,    61,  1,     26, SIH005,2,19941223,0131,-55.6250,  84.7388, 4790, 4010.1,    398.2,   2.1610,  34.4938,2,  34.4946,2,    184.8,2,  2.1386,    184.8,2,    69.64,2,    34.43,2,     0.02,2,     2.38,2, -999.000,9, -999.000,9, -999.000,5,-999.0000,5,  -999.00,9,   -999.0,9,  -999.00,9,-999.000,9,   -999.0,9,   -999.0,9,  -999.0, -999.00,-999.0000,-999.000,-999.000
     316N145_5,  I08S,    61,  1,     25, SIH019,2,19941223,0131,-55.6250,  84.7388, 4790, 4596.9,    457.2,   2.2708,  34.5557,2,  34.5578,2,    178.0,2,  2.2443,    178.3,2,    72.46,2,    33.96,2,     0.01,2,     2.35,2, -999.000,9, -999.000,9, -999.000,5,-999.0000,5,  -999.00,9,   -999.0,9,  -999.00,9,-999.000,9,   -999.0,9,   -999.0,9,  -999.0, -999.00,-999.0000,-999.000,-999.000
     316N145_5,  I08S,    61,  1,     24, SIH037,2,19941223,0131,-55.6250,  84.7388, 4790, 5099.1,    507.7,   2.2734,  34.5908,2,  34.5912,2,    174.8,2,  2.2438,    176.9,2,    74.28,2,    33.59,2,     0.01,2,     2.32,2, -999.000,9, -999.000,9, -999.000,5,-999.0000,5,  -999.00,9,   -999.0,9,  -999.00,9,-999.000,9,   -999.0,9,   -999.0,9,  -999.0, -999.00,-999.0000,-999.000,-999.000
     316N145_5,  I08S,    61,  1,     23, SIH033,2,19941223,0131,-55.6250,  84.7388, 4790, 6103.5,    608.8,   2.2653,  34.6436,2,  34.6447,2,    178.2,2,  2.2293,    178.0,2,    76.44,2,    32.73,2,     0.01,2,     2.26,2, -999.000,9, -999.000,9, -999.000,5,-999.0000,5,  -999.00,9,   -999.0,9,  -999.00,9,-999.000,9,   -999.0,9,   -999.0,9,  -999.0, -999.00,-999.0000,-999.000,-999.000
     316N145_5,  I08S,    61,  1,     22, SIH031,2,19941223,0131,-55.6250,  84.7388, 4790, 7104.0,    709.4,   1.9977,  34.6454,2,  34.6474,2,    174.2,2,  1.9566,    177.0,2,    82.07,2,    33.32,2,     0.01,2,     2.30,2, -999.000,9, -999.000,9, -999.000,5,-999.0000,5,  -999.00,9,   -999.0,9,  -999.00,9,-999.000,9,   -999.0,9,   -999.0,9,  -999.0, -999.00,-999.0000,-999.000,-999.000
     316N145_5,  I08S,    61,  1,     21, SIH030,2,19941223,0131,-55.6250,  84.7388, 4790, 8101.6,    809.7,   1.9382,  34.6755,2,  34.6775,2,    179.1,2,  1.8910,    178.3,2,    84.88,2,    32.95,2,     0.00,2,     2.27,2, -999.000,9, -999.000,9, -999.000,5,-999.0000,5,  -999.00,9,   -999.0,9,  -999.00,9,-999.000,9,   -999.0,9,   -999.0,9,  -999.0, -999.00,-999.0000,-999.000,-999.000
     316N145_5,  I08S,    61,  1,     20, SIH028,2,19941223,0131,-55.6250,  84.7388, 4790, 9103.5,    910.5,   1.9597,  34.7132,2,  34.7125,2,    183.2,2,  1.9056,    184.0,2,    85.05,2,    31.78,2,     0.00,2,     2.19,2, -999.000,9, -999.000,9, -999.000,5,-999.0000,5,  -999.00,9,   -999.0,9,  -999.00,9,-999.000,9,   -999.0,9,   -999.0,9,  -999.0, -999.00,-999.0000,-999.000,-999.000
     316N145_5,  I08S,    61,  1,     19, SIH027,2,19941223,0131,-55.6250,  84.7388, 4790,10133.5,   1014.1,   1.6017,  34.6891,2,  34.6912,2,    189.6,2,  1.5436,    190.8,2,    86.54,2,    32.04,2,     0.01,2,     2.22,2, -999.000,9, -999.000,9, -999.000,5,-999.0000,5,  -999.00,9,   -999.0,9,  -999.00,9,-999.000,9,   -999.0,9,   -999.0,9,  -999.0, -999.00,-999.0000,-999.000,-999.000
     316N145_5,  I08S,    61,  1,     18, SIH003,2,19941223,0131,-55.6250,  84.7388, 4790,11128.1,   1114.2,   1.5920,  34.7066,2,  34.7087,2,    192.4,2,  1.5273,    193.5,2,    88.70,2,    31.61,2,     0.01,2,     2.19,2, -999.000,9, -999.000,9, -999.000,5,-999.0000,5,  -999.00,9,   -999.0,9,  -999.00,9,-999.000,9,   -999.0,9,   -999.0,9,  -999.0, -999.00,-999.0000,-999.000,-999.000
     316N145_5,  I08S,    61,  1,     17, SIH024,2,19941223,0131,-55.6250,  84.7388, 4790,12143.5,   1216.3,   1.7996,  34.7478,2,  34.7486,2,    195.6,2,  1.7259,    196.8,2,    88.04,2,    30.28,2,     0.00,2,     2.10,2, -999.000,9, -999.000,9, -999.000,5,-999.0000,5,  -999.00,9,   -999.0,9,  -999.00,9,-999.000,9,   -999.0,9,   -999.0,9,  -999.0, -999.00,-999.0000,-999.000,-999.000
     316N145_5,  I08S,    61,  1,     16, SIH022,2,19941223,0131,-55.6250,  84.7388, 4790,14131.0,   1416.2,   1.6120,  34.7458,2,  34.7478,2,    198.2,2,  1.5260,    199.7,2,    93.01,2,    30.34,2,     0.00,2,     2.10,2, -999.000,9, -999.000,9, -999.000,5,-999.0000,5,  -999.00,9,   -999.0,9,  -999.00,9,-999.000,9,   -999.0,9,   -999.0,9,  -999.0, -999.00,-999.0000,-999.000,-999.000
     316N145_5,  I08S,    61,  1,     15, SIH021,2,19941223,0131,-55.6250,  84.7388, 4790,16148.6,   1619.1,   1.4257,  34.7386,2,  34.7400,2,    197.4,2,  1.3270,    202.0,2,    97.97,2,    30.65,2,     0.00,2,     2.12,2, -999.000,9, -999.000,9, -999.000,5,-999.0000,5,  -999.00,9,   -999.0,9,  -999.00,9,-999.000,9,   -999.0,9,   -999.0,9,  -999.0, -999.00,-999.0000,-999.000,-999.000
     316N145_5,  I08S,    61,  1,     14, SIH002,2,19941223,0131,-55.6250,  84.7388, 4790,18179.8,   1823.5,   1.2196,  34.7287,2,  34.7307,2,    203.0,2,  1.1084,    204.2,2,   104.10,2,    30.97,2,     0.00,2,     2.15,2, -999.000,9, -999.000,9, -999.000,5,-999.0000,5,  -999.00,9,   -999.0,9,  -999.00,9,-999.000,9,   -999.0,9,   -999.0,9,  -999.0, -999.00,-999.0000,-999.000,-999.000
     316N145_5,  I08S,    61,  1,     13, SIH018,2,19941223,0131,-55.6250,  84.7388, 4790,20283.0,   2035.0,   1.0235,  34.7195,2,  34.7209,2,    203.4,2,  0.8990,    205.9,2,   109.89,2,    31.34,2,     0.00,2,     2.18,2, -999.000,9, -999.000,9, -999.000,5,-999.0000,5,  -999.00,9,   -999.0,9,  -999.00,9,-999.000,9,   -999.0,9,   -999.0,9,  -999.0, -999.00,-999.0000,-999.000,-999.000
     316N145_5,  I08S,    61,  1,     12, SIH016,2,19941223,0131,-55.6250,  84.7388, 4790,22304.4,   2238.3,   0.8655,  34.7112,2,  34.7119,2,    203.4,2,  0.7276,    207.2,2,   114.20,2,    31.67,2,     0.00,2,     2.20,2, -999.000,9, -999.000,9, -999.000,5,-999.0000,5,  -999.00,9,   -999.0,9,  -999.00,9,-999.000,9,   -999.0,9,   -999.0,9,  -999.0, -999.00,-999.0000,-999.000,-999.000
     316N145_5,  I08S,    61,  1,     11, SIH015,2,19941223,0131,-55.6250,  84.7388, 4790,24335.8,   2442.7,   0.6983,  34.7028,2,  34.7024,2,    206.9,2,  0.5469,    209.5,2,   119.33,2,    32.04,2,     0.00,2,     2.22,2, -999.000,9, -999.000,9, -999.000,5,-999.0000,5,  -999.00,9,   -999.0,9,  -999.00,9,-999.000,9,   -999.0,9,   -999.0,9,  -999.0, -999.00,-999.0000,-999.000,-999.000
     316N145_5,  I08S,    61,  1,     10, SIH013,2,19941223,0131,-55.6250,  84.7388, 4790,27369.2,   2747.8,   0.4584,  34.6904,2,  34.6903,2,    211.5,2,  0.2865,    213.5,2,   124.13,2,    32.30,2,     0.00,2,     2.25,2, -999.000,9, -999.000,9, -999.000,5,-999.0000,5,  -999.00,9,   -999.0,9,  -999.00,9,-999.000,9,   -999.0,9,   -999.0,9,  -999.0, -999.00,-999.0000,-999.000,-999.000
     316N145_5,  I08S,    61,  1,      9, SIH012,2,19941223,0131,-55.6250,  84.7388, 4790,30395.4,   3052.2,   0.2965,  34.6833,2,  34.6846,2,    216.4,2,  0.1018,    218.5,2,   126.13,2,    32.35,2,     0.00,2,     2.26,2, -999.000,9, -999.000,9, -999.000,5,-999.0000,5,  -999.00,9,   -999.0,9,  -999.00,9,-999.000,9,   -999.0,9,   -999.0,9,  -999.0, -999.00,-999.0000,-999.000,-999.000
     316N145_5,  I08S,    61,  1,      8, SIH010,2,19941223,0131,-55.6250,  84.7388, 4790,33460.9,   3360.6,   0.2122,  34.6809,2,  34.6810,2,    220.1,2, -0.0083,    222.4,2,   126.79,2,    32.30,2,     0.00,2,     2.26,2, -999.000,9, -999.000,9, -999.000,5,-999.0000,5,  -999.00,9,   -999.0,9,  -999.00,9,-999.000,9,   -999.0,9,   -999.0,9,  -999.0, -999.00,-999.0000,-999.000,-999.000
     316N145_5,  I08S,    61,  1,      7, SIH009,2,19941223,0131,-55.6250,  84.7388, 4790,36510.9,   3667.3,   0.1467,  34.6783,2,  34.6798,2,    224.5,2, -0.1010,    225.9,2,   127.30,2,    32.30,2,     0.00,2,     2.25,2, -999.000,9, -999.000,9, -999.000,5,-999.0000,5,  -999.00,9,   -999.0,9,  -999.00,9,-999.000,9,   -999.0,9,   -999.0,9,  -999.0, -999.00,-999.0000,-999.000,-999.000
     316N145_5,  I08S,    61,  1,      6, SIH038,2,19941223,0131,-55.6250,  84.7388, 4790,39622.7,   3980.4,   0.0658,  34.6761,2,  34.6757,2,    228.8,2, -0.2103,    229.4,2,   127.47,2,    32.20,2,     0.00,2,     2.25,2, -999.000,9, -999.000,9, -999.000,5,-999.0000,5,  -999.00,9,   -999.0,9,  -999.00,9,-999.000,9,   -999.0,9,   -999.0,9,  -999.0, -999.00,-999.0000,-999.000,-999.000
     316N145_5,  I08S,    61,  1,      5, SIH006,2,19941223,0131,-55.6250,  84.7388, 4790,42612.2,   4281.1,   0.0162,  34.6744,2,  34.6737,2,    232.2,2, -0.2891,    232.2,2,   127.14,2,    32.14,2,     0.00,2,     2.25,2, -999.000,9, -999.000,9, -999.000,5,-999.0000,5,  -999.00,9,   -999.0,9,  -999.00,9,-999.000,9,   -999.0,9,   -999.0,9,  -999.0, -999.00,-999.0000,-999.000,-999.000
     316N145_5,  I08S,    61,  1,      4, SIH004,2,19941223,0131,-55.6250,  84.7388, 4790,44701.2,   4491.2,  -0.0036,  34.6743,2,  34.6722,2,    235.2,2, -0.3304,    233.2,2,   127.32,2,    32.14,2,     0.00,2,     2.24,2, -999.000,9, -999.000,9, -999.000,5,-999.0000,5,  -999.00,9,   -999.0,9,  -999.00,9,-999.000,9,   -999.0,9,   -999.0,9,  -999.0, -999.00,-999.0000,-999.000,-999.000
     316N145_5,  I08S,    61,  1,      3, SIH025,2,19941223,0131,-55.6250,  84.7388, 4790,46912.9,   4713.7,  -0.0254,  34.6724,2,  34.6714,2,    237.3,2, -0.3756,    235.1,2,   127.66,2,    32.08,2,     0.00,2,     2.24,2, -999.000,9, -999.000,9, -999.000,5,-999.0000,5,  -999.00,9,   -999.0,9,  -999.00,9,-999.000,9,   -999.0,9,   -999.0,9,  -999.0, -999.00,-999.0000,-999.000,-999.000
     316N145_5,  I08S,    61,  1,      2, SIH001,2,19941223,0131,-55.6250,  84.7388, 4790,47908.7,   4813.9,  -0.0288,  34.6725,2,  34.6714,2,    237.2,2, -0.3899,    235.0,2,   127.67,2,    32.03,2,     0.00,2,     2.24,2, -999.000,9, -999.000,9, -999.000,5,-999.0000,5,  -999.00,9,   -999.0,9,  -999.00,9,-999.000,9,   -999.0,9,   -999.0,9,  -999.0, -999.00,-999.0000,-999.000,-999.000
     316N145_5,  I08S,    61,  1,      1, SIH036,2,19941223,0131,-55.6250,  84.7388, 4790,48370.0,   4860.3,  -0.0271,  34.6730,2,  34.6716,2,    238.1,2, -0.3935,    245.7,4,   128.10,2,    32.15,2,     0.00,2,     2.24,2, -999.000,9, -999.000,9, -999.000,5,-999.0000,5,  -999.00,9,   -999.0,9,  -999.00,9,-999.000,9,   -999.0,9,   -999.0,9,  -999.0, -999.00,-999.0000,-999.000,-999.000