BOTTLE,20090521WHPSIOdm
EXPOCODE,SECT_ID,STNNBR,CASTNO,SAMPNO,BTLNBR,BTLNBR_FLAG_W,DATE,TIME,LATITUDE,LONGITUDE,DEPTH,CTDRAW,CTDPRS,CTDTMP,CTDSAL,CTDSAL_FLAG_W,SALNTY,SALNTY_FLAG_W,CTDOXY,CTDOXY_FLAG_W,THETA,OXYGEN,OXYGEN_FLAG_W,SILCAT,SILCAT_FLAG_W,NITRAT,NITRAT_FLAG_W,NITRIT,NITRIT_FLAG_W,PHSPHT,PHSPHT_FLAG_W,CFC-11,CFC-11_FLAG_W,CFC-12,CFC-12_FLAG_W,TRITUM,TRITUM_FLAG_W,HELIUM,HELIUM_FLAG_W,DELHE3,DELHE3_FLAG_W,DELC14,DELC14_FLAG_W,DELC13,DELC13_FLAG_W,NEON,NEON_FLAG_W,TCARBN,TCARBN_FLAG_W,ALKALI,ALKALI_FLAG_W,C14ERR,DELHER,HELIER,NEONER,TRITER
,,,,,,,,,,,,,DBAR,IPTS-68,PSS-78,,PSS-78,,UMOL/KG,,IPTS-68,UMOL/KG,,UMOL/KG,,UMOL/KG,,UMOL/KG,,UMOL/KG,,PMOL/KG,,PMOL/KG,,TU,,NMOL/KG,,PERCNT,,/MILLE,,/MILLE,,NMOL/KG,,UMOL/KG,,UMOL/KG,,/MILLE,PERCNT,NMOL/KG,NMOL/KG,TU
     316N145_5,  I09S,   129,  1,     36, SI9446,2,19950114,0210,-42.5000, 114.9972, 4340,  186.8,     13.4,  12.7685,  34.8217,2,  34.8198,2,    276.4,2, 12.7667,    268.9,2,     1.08,2,     6.35,2,     0.13,2,     0.57,2,    3.352,2,    1.768,2, -999.000,5,-999.0000,5,  -999.00,9,   -999.0,9,  -999.00,9,-999.000,9,   -999.0,9,   -999.0,9,  -999.0, -999.00,-999.0000,-999.000,-999.000
     316N145_5,  I09S,   129,  1,     35, SIH032,2,19950114,0210,-42.5000, 114.9972, 4340,  373.7,     32.2,  12.7565,  34.8218,2,  34.8204,2,    278.2,2, 12.7521,    269.3,2,     1.08,2,     6.35,2,     0.13,2,     0.57,2,    3.364,2,    1.775,2, -999.000,5,-999.0000,5,  -999.00,9,   -999.0,9,  -999.00,9,-999.000,9,   -999.0,9,   -999.0,9,  -999.0, -999.00,-999.0000,-999.000,-999.000
     316N145_5,  I09S,   129,  1,     34, SIH029,2,19950114,0210,-42.5000, 114.9972, 4340,  632.1,     58.2,  12.4190,  34.8029,2,  34.8218,2,    262.7,2, 12.4113,    268.9,2,     1.08,2,     6.40,2,     0.13,2,     0.57,2,    3.351,2,    1.769,2, -999.000,5,-999.0000,5,  -999.00,9,   -999.0,9,  -999.00,9,-999.000,9,   -999.0,9,   -999.0,9,  -999.0, -999.00,-999.0000,-999.000,-999.000
     316N145_5,  I09S,   129,  1,     33, SIH026,2,19950114,0210,-42.5000, 114.9972, 4340,  884.2,     83.5,  11.1729,  34.7523,2,  34.7492,2,    274.6,2, 11.1626,    271.6,2,     2.21,2,     9.10,2,     0.18,2,     0.77,2,    3.615,6,    1.882,6, -999.000,5,-999.0000,5,  -999.00,9,   -999.0,9,  -999.00,9,-999.000,9,   -999.0,9,   -999.0,9,  -999.0, -999.00,-999.0000,-999.000,-999.000
     316N145_5,  I09S,   129,  1,     32, SIH023,2,19950114,0210,-42.5000, 114.9972, 4340, 1122.0,    107.4,  11.0120,  34.7543,2,  34.7524,2,    275.3,2, 10.9988,    270.5,2,     2.37,2,     9.25,2,     0.21,2,     0.78,2,    3.656,2,    1.902,2, -999.000,5,-999.0000,5,  -999.00,9,   -999.0,9,  -999.00,9,-999.000,9,   -999.0,9,   -999.0,9,  -999.0, -999.00,-999.0000,-999.000,-999.000
     316N145_5,  I09S,   129,  1,     31, SIH020,2,19950114,0210,-42.5000, 114.9972, 4340, 1612.7,    156.8,  10.0599,  34.7767,2,  34.7756,2,    271.0,2, 10.0417,    268.3,2,     3.48,2,    11.04,2,     0.80,2,     0.90,2,    3.740,2,    1.938,2, -999.000,5,-999.0000,5,  -999.00,9,   -999.0,9,  -999.00,9,-999.000,9,   -999.0,9,   -999.0,9,  -999.0, -999.00,-999.0000,-999.000,-999.000
     316N145_5,  I09S,   129,  1,     30, SIH017,2,19950114,0210,-42.5000, 114.9972, 4340, 2129.4,    208.8,   9.8449,  34.7581,2,  34.7579,2,    269.6,2,  9.8209,    264.4,2,     3.65,2,    12.42,2,     0.01,2,     0.93,2,    3.695,2,    1.892,2, -999.000,5,-999.0000,5,  -999.00,9,   -999.0,9,  -999.00,9,-999.000,9,   -999.0,9,   -999.0,9,  -999.0, -999.00,-999.0000,-999.000,-999.000
     316N145_5,  I09S,   129,  1,     29, SIH014,2,19950114,0210,-42.5000, 114.9972, 4340, 2616.5,    257.7,   9.7150,  34.7471,2,  34.7596,3,    269.8,2,  9.6856,    264.7,2,     3.66,2,    12.47,2,     0.01,2,     0.93,2,    3.684,2,    1.887,2, -999.000,5,-999.0000,5,  -999.00,9,   -999.0,9,  -999.00,9,-999.000,9,   -999.0,9,   -999.0,9,  -999.0, -999.00,-999.0000,-999.000,-999.000
     316N145_5,  I09S,   129,  1,     28, SIH011,2,19950114,0210,-42.5000, 114.9972, 4340, 3132.2,    309.6,   9.5267,  34.7141,2,  34.7138,2,    268.0,2,  9.4918,    263.0,2,     4.13,2,    13.45,2,     0.01,2,     0.99,2,    3.646,2,    1.873,2, -999.000,5,-999.0000,5,  -999.00,9,   -999.0,9,  -999.00,9,-999.000,9,   -999.0,9,   -999.0,9,  -999.0, -999.00,-999.0000,-999.000,-999.000
     316N145_5,  I09S,   129,  1,     27, SIH008,2,19950114,0210,-42.5000, 114.9972, 4340, 3616.1,    358.3,   9.4970,  34.7140,2,  34.7131,2,    270.0,2,  9.4566,    263.3,2,     4.30,2,    13.63,2,     0.01,2,     1.00,2,    3.608,2,    1.861,2, -999.000,5,-999.0000,5,  -999.00,9,   -999.0,9,  -999.00,9,-999.000,9,   -999.0,9,   -999.0,9,  -999.0, -999.00,-999.0000,-999.000,-999.000
     316N145_5,  I09S,   129,  1,     26, SIH005,2,19950114,0210,-42.5000, 114.9972, 4340, 4117.9,    408.7,   9.4706,  34.7149,2,  34.7148,2,    266.8,2,  9.4244,    262.5,2,     4.30,2,    13.72,2,     0.01,2,     1.01,2,    3.579,2,    1.869,2, -999.000,5,-999.0000,5,  -999.00,9,   -999.0,9,  -999.00,9,-999.000,9,   -999.0,9,   -999.0,9,  -999.0, -999.00,-999.0000,-999.000,-999.000
     316N145_5,  I09S,   129,  1,     25, SIH019,2,19950114,0210,-42.5000, 114.9972, 4340, 4626.5,    459.8,   9.4032,  34.7077,2,  34.7064,2,    261.6,2,  9.3513,    261.5,2,     4.62,2,    14.14,2,     0.01,2,     1.03,2,    3.509,2,    1.808,2, -999.000,5,-999.0000,5,  -999.00,9,   -999.0,9,  -999.00,9,-999.000,9,   -999.0,9,   -999.0,9,  -999.0, -999.00,-999.0000,-999.000,-999.000
     316N145_5,  I09S,   129,  1,     24, SIH037,2,19950114,0210,-42.5000, 114.9972, 4340, 5112.5,    508.7,   9.2945,  34.6912,2,  34.6908,2,    268.1,2,  9.2374,    260.9,2,     4.79,2,    14.51,2,     0.01,2,     1.06,2,    3.489,2,    1.789,2, -999.000,5,-999.0000,5,  -999.00,9,   -999.0,9,  -999.00,9,-999.000,9,   -999.0,9,   -999.0,9,  -999.0, -999.00,-999.0000,-999.000,-999.000
     316N145_5,  I09S,   129,  1,     23, SIH033,2,19950114,0210,-42.5000, 114.9972, 4340, 6118.5,    609.9,   8.7644,  34.6079,2,  34.6079,2,    259.3,2,  8.6980,    253.2,2,     6.06,2,    16.71,2,     0.00,2,     1.18,2, -999.000,9, -999.000,9, -999.000,5,-999.0000,5,  -999.00,9,   -999.0,9,  -999.00,9,-999.000,9,   -999.0,9,   -999.0,9,  -999.0, -999.00,-999.0000,-999.000,-999.000
     316N145_5,  I09S,   129,  1,     22, SIH031,2,19950114,0210,-42.5000, 114.9972, 4340, 7128.1,    711.4,   8.0099,  34.5182,2,  34.5166,2,    234.9,2,  7.9360,    230.0,2,     9.25,2,    20.58,2,     0.00,2,     1.41,2,    2.557,2,    1.279,2, -999.000,5,-999.0000,5,  -999.00,9,   -999.0,9,  -999.00,9,-999.000,9,   -999.0,9,   -999.0,9,  -999.0, -999.00,-999.0000,-999.000,-999.000
     316N145_5,  I09S,   129,  1,     21, SIH030,2,19950114,0210,-42.5000, 114.9972, 4340, 8121.5,    811.3,   7.0459,  34.4671,2,  34.4626,3,    206.4,2,  6.9669,    204.3,2,    15.77,2,    24.96,2,     0.00,2,     1.68,2, -999.000,9, -999.000,9, -999.000,5,-999.0000,5,  -999.00,9,   -999.0,9,  -999.00,9,-999.000,9,   -999.0,9,   -999.0,9,  -999.0, -999.00,-999.0000,-999.000,-999.000
     316N145_5,  I09S,   129,  1,     20, SIH028,2,19950114,0210,-42.5000, 114.9972, 4340, 9123.9,    912.1,   5.8649,  34.4033,2,  34.4004,2,    201.5,2,  5.7836,    200.6,2,    22.61,2,    27.85,2,     0.00,2,     1.87,2,    1.126,2,    0.561,2, -999.000,5,-999.0000,5,  -999.00,9,   -999.0,9,  -999.00,9,-999.000,9,   -999.0,9,   -999.0,9,  -999.0, -999.00,-999.0000,-999.000,-999.000
     316N145_5,  I09S,   129,  1,     19, SIH027,2,19950114,0210,-42.5000, 114.9972, 4340,10130.9,   1013.4,   4.9245,  34.3691,2,  34.3703,2,    201.4,2,  4.8408,    200.5,2,    29.62,2,    29.76,2,     0.00,2,     2.00,2,    0.902,2,    0.446,2, -999.000,5,-999.0000,5,  -999.00,9,   -999.0,9,  -999.00,9,-999.000,9,   -999.0,9,   -999.0,9,  -999.0, -999.00,-999.0000,-999.000,-999.000
     316N145_5,  I09S,   129,  1,     18, SIH003,2,19950114,0210,-42.5000, 114.9972, 4340,11130.6,   1114.0,   4.1342,  34.3539,2,  34.3539,2,    201.2,2,  4.0481,    201.3,2,    36.95,2,    31.20,2,     0.00,2,     2.11,2, -999.000,9, -999.000,9, -999.000,5,-999.0000,5,  -999.00,9,   -999.0,9,  -999.00,9,-999.000,9,   -999.0,9,   -999.0,9,  -999.0, -999.00,-999.0000,-999.000,-999.000
     316N145_5,  I09S,   129,  1,     17, SIH024,2,19950114,0210,-42.5000, 114.9972, 4340,12149.9,   1216.5,   3.6315,  34.3708,2,  34.3705,2,    195.1,2,  3.5411,    197.4,2,    43.95,2,    32.32,2,     0.00,2,     2.18,2,    0.733,2,    0.351,2, -999.000,5,-999.0000,5,  -999.00,9,   -999.0,9,  -999.00,9,-999.000,9,   -999.0,9,   -999.0,9,  -999.0, -999.00,-999.0000,-999.000,-999.000
     316N145_5,  I09S,   129,  1,     16, SIH022,2,19950114,0210,-42.5000, 114.9972, 4340,14148.9,   1417.6,   3.0279,  34.4616,2,  34.4606,2,    177.6,2,  2.9268,    178.1,2,    60.35,2,    33.62,2,     0.00,2,     2.30,2, -999.000,9, -999.000,9, -999.000,5,-999.0000,5,  -999.00,9,   -999.0,9,  -999.00,9,-999.000,9,   -999.0,9,   -999.0,9,  -999.0, -999.00,-999.0000,-999.000,-999.000
     316N145_5,  I09S,   129,  1,     15, SIH021,2,19950114,0210,-42.5000, 114.9972, 4340,16161.3,   1620.0,   2.7876,  34.5480,2,  34.5492,2,    169.9,2,  2.6723,    168.2,2,    70.69,2,    33.99,2,     0.00,2,     2.32,2,    0.120,2,    0.059,2, -999.000,5,-999.0000,5,  -999.00,9,   -999.0,9,  -999.00,9,-999.000,9,   -999.0,9,   -999.0,9,  -999.0, -999.00,-999.0000,-999.000,-999.000
     316N145_5,  I09S,   129,  1,     14, SIH002,2,19950114,0210,-42.5000, 114.9972, 4340,18169.5,   1822.0,   2.5977,  34.6230,2,  34.6223,2,    169.2,2,  2.4676,    169.3,2,    76.59,2,    33.38,2,     0.00,2,     2.26,2, -999.000,9, -999.000,9, -999.000,5,-999.0000,5,  -999.00,9,   -999.0,9,  -999.00,9,-999.000,9,   -999.0,9,   -999.0,9,  -999.0, -999.00,-999.0000,-999.000,-999.000
     316N145_5,  I09S,   129,  1,     13, SIH018,2,19950114,0210,-42.5000, 114.9972, 4340,20180.4,   2024.2,   2.4505,  34.6826,2,  34.6822,2,    173.2,2,  2.3049,    173.6,2,    81.21,2,    32.35,2,     0.00,2,     2.20,2, -999.000,9, -999.000,9, -999.000,5,-999.0000,5,  -999.00,9,   -999.0,9,  -999.00,9,-999.000,9,   -999.0,9,   -999.0,9,  -999.0, -999.00,-999.0000,-999.000,-999.000
     316N145_5,  I09S,   129,  1,     12, SIH016,2,19950114,0210,-42.5000, 114.9972, 4340,22205.3,   2227.9,   2.3251,  34.7176,2,  34.7182,2,    181.5,2,  2.1634,    181.4,2,    82.18,2,    31.36,2,     0.01,2,     2.12,2, -999.000,9, -999.000,9, -999.000,5,-999.0000,5,  -999.00,9,   -999.0,9,  -999.00,9,-999.000,9,   -999.0,9,   -999.0,9,  -999.0, -999.00,-999.0000,-999.000,-999.000
     316N145_5,  I09S,   129,  1,     11, SIH015,2,19950114,0210,-42.5000, 114.9972, 4340,24272.1,   2435.8,   2.1818,  34.7371,2,  34.7398,2,    185.2,2,  2.0037,    186.2,2,    86.50,2,    30.95,2,     0.00,2,     2.09,2, -999.000,9, -999.000,9, -999.000,5,-999.0000,5,  -999.00,9,   -999.0,9,  -999.00,9,-999.000,9,   -999.0,9,   -999.0,9,  -999.0, -999.00,-999.0000,-999.000,-999.000
     316N145_5,  I09S,   129,  1,     10, SI9426,2,19950114,0210,-42.5000, 114.9972, 4340,27293.3,   2739.7,   1.9470,  34.7496,2,  34.7490,2,    190.8,2,  1.7450,    193.9,2,    90.33,2,    30.53,2,     0.00,2,     2.05,2, -999.000,9, -999.000,9, -999.000,5,-999.0000,5,  -999.00,9,   -999.0,9,  -999.00,9,-999.000,9,   -999.0,9,   -999.0,9,  -999.0, -999.00,-999.0000,-999.000,-999.000
     316N145_5,  I09S,   129,  1,      9, SIH012,2,19950114,0210,-42.5000, 114.9972, 4340,30339.9,   3046.2,   1.6419,  34.7425,2,  34.7402,2,    195.1,2,  1.4171,    196.3,2,   100.69,2,    30.94,2,     0.01,2,     2.09,2,    0.008,4,    0.010,2, -999.000,5,-999.0000,5,  -999.00,9,   -999.0,9,  -999.00,9,-999.000,9,   -999.0,9,   -999.0,9,  -999.0, -999.00,-999.0000,-999.000,-999.000
     316N145_5,  I09S,   129,  1,      8, SIH010,2,19950114,0210,-42.5000, 114.9972, 4340,32410.1,   3254.4,   1.4163,  34.7358,2,  34.7331,2,    200.7,2,  1.1765,    201.4,2,   105.65,2,    30.99,2,     0.00,2,     2.09,2, -999.000,9, -999.000,9, -999.000,5,-999.0000,5,  -999.00,9,   -999.0,9,  -999.00,9,-999.000,9,   -999.0,9,   -999.0,9,  -999.0, -999.00,-999.0000,-999.000,-999.000
     316N145_5,  I09S,   129,  1,      7, SIH009,2,19950114,0210,-42.5000, 114.9972, 4340,34436.6,   3458.2,   1.2193,  34.7262,2,  34.7258,2,    202.5,2,  0.9641,    204.3,2,   111.88,2,    31.33,2,     0.00,2,     2.12,2, -999.000,9, -999.000,9, -999.000,5,-999.0000,5,  -999.00,9,   -999.0,9,  -999.00,9,-999.000,9,   -999.0,9,   -999.0,9,  -999.0, -999.00,-999.0000,-999.000,-999.000
     316N145_5,  I09S,   129,  1,      6, SIH038,2,19950114,0210,-42.5000, 114.9972, 4340,36436.5,   3659.4,   1.0294,  34.7168,2,  34.7156,2,    205.4,2,  0.7589,    206.8,2,   117.79,2,    31.60,2,     0.00,2,     2.14,2,    0.073,2,    0.026,2, -999.000,5,-999.0000,5,  -999.00,9,   -999.0,9,  -999.00,9,-999.000,9,   -999.0,9,   -999.0,9,  -999.0, -999.00,-999.0000,-999.000,-999.000
     316N145_5,  I09S,   129,  1,      5, SIH006,2,19950114,0210,-42.5000, 114.9972, 4340,38466.9,   3863.6,   0.9173,  34.7110,2,  34.7115,2,    209.0,2,  0.6289,    208.9,2,   121.16,2,    31.78,2,     0.00,2,     2.15,2, -999.000,9, -999.000,9, -999.000,5,-999.0000,5,  -999.00,9,   -999.0,9,  -999.00,9,-999.000,9,   -999.0,9,   -999.0,9,  -999.0, -999.00,-999.0000,-999.000,-999.000
     316N145_5,  I09S,   129,  1,      4, SIH004,2,19950114,0210,-42.5000, 114.9972, 4340,40507.6,   4068.9,   0.8545,  34.7077,2,  34.7070,2,    211.2,2,  0.5464,    209.8,2,   123.08,2,    31.88,2,     0.00,2,     2.16,2, -999.000,9, -999.000,9, -999.000,5,-999.0000,5,  -999.00,9,   -999.0,9,  -999.00,9,-999.000,9,   -999.0,9,   -999.0,9,  -999.0, -999.00,-999.0000,-999.000,-999.000
     316N145_5,  I09S,   129,  1,      3, SIH025,3,19950114,0210,-42.5000, 114.9972, 4340,42610.3,   4280.4,   0.8231,  34.7050,2,  34.7076,4,    212.9,2,  0.4932,    206.3,4,   115.78,4,    31.65,4,     0.00,4,     2.14,4, -999.000,9, -999.000,9, -999.000,5,-999.0000,5,  -999.00,9,   -999.0,9,  -999.00,9,-999.000,9,   -999.0,9,   -999.0,9,  -999.0, -999.00,-999.0000,-999.000,-999.000
     316N145_5,  I09S,   129,  1,      2, SIH001,2,19950114,0210,-42.5000, 114.9972, 4340,43330.3,   4352.9,   0.8197,  34.7056,2,  34.7036,2,    212.5,2,  0.4821,    210.7,2,   124.56,2,    31.97,2,     0.00,2,     2.16,2,    0.059,6,    0.035,6, -999.000,5,-999.0000,5,  -999.00,9,   -999.0,9,  -999.00,9,-999.000,9,   -999.0,9,   -999.0,9,  -999.0, -999.00,-999.0000,-999.000,-999.000
     316N145_5,  I09S,   129,  1,      1, SIH036,2,19950114,0210,-42.5000, 114.9972, 4340,43834.1,   4403.5,   0.8239,  34.7055,2,  34.7028,2,    213.2,2,  0.4805,    211.1,2,   124.64,2,    32.01,2,     0.00,2,     2.16,2,    0.068,2,    0.034,2, -999.000,5,-999.0000,5,  -999.00,9,   -999.0,9,  -999.00,9,-999.000,9,   -999.0,9,   -999.0,9,  -999.0, -999.00,-999.0000,-999.000,-999.000