BOTTLE,20090521WHPSIOdm
EXPOCODE,SECT_ID,STNNBR,CASTNO,SAMPNO,BTLNBR,BTLNBR_FLAG_W,DATE,TIME,LATITUDE,LONGITUDE,DEPTH,CTDRAW,CTDPRS,CTDTMP,CTDSAL,CTDSAL_FLAG_W,SALNTY,SALNTY_FLAG_W,CTDOXY,CTDOXY_FLAG_W,THETA,OXYGEN,OXYGEN_FLAG_W,SILCAT,SILCAT_FLAG_W,NITRAT,NITRAT_FLAG_W,NITRIT,NITRIT_FLAG_W,PHSPHT,PHSPHT_FLAG_W,CFC-11,CFC-11_FLAG_W,CFC-12,CFC-12_FLAG_W,TRITUM,TRITUM_FLAG_W,HELIUM,HELIUM_FLAG_W,DELHE3,DELHE3_FLAG_W,DELC14,DELC14_FLAG_W,DELC13,DELC13_FLAG_W,NEON,NEON_FLAG_W,TCARBN,TCARBN_FLAG_W,ALKALI,ALKALI_FLAG_W,C14ERR,DELHER,HELIER,NEONER,TRITER
,,,,,,,,,,,,,DBAR,IPTS-68,PSS-78,,PSS-78,,UMOL/KG,,IPTS-68,UMOL/KG,,UMOL/KG,,UMOL/KG,,UMOL/KG,,UMOL/KG,,PMOL/KG,,PMOL/KG,,TU,,NMOL/KG,,PERCNT,,/MILLE,,/MILLE,,NMOL/KG,,UMOL/KG,,UMOL/KG,,/MILLE,PERCNT,NMOL/KG,NMOL/KG,TU
     316N145_5,  I09S,   130,  1,     36, SI9446,2,19950114,0839,-41.9972, 114.9972, 4480,  202.3,     15.3,  12.7145,  34.8114,2,  34.8147,2,    279.6,2, 12.7125,    271.3,2,     0.64,2,     6.53,2,     0.14,2,     0.58,2, -999.000,9, -999.000,9, -999.000,5,-999.0000,5,  -999.00,9,   -999.0,9,  -999.00,9,-999.000,9,   2066.3,6,   2304.0,2,  -999.0, -999.00,-999.0000,-999.000,-999.000
     316N145_5,  I09S,   130,  1,     35, SIH032,2,19950114,0839,-41.9972, 114.9972, 4480,  322.9,     27.4,  12.6965,  34.8094,2,  34.8108,2,    277.0,2, 12.6928,    271.2,2,     0.64,2,     6.56,2,     0.14,2,     0.58,2, -999.000,9, -999.000,9, -999.000,5,-999.0000,5,  -999.00,9,   -999.0,9,  -999.00,9,-999.000,9,   2066.2,2,   2301.5,2,  -999.0, -999.00,-999.0000,-999.000,-999.000
     316N145_5,  I09S,   130,  1,     34, SIH029,2,19950114,0839,-41.9972, 114.9972, 4480,  562.2,     51.4,  11.9090,  34.7695,2,  34.7734,2,    279.4,2, 11.9024,    272.8,2,     1.27,2,     7.95,2,     0.15,2,     0.67,2, -999.000,9, -999.000,9, -999.000,5,-999.0000,5,  -999.00,9,   -999.0,9,  -999.00,9,-999.000,9,   2073.1,2,   2322.6,3,  -999.0, -999.00,-999.0000,-999.000,-999.000
     316N145_5,  I09S,   130,  1,     33, SIH026,2,19950114,0839,-41.9972, 114.9972, 4480,  809.5,     76.3,  10.9209,  34.7491,2,  34.7488,2,    272.4,2, 10.9116,    270.1,2,     2.55,2,     9.50,2,     0.20,2,     0.81,2, -999.000,9, -999.000,9, -999.000,5,-999.0000,5,  -999.00,9,   -999.0,9,  -999.00,9,-999.000,9,   2084.7,2,   2300.7,2,  -999.0, -999.00,-999.0000,-999.000,-999.000
     316N145_5,  I09S,   130,  1,     32, SIH023,2,19950114,0839,-41.9972, 114.9972, 4480, 1061.9,    101.7,  10.2397,  34.7635,2,  34.7657,2,    270.2,2, 10.2278,    266.3,2,     2.87,2,    10.34,2,     0.47,2,     0.86,2, -999.000,9, -999.000,9, -999.000,5,-999.0000,5,  -999.00,9,   -999.0,9,  -999.00,9,-999.000,9,   2094.2,2,   2297.3,2,  -999.0, -999.00,-999.0000,-999.000,-999.000
     316N145_5,  I09S,   130,  1,     31, SIH020,2,19950114,0839,-41.9972, 114.9972, 4480, 1571.3,    152.9,  10.1271,  34.8027,2,  34.8007,2,    262.0,2, 10.1093,    262.3,2,     3.35,2,    11.69,2,     0.01,2,     0.89,2, -999.000,9, -999.000,9, -999.000,5,-999.0000,5,  -999.00,9,   -999.0,9,  -999.00,9,-999.000,9,   2098.5,2,   2322.1,3,  -999.0, -999.00,-999.0000,-999.000,-999.000
     316N145_5,  I09S,   130,  1,     30, SIH017,2,19950114,0839,-41.9972, 114.9972, 4480, 2071.1,    203.2,   9.6886,  34.7295,2,  34.7296,2,    263.8,2,  9.6656,    263.4,2,     3.67,2,    12.71,2,     0.01,2,     0.96,2, -999.000,9, -999.000,9, -999.000,5,-999.0000,5,  -999.00,9,   -999.0,9,  -999.00,9,-999.000,9,   2100.9,2,   2295.3,2,  -999.0, -999.00,-999.0000,-999.000,-999.000
     316N145_5,  I09S,   130,  1,     29, SIH014,4,19950114,0839,-41.9972, 114.9972, 4480, 2561.9,    252.5,   9.6254,  34.7287,2,  34.6895,4,    268.0,2,  9.5968,    255.6,4,     5.58,4,    14.81,4,     0.01,4,     1.08,4, -999.000,9, -999.000,9, -999.000,5,-999.0000,5,  -999.00,9,   -999.0,9,  -999.00,9,-999.000,9,   2109.6,4,   2299.4,4,  -999.0, -999.00,-999.0000,-999.000,-999.000
     316N145_5,  I09S,   130,  1,     28, SIH011,2,19950114,0839,-41.9972, 114.9972, 4480, 3071.5,    303.8,   9.5720,  34.7257,2,  34.7264,2,    261.1,2,  9.5376,    262.4,2,     4.14,2,    13.36,2,     0.01,2,     0.99,2, -999.000,9, -999.000,9, -999.000,5,-999.0000,5,  -999.00,9,   -999.0,9,  -999.00,9,-999.000,9,   2100.8,2,   -999.0,9,  -999.0, -999.00,-999.0000,-999.000,-999.000
     316N145_5,  I09S,   130,  1,     27, SIH008,2,19950114,0839,-41.9972, 114.9972, 4480, 3565.6,    353.5,   9.5018,  34.7167,2,  34.7176,2,    262.5,2,  9.4619,    262.4,2,     4.14,2,    13.60,2,     0.01,2,     1.01,2, -999.000,9, -999.000,9, -999.000,5,-999.0000,5,  -999.00,9,   -999.0,9,  -999.00,9,-999.000,9,   2102.9,2,   2300.6,2,  -999.0, -999.00,-999.0000,-999.000,-999.000
     316N145_5,  I09S,   130,  1,     26, SIH005,2,19950114,0839,-41.9972, 114.9972, 4480, 4065.8,    403.8,   9.4560,  34.7130,2,  34.7140,2,    262.7,2,  9.4104,    260.7,2,     4.30,2,    13.92,2,     0.01,2,     1.03,2, -999.000,9, -999.000,9, -999.000,5,-999.0000,5,  -999.00,9,   -999.0,9,  -999.00,9,-999.000,9,   2103.6,2,   2294.5,2,  -999.0, -999.00,-999.0000,-999.000,-999.000
     316N145_5,  I09S,   130,  1,     25, SIH019,2,19950114,0839,-41.9972, 114.9972, 4480, 4555.5,    453.0,   9.3532,  34.6973,2,  34.6983,2,    265.2,2,  9.3023,    258.1,2,     4.62,2,    14.48,2,     0.01,2,     1.07,2, -999.000,9, -999.000,9, -999.000,5,-999.0000,5,  -999.00,9,   -999.0,9,  -999.00,9,-999.000,9,   2106.3,2,   2301.4,2,  -999.0, -999.00,-999.0000,-999.000,-999.000
     316N145_5,  I09S,   130,  1,     24, SIH037,2,19950114,0839,-41.9972, 114.9972, 4480, 5056.5,    503.4,   9.2577,  34.6842,2,  34.6867,2,    266.9,2,  9.2013,    259.4,2,     4.95,2,    14.71,2,     0.01,2,     1.08,2, -999.000,9, -999.000,9, -999.000,5,-999.0000,5,  -999.00,9,   -999.0,9,  -999.00,9,-999.000,9,   2107.1,2,   -999.0,9,  -999.0, -999.00,-999.0000,-999.000,-999.000
     316N145_5,  I09S,   130,  1,     23, SIH033,2,19950114,0839,-41.9972, 114.9972, 4480, 6071.5,    605.5,   8.7914,  34.6113,2,  34.6126,2,    250.6,2,  8.7253,    247.0,2,     6.22,2,    17.09,2,     0.01,2,     1.22,2, -999.000,9, -999.000,9, -999.000,5,-999.0000,5,  -999.00,9,   -999.0,9,  -999.00,9,-999.000,9,   2116.2,2,   2318.1,3,  -999.0, -999.00,-999.0000,-999.000,-999.000
     316N145_5,  I09S,   130,  1,     22, SIH031,2,19950114,0839,-41.9972, 114.9972, 4480, 7159.7,    714.9,   7.9929,  34.5201,2,  34.5205,2,    230.8,2,  7.9187,    226.7,2,     9.57,2,    20.88,2,     0.00,2,     1.45,2, -999.000,9, -999.000,9, -999.000,5,-999.0000,5,  -999.00,9,   -999.0,9,  -999.00,9,-999.000,9,   2133.8,2,   2296.1,2,  -999.0, -999.00,-999.0000,-999.000,-999.000
     316N145_5,  I09S,   130,  1,     21, SIH030,2,19950114,0839,-41.9972, 114.9972, 4480, 8162.7,    815.8,   7.1633,  34.4710,2,  34.4709,2,    212.6,2,  7.0832,    206.5,2,    14.84,2,    24.47,2,     0.00,2,     1.67,2, -999.000,9, -999.000,9, -999.000,5,-999.0000,5,  -999.00,9,   -999.0,9,  -999.00,9,-999.000,9,   2153.9,2,   2291.4,2,  -999.0, -999.00,-999.0000,-999.000,-999.000
     316N145_5,  I09S,   130,  1,     20, SIH028,2,19950114,0839,-41.9972, 114.9972, 4480, 9166.2,    916.7,   5.9842,  34.4069,2,  34.4072,2,    203.1,2,  5.9017,    202.1,2,    21.69,2,    27.45,2,     0.00,2,     1.88,2, -999.000,9, -999.000,9, -999.000,5,-999.0000,5,  -999.00,9,   -999.0,9,  -999.00,9,-999.000,9,   2169.0,2,   2307.6,2,  -999.0, -999.00,-999.0000,-999.000,-999.000
     316N145_5,  I09S,   130,  1,     19, SIH027,2,19950114,0839,-41.9972, 114.9972, 4480,10157.1,   1016.3,   5.0216,  34.3689,2,  34.3696,2,    202.3,2,  4.9369,    201.7,2,    28.56,2,    29.46,2,     0.00,2,     2.01,2, -999.000,9, -999.000,9, -999.000,5,-999.0000,5,  -999.00,9,   -999.0,9,  -999.00,9,-999.000,9,   2182.9,2,   2298.1,2,  -999.0, -999.00,-999.0000,-999.000,-999.000
     316N145_5,  I09S,   130,  1,     18, SIH003,2,19950114,0839,-41.9972, 114.9972, 4480,11165.3,   1117.8,   4.1525,  34.3503,2,  34.3503,2,    203.0,2,  4.0659,    202.7,2,    35.90,2,    30.99,2,     0.00,2,     2.12,2, -999.000,9, -999.000,9, -999.000,5,-999.0000,5,  -999.00,9,   -999.0,9,  -999.00,9,-999.000,9,   2194.7,6,   2320.0,2,  -999.0, -999.00,-999.0000,-999.000,-999.000
     316N145_5,  I09S,   130,  1,     17, SIH024,2,19950114,0839,-41.9972, 114.9972, 4480,12161.7,   1218.0,   3.6093,  34.3728,2,  34.3735,2,    192.3,2,  3.5191,    195.1,2,    44.83,2,    32.30,2,     0.00,2,     2.22,2, -999.000,9, -999.000,9, -999.000,5,-999.0000,5,  -999.00,9,   -999.0,9,  -999.00,9,-999.000,9,   2210.7,2,   2310.3,6,  -999.0, -999.00,-999.0000,-999.000,-999.000
     316N145_5,  I09S,   130,  1,     16, SIH022,2,19950114,0839,-41.9972, 114.9972, 4480,14166.8,   1419.7,   3.0111,  34.4564,2,  34.4563,2,    179.6,2,  2.9101,    179.3,2,    59.68,2,    33.74,2,     0.00,2,     2.32,2, -999.000,9, -999.000,9, -999.000,5,-999.0000,5,  -999.00,9,   -999.0,9,  -999.00,9,-999.000,9,   2232.7,2,   2324.3,2,  -999.0, -999.00,-999.0000,-999.000,-999.000
     316N145_5,  I09S,   130,  1,     15, SIH021,2,19950114,0839,-41.9972, 114.9972, 4480,16169.7,   1621.1,   2.7355,  34.5533,2,  34.5525,2,    171.2,2,  2.6208,    170.3,2,    70.53,2,    33.88,2,     0.00,2,     2.33,2, -999.000,9, -999.000,9, -999.000,5,-999.0000,5,  -999.00,9,   -999.0,9,  -999.00,9,-999.000,9,   2247.3,2,   2337.6,2,  -999.0, -999.00,-999.0000,-999.000,-999.000
     316N145_5,  I09S,   130,  1,     14, SIH002,2,19950114,0839,-41.9972, 114.9972, 4480,18184.5,   1823.8,   2.5833,  34.6290,2,  34.6290,2,    169.2,2,  2.4533,    168.9,2,    77.39,2,    33.31,2,     0.00,2,     2.29,2, -999.000,9, -999.000,9, -999.000,5,-999.0000,5,  -999.00,9,   -999.0,9,  -999.00,9,-999.000,9,   -999.0,9,   2362.4,2,  -999.0, -999.00,-999.0000,-999.000,-999.000
     316N145_5,  I09S,   130,  1,     13, SIH018,2,19950114,0839,-41.9972, 114.9972, 4480,20275.5,   2034.1,   2.4530,  34.6852,2,  34.6846,2,    170.8,2,  2.3065,    171.0,2,    84.09,2,    32.57,2,     0.00,2,     2.24,2, -999.000,9, -999.000,9, -999.000,5,-999.0000,5,  -999.00,9,   -999.0,9,  -999.00,9,-999.000,9,   2256.5,2,   2362.0,2,  -999.0, -999.00,-999.0000,-999.000,-999.000
     316N145_5,  I09S,   130,  1,     12, SIH016,2,19950114,0839,-41.9972, 114.9972, 4480,22288.9,   2236.6,   2.3131,  34.7160,2,  34.7142,2,    173.9,2,  2.1508,    171.2,2,    91.44,2,    32.20,2,     0.00,2,     2.22,2, -999.000,9, -999.000,9, -999.000,5,-999.0000,5,  -999.00,9,   -999.0,9,  -999.00,9,-999.000,9,   2262.1,2,   2359.0,2,  -999.0, -999.00,-999.0000,-999.000,-999.000
     316N145_5,  I09S,   130,  1,     11, SIH015,2,19950114,0839,-41.9972, 114.9972, 4480,24287.3,   2437.6,   2.1712,  34.7299,2,  34.7309,2,    178.2,2,  1.9931,    178.0,2,    94.46,2,    31.77,2,     0.00,2,     2.19,2, -999.000,9, -999.000,9, -999.000,5,-999.0000,5,  -999.00,9,   -999.0,9,  -999.00,9,-999.000,9,   2260.9,2,   2370.4,2,  -999.0, -999.00,-999.0000,-999.000,-999.000
     316N145_5,  I09S,   130,  1,     10, SI9426,2,19950114,0839,-41.9972, 114.9972, 4480,27313.6,   2742.0,   1.9324,  34.7410,2,  34.7435,2,    185.8,2,  1.7305,    186.1,2,    98.30,2,    31.31,2,     0.00,2,     2.15,2, -999.000,9, -999.000,9, -999.000,5,-999.0000,5,  -999.00,9,   -999.0,9,  -999.00,9,-999.000,9,   2259.0,2,   2367.7,2,  -999.0, -999.00,-999.0000,-999.000,-999.000
     316N145_5,  I09S,   130,  1,      9, SIH012,2,19950114,0839,-41.9972, 114.9972, 4480,30395.4,   3052.0,   1.6912,  34.7409,2,  34.7410,2,    191.4,2,  1.4647,    193.0,2,   102.14,2,    31.12,2,     0.00,2,     2.13,2, -999.000,9, -999.000,9, -999.000,5,-999.0000,5,  -999.00,9,   -999.0,9,  -999.00,9,-999.000,9,   2257.6,2,   2362.0,2,  -999.0, -999.00,-999.0000,-999.000,-999.000
     316N145_5,  I09S,   130,  1,      8, SIH010,2,19950114,0839,-41.9972, 114.9972, 4480,33552.0,   3369.6,   1.3920,  34.7344,2,  34.7347,2,    200.2,2,  1.1413,    201.7,2,   107.25,2,    31.03,2,     0.00,2,     2.12,2, -999.000,9, -999.000,9, -999.000,5,-999.0000,5,  -999.00,9,   -999.0,9,  -999.00,9,-999.000,9,   2253.2,2,   2369.1,2,  -999.0, -999.00,-999.0000,-999.000,-999.000
     316N145_5,  I09S,   130,  1,      7, SIH009,2,19950114,0839,-41.9972, 114.9972, 4480,36502.2,   3666.3,   1.0721,  34.7190,2,  34.7193,2,    204.3,2,  0.7997,    205.5,2,   116.83,2,    31.54,2,     0.00,2,     2.16,2, -999.000,9, -999.000,9, -999.000,5,-999.0000,5,  -999.00,9,   -999.0,9,  -999.00,9,-999.000,9,   2256.3,2,   2375.1,2,  -999.0, -999.00,-999.0000,-999.000,-999.000
     316N145_5,  I09S,   130,  1,      6, SIH038,2,19950114,0839,-41.9972, 114.9972, 4480,39468.7,   3964.7,   0.9185,  34.7114,2,  34.7111,2,    208.4,2,  0.6195,    208.6,2,   121.78,2,    31.82,2,     0.00,2,     2.17,2, -999.000,9, -999.000,9, -999.000,5,-999.0000,5,  -999.00,9,   -999.0,9,  -999.00,9,-999.000,9,   2257.9,2,   2376.1,2,  -999.0, -999.00,-999.0000,-999.000,-999.000
     316N145_5,  I09S,   130,  1,      5, SIH006,2,19950114,0839,-41.9972, 114.9972, 4480,41546.5,   4173.7,   0.8515,  34.7071,2,  34.7064,2,    210.7,2,  0.5323,    209.3,2,   123.55,2,    31.91,2,     0.00,2,     2.18,2, -999.000,9, -999.000,9, -999.000,5,-999.0000,5,  -999.00,9,   -999.0,9,  -999.00,9,-999.000,9,   2258.6,2,   2377.8,2,  -999.0, -999.00,-999.0000,-999.000,-999.000
     316N145_5,  I09S,   130,  1,      4, SIH004,2,19950114,0839,-41.9972, 114.9972, 4480,43569.5,   4377.2,   0.8232,  34.7045,2,  34.7050,2,    212.2,2,  0.4828,    210.4,2,   124.67,2,    32.06,2,     0.00,2,     2.19,2, -999.000,9, -999.000,9, -999.000,5,-999.0000,5,  -999.00,9,   -999.0,9,  -999.00,9,-999.000,9,   2261.0,2,   2371.6,2,  -999.0, -999.00,-999.0000,-999.000,-999.000
     316N145_5,  I09S,   130,  1,      3, SIH025,2,19950114,0839,-41.9972, 114.9972, 4480,44577.2,   4478.6,   0.8223,  34.7048,2,  34.7050,2,    213.5,2,  0.4706,    211.2,2,   125.00,2,    32.01,2,     0.00,2,     2.19,2, -999.000,9, -999.000,9, -999.000,5,-999.0000,5,  -999.00,9,   -999.0,9,  -999.00,9,-999.000,9,   2260.7,2,   2376.7,2,  -999.0, -999.00,-999.0000,-999.000,-999.000
     316N145_5,  I09S,   130,  1,      1, SIH036,2,19950114,0839,-41.9972, 114.9972, 4480,45305.1,   4551.8,   0.8262,  34.7049,2,  34.7040,2,    213.5,2,  0.4662,    211.2,2,   125.06,2,    32.07,2,     0.00,2,     2.19,2,    0.071,6,    0.043,6, -999.000,5,-999.0000,5,  -999.00,9,   -999.0,9,  -999.00,9,-999.000,9,   2260.9,6,   2358.3,3,  -999.0, -999.00,-999.0000,-999.000,-999.000
     316N145_5,  I09S,   130,  1,      2, SIH001,2,19950114,0839,-41.9972, 114.9972, 4480,45314.6,   4552.8,   0.8266,  34.7047,2,  34.7036,2,    214.5,2,  0.4665,    210.4,2,  -999.00,9,  -999.00,9,  -999.00,9,  -999.00,9,    0.070,6,    0.041,6, -999.000,5,-999.0000,5,  -999.00,9,   -999.0,9,  -999.00,9,-999.000,9,   2260.4,2,   -999.0,9,  -999.0, -999.00,-999.0000,-999.000,-999.000