BOTTLE,20090521WHPSIOdm
EXPOCODE,SECT_ID,STNNBR,CASTNO,SAMPNO,BTLNBR,BTLNBR_FLAG_W,DATE,TIME,LATITUDE,LONGITUDE,DEPTH,CTDRAW,CTDPRS,CTDTMP,CTDSAL,CTDSAL_FLAG_W,SALNTY,SALNTY_FLAG_W,CTDOXY,CTDOXY_FLAG_W,THETA,OXYGEN,OXYGEN_FLAG_W,SILCAT,SILCAT_FLAG_W,NITRAT,NITRAT_FLAG_W,NITRIT,NITRIT_FLAG_W,PHSPHT,PHSPHT_FLAG_W,CFC-11,CFC-11_FLAG_W,CFC-12,CFC-12_FLAG_W,TRITUM,TRITUM_FLAG_W,HELIUM,HELIUM_FLAG_W,DELHE3,DELHE3_FLAG_W,DELC14,DELC14_FLAG_W,DELC13,DELC13_FLAG_W,NEON,NEON_FLAG_W,TCARBN,TCARBN_FLAG_W,ALKALI,ALKALI_FLAG_W,C14ERR,DELHER,HELIER,NEONER,TRITER
,,,,,,,,,,,,,DBAR,IPTS-68,PSS-78,,PSS-78,,UMOL/KG,,IPTS-68,UMOL/KG,,UMOL/KG,,UMOL/KG,,UMOL/KG,,UMOL/KG,,PMOL/KG,,PMOL/KG,,TU,,NMOL/KG,,PERCNT,,/MILLE,,/MILLE,,NMOL/KG,,UMOL/KG,,UMOL/KG,,/MILLE,PERCNT,NMOL/KG,NMOL/KG,TU
     316N145_5,  I09S,   120,  1,     35, SIH032,2,19950111,1620,-47.0083, 114.9833, 3855,  180.5,     12.8,   9.2537,  34.3502,2,  34.3535,2,    278.2,2,  9.2523,    283.8,2,     1.39,2,    14.16,2,     0.23,2,     1.06,2,    4.086,6,    2.103,6, -999.000,5,-999.0000,5,  -999.00,9,   -999.0,9,  -999.00,9,-999.000,9,   2087.4,2,   2281.7,6,  -999.0, -999.00,-999.0000,-999.000,-999.000
     316N145_5,  I09S,   120,  1,     34, SIH029,2,19950111,1620,-47.0083, 114.9833, 3855,  367.3,     31.6,   9.2471,  34.3491,2,  34.3535,2,    285.4,2,  9.2436,    283.8,2,     1.38,2,    14.15,2,     0.23,2,     1.06,2,    4.075,2,    2.080,2, -999.000,5,-999.0000,5,  -999.00,9,   -999.0,9,  -999.00,9,-999.000,9,   2086.5,6,   2283.5,2,  -999.0, -999.00,-999.0000,-999.000,-999.000
     316N145_5,  I09S,   120,  1,     33, SIH026,2,19950111,1620,-47.0083, 114.9833, 3855,  638.8,     58.9,   9.2591,  34.3500,2,  34.3535,2,    281.2,2,  9.2527,    284.3,2,     1.38,2,    14.14,2,     0.23,2,     1.06,2,    4.097,2,    2.062,2, -999.000,5,-999.0000,5,  -999.00,9,   -999.0,9,  -999.00,9,-999.000,9,   2086.1,2,   2294.5,2,  -999.0, -999.00,-999.0000,-999.000,-999.000
     316N145_5,  I09S,   120,  1,     32, SIH023,2,19950111,1620,-47.0083, 114.9833, 3855, 1134.8,    108.7,   8.6319,  34.4956,2,  34.4972,2,    276.9,2,  8.6205,    272.2,2,     5.02,2,    15.74,2,     0.28,2,     1.16,2,    3.998,2,    2.037,2, -999.000,5,-999.0000,5,  -999.00,9,   -999.0,9,  -999.00,9,-999.000,9,   2104.9,2,   2291.1,2,  -999.0, -999.00,-999.0000,-999.000,-999.000
     316N145_5,  I09S,   120,  1,     31, SIH020,2,19950111,1620,-47.0083, 114.9833, 3855, 1616.4,    157.2,   8.4126,  34.5053,2,  34.5093,2,    275.9,2,  8.3963,    272.8,2,     5.98,2,    16.30,2,     0.01,2,     1.18,2,    3.942,2,    2.027,2, -999.000,5,-999.0000,5,  -999.00,9,   -999.0,9,  -999.00,9,-999.000,9,   2108.0,2,   2287.0,2,  -999.0, -999.00,-999.0000,-999.000,-999.000
     316N145_5,  I09S,   120,  1,     30, SIH017,2,19950111,1620,-47.0083, 114.9833, 3855, 2121.0,    207.9,   8.2524,  34.4930,2,  34.4976,2,    270.4,2,  8.2311,    269.3,2,     6.30,2,    16.88,2,     0.01,2,     1.22,2,    3.921,2,    1.988,2, -999.000,5,-999.0000,5,  -999.00,9,   -999.0,9,  -999.00,9,-999.000,9,   2110.9,2,   -999.0,9,  -999.0, -999.00,-999.0000,-999.000,-999.000
     316N145_5,  I09S,   120,  1,     29, SIH014,2,19950111,1620,-47.0083, 114.9833, 3855, 2628.9,    259.0,   7.7808,  34.4347,2,  34.4396,2,    267.8,2,  7.7551,    262.7,2,     7.41,2,    18.54,2,     0.01,2,     1.32,2,    3.715,2,    1.876,2, -999.000,5,-999.0000,5,  -999.00,9,   -999.0,9,  -999.00,9,-999.000,9,   2117.8,2,   2289.9,2,  -999.0, -999.00,-999.0000,-999.000,-999.000
     316N145_5,  I09S,   120,  1,     28, SIH011,2,19950111,1620,-47.0083, 114.9833, 3855, 3120.6,    308.4,   7.3416,  34.3953,2,  34.3998,2,    263.4,2,  7.3119,    259.0,2,     8.52,2,    19.94,2,     0.01,2,     1.40,2, -999.000,9, -999.000,9, -999.000,5,-999.0000,5,  -999.00,9,   -999.0,9,  -999.00,9,-999.000,9,   2123.4,2,   2282.9,2,  -999.0, -999.00,-999.0000,-999.000,-999.000
     316N145_5,  I09S,   120,  1,     27, SIH008,2,19950111,1620,-47.0083, 114.9833, 3855, 3630.3,    359.7,   7.2758,  34.4241,2,  34.4284,2,    248.8,2,  7.2413,   -999.0,9,     9.94,2,    21.11,2,     0.01,2,     1.47,2,    3.088,2,    1.553,2, -999.000,5,-999.0000,5,  -999.00,9,   -999.0,9,  -999.00,9,-999.000,9,   2132.3,6,   2292.5,2,  -999.0, -999.00,-999.0000,-999.000,-999.000
     316N145_5,  I09S,   120,  1,     26, SIH005,2,19950111,1620,-47.0083, 114.9833, 3855, 3632.0,    359.9,   7.2748,  34.4229,2,  34.4286,2,    250.7,2,  7.2403,    245.0,2,     9.94,2,    21.09,2,     0.01,2,     1.48,2,    3.081,2,    1.562,2, -999.000,5,-999.0000,5,  -999.00,9,   -999.0,9,  -999.00,9,-999.000,9,   -999.0,9,   2289.8,2,  -999.0, -999.00,-999.0000,-999.000,-999.000
     316N145_5,  I09S,   120,  1,     25, SIH019,2,19950111,1620,-47.0083, 114.9833, 3855, 4606.6,    457.9,   6.0618,  34.2896,2,  34.2946,2,    263.5,2,  6.0218,    256.2,2,    11.53,2,    23.13,2,     0.01,2,     1.60,2,    3.484,2,    1.726,2, -999.000,5,-999.0000,5,  -999.00,9,   -999.0,9,  -999.00,9,-999.000,9,   2137.9,2,   2276.2,2,  -999.0, -999.00,-999.0000,-999.000,-999.000
     316N145_5,  I09S,   120,  1,     24, SIH037,2,19950111,1620,-47.0083, 114.9833, 3855, 5133.4,    510.9,   5.6831,  34.2700,2,  34.2740,2,    256.6,2,  5.6398,    250.7,2,    13.60,2,    24.49,2,     0.01,2,     1.67,2,    3.363,2,    1.639,2, -999.000,5,-999.0000,5,  -999.00,9,   -999.0,9,  -999.00,9,-999.000,9,   2145.7,2,   2286.7,2,  -999.0, -999.00,-999.0000,-999.000,-999.000
     316N145_5,  I09S,   120,  1,     23, SIH033,2,19950111,1620,-47.0083, 114.9833, 3855, 6117.5,    609.8,   5.0395,  34.2749,2,  34.2799,2,    239.5,2,  4.9904,    237.5,2,    19.00,2,    26.97,2,     0.01,2,     1.85,2,    2.872,2,    1.376,2, -999.000,5,-999.0000,5,  -999.00,9,   -999.0,9,  -999.00,9,-999.000,9,   2161.7,2,   2290.4,2,  -999.0, -999.00,-999.0000,-999.000,-999.000
     316N145_5,  I09S,   120,  1,     22, SIH031,2,19950111,1620,-47.0083, 114.9833, 3855, 7111.2,    709.8,   4.7437,  34.3140,2,  34.3180,2,    225.0,2,  4.6877,    221.2,2,    25.04,2,    28.81,2,     0.00,2,     1.97,2,    2.028,2,    0.972,2, -999.000,5,-999.0000,5,  -999.00,9,   -999.0,9,  -999.00,9,-999.000,9,   2175.5,2,   2281.7,2,  -999.0, -999.00,-999.0000,-999.000,-999.000
     316N145_5,  I09S,   120,  1,     20, SIH028,2,19950111,1620,-47.0083, 114.9833, 3855, 8110.4,    810.3,   4.1461,  34.3243,2,  34.3293,2,    215.9,2,  4.0853,    212.3,2,    32.75,2,    30.56,2,     0.00,2,     2.09,2,    1.443,2,    0.695,2, -999.000,5,-999.0000,5,  -999.00,9,   -999.0,9,  -999.00,9,-999.000,9,   -999.0,9,   2301.9,2,  -999.0, -999.00,-999.0000,-999.000,-999.000
     316N145_5,  I09S,   120,  1,     21, SIH030,2,19950111,1620,-47.0083, 114.9833, 3855, 8114.5,    810.7,   4.1466,  34.3252,2,  34.3274,2,    216.3,2,  4.0857,    212.2,2,    32.60,2,    30.62,2,     0.00,2,     2.08,2,    1.453,2,    0.696,2, -999.000,5,-999.0000,5,  -999.00,9,   -999.0,9,  -999.00,9,-999.000,9,   2189.2,6,   2305.4,2,  -999.0, -999.00,-999.0000,-999.000,-999.000
     316N145_5,  I09S,   120,  1,     19, SIH027,2,19950111,1620,-47.0083, 114.9833, 3855,10163.3,   1016.8,   3.0946,  34.3408,2,  34.3417,2,    205.7,2,  3.0250,    205.5,2,    45.55,2,    32.81,2,     0.00,2,     2.24,2,    1.412,2,    0.667,2, -999.000,5,-999.0000,5,  -999.00,9,   -999.0,9,  -999.00,9,-999.000,9,   2210.6,2,   2302.4,2,  -999.0, -999.00,-999.0000,-999.000,-999.000
     316N145_5,  I09S,   120,  1,     18, SIH003,2,19950111,1620,-47.0083, 114.9833, 3855,11096.0,   1110.6,   3.0220,  34.3994,2,  34.4021,2,    191.0,2,  2.9456,    192.2,2,    52.71,2,    33.52,2,     0.00,2,     2.29,2,    0.870,2,    0.414,2, -999.000,5,-999.0000,5,  -999.00,9,   -999.0,9,  -999.00,9,-999.000,9,   2223.8,6,   2322.8,2,  -999.0, -999.00,-999.0000,-999.000,-999.000
     316N145_5,  I09S,   120,  1,     17, SIH024,2,19950111,1620,-47.0083, 114.9833, 3855,12199.3,   1221.6,   2.8804,  34.4551,2,  34.4587,2,    180.3,2,  2.7966,    182.9,2,    59.60,2,    33.85,2,     0.00,2,     2.32,2,    0.569,2,    0.271,2, -999.000,5,-999.0000,5,  -999.00,9,   -999.0,9,  -999.00,9,-999.000,9,   2233.4,6,   2341.6,3,  -999.0, -999.00,-999.0000,-999.000,-999.000
     316N145_5,  I09S,   120,  1,     16, SIH022,2,19950111,1620,-47.0083, 114.9833, 3855,12205.9,   1222.2,   2.8789,  34.4557,2,  34.4614,2,    180.2,2,  2.7950,    183.1,2,    59.60,2,    33.91,2,     0.00,2,     2.32,2,    0.574,2,    0.283,2, -999.000,5,-999.0000,5,  -999.00,9,   -999.0,9,  -999.00,9,-999.000,9,   -999.0,9,   2320.3,2,  -999.0, -999.00,-999.0000,-999.000,-999.000
     316N145_5,  I09S,   120,  1,     15, SIH021,2,19950111,1620,-47.0083, 114.9833, 3855,14071.7,   1409.9,   2.6678,  34.5385,2,  34.5423,2,    171.5,2,  2.5711,    175.6,2,    67.50,2,    33.85,2,     0.00,2,     2.31,2,    0.324,2,    0.156,2, -999.000,5,-999.0000,5,  -999.00,9,   -999.0,9,  -999.00,9,-999.000,9,   2242.4,2,   2331.8,2,  -999.0, -999.00,-999.0000,-999.000,-999.000
     316N145_5,  I09S,   120,  1,     14, SIH002,2,19950111,1620,-47.0083, 114.9833, 3855,15021.8,   1505.5,   2.5893,  34.5833,2,  34.5869,2,    172.6,2,  2.4858,    175.4,2,    70.53,2,    33.40,2,     0.00,2,     2.28,2,    0.242,6,    0.118,6, -999.000,5,-999.0000,5,  -999.00,9,   -999.0,9,  -999.00,9,-999.000,9,   2245.2,2,   2343.0,2,  -999.0, -999.00,-999.0000,-999.000,-999.000
     316N145_5,  I09S,   120,  1,     13, SIH018,2,19950111,1620,-47.0083, 114.9833, 3855,17080.7,   1712.6,   2.4755,  34.6536,2,  34.6559,2,    175.3,2,  2.3562,    178.4,2,    74.02,2,    32.31,2,     0.00,2,     2.21,2,    0.133,2,    0.065,2, -999.000,5,-999.0000,5,  -999.00,9,   -999.0,9,  -999.00,9,-999.000,9,   2246.1,2,   2338.1,2,  -999.0, -999.00,-999.0000,-999.000,-999.000
     316N145_5,  I09S,   120,  1,     12, SIH016,2,19950111,1620,-47.0083, 114.9833, 3855,19261.2,   1931.9,   2.3570,  34.7069,2,  34.7089,2,    180.7,2,  2.2207,    184.6,2,    76.73,2,    30.98,2,     0.00,2,     2.13,2,    0.075,2,    0.041,2, -999.000,5,-999.0000,5,  -999.00,9,   -999.0,9,  -999.00,9,-999.000,9,   2242.2,2,   2346.9,2,  -999.0, -999.00,-999.0000,-999.000,-999.000
     316N145_5,  I09S,   120,  1,     11, SIH015,2,19950111,1620,-47.0083, 114.9833, 3855,21336.0,   2140.6,   2.2299,  34.7331,2,  34.7366,2,    187.1,2,  2.0774,    190.9,2,    79.43,2,    30.34,2,     0.00,2,     2.08,2,    0.056,2,    0.029,2, -999.000,5,-999.0000,5,  -999.00,9,   -999.0,9,  -999.00,9,-999.000,9,   2241.6,2,   2351.9,2,  -999.0, -999.00,-999.0000,-999.000,-999.000
     316N145_5,  I09S,   120,  1,     10, SIH013,2,19950111,1620,-47.0083, 114.9833, 3855,23305.7,   2338.7,   2.0638,  34.7460,2,  34.7512,2,    189.9,2,  1.8966,    193.8,2,    84.22,2,    30.09,2,     0.00,2,     2.06,2,    0.038,2,    0.021,2, -999.000,5,-999.0000,5,  -999.00,9,   -999.0,9,  -999.00,9,-999.000,9,   2242.4,2,   2351.0,2,  -999.0, -999.00,-999.0000,-999.000,-999.000
     316N145_5,  I09S,   120,  1,      9, SIH012,2,19950111,1620,-47.0083, 114.9833, 3855,25901.2,   2599.8,   1.8094,  34.7484,2,  34.7494,2,    194.4,2,  1.6232,    193.8,4,    84.31,2,    30.10,2,     0.00,2,     2.06,2,    0.043,2,    0.026,2, -999.000,5,-999.0000,5,  -999.00,9,   -999.0,9,  -999.00,9,-999.000,9,   2242.4,2,   2351.8,2,  -999.0, -999.00,-999.0000,-999.000,-999.000
     316N145_5,  I09S,   120,  1,      8, SIH010,2,19950111,1620,-47.0083, 114.9833, 3855,27557.7,   2766.4,   1.6392,  34.7424,2,  34.7455,2,    196.2,2,  1.4410,    199.7,2,    97.27,2,    30.39,2,     0.00,2,     2.09,2,    0.029,2,    0.018,2, -999.000,5,-999.0000,5,  -999.00,9,   -999.0,9,  -999.00,9,-999.000,9,   2248.2,2,   2371.8,2,  -999.0, -999.00,-999.0000,-999.000,-999.000
     316N145_5,  I09S,   120,  1,      7, SIH009,2,19950111,1620,-47.0083, 114.9833, 3855,29195.5,   2931.1,   1.4497,  34.7358,2,  34.7380,2,    197.7,2,  1.2402,    200.1,2,   103.96,2,    30.81,2,     0.00,2,     2.12,2,    0.024,2,    0.013,2, -999.000,5,-999.0000,5,  -999.00,9,   -999.0,9,  -999.00,9,-999.000,9,   2252.2,2,   2365.3,2,  -999.0, -999.00,-999.0000,-999.000,-999.000
     316N145_5,  I09S,   120,  1,      6, SIH038,2,19950111,1620,-47.0083, 114.9833, 3855,31348.4,   3147.7,   1.2302,  34.7247,2,  34.7290,2,    200.1,2,  1.0051,    203.9,2,   111.29,2,    31.19,2,     0.00,2,     2.15,2,    0.038,2,    0.022,2, -999.000,5,-999.0000,5,  -999.00,9,   -999.0,9,  -999.00,9,-999.000,9,   2254.2,2,   2368.1,2,  -999.0, -999.00,-999.0000,-999.000,-999.000
     316N145_5,  I09S,   120,  1,      5, SIH006,2,19950111,1620,-47.0083, 114.9833, 3855,33296.3,   3343.6,   1.1048,  34.7194,2,  34.7213,2,    202.7,2,  0.8638,    204.8,2,   115.43,2,    31.36,2,     0.00,2,     2.16,2,    0.052,2,    0.028,2, -999.000,5,-999.0000,5,  -999.00,9,   -999.0,9,  -999.00,9,-999.000,9,   2255.5,2,   2370.0,2,  -999.0, -999.00,-999.0000,-999.000,-999.000
     316N145_5,  I09S,   120,  1,      4, SIH004,2,19950111,1620,-47.0083, 114.9833, 3855,35329.5,   3548.2,   1.0183,  34.7146,2,  34.7166,2,    204.2,2,  0.7593,    206.7,2,   118.47,2,    31.59,2,     0.00,2,     2.18,2,    0.053,2,    0.030,2, -999.000,5,-999.0000,5,  -999.00,9,   -999.0,9,  -999.00,9,-999.000,9,   2257.4,2,   2363.3,2,  -999.0, -999.00,-999.0000,-999.000,-999.000
     316N145_5,  I09S,   120,  1,      3, SIH025,2,19950111,1620,-47.0083, 114.9833, 3855,37270.9,   3743.5,   0.9891,  34.7127,2,  34.7150,2,    204.6,2,  0.7111,    207.3,2,   119.75,2,    31.67,2,     0.00,2,     2.18,2,    0.056,2,    0.035,2, -999.000,5,-999.0000,5,  -999.00,9,   -999.0,9,  -999.00,9,-999.000,9,   2258.4,2,   2371.9,2,  -999.0, -999.00,-999.0000,-999.000,-999.000
     316N145_5,  I09S,   120,  1,      2, SIH001,2,19950111,1620,-47.0083, 114.9833, 3855,38043.8,   3821.2,   0.9780,  34.7115,2,  34.7127,2,    206.0,2,  0.6923,    207.7,2,   120.23,2,    31.66,2,     0.00,2,     2.18,2,    0.058,2,    0.030,2, -999.000,5,-999.0000,5,  -999.00,9,   -999.0,9,  -999.00,9,-999.000,9,   2260.2,2,   2385.6,3,  -999.0, -999.00,-999.0000,-999.000,-999.000
     316N145_5,  I09S,   120,  1,      1, SIH036,2,19950111,1620,-47.0083, 114.9833, 3855,38630.0,   3880.2,   0.9781,  34.7115,2,  34.7132,2,    206.4,2,  0.6863,    208.1,2,   120.72,2,    31.72,2,     0.00,2,     2.18,2,    0.058,2,    0.032,2, -999.000,5,-999.0000,5,  -999.00,9,   -999.0,9,  -999.00,9,-999.000,9,   2259.1,6,   2372.6,6,  -999.0, -999.00,-999.0000,-999.000,-999.000