BOTTLE,20090521WHPSIOdm
EXPOCODE,SECT_ID,STNNBR,CASTNO,SAMPNO,BTLNBR,BTLNBR_FLAG_W,DATE,TIME,LATITUDE,LONGITUDE,DEPTH,CTDRAW,CTDPRS,CTDTMP,CTDSAL,CTDSAL_FLAG_W,SALNTY,SALNTY_FLAG_W,CTDOXY,CTDOXY_FLAG_W,THETA,OXYGEN,OXYGEN_FLAG_W,SILCAT,SILCAT_FLAG_W,NITRAT,NITRAT_FLAG_W,NITRIT,NITRIT_FLAG_W,PHSPHT,PHSPHT_FLAG_W,CFC-11,CFC-11_FLAG_W,CFC-12,CFC-12_FLAG_W,TRITUM,TRITUM_FLAG_W,HELIUM,HELIUM_FLAG_W,DELHE3,DELHE3_FLAG_W,DELC14,DELC14_FLAG_W,DELC13,DELC13_FLAG_W,NEON,NEON_FLAG_W,TCARBN,TCARBN_FLAG_W,ALKALI,ALKALI_FLAG_W,C14ERR,DELHER,HELIER,NEONER,TRITER
,,,,,,,,,,,,,DBAR,IPTS-68,PSS-78,,PSS-78,,UMOL/KG,,IPTS-68,UMOL/KG,,UMOL/KG,,UMOL/KG,,UMOL/KG,,UMOL/KG,,PMOL/KG,,PMOL/KG,,TU,,NMOL/KG,,PERCNT,,/MILLE,,/MILLE,,NMOL/KG,,UMOL/KG,,UMOL/KG,,/MILLE,PERCNT,NMOL/KG,NMOL/KG,TU
     316N145_5,  I09S,   106,  1,     36, SIH035,2,19950107,2214,-54.4055, 114.9862, 4180,  169.2,     11.6,   4.1527,  33.9029,2,  33.9064,2,    324.7,2,  4.1519,    320.6,2,     0.72,2,    22.09,2,     0.25,2,     1.51,2, -999.000,9, -999.000,9, -999.000,5,-999.0000,5,  -999.00,9,   -999.0,9,  -999.00,9,-999.000,9,   2117.0,6,   2277.7,2,  -999.0, -999.00,-999.0000,-999.000,-999.000
     316N145_5,  I09S,   106,  1,     35, SIH032,2,19950107,2214,-54.4055, 114.9862, 4180,  375.7,     32.3,   4.1475,  33.9033,2,  33.9062,2,    324.6,2,  4.1453,    320.8,2,     0.72,2,    22.08,2,     0.25,2,     1.51,2, -999.000,9, -999.000,9, -999.000,5,-999.0000,5,  -999.00,9,   -999.0,9,  -999.00,9,-999.000,9,   2116.7,2,   2291.6,2,  -999.0, -999.00,-999.0000,-999.000,-999.000
     316N145_5,  I09S,   106,  1,     34, SIH029,2,19950107,2214,-54.4055, 114.9862, 4180,  621.7,     57.1,   4.1097,  33.9039,2,  33.9085,2,    321.7,2,  4.1058,    320.0,2,     0.71,2,    22.19,2,     0.24,2,     1.52,2, -999.000,9, -999.000,9, -999.000,5,-999.0000,5,  -999.00,9,   -999.0,9,  -999.00,9,-999.000,9,   2116.8,2,   2284.3,2,  -999.0, -999.00,-999.0000,-999.000,-999.000
     316N145_5,  I09S,   106,  1,     33, SIH026,2,19950107,2214,-54.4055, 114.9862, 4180,  859.6,     81.0,   4.0573,  33.9053,2,  33.9085,2,    332.7,2,  4.0518,    319.0,2,     0.71,2,    22.18,2,     0.24,2,     1.53,2, -999.000,9, -999.000,9, -999.000,5,-999.0000,5,  -999.00,9,   -999.0,9,  -999.00,9,-999.000,9,   2118.1,2,   2279.7,2,  -999.0, -999.00,-999.0000,-999.000,-999.000
     316N145_5,  I09S,   106,  1,     32, SIH023,2,19950107,2214,-54.4055, 114.9862, 4180, 1106.1,    105.8,   3.9374,  33.9056,2,  33.9081,2,    329.1,2,  3.9303,    318.1,2,     1.17,2,    22.27,2,     0.24,2,     1.55,2, -999.000,9, -999.000,9, -999.000,5,-999.0000,5,  -999.00,9,   -999.0,9,  -999.00,9,-999.000,9,   2119.9,2,   2286.2,2,  -999.0, -999.00,-999.0000,-999.000,-999.000
     316N145_5,  I09S,   106,  1,     31, SIH020,2,19950107,2214,-54.4055, 114.9862, 4180, 1585.5,    154.0,   2.0186,  33.9694,2,  33.9735,2,    321.3,2,  2.0105,    313.9,2,    19.72,2,    26.84,2,     0.19,2,     1.88,2, -999.000,9, -999.000,9, -999.000,5,-999.0000,5,  -999.00,9,   -999.0,9,  -999.00,9,-999.000,9,   2152.1,2,   2287.5,2,  -999.0, -999.00,-999.0000,-999.000,-999.000
     316N145_5,  I09S,   106,  1,     30, SIH017,2,19950107,2214,-54.4055, 114.9862, 4180, 2072.5,    203.0,   1.8272,  34.0273,2,  34.0309,2,    306.4,2,  1.8169,    301.5,2,    25.18,2,    28.22,2,     0.15,2,     1.96,2, -999.000,9, -999.000,9, -999.000,5,-999.0000,5,  -999.00,9,   -999.0,9,  -999.00,9,-999.000,9,   2164.6,2,   -999.0,9,  -999.0, -999.00,-999.0000,-999.000,-999.000
     316N145_5,  I09S,   106,  1,     29, SIH014,2,19950107,2214,-54.4055, 114.9862, 4180, 2576.3,    253.7,   2.4848,  34.1713,2,  34.1730,2,    252.7,2,  2.4703,    250.5,2,    33.74,2,    30.83,2,     0.01,2,     2.12,2, -999.000,9, -999.000,9, -999.000,5,-999.0000,5,  -999.00,9,   -999.0,9,  -999.00,9,-999.000,9,   2186.3,2,   2305.1,2,  -999.0, -999.00,-999.0000,-999.000,-999.000
     316N145_5,  I09S,   106,  1,     28, SIH011,2,19950107,2214,-54.4055, 114.9862, 4180, 3068.8,    303.2,   2.0234,  34.1848,2,  34.1870,2,    254.4,2,  2.0071,    251.7,2,    38.57,2,    31.27,2,     0.01,2,     2.14,2, -999.000,9, -999.000,9, -999.000,5,-999.0000,5,  -999.00,9,   -999.0,9,  -999.00,9,-999.000,9,   2195.2,2,   2298.4,2,  -999.0, -999.00,-999.0000,-999.000,-999.000
     316N145_5,  I09S,   106,  1,     27, SIH008,2,19950107,2214,-54.4055, 114.9862, 4180, 3542.5,    350.9,   2.4236,  34.2800,2,  34.2830,2,    219.0,2,  2.4034,    219.9,2,    46.05,2,    32.65,2,     0.01,2,     2.24,2, -999.000,9, -999.000,9, -999.000,5,-999.0000,5,  -999.00,9,   -999.0,9,  -999.00,9,-999.000,9,   2210.2,2,   2301.5,2,  -999.0, -999.00,-999.0000,-999.000,-999.000
     316N145_5,  I09S,   106,  1,     26, SIH005,2,19950107,2214,-54.4055, 114.9862, 4180, 4035.7,    400.5,   2.3884,  34.3303,2,  34.3331,2,    208.3,2,  2.3652,    208.5,2,    51.82,2,    33.28,2,     0.01,2,     2.28,2, -999.000,9, -999.000,9, -999.000,5,-999.0000,5,  -999.00,9,   -999.0,9,  -999.00,9,-999.000,9,   2220.4,2,   2314.8,2,  -999.0, -999.00,-999.0000,-999.000,-999.000
     316N145_5,  I09S,   106,  1,     25, SIH019,2,19950107,2214,-54.4055, 114.9862, 4180, 4636.0,    460.9,   2.3470,  34.3861,2,  34.3868,2,    195.7,2,  2.3202,    197.9,2,    57.58,2,    33.68,2,     0.00,2,     2.31,2, -999.000,9, -999.000,9, -999.000,5,-999.0000,5,  -999.00,9,   -999.0,9,  -999.00,9,-999.000,9,   2228.8,2,   2324.9,2,  -999.0, -999.00,-999.0000,-999.000,-999.000
     316N145_5,  I09S,   106,  1,     24, SIH037,2,19950107,2214,-54.4055, 114.9862, 4180, 5085.6,    506.1,   2.3476,  34.4191,2,  34.4237,2,    190.9,2,  2.3180,    191.2,2,    60.85,2,    33.82,2,     0.00,2,     2.32,2, -999.000,9, -999.000,9, -999.000,5,-999.0000,5,  -999.00,9,   -999.0,9,  -999.00,9,-999.000,9,   2234.1,2,   2314.7,3,  -999.0, -999.00,-999.0000,-999.000,-999.000
     316N145_5,  I09S,   106,  1,     23, SIH033,2,19950107,2214,-54.4055, 114.9862, 4180, 6120.8,    610.2,   2.3241,  34.4911,2,  34.4938,2,    179.7,2,  2.2878,    182.3,2,    66.92,2,    33.90,2,     0.00,2,     2.32,2, -999.000,9, -999.000,9, -999.000,5,-999.0000,5,  -999.00,9,   -999.0,9,  -999.00,9,-999.000,9,   2241.2,2,   2333.4,2,  -999.0, -999.00,-999.0000,-999.000,-999.000
     316N145_5,  I09S,   106,  1,     22, SIH031,2,19950107,2214,-54.4055, 114.9862, 4180, 7068.4,    705.5,   2.2514,  34.5431,2,  34.5433,2,    176.1,2,  2.2093,    178.4,2,    71.44,2,    33.74,2,     0.00,2,     2.31,2, -999.000,9, -999.000,9, -999.000,5,-999.0000,5,  -999.00,9,   -999.0,9,  -999.00,9,-999.000,9,   2247.9,2,   2329.4,2,  -999.0, -999.00,-999.0000,-999.000,-999.000
     316N145_5,  I09S,   106,  1,     21, SIH030,2,19950107,2214,-54.4055, 114.9862, 4180, 8040.3,    803.3,   2.3578,  34.6094,2,  34.6121,2,    172.6,2,  2.3084,    175.9,2,    73.46,2,    32.89,2,     0.00,2,     2.26,2, -999.000,9, -999.000,9, -999.000,5,-999.0000,5,  -999.00,9,   -999.0,9,  -999.00,9,-999.000,9,   2247.3,2,   2333.4,2,  -999.0, -999.00,-999.0000,-999.000,-999.000
     316N145_5,  I09S,   106,  1,     20, SIH028,2,19950107,2214,-54.4055, 114.9862, 4180, 9065.9,    906.4,   2.3262,  34.6477,2,  34.6496,2,    175.6,2,  2.2699,    177.7,2,    75.32,2,    32.24,2,     0.00,2,     2.21,2, -999.000,9, -999.000,9, -999.000,5,-999.0000,5,  -999.00,9,   -999.0,9,  -999.00,9,-999.000,9,   2247.1,2,   2351.0,2,  -999.0, -999.00,-999.0000,-999.000,-999.000
     316N145_5,  I09S,   106,  1,     19, SIH027,2,19950107,2214,-54.4055, 114.9862, 4180,10117.4,   1012.2,   2.2770,  34.6756,2,  34.6769,2,    177.3,2,  2.2136,    180.4,2,    76.73,2,    31.74,2,     0.00,2,     2.17,2, -999.000,9, -999.000,9, -999.000,5,-999.0000,5,  -999.00,9,   -999.0,9,  -999.00,9,-999.000,9,   2246.6,2,   2339.2,2,  -999.0, -999.00,-999.0000,-999.000,-999.000
     316N145_5,  I09S,   106,  1,     18, SIH003,2,19950107,2214,-54.4055, 114.9862, 4180,11161.0,   1117.2,   2.2270,  34.7009,2,  34.7036,2,    181.0,2,  2.1565,    183.9,2,    77.81,2,    31.08,2,     0.00,2,     2.13,2, -999.000,9, -999.000,9, -999.000,5,-999.0000,5,  -999.00,9,   -999.0,9,  -999.00,9,-999.000,9,   2244.4,6,   2334.7,2,  -999.0, -999.00,-999.0000,-999.000,-999.000
     316N145_5,  I09S,   106,  1,     17, SIH024,2,19950107,2214,-54.4055, 114.9862, 4180,12262.9,   1228.0,   2.1553,  34.7182,2,  34.7247,2,    183.6,2,  2.0773,    187.3,2,    79.36,2,    30.67,2,     0.01,2,     2.10,2, -999.000,9, -999.000,9, -999.000,5,-999.0000,5,  -999.00,9,   -999.0,9,  -999.00,9,-999.000,9,   2244.9,2,   2343.5,2,  -999.0, -999.00,-999.0000,-999.000,-999.000
     316N145_5,  I09S,   106,  1,     16, SIH022,2,19950107,2214,-54.4055, 114.9862, 4180,14411.4,   1444.1,   2.0199,  34.7396,2,  34.7423,2,    189.7,2,  1.9272,    193.2,2,    82.64,2,    30.11,2,     0.01,2,     2.06,2, -999.000,9, -999.000,9, -999.000,5,-999.0000,5,  -999.00,9,   -999.0,9,  -999.00,9,-999.000,9,   2243.7,2,   2344.4,2,  -999.0, -999.00,-999.0000,-999.000,-999.000
     316N145_5,  I09S,   106,  1,     15, SIH021,2,19950107,2214,-54.4055, 114.9862, 4180,16529.3,   1657.2,   1.8341,  34.7463,2,  34.7480,2,    194.8,2,  1.7273,    196.4,2,    88.09,2,    29.95,2,     0.02,2,     2.05,2, -999.000,9, -999.000,9, -999.000,5,-999.0000,5,  -999.00,9,   -999.0,9,  -999.00,9,-999.000,9,   2244.3,2,   2347.4,2,  -999.0, -999.00,-999.0000,-999.000,-999.000
     316N145_5,  I09S,   106,  1,     14, SIH002,2,19950107,2214,-54.4055, 114.9862, 4180,18295.6,   1834.8,   1.6813,  34.7445,2,  34.7473,2,    194.8,2,  1.5626,    199.0,2,    92.15,2,    30.01,2,     0.00,2,     2.06,2, -999.000,9, -999.000,9, -999.000,5,-999.0000,5,  -999.00,9,   -999.0,9,  -999.00,9,-999.000,9,   2245.1,2,   2362.8,2,  -999.0, -999.00,-999.0000,-999.000,-999.000
     316N145_5,  I09S,   106,  1,     13, SIH018,2,19950107,2214,-54.4055, 114.9862, 4180,20207.4,   2027.1,   1.5159,  34.7407,2,  34.7429,2,    197.3,2,  1.3842,    201.0,2,    97.70,2,    30.15,2,     0.00,2,     2.07,2, -999.000,9, -999.000,9, -999.000,5,-999.0000,5,  -999.00,9,   -999.0,9,  -999.00,9,-999.000,9,   2247.7,2,   2361.7,2,  -999.0, -999.00,-999.0000,-999.000,-999.000
     316N145_5,  I09S,   106,  1,     12, SIH016,2,19950107,2214,-54.4055, 114.9862, 4180,22154.0,   2222.9,   1.3304,  34.7337,2,  34.7345,2,    198.4,2,  1.1857,    202.8,2,   103.31,2,    30.58,2,     0.00,2,     2.10,2, -999.000,9, -999.000,9, -999.000,5,-999.0000,5,  -999.00,9,   -999.0,9,  -999.00,9,-999.000,9,   2251.9,2,   2355.6,2,  -999.0, -999.00,-999.0000,-999.000,-999.000
     316N145_5,  I09S,   106,  1,     11, SIH015,2,19950107,2214,-54.4055, 114.9862, 4180,24163.8,   2425.1,   1.1592,  34.7246,2,  34.7262,2,    200.6,2,  1.0007,    204.8,2,   108.04,2,    30.83,2,     0.00,2,     2.12,2, -999.000,9, -999.000,9, -999.000,5,-999.0000,5,  -999.00,9,   -999.0,9,  -999.00,9,-999.000,9,   2253.2,2,   2356.9,2,  -999.0, -999.00,-999.0000,-999.000,-999.000
     316N145_5,  I09S,   106,  1,     10, SIH013,2,19950107,2214,-54.4055, 114.9862, 4180,26131.6,   2623.0,   0.9880,  34.7160,2,  34.7172,2,    202.8,2,  0.8159,    206.9,2,   113.04,2,    31.21,2,     0.00,2,     2.15,2, -999.000,9, -999.000,9, -999.000,5,-999.0000,5,  -999.00,9,   -999.0,9,  -999.00,9,-999.000,9,   2255.4,2,   2355.5,2,  -999.0, -999.00,-999.0000,-999.000,-999.000
     316N145_5,  I09S,   106,  1,      9, SIH012,2,19950107,2214,-54.4055, 114.9862, 4180,28113.7,   2822.4,   0.8094,  34.7079,2,  34.7089,2,    205.0,2,  0.6236,    209.3,2,   117.86,2,    31.50,2,     0.00,2,     2.17,2, -999.000,9, -999.000,9, -999.000,5,-999.0000,5,  -999.00,9,   -999.0,9,  -999.00,9,-999.000,9,   2257.1,2,   2363.1,2,  -999.0, -999.00,-999.0000,-999.000,-999.000
     316N145_5,  I09S,   106,  1,      8, SIH010,2,19950107,2214,-54.4055, 114.9862, 4180,30132.5,   3025.5,   0.6386,  34.6992,2,  34.6999,2,    207.3,2,  0.4384,    212.4,2,   122.08,2,    31.64,2,     0.00,2,     2.18,2, -999.000,9, -999.000,9, -999.000,5,-999.0000,5,  -999.00,9,   -999.0,9,  -999.00,9,-999.000,9,   2256.4,2,   2361.5,2,  -999.0, -999.00,-999.0000,-999.000,-999.000
     316N145_5,  I09S,   106,  1,      7, SIH009,2,19950107,2214,-54.4055, 114.9862, 4180,32340.2,   3247.5,   0.4714,  34.6925,2,  34.6940,2,    211.5,2,  0.2549,    215.9,2,   125.50,2,    31.82,2,     0.00,2,     2.19,2, -999.000,9, -999.000,9, -999.000,5,-999.0000,5,  -999.00,9,   -999.0,9,  -999.00,9,-999.000,9,   2256.4,2,   2360.9,2,  -999.0, -999.00,-999.0000,-999.000,-999.000
     316N145_5,  I09S,   106,  1,      6, SIH038,2,19950107,2214,-54.4055, 114.9862, 4180,34409.2,   3455.7,   0.3765,  34.6880,2,  34.6889,2,    213.5,2,  0.1430,    218.6,2,   128.93,2,    31.92,2,     0.00,2,     2.20,2, -999.000,9, -999.000,9, -999.000,5,-999.0000,5,  -999.00,9,   -999.0,9,  -999.00,9,-999.000,9,   2254.8,2,   2353.5,2,  -999.0, -999.00,-999.0000,-999.000,-999.000
     316N145_5,  I09S,   106,  1,      5, SIH006,2,19950107,2214,-54.4055, 114.9862, 4180,36387.3,   3654.6,   0.3166,  34.6859,2,  34.6867,2,    217.1,2,  0.0656,    220.1,2,   131.74,2,    31.96,2,     0.00,2,     2.20,2, -999.000,9, -999.000,9, -999.000,5,-999.0000,5,  -999.00,9,   -999.0,9,  -999.00,9,-999.000,9,   2257.3,2,   2361.9,2,  -999.0, -999.00,-999.0000,-999.000,-999.000
     316N145_5,  I09S,   106,  1,      4, SIH004,2,19950107,2214,-54.4055, 114.9862, 4180,38471.6,   3864.3,   0.2629,  34.6832,2,  34.6846,2,    217.3,2, -0.0072,    222.2,2,   133.14,2,    31.95,2,     0.00,2,     2.21,2, -999.000,9, -999.000,9, -999.000,5,-999.0000,5,  -999.00,9,   -999.0,9,  -999.00,9,-999.000,9,   2257.7,2,   2349.0,3,  -999.0, -999.00,-999.0000,-999.000,-999.000
     316N145_5,  I09S,   106,  1,      3, SIH025,2,19950107,2214,-54.4055, 114.9862, 4180,40473.6,   4065.7,   0.2217,  34.6815,2,  34.6816,2,    221.2,2, -0.0675,    223.6,2,   134.71,2,    31.99,2,     0.00,2,     2.20,2, -999.000,9, -999.000,9, -999.000,5,-999.0000,5,  -999.00,9,   -999.0,9,  -999.00,9,-999.000,9,   2255.9,2,   2369.6,2,  -999.0, -999.00,-999.0000,-999.000,-999.000
     316N145_5,  I09S,   106,  1,      2, SIH001,2,19950107,2214,-54.4055, 114.9862, 4180,41470.4,   4165.9,   0.2098,  34.6803,2,  34.6840,3,    222.2,2, -0.0894,    225.0,2,   135.17,2,    32.03,2,     0.00,2,     2.20,2, -999.000,9, -999.000,9, -999.000,5,-999.0000,5,  -999.00,9,   -999.0,9,  -999.00,9,-999.000,9,   2257.2,2,   2347.8,3,  -999.0, -999.00,-999.0000,-999.000,-999.000
     316N145_5,  I09S,   106,  1,      1, SIH036,2,19950107,2214,-54.4055, 114.9862, 4180,42024.3,   4221.7,   0.1999,  34.6806,2,  34.6810,2,    223.9,2, -0.1048,    224.9,2,   135.53,2,    31.99,2,     0.00,2,     2.20,2, -999.000,9, -999.000,9, -999.000,5,-999.0000,5,  -999.00,9,   -999.0,9,  -999.00,9,-999.000,9,   2257.1,6,   2377.4,2,  -999.0, -999.00,-999.0000,-999.000,-999.000