BOTTLE,20090521WHPSIOdm
EXPOCODE,SECT_ID,STNNBR,CASTNO,SAMPNO,BTLNBR,BTLNBR_FLAG_W,DATE,TIME,LATITUDE,LONGITUDE,DEPTH,CTDRAW,CTDPRS,CTDTMP,CTDSAL,CTDSAL_FLAG_W,SALNTY,SALNTY_FLAG_W,CTDOXY,CTDOXY_FLAG_W,THETA,OXYGEN,OXYGEN_FLAG_W,SILCAT,SILCAT_FLAG_W,NITRAT,NITRAT_FLAG_W,NITRIT,NITRIT_FLAG_W,PHSPHT,PHSPHT_FLAG_W,CFC-11,CFC-11_FLAG_W,CFC-12,CFC-12_FLAG_W,TRITUM,TRITUM_FLAG_W,HELIUM,HELIUM_FLAG_W,DELHE3,DELHE3_FLAG_W,DELC14,DELC14_FLAG_W,DELC13,DELC13_FLAG_W,NEON,NEON_FLAG_W,TCARBN,TCARBN_FLAG_W,ALKALI,ALKALI_FLAG_W,C14ERR,DELHER,HELIER,NEONER,TRITER
,,,,,,,,,,,,,DBAR,IPTS-68,PSS-78,,PSS-78,,UMOL/KG,,IPTS-68,UMOL/KG,,UMOL/KG,,UMOL/KG,,UMOL/KG,,UMOL/KG,,PMOL/KG,,PMOL/KG,,TU,,NMOL/KG,,PERCNT,,/MILLE,,/MILLE,,NMOL/KG,,UMOL/KG,,UMOL/KG,,/MILLE,PERCNT,NMOL/KG,NMOL/KG,TU
     316N145_5,  I09S,   122,  1,     36, SI9446,2,19950112,0517,-46.0167, 115.0305, 4200,  191.1,     13.8,   9.7465,  34.4606,2,  34.4652,2,    268.9,2,  9.7449,    281.7,2,     1.36,2,    12.32,2,     0.24,2,     0.96,2,    4.085,2,    2.035,2,    0.000,5,   1.7560,2,    -1.44,2,     46.2,2,  -999.00,9,   7.493,2,   2082.5,6,   2285.5,2,     3.9,   40.17,  0.0030,   0.016,   0.000
     316N145_5,  I09S,   122,  1,     35, SIH032,2,19950112,0517,-46.0167, 115.0305, 4200,  389.4,     33.8,   9.7973,  34.4781,2,  34.4722,3,    269.3,2,  9.7934,    281.2,2,     1.53,2,    12.22,2,     0.24,2,     0.95,2,    3.968,2,    2.016,2, -999.000,5,-999.0000,5,  -999.00,9,     40.1,6,     1.46,6,-999.000,9,   2082.1,2,   2290.0,2,    12.4, -999.00,-999.0000,-999.000,-999.000
     316N145_5,  I09S,   122,  1,     34, SIH029,2,19950112,0517,-46.0167, 115.0305, 4200,  629.6,     57.9,   9.8605,  34.4974,2,  34.5013,2,    276.0,2,  9.8539,    280.5,2,     1.38,2,    11.85,2,     0.23,2,     0.93,2,    3.980,2,    2.000,2,    0.000,5,   1.7490,2,    -1.72,2,     31.5,2,     1.63,2,   7.434,2,   2081.7,2,   2314.8,6,     5.0,   30.14,  0.0030,   0.028,   0.000
     316N145_5,  I09S,   122,  1,     33, SIH026,2,19950112,0517,-46.0167, 115.0305, 4200,  893.0,     84.4,   9.9129,  34.5257,2,  34.5323,2,    259.8,2,  9.9033,    279.2,2,     1.54,2,    11.66,2,     0.24,2,     0.92,2,    3.935,6,    2.001,6, -999.000,5,-999.0000,5,  -999.00,9,     52.5,2,     1.45,2,-999.000,9,   2081.3,2,   2294.8,2,     8.0, -999.00,-999.0000,-999.000,-999.000
     316N145_5,  I09S,   122,  1,     32, SIH023,2,19950112,0517,-46.0167, 115.0305, 4200, 1142.8,    109.5,   9.9507,  34.7519,2,  34.7553,2,    259.7,2,  9.9381,    265.5,2,     3.92,2,    12.20,2,     0.16,2,     0.95,2, -999.000,9, -999.000,9,    0.595,2,   1.7460,2,    -1.41,2,     64.4,2,     1.36,2,   7.475,2,   2098.9,2,   2300.5,2,     4.6,   50.17,  0.0030,   0.016,   0.009
     316N145_5,  I09S,   122,  1,     31, SIH020,2,19950112,0517,-46.0167, 115.0305, 4200, 1638.1,    159.3,   9.7014,  34.7530,2,  34.7579,2,    262.2,2,  9.6833,    265.3,2,     4.24,2,    12.83,2,     0.01,2,     0.98,2,    3.758,6,    1.898,6, -999.000,5,-999.0000,5,  -999.00,9,     62.8,2,     1.32,2,-999.000,9,   2100.6,2,   2291.6,2,     3.4, -999.00,-999.0000,-999.000,-999.000
     316N145_5,  I09S,   122,  1,     30, SIH017,2,19950112,0517,-46.0167, 115.0305, 4200, 2133.3,    209.1,   9.6567,  34.7491,2,  34.7530,2,    260.1,2,  9.6330,    265.8,2,     4.41,2,    12.93,2,     0.01,2,     0.98,2,    3.693,2,    1.856,2,   -0.023,4,   1.7620,2,    -1.56,2,     53.6,2,     1.30,2,   7.491,2,   2100.1,2,   2309.6,2,     3.7,   60.13,  0.0030,   0.028,   0.005
     316N145_5,  I09S,   122,  1,     29, SIH014,2,19950112,0517,-46.0167, 115.0305, 4200, 2613.5,    257.4,   9.4760,  34.7161,2,  34.7211,2,    262.2,2,  9.4471,    263.4,2,     4.89,2,    13.60,2,     0.01,2,     1.02,2,    3.644,2,    1.862,2, -999.000,5,-999.0000,5,  -999.00,9,     43.8,2,     1.03,2,-999.000,9,   2105.1,2,   2284.4,2,     3.7, -999.00,-999.0000,-999.000,-999.000
     316N145_5,  I09S,   122,  1,     28, SIH011,2,19950112,0517,-46.0167, 115.0305, 4200, 3140.1,    310.3,   9.2955,  34.6820,2,  34.6993,3,    259.9,2,  9.2610,    262.3,2,     4.90,2,    13.93,2,     0.01,2,     1.05,2,    3.641,2,    1.845,2,    0.348,2,   1.7590,2,    -1.39,2,     38.7,2,     1.18,2,   7.506,2,   2104.0,2,   2288.9,2,     4.8,   60.17,  0.0030,   0.017,   0.010
     316N145_5,  I09S,   122,  1,     27, SIH008,2,19950112,0517,-46.0167, 115.0305, 4200, 3620.6,    358.7,   9.2539,  34.6847,2,  34.6903,2,    266.4,2,  9.2140,    264.7,2,     4.91,2,    14.11,2,     0.01,2,     1.06,2,    3.649,2,    1.847,2, -999.000,5,-999.0000,5,  -999.00,9,     52.9,2,     1.39,2,-999.000,9,   2102.9,2,   2306.9,2,     3.0, -999.00,-999.0000,-999.000,-999.000
     316N145_5,  I09S,   122,  1,     26, SIH005,2,19950112,0517,-46.0167, 115.0305, 4200, 4136.7,    410.6,   8.9405,  34.6324,2,  34.6370,2,    262.0,2,  8.8957,    262.3,2,     5.39,2,    15.21,2,     0.01,2,     1.11,2,    3.615,2,    1.810,2,    0.562,2,   1.7640,2,    -0.98,2,     38.9,2,     1.34,2,   7.543,2,   2108.7,2,   2281.3,2,     4.1,   40.12,  0.0030,   0.061,   0.060
     316N145_5,  I09S,   122,  1,     25, SIH019,2,19950112,0517,-46.0167, 115.0305, 4200, 4638.8,    461.0,   8.5847,  34.5780,2,  34.5834,2,    259.8,2,  8.5355,    258.6,2,     6.19,2,    16.55,2,     0.01,2,     1.20,2,    3.477,2,    1.744,2, -999.000,5,-999.0000,5,  -999.00,9,     35.3,2,     1.35,2,-999.000,9,   2111.9,2,   2288.9,2,     3.0, -999.00,-999.0000,-999.000,-999.000
     316N145_5,  I09S,   122,  1,     24, SIH037,2,19950112,0517,-46.0167, 115.0305, 4200, 5094.7,    506.9,   8.0525,  34.5025,2,  34.5068,2,    249.8,2,  8.0004,    245.3,2,     8.56,2,    18.97,2,     0.01,2,     1.35,2,    3.123,2,    1.532,2,    0.570,2,   1.7790,2,    -0.33,2,     17.7,2,     1.28,2,   7.633,2,   2123.9,2,   2295.7,2,     3.1,    0.14,  0.0030,   0.028,   0.012
     316N145_5,  I09S,   122,  1,     23, SIH033,2,19950112,0517,-46.0167, 115.0305, 4200, 6069.6,    604.9,   7.3636,  34.4650,2,  34.4675,2,    229.0,2,  7.3041,    224.7,2,    12.36,2,    22.36,2,     0.01,2,     1.54,2,    2.383,2,    1.172,2, -999.000,5,-999.0000,5,  -999.00,9,      1.2,2,     1.27,2,-999.000,9,   2141.3,2,   2281.0,2,     3.1, -999.00,-999.0000,-999.000,-999.000
     316N145_5,  I09S,   122,  1,     22, SIH031,2,19950112,0517,-46.0167, 115.0305, 4200, 7085.6,    707.1,   6.3082,  34.4057,2,-999.0000,9,    216.3,2,  6.2438,    212.7,2,    18.21,2,    25.79,2,     0.00,2,     1.77,2,    1.860,2,    0.906,2, -999.000,5,-999.0000,5,  -999.00,9,    -27.5,2,     1.09,2,-999.000,9,   2158.4,2,   2301.1,2,     4.3, -999.00,-999.0000,-999.000,-999.000
     316N145_5,  I09S,   122,  1,     20, SIH028,2,19950112,0517,-46.0167, 115.0305, 4200, 8141.7,    813.3,   5.2900,  34.3457,2,  34.3509,2,    215.7,2,  5.2218,    216.8,2,    22.97,2,    27.84,2,     0.00,2,     1.91,2,    1.874,2,    0.891,2, -999.000,5,-999.0000,5,  -999.00,9,    -86.7,2,    -0.49,4,-999.000,9,   2169.9,6,   2288.9,2,     2.8, -999.00,-999.0000,-999.000,-999.000
     316N145_5,  I09S,   122,  1,     21, SIH030,2,19950112,0517,-46.0167, 115.0305, 4200, 8143.9,    813.6,   5.2899,  34.3456,2,  34.3501,2,    216.1,2,  5.2217,    216.7,2,    22.96,2,    27.79,2,     0.00,2,     1.91,2,    1.886,2,    0.924,2,    0.155,2,   1.8190,2,     1.75,2,    -41.6,2,     1.03,2,   7.883,2,   -999.0,9,   2287.2,2,     2.8,    0.13,  0.0030,   0.029,   0.006
     316N145_5,  I09S,   122,  1,     19, SIH027,2,19950112,0517,-46.0167, 115.0305, 4200,10149.4,   1015.3,   3.9150,  34.3329,2,  34.3368,2,    207.7,2,  3.8390,    209.2,2,    35.92,2,    31.03,2,     0.00,2,     2.12,2,    1.289,2,    0.617,2,    0.275,4,   1.8050,2,     3.14,2,    -76.2,2,     0.78,2,   7.861,2,   2194.3,2,   2301.7,2,     3.3,    0.16,  0.0030,   0.017,   0.008
     316N145_5,  I09S,   122,  1,     18, SIH003,2,19950112,0517,-46.0167, 115.0305, 4200,11164.3,   1117.4,   3.4655,  34.3572,2,  34.3603,2,    199.1,2,  3.3849,    201.7,2,    43.35,2,    32.08,2,     0.00,2,     2.21,2,    1.052,2,    0.497,2, -999.000,5,-999.0000,5,  -999.00,9,   -999.0,9,  -999.00,9,-999.000,9,   2206.7,6,   2307.6,2,  -999.0, -999.00,-999.0000,-999.000,-999.000
     316N145_5,  I09S,   122,  1,     17, SIH024,2,19950112,0517,-46.0167, 115.0305, 4200,12219.0,   1223.4,   3.1693,  34.4064,2,  34.4104,2,    189.2,2,  3.0827,    191.1,2,    51.74,2,    33.12,2,     0.00,2,     2.27,2,    0.744,2,    0.355,2,    0.037,2,   1.8570,2,     5.30,2,   -106.4,2,     0.71,2,   8.062,2,   2220.3,2,   2319.5,6,     2.6,    0.16,  0.0040,   0.018,   0.008
     316N145_5,  I09S,   122,  1,     16, SIH022,2,19950112,0517,-46.0167, 115.0305, 4200,13265.6,   1328.7,   3.0063,  34.4497,2,  34.4532,2,    181.6,2,  2.9127,    183.5,2,    57.58,2,    33.50,2,     0.00,2,     2.30,2, -999.000,9, -999.000,9, -999.000,5,-999.0000,5,  -999.00,9,   -121.1,2,     0.29,2,-999.000,9,   2228.7,2,   2320.2,2,     3.6, -999.00,-999.0000,-999.000,-999.000
     316N145_5,  I09S,   122,  1,     15, SIH021,2,19950112,0517,-46.0167, 115.0305, 4200,15185.6,   1521.8,   2.7315,  34.5261,2,  34.5300,2,    172.8,2,  2.6251,    176.7,2,    65.96,2,    33.60,2,     0.00,2,     2.30,2,    0.346,2,    0.161,2,    0.022,2,   1.8390,2,     7.62,2,   -143.1,2,     0.53,2,   7.977,2,   2240.1,2,   -999.0,9,     4.5,    0.16,  0.0030,   0.018,   0.005
     316N145_5,  I09S,   122,  1,     14, SIH002,2,19950112,0517,-46.0167, 115.0305, 4200,17207.4,   1725.2,   2.5708,  34.6190,2,  34.6229,2,    170.0,2,  2.4493,    176.2,2,    71.66,2,    32.69,2,     0.00,2,     2.24,2,    0.162,2,    0.076,2,    0.002,4,   1.8500,2,     8.86,2,   -148.6,2,     0.39,2,   7.954,2,   2244.8,2,   2320.0,3,     2.6,    0.16,  0.0030,   0.018,   0.007
     316N145_5,  I09S,   122,  1,     13, SIH018,2,19950112,0517,-46.0167, 115.0305, 4200,19089.9,   1914.5,   2.4768,  34.6731,2,  34.6761,2,    176.6,2,  2.3404,    180.7,2,    73.87,2,    31.74,2,     0.00,2,     2.16,2,    0.104,2,    0.052,2,    0.000,5,   1.8430,2,     8.87,2,   -120.1,2,     0.44,2,   8.090,2,   2243.2,2,   2360.7,2,     5.7,    0.12,  0.0040,   0.066,   0.000
     316N145_5,  I09S,   122,  1,     12, SIH016,2,19950112,0517,-46.0167, 115.0305, 4200,21074.5,   2114.2,   2.3405,  34.7167,2,  34.7195,2,    181.6,2,  2.1886,    186.9,2,    76.26,2,    30.74,2,     0.00,2,     2.10,2,    0.080,2,    0.039,2,    0.222,4,   1.8720,2,     8.79,2,   -144.7,2,     0.26,2,   8.064,2,   2241.1,2,   2341.8,2,     2.8,    0.16,  0.0030,   0.018,   0.006
     316N145_5,  I09S,   122,  1,     11, SIH015,2,19950112,0517,-46.0167, 115.0305, 4200,23183.6,   2326.3,   2.2142,  34.7378,2,  34.7423,2,    186.6,2,  2.0454,    191.6,2,    79.90,2,    30.21,2,     0.00,2,     2.06,2,    0.052,2,    0.032,2,    0.005,4,   1.8570,2,     9.12,2,   -150.2,2,     0.51,2,   8.059,2,   2241.2,2,   -999.0,9,     2.7,    0.13,  0.0030,   0.030,   0.005
     316N145_5,  I09S,   122,  1,     10, SIH013,2,19950112,0517,-46.0167, 115.0305, 4200,25348.9,   2544.1,   1.9787,  34.7506,2,  34.7543,2,    192.0,2,  1.7944,    197.1,2,    86.22,2,    29.93,2,     0.00,2,     2.05,2, -999.000,9, -999.000,9, -999.000,5,-999.0000,5,  -999.00,9,   -171.3,2,     0.51,2,-999.000,9,   2244.4,2,   2362.6,2,     8.3, -999.00,-999.0000,-999.000,-999.000
     316N145_5,  I09S,   122,  1,      9, SIH012,2,19950112,0517,-46.0167, 115.0305, 4200,27326.3,   2743.0,   1.8073,  34.7474,2,  34.7520,2,    193.5,2,  1.6079,    198.3,2,    91.92,2,    30.16,2,     0.00,2,     2.06,2,    0.027,2,    0.021,2,    0.000,5,   1.8610,2,    10.05,2,   -167.0,2,     0.43,2,   8.029,2,   2245.8,2,   2352.2,2,     3.2,   70.14,  0.0040,   0.028,   0.000
     316N145_5,  I09S,   122,  1,      8, SIH010,2,19950112,0517,-46.0167, 115.0305, 4200,29386.6,   2950.3,   1.5817,  34.7413,2,  34.7429,2,    196.5,2,  1.3675,    200.8,2,    98.89,2,    30.54,2,     0.00,2,     2.08,2,    0.035,2,    0.021,2,    0.175,4,   1.8880,2,    10.07,2,   -164.5,2,     0.29,2,   8.154,2,   2250.2,2,   2376.7,2,     3.6,   20.13,  0.0040,   0.028,   0.006
     316N145_5,  I09S,   122,  1,      7, SIH009,2,19950112,0517,-46.0167, 115.0305, 4200,31371.0,   3149.9,   1.4450,  34.7348,2,  34.7396,2,    196.6,2,  1.2147,    201.8,2,   104.11,2,    30.84,2,     0.00,2,     2.11,2,    0.033,2,    0.022,2,    0.225,4,   1.8710,2,    10.60,2,   -169.6,2,     0.08,2,   8.121,2,   2251.4,2,   -999.0,9,     3.8,   90.14,  0.0030,   0.028,   0.007
     316N145_5,  I09S,   122,  1,      6, SIH038,2,19950112,0517,-46.0167, 115.0305, 4200,33284.3,   3342.3,   1.2922,  34.7275,2,  34.7313,2,    199.6,2,  1.0467,    203.7,2,   109.34,2,    31.07,2,     0.00,2,     2.13,2,    0.035,2,    0.021,2,    0.181,4,   1.9260,3,    10.85,2,   -165.0,2,     0.43,2,   8.289,3,   2253.9,2,   2358.7,2,     2.9,   40.13,  0.0040,   0.028,   0.005
     316N145_5,  I09S,   122,  1,      5, SIH006,2,19950112,0517,-46.0167, 115.0305, 4200,35369.7,   3552.1,   1.1556,  34.7199,2,  34.7245,2,    201.2,2,  0.8926,    205.2,2,   113.47,2,    31.35,2,     0.00,2,     2.14,2,    0.043,2,    0.025,2,    0.024,4,   1.9030,2,    11.01,2,   -177.2,2,    -0.02,2,   8.188,2,   2255.4,2,   2371.5,2,     3.2,   90.13,  0.0040,   0.028,   0.005
     316N145_5,  I09S,   122,  1,      4, SIH004,2,19950112,0517,-46.0167, 115.0305, 4200,37447.1,   3761.1,   1.0867,  34.7167,2,  34.7201,2,    200.4,2,  0.8043,    206.6,2,   116.16,2,    31.55,2,     0.00,2,     2.15,2,    0.047,2,    0.025,2,    0.111,4,   1.9310,3,    10.87,2,   -163.4,2,     0.10,2,   8.316,3,   2256.3,2,   2360.1,2,     2.8,   40.13,  0.0040,   0.029,   0.005
     316N145_5,  I09S,   122,  1,      3, SIH025,2,19950112,0517,-46.0167, 115.0305, 4200,39912.0,   4009.0,   0.9649,  34.7101,2,  34.7129,2,    204.6,2,  0.6599,    208.3,2,   119.82,2,    31.69,2,     0.00,2,     2.17,2, -999.000,9, -999.000,9, -999.000,5,-999.0000,5,  -999.00,9,   -260.9,4,    -3.08,4,-999.000,9,   2258.4,2,   2365.3,2,     3.5, -999.00,-999.0000,-999.000,-999.000
     316N145_5,  I09S,   122,  1,      2, SIH001,2,19950112,0517,-46.0167, 115.0305, 4200,40919.2,   4110.3,   0.9363,  34.7083,2,  34.7109,2,    204.2,2,  0.6214,    209.3,2,   120.78,2,    31.74,2,     0.00,2,     2.17,2,    0.073,2,    0.038,2,    0.036,4,   1.9030,2,    11.17,2,   -184.8,2,    -0.18,2,   8.211,2,   2259.0,2,   2368.9,2,     3.9,   80.13,  0.0040,   0.028,   0.005
     316N145_5,  I09S,   122,  1,      1, SIH036,2,19950112,0517,-46.0167, 115.0305, 4200,41448.9,   4163.6,   0.9369,  34.7088,2,  34.7127,2,    206.5,2,  0.6163,    209.3,2,   120.79,2,    31.73,2,     0.00,2,     2.17,2,    0.073,2,    0.052,2,    0.205,4,   1.8780,2,    10.90,2,   -174.2,2,     0.19,2,   8.094,2,   2259.5,6,   2383.9,2,     4.1,   30.14,  0.0040,   0.028,   0.008