BOTTLE,20090521WHPSIOdm
EXPOCODE,SECT_ID,STNNBR,CASTNO,SAMPNO,BTLNBR,BTLNBR_FLAG_W,DATE,TIME,LATITUDE,LONGITUDE,DEPTH,CTDRAW,CTDPRS,CTDTMP,CTDSAL,CTDSAL_FLAG_W,SALNTY,SALNTY_FLAG_W,CTDOXY,CTDOXY_FLAG_W,THETA,OXYGEN,OXYGEN_FLAG_W,SILCAT,SILCAT_FLAG_W,NITRAT,NITRAT_FLAG_W,NITRIT,NITRIT_FLAG_W,PHSPHT,PHSPHT_FLAG_W,CFC-11,CFC-11_FLAG_W,CFC-12,CFC-12_FLAG_W,TRITUM,TRITUM_FLAG_W,HELIUM,HELIUM_FLAG_W,DELHE3,DELHE3_FLAG_W,DELC14,DELC14_FLAG_W,DELC13,DELC13_FLAG_W,NEON,NEON_FLAG_W,TCARBN,TCARBN_FLAG_W,ALKALI,ALKALI_FLAG_W,C14ERR,DELHER,HELIER,NEONER,TRITER
,,,,,,,,,,,,,DBAR,IPTS-68,PSS-78,,PSS-78,,UMOL/KG,,IPTS-68,UMOL/KG,,UMOL/KG,,UMOL/KG,,UMOL/KG,,UMOL/KG,,PMOL/KG,,PMOL/KG,,TU,,NMOL/KG,,PERCNT,,/MILLE,,/MILLE,,NMOL/KG,,UMOL/KG,,UMOL/KG,,/MILLE,PERCNT,NMOL/KG,NMOL/KG,TU
     316N145_5,  I09S,   121,  1,     36, SI9446,9,19950111,2248,-46.5138, 115.0055, 4165,  179.0,     12.5,   9.1703,  34.3079,3,-999.0000,9,    289.4,3,  9.1690,   -999.0,9,  -999.00,9,  -999.00,9,  -999.00,9,  -999.00,9, -999.000,9, -999.000,9, -999.000,5,-999.0000,5,  -999.00,9,   -999.0,9,  -999.00,9,-999.000,9,   -999.0,9,   -999.0,9,  -999.0, -999.00,-999.0000,-999.000,-999.000
     316N145_5,  I09S,   121,  1,     35, SIH032,2,19950111,2248,-46.5138, 115.0055, 4165,  376.8,     32.4,   9.1643,  34.3079,2,  34.3103,2,    288.4,2,  9.1609,    287.6,2,     1.50,2,    14.30,2,     0.22,2,     1.01,2, -999.000,9, -999.000,9, -999.000,5,-999.0000,5,  -999.00,9,   -999.0,9,  -999.00,9,-999.000,9,   -999.0,9,   -999.0,9,  -999.0, -999.00,-999.0000,-999.000,-999.000
     316N145_5,  I09S,   121,  1,     34, SIH029,2,19950111,2248,-46.5138, 115.0055, 4165,  623.7,     57.2,   9.0942,  34.3047,2,  34.3082,2,    291.8,2,  9.0880,    287.6,2,     1.64,2,    14.44,2,     0.22,2,     1.03,2, -999.000,9, -999.000,9, -999.000,5,-999.0000,5,  -999.00,9,   -999.0,9,  -999.00,9,-999.000,9,   -999.0,9,   -999.0,9,  -999.0, -999.00,-999.0000,-999.000,-999.000
     316N145_5,  I09S,   121,  1,     33, SIH026,2,19950111,2248,-46.5138, 115.0055, 4165,  876.6,     82.6,   8.2130,  34.2849,2,  34.2674,2,    292.9,2,  8.2047,    288.8,2,     1.79,2,    15.56,2,     0.23,2,     1.16,2, -999.000,9, -999.000,9, -999.000,5,-999.0000,5,  -999.00,9,   -999.0,9,  -999.00,9,-999.000,9,   -999.0,9,   -999.0,9,  -999.0, -999.00,-999.0000,-999.000,-999.000
     316N145_5,  I09S,   121,  1,     32, SIH023,2,19950111,2248,-46.5138, 115.0055, 4165, 1140.2,    109.1,   8.0134,  34.3220,2,  34.3048,2,    286.2,2,  8.0026,    285.3,2,     3.06,2,    15.74,2,     0.25,2,     1.20,2, -999.000,9, -999.000,9, -999.000,5,-999.0000,5,  -999.00,9,   -999.0,9,  -999.00,9,-999.000,9,   -999.0,9,   -999.0,9,  -999.0, -999.00,-999.0000,-999.000,-999.000
     316N145_5,  I09S,   121,  1,     31, SIH020,2,19950111,2248,-46.5138, 115.0055, 4165, 1605.3,    155.9,   7.3530,  34.3727,2,  34.3760,2,    281.7,2,  7.3381,    275.7,2,     6.86,2,    18.62,2,     0.02,2,     1.33,2, -999.000,9, -999.000,9, -999.000,5,-999.0000,5,  -999.00,9,   -999.0,9,  -999.00,9,-999.000,9,   -999.0,9,   -999.0,9,  -999.0, -999.00,-999.0000,-999.000,-999.000
     316N145_5,  I09S,   121,  1,     30, SIH017,2,19950111,2248,-46.5138, 115.0055, 4165, 2125.7,    208.3,   6.8538,  34.3198,2,  34.3227,2,    277.8,2,  6.8348,    273.1,2,     7.81,2,    19.95,2,     0.02,2,     1.42,2, -999.000,9, -999.000,9, -999.000,5,-999.0000,5,  -999.00,9,   -999.0,9,  -999.00,9,-999.000,9,   -999.0,9,   -999.0,9,  -999.0, -999.00,-999.0000,-999.000,-999.000
     316N145_5,  I09S,   121,  1,     29, SIH014,2,19950111,2248,-46.5138, 115.0055, 4165, 2633.9,    259.4,   6.4580,  34.2836,2,  34.2864,2,    280.7,2,  6.4349,    275.0,2,     8.28,2,    20.60,2,     0.01,2,     1.47,2, -999.000,9, -999.000,9, -999.000,5,-999.0000,5,  -999.00,9,   -999.0,9,  -999.00,9,-999.000,9,   -999.0,9,   -999.0,9,  -999.0, -999.00,-999.0000,-999.000,-999.000
     316N145_5,  I09S,   121,  1,     28, SIH011,2,19950111,2248,-46.5138, 115.0055, 4165, 3128.6,    309.1,   6.0229,  34.2450,2,  34.2526,2,    273.7,2,  5.9964,    272.2,2,     9.54,2,    21.73,2,     0.01,2,     1.53,2, -999.000,9, -999.000,9, -999.000,5,-999.0000,5,  -999.00,9,   -999.0,9,  -999.00,9,-999.000,9,   -999.0,9,   -999.0,9,  -999.0, -999.00,-999.0000,-999.000,-999.000
     316N145_5,  I09S,   121,  1,     27, SIH008,2,19950111,2248,-46.5138, 115.0055, 4165, 3630.8,    359.6,   5.6458,  34.2242,2,  34.2283,2,    271.5,2,  5.6159,    267.8,2,    11.13,2,    23.00,2,     0.01,2,     1.60,2, -999.000,9, -999.000,9, -999.000,5,-999.0000,5,  -999.00,9,   -999.0,9,  -999.00,9,-999.000,9,   -999.0,9,   -999.0,9,  -999.0, -999.00,-999.0000,-999.000,-999.000
     316N145_5,  I09S,   121,  1,     26, SIH005,2,19950111,2248,-46.5138, 115.0055, 4165, 4109.4,    407.8,   5.4451,  34.2387,2,  34.2387,2,    258.9,2,  5.4116,    256.6,2,    13.35,2,    24.17,2,     0.01,2,     1.68,2, -999.000,9, -999.000,9, -999.000,5,-999.0000,5,  -999.00,9,   -999.0,9,  -999.00,9,-999.000,9,   -999.0,9,   -999.0,9,  -999.0, -999.00,-999.0000,-999.000,-999.000
     316N145_5,  I09S,   121,  1,     25, SIH019,2,19950111,2248,-46.5138, 115.0055, 4165, 4612.1,    458.3,   5.3121,  34.2489,2,  34.2681,4,    249.2,2,  5.2748,    243.4,2,    16.03,2,    25.39,2,     0.01,2,     1.76,2, -999.000,9, -999.000,9, -999.000,5,-999.0000,5,  -999.00,9,   -999.0,9,  -999.00,9,-999.000,9,   -999.0,9,   -999.0,9,  -999.0, -999.00,-999.0000,-999.000,-999.000
     316N145_5,  I09S,   121,  1,     24, SIH037,2,19950111,2248,-46.5138, 115.0055, 4165, 5087.8,    506.2,   5.2497,  34.2910,2,  34.2936,2,    237.7,2,  5.2086,    232.4,2,    18.89,2,    26.56,2,     0.01,2,     1.84,2, -999.000,9, -999.000,9, -999.000,5,-999.0000,5,  -999.00,9,   -999.0,9,  -999.00,9,-999.000,9,   -999.0,9,   -999.0,9,  -999.0, -999.00,-999.0000,-999.000,-999.000
     316N145_5,  I09S,   121,  1,     23, SIH033,2,19950111,2248,-46.5138, 115.0055, 4165, 6078.9,    605.8,   4.3868,  34.2699,2,  34.2721,2,    231.8,2,  4.3411,    230.3,2,    24.60,2,    28.68,2,     0.01,2,     1.97,2, -999.000,9, -999.000,9, -999.000,5,-999.0000,5,  -999.00,9,   -999.0,9,  -999.00,9,-999.000,9,   -999.0,9,   -999.0,9,  -999.0, -999.00,-999.0000,-999.000,-999.000
     316N145_5,  I09S,   121,  1,     22, SIH031,2,19950111,2248,-46.5138, 115.0055, 4165, 7123.0,    710.9,   3.9803,  34.3053,2,  34.3072,2,    217.0,2,  3.9284,    217.9,2,    32.54,2,    30.29,2,     0.01,2,     2.09,2, -999.000,9, -999.000,9, -999.000,5,-999.0000,5,  -999.00,9,   -999.0,9,  -999.00,9,-999.000,9,   -999.0,9,   -999.0,9,  -999.0, -999.00,-999.0000,-999.000,-999.000
     316N145_5,  I09S,   121,  1,     21, SIH030,2,19950111,2248,-46.5138, 115.0055, 4165, 8382.9,    837.6,   3.5363,  34.3330,2,  34.3343,2,    208.5,2,  3.4772,    208.5,2,    40.00,2,    31.55,2,     0.01,2,     2.18,2, -999.000,9, -999.000,9, -999.000,5,-999.0000,5,  -999.00,9,   -999.0,9,  -999.00,9,-999.000,9,   -999.0,9,   -999.0,9,  -999.0, -999.00,-999.0000,-999.000,-999.000
     316N145_5,  I09S,   121,  1,     20, SIH028,2,19950111,2248,-46.5138, 115.0055, 4165, 8391.9,    838.5,   3.5362,  34.3328,2,  34.3348,2,    208.6,2,  3.4771,    208.2,2,    40.14,2,    31.54,2,     0.01,2,     2.18,2, -999.000,9, -999.000,9, -999.000,5,-999.0000,5,  -999.00,9,   -999.0,9,  -999.00,9,-999.000,9,   -999.0,9,   -999.0,9,  -999.0, -999.00,-999.0000,-999.000,-999.000
     316N145_5,  I09S,   121,  1,     19, SIH027,2,19950111,2248,-46.5138, 115.0055, 4165,10440.6,   1044.6,   2.9559,  34.4072,2,  34.4106,2,    189.4,2,  2.8851,    191.2,2,    53.96,2,    33.20,2,     0.00,2,     2.30,2, -999.000,9, -999.000,9, -999.000,5,-999.0000,5,  -999.00,9,   -999.0,9,  -999.00,9,-999.000,9,   -999.0,9,   -999.0,9,  -999.0, -999.00,-999.0000,-999.000,-999.000
     316N145_5,  I09S,   121,  1,     18, SIH003,2,19950111,2248,-46.5138, 115.0055, 4165,11119.2,   1112.8,   2.8960,  34.4378,2,  34.4400,2,    183.8,2,  2.8205,    186.0,2,    57.44,2,    33.43,2,     0.00,2,     2.31,2, -999.000,9, -999.000,9, -999.000,5,-999.0000,5,  -999.00,9,   -999.0,9,  -999.00,9,-999.000,9,   -999.0,9,   -999.0,9,  -999.0, -999.00,-999.0000,-999.000,-999.000
     316N145_5,  I09S,   121,  1,     17, SIH024,2,19950111,2248,-46.5138, 115.0055, 4165,11863.4,   1187.7,   2.8208,  34.4828,2,  34.4856,2,    176.4,2,  2.7401,    178.9,2,    62.67,2,    33.67,2,     0.00,2,     2.33,2, -999.000,9, -999.000,9, -999.000,5,-999.0000,5,  -999.00,9,   -999.0,9,  -999.00,9,-999.000,9,   -999.0,9,   -999.0,9,  -999.0, -999.00,-999.0000,-999.000,-999.000
     316N145_5,  I09S,   121,  1,     16, SIH022,2,19950111,2248,-46.5138, 115.0055, 4165,12555.3,   1257.3,   2.7042,  34.5080,2,  34.5089,2,    175.4,2,  2.6192,    178.3,2,    65.04,2,    33.56,2,     0.00,2,     2.32,2, -999.000,9, -999.000,9, -999.000,5,-999.0000,5,  -999.00,9,   -999.0,9,  -999.00,9,-999.000,9,   -999.0,9,   -999.0,9,  -999.0, -999.00,-999.0000,-999.000,-999.000
     316N145_5,  I09S,   121,  1,     15, SIH021,2,19950111,2248,-46.5138, 115.0055, 4165,15054.4,   1508.6,   2.5583,  34.6023,2,  34.6022,2,    170.7,2,  2.4548,    175.6,2,    71.69,2,    32.85,2,     0.00,2,     2.27,2, -999.000,9, -999.000,9, -999.000,5,-999.0000,5,  -999.00,9,   -999.0,9,  -999.00,9,-999.000,9,   -999.0,9,   -999.0,9,  -999.0, -999.00,-999.0000,-999.000,-999.000
     316N145_5,  I09S,   121,  1,     14, SIH002,2,19950111,2248,-46.5138, 115.0055, 4165,17128.1,   1717.2,   2.4588,  34.6660,2,  34.6696,2,    173.4,2,  2.3393,    177.7,2,    75.96,2,    32.01,2,     0.00,2,     2.20,2, -999.000,9, -999.000,9, -999.000,5,-999.0000,5,  -999.00,9,   -999.0,9,  -999.00,9,-999.000,9,   -999.0,9,   -999.0,9,  -999.0, -999.00,-999.0000,-999.000,-999.000
     316N145_5,  I09S,   121,  1,     13, SIH018,2,19950111,2248,-46.5138, 115.0055, 4165,19173.8,   1923.0,   2.3484,  34.7121,2,  34.7158,2,    182.4,2,  2.2130,    186.2,2,    76.10,2,    30.77,2,     0.00,2,     2.11,2, -999.000,9, -999.000,9, -999.000,5,-999.0000,5,  -999.00,9,   -999.0,9,  -999.00,9,-999.000,9,   -999.0,9,   -999.0,9,  -999.0, -999.00,-999.0000,-999.000,-999.000
     316N145_5,  I09S,   121,  1,     12, SIH016,2,19950111,2248,-46.5138, 115.0055, 4165,21203.8,   2127.2,   2.1978,  34.7394,2,  34.7392,2,    188.8,2,  2.0470,    192.2,2,    79.73,2,    30.07,2,     0.00,2,     2.06,2, -999.000,9, -999.000,9, -999.000,5,-999.0000,5,  -999.00,9,   -999.0,9,  -999.00,9,-999.000,9,   -999.0,9,   -999.0,9,  -999.0, -999.00,-999.0000,-999.000,-999.000
     316N145_5,  I09S,   121,  1,     11, SIH015,2,19950111,2248,-46.5138, 115.0055, 4165,23157.3,   2323.7,   2.0419,  34.7488,2,  34.7500,2,    190.9,2,  1.8763,    195.2,2,    84.01,2,    29.87,2,     0.00,2,     2.05,2, -999.000,9, -999.000,9, -999.000,5,-999.0000,5,  -999.00,9,   -999.0,9,  -999.00,9,-999.000,9,   -999.0,9,   -999.0,9,  -999.0, -999.00,-999.0000,-999.000,-999.000
     316N145_5,  I09S,   121,  1,     10, SIH013,2,19950111,2248,-46.5138, 115.0055, 4165,25223.8,   2531.5,   1.8715,  34.7495,2,  34.7504,2,    192.7,2,  1.6903,    197.8,2,    89.86,2,    30.00,2,     0.00,2,     2.06,2, -999.000,9, -999.000,9, -999.000,5,-999.0000,5,  -999.00,9,   -999.0,9,  -999.00,9,-999.000,9,   -999.0,9,   -999.0,9,  -999.0, -999.00,-999.0000,-999.000,-999.000
     316N145_5,  I09S,   121,  1,      9, SIH012,2,19950111,2248,-46.5138, 115.0055, 4165,27093.5,   2719.6,   1.6588,  34.7434,2,  34.7537,3,    195.0,2,  1.4646,    197.9,2,    89.68,2,    29.89,2,     0.00,2,     2.06,2, -999.000,9, -999.000,9, -999.000,5,-999.0000,5,  -999.00,9,   -999.0,9,  -999.00,9,-999.000,9,   -999.0,9,   -999.0,9,  -999.0, -999.00,-999.0000,-999.000,-999.000
     316N145_5,  I09S,   121,  1,      8, SIH010,2,19950111,2248,-46.5138, 115.0055, 4165,29238.3,   2935.3,   1.4327,  34.7350,2,  34.7378,2,    196.4,2,  1.2231,    201.6,2,   104.12,2,    30.71,2,     0.00,2,     2.12,2, -999.000,9, -999.000,9, -999.000,5,-999.0000,5,  -999.00,9,   -999.0,9,  -999.00,9,-999.000,9,   -999.0,9,   -999.0,9,  -999.0, -999.00,-999.0000,-999.000,-999.000
     316N145_5,  I09S,   121,  1,      7, SIH009,2,19950111,2248,-46.5138, 115.0055, 4165,31223.8,   3135.1,   1.2442,  34.7267,2,  34.7294,2,    199.1,2,  1.0200,    203.5,2,   110.77,2,    31.09,2,     0.00,2,     2.15,2, -999.000,9, -999.000,9, -999.000,5,-999.0000,5,  -999.00,9,   -999.0,9,  -999.00,9,-999.000,9,   -999.0,9,   -999.0,9,  -999.0, -999.00,-999.0000,-999.000,-999.000
     316N145_5,  I09S,   121,  1,      6, SIH038,2,19950111,2248,-46.5138, 115.0055, 4165,33265.5,   3340.4,   1.1424,  34.7204,2,  34.7233,2,    200.6,2,  0.9008,    205.1,2,   114.39,2,    31.18,2,     0.00,2,     2.15,2, -999.000,9, -999.000,9, -999.000,5,-999.0000,5,  -999.00,9,   -999.0,9,  -999.00,9,-999.000,9,   -999.0,9,   -999.0,9,  -999.0, -999.00,-999.0000,-999.000,-999.000
     316N145_5,  I09S,   121,  1,      5, SIH006,2,19950111,2248,-46.5138, 115.0055, 4165,35425.3,   3557.7,   1.1086,  34.7183,2,  34.7205,2,    201.9,2,  0.8463,    205.1,2,   114.22,2,    31.21,2,     0.00,2,     2.16,2, -999.000,9, -999.000,9, -999.000,5,-999.0000,5,  -999.00,9,   -999.0,9,  -999.00,9,-999.000,9,   -999.0,9,   -999.0,9,  -999.0, -999.00,-999.0000,-999.000,-999.000
     316N145_5,  I09S,   121,  1,      4, SIH004,2,19950111,2248,-46.5138, 115.0055, 4165,37400.5,   3756.4,   1.0693,  34.7149,2,  34.7152,2,    203.9,2,  0.7878,    206.4,2,   117.53,2,    31.49,2,     0.00,2,     2.17,2, -999.000,9, -999.000,9, -999.000,5,-999.0000,5,  -999.00,9,   -999.0,9,  -999.00,9,-999.000,9,   -999.0,9,   -999.0,9,  -999.0, -999.00,-999.0000,-999.000,-999.000
     316N145_5,  I09S,   121,  1,      3, SIH025,2,19950111,2248,-46.5138, 115.0055, 4165,39449.0,   3962.4,   1.0615,  34.7151,2,  34.7150,2,    201.9,2,  0.7587,    206.7,2,   118.46,2,    31.58,2,     0.00,2,     2.17,2, -999.000,9, -999.000,9, -999.000,5,-999.0000,5,  -999.00,9,   -999.0,9,  -999.00,9,-999.000,9,   -999.0,9,   -999.0,9,  -999.0, -999.00,-999.0000,-999.000,-999.000
     316N145_5,  I09S,   121,  1,      2, SIH001,2,19950111,2248,-46.5138, 115.0055, 4165,40138.8,   4031.8,   1.0642,  34.7145,2,  34.7138,2,    204.2,2,  0.7539,    207.1,2,   118.13,2,    31.47,2,     0.00,2,     2.17,2, -999.000,9, -999.000,9, -999.000,5,-999.0000,5,  -999.00,9,   -999.0,9,  -999.00,9,-999.000,9,   -999.0,9,   -999.0,9,  -999.0, -999.00,-999.0000,-999.000,-999.000
     316N145_5,  I09S,   121,  1,      1, SIH036,2,19950111,2248,-46.5138, 115.0055, 4165,40730.6,   4091.4,   1.0666,  34.7146,2,  34.7140,2,    204.1,2,  0.7499,    207.3,2,   118.69,2,    31.48,2,     0.00,2,     2.17,2, -999.000,9, -999.000,9, -999.000,5,-999.0000,5,  -999.00,9,   -999.0,9,  -999.00,9,-999.000,9,   -999.0,9,   -999.0,9,  -999.0, -999.00,-999.0000,-999.000,-999.000