BOTTLE,20090521WHPSIOdm
EXPOCODE,SECT_ID,STNNBR,CASTNO,SAMPNO,BTLNBR,BTLNBR_FLAG_W,DATE,TIME,LATITUDE,LONGITUDE,DEPTH,CTDRAW,CTDPRS,CTDTMP,CTDSAL,CTDSAL_FLAG_W,SALNTY,SALNTY_FLAG_W,CTDOXY,CTDOXY_FLAG_W,THETA,OXYGEN,OXYGEN_FLAG_W,SILCAT,SILCAT_FLAG_W,NITRAT,NITRAT_FLAG_W,NITRIT,NITRIT_FLAG_W,PHSPHT,PHSPHT_FLAG_W,CFC-11,CFC-11_FLAG_W,CFC-12,CFC-12_FLAG_W,TRITUM,TRITUM_FLAG_W,HELIUM,HELIUM_FLAG_W,DELHE3,DELHE3_FLAG_W,DELC14,DELC14_FLAG_W,DELC13,DELC13_FLAG_W,NEON,NEON_FLAG_W,TCARBN,TCARBN_FLAG_W,ALKALI,ALKALI_FLAG_W,C14ERR,DELHER,HELIER,NEONER,TRITER
,,,,,,,,,,,,,DBAR,IPTS-68,PSS-78,,PSS-78,,UMOL/KG,,IPTS-68,UMOL/KG,,UMOL/KG,,UMOL/KG,,UMOL/KG,,UMOL/KG,,PMOL/KG,,PMOL/KG,,TU,,NMOL/KG,,PERCNT,,/MILLE,,/MILLE,,NMOL/KG,,UMOL/KG,,UMOL/KG,,/MILLE,PERCNT,NMOL/KG,NMOL/KG,TU
     316N145_5,  I09S,    91,  1,     36, SIH035,2,19950103,1015,-62.4112, 114.4278, 4080,  160.8,     10.8,   0.7155,  33.8581,2,  33.8609,2,    339.5,2,  0.7150,    335.9,2,    56.63,2,    26.95,2,     0.25,2,     1.91,2,    6.403,2,    3.047,2, -999.000,5,-999.0000,5,  -999.00,9,   -999.0,9,  -999.00,9,-999.000,9,   -999.0,9,   -999.0,9,  -999.0, -999.00,-999.0000,-999.000,-999.000
     316N145_5,  I09S,    91,  1,     35, SIH032,2,19950103,1015,-62.4112, 114.4278, 4080,  374.2,     32.2,   0.6865,  33.8575,2,  33.8647,2,    338.7,2,  0.6852,    335.5,2,    56.46,2,    27.55,2,     0.24,2,     1.92,2, -999.000,9, -999.000,9, -999.000,5,-999.0000,5,  -999.00,9,   -999.0,9,  -999.00,9,-999.000,9,   -999.0,9,   -999.0,9,  -999.0, -999.00,-999.0000,-999.000,-999.000
     316N145_5,  I09S,    91,  1,     34, SIH029,2,19950103,1015,-62.4112, 114.4278, 4080,  624.7,     57.4,  -0.8996,  34.2705,2,  34.2691,2,    297.1,2, -0.9012,    298.0,2,    63.92,2,    28.62,2,     0.07,2,     2.01,2,    4.312,2,    2.051,2, -999.000,5,-999.0000,5,  -999.00,9,   -999.0,9,  -999.00,9,-999.000,9,   -999.0,9,   -999.0,9,  -999.0, -999.00,-999.0000,-999.000,-999.000
     316N145_5,  I09S,    91,  1,     33, SIH026,2,19950103,1015,-62.4112, 114.4278, 4080,  870.7,     82.2,   0.1848,  34.4733,2,  34.4714,2,    244.6,2,  0.1817,    245.1,2,    72.17,2,    30.30,2,     0.08,2,     2.12,2, -999.000,9, -999.000,9, -999.000,5,-999.0000,5,  -999.00,9,   -999.0,9,  -999.00,9,-999.000,9,   -999.0,9,   -999.0,9,  -999.0, -999.00,-999.0000,-999.000,-999.000
     316N145_5,  I09S,    91,  1,     32, SIH023,2,19950103,1015,-62.4112, 114.4278, 4080, 1123.6,    107.6,   1.0708,  34.6065,2,  34.6093,2,    201.1,2,  1.0660,    203.3,2,    81.20,2,    31.37,2,     0.12,2,     2.22,2,    1.253,2,    0.574,2, -999.000,5,-999.0000,5,  -999.00,9,   -999.0,9,  -999.00,9,-999.000,9,   -999.0,9,   -999.0,9,  -999.0, -999.00,-999.0000,-999.000,-999.000
     316N145_5,  I09S,    91,  1,     31, SIH020,2,19950103,1015,-62.4112, 114.4278, 4080, 1628.6,    158.4,   1.4670,  34.6741,2,  34.6761,2,    185.5,2,  1.4593,    190.2,2,    85.40,2,  -999.00,2,     0.01,2,     2.21,2, -999.000,9, -999.000,9, -999.000,5,-999.0000,5,  -999.00,9,   -999.0,9,  -999.00,9,-999.000,9,   -999.0,9,   -999.0,9,  -999.0, -999.00,-999.0000,-999.000,-999.000
     316N145_5,  I09S,    91,  1,     30, SIH017,2,19950103,1015,-62.4112, 114.4278, 4080, 2129.2,    208.8,   1.5149,  34.6913,2,  34.6944,2,    187.9,2,  1.5045,    190.1,2,    86.33,2,    31.42,2,     0.00,2,     2.20,2,    0.522,2,    0.233,2, -999.000,5,-999.0000,5,  -999.00,9,   -999.0,9,  -999.00,9,-999.000,9,   -999.0,9,   -999.0,9,  -999.0, -999.00,-999.0000,-999.000,-999.000
     316N145_5,  I09S,    91,  1,     29, SIH014,2,19950103,1015,-62.4112, 114.4278, 4080, 2617.4,    257.9,   1.5235,  34.7021,2,  34.7168,2,    187.9,2,  1.5106,    190.5,2,    87.40,2,    31.26,2,     0.00,2,     2.18,2, -999.000,9, -999.000,9, -999.000,5,-999.0000,5,  -999.00,9,   -999.0,9,  -999.00,9,-999.000,9,   -999.0,9,   -999.0,9,  -999.0, -999.00,-999.0000,-999.000,-999.000
     316N145_5,  I09S,    91,  1,     28, SIH011,2,19950103,1015,-62.4112, 114.4278, 4080, 3099.5,    306.4,   1.5263,  34.7101,2,  34.7107,2,    191.3,2,  1.5108,    191.5,2,    88.32,2,    30.72,2,     0.00,2,     2.17,2,    0.383,2,    0.170,2, -999.000,5,-999.0000,5,  -999.00,9,   -999.0,9,  -999.00,9,-999.000,9,   -999.0,9,   -999.0,9,  -999.0, -999.00,-999.0000,-999.000,-999.000
     316N145_5,  I09S,    91,  1,     27, SIH008,2,19950103,1015,-62.4112, 114.4278, 4080, 3613.3,    358.0,   1.5181,  34.7174,2,  34.7221,2,    192.5,2,  1.4998,    192.2,2,    89.25,2,    30.23,2,     0.00,2,     2.15,2, -999.000,9, -999.000,9, -999.000,5,-999.0000,5,  -999.00,9,   -999.0,9,  -999.00,9,-999.000,9,   -999.0,9,   -999.0,9,  -999.0, -999.00,-999.0000,-999.000,-999.000
     316N145_5,  I09S,    91,  1,     26, SIH005,2,19950103,1015,-62.4112, 114.4278, 4080, 4114.9,    408.5,   1.5026,  34.7225,2,  34.7233,2,    189.8,2,  1.4816,    193.4,2,    90.32,2,    30.34,2,     0.00,2,     2.14,2,    0.285,2,    0.122,2, -999.000,5,-999.0000,5,  -999.00,9,   -999.0,9,  -999.00,9,-999.000,9,   -999.0,9,   -999.0,9,  -999.0, -999.00,-999.0000,-999.000,-999.000
     316N145_5,  I09S,    91,  1,     25, SIH019,2,19950103,1015,-62.4112, 114.4278, 4080, 4616.5,    459.0,   1.4630,  34.7247,2,  34.7286,2,    190.8,2,  1.4394,    194.6,2,    91.72,2,  -999.00,2,     0.00,2,     2.14,2, -999.000,9, -999.000,9, -999.000,5,-999.0000,5,  -999.00,9,   -999.0,9,  -999.00,9,-999.000,9,   -999.0,9,   -999.0,9,  -999.0, -999.00,-999.0000,-999.000,-999.000
     316N145_5,  I09S,    91,  1,     24, SIH037,2,19950103,1015,-62.4112, 114.4278, 4080, 5116.2,    509.2,   1.4387,  34.7268,2,  34.7313,2,    193.2,2,  1.4123,    195.6,2,    92.48,2,    30.48,2,     0.00,2,     2.13,2,    0.240,2,    0.105,2, -999.000,5,-999.0000,5,  -999.00,9,   -999.0,9,  -999.00,9,-999.000,9,   -999.0,9,   -999.0,9,  -999.0, -999.00,-999.0000,-999.000,-999.000
     316N145_5,  I09S,    91,  1,     23, SIH033,2,19950103,1015,-62.4112, 114.4278, 4080, 6104.0,    608.6,   1.3769,  34.7282,2,  34.7309,2,    194.7,2,  1.3451,    197.1,2,    94.65,2,    30.43,2,     0.00,2,     2.13,2, -999.000,9, -999.000,9, -999.000,5,-999.0000,5,  -999.00,9,   -999.0,9,  -999.00,9,-999.000,9,   -999.0,9,   -999.0,9,  -999.0, -999.00,-999.0000,-999.000,-999.000
     316N145_5,  I09S,    91,  1,     22, SIH031,2,19950103,1015,-62.4112, 114.4278, 4080, 7125.9,    711.4,   1.3026,  34.7281,2,  34.7335,2,    198.5,2,  1.2653,    199.0,2,    96.66,2,    30.47,2,     0.00,2,     2.13,2,    0.180,2,    0.077,2, -999.000,5,-999.0000,5,  -999.00,9,   -999.0,9,  -999.00,9,-999.000,9,   -999.0,9,   -999.0,9,  -999.0, -999.00,-999.0000,-999.000,-999.000
     316N145_5,  I09S,    91,  1,     21, SIH030,2,19950103,1015,-62.4112, 114.4278, 4080, 8130.4,    812.4,   1.2223,  34.7266,2,  34.7278,2,    194.2,2,  1.1795,    199.8,2,    99.15,2,    30.57,2,     0.00,2,     2.14,2, -999.000,9, -999.000,9, -999.000,5,-999.0000,5,  -999.00,9,   -999.0,9,  -999.00,9,-999.000,9,   -999.0,9,   -999.0,9,  -999.0, -999.00,-999.0000,-999.000,-999.000
     316N145_5,  I09S,    91,  1,     20, SIH028,2,19950103,1015,-62.4112, 114.4278, 4080, 9119.5,    911.9,   1.1549,  34.7245,2,  34.7268,2,    200.0,2,  1.1066,    200.8,2,   101.63,2,    30.67,2,     0.00,2,     2.14,2,    0.143,2,    0.060,2, -999.000,5,-999.0000,5,  -999.00,9,   -999.0,9,  -999.00,9,-999.000,9,   -999.0,9,   -999.0,9,  -999.0, -999.00,-999.0000,-999.000,-999.000
     316N145_5,  I09S,    91,  1,     19, SIH027,2,19950103,1015,-62.4112, 114.4278, 4080,10136.4,   1014.2,   1.0679,  34.7204,2,  34.7213,2,    198.1,2,  1.0141,    201.8,2,   103.96,2,    30.66,2,     0.00,2,     2.16,2, -999.000,9, -999.000,9, -999.000,5,-999.0000,5,  -999.00,9,   -999.0,9,  -999.00,9,-999.000,9,   -999.0,9,   -999.0,9,  -999.0, -999.00,-999.0000,-999.000,-999.000
     316N145_5,  I09S,    91,  1,     18, SIH003,2,19950103,1015,-62.4112, 114.4278, 4080,11125.0,   1113.6,   0.9989,  34.7177,2,  34.7201,2,    198.5,2,  0.9394,    203.2,2,   105.97,2,    30.87,2,     0.00,2,     2.17,2,    0.124,3,    0.047,2, -999.000,5,-999.0000,5,  -999.00,9,   -999.0,9,  -999.00,9,-999.000,9,   -999.0,9,   -999.0,9,  -999.0, -999.00,-999.0000,-999.000,-999.000
     316N145_5,  I09S,    91,  1,     17, SIH024,2,19950103,1015,-62.4112, 114.4278, 4080,12121.3,   1213.8,   0.9383,  34.7140,2,  34.7178,2,    203.1,2,  0.8731,    204.2,2,   107.83,2,    30.97,2,     0.00,2,     2.17,2, -999.000,9, -999.000,9, -999.000,5,-999.0000,5,  -999.00,9,   -999.0,9,  -999.00,9,-999.000,9,   -999.0,9,   -999.0,9,  -999.0, -999.00,-999.0000,-999.000,-999.000
     316N145_5,  I09S,    91,  1,     16, SIH022,2,19950103,1015,-62.4112, 114.4278, 4080,13126.3,   1314.9,   0.8718,  34.7105,2,  34.7138,2,    202.2,2,  0.8007,    205.1,2,   109.21,2,    31.07,2,     0.00,2,     2.18,2,    0.112,2,    0.048,2, -999.000,5,-999.0000,5,  -999.00,9,   -999.0,9,  -999.00,9,-999.000,9,   -999.0,9,   -999.0,9,  -999.0, -999.00,-999.0000,-999.000,-999.000
     316N145_5,  I09S,    91,  1,     15, SIH021,2,19950103,1015,-62.4112, 114.4278, 4080,15152.4,   1518.7,   0.7392,  34.7038,2,  34.7066,2,    204.4,2,  0.6561,    206.3,2,   113.26,2,    31.11,2,     0.00,2,     2.20,2, -999.000,9, -999.000,9, -999.000,5,-999.0000,5,  -999.00,9,   -999.0,9,  -999.00,9,-999.000,9,   -999.0,9,   -999.0,9,  -999.0, -999.00,-999.0000,-999.000,-999.000
     316N145_5,  I09S,    91,  1,     14, SIH002,2,19950103,1015,-62.4112, 114.4278, 4080,17156.7,   1720.3,   0.6029,  34.6978,2,  34.7009,2,    204.7,2,  0.5077,    208.6,2,   116.99,2,  -999.00,2,     0.00,2,     2.21,2, -999.000,9, -999.000,9, -999.000,5,-999.0000,5,  -999.00,9,   -999.0,9,  -999.00,9,-999.000,9,   -999.0,9,   -999.0,9,  -999.0, -999.00,-999.0000,-999.000,-999.000
     316N145_5,  I09S,    91,  1,     13, SIH018,2,19950103,1015,-62.4112, 114.4278, 4080,19162.8,   1922.1,   0.4853,  34.6928,2,  34.6946,2,    206.6,2,  0.3776,    211.1,2,   119.47,2,    31.47,2,     0.00,2,     2.22,2,    0.120,2,    0.053,2, -999.000,5,-999.0000,5,  -999.00,9,   -999.0,9,  -999.00,9,-999.000,9,   -999.0,9,   -999.0,9,  -999.0, -999.00,-999.0000,-999.000,-999.000
     316N145_5,  I09S,    91,  1,     12, SIH016,2,19950103,1015,-62.4112, 114.4278, 4080,21185.0,   2125.5,   0.3532,  34.6858,2,  34.6873,2,    211.4,2,  0.2327,    214.6,2,   121.01,2,    31.41,2,     0.00,2,     2.23,2, -999.000,9, -999.000,9, -999.000,5,-999.0000,5,  -999.00,9,   -999.0,9,  -999.00,9,-999.000,9,   -999.0,9,   -999.0,9,  -999.0, -999.00,-999.0000,-999.000,-999.000
     316N145_5,  I09S,    91,  1,     11, SIH015,2,19950103,1015,-62.4112, 114.4278, 4080,23215.5,   2329.8,   0.2459,  34.6822,2,  34.6830,2,    213.1,2,  0.1118,    218.3,2,   121.62,2,    31.30,2,     0.00,2,     2.23,2, -999.000,9, -999.000,9, -999.000,5,-999.0000,5,  -999.00,9,   -999.0,9,  -999.00,9,-999.000,9,   -999.0,9,   -999.0,9,  -999.0, -999.00,-999.0000,-999.000,-999.000
     316N145_5,  I09S,    91,  1,     10, SIH013,2,19950103,1015,-62.4112, 114.4278, 4080,25240.2,   2533.4,   0.1621,  34.6793,2,  34.6800,2,    215.3,2,  0.0137,    221.0,2,   122.55,2,    31.56,2,     0.00,2,     2.23,2,    0.353,2,    0.159,2, -999.000,5,-999.0000,5,  -999.00,9,   -999.0,9,  -999.00,9,-999.000,9,   -999.0,9,   -999.0,9,  -999.0, -999.00,-999.0000,-999.000,-999.000
     316N145_5,  I09S,    91,  1,      9, SIH012,2,19950103,1015,-62.4112, 114.4278, 4080,27274.8,   2738.1,   0.0943,  34.6780,2,  34.6793,2,    220.6,2, -0.0693,    224.2,2,   122.06,2,    32.08,2,     0.00,2,     2.22,2, -999.000,9, -999.000,9, -999.000,5,-999.0000,5,  -999.00,9,   -999.0,9,  -999.00,9,-999.000,9,   -999.0,9,   -999.0,9,  -999.0, -999.00,-999.0000,-999.000,-999.000
     316N145_5,  I09S,    91,  1,      8, SIH010,2,19950103,1015,-62.4112, 114.4278, 4080,29294.8,   2941.3,   0.0239,  34.6766,2,  34.6798,2,    221.5,2, -0.1550,    227.0,2,   120.64,2,    31.34,2,     0.00,2,     2.22,2, -999.000,9, -999.000,9, -999.000,5,-999.0000,5,  -999.00,9,   -999.0,9,  -999.00,9,-999.000,9,   -999.0,9,   -999.0,9,  -999.0, -999.00,-999.0000,-999.000,-999.000
     316N145_5,  I09S,    91,  1,      7, SIH009,2,19950103,1015,-62.4112, 114.4278, 4080,31335.0,   3146.5,  -0.0259,  34.6741,2,  34.6759,2,    226.7,2, -0.2213,    229.3,2,   119.38,2,    31.38,2,     0.00,2,     2.21,2,    0.715,2,    0.335,2, -999.000,5,-999.0000,5,  -999.00,9,   -999.0,9,  -999.00,9,-999.000,9,   -999.0,9,   -999.0,9,  -999.0, -999.00,-999.0000,-999.000,-999.000
     316N145_5,  I09S,    91,  1,      6, SIH038,2,19950103,1015,-62.4112, 114.4278, 4080,33476.2,   3361.9,  -0.0793,  34.6728,2,  34.6737,2,    228.9,2, -0.2926,    232.0,2,   122.83,2,    31.43,2,     0.00,2,     2.21,2, -999.000,9, -999.000,9, -999.000,5,-999.0000,5,  -999.00,9,   -999.0,9,  -999.00,9,-999.000,9,   -999.0,9,   -999.0,9,  -999.0, -999.00,-999.0000,-999.000,-999.000
     316N145_5,  I09S,    91,  1,      5, SIH006,2,19950103,1015,-62.4112, 114.4278, 4080,35497.8,   3565.2,  -0.1192,  34.6730,2,  34.6716,2,    231.3,2, -0.3501,    233.9,2,   121.63,2,    31.40,2,     0.00,2,     2.20,2,    0.985,2,    0.443,2, -999.000,5,-999.0000,5,  -999.00,9,   -999.0,9,  -999.00,9,-999.000,9,   -999.0,9,   -999.0,9,  -999.0, -999.00,-999.0000,-999.000,-999.000
     316N145_5,  I09S,    91,  1,      4, SIH004,2,19950103,1015,-62.4112, 114.4278, 4080,37404.0,   3757.0,  -0.1531,  34.6720,2,  34.6791,4,    235.9,2, -0.4012,    236.3,2,   118.49,2,    31.21,2,     0.00,2,     2.20,2, -999.000,9, -999.000,9, -999.000,5,-999.0000,5,  -999.00,9,   -999.0,9,  -999.00,9,-999.000,9,   -999.0,9,   -999.0,9,  -999.0, -999.00,-999.0000,-999.000,-999.000
     316N145_5,  I09S,    91,  1,      3, SIH025,2,19950103,1015,-62.4112, 114.4278, 4080,39282.6,   3945.9,  -0.2027,  34.6687,2,  34.6698,2,    238.7,2, -0.4677,    238.7,2,   119.32,2,    31.30,2,     0.00,2,     2.20,2,    1.590,2,    0.716,2, -999.000,5,-999.0000,5,  -999.00,9,   -999.0,9,  -999.00,9,-999.000,9,   -999.0,9,   -999.0,9,  -999.0, -999.00,-999.0000,-999.000,-999.000
     316N145_5,  I09S,    91,  1,      2, SIH001,2,19950103,1015,-62.4112, 114.4278, 4080,40314.9,   4049.8,  -0.2145,  34.6670,2,  34.6663,2,    239.6,2, -0.4894,    239.2,2,   121.34,2,  -999.00,2,     0.00,2,     2.21,2, -999.000,9, -999.000,9, -999.000,5,-999.0000,5,  -999.00,9,   -999.0,9,  -999.00,9,-999.000,9,   2253.7,6,   -999.0,9,  -999.0, -999.00,-999.0000,-999.000,-999.000
     316N145_5,  I09S,    91,  1,      1, SIH036,2,19950103,1015,-62.4112, 114.4278, 4080,40831.9,   4101.8,  -0.2100,  34.6669,2,  34.6680,2,    239.5,2, -0.4902,    239.9,2,   121.43,2,    31.02,2,     0.00,2,     2.20,2,    1.707,2,    0.769,2, -999.000,5,-999.0000,5,  -999.00,9,   -999.0,9,  -999.00,9,-999.000,9,   -999.0,9,   -999.0,9,  -999.0, -999.00,-999.0000,-999.000,-999.000