BOTTLE,20090521WHPSIOdm
EXPOCODE,SECT_ID,STNNBR,CASTNO,SAMPNO,BTLNBR,BTLNBR_FLAG_W,DATE,TIME,LATITUDE,LONGITUDE,DEPTH,CTDRAW,CTDPRS,CTDTMP,CTDSAL,CTDSAL_FLAG_W,SALNTY,SALNTY_FLAG_W,CTDOXY,CTDOXY_FLAG_W,THETA,OXYGEN,OXYGEN_FLAG_W,SILCAT,SILCAT_FLAG_W,NITRAT,NITRAT_FLAG_W,NITRIT,NITRIT_FLAG_W,PHSPHT,PHSPHT_FLAG_W,CFC-11,CFC-11_FLAG_W,CFC-12,CFC-12_FLAG_W,TRITUM,TRITUM_FLAG_W,HELIUM,HELIUM_FLAG_W,DELHE3,DELHE3_FLAG_W,DELC14,DELC14_FLAG_W,DELC13,DELC13_FLAG_W,NEON,NEON_FLAG_W,TCARBN,TCARBN_FLAG_W,ALKALI,ALKALI_FLAG_W,C14ERR,DELHER,HELIER,NEONER,TRITER
,,,,,,,,,,,,,DBAR,IPTS-68,PSS-78,,PSS-78,,UMOL/KG,,IPTS-68,UMOL/KG,,UMOL/KG,,UMOL/KG,,UMOL/KG,,UMOL/KG,,PMOL/KG,,PMOL/KG,,TU,,NMOL/KG,,PERCNT,,/MILLE,,/MILLE,,NMOL/KG,,UMOL/KG,,UMOL/KG,,/MILLE,PERCNT,NMOL/KG,NMOL/KG,TU
     316N145_5,  I08S,    78,  1,     28, SIH011,2,19941226,2352,-62.5055,  82.0138, 1955,  142.3,      8.9,   0.2977,  33.7296,2,  33.7363,2,    340.1,2,  0.2974,    346.0,2,    42.08,2,    26.17,2,     0.28,2,     1.73,2, -999.000,9, -999.000,9,    0.113,2,   3.5950,4,   -15.79,4,   -999.0,9,  -999.00,9,  13.980,4,   -999.0,9,   -999.0,9,  -999.0,    0.12,  0.0070,  60.062,   0.005
     316N145_5,  I08S,    78,  1,     27, SIH008,2,19941226,2352,-62.5055,  82.0138, 1955,  342.6,     29.1,  -0.0070,  33.7821,2,  33.7907,2,    344.1,2, -0.0080,    348.1,2,    41.92,2,    26.27,2,     0.26,2,     1.74,2, -999.000,9, -999.000,9, -999.000,5,-999.0000,5,  -999.00,9,   -999.0,9,  -999.00,9,-999.000,9,   -999.0,9,   -999.0,9,  -999.0, -999.00,-999.0000,-999.000,-999.000
     316N145_5,  I08S,    78,  1,     26, SIH005,2,19941226,2352,-62.5055,  82.0138, 1955,  594.6,     54.4,  -1.4116,  34.0340,2,  34.0488,2,    337.8,2, -1.4128,    326.6,2,    48.84,2,    28.69,2,     0.21,2,     2.01,2, -999.000,9, -999.000,9,   -0.021,4,   1.8060,2,    -0.26,2,   -999.0,9,  -999.00,9,   8.126,2,   -999.0,9,   -999.0,9,  -999.0,    0.10,  0.0020,   0.057,   0.005
     316N145_5,  I08S,    78,  1,     25, SIH019,2,19941226,2352,-62.5055,  82.0138, 1955,  844.5,     79.6,  -1.2360,  34.1457,2,  34.1621,2,    311.8,2, -1.2379,    295.5,2,    56.91,2,    30.50,2,     0.22,2,     2.21,2, -999.000,9, -999.000,9, -999.000,5,-999.0000,5,  -999.00,9,   -999.0,9,  -999.00,9,-999.000,9,   -999.0,9,   -999.0,9,  -999.0, -999.00,-999.0000,-999.000,-999.000
     316N145_5,  I08S,    78,  1,     24, SIH037,2,19941226,2352,-62.5055,  82.0138, 1955, 1092.9,    104.6,   0.2511,  34.3564,2,  34.3550,2,    234.7,2,  0.2472,    229.8,2,    69.09,2,    33.12,2,     0.16,2,     2.34,2, -999.000,9, -999.000,9,    0.059,2,   1.8520,2,     4.58,2,   -999.0,9,  -999.00,9,   8.155,2,   -999.0,9,   -999.0,9,  -999.0,    0.12,  0.0030,   0.051,   0.006
     316N145_5,  I08S,    78,  1,     23, SIH033,2,19941226,2352,-62.5055,  82.0138, 1955, 1594.4,    155.0,   1.8041,  34.5750,2,  34.5812,2,    169.3,2,  1.7961,    171.5,2,    82.10,2,    34.61,2,     0.03,2,     2.39,2, -999.000,9, -999.000,9, -999.000,5,-999.0000,5,  -999.00,9,   -999.0,9,  -999.00,9,-999.000,9,   -999.0,9,   -999.0,9,  -999.0, -999.00,-999.0000,-999.000,-999.000
     316N145_5,  I08S,    78,  1,     22, SIH031,2,19941226,2352,-62.5055,  82.0138, 1955, 2093.3,    205.2,   1.9057,  34.6116,2,  34.6219,2,    169.0,2,  1.8949,    169.2,2,    83.42,2,    34.24,2,     0.02,2,     2.37,2, -999.000,9, -999.000,9,    0.015,2,   1.8380,2,     8.85,2,   -999.0,9,  -999.00,9,   8.095,2,   -999.0,9,   -999.0,9,  -999.0,    0.10,  0.0020,   0.061,   0.005
     316N145_5,  I08S,    78,  1,     21, SIH030,2,19941226,2352,-62.5055,  82.0138, 1955, 2596.5,    255.8,   1.9640,  34.6439,2,  34.6517,2,    166.9,2,  1.9503,    169.7,2,    84.41,2,    33.66,2,     0.01,2,     2.33,2, -999.000,9, -999.000,9, -999.000,5,-999.0000,5,  -999.00,9,   -999.0,9,  -999.00,9,-999.000,9,   -999.0,9,   -999.0,9,  -999.0, -999.00,-999.0000,-999.000,-999.000
     316N145_5,  I08S,    78,  1,     20, SIH028,2,19941226,2352,-62.5055,  82.0138, 1955, 3098.6,    306.3,   1.9765,  34.6674,2,  34.6739,2,    170.6,2,  1.9599,    172.9,2,    85.08,2,    33.19,2,     0.01,2,     2.30,2, -999.000,9, -999.000,9,    0.000,5,   1.8690,2,     9.39,2,   -999.0,9,  -999.00,9,   8.066,2,   -999.0,9,   -999.0,9,  -999.0,    0.12,  0.0030,   0.045,   0.000
     316N145_5,  I08S,    78,  1,     19, SIH027,2,19941226,2352,-62.5055,  82.0138, 1955, 3595.4,    356.3,   1.9611,  34.6783,2,  34.6844,2,    171.0,2,  1.9416,    176.1,2,    85.24,2,    32.71,2,     0.01,2,     2.26,2, -999.000,9, -999.000,9, -999.000,5,-999.0000,5,  -999.00,9,   -999.0,9,  -999.00,9,-999.000,9,   -999.0,9,   -999.0,9,  -999.0, -999.00,-999.0000,-999.000,-999.000
     316N145_5,  I08S,    78,  1,     18, SIH003,2,19941226,2352,-62.5055,  82.0138, 1955, 4091.4,    406.2,   1.9592,  34.6943,2,  34.6973,2,    173.4,2,  1.9368,    176.9,2,    85.42,2,    32.40,2,     0.01,2,     2.24,2, -999.000,9, -999.000,9,    0.008,4,   2.3890,4,     7.57,3,   -999.0,9,  -999.00,9,   9.852,4,   -999.0,9,   -999.0,9,  -999.0,    0.09,  0.0030,   0.085,   0.006
     316N145_5,  I08S,    78,  1,     17, SIH024,2,19941226,2352,-62.5055,  82.0138, 1955, 4600.6,    457.4,   1.9355,  34.7055,2,  34.7072,2,    175.8,2,  1.9102,    179.6,2,    85.75,2,    32.04,2,     0.01,2,     2.22,2, -999.000,9, -999.000,9, -999.000,5,-999.0000,5,  -999.00,9,   -999.0,9,  -999.00,9,-999.000,9,   -999.0,9,   -999.0,9,  -999.0, -999.00,-999.0000,-999.000,-999.000
     316N145_5,  I08S,    78,  1,     16, SIH022,2,19941226,2352,-62.5055,  82.0138, 1955, 5087.6,    506.4,   1.9260,  34.7146,2,  34.7176,2,    177.5,2,  1.8977,    181.6,2,    86.25,2,    31.83,2,     0.01,2,     2.20,2, -999.000,9, -999.000,9,    0.008,4,   1.8600,2,     9.40,2,   -999.0,9,  -999.00,9,   8.049,2,   -999.0,9,   -999.0,9,  -999.0,    0.12,  0.0030,   0.036,   0.005
     316N145_5,  I08S,    78,  1,     15, SIH021,2,19941226,2352,-62.5055,  82.0138, 1955, 6102.6,    608.5,   1.8739,  34.7296,2,  34.7323,2,    183.5,2,  1.8398,    185.9,2,    87.08,2,    31.28,2,     0.00,2,     2.16,2, -999.000,9, -999.000,9,    0.005,2,   1.8730,2,     9.17,2,   -999.0,9,  -999.00,9,   8.094,2,   -999.0,9,   -999.0,9,  -999.0,    0.14,  0.0030,   0.049,   0.006
     316N145_5,  I08S,    78,  1,     14, SIH002,2,19941226,2352,-62.5055,  82.0138, 1955, 7100.4,    708.8,   1.8105,  34.7387,2,  34.7418,2,    184.9,2,  1.7704,    189.7,2,    87.91,2,    30.81,2,     0.00,2,     2.14,2, -999.000,9, -999.000,9,    0.006,2,   1.8830,2,     9.30,2,   -999.0,9,  -999.00,9,   8.102,2,   -999.0,9,   -999.0,9,  -999.0,    0.12,  0.0050,   0.051,   0.006
     316N145_5,  I08S,    78,  1,     13, SIH018,2,19941226,2352,-62.5055,  82.0138, 1955, 8102.7,    809.6,   1.7409,  34.7430,2,  34.7455,2,    186.8,2,  1.6949,    192.4,2,    89.22,2,    30.61,2,     0.00,2,     2.12,2, -999.000,9, -999.000,9, -999.000,5,-999.0000,5,  -999.00,9,   -999.0,9,  -999.00,9,-999.000,9,   -999.0,9,   -999.0,9,  -999.0, -999.00,-999.0000,-999.000,-999.000
     316N145_5,  I08S,    78,  1,     12, SIH016,2,19941226,2352,-62.5055,  82.0138, 1955, 9109.0,    910.9,   1.6656,  34.7456,2,  34.7480,2,    189.6,2,  1.6137,    195.4,2,    90.88,2,    30.46,2,     0.00,2,     2.11,2, -999.000,9, -999.000,9,    0.000,5,   1.8640,2,     9.05,2,   -999.0,9,  -999.00,9,   8.068,2,   -999.0,9,   -999.0,9,  -999.0,    0.14,  0.0030,   0.027,   0.000
     316N145_5,  I08S,    78,  1,     11, SIH015,2,19941226,2352,-62.5055,  82.0138, 1955,10110.7,   1011.6,   1.5823,  34.7467,2,  34.7484,2,    192.2,2,  1.5244,    197.8,2,    92.69,2,    30.32,2,     0.00,2,     2.10,2, -999.000,9, -999.000,9, -999.000,5,-999.0000,5,  -999.00,9,   -999.0,9,  -999.00,9,-999.000,9,   -999.0,9,   -999.0,9,  -999.0, -999.00,-999.0000,-999.000,-999.000
     316N145_5,  I08S,    78,  1,     10, SIH013,2,19941226,2352,-62.5055,  82.0138, 1955,11109.5,   1112.1,   1.4922,  34.7446,2,  34.7480,2,    193.5,2,  1.4284,    199.4,2,    95.00,2,    30.33,2,     0.00,2,     2.10,2, -999.000,9, -999.000,9,   -0.023,4,   1.9010,2,     9.11,2,   -999.0,9,  -999.00,9,   8.208,2,   -999.0,9,   -999.0,9,  -999.0,    0.12,  0.0030,   0.050,   0.005
     316N145_5,  I08S,    78,  1,      9, SIH012,2,19941226,2352,-62.5055,  82.0138, 1955,12112.6,   1213.0,   1.4018,  34.7418,2,  34.7636,4,    196.1,2,  1.3321,    200.7,2,    97.65,2,    30.49,2,     0.00,2,     2.11,2, -999.000,9, -999.000,9, -999.000,5,-999.0000,5,  -999.00,9,   -999.0,9,  -999.00,9,-999.000,9,   -999.0,9,   -999.0,9,  -999.0, -999.00,-999.0000,-999.000,-999.000
     316N145_5,  I08S,    78,  1,      8, SIH010,2,19941226,2352,-62.5055,  82.0138, 1955,13120.7,   1314.4,   1.2907,  34.7367,2,  34.7441,4,    197.2,2,  1.2152,    202.0,2,   100.78,2,    30.66,2,     0.00,2,     2.13,2, -999.000,9, -999.000,9,    0.003,2,   1.8910,2,     8.92,2,   -999.0,9,  -999.00,9,   8.194,2,   -999.0,9,   -999.0,9,  -999.0,    0.14,  0.0030,   0.050,   0.006
     316N145_5,  I08S,    78,  1,      7, SIH009,2,19941226,2352,-62.5055,  82.0138, 1955,14124.7,   1415.4,   1.2128,  34.7331,2,  34.7364,2,    195.4,2,  1.1313,    202.9,2,   102.93,2,    30.77,2,     0.00,2,     2.14,2, -999.000,9, -999.000,9, -999.000,5,-999.0000,5,  -999.00,9,   -999.0,9,  -999.00,9,-999.000,9,   -999.0,9,   -999.0,9,  -999.0, -999.00,-999.0000,-999.000,-999.000
     316N145_5,  I08S,    78,  1,      6, SIH038,2,19941226,2352,-62.5055,  82.0138, 1955,15182.5,   1521.8,   1.1164,  34.7275,2,  34.7307,2,    200.1,2,  1.0285,    203.7,2,   106.07,2,    30.98,2,     0.00,2,     2.16,2, -999.000,9, -999.000,9,   -0.002,2,   1.9110,2,     8.85,2,   -999.0,9,  -999.00,9,   8.292,2,   -999.0,9,   -999.0,9,  -999.0,    0.12,  0.0030,   0.033,   0.005
     316N145_5,  I08S,    78,  1,      5, SIH006,2,19941226,2352,-62.5055,  82.0138, 1955,16191.1,   1623.2,   1.0343,  34.7229,2,  34.7247,2,    200.2,2,  0.9403,    205.0,2,   109.20,2,    31.19,2,     0.00,2,     2.19,2, -999.000,9, -999.000,9, -999.000,5,-999.0000,5,  -999.00,9,   -999.0,9,  -999.00,9,-999.000,9,   -999.0,9,   -999.0,9,  -999.0, -999.00,-999.0000,-999.000,-999.000
     316N145_5,  I08S,    78,  1,      4, SIH004,2,19941226,2352,-62.5055,  82.0138, 1955,17192.4,   1724.0,   0.9395,  34.7178,2,  34.7215,2,    199.9,2,  0.8395,    205.2,2,   112.33,2,    31.40,2,     0.00,2,     2.19,2, -999.000,9, -999.000,9,   -0.002,2,   1.8820,2,     8.53,2,   -999.0,9,  -999.00,9,   8.172,2,   -999.0,9,   -999.0,9,  -999.0,    0.14,  0.0030,   0.023,   0.006
     316N145_5,  I08S,    78,  1,      3, SIH025,2,19941226,2352,-62.5055,  82.0138, 1955,17988.6,   1804.1,   0.8501,  34.7131,2,  34.7142,2,    203.3,2,  0.7456,    205.7,2,   116.29,2,    31.51,2,     0.00,2,     2.20,2, -999.000,9, -999.000,9, -999.000,5,-999.0000,5,  -999.00,9,   -999.0,9,  -999.00,9,-999.000,9,   -999.0,9,   -999.0,9,  -999.0, -999.00,-999.0000,-999.000,-999.000
     316N145_5,  I08S,    78,  1,      2, SIH001,2,19941226,2352,-62.5055,  82.0138, 1955,18734.9,   1879.1,   0.6486,  34.7008,2,  34.7044,2,    204.6,2,  0.5415,    207.8,2,   125.85,2,    31.91,2,     0.01,2,     2.24,2, -999.000,9, -999.000,9,    0.004,2,   1.8700,2,     8.12,2,   -999.0,9,  -999.00,9,   8.155,2,   -999.0,9,   -999.0,9,  -999.0,    0.12,  0.0030,   0.040,   0.006
     316N145_5,  I08S,    78,  1,      1, SIH036,2,19941226,2352,-62.5055,  82.0138, 1955,19291.0,   1935.1,   0.4406,  34.6913,2,  34.6952,2,    210.3,2,  0.3326,    210.6,2,   131.45,2,    32.10,2,     0.01,2,     2.25,2, -999.000,9, -999.000,9,    0.000,5,   1.8670,2,     7.70,2,   -999.0,9,  -999.00,9,   8.178,2,   -999.0,9,   -999.0,9,  -999.0,    0.14,  0.0050,   0.022,   0.000