BOTTLE,20090521WHPSIOdm
EXPOCODE,SECT_ID,STNNBR,CASTNO,SAMPNO,BTLNBR,BTLNBR_FLAG_W,DATE,TIME,LATITUDE,LONGITUDE,DEPTH,CTDRAW,CTDPRS,CTDTMP,CTDSAL,CTDSAL_FLAG_W,SALNTY,SALNTY_FLAG_W,CTDOXY,CTDOXY_FLAG_W,THETA,OXYGEN,OXYGEN_FLAG_W,SILCAT,SILCAT_FLAG_W,NITRAT,NITRAT_FLAG_W,NITRIT,NITRIT_FLAG_W,PHSPHT,PHSPHT_FLAG_W,CFC-11,CFC-11_FLAG_W,CFC-12,CFC-12_FLAG_W,TRITUM,TRITUM_FLAG_W,HELIUM,HELIUM_FLAG_W,DELHE3,DELHE3_FLAG_W,DELC14,DELC14_FLAG_W,DELC13,DELC13_FLAG_W,NEON,NEON_FLAG_W,TCARBN,TCARBN_FLAG_W,ALKALI,ALKALI_FLAG_W,C14ERR,DELHER,HELIER,NEONER,TRITER
,,,,,,,,,,,,,DBAR,IPTS-68,PSS-78,,PSS-78,,UMOL/KG,,IPTS-68,UMOL/KG,,UMOL/KG,,UMOL/KG,,UMOL/KG,,UMOL/KG,,PMOL/KG,,PMOL/KG,,TU,,NMOL/KG,,PERCNT,,/MILLE,,/MILLE,,NMOL/KG,,UMOL/KG,,UMOL/KG,,/MILLE,PERCNT,NMOL/KG,NMOL/KG,TU
     316N145_5,  I09S,   113,  1,     36, SIH035,2,19950109,2132,-50.4972, 115.0278, 3200,  166.7,     11.3,   4.4926,  33.9039,2,  33.9003,2,    320.1,2,  4.4918,    317.4,2,     0.53,2,    21.30,2,     0.24,2,     1.53,2, -999.000,9, -999.000,9, -999.000,5,-999.0000,5,  -999.00,9,   -999.0,9,  -999.00,9,-999.000,9,   -999.0,9,   -999.0,9,  -999.0, -999.00,-999.0000,-999.000,-999.000
     316N145_5,  I09S,   113,  1,     35, SIH032,2,19950109,2132,-50.4972, 115.0278, 3200,  358.8,     30.6,   4.4886,  33.9038,2,  33.9052,2,    328.0,2,  4.4864,    317.0,2,     0.52,2,    21.28,2,     0.24,2,     1.54,2,    5.419,2,    2.704,2, -999.000,5,-999.0000,5,  -999.00,9,   -999.0,9,  -999.00,9,-999.000,9,   -999.0,9,   -999.0,9,  -999.0, -999.00,-999.0000,-999.000,-999.000
     316N145_5,  I09S,   113,  1,     34, SIH029,2,19950109,2132,-50.4972, 115.0278, 3200,  612.6,     56.2,   4.4754,  33.9070,2,  33.9105,2,    323.2,2,  4.4714,    317.4,2,     0.51,2,    21.30,2,     0.24,2,     1.53,2, -999.000,9, -999.000,9, -999.000,5,-999.0000,5,  -999.00,9,   -999.0,9,  -999.00,9,-999.000,9,   -999.0,9,   -999.0,9,  -999.0, -999.00,-999.0000,-999.000,-999.000
     316N145_5,  I09S,   113,  1,     33, SIH026,2,19950109,2132,-50.4972, 115.0278, 3200,  860.9,     81.1,   4.2310,  33.9210,2,  33.9228,2,    323.8,2,  4.2254,    316.9,2,     0.50,2,    21.15,2,     0.23,2,     1.53,2,    5.398,2,    2.684,2, -999.000,5,-999.0000,5,  -999.00,9,   -999.0,9,  -999.00,9,-999.000,9,   -999.0,9,   -999.0,9,  -999.0, -999.00,-999.0000,-999.000,-999.000
     316N145_5,  I09S,   113,  1,     32, SIH023,2,19950109,2132,-50.4972, 115.0278, 3200, 1107.6,    106.0,   3.1367,  33.9692,2,  33.9690,2,    310.5,2,  3.1302,    304.7,2,     8.95,2,    24.46,2,     0.23,2,     1.89,2, -999.000,9, -999.000,9, -999.000,5,-999.0000,5,  -999.00,9,   -999.0,9,  -999.00,9,-999.000,9,   -999.0,9,   -999.0,9,  -999.0, -999.00,-999.0000,-999.000,-999.000
     316N145_5,  I09S,   113,  1,     31, SIH020,2,19950109,2132,-50.4972, 115.0278, 3200, 1600.2,    155.5,   2.7536,  34.0109,2,  34.0147,2,    307.5,2,  2.7445,    303.1,2,    16.93,2,    26.34,2,     0.04,2,     1.84,2, -999.000,9, -999.000,9, -999.000,5,-999.0000,5,  -999.00,9,   -999.0,9,  -999.00,9,-999.000,9,   -999.0,9,   -999.0,9,  -999.0, -999.00,-999.0000,-999.000,-999.000
     316N145_5,  I09S,   113,  1,     30, SIH017,2,19950109,2132,-50.4972, 115.0278, 3200, 2113.0,    207.1,   2.2164,  34.0070,2,  34.0084,2,    306.6,2,  2.2051,    303.7,2,    20.43,2,    27.20,2,     0.02,2,     1.90,2,    5.205,2,    2.599,2, -999.000,5,-999.0000,5,  -999.00,9,   -999.0,9,  -999.00,9,-999.000,9,   -999.0,9,   -999.0,9,  -999.0, -999.00,-999.0000,-999.000,-999.000
     316N145_5,  I09S,   113,  1,     29, SIH014,2,19950109,2132,-50.4972, 115.0278, 3200, 2617.1,    257.8,   2.2301,  34.0696,2,  34.0729,2,    274.8,2,  2.2159,    282.4,2,    26.17,2,    28.90,2,     0.02,2,     2.00,2, -999.000,9, -999.000,9, -999.000,5,-999.0000,5,  -999.00,9,   -999.0,9,  -999.00,9,-999.000,9,   -999.0,9,   -999.0,9,  -999.0, -999.00,-999.0000,-999.000,-999.000
     316N145_5,  I09S,   113,  1,     28, SIH011,2,19950109,2132,-50.4972, 115.0278, 3200, 3091.2,    305.5,   2.4755,  34.1655,2,  34.1707,2,    250.9,2,  2.4579,    251.8,2,    33.51,2,    30.68,2,     0.01,2,     2.12,2, -999.000,9, -999.000,9, -999.000,5,-999.0000,5,  -999.00,9,   -999.0,9,  -999.00,9,-999.000,9,   -999.0,9,   -999.0,9,  -999.0, -999.00,-999.0000,-999.000,-999.000
     316N145_5,  I09S,   113,  1,     27, SIH008,2,19950109,2132,-50.4972, 115.0278, 3200, 3614.1,    358.1,   2.5501,  34.2362,2,  34.2395,2,    230.4,2,  2.5291,    230.9,2,    40.20,2,    31.96,2,     0.01,2,     2.20,2, -999.000,9, -999.000,9, -999.000,5,-999.0000,5,  -999.00,9,   -999.0,9,  -999.00,9,-999.000,9,   -999.0,9,   -999.0,9,  -999.0, -999.00,-999.0000,-999.000,-999.000
     316N145_5,  I09S,   113,  1,     26, SIH005,2,19950109,2132,-50.4972, 115.0278, 3200, 4096.3,    406.6,   2.4545,  34.2839,2,  34.2870,2,    218.7,2,  2.4308,    218.2,2,    46.59,2,    32.74,2,     0.01,2,     2.26,2, -999.000,9, -999.000,9, -999.000,5,-999.0000,5,  -999.00,9,   -999.0,9,  -999.00,9,-999.000,9,   -999.0,9,   -999.0,9,  -999.0, -999.00,-999.0000,-999.000,-999.000
     316N145_5,  I09S,   113,  1,     25, SIH019,2,19950109,2132,-50.4972, 115.0278, 3200, 4593.4,    456.6,   2.3416,  34.3326,2,  34.3341,2,    205.7,2,  2.3151,    208.0,2,    52.66,2,    33.37,2,     0.01,2,     2.30,2, -999.000,9, -999.000,9, -999.000,5,-999.0000,5,  -999.00,9,   -999.0,9,  -999.00,9,-999.000,9,   -999.0,9,   -999.0,9,  -999.0, -999.00,-999.0000,-999.000,-999.000
     316N145_5,  I09S,   113,  1,     24, SIH037,2,19950109,2132,-50.4972, 115.0278, 3200, 5068.7,    504.4,   2.3552,  34.3814,2,  34.3841,2,    196.8,2,  2.3256,    198.3,2,    57.29,2,    33.70,2,     0.00,2,     2.33,2, -999.000,9, -999.000,9, -999.000,5,-999.0000,5,  -999.00,9,   -999.0,9,  -999.00,9,-999.000,9,   -999.0,9,   -999.0,9,  -999.0, -999.00,-999.0000,-999.000,-999.000
     316N145_5,  I09S,   113,  1,     23, SIH033,2,19950109,2132,-50.4972, 115.0278, 3200, 6080.8,    606.2,   2.3233,  34.4555,2,  34.4599,2,    184.8,2,  2.2873,    186.7,2,    64.15,2,    34.01,2,     0.00,2,     2.34,2, -999.000,9, -999.000,9, -999.000,5,-999.0000,5,  -999.00,9,   -999.0,9,  -999.00,9,-999.000,9,   -999.0,9,   -999.0,9,  -999.0, -999.00,-999.0000,-999.000,-999.000
     316N145_5,  I09S,   113,  1,     22, SIH031,2,19950109,2132,-50.4972, 115.0278, 3200, 7052.4,    703.9,   2.3976,  34.5314,2,  34.5343,2,    175.3,2,  2.3548,    178.7,2,    68.95,2,    33.69,2,     0.00,2,     2.32,2, -999.000,9, -999.000,9, -999.000,5,-999.0000,5,  -999.00,9,   -999.0,9,  -999.00,9,-999.000,9,   -999.0,9,   -999.0,9,  -999.0, -999.00,-999.0000,-999.000,-999.000
     316N145_5,  I09S,   113,  1,     21, SIH030,2,19950109,2132,-50.4972, 115.0278, 3200, 8062.9,    805.6,   2.4130,  34.5869,2,  34.5895,2,    172.4,2,  2.3631,    176.6,2,    71.97,2,    33.20,2,     0.00,2,     2.28,2, -999.000,9, -999.000,9, -999.000,5,-999.0000,5,  -999.00,9,   -999.0,9,  -999.00,9,-999.000,9,   -999.0,9,   -999.0,9,  -999.0, -999.00,-999.0000,-999.000,-999.000
     316N145_5,  I09S,   113,  1,     20, SIH028,2,19950109,2132,-50.4972, 115.0278, 3200, 9067.2,    906.6,   2.3329,  34.6302,2,  34.6325,2,    172.6,2,  2.2766,    176.7,2,    74.69,2,    32.72,2,     0.00,2,     2.25,2, -999.000,9, -999.000,9, -999.000,5,-999.0000,5,  -999.00,9,   -999.0,9,  -999.00,9,-999.000,9,   -999.0,9,   -999.0,9,  -999.0, -999.00,-999.0000,-999.000,-999.000
     316N145_5,  I09S,   113,  1,     19, SIH027,2,19950109,2132,-50.4972, 115.0278, 3200,10091.1,   1009.6,   2.2707,  34.6626,2,  34.6624,2,    175.0,2,  2.2075,    178.7,2,    76.61,2,    32.24,2,     0.00,2,     2.22,2, -999.000,9, -999.000,9, -999.000,5,-999.0000,5,  -999.00,9,   -999.0,9,  -999.00,9,-999.000,9,   -999.0,9,   -999.0,9,  -999.0, -999.00,-999.0000,-999.000,-999.000
     316N145_5,  I09S,   113,  1,     18, SIH003,2,19950109,2132,-50.4972, 115.0278, 3200,11076.6,   1108.7,   2.2099,  34.6906,2,  34.6918,2,    178.5,2,  2.1401,    182.3,2,    78.21,2,    31.51,2,     0.00,2,     2.17,2, -999.000,9, -999.000,9, -999.000,5,-999.0000,5,  -999.00,9,   -999.0,9,  -999.00,9,-999.000,9,   -999.0,9,   -999.0,9,  -999.0, -999.00,-999.0000,-999.000,-999.000
     316N145_5,  I09S,   113,  1,     17, SIH024,2,19950109,2132,-50.4972, 115.0278, 3200,12101.5,   1211.8,   2.1222,  34.7061,2,  34.7064,2,    181.5,2,  2.0457,    184.7,2,    80.29,2,    31.34,2,     0.00,2,     2.15,2, -999.000,9, -999.000,9, -999.000,5,-999.0000,5,  -999.00,9,   -999.0,9,  -999.00,9,-999.000,9,   -999.0,9,   -999.0,9,  -999.0, -999.00,-999.0000,-999.000,-999.000
     316N145_5,  I09S,   113,  1,     16, SIH022,2,19950109,2132,-50.4972, 115.0278, 3200,13112.1,   1313.4,   2.0460,  34.7226,2,  34.7235,2,    183.2,2,  1.9629,    188.1,2,    82.21,2,    30.81,2,     0.00,2,     2.12,2, -999.000,9, -999.000,9, -999.000,5,-999.0000,5,  -999.00,9,   -999.0,9,  -999.00,9,-999.000,9,   -999.0,9,   -999.0,9,  -999.0, -999.00,-999.0000,-999.000,-999.000
     316N145_5,  I09S,   113,  1,     15, SIH021,2,19950109,2132,-50.4972, 115.0278, 3200,14080.1,   1410.8,   2.0163,  34.7381,2,  34.7414,2,    187.8,2,  1.9262,    192.0,2,    82.85,2,    30.33,2,     0.00,2,     2.08,2, -999.000,9, -999.000,9, -999.000,5,-999.0000,5,  -999.00,9,   -999.0,9,  -999.00,9,-999.000,9,   -999.0,9,   -999.0,9,  -999.0, -999.00,-999.0000,-999.000,-999.000
     316N145_5,  I09S,   113,  1,     14, SIH002,2,19950109,2132,-50.4972, 115.0278, 3200,15089.9,   1512.4,   1.9472,  34.7434,2,  34.7459,2,    190.6,2,  1.8501,    194.2,2,    84.61,2,    30.05,2,     0.00,2,     2.07,2, -999.000,9, -999.000,9, -999.000,5,-999.0000,5,  -999.00,9,   -999.0,9,  -999.00,9,-999.000,9,   -999.0,9,   -999.0,9,  -999.0, -999.00,-999.0000,-999.000,-999.000
     316N145_5,  I09S,   113,  1,     13, SIH018,2,19950109,2132,-50.4972, 115.0278, 3200,16095.9,   1613.6,   1.8320,  34.7454,2,  34.7461,2,    191.8,2,  1.7286,    197.4,2,    91.59,2,    30.18,2,     0.00,2,     2.08,2, -999.000,9, -999.000,9, -999.000,5,-999.0000,5,  -999.00,9,   -999.0,9,  -999.00,9,-999.000,9,   -999.0,9,   -999.0,9,  -999.0, -999.00,-999.0000,-999.000,-999.000
     316N145_5,  I09S,   113,  1,     12, SIH016,2,19950109,2132,-50.4972, 115.0278, 3200,17118.0,   1716.4,   1.7424,  34.7454,2,  34.7490,2,    192.8,2,  1.6322,    197.5,2,    90.24,2,    30.08,2,     0.00,2,     2.08,2, -999.000,9, -999.000,9, -999.000,5,-999.0000,5,  -999.00,9,   -999.0,9,  -999.00,9,-999.000,9,   -999.0,9,   -999.0,9,  -999.0, -999.00,-999.0000,-999.000,-999.000
     316N145_5,  I09S,   113,  1,     11, SIH015,2,19950109,2132,-50.4972, 115.0278, 3200,18131.9,   1818.4,   1.6357,  34.7441,2,  34.7467,2,    195.6,2,  1.5190,    198.7,2,    93.43,2,    30.27,2,     0.00,2,     2.08,2, -999.000,9, -999.000,9, -999.000,5,-999.0000,5,  -999.00,9,   -999.0,9,  -999.00,9,-999.000,9,   -999.0,9,   -999.0,9,  -999.0, -999.00,-999.0000,-999.000,-999.000
     316N145_5,  I09S,   113,  1,     10, SIH013,2,19950109,2132,-50.4972, 115.0278, 3200,19148.9,   1920.7,   1.5549,  34.7416,2,  34.7429,2,    196.3,2,  1.4312,    199.8,2,    95.83,2,    30.29,2,     0.00,2,     2.09,2, -999.000,9, -999.000,9, -999.000,5,-999.0000,5,  -999.00,9,   -999.0,9,  -999.00,9,-999.000,9,   -999.0,9,   -999.0,9,  -999.0, -999.00,-999.0000,-999.000,-999.000
     316N145_5,  I09S,   113,  1,      9, SIH012,2,19950109,2132,-50.4972, 115.0278, 3200,20167.5,   2023.1,   1.4503,  34.7384,2,  34.7408,2,    196.9,2,  1.3200,    201.3,2,    99.36,2,    30.32,2,     0.00,2,     2.10,2, -999.000,9, -999.000,9, -999.000,5,-999.0000,5,  -999.00,9,   -999.0,9,  -999.00,9,-999.000,9,   -999.0,9,   -999.0,9,  -999.0, -999.00,-999.0000,-999.000,-999.000
     316N145_5,  I09S,   113,  1,      8, SIH010,2,19950109,2132,-50.4972, 115.0278, 3200,22265.7,   2234.2,   1.2396,  34.7300,2,  34.7329,2,    198.6,2,  1.0955,    203.3,2,   106.09,2,    30.89,2,     0.00,2,     2.13,2, -999.000,9, -999.000,9, -999.000,5,-999.0000,5,  -999.00,9,   -999.0,9,  -999.00,9,-999.000,9,   -999.0,9,   -999.0,9,  -999.0, -999.00,-999.0000,-999.000,-999.000
     316N145_5,  I09S,   113,  1,      7, SIH009,2,19950109,2132,-50.4972, 115.0278, 3200,24225.7,   2431.3,   1.0760,  34.7218,2,  34.7245,2,    200.4,2,  0.9185,    204.7,2,   113.46,2,    31.25,2,     0.00,2,     2.16,2, -999.000,9, -999.000,9, -999.000,5,-999.0000,5,  -999.00,9,   -999.0,9,  -999.00,9,-999.000,9,   -999.0,9,   -999.0,9,  -999.0, -999.00,-999.0000,-999.000,-999.000
     316N145_5,  I09S,   113,  1,      6, SIH038,2,19950109,2132,-50.4972, 115.0278, 3200,26211.1,   2631.0,   0.9632,  34.7164,2,  34.7180,2,    203.2,2,  0.7908,    206.9,2,   117.15,2,    31.42,2,     0.00,2,     2.17,2, -999.000,9, -999.000,9, -999.000,5,-999.0000,5,  -999.00,9,   -999.0,9,  -999.00,9,-999.000,9,   -999.0,9,   -999.0,9,  -999.0, -999.00,-999.0000,-999.000,-999.000
     316N145_5,  I09S,   113,  1,      5, SIH006,2,19950109,2132,-50.4972, 115.0278, 3200,28297.3,   2840.9,   0.8771,  34.7120,2,  34.7142,2,    205.4,2,  0.6881,    208.1,2,   119.72,2,    31.59,2,     0.00,2,     2.18,2, -999.000,9, -999.000,9, -999.000,5,-999.0000,5,  -999.00,9,   -999.0,9,  -999.00,9,-999.000,9,   -999.0,9,   -999.0,9,  -999.0, -999.00,-999.0000,-999.000,-999.000
     316N145_5,  I09S,   113,  1,      4, SIH004,2,19950109,2132,-50.4972, 115.0278, 3200,29308.8,   2942.6,   0.8007,  34.7082,2,  34.7085,2,    206.4,2,  0.6043,    209.2,2,   121.49,2,    31.66,2,     0.00,2,     2.19,2, -999.000,9, -999.000,9, -999.000,5,-999.0000,5,  -999.00,9,   -999.0,9,  -999.00,9,-999.000,9,   -999.0,9,   -999.0,9,  -999.0, -999.00,-999.0000,-999.000,-999.000
     316N145_5,  I09S,   113,  1,      3, SIH025,2,19950109,2132,-50.4972, 115.0278, 3200,30310.2,   3043.4,   0.7321,  34.7048,2,  34.7056,2,    208.2,2,  0.5282,    210.7,2,   121.98,2,    31.73,2,     0.00,2,     2.20,2, -999.000,9, -999.000,9, -999.000,5,-999.0000,5,  -999.00,9,   -999.0,9,  -999.00,9,-999.000,9,   -999.0,9,   -999.0,9,  -999.0, -999.00,-999.0000,-999.000,-999.000
     316N145_5,  I09S,   113,  1,      2, SIH001,2,19950109,2132,-50.4972, 115.0278, 3200,31708.1,   3184.0,   0.6044,  34.6980,2,  34.6987,2,    210.1,2,  0.3906,    212.9,2,   124.39,2,    31.90,2,     0.00,2,     2.20,2, -999.000,9, -999.000,9, -999.000,5,-999.0000,5,  -999.00,9,   -999.0,9,  -999.00,9,-999.000,9,   -999.0,9,   -999.0,9,  -999.0, -999.00,-999.0000,-999.000,-999.000
     316N145_5,  I09S,   113,  1,      1, SIH036,2,19950109,2132,-50.4972, 115.0278, 3200,32236.8,   3237.2,   0.5879,  34.6964,2,  34.6973,2,    211.5,2,  0.3696,    212.8,2,   124.22,2,    31.98,2,     0.00,2,     2.20,2, -999.000,9, -999.000,9, -999.000,5,-999.0000,5,  -999.00,9,   -999.0,9,  -999.00,9,-999.000,9,   -999.0,9,   -999.0,9,  -999.0, -999.00,-999.0000,-999.000,-999.000