BOTTLE,20090521WHPSIOdm
EXPOCODE,SECT_ID,STNNBR,CASTNO,SAMPNO,BTLNBR,BTLNBR_FLAG_W,DATE,TIME,LATITUDE,LONGITUDE,DEPTH,CTDRAW,CTDPRS,CTDTMP,CTDSAL,CTDSAL_FLAG_W,SALNTY,SALNTY_FLAG_W,CTDOXY,CTDOXY_FLAG_W,THETA,OXYGEN,OXYGEN_FLAG_W,SILCAT,SILCAT_FLAG_W,NITRAT,NITRAT_FLAG_W,NITRIT,NITRIT_FLAG_W,PHSPHT,PHSPHT_FLAG_W,CFC-11,CFC-11_FLAG_W,CFC-12,CFC-12_FLAG_W,TRITUM,TRITUM_FLAG_W,HELIUM,HELIUM_FLAG_W,DELHE3,DELHE3_FLAG_W,DELC14,DELC14_FLAG_W,DELC13,DELC13_FLAG_W,NEON,NEON_FLAG_W,TCARBN,TCARBN_FLAG_W,ALKALI,ALKALI_FLAG_W,C14ERR,DELHER,HELIER,NEONER,TRITER
,,,,,,,,,,,,,DBAR,IPTS-68,PSS-78,,PSS-78,,UMOL/KG,,IPTS-68,UMOL/KG,,UMOL/KG,,UMOL/KG,,UMOL/KG,,UMOL/KG,,PMOL/KG,,PMOL/KG,,TU,,NMOL/KG,,PERCNT,,/MILLE,,/MILLE,,NMOL/KG,,UMOL/KG,,UMOL/KG,,/MILLE,PERCNT,NMOL/KG,NMOL/KG,TU
     316N145_5,  I09S,   108,  1,     36, SIH035,2,19950108,1249,-53.1972, 115.0028, 4020,  185.5,     13.3,   3.8415,  33.8685,2,  33.8684,2,    336.9,2,  3.8406,    322.1,2,     5.73,2,    23.81,2,     0.25,2,     1.61,2, -999.000,9, -999.000,9, -999.000,5,-999.0000,5,  -999.00,9,   -999.0,9,  -999.00,9,-999.000,9,   2127.3,2,   2278.9,2,  -999.0, -999.00,-999.0000,-999.000,-999.000
     316N145_5,  I09S,   108,  1,     35, SIH032,2,19950108,1249,-53.1972, 115.0028, 4020,  366.2,     31.5,   3.8344,  33.8683,2,  33.8713,2,    331.7,2,  3.8323,    322.1,2,     5.89,2,    23.81,2,     0.25,2,     1.60,2, -999.000,9, -999.000,9, -999.000,5,-999.0000,5,  -999.00,9,   -999.0,9,  -999.00,9,-999.000,9,   2127.3,6,   2286.6,2,  -999.0, -999.00,-999.0000,-999.000,-999.000
     316N145_5,  I09S,   108,  1,     34, SIH029,2,19950108,1249,-53.1972, 115.0028, 4020,  619.0,     56.9,   3.7131,  33.8715,2,  33.8707,2,    340.0,2,  3.7094,    323.0,2,     5.71,2,    23.92,2,     0.24,2,     1.61,2, -999.000,9, -999.000,9, -999.000,5,-999.0000,5,  -999.00,9,   -999.0,9,  -999.00,9,-999.000,9,   2128.1,2,   2278.3,2,  -999.0, -999.00,-999.0000,-999.000,-999.000
     316N145_5,  I09S,   108,  1,     33, SIH026,2,19950108,1249,-53.1972, 115.0028, 4020,  875.5,     82.7,   3.6483,  33.8729,2,  33.9093,4,    330.6,2,  3.6429,    322.5,2,     5.71,2,    23.96,2,     0.25,2,     1.62,2, -999.000,9, -999.000,9, -999.000,5,-999.0000,5,  -999.00,9,   -999.0,9,  -999.00,9,-999.000,9,   2129.2,2,   2291.3,2,  -999.0, -999.00,-999.0000,-999.000,-999.000
     316N145_5,  I09S,   108,  1,     32, SIH023,2,19950108,1249,-53.1972, 115.0028, 4020, 1121.1,    107.4,   1.5604,  33.8830,2,  33.8880,2,    338.7,2,  1.5553,    330.9,2,    21.25,2,    26.29,2,     0.27,2,     1.86,2, -999.000,9, -999.000,9, -999.000,5,-999.0000,5,  -999.00,9,   -999.0,9,  -999.00,9,-999.000,9,   2148.5,2,   2288.7,2,  -999.0, -999.00,-999.0000,-999.000,-999.000
     316N145_5,  I09S,   108,  1,     31, SIH020,2,19950108,1249,-53.1972, 115.0028, 4020, 1625.3,    158.1,   1.2211,  34.0049,2,  34.0082,2,    307.3,2,  1.2139,    308.2,2,    28.37,2,    28.89,2,     0.09,2,     1.99,2, -999.000,9, -999.000,9, -999.000,5,-999.0000,5,  -999.00,9,   -999.0,9,  -999.00,9,-999.000,9,   2167.4,2,   2284.6,2,  -999.0, -999.00,-999.0000,-999.000,-999.000
     316N145_5,  I09S,   108,  1,     30, SIH017,2,19950108,1249,-53.1972, 115.0028, 4020, 2122.2,    208.1,   1.3886,  34.1427,2,  34.1466,2,    268.3,2,  1.3787,    266.6,2,    40.52,2,    31.37,2,     0.01,2,     2.15,2, -999.000,9, -999.000,9, -999.000,5,-999.0000,5,  -999.00,9,   -999.0,9,  -999.00,9,-999.000,9,   2193.5,2,   2325.3,3,  -999.0, -999.00,-999.0000,-999.000,-999.000
     316N145_5,  I09S,   108,  1,     29, SIH014,2,19950108,1249,-53.1972, 115.0028, 4020, 2621.0,    258.3,   1.9831,  34.3247,2,  34.3278,2,    214.9,2,  1.9693,    213.2,2,    54.76,2,    33.63,2,     0.01,2,     2.31,2, -999.000,9, -999.000,9, -999.000,5,-999.0000,5,  -999.00,9,   -999.0,9,  -999.00,9,-999.000,9,   2223.3,2,   -999.0,9,  -999.0, -999.00,-999.0000,-999.000,-999.000
     316N145_5,  I09S,   108,  1,     28, SIH011,2,19950108,1249,-53.1972, 115.0028, 4020, 3115.4,    308.0,   2.0557,  34.3845,2,  34.3870,2,    196.5,2,  2.0389,    200.6,2,    60.10,2,    34.06,2,     0.01,2,     2.34,2, -999.000,9, -999.000,9, -999.000,5,-999.0000,5,  -999.00,9,   -999.0,9,  -999.00,9,-999.000,9,   2232.2,2,   2314.6,2,  -999.0, -999.00,-999.0000,-999.000,-999.000
     316N145_5,  I09S,   108,  1,     27, SIH008,2,19950108,1249,-53.1972, 115.0028, 4020, 3616.8,    358.4,   2.1121,  34.4454,2,  34.4481,2,    186.6,2,  2.0922,    189.7,2,    65.28,2,    34.26,2,     0.00,2,     2.35,2, -999.000,9, -999.000,9, -999.000,5,-999.0000,5,  -999.00,9,   -999.0,9,  -999.00,9,-999.000,9,   2239.2,2,   2339.5,2,  -999.0, -999.00,-999.0000,-999.000,-999.000
     316N145_5,  I09S,   108,  1,     26, SIH005,2,19950108,1249,-53.1972, 115.0028, 4020, 4119.3,    409.0,   2.2415,  34.5062,2,  34.5089,2,    177.4,2,  2.2182,    180.8,2,    69.00,2,    34.02,2,     0.00,2,     2.34,2, -999.000,9, -999.000,9, -999.000,5,-999.0000,5,  -999.00,9,   -999.0,9,  -999.00,9,-999.000,9,   2244.4,2,   2335.4,2,  -999.0, -999.00,-999.0000,-999.000,-999.000
     316N145_5,  I09S,   108,  1,     25, SIH019,2,19950108,1249,-53.1972, 115.0028, 4020, 4634.7,    460.8,   2.2215,  34.5408,2,  34.5435,2,    174.5,2,  2.1950,    176.7,2,    71.92,2,    34.02,2,     0.00,2,     2.34,2, -999.000,9, -999.000,9, -999.000,5,-999.0000,5,  -999.00,9,   -999.0,9,  -999.00,9,-999.000,9,   2250.2,2,   2326.3,3,  -999.0, -999.00,-999.0000,-999.000,-999.000
     316N145_5,  I09S,   108,  1,     24, SIH037,2,19950108,1249,-53.1972, 115.0028, 4020, 5110.9,    508.7,   2.1942,  34.5677,2,  34.5718,2,    174.5,2,  2.1648,    177.1,2,    73.53,2,    33.68,2,     0.00,2,     2.31,2, -999.000,9, -999.000,9, -999.000,5,-999.0000,5,  -999.00,9,   -999.0,9,  -999.00,9,-999.000,9,   2252.5,2,   2355.9,3,  -999.0, -999.00,-999.0000,-999.000,-999.000
     316N145_5,  I09S,   108,  1,     23, SIH033,2,19950108,1249,-53.1972, 115.0028, 4020, 6137.5,    612.0,   2.2803,  34.6310,2,  34.6319,2,    174.2,2,  2.2440,    176.4,2,    75.31,2,    32.76,2,     0.00,2,     2.26,2, -999.000,9, -999.000,9, -999.000,5,-999.0000,5,  -999.00,9,   -999.0,9,  -999.00,9,-999.000,9,   2248.4,2,   2338.8,2,  -999.0, -999.00,-999.0000,-999.000,-999.000
     316N145_5,  I09S,   108,  1,     22, SIH031,2,19950108,1249,-53.1972, 115.0028, 4020, 7126.1,    711.4,   2.2155,  34.6655,2,  34.6730,3,    174.7,2,  2.1731,    179.0,2,    77.25,2,    32.14,2,     0.00,2,     2.21,2, -999.000,9, -999.000,9, -999.000,5,-999.0000,5,  -999.00,9,   -999.0,9,  -999.00,9,-999.000,9,   2250.4,2,   2339.1,2,  -999.0, -999.00,-999.0000,-999.000,-999.000
     316N145_5,  I09S,   108,  1,     20, SIH028,2,19950108,1249,-53.1972, 115.0028, 4020, 8127.8,    812.2,   2.1165,  34.6855,2,  34.6879,2,    176.9,2,  2.0680,    180.7,2,    79.84,2,    31.98,2,     0.01,2,     2.19,2, -999.000,9, -999.000,9, -999.000,5,-999.0000,5,  -999.00,9,   -999.0,9,  -999.00,9,-999.000,9,   -999.0,9,   2343.0,2,  -999.0, -999.00,-999.0000,-999.000,-999.000
     316N145_5,  I09S,   108,  1,     21, SIH030,2,19950108,1249,-53.1972, 115.0028, 4020, 8130.9,    812.5,   2.1172,  34.6852,2,  34.6881,2,    176.0,2,  2.0686,    180.4,2,    80.00,2,    31.94,2,     0.00,2,     2.20,2, -999.000,9, -999.000,9, -999.000,5,-999.0000,5,  -999.00,9,   -999.0,9,  -999.00,9,-999.000,9,   2249.6,6,   2363.3,2,  -999.0, -999.00,-999.0000,-999.000,-999.000
     316N145_5,  I09S,   108,  1,     19, SIH027,2,19950108,1249,-53.1972, 115.0028, 4020, 9125.5,    912.5,   2.0747,  34.7063,2,  34.7083,2,    179.2,2,  2.0197,    183.9,2,    80.97,2,    31.36,2,     0.00,2,     2.16,2, -999.000,9, -999.000,9, -999.000,5,-999.0000,5,  -999.00,9,   -999.0,9,  -999.00,9,-999.000,9,   2247.6,2,   -999.0,9,  -999.0, -999.00,-999.0000,-999.000,-999.000
     316N145_5,  I09S,   108,  1,     18, SIH003,2,19950108,1249,-53.1972, 115.0028, 4020,11124.7,   1113.6,   1.9707,  34.7339,2,  34.7349,2,    187.7,2,  1.9026,    190.9,2,    83.56,2,    30.46,2,     0.00,2,     2.10,2, -999.000,9, -999.000,9, -999.000,5,-999.0000,5,  -999.00,9,   -999.0,9,  -999.00,9,-999.000,9,   2246.0,2,   2348.9,6,  -999.0, -999.00,-999.0000,-999.000,-999.000
     316N145_5,  I09S,   108,  1,     17, SIH024,2,19950108,1249,-53.1972, 115.0028, 4020,12124.2,   1214.2,   1.8855,  34.7382,2,  34.7412,2,    191.0,2,  1.8111,    192.7,2,    85.99,2,    30.36,2,     0.00,2,     2.09,2, -999.000,9, -999.000,9, -999.000,5,-999.0000,5,  -999.00,9,   -999.0,9,  -999.00,9,-999.000,9,   2245.1,6,   2346.3,2,  -999.0, -999.00,-999.0000,-999.000,-999.000
     316N145_5,  I09S,   108,  1,     16, SIH022,2,19950108,1249,-53.1972, 115.0028, 4020,13140.0,   1316.3,   1.8161,  34.7431,2,  34.7455,2,    191.2,2,  1.7351,    195.1,2,    87.78,2,    30.16,2,     0.00,2,     2.08,2, -999.000,9, -999.000,9, -999.000,5,-999.0000,5,  -999.00,9,   -999.0,9,  -999.00,9,-999.000,9,   2244.3,2,   2364.3,2,  -999.0, -999.00,-999.0000,-999.000,-999.000
     316N145_5,  I09S,   108,  1,     15, SIH021,2,19950108,1249,-53.1972, 115.0028, 4020,14219.7,   1424.9,   1.7209,  34.7448,2,  34.7459,2,    194.9,2,  1.6330,    197.1,2,    90.37,2,    30.16,2,     0.00,2,     2.07,2, -999.000,9, -999.000,9, -999.000,5,-999.0000,5,  -999.00,9,   -999.0,9,  -999.00,9,-999.000,9,   2245.8,2,   2351.7,2,  -999.0, -999.00,-999.0000,-999.000,-999.000
     316N145_5,  I09S,   108,  1,     14, SIH002,2,19950108,1249,-53.1972, 115.0028, 4020,16197.2,   1623.8,   1.5518,  34.7420,2,  34.7435,2,    197.7,2,  1.4511,    199.9,2,    95.56,2,    30.26,2,     0.00,2,     2.08,2, -999.000,9, -999.000,9, -999.000,5,-999.0000,5,  -999.00,9,   -999.0,9,  -999.00,9,-999.000,9,   2247.6,2,   2352.1,2,  -999.0, -999.00,-999.0000,-999.000,-999.000
     316N145_5,  I09S,   108,  1,     13, SIH018,2,19950108,1249,-53.1972, 115.0028, 4020,18196.9,   1825.0,   1.3661,  34.7356,2,  34.7384,2,    198.6,2,  1.2526,    201.9,2,   101.39,2,    30.49,2,     0.00,2,     2.11,2, -999.000,9, -999.000,9, -999.000,5,-999.0000,5,  -999.00,9,   -999.0,9,  -999.00,9,-999.000,9,   2249.9,2,   2371.3,3,  -999.0, -999.00,-999.0000,-999.000,-999.000
     316N145_5,  I09S,   108,  1,     12, SIH016,2,19950108,1249,-53.1972, 115.0028, 4020,20174.1,   2023.9,   1.1905,  34.7286,2,  34.7307,2,    201.1,2,  1.0642,    203.7,2,   106.75,2,    30.84,2,     0.00,2,     2.13,2, -999.000,9, -999.000,9, -999.000,5,-999.0000,5,  -999.00,9,   -999.0,9,  -999.00,9,-999.000,9,   2252.2,2,   2360.9,2,  -999.0, -999.00,-999.0000,-999.000,-999.000
     316N145_5,  I09S,   108,  1,     11, SIH015,2,19950108,1249,-53.1972, 115.0028, 4020,22201.8,   2227.8,   1.0257,  34.7203,2,  34.7215,2,    201.2,2,  0.8859,    205.2,2,   111.94,2,    31.18,2,     0.00,2,     2.16,2, -999.000,9, -999.000,9, -999.000,5,-999.0000,5,  -999.00,9,   -999.0,9,  -999.00,9,-999.000,9,   2255.1,2,   2357.1,2,  -999.0, -999.00,-999.0000,-999.000,-999.000
     316N145_5,  I09S,   108,  1,     10, SIH013,2,19950108,1249,-53.1972, 115.0028, 4020,24138.7,   2422.6,   0.8662,  34.7116,2,  34.7113,2,    204.5,2,  0.7133,    207.2,2,   115.67,2,    31.46,2,     0.00,2,     2.17,2, -999.000,9, -999.000,9, -999.000,5,-999.0000,5,  -999.00,9,   -999.0,9,  -999.00,9,-999.000,9,   2257.6,2,   2361.6,2,  -999.0, -999.00,-999.0000,-999.000,-999.000
     316N145_5,  I09S,   108,  1,      9, SIH012,2,19950108,1249,-53.1972, 115.0028, 4020,26166.0,   2626.6,   0.6681,  34.7007,2,  34.7020,2,    207.2,2,  0.5021,    210.0,2,   120.22,2,    31.76,2,     0.00,2,     2.20,2, -999.000,9, -999.000,9, -999.000,5,-999.0000,5,  -999.00,9,   -999.0,9,  -999.00,9,-999.000,9,   2259.1,2,   -999.0,9,  -999.0, -999.00,-999.0000,-999.000,-999.000
     316N145_5,  I09S,   108,  1,      8, SIH010,2,19950108,1249,-53.1972, 115.0028, 4020,28251.5,   2836.4,   0.5190,  34.6947,2,  34.6946,2,    209.4,2,  0.3382,    213.3,2,   123.96,2,    31.94,2,     0.00,2,     2.21,2, -999.000,9, -999.000,9, -999.000,5,-999.0000,5,  -999.00,9,   -999.0,9,  -999.00,9,-999.000,9,   2257.9,2,   2354.9,2,  -999.0, -999.00,-999.0000,-999.000,-999.000
     316N145_5,  I09S,   108,  1,      7, SIH009,2,19950108,1249,-53.1972, 115.0028, 4020,30401.6,   3052.6,   0.3723,  34.6892,2,  34.6914,2,    215.5,2,  0.1758,    217.3,2,   127.20,2,    32.04,2,     0.00,2,     2.21,2, -999.000,9, -999.000,9, -999.000,5,-999.0000,5,  -999.00,9,   -999.0,9,  -999.00,9,-999.000,9,   2258.2,2,   2379.1,3,  -999.0, -999.00,-999.0000,-999.000,-999.000
     316N145_5,  I09S,   108,  1,      6, SIH038,2,19950108,1249,-53.1972, 115.0028, 4020,32404.7,   3254.1,   0.2930,  34.6859,2,  34.6867,2,    217.9,2,  0.0802,    219.7,2,   129.80,2,    31.99,2,     0.00,2,     2.22,2, -999.000,9, -999.000,9, -999.000,5,-999.0000,5,  -999.00,9,   -999.0,9,  -999.00,9,-999.000,9,   2258.7,2,   2359.7,2,  -999.0, -999.00,-999.0000,-999.000,-999.000
     316N145_5,  I09S,   108,  1,      5, SIH006,2,19950108,1249,-53.1972, 115.0028, 4020,34526.8,   3467.6,   0.2365,  34.6841,2,  34.6851,2,    219.6,2,  0.0055,    221.8,2,   132.72,2,    32.09,2,     0.00,2,     2.22,2, -999.000,9, -999.000,9, -999.000,5,-999.0000,5,  -999.00,9,   -999.0,9,  -999.00,9,-999.000,9,   2256.7,2,   2353.1,2,  -999.0, -999.00,-999.0000,-999.000,-999.000
     316N145_5,  I09S,   108,  1,      4, SIH004,2,19950108,1249,-53.1972, 115.0028, 4020,36509.1,   3667.0,   0.2087,  34.6825,2,  34.6818,2,    219.3,2, -0.0406,    222.7,2,   133.87,2,    32.09,2,     0.00,2,     2.22,2, -999.000,9, -999.000,9, -999.000,5,-999.0000,5,  -999.00,9,   -999.0,9,  -999.00,9,-999.000,9,   2256.0,2,   2369.9,2,  -999.0, -999.00,-999.0000,-999.000,-999.000
     316N145_5,  I09S,   108,  1,      3, SIH025,2,19950108,1249,-53.1972, 115.0028, 4020,38527.8,   3870.0,   0.1815,  34.6811,2,  34.6814,2,    222.8,2, -0.0869,    224.1,2,   135.33,2,    32.09,2,     0.00,2,     2.23,2, -999.000,9, -999.000,9, -999.000,5,-999.0000,5,  -999.00,9,   -999.0,9,  -999.00,9,-999.000,9,   2256.1,2,   2359.0,2,  -999.0, -999.00,-999.0000,-999.000,-999.000
     316N145_5,  I09S,   108,  1,      2, SIH001,2,19950108,1249,-53.1972, 115.0028, 4020,39879.8,   4006.0,   0.1899,  34.6801,2,  34.6808,2,    222.6,2, -0.0924,    224.6,2,   135.99,2,    32.19,2,     0.00,2,     2.23,2, -999.000,9, -999.000,9, -999.000,5,-999.0000,5,  -999.00,9,   -999.0,9,  -999.00,9,-999.000,9,   2256.7,2,   2359.1,2,  -999.0, -999.00,-999.0000,-999.000,-999.000
     316N145_5,  I09S,   108,  1,      1, SIH036,2,19950108,1249,-53.1972, 115.0028, 4020,40388.5,   4057.2,   0.1939,  34.6803,2,  34.6806,2,    223.4,2, -0.0937,    224.6,2,   136.86,2,    32.20,2,     0.00,2,     2.22,2, -999.000,9, -999.000,9, -999.000,5,-999.0000,5,  -999.00,9,   -999.0,9,  -999.00,9,-999.000,9,   2257.2,6,   2374.8,6,  -999.0, -999.00,-999.0000,-999.000,-999.000