BOTTLE,20090521WHPSIOdm
EXPOCODE,SECT_ID,STNNBR,CASTNO,SAMPNO,BTLNBR,BTLNBR_FLAG_W,DATE,TIME,LATITUDE,LONGITUDE,DEPTH,CTDRAW,CTDPRS,CTDTMP,CTDSAL,CTDSAL_FLAG_W,SALNTY,SALNTY_FLAG_W,CTDOXY,CTDOXY_FLAG_W,THETA,OXYGEN,OXYGEN_FLAG_W,SILCAT,SILCAT_FLAG_W,NITRAT,NITRAT_FLAG_W,NITRIT,NITRIT_FLAG_W,PHSPHT,PHSPHT_FLAG_W,CFC-11,CFC-11_FLAG_W,CFC-12,CFC-12_FLAG_W,TRITUM,TRITUM_FLAG_W,HELIUM,HELIUM_FLAG_W,DELHE3,DELHE3_FLAG_W,DELC14,DELC14_FLAG_W,DELC13,DELC13_FLAG_W,NEON,NEON_FLAG_W,TCARBN,TCARBN_FLAG_W,ALKALI,ALKALI_FLAG_W,C14ERR,DELHER,HELIER,NEONER,TRITER
,,,,,,,,,,,,,DBAR,IPTS-68,PSS-78,,PSS-78,,UMOL/KG,,IPTS-68,UMOL/KG,,UMOL/KG,,UMOL/KG,,UMOL/KG,,UMOL/KG,,PMOL/KG,,PMOL/KG,,TU,,NMOL/KG,,PERCNT,,/MILLE,,/MILLE,,NMOL/KG,,UMOL/KG,,UMOL/KG,,/MILLE,PERCNT,NMOL/KG,NMOL/KG,TU
     316N145_5,  I09S,   125,  1,     36, SI9446,2,19950112,2348,-44.4945, 114.9972, 4255,  177.2,     12.5,  11.4665,  34.7425,2,  34.7463,2,    266.1,2, 11.4649,    273.1,2,     1.33,2,     8.11,2,     0.16,2,     0.69,2, -999.000,9, -999.000,9, -999.000,5,-999.0000,5,  -999.00,9,   -999.0,9,  -999.00,9,-999.000,9,   -999.0,9,   -999.0,9,  -999.0, -999.00,-999.0000,-999.000,-999.000
     316N145_5,  I09S,   125,  1,     35, SIH032,2,19950112,2348,-44.4945, 114.9972, 4255,  381.7,     33.1,  11.4820,  34.7428,2,  34.7478,2,    254.0,2, 11.4778,    273.1,2,     1.33,2,     8.06,2,     0.17,2,     0.69,2, -999.000,9, -999.000,9, -999.000,5,-999.0000,5,  -999.00,9,   -999.0,9,  -999.00,9,-999.000,9,   -999.0,9,   -999.0,9,  -999.0, -999.00,-999.0000,-999.000,-999.000
     316N145_5,  I09S,   125,  1,     34, SIH029,2,19950112,2348,-44.4945, 114.9972, 4255,  632.6,     58.3,  11.2339,  34.7357,2,  34.7392,2,    265.9,2, 11.2267,    273.5,2,     1.49,2,     8.53,2,     0.18,2,     0.72,2, -999.000,9, -999.000,9, -999.000,5,-999.0000,5,  -999.00,9,   -999.0,9,  -999.00,9,-999.000,9,   -999.0,9,   -999.0,9,  -999.0, -999.00,-999.0000,-999.000,-999.000
     316N145_5,  I09S,   125,  1,     33, SIH026,2,19950112,2348,-44.4945, 114.9972, 4255,  876.7,     82.9,  10.6998,  34.7347,2,  34.7364,2,    265.8,2, 10.6899,    271.3,2,     2.29,2,     9.41,2,     0.22,2,     0.81,2, -999.000,9, -999.000,9, -999.000,5,-999.0000,5,  -999.00,9,   -999.0,9,  -999.00,9,-999.000,9,   -999.0,9,   -999.0,9,  -999.0, -999.00,-999.0000,-999.000,-999.000
     316N145_5,  I09S,   125,  1,     32, SIH023,2,19950112,2348,-44.4945, 114.9972, 4255, 1123.7,    107.7,  10.4682,  34.7348,2,  34.7382,2,    262.5,2, 10.4554,    269.3,2,     2.76,2,     9.92,2,     0.34,2,     0.86,2, -999.000,9, -999.000,9, -999.000,5,-999.0000,5,  -999.00,9,   -999.0,9,  -999.00,9,-999.000,9,   -999.0,9,   -999.0,9,  -999.0, -999.00,-999.0000,-999.000,-999.000
     316N145_5,  I09S,   125,  1,     31, SIH020,2,19950112,2348,-44.4945, 114.9972, 4255, 1623.0,    157.9,   9.5394,  34.7157,2,  34.7184,2,    256.6,2,  9.5217,    265.2,2,     4.18,2,    13.30,2,     0.01,2,     1.00,2, -999.000,9, -999.000,9, -999.000,5,-999.0000,5,  -999.00,9,   -999.0,9,  -999.00,9,-999.000,9,   -999.0,9,   -999.0,9,  -999.0, -999.00,-999.0000,-999.000,-999.000
     316N145_5,  I09S,   125,  1,     30, SIH017,2,19950112,2348,-44.4945, 114.9972, 4255, 2113.0,    207.2,   9.4904,  34.7181,2,  34.7217,2,    257.9,2,  9.4672,    264.0,2,     4.34,2,    13.45,2,     0.01,2,     1.01,2, -999.000,9, -999.000,9, -999.000,5,-999.0000,5,  -999.00,9,   -999.0,9,  -999.00,9,-999.000,9,   -999.0,9,   -999.0,9,  -999.0, -999.00,-999.0000,-999.000,-999.000
     316N145_5,  I09S,   125,  1,     29, SIH014,2,19950112,2348,-44.4945, 114.9972, 4255, 2619.9,    258.2,   9.4753,  34.7203,2,  34.7247,2,    258.2,2,  9.4464,    265.6,2,     4.50,2,    13.45,2,     0.01,2,     1.01,2, -999.000,9, -999.000,9, -999.000,5,-999.0000,5,  -999.00,9,   -999.0,9,  -999.00,9,-999.000,9,   -999.0,9,   -999.0,9,  -999.0, -999.00,-999.0000,-999.000,-999.000
     316N145_5,  I09S,   125,  1,     28, SIH011,2,19950112,2348,-44.4945, 114.9972, 4255, 3121.8,    308.6,   9.4005,  34.7096,2,  34.7140,2,    260.4,2,  9.3659,    265.8,2,     4.50,2,    13.60,2,     0.01,2,     1.02,2, -999.000,9, -999.000,9, -999.000,5,-999.0000,5,  -999.00,9,   -999.0,9,  -999.00,9,-999.000,9,   -999.0,9,   -999.0,9,  -999.0, -999.00,-999.0000,-999.000,-999.000
     316N145_5,  I09S,   125,  1,     27, SIH008,2,19950112,2348,-44.4945, 114.9972, 4255, 3608.5,    357.6,   9.3303,  34.6989,2,  34.7044,2,    263.8,2,  9.2903,    267.2,2,     4.50,2,    13.69,2,     0.01,2,     1.03,2, -999.000,9, -999.000,9, -999.000,5,-999.0000,5,  -999.00,9,   -999.0,9,  -999.00,9,-999.000,9,   -999.0,9,   -999.0,9,  -999.0, -999.00,-999.0000,-999.000,-999.000
     316N145_5,  I09S,   125,  1,     26, SIH005,2,19950112,2348,-44.4945, 114.9972, 4255, 3997.2,    396.7,   9.2454,  34.6919,2,  34.6899,2,    263.3,2,  9.2012,    266.8,2,     4.65,2,    13.94,2,     0.01,2,     1.04,2, -999.000,9, -999.000,9, -999.000,5,-999.0000,5,  -999.00,9,   -999.0,9,  -999.00,9,-999.000,9,   -999.0,9,   -999.0,9,  -999.0, -999.00,-999.0000,-999.000,-999.000
     316N145_5,  I09S,   125,  1,     25, SIH019,2,19950112,2348,-44.4945, 114.9972, 4255, 4621.6,    459.4,   9.0530,  34.6537,2,  34.6576,2,    261.8,2,  9.0024,    264.8,2,     4.98,2,    14.76,2,     0.01,2,     1.08,2, -999.000,9, -999.000,9, -999.000,5,-999.0000,5,  -999.00,9,   -999.0,9,  -999.00,9,-999.000,9,   -999.0,9,   -999.0,9,  -999.0, -999.00,-999.0000,-999.000,-999.000
     316N145_5,  I09S,   125,  1,     24, SIH037,2,19950112,2348,-44.4945, 114.9972, 4255, 5114.7,    509.0,   8.8216,  34.6184,2,  34.6231,2,    264.0,2,  8.7663,    262.8,2,     5.44,2,    15.54,2,     0.01,2,     1.13,2,    3.575,2,    1.829,2, -999.000,5,-999.0000,5,  -999.00,9,   -999.0,9,  -999.00,9,-999.000,9,   -999.0,9,   -999.0,9,  -999.0, -999.00,-999.0000,-999.000,-999.000
     316N145_5,  I09S,   125,  1,     23, SIH033,2,19950112,2348,-44.4945, 114.9972, 4255, 6116.3,    609.7,   8.3515,  34.5479,2,  34.5506,2,    255.2,2,  8.2869,    253.8,2,     6.72,2,    17.59,2,     0.00,2,     1.26,2, -999.000,9, -999.000,9, -999.000,5,-999.0000,5,  -999.00,9,   -999.0,9,  -999.00,9,-999.000,9,   -999.0,9,   -999.0,9,  -999.0, -999.00,-999.0000,-999.000,-999.000
     316N145_5,  I09S,   125,  1,     22, SIH031,2,19950112,2348,-44.4945, 114.9972, 4255, 7121.2,    710.8,   7.6389,  34.4807,2,  34.4846,2,    226.1,2,  7.5670,    225.1,2,    10.53,2,    21.75,2,     0.00,2,     1.51,2,    2.376,2,    1.164,2, -999.000,5,-999.0000,5,  -999.00,9,   -999.0,9,  -999.00,9,-999.000,9,   -999.0,9,   -999.0,9,  -999.0, -999.00,-999.0000,-999.000,-999.000
     316N145_5,  I09S,   125,  1,     21, SIH030,2,19950112,2348,-44.4945, 114.9972, 4255, 8111.6,    810.4,   6.7145,  34.4382,2,  34.4412,2,    207.1,2,  6.6377,    205.6,2,    17.04,2,    25.53,2,     0.00,2,     1.74,2, -999.000,9, -999.000,9, -999.000,5,-999.0000,5,  -999.00,9,   -999.0,9,  -999.00,9,-999.000,9,   -999.0,9,   -999.0,9,  -999.0, -999.00,-999.0000,-999.000,-999.000
     316N145_5,  I09S,   125,  1,     20, SIH028,2,19950112,2348,-44.4945, 114.9972, 4255, 9100.0,    909.8,   5.5469,  34.3548,2,  34.3605,2,    213.8,2,  5.4681,    216.2,2,    21.01,2,    27.33,2,     0.00,2,     1.87,2,    1.895,2,    0.918,2, -999.000,5,-999.0000,5,  -999.00,9,   -999.0,9,  -999.00,9,-999.000,9,   -999.0,9,   -999.0,9,  -999.0, -999.00,-999.0000,-999.000,-999.000
     316N145_5,  I09S,   125,  1,     19, SIH027,2,19950112,2348,-44.4945, 114.9972, 4255,10075.3,   1007.9,   4.7169,  34.3206,2,  34.3260,2,    218.3,2,  4.6354,    217.6,2,    26.09,2,    29.08,2,     0.00,2,     1.97,2, -999.000,9, -999.000,9, -999.000,5,-999.0000,5,  -999.00,9,   -999.0,9,  -999.00,9,-999.000,9,   -999.0,9,   -999.0,9,  -999.0, -999.00,-999.0000,-999.000,-999.000
     316N145_5,  I09S,   125,  1,     18, SIH003,2,19950112,2348,-44.4945, 114.9972, 4255,11070.4,   1108.0,   4.0800,  34.3277,2,  34.3299,2,    212.3,2,  3.9949,    210.9,2,    33.88,2,    30.78,2,     0.00,2,     2.09,2,    1.352,2,    0.643,2, -999.000,5,-999.0000,5,  -999.00,9,   -999.0,9,  -999.00,9,-999.000,9,   -999.0,9,   -999.0,9,  -999.0, -999.00,-999.0000,-999.000,-999.000
     316N145_5,  I09S,   125,  1,     17, SIH024,2,19950112,2348,-44.4945, 114.9972, 4255,12097.3,   1211.3,   3.6085,  34.3531,2,  34.3545,2,    199.8,2,  3.5189,    202.0,2,    42.14,2,    32.04,2,     0.00,2,     2.18,2, -999.000,9, -999.000,9, -999.000,5,-999.0000,5,  -999.00,9,   -999.0,9,  -999.00,9,-999.000,9,   -999.0,9,   -999.0,9,  -999.0, -999.00,-999.0000,-999.000,-999.000
     316N145_5,  I09S,   125,  1,     16, SIH022,2,19950112,2348,-44.4945, 114.9972, 4255,14165.6,   1419.3,   3.0030,  34.4387,2,  34.4420,2,    182.2,2,  2.9021,    185.6,2,    56.59,2,    33.64,2,     0.00,2,     2.29,2,    0.598,2,    0.282,2, -999.000,5,-999.0000,5,  -999.00,9,   -999.0,9,  -999.00,9,-999.000,9,   -999.0,9,   -999.0,9,  -999.0, -999.00,-999.0000,-999.000,-999.000
     316N145_5,  I09S,   125,  1,     15, SIH021,2,19950112,2348,-44.4945, 114.9972, 4255,16167.4,   1620.7,   2.7780,  34.5385,2,  34.5404,2,    163.0,2,  2.6628,    168.7,2,    70.25,2,    34.22,2,     0.00,2,     2.33,2, -999.000,9, -999.000,9, -999.000,5,-999.0000,5,  -999.00,9,   -999.0,9,  -999.00,9,-999.000,9,   -999.0,9,   -999.0,9,  -999.0, -999.00,-999.0000,-999.000,-999.000
     316N145_5,  I09S,   125,  1,     14, SIH002,2,19950112,2348,-44.4945, 114.9972, 4255,18197.1,   1824.8,   2.5752,  34.6128,2,  34.6166,2,    166.8,2,  2.4452,    173.4,2,    73.74,2,    33.20,2,     0.00,2,     2.26,2, -999.000,9, -999.000,9, -999.000,5,-999.0000,5,  -999.00,9,   -999.0,9,  -999.00,9,-999.000,9,   -999.0,9,   -999.0,9,  -999.0, -999.00,-999.0000,-999.000,-999.000
     316N145_5,  I09S,   125,  1,     13, SIH018,2,19950112,2348,-44.4945, 114.9972, 4255,20219.5,   2028.3,   2.4601,  34.6746,2,  34.6763,2,    173.3,2,  2.3140,    179.7,2,    75.64,2,    31.94,2,     0.00,2,     2.17,2, -999.000,9, -999.000,9, -999.000,5,-999.0000,5,  -999.00,9,   -999.0,9,  -999.00,9,-999.000,9,   -999.0,9,   -999.0,9,  -999.0, -999.00,-999.0000,-999.000,-999.000
     316N145_5,  I09S,   125,  1,     12, SIH016,2,19950112,2348,-44.4945, 114.9972, 4255,22210.8,   2228.6,   2.3382,  34.7146,2,  34.7154,2,    179.0,2,  2.1762,    184.3,2,    79.30,2,    31.07,2,     0.00,2,     2.12,2, -999.000,9, -999.000,9, -999.000,5,-999.0000,5,  -999.00,9,   -999.0,9,  -999.00,9,-999.000,9,   -999.0,9,   -999.0,9,  -999.0, -999.00,-999.0000,-999.000,-999.000
     316N145_5,  I09S,   125,  1,     11, SIH015,2,19950112,2348,-44.4945, 114.9972, 4255,24219.8,   2430.6,   2.1932,  34.7372,2,  34.7410,2,    184.5,2,  2.0154,    189.9,2,    82.63,2,    30.49,2,     0.00,2,     2.07,2, -999.000,9, -999.000,9, -999.000,5,-999.0000,5,  -999.00,9,   -999.0,9,  -999.00,9,-999.000,9,   -999.0,9,   -999.0,9,  -999.0, -999.00,-999.0000,-999.000,-999.000
     316N145_5,  I09S,   125,  1,     10, SIH013,2,19950112,2348,-44.4945, 114.9972, 4255,27298.7,   2740.3,   1.9074,  34.7472,2,  34.7490,2,    189.3,2,  1.7062,    195.4,2,    91.21,2,    30.40,2,     0.00,2,     2.07,2, -999.000,9, -999.000,9, -999.000,5,-999.0000,5,  -999.00,9,   -999.0,9,  -999.00,9,-999.000,9,   -999.0,9,   -999.0,9,  -999.0, -999.00,-999.0000,-999.000,-999.000
     316N145_5,  I09S,   125,  1,      9, SIH012,2,19950112,2348,-44.4945, 114.9972, 4255,30353.7,   3047.6,   1.5883,  34.7393,2,  34.7423,2,    193.2,2,  1.3646,    199.2,2,   101.06,2,    30.84,2,     0.00,2,     2.10,2, -999.000,9, -999.000,9, -999.000,5,-999.0000,5,  -999.00,9,   -999.0,9,  -999.00,9,-999.000,9,   -999.0,9,   -999.0,9,  -999.0, -999.00,-999.0000,-999.000,-999.000
     316N145_5,  I09S,   125,  1,      8, SIH010,2,19950112,2348,-44.4945, 114.9972, 4255,32409.6,   3254.4,   1.3911,  34.7310,2,  34.7333,2,    196.1,2,  1.1519,    201.8,2,   106.94,2,    31.08,2,     0.00,2,     2.12,2, -999.000,9, -999.000,9, -999.000,5,-999.0000,5,  -999.00,9,   -999.0,9,  -999.00,9,-999.000,9,   -999.0,9,   -999.0,9,  -999.0, -999.00,-999.0000,-999.000,-999.000
     316N145_5,  I09S,   125,  1,      7, SIH009,2,19950112,2348,-44.4945, 114.9972, 4255,34389.8,   3453.6,   1.2011,  34.7226,2,  34.7245,2,    197.0,2,  0.9469,    204.2,2,   112.50,2,    31.37,2,     0.00,2,     2.13,2, -999.000,9, -999.000,9, -999.000,5,-999.0000,5,  -999.00,9,   -999.0,9,  -999.00,9,-999.000,9,   -999.0,9,   -999.0,9,  -999.0, -999.00,-999.0000,-999.000,-999.000
     316N145_5,  I09S,   125,  1,      6, SIH038,2,19950112,2348,-44.4945, 114.9972, 4255,36402.7,   3656.1,   1.0458,  34.7148,2,  34.7162,2,    200.8,2,  0.7752,    206.3,2,   117.74,2,    31.67,2,     0.00,2,     2.16,2, -999.000,9, -999.000,9, -999.000,5,-999.0000,5,  -999.00,9,   -999.0,9,  -999.00,9,-999.000,9,   -999.0,9,   -999.0,9,  -999.0, -999.00,-999.0000,-999.000,-999.000
     316N145_5,  I09S,   125,  1,      5, SIH006,2,19950112,2348,-44.4945, 114.9972, 4255,38487.0,   3865.8,   0.9391,  34.7096,2,  34.7091,2,    202.8,2,  0.6499,    208.4,2,   121.24,2,    31.81,2,     0.00,2,     2.17,2, -999.000,9, -999.000,9, -999.000,5,-999.0000,5,  -999.00,9,   -999.0,9,  -999.00,9,-999.000,9,   -999.0,9,   -999.0,9,  -999.0, -999.00,-999.0000,-999.000,-999.000
     316N145_5,  I09S,   125,  1,      4, SIH004,2,19950112,2348,-44.4945, 114.9972, 4255,40527.2,   4071.0,   0.8838,  34.7062,2,  34.7062,2,    205.2,2,  0.5746,    209.6,2,   122.99,2,    31.92,2,     0.00,2,     2.18,2, -999.000,9, -999.000,9, -999.000,5,-999.0000,5,  -999.00,9,   -999.0,9,  -999.00,9,-999.000,9,   -999.0,9,   -999.0,9,  -999.0, -999.00,-999.0000,-999.000,-999.000
     316N145_5,  I09S,   125,  1,      3, SIH025,2,19950112,2348,-44.4945, 114.9972, 4255,42562.0,   4275.7,   0.8805,  34.7049,2,  34.7042,2,    205.7,2,  0.5495,    210.3,2,   123.47,2,    31.97,2,     0.00,2,     2.18,2, -999.000,9, -999.000,9, -999.000,5,-999.0000,5,  -999.00,9,   -999.0,9,  -999.00,9,-999.000,9,   -999.0,9,   -999.0,9,  -999.0, -999.00,-999.0000,-999.000,-999.000
     316N145_5,  I09S,   125,  1,      2, SIH001,2,19950112,2348,-44.4945, 114.9972, 4255,43467.8,   4366.8,   0.8857,  34.7049,2,  34.7024,2,    208.0,2,  0.5445,    210.4,2,   123.62,2,    31.92,2,     0.00,2,     2.18,2, -999.000,9, -999.000,9, -999.000,5,-999.0000,5,  -999.00,9,   -999.0,9,  -999.00,9,-999.000,9,   -999.0,9,   -999.0,9,  -999.0, -999.00,-999.0000,-999.000,-999.000
     316N145_5,  I09S,   125,  1,      1, SIH036,2,19950112,2348,-44.4945, 114.9972, 4255,43987.0,   4419.0,   0.8867,  34.7044,2,  34.7066,2,    205.8,3,  0.5397,    211.1,2,   123.57,2,    32.00,2,     0.00,2,     2.18,2, -999.000,9, -999.000,9, -999.000,5,-999.0000,5,  -999.00,9,   -999.0,9,  -999.00,9,-999.000,9,   -999.0,9,   -999.0,9,  -999.0, -999.00,-999.0000,-999.000,-999.000