BOTTLE,20090521WHPSIOdm
EXPOCODE,SECT_ID,STNNBR,CASTNO,SAMPNO,BTLNBR,BTLNBR_FLAG_W,DATE,TIME,LATITUDE,LONGITUDE,DEPTH,CTDRAW,CTDPRS,CTDTMP,CTDSAL,CTDSAL_FLAG_W,SALNTY,SALNTY_FLAG_W,CTDOXY,CTDOXY_FLAG_W,THETA,OXYGEN,OXYGEN_FLAG_W,SILCAT,SILCAT_FLAG_W,NITRAT,NITRAT_FLAG_W,NITRIT,NITRIT_FLAG_W,PHSPHT,PHSPHT_FLAG_W,CFC-11,CFC-11_FLAG_W,CFC-12,CFC-12_FLAG_W,TRITUM,TRITUM_FLAG_W,HELIUM,HELIUM_FLAG_W,DELHE3,DELHE3_FLAG_W,DELC14,DELC14_FLAG_W,DELC13,DELC13_FLAG_W,NEON,NEON_FLAG_W,TCARBN,TCARBN_FLAG_W,ALKALI,ALKALI_FLAG_W,C14ERR,DELHER,HELIER,NEONER,TRITER
,,,,,,,,,,,,,DBAR,IPTS-68,PSS-78,,PSS-78,,UMOL/KG,,IPTS-68,UMOL/KG,,UMOL/KG,,UMOL/KG,,UMOL/KG,,UMOL/KG,,PMOL/KG,,PMOL/KG,,TU,,NMOL/KG,,PERCNT,,/MILLE,,/MILLE,,NMOL/KG,,UMOL/KG,,UMOL/KG,,/MILLE,PERCNT,NMOL/KG,NMOL/KG,TU
     316N145_5,  I08S,    37,  1,     36, SIH035,2,19941215,0537,-45.8537,  94.2833, 3125,  168.4,     12.2,   8.1524,  34.1924,2,  34.1948,2,    297.6,2,  8.1512,    295.6,2,     1.94,2,    14.99,2,     0.27,2,     1.15,2,    4.298,2,    2.167,2, -999.000,5,-999.0000,5,  -999.00,9,   -999.0,9,  -999.00,9,-999.000,9,   2080.6,6,   2284.8,2,  -999.0, -999.00,-999.0000,-999.000,-999.000
     316N145_5,  I08S,    37,  1,     35, SIH032,2,19941215,0537,-45.8537,  94.2833, 3125,  366.8,     32.2,   8.1445,  34.1941,2,  34.1991,2,    302.5,2,  8.1413,    295.3,2,     1.98,2,    15.01,2,     0.27,2,     1.16,2,    4.344,2,    2.209,2, -999.000,5,-999.0000,5,  -999.00,9,   -999.0,9,  -999.00,9,-999.000,9,   2083.7,2,   -999.0,9,  -999.0, -999.00,-999.0000,-999.000,-999.000
     316N145_5,  I08S,    37,  1,     34, SIH029,2,19941215,0537,-45.8537,  94.2833, 3125,  630.0,     58.6,   7.0458,  34.1183,2,  34.1305,2,    310.4,2,  7.0404,    294.7,2,     4.97,2,    17.37,2,     0.26,2,     1.34,2,    4.440,6,    2.223,6, -999.000,5,-999.0000,5,  -999.00,9,   -999.0,9,  -999.00,9,-999.000,9,   2113.2,2,   2294.5,2,  -999.0, -999.00,-999.0000,-999.000,-999.000
     316N145_5,  I08S,    37,  1,     33, SIH026,9,19941215,0537,-45.8537,  94.2833, 3125,  871.0,     82.9,   6.8986,  34.1088,3,-999.0000,9,    302.6,3,  6.8910,   -999.0,9,     3.29,4,    15.96,4,     0.26,4,     1.23,4, -999.000,9, -999.000,9, -999.000,5,-999.0000,5,  -999.00,9,   -999.0,9,  -999.00,9,-999.000,9,   -999.0,9,   -999.0,9,  -999.0, -999.00,-999.0000,-999.000,-999.000
     316N145_5,  I08S,    37,  1,     32, SIH023,2,19941215,0537,-45.8537,  94.2833, 3125, 1110.2,    106.9,   7.2776,  34.2046,2,  34.2030,2,    294.7,2,  7.2676,    288.6,2,     6.09,2,    17.14,2,     0.29,2,     1.35,2,    4.391,2,    2.208,2, -999.000,5,-999.0000,5,  -999.00,9,   -999.0,9,  -999.00,9,-999.000,9,   2102.9,2,   2268.0,2,  -999.0, -999.00,-999.0000,-999.000,-999.000
     316N145_5,  I08S,    37,  1,     31, SIH020,2,19941215,0537,-45.8537,  94.2833, 3125, 1612.9,    157.5,   7.8600,  34.4382,2,  34.4347,2,    264.8,2,  7.8444,   -999.0,9,     8.72,2,    18.30,2,     0.05,2,     1.39,2,    3.405,2,    1.728,2, -999.000,5,-999.0000,5,  -999.00,9,   -999.0,9,  -999.00,9,-999.000,9,   2116.7,2,   -999.0,9,  -999.0, -999.00,-999.0000,-999.000,-999.000
     316N145_5,  I08S,    37,  1,     30, SIH017,2,19941215,0537,-45.8537,  94.2833, 3125, 2101.4,    206.6,   6.7888,  34.3216,2,  34.3150,2,    266.6,2,  6.7699,    259.2,2,    10.15,2,    20.43,2,     0.16,2,     1.52,2,    3.663,2,    1.829,2, -999.000,5,-999.0000,5,  -999.00,9,   -999.0,9,  -999.00,9,-999.000,9,   2134.2,2,   2286.6,2,  -999.0, -999.00,-999.0000,-999.000,-999.000
     316N145_5,  I08S,    37,  1,     29, SIH014,2,19941215,0537,-45.8537,  94.2833, 3125, 2619.5,    258.7,   6.0961,  34.2425,2,  34.2430,2,    271.9,2,  6.0739,    272.2,2,    10.54,2,    21.09,2,     0.03,2,     1.55,2,    4.036,2,    2.018,2, -999.000,5,-999.0000,5,  -999.00,9,   -999.0,9,  -999.00,9,-999.000,9,   2108.4,2,   -999.0,9,  -999.0, -999.00,-999.0000,-999.000,-999.000
     316N145_5,  I08S,    37,  1,     28, SIH011,2,19941215,0537,-45.8537,  94.2833, 3125, 3113.3,    308.4,   6.0011,  34.2594,2,  34.2626,2,    266.1,2,  5.9747,    266.7,2,    11.62,2,    21.74,2,     0.02,2,     1.60,2,    3.891,2,    1.912,2, -999.000,5,-999.0000,5,  -999.00,9,   -999.0,9,  -999.00,9,-999.000,9,   2127.2,2,   2274.5,2,  -999.0, -999.00,-999.0000,-999.000,-999.000
     316N145_5,  I08S,    37,  1,     27, SIH008,2,19941215,0537,-45.8537,  94.2833, 3125, 3611.1,    358.4,   6.2457,  34.3691,2,  34.3715,2,    232.3,2,  6.2141,    226.9,2,    16.30,2,    24.09,2,     0.02,2,     1.75,2,    2.629,2,    1.278,2, -999.000,5,-999.0000,5,  -999.00,9,   -999.0,9,  -999.00,9,-999.000,9,   2153.4,2,   -999.0,9,  -999.0, -999.00,-999.0000,-999.000,-999.000
     316N145_5,  I08S,    37,  1,     26, SIH005,2,19941215,0537,-45.8537,  94.2833, 3125, 4054.3,    403.0,   5.9483,  34.3815,2,  34.3806,2,    227.1,2,  5.9136,    219.8,2,    19.78,2,    25.31,2,     0.01,2,     1.83,2,    2.211,2,    1.078,2, -999.000,5,-999.0000,5,  -999.00,9,   -999.0,9,  -999.00,9,-999.000,9,   2155.4,2,   2281.2,2,  -999.0, -999.00,-999.0000,-999.000,-999.000
     316N145_5,  I08S,    37,  1,     25, SIH019,2,19941215,0537,-45.8537,  94.2833, 3125, 4620.8,    460.0,   5.2445,  34.3244,2,  34.3217,2,    228.3,2,  5.2072,    225.2,2,    22.06,2,    26.58,2,     0.01,2,     1.92,2,    2.427,2,    1.189,2, -999.000,5,-999.0000,5,  -999.00,9,   -999.0,9,  -999.00,9,-999.000,9,   2164.9,2,   -999.0,9,  -999.0, -999.00,-999.0000,-999.000,-999.000
     316N145_5,  I08S,    37,  1,     24, SIH037,2,19941215,0537,-45.8537,  94.2833, 3125, 5108.5,    509.0,   4.6828,  34.2855,2,  34.2893,2,    228.6,2,  4.6436,    230.1,2,    24.16,2,    27.52,2,     0.00,2,     1.97,2,    2.527,2,    1.232,2, -999.000,5,-999.0000,5,  -999.00,9,   -999.0,9,  -999.00,9,-999.000,9,   2167.1,2,   2294.8,2,  -999.0, -999.00,-999.0000,-999.000,-999.000
     316N145_5,  I08S,    37,  1,     23, SIH033,2,19941215,0537,-45.8537,  94.2833, 3125, 6108.9,    609.6,   4.1784,  34.3004,2,  34.3034,2,    221.5,2,  4.1335,    222.8,2,    30.20,2,    29.02,2,     0.00,2,     2.08,2,    2.133,2,    1.002,2, -999.000,5,-999.0000,5,  -999.00,9,   -999.0,9,  -999.00,9,-999.000,9,   2176.1,2,   2311.2,2,  -999.0, -999.00,-999.0000,-999.000,-999.000
     316N145_5,  I08S,    37,  1,     22, SIH031,2,19941215,0537,-45.8537,  94.2833, 3125, 7099.1,    709.2,   3.7902,  34.3298,2,  34.3301,2,    213.0,2,  3.7395,    212.2,2,    37.44,2,    30.45,2,     0.00,2,     2.18,2,    1.599,2,    0.748,2, -999.000,5,-999.0000,5,  -999.00,9,   -999.0,9,  -999.00,9,-999.000,9,   2200.9,2,   2310.6,2,  -999.0, -999.00,-999.0000,-999.000,-999.000
     316N145_5,  I08S,    37,  1,     21, SIH030,2,19941215,0537,-45.8537,  94.2833, 3125, 8062.7,    806.2,   3.4187,  34.3526,2,  34.3535,2,    205.4,2,  3.3628,    205.3,2,    44.00,2,    31.43,2,     0.00,2,     2.24,2,    1.330,2,    0.626,2, -999.000,5,-999.0000,5,  -999.00,9,   -999.0,9,  -999.00,9,-999.000,9,   2200.5,2,   2325.6,2,  -999.0, -999.00,-999.0000,-999.000,-999.000
     316N145_5,  I08S,    37,  1,     20, SIH028,2,19941215,0537,-45.8537,  94.2833, 3125, 9080.8,    908.6,   3.1030,  34.3829,2,  34.3859,2,    198.4,2,  3.0414,    198.1,2,    50.04,2,    32.30,2,     0.00,2,     2.30,2,    1.095,2,    0.538,2, -999.000,5,-999.0000,5,  -999.00,9,   -999.0,9,  -999.00,9,-999.000,9,   2213.6,2,   -999.0,9,  -999.0, -999.00,-999.0000,-999.000,-999.000
     316N145_5,  I08S,    37,  1,     19, SIH027,2,19941215,0537,-45.8537,  94.2833, 3125,10084.6,   1009.5,   2.8674,  34.4336,2,  34.4345,2,    190.6,2,  2.8000,    188.0,2,    57.60,2,    32.94,2,     0.00,2,     2.35,2,    0.819,2,    0.397,2, -999.000,5,-999.0000,5,  -999.00,9,   -999.0,9,  -999.00,9,-999.000,9,   2227.3,2,   -999.0,9,  -999.0, -999.00,-999.0000,-999.000,-999.000
     316N145_5,  I08S,    37,  1,     18, SIH003,4,19941215,0537,-45.8537,  94.2833, 3125,11135.3,   1115.2,   2.7918,  34.4934,2,  34.2591,4,    183.1,2,  2.7168,    265.4,4,    12.40,4,    20.70,4,     0.15,4,     1.53,4,    3.693,4,    1.903,4, -999.000,5,-999.0000,5,  -999.00,9,   -999.0,9,  -999.00,9,-999.000,9,   2126.1,4,   -999.0,9,  -999.0, -999.00,-999.0000,-999.000,-999.000
     316N145_5,  I08S,    37,  1,     17, SIH024,2,19941215,0537,-45.8537,  94.2833, 3125,12151.2,   1217.4,   2.6725,  34.5395,2,  34.5406,2,    179.2,2,  2.5908,    177.5,2,    67.59,2,    33.13,2,     0.00,2,     2.34,2,    0.375,2,    0.170,2, -999.000,5,-999.0000,5,  -999.00,9,   -999.0,9,  -999.00,9,-999.000,9,   2240.0,2,   2343.7,2,  -999.0, -999.00,-999.0000,-999.000,-999.000
     316N145_5,  I08S,    37,  1,     16, SIH022,2,19941215,0537,-45.8537,  94.2833, 3125,13197.1,   1322.6,   2.6111,  34.5972,2,  34.5959,2,    178.4,2,  2.5217,    176.3,2,    71.20,2,    32.57,2,     0.00,2,     2.30,2,    0.208,2,    0.107,2, -999.000,5,-999.0000,5,  -999.00,9,   -999.0,9,  -999.00,9,-999.000,9,   2240.6,2,   -999.0,9,  -999.0, -999.00,-999.0000,-999.000,-999.000
     316N145_5,  I08S,    37,  1,     15, SIH021,2,19941215,0537,-45.8537,  94.2833, 3125,14166.5,   1420.1,   2.5439,  34.6308,2,  34.6315,2,    179.0,2,  2.4475,    177.7,2,    72.76,2,    32.30,2,     0.00,2,     2.26,2,    0.170,2,    0.079,2, -999.000,5,-999.0000,5,  -999.00,9,   -999.0,9,  -999.00,9,-999.000,9,   2238.0,2,   2349.7,2,  -999.0, -999.00,-999.0000,-999.000,-999.000
     316N145_5,  I08S,    37,  1,     14, SIH002,2,19941215,0537,-45.8537,  94.2833, 3125,15021.5,   1506.1,   2.5022,  34.6540,2,  34.6545,2,    181.0,2,  2.3994,    179.1,2,    73.63,2,    31.80,2,     0.00,2,     2.24,2,    0.148,2,    0.068,2, -999.000,5,-999.0000,5,  -999.00,9,   -999.0,9,  -999.00,9,-999.000,9,   2242.1,2,   -999.0,9,  -999.0, -999.00,-999.0000,-999.000,-999.000
     316N145_5,  I08S,    37,  1,     13, SIH018,2,19941215,0537,-45.8537,  94.2833, 3125,16020.3,   1606.6,   2.4560,  34.6833,2,  34.6853,2,    183.4,2,  2.3456,    182.7,2,    74.17,2,    31.18,2,     0.00,2,     2.19,2,    0.109,2,    0.060,2, -999.000,5,-999.0000,5,  -999.00,9,   -999.0,9,  -999.00,9,-999.000,9,   2245.2,2,   2346.0,2,  -999.0, -999.00,-999.0000,-999.000,-999.000
     316N145_5,  I08S,    37,  1,     12, SIH016,2,19941215,0537,-45.8537,  94.2833, 3125,17104.1,   1715.6,   2.4075,  34.7081,2,  34.7111,2,    186.3,2,  2.2887,    186.4,2,    75.38,2,    30.61,2,     0.00,2,     2.15,2,    0.079,2,    0.044,2, -999.000,5,-999.0000,5,  -999.00,9,   -999.0,9,  -999.00,9,-999.000,9,   2235.1,2,   -999.0,9,  -999.0, -999.00,-999.0000,-999.000,-999.000
     316N145_5,  I08S,    37,  1,     11, SIH015,2,19941215,0537,-45.8537,  94.2833, 3125,18154.7,   1821.3,   2.3526,  34.7253,2,  34.7256,2,    190.0,2,  2.2257,    189.2,2,    76.08,2,    30.17,2,     0.00,2,     2.11,2,    0.055,2,    0.020,3, -999.000,5,-999.0000,5,  -999.00,9,   -999.0,9,  -999.00,9,-999.000,9,   2240.9,2,   2349.1,2,  -999.0, -999.00,-999.0000,-999.000,-999.000
     316N145_5,  I08S,    37,  1,     10, SIH013,2,19941215,0537,-45.8537,  94.2833, 3125,19168.6,   1923.3,   2.2823,  34.7388,2,  34.7414,2,    192.4,2,  2.1478,    192.2,2,    77.47,2,    29.90,2,     0.00,2,     2.09,2,    0.045,2,    0.027,2, -999.000,5,-999.0000,5,  -999.00,9,   -999.0,9,  -999.00,9,-999.000,9,   2235.2,2,   2356.8,2,  -999.0, -999.00,-999.0000,-999.000,-999.000
     316N145_5,  I08S,    37,  1,      9, SIH012,2,19941215,0537,-45.8537,  94.2833, 3125,20170.0,   2024.0,   2.1985,  34.7491,2,  34.7488,2,    194.0,2,  2.0566,    194.4,2,    79.53,2,    29.74,2,     0.00,2,     2.08,2,    0.043,2,    0.023,2, -999.000,5,-999.0000,5,  -999.00,9,   -999.0,9,  -999.00,9,-999.000,9,   2236.1,2,   2351.9,2,  -999.0, -999.00,-999.0000,-999.000,-999.000
     316N145_5,  I08S,    37,  1,      8, SIH010,2,19941215,0537,-45.8537,  94.2833, 3125,21204.0,   2128.0,   2.1128,  34.7534,2,  34.7563,2,    197.0,2,  1.9632,    196.1,2,    81.93,2,    29.63,2,     0.00,2,     2.07,2, -999.000,9, -999.000,9, -999.000,5,-999.0000,5,  -999.00,9,   -999.0,9,  -999.00,9,-999.000,9,   2238.7,2,   2362.7,2,  -999.0, -999.00,-999.0000,-999.000,-999.000
     316N145_5,  I08S,    37,  1,      7, SIH009,2,19941215,0537,-45.8537,  94.2833, 3125,22263.4,   2234.6,   2.0158,  34.7553,2,  34.7573,2,    198.1,2,  1.8586,    197.9,2,    85.02,2,    29.54,2,     0.00,2,     2.07,2,    0.034,2,    0.022,2, -999.000,5,-999.0000,5,  -999.00,9,   -999.0,9,  -999.00,9,-999.000,9,   2240.4,2,   2358.3,2,  -999.0, -999.00,-999.0000,-999.000,-999.000
     316N145_5,  I08S,    37,  1,      6, SIH038,9,19941215,0537,-45.8537,  94.2833, 3125,24263.3,   2435.7,   1.9020,  34.7544,2,-999.0000,9,    198.2,3,  1.7289,   -999.0,9,  -999.00,9,  -999.00,9,  -999.00,9,  -999.00,9, -999.000,9, -999.000,9, -999.000,5,-999.0000,5,  -999.00,9,   -999.0,9,  -999.00,9,-999.000,9,   -999.0,9,   -999.0,9,  -999.0, -999.00,-999.0000,-999.000,-999.000
     316N145_5,  I08S,    37,  1,      5, SIH006,2,19941215,0537,-45.8537,  94.2833, 3125,26276.3,   2638.2,   1.6034,  34.7444,2,  34.7459,2,    199.9,2,  1.4177,    200.4,2,    99.54,2,    30.23,2,     0.00,2,     2.13,2, -999.000,9, -999.000,9, -999.000,5,-999.0000,5,  -999.00,9,   -999.0,9,  -999.00,9,-999.000,9,   2249.8,2,   2376.7,2,  -999.0, -999.00,-999.0000,-999.000,-999.000
     316N145_5,  I08S,    37,  1,      4, SIH004,2,19941215,0537,-45.8537,  94.2833, 3125,28286.6,   2840.4,   1.4154,  34.7367,2,  34.7364,2,    202.0,2,  1.2150,    201.8,2,   106.19,2,    30.70,2,     0.00,2,     2.16,2,    0.031,2,    0.014,2, -999.000,5,-999.0000,5,  -999.00,9,   -999.0,9,  -999.00,9,-999.000,9,   2254.2,2,   2353.6,2,  -999.0, -999.00,-999.0000,-999.000,-999.000
     316N145_5,  I08S,    37,  1,      3, SIH025,2,19941215,0537,-45.8537,  94.2833, 3125,29816.0,   2994.3,   1.3525,  34.7327,2,  34.7339,2,    202.7,2,  1.1391,    202.5,2,   107.90,2,    30.83,2,     0.00,2,     2.17,2, -999.000,9, -999.000,9, -999.000,5,-999.0000,5,  -999.00,9,   -999.0,9,  -999.00,9,-999.000,9,   2251.2,2,   2378.3,2,  -999.0, -999.00,-999.0000,-999.000,-999.000
     316N145_5,  I08S,    37,  1,      2, SIH001,2,19941215,0537,-45.8537,  94.2833, 3125,30796.7,   3092.9,   1.3210,  34.7308,2,  34.7302,2,    203.3,2,  1.0990,    203.0,2,   108.93,2,    30.94,2,     0.00,2,     2.18,2,    0.041,2,    0.019,2, -999.000,5,-999.0000,5,  -999.00,9,   -999.0,9,  -999.00,9,-999.000,9,   2253.1,2,   2358.4,2,  -999.0, -999.00,-999.0000,-999.000,-999.000
     316N145_5,  I08S,    37,  1,      1, SIH036,2,19941215,0537,-45.8537,  94.2833, 3125,31291.7,   3142.7,   1.3099,  34.7310,2,  34.7317,2,    202.2,2,  1.0835,    203.5,2,   109.34,2,    31.07,2,     0.00,2,     2.18,2,    0.048,2,    0.021,2, -999.000,5,-999.0000,5,  -999.00,9,   -999.0,9,  -999.00,9,-999.000,9,   2252.1,6,   2383.2,2,  -999.0, -999.00,-999.0000,-999.000,-999.000