BOTTLE,20090521WHPSIOdm
EXPOCODE,SECT_ID,STNNBR,CASTNO,SAMPNO,BTLNBR,BTLNBR_FLAG_W,DATE,TIME,LATITUDE,LONGITUDE,DEPTH,CTDRAW,CTDPRS,CTDTMP,CTDSAL,CTDSAL_FLAG_W,SALNTY,SALNTY_FLAG_W,CTDOXY,CTDOXY_FLAG_W,THETA,OXYGEN,OXYGEN_FLAG_W,SILCAT,SILCAT_FLAG_W,NITRAT,NITRAT_FLAG_W,NITRIT,NITRIT_FLAG_W,PHSPHT,PHSPHT_FLAG_W,CFC-11,CFC-11_FLAG_W,CFC-12,CFC-12_FLAG_W,TRITUM,TRITUM_FLAG_W,HELIUM,HELIUM_FLAG_W,DELHE3,DELHE3_FLAG_W,DELC14,DELC14_FLAG_W,DELC13,DELC13_FLAG_W,NEON,NEON_FLAG_W,TCARBN,TCARBN_FLAG_W,ALKALI,ALKALI_FLAG_W,C14ERR,DELHER,HELIER,NEONER,TRITER
,,,,,,,,,,,,,DBAR,IPTS-68,PSS-78,,PSS-78,,UMOL/KG,,IPTS-68,UMOL/KG,,UMOL/KG,,UMOL/KG,,UMOL/KG,,UMOL/KG,,PMOL/KG,,PMOL/KG,,TU,,NMOL/KG,,PERCNT,,/MILLE,,/MILLE,,NMOL/KG,,UMOL/KG,,UMOL/KG,,/MILLE,PERCNT,NMOL/KG,NMOL/KG,TU
     316N145_5,  I09S,    88,  1,     36, SIH035,2,19950102,1637,-63.6862, 112.6028, 3350,  174.4,     12.4,   0.0227,  33.8294,2,  33.8314,2,    342.1,2,  0.0223,    334.6,2,    64.38,2,    27.17,2,     0.20,2,     1.89,2, -999.000,9, -999.000,9, -999.000,5,-999.0000,5,  -999.00,9,   -999.0,9,  -999.00,9,-999.000,9,   2165.7,6,   2295.1,2,  -999.0, -999.00,-999.0000,-999.000,-999.000
     316N145_5,  I09S,    88,  1,     35, SIH032,2,19950102,1637,-63.6862, 112.6028, 3350,  374.9,     32.6,  -0.0223,  33.8371,2,  33.8515,2,    336.0,2, -0.0234,    332.8,2,    64.40,2,    27.21,2,     0.19,2,     1.90,2, -999.000,9, -999.000,9, -999.000,5,-999.0000,5,  -999.00,9,   -999.0,9,  -999.00,9,-999.000,9,   2167.1,2,   2331.4,3,  -999.0, -999.00,-999.0000,-999.000,-999.000
     316N145_5,  I09S,    88,  1,     34, SIH029,2,19950102,1637,-63.6862, 112.6028, 3350,  611.7,     56.4,  -0.3785,  34.4091,2,  34.4110,2,    274.4,2, -0.3803,    262.2,2,    73.66,2,    29.41,2,     0.07,2,     2.05,2, -999.000,9, -999.000,9, -999.000,5,-999.0000,5,  -999.00,9,   -999.0,9,  -999.00,9,-999.000,9,   2217.4,2,   2332.7,2,  -999.0, -999.00,-999.0000,-999.000,-999.000
     316N145_5,  I09S,    88,  1,     33, SIH026,2,19950102,1637,-63.6862, 112.6028, 3350,  873.2,     82.7,   1.0747,  34.6396,2,  34.6394,2,    209.8,2,  1.0710,    205.0,2,    84.69,2,    30.97,2,     0.09,2,     2.14,2, -999.000,9, -999.000,9, -999.000,5,-999.0000,5,  -999.00,9,   -999.0,9,  -999.00,9,-999.000,9,   2244.4,2,   2345.4,2,  -999.0, -999.00,-999.0000,-999.000,-999.000
     316N145_5,  I09S,    88,  1,     32, SIH023,2,19950102,1637,-63.6862, 112.6028, 3350, 1127.7,    108.3,   1.3115,  34.6782,2,  34.6789,2,    199.8,2,  1.3064,    194.5,2,    87.22,2,    31.29,2,     0.08,2,     2.17,2, -999.000,9, -999.000,9, -999.000,5,-999.0000,5,  -999.00,9,   -999.0,9,  -999.00,9,-999.000,9,   2248.1,2,   2342.7,2,  -999.0, -999.00,-999.0000,-999.000,-999.000
     316N145_5,  I09S,    88,  1,     31, SIH020,2,19950102,1637,-63.6862, 112.6028, 3350, 1617.0,    157.5,   1.4417,  34.7063,2,  34.7040,2,    191.6,2,  1.4340,    191.6,2,    89.59,2,    31.39,2,     0.01,2,     2.15,2, -999.000,9, -999.000,9, -999.000,5,-999.0000,5,  -999.00,9,   -999.0,9,  -999.00,9,-999.000,9,   2249.2,2,   2347.0,2,  -999.0, -999.00,-999.0000,-999.000,-999.000
     316N145_5,  I09S,    88,  1,     30, SIH017,2,19950102,1637,-63.6862, 112.6028, 3350, 2112.0,    207.3,   1.4502,  34.7149,2,  34.7144,2,    194.4,2,  1.4400,    192.5,2,    90.86,2,    31.07,2,     0.00,2,     2.14,2, -999.000,9, -999.000,9, -999.000,5,-999.0000,5,  -999.00,9,   -999.0,9,  -999.00,9,-999.000,9,   2250.4,2,   2371.2,3,  -999.0, -999.00,-999.0000,-999.000,-999.000
     316N145_5,  I09S,    88,  1,     29, SIH014,2,19950102,1637,-63.6862, 112.6028, 3350, 2620.4,    258.5,   1.4304,  34.7190,2,  34.7191,2,    194.4,2,  1.4176,    193.9,2,    92.30,2,    31.00,2,     0.00,2,     2.13,2, -999.000,9, -999.000,9, -999.000,5,-999.0000,5,  -999.00,9,   -999.0,9,  -999.00,9,-999.000,9,   2250.3,2,   2351.8,2,  -999.0, -999.00,-999.0000,-999.000,-999.000
     316N145_5,  I09S,    88,  1,     28, SIH011,2,19950102,1637,-63.6862, 112.6028, 3350, 3109.6,    307.7,   1.4035,  34.7235,2,  34.7245,2,    197.5,2,  1.3882,    194.7,2,    93.57,2,    30.83,2,     0.00,2,     2.12,2, -999.000,9, -999.000,9, -999.000,5,-999.0000,5,  -999.00,9,   -999.0,9,  -999.00,9,-999.000,9,   2250.5,2,   2337.2,2,  -999.0, -999.00,-999.0000,-999.000,-999.000
     316N145_5,  I09S,    88,  1,     27, SIH008,2,19950102,1637,-63.6862, 112.6028, 3350, 3606.3,    357.6,   1.3641,  34.7264,2,  34.7264,2,    197.8,2,  1.3462,    195.9,2,    94.85,2,    30.65,2,     0.00,2,     2.11,2, -999.000,9, -999.000,9, -999.000,5,-999.0000,5,  -999.00,9,   -999.0,9,  -999.00,9,-999.000,9,   2250.0,2,   -999.0,9,  -999.0, -999.00,-999.0000,-999.000,-999.000
     316N145_5,  I09S,    88,  1,     26, SIH005,2,19950102,1637,-63.6862, 112.6028, 3350, 4145.0,    411.8,   1.3339,  34.7267,2,  34.7331,3,    200.3,2,  1.3132,    197.4,2,    96.28,2,    30.74,2,     0.00,2,     2.11,2, -999.000,9, -999.000,9, -999.000,5,-999.0000,5,  -999.00,9,   -999.0,9,  -999.00,9,-999.000,9,   2250.8,2,   2340.1,2,  -999.0, -999.00,-999.0000,-999.000,-999.000
     316N145_5,  I09S,    88,  1,     25, SIH019,2,19950102,1637,-63.6862, 112.6028, 3350, 4525.0,    450.0,   1.2912,  34.7270,2,  34.7266,2,    201.3,2,  1.2687,    197.5,2,    97.55,2,    30.78,2,     0.00,2,     2.11,2, -999.000,9, -999.000,9, -999.000,5,-999.0000,5,  -999.00,9,   -999.0,9,  -999.00,9,-999.000,9,   2250.3,2,   2363.2,2,  -999.0, -999.00,-999.0000,-999.000,-999.000
     316N145_5,  I09S,    88,  1,     24, SIH037,2,19950102,1637,-63.6862, 112.6028, 3350, 5057.4,    503.6,   1.2510,  34.7266,2,  34.7264,2,    201.9,2,  1.2257,    198.6,2,    98.83,2,    30.82,2,     0.00,2,     2.11,2, -999.000,9, -999.000,9, -999.000,5,-999.0000,5,  -999.00,9,   -999.0,9,  -999.00,9,-999.000,9,   2251.6,2,   -999.0,9,  -999.0, -999.00,-999.0000,-999.000,-999.000
     316N145_5,  I09S,    88,  1,     23, SIH033,2,19950102,1637,-63.6862, 112.6028, 3350, 6078.2,    606.3,   1.1763,  34.7246,2,  34.7260,2,    202.4,2,  1.1457,    199.9,2,   101.22,2,    30.80,2,     0.00,2,     2.12,2, -999.000,9, -999.000,9, -999.000,5,-999.0000,5,  -999.00,9,   -999.0,9,  -999.00,9,-999.000,9,   2250.8,2,   2358.8,2,  -999.0, -999.00,-999.0000,-999.000,-999.000
     316N145_5,  I09S,    88,  1,     22, SIH031,2,19950102,1637,-63.6862, 112.6028, 3350, 7109.9,    710.0,   1.0872,  34.7214,2,  34.7219,2,    201.9,2,  1.0513,    201.2,2,   103.75,2,    30.89,2,     0.00,2,     2.12,2, -999.000,9, -999.000,9, -999.000,5,-999.0000,5,  -999.00,9,   -999.0,9,  -999.00,9,-999.000,9,   2252.7,2,   2357.4,2,  -999.0, -999.00,-999.0000,-999.000,-999.000
     316N145_5,  I09S,    88,  1,     21, SIH030,2,19950102,1637,-63.6862, 112.6028, 3350, 8129.3,    812.6,   0.9982,  34.7176,2,  34.7188,2,    204.3,2,  0.9569,    202.7,2,   105.98,2,    30.98,2,     0.00,2,     2.13,2, -999.000,9, -999.000,9, -999.000,5,-999.0000,5,  -999.00,9,   -999.0,9,  -999.00,9,-999.000,9,   2252.1,2,   -999.0,9,  -999.0, -999.00,-999.0000,-999.000,-999.000
     316N145_5,  I09S,    88,  1,     20, SIH028,2,19950102,1637,-63.6862, 112.6028, 3350, 9211.9,    921.5,   0.9073,  34.7125,2,  34.7146,2,    206.7,2,  0.8603,    204.1,2,   108.99,2,    31.07,2,     0.00,2,     2.14,2, -999.000,9, -999.000,9, -999.000,5,-999.0000,5,  -999.00,9,   -999.0,9,  -999.00,9,-999.000,9,   2253.5,2,   2353.3,2,  -999.0, -999.00,-999.0000,-999.000,-999.000
     316N145_5,  I09S,    88,  1,     19, SIH027,2,19950102,1637,-63.6862, 112.6028, 3350,10266.7,   1027.6,   0.8231,  34.7083,2,  34.7103,2,    207.9,2,  0.7705,    205.2,2,   111.22,2,    31.22,2,     0.00,2,     2.15,2, -999.000,9, -999.000,9, -999.000,5,-999.0000,5,  -999.00,9,   -999.0,9,  -999.00,9,-999.000,9,   2255.0,2,   2363.1,2,  -999.0, -999.00,-999.0000,-999.000,-999.000
     316N145_5,  I09S,    88,  1,     18, SIH003,2,19950102,1637,-63.6862, 112.6028, 3350,11228.2,   1124.3,   0.7308,  34.7028,2,  34.7052,2,    207.9,2,  0.6732,    206.7,2,   113.13,2,    31.31,2,     0.00,2,     2.16,2, -999.000,9, -999.000,9, -999.000,5,-999.0000,5,  -999.00,9,   -999.0,9,  -999.00,9,-999.000,9,   2254.2,6,   -999.0,9,  -999.0, -999.00,-999.0000,-999.000,-999.000
     316N145_5,  I09S,    88,  1,     17, SIH024,2,19950102,1637,-63.6862, 112.6028, 3350,12244.6,   1226.5,   0.6534,  34.7004,2,  34.7017,2,    209.9,2,  0.5902,    207.7,2,   115.36,2,    31.45,2,     0.00,2,     2.17,2, -999.000,9, -999.000,9, -999.000,5,-999.0000,5,  -999.00,9,   -999.0,9,  -999.00,9,-999.000,9,   -999.0,9,   2367.9,2,  -999.0, -999.00,-999.0000,-999.000,-999.000
     316N145_5,  I09S,    88,  1,     16, SIH022,2,19950102,1637,-63.6862, 112.6028, 3350,13250.2,   1327.7,   0.5599,  34.6952,2,  34.6965,2,    211.8,2,  0.4913,    209.3,2,   117.43,2,    31.65,2,     0.00,2,     2.18,2, -999.000,9, -999.000,9, -999.000,5,-999.0000,5,  -999.00,9,   -999.0,9,  -999.00,9,-999.000,9,   2256.9,2,   2349.2,3,  -999.0, -999.00,-999.0000,-999.000,-999.000
     316N145_5,  I09S,    88,  1,     15, SIH021,2,19950102,1637,-63.6862, 112.6028, 3350,14131.9,   1416.4,   0.4703,  34.6903,2,  34.6875,2,    214.1,2,  0.3972,    211.4,2,   118.39,2,    31.74,2,     0.00,2,     2.18,2, -999.000,9, -999.000,9, -999.000,5,-999.0000,5,  -999.00,9,   -999.0,9,  -999.00,9,-999.000,9,   2255.8,2,   2364.4,2,  -999.0, -999.00,-999.0000,-999.000,-999.000
     316N145_5,  I09S,    88,  1,     14, SIH002,2,19950102,1637,-63.6862, 112.6028, 3350,15147.7,   1518.5,   0.3892,  34.6864,2,  34.6851,2,    215.4,2,  0.3105,    213.6,2,   119.52,2,    31.72,2,     0.00,2,     2.19,2, -999.000,9, -999.000,9, -999.000,5,-999.0000,5,  -999.00,9,   -999.0,9,  -999.00,9,-999.000,9,   2257.2,2,   2355.3,2,  -999.0, -999.00,-999.0000,-999.000,-999.000
     316N145_5,  I09S,    88,  1,     13, SIH018,2,19950102,1637,-63.6862, 112.6028, 3350,16161.9,   1620.6,   0.3347,  34.6843,2,  34.6861,2,    216.7,2,  0.2499,    214.9,2,   120.81,2,    31.81,2,     0.00,2,     2.19,2, -999.000,9, -999.000,9, -999.000,5,-999.0000,5,  -999.00,9,   -999.0,9,  -999.00,9,-999.000,9,   2255.7,2,   2358.7,2,  -999.0, -999.00,-999.0000,-999.000,-999.000
     316N145_5,  I09S,    88,  1,     12, SIH016,2,19950102,1637,-63.6862, 112.6028, 3350,17193.4,   1724.3,   0.2602,  34.6812,2,  34.6820,2,    219.3,2,  0.1695,    217.1,2,   121.30,2,    31.80,2,     0.00,2,     2.19,2, -999.000,9, -999.000,9, -999.000,5,-999.0000,5,  -999.00,9,   -999.0,9,  -999.00,9,-999.000,9,   2254.3,2,   2351.0,2,  -999.0, -999.00,-999.0000,-999.000,-999.000
     316N145_5,  I09S,    88,  1,     11, SIH015,2,19950102,1637,-63.6862, 112.6028, 3350,18104.8,   1816.0,   0.2193,  34.6818,2,  34.6812,2,    219.6,2,  0.1229,    218.1,2,   122.74,2,    31.83,2,     0.00,2,     2.19,2, -999.000,9, -999.000,9, -999.000,5,-999.0000,5,  -999.00,9,   -999.0,9,  -999.00,9,-999.000,9,   2255.7,2,   2359.5,2,  -999.0, -999.00,-999.0000,-999.000,-999.000
     316N145_5,  I09S,    88,  1,     10, SIH013,2,19950102,1637,-63.6862, 112.6028, 3350,19130.1,   1919.1,   0.1601,  34.6785,2,  34.6802,2,    221.9,2,  0.0575,    220.4,2,   122.61,2,    31.76,2,     0.00,2,     2.19,2, -999.000,9, -999.000,9, -999.000,5,-999.0000,5,  -999.00,9,   -999.0,9,  -999.00,9,-999.000,9,   2254.7,2,   2351.3,2,  -999.0, -999.00,-999.0000,-999.000,-999.000
     316N145_5,  I09S,    88,  1,      9, SIH012,2,19950102,1637,-63.6862, 112.6028, 3350,20154.7,   2022.2,   0.1207,  34.6797,2,  34.6804,2,    224.2,2,  0.0114,    221.6,2,   124.20,2,    31.75,2,     0.00,2,     2.19,2, -999.000,9, -999.000,9, -999.000,5,-999.0000,5,  -999.00,9,   -999.0,9,  -999.00,9,-999.000,9,   2253.8,2,   2358.1,2,  -999.0, -999.00,-999.0000,-999.000,-999.000
     316N145_5,  I09S,    88,  1,      8, SIH010,2,19950102,1637,-63.6862, 112.6028, 3350,22216.3,   2229.6,   0.0340,  34.6765,2,  34.6769,2,    226.1,2, -0.0888,    224.7,2,   124.22,2,    31.79,2,     0.00,2,     2.19,2, -999.000,9, -999.000,9, -999.000,5,-999.0000,5,  -999.00,9,   -999.0,9,  -999.00,9,-999.000,9,   2254.3,2,   2355.6,2,  -999.0, -999.00,-999.0000,-999.000,-999.000
     316N145_5,  I09S,    88,  1,      7, SIH009,2,19950102,1637,-63.6862, 112.6028, 3350,24262.8,   2435.4,  -0.0455,  34.6739,2,  34.6739,2,    232.2,2, -0.1823,    228.6,2,   118.25,2,    31.61,2,     0.00,2,     2.18,2, -999.000,9, -999.000,9, -999.000,5,-999.0000,5,  -999.00,9,   -999.0,9,  -999.00,9,-999.000,9,   2252.8,2,   2359.8,2,  -999.0, -999.00,-999.0000,-999.000,-999.000
     316N145_5,  I09S,    88,  1,      6, SIH038,2,19950102,1637,-63.6862, 112.6028, 3350,26292.8,   2639.6,  -0.0976,  34.6741,2,  34.6741,2,    234.2,2, -0.2492,    231.4,2,   115.74,2,    31.54,2,     0.00,2,     2.17,2, -999.000,9, -999.000,9, -999.000,5,-999.0000,5,  -999.00,9,   -999.0,9,  -999.00,9,-999.000,9,   2252.7,2,   2354.2,2,  -999.0, -999.00,-999.0000,-999.000,-999.000
     316N145_5,  I09S,    88,  1,      5, SIH006,2,19950102,1637,-63.6862, 112.6028, 3350,28334.9,   2845.0,  -0.1282,  34.6764,2,  34.6769,2,    236.5,2, -0.2958,    232.5,2,   113.70,2,    31.46,2,     0.00,2,     2.17,2, -999.000,9, -999.000,9, -999.000,5,-999.0000,5,  -999.00,9,   -999.0,9,  -999.00,9,-999.000,9,   2250.4,2,   -999.0,9,  -999.0, -999.00,-999.0000,-999.000,-999.000
     316N145_5,  I09S,    88,  1,      4, SIH004,2,19950102,1637,-63.6862, 112.6028, 3350,30391.1,   3051.9,  -0.1574,  34.6774,2,  34.6761,2,    238.0,2, -0.3417,    233.4,2,   114.67,2,    31.39,2,     0.00,2,     2.17,2, -999.000,9, -999.000,9, -999.000,5,-999.0000,5,  -999.00,9,   -999.0,9,  -999.00,9,-999.000,9,   2250.7,2,   2355.6,2,  -999.0, -999.00,-999.0000,-999.000,-999.000
     316N145_5,  I09S,    88,  1,      3, SIH025,2,19950102,1637,-63.6862, 112.6028, 3350,31987.4,   3212.4,  -0.1924,  34.6752,2,  34.6775,2,    240.4,2, -0.3897,    236.0,2,   114.85,2,    31.39,2,     0.00,2,     2.17,2, -999.000,9, -999.000,9, -999.000,5,-999.0000,5,  -999.00,9,   -999.0,9,  -999.00,9,-999.000,9,   2249.2,2,   -999.0,9,  -999.0, -999.00,-999.0000,-999.000,-999.000
     316N145_5,  I09S,    88,  1,      2, SIH001,2,19950102,1637,-63.6862, 112.6028, 3350,32745.9,   3288.7,  -0.2128,  34.6701,2,  34.6728,2,    241.5,2, -0.4163,    236.3,2,   115.98,2,    31.42,2,     0.00,2,     2.17,2, -999.000,9, -999.000,9, -999.000,5,-999.0000,5,  -999.00,9,   -999.0,9,  -999.00,9,-999.000,9,   2248.1,2,   2354.3,2,  -999.0, -999.00,-999.0000,-999.000,-999.000
     316N145_5,  I09S,    88,  1,      1, SIH036,2,19950102,1637,-63.6862, 112.6028, 3350,33222.9,   3336.7,  -0.2365,  34.6711,2,  34.6708,2,    242.2,2, -0.4436,    236.5,2,   117.81,2,    31.39,2,     0.00,2,     2.17,2, -999.000,9, -999.000,9, -999.000,5,-999.0000,5,  -999.00,9,   -999.0,9,  -999.00,9,-999.000,9,   2250.9,6,   2361.5,2,  -999.0, -999.00,-999.0000,-999.000,-999.000