BOTTLE,20090521WHPSIOdm
EXPOCODE,SECT_ID,STNNBR,CASTNO,SAMPNO,BTLNBR,BTLNBR_FLAG_W,DATE,TIME,LATITUDE,LONGITUDE,DEPTH,CTDRAW,CTDPRS,CTDTMP,CTDSAL,CTDSAL_FLAG_W,SALNTY,SALNTY_FLAG_W,CTDOXY,CTDOXY_FLAG_W,THETA,OXYGEN,OXYGEN_FLAG_W,SILCAT,SILCAT_FLAG_W,NITRAT,NITRAT_FLAG_W,NITRIT,NITRIT_FLAG_W,PHSPHT,PHSPHT_FLAG_W,CFC-11,CFC-11_FLAG_W,CFC-12,CFC-12_FLAG_W,TRITUM,TRITUM_FLAG_W,HELIUM,HELIUM_FLAG_W,DELHE3,DELHE3_FLAG_W,DELC14,DELC14_FLAG_W,DELC13,DELC13_FLAG_W,NEON,NEON_FLAG_W,TCARBN,TCARBN_FLAG_W,ALKALI,ALKALI_FLAG_W,C14ERR,DELHER,HELIER,NEONER,TRITER
,,,,,,,,,,,,,DBAR,IPTS-68,PSS-78,,PSS-78,,UMOL/KG,,IPTS-68,UMOL/KG,,UMOL/KG,,UMOL/KG,,UMOL/KG,,UMOL/KG,,PMOL/KG,,PMOL/KG,,TU,,NMOL/KG,,PERCNT,,/MILLE,,/MILLE,,NMOL/KG,,UMOL/KG,,UMOL/KG,,/MILLE,PERCNT,NMOL/KG,NMOL/KG,TU
     316N145_5,  I09S,   110,  1,     36, SIH035,2,19950108,0254,-52.0000, 115.0000, 3665,  155.8,     10.4,   3.6841,  33.8490,2,  33.8527,2,    328.1,2,  3.6834,    323.1,2,     9.64,2,    24.18,2,     0.26,2,     1.62,2,    5.649,2,    2.785,2,    0.324,2,-999.0000,5,  -999.00,9,    -44.1,2,  -999.00,9,-999.000,9,   2128.9,6,   2302.5,2,     3.1, -999.00,-999.0000,-999.000,   0.048
     316N145_5,  I09S,   110,  1,     35, SIH032,2,19950108,0254,-52.0000, 115.0000, 3665,  365.3,     31.5,   3.6682,  33.8476,2,  33.8535,2,    338.3,2,  3.6662,    323.5,2,     9.49,2,    24.13,2,     0.26,2,     1.62,2, -999.000,9, -999.000,9, -999.000,5,-999.0000,5,  -999.00,9,    -54.8,2,     1.56,2,-999.000,9,   2128.9,2,   2297.8,2,     3.1, -999.00,-999.0000,-999.000,-999.000
     316N145_5,  I09S,   110,  1,     34, SIH029,2,19950108,0254,-52.0000, 115.0000, 3665,  605.0,     55.6,   3.4720,  33.8636,2,  33.8670,2,    336.6,2,  3.4685,    325.4,2,     9.00,2,    24.13,2,     0.25,2,     1.62,2,    5.764,2,    2.800,2,    0.155,2,-999.0000,5,  -999.00,9,    -58.1,6,     1.48,6,-999.000,9,   2132.5,2,   2299.4,2,     2.5, -999.00,-999.0000,-999.000,   0.006
     316N145_5,  I09S,   110,  1,     33, SIH026,2,19950108,0254,-52.0000, 115.0000, 3665,  852.4,     80.5,   3.3864,  33.8650,2,  33.8678,2,    333.1,2,  3.3814,    324.7,2,     9.48,2,    24.22,2,     0.25,2,     1.62,2, -999.000,9, -999.000,9, -999.000,5,-999.0000,5,  -999.00,9,    -83.5,2,     0.52,2,-999.000,9,   2131.2,2,   2293.2,2,     3.8, -999.00,-999.0000,-999.000,-999.000
     316N145_5,  I09S,   110,  1,     32, SIH023,2,19950108,0254,-52.0000, 115.0000, 3665, 1116.7,    107.1,   2.3802,  33.8964,2,  33.8958,2,    318.6,2,  2.3744,    324.3,2,    15.36,2,    25.11,2,     0.27,2,     1.77,2,    5.933,2,    2.891,2,    0.142,2,-999.0000,5,  -999.00,9,    -77.4,2,     0.79,2,-999.000,9,   2141.5,2,   2301.6,2,     4.2, -999.00,-999.0000,-999.000,   0.005
     316N145_5,  I09S,   110,  1,     31, SIH020,2,19950108,0254,-52.0000, 115.0000, 3665, 1601.8,    155.9,   1.0587,  34.0201,2,  34.0239,2,    308.9,2,  1.0517,    308.0,2,    31.13,2,    28.85,2,     0.15,2,     1.99,2, -999.000,9, -999.000,9, -999.000,5,-999.0000,5,  -999.00,9,    -63.2,2,     1.08,2,-999.000,9,   2169.3,2,   2309.2,2,     3.7, -999.00,-999.0000,-999.000,-999.000
     316N145_5,  I09S,   110,  1,     30, SIH017,2,19950108,0254,-52.0000, 115.0000, 3665, 2109.7,    206.9,   1.3549,  34.1818,2,  34.1877,2,    259.4,2,  1.3451,    257.3,2,    44.98,2,    31.81,2,     0.01,2,     2.16,2, -999.000,9, -999.000,9, -999.000,5,-999.0000,5,  -999.00,9,    -90.8,2,     0.84,2,-999.000,9,   2196.0,2,   2317.5,2,     4.2, -999.00,-999.0000,-999.000,-999.000
     316N145_5,  I09S,   110,  1,     29, SIH014,2,19950108,0254,-52.0000, 115.0000, 3665, 2603.8,    256.6,   1.8413,  34.3299,2,  34.3333,2,    212.6,2,  1.8279,    214.2,2,    56.60,2,    33.51,2,     0.01,2,     2.28,2,    2.242,2,    1.036,2,    0.170,2,-999.0000,5,  -999.00,9,   -108.4,2,     0.59,2,-999.000,9,   2224.6,2,   2329.9,2,     4.1, -999.00,-999.0000,-999.000,   0.007
     316N145_5,  I09S,   110,  1,     28, SIH011,2,19950108,0254,-52.0000, 115.0000, 3665, 3120.3,    308.6,   2.0157,  34.4159,2,  34.4196,2,    192.4,2,  1.9989,    195.5,2,    63.60,2,    34.08,2,     0.01,2,     2.32,2, -999.000,9, -999.000,9, -999.000,5,-999.0000,5,  -999.00,9,   -123.1,2,     0.42,2,-999.000,9,   2237.7,2,   2334.4,2,     3.5, -999.00,-999.0000,-999.000,-999.000
     316N145_5,  I09S,   110,  1,     27, SIH008,2,19950108,0254,-52.0000, 115.0000, 3665, 3624.1,    359.3,   2.0605,  34.4644,2,  34.4679,2,    184.0,2,  2.0407,    190.5,2,    67.59,2,    34.13,2,     0.00,2,     2.33,2, -999.000,9, -999.000,9, -999.000,5,-999.0000,5,  -999.00,9,   -134.7,2,     0.37,2,-999.000,9,   2236.9,2,   2335.9,2,     3.5, -999.00,-999.0000,-999.000,-999.000
     316N145_5,  I09S,   110,  1,     26, SIH005,2,19950108,0254,-52.0000, 115.0000, 3665, 4111.1,    408.3,   2.1373,  34.5088,2,  34.5089,2,    179.0,2,  2.1144,    182.5,2,    70.14,2,    34.02,2,     0.00,2,     2.32,2,    0.909,2,    0.407,2,    0.027,2,-999.0000,5,  -999.00,9,   -132.7,2,     0.27,2,-999.000,9,   2245.6,2,   2335.2,6,     3.5, -999.00,-999.0000,-999.000,   0.004
     316N145_5,  I09S,   110,  1,     25, SIH019,2,19950108,0254,-52.0000, 115.0000, 3665, 4591.2,    456.5,   2.1616,  34.5429,2,  34.5457,2,    175.8,2,  2.1356,    178.7,2,    72.05,2,    33.77,2,     0.00,2,     2.30,2, -999.000,9, -999.000,9, -999.000,5,-999.0000,5,  -999.00,9,   -135.8,2,     0.30,2,-999.000,9,   2246.3,2,   2346.0,2,     3.4, -999.00,-999.0000,-999.000,-999.000
     316N145_5,  I09S,   110,  1,     24, SIH037,2,19950108,0254,-52.0000, 115.0000, 3665, 5065.9,    504.3,   2.2208,  34.5837,2,  34.5871,2,    172.2,2,  2.1916,    176.6,2,    74.12,2,    33.47,2,     0.00,2,     2.27,2, -999.000,9, -999.000,9, -999.000,5,-999.0000,5,  -999.00,9,   -128.3,2,     0.30,2,-999.000,9,   2251.4,2,   2347.6,2,     4.3, -999.00,-999.0000,-999.000,-999.000
     316N145_5,  I09S,   110,  1,     23, SIH033,2,19950108,0254,-52.0000, 115.0000, 3665, 6088.6,    607.2,   2.1750,  34.6383,2,  34.6417,2,    174.4,2,  2.1395,    177.6,2,    77.31,2,    32.74,2,     0.00,2,     2.22,2,    0.340,2,    0.150,2,    0.036,2,-999.0000,5,  -999.00,9,   -136.3,2,     0.36,2,-999.000,9,   2247.2,2,   2356.3,3,     3.5, -999.00,-999.0000,-999.000,   0.004
     316N145_5,  I09S,   110,  1,     22, SIH031,2,19950108,0254,-52.0000, 115.0000, 3665, 7086.7,    707.6,   2.1406,  34.6727,2,  34.6761,2,    173.2,2,  2.0988,    180.4,2,    78.74,2,    32.02,2,     0.00,2,     2.18,2, -999.000,9, -999.000,9, -999.000,5,-999.0000,5,  -999.00,9,   -141.4,2,     0.28,2,-999.000,9,   2251.6,2,   2346.2,2,     3.3, -999.00,-999.0000,-999.000,-999.000
     316N145_5,  I09S,   110,  1,     21, SIH030,2,19950108,0254,-52.0000, 115.0000, 3665, 8094.5,    808.9,   2.0784,  34.6941,2,  34.6973,2,    177.0,2,  2.0304,    182.7,2,    80.50,2,    31.58,2,     0.00,2,     2.15,2,    0.226,2,    0.100,2,   -0.001,2,-999.0000,5,  -999.00,9,   -149.5,2,     0.28,2,-999.000,9,   2247.7,2,   2347.6,2,     3.7, -999.00,-999.0000,-999.000,   0.005
     316N145_5,  I09S,   110,  1,     20, SIH028,2,19950108,0254,-52.0000, 115.0000, 3665, 9132.0,    913.3,   2.0279,  34.7110,2,  34.7140,2,    183.6,2,  1.9732,    186.2,2,    81.78,2,    31.20,2,     0.00,2,     2.11,2, -999.000,9, -999.000,9, -999.000,5,-999.0000,5,  -999.00,9,   -189.8,3,    -1.13,3,-999.000,9,   2247.3,2,   2354.6,2,     3.9, -999.00,-999.0000,-999.000,-999.000
     316N145_5,  I09S,   110,  1,     19, SIH027,2,19950108,0254,-52.0000, 115.0000, 3665,10121.0,   1012.8,   1.9622,  34.7245,2,  34.7284,2,    183.9,2,  1.9013,    189.2,2,    83.37,2,    30.86,2,     0.00,2,     2.09,2, -999.000,9, -999.000,9, -999.000,5,-999.0000,5,  -999.00,9,   -146.3,2,     0.39,2,-999.000,9,   2247.3,2,   2363.4,2,     2.7, -999.00,-999.0000,-999.000,-999.000
     316N145_5,  I09S,   110,  1,     18, SIH003,2,19950108,0254,-52.0000, 115.0000, 3665,11139.8,   1115.2,   1.8956,  34.7346,2,  34.7364,2,    188.9,2,  1.8281,    192.1,2,    84.96,2,    30.42,2,     0.00,2,     2.07,2,    0.144,2,    0.058,2,    0.118,4,-999.0000,5,  -999.00,9,   -150.6,2,     0.37,2,-999.000,9,   2243.6,6,   2355.3,2,     3.1, -999.00,-999.0000,-999.000,   0.006
     316N145_5,  I09S,   110,  1,     17, SIH024,2,19950108,0254,-52.0000, 115.0000, 3665,12106.6,   1212.5,   1.8296,  34.7397,2,  34.7427,2,    191.5,2,  1.7558,    194.5,2,    86.88,2,    30.31,2,     0.00,2,     2.06,2, -999.000,9, -999.000,9, -999.000,5,-999.0000,5,  -999.00,9,   -142.1,2,     0.46,2,-999.000,9,   2244.9,2,   2350.9,2,     2.7, -999.00,-999.0000,-999.000,-999.000
     316N145_5,  I09S,   110,  1,     16, SIH022,2,19950108,0254,-52.0000, 115.0000, 3665,13125.7,   1315.0,   1.7489,  34.7417,2,  34.7441,2,    193.8,2,  1.6687,    196.5,2,    89.28,2,    30.21,2,     0.00,2,     2.05,2, -999.000,9, -999.000,9, -999.000,5,-999.0000,5,  -999.00,9,   -148.1,2,     0.38,2,-999.000,9,   2247.8,2,   2359.9,2,     2.7, -999.00,-999.0000,-999.000,-999.000
     316N145_5,  I09S,   110,  1,     15, SIH021,2,19950108,0254,-52.0000, 115.0000, 3665,14167.0,   1419.7,   1.6593,  34.7424,2,  34.7463,2,    195.3,2,  1.5725,    197.7,2,    91.83,2,    30.20,2,     0.00,2,     2.05,2,    0.094,2,    0.043,2,    0.331,4,-999.0000,5,  -999.00,9,   -150.9,2,     0.44,2,-999.000,9,   2240.5,2,   2368.8,2,     2.9, -999.00,-999.0000,-999.000,   0.021
     316N145_5,  I09S,   110,  1,     14, SIH002,2,19950108,0254,-52.0000, 115.0000, 3665,15141.2,   1517.7,   1.5696,  34.7418,2,  34.7449,2,    195.7,2,  1.4766,    199.7,2,    94.39,2,    30.04,2,     0.00,2,     2.05,2, -999.000,9, -999.000,9, -999.000,5,-999.0000,5,  -999.00,9,   -152.9,2,     0.40,2,-999.000,9,   2248.0,2,   2355.2,2,     2.7, -999.00,-999.0000,-999.000,-999.000
     316N145_5,  I09S,   110,  1,     13, SIH018,2,19950108,0254,-52.0000, 115.0000, 3665,16146.3,   1618.8,   1.5003,  34.7397,2,  34.7433,2,    197.7,2,  1.4006,    200.3,2,    96.63,2,    30.23,2,     0.00,2,     2.06,2, -999.000,9, -999.000,9, -999.000,5,-999.0000,5,  -999.00,9,   -147.0,2,     0.43,2,-999.000,9,   2247.4,2,   2364.5,2,     3.5, -999.00,-999.0000,-999.000,-999.000
     316N145_5,  I09S,   110,  1,     12, SIH016,2,19950108,0254,-52.0000, 115.0000, 3665,17138.9,   1718.7,   1.3815,  34.7354,2,  34.7386,2,    198.5,2,  1.2759,    201.7,2,    99.99,2,    30.32,2,     0.00,2,     2.08,2,    0.089,2,    0.041,2,   -0.004,4,-999.0000,5,  -999.00,9,   -299.1,4,    -5.08,4,-999.000,9,   2252.1,2,   2354.7,2,     2.9, -999.00,-999.0000,-999.000,   0.004
     316N145_5,  I09S,   110,  1,     11, SIH015,2,19950108,0254,-52.0000, 115.0000, 3665,19219.1,   1927.9,   1.2237,  34.7279,2,  34.7311,2,    198.4,2,  1.1044,    203.7,2,   104.62,2,    30.59,2,     0.00,2,     2.10,2, -999.000,9, -999.000,9, -999.000,5,-999.0000,5,  -999.00,9,   -177.2,2,    -0.33,3,-999.000,9,   2251.8,2,   2371.8,3,     2.6, -999.00,-999.0000,-999.000,-999.000
     316N145_5,  I09S,   110,  1,     10, SIH013,2,19950108,0254,-52.0000, 115.0000, 3665,21230.9,   2130.3,   1.0495,  34.7188,2,  34.7219,2,    199.9,2,  0.9171,    205.3,2,   109.73,2,    30.96,2,     0.00,2,     2.12,2,    0.096,2,    0.045,2,    0.010,4,-999.0000,5,  -999.00,9,   -160.3,2,     0.34,2,-999.000,9,   2254.6,2,   2365.5,2,     3.4, -999.00,-999.0000,-999.000,   0.003
     316N145_5,  I09S,   110,  1,      9, SIH012,2,19950108,0254,-52.0000, 115.0000, 3665,23243.3,   2332.7,   0.8759,  34.7112,2,  34.7154,2,    203.2,2,  0.7302,    207.4,2,   115.32,2,    31.29,2,     0.00,2,     2.14,2, -999.000,9, -999.000,9, -999.000,5,-999.0000,5,  -999.00,9,   -174.0,2,    -0.37,3,-999.000,9,   2255.4,2,   2356.4,2,     4.9, -999.00,-999.0000,-999.000,-999.000
     316N145_5,  I09S,   110,  1,      8, SIH010,2,19950108,0254,-52.0000, 115.0000, 3665,25331.8,   2542.8,   0.7265,  34.7035,2,  34.7068,2,    205.6,2,  0.5663,    209.7,2,   118.84,2,    31.52,2,     0.00,2,     2.16,2,    0.115,2,    0.051,2,   -0.020,4,-999.0000,5,  -999.00,9,   -162.6,2,     0.36,2,-999.000,9,   2257.6,2,   2366.2,2,     3.0, -999.00,-999.0000,-999.000,   0.003
     316N145_5,  I09S,   110,  1,      7, SIH009,2,19950108,0254,-52.0000, 115.0000, 3665,27389.9,   2749.8,   0.5307,  34.6952,2,  34.6975,2,    208.4,2,  0.3570,    214.3,2,   123.32,2,    31.66,2,     0.00,2,     2.18,2, -999.000,9, -999.000,9, -999.000,5,-999.0000,5,  -999.00,9,   -257.2,4,    -3.07,4,-999.000,9,   2256.0,2,   2346.9,2,     4.3, -999.00,-999.0000,-999.000,-999.000
     316N145_5,  I09S,   110,  1,      6, SIH038,2,19950108,0254,-52.0000, 115.0000, 3665,29401.3,   2952.1,   0.3919,  34.6899,2,  34.6924,2,    213.2,2,  0.2038,    217.1,2,   127.32,2,    31.93,2,     0.00,2,     2.18,2,    0.237,2,    0.106,2,    0.061,4,-999.0000,5,  -999.00,9,   -160.3,2,     0.37,2,-999.000,9,   2257.2,2,   2380.4,3,     2.9, -999.00,-999.0000,-999.000,   0.004
     316N145_5,  I09S,   110,  1,      5, SIH006,2,19950108,0254,-52.0000, 115.0000, 3665,31408.9,   3154.1,   0.3157,  34.6861,2,  34.6903,2,    215.6,2,  0.1115,    219.4,2,   129.24,2,    31.92,2,     0.00,2,     2.19,2, -999.000,9, -999.000,9, -999.000,5,-999.0000,5,  -999.00,9,   -154.1,2,     0.35,2,-999.000,9,   2256.2,2,   2364.0,2,     3.5, -999.00,-999.0000,-999.000,-999.000
     316N145_5,  I09S,   110,  1,      4, SIH004,2,19950108,0254,-52.0000, 115.0000, 3665,33420.8,   3356.4,   0.2353,  34.6836,2,  34.6853,2,    219.6,2,  0.0146,    221.8,2,   131.16,2,    31.96,2,     0.00,2,     2.19,2,    0.346,2,    0.166,2,    0.078,4,-999.0000,5,  -999.00,9,   -146.2,2,     0.36,2,-999.000,9,   2255.4,2,   2367.0,2,     5.3, -999.00,-999.0000,-999.000,   0.004
     316N145_5,  I09S,   110,  1,      3, SIH025,2,19950108,0254,-52.0000, 115.0000, 3665,35194.1,   3534.8,   0.1680,  34.6804,2,  34.6802,2,    221.6,2, -0.0676,    224.0,2,   133.41,2,    32.05,2,     0.00,2,     2.19,2, -999.000,9, -999.000,9, -999.000,5,-999.0000,5,  -999.00,9,   -163.8,2,     0.30,2,-999.000,9,   2258.7,2,   2368.4,2,     3.9, -999.00,-999.0000,-999.000,-999.000
     316N145_5,  I09S,   110,  1,      2, SIH001,2,19950108,0254,-52.0000, 115.0000, 3665,37155.8,   3732.1,   0.1554,  34.6796,2,  34.6824,2,    222.0,2, -0.0987,    224.9,2,   135.01,2,    31.99,2,     0.00,2,     2.20,2,    0.427,2,    0.193,2,    0.142,4,-999.0000,5,  -999.00,9,   -157.6,2,     0.45,2,-999.000,9,   2258.0,2,   2353.0,2,     4.6, -999.00,-999.0000,-999.000,   0.005
     316N145_5,  I09S,   110,  1,      1, SIH036,2,19950108,0254,-52.0000, 115.0000, 3665,37694.2,   3786.3,   0.1614,  34.6801,2,  34.6822,2,    223.9,2, -0.0982,    225.6,2,   135.27,2,    32.01,2,     0.00,2,     2.19,2,    0.432,2,    0.201,2,    0.082,4,-999.0000,5,  -999.00,9,   -150.1,2,     0.45,2,-999.000,9,   2258.7,6,   2361.4,2,     4.2, -999.00,-999.0000,-999.000,   0.005