BOTTLE,20090521WHPSIOdm
EXPOCODE,SECT_ID,STNNBR,CASTNO,SAMPNO,BTLNBR,BTLNBR_FLAG_W,DATE,TIME,LATITUDE,LONGITUDE,DEPTH,CTDRAW,CTDPRS,CTDTMP,CTDSAL,CTDSAL_FLAG_W,SALNTY,SALNTY_FLAG_W,CTDOXY,CTDOXY_FLAG_W,THETA,OXYGEN,OXYGEN_FLAG_W,SILCAT,SILCAT_FLAG_W,NITRAT,NITRAT_FLAG_W,NITRIT,NITRIT_FLAG_W,PHSPHT,PHSPHT_FLAG_W,CFC-11,CFC-11_FLAG_W,CFC-12,CFC-12_FLAG_W,TRITUM,TRITUM_FLAG_W,HELIUM,HELIUM_FLAG_W,DELHE3,DELHE3_FLAG_W,DELC14,DELC14_FLAG_W,DELC13,DELC13_FLAG_W,NEON,NEON_FLAG_W,TCARBN,TCARBN_FLAG_W,ALKALI,ALKALI_FLAG_W,C14ERR,DELHER,HELIER,NEONER,TRITER
,,,,,,,,,,,,,DBAR,IPTS-68,PSS-78,,PSS-78,,UMOL/KG,,IPTS-68,UMOL/KG,,UMOL/KG,,UMOL/KG,,UMOL/KG,,UMOL/KG,,PMOL/KG,,PMOL/KG,,TU,,NMOL/KG,,PERCNT,,/MILLE,,/MILLE,,NMOL/KG,,UMOL/KG,,UMOL/KG,,/MILLE,PERCNT,NMOL/KG,NMOL/KG,TU
     316N145_5,  I09S,   104,  1,     36, SIH035,2,19950107,0657,-55.6028, 115.0278, 4650,  173.6,     12.0,   3.3359,  33.8598,2,  33.8607,2,    324.1,2,  3.3351,    324.3,2,     8.09,2,    24.24,2,     0.29,2,     1.63,2, -999.000,9, -999.000,9, -999.000,5,-999.0000,5,  -999.00,9,    -58.1,2,  -999.00,9,-999.000,9,   2128.6,6,   2283.3,2,     3.3, -999.00,-999.0000,-999.000,-999.000
     316N145_5,  I09S,   104,  1,     35, SIH032,2,19950107,0657,-55.6028, 115.0278, 4650,  371.1,     31.9,   3.2566,  33.8592,2,  33.8633,2,    319.3,2,  3.2546,    324.9,2,     8.24,2,    24.25,2,     0.28,2,     1.63,2, -999.000,9, -999.000,9, -999.000,5,-999.0000,5,  -999.00,9,    -42.9,2,     1.41,2,-999.000,9,   2128.6,2,   2278.0,2,     5.2, -999.00,-999.0000,-999.000,-999.000
     316N145_5,  I09S,   104,  1,     34, SIH029,2,19950107,0657,-55.6028, 115.0278, 4650,  619.5,     56.8,   3.2129,  33.8603,2,  33.8627,2,    316.5,2,  3.2094,    324.0,2,     8.09,2,    24.20,2,     0.28,2,     1.63,2, -999.000,9, -999.000,9, -999.000,5,-999.0000,5,  -999.00,9,    -58.0,2,     1.54,2,-999.000,9,   2128.1,2,   2301.9,3,     7.8, -999.00,-999.0000,-999.000,-999.000
     316N145_5,  I09S,   104,  1,     33, SIH026,2,19950107,0657,-55.6028, 115.0278, 4650,  871.4,     82.2,   3.1826,  33.8618,2,  33.8652,2,    326.5,2,  3.1776,    323.9,2,     8.09,2,    24.20,2,     0.28,2,     1.65,2, -999.000,9, -999.000,9, -999.000,5,-999.0000,5,  -999.00,9,    -53.1,2,     1.54,2,-999.000,9,   2129.2,2,   2311.8,3,     3.6, -999.00,-999.0000,-999.000,-999.000
     316N145_5,  I09S,   104,  1,     32, SIH023,2,19950107,0657,-55.6028, 115.0278, 4650, 1117.0,    106.9,   3.1044,  33.8663,2,  33.8701,2,    325.0,2,  3.0979,    323.4,2,     8.40,2,    24.29,2,     0.29,2,     1.66,2, -999.000,9, -999.000,9, -999.000,5,-999.0000,5,  -999.00,9,    -78.6,2,     1.34,2,-999.000,9,   2131.0,2,   2284.5,2,     5.5, -999.00,-999.0000,-999.000,-999.000
     316N145_5,  I09S,   104,  1,     31, SIH020,4,19950107,0657,-55.6028, 115.0278, 4650, 1620.0,    157.5,   1.5454,  33.9608,2,  34.7066,4,    311.5,2,  1.5378,    210.2,4,   119.66,4,    31.78,4,     0.00,4,     2.18,4, -999.000,9, -999.000,9, -999.000,5,-999.0000,5,  -999.00,9,   -152.7,4,     0.39,3,-999.000,9,   -999.0,9,   -999.0,9,     3.2, -999.00,-999.0000,-999.000,-999.000
     316N145_5,  I09S,   104,  1,     30, SIH017,2,19950107,0657,-55.6028, 115.0278, 4650, 2119.6,    207.7,   1.6232,  34.0850,2,  34.0897,2,    277.8,2,  1.6129,    279.6,2,    32.46,2,    30.19,2,     0.02,2,     2.06,2, -999.000,9, -999.000,9, -999.000,5,-999.0000,5,  -999.00,9,    -70.9,2,     1.03,2,-999.000,9,   2180.1,2,   -999.0,9,     4.8, -999.00,-999.0000,-999.000,-999.000
     316N145_5,  I09S,   104,  1,     29, SIH014,2,19950107,0657,-55.6028, 115.0278, 4650, 2617.6,    257.8,   1.9456,  34.2192,2,  34.2201,2,    231.2,2,  1.9320,    238.3,2,    44.25,2,    32.57,2,     0.02,2,     2.22,2, -999.000,9, -999.000,9, -999.000,5,-999.0000,5,  -999.00,9,    -88.2,2,     0.72,2,-999.000,9,   2202.9,2,   2310.4,2,     3.7, -999.00,-999.0000,-999.000,-999.000
     316N145_5,  I09S,   104,  1,     28, SIH011,2,19950107,0657,-55.6028, 115.0278, 4650, 3122.4,    308.6,   1.8499,  34.2882,2,  34.2927,2,    219.8,2,  1.8336,    221.7,2,    52.48,2,    33.52,2,     0.01,2,     2.29,2, -999.000,9, -999.000,9, -999.000,5,-999.0000,5,  -999.00,9,    -91.8,2,     0.64,2,-999.000,9,   2218.2,2,   2307.8,2,     2.7, -999.00,-999.0000,-999.000,-999.000
     316N145_5,  I09S,   104,  1,     27, SIH008,2,19950107,0657,-55.6028, 115.0278, 4650, 3623.2,    359.0,   1.9238,  34.3595,2,  34.3629,2,    201.4,2,  1.9044,    206.5,2,    58.69,2,    34.03,2,     0.01,2,     2.33,2, -999.000,9, -999.000,9, -999.000,5,-999.0000,5,  -999.00,9,   -170.2,3,    -1.89,4,-999.000,9,   2228.8,2,   2307.9,2,     2.5, -999.00,-999.0000,-999.000,-999.000
     316N145_5,  I09S,   104,  1,     26, SIH005,2,19950107,0657,-55.6028, 115.0278, 4650, 4115.8,    408.5,   2.0492,  34.4121,2,  34.4155,2,    191.8,2,  2.0266,    194.7,2,    62.88,2,    34.41,2,     0.01,2,     2.35,2, -999.000,9, -999.000,9, -999.000,5,-999.0000,5,  -999.00,9,   -103.7,2,     0.45,2,-999.000,9,   2237.1,2,   2331.8,3,     4.2, -999.00,-999.0000,-999.000,-999.000
     316N145_5,  I09S,   104,  1,     25, SIH019,2,19950107,0657,-55.6028, 115.0278, 4650, 4625.2,    459.8,   2.1855,  34.4680,2,  34.4707,2,    174.2,2,  2.1593,    185.2,2,    66.46,2,    34.36,2,     0.01,2,     2.34,2, -999.000,9, -999.000,9, -999.000,5,-999.0000,5,  -999.00,9,   -127.9,2,     0.39,2,-999.000,9,   2242.1,2,   2322.0,2,     3.1, -999.00,-999.0000,-999.000,-999.000
     316N145_5,  I09S,   104,  1,     24, SIH037,2,19950107,0657,-55.6028, 115.0278, 4650, 5118.8,    509.4,   2.2557,  34.5147,2,  34.5290,2,    174.2,2,  2.2261,    179.1,2,    69.56,2,    34.22,2,     0.00,2,     2.33,2, -999.000,9, -999.000,9, -999.000,5,-999.0000,5,  -999.00,9,   -130.2,2,     0.38,2,-999.000,9,   2244.3,2,   2321.1,2,     5.6, -999.00,-999.0000,-999.000,-999.000
     316N145_5,  I09S,   104,  1,     23, SIH033,2,19950107,0657,-55.6028, 115.0278, 4650, 6126.4,    610.8,   2.2358,  34.5763,2,  34.5769,2,    170.4,2,  2.1998,    175.0,2,    73.91,2,    33.89,2,     0.01,2,     2.31,2, -999.000,9, -999.000,9, -999.000,5,-999.0000,5,  -999.00,9,   -138.8,2,     0.30,2,-999.000,9,   2250.1,2,   2350.5,3,     2.9, -999.00,-999.0000,-999.000,-999.000
     316N145_5,  I09S,   104,  1,     22, SIH031,2,19950107,0657,-55.6028, 115.0278, 4650, 7129.4,    711.7,   2.2312,  34.6240,2,  34.6252,2,    170.3,2,  2.1887,    175.7,2,    76.09,2,    33.28,2,     0.00,2,     2.26,2, -999.000,9, -999.000,9, -999.000,5,-999.0000,5,  -999.00,9,   -145.3,2,     0.37,2,-999.000,9,   2249.3,2,   2340.0,2,     3.0, -999.00,-999.0000,-999.000,-999.000
     316N145_5,  I09S,   104,  1,     21, SIH030,7,19950107,0657,-55.6028, 115.0278, 4650, 8132.9,    812.6,   2.2276,  34.6617,3,-999.0000,9,    172.1,3,  2.1783,   -999.0,9,  -999.00,9,  -999.00,9,  -999.00,9,  -999.00,9, -999.000,9, -999.000,9, -999.000,5,-999.0000,5,  -999.00,9,   -999.0,9,  -999.00,9,-999.000,9,   -999.0,9,   -999.0,9,  -999.0, -999.00,-999.0000,-999.000,-999.000
     316N145_5,  I09S,   104,  1,     20, SIH028,2,19950107,0657,-55.6028, 115.0278, 4650, 9131.0,    913.0,   2.1678,  34.6868,2,  34.6895,2,    172.8,2,  2.1122,    180.9,2,    78.72,2,    31.82,2,     0.00,2,     2.17,2, -999.000,9, -999.000,9, -999.000,5,-999.0000,5,  -999.00,9,   -152.3,2,     0.29,2,-999.000,9,   2246.6,2,   2352.7,2,     3.7, -999.00,-999.0000,-999.000,-999.000
     316N145_5,  I09S,   104,  1,     19, SIH027,2,19950107,0657,-55.6028, 115.0278, 4650,10135.6,   1014.0,   2.1006,  34.7049,2,  34.7076,2,    179.4,2,  2.0384,    184.0,2,    80.28,2,    31.54,2,     0.00,2,     2.14,2, -999.000,9, -999.000,9, -999.000,5,-999.0000,5,  -999.00,9,   -146.4,2,     0.27,2,-999.000,9,   2246.7,2,   2348.5,2,     3.0, -999.00,-999.0000,-999.000,-999.000
     316N145_5,  I09S,   104,  1,     18, SIH003,2,19950107,0657,-55.6028, 115.0278, 4650,11135.3,   1114.6,   2.0330,  34.7187,2,  34.7213,2,    181.5,2,  1.9643,    186.7,2,    81.99,2,    31.17,2,     0.00,2,     2.12,2, -999.000,9, -999.000,9, -999.000,5,-999.0000,5,  -999.00,9,   -147.9,2,     0.33,2,-999.000,9,   2246.3,6,   -999.0,9,     3.1, -999.00,-999.0000,-999.000,-999.000
     316N145_5,  I09S,   104,  1,     17, SIH024,2,19950107,0657,-55.6028, 115.0278, 4650,12149.6,   1216.6,   1.9713,  34.7302,2,  34.7335,2,    186.5,2,  1.8959,    190.0,2,    83.55,2,    30.79,2,     0.00,2,     2.10,2, -999.000,9, -999.000,9, -999.000,5,-999.0000,5,  -999.00,9,   -158.3,2,     0.30,2,-999.000,9,   2244.2,2,   2357.7,3,     4.1, -999.00,-999.0000,-999.000,-999.000
     316N145_5,  I09S,   104,  1,     16, SIH022,2,19950107,0657,-55.6028, 115.0278, 4650,14162.1,   1419.0,   1.8471,  34.7424,2,  34.7455,2,    190.4,2,  1.7582,    194.8,2,    86.97,2,    30.32,2,     0.00,2,     2.06,2, -999.000,9, -999.000,9, -999.000,5,-999.0000,5,  -999.00,9,   -318.1,4,    -5.70,4,-999.000,9,   2245.1,2,   2346.6,2,     2.7, -999.00,-999.0000,-999.000,-999.000
     316N145_5,  I09S,   104,  1,     15, SIH021,2,19950107,0657,-55.6028, 115.0278, 4650,16169.7,   1621.0,   1.6951,  34.7445,2,  34.7475,2,    194.3,2,  1.5928,    197.6,2,    91.17,2,    30.28,2,     0.00,2,     2.06,2, -999.000,9, -999.000,9, -999.000,5,-999.0000,5,  -999.00,9,   -999.0,9,  -999.00,9,-999.000,9,   2245.7,2,   2345.3,2,  -999.0, -999.00,-999.0000,-999.000,-999.000
     316N145_5,  I09S,   104,  1,     14, SIH002,2,19950107,0657,-55.6028, 115.0278, 4650,18186.0,   1823.8,   1.5247,  34.7415,2,  34.7445,2,    194.7,2,  1.4091,    200.4,2,    96.92,2,    30.42,2,     0.00,2,     2.08,2, -999.000,9, -999.000,9, -999.000,5,-999.0000,5,  -999.00,9,   -999.0,9,  -999.00,9,-999.000,9,   2248.7,2,   2358.0,2,  -999.0, -999.00,-999.0000,-999.000,-999.000
     316N145_5,  I09S,   104,  1,     13, SIH018,2,19950107,0657,-55.6028, 115.0278, 4650,20195.4,   2025.9,   1.3514,  34.7339,2,  34.7368,2,    197.8,2,  1.2224,    202.0,2,   102.05,2,    30.74,2,     0.00,2,     2.10,2, -999.000,9, -999.000,9, -999.000,5,-999.0000,5,  -999.00,9,   -999.0,9,  -999.00,9,-999.000,9,   2249.7,2,   2357.1,2,  -999.0, -999.00,-999.0000,-999.000,-999.000
     316N145_5,  I09S,   104,  1,     12, SIH016,2,19950107,0657,-55.6028, 115.0278, 4650,22213.8,   2228.9,   1.1827,  34.7259,2,  34.7290,2,    198.6,2,  1.0401,    203.8,2,   106.71,2,    31.07,2,     0.00,2,     2.12,2, -999.000,9, -999.000,9, -999.000,5,-999.0000,5,  -999.00,9,   -999.0,9,  -999.00,9,-999.000,9,   2253.0,2,   -999.0,9,  -999.0, -999.00,-999.0000,-999.000,-999.000
     316N145_5,  I09S,   104,  1,     11, SIH015,2,19950107,0657,-55.6028, 115.0278, 4650,24235.0,   2432.2,   1.0257,  34.7180,2,  34.7211,2,    199.7,2,  0.8691,    206.2,2,   112.00,2,    31.35,2,     0.00,2,     2.14,2, -999.000,9, -999.000,9, -999.000,5,-999.0000,5,  -999.00,9,   -999.0,9,  -999.00,9,-999.000,9,   2253.2,2,   -999.0,9,  -999.0, -999.00,-999.0000,-999.000,-999.000
     316N145_5,  I09S,   104,  1,     10, SIH013,2,19950107,0657,-55.6028, 115.0278, 4650,27265.2,   2737.0,   0.7886,  34.7071,2,  34.7095,2,    202.8,2,  0.6106,    208.9,2,   118.53,2,    31.73,2,     0.00,2,     2.17,2, -999.000,9, -999.000,9, -999.000,5,-999.0000,5,  -999.00,9,   -999.0,9,  -999.00,9,-999.000,9,   2256.3,2,   2363.0,2,  -999.0, -999.00,-999.0000,-999.000,-999.000
     316N145_5,  I09S,   104,  1,      9, SIH012,2,19950107,0657,-55.6028, 115.0278, 4650,30300.7,   3042.4,   0.5443,  34.6956,2,  34.6956,2,    208.0,2,  0.3448,    213.8,2,   123.96,2,    32.06,2,     0.00,2,     2.20,2, -999.000,9, -999.000,9, -999.000,5,-999.0000,5,  -999.00,9,   -999.0,9,  -999.00,9,-999.000,9,   2256.3,2,   2365.2,2,  -999.0, -999.00,-999.0000,-999.000,-999.000
     316N145_5,  I09S,   104,  1,      8, SIH010,2,19950107,0657,-55.6028, 115.0278, 4650,33336.4,   3347.7,   0.3760,  34.6892,2,  34.6887,2,    212.6,2,  0.1527,    218.4,2,   128.48,2,    32.11,2,     0.00,2,     2.21,2, -999.000,9, -999.000,9, -999.000,5,-999.0000,5,  -999.00,9,   -999.0,9,  -999.00,9,-999.000,9,   2260.3,2,   2362.1,2,  -999.0, -999.00,-999.0000,-999.000,-999.000
     316N145_5,  I09S,   104,  1,      7, SIH009,2,19950107,0657,-55.6028, 115.0278, 4650,36378.8,   3653.8,   0.2378,  34.6824,2,  34.6832,2,    216.5,2, -0.0110,    222.3,2,   129.26,2,    32.20,2,     0.00,2,     2.21,2, -999.000,9, -999.000,9, -999.000,5,-999.0000,5,  -999.00,9,   -999.0,9,  -999.00,9,-999.000,9,   2257.2,2,   2365.5,2,  -999.0, -999.00,-999.0000,-999.000,-999.000
     316N145_5,  I09S,   104,  1,      6, SIH038,2,19950107,0657,-55.6028, 115.0278, 4650,36380.6,   3653.9,   0.2374,  34.6827,2,  34.6830,2,    215.8,2, -0.0114,    222.3,2,   129.12,2,    32.25,2,     0.00,2,     2.21,2, -999.000,9, -999.000,9, -999.000,5,-999.0000,5,  -999.00,9,   -999.0,9,  -999.00,9,-999.000,9,   2257.8,2,   2358.0,2,  -999.0, -999.00,-999.0000,-999.000,-999.000
     316N145_5,  I09S,   104,  1,      5, SIH006,2,19950107,0657,-55.6028, 115.0278, 4650,41428.7,   4161.7,   0.1121,  34.6778,2,  34.6767,2,    223.2,2, -0.1838,    227.0,2,   135.49,2,    32.20,2,     0.00,2,     2.21,2, -999.000,9, -999.000,9, -999.000,5,-999.0000,5,  -999.00,9,   -999.0,9,  -999.00,9,-999.000,9,   2256.4,2,   2364.5,2,  -999.0, -999.00,-999.0000,-999.000,-999.000
     316N145_5,  I09S,   104,  1,      4, SIH004,2,19950107,0657,-55.6028, 115.0278, 4650,43442.6,   4364.3,   0.0687,  34.6757,2,  34.6759,2,    226.9,2, -0.2469,    229.3,2,   136.28,2,    32.29,2,     0.00,2,     2.21,2, -999.000,9, -999.000,9, -999.000,5,-999.0000,5,  -999.00,9,   -999.0,9,  -999.00,9,-999.000,9,   2255.4,2,   2355.9,3,  -999.0, -999.00,-999.0000,-999.000,-999.000
     316N145_5,  I09S,   104,  1,      3, SIH025,2,19950107,0657,-55.6028, 115.0278, 4650,45428.4,   4564.1,   0.0472,  34.6754,2,  34.6753,2,    228.8,2, -0.2891,    230.6,2,   137.22,2,    32.25,2,     0.00,2,     2.21,2, -999.000,9, -999.000,9, -999.000,5,-999.0000,5,  -999.00,9,   -999.0,9,  -999.00,9,-999.000,9,   2256.8,2,   2368.4,2,  -999.0, -999.00,-999.0000,-999.000,-999.000
     316N145_5,  I09S,   104,  1,      2, SIH001,2,19950107,0657,-55.6028, 115.0278, 4650,46410.4,   4662.8,   0.0500,  34.6753,2,  34.6751,2,    227.0,2, -0.2971,    230.9,2,   137.07,2,    32.20,2,     0.00,2,     2.21,2, -999.000,9, -999.000,9, -999.000,5,-999.0000,5,  -999.00,9,   -999.0,9,  -999.00,9,-999.000,9,   2257.5,2,   2374.1,2,  -999.0, -999.00,-999.0000,-999.000,-999.000
     316N145_5,  I09S,   104,  1,      1, SIH036,2,19950107,0657,-55.6028, 115.0278, 4650,46871.5,   4709.2,   0.0549,  34.6745,2,  34.6753,2,    229.7,3, -0.2974,    231.1,2,   137.17,2,    32.17,2,     0.00,2,     2.21,2, -999.000,9, -999.000,9, -999.000,5,-999.0000,5,  -999.00,9,   -999.0,9,  -999.00,9,-999.000,9,   2256.9,6,   2368.8,2,  -999.0, -999.00,-999.0000,-999.000,-999.000