BOTTLE,20090521WHPSIOdm
EXPOCODE,SECT_ID,STNNBR,CASTNO,SAMPNO,BTLNBR,BTLNBR_FLAG_W,DATE,TIME,LATITUDE,LONGITUDE,DEPTH,CTDRAW,CTDPRS,CTDTMP,CTDSAL,CTDSAL_FLAG_W,SALNTY,SALNTY_FLAG_W,CTDOXY,CTDOXY_FLAG_W,THETA,OXYGEN,OXYGEN_FLAG_W,SILCAT,SILCAT_FLAG_W,NITRAT,NITRAT_FLAG_W,NITRIT,NITRIT_FLAG_W,PHSPHT,PHSPHT_FLAG_W,CFC-11,CFC-11_FLAG_W,CFC-12,CFC-12_FLAG_W,TRITUM,TRITUM_FLAG_W,HELIUM,HELIUM_FLAG_W,DELHE3,DELHE3_FLAG_W,DELC14,DELC14_FLAG_W,DELC13,DELC13_FLAG_W,NEON,NEON_FLAG_W,TCARBN,TCARBN_FLAG_W,ALKALI,ALKALI_FLAG_W,C14ERR,DELHER,HELIER,NEONER,TRITER
,,,,,,,,,,,,,DBAR,IPTS-68,PSS-78,,PSS-78,,UMOL/KG,,IPTS-68,UMOL/KG,,UMOL/KG,,UMOL/KG,,UMOL/KG,,UMOL/KG,,PMOL/KG,,PMOL/KG,,TU,,NMOL/KG,,PERCNT,,/MILLE,,/MILLE,,NMOL/KG,,UMOL/KG,,UMOL/KG,,/MILLE,PERCNT,NMOL/KG,NMOL/KG,TU
     316N145_5,  I09S,   128,  1,     36, SI9446,2,19950113,1812,-43.0000, 115.0000, 4295,  171.9,     12.0,  11.4790,  34.7596,2,  34.7596,2,    283.1,2, 11.4775,    274.1,2,     1.55,2,     8.48,2,     0.18,2,     0.69,2, -999.000,9, -999.000,9, -999.000,5,-999.0000,5,  -999.00,9,     42.0,2,  -999.00,9,-999.000,9,   2076.6,6,   2296.5,2,     4.8, -999.00,-999.0000,-999.000,-999.000
     316N145_5,  I09S,   128,  1,     35, SIH032,2,19950113,1812,-43.0000, 115.0000, 4295,  386.0,     33.5,  11.4696,  34.7598,2,  34.7600,2,    280.7,2, 11.4654,    274.1,2,     1.55,2,     8.49,2,     0.17,2,     0.69,2, -999.000,9, -999.000,9, -999.000,5,-999.0000,5,  -999.00,9,     59.2,2,     1.48,2,-999.000,9,   2077.9,2,   2323.0,3,     4.0, -999.00,-999.0000,-999.000,-999.000
     316N145_5,  I09S,   128,  1,     34, SIH029,2,19950113,1812,-43.0000, 115.0000, 4295,  636.6,     58.7,  11.4674,  34.7593,2,  34.7600,2,    280.2,2, 11.4601,    274.2,2,     1.54,2,     8.53,2,     0.18,2,     0.69,2, -999.000,9, -999.000,9, -999.000,5,-999.0000,5,  -999.00,9,     65.6,2,     0.95,2,-999.000,9,   2077.5,2,   2294.1,6,     4.7, -999.00,-999.0000,-999.000,-999.000
     316N145_5,  I09S,   128,  1,     33, SIH026,2,19950113,1812,-43.0000, 115.0000, 4295,  874.8,     82.7,  10.6992,  34.7498,2,  34.7510,2,    276.4,2, 10.6892,    271.8,2,     2.66,2,     9.71,2,     0.22,2,     0.81,2, -999.000,9, -999.000,9, -999.000,5,-999.0000,5,  -999.00,9,     75.9,2,     1.35,2,-999.000,9,   2088.9,2,   2311.9,2,     3.9, -999.00,-999.0000,-999.000,-999.000
     316N145_5,  I09S,   128,  1,     32, SIH023,2,19950113,1812,-43.0000, 115.0000, 4295, 1116.3,    107.0,  10.3630,  34.7638,2,  34.7649,2,    271.1,2, 10.3504,    270.2,2,     3.14,2,     9.90,2,     0.31,2,     0.84,2, -999.000,9, -999.000,9, -999.000,5,-999.0000,5,  -999.00,9,     84.4,2,     1.45,2,-999.000,9,   2094.0,2,   2314.2,2,     4.1, -999.00,-999.0000,-999.000,-999.000
     316N145_5,  I09S,   128,  1,     31, SIH020,2,19950113,1812,-43.0000, 115.0000, 4295, 1621.8,    157.8,   9.8519,  34.7436,2,  34.7455,2,    264.4,2,  9.8339,    264.3,2,     3.77,2,    12.24,2,     0.09,2,     0.93,2, -999.000,9, -999.000,9, -999.000,5,-999.0000,5,  -999.00,9,     74.8,2,     1.23,2,-999.000,9,   2100.7,2,   2298.3,2,     4.7, -999.00,-999.0000,-999.000,-999.000
     316N145_5,  I09S,   128,  1,     30, SIH017,2,19950113,1812,-43.0000, 115.0000, 4295, 2119.8,    207.9,   9.6057,  34.7228,2,  34.7217,2,    270.5,2,  9.5823,    263.4,2,     4.09,2,    13.18,2,     0.00,2,     0.98,2, -999.000,9, -999.000,9, -999.000,5,-999.0000,5,  -999.00,9,     11.3,2,     0.08,4,-999.000,9,   2104.1,2,   2296.7,2,     4.4, -999.00,-999.0000,-999.000,-999.000
     316N145_5,  I09S,   128,  1,     29, SIH014,2,19950113,1812,-43.0000, 115.0000, 4295, 2628.5,    259.0,   9.6047,  34.7336,2,  34.7329,2,    267.6,2,  9.5754,    263.9,2,     4.25,2,    13.32,2,     0.00,2,     0.99,2, -999.000,9, -999.000,9, -999.000,5,-999.0000,5,  -999.00,9,     50.5,2,     1.19,2,-999.000,9,   2102.5,2,   2295.2,2,     3.5, -999.00,-999.0000,-999.000,-999.000
     316N145_5,  I09S,   128,  1,     28, SIH011,2,19950113,1812,-43.0000, 115.0000, 4295, 3134.0,    309.9,   9.4717,  34.7129,2,  34.7142,2,    262.1,2,  9.4369,    262.1,2,     4.25,2,    13.77,2,     0.00,2,     1.01,2, -999.000,9, -999.000,9, -999.000,5,-999.0000,5,  -999.00,9,    -37.9,3,    -1.74,4,-999.000,9,   2103.8,2,   2285.8,2,     3.4, -999.00,-999.0000,-999.000,-999.000
     316N145_5,  I09S,   128,  1,     27, SIH008,2,19950113,1812,-43.0000, 115.0000, 4295, 3629.6,    359.7,   9.4296,  34.7081,2,  34.7077,2,    258.4,2,  9.3892,    261.0,2,     4.40,2,    13.99,2,     0.00,2,     1.03,2, -999.000,9, -999.000,9, -999.000,5,-999.0000,5,  -999.00,9,     52.1,2,     1.32,2,-999.000,9,   2105.0,2,   2304.5,2,     3.3, -999.00,-999.0000,-999.000,-999.000
     316N145_5,  I09S,   128,  1,     26, SIH005,2,19950113,1812,-43.0000, 115.0000, 4295, 4121.9,    409.2,   9.1821,  34.6629,2,  34.6637,2,    254.7,2,  9.1367,    252.7,2,     4.88,2,    15.31,2,     0.00,2,     1.10,2, -999.000,9, -999.000,9, -999.000,5,-999.0000,5,  -999.00,9,   -136.3,4,    -4.78,4,-999.000,9,   2111.4,2,   2294.7,2,     2.6, -999.00,-999.0000,-999.000,-999.000
     316N145_5,  I09S,   128,  1,     25, SIH019,2,19950113,1812,-43.0000, 115.0000, 4295, 4622.3,    459.5,   9.1498,  34.6626,2,  34.6643,2,    259.7,2,  9.0988,    254.5,2,     5.03,2,    15.40,2,     0.00,2,     1.11,2, -999.000,9, -999.000,9, -999.000,5,-999.0000,5,  -999.00,9,     40.5,2,     0.94,2,-999.000,9,   2110.4,2,   2292.2,2,     3.0, -999.00,-999.0000,-999.000,-999.000
     316N145_5,  I09S,   128,  1,     24, SIH037,2,19950113,1812,-43.0000, 115.0000, 4295, 5117.2,    509.3,   9.1107,  34.6620,2,  34.6625,2,    259.4,2,  9.0542,    255.0,2,     5.35,2,    15.48,2,     0.01,2,     1.11,2, -999.000,9, -999.000,9, -999.000,5,-999.0000,5,  -999.00,9,     54.7,2,     1.25,2,-999.000,9,   2110.9,2,   2293.7,2,     3.1, -999.00,-999.0000,-999.000,-999.000
     316N145_5,  I09S,   128,  1,     23, SIH033,2,19950113,1812,-43.0000, 115.0000, 4295, 6105.7,    608.7,   8.6429,  34.5901,2,  34.5920,2,    254.7,2,  8.5772,    248.9,2,     6.46,2,    17.38,2,     0.00,2,     1.23,2, -999.000,9, -999.000,9, -999.000,5,-999.0000,5,  -999.00,9,     48.7,2,     1.14,2,-999.000,9,   2118.0,2,   2296.1,2,     3.6, -999.00,-999.0000,-999.000,-999.000
     316N145_5,  I09S,   128,  1,     22, SIH031,2,19950113,1812,-43.0000, 115.0000, 4295, 7116.7,    710.4,   7.9287,  34.4998,2,  34.5017,2,    241.3,2,  7.8553,    241.0,2,     8.85,2,    19.88,2,     0.00,2,     1.38,2, -999.000,9, -999.000,9, -999.000,5,-999.0000,5,  -999.00,9,     35.9,2,     1.18,2,-999.000,9,   2128.6,2,   -999.0,9,     3.7, -999.00,-999.0000,-999.000,-999.000
     316N145_5,  I09S,   128,  1,     21, SIH030,2,19950113,1812,-43.0000, 115.0000, 4295, 8133.9,    812.7,   7.0331,  34.4468,2,  34.4465,2,    218.9,2,  6.9541,    217.3,2,    14.42,2,    23.89,2,     0.00,2,     1.62,2, -999.000,9, -999.000,9, -999.000,5,-999.0000,5,  -999.00,9,      5.0,2,     1.17,2,-999.000,9,   2151.2,2,   2275.2,3,     4.1, -999.00,-999.0000,-999.000,-999.000
     316N145_5,  I09S,   128,  1,     20, SIH028,2,19950113,1812,-43.0000, 115.0000, 4295, 9132.4,    913.1,   5.8334,  34.3704,2,  34.3731,2,    216.8,2,  5.7523,    216.3,2,    20.00,2,    26.86,2,     0.00,2,     1.81,2, -999.000,9, -999.000,9, -999.000,5,-999.0000,5,  -999.00,9,    -17.7,2,     0.99,2,-999.000,9,   2164.1,2,   2293.0,2,     5.0, -999.00,-999.0000,-999.000,-999.000
     316N145_5,  I09S,   128,  1,     19, SIH027,2,19950113,1812,-43.0000, 115.0000, 4295,10123.2,   1012.7,   4.9197,  34.3379,2,  34.3388,2,    213.4,2,  4.8361,    214.5,2,    26.05,2,    28.98,2,     0.00,2,     1.96,2, -999.000,9, -999.000,9, -999.000,5,-999.0000,5,  -999.00,9,    -35.8,2,     0.93,2,-999.000,9,   2178.6,2,   2306.9,2,     4.4, -999.00,-999.0000,-999.000,-999.000
     316N145_5,  I09S,   128,  1,     18, SIH003,2,19950113,1812,-43.0000, 115.0000, 4295,11144.5,   1115.5,   4.1911,  34.3267,2,  34.3262,2,    210.3,2,  4.1045,    212.7,2,    32.43,2,    30.31,2,     0.00,2,     2.05,2, -999.000,9, -999.000,9, -999.000,5,-999.0000,5,  -999.00,9,    -57.9,2,     0.92,2,-999.000,9,   2189.6,6,   2306.4,2,     4.9, -999.00,-999.0000,-999.000,-999.000
     316N145_5,  I09S,   128,  1,     17, SIH024,2,19950113,1812,-43.0000, 115.0000, 4295,12137.7,   1215.4,   3.7087,  34.3482,2,  34.3498,2,    200.6,2,  3.6178,    204.0,2,    40.41,2,    31.81,2,     0.00,2,     2.15,2, -999.000,9, -999.000,9, -999.000,5,-999.0000,5,  -999.00,9,    -73.9,2,     0.69,2,-999.000,9,   2203.6,2,   2300.8,6,     3.5, -999.00,-999.0000,-999.000,-999.000
     316N145_5,  I09S,   128,  1,     16, SIH022,2,19950113,1812,-43.0000, 115.0000, 4295,14150.8,   1417.8,   3.1101,  34.4355,2,  34.4339,2,    181.8,2,  3.0082,    183.0,2,    56.66,2,    33.65,2,     0.00,2,     2.28,2, -999.000,9, -999.000,9, -999.000,5,-999.0000,5,  -999.00,9,   -109.9,2,     0.61,2,-999.000,9,   2229.0,2,   2327.0,2,     3.9, -999.00,-999.0000,-999.000,-999.000
     316N145_5,  I09S,   128,  1,     15, SIH021,2,19950113,1812,-43.0000, 115.0000, 4295,16169.9,   1620.9,   2.8122,  34.5359,2,  34.5323,2,    168.9,2,  2.6966,    168.6,2,    69.89,2,    34.17,2,     0.00,2,     2.32,2, -999.000,9, -999.000,9, -999.000,5,-999.0000,5,  -999.00,9,   -999.0,9,  -999.00,9,-999.000,9,   2249.6,2,   2337.7,2,  -999.0, -999.00,-999.0000,-999.000,-999.000
     316N145_5,  I09S,   128,  1,     14, SIH002,2,19950113,1812,-43.0000, 115.0000, 4295,18178.3,   1823.0,   2.6283,  34.6198,2,  34.6207,2,    167.7,2,  2.4977,    166.5,2,    78.19,2,    33.65,2,     0.00,2,     2.29,2, -999.000,9, -999.000,9, -999.000,5,-999.0000,5,  -999.00,9,   -999.0,9,  -999.00,9,-999.000,9,   2255.9,2,   2344.5,2,  -999.0, -999.00,-999.0000,-999.000,-999.000
     316N145_5,  I09S,   128,  1,     13, SIH018,2,19950113,1812,-43.0000, 115.0000, 4295,20182.1,   2024.5,   2.4930,  34.6718,2,  34.6737,2,    171.4,2,  2.3468,    171.0,2,    82.02,2,    32.70,2,     0.00,2,     2.22,2, -999.000,9, -999.000,9, -999.000,5,-999.0000,5,  -999.00,9,   -999.0,9,  -999.00,9,-999.000,9,   2256.8,2,   2374.2,3,  -999.0, -999.00,-999.0000,-999.000,-999.000
     316N145_5,  I09S,   128,  1,     12, SIH016,2,19950113,1812,-43.0000, 115.0000, 4295,22188.5,   2226.3,   2.3500,  34.7111,2,  34.7117,2,    177.1,2,  2.1880,    177.4,2,    84.89,2,    31.91,2,     0.00,2,     2.16,2, -999.000,9, -999.000,9, -999.000,5,-999.0000,5,  -999.00,9,   -999.0,9,  -999.00,9,-999.000,9,   2255.0,2,   2354.6,2,  -999.0, -999.00,-999.0000,-999.000,-999.000
     316N145_5,  I09S,   128,  1,     11, SIH015,2,19950113,1812,-43.0000, 115.0000, 4295,24225.7,   2431.2,   2.2058,  34.7319,2,  34.7319,2,    180.6,2,  2.0277,    182.0,2,    89.04,2,    31.39,2,     0.00,2,     2.12,2, -999.000,9, -999.000,9, -999.000,5,-999.0000,5,  -999.00,9,   -999.0,9,  -999.00,9,-999.000,9,   2255.6,2,   2359.6,2,  -999.0, -999.00,-999.0000,-999.000,-999.000
     316N145_5,  I09S,   128,  1,     10, SIH013,2,19950113,1812,-43.0000, 115.0000, 4295,27230.6,   2733.5,   1.9615,  34.7486,2,  34.7504,2,    190.4,2,  1.7599,    193.0,2,    90.32,2,    30.45,2,     0.00,2,     2.05,2, -999.000,9, -999.000,9, -999.000,5,-999.0000,5,  -999.00,9,   -999.0,9,  -999.00,9,-999.000,9,   2250.1,2,   2370.4,2,  -999.0, -999.00,-999.0000,-999.000,-999.000
     316N145_5,  I09S,   128,  1,      9, SIH012,2,19950113,1812,-43.0000, 115.0000, 4295,30371.6,   3049.4,   1.6279,  34.7437,2,  34.7439,2,    194.9,2,  1.4031,    198.8,2,    99.89,2,    30.74,2,     0.00,2,     2.07,2, -999.000,9, -999.000,9, -999.000,5,-999.0000,5,  -999.00,9,   -999.0,9,  -999.00,9,-999.000,9,   2250.6,2,   2364.1,2,  -999.0, -999.00,-999.0000,-999.000,-999.000
     316N145_5,  I09S,   128,  1,      8, SIH010,2,19950113,1812,-43.0000, 115.0000, 4295,32395.9,   3253.1,   1.3999,  34.7344,2,  34.7337,2,    198.2,2,  1.1606,    201.6,2,   106.92,2,    31.11,2,     0.00,2,     2.10,2, -999.000,9, -999.000,9, -999.000,5,-999.0000,5,  -999.00,9,   -999.0,9,  -999.00,9,-999.000,9,   2254.0,2,   2362.4,2,  -999.0, -999.00,-999.0000,-999.000,-999.000
     316N145_5,  I09S,   128,  1,      7, SIH009,2,19950113,1812,-43.0000, 115.0000, 4295,34434.8,   3458.2,   1.2147,  34.7261,2,  34.7264,2,    201.2,2,  0.9596,    204.1,2,   112.83,2,    31.44,2,     0.00,2,     2.12,2, -999.000,9, -999.000,9, -999.000,5,-999.0000,5,  -999.00,9,   -999.0,9,  -999.00,9,-999.000,9,   2255.3,2,   2385.4,3,  -999.0, -999.00,-999.0000,-999.000,-999.000
     316N145_5,  I09S,   128,  1,      6, SIH038,2,19950113,1812,-43.0000, 115.0000, 4295,36451.2,   3661.0,   1.0564,  34.7182,2,  34.7191,2,    204.0,2,  0.7850,    206.5,2,   117.79,2,    31.64,2,     0.00,2,     2.14,2, -999.000,9, -999.000,9, -999.000,5,-999.0000,5,  -999.00,9,   -999.0,9,  -999.00,9,-999.000,9,   2256.9,2,   2367.8,2,  -999.0, -999.00,-999.0000,-999.000,-999.000
     316N145_5,  I09S,   128,  1,      5, SIH006,2,19950113,1812,-43.0000, 115.0000, 4295,38488.1,   3865.9,   0.9771,  34.7139,2,  34.7134,2,    206.6,2,  0.6868,    208.0,2,   120.35,2,    31.78,2,     0.00,2,     2.15,2, -999.000,9, -999.000,9, -999.000,5,-999.0000,5,  -999.00,9,   -999.0,9,  -999.00,9,-999.000,9,   2259.2,2,   2377.6,2,  -999.0, -999.00,-999.0000,-999.000,-999.000
     316N145_5,  I09S,   128,  1,      4, SIH004,2,19950113,1812,-43.0000, 115.0000, 4295,40542.4,   4072.5,   0.8961,  34.7094,2,  34.7087,2,    208.2,2,  0.5864,    209.5,2,   122.59,2,    31.92,2,     0.00,2,     2.16,2, -999.000,9, -999.000,9, -999.000,5,-999.0000,5,  -999.00,9,   -999.0,9,  -999.00,9,-999.000,9,   2258.6,2,   2363.8,2,  -999.0, -999.00,-999.0000,-999.000,-999.000
     316N145_5,  I09S,   128,  1,      3, SIH025,2,19950113,1812,-43.0000, 115.0000, 4295,42565.7,   4276.0,   0.8493,  34.7067,2,  34.7077,2,    211.6,2,  0.5191,    210.1,2,   124.19,2,    32.02,2,     0.00,2,     2.17,2, -999.000,9, -999.000,9, -999.000,5,-999.0000,5,  -999.00,9,   -999.0,9,  -999.00,9,-999.000,9,   2256.3,2,   2368.2,2,  -999.0, -999.00,-999.0000,-999.000,-999.000
     316N145_5,  I09S,   128,  1,      2, SIH001,2,19950113,1812,-43.0000, 115.0000, 4295,43478.6,   4367.9,   0.8490,  34.7058,2,  34.7058,2,    211.2,2,  0.5088,    210.3,2,   124.35,2,    32.02,2,     0.00,2,     2.17,2, -999.000,9, -999.000,9, -999.000,5,-999.0000,5,  -999.00,9,   -999.0,9,  -999.00,9,-999.000,9,   2260.0,2,   2382.3,6,  -999.0, -999.00,-999.0000,-999.000,-999.000
     316N145_5,  I09S,   128,  1,      1, SIH036,2,19950113,1812,-43.0000, 115.0000, 4295,43992.7,   4419.6,   0.8437,  34.7057,2,  34.7058,2,    212.3,2,  0.4979,    210.8,2,   124.44,2,    32.05,2,     0.00,2,     2.17,2, -999.000,9, -999.000,9, -999.000,5,-999.0000,5,  -999.00,9,   -999.0,9,  -999.00,9,-999.000,9,   2261.2,6,   2373.1,2,  -999.0, -999.00,-999.0000,-999.000,-999.000