BOTTLE,20090521WHPSIOdm
EXPOCODE,SECT_ID,STNNBR,CASTNO,SAMPNO,BTLNBR,BTLNBR_FLAG_W,DATE,TIME,LATITUDE,LONGITUDE,DEPTH,CTDRAW,CTDPRS,CTDTMP,CTDSAL,CTDSAL_FLAG_W,SALNTY,SALNTY_FLAG_W,CTDOXY,CTDOXY_FLAG_W,THETA,OXYGEN,OXYGEN_FLAG_W,SILCAT,SILCAT_FLAG_W,NITRAT,NITRAT_FLAG_W,NITRIT,NITRIT_FLAG_W,PHSPHT,PHSPHT_FLAG_W,CFC-11,CFC-11_FLAG_W,CFC-12,CFC-12_FLAG_W,TRITUM,TRITUM_FLAG_W,HELIUM,HELIUM_FLAG_W,DELHE3,DELHE3_FLAG_W,DELC14,DELC14_FLAG_W,DELC13,DELC13_FLAG_W,NEON,NEON_FLAG_W,TCARBN,TCARBN_FLAG_W,ALKALI,ALKALI_FLAG_W,C14ERR,DELHER,HELIER,NEONER,TRITER
,,,,,,,,,,,,,DBAR,IPTS-68,PSS-78,,PSS-78,,UMOL/KG,,IPTS-68,UMOL/KG,,UMOL/KG,,UMOL/KG,,UMOL/KG,,UMOL/KG,,PMOL/KG,,PMOL/KG,,TU,,NMOL/KG,,PERCNT,,/MILLE,,/MILLE,,NMOL/KG,,UMOL/KG,,UMOL/KG,,/MILLE,PERCNT,NMOL/KG,NMOL/KG,TU
     316N145_5,  I09S,   134,  1,     36, SI9446,2,19950115,1132,-39.6972, 115.0055, 4685,  194.8,     14.4,  14.4420,  34.8319,2,  34.8292,2,    278.7,2, 14.4399,    269.9,2,     0.38,2,     4.96,2,     0.11,2,     0.50,2, -999.000,9, -999.000,9, -999.000,5,-999.0000,5,  -999.00,9,     70.5,2,  -999.00,9,-999.000,9,   2054.5,6,   2304.6,2,     4.4, -999.00,-999.0000,-999.000,-999.000
     316N145_5,  I09S,   134,  1,     35, SIH032,2,19950115,1132,-39.6972, 115.0055, 4685,  388.2,     33.9,  13.7755,  34.8273,2,  34.8259,2,    281.4,2, 13.7707,    273.4,2,     0.37,2,     5.29,2,     0.12,2,     0.52,2, -999.000,9, -999.000,9, -999.000,5,-999.0000,5,  -999.00,9,     68.1,2,     1.71,2,-999.000,9,   2059.3,2,   2291.8,2,     3.4, -999.00,-999.0000,-999.000,-999.000
     316N145_5,  I09S,   134,  1,     34, SIH029,2,19950115,1132,-39.6972, 115.0055, 4685,  635.7,     58.7,  12.8968,  34.9528,2,  34.9681,2,    263.1,2, 12.8888,    262.6,2,     1.48,2,     5.45,2,     0.15,2,     0.56,2, -999.000,9, -999.000,9, -999.000,5,-999.0000,5,  -999.00,9,     70.7,6,     1.62,6,-999.000,9,   2074.8,2,   2311.0,2,     2.3, -999.00,-999.0000,-999.000,-999.000
     316N145_5,  I09S,   134,  1,     33, SIH026,2,19950115,1132,-39.6972, 115.0055, 4685,  888.6,     84.2,  11.6853,  34.8745,2,  34.8953,2,    269.6,2, 11.6746,    265.9,2,     2.10,2,     6.91,2,     0.22,2,     0.66,2, -999.000,9, -999.000,9, -999.000,5,-999.0000,5,  -999.00,9,     65.5,2,     1.51,2,-999.000,9,   2082.2,2,   2307.4,6,     3.0, -999.00,-999.0000,-999.000,-999.000
     316N145_5,  I09S,   134,  1,     32, SIH023,2,19950115,1132,-39.6972, 115.0055, 4685, 1141.6,    109.6,  10.7102,  34.8437,2,  34.8422,2,    265.3,2, 10.6970,    265.8,2,     2.40,2,     8.64,2,     0.41,2,     0.76,2, -999.000,9, -999.000,9, -999.000,5,-999.0000,5,  -999.00,9,     68.1,2,     1.11,2,-999.000,9,   2090.4,2,   2330.2,3,     3.2, -999.00,-999.0000,-999.000,-999.000
     316N145_5,  I09S,   134,  1,     31, SIH020,2,19950115,1132,-39.6972, 115.0055, 4685, 1641.7,    159.9,  10.0482,  34.7657,2,  34.7642,2,    262.5,2, 10.0296,    262.3,2,     3.03,2,    11.36,2,     0.04,2,     0.89,2, -999.000,9, -999.000,9, -999.000,5,-999.0000,5,  -999.00,9,     81.9,2,     1.35,2,-999.000,9,   2097.7,2,   2297.1,2,     4.9, -999.00,-999.0000,-999.000,-999.000
     316N145_5,  I09S,   134,  1,     30, SIH017,2,19950115,1132,-39.6972, 115.0055, 4685, 2137.3,    209.7,   9.7499,  34.7286,2,  34.7300,2,    260.5,2,  9.7261,    260.6,2,     3.34,2,    12.38,2,     0.01,2,     0.95,2, -999.000,9, -999.000,9, -999.000,5,-999.0000,5,  -999.00,9,     70.3,2,     1.42,2,-999.000,9,   2100.9,2,   2278.2,2,     3.8, -999.00,-999.0000,-999.000,-999.000
     316N145_5,  I09S,   134,  1,     29, SIH014,2,19950115,1132,-39.6972, 115.0055, 4685, 2636.4,    259.9,   9.5977,  34.7089,2,  34.7077,2,    260.1,2,  9.5683,    259.1,2,     3.66,2,    13.05,2,     0.01,2,     0.99,2, -999.000,9, -999.000,9, -999.000,5,-999.0000,5,  -999.00,9,     49.8,2,     1.41,2,-999.000,9,   2101.2,2,   2293.8,2,     3.0, -999.00,-999.0000,-999.000,-999.000
     316N145_5,  I09S,   134,  1,     28, SIH011,2,19950115,1132,-39.6972, 115.0055, 4685, 3139.8,    310.6,   9.5129,  34.7014,2,  34.7005,2,    263.0,2,  9.4779,    259.6,2,     4.11,2,    13.52,2,     0.01,2,     1.01,2, -999.000,9, -999.000,9, -999.000,5,-999.0000,5,  -999.00,9,     54.2,2,     1.38,2,-999.000,9,   2103.9,2,   2292.9,2,     3.3, -999.00,-999.0000,-999.000,-999.000
     316N145_5,  I09S,   134,  1,     27, SIH008,2,19950115,1132,-39.6972, 115.0055, 4685, 3634.8,    360.3,   9.5472,  34.7162,2,  34.7148,2,    267.9,2,  9.5064,    262.7,2,     3.95,2,    13.21,2,     0.01,2,     1.00,2, -999.000,9, -999.000,9, -999.000,5,-999.0000,5,  -999.00,9,     63.5,2,     1.35,2,-999.000,9,   2101.3,2,   2321.1,3,     2.9, -999.00,-999.0000,-999.000,-999.000
     316N145_5,  I09S,   134,  1,     26, SIH005,2,19950115,1132,-39.6972, 115.0055, 4685, 4143.6,    411.5,   9.4792,  34.7076,2,  34.7062,2,    263.5,2,  9.4326,    261.4,2,     4.11,2,    13.59,2,     0.01,2,     1.02,2, -999.000,9, -999.000,9, -999.000,5,-999.0000,5,  -999.00,9,     60.5,2,     1.35,2,-999.000,9,   2101.0,2,   2296.2,2,     3.9, -999.00,-999.0000,-999.000,-999.000
     316N145_5,  I09S,   134,  1,     25, SIH019,2,19950115,1132,-39.6972, 115.0055, 4685, 4634.5,    460.9,   9.4347,  34.7030,2,  34.7019,2,    260.6,2,  9.3825,    260.4,2,     4.25,2,    13.91,2,     0.01,2,     1.03,2, -999.000,9, -999.000,9, -999.000,5,-999.0000,5,  -999.00,9,     49.1,2,     1.33,2,-999.000,9,   2104.8,2,   2300.7,2,     3.0, -999.00,-999.0000,-999.000,-999.000
     316N145_5,  I09S,   134,  1,     24, SIH037,2,19950115,1132,-39.6972, 115.0055, 4685, 6138.1,    612.1,   9.0277,  34.6465,2,  34.6494,2,    253.8,2,  8.9598,    251.5,2,     5.36,2,    15.96,2,     0.00,2,     1.15,2, -999.000,9, -999.000,9, -999.000,5,-999.0000,5,  -999.00,9,     42.8,2,     1.32,2,-999.000,9,   2112.2,2,   2311.4,2,     7.6, -999.00,-999.0000,-999.000,-999.000
     316N145_5,  I09S,   134,  1,     23, SIH033,2,19950115,1132,-39.6972, 115.0055, 4685, 7128.0,    711.6,   8.2777,  34.5497,2,-999.0000,9,    233.1,2,  8.2024,    228.8,2,     8.36,2,    19.95,2,     0.00,2,     1.39,2, -999.000,9, -999.000,9, -999.000,5,-999.0000,5,  -999.00,9,     32.0,2,     1.21,2,-999.000,9,   2129.2,2,   2292.0,2,     3.9, -999.00,-999.0000,-999.000,-999.000
     316N145_5,  I09S,   134,  1,     22, SIH031,2,19950115,1132,-39.6972, 115.0055, 4685, 8126.4,    812.0,   7.3436,  34.4829,2,  34.4828,2,    207.1,2,  7.2627,    206.1,2,    13.75,2,    24.04,2,     0.00,2,     1.64,2, -999.000,9, -999.000,9, -999.000,5,-999.0000,5,  -999.00,9,    -14.1,2,     1.07,2,-999.000,9,   2149.4,2,   2289.4,2,     3.2, -999.00,-999.0000,-999.000,-999.000
     316N145_5,  I09S,   134,  1,     21, SIH030,2,19950115,1132,-39.6972, 115.0055, 4685, 9113.8,    911.3,   6.2042,  34.4196,2,  34.4200,2,    203.3,2,  6.1207,    199.9,2,    20.57,2,    27.16,2,     0.00,2,     1.84,2, -999.000,9, -999.000,9, -999.000,5,-999.0000,5,  -999.00,9,    -48.0,2,     0.98,2,-999.000,9,   2168.7,2,   2274.8,2,     2.9, -999.00,-999.0000,-999.000,-999.000
     316N145_5,  I09S,   134,  1,     20, SIH028,2,19950115,1132,-39.6972, 115.0055, 4685,10125.5,   1013.1,   5.1211,  34.3739,2,  34.3753,2,    200.3,2,  5.0359,    200.9,2,    28.02,2,    29.37,2,     0.00,2,     1.99,2, -999.000,9, -999.000,9, -999.000,5,-999.0000,5,  -999.00,9,    -71.4,2,     0.46,2,-999.000,9,   2178.2,2,   2303.3,2,     2.8, -999.00,-999.0000,-999.000,-999.000
     316N145_5,  I09S,   134,  1,     19, SIH027,2,19950115,1132,-39.6972, 115.0055, 4685,11127.4,   1113.8,   4.2586,  34.3606,2,  34.3615,2,    198.4,2,  4.1714,    199.0,2,    36.11,2,    31.00,2,     0.00,2,     2.11,2, -999.000,9, -999.000,9, -999.000,5,-999.0000,5,  -999.00,9,    -97.3,2,     0.14,2,-999.000,9,   2196.0,2,   2303.4,2,     3.7, -999.00,-999.0000,-999.000,-999.000
     316N145_5,  I09S,   134,  1,     18, SIH003,2,19950115,1132,-39.6972, 115.0055, 4685,12121.4,   1213.8,   3.6839,  34.3856,2,  34.3864,2,    189.2,2,  3.5933,    190.7,2,    46.11,2,    32.45,2,     0.00,2,     2.21,2, -999.000,9, -999.000,9, -999.000,5,-999.0000,5,  -999.00,9,   -112.9,2,     0.02,2,-999.000,9,   2211.1,6,   2330.5,2,     3.7, -999.00,-999.0000,-999.000,-999.000
     316N145_5,  I09S,   134,  1,     17, SIH024,2,19950115,1132,-39.6972, 115.0055, 4685,14142.8,   1417.1,   3.0639,  34.4747,2,  34.4769,2,    175.1,2,  2.9625,    173.6,2,    62.60,2,    33.93,2,     0.00,2,     2.33,2, -999.000,9, -999.000,9, -999.000,5,-999.0000,5,  -999.00,9,   -125.4,2,     0.44,2,-999.000,9,   2237.6,2,   2331.4,6,     2.7, -999.00,-999.0000,-999.000,-999.000
     316N145_5,  I09S,   134,  1,     16, SIH022,2,19950115,1132,-39.6972, 115.0055, 4685,16143.5,   1618.4,   2.7923,  34.5657,2,  34.5671,2,    166.6,2,  2.6771,    164.4,2,    73.69,2,    34.18,2,     0.00,2,     2.34,2, -999.000,9, -999.000,9, -999.000,5,-999.0000,5,  -999.00,9,   -136.2,2,     0.43,2,-999.000,9,   2251.3,2,   2351.9,2,     2.7, -999.00,-999.0000,-999.000,-999.000
     316N145_5,  I09S,   134,  1,     15, SIH021,2,19950115,1132,-39.6972, 115.0055, 4685,18254.6,   1830.7,   2.6132,  34.6427,2,  34.6415,2,    165.7,2,  2.4821,    163.4,2,    82.57,2,    33.58,2,     0.00,2,     2.30,2, -999.000,9, -999.000,9, -999.000,5,-999.0000,5,  -999.00,9,   -149.0,2,     0.37,2,-999.000,9,   2260.6,2,   2355.2,2,     2.7, -999.00,-999.0000,-999.000,-999.000
     316N145_5,  I09S,   134,  1,     14, SIH002,2,19950115,1132,-39.6972, 115.0055, 4685,20271.3,   2033.6,   2.4665,  34.6842,2,  34.6861,2,    167.4,2,  2.3199,    165.8,2,    88.28,2,    33.03,2,     0.00,2,     2.27,2, -999.000,9, -999.000,9, -999.000,5,-999.0000,5,  -999.00,9,   -155.7,2,     0.35,2,-999.000,9,   2263.7,2,   2359.3,2,     2.9, -999.00,-999.0000,-999.000,-999.000
     316N145_5,  I09S,   134,  1,     13, SIH018,2,19950115,1132,-39.6972, 115.0055, 4685,22277.2,   2235.3,   2.3200,  34.7139,2,  34.7129,2,    172.6,2,  2.1578,    171.2,2,    92.24,2,    32.48,2,     0.00,2,     2.23,2, -999.000,9, -999.000,9, -999.000,5,-999.0000,5,  -999.00,9,   -160.1,2,     0.35,2,-999.000,9,   2263.3,2,   2374.4,2,     2.7, -999.00,-999.0000,-999.000,-999.000
     316N145_5,  I09S,   134,  1,     12, SIH016,2,19950115,1132,-39.6972, 115.0055, 4685,24284.5,   2437.3,   2.1807,  34.7290,2,  34.7270,2,    177.5,2,  2.0025,    176.2,2,    94.60,2,    32.02,2,     0.00,2,     2.19,2, -999.000,9, -999.000,9, -999.000,5,-999.0000,5,  -999.00,9,   -170.2,2,     0.33,2,-999.000,9,   2262.3,2,   2365.8,2,     3.5, -999.00,-999.0000,-999.000,-999.000
     316N145_5,  I09S,   134,  1,     11, SIH015,2,19950115,1132,-39.6972, 115.0055, 4685,27329.4,   2743.5,   1.9520,  34.7436,2,  34.7431,2,    187.5,2,  1.7496,    189.2,2,    94.91,2,    31.05,2,     0.00,2,     2.11,2, -999.000,9, -999.000,9, -999.000,5,-999.0000,5,  -999.00,9,   -169.1,2,     0.45,2,-999.000,9,   2253.7,2,   2362.1,2,     3.1, -999.00,-999.0000,-999.000,-999.000
     316N145_5,  I09S,   134,  1,     10, SI9426,2,19950115,1132,-39.6972, 115.0055, 4685,30354.8,   3047.8,   1.6731,  34.7426,2,  34.7421,2,    192.8,2,  1.4475,    195.8,2,   100.14,2,    30.92,2,     0.00,2,     2.10,2, -999.000,9, -999.000,9, -999.000,5,-999.0000,5,  -999.00,9,   -158.2,2,     0.45,2,-999.000,9,   2254.1,2,   2348.4,3,     5.3, -999.00,-999.0000,-999.000,-999.000
     316N145_5,  I09S,   134,  1,      9, SIH012,2,19950115,1132,-39.6972, 115.0055, 4685,33294.2,   3343.5,   1.4098,  34.7330,2,  34.7339,2,    198.4,2,  1.1614,    199.4,2,   108.23,2,    31.33,2,     0.00,2,     2.13,2, -999.000,9, -999.000,9, -999.000,5,-999.0000,5,  -999.00,9,   -145.1,2,     0.44,2,-999.000,9,   2257.3,2,   2374.2,2,     3.7, -999.00,-999.0000,-999.000,-999.000
     316N145_5,  I09S,   134,  1,      8, SIH010,2,19950115,1132,-39.6972, 115.0055, 4685,36338.5,   3649.7,   1.1339,  34.7213,2,  34.7211,2,    202.5,2,  0.8616,    203.3,2,   116.00,2,    31.72,2,     0.00,2,     2.15,2, -999.000,9, -999.000,9, -999.000,5,-999.0000,5,  -999.00,9,   -165.1,2,    -0.20,2,-999.000,9,   2258.8,2,   2368.6,2,     3.9, -999.00,-999.0000,-999.000,-999.000
     316N145_5,  I09S,   134,  1,      7, SIH009,2,19950115,1132,-39.6972, 115.0055, 4685,39380.6,   3955.7,   0.9250,  34.7117,2,  34.7095,2,    206.7,2,  0.6267,    207.4,2,   121.23,2,    32.06,2,     0.00,2,     2.17,2, -999.000,9, -999.000,9, -999.000,5,-999.0000,5,  -999.00,9,   -182.5,2,    -0.15,2,-999.000,9,   2261.1,2,   2378.5,2,     4.9, -999.00,-999.0000,-999.000,-999.000
     316N145_5,  I09S,   134,  1,      6, SIH038,2,19950115,1132,-39.6972, 115.0055, 4685,42433.7,   4262.9,   0.8111,  34.7047,2,  34.7044,2,    209.7,2,  0.4835,    210.1,2,   123.60,2,    32.18,2,     0.00,2,     2.18,2, -999.000,9, -999.000,9, -999.000,5,-999.0000,5,  -999.00,9,   -180.6,2,    -0.55,2,-999.000,9,   2260.1,2,   2365.1,2,     6.8, -999.00,-999.0000,-999.000,-999.000
     316N145_5,  I09S,   134,  1,      5, SIH006,2,19950115,1132,-39.6972, 115.0055, 4685,44488.8,   4469.6,   0.8059,  34.7040,2,  34.7019,2,    212.6,2,  0.4558,    210.3,2,   124.39,2,    32.15,2,     0.00,2,     2.18,2, -999.000,9, -999.000,9, -999.000,5,-999.0000,5,  -999.00,9,   -135.1,3,     0.43,2,-999.000,9,   2259.1,2,   2368.9,2,     4.2, -999.00,-999.0000,-999.000,-999.000
     316N145_5,  I09S,   134,  1,      3, SIH025,2,19950115,1132,-39.6972, 115.0055, 4685,46011.8,   4622.8,   0.8129,  34.7036,2,  34.7026,2,    213.4,2,  0.4454,    210.6,2,   125.01,2,    32.18,2,     0.00,2,     2.18,2, -999.000,9, -999.000,9, -999.000,5,-999.0000,5,  -999.00,9,   -170.5,2,    -0.13,2,-999.000,9,   2260.6,6,   2372.1,2,     3.4, -999.00,-999.0000,-999.000,-999.000
     316N145_5,  I09S,   134,  1,      4, SIH004,2,19950115,1132,-39.6972, 115.0055, 4685,46013.5,   4623.0,   0.8126,  34.7037,2,  34.7022,2,    213.6,2,  0.4451,    210.5,2,   124.86,2,    32.16,2,     0.00,2,     2.18,2, -999.000,9, -999.000,9, -999.000,5,-999.0000,5,  -999.00,9,   -183.3,2,    -0.61,2,-999.000,9,   -999.0,9,   2367.0,2,     2.7, -999.00,-999.0000,-999.000,-999.000
     316N145_5,  I09S,   134,  1,      2, SIH001,2,19950115,1132,-39.6972, 115.0055, 4685,47201.3,   4742.4,   0.8216,  34.7035,2,  34.7003,3,    213.9,2,  0.4402,    211.0,2,   124.69,2,    32.15,2,     0.00,2,     2.18,2, -999.000,9, -999.000,9, -999.000,5,-999.0000,5,  -999.00,9,   -161.9,2,     0.22,2,-999.000,9,   2261.1,2,   2388.6,3,     3.4, -999.00,-999.0000,-999.000,-999.000
     316N145_5,  I09S,   134,  1,      1, SIH036,2,19950115,1132,-39.6972, 115.0055, 4685,47714.5,   4794.1,   0.8275,  34.7039,2,  34.6971,4,    215.5,2,  0.4400,    211.6,2,   124.74,2,    32.05,2,     0.00,2,     2.18,2, -999.000,9, -999.000,9, -999.000,5,-999.0000,5,  -999.00,9,   -161.2,2,     0.35,2,-999.000,9,   2260.9,6,   2371.6,2,     3.4, -999.00,-999.0000,-999.000,-999.000