BOTTLE,20090521WHPSIOdm
EXPOCODE,SECT_ID,STNNBR,CASTNO,SAMPNO,BTLNBR,BTLNBR_FLAG_W,DATE,TIME,LATITUDE,LONGITUDE,DEPTH,CTDRAW,CTDPRS,CTDTMP,CTDSAL,CTDSAL_FLAG_W,SALNTY,SALNTY_FLAG_W,CTDOXY,CTDOXY_FLAG_W,THETA,OXYGEN,OXYGEN_FLAG_W,SILCAT,SILCAT_FLAG_W,NITRAT,NITRAT_FLAG_W,NITRIT,NITRIT_FLAG_W,PHSPHT,PHSPHT_FLAG_W,CFC-11,CFC-11_FLAG_W,CFC-12,CFC-12_FLAG_W,TRITUM,TRITUM_FLAG_W,HELIUM,HELIUM_FLAG_W,DELHE3,DELHE3_FLAG_W,DELC14,DELC14_FLAG_W,DELC13,DELC13_FLAG_W,NEON,NEON_FLAG_W,TCARBN,TCARBN_FLAG_W,ALKALI,ALKALI_FLAG_W,C14ERR,DELHER,HELIER,NEONER,TRITER
,,,,,,,,,,,,,DBAR,IPTS-68,PSS-78,,PSS-78,,UMOL/KG,,IPTS-68,UMOL/KG,,UMOL/KG,,UMOL/KG,,UMOL/KG,,UMOL/KG,,PMOL/KG,,PMOL/KG,,TU,,NMOL/KG,,PERCNT,,/MILLE,,/MILLE,,NMOL/KG,,UMOL/KG,,UMOL/KG,,/MILLE,PERCNT,NMOL/KG,NMOL/KG,TU
     316N145_5,  I08S,    42,  1,     36, SIH035,2,19941216,1948,-47.9945,  92.3528, 3440,  164.1,     11.1,   8.0896,  34.3939,2,  34.3943,2,    297.1,2,  8.0885,    292.1,2,     1.29,2,    14.25,2,     0.29,2,     1.07,2,    4.163,2,    2.115,2,    0.524,2,   1.7690,2,    -1.79,2,   -999.0,9,  -999.00,9,   7.606,2,   -999.0,9,   -999.0,9,  -999.0,    0.14,  0.0040,   0.033,   0.009
     316N145_5,  I08S,    42,  1,     35, SIH032,2,19941216,1948,-47.9945,  92.3528, 3440,  372.4,     32.0,   8.0950,  34.3950,2,  34.3943,2,    293.8,2,  8.0918,    291.9,2,     1.29,2,    14.25,2,     0.29,2,     1.07,2,    4.164,2,    2.104,2, -999.000,5,-999.0000,5,  -999.00,9,   -999.0,9,  -999.00,9,-999.000,9,   -999.0,9,   -999.0,9,  -999.0, -999.00,-999.0000,-999.000,-999.000
     316N145_5,  I08S,    42,  1,     34, SIH029,7,19941216,1948,-47.9945,  92.3528, 3440,  613.9,     56.3,   8.1389,  34.4092,2,-999.0000,9,    291.2,3,  8.1333,   -999.0,9,  -999.00,9,  -999.00,9,  -999.00,9,  -999.00,9, -999.000,9, -999.000,9,    0.000,5,   1.7970,4,    -1.50,4,   -999.0,9,  -999.00,9,   7.710,4,   -999.0,9,   -999.0,9,  -999.0,    0.14,  0.0040,   0.031,   0.000
     316N145_5,  I08S,    42,  1,     33, SIH026,2,19941216,1948,-47.9945,  92.3528, 3440,  850.4,     80.1,   8.1575,  34.4232,2,  34.4226,2,    287.7,2,  8.1494,    286.8,2,     2.59,2,    14.67,2,     0.30,2,     1.11,2,    4.086,2,    2.085,2,    0.558,2,-999.0000,5,  -999.00,9,   -999.0,9,  -999.00,9,-999.000,9,   -999.0,9,   -999.0,9,  -999.0, -999.00,-999.0000,-999.000,   0.009
     316N145_5,  I08S,    42,  1,     32, SIH023,2,19941216,1948,-47.9945,  92.3528, 3440, 1118.5,    107.0,   8.2048,  34.4394,2,  34.4389,2,    289.6,2,  8.1939,    286.9,2,     2.59,2,    14.51,2,     0.30,2,     1.11,2, -999.000,9, -999.000,9,    0.548,2,   1.7700,2,    -1.45,2,   -999.0,9,  -999.00,9,   7.567,2,   -999.0,9,   -999.0,9,  -999.0,    0.16,  0.0020,   0.044,   0.009
     316N145_5,  I08S,    42,  1,     31, SIH020,2,19941216,1948,-47.9945,  92.3528, 3440, 1605.0,    155.9,   8.2425,  34.4568,2,  34.4583,2,    284.7,2,  8.2266,    287.5,2,     2.27,2,    14.31,2,     0.29,2,     1.09,2,    4.092,2,    2.099,2, -999.000,5,-999.0000,5,  -999.00,9,   -999.0,9,  -999.00,9,-999.000,9,   -999.0,9,   -999.0,9,  -999.0, -999.00,-999.0000,-999.000,-999.000
     316N145_5,  I08S,    42,  1,     30, SIH017,2,19941216,1948,-47.9945,  92.3528, 3440, 2115.2,    207.2,   8.2837,  34.4993,2,  34.4997,2,    277.6,2,  8.2625,    277.4,2,     4.85,2,    15.73,2,     0.16,2,     1.16,2,    4.022,2,    2.065,2,    0.471,2,   1.7590,2,    -1.71,2,   -999.0,9,  -999.00,9,   7.534,2,   -999.0,9,   -999.0,9,  -999.0,    0.14,  0.0040,   0.040,   0.008
     316N145_5,  I08S,    42,  1,     29, SIH014,2,19941216,1948,-47.9945,  92.3528, 3440, 2601.5,    256.1,   8.3824,  34.5297,2,  34.5300,2,    277.3,2,  8.3559,    274.3,2,     5.34,2,    15.92,2,     0.02,2,     1.16,2, -999.000,9, -999.000,9, -999.000,5,-999.0000,5,  -999.00,9,   -999.0,9,  -999.00,9,-999.000,9,   -999.0,9,   -999.0,9,  -999.0, -999.00,-999.0000,-999.000,-999.000
     316N145_5,  I08S,    42,  1,     28, SIH011,2,19941216,1948,-47.9945,  92.3528, 3440, 3087.9,    305.0,   8.2774,  34.5154,2,  34.5150,2,    279.4,2,  8.2459,    272.7,2,     5.66,2,    16.35,2,     0.02,2,     1.19,2, -999.000,9, -999.000,9,    0.502,2,   1.8030,2,    -1.22,2,   -999.0,9,  -999.00,9,   7.695,2,   -999.0,9,   -999.0,9,  -999.0,    0.15,  0.0020,   0.048,   0.008
     316N145_5,  I08S,    42,  1,     27, SIH008,2,19941216,1948,-47.9945,  92.3528, 3440, 3574.6,    354.0,   7.4954,  34.4042,2,  34.4047,2,    271.4,2,  7.4609,    262.5,2,     7.61,2,    19.26,2,     0.01,2,     1.37,2,    3.628,2,    1.817,2, -999.000,5,-999.0000,5,  -999.00,9,   -999.0,9,  -999.00,9,-999.000,9,   -999.0,9,   -999.0,9,  -999.0, -999.00,-999.0000,-999.000,-999.000
     316N145_5,  I08S,    42,  1,     26, SIH005,2,19941216,1948,-47.9945,  92.3528, 3440, 4067.1,    403.5,   7.2403,  34.4162,2,  34.4186,2,    245.6,2,  7.2016,    241.6,2,    10.35,2,    21.57,2,     0.02,2,     1.51,2,    3.030,2,    1.495,2,    0.347,2,   1.7760,2,     0.11,2,   -999.0,9,  -999.00,9,   7.656,2,   -999.0,9,   -999.0,9,  -999.0,    0.14,  0.0040,   0.048,   0.007
     316N145_5,  I08S,    42,  1,     25, SIH019,2,19941216,1948,-47.9945,  92.3528, 3440, 4601.6,    457.3,   6.6258,  34.3780,2,  34.3782,2,    241.9,2,  6.5839,    237.0,2,    12.94,2,    23.39,2,     0.01,2,     1.61,2, -999.000,9, -999.000,9,    0.367,2,   1.8060,2,     0.49,2,   -999.0,9,  -999.00,9,   7.728,2,   -999.0,9,   -999.0,9,  -999.0,    0.15,  0.0020,   0.051,   0.007
     316N145_5,  I08S,    42,  1,     24, SIH037,2,19941216,1948,-47.9945,  92.3528, 3440, 5061.2,    503.5,   6.2084,  34.3662,2,  34.3668,2,    228.3,2,  6.1637,    228.4,2,    15.86,2,    25.12,2,     0.01,2,     1.72,2,    2.658,2,    1.309,2,    0.224,2,   1.7870,2,     0.39,2,   -999.0,9,  -999.00,9,   7.737,2,   -999.0,9,   -999.0,9,  -999.0,    0.14,  0.0020,   0.051,   0.006
     316N145_5,  I08S,    42,  1,     23, SIH033,2,19941216,1948,-47.9945,  92.3528, 3440, 6098.3,    607.8,   5.2955,  34.3408,2,  34.3401,2,    223.2,2,  5.2454,    222.4,2,    21.35,2,    27.70,2,     0.00,2,     1.89,2,    2.244,2,    1.083,2,    0.296,2,   1.7940,2,     1.27,2,   -999.0,9,  -999.00,9,   7.761,2,   -999.0,9,   -999.0,9,  -999.0,    0.11,  0.0020,   0.023,   0.007
     316N145_5,  I08S,    42,  1,     22, SIH031,2,19941216,1948,-47.9945,  92.3528, 3440, 7075.3,    706.1,   4.5400,  34.3195,2,  34.3199,2,    220.6,2,  4.4854,    221.0,2,    27.02,2,    29.47,2,     0.00,2,     2.00,2, -999.000,9, -999.000,9, -999.000,5,-999.0000,5,  -999.00,9,   -999.0,9,  -999.00,9,-999.000,9,   -999.0,9,   -999.0,9,  -999.0, -999.00,-999.0000,-999.000,-999.000
     316N145_5,  I08S,    42,  1,     21, SIH030,2,19941216,1948,-47.9945,  92.3528, 3440, 8128.6,    812.0,   3.8662,  34.3254,2,  34.3242,2,    214.9,2,  3.8070,    214.9,2,    34.79,2,    31.19,2,     0.00,2,     2.12,2, -999.000,9, -999.000,9,    0.313,2,   1.8110,2,     2.65,2,   -999.0,9,  -999.00,9,   7.880,2,   -999.0,9,   -999.0,9,  -999.0,    0.14,  0.0020,   0.058,   0.006
     316N145_5,  I08S,    42,  1,     20, SIH028,2,19941216,1948,-47.9945,  92.3528, 3440, 9144.6,    914.2,   3.1994,  34.3040,2,  34.3042,2,    214.2,2,  3.1369,    217.7,2,    39.65,2,    32.25,2,     0.00,2,     2.19,2,    1.837,2,    0.857,2, -999.000,5,-999.0000,5,  -999.00,9,   -999.0,9,  -999.00,9,-999.000,9,   -999.0,9,   -999.0,9,  -999.0, -999.00,-999.0000,-999.000,-999.000
     316N145_5,  I08S,    42,  1,     19, SIH027,2,19941216,1948,-47.9945,  92.3528, 3440,10142.1,   1014.5,   3.2589,  34.3918,2,  34.3939,2,    194.5,2,  3.1880,    196.5,2,    48.71,2,    33.11,2,     0.00,2,     2.25,2,    1.001,2,    0.470,2,    0.193,2,-999.0000,5,  -999.00,9,   -999.0,9,  -999.00,9,-999.000,9,   -999.0,9,   -999.0,9,  -999.0, -999.00,-999.0000,-999.000,   0.005
     316N145_5,  I08S,    42,  1,     18, SIH003,2,19941216,1948,-47.9945,  92.3528, 3440,11152.9,   1116.2,   3.0343,  34.4373,2,  34.4373,2,    189.0,2,  2.9573,    188.3,2,    55.34,2,    33.70,2,     0.00,2,     2.29,2,    0.740,2,    0.377,2, -999.000,5,-999.0000,5,  -999.00,9,   -999.0,9,  -999.00,9,-999.000,9,   -999.0,9,   -999.0,9,  -999.0, -999.00,-999.0000,-999.000,-999.000
     316N145_5,  I08S,    42,  1,     17, SIH024,2,19941216,1948,-47.9945,  92.3528, 3440,12116.0,   1213.1,   2.9225,  34.4841,2,  34.4846,2,    182.4,2,  2.8389,    182.3,2,    60.52,2,    33.91,2,     0.00,2,     2.31,2, -999.000,9, -999.000,9,    0.175,2,   1.8530,2,     6.55,2,   -999.0,9,  -999.00,9,   8.029,2,   -999.0,9,   -999.0,9,  -999.0,    0.14,  0.0020,   0.043,   0.005
     316N145_5,  I08S,    42,  1,     16, SIH022,2,19941216,1948,-47.9945,  92.3528, 3440,13176.8,   1319.8,   2.7702,  34.5254,2,  34.5250,2,    178.4,2,  2.6796,    178.5,2,    64.73,2,    33.96,2,     0.00,2,     2.31,2,    0.416,2,    0.204,2, -999.000,5,-999.0000,5,  -999.00,9,   -999.0,9,  -999.00,9,-999.000,9,   -999.0,9,   -999.0,9,  -999.0, -999.00,-999.0000,-999.000,-999.000
     316N145_5,  I08S,    42,  1,     15, SIH021,2,19941216,1948,-47.9945,  92.3528, 3440,14206.9,   1423.4,   2.6786,  34.5693,2,  34.5708,2,    177.2,2,  2.5806,    177.1,2,    67.97,2,    33.68,2,     0.00,2,     2.28,2, -999.000,9, -999.000,9,    0.049,2,   1.8310,2,     7.88,2,   -999.0,9,  -999.00,9,   7.942,2,   -999.0,9,   -999.0,9,  -999.0,    0.11,  0.0020,   0.040,   0.005
     316N145_5,  I08S,    42,  1,     14, SIH002,2,19941216,1948,-47.9945,  92.3528, 3440,15197.6,   1523.0,   2.6038,  34.6135,2,  34.6140,2,    177.8,2,  2.4985,    177.5,2,    70.72,2,    33.19,2,     0.00,2,     2.25,2,    0.200,2,    0.094,2, -999.000,5,-999.0000,5,  -999.00,9,   -999.0,9,  -999.00,9,-999.000,9,   -999.0,9,   -999.0,9,  -999.0, -999.00,-999.0000,-999.000,-999.000
     316N145_5,  I08S,    42,  1,     13, SIH018,2,19941216,1948,-47.9945,  92.3528, 3440,16243.1,   1628.2,   2.5254,  34.6458,2,  34.6531,2,    179.9,2,  2.4124,    179.0,2,    72.50,2,    32.76,2,     0.00,2,     2.25,2, -999.000,9, -999.000,9,    0.047,2,   1.8570,2,     8.39,2,   -999.0,9,  -999.00,9,   8.017,2,   -999.0,9,   -999.0,9,  -999.0,    0.11,  0.0020,   0.031,   0.005
     316N145_5,  I08S,    42,  1,     12, SIH016,2,19941216,1948,-47.9945,  92.3528, 3440,17261.4,   1730.6,   2.4664,  34.6701,2,  34.6694,2,    180.3,2,  2.3457,    181.0,2,    73.80,2,    32.28,2,     0.00,2,     2.21,2,    0.138,2,    0.071,2, -999.000,5,-999.0000,5,  -999.00,9,   -999.0,9,  -999.00,9,-999.000,9,   -999.0,9,   -999.0,9,  -999.0, -999.00,-999.0000,-999.000,-999.000
     316N145_5,  I08S,    42,  1,     11, SIH015,2,19941216,1948,-47.9945,  92.3528, 3440,18212.1,   1826.3,   2.4270,  34.7041,2,  34.7040,2,    184.1,2,  2.2987,    185.6,2,    74.45,2,    31.42,2,     0.00,2,     2.15,2, -999.000,9, -999.000,9,    0.011,4,   1.8670,2,     8.79,2,   -999.0,9,  -999.00,9,   8.066,2,   -999.0,9,   -999.0,9,  -999.0,    0.11,  0.0020,   0.035,   0.004
     316N145_5,  I08S,    42,  1,     10, SIH013,2,19941216,1948,-47.9945,  92.3528, 3440,19078.0,   1913.4,   2.3563,  34.7133,2,  34.7140,2,    185.6,2,  2.2216,    186.3,2,    76.07,2,    31.36,2,     0.00,2,     2.13,2, -999.000,9, -999.000,9, -999.000,5,-999.0000,5,  -999.00,9,   -999.0,9,  -999.00,9,-999.000,9,   -999.0,9,   -999.0,9,  -999.0, -999.00,-999.0000,-999.000,-999.000
     316N145_5,  I08S,    42,  1,      9, SIH012,2,19941216,1948,-47.9945,  92.3528, 3440,21058.3,   2112.5,   2.2397,  34.7442,2,  34.7453,2,    190.8,2,  2.0895,    193.1,2,    78.34,2,    30.45,2,     0.00,2,     2.07,2,    0.069,2,    0.043,2,    0.148,4,-999.0000,5,  -999.00,9,   -999.0,9,  -999.00,9,-999.000,9,   -999.0,9,   -999.0,9,  -999.0, -999.00,-999.0000,-999.000,   0.006
     316N145_5,  I08S,    42,  1,      8, SIH010,2,19941216,1948,-47.9945,  92.3528, 3440,23136.5,   2321.6,   2.0981,  34.7571,2,  34.7569,2,    195.2,2,  1.9317,    197.1,2,    82.23,2,    30.07,2,     0.00,2,     2.05,2, -999.000,9, -999.000,9,    0.123,4,   1.8590,2,     9.51,2,   -999.0,9,  -999.00,9,   8.013,2,   -999.0,9,   -999.0,9,  -999.0,    0.15,  0.0020,   0.029,   0.005
     316N145_5,  I08S,    42,  1,      7, SIH009,2,19941216,1948,-47.9945,  92.3528, 3440,25191.6,   2528.3,   1.9096,  34.7568,2,  34.7571,2,    197.6,2,  1.7280,    199.2,2,    88.38,2,    30.29,2,     0.00,2,     2.06,2,    0.034,2,    0.026,2,    0.143,4,-999.0000,5,  -999.00,9,   -999.0,9,  -999.00,9,-999.000,9,   -999.0,9,   -999.0,9,  -999.0, -999.00,-999.0000,-999.000,   0.005
     316N145_5,  I08S,    42,  1,      6, SIH038,2,19941216,1948,-47.9945,  92.3528, 3440,27255.1,   2735.9,   1.6752,  34.7492,2,  34.7492,2,    198.3,2,  1.4791,    200.4,2,    96.64,2,    30.77,2,     0.00,2,     2.10,2, -999.000,9, -999.000,9,    0.177,4,   1.8810,2,     9.10,2,   -999.0,9,  -999.00,9,   8.128,2,   -999.0,9,   -999.0,9,  -999.0,    0.15,  0.0020,   0.039,   0.006
     316N145_5,  I08S,    42,  1,      5, SIH006,2,19941216,1948,-47.9945,  92.3528, 3440,29187.5,   2930.2,   1.4835,  34.7402,2,  34.7398,2,    200.3,2,  1.2733,    201.7,2,   103.28,2,    31.19,2,     0.00,2,     2.13,2,    0.032,2,    0.021,2,    0.154,4,-999.0000,5,  -999.00,9,   -999.0,9,  -999.00,9,-999.000,9,   -999.0,9,   -999.0,9,  -999.0, -999.00,-999.0000,-999.000,   0.006
     316N145_5,  I08S,    42,  1,      4, SIH004,2,19941216,1948,-47.9945,  92.3528, 3440,31341.8,   3146.9,   1.2156,  34.7275,2,  34.7276,2,    203.4,2,  0.9909,    204.8,2,   111.38,2,    31.62,2,     0.00,2,     2.16,2, -999.000,9, -999.000,9,    0.293,4,   1.8860,2,     8.95,2,   -999.0,9,  -999.00,9,   8.215,2,   -999.0,9,   -999.0,9,  -999.0,    0.15,  0.0020,   0.032,   0.006
     316N145_5,  I08S,    42,  1,      3, SIH025,2,19941216,1948,-47.9945,  92.3528, 3440,33121.7,   3326.0,   1.1135,  34.7216,2,  34.7231,2,    205.0,2,  0.8740,    206.2,2,   114.63,2,    31.83,2,     0.00,2,     2.17,2,    0.087,2,    0.047,2, -999.000,5,-999.0000,5,  -999.00,9,   -999.0,9,  -999.00,9,-999.000,9,   -999.0,9,   -999.0,9,  -999.0, -999.00,-999.0000,-999.000,-999.000
     316N145_5,  I08S,    42,  1,      2, SIH001,2,19941216,1948,-47.9945,  92.3528, 3440,33879.6,   3402.2,   1.0714,  34.7201,2,  34.7203,2,    206.3,2,  0.8255,    206.8,2,   115.76,2,    31.88,2,     0.00,2,     2.17,2, -999.000,9, -999.000,9,    0.018,4,   1.8780,2,     8.34,2,   -999.0,9,  -999.00,9,   8.183,2,   -999.0,9,   -999.0,9,  -999.0,    0.14,  0.0040,   0.034,   0.004
     316N145_5,  I08S,    42,  1,      1, SIH036,2,19941216,1948,-47.9945,  92.3528, 3440,34613.2,   3476.0,   0.9866,  34.7168,2,  34.7154,2,    208.0,3,  0.7355,    208.0,2,   117.41,2,    31.88,2,     0.00,2,     2.17,2,    0.121,2,    0.065,2,    0.021,4,-999.0000,5,  -999.00,9,   -999.0,9,  -999.00,9,-999.000,9,   -999.0,9,   -999.0,9,  -999.0, -999.00,-999.0000,-999.000,   0.005