BOTTLE,20090521WHPSIOdm
EXPOCODE,SECT_ID,STNNBR,CASTNO,SAMPNO,BTLNBR,BTLNBR_FLAG_W,DATE,TIME,LATITUDE,LONGITUDE,DEPTH,CTDRAW,CTDPRS,CTDTMP,CTDSAL,CTDSAL_FLAG_W,SALNTY,SALNTY_FLAG_W,CTDOXY,CTDOXY_FLAG_W,THETA,OXYGEN,OXYGEN_FLAG_W,SILCAT,SILCAT_FLAG_W,NITRAT,NITRAT_FLAG_W,NITRIT,NITRIT_FLAG_W,PHSPHT,PHSPHT_FLAG_W,CFC-11,CFC-11_FLAG_W,CFC-12,CFC-12_FLAG_W,TRITUM,TRITUM_FLAG_W,HELIUM,HELIUM_FLAG_W,DELHE3,DELHE3_FLAG_W,DELC14,DELC14_FLAG_W,DELC13,DELC13_FLAG_W,NEON,NEON_FLAG_W,TCARBN,TCARBN_FLAG_W,ALKALI,ALKALI_FLAG_W,C14ERR,DELHER,HELIER,NEONER,TRITER
,,,,,,,,,,,,,DBAR,IPTS-68,PSS-78,,PSS-78,,UMOL/KG,,IPTS-68,UMOL/KG,,UMOL/KG,,UMOL/KG,,UMOL/KG,,UMOL/KG,,PMOL/KG,,PMOL/KG,,TU,,NMOL/KG,,PERCNT,,/MILLE,,/MILLE,,NMOL/KG,,UMOL/KG,,UMOL/KG,,/MILLE,PERCNT,NMOL/KG,NMOL/KG,TU
     316N145_5,  I08S,    67,  1,     36, SIH035,2,19941224,2004,-57.6112,  82.3833, 3085,  157.6,     10.1,   0.3113,  33.8867,2,  33.8893,2,    344.8,2,  0.3110,    343.1,2,    46.27,2,    26.91,2,     0.24,2,     1.74,2,    6.249,2,    2.939,2, -999.000,5,-999.0000,5,  -999.00,9,   -999.0,9,  -999.00,9,-999.000,9,   -999.0,9,   -999.0,9,  -999.0, -999.00,-999.0000,-999.000,-999.000
     316N145_5,  I08S,    67,  1,     35, SIH032,2,19941224,2004,-57.6112,  82.3833, 3085,  353.1,     29.8,   0.4121,  33.9241,2,  33.9259,2,    344.9,2,  0.4110,    344.6,2,    45.94,2,    27.01,2,     0.24,2,     1.74,2,    6.496,2,    3.026,2, -999.000,5,-999.0000,5,  -999.00,9,   -999.0,9,  -999.00,9,-999.000,9,   -999.0,9,   -999.0,9,  -999.0, -999.00,-999.0000,-999.000,-999.000
     316N145_5,  I08S,    67,  1,     34, SIH029,2,19941224,2004,-57.6112,  82.3833, 3085,  602.2,     54.9,  -0.3569,  34.0499,2,  34.0517,2,    346.5,2, -0.3586,    341.1,2,    49.09,2,    27.86,2,     0.20,2,     1.88,2,    6.116,2,    2.921,2, -999.000,5,-999.0000,5,  -999.00,9,   -999.0,9,  -999.00,9,-999.000,9,   -999.0,9,   -999.0,9,  -999.0, -999.00,-999.0000,-999.000,-999.000
     316N145_5,  I08S,    67,  1,     33, SIH026,2,19941224,2004,-57.6112,  82.3833, 3085,  861.4,     80.9,  -0.7959,  34.1394,2,  34.1389,2,    325.6,2, -0.7982,    312.6,2,    58.37,2,    29.59,2,     0.16,2,     2.08,2,    5.252,2,    2.498,2, -999.000,5,-999.0000,5,  -999.00,9,   -999.0,9,  -999.00,9,-999.000,9,   -999.0,9,   -999.0,9,  -999.0, -999.00,-999.0000,-999.000,-999.000
     316N145_5,  I08S,    67,  1,     32, SIH023,2,19941224,2004,-57.6112,  82.3833, 3085, 1113.4,    106.3,  -0.3906,  34.3266,2,  34.3221,2,    274.0,2, -0.3940,    263.2,2,    69.30,2,    31.77,2,     0.12,2,     2.23,2,    3.681,2,    1.752,2, -999.000,5,-999.0000,5,  -999.00,9,   -999.0,9,  -999.00,9,-999.000,9,   -999.0,9,   -999.0,9,  -999.0, -999.00,-999.0000,-999.000,-999.000
     316N145_5,  I08S,    67,  1,     31, SIH020,2,19941224,2004,-57.6112,  82.3833, 3085, 1595.6,    154.8,   0.4738,  34.4880,2,  34.4917,2,    229.6,2,  0.4676,    222.8,2,    76.91,2,    32.61,2,     0.03,2,     2.26,2,    2.312,2,    1.058,2, -999.000,5,-999.0000,5,  -999.00,9,   -999.0,9,  -999.00,9,-999.000,9,   -999.0,9,   -999.0,9,  -999.0, -999.00,-999.0000,-999.000,-999.000
     316N145_5,  I08S,    67,  1,     30, SIH017,2,19941224,2004,-57.6112,  82.3833, 3085, 2091.4,    204.7,   1.0647,  34.5763,2,  34.5875,2,    205.9,2,  1.0553,    203.2,2,    81.39,2,    32.72,2,     0.02,2,     2.26,2,    1.445,2,    0.670,2, -999.000,5,-999.0000,5,  -999.00,9,   -999.0,9,  -999.00,9,-999.000,9,   -999.0,9,   -999.0,9,  -999.0, -999.00,-999.0000,-999.000,-999.000
     316N145_5,  I08S,    67,  1,     29, SIH014,2,19941224,2004,-57.6112,  82.3833, 3085, 2602.4,    256.1,   1.3777,  34.6425,2,  34.6486,2,    197.9,2,  1.3652,    194.6,2,    84.37,2,    32.38,2,     0.01,2,     2.25,2,    0.921,2,    0.441,2, -999.000,5,-999.0000,5,  -999.00,9,   -999.0,9,  -999.00,9,-999.000,9,   -999.0,9,   -999.0,9,  -999.0, -999.00,-999.0000,-999.000,-999.000
     316N145_5,  I08S,    67,  1,     28, SIH011,2,19941224,2004,-57.6112,  82.3833, 3085, 3087.3,    304.8,   1.3741,  34.6609,2,  34.6645,2,    198.9,2,  1.3590,    196.7,2,    85.20,2,    31.98,2,     0.01,2,     2.22,2,    0.872,2,    0.418,2, -999.000,5,-999.0000,5,  -999.00,9,   -999.0,9,  -999.00,9,-999.000,9,   -999.0,9,   -999.0,9,  -999.0, -999.00,-999.0000,-999.000,-999.000
     316N145_5,  I08S,    67,  1,     27, SIH008,2,19941224,2004,-57.6112,  82.3833, 3085, 3592.1,    355.6,   1.6463,  34.7036,2,  34.7081,2,    193.5,2,  1.6278,    191.2,2,    86.70,2,    31.47,2,     0.01,2,     2.18,2,    0.436,2,    0.211,2, -999.000,5,-999.0000,5,  -999.00,9,   -999.0,9,  -999.00,9,-999.000,9,   -999.0,9,   -999.0,9,  -999.0, -999.00,-999.0000,-999.000,-999.000
     316N145_5,  I08S,    67,  1,     26, SIH005,2,19941224,2004,-57.6112,  82.3833, 3085, 4089.1,    405.6,   1.6762,  34.7140,2,  34.7262,2,    193.6,2,  1.6548,    191.8,2,    87.36,2,    31.14,2,     0.00,2,     2.16,2,    0.341,2,    0.169,2, -999.000,5,-999.0000,5,  -999.00,9,   -999.0,9,  -999.00,9,-999.000,9,   -999.0,9,   -999.0,9,  -999.0, -999.00,-999.0000,-999.000,-999.000
     316N145_5,  I08S,    67,  1,     25, SIH019,2,19941224,2004,-57.6112,  82.3833, 3085, 4597.2,    456.7,   1.6088,  34.7151,2,  34.7217,2,    193.5,2,  1.5847,    193.2,2,    88.19,2,    31.07,2,     0.00,2,     2.17,2,    0.398,2,    0.193,2, -999.000,5,-999.0000,5,  -999.00,9,   -999.0,9,  -999.00,9,-999.000,9,   -999.0,9,   -999.0,9,  -999.0, -999.00,-999.0000,-999.000,-999.000
     316N145_5,  I08S,    67,  1,     24, SIH037,2,19941224,2004,-57.6112,  82.3833, 3085, 5075.7,    504.8,   1.5821,  34.7227,2,  34.7355,2,    196.5,2,  1.5554,    195.1,2,    89.35,2,    30.84,2,     0.00,2,     2.16,2,    0.352,2,    0.171,2, -999.000,5,-999.0000,5,  -999.00,9,   -999.0,9,  -999.00,9,-999.000,9,   -999.0,9,   -999.0,9,  -999.0, -999.00,-999.0000,-999.000,-999.000
     316N145_5,  I08S,    67,  1,     23, SIH033,2,19941224,2004,-57.6112,  82.3833, 3085, 6112.4,    609.1,   1.4713,  34.7233,2,  34.8023,4,    199.8,2,  1.4391,    198.7,2,    91.68,2,    30.72,2,     0.00,2,     2.14,2,    0.348,2,    0.169,2, -999.000,5,-999.0000,5,  -999.00,9,   -999.0,9,  -999.00,9,-999.000,9,   -999.0,9,   -999.0,9,  -999.0, -999.00,-999.0000,-999.000,-999.000
     316N145_5,  I08S,    67,  1,     22, SIH031,2,19941224,2004,-57.6112,  82.3833, 3085, 7077.4,    706.2,   1.3113,  34.7217,2,  34.8003,4,    203.0,2,  1.2743,    201.4,2,    94.99,2,    30.76,2,     0.00,2,     2.14,2,    0.344,2,    0.166,2, -999.000,5,-999.0000,5,  -999.00,9,   -999.0,9,  -999.00,9,-999.000,9,   -999.0,9,   -999.0,9,  -999.0, -999.00,-999.0000,-999.000,-999.000
     316N145_5,  I08S,    67,  1,     21, SIH030,2,19941224,2004,-57.6112,  82.3833, 3085, 8131.8,    812.2,   1.2674,  34.7304,2,  34.8045,4,    202.8,2,  1.2243,    204.6,2,    98.64,2,    30.64,2,     0.00,2,     2.13,2,    0.208,2,    0.101,2, -999.000,5,-999.0000,5,  -999.00,9,   -999.0,9,  -999.00,9,-999.000,9,   -999.0,9,   -999.0,9,  -999.0, -999.00,-999.0000,-999.000,-999.000
     316N145_5,  I08S,    67,  1,     20, SIH028,2,19941224,2004,-57.6112,  82.3833, 3085, 9205.7,    920.3,   1.0646,  34.7182,2,  34.7889,4,    205.2,2,  1.0165,    204.6,2,   101.96,2,    31.01,2,     0.00,2,     2.16,2,    0.409,2,    0.198,2, -999.000,5,-999.0000,5,  -999.00,9,   -999.0,9,  -999.00,9,-999.000,9,   -999.0,9,   -999.0,9,  -999.0, -999.00,-999.0000,-999.000,-999.000
     316N145_5,  I08S,    67,  1,     19, SIH027,2,19941224,2004,-57.6112,  82.3833, 3085,10199.3,   1020.2,   1.0146,  34.7193,2,  34.7807,4,    204.9,2,  0.9609,    204.5,2,   105.94,2,    31.10,2,     0.00,2,     2.17,2,    0.189,2,    0.096,2, -999.000,5,-999.0000,5,  -999.00,9,   -999.0,9,  -999.00,9,-999.000,9,   -999.0,9,   -999.0,9,  -999.0, -999.00,-999.0000,-999.000,-999.000
     316N145_5,  I08S,    67,  1,     18, SIH003,2,19941224,2004,-57.6112,  82.3833, 3085,11130.6,   1113.9,   0.9118,  34.7065,2,  34.7766,4,    205.0,2,  0.8532,    205.2,2,   109.60,2,    31.42,2,     0.00,2,     2.18,2, -999.000,9, -999.000,9, -999.000,5,-999.0000,5,  -999.00,9,   -999.0,9,  -999.00,9,-999.000,9,   -999.0,9,   -999.0,9,  -999.0, -999.00,-999.0000,-999.000,-999.000
     316N145_5,  I08S,    67,  1,     17, SIH024,2,19941224,2004,-57.6112,  82.3833, 3085,12174.9,   1218.9,   0.8115,  34.7088,2,  34.7655,4,    208.2,2,  0.7472,    205.8,2,   111.75,2,    31.57,2,     0.00,2,     2.20,2,    0.179,2,    0.090,2, -999.000,5,-999.0000,5,  -999.00,9,   -999.0,9,  -999.00,9,-999.000,9,   -999.0,9,   -999.0,9,  -999.0, -999.00,-999.0000,-999.000,-999.000
     316N145_5,  I08S,    67,  1,     16, SIH022,2,19941224,2004,-57.6112,  82.3833, 3085,13204.8,   1322.5,   0.7590,  34.7073,2,  34.7632,4,    206.8,2,  0.6887,    207.1,2,   114.40,2,    31.67,2,     0.00,2,     2.21,2, -999.000,9, -999.000,9, -999.000,5,-999.0000,5,  -999.00,9,   -999.0,9,  -999.00,9,-999.000,9,   -999.0,9,   -999.0,9,  -999.0, -999.00,-999.0000,-999.000,-999.000
     316N145_5,  I08S,    67,  1,     15, SIH021,2,19941224,2004,-57.6112,  82.3833, 3085,14207.7,   1423.4,   0.6580,  34.7015,2,  34.7541,4,    208.4,2,  0.5823,    208.4,2,   116.23,2,    31.93,2,     0.00,2,     2.22,2,    0.176,2,    0.087,2, -999.000,5,-999.0000,5,  -999.00,9,   -999.0,9,  -999.00,9,-999.000,9,   -999.0,9,   -999.0,9,  -999.0, -999.00,-999.0000,-999.000,-999.000
     316N145_5,  I08S,    67,  1,     14, SIH002,2,19941224,2004,-57.6112,  82.3833, 3085,15210.0,   1524.2,   0.5712,  34.6884,2,  34.7475,4,    208.1,2,  0.4898,    209.5,2,   118.89,2,    32.20,2,     0.00,2,     2.24,2, -999.000,9, -999.000,9, -999.000,5,-999.0000,5,  -999.00,9,   -999.0,9,  -999.00,9,-999.000,9,   -999.0,9,   -999.0,9,  -999.0, -999.00,-999.0000,-999.000,-999.000
     316N145_5,  I08S,    67,  1,     13, SIH018,2,19941224,2004,-57.6112,  82.3833, 3085,16192.8,   1623.1,   0.5028,  34.6914,2,  34.7400,4,    210.9,2,  0.4157,    210.2,2,   120.55,2,    32.28,2,     0.00,2,     2.24,2,    0.196,2,    0.109,2, -999.000,5,-999.0000,5,  -999.00,9,   -999.0,9,  -999.00,9,-999.000,9,   -999.0,9,   -999.0,9,  -999.0, -999.00,-999.0000,-999.000,-999.000
     316N145_5,  I08S,    67,  1,     12, SIH016,2,19941224,2004,-57.6112,  82.3833, 3085,17204.7,   1724.9,   0.4342,  34.6908,2,  34.7302,4,    209.0,2,  0.3411,    211.3,2,   123.20,2,    32.44,2,     0.00,2,     2.25,2, -999.000,9, -999.000,9, -999.000,5,-999.0000,5,  -999.00,9,   -999.0,9,  -999.00,9,-999.000,9,   -999.0,9,   -999.0,9,  -999.0, -999.00,-999.0000,-999.000,-999.000
     316N145_5,  I08S,    67,  1,     11, SIH015,2,19941224,2004,-57.6112,  82.3833, 3085,18203.0,   1825.3,   0.3706,  34.6878,2,  34.7272,4,    211.5,2,  0.2714,    212.5,2,   125.36,2,    32.59,2,     0.00,2,     2.26,2, -999.000,9, -999.000,9, -999.000,5,-999.0000,5,  -999.00,9,   -999.0,9,  -999.00,9,-999.000,9,   -999.0,9,   -999.0,9,  -999.0, -999.00,-999.0000,-999.000,-999.000
     316N145_5,  I08S,    67,  1,     10, SIH013,2,19941224,2004,-57.6112,  82.3833, 3085,19216.5,   1927.2,   0.3501,  34.6865,2,  34.7243,4,    212.4,2,  0.2441,    212.9,2,   126.03,2,    32.58,2,     0.00,2,     2.26,2, -999.000,9, -999.000,9, -999.000,5,-999.0000,5,  -999.00,9,   -999.0,9,  -999.00,9,-999.000,9,   -999.0,9,   -999.0,9,  -999.0, -999.00,-999.0000,-999.000,-999.000
     316N145_5,  I08S,    67,  1,      9, SIH012,2,19941224,2004,-57.6112,  82.3833, 3085,20177.9,   2023.9,   0.3268,  34.6854,2,  34.6881,2,    212.5,2,  0.2142,    213.7,2,   126.20,2,    32.57,2,     0.00,2,     2.26,2,    0.135,2,    0.074,2, -999.000,5,-999.0000,5,  -999.00,9,   -999.0,9,  -999.00,9,-999.000,9,   -999.0,9,   -999.0,9,  -999.0, -999.00,-999.0000,-999.000,-999.000
     316N145_5,  I08S,    67,  1,      8, SIH010,2,19941224,2004,-57.6112,  82.3833, 3085,21201.3,   2126.9,   0.3122,  34.6842,2,  34.6885,2,    213.6,2,  0.1922,    214.2,2,   126.70,2,    32.61,2,     0.00,2,     2.26,2,    0.134,2,    0.074,2, -999.000,5,-999.0000,5,  -999.00,9,   -999.0,9,  -999.00,9,-999.000,9,   -999.0,9,   -999.0,9,  -999.0, -999.00,-999.0000,-999.000,-999.000
     316N145_5,  I08S,    67,  1,      7, SIH009,2,19941224,2004,-57.6112,  82.3833, 3085,22250.3,   2232.4,   0.2852,  34.6835,2,  34.6152,4,    214.7,2,  0.1579,    215.1,2,   127.20,2,    32.65,2,     0.00,2,     2.27,2,    0.158,2,    0.076,2, -999.000,5,-999.0000,5,  -999.00,9,   -999.0,9,  -999.00,9,-999.000,9,   -999.0,9,   -999.0,9,  -999.0, -999.00,-999.0000,-999.000,-999.000
     316N145_5,  I08S,    67,  1,      6, SIH038,2,19941224,2004,-57.6112,  82.3833, 3085,24290.4,   2437.6,   0.1911,  34.6808,2,  34.6842,2,    217.9,2,  0.0497,    219.2,2,   126.71,2,    32.53,2,     0.00,2,     2.26,2,    0.278,2,    0.143,2, -999.000,5,-999.0000,5,  -999.00,9,   -999.0,9,  -999.00,9,-999.000,9,   -999.0,9,   -999.0,9,  -999.0, -999.00,-999.0000,-999.000,-999.000
     316N145_5,  I08S,    67,  1,      5, SIH006,2,19941224,2004,-57.6112,  82.3833, 3085,26303.8,   2640.1,   0.0848,  34.6793,2,  34.6981,4,    223.1,2, -0.0706,    223.7,2,   127.05,2,    32.34,2,     0.00,2,     2.25,2,    0.407,2,    0.202,2, -999.000,5,-999.0000,5,  -999.00,9,   -999.0,9,  -999.00,9,-999.000,9,   -999.0,9,   -999.0,9,  -999.0, -999.00,-999.0000,-999.000,-999.000
     316N145_5,  I08S,    67,  1,      4, SIH004,2,19941224,2004,-57.6112,  82.3833, 3085,28325.5,   2843.5,  -0.0274,  34.6763,2,  34.6916,4,    228.2,2, -0.1971,    227.8,2,   126.56,2,    32.33,2,     0.00,2,     2.25,2,    0.577,2,    0.283,2, -999.000,5,-999.0000,5,  -999.00,9,   -999.0,9,  -999.00,9,-999.000,9,   -999.0,9,   -999.0,9,  -999.0, -999.00,-999.0000,-999.000,-999.000
     316N145_5,  I08S,    67,  1,      3, SIH025,4,19941224,2004,-57.6112,  82.3833, 3085,29295.9,   2941.1,  -0.0586,  34.6743,2,  34.7026,4,    231.4,2, -0.2357,    216.9,4,   114.46,4,    31.99,4,     0.00,4,     2.22,4, -999.000,9, -999.000,9, -999.000,5,-999.0000,5,  -999.00,9,   -999.0,9,  -999.00,9,-999.000,9,   -999.0,9,   -999.0,9,  -999.0, -999.00,-999.0000,-999.000,-999.000
     316N145_5,  I08S,    67,  1,      2, SIH001,2,19941224,2004,-57.6112,  82.3833, 3085,30299.5,   3042.1,  -0.0846,  34.6735,2,  34.6804,3,    232.7,2, -0.2697,    230.6,2,   124.74,2,    32.20,2,     0.00,2,     2.24,2,    0.741,2,    0.361,2, -999.000,5,-999.0000,5,  -999.00,9,   -999.0,9,  -999.00,9,-999.000,9,   -999.0,9,   -999.0,9,  -999.0, -999.00,-999.0000,-999.000,-999.000
     316N145_5,  I08S,    67,  1,      1, SIH036,2,19941224,2004,-57.6112,  82.3833, 3085,30812.3,   3093.6,  -0.0877,  34.6736,2,  34.6798,2,    233.1,2, -0.2772,    230.4,2,   125.21,2,    32.27,2,     0.00,2,     2.24,2,    0.751,2,    0.365,2, -999.000,5,-999.0000,5,  -999.00,9,   -999.0,9,  -999.00,9,-999.000,9,   -999.0,9,   -999.0,9,  -999.0, -999.00,-999.0000,-999.000,-999.000