BOTTLE,20090521WHPSIOdm
EXPOCODE,SECT_ID,STNNBR,CASTNO,SAMPNO,BTLNBR,BTLNBR_FLAG_W,DATE,TIME,LATITUDE,LONGITUDE,DEPTH,CTDRAW,CTDPRS,CTDTMP,CTDSAL,CTDSAL_FLAG_W,SALNTY,SALNTY_FLAG_W,CTDOXY,CTDOXY_FLAG_W,THETA,OXYGEN,OXYGEN_FLAG_W,SILCAT,SILCAT_FLAG_W,NITRAT,NITRAT_FLAG_W,NITRIT,NITRIT_FLAG_W,PHSPHT,PHSPHT_FLAG_W,CFC-11,CFC-11_FLAG_W,CFC-12,CFC-12_FLAG_W,TRITUM,TRITUM_FLAG_W,HELIUM,HELIUM_FLAG_W,DELHE3,DELHE3_FLAG_W,DELC14,DELC14_FLAG_W,DELC13,DELC13_FLAG_W,NEON,NEON_FLAG_W,TCARBN,TCARBN_FLAG_W,ALKALI,ALKALI_FLAG_W,C14ERR,DELHER,HELIER,NEONER,TRITER
,,,,,,,,,,,,,DBAR,IPTS-68,PSS-78,,PSS-78,,UMOL/KG,,IPTS-68,UMOL/KG,,UMOL/KG,,UMOL/KG,,UMOL/KG,,UMOL/KG,,PMOL/KG,,PMOL/KG,,TU,,NMOL/KG,,PERCNT,,/MILLE,,/MILLE,,NMOL/KG,,UMOL/KG,,UMOL/KG,,/MILLE,PERCNT,NMOL/KG,NMOL/KG,TU
     316N145_5,  I09S,   133,  1,     36, SI9446,2,19950115,0439,-40.3000, 115.0028, 4665,  182.5,     13.1,  13.8621,  34.8320,2,  34.8310,2,    276.0,2, 13.8603,    267.3,2,     1.08,2,     5.27,2,     0.11,2,     0.51,2,    3.272,2,    1.713,2,    0.693,2,   1.7770,2,    -1.52,2,   -999.0,9,  -999.00,9,   7.369,2,   -999.0,9,   -999.0,9,  -999.0,   90.25,  0.0030,   0.018,   0.011
     316N145_5,  I09S,   133,  1,     35, SIH032,2,19950115,0439,-40.3000, 115.0028, 4665,  382.0,     33.1,  13.5516,  34.8259,2,  34.8265,2,    267.6,2, 13.5470,    268.2,2,     0.93,2,     5.46,2,     0.11,2,     0.53,2,    3.294,2,    1.742,2, -999.000,5,-999.0000,5,  -999.00,9,   -999.0,9,  -999.00,9,-999.000,9,   -999.0,9,   -999.0,9,  -999.0, -999.00,-999.0000,-999.000,-999.000
     316N145_5,  I09S,   133,  1,     34, SIH029,2,19950115,0439,-40.3000, 115.0028, 4665,  634.7,     58.5,  12.4135,  34.8041,2,  34.8019,2,    268.6,2, 12.4057,    267.5,2,     1.57,2,     6.89,2,     0.13,2,     0.65,2,    3.441,6,    1.798,6,    0.599,2,   1.8030,2,    -1.49,2,   -999.0,9,  -999.00,9,   7.512,2,   -999.0,9,   -999.0,9,  -999.0,   10.17,  0.0030,   0.011,   0.010
     316N145_5,  I09S,   133,  1,     33, SIH026,2,19950115,0439,-40.3000, 115.0028, 4665,  880.1,     83.2,  11.6078,  34.7949,2,  34.7948,2,    271.9,2, 11.5972,    267.0,2,     2.22,2,     7.86,2,     0.17,2,     0.72,2,    3.580,2,    1.847,2, -999.000,5,-999.0000,5,  -999.00,9,   -999.0,9,  -999.00,9,-999.000,9,   -999.0,9,   -999.0,9,  -999.0, -999.00,-999.0000,-999.000,-999.000
     316N145_5,  I09S,   133,  1,     32, SIH023,2,19950115,0439,-40.3000, 115.0028, 4665, 1123.2,    107.7,  10.8176,  34.8181,2,  34.8098,2,    263.4,2, 10.8046,    265.1,2,     2.06,2,     8.17,2,     0.44,2,     0.73,2,    3.632,2,    1.850,2,    0.644,2,   1.8130,2,    -1.62,2,   -999.0,9,  -999.00,9,   7.628,2,   -999.0,9,   -999.0,9,  -999.0,   40.17,  0.0030,   0.010,   0.012
     316N145_5,  I09S,   133,  1,     31, SIH020,2,19950115,0439,-40.3000, 115.0028, 4665, 1633.1,    158.9,  10.0596,  34.7459,2,  34.7476,2,    259.4,2, 10.0412,    260.9,2,     2.71,2,    11.20,2,     0.02,2,     0.88,2,    3.681,2,    1.910,2, -999.000,5,-999.0000,5,  -999.00,9,   -999.0,9,  -999.00,9,-999.000,9,   -999.0,9,   -999.0,9,  -999.0, -999.00,-999.0000,-999.000,-999.000
     316N145_5,  I09S,   133,  1,     30, SIH017,2,19950115,0439,-40.3000, 115.0028, 4665, 2126.4,    208.5,   9.7936,  34.7290,2,  34.7245,2,    259.8,2,  9.7698,    258.3,2,     3.20,2,    12.41,2,     0.01,2,     0.95,2,    3.659,2,    1.860,2,   -0.022,4,   1.7630,2,    -1.49,2,   -999.0,9,  -999.00,9,   7.482,2,   -999.0,9,   -999.0,9,  -999.0,   40.17,  0.0030,   0.011,   0.006
     316N145_5,  I09S,   133,  1,     29, SIH014,2,19950115,0439,-40.3000, 115.0028, 4665, 2629.7,    259.2,   9.5591,  34.6925,2,  34.6940,2,    262.1,2,  9.5299,    263.0,2,     3.52,2,    12.70,2,     0.01,2,     0.97,2,    3.726,2,    1.925,2, -999.000,5,-999.0000,5,  -999.00,9,   -999.0,9,  -999.00,9,-999.000,9,   -999.0,9,   -999.0,9,  -999.0, -999.00,-999.0000,-999.000,-999.000
     316N145_5,  I09S,   133,  1,     28, SIH011,2,19950115,0439,-40.3000, 115.0028, 4665, 3126.0,    309.1,   9.4223,  34.6781,2,  34.6771,2,    262.3,2,  9.3877,    261.4,2,     3.84,2,    13.41,2,     0.01,2,     1.01,2,    3.689,2,    1.877,2,    0.535,2,   1.7590,2,    -0.89,2,   -999.0,9,  -999.00,9,   7.492,2,   -999.0,9,   -999.0,9,  -999.0,   60.24,  0.0050,   0.012,   0.011
     316N145_5,  I09S,   133,  1,     27, SIH008,2,19950115,0439,-40.3000, 115.0028, 4665, 3626.5,    359.4,   9.3302,  34.6681,2,  34.6669,2,    259.4,2,  9.2901,    259.7,2,     4.01,2,    13.93,2,     0.01,2,     1.04,2,    3.648,2,    1.865,2, -999.000,5,-999.0000,5,  -999.00,9,   -999.0,9,  -999.00,9,-999.000,9,   -999.0,9,   -999.0,9,  -999.0, -999.00,-999.0000,-999.000,-999.000
     316N145_5,  I09S,   133,  1,     26, SIH005,2,19950115,0439,-40.3000, 115.0028, 4665, 4128.1,    409.8,   9.2630,  34.6611,2,  34.6624,2,    259.8,2,  9.2174,    257.7,2,     4.17,2,    14.31,2,     0.00,2,     1.06,2,    3.591,2,    1.837,2, -999.000,5,-999.0000,5,  -999.00,9,   -999.0,9,  -999.00,9,-999.000,9,   -999.0,9,   -999.0,9,  -999.0, -999.00,-999.0000,-999.000,-999.000
     316N145_5,  I09S,   133,  1,     25, SIH019,2,19950115,0439,-40.3000, 115.0028, 4665, 4627.3,    460.0,   9.1993,  34.6558,2,  34.6574,2,    257.2,2,  9.1482,    256.3,2,     4.34,2,    14.73,2,     0.00,2,     1.08,2,    3.570,2,    1.811,2,    0.457,2,   1.7690,2,    -1.09,2,   -999.0,9,  -999.00,9,   7.477,2,   -999.0,9,   -999.0,9,  -999.0,   70.25,  0.0040,   0.018,   0.011
     316N145_5,  I09S,   133,  1,     24, SIH037,2,19950115,0439,-40.3000, 115.0028, 4665, 5125.3,    510.1,   9.1268,  34.6487,2,  34.6464,2,    254.8,2,  9.0702,    253.4,2,     4.67,2,    15.30,2,     0.00,2,     1.11,2,    3.458,2,    1.731,2, -999.000,5,-999.0000,5,  -999.00,9,   -999.0,9,  -999.00,9,-999.000,9,   -999.0,9,   -999.0,9,  -999.0, -999.00,-999.0000,-999.000,-999.000
     316N145_5,  I09S,   133,  1,     23, SIH033,2,19950115,0439,-40.3000, 115.0028, 4665, 6121.4,    610.3,   8.9285,  34.6317,2,  34.6317,2,    252.9,2,  8.8613,    252.0,2,     5.47,2,    16.17,2,     0.00,2,     1.16,2,    3.309,2,    1.686,2,    0.000,5,   1.7770,2,    -0.82,2,   -999.0,9,  -999.00,9,   7.493,2,   -999.0,9,   -999.0,9,  -999.0,   80.25,  0.0040,   0.018,   0.000
     316N145_5,  I09S,   133,  1,     22, SIH031,2,19950115,0439,-40.3000, 115.0028, 4665, 7127.6,    711.5,   8.2640,  34.5455,2,  34.5443,2,    233.4,2,  8.1888,    230.4,2,     8.03,2,    19.84,2,     0.00,2,     1.39,2,    2.593,2,    1.282,2, -999.000,5,-999.0000,5,  -999.00,9,   -999.0,9,  -999.00,9,-999.000,9,   -999.0,9,   -999.0,9,  -999.0, -999.00,-999.0000,-999.000,-999.000
     316N145_5,  I09S,   133,  1,     21, SIH030,2,19950115,0439,-40.3000, 115.0028, 4665, 8125.4,    811.8,   7.3116,  34.4777,2,  34.4767,2,    208.5,2,  7.2309,    208.5,2,    13.74,2,    23.95,2,     0.00,2,     1.63,2,    1.712,2,    0.841,2,    0.230,2,   1.7850,2,     1.45,2,   -999.0,9,  -999.00,9,   7.624,2,   -999.0,9,   -999.0,9,  -999.0,    0.24,  0.0040,   0.018,   0.007
     316N145_5,  I09S,   133,  1,     20, SIH028,2,19950115,0439,-40.3000, 115.0028, 4665, 9121.6,    912.0,   6.1494,  34.4228,2,  34.4233,2,    197.5,2,  6.0662,    197.8,2,    21.54,2,    27.47,2,     0.00,2,     1.86,2,    1.025,2,    0.514,2, -999.000,5,-999.0000,5,  -999.00,9,   -999.0,9,  -999.00,9,-999.000,9,   -999.0,9,   -999.0,9,  -999.0, -999.00,-999.0000,-999.000,-999.000
     316N145_5,  I09S,   133,  1,     19, SIH027,2,19950115,0439,-40.3000, 115.0028, 4665,10112.4,   1011.7,   5.0003,  34.3687,2,  34.3692,2,    199.5,2,  4.9161,    201.9,2,    28.84,2,    29.55,2,     0.00,2,     2.00,2,    0.966,2,    0.476,2,    0.112,2,   1.8040,2,     3.06,2,   -999.0,9,  -999.00,9,   7.766,2,   -999.0,9,   -999.0,9,  -999.0,    0.24,  0.0040,   0.018,   0.007
     316N145_5,  I09S,   133,  1,     18, SIH003,2,19950115,0439,-40.3000, 115.0028, 4665,11126.8,   1113.7,   4.2266,  34.3639,2,  34.3647,2,    193.3,2,  4.1397,    198.2,2,    37.45,2,    31.13,2,     0.00,2,     2.12,2,    0.793,2,    0.376,2, -999.000,5,-999.0000,5,  -999.00,9,   -999.0,9,  -999.00,9,-999.000,9,   -999.0,9,   -999.0,9,  -999.0, -999.00,-999.0000,-999.000,-999.000
     316N145_5,  I09S,   133,  1,     17, SIH024,2,19950115,0439,-40.3000, 115.0028, 4665,12122.4,   1213.8,   3.7108,  34.3914,2,  34.3921,2,    187.7,2,  3.6199,    189.5,2,    46.67,2,    32.54,2,     0.00,2,     2.22,2,    0.460,2,    0.242,2,    0.081,2,   1.8210,2,     5.58,2,   -999.0,9,  -999.00,9,   7.851,2,   -999.0,9,   -999.0,9,  -999.0,    0.16,  0.0030,   0.011,   0.006
     316N145_5,  I09S,   133,  1,     16, SIH022,2,19950115,0439,-40.3000, 115.0028, 4665,14125.5,   1415.3,   3.0968,  34.4677,2,  34.4689,2,    174.9,2,  2.9952,    174.6,2,    61.62,2,    33.99,2,     0.00,2,     2.32,2,    0.198,2,    0.103,2,    0.161,2,   1.8350,2,     7.77,2,   -999.0,9,  -999.00,9,   7.873,2,   -999.0,9,   -999.0,9,  -999.0,    0.16,  0.0030,   0.012,   0.007
     316N145_5,  I09S,   133,  1,     15, SIH021,2,19950115,0439,-40.3000, 115.0028, 4665,16143.7,   1618.3,   2.8112,  34.5614,2,  34.5631,2,    164.9,2,  2.6958,    164.8,2,    73.55,2,    34.30,2,     0.00,2,     2.35,2,    0.056,2,    0.035,2,    0.000,5,   1.8520,2,     9.30,2,   -999.0,9,  -999.00,9,   7.957,2,   -999.0,9,   -999.0,9,  -999.0,    0.16,  0.0030,   0.011,   0.000
     316N145_5,  I09S,   133,  1,     14, SIH002,2,19950115,0439,-40.3000, 115.0028, 4665,18162.9,   1821.4,   2.6298,  34.6350,2,  34.6362,2,    165.0,2,  2.4994,    163.5,2,    81.97,2,    33.79,2,     0.00,2,     2.31,2, -999.000,9, -999.000,9, -999.000,5,-999.0000,5,  -999.00,9,   -999.0,9,  -999.00,9,-999.000,9,   -999.0,9,   -999.0,9,  -999.0, -999.00,-999.0000,-999.000,-999.000
     316N145_5,  I09S,   133,  1,     13, SIH018,2,19950115,0439,-40.3000, 115.0028, 4665,20175.4,   2023.8,   2.4876,  34.6824,2,  34.6822,2,    166.6,2,  2.3415,    166.0,2,    88.18,2,    33.18,2,     0.00,2,     2.28,2,    0.010,2,    0.018,2,   -0.019,4,   1.8910,2,    10.93,2,   -999.0,9,  -999.00,9,   8.066,2,   -999.0,9,   -999.0,9,  -999.0,   20.24,  0.0040,   0.019,   0.005
     316N145_5,  I09S,   133,  1,     12, SIH016,2,19950115,0439,-40.3000, 115.0028, 4665,22179.4,   2225.4,   2.3268,  34.7125,2,  34.7132,2,    171.8,2,  2.1653,    171.2,2,    92.80,2,    32.63,2,     0.00,2,     2.23,2,    0.007,2,    0.006,2,    0.021,3,   0.9020,4,     9.04,4,   -999.0,9,  -999.00,9,   4.032,4,   -999.0,9,   -999.0,9,  -999.0,    0.21,  0.0010,   0.006,   0.007
     316N145_5,  I09S,   133,  1,     11, SIH015,2,19950115,0439,-40.3000, 115.0028, 4665,24246.0,   2433.3,   2.1822,  34.7277,2,  34.7276,2,    175.4,2,  2.0043,    175.7,2,    95.83,2,    32.17,2,     0.00,2,     2.20,2,    0.006,2,    0.007,2,    0.111,3,   1.9070,2,    11.92,2,   -999.0,9,  -999.00,9,   8.128,2,   -999.0,9,   -999.0,9,  -999.0,   10.16,  0.0030,   0.012,   0.007
     316N145_5,  I09S,   133,  1,     10, SI9426,2,19950115,0439,-40.3000, 115.0028, 4665,27297.8,   2740.3,   1.9712,  34.7422,2,  34.7429,2,    185.6,2,  1.7687,    187.3,2,    95.53,2,    31.24,2,     0.00,2,     2.12,2,    0.007,2,    0.007,2,   -0.020,4,   1.8740,2,    11.20,2,   -999.0,9,  -999.00,9,   8.037,2,   -999.0,9,   -999.0,9,  -999.0,   30.16,  0.0030,   0.011,   0.005
     316N145_5,  I09S,   133,  1,      9, SIH012,2,19950115,0439,-40.3000, 115.0028, 4665,30338.1,   3046.1,   1.7053,  34.7426,2,  34.7429,2,    192.9,2,  1.4792,    195.1,2,   100.31,2,    31.01,2,     0.00,2,     2.11,2,    0.011,2,    0.015,4,    0.078,3,   1.9010,2,    11.27,2,   -999.0,9,  -999.00,9,   8.168,2,   -999.0,9,   -999.0,9,  -999.0,   10.23,  0.0050,   0.013,   0.005
     316N145_5,  I09S,   133,  1,      8, SIH010,2,19950115,0439,-40.3000, 115.0028, 4665,33376.8,   3351.7,   1.4125,  34.7342,2,  34.7325,2,    197.6,2,  1.1631,    201.0,2,   107.96,2,    31.18,2,     0.00,2,     2.12,2,    0.013,2,    0.005,2,    0.029,3,   1.8710,2,    10.59,2,   -999.0,9,  -999.00,9,   8.118,2,   -999.0,9,   -999.0,9,  -999.0,    0.12,  0.0050,   0.051,   0.006
     316N145_5,  I09S,   133,  1,      7, SIH009,2,19950115,0439,-40.3000, 115.0028, 4665,36487.1,   3664.6,   1.1470,  34.7221,2,  34.7195,2,    202.3,2,  0.8729,    203.8,2,   115.76,2,    31.68,2,     0.00,2,     2.15,2,    0.021,2,    0.021,3,   -0.021,4,   1.9140,2,    11.40,2,   -999.0,9,  -999.00,9,   8.191,2,   -999.0,9,   -999.0,9,  -999.0,    0.23,  0.0060,   0.013,   0.007
     316N145_5,  I09S,   133,  1,      6, SIH038,2,19950115,0439,-40.3000, 115.0028, 4665,39523.3,   3970.0,   0.9146,  34.7112,2,  34.7109,2,    207.3,2,  0.6152,    208.4,2,   121.02,2,    31.93,2,     0.00,2,     2.17,2,    0.035,6,    0.029,6,    0.000,5,   1.8930,2,    10.53,2,   -999.0,9,  -999.00,9,   8.208,2,   -999.0,9,   -999.0,9,  -999.0,    0.12,  0.0040,   0.060,   0.000
     316N145_5,  I09S,   133,  1,      5, SIH006,2,19950115,0439,-40.3000, 115.0028, 4665,41600.8,   4179.0,   0.8251,  34.7058,2,  34.7070,2,    209.1,2,  0.5062,    210.4,2,   123.58,2,    31.95,2,     0.00,2,     2.18,2,    0.046,2,    0.032,2,    0.013,3,   1.9490,3,    10.31,2,   -999.0,9,  -999.00,9,   8.302,3,   -999.0,9,   -999.0,9,  -999.0,    0.23,  0.0060,   0.013,   0.005
     316N145_5,  I09S,   133,  1,      4, SIH004,2,19950115,0439,-40.3000, 115.0028, 4665,43608.3,   4380.9,   0.8039,  34.7043,2,  34.7030,2,    211.3,2,  0.4636,    210.3,2,   124.55,2,    32.12,2,     0.00,2,     2.18,2,    0.048,2,    0.036,2,   -0.003,4,   1.8890,2,     9.83,2,   -999.0,9,  -999.00,9,   8.150,2,   -999.0,9,   -999.0,9,  -999.0,    0.12,  0.0060,   0.066,   0.008
     316N145_5,  I09S,   133,  1,      3, SIH025,2,19950115,0439,-40.3000, 115.0028, 4665,45727.0,   4594.0,   0.8058,  34.7032,2,  34.7046,2,    213.1,2,  0.4418,    210.9,2,   125.21,2,    32.14,2,     0.00,2,     2.19,2,    0.059,2,    0.036,2, -999.000,5,-999.0000,5,  -999.00,9,   -999.0,9,  -999.00,9,-999.000,9,   -999.0,9,   -999.0,9,  -999.0, -999.00,-999.0000,-999.000,-999.000
     316N145_5,  I09S,   133,  1,      2, SIH001,2,19950115,0439,-40.3000, 115.0028, 4665,46738.7,   4695.8,   0.8118,  34.7035,2,  34.7036,2,    213.2,2,  0.4360,    211.0,2,   125.54,2,    32.16,2,     0.00,2,     2.18,2,    0.057,2,    0.041,2,    0.039,3,-999.0000,5,  -999.00,5,   -999.0,9,  -999.00,9,-999.000,5,   -999.0,9,   -999.0,9,  -999.0, -999.00,-999.0000,-999.000,   0.005
     316N145_5,  I09S,   133,  1,      1, SIH036,2,19950115,0439,-40.3000, 115.0028, 4665,47233.1,   4745.5,   0.8176,  34.7033,2,  34.7030,2,    215.0,2,  0.4360,    211.8,2,   125.34,2,    32.14,2,     0.00,2,     2.19,2,    0.058,2,    0.038,2,    0.031,3,-999.0000,5,  -999.00,5,   -999.0,9,  -999.00,9,-999.000,5,   -999.0,9,   -999.0,9,  -999.0, -999.00,-999.0000,-999.000,   0.005