BOTTLE,20090521WHPSIOdm
EXPOCODE,SECT_ID,STNNBR,CASTNO,SAMPNO,BTLNBR,BTLNBR_FLAG_W,DATE,TIME,LATITUDE,LONGITUDE,DEPTH,CTDRAW,CTDPRS,CTDTMP,CTDSAL,CTDSAL_FLAG_W,SALNTY,SALNTY_FLAG_W,CTDOXY,CTDOXY_FLAG_W,THETA,OXYGEN,OXYGEN_FLAG_W,SILCAT,SILCAT_FLAG_W,NITRAT,NITRAT_FLAG_W,NITRIT,NITRIT_FLAG_W,PHSPHT,PHSPHT_FLAG_W,CFC-11,CFC-11_FLAG_W,CFC-12,CFC-12_FLAG_W,TRITUM,TRITUM_FLAG_W,HELIUM,HELIUM_FLAG_W,DELHE3,DELHE3_FLAG_W,DELC14,DELC14_FLAG_W,DELC13,DELC13_FLAG_W,NEON,NEON_FLAG_W,TCARBN,TCARBN_FLAG_W,ALKALI,ALKALI_FLAG_W,C14ERR,DELHER,HELIER,NEONER,TRITER
,,,,,,,,,,,,,DBAR,IPTS-68,PSS-78,,PSS-78,,UMOL/KG,,IPTS-68,UMOL/KG,,UMOL/KG,,UMOL/KG,,UMOL/KG,,UMOL/KG,,PMOL/KG,,PMOL/KG,,TU,,NMOL/KG,,PERCNT,,/MILLE,,/MILLE,,NMOL/KG,,UMOL/KG,,UMOL/KG,,/MILLE,PERCNT,NMOL/KG,NMOL/KG,TU
     316N145_5,  I08S,    62,  1,     36, SIH035,2,19941223,0856,-56.0583,  84.2612, 4790,  167.7,     11.4,   1.9151,  34.0194,2,  34.0217,2,    324.2,2,  1.9146,    336.1,2,    16.52,2,    25.06,2,     0.22,2,     1.59,2,    6.004,2,    2.934,2, -999.000,5,-999.0000,5,  -999.00,9,    -81.0,2,  -999.00,9,-999.000,9,   2144.9,6,   2298.6,2,     6.1, -999.00,-999.0000,-999.000,-999.000
     316N145_5,  I08S,    62,  1,     35, SIH032,2,19941223,0856,-56.0583,  84.2612, 4790,  366.6,     31.4,   1.8495,  34.0178,2,  34.0198,2,    324.3,2,  1.8479,    337.2,2,    16.52,2,    24.34,2,     0.22,2,     1.60,2,    5.875,2,    2.898,2, -999.000,5,-999.0000,5,  -999.00,9,    -77.7,2,     1.28,2,-999.000,9,   2140.2,2,   2299.1,2,     6.9, -999.00,-999.0000,-999.000,-999.000
     316N145_5,  I08S,    62,  1,     34, SIH029,2,19941223,0856,-56.0583,  84.2612, 4790,  629.9,     57.9,   1.7159,  34.0217,2,  34.0294,2,    328.2,2,  1.7130,    335.7,2,    17.35,2,    24.50,2,     0.22,2,     1.63,2, -999.000,9, -999.000,9, -999.000,5,-999.0000,5,  -999.00,9,    -76.4,2,     1.21,2,-999.000,9,   2146.5,2,   2296.0,2,     3.7, -999.00,-999.0000,-999.000,-999.000
     316N145_5,  I08S,    62,  1,     33, SIH026,2,19941223,0856,-56.0583,  84.2612, 4790,  865.5,     81.6,   1.5172,  34.0481,2,  34.0492,2,    324.7,2,  1.5134,    331.2,2,    23.63,2,    25.38,2,     0.22,2,     1.78,2,    5.906,6,    2.902,6, -999.000,5,-999.0000,5,  -999.00,9,    -71.6,2,     1.28,2,-999.000,9,   2157.4,2,   2297.2,2,     4.0, -999.00,-999.0000,-999.000,-999.000
     316N145_5,  I08S,    62,  1,     32, SIH023,2,19941223,0856,-56.0583,  84.2612, 4790, 1116.5,    106.8,   0.9883,  34.1234,2,  34.1252,2,    305.2,2,  0.9836,    310.0,2,    40.97,2,    28.45,2,     0.20,2,     2.02,2,    5.312,2,    2.605,2, -999.000,5,-999.0000,5,  -999.00,9,    -85.4,2,     0.95,2,-999.000,9,   2179.9,2,   2303.2,2,     3.3, -999.00,-999.0000,-999.000,-999.000
     316N145_5,  I08S,    62,  1,     31, SIH020,2,19941223,0856,-56.0583,  84.2612, 4790, 1610.9,    156.6,   0.9315,  34.2362,2,  34.2370,2,    273.9,2,  0.9247,    271.5,2,    53.85,2,    31.18,2,     0.16,2,     2.22,2,    4.151,2,    1.995,2, -999.000,5,-999.0000,5,  -999.00,9,    -76.1,2,     0.68,2,-999.000,9,   2204.9,2,   2307.6,2,     3.5, -999.00,-999.0000,-999.000,-999.000
     316N145_5,  I08S,    62,  1,     30, SIH017,2,19941223,0856,-56.0583,  84.2612, 4790, 2118.9,    207.7,   1.3211,  34.3549,2,  34.3588,2,    234.1,2,  1.3112,    233.9,2,    62.44,2,    32.52,2,     0.11,2,     2.32,2,    2.860,2,    1.357,2, -999.000,5,-999.0000,5,  -999.00,9,   -109.8,2,     0.49,2,-999.000,9,   2225.2,2,   2312.6,2,     4.6, -999.00,-999.0000,-999.000,-999.000
     316N145_5,  I08S,    62,  1,     29, SIH014,2,19941223,0856,-56.0583,  84.2612, 4790, 2616.2,    257.7,   1.7203,  34.4654,2,  34.4657,2,    198.4,2,  1.7071,    199.1,2,    70.03,2,    33.57,2,     0.05,2,     2.37,2,    1.636,2,    0.765,2, -999.000,5,-999.0000,5,  -999.00,9,   -140.2,2,    -0.31,3,-999.000,9,   2241.4,2,   2328.6,2,     3.5, -999.00,-999.0000,-999.000,-999.000
     316N145_5,  I08S,    62,  1,     28, SIH011,2,19941223,0856,-56.0583,  84.2612, 4790, 3093.4,    305.7,   1.7407,  34.5166,2,  34.5176,2,    193.3,2,  1.7248,    193.7,2,    73.33,2,    33.66,2,     0.02,2,     2.36,2,    1.366,2,    0.643,2, -999.000,5,-999.0000,5,  -999.00,9,   -141.2,2,     0.28,2,-999.000,9,   2245.4,2,   2327.2,2,     3.0, -999.00,-999.0000,-999.000,-999.000
     316N145_5,  I08S,    62,  1,     27, SIH008,2,19941223,0856,-56.0583,  84.2612, 4790, 3578.0,    354.4,   2.0251,  34.5844,2,  34.5849,2,    179.2,2,  2.0056,    179.6,2,    76.64,2,    33.50,2,     0.02,2,     2.34,2,    0.695,2,    0.337,2, -999.000,5,-999.0000,5,  -999.00,9,   -140.2,2,     0.25,2,-999.000,9,   2249.9,2,   2330.0,2,     3.3, -999.00,-999.0000,-999.000,-999.000
     316N145_5,  I08S,    62,  1,     26, SIH005,2,19941223,0856,-56.0583,  84.2612, 4790, 4060.2,    402.9,   2.0240,  34.6143,2,  34.6172,2,    179.1,2,  2.0016,    178.5,2,    78.95,2,    33.06,2,     0.01,2,     2.32,2,    0.571,2,    0.289,2, -999.000,5,-999.0000,5,  -999.00,9,   -143.1,2,     0.30,2,-999.000,9,   2252.3,2,   2332.4,2,     3.3, -999.00,-999.0000,-999.000,-999.000
     316N145_5,  I08S,    62,  1,     25, SIH019,2,19941223,0856,-56.0583,  84.2612, 4790, 4672.7,    464.6,   2.0841,  34.6461,2,  34.6482,2,    177.5,2,  2.0579,    179.6,2,    78.95,2,    32.44,2,     0.01,2,     2.27,2,    0.409,2,    0.194,2, -999.000,5,-999.0000,5,  -999.00,9,   -147.1,2,     0.36,2,-999.000,9,   2250.9,2,   2338.5,2,     7.1, -999.00,-999.0000,-999.000,-999.000
     316N145_5,  I08S,    62,  1,     24, SIH037,2,19941223,0856,-56.0583,  84.2612, 4790, 5142.1,    511.8,   2.1446,  34.6684,2,  34.6675,2,    176.5,2,  2.1152,    180.7,2,    78.61,2,    31.88,2,     0.01,2,     2.24,2,    0.286,2,    0.141,2, -999.000,5,-999.0000,5,  -999.00,9,   -152.7,2,    -0.12,3,-999.000,9,   2250.2,2,   2333.7,2,     5.8, -999.00,-999.0000,-999.000,-999.000
     316N145_5,  I08S,    62,  1,     23, SIH033,2,19941223,0856,-56.0583,  84.2612, 4790, 6123.4,    610.5,   2.0288,  34.6964,2,  34.6965,2,    182.4,2,  1.9938,    184.0,2,    81.42,2,    31.32,2,     0.01,2,     2.20,2,    0.256,2,    0.118,2, -999.000,5,-999.0000,5,  -999.00,9,   -137.7,2,     0.34,2,-999.000,9,   2248.7,2,   2343.1,2,     3.0, -999.00,-999.0000,-999.000,-999.000
     316N145_5,  I08S,    62,  1,     22, SIH031,2,19941223,0856,-56.0583,  84.2612, 4790, 7230.6,    721.8,   1.9739,  34.7126,2,  34.7140,2,    184.4,2,  1.9321,    187.8,2,    82.58,2,    30.91,2,     0.01,2,     2.17,2, -999.000,9, -999.000,9, -999.000,5,-999.0000,5,  -999.00,9,   -999.0,9,  -999.00,9,-999.000,9,   -999.0,9,   2346.2,2,  -999.0, -999.00,-999.0000,-999.000,-999.000
     316N145_5,  I08S,    62,  1,     21, SIH030,2,19941223,0856,-56.0583,  84.2612, 4790, 8158.6,    815.2,   1.9463,  34.7252,2,  34.7258,2,    186.6,2,  1.8986,    189.1,2,    83.41,2,    30.62,2,     0.00,2,     2.14,2,    0.189,2,    0.093,2, -999.000,5,-999.0000,5,  -999.00,9,   -133.4,2,     0.47,2,-999.000,9,   2247.2,2,   2343.1,2,     5.8, -999.00,-999.0000,-999.000,-999.000
     316N145_5,  I08S,    62,  1,     20, SIH028,2,19941223,0856,-56.0583,  84.2612, 4790, 9134.2,    913.3,   1.8734,  34.7363,2,  34.7372,2,    189.3,2,  1.8197,    192.0,2,    85.38,2,    30.32,2,     0.00,2,     2.12,2, -999.000,9, -999.000,9, -999.000,5,-999.0000,5,  -999.00,9,   -154.7,2,     0.32,2,-999.000,9,   -999.0,9,   -999.0,9,     3.2, -999.00,-999.0000,-999.000,-999.000
     316N145_5,  I08S,    62,  1,     19, SIH027,2,19941223,0856,-56.0583,  84.2612, 4790,10154.1,   1015.9,   1.8049,  34.7422,2,  34.7418,2,    191.4,2,  1.7449,    194.5,2,    87.53,2,    30.22,2,     0.00,2,     2.10,2,    0.132,2,    0.067,2, -999.000,5,-999.0000,5,  -999.00,9,   -169.9,2,    -0.29,3,-999.000,9,   2246.9,2,   2346.8,2,     3.1, -999.00,-999.0000,-999.000,-999.000
     316N145_5,  I08S,    62,  1,     18, SIH003,2,19941223,0856,-56.0583,  84.2612, 4790,11152.3,   1116.3,   1.7148,  34.7459,2,  34.7463,2,    193.6,2,  1.6488,    197.1,2,    89.68,2,    30.07,2,     0.00,2,     2.10,2,    0.129,2,    0.054,2, -999.000,5,-999.0000,5,  -999.00,9,   -151.8,2,     0.44,2,-999.000,9,   2246.8,6,   2349.4,2,     5.0, -999.00,-999.0000,-999.000,-999.000
     316N145_5,  I08S,    62,  1,     17, SIH024,2,19941223,0856,-56.0583,  84.2612, 4790,12123.4,   1214.0,   1.6198,  34.7457,2,  34.7480,2,    194.1,2,  1.5479,    199.1,2,    92.50,2,    29.92,2,     0.00,2,     2.10,2,    0.106,2,    0.059,2, -999.000,5,-999.0000,5,  -999.00,9,   -153.4,2,     0.44,2,-999.000,9,   2244.8,2,   2357.0,2,     3.7, -999.00,-999.0000,-999.000,-999.000
     316N145_5,  I08S,    62,  1,     16, SIH022,2,19941223,0856,-56.0583,  84.2612, 4790,14005.8,   1403.3,   1.4536,  34.7421,2,  34.7433,2,    197.9,2,  1.3702,    201.2,2,    97.12,2,    30.29,2,     0.00,2,     2.11,2,    0.098,2,    0.046,2, -999.000,5,-999.0000,5,  -999.00,9,   -187.7,2,    -0.80,3,-999.000,9,   2245.5,2,   2353.3,2,     3.6, -999.00,-999.0000,-999.000,-999.000
     316N145_5,  I08S,    62,  1,     15, SIH021,2,19941223,0856,-56.0583,  84.2612, 4790,15996.5,   1603.6,   1.2996,  34.7354,2,  34.7360,2,    198.7,2,  1.2036,    203.1,2,   101.91,2,    30.55,2,     0.00,2,     2.13,2,    0.098,2,    0.045,2, -999.000,5,-999.0000,5,  -999.00,9,   -999.0,9,  -999.00,9,-999.000,9,   2250.7,2,   2351.7,2,  -999.0, -999.00,-999.0000,-999.000,-999.000
     316N145_5,  I08S,    62,  1,     14, SIH002,2,19941223,0856,-56.0583,  84.2612, 4790,18193.8,   1824.6,   1.1300,  34.7263,2,  34.7280,2,    200.7,2,  1.0200,    205.0,2,   106.70,2,    30.92,2,     0.00,2,     2.16,2,    0.099,2,    0.052,2, -999.000,5,-999.0000,5,  -999.00,9,   -999.0,9,  -999.00,9,-999.000,9,   2249.9,2,   2359.9,2,  -999.0, -999.00,-999.0000,-999.000,-999.000
     316N145_5,  I08S,    62,  1,     13, SIH018,2,19941223,0856,-56.0583,  84.2612, 4790,20105.4,   2016.8,   0.9537,  34.7170,2,  34.7162,2,    200.4,2,  0.8317,    206.3,2,   111.67,2,    31.25,2,     0.00,2,     2.18,2,    0.111,2,    0.055,2, -999.000,5,-999.0000,5,  -999.00,9,   -999.0,9,  -999.00,9,-999.000,9,   2250.8,2,   2357.3,2,  -999.0, -999.00,-999.0000,-999.000,-999.000
     316N145_5,  I08S,    62,  1,     12, SIH016,2,19941223,0856,-56.0583,  84.2612, 4790,22280.7,   2235.6,   0.7952,  34.7070,2,  34.7081,2,    204.3,2,  0.6587,    207.6,2,   115.79,2,    31.56,2,     0.00,2,     2.21,2, -999.000,9, -999.000,9, -999.000,5,-999.0000,5,  -999.00,9,   -999.0,9,  -999.00,9,-999.000,9,   2257.4,2,   2358.0,2,  -999.0, -999.00,-999.0000,-999.000,-999.000
     316N145_5,  I08S,    62,  1,     11, SIH015,2,19941223,0856,-56.0583,  84.2612, 4790,24322.1,   2441.0,   0.6688,  34.7011,2,  34.7019,2,    206.3,2,  0.5181,    209.8,2,   119.93,2,    31.78,2,     0.00,2,     2.23,2,    0.128,2,    0.064,2, -999.000,5,-999.0000,5,  -999.00,9,   -999.0,9,  -999.00,9,-999.000,9,   2259.1,2,   2356.4,2,  -999.0, -999.00,-999.0000,-999.000,-999.000
     316N145_5,  I08S,    62,  1,     10, SIH013,2,19941223,0856,-56.0583,  84.2612, 4790,27338.2,   2744.4,   0.4832,  34.6920,2,  34.6918,2,    210.1,2,  0.3110,    213.9,2,   123.40,2,    32.15,2,     0.00,2,     2.24,2, -999.000,9, -999.000,9, -999.000,5,-999.0000,5,  -999.00,9,   -999.0,9,  -999.00,9,-999.000,9,   2254.1,2,   2357.3,2,  -999.0, -999.00,-999.0000,-999.000,-999.000
     316N145_5,  I08S,    62,  1,      9, SIH012,2,19941223,0856,-56.0583,  84.2612, 4790,30392.8,   3051.6,   0.2913,  34.6847,2,  34.6844,2,    215.3,2,  0.0967,    218.9,2,   126.05,2,    32.21,2,     0.00,2,     2.25,2,    0.300,2,    0.157,2, -999.000,5,-999.0000,5,  -999.00,9,   -999.0,9,  -999.00,9,-999.000,9,   2257.9,2,   2353.2,2,  -999.0, -999.00,-999.0000,-999.000,-999.000
     316N145_5,  I08S,    62,  1,      8, SIH010,2,19941223,0856,-56.0583,  84.2612, 4790,33456.6,   3359.8,   0.1735,  34.6801,2,  34.6796,2,    220.3,2, -0.0459,    223.2,2,   127.20,2,    32.21,2,     0.00,2,     2.25,2, -999.000,9, -999.000,9, -999.000,5,-999.0000,5,  -999.00,9,   -999.0,9,  -999.00,9,-999.000,9,   2257.7,2,   2351.3,2,  -999.0, -999.00,-999.0000,-999.000,-999.000
     316N145_5,  I08S,    62,  1,      7, SIH009,2,19941223,0856,-56.0583,  84.2612, 4790,36550.3,   3671.0,   0.0942,  34.6775,2,  34.6763,2,    224.5,2, -0.1525,    226.7,2,   127.38,2,    32.22,2,     0.00,2,     2.25,2,    0.543,6,    0.265,6, -999.000,5,-999.0000,5,  -999.00,9,   -999.0,9,  -999.00,9,-999.000,9,   2257.3,2,   2355.3,2,  -999.0, -999.00,-999.0000,-999.000,-999.000
     316N145_5,  I08S,    62,  1,      6, SIH038,2,19941223,0856,-56.0583,  84.2612, 4790,39569.3,   3974.7,   0.0495,  34.6769,2,  34.6747,2,    227.8,2, -0.2256,    228.8,2,   127.38,2,    32.12,2,     0.00,2,     2.25,2, -999.000,9, -999.000,9, -999.000,5,-999.0000,5,  -999.00,9,   -999.0,9,  -999.00,9,-999.000,9,   2254.9,2,   2348.9,2,  -999.0, -999.00,-999.0000,-999.000,-999.000
     316N145_5,  I08S,    62,  1,      5, SIH006,2,19941223,0856,-56.0583,  84.2612, 4790,42620.2,   4281.6,   0.0173,  34.6748,2,  34.6739,2,    232.1,2, -0.2881,    231.0,2,   127.54,2,    32.08,2,     0.00,2,     2.24,2,    0.767,2,    0.369,2, -999.000,5,-999.0000,5,  -999.00,9,   -999.0,9,  -999.00,9,-999.000,9,   2254.2,2,   2351.5,2,  -999.0, -999.00,-999.0000,-999.000,-999.000
     316N145_5,  I08S,    62,  1,      4, SIH004,2,19941223,0856,-56.0583,  84.2612, 4790,44479.3,   4468.6,  -0.0003,  34.6734,2,  34.6722,2,    233.4,2, -0.3248,    232.5,2,   126.88,2,    32.14,2,     0.00,2,     2.24,2,    0.851,2,    0.404,2, -999.000,5,-999.0000,5,  -999.00,9,   -999.0,9,  -999.00,9,-999.000,9,   2254.9,2,   2353.3,2,  -999.0, -999.00,-999.0000,-999.000,-999.000
     316N145_5,  I08S,    62,  1,      3, SIH025,2,19941223,0856,-56.0583,  84.2612, 4790,46526.5,   4674.5,  -0.0109,  34.6721,2,  34.6722,2,    236.2,2, -0.3572,    233.6,2,   127.21,2,    32.09,2,     0.00,2,     2.24,2,    0.942,2,    0.451,2, -999.000,5,-999.0000,5,  -999.00,9,   -999.0,9,  -999.00,9,-999.000,9,   2253.9,2,   2347.6,2,  -999.0, -999.00,-999.0000,-999.000,-999.000
     316N145_5,  I08S,    62,  1,      2, SIH001,2,19941223,0856,-56.0583,  84.2612, 4790,47703.8,   4792.9,  -0.0289,  34.6714,2,  34.6708,2,    238.1,2, -0.3877,    234.8,2,   127.54,2,    32.10,2,     0.00,2,     2.24,2,    1.063,2,    0.505,2, -999.000,5,-999.0000,5,  -999.00,9,   -999.0,9,  -999.00,9,-999.000,9,   2254.3,2,   2356.6,2,  -999.0, -999.00,-999.0000,-999.000,-999.000
     316N145_5,  I08S,    62,  1,      1, SIH036,2,19941223,0856,-56.0583,  84.2612, 4790,48221.6,   4845.0,  -0.0229,  34.6723,2,  34.6730,2,    239.1,2, -0.3877,    235.1,2,   127.59,2,    32.21,2,     0.00,2,     2.24,2,    1.027,2,    0.493,2, -999.000,5,-999.0000,5,  -999.00,9,   -999.0,9,  -999.00,9,-999.000,9,   2254.5,2,   2358.3,2,  -999.0, -999.00,-999.0000,-999.000,-999.000