BOTTLE,20090521WHPSIOdm
EXPOCODE,SECT_ID,STNNBR,CASTNO,SAMPNO,BTLNBR,BTLNBR_FLAG_W,DATE,TIME,LATITUDE,LONGITUDE,DEPTH,CTDRAW,CTDPRS,CTDTMP,CTDSAL,CTDSAL_FLAG_W,SALNTY,SALNTY_FLAG_W,CTDOXY,CTDOXY_FLAG_W,THETA,OXYGEN,OXYGEN_FLAG_W,SILCAT,SILCAT_FLAG_W,NITRAT,NITRAT_FLAG_W,NITRIT,NITRIT_FLAG_W,PHSPHT,PHSPHT_FLAG_W,CFC-11,CFC-11_FLAG_W,CFC-12,CFC-12_FLAG_W,TRITUM,TRITUM_FLAG_W,HELIUM,HELIUM_FLAG_W,DELHE3,DELHE3_FLAG_W,DELC14,DELC14_FLAG_W,DELC13,DELC13_FLAG_W,NEON,NEON_FLAG_W,TCARBN,TCARBN_FLAG_W,ALKALI,ALKALI_FLAG_W,C14ERR,DELHER,HELIER,NEONER,TRITER
,,,,,,,,,,,,,DBAR,IPTS-68,PSS-78,,PSS-78,,UMOL/KG,,IPTS-68,UMOL/KG,,UMOL/KG,,UMOL/KG,,UMOL/KG,,UMOL/KG,,PMOL/KG,,PMOL/KG,,TU,,NMOL/KG,,PERCNT,,/MILLE,,/MILLE,,NMOL/KG,,UMOL/KG,,UMOL/KG,,/MILLE,PERCNT,NMOL/KG,NMOL/KG,TU
     316N145_5,  I08S,    29,  1,     24, SIH037,2,19941213,0955,-43.0112,  95.0055, 3280,  153.5,     10.9,  11.7105,  34.8632,2,  34.8644,2,    284.6,2, 11.7092,    274.5,2,     1.41,2,     7.38,2,     0.18,2,     0.68,2,    3.532,2,    1.903,2,    0.791,2,   1.7420,2,    -1.76,2,   -999.0,9,  -999.00,9,   7.364,2,   2070.7,6,   2311.1,2,  -999.0,    0.11,  0.0030,   0.025,   0.011
     316N145_5,  I08S,    29,  1,     23, SIH033,2,19941213,0955,-43.0112,  95.0055, 3280,  374.9,     33.2,  11.7150,  34.8629,2,  34.8633,2,    281.2,2, 11.7107,    274.2,2,     1.54,2,     7.33,2,     0.18,2,     0.68,2,    3.520,2,    1.824,2,    0.812,2,   1.7520,2,    -1.76,2,   -999.0,9,  -999.00,9,   7.363,2,   2069.4,2,   2313.1,2,  -999.0,    0.15,  0.0020,   0.034,   0.012
     316N145_5,  I08S,    29,  1,     22, SIH031,2,19941213,0955,-43.0112,  95.0055, 3280,  603.0,     56.1,  11.6339,  34.8697,2,  34.8686,2,    273.4,2, 11.6268,    272.3,2,     1.86,2,     7.52,2,     0.20,2,     0.70,2,    3.528,2,    1.857,2, -999.000,5,-999.0000,5,  -999.00,9,   -999.0,9,  -999.00,9,-999.000,9,   2073.1,2,   -999.0,9,  -999.0, -999.00,-999.0000,-999.000,-999.000
     316N145_5,  I08S,    29,  1,     21, SIH030,2,19941213,0955,-43.0112,  95.0055, 3280, 1114.4,    107.5,  10.8379,  34.8589,2,  34.8593,2,    269.0,2, 10.8249,    266.8,2,     3.69,2,     9.57,2,     0.52,2,     0.86,2,    3.605,2,    1.865,2,    0.111,4,-999.0000,5,  -999.00,9,   -999.0,9,  -999.00,9,-999.000,9,   2089.7,2,   -999.0,9,  -999.0, -999.00,-999.0000,-999.000,   0.005
     316N145_5,  I08S,    29,  1,     20, SIH028,2,19941213,0955,-43.0112,  95.0055, 3280, 2112.6,    207.9,  10.2853,  34.8214,2,  34.8228,2,    263.2,2, 10.2607,    264.8,2,     4.35,2,    11.84,2,     0.02,2,     0.94,2,    3.554,2,    1.879,2,    0.721,2,   1.7560,2,    -1.44,2,   -999.0,9,  -999.00,9,   7.447,2,   2095.1,2,   2294.2,2,  -999.0,    0.15,  0.0020,   0.035,   0.010
     316N145_5,  I08S,    29,  1,     19, SIH027,2,19941213,0955,-43.0112,  95.0055, 3280, 3102.4,    307.5,   9.9164,  34.7729,2,  34.7740,2,    263.7,2,  9.8808,    262.1,2,     4.65,2,    12.85,2,     0.01,2,     1.00,2,    3.477,2,    1.774,2, -999.000,5,-999.0000,5,  -999.00,9,   -999.0,9,  -999.00,9,-999.000,9,   2099.7,2,   -999.0,9,  -999.0, -999.00,-999.0000,-999.000,-999.000
     316N145_5,  I08S,    29,  1,     18, SIH003,2,19941213,0955,-43.0112,  95.0055, 3280, 4192.5,    417.1,   9.2062,  34.6577,2,  34.6586,2,    262.0,2,  9.1599,    261.5,2,     5.30,2,    14.75,2,     0.01,2,     1.11,2,    3.370,6,    1.760,6,    0.618,2,   1.7610,2,    -1.03,2,   -999.0,9,  -999.00,9,   7.520,2,   2105.1,2,   2287.6,2,  -999.0,    0.11,  0.0040,   0.021,   0.009
     316N145_5,  I08S,    29,  1,     17, SIH024,2,19941213,0955,-43.0112,  95.0055, 3280, 4999.5,    498.2,   8.8074,  34.6044,2,  34.6060,2,    249.0,2,  8.7533,    252.9,2,     6.12,2,    16.54,2,     0.01,2,     1.22,2,    3.263,2,    1.675,2, -999.000,5,-999.0000,5,  -999.00,9,   -999.0,9,  -999.00,9,-999.000,9,   2113.2,2,   -999.0,9,  -999.0, -999.00,-999.0000,-999.000,-999.000
     316N145_5,  I08S,    29,  1,     16, SIH022,2,19941213,0955,-43.0112,  95.0055, 3280, 6007.5,    599.6,   7.8847,  34.5332,2,  34.5337,2,    221.0,2,  7.8234,    218.9,2,    11.53,2,    21.58,2,     0.00,2,     1.52,2,    2.231,2,    1.125,2,    0.422,2,   1.7650,2,     0.91,2,   -999.0,9,  -999.00,9,   7.591,2,   2140.1,2,   2287.3,2,  -999.0,    0.15,  0.0020,   0.027,   0.008
     316N145_5,  I08S,    29,  1,     15, SIH021,2,19941213,0955,-43.0112,  95.0055, 3280, 7048.2,    704.3,   6.5955,  34.4365,2,  34.4377,2,    212.3,2,  6.5299,    213.8,2,    16.95,2,    25.16,2,     0.00,2,     1.75,2,    1.972,6,    0.964,6, -999.000,5,-999.0000,5,  -999.00,9,   -999.0,9,  -999.00,9,-999.000,9,   2156.9,2,   -999.0,9,  -999.0, -999.00,-999.0000,-999.000,-999.000
     316N145_5,  I08S,    29,  1,     14, SIH002,2,19941213,0955,-43.0112,  95.0055, 3280, 8105.1,    810.6,   5.3842,  34.3576,2,  34.3582,2,    220.8,2,  5.3156,    218.3,2,    22.04,2,    27.69,2,     0.00,2,     1.92,2,    1.995,2,    0.987,2,    0.279,2,   2.3140,4,     1.77,2,   -999.0,9,  -999.00,9,   9.264,4,   2168.0,2,   2290.3,2,  -999.0,    0.10,  0.0040,   0.025,   0.007
     316N145_5,  I08S,    29,  1,     13, SIH018,2,19941213,0955,-43.0112,  95.0055, 3280,10135.8,   1014.8,   3.9739,  34.3262,2,  34.3278,2,    217.2,2,  3.8975,    213.4,2,    33.93,2,    30.94,2,     0.00,2,     2.13,2,    1.564,2,    0.749,2, -999.000,5,-999.0000,5,  -999.00,9,   -999.0,9,  -999.00,9,-999.000,9,   2191.5,2,   -999.0,9,  -999.0, -999.00,-999.0000,-999.000,-999.000
     316N145_5,  I08S,    29,  1,     12, SIH016,2,19941213,0955,-43.0112,  95.0055, 3280,12113.1,   1213.7,   3.2323,  34.3842,2,  34.3835,2,    201.8,2,  3.1460,    197.0,2,    48.19,2,    33.09,2,     0.00,2,     2.27,2,    0.987,2,    0.467,2,    0.116,2,   1.8230,2,     4.75,2,   -999.0,9,  -999.00,9,   7.959,2,   2215.9,2,   2306.8,2,  -999.0,    0.10,  0.0020,   0.034,   0.005
     316N145_5,  I08S,    29,  1,     11, SIH015,2,19941213,0955,-43.0112,  95.0055, 3280,14208.6,   1424.5,   2.9087,  34.4940,2,  34.4966,2,    178.4,2,  2.8083,    176.6,2,    63.13,2,    34.09,2,     0.00,2,     2.35,2,    0.333,2,    0.161,2, -999.000,5,-999.0000,5,  -999.00,9,   -999.0,9,  -999.00,9,-999.000,9,   2238.2,2,   2344.4,3,  -999.0, -999.00,-999.0000,-999.000,-999.000
     316N145_5,  I08S,    29,  1,     10, SIH013,2,19941213,0955,-43.0112,  95.0055, 3280,16167.5,   1621.5,   2.6889,  34.5769,2,  34.5791,2,    175.5,2,  2.5746,    174.2,2,    69.39,2,    33.62,2,     0.00,2,     2.31,2,    0.190,2,    0.093,2,    0.138,2,   1.8330,2,     8.10,2,   -999.0,9,  -999.00,9,   7.950,2,   2244.4,2,   2330.2,2,  -999.0,    0.10,  0.0020,   0.048,   0.005
     316N145_5,  I08S,    29,  1,      9, SIH012,2,19941213,0955,-43.0112,  95.0055, 3280,18171.5,   1823.1,   2.5494,  34.6511,2,  34.6515,2,    179.3,2,  2.4198,    178.3,2,    72.41,2,    32.41,2,     0.00,2,     2.22,2,    0.108,2,    0.050,2, -999.000,5,-999.0000,5,  -999.00,9,   -999.0,9,  -999.00,9,-999.000,9,   2244.0,2,   -999.0,9,  -999.0, -999.00,-999.0000,-999.000,-999.000
     316N145_5,  I08S,    29,  1,      8, SIH010,2,19941213,0955,-43.0112,  95.0055, 3280,20207.8,   2027.9,   2.4196,  34.6998,2,  34.7046,3,    184.9,2,  2.2741,    182.2,2,    76.79,2,    31.63,2,     0.00,2,     2.17,2,    0.056,2,    0.034,2,    0.045,4,   1.8410,2,     9.15,2,   -999.0,9,  -999.00,9,   7.999,2,   2245.2,2,   2342.5,2,  -999.0,    0.14,  0.0020,   0.020,   0.005
     316N145_5,  I08S,    29,  1,      7, SIH009,2,19941213,0955,-43.0112,  95.0055, 3280,22245.8,   2232.9,   2.2826,  34.7337,2,  34.7345,2,    189.9,2,  2.1211,    189.4,2,    78.46,2,    30.63,2,     0.00,2,     2.10,2,    0.031,2,    0.023,2,    0.107,4,   2.4220,4,     7.79,3,   -999.0,9,  -999.00,9,  10.110,4,   2242.5,2,   -999.0,9,  -999.0,    0.09,  0.0030,  60.049,   0.005
     316N145_5,  I08S,    29,  1,      6, SIH038,2,19941213,0955,-43.0112,  95.0055, 3280,24248.2,   2434.3,   2.1275,  34.7466,2,  34.7473,2,    194.6,2,  1.9504,    193.1,2,    83.35,2,    30.37,2,     0.00,2,     2.08,2,   -0.001,4,    0.017,2,    0.086,4,   1.8890,2,     9.71,2,   -999.0,9,  -999.00,9,   8.165,2,   2242.9,2,   2347.0,2,  -999.0,    0.14,  0.0020,   0.027,   0.006
     316N145_5,  I08S,    29,  1,      5, SIH006,2,19941213,0955,-43.0112,  95.0055, 3280,27295.0,   2740.8,   1.8176,  34.7482,2,  34.7504,2,    198.7,2,  1.6182,    197.4,2,    93.36,2,    30.47,2,     0.00,2,     2.09,2,    0.019,2,    0.012,2,    0.013,4,   1.8840,2,    11.08,2,   -999.0,9,  -999.00,9,   8.149,2,   2247.8,2,   -999.0,9,  -999.0,    0.10,  0.0020,   0.037,   0.005
     316N145_5,  I08S,    29,  1,      4, SIH004,2,19941213,0955,-43.0112,  95.0055, 3280,29307.7,   2943.3,   1.6505,  34.7429,2,  34.7447,2,    201.2,2,  1.4355,    199.0,2,    99.27,2,    30.85,2,     0.00,2,     2.12,2,    0.029,2,    0.031,3,    0.093,4,   1.9190,2,    11.02,2,   -999.0,9,  -999.00,9,   8.241,2,   2251.4,2,   2354.3,2,  -999.0,    0.14,  0.0020,   0.051,   0.005
     316N145_5,  I08S,    29,  1,      3, SIH025,2,19941213,0955,-43.0112,  95.0055, 3280,31345.5,   3148.2,   1.5002,  34.7360,2,  34.7372,2,    202.1,2,  1.2688,    200.1,2,   105.02,2,    31.16,2,     0.00,2,     2.14,2,    0.031,2,    0.012,2, -999.000,5,-999.0000,5,  -999.00,9,   -999.0,9,  -999.00,9,-999.000,9,   2253.1,2,   2359.9,2,  -999.0, -999.00,-999.0000,-999.000,-999.000
     316N145_5,  I08S,    29,  1,      2, SIH001,2,19941213,0955,-43.0112,  95.0055, 3280,32342.0,   3248.5,   1.4861,  34.7366,2,  34.7374,2,    202.5,2,  1.2452,    200.5,2,   105.49,2,    31.17,2,     0.00,2,     2.14,2,    0.026,2,    0.024,3,    0.171,4,   1.8770,2,    10.88,2,   -999.0,9,  -999.00,9,   8.153,2,   2254.1,2,   2356.5,2,  -999.0,    0.10,  0.0020,   0.035,   0.006
     316N145_5,  I08S,    29,  1,      1, SIH036,2,19941213,0955,-43.0112,  95.0055, 3280,32872.3,   3301.8,   1.4875,  34.7358,2,  34.7360,2,    201.9,2,  1.2413,    200.7,2,   105.89,2,    31.25,2,     0.00,2,     2.15,2,    0.022,2,    0.007,2,    0.114,4,-999.0000,5,  -999.00,9,   -999.0,9,  -999.00,9,-999.000,9,   2254.6,6,   2355.8,2,  -999.0, -999.00,-999.0000,-999.000,   0.005