BOTTLE,20090521WHPSIOdm
EXPOCODE,SECT_ID,STNNBR,CASTNO,SAMPNO,BTLNBR,BTLNBR_FLAG_W,DATE,TIME,LATITUDE,LONGITUDE,DEPTH,CTDRAW,CTDPRS,CTDTMP,CTDSAL,CTDSAL_FLAG_W,SALNTY,SALNTY_FLAG_W,CTDOXY,CTDOXY_FLAG_W,THETA,OXYGEN,OXYGEN_FLAG_W,SILCAT,SILCAT_FLAG_W,NITRAT,NITRAT_FLAG_W,NITRIT,NITRIT_FLAG_W,PHSPHT,PHSPHT_FLAG_W,CFC-11,CFC-11_FLAG_W,CFC-12,CFC-12_FLAG_W,TRITUM,TRITUM_FLAG_W,HELIUM,HELIUM_FLAG_W,DELHE3,DELHE3_FLAG_W,DELC14,DELC14_FLAG_W,DELC13,DELC13_FLAG_W,NEON,NEON_FLAG_W,TCARBN,TCARBN_FLAG_W,ALKALI,ALKALI_FLAG_W,C14ERR,DELHER,HELIER,NEONER,TRITER
,,,,,,,,,,,,,DBAR,IPTS-68,PSS-78,,PSS-78,,UMOL/KG,,IPTS-68,UMOL/KG,,UMOL/KG,,UMOL/KG,,UMOL/KG,,UMOL/KG,,PMOL/KG,,PMOL/KG,,TU,,NMOL/KG,,PERCNT,,/MILLE,,/MILLE,,NMOL/KG,,UMOL/KG,,UMOL/KG,,/MILLE,PERCNT,NMOL/KG,NMOL/KG,TU
     316N145_5,  I09S,    87,  1,     33, SIH026,2,19950102,1116,-64.0945, 112.0917, 2350,  152.9,     10.2,  -0.2907,  33.7954,2,  33.7967,2,    347.5,2, -0.2910,    339.1,2,    64.83,2,    27.02,2,     0.22,2,     1.91,2,    6.274,2,    3.003,2, -999.000,5,-999.0000,5,  -999.00,9,   -999.0,9,  -999.00,9,-999.000,9,   -999.0,9,   -999.0,9,  -999.0, -999.00,-999.0000,-999.000,-999.000
     316N145_5,  I09S,    87,  1,     32, SIH023,2,19950102,1116,-64.0945, 112.0917, 2350,  347.5,     29.8,  -0.2967,  33.7997,2,  33.8014,2,    341.1,2, -0.2976,    339.1,2,    64.82,2,    27.02,2,     0.21,2,     1.91,2,    6.286,2,    2.962,2, -999.000,5,-999.0000,5,  -999.00,9,   -999.0,9,  -999.00,9,-999.000,9,   -999.0,9,   -999.0,9,  -999.0, -999.00,-999.0000,-999.000,-999.000
     316N145_5,  I09S,    87,  1,     31, SIH020,2,19950102,1116,-64.0945, 112.0917, 2350,  600.3,     55.3,  -1.6743,  34.3244,2,  34.3272,2,    321.3,2, -1.6754,    303.6,2,    68.37,2,    28.81,2,     0.10,2,     2.02,2,    4.626,2,    2.205,2, -999.000,5,-999.0000,5,  -999.00,9,   -999.0,9,  -999.00,9,-999.000,9,   -999.0,9,   -999.0,9,  -999.0, -999.00,-999.0000,-999.000,-999.000
     316N145_5,  I09S,    87,  1,     30, SIH017,2,19950102,1116,-64.0945, 112.0917, 2350,  861.5,     81.5,  -1.6707,  34.3420,2,  34.3462,2,    323.4,2, -1.6724,    300.6,2,    69.15,2,    29.11,2,     0.11,2,     2.04,2,    4.627,2,    2.190,2, -999.000,5,-999.0000,5,  -999.00,9,   -999.0,9,  -999.00,9,-999.000,9,   -999.0,9,   -999.0,9,  -999.0, -999.00,-999.0000,-999.000,-999.000
     316N145_5,  I09S,    87,  1,     29, SIH014,2,19950102,1116,-64.0945, 112.0917, 2350, 1103.8,    105.9,  -0.2554,  34.5275,2,  34.5201,2,    261.9,2, -0.2590,    249.4,2,    79.86,2,    30.45,2,     0.09,2,     2.12,2,    2.762,6,    1.287,6, -999.000,5,-999.0000,5,  -999.00,9,   -999.0,9,  -999.00,9,-999.000,9,   -999.0,9,   -999.0,9,  -999.0, -999.00,-999.0000,-999.000,-999.000
     316N145_5,  I09S,    87,  1,     28, SIH011,2,19950102,1116,-64.0945, 112.0917, 2350, 1586.1,    154.4,   1.1435,  34.6902,2,  34.6908,2,    204.0,2,  1.1364,    199.1,2,    91.83,2,    31.21,2,     0.01,2,     2.18,2,    0.680,2,    0.306,2, -999.000,5,-999.0000,5,  -999.00,9,   -999.0,9,  -999.00,9,-999.000,9,   -999.0,9,   -999.0,9,  -999.0, -999.00,-999.0000,-999.000,-999.000
     316N145_5,  I09S,    87,  1,     27, SIH008,2,19950102,1116,-64.0945, 112.0917, 2350, 2078.0,    203.9,   1.2426,  34.7092,2,  34.7103,2,    201.3,2,  1.2329,    196.7,2,    94.48,2,    31.11,2,     0.00,2,     2.16,2,    0.459,2,    0.206,2, -999.000,5,-999.0000,5,  -999.00,9,   -999.0,9,  -999.00,9,-999.000,9,   -999.0,9,   -999.0,9,  -999.0, -999.00,-999.0000,-999.000,-999.000
     316N145_5,  I09S,    87,  1,     26, SIH005,2,19950102,1116,-64.0945, 112.0917, 2350, 2566.6,    253.0,   1.2104,  34.7126,2,  34.7138,2,    202.5,2,  1.1984,    197.0,2,    96.49,2,    30.94,2,     0.00,2,     2.16,2,    0.408,2,    0.187,2, -999.000,5,-999.0000,5,  -999.00,9,   -999.0,9,  -999.00,9,-999.000,9,   -999.0,9,   -999.0,9,  -999.0, -999.00,-999.0000,-999.000,-999.000
     316N145_5,  I09S,    87,  1,     25, SIH019,2,19950102,1116,-64.0945, 112.0917, 2350, 3066.4,    303.3,   1.1873,  34.7158,2,  34.7170,2,    201.5,2,  1.1728,    198.9,2,    97.90,2,    30.84,2,     0.00,2,     2.15,2,    0.367,2,    0.176,2, -999.000,5,-999.0000,5,  -999.00,9,   -999.0,9,  -999.00,9,-999.000,9,   -999.0,9,   -999.0,9,  -999.0, -999.00,-999.0000,-999.000,-999.000
     316N145_5,  I09S,    87,  1,     24, SIH037,2,19950102,1116,-64.0945, 112.0917, 2350, 3561.8,    353.2,   1.2007,  34.7211,2,  34.7195,2,    201.0,2,  1.1836,    198.1,2,    99.61,2,    30.78,2,     0.00,2,     2.14,2,    0.251,2,    0.121,2, -999.000,5,-999.0000,5,  -999.00,9,   -999.0,9,  -999.00,9,-999.000,9,   -999.0,9,   -999.0,9,  -999.0, -999.00,-999.0000,-999.000,-999.000
     316N145_5,  I09S,    87,  1,     23, SIH033,2,19950102,1116,-64.0945, 112.0917, 2350, 4051.4,    402.4,   1.1644,  34.7201,2,  34.7203,2,    201.9,2,  1.1448,    199.0,2,   100.07,2,    30.77,2,     0.00,2,     2.14,2,    0.250,2,    0.114,2, -999.000,5,-999.0000,5,  -999.00,9,   -999.0,9,  -999.00,9,-999.000,9,   -999.0,9,   -999.0,9,  -999.0, -999.00,-999.0000,-999.000,-999.000
     316N145_5,  I09S,    87,  1,     22, SIH031,2,19950102,1116,-64.0945, 112.0917, 2350, 4532.9,    450.8,   1.0973,  34.7178,2,  34.7195,2,    203.6,2,  1.0755,    200.9,2,   101.62,2,    30.82,2,     0.00,2,     2.14,2,    0.261,2,    0.119,2, -999.000,5,-999.0000,5,  -999.00,9,   -999.0,9,  -999.00,9,-999.000,9,   -999.0,9,   -999.0,9,  -999.0, -999.00,-999.0000,-999.000,-999.000
     316N145_5,  I09S,    87,  1,     21, SIH030,2,19950102,1116,-64.0945, 112.0917, 2350, 5152.5,    513.2,   1.0327,  34.7164,2,  34.7154,2,    205.1,2,  1.0079,    201.9,2,   103.49,2,    30.82,2,     0.00,2,     2.15,2,    0.258,2,    0.128,2, -999.000,5,-999.0000,5,  -999.00,9,   -999.0,9,  -999.00,9,-999.000,9,   -999.0,9,   -999.0,9,  -999.0, -999.00,-999.0000,-999.000,-999.000
     316N145_5,  I09S,    87,  1,     20, SIH028,2,19950102,1116,-64.0945, 112.0917, 2350, 6109.0,    609.4,   0.9346,  34.7122,2,  34.7138,2,    206.7,2,  0.9051,    204.0,2,   105.82,2,    30.92,2,     0.00,2,     2.15,2,    0.264,2,    0.124,2, -999.000,5,-999.0000,5,  -999.00,9,   -999.0,9,  -999.00,9,-999.000,9,   -999.0,9,   -999.0,9,  -999.0, -999.00,-999.0000,-999.000,-999.000
     316N145_5,  I09S,    87,  1,     19, SIH027,2,19950102,1116,-64.0945, 112.0917, 2350, 7115.5,    710.6,   0.8212,  34.7064,2,  34.7072,2,    206.7,2,  0.7867,    205.9,2,   109.09,2,    31.02,2,     0.00,2,     2.16,2,    0.257,2,    0.114,2, -999.000,5,-999.0000,5,  -999.00,9,   -999.0,9,  -999.00,9,-999.000,9,   -999.0,9,   -999.0,9,  -999.0, -999.00,-999.0000,-999.000,-999.000
     316N145_5,  I09S,    87,  1,     18, SIH003,2,19950102,1116,-64.0945, 112.0917, 2350, 8103.6,    810.0,   0.7079,  34.7010,2,  34.7032,2,    210.1,2,  0.6687,    207.6,2,   111.58,2,    31.17,2,     0.00,2,     2.17,2,    0.287,2,    0.129,2, -999.000,5,-999.0000,5,  -999.00,9,   -999.0,9,  -999.00,9,-999.000,9,   -999.0,9,   -999.0,9,  -999.0, -999.00,-999.0000,-999.000,-999.000
     316N145_5,  I09S,    87,  1,     17, SIH024,2,19950102,1116,-64.0945, 112.0917, 2350, 9162.5,    916.5,   0.6589,  34.7009,2,  34.7013,2,    210.1,2,  0.6141,    207.7,2,   114.23,2,    31.38,2,     0.00,2,     2.18,2,    0.214,2,    0.109,2, -999.000,5,-999.0000,5,  -999.00,9,   -999.0,9,  -999.00,9,-999.000,9,   -999.0,9,   -999.0,9,  -999.0, -999.00,-999.0000,-999.000,-999.000
     316N145_5,  I09S,    87,  1,     16, SIH022,2,19950102,1116,-64.0945, 112.0917, 2350,10155.3,   1016.4,   0.5754,  34.6958,2,  34.6967,2,    210.8,2,  0.5255,    209.2,2,   116.10,2,    31.43,2,     0.00,2,     2.19,2,    0.238,2,    0.107,2, -999.000,5,-999.0000,5,  -999.00,9,   -999.0,9,  -999.00,9,-999.000,9,   -999.0,9,   -999.0,9,  -999.0, -999.00,-999.0000,-999.000,-999.000
     316N145_5,  I09S,    87,  1,     15, SIH021,2,19950102,1116,-64.0945, 112.0917, 2350,11159.8,   1117.4,   0.4817,  34.6914,2,  34.6922,2,    214.6,2,  0.4267,    211.2,2,   117.49,2,    31.48,2,     0.00,2,     2.20,2,    0.277,2,    0.126,2, -999.000,5,-999.0000,5,  -999.00,9,   -999.0,9,  -999.00,9,-999.000,9,   -999.0,9,   -999.0,9,  -999.0, -999.00,-999.0000,-999.000,-999.000
     316N145_5,  I09S,    87,  1,     14, SIH002,2,19950102,1116,-64.0945, 112.0917, 2350,12125.1,   1214.5,   0.4119,  34.6877,2,  34.6863,2,    216.0,2,  0.3519,    212.3,2,   119.83,2,    31.58,2,     0.00,2,     2.20,2, -999.000,9, -999.000,9, -999.000,5,-999.0000,5,  -999.00,9,   -999.0,9,  -999.00,9,-999.000,9,   -999.0,9,   -999.0,9,  -999.0, -999.00,-999.0000,-999.000,-999.000
     316N145_5,  I09S,    87,  1,     13, SIH018,2,19950102,1116,-64.0945, 112.0917, 2350,13120.5,   1314.6,   0.3335,  34.6845,2,  34.6853,2,    217.6,2,  0.2682,    213.6,2,   120.14,2,    31.63,2,     0.00,2,     2.20,2,    0.308,2,    0.151,2, -999.000,5,-999.0000,5,  -999.00,9,   -999.0,9,  -999.00,9,-999.000,9,   -999.0,9,   -999.0,9,  -999.0, -999.00,-999.0000,-999.000,-999.000
     316N145_5,  I09S,    87,  1,     12, SIH016,2,19950102,1116,-64.0945, 112.0917, 2350,14134.8,   1416.7,   0.2610,  34.6806,2,  34.6826,2,    219.3,2,  0.1902,    217.0,2,   119.99,2,    31.62,2,     0.00,2,     2.20,2,    0.388,2,    0.179,2, -999.000,5,-999.0000,5,  -999.00,9,   -999.0,9,  -999.00,9,-999.000,9,   -999.0,9,   -999.0,9,  -999.0, -999.00,-999.0000,-999.000,-999.000
     316N145_5,  I09S,    87,  1,     11, SIH015,2,19950102,1116,-64.0945, 112.0917, 2350,15125.4,   1516.3,   0.1835,  34.6781,2,  34.6747,4,    219.5,2,  0.1074,    219.2,2,   120.77,2,    31.62,2,     0.00,2,     2.20,2,    0.447,2,    0.204,2, -999.000,5,-999.0000,5,  -999.00,9,   -999.0,9,  -999.00,9,-999.000,9,   -999.0,9,   -999.0,9,  -999.0, -999.00,-999.0000,-999.000,-999.000
     316N145_5,  I09S,    87,  1,     10, SIH013,2,19950102,1116,-64.0945, 112.0917, 2350,16105.4,   1614.9,   0.1121,  34.6711,2,  34.6759,3,    224.6,2,  0.0306,    221.9,2,   119.99,2,    31.61,2,     0.00,2,     2.20,2,    0.556,2,    0.259,2, -999.000,5,-999.0000,5,  -999.00,9,   -999.0,9,  -999.00,9,-999.000,9,   -999.0,9,   -999.0,9,  -999.0, -999.00,-999.0000,-999.000,-999.000
     316N145_5,  I09S,    87,  1,      9, SIH012,2,19950102,1116,-64.0945, 112.0917, 2350,17087.6,   1713.7,   0.0721,  34.6761,2,  34.6779,2,    227.0,2, -0.0153,    222.8,2,   122.48,2,    31.66,2,     0.00,2,     2.20,2,    0.492,6,    0.230,6, -999.000,5,-999.0000,5,  -999.00,9,   -999.0,9,  -999.00,9,-999.000,9,   -999.0,9,   -999.0,9,  -999.0, -999.00,-999.0000,-999.000,-999.000
     316N145_5,  I09S,    87,  1,      8, SIH010,2,19950102,1116,-64.0945, 112.0917, 2350,18141.6,   1819.7,   0.0398,  34.6749,2,  34.6763,2,    227.9,2, -0.0542,    224.2,2,   121.87,2,    31.61,2,     0.00,2,     2.20,2,    0.551,2,    0.265,2, -999.000,5,-999.0000,5,  -999.00,9,   -999.0,9,  -999.00,9,-999.000,9,   -999.0,9,   -999.0,9,  -999.0, -999.00,-999.0000,-999.000,-999.000
     316N145_5,  I09S,    87,  1,      7, SIH009,2,19950102,1116,-64.0945, 112.0917, 2350,19190.8,   1925.2,  -0.0104,  34.6739,2,  34.6747,2,    229.9,2, -0.1108,    226.0,2,   121.55,2,    31.49,2,     0.00,2,     2.20,2,    0.651,2,    0.305,2, -999.000,5,-999.0000,5,  -999.00,9,   -999.0,9,  -999.00,9,-999.000,9,   -999.0,9,   -999.0,9,  -999.0, -999.00,-999.0000,-999.000,-999.000
     316N145_5,  I09S,    87,  1,      6, SIH038,2,19950102,1116,-64.0945, 112.0917, 2350,20201.8,   2026.9,  -0.1049,  34.6685,2,  34.6686,2,    235.0,2, -0.2108,    230.8,2,   115.64,2,    31.34,2,     0.00,2,     2.19,2,    1.050,2,    0.486,2, -999.000,5,-999.0000,5,  -999.00,9,   -999.0,9,  -999.00,9,-999.000,9,   -999.0,9,   -999.0,9,  -999.0, -999.00,-999.0000,-999.000,-999.000
     316N145_5,  I09S,    87,  1,      5, SIH006,2,19950102,1116,-64.0945, 112.0917, 2350,21236.7,   2131.0,  -0.1568,  34.6672,2,  34.6677,2,    237.2,2, -0.2692,    233.0,2,   113.93,2,    31.22,2,     0.00,2,     2.19,2,    1.205,2,    0.562,2, -999.000,5,-999.0000,5,  -999.00,9,   -999.0,9,  -999.00,9,-999.000,9,   -999.0,9,   -999.0,9,  -999.0, -999.00,-999.0000,-999.000,-999.000
     316N145_5,  I09S,    87,  1,      4, SIH004,2,19950102,1116,-64.0945, 112.0917, 2350,22531.7,   2261.3,  -0.1997,  34.6666,2,  34.6677,2,    241.4,2, -0.3206,    234.6,2,   112.53,2,    31.22,2,     0.00,2,     2.18,2,    1.417,2,    0.647,2, -999.000,5,-999.0000,5,  -999.00,9,   -999.0,9,  -999.00,9,-999.000,9,   -999.0,9,   -999.0,9,  -999.0, -999.00,-999.0000,-999.000,-999.000
     316N145_5,  I09S,    87,  1,      3, SIH025,2,19950102,1116,-64.0945, 112.0917, 2350,22546.6,   2262.8,  -0.2006,  34.6675,2,  34.6671,2,    239.3,2, -0.3217,    234.7,2,   112.22,2,    31.27,2,     0.00,2,     2.18,2,    1.391,2,    0.645,2, -999.000,5,-999.0000,5,  -999.00,9,   -999.0,9,  -999.00,9,-999.000,9,   -999.0,9,   -999.0,9,  -999.0, -999.00,-999.0000,-999.000,-999.000
     316N145_5,  I09S,    87,  1,      2, SIH001,2,19950102,1116,-64.0945, 112.0917, 2350,22549.9,   2263.1,  -0.2011,  34.6677,2,  34.6706,2,    238.3,2, -0.3222,    234.6,2,   112.22,2,    31.21,2,     0.00,2,     2.18,2, -999.000,9, -999.000,9, -999.000,5,-999.0000,5,  -999.00,9,   -999.0,9,  -999.00,9,-999.000,9,   -999.0,9,   -999.0,9,  -999.0, -999.00,-999.0000,-999.000,-999.000
     316N145_5,  I09S,    87,  1,      1, SIH036,2,19950102,1116,-64.0945, 112.0917, 2350,23079.8,   2316.4,  -0.2058,  34.6669,2,  34.6683,2,    239.5,2, -0.3307,    235.0,2,   112.48,2,    31.28,2,     0.00,2,     2.18,2,    1.408,2,    0.657,2, -999.000,5,-999.0000,5,  -999.00,9,   -999.0,9,  -999.00,9,-999.000,9,   -999.0,9,   -999.0,9,  -999.0, -999.00,-999.0000,-999.000,-999.000