BOTTLE,20090521WHPSIOdm
EXPOCODE,SECT_ID,STNNBR,CASTNO,SAMPNO,BTLNBR,BTLNBR_FLAG_W,DATE,TIME,LATITUDE,LONGITUDE,DEPTH,CTDRAW,CTDPRS,CTDTMP,CTDSAL,CTDSAL_FLAG_W,SALNTY,SALNTY_FLAG_W,CTDOXY,CTDOXY_FLAG_W,THETA,OXYGEN,OXYGEN_FLAG_W,SILCAT,SILCAT_FLAG_W,NITRAT,NITRAT_FLAG_W,NITRIT,NITRIT_FLAG_W,PHSPHT,PHSPHT_FLAG_W,CFC-11,CFC-11_FLAG_W,CFC-12,CFC-12_FLAG_W,TRITUM,TRITUM_FLAG_W,HELIUM,HELIUM_FLAG_W,DELHE3,DELHE3_FLAG_W,DELC14,DELC14_FLAG_W,DELC13,DELC13_FLAG_W,NEON,NEON_FLAG_W,TCARBN,TCARBN_FLAG_W,ALKALI,ALKALI_FLAG_W,C14ERR,DELHER,HELIER,NEONER,TRITER
,,,,,,,,,,,,,DBAR,IPTS-68,PSS-78,,PSS-78,,UMOL/KG,,IPTS-68,UMOL/KG,,UMOL/KG,,UMOL/KG,,UMOL/KG,,UMOL/KG,,PMOL/KG,,PMOL/KG,,TU,,NMOL/KG,,PERCNT,,/MILLE,,/MILLE,,NMOL/KG,,UMOL/KG,,UMOL/KG,,/MILLE,PERCNT,NMOL/KG,NMOL/KG,TU
     316N145_5,  I08S,    59,  1,     36, SIH035,2,19941222,1114,-54.7862,  85.6638, 4700,  174.0,     12.2,   1.1011,  33.9805,2,  33.9833,2,    353.6,2,  1.1006,    341.1,2,    38.35,2,    27.05,2,     0.24,2,     1.84,2, -999.000,9, -999.000,9,    0.131,4,   1.7870,2,    -1.80,2,   -999.0,9,  -999.00,9,   7.976,2,   -999.0,9,   -999.0,9,  -999.0,    0.15,  0.0020,   0.057,   0.011
     316N145_5,  I08S,    59,  1,     35, SIH032,2,19941222,1114,-54.7862,  85.6638, 4700,  369.7,     31.9,   1.0020,  33.9838,2,  33.9872,2,    353.6,2,  1.0006,    341.6,2,    38.19,2,    27.06,2,     0.23,2,     1.84,2, -999.000,9, -999.000,9,    0.130,4,   1.7840,2,    -1.78,2,   -999.0,9,  -999.00,9,   8.106,2,   -999.0,9,   -999.0,9,  -999.0,    0.12,  0.0030,   0.072,   0.005
     316N145_5,  I08S,    59,  1,     34, SIH029,2,19941222,1114,-54.7862,  85.6638, 4700,  619.0,     57.0,   0.9634,  33.9879,2,  33.9908,2,    350.9,2,  0.9610,    341.9,2,    38.36,2,    27.06,2,     0.23,2,     1.84,2, -999.000,9, -999.000,9,    0.127,4,   1.7840,2,    -1.94,4,   -999.0,9,  -999.00,9,   7.956,2,   -999.0,9,   -999.0,9,  -999.0,    0.12,  0.0020,   0.116,   0.011
     316N145_5,  I08S,    59,  1,     33, SIH026,2,19941222,1114,-54.7862,  85.6638, 4700,  857.1,     80.9,   0.0427,  34.0775,2,  34.0705,2,    360.8,2,  0.0399,    339.8,2,    46.80,2,    28.64,2,     0.23,2,     1.99,2, -999.000,9, -999.000,9,    0.090,4,   1.8050,2,    -1.58,2,   -999.0,9,  -999.00,9,   8.074,2,   -999.0,9,   -999.0,9,  -999.0,    0.15,  0.0020,   0.056,   0.011
     316N145_5,  I08S,    59,  1,     32, SIH023,2,19941222,1114,-54.7862,  85.6638, 4700, 1076.6,    103.0,   0.0660,  34.1560,2,  34.1564,2,    346.4,2,  0.0623,    337.0,2,    50.61,2,    29.20,2,     0.23,2,     2.02,2, -999.000,9, -999.000,9,    0.124,4,   1.8120,2,    -1.48,2,   -999.0,9,  -999.00,9,   8.099,2,   -999.0,9,   -999.0,9,  -999.0,    0.15,  0.0020,   0.043,   0.006
     316N145_5,  I08S,    59,  1,     31, SIH020,2,19941222,1114,-54.7862,  85.6638, 4700, 1560.9,    151.7,  -0.1108,  34.2117,2,  34.2187,2,    326.5,2, -0.1160,    316.4,2,    57.57,2,    30.58,2,     0.22,2,     2.15,2, -999.000,9, -999.000,9,    0.103,4,   1.8010,2,    -0.33,2,   -999.0,9,  -999.00,9,   8.009,2,   -999.0,9,   -999.0,9,  -999.0,    0.12,  0.0030,   0.076,   0.004
     316N145_5,  I08S,    59,  1,     30, SIH017,2,19941222,1114,-54.7862,  85.6638, 4700, 2058.9,    201.8,   0.4032,  34.3800,2,  34.3825,2,    257.8,2,  0.3951,    259.6,2,    68.65,2,    32.52,2,     0.21,2,     2.28,2, -999.000,9, -999.000,9,    0.157,4,   1.8170,2,     3.02,2,   -999.0,9,  -999.00,9,   8.198,3,   -999.0,9,   -999.0,9,  -999.0,    0.12,  0.0030,   0.081,   0.005
     316N145_5,  I08S,    59,  1,     29, SIH014,2,19941222,1114,-54.7862,  85.6638, 4700, 2585.3,    254.8,   0.9517,  34.5245,2,  34.5250,2,    217.3,2,  0.9401,    219.9,2,    76.76,2,    33.23,2,     0.07,2,     2.31,2, -999.000,9, -999.000,9, -999.000,5,-999.0000,5,  -999.00,9,   -999.0,9,  -999.00,9,-999.000,9,   -999.0,9,   -999.0,9,  -999.0, -999.00,-999.0000,-999.000,-999.000
     316N145_5,  I08S,    59,  1,     28, SIH011,2,19941222,1114,-54.7862,  85.6638, 4700, 3087.0,    305.2,   1.3836,  34.6304,2,  34.6303,2,    199.4,2,  1.3685,    192.9,2,    83.38,2,    33.06,2,     0.03,2,     2.30,2, -999.000,9, -999.000,9,    0.115,4,   1.8410,2,     7.68,2,   -999.0,9,  -999.00,9,   7.960,2,   -999.0,9,   -999.0,9,  -999.0,    0.12,  0.0030,   0.115,   0.006
     316N145_5,  I08S,    59,  1,     27, SIH008,2,19941222,1114,-54.7862,  85.6638, 4700, 3609.6,    357.8,   1.5045,  34.6609,2,  34.6624,2,    194.2,2,  1.4863,    189.8,2,    84.87,2,    32.70,2,     0.02,2,     2.27,2, -999.000,9, -999.000,9, -999.000,5,-999.0000,5,  -999.00,9,   -999.0,9,  -999.00,9,-999.000,9,   -999.0,9,   -999.0,9,  -999.0, -999.00,-999.0000,-999.000,-999.000
     316N145_5,  I08S,    59,  1,     26, SIH005,2,19941222,1114,-54.7862,  85.6638, 4700, 4110.3,    408.2,   1.5376,  34.6721,2,  34.6743,2,    191.6,2,  1.5166,    189.8,2,    85.21,2,    32.44,2,     0.02,2,     2.26,2, -999.000,9, -999.000,9,    0.169,4,   1.8600,2,     8.49,2,   -999.0,9,  -999.00,9,   8.248,3,   -999.0,9,   -999.0,9,  -999.0,    0.12,  0.0020,   0.109,   0.005
     316N145_5,  I08S,    59,  1,     25, SIH019,2,19941222,1114,-54.7862,  85.6638, 4700, 4617.2,    459.1,   1.5537,  34.6818,2,  34.6826,2,    191.5,2,  1.5297,    189.7,2,    86.21,2,    32.29,2,     0.01,2,     2.24,2, -999.000,9, -999.000,9, -999.000,5,-999.0000,5,  -999.00,9,   -999.0,9,  -999.00,9,-999.000,9,   -999.0,9,   -999.0,9,  -999.0, -999.00,-999.0000,-999.000,-999.000
     316N145_5,  I08S,    59,  1,     24, SIH037,2,19941222,1114,-54.7862,  85.6638, 4700, 5117.6,    509.5,   1.6460,  34.7037,2,  34.7036,2,    190.5,2,  1.6188,    189.8,2,    87.20,2,    31.93,2,     0.01,2,     2.21,2, -999.000,9, -999.000,9,    0.113,4,   1.8410,2,     8.88,2,   -999.0,9,  -999.00,9,   7.994,2,   -999.0,9,   -999.0,9,  -999.0,    0.14,  0.0020,   0.048,   0.005
     316N145_5,  I08S,    59,  1,     23, SIH033,2,19941222,1114,-54.7862,  85.6638, 4700, 6138.1,    612.1,   1.6603,  34.7189,2,  34.7197,2,    193.5,2,  1.6269,    191.7,2,    88.20,2,    31.45,2,     0.01,2,     2.18,2, -999.000,9, -999.000,9,    0.101,4,   1.8540,2,     8.94,2,   -999.0,9,  -999.00,9,   8.008,2,   -999.0,9,   -999.0,9,  -999.0,    0.12,  0.0020,   0.114,   0.004
     316N145_5,  I08S,    59,  1,     22, SIH031,2,19941222,1114,-54.7862,  85.6638, 4700, 7124.1,    711.3,   1.6334,  34.7282,2,  34.7296,2,    196.9,2,  1.5942,    193.8,2,    89.69,2,    31.14,2,     0.01,2,     2.15,2, -999.000,9, -999.000,9,    0.130,4,   1.8540,2,     9.14,2,   -999.0,9,  -999.00,9,   8.070,2,   -999.0,9,   -999.0,9,  -999.0,    0.14,  0.0020,   0.040,   0.006
     316N145_5,  I08S,    59,  1,     21, SIH030,2,19941222,1114,-54.7862,  85.6638, 4700, 8122.0,    811.7,   1.6407,  34.7426,2,  34.7449,2,    197.7,2,  1.5952,    197.1,2,    90.87,2,    30.63,2,     0.00,2,     2.11,2, -999.000,9, -999.000,9,    0.069,4,   1.8520,2,     8.80,2,   -999.0,9,  -999.00,9,   8.139,2,   -999.0,9,   -999.0,9,  -999.0,    0.12,  0.0020,   0.116,   0.004
     316N145_5,  I08S,    59,  1,     20, SIH028,2,19941222,1114,-54.7862,  85.6638, 4700, 9111.7,    911.2,   1.5111,  34.7363,2,  34.7376,2,    199.9,2,  1.4602,    197.7,2,    93.52,2,    30.84,2,     0.00,2,     2.13,2, -999.000,9, -999.000,9,    0.122,4,   1.8570,2,     8.90,2,   -999.0,9,  -999.00,9,   8.066,2,   -999.0,9,   -999.0,9,  -999.0,    0.14,  0.0020,   0.043,   0.004
     316N145_5,  I08S,    59,  1,     19, SIH027,2,19941222,1114,-54.7862,  85.6638, 4700,10117.1,   1012.3,   1.4611,  34.7376,2,  34.7380,2,    201.8,2,  1.4042,    199.5,2,    95.18,2,    30.79,2,     0.00,2,     2.13,2, -999.000,9, -999.000,9,    0.038,4,   1.8580,2,     8.67,2,   -999.0,9,  -999.00,9,   8.137,2,   -999.0,9,   -999.0,9,  -999.0,    0.12,  0.0020,   0.115,   0.016
     316N145_5,  I08S,    59,  1,     18, SIH003,2,19941222,1114,-54.7862,  85.6638, 4700,11124.2,   1113.6,   1.4073,  34.7375,2,  34.7390,2,    202.4,2,  1.3442,    200.1,2,    97.00,2,    30.79,2,     0.00,2,     2.13,2, -999.000,9, -999.000,9, -999.000,5,-999.0000,5,  -999.00,9,   -999.0,9,  -999.00,9,-999.000,9,   -999.0,9,   -999.0,9,  -999.0, -999.00,-999.0000,-999.000,-999.000
     316N145_5,  I08S,    59,  1,     17, SIH024,2,19941222,1114,-54.7862,  85.6638, 4700,12101.5,   1212.0,   1.3770,  34.7413,2,  34.7414,2,    203.2,2,  1.3077,    201.8,2,    99.33,2,    30.68,2,     0.00,2,     2.12,2, -999.000,9, -999.000,9,    0.122,4,   1.8640,2,     8.78,2,   -999.0,9,  -999.00,9,   8.104,2,   -999.0,9,   -999.0,9,  -999.0,    0.14,  0.0020,   0.048,   0.005
     316N145_5,  I08S,    59,  1,     16, SIH022,2,19941222,1114,-54.7862,  85.6638, 4700,14225.7,   1425.6,   1.1645,  34.7297,2,  34.7315,2,    205.9,2,  1.0828,    204.0,2,   105.13,2,    31.04,2,     0.00,2,     2.15,2, -999.000,9, -999.000,9,    0.172,4,   1.8640,2,     8.55,2,   -999.0,9,  -999.00,9,   8.206,2,   -999.0,9,   -999.0,9,  -999.0,    0.12,  0.0020,   0.109,   0.015
     316N145_5,  I08S,    59,  1,     15, SIH021,2,19941222,1114,-54.7862,  85.6638, 4700,16232.9,   1627.5,   1.0630,  34.7240,2,  34.7258,2,    207.0,2,  0.9683,    205.0,2,   108.62,2,    31.36,2,     0.00,2,     2.17,2, -999.000,9, -999.000,9,    0.107,4,   1.8630,2,     8.61,2,   -999.0,9,  -999.00,9,   8.136,2,   -999.0,9,   -999.0,9,  -999.0,    0.14,  0.0020,   0.047,   0.014
     316N145_5,  I08S,    59,  1,     14, SIH002,2,19941222,1114,-54.7862,  85.6638, 4700,18224.9,   1827.9,   0.9206,  34.7165,2,  34.7176,2,    207.4,2,  0.8133,    206.6,2,   112.93,2,    31.68,2,     0.00,2,     2.19,2, -999.000,9, -999.000,9,    0.134,4,   1.8700,2,     8.42,2,   -999.0,9,  -999.00,9,   8.231,2,   -999.0,9,   -999.0,9,  -999.0,    0.12,  0.0020,   0.118,   0.043
     316N145_5,  I08S,    59,  1,     13, SIH018,2,19941222,1114,-54.7862,  85.6638, 4700,20234.1,   2030.0,   0.8124,  34.7090,2,  34.7111,2,    209.2,2,  0.6917,    208.1,2,   115.75,2,    31.88,2,     0.00,2,     2.20,2, -999.000,9, -999.000,9,    0.187,4,   1.8600,2,     8.30,2,   -999.0,9,  -999.00,9,   8.126,2,   -999.0,9,   -999.0,9,  -999.0,    0.14,  0.0020,   0.052,   0.015
     316N145_5,  I08S,    59,  1,     12, SIH016,2,19941222,1114,-54.7862,  85.6638, 4700,22289.0,   2236.7,   0.6554,  34.7003,2,  34.7005,2,    210.4,2,  0.5212,    209.6,2,   119.40,2,    32.20,2,     0.00,2,     2.23,2, -999.000,9, -999.000,9,    0.196,4,   1.8740,2,     8.02,2,   -999.0,9,  -999.00,9,   8.292,3,   -999.0,9,   -999.0,9,  -999.0,    0.12,  0.0020,   0.110,   0.023
     316N145_5,  I08S,    59,  1,     11, SIH015,2,19941222,1114,-54.7862,  85.6638, 4700,24318.6,   2440.8,   0.5828,  34.6977,2,  34.6973,2,    211.6,2,  0.4337,    211.0,2,   121.39,2,    32.36,2,     0.00,2,     2.24,2, -999.000,9, -999.000,9,    0.156,4,   1.8690,2,     7.97,2,   -999.0,9,  -999.00,9,   8.128,2,   -999.0,9,   -999.0,9,  -999.0,    0.14,  0.0020,   0.052,   0.006
     316N145_5,  I08S,    59,  1,     10, SIH013,2,19941222,1114,-54.7862,  85.6638, 4700,27392.9,   2750.1,   0.3614,  34.6865,2,  34.6861,2,    216.3,2,  0.1913,    216.0,2,   125.38,2,    32.52,2,     0.00,2,     2.25,2, -999.000,9, -999.000,9,    0.150,4,   1.8730,2,     7.48,2,   -999.0,9,  -999.00,9,   8.148,2,   -999.0,9,   -999.0,9,  -999.0,    0.12,  0.0020,   0.115,   0.005
     316N145_5,  I08S,    59,  1,      9, SIH012,2,19941222,1114,-54.7862,  85.6638, 4700,30481.4,   3060.7,   0.2557,  34.6836,2,  34.6840,2,    220.6,2,  0.0612,    220.2,2,   126.38,2,    32.41,2,     0.00,2,     2.25,2, -999.000,9, -999.000,9,    0.114,4,   1.8830,2,     7.21,2,   -999.0,9,  -999.00,9,   8.246,2,   -999.0,9,   -999.0,9,  -999.0,    0.14,  0.0020,   0.044,   0.005
     316N145_5,  I08S,    59,  1,      8, SIH010,2,19941222,1114,-54.7862,  85.6638, 4700,33499.0,   3364.3,   0.1668,  34.6810,2,  34.6796,2,    223.8,2, -0.0529,    223.0,2,   127.38,2,    32.46,2,     0.00,2,     2.25,2, -999.000,9, -999.000,9,    0.200,4,   1.8800,2,     6.86,2,   -999.0,9,  -999.00,9,   8.228,2,   -999.0,9,   -999.0,9,  -999.0,    0.10,  0.0020,   0.052,   0.006
     316N145_5,  I08S,    59,  1,      7, SIH009,2,19941222,1114,-54.7862,  85.6638, 4700,36350.4,   3651.1,   0.0978,  34.6774,2,  34.6759,2,    227.0,2, -0.1470,    226.2,2,   128.05,2,    32.46,2,     0.00,2,     2.25,2, -999.000,9, -999.000,9,    0.072,4,   1.8860,2,     6.50,2,   -999.0,9,  -999.00,9,   8.311,2,   -999.0,9,   -999.0,9,  -999.0,    0.14,  0.0020,   0.068,   0.007
     316N145_5,  I08S,    59,  1,      6, SIH038,2,19941222,1114,-54.7862,  85.6638, 4700,39386.3,   3956.5,   0.0497,  34.6757,2,  34.6751,2,    229.5,2, -0.2235,    229.2,2,   127.90,2,    32.41,2,     0.00,2,     2.27,2, -999.000,9, -999.000,9,    0.089,4,   1.8980,2,     6.35,2,   -999.0,9,  -999.00,9,   8.230,2,   -999.0,9,   -999.0,9,  -999.0,    0.12,  0.0020,   0.110,   0.008
     316N145_5,  I08S,    59,  1,      5, SIH006,2,19941222,1114,-54.7862,  85.6638, 4700,41458.0,   4164.9,   0.0202,  34.6750,2,  34.6739,2,    231.1,2, -0.2733,    231.3,2,   127.41,2,    32.36,2,     0.00,2,     2.28,2, -999.000,9, -999.000,9,   -0.019,4,   1.8900,2,     6.06,2,   -999.0,9,  -999.00,9,   8.292,2,   -999.0,9,   -999.0,9,  -999.0,    0.14,  0.0020,   0.073,   0.004
     316N145_5,  I08S,    59,  1,      4, SIH004,2,19941222,1114,-54.7862,  85.6638, 4700,43486.3,   4368.9,   0.0053,  34.6745,2,  34.6724,2,    232.8,2, -0.3089,    231.9,2,   127.75,2,    32.36,2,     0.00,2,     2.27,2, -999.000,9, -999.000,9,    0.183,4,   1.8880,2,     5.91,2,   -999.0,9,  -999.00,9,   8.351,2,   -999.0,9,   -999.0,9,  -999.0,    0.12,  0.0020,   0.114,   0.006
     316N145_5,  I08S,    59,  1,      3, SIH025,2,19941222,1114,-54.7862,  85.6638, 4700,45428.4,   4564.3,   0.0058,  34.6738,2,  34.6724,2,    233.9,2, -0.3292,    232.6,2,   127.75,2,    32.36,2,     0.00,2,     2.27,2, -999.000,9, -999.000,9,    0.241,4,   1.8870,2,     5.94,2,   -999.0,9,  -999.00,9,   8.149,3,   -999.0,9,   -999.0,9,  -999.0,    0.14,  0.0020,   0.060,   0.011
     316N145_5,  I08S,    59,  1,      2, SIH001,2,19941222,1114,-54.7862,  85.6638, 4700,46518.5,   4673.9,   0.0151,  34.6736,2,  34.6724,2,    233.2,2, -0.3321,    233.0,2,   127.59,2,    32.30,2,     0.00,2,     2.27,2, -999.000,9, -999.000,9,    0.201,4,   1.8830,2,     5.89,2,   -999.0,9,  -999.00,9,   8.287,2,   -999.0,9,   -999.0,9,  -999.0,    0.10,  0.0020,   0.034,   0.078
     316N145_5,  I08S,    59,  1,      1, SIH036,2,19941222,1114,-54.7862,  85.6638, 4700,47042.0,   4726.6,   0.0212,  34.6740,2,  34.6716,2,    233.5,2, -0.3319,    233.1,2,   127.95,2,    32.31,2,     0.00,2,     2.25,2, -999.000,9, -999.000,9,    0.128,4,   1.9190,3,     6.06,2,   -999.0,9,  -999.00,9,   8.238,2,   -999.0,9,   -999.0,9,  -999.0,    0.14,  0.0020,   0.066,   0.010