BOTTLE,20090521WHPSIOdm
EXPOCODE,SECT_ID,STNNBR,CASTNO,SAMPNO,BTLNBR,BTLNBR_FLAG_W,DATE,TIME,LATITUDE,LONGITUDE,DEPTH,CTDRAW,CTDPRS,CTDTMP,CTDSAL,CTDSAL_FLAG_W,SALNTY,SALNTY_FLAG_W,CTDOXY,CTDOXY_FLAG_W,THETA,OXYGEN,OXYGEN_FLAG_W,SILCAT,SILCAT_FLAG_W,NITRAT,NITRAT_FLAG_W,NITRIT,NITRIT_FLAG_W,PHSPHT,PHSPHT_FLAG_W,CFC-11,CFC-11_FLAG_W,CFC-12,CFC-12_FLAG_W,TRITUM,TRITUM_FLAG_W,HELIUM,HELIUM_FLAG_W,DELHE3,DELHE3_FLAG_W,DELC14,DELC14_FLAG_W,DELC13,DELC13_FLAG_W,NEON,NEON_FLAG_W,TCARBN,TCARBN_FLAG_W,ALKALI,ALKALI_FLAG_W,C14ERR,DELHER,HELIER,NEONER,TRITER
,,,,,,,,,,,,,DBAR,IPTS-68,PSS-78,,PSS-78,,UMOL/KG,,IPTS-68,UMOL/KG,,UMOL/KG,,UMOL/KG,,UMOL/KG,,UMOL/KG,,PMOL/KG,,PMOL/KG,,TU,,NMOL/KG,,PERCNT,,/MILLE,,/MILLE,,NMOL/KG,,UMOL/KG,,UMOL/KG,,/MILLE,PERCNT,NMOL/KG,NMOL/KG,TU
     316N145_5,  I08S,    64,  1,     36, SIH035,2,19941224,0234,-56.8972,  83.3055, 4545,  160.3,     10.8,   1.9531,  33.9652,2,  33.9647,2,    331.8,2,  1.9525,    340.4,2,     9.95,2,    23.39,2,     0.21,2,     1.49,2,    6.075,2,    2.933,2, -999.000,5,-999.0000,5,  -999.00,9,   -999.0,9,  -999.00,9,-999.000,9,   2131.0,6,   2286.9,2,  -999.0, -999.00,-999.0000,-999.000,-999.000
     316N145_5,  I08S,    64,  1,     35, SIH032,2,19941224,0234,-56.8972,  83.3055, 4545,  359.1,     30.8,   1.9178,  33.9667,2,  33.9657,2,    330.7,2,  1.9163,    339.7,2,    10.11,2,    23.44,2,     0.21,2,     1.50,2,    3.307,4,    2.924,2, -999.000,5,-999.0000,5,  -999.00,9,   -999.0,9,  -999.00,9,-999.000,9,   2130.6,2,   2293.0,2,  -999.0, -999.00,-999.0000,-999.000,-999.000
     316N145_5,  I08S,    64,  1,     34, SIH029,2,19941224,0234,-56.8972,  83.3055, 4545,  608.5,     55.9,   1.8378,  33.9621,2,  33.9628,2,    326.7,2,  1.8350,    339.2,2,    11.11,2,    23.59,2,     0.21,2,     1.53,2,    5.984,2,    2.905,2, -999.000,5,-999.0000,5,  -999.00,9,   -999.0,9,  -999.00,9,-999.000,9,   2132.1,2,   -999.0,9,  -999.0, -999.00,-999.0000,-999.000,-999.000
     316N145_5,  I08S,    64,  1,     33, SIH026,2,19941224,0234,-56.8972,  83.3055, 4545,  854.9,     80.7,   0.1143,  34.0347,2,  34.0350,2,    327.5,2,  0.1114,    325.9,2,    43.20,2,    29.01,2,     0.22,2,     2.04,2,    6.047,2,    2.878,2, -999.000,5,-999.0000,5,  -999.00,9,   -999.0,9,  -999.00,9,-999.000,9,   2176.3,2,   2290.4,2,  -999.0, -999.00,-999.0000,-999.000,-999.000
     316N145_5,  I08S,    64,  1,     32, SIH023,2,19941224,0234,-56.8972,  83.3055, 4545, 1100.2,    105.4,   0.4968,  34.1642,2,  34.1550,2,    284.2,2,  0.4927,    280.9,2,    51.47,2,    31.60,2,     0.14,2,     2.19,2,    4.507,2,    2.161,2, -999.000,5,-999.0000,5,  -999.00,9,   -999.0,9,  -999.00,9,-999.000,9,   2199.9,2,   2307.1,2,  -999.0, -999.00,-999.0000,-999.000,-999.000
     316N145_5,  I08S,    64,  1,     31, SIH020,2,19941224,0234,-56.8972,  83.3055, 4545, 1613.1,    157.0,   1.5464,  34.3300,2,  34.3341,2,    224.5,2,  1.5387,    223.8,2,    58.90,2,    33.94,2,     0.06,2,     2.33,2,    2.529,2,    1.193,2, -999.000,5,-999.0000,5,  -999.00,9,   -999.0,9,  -999.00,9,-999.000,9,   -999.0,9,   -999.0,9,  -999.0, -999.00,-999.0000,-999.000,-999.000
     316N145_5,  I08S,    64,  1,     30, SIH017,2,19941224,0234,-56.8972,  83.3055, 4545, 2119.3,    207.9,   1.6535,  34.3893,2,  34.3931,2,    209.7,2,  1.6431,    210.6,2,    64.03,2,    34.35,2,     0.04,2,     2.35,2,    2.035,2,    0.954,2, -999.000,5,-999.0000,5,  -999.00,9,   -999.0,9,  -999.00,9,-999.000,9,   2232.2,2,   2314.6,2,  -999.0, -999.00,-999.0000,-999.000,-999.000
     316N145_5,  I08S,    64,  1,     29, SIH014,2,19941224,0234,-56.8972,  83.3055, 4545, 2607.0,    257.0,   1.9694,  34.4659,2,  34.4661,2,    188.7,2,  1.9556,    192.6,2,    68.16,2,    34.63,2,     0.01,2,     2.37,2,    1.314,2,    0.628,2, -999.000,5,-999.0000,5,  -999.00,9,   -999.0,9,  -999.00,9,-999.000,9,   2241.4,2,   2323.3,2,  -999.0, -999.00,-999.0000,-999.000,-999.000
     316N145_5,  I08S,    64,  1,     28, SIH011,2,19941224,0234,-56.8972,  83.3055, 4545, 3112.2,    307.8,   1.9853,  34.5136,2,  34.5129,2,    181.5,2,  1.9686,    182.6,2,    72.95,2,    34.87,2,     0.01,2,     2.38,2,    1.002,2,    0.473,2, -999.000,5,-999.0000,5,  -999.00,9,   -999.0,9,  -999.00,9,-999.000,9,   2248.1,2,   2328.4,2,  -999.0, -999.00,-999.0000,-999.000,-999.000
     316N145_5,  I08S,    64,  1,     27, SIH008,2,19941224,0234,-56.8972,  83.3055, 4545, 3618.1,    358.7,   1.7946,  34.5099,2,  34.5496,4,    185.3,2,  1.7756,    183.8,2,    74.44,2,    34.32,2,     0.02,2,     2.35,2, -999.000,9, -999.000,9, -999.000,5,-999.0000,5,  -999.00,9,   -999.0,9,  -999.00,9,-999.000,9,   2247.4,2,   2329.5,2,  -999.0, -999.00,-999.0000,-999.000,-999.000
     316N145_5,  I08S,    64,  1,     26, SIH005,2,19941224,0234,-56.8972,  83.3055, 4545, 4104.3,    407.6,   2.0030,  34.5967,2,  34.5995,2,    178.3,2,  1.9804,    179.1,2,    78.07,2,    34.12,2,     0.01,2,     2.33,2, -999.000,9, -999.000,9, -999.000,5,-999.0000,5,  -999.00,9,   -999.0,9,  -999.00,9,-999.000,9,   2251.8,2,   -999.0,9,  -999.0, -999.00,-999.0000,-999.000,-999.000
     316N145_5,  I08S,    64,  1,     25, SIH019,2,19941224,0234,-56.8972,  83.3055, 4545, 4598.9,    457.3,   2.0690,  34.6380,2,  34.6343,2,    176.3,2,  2.0432,    178.3,2,    79.72,2,    33.59,2,     0.00,2,     2.29,2, -999.000,9, -999.000,9, -999.000,5,-999.0000,5,  -999.00,9,   -999.0,9,  -999.00,9,-999.000,9,   2251.4,2,   2340.8,2,  -999.0, -999.00,-999.0000,-999.000,-999.000
     316N145_5,  I08S,    64,  1,     24, SIH037,2,19941224,0234,-56.8972,  83.3055, 4545, 5104.7,    508.2,   2.0735,  34.6655,2,  34.6684,2,    178.3,2,  2.0446,    180.5,2,    79.39,2,    32.85,2,     0.00,2,     2.24,2, -999.000,9, -999.000,9, -999.000,5,-999.0000,5,  -999.00,9,   -999.0,9,  -999.00,9,-999.000,9,   2249.7,2,   2344.0,2,  -999.0, -999.00,-999.0000,-999.000,-999.000
     316N145_5,  I08S,    64,  1,     23, SIH033,2,19941224,0234,-56.8972,  83.3055, 4545, 6101.0,    608.4,   2.0283,  34.6991,2,  34.7003,2,    181.3,2,  1.9933,    184.9,2,    80.86,2,    32.06,2,     0.00,2,     2.19,2, -999.000,9, -999.000,9, -999.000,5,-999.0000,5,  -999.00,9,   -999.0,9,  -999.00,9,-999.000,9,   2247.7,2,   -999.0,9,  -999.0, -999.00,-999.0000,-999.000,-999.000
     316N145_5,  I08S,    64,  1,     22, SIH031,2,19941224,0234,-56.8972,  83.3055, 4545, 7114.9,    710.4,   1.9011,  34.7090,2,  34.7101,2,    184.8,2,  1.8605,    187.6,2,    83.51,2,    31.86,2,     0.00,2,     2.17,2, -999.000,9, -999.000,9, -999.000,5,-999.0000,5,  -999.00,9,   -999.0,9,  -999.00,9,-999.000,9,   2247.5,2,   2339.8,2,  -999.0, -999.00,-999.0000,-999.000,-999.000
     316N145_5,  I08S,    64,  1,     21, SIH030,2,19941224,0234,-56.8972,  83.3055, 4545, 8115.2,    811.0,   1.8342,  34.7221,2,  34.7243,2,    185.2,2,  1.7875,    190.7,2,    85.16,2,    31.51,2,     0.00,2,     2.15,2, -999.000,9, -999.000,9, -999.000,5,-999.0000,5,  -999.00,9,   -999.0,9,  -999.00,9,-999.000,9,   2246.7,2,   2347.6,2,  -999.0, -999.00,-999.0000,-999.000,-999.000
     316N145_5,  I08S,    64,  1,     20, SIH028,2,19941224,0234,-56.8972,  83.3055, 4545, 9074.8,    907.5,   1.7537,  34.7329,2,  34.7337,2,    190.4,2,  1.7013,    194.5,2,    87.63,2,    31.17,2,     0.00,2,     2.12,2, -999.000,9, -999.000,9, -999.000,5,-999.0000,5,  -999.00,9,   -999.0,9,  -999.00,9,-999.000,9,   2245.8,2,   -999.0,9,  -999.0, -999.00,-999.0000,-999.000,-999.000
     316N145_5,  I08S,    64,  1,     19, SIH027,2,19941224,0234,-56.8972,  83.3055, 4545,10102.2,   1010.9,   1.7077,  34.7434,2,  34.7455,2,    190.8,2,  1.6489,    196.9,2,    89.45,2,    30.78,2,     0.00,2,     2.10,2, -999.000,9, -999.000,9, -999.000,5,-999.0000,5,  -999.00,9,   -999.0,9,  -999.00,9,-999.000,9,   2245.1,2,   2350.7,2,  -999.0, -999.00,-999.0000,-999.000,-999.000
     316N145_5,  I08S,    64,  1,     18, SIH003,2,19941224,0234,-56.8972,  83.3055, 4545,11092.2,   1110.4,   1.5990,  34.7408,2,  34.7433,2,    193.3,2,  1.5344,    198.6,2,    92.59,2,    30.88,2,     0.00,2,     2.11,2, -999.000,9, -999.000,9, -999.000,5,-999.0000,5,  -999.00,9,   -999.0,9,  -999.00,9,-999.000,9,   2246.2,6,   2354.3,2,  -999.0, -999.00,-999.0000,-999.000,-999.000
     316N145_5,  I08S,    64,  1,     17, SIH024,2,19941224,0234,-56.8972,  83.3055, 4545,12110.1,   1212.8,   1.5181,  34.7407,2,  34.7414,2,    195.7,2,  1.4473,    199.9,2,    94.73,2,    30.82,2,     0.00,2,     2.10,2, -999.000,9, -999.000,9, -999.000,5,-999.0000,5,  -999.00,9,   -999.0,9,  -999.00,9,-999.000,9,   2246.1,2,   -999.0,9,  -999.0, -999.00,-999.0000,-999.000,-999.000
     316N145_5,  I08S,    64,  1,     16, SIH022,2,19941224,0234,-56.8972,  83.3055, 4545,14119.1,   1414.9,   1.3791,  34.7399,2,  34.7406,2,    197.5,2,  1.2957,    203.2,2,    99.02,2,    30.87,2,     0.00,2,     2.11,2, -999.000,9, -999.000,9, -999.000,5,-999.0000,5,  -999.00,9,   -999.0,9,  -999.00,9,-999.000,9,   2247.2,2,   2359.8,2,  -999.0, -999.00,-999.0000,-999.000,-999.000
     316N145_5,  I08S,    64,  1,     15, SIH021,2,19941224,0234,-56.8972,  83.3055, 4545,16161.3,   1620.3,   1.1625,  34.7254,2,  34.7280,2,    198.9,2,  1.0671,    203.9,2,   104.14,2,    31.41,2,     0.00,2,     2.15,2, -999.000,9, -999.000,9, -999.000,5,-999.0000,5,  -999.00,9,   -999.0,9,  -999.00,9,-999.000,9,   2250.4,2,   -999.0,9,  -999.0, -999.00,-999.0000,-999.000,-999.000
     316N145_5,  I08S,    64,  1,     14, SIH002,2,19941224,0234,-56.8972,  83.3055, 4545,18175.6,   1822.9,   0.9810,  34.7173,2,  34.7182,2,    198.4,2,  0.8732,    206.0,2,   109.75,2,    31.76,2,     0.00,2,     2.18,2, -999.000,9, -999.000,9, -999.000,5,-999.0000,5,  -999.00,9,   -999.0,9,  -999.00,9,-999.000,9,   2253.7,2,   2356.5,2,  -999.0, -999.00,-999.0000,-999.000,-999.000
     316N145_5,  I08S,    64,  1,     13, SIH018,2,19941224,0234,-56.8972,  83.3055, 4545,20176.7,   2024.2,   0.8244,  34.7086,2,  34.7101,2,    202.8,2,  0.7038,    207.3,2,   114.38,2,    32.05,2,     0.00,2,     2.20,2, -999.000,9, -999.000,9, -999.000,5,-999.0000,5,  -999.00,9,   -999.0,9,  -999.00,9,-999.000,9,   2254.9,2,   2349.9,2,  -999.0, -999.00,-999.0000,-999.000,-999.000
     316N145_5,  I08S,    64,  1,     12, SIH016,2,19941224,0234,-56.8972,  83.3055, 4545,22214.6,   2229.2,   0.6602,  34.6994,2,  34.7019,2,    205.1,2,  0.5266,    209.3,2,   119.17,2,    32.39,2,     0.00,2,     2.22,2, -999.000,9, -999.000,9, -999.000,5,-999.0000,5,  -999.00,9,   -999.0,9,  -999.00,9,-999.000,9,   2259.5,2,   -999.0,9,  -999.0, -999.00,-999.0000,-999.000,-999.000
     316N145_5,  I08S,    64,  1,     11, SIH015,2,19941224,0234,-56.8972,  83.3055, 4545,24221.8,   2431.1,   0.5164,  34.6938,2,  34.6944,2,    206.7,2,  0.3694,    212.3,2,   123.12,2,    32.59,2,     0.00,2,     2.24,2, -999.000,9, -999.000,9, -999.000,5,-999.0000,5,  -999.00,9,   -999.0,9,  -999.00,9,-999.000,9,   2256.6,2,   2359.4,2,  -999.0, -999.00,-999.0000,-999.000,-999.000
     316N145_5,  I08S,    64,  1,     10, SIH013,2,19941224,0234,-56.8972,  83.3055, 4545,27258.9,   2736.6,   0.3594,  34.6869,2,  34.6865,2,    212.4,2,  0.1904,    216.2,2,   125.43,2,    32.73,2,     0.00,2,     2.25,2, -999.000,9, -999.000,9, -999.000,5,-999.0000,5,  -999.00,9,   -999.0,9,  -999.00,9,-999.000,9,   2256.1,2,   2351.3,2,  -999.0, -999.00,-999.0000,-999.000,-999.000
     316N145_5,  I08S,    64,  1,      9, SIH012,2,19941224,0234,-56.8972,  83.3055, 4545,30246.6,   3037.1,   0.2169,  34.6812,2,  34.6810,2,    216.4,2,  0.0253,    221.4,2,   126.75,2,    32.73,2,     0.00,2,     2.25,2, -999.000,9, -999.000,9, -999.000,5,-999.0000,5,  -999.00,9,   -999.0,9,  -999.00,9,-999.000,9,   2255.7,2,   -999.0,9,  -999.0, -999.00,-999.0000,-999.000,-999.000
     316N145_5,  I08S,    64,  1,      8, SIH010,2,19941224,0234,-56.8972,  83.3055, 4545,33344.6,   3348.8,   0.1288,  34.6787,2,  34.6791,2,    219.9,2, -0.0885,    224.5,2,   127.24,2,    32.73,2,     0.00,2,     2.25,2, -999.000,9, -999.000,9, -999.000,5,-999.0000,5,  -999.00,9,   -999.0,9,  -999.00,9,-999.000,9,   2254.5,2,   2360.3,3,  -999.0, -999.00,-999.0000,-999.000,-999.000
     316N145_5,  I08S,    64,  1,      7, SIH009,2,19941224,0234,-56.8972,  83.3055, 4545,36375.6,   3653.6,   0.0629,  34.6770,2,  34.6769,2,    224.6,2, -0.1812,    227.5,2,   127.57,2,    32.64,2,     0.00,2,     2.24,2, -999.000,9, -999.000,9, -999.000,5,-999.0000,5,  -999.00,9,   -999.0,9,  -999.00,9,-999.000,9,   2258.8,2,   2350.4,2,  -999.0, -999.00,-999.0000,-999.000,-999.000
     316N145_5,  I08S,    64,  1,      6, SIH038,2,19941224,0234,-56.8972,  83.3055, 4545,38422.4,   3859.5,   0.0242,  34.6758,2,  34.6749,2,    226.0,2, -0.2388,    229.7,2,   126.91,2,    32.64,2,     0.00,2,     2.24,2, -999.000,9, -999.000,9, -999.000,5,-999.0000,5,  -999.00,9,   -999.0,9,  -999.00,9,-999.000,9,   2254.1,2,   -999.0,9,  -999.0, -999.00,-999.0000,-999.000,-999.000
     316N145_5,  I08S,    64,  1,      5, SIH006,2,19941224,0234,-56.8972,  83.3055, 4545,40472.2,   4065.7,   0.0017,  34.6745,2,  34.6737,2,    227.2,2, -0.2811,    231.4,2,   127.40,2,    32.54,2,     0.00,2,     2.24,2, -999.000,9, -999.000,9, -999.000,5,-999.0000,5,  -999.00,9,   -999.0,9,  -999.00,9,-999.000,9,   2252.7,2,   2362.5,3,  -999.0, -999.00,-999.0000,-999.000,-999.000
     316N145_5,  I08S,    64,  1,      4, SIH004,2,19941224,0234,-56.8972,  83.3055, 4545,42485.4,   4268.2,  -0.0135,  34.6737,2,  34.6712,2,    231.0,2, -0.3166,    232.4,2,   127.89,2,    32.58,2,     0.00,2,     2.24,2, -999.000,9, -999.000,9, -999.000,5,-999.0000,5,  -999.00,9,   -999.0,9,  -999.00,9,-999.000,9,   2253.4,2,   2352.7,2,  -999.0, -999.00,-999.0000,-999.000,-999.000
     316N145_5,  I08S,    64,  1,      3, SIH025,2,19941224,0234,-56.8972,  83.3055, 4545,44293.5,   4450.1,  -0.0264,  34.6731,2,  34.6716,2,    233.0,2, -0.3482,    234.1,2,   126.23,2,    32.43,2,     0.00,2,     2.23,2, -999.000,9, -999.000,9, -999.000,5,-999.0000,5,  -999.00,9,   -999.0,9,  -999.00,9,-999.000,9,   2255.2,2,   -999.0,9,  -999.0, -999.00,-999.0000,-999.000,-999.000
     316N145_5,  I08S,    64,  1,      2, SIH001,2,19941224,0234,-56.8972,  83.3055, 4545,45358.6,   4557.2,  -0.0506,  34.6723,2,  34.6710,2,    234.3,2, -0.3830,    235.1,2,   128.70,2,    32.48,2,     0.00,2,     2.23,2, -999.000,9, -999.000,9, -999.000,5,-999.0000,5,  -999.00,9,   -999.0,9,  -999.00,9,-999.000,9,   2255.9,2,   -999.0,9,  -999.0, -999.00,-999.0000,-999.000,-999.000
     316N145_5,  I08S,    64,  1,      1, SIH036,2,19941224,0234,-56.8972,  83.3055, 4545,45841.3,   4605.8,  -0.0428,  34.6726,2,  34.6730,2,    235.5,2, -0.3806,    234.9,2,   129.07,2,    32.46,2,     0.00,2,     2.23,2, -999.000,9, -999.000,9, -999.000,5,-999.0000,5,  -999.00,9,   -999.0,9,  -999.00,9,-999.000,9,   2252.9,6,   2351.2,2,  -999.0, -999.00,-999.0000,-999.000,-999.000