BOTTLE,20090521WHPSIOdm
EXPOCODE,SECT_ID,STNNBR,CASTNO,SAMPNO,BTLNBR,BTLNBR_FLAG_W,DATE,TIME,LATITUDE,LONGITUDE,DEPTH,CTDRAW,CTDPRS,CTDTMP,CTDSAL,CTDSAL_FLAG_W,SALNTY,SALNTY_FLAG_W,CTDOXY,CTDOXY_FLAG_W,THETA,OXYGEN,OXYGEN_FLAG_W,SILCAT,SILCAT_FLAG_W,NITRAT,NITRAT_FLAG_W,NITRIT,NITRIT_FLAG_W,PHSPHT,PHSPHT_FLAG_W,CFC-11,CFC-11_FLAG_W,CFC-12,CFC-12_FLAG_W,TRITUM,TRITUM_FLAG_W,HELIUM,HELIUM_FLAG_W,DELHE3,DELHE3_FLAG_W,DELC14,DELC14_FLAG_W,DELC13,DELC13_FLAG_W,NEON,NEON_FLAG_W,TCARBN,TCARBN_FLAG_W,ALKALI,ALKALI_FLAG_W,C14ERR,DELHER,HELIER,NEONER,TRITER
,,,,,,,,,,,,,DBAR,IPTS-68,PSS-78,,PSS-78,,UMOL/KG,,IPTS-68,UMOL/KG,,UMOL/KG,,UMOL/KG,,UMOL/KG,,UMOL/KG,,PMOL/KG,,PMOL/KG,,TU,,NMOL/KG,,PERCNT,,/MILLE,,/MILLE,,NMOL/KG,,UMOL/KG,,UMOL/KG,,/MILLE,PERCNT,NMOL/KG,NMOL/KG,TU
     316N145_5,  I08S,    65,  1,     36, SIH035,2,19941224,0932,-57.3195,  82.7805, 4265,  168.0,     11.6,   0.5296,  33.9363,2,  33.9408,2,    345.9,2,  0.5292,    344.2,2,    44.01,2,    27.41,2,     0.25,2,     1.76,2,    6.402,2,    3.024,2,    0.138,2,   1.7750,4,    -1.68,2,   -999.0,9,  -999.00,9,   8.124,2,   -999.0,9,   -999.0,9,  -999.0,    0.10,  0.0030,   0.058,   0.005
     316N145_5,  I08S,    65,  1,     35, SIH032,2,19941224,0932,-57.3195,  82.7805, 4265,  295.0,     24.4,   0.5230,  33.9368,2,  33.9402,2,    341.6,2,  0.5221,    344.7,2,    44.17,2,    27.41,2,     0.25,2,     1.76,2,    6.436,2,    3.013,2, -999.000,5,-999.0000,5,  -999.00,9,   -999.0,9,  -999.00,9,-999.000,9,   -999.0,9,   -999.0,9,  -999.0, -999.00,-999.0000,-999.000,-999.000
     316N145_5,  I08S,    65,  1,     34, SIH029,2,19941224,0932,-57.3195,  82.7805, 4265,  550.4,     50.1,   0.0734,  33.9851,2,  33.9871,2,    347.1,2,  0.0716,    346.0,2,    44.66,2,    27.54,2,     0.22,2,     1.80,2,    6.307,2,    2.989,2,    0.221,2,   1.7820,2,    -1.61,2,   -999.0,9,  -999.00,9,   8.144,2,   -999.0,9,   -999.0,9,  -999.0,    0.10,  0.0020,   0.067,   0.006
     316N145_5,  I08S,    65,  1,     33, SIH026,2,19941224,0932,-57.3195,  82.7805, 4265,  787.4,     73.9,  -0.5947,  34.0988,2,  34.1005,2,    328.1,2, -0.5969,    324.4,2,    53.58,2,    29.34,2,     0.18,2,     1.99,2,    5.635,2,    2.712,2, -999.000,5,-999.0000,5,  -999.00,9,   -999.0,9,  -999.00,9,-999.000,9,   -999.0,9,   -999.0,9,  -999.0, -999.00,-999.0000,-999.000,-999.000
     316N145_5,  I08S,    65,  1,     32, SIH023,2,19941224,0932,-57.3195,  82.7805, 4265,  939.2,     89.2,  -0.6435,  34.1769,2,  34.1789,2,    316.4,2, -0.6462,    303.3,2,    59.68,2,    30.53,2,     0.17,2,     2.13,2,    4.987,2,    2.395,2,    0.062,2,   1.8150,2,     0.60,2,   -999.0,9,  -999.00,9,   8.097,2,   -999.0,9,   -999.0,9,  -999.0,    0.10,  0.0020,   0.057,   0.006
     316N145_5,  I08S,    65,  1,     31, SIH020,2,19941224,0932,-57.3195,  82.7805, 4265, 1558.5,    151.5,   0.2380,  34.4227,2,  34.4267,2,    242.0,2,  0.2322,    234.3,2,    73.54,2,    32.72,2,     0.10,2,     2.26,2,    2.725,2,    1.272,2, -999.000,5,-999.0000,5,  -999.00,9,   -999.0,9,  -999.00,9,-999.000,9,   -999.0,9,   -999.0,9,  -999.0, -999.00,-999.0000,-999.000,-999.000
     316N145_5,  I08S,    65,  1,     30, SIH017,2,19941224,0932,-57.3195,  82.7805, 4265, 2047.4,    200.6,   0.8406,  34.5360,2,  34.5378,2,    211.6,2,  0.8318,    210.8,2,    78.31,2,    32.93,2,     0.04,2,     2.28,2, -999.000,9, -999.000,9,    0.044,2,   1.8450,2,     6.56,2,   -999.0,9,  -999.00,9,   8.085,2,   -999.0,9,   -999.0,9,  -999.0,    0.14,  0.0030,   0.046,   0.004
     316N145_5,  I08S,    65,  1,     29, SIH014,2,19941224,0932,-57.3195,  82.7805, 4265, 2536.4,    249.8,   1.1739,  34.6069,2,  34.6081,2,    203.6,2,  1.1621,    200.5,2,    81.78,2,    32.79,2,     0.02,2,     2.25,2,    1.267,2,    0.590,2, -999.000,5,-999.0000,5,  -999.00,9,   -999.0,9,  -999.00,9,-999.000,9,   -999.0,9,   -999.0,9,  -999.0, -999.00,-999.0000,-999.000,-999.000
     316N145_5,  I08S,    65,  1,     28, SIH011,2,19941224,0932,-57.3195,  82.7805, 4265, 3042.4,    300.7,   1.3253,  34.6412,2,  34.6417,2,    198.5,2,  1.3106,    197.0,2,    83.43,2,    32.61,2,     0.01,2,     2.24,2,    1.008,2,    0.500,2,    0.014,2,   1.8410,2,     8.03,2,   -999.0,9,  -999.00,9,   7.950,2,   -999.0,9,   -999.0,9,  -999.0,    0.10,  0.0020,   0.058,   0.004
     316N145_5,  I08S,    65,  1,     27, SIH008,2,19941224,0932,-57.3195,  82.7805, 4265, 3535.0,    350.3,   1.4060,  34.6634,2,  34.6645,2,    193.9,2,  1.3884,    195.5,2,    84.24,2,    32.29,2,     0.01,2,     2.22,2,    0.819,2,    0.389,2, -999.000,5,-999.0000,5,  -999.00,9,   -999.0,9,  -999.00,9,-999.000,9,   -999.0,9,   -999.0,9,  -999.0, -999.00,-999.0000,-999.000,-999.000
     316N145_5,  I08S,    65,  1,     26, SIH005,2,19941224,0932,-57.3195,  82.7805, 4265, 4091.4,    406.2,   1.4796,  34.6851,2,  34.6857,2,    195.3,2,  1.4588,    195.1,2,    85.90,2,    31.88,2,     0.01,2,     2.20,2,    0.661,2,    0.321,2,    0.011,2,   1.8300,2,     8.29,2,   -999.0,9,  -999.00,9,   7.936,2,   -999.0,9,   -999.0,9,  -999.0,    0.14,  0.0040,   0.047,   0.004
     316N145_5,  I08S,    65,  1,     25, SIH019,2,19941224,0932,-57.3195,  82.7805, 4265, 4601.6,    457.6,   1.5234,  34.7017,2,  34.7019,2,    191.7,2,  1.4995,    194.8,2,    87.05,2,    31.74,2,     0.01,2,     2.18,2,    0.522,2,    0.254,2, -999.000,5,-999.0000,5,  -999.00,9,   -999.0,9,  -999.00,9,-999.000,9,   -999.0,9,   -999.0,9,  -999.0, -999.00,-999.0000,-999.000,-999.000
     316N145_5,  I08S,    65,  1,     24, SIH037,2,19941224,0932,-57.3195,  82.7805, 4265, 5098.9,    507.6,   1.5365,  34.7077,2,  34.7081,2,    191.2,2,  1.5098,    195.4,2,    88.04,2,    31.62,2,     0.00,2,     2.17,2,    0.461,2,    0.219,2,    0.042,4,   1.8470,2,     8.84,2,   -999.0,9,  -999.00,9,   7.959,2,   -999.0,9,   -999.0,9,  -999.0,    0.10,  0.0020,   0.059,   0.004
     316N145_5,  I08S,    65,  1,     23, SIH033,2,19941224,0932,-57.3195,  82.7805, 4265, 6099.1,    608.2,   1.5078,  34.7263,2,  34.7276,2,    195.1,2,  1.4755,    197.4,2,    90.94,2,    31.13,2,     0.00,2,     2.14,2,    0.322,2,    0.149,2,    0.000,4,   1.8570,2,     8.76,2,   -999.0,9,  -999.00,9,   8.085,2,   -999.0,9,   -999.0,9,  -999.0,    0.14,  0.0030,   0.029,   0.004
     316N145_5,  I08S,    65,  1,     22, SIH031,2,19941224,0932,-57.3195,  82.7805, 4265, 7101.0,    709.0,   1.4659,  34.7305,2,  34.7309,2,    195.2,2,  1.4278,    199.0,2,    92.42,2,    30.95,2,     0.00,2,     2.13,2,    0.275,2,    0.131,2,    0.000,5,   1.8530,2,     8.76,2,   -999.0,9,  -999.00,9,   8.171,2,   -999.0,9,   -999.0,9,  -999.0,    0.10,  0.0020,   0.070,   0.000
     316N145_5,  I08S,    65,  1,     21, SIH030,9,19941224,0932,-57.3195,  82.7805, 4265, 8106.8,    810.1,   1.3897,  34.7306,3,-999.0000,9,    197.7,3,  1.3460,   -999.0,9,  -999.00,9,  -999.00,9,  -999.00,9,  -999.00,9, -999.000,9, -999.000,9, -999.000,5,-999.0000,5,  -999.00,9,   -999.0,9,  -999.00,9,-999.000,9,   -999.0,9,   -999.0,9,  -999.0, -999.00,-999.0000,-999.000,-999.000
     316N145_5,  I08S,    65,  1,     20, SIH028,2,19941224,0932,-57.3195,  82.7805, 4265, 9176.8,    917.8,   1.2810,  34.7301,2,  34.7302,2,    198.9,2,  1.2314,    201.8,2,    97.79,2,    31.00,2,     0.00,2,     2.13,2,    0.228,2,    0.106,2, -999.000,5,-999.0000,5,  -999.00,9,   -999.0,9,  -999.00,9,-999.000,9,   -999.0,9,   -999.0,9,  -999.0, -999.00,-999.0000,-999.000,-999.000
     316N145_5,  I08S,    65,  1,     19, SIH027,2,19941224,0932,-57.3195,  82.7805, 4265,10165.2,   1017.2,   1.1212,  34.7222,2,  34.7213,2,    203.2,2,  1.0667,    204.7,2,   101.42,2,    31.36,2,     0.00,2,     2.15,2,    0.257,2,    0.126,2,    0.001,4,   1.8580,2,     8.57,2,   -999.0,9,  -999.00,9,   8.092,2,   -999.0,9,   -999.0,9,  -999.0,    0.14,  0.0060,   0.033,   0.004
     316N145_5,  I08S,    65,  1,     18, SIH003,2,19941224,0932,-57.3195,  82.7805, 4265,11163.2,   1117.6,   1.0546,  34.7199,2,  34.7211,2,    203.5,2,  0.9945,    204.9,2,   103.81,2,    31.47,2,     0.00,2,     2.16,2,    0.234,2,    0.111,2, -999.000,5,-999.0000,5,  -999.00,9,   -999.0,9,  -999.00,9,-999.000,9,   -999.0,9,   -999.0,9,  -999.0, -999.00,-999.0000,-999.000,-999.000
     316N145_5,  I08S,    65,  1,     17, SIH024,2,19941224,0932,-57.3195,  82.7805, 4265,12169.4,   1218.8,   0.9658,  34.7168,2,  34.7168,2,    203.3,2,  0.9000,    205.6,2,   106.87,2,    31.68,2,     0.00,2,     2.18,2,    0.207,2,    0.112,2,   -0.011,4,   1.8680,2,     8.52,2,   -999.0,9,  -999.00,9,   8.106,2,   -999.0,9,   -999.0,9,  -999.0,    0.10,  0.0040,   0.063,   0.004
     316N145_5,  I08S,    65,  1,     16, SIH022,2,19941224,0932,-57.3195,  82.7805, 4265,14269.6,   1430.0,   0.8163,  34.7090,2,  34.7111,2,    205.7,2,  0.7382,    207.3,2,   112.16,2,    31.99,2,     0.00,2,     2.20,2, -999.000,9, -999.000,9,   -0.008,4,   1.8620,2,     8.57,2,   -999.0,9,  -999.00,9,   8.106,2,   -999.0,9,   -999.0,9,  -999.0,    0.14,  0.0030,   0.048,   0.004
     316N145_5,  I08S,    65,  1,     15, SIH021,2,19941224,0932,-57.3195,  82.7805, 4265,16255.3,   1629.8,   0.6499,  34.6987,2,  34.7017,2,    207.3,2,  0.5604,    208.6,2,   116.62,2,    32.33,2,     0.00,2,     2.22,2,    0.161,2,    0.082,2,    0.016,2,   1.8730,2,     8.36,2,   -999.0,9,  -999.00,9,   8.052,3,   -999.0,9,   -999.0,9,  -999.0,    0.10,  0.0020,   0.062,   0.004
     316N145_5,  I08S,    65,  1,     14, SIH002,2,19941224,0932,-57.3195,  82.7805, 4265,18144.8,   1819.8,   0.5117,  34.6933,2,  34.6940,2,    207.1,2,  0.4109,    210.7,2,   120.92,2,    32.60,2,     0.00,2,     2.24,2, -999.000,9, -999.000,9,    0.053,2,   1.8690,2,     8.08,2,   -999.0,9,  -999.00,9,   8.185,2,   -999.0,9,   -999.0,9,  -999.0,    0.14,  0.0030,   0.028,   0.004
     316N145_5,  I08S,    65,  1,     13, SIH018,2,19941224,0932,-57.3195,  82.7805, 4265,20191.9,   2025.7,   0.4148,  34.6885,2,  34.6881,2,    209.3,2,  0.3006,    212.3,2,   123.90,2,    32.80,2,     0.00,2,     2.26,2,    0.143,2,    0.075,2,    0.018,2,   1.8720,2,     7.95,2,   -999.0,9,  -999.00,9,   8.247,2,   -999.0,9,   -999.0,9,  -999.0,    0.10,  0.0020,   0.070,   0.004
     316N145_5,  I08S,    65,  1,     12, SIH016,2,19941224,0932,-57.3195,  82.7805, 4265,22235.8,   2231.3,   0.3249,  34.6839,2,  34.6844,2,    210.6,2,  0.1970,    214.6,2,   125.38,2,    32.86,2,     0.00,2,     2.26,2,    0.187,2,    0.106,2,    0.012,2,   1.8850,2,     7.34,2,   -999.0,9,  -999.00,9,   8.174,2,   -999.0,9,   -999.0,9,  -999.0,    0.10,  0.0020,   0.059,   0.005
     316N145_5,  I08S,    65,  1,     11, SIH015,2,19941224,0932,-57.3195,  82.7805, 4265,24258.3,   2434.8,   0.2429,  34.6811,2,  34.6820,2,    214.6,2,  0.1007,    217.4,2,   126.05,2,    32.86,2,     0.00,2,     2.26,2,    0.234,2,    0.118,2,    0.000,5,   1.8840,2,     7.36,2,   -999.0,9,  -999.00,9,   8.163,2,   -999.0,9,   -999.0,9,  -999.0,    0.14,  0.0020,   0.048,   0.000
     316N145_5,  I08S,    65,  1,     10, SIH013,2,19941224,0932,-57.3195,  82.7805, 4265,27256.6,   2736.4,   0.1260,  34.6785,2,  34.6785,2,    216.8,2, -0.0381,    221.9,2,   126.55,2,    32.76,2,     0.00,2,     2.26,2, -999.000,9, -999.000,9, -999.000,5,-999.0000,5,  -999.00,9,   -999.0,9,  -999.00,9,-999.000,9,   -999.0,9,   -999.0,9,  -999.0, -999.00,-999.0000,-999.000,-999.000
     316N145_5,  I08S,    65,  1,      9, SIH012,2,19941224,0932,-57.3195,  82.7805, 4265,29470.5,   2959.1,   0.0757,  34.6771,2,  34.6773,2,    221.1,2, -0.1059,    224.2,2,   126.55,2,    32.71,2,     0.00,2,     2.25,2, -999.000,9, -999.000,9,    0.011,2,   1.8880,2,     6.62,2,   -999.0,9,  -999.00,9,   8.254,2,   -999.0,9,   -999.0,9,  -999.0,    0.12,  0.0020,   0.110,   0.004
     316N145_5,  I08S,    65,  1,      8, SIH010,2,19941224,0932,-57.3195,  82.7805, 4265,31509.2,   3164.1,   0.0147,  34.6764,2,  34.6745,2,    223.8,2, -0.1833,    227.7,2,   126.21,2,    32.67,2,     0.00,2,     2.24,2,    0.548,2,    0.274,2,    0.106,4,   1.8910,2,     6.43,2,   -999.0,9,  -999.00,9,   8.218,2,   -999.0,9,   -999.0,9,  -999.0,    0.12,  0.0020,   0.118,   0.011
     316N145_5,  I08S,    65,  1,      7, SIH009,2,19941224,0932,-57.3195,  82.7805, 4265,33505.7,   3365.0,  -0.0215,  34.6757,2,  34.6757,2,    225.9,2, -0.2365,    229.9,2,   126.21,2,    32.62,2,     0.00,2,     2.24,2,    0.635,2,    0.314,2, -999.000,5,-999.0000,5,  -999.00,9,   -999.0,9,  -999.00,9,-999.000,9,   -999.0,9,   -999.0,9,  -999.0, -999.00,-999.0000,-999.000,-999.000
     316N145_5,  I08S,    65,  1,      6, SIH038,2,19941224,0932,-57.3195,  82.7805, 4265,35461.1,   3561.6,  -0.0582,  34.6740,2,  34.6734,2,    228.5,2, -0.2904,    231.1,2,   125.89,2,    32.46,2,     0.00,2,     2.24,2, -999.000,9, -999.000,9,    0.024,2,   1.8720,2,     6.14,2,   -999.0,9,  -999.00,9,   8.117,2,   -999.0,9,   -999.0,9,  -999.0,    0.14,  0.0020,   0.057,   0.004
     316N145_5,  I08S,    65,  1,      5, SIH006,2,19941224,0932,-57.3195,  82.7805, 4265,37549.1,   3771.7,  -0.0836,  34.6733,2,  34.6737,2,    231.4,2, -0.3350,    233.0,2,   126.22,2,    32.57,2,     0.00,2,     2.24,2,    0.881,2,    0.419,2,    0.058,2,   1.8890,2,     6.09,2,   -999.0,9,  -999.00,9,   8.199,2,   -999.0,9,   -999.0,9,  -999.0,    0.12,  0.0030,   0.087,   0.004
     316N145_5,  I08S,    65,  1,      4, SIH004,2,19941224,0932,-57.3195,  82.7805, 4265,39537.3,   3971.7,  -0.1223,  34.6716,2,  34.6712,2,    233.2,2, -0.3921,    234.7,2,   127.06,2,    32.52,2,     0.00,2,     2.24,2,    1.077,2,    0.507,2, -999.000,5,-999.0000,5,  -999.00,9,   -999.0,9,  -999.00,9,-999.000,9,   -999.0,9,   -999.0,9,  -999.0, -999.00,-999.0000,-999.000,-999.000
     316N145_5,  I08S,    65,  1,      3, SIH025,2,19941224,0932,-57.3195,  82.7805, 4265,41582.4,   4177.4,  -0.1129,  34.6721,2,  34.6726,2,    236.0,2, -0.4036,    234.9,2,   127.54,2,    32.57,2,     0.00,2,     2.24,2,    1.132,2,    0.533,2,    0.123,4,-999.0000,5,  -999.00,5,   -999.0,9,  -999.00,9,-999.000,5,   -999.0,9,   -999.0,9,  -999.0, -999.00,-999.0000,-999.000,   0.005
     316N145_5,  I08S,    65,  1,      2, SIH001,2,19941224,0932,-57.3195,  82.7805, 4265,42174.3,   4236.9,  -0.1128,  34.6723,2,  34.6698,2,    236.9,2, -0.4096,    235.5,2,   127.88,2,    32.52,2,     0.00,2,     2.24,2,    1.136,2,    0.540,2,   -0.026,4,   1.8820,2,     5.59,2,   -999.0,9,  -999.00,9,   8.249,2,   -999.0,9,   -999.0,9,  -999.0,    0.12,  0.0020,   0.103,   0.004
     316N145_5,  I08S,    65,  1,      1, SIH036,2,19941224,0932,-57.3195,  82.7805, 4265,42683.1,   4288.1,  -0.1077,  34.6728,2,  34.6708,2,    236.6,2, -0.4100,    235.7,2,   127.69,2,    32.49,2,     0.00,2,     2.24,2,    1.158,2,    0.546,2,    0.146,4,   2.2570,4,     4.80,2,   -999.0,9,  -999.00,9,   9.403,4,   -999.0,9,   -999.0,9,  -999.0,    0.14,  0.0030,   0.063,   0.005