BOTTLE,20090521WHPSIOdm
EXPOCODE,SECT_ID,STNNBR,CASTNO,SAMPNO,BTLNBR,BTLNBR_FLAG_W,DATE,TIME,LATITUDE,LONGITUDE,DEPTH,CTDRAW,CTDPRS,CTDTMP,CTDSAL,CTDSAL_FLAG_W,SALNTY,SALNTY_FLAG_W,CTDOXY,CTDOXY_FLAG_W,THETA,OXYGEN,OXYGEN_FLAG_W,SILCAT,SILCAT_FLAG_W,NITRAT,NITRAT_FLAG_W,NITRIT,NITRIT_FLAG_W,PHSPHT,PHSPHT_FLAG_W,CFC-11,CFC-11_FLAG_W,CFC-12,CFC-12_FLAG_W,TRITUM,TRITUM_FLAG_W,HELIUM,HELIUM_FLAG_W,DELHE3,DELHE3_FLAG_W,DELC14,DELC14_FLAG_W,DELC13,DELC13_FLAG_W,NEON,NEON_FLAG_W,TCARBN,TCARBN_FLAG_W,ALKALI,ALKALI_FLAG_W,C14ERR,DELHER,HELIER,NEONER,TRITER
,,,,,,,,,,,,,DBAR,IPTS-68,PSS-78,,PSS-78,,UMOL/KG,,IPTS-68,UMOL/KG,,UMOL/KG,,UMOL/KG,,UMOL/KG,,UMOL/KG,,PMOL/KG,,PMOL/KG,,TU,,NMOL/KG,,PERCNT,,/MILLE,,/MILLE,,NMOL/KG,,UMOL/KG,,UMOL/KG,,/MILLE,PERCNT,NMOL/KG,NMOL/KG,TU
     316N145_5,  I08S,    54,  1,     36, SIH035,2,19941220,1048,-52.6833,  87.8862, 4500,  175.6,     13.5,   3.1170,  33.8955,2,  33.8987,2,    382.0,2,  3.1162,    332.0,2,     4.41,2,    21.58,2,     0.21,2,     1.55,2, -999.000,9, -999.000,9, -999.000,5,-999.0000,5,  -999.00,9,   -999.0,9,  -999.00,9,-999.000,9,   2115.5,6,   2280.9,2,  -999.0, -999.00,-999.0000,-999.000,-999.000
     316N145_5,  I08S,    54,  1,     35, SIH032,2,19941220,1048,-52.6833,  87.8862, 4500,  374.4,     33.5,   3.1612,  33.9125,2,  33.9158,2,    315.8,2,  3.1592,    327.9,2,     5.42,2,    22.08,2,     0.21,2,     1.59,2, -999.000,9, -999.000,9, -999.000,5,-999.0000,5,  -999.00,9,   -999.0,9,  -999.00,9,-999.000,9,   2127.4,2,   -999.0,9,  -999.0, -999.00,-999.0000,-999.000,-999.000
     316N145_5,  I08S,    54,  1,     34, SIH029,2,19941220,1048,-52.6833,  87.8862, 4500,  624.7,     58.7,   3.0462,  33.9226,2,  33.9258,2,    315.1,2,  3.0427,    321.0,2,     7.61,2,    22.80,2,     0.20,2,  -999.00,4, -999.000,9, -999.000,9, -999.000,5,-999.0000,5,  -999.00,9,   -999.0,9,  -999.00,9,-999.000,9,   2127.9,2,   2287.1,2,  -999.0, -999.00,-999.0000,-999.000,-999.000
     316N145_5,  I08S,    54,  1,     33, SIH026,2,19941220,1048,-52.6833,  87.8862, 4500,  879.9,     84.4,   2.8942,  33.9353,2,  33.9328,2,    315.7,2,  2.8892,    319.3,2,     8.96,2,    23.20,2,     0.20,2,     1.70,2, -999.000,9, -999.000,9, -999.000,5,-999.0000,5,  -999.00,9,   -999.0,9,  -999.00,9,-999.000,9,   2131.5,2,   2279.9,2,  -999.0, -999.00,-999.0000,-999.000,-999.000
     316N145_5,  I08S,    54,  1,     32, SIH023,2,19941220,1048,-52.6833,  87.8862, 4500, 1114.5,    108.0,   1.6219,  33.8825,2,  33.8878,2,    340.3,2,  1.6167,    334.7,2,    20.06,2,    24.58,2,     0.22,2,     1.78,2, -999.000,9, -999.000,9, -999.000,5,-999.0000,5,  -999.00,9,   -999.0,9,  -999.00,9,-999.000,9,   2142.9,2,   2280.5,2,  -999.0, -999.00,-999.0000,-999.000,-999.000
     316N145_5,  I08S,    54,  1,     31, SIH020,2,19941220,1048,-52.6833,  87.8862, 4500, 1623.6,    159.2,   1.8991,  33.9707,2,  33.9724,2,    304.6,2,  1.8910,    311.1,2,    22.92,2,    27.09,2,     0.16,2,     1.95,2, -999.000,9, -999.000,9, -999.000,5,-999.0000,5,  -999.00,9,   -999.0,9,  -999.00,9,-999.000,9,   2158.2,2,   2285.1,2,  -999.0, -999.00,-999.0000,-999.000,-999.000
     316N145_5,  I08S,    54,  1,     30, SIH017,2,19941220,1048,-52.6833,  87.8862, 4500, 2114.7,    208.6,   1.2322,  33.9559,2,  33.9565,2,    302.8,2,  1.2226,    319.1,2,    27.80,2,    27.37,2,     0.16,2,     1.98,2, -999.000,9, -999.000,9, -999.000,5,-999.0000,5,  -999.00,9,   -999.0,9,  -999.00,9,-999.000,9,   2162.2,2,   2282.7,2,  -999.0, -999.00,-999.0000,-999.000,-999.000
     316N145_5,  I08S,    54,  1,     29, SIH014,9,19941220,1048,-52.6833,  87.8862, 4500, 2630.2,    260.5,   0.9186,  33.9837,3,-999.0000,9,    292.7,3,  0.9072,   -999.0,9,  -999.00,9,  -999.00,9,  -999.00,9,  -999.00,9, -999.000,9, -999.000,9, -999.000,5,-999.0000,5,  -999.00,9,   -999.0,9,  -999.00,9,-999.000,9,   -999.0,9,   -999.0,9,  -999.0, -999.00,-999.0000,-999.000,-999.000
     316N145_5,  I08S,    54,  1,     28, SIH011,2,19941220,1048,-52.6833,  87.8862, 4500, 3139.6,    311.7,   1.9595,  34.1394,2,  34.1391,2,    259.3,2,  1.9428,    260.1,2,    36.88,2,    30.88,2,     0.03,2,     2.16,2, -999.000,9, -999.000,9, -999.000,5,-999.0000,5,  -999.00,9,   -999.0,9,  -999.00,9,-999.000,9,   2188.5,2,   2290.5,2,  -999.0, -999.00,-999.0000,-999.000,-999.000
     316N145_5,  I08S,    54,  1,     27, SIH008,2,19941220,1048,-52.6833,  87.8862, 4500, 3625.4,    360.6,   2.0053,  34.2072,2,  34.2115,2,    234.1,2,  1.9858,    240.2,2,    43.61,2,    32.05,2,     0.03,2,     2.24,2, -999.000,9, -999.000,9, -999.000,5,-999.0000,5,  -999.00,9,   -999.0,9,  -999.00,9,-999.000,9,   2202.3,2,   2298.5,2,  -999.0, -999.00,-999.0000,-999.000,-999.000
     316N145_5,  I08S,    54,  1,     26, SIH005,2,19941220,1048,-52.6833,  87.8862, 4500, 4121.2,    410.4,   1.8437,  34.2499,2,  34.2526,2,    232.6,2,  1.8218,    230.6,2,    49.50,2,    32.86,2,     0.02,2,     2.28,2, -999.000,9, -999.000,9, -999.000,5,-999.0000,5,  -999.00,9,   -999.0,9,  -999.00,9,-999.000,9,   2211.4,2,   2302.4,2,  -999.0, -999.00,-999.0000,-999.000,-999.000
     316N145_5,  I08S,    54,  1,     25, SIH019,2,19941220,1048,-52.6833,  87.8862, 4500, 4625.2,    461.1,   2.2925,  34.3660,2,  34.3639,2,    218.9,2,  2.2659,    202.5,2,    56.57,2,    33.67,2,     0.01,2,     2.34,2, -999.000,9, -999.000,9, -999.000,5,-999.0000,5,  -999.00,9,   -999.0,9,  -999.00,9,-999.000,9,   2225.5,2,   2323.9,2,  -999.0, -999.00,-999.0000,-999.000,-999.000
     316N145_5,  I08S,    54,  1,     24, SIH037,2,19941220,1048,-52.6833,  87.8862, 4500, 5136.3,    512.5,   1.9753,  34.3686,2,  34.3700,2,    210.4,2,  1.9469,    209.1,2,    59.10,2,    33.61,2,     0.04,2,     2.34,2, -999.000,9, -999.000,9, -999.000,5,-999.0000,5,  -999.00,9,   -999.0,9,  -999.00,9,-999.000,9,   2227.6,2,   2312.7,3,  -999.0, -999.00,-999.0000,-999.000,-999.000
     316N145_5,  I08S,    54,  1,     23, SIH033,2,19941220,1048,-52.6833,  87.8862, 4500, 6121.3,    611.6,   2.3986,  34.4846,2,  34.4858,2,    183.5,2,  2.3619,    182.6,2,    66.16,2,    34.04,2,     0.00,2,     2.36,2, -999.000,9, -999.000,9, -999.000,5,-999.0000,5,  -999.00,9,   -999.0,9,  -999.00,9,-999.000,9,   2240.7,2,   -999.0,9,  -999.0, -999.00,-999.0000,-999.000,-999.000
     316N145_5,  I08S,    54,  1,     22, SIH031,2,19941220,1048,-52.6833,  87.8862, 4500, 7101.7,    710.2,   2.2749,  34.5198,2,  34.5201,2,    183.9,2,  2.2324,    180.4,2,    70.20,2,    34.00,2,     0.00,2,     2.36,2, -999.000,9, -999.000,9, -999.000,5,-999.0000,5,  -999.00,9,   -999.0,9,  -999.00,9,-999.000,9,   2245.2,2,   2326.0,3,  -999.0, -999.00,-999.0000,-999.000,-999.000
     316N145_5,  I08S,    54,  1,     21, SIH030,2,19941220,1048,-52.6833,  87.8862, 4500, 8103.6,    811.0,   2.1439,  34.5623,2,  34.5641,2,    179.8,2,  2.0955,    175.8,2,    75.58,2,    34.12,2,     0.00,2,     2.36,2, -999.000,9, -999.000,9, -999.000,5,-999.0000,5,  -999.00,9,   -999.0,9,  -999.00,9,-999.000,9,   2250.9,2,   -999.0,9,  -999.0, -999.00,-999.0000,-999.000,-999.000
     316N145_5,  I08S,    54,  1,     20, SIH028,2,19941220,1048,-52.6833,  87.8862, 4500, 9100.1,    911.2,   2.2846,  34.6406,2,  34.6425,2,    177.3,2,  2.2282,    178.7,2,    75.75,2,    32.42,2,     0.00,2,     2.26,2, -999.000,9, -999.000,9, -999.000,5,-999.0000,5,  -999.00,9,   -999.0,9,  -999.00,9,-999.000,9,   2247.0,2,   2335.0,2,  -999.0, -999.00,-999.0000,-999.000,-999.000
     316N145_5,  I08S,    54,  1,     19, SIH027,2,19941220,1048,-52.6833,  87.8862, 4500,10125.5,   1014.4,   2.2598,  34.6702,2,  34.6724,2,    179.9,2,  2.1964,    179.6,2,    77.61,2,    31.92,2,     0.00,2,     2.23,2, -999.000,9, -999.000,9, -999.000,5,-999.0000,5,  -999.00,9,   -999.0,9,  -999.00,9,-999.000,9,   2247.6,2,   2332.3,2,  -999.0, -999.00,-999.0000,-999.000,-999.000
     316N145_5,  I08S,    54,  1,     18, SIH003,2,19941220,1048,-52.6833,  87.8862, 4500,11131.5,   1115.6,   2.2621,  34.7043,2,  34.7064,2,    184.4,2,  2.1914,    184.3,2,    77.12,2,    30.91,2,     0.00,2,     2.16,2, -999.000,9, -999.000,9, -999.000,5,-999.0000,5,  -999.00,9,   -999.0,9,  -999.00,9,-999.000,9,   2244.3,6,   2339.1,2,  -999.0, -999.00,-999.0000,-999.000,-999.000
     316N145_5,  I08S,    54,  1,     17, SIH024,2,19941220,1048,-52.6833,  87.8862, 4500,12134.7,   1216.5,   2.1103,  34.7089,2,  34.7113,2,    186.4,2,  2.0336,    185.9,2,    80.82,2,    30.92,2,     0.00,2,     2.17,2, -999.000,9, -999.000,9, -999.000,5,-999.0000,5,  -999.00,9,   -999.0,9,  -999.00,9,-999.000,9,   2246.0,2,   2336.3,2,  -999.0, -999.00,-999.0000,-999.000,-999.000
     316N145_5,  I08S,    54,  1,     16, SIH022,2,19941220,1048,-52.6833,  87.8862, 4500,14335.6,   1437.9,   1.9634,  34.7390,2,  34.7398,2,    193.3,2,  1.8719,    193.0,2,    84.52,2,    30.17,2,     0.00,2,     2.11,2, -999.000,9, -999.000,9, -999.000,5,-999.0000,5,  -999.00,9,   -999.0,9,  -999.00,9,-999.000,9,   2242.8,2,   2344.9,2,  -999.0, -999.00,-999.0000,-999.000,-999.000
     316N145_5,  I08S,    54,  1,     15, SIH021,2,19941220,1048,-52.6833,  87.8862, 4500,16158.0,   1621.2,   1.7939,  34.7443,2,  34.7475,2,    196.7,2,  1.6904,    196.6,2,    88.57,2,    30.03,2,     0.00,2,     2.10,2, -999.000,9, -999.000,9, -999.000,5,-999.0000,5,  -999.00,9,   -999.0,9,  -999.00,9,-999.000,9,   2244.4,2,   2344.4,2,  -999.0, -999.00,-999.0000,-999.000,-999.000
     316N145_5,  I08S,    54,  1,     14, SIH002,2,19941220,1048,-52.6833,  87.8862, 4500,18057.8,   1812.3,   1.6278,  34.7456,2,  34.7475,2,    198.7,2,  1.5117,    200.1,2,    93.62,2,    30.01,2,     0.00,2,     2.10,2, -999.000,9, -999.000,9, -999.000,5,-999.0000,5,  -999.00,9,   -999.0,9,  -999.00,9,-999.000,9,   2246.7,2,   2346.0,2,  -999.0, -999.00,-999.0000,-999.000,-999.000
     316N145_5,  I08S,    54,  1,     13, SIH018,2,19941220,1048,-52.6833,  87.8862, 4500,19988.6,   2006.5,   1.4639,  34.7388,2,  34.7404,2,    200.7,2,  1.3348,    201.2,2,    98.01,2,    30.34,2,     0.00,2,     2.12,2, -999.000,9, -999.000,9, -999.000,5,-999.0000,5,  -999.00,9,   -999.0,9,  -999.00,9,-999.000,9,   2248.7,2,   -999.0,9,  -999.0, -999.00,-999.0000,-999.000,-999.000
     316N145_5,  I08S,    54,  1,     12, SIH016,2,19941220,1048,-52.6833,  87.8862, 4500,22085.4,   2217.4,   1.2682,  34.7308,2,  34.7331,2,    203.4,2,  1.1251,    203.7,2,   103.91,2,    30.62,2,     0.00,2,     2.14,2, -999.000,9, -999.000,9, -999.000,5,-999.0000,5,  -999.00,9,   -999.0,9,  -999.00,9,-999.000,9,   2252.1,2,   2353.5,2,  -999.0, -999.00,-999.0000,-999.000,-999.000
     316N145_5,  I08S,    54,  1,     11, SIH015,2,19941220,1048,-52.6833,  87.8862, 4500,24180.5,   2428.1,   1.0709,  34.7203,2,  34.7235,2,    205.3,2,  0.9138,    205.3,2,   109.63,2,    31.00,2,     0.00,2,     2.17,2, -999.000,9, -999.000,9, -999.000,5,-999.0000,5,  -999.00,9,   -999.0,9,  -999.00,9,-999.000,9,   2251.7,2,   -999.0,9,  -999.0, -999.00,-999.0000,-999.000,-999.000
     316N145_5,  I08S,    54,  1,     10, SIH013,2,19941220,1048,-52.6833,  87.8862, 4500,27291.8,   2741.1,   0.8091,  34.7067,2,  34.7070,2,    208.3,2,  0.6304,    208.2,2,   117.04,2,    31.59,2,     0.00,2,     2.21,2, -999.000,9, -999.000,9, -999.000,5,-999.0000,5,  -999.00,9,   -999.0,9,  -999.00,9,-999.000,9,   2254.1,2,   2360.3,2,  -999.0, -999.00,-999.0000,-999.000,-999.000
     316N145_5,  I08S,    54,  1,      9, SIH012,2,19941220,1048,-52.6833,  87.8862, 4500,30328.9,   3046.6,   0.5828,  34.6938,2,  34.6958,2,    212.1,2,  0.3820,    212.2,2,   122.44,2,    31.81,2,     0.00,2,     2.24,2, -999.000,9, -999.000,9, -999.000,5,-999.0000,5,  -999.00,9,   -999.0,9,  -999.00,9,-999.000,9,   2256.4,2,   2360.1,2,  -999.0, -999.00,-999.0000,-999.000,-999.000
     316N145_5,  I08S,    54,  1,      8, SIH010,2,19941220,1048,-52.6833,  87.8862, 4500,33224.4,   3337.8,   0.3888,  34.6863,2,  34.6851,2,    216.5,2,  0.1661,    217.3,2,   125.48,2,    32.15,2,     0.00,2,     2.25,2, -999.000,9, -999.000,9, -999.000,5,-999.0000,5,  -999.00,9,   -999.0,9,  -999.00,9,-999.000,9,   2256.8,2,   2359.5,2,  -999.0, -999.00,-999.0000,-999.000,-999.000
     316N145_5,  I08S,    54,  1,      7, SIH009,2,19941220,1048,-52.6833,  87.8862, 4500,35377.8,   3554.4,   0.2664,  34.6815,2,  34.6822,2,    220.8,2,  0.0263,    221.3,2,   126.17,2,    32.17,2,     0.00,2,     2.25,2, -999.000,9, -999.000,9, -999.000,5,-999.0000,5,  -999.00,9,   -999.0,9,  -999.00,9,-999.000,9,   2254.9,2,   2355.3,2,  -999.0, -999.00,-999.0000,-999.000,-999.000
     316N145_5,  I08S,    54,  1,      6, SIH038,2,19941220,1048,-52.6833,  87.8862, 4500,37435.2,   3761.4,   0.1766,  34.6784,2,  34.6783,2,    224.1,2, -0.0809,    224.2,2,   127.02,2,    32.14,2,     0.00,2,     2.25,2, -999.000,9, -999.000,9, -999.000,5,-999.0000,5,  -999.00,9,   -999.0,9,  -999.00,9,-999.000,9,   2254.6,2,   2356.6,2,  -999.0, -999.00,-999.0000,-999.000,-999.000
     316N145_5,  I08S,    54,  1,      5, SIH006,2,19941220,1048,-52.6833,  87.8862, 4500,39582.7,   3977.4,   0.1126,  34.6761,2,  34.6763,2,    226.6,2, -0.1646,    227.1,2,   127.53,2,    32.05,2,     0.00,2,     2.24,2, -999.000,9, -999.000,9, -999.000,5,-999.0000,5,  -999.00,9,   -999.0,9,  -999.00,9,-999.000,9,   2254.0,2,   2356.9,2,  -999.0, -999.00,-999.0000,-999.000,-999.000
     316N145_5,  I08S,    54,  1,      4, SIH004,2,19941220,1048,-52.6833,  87.8862, 4500,41609.1,   4181.2,   0.0614,  34.6752,2,  34.6747,2,    228.9,2, -0.2349,    229.4,2,   128.22,2,    32.18,2,     0.00,2,     2.24,2, -999.000,9, -999.000,9, -999.000,5,-999.0000,5,  -999.00,9,   -999.0,9,  -999.00,9,-999.000,9,   2253.5,2,   2359.4,2,  -999.0, -999.00,-999.0000,-999.000,-999.000
     316N145_5,  I08S,    54,  1,      3, SIH025,2,19941220,1048,-52.6833,  87.8862, 4500,43342.3,   4355.6,   0.0417,  34.6744,2,  34.6734,2,    230.4,2, -0.2721,    230.7,2,   128.06,2,    32.20,2,     0.00,2,     2.24,2, -999.000,9, -999.000,9, -999.000,5,-999.0000,5,  -999.00,9,   -999.0,9,  -999.00,9,-999.000,9,   2254.7,2,   2366.6,2,  -999.0, -999.00,-999.0000,-999.000,-999.000
     316N145_5,  I08S,    54,  1,      2, SIH001,2,19941220,1048,-52.6833,  87.8862, 4500,44777.8,   4500.0,   0.0250,  34.6730,2,  34.6736,2,    231.5,2, -0.3037,    231.6,2,   128.75,2,    32.22,2,     0.00,2,     2.24,2, -999.000,9, -999.000,9, -999.000,5,-999.0000,5,  -999.00,9,   -999.0,9,  -999.00,9,-999.000,9,   2253.9,2,   2369.6,2,  -999.0, -999.00,-999.0000,-999.000,-999.000
     316N145_5,  I08S,    54,  1,      1, SIH036,2,19941220,1048,-52.6833,  87.8862, 4500,45224.1,   4544.9,   0.0299,  34.6735,2,  34.6724,2,    230.7,2, -0.3038,    232.2,2,   128.74,2,    32.36,2,     0.00,2,     2.24,2, -999.000,9, -999.000,9, -999.000,5,-999.0000,5,  -999.00,9,   -999.0,9,  -999.00,9,-999.000,9,   2253.9,2,   2364.9,2,  -999.0, -999.00,-999.0000,-999.000,-999.000