BOTTLE,20090521WHPSIOdm
EXPOCODE,SECT_ID,STNNBR,CASTNO,SAMPNO,BTLNBR,BTLNBR_FLAG_W,DATE,TIME,LATITUDE,LONGITUDE,DEPTH,CTDRAW,CTDPRS,CTDTMP,CTDSAL,CTDSAL_FLAG_W,SALNTY,SALNTY_FLAG_W,CTDOXY,CTDOXY_FLAG_W,THETA,OXYGEN,OXYGEN_FLAG_W,SILCAT,SILCAT_FLAG_W,NITRAT,NITRAT_FLAG_W,NITRIT,NITRIT_FLAG_W,PHSPHT,PHSPHT_FLAG_W,CFC-11,CFC-11_FLAG_W,CFC-12,CFC-12_FLAG_W,TRITUM,TRITUM_FLAG_W,HELIUM,HELIUM_FLAG_W,DELHE3,DELHE3_FLAG_W,DELC14,DELC14_FLAG_W,DELC13,DELC13_FLAG_W,NEON,NEON_FLAG_W,TCARBN,TCARBN_FLAG_W,ALKALI,ALKALI_FLAG_W,C14ERR,DELHER,HELIER,NEONER,TRITER
,,,,,,,,,,,,,DBAR,IPTS-68,PSS-78,,PSS-78,,UMOL/KG,,IPTS-68,UMOL/KG,,UMOL/KG,,UMOL/KG,,UMOL/KG,,UMOL/KG,,PMOL/KG,,PMOL/KG,,TU,,NMOL/KG,,PERCNT,,/MILLE,,/MILLE,,NMOL/KG,,UMOL/KG,,UMOL/KG,,/MILLE,PERCNT,NMOL/KG,NMOL/KG,TU
     316N145_5,  I09S,   136,  1,     36, SI9446,2,19950116,0124,-38.5000, 115.0083, 4685,  183.3,     13.2,  16.9441,  35.2440,2,  35.2505,2,    263.6,2, 16.9420,    251.7,2,     0.24,2,     1.48,2,     0.04,2,     0.27,2, -999.000,9, -999.000,9, -999.000,5,-999.0000,5,  -999.00,9,   -999.0,9,  -999.00,9,-999.000,9,   2052.4,6,   -999.0,9,  -999.0, -999.00,-999.0000,-999.000,-999.000
     316N145_5,  I09S,   136,  1,     35, SIH032,2,19950116,0124,-38.5000, 115.0083, 4685,  385.4,     33.5,  16.0988,  35.2813,2,  35.2826,2,    263.0,2, 16.0935,    261.4,2,     0.25,2,     0.74,2,     0.04,2,     0.22,2, -999.000,9, -999.000,9, -999.000,5,-999.0000,5,  -999.00,9,   -999.0,9,  -999.00,9,-999.000,9,   2048.6,2,   2328.1,2,  -999.0, -999.00,-999.0000,-999.000,-999.000
     316N145_5,  I09S,   136,  1,     34, SIH029,2,19950116,0124,-38.5000, 115.0083, 4685,  632.2,     58.3,  15.2681,  35.4132,2,  35.3660,2,    265.5,2, 15.2592,    256.9,2,     0.58,2,     1.02,2,     0.04,2,     0.24,2, -999.000,9, -999.000,9, -999.000,5,-999.0000,5,  -999.00,9,   -999.0,9,  -999.00,9,-999.000,9,   2058.6,2,   2333.9,6,  -999.0, -999.00,-999.0000,-999.000,-999.000
     316N145_5,  I09S,   136,  1,     33, SIH026,2,19950116,0124,-38.5000, 115.0083, 4685,  882.3,     83.5,  13.8651,  35.4102,2,  35.4022,2,    241.8,2, 13.8531,    246.8,2,     0.73,2,     1.85,2,     0.61,2,     0.33,2, -999.000,9, -999.000,9, -999.000,5,-999.0000,5,  -999.00,9,   -999.0,9,  -999.00,9,-999.000,9,   2074.0,2,   2328.4,2,  -999.0, -999.00,-999.0000,-999.000,-999.000
     316N145_5,  I09S,   136,  1,     32, SIH023,2,19950116,0124,-38.5000, 115.0083, 4685, 1122.8,    107.6,  13.3242,  35.3205,2,  35.3218,2,    257.7,2, 13.3092,    245.3,2,     0.74,2,     3.62,2,     0.04,2,     0.42,2, -999.000,9, -999.000,9, -999.000,5,-999.0000,5,  -999.00,9,   -999.0,9,  -999.00,9,-999.000,9,   2078.0,2,   2337.6,2,  -999.0, -999.00,-999.0000,-999.000,-999.000
     316N145_5,  I09S,   136,  1,     31, SIH020,2,19950116,0124,-38.5000, 115.0083, 4685, 1630.3,    158.7,  12.5506,  35.1899,2,  35.1943,2,    250.4,2, 12.5293,    248.6,2,     1.22,2,     5.36,2,     0.02,2,     0.53,2, -999.000,9, -999.000,9, -999.000,5,-999.0000,5,  -999.00,9,   -999.0,9,  -999.00,9,-999.000,9,   2084.9,2,   2319.4,2,  -999.0, -999.00,-999.0000,-999.000,-999.000
     316N145_5,  I09S,   136,  1,     30, SIH017,2,19950116,0124,-38.5000, 115.0083, 4685, 2123.3,    208.3,  11.7498,  35.0458,2,  35.0423,2,    256.3,2, 11.7230,    252.6,2,     1.39,2,     7.04,2,     0.01,2,     0.64,2, -999.000,9, -999.000,9, -999.000,5,-999.0000,5,  -999.00,9,   -999.0,9,  -999.00,9,-999.000,9,   2087.3,2,   -999.0,9,  -999.0, -999.00,-999.0000,-999.000,-999.000
     316N145_5,  I09S,   136,  1,     29, SIH014,2,19950116,0124,-38.5000, 115.0083, 4685, 2629.9,    259.2,  11.2648,  34.9756,2,  34.9707,2,    252.4,2, 11.2323,    252.3,2,     1.71,2,     8.52,2,     0.01,2,     0.72,2, -999.000,9, -999.000,9, -999.000,5,-999.0000,5,  -999.00,9,   -999.0,9,  -999.00,9,-999.000,9,   2093.2,2,   -999.0,9,  -999.0, -999.00,-999.0000,-999.000,-999.000
     316N145_5,  I09S,   136,  1,     28, SIH011,2,19950116,0124,-38.5000, 115.0083, 4685, 3127.4,    309.2,  10.6760,  34.8897,2,  34.8912,2,    246.8,2, 10.6385,    248.4,2,     2.35,2,    10.47,2,     0.01,2,     0.83,2, -999.000,9, -999.000,9, -999.000,5,-999.0000,5,  -999.00,9,   -999.0,9,  -999.00,9,-999.000,9,   2098.9,2,   2305.9,2,  -999.0, -999.00,-999.0000,-999.000,-999.000
     316N145_5,  I09S,   136,  1,     27, SIH008,2,19950116,0124,-38.5000, 115.0083, 4685, 3621.4,    358.9,  10.0997,  34.7906,2,  34.7899,2,    252.4,2, 10.0575,    251.2,2,     2.82,2,    12.08,2,     0.01,2,     0.93,2, -999.000,9, -999.000,9, -999.000,5,-999.0000,5,  -999.00,9,   -999.0,9,  -999.00,9,-999.000,9,   2102.4,2,   -999.0,9,  -999.0, -999.00,-999.0000,-999.000,-999.000
     316N145_5,  I09S,   136,  1,     26, SIH005,2,19950116,0124,-38.5000, 115.0083, 4685, 4134.4,    410.5,   9.7578,  34.7368,2,  34.7359,2,    253.5,2,  9.7105,    249.0,2,     3.31,2,    13.42,2,     0.01,2,     1.01,2, -999.000,9, -999.000,9, -999.000,5,-999.0000,5,  -999.00,9,   -999.0,9,  -999.00,9,-999.000,9,   2104.7,2,   2301.8,2,  -999.0, -999.00,-999.0000,-999.000,-999.000
     316N145_5,  I09S,   136,  1,     25, SIH019,2,19950116,0124,-38.5000, 115.0083, 4685, 4630.6,    460.4,   9.5467,  34.7082,2,  34.7087,2,    243.3,2,  9.4943,    246.8,2,     3.64,2,    14.39,2,     0.00,2,     1.07,2, -999.000,9, -999.000,9, -999.000,5,-999.0000,5,  -999.00,9,   -999.0,9,  -999.00,9,-999.000,9,   2108.9,2,   2276.8,2,  -999.0, -999.00,-999.0000,-999.000,-999.000
     316N145_5,  I09S,   136,  1,     24, SIH037,2,19950116,0124,-38.5000, 115.0083, 4685, 5119.3,    509.5,   9.3638,  34.6816,2,  34.6816,2,    250.3,2,  9.3063,    247.6,2,     4.11,2,    15.06,2,     0.01,2,     1.10,2, -999.000,9, -999.000,9, -999.000,5,-999.0000,5,  -999.00,9,   -999.0,9,  -999.00,9,-999.000,9,   2109.8,2,   2289.9,2,  -999.0, -999.00,-999.0000,-999.000,-999.000
     316N145_5,  I09S,   136,  1,     23, SIH033,2,19950116,0124,-38.5000, 115.0083, 4685, 6124.8,    610.6,   9.1354,  34.6500,2,  34.6494,2,    245.7,2,  9.0672,    243.7,2,     4.75,2,    16.26,2,     0.01,2,     1.17,2, -999.000,9, -999.000,9, -999.000,5,-999.0000,5,  -999.00,9,   -999.0,9,  -999.00,9,-999.000,9,   2113.6,2,   2297.7,2,  -999.0, -999.00,-999.0000,-999.000,-999.000
     316N145_5,  I09S,   136,  1,     22, SIH031,2,19950116,0124,-38.5000, 115.0083, 4685, 7123.0,    711.0,   8.6265,  34.5877,2,  34.5857,2,    236.8,2,  8.5494,    232.2,2,     6.65,2,    18.85,2,     0.00,2,     1.33,2, -999.000,9, -999.000,9, -999.000,5,-999.0000,5,  -999.00,9,   -999.0,9,  -999.00,9,-999.000,9,   2123.8,2,   2292.9,2,  -999.0, -999.00,-999.0000,-999.000,-999.000
     316N145_5,  I09S,   136,  1,     21, SIH030,2,19950116,0124,-38.5000, 115.0083, 4685, 8100.4,    809.3,   7.7417,  34.5065,2,  34.5058,2,    213.4,2,  7.6587,    212.8,2,    11.23,2,    22.72,2,     0.00,2,     1.56,2, -999.000,9, -999.000,9, -999.000,5,-999.0000,5,  -999.00,9,   -999.0,9,  -999.00,9,-999.000,9,   2141.8,2,   2295.1,2,  -999.0, -999.00,-999.0000,-999.000,-999.000
     316N145_5,  I09S,   136,  1,     20, SIH028,2,19950116,0124,-38.5000, 115.0083, 4685, 9098.9,    909.7,   6.6731,  34.4537,2,  34.4532,2,    198.8,2,  6.5865,    196.4,2,    18.65,2,    26.48,2,     0.00,2,     1.81,2, -999.000,9, -999.000,9, -999.000,5,-999.0000,5,  -999.00,9,   -999.0,9,  -999.00,9,-999.000,9,   2163.5,2,   2299.9,2,  -999.0, -999.00,-999.0000,-999.000,-999.000
     316N145_5,  I09S,   136,  1,     19, SIH027,2,19950116,0124,-38.5000, 115.0083, 4685,10110.5,   1011.5,   5.4131,  34.3908,2,  34.3913,2,    199.3,2,  5.3258,    197.4,2,    26.55,2,    29.06,2,     0.00,2,     1.98,2, -999.000,9, -999.000,9, -999.000,5,-999.0000,5,  -999.00,9,   -999.0,9,  -999.00,9,-999.000,9,   2178.4,2,   2302.8,2,  -999.0, -999.00,-999.0000,-999.000,-999.000
     316N145_5,  I09S,   136,  1,     18, SIH003,2,19950116,0124,-38.5000, 115.0083, 4685,11171.3,   1118.2,   4.4156,  34.3721,2,  34.3729,2,    193.9,2,  4.3267,    194.9,2,    36.34,2,    31.16,2,     0.00,2,     2.13,2, -999.000,9, -999.000,9, -999.000,5,-999.0000,5,  -999.00,9,   -999.0,9,  -999.00,9,-999.000,9,   2194.9,6,   2296.4,2,  -999.0, -999.00,-999.0000,-999.000,-999.000
     316N145_5,  I09S,   136,  1,     17, SIH024,2,19950116,0124,-38.5000, 115.0083, 4685,12222.6,   1223.9,   3.8052,  34.3932,2,  34.3939,2,    186.4,2,  3.7126,    188.0,2,    46.12,2,    32.43,2,     0.00,2,     2.23,2, -999.000,9, -999.000,9, -999.000,5,-999.0000,5,  -999.00,9,   -999.0,9,  -999.00,9,-999.000,9,   2211.5,2,   2316.6,6,  -999.0, -999.00,-999.0000,-999.000,-999.000
     316N145_5,  I09S,   136,  1,     16, SIH022,2,19950116,0124,-38.5000, 115.0083, 4685,14138.8,   1416.6,   3.2715,  34.4806,2,  34.4801,2,    168.3,2,  3.1678,    167.7,2,    63.64,2,    34.24,2,     0.00,2,     2.37,2, -999.000,9, -999.000,9, -999.000,5,-999.0000,5,  -999.00,9,   -999.0,9,  -999.00,9,-999.000,9,   2239.3,2,   -999.0,9,  -999.0, -999.00,-999.0000,-999.000,-999.000
     316N145_5,  I09S,   136,  1,     15, SIH021,2,19950116,0124,-38.5000, 115.0083, 4685,16199.6,   1623.9,   2.9176,  34.5606,2,  34.5606,2,    162.9,2,  2.8004,    161.4,2,    74.30,2,    34.41,2,     0.00,2,     2.39,2, -999.000,9, -999.000,9, -999.000,5,-999.0000,5,  -999.00,9,   -999.0,9,  -999.00,9,-999.000,9,   2252.3,2,   2346.4,2,  -999.0, -999.00,-999.0000,-999.000,-999.000
     316N145_5,  I09S,   136,  1,     14, SIH002,2,19950116,0124,-38.5000, 115.0083, 4685,18183.1,   1823.4,   2.6895,  34.6278,2,  34.6297,2,    163.1,2,  2.5580,    162.1,2,    81.62,2,    33.97,2,     0.00,2,     2.35,2, -999.000,9, -999.000,9, -999.000,5,-999.0000,5,  -999.00,9,   -999.0,9,  -999.00,9,-999.000,9,   2258.8,2,   2340.6,2,  -999.0, -999.00,-999.0000,-999.000,-999.000
     316N145_5,  I09S,   136,  1,     13, SIH018,2,19950116,0124,-38.5000, 115.0083, 4685,20210.7,   2027.4,   2.5161,  34.6793,2,  34.6791,2,    167.0,2,  2.3692,    165.5,2,    87.61,2,    33.16,2,     0.00,2,     2.30,2, -999.000,9, -999.000,9, -999.000,5,-999.0000,5,  -999.00,9,   -999.0,9,  -999.00,9,-999.000,9,   2262.0,2,   2357.6,2,  -999.0, -999.00,-999.0000,-999.000,-999.000
     316N145_5,  I09S,   136,  1,     12, SIH016,2,19950116,0124,-38.5000, 115.0083, 4685,22223.6,   2229.9,   2.3511,  34.7107,2,  34.7099,2,    171.4,2,  2.1888,    171.7,2,    90.92,2,    32.41,2,     0.00,2,     2.24,2, -999.000,9, -999.000,9, -999.000,5,-999.0000,5,  -999.00,9,   -999.0,9,  -999.00,9,-999.000,9,   2260.6,2,   2368.0,2,  -999.0, -999.00,-999.0000,-999.000,-999.000
     316N145_5,  I09S,   136,  1,     11, SIH015,2,19950116,0124,-38.5000, 115.0083, 4685,24233.1,   2432.0,   2.1938,  34.7288,2,  34.7272,2,    178.4,2,  2.0159,    178.8,2,    93.28,2,    31.89,2,     0.00,2,     2.20,2, -999.000,9, -999.000,9, -999.000,5,-999.0000,5,  -999.00,9,   -999.0,9,  -999.00,9,-999.000,9,   2258.3,2,   2373.3,2,  -999.0, -999.00,-999.0000,-999.000,-999.000
     316N145_5,  I09S,   136,  1,     10, SI9426,2,19950116,0124,-38.5000, 115.0083, 4685,27209.2,   2731.3,   1.9445,  34.7361,2,  34.7360,2,    180.3,2,  1.7435,    182.2,2,   101.48,2,    31.87,2,     0.00,2,     2.20,2, -999.000,9, -999.000,9, -999.000,5,-999.0000,5,  -999.00,9,   -999.0,9,  -999.00,9,-999.000,9,   2263.9,2,   2375.1,2,  -999.0, -999.00,-999.0000,-999.000,-999.000
     316N145_5,  I09S,   136,  1,      9, SIH012,2,19950116,0124,-38.5000, 115.0083, 4685,30103.0,   3022.4,   1.7473,  34.7409,2,  34.7382,2,    189.6,2,  1.5226,    191.8,2,   101.32,2,    31.30,2,     0.00,2,     2.14,2, -999.000,9, -999.000,9, -999.000,5,-999.0000,5,  -999.00,9,   -999.0,9,  -999.00,9,-999.000,9,   2257.0,2,   2373.2,2,  -999.0, -999.00,-999.0000,-999.000,-999.000
     316N145_5,  I09S,   136,  1,      8, SIH010,2,19950116,0124,-38.5000, 115.0083, 4685,33319.0,   3345.9,   1.4585,  34.7339,2,  34.7327,2,    195.8,2,  1.2086,    197.9,2,   107.94,2,    31.42,2,     0.00,2,     2.15,2, -999.000,9, -999.000,9, -999.000,5,-999.0000,5,  -999.00,9,   -999.0,9,  -999.00,9,-999.000,9,   2256.5,2,   2373.5,2,  -999.0, -999.00,-999.0000,-999.000,-999.000
     316N145_5,  I09S,   136,  1,      7, SIH009,2,19950116,0124,-38.5000, 115.0083, 4685,36437.4,   3659.6,   1.1991,  34.7240,2,  34.7209,2,    200.6,2,  0.9241,    202.7,2,   114.56,2,    31.68,2,     0.00,2,     2.17,2, -999.000,9, -999.000,9, -999.000,5,-999.0000,5,  -999.00,9,   -999.0,9,  -999.00,9,-999.000,9,   2257.4,2,   2377.5,2,  -999.0, -999.00,-999.0000,-999.000,-999.000
     316N145_5,  I09S,   136,  1,      6, SIH038,2,19950116,0124,-38.5000, 115.0083, 4685,39459.0,   3963.5,   0.9365,  34.7114,2,  34.7127,2,    205.5,2,  0.6372,    208.7,2,   121.02,2,    31.84,2,     0.00,2,     2.18,2, -999.000,9, -999.000,9, -999.000,5,-999.0000,5,  -999.00,9,   -999.0,9,  -999.00,9,-999.000,9,   2256.6,2,   2377.5,2,  -999.0, -999.00,-999.0000,-999.000,-999.000
     316N145_5,  I09S,   136,  1,      5, SIH006,2,19950116,0124,-38.5000, 115.0083, 4685,41530.3,   4171.9,   0.8407,  34.7068,2,  34.7040,2,    209.2,2,  0.5220,    210.5,2,   123.23,2,    32.05,2,     0.00,2,     2.20,2, -999.000,9, -999.000,9, -999.000,5,-999.0000,5,  -999.00,9,   -999.0,9,  -999.00,9,-999.000,9,   2258.0,2,   2365.9,3,  -999.0, -999.00,-999.0000,-999.000,-999.000
     316N145_5,  I09S,   136,  1,      4, SIH004,2,19950116,0124,-38.5000, 115.0083, 4685,43563.9,   4376.4,   0.8103,  34.7043,2,  34.7022,2,    211.1,2,  0.4703,    210.6,2,   124.49,2,    32.17,2,     0.00,2,     2.21,2, -999.000,9, -999.000,9, -999.000,5,-999.0000,5,  -999.00,9,   -999.0,9,  -999.00,9,-999.000,9,   2259.6,2,   2376.7,2,  -999.0, -999.00,-999.0000,-999.000,-999.000
     316N145_5,  I09S,   136,  1,      3, SIH025,2,19950116,0124,-38.5000, 115.0083, 4685,45652.1,   4586.5,   0.8153,  34.7039,2,  34.7017,2,    212.1,2,  0.4518,    210.8,2,   124.96,2,    32.23,2,     0.00,2,     2.22,2, -999.000,9, -999.000,9, -999.000,5,-999.0000,5,  -999.00,9,   -999.0,9,  -999.00,9,-999.000,9,   2260.7,2,   2392.0,2,  -999.0, -999.00,-999.0000,-999.000,-999.000
     316N145_5,  I09S,   136,  1,      2, SIH001,2,19950116,0124,-38.5000, 115.0083, 4685,46914.5,   4713.5,   0.8192,  34.7040,2,  34.7038,2,    212.2,2,  0.4412,    211.1,2,   125.12,2,    32.13,2,     0.00,2,     2.21,2, -999.000,9, -999.000,9, -999.000,5,-999.0000,5,  -999.00,9,   -999.0,9,  -999.00,9,-999.000,9,   2259.8,2,   2370.6,6,  -999.0, -999.00,-999.0000,-999.000,-999.000
     316N145_5,  I09S,   136,  1,      1, SIH036,2,19950116,0124,-38.5000, 115.0083, 4685,47418.8,   4764.2,   0.8230,  34.7035,2,  34.7030,2,    214.1,3,  0.4390,    211.3,2,   125.07,2,    32.17,2,     0.00,2,     2.22,2, -999.000,9, -999.000,9, -999.000,5,-999.0000,5,  -999.00,9,   -999.0,9,  -999.00,9,-999.000,9,   2261.4,6,   2353.9,3,  -999.0, -999.00,-999.0000,-999.000,-999.000