BOTTLE,20090521WHPSIOdm
EXPOCODE,SECT_ID,STNNBR,CASTNO,SAMPNO,BTLNBR,BTLNBR_FLAG_W,DATE,TIME,LATITUDE,LONGITUDE,DEPTH,CTDRAW,CTDPRS,CTDTMP,CTDSAL,CTDSAL_FLAG_W,SALNTY,SALNTY_FLAG_W,CTDOXY,CTDOXY_FLAG_W,THETA,OXYGEN,OXYGEN_FLAG_W,SILCAT,SILCAT_FLAG_W,NITRAT,NITRAT_FLAG_W,NITRIT,NITRIT_FLAG_W,PHSPHT,PHSPHT_FLAG_W,CFC-11,CFC-11_FLAG_W,CFC-12,CFC-12_FLAG_W,TRITUM,TRITUM_FLAG_W,HELIUM,HELIUM_FLAG_W,DELHE3,DELHE3_FLAG_W,DELC14,DELC14_FLAG_W,DELC13,DELC13_FLAG_W,NEON,NEON_FLAG_W,TCARBN,TCARBN_FLAG_W,ALKALI,ALKALI_FLAG_W,C14ERR,DELHER,HELIER,NEONER,TRITER
,,,,,,,,,,,,,DBAR,IPTS-68,PSS-78,,PSS-78,,UMOL/KG,,IPTS-68,UMOL/KG,,UMOL/KG,,UMOL/KG,,UMOL/KG,,UMOL/KG,,PMOL/KG,,PMOL/KG,,TU,,NMOL/KG,,PERCNT,,/MILLE,,/MILLE,,NMOL/KG,,UMOL/KG,,UMOL/KG,,/MILLE,PERCNT,NMOL/KG,NMOL/KG,TU
     316N145_5,  I08S,    33,  1,     24, WHF004,2,19941214,0453,-44.2472,  95.0000, 2950,  462.1,      8.9,   9.0401,  34.3578,2,  34.3623,2,    292.6,2,  9.0391,    290.6,2,     1.10,2,    13.54,2,     0.28,2,     1.04,2, -999.000,9, -999.000,9, -999.000,5,-999.0000,5,  -999.00,9,   -999.0,9,  -999.00,9,-999.000,9,   -999.0,9,   -999.0,9,  -999.0, -999.00,-999.0000,-999.000,-999.000
     316N145_5,  I08S,    33,  1,     23, WHF017,2,19941214,0453,-44.2472,  95.0000, 2950,  652.0,     29.3,   8.8159,  34.3770,2,  34.3760,2,    289.0,2,  8.8128,    292.1,2,     1.13,2,    13.60,2,     0.28,2,     1.05,2, -999.000,9, -999.000,9, -999.000,5,-999.0000,5,  -999.00,9,   -999.0,9,  -999.00,9,-999.000,9,   -999.0,9,   -999.0,9,  -999.0, -999.00,-999.0000,-999.000,-999.000
     316N145_5,  I08S,    33,  1,     22, WHF007,2,19941214,0453,-44.2472,  95.0000, 2950,  879.1,     53.7,   8.8013,  34.3802,2,  34.3847,2,    285.6,2,  8.7957,    288.2,2,     1.32,2,    13.71,2,     0.28,2,     1.06,2, -999.000,9, -999.000,9, -999.000,5,-999.0000,5,  -999.00,9,   -999.0,9,  -999.00,9,-999.000,9,   -999.0,9,   -999.0,9,  -999.0, -999.00,-999.0000,-999.000,-999.000
     316N145_5,  I08S,    33,  1,     21, WHF022,2,19941214,0453,-44.2472,  95.0000, 2950, 1346.9,    103.9,   7.4129,  34.2999,2,  34.2934,2,    291.1,2,  7.4030,    284.2,2,     5.46,2,    17.32,2,     0.48,2,     1.33,2, -999.000,9, -999.000,9, -999.000,5,-999.0000,5,  -999.00,9,   -999.0,9,  -999.00,9,-999.000,9,   -999.0,9,   -999.0,9,  -999.0, -999.00,-999.0000,-999.000,-999.000
     316N145_5,  I08S,    33,  1,     20, WHF016,2,19941214,0453,-44.2472,  95.0000, 2950, 2287.4,    204.9,   7.2929,  34.3521,2,  34.3525,2,    273.1,2,  7.2734,    270.0,2,     6.79,2,    19.27,2,     0.01,2,     1.38,2, -999.000,9, -999.000,9, -999.000,5,-999.0000,5,  -999.00,9,   -999.0,9,  -999.00,9,-999.000,9,   -999.0,9,   -999.0,9,  -999.0, -999.00,-999.0000,-999.000,-999.000
     316N145_5,  I08S,    33,  1,     19, WHF014,2,19941214,0453,-44.2472,  95.0000, 2950, 3218.3,    304.8,   6.7066,  34.3331,2,  34.3321,2,    253.3,2,  6.6788,    262.5,2,     8.79,2,    21.23,2,     0.01,2,     1.50,2, -999.000,9, -999.000,9, -999.000,5,-999.0000,5,  -999.00,9,   -999.0,9,  -999.00,9,-999.000,9,   -999.0,9,   -999.0,9,  -999.0, -999.00,-999.0000,-999.000,-999.000
     316N145_5,  I08S,    33,  1,     18, WHF018,2,19941214,0453,-44.2472,  95.0000, 2950, 4165.3,    406.5,   6.1594,  34.3303,2,  34.3293,2,    246.4,2,  6.1238,    241.6,2,    12.92,2,    24.06,2,     0.01,2,     1.67,2, -999.000,9, -999.000,9, -999.000,5,-999.0000,5,  -999.00,9,   -999.0,9,  -999.00,9,-999.000,9,   -999.0,9,   -999.0,9,  -999.0, -999.00,-999.0000,-999.000,-999.000
     316N145_5,  I08S,    33,  1,     17, WHF019,2,19941214,0453,-44.2472,  95.0000, 2950, 5101.3,    506.9,   5.4304,  34.3107,2,  34.3119,2,    229.1,2,  5.3885,    231.6,2,    17.70,2,    26.57,2,     0.00,2,     1.84,2, -999.000,9, -999.000,9, -999.000,5,-999.0000,5,  -999.00,9,   -999.0,9,  -999.00,9,-999.000,9,   -999.0,9,   -999.0,9,  -999.0, -999.00,-999.0000,-999.000,-999.000
     316N145_5,  I08S,    33,  1,     16, WHF009,2,19941214,0453,-44.2472,  95.0000, 2950, 6032.4,    606.9,   4.7928,  34.3075,2,  34.3076,2,    224.4,2,  4.7452,    226.4,2,    22.80,2,    28.54,2,     0.00,2,     1.96,2, -999.000,9, -999.000,9, -999.000,5,-999.0000,5,  -999.00,9,   -999.0,9,  -999.00,9,-999.000,9,   -999.0,9,   -999.0,9,  -999.0, -999.00,-999.0000,-999.000,-999.000
     316N145_5,  I08S,    33,  1,     15, WHF008,2,19941214,0453,-44.2472,  95.0000, 2950, 6977.6,    708.4,   4.3188,  34.3150,2,  34.3099,2,    219.7,2,  4.2652,    222.0,2,    28.08,2,    29.79,2,     0.00,2,     2.04,2, -999.000,9, -999.000,9, -999.000,5,-999.0000,5,  -999.00,9,   -999.0,9,  -999.00,9,-999.000,9,   -999.0,9,   -999.0,9,  -999.0, -999.00,-999.0000,-999.000,-999.000
     316N145_5,  I08S,    33,  1,     14, WHF027,2,19941214,0453,-44.2472,  95.0000, 2950, 7934.0,    811.1,   3.7227,  34.3155,2,  34.3154,2,    214.2,2,  3.6645,    216.7,2,    34.83,2,    31.15,2,     0.00,2,     2.14,2, -999.000,9, -999.000,9, -999.000,5,-999.0000,5,  -999.00,9,   -999.0,9,  -999.00,9,-999.000,9,   -999.0,9,   -999.0,9,  -999.0, -999.00,-999.0000,-999.000,-999.000
     316N145_5,  I08S,    33,  1,     13, WHF012,2,19941214,0453,-44.2472,  95.0000, 2950, 8867.4,    911.3,   3.4211,  34.3591,2,  34.3592,2,    202.5,2,  3.3571,    203.7,2,    43.05,2,    32.40,2,     0.00,2,     2.23,2, -999.000,9, -999.000,9, -999.000,5,-999.0000,5,  -999.00,9,   -999.0,9,  -999.00,9,-999.000,9,   -999.0,9,   -999.0,9,  -999.0, -999.00,-999.0000,-999.000,-999.000
     316N145_5,  I08S,    33,  1,     12, WHF020,2,19941214,0453,-44.2472,  95.0000, 2950, 9795.2,   1010.9,   3.2318,  34.4019,2,  34.4023,2,    194.0,2,  3.1614,    193.3,2,    49.78,2,    33.15,2,     0.00,2,     2.28,2, -999.000,9, -999.000,9, -999.000,5,-999.0000,5,  -999.00,9,   -999.0,9,  -999.00,9,-999.000,9,   -999.0,9,   -999.0,9,  -999.0, -999.00,-999.0000,-999.000,-999.000
     316N145_5,  I08S,    33,  1,     11, WHF011,2,19941214,0453,-44.2472,  95.0000, 2950,10740.1,   1112.4,   2.9833,  34.4409,2,  34.4398,2,    188.0,2,  2.9071,    187.0,2,    55.71,2,    33.70,2,     0.00,2,     2.31,2, -999.000,9, -999.000,9, -999.000,5,-999.0000,5,  -999.00,9,   -999.0,9,  -999.00,9,-999.000,9,   -999.0,9,   -999.0,9,  -999.0, -999.00,-999.0000,-999.000,-999.000
     316N145_5,  I08S,    33,  1,     10, WHF003,2,19941214,0453,-44.2472,  95.0000, 2950,12618.2,   1314.0,   2.7539,  34.5400,2,  34.5398,2,    176.6,2,  2.6639,    176.6,2,    65.88,2,    33.85,2,     0.00,2,     2.32,2, -999.000,9, -999.000,9, -999.000,5,-999.0000,5,  -999.00,9,   -999.0,9,  -999.00,9,-999.000,9,   -999.0,9,   -999.0,9,  -999.0, -999.00,-999.0000,-999.000,-999.000
     316N145_5,  I08S,    33,  1,      9, WHF015,2,19941214,0453,-44.2472,  95.0000, 2950,14493.0,   1515.3,   2.5841,  34.6233,2,  34.6231,2,    175.3,2,  2.4797,    176.5,2,    71.32,2,    33.09,2,     0.00,2,     2.26,2, -999.000,9, -999.000,9, -999.000,5,-999.0000,5,  -999.00,9,   -999.0,9,  -999.00,9,-999.000,9,   -999.0,9,   -999.0,9,  -999.0, -999.00,-999.0000,-999.000,-999.000
     316N145_5,  I08S,    33,  1,      8, WHF013,2,19941214,0453,-44.2472,  95.0000, 2950,16395.1,   1719.6,   2.4810,  34.6800,2,  34.6814,2,    181.1,2,  2.3610,    182.0,2,    72.97,2,    31.89,2,     0.00,2,     2.18,2, -999.000,9, -999.000,9, -999.000,5,-999.0000,5,  -999.00,9,   -999.0,9,  -999.00,9,-999.000,9,   -999.0,9,   -999.0,9,  -999.0, -999.00,-999.0000,-999.000,-999.000
     316N145_5,  I08S,    33,  1,      7, WHF006,2,19941214,0453,-44.2472,  95.0000, 2950,18284.8,   1922.5,   2.3758,  34.7228,2,  34.7241,2,    187.8,2,  2.2400,    188.5,2,    74.80,2,    30.75,2,     0.00,2,     2.10,2, -999.000,9, -999.000,9, -999.000,5,-999.0000,5,  -999.00,9,   -999.0,9,  -999.00,9,-999.000,9,   -999.0,9,   -999.0,9,  -999.0, -999.00,-999.0000,-999.000,-999.000
     316N145_5,  I08S,    33,  1,      6, WHF001,2,19941214,0453,-44.2472,  95.0000, 2950,20181.3,   2126.1,   2.2369,  34.7469,2,  34.7476,2,    192.1,2,  2.0856,    193.8,2,    77.78,2,    30.20,2,     0.00,2,     2.06,2, -999.000,9, -999.000,9, -999.000,5,-999.0000,5,  -999.00,9,   -999.0,9,  -999.00,9,-999.000,9,   -999.0,9,   -999.0,9,  -999.0, -999.00,-999.0000,-999.000,-999.000
     316N145_5,  I08S,    33,  1,      5, WHF023,2,19941214,0453,-44.2472,  95.0000, 2950,22068.3,   2328.8,   2.0256,  34.7549,2,  34.7555,2,    196.2,2,  1.8599,    197.4,2,    84.35,2,    30.09,2,     0.00,2,     2.06,2, -999.000,9, -999.000,9, -999.000,5,-999.0000,5,  -999.00,9,   -999.0,9,  -999.00,9,-999.000,9,   -999.0,9,   -999.0,9,  -999.0, -999.00,-999.0000,-999.000,-999.000
     316N145_5,  I08S,    33,  1,      4, WHF024,2,19941214,0453,-44.2472,  95.0000, 2950,23932.9,   2529.0,   1.7733,  34.7507,2,  34.7514,2,    198.5,2,  1.5942,    199.3,2,    92.57,2,    30.46,2,     0.00,2,     2.09,2, -999.000,9, -999.000,9, -999.000,5,-999.0000,5,  -999.00,9,   -999.0,9,  -999.00,9,-999.000,9,   -999.0,9,   -999.0,9,  -999.0, -999.00,-999.0000,-999.000,-999.000
     316N145_5,  I08S,    33,  1,      3, WHF002,2,19941214,0453,-44.2472,  95.0000, 2950,26135.4,   2765.6,   1.5331,  34.7403,2,  34.7412,2,    199.0,2,  1.3372,    200.3,2,   101.92,2,    30.95,2,     0.00,2,     2.13,2, -999.000,9, -999.000,9, -999.000,5,-999.0000,5,  -999.00,9,   -999.0,9,  -999.00,9,-999.000,9,   -999.0,9,   -999.0,9,  -999.0, -999.00,-999.0000,-999.000,-999.000
     316N145_5,  I08S,    33,  1,      2, WHF021,2,19941214,0453,-44.2472,  95.0000, 2950,28021.7,   2968.2,   1.5142,  34.7395,2,  34.7390,2,    200.5,2,  1.2998,    201.7,2,   102.77,2,    31.01,2,     0.00,2,     2.13,2, -999.000,9, -999.000,9, -999.000,5,-999.0000,5,  -999.00,9,   -999.0,9,  -999.00,9,-999.000,9,   -999.0,9,   -999.0,9,  -999.0, -999.00,-999.0000,-999.000,-999.000
     316N145_5,  I08S,    33,  1,     25, WHF026,2,19941214,0453,-44.2472,  95.0000, 2950,28609.8,   3031.4,   1.5123,  34.7396,2,  34.7402,2,    198.5,2,  1.2919,    201.3,2,   103.67,2,    31.10,2,    -0.01,2,     2.12,2, -999.000,9, -999.000,9, -999.000,5,-999.0000,5,  -999.00,9,   -999.0,9,  -999.00,9,-999.000,9,   -999.0,9,   -999.0,9,  -999.0, -999.00,-999.0000,-999.000,-999.000
     316N145_5,  I08S,    33,  1,      1, WHF025,2,19941214,0453,-44.2472,  95.0000, 2950,28609.8,   3031.4,   1.5123,  34.8086,2,  34.7392,2,    198.5,2,  1.2919,    201.2,2,   103.42,2,    31.05,2,     0.00,2,     2.13,2, -999.000,9, -999.000,9, -999.000,5,-999.0000,5,  -999.00,9,   -999.0,9,  -999.00,9,-999.000,9,   -999.0,9,   -999.0,9,  -999.0, -999.00,-999.0000,-999.000,-999.000