BOTTLE,20090521WHPSIOdm
EXPOCODE,SECT_ID,STNNBR,CASTNO,SAMPNO,BTLNBR,BTLNBR_FLAG_W,DATE,TIME,LATITUDE,LONGITUDE,DEPTH,CTDRAW,CTDPRS,CTDTMP,CTDSAL,CTDSAL_FLAG_W,SALNTY,SALNTY_FLAG_W,CTDOXY,CTDOXY_FLAG_W,THETA,OXYGEN,OXYGEN_FLAG_W,SILCAT,SILCAT_FLAG_W,NITRAT,NITRAT_FLAG_W,NITRIT,NITRIT_FLAG_W,PHSPHT,PHSPHT_FLAG_W,CFC-11,CFC-11_FLAG_W,CFC-12,CFC-12_FLAG_W,TRITUM,TRITUM_FLAG_W,HELIUM,HELIUM_FLAG_W,DELHE3,DELHE3_FLAG_W,DELC14,DELC14_FLAG_W,DELC13,DELC13_FLAG_W,NEON,NEON_FLAG_W,TCARBN,TCARBN_FLAG_W,ALKALI,ALKALI_FLAG_W,C14ERR,DELHER,HELIER,NEONER,TRITER
,,,,,,,,,,,,,DBAR,IPTS-68,PSS-78,,PSS-78,,UMOL/KG,,IPTS-68,UMOL/KG,,UMOL/KG,,UMOL/KG,,UMOL/KG,,UMOL/KG,,PMOL/KG,,PMOL/KG,,TU,,NMOL/KG,,PERCNT,,/MILLE,,/MILLE,,NMOL/KG,,UMOL/KG,,UMOL/KG,,/MILLE,PERCNT,NMOL/KG,NMOL/KG,TU
     316N145_5,  I08S,    43,  1,     36, SIH035,2,19941217,0148,-48.4222,  92.0000, 3485,  150.8,     10.4,   7.6896,  34.2601,2,  34.2613,2,    292.5,2,  7.6886,    294.8,2,     1.41,2,    15.56,2,     0.28,2,     1.14,2, -999.000,9, -999.000,9, -999.000,5,-999.0000,5,  -999.00,9,   -999.0,9,  -999.00,9,-999.000,9,   2088.7,6,   2289.5,2,  -999.0, -999.00,-999.0000,-999.000,-999.000
     316N145_5,  I08S,    43,  1,     35, SIH032,2,19941217,0148,-48.4222,  92.0000, 3485,  356.3,     31.1,   7.6725,  34.2579,2,  34.2595,2,    292.0,2,  7.6695,    294.6,2,     1.42,2,    15.56,2,     0.28,2,     1.15,2, -999.000,9, -999.000,9, -999.000,5,-999.0000,5,  -999.00,9,   -999.0,9,  -999.00,9,-999.000,9,   2088.6,2,   2277.2,2,  -999.0, -999.00,-999.0000,-999.000,-999.000
     316N145_5,  I08S,    43,  1,     34, SIH029,2,19941217,0148,-48.4222,  92.0000, 3485,  611.2,     56.7,   7.6725,  34.2578,2,  34.2593,2,    294.1,2,  7.6670,    293.9,2,     1.43,2,    15.61,2,     0.28,2,     1.16,2, -999.000,9, -999.000,9, -999.000,5,-999.0000,5,  -999.00,9,   -999.0,9,  -999.00,9,-999.000,9,   2090.0,2,   2283.6,2,  -999.0, -999.00,-999.0000,-999.000,-999.000
     316N145_5,  I08S,    43,  1,     33, SIH026,2,19941217,0148,-48.4222,  92.0000, 3485,  855.7,     81.3,   7.8935,  34.3412,2,  34.3217,2,    291.9,2,  7.8855,    289.2,2,     2.73,2,    15.55,2,     0.29,2,     1.17,2, -999.000,9, -999.000,9, -999.000,5,-999.0000,5,  -999.00,9,   -999.0,9,  -999.00,9,-999.000,9,   2095.9,2,   2277.9,2,  -999.0, -999.00,-999.0000,-999.000,-999.000
     316N145_5,  I08S,    43,  1,     32, SIH023,2,19941217,0148,-48.4222,  92.0000, 3485, 1112.1,    107.1,   7.9830,  34.3748,2,  34.3745,2,    285.9,2,  7.9723,    286.9,2,     3.22,2,    15.28,2,     0.30,2,     1.16,2, -999.000,9, -999.000,9, -999.000,5,-999.0000,5,  -999.00,9,   -999.0,9,  -999.00,9,-999.000,9,   2096.2,2,   2291.9,2,  -999.0, -999.00,-999.0000,-999.000,-999.000
     316N145_5,  I08S,    43,  1,     31, SIH020,2,19941217,0148,-48.4222,  92.0000, 3485, 1601.8,    156.3,   8.2598,  34.4747,2,  34.4728,2,    280.2,2,  8.2438,    280.5,2,     5.00,2,    15.14,2,     0.33,2,     1.16,2, -999.000,9, -999.000,9, -999.000,5,-999.0000,5,  -999.00,9,   -999.0,9,  -999.00,9,-999.000,9,   2100.8,2,   2284.4,2,  -999.0, -999.00,-999.0000,-999.000,-999.000
     316N145_5,  I08S,    43,  1,     30, SIH017,2,19941217,0148,-48.4222,  92.0000, 3485, 2090.7,    205.5,   8.4177,  34.5276,2,  34.5274,2,    278.2,2,  8.3964,    276.5,2,     5.17,2,    15.37,2,     0.20,2,     1.14,2, -999.000,9, -999.000,9, -999.000,5,-999.0000,5,  -999.00,9,   -999.0,9,  -999.00,9,-999.000,9,   2101.3,2,   2305.4,2,  -999.0, -999.00,-999.0000,-999.000,-999.000
     316N145_5,  I08S,    43,  1,     29, SIH014,2,19941217,0148,-48.4222,  92.0000, 3485, 2604.3,    257.1,   8.4914,  34.5550,2,  34.5551,2,    275.3,2,  8.4645,    275.8,2,     5.34,2,    15.43,2,     0.03,2,     1.13,2, -999.000,9, -999.000,9, -999.000,5,-999.0000,5,  -999.00,9,   -999.0,9,  -999.00,9,-999.000,9,   2102.9,2,   2282.6,2,  -999.0, -999.00,-999.0000,-999.000,-999.000
     316N145_5,  I08S,    43,  1,     28, SIH011,2,19941217,0148,-48.4222,  92.0000, 3485, 3110.2,    308.0,   8.5091,  34.5605,2,  34.5594,2,    275.7,2,  8.4767,    275.5,2,     5.51,2,    15.44,2,     0.02,2,     1.13,2, -999.000,9, -999.000,9, -999.000,5,-999.0000,5,  -999.00,9,   -999.0,9,  -999.00,9,-999.000,9,   2102.7,2,   2295.3,2,  -999.0, -999.00,-999.0000,-999.000,-999.000
     316N145_5,  I08S,    43,  1,     27, SIH008,2,19941217,0148,-48.4222,  92.0000, 3485, 3618.8,    359.1,   8.5306,  34.5670,2,  34.5683,2,    273.0,2,  8.4926,    273.3,2,     5.68,2,    15.50,2,     0.01,2,     1.14,2, -999.000,9, -999.000,9, -999.000,5,-999.0000,5,  -999.00,9,   -999.0,9,  -999.00,9,-999.000,9,   2103.2,2,   2285.5,2,  -999.0, -999.00,-999.0000,-999.000,-999.000
     316N145_5,  I08S,    43,  1,     26, SIH005,2,19941217,0148,-48.4222,  92.0000, 3485, 4105.9,    408.1,   7.5892,  34.4269,2,  34.4259,2,    262.2,2,  7.5489,    255.5,2,     8.44,2,    19.60,2,     0.01,2,     1.39,2, -999.000,9, -999.000,9, -999.000,5,-999.0000,5,  -999.00,9,   -999.0,9,  -999.00,9,-999.000,9,   2120.1,2,   -999.0,9,  -999.0, -999.00,-999.0000,-999.000,-999.000
     316N145_5,  I08S,    43,  1,     25, SIH019,2,19941217,0148,-48.4222,  92.0000, 3485, 4600.6,    457.9,   7.1030,  34.4119,2,  34.4118,2,    242.6,2,  7.0593,    239.1,2,    11.66,2,    22.04,2,     0.01,2,     1.53,2, -999.000,9, -999.000,9, -999.000,5,-999.0000,5,  -999.00,9,   -999.0,9,  -999.00,9,-999.000,9,   2134.4,2,   2291.1,2,  -999.0, -999.00,-999.0000,-999.000,-999.000
     316N145_5,  I08S,    43,  1,     24, SIH037,2,19941217,0148,-48.4222,  92.0000, 3485, 5090.9,    507.2,   6.8406,  34.4346,2,  34.4314,2,    228.0,2,  6.7931,    221.3,2,    15.06,2,    24.05,2,     0.01,2,     1.66,2, -999.000,9, -999.000,9, -999.000,5,-999.0000,5,  -999.00,9,   -999.0,9,  -999.00,9,-999.000,9,   2148.8,2,   2281.9,2,  -999.0, -999.00,-999.0000,-999.000,-999.000
     316N145_5,  I08S,    43,  1,     23, SIH033,2,19941217,0148,-48.4222,  92.0000, 3485, 6108.0,    609.5,   5.7770,  34.3667,2,  34.3674,2,    225.2,2,  5.7244,    221.2,2,    19.58,2,    26.64,2,     0.01,2,     1.83,2, -999.000,9, -999.000,9, -999.000,5,-999.0000,5,  -999.00,9,   -999.0,9,  -999.00,9,-999.000,9,   2160.8,2,   2281.4,2,  -999.0, -999.00,-999.0000,-999.000,-999.000
     316N145_5,  I08S,    43,  1,     22, SIH031,2,19941217,0148,-48.4222,  92.0000, 3485, 7097.1,    709.0,   4.8636,  34.3284,2,  34.3278,2,    221.0,2,  4.8069,    221.1,2,    24.91,2,    28.69,2,     0.00,2,     1.96,2, -999.000,9, -999.000,9, -999.000,5,-999.0000,5,  -999.00,9,   -999.0,9,  -999.00,9,-999.000,9,   2172.1,2,   2291.7,2,  -999.0, -999.00,-999.0000,-999.000,-999.000
     316N145_5,  I08S,    43,  1,     21, SIH030,2,19941217,0148,-48.4222,  92.0000, 3485, 8107.3,    810.6,   4.1543,  34.3270,2,  34.3274,2,    214.6,2,  4.0934,    215.9,2,    32.33,2,    30.49,2,     0.00,2,     2.07,2, -999.000,9, -999.000,9, -999.000,5,-999.0000,5,  -999.00,9,   -999.0,9,  -999.00,9,-999.000,9,   2185.9,2,   2288.9,2,  -999.0, -999.00,-999.0000,-999.000,-999.000
     316N145_5,  I08S,    43,  1,     20, SIH028,2,19941217,0148,-48.4222,  92.0000, 3485, 9094.9,    909.9,   3.6702,  34.3426,2,  34.3435,2,    208.7,2,  3.6046,    209.1,2,    39.11,2,    31.73,2,     0.00,2,     2.17,2, -999.000,9, -999.000,9, -999.000,5,-999.0000,5,  -999.00,9,   -999.0,9,  -999.00,9,-999.000,9,   2197.6,2,   2282.5,2,  -999.0, -999.00,-999.0000,-999.000,-999.000
     316N145_5,  I08S,    43,  1,     19, SIH027,2,19941217,0148,-48.4222,  92.0000, 3485,10125.5,   1013.6,   3.3243,  34.3838,2,  34.3825,2,    200.0,2,  3.2530,    198.4,2,    46.86,2,    32.83,2,     0.00,2,     2.24,2, -999.000,9, -999.000,9, -999.000,5,-999.0000,5,  -999.00,9,   -999.0,9,  -999.00,9,-999.000,9,   2211.3,2,   2319.3,2,  -999.0, -999.00,-999.0000,-999.000,-999.000
     316N145_5,  I08S,    43,  1,     18, SIH003,2,19941217,0148,-48.4222,  92.0000, 3485,11105.4,   1112.1,   3.0196,  34.4097,2,  34.4102,2,    192.8,2,  2.9431,    193.0,2,    52.99,2,    33.53,2,     0.00,2,     2.29,2, -999.000,9, -999.000,9, -999.000,5,-999.0000,5,  -999.00,9,   -999.0,9,  -999.00,9,-999.000,9,   2221.3,6,   2308.1,2,  -999.0, -999.00,-999.0000,-999.000,-999.000
     316N145_5,  I08S,    43,  1,     17, SIH024,2,19941217,0148,-48.4222,  92.0000, 3485,12112.6,   1213.4,   2.8426,  34.4551,2,  34.4557,2,    187.5,2,  2.7598,    185.6,2,    59.12,2,    33.97,2,     0.00,2,     2.31,2, -999.000,9, -999.000,9, -999.000,5,-999.0000,5,  -999.00,9,   -999.0,9,  -999.00,9,-999.000,9,   2230.0,2,   2317.8,2,  -999.0, -999.00,-999.0000,-999.000,-999.000
     316N145_5,  I08S,    43,  1,     16, SIH022,2,19941217,0148,-48.4222,  92.0000, 3485,13102.5,   1313.0,   2.8264,  34.5214,2,  34.5221,2,    179.6,2,  2.7358,    178.9,2,    63.80,2,    33.76,2,     0.00,2,     2.30,2, -999.000,9, -999.000,9, -999.000,5,-999.0000,5,  -999.00,9,   -999.0,9,  -999.00,9,-999.000,9,   2236.5,2,   2331.7,2,  -999.0, -999.00,-999.0000,-999.000,-999.000
     316N145_5,  I08S,    43,  1,     15, SIH021,2,19941217,0148,-48.4222,  92.0000, 3485,14127.1,   1416.1,   2.6554,  34.5487,2,  34.5496,2,    178.7,2,  2.5583,    177.3,2,    67.04,2,    33.76,2,     0.00,2,     2.30,2, -999.000,9, -999.000,9, -999.000,5,-999.0000,5,  -999.00,9,   -999.0,9,  -999.00,9,-999.000,9,   2239.6,2,   2324.6,2,  -999.0, -999.00,-999.0000,-999.000,-999.000
     316N145_5,  I08S,    43,  1,     14, SIH002,2,19941217,0148,-48.4222,  92.0000, 3485,15122.2,   1516.2,   2.5608,  34.5970,2,  34.5977,2,    178.1,2,  2.4567,    177.4,2,    70.75,2,    33.36,2,     0.00,2,     2.27,2, -999.000,9, -999.000,9, -999.000,5,-999.0000,5,  -999.00,9,   -999.0,9,  -999.00,9,-999.000,9,   2242.2,2,   2331.7,2,  -999.0, -999.00,-999.0000,-999.000,-999.000
     316N145_5,  I08S,    43,  1,     13, SIH018,2,19941217,0148,-48.4222,  92.0000, 3485,16140.5,   1618.6,   2.5191,  34.6366,2,  34.6376,2,    179.6,2,  2.4071,    178.8,2,    72.21,2,    32.75,2,     0.00,2,     2.22,2, -999.000,9, -999.000,9, -999.000,5,-999.0000,5,  -999.00,9,   -999.0,9,  -999.00,9,-999.000,9,   2242.3,2,   2338.8,2,  -999.0, -999.00,-999.0000,-999.000,-999.000
     316N145_5,  I08S,    43,  1,     12, SIH016,2,19941217,0148,-48.4222,  92.0000, 3485,17148.4,   1720.0,   2.4487,  34.6629,2,  34.6639,2,    181.7,2,  2.3291,    181.0,2,    74.00,2,    32.29,2,     0.00,2,     2.19,2, -999.000,9, -999.000,9, -999.000,5,-999.0000,5,  -999.00,9,   -999.0,9,  -999.00,9,-999.000,9,   2242.1,2,   2333.1,2,  -999.0, -999.00,-999.0000,-999.000,-999.000
     316N145_5,  I08S,    43,  1,     11, SIH015,2,19941217,0148,-48.4222,  92.0000, 3485,18168.9,   1822.6,   2.4021,  34.6932,2,  34.6936,2,    184.7,2,  2.2745,    183.9,2,    74.98,2,    31.65,2,     0.00,2,     2.15,2, -999.000,9, -999.000,9, -999.000,5,-999.0000,5,  -999.00,9,   -999.0,9,  -999.00,9,-999.000,9,   2240.8,2,   2339.6,2,  -999.0, -999.00,-999.0000,-999.000,-999.000
     316N145_5,  I08S,    43,  1,     10, SIH013,2,19941217,0148,-48.4222,  92.0000, 3485,19151.6,   1921.5,   2.3607,  34.7148,2,  34.7148,2,    185.8,2,  2.2253,    187.1,2,    75.79,2,    31.09,2,     0.00,2,     2.11,2, -999.000,9, -999.000,9, -999.000,5,-999.0000,5,  -999.00,9,   -999.0,9,  -999.00,9,-999.000,9,   2239.4,2,   -999.0,9,  -999.0, -999.00,-999.0000,-999.000,-999.000
     316N145_5,  I08S,    43,  1,      9, SIH012,2,19941217,0148,-48.4222,  92.0000, 3485,21159.9,   2123.5,   2.2406,  34.7455,2,  34.7461,2,    192.9,2,  2.0894,    194.0,2,    77.90,2,    30.19,2,     0.00,2,     2.05,2, -999.000,9, -999.000,9, -999.000,5,-999.0000,5,  -999.00,9,   -999.0,9,  -999.00,9,-999.000,9,   2237.6,2,   2339.3,2,  -999.0, -999.00,-999.0000,-999.000,-999.000
     316N145_5,  I08S,    43,  1,      8, SIH010,2,19941217,0148,-48.4222,  92.0000, 3485,23194.4,   2328.1,   2.1014,  34.7566,2,  34.7565,2,    196.7,2,  1.9343,    197.5,2,    81.78,2,    29.94,2,     0.00,2,     2.04,2, -999.000,9, -999.000,9, -999.000,5,-999.0000,5,  -999.00,9,   -999.0,9,  -999.00,9,-999.000,9,   2237.3,2,   -999.0,9,  -999.0, -999.00,-999.0000,-999.000,-999.000
     316N145_5,  I08S,    43,  1,      7, SIH009,2,19941217,0148,-48.4222,  92.0000, 3485,25209.1,   2530.8,   1.9158,  34.7568,2,  34.7547,2,    198.0,2,  1.7339,    199.5,2,    88.07,2,    30.13,2,     0.00,2,     2.05,2, -999.000,9, -999.000,9, -999.000,5,-999.0000,5,  -999.00,9,   -999.0,9,  -999.00,9,-999.000,9,   2242.4,2,   2357.8,2,  -999.0, -999.00,-999.0000,-999.000,-999.000
     316N145_5,  I08S,    43,  1,      6, SIH038,2,19941217,0148,-48.4222,  92.0000, 3485,27234.2,   2734.5,   1.6744,  34.7494,2,  34.7490,2,    200.5,2,  1.4784,    200.8,2,    96.30,2,    30.57,2,     0.00,2,     2.09,2, -999.000,9, -999.000,9, -999.000,5,-999.0000,5,  -999.00,9,   -999.0,9,  -999.00,9,-999.000,9,   2246.1,2,   2347.3,2,  -999.0, -999.00,-999.0000,-999.000,-999.000
     316N145_5,  I08S,    43,  1,      5, SIH006,2,19941217,0148,-48.4222,  92.0000, 3485,29257.8,   2938.0,   1.4425,  34.7384,2,  34.7384,2,    201.9,2,  1.2325,    202.5,2,   104.22,2,    31.07,2,     0.00,2,     2.12,2, -999.000,9, -999.000,9, -999.000,5,-999.0000,5,  -999.00,9,   -999.0,9,  -999.00,9,-999.000,9,   2250.3,2,   2346.1,2,  -999.0, -999.00,-999.0000,-999.000,-999.000
     316N145_5,  I08S,    43,  1,      4, SIH004,2,19941217,0148,-48.4222,  92.0000, 3485,31289.5,   3142.4,   1.2533,  34.7283,2,  34.7288,2,    204.2,2,  1.0282,    204.7,2,   109.87,2,    31.41,2,     0.00,2,     2.15,2, -999.000,9, -999.000,9, -999.000,5,-999.0000,5,  -999.00,9,   -999.0,9,  -999.00,9,-999.000,9,   2252.1,2,   2368.2,2,  -999.0, -999.00,-999.0000,-999.000,-999.000
     316N145_5,  I08S,    43,  1,      3, SIH025,2,19941217,0148,-48.4222,  92.0000, 3485,33298.9,   3344.5,   1.0845,  34.7205,2,  34.7199,2,    206.7,2,  0.8439,    207.2,2,   114.39,2,    31.66,2,     0.00,2,     2.16,2, -999.000,9, -999.000,9, -999.000,5,-999.0000,5,  -999.00,9,   -999.0,9,  -999.00,9,-999.000,9,   2253.4,2,   2355.0,2,  -999.0, -999.00,-999.0000,-999.000,-999.000
     316N145_5,  I08S,    43,  1,      2, SIH001,2,19941217,0148,-48.4222,  92.0000, 3485,34413.4,   3456.6,   0.8778,  34.7113,2,  34.7113,2,    210.3,2,  0.6314,    210.6,2,   118.76,2,    31.90,2,     0.00,2,     2.18,2, -999.000,9, -999.000,9, -999.000,5,-999.0000,5,  -999.00,9,   -999.0,9,  -999.00,9,-999.000,9,   2253.7,2,   2369.0,2,  -999.0, -999.00,-999.0000,-999.000,-999.000
     316N145_5,  I08S,    43,  1,      1, SIH036,2,19941217,0148,-48.4222,  92.0000, 3485,34927.8,   3508.4,   0.8424,  34.7100,2,  34.7087,2,    210.0,3,  0.5919,    210.9,2,   119.62,2,    31.95,2,     0.00,2,     2.18,2, -999.000,9, -999.000,9, -999.000,5,-999.0000,5,  -999.00,9,   -999.0,9,  -999.00,9,-999.000,9,   2254.5,6,   2356.2,2,  -999.0, -999.00,-999.0000,-999.000,-999.000