BOTTLE,20090521WHPSIOdm
EXPOCODE,SECT_ID,STNNBR,CASTNO,SAMPNO,BTLNBR,BTLNBR_FLAG_W,DATE,TIME,LATITUDE,LONGITUDE,DEPTH,CTDRAW,CTDPRS,CTDTMP,CTDSAL,CTDSAL_FLAG_W,SALNTY,SALNTY_FLAG_W,CTDOXY,CTDOXY_FLAG_W,THETA,OXYGEN,OXYGEN_FLAG_W,SILCAT,SILCAT_FLAG_W,NITRAT,NITRAT_FLAG_W,NITRIT,NITRIT_FLAG_W,PHSPHT,PHSPHT_FLAG_W,CFC-11,CFC-11_FLAG_W,CFC-12,CFC-12_FLAG_W,TRITUM,TRITUM_FLAG_W,HELIUM,HELIUM_FLAG_W,DELHE3,DELHE3_FLAG_W,DELC14,DELC14_FLAG_W,DELC13,DELC13_FLAG_W,NEON,NEON_FLAG_W,TCARBN,TCARBN_FLAG_W,ALKALI,ALKALI_FLAG_W,C14ERR,DELHER,HELIER,NEONER,TRITER
,,,,,,,,,,,,,DBAR,IPTS-68,PSS-78,,PSS-78,,UMOL/KG,,IPTS-68,UMOL/KG,,UMOL/KG,,UMOL/KG,,UMOL/KG,,UMOL/KG,,PMOL/KG,,PMOL/KG,,TU,,NMOL/KG,,PERCNT,,/MILLE,,/MILLE,,NMOL/KG,,UMOL/KG,,UMOL/KG,,/MILLE,PERCNT,NMOL/KG,NMOL/KG,TU
     316N145_5,  I08S,    68,  1,     36, SIH035,2,19941224,0050,-57.9167,  82.2278, 2000,  173.0,     11.8,   0.7202,  34.0462,2,  34.0517,2,    333.0,2,  0.7197,    332.4,2,    49.93,2,    28.81,2,     0.22,2,     1.94,2,    6.049,2,    2.837,2,    0.000,5,   1.7380,4,    -1.31,2,   -999.0,9,  -999.00,9,   7.694,4,   -999.0,9,   -999.0,9,  -999.0,    0.10,  0.0020,   0.070,   0.000
     316N145_5,  I08S,    68,  1,     35, SIH032,2,19941224,0050,-57.9167,  82.2278, 2000,  363.3,     31.0,   0.7241,  34.0483,2,  34.0525,2,    334.0,2,  0.7229,    332.2,2,    49.93,2,    28.81,2,     0.22,2,     1.94,2, -999.000,9, -999.000,9, -999.000,5,-999.0000,5,  -999.00,9,   -999.0,9,  -999.00,9,-999.000,9,   -999.0,9,   -999.0,9,  -999.0, -999.00,-999.0000,-999.000,-999.000
     316N145_5,  I08S,    68,  1,     34, SIH029,2,19941224,0050,-57.9167,  82.2278, 2000,  626.9,     57.5,   0.4966,  34.2838,2,  34.2666,2,    263.7,2,  0.4944,    257.9,2,    62.30,2,    31.76,2,     0.13,2,     2.19,2,    3.467,2,    1.632,2,    0.000,5,   1.8190,2,     3.27,2,   -999.0,9,  -999.00,9,   8.091,2,   -999.0,9,   -999.0,9,  -999.0,    0.12,  0.0040,   0.077,   0.000
     316N145_5,  I08S,    68,  1,     33, SIH026,2,19941224,0050,-57.9167,  82.2278, 2000,  868.1,     81.7,   1.4409,  34.4905,2,  34.4777,2,    193.0,2,  1.4370,    193.0,2,    75.16,2,    34.35,2,     0.11,2,     2.38,2, -999.000,9, -999.000,9, -999.000,5,-999.0000,5,  -999.00,9,   -999.0,9,  -999.00,9,-999.000,9,   -999.0,9,   -999.0,9,  -999.0, -999.00,-999.0000,-999.000,-999.000
     316N145_5,  I08S,    68,  1,     32, SIH023,2,19941224,0050,-57.9167,  82.2278, 2000, 1087.5,    103.8,   1.7445,  34.5452,2,  34.5474,2,    177.5,2,  1.7392,    177.2,2,    79.29,2,    34.86,2,     0.05,2,     2.40,2,    0.928,2,    0.445,2,    0.067,4,   1.8440,2,     7.75,2,   -999.0,9,  -999.00,9,   8.085,2,   -999.0,9,   -999.0,9,  -999.0,    0.10,  0.0020,   0.057,   0.008
     316N145_5,  I08S,    68,  1,     31, SIH020,2,19941224,0050,-57.9167,  82.2278, 2000, 1586.0,    154.0,   1.9116,  34.6020,2,  34.6064,2,    174.7,2,  1.9035,    172.3,2,    82.25,2,    34.44,2,     0.02,2,     2.38,2, -999.000,9, -999.000,9, -999.000,5,-999.0000,5,  -999.00,9,   -999.0,9,  -999.00,9,-999.000,9,   -999.0,9,   -999.0,9,  -999.0, -999.00,-999.0000,-999.000,-999.000
     316N145_5,  I08S,    68,  1,     30, SIH017,2,19941224,0050,-57.9167,  82.2278, 2000, 2099.2,    205.6,   1.9891,  34.6366,2,  34.6386,2,    172.3,2,  1.9781,    171.5,2,    83.07,2,    33.94,2,     0.01,2,     2.34,2,    0.318,2,    0.154,2,    0.000,5,   1.8360,2,     8.94,2,   -999.0,9,  -999.00,9,   8.048,2,   -999.0,9,   -999.0,9,  -999.0,    0.10,  0.0020,   0.062,   0.000
     316N145_5,  I08S,    68,  1,     29, SIH014,2,19941224,0050,-57.9167,  82.2278, 2000, 2595.8,    255.5,   2.0001,  34.6625,2,  34.6645,2,    175.3,2,  1.9862,    173.8,2,    83.40,2,    33.34,2,     0.01,2,     2.30,2, -999.000,9, -999.000,9, -999.000,5,-999.0000,5,  -999.00,9,   -999.0,9,  -999.00,9,-999.000,9,   -999.0,9,   -999.0,9,  -999.0, -999.00,-999.0000,-999.000,-999.000
     316N145_5,  I08S,    68,  1,     28, SIH011,2,19941224,0050,-57.9167,  82.2278, 2000, 3109.1,    307.2,   1.9802,  34.6774,2,  34.6794,2,    176.9,2,  1.9635,    176.2,2,    84.39,2,    32.94,2,     0.00,2,     2.28,2,    0.293,2,    0.142,2,    0.161,4,   1.8460,2,     9.29,2,   -999.0,9,  -999.00,9,   8.033,2,   -999.0,9,   -999.0,9,  -999.0,    0.10,  0.0020,   0.067,   0.005
     316N145_5,  I08S,    68,  1,     27, SIH008,2,19941224,0050,-57.9167,  82.2278, 2000, 3605.4,    357.1,   1.9591,  34.6949,2,  34.6963,2,    176.6,2,  1.9395,    178.2,2,    85.21,2,    32.49,2,     0.00,2,     2.25,2, -999.000,9, -999.000,9, -999.000,5,-999.0000,5,  -999.00,9,   -999.0,9,  -999.00,9,-999.000,9,   -999.0,9,   -999.0,9,  -999.0, -999.00,-999.0000,-999.000,-999.000
     316N145_5,  I08S,    68,  1,     26, SIH005,2,19941224,0050,-57.9167,  82.2278, 2000, 4113.9,    408.2,   1.9529,  34.7056,2,  34.7072,2,    180.8,2,  1.9304,    181.2,2,    85.37,2,    32.09,2,     0.00,2,     2.22,2,    0.221,2,    0.103,2,    0.077,4,   1.8130,3,     9.42,2,   -999.0,9,  -999.00,9,   7.923,3,   -999.0,9,   -999.0,9,  -999.0,    0.12,  0.0030,   0.074,   0.004
     316N145_5,  I08S,    68,  1,     25, SIH019,2,19941224,0050,-57.9167,  82.2278, 2000, 4608.2,    457.9,   1.9285,  34.7172,2,  34.7229,2,    182.0,2,  1.9032,    183.5,2,    85.53,2,    31.68,2,     0.00,2,     2.19,2, -999.000,9, -999.000,9, -999.000,5,-999.0000,5,  -999.00,9,   -999.0,9,  -999.00,9,-999.000,9,   -999.0,9,   -999.0,9,  -999.0, -999.00,-999.0000,-999.000,-999.000
     316N145_5,  I08S,    68,  1,     24, SIH037,2,19941224,0050,-57.9167,  82.2278, 2000, 5108.0,    508.2,   1.9027,  34.7252,2,  34.7266,2,    184.8,2,  1.8744,    186.2,2,    86.02,2,    31.43,2,     0.00,2,     2.17,2,    0.166,2,    0.085,2,    0.038,4,   1.8500,2,     9.33,2,   -999.0,9,  -999.00,9,   7.994,2,   -999.0,9,   -999.0,9,  -999.0,    0.10,  0.0020,   0.071,   0.004
     316N145_5,  I08S,    68,  1,     23, SIH033,2,19941224,0050,-57.9167,  82.2278, 2000, 6104.6,    608.5,   1.8282,  34.7373,2,  34.7386,2,    189.5,2,  1.7943,    190.6,2,    87.17,2,    30.92,2,     0.00,2,     2.14,2, -999.000,9, -999.000,9, -999.000,5,-999.0000,5,  -999.00,9,   -999.0,9,  -999.00,9,-999.000,9,   -999.0,9,   -999.0,9,  -999.0, -999.00,-999.0000,-999.000,-999.000
     316N145_5,  I08S,    68,  1,     22, SIH031,2,19941224,0050,-57.9167,  82.2278, 2000, 7110.5,    709.6,   1.7624,  34.7430,2,  34.7457,2,    193.1,2,  1.7226,    194.0,2,    88.16,2,    30.72,2,     0.00,2,     2.12,2,    0.129,2,    0.057,2,    0.211,4,   1.8610,2,     9.18,2,   -999.0,9,  -999.00,9,   8.086,2,   -999.0,9,   -999.0,9,  -999.0,    0.12,  0.0030,   0.086,   0.006
     316N145_5,  I08S,    68,  1,     21, SIH030,2,19941224,0050,-57.9167,  82.2278, 2000, 8127.5,    811.9,   1.6446,  34.7430,2,  34.7453,2,    194.6,2,  1.5991,    196.2,2,    90.80,2,    30.77,2,     0.00,2,     2.12,2, -999.000,9, -999.000,9, -999.000,5,-999.0000,5,  -999.00,9,   -999.0,9,  -999.00,9,-999.000,9,   -999.0,9,   -999.0,9,  -999.0, -999.00,-999.0000,-999.000,-999.000
     316N145_5,  I08S,    68,  1,     20, SIH028,2,19941224,0050,-57.9167,  82.2278, 2000, 9107.1,    910.5,   1.5522,  34.7435,2,  34.7451,2,    194.1,2,  1.5011,    198.4,2,    93.27,2,    30.72,2,     0.00,2,     2.11,2,    0.121,2,    0.076,2,    0.218,4,-999.0000,5,  -999.00,9,   -999.0,9,  -999.00,9,-999.000,9,   -999.0,9,   -999.0,9,  -999.0, -999.00,-999.0000,-999.000,   0.006
     316N145_5,  I08S,    68,  1,     19, SIH027,2,19941224,0050,-57.9167,  82.2278, 2000,10122.5,   1012.6,   1.4554,  34.7438,2,  34.7465,2,    198.8,2,  1.3985,    200.8,2,    95.41,2,    30.62,2,     0.00,2,     2.11,2, -999.000,9, -999.000,9, -999.000,5,-999.0000,5,  -999.00,9,   -999.0,9,  -999.00,9,-999.000,9,   -999.0,9,   -999.0,9,  -999.0, -999.00,-999.0000,-999.000,-999.000
     316N145_5,  I08S,    68,  1,     18, SIH003,2,19941224,0050,-57.9167,  82.2278, 2000,11107.8,   1111.7,   1.3085,  34.7310,3,  34.7376,2,    199.1,2,  1.2465,    202.1,2,    99.04,2,    30.88,2,     0.00,2,     2.13,2,    0.135,2,    0.064,2,    0.313,4,   1.8640,2,     8.83,2,   -999.0,9,  -999.00,9,   8.193,2,   -999.0,9,   -999.0,9,  -999.0,    0.10,  0.0020,   0.065,   0.007
     316N145_5,  I08S,    68,  1,     17, SIH024,2,19941224,0050,-57.9167,  82.2278, 2000,12067.6,   1208.2,   1.1898,  34.7315,2,  34.7335,2,    203.8,2,  1.1225,    203.8,2,   102.51,2,    31.12,2,     0.00,2,     2.14,2, -999.000,9, -999.000,9, -999.000,5,-999.0000,5,  -999.00,9,   -999.0,9,  -999.00,9,-999.000,9,   -999.0,9,   -999.0,9,  -999.0, -999.00,-999.0000,-999.000,-999.000
     316N145_5,  I08S,    68,  1,     16, SIH022,2,19941224,0050,-57.9167,  82.2278, 2000,12979.3,   1300.0,   1.0741,  34.7244,2,  34.7256,2,    202.6,2,  1.0019,    204.6,2,   105.64,2,    31.37,2,     0.00,2,     2.16,2,    0.129,2,    0.066,2,    0.024,4,   1.8820,2,     8.71,2,   -999.0,9,  -999.00,9,   8.171,2,   -999.0,9,   -999.0,9,  -999.0,    0.14,  0.0030,   0.047,   0.005
     316N145_5,  I08S,    68,  1,     15, SIH021,2,19941224,0050,-57.9167,  82.2278, 2000,12984.2,   1300.4,   1.0765,  34.7250,2,  34.7327,2,    203.0,2,  1.0043,    204.7,2,   105.30,2,    31.37,2,     0.00,2,     2.16,2, -999.000,9, -999.000,9, -999.000,5,-999.0000,5,  -999.00,9,   -999.0,9,  -999.00,9,-999.000,9,   -999.0,9,   -999.0,9,  -999.0, -999.00,-999.0000,-999.000,-999.000
     316N145_5,  I08S,    68,  1,     13, SIH018,2,19941224,0050,-57.9167,  82.2278, 2000,13975.8,   1400.2,   0.9629,  34.7185,2,  34.7197,2,    204.2,2,  0.8852,    205.7,2,   108.60,2,    31.68,2,     0.00,2,     2.18,2, -999.000,9, -999.000,9, -999.000,5,-999.0000,5,  -999.00,9,   -999.0,9,  -999.00,9,-999.000,9,   -999.0,9,   -999.0,9,  -999.0, -999.00,-999.0000,-999.000,-999.000
     316N145_5,  I08S,    68,  1,     14, SIH002,2,19941224,0050,-57.9167,  82.2278, 2000,14008.0,   1403.4,   0.9644,  34.7179,2,  34.7211,2,    205.0,2,  0.8865,    204.8,2,   108.44,2,    31.63,2,     0.00,2,     2.18,2, -999.000,9, -999.000,9, -999.000,5,-999.0000,5,  -999.00,9,   -999.0,9,  -999.00,9,-999.000,9,   -999.0,9,   -999.0,9,  -999.0, -999.00,-999.0000,-999.000,-999.000
     316N145_5,  I08S,    68,  1,     12, SIH016,2,19941224,0050,-57.9167,  82.2278, 2000,15024.5,   1505.7,   0.8641,  34.7135,2,  34.7152,2,    205.4,2,  0.7804,    205.9,2,   112.27,2,    31.76,2,     0.00,2,     2.20,2,    0.136,2,    0.118,4,    0.007,4,   1.8680,2,     8.65,2,   -999.0,9,  -999.00,9,   8.184,2,   -999.0,9,   -999.0,9,  -999.0,    0.10,  0.0020,   0.073,   0.005
     316N145_5,  I08S,    68,  1,     11, SIH015,2,19941224,0050,-57.9167,  82.2278, 2000,15063.9,   1509.6,   0.8637,  34.7133,2,  34.7184,2,    204.4,2,  0.7798,    206.6,2,   112.56,2,    31.92,2,     0.00,2,     2.20,2, -999.000,9, -999.000,9,    0.129,4,-999.0000,5,  -999.00,9,   -999.0,9,  -999.00,9,-999.000,9,   -999.0,9,   -999.0,9,  -999.0, -999.00,-999.0000,-999.000,   0.005
     316N145_5,  I08S,    68,  1,      9, SIH012,2,19941224,0050,-57.9167,  82.2278, 2000,16042.2,   1608.1,   0.7434,  34.7060,2,  34.7079,2,    208.5,2,  0.6542,    208.8,3,   114.20,2,    32.18,2,     0.00,2,     2.22,2, -999.000,9, -999.000,9, -999.000,5,   1.8880,2,     8.26,2,   -999.0,9,  -999.00,9,   8.196,2,   -999.0,9,   -999.0,9,  -999.0,    0.10,  0.0020,   0.058,-999.000
     316N145_5,  I08S,    68,  1,     10, SIH013,2,19941224,0050,-57.9167,  82.2278, 2000,16067.7,   1610.6,   0.7396,  34.7053,2,  34.7070,2,    209.0,2,  0.6503,    207.8,2,   114.53,2,    32.13,2,     0.00,2,     2.22,2,    0.157,2,    0.076,2,    0.013,4,-999.0000,5,  -999.00,9,   -999.0,9,  -999.00,9,-999.000,9,   -999.0,9,   -999.0,9,  -999.0, -999.00,-999.0000,-999.000,   0.004
     316N145_5,  I08S,    68,  1,      8, SIH010,2,19941224,0050,-57.9167,  82.2278, 2000,17071.5,   1711.6,   0.6552,  34.7011,2,  34.7026,2,    208.4,2,  0.5600,    208.5,2,   117.17,2,    32.32,2,     0.00,2,     2.23,2, -999.000,9, -999.000,9, -999.000,5,-999.0000,5,  -999.00,9,   -999.0,9,  -999.00,9,-999.000,9,   -999.0,9,   -999.0,9,  -999.0, -999.00,-999.0000,-999.000,-999.000
     316N145_5,  I08S,    68,  1,      7, SIH009,2,19941224,0050,-57.9167,  82.2278, 2000,17072.2,   1711.7,   0.6557,  34.7022,2,  34.7034,2,    209.0,2,  0.5605,    208.7,2,   117.01,2,    32.37,2,     0.00,2,     2.23,2, -999.000,9, -999.000,9, -999.000,5,-999.0000,5,  -999.00,9,   -999.0,9,  -999.00,9,-999.000,9,   -999.0,9,   -999.0,9,  -999.0, -999.00,-999.0000,-999.000,-999.000
     316N145_5,  I08S,    68,  1,      6, SIH038,2,19941224,0050,-57.9167,  82.2278, 2000,18089.3,   1814.0,   0.5823,  34.6988,2,  34.6991,2,    210.6,2,  0.4809,    209.1,2,   122.28,2,    32.63,2,     0.00,2,     2.24,2,    0.089,2,    0.041,2,    0.170,4,   1.8830,2,     8.40,2,   -999.0,9,  -999.00,9,   8.230,2,   -999.0,9,   -999.0,9,  -999.0,    0.12,  0.0030,   0.077,   0.005
     316N145_5,  I08S,    68,  1,      5, SIH006,2,19941224,0050,-57.9167,  82.2278, 2000,18099.5,   1815.0,   0.5824,  34.6986,2,  34.6995,2,    208.5,2,  0.4809,    209.2,2,   122.61,2,    32.58,2,     0.00,2,     2.24,2, -999.000,9, -999.000,9, -999.000,5,-999.0000,5,  -999.00,9,   -999.0,9,  -999.00,9,-999.000,9,   -999.0,9,   -999.0,9,  -999.0, -999.00,-999.0000,-999.000,-999.000
     316N145_5,  I08S,    68,  1,      4, SIH004,2,19941224,0050,-57.9167,  82.2278, 2000,19116.3,   1917.3,   0.5179,  34.6935,2,  34.6948,2,    212.0,2,  0.4100,    210.4,2,   121.94,2,    32.67,2,     0.00,2,     2.25,2,    0.122,2,    0.077,2,    0.006,4,   1.8800,2,     8.09,2,   -999.0,9,  -999.00,9,   8.225,2,   -999.0,9,   -999.0,9,  -999.0,    0.14,  0.0030,   0.037,   0.005
     316N145_5,  I08S,    68,  1,      3, SIH025,2,19941224,0050,-57.9167,  82.2278, 2000,19132.4,   1918.9,   0.5179,  34.6944,2,  34.7019,2,    212.8,2,  0.4100,    210.2,2,   121.94,2,    32.63,2,     0.00,2,     2.25,2, -999.000,9, -999.000,9, -999.000,5,-999.0000,5,  -999.00,9,   -999.0,9,  -999.00,9,-999.000,9,   -999.0,9,   -999.0,9,  -999.0, -999.00,-999.0000,-999.000,-999.000
     316N145_5,  I08S,    68,  1,      1, SIH036,2,19941224,0050,-57.9167,  82.2278, 2000,19688.9,   1974.9,   0.4781,  34.6924,2,  34.6936,2,    211.8,2,  0.3667,    211.0,2,   125.55,2,    32.58,2,     0.01,2,     2.25,2, -999.000,9, -999.000,9, -999.000,5,-999.0000,5,  -999.00,9,   -999.0,9,  -999.00,9,-999.000,9,   -999.0,9,   -999.0,9,  -999.0, -999.00,-999.0000,-999.000,-999.000
     316N145_5,  I08S,    68,  1,      2, SIH001,2,19941224,0050,-57.9167,  82.2278, 2000,19698.7,   1975.9,   0.4774,  34.6925,2,  34.6954,2,    212.9,2,  0.3659,    211.1,2,   125.57,2,    32.76,2,     0.01,2,     2.26,2,    0.099,2,    0.051,2,    0.069,4,   1.8680,2,     8.15,2,   -999.0,9,  -999.00,9,   8.183,2,   -999.0,9,   -999.0,9,  -999.0,    0.12,  0.0030,   0.082,   0.005