BOTTLE,20090521WHPSIOdm
EXPOCODE,SECT_ID,STNNBR,CASTNO,SAMPNO,BTLNBR,BTLNBR_FLAG_W,DATE,TIME,LATITUDE,LONGITUDE,DEPTH,CTDRAW,CTDPRS,CTDTMP,CTDSAL,CTDSAL_FLAG_W,SALNTY,SALNTY_FLAG_W,CTDOXY,CTDOXY_FLAG_W,THETA,OXYGEN,OXYGEN_FLAG_W,SILCAT,SILCAT_FLAG_W,NITRAT,NITRAT_FLAG_W,NITRIT,NITRIT_FLAG_W,PHSPHT,PHSPHT_FLAG_W,CFC-11,CFC-11_FLAG_W,CFC-12,CFC-12_FLAG_W,TRITUM,TRITUM_FLAG_W,HELIUM,HELIUM_FLAG_W,DELHE3,DELHE3_FLAG_W,DELC14,DELC14_FLAG_W,DELC13,DELC13_FLAG_W,NEON,NEON_FLAG_W,TCARBN,TCARBN_FLAG_W,ALKALI,ALKALI_FLAG_W,C14ERR,DELHER,HELIER,NEONER,TRITER
,,,,,,,,,,,,,DBAR,IPTS-68,PSS-78,,PSS-78,,UMOL/KG,,IPTS-68,UMOL/KG,,UMOL/KG,,UMOL/KG,,UMOL/KG,,UMOL/KG,,PMOL/KG,,PMOL/KG,,TU,,NMOL/KG,,PERCNT,,/MILLE,,/MILLE,,NMOL/KG,,UMOL/KG,,UMOL/KG,,/MILLE,PERCNT,NMOL/KG,NMOL/KG,TU
     316N145_5,  I09S,   124,  1,     36, SI9446,9,19950112,1747,-45.0028, 114.9862, 4195,  166.8,     11.5,  10.6592,  34.6982,3,-999.0000,9,    267.4,3, 10.6579,   -999.0,9,  -999.00,9,  -999.00,9,  -999.00,9,  -999.00,9, -999.000,9, -999.000,9, -999.000,5,-999.0000,5,  -999.00,9,   -999.0,9,  -999.00,9,-999.000,9,   -999.0,9,   -999.0,9,  -999.0, -999.00,-999.0000,-999.000,-999.000
     316N145_5,  I09S,   124,  1,     35, SIH032,2,19950112,1747,-45.0028, 114.9862, 4195,  374.7,     32.4,  10.6641,  34.6977,2,  34.7024,2,    266.0,2, 10.6602,    275.5,2,     1.20,2,     9.66,2,     0.21,2,     0.79,2,    3.740,2,    1.941,2, -999.000,5,-999.0000,5,  -999.00,9,   -999.0,9,  -999.00,9,-999.000,9,   2079.8,6,   2304.9,2,  -999.0, -999.00,-999.0000,-999.000,-999.000
     316N145_5,  I09S,   124,  1,     34, SIH029,2,19950112,1747,-45.0028, 114.9862, 4195,  613.9,     56.5,  10.6606,  34.6984,2,  34.7017,2,    266.6,2, 10.6538,    275.1,2,     1.21,2,     9.71,2,     0.21,2,     0.80,2,    3.735,2,    1.911,2, -999.000,5,-999.0000,5,  -999.00,9,   -999.0,9,  -999.00,9,-999.000,9,   2079.5,2,   2294.2,6,  -999.0, -999.00,-999.0000,-999.000,-999.000
     316N145_5,  I09S,   124,  1,     33, SIH026,2,19950112,1747,-45.0028, 114.9862, 4195,  878.7,     83.1,  10.5486,  34.7156,2,  34.7184,2,    264.6,2, 10.5387,    274.8,2,     1.53,2,     9.85,2,     0.21,2,     0.82,2,    3.754,6,    1.925,6, -999.000,5,-999.0000,5,  -999.00,9,   -999.0,9,  -999.00,9,-999.000,9,   2083.4,2,   2310.9,2,  -999.0, -999.00,-999.0000,-999.000,-999.000
     316N145_5,  I09S,   124,  1,     32, SIH023,2,19950112,1747,-45.0028, 114.9862, 4195, 1111.0,    106.4,  10.2965,  34.7356,2,  34.7402,2,    262.2,2, 10.2840,    271.3,2,     2.50,2,    10.20,2,     0.24,2,     0.87,2,    3.791,2,    1.921,2, -999.000,5,-999.0000,5,  -999.00,9,   -999.0,9,  -999.00,9,-999.000,9,   2088.5,2,   2296.2,2,  -999.0, -999.00,-999.0000,-999.000,-999.000
     316N145_5,  I09S,   124,  1,     31, SIH020,2,19950112,1747,-45.0028, 114.9862, 4195, 1625.7,    158.2,  10.1018,  34.7854,2,  34.7880,2,    259.1,2, 10.0834,    265.8,2,     3.95,2,    11.27,2,     0.31,2,     0.90,2,    3.693,2,    1.877,2, -999.000,5,-999.0000,5,  -999.00,9,   -999.0,9,  -999.00,9,-999.000,9,   2094.6,2,   2294.4,2,  -999.0, -999.00,-999.0000,-999.000,-999.000
     316N145_5,  I09S,   124,  1,     30, SIH017,2,19950112,1747,-45.0028, 114.9862, 4195, 2111.6,    207.1,   9.8300,  34.7693,2,  34.7730,2,    252.4,2,  9.8063,    263.0,2,     4.27,2,    12.81,2,     0.01,2,     0.97,2,    3.607,2,    1.846,2, -999.000,5,-999.0000,5,  -999.00,9,   -999.0,9,  -999.00,9,-999.000,9,   2101.8,2,   2298.2,2,  -999.0, -999.00,-999.0000,-999.000,-999.000
     316N145_5,  I09S,   124,  1,     29, SIH014,2,19950112,1747,-45.0028, 114.9862, 4195, 2599.5,    256.1,   9.7496,  34.7637,2,  34.7675,2,    257.4,2,  9.7204,    264.5,2,     4.11,2,    12.86,2,     0.01,2,     0.97,2, -999.000,9, -999.000,9, -999.000,5,-999.0000,5,  -999.00,9,   -999.0,9,  -999.00,9,-999.000,9,   2101.4,2,   2291.3,2,  -999.0, -999.00,-999.0000,-999.000,-999.000
     316N145_5,  I09S,   124,  1,     28, SIH011,2,19950112,1747,-45.0028, 114.9862, 4195, 3096.4,    306.1,   9.8080,  34.7824,2,  34.7866,2,    264.7,2,  9.7728,    267.4,2,     4.12,2,    12.53,2,     0.01,2,     0.95,2,    3.708,2,    1.905,2, -999.000,5,-999.0000,5,  -999.00,9,   -999.0,9,  -999.00,9,-999.000,9,   -999.0,9,   2294.1,2,  -999.0, -999.00,-999.0000,-999.000,-999.000
     316N145_5,  I09S,   124,  1,     27, SIH008,2,19950112,1747,-45.0028, 114.9862, 4195, 3109.6,    307.4,   9.8083,  34.7825,2,  34.7848,2,    261.5,2,  9.7729,    267.4,2,     4.29,2,    12.52,2,     0.01,2,     0.95,2,    3.688,2,    1.882,2, -999.000,5,-999.0000,5,  -999.00,9,   -999.0,9,  -999.00,9,-999.000,9,   2099.3,6,   2304.3,2,  -999.0, -999.00,-999.0000,-999.000,-999.000
     316N145_5,  I09S,   124,  1,     26, SIH005,2,19950112,1747,-45.0028, 114.9862, 4195, 3600.8,    356.8,   9.6680,  34.7574,2,  34.7602,2,    265.2,2,  9.6273,    266.7,2,     4.30,2,    12.95,2,     0.01,2,     0.97,2,    3.660,2,    1.880,2, -999.000,5,-999.0000,5,  -999.00,9,   -999.0,9,  -999.00,9,-999.000,9,   2100.3,2,   2292.1,2,  -999.0, -999.00,-999.0000,-999.000,-999.000
     316N145_5,  I09S,   124,  1,     25, SIH019,2,19950112,1747,-45.0028, 114.9862, 4195, 4096.6,    406.7,   9.4522,  34.7170,2,  34.7209,2,    265.7,2,  9.4063,    265.6,2,     4.47,2,    13.62,2,     0.01,2,     1.02,2,    3.639,2,    1.883,2, -999.000,5,-999.0000,5,  -999.00,9,   -999.0,9,  -999.00,9,-999.000,9,   2103.4,2,   2294.9,2,  -999.0, -999.00,-999.0000,-999.000,-999.000
     316N145_5,  I09S,   124,  1,     24, SIH037,2,19950112,1747,-45.0028, 114.9862, 4195, 5118.5,    509.4,   9.3042,  34.6948,2,  34.7007,2,    266.0,2,  9.2470,    267.0,2,     4.48,2,    13.86,2,     0.01,2,     1.03,2,    3.626,2,    1.910,2, -999.000,5,-999.0000,5,  -999.00,9,   -999.0,9,  -999.00,9,-999.000,9,   2104.3,2,   2286.1,2,  -999.0, -999.00,-999.0000,-999.000,-999.000
     316N145_5,  I09S,   124,  1,     23, SIH033,2,19950112,1747,-45.0028, 114.9862, 4195, 6105.4,    608.7,   8.7413,  34.5935,2,  34.6028,3,    262.6,2,  8.6751,    259.6,2,     5.77,2,    16.16,2,     0.01,2,     1.16,2,    3.506,2,    1.777,2, -999.000,5,-999.0000,5,  -999.00,9,   -999.0,9,  -999.00,9,-999.000,9,   2110.1,2,   2283.3,2,  -999.0, -999.00,-999.0000,-999.000,-999.000
     316N145_5,  I09S,   124,  1,     22, SIH031,2,19950112,1747,-45.0028, 114.9862, 4195, 7083.5,    707.0,   8.0033,  34.5015,2,  34.5089,2,    250.2,2,  7.9299,    246.6,2,     7.85,2,    19.07,2,     0.01,2,     1.34,2,    3.096,2,    1.541,2, -999.000,5,-999.0000,5,  -999.00,9,   -999.0,9,  -999.00,9,-999.000,9,   2123.6,2,   2309.6,2,  -999.0, -999.00,-999.0000,-999.000,-999.000
     316N145_5,  I09S,   124,  1,     21, SIH030,2,19950112,1747,-45.0028, 114.9862, 4195, 8082.5,    807.5,   7.1042,  34.4470,2,  34.4524,2,    221.5,2,  7.0253,    218.2,2,    13.45,2,    23.58,2,     0.00,2,     1.61,2,    2.129,6,    1.041,6, -999.000,5,-999.0000,5,  -999.00,9,   -999.0,9,  -999.00,9,-999.000,9,   2148.1,2,   2289.4,2,  -999.0, -999.00,-999.0000,-999.000,-999.000
     316N145_5,  I09S,   124,  1,     20, SIH028,2,19950112,1747,-45.0028, 114.9862, 4195, 9080.5,    907.9,   5.9607,  34.3771,2,  34.3839,2,    215.1,2,  5.8792,    214.6,2,    19.22,2,    26.65,2,     0.00,2,     1.81,2,    1.877,2,    0.908,2, -999.000,5,-999.0000,5,  -999.00,9,   -999.0,9,  -999.00,9,-999.000,9,   2164.2,2,   2286.3,2,  -999.0, -999.00,-999.0000,-999.000,-999.000
     316N145_5,  I09S,   124,  1,     19, SIH027,2,19950112,1747,-45.0028, 114.9862, 4195,10198.4,   1020.3,   4.9322,  34.3312,2,  34.3350,2,    217.6,2,  4.8479,    215.8,2,    25.15,2,    28.70,2,     0.00,2,     1.96,2,    1.738,2,    0.832,2, -999.000,5,-999.0000,5,  -999.00,9,   -999.0,9,  -999.00,9,-999.000,9,   2176.5,2,   2307.2,2,  -999.0, -999.00,-999.0000,-999.000,-999.000
     316N145_5,  I09S,   124,  1,     18, SIH003,2,19950112,1747,-45.0028, 114.9862, 4195,11184.6,   1119.5,   4.2594,  34.3224,2,  34.3260,2,    214.1,2,  4.1718,    213.8,2,    31.24,2,    30.09,2,     0.00,2,     2.06,2,    1.535,6,    0.733,6, -999.000,5,-999.0000,5,  -999.00,9,   -999.0,9,  -999.00,9,-999.000,9,   2186.3,6,   2295.5,2,  -999.0, -999.00,-999.0000,-999.000,-999.000
     316N145_5,  I09S,   124,  1,     17, SIH024,2,19950112,1747,-45.0028, 114.9862, 4195,12158.5,   1217.5,   3.7408,  34.3418,2,  34.3458,2,    206.5,2,  3.6494,    205.4,2,    39.08,2,    31.48,2,     0.00,2,     2.15,2,    1.211,2,    0.573,2, -999.000,5,-999.0000,5,  -999.00,9,   -999.0,9,  -999.00,9,-999.000,9,   2201.2,2,   2321.1,6,  -999.0, -999.00,-999.0000,-999.000,-999.000
     316N145_5,  I09S,   124,  1,     16, SIH022,2,19950112,1747,-45.0028, 114.9862, 4195,14101.0,   1412.8,   3.1269,  34.4117,2,  34.4159,2,    186.2,2,  3.0253,    188.8,2,    53.33,2,    33.25,2,     0.00,2,     2.28,2,    0.677,2,    0.316,2, -999.000,5,-999.0000,5,  -999.00,9,   -999.0,9,  -999.00,9,-999.000,9,   2223.4,2,   2322.1,2,  -999.0, -999.00,-999.0000,-999.000,-999.000
     316N145_5,  I09S,   124,  1,     15, SIH021,2,19950112,1747,-45.0028, 114.9862, 4195,16128.1,   1616.7,   2.8009,  34.5036,2,  34.5070,2,    172.2,2,  2.6859,    177.4,2,    64.37,2,    33.73,2,     0.00,2,     2.31,2,    0.383,2,    0.178,2, -999.000,5,-999.0000,5,  -999.00,9,   -999.0,9,  -999.00,9,-999.000,9,   2239.2,2,   2325.0,2,  -999.0, -999.00,-999.0000,-999.000,-999.000
     316N145_5,  I09S,   124,  1,     14, SIH002,2,19950112,1747,-45.0028, 114.9862, 4195,18147.2,   1819.8,   2.5906,  34.5933,2,  34.5967,2,    171.1,2,  2.4610,    175.3,2,    71.10,2,    33.05,2,     0.00,2,     2.26,2,    0.220,2,    0.099,2, -999.000,5,-999.0000,5,  -999.00,9,   -999.0,9,  -999.00,9,-999.000,9,   2245.0,2,   2354.0,2,  -999.0, -999.00,-999.0000,-999.000,-999.000
     316N145_5,  I09S,   124,  1,     13, SIH018,2,19950112,1747,-45.0028, 114.9862, 4195,20171.4,   2023.4,   2.4886,  34.6655,2,  34.6684,2,    174.9,2,  2.3426,    179.2,2,    74.47,2,    31.94,2,     0.00,2,     2.18,2,    0.106,2,    0.047,2, -999.000,5,-999.0000,5,  -999.00,9,   -999.0,9,  -999.00,9,-999.000,9,   2245.6,2,   2337.3,2,  -999.0, -999.00,-999.0000,-999.000,-999.000
     316N145_5,  I09S,   124,  1,     12, SIH016,2,19950112,1747,-45.0028, 114.9862, 4195,22203.1,   2227.8,   2.3666,  34.7135,2,  34.7176,2,    180.1,2,  2.2043,    185.9,2,    77.05,2,    30.79,2,     0.00,2,     2.10,2,    0.063,2,    0.025,2, -999.000,5,-999.0000,5,  -999.00,9,   -999.0,9,  -999.00,9,-999.000,9,   2242.7,2,   2342.2,2,  -999.0, -999.00,-999.0000,-999.000,-999.000
     316N145_5,  I09S,   124,  1,     11, SIH015,2,19950112,1747,-45.0028, 114.9862, 4195,24244.2,   2433.1,   2.2176,  34.7391,2,  34.7408,2,    186.9,2,  2.0391,    191.5,2,    80.74,2,    30.21,2,     0.00,2,     2.05,2,    0.047,2,    0.015,2, -999.000,5,-999.0000,5,  -999.00,9,   -999.0,9,  -999.00,9,-999.000,9,   2241.4,2,   2364.4,2,  -999.0, -999.00,-999.0000,-999.000,-999.000
     316N145_5,  I09S,   124,  1,     10, SIH013,2,19950112,1747,-45.0028, 114.9862, 4195,26310.3,   2640.9,   2.0328,  34.7490,2,  34.7524,2,    189.8,2,  1.8384,    195.3,2,    85.87,2,    29.98,2,     0.00,2,     2.05,2, -999.000,9, -999.000,9, -999.000,5,-999.0000,5,  -999.00,9,   -999.0,9,  -999.00,9,-999.000,9,   2243.4,2,   2358.2,2,  -999.0, -999.00,-999.0000,-999.000,-999.000
     316N145_5,  I09S,   124,  1,      9, SIH012,2,19950112,1747,-45.0028, 114.9862, 4195,28351.3,   2846.2,   1.8215,  34.7473,2,  34.7502,2,    193.9,2,  1.6120,    197.8,2,    92.77,2,    30.21,2,     0.00,2,     2.06,2,    0.025,2,    0.014,2, -999.000,5,-999.0000,5,  -999.00,9,   -999.0,9,  -999.00,9,-999.000,9,   2246.8,2,   2355.4,2,  -999.0, -999.00,-999.0000,-999.000,-999.000
     316N145_5,  I09S,   124,  1,      8, SIH010,2,19950112,1747,-45.0028, 114.9862, 4195,30363.7,   3048.7,   1.6142,  34.7408,2,  34.7443,2,    192.5,2,  1.3899,    199.7,2,   100.15,2,    30.64,2,     0.00,2,     2.09,2,    0.029,2,    0.014,2, -999.000,5,-999.0000,5,  -999.00,9,   -999.0,9,  -999.00,9,-999.000,9,   2249.4,2,   2369.1,2,  -999.0, -999.00,-999.0000,-999.000,-999.000
     316N145_5,  I09S,   124,  1,      7, SIH009,2,19950112,1747,-45.0028, 114.9862, 4195,32383.4,   3251.8,   1.4147,  34.7331,2,  34.7349,2,    197.2,2,  1.1752,    202.0,2,   106.73,2,    30.87,2,     0.01,2,     2.11,2,    0.045,2,    0.012,2, -999.000,5,-999.0000,5,  -999.00,9,   -999.0,9,  -999.00,9,-999.000,9,   2253.8,2,   2355.0,2,  -999.0, -999.00,-999.0000,-999.000,-999.000
     316N145_5,  I09S,   124,  1,      6, SIH038,2,19950112,1747,-45.0028, 114.9862, 4195,34417.2,   3456.4,   1.2648,  34.7257,2,  34.7282,2,    198.5,2,  1.0086,    203.1,2,   111.56,2,    31.11,2,     0.01,2,     2.13,2,    0.047,2,    0.023,2, -999.000,5,-999.0000,5,  -999.00,9,   -999.0,9,  -999.00,9,-999.000,9,   2254.3,2,   2359.5,2,  -999.0, -999.00,-999.0000,-999.000,-999.000
     316N145_5,  I09S,   124,  1,      5, SIH006,2,19950112,1747,-45.0028, 114.9862, 4195,36451.6,   3661.0,   1.1229,  34.7175,2,  34.7199,2,    201.4,2,  0.8497,    205.5,2,   116.38,2,    31.45,2,     0.00,2,     2.15,2,    0.056,2,    0.023,2, -999.000,5,-999.0000,5,  -999.00,9,   -999.0,9,  -999.00,9,-999.000,9,   2256.0,2,   2378.6,2,  -999.0, -999.00,-999.0000,-999.000,-999.000
     316N145_5,  I09S,   124,  1,      4, SIH004,2,19950112,1747,-45.0028, 114.9862, 4195,38463.5,   3863.4,   1.0768,  34.7155,2,  34.7166,2,    202.5,2,  0.7840,    206.4,2,   118.16,2,    31.59,2,     0.00,2,     2.16,2,    0.051,2,    0.026,2, -999.000,5,-999.0000,5,  -999.00,9,   -999.0,9,  -999.00,9,-999.000,9,   2256.6,2,   2358.0,2,  -999.0, -999.00,-999.0000,-999.000,-999.000
     316N145_5,  I09S,   124,  1,      3, SIH025,2,19950112,1747,-45.0028, 114.9862, 4195,40515.5,   4069.8,   0.9891,  34.7112,2,  34.7131,2,    202.6,2,  0.6770,    207.2,2,   120.90,2,    31.74,2,     0.00,2,     2.17,2,    0.059,2,    0.029,2, -999.000,5,-999.0000,5,  -999.00,9,   -999.0,9,  -999.00,9,-999.000,9,   2258.5,2,   2376.6,2,  -999.0, -999.00,-999.0000,-999.000,-999.000
     316N145_5,  I09S,   124,  1,      2, SIH001,2,19950112,1747,-45.0028, 114.9862, 4195,41705.0,   4189.5,   0.9433,  34.7082,2,  34.7117,2,    204.9,2,  0.6196,    208.6,2,   122.20,2,    31.82,2,     0.01,2,     2.17,2,    0.067,2,    0.028,2, -999.000,5,-999.0000,5,  -999.00,9,   -999.0,9,  -999.00,9,-999.000,9,   2259.8,2,   2364.7,6,  -999.0, -999.00,-999.0000,-999.000,-999.000
     316N145_5,  I09S,   124,  1,      1, SIH036,2,19950112,1747,-45.0028, 114.9862, 4195,42201.0,   4239.4,   0.9406,  34.7072,2,  34.7074,2,    205.6,3,  0.6116,    209.1,2,   122.59,2,    31.89,2,     0.00,2,     2.17,2,    0.067,2,    0.037,2, -999.000,5,-999.0000,5,  -999.00,9,   -999.0,9,  -999.00,9,-999.000,9,   2259.4,6,   2369.1,2,  -999.0, -999.00,-999.0000,-999.000,-999.000