BOTTLE,20090521WHPSIOdm
EXPOCODE,SECT_ID,STNNBR,CASTNO,SAMPNO,BTLNBR,BTLNBR_FLAG_W,DATE,TIME,LATITUDE,LONGITUDE,DEPTH,CTDRAW,CTDPRS,CTDTMP,CTDSAL,CTDSAL_FLAG_W,SALNTY,SALNTY_FLAG_W,CTDOXY,CTDOXY_FLAG_W,THETA,OXYGEN,OXYGEN_FLAG_W,SILCAT,SILCAT_FLAG_W,NITRAT,NITRAT_FLAG_W,NITRIT,NITRIT_FLAG_W,PHSPHT,PHSPHT_FLAG_W,CFC-11,CFC-11_FLAG_W,CFC-12,CFC-12_FLAG_W,TRITUM,TRITUM_FLAG_W,HELIUM,HELIUM_FLAG_W,DELHE3,DELHE3_FLAG_W,DELC14,DELC14_FLAG_W,DELC13,DELC13_FLAG_W,NEON,NEON_FLAG_W,TCARBN,TCARBN_FLAG_W,ALKALI,ALKALI_FLAG_W,C14ERR,DELHER,HELIER,NEONER,TRITER
,,,,,,,,,,,,,DBAR,IPTS-68,PSS-78,,PSS-78,,UMOL/KG,,IPTS-68,UMOL/KG,,UMOL/KG,,UMOL/KG,,UMOL/KG,,UMOL/KG,,PMOL/KG,,PMOL/KG,,TU,,NMOL/KG,,PERCNT,,/MILLE,,/MILLE,,NMOL/KG,,UMOL/KG,,UMOL/KG,,/MILLE,PERCNT,NMOL/KG,NMOL/KG,TU
     316N145_5,  I09S,    94,  1,     36, SIH035,9,19950104,0542,-61.0112, 115.0055, 4420,  228.8,     17.8,   0.8435,  33.8682,3,-999.0000,9,    354.0,3,  0.8427,   -999.0,9,  -999.00,9,  -999.00,9,  -999.00,9,  -999.00,9, -999.000,9, -999.000,9, -999.000,5,-999.0000,5,  -999.00,9,   -999.0,9,  -999.00,9,-999.000,9,   -999.0,9,   -999.0,9,  -999.0, -999.00,-999.0000,-999.000,-999.000
     316N145_5,  I09S,    94,  1,     35, SIH032,2,19950104,0542,-61.0112, 115.0055, 4420,  384.6,     33.5,   0.8154,  33.8700,2,  33.8829,2,    352.3,2,  0.8140,    343.6,2,    37.03,2,    26.23,2,     0.26,2,     1.80,2,    6.796,2,    3.217,2, -999.000,5,-999.0000,5,  -999.00,9,   -999.0,9,  -999.00,9,-999.000,9,   2151.5,2,   2297.2,2,  -999.0, -999.00,-999.0000,-999.000,-999.000
     316N145_5,  I09S,    94,  1,     34, SIH029,2,19950104,0542,-61.0112, 115.0055, 4420,  621.2,     57.3,   0.7304,  33.8705,2,  33.8737,2,    348.0,2,  0.7280,    342.5,2,    37.05,2,    26.21,2,     0.25,2,     1.80,2, -999.000,9, -999.000,9, -999.000,5,-999.0000,5,  -999.00,9,   -999.0,9,  -999.00,9,-999.000,9,   -999.0,9,   -999.0,9,  -999.0, -999.00,-999.0000,-999.000,-999.000
     316N145_5,  I09S,    94,  1,     33, SIH026,2,19950104,0542,-61.0112, 115.0055, 4420,  861.1,     81.4,  -0.5274,  33.9777,2,  33.9886,2,    344.6,2, -0.5298,    343.3,2,    40.63,2,    27.67,2,     0.19,2,     1.95,2,    6.686,6,    3.172,6, -999.000,5,-999.0000,5,  -999.00,9,   -999.0,9,  -999.00,9,-999.000,9,   2165.8,6,   -999.0,9,  -999.0, -999.00,-999.0000,-999.000,-999.000
     316N145_5,  I09S,    94,  1,     32, SIH023,2,19950104,0542,-61.0112, 115.0055, 4420, 1108.8,    106.4,  -0.5080,  34.0529,2,  34.0341,2,    324.7,2, -0.5113,    325.9,2,    46.85,2,    28.96,2,     0.19,2,     2.03,2,    6.249,2,    2.954,2, -999.000,5,-999.0000,5,  -999.00,9,   -999.0,9,  -999.00,9,-999.000,9,   2177.9,2,   2293.5,2,  -999.0, -999.00,-999.0000,-999.000,-999.000
     316N145_5,  I09S,    94,  1,     31, SIH020,2,19950104,0542,-61.0112, 115.0055, 4420, 1599.0,    155.7,   1.5907,  34.3999,2,  34.3998,2,    202.3,2,  1.5831,    204.0,2,    69.78,2,    33.99,2,     0.01,2,     2.38,2,    1.951,2,    0.905,2, -999.000,5,-999.0000,5,  -999.00,9,   -999.0,9,  -999.00,9,-999.000,9,   2235.5,2,   2319.4,2,  -999.0, -999.00,-999.0000,-999.000,-999.000
     316N145_5,  I09S,    94,  1,     30, SIH017,2,19950104,0542,-61.0112, 115.0055, 4420, 2063.4,    202.4,   1.8284,  34.4878,2,  34.4909,2,    182.2,2,  1.8179,    186.4,2,    76.00,2,    34.17,2,     0.01,2,     2.38,2, -999.000,9, -999.000,9, -999.000,5,-999.0000,5,  -999.00,9,   -999.0,9,  -999.00,9,-999.000,9,   2244.9,2,   2323.4,2,  -999.0, -999.00,-999.0000,-999.000,-999.000
     316N145_5,  I09S,    94,  1,     29, SIH014,2,19950104,0542,-61.0112, 115.0055, 4420, 2546.6,    251.0,   1.9298,  34.5620,2,  34.5659,2,    177.7,2,  1.9164,    178.4,2,    80.52,2,    33.91,2,     0.00,2,     2.36,2,    0.790,2,    0.361,2, -999.000,5,-999.0000,5,  -999.00,9,   -999.0,9,  -999.00,9,-999.000,9,   2245.5,2,   2330.9,2,  -999.0, -999.00,-999.0000,-999.000,-999.000
     316N145_5,  I09S,    94,  1,     28, SIH011,2,19950104,0542,-61.0112, 115.0055, 4420, 3073.2,    303.9,   1.9681,  34.5949,2,  34.5956,2,    176.9,2,  1.9516,    176.4,2,    82.39,2,    33.43,2,     0.00,2,     2.34,2,    0.638,2,    0.301,2, -999.000,5,-999.0000,5,  -999.00,9,   -999.0,9,  -999.00,9,-999.000,9,   2252.0,2,   2331.7,2,  -999.0, -999.00,-999.0000,-999.000,-999.000
     316N145_5,  I09S,    94,  1,     27, SIH008,2,19950104,0542,-61.0112, 115.0055, 4420, 3547.9,    351.7,   2.0012,  34.6254,2,  34.6280,2,    175.1,2,  1.9819,    175.8,2,    83.82,2,    33.17,2,     0.00,2,     2.31,2,    0.491,2,    0.220,2, -999.000,5,-999.0000,5,  -999.00,9,   -999.0,9,  -999.00,9,-999.000,9,   2254.2,2,   2331.0,2,  -999.0, -999.00,-999.0000,-999.000,-999.000
     316N145_5,  I09S,    94,  1,     26, SIH005,2,19950104,0542,-61.0112, 115.0055, 4420, 3973.3,    394.5,   1.9488,  34.6458,2,  34.6462,2,    175.3,2,  1.9272,    176.8,2,    85.86,2,    33.13,2,     0.00,2,     2.30,2,    0.461,2,    0.211,2, -999.000,5,-999.0000,5,  -999.00,9,   -999.0,9,  -999.00,9,-999.000,9,   2252.6,2,   2333.2,2,  -999.0, -999.00,-999.0000,-999.000,-999.000
     316N145_5,  I09S,    94,  1,     25, SIH019,2,19950104,0542,-61.0112, 115.0055, 4420, 4365.4,    433.9,   1.9524,  34.6626,2,  34.6627,2,    177.3,2,  1.9284,    177.6,2,    86.35,2,    32.59,2,     0.00,2,     2.26,2,    0.396,3,    0.163,2, -999.000,5,-999.0000,5,  -999.00,9,   -999.0,9,  -999.00,9,-999.000,9,   2252.5,2,   2339.4,2,  -999.0, -999.00,-999.0000,-999.000,-999.000
     316N145_5,  I09S,    94,  1,     24, SIH037,2,19950104,0542,-61.0112, 115.0055, 4420, 4852.4,    482.9,   1.9464,  34.6761,2,  34.6781,2,    178.7,2,  1.9195,    179.2,2,    87.30,2,    32.33,2,     0.00,2,     2.24,2,    0.352,2,    0.165,2, -999.000,5,-999.0000,5,  -999.00,9,   -999.0,9,  -999.00,9,-999.000,9,   2251.2,2,   2331.0,2,  -999.0, -999.00,-999.0000,-999.000,-999.000
     316N145_5,  I09S,    94,  1,     23, SIH033,2,19950104,0542,-61.0112, 115.0055, 4420, 5957.2,    594.0,   1.9060,  34.7012,2,  34.7022,2,    181.7,2,  1.8725,    182.6,2,    89.19,2,    31.85,2,     0.00,2,     2.20,2,    0.274,2,    0.122,2, -999.000,5,-999.0000,5,  -999.00,9,   -999.0,9,  -999.00,9,-999.000,9,   2250.9,2,   2360.4,3,  -999.0, -999.00,-999.0000,-999.000,-999.000
     316N145_5,  I09S,    94,  1,     22, SIH031,2,19950104,0542,-61.0112, 115.0055, 4420, 7027.6,    701.7,   1.8780,  34.7196,2,  34.7221,2,    185.4,2,  1.8380,    187.4,2,    90.30,2,    31.05,2,     0.00,2,     2.16,2,    0.205,2,    0.094,2, -999.000,5,-999.0000,5,  -999.00,9,   -999.0,9,  -999.00,9,-999.000,9,   2248.6,2,   2342.4,2,  -999.0, -999.00,-999.0000,-999.000,-999.000
     316N145_5,  I09S,    94,  1,     21, SIH030,2,19950104,0542,-61.0112, 115.0055, 4420, 8102.5,    809.8,   1.8016,  34.7289,2,  34.7300,2,    189.4,2,  1.7552,    190.2,2,    92.03,2,    30.80,2,     0.00,2,     2.13,2,    0.186,2,    0.090,2, -999.000,5,-999.0000,5,  -999.00,9,   -999.0,9,  -999.00,9,-999.000,9,   2244.6,2,   -999.0,9,  -999.0, -999.00,-999.0000,-999.000,-999.000
     316N145_5,  I09S,    94,  1,     20, SIH028,2,19950104,0542,-61.0112, 115.0055, 4420, 9045.0,    904.6,   1.7522,  34.7378,2,  34.7394,2,    193.2,2,  1.7000,    194.0,2,    93.77,2,    30.43,2,     0.00,2,     2.11,2,    0.145,2,    0.068,2, -999.000,5,-999.0000,5,  -999.00,9,   -999.0,9,  -999.00,9,-999.000,9,   2247.4,2,   2359.0,2,  -999.0, -999.00,-999.0000,-999.000,-999.000
     316N145_5,  I09S,    94,  1,     19, SIH027,2,19950104,0542,-61.0112, 115.0055, 4420,10102.2,   1011.0,   1.6694,  34.7405,2,  34.7416,2,    194.5,2,  1.6109,    195.3,2,    95.50,2,    30.34,2,     0.00,2,     2.10,2,    0.127,2,    0.063,2, -999.000,5,-999.0000,5,  -999.00,9,   -999.0,9,  -999.00,9,-999.000,9,   2246.8,2,   2347.6,2,  -999.0, -999.00,-999.0000,-999.000,-999.000
     316N145_5,  I09S,    94,  1,     18, SIH003,2,19950104,0542,-61.0112, 115.0055, 4420,11084.6,   1109.8,   1.5840,  34.7380,2,  34.7414,2,    195.1,2,  1.5196,    197.3,2,    98.01,2,    30.35,2,     0.00,2,     2.11,2,    0.132,2,    0.059,2, -999.000,5,-999.0000,5,  -999.00,9,   -999.0,9,  -999.00,9,-999.000,9,   2246.5,6,   -999.0,9,  -999.0, -999.00,-999.0000,-999.000,-999.000
     316N145_5,  I09S,    94,  1,     17, SIH024,2,19950104,0542,-61.0112, 115.0055, 4420,12122.0,   1214.1,   1.4933,  34.7378,2,  34.7425,2,    197.2,2,  1.4226,    198.7,2,   100.67,2,    30.42,2,     0.00,2,     2.11,2,    0.122,2,    0.055,2, -999.000,5,-999.0000,5,  -999.00,9,   -999.0,9,  -999.00,9,-999.000,9,   2241.6,2,   -999.0,9,  -999.0, -999.00,-999.0000,-999.000,-999.000
     316N145_5,  I09S,    94,  1,     16, SIH022,2,19950104,0542,-61.0112, 115.0055, 4420,14165.3,   1419.6,   1.3189,  34.7326,2,  34.7351,2,    197.7,2,  1.2359,    202.1,2,   105.98,2,    30.59,2,     0.00,2,     2.12,2,    0.116,2,    0.059,2, -999.000,5,-999.0000,5,  -999.00,9,   -999.0,9,  -999.00,9,-999.000,9,   2250.1,2,   2359.3,2,  -999.0, -999.00,-999.0000,-999.000,-999.000
     316N145_5,  I09S,    94,  1,     15, SIH021,2,19950104,0542,-61.0112, 115.0055, 4420,16192.3,   1623.5,   1.1604,  34.7259,2,  34.7274,2,    200.2,2,  1.0648,    203.0,2,  -999.00,2,    30.83,2,     0.00,2,     2.14,2,    0.088,2,    0.039,2, -999.000,5,-999.0000,5,  -999.00,9,   -999.0,9,  -999.00,9,-999.000,9,   2251.9,2,   2387.2,3,  -999.0, -999.00,-999.0000,-999.000,-999.000
     316N145_5,  I09S,    94,  1,     14, SIH002,2,19950104,0542,-61.0112, 115.0055, 4420,18192.9,   1824.8,   1.0161,  34.7189,2,  34.7182,2,    199.6,2,  0.9077,    204.7,2,  -999.00,2,    31.27,2,     0.00,2,     2.16,2,    0.102,2,    0.077,4, -999.000,5,-999.0000,5,  -999.00,9,   -999.0,9,  -999.00,9,-999.000,9,   2254.8,2,   2362.8,2,  -999.0, -999.00,-999.0000,-999.000,-999.000
     316N145_5,  I09S,    94,  1,     13, SIH018,2,19950104,0542,-61.0112, 115.0055, 4420,20217.5,   2028.4,   0.8543,  34.7101,2,  34.7109,2,    203.3,2,  0.7330,    206.2,2,   114.75,2,    31.50,2,     0.00,2,     2.18,2,    0.106,2,    0.057,2, -999.000,5,-999.0000,5,  -999.00,9,   -999.0,9,  -999.00,9,-999.000,9,   2255.4,2,   2365.9,2,  -999.0, -999.00,-999.0000,-999.000,-999.000
     316N145_5,  I09S,    94,  1,     12, SIH016,2,19950104,0542,-61.0112, 115.0055, 4420,22208.6,   2228.7,   0.7001,  34.7024,2,  34.7030,2,    204.3,2,  0.5659,    208.7,2,   119.13,2,    31.73,2,     0.00,2,     2.20,2,    0.103,2,    0.047,2, -999.000,5,-999.0000,5,  -999.00,9,   -999.0,9,  -999.00,9,-999.000,9,   2256.2,2,   2370.8,2,  -999.0, -999.00,-999.0000,-999.000,-999.000
     316N145_5,  I09S,    94,  1,     11, SIH015,2,19950104,0542,-61.0112, 115.0055, 4420,24365.3,   2445.6,   0.5563,  34.6948,2,  34.6952,2,    207.0,2,  0.4073,    210.6,2,   122.11,2,    31.95,2,     0.00,2,     2.22,2,    0.112,2,    0.054,2, -999.000,5,-999.0000,5,  -999.00,9,   -999.0,9,  -999.00,9,-999.000,9,   2257.6,2,   -999.0,9,  -999.0, -999.00,-999.0000,-999.000,-999.000
     316N145_5,  I09S,    94,  1,     10, SIH013,2,19950104,0542,-61.0112, 115.0055, 4420,27372.3,   2748.1,   0.3593,  34.6882,2,  34.6879,2,    212.1,2,  0.1893,    216.0,2,   126.02,2,    32.07,2,     0.00,2,     2.23,2,    0.170,2,    0.080,2, -999.000,5,-999.0000,5,  -999.00,9,   -999.0,9,  -999.00,9,-999.000,9,   2257.0,2,   2358.8,2,  -999.0, -999.00,-999.0000,-999.000,-999.000
     316N145_5,  I09S,    94,  1,      9, SIH012,2,19950104,0542,-61.0112, 115.0055, 4420,30511.0,   3063.8,   0.2182,  34.6820,2,  34.6830,2,    216.4,2,  0.0242,    220.9,2,   128.83,2,    31.98,2,     0.00,2,     2.23,2,    0.237,2,    0.122,2, -999.000,5,-999.0000,5,  -999.00,9,   -999.0,9,  -999.00,9,-999.000,9,   2257.0,2,   2354.8,2,  -999.0, -999.00,-999.0000,-999.000,-999.000
     316N145_5,  I09S,    94,  1,      8, SIH010,2,19950104,0542,-61.0112, 115.0055, 4420,32476.1,   3261.5,   0.1411,  34.6803,2,  34.6824,2,    219.5,2, -0.0687,    223.8,2,   129.49,2,    31.93,2,     0.00,2,     2.23,2,    0.315,2,    0.158,2, -999.000,5,-999.0000,5,  -999.00,9,   -999.0,9,  -999.00,9,-999.000,9,   2256.7,2,   2354.7,2,  -999.0, -999.00,-999.0000,-999.000,-999.000
     316N145_5,  I09S,    94,  1,      7, SIH009,2,19950104,0542,-61.0112, 115.0055, 4420,34423.6,   3457.4,   0.0773,  34.6782,2,  34.6781,2,    223.5,2, -0.1487,    226.4,2,   128.75,2,    31.89,2,     0.00,2,     2.23,2,    0.378,2,    0.170,2, -999.000,5,-999.0000,5,  -999.00,9,   -999.0,9,  -999.00,9,-999.000,9,   2254.7,2,   2361.9,2,  -999.0, -999.00,-999.0000,-999.000,-999.000
     316N145_5,  I09S,    94,  1,      6, SIH038,2,19950104,0542,-61.0112, 115.0055, 4420,36431.6,   3659.4,   0.0188,  34.6763,2,  34.6737,2,    227.2,2, -0.2247,    229.0,2,   128.93,2,    31.85,2,     0.00,2,     2.23,2,    0.492,2,    0.230,2, -999.000,5,-999.0000,5,  -999.00,9,   -999.0,9,  -999.00,9,-999.000,9,   2254.3,2,   2347.9,2,  -999.0, -999.00,-999.0000,-999.000,-999.000
     316N145_5,  I09S,    94,  1,      5, SIH006,2,19950104,0542,-61.0112, 115.0055, 4420,38462.3,   3863.6,  -0.0266,  34.6741,2,  34.6747,2,    229.1,2, -0.2885,    232.0,2,   128.35,2,    31.81,2,     0.00,2,     2.22,2,    0.633,2,    0.297,2, -999.000,5,-999.0000,5,  -999.00,9,   -999.0,9,  -999.00,9,-999.000,9,   2254.1,2,   2352.4,2,  -999.0, -999.00,-999.0000,-999.000,-999.000
     316N145_5,  I09S,    94,  1,      4, SIH004,2,19950104,0542,-61.0112, 115.0055, 4420,40537.4,   4072.4,  -0.0616,  34.6739,2,  34.6732,2,    232.0,2, -0.3433,    233.1,2,   129.16,2,    31.87,2,     0.00,2,     2.22,2,    0.783,2,    0.364,2, -999.000,5,-999.0000,5,  -999.00,9,   -999.0,9,  -999.00,9,-999.000,9,   2252.0,2,   2352.4,2,  -999.0, -999.00,-999.0000,-999.000,-999.000
     316N145_5,  I09S,    94,  1,      3, SIH025,2,19950104,0542,-61.0112, 115.0055, 4420,42499.7,   4269.8,  -0.0887,  34.6713,2,  34.6700,2,    234.4,2, -0.3897,    235.2,2,   127.16,2,    31.83,2,     0.00,2,     2.22,2,    0.977,2,    0.459,2, -999.000,5,-999.0000,5,  -999.00,9,   -999.0,9,  -999.00,9,-999.000,9,   2253.7,2,   2359.8,2,  -999.0, -999.00,-999.0000,-999.000,-999.000
     316N145_5,  I09S,    94,  1,      2, SIH001,2,19950104,0542,-61.0112, 115.0055, 4420,43835.6,   4404.1,  -0.1248,  34.6699,2,  34.6698,2,    237.1,2, -0.4386,    236.9,2,   126.89,2,    31.74,2,     0.00,2,     2.21,2,    1.263,6,    0.582,6, -999.000,5,-999.0000,5,  -999.00,9,   -999.0,9,  -999.00,9,-999.000,9,   2249.7,2,   2351.4,2,  -999.0, -999.00,-999.0000,-999.000,-999.000
     316N145_5,  I09S,    94,  1,      1, SIH036,2,19950104,0542,-61.0112, 115.0055, 4420,44375.7,   4458.5,  -0.1465,  34.6686,2,  34.6684,2,    238.7,2, -0.4653,    237.5,2,   129.73,2,    31.80,2,     0.01,2,     2.21,2,    1.446,2,    0.666,2, -999.000,5,-999.0000,5,  -999.00,9,   -999.0,9,  -999.00,9,-999.000,9,   2253.9,6,   2349.4,2,  -999.0, -999.00,-999.0000,-999.000,-999.000