BOTTLE,20090521WHPSIOdm
EXPOCODE,SECT_ID,STNNBR,CASTNO,SAMPNO,BTLNBR,BTLNBR_FLAG_W,DATE,TIME,LATITUDE,LONGITUDE,DEPTH,CTDRAW,CTDPRS,CTDTMP,CTDSAL,CTDSAL_FLAG_W,SALNTY,SALNTY_FLAG_W,CTDOXY,CTDOXY_FLAG_W,THETA,OXYGEN,OXYGEN_FLAG_W,SILCAT,SILCAT_FLAG_W,NITRAT,NITRAT_FLAG_W,NITRIT,NITRIT_FLAG_W,PHSPHT,PHSPHT_FLAG_W,CFC-11,CFC-11_FLAG_W,CFC-12,CFC-12_FLAG_W,TRITUM,TRITUM_FLAG_W,HELIUM,HELIUM_FLAG_W,DELHE3,DELHE3_FLAG_W,DELC14,DELC14_FLAG_W,DELC13,DELC13_FLAG_W,NEON,NEON_FLAG_W,TCARBN,TCARBN_FLAG_W,ALKALI,ALKALI_FLAG_W,C14ERR,DELHER,HELIER,NEONER,TRITER
,,,,,,,,,,,,,DBAR,IPTS-68,PSS-78,,PSS-78,,UMOL/KG,,IPTS-68,UMOL/KG,,UMOL/KG,,UMOL/KG,,UMOL/KG,,UMOL/KG,,PMOL/KG,,PMOL/KG,,TU,,NMOL/KG,,PERCNT,,/MILLE,,/MILLE,,NMOL/KG,,UMOL/KG,,UMOL/KG,,/MILLE,PERCNT,NMOL/KG,NMOL/KG,TU
     316N145_5,  I09S,    95,  1,     36, SIH035,2,19950104,1421,-60.4000, 114.9917, 4485,  224.0,     17.1,   0.9407,  33.8738,2,  33.8768,2,    359.6,2,  0.9400,    343.7,2,    32.90,2,    26.35,2,     0.26,2,     1.74,2, -999.000,9, -999.000,9, -999.000,5,-999.0000,5,  -999.00,9,   -999.0,9,  -999.00,9,-999.000,9,   -999.0,9,   -999.0,9,  -999.0, -999.00,-999.0000,-999.000,-999.000
     316N145_5,  I09S,    95,  1,     35, SIH032,2,19950104,1421,-60.4000, 114.9917, 4485,  349.5,     29.8,   0.9393,  33.8743,2,  33.8784,2,    355.9,2,  0.9381,    344.4,2,    32.89,2,    26.33,2,     0.26,2,     1.74,2, -999.000,9, -999.000,9, -999.000,5,-999.0000,5,  -999.00,9,   -999.0,9,  -999.00,9,-999.000,9,   -999.0,9,   -999.0,9,  -999.0, -999.00,-999.0000,-999.000,-999.000
     316N145_5,  I09S,    95,  1,     34, SIH029,2,19950104,1421,-60.4000, 114.9917, 4485,  608.2,     55.8,   0.9381,  33.8742,2,  33.8791,2,    350.2,2,  0.9358,    344.7,2,    32.57,2,    26.30,2,     0.26,2,     1.74,2, -999.000,9, -999.000,9, -999.000,5,-999.0000,5,  -999.00,9,   -999.0,9,  -999.00,9,-999.000,9,   -999.0,9,   -999.0,9,  -999.0, -999.00,-999.0000,-999.000,-999.000
     316N145_5,  I09S,    95,  1,     33, SIH026,2,19950104,1421,-60.4000, 114.9917, 4485,  897.9,     84.9,  -0.7777,  33.9615,2,  33.9563,2,    353.6,2, -0.7800,    352.3,2,    36.00,2,    27.26,2,     0.19,2,     1.86,2, -999.000,9, -999.000,9, -999.000,5,-999.0000,5,  -999.00,9,   -999.0,9,  -999.00,9,-999.000,9,   -999.0,9,   -999.0,9,  -999.0, -999.00,-999.0000,-999.000,-999.000
     316N145_5,  I09S,    95,  1,     32, SIH023,2,19950104,1421,-60.4000, 114.9917, 4485, 1139.7,    109.3,  -0.9672,  34.0805,2,  34.0527,2,    328.4,2, -0.9701,    326.8,2,    45.67,2,    29.30,2,     0.17,2,     2.02,2, -999.000,9, -999.000,9, -999.000,5,-999.0000,5,  -999.00,9,   -999.0,9,  -999.00,9,-999.000,9,   -999.0,9,   -999.0,9,  -999.0, -999.00,-999.0000,-999.000,-999.000
     316N145_5,  I09S,    95,  1,     31, SIH020,2,19950104,1421,-60.4000, 114.9917, 4485, 1621.7,    157.7,   1.6670,  34.4500,2,  34.4516,2,    194.2,2,  1.6591,    195.3,2,    68.75,2,    34.59,2,     0.01,2,     2.38,2, -999.000,9, -999.000,9, -999.000,5,-999.0000,5,  -999.00,9,   -999.0,9,  -999.00,9,-999.000,9,   -999.0,9,   -999.0,9,  -999.0, -999.00,-999.0000,-999.000,-999.000
     316N145_5,  I09S,    95,  1,     30, SIH017,2,19950104,1421,-60.4000, 114.9917, 4485, 2077.3,    203.6,   1.8664,  34.5273,2,  34.5298,2,    183.1,2,  1.8557,    182.6,2,    73.42,2,    34.40,2,     0.00,2,     2.37,2, -999.000,9, -999.000,9, -999.000,5,-999.0000,5,  -999.00,9,   -999.0,9,  -999.00,9,-999.000,9,   -999.0,9,   -999.0,9,  -999.0, -999.00,-999.0000,-999.000,-999.000
     316N145_5,  I09S,    95,  1,     29, SIH014,2,19950104,1421,-60.4000, 114.9917, 4485, 2622.4,    258.4,   1.7932,  34.5818,2,  34.5802,2,    179.3,2,  1.7797,    180.3,2,    77.00,2,    34.11,2,     0.00,2,     2.35,2, -999.000,9, -999.000,9, -999.000,5,-999.0000,5,  -999.00,9,   -999.0,9,  -999.00,9,-999.000,9,   -999.0,9,   -999.0,9,  -999.0, -999.00,-999.0000,-999.000,-999.000
     316N145_5,  I09S,    95,  1,     28, SIH011,2,19950104,1421,-60.4000, 114.9917, 4485, 3106.5,    307.1,   1.9000,  34.6244,2,  34.6264,2,    176.7,2,  1.8835,    177.7,2,    79.33,2,    33.61,2,     0.00,2,     2.31,2, -999.000,9, -999.000,9, -999.000,5,-999.0000,5,  -999.00,9,   -999.0,9,  -999.00,9,-999.000,9,   -999.0,9,   -999.0,9,  -999.0, -999.00,-999.0000,-999.000,-999.000
     316N145_5,  I09S,    95,  1,     27, SIH008,2,19950104,1421,-60.4000, 114.9917, 4485, 3630.4,    359.8,   1.9637,  34.6540,2,  34.6584,2,    178.3,2,  1.9440,    178.1,2,    80.56,2,    33.08,2,     0.00,2,     2.27,2, -999.000,9, -999.000,9, -999.000,5,-999.0000,5,  -999.00,9,   -999.0,9,  -999.00,9,-999.000,9,   -999.0,9,   -999.0,9,  -999.0, -999.00,-999.0000,-999.000,-999.000
     316N145_5,  I09S,    95,  1,     26, SIH005,2,19950104,1421,-60.4000, 114.9917, 4485, 4129.0,    409.9,   1.9296,  34.6707,2,  34.6730,2,    179.0,2,  1.9071,    180.5,2,    81.49,2,    32.64,2,     0.00,2,     2.24,2, -999.000,9, -999.000,9, -999.000,5,-999.0000,5,  -999.00,9,   -999.0,9,  -999.00,9,-999.000,9,   -999.0,9,   -999.0,9,  -999.0, -999.00,-999.0000,-999.000,-999.000
     316N145_5,  I09S,    95,  1,     25, SIH019,2,19950104,1421,-60.4000, 114.9917, 4485, 4615.6,    458.9,   1.9156,  34.6824,2,  34.6812,2,    177.8,2,  1.8903,    181.7,2,    82.41,2,    32.40,2,     0.00,2,     2.23,2, -999.000,9, -999.000,9, -999.000,5,-999.0000,5,  -999.00,9,   -999.0,9,  -999.00,9,-999.000,9,   -999.0,9,   -999.0,9,  -999.0, -999.00,-999.0000,-999.000,-999.000
     316N145_5,  I09S,    95,  1,     24, SIH037,2,19950104,1421,-60.4000, 114.9917, 4485, 5047.6,    502.3,   1.8992,  34.6923,2,  34.6950,2,    185.1,2,  1.8714,    183.3,2,    83.18,2,    32.12,2,     0.00,2,     2.20,2, -999.000,9, -999.000,9, -999.000,5,-999.0000,5,  -999.00,9,   -999.0,9,  -999.00,9,-999.000,9,   -999.0,9,   -999.0,9,  -999.0, -999.00,-999.0000,-999.000,-999.000
     316N145_5,  I09S,    95,  1,     23, SIH033,2,19950104,1421,-60.4000, 114.9917, 4485, 6097.7,    608.0,   1.8539,  34.7127,2,  34.7148,2,    186.7,2,  1.8199,    187.1,2,    84.72,2,    31.47,2,     0.00,2,     2.16,2, -999.000,9, -999.000,9, -999.000,5,-999.0000,5,  -999.00,9,   -999.0,9,  -999.00,9,-999.000,9,   -999.0,9,   -999.0,9,  -999.0, -999.00,-999.0000,-999.000,-999.000
     316N145_5,  I09S,    95,  1,     22, SIH031,2,19950104,1421,-60.4000, 114.9917, 4485, 7095.4,    708.3,   1.8307,  34.7270,2,  34.7307,2,    188.7,2,  1.7906,    190.3,2,    85.96,2,    31.09,2,     0.00,2,     2.13,2, -999.000,9, -999.000,9, -999.000,5,-999.0000,5,  -999.00,9,   -999.0,9,  -999.00,9,-999.000,9,   -999.0,9,   -999.0,9,  -999.0, -999.00,-999.0000,-999.000,-999.000
     316N145_5,  I09S,    95,  1,     21, SIH030,2,19950104,1421,-60.4000, 114.9917, 4485, 8047.9,    804.1,   1.7903,  34.7339,2,  34.7368,2,    191.1,2,  1.7444,    192.7,2,    87.35,2,    30.90,2,     0.00,2,     2.11,2, -999.000,9, -999.000,9, -999.000,5,-999.0000,5,  -999.00,9,   -999.0,9,  -999.00,9,-999.000,9,   -999.0,9,   -999.0,9,  -999.0, -999.00,-999.0000,-999.000,-999.000
     316N145_5,  I09S,    95,  1,     20, SIH028,2,19950104,1421,-60.4000, 114.9917, 4485, 9123.1,    912.3,   1.7534,  34.7398,2,  34.7429,2,    193.8,2,  1.7007,    194.8,2,    88.59,2,    30.67,2,    -0.01,2,     2.10,2, -999.000,9, -999.000,9, -999.000,5,-999.0000,5,  -999.00,9,   -999.0,9,  -999.00,9,-999.000,9,   -999.0,9,   -999.0,9,  -999.0, -999.00,-999.0000,-999.000,-999.000
     316N145_5,  I09S,    95,  1,     19, SIH027,2,19950104,1421,-60.4000, 114.9917, 4485,10166.3,   1017.2,   1.6350,  34.7388,2,  34.7421,2,    197.5,2,  1.5763,    197.4,2,    91.07,2,    30.69,2,    -0.01,2,     2.10,2, -999.000,9, -999.000,9, -999.000,5,-999.0000,5,  -999.00,9,   -999.0,9,  -999.00,9,-999.000,9,   -999.0,9,   -999.0,9,  -999.0, -999.00,-999.0000,-999.000,-999.000
     316N145_5,  I09S,    95,  1,     18, SIH003,2,19950104,1421,-60.4000, 114.9917, 4485,11141.4,   1115.3,   1.5582,  34.7388,2,  34.7414,2,    196.5,2,  1.4937,    198.0,2,    93.78,2,    30.65,2,     0.00,2,     2.10,2, -999.000,9, -999.000,9, -999.000,5,-999.0000,5,  -999.00,9,   -999.0,9,  -999.00,9,-999.000,9,   -999.0,9,   -999.0,9,  -999.0, -999.00,-999.0000,-999.000,-999.000
     316N145_5,  I09S,    95,  1,     17, SIH024,2,19950104,1421,-60.4000, 114.9917, 4485,12181.2,   1219.9,   1.4846,  34.7385,2,  34.7416,2,    197.7,2,  1.4136,    197.8,2,    93.54,2,    30.65,2,     0.00,2,     2.10,2, -999.000,9, -999.000,9, -999.000,5,-999.0000,5,  -999.00,9,   -999.0,9,  -999.00,9,-999.000,9,   -999.0,9,   -999.0,9,  -999.0, -999.00,-999.0000,-999.000,-999.000
     316N145_5,  I09S,    95,  1,     16, SIH022,2,19950104,1421,-60.4000, 114.9917, 4485,14212.7,   1424.2,   1.3229,  34.7334,2,  34.7349,2,    198.0,2,  1.2395,    201.7,2,   100.31,2,    30.82,2,     0.00,2,     2.11,2, -999.000,9, -999.000,9, -999.000,5,-999.0000,5,  -999.00,9,   -999.0,9,  -999.00,9,-999.000,9,   -999.0,9,   -999.0,9,  -999.0, -999.00,-999.0000,-999.000,-999.000
     316N145_5,  I09S,    95,  1,     15, SIH021,2,19950104,1421,-60.4000, 114.9917, 4485,16205.2,   1624.6,   1.1242,  34.7236,2,  34.7270,2,    202.3,2,  1.0289,    203.5,2,   106.16,2,    31.17,2,    -0.01,2,     2.14,2, -999.000,9, -999.000,9, -999.000,5,-999.0000,5,  -999.00,9,   -999.0,9,  -999.00,9,-999.000,9,   -999.0,9,   -999.0,9,  -999.0, -999.00,-999.0000,-999.000,-999.000
     316N145_5,  I09S,    95,  1,     14, SIH002,2,19950104,1421,-60.4000, 114.9917, 4485,18317.8,   1837.1,   0.9613,  34.7162,2,  34.7174,2,    202.7,2,  0.8527,    205.5,2,   111.14,2,    31.49,2,    -0.01,2,     2.16,2, -999.000,9, -999.000,9, -999.000,5,-999.0000,5,  -999.00,9,   -999.0,9,  -999.00,9,-999.000,9,   -999.0,9,   -999.0,9,  -999.0, -999.00,-999.0000,-999.000,-999.000
     316N145_5,  I09S,    95,  1,     13, SIH018,2,19950104,1421,-60.4000, 114.9917, 4485,20321.7,   2038.7,   0.8295,  34.7090,2,  34.7144,3,    203.8,2,  0.7078,    206.1,2,   112.53,2,    31.66,2,     0.00,2,     2.18,2, -999.000,9, -999.000,9, -999.000,5,-999.0000,5,  -999.00,9,   -999.0,9,  -999.00,9,-999.000,9,   -999.0,9,   -999.0,9,  -999.0, -999.00,-999.0000,-999.000,-999.000
     316N145_5,  I09S,    95,  1,     12, SIH016,2,19950104,1421,-60.4000, 114.9917, 4485,22266.6,   2234.3,   0.7032,  34.7015,2,  34.7028,2,    206.2,2,  0.5684,    208.5,2,   118.45,2,    31.98,2,     0.00,2,     2.20,2, -999.000,9, -999.000,9, -999.000,5,-999.0000,5,  -999.00,9,   -999.0,9,  -999.00,9,-999.000,9,   -999.0,9,   -999.0,9,  -999.0, -999.00,-999.0000,-999.000,-999.000
     316N145_5,  I09S,    95,  1,     11, SIH015,2,19950104,1421,-60.4000, 114.9917, 4485,24294.1,   2438.3,   0.5563,  34.6959,2,  34.6973,2,    206.6,2,  0.4080,    210.5,2,   121.97,2,    32.23,2,     0.00,2,     2.21,2, -999.000,9, -999.000,9, -999.000,5,-999.0000,5,  -999.00,9,   -999.0,9,  -999.00,9,-999.000,9,   -999.0,9,   -999.0,9,  -999.0, -999.00,-999.0000,-999.000,-999.000
     316N145_5,  I09S,    95,  1,     10, SIH013,2,19950104,1421,-60.4000, 114.9917, 4485,27332.3,   2743.9,   0.3974,  34.6890,2,  34.6910,2,    212.0,2,  0.2270,    214.8,2,   125.47,2,    32.29,2,     0.00,2,     2.22,2, -999.000,9, -999.000,9, -999.000,5,-999.0000,5,  -999.00,9,   -999.0,9,  -999.00,9,-999.000,9,   -999.0,9,   -999.0,9,  -999.0, -999.00,-999.0000,-999.000,-999.000
     316N145_5,  I09S,    95,  1,      9, SIH012,2,19950104,1421,-60.4000, 114.9917, 4485,30397.8,   3052.2,   0.2270,  34.6834,2,  34.6844,2,    217.7,2,  0.0338,    220.7,2,   128.24,2,    32.33,2,     0.00,2,     2.23,2, -999.000,9, -999.000,9, -999.000,5,-999.0000,5,  -999.00,9,   -999.0,9,  -999.00,9,-999.000,9,   -999.0,9,   -999.0,9,  -999.0, -999.00,-999.0000,-999.000,-999.000
     316N145_5,  I09S,    95,  1,      8, SIH010,2,19950104,1421,-60.4000, 114.9917, 4485,33445.3,   3358.8,   0.1224,  34.6786,2,  34.6800,2,    222.2,2, -0.0957,    224.2,2,   128.69,2,    32.30,2,     0.00,2,     2.23,2, -999.000,9, -999.000,9, -999.000,5,-999.0000,5,  -999.00,9,   -999.0,9,  -999.00,9,-999.000,9,   -999.0,9,   -999.0,9,  -999.0, -999.00,-999.0000,-999.000,-999.000
     316N145_5,  I09S,    95,  1,      7, SIH009,2,19950104,1421,-60.4000, 114.9917, 4485,35412.1,   3556.6,   0.0629,  34.6778,2,  34.6779,2,    224.8,2, -0.1720,    227.4,2,   127.90,2,    32.26,2,     0.00,2,     2.22,2, -999.000,9, -999.000,9, -999.000,5,-999.0000,5,  -999.00,9,   -999.0,9,  -999.00,9,-999.000,9,   -999.0,9,   -999.0,9,  -999.0, -999.00,-999.0000,-999.000,-999.000
     316N145_5,  I09S,    95,  1,      6, SIH038,2,19950104,1421,-60.4000, 114.9917, 4485,37426.9,   3759.3,   0.0056,  34.6746,2,  34.6761,2,    227.0,2, -0.2471,    230.1,2,   127.73,2,    32.24,2,     0.00,2,     2.22,2, -999.000,9, -999.000,9, -999.000,5,-999.0000,5,  -999.00,9,   -999.0,9,  -999.00,9,-999.000,9,   -999.0,9,   -999.0,9,  -999.0, -999.00,-999.0000,-999.000,-999.000
     316N145_5,  I09S,    95,  1,      5, SIH006,2,19950104,1421,-60.4000, 114.9917, 4485,39479.0,   3965.7,  -0.0407,  34.6730,2,  34.6741,2,    230.9,2, -0.3123,    232.1,2,   126.94,2,    32.10,2,     0.00,2,     2.22,2, -999.000,9, -999.000,9, -999.000,5,-999.0000,5,  -999.00,9,   -999.0,9,  -999.00,9,-999.000,9,   -999.0,9,   -999.0,9,  -999.0, -999.00,-999.0000,-999.000,-999.000
     316N145_5,  I09S,    95,  1,      4, SIH004,2,19950104,1421,-60.4000, 114.9917, 4485,41485.7,   4167.6,  -0.0728,  34.6719,2,  34.6728,2,    233.9,2, -0.3637,    234.1,2,   126.61,2,    32.07,2,     0.00,2,     2.22,2, -999.000,9, -999.000,9, -999.000,5,-999.0000,5,  -999.00,9,   -999.0,9,  -999.00,9,-999.000,9,   -999.0,9,   -999.0,9,  -999.0, -999.00,-999.0000,-999.000,-999.000
     316N145_5,  I09S,    95,  1,      3, SIH025,2,19950104,1421,-60.4000, 114.9917, 4485,43550.4,   4375.2,  -0.1087,  34.6706,2,  34.6714,2,    235.2,2, -0.4200,    236.7,2,   125.50,2,    31.99,2,     0.00,2,     2.21,2, -999.000,9, -999.000,9, -999.000,5,-999.0000,5,  -999.00,9,   -999.0,9,  -999.00,9,-999.000,9,   -999.0,9,   -999.0,9,  -999.0, -999.00,-999.0000,-999.000,-999.000
     316N145_5,  I09S,    95,  1,      2, SIH001,2,19950104,1421,-60.4000, 114.9917, 4485,44493.3,   4470.1,  -0.1465,  34.6688,2,  34.6692,2,    238.0,2, -0.4666,    238.1,2,   127.52,2,    31.81,2,     0.00,2,     2.21,2, -999.000,9, -999.000,9, -999.000,5,-999.0000,5,  -999.00,9,   -999.0,9,  -999.00,9,-999.000,9,   -999.0,9,   -999.0,9,  -999.0, -999.00,-999.0000,-999.000,-999.000
     316N145_5,  I09S,    95,  1,      1, SIH036,2,19950104,1421,-60.4000, 114.9917, 4485,45033.6,   4524.4,  -0.1462,  34.6680,2,  34.6710,2,    238.4,2, -0.4720,    238.2,2,   128.57,2,    31.89,2,     0.00,2,     2.20,2, -999.000,9, -999.000,9, -999.000,5,-999.0000,5,  -999.00,9,   -999.0,9,  -999.00,9,-999.000,9,   -999.0,9,   -999.0,9,  -999.0, -999.00,-999.0000,-999.000,-999.000