BOTTLE,20090521WHPSIOdm
EXPOCODE,SECT_ID,STNNBR,CASTNO,SAMPNO,BTLNBR,BTLNBR_FLAG_W,DATE,TIME,LATITUDE,LONGITUDE,DEPTH,CTDRAW,CTDPRS,CTDTMP,CTDSAL,CTDSAL_FLAG_W,SALNTY,SALNTY_FLAG_W,CTDOXY,CTDOXY_FLAG_W,THETA,OXYGEN,OXYGEN_FLAG_W,SILCAT,SILCAT_FLAG_W,NITRAT,NITRAT_FLAG_W,NITRIT,NITRIT_FLAG_W,PHSPHT,PHSPHT_FLAG_W,CFC-11,CFC-11_FLAG_W,CFC-12,CFC-12_FLAG_W,TRITUM,TRITUM_FLAG_W,HELIUM,HELIUM_FLAG_W,DELHE3,DELHE3_FLAG_W,DELC14,DELC14_FLAG_W,DELC13,DELC13_FLAG_W,NEON,NEON_FLAG_W,TCARBN,TCARBN_FLAG_W,ALKALI,ALKALI_FLAG_W,C14ERR,DELHER,HELIER,NEONER,TRITER
,,,,,,,,,,,,,DBAR,IPTS-68,PSS-78,,PSS-78,,UMOL/KG,,IPTS-68,UMOL/KG,,UMOL/KG,,UMOL/KG,,UMOL/KG,,UMOL/KG,,PMOL/KG,,PMOL/KG,,TU,,NMOL/KG,,PERCNT,,/MILLE,,/MILLE,,NMOL/KG,,UMOL/KG,,UMOL/KG,,/MILLE,PERCNT,NMOL/KG,NMOL/KG,TU
     316N145_5,  I08S,    55,  1,     36, SIH035,2,19941220,1711,-53.1222,  87.5000, 4615,  237.9,     19.2,   3.8382,  33.9036,2,  33.9058,2,    328.5,2,  3.8370,    320.7,2,     2.46,2,    20.58,2,     0.20,2,     1.54,2,    5.329,2,    2.616,2, -999.000,5,-999.0000,5,  -999.00,9,   -999.0,9,  -999.00,9,-999.000,9,   -999.0,9,   -999.0,9,  -999.0, -999.00,-999.0000,-999.000,-999.000
     316N145_5,  I08S,    55,  1,     35, SIH032,2,19941220,1711,-53.1222,  87.5000, 4615,  390.4,     34.5,   3.8496,  33.9069,2,  33.9081,2,    322.8,2,  3.8473,    320.9,2,     2.45,2,    20.61,2,     0.21,2,     1.54,2,    5.342,2,    2.630,2, -999.000,5,-999.0000,5,  -999.00,9,   -999.0,9,  -999.00,9,-999.000,9,   -999.0,9,   -999.0,9,  -999.0, -999.00,-999.0000,-999.000,-999.000
     316N145_5,  I08S,    55,  1,     34, SIH029,2,19941220,1711,-53.1222,  87.5000, 4615,  634.5,     59.1,   3.8174,  33.9111,2,  33.9126,2,    316.0,2,  3.8135,    320.0,2,     2.79,2,    20.70,2,     0.21,2,     1.54,2,    5.364,2,    2.612,2, -999.000,5,-999.0000,5,  -999.00,9,   -999.0,9,  -999.00,9,-999.000,9,   -999.0,9,   -999.0,9,  -999.0, -999.00,-999.0000,-999.000,-999.000
     316N145_5,  I08S,    55,  1,     33, SIH026,2,19941220,1711,-53.1222,  87.5000, 4615,  875.9,     83.3,   3.5249,  33.9173,2,  33.9169,2,    322.9,2,  3.5196,    321.5,2,     3.45,2,    21.07,2,     0.20,2,     1.56,2,    5.401,2,    2.676,2, -999.000,5,-999.0000,5,  -999.00,9,   -999.0,9,  -999.00,9,-999.000,9,   -999.0,9,   -999.0,9,  -999.0, -999.00,-999.0000,-999.000,-999.000
     316N145_5,  I08S,    55,  1,     32, SIH023,2,19941220,1711,-53.1222,  87.5000, 4615, 1122.6,    108.2,   2.9471,  33.9292,2,  33.9312,2,    326.5,2,  2.9406,    311.8,2,    12.66,2,    24.05,2,     0.18,2,     1.85,2,    5.494,6,    2.687,6, -999.000,5,-999.0000,5,  -999.00,9,   -999.0,9,  -999.00,9,-999.000,9,   -999.0,9,   -999.0,9,  -999.0, -999.00,-999.0000,-999.000,-999.000
     316N145_5,  I08S,    55,  1,     31, SIH020,2,19941220,1711,-53.1222,  87.5000, 4615, 1645.6,    160.8,   2.5314,  34.0140,2,  34.0000,2,    302.5,2,  2.5223,    298.9,2,    20.69,2,    27.35,2,     0.13,2,     1.96,2,    5.156,2,    2.465,2, -999.000,5,-999.0000,5,  -999.00,9,   -999.0,9,  -999.00,9,-999.000,9,   -999.0,9,   -999.0,9,  -999.0, -999.00,-999.0000,-999.000,-999.000
     316N145_5,  I08S,    55,  1,     30, SIH017,2,19941220,1711,-53.1222,  87.5000, 4615, 2139.4,    210.4,   2.9890,  34.1222,2,  34.1225,2,    269.3,2,  2.9762,    266.8,2,    25.21,2,    28.89,2,     0.05,2,     2.01,2,    3.882,2,    1.886,2, -999.000,5,-999.0000,5,  -999.00,9,   -999.0,9,  -999.00,9,-999.000,9,   -999.0,9,   -999.0,9,  -999.0, -999.00,-999.0000,-999.000,-999.000
     316N145_5,  I08S,    55,  1,     29, SIH014,2,19941220,1711,-53.1222,  87.5000, 4615, 2620.2,    258.8,   2.5390,  34.1648,2,  34.1691,2,    251.2,2,  2.5241,    253.2,2,    33.08,2,    30.61,2,     0.01,2,     2.12,2,    3.356,2,    1.617,2, -999.000,5,-999.0000,5,  -999.00,9,   -999.0,9,  -999.00,9,-999.000,9,   -999.0,9,   -999.0,9,  -999.0, -999.00,-999.0000,-999.000,-999.000
     316N145_5,  I08S,    55,  1,     28, SIH011,2,19941220,1711,-53.1222,  87.5000, 4615, 3098.2,    306.9,   1.8818,  34.1693,2,  34.1952,2,    245.5,2,  1.8657,    248.4,2,    40.44,2,    31.49,2,     0.05,2,     2.18,2,    3.182,2,    1.559,2, -999.000,5,-999.0000,5,  -999.00,9,   -999.0,9,  -999.00,9,-999.000,9,   -999.0,9,   -999.0,9,  -999.0, -999.00,-999.0000,-999.000,-999.000
     316N145_5,  I08S,    55,  1,     27, SIH008,2,19941220,1711,-53.1222,  87.5000, 4615, 3590.1,    356.4,   1.3051,  34.1720,2,  34.1777,2,    276.0,2,  1.2879,    261.9,2,    45.63,2,    31.60,2,     0.11,2,     2.20,2,    3.742,2,    1.825,2, -999.000,5,-999.0000,5,  -999.00,9,   -999.0,9,  -999.00,9,-999.000,9,   -999.0,9,   -999.0,9,  -999.0, -999.00,-999.0000,-999.000,-999.000
     316N145_5,  I08S,    55,  1,     26, SIH005,2,19941220,1711,-53.1222,  87.5000, 4615, 4061.5,    403.8,   2.3732,  34.3340,2,  34.3364,2,    217.0,2,  2.3499,    208.8,2,    52.65,2,    33.50,2,     0.01,2,     2.31,2,    1.759,2,    0.821,2, -999.000,5,-999.0000,5,  -999.00,9,   -999.0,9,  -999.00,9,-999.000,9,   -999.0,9,   -999.0,9,  -999.0, -999.00,-999.0000,-999.000,-999.000
     316N145_5,  I08S,    55,  1,     25, SIH019,2,19941220,1711,-53.1222,  87.5000, 4615, 4529.0,    450.8,   2.2447,  34.3667,2,  34.3678,2,    204.6,2,  2.2189,    203.6,2,    57.17,2,    34.00,2,     0.01,2,     2.34,2,    1.651,2,    0.802,2, -999.000,5,-999.0000,5,  -999.00,9,   -999.0,9,  -999.00,9,-999.000,9,   -999.0,9,   -999.0,9,  -999.0, -999.00,-999.0000,-999.000,-999.000
     316N145_5,  I08S,    55,  1,     24, SIH037,2,19941220,1711,-53.1222,  87.5000, 4615, 5081.8,    506.4,   2.4209,  34.4335,2,  34.4367,2,    190.3,2,  2.3909,    189.0,2,    61.85,2,    34.39,2,     0.00,2,     2.36,2,    1.012,2,    0.488,2, -999.000,5,-999.0000,5,  -999.00,9,   -999.0,9,  -999.00,9,-999.000,9,   -999.0,9,   -999.0,9,  -999.0, -999.00,-999.0000,-999.000,-999.000
     316N145_5,  I08S,    55,  1,     23, SIH033,2,19941220,1711,-53.1222,  87.5000, 4615, 6016.7,    600.4,   2.3904,  34.5094,2,  34.5111,2,    182.0,2,  2.3544,    180.1,2,    68.04,2,    34.34,2,     0.00,2,     2.36,2,    0.657,2,    0.315,2, -999.000,5,-999.0000,5,  -999.00,9,   -999.0,9,  -999.00,9,-999.000,9,   -999.0,9,   -999.0,9,  -999.0, -999.00,-999.0000,-999.000,-999.000
     316N145_5,  I08S,    55,  1,     22, SIH031,2,19941220,1711,-53.1222,  87.5000, 4615, 7101.1,    709.5,   2.3915,  34.5749,2,  34.5757,2,    176.4,2,  2.3483,    177.2,2,    71.89,2,    33.73,2,     0.00,2,     2.32,2,    0.404,2,    0.195,2, -999.000,5,-999.0000,5,  -999.00,9,   -999.0,9,  -999.00,9,-999.000,9,   -999.0,9,   -999.0,9,  -999.0, -999.00,-999.0000,-999.000,-999.000
     316N145_5,  I08S,    55,  1,     21, SIH030,2,19941220,1711,-53.1222,  87.5000, 4615, 8114.4,    811.4,   2.3685,  34.6254,2,  34.6252,2,    176.9,2,  2.3185,    178.0,2,    73.89,2,    32.90,2,     0.00,2,     2.27,2,    0.265,2,    0.125,2, -999.000,5,-999.0000,5,  -999.00,9,   -999.0,9,  -999.00,9,-999.000,9,   -999.0,9,   -999.0,9,  -999.0, -999.00,-999.0000,-999.000,-999.000
     316N145_5,  I08S,    55,  1,     20, SIH028,2,19941220,1711,-53.1222,  87.5000, 4615, 9101.5,    910.7,   2.3484,  34.6491,2,  34.6515,2,    178.7,2,  2.2916,    178.9,2,    75.22,2,    32.46,2,     0.00,2,     2.24,2,    0.212,2,    0.098,2, -999.000,5,-999.0000,5,  -999.00,9,   -999.0,9,  -999.00,9,-999.000,9,   -999.0,9,   -999.0,9,  -999.0, -999.00,-999.0000,-999.000,-999.000
     316N145_5,  I08S,    55,  1,     19, SIH027,3,19941220,1711,-53.1222,  87.5000, 4615,10249.5,   1026.2,   2.2095,  34.6727,2,  34.6547,4,    183.6,2,  2.1456,    181.1,3,    78.23,3,    32.19,3,     0.00,3,     2.22,3,    0.257,3,    0.114,3, -999.000,5,-999.0000,5,  -999.00,9,   -999.0,9,  -999.00,9,-999.000,9,   -999.0,9,   -999.0,9,  -999.0, -999.00,-999.0000,-999.000,-999.000
     316N145_5,  I08S,    55,  1,     18, SIH003,2,19941220,1711,-53.1222,  87.5000, 4615,11159.7,   1117.7,   2.2091,  34.7029,2,  34.7040,2,    184.2,2,  2.1387,    184.6,2,    78.90,2,    31.35,2,     0.00,2,     2.16,2,    0.152,2,    0.075,2, -999.000,5,-999.0000,5,  -999.00,9,   -999.0,9,  -999.00,9,-999.000,9,   -999.0,9,   -999.0,9,  -999.0, -999.00,-999.0000,-999.000,-999.000
     316N145_5,  I08S,    55,  1,     17, SIH024,2,19941220,1711,-53.1222,  87.5000, 4615,12171.8,   1219.6,   2.1618,  34.7237,2,  34.7231,2,    186.7,2,  2.0844,    188.5,2,    79.89,2,    30.73,2,     0.00,2,     2.12,2,    0.105,2,    0.042,2, -999.000,5,-999.0000,5,  -999.00,9,   -999.0,9,  -999.00,9,-999.000,9,   -999.0,9,   -999.0,9,  -999.0, -999.00,-999.0000,-999.000,-999.000
     316N145_5,  I08S,    55,  1,     16, SIH022,2,19941220,1711,-53.1222,  87.5000, 4615,14143.8,   1417.9,   2.0161,  34.7448,2,  34.7475,2,    192.4,2,  1.9254,    194.4,2,    83.23,2,    29.95,2,     0.00,2,     2.08,2,    0.088,2,    0.051,2, -999.000,5,-999.0000,5,  -999.00,9,   -999.0,9,  -999.00,9,-999.000,9,   -999.0,9,   -999.0,9,  -999.0, -999.00,-999.0000,-999.000,-999.000
     316N145_5,  I08S,    55,  1,     15, SIH021,2,19941220,1711,-53.1222,  87.5000, 4615,16220.1,   1626.8,   1.8308,  34.7523,2,  34.7539,2,    195.5,2,  1.7263,    198.3,2,    88.42,2,    29.83,2,     0.00,2,     2.07,2,    0.052,2,    0.026,2, -999.000,5,-999.0000,5,  -999.00,9,   -999.0,9,  -999.00,9,-999.000,9,   -999.0,9,   -999.0,9,  -999.0, -999.00,-999.0000,-999.000,-999.000
     316N145_5,  I08S,    55,  1,     14, SIH002,2,19941220,1711,-53.1222,  87.5000, 4615,18170.5,   1822.9,   1.6487,  34.7469,2,  34.7486,2,    199.5,2,  1.5314,    200.0,2,    93.45,2,    30.16,2,     0.00,2,     2.09,2,    0.068,2,    0.033,2, -999.000,5,-999.0000,5,  -999.00,9,   -999.0,9,  -999.00,9,-999.000,9,   -999.0,9,   -999.0,9,  -999.0, -999.00,-999.0000,-999.000,-999.000
     316N145_5,  I08S,    55,  1,     13, SIH018,2,19941220,1711,-53.1222,  87.5000, 4615,20053.1,   2012.3,   1.4798,  34.7412,2,  34.7423,2,    201.4,2,  1.3499,    201.8,2,    98.13,2,    30.44,2,     0.00,2,     2.11,2,    0.076,2,    0.031,2, -999.000,5,-999.0000,5,  -999.00,9,   -999.0,9,  -999.00,9,-999.000,9,   -999.0,9,   -999.0,9,  -999.0, -999.00,-999.0000,-999.000,-999.000
     316N145_5,  I08S,    55,  1,     12, SIH016,2,19941220,1711,-53.1222,  87.5000, 4615,22109.6,   2219.2,   1.3349,  34.7351,2,  34.7366,2,    202.9,2,  1.1904,    203.8,2,   102.64,2,    30.77,2,     0.00,2,     2.13,2,    0.072,2,    0.036,2, -999.000,5,-999.0000,5,  -999.00,9,   -999.0,9,  -999.00,9,-999.000,9,   -999.0,9,   -999.0,9,  -999.0, -999.00,-999.0000,-999.000,-999.000
     316N145_5,  I08S,    55,  1,     11, SIH015,2,19941220,1711,-53.1222,  87.5000, 4615,24271.1,   2436.6,   1.1571,  34.7256,2,  34.7258,2,    204.2,2,  0.9977,    204.8,2,   107.84,2,    31.21,2,     0.00,2,     2.16,2,    0.126,3,    0.039,2, -999.000,5,-999.0000,5,  -999.00,9,   -999.0,9,  -999.00,9,-999.000,9,   -999.0,9,   -999.0,9,  -999.0, -999.00,-999.0000,-999.000,-999.000
     316N145_5,  I08S,    55,  1,     10, SIH013,2,19941220,1711,-53.1222,  87.5000, 4615,27316.8,   2742.9,   0.9040,  34.7115,2,  34.7117,2,    208.1,2,  0.7231,    207.9,2,   115.53,2,    31.77,2,     0.00,2,     2.19,2,    0.109,2,    0.062,2, -999.000,5,-999.0000,5,  -999.00,9,   -999.0,9,  -999.00,9,-999.000,9,   -999.0,9,   -999.0,9,  -999.0, -999.00,-999.0000,-999.000,-999.000
     316N145_5,  I08S,    55,  1,      9, SIH012,2,19941220,1711,-53.1222,  87.5000, 4615,30264.9,   3039.5,   0.6568,  34.6961,2,  34.6983,2,    211.5,2,  0.4550,    210.4,2,   121.56,2,    32.32,2,     0.00,2,     2.23,2,    0.132,2,    0.063,2, -999.000,5,-999.0000,5,  -999.00,9,   -999.0,9,  -999.00,9,-999.000,9,   -999.0,9,   -999.0,9,  -999.0, -999.00,-999.0000,-999.000,-999.000
     316N145_5,  I08S,    55,  1,      8, SIH010,2,19941220,1711,-53.1222,  87.5000, 4615,33192.5,   3334.0,   0.5058,  34.6884,2,  34.6879,2,    212.7,2,  0.2805,    213.1,2,   124.41,2,    32.67,2,     0.00,2,     2.24,2,    0.169,2,    0.073,2, -999.000,5,-999.0000,5,  -999.00,9,   -999.0,9,  -999.00,9,-999.000,9,   -999.0,9,   -999.0,9,  -999.0, -999.00,-999.0000,-999.000,-999.000
     316N145_5,  I08S,    55,  1,      7, SIH009,2,19941220,1711,-53.1222,  87.5000, 4615,36279.8,   3644.5,   0.3839,  34.6851,2,  34.6855,2,    218.3,2,  0.1321,    218.3,2,   125.91,2,    32.55,2,     0.00,2,     2.24,2, -999.000,9, -999.000,9, -999.000,5,-999.0000,5,  -999.00,9,   -999.0,9,  -999.00,9,-999.000,9,   -999.0,9,   -999.0,9,  -999.0, -999.00,-999.0000,-999.000,-999.000
     316N145_5,  I08S,    55,  1,      6, SIH038,2,19941220,1711,-53.1222,  87.5000, 4615,39331.0,   3951.4,   0.2232,  34.6785,2,  34.6779,2,    222.6,2, -0.0545,    223.5,2,   127.07,2,    32.60,2,     0.00,2,     2.24,2,    0.448,2,    0.211,2, -999.000,5,-999.0000,5,  -999.00,9,   -999.0,9,  -999.00,9,-999.000,9,   -999.0,9,   -999.0,9,  -999.0, -999.00,-999.0000,-999.000,-999.000
     316N145_5,  I08S,    55,  1,      5, SIH006,2,19941220,1711,-53.1222,  87.5000, 4615,41291.7,   4148.7,   0.1657,  34.6779,2,  34.6769,2,    225.3,2, -0.1304,    225.9,2,   128.08,2,    32.54,2,     0.00,2,     2.24,2,    0.545,2,    0.253,2, -999.000,5,-999.0000,5,  -999.00,9,   -999.0,9,  -999.00,9,-999.000,9,   -999.0,9,   -999.0,9,  -999.0, -999.00,-999.0000,-999.000,-999.000
     316N145_5,  I08S,    55,  1,      4, SIH004,2,19941220,1711,-53.1222,  87.5000, 4615,43481.7,   4369.0,   0.1342,  34.6749,2,  34.6757,2,    227.8,2, -0.1840,    227.5,2,   128.25,2,    32.60,2,     0.00,2,     2.24,2,    0.610,2,    0.290,2, -999.000,5,-999.0000,5,  -999.00,9,   -999.0,9,  -999.00,9,-999.000,9,   -999.0,9,   -999.0,9,  -999.0, -999.00,-999.0000,-999.000,-999.000
     316N145_5,  I08S,    55,  1,      3, SIH025,2,19941220,1711,-53.1222,  87.5000, 4615,44521.9,   4473.6,   0.1270,  34.6753,2,  34.6737,2,    228.6,2, -0.2021,    228.5,2,   128.40,2,    32.53,2,     0.00,2,     2.24,2,    0.646,6,    0.304,6, -999.000,5,-999.0000,5,  -999.00,9,   -999.0,9,  -999.00,9,-999.000,9,   -999.0,9,   -999.0,9,  -999.0, -999.00,-999.0000,-999.000,-999.000
     316N145_5,  I08S,    55,  1,      2, SIH001,2,19941220,1711,-53.1222,  87.5000, 4615,45622.4,   4584.3,   0.1353,  34.6751,2,  34.6745,2,    228.2,2, -0.2059,    228.1,2,   128.57,2,    32.53,2,     0.00,2,     2.24,2,    0.636,2,    0.314,2, -999.000,5,-999.0000,5,  -999.00,9,   -999.0,9,  -999.00,9,-999.000,9,   -999.0,9,   -999.0,9,  -999.0, -999.00,-999.0000,-999.000,-999.000
     316N145_5,  I08S,    55,  1,      1, SIH036,2,19941220,1711,-53.1222,  87.5000, 4615,46206.5,   4643.0,   0.1384,  34.6750,2,  34.6720,2,    228.9,3, -0.2094,    228.3,2,   128.67,2,    32.44,2,     0.00,2,     2.24,2,    0.647,2,    0.322,2, -999.000,5,-999.0000,5,  -999.00,9,   -999.0,9,  -999.00,9,-999.000,9,   -999.0,9,   -999.0,9,  -999.0, -999.00,-999.0000,-999.000,-999.000