BOTTLE,20090521WHPSIOdm
EXPOCODE,SECT_ID,STNNBR,CASTNO,SAMPNO,BTLNBR,BTLNBR_FLAG_W,DATE,TIME,LATITUDE,LONGITUDE,DEPTH,CTDRAW,CTDPRS,CTDTMP,CTDSAL,CTDSAL_FLAG_W,SALNTY,SALNTY_FLAG_W,CTDOXY,CTDOXY_FLAG_W,THETA,OXYGEN,OXYGEN_FLAG_W,SILCAT,SILCAT_FLAG_W,NITRAT,NITRAT_FLAG_W,NITRIT,NITRIT_FLAG_W,PHSPHT,PHSPHT_FLAG_W,CFC-11,CFC-11_FLAG_W,CFC-12,CFC-12_FLAG_W,TRITUM,TRITUM_FLAG_W,HELIUM,HELIUM_FLAG_W,DELHE3,DELHE3_FLAG_W,DELC14,DELC14_FLAG_W,DELC13,DELC13_FLAG_W,NEON,NEON_FLAG_W,TCARBN,TCARBN_FLAG_W,ALKALI,ALKALI_FLAG_W,C14ERR,DELHER,HELIER,NEONER,TRITER
,,,,,,,,,,,,,DBAR,IPTS-68,PSS-78,,PSS-78,,UMOL/KG,,IPTS-68,UMOL/KG,,UMOL/KG,,UMOL/KG,,UMOL/KG,,UMOL/KG,,PMOL/KG,,PMOL/KG,,TU,,NMOL/KG,,PERCNT,,/MILLE,,/MILLE,,NMOL/KG,,UMOL/KG,,UMOL/KG,,/MILLE,PERCNT,NMOL/KG,NMOL/KG,TU
     316N145_5,  I08S,     7,  1,     24, SIH037,2,19941207,0414,-32.0083,  95.0167, 4165,  169.5,     12.4,  19.2683,  35.8075,2,  35.8086,2,    241.2,2, 19.2661,    235.2,2,     0.41,2,    -0.17,2,     0.00,2,     0.16,2,    2.566,2,    1.352,2,    1.070,2,   1.8090,3,    -1.69,2,   -999.0,9,  -999.00,9,   7.303,3,   2062.8,6,   2351.8,2,  -999.0,    0.16,  0.0030,   0.031,   0.013
     316N145_5,  I08S,     7,  1,     23, SIH033,2,19941207,0414,-32.0083,  95.0167, 4165,  365.8,     32.1,  18.5605,  35.7825,2,  35.7736,2,    235.5,2, 18.5549,    237.7,2,     0.43,2,    -0.17,2,     0.00,2,     0.17,2,    2.592,6,    1.385,6,    0.997,2,   1.7420,2,    -1.61,2,   -999.0,9,  -999.00,9,   7.094,2,   2064.6,2,   -999.0,9,  -999.0,    0.17,  0.0030,   0.041,   0.013
     316N145_5,  I08S,     7,  1,     22, SIH031,2,19941207,0414,-32.0083,  95.0167, 4165,  616.0,     57.2,  17.6663,  35.7963,2,  35.7943,2,    246.3,2, 17.6565,    243.9,2,     0.62,2,    -0.05,2,     0.00,2,     0.17,2,    2.424,2,    1.345,2,   -0.028,4,   1.7290,2,    -1.35,2,   -999.0,9,  -999.00,9,   7.043,2,   2060.6,2,   2356.6,2,  -999.0,    0.16,  0.0030,   0.034,   0.005
     316N145_5,  I08S,     7,  1,     21, SIH030,2,19941207,0414,-32.0083,  95.0167, 4165, 1112.9,    107.2,  16.1024,  35.6903,2,  35.6954,2,    248.1,2, 16.0853,    248.3,2,     0.63,2,     0.03,2,     0.00,2,     0.20,2,    2.925,2,    1.512,2,    0.926,2,   1.7390,2,    -1.52,2,   -999.0,9,  -999.00,9,   7.174,2,   2063.2,2,   2342.9,2,  -999.0,    0.17,  0.0030,   0.023,   0.012
     316N145_5,  I08S,     7,  1,     20, SIH028,2,19941207,0414,-32.0083,  95.0167, 4165, 2108.8,    207.3,  13.8685,  35.4249,2,  35.4243,2,    238.6,2, 13.8386,    240.9,2,     0.99,2,     3.52,2,     0.19,2,     0.45,2,    3.192,2,    1.620,2,    0.909,2,   1.7710,2,     1.44,3,   -999.0,9,  -999.00,9,   7.330,2,   2084.0,2,   2328.4,2,  -999.0,    0.14,  0.0030,   0.031,   0.014
     316N145_5,  I08S,     7,  1,     19, SIH027,2,19941207,0414,-32.0083,  95.0167, 4165, 3114.7,    308.4,  12.2052,  35.1537,2,  35.1543,2,    238.2,2, 12.1643,    239.5,2,     1.85,2,     7.67,2,     0.01,2,     0.68,2,    3.419,2,    1.658,2,    0.738,2,   1.8260,2,    -1.17,2,   -999.0,9,  -999.00,9,   7.572,2,   2097.0,2,   2312.4,2,  -999.0,    0.17,  0.0030,   0.044,   0.010
     316N145_5,  I08S,     7,  1,     18, SIH003,2,19941207,0414,-32.0083,  95.0167, 4165, 4114.8,    409.0,  10.9688,  34.9476,2,  34.9469,2,    243.7,2, 10.9180,    241.4,2,     3.04,2,    11.07,2,     0.01,2,     0.88,2,    3.363,2,    1.602,2,   -0.024,4,   1.7960,2,    -0.94,2,   -999.0,9,  -999.00,9,   7.531,2,   2103.8,2,   2305.2,2,  -999.0,    0.16,  0.0020,   0.023,   0.005
     316N145_5,  I08S,     7,  1,     17, SIH024,2,19941207,0414,-32.0083,  95.0167, 4165, 5105.8,    508.7,  10.2320,  34.8305,2,  34.8294,2,    246.0,2, 10.1714,    245.3,2,     3.56,2,    12.70,2,     0.00,2,     0.98,2,    3.425,2,    1.631,2,    0.585,2,   1.8610,2,    -0.87,2,   -999.0,9,  -999.00,9,   7.843,2,   2106.6,2,   2296.6,2,  -999.0,    0.17,  0.0030,   0.032,   0.009
     316N145_5,  I08S,     7,  1,     16, SIH022,2,19941207,0414,-32.0083,  95.0167, 4165, 6109.8,    609.6,   9.5068,  34.7127,2,  34.7131,2,    244.2,2,  9.4371,    239.5,2,     4.90,2,    15.50,2,     0.00,2,     1.14,2,    3.056,2,    1.485,2,    0.317,2,   1.8350,2,    -0.54,2,   -999.0,9,  -999.00,9,   7.764,2,   2114.7,2,   2289.9,2,  -999.0,    0.16,  0.0030,   0.030,   0.007
     316N145_5,  I08S,     7,  1,     15, SIH021,2,19941207,0414,-32.0083,  95.0167, 4165, 8108.5,    810.6,   7.6574,  34.5221,2,  34.5199,2,    212.8,2,  7.5747,    205.9,2,    13.14,2,    23.62,2,     0.00,2,     1.63,2, -999.000,9, -999.000,9,    0.363,2,-999.0000,5,  -999.00,9,   -999.0,9,  -999.00,9,-999.000,9,   2149.1,2,   2292.9,2,  -999.0, -999.00,-999.0000,-999.000,   0.007
     316N145_5,  I08S,     7,  1,     14, SIH002,2,19941207,0414,-32.0083,  95.0167, 4165,10111.3,   1012.1,   4.7776,  34.3906,2,  34.3912,2,    190.0,2,  4.6951,    191.3,2,    35.31,2,    30.94,2,     0.00,2,     2.13,2,    0.515,2,    0.256,2,    0.066,2,   1.8670,2,     3.92,2,   -999.0,9,  -999.00,9,   8.009,2,   2195.6,2,   2307.6,2,  -999.0,    0.12,  0.0020,   0.048,   0.005
     316N145_5,  I08S,     7,  1,     13, SIH018,2,19941207,0414,-32.0083,  95.0167, 4165,12107.4,   1212.9,   3.8484,  34.4695,2,  34.4707,2,    165.7,2,  3.7562,    163.1,2,    60.32,2,    34.16,2,     0.00,2,     2.38,2,    0.120,2,    0.069,2,    0.022,2,   1.8280,2,     7.27,2,   -999.0,9,  -999.00,9,   7.875,2,   2238.1,2,   -999.0,9,  -999.0,    0.17,  0.0030,   0.022,   0.006
     316N145_5,  I08S,     7,  1,     12, SIH016,2,19941207,0414,-32.0083,  95.0167, 4165,14126.0,   1415.9,   3.4066,  34.5411,2,  34.5408,2,    154.4,2,  3.3014,    153.1,2,    73.74,2,    35.03,2,     0.00,2,     2.44,2,    0.035,2,    0.016,2,    0.005,2,   1.9250,3,     9.12,2,   -999.0,9,  -999.00,9,   8.215,3,   2256.2,2,   2346.7,2,  -999.0,    0.12,  0.0020,   0.026,   0.005
     316N145_5,  I08S,     7,  1,     11, SIH015,2,19941207,0414,-32.0083,  95.0167, 4165,16129.3,   1617.4,   3.0304,  34.5930,2,  34.5938,2,    156.9,2,  2.9123,    160.1,2,    80.30,2,    34.80,2,     0.00,2,     2.42,2,    0.011,2,    0.005,2,    0.000,5,   1.8480,2,    10.46,2,   -999.0,9,  -999.00,9,   7.918,2,   2261.6,6,   2347.1,2,  -999.0,    0.15,  0.0030,   0.025,   0.000
     316N145_5,  I08S,     7,  1,     10, SIH013,2,19941207,0414,-32.0083,  95.0167, 4165,19156.6,   1921.9,   2.5717,  34.6764,2,  34.6781,2,    165.1,2,  2.4333,    165.1,2,    88.35,2,    33.52,2,     0.00,2,     2.33,2,    0.006,2,   -0.001,2,    0.096,4,   1.8860,2,    11.40,2,   -999.0,9,  -999.00,9,   8.071,2,   2264.4,2,   2354.9,2,  -999.0,    0.12,  0.0020,   0.032,   0.005
     316N145_5,  I08S,     7,  1,      9, SIH012,2,19941207,0414,-32.0083,  95.0167, 4165,22158.9,   2223.9,   2.2931,  34.7169,2,  34.7170,2,    177.9,2,  2.1323,    177.2,2,    89.87,2,    32.24,2,     0.00,2,     2.23,2,    0.014,3,    0.005,2,    0.131,4,   1.9290,2,    11.77,2,   -999.0,9,  -999.00,9,   8.263,2,   2258.7,2,   2359.2,2,  -999.0,    0.10,  0.0030,   0.023,   0.005
     316N145_5,  I08S,     7,  1,      8, SIH010,2,19941207,0414,-32.0083,  95.0167, 4165,25194.1,   2529.2,   1.9997,  34.7399,2,  34.7414,2,    191.2,2,  1.8164,    189.9,2,    91.90,2,    31.15,2,     0.00,2,     2.15,2,    0.014,3,   -0.001,2,    0.038,4,   1.9950,3,    11.94,2,   -999.0,9,  -999.00,9,-999.000,5,   2252.9,2,   2356.6,2,  -999.0,    0.13,  0.0030,-999.000,   0.005
     316N145_5,  I08S,     7,  1,      7, SIH009,2,19941207,0414,-32.0083,  95.0167, 4165,28236.9,   2835.3,   1.7144,  34.7407,2,  34.7408,2,    196.5,2,  1.5083,    195.9,2,    99.13,2,    31.24,2,     0.00,2,     2.15,2,    0.030,4,    0.029,4,    0.078,4,   1.9120,2,    11.63,2,   -999.0,9,  -999.00,9,   8.221,2,   2255.4,2,   -999.0,9,  -999.0,    0.10,  0.0030,   0.040,   0.005
     316N145_5,  I08S,     7,  1,      6, SIH038,2,19941207,0414,-32.0083,  95.0167, 4165,31268.8,   3140.3,   1.4716,  34.7348,2,  34.7343,2,    199.5,2,  1.2417,    199.3,2,   106.18,2,    31.43,2,     0.00,2,     2.17,2,    0.010,3,    0.007,3,   -0.004,2,   2.5290,4,     8.75,3,   -999.0,9,  -999.00,9,  10.330,4,   2256.7,2,   2366.6,2,  -999.0,    0.13,  0.0030,  20.062,   0.005
     316N145_5,  I08S,     7,  1,      5, SIH006,2,19941207,0414,-32.0083,  95.0167, 4165,34298.6,   3445.0,   1.3013,  34.7286,2,  34.7272,2,    201.0,2,  1.0454,    201.8,2,   111.39,2,    31.74,2,     0.00,2,     2.18,2, -999.000,9, -999.000,9,    0.005,2,   1.9300,2,    10.55,2,   -999.0,9,  -999.00,9,   8.310,2,   2260.1,2,   2380.8,3,  -999.0,    0.16,  0.0040,   0.034,   0.005
     316N145_5,  I08S,     7,  1,      4, SIH004,2,19941207,0414,-32.0083,  95.0167, 4165,37326.3,   3749.6,   1.1925,  34.7227,2,  34.7223,2,    202.6,2,  0.9084,    203.1,2,   114.92,2,    31.97,2,     0.00,2,     2.20,2,    0.012,3,    0.007,3,    0.087,4,   2.2310,4,     9.51,2,   -999.0,9,  -999.00,9,   9.349,4,   2263.4,2,   2370.6,2,  -999.0,    0.13,  0.0030,   0.044,   0.005
     316N145_5,  I08S,     7,  1,      3, SIH025,2,19941207,0414,-32.0083,  95.0167, 4165,40393.0,   4058.1,   1.0681,  34.7155,2,  34.7150,2,    205.2,2,  0.7550,    205.3,2,   118.46,2,    32.13,2,     0.00,2,     2.21,2,    0.006,2,    0.001,2,    0.000,5,   1.9430,2,    10.23,2,   -999.0,9,  -999.00,9,   8.352,2,   2265.0,2,   2371.4,2,  -999.0,    0.16,  0.0040,   0.052,   0.000
     316N145_5,  I08S,     7,  1,      2, SIH001,2,19941207,0414,-32.0083,  95.0167, 4165,41426.5,   4162.0,   1.0312,  34.7131,2,  34.7131,2,    205.7,2,  0.7080,    206.3,2,   119.64,2,    32.18,2,     0.00,2,     2.22,2,    0.005,2,    0.001,2,    0.156,4,   2.0590,3,     9.82,2,   -999.0,9,  -999.00,9,   8.765,3,   2266.1,2,   2372.4,2,  -999.0,    0.13,  0.0030,   0.040,   0.008
     316N145_5,  I08S,     7,  1,      1, SIH036,2,19941207,0414,-32.0083,  95.0167, 4165,42331.3,   4253.0,   1.0178,  34.7137,2,  34.7123,2,    204.8,2,  0.6850,    206.7,2,   119.74,2,    32.18,2,     0.00,2,     2.21,2,   -0.005,2,   -0.004,2,    0.000,5,   1.8160,3,    10.51,2,   -999.0,9,  -999.00,9,   7.428,4,   2266.0,6,   2372.2,2,  -999.0,    0.16,  0.0040,   0.036,   0.000
     316N145_5,  I08S,     8,  1,     24, SIH037,2,19941207,1108,-32.5112,  95.0028, 4250,  179.4,     13.7,  19.3077,  35.8068,2,  35.8084,2,    244.2,2, 19.3052,    233.1,2,     0.99,2,     0.11,2,     0.00,2,     0.17,2,    2.562,2,    1.364,2, -999.000,5,-999.0000,5,  -999.00,9,   -999.0,9,  -999.00,9,-999.000,9,   2063.8,6,   -999.0,9,  -999.0, -999.00,-999.0000,-999.000,-999.000
     316N145_5,  I08S,     8,  1,     23, SIH033,2,19941207,1108,-32.5112,  95.0028, 4250,  382.9,     34.2,  18.8107,  35.8067,2,  35.7910,2,    244.7,2, 18.8047,    237.9,2,     1.04,2,     0.07,2,     0.00,2,     0.17,2,    2.625,2,    1.365,2, -999.000,5,-999.0000,5,  -999.00,9,   -999.0,9,  -999.00,9,-999.000,9,   2062.1,2,   2353.1,2,  -999.0, -999.00,-999.0000,-999.000,-999.000
     316N145_5,  I08S,     8,  1,     22, SIH031,2,19941207,1108,-32.5112,  95.0028, 4250,  627.8,     58.8,  16.9646,  35.6809,2,  35.6786,2,    256.7,2, 16.9549,    248.9,2,     1.07,2,     0.04,2,     0.00,2,     0.18,2,    2.835,2,    1.436,2, -999.000,5,-999.0000,5,  -999.00,9,   -999.0,9,  -999.00,9,-999.000,9,   -999.0,9,   2345.2,2,  -999.0, -999.00,-999.0000,-999.000,-999.000
     316N145_5,  I08S,     8,  1,     21, SIH030,2,19941207,1108,-32.5112,  95.0028, 4250, 1178.5,    114.2,  15.2802,  35.5719,2,  35.5721,2,    247.1,2, 15.2627,    242.7,2,     1.11,2,     0.70,2,     0.34,2,     0.28,2,    2.988,2,    1.517,2, -999.000,5,-999.0000,5,  -999.00,9,   -999.0,9,  -999.00,9,-999.000,9,   2073.1,2,   2346.6,2,  -999.0, -999.00,-999.0000,-999.000,-999.000
     316N145_5,  I08S,     8,  1,     20, SIH028,2,19941207,1108,-32.5112,  95.0028, 4250, 2168.2,    213.7,  13.2828,  35.3044,2,  35.3029,2,    229.0,2, 13.2528,    232.4,2,     2.33,2,     6.12,2,     0.01,2,     0.60,2,    3.215,2,    1.567,2, -999.000,5,-999.0000,5,  -999.00,9,   -999.0,9,  -999.00,9,-999.000,9,   2094.7,2,   2318.6,2,  -999.0, -999.00,-999.0000,-999.000,-999.000
     316N145_5,  I08S,     8,  1,     19, SIH027,2,19941207,1108,-32.5112,  95.0028, 4250, 3164.5,    313.9,  11.7497,  35.0685,2,  35.0693,2,    239.8,2, 11.7091,    238.7,2,     3.39,2,     9.26,2,     0.00,2,     0.78,2,    3.438,2,    1.646,2, -999.000,5,-999.0000,5,  -999.00,9,   -999.0,9,  -999.00,9,-999.000,9,   2102.1,2,   2309.4,2,  -999.0, -999.00,-999.0000,-999.000,-999.000
     316N145_5,  I08S,     8,  1,     18, SIH003,2,19941207,1108,-32.5112,  95.0028, 4250, 4166.9,    414.7,  10.9770,  34.9512,2,  34.9502,2,    245.8,2, 10.9254,    244.4,2,     3.76,2,    10.62,2,     0.00,2,     0.86,2, -999.000,9, -999.000,9, -999.000,5,-999.0000,5,  -999.00,9,   -999.0,9,  -999.00,9,-999.000,9,   2102.7,2,   -999.0,9,  -999.0, -999.00,-999.0000,-999.000,-999.000
     316N145_5,  I08S,     8,  1,     17, SIH024,2,19941207,1108,-32.5112,  95.0028, 4250, 5135.5,    512.1,  10.0595,  34.8022,2,  34.8039,2,    241.5,2,  9.9991,    241.0,2,     4.65,2,    13.32,2,     0.00,2,     1.03,2,    3.345,2,    1.590,2, -999.000,5,-999.0000,5,  -999.00,9,   -999.0,9,  -999.00,9,-999.000,9,   2110.4,2,   -999.0,9,  -999.0, -999.00,-999.0000,-999.000,-999.000
     316N145_5,  I08S,     8,  1,     16, SIH022,2,19941207,1108,-32.5112,  95.0028, 4250, 6113.5,    610.4,   9.3640,  34.6901,2,  34.6930,2,    237.3,2,  9.2947,    238.3,2,     5.87,2,    15.85,2,     0.00,2,     1.18,2, -999.000,9, -999.000,9, -999.000,5,-999.0000,5,  -999.00,9,   -999.0,9,  -999.00,9,-999.000,9,   2117.5,2,   2302.1,2,  -999.0, -999.00,-999.0000,-999.000,-999.000
     316N145_5,  I08S,     8,  1,     15, SIH021,2,19941207,1108,-32.5112,  95.0028, 4250, 8227.0,    823.0,   6.6181,  34.4614,2,  34.4640,2,    200.4,2,  6.5406,    198.1,2,    20.56,2,    25.94,2,     0.00,2,     1.83,2,    1.004,2,    0.505,2, -999.000,5,-999.0000,5,  -999.00,9,   -999.0,9,  -999.00,9,-999.000,9,   2165.9,2,   2299.2,2,  -999.0, -999.00,-999.0000,-999.000,-999.000
     316N145_5,  I08S,     8,  1,     14, SIH002,2,19941207,1108,-32.5112,  95.0028, 4250,10335.3,   1035.0,   4.3701,  34.4083,2,  34.4080,2,    181.2,2,  4.2888,    182.1,2,    44.67,2,    31.62,2,     0.00,2,     2.23,2,    0.335,2,    0.168,2, -999.000,5,-999.0000,5,  -999.00,9,   -999.0,9,  -999.00,9,-999.000,9,   2211.4,2,   -999.0,9,  -999.0, -999.00,-999.0000,-999.000,-999.000
     316N145_5,  I08S,     8,  1,     13, SIH018,2,19941207,1108,-32.5112,  95.0028, 4250,12256.9,   1228.3,   3.8244,  34.4762,2,  34.4752,2,    163.6,2,  3.7311,    161.1,2,    62.53,2,    33.63,2,     0.00,2,     2.40,2, -999.000,9, -999.000,9, -999.000,5,-999.0000,5,  -999.00,9,   -999.0,9,  -999.00,9,-999.000,9,   2240.4,2,   -999.0,9,  -999.0, -999.00,-999.0000,-999.000,-999.000
     316N145_5,  I08S,     8,  1,     12, SIH016,2,19941207,1108,-32.5112,  95.0028, 4250,14471.2,   1451.0,   3.4287,  34.5392,2,  34.5404,2,    154.5,2,  3.3202,    152.7,2,    74.51,2,    34.36,2,     0.00,2,     2.44,2, -999.000,9, -999.000,9, -999.000,5,-999.0000,5,  -999.00,9,   -999.0,9,  -999.00,9,-999.000,9,   2256.4,2,   2340.7,2,  -999.0, -999.00,-999.0000,-999.000,-999.000
     316N145_5,  I08S,     8,  1,     11, SIH015,2,19941207,1108,-32.5112,  95.0028, 4250,17344.2,   1740.0,   2.9883,  34.6075,2,  34.6087,2,    154.9,2,  2.8601,    154.6,2,    83.28,2,    34.06,2,     0.00,2,     2.42,2, -999.000,9, -999.000,9, -999.000,5,-999.0000,5,  -999.00,9,   -999.0,9,  -999.00,9,-999.000,9,   2266.7,6,   2355.2,2,  -999.0, -999.00,-999.0000,-999.000,-999.000
     316N145_5,  I08S,     8,  1,     10, SIH013,2,19941207,1108,-32.5112,  95.0028, 4250,20244.6,   2031.8,   2.5800,  34.6770,2,  34.6783,2,    165.1,2,  2.4318,    165.5,2,    89.37,2,    32.82,2,     0.00,2,     2.34,2, -999.000,9, -999.000,9, -999.000,5,-999.0000,5,  -999.00,9,   -999.0,9,  -999.00,9,-999.000,9,   2264.9,2,   2358.0,2,  -999.0, -999.00,-999.0000,-999.000,-999.000
     316N145_5,  I08S,     8,  1,      9, SIH012,2,19941207,1108,-32.5112,  95.0028, 4250,23185.6,   2327.6,   2.2857,  34.7178,2,  34.7186,2,    178.4,2,  2.1157,    177.5,2,    91.06,2,    31.52,2,     0.00,2,     2.23,2, -999.000,9, -999.000,9, -999.000,5,-999.0000,5,  -999.00,9,   -999.0,9,  -999.00,9,-999.000,9,   2260.1,2,   2361.2,2,  -999.0, -999.00,-999.0000,-999.000,-999.000
     316N145_5,  I08S,     8,  1,      8, SIH010,2,19941207,1108,-32.5112,  95.0028, 4250,26250.5,   2635.9,   1.9939,  34.7397,2,  34.7404,2,    189.7,2,  1.8008,    189.7,2,    93.11,2,    30.59,2,     0.00,2,     2.15,2, -999.000,9, -999.000,9, -999.000,5,-999.0000,5,  -999.00,9,   -999.0,9,  -999.00,9,-999.000,9,   2253.4,2,   2358.8,2,  -999.0, -999.00,-999.0000,-999.000,-999.000
     316N145_5,  I08S,     8,  1,      7, SIH009,2,19941207,1108,-32.5112,  95.0028, 4250,29305.1,   2943.1,   1.7095,  34.7408,2,  34.7380,2,    195.6,2,  1.4933,    194.4,2,    98.52,2,    30.63,2,     0.00,2,     2.16,2,    0.002,3,    0.003,2, -999.000,5,-999.0000,5,  -999.00,9,   -999.0,9,  -999.00,9,-999.000,9,   2254.9,2,   2358.6,2,  -999.0, -999.00,-999.0000,-999.000,-999.000
     316N145_5,  I08S,     8,  1,      6, SIH038,2,19941207,1108,-32.5112,  95.0028, 4250,32366.0,   3251.0,   1.4174,  34.7329,2,  34.7321,2,    198.4,2,  1.1779,    199.7,2,   108.46,2,    30.98,2,     0.00,2,     2.18,2,    0.009,2,    0.001,2, -999.000,5,-999.0000,5,  -999.00,9,   -999.0,9,  -999.00,9,-999.000,9,   2259.3,2,   2366.1,2,  -999.0, -999.00,-999.0000,-999.000,-999.000
     316N145_5,  I08S,     8,  1,      5, SIH006,2,19941207,1108,-32.5112,  95.0028, 4250,35507.5,   3567.0,   1.2874,  34.7270,2,  34.7266,2,    200.8,2,  1.0196,    201.4,2,   112.68,2,    31.18,2,     0.00,2,     2.19,2,    0.011,2,    0.003,2, -999.000,5,-999.0000,5,  -999.00,9,   -999.0,9,  -999.00,9,-999.000,9,   2261.8,2,   2371.6,2,  -999.0, -999.00,-999.0000,-999.000,-999.000
     316N145_5,  I08S,     8,  1,      4, SIH004,2,19941207,1108,-32.5112,  95.0028, 4250,38519.2,   3870.0,   1.1805,  34.7213,2,  34.7207,2,    202.8,2,  0.8842,    203.1,2,   116.07,2,    31.48,2,     0.00,2,     2.20,2,    0.058,3,    0.016,3, -999.000,5,-999.0000,5,  -999.00,9,   -999.0,9,  -999.00,9,-999.000,9,   2263.8,2,   2370.4,2,  -999.0, -999.00,-999.0000,-999.000,-999.000
     316N145_5,  I08S,     8,  1,      3, SIH025,2,19941207,1108,-32.5112,  95.0028, 4250,41508.5,   4170.7,   1.0962,  34.7168,2,  34.7154,2,    204.5,2,  0.7702,    204.7,2,   118.95,2,    31.67,2,     0.00,2,     2.22,2,    0.011,2,    0.009,2, -999.000,5,-999.0000,5,  -999.00,9,   -999.0,9,  -999.00,9,-999.000,9,   2265.6,2,   2371.9,2,  -999.0, -999.00,-999.0000,-999.000,-999.000
     316N145_5,  I08S,     8,  1,      2, SIH001,2,19941207,1108,-32.5112,  95.0028, 4250,42507.5,   4271.2,   1.0807,  34.7152,2,  34.7142,2,    204.8,2,  0.7441,    205.2,2,   119.48,2,    31.55,2,     0.00,2,     2.22,2,    0.007,2,    0.007,2, -999.000,5,-999.0000,5,  -999.00,9,   -999.0,9,  -999.00,9,-999.000,9,   2265.5,2,   2383.2,2,  -999.0, -999.00,-999.0000,-999.000,-999.000
     316N145_5,  I08S,     8,  1,      1, SIH036,2,19941207,1108,-32.5112,  95.0028, 4250,43317.7,   4352.7,   1.0576,  34.7143,2,  34.7131,2,    203.5,2,  0.7127,    205.8,2,   119.77,2,    31.61,2,     0.00,2,     2.22,2,    0.023,3,    0.002,2, -999.000,5,-999.0000,5,  -999.00,9,   -999.0,9,  -999.00,9,-999.000,9,   2266.7,6,   2384.7,2,  -999.0, -999.00,-999.0000,-999.000,-999.000