BOTTLE,20090521WHPSIOdm
EXPOCODE,SECT_ID,STNNBR,CASTNO,SAMPNO,BTLNBR,BTLNBR_FLAG_W,DATE,TIME,LATITUDE,LONGITUDE,DEPTH,CTDRAW,CTDPRS,CTDTMP,CTDSAL,CTDSAL_FLAG_W,SALNTY,SALNTY_FLAG_W,CTDOXY,CTDOXY_FLAG_W,THETA,OXYGEN,OXYGEN_FLAG_W,SILCAT,SILCAT_FLAG_W,NITRAT,NITRAT_FLAG_W,NITRIT,NITRIT_FLAG_W,PHSPHT,PHSPHT_FLAG_W,CFC-11,CFC-11_FLAG_W,CFC-12,CFC-12_FLAG_W,TRITUM,TRITUM_FLAG_W,HELIUM,HELIUM_FLAG_W,DELHE3,DELHE3_FLAG_W,DELC14,DELC14_FLAG_W,DELC13,DELC13_FLAG_W,NEON,NEON_FLAG_W,TCARBN,TCARBN_FLAG_W,ALKALI,ALKALI_FLAG_W,C14ERR,DELHER,HELIER,NEONER,TRITER
,,,,,,,,,,,,,DBAR,IPTS-68,PSS-78,,PSS-78,,UMOL/KG,,IPTS-68,UMOL/KG,,UMOL/KG,,UMOL/KG,,UMOL/KG,,UMOL/KG,,PMOL/KG,,PMOL/KG,,TU,,NMOL/KG,,PERCNT,,/MILLE,,/MILLE,,NMOL/KG,,UMOL/KG,,UMOL/KG,,/MILLE,PERCNT,NMOL/KG,NMOL/KG,TU
     316N145_5,  I08S,    70,  1,     29, SIH014,2,19941225,0921,-58.6112,  82.0083, 1565,  140.5,      8.8,   0.5597,  34.0450,2,  34.0482,2,    343.6,2,  0.5593,    346.7,2,    48.20,2,    28.26,2,     0.31,2,     1.87,2,    6.695,2,    3.114,2, -999.000,5,-999.0000,5,  -999.00,9,   -999.0,9,  -999.00,9,-999.000,9,   2171.7,2,   2302.4,2,  -999.0, -999.00,-999.0000,-999.000,-999.000
     316N145_5,  I08S,    70,  1,     28, SIH011,2,19941225,0921,-58.6112,  82.0083, 1565,  339.8,     28.9,   0.4674,  34.0473,2,  34.0509,2,    347.1,2,  0.4663,    346.7,2,    48.04,2,    28.12,2,     0.30,2,     1.86,2,    6.571,2,    3.071,2, -999.000,5,-999.0000,5,  -999.00,9,   -999.0,9,  -999.00,9,-999.000,9,   2171.1,2,   2300.2,2,  -999.0, -999.00,-999.0000,-999.000,-999.000
     316N145_5,  I08S,    70,  1,     27, SIH008,2,19941225,0921,-58.6112,  82.0083, 1565,  594.6,     54.5,   0.2560,  34.0495,2,  34.0566,2,    348.0,2,  0.2540,    344.7,2,    48.04,2,    28.19,2,     0.28,2,     1.89,2,    6.370,2,    2.990,2, -999.000,5,-999.0000,5,  -999.00,9,   -999.0,9,  -999.00,9,-999.000,9,   2174.1,2,   2318.1,3,  -999.0, -999.00,-999.0000,-999.000,-999.000
     316N145_5,  I08S,    70,  1,     26, SIH005,2,19941225,0921,-58.6112,  82.0083, 1565,  839.8,     79.2,  -0.2581,  34.2085,2,  34.2050,2,    291.9,2, -0.2607,    281.6,2,    60.42,2,    30.75,2,     0.16,2,     2.18,2,    4.377,2,    2.066,2, -999.000,5,-999.0000,5,  -999.00,9,   -999.0,9,  -999.00,9,-999.000,9,   2207.0,2,   2310.4,2,  -999.0, -999.00,-999.0000,-999.000,-999.000
     316N145_5,  I08S,    70,  1,     25, SIH019,2,19941225,0921,-58.6112,  82.0083, 1565, 1094.2,    104.8,   1.2216,  34.4860,2,  34.4699,2,    200.5,2,  1.2168,    198.9,2,    75.57,2,    34.11,2,     0.12,2,     2.39,2,    1.737,2,    0.806,2, -999.000,5,-999.0000,5,  -999.00,9,   -999.0,9,  -999.00,9,-999.000,9,   2245.1,2,   2323.9,2,  -999.0, -999.00,-999.0000,-999.000,-999.000
     316N145_5,  I08S,    70,  1,     24, SIH037,2,19941225,0921,-58.6112,  82.0083, 1565, 1578.6,    153.5,   1.7389,  34.5939,2,  34.5959,2,    176.8,2,  1.7311,    177.9,2,    81.83,2,    34.19,2,     0.04,2,     2.36,2,    0.758,2,    0.361,2, -999.000,5,-999.0000,5,  -999.00,9,   -999.0,9,  -999.00,9,-999.000,9,   2255.4,2,   2341.7,2,  -999.0, -999.00,-999.0000,-999.000,-999.000
     316N145_5,  I08S,    70,  1,     23, SIH033,2,19941225,0921,-58.6112,  82.0083, 1565, 2090.4,    205.0,   1.8997,  34.6508,2,  34.6486,2,    176.0,2,  1.8889,    175.7,2,    84.14,2,    33.54,2,     0.01,2,     2.32,2,    0.454,2,    0.215,2, -999.000,5,-999.0000,5,  -999.00,9,   -999.0,9,  -999.00,9,-999.000,9,   2255.2,2,   2343.5,2,  -999.0, -999.00,-999.0000,-999.000,-999.000
     316N145_5,  I08S,    70,  1,     22, SIH031,2,19941225,0921,-58.6112,  82.0083, 1565, 2571.0,    253.3,   1.8842,  34.6675,2,  34.6675,2,    179.0,2,  1.8707,    178.9,2,    84.31,2,    33.01,2,     0.01,2,     2.28,2,    0.412,2,    0.213,2, -999.000,5,-999.0000,5,  -999.00,9,   -999.0,9,  -999.00,9,-999.000,9,   2250.8,2,   2337.3,2,  -999.0, -999.00,-999.0000,-999.000,-999.000
     316N145_5,  I08S,    70,  1,     21, SIH030,2,19941225,0921,-58.6112,  82.0083, 1565, 3079.1,    304.4,   1.6321,  34.6578,2,  34.6580,2,    188.7,2,  1.6164,    188.1,2,    83.49,2,    32.54,2,     0.01,2,     2.25,2,    0.686,2,    0.326,2, -999.000,5,-999.0000,5,  -999.00,9,   -999.0,9,  -999.00,9,-999.000,9,   2251.0,2,   2342.8,2,  -999.0, -999.00,-999.0000,-999.000,-999.000
     316N145_5,  I08S,    70,  1,     20, SIH028,2,19941225,0921,-58.6112,  82.0083, 1565, 3562.5,    353.1,   1.8470,  34.6944,2,  34.6960,2,    181.9,2,  1.8280,    181.5,2,    85.81,2,    32.44,2,     0.00,2,     2.24,2,    0.330,2,    0.163,2, -999.000,5,-999.0000,5,  -999.00,9,   -999.0,9,  -999.00,9,-999.000,9,   -999.0,9,   -999.0,9,  -999.0, -999.00,-999.0000,-999.000,-999.000
     316N145_5,  I08S,    70,  1,     19, SIH027,2,19941225,0921,-58.6112,  82.0083, 1565, 4083.5,    405.5,   1.8191,  34.7072,2,  34.7079,2,    186.5,2,  1.7972,    187.0,2,    85.48,2,    31.86,2,     0.00,2,     2.20,2,    0.315,2,    0.157,2, -999.000,5,-999.0000,5,  -999.00,9,   -999.0,9,  -999.00,9,-999.000,9,   2247.6,2,   -999.0,9,  -999.0, -999.00,-999.0000,-999.000,-999.000
     316N145_5,  I08S,    70,  1,     18, SIH003,2,19941225,0921,-58.6112,  82.0083, 1565, 4572.0,    454.6,   1.8318,  34.7219,2,  34.7239,2,    185.5,2,  1.8070,    187.3,2,    86.47,2,    31.55,2,     0.00,2,     2.17,2,    0.236,2,    0.111,2, -999.000,5,-999.0000,5,  -999.00,9,   -999.0,9,  -999.00,9,-999.000,9,   -999.0,9,   -999.0,9,  -999.0, -999.00,-999.0000,-999.000,-999.000
     316N145_5,  I08S,    70,  1,     17, SIH024,2,19941225,0921,-58.6112,  82.0083, 1565, 5067.2,    504.4,   1.8296,  34.7314,2,  34.7362,2,    188.3,2,  1.8019,    189.5,2,    87.13,2,    31.23,2,     0.00,2,     2.15,2,    0.090,2,    0.049,2, -999.000,5,-999.0000,5,  -999.00,9,   -999.0,9,  -999.00,9,-999.000,9,   2247.3,2,   2353.8,3,  -999.0, -999.00,-999.0000,-999.000,-999.000
     316N145_5,  I08S,    70,  1,     16, SIH022,2,19941225,0921,-58.6112,  82.0083, 1565, 6077.1,    606.0,   1.7619,  34.7426,2,  34.7343,4,    191.4,2,  1.7284,    189.2,2,    86.98,2,    31.18,2,     0.00,2,     2.15,2,    0.157,2,    0.083,2, -999.000,5,-999.0000,5,  -999.00,9,   -999.0,9,  -999.00,9,-999.000,9,   2244.8,2,   2355.3,3,  -999.0, -999.00,-999.0000,-999.000,-999.000
     316N145_5,  I08S,    70,  1,     15, SIH021,2,19941225,0921,-58.6112,  82.0083, 1565, 7076.3,    706.5,   1.6747,  34.7449,2,  34.7459,2,    194.1,2,  1.6356,    196.1,2,    89.29,2,    30.55,2,     0.00,2,     2.11,2,    0.122,2,    0.061,2, -999.000,5,-999.0000,5,  -999.00,9,   -999.0,9,  -999.00,9,-999.000,9,   2245.2,2,   2347.5,2,  -999.0, -999.00,-999.0000,-999.000,-999.000
     316N145_5,  I08S,    70,  1,     14, SIH002,2,19941225,0921,-58.6112,  82.0083, 1565, 8084.5,    807.9,   1.5532,  34.7421,2,  34.7439,2,    198.1,2,  1.5086,    198.4,2,    92.26,2,    30.65,2,     0.00,2,     2.11,2,    0.143,2,    0.069,2, -999.000,5,-999.0000,5,  -999.00,9,   -999.0,9,  -999.00,9,-999.000,9,   2246.3,2,   2353.5,2,  -999.0, -999.00,-999.0000,-999.000,-999.000
     316N145_5,  I08S,    70,  1,     13, SIH018,2,19941225,0921,-58.6112,  82.0083, 1565, 9084.2,    908.5,   1.4491,  34.7425,2,  34.7433,2,    198.3,2,  1.3989,    200.3,2,    95.24,2,    30.65,2,     0.00,2,     2.11,2,    0.110,2,    0.068,2, -999.000,5,-999.0000,5,  -999.00,9,   -999.0,9,  -999.00,9,-999.000,9,   2247.8,2,   2359.1,2,  -999.0, -999.00,-999.0000,-999.000,-999.000
     316N145_5,  I08S,    70,  1,     12, SIH016,2,19941225,0921,-58.6112,  82.0083, 1565,10100.3,   1010.7,   1.3665,  34.7400,2,  34.7425,2,    198.0,2,  1.3104,    201.7,2,    97.72,2,    30.64,2,     0.00,2,     2.12,2, -999.000,9, -999.000,9, -999.000,5,-999.0000,5,  -999.00,9,   -999.0,9,  -999.00,9,-999.000,9,   -999.0,9,   -999.0,9,  -999.0, -999.00,-999.0000,-999.000,-999.000
     316N145_5,  I08S,    70,  1,     11, SIH015,2,19941225,0921,-58.6112,  82.0083, 1565,11106.0,   1111.8,   1.2682,  34.7338,2,  34.7376,3,    202.2,2,  1.2065,    203.2,2,   100.36,2,    30.75,2,     0.00,2,     2.13,2,    0.093,2,    0.051,2, -999.000,5,-999.0000,5,  -999.00,9,   -999.0,9,  -999.00,9,-999.000,9,   2249.6,2,   2352.6,2,  -999.0, -999.00,-999.0000,-999.000,-999.000
     316N145_5,  I08S,    70,  1,      9, SIH012,2,19941225,0921,-58.6112,  82.0083, 1565,12160.6,   1217.9,   1.1582,  34.7311,2,  34.7329,2,    201.4,2,  1.0906,    202.6,2,   105.48,2,    31.15,2,     0.00,2,     2.16,2,    0.064,2,    0.031,2, -999.000,5,-999.0000,5,  -999.00,9,   -999.0,9,  -999.00,9,-999.000,9,   -999.0,9,   -999.0,9,  -999.0, -999.00,-999.0000,-999.000,-999.000
     316N145_5,  I08S,    70,  1,     10, SIH013,2,19941225,0921,-58.6112,  82.0083, 1565,12179.7,   1219.9,   1.1582,  34.7313,2,  34.7323,2,    200.4,2,  1.0904,    202.3,2,   105.64,2,    31.21,2,     0.00,2,     2.15,2, -999.000,9, -999.000,9, -999.000,5,-999.0000,5,  -999.00,9,   -999.0,9,  -999.00,9,-999.000,9,   -999.0,9,   -999.0,9,  -999.0, -999.00,-999.0000,-999.000,-999.000
     316N145_5,  I08S,    70,  1,      8, SIH010,2,19941225,0921,-58.6112,  82.0083, 1565,13130.6,   1315.5,   1.0853,  34.7282,2,  34.7321,3,    200.0,2,  1.0119,    203.3,2,   109.11,2,    31.35,2,     0.00,2,     2.17,2, -999.000,9, -999.000,9, -999.000,5,-999.0000,5,  -999.00,9,   -999.0,9,  -999.00,9,-999.000,9,   -999.0,9,   -999.0,9,  -999.0, -999.00,-999.0000,-999.000,-999.000
     316N145_5,  I08S,    70,  1,      7, SIH009,2,19941225,0921,-58.6112,  82.0083, 1565,13139.9,   1316.4,   1.0851,  34.7282,2,  34.7298,2,    199.9,2,  1.0116,    202.3,2,   109.28,2,    31.40,2,     0.00,2,     2.17,2, -999.000,9, -999.000,9, -999.000,5,-999.0000,5,  -999.00,9,   -999.0,9,  -999.00,9,-999.000,9,   2254.0,2,   -999.0,9,  -999.0, -999.00,-999.0000,-999.000,-999.000
     316N145_5,  I08S,    70,  1,      5, SIH006,2,19941225,0921,-58.6112,  82.0083, 1565,14119.0,   1414.9,   1.0081,  34.7238,2,  34.7247,2,    203.5,2,  0.9289,    201.9,2,   115.06,2,    31.66,2,     0.00,2,     2.19,2,    0.065,2,    0.044,2, -999.000,5,-999.0000,5,  -999.00,9,   -999.0,9,  -999.00,9,-999.000,9,   -999.0,9,   -999.0,9,  -999.0, -999.00,-999.0000,-999.000,-999.000
     316N145_5,  I08S,    70,  1,      6, SIH038,2,19941225,0921,-58.6112,  82.0083, 1565,14130.0,   1416.0,   1.0067,  34.7236,2,  34.7233,2,    204.0,2,  0.9275,    202.4,2,   114.89,2,    31.66,2,     0.00,2,     2.19,2, -999.000,9, -999.000,9, -999.000,5,-999.0000,5,  -999.00,9,   -999.0,9,  -999.00,9,-999.000,9,   -999.0,9,   -999.0,9,  -999.0, -999.00,-999.0000,-999.000,-999.000
     316N145_5,  I08S,    70,  1,      3, SIH025,2,19941225,0921,-58.6112,  82.0083, 1565,14902.5,   1493.8,   0.9355,  34.7184,2,  34.7201,2,    202.0,2,  0.8517,    201.2,2,   122.82,2,    31.96,2,     0.00,2,     2.21,2, -999.000,9, -999.000,9, -999.000,5,-999.0000,5,  -999.00,9,   -999.0,9,  -999.00,9,-999.000,9,   -999.0,9,   -999.0,9,  -999.0, -999.00,-999.0000,-999.000,-999.000
     316N145_5,  I08S,    70,  1,      4, SIH004,2,19941225,0921,-58.6112,  82.0083, 1565,14903.6,   1493.9,   0.9339,  34.7196,2,  34.7201,2,    203.6,2,  0.8502,    201.1,2,   122.65,2,    31.96,2,     0.00,2,     2.21,2, -999.000,9, -999.000,9, -999.000,5,-999.0000,5,  -999.00,9,   -999.0,9,  -999.00,9,-999.000,9,   -999.0,9,   -999.0,9,  -999.0, -999.00,-999.0000,-999.000,-999.000
     316N145_5,  I08S,    70,  1,      1, SIH036,2,19941225,0921,-58.6112,  82.0083, 1565,15414.2,   1545.2,   0.9240,  34.7196,2,  34.7180,2,    202.6,2,  0.8368,    200.9,2,   125.17,2,    31.97,2,     0.01,2,     2.22,2,    0.062,2,    0.046,2, -999.000,5,-999.0000,5,  -999.00,9,   -999.0,9,  -999.00,9,-999.000,9,   2259.0,2,   2368.5,3,  -999.0, -999.00,-999.0000,-999.000,-999.000
     316N145_5,  I08S,    70,  1,      2, SIH001,2,19941225,0921,-58.6112,  82.0083, 1565,15419.3,   1545.7,   0.9235,  34.7189,2,  34.7184,2,    202.7,2,  0.8363,    200.9,2,   125.30,2,    32.01,2,     0.00,2,     2.22,2, -999.000,9, -999.000,9, -999.000,5,-999.0000,5,  -999.00,9,   -999.0,9,  -999.00,9,-999.000,9,   -999.0,9,   -999.0,9,  -999.0, -999.00,-999.0000,-999.000,-999.000