BOTTLE,20090521WHPSIOdm
EXPOCODE,SECT_ID,STNNBR,CASTNO,SAMPNO,BTLNBR,BTLNBR_FLAG_W,DATE,TIME,LATITUDE,LONGITUDE,DEPTH,CTDRAW,CTDPRS,CTDTMP,CTDSAL,CTDSAL_FLAG_W,SALNTY,SALNTY_FLAG_W,CTDOXY,CTDOXY_FLAG_W,THETA,OXYGEN,OXYGEN_FLAG_W,SILCAT,SILCAT_FLAG_W,NITRAT,NITRAT_FLAG_W,NITRIT,NITRIT_FLAG_W,PHSPHT,PHSPHT_FLAG_W,CFC-11,CFC-11_FLAG_W,CFC-12,CFC-12_FLAG_W,TRITUM,TRITUM_FLAG_W,HELIUM,HELIUM_FLAG_W,DELHE3,DELHE3_FLAG_W,DELC14,DELC14_FLAG_W,DELC13,DELC13_FLAG_W,NEON,NEON_FLAG_W,TCARBN,TCARBN_FLAG_W,ALKALI,ALKALI_FLAG_W,C14ERR,DELHER,HELIER,NEONER,TRITER
,,,,,,,,,,,,,DBAR,IPTS-68,PSS-78,,PSS-78,,UMOL/KG,,IPTS-68,UMOL/KG,,UMOL/KG,,UMOL/KG,,UMOL/KG,,UMOL/KG,,PMOL/KG,,PMOL/KG,,TU,,NMOL/KG,,PERCNT,,/MILLE,,/MILLE,,NMOL/KG,,UMOL/KG,,UMOL/KG,,/MILLE,PERCNT,NMOL/KG,NMOL/KG,TU
     316N145_5,  I08S,    84,  1,     36, SIH035,2,19941228,1114,-63.2612,  82.0112, 2290,  117.9,      6.5,   0.3566,  33.7664,2,  33.7733,2,    337.7,2,  0.3564,    348.1,2,    29.60,2,    24.19,2,     0.30,2,     1.56,2, -999.000,9, -999.000,9, -999.000,5,-999.0000,5,  -999.00,9,    -66.0,2,  -999.00,9,-999.000,9,   2144.3,6,   2287.1,2,     3.5, -999.00,-999.0000,-999.000,-999.000
     316N145_5,  I08S,    84,  1,     35, SIH032,2,19941228,1114,-63.2612,  82.0112, 2290,  296.1,     24.4,   0.0062,  33.7899,2,  33.7991,2,    330.2,2,  0.0054,    348.0,2,    29.93,2,    24.31,2,     0.28,2,     1.59,2, -999.000,9, -999.000,9, -999.000,5,-999.0000,5,  -999.00,9,    -95.7,2,     0.97,2,-999.000,9,   2147.3,2,   -999.0,9,     5.8, -999.00,-999.0000,-999.000,-999.000
     316N145_5,  I08S,    84,  1,     34, SIH029,2,19941228,1114,-63.2612,  82.0112, 2290,  547.2,     49.7,  -1.4003,  33.9373,2,  33.9291,2,    357.3,2, -1.4014,    348.4,2,    34.88,2,    25.96,2,     0.21,2,     1.80,2, -999.000,9, -999.000,9, -999.000,5,-999.0000,5,  -999.00,9,    -99.9,2,     0.86,2,-999.000,9,   2158.0,2,   2303.7,2,     4.2, -999.00,-999.0000,-999.000,-999.000
     316N145_5,  I08S,    84,  1,     33, SIH026,2,19941228,1114,-63.2612,  82.0112, 2290,  801.0,     75.2,  -1.5520,  34.0155,2,  34.0241,2,    334.5,2, -1.5535,    320.7,2,    43.98,2,    28.29,2,     0.22,2,     1.99,2, -999.000,9, -999.000,9, -999.000,5,-999.0000,5,  -999.00,9,   -135.5,2,    -0.56,3,-999.000,9,   2183.8,2,   2311.4,2,     3.6, -999.00,-999.0000,-999.000,-999.000
     316N145_5,  I08S,    84,  1,     32, SIH023,2,19941228,1114,-63.2612,  82.0112, 2290, 1051.4,    100.4,  -0.0037,  34.1778,2,  34.2115,2,    258.9,2, -0.0072,    257.0,2,    57.35,2,    31.58,2,     0.17,2,     2.18,2, -999.000,9, -999.000,9, -999.000,5,-999.0000,5,  -999.00,9,   -113.5,2,     0.56,2,-999.000,9,   2217.0,2,   2315.3,2,     3.0, -999.00,-999.0000,-999.000,-999.000
     316N145_5,  I08S,    84,  1,     31, SIH020,2,19941228,1114,-63.2612,  82.0112, 2290, 1551.6,    150.7,   1.6854,  34.4748,2,  34.4754,2,    180.9,2,  1.6778,    185.1,2,    78.31,2,    34.47,2,     0.04,2,     2.33,2, -999.000,9, -999.000,9, -999.000,5,-999.0000,5,  -999.00,9,   -162.0,2,    -0.50,2,-999.000,9,   2251.6,2,   2323.8,2,     4.8, -999.00,-999.0000,-999.000,-999.000
     316N145_5,  I08S,    84,  1,     30, SIH017,2,19941228,1114,-63.2612,  82.0112, 2290, 2049.7,    200.8,   1.9373,  34.5448,2,  34.5488,2,    167.8,2,  1.9266,    173.1,2,    78.31,2,    34.57,2,     0.04,2,     2.33,2, -999.000,9, -999.000,9, -999.000,5,-999.0000,5,  -999.00,9,   -177.4,2,    -1.28,4,-999.000,9,   2242.9,2,   -999.0,9,     4.4, -999.00,-999.0000,-999.000,-999.000
     316N145_5,  I08S,    84,  1,     29, SIH014,2,19941228,1114,-63.2612,  82.0112, 2290, 2606.5,    256.8,   1.9882,  34.5902,2,  34.5940,2,    166.4,2,  1.9744,    170.5,2,    80.78,2,    34.19,2,     0.04,2,     2.30,2, -999.000,9, -999.000,9, -999.000,5,-999.0000,5,  -999.00,9,   -130.3,2,     0.32,2,-999.000,9,   2260.6,2,   2339.8,2,     2.7, -999.00,-999.0000,-999.000,-999.000
     316N145_5,  I08S,    84,  1,     28, SIH011,2,19941228,1114,-63.2612,  82.0112, 2290, 3109.1,    307.4,   2.0015,  34.6168,2,  34.6201,2,    164.3,2,  1.9847,    170.6,2,    82.26,2,    33.68,2,     0.03,2,     2.27,2, -999.000,9, -999.000,9, -999.000,5,-999.0000,5,  -999.00,9,   -144.9,2,    -0.01,2,-999.000,9,   2261.6,2,   2350.3,2,     4.6, -999.00,-999.0000,-999.000,-999.000
     316N145_5,  I08S,    84,  1,     27, SIH008,2,19941228,1114,-63.2612,  82.0112, 2290, 3606.9,    357.4,   2.0140,  34.6364,2,  34.6399,2,    169.6,2,  1.9943,    171.6,2,    82.58,2,    33.25,2,     0.03,2,     2.25,2, -999.000,9, -999.000,9, -999.000,5,-999.0000,5,  -999.00,9,   -151.9,2,    -0.22,2,-999.000,9,   2259.2,2,   2342.5,2,     2.5, -999.00,-999.0000,-999.000,-999.000
     316N145_5,  I08S,    84,  1,     26, SIH005,2,19941228,1114,-63.2612,  82.0112, 2290, 4103.5,    407.4,   2.0237,  34.6589,2,  34.6627,2,    168.4,2,  2.0011,    174.0,2,    82.92,2,    32.75,2,     0.03,2,     2.20,2, -999.000,9, -999.000,9, -999.000,5,-999.0000,5,  -999.00,9,   -138.5,2,     0.30,2,-999.000,9,   2258.1,6,   2336.7,2,     5.0, -999.00,-999.0000,-999.000,-999.000
     316N145_5,  I08S,    84,  1,     25, SIH019,2,19941228,1114,-63.2612,  82.0112, 2290, 4108.7,    407.9,   2.0240,  34.6590,2,  34.6657,2,    164.4,2,  2.0014,    174.0,2,    83.08,2,    32.72,2,     0.03,2,     2.20,2, -999.000,9, -999.000,9, -999.000,5,-999.0000,5,  -999.00,9,   -147.6,2,    -0.22,2,-999.000,9,   -999.0,9,   2334.0,2,     3.7, -999.00,-999.0000,-999.000,-999.000
     316N145_5,  I08S,    84,  1,     24, SIH037,2,19941228,1114,-63.2612,  82.0112, 2290, 5107.3,    508.3,   2.0283,  34.6939,2,  34.6973,2,    170.1,2,  1.9995,    178.9,2,    83.40,2,    31.96,2,     0.03,2,     2.15,2, -999.000,9, -999.000,9, -999.000,5,-999.0000,5,  -999.00,9,   -132.5,2,     0.34,2,-999.000,9,   2254.1,2,   2344.5,2,     3.3, -999.00,-999.0000,-999.000,-999.000
     316N145_5,  I08S,    84,  1,     23, SIH033,2,19941228,1114,-63.2612,  82.0112, 2290, 6108.5,    609.1,   1.9975,  34.7138,2,  34.7166,2,    172.8,2,  1.9627,    183.3,2,    83.40,2,    31.29,2,     0.02,2,     2.10,2, -999.000,9, -999.000,9, -999.000,5,-999.0000,5,  -999.00,9,   -139.7,2,     0.43,2,-999.000,9,   2252.7,2,   2345.3,2,     2.5, -999.00,-999.0000,-999.000,-999.000
     316N145_5,  I08S,    84,  1,     22, SIH031,2,19941228,1114,-63.2612,  82.0112, 2290, 7119.3,    710.7,   1.9195,  34.7262,2,  34.7307,2,    182.3,2,  1.8787,    185.4,2,    85.72,2,    30.95,2,     0.02,2,     2.08,2, -999.000,9, -999.000,9, -999.000,5,-999.0000,5,  -999.00,9,   -143.2,2,     0.36,2,-999.000,9,   2249.8,2,   2338.4,3,     2.5, -999.00,-999.0000,-999.000,-999.000
     316N145_5,  I08S,    84,  1,     21, SIH030,2,19941228,1114,-63.2612,  82.0112, 2290, 8123.0,    811.7,   1.8510,  34.7331,2,  34.7357,2,    184.7,2,  1.8042,    188.0,2,    87.36,2,    30.76,2,     0.02,2,     2.07,2, -999.000,9, -999.000,9, -999.000,5,-999.0000,5,  -999.00,9,   -139.6,2,     0.46,2,-999.000,9,   2252.3,2,   2351.7,2,     2.5, -999.00,-999.0000,-999.000,-999.000
     316N145_5,  I08S,    84,  1,     20, SIH028,2,19941228,1114,-63.2612,  82.0112, 2290, 9115.5,    911.5,   1.7842,  34.7406,2,  34.7445,2,    182.3,2,  1.7313,    191.4,2,    88.02,2,    30.43,2,     0.02,2,     2.05,2, -999.000,9, -999.000,9, -999.000,5,-999.0000,5,  -999.00,9,   -145.5,2,     0.38,2,-999.000,9,   2246.2,2,   2344.3,3,     2.5, -999.00,-999.0000,-999.000,-999.000
     316N145_5,  I08S,    84,  1,     19, SIH027,2,19941228,1114,-63.2612,  82.0112, 2290,10123.6,   1012.9,   1.7007,  34.7453,2,  34.7482,2,    188.5,2,  1.6418,    195.4,2,    89.67,2,    30.14,2,     0.02,2,     2.03,2, -999.000,9, -999.000,9, -999.000,5,-999.0000,5,  -999.00,9,   -163.7,2,     1.14,4,-999.000,9,   2247.5,2,   2343.8,3,     3.0, -999.00,-999.0000,-999.000,-999.000
     316N145_5,  I08S,    84,  1,     18, SIH003,2,19941228,1114,-63.2612,  82.0112, 2290,11132.5,   1114.4,   1.6117,  34.7446,2,  34.7469,2,    192.0,2,  1.5468,    196.3,2,    92.31,2,    30.18,2,     0.02,2,     2.03,2, -999.000,9, -999.000,9, -999.000,5,-999.0000,5,  -999.00,9,   -148.5,2,     0.41,2,-999.000,9,   2249.2,2,   2360.6,2,     2.7, -999.00,-999.0000,-999.000,-999.000
     316N145_5,  I08S,    84,  1,     17, SIH024,2,19941228,1114,-63.2612,  82.0112, 2290,12135.6,   1215.3,   1.5235,  34.7441,2,  34.7473,2,    187.4,2,  1.4525,    198.7,2,    94.45,2,    30.18,2,     0.02,2,     2.03,2, -999.000,9, -999.000,9, -999.000,5,-999.0000,5,  -999.00,9,   -159.4,2,     0.41,2,-999.000,9,   2250.0,2,   2353.7,2,     6.0, -999.00,-999.0000,-999.000,-999.000
     316N145_5,  I08S,    84,  1,     16, SIH022,2,19941228,1114,-63.2612,  82.0112, 2290,13139.5,   1316.3,   1.4474,  34.7411,2,  34.7451,2,    193.7,2,  1.3701,    199.8,2,    96.11,2,    30.28,2,     0.02,2,     2.04,2, -999.000,9, -999.000,9, -999.000,5,-999.0000,5,  -999.00,9,   -144.7,2,     0.41,2,-999.000,9,   2250.6,2,   2347.3,3,     3.1, -999.00,-999.0000,-999.000,-999.000
     316N145_5,  I08S,    84,  1,     15, SIH021,2,19941228,1114,-63.2612,  82.0112, 2290,14150.0,   1417.9,   1.3383,  34.7373,2,-999.0000,9,    195.3,2,  1.2551,    201.3,2,    99.57,2,    30.38,2,     0.02,2,     2.05,2, -999.000,9, -999.000,9, -999.000,5,-999.0000,5,  -999.00,9,   -147.8,2,     0.51,2,-999.000,9,   2250.6,2,   2358.9,2,     2.9, -999.00,-999.0000,-999.000,-999.000
     316N145_5,  I08S,    84,  1,     14, SIH002,2,19941228,1114,-63.2612,  82.0112, 2290,15154.8,   1519.0,   1.2446,  34.7329,2,  34.7364,2,    194.4,2,  1.1554,    202.3,2,   102.20,2,    30.56,2,     0.02,2,     2.06,2,    0.071,2,    0.033,2, -999.000,5,-999.0000,5,  -999.00,9,   -158.8,2,     0.41,2,-999.000,9,   2251.4,2,   2356.3,2,     4.9, -999.00,-999.0000,-999.000,-999.000
     316N145_5,  I08S,    84,  1,     13, SIH018,2,19941228,1114,-63.2612,  82.0112, 2290,16162.0,   1620.3,   1.1555,  34.7281,2,  34.7292,2,    195.9,2,  1.0601,    202.7,2,   105.01,2,    30.81,2,     0.02,2,     2.07,2,    0.067,2,    0.036,2, -999.000,5,-999.0000,5,  -999.00,9,   -142.7,2,     0.48,2,-999.000,9,   2242.3,2,   2349.8,3,     3.3, -999.00,-999.0000,-999.000,-999.000
     316N145_5,  I08S,    84,  1,     12, SIH016,2,19941228,1114,-63.2612,  82.0112, 2290,17165.8,   1721.3,   1.0528,  34.7223,2,  34.7256,2,    199.6,2,  0.9514,    204.2,2,   108.31,2,    30.99,2,     0.02,2,     2.09,2,    0.065,2,    0.031,2, -999.000,5,-999.0000,5,  -999.00,9,   -147.6,2,     0.47,2,-999.000,9,   2255.1,2,   2357.9,2,     2.6, -999.00,-999.0000,-999.000,-999.000
     316N145_5,  I08S,    84,  1,     11, SIH015,2,19941228,1114,-63.2612,  82.0112, 2290,18174.2,   1822.7,   0.9497,  34.7166,2,  34.7203,2,    202.0,2,  0.8423,    205.8,2,   110.46,2,    30.95,2,     0.01,2,     2.10,2,    0.070,2,    0.041,2, -999.000,5,-999.0000,5,  -999.00,9,   -139.9,2,     0.37,2,-999.000,9,   2257.3,2,   2356.7,2,     2.7, -999.00,-999.0000,-999.000,-999.000
     316N145_5,  I08S,    84,  1,     10, SIH013,2,19941228,1114,-63.2612,  82.0112, 2290,19178.4,   1923.7,   0.8650,  34.7115,2,  34.7142,2,    199.5,2,  0.7514,    206.7,2,   112.60,2,    31.20,2,     0.01,2,     2.11,2,    0.068,2,    0.035,2, -999.000,5,-999.0000,5,  -999.00,9,   -130.4,2,     0.48,2,-999.000,9,   2254.9,2,   -999.0,9,     2.7, -999.00,-999.0000,-999.000,-999.000
     316N145_5,  I08S,    84,  1,      9, SIH012,2,19941228,1114,-63.2612,  82.0112, 2290,20192.4,   2025.7,   0.7847,  34.7071,2,  34.7109,2,    202.3,2,  0.6647,    207.7,2,   114.74,2,    31.38,2,     0.01,2,     2.12,2, -999.000,9, -999.000,9, -999.000,5,-999.0000,5,  -999.00,9,   -123.5,2,     0.42,2,-999.000,9,   2255.9,2,   2356.8,2,     2.7, -999.00,-999.0000,-999.000,-999.000
     316N145_5,  I08S,    84,  1,      8, SIH010,2,19941228,1114,-63.2612,  82.0112, 2290,21204.5,   2127.5,   0.7185,  34.7040,2,  34.7052,2,    204.9,2,  0.5918,    208.6,2,   117.04,2,    31.53,2,     0.01,2,     2.14,2,    0.075,2,    0.052,2, -999.000,5,-999.0000,5,  -999.00,9,   -121.8,2,     0.36,2,-999.000,9,   2259.4,2,   2359.4,2,     2.8, -999.00,-999.0000,-999.000,-999.000
     316N145_5,  I08S,    84,  1,      7, SIH009,2,19941228,1114,-63.2612,  82.0112, 2290,22206.6,   2228.3,   0.6435,  34.6997,2,  34.7011,2,    205.0,2,  0.5103,    209.2,2,   119.36,2,    31.68,2,     0.01,2,     2.15,2,   -0.001,4,    0.041,2, -999.000,5,-999.0000,5,  -999.00,9,   -161.4,2,     0.44,2,-999.000,9,   2260.6,2,   2354.7,2,     4.6, -999.00,-999.0000,-999.000,-999.000
     316N145_5,  I08S,    84,  1,      6, SIH038,2,19941228,1114,-63.2612,  82.0112, 2290,23215.2,   2329.8,   0.5716,  34.6951,2,  34.6975,2,    203.9,2,  0.4316,    210.0,2,   121.67,2,    31.81,2,     0.01,2,     2.16,2,    0.056,2,    0.039,2, -999.000,5,-999.0000,5,  -999.00,9,   -151.4,2,     0.44,2,-999.000,9,   2259.5,2,   2358.3,2,     5.4, -999.00,-999.0000,-999.000,-999.000
     316N145_5,  I08S,    84,  1,      5, SIH006,2,19941228,1114,-63.2612,  82.0112, 2290,25241.3,   2533.6,   0.4719,  34.6899,2,  34.6918,2,    208.9,2,  0.3174,    211.6,2,   126.28,2,    32.05,2,     0.01,2,     2.17,2,    0.050,2,    0.038,2, -999.000,5,-999.0000,5,  -999.00,9,   -157.5,2,     0.42,2,-999.000,9,   2258.6,2,   2360.1,2,     4.1, -999.00,-999.0000,-999.000,-999.000
     316N145_5,  I08S,    84,  1,      4, SIH004,2,19941228,1114,-63.2612,  82.0112, 2290,27266.1,   2737.2,   0.3846,  34.6852,2,  34.6877,2,    209.6,2,  0.2151,    213.4,2,   128.42,2,    32.34,2,     0.01,2,     2.18,2,    0.057,2,    0.040,2, -999.000,5,-999.0000,5,  -999.00,9,   -154.8,2,     0.45,2,-999.000,9,   2259.2,2,   -999.0,9,     2.8, -999.00,-999.0000,-999.000,-999.000
     316N145_5,  I08S,    84,  1,      3, SIH025,2,19941228,1114,-63.2612,  82.0112, 2290,28278.7,   2839.1,   0.3339,  34.6823,2,  34.6848,2,    214.0,2,  0.1568,    214.9,2,   129.09,2,    32.37,2,     0.01,2,     2.18,2,    0.052,2,    0.042,2, -999.000,5,-999.0000,5,  -999.00,9,   -160.8,2,     0.40,2,-999.000,9,   2260.0,2,   2367.1,2,     2.9, -999.00,-999.0000,-999.000,-999.000
     316N145_5,  I08S,    84,  1,      2, SIH001,2,19941228,1114,-63.2612,  82.0112, 2290,29285.8,   2940.4,   0.2842,  34.6793,2,  34.6808,2,    213.1,2,  0.0995,    215.1,2,   133.04,2,    32.49,2,     0.01,2,     2.19,2,    0.057,2,    0.038,2, -999.000,5,-999.0000,5,  -999.00,9,   -158.6,2,     0.46,2,-999.000,9,   2259.8,2,   2361.4,2,     4.8, -999.00,-999.0000,-999.000,-999.000
     316N145_5,  I08S,    84,  1,      1, SIH036,2,19941228,1114,-63.2612,  82.0112, 2290,29799.5,   2992.1,   0.2877,  34.6803,2,  34.6810,2,    214.4,2,  0.0985,    215.7,2,   133.62,2,    32.30,2,     0.01,2,     2.19,2,    0.054,2,    0.040,2, -999.000,5,-999.0000,5,  -999.00,9,   -159.3,2,     0.35,2,-999.000,9,   2260.3,6,   2355.9,2,     3.8, -999.00,-999.0000,-999.000,-999.000