BOTTLE,20090521WHPSIOdm
EXPOCODE,SECT_ID,STNNBR,CASTNO,SAMPNO,BTLNBR,BTLNBR_FLAG_W,DATE,TIME,LATITUDE,LONGITUDE,DEPTH,CTDRAW,CTDPRS,CTDTMP,CTDSAL,CTDSAL_FLAG_W,SALNTY,SALNTY_FLAG_W,CTDOXY,CTDOXY_FLAG_W,THETA,OXYGEN,OXYGEN_FLAG_W,SILCAT,SILCAT_FLAG_W,NITRAT,NITRAT_FLAG_W,NITRIT,NITRIT_FLAG_W,PHSPHT,PHSPHT_FLAG_W,CFC-11,CFC-11_FLAG_W,CFC-12,CFC-12_FLAG_W,TRITUM,TRITUM_FLAG_W,HELIUM,HELIUM_FLAG_W,DELHE3,DELHE3_FLAG_W,DELC14,DELC14_FLAG_W,DELC13,DELC13_FLAG_W,NEON,NEON_FLAG_W,TCARBN,TCARBN_FLAG_W,ALKALI,ALKALI_FLAG_W,C14ERR,DELHER,HELIER,NEONER,TRITER
,,,,,,,,,,,,,DBAR,IPTS-68,PSS-78,,PSS-78,,UMOL/KG,,IPTS-68,UMOL/KG,,UMOL/KG,,UMOL/KG,,UMOL/KG,,UMOL/KG,,PMOL/KG,,PMOL/KG,,TU,,NMOL/KG,,PERCNT,,/MILLE,,/MILLE,,NMOL/KG,,UMOL/KG,,UMOL/KG,,/MILLE,PERCNT,NMOL/KG,NMOL/KG,TU
     316N145_5,  I08S,    21,  1,     24, SIH037,2,19941211,0923,-38.9917,  94.9945, 3700,  181.5,     13.4,  13.2036,  34.9590,2,  34.9593,2,    268.4,2, 13.2017,    268.4,2,     1.95,2,     6.08,2,     0.13,2,     0.57,2,    3.364,2,    1.729,2, -999.000,5,-999.0000,5,  -999.00,9,     87.7,2,  -999.00,9,-999.000,9,   2067.3,6,   2322.1,2,     3.9, -999.00,-999.0000,-999.000,-999.000
     316N145_5,  I08S,    21,  1,     23, SIH033,2,19941211,0923,-38.9917,  94.9945, 3700,  371.2,     32.5,  13.1887,  34.9593,2,  34.9581,2,    269.4,2, 13.1842,    268.4,2,     2.11,2,     6.09,2,     0.13,2,     0.57,2,    3.270,2,    1.723,2, -999.000,5,-999.0000,5,  -999.00,9,     71.6,2,     1.57,2,-999.000,9,   2066.5,2,   -999.0,9,     3.0, -999.00,-999.0000,-999.000,-999.000
     316N145_5,  I08S,    21,  1,     22, SIH031,2,19941211,0923,-38.9917,  94.9945, 3700,  627.5,     58.2,  12.3682,  34.9267,2,  34.9272,2,    269.3,2, 12.3605,    267.8,2,     2.58,2,     7.29,2,     0.15,2,     0.65,2,    3.454,2,    1.787,2, -999.000,5,-999.0000,5,  -999.00,9,     70.7,6,     1.47,6,-999.000,9,   2074.1,2,   2307.1,2,     5.7, -999.00,-999.0000,-999.000,-999.000
     316N145_5,  I08S,    21,  1,     21, SIH030,2,19941211,0923,-38.9917,  94.9945, 3700, 1126.3,    108.4,  11.0694,  34.9259,2,  34.9256,2,    258.1,2, 11.0561,    265.5,2,     4.01,2,     9.35,2,     0.52,2,     0.82,2,    3.558,2,    1.825,2, -999.000,5,-999.0000,5,  -999.00,9,     61.8,2,     1.23,2,-999.000,9,   2090.3,2,   2308.6,2,     3.3, -999.00,-999.0000,-999.000,-999.000
     316N145_5,  I08S,    21,  1,     20, SIH028,2,19941211,0923,-38.9917,  94.9945, 3700, 2085.2,    204.8,  10.7126,  34.9074,2,  34.9077,2,    258.8,2, 10.6877,    260.4,2,     4.00,2,    11.09,2,     0.01,2,     0.87,2,    3.500,2,    1.833,2, -999.000,5,-999.0000,5,  -999.00,9,     67.5,2,     1.28,2,-999.000,9,   2095.6,2,   2297.2,2,     3.0, -999.00,-999.0000,-999.000,-999.000
     316N145_5,  I08S,    21,  1,     19, SIH027,2,19941211,0923,-38.9917,  94.9945, 3700, 3133.2,    310.2,  10.4293,  34.8662,2,  34.8664,2,    258.5,2, 10.3922,    258.0,2,     3.99,2,    11.56,2,     0.00,2,     0.91,2, -999.000,9, -999.000,9, -999.000,5,-999.0000,5,  -999.00,9,     58.0,2,     1.27,2,-999.000,9,   2098.2,2,   2307.4,2,     4.1, -999.00,-999.0000,-999.000,-999.000
     316N145_5,  I08S,    21,  1,     18, SIH003,2,19941211,0923,-38.9917,  94.9945, 3700, 4106.5,    408.1,  10.2724,  34.8534,2,  34.8532,2,    268.1,2, 10.2238,    266.9,2,     3.82,2,    11.22,2,     0.00,2,     0.89,2,    3.686,2,    1.893,2, -999.000,5,-999.0000,5,  -999.00,9,     62.9,2,     1.30,2,-999.000,9,   2096.4,2,   2297.2,2,     3.1, -999.00,-999.0000,-999.000,-999.000
     316N145_5,  I08S,    21,  1,     17, SIH024,2,19941211,0923,-38.9917,  94.9945, 3700, 5140.0,    512.0,  10.1404,  34.8304,2,  34.8314,2,    267.4,2, 10.0796,    265.3,2,     3.97,2,    11.63,2,     0.00,2,     0.92,2,    3.618,6,    1.855,6, -999.000,5,-999.0000,5,  -999.00,9,     66.8,2,     1.22,2,-999.000,9,   2097.3,2,   2305.4,2,     3.9, -999.00,-999.0000,-999.000,-999.000
     316N145_5,  I08S,    21,  1,     16, SIH022,2,19941211,0923,-38.9917,  94.9945, 3700, 6239.9,    622.6,   9.9839,  34.7967,2,  34.7982,2,    266.7,2,  9.9104,    263.5,2,     4.28,2,    12.40,2,     0.00,2,     0.97,2, -999.000,9, -999.000,9, -999.000,5,-999.0000,5,  -999.00,9,   -999.0,9,     1.26,2,-999.000,9,   2098.7,2,   2295.3,2,  -999.0, -999.00,-999.0000,-999.000,-999.000
     316N145_5,  I08S,    21,  1,     15, SIH021,2,19941211,0923,-38.9917,  94.9945, 3700, 8137.4,    813.4,   8.7764,  34.6095,2,  34.6083,2,    234.3,2,  8.6867,    237.2,2,     7.47,2,    18.08,2,     0.00,2,     1.30,2,    2.810,6,    1.425,6, -999.000,5,-999.0000,5,  -999.00,9,     51.7,2,     1.23,2,-999.000,9,   2121.6,2,   2300.1,2,     4.7, -999.00,-999.0000,-999.000,-999.000
     316N145_5,  I08S,    21,  1,     14, SIH002,2,19941211,0923,-38.9917,  94.9945, 3700,10142.2,   1015.1,   6.1857,  34.4202,2,  34.4198,2,    201.0,2,  6.0920,    204.3,2,    20.75,2,    27.13,2,     0.00,2,     1.86,2,    1.301,2,    0.648,2, -999.000,5,-999.0000,5,  -999.00,9,     20.6,6,     1.02,2,-999.000,9,   2167.1,2,   2289.6,2,    71.5, -999.00,-999.0000,-999.000,-999.000
     316N145_5,  I08S,    21,  1,     13, SIH018,2,19941211,0923,-38.9917,  94.9945, 3700,12003.6,   1202.3,   4.1298,  34.3569,2,  34.3582,2,    199.2,2,  4.0361,    201.2,2,    37.57,2,    31.45,2,     0.00,2,     2.17,2,    0.831,2,    0.428,2, -999.000,5,-999.0000,5,  -999.00,9,    -72.2,2,     0.80,2,-999.000,9,   2197.6,2,   2304.5,2,     4.6, -999.00,-999.0000,-999.000,-999.000
     316N145_5,  I08S,    21,  1,     12, SIH016,2,19941211,0923,-38.9917,  94.9945, 3700,13952.7,   1398.3,   3.3541,  34.4232,2,  34.4239,2,    181.8,2,  3.2512,    182.6,2,    54.38,2,    33.69,2,     0.00,2,     2.33,2,    0.363,2,    0.198,2, -999.000,5,-999.0000,5,  -999.00,9,   -108.9,2,     0.55,2,-999.000,9,   2226.4,2,   2316.6,2,     2.7, -999.00,-999.0000,-999.000,-999.000
     316N145_5,  I08S,    21,  1,     11, SIH015,2,19941211,0923,-38.9917,  94.9945, 3700,16007.7,   1605.0,   2.9311,  34.5072,2,  34.5074,2,    175.7,2,  2.8154,    173.2,2,    65.75,2,    34.25,2,     0.00,2,     2.37,2,    0.255,2,    0.132,2, -999.000,5,-999.0000,5,  -999.00,9,   -134.4,2,     0.34,2,-999.000,9,   2241.7,6,   -999.0,9,     3.8, -999.00,-999.0000,-999.000,-999.000
     316N145_5,  I08S,    21,  1,     10, SIH013,2,19941211,0923,-38.9917,  94.9945, 3700,18148.7,   1820.4,   2.6571,  34.5978,2,  34.5987,2,    173.9,2,  2.5264,    173.1,2,    72.30,2,    33.56,2,     0.00,2,     2.31,2,    0.138,2,    0.061,2, -999.000,5,-999.0000,5,  -999.00,9,   -141.8,2,     0.39,2,-999.000,9,   2247.2,2,   2334.9,2,     3.5, -999.00,-999.0000,-999.000,-999.000
     316N145_5,  I08S,    21,  1,      9, SIH012,2,19941211,0923,-38.9917,  94.9945, 3700,20189.7,   2025.7,   2.5112,  34.6686,2,  34.6692,2,    175.1,2,  2.3646,    173.5,2,    79.67,2,    32.80,2,     0.00,2,     2.26,2, -999.000,9, -999.000,9, -999.000,5,-999.0000,5,  -999.00,9,   -156.1,2,     0.27,2,-999.000,9,   2252.2,2,   2343.3,2,     4.0, -999.00,-999.0000,-999.000,-999.000
     316N145_5,  I08S,    21,  1,      8, SIH010,2,19941211,0923,-38.9917,  94.9945, 3700,23261.8,   2334.7,   2.2759,  34.7294,2,  34.7305,2,    187.0,2,  2.1054,    185.7,2,    82.38,2,    31.14,2,     0.00,2,     2.15,2,    0.034,2,    0.027,2, -999.000,5,-999.0000,5,  -999.00,9,   -155.0,2,     0.31,2,-999.000,9,   2247.3,2,   -999.0,9,     2.8, -999.00,-999.0000,-999.000,-999.000
     316N145_5,  I08S,    21,  1,      7, SIH009,2,19941211,0923,-38.9917,  94.9945, 3700,26306.2,   2640.9,   2.0408,  34.7488,2,  34.7502,2,    195.0,2,  1.8462,    193.9,2,    87.18,2,    30.48,2,     0.00,2,     2.10,2,    0.023,2,    0.019,2, -999.000,5,-999.0000,5,  -999.00,9,   -144.6,2,     0.35,2,-999.000,9,   2245.3,2,   2362.5,2,     3.0, -999.00,-999.0000,-999.000,-999.000
     316N145_5,  I08S,    21,  1,      6, SIH038,2,19941211,0923,-38.9917,  94.9945, 3700,29307.0,   2942.8,   1.6401,  34.7431,2,  34.7441,2,    199.5,2,  1.4253,    199.4,2,    99.03,2,    30.90,2,     0.00,2,     2.12,2,    0.023,2,    0.016,2, -999.000,5,-999.0000,5,  -999.00,9,   -157.1,2,     0.43,2,-999.000,9,   2252.9,2,   2354.9,2,     2.6, -999.00,-999.0000,-999.000,-999.000
     316N145_5,  I08S,    21,  1,      5, SIH006,2,19941211,0923,-38.9917,  94.9945, 3700,31390.2,   3152.3,   1.4260,  34.7349,2,  34.7366,2,    201.5,2,  1.1959,    200.9,2,   105.75,2,    31.22,2,     0.00,2,     2.15,2,    0.017,2,    0.009,2, -999.000,5,-999.0000,5,  -999.00,9,   -160.6,2,     0.40,2,-999.000,9,   2253.1,2,   2376.4,2,     2.9, -999.00,-999.0000,-999.000,-999.000
     316N145_5,  I08S,    21,  1,      4, SIH004,2,19941211,0923,-38.9917,  94.9945, 3700,33427.0,   3357.2,   1.2583,  34.7273,2,  34.7282,2,    203.8,2,  1.0122,    203.6,2,   116.01,2,    31.48,2,     0.00,2,     2.17,2,    0.028,2,    0.015,2, -999.000,5,-999.0000,5,  -999.00,9,   -166.1,2,     0.37,2,-999.000,9,   2256.1,2,   2360.3,2,     3.9, -999.00,-999.0000,-999.000,-999.000
     316N145_5,  I08S,    21,  1,      3, SIH025,2,19941211,0923,-38.9917,  94.9945, 3700,35410.5,   3556.7,   1.1241,  34.7208,2,  34.7207,2,    204.7,2,  0.8615,    205.3,2,   115.20,2,    31.79,2,     0.00,2,     2.19,2,    0.027,2,    0.024,2, -999.000,5,-999.0000,5,  -999.00,9,   -153.1,2,     0.41,2,-999.000,9,   2257.9,2,   2378.8,2,     2.9, -999.00,-999.0000,-999.000,-999.000
     316N145_5,  I08S,    21,  1,      2, SIH001,2,19941211,0923,-38.9917,  94.9945, 3700,36329.5,   3649.2,   1.0753,  34.7184,2,  34.7180,2,    206.1,2,  0.8046,    205.3,2,   117.36,2,    31.86,2,     0.00,2,     2.20,2,    0.034,2,    0.025,2, -999.000,5,-999.0000,5,  -999.00,9,   -146.6,2,     0.43,2,-999.000,9,   2261.2,2,   2367.2,2,     4.7, -999.00,-999.0000,-999.000,-999.000
     316N145_5,  I08S,    21,  1,      1, SIH036,3,19941211,0923,-38.9917,  94.9945, 3700,36918.4,   3708.4,   1.0640,  34.7174,2,  34.7178,2,    205.6,2,  0.7875,    205.8,2,   117.97,2,    31.99,2,     0.00,2,     2.20,2,    0.029,2,    0.017,2, -999.000,5,-999.0000,5,  -999.00,9,   -150.9,2,     0.48,2,-999.000,9,   2260.6,2,   2380.2,2,     3.1, -999.00,-999.0000,-999.000,-999.000
     316N145_5,  I08S,    22,  1,     24, SIH037,2,19941211,1623,-39.5028,  95.0083, 3770,  172.9,     12.7,  13.1383,  34.9947,2,  34.9941,2,    270.1,2, 13.1365,    264.3,2,     2.29,2,     6.17,2,     0.12,2,     0.59,2,    3.339,2,    1.729,2, -999.000,5,-999.0000,5,  -999.00,9,   -999.0,9,  -999.00,9,-999.000,9,   -999.0,9,   -999.0,9,  -999.0, -999.00,-999.0000,-999.000,-999.000
     316N145_5,  I08S,    22,  1,     23, SIH033,2,19941211,1623,-39.5028,  95.0083, 3770,  361.8,     31.7,  13.1367,  34.9949,2,  34.9949,2,    269.5,2, 13.1323,    264.3,2,     2.28,2,     6.17,2,     0.12,2,     0.59,2,    3.323,2,    1.746,2, -999.000,5,-999.0000,5,  -999.00,9,   -999.0,9,  -999.00,9,-999.000,9,   -999.0,9,   -999.0,9,  -999.0, -999.00,-999.0000,-999.000,-999.000
     316N145_5,  I08S,    22,  1,     22, SIH031,2,19941211,1623,-39.5028,  95.0083, 3770,  614.9,     57.2,  13.0184,  34.9917,2,  34.9915,2,    268.6,2, 13.0105,    264.3,2,     2.42,2,     6.33,2,     0.12,2,     0.60,2,    3.341,2,    1.754,2, -999.000,5,-999.0000,5,  -999.00,9,   -999.0,9,  -999.00,9,-999.000,9,   -999.0,9,   -999.0,9,  -999.0, -999.00,-999.0000,-999.000,-999.000
     316N145_5,  I08S,    22,  1,     21, SIH030,2,19941211,1623,-39.5028,  95.0083, 3770, 1112.9,    107.2,  11.3668,  34.9781,2,  34.9768,2,    263.5,2, 11.3533,    260.9,2,     3.38,2,     8.78,2,     0.46,2,     0.76,2,    3.530,6,    1.835,6, -999.000,5,-999.0000,5,  -999.00,9,   -999.0,9,  -999.00,9,-999.000,9,   -999.0,9,   -999.0,9,  -999.0, -999.00,-999.0000,-999.000,-999.000
     316N145_5,  I08S,    22,  1,     20, SIH028,2,19941211,1623,-39.5028,  95.0083, 3770, 2112.4,    207.8,  10.9401,  34.9378,2,  34.9388,2,    256.8,2, 10.9146,    256.7,2,     4.02,2,    10.73,2,     0.01,2,     0.85,2,    3.493,2,    1.812,2, -999.000,5,-999.0000,5,  -999.00,9,   -999.0,9,  -999.00,9,-999.000,9,   -999.0,9,   -999.0,9,  -999.0, -999.00,-999.0000,-999.000,-999.000
     316N145_5,  I08S,    22,  1,     19, SIH027,2,19941211,1623,-39.5028,  95.0083, 3770, 3115.2,    308.6,  10.7295,  34.9127,2,  34.9144,2,    260.3,2, 10.6919,    260.9,2,     3.84,2,    10.68,2,     0.01,2,     0.85,2,    3.665,2,    1.951,2, -999.000,5,-999.0000,5,  -999.00,9,   -999.0,9,  -999.00,9,-999.000,9,   -999.0,9,   -999.0,9,  -999.0, -999.00,-999.0000,-999.000,-999.000
     316N145_5,  I08S,    22,  1,     18, SIH003,2,19941211,1623,-39.5028,  95.0083, 3770, 4086.8,    406.3,  10.5114,  34.8794,2,  34.8800,2,    263.1,2, 10.4623,    261.1,2,     4.00,2,    11.26,2,     0.00,2,     0.89,2,    3.552,2,    1.814,2, -999.000,5,-999.0000,5,  -999.00,9,   -999.0,9,  -999.00,9,-999.000,9,   -999.0,9,   -999.0,9,  -999.0, -999.00,-999.0000,-999.000,-999.000
     316N145_5,  I08S,    22,  1,     17, SIH024,2,19941211,1623,-39.5028,  95.0083, 3770, 5079.5,    506.1,  10.3396,  34.8561,2,  34.8548,2,    260.0,2, 10.2788,    266.3,2,     3.99,2,    11.31,2,     0.00,2,     0.89,2,    3.647,6,    1.884,6, -999.000,5,-999.0000,5,  -999.00,9,   -999.0,9,  -999.00,9,-999.000,9,   -999.0,9,   -999.0,9,  -999.0, -999.00,-999.0000,-999.000,-999.000
     316N145_5,  I08S,    22,  1,     16, SIH022,2,19941211,1623,-39.5028,  95.0083, 3770, 6162.4,    615.0,  10.1148,  34.8158,2,  34.8186,2,    260.4,2, 10.0416,    260.4,2,     4.46,2,    12.14,2,     0.00,2,     0.95,2,    3.565,2,    1.832,2, -999.000,5,-999.0000,5,  -999.00,9,   -999.0,9,  -999.00,9,-999.000,9,   -999.0,9,   -999.0,9,  -999.0, -999.00,-999.0000,-999.000,-999.000
     316N145_5,  I08S,    22,  1,     15, SIH021,2,19941211,1623,-39.5028,  95.0083, 3770, 8123.0,    812.2,   8.5820,  34.6017,2,  34.6011,2,    222.8,2,  8.4936,    220.5,2,     9.28,2,    19.99,2,     0.00,2,     1.41,2, -999.000,9, -999.000,9, -999.000,5,-999.0000,5,  -999.00,9,   -999.0,9,  -999.00,9,-999.000,9,   -999.0,9,   -999.0,9,  -999.0, -999.00,-999.0000,-999.000,-999.000
     316N145_5,  I08S,    22,  1,     14, SIH002,2,19941211,1623,-39.5028,  95.0083, 3770,10146.9,   1015.7,   5.7526,  34.3930,2,  34.3941,2,    206.6,2,  5.6623,    208.6,2,    22.80,2,    27.74,2,     0.00,2,     1.91,2,    1.489,2,    0.756,2, -999.000,5,-999.0000,5,  -999.00,9,   -999.0,9,  -999.00,9,-999.000,9,   -999.0,9,   -999.0,9,  -999.0, -999.00,-999.0000,-999.000,-999.000
     316N145_5,  I08S,    22,  1,     13, SIH018,2,19941211,1623,-39.5028,  95.0083, 3770,12148.1,   1217.0,   4.1863,  34.3527,2,  34.3525,2,    203.6,2,  4.0908,    202.6,2,    36.32,2,    31.20,2,     0.00,2,     2.15,2,    0.884,6,    0.444,6, -999.000,5,-999.0000,5,  -999.00,9,   -999.0,9,  -999.00,9,-999.000,9,   -999.0,9,   -999.0,9,  -999.0, -999.00,-999.0000,-999.000,-999.000
     316N145_5,  I08S,    22,  1,     12, SIH016,2,19941211,1623,-39.5028,  95.0083, 3770,14148.4,   1418.2,   3.3750,  34.4298,2,  34.4306,2,    182.4,2,  3.2702,    180.3,2,    55.79,2,    33.67,2,     0.00,2,     2.33,2,    0.342,2,    0.172,2, -999.000,5,-999.0000,5,  -999.00,9,   -999.0,9,  -999.00,9,-999.000,9,   -999.0,9,   -999.0,9,  -999.0, -999.00,-999.0000,-999.000,-999.000
     316N145_5,  I08S,    22,  1,     11, SIH015,2,19941211,1623,-39.5028,  95.0083, 3770,16206.6,   1625.2,   2.8984,  34.5138,2,  34.5121,2,    173.6,2,  2.7814,    173.6,2,    66.57,2,    34.14,2,     0.00,2,     2.36,2,    0.235,2,    0.114,2, -999.000,5,-999.0000,5,  -999.00,9,   -999.0,9,  -999.00,9,-999.000,9,   -999.0,9,   -999.0,9,  -999.0, -999.00,-999.0000,-999.000,-999.000
     316N145_5,  I08S,    22,  1,     10, SIH013,2,19941211,1623,-39.5028,  95.0083, 3770,18174.2,   1823.2,   2.6979,  34.5994,2,  34.6001,2,    168.1,2,  2.5664,    168.6,2,    75.58,2,    33.87,2,     0.00,2,     2.34,2,    0.106,2,    0.051,2, -999.000,5,-999.0000,5,  -999.00,9,   -999.0,9,  -999.00,9,-999.000,9,   -999.0,9,   -999.0,9,  -999.0, -999.00,-999.0000,-999.000,-999.000
     316N145_5,  I08S,    22,  1,      9, SIH012,2,19941211,1623,-39.5028,  95.0083, 3770,21190.8,   2126.6,   2.4755,  34.6852,2,  34.6863,2,    172.2,2,  2.3205,    172.4,2,    83.94,2,    32.73,2,     0.00,2,     2.26,2,    0.026,3,    0.033,2, -999.000,5,-999.0000,5,  -999.00,9,   -999.0,9,  -999.00,9,-999.000,9,   -999.0,9,   -999.0,9,  -999.0, -999.00,-999.0000,-999.000,-999.000
     316N145_5,  I08S,    22,  1,      8, SIH010,2,19941211,1623,-39.5028,  95.0083, 3770,24263.6,   2435.7,   2.2284,  34.7349,2,  34.7353,2,    188.8,2,  2.0494,    187.0,2,    84.25,2,    31.02,2,     0.00,2,     2.14,2, -999.000,9, -999.000,9, -999.000,5,-999.0000,5,  -999.00,9,   -999.0,9,  -999.00,9,-999.000,9,   -999.0,9,   -999.0,9,  -999.0, -999.00,-999.0000,-999.000,-999.000
     316N145_5,  I08S,    22,  1,      7, SIH009,2,19941211,1623,-39.5028,  95.0083, 3770,27224.5,   2733.5,   1.9399,  34.7504,2,  34.7500,2,    196.0,2,  1.7387,    195.5,2,    90.52,2,    30.55,2,     0.00,2,     2.10,2, -999.000,9, -999.000,9, -999.000,5,-999.0000,5,  -999.00,9,   -999.0,9,  -999.00,9,-999.000,9,   -999.0,9,   -999.0,9,  -999.0, -999.00,-999.0000,-999.000,-999.000
     316N145_5,  I08S,    22,  1,      6, SIH038,2,19941211,1623,-39.5028,  95.0083, 3770,30252.2,   3038.0,   1.5558,  34.7408,2,  34.7406,2,    200.3,2,  1.3338,    200.1,2,   102.11,2,    31.02,2,     0.00,2,     2.13,2, -999.000,9, -999.000,9, -999.000,5,-999.0000,5,  -999.00,9,   -999.0,9,  -999.00,9,-999.000,9,   -999.0,9,   -999.0,9,  -999.0, -999.00,-999.0000,-999.000,-999.000
     316N145_5,  I08S,    22,  1,      5, SIH006,2,19941211,1623,-39.5028,  95.0083, 3770,32304.8,   3244.5,   1.3883,  34.7335,2,  34.7331,2,    202.9,2,  1.1501,    202.3,2,   107.74,2,    31.28,2,     0.00,2,     2.15,2, -999.000,9, -999.000,9, -999.000,5,-999.0000,5,  -999.00,9,   -999.0,9,  -999.00,9,-999.000,9,   -999.0,9,   -999.0,9,  -999.0, -999.00,-999.0000,-999.000,-999.000
     316N145_5,  I08S,    22,  1,      4, SIH004,2,19941211,1623,-39.5028,  95.0083, 3770,34338.7,   3449.1,   1.2406,  34.7267,2,  34.7266,2,    204.7,2,  0.9857,    204.0,2,   112.72,2,    31.58,2,     0.00,2,     2.18,2, -999.000,9, -999.000,9, -999.000,5,-999.0000,5,  -999.00,9,   -999.0,9,  -999.00,9,-999.000,9,   -999.0,9,   -999.0,9,  -999.0, -999.00,-999.0000,-999.000,-999.000
     316N145_5,  I08S,    22,  1,      3, SIH025,2,19941211,1623,-39.5028,  95.0083, 3770,36108.4,   3627.1,   1.1158,  34.7199,2,  34.7191,2,    205.9,2,  0.8463,    205.6,2,   116.74,2,    31.83,2,     0.00,2,     2.19,2, -999.000,9, -999.000,9, -999.000,5,-999.0000,5,  -999.00,9,   -999.0,9,  -999.00,9,-999.000,9,   -999.0,9,   -999.0,9,  -999.0, -999.00,-999.0000,-999.000,-999.000
     316N145_5,  I08S,    22,  1,      2, SIH001,2,19941211,1623,-39.5028,  95.0083, 3770,37573.4,   3774.5,   1.1087,  34.7201,2,  34.7188,2,    205.2,2,  0.8242,    205.4,2,   117.54,2,    31.88,2,     0.00,2,     2.20,2, -999.000,9, -999.000,9, -999.000,5,-999.0000,5,  -999.00,9,   -999.0,9,  -999.00,9,-999.000,9,   -999.0,9,   -999.0,9,  -999.0, -999.00,-999.0000,-999.000,-999.000
     316N145_5,  I08S,    22,  1,      1, SIH036,2,19941211,1623,-39.5028,  95.0083, 3770,38072.6,   3824.7,   1.1135,  34.7199,2,  34.7193,2,    205.0,2,  0.8238,    205.3,2,   117.27,2,    31.84,2,     0.00,2,     2.19,2, -999.000,9, -999.000,9, -999.000,5,-999.0000,5,  -999.00,9,   -999.0,9,  -999.00,9,-999.000,9,   -999.0,9,   -999.0,9,  -999.0, -999.00,-999.0000,-999.000,-999.000