BOTTLE,20090521WHPSIOdm
EXPOCODE,SECT_ID,STNNBR,CASTNO,SAMPNO,BTLNBR,BTLNBR_FLAG_W,DATE,TIME,LATITUDE,LONGITUDE,DEPTH,CTDRAW,CTDPRS,CTDTMP,CTDSAL,CTDSAL_FLAG_W,SALNTY,SALNTY_FLAG_W,CTDOXY,CTDOXY_FLAG_W,THETA,OXYGEN,OXYGEN_FLAG_W,SILCAT,SILCAT_FLAG_W,NITRAT,NITRAT_FLAG_W,NITRIT,NITRIT_FLAG_W,PHSPHT,PHSPHT_FLAG_W,CFC-11,CFC-11_FLAG_W,CFC-12,CFC-12_FLAG_W,TRITUM,TRITUM_FLAG_W,HELIUM,HELIUM_FLAG_W,DELHE3,DELHE3_FLAG_W,DELC14,DELC14_FLAG_W,DELC13,DELC13_FLAG_W,NEON,NEON_FLAG_W,TCARBN,TCARBN_FLAG_W,ALKALI,ALKALI_FLAG_W,C14ERR,DELHER,HELIER,NEONER,TRITER
,,,,,,,,,,,,,DBAR,IPTS-68,PSS-78,,PSS-78,,UMOL/KG,,IPTS-68,UMOL/KG,,UMOL/KG,,UMOL/KG,,UMOL/KG,,UMOL/KG,,PMOL/KG,,PMOL/KG,,TU,,NMOL/KG,,PERCNT,,/MILLE,,/MILLE,,NMOL/KG,,UMOL/KG,,UMOL/KG,,/MILLE,PERCNT,NMOL/KG,NMOL/KG,TU
     316N145_5,  I08S,    66,  1,     36, SIH035,2,19941224,1511,-57.5112,  82.5250, 3965,  194.8,     14.0,   0.4134,  34.0178,2,  34.0208,2,    349.8,2,  0.4129,    345.1,2,    47.40,2,    27.33,2,     0.24,2,     1.78,2, -999.000,9, -999.000,9, -999.000,5,-999.0000,5,  -999.00,9,   -999.0,9,  -999.00,9,-999.000,9,   2171.2,6,   2302.2,2,  -999.0, -999.00,-999.0000,-999.000,-999.000
     316N145_5,  I08S,    66,  1,     35, SIH032,2,19941224,1511,-57.5112,  82.5250, 3965,  402.3,     34.9,   0.4073,  34.0176,2,  34.0202,2,    343.6,2,  0.4060,    345.3,2,    47.38,2,    27.22,2,     0.24,2,     1.77,2, -999.000,9, -999.000,9, -999.000,5,-999.0000,5,  -999.00,9,   -999.0,9,  -999.00,9,-999.000,9,   2170.5,2,   2304.1,2,  -999.0, -999.00,-999.0000,-999.000,-999.000
     316N145_5,  I08S,    66,  1,     34, SIH029,2,19941224,1511,-57.5112,  82.5250, 3965,  662.8,     61.1,   0.3910,  34.0181,2,  34.0204,2,    343.7,2,  0.3887,    345.9,2,    47.54,2,    27.29,2,     0.23,2,     1.78,2, -999.000,9, -999.000,9, -999.000,5,-999.0000,5,  -999.00,9,   -999.0,9,  -999.00,9,-999.000,9,   2169.3,2,   2298.1,2,  -999.0, -999.00,-999.0000,-999.000,-999.000
     316N145_5,  I08S,    66,  1,     33, SIH026,2,19941224,1511,-57.5112,  82.5250, 3965,  895.3,     84.5,  -0.6840,  34.1174,2,  34.1221,2,    326.9,2, -0.6864,    316.3,2,    57.35,2,    29.32,2,     0.16,2,     2.03,2, -999.000,9, -999.000,9, -999.000,5,-999.0000,5,  -999.00,9,   -999.0,9,  -999.00,9,-999.000,9,   2194.8,2,   2302.8,2,  -999.0, -999.00,-999.0000,-999.000,-999.000
     316N145_5,  I08S,    66,  1,     32, SIH023,2,19941224,1511,-57.5112,  82.5250, 3965, 1052.7,    100.3,  -0.7650,  34.2232,2,  34.2234,2,    299.0,2, -0.7679,    285.9,2,    64.22,2,    30.62,2,     0.14,2,     2.15,2, -999.000,9, -999.000,9, -999.000,5,-999.0000,5,  -999.00,9,   -999.0,9,  -999.00,9,-999.000,9,   2211.7,2,   2313.3,2,  -999.0, -999.00,-999.0000,-999.000,-999.000
     316N145_5,  I08S,    66,  1,     31, SIH020,2,19941224,1511,-57.5112,  82.5250, 3965, 1647.2,    160.1,   0.6248,  34.5007,2,  34.5034,2,    224.0,2,  0.6182,    216.8,2,    77.64,2,    32.69,2,     0.04,2,     2.26,2, -999.000,9, -999.000,9, -999.000,5,-999.0000,5,  -999.00,9,   -999.0,9,  -999.00,9,-999.000,9,   2245.0,2,   2329.5,2,  -999.0, -999.00,-999.0000,-999.000,-999.000
     316N145_5,  I08S,    66,  1,     30, SIH017,2,19941224,1511,-57.5112,  82.5250, 3965, 2123.1,    208.0,   1.2721,  34.6055,2,  34.6060,2,    199.2,2,  1.2622,    196.5,2,    83.04,2,    32.76,2,     0.01,2,     2.26,2, -999.000,9, -999.000,9, -999.000,5,-999.0000,5,  -999.00,9,   -999.0,9,  -999.00,9,-999.000,9,   2251.5,2,   2334.0,2,  -999.0, -999.00,-999.0000,-999.000,-999.000
     316N145_5,  I08S,    66,  1,     29, SIH014,2,19941224,1511,-57.5112,  82.5250, 3965, 2657.6,    261.7,   1.4493,  34.6500,2,  34.6488,2,    196.4,2,  1.4363,    192.8,2,    84.68,2,    32.33,2,     0.01,2,     2.23,2, -999.000,9, -999.000,9, -999.000,5,-999.0000,5,  -999.00,9,   -999.0,9,  -999.00,9,-999.000,9,   2253.5,2,   2343.6,2,  -999.0, -999.00,-999.0000,-999.000,-999.000
     316N145_5,  I08S,    66,  1,     28, SIH011,2,19941224,1511,-57.5112,  82.5250, 3965, 3150.3,    311.3,   1.4632,  34.6623,2,  34.6649,2,    194.3,2,  1.4476,    193.1,2,    85.32,2,    32.13,2,     0.00,2,     2.22,2, -999.000,9, -999.000,9, -999.000,5,-999.0000,5,  -999.00,9,   -999.0,9,  -999.00,9,-999.000,9,   2253.4,2,   2340.9,2,  -999.0, -999.00,-999.0000,-999.000,-999.000
     316N145_5,  I08S,    66,  1,     27, SIH008,2,19941224,1511,-57.5112,  82.5250, 3965, 3615.9,    358.1,   1.4846,  34.6668,2,  34.6688,2,    194.0,2,  1.4664,    192.9,2,    85.81,2,    32.08,2,     0.00,2,     2.22,2, -999.000,9, -999.000,9, -999.000,5,-999.0000,5,  -999.00,9,   -999.0,9,  -999.00,9,-999.000,9,   2252.3,2,   2340.2,2,  -999.0, -999.00,-999.0000,-999.000,-999.000
     316N145_5,  I08S,    66,  1,     26, SIH005,2,19941224,1511,-57.5112,  82.5250, 3965, 4115.3,    408.3,   1.5270,  34.6842,2,  34.6844,2,    194.3,2,  1.5059,    193.0,2,    86.63,2,    31.81,2,     0.00,2,     2.20,2, -999.000,9, -999.000,9, -999.000,5,-999.0000,5,  -999.00,9,   -999.0,9,  -999.00,9,-999.000,9,   2252.0,2,   2336.5,2,  -999.0, -999.00,-999.0000,-999.000,-999.000
     316N145_5,  I08S,    66,  1,     25, SIH019,2,19941224,1511,-57.5112,  82.5250, 3965, 4591.1,    456.2,   1.6096,  34.7075,2,  34.7087,2,    192.2,2,  1.5856,    192.2,2,    87.77,2,    31.43,2,     0.00,2,     2.17,2, -999.000,9, -999.000,9, -999.000,5,-999.0000,5,  -999.00,9,   -999.0,9,  -999.00,9,-999.000,9,   2252.2,2,   2348.6,2,  -999.0, -999.00,-999.0000,-999.000,-999.000
     316N145_5,  I08S,    66,  1,     24, SIH037,2,19941224,1511,-57.5112,  82.5250, 3965, 5058.8,    503.2,   1.5905,  34.7121,2,  34.7140,2,    193.6,2,  1.5638,    193.8,2,    88.75,2,    31.28,2,     0.00,2,     2.16,2, -999.000,9, -999.000,9, -999.000,5,-999.0000,5,  -999.00,9,   -999.0,9,  -999.00,9,-999.000,9,   2251.9,2,   2345.3,2,  -999.0, -999.00,-999.0000,-999.000,-999.000
     316N145_5,  I08S,    66,  1,     23, SIH033,2,19941224,1511,-57.5112,  82.5250, 3965, 6103.5,    608.3,   1.4843,  34.7230,2,  34.7223,2,    198.5,2,  1.4521,    197.1,2,    91.04,2,    30.95,2,     0.00,2,     2.14,2, -999.000,9, -999.000,9, -999.000,5,-999.0000,5,  -999.00,9,   -999.0,9,  -999.00,9,-999.000,9,   2249.5,2,   2347.1,2,  -999.0, -999.00,-999.0000,-999.000,-999.000
     316N145_5,  I08S,    66,  1,     22, SIH031,2,19941224,1511,-57.5112,  82.5250, 3965, 7065.3,    705.1,   1.3633,  34.7304,2,  34.7305,2,    200.9,2,  1.3261,    200.7,2,    95.30,2,    30.74,2,     0.00,2,     2.12,2, -999.000,9, -999.000,9, -999.000,5,-999.0000,5,  -999.00,9,   -999.0,9,  -999.00,9,-999.000,9,   2248.2,2,   2353.4,2,  -999.0, -999.00,-999.0000,-999.000,-999.000
     316N145_5,  I08S,    66,  1,     21, SIH030,2,19941224,1511,-57.5112,  82.5250, 3965, 8099.2,    809.1,   1.2857,  34.7290,2,  34.7298,2,    200.7,2,  1.2427,    202.1,2,    97.45,2,    30.74,2,     0.00,2,     2.13,2, -999.000,9, -999.000,9, -999.000,5,-999.0000,5,  -999.00,9,   -999.0,9,  -999.00,9,-999.000,9,   2249.6,2,   2350.3,2,  -999.0, -999.00,-999.0000,-999.000,-999.000
     316N145_5,  I08S,    66,  1,     20, SIH028,2,19941224,1511,-57.5112,  82.5250, 3965, 9135.3,    913.3,   1.2238,  34.7279,2,  34.7286,2,    200.5,2,  1.1749,    202.7,2,    99.58,2,    30.85,2,     0.00,2,     2.14,2, -999.000,9, -999.000,9, -999.000,5,-999.0000,5,  -999.00,9,   -999.0,9,  -999.00,9,-999.000,9,   2250.2,2,   2360.7,2,  -999.0, -999.00,-999.0000,-999.000,-999.000
     316N145_5,  I08S,    66,  1,     19, SIH027,2,19941224,1511,-57.5112,  82.5250, 3965,10147.1,   1015.1,   1.1626,  34.7252,2,  34.7264,2,    202.6,2,  1.1079,    203.2,2,   101.38,2,    30.91,2,     0.00,2,     2.14,2, -999.000,9, -999.000,9, -999.000,5,-999.0000,5,  -999.00,9,   -999.0,9,  -999.00,9,-999.000,9,   2250.4,2,   2354.8,2,  -999.0, -999.00,-999.0000,-999.000,-999.000
     316N145_5,  I08S,    66,  1,     18, SIH003,2,19941224,1511,-57.5112,  82.5250, 3965,11109.7,   1111.9,   1.0781,  34.7185,2,  34.7211,2,    205.8,2,  1.0180,    204.7,2,   102.86,2,    31.00,2,     0.00,2,     2.15,2, -999.000,9, -999.000,9, -999.000,5,-999.0000,5,  -999.00,9,   -999.0,9,  -999.00,9,-999.000,9,   2251.9,6,   2355.1,2,  -999.0, -999.00,-999.0000,-999.000,-999.000
     316N145_5,  I08S,    66,  1,     17, SIH024,2,19941224,1511,-57.5112,  82.5250, 3965,12150.2,   1216.5,   1.0300,  34.7197,2,  34.7213,2,    204.0,2,  0.9637,    204.2,2,   105.82,2,    31.17,2,     0.00,2,     2.15,2, -999.000,9, -999.000,9, -999.000,5,-999.0000,5,  -999.00,9,   -999.0,9,  -999.00,9,-999.000,9,   2254.5,2,   2353.5,2,  -999.0, -999.00,-999.0000,-999.000,-999.000
     316N145_5,  I08S,    66,  1,     16, SIH022,2,19941224,1511,-57.5112,  82.5250, 3965,14089.1,   1411.6,   0.8635,  34.7112,2,  34.7188,4,    206.0,2,  0.7862,    206.3,2,   110.09,2,    31.48,2,     0.00,2,     2.18,2, -999.000,9, -999.000,9, -999.000,5,-999.0000,5,  -999.00,9,   -999.0,9,  -999.00,9,-999.000,9,   2255.6,2,   2355.7,2,  -999.0, -999.00,-999.0000,-999.000,-999.000
     316N145_5,  I08S,    66,  1,     15, SIH021,2,19941224,1511,-57.5112,  82.5250, 3965,16233.2,   1627.2,   0.6676,  34.7011,2,  34.7026,2,    207.6,2,  0.5781,    208.5,2,   116.18,2,    31.91,2,     0.00,2,     2.21,2, -999.000,9, -999.000,9, -999.000,5,-999.0000,5,  -999.00,9,   -999.0,9,  -999.00,9,-999.000,9,   2259.5,2,   2352.2,2,  -999.0, -999.00,-999.0000,-999.000,-999.000
     316N145_5,  I08S,    66,  1,     14, SIH002,2,19941224,1511,-57.5112,  82.5250, 3965,18218.3,   1826.9,   0.4995,  34.6927,2,  34.6930,2,    209.4,2,  0.3983,    210.6,2,   120.96,2,    32.18,2,     0.00,2,     2.24,2, -999.000,9, -999.000,9, -999.000,5,-999.0000,5,  -999.00,9,   -999.0,9,  -999.00,9,-999.000,9,   2258.6,2,   2369.1,3,  -999.0, -999.00,-999.0000,-999.000,-999.000
     316N145_5,  I08S,    66,  1,     13, SIH018,2,19941224,1511,-57.5112,  82.5250, 3965,20258.2,   2032.1,   0.3225,  34.6857,2,  34.6859,2,    211.7,2,  0.2094,    215.9,2,   124.75,2,    32.33,2,     0.00,2,     2.24,2, -999.000,9, -999.000,9, -999.000,5,-999.0000,5,  -999.00,9,   -999.0,9,  -999.00,9,-999.000,9,   2260.0,2,   2360.5,2,  -999.0, -999.00,-999.0000,-999.000,-999.000
     316N145_5,  I08S,    66,  1,     12, SIH016,2,19941224,1511,-57.5112,  82.5250, 3965,22279.4,   2235.4,   0.2143,  34.6815,2,  34.6808,2,    215.2,2,  0.0879,    218.3,2,   126.07,2,    32.39,2,     0.00,2,     2.25,2, -999.000,9, -999.000,9, -999.000,5,-999.0000,5,  -999.00,9,   -999.0,9,  -999.00,9,-999.000,9,   2259.0,2,   2353.1,2,  -999.0, -999.00,-999.0000,-999.000,-999.000
     316N145_5,  I08S,    66,  1,     11, SIH015,3,19941224,1511,-57.5112,  82.5250, 3965,24228.6,   2431.5,   0.1156,  34.6777,2,  34.6830,4,    220.2,2, -0.0239,    218.9,4,   115.37,4,    32.01,4,     0.00,4,     2.23,4, -999.000,9, -999.000,9, -999.000,5,-999.0000,5,  -999.00,9,   -999.0,9,  -999.00,9,-999.000,9,   2257.5,4,   2360.9,4,  -999.0, -999.00,-999.0000,-999.000,-999.000
     316N145_5,  I08S,    66,  1,     10, SIH013,2,19941224,1511,-57.5112,  82.5250, 3965,27291.6,   2739.6,   0.0410,  34.6764,2,  34.6765,2,    220.3,2, -0.1215,    224.9,2,   126.41,2,    32.23,2,     0.00,2,     2.24,2, -999.000,9, -999.000,9, -999.000,5,-999.0000,5,  -999.00,9,   -999.0,9,  -999.00,9,-999.000,9,   2257.1,2,   2357.8,2,  -999.0, -999.00,-999.0000,-999.000,-999.000
     316N145_5,  I08S,    66,  1,      9, SIH012,2,19941224,1511,-57.5112,  82.5250, 3965,30368.3,   3049.1,   0.0039,  34.6755,2,  34.6757,2,    225.1,2, -0.1838,    227.2,2,   126.41,2,    32.23,2,     0.00,2,     2.24,2, -999.000,9, -999.000,9, -999.000,5,-999.0000,5,  -999.00,9,   -999.0,9,  -999.00,9,-999.000,9,   2254.6,2,   2350.1,2,  -999.0, -999.00,-999.0000,-999.000,-999.000
     316N145_5,  I08S,    66,  1,      8, SIH010,2,19941224,1511,-57.5112,  82.5250, 3965,33437.2,   3357.8,  -0.0226,  34.6746,2,  34.6737,2,    228.1,2, -0.2369,    229.1,2,   125.27,2,    32.23,2,     0.00,2,     2.24,2, -999.000,9, -999.000,9, -999.000,5,-999.0000,5,  -999.00,9,   -999.0,9,  -999.00,9,-999.000,9,   2254.3,2,   2357.7,2,  -999.0, -999.00,-999.0000,-999.000,-999.000
     316N145_5,  I08S,    66,  1,      7, SIH009,2,19941224,1511,-57.5112,  82.5250, 3965,35474.2,   3562.7,  -0.0502,  34.6744,2,  34.6757,2,    229.3,2, -0.2827,    231.1,2,   126.10,2,    32.17,2,     0.00,2,     2.24,2, -999.000,9, -999.000,9, -999.000,5,-999.0000,5,  -999.00,9,   -999.0,9,  -999.00,9,-999.000,9,   2255.2,2,   2347.9,2,  -999.0, -999.00,-999.0000,-999.000,-999.000
     316N145_5,  I08S,    66,  1,      6, SIH038,2,19941224,1511,-57.5112,  82.5250, 3965,37534.5,   3769.9,  -0.0632,  34.6733,2,  34.6732,2,    230.3,2, -0.3150,    232.4,2,   125.60,2,    32.17,2,     0.00,2,     2.23,2, -999.000,9, -999.000,9, -999.000,5,-999.0000,5,  -999.00,9,   -999.0,9,  -999.00,9,-999.000,9,   2253.2,2,   2345.5,3,  -999.0, -999.00,-999.0000,-999.000,-999.000
     316N145_5,  I08S,    66,  1,      5, SIH006,2,19941224,1511,-57.5112,  82.5250, 3965,39582.7,   3975.9,  -0.0706,  34.6737,2,  34.6722,2,    232.4,2, -0.3423,    233.4,2,   125.94,2,    32.17,2,     0.00,2,     2.23,2, -999.000,9, -999.000,9, -999.000,5,-999.0000,5,  -999.00,9,   -999.0,9,  -999.00,9,-999.000,9,   2254.8,2,   2353.2,2,  -999.0, -999.00,-999.0000,-999.000,-999.000
     316N145_5,  I08S,    66,  1,      4, SIH004,2,19941224,1511,-57.5112,  82.5250, 3965,41545.5,   4173.4,  -0.0920,  34.6727,2,  34.6708,2,    233.9,2, -0.3829,    234.8,2,   126.11,2,    32.17,2,     0.00,2,     2.23,2, -999.000,9, -999.000,9, -999.000,5,-999.0000,5,  -999.00,9,   -999.0,9,  -999.00,9,-999.000,9,   2253.6,2,   2352.1,2,  -999.0, -999.00,-999.0000,-999.000,-999.000
     316N145_5,  I08S,    66,  1,      3, SIH025,2,19941224,1511,-57.5112,  82.5250, 3965,43624.4,   4382.5,  -0.0697,  34.6726,2,  34.6712,2,    235.6,2, -0.3830,    234.5,2,   126.44,2,    32.23,2,     0.00,2,     2.23,2, -999.000,9, -999.000,9, -999.000,5,-999.0000,5,  -999.00,9,   -999.0,9,  -999.00,9,-999.000,9,   2255.4,2,   2341.5,3,  -999.0, -999.00,-999.0000,-999.000,-999.000
     316N145_5,  I08S,    66,  1,      2, SIH001,2,19941224,1511,-57.5112,  82.5250, 3965,44569.2,   4477.5,  -0.0579,  34.6725,2,  34.6722,2,    236.5,2, -0.3815,    234.6,2,   126.28,2,    32.23,2,     0.00,2,     2.22,2, -999.000,9, -999.000,9, -999.000,5,-999.0000,5,  -999.00,9,   -999.0,9,  -999.00,9,-999.000,9,   2254.0,2,   2351.8,2,  -999.0, -999.00,-999.0000,-999.000,-999.000
     316N145_5,  I08S,    66,  1,      1, SIH036,2,19941224,1511,-57.5112,  82.5250, 3965,45068.9,   4527.8,  -0.0518,  34.6706,2,  34.6716,2,    236.8,2, -0.3809,    234.8,2,   126.12,2,    32.11,2,     0.00,2,     2.23,2, -999.000,9, -999.000,9, -999.000,5,-999.0000,5,  -999.00,9,   -999.0,9,  -999.00,9,-999.000,9,   2253.8,6,   2355.3,2,  -999.0, -999.00,-999.0000,-999.000,-999.000