BOTTLE,20090521WHPSIOdm
EXPOCODE,SECT_ID,STNNBR,CASTNO,SAMPNO,BTLNBR,BTLNBR_FLAG_W,DATE,TIME,LATITUDE,LONGITUDE,DEPTH,CTDRAW,CTDPRS,CTDTMP,CTDSAL,CTDSAL_FLAG_W,SALNTY,SALNTY_FLAG_W,CTDOXY,CTDOXY_FLAG_W,THETA,OXYGEN,OXYGEN_FLAG_W,SILCAT,SILCAT_FLAG_W,NITRAT,NITRAT_FLAG_W,NITRIT,NITRIT_FLAG_W,PHSPHT,PHSPHT_FLAG_W,CFC-11,CFC-11_FLAG_W,CFC-12,CFC-12_FLAG_W,TRITUM,TRITUM_FLAG_W,HELIUM,HELIUM_FLAG_W,DELHE3,DELHE3_FLAG_W,DELC14,DELC14_FLAG_W,DELC13,DELC13_FLAG_W,NEON,NEON_FLAG_W,TCARBN,TCARBN_FLAG_W,ALKALI,ALKALI_FLAG_W,C14ERR,DELHER,HELIER,NEONER,TRITER
,,,,,,,,,,,,,DBAR,IPTS-68,PSS-78,,PSS-78,,UMOL/KG,,IPTS-68,UMOL/KG,,UMOL/KG,,UMOL/KG,,UMOL/KG,,UMOL/KG,,PMOL/KG,,PMOL/KG,,TU,,NMOL/KG,,PERCNT,,/MILLE,,/MILLE,,NMOL/KG,,UMOL/KG,,UMOL/KG,,/MILLE,PERCNT,NMOL/KG,NMOL/KG,TU
     316N145_5,  I09S,   131,  1,     36, SI9446,2,19950114,1516,-41.5055, 114.9888, 4620,  197.4,     14.9,  12.9010,  34.8000,2,  34.7988,2,    282.5,2, 12.8989,    271.0,2,     0.48,2,     6.62,2,     0.14,2,     0.59,2,    3.397,2,    1.775,2, -999.000,5,-999.0000,5,  -999.00,9,   -999.0,9,  -999.00,9,-999.000,9,   -999.0,9,   -999.0,9,  -999.0, -999.00,-999.0000,-999.000,-999.000
     316N145_5,  I09S,   131,  1,     35, SIH032,2,19950114,1516,-41.5055, 114.9888, 4620,  404.3,     35.7,  12.8850,  34.8022,2,  34.8019,2,    278.9,2, 12.8802,    271.0,2,     0.48,2,     6.59,2,     0.13,2,     0.59,2,    3.375,2,    1.793,2, -999.000,5,-999.0000,5,  -999.00,9,   -999.0,9,  -999.00,9,-999.000,9,   -999.0,9,   -999.0,9,  -999.0, -999.00,-999.0000,-999.000,-999.000
     316N145_5,  I09S,   131,  1,     34, SIH029,2,19950114,1516,-41.5055, 114.9888, 4620,  642.6,     59.6,  12.3847,  34.8235,2,  34.8237,2,    271.3,2, 12.3768,    267.6,2,     1.28,2,     7.24,2,     0.14,2,     0.65,2, -999.000,9, -999.000,9, -999.000,5,-999.0000,5,  -999.00,9,   -999.0,9,  -999.00,9,-999.000,9,   -999.0,9,   -999.0,9,  -999.0, -999.00,-999.0000,-999.000,-999.000
     316N145_5,  I09S,   131,  1,     33, SIH026,2,19950114,1516,-41.5055, 114.9888, 4620,  905.2,     86.1,  11.2493,  34.8537,2,  34.8304,4,    273.1,2, 11.2386,    266.8,2,     2.40,2,     8.54,2,     0.24,2,     0.76,2,    3.608,2,    1.877,2, -999.000,5,-999.0000,5,  -999.00,9,   -999.0,9,  -999.00,9,-999.000,9,   -999.0,9,   -999.0,9,  -999.0, -999.00,-999.0000,-999.000,-999.000
     316N145_5,  I09S,   131,  1,     32, SIH023,2,19950114,1516,-41.5055, 114.9888, 4620, 1151.8,    110.8,  11.0969,  34.9231,2,  34.9235,2,    263.7,2, 11.0832,    259.4,2,     1.92,2,     8.21,2,     0.10,2,     0.69,2,    3.520,2,    1.847,2, -999.000,5,-999.0000,5,  -999.00,9,   -999.0,9,  -999.00,9,-999.000,9,   -999.0,9,   -999.0,9,  -999.0, -999.00,-999.0000,-999.000,-999.000
     316N145_5,  I09S,   131,  1,     31, SIH020,2,19950114,1516,-41.5055, 114.9888, 4620, 1646.0,    160.5,  10.6058,  34.8550,2,  34.8550,2,    259.3,2, 10.5865,    260.5,2,     2.24,2,     9.74,2,     0.02,2,     0.78,2,    3.591,2,    1.866,2, -999.000,5,-999.0000,5,  -999.00,9,   -999.0,9,  -999.00,9,-999.000,9,   -999.0,9,   -999.0,9,  -999.0, -999.00,-999.0000,-999.000,-999.000
     316N145_5,  I09S,   131,  1,     30, SIH017,2,19950114,1516,-41.5055, 114.9888, 4620, 2145.4,    210.8,  10.1309,  34.7855,2,  34.7880,2,    263.2,2, 10.1063,    260.5,2,     2.72,2,    11.25,2,     0.01,2,     0.88,2,    3.650,2,    1.889,2, -999.000,5,-999.0000,5,  -999.00,9,   -999.0,9,  -999.00,9,-999.000,9,   -999.0,9,   -999.0,9,  -999.0, -999.00,-999.0000,-999.000,-999.000
     316N145_5,  I09S,   131,  1,     29, SIH014,2,19950114,1516,-41.5055, 114.9888, 4620, 2642.6,    260.8,   9.8988,  34.7596,2,  34.7592,2,    263.1,2,  9.8687,    262.0,2,     3.20,2,    12.03,2,     0.02,2,     0.93,2,    3.675,2,    1.893,2, -999.000,5,-999.0000,5,  -999.00,9,   -999.0,9,  -999.00,9,-999.000,9,   -999.0,9,   -999.0,9,  -999.0, -999.00,-999.0000,-999.000,-999.000
     316N145_5,  I09S,   131,  1,     28, SIH011,2,19950114,1516,-41.5055, 114.9888, 4620, 3133.4,    310.1,   9.7809,  34.7486,2,  34.7488,2,    262.5,2,  9.7453,    261.4,2,     3.68,2,    12.64,2,     0.02,2,     0.96,2,    3.643,6,    1.882,6, -999.000,5,-999.0000,5,  -999.00,9,   -999.0,9,  -999.00,9,-999.000,9,   -999.0,9,   -999.0,9,  -999.0, -999.00,-999.0000,-999.000,-999.000
     316N145_5,  I09S,   131,  1,     27, SIH008,2,19950114,1516,-41.5055, 114.9888, 4620, 3635.4,    360.6,   9.5797,  34.7142,2,  34.7140,2,    262.1,2,  9.5388,    259.4,2,     3.84,2,    13.39,2,     0.02,2,     1.00,2,    3.588,2,    1.849,2, -999.000,5,-999.0000,5,  -999.00,9,   -999.0,9,  -999.00,9,-999.000,9,   -999.0,9,   -999.0,9,  -999.0, -999.00,-999.0000,-999.000,-999.000
     316N145_5,  I09S,   131,  1,     26, SIH005,2,19950114,1516,-41.5055, 114.9888, 4620, 4143.6,    411.7,   9.5100,  34.7066,2,  34.7068,2,    260.9,2,  9.4633,    259.8,2,     4.16,2,    13.68,2,     0.01,2,     1.02,2,    3.597,2,    1.851,2, -999.000,5,-999.0000,5,  -999.00,9,   -999.0,9,  -999.00,9,-999.000,9,   -999.0,9,   -999.0,9,  -999.0, -999.00,-999.0000,-999.000,-999.000
     316N145_5,  I09S,   131,  1,     25, SIH019,2,19950114,1516,-41.5055, 114.9888, 4620, 4632.8,    460.9,   9.4640,  34.7024,2,  34.7028,2,    263.7,2,  9.4118,    258.9,2,     4.32,2,    13.97,2,     0.01,2,     1.04,2,    3.534,2,    1.824,2, -999.000,5,-999.0000,5,  -999.00,9,   -999.0,9,  -999.00,9,-999.000,9,   -999.0,9,   -999.0,9,  -999.0, -999.00,-999.0000,-999.000,-999.000
     316N145_5,  I09S,   131,  1,     24, SIH037,2,19950114,1516,-41.5055, 114.9888, 4620, 5145.3,    512.4,   9.3179,  34.6777,2,  34.6779,2,    258.2,2,  9.2603,    253.4,2,     4.49,2,    14.79,2,     0.03,2,     1.09,3,    3.452,2,    1.756,2, -999.000,5,-999.0000,5,  -999.00,9,   -999.0,9,  -999.00,9,-999.000,9,   -999.0,9,   -999.0,9,  -999.0, -999.00,-999.0000,-999.000,-999.000
     316N145_5,  I09S,   131,  1,     23, SIH033,2,19950114,1516,-41.5055, 114.9888, 4620, 6131.2,    611.6,   9.0246,  34.6359,2,  34.6356,2,    245.6,2,  8.9567,    242.6,2,     5.44,2,    16.76,2,     0.02,2,     1.21,3,    3.157,2,    1.568,2, -999.000,5,-999.0000,5,  -999.00,9,   -999.0,9,  -999.00,9,-999.000,9,   -999.0,9,   -999.0,9,  -999.0, -999.00,-999.0000,-999.000,-999.000
     316N145_5,  I09S,   131,  1,     22, SIH031,2,19950114,1516,-41.5055, 114.9888, 4620, 7125.3,    711.5,   8.3870,  34.5588,2,  34.5600,2,    239.9,2,  8.3110,    236.5,2,     7.53,2,    19.01,2,     0.02,2,     1.35,3,    2.772,2,    1.408,2, -999.000,5,-999.0000,5,  -999.00,9,   -999.0,9,  -999.00,9,-999.000,9,   -999.0,9,   -999.0,9,  -999.0, -999.00,-999.0000,-999.000,-999.000
     316N145_5,  I09S,   131,  1,     21, SIH030,2,19950114,1516,-41.5055, 114.9888, 4620, 8113.2,    810.9,   7.5649,  34.5005,2,  34.5007,2,    214.8,2,  7.4828,    210.4,2,    12.97,2,    23.22,2,     0.02,2,     1.60,3,    1.800,2,    0.893,2, -999.000,5,-999.0000,5,  -999.00,9,   -999.0,9,  -999.00,9,-999.000,9,   -999.0,9,   -999.0,9,  -999.0, -999.00,-999.0000,-999.000,-999.000
     316N145_5,  I09S,   131,  1,     20, SIH028,2,19950114,1516,-41.5055, 114.9888, 4620, 9118.3,    912.0,   6.4125,  34.4325,2,  34.4332,2,    202.4,2,  6.3275,    199.3,2,    19.53,2,    26.69,2,     0.02,2,     1.82,3,    1.183,2,    0.600,2, -999.000,5,-999.0000,5,  -999.00,9,   -999.0,9,  -999.00,9,-999.000,9,   -999.0,9,   -999.0,9,  -999.0, -999.00,-999.0000,-999.000,-999.000
     316N145_5,  I09S,   131,  1,     19, SIH027,2,19950114,1516,-41.5055, 114.9888, 4620,10112.4,   1012.0,   5.3615,  34.3788,2,  34.3792,2,    200.1,2,  5.2745,    200.7,2,    25.78,2,    28.73,2,     0.03,2,     1.97,3,    1.090,2,    0.550,2, -999.000,5,-999.0000,5,  -999.00,9,   -999.0,9,  -999.00,9,-999.000,9,   -999.0,9,   -999.0,9,  -999.0, -999.00,-999.0000,-999.000,-999.000
     316N145_5,  I09S,   131,  1,     18, SIH003,2,19950114,1516,-41.5055, 114.9888, 4620,11111.7,   1112.5,   4.3987,  34.3489,2,  34.3505,2,    203.6,2,  4.3105,    204.2,2,    33.31,2,    30.53,2,     0.02,2,     2.09,3,    1.004,2,    0.494,2, -999.000,5,-999.0000,5,  -999.00,9,   -999.0,9,  -999.00,9,-999.000,9,   -999.0,9,   -999.0,9,  -999.0, -999.00,-999.0000,-999.000,-999.000
     316N145_5,  I09S,   131,  1,     17, SIH024,2,19950114,1516,-41.5055, 114.9888, 4620,12120.5,   1213.9,   3.8586,  34.3620,2,  34.3629,2,    195.9,2,  3.7664,    198.0,2,    40.99,2,    31.79,2,     0.02,2,     2.18,3,    0.760,2,    0.376,2, -999.000,5,-999.0000,5,  -999.00,9,   -999.0,9,  -999.00,9,-999.000,9,   -999.0,9,   -999.0,9,  -999.0, -999.00,-999.0000,-999.000,-999.000
     316N145_5,  I09S,   131,  1,     16, SIH022,2,19950114,1516,-41.5055, 114.9888, 4620,14126.3,   1415.7,   3.1918,  34.4407,2,  34.4400,2,    180.8,2,  3.0892,    179.6,2,    57.81,2,    33.62,2,     0.02,2,     2.32,3,    0.315,2,    0.164,2, -999.000,5,-999.0000,5,  -999.00,9,   -999.0,9,  -999.00,9,-999.000,9,   -999.0,9,   -999.0,9,  -999.0, -999.00,-999.0000,-999.000,-999.000
     316N145_5,  I09S,   131,  1,     15, SIH021,2,19950114,1516,-41.5055, 114.9888, 4620,16144.2,   1618.7,   2.8251,  34.5348,2,  34.5372,2,    169.2,2,  2.7095,    168.4,2,    69.98,2,    34.19,2,     0.01,2,     2.36,3,    0.117,2,    0.068,2, -999.000,5,-999.0000,5,  -999.00,9,   -999.0,9,  -999.00,9,-999.000,9,   -999.0,9,   -999.0,9,  -999.0, -999.00,-999.0000,-999.000,-999.000
     316N145_5,  I09S,   131,  1,     14, SIH002,2,19950114,1516,-41.5055, 114.9888, 4620,18158.8,   1821.3,   2.6560,  34.6122,2,  34.6136,2,    168.8,2,  2.5252,    165.6,2,    77.98,2,    33.77,2,     0.01,2,     2.33,3,    0.047,2,    0.026,2, -999.000,5,-999.0000,5,  -999.00,9,   -999.0,9,  -999.00,9,-999.000,9,   -999.0,9,   -999.0,9,  -999.0, -999.00,-999.0000,-999.000,-999.000
     316N145_5,  I09S,   131,  1,     13, SIH018,2,19950114,1516,-41.5055, 114.9888, 4620,20168.0,   2023.4,   2.4862,  34.6732,2,  34.6741,2,    172.6,2,  2.3402,    171.9,2,    81.51,2,    32.66,2,     0.01,2,     2.25,3,    0.074,4,    0.019,2, -999.000,5,-999.0000,5,  -999.00,9,   -999.0,9,  -999.00,9,-999.000,9,   -999.0,9,   -999.0,9,  -999.0, -999.00,-999.0000,-999.000,-999.000
     316N145_5,  I09S,   131,  1,     12, SIH016,2,19950114,1516,-41.5055, 114.9888, 4620,22196.4,   2227.4,   2.3664,  34.7083,2,  34.7099,2,    176.6,2,  2.2041,    175.9,2,    85.67,2,    32.05,2,     0.01,2,     2.20,3,    0.028,2,    0.029,2, -999.000,5,-999.0000,5,  -999.00,9,   -999.0,9,  -999.00,9,-999.000,9,   -999.0,9,   -999.0,9,  -999.0, -999.00,-999.0000,-999.000,-999.000
     316N145_5,  I09S,   131,  1,     11, SIH015,2,19950114,1516,-41.5055, 114.9888, 4620,24220.5,   2431.0,   2.2296,  34.7264,2,  34.7266,2,    177.7,2,  2.0510,    177.8,2,    92.24,2,    31.82,2,     0.01,2,     2.19,3,    0.008,2,    0.008,2, -999.000,5,-999.0000,5,  -999.00,9,   -999.0,9,  -999.00,9,-999.000,9,   -999.0,9,   -999.0,9,  -999.0, -999.00,-999.0000,-999.000,-999.000
     316N145_5,  I09S,   131,  1,     10, SI9426,2,19950114,1516,-41.5055, 114.9888, 4620,27249.5,   2735.7,   2.0305,  34.7435,2,  34.7429,2,    186.5,2,  1.8273,    187.5,2,    93.04,2,    31.12,2,     0.01,2,     2.13,3,    0.009,2,    0.005,2, -999.000,5,-999.0000,5,  -999.00,9,   -999.0,9,  -999.00,9,-999.000,9,   -999.0,9,   -999.0,9,  -999.0, -999.00,-999.0000,-999.000,-999.000
     316N145_5,  I09S,   131,  1,      9, SIH012,2,19950114,1516,-41.5055, 114.9888, 4620,30275.5,   3040.1,   1.7382,  34.7466,2,  34.7480,2,    195.4,2,  1.5118,    197.2,2,    96.52,2,    30.53,2,     0.01,2,     2.09,3,    0.020,2,    0.023,2, -999.000,5,-999.0000,5,  -999.00,9,   -999.0,9,  -999.00,9,-999.000,9,   -999.0,9,   -999.0,9,  -999.0, -999.00,-999.0000,-999.000,-999.000
     316N145_5,  I09S,   131,  1,      8, SIH010,2,19950114,1516,-41.5055, 114.9888, 4620,33328.4,   3347.2,   1.4384,  34.7357,2,  34.7402,3,    199.2,2,  1.1888,    201.4,2,   105.85,2,    31.00,2,     0.00,2,     2.12,2,    0.025,2,    0.019,2, -999.000,5,-999.0000,5,  -999.00,9,   -999.0,9,  -999.00,9,-999.000,9,   -999.0,9,   -999.0,9,  -999.0, -999.00,-999.0000,-999.000,-999.000
     316N145_5,  I09S,   131,  1,      7, SIH009,2,19950114,1516,-41.5055, 114.9888, 4620,36475.5,   3663.7,   1.1384,  34.7218,2,  34.7199,2,    201.5,2,  0.8645,    204.6,2,   115.30,2,    31.56,2,     0.00,2,     2.17,2,    0.026,2,    0.023,2, -999.000,5,-999.0000,5,  -999.00,9,   -999.0,9,  -999.00,9,-999.000,9,   -999.0,9,   -999.0,9,  -999.0, -999.00,-999.0000,-999.000,-999.000
     316N145_5,  I09S,   131,  1,      6, SIH038,2,19950114,1516,-41.5055, 114.9888, 4620,39563.8,   3974.4,   0.8766,  34.7096,2,  34.7087,2,    208.8,2,  0.5778,    209.3,2,   122.36,2,    31.89,2,     0.00,2,     2.18,2,    0.062,2,    0.040,2, -999.000,5,-999.0000,5,  -999.00,9,   -999.0,9,  -999.00,9,-999.000,9,   -999.0,9,   -999.0,9,  -999.0, -999.00,-999.0000,-999.000,-999.000
     316N145_5,  I09S,   131,  1,      5, SIH006,2,19950114,1516,-41.5055, 114.9888, 4620,41600.7,   4179.3,   0.8098,  34.7051,2,  34.7054,2,    210.2,2,  0.4913,    210.6,2,   124.30,2,    32.05,2,     0.00,2,     2.19,2,    0.067,6,    0.043,6, -999.000,5,-999.0000,5,  -999.00,9,   -999.0,9,  -999.00,9,-999.000,9,   -999.0,9,   -999.0,9,  -999.0, -999.00,-999.0000,-999.000,-999.000
     316N145_5,  I09S,   131,  1,      4, SIH004,2,19950114,1516,-41.5055, 114.9888, 4620,43639.6,   4384.4,   0.8033,  34.7046,2,  34.7048,2,    211.8,2,  0.4627,    210.7,2,   125.24,2,    32.09,2,     0.00,2,     2.20,2,    0.077,2,    0.103,4, -999.000,5,-999.0000,5,  -999.00,9,   -999.0,9,  -999.00,9,-999.000,9,   -999.0,9,   -999.0,9,  -999.0, -999.00,-999.0000,-999.000,-999.000
     316N145_5,  I09S,   131,  1,      3, SIH025,2,19950114,1516,-41.5055, 114.9888, 4620,45644.8,   4586.1,   0.8040,  34.7035,2,  34.7030,2,    213.3,2,  0.4409,    210.6,2,   125.73,2,    32.10,2,     0.00,2,     2.20,2,    0.064,2,    0.043,2, -999.000,5,-999.0000,5,  -999.00,9,   -999.0,9,  -999.00,9,-999.000,9,   -999.0,9,   -999.0,9,  -999.0, -999.00,-999.0000,-999.000,-999.000
     316N145_5,  I09S,   131,  1,      2, SIH001,2,19950114,1516,-41.5055, 114.9888, 4620,46307.1,   4652.7,   0.8118,  34.7039,2,  34.7026,2,    213.6,2,  0.4409,    210.9,2,   125.58,2,    32.05,2,     0.00,2,     2.21,2,    0.065,2,    0.050,2, -999.000,5,-999.0000,5,  -999.00,9,   -999.0,9,  -999.00,9,-999.000,9,   -999.0,9,   -999.0,9,  -999.0, -999.00,-999.0000,-999.000,-999.000
     316N145_5,  I09S,   131,  1,      1, SIH036,2,19950114,1516,-41.5055, 114.9888, 4620,46833.6,   4705.7,   0.8178,  34.7037,2,  34.7034,2,    214.3,3,  0.4407,    211.0,2,   125.47,2,    32.15,2,     0.00,2,     2.20,2,    0.063,2,    0.037,2, -999.000,5,-999.0000,5,  -999.00,9,   -999.0,9,  -999.00,9,-999.000,9,   -999.0,9,   -999.0,9,  -999.0, -999.00,-999.0000,-999.000,-999.000