BOTTLE,20090521WHPSIOdm
EXPOCODE,SECT_ID,STNNBR,CASTNO,SAMPNO,BTLNBR,BTLNBR_FLAG_W,DATE,TIME,LATITUDE,LONGITUDE,DEPTH,CTDRAW,CTDPRS,CTDTMP,CTDSAL,CTDSAL_FLAG_W,SALNTY,SALNTY_FLAG_W,CTDOXY,CTDOXY_FLAG_W,THETA,OXYGEN,OXYGEN_FLAG_W,SILCAT,SILCAT_FLAG_W,NITRAT,NITRAT_FLAG_W,NITRIT,NITRIT_FLAG_W,PHSPHT,PHSPHT_FLAG_W,CFC-11,CFC-11_FLAG_W,CFC-12,CFC-12_FLAG_W,TRITUM,TRITUM_FLAG_W,HELIUM,HELIUM_FLAG_W,DELHE3,DELHE3_FLAG_W,DELC14,DELC14_FLAG_W,DELC13,DELC13_FLAG_W,NEON,NEON_FLAG_W,TCARBN,TCARBN_FLAG_W,ALKALI,ALKALI_FLAG_W,C14ERR,DELHER,HELIER,NEONER,TRITER
,,,,,,,,,,,,,DBAR,IPTS-68,PSS-78,,PSS-78,,UMOL/KG,,IPTS-68,UMOL/KG,,UMOL/KG,,UMOL/KG,,UMOL/KG,,UMOL/KG,,PMOL/KG,,PMOL/KG,,TU,,NMOL/KG,,PERCNT,,/MILLE,,/MILLE,,NMOL/KG,,UMOL/KG,,UMOL/KG,,/MILLE,PERCNT,NMOL/KG,NMOL/KG,TU
     316N145_5,  I09S,   117,  1,     36, SIH035,2,19950110,2159,-48.4833, 115.0278, 3635,  159.1,     10.6,   9.1826,  34.4377,2,  34.4373,2,    273.7,2,  9.1815,    282.9,2,     1.11,2,    12.95,2,     0.23,2,     0.99,2, -999.000,9, -999.000,9, -999.000,5,-999.0000,5,  -999.00,9,   -999.0,9,  -999.00,9,-999.000,9,   -999.0,9,   -999.0,9,  -999.0, -999.00,-999.0000,-999.000,-999.000
     316N145_5,  I09S,   117,  1,     35, SIH032,2,19950110,2159,-48.4833, 115.0278, 3635,  361.6,     31.0,   9.1829,  34.4385,2,  34.4424,2,    276.5,2,  9.1796,    283.0,2,     1.10,2,    12.95,2,     0.23,2,     0.99,2,    4.012,2,    2.051,2, -999.000,5,-999.0000,5,  -999.00,9,   -999.0,9,  -999.00,9,-999.000,9,   -999.0,9,   -999.0,9,  -999.0, -999.00,-999.0000,-999.000,-999.000
     316N145_5,  I09S,   117,  1,     34, SIH029,2,19950110,2159,-48.4833, 115.0278, 3635,  602.4,     55.2,   9.1882,  34.4385,2,  34.4428,2,    276.7,2,  9.1822,    283.0,2,     1.25,2,    12.89,2,     0.23,2,     0.99,2, -999.000,9, -999.000,9, -999.000,5,-999.0000,5,  -999.00,9,   -999.0,9,  -999.00,9,-999.000,9,   -999.0,9,   -999.0,9,  -999.0, -999.00,-999.0000,-999.000,-999.000
     316N145_5,  I09S,   117,  1,     33, SIH026,2,19950110,2159,-48.4833, 115.0278, 3635,  858.7,     81.0,   9.3723,  34.5964,2,  34.6042,2,    273.0,2,  9.3634,    278.5,2,     2.99,2,    12.22,2,     0.25,2,     0.98,2, -999.000,9, -999.000,9, -999.000,5,-999.0000,5,  -999.00,9,   -999.0,9,  -999.00,9,-999.000,9,   -999.0,9,   -999.0,9,  -999.0, -999.00,-999.0000,-999.000,-999.000
     316N145_5,  I09S,   117,  1,     32, SIH023,2,19950110,2159,-48.4833, 115.0278, 3635, 1109.5,    106.2,   9.3934,  34.6452,2,  34.6492,2,    264.6,2,  9.3816,    269.1,2,     4.25,2,    13.26,2,     0.17,2,     1.03,2,    3.800,2,    1.941,2, -999.000,5,-999.0000,5,  -999.00,9,   -999.0,9,  -999.00,9,-999.000,9,   -999.0,9,   -999.0,9,  -999.0, -999.00,-999.0000,-999.000,-999.000
     316N145_5,  I09S,   117,  1,     31, SIH020,2,19950110,2159,-48.4833, 115.0278, 3635, 1616.2,    157.2,   9.0851,  34.6357,2,  34.6398,2,    262.5,2,  9.0681,    265.1,2,     5.36,2,    14.60,2,     0.01,2,     1.09,2, -999.000,9, -999.000,9, -999.000,5,-999.0000,5,  -999.00,9,   -999.0,9,  -999.00,9,-999.000,9,   -999.0,9,   -999.0,9,  -999.0, -999.00,-999.0000,-999.000,-999.000
     316N145_5,  I09S,   117,  1,     30, SIH017,2,19950110,2159,-48.4833, 115.0278, 3635, 2112.1,    207.0,   9.0510,  34.6450,2,  34.6504,2,    263.7,2,  9.0285,    262.8,2,     5.49,2,    14.81,2,     0.01,2,     1.10,2,    3.582,2,    1.837,2, -999.000,5,-999.0000,5,  -999.00,9,   -999.0,9,  -999.00,9,-999.000,9,   -999.0,9,   -999.0,9,  -999.0, -999.00,-999.0000,-999.000,-999.000
     316N145_5,  I09S,   117,  1,     29, SIH014,2,19950110,2159,-48.4833, 115.0278, 3635, 2581.5,    254.2,   8.6128,  34.5721,2,  34.5751,2,    267.3,2,  8.5859,    264.3,2,     5.96,2,    15.87,2,     0.01,2,     1.18,2, -999.000,9, -999.000,9, -999.000,5,-999.0000,5,  -999.00,9,   -999.0,9,  -999.00,9,-999.000,9,   -999.0,9,   -999.0,9,  -999.0, -999.00,-999.0000,-999.000,-999.000
     316N145_5,  I09S,   117,  1,     28, SIH011,2,19950110,2159,-48.4833, 115.0278, 3635, 3080.1,    304.4,   8.1857,  34.5099,2,  34.5129,2,    257.2,2,  8.1544,    256.3,2,     7.07,2,    17.69,2,     0.01,2,     1.28,2, -999.000,9, -999.000,9, -999.000,5,-999.0000,5,  -999.00,9,   -999.0,9,  -999.00,9,-999.000,9,   -999.0,9,   -999.0,9,  -999.0, -999.00,-999.0000,-999.000,-999.000
     316N145_5,  I09S,   117,  1,     27, SIH008,2,19950110,2159,-48.4833, 115.0278, 3635, 3583.4,    355.0,   7.4256,  34.4199,2,  34.4269,2,    260.7,2,  7.3912,    254.7,2,     8.49,2,    19.56,2,     0.01,2,     1.41,2, -999.000,9, -999.000,9, -999.000,5,-999.0000,5,  -999.00,9,   -999.0,9,  -999.00,9,-999.000,9,   -999.0,9,   -999.0,9,  -999.0, -999.00,-999.0000,-999.000,-999.000
     316N145_5,  I09S,   117,  1,     26, SIH005,2,19950110,2159,-48.4833, 115.0278, 3635, 4090.2,    405.9,   6.9959,  34.3915,2,  34.3953,2,    251.8,2,  6.9577,    247.3,2,    10.38,2,    21.16,2,     0.01,2,     1.51,2,    3.187,2,    1.587,2, -999.000,5,-999.0000,5,  -999.00,9,   -999.0,9,  -999.00,9,-999.000,9,   -999.0,9,   -999.0,9,  -999.0, -999.00,-999.0000,-999.000,-999.000
     316N145_5,  I09S,   117,  1,     25, SIH019,2,19950110,2159,-48.4833, 115.0278, 3635, 4571.4,    454.3,   5.9750,  34.2543,2,  34.2699,4,    267.7,2,  5.9358,    267.1,2,    10.37,2,    21.95,2,     0.01,2,     1.55,2, -999.000,9, -999.000,9, -999.000,5,-999.0000,5,  -999.00,9,   -999.0,9,  -999.00,9,-999.000,9,   -999.0,9,   -999.0,9,  -999.0, -999.00,-999.0000,-999.000,-999.000
     316N145_5,  I09S,   117,  1,     24, SIH037,2,19950110,2159,-48.4833, 115.0278, 3635, 4951.6,    492.6,   5.4711,  34.1953,2,  34.2007,3,    280.4,2,  5.4303,    277.5,2,    10.52,2,    22.53,2,     0.01,2,     1.58,2,    4.224,2,    2.112,2, -999.000,5,-999.0000,5,  -999.00,9,   -999.0,9,  -999.00,9,-999.000,9,   -999.0,9,   -999.0,9,  -999.0, -999.00,-999.0000,-999.000,-999.000
     316N145_5,  I09S,   117,  1,     23, SIH033,2,19950110,2159,-48.4833, 115.0278, 3635, 6043.3,    602.4,   5.1156,  34.2827,2,  34.2848,2,    240.8,2,  5.0668,    235.6,2,    18.96,2,    26.52,2,     0.01,2,     1.84,2, -999.000,9, -999.000,9, -999.000,5,-999.0000,5,  -999.00,9,   -999.0,9,  -999.00,9,-999.000,9,   -999.0,9,   -999.0,9,  -999.0, -999.00,-999.0000,-999.000,-999.000
     316N145_5,  I09S,   117,  1,     22, SIH031,2,19950110,2159,-48.4833, 115.0278, 3635, 7101.4,    708.8,   4.3583,  34.2730,2,  34.2766,2,    230.7,2,  4.3045,    228.8,2,    25.49,2,    28.81,2,     0.00,2,     1.97,2, -999.000,9, -999.000,9, -999.000,5,-999.0000,5,  -999.00,9,   -999.0,9,  -999.00,9,-999.000,9,   -999.0,9,   -999.0,9,  -999.0, -999.00,-999.0000,-999.000,-999.000
     316N145_5,  I09S,   117,  1,     21, SIH030,2,19950110,2159,-48.4833, 115.0278, 3635, 8090.2,    808.2,   3.9045,  34.3008,2,  34.3007,2,    218.7,2,  3.8454,    219.2,2,    32.49,2,    30.45,2,     0.00,2,     2.08,2, -999.000,9, -999.000,9, -999.000,5,-999.0000,5,  -999.00,9,   -999.0,9,  -999.00,9,-999.000,9,   -999.0,9,   -999.0,9,  -999.0, -999.00,-999.0000,-999.000,-999.000
     316N145_5,  I09S,   117,  1,     20, SIH028,2,19950110,2159,-48.4833, 115.0278, 3635, 9105.4,    910.4,   3.4549,  34.3365,2,  34.3403,2,    204.1,2,  3.3907,    206.0,2,    41.57,2,    31.86,2,     0.00,2,     2.19,2, -999.000,9, -999.000,9, -999.000,5,-999.0000,5,  -999.00,9,   -999.0,9,  -999.00,9,-999.000,9,   -999.0,9,   -999.0,9,  -999.0, -999.00,-999.0000,-999.000,-999.000
     316N145_5,  I09S,   117,  1,     19, SIH027,2,19950110,2159,-48.4833, 115.0278, 3635,10109.6,   1011.4,   3.0845,  34.3744,2,  34.3770,2,    195.3,2,  3.0153,    197.4,2,    49.36,2,    32.87,2,     0.00,2,     2.26,2, -999.000,9, -999.000,9, -999.000,5,-999.0000,5,  -999.00,9,   -999.0,9,  -999.00,9,-999.000,9,   -999.0,9,   -999.0,9,  -999.0, -999.00,-999.0000,-999.000,-999.000
     316N145_5,  I09S,   117,  1,     18, SIH003,2,19950110,2159,-48.4833, 115.0278, 3635,11104.8,   1111.5,   2.8992,  34.4088,2,  34.4135,2,    188.2,2,  2.8238,    190.6,2,    54.93,2,    33.57,2,     0.00,2,     2.30,2, -999.000,9, -999.000,9, -999.000,5,-999.0000,5,  -999.00,9,   -999.0,9,  -999.00,9,-999.000,9,   -999.0,9,   -999.0,9,  -999.0, -999.00,-999.0000,-999.000,-999.000
     316N145_5,  I09S,   117,  1,     17, SIH024,2,19950110,2159,-48.4833, 115.0278, 3635,12124.5,   1214.0,   2.7143,  34.4572,2,  34.4622,2,    179.6,2,  2.6326,    184.3,2,    60.82,2,    33.81,2,     0.00,2,     2.31,2, -999.000,9, -999.000,9, -999.000,5,-999.0000,5,  -999.00,9,   -999.0,9,  -999.00,9,-999.000,9,   -999.0,9,   -999.0,9,  -999.0, -999.00,-999.0000,-999.000,-999.000
     316N145_5,  I09S,   117,  1,     16, SIH022,2,19950110,2159,-48.4833, 115.0278, 3635,13131.3,   1315.3,   2.6996,  34.5202,2,  34.5225,2,    172.9,2,  2.6101,    177.5,2,    66.23,2,    33.74,2,     0.00,2,     2.30,2, -999.000,9, -999.000,9, -999.000,5,-999.0000,5,  -999.00,9,   -999.0,9,  -999.00,9,-999.000,9,   -999.0,9,   -999.0,9,  -999.0, -999.00,-999.0000,-999.000,-999.000
     316N145_5,  I09S,   117,  1,     15, SIH021,2,19950110,2159,-48.4833, 115.0278, 3635,14108.5,   1413.6,   2.6432,  34.5624,2,  34.5671,2,    170.3,2,  2.5464,    175.1,2,    69.24,2,    33.45,2,     0.00,2,     2.29,2, -999.000,9, -999.000,9, -999.000,5,-999.0000,5,  -999.00,9,   -999.0,9,  -999.00,9,-999.000,9,   -999.0,9,   -999.0,9,  -999.0, -999.00,-999.0000,-999.000,-999.000
     316N145_5,  I09S,   117,  1,     14, SIH002,4,19950110,2159,-48.4833, 115.0278, 3635,15131.9,   1516.5,   2.5616,  34.6041,2,  34.4899,4,    171.9,2,  2.4574,    183.8,4,    61.91,4,    33.28,4,     0.00,4,     2.29,4, -999.000,9, -999.000,9, -999.000,5,-999.0000,5,  -999.00,9,   -999.0,9,  -999.00,9,-999.000,9,   -999.0,9,   -999.0,9,  -999.0, -999.00,-999.0000,-999.000,-999.000
     316N145_5,  I09S,   117,  1,     13, SIH018,2,19950110,2159,-48.4833, 115.0278, 3635,16230.1,   1627.0,   2.4497,  34.6334,2,  34.6358,2,    173.2,2,  2.3379,    177.3,2,    74.02,2,    32.59,2,     0.00,2,     2.23,2, -999.000,9, -999.000,9, -999.000,5,-999.0000,5,  -999.00,9,   -999.0,9,  -999.00,9,-999.000,9,   -999.0,9,   -999.0,9,  -999.0, -999.00,-999.0000,-999.000,-999.000
     316N145_5,  I09S,   117,  1,     12, SIH016,2,19950110,2159,-48.4833, 115.0278, 3635,17215.3,   1726.1,   2.4589,  34.6698,2,  34.6737,2,    176.8,2,  2.3386,    180.0,2,    74.61,2,    31.69,2,     0.00,2,     2.18,2, -999.000,9, -999.000,9, -999.000,5,-999.0000,5,  -999.00,9,   -999.0,9,  -999.00,9,-999.000,9,   -999.0,9,   -999.0,9,  -999.0, -999.00,-999.0000,-999.000,-999.000
     316N145_5,  I09S,   117,  1,     11, SIH015,2,19950110,2159,-48.4833, 115.0278, 3635,19187.4,   1924.5,   2.3491,  34.7155,2,  34.7186,2,    182.9,2,  2.2135,    186.6,2,    76.51,2,    30.61,2,     0.00,2,     2.10,2, -999.000,9, -999.000,9, -999.000,5,-999.0000,5,  -999.00,9,   -999.0,9,  -999.00,9,-999.000,9,   -999.0,9,   -999.0,9,  -999.0, -999.00,-999.0000,-999.000,-999.000
     316N145_5,  I09S,   117,  1,      9, SIH012,2,19950110,2159,-48.4833, 115.0278, 3635,21275.6,   2134.5,   2.1982,  34.7374,2,  34.7410,2,    187.9,2,  2.0468,    191.5,2,    80.11,2,    30.09,2,     0.00,2,     2.06,2, -999.000,9, -999.000,9, -999.000,5,-999.0000,5,  -999.00,9,   -999.0,9,  -999.00,9,-999.000,9,   -999.0,9,   -999.0,9,  -999.0, -999.00,-999.0000,-999.000,-999.000
     316N145_5,  I09S,   117,  1,     10, SIH013,2,19950110,2159,-48.4833, 115.0278, 3635,21287.9,   2135.7,   2.1979,  34.7376,2,  34.7408,2,    187.8,2,  2.0464,    191.3,2,    79.97,2,    30.11,2,     0.00,2,     2.06,2, -999.000,9, -999.000,9, -999.000,5,-999.0000,5,  -999.00,9,   -999.0,9,  -999.00,9,-999.000,9,   -999.0,9,   -999.0,9,  -999.0, -999.00,-999.0000,-999.000,-999.000
     316N145_5,  I09S,   117,  1,      8, SIH010,2,19950110,2159,-48.4833, 115.0278, 3635,25277.2,   2537.0,   1.8378,  34.7455,2,  34.7484,2,    193.2,2,  1.6567,    196.9,2,    89.86,2,    30.13,2,     0.00,2,     2.06,2, -999.000,9, -999.000,9, -999.000,5,-999.0000,5,  -999.00,9,   -999.0,9,  -999.00,9,-999.000,9,   -999.0,9,   -999.0,9,  -999.0, -999.00,-999.0000,-999.000,-999.000
     316N145_5,  I09S,   117,  1,      7, SIH009,2,19950110,2159,-48.4833, 115.0278, 3635,27377.2,   2748.2,   1.6293,  34.7431,2,  34.7469,2,    196.4,2,  1.4330,    200.6,2,    96.86,2,    30.32,2,     0.00,2,     2.08,2, -999.000,9, -999.000,9, -999.000,5,-999.0000,5,  -999.00,9,   -999.0,9,  -999.00,9,-999.000,9,   -999.0,9,   -999.0,9,  -999.0, -999.00,-999.0000,-999.000,-999.000
     316N145_5,  I09S,   117,  1,      6, SIH038,2,19950110,2159,-48.4833, 115.0278, 3635,29392.8,   2951.0,   1.4194,  34.7344,2,  34.7378,2,    199.0,2,  1.2087,    202.5,2,   104.02,2,    30.73,2,     0.00,2,     2.11,2, -999.000,9, -999.000,9, -999.000,5,-999.0000,5,  -999.00,9,   -999.0,9,  -999.00,9,-999.000,9,   -999.0,9,   -999.0,9,  -999.0, -999.00,-999.0000,-999.000,-999.000
     316N145_5,  I09S,   117,  1,      5, SIH006,2,19950110,2159,-48.4833, 115.0278, 3635,31454.3,   3158.4,   1.2583,  34.7264,2,  34.7307,2,    199.9,2,  1.0315,    203.4,2,   110.71,2,    31.02,2,     0.00,2,     2.13,2, -999.000,9, -999.000,9, -999.000,5,-999.0000,5,  -999.00,9,   -999.0,9,  -999.00,9,-999.000,9,   -999.0,9,   -999.0,9,  -999.0, -999.00,-999.0000,-999.000,-999.000
     316N145_5,  I09S,   117,  1,      4, SIH004,2,19950110,2159,-48.4833, 115.0278, 3635,33411.5,   3355.2,   1.1688,  34.7215,2,  34.7190,4,    201.0,2,  0.9251,    204.9,2,   113.89,2,    31.27,2,     0.00,2,     2.15,2, -999.000,9, -999.000,9, -999.000,5,-999.0000,5,  -999.00,9,   -999.0,9,  -999.00,9,-999.000,9,   -999.0,9,   -999.0,9,  -999.0, -999.00,-999.0000,-999.000,-999.000
     316N145_5,  I09S,   117,  1,      3, SIH025,2,19950110,2159,-48.4833, 115.0278, 3635,35409.6,   3556.2,   1.0000,  34.7127,2,  34.7158,2,    204.2,2,  0.7407,    207.3,2,   118.66,2,    31.50,2,     0.00,2,     2.17,2, -999.000,9, -999.000,9, -999.000,5,-999.0000,5,  -999.00,9,   -999.0,9,  -999.00,9,-999.000,9,   -999.0,9,   -999.0,9,  -999.0, -999.00,-999.0000,-999.000,-999.000
     316N145_5,  I09S,   117,  1,      2, SIH001,2,19950110,2159,-48.4833, 115.0278, 3635,37268.3,   3743.2,   0.9791,  34.7123,2,  34.7121,2,    205.7,2,  0.7015,    208.8,2,   119.75,2,    31.54,2,     0.00,2,     2.17,2, -999.000,9, -999.000,9, -999.000,5,-999.0000,5,  -999.00,9,   -999.0,9,  -999.00,9,-999.000,9,   -999.0,9,   -999.0,9,  -999.0, -999.00,-999.0000,-999.000,-999.000
     316N145_5,  I09S,   117,  1,      1, SIH036,2,19950110,2159,-48.4833, 115.0278, 3635,37806.7,   3797.4,   0.9855,  34.7114,2,  34.7123,2,    205.5,2,  0.7020,    208.2,2,   119.92,2,    31.53,2,     0.00,2,     2.17,2, -999.000,9, -999.000,9, -999.000,5,-999.0000,5,  -999.00,9,   -999.0,9,  -999.00,9,-999.000,9,   -999.0,9,   -999.0,9,  -999.0, -999.00,-999.0000,-999.000,-999.000