BOTTLE,20090521WHPSIOdm
EXPOCODE,SECT_ID,STNNBR,CASTNO,SAMPNO,BTLNBR,BTLNBR_FLAG_W,DATE,TIME,LATITUDE,LONGITUDE,DEPTH,CTDRAW,CTDPRS,CTDTMP,CTDSAL,CTDSAL_FLAG_W,SALNTY,SALNTY_FLAG_W,CTDOXY,CTDOXY_FLAG_W,THETA,OXYGEN,OXYGEN_FLAG_W,SILCAT,SILCAT_FLAG_W,NITRAT,NITRAT_FLAG_W,NITRIT,NITRIT_FLAG_W,PHSPHT,PHSPHT_FLAG_W,CFC-11,CFC-11_FLAG_W,CFC-12,CFC-12_FLAG_W,TRITUM,TRITUM_FLAG_W,HELIUM,HELIUM_FLAG_W,DELHE3,DELHE3_FLAG_W,DELC14,DELC14_FLAG_W,DELC13,DELC13_FLAG_W,NEON,NEON_FLAG_W,TCARBN,TCARBN_FLAG_W,ALKALI,ALKALI_FLAG_W,C14ERR,DELHER,HELIER,NEONER,TRITER
,,,,,,,,,,,,,DBAR,IPTS-68,PSS-78,,PSS-78,,UMOL/KG,,IPTS-68,UMOL/KG,,UMOL/KG,,UMOL/KG,,UMOL/KG,,UMOL/KG,,PMOL/KG,,PMOL/KG,,TU,,NMOL/KG,,PERCNT,,/MILLE,,/MILLE,,NMOL/KG,,UMOL/KG,,UMOL/KG,,/MILLE,PERCNT,NMOL/KG,NMOL/KG,TU
     316N145_5,  I09S,   111,  1,     36, SIH035,2,19950109,0907,-51.4833, 114.9972, 3640,  174.8,     12.3,   3.6122,  33.9000,2,  33.9040,2,    338.8,2,  3.6115,    326.4,2,     1.53,2,    22.94,2,     0.26,2,     1.53,2,    5.678,2,    2.789,2, -999.000,5,-999.0000,5,  -999.00,9,   -999.0,9,  -999.00,9,-999.000,9,   -999.0,9,   -999.0,9,  -999.0, -999.00,-999.0000,-999.000,-999.000
     316N145_5,  I09S,   111,  1,     35, SIH032,2,19950109,0907,-51.4833, 114.9972, 3640,  374.3,     32.4,   3.5680,  33.9010,2,  33.9044,2,    336.9,2,  3.5660,    326.3,2,     1.53,2,    22.93,2,     0.26,2,     1.53,2,    5.749,2,    2.854,2, -999.000,5,-999.0000,5,  -999.00,9,   -999.0,9,  -999.00,9,-999.000,9,   -999.0,9,   -999.0,9,  -999.0, -999.00,-999.0000,-999.000,-999.000
     316N145_5,  I09S,   111,  1,     34, SIH029,2,19950109,0907,-51.4833, 114.9972, 3640,  613.7,     56.5,   3.0935,  33.9180,2,  33.9181,2,    328.7,2,  3.0901,    327.6,2,     2.47,2,    23.49,2,     0.25,2,     1.55,2,    5.867,2,    2.851,2, -999.000,5,-999.0000,5,  -999.00,9,   -999.0,9,  -999.00,9,-999.000,9,   -999.0,9,   -999.0,9,  -999.0, -999.00,-999.0000,-999.000,-999.000
     316N145_5,  I09S,   111,  1,     33, SIH026,2,19950109,0907,-51.4833, 114.9972, 3640,  872.2,     82.5,   2.9080,  33.9243,2,  33.9263,2,    332.5,2,  2.9031,    324.7,2,     4.22,2,    23.63,2,     0.25,2,     1.61,2,    5.810,2,    2.830,2, -999.000,5,-999.0000,5,  -999.00,9,   -999.0,9,  -999.00,9,-999.000,9,   -999.0,9,   -999.0,9,  -999.0, -999.00,-999.0000,-999.000,-999.000
     316N145_5,  I09S,   111,  1,     32, SIH023,2,19950109,0907,-51.4833, 114.9972, 3640, 1108.1,    106.2,   1.7114,  33.9588,2,  33.9575,2,    323.9,2,  1.7062,    319.9,2,    19.20,2,    25.99,2,     0.30,2,     1.88,2,    5.866,2,    2.864,2, -999.000,5,-999.0000,5,  -999.00,9,   -999.0,9,  -999.00,9,-999.000,9,   -999.0,9,   -999.0,9,  -999.0, -999.00,-999.0000,-999.000,-999.000
     316N145_5,  I09S,   111,  1,     31, SIH020,2,19950109,0907,-51.4833, 114.9972, 3640, 1624.2,    158.1,   1.1259,  34.0328,2,  34.0370,2,    308.4,2,  1.1188,    310.1,2,    29.56,2,    28.68,2,     0.21,2,     1.98,2,    5.543,2,    2.691,2, -999.000,5,-999.0000,5,  -999.00,9,   -999.0,9,  -999.00,9,-999.000,9,   -999.0,9,   -999.0,9,  -999.0, -999.00,-999.0000,-999.000,-999.000
     316N145_5,  I09S,   111,  1,     30, SIH017,2,19950109,0907,-51.4833, 114.9972, 3640, 2124.2,    208.4,   1.6771,  34.1700,2,  34.1734,2,    256.0,2,  1.6666,    256.0,2,    41.03,2,    31.43,2,     0.01,2,     2.14,2,    3.683,2,    1.752,2, -999.000,5,-999.0000,5,  -999.00,9,   -999.0,9,  -999.00,9,-999.000,9,   -999.0,9,   -999.0,9,  -999.0, -999.00,-999.0000,-999.000,-999.000
     316N145_5,  I09S,   111,  1,     29, SIH014,2,19950109,0907,-51.4833, 114.9972, 3640, 2617.1,    258.0,   1.8958,  34.2982,2,  34.3013,2,    220.3,2,  1.8822,    220.9,2,    52.67,2,    33.07,2,     0.01,2,     2.25,2,    2.427,6,    1.149,6, -999.000,5,-999.0000,5,  -999.00,9,   -999.0,9,  -999.00,9,-999.000,9,   -999.0,9,   -999.0,9,  -999.0, -999.00,-999.0000,-999.000,-999.000
     316N145_5,  I09S,   111,  1,     28, SIH011,2,19950109,0907,-51.4833, 114.9972, 3640, 3106.7,    307.2,   2.0558,  34.3659,2,  34.3703,2,    199.0,2,  2.0391,    204.3,2,    58.56,2,    33.80,2,     0.01,2,     2.30,2,    1.785,2,    0.823,2, -999.000,5,-999.0000,5,  -999.00,9,   -999.0,9,  -999.00,9,-999.000,9,   -999.0,9,   -999.0,9,  -999.0, -999.00,-999.0000,-999.000,-999.000
     316N145_5,  I09S,   111,  1,     27, SIH008,2,19950109,0907,-51.4833, 114.9972, 3640, 3572.7,    354.1,   2.0741,  34.4162,2,  34.4173,2,    194.2,2,  2.0545,    194.9,2,    63.03,2,    33.88,2,     0.01,2,     2.31,2,    1.444,2,    0.666,2, -999.000,5,-999.0000,5,  -999.00,9,   -999.0,9,  -999.00,9,-999.000,9,   -999.0,9,   -999.0,9,  -999.0, -999.00,-999.0000,-999.000,-999.000
     316N145_5,  I09S,   111,  1,     26, SIH005,2,19950109,0907,-51.4833, 114.9972, 3640, 4127.2,    409.9,   2.1094,  34.4772,2,  34.4797,2,    183.8,2,  2.0864,    185.5,2,    67.96,2,    34.07,2,     0.01,2,     2.32,2,    1.062,2,    0.492,2, -999.000,5,-999.0000,5,  -999.00,9,   -999.0,9,  -999.00,9,-999.000,9,   -999.0,9,   -999.0,9,  -999.0, -999.00,-999.0000,-999.000,-999.000
     316N145_5,  I09S,   111,  1,     25, SIH019,2,19950109,0907,-51.4833, 114.9972, 3640, 4612.2,    458.7,   2.1789,  34.5265,2,  34.5296,2,    175.7,2,  2.1527,    178.3,2,    71.31,2,    34.01,2,     0.00,2,     2.31,2, -999.000,9, -999.000,9, -999.000,5,-999.0000,5,  -999.00,9,   -999.0,9,  -999.00,9,-999.000,9,   -999.0,9,   -999.0,9,  -999.0, -999.00,-999.0000,-999.000,-999.000
     316N145_5,  I09S,   111,  1,     24, SIH037,2,19950109,0907,-51.4833, 114.9972, 3640, 5128.0,    510.5,   2.2347,  34.5693,2,  34.5716,2,    170.8,2,  2.2051,    177.8,2,    73.07,2,    33.50,2,     0.00,2,     2.28,2, -999.000,9, -999.000,9, -999.000,5,-999.0000,5,  -999.00,9,   -999.0,9,  -999.00,9,-999.000,9,   -999.0,9,   -999.0,9,  -999.0, -999.00,-999.0000,-999.000,-999.000
     316N145_5,  I09S,   111,  1,     23, SIH033,2,19950109,0907,-51.4833, 114.9972, 3640, 6121.6,    610.5,   2.2079,  34.6190,2,  34.6217,2,    172.9,2,  2.1720,    176.5,2,    75.77,2,    32.83,2,     0.00,2,     2.24,2,    0.392,2,    0.171,2, -999.000,5,-999.0000,5,  -999.00,9,   -999.0,9,  -999.00,9,-999.000,9,   -999.0,9,   -999.0,9,  -999.0, -999.00,-999.0000,-999.000,-999.000
     316N145_5,  I09S,   111,  1,     22, SIH031,2,19950109,0907,-51.4833, 114.9972, 3640, 7108.2,    709.7,   2.2054,  34.6605,2,  34.6600,2,    174.7,2,  2.1632,    179.0,2,    77.37,2,    32.11,2,     0.00,2,     2.18,2,    0.259,2,    0.118,2, -999.000,5,-999.0000,5,  -999.00,9,   -999.0,9,  -999.00,9,-999.000,9,   -999.0,9,   -999.0,9,  -999.0, -999.00,-999.0000,-999.000,-999.000
     316N145_5,  I09S,   111,  1,     21, SIH030,2,19950109,0907,-51.4833, 114.9972, 3640, 8094.8,    809.0,   2.1786,  34.6922,2,  34.6946,2,    179.9,2,  2.1299,    181.5,2,    78.49,2,    31.35,2,     0.00,2,     2.13,2,    0.190,2,    0.101,2, -999.000,5,-999.0000,5,  -999.00,9,   -999.0,9,  -999.00,9,-999.000,9,   -999.0,9,   -999.0,9,  -999.0, -999.00,-999.0000,-999.000,-999.000
     316N145_5,  I09S,   111,  1,     20, SIH028,2,19950109,0907,-51.4833, 114.9972, 3640, 9105.4,    910.6,   2.1039,  34.7075,2,  34.7109,2,    180.6,2,  2.0489,    183.4,2,    80.40,2,    31.03,2,     0.00,2,     2.11,2,    0.180,2,    0.104,2, -999.000,5,-999.0000,5,  -999.00,9,   -999.0,9,  -999.00,9,-999.000,9,   -999.0,9,   -999.0,9,  -999.0, -999.00,-999.0000,-999.000,-999.000
     316N145_5,  I09S,   111,  1,     19, SIH027,2,19950109,0907,-51.4833, 114.9972, 3640,10042.1,   1004.8,   2.0786,  34.7255,2,  34.7282,2,    186.8,2,  2.0173,    188.9,2,    80.72,2,    30.47,2,     0.00,2,     2.07,2,    0.121,2,    0.052,2, -999.000,5,-999.0000,5,  -999.00,9,   -999.0,9,  -999.00,9,-999.000,9,   -999.0,9,   -999.0,9,  -999.0, -999.00,-999.0000,-999.000,-999.000
     316N145_5,  I09S,   111,  1,     18, SIH003,2,19950109,0907,-51.4833, 114.9972, 3640,11109.9,   1112.2,   2.0065,  34.7366,2,  34.7402,2,    190.0,2,  1.9382,    191.6,2,    82.48,2,    30.21,2,     0.00,2,     2.05,2,    0.104,2,    0.049,2, -999.000,5,-999.0000,5,  -999.00,9,   -999.0,9,  -999.00,9,-999.000,9,   -999.0,9,   -999.0,9,  -999.0, -999.00,-999.0000,-999.000,-999.000
     316N145_5,  I09S,   111,  1,     17, SIH024,2,19950109,0907,-51.4833, 114.9972, 3640,12212.7,   1223.2,   1.9132,  34.7429,2,  34.7465,2,    191.9,2,  1.8378,    194.5,2,    84.88,2,    29.95,2,     0.00,2,     2.04,2, -999.000,9, -999.000,9, -999.000,5,-999.0000,5,  -999.00,9,   -999.0,9,  -999.00,9,-999.000,9,   -999.0,9,   -999.0,9,  -999.0, -999.00,-999.0000,-999.000,-999.000
     316N145_5,  I09S,   111,  1,     16, SIH022,2,19950109,0907,-51.4833, 114.9972, 3640,13201.4,   1322.6,   1.8267,  34.7449,2,  34.7478,2,    194.8,2,  1.7451,    195.8,2,    87.28,2,    29.94,2,     0.00,2,     2.04,2,    0.087,6,    0.035,6, -999.000,5,-999.0000,5,  -999.00,9,   -999.0,9,  -999.00,9,-999.000,9,   -999.0,9,   -999.0,9,  -999.0, -999.00,-999.0000,-999.000,-999.000
     316N145_5,  I09S,   111,  1,     15, SIH021,2,19950109,0907,-51.4833, 114.9972, 3640,14253.5,   1428.4,   1.7254,  34.7456,2,  34.7488,2,    195.7,2,  1.6372,    197.9,2,    90.48,2,    30.02,2,     0.00,2,     2.04,2, -999.000,9, -999.000,9, -999.000,5,-999.0000,5,  -999.00,9,   -999.0,9,  -999.00,9,-999.000,9,   -999.0,9,   -999.0,9,  -999.0, -999.00,-999.0000,-999.000,-999.000
     316N145_5,  I09S,   111,  1,     14, SIH002,2,19950109,0907,-51.4833, 114.9972, 3640,15297.3,   1533.4,   1.6229,  34.7432,2,  34.7449,2,    196.2,2,  1.5281,    198.5,2,    93.19,2,    30.10,2,     0.00,2,     2.05,2,    0.085,2,    0.043,2, -999.000,5,-999.0000,5,  -999.00,9,   -999.0,9,  -999.00,9,-999.000,9,   -999.0,9,   -999.0,9,  -999.0, -999.00,-999.0000,-999.000,-999.000
     316N145_5,  I09S,   111,  1,     13, SIH018,2,19950109,0907,-51.4833, 114.9972, 3640,16238.2,   1628.1,   1.5360,  34.7404,2,  34.7443,2,    197.6,2,  1.4352,    199.4,2,    95.59,2,    30.24,2,     0.00,2,     2.06,2, -999.000,9, -999.000,9, -999.000,5,-999.0000,5,  -999.00,9,   -999.0,9,  -999.00,9,-999.000,9,   -999.0,9,   -999.0,9,  -999.0, -999.00,-999.0000,-999.000,-999.000
     316N145_5,  I09S,   111,  1,     12, SIH016,2,19950109,0907,-51.4833, 114.9972, 3640,17062.5,   1711.0,   1.4546,  34.7380,2,  34.7419,2,    198.3,2,  1.3486,    200.5,2,    97.83,2,    30.38,2,     0.00,2,     2.07,2,    0.090,2,    0.039,2, -999.000,5,-999.0000,5,  -999.00,9,   -999.0,9,  -999.00,9,-999.000,9,   -999.0,9,   -999.0,9,  -999.0, -999.00,-999.0000,-999.000,-999.000
     316N145_5,  I09S,   111,  1,     11, SIH015,2,19950109,0907,-51.4833, 114.9972, 3640,19096.1,   1915.5,   1.2683,  34.7301,2,  34.7329,2,    199.5,2,  1.1493,    202.7,2,   103.74,2,    30.72,2,     0.00,2,     2.09,2, -999.000,9, -999.000,9, -999.000,5,-999.0000,5,  -999.00,9,   -999.0,9,  -999.00,9,-999.000,9,   -999.0,9,   -999.0,9,  -999.0, -999.00,-999.0000,-999.000,-999.000
     316N145_5,  I09S,   111,  1,     10, SIH013,2,19950109,0907,-51.4833, 114.9972, 3640,21108.9,   2118.0,   1.0971,  34.7227,2,  34.7245,2,    202.0,2,  0.9648,    204.5,2,   108.70,2,    30.91,2,     0.00,2,     2.11,2,    0.083,2,    0.038,2, -999.000,5,-999.0000,5,  -999.00,9,   -999.0,9,  -999.00,9,-999.000,9,   -999.0,9,   -999.0,9,  -999.0, -999.00,-999.0000,-999.000,-999.000
     316N145_5,  I09S,   111,  1,      9, SIH012,2,19950109,0907,-51.4833, 114.9972, 3640,23231.2,   2331.5,   0.9091,  34.7133,2,  34.7144,2,    202.9,2,  0.7629,    207.1,2,   113.97,2,    31.34,2,     0.00,2,     2.14,2, -999.000,9, -999.000,9, -999.000,5,-999.0000,5,  -999.00,9,   -999.0,9,  -999.00,9,-999.000,9,   -999.0,9,   -999.0,9,  -999.0, -999.00,-999.0000,-999.000,-999.000
     316N145_5,  I09S,   111,  1,      8, SIH010,2,19950109,0907,-51.4833, 114.9972, 3640,25191.3,   2528.6,   0.7205,  34.7037,2,  34.7087,3,    206.2,2,  0.5616,    209.2,2,   118.77,2,    31.67,2,     0.00,2,     2.16,2,    0.114,2,    0.053,2, -999.000,5,-999.0000,5,  -999.00,9,   -999.0,9,  -999.00,9,-999.000,9,   -999.0,9,   -999.0,9,  -999.0, -999.00,-999.0000,-999.000,-999.000
     316N145_5,  I09S,   111,  1,      7, SIH009,2,19950109,0907,-51.4833, 114.9972, 3640,27335.3,   2744.3,   0.5232,  34.6948,2,  34.6956,2,    208.3,2,  0.3502,    212.9,2,   123.42,2,    31.90,2,     0.00,2,     2.18,2, -999.000,9, -999.000,9, -999.000,5,-999.0000,5,  -999.00,9,   -999.0,9,  -999.00,9,-999.000,9,   -999.0,9,   -999.0,9,  -999.0, -999.00,-999.0000,-999.000,-999.000
     316N145_5,  I09S,   111,  1,      6, SIH038,2,19950109,0907,-51.4833, 114.9972, 3640,29404.5,   2952.4,   0.3495,  34.6884,2,  34.6877,2,    215.0,2,  0.1623,    217.2,2,   126.78,2,    31.99,2,     0.00,2,     2.19,2,    0.241,2,    0.113,2, -999.000,5,-999.0000,5,  -999.00,9,   -999.0,9,  -999.00,9,-999.000,9,   -999.0,9,   -999.0,9,  -999.0, -999.00,-999.0000,-999.000,-999.000
     316N145_5,  I09S,   111,  1,      5, SIH006,2,19950109,0907,-51.4833, 114.9972, 3640,31451.9,   3158.4,   0.2271,  34.6833,2,  34.6851,2,    217.9,2,  0.0246,    221.0,2,   130.14,2,    32.02,2,     0.00,2,     2.19,2, -999.000,9, -999.000,9, -999.000,5,-999.0000,5,  -999.00,9,   -999.0,9,  -999.00,9,-999.000,9,   -999.0,9,   -999.0,9,  -999.0, -999.00,-999.0000,-999.000,-999.000
     316N145_5,  I09S,   111,  1,      4, SIH004,2,19950109,0907,-51.4833, 114.9972, 3640,33360.5,   3350.4,   0.1961,  34.6829,2,  34.6836,2,    220.3,2, -0.0231,    222.3,2,   132.07,2,    32.06,2,     0.00,2,     2.19,2,    0.373,2,    0.170,2, -999.000,5,-999.0000,5,  -999.00,9,   -999.0,9,  -999.00,9,-999.000,9,   -999.0,9,   -999.0,9,  -999.0, -999.00,-999.0000,-999.000,-999.000
     316N145_5,  I09S,   111,  1,      3, SIH025,2,19950109,0907,-51.4833, 114.9972, 3640,35396.4,   3555.2,   0.1850,  34.6815,2,  34.6826,2,    220.1,2, -0.0530,    222.9,2,   132.88,2,    32.05,2,     0.00,2,     2.20,2, -999.000,9, -999.000,9, -999.000,5,-999.0000,5,  -999.00,9,   -999.0,9,  -999.00,9,-999.000,9,   -999.0,9,   -999.0,9,  -999.0, -999.00,-999.0000,-999.000,-999.000
     316N145_5,  I09S,   111,  1,      2, SIH001,2,19950109,0907,-51.4833, 114.9972, 3640,36255.1,   3641.5,   0.1938,  34.6809,2,  34.6814,2,    221.5,2, -0.0527,    223.5,2,   132.89,2,    32.08,2,     0.00,2,     2.19,2,    0.396,2,    0.190,2, -999.000,5,-999.0000,5,  -999.00,9,   -999.0,9,  -999.00,9,-999.000,9,   -999.0,9,   -999.0,9,  -999.0, -999.00,-999.0000,-999.000,-999.000
     316N145_5,  I09S,   111,  1,      1, SIH036,2,19950109,0907,-51.4833, 114.9972, 3640,36764.7,   3692.8,   0.1973,  34.6810,2,  34.6840,2,    222.1,2, -0.0542,    223.1,2,   132.63,2,    31.93,2,     0.00,2,     2.19,2,    0.402,2,    0.189,2, -999.000,5,-999.0000,5,  -999.00,9,   -999.0,9,  -999.00,9,-999.000,9,   -999.0,9,   -999.0,9,  -999.0, -999.00,-999.0000,-999.000,-999.000