BOTTLE,20090521WHPSIOdm
EXPOCODE,SECT_ID,STNNBR,CASTNO,SAMPNO,BTLNBR,BTLNBR_FLAG_W,DATE,TIME,LATITUDE,LONGITUDE,DEPTH,CTDRAW,CTDPRS,CTDTMP,CTDSAL,CTDSAL_FLAG_W,SALNTY,SALNTY_FLAG_W,CTDOXY,CTDOXY_FLAG_W,THETA,OXYGEN,OXYGEN_FLAG_W,SILCAT,SILCAT_FLAG_W,NITRAT,NITRAT_FLAG_W,NITRIT,NITRIT_FLAG_W,PHSPHT,PHSPHT_FLAG_W,CFC-11,CFC-11_FLAG_W,CFC-12,CFC-12_FLAG_W,TRITUM,TRITUM_FLAG_W,HELIUM,HELIUM_FLAG_W,DELHE3,DELHE3_FLAG_W,DELC14,DELC14_FLAG_W,DELC13,DELC13_FLAG_W,NEON,NEON_FLAG_W,TCARBN,TCARBN_FLAG_W,ALKALI,ALKALI_FLAG_W,C14ERR,DELHER,HELIER,NEONER,TRITER
,,,,,,,,,,,,,DBAR,IPTS-68,PSS-78,,PSS-78,,UMOL/KG,,IPTS-68,UMOL/KG,,UMOL/KG,,UMOL/KG,,UMOL/KG,,UMOL/KG,,PMOL/KG,,PMOL/KG,,TU,,NMOL/KG,,PERCNT,,/MILLE,,/MILLE,,NMOL/KG,,UMOL/KG,,UMOL/KG,,/MILLE,PERCNT,NMOL/KG,NMOL/KG,TU
     316N145_5,  I08S,    50,  1,     36, SIH035,2,19941219,1128,-51.4278,  89.2055, 4050,  167.0,     11.9,   3.7011,  33.9338,2,  33.9340,2,    328.4,2,  3.7003,    324.6,2,     2.68,2,    21.70,2,     0.21,2,     1.52,2,    5.519,2,    2.679,2, -999.000,5,-999.0000,5,  -999.00,9,   -999.0,9,  -999.00,9,-999.000,9,   2111.3,6,   2284.4,2,  -999.0, -999.00,-999.0000,-999.000,-999.000
     316N145_5,  I08S,    50,  1,     35, SIH032,2,19941219,1128,-51.4278,  89.2055, 4050,  367.1,     32.1,   3.6976,  33.9344,2,  33.9350,2,    327.1,2,  3.6955,    324.4,2,     2.68,2,    21.75,2,     0.21,2,     1.53,2, -999.000,9, -999.000,9, -999.000,5,-999.0000,5,  -999.00,9,   -999.0,9,  -999.00,9,-999.000,9,   2111.5,2,   2281.1,2,  -999.0, -999.00,-999.0000,-999.000,-999.000
     316N145_5,  I08S,    50,  1,     34, SIH029,2,19941219,1128,-51.4278,  89.2055, 4050,  614.2,     56.9,   3.6869,  33.9386,2,  33.9389,2,    342.7,2,  3.6832,    321.2,2,     3.17,2,    21.95,2,     0.21,2,     1.55,2,    5.539,2,    2.677,2, -999.000,5,-999.0000,5,  -999.00,9,   -999.0,9,  -999.00,9,-999.000,9,   2114.6,2,   2285.3,2,  -999.0, -999.00,-999.0000,-999.000,-999.000
     316N145_5,  I08S,    50,  1,     33, SIH026,2,19941219,1128,-51.4278,  89.2055, 4050,  866.5,     82.3,   3.5380,  33.9521,2,  33.9536,2,    354.6,2,  3.5327,    317.2,2,     5.84,2,    22.82,2,     0.19,2,     1.65,2, -999.000,9, -999.000,9, -999.000,5,-999.0000,5,  -999.00,9,   -999.0,9,  -999.00,9,-999.000,9,   2122.2,2,   -999.0,9,  -999.0, -999.00,-999.0000,-999.000,-999.000
     316N145_5,  I08S,    50,  1,     32, SIH023,2,19941219,1128,-51.4278,  89.2055, 4050, 1118.0,    107.6,   3.3813,  33.9616,2,  33.9622,2,    356.4,2,  3.3745,    315.4,2,     8.00,2,    23.50,2,     0.17,2,     1.66,2, -999.000,9, -999.000,9, -999.000,5,-999.0000,5,  -999.00,9,   -999.0,9,  -999.00,9,-999.000,9,   2127.4,2,   2292.7,2,  -999.0, -999.00,-999.0000,-999.000,-999.000
     316N145_5,  I08S,    50,  1,     31, SIH020,2,19941219,1128,-51.4278,  89.2055, 4050, 1609.5,    157.0,   3.1523,  33.9768,2,  33.9761,2,    347.7,2,  3.1426,    306.6,2,    13.00,2,    25.09,2,     0.14,2,     1.78,2,    5.305,2,    2.553,2, -999.000,5,-999.0000,5,  -999.00,9,   -999.0,9,  -999.00,9,-999.000,9,   2138.7,2,   2289.9,2,  -999.0, -999.00,-999.0000,-999.000,-999.000
     316N145_5,  I08S,    50,  1,     30, SIH017,2,19941219,1128,-51.4278,  89.2055, 4050, 2109.5,    207.3,   2.7323,  33.9971,2,  33.9970,2,    314.4,2,  2.7202,    298.2,2,    18.82,2,    26.87,2,     0.12,2,     1.89,2, -999.000,9, -999.000,9, -999.000,5,-999.0000,5,  -999.00,9,   -999.0,9,  -999.00,9,-999.000,9,   2151.1,2,   -999.0,9,  -999.0, -999.00,-999.0000,-999.000,-999.000
     316N145_5,  I08S,    50,  1,     29, SIH014,2,19941219,1128,-51.4278,  89.2055, 4050, 2614.7,    258.1,   2.4448,  34.0196,2,  34.0223,2,    303.1,2,  2.4302,    299.0,2,    23.15,2,    27.78,2,     0.12,2,     1.95,2, -999.000,9, -999.000,9, -999.000,5,-999.0000,5,  -999.00,9,   -999.0,9,  -999.00,9,-999.000,9,   2158.7,2,   2290.1,2,  -999.0, -999.00,-999.0000,-999.000,-999.000
     316N145_5,  I08S,    50,  1,     28, SIH011,2,19941219,1128,-51.4278,  89.2055, 4050, 3098.9,    306.8,   2.3166,  34.0766,2,  34.0778,2,    297.9,2,  2.2994,    277.9,2,    27.98,2,    29.77,2,     0.04,2,     2.04,2,    4.449,2,    2.141,2, -999.000,5,-999.0000,5,  -999.00,9,   -999.0,9,  -999.00,9,-999.000,9,   2171.3,2,   2287.1,2,  -999.0, -999.00,-999.0000,-999.000,-999.000
     316N145_5,  I08S,    50,  1,     27, SIH008,2,19941219,1128,-51.4278,  89.2055, 4050, 3597.5,    357.0,   2.2867,  34.1183,2,  34.1223,2,    269.1,2,  2.2666,    265.1,2,    31.97,2,    30.64,2,     0.02,2,     2.09,2, -999.000,9, -999.000,9, -999.000,5,-999.0000,5,  -999.00,9,   -999.0,9,  -999.00,9,-999.000,9,   2180.1,2,   2294.1,2,  -999.0, -999.00,-999.0000,-999.000,-999.000
     316N145_5,  I08S,    50,  1,     26, SIH005,2,19941219,1128,-51.4278,  89.2055, 4050, 4106.1,    408.2,   2.2278,  34.1699,2,  34.1752,2,    279.4,2,  2.2048,    250.8,2,    37.12,2,    31.59,2,     0.02,2,     2.16,2, -999.000,9, -999.000,9, -999.000,5,-999.0000,5,  -999.00,9,   -999.0,9,  -999.00,9,-999.000,9,   2190.4,2,   2295.0,2,  -999.0, -999.00,-999.0000,-999.000,-999.000
     316N145_5,  I08S,    50,  1,     25, SIH019,2,19941219,1128,-51.4278,  89.2055, 4050, 4602.9,    458.1,   1.6656,  34.1639,2,  34.1670,2,    258.1,2,  1.6417,    256.9,2,    41.77,2,    31.90,2,     0.07,2,     2.18,2,    3.698,2,    1.752,2, -999.000,5,-999.0000,5,  -999.00,9,   -999.0,9,  -999.00,9,-999.000,9,   2195.9,2,   2295.4,2,  -999.0, -999.00,-999.0000,-999.000,-999.000
     316N145_5,  I08S,    50,  1,      1, SIH036,2,19941219,1128,-51.4278,  89.2055, 4050, 5100.7,    508.2,   1.4821,  34.1971,2,  34.1999,2,    256.3,2,  1.4560,    250.6,2,    47.29,2,    32.44,2,     0.07,2,     2.22,2,    3.450,2,    1.629,2, -999.000,5,-999.0000,5,  -999.00,9,   -999.0,9,  -999.00,9,-999.000,9,   -999.0,9,   2303.7,2,  -999.0, -999.00,-999.0000,-999.000,-999.000
     316N145_5,  I08S,    50,  1,     24, SIH037,2,19941219,1128,-51.4278,  89.2055, 4050, 6109.7,    609.7,   1.5083,  34.2864,2,  34.2883,2,    242.5,2,  1.4763,    232.3,2,    55.41,2,    33.35,2,     0.07,2,     2.29,2, -999.000,9, -999.000,9, -999.000,5,-999.0000,5,  -999.00,9,   -999.0,9,  -999.00,9,-999.000,9,   2218.5,2,   2309.9,2,  -999.0, -999.00,-999.0000,-999.000,-999.000
     316N145_5,  I08S,    50,  1,     23, SIH033,2,19941219,1128,-51.4278,  89.2055, 4050, 7100.0,    709.3,   1.6295,  34.3813,2,  34.3855,2,    233.9,2,  1.5908,    209.7,2,    64.04,2,    34.29,2,     0.03,2,     2.35,2, -999.000,9, -999.000,9, -999.000,5,-999.0000,5,  -999.00,9,   -999.0,9,  -999.00,9,-999.000,9,   2233.5,2,   2314.8,2,  -999.0, -999.00,-999.0000,-999.000,-999.000
     316N145_5,  I08S,    50,  1,     22, SIH031,2,19941219,1128,-51.4278,  89.2055, 4050, 8122.4,    812.2,   2.0755,  34.5101,2,  34.5093,2,    195.2,2,  2.0275,    184.2,2,    71.84,2,    34.56,2,     0.01,2,     2.36,2,    0.993,2,    0.467,2, -999.000,5,-999.0000,5,  -999.00,9,   -999.0,9,  -999.00,9,-999.000,9,   2245.9,2,   2327.8,2,  -999.0, -999.00,-999.0000,-999.000,-999.000
     316N145_5,  I08S,    50,  1,     21, SIH030,2,19941219,1128,-51.4278,  89.2055, 4050, 9112.2,    911.7,   2.3280,  34.5841,2,  34.5855,2,    184.7,2,  2.2714,    177.1,2,    73.31,2,    33.70,2,     0.00,2,     2.30,2, -999.000,9, -999.000,9, -999.000,5,-999.0000,5,  -999.00,9,   -999.0,9,  -999.00,9,-999.000,9,   2247.1,2,   2330.5,2,  -999.0, -999.00,-999.0000,-999.000,-999.000
     316N145_5,  I08S,    50,  1,     20, SIH028,2,19941219,1128,-51.4278,  89.2055, 4050,10101.8,   1011.2,   2.3315,  34.6258,2,  34.6272,2,    183.6,2,  2.2678,    176.7,2,    75.46,2,    33.11,2,     0.00,2,     2.26,2, -999.000,9, -999.000,9, -999.000,5,-999.0000,5,  -999.00,9,   -999.0,9,  -999.00,9,-999.000,9,   2247.1,6,   2335.8,2,  -999.0, -999.00,-999.0000,-999.000,-999.000
     316N145_5,  I08S,    50,  1,     19, SIH027,2,19941219,1128,-51.4278,  89.2055, 4050,11118.3,   1113.5,   2.2994,  34.6624,2,  34.6610,2,    182.4,2,  2.2286,    179.3,2,    76.93,2,    32.50,2,     0.00,2,     2.22,2,    0.214,2,    0.094,2, -999.000,5,-999.0000,5,  -999.00,9,   -999.0,9,  -999.00,9,-999.000,9,   2244.1,2,   2339.2,2,  -999.0, -999.00,-999.0000,-999.000,-999.000
     316N145_5,  I08S,    50,  1,     18, SIH003,2,19941219,1128,-51.4278,  89.2055, 4050,12138.9,   1216.1,   2.2712,  34.6919,2,  34.6928,2,    187.3,2,  2.1931,    183.1,2,    77.90,2,    31.80,2,     0.00,2,     2.17,2, -999.000,9, -999.000,9, -999.000,5,-999.0000,5,  -999.00,9,   -999.0,9,  -999.00,9,-999.000,9,   -999.0,9,   2339.4,2,  -999.0, -999.00,-999.0000,-999.000,-999.000
     316N145_5,  I08S,    50,  1,     17, SIH024,2,19941219,1128,-51.4278,  89.2055, 4050,13135.7,   1316.4,   2.2059,  34.7114,2,  34.7113,2,    192.3,2,  2.1209,    184.9,2,    79.04,2,    31.34,2,     0.00,2,     2.14,2, -999.000,9, -999.000,9, -999.000,5,-999.0000,5,  -999.00,9,   -999.0,9,  -999.00,9,-999.000,9,   -999.0,9,   2345.6,2,  -999.0, -999.00,-999.0000,-999.000,-999.000
     316N145_5,  I08S,    50,  1,     16, SIH022,2,19941219,1128,-51.4278,  89.2055, 4050,14150.9,   1418.5,   2.0964,  34.7205,2,  34.7209,2,    193.2,2,  2.0048,    187.7,2,    81.35,2,    31.24,2,     0.00,2,     2.13,2,    0.164,2,    0.073,2, -999.000,5,-999.0000,5,  -999.00,9,   -999.0,9,  -999.00,9,-999.000,9,   -999.0,9,   2343.5,2,  -999.0, -999.00,-999.0000,-999.000,-999.000
     316N145_5,  I08S,    50,  1,     15, SIH021,2,19941219,1128,-51.4278,  89.2055, 4050,16118.0,   1616.4,   1.9617,  34.7389,2,  34.7388,2,    202.1,2,  1.8565,    192.8,2,    84.82,2,    30.69,2,     0.00,2,     2.09,2, -999.000,9, -999.000,9, -999.000,5,-999.0000,5,  -999.00,9,   -999.0,9,  -999.00,9,-999.000,9,   -999.0,9,   2346.1,2,  -999.0, -999.00,-999.0000,-999.000,-999.000
     316N145_5,  I08S,    50,  1,     14, SIH002,2,19941219,1128,-51.4278,  89.2055, 4050,18107.1,   1816.5,   1.8420,  34.7509,2,  34.7510,2,    207.3,2,  1.7225,    198.0,2,    88.11,2,    30.28,2,     0.00,2,     2.07,2, -999.000,9, -999.000,9, -999.000,5,-999.0000,5,  -999.00,9,   -999.0,9,  -999.00,9,-999.000,9,   -999.0,9,   2352.5,2,  -999.0, -999.00,-999.0000,-999.000,-999.000
     316N145_5,  I08S,    50,  1,     13, SIH018,2,19941219,1128,-51.4278,  89.2055, 4050,20164.6,   2023.4,   1.6575,  34.7475,2,  34.7480,2,    208.2,2,  1.5240,    200.2,2,    93.24,2,    30.44,2,     0.00,2,     2.08,2,    0.079,2,    0.023,2, -999.000,5,-999.0000,5,  -999.00,9,   -999.0,9,  -999.00,9,-999.000,9,   -999.0,9,   2352.4,2,  -999.0, -999.00,-999.0000,-999.000,-999.000
     316N145_5,  I08S,    50,  1,     12, SIH016,2,19941219,1128,-51.4278,  89.2055, 4050,22178.5,   2226.0,   1.4707,  34.7414,2,  34.7402,2,    211.1,2,  1.3234,    202.4,2,    98.53,2,    30.68,2,     0.00,2,     2.10,2, -999.000,9, -999.000,9, -999.000,5,-999.0000,5,  -999.00,9,   -999.0,9,  -999.00,9,-999.000,9,   -999.0,9,   2354.9,2,  -999.0, -999.00,-999.0000,-999.000,-999.000
     316N145_5,  I08S,    50,  1,     11, SIH015,2,19941219,1128,-51.4278,  89.2055, 4050,24306.5,   2440.0,   1.2846,  34.7323,2,  34.7327,2,    205.2,2,  1.1225,    204.0,2,   103.98,2,    30.98,2,     0.00,2,     2.12,2, -999.000,9, -999.000,9, -999.000,5,-999.0000,5,  -999.00,9,   -999.0,9,  -999.00,9,-999.000,9,   -999.0,9,   2352.2,2,  -999.0, -999.00,-999.0000,-999.000,-999.000
     316N145_5,  I08S,    50,  1,     10, SIH013,2,19941219,1128,-51.4278,  89.2055, 4050,26303.9,   2641.0,   1.1521,  34.7252,2,  34.7248,2,    204.8,2,  0.9752,    205.5,2,   108.61,2,    31.38,2,     0.00,2,     2.14,2,    0.087,2,    0.034,2, -999.000,5,-999.0000,5,  -999.00,9,   -999.0,9,  -999.00,9,-999.000,9,   -999.0,9,   2358.4,2,  -999.0, -999.00,-999.0000,-999.000,-999.000
     316N145_5,  I08S,    50,  1,      9, SIH012,2,19941219,1128,-51.4278,  89.2055, 4050,28409.0,   2852.7,   0.8245,  34.7079,2,  34.7070,2,    210.2,2,  0.6357,    209.0,2,   117.21,2,    31.98,2,     0.00,2,     2.19,2,    0.114,2,    0.049,2, -999.000,5,-999.0000,5,  -999.00,9,   -999.0,9,  -999.00,9,-999.000,9,   -999.0,9,   2354.8,2,  -999.0, -999.00,-999.0000,-999.000,-999.000
     316N145_5,  I08S,    50,  1,      8, SIH010,2,19941219,1128,-51.4278,  89.2055, 4050,30373.8,   3050.3,   0.7056,  34.7006,2,  34.7001,2,    213.0,2,  0.5017,    210.6,2,   120.17,2,    32.18,2,     0.00,2,     2.20,2,    0.154,2,    0.073,2, -999.000,5,-999.0000,5,  -999.00,9,   -999.0,9,  -999.00,9,-999.000,9,   -999.0,9,   2361.5,2,  -999.0, -999.00,-999.0000,-999.000,-999.000
     316N145_5,  I08S,    50,  1,      7, SIH009,2,19941219,1128,-51.4278,  89.2055, 4050,32484.3,   3262.6,   0.6104,  34.6991,2,  34.6973,2,    216.6,2,  0.3892,    213.6,2,   122.13,2,    32.13,2,     0.00,2,     2.21,2, -999.000,9, -999.000,9, -999.000,5,-999.0000,5,  -999.00,9,   -999.0,9,  -999.00,9,-999.000,9,   -999.0,9,   2356.6,2,  -999.0, -999.00,-999.0000,-999.000,-999.000
     316N145_5,  I08S,    50,  1,      6, SIH038,2,19941219,1128,-51.4278,  89.2055, 4050,34566.6,   3472.1,   0.3995,  34.6897,2,  34.6853,3,    219.7,2,  0.1639,    218.1,2,   125.41,2,    32.33,2,     0.00,2,     2.23,2,    0.295,2,    0.138,2, -999.000,5,-999.0000,5,  -999.00,9,   -999.0,9,  -999.00,9,-999.000,9,   -999.0,9,   2359.7,2,  -999.0, -999.00,-999.0000,-999.000,-999.000
     316N145_5,  I08S,    50,  1,      5, SIH006,2,19941219,1128,-51.4278,  89.2055, 4050,36513.1,   3667.9,   0.3309,  34.6858,2,  34.6851,2,    224.9,2,  0.0783,    220.7,2,   126.88,2,    32.32,2,     0.00,2,     2.22,2,    0.381,2,    0.173,2, -999.000,5,-999.0000,5,  -999.00,9,   -999.0,9,  -999.00,9,-999.000,9,   -999.0,9,   2355.4,2,  -999.0, -999.00,-999.0000,-999.000,-999.000
     316N145_5,  I08S,    50,  1,      4, SIH004,2,19941219,1128,-51.4278,  89.2055, 4050,38621.5,   3880.0,   0.2132,  34.6819,2,  34.6804,2,    228.5,2, -0.0571,    224.4,2,   127.67,2,    32.37,2,     0.00,2,     2.23,2,    0.473,2,    0.225,2, -999.000,5,-999.0000,5,  -999.00,9,   -999.0,9,  -999.00,9,-999.000,9,   -999.0,9,   2360.0,2,  -999.0, -999.00,-999.0000,-999.000,-999.000
     316N145_5,  I08S,    50,  1,      3, SIH025,2,19941219,1128,-51.4278,  89.2055, 4050,40663.1,   4085.3,   0.1473,  34.6776,2,  34.6777,2,    231.0,2, -0.1418,    227.0,2,   128.31,2,    32.40,2,     0.00,2,     2.22,2,    0.571,2,    0.268,2, -999.000,5,-999.0000,5,  -999.00,9,   -999.0,9,  -999.00,9,-999.000,9,   -999.0,9,   2347.5,3,  -999.0, -999.00,-999.0000,-999.000,-999.000
     316N145_5,  I08S,    50,  1,      2, SIH001,2,19941219,1128,-51.4278,  89.2055, 4050,41692.1,   4188.9,   0.1462,  34.6783,2,  34.6767,2,    229.6,2, -0.1535,    227.2,2,   128.70,2,    32.42,2,     0.00,2,     2.22,2,    0.584,6,    0.281,6, -999.000,5,-999.0000,5,  -999.00,9,   -999.0,9,  -999.00,9,-999.000,9,   -999.0,9,   2363.8,2,  -999.0, -999.00,-999.0000,-999.000,-999.000