BOTTLE,20090521WHPSIOdm
EXPOCODE,SECT_ID,STNNBR,CASTNO,SAMPNO,BTLNBR,BTLNBR_FLAG_W,DATE,TIME,LATITUDE,LONGITUDE,DEPTH,CTDRAW,CTDPRS,CTDTMP,CTDSAL,CTDSAL_FLAG_W,SALNTY,SALNTY_FLAG_W,CTDOXY,CTDOXY_FLAG_W,THETA,OXYGEN,OXYGEN_FLAG_W,SILCAT,SILCAT_FLAG_W,NITRAT,NITRAT_FLAG_W,NITRIT,NITRIT_FLAG_W,PHSPHT,PHSPHT_FLAG_W,CFC-11,CFC-11_FLAG_W,CFC-12,CFC-12_FLAG_W,TRITUM,TRITUM_FLAG_W,HELIUM,HELIUM_FLAG_W,DELHE3,DELHE3_FLAG_W,DELC14,DELC14_FLAG_W,DELC13,DELC13_FLAG_W,NEON,NEON_FLAG_W,TCARBN,TCARBN_FLAG_W,ALKALI,ALKALI_FLAG_W,C14ERR,DELHER,HELIER,NEONER,TRITER
,,,,,,,,,,,,,DBAR,IPTS-68,PSS-78,,PSS-78,,UMOL/KG,,IPTS-68,UMOL/KG,,UMOL/KG,,UMOL/KG,,UMOL/KG,,UMOL/KG,,PMOL/KG,,PMOL/KG,,TU,,NMOL/KG,,PERCNT,,/MILLE,,/MILLE,,NMOL/KG,,UMOL/KG,,UMOL/KG,,/MILLE,PERCNT,NMOL/KG,NMOL/KG,TU
     316N145_5,  I09S,   144,  1,     34, SIH029,2,19950117,2126,-35.5138, 114.9972, 2430,  166.5,     11.5,  19.7085,  35.7365,2,  35.7341,2,    251.2,2, 19.7064,    230.8,2,     1.43,2,     0.06,2,     0.00,2,     0.09,2,    2.431,2,    1.330,2, -999.000,5,-999.0000,5,  -999.00,9,   -999.0,9,  -999.00,9,-999.000,9,   2043.1,2,   -999.0,9,  -999.0, -999.00,-999.0000,-999.000,-999.000
     316N145_5,  I09S,   144,  1,     33, SIH026,2,19950117,2126,-35.5138, 114.9972, 2430,  356.7,     30.6,  19.5264,  35.7691,2,  35.7720,2,    255.0,2, 19.5209,    232.1,2,     1.44,2,     0.07,2,     0.00,2,     0.08,2,    2.442,6,    1.326,6, -999.000,5,-999.0000,5,  -999.00,9,   -999.0,9,  -999.00,9,-999.000,9,   2045.8,2,   -999.0,9,  -999.0, -999.00,-999.0000,-999.000,-999.000
     316N145_5,  I09S,   144,  1,     32, SIH023,2,19950117,2126,-35.5138, 114.9972, 2430,  608.2,     55.9,  17.9119,  35.7295,2,  35.7260,2,    260.2,2, 17.9023,    242.1,2,     1.62,2,     0.08,2,     0.00,2,     0.10,2,    2.611,2,    1.420,2, -999.000,5,-999.0000,5,  -999.00,9,   -999.0,9,  -999.00,9,-999.000,9,   2047.4,2,   -999.0,9,  -999.0, -999.00,-999.0000,-999.000,-999.000
     316N145_5,  I09S,   144,  1,     31, SIH020,2,19950117,2126,-35.5138, 114.9972, 2430,  849.6,     80.2,  15.6714,  35.5646,2,  35.5632,2,    260.2,2, 15.6589,    243.7,2,     1.64,2,     0.43,2,     0.10,2,     0.20,2,    2.870,2,    1.519,2, -999.000,5,-999.0000,5,  -999.00,9,   -999.0,9,  -999.00,9,-999.000,9,   2063.1,2,   -999.0,9,  -999.0, -999.00,-999.0000,-999.000,-999.000
     316N145_5,  I09S,   144,  1,     30, SIH017,2,19950117,2126,-35.5138, 114.9972, 2430, 1106.1,    106.0,  14.7249,  35.4786,2,  35.4807,2,    250.6,2, 14.7090,    240.8,2,     1.34,2,     1.25,2,     0.03,2,     0.26,2,    2.969,2,    1.582,2, -999.000,5,-999.0000,5,  -999.00,9,   -999.0,9,  -999.00,9,-999.000,9,   2073.3,2,   -999.0,9,  -999.0, -999.00,-999.0000,-999.000,-999.000
     316N145_5,  I09S,   144,  1,     29, SIH014,2,19950117,2126,-35.5138, 114.9972, 2430, 1594.5,    155.1,  13.6111,  35.2825,2,  35.2848,2,    253.0,2, 13.5891,    242.0,2,     1.51,2,     3.29,2,     0.01,2,     0.40,2,    3.224,2,    1.694,2, -999.000,5,-999.0000,5,  -999.00,9,   -999.0,9,  -999.00,9,-999.000,9,   2081.0,2,   -999.0,9,  -999.0, -999.00,-999.0000,-999.000,-999.000
     316N145_5,  I09S,   144,  1,     28, SIH011,2,19950117,2126,-35.5138, 114.9972, 2430, 2076.4,    203.5,  12.2105,  35.0809,2,  35.0803,2,    251.3,2, 12.1836,    239.7,2,     2.01,2,     6.64,2,     0.00,2,     0.61,2,    3.314,2,    1.725,2, -999.000,5,-999.0000,5,  -999.00,9,   -999.0,9,  -999.00,9,-999.000,9,   2092.9,2,   -999.0,9,  -999.0, -999.00,-999.0000,-999.000,-999.000
     316N145_5,  I09S,   144,  1,     27, SIH008,2,19950117,2126,-35.5138, 114.9972, 2430, 2564.6,    252.6,  11.4318,  34.9961,2,  34.9941,2,    242.8,2, 11.3998,    235.5,2,     2.67,2,     8.90,2,     0.00,2,     0.75,2,    3.350,2,    1.744,2, -999.000,5,-999.0000,5,  -999.00,9,   -999.0,9,  -999.00,9,-999.000,9,   2102.3,2,   -999.0,9,  -999.0, -999.00,-999.0000,-999.000,-999.000
     316N145_5,  I09S,   144,  1,     26, SIH005,2,19950117,2126,-35.5138, 114.9972, 2430, 3055.8,    302.0,  10.4932,  34.8649,2,  34.8654,2,    245.3,2, 10.4570,    236.7,2,     3.49,2,    11.59,2,     0.00,2,     0.91,2,    3.359,2,    1.733,2, -999.000,5,-999.0000,5,  -999.00,9,   -999.0,9,  -999.00,9,-999.000,9,   2107.6,2,   -999.0,9,  -999.0, -999.00,-999.0000,-999.000,-999.000
     316N145_5,  I09S,   144,  1,     24, SIH037,2,19950117,2126,-35.5138, 114.9972, 2430, 3544.0,    351.1,   9.9169,  34.7759,2,  34.7791,2,    246.7,2,  9.8762,    239.0,2,     4.14,2,    13.45,2,     0.00,2,     1.02,2,    3.373,2,    1.740,2, -999.000,5,-999.0000,5,  -999.00,9,   -999.0,9,  -999.00,9,-999.000,9,   2111.3,2,   -999.0,9,  -999.0, -999.00,-999.0000,-999.000,-999.000
     316N145_5,  I09S,   144,  1,     23, SIH033,2,19950117,2126,-35.5138, 114.9972, 2430, 4042.4,    401.2,   9.4350,  34.6956,2,  34.6946,2,    252.5,2,  9.3898,    245.9,2,     4.80,2,    14.56,2,     0.00,2,     1.08,2,    3.434,2,    1.750,2, -999.000,5,-999.0000,5,  -999.00,9,   -999.0,9,  -999.00,9,-999.000,9,   2110.6,2,   -999.0,9,  -999.0, -999.00,-999.0000,-999.000,-999.000
     316N145_5,  I09S,   144,  1,     22, SIH031,2,19950117,2126,-35.5138, 114.9972, 2430, 4530.1,    450.2,   9.3082,  34.6813,2,  34.6808,2,    247.9,2,  9.2577,    243.2,2,     5.13,2,    15.24,2,     0.00,2,     1.12,2, -999.000,9, -999.000,9, -999.000,5,-999.0000,5,  -999.00,9,   -999.0,9,  -999.00,9,-999.000,9,   2114.8,2,   -999.0,9,  -999.0, -999.00,-999.0000,-999.000,-999.000
     316N145_5,  I09S,   144,  1,     21, SIH030,2,19950117,2126,-35.5138, 114.9972, 2430, 5001.7,    497.7,   9.1791,  34.6661,2,  34.6684,2,    247.1,2,  9.1237,    238.3,2,     5.63,2,    16.11,2,     0.00,2,     1.18,2,    3.193,2,    1.582,2, -999.000,5,-999.0000,5,  -999.00,9,   -999.0,9,  -999.00,9,-999.000,9,   2118.1,2,   -999.0,9,  -999.0, -999.00,-999.0000,-999.000,-999.000
     316N145_5,  I09S,   144,  1,     20, SIH028,2,19950117,2126,-35.5138, 114.9972, 2430, 6092.0,    607.3,   8.4177,  34.5702,2,  34.5688,2,    233.1,2,  8.3532,    226.7,2,     8.35,2,    19.45,2,     0.00,2,     1.38,2,    2.571,2,    1.299,2, -999.000,5,-999.0000,5,  -999.00,9,   -999.0,9,  -999.00,9,-999.000,9,   2130.1,2,   -999.0,9,  -999.0, -999.00,-999.0000,-999.000,-999.000
     316N145_5,  I09S,   144,  1,     19, SIH027,2,19950117,2126,-35.5138, 114.9972, 2430, 7074.3,    706.1,   7.3204,  34.4803,2,  34.4813,2,    210.6,2,  7.2507,    205.5,2,    14.72,2,    23.81,2,    -0.01,2,     1.65,2,    1.602,2,    0.791,2, -999.000,5,-999.0000,5,  -999.00,9,   -999.0,9,  -999.00,9,-999.000,9,   2152.0,2,   -999.0,9,  -999.0, -999.00,-999.0000,-999.000,-999.000
     316N145_5,  I09S,   144,  1,     18, SIH003,2,19950117,2126,-35.5138, 114.9972, 2430, 8104.5,    809.7,   5.9698,  34.4101,2,  34.4129,2,    200.8,2,  5.8976,    198.3,2,    23.00,2,    27.33,2,    -0.01,2,     1.89,2,    1.054,2,    0.522,2, -999.000,5,-999.0000,5,  -999.00,9,   -999.0,9,  -999.00,9,-999.000,9,   2171.5,2,   -999.0,9,  -999.0, -999.00,-999.0000,-999.000,-999.000
     316N145_5,  I09S,   144,  1,     17, SIH024,2,19950117,2126,-35.5138, 114.9972, 2430, 9104.4,    910.3,   4.8503,  34.3762,2,  34.3823,3,    194.9,2,  4.7762,    195.2,2,    33.02,2,    29.69,2,    -0.01,2,     2.05,2, -999.000,9, -999.000,9, -999.000,5,-999.0000,5,  -999.00,9,   -999.0,9,  -999.00,9,-999.000,9,   2189.8,2,   -999.0,9,  -999.0, -999.00,-999.0000,-999.000,-999.000
     316N145_5,  I09S,   144,  1,     16, SIH022,2,19950117,2126,-35.5138, 114.9972, 2430,10063.3,   1006.7,   4.0419,  34.3869,2,  34.3857,2,    190.1,2,  3.9655,    190.1,2,    43.36,2,    31.50,2,    -0.01,2,     2.18,2,    0.464,2,    0.235,2, -999.000,5,-999.0000,5,  -999.00,9,   -999.0,9,  -999.00,9,-999.000,9,   -999.0,9,   -999.0,9,  -999.0, -999.00,-999.0000,-999.000,-999.000
     316N145_5,  I09S,   144,  1,     15, SIH021,2,19950117,2126,-35.5138, 114.9972, 2430,11129.0,   1113.9,   3.5555,  34.4215,2,  34.4237,2,    182.4,2,  3.4742,    180.7,2,    53.20,2,    32.77,2,     0.00,2,     2.28,2, -999.000,9, -999.000,9, -999.000,5,-999.0000,5,  -999.00,9,   -999.0,9,  -999.00,9,-999.000,9,   2222.8,2,   -999.0,9,  -999.0, -999.00,-999.0000,-999.000,-999.000
     316N145_5,  I09S,   144,  1,     14, SIH002,2,19950117,2126,-35.5138, 114.9972, 2430,12130.3,   1214.6,   3.2427,  34.4594,2,  34.4610,2,    173.5,2,  3.1560,    173.8,2,    60.67,2,    33.36,2,     0.00,2,     2.33,2,    0.126,2,    0.075,2, -999.000,5,-999.0000,5,  -999.00,9,   -999.0,9,  -999.00,9,-999.000,9,   2234.3,2,   -999.0,9,  -999.0, -999.00,-999.0000,-999.000,-999.000
     316N145_5,  I09S,   144,  1,     13, SIH018,2,19950117,2126,-35.5138, 114.9972, 2430,13101.8,   1312.4,   3.0118,  34.5025,2,  34.5032,2,    170.3,2,  2.9194,    168.3,2,    67.33,2,    33.90,2,     0.00,2,     2.36,2, -999.000,9, -999.000,9, -999.000,5,-999.0000,5,  -999.00,9,   -999.0,9,  -999.00,9,-999.000,9,   2243.4,2,   -999.0,9,  -999.0, -999.00,-999.0000,-999.000,-999.000
     316N145_5,  I09S,   144,  1,     12, SIH016,2,19950117,2126,-35.5138, 114.9972, 2430,14105.6,   1413.3,   2.8846,  34.5466,2,  34.5459,2,    165.2,2,  2.7852,    163.7,2,    73.04,2,    34.01,2,     0.00,2,     2.37,2,    0.048,2,    0.035,2, -999.000,5,-999.0000,5,  -999.00,9,   -999.0,9,  -999.00,9,-999.000,9,   2251.7,2,   -999.0,9,  -999.0, -999.00,-999.0000,-999.000,-999.000
     316N145_5,  I09S,   144,  1,     11, SIH015,2,19950117,2126,-35.5138, 114.9972, 2430,15099.9,   1513.4,   2.7554,  34.5926,2,  34.5930,2,    164.4,2,  2.6492,    161.8,2,  -999.00,9,  -999.00,9,  -999.00,9,  -999.00,9, -999.000,9, -999.000,9, -999.000,5,-999.0000,5,  -999.00,9,   -999.0,9,  -999.00,9,-999.000,9,   2256.8,2,   -999.0,9,  -999.0, -999.00,-999.0000,-999.000,-999.000
     316N145_5,  I09S,   144,  1,     10, SI9426,2,19950117,2126,-35.5138, 114.9972, 2430,16120.3,   1616.0,   2.6544,  34.6290,2,  34.6291,2,    163.2,2,  2.5409,    161.2,2,    83.02,2,    33.64,2,     0.00,2,     2.34,2,    0.013,6,    0.016,6, -999.000,5,-999.0000,5,  -999.00,9,   -999.0,9,  -999.00,9,-999.000,9,   -999.0,9,   -999.0,9,  -999.0, -999.00,-999.0000,-999.000,-999.000
     316N145_5,  I09S,   144,  1,      9, SIH012,2,19950117,2126,-35.5138, 114.9972, 2430,17118.5,   1716.4,   2.5991,  34.6504,2,  34.6508,2,    163.5,2,  2.4779,    162.1,2,    86.18,2,    33.52,2,     0.00,2,     2.33,2, -999.000,9, -999.000,9, -999.000,5,-999.0000,5,  -999.00,9,   -999.0,9,  -999.00,9,-999.000,9,   -999.0,9,   -999.0,9,  -999.0, -999.00,-999.0000,-999.000,-999.000
     316N145_5,  I09S,   144,  1,      8, SIH010,2,19950117,2126,-35.5138, 114.9972, 2430,18109.2,   1816.1,   2.4997,  34.6772,2,  34.6775,2,    166.4,2,  2.3713,    163.4,2,    91.24,2,    33.10,2,     0.00,2,     2.31,2,    0.007,2,    0.012,2, -999.000,5,-999.0000,5,  -999.00,9,   -999.0,9,  -999.00,9,-999.000,9,   -999.0,9,   -999.0,9,  -999.0, -999.00,-999.0000,-999.000,-999.000
     316N145_5,  I09S,   144,  1,      7, SIH009,2,19950117,2126,-35.5138, 114.9972, 2430,19144.5,   1920.2,   2.4285,  34.6952,2,  34.6944,2,    166.5,2,  2.2922,    164.8,2,    94.24,2,    33.06,2,     0.00,2,     2.29,2, -999.000,9, -999.000,9, -999.000,5,-999.0000,5,  -999.00,9,   -999.0,9,  -999.00,9,-999.000,9,   -999.0,9,   -999.0,9,  -999.0, -999.00,-999.0000,-999.000,-999.000
     316N145_5,  I09S,   144,  1,      6, SIH038,2,19950117,2126,-35.5138, 114.9972, 2430,20170.8,   2023.4,   2.3512,  34.7080,2,  34.7089,2,    169.4,2,  2.2071,    166.3,2,    97.09,2,    32.93,2,     0.00,2,     2.28,2,    0.009,2,    0.019,2, -999.000,5,-999.0000,5,  -999.00,9,   -999.0,9,  -999.00,9,-999.000,9,   -999.0,9,   -999.0,9,  -999.0, -999.00,-999.0000,-999.000,-999.000
     316N145_5,  I09S,   144,  1,      5, SIH006,2,19950117,2126,-35.5138, 114.9972, 2430,21203.0,   2127.3,   2.2429,  34.7168,2,  34.7168,2,    172.0,2,  2.0915,    168.5,2,    99.93,2,    32.79,2,     0.00,2,     2.27,2, -999.000,9, -999.000,9, -999.000,5,-999.0000,5,  -999.00,9,   -999.0,9,  -999.00,9,-999.000,9,   -999.0,9,   -999.0,9,  -999.0, -999.00,-999.0000,-999.000,-999.000
     316N145_5,  I09S,   144,  1,      4, SIH004,2,19950117,2126,-35.5138, 114.9972, 2430,22199.0,   2227.5,   2.1144,  34.7243,2,  34.7245,2,    173.6,2,  1.9562,    170.7,2,   103.88,2,    32.76,2,     0.00,2,     2.26,2,    0.006,2,    0.001,2, -999.000,5,-999.0000,5,  -999.00,9,   -999.0,9,  -999.00,9,-999.000,9,   -999.0,9,   -999.0,9,  -999.0, -999.00,-999.0000,-999.000,-999.000
     316N145_5,  I09S,   144,  1,      3, SIH025,2,19950117,2126,-35.5138, 114.9972, 2430,22935.5,   2301.6,   2.0737,  34.7257,2,  34.7248,2,    174.8,2,  1.9096,    171.3,2,   105.13,2,    32.63,2,     0.00,2,     2.26,2, -999.000,9, -999.000,9, -999.000,5,-999.0000,5,  -999.00,9,   -999.0,9,  -999.00,9,-999.000,9,   -999.0,9,   -999.0,9,  -999.0, -999.00,-999.0000,-999.000,-999.000
     316N145_5,  I09S,   144,  1,      2, SIH001,2,19950117,2126,-35.5138, 114.9972, 2430,23748.2,   2383.3,   2.0166,  34.7282,2,  34.7270,2,    175.4,2,  1.8462,    172.9,2,   106.70,2,    32.60,2,     0.00,2,     2.26,2,    0.008,2,    0.003,2, -999.000,5,-999.0000,5,  -999.00,9,   -999.0,9,  -999.00,9,-999.000,9,   -999.0,9,   -999.0,9,  -999.0, -999.00,-999.0000,-999.000,-999.000
     316N145_5,  I09S,   144,  1,      1, SIH036,2,19950117,2126,-35.5138, 114.9972, 2430,24261.5,   2435.0,   1.9655,  34.7296,2,  34.7282,2,    178.5,3,  1.7914,    175.2,2,   100.80,2,    32.68,2,     0.00,2,     2.27,2,    0.005,2,    0.010,2, -999.000,5,-999.0000,5,  -999.00,9,   -999.0,9,  -999.00,9,-999.000,9,   -999.0,9,   -999.0,9,  -999.0, -999.00,-999.0000,-999.000,-999.000