BOTTLE,20090521WHPSIOdm
EXPOCODE,SECT_ID,STNNBR,CASTNO,SAMPNO,BTLNBR,BTLNBR_FLAG_W,DATE,TIME,LATITUDE,LONGITUDE,DEPTH,CTDRAW,CTDPRS,CTDTMP,CTDSAL,CTDSAL_FLAG_W,SALNTY,SALNTY_FLAG_W,CTDOXY,CTDOXY_FLAG_W,THETA,OXYGEN,OXYGEN_FLAG_W,SILCAT,SILCAT_FLAG_W,NITRAT,NITRAT_FLAG_W,NITRIT,NITRIT_FLAG_W,PHSPHT,PHSPHT_FLAG_W,CFC-11,CFC-11_FLAG_W,CFC-12,CFC-12_FLAG_W,TRITUM,TRITUM_FLAG_W,HELIUM,HELIUM_FLAG_W,DELHE3,DELHE3_FLAG_W,DELC14,DELC14_FLAG_W,DELC13,DELC13_FLAG_W,NEON,NEON_FLAG_W,TCARBN,TCARBN_FLAG_W,ALKALI,ALKALI_FLAG_W,C14ERR,DELHER,HELIER,NEONER,TRITER
,,,,,,,,,,,,,DBAR,IPTS-68,PSS-78,,PSS-78,,UMOL/KG,,IPTS-68,UMOL/KG,,UMOL/KG,,UMOL/KG,,UMOL/KG,,UMOL/KG,,PMOL/KG,,PMOL/KG,,TU,,NMOL/KG,,PERCNT,,/MILLE,,/MILLE,,NMOL/KG,,UMOL/KG,,UMOL/KG,,/MILLE,PERCNT,NMOL/KG,NMOL/KG,TU
     316N145_5,  I08S,    30,  1,      1, SIH036,2,19941213,1545,-43.5028,  95.0028, 3150,  170.9,     12.8,   9.8421,  34.5063,2,  34.5062,2,    295.6,2,  9.8406,    288.9,2,     0.68,2,    11.44,2,     0.24,2,     0.91,2, -999.000,9, -999.000,9, -999.000,5,-999.0000,5,  -999.00,9,   -999.0,9,  -999.00,9,-999.000,9,   -999.0,9,   -999.0,9,  -999.0, -999.00,-999.0000,-999.000,-999.000
     316N145_5,  I08S,    30,  1,     35, SIH037,2,19941213,1545,-43.5028,  95.0028, 3150,  366.8,     32.5,   9.8461,  34.5416,2,  34.5406,2,    288.5,2,  9.8424,    286.4,2,     0.92,2,    11.18,2,     0.23,2,     0.90,2,    3.921,2,    2.025,2, -999.000,5,-999.0000,5,  -999.00,9,   -999.0,9,  -999.00,9,-999.000,9,   -999.0,9,   -999.0,9,  -999.0, -999.00,-999.0000,-999.000,-999.000
     316N145_5,  I08S,    30,  1,     36, SIH035,2,19941213,1545,-43.5028,  95.0028, 3150,  626.1,     58.5,   9.8645,  34.5534,2,  34.5547,2,    285.4,2,  9.8579,    323.7,2,     0.85,2,    11.28,2,     0.23,2,     0.91,2, -999.000,9, -999.000,9, -999.000,5,-999.0000,5,  -999.00,9,   -999.0,9,  -999.00,9,-999.000,9,   -999.0,9,   -999.0,9,  -999.0, -999.00,-999.0000,-999.000,-999.000
     316N145_5,  I08S,    30,  1,     34, SIH033,2,19941213,1545,-43.5028,  95.0028, 3150,  872.5,     83.3,   9.8838,  34.6445,2,  34.6458,2,    276.7,2,  9.8743,    276.9,2,     3.14,2,    11.26,2,     0.25,2,     0.96,2, -999.000,9, -999.000,9, -999.000,5,-999.0000,5,  -999.00,9,   -999.0,9,  -999.00,9,-999.000,9,   -999.0,9,   -999.0,9,  -999.0, -999.00,-999.0000,-999.000,-999.000
     316N145_5,  I08S,    30,  1,     32, SIH031,2,19941213,1545,-43.5028,  95.0028, 3150, 1128.7,    109.1,   9.7962,  34.6807,2,  34.6999,2,    270.8,2,  9.7838,    271.1,2,     4.14,2,    11.69,2,     0.33,2,     0.98,2, -999.000,9, -999.000,9, -999.000,5,-999.0000,5,  -999.00,9,   -999.0,9,  -999.00,9,-999.000,9,   -999.0,9,   -999.0,9,  -999.0, -999.00,-999.0000,-999.000,-999.000
     316N145_5,  I08S,    30,  1,     33, SIH032,2,19941213,1545,-43.5028,  95.0028, 3150, 1619.5,    158.4,   9.9659,  34.7758,2,  34.7766,2,    259.8,2,  9.9476,    263.0,2,     5.01,2,    12.70,2,     0.02,2,     0.99,2,    3.509,2,    1.830,2, -999.000,5,-999.0000,5,  -999.00,9,   -999.0,9,  -999.00,9,-999.000,9,   -999.0,9,   -999.0,9,  -999.0, -999.00,-999.0000,-999.000,-999.000
     316N145_5,  I08S,    30,  1,     31, SIH030,2,19941213,1545,-43.5028,  95.0028, 3150, 2104.6,    207.2,   9.2399,  34.6400,2,  34.6409,2,    269.9,2,  9.2171,    270.9,2,     5.16,2,    13.94,2,     0.08,2,     1.07,2,    3.739,2,    1.966,2, -999.000,5,-999.0000,5,  -999.00,9,   -999.0,9,  -999.00,9,-999.000,9,   -999.0,9,   -999.0,9,  -999.0, -999.00,-999.0000,-999.000,-999.000
     316N145_5,  I08S,    30,  1,     29, SIH028,2,19941213,1545,-43.5028,  95.0028, 3150, 2623.3,    259.4,   9.1227,  34.6307,2,  34.6335,2,    266.4,2,  9.0943,    269.3,2,     5.14,2,    14.30,2,     0.02,2,     1.08,2,    3.702,2,    1.908,2, -999.000,5,-999.0000,5,  -999.00,9,   -999.0,9,  -999.00,9,-999.000,9,   -999.0,9,   -999.0,9,  -999.0, -999.00,-999.0000,-999.000,-999.000
     316N145_5,  I08S,    30,  1,     30, SIH029,2,19941213,1545,-43.5028,  95.0028, 3150, 3101.6,    307.5,   8.9792,  34.6179,2,  34.6172,2,    267.0,2,  8.9458,    267.9,2,     5.49,2,    14.85,2,     0.01,2,     1.12,2, -999.000,9, -999.000,9, -999.000,5,-999.0000,5,  -999.00,9,   -999.0,9,  -999.00,9,-999.000,9,   -999.0,9,   -999.0,9,  -999.0, -999.00,-999.0000,-999.000,-999.000
     316N145_5,  I08S,    30,  1,     28, SIH027,2,19941213,1545,-43.5028,  95.0028, 3150, 3615.1,    359.1,   8.7682,  34.5893,2,  34.5889,2,    266.4,2,  8.7296,    266.1,2,     5.65,2,    15.31,2,     0.01,2,     1.15,2, -999.000,9, -999.000,9, -999.000,5,-999.0000,5,  -999.00,9,   -999.0,9,  -999.00,9,-999.000,9,   -999.0,9,   -999.0,9,  -999.0, -999.00,-999.0000,-999.000,-999.000
     316N145_5,  I08S,    30,  1,     26, SIH003,2,19941213,1545,-43.5028,  95.0028, 3150, 4122.3,    410.1,   8.1670,  34.4943,2,  34.4950,2,    261.6,2,  8.1247,    260.7,2,     7.00,2,    17.34,2,     0.01,2,     1.28,2, -999.000,9, -999.000,9, -999.000,5,-999.0000,5,  -999.00,9,   -999.0,9,  -999.00,9,-999.000,9,   -999.0,9,   -999.0,9,  -999.0, -999.00,-999.0000,-999.000,-999.000
     316N145_5,  I08S,    30,  1,     27, SIH026,2,19941213,1545,-43.5028,  95.0028, 3150, 4614.0,    459.5,   7.7787,  34.4818,2,  34.4838,2,    243.2,2,  7.7325,    236.5,2,    10.10,2,    20.34,2,     0.00,2,     1.46,2,    2.845,2,    1.394,2, -999.000,5,-999.0000,5,  -999.00,9,   -999.0,9,  -999.00,9,-999.000,9,   -999.0,9,   -999.0,9,  -999.0, -999.00,-999.0000,-999.000,-999.000
     316N145_5,  I08S,    30,  1,     25, SIH024,2,19941213,1545,-43.5028,  95.0028, 3150, 5114.0,    509.8,   7.2821,  34.4465,2,  34.4467,2,    230.7,2,  7.2327,    230.5,2,    12.13,2,    22.01,2,     0.00,2,     1.55,2,   -0.001,4,    1.349,2, -999.000,5,-999.0000,5,  -999.00,9,   -999.0,9,  -999.00,9,-999.000,9,   -999.0,9,   -999.0,9,  -999.0, -999.00,-999.0000,-999.000,-999.000
     316N145_5,  I08S,    30,  1,     23, SIH022,2,19941213,1545,-43.5028,  95.0028, 3150, 6111.9,    610.2,   6.3290,  34.4012,2,  34.4002,2,    223.6,2,  6.2738,    220.7,2,    17.26,2,    25.24,2,     0.00,2,     1.75,2,    2.298,2,    1.149,2, -999.000,5,-999.0000,5,  -999.00,9,   -999.0,9,  -999.00,9,-999.000,9,   -999.0,9,   -999.0,9,  -999.0, -999.00,-999.0000,-999.000,-999.000
     316N145_5,  I08S,    30,  1,     24, SIH023,2,19941213,1545,-43.5028,  95.0028, 3150, 7107.2,    710.3,   5.2230,  34.3328,2,  34.3339,2,    221.8,2,  5.1643,    223.4,2,    21.89,2,    27.50,2,     0.00,2,     1.91,2, -999.000,9, -999.000,9, -999.000,5,-999.0000,5,  -999.00,9,   -999.0,9,  -999.00,9,-999.000,9,   -999.0,9,   -999.0,9,  -999.0, -999.00,-999.0000,-999.000,-999.000
     316N145_5,  I08S,    30,  1,     22, SIH021,2,19941213,1545,-43.5028,  95.0028, 3150, 8125.7,    812.7,   4.5434,  34.3179,2,  34.3217,2,    221.6,2,  4.4799,    220.8,2,    27.36,2,    29.32,2,     0.00,2,     2.01,2,    1.832,2,    0.860,2, -999.000,5,-999.0000,5,  -999.00,9,   -999.0,9,  -999.00,9,-999.000,9,   -999.0,9,   -999.0,9,  -999.0, -999.00,-999.0000,-999.000,-999.000
     316N145_5,  I08S,    30,  1,     20, SIH002,2,19941213,1545,-43.5028,  95.0028, 3150, 9107.9,    911.5,   3.8981,  34.3171,2,  34.3187,2,    217.9,2,  3.8307,    216.1,2,    34.19,2,    30.50,2,     0.00,2,     2.12,2,    1.735,2,    0.829,2, -999.000,5,-999.0000,5,  -999.00,9,   -999.0,9,  -999.00,9,-999.000,9,   -999.0,9,   -999.0,9,  -999.0, -999.00,-999.0000,-999.000,-999.000
     316N145_5,  I08S,    30,  1,     21, SIH020,2,19941213,1545,-43.5028,  95.0028, 3150,10110.9,   1012.4,   3.5908,  34.3455,2,  34.3478,2,    209.9,2,  3.5176,    207.2,2,    40.88,2,    31.67,2,    -0.01,2,     2.19,2,    1.354,6,    0.655,6, -999.000,5,-999.0000,5,  -999.00,9,   -999.0,9,  -999.00,9,-999.000,9,   -999.0,9,   -999.0,9,  -999.0, -999.00,-999.0000,-999.000,-999.000
     316N145_5,  I08S,    30,  1,     19, SIH018,2,19941213,1545,-43.5028,  95.0028, 3150,11121.6,   1114.1,   3.3257,  34.3933,2,  34.3951,2,    195.5,2,  3.2465,    214.0,2,    49.25,2,    32.69,2,     0.00,2,     2.27,2,    0.786,2,    0.388,2, -999.000,5,-999.0000,5,  -999.00,9,   -999.0,9,  -999.00,9,-999.000,9,   -999.0,9,   -999.0,9,  -999.0, -999.00,-999.0000,-999.000,-999.000
     316N145_5,  I08S,    30,  1,     17, SIH016,2,19941213,1545,-43.5028,  95.0028, 3150,12124.4,   1214.9,   3.1575,  34.4460,2,  34.4461,2,    180.4,2,  3.0716,    180.0,2,    57.96,2,    33.55,2,     0.00,2,     2.33,2,    0.386,2,    0.182,2, -999.000,5,-999.0000,5,  -999.00,9,   -999.0,9,  -999.00,9,-999.000,9,   -999.0,9,   -999.0,9,  -999.0, -999.00,-999.0000,-999.000,-999.000
     316N145_5,  I08S,    30,  1,     18, SIH017,2,19941213,1545,-43.5028,  95.0028, 3150,13120.1,   1315.1,   2.9672,  34.4903,2,  34.4924,2,    173.6,2,  2.8750,    174.4,2,    64.14,2,    33.82,2,     0.00,2,     2.36,2, -999.000,9, -999.000,9, -999.000,5,-999.0000,5,  -999.00,9,   -999.0,9,  -999.00,9,-999.000,9,   -999.0,9,   -999.0,9,  -999.0, -999.00,-999.0000,-999.000,-999.000
     316N145_5,  I08S,    30,  1,     16, SIH015,2,19941213,1545,-43.5028,  95.0028, 3150,14126.4,   1416.3,   2.7994,  34.5306,2,  34.5347,2,    174.0,2,  2.7008,    173.3,2,    67.37,2,    33.74,2,     0.00,2,     2.34,2, -999.000,9, -999.000,9, -999.000,5,-999.0000,5,  -999.00,9,   -999.0,9,  -999.00,9,-999.000,9,   -999.0,9,   -999.0,9,  -999.0, -999.00,-999.0000,-999.000,-999.000
     316N145_5,  I08S,    30,  1,     14, SIH013,2,19941213,1545,-43.5028,  95.0028, 3150,15129.7,   1517.2,   2.7256,  34.5659,2,  34.5667,2,    170.5,2,  2.6195,    171.8,2,    70.77,2,    33.77,2,     0.00,2,     2.33,2, -999.000,9, -999.000,9, -999.000,5,-999.0000,5,  -999.00,9,   -999.0,9,  -999.00,9,-999.000,9,   -999.0,9,   -999.0,9,  -999.0, -999.00,-999.0000,-999.000,-999.000
     316N145_5,  I08S,    30,  1,     15, SIH014,2,19941213,1545,-43.5028,  95.0028, 3150,16148.7,   1619.7,   2.6088,  34.6109,2,  34.6117,2,    170.9,2,  2.4956,    172.9,2,    73.69,2,    33.21,2,     0.00,2,     2.30,2,    0.112,2,    0.059,2, -999.000,5,-999.0000,5,  -999.00,9,   -999.0,9,  -999.00,9,-999.000,9,   -999.0,9,   -999.0,9,  -999.0, -999.00,-999.0000,-999.000,-999.000
     316N145_5,  I08S,    30,  1,     13, SIH012,2,19941213,1545,-43.5028,  95.0028, 3150,17156.5,   1721.1,   2.5471,  34.6437,2,  34.6437,2,    172.9,2,  2.4261,    173.6,2,    76.23,2,    32.88,2,    -0.01,2,     2.26,2, -999.000,9, -999.000,9, -999.000,5,-999.0000,5,  -999.00,9,   -999.0,9,  -999.00,9,-999.000,9,   -999.0,9,   -999.0,9,  -999.0, -999.00,-999.0000,-999.000,-999.000
     316N145_5,  I08S,    30,  1,     11, SIH010,2,19941213,1545,-43.5028,  95.0028, 3150,18137.1,   1819.7,   2.4858,  34.6689,2,  34.6696,2,    174.4,2,  2.3574,    177.7,2,    76.54,2,    32.23,2,    -0.01,2,     2.22,2, -999.000,9, -999.000,9, -999.000,5,-999.0000,5,  -999.00,9,   -999.0,9,  -999.00,9,-999.000,9,   -999.0,9,   -999.0,9,  -999.0, -999.00,-999.0000,-999.000,-999.000
     316N145_5,  I08S,    30,  1,     12, SIH011,2,19941213,1545,-43.5028,  95.0028, 3150,19148.5,   1921.5,   2.4181,  34.6948,2,  34.6948,2,    180.3,2,  2.2818,    181.1,2,    77.93,2,    31.61,2,    -0.01,2,     2.17,2, -999.000,9, -999.000,9, -999.000,5,-999.0000,5,  -999.00,9,   -999.0,9,  -999.00,9,-999.000,9,   -999.0,9,   -999.0,9,  -999.0, -999.00,-999.0000,-999.000,-999.000
     316N145_5,  I08S,    30,  1,     10, SIH009,2,19941213,1545,-43.5028,  95.0028, 3150,20175.8,   2024.8,   2.3486,  34.7111,2,  34.7125,2,    181.5,2,  2.2045,    181.6,2,    81.33,2,    31.54,2,    -0.01,2,     2.17,2, -999.000,9, -999.000,9, -999.000,5,-999.0000,5,  -999.00,9,   -999.0,9,  -999.00,9,-999.000,9,   -999.0,9,   -999.0,9,  -999.0, -999.00,-999.0000,-999.000,-999.000
     316N145_5,  I08S,    30,  1,      8, SIH038,2,19941213,1545,-43.5028,  95.0028, 3150,22185.2,   2226.9,   2.2595,  34.7425,2,  34.7439,2,    192.1,2,  2.0989,    193.0,2,    78.22,2,    30.05,2,    -0.01,2,     2.06,2, -999.000,9, -999.000,9, -999.000,5,-999.0000,5,  -999.00,9,   -999.0,9,  -999.00,9,-999.000,9,   -999.0,9,   -999.0,9,  -999.0, -999.00,-999.0000,-999.000,-999.000
     316N145_5,  I08S,    30,  1,      9, SIH008,2,19941213,1545,-43.5028,  95.0028, 3150,24212.7,   2430.9,   2.0993,  34.7530,2,  34.7547,2,    195.4,2,  1.9231,    196.8,2,    83.02,2,    29.91,2,    -0.01,2,     2.05,2, -999.000,9, -999.000,9, -999.000,5,-999.0000,5,  -999.00,9,   -999.0,9,  -999.00,9,-999.000,9,   -999.0,9,   -999.0,9,  -999.0, -999.00,-999.0000,-999.000,-999.000
     316N145_5,  I08S,    30,  1,      7, SIH006,2,19941213,1545,-43.5028,  95.0028, 3150,26209.5,   2631.7,   1.8858,  34.7522,2,  34.7533,2,    197.9,2,  1.6951,    198.5,2,    90.18,2,    30.15,2,     0.00,2,     2.07,2, -999.000,9, -999.000,9, -999.000,5,-999.0000,5,  -999.00,9,   -999.0,9,  -999.00,9,-999.000,9,   -999.0,9,   -999.0,9,  -999.0, -999.00,-999.0000,-999.000,-999.000
     316N145_5,  I08S,    30,  1,      5, SIH004,2,19941213,1545,-43.5028,  95.0028, 3150,28244.1,   2836.4,   1.6221,  34.7432,2,  34.7429,2,    198.4,2,  1.4178,    199.7,2,   100.60,2,    30.65,2,     0.00,2,     2.11,2, -999.000,9, -999.000,9, -999.000,5,-999.0000,5,  -999.00,9,   -999.0,9,  -999.00,9,-999.000,9,   -999.0,9,   -999.0,9,  -999.0, -999.00,-999.0000,-999.000,-999.000
     316N145_5,  I08S,    30,  1,      6, SIH005,2,19941213,1545,-43.5028,  95.0028, 3150,29254.8,   2938.0,   1.5738,  34.7408,2,  34.7406,2,    198.7,2,  1.3609,    200.3,2,   102.16,2,    30.82,2,    -0.01,2,     2.12,2, -999.000,9, -999.000,9, -999.000,5,-999.0000,5,  -999.00,9,   -999.0,9,  -999.00,9,-999.000,9,   -999.0,9,   -999.0,9,  -999.0, -999.00,-999.0000,-999.000,-999.000
     316N145_5,  I08S,    30,  1,      4, SIH025,2,19941213,1545,-43.5028,  95.0028, 3150,30268.0,   3040.0,   1.5451,  34.7392,2,  34.7396,2,    199.4,2,  1.3231,    200.7,2,   103.33,2,    30.90,2,     0.00,2,     2.12,2, -999.000,9, -999.000,9, -999.000,5,-999.0000,5,  -999.00,9,   -999.0,9,  -999.00,9,-999.000,9,   -999.0,9,   -999.0,9,  -999.0, -999.00,-999.0000,-999.000,-999.000
     316N145_5,  I08S,    30,  1,      2, SIH001,2,19941213,1545,-43.5028,  95.0028, 3150,31279.8,   3141.7,   1.5352,  34.7388,2,  34.7374,2,    198.5,2,  1.3036,    200.6,2,   104.31,2,    31.11,2,     0.00,2,     2.13,2, -999.000,9, -999.000,9, -999.000,5,-999.0000,5,  -999.00,9,   -999.0,9,  -999.00,9,-999.000,9,   -999.0,9,   -999.0,9,  -999.0, -999.00,-999.0000,-999.000,-999.000
     316N145_5,  I08S,    30,  1,      3, SIH019,2,19941213,1545,-43.5028,  95.0028, 3150,31925.4,   3206.7,   1.5357,  34.7384,2,  34.7384,2,    199.4,2,  1.2977,    200.8,2,   104.17,2,    30.94,2,     0.00,2,     2.12,2, -999.000,9, -999.000,9, -999.000,5,-999.0000,5,  -999.00,9,   -999.0,9,  -999.00,9,-999.000,9,   -999.0,9,   -999.0,9,  -999.0, -999.00,-999.0000,-999.000,-999.000