BOTTLE,20090521WHPSIOdm
EXPOCODE,SECT_ID,STNNBR,CASTNO,SAMPNO,BTLNBR,BTLNBR_FLAG_W,DATE,TIME,LATITUDE,LONGITUDE,DEPTH,CTDRAW,CTDPRS,CTDTMP,CTDSAL,CTDSAL_FLAG_W,SALNTY,SALNTY_FLAG_W,CTDOXY,CTDOXY_FLAG_W,THETA,OXYGEN,OXYGEN_FLAG_W,SILCAT,SILCAT_FLAG_W,NITRAT,NITRAT_FLAG_W,NITRIT,NITRIT_FLAG_W,PHSPHT,PHSPHT_FLAG_W,CFC-11,CFC-11_FLAG_W,CFC-12,CFC-12_FLAG_W,TRITUM,TRITUM_FLAG_W,HELIUM,HELIUM_FLAG_W,DELHE3,DELHE3_FLAG_W,DELC14,DELC14_FLAG_W,DELC13,DELC13_FLAG_W,NEON,NEON_FLAG_W,TCARBN,TCARBN_FLAG_W,ALKALI,ALKALI_FLAG_W,C14ERR,DELHER,HELIER,NEONER,TRITER
,,,,,,,,,,,,,DBAR,IPTS-68,PSS-78,,PSS-78,,UMOL/KG,,IPTS-68,UMOL/KG,,UMOL/KG,,UMOL/KG,,UMOL/KG,,UMOL/KG,,PMOL/KG,,PMOL/KG,,TU,,NMOL/KG,,PERCNT,,/MILLE,,/MILLE,,NMOL/KG,,UMOL/KG,,UMOL/KG,,/MILLE,PERCNT,NMOL/KG,NMOL/KG,TU
     316N145_5,  I09S,    85,  1,     36, SIH035,9,19950101,2224,-64.5112, 111.3917, 2920,  147.4,     10.0,  -0.6412,  33.8001,3,-999.0000,9,    349.8,3, -0.6415,   -999.0,9,  -999.00,9,  -999.00,9,  -999.00,9,  -999.00,9, -999.000,9, -999.000,9, -999.000,5,-999.0000,5,  -999.00,9,   -999.0,9,  -999.00,9,-999.000,9,   -999.0,9,   -999.0,9,  -999.0, -999.00,-999.0000,-999.000,-999.000
     316N145_5,  I09S,    85,  1,     35, SIH032,2,19950101,2224,-64.5112, 111.3917, 2920,  343.6,     29.7,  -0.7081,  33.8264,2,  33.8306,2,    346.3,2, -0.7089,    337.9,2,    65.00,2,    27.02,2,     0.20,2,     1.95,2,    6.170,6,    2.893,6, -999.000,5,-999.0000,5,  -999.00,9,   -119.3,2,  -999.00,9,-999.000,9,   2169.1,6,   -999.0,9,     4.8, -999.00,-999.0000,-999.000,-999.000
     316N145_5,  I09S,    85,  1,     34, SIH029,2,19950101,2224,-64.5112, 111.3917, 2920,  595.7,     55.1,  -1.7218,  34.3260,2,  34.3307,2,    325.6,2, -1.7229,    309.8,2,    68.13,2,    28.75,2,     0.09,2,     2.05,2,    4.851,2,    2.302,2, -999.000,5,-999.0000,5,  -999.00,9,   -117.1,6,     0.73,6,-999.000,9,   2205.8,2,   -999.0,9,     2.6, -999.00,-999.0000,-999.000,-999.000
     316N145_5,  I09S,    85,  1,     33, SIH026,2,19950101,2224,-64.5112, 111.3917, 2920,  842.3,     79.9,  -1.7331,  34.3784,2,  34.3849,2,    326.7,2, -1.7347,    308.2,2,    68.61,2,    29.58,2,     0.06,2,     2.10,2,    4.932,2,    2.344,2, -999.000,5,-999.0000,5,  -999.00,9,   -119.6,2,     0.84,2,-999.000,9,   2213.0,2,   2336.8,3,     3.2, -999.00,-999.0000,-999.000,-999.000
     316N145_5,  I09S,    85,  1,     32, SIH023,2,19950101,2224,-64.5112, 111.3917, 2920, 1088.1,    104.6,  -1.6344,  34.4121,2,  34.4192,2,    324.8,2, -1.6366,    305.5,2,    69.72,2,    29.91,2,     0.03,2,     2.11,2,    4.978,2,    2.370,2, -999.000,5,-999.0000,5,  -999.00,9,   -117.7,2,     0.70,2,-999.000,9,   2217.2,2,   2326.2,2,     3.4, -999.00,-999.0000,-999.000,-999.000
     316N145_5,  I09S,    85,  1,     31, SIH020,2,19950101,2224,-64.5112, 111.3917, 2920, 1590.9,    155.2,  -0.4619,  34.5377,2,  34.5392,2,    274.9,2, -0.4669,    261.6,2,    80.44,2,    30.58,2,     0.00,2,     2.17,2,    3.213,2,    1.489,2, -999.000,5,-999.0000,5,  -999.00,9,   -128.3,2,     0.53,2,-999.000,9,   2233.8,2,   -999.0,9,     3.5, -999.00,-999.0000,-999.000,-999.000
     316N145_5,  I09S,    85,  1,     30, SIH017,2,19950101,2224,-64.5112, 111.3917, 2920, 2070.1,    203.4,   0.8887,  34.6703,2,  34.6747,2,    213.6,2,  0.8796,    208.7,2,    91.01,2,    31.10,2,     0.00,2,     2.21,2,    1.010,2,    0.469,2, -999.000,5,-999.0000,5,  -999.00,9,   -135.3,2,     0.09,2,-999.000,9,   2249.4,2,   2348.4,2,     4.1, -999.00,-999.0000,-999.000,-999.000
     316N145_5,  I09S,    85,  1,     29, SIH014,2,19950101,2224,-64.5112, 111.3917, 2920, 2581.0,    254.8,   1.1564,  34.6993,2,  34.7038,2,    202.1,2,  1.1443,    199.6,2,    93.54,2,    31.08,2,     0.00,2,     2.21,2,    0.601,2,    0.267,2, -999.000,5,-999.0000,5,  -999.00,9,   -145.9,2,    -0.23,2,-999.000,9,   2254.6,2,   -999.0,9,     6.4, -999.00,-999.0000,-999.000,-999.000
     316N145_5,  I09S,    85,  1,     28, SIH011,2,19950101,2224,-64.5112, 111.3917, 2920, 3043.4,    301.3,   1.1940,  34.7075,2,  34.7134,2,    202.8,2,  1.1796,    198.4,2,    95.04,2,    31.07,2,     0.00,2,     2.20,2,    0.483,2,    0.213,2, -999.000,5,-999.0000,5,  -999.00,9,   -138.9,2,     0.18,2,-999.000,9,   2252.2,2,   2357.7,2,     3.8, -999.00,-999.0000,-999.000,-999.000
     316N145_5,  I09S,    85,  1,     27, SIH008,2,19950101,2224,-64.5112, 111.3917, 2920, 3615.2,    358.8,   1.1419,  34.7110,2,  34.7138,2,    203.9,2,  1.1247,    200.5,2,    97.18,2,    31.02,2,     0.00,2,     2.20,2,    0.429,2,    0.188,2, -999.000,5,-999.0000,5,  -999.00,9,   -141.7,2,     0.17,2,-999.000,9,   2252.5,2,   2353.4,2,     4.3, -999.00,-999.0000,-999.000,-999.000
     316N145_5,  I09S,    85,  1,     26, SIH005,2,19950101,2224,-64.5112, 111.3917, 2920, 4119.5,    409.5,   1.1165,  34.7130,2,  34.7197,2,    203.8,2,  1.0967,    200.8,2,    98.69,2,    30.92,2,     0.00,2,     2.19,2,    0.377,2,    0.168,2, -999.000,5,-999.0000,5,  -999.00,9,   -143.5,2,     0.09,2,-999.000,9,   2252.2,2,   -999.0,9,     4.3, -999.00,-999.0000,-999.000,-999.000
     316N145_5,  I09S,    85,  1,     25, SIH019,2,19950101,2224,-64.5112, 111.3917, 2920, 4484.2,    446.2,   1.1095,  34.7143,2,  34.7193,2,    206.0,2,  1.0878,    201.0,2,    99.72,2,    30.91,2,     0.00,2,     2.19,2,    0.345,2,    0.152,2, -999.000,5,-999.0000,5,  -999.00,9,   -153.9,2,     0.28,2,-999.000,9,   2250.5,2,   -999.0,9,     5.0, -999.00,-999.0000,-999.000,-999.000
     316N145_5,  I09S,    85,  1,     23, SIH033,2,19950101,2224,-64.5112, 111.3917, 2920, 4991.6,    497.3,   1.0709,  34.7145,2,  34.7203,2,    205.0,2,  1.0467,    201.6,2,   101.32,2,    31.04,2,     0.00,2,     2.19,2,    0.330,2,    0.145,2, -999.000,5,-999.0000,5,  -999.00,9,   -999.0,9,  -999.00,9,-999.000,9,   2253.8,2,   2352.6,2,  -999.0, -999.00,-999.0000,-999.000,-999.000
     316N145_5,  I09S,    85,  1,     22, SIH031,2,19950101,2224,-64.5112, 111.3917, 2920, 6048.5,    603.6,   0.9664,  34.7114,2,  34.7162,2,    208.1,2,  0.9370,    203.8,2,   104.40,2,    31.06,2,     0.00,2,     2.20,2, -999.000,9, -999.000,9, -999.000,5,-999.0000,5,  -999.00,9,   -155.1,2,     0.01,3,-999.000,9,   2253.6,2,   2364.1,2,     2.9, -999.00,-999.0000,-999.000,-999.000
     316N145_5,  I09S,    85,  1,     21, SIH030,2,19950101,2224,-64.5112, 111.3917, 2920, 7054.8,    704.8,   0.8560,  34.7057,2,  34.7119,2,    208.0,2,  0.8216,    206.4,2,   106.62,2,    31.11,2,     0.00,2,     2.20,2,    0.331,6,    0.151,6, -999.000,5,-999.0000,5,  -999.00,9,   -153.2,2,     0.34,2,-999.000,9,   2253.4,2,   2376.1,3,     4.3, -999.00,-999.0000,-999.000,-999.000
     316N145_5,  I09S,    85,  1,     20, SIH028,2,19950101,2224,-64.5112, 111.3917, 2920, 8024.1,    802.3,   0.8119,  34.7066,2,  34.7142,2,    208.5,2,  0.7724,    205.4,2,   109.89,2,    31.21,2,     0.00,2,     2.21,2, -999.000,9, -999.000,9, -999.000,5,-999.0000,5,  -999.00,9,   -143.4,2,     0.40,2,-999.000,9,   2257.3,2,   2358.5,2,     5.6, -999.00,-999.0000,-999.000,-999.000
     316N145_5,  I09S,    85,  1,     19, SIH027,2,19950101,2224,-64.5112, 111.3917, 2920, 9060.2,    906.5,   0.7166,  34.7011,2,  34.7062,2,    210.3,2,  0.6719,    206.8,2,   111.80,2,    31.36,2,     0.00,2,     2.21,2,    0.259,2,    0.116,2, -999.000,5,-999.0000,5,  -999.00,9,   -136.8,2,     0.41,2,-999.000,9,   2258.3,2,   2361.7,2,     6.0, -999.00,-999.0000,-999.000,-999.000
     316N145_5,  I09S,    85,  1,     18, SIH003,2,19950101,2224,-64.5112, 111.3917, 2920,10148.9,   1016.0,   0.6215,  34.6978,2,  34.7060,2,    211.6,2,  0.5712,    207.7,2,   111.81,2,    31.27,2,     0.00,2,     2.21,2, -999.000,9, -999.000,9, -999.000,5,-999.0000,5,  -999.00,9,   -144.0,2,     0.33,2,-999.000,9,   2255.6,6,   -999.0,9,     6.7, -999.00,-999.0000,-999.000,-999.000
     316N145_5,  I09S,    85,  1,     17, SIH024,2,19950101,2224,-64.5112, 111.3917, 2920,11142.9,   1116.0,   0.5451,  34.6942,2,  34.6987,2,    210.9,2,  0.4896,    210.0,2,   116.72,2,    31.52,2,     0.00,2,     2.23,2,    0.238,2,    0.106,2, -999.000,5,-999.0000,5,  -999.00,9,   -165.4,2,     0.42,2,-999.000,9,   2257.7,2,   2351.1,2,     3.3, -999.00,-999.0000,-999.000,-999.000
     316N145_5,  I09S,    85,  1,     16, SIH022,2,19950101,2224,-64.5112, 111.3917, 2920,12178.6,   1220.2,   0.4150,  34.6843,2,  34.6897,2,    216.7,2,  0.3545,    214.2,2,   116.42,2,    31.61,2,     0.00,2,     2.24,2, -999.000,9, -999.000,9, -999.000,5,-999.0000,5,  -999.00,9,   -157.4,2,     0.43,2,-999.000,9,   2256.9,2,   2361.3,2,     2.5, -999.00,-999.0000,-999.000,-999.000
     316N145_5,  I09S,    85,  1,     15, SIH021,2,19950101,2224,-64.5112, 111.3917, 2920,13239.8,   1326.9,   0.3238,  34.6811,2,  34.6853,2,    220.0,2,  0.2579,    216.0,2,   117.86,2,    31.70,2,     0.00,2,     2.25,2,    0.437,2,    0.203,2, -999.000,5,-999.0000,5,  -999.00,9,   -152.6,2,     0.34,2,-999.000,9,   2258.1,2,   -999.0,9,     2.9, -999.00,-999.0000,-999.000,-999.000
     316N145_5,  I09S,    85,  1,     14, SIH002,2,19950101,2224,-64.5112, 111.3917, 2920,14232.2,   1426.7,   0.2253,  34.6744,2,  34.6787,2,    221.2,2,  0.1543,    219.3,2,   117.55,2,    31.68,2,     0.00,2,     2.24,2, -999.000,9, -999.000,9, -999.000,5,-999.0000,5,  -999.00,9,   -158.1,2,     0.45,2,-999.000,9,   2253.5,2,   2358.6,2,     2.8, -999.00,-999.0000,-999.000,-999.000
     316N145_5,  I09S,    85,  1,     13, SIH018,2,19950101,2224,-64.5112, 111.3917, 2920,15177.3,   1521.8,   0.1609,  34.6734,2,  34.6767,2,    223.6,2,  0.0847,    221.3,2,   117.73,2,    31.65,2,     0.00,2,     2.24,2,    0.624,2,    0.293,2, -999.000,5,-999.0000,5,  -999.00,9,   -155.5,2,     0.46,2,-999.000,9,   2254.4,2,   2366.8,2,     2.9, -999.00,-999.0000,-999.000,-999.000
     316N145_5,  I09S,    85,  1,     12, SIH016,2,19950101,2224,-64.5112, 111.3917, 2920,16148.7,   1619.5,   0.1612,  34.6773,2,  34.6808,2,    222.4,2,  0.0787,    221.3,2,   120.75,2,    31.80,2,     0.00,2,     2.25,2, -999.000,9, -999.000,9, -999.000,5,-999.0000,5,  -999.00,9,   -160.7,2,     0.41,2,-999.000,9,   2255.8,2,   2359.1,2,     2.9, -999.00,-999.0000,-999.000,-999.000
     316N145_5,  I09S,    85,  1,     11, SIH015,2,19950101,2224,-64.5112, 111.3917, 2920,17063.5,   1711.5,   0.1497,  34.6804,2,  34.6853,2,    223.0,2,  0.0614,    220.8,2,   123.14,2,    31.82,2,     0.00,2,     2.25,2,    0.363,2,    0.172,2, -999.000,5,-999.0000,5,  -999.00,9,   -173.1,2,     0.40,2,-999.000,9,   2256.9,2,   2355.0,2,     3.8, -999.00,-999.0000,-999.000,-999.000
     316N145_5,  I09S,    85,  1,     10, SIH013,2,19950101,2224,-64.5112, 111.3917, 2920,18150.2,   1820.9,   0.0987,  34.6788,2,  34.6812,2,    223.9,2,  0.0037,    222.2,2,   123.62,2,    31.85,2,     0.00,2,     2.25,2, -999.000,9, -999.000,9, -999.000,5,-999.0000,5,  -999.00,9,   -159.7,2,     0.42,2,-999.000,9,   2258.0,2,   -999.0,9,     2.9, -999.00,-999.0000,-999.000,-999.000
     316N145_5,  I09S,    85,  1,      9, SIH012,2,19950101,2224,-64.5112, 111.3917, 2920,19199.4,   1926.4,   0.0271,  34.6729,2,  34.6769,2,    228.5,2, -0.0740,    225.0,2,   120.48,2,    31.72,2,     0.00,2,     2.25,2,    0.643,2,    0.302,2, -999.000,5,-999.0000,5,  -999.00,9,   -161.3,2,     0.43,2,-999.000,9,   2256.4,2,   2355.5,2,     3.7, -999.00,-999.0000,-999.000,-999.000
     316N145_5,  I09S,    85,  1,      8, SIH010,2,19950101,2224,-64.5112, 111.3917, 2920,20187.6,   2025.8,  -0.0125,  34.6717,2,  34.6759,2,    229.3,2, -0.1198,    227.1,2,   119.70,2,    31.69,2,     0.00,2,     2.24,2, -999.000,9, -999.000,9, -999.000,5,-999.0000,5,  -999.00,9,   -159.3,2,     0.28,2,-999.000,9,   2255.9,2,   -999.0,9,     2.9, -999.00,-999.0000,-999.000,-999.000
     316N145_5,  I09S,    85,  1,      7, SIH009,2,19950101,2224,-64.5112, 111.3917, 2920,21165.5,   2124.2,  -0.0442,  34.6713,2,  34.6749,2,    231.7,2, -0.1580,    228.2,2,   118.92,2,    31.66,2,     0.00,2,     2.24,2,    0.819,2,    0.382,2, -999.000,5,-999.0000,5,  -999.00,9,   -152.6,2,     0.23,2,-999.000,9,   2255.6,2,   2348.2,2,     2.9, -999.00,-999.0000,-999.000,-999.000
     316N145_5,  I09S,    85,  1,      6, SIH038,2,19950101,2224,-64.5112, 111.3917, 2920,22231.7,   2231.4,  -0.0562,  34.6738,2,  34.6765,2,    230.9,2, -0.1776,    228.3,2,   120.78,2,    31.69,2,     0.00,2,     2.24,2, -999.000,9, -999.000,9, -999.000,5,-999.0000,5,  -999.00,9,   -161.5,2,     0.18,2,-999.000,9,   2256.0,2,   -999.0,9,     3.0, -999.00,-999.0000,-999.000,-999.000
     316N145_5,  I09S,    85,  1,      5, SIH006,2,19950101,2224,-64.5112, 111.3917, 2920,23215.9,   2330.4,  -0.1007,  34.6723,2,  34.6757,2,    232.7,2, -0.2285,    230.5,2,   118.95,2,    31.67,2,     0.00,2,     2.24,2,    0.874,2,    0.414,2, -999.000,5,-999.0000,5,  -999.00,9,   -154.0,2,     0.41,2,-999.000,9,   2255.3,2,   2349.9,2,     3.0, -999.00,-999.0000,-999.000,-999.000
     316N145_5,  I09S,    85,  1,      4, SIH004,2,19950101,2224,-64.5112, 111.3917, 2920,25231.4,   2533.2,  -0.1505,  34.6718,2,  34.6741,2,    235.9,2, -0.2928,    233.3,2,   116.12,2,    31.58,2,     0.00,2,     2.23,2, -999.000,9, -999.000,9, -999.000,5,-999.0000,5,  -999.00,9,   -158.2,2,     0.33,2,-999.000,9,   2254.9,2,   -999.0,9,     2.4, -999.00,-999.0000,-999.000,-999.000
     316N145_5,  I09S,    85,  1,      3, SIH025,2,19950101,2224,-64.5112, 111.3917, 2920,26263.8,   2637.0,  -0.1787,  34.6699,2,  34.6726,2,    239.5,2, -0.3285,    235.3,2,   112.49,2,    31.44,2,     0.00,2,     2.23,2,    1.346,2,    0.626,2, -999.000,5,-999.0000,5,  -999.00,9,   -154.8,2,     0.45,2,-999.000,9,   2253.0,2,   -999.0,9,     5.7, -999.00,-999.0000,-999.000,-999.000
     316N145_5,  I09S,    85,  1,      2, SIH001,2,19950101,2224,-64.5112, 111.3917, 2920,27316.5,   2742.9,  -0.1937,  34.6694,2,  34.6722,2,    241.7,2, -0.3516,    236.3,2,   110.76,2,    31.36,2,     0.00,2,     2.23,2,    1.449,6,    0.678,6, -999.000,5,-999.0000,5,  -999.00,9,   -139.2,2,     0.29,2,-999.000,9,   2253.0,2,   2350.7,2,     3.2, -999.00,-999.0000,-999.000,-999.000
     316N145_5,  I09S,    85,  1,      1, SIH036,2,19950101,2224,-64.5112, 111.3917, 2920,28339.1,   2845.8,  -0.2006,  34.6699,2,  34.6763,3,    241.3,2, -0.3667,    236.3,2,   112.67,2,    31.44,2,     0.00,2,     2.23,2,    1.477,2,    0.684,2, -999.000,5,-999.0000,5,  -999.00,9,   -148.5,2,     0.48,2,-999.000,9,   2251.6,6,   -999.0,9,     3.8, -999.00,-999.0000,-999.000,-999.000
     316N145_5,  I09S,    85,  1,     24, SIH037,9,19950101,2224,-64.5112, 111.3917, 2920,28960.1,   2908.2,  -0.1954,  34.6725,2,-999.0000,9,    242.3,2, -0.3667,   -999.0,9,  -999.00,9,  -999.00,9,  -999.00,9,  -999.00,9, -999.000,9, -999.000,9, -999.000,5,-999.0000,5,  -999.00,9,   -999.0,9,  -999.00,9,-999.000,9,   -999.0,9,   -999.0,9,  -999.0, -999.00,-999.0000,-999.000,-999.000