BOTTLE,20090521WHPSIOdm
EXPOCODE,SECT_ID,STNNBR,CASTNO,SAMPNO,BTLNBR,BTLNBR_FLAG_W,DATE,TIME,LATITUDE,LONGITUDE,DEPTH,CTDRAW,CTDPRS,CTDTMP,CTDSAL,CTDSAL_FLAG_W,SALNTY,SALNTY_FLAG_W,CTDOXY,CTDOXY_FLAG_W,THETA,OXYGEN,OXYGEN_FLAG_W,SILCAT,SILCAT_FLAG_W,NITRAT,NITRAT_FLAG_W,NITRIT,NITRIT_FLAG_W,PHSPHT,PHSPHT_FLAG_W,CFC-11,CFC-11_FLAG_W,CFC-12,CFC-12_FLAG_W,TRITUM,TRITUM_FLAG_W,HELIUM,HELIUM_FLAG_W,DELHE3,DELHE3_FLAG_W,DELC14,DELC14_FLAG_W,DELC13,DELC13_FLAG_W,NEON,NEON_FLAG_W,TCARBN,TCARBN_FLAG_W,ALKALI,ALKALI_FLAG_W,C14ERR,DELHER,HELIER,NEONER,TRITER
,,,,,,,,,,,,,DBAR,IPTS-68,PSS-78,,PSS-78,,UMOL/KG,,IPTS-68,UMOL/KG,,UMOL/KG,,UMOL/KG,,UMOL/KG,,UMOL/KG,,PMOL/KG,,PMOL/KG,,TU,,NMOL/KG,,PERCNT,,/MILLE,,/MILLE,,NMOL/KG,,UMOL/KG,,UMOL/KG,,/MILLE,PERCNT,NMOL/KG,NMOL/KG,TU
     316N145_5,  I08S,    52,  1,     36, SIH035,2,19941219,2138,-51.8195,  88.7805, 4235,  157.5,     10.5,   3.2990,  33.9279,2,  33.9287,2,    370.5,2,  3.2984,    331.5,2,     2.00,2,    21.58,2,     0.21,2,     1.49,2,    5.687,2,    2.732,2, -999.000,5,-999.0000,5,  -999.00,9,   -999.0,9,  -999.00,9,-999.000,9,   2116.4,6,   2286.9,2,  -999.0, -999.00,-999.0000,-999.000,-999.000
     316N145_5,  I08S,    52,  1,     35, SIH032,2,19941219,2138,-51.8195,  88.7805, 4235,  366.1,     31.4,   3.2890,  33.9300,2,  33.9330,2,    370.1,2,  3.2870,    330.7,2,     2.03,2,    21.58,2,     0.21,2,     1.50,2, -999.000,9, -999.000,9, -999.000,5,-999.0000,5,  -999.00,9,   -999.0,9,  -999.00,9,-999.000,9,   -999.0,9,   2292.6,2,  -999.0, -999.00,-999.0000,-999.000,-999.000
     316N145_5,  I08S,    52,  1,     34, SIH029,2,19941219,2138,-51.8195,  88.7805, 4235,  601.2,     55.1,   2.9737,  33.9418,2,  33.9428,2,    369.2,2,  2.9704,    330.6,2,     4.42,2,    22.09,2,     0.21,2,     1.55,2, -999.000,9, -999.000,9, -999.000,5,-999.0000,5,  -999.00,9,   -999.0,9,  -999.00,9,-999.000,9,   2125.2,2,   2292.1,2,  -999.0, -999.00,-999.0000,-999.000,-999.000
     316N145_5,  I08S,    52,  1,     33, SIH026,2,19941219,2138,-51.8195,  88.7805, 4235,  852.4,     80.4,   1.7262,  33.9633,2,  33.9663,2,    369.7,2,  1.7223,    338.9,2,    17.42,2,    24.76,2,     0.20,2,     1.78,2, -999.000,9, -999.000,9, -999.000,5,-999.0000,5,  -999.00,9,   -999.0,9,  -999.00,9,-999.000,9,   2148.4,2,   2290.9,2,  -999.0, -999.00,-999.0000,-999.000,-999.000
     316N145_5,  I08S,    52,  1,     32, SIH023,2,19941219,2138,-51.8195,  88.7805, 4235, 1109.1,    106.2,   0.6996,  33.9433,2,  33.9447,2,    365.2,2,  0.6953,    328.6,2,    28.39,2,    27.54,2,     0.18,2,     1.97,2, -999.000,9, -999.000,9, -999.000,5,-999.0000,5,  -999.00,9,   -999.0,9,  -999.00,9,-999.000,9,   2163.7,2,   2304.4,3,  -999.0, -999.00,-999.0000,-999.000,-999.000
     316N145_5,  I08S,    52,  1,     31, SIH020,2,19941219,2138,-51.8195,  88.7805, 4235, 1579.7,    153.5,   0.8199,  34.0518,2,  34.0564,2,    337.2,2,  0.8134,    303.5,2,    37.51,2,    29.51,2,     0.14,2,     2.09,2, -999.000,9, -999.000,9, -999.000,5,-999.0000,5,  -999.00,9,   -999.0,9,  -999.00,9,-999.000,9,   2181.1,2,   2298.0,2,  -999.0, -999.00,-999.0000,-999.000,-999.000
     316N145_5,  I08S,    52,  1,     30, SIH017,2,19941219,2138,-51.8195,  88.7805, 4235, 2086.5,    204.5,   0.2459,  34.1021,2,  34.1052,2,    313.4,2,  0.2381,    293.6,2,    46.79,2,    31.07,2,     0.16,2,     2.18,2, -999.000,9, -999.000,9, -999.000,5,-999.0000,5,  -999.00,9,   -999.0,9,  -999.00,9,-999.000,9,   2200.1,2,   2294.8,2,  -999.0, -999.00,-999.0000,-999.000,-999.000
     316N145_5,  I08S,    52,  1,     29, SIH014,7,19941219,2138,-51.8195,  88.7805, 4235, 2574.2,    253.6,   1.5869,  34.2979,3,-999.0000,9,    270.7,3,  1.5742,   -999.0,9,  -999.00,9,  -999.00,9,  -999.00,9,  -999.00,9, -999.000,9, -999.000,9, -999.000,5,-999.0000,5,  -999.00,9,   -999.0,9,  -999.00,9,-999.000,9,   -999.0,9,   -999.0,9,  -999.0, -999.00,-999.0000,-999.000,-999.000
     316N145_5,  I08S,    52,  1,     28, SIH011,2,19941219,2138,-51.8195,  88.7805, 4235, 3065.8,    303.0,   1.8285,  34.3722,2,  34.3723,2,    230.4,2,  1.8126,    207.6,2,    60.78,2,    34.32,2,     0.02,2,     2.38,2, -999.000,9, -999.000,9, -999.000,5,-999.0000,5,  -999.00,9,   -999.0,9,  -999.00,9,-999.000,9,   2232.9,2,   2321.4,3,  -999.0, -999.00,-999.0000,-999.000,-999.000
     316N145_5,  I08S,    52,  1,     27, SIH008,2,19941219,2138,-51.8195,  88.7805, 4235, 3563.1,    353.0,   2.0975,  34.4482,2,  34.4473,2,    203.4,2,  2.0780,    218.8,2,    65.85,2,    34.59,2,     0.01,2,     2.39,2, -999.000,9, -999.000,9, -999.000,5,-999.0000,5,  -999.00,9,   -999.0,9,  -999.00,9,-999.000,9,   2242.1,2,   2316.7,2,  -999.0, -999.00,-999.0000,-999.000,-999.000
     316N145_5,  I08S,    52,  1,     26, SIH005,2,19941219,2138,-51.8195,  88.7805, 4235, 4062.4,    403.3,   2.1992,  34.4988,2,  34.5005,2,    196.4,2,  2.1764,    184.4,2,    68.22,2,    34.23,2,     0.01,2,     2.37,2, -999.000,9, -999.000,9, -999.000,5,-999.0000,5,  -999.00,9,   -999.0,9,  -999.00,9,-999.000,9,   2245.1,2,   2329.1,2,  -999.0, -999.00,-999.0000,-999.000,-999.000
     316N145_5,  I08S,    52,  1,     25, SIH019,2,19941219,2138,-51.8195,  88.7805, 4235, 4664.7,    463.8,   2.2851,  34.5560,2,  34.5567,2,    194.4,2,  2.2582,    178.5,2,    71.27,2,    33.94,2,     0.00,2,     2.35,2, -999.000,9, -999.000,9, -999.000,5,-999.0000,5,  -999.00,9,   -999.0,9,  -999.00,9,-999.000,9,   2249.1,2,   2330.2,2,  -999.0, -999.00,-999.0000,-999.000,-999.000
     316N145_5,  I08S,    52,  1,     24, SIH037,2,19941219,2138,-51.8195,  88.7805, 4235, 5122.4,    509.9,   2.3662,  34.5879,2,  34.5871,2,    188.1,2,  2.3361,    177.0,2,    71.95,2,    33.48,2,     0.00,2,     2.32,2, -999.000,9, -999.000,9, -999.000,5,-999.0000,5,  -999.00,9,   -999.0,9,  -999.00,9,-999.000,9,   2248.4,2,   2331.4,2,  -999.0, -999.00,-999.0000,-999.000,-999.000
     316N145_5,  I08S,    52,  1,     23, SIH033,2,19941219,2138,-51.8195,  88.7805, 4235, 6065.6,    604.8,   2.2647,  34.6225,2,  34.6229,2,    185.2,2,  2.2289,    176.7,2,    74.83,2,    33.22,2,     0.00,2,     2.30,2, -999.000,9, -999.000,9, -999.000,5,-999.0000,5,  -999.00,9,   -999.0,9,  -999.00,9,-999.000,9,   -999.0,9,   2333.0,2,  -999.0, -999.00,-999.0000,-999.000,-999.000
     316N145_5,  I08S,    52,  1,     22, SIH031,2,19941219,2138,-51.8195,  88.7805, 4235, 6954.6,    694.2,   2.2270,  34.6596,2,  34.6608,2,    187.3,2,  2.1856,    178.8,2,    77.21,2,    32.67,2,     0.00,2,     2.26,2, -999.000,9, -999.000,9, -999.000,5,-999.0000,5,  -999.00,9,   -999.0,9,  -999.00,9,-999.000,9,   2249.8,2,   2354.8,3,  -999.0, -999.00,-999.0000,-999.000,-999.000
     316N145_5,  I08S,    52,  1,     21, SIH030,2,19941219,2138,-51.8195,  88.7805, 4235, 8027.7,    802.1,   2.1605,  34.6933,2,  34.6930,2,    196.7,2,  2.1123,    182.2,2,    79.07,2,    31.89,2,     0.00,2,     2.21,2, -999.000,9, -999.000,9, -999.000,5,-999.0000,5,  -999.00,9,   -999.0,9,  -999.00,9,-999.000,9,   2249.2,2,   -999.0,9,  -999.0, -999.00,-999.0000,-999.000,-999.000
     316N145_5,  I08S,    52,  1,     20, SIH028,2,19941219,2138,-51.8195,  88.7805, 4235, 9046.1,    904.5,   2.1462,  34.7072,2,  34.7091,2,    197.6,2,  2.0913,    184.6,2,    79.26,2,    31.49,2,     0.00,2,     2.18,2,    0.159,2,    0.072,2, -999.000,5,-999.0000,5,  -999.00,9,   -999.0,9,  -999.00,9,-999.000,9,   2247.8,2,   2338.2,2,  -999.0, -999.00,-999.0000,-999.000,-999.000
     316N145_5,  I08S,    52,  1,     19, SIH027,2,19941219,2138,-51.8195,  88.7805, 4235, 9978.5,    998.3,   2.1176,  34.7278,2,  34.7286,2,    199.5,2,  2.0564,    189.1,2,    79.78,2,    30.83,2,     0.00,2,     2.13,2, -999.000,9, -999.000,9, -999.000,5,-999.0000,5,  -999.00,9,   -999.0,9,  -999.00,9,-999.000,9,   2246.4,2,   2353.3,3,  -999.0, -999.00,-999.0000,-999.000,-999.000
     316N145_5,  I08S,    52,  1,     18, SIH003,2,19941219,2138,-51.8195,  88.7805, 4235,11050.3,   1106.1,   2.0481,  34.7418,2,  34.7465,2,    204.3,2,  1.9798,    193.7,2,    80.98,2,    30.37,2,     0.00,2,     2.10,2, -999.000,9, -999.000,9, -999.000,5,-999.0000,5,  -999.00,9,   -999.0,9,  -999.00,9,-999.000,9,   2242.9,6,   2343.6,2,  -999.0, -999.00,-999.0000,-999.000,-999.000
     316N145_5,  I08S,    52,  1,     17, SIH024,2,19941219,2138,-51.8195,  88.7805, 4235,12055.0,   1207.2,   1.9764,  34.7472,2,  34.7482,2,    205.6,2,  1.9016,    194.7,2,    83.02,2,    30.16,2,     0.00,2,     2.09,2,    0.080,2,    0.034,2, -999.000,5,-999.0000,5,  -999.00,9,   -999.0,9,  -999.00,9,-999.000,9,   2242.9,2,   2350.6,2,  -999.0, -999.00,-999.0000,-999.000,-999.000
     316N145_5,  I08S,    52,  1,     16, SIH022,2,19941219,2138,-51.8195,  88.7805, 4235,14111.8,   1414.1,   1.8454,  34.7518,2,  34.7528,2,    206.9,2,  1.7568,    197.8,2,    86.90,2,    30.16,2,     0.00,2,     2.09,2, -999.000,9, -999.000,9, -999.000,5,-999.0000,5,  -999.00,9,   -999.0,9,  -999.00,9,-999.000,9,   2245.6,2,   -999.0,9,  -999.0, -999.00,-999.0000,-999.000,-999.000
     316N145_5,  I08S,    52,  1,     15, SIH021,2,19941219,2138,-51.8195,  88.7805, 4235,16171.7,   1621.3,   1.6753,  34.7496,2,  34.7490,2,    207.7,2,  1.5732,    199.8,2,    91.96,2,    30.27,2,     0.00,2,     2.10,2, -999.000,9, -999.000,9, -999.000,5,-999.0000,5,  -999.00,9,   -999.0,9,  -999.00,9,-999.000,9,   2248.0,2,   2353.8,2,  -999.0, -999.00,-999.0000,-999.000,-999.000
     316N145_5,  I08S,    52,  1,     14, SIH002,2,19941219,2138,-51.8195,  88.7805, 4235,18209.3,   1826.2,   1.5505,  34.7463,2,  34.7469,2,    209.2,2,  1.4344,    201.3,2,    95.51,2,    30.47,2,     0.00,2,     2.11,2,    0.058,2,    0.025,2, -999.000,5,-999.0000,5,  -999.00,9,   -999.0,9,  -999.00,9,-999.000,9,   2247.8,2,   2369.6,3,  -999.0, -999.00,-999.0000,-999.000,-999.000
     316N145_5,  I08S,    52,  1,     13, SIH018,2,19941219,2138,-51.8195,  88.7805, 4235,20192.1,   2025.7,   1.3487,  34.7369,2,  34.7374,2,    210.2,2,  1.2198,    203.1,2,   101.58,2,    30.84,2,     0.00,2,     2.14,2, -999.000,9, -999.000,9, -999.000,5,-999.0000,5,  -999.00,9,   -999.0,9,  -999.00,9,-999.000,9,   2252.3,2,   -999.0,9,  -999.0, -999.00,-999.0000,-999.000,-999.000
     316N145_5,  I08S,    52,  1,     12, SIH016,2,19941219,2138,-51.8195,  88.7805, 4235,22213.9,   2229.0,   1.2048,  34.7293,2,  34.7304,2,    209.8,2,  1.0618,    204.6,2,   105.79,2,    31.04,2,     0.00,2,     2.16,2, -999.000,9, -999.000,9, -999.000,5,-999.0000,5,  -999.00,9,   -999.0,9,  -999.00,9,-999.000,9,   2251.0,2,   2355.8,2,  -999.0, -999.00,-999.0000,-999.000,-999.000
     316N145_5,  I08S,    52,  1,     11, SIH015,2,19941219,2138,-51.8195,  88.7805, 4235,24240.8,   2432.9,   1.0162,  34.7196,2,  34.7193,2,    212.2,2,  0.8597,    206.8,2,   111.35,2,    31.45,2,     0.00,2,     2.19,2,    0.097,2,    0.044,2, -999.000,5,-999.0000,5,  -999.00,9,   -999.0,9,  -999.00,9,-999.000,9,   2253.5,2,   2369.1,3,  -999.0, -999.00,-999.0000,-999.000,-999.000
     316N145_5,  I08S,    52,  1,     10, SIH013,2,19941219,2138,-51.8195,  88.7805, 4235,27322.6,   2742.9,   0.7785,  34.7065,2,  34.7072,2,    215.2,2,  0.6003,    209.6,2,   117.76,2,    31.86,2,     0.00,2,     2.22,2,    0.124,2,    0.063,2, -999.000,5,-999.0000,5,  -999.00,9,   -999.0,9,  -999.00,9,-999.000,9,   2255.7,2,   2348.8,3,  -999.0, -999.00,-999.0000,-999.000,-999.000
     316N145_5,  I08S,    52,  1,      9, SIH012,2,19941219,2138,-51.8195,  88.7805, 4235,29347.2,   2946.6,   0.5839,  34.6971,2,  34.6977,2,    218.9,2,  0.3921,    212.0,2,   121.97,2,    32.12,2,     0.00,2,     2.24,2,    0.182,2,    0.086,2, -999.000,5,-999.0000,5,  -999.00,9,   -999.0,9,  -999.00,9,-999.000,9,   2256.7,2,   2356.0,2,  -999.0, -999.00,-999.0000,-999.000,-999.000
     316N145_5,  I08S,    52,  1,      8, SIH010,2,19941219,2138,-51.8195,  88.7805, 4235,31382.9,   3151.3,   0.3768,  34.6895,2,  34.6908,2,    225.5,2,  0.1714,    216.9,2,   125.34,2,    32.23,2,     0.00,2,     2.25,2,    0.315,2,    0.153,2, -999.000,5,-999.0000,5,  -999.00,9,   -999.0,9,  -999.00,9,-999.000,9,   2256.7,2,   2366.9,3,  -999.0, -999.00,-999.0000,-999.000,-999.000
     316N145_5,  I08S,    52,  1,      7, SIH009,2,19941219,2138,-51.8195,  88.7805, 4235,33407.7,   3355.0,   0.2856,  34.6852,2,  34.6842,2,    229.3,2,  0.0638,    221.2,2,   127.03,2,    32.28,2,     0.00,2,     2.25,2,    0.384,2,    0.189,2, -999.000,5,-999.0000,5,  -999.00,9,   -999.0,9,  -999.00,9,-999.000,9,   2257.6,2,   -999.0,9,  -999.0, -999.00,-999.0000,-999.000,-999.000
     316N145_5,  I08S,    52,  1,      6, SIH038,2,19941219,2138,-51.8195,  88.7805, 4235,35531.5,   3568.6,   0.1859,  34.6809,2,  34.6838,2,    233.3,2, -0.0534,    224.5,2,   127.90,2,    32.33,2,     0.00,2,     2.25,2,    0.482,2,    0.223,2, -999.000,5,-999.0000,5,  -999.00,9,   -999.0,9,  -999.00,9,-999.000,9,   2255.6,2,   2353.2,2,  -999.0, -999.00,-999.0000,-999.000,-999.000
     316N145_5,  I08S,    52,  1,      5, SIH006,2,19941219,2138,-51.8195,  88.7805, 4235,37503.6,   3767.0,   0.1626,  34.6797,2,  34.6804,2,    235.3,2, -0.0952,    225.6,2,   128.07,2,    32.28,2,     0.00,2,     2.25,2,    0.523,2,    0.260,2, -999.000,5,-999.0000,5,  -999.00,9,   -999.0,9,  -999.00,9,-999.000,9,   2255.6,2,   2364.1,3,  -999.0, -999.00,-999.0000,-999.000,-999.000
     316N145_5,  I08S,    52,  1,      4, SIH004,2,19941219,2138,-51.8195,  88.7805, 4235,39579.3,   3975.8,   0.1251,  34.6777,2,  34.6787,2,    237.7,2, -0.1523,    227.2,2,   128.59,2,    32.33,2,     0.00,2,     2.25,2,    0.598,2,    0.267,2, -999.000,5,-999.0000,5,  -999.00,9,   -999.0,9,  -999.00,9,-999.000,9,   2255.2,2,   2353.2,2,  -999.0, -999.00,-999.0000,-999.000,-999.000
     316N145_5,  I08S,    52,  1,      3, SIH025,2,19941219,2138,-51.8195,  88.7805, 4235,41317.3,   4150.6,   0.0967,  34.6760,2,  34.6763,2,    240.8,2, -0.1976,    228.4,2,   128.43,2,    32.34,2,     0.00,2,     2.25,2,    0.625,2,    0.318,2, -999.000,5,-999.0000,5,  -999.00,9,   -999.0,9,  -999.00,9,-999.000,9,   2255.5,2,   2345.7,3,  -999.0, -999.00,-999.0000,-999.000,-999.000
     316N145_5,  I08S,    52,  1,      2, SIH001,2,19941219,2138,-51.8195,  88.7805, 4235,41978.5,   4217.1,   0.0927,  34.6766,2,  34.6765,2,    240.8,2, -0.2083,    228.8,2,   128.29,2,    32.28,2,     0.00,2,     2.25,2,    0.645,2,    0.327,2, -999.000,5,-999.0000,5,  -999.00,9,   -999.0,9,  -999.00,9,-999.000,9,   2255.6,2,   2357.6,2,  -999.0, -999.00,-999.0000,-999.000,-999.000
     316N145_5,  I08S,    52,  1,      1, SIH036,2,19941219,2138,-51.8195,  88.7805, 4235,42698.0,   4289.5,   0.0723,  34.6752,2,  34.6767,2,    239.8,2, -0.2356,    229.8,2,   128.27,2,    32.32,2,     0.00,2,     2.25,2,    0.583,2,    0.291,2, -999.000,5,-999.0000,5,  -999.00,9,   -999.0,9,  -999.00,9,-999.000,9,   2254.5,2,   2363.5,2,  -999.0, -999.00,-999.0000,-999.000,-999.000