BOTTLE,20090521WHPSIOdm
EXPOCODE,SECT_ID,STNNBR,CASTNO,SAMPNO,BTLNBR,BTLNBR_FLAG_W,DATE,TIME,LATITUDE,LONGITUDE,DEPTH,CTDRAW,CTDPRS,CTDTMP,CTDSAL,CTDSAL_FLAG_W,SALNTY,SALNTY_FLAG_W,CTDOXY,CTDOXY_FLAG_W,THETA,OXYGEN,OXYGEN_FLAG_W,SILCAT,SILCAT_FLAG_W,NITRAT,NITRAT_FLAG_W,NITRIT,NITRIT_FLAG_W,PHSPHT,PHSPHT_FLAG_W,CFC-11,CFC-11_FLAG_W,CFC-12,CFC-12_FLAG_W,TRITUM,TRITUM_FLAG_W,HELIUM,HELIUM_FLAG_W,DELHE3,DELHE3_FLAG_W,DELC14,DELC14_FLAG_W,DELC13,DELC13_FLAG_W,NEON,NEON_FLAG_W,TCARBN,TCARBN_FLAG_W,ALKALI,ALKALI_FLAG_W,C14ERR,DELHER,HELIER,NEONER,TRITER
,,,,,,,,,,,,,DBAR,IPTS-68,PSS-78,,PSS-78,,UMOL/KG,,IPTS-68,UMOL/KG,,UMOL/KG,,UMOL/KG,,UMOL/KG,,UMOL/KG,,PMOL/KG,,PMOL/KG,,TU,,NMOL/KG,,PERCNT,,/MILLE,,/MILLE,,NMOL/KG,,UMOL/KG,,UMOL/KG,,/MILLE,PERCNT,NMOL/KG,NMOL/KG,TU
     316N145_5,  I08S,    71,  1,     22, SIH031,2,19941225,1319,-58.9972,  82.0000, 1310,  158.9,     10.8,   0.4594,  34.0376,2,  34.0409,2,    339.7,2,  0.4590,    345.2,2,    53.66,2,    29.03,2,     0.34,2,     2.00,2, -999.000,9, -999.000,9, -999.000,5,-999.0000,5,  -999.00,9,   -999.0,9,  -999.00,9,-999.000,9,   -999.0,9,   -999.0,9,  -999.0, -999.00,-999.0000,-999.000,-999.000
     316N145_5,  I08S,    71,  1,     21, SIH030,2,19941225,1319,-58.9972,  82.0000, 1310,  359.3,     31.0,   0.3837,  34.0385,2,  34.0403,2,    344.6,2,  0.3825,    346.0,2,    53.47,2,    29.08,2,     0.33,2,     2.00,2, -999.000,9, -999.000,9, -999.000,5,-999.0000,5,  -999.00,9,   -999.0,9,  -999.00,9,-999.000,9,   -999.0,9,   -999.0,9,  -999.0, -999.00,-999.0000,-999.000,-999.000
     316N145_5,  I08S,    71,  1,     20, SIH028,2,19941225,1319,-58.9972,  82.0000, 1310,  602.7,     55.4,  -0.6086,  34.0471,2,  34.0503,2,    361.3,2, -0.6102,    350.8,2,    53.13,2,    29.23,2,     0.29,2,     1.99,2, -999.000,9, -999.000,9, -999.000,5,-999.0000,5,  -999.00,9,   -999.0,9,  -999.00,9,-999.000,9,   -999.0,9,   -999.0,9,  -999.0, -999.00,-999.0000,-999.000,-999.000
     316N145_5,  I08S,    71,  1,     19, SIH027,2,19941225,1319,-58.9972,  82.0000, 1310,  861.7,     81.5,  -0.7900,  34.1824,2,  34.1764,2,    318.3,2, -0.7923,    306.1,2,    60.07,2,    30.72,2,     0.23,2,     2.14,2, -999.000,9, -999.000,9, -999.000,5,-999.0000,5,  -999.00,9,   -999.0,9,  -999.00,9,-999.000,9,   -999.0,9,   -999.0,9,  -999.0, -999.00,-999.0000,-999.000,-999.000
     316N145_5,  I08S,    71,  1,     18, SIH003,2,19941225,1319,-58.9972,  82.0000, 1310, 1112.1,    106.7,   1.0460,  34.5126,2,  34.5182,2,    200.8,2,  1.0412,    200.5,2,    78.58,2,    33.54,2,     0.17,2,     2.33,2, -999.000,9, -999.000,9, -999.000,5,-999.0000,5,  -999.00,9,   -999.0,9,  -999.00,9,-999.000,9,   -999.0,9,   -999.0,9,  -999.0, -999.00,-999.0000,-999.000,-999.000
     316N145_5,  I08S,    71,  1,     17, SIH024,2,19941225,1319,-58.9972,  82.0000, 1310, 1610.6,    156.8,   1.7415,  34.6462,2,  34.6468,2,    173.0,2,  1.7335,    174.5,2,    85.84,2,    33.89,2,     0.02,2,     2.34,2, -999.000,9, -999.000,9, -999.000,5,-999.0000,5,  -999.00,9,   -999.0,9,  -999.00,9,-999.000,9,   -999.0,9,   -999.0,9,  -999.0, -999.00,-999.0000,-999.000,-999.000
     316N145_5,  I08S,    71,  1,     16, SIH022,2,19941225,1319,-58.9972,  82.0000, 1310, 2105.7,    206.6,   1.8469,  34.6799,2,  34.6427,4,    172.2,2,  1.8361,    174.4,2,    85.66,2,    33.83,2,     0.02,2,     2.34,2, -999.000,9, -999.000,9, -999.000,5,-999.0000,5,  -999.00,9,   -999.0,9,  -999.00,9,-999.000,9,   -999.0,9,   -999.0,9,  -999.0, -999.00,-999.0000,-999.000,-999.000
     316N145_5,  I08S,    71,  1,     15, SIH021,2,19941225,1319,-58.9972,  82.0000, 1310, 2612.8,    257.6,   1.8237,  34.6948,2,  34.6965,2,    178.9,2,  1.8101,    179.5,2,    86.80,2,    32.50,2,     0.01,2,     2.24,2, -999.000,9, -999.000,9, -999.000,5,-999.0000,5,  -999.00,9,   -999.0,9,  -999.00,9,-999.000,9,   -999.0,9,   -999.0,9,  -999.0, -999.00,-999.0000,-999.000,-999.000
     316N145_5,  I08S,    71,  1,     14, SIH002,2,19941225,1319,-58.9972,  82.0000, 1310, 3097.7,    306.4,   1.8180,  34.7051,2,  34.7044,2,    183.6,2,  1.8017,    181.9,2,    86.95,2,    32.19,2,     0.00,2,     2.22,2, -999.000,9, -999.000,9, -999.000,5,-999.0000,5,  -999.00,9,   -999.0,9,  -999.00,9,-999.000,9,   -999.0,9,   -999.0,9,  -999.0, -999.00,-999.0000,-999.000,-999.000
     316N145_5,  I08S,    71,  1,     13, SIH018,2,19941225,1319,-58.9972,  82.0000, 1310, 3608.7,    357.8,   1.8232,  34.7153,2,  34.7178,2,    182.9,2,  1.8040,    183.4,2,    87.76,2,    31.86,2,     0.00,2,     2.20,2, -999.000,9, -999.000,9, -999.000,5,-999.0000,5,  -999.00,9,   -999.0,9,  -999.00,9,-999.000,9,   -999.0,9,   -999.0,9,  -999.0, -999.00,-999.0000,-999.000,-999.000
     316N145_5,  I08S,    71,  1,     12, SIH016,2,19941225,1319,-58.9972,  82.0000, 1310, 4112.8,    408.5,   1.8009,  34.7272,2,  34.7286,2,    182.4,2,  1.7789,    185.4,2,    88.40,2,    31.65,2,     0.00,2,     2.18,2, -999.000,9, -999.000,9, -999.000,5,-999.0000,5,  -999.00,9,   -999.0,9,  -999.00,9,-999.000,9,   -999.0,9,   -999.0,9,  -999.0, -999.00,-999.0000,-999.000,-999.000
     316N145_5,  I08S,    71,  1,     11, SIH015,2,19941225,1319,-58.9972,  82.0000, 1310, 4614.3,    459.0,   1.7742,  34.7338,2,  34.7355,2,    185.2,2,  1.7493,    188.5,2,    88.72,2,    31.17,2,     0.00,2,     2.15,2, -999.000,9, -999.000,9, -999.000,5,-999.0000,5,  -999.00,9,   -999.0,9,  -999.00,9,-999.000,9,   -999.0,9,   -999.0,9,  -999.0, -999.00,-999.0000,-999.000,-999.000
     316N145_5,  I08S,    71,  1,     10, SIH013,2,19941225,1319,-58.9972,  82.0000, 1310, 5104.0,    508.2,   1.7443,  34.7382,2,  34.7392,2,    186.6,2,  1.7167,    189.1,2,    89.36,2,    31.11,2,     0.00,2,     2.14,2, -999.000,9, -999.000,9, -999.000,5,-999.0000,5,  -999.00,9,   -999.0,9,  -999.00,9,-999.000,9,   -999.0,9,   -999.0,9,  -999.0, -999.00,-999.0000,-999.000,-999.000
     316N145_5,  I08S,    71,  1,      9, SIH012,2,19941225,1319,-58.9972,  82.0000, 1310, 6100.1,    608.4,   1.6533,  34.7433,2,  34.7465,2,    192.9,2,  1.6202,    193.1,2,    91.17,2,    30.89,2,     0.00,2,     2.13,2, -999.000,9, -999.000,9, -999.000,5,-999.0000,5,  -999.00,9,   -999.0,9,  -999.00,9,-999.000,9,   -999.0,9,   -999.0,9,  -999.0, -999.00,-999.0000,-999.000,-999.000
     316N145_5,  I08S,    71,  1,      8, SIH010,2,19941225,1319,-58.9972,  82.0000, 1310, 7089.2,    707.9,   1.5679,  34.7457,2,  34.7457,2,    196.4,2,  1.5292,    196.4,2,    92.97,2,    30.67,2,     0.00,2,     2.11,2, -999.000,9, -999.000,9, -999.000,5,-999.0000,5,  -999.00,9,   -999.0,9,  -999.00,9,-999.000,9,   -999.0,9,   -999.0,9,  -999.0, -999.00,-999.0000,-999.000,-999.000
     316N145_5,  I08S,    71,  1,      7, SIH009,2,19941225,1319,-58.9972,  82.0000, 1310, 8097.4,    809.3,   1.4728,  34.7439,2,  34.7449,2,    198.0,2,  1.4285,    197.8,2,    95.27,2,    30.83,2,     0.00,2,     2.12,2, -999.000,9, -999.000,9, -999.000,5,-999.0000,5,  -999.00,9,   -999.0,9,  -999.00,9,-999.000,9,   -999.0,9,   -999.0,9,  -999.0, -999.00,-999.0000,-999.000,-999.000
     316N145_5,  I08S,    71,  1,      6, SIH038,2,19941225,1319,-58.9972,  82.0000, 1310, 9100.2,    910.2,   1.3735,  34.7406,2,  34.7429,2,    197.5,2,  1.3237,    199.8,2,    98.24,2,    30.88,2,     0.00,2,     2.12,2, -999.000,9, -999.000,9, -999.000,5,-999.0000,5,  -999.00,9,   -999.0,9,  -999.00,9,-999.000,9,   -999.0,9,   -999.0,9,  -999.0, -999.00,-999.0000,-999.000,-999.000
     316N145_5,  I08S,    71,  1,      5, SIH006,2,19941225,1319,-58.9972,  82.0000, 1310,10098.8,   1010.6,   1.2704,  34.7363,2,  34.7378,2,    198.7,2,  1.2151,    200.8,2,   101.56,2,    30.92,2,     0.00,2,     2.13,2, -999.000,9, -999.000,9, -999.000,5,-999.0000,5,  -999.00,9,   -999.0,9,  -999.00,9,-999.000,9,   -999.0,9,   -999.0,9,  -999.0, -999.00,-999.0000,-999.000,-999.000
     316N145_5,  I08S,    71,  1,      4, SIH004,2,19941225,1319,-58.9972,  82.0000, 1310,11094.1,   1110.8,   1.1629,  34.7321,2,  34.7323,2,    198.9,2,  1.1021,    200.7,2,   105.93,2,    31.19,2,     0.00,2,     2.15,2, -999.000,9, -999.000,9, -999.000,5,-999.0000,5,  -999.00,9,   -999.0,9,  -999.00,9,-999.000,9,   -999.0,9,   -999.0,9,  -999.0, -999.00,-999.0000,-999.000,-999.000
     316N145_5,  I08S,    71,  1,      3, SIH025,2,19941225,1319,-58.9972,  82.0000, 1310,12363.9,   1238.5,   1.0236,  34.7242,2,  34.7258,2,    196.2,2,  0.9559,    195.2,2,   131.32,2,    32.20,2,     0.00,2,     2.22,2, -999.000,9, -999.000,9, -999.000,5,-999.0000,5,  -999.00,9,   -999.0,9,  -999.00,9,-999.000,9,   -999.0,9,   -999.0,9,  -999.0, -999.00,-999.0000,-999.000,-999.000
     316N145_5,  I08S,    71,  1,      2, SIH001,2,19941225,1319,-58.9972,  82.0000, 1310,12368.2,   1238.9,   1.0233,  34.7242,2,  34.7250,2,    196.0,2,  0.9556,    195.3,2,   131.30,2,    32.14,2,     0.00,2,     2.23,2, -999.000,9, -999.000,9, -999.000,5,-999.0000,5,  -999.00,9,   -999.0,9,  -999.00,9,-999.000,9,   -999.0,9,   -999.0,9,  -999.0, -999.00,-999.0000,-999.000,-999.000
     316N145_5,  I08S,    71,  1,      1, SIH036,2,19941225,1319,-58.9972,  82.0000, 1310,12869.3,   1289.3,   0.9690,  34.7212,2,  34.7237,2,    200.4,2,  0.8986,    198.6,2,   127.14,2,    32.01,2,     0.01,2,     2.21,2, -999.000,9, -999.000,9, -999.000,5,-999.0000,5,  -999.00,9,   -999.0,9,  -999.00,9,-999.000,9,   -999.0,9,   -999.0,9,  -999.0, -999.00,-999.0000,-999.000,-999.000