BOTTLE,20090521WHPSIOdm
EXPOCODE,SECT_ID,STNNBR,CASTNO,SAMPNO,BTLNBR,BTLNBR_FLAG_W,DATE,TIME,LATITUDE,LONGITUDE,DEPTH,CTDRAW,CTDPRS,CTDTMP,CTDSAL,CTDSAL_FLAG_W,SALNTY,SALNTY_FLAG_W,CTDOXY,CTDOXY_FLAG_W,THETA,OXYGEN,OXYGEN_FLAG_W,SILCAT,SILCAT_FLAG_W,NITRAT,NITRAT_FLAG_W,NITRIT,NITRIT_FLAG_W,PHSPHT,PHSPHT_FLAG_W,CFC-11,CFC-11_FLAG_W,CFC-12,CFC-12_FLAG_W,TRITUM,TRITUM_FLAG_W,HELIUM,HELIUM_FLAG_W,DELHE3,DELHE3_FLAG_W,DELC14,DELC14_FLAG_W,DELC13,DELC13_FLAG_W,NEON,NEON_FLAG_W,TCARBN,TCARBN_FLAG_W,ALKALI,ALKALI_FLAG_W,C14ERR,DELHER,HELIER,NEONER,TRITER
,,,,,,,,,,,,,DBAR,IPTS-68,PSS-78,,PSS-78,,UMOL/KG,,IPTS-68,UMOL/KG,,UMOL/KG,,UMOL/KG,,UMOL/KG,,UMOL/KG,,PMOL/KG,,PMOL/KG,,TU,,NMOL/KG,,PERCNT,,/MILLE,,/MILLE,,NMOL/KG,,UMOL/KG,,UMOL/KG,,/MILLE,PERCNT,NMOL/KG,NMOL/KG,TU
     316N145_5,  I09S,   145,  1,     29, SIH014,9,19950118,0102,-35.2000, 114.9945, 1490,  156.6,     10.5,  19.9293,  35.7500,3,-999.0000,9,    252.6,3, 19.9274,   -999.0,9,  -999.00,9,  -999.00,9,  -999.00,9,  -999.00,9, -999.000,9, -999.000,9, -999.000,5,-999.0000,5,  -999.00,9,   -999.0,9,  -999.00,9,-999.000,9,   -999.0,9,   -999.0,9,  -999.0, -999.00,-999.0000,-999.000,-999.000
     316N145_5,  I09S,   145,  1,     28, SIH011,2,19950118,0102,-35.2000, 114.9945, 1490,  366.9,     31.7,  19.6599,  35.7521,2,  35.7519,2,    251.3,2, 19.6541,    231.5,2,     1.13,2,     0.09,2,     0.00,2,     0.09,2,    2.468,2,    1.330,2,    1.276,2,   1.7060,2,    -1.42,2,   -999.0,9,  -999.00,9,   6.955,2,   2042.5,2,   -999.0,9,  -999.0,   60.12,  0.0030,   0.055,   0.017
     316N145_5,  I09S,   145,  1,     26, SIH005,2,19950118,0102,-35.2000, 114.9945, 1490,  594.7,     54.6,  17.4691,  35.4171,2,  35.4127,2,    275.0,2, 17.4600,    251.1,2,     0.33,2,     0.10,2,     0.00,2,     0.15,2,    2.757,2,    1.491,2,   -0.013,4,   1.7450,2,    -1.28,2,   -999.0,9,  -999.00,9,   7.126,2,   -999.0,9,   -999.0,9,  -999.0,   90.12,  0.0040,   0.030,   0.005
     316N145_5,  I09S,   145,  1,     27, SIH008,2,19950118,0102,-35.2000, 114.9945, 1490,  599.8,     55.1,  17.4348,  35.4148,2,  35.4133,2,    274.6,2, 17.4256,    251.0,2,     0.33,2,     0.09,2,     0.00,2,     0.15,2,    2.765,2,    1.527,2, -999.000,5,-999.0000,5,  -999.00,9,   -999.0,9,  -999.00,9,-999.000,9,   2046.5,6,   -999.0,9,  -999.0, -999.00,-999.0000,-999.000,-999.000
     316N145_5,  I09S,   145,  1,     25, SIH019,2,19950118,0102,-35.2000, 114.9945, 1490,  846.3,     79.8,  15.2002,  35.3351,2,  35.3435,2,    277.1,2, 15.1880,    257.9,2,     0.64,2,     0.62,2,     0.10,2,     0.24,2, -999.000,9, -999.000,9, -999.000,5,-999.0000,5,  -999.00,9,   -999.0,9,  -999.00,9,-999.000,9,   2059.4,2,   -999.0,9,  -999.0, -999.00,-999.0000,-999.000,-999.000
     316N145_5,  I09S,   145,  1,     24, SIH037,2,19950118,0102,-35.2000, 114.9945, 1490, 1088.0,    104.1,  13.5908,  35.2313,2,  35.2347,2,    269.4,2, 13.5761,    252.0,2,     1.11,2,     2.83,2,     0.25,2,     0.39,2,    3.219,2,    1.712,2, -999.000,5,-999.0000,5,  -999.00,9,   -999.0,9,  -999.00,9,-999.000,9,   -999.0,9,   -999.0,9,  -999.0, -999.00,-999.0000,-999.000,-999.000
     316N145_5,  I09S,   145,  1,     23, SIH033,2,19950118,0102,-35.2000, 114.9945, 1490, 1090.0,    104.3,  13.5941,  35.2280,2,  35.2331,2,    266.8,2, 13.5793,    251.9,2,     1.11,2,     2.89,2,     0.24,2,     0.40,2,    3.204,2,    1.688,2,    0.963,2,   1.7460,2,    -1.55,2,   -999.0,9,  -999.00,9,   7.328,2,   2077.1,6,   -999.0,9,  -999.0,   60.12,  0.0080,   0.059,   0.013
     316N145_5,  I09S,   145,  1,     22, SIH031,2,19950118,0102,-35.2000, 114.9945, 1490, 1601.7,    155.8,  11.6663,  34.9508,2,  34.9518,2,    263.6,2, 11.6464,    251.9,2,     1.43,2,     6.95,2,     0.01,2,     0.63,2, -999.000,9, -999.000,9, -999.000,5,-999.0000,5,  -999.00,9,   -999.0,9,  -999.00,9,-999.000,9,   2087.7,2,   -999.0,9,  -999.0, -999.00,-999.0000,-999.000,-999.000
     316N145_5,  I09S,   145,  1,     20, SIH028,2,19950118,0102,-35.2000, 114.9945, 1490, 2085.0,    204.4,  11.1556,  34.9538,2,  34.9551,2,    246.1,2, 11.1302,    236.8,2,     2.21,2,     9.86,2,     0.01,2,     0.79,2, -999.000,9, -999.000,9, -999.000,5,-999.0000,5,  -999.00,9,   -999.0,9,  -999.00,9,-999.000,9,   2102.9,2,   -999.0,9,  -999.0, -999.00,-999.0000,-999.000,-999.000
     316N145_5,  I09S,   145,  1,     21, SIH030,2,19950118,0102,-35.2000, 114.9945, 1490, 2101.3,    206.0,  11.1452,  34.9536,2,  34.9551,2,    245.8,2, 11.1196,    237.1,2,     2.22,2,     9.82,2,     0.01,2,     0.79,2,    3.412,2,    1.766,2, -999.000,5,-999.0000,5,  -999.00,9,   -999.0,9,  -999.00,9,-999.000,9,   2102.7,2,   -999.0,9,  -999.0, -999.00,-999.0000,-999.000,-999.000
     316N145_5,  I09S,   145,  1,     19, SIH027,2,19950118,0102,-35.2000, 114.9945, 1490, 2577.9,    254.0,  10.3570,  34.8499,2,  34.8479,2,    244.5,2, 10.3269,    236.0,2,     3.00,2,    12.43,2,     0.01,2,     0.95,2, -999.000,9, -999.000,9, -999.000,5,-999.0000,5,  -999.00,9,   -999.0,9,  -999.00,9,-999.000,9,   2108.9,2,   2304.0,2,  -999.0, -999.00,-999.0000,-999.000,-999.000
     316N145_5,  I09S,   145,  1,     18, SIH003,2,19950118,0102,-35.2000, 114.9945, 1490, 3081.0,    304.5,   9.7779,  34.7559,2,  34.7573,2,    245.8,2,  9.7430,    238.8,2,     3.79,2,    14.04,2,     0.01,2,     1.05,2,    3.364,2,    1.700,2,    0.495,2,   1.7880,2,    -0.80,2,   -999.0,9,  -999.00,9,   7.531,2,   2112.8,2,   -999.0,9,  -999.0,    0.12,  0.0040,   0.032,   0.008
     316N145_5,  I09S,   145,  1,     17, SIH024,2,19950118,0102,-35.2000, 114.9945, 1490, 3565.7,    353.3,   9.4449,  34.7059,2,  34.7046,2,    248.8,2,  9.4051,    241.1,2,     4.11,2,    15.08,2,     0.01,2,     1.10,2, -999.000,9, -999.000,9, -999.000,5,-999.0000,5,  -999.00,9,   -999.0,9,  -999.00,9,-999.000,9,   2113.9,2,   -999.0,9,  -999.0, -999.00,-999.0000,-999.000,-999.000
     316N145_5,  I09S,   145,  1,     15, SIH021,2,19950118,0102,-35.2000, 114.9945, 1490, 4056.9,    402.7,   9.1984,  34.6701,2,  34.6716,2,    250.6,2,  9.1537,    239.0,2,     4.73,2,    16.10,2,     0.01,2,     1.17,2, -999.000,9, -999.000,9, -999.000,5,-999.0000,5,  -999.00,9,   -999.0,9,  -999.00,9,-999.000,9,   2117.3,2,   2296.3,2,  -999.0, -999.00,-999.0000,-999.000,-999.000
     316N145_5,  I09S,   145,  1,     16, SIH022,2,19950118,0102,-35.2000, 114.9945, 1490, 4092.9,    406.3,   9.1851,  34.6693,2,  34.6683,2,    242.0,2,  9.1400,    238.6,2,     4.74,2,    16.17,2,     0.00,2,     1.17,2,    3.222,2,    1.627,2, -999.000,5,-999.0000,5,  -999.00,9,   -999.0,9,  -999.00,9,-999.000,9,   2117.5,2,   2307.6,2,  -999.0, -999.00,-999.0000,-999.000,-999.000
     316N145_5,  I09S,   145,  1,     14, SIH002,2,19950118,0102,-35.2000, 114.9945, 1490, 4582.9,    455.6,   9.0313,  34.6486,2,  34.6504,2,    241.0,2,  8.9812,    236.2,2,     5.37,2,    16.99,2,     0.00,2,     1.22,2, -999.000,9, -999.000,9, -999.000,5,-999.0000,5,  -999.00,9,   -999.0,9,  -999.00,9,-999.000,9,   2119.7,2,   -999.0,9,  -999.0, -999.00,-999.0000,-999.000,-999.000
     316N145_5,  I09S,   145,  1,     13, SIH018,2,19950118,0102,-35.2000, 114.9945, 1490, 5103.5,    507.9,   8.6367,  34.5973,2,  34.5961,2,    233.4,2,  8.5822,    230.9,2,     6.64,2,    18.63,2,     0.00,2,     1.32,2, -999.000,9, -999.000,9, -999.000,5,-999.0000,5,  -999.00,9,   -999.0,9,  -999.00,9,-999.000,9,   2126.2,2,   -999.0,9,  -999.0, -999.00,-999.0000,-999.000,-999.000
     316N145_5,  I09S,   145,  1,     12, SIH016,2,19950118,0102,-35.2000, 114.9945, 1490, 6076.4,    605.8,   7.6878,  34.5089,2,  34.5084,2,    215.0,2,  7.6267,    212.6,2,    11.56,2,    22.41,2,     0.01,2,     1.56,2,    1.918,2,    0.941,2, -999.000,5,-999.0000,5,  -999.00,9,   -999.0,9,  -999.00,9,-999.000,9,   -999.0,9,   2291.1,2,  -999.0, -999.00,-999.0000,-999.000,-999.000
     316N145_5,  I09S,   145,  1,     11, SIH015,2,19950118,0102,-35.2000, 114.9945, 1490, 6087.8,    606.9,   7.6957,  34.5130,2,  34.5133,2,    220.0,2,  7.6345,    211.3,2,    11.88,2,    22.66,2,     0.01,2,     1.57,2,    1.871,2,    0.944,2,    0.207,2,   1.7940,2,     0.89,2,   -999.0,9,  -999.00,9,   7.696,2,   2145.3,6,   2296.4,2,  -999.0,    0.12,  0.0040,   0.060,   0.006
     316N145_5,  I09S,   145,  1,     10, SI9426,2,19950118,0102,-35.2000, 114.9945, 1490, 7107.3,    709.5,   6.6806,  34.4537,2,  34.4549,2,    203.9,2,  6.6139,    198.1,2,    18.56,2,    25.96,2,     0.00,2,     1.79,2, -999.000,9, -999.000,9, -999.000,5,-999.0000,5,  -999.00,9,   -999.0,9,  -999.00,9,-999.000,9,   2164.5,2,   2292.1,2,  -999.0, -999.00,-999.0000,-999.000,-999.000
     316N145_5,  I09S,   145,  1,      9, SIH012,2,19950118,0102,-35.2000, 114.9945, 1490, 8083.3,    807.6,   5.1983,  34.3942,2,  34.3943,2,    197.1,2,  5.1310,    195.1,2,    29.54,2,    29.29,2,     0.00,2,     2.01,2, -999.000,9, -999.000,9, -999.000,5,-999.0000,5,  -999.00,9,   -999.0,9,  -999.00,9,-999.000,9,   2185.9,2,   2299.9,2,  -999.0, -999.00,-999.0000,-999.000,-999.000
     316N145_5,  I09S,   145,  1,      8, SIH010,2,19950118,0102,-35.2000, 114.9945, 1490, 9069.5,    906.9,   4.2541,  34.3839,2,  34.3851,2,    193.7,2,  4.1845,    192.0,2,    39.57,2,    31.20,2,     0.00,2,     2.15,2, -999.000,9, -999.000,9, -999.000,5,-999.0000,5,  -999.00,9,   -999.0,9,  -999.00,9,-999.000,9,   2202.3,2,   2299.2,2,  -999.0, -999.00,-999.0000,-999.000,-999.000
     316N145_5,  I09S,   145,  1,      7, SIH009,2,19950118,0102,-35.2000, 114.9945, 1490,10075.0,   1008.0,   3.7934,  34.4048,2,  34.4051,2,    188.0,2,  3.7188,    184.9,2,    47.84,2,    32.34,2,     0.00,2,     2.24,2,    0.336,2,    0.188,2,    0.038,2,   1.8620,2,     6.05,2,   -999.0,9,  -999.00,9,   8.063,2,   2215.9,2,   2298.1,2,  -999.0,    0.12,  0.0040,   0.034,   0.005
     316N145_5,  I09S,   145,  1,      6, SIH038,3,19950118,0102,-35.2000, 114.9945, 1490,11103.2,   1111.4,   3.3735,  34.4434,2,  34.5887,4,    177.6,2,  3.2939,    185.6,4,    45.54,4,    27.81,4,     0.01,4,     1.95,4, -999.000,9, -999.000,9, -999.000,5,-999.0000,5,  -999.00,9,   -999.0,9,  -999.00,9,-999.000,9,   -999.0,9,   2328.1,3,  -999.0, -999.00,-999.0000,-999.000,-999.000
     316N145_5,  I09S,   145,  1,      5, SIH006,2,19950118,0102,-35.2000, 114.9945, 1490,12045.2,   1206.2,   3.1389,  34.4833,2,  34.4852,2,    172.7,2,  3.0538,    169.6,2,    63.90,2,    33.91,2,     0.00,2,     2.35,2, -999.000,9, -999.000,9, -999.000,5,-999.0000,5,  -999.00,9,   -999.0,9,  -999.00,9,-999.000,9,   2240.2,2,   2332.0,2,  -999.0, -999.00,-999.0000,-999.000,-999.000
     316N145_5,  I09S,   145,  1,      4, SIH004,2,19950118,0102,-35.2000, 114.9945, 1490,13078.9,   1310.2,   3.0548,  34.5151,2,  34.5166,2,    168.3,2,  2.9621,    165.0,2,    68.52,2,    34.06,2,     0.00,2,     2.37,2,    0.076,2,    0.060,2,    0.100,4,-999.0000,5,  -999.00,5,   -999.0,9,  -999.00,9,-999.000,5,   2247.6,2,   2342.5,2,  -999.0, -999.00,-999.0000,-999.000,   0.005
     316N145_5,  I09S,   145,  1,      3, SIH025,2,19950118,0102,-35.2000, 114.9945, 1490,13769.9,   1379.7,   2.9431,  34.5366,2,  34.5353,2,    167.1,2,  2.8459,    164.5,2,    71.06,2,    34.16,2,     0.00,2,     2.38,2, -999.000,9, -999.000,9, -999.000,5,-999.0000,5,  -999.00,9,   -999.0,9,  -999.00,9,-999.000,9,   2249.6,2,   2342.1,2,  -999.0, -999.00,-999.0000,-999.000,-999.000
     316N145_5,  I09S,   145,  1,      2, SIH001,2,19950118,0102,-35.2000, 114.9945, 1490,14290.8,   1432.2,   2.9045,  34.5541,2,  34.5553,2,    165.5,2,  2.8033,    162.5,2,    73.59,2,    34.22,2,     0.00,2,     2.38,2, -999.000,9, -999.000,9, -999.000,5,-999.0000,5,  -999.00,9,   -999.0,9,  -999.00,9,-999.000,9,   2253.6,2,   -999.0,9,  -999.0, -999.00,-999.0000,-999.000,-999.000
     316N145_5,  I09S,   145,  1,      1, SIH036,2,19950118,0102,-35.2000, 114.9945, 1490,14860.4,   1489.5,   2.8540,  34.5769,2,  34.5765,2,    163.0,2,  2.7487,    161.5,2,    76.09,2,    34.20,2,     0.00,2,     2.37,2,    0.033,2,    0.025,2,    0.038,2,   1.8420,2,     9.69,2,   -999.0,9,  -999.00,9,   7.926,2,   2256.5,2,   2345.3,2,  -999.0,    0.12,  0.0040,   0.033,   0.004
     316N145_5,  I09S,   146,  1,     11, SIH015,2,19950118,0345,-34.9638, 115.0028,  305,  132.5,      8.3,  20.8967,  35.9700,2,  35.9700,2,    245.8,2, 20.8951,    224.4,2,     1.90,2,     0.09,2,     0.00,2,     0.06,2, -999.000,9, -999.000,9, -999.000,5,-999.0000,5,  -999.00,9,   -999.0,9,  -999.00,9,-999.000,9,   -999.0,9,   -999.0,9,  -999.0, -999.00,-999.0000,-999.000,-999.000
     316N145_5,  I09S,   146,  1,     10, SI9426,2,19950118,0345,-34.9638, 115.0028,  305,  132.8,      8.4,  20.8973,  35.9699,2,  35.9700,2,    250.6,2, 20.8957,    224.5,2,     1.90,2,     0.10,2,     0.00,2,     0.06,2, -999.000,9, -999.000,9, -999.000,5,-999.0000,5,  -999.00,9,   -999.0,9,  -999.00,9,-999.000,9,   2033.3,2,   -999.0,9,  -999.0, -999.00,-999.0000,-999.000,-999.000
     316N145_5,  I09S,   146,  1,      9, SIH012,2,19950118,0345,-34.9638, 115.0028,  305,  323.3,     27.5,  20.7549,  35.9665,2,  35.9678,2,    252.4,2, 20.7497,    224.9,2,     1.90,2,     0.11,2,     0.00,2,     0.06,2, -999.000,9, -999.000,9, -999.000,5,-999.0000,5,  -999.00,9,   -999.0,9,  -999.00,9,-999.000,9,   2034.4,2,   -999.0,9,  -999.0, -999.00,-999.0000,-999.000,-999.000
     316N145_5,  I09S,   146,  1,      8, SIH010,2,19950118,0345,-34.9638, 115.0028,  305,  598.4,     55.2,  18.7770,  35.7261,2,  35.7343,2,    260.1,2, 18.7672,    238.5,2,     1.27,2,     0.07,2,     0.00,2,     0.10,2, -999.000,9, -999.000,9, -999.000,5,-999.0000,5,  -999.00,9,   -999.0,9,  -999.00,9,-999.000,9,   2043.3,2,   -999.0,9,  -999.0, -999.00,-999.0000,-999.000,-999.000
     316N145_5,  I09S,   146,  1,      7, SIH009,2,19950118,0345,-34.9638, 115.0028,  305,  836.3,     79.1,  16.7570,  35.5667,2,  35.6174,2,    263.5,2, 16.7440,    245.3,2,     1.43,2,     0.17,2,     0.01,2,     0.17,2, -999.000,9, -999.000,9, -999.000,5,-999.0000,5,  -999.00,9,   -999.0,9,  -999.00,9,-999.000,9,   2050.5,2,   -999.0,9,  -999.0, -999.00,-999.0000,-999.000,-999.000
     316N145_5,  I09S,   146,  1,      6, SIH038,2,19950118,0345,-34.9638, 115.0028,  305, 1064.9,    102.1,  15.2890,  35.4966,2,  35.4973,2,    260.7,2, 15.2733,    244.8,2,     1.27,2,     1.09,2,     0.20,2,     0.27,2, -999.000,9, -999.000,9, -999.000,5,-999.0000,5,  -999.00,9,   -999.0,9,  -999.00,9,-999.000,9,   2066.4,2,   -999.0,9,  -999.0, -999.00,-999.0000,-999.000,-999.000
     316N145_5,  I09S,   146,  1,      5, SIH006,2,19950118,0345,-34.9638, 115.0028,  305, 1566.3,    152.6,  12.5841,  35.1058,2,  35.1018,2,    258.0,2, 12.5636,    249.2,2,     1.43,2,     5.18,2,     0.12,2,     0.54,2, -999.000,9, -999.000,9, -999.000,5,-999.0000,5,  -999.00,9,   -999.0,9,  -999.00,9,-999.000,9,   2072.3,2,   -999.0,9,  -999.0, -999.00,-999.0000,-999.000,-999.000
     316N145_5,  I09S,   146,  1,      4, SIH004,2,19950118,0345,-34.9638, 115.0028,  305, 2082.8,    204.5,  11.8267,  35.0017,2,  35.0008,2,    251.9,2, 11.8003,    246.6,2,     1.75,2,     7.26,2,     0.02,2,     0.65,2, -999.000,9, -999.000,9, -999.000,5,-999.0000,5,  -999.00,9,   -999.0,9,  -999.00,9,-999.000,9,   2087.7,2,   -999.0,9,  -999.0, -999.00,-999.0000,-999.000,-999.000
     316N145_5,  I09S,   146,  1,      3, SIH025,2,19950118,0345,-34.9638, 115.0028,  305, 2569.7,    253.5,  11.4430,  34.9723,2,  34.9732,2,    244.5,2, 11.4108,    242.3,2,     2.06,2,     8.69,2,     0.02,2,     0.74,2, -999.000,9, -999.000,9, -999.000,5,-999.0000,5,  -999.00,9,   -999.0,9,  -999.00,9,-999.000,9,   2098.1,2,   -999.0,9,  -999.0, -999.00,-999.0000,-999.000,-999.000
     316N145_5,  I09S,   146,  1,      2, SIH001,2,19950118,0345,-34.9638, 115.0028,  305, 2850.7,    281.8,  10.8190,  34.9007,2,  34.8989,2,    242.3,2, 10.7846,    238.6,2,     2.85,2,    10.76,2,     0.02,2,     0.87,2, -999.000,9, -999.000,9, -999.000,5,-999.0000,5,  -999.00,9,   -999.0,9,  -999.00,9,-999.000,9,   2104.6,2,   -999.0,9,  -999.0, -999.00,-999.0000,-999.000,-999.000
     316N145_5,  I09S,   146,  1,      1, SIH036,2,19950118,0345,-34.9638, 115.0028,  305, 3020.2,    298.9,  10.4607,  34.8538,2,  34.8511,2,    236.5,2, 10.4249,    239.2,2,     3.10,2,    11.83,2,     0.02,2,     0.93,2, -999.000,9, -999.000,9, -999.000,5,-999.0000,5,  -999.00,9,   -999.0,9,  -999.00,9,-999.000,9,   2107.8,2,   -999.0,9,  -999.0, -999.00,-999.0000,-999.000,-999.000
     316N145_5,  I09S,   147,  1,      6, SIH038,2,19950118,0512,-34.8195, 114.9972,  145,  130.0,      8.6,  20.8742,  35.9705,2,  35.9718,2,    238.4,2, 20.8726,    225.0,2,     2.06,2,     0.09,2,     0.00,2,     0.06,2, -999.000,9, -999.000,9, -999.000,5,-999.0000,5,  -999.00,9,   -999.0,9,  -999.00,9,-999.000,9,   2032.6,2,   -999.0,9,  -999.0, -999.00,-999.0000,-999.000,-999.000
     316N145_5,  I09S,   147,  1,      5, SIH006,2,19950118,0512,-34.8195, 114.9972,  145,  320.4,     27.8,  20.7248,  35.9713,2,  35.9718,2,    245.8,2, 20.7195,    225.6,2,     1.90,2,     0.10,2,     0.00,2,     0.05,2, -999.000,9, -999.000,9, -999.000,5,-999.0000,5,  -999.00,9,   -999.0,9,  -999.00,9,-999.000,9,   2033.7,2,   -999.0,9,  -999.0, -999.00,-999.0000,-999.000,-999.000
     316N145_5,  I09S,   147,  1,      4, SIH004,2,19950118,0512,-34.8195, 114.9972,  145,  587.5,     54.6,  20.6426,  35.9744,2,  35.9742,2,    243.9,2, 20.6322,    225.8,2,     1.90,2,     0.11,2,     0.00,2,     0.06,2, -999.000,9, -999.000,9, -999.000,5,-999.0000,5,  -999.00,9,   -999.0,9,  -999.00,9,-999.000,9,   2033.0,2,   -999.0,9,  -999.0, -999.00,-999.0000,-999.000,-999.000
     316N145_5,  I09S,   147,  1,      3, SIH025,2,19950118,0512,-34.8195, 114.9972,  145,  819.2,     77.9,  19.4662,  35.8915,2,  35.8929,2,    243.7,2, 19.4520,    233.0,2,     1.58,2,     0.03,2,     0.00,2,     0.08,2, -999.000,9, -999.000,9, -999.000,5,-999.0000,5,  -999.00,9,   -999.0,9,  -999.00,9,-999.000,9,   2041.4,2,   -999.0,9,  -999.0, -999.00,-999.0000,-999.000,-999.000
     316N145_5,  I09S,   147,  1,      2, SIH001,2,19950118,0512,-34.8195, 114.9972,  145, 1098.5,    106.0,  16.7624,  35.7359,2,  35.7375,2,    246.6,2, 16.7450,    240.6,2,     1.43,2,     0.03,2,     0.10,2,     0.16,2, -999.000,9, -999.000,9, -999.000,5,-999.0000,5,  -999.00,9,   -999.0,9,  -999.00,9,-999.000,9,   2057.5,2,   -999.0,9,  -999.0, -999.00,-999.0000,-999.000,-999.000
     316N145_5,  I09S,   147,  1,      1, SIH036,2,19950118,0512,-34.8195, 114.9972,  145, 1383.0,    134.7,  15.6371,  35.6167,2,  35.6172,2,    234.8,2, 15.6160,    234.1,2,     1.50,2,     1.54,2,     0.08,2,     0.28,2, -999.000,9, -999.000,9, -999.000,5,-999.0000,5,  -999.00,9,   -999.0,9,  -999.00,9,-999.000,9,   2069.8,2,   -999.0,9,  -999.0, -999.00,-999.0000,-999.000,-999.000