BOTTLE,20090521WHPSIOdm
EXPOCODE,SECT_ID,STNNBR,CASTNO,SAMPNO,BTLNBR,BTLNBR_FLAG_W,DATE,TIME,LATITUDE,LONGITUDE,DEPTH,CTDRAW,CTDPRS,CTDTMP,CTDSAL,CTDSAL_FLAG_W,SALNTY,SALNTY_FLAG_W,CTDOXY,CTDOXY_FLAG_W,THETA,OXYGEN,OXYGEN_FLAG_W,SILCAT,SILCAT_FLAG_W,NITRAT,NITRAT_FLAG_W,NITRIT,NITRIT_FLAG_W,PHSPHT,PHSPHT_FLAG_W,CFC-11,CFC-11_FLAG_W,CFC-12,CFC-12_FLAG_W,TRITUM,TRITUM_FLAG_W,HELIUM,HELIUM_FLAG_W,DELHE3,DELHE3_FLAG_W,DELC14,DELC14_FLAG_W,DELC13,DELC13_FLAG_W,NEON,NEON_FLAG_W,TCARBN,TCARBN_FLAG_W,ALKALI,ALKALI_FLAG_W,C14ERR,DELHER,HELIER,NEONER,TRITER
,,,,,,,,,,,,,DBAR,IPTS-68,PSS-78,,PSS-78,,UMOL/KG,,IPTS-68,UMOL/KG,,UMOL/KG,,UMOL/KG,,UMOL/KG,,UMOL/KG,,PMOL/KG,,PMOL/KG,,TU,,NMOL/KG,,PERCNT,,/MILLE,,/MILLE,,NMOL/KG,,UMOL/KG,,UMOL/KG,,/MILLE,PERCNT,NMOL/KG,NMOL/KG,TU
     316N145_5,  I08S,    79,  1,     36, SIH035,2,19941227,0517,-63.0028,  82.0083, 2750,   95.0,      4.2,   0.1813,  33.7208,2,  33.7277,2,    340.9,2,  0.1811,    351.0,2,    31.21,2,    24.35,2,     0.27,2,     1.58,2,    6.771,2,    3.135,2, -999.000,5,-999.0000,5,  -999.00,9,   -999.0,9,  -999.00,9,-999.000,9,   2137.7,6,   2294.2,2,  -999.0, -999.00,-999.0000,-999.000,-999.000
     316N145_5,  I08S,    79,  1,     35, SIH032,2,19941227,0517,-63.0028,  82.0083, 2750,  292.3,     24.0,  -0.0672,  33.7373,2,  33.7441,2,    341.3,2, -0.0680,    351.6,2,    31.22,2,    24.49,2,     0.26,2,     1.59,2,    6.860,2,    3.157,2, -999.000,5,-999.0000,5,  -999.00,9,   -999.0,9,  -999.00,9,-999.000,9,   2138.4,2,   2284.1,2,  -999.0, -999.00,-999.0000,-999.000,-999.000
     316N145_5,  I08S,    79,  1,     34, SIH029,2,19941227,0517,-63.0028,  82.0083, 2750,  557.3,     50.7,  -0.1685,  33.7547,2,  33.7609,2,    339.0,2, -0.1702,    349.2,2,    34.04,2,    25.09,2,     0.25,2,     1.68,2,    6.636,6,    3.160,6, -999.000,5,-999.0000,5,  -999.00,9,   -999.0,9,  -999.00,9,-999.000,9,   2142.6,2,   2285.7,2,  -999.0, -999.00,-999.0000,-999.000,-999.000
     316N145_5,  I08S,    79,  1,     33, SIH026,2,19941227,0517,-63.0028,  82.0083, 2750,  807.3,     75.8,  -1.2719,  34.0122,2,  34.0186,2,    324.9,2, -1.2737,    324.5,2,    47.23,2,    28.55,2,     0.18,2,     1.99,2,    5.317,2,    2.520,2, -999.000,5,-999.0000,5,  -999.00,9,   -999.0,9,  -999.00,9,-999.000,9,   2178.7,2,   2301.4,2,  -999.0, -999.00,-999.0000,-999.000,-999.000
     316N145_5,  I08S,    79,  1,     32, SIH023,2,19941227,0517,-63.0028,  82.0083, 2750, 1053.8,    100.6,  -0.5748,  34.2276,2,  34.2315,2,    273.8,2, -0.5778,    266.7,2,    61.74,2,    31.92,2,     0.19,2,     2.27,2,    4.004,2,    1.930,2, -999.000,5,-999.0000,5,  -999.00,9,   -999.0,9,  -999.00,9,-999.000,9,   2215.5,2,   2313.1,2,  -999.0, -999.00,-999.0000,-999.000,-999.000
     316N145_5,  I08S,    79,  1,     31, SIH020,2,19941227,0517,-63.0028,  82.0083, 2750, 1561.3,    151.7,   1.6417,  34.5167,2,  34.5205,2,    179.5,2,  1.6341,    182.1,2,    77.72,2,    34.84,2,     0.04,2,     2.39,2,    1.177,2,    0.544,2, -999.000,5,-999.0000,5,  -999.00,9,   -999.0,9,  -999.00,9,-999.000,9,   2253.2,2,   2337.0,2,  -999.0, -999.00,-999.0000,-999.000,-999.000
     316N145_5,  I08S,    79,  1,     30, SIH017,2,19941227,0517,-63.0028,  82.0083, 2750, 2066.4,    202.5,   1.6792,  34.5574,2,  34.5614,2,    172.2,2,  1.6689,    173.6,2,    80.70,2,    34.97,2,     0.02,2,     2.39,2,    0.867,2,    0.409,2, -999.000,5,-999.0000,5,  -999.00,9,   -999.0,9,  -999.00,9,-999.000,9,   2256.9,2,   2334.0,2,  -999.0, -999.00,-999.0000,-999.000,-999.000
     316N145_5,  I08S,    79,  1,     29, SIH014,2,19941227,0517,-63.0028,  82.0083, 2750, 2560.4,    252.2,   1.8755,  34.6057,2,  34.6083,2,    166.5,2,  1.8622,    170.5,2,    82.85,2,    34.54,2,     0.01,2,     2.37,2,    0.594,2,    0.269,2, -999.000,5,-999.0000,5,  -999.00,9,   -999.0,9,  -999.00,9,-999.000,9,   2258.9,2,   -999.0,9,  -999.0, -999.00,-999.0000,-999.000,-999.000
     316N145_5,  I08S,    79,  1,     28, SIH011,2,19941227,0517,-63.0028,  82.0083, 2750, 3060.1,    302.4,   1.9474,  34.6385,2,  34.6419,2,    169.0,2,  1.9310,    170.0,2,    84.34,2,    34.11,2,     0.01,2,     2.34,2,    0.407,2,    0.199,2, -999.000,5,-999.0000,5,  -999.00,9,   -999.0,9,  -999.00,9,-999.000,9,   2257.6,2,   2348.1,2,  -999.0, -999.00,-999.0000,-999.000,-999.000
     316N145_5,  I08S,    79,  1,     27, SIH008,2,19941227,0517,-63.0028,  82.0083, 2750, 3558.6,    352.6,   1.9743,  34.6638,2,  34.6679,2,    169.6,2,  1.9550,    172.2,2,    84.84,2,    33.49,2,     0.00,2,     2.30,2,    0.313,2,    0.154,2, -999.000,5,-999.0000,5,  -999.00,9,   -999.0,9,  -999.00,9,-999.000,9,   2257.7,2,   2342.0,2,  -999.0, -999.00,-999.0000,-999.000,-999.000
     316N145_5,  I08S,    79,  1,     26, SIH005,2,19941227,0517,-63.0028,  82.0083, 2750, 4063.3,    403.3,   1.9732,  34.6806,2,  34.6848,2,    168.2,2,  1.9509,    174.8,2,    85.18,2,    33.06,2,     0.00,2,     2.26,2,    0.265,2,    0.142,2, -999.000,5,-999.0000,5,  -999.00,9,   -999.0,9,  -999.00,9,-999.000,9,   2255.4,2,   2344.5,2,  -999.0, -999.00,-999.0000,-999.000,-999.000
     316N145_5,  I08S,    79,  1,     25, SIH019,2,19941227,0517,-63.0028,  82.0083, 2750, 4550.0,    452.3,   1.9672,  34.6965,2,  34.6985,2,    171.9,2,  1.9421,    178.1,2,    85.02,2,    32.59,2,     0.00,2,     2.23,2,    0.221,2,    0.112,2, -999.000,5,-999.0000,5,  -999.00,9,   -999.0,9,  -999.00,9,-999.000,9,   2252.7,2,   2349.4,2,  -999.0, -999.00,-999.0000,-999.000,-999.000
     316N145_5,  I08S,    79,  1,     24, SIH037,2,19941227,0517,-63.0028,  82.0083, 2750, 5019.0,    499.5,   1.9624,  34.7070,2,  34.7095,2,    176.6,2,  1.9344,    181.1,2,    85.03,2,    32.22,2,     0.00,2,     2.20,2,    0.205,2,    0.130,4, -999.000,5,-999.0000,5,  -999.00,9,   -999.0,9,  -999.00,9,-999.000,9,   2249.7,2,   2357.9,3,  -999.0, -999.00,-999.0000,-999.000,-999.000
     316N145_5,  I08S,    79,  1,     23, SIH033,2,19941227,0517,-63.0028,  82.0083, 2750, 6059.8,    604.2,   1.9109,  34.7235,2,  34.7272,2,    182.1,2,  1.8768,    186.2,2,    85.54,2,    31.48,2,     0.00,2,     2.16,2,    0.169,2,    0.977,4, -999.000,5,-999.0000,5,  -999.00,9,   -999.0,9,  -999.00,9,-999.000,9,   2247.7,2,   2354.6,3,  -999.0, -999.00,-999.0000,-999.000,-999.000
     316N145_5,  I08S,    79,  1,     22, SIH031,2,19941227,0517,-63.0028,  82.0083, 2750, 6983.1,    697.0,   1.8625,  34.7308,2,  34.7353,2,    182.6,2,  1.8229,    187.5,2,    86.70,2,    31.33,2,     0.00,2,     2.15,2,    0.143,2,    0.083,2, -999.000,5,-999.0000,5,  -999.00,9,   -999.0,9,  -999.00,9,-999.000,9,   2247.6,2,   2347.9,2,  -999.0, -999.00,-999.0000,-999.000,-999.000
     316N145_5,  I08S,    79,  1,     21, SIH030,2,19941227,0517,-63.0028,  82.0083, 2750, 7871.3,    786.4,   1.8067,  34.7353,2,  34.7404,2,    185.5,2,  1.7618,    190.5,2,    87.87,2,    31.06,2,     0.00,2,     2.13,2,    0.134,2,    0.063,2, -999.000,5,-999.0000,5,  -999.00,9,   -999.0,9,  -999.00,9,-999.000,9,   2245.8,2,   2351.1,2,  -999.0, -999.00,-999.0000,-999.000,-999.000
     316N145_5,  I08S,    79,  1,     20, SIH028,2,19941227,0517,-63.0028,  82.0083, 2750, 8976.4,    897.5,   1.7364,  34.7427,2,  34.7469,2,    189.5,2,  1.6848,    193.5,2,    89.03,2,    30.75,2,     0.00,2,     2.11,2,    0.111,2,    0.054,2, -999.000,5,-999.0000,5,  -999.00,9,   -999.0,9,  -999.00,9,-999.000,9,   2246.0,2,   2361.6,2,  -999.0, -999.00,-999.0000,-999.000,-999.000
     316N145_5,  I08S,    79,  1,     19, SIH027,2,19941227,0517,-63.0028,  82.0083, 2750,10031.5,   1003.6,   1.6621,  34.7467,2,  34.7488,2,    192.4,2,  1.6041,    197.7,2,    90.19,2,    30.54,2,     0.00,2,     2.09,2,    0.095,2,    0.049,2, -999.000,5,-999.0000,5,  -999.00,9,   -999.0,9,  -999.00,9,-999.000,9,   2244.6,2,   -999.0,9,  -999.0, -999.00,-999.0000,-999.000,-999.000
     316N145_5,  I08S,    79,  1,     18, SIH003,2,19941227,0517,-63.0028,  82.0083, 2750,11046.6,   1105.8,   1.5730,  34.7456,2,  34.7492,2,    192.2,2,  1.5089,    198.4,2,    92.84,2,    30.65,2,     0.00,2,     2.09,2,    0.090,2,    0.076,4, -999.000,5,-999.0000,5,  -999.00,9,   -999.0,9,  -999.00,9,-999.000,9,   2245.2,6,   2353.1,2,  -999.0, -999.00,-999.0000,-999.000,-999.000
     316N145_5,  I08S,    79,  1,     17, SIH024,2,19941227,0517,-63.0028,  82.0083, 2750,12060.4,   1207.7,   1.4714,  34.7423,2,  34.7467,2,    193.6,2,  1.4014,    200.0,2,    95.48,2,    30.76,2,     0.00,2,     2.10,2,    0.086,2,    0.054,2, -999.000,5,-999.0000,5,  -999.00,9,   -999.0,9,  -999.00,9,-999.000,9,   2246.0,2,   2359.2,2,  -999.0, -999.00,-999.0000,-999.000,-999.000
     316N145_5,  I08S,    79,  1,     16, SIH022,2,19941227,0517,-63.0028,  82.0083, 2750,13093.2,   1311.6,   1.3701,  34.7398,2,  34.7455,2,    196.5,2,  1.2940,    202.6,2,    97.91,2,    30.71,2,     0.00,2,     2.10,2,    0.079,2,    0.052,2, -999.000,5,-999.0000,5,  -999.00,9,   -999.0,9,  -999.00,9,-999.000,9,   2247.3,2,   2354.7,2,  -999.0, -999.00,-999.0000,-999.000,-999.000
     316N145_5,  I08S,    79,  1,     15, SIH021,2,19941227,0517,-63.0028,  82.0083, 2750,14122.7,   1415.2,   1.2880,  34.7359,2,  34.7394,2,    196.2,2,  1.2057,    203.0,2,   100.23,2,    30.87,2,     0.00,2,     2.11,2,    0.074,2,    0.040,2, -999.000,5,-999.0000,5,  -999.00,9,   -999.0,9,  -999.00,9,-999.000,9,   2247.8,2,   2360.6,2,  -999.0, -999.00,-999.0000,-999.000,-999.000
     316N145_5,  I08S,    79,  1,     14, SIH002,2,19941227,0517,-63.0028,  82.0083, 2750,15123.6,   1515.8,   1.1812,  34.7304,2,  34.7313,2,    197.3,2,  1.0930,    203.6,2,   103.62,2,    31.15,2,     0.00,2,     2.12,2,    0.073,2,    0.035,2, -999.000,5,-999.0000,5,  -999.00,9,   -999.0,9,  -999.00,9,-999.000,9,   2250.2,2,   2365.0,2,  -999.0, -999.00,-999.0000,-999.000,-999.000
     316N145_5,  I08S,    79,  1,     13, SIH018,2,19941227,0517,-63.0028,  82.0083, 2750,16145.5,   1618.6,   1.0866,  34.7249,2,  34.7294,2,    198.0,2,  0.9923,    204.3,2,   106.43,2,    31.26,2,     0.00,2,     2.14,2,    0.069,2,    0.047,2, -999.000,5,-999.0000,5,  -999.00,9,   -999.0,9,  -999.00,9,-999.000,9,   2252.1,2,   2371.4,2,  -999.0, -999.00,-999.0000,-999.000,-999.000
     316N145_5,  I08S,    79,  1,     12, SIH016,2,19941227,0517,-63.0028,  82.0083, 2750,17165.3,   1721.2,   0.9994,  34.7196,2,  34.7241,2,    199.3,2,  0.8989,    205.5,2,   109.40,2,    31.48,2,     0.00,2,     2.17,2,    0.070,2,    0.037,2, -999.000,5,-999.0000,5,  -999.00,9,   -999.0,9,  -999.00,9,-999.000,9,   2251.9,2,   2359.2,2,  -999.0, -999.00,-999.0000,-999.000,-999.000
     316N145_5,  I08S,    79,  1,     11, SIH015,2,19941227,0517,-63.0028,  82.0083, 2750,18174.7,   1822.7,   0.9130,  34.7145,2,  34.7188,2,    200.8,2,  0.8062,    206.5,2,   112.05,2,    31.64,2,     0.00,2,     2.18,2,    0.071,2,    0.038,2, -999.000,5,-999.0000,5,  -999.00,9,   -999.0,9,  -999.00,9,-999.000,9,   2253.6,2,   2365.8,2,  -999.0, -999.00,-999.0000,-999.000,-999.000
     316N145_5,  I08S,    79,  1,     10, SIH013,2,19941227,0517,-63.0028,  82.0083, 2750,19177.8,   1923.6,   0.8497,  34.7105,2,  34.7142,2,    202.2,2,  0.7363,    206.2,2,   113.53,2,    31.74,2,     0.00,2,     2.19,2,    0.069,2,    0.045,2, -999.000,5,-999.0000,5,  -999.00,9,   -999.0,9,  -999.00,9,-999.000,9,   2254.4,2,   2364.6,2,  -999.0, -999.00,-999.0000,-999.000,-999.000
     316N145_5,  I08S,    79,  1,      9, SIH012,2,19941227,0517,-63.0028,  82.0083, 2750,20185.7,   2025.0,   0.7780,  34.7072,2,  34.7111,2,    202.4,2,  0.6582,    207.8,2,   115.85,2,    31.94,2,     0.00,2,     2.20,2,    0.067,2,    0.039,2, -999.000,5,-999.0000,5,  -999.00,9,   -999.0,9,  -999.00,9,-999.000,9,   2254.7,2,   2359.2,2,  -999.0, -999.00,-999.0000,-999.000,-999.000
     316N145_5,  I08S,    79,  1,      8, SIH010,2,19941227,0517,-63.0028,  82.0083, 2750,21192.0,   2126.3,   0.7185,  34.7043,2,  34.7081,2,    203.6,2,  0.5919,    207.2,2,   120.96,2,    32.15,2,     0.00,2,     2.22,2,    0.060,2,    0.033,2, -999.000,5,-999.0000,5,  -999.00,9,   -999.0,9,  -999.00,9,-999.000,9,   2255.9,2,   2369.6,2,  -999.0, -999.00,-999.0000,-999.000,-999.000
     316N145_5,  I08S,    79,  1,      7, SIH009,2,19941227,0517,-63.0028,  82.0083, 2750,22207.0,   2228.3,   0.6630,  34.6997,2,  34.7038,2,    202.6,2,  0.5294,    207.9,2,   123.61,2,    32.24,2,     0.00,2,     2.23,2,    0.059,2,    0.265,4, -999.000,5,-999.0000,5,  -999.00,9,   -999.0,9,  -999.00,9,-999.000,9,   2258.1,2,   2372.1,2,  -999.0, -999.00,-999.0000,-999.000,-999.000
     316N145_5,  I08S,    79,  1,      6, SIH038,2,19941227,0517,-63.0028,  82.0083, 2750,23219.0,   2330.1,   0.5972,  34.6964,2,  34.7003,2,    205.3,2,  0.4568,    208.4,2,   127.57,2,    32.39,2,     0.00,2,     2.24,2,    0.058,2,    0.034,2, -999.000,5,-999.0000,5,  -999.00,9,   -999.0,9,  -999.00,9,-999.000,9,   2258.5,2,   2360.2,2,  -999.0, -999.00,-999.0000,-999.000,-999.000
     316N145_5,  I08S,    79,  1,      5, SIH006,2,19941227,0517,-63.0028,  82.0083, 2750,24232.1,   2432.1,   0.5567,  34.6938,2,  34.6979,2,    205.3,2,  0.4089,    209.0,2,   129.72,2,    32.49,2,     0.00,2,     2.25,2,    0.054,2,    0.028,2, -999.000,5,-999.0000,5,  -999.00,9,   -999.0,9,  -999.00,9,-999.000,9,   -999.0,9,   2359.8,2,  -999.0, -999.00,-999.0000,-999.000,-999.000
     316N145_5,  I08S,    79,  1,      4, SIH004,2,19941227,0517,-63.0028,  82.0083, 2750,25241.4,   2533.6,   0.5061,  34.6915,2,  34.6940,2,    206.0,2,  0.3510,    210.0,2,   131.21,2,    32.54,2,     0.00,2,     2.25,2,    0.056,2,    0.043,2, -999.000,5,-999.0000,5,  -999.00,9,   -999.0,9,  -999.00,9,-999.000,9,   2258.9,2,   2362.5,2,  -999.0, -999.00,-999.0000,-999.000,-999.000
     316N145_5,  I08S,    79,  1,      3, SIH025,2,19941227,0517,-63.0028,  82.0083, 2750,25743.7,   2584.1,   0.4728,  34.6888,2,  34.6916,2,    203.8,2,  0.3142,    210.6,2,   131.88,2,    32.58,2,     0.00,2,     2.26,2,    0.058,6,    0.065,4, -999.000,5,-999.0000,5,  -999.00,9,   -999.0,9,  -999.00,9,-999.000,9,   2258.9,2,   2360.2,2,  -999.0, -999.00,-999.0000,-999.000,-999.000
     316N145_5,  I08S,    79,  1,      2, SIH001,2,19941227,0517,-63.0028,  82.0083, 2750,26723.7,   2682.7,   0.4077,  34.6859,2,  34.6881,2,    210.2,2,  0.2423,    212.7,2,   133.04,2,    32.68,2,     0.00,2,     2.26,2,    0.052,2,    0.029,2, -999.000,5,-999.0000,5,  -999.00,9,   -999.0,9,  -999.00,9,-999.000,9,   2259.4,2,   2370.2,2,  -999.0, -999.00,-999.0000,-999.000,-999.000
     316N145_5,  I08S,    79,  1,      1, SIH036,2,19941227,0517,-63.0028,  82.0083, 2750,27225.1,   2733.1,   0.2872,  34.6792,2,  34.6828,2,    215.0,2,  0.1200,    214.9,2,   135.06,2,    32.58,2,     0.01,2,     2.27,2,    0.055,2,    0.034,2, -999.000,5,-999.0000,5,  -999.00,9,   -999.0,9,  -999.00,9,-999.000,9,   2258.9,2,   2378.4,2,  -999.0, -999.00,-999.0000,-999.000,-999.000