BOTTLE,20090521WHPSIOdm
EXPOCODE,SECT_ID,STNNBR,CASTNO,SAMPNO,BTLNBR,BTLNBR_FLAG_W,DATE,TIME,LATITUDE,LONGITUDE,DEPTH,CTDRAW,CTDPRS,CTDTMP,CTDSAL,CTDSAL_FLAG_W,SALNTY,SALNTY_FLAG_W,CTDOXY,CTDOXY_FLAG_W,THETA,OXYGEN,OXYGEN_FLAG_W,SILCAT,SILCAT_FLAG_W,NITRAT,NITRAT_FLAG_W,NITRIT,NITRIT_FLAG_W,PHSPHT,PHSPHT_FLAG_W,CFC-11,CFC-11_FLAG_W,CFC-12,CFC-12_FLAG_W,TRITUM,TRITUM_FLAG_W,HELIUM,HELIUM_FLAG_W,DELHE3,DELHE3_FLAG_W,DELC14,DELC14_FLAG_W,DELC13,DELC13_FLAG_W,NEON,NEON_FLAG_W,TCARBN,TCARBN_FLAG_W,ALKALI,ALKALI_FLAG_W,C14ERR,DELHER,HELIER,NEONER,TRITER
,,,,,,,,,,,,,DBAR,IPTS-68,PSS-78,,PSS-78,,UMOL/KG,,IPTS-68,UMOL/KG,,UMOL/KG,,UMOL/KG,,UMOL/KG,,UMOL/KG,,PMOL/KG,,PMOL/KG,,TU,,NMOL/KG,,PERCNT,,/MILLE,,/MILLE,,NMOL/KG,,UMOL/KG,,UMOL/KG,,/MILLE,PERCNT,NMOL/KG,NMOL/KG,TU
     316N145_5,  I09S,   114,  1,     36, SIH035,2,19950110,0340,-50.0028, 115.0055, 3445,  160.5,     10.9,   6.3127,  33.9836,2,  33.9845,2,    298.5,2,  6.3118,    302.1,2,     1.69,2,    19.60,2,     0.24,2,     1.43,2,    4.866,2,    2.421,2, -999.000,5,-999.0000,5,  -999.00,9,   -999.0,9,  -999.00,9,-999.000,9,   2102.9,6,   2280.1,2,  -999.0, -999.00,-999.0000,-999.000,-999.000
     316N145_5,  I09S,   114,  1,     35, SIH032,2,19950110,0340,-50.0028, 115.0055, 3445,  346.5,     29.6,   6.3141,  33.9819,2,  33.9872,2,    301.9,2,  6.3116,    302.1,2,     1.53,2,    19.62,2,     0.24,2,     1.43,2,    4.833,2,    2.394,2,    0.427,2,   1.7730,2,    -1.65,2,   -999.0,9,  -999.00,9,   7.650,2,   2103.1,2,   2269.6,2,  -999.0,   30.11,  0.0040,   0.029,   0.007
     316N145_5,  I09S,   114,  1,     34, SIH029,2,19950110,0340,-50.0028, 115.0055, 3445,  600.5,     55.1,   6.3145,  33.9826,2,  33.9896,2,    308.3,2,  6.3098,    301.9,2,     1.53,2,    19.54,2,     0.24,2,     1.43,2,    4.811,2,    2.409,2,    0.503,2,   1.7680,2,    -1.65,2,   -999.0,9,  -999.00,9,   7.694,2,   2102.2,2,   2282.1,2,  -999.0,   10.15,  0.0030,   0.039,   0.009
     316N145_5,  I09S,   114,  1,     33, SIH026,2,19950110,0340,-50.0028, 115.0055, 3445,  846.6,     79.9,   5.9790,  33.9977,2,  34.0012,2,    304.7,2,  5.9723,    303.5,2,     1.84,2,    19.73,2,     0.23,2,     1.45,2,    4.904,2,    2.443,2, -999.000,5,-999.0000,5,  -999.00,9,   -999.0,9,  -999.00,9,-999.000,9,   2105.3,2,   2274.4,2,  -999.0, -999.00,-999.0000,-999.000,-999.000
     316N145_5,  I09S,   114,  1,     32, SIH023,2,19950110,0340,-50.0028, 115.0055, 3445, 1121.2,    107.5,   4.7951,  34.0198,2,  34.0204,2,    308.7,2,  4.7871,    304.7,2,     7.69,2,    21.41,2,     0.28,2,     1.62,2,    5.161,2,    2.535,2,    0.113,4,   1.9040,4,    -1.69,2,   -999.0,9,  -999.00,9,   8.219,4,   2122.1,2,   2276.3,2,  -999.0,    0.11,  0.0030,   0.031,   0.004
     316N145_5,  I09S,   114,  1,     31, SIH020,2,19950110,0340,-50.0028, 115.0055, 3445, 1609.1,    156.5,   4.9654,  34.1408,2,  34.1468,2,    286.9,2,  4.9534,    287.3,2,    10.21,2,    22.77,2,     0.02,2,     1.60,2,    4.595,2,    2.261,2, -999.000,5,-999.0000,5,  -999.00,9,   -999.0,9,  -999.00,9,-999.000,9,   2128.6,2,   2279.6,2,  -999.0, -999.00,-999.0000,-999.000,-999.000
     316N145_5,  I09S,   114,  1,     30, SIH017,2,19950110,0340,-50.0028, 115.0055, 3445, 2103.6,    206.3,   4.8201,  34.1840,2,  34.1883,2,    268.3,2,  4.8045,    265.3,2,    13.85,2,    24.56,2,     0.01,2,     1.72,2,    3.877,2,    1.901,2,    0.238,2,   1.7870,2,    -0.39,2,   -999.0,9,  -999.00,9,   7.799,2,   2142.4,2,   2285.0,2,  -999.0,   10.15,  0.0020,   0.049,   0.006
     316N145_5,  I09S,   114,  1,     29, SIH014,2,19950110,0340,-50.0028, 115.0055, 3445, 2592.9,    255.5,   4.2663,  34.1554,2,  34.1599,2,    265.5,2,  4.2481,    266.2,2,    16.22,2,    25.81,2,     0.01,2,     1.80,2,    3.988,2,    1.949,2, -999.000,5,-999.0000,5,  -999.00,9,   -999.0,9,  -999.00,9,-999.000,9,   2149.9,2,   -999.0,9,  -999.0, -999.00,-999.0000,-999.000,-999.000
     316N145_5,  I09S,   114,  1,     28, SIH011,2,19950110,0340,-50.0028, 115.0055, 3445, 3091.5,    305.6,   3.7917,  34.1358,2,  34.1417,2,    269.0,2,  3.7709,    266.7,2,    18.43,2,    26.80,2,     0.01,2,     1.86,2,    3.942,2,    1.932,2,    0.282,2,   1.8220,2,    -0.50,2,   -999.0,9,  -999.00,9,   7.961,2,   2154.5,2,   2283.7,6,  -999.0,   70.17,  0.0030,   0.043,   0.006
     316N145_5,  I09S,   114,  1,     27, SIH008,2,19950110,0340,-50.0028, 115.0055, 3445, 3591.5,    355.9,   3.5451,  34.1643,2,  34.1750,2,    252.0,2,  3.5214,    253.4,2,    23.34,2,    28.31,2,     0.01,2,     1.97,2,    3.475,2,    1.671,2, -999.000,5,-999.0000,5,  -999.00,9,   -999.0,9,  -999.00,9,-999.000,9,   2168.2,2,   2291.9,2,  -999.0, -999.00,-999.0000,-999.000,-999.000
     316N145_5,  I09S,   114,  1,     26, SIH005,2,19950110,0340,-50.0028, 115.0055, 3445, 4083.0,    405.4,   3.4721,  34.2009,2,  34.2042,2,    247.4,2,  3.4452,    244.2,2,    32.04,2,    30.26,2,     0.01,2,     2.09,2,    3.114,2,    1.467,2,    0.401,2,   1.8130,2,     0.92,2,   -999.0,9,  -999.00,9,   7.949,2,   2175.4,2,   2296.2,2,  -999.0,    0.14,  0.0020,   0.026,   0.007
     316N145_5,  I09S,   114,  1,     25, SIH019,2,19950110,0340,-50.0028, 115.0055, 3445, 4590.2,    456.4,   3.4936,  34.2578,2,  34.2603,2,    226.5,2,  3.4630,    228.3,2,    32.21,2,    30.32,2,     0.01,2,     2.09,2,    2.376,2,    1.121,2,    0.000,5,   1.7990,2,     1.80,2,   -999.0,9,  -999.00,9,   7.912,2,   2186.5,2,   2298.2,2,  -999.0,    0.11,  0.0030,   0.030,   0.000
     316N145_5,  I09S,   114,  1,     24, SIH037,2,19950110,0340,-50.0028, 115.0055, 3445, 5093.4,    507.0,   3.3596,  34.2862,2,  34.2907,2,    217.8,2,  3.3258,    220.1,2,    36.32,2,    30.99,2,     0.01,2,     2.14,2, -999.000,9, -999.000,9, -999.000,5,-999.0000,5,  -999.00,9,   -999.0,9,  -999.00,9,-999.000,9,   -999.0,9,   -999.0,9,  -999.0, -999.00,-999.0000,-999.000,-999.000
     316N145_5,  I09S,   114,  1,     23, SIH033,2,19950110,0340,-50.0028, 115.0055, 3445, 6077.2,    605.9,   3.0857,  34.3261,2,  34.3311,2,    207.6,2,  3.0462,    208.4,2,    43.76,2,    32.08,2,     0.00,2,     2.22,2,    1.524,2,    0.713,2,    0.420,2,   1.8540,2,     3.53,2,   -999.0,9,  -999.00,9,   8.073,2,   2206.6,6,   2309.1,6,  -999.0,    0.14,  0.0050,   0.029,   0.007
     316N145_5,  I09S,   114,  1,     22, SIH031,2,19950110,0340,-50.0028, 115.0055, 3445, 7041.9,    703.0,   2.8977,  34.3681,2,  34.3688,2,    195.8,2,  2.8524,    199.8,2,    50.09,2,    32.80,2,     0.00,2,     2.27,2, -999.000,9, -999.000,9, -999.000,5,-999.0000,5,  -999.00,9,   -999.0,9,  -999.00,9,-999.000,9,   2217.5,2,   2328.1,2,  -999.0, -999.00,-999.0000,-999.000,-999.000
     316N145_5,  I09S,   114,  1,     20, SIH028,2,19950110,0340,-50.0028, 115.0055, 3445, 8038.3,    803.2,   2.8862,  34.4382,2,  34.4436,2,    181.5,2,  2.8337,    185.7,2,    57.38,2,    33.16,2,     0.00,2,     2.30,2,    0.679,2,    0.314,2, -999.000,5,-999.0000,5,  -999.00,9,   -999.0,9,  -999.00,9,-999.000,9,   -999.0,9,   2321.7,2,  -999.0, -999.00,-999.0000,-999.000,-999.000
     316N145_5,  I09S,   114,  1,     21, SIH030,2,19950110,0340,-50.0028, 115.0055, 3445, 8039.3,    803.3,   2.8824,  34.4356,2,  34.4438,2,    181.7,2,  2.8299,    185.9,2,    57.38,2,    33.21,2,     0.00,2,     2.30,2,    0.673,2,    0.320,2,    0.024,4,   1.8220,2,     6.19,2,   -999.0,9,  -999.00,9,   7.911,2,   2228.2,6,   2322.9,2,  -999.0,    0.17,  0.0030,   0.043,   0.006
     316N145_5,  I09S,   114,  1,     19, SIH027,2,19950110,0340,-50.0028, 115.0055, 3445,10107.5,   1011.3,   2.4534,  34.5256,2,  34.5288,2,    174.5,2,  2.3889,    178.7,2,    68.16,2,    33.36,2,     0.00,2,     2.31,2,    0.558,2,    0.256,2,    0.149,2,   1.8760,2,     7.48,2,   -999.0,9,  -999.00,9,   8.084,2,   2242.1,2,   2340.4,2,  -999.0,    0.11,  0.0030,   0.031,   0.005
     316N145_5,  I09S,   114,  1,     18, SIH003,2,19950110,0340,-50.0028, 115.0055, 3445,11096.3,   1110.8,   2.4828,  34.5843,2,  34.5916,2,    171.8,2,  2.4108,    176.1,2,    71.17,2,    32.96,2,     0.00,2,     2.27,2, -999.000,9, -999.000,9, -999.000,5,-999.0000,5,  -999.00,9,   -999.0,9,  -999.00,9,-999.000,9,   2243.9,6,   2336.3,2,  -999.0, -999.00,-999.0000,-999.000,-999.000
     316N145_5,  I09S,   114,  1,     17, SIH024,2,19950110,0340,-50.0028, 115.0055, 3445,12107.4,   1212.5,   2.4598,  34.6293,2,  34.6335,2,    173.4,2,  2.3803,    177.4,2,    73.08,2,    32.26,2,     0.00,2,     2.22,2,    0.192,2,    0.085,2,    0.024,4,   1.8400,2,     8.46,2,   -999.0,9,  -999.00,9,   7.999,2,   2243.7,2,   2337.8,2,  -999.0,    0.17,  0.0030,   0.023,   0.005
     316N145_5,  I09S,   114,  1,     16, SIH022,2,19950110,0340,-50.0028, 115.0055, 3445,13158.6,   1318.2,   2.4258,  34.6624,2,  34.6667,2,    176.0,2,  2.3385,    179.7,2,    74.20,2,    31.65,2,     0.00,2,     2.18,2, -999.000,9, -999.000,9, -999.000,5,-999.0000,5,  -999.00,9,   -999.0,9,  -999.00,9,-999.000,9,   2243.9,2,   2344.0,6,  -999.0, -999.00,-999.0000,-999.000,-999.000
     316N145_5,  I09S,   114,  1,     15, SIH021,2,19950110,0340,-50.0028, 115.0055, 3445,14145.3,   1417.5,   2.3423,  34.6850,2,  34.6887,2,    177.6,2,  2.2482,    182.2,2,    75.62,2,    31.25,2,     0.00,2,     2.15,2,    0.132,2,    0.060,2,    0.023,2,   1.9050,3,     8.90,2,   -999.0,9,  -999.00,9,   8.251,3,   2243.2,2,   2338.6,2,  -999.0,    0.11,  0.0040,   0.031,   0.005
     316N145_5,  I09S,   114,  1,     14, SIH002,2,19950110,0340,-50.0028, 115.0055, 3445,15171.3,   1520.7,   2.3044,  34.7126,2,  34.7172,2,    181.4,2,  2.2026,    185.9,2,    76.74,2,    30.60,2,     0.00,2,     2.10,2, -999.000,9, -999.000,9, -999.000,5,-999.0000,5,  -999.00,9,   -999.0,9,  -999.00,9,-999.000,9,   2241.6,2,   2347.0,2,  -999.0, -999.00,-999.0000,-999.000,-999.000
     316N145_5,  I09S,   114,  1,     13, SIH018,2,19950110,0340,-50.0028, 115.0055, 3445,16156.6,   1619.8,   2.2269,  34.7221,2,  34.7260,2,    185.3,2,  2.1181,    188.4,2,    78.02,2,    30.36,2,     0.00,2,     2.09,2,    0.096,2,    0.038,2,    0.216,4,   1.8540,2,     9.18,2,   -999.0,9,  -999.00,9,   8.059,2,   2240.9,2,   2349.2,2,  -999.0,    0.17,  0.0030,   0.043,   0.006
     316N145_5,  I09S,   114,  1,     12, SIH016,2,19950110,0340,-50.0028, 115.0055, 3445,17176.5,   1722.4,   2.1623,  34.7331,2,  34.7374,2,    185.4,2,  2.0461,    191.0,2,    79.61,2,    30.05,2,     0.00,2,     2.07,2,    0.078,2,    0.039,2, -999.000,5,-999.0000,5,  -999.00,9,   -999.0,9,  -999.00,9,-999.000,9,   2241.0,2,   2349.6,2,  -999.0, -999.00,-999.0000,-999.000,-999.000
     316N145_5,  I09S,   114,  1,     11, SIH015,2,19950110,0340,-50.0028, 115.0055, 3445,18236.1,   1829.0,   2.0844,  34.7430,2,  34.7471,2,    189.8,2,  1.9605,    193.9,2,    81.67,2,    29.81,2,     0.00,2,     2.05,2,    0.064,2,    0.028,2,   -0.003,4,   1.9310,3,     8.88,2,   -999.0,9,  -999.00,9,   8.246,3,   2239.5,2,   2344.8,2,  -999.0,    0.11,  0.0040,   0.031,   0.004
     316N145_5,  I09S,   114,  1,     10, SIH013,2,19950110,0340,-50.0028, 115.0055, 3445,19235.2,   1929.4,   1.9988,  34.7449,2,  34.7486,2,    190.4,2,  1.8678,    194.8,2,    83.74,2,    29.72,2,     0.00,2,     2.05,2,    0.122,4,    0.123,4,    0.241,4,   1.8730,2,     8.63,2,   -999.0,9,  -999.00,9,   8.122,2,   2241.5,2,   2352.3,2,  -999.0,    0.17,  0.0030,   0.043,   0.006
     316N145_5,  I09S,   114,  1,      9, SIH012,2,19950110,0340,-50.0028, 115.0055, 3445,21163.2,   2123.4,   1.7958,  34.7466,2,  34.7510,2,    193.2,2,  1.6518,    197.6,2,    89.46,2,    29.88,2,     0.00,2,     2.06,2,    0.080,2,    0.044,2,    0.271,4,   1.8610,2,     9.24,2,   -999.0,9,  -999.00,9,   8.071,2,   2243.6,2,   2356.4,2,  -999.0,    0.17,  0.0030,   0.044,   0.006
     316N145_5,  I09S,   114,  1,      8, SIH010,2,19950110,0340,-50.0028, 115.0055, 3445,23210.0,   2329.3,   1.5912,  34.7421,2,  34.7475,2,    195.7,2,  1.4331,    200.7,2,    96.60,2,    30.13,2,     0.00,2,     2.08,2,    0.045,2,    0.020,2,   -0.012,4,   1.9040,3,     9.23,2,   -999.0,9,  -999.00,9,   8.172,2,   2245.2,2,   2365.2,2,  -999.0,    0.17,  0.0030,   0.044,   0.003
     316N145_5,  I09S,   114,  1,      7, SIH009,2,19950110,0340,-50.0028, 115.0055, 3445,25195.1,   2528.9,   1.4061,  34.7339,2,  34.7382,2,    198.3,2,  1.2340,    201.8,2,   104.24,2,    30.48,2,     0.00,2,     2.11,2,    0.030,2,    0.019,2,    0.025,2,   1.8780,2,    10.28,2,   -999.0,9,  -999.00,9,   8.093,2,   2250.2,2,   2363.3,2,  -999.0,   70.11,  0.0030,   0.030,   0.005
     316N145_5,  I09S,   114,  1,      6, SIH038,2,19950110,0340,-50.0028, 115.0055, 3445,27308.5,   2741.5,   1.2670,  34.7276,2,  34.7325,2,    200.0,2,  1.0787,    203.5,2,   108.53,2,    30.74,2,     0.00,2,     2.12,2,    0.047,6,    0.028,6,    0.025,2,   1.8820,2,    11.27,2,   -999.0,9,  -999.00,9,   8.149,2,   2251.2,2,   -999.0,9,  -999.0,    0.17,  0.0030,   0.044,   0.004
     316N145_5,  I09S,   114,  1,      5, SIH006,2,19950110,0340,-50.0028, 115.0055, 3445,29362.6,   2948.1,   1.0997,  34.7184,2,  34.7239,2,    202.3,2,  0.8962,    205.5,2,   113.46,2,    30.99,2,     0.00,2,     2.14,2,    0.070,2,    0.038,2,    0.044,2,   1.8920,2,    10.80,2,   -999.0,9,  -999.00,9,   8.150,2,   2253.1,2,   2359.5,2,  -999.0,   40.11,  0.0040,   0.031,   0.004
     316N145_5,  I09S,   114,  1,      4, SIH004,2,19950110,0340,-50.0028, 115.0055, 3445,31354.0,   3148.5,   0.9607,  34.7123,2,  34.7162,2,    203.9,2,  0.7418,    207.5,2,   117.44,2,    31.30,2,     0.00,2,     2.16,2,    0.096,2,    0.041,2,    0.032,2,   1.9450,3,    10.03,2,   -999.0,9,  -999.00,9,   8.411,3,   2253.3,2,   2370.6,3,  -999.0,   60.17,  0.0030,   0.045,   0.005
     316N145_5,  I09S,   114,  1,      3, SIH025,2,19950110,0340,-50.0028, 115.0055, 3445,33480.6,   3362.4,   0.8897,  34.7078,2,  34.7138,2,    204.8,2,  0.6522,    209.0,2,   119.84,2,    31.40,2,     0.00,2,     2.17,2,    0.122,2,    0.059,2,   -0.003,4,   1.9100,2,    12.55,2,   -999.0,9,  -999.00,9,   8.278,2,   2253.6,2,   2357.0,2,  -999.0,   70.11,  0.0030,   0.031,   0.004
     316N145_5,  I09S,   114,  1,      2, SIH001,2,19950110,0340,-50.0028, 115.0055, 3445,34599.9,   3475.0,   0.7931,  34.7030,2,  34.7068,2,    208.3,2,  0.5471,    210.6,2,   122.31,2,    31.55,2,     0.00,2,     2.17,2,    0.148,2,    0.067,2,    0.019,2,   1.9390,2,    11.95,2,   -999.0,9,  -999.00,9,   8.325,2,   2254.2,2,   2361.3,6,  -999.0,   40.16,  0.0030,   0.045,   0.004
     316N145_5,  I09S,   114,  1,      1, SIH036,2,19950110,0340,-50.0028, 115.0055, 3445,35112.4,   3526.5,   0.7294,  34.6991,2,  34.7046,2,    208.9,3,  0.4800,    212.3,2,   123.76,2,    31.71,2,     0.00,2,     2.18,2,    0.170,2,    0.077,2,    0.015,4,   1.8980,2,    14.46,2,   -999.0,9,  -999.00,9,   8.145,2,   2255.8,6,   2364.2,2,  -999.0,   50.11,  0.0030,   0.031,   0.004