BOTTLE,20090521WHPSIOdm
EXPOCODE,SECT_ID,STNNBR,CASTNO,SAMPNO,BTLNBR,BTLNBR_FLAG_W,DATE,TIME,LATITUDE,LONGITUDE,DEPTH,CTDRAW,CTDPRS,CTDTMP,CTDSAL,CTDSAL_FLAG_W,SALNTY,SALNTY_FLAG_W,CTDOXY,CTDOXY_FLAG_W,THETA,OXYGEN,OXYGEN_FLAG_W,SILCAT,SILCAT_FLAG_W,NITRAT,NITRAT_FLAG_W,NITRIT,NITRIT_FLAG_W,PHSPHT,PHSPHT_FLAG_W,CFC-11,CFC-11_FLAG_W,CFC-12,CFC-12_FLAG_W,TRITUM,TRITUM_FLAG_W,HELIUM,HELIUM_FLAG_W,DELHE3,DELHE3_FLAG_W,DELC14,DELC14_FLAG_W,DELC13,DELC13_FLAG_W,NEON,NEON_FLAG_W,TCARBN,TCARBN_FLAG_W,ALKALI,ALKALI_FLAG_W,C14ERR,DELHER,HELIER,NEONER,TRITER
,,,,,,,,,,,,,DBAR,IPTS-68,PSS-78,,PSS-78,,UMOL/KG,,IPTS-68,UMOL/KG,,UMOL/KG,,UMOL/KG,,UMOL/KG,,UMOL/KG,,PMOL/KG,,PMOL/KG,,TU,,NMOL/KG,,PERCNT,,/MILLE,,/MILLE,,NMOL/KG,,UMOL/KG,,UMOL/KG,,/MILLE,PERCNT,NMOL/KG,NMOL/KG,TU
     316N145_5,  I08S,    31,  1,     25, WHF026,2,19941213,2010,-43.7555,  95.0028, 3050,  456.1,      8.5,   9.2754,  34.4050,2,  34.4043,2,    287.2,2,  9.2745,    290.1,2,     1.00,2,    12.76,2,     0.27,2,     0.98,2, -999.000,9, -999.000,9, -999.000,5,-999.0000,5,  -999.00,9,   -999.0,9,  -999.00,9,-999.000,9,   -999.0,9,   -999.0,9,  -999.0, -999.00,-999.0000,-999.000,-999.000
     316N145_5,  I08S,    31,  1,     24, WHF004,2,19941213,2010,-43.7555,  95.0028, 3050,  456.1,      8.5,   9.2754,  34.4050,2,  34.4061,2,    287.2,2,  9.2745,    290.0,2,     0.98,2,    12.75,2,     0.27,2,     0.98,2, -999.000,9, -999.000,9, -999.000,5,-999.0000,5,  -999.00,9,   -999.0,9,  -999.00,9,-999.000,9,   -999.0,9,   -999.0,9,  -999.0, -999.00,-999.0000,-999.000,-999.000
     316N145_5,  I08S,    31,  1,     23, WHF017,9,19941213,2010,-43.7555,  95.0028, 3050,  635.8,     27.8,   9.2286,  34.4293,2,-999.0000,9,    287.3,3,  9.2256,   -999.0,9,  -999.00,9,  -999.00,9,  -999.00,9,  -999.00,9, -999.000,9, -999.000,9, -999.000,5,-999.0000,5,  -999.00,9,   -999.0,9,  -999.00,9,-999.000,9,   -999.0,9,   -999.0,9,  -999.0, -999.00,-999.0000,-999.000,-999.000
     316N145_5,  I08S,    31,  1,     22, WHF007,2,19941213,2010,-43.7555,  95.0028, 3050,  872.7,     53.2,   9.1391,  34.4167,2,  34.4161,2,    280.8,2,  9.1334,    287.2,2,     1.30,2,    12.86,2,     0.27,2,     1.00,2, -999.000,9, -999.000,9, -999.000,5,-999.0000,5,  -999.00,9,   -999.0,9,  -999.00,9,-999.000,9,   -999.0,9,   -999.0,9,  -999.0, -999.00,-999.0000,-999.000,-999.000
     316N145_5,  I08S,    31,  1,     21, WHF022,2,19941213,2010,-43.7555,  95.0028, 3050, 1343.8,    103.8,   9.0664,  34.5579,2,  34.5604,2,    270.9,2,  9.0552,    272.2,2,     4.71,2,    14.14,2,     0.36,2,     1.10,2, -999.000,9, -999.000,9, -999.000,5,-999.0000,5,  -999.00,9,   -999.0,9,  -999.00,9,-999.000,9,   -999.0,9,   -999.0,9,  -999.0, -999.00,-999.0000,-999.000,-999.000
     316N145_5,  I08S,    31,  1,     20, WHF016,2,19941213,2010,-43.7555,  95.0028, 3050, 2279.8,    204.3,   9.0149,  34.6075,2,  34.6064,2,    266.4,2,  8.9928,    270.1,2,     5.38,2,    14.64,2,     0.17,2,     1.10,2, -999.000,9, -999.000,9, -999.000,5,-999.0000,5,  -999.00,9,   -999.0,9,  -999.00,9,-999.000,9,   -999.0,9,   -999.0,9,  -999.0, -999.00,-999.0000,-999.000,-999.000
     316N145_5,  I08S,    31,  1,     19, WHF014,2,19941213,2010,-43.7555,  95.0028, 3050, 3203.1,    303.4,   8.3590,  34.5107,2,  34.5162,2,    249.3,2,  8.3275,    257.8,2,     6.73,2,    17.11,2,     0.02,2,     1.25,2, -999.000,9, -999.000,9, -999.000,5,-999.0000,5,  -999.00,9,   -999.0,9,  -999.00,9,-999.000,9,   -999.0,9,   -999.0,9,  -999.0, -999.00,-999.0000,-999.000,-999.000
     316N145_5,  I08S,    31,  1,     18, WHF018,2,19941213,2010,-43.7555,  95.0028, 3050, 4119.3,    401.7,   7.1293,  34.3586,2,  34.3570,2,    233.5,2,  7.0912,    251.1,2,     9.44,2,    20.92,2,     0.02,2,     1.49,2, -999.000,9, -999.000,9, -999.000,5,-999.0000,5,  -999.00,9,   -999.0,9,  -999.00,9,-999.000,9,   -999.0,9,   -999.0,9,  -999.0, -999.00,-999.0000,-999.000,-999.000
     316N145_5,  I08S,    31,  1,     17, WHF019,2,19941213,2010,-43.7555,  95.0028, 3050, 5046.9,    501.3,   7.1012,  34.4687,2,  34.4689,2,    216.0,2,  7.0532,    217.4,2,    14.74,2,    23.47,2,     0.01,2,     1.64,2, -999.000,9, -999.000,9, -999.000,5,-999.0000,5,  -999.00,9,   -999.0,9,  -999.00,9,-999.000,9,   -999.0,9,   -999.0,9,  -999.0, -999.00,-999.0000,-999.000,-999.000
     316N145_5,  I08S,    31,  1,     16, WHF009,2,19941213,2010,-43.7555,  95.0028, 3050, 5960.4,    599.4,   5.9079,  34.3838,2,  34.3835,2,    217.4,2,  5.8556,    218.8,2,    19.35,2,    26.18,2,     0.00,2,     1.82,2, -999.000,9, -999.000,9, -999.000,5,-999.0000,5,  -999.00,9,   -999.0,9,  -999.00,9,-999.000,9,   -999.0,9,   -999.0,9,  -999.0, -999.00,-999.0000,-999.000,-999.000
     316N145_5,  I08S,    31,  1,     15, WHF008,2,19941213,2010,-43.7555,  95.0028, 3050, 6872.3,    697.3,   4.8923,  34.3124,2,  34.3129,2,    226.4,2,  4.8366,    226.2,2,    22.92,2,    27.98,2,     0.00,2,     1.94,2, -999.000,9, -999.000,9, -999.000,5,-999.0000,5,  -999.00,9,   -999.0,9,  -999.00,9,-999.000,9,   -999.0,9,   -999.0,9,  -999.0, -999.00,-999.0000,-999.000,-999.000
     316N145_5,  I08S,    31,  1,     14, WHF027,2,19941213,2010,-43.7555,  95.0028, 3050, 7785.6,    795.3,   4.1213,  34.3003,2,  34.3007,2,    222.3,2,  4.0619,    222.9,2,    29.58,2,    29.73,2,     0.00,2,     2.06,2, -999.000,9, -999.000,9, -999.000,5,-999.0000,5,  -999.00,9,   -999.0,9,  -999.00,9,-999.000,9,   -999.0,9,   -999.0,9,  -999.0, -999.00,-999.0000,-999.000,-999.000
     316N145_5,  I08S,    31,  1,     13, WHF012,2,19941213,2010,-43.7555,  95.0028, 3050, 9669.1,    997.6,   3.3973,  34.3584,2,  34.3574,2,    204.1,2,  3.3268,    204.9,2,    43.42,2,    32.12,2,     0.00,2,     2.22,2, -999.000,9, -999.000,9, -999.000,5,-999.0000,5,  -999.00,9,   -999.0,9,  -999.00,9,-999.000,9,   -999.0,9,   -999.0,9,  -999.0, -999.00,-999.0000,-999.000,-999.000
     316N145_5,  I08S,    31,  1,     12, WHF020,2,19941213,2010,-43.7555,  95.0028, 3050,11561.0,   1200.7,   2.9829,  34.4461,2,  34.4436,2,    188.5,2,  2.8998,    186.7,2,    56.75,2,    33.33,2,     0.00,2,     2.31,2, -999.000,9, -999.000,9, -999.000,5,-999.0000,5,  -999.00,9,   -999.0,9,  -999.00,9,-999.000,9,   -999.0,9,   -999.0,9,  -999.0, -999.00,-999.0000,-999.000,-999.000
     316N145_5,  I08S,    31,  1,     11, WHF011,9,19941213,2010,-43.7555,  95.0028, 3050,13464.9,   1405.1,   2.7369,  34.5434,2,-999.0000,9,    177.6,3,  2.6399,   -999.0,9,  -999.00,9,  -999.00,9,  -999.00,9,  -999.00,9, -999.000,9, -999.000,9, -999.000,5,-999.0000,5,  -999.00,9,   -999.0,9,  -999.00,9,-999.000,9,   -999.0,9,   -999.0,9,  -999.0, -999.00,-999.0000,-999.000,-999.000
     316N145_5,  I08S,    31,  1,     10, WHF003,2,19941213,2010,-43.7555,  95.0028, 3050,15359.9,   1608.6,   2.5920,  34.6228,2,  34.6223,2,    176.2,2,  2.4799,    176.7,2,    71.78,2,    32.64,2,     0.00,2,     2.25,2, -999.000,9, -999.000,9, -999.000,5,-999.0000,5,  -999.00,9,   -999.0,9,  -999.00,9,-999.000,9,   -999.0,9,   -999.0,9,  -999.0, -999.00,-999.0000,-999.000,-999.000
     316N145_5,  I08S,    31,  1,      9, WHF015,2,19941213,2010,-43.7555,  95.0028, 3050,17260.7,   1812.7,   2.4712,  34.6885,2,  34.6869,2,    182.3,2,  2.3435,    182.9,2,    73.97,2,    31.32,2,     0.00,2,     2.16,2, -999.000,9, -999.000,9, -999.000,5,-999.0000,5,  -999.00,9,   -999.0,9,  -999.00,9,-999.000,9,   -999.0,9,   -999.0,9,  -999.0, -999.00,-999.0000,-999.000,-999.000
     316N145_5,  I08S,    31,  1,      8, WHF013,2,19941213,2010,-43.7555,  95.0028, 3050,19160.9,   2016.8,   2.3778,  34.7257,2,  34.7284,2,    188.6,2,  2.2338,    189.4,2,    75.14,2,    30.36,2,     0.00,2,     2.08,2, -999.000,9, -999.000,9, -999.000,5,-999.0000,5,  -999.00,9,   -999.0,9,  -999.00,9,-999.000,9,   -999.0,9,   -999.0,9,  -999.0, -999.00,-999.0000,-999.000,-999.000
     316N145_5,  I08S,    31,  1,      7, WHF006,2,19941213,2010,-43.7555,  95.0028, 3050,21073.3,   2222.1,   2.2060,  34.7485,2,  34.7480,2,    191.9,2,  2.0467,    194.7,2,    79.56,2,    29.88,2,     0.00,2,     2.05,2, -999.000,9, -999.000,9, -999.000,5,-999.0000,5,  -999.00,9,   -999.0,9,  -999.00,9,-999.000,9,   -999.0,9,   -999.0,9,  -999.0, -999.00,-999.0000,-999.000,-999.000
     316N145_5,  I08S,    31,  1,      6, WHF001,2,19941213,2010,-43.7555,  95.0028, 3050,22965.3,   2425.3,   2.0214,  34.7548,2,  34.7551,2,    196.3,2,  1.8471,    197.4,2,    85.18,2,    29.77,2,     0.00,2,     2.05,2, -999.000,9, -999.000,9, -999.000,5,-999.0000,5,  -999.00,9,   -999.0,9,  -999.00,9,-999.000,9,   -999.0,9,   -999.0,9,  -999.0, -999.00,-999.0000,-999.000,-999.000
     316N145_5,  I08S,    31,  1,      5, WHF023,2,19941213,2010,-43.7555,  95.0028, 3050,24859.6,   2628.7,   1.7402,  34.7473,2,  34.7482,2,    197.7,2,  1.5527,    199.1,2,    95.75,2,    30.36,2,     0.00,2,     2.09,2, -999.000,9, -999.000,9, -999.000,5,-999.0000,5,  -999.00,9,   -999.0,9,  -999.00,9,-999.000,9,   -999.0,9,   -999.0,9,  -999.0, -999.00,-999.0000,-999.000,-999.000
     316N145_5,  I08S,    31,  1,      4, WHF024,2,19941213,2010,-43.7555,  95.0028, 3050,26745.7,   2831.3,   1.5957,  34.7416,2,  34.7419,2,    199.0,2,  1.3925,    199.5,2,   101.20,2,    30.68,2,     0.00,2,     2.11,2, -999.000,9, -999.000,9, -999.000,5,-999.0000,5,  -999.00,9,   -999.0,9,  -999.00,9,-999.000,9,   -999.0,9,   -999.0,9,  -999.0, -999.00,-999.0000,-999.000,-999.000
     316N145_5,  I08S,    31,  1,      3, WHF002,2,19941213,2010,-43.7555,  95.0028, 3050,27677.1,   2931.4,   1.5635,  34.7400,2,  34.7414,2,    199.7,2,  1.3515,    200.1,2,   102.55,2,    30.68,2,     0.00,2,     2.12,2, -999.000,9, -999.000,9, -999.000,5,-999.0000,5,  -999.00,9,   -999.0,9,  -999.00,9,-999.000,9,   -999.0,9,   -999.0,9,  -999.0, -999.00,-999.0000,-999.000,-999.000
     316N145_5,  I08S,    31,  1,      2, WHF021,2,19941213,2010,-43.7555,  95.0028, 3050,28444.3,   3013.8,   1.5564,  34.7400,2,  34.7398,2,    199.7,2,  1.3368,    200.5,2,   103.03,2,    30.73,2,     0.00,2,     2.13,2, -999.000,9, -999.000,9, -999.000,5,-999.0000,5,  -999.00,9,   -999.0,9,  -999.00,9,-999.000,9,   -999.0,9,   -999.0,9,  -999.0, -999.00,-999.0000,-999.000,-999.000
     316N145_5,  I08S,    31,  1,      1, WHF025,2,19941213,2010,-43.7555,  95.0028, 3050,29003.5,   3073.8,   1.5577,  34.7405,2,  34.7402,2,    199.0,2,  1.3322,    200.2,2,   103.15,2,    30.90,2,     0.00,2,     2.12,2, -999.000,9, -999.000,9, -999.000,5,-999.0000,5,  -999.00,9,   -999.0,9,  -999.00,9,-999.000,9,   -999.0,9,   -999.0,9,  -999.0, -999.00,-999.0000,-999.000,-999.000