BOTTLE,20090521WHPSIOdm
EXPOCODE,SECT_ID,STNNBR,CASTNO,SAMPNO,BTLNBR,BTLNBR_FLAG_W,DATE,TIME,LATITUDE,LONGITUDE,DEPTH,CTDRAW,CTDPRS,CTDTMP,CTDSAL,CTDSAL_FLAG_W,SALNTY,SALNTY_FLAG_W,CTDOXY,CTDOXY_FLAG_W,THETA,OXYGEN,OXYGEN_FLAG_W,SILCAT,SILCAT_FLAG_W,NITRAT,NITRAT_FLAG_W,NITRIT,NITRIT_FLAG_W,PHSPHT,PHSPHT_FLAG_W,CFC-11,CFC-11_FLAG_W,CFC-12,CFC-12_FLAG_W,TRITUM,TRITUM_FLAG_W,HELIUM,HELIUM_FLAG_W,DELHE3,DELHE3_FLAG_W,DELC14,DELC14_FLAG_W,DELC13,DELC13_FLAG_W,NEON,NEON_FLAG_W,TCARBN,TCARBN_FLAG_W,ALKALI,ALKALI_FLAG_W,C14ERR,DELHER,HELIER,NEONER,TRITER
,,,,,,,,,,,,,DBAR,IPTS-68,PSS-78,,PSS-78,,UMOL/KG,,IPTS-68,UMOL/KG,,UMOL/KG,,UMOL/KG,,UMOL/KG,,UMOL/KG,,PMOL/KG,,PMOL/KG,,TU,,NMOL/KG,,PERCNT,,/MILLE,,/MILLE,,NMOL/KG,,UMOL/KG,,UMOL/KG,,/MILLE,PERCNT,NMOL/KG,NMOL/KG,TU
     316N145_5,  I08S,    25,  1,     24, SIH037,2,19941212,1120,-41.0112,  94.9888, 3460,  183.7,     13.8,  12.2336,  34.9103,2,  34.9097,2,    278.4,2, 12.2318,    271.8,2,     1.36,2,     7.22,2,     0.16,2,     0.64,2, -999.000,9, -999.000,9,    0.735,2,   1.7470,2,    -1.75,2,   -999.0,9,  -999.00,9,   7.297,2,   2068.2,6,   2303.0,2,  -999.0,    0.10,  0.0020,   0.039,   0.011
     316N145_5,  I08S,    25,  1,     23, SIH033,2,19941212,1120,-41.0112,  94.9888, 3460,  376.1,     33.1,  12.2319,  34.9105,2,  34.9099,2,    279.4,2, 12.2276,    272.3,2,     1.36,2,     7.23,2,     0.16,2,     0.64,2,    3.488,2,    1.777,2,    0.688,2,   1.7590,2,    -1.69,2,   -999.0,9,  -999.00,9,   7.388,2,   2069.0,2,   2328.6,3,  -999.0,    0.14,  0.0020,   0.025,   0.010
     316N145_5,  I08S,    25,  1,     22, SIH031,2,19941212,1120,-41.0112,  94.9888, 3460,  624.4,     58.1,  12.1761,  34.9102,2,  34.9097,2,    277.8,2, 12.1685,    270.6,2,     1.50,2,     7.36,2,     0.16,2,     0.64,2, -999.000,9, -999.000,9,    0.670,2,   1.7610,2,    -1.81,2,   -999.0,9,  -999.00,9,   7.427,2,   2070.5,2,   2303.0,2,  -999.0,    0.10,  0.0020,   0.036,   0.009
     316N145_5,  I08S,    25,  1,     21, SIH030,2,19941212,1120,-41.0112,  94.9888, 3460, 1130.7,    109.0,  11.0235,  34.9083,2,  34.9087,2,    273.1,2, 11.0101,    265.6,2,     3.91,2,     9.56,2,     0.51,2,     0.83,2,    3.575,2,    1.837,2,    0.755,2,   1.7560,2,    -1.67,2,   -999.0,9,  -999.00,9,   7.399,2,   2089.3,2,   2320.1,2,  -999.0,    0.14,  0.0020,   0.038,   0.011
     316N145_5,  I08S,    25,  1,     20, SIH028,2,19941212,1120,-41.0112,  94.9888, 3460, 2129.5,    209.4,  10.7354,  34.9085,2,  34.9093,2,    263.4,2, 10.7100,    262.2,2,     3.74,2,    10.84,2,     0.16,2,     0.86,2,    3.525,2,    1.815,2,    0.671,2,   1.7600,2,    -1.70,2,   -999.0,9,  -999.00,9,   7.468,2,   2094.2,2,   2310.6,2,  -999.0,    0.10,  0.0020,   0.049,   0.010
     316N145_5,  I08S,    25,  1,     19, SIH027,2,19941212,1120,-41.0112,  94.9888, 3460, 3118.6,    308.9,  10.4669,  34.8731,2,  34.8743,2,    253.5,2, 10.4299,    262.5,2,     3.73,2,    11.43,2,     0.01,2,     0.89,2,    3.550,2,    1.812,2,    0.632,2,   1.6910,4,    -1.48,2,   -999.0,9,  -999.00,9,   6.955,4,   2095.2,2,   2326.7,3,  -999.0,    0.14,  0.0020,   0.024,   0.009
     316N145_5,  I08S,    25,  1,     18, SIH003,2,19941212,1120,-41.0112,  94.9888, 3460, 4115.2,    409.1,  10.2033,  34.8362,2,  34.8367,2,    255.8,2, 10.1548,    262.4,2,     4.05,2,    12.16,2,     0.01,2,     0.93,2,    3.560,2,    1.826,2,    0.432,2,   1.7570,2,    -1.43,2,   -999.0,9,  -999.00,9,   7.448,2,   2095.9,2,   2293.9,2,  -999.0,    0.10,  0.0020,   0.036,   0.009
     316N145_5,  I08S,    25,  1,     17, SIH024,2,19941212,1120,-41.0112,  94.9888, 3460, 5109.0,    509.1,   9.6418,  34.7324,2,  34.7337,2,    253.5,2,  9.5833,    251.2,2,     5.33,2,    14.82,2,     0.01,2,     1.09,2,    3.252,2,    1.644,2,    0.605,2,   1.7810,2,    -0.80,2,   -999.0,9,  -999.00,9,   7.576,2,   2106.5,2,   2315.9,3,  -999.0,    0.14,  0.0030,   0.032,   0.010
     316N145_5,  I08S,    25,  1,     16, SIH022,2,19941212,1120,-41.0112,  94.9888, 3460, 6109.8,    609.7,   9.1294,  34.6601,2,  34.6610,2,    236.3,2,  9.0614,    238.3,2,     6.61,2,    17.26,2,     0.01,2,     1.24,2,    2.864,2,    1.437,2,    0.585,2,   1.7620,2,    -0.15,2,   -999.0,9,  -999.00,9,   7.481,2,   2117.5,2,   2290.1,2,  -999.0,    0.13,  0.0030,   0.050,   0.009
     316N145_5,  I08S,    25,  1,     15, SIH021,2,19941212,1120,-41.0112,  94.9888, 3460, 7092.5,    708.5,   8.2049,  34.5609,2,  34.5616,2,    221.8,2,  8.1302,    219.4,2,    10.29,2,    21.23,2,     0.00,2,     1.48,2,    2.147,2,    1.102,2,    0.364,2,   1.7760,2,     0.92,2,   -999.0,9,  -999.00,9,   7.592,2,   2135.6,2,   2285.4,2,  -999.0,    0.14,  0.0030,   0.043,   0.007
     316N145_5,  I08S,    25,  1,     14, SIH002,2,19941212,1120,-41.0112,  94.9888, 3460, 8098.7,    809.7,   6.9937,  34.4635,2,  34.4640,2,    212.9,2,  6.9152,    214.3,2,    17.51,2,    24.60,2,     0.00,2,     1.70,2, -999.000,9, -999.000,9,    0.224,2,   1.7860,2,     1.13,2,   -999.0,9,  -999.00,9,   7.667,2,   2152.3,2,   2287.0,2,  -999.0,    0.13,  0.0030,   0.044,   0.006
     316N145_5,  I08S,    25,  1,     13, SIH018,2,19941212,1120,-41.0112,  94.9888, 3460,10055.2,   1006.5,   4.9305,  34.3470,2,  34.3476,2,    213.1,2,  4.8473,    213.7,2,    26.49,2,    29.37,2,     0.00,2,     2.01,2,    1.597,2,    0.775,2,    0.159,2,   1.7990,2,     2.13,2,   -999.0,9,  -999.00,9,   7.793,2,   2177.2,2,   2314.9,2,  -999.0,    0.14,  0.0030,   0.045,   0.005
     316N145_5,  I08S,    25,  1,     12, SIH016,2,19941212,1120,-41.0112,  94.9888, 3460,12337.8,   1236.1,   3.6072,  34.3613,2,  34.3607,2,    202.1,2,  3.5155,    201.9,2,    42.38,2,    32.47,2,     0.00,2,     2.23,2,    1.052,2,    0.523,2,    0.000,5,   1.8180,2,     3.86,2,   -999.0,9,  -999.00,9,   7.884,2,   2205.5,2,   2306.4,2,  -999.0,    0.12,  0.0040,   0.050,   0.000
     316N145_5,  I08S,    25,  1,     11, SIH015,2,19941212,1120,-41.0112,  94.9888, 3460,14333.9,   1436.9,   3.1001,  34.4518,2,  34.4538,2,    183.6,2,  2.9967,    180.6,2,    58.59,2,    34.21,2,     0.00,2,     2.36,2,    0.413,2,    0.203,2,    0.171,4,-999.0000,5,  -999.00,9,   -999.0,9,  -999.00,9,-999.000,9,   2231.8,6,   2336.7,2,  -999.0, -999.00,-999.0000,-999.000,   0.005
     316N145_5,  I08S,    25,  1,     10, SIH013,2,19941212,1120,-41.0112,  94.9888, 3460,16219.1,   1626.5,   2.8105,  34.5363,2,  34.5370,2,    173.7,2,  2.6944,    173.0,2,    68.04,2,    34.32,2,     0.00,2,     2.36,2,    0.227,2,    0.116,2,    0.085,2,   1.8350,2,     7.95,2,   -999.0,9,  -999.00,9,   7.953,2,   2243.7,2,   2329.3,2,  -999.0,    0.12,  0.0030,   0.037,   0.005
     316N145_5,  I08S,    25,  1,      9, SIH012,2,19941212,1120,-41.0112,  94.9888, 3460,18340.4,   1839.9,   2.6189,  34.6177,2,  34.6185,2,    171.8,2,  2.4871,    172.1,2,    74.77,2,    33.68,2,     0.00,2,     2.31,2,    0.110,2,    0.060,2,    0.038,2,   1.8760,2,     8.89,2,   -999.0,9,  -999.00,9,   8.093,2,   2248.1,2,   2349.1,2,  -999.0,    0.14,  0.0030,   0.026,   0.004
     316N145_5,  I08S,    25,  1,      8, SIH010,2,19941212,1120,-41.0112,  94.9888, 3460,20418.5,   2048.9,   2.4747,  34.6790,2,  34.6816,2,    177.0,2,  2.3266,    177.5,2,    78.12,2,    32.62,2,     0.00,2,     2.23,2, -999.000,9, -999.000,9,    0.067,2,   1.8530,2,     9.48,2,   -999.0,9,  -999.00,9,   8.003,2,   2247.4,2,   2343.4,2,  -999.0,    0.12,  0.0030,   0.045,   0.005
     316N145_5,  I08S,    25,  1,      7, SIH009,2,19941212,1120,-41.0112,  94.9888, 3460,22535.5,   2261.8,   2.3243,  34.7208,2,  34.7207,2,    183.2,2,  2.1595,    183.2,2,    81.79,2,    31.77,2,     0.00,2,     2.18,2,    0.030,2,    0.022,2,    0.027,2,   1.8870,2,     9.79,2,   -999.0,9,  -999.00,9,   8.154,2,   2246.3,2,   2356.5,2,  -999.0,    0.14,  0.0030,   0.028,   0.005
     316N145_5,  I08S,    25,  1,      6, SIH038,2,19941212,1120,-41.0112,  94.9888, 3460,24243.7,   2433.7,   2.1852,  34.7393,2,  34.7408,2,    187.8,2,  2.0072,    188.5,2,    84.82,2,    31.24,2,     0.00,2,     2.14,2,   -0.001,3,    0.008,3,    0.106,4,   1.8720,2,     9.99,2,   -999.0,9,  -999.00,9,   8.099,2,   2245.4,2,   2351.4,2,  -999.0,    0.12,  0.0030,   0.036,   0.005
     316N145_5,  I08S,    25,  1,      5, SIH006,2,19941212,1120,-41.0112,  94.9888, 3460,27064.0,   2717.4,   1.9509,  34.7506,2,  34.7520,2,    196.3,2,  1.7509,    196.6,2,    89.61,2,    30.82,2,     0.00,2,     2.10,2,    0.019,2,    0.018,2,    0.035,2,   1.8990,2,    10.08,2,   -999.0,9,  -999.00,9,   8.189,2,   2244.5,2,   2361.8,2,  -999.0,    0.14,  0.0030,   0.033,   0.007
     316N145_5,  I08S,    25,  1,      4, SIH004,2,19941212,1120,-41.0112,  94.9888, 3460,30196.0,   3032.4,   1.5611,  34.7402,2,  34.7400,2,    200.6,2,  1.3395,    200.1,2,   101.95,2,    31.58,2,     0.00,2,     2.14,2,    0.022,2,    0.022,2,    0.003,4,   1.8990,2,    10.72,2,   -999.0,9,  -999.00,9,   8.225,2,   2249.0,2,   2359.0,2,  -999.0,    0.12,  0.0030,   0.044,   0.004
     316N145_5,  I08S,    25,  1,      3, SIH025,2,19941212,1120,-41.0112,  94.9888, 3460,32434.2,   3257.5,   1.3360,  34.7319,2,  34.7309,2,    202.6,2,  1.0978,    202.5,2,   109.79,2,    31.38,2,     0.00,2,     2.18,2,    0.022,2,    0.015,2,    0.067,4,   1.9530,2,    10.61,2,   -999.0,9,  -999.00,9,   8.394,2,   2252.0,2,   2373.6,2,  -999.0,    0.14,  0.0030,   0.024,   0.007
     316N145_5,  I08S,    25,  1,      2, SIH001,2,19941212,1120,-41.0112,  94.9888, 3460,34674.5,   3482.9,   1.2555,  34.7261,2,  34.7256,2,    202.4,2,  0.9970,    203.1,2,   112.82,2,    31.61,2,     0.00,2,     2.19,2,    0.022,2,    0.021,2,    0.010,4,   1.8760,3,    10.65,2,   -999.0,9,  -999.00,9,   8.130,3,   2256.3,2,   2366.4,2,  -999.0,    0.12,  0.0030,   0.056,   0.004
     316N145_5,  I08S,    25,  1,      1, SIH036,2,19941212,1120,-41.0112,  94.9888, 3460,35235.3,   3539.3,   1.2589,  34.7273,2,  34.7270,2,    203.2,2,  0.9946,    203.6,2,   112.82,2,    31.66,2,     0.00,2,     2.19,2,    0.028,2,    0.012,2,    0.083,4,   1.9690,2,    10.63,2,   -999.0,9,  -999.00,9,   8.412,2,   2255.9,6,   2370.5,2,  -999.0,    0.14,  0.0020,   0.036,   0.005
     316N145_5,  I08S,    26,  1,     24, SIH037,2,19941212,1715,-41.5055,  94.9888, 3390,  159.7,     11.4,  12.2060,  34.9416,2,  34.9398,2,    276.4,2, 12.2045,    269.2,2,     1.94,2,     6.97,2,     0.18,2,     0.63,2, -999.000,9, -999.000,9, -999.000,5,-999.0000,5,  -999.00,9,   -999.0,9,  -999.00,9,-999.000,9,   -999.0,9,   -999.0,9,  -999.0, -999.00,-999.0000,-999.000,-999.000
     316N145_5,  I08S,    26,  1,     23, SIH033,2,19941212,1715,-41.5055,  94.9888, 3390,  360.4,     31.6,  12.2077,  34.9415,2,  34.9416,2,    272.4,2, 12.2035,    269.2,2,     1.94,2,     6.98,2,     0.18,2,     0.63,2, -999.000,9, -999.000,9, -999.000,5,-999.0000,5,  -999.00,9,   -999.0,9,  -999.00,9,-999.000,9,   -999.0,9,   -999.0,9,  -999.0, -999.00,-999.0000,-999.000,-999.000
     316N145_5,  I08S,    26,  1,     22, SIH031,2,19941212,1715,-41.5055,  94.9888, 3390,  614.1,     57.1,  12.1783,  34.9406,2,  34.9410,2,    269.6,2, 12.1709,    269.1,2,     1.93,2,     7.10,2,     0.18,2,     0.64,2, -999.000,9, -999.000,9, -999.000,5,-999.0000,5,  -999.00,9,   -999.0,9,  -999.00,9,-999.000,9,   -999.0,9,   -999.0,9,  -999.0, -999.00,-999.0000,-999.000,-999.000
     316N145_5,  I08S,    26,  1,     21, SIH030,2,19941212,1715,-41.5055,  94.9888, 3390, 1101.8,    106.1,  11.6767,  34.9373,2,  34.9357,2,    265.3,2, 11.6632,    266.5,2,     2.74,2,     8.09,2,     0.25,2,     0.72,2, -999.000,9, -999.000,9, -999.000,5,-999.0000,5,  -999.00,9,   -999.0,9,  -999.00,9,-999.000,9,   -999.0,9,   -999.0,9,  -999.0, -999.00,-999.0000,-999.000,-999.000
     316N145_5,  I08S,    26,  1,     20, SIH028,2,19941212,1715,-41.5055,  94.9888, 3390, 2114.6,    208.0,  10.7680,  34.9150,2,  34.9140,2,    261.5,2, 10.7427,    263.8,2,     3.70,2,    10.78,2,     0.12,2,     0.85,2, -999.000,9, -999.000,9, -999.000,5,-999.0000,5,  -999.00,9,   -999.0,9,  -999.00,9,-999.000,9,   -999.0,9,   -999.0,9,  -999.0, -999.00,-999.0000,-999.000,-999.000
     316N145_5,  I08S,    26,  1,     19, SIH027,2,19941212,1715,-41.5055,  94.9888, 3390, 3106.0,    307.7,  10.5394,  34.8840,2,  34.8827,2,    257.5,2, 10.5024,    262.3,2,     4.02,2,    11.58,2,     0.01,2,     0.90,2, -999.000,9, -999.000,9, -999.000,5,-999.0000,5,  -999.00,9,   -999.0,9,  -999.00,9,-999.000,9,   -999.0,9,   -999.0,9,  -999.0, -999.00,-999.0000,-999.000,-999.000
     316N145_5,  I08S,    26,  1,     18, SIH003,2,19941212,1715,-41.5055,  94.9888, 3390, 4113.5,    409.0,  10.2927,  34.8458,2,  34.8456,2,    259.9,2, 10.2439,    258.8,2,     4.17,2,    12.37,2,     0.01,2,     0.95,2, -999.000,9, -999.000,9, -999.000,5,-999.0000,5,  -999.00,9,   -999.0,9,  -999.00,9,-999.000,9,   -999.0,9,   -999.0,9,  -999.0, -999.00,-999.0000,-999.000,-999.000
     316N145_5,  I08S,    26,  1,     17, SIH024,2,19941212,1715,-41.5055,  94.9888, 3390, 5107.2,    508.9,  10.0345,  34.8012,2,  34.8001,2,    253.9,2,  9.9745,    254.9,2,     4.50,2,    13.33,2,     0.01,2,     1.01,2, -999.000,9, -999.000,9, -999.000,5,-999.0000,5,  -999.00,9,   -999.0,9,  -999.00,9,-999.000,9,   -999.0,9,   -999.0,9,  -999.0, -999.00,-999.0000,-999.000,-999.000
     316N145_5,  I08S,    26,  1,     16, SIH022,2,19941212,1715,-41.5055,  94.9888, 3390, 6106.0,    609.3,   9.5055,  34.7143,2,  34.7134,2,    244.4,2,  9.4358,    242.5,2,     5.78,2,    16.00,2,     0.01,2,     1.16,2, -999.000,9, -999.000,9, -999.000,5,-999.0000,5,  -999.00,9,   -999.0,9,  -999.00,9,-999.000,9,   -999.0,9,   -999.0,9,  -999.0, -999.00,-999.0000,-999.000,-999.000
     316N145_5,  I08S,    26,  1,     15, SIH021,2,19941212,1715,-41.5055,  94.9888, 3390, 7091.4,    708.4,   8.7502,  34.6199,2,  34.6207,2,    226.5,2,  8.6727,    227.7,2,     8.03,2,    19.26,2,     0.00,2,     1.36,2, -999.000,9, -999.000,9, -999.000,5,-999.0000,5,  -999.00,9,   -999.0,9,  -999.00,9,-999.000,9,   -999.0,9,   -999.0,9,  -999.0, -999.00,-999.0000,-999.000,-999.000
     316N145_5,  I08S,    26,  1,     14, SIH002,2,19941212,1715,-41.5055,  94.9888, 3390, 8052.9,    805.1,   7.8191,  34.5348,2,  34.5331,2,    211.6,2,  7.7361,    211.5,2,    12.55,2,    22.97,2,     0.00,2,     1.58,2, -999.000,9, -999.000,9, -999.000,5,-999.0000,5,  -999.00,9,   -999.0,9,  -999.00,9,-999.000,9,   -999.0,9,   -999.0,9,  -999.0, -999.00,-999.0000,-999.000,-999.000
     316N145_5,  I08S,    26,  1,     13, SIH018,2,19941212,1715,-41.5055,  94.9888, 3390,10088.1,   1009.8,   5.4090,  34.3720,2,  34.4322,4,    209.4,2,  5.3218,    208.5,3,    19.82,2,    26.70,2,     0.00,2,     1.83,2, -999.000,9, -999.000,9, -999.000,5,-999.0000,5,  -999.00,9,   -999.0,9,  -999.00,9,-999.000,9,   -999.0,9,   -999.0,9,  -999.0, -999.00,-999.0000,-999.000,-999.000
     316N145_5,  I08S,    26,  1,     12, SIH016,2,19941212,1715,-41.5055,  94.9888, 3390,12109.1,   1213.1,   3.8795,  34.3503,2,  34.3499,2,    204.6,2,  3.7872,    204.6,2,    38.54,2,    32.04,2,     0.00,2,     2.20,2, -999.000,9, -999.000,9, -999.000,5,-999.0000,5,  -999.00,9,   -999.0,9,  -999.00,9,-999.000,9,   -999.0,9,   -999.0,9,  -999.0, -999.00,-999.0000,-999.000,-999.000
     316N145_5,  I08S,    26,  1,     11, SIH015,2,19941212,1715,-41.5055,  94.9888, 3390,14115.8,   1414.9,   3.2380,  34.4284,2,  34.4283,2,    183.3,2,  3.1350,    183.4,2,    55.33,2,    34.15,2,     0.00,2,     2.35,2, -999.000,9, -999.000,9, -999.000,5,-999.0000,5,  -999.00,9,   -999.0,9,  -999.00,9,-999.000,9,   -999.0,9,   -999.0,9,  -999.0, -999.00,-999.0000,-999.000,-999.000
     316N145_5,  I08S,    26,  1,     10, SIH013,2,19941212,1715,-41.5055,  94.9888, 3390,16132.4,   1617.8,   2.8512,  34.5134,2,  34.5140,2,    175.5,2,  2.7354,    175.1,2,    65.50,2,    34.54,2,     0.00,2,     2.37,2, -999.000,9, -999.000,9, -999.000,5,-999.0000,5,  -999.00,9,   -999.0,9,  -999.00,9,-999.000,9,   -999.0,9,   -999.0,9,  -999.0, -999.00,-999.0000,-999.000,-999.000
     316N145_5,  I08S,    26,  1,      9, SIH012,2,19941212,1715,-41.5055,  94.9888, 3390,18150.2,   1820.7,   2.6470,  34.6066,2,  34.6077,2,    171.3,2,  2.5164,    171.5,2,    73.90,2,    34.05,2,     0.00,2,     2.33,2, -999.000,9, -999.000,9, -999.000,5,-999.0000,5,  -999.00,9,   -999.0,9,  -999.00,9,-999.000,9,   -999.0,9,   -999.0,9,  -999.0, -999.00,-999.0000,-999.000,-999.000
     316N145_5,  I08S,    26,  1,      8, SIH010,2,19941212,1715,-41.5055,  94.9888, 3390,20142.8,   2021.2,   2.5243,  34.6707,2,  34.6895,2,    170.5,2,  2.3779,    170.8,2,    82.13,2,    33.50,2,     0.00,2,     2.30,2, -999.000,9, -999.000,9, -999.000,5,-999.0000,5,  -999.00,9,   -999.0,9,  -999.00,9,-999.000,9,   -999.0,9,   -999.0,9,  -999.0, -999.00,-999.0000,-999.000,-999.000
     316N145_5,  I08S,    26,  1,      7, SIH009,2,19941212,1715,-41.5055,  94.9888, 3390,22184.7,   2226.6,   2.3743,  34.7112,2,  34.7235,2,    180.9,2,  2.2119,    189.8,4,    86.81,2,    31.85,2,     0.00,2,     2.18,2, -999.000,9, -999.000,9, -999.000,5,-999.0000,5,  -999.00,9,   -999.0,9,  -999.00,9,-999.000,9,   -999.0,9,   -999.0,9,  -999.0, -999.00,-999.0000,-999.000,-999.000
     316N145_5,  I08S,    26,  1,      6, SIH038,2,19941212,1715,-41.5055,  94.9888, 3390,24183.3,   2427.6,   2.2190,  34.7381,2,  34.7384,2,    188.4,2,  2.0410,    188.5,2,    83.63,2,    31.23,2,     0.00,2,     2.13,2, -999.000,9, -999.000,9, -999.000,5,-999.0000,5,  -999.00,9,   -999.0,9,  -999.00,9,-999.000,9,   -999.0,9,   -999.0,9,  -999.0, -999.00,-999.0000,-999.000,-999.000
     316N145_5,  I08S,    26,  1,      5, SIH006,2,19941212,1715,-41.5055,  94.9888, 3390,27220.6,   2733.1,   1.9416,  34.7516,2,  34.7512,2,    195.5,2,  1.7404,    196.3,2,    89.89,2,    30.81,2,     0.00,2,     2.11,2, -999.000,9, -999.000,9, -999.000,5,-999.0000,5,  -999.00,9,   -999.0,9,  -999.00,9,-999.000,9,   -999.0,9,   -999.0,9,  -999.0, -999.00,-999.0000,-999.000,-999.000
     316N145_5,  I08S,    26,  1,      4, SIH004,2,19941212,1715,-41.5055,  94.9888, 3390,29225.2,   2934.8,   1.7135,  34.7461,2,  34.7451,2,    198.4,2,  1.4979,    198.7,2,    97.65,2,    31.04,2,     0.00,2,     2.13,2, -999.000,9, -999.000,9, -999.000,5,-999.0000,5,  -999.00,9,   -999.0,9,  -999.00,9,-999.000,9,   -999.0,9,   -999.0,9,  -999.0, -999.00,-999.0000,-999.000,-999.000
     316N145_5,  I08S,    26,  1,      3, SIH025,2,19941212,1715,-41.5055,  94.9888, 3390,31206.5,   3134.1,   1.4952,  34.7376,2,  34.7366,2,    200.7,2,  1.2653,    201.2,2,   105.24,2,    31.33,2,     0.00,2,     2.16,2, -999.000,9, -999.000,9, -999.000,5,-999.0000,5,  -999.00,9,   -999.0,9,  -999.00,9,-999.000,9,   -999.0,9,   -999.0,9,  -999.0, -999.00,-999.0000,-999.000,-999.000
     316N145_5,  I08S,    26,  1,      2, SIH001,2,19941212,1715,-41.5055,  94.9888, 3390,33506.0,   3365.4,   1.2977,  34.7287,2,  34.7268,2,    202.8,2,  1.0498,    202.9,2,   111.87,2,    31.36,2,     0.00,2,     2.19,2, -999.000,9, -999.000,9, -999.000,5,-999.0000,5,  -999.00,9,   -999.0,9,  -999.00,9,-999.000,9,   -999.0,9,   -999.0,9,  -999.0, -999.00,-999.0000,-999.000,-999.000
     316N145_5,  I08S,    26,  1,      1, SIH036,2,19941212,1715,-41.5055,  94.9888, 3390,34110.2,   3426.2,   1.2827,  34.7277,2,  34.7268,2,    201.8,2,  1.0292,    202.9,2,   112.54,2,    31.75,2,     0.01,2,     2.19,2, -999.000,9, -999.000,9, -999.000,5,-999.0000,5,  -999.00,9,   -999.0,9,  -999.00,9,-999.000,9,   -999.0,9,   -999.0,9,  -999.0, -999.00,-999.0000,-999.000,-999.000