BOTTLE,20090521WHPSIOdm
EXPOCODE,SECT_ID,STNNBR,CASTNO,SAMPNO,BTLNBR,BTLNBR_FLAG_W,DATE,TIME,LATITUDE,LONGITUDE,DEPTH,CTDRAW,CTDPRS,CTDTMP,CTDSAL,CTDSAL_FLAG_W,SALNTY,SALNTY_FLAG_W,CTDOXY,CTDOXY_FLAG_W,THETA,OXYGEN,OXYGEN_FLAG_W,SILCAT,SILCAT_FLAG_W,NITRAT,NITRAT_FLAG_W,NITRIT,NITRIT_FLAG_W,PHSPHT,PHSPHT_FLAG_W,CFC-11,CFC-11_FLAG_W,CFC-12,CFC-12_FLAG_W,TRITUM,TRITUM_FLAG_W,HELIUM,HELIUM_FLAG_W,DELHE3,DELHE3_FLAG_W,DELC14,DELC14_FLAG_W,DELC13,DELC13_FLAG_W,NEON,NEON_FLAG_W,TCARBN,TCARBN_FLAG_W,ALKALI,ALKALI_FLAG_W,C14ERR,DELHER,HELIER,NEONER,TRITER
,,,,,,,,,,,,,DBAR,IPTS-68,PSS-78,,PSS-78,,UMOL/KG,,IPTS-68,UMOL/KG,,UMOL/KG,,UMOL/KG,,UMOL/KG,,UMOL/KG,,PMOL/KG,,PMOL/KG,,TU,,NMOL/KG,,PERCNT,,/MILLE,,/MILLE,,NMOL/KG,,UMOL/KG,,UMOL/KG,,/MILLE,PERCNT,NMOL/KG,NMOL/KG,TU
     316N145_5,  I08S,    57,  1,     36, SIH035,2,19941221,2146,-53.9417,  86.5583, 4765,  161.4,     11.0,   2.6197,  33.9526,2,  33.9518,2,    346.2,2,  2.6191,    328.8,2,     6.04,2,    23.24,2,     0.19,2,     1.57,2,    5.745,2,    2.776,2, -999.000,5,-999.0000,5,  -999.00,9,   -999.0,9,  -999.00,9,-999.000,9,   -999.0,9,   -999.0,9,  -999.0, -999.00,-999.0000,-999.000,-999.000
     316N145_5,  I08S,    57,  1,     35, SIH032,2,19941221,2146,-53.9417,  86.5583, 4765,  360.6,     31.0,   2.6029,  33.9546,2,  33.9563,2,    336.1,2,  2.6012,    328.2,2,     6.22,2,    23.29,2,     0.19,2,     1.57,2,    5.773,2,    2.777,2, -999.000,5,-999.0000,5,  -999.00,9,   -999.0,9,  -999.00,9,-999.000,9,   -999.0,9,   -999.0,9,  -999.0, -999.00,-999.0000,-999.000,-999.000
     316N145_5,  I08S,    57,  1,     34, SIH029,2,19941221,2146,-53.9417,  86.5583, 4765,  611.4,     56.2,   2.5637,  33.9568,2,  33.9598,2,    333.6,2,  2.5605,    328.1,2,     6.74,2,    23.34,2,     0.19,2,     1.58,2,    5.705,2,    2.777,2, -999.000,5,-999.0000,5,  -999.00,9,   -999.0,9,  -999.00,9,-999.000,9,   -999.0,9,   -999.0,9,  -999.0, -999.00,-999.0000,-999.000,-999.000
     316N145_5,  I08S,    57,  1,     33, SIH026,2,19941221,2146,-53.9417,  86.5583, 4765,  840.3,     79.3,   2.4060,  33.9589,2,  33.9604,2,    330.7,2,  2.4016,    329.9,2,     8.24,2,    23.60,2,     0.19,2,     1.60,2,    5.849,2,    2.775,2, -999.000,5,-999.0000,5,  -999.00,9,   -999.0,9,  -999.00,9,-999.000,9,   -999.0,9,   -999.0,9,  -999.0, -999.00,-999.0000,-999.000,-999.000
     316N145_5,  I08S,    57,  1,     32, SIH023,2,19941221,2146,-53.9417,  86.5583, 4765, 1093.9,    104.8,   2.2283,  33.9865,2,  33.9894,2,    326.8,2,  2.2227,    323.1,2,    12.40,2,    24.68,2,     0.18,2,     1.71,2,    6.497,2,    3.119,2, -999.000,5,-999.0000,5,  -999.00,9,   -999.0,9,  -999.00,9,-999.000,9,   -999.0,9,   -999.0,9,  -999.0, -999.00,-999.0000,-999.000,-999.000
     316N145_5,  I08S,    57,  1,     31, SIH020,2,19941221,2146,-53.9417,  86.5583, 4765, 1621.0,    157.8,   1.7139,  34.0430,2,  34.0445,2,    304.8,2,  1.7061,    305.8,2,    25.68,2,    27.84,2,     0.15,2,     1.95,2,    5.272,2,    2.537,2, -999.000,5,-999.0000,5,  -999.00,9,   -999.0,9,  -999.00,9,-999.000,9,   -999.0,9,   -999.0,9,  -999.0, -999.00,-999.0000,-999.000,-999.000
     316N145_5,  I08S,    57,  1,     30, SIH017,2,19941221,2146,-53.9417,  86.5583, 4765, 2117.5,    207.7,   1.8037,  34.0986,2,  34.0997,2,    277.5,2,  1.7931,    278.8,2,    32.33,2,    30.21,2,     0.12,2,     2.09,2,    4.780,2,    2.297,2, -999.000,5,-999.0000,5,  -999.00,9,   -999.0,9,  -999.00,9,-999.000,9,   -999.0,9,   -999.0,9,  -999.0, -999.00,-999.0000,-999.000,-999.000
     316N145_5,  I08S,    57,  1,     29, SIH014,9,19941221,2146,-53.9417,  86.5583, 4765, 2608.6,    257.1,   1.7736,  34.1563,3,-999.0000,9,    261.2,3,  1.7604,   -999.0,9,  -999.00,9,  -999.00,9,  -999.00,9,  -999.00,9, -999.000,9, -999.000,9, -999.000,5,-999.0000,5,  -999.00,9,   -999.0,9,  -999.00,9,-999.000,9,   -999.0,9,   -999.0,9,  -999.0, -999.00,-999.0000,-999.000,-999.000
     316N145_5,  I08S,    57,  1,     28, SIH011,2,19941221,2146,-53.9417,  86.5583, 4765, 3114.7,    308.0,   1.7615,  34.1988,2,  34.2020,2,    261.1,2,  1.7456,    251.8,2,    42.79,2,    32.01,2,     0.06,2,     2.20,2,    3.392,2,    1.643,2, -999.000,5,-999.0000,5,  -999.00,9,   -999.0,9,  -999.00,9,-999.000,9,   -999.0,9,   -999.0,9,  -999.0, -999.00,-999.0000,-999.000,-999.000
     316N145_5,  I08S,    57,  1,     27, SIH008,2,19941221,2146,-53.9417,  86.5583, 4765, 3757.8,    372.7,   1.9032,  34.2727,2,  34.2823,2,    234.5,2,  1.8832,    228.5,2,    49.77,2,    33.21,2,     0.03,2,     2.28,2, -999.000,9, -999.000,9, -999.000,5,-999.0000,5,  -999.00,9,   -999.0,9,  -999.00,9,-999.000,9,   -999.0,9,   -999.0,9,  -999.0, -999.00,-999.0000,-999.000,-999.000
     316N145_5,  I08S,    57,  1,     26, SIH005,2,19941221,2146,-53.9417,  86.5583, 4765, 4036.4,    400.7,   1.5294,  34.2654,2,  34.2664,2,    218.7,2,  1.5090,    240.0,2,    52.10,2,    33.11,2,     0.08,2,     2.28,2,    3.001,2,    1.440,2, -999.000,5,-999.0000,5,  -999.00,9,   -999.0,9,  -999.00,9,-999.000,9,   -999.0,9,   -999.0,9,  -999.0, -999.00,-999.0000,-999.000,-999.000
     316N145_5,  I08S,    57,  1,     25, SIH019,2,19941221,2146,-53.9417,  86.5583, 4765, 4324.3,    429.7,   2.1823,  34.3922,2,  34.3923,2,    198.0,2,  2.1579,    201.2,2,    59.24,2,    34.20,2,     0.02,2,     2.35,2, -999.000,9, -999.000,9, -999.000,5,-999.0000,5,  -999.00,9,   -999.0,9,  -999.00,9,-999.000,9,   -999.0,9,   -999.0,9,  -999.0, -999.00,-999.0000,-999.000,-999.000
     316N145_5,  I08S,    57,  1,     24, SIH037,2,19941221,2146,-53.9417,  86.5583, 4765, 5053.3,    503.0,   2.0468,  34.4463,2,  34.4475,2,    190.8,2,  2.0185,    194.2,2,    65.39,2,    34.45,2,     0.02,2,     2.36,2,    1.477,2,    0.704,2, -999.000,5,-999.0000,5,  -999.00,9,   -999.0,9,  -999.00,9,-999.000,9,   -999.0,9,   -999.0,9,  -999.0, -999.00,-999.0000,-999.000,-999.000
     316N145_5,  I08S,    57,  1,     23, SIH033,2,19941221,2146,-53.9417,  86.5583, 4765, 6045.2,    602.8,   2.1070,  34.5336,2,  34.5337,2,    183.0,2,  2.0723,    183.5,2,    71.37,2,    34.25,2,     0.01,2,     2.35,2,    0.868,2,    0.412,2, -999.000,5,-999.0000,5,  -999.00,9,   -999.0,9,  -999.00,9,-999.000,9,   -999.0,9,   -999.0,9,  -999.0, -999.00,-999.0000,-999.000,-999.000
     316N145_5,  I08S,    57,  1,     22, SIH031,2,19941221,2146,-53.9417,  86.5583, 4765, 7139.1,    712.8,   2.1629,  34.6166,2,  34.6158,2,    181.5,2,  2.1207,    178.9,2,    76.02,2,    33.49,2,     0.00,2,     2.29,2,    0.457,2,    0.218,2, -999.000,5,-999.0000,5,  -999.00,9,   -999.0,9,  -999.00,9,-999.000,9,   -999.0,9,   -999.0,9,  -999.0, -999.00,-999.0000,-999.000,-999.000
     316N145_5,  I08S,    57,  1,     21, SIH030,2,19941221,2146,-53.9417,  86.5583, 4765, 8095.2,    809.0,   2.1857,  34.6549,2,  34.6537,2,    179.0,2,  2.1370,    179.0,2,    77.52,2,    32.87,2,     0.00,2,     2.25,2, -999.000,9, -999.000,9, -999.000,5,-999.0000,5,  -999.00,9,   -999.0,9,  -999.00,9,-999.000,9,   -999.0,9,   -999.0,9,  -999.0, -999.00,-999.0000,-999.000,-999.000
     316N145_5,  I08S,    57,  1,     20, SIH028,2,19941221,2146,-53.9417,  86.5583, 4765, 9071.7,    907.2,   2.1367,  34.6837,2,  34.6842,2,    182.2,2,  2.0817,    182.0,2,    79.03,2,    32.25,2,     0.00,2,     2.20,2,    0.237,2,    0.113,2, -999.000,5,-999.0000,5,  -999.00,9,   -999.0,9,  -999.00,9,-999.000,9,   -999.0,9,   -999.0,9,  -999.0, -999.00,-999.0000,-999.000,-999.000
     316N145_5,  I08S,    57,  1,     19, SIH027,2,19941221,2146,-53.9417,  86.5583, 4765, 9954.0,    996.0,   2.0822,  34.7005,2,  34.7003,2,    185.4,2,  2.0214,    184.3,2,    80.04,2,    31.84,2,     0.00,2,     2.18,2, -999.000,9, -999.000,9, -999.000,5,-999.0000,5,  -999.00,9,   -999.0,9,  -999.00,9,-999.000,9,   -999.0,9,   -999.0,9,  -999.0, -999.00,-999.0000,-999.000,-999.000
     316N145_5,  I08S,    57,  1,     18, SIH003,2,19941221,2146,-53.9417,  86.5583, 4765,10999.5,   1101.1,   2.0287,  34.7171,2,  34.7176,2,    187.2,2,  1.9611,    187.8,2,    81.38,2,    31.34,2,     0.00,2,     2.15,2,    0.194,2,    0.091,2, -999.000,5,-999.0000,5,  -999.00,9,   -999.0,9,  -999.00,9,-999.000,9,   -999.0,9,   -999.0,9,  -999.0, -999.00,-999.0000,-999.000,-999.000
     316N145_5,  I08S,    57,  1,     17, SIH024,2,19941221,2146,-53.9417,  86.5583, 4765,12078.2,   1209.6,   1.9513,  34.7335,2,  34.7335,2,    190.2,2,  1.8766,    191.9,2,    83.38,2,    30.87,2,     0.00,2,     2.11,2, -999.000,9, -999.000,9, -999.000,5,-999.0000,5,  -999.00,9,   -999.0,9,  -999.00,9,-999.000,9,   -999.0,9,   -999.0,9,  -999.0, -999.00,-999.0000,-999.000,-999.000
     316N145_5,  I08S,    57,  1,     16, SIH022,2,19941221,2146,-53.9417,  86.5583, 4765,14166.8,   1419.7,   1.8473,  34.7416,2,  34.7423,2,    195.8,2,  1.7584,    194.7,2,    86.38,2,    30.61,2,     0.00,2,     2.10,2,    0.137,2,    0.065,2, -999.000,5,-999.0000,5,  -999.00,9,   -999.0,9,  -999.00,9,-999.000,9,   -999.0,9,   -999.0,9,  -999.0, -999.00,-999.0000,-999.000,-999.000
     316N145_5,  I08S,    57,  1,     15, SIH021,2,19941221,2146,-53.9417,  86.5583, 4765,16163.0,   1620.5,   1.6326,  34.7434,2,  34.7443,2,    199.1,2,  1.5312,    199.1,2,    91.86,2,    30.51,2,     0.00,2,     2.10,2, -999.000,9, -999.000,9, -999.000,5,-999.0000,5,  -999.00,9,   -999.0,9,  -999.00,9,-999.000,9,   -999.0,9,   -999.0,9,  -999.0, -999.00,-999.0000,-999.000,-999.000
     316N145_5,  I08S,    57,  1,     14, SIH002,2,19941221,2146,-53.9417,  86.5583, 4765,18171.0,   1822.5,   1.4131,  34.7389,2,  34.7376,2,    202.7,2,  1.2991,    202.4,2,    98.19,2,    30.66,2,     0.00,2,     2.11,2,    0.097,2,    0.045,2, -999.000,5,-999.0000,5,  -999.00,9,   -999.0,9,  -999.00,9,-999.000,9,   -999.0,9,   -999.0,9,  -999.0, -999.00,-999.0000,-999.000,-999.000
     316N145_5,  I08S,    57,  1,     13, SIH018,2,19941221,2146,-53.9417,  86.5583, 4765,20348.4,   2041.5,   1.2810,  34.7334,2,  34.7325,2,    203.2,2,  1.1518,    203.4,2,   102.67,2,    30.91,2,     0.00,2,     2.13,2,    0.092,2,    0.044,2, -999.000,5,-999.0000,5,  -999.00,9,   -999.0,9,  -999.00,9,-999.000,9,   -999.0,9,   -999.0,9,  -999.0, -999.00,-999.0000,-999.000,-999.000
     316N145_5,  I08S,    57,  1,     12, SIH016,2,19941221,2146,-53.9417,  86.5583, 4765,22494.5,   2257.4,   1.1139,  34.7236,2,  34.7252,2,    205.7,2,  0.9702,    205.7,2,   108.50,2,    31.23,2,     0.00,2,     2.15,2, -999.000,9, -999.000,9, -999.000,5,-999.0000,5,  -999.00,9,   -999.0,9,  -999.00,9,-999.000,9,   -999.0,9,   -999.0,9,  -999.0, -999.00,-999.0000,-999.000,-999.000
     316N145_5,  I08S,    57,  1,     11, SIH015,2,19941221,2146,-53.9417,  86.5583, 4765,24139.5,   2422.8,   0.9699,  34.7170,2,  34.7164,2,    207.0,2,  0.8151,    207.2,2,   112.16,2,    31.48,2,     0.00,2,     2.18,2,    0.218,4,    0.173,4, -999.000,5,-999.0000,5,  -999.00,9,   -999.0,9,  -999.00,9,-999.000,9,   -999.0,9,   -999.0,9,  -999.0, -999.00,-999.0000,-999.000,-999.000
     316N145_5,  I08S,    57,  1,     10, SIH013,2,19941221,2146,-53.9417,  86.5583, 4765,27089.4,   2719.6,   0.7316,  34.7033,2,  34.7032,2,    208.9,2,  0.5564,    209.7,2,   118.15,2,    31.99,2,     0.00,2,     2.21,2, -999.000,9, -999.000,9, -999.000,5,-999.0000,5,  -999.00,9,   -999.0,9,  -999.00,9,-999.000,9,   -999.0,9,   -999.0,9,  -999.0, -999.00,-999.0000,-999.000,-999.000
     316N145_5,  I08S,    57,  1,      9, SIH012,2,19941221,2146,-53.9417,  86.5583, 4765,30177.9,   3030.2,   0.5434,  34.6938,2,  34.6928,2,    212.7,2,  0.3450,    213.5,2,   122.80,2,    32.29,2,     0.00,2,     2.23,2,    0.168,2,    0.082,2, -999.000,5,-999.0000,5,  -999.00,9,   -999.0,9,  -999.00,9,-999.000,9,   -999.0,9,   -999.0,9,  -999.0, -999.00,-999.0000,-999.000,-999.000
     316N145_5,  I08S,    57,  1,      8, SIH010,2,19941221,2146,-53.9417,  86.5583, 4765,33346.7,   3349.0,   0.3833,  34.6872,2,  34.6861,2,    217.4,2,  0.1597,    217.3,2,   125.30,2,    32.40,2,     0.00,2,     2.24,2, -999.000,9, -999.000,9, -999.000,5,-999.0000,5,  -999.00,9,   -999.0,9,  -999.00,9,-999.000,9,   -999.0,9,   -999.0,9,  -999.0, -999.00,-999.0000,-999.000,-999.000
     316N145_5,  I08S,    57,  1,      7, SIH009,2,19941221,2146,-53.9417,  86.5583, 4765,36363.8,   3652.5,   0.2955,  34.6842,2,  34.6826,2,    220.2,2,  0.0453,    221.1,2,   126.32,2,    32.39,2,     0.00,2,     2.24,2,    0.343,2,    0.164,2, -999.000,5,-999.0000,5,  -999.00,9,   -999.0,9,  -999.00,9,-999.000,9,   -999.0,9,   -999.0,9,  -999.0, -999.00,-999.0000,-999.000,-999.000
     316N145_5,  I08S,    57,  1,      6, SIH038,2,19941221,2146,-53.9417,  86.5583, 4765,39470.6,   3965.0,   0.1977,  34.6814,2,  34.6781,2,    224.3,2, -0.0806,    224.6,2,   127.49,2,    32.39,2,     0.00,2,     2.24,2, -999.000,9, -999.000,9, -999.000,5,-999.0000,5,  -999.00,9,   -999.0,9,  -999.00,9,-999.000,9,   -999.0,9,   -999.0,9,  -999.0, -999.00,-999.0000,-999.000,-999.000
     316N145_5,  I08S,    57,  1,      5, SIH006,2,19941221,2146,-53.9417,  86.5583, 4765,42698.3,   4289.6,   0.1190,  34.6779,2,  34.6757,2,    228.3,2, -0.1904,    227.8,2,   128.18,2,    32.39,2,     0.00,2,     2.24,2,    0.597,2,    0.283,2, -999.000,5,-999.0000,5,  -999.00,9,   -999.0,9,  -999.00,9,-999.000,9,   -999.0,9,   -999.0,9,  -999.0, -999.00,-999.0000,-999.000,-999.000
     316N145_5,  I08S,    57,  1,      4, SIH004,2,19941221,2146,-53.9417,  86.5583, 4765,44806.6,   4501.7,   0.1100,  34.6765,2,  34.6751,2,    229.3,2, -0.2215,    228.8,2,   128.36,2,    32.39,2,     0.00,2,     2.23,2, -999.000,9, -999.000,9, -999.000,5,-999.0000,5,  -999.00,9,   -999.0,9,  -999.00,9,-999.000,9,   -999.0,9,   -999.0,9,  -999.0, -999.00,-999.0000,-999.000,-999.000
     316N145_5,  I08S,    57,  1,      3, SIH025,2,19941221,2146,-53.9417,  86.5583, 4765,46730.8,   4695.3,   0.0837,  34.6757,2,  34.6734,2,    231.3,2, -0.2680,    230.3,2,   128.71,2,    32.39,2,     0.00,2,     2.24,2,    0.735,2,    0.370,2, -999.000,5,-999.0000,5,  -999.00,9,   -999.0,9,  -999.00,9,-999.000,9,   -999.0,9,   -999.0,9,  -999.0, -999.00,-999.0000,-999.000,-999.000
     316N145_5,  I08S,    57,  1,      2, SIH001,2,19941221,2146,-53.9417,  86.5583, 4765,48063.0,   4829.3,   0.0848,  34.6752,2,  34.6745,2,    230.8,2, -0.2819,    230.8,2,   128.39,2,    32.34,2,     0.00,2,     2.23,2,    0.757,2,    0.361,2, -999.000,5,-999.0000,5,  -999.00,9,   -999.0,9,  -999.00,9,-999.000,9,   -999.0,9,   -999.0,9,  -999.0, -999.00,-999.0000,-999.000,-999.000
     316N145_5,  I08S,    57,  1,      1, SIH036,2,19941221,2146,-53.9417,  86.5583, 4765,48674.7,   4890.8,   0.0782,  34.6745,2,  34.6728,2,    231.8,3, -0.2951,    230.8,2,   128.71,2,    32.38,2,     0.00,2,     2.23,2, -999.000,9, -999.000,9, -999.000,5,-999.0000,5,  -999.00,9,   -999.0,9,  -999.00,9,-999.000,9,   -999.0,9,   -999.0,9,  -999.0, -999.00,-999.0000,-999.000,-999.000