BOTTLE,20090521WHPSIOdm
EXPOCODE,SECT_ID,STNNBR,CASTNO,SAMPNO,BTLNBR,BTLNBR_FLAG_W,DATE,TIME,LATITUDE,LONGITUDE,DEPTH,CTDRAW,CTDPRS,CTDTMP,CTDSAL,CTDSAL_FLAG_W,SALNTY,SALNTY_FLAG_W,CTDOXY,CTDOXY_FLAG_W,THETA,OXYGEN,OXYGEN_FLAG_W,SILCAT,SILCAT_FLAG_W,NITRAT,NITRAT_FLAG_W,NITRIT,NITRIT_FLAG_W,PHSPHT,PHSPHT_FLAG_W,CFC-11,CFC-11_FLAG_W,CFC-12,CFC-12_FLAG_W,TRITUM,TRITUM_FLAG_W,HELIUM,HELIUM_FLAG_W,DELHE3,DELHE3_FLAG_W,DELC14,DELC14_FLAG_W,DELC13,DELC13_FLAG_W,NEON,NEON_FLAG_W,TCARBN,TCARBN_FLAG_W,ALKALI,ALKALI_FLAG_W,C14ERR,DELHER,HELIER,NEONER,TRITER
,,,,,,,,,,,,,DBAR,IPTS-68,PSS-78,,PSS-78,,UMOL/KG,,IPTS-68,UMOL/KG,,UMOL/KG,,UMOL/KG,,UMOL/KG,,UMOL/KG,,PMOL/KG,,PMOL/KG,,TU,,NMOL/KG,,PERCNT,,/MILLE,,/MILLE,,NMOL/KG,,UMOL/KG,,UMOL/KG,,/MILLE,PERCNT,NMOL/KG,NMOL/KG,TU
     316N145_5,  I09S,   101,  1,     36, SIH035,2,19950106,0924,-57.4028, 114.9778, 4575,  226.3,     17.2,   2.6537,  33.8795,2,  33.8833,2,    333.7,2,  2.6528,    327.8,2,    10.57,2,    24.74,2,     0.25,2,     1.67,2,    6.010,2,    2.885,2, -999.000,5,-999.0000,5,  -999.00,9,   -999.0,9,  -999.00,9,-999.000,9,   2131.1,2,   2280.6,6,  -999.0, -999.00,-999.0000,-999.000,-999.000
     316N145_5,  I09S,   101,  1,     24, SIH037,2,19950106,0924,-57.4028, 114.9778, 4575,  383.7,     33.0,   2.6525,  33.8797,2,  33.8831,2,    333.0,2,  2.6507,    328.2,2,    10.42,2,    24.74,2,     0.25,2,     1.67,2,    6.051,2,    2.894,2, -999.000,5,-999.0000,5,  -999.00,9,   -999.0,9,  -999.00,9,-999.000,9,   2131.7,2,   2274.9,2,  -999.0, -999.00,-999.0000,-999.000,-999.000
     316N145_5,  I09S,   101,  1,     23, SIH033,2,19950106,0924,-57.4028, 114.9778, 4575,  628.8,     57.7,   2.6446,  33.8802,2,  33.8833,2,    336.9,2,  2.6413,    327.8,2,    10.56,2,    24.69,2,     0.25,2,     1.67,2,    5.945,2,    2.839,2, -999.000,5,-999.0000,5,  -999.00,9,   -999.0,9,  -999.00,9,-999.000,9,   2132.9,2,   2279.1,2,  -999.0, -999.00,-999.0000,-999.000,-999.000
     316N145_5,  I09S,   101,  1,     35, SIH032,2,19950106,0924,-57.4028, 114.9778, 4575,  873.5,     82.3,   2.6164,  33.8807,2,  33.8842,2,    330.9,2,  2.6118,    327.2,2,    10.72,2,    24.74,2,     0.25,2,     1.68,2,    5.967,2,    2.861,2, -999.000,5,-999.0000,5,  -999.00,9,   -999.0,9,  -999.00,9,-999.000,9,   2134.0,2,   2281.7,2,  -999.0, -999.00,-999.0000,-999.000,-999.000
     316N145_5,  I09S,   101,  1,     22, SIH031,2,19950106,0924,-57.4028, 114.9778, 4575, 1123.0,    107.4,   2.5500,  33.8832,2,  33.8852,2,    333.4,2,  2.5440,    326.6,2,    11.34,2,    24.84,2,     0.25,2,     1.70,2,    6.007,6,    2.859,6, -999.000,5,-999.0000,5,  -999.00,9,   -999.0,9,  -999.00,9,-999.000,9,   2133.4,2,   2277.0,2,  -999.0, -999.00,-999.0000,-999.000,-999.000
     316N145_5,  I09S,   101,  1,     21, SIH030,2,19950106,0924,-57.4028, 114.9778, 4575, 1630.8,    158.5,   1.2083,  33.9614,2,  33.9636,2,    318.0,2,  1.2011,    316.4,2,    25.38,2,    27.94,2,     0.19,2,     1.95,2,    5.843,2,    2.797,2, -999.000,5,-999.0000,5,  -999.00,9,   -999.0,9,  -999.00,9,-999.000,9,   2160.2,2,   2283.0,2,  -999.0, -999.00,-999.0000,-999.000,-999.000
     316N145_5,  I09S,   101,  1,     34, SIH029,2,19950106,0924,-57.4028, 114.9778, 4575, 2131.3,    208.8,   1.8289,  34.1862,2,  34.1862,2,    244.9,2,  1.8181,    248.4,2,    41.44,2,    31.95,2,     0.01,2,     2.20,2,    3.436,2,    1.618,2, -999.000,5,-999.0000,5,  -999.00,9,   -999.0,9,  -999.00,9,-999.000,9,   2198.2,2,   2299.0,2,  -999.0, -999.00,-999.0000,-999.000,-999.000
     316N145_5,  I09S,   101,  1,     20, SIH028,2,19950106,0924,-57.4028, 114.9778, 4575, 2625.4,    258.5,   1.8233,  34.2875,2,  34.2878,2,    220.3,2,  1.8098,    222.5,2,    52.04,2,    33.43,2,     0.01,2,     2.30,2,    2.559,2,    1.194,2, -999.000,5,-999.0000,5,  -999.00,9,   -999.0,9,  -999.00,9,-999.000,9,   2218.5,2,   2301.4,2,  -999.0, -999.00,-999.0000,-999.000,-999.000
     316N145_5,  I09S,   101,  1,     19, SIH027,2,19950106,0924,-57.4028, 114.9778, 4575, 3128.3,    309.1,   2.0046,  34.3667,2,  34.3690,2,    201.6,2,  1.9879,    203.8,2,    58.43,2,    33.99,2,     0.01,2,     2.33,2,    1.816,2,    0.838,2, -999.000,5,-999.0000,5,  -999.00,9,   -999.0,9,  -999.00,9,-999.000,9,   2228.6,2,   2316.4,2,  -999.0, -999.00,-999.0000,-999.000,-999.000
     316N145_5,  I09S,   101,  1,     33, SIH026,2,19950106,0924,-57.4028, 114.9778, 4575, 3623.7,    358.9,   2.1500,  34.4416,2,  34.4469,2,    183.0,2,  2.1300,    188.4,2,    64.35,2,    34.19,2,     0.01,2,     2.35,2,    1.196,2,    0.555,2, -999.000,5,-999.0000,5,  -999.00,9,   -999.0,9,  -999.00,9,-999.000,9,   2239.2,2,   2320.0,2,  -999.0, -999.00,-999.0000,-999.000,-999.000
     316N145_5,  I09S,   101,  1,     18, SIH003,2,19950106,0924,-57.4028, 114.9778, 4575, 4132.5,    410.1,   2.1752,  34.4823,2,  34.4879,2,    177.2,2,  2.1520,    182.6,2,    67.64,2,    34.14,2,     0.01,2,     2.35,2,    0.943,2,    0.445,2, -999.000,5,-999.0000,5,  -999.00,9,   -999.0,9,  -999.00,9,-999.000,9,   2243.7,2,   2317.7,2,  -999.0, -999.00,-999.0000,-999.000,-999.000
     316N145_5,  I09S,   101,  1,     17, SIH024,2,19950106,0924,-57.4028, 114.9778, 4575, 4634.5,    460.6,   2.2524,  34.5346,2,  34.5386,2,    175.0,2,  2.2259,    176.5,2,    70.44,2,    33.89,2,     0.01,2,     2.33,2,    0.661,2,    0.297,2, -999.000,5,-999.0000,5,  -999.00,9,   -999.0,9,  -999.00,9,-999.000,9,   2246.9,2,   2326.5,2,  -999.0, -999.00,-999.0000,-999.000,-999.000
     316N145_5,  I09S,   101,  1,     32, SIH023,2,19950106,0924,-57.4028, 114.9778, 4575, 5127.6,    510.2,   2.2647,  34.5689,2,  34.5716,2,    172.5,2,  2.2349,    175.5,2,    72.16,2,    33.61,2,     0.01,2,     2.31,2,    0.510,2,    0.233,2, -999.000,5,-999.0000,5,  -999.00,9,   -999.0,9,  -999.00,9,-999.000,9,   2250.9,2,   2329.5,2,  -999.0, -999.00,-999.0000,-999.000,-999.000
     316N145_5,  I09S,   101,  1,     16, SIH022,2,19950106,0924,-57.4028, 114.9778, 4575, 6127.5,    610.8,   2.2446,  34.6232,2,  34.6268,2,    171.8,2,  2.2086,    175.6,2,    75.12,2,    32.94,2,     0.01,2,     2.26,2,    0.350,2,    0.158,2, -999.000,5,-999.0000,5,  -999.00,9,   -999.0,9,  -999.00,9,-999.000,9,   2247.5,2,   2325.9,2,  -999.0, -999.00,-999.0000,-999.000,-999.000
     316N145_5,  I09S,   101,  1,     15, SIH021,2,19950106,0924,-57.4028, 114.9778, 4575, 7130.4,    711.7,   2.2207,  34.6583,2,  34.6608,2,    173.8,2,  2.1782,    177.6,2,    76.37,2,    32.27,2,     0.01,2,     2.22,2, -999.000,9, -999.000,9, -999.000,5,-999.0000,5,  -999.00,9,   -999.0,9,  -999.00,9,-999.000,9,   2247.5,2,   -999.0,9,  -999.0, -999.00,-999.0000,-999.000,-999.000
     316N145_5,  I09S,   101,  1,     31, SIH020,2,19950106,0924,-57.4028, 114.9778, 4575, 8121.6,    811.4,   2.1962,  34.6897,2,  34.6914,2,    177.2,2,  2.1472,    181.8,2,    77.62,2,    31.56,2,     0.01,2,     2.17,2, -999.000,9, -999.000,9, -999.000,5,-999.0000,5,  -999.00,9,   -999.0,9,  -999.00,9,-999.000,9,   2233.8,2,   2337.2,2,  -999.0, -999.00,-999.0000,-999.000,-999.000
     316N145_5,  I09S,   101,  1,     14, SIH002,2,19950106,0924,-57.4028, 114.9778, 4575, 9143.6,    914.1,   2.1396,  34.7104,2,  34.6606,4,    182.6,2,  2.0840,    184.7,2,    79.34,2,    31.09,2,     0.00,2,     2.13,2,    0.145,2,    0.079,2, -999.000,5,-999.0000,5,  -999.00,9,   -999.0,9,  -999.00,9,-999.000,9,   2244.8,2,   2341.3,6,  -999.0, -999.00,-999.0000,-999.000,-999.000
     316N145_5,  I09S,   101,  1,     13, SIH018,2,19950106,0924,-57.4028, 114.9778, 4575,10134.1,   1013.8,   2.0576,  34.7235,2,  34.7258,2,    184.4,2,  1.9958,    187.3,2,    80.89,2,    30.76,2,     0.00,2,     2.12,2,    0.134,2,    0.060,2, -999.000,5,-999.0000,5,  -999.00,9,   -999.0,9,  -999.00,9,-999.000,9,   2244.9,2,   2343.5,6,  -999.0, -999.00,-999.0000,-999.000,-999.000
     316N145_5,  I09S,   101,  1,     30, SIH017,2,19950106,0924,-57.4028, 114.9778, 4575,11120.3,   1113.0,   1.9776,  34.7311,2,  34.7337,2,    187.1,2,  1.9095,    190.1,2,    82.76,2,    30.57,2,     0.00,2,     2.10,2,    0.138,2,    0.066,2, -999.000,5,-999.0000,5,  -999.00,9,   -999.0,9,  -999.00,9,-999.000,9,   -999.0,9,   -999.0,9,  -999.0, -999.00,-999.0000,-999.000,-999.000
     316N145_5,  I09S,   101,  1,     12, SIH016,2,19950106,0924,-57.4028, 114.9778, 4575,12097.3,   1211.2,   1.9070,  34.7370,2,  34.7429,2,    188.0,2,  1.8326,    192.5,2,    84.33,2,    30.38,2,     0.00,2,     2.09,2,    0.135,2,    0.065,2, -999.000,5,-999.0000,5,  -999.00,9,   -999.0,9,  -999.00,9,-999.000,9,   -999.0,9,   -999.0,9,  -999.0, -999.00,-999.0000,-999.000,-999.000
     316N145_5,  I09S,   101,  1,     11, SIH015,2,19950106,0924,-57.4028, 114.9778, 4575,14202.1,   1423.0,   1.7543,  34.7457,2,  34.7473,2,    194.3,2,  1.6661,    196.3,2,    89.17,2,    30.14,2,     0.00,2,     2.08,2,    0.085,2,    0.045,2, -999.000,5,-999.0000,5,  -999.00,9,   -999.0,9,  -999.00,9,-999.000,9,   -999.0,9,   -999.0,9,  -999.0, -999.00,-999.0000,-999.000,-999.000
     316N145_5,  I09S,   101,  1,     29, SIH014,2,19950106,0924,-57.4028, 114.9778, 4575,16219.6,   1625.9,   1.5943,  34.7434,2,  34.7457,2,    196.0,2,  1.4930,    199.5,2,    93.70,2,    30.24,2,     0.00,2,     2.08,2, -999.000,9, -999.000,9, -999.000,5,-999.0000,5,  -999.00,9,   -999.0,9,  -999.00,9,-999.000,9,   -999.0,9,   -999.0,9,  -999.0, -999.00,-999.0000,-999.000,-999.000
     316N145_5,  I09S,   101,  1,     10, SIH013,2,19950106,0924,-57.4028, 114.9778, 4575,18205.9,   1825.7,   1.4020,  34.7372,2,  34.7386,2,    197.8,2,  1.2879,    201.3,2,    99.16,2,    30.47,2,     0.00,2,     2.09,2,    0.068,2,    0.032,2, -999.000,5,-999.0000,5,  -999.00,9,   -999.0,9,  -999.00,9,-999.000,9,   -999.0,9,   -999.0,9,  -999.0, -999.00,-999.0000,-999.000,-999.000
     316N145_5,  I09S,   101,  1,      9, SIH012,2,19950106,0924,-57.4028, 114.9778, 4575,20212.2,   2027.5,   1.2471,  34.7308,2,  34.7327,2,    198.0,2,  1.1196,    202.7,2,   104.00,2,    30.90,2,     0.00,2,     2.12,2, -999.000,9, -999.000,9, -999.000,5,-999.0000,5,  -999.00,9,   -999.0,9,  -999.00,9,-999.000,9,   -999.0,9,   -999.0,9,  -999.0, -999.00,-999.0000,-999.000,-999.000
     316N145_5,  I09S,   101,  1,     28, SIH011,2,19950106,0924,-57.4028, 114.9778, 4575,22254.4,   2232.9,   1.0749,  34.7217,2,  34.7233,2,    200.9,2,  0.9338,    204.8,2,   109.00,2,    31.04,2,     0.00,2,     2.14,2,    0.082,2,    0.041,2, -999.000,5,-999.0000,5,  -999.00,9,   -999.0,9,  -999.00,9,-999.000,9,   -999.0,9,   -999.0,9,  -999.0, -999.00,-999.0000,-999.000,-999.000
     316N145_5,  I09S,   101,  1,      8, SIH010,2,19950106,0924,-57.4028, 114.9778, 4575,24284.7,   2437.1,   0.9319,  34.7140,2,  34.7160,2,    202.1,2,  0.7766,    206.5,2,   113.53,2,    31.33,2,     0.00,2,     2.17,2,    0.085,2,    0.041,2, -999.000,5,-999.0000,5,  -999.00,9,   -999.0,9,  -999.00,9,-999.000,9,   -999.0,9,   -999.0,9,  -999.0, -999.00,-999.0000,-999.000,-999.000
     316N145_5,  I09S,   101,  1,      7, SIH009,2,19950106,0924,-57.4028, 114.9778, 4575,27298.2,   2740.3,   0.6827,  34.7019,2,  34.7048,2,    205.8,2,  0.5067,    210.0,2,   119.78,2,    31.76,2,     0.00,2,     2.20,2,    0.120,2,    0.058,2, -999.000,5,-999.0000,5,  -999.00,9,   -999.0,9,  -999.00,9,-999.000,9,   -999.0,9,   -999.0,9,  -999.0, -999.00,-999.0000,-999.000,-999.000
     316N145_5,  I09S,   101,  1,     27, SIH008,2,19950106,0924,-57.4028, 114.9778, 4575,30313.7,   3043.6,   0.4545,  34.6920,2,  34.6920,2,    209.3,2,  0.2569,    215.2,2,   124.16,2,    31.99,2,     0.00,2,     2.22,2,    0.179,2,    0.078,2, -999.000,5,-999.0000,5,  -999.00,9,   -999.0,9,  -999.00,9,-999.000,9,   -999.0,9,   -999.0,9,  -999.0, -999.00,-999.0000,-999.000,-999.000
     316N145_5,  I09S,   101,  1,      6, SIH038,2,19950106,0924,-57.4028, 114.9778, 4575,33310.4,   3345.0,   0.2959,  34.6861,2,  34.6873,2,    215.3,2,  0.0748,    219.3,2,   128.23,2,    32.04,2,     0.00,2,     2.22,2,    0.233,6,    0.113,6, -999.000,5,-999.0000,5,  -999.00,9,   -999.0,9,  -999.00,9,-999.000,9,   -999.0,9,   -999.0,9,  -999.0, -999.00,-999.0000,-999.000,-999.000
     316N145_5,  I09S,   101,  1,      5, SIH006,2,19950106,0924,-57.4028, 114.9778, 4575,36383.5,   3654.1,   0.1932,  34.6821,2,  34.6830,2,    218.9,2, -0.0545,    222.9,2,   130.89,2,    32.09,2,     0.00,2,     2.22,2, -999.000,9, -999.000,9, -999.000,5,-999.0000,5,  -999.00,9,   -999.0,9,  -999.00,9,-999.000,9,   -999.0,9,   -999.0,9,  -999.0, -999.00,-999.0000,-999.000,-999.000
     316N145_5,  I09S,   101,  1,     26, SIH005,2,19950106,0924,-57.4028, 114.9778, 4575,38429.9,   3860.0,   0.1435,  34.6802,2,  34.6924,4,    221.7,2, -0.1228,    215.1,4,   124.56,2,    32.05,2,     0.00,2,     2.21,2,    0.178,2,    0.082,2, -999.000,5,-999.0000,5,  -999.00,9,   -999.0,9,  -999.00,9,-999.000,9,   -999.0,9,   -999.0,9,  -999.0, -999.00,-999.0000,-999.000,-999.000
     316N145_5,  I09S,   101,  1,      4, SIH004,2,19950106,0924,-57.4028, 114.9778, 4575,40546.4,   4072.9,   0.0966,  34.6785,2,  34.6796,2,    222.1,2, -0.1897,    227.4,2,   131.68,2,    32.04,2,     0.00,2,     2.22,2,    0.396,2,    0.190,2, -999.000,5,-999.0000,5,  -999.00,9,   -999.0,9,  -999.00,9,-999.000,9,   -999.0,9,   -999.0,9,  -999.0, -999.00,-999.0000,-999.000,-999.000
     316N145_5,  I09S,   101,  1,      3, SIH025,2,19950106,0924,-57.4028, 114.9778, 4575,42611.4,   4280.6,   0.0386,  34.6773,2,  34.6773,2,    228.4,2, -0.2674,    229.3,2,   132.46,2,    32.04,2,     0.00,2,     2.22,2,    0.534,2,    0.254,2, -999.000,5,-999.0000,5,  -999.00,9,   -999.0,9,  -999.00,9,-999.000,9,   -999.0,9,   -999.0,9,  -999.0, -999.00,-999.0000,-999.000,-999.000
     316N145_5,  I09S,   101,  1,     25, SIH019,2,19950106,0924,-57.4028, 114.9778, 4575,44682.5,   4488.9,  -0.0125,  34.6740,2,  34.6755,2,    232.3,2, -0.3388,    232.6,2,   133.09,2,    31.94,2,     0.00,2,     2.21,2,    0.730,2,    0.335,2, -999.000,5,-999.0000,5,  -999.00,9,   -999.0,9,  -999.00,9,-999.000,9,   -999.0,9,   -999.0,9,  -999.0, -999.00,-999.0000,-999.000,-999.000
     316N145_5,  I09S,   101,  1,      2, SIH001,2,19950106,0924,-57.4028, 114.9778, 4575,45296.2,   4550.7,  -0.0319,  34.6736,2,  34.6726,2,    232.5,2, -0.3642,    233.2,2,   134.97,2,    31.99,2,     0.00,2,     2.21,2,    0.828,2,    0.397,2, -999.000,5,-999.0000,5,  -999.00,9,   -999.0,9,  -999.00,9,-999.000,9,   -999.0,9,   -999.0,9,  -999.0, -999.00,-999.0000,-999.000,-999.000
     316N145_5,  I09S,   101,  1,      1, SIH036,2,19950106,0924,-57.4028, 114.9778, 4575,45819.9,   4603.3,  -0.0425,  34.6730,2,  34.6743,2,    232.6,3, -0.3801,    234.2,2,   136.99,2,    32.06,2,     0.00,2,     2.21,2,    0.894,2,    0.433,2, -999.000,5,-999.0000,5,  -999.00,9,   -999.0,9,  -999.00,9,-999.000,9,   -999.0,9,   -999.0,9,  -999.0, -999.00,-999.0000,-999.000,-999.000