BOTTLE,20090521WHPSIOdm
EXPOCODE,SECT_ID,STNNBR,CASTNO,SAMPNO,BTLNBR,BTLNBR_FLAG_W,DATE,TIME,LATITUDE,LONGITUDE,DEPTH,CTDRAW,CTDPRS,CTDTMP,CTDSAL,CTDSAL_FLAG_W,SALNTY,SALNTY_FLAG_W,CTDOXY,CTDOXY_FLAG_W,THETA,OXYGEN,OXYGEN_FLAG_W,SILCAT,SILCAT_FLAG_W,NITRAT,NITRAT_FLAG_W,NITRIT,NITRIT_FLAG_W,PHSPHT,PHSPHT_FLAG_W,CFC-11,CFC-11_FLAG_W,CFC-12,CFC-12_FLAG_W,TRITUM,TRITUM_FLAG_W,HELIUM,HELIUM_FLAG_W,DELHE3,DELHE3_FLAG_W,DELC14,DELC14_FLAG_W,DELC13,DELC13_FLAG_W,NEON,NEON_FLAG_W,TCARBN,TCARBN_FLAG_W,ALKALI,ALKALI_FLAG_W,C14ERR,DELHER,HELIER,NEONER,TRITER
,,,,,,,,,,,,,DBAR,IPTS-68,PSS-78,,PSS-78,,UMOL/KG,,IPTS-68,UMOL/KG,,UMOL/KG,,UMOL/KG,,UMOL/KG,,UMOL/KG,,PMOL/KG,,PMOL/KG,,TU,,NMOL/KG,,PERCNT,,/MILLE,,/MILLE,,NMOL/KG,,UMOL/KG,,UMOL/KG,,/MILLE,PERCNT,NMOL/KG,NMOL/KG,TU
     316N145_5,  I09S,    90,  1,     36, SIH035,2,19950103,0410,-62.8528, 113.8083, 3835,  150.0,      9.9,   0.4822,  33.8830,2,  33.8850,2,    335.7,2,  0.4818,    336.6,2,    54.56,2,    27.31,2,     0.24,2,     1.84,2, -999.000,9, -999.000,9, -999.000,5,-999.0000,5,  -999.00,9,   -999.0,9,  -999.00,9,-999.000,9,   2165.5,6,   2295.0,2,  -999.0, -999.00,-999.0000,-999.000,-999.000
     316N145_5,  I09S,    90,  1,     35, SIH032,2,19950103,0410,-62.8528, 113.8083, 3835,  356.2,     30.6,   0.4108,  33.8830,2,  33.8862,2,    331.7,2,  0.4096,    336.7,2,    54.46,2,    27.31,2,     0.23,2,     1.83,2, -999.000,9, -999.000,9, -999.000,5,-999.0000,5,  -999.00,9,   -999.0,9,  -999.00,9,-999.000,9,   2165.9,2,   2287.8,2,  -999.0, -999.00,-999.0000,-999.000,-999.000
     316N145_5,  I09S,    90,  1,     34, SIH029,2,19950103,0410,-62.8528, 113.8083, 3835,  603.5,     55.5,  -1.1491,  34.1544,2,  34.1575,2,    315.4,2, -1.1505,    318.3,2,    55.61,2,    28.12,2,     0.10,2,     1.90,2, -999.000,9, -999.000,9, -999.000,5,-999.0000,5,  -999.00,9,   -999.0,9,  -999.00,9,-999.000,9,   2187.7,2,   2326.3,3,  -999.0, -999.00,-999.0000,-999.000,-999.000
     316N145_5,  I09S,    90,  1,     33, SIH026,2,19950103,0410,-62.8528, 113.8083, 3835,  852.0,     80.5,   0.2829,  34.4168,2,  34.4233,2,    237.0,2,  0.2799,    244.9,2,    66.80,2,    30.67,2,     0.09,2,     2.07,2, -999.000,9, -999.000,9, -999.000,5,-999.0000,5,  -999.00,9,   -999.0,9,  -999.00,9,-999.000,9,   2222.5,2,   2327.0,2,  -999.0, -999.00,-999.0000,-999.000,-999.000
     316N145_5,  I09S,    90,  1,     32, SIH023,2,19950103,0410,-62.8528, 113.8083, 3835, 1098.8,    105.3,   1.2142,  34.5553,2,  34.5537,2,    192.9,2,  1.2094,    197.8,2,    76.28,2,    32.49,2,     0.11,2,     2.21,2, -999.000,9, -999.000,9, -999.000,5,-999.0000,5,  -999.00,9,   -999.0,9,  -999.00,9,-999.000,9,   2245.0,2,   2331.5,2,  -999.0, -999.00,-999.0000,-999.000,-999.000
     316N145_5,  I09S,    90,  1,     31, SIH020,2,19950103,0410,-62.8528, 113.8083, 3835, 1605.6,    156.3,   1.4204,  34.6201,2,  34.6215,2,    179.1,2,  1.4128,    190.6,2,    80.09,2,    32.31,2,     0.01,2,     2.18,2, -999.000,9, -999.000,9, -999.000,5,-999.0000,5,  -999.00,9,   -999.0,9,  -999.00,9,-999.000,9,   2251.2,2,   2347.0,2,  -999.0, -999.00,-999.0000,-999.000,-999.000
     316N145_5,  I09S,    90,  1,     30, SIH017,2,19950103,0410,-62.8528, 113.8083, 3835, 2095.1,    205.5,   1.4787,  34.6513,2,  34.6521,2,    188.5,2,  1.4686,    190.4,2,    82.19,2,    31.94,2,     0.01,2,     2.13,2, -999.000,9, -999.000,9, -999.000,5,-999.0000,5,  -999.00,9,   -999.0,9,  -999.00,9,-999.000,9,   2248.2,2,   2343.7,2,  -999.0, -999.00,-999.0000,-999.000,-999.000
     316N145_5,  I09S,    90,  1,     29, SIH014,2,19950103,0410,-62.8528, 113.8083, 3835, 2605.2,    256.9,   1.6173,  34.6823,2,  34.6832,2,    176.3,2,  1.6042,    188.0,2,    83.82,2,    31.62,2,     0.00,2,     2.12,2, -999.000,9, -999.000,9, -999.000,5,-999.0000,5,  -999.00,9,   -999.0,9,  -999.00,9,-999.000,9,   2249.2,2,   2347.0,2,  -999.0, -999.00,-999.0000,-999.000,-999.000
     316N145_5,  I09S,    90,  1,     28, SIH011,2,19950103,0410,-62.8528, 113.8083, 3835, 3098.5,    306.5,   1.6159,  34.6968,2,  34.6999,2,    186.5,2,  1.6001,    189.4,2,    84.67,2,    31.24,2,     0.00,2,     2.10,2, -999.000,9, -999.000,9, -999.000,5,-999.0000,5,  -999.00,9,   -999.0,9,  -999.00,9,-999.000,9,   2248.2,2,   -999.0,9,  -999.0, -999.00,-999.0000,-999.000,-999.000
     316N145_5,  I09S,    90,  1,     27, SIH008,2,19950103,0410,-62.8528, 113.8083, 3835, 3610.7,    358.0,   1.6553,  34.7101,2,  34.7144,2,    184.0,2,  1.6366,    189.4,2,    85.84,2,    31.02,2,     0.00,2,     2.09,2, -999.000,9, -999.000,9, -999.000,5,-999.0000,5,  -999.00,9,   -999.0,9,  -999.00,9,-999.000,9,   2250.7,2,   2345.7,2,  -999.0, -999.00,-999.0000,-999.000,-999.000
     316N145_5,  I09S,    90,  1,     26, SIH005,2,19950103,0410,-62.8528, 113.8083, 3835, 4110.6,    408.3,   1.6069,  34.7156,2,  34.7168,2,    188.1,2,  1.5856,    191.5,2,    86.99,2,    30.86,2,     0.00,2,     2.07,2, -999.000,9, -999.000,9, -999.000,5,-999.0000,5,  -999.00,9,   -999.0,9,  -999.00,9,-999.000,9,   2246.9,2,   2346.3,2,  -999.0, -999.00,-999.0000,-999.000,-999.000
     316N145_5,  I09S,    90,  1,     25, SIH019,2,19950103,0410,-62.8528, 113.8083, 3835, 4619.4,    459.4,   1.6006,  34.7231,2,  34.7227,2,    189.4,2,  1.5764,    192.8,2,    87.99,2,    30.58,2,     0.00,2,     2.06,2, -999.000,9, -999.000,9, -999.000,5,-999.0000,5,  -999.00,9,   -999.0,9,  -999.00,9,-999.000,9,   2247.9,2,   2359.3,3,  -999.0, -999.00,-999.0000,-999.000,-999.000
     316N145_5,  I09S,    90,  1,     24, SIH037,2,19950103,0410,-62.8528, 113.8083, 3835, 5113.5,    509.1,   1.5985,  34.7298,2,  34.7315,2,    184.3,2,  1.5714,    193.9,2,    88.84,2,    30.36,2,     0.00,2,     2.05,2, -999.000,9, -999.000,9, -999.000,5,-999.0000,5,  -999.00,9,   -999.0,9,  -999.00,9,-999.000,9,   2246.4,6,   2341.1,2,  -999.0, -999.00,-999.0000,-999.000,-999.000
     316N145_5,  I09S,    90,  1,     23, SIH033,2,19950103,0410,-62.8528, 113.8083, 3835, 6109.9,    609.4,   1.4770,  34.7308,2,  34.7351,2,    191.2,2,  1.4448,    196.0,2,    91.89,2,    30.41,2,     0.00,2,     2.05,2, -999.000,9, -999.000,9, -999.000,5,-999.0000,5,  -999.00,9,   -999.0,9,  -999.00,9,-999.000,9,   2249.5,2,   2344.8,2,  -999.0, -999.00,-999.0000,-999.000,-999.000
     316N145_5,  I09S,    90,  1,     22, SIH031,2,19950103,0410,-62.8528, 113.8083, 3835, 7115.5,    710.5,   1.4013,  34.7320,2,  34.7329,2,    193.7,2,  1.3635,    198.3,2,    94.32,2,    30.29,2,     0.00,2,     2.05,2, -999.000,9, -999.000,9, -999.000,5,-999.0000,5,  -999.00,9,   -999.0,9,  -999.00,9,-999.000,9,   2246.9,2,   2366.3,2,  -999.0, -999.00,-999.0000,-999.000,-999.000
     316N145_5,  I09S,    90,  1,     21, SIH030,2,19950103,0410,-62.8528, 113.8083, 3835, 8108.8,    810.4,   1.3271,  34.7316,2,  34.7315,2,    193.2,2,  1.2837,    199.4,2,    96.42,2,    30.23,2,     0.00,2,     2.05,2, -999.000,9, -999.000,9, -999.000,5,-999.0000,5,  -999.00,9,   -999.0,9,  -999.00,9,-999.000,9,   2248.7,2,   2361.2,2,  -999.0, -999.00,-999.0000,-999.000,-999.000
     316N145_5,  I09S,    90,  1,     20, SIH028,2,19950103,0410,-62.8528, 113.8083, 3835, 9110.1,    911.1,   1.2227,  34.7273,2,  34.7298,2,    194.9,2,  1.1740,    200.4,2,    99.95,2,    30.48,2,     0.00,2,     2.06,2, -999.000,9, -999.000,9, -999.000,5,-999.0000,5,  -999.00,9,   -999.0,9,  -999.00,9,-999.000,9,   2251.2,2,   2372.7,3,  -999.0, -999.00,-999.0000,-999.000,-999.000
     316N145_5,  I09S,    90,  1,     19, SIH027,2,19950103,0410,-62.8528, 113.8083, 3835,10128.8,   1013.6,   1.1385,  34.7246,2,  34.7250,2,    197.6,2,  1.0841,    202.0,2,   102.68,2,    30.53,2,     0.00,2,     2.07,2, -999.000,9, -999.000,9, -999.000,5,-999.0000,5,  -999.00,9,   -999.0,9,  -999.00,9,-999.000,9,   2254.3,6,   2355.6,2,  -999.0, -999.00,-999.0000,-999.000,-999.000
     316N145_5,  I09S,    90,  1,     18, SIH003,2,19950103,0410,-62.8528, 113.8083, 3835,11139.1,   1115.2,   1.0526,  34.7215,2,  34.7233,2,    199.2,2,  0.9925,    202.4,2,   105.42,2,    30.74,2,     0.00,2,     2.08,2, -999.000,9, -999.000,9, -999.000,5,-999.0000,5,  -999.00,9,   -999.0,9,  -999.00,9,-999.000,9,   -999.0,9,   -999.0,9,  -999.0, -999.00,-999.0000,-999.000,-999.000
     316N145_5,  I09S,    90,  1,     17, SIH024,2,19950103,0410,-62.8528, 113.8083, 3835,12141.4,   1216.1,   0.9588,  34.7179,2,  34.7180,2,    200.2,2,  0.8932,    203.7,2,   108.47,2,    30.89,2,     0.00,2,     2.09,2, -999.000,9, -999.000,9, -999.000,5,-999.0000,5,  -999.00,9,   -999.0,9,  -999.00,9,-999.000,9,   -999.0,9,   -999.0,9,  -999.0, -999.00,-999.0000,-999.000,-999.000
     316N145_5,  I09S,    90,  1,     16, SIH022,2,19950103,0410,-62.8528, 113.8083, 3835,13145.9,   1317.1,   0.8792,  34.7132,2,  34.7136,2,    200.0,2,  0.8080,    204.8,2,   110.58,2,    31.09,2,     0.00,2,     2.10,2, -999.000,9, -999.000,9, -999.000,5,-999.0000,5,  -999.00,9,   -999.0,9,  -999.00,9,-999.000,9,   -999.0,9,   -999.0,9,  -999.0, -999.00,-999.0000,-999.000,-999.000
     316N145_5,  I09S,    90,  1,     15, SIH021,2,19950103,0410,-62.8528, 113.8083, 3835,14139.9,   1417.1,   0.8073,  34.7098,2,  34.7107,2,    199.1,2,  0.7303,    205.7,2,   112.69,2,    31.19,2,     0.00,2,     2.11,2, -999.000,9, -999.000,9, -999.000,5,-999.0000,5,  -999.00,9,   -999.0,9,  -999.00,9,-999.000,9,   -999.0,9,   -999.0,9,  -999.0, -999.00,-999.0000,-999.000,-999.000
     316N145_5,  I09S,    90,  1,     14, SIH002,2,19950103,0410,-62.8528, 113.8083, 3835,15203.7,   1524.1,   0.7190,  34.7047,2,  34.7048,2,    202.7,2,  0.6359,    206.6,2,   115.28,2,    31.39,2,     0.00,2,     2.12,2, -999.000,9, -999.000,9, -999.000,5,-999.0000,5,  -999.00,9,   -999.0,9,  -999.00,9,-999.000,9,   -999.0,9,   -999.0,9,  -999.0, -999.00,-999.0000,-999.000,-999.000
     316N145_5,  I09S,    90,  1,     13, SIH018,2,19950103,0410,-62.8528, 113.8083, 3835,16194.6,   1623.7,   0.6331,  34.7006,2,  34.7013,2,    203.8,2,  0.5443,    208.1,2,   117.40,2,    31.49,2,     0.00,2,     2.13,2, -999.000,9, -999.000,9, -999.000,5,-999.0000,5,  -999.00,9,   -999.0,9,  -999.00,9,-999.000,9,   -999.0,9,   -999.0,9,  -999.0, -999.00,-999.0000,-999.000,-999.000
     316N145_5,  I09S,    90,  1,     12, SIH016,2,19950103,0410,-62.8528, 113.8083, 3835,18202.2,   1825.7,   0.4961,  34.6938,2,  34.6944,2,    203.2,2,  0.3951,    210.8,2,   120.30,2,    31.70,2,     0.00,2,     2.14,2, -999.000,9, -999.000,9, -999.000,5,-999.0000,5,  -999.00,9,   -999.0,9,  -999.00,9,-999.000,9,   -999.0,9,   -999.0,9,  -999.0, -999.00,-999.0000,-999.000,-999.000
     316N145_5,  I09S,    90,  1,     11, SIH015,2,19950103,0410,-62.8528, 113.8083, 3835,20221.2,   2028.8,   0.3596,  34.6878,2,  34.6895,2,    209.0,2,  0.2461,    214.9,2,   122.10,2,    31.74,2,     0.00,2,     2.14,2, -999.000,9, -999.000,9, -999.000,5,-999.0000,5,  -999.00,9,   -999.0,9,  -999.00,9,-999.000,9,   -999.0,9,   -999.0,9,  -999.0, -999.00,-999.0000,-999.000,-999.000
     316N145_5,  I09S,    90,  1,     10, SIH013,2,19950103,0410,-62.8528, 113.8083, 3835,22257.3,   2233.6,   0.2315,  34.6830,2,  34.6848,2,    213.9,2,  0.1050,    218.8,2,   123.43,2,    31.68,2,     0.00,2,     2.15,2, -999.000,9, -999.000,9, -999.000,5,-999.0000,5,  -999.00,9,   -999.0,9,  -999.00,9,-999.000,9,   -999.0,9,   -999.0,9,  -999.0, -999.00,-999.0000,-999.000,-999.000
     316N145_5,  I09S,    90,  1,      9, SIH012,2,19950103,0410,-62.8528, 113.8083, 3835,24268.6,   2435.9,   0.1270,  34.6790,2,  34.6794,2,    217.0,2, -0.0131,    222.2,2,   123.81,2,    31.67,2,     0.00,2,     2.14,2, -999.000,9, -999.000,9, -999.000,5,-999.0000,5,  -999.00,9,   -999.0,9,  -999.00,9,-999.000,9,   -999.0,9,   -999.0,9,  -999.0, -999.00,-999.0000,-999.000,-999.000
     316N145_5,  I09S,    90,  1,      8, SIH010,2,19950103,0410,-62.8528, 113.8083, 3835,26298.7,   2640.1,   0.0567,  34.6795,2,  34.6779,2,    220.8,2, -0.0981,    224.7,2,   125.92,2,    31.66,2,     0.00,2,     2.14,2, -999.000,9, -999.000,9, -999.000,5,-999.0000,5,  -999.00,9,   -999.0,9,  -999.00,9,-999.000,9,   -999.0,9,   -999.0,9,  -999.0, -999.00,-999.0000,-999.000,-999.000
     316N145_5,  I09S,    90,  1,      7, SIH009,2,19950103,0410,-62.8528, 113.8083, 3835,28377.0,   2849.2,  -0.0177,  34.6763,2,  34.6779,2,    222.8,2, -0.1880,    228.8,2,   122.68,2,    31.49,2,     0.00,2,     2.13,2, -999.000,9, -999.000,9, -999.000,5,-999.0000,5,  -999.00,9,   -999.0,9,  -999.00,9,-999.000,9,   -999.0,9,   -999.0,9,  -999.0, -999.00,-999.0000,-999.000,-999.000
     316N145_5,  I09S,    90,  1,      6, SIH038,2,19950103,0410,-62.8528, 113.8083, 3835,30413.1,   3054.0,  -0.0725,  34.6759,2,  34.6732,2,    226.4,2, -0.2589,    230.9,2,   122.59,2,    31.39,2,     0.00,2,     2.13,2, -999.000,9, -999.000,9, -999.000,5,-999.0000,5,  -999.00,9,   -999.0,9,  -999.00,9,-999.000,9,   -999.0,9,   -999.0,9,  -999.0, -999.00,-999.0000,-999.000,-999.000
     316N145_5,  I09S,    90,  1,      5, SIH006,2,19950103,0410,-62.8528, 113.8083, 3835,32437.6,   3257.6,  -0.1179,  34.6757,2,  34.6710,2,    229.2,2, -0.3209,    233.6,2,   119.67,2,    31.42,2,     0.00,2,     2.13,2, -999.000,9, -999.000,9, -999.000,5,-999.0000,5,  -999.00,9,   -999.0,9,  -999.00,9,-999.000,9,   -999.0,9,   -999.0,9,  -999.0, -999.00,-999.0000,-999.000,-999.000
     316N145_5,  I09S,    90,  1,      4, SIH004,2,19950103,0410,-62.8528, 113.8083, 3835,34455.9,   3460.6,  -0.1671,  34.6741,2,  34.6702,2,    233.7,2, -0.3872,    235.9,2,   117.99,2,    31.37,2,     0.00,2,     2.12,2, -999.000,9, -999.000,9, -999.000,5,-999.0000,5,  -999.00,9,   -999.0,9,  -999.00,9,-999.000,9,   -999.0,9,   -999.0,9,  -999.0, -999.00,-999.0000,-999.000,-999.000
     316N145_5,  I09S,    90,  1,      3, SIH025,2,19950103,0410,-62.8528, 113.8083, 3835,36485.5,   3664.8,  -0.2188,  34.6709,2,  34.6704,2,    235.5,2, -0.4564,    238.8,2,   116.17,2,    31.31,2,     0.00,2,     2.12,2, -999.000,9, -999.000,9, -999.000,5,-999.0000,5,  -999.00,9,   -999.0,9,  -999.00,9,-999.000,9,   -999.0,9,   -999.0,9,  -999.0, -999.00,-999.0000,-999.000,-999.000
     316N145_5,  I09S,    90,  1,      2, SIH001,2,19950103,0410,-62.8528, 113.8083, 3835,37615.2,   3778.4,  -0.2422,  34.6685,2,  34.6649,2,    236.7,2, -0.4899,    238.9,2,   121.28,2,    31.35,2,     0.00,2,     2.12,2, -999.000,9, -999.000,9, -999.000,5,-999.0000,5,  -999.00,9,   -999.0,9,  -999.00,9,-999.000,9,   -999.0,9,   -999.0,9,  -999.0, -999.00,-999.0000,-999.000,-999.000
     316N145_5,  I09S,    90,  1,      1, SIH036,2,19950103,0410,-62.8528, 113.8083, 3835,38267.6,   3844.1,  -0.2383,  34.6677,2,  34.6649,2,    238.1,2, -0.4923,    240.0,2,   120.94,2,    31.36,2,     0.00,2,     2.12,2, -999.000,9, -999.000,9, -999.000,5,-999.0000,5,  -999.00,9,   -999.0,9,  -999.00,9,-999.000,9,   -999.0,9,   -999.0,9,  -999.0, -999.00,-999.0000,-999.000,-999.000