BOTTLE,20090521WHPSIOdm
EXPOCODE,SECT_ID,STNNBR,CASTNO,SAMPNO,BTLNBR,BTLNBR_FLAG_W,DATE,TIME,LATITUDE,LONGITUDE,DEPTH,CTDRAW,CTDPRS,CTDTMP,CTDSAL,CTDSAL_FLAG_W,SALNTY,SALNTY_FLAG_W,CTDOXY,CTDOXY_FLAG_W,THETA,OXYGEN,OXYGEN_FLAG_W,SILCAT,SILCAT_FLAG_W,NITRAT,NITRAT_FLAG_W,NITRIT,NITRIT_FLAG_W,PHSPHT,PHSPHT_FLAG_W,CFC-11,CFC-11_FLAG_W,CFC-12,CFC-12_FLAG_W,TRITUM,TRITUM_FLAG_W,HELIUM,HELIUM_FLAG_W,DELHE3,DELHE3_FLAG_W,DELC14,DELC14_FLAG_W,DELC13,DELC13_FLAG_W,NEON,NEON_FLAG_W,TCARBN,TCARBN_FLAG_W,ALKALI,ALKALI_FLAG_W,C14ERR,DELHER,HELIER,NEONER,TRITER
,,,,,,,,,,,,,DBAR,IPTS-68,PSS-78,,PSS-78,,UMOL/KG,,IPTS-68,UMOL/KG,,UMOL/KG,,UMOL/KG,,UMOL/KG,,UMOL/KG,,PMOL/KG,,PMOL/KG,,TU,,NMOL/KG,,PERCNT,,/MILLE,,/MILLE,,NMOL/KG,,UMOL/KG,,UMOL/KG,,/MILLE,PERCNT,NMOL/KG,NMOL/KG,TU
     316N145_5,  I09S,    98,  1,     36, SIH035,2,19950105,1400,-58.6028, 114.9972, 4565,  179.0,     12.4,   1.6520,  33.9272,2,  33.9299,2,    347.6,2,  1.6514,    337.7,2,    18.38,2,    25.43,2,     0.25,2,     1.62,2, -999.000,9, -999.000,9, -999.000,5,-999.0000,5,  -999.00,9,   -999.0,9,  -999.00,9,-999.000,9,   -999.0,9,   -999.0,9,  -999.0, -999.00,-999.0000,-999.000,-999.000
     316N145_5,  I09S,    98,  1,     35, SIH032,2,19950105,1400,-58.6028, 114.9972, 4565,  374.2,     32.0,   1.6534,  33.9276,2,  33.9305,2,    347.6,2,  1.6518,    338.2,2,    18.36,2,    25.38,2,     0.25,2,     1.62,2, -999.000,9, -999.000,9, -999.000,5,-999.0000,5,  -999.00,9,   -999.0,9,  -999.00,9,-999.000,9,   -999.0,9,   -999.0,9,  -999.0, -999.00,-999.0000,-999.000,-999.000
     316N145_5,  I09S,    98,  1,     34, SIH029,2,19950105,1400,-58.6028, 114.9972, 4565,  621.3,     56.9,   1.6521,  33.9274,2,  33.9285,2,    349.4,2,  1.6493,    337.6,2,    18.50,2,    25.48,2,     0.25,2,     1.62,2, -999.000,9, -999.000,9, -999.000,5,-999.0000,5,  -999.00,9,   -999.0,9,  -999.00,9,-999.000,9,   -999.0,9,   -999.0,9,  -999.0, -999.00,-999.0000,-999.000,-999.000
     316N145_5,  I09S,    98,  1,     33, SIH026,2,19950105,1400,-58.6028, 114.9972, 4565,  857.8,     80.7,   1.6438,  33.9276,2,  33.9303,2,    342.8,2,  1.6399,    337.0,2,    18.64,2,    25.48,2,     0.25,2,     1.62,2, -999.000,9, -999.000,9, -999.000,5,-999.0000,5,  -999.00,9,   -999.0,9,  -999.00,9,-999.000,9,   -999.0,9,   -999.0,9,  -999.0, -999.00,-999.0000,-999.000,-999.000
     316N145_5,  I09S,    98,  1,     32, SIH023,2,19950105,1400,-58.6028, 114.9972, 4565, 1113.5,    106.4,  -0.2136,  33.9586,2,  33.9608,2,    342.2,2, -0.2172,    342.0,2,    32.92,2,    27.36,2,     0.19,2,     1.95,2, -999.000,9, -999.000,9, -999.000,5,-999.0000,5,  -999.00,9,   -999.0,9,  -999.00,9,-999.000,9,   -999.0,9,   -999.0,9,  -999.0, -999.00,-999.0000,-999.000,-999.000
     316N145_5,  I09S,    98,  1,     31, SIH020,2,19950105,1400,-58.6028, 114.9972, 4565, 1623.8,    157.8,  -0.1610,  34.0561,2,  34.0501,2,    315.0,2, -0.1664,    313.7,2,    41.65,2,    29.44,2,     0.16,2,     2.04,2, -999.000,9, -999.000,9, -999.000,5,-999.0000,5,  -999.00,9,   -999.0,9,  -999.00,9,-999.000,9,   -999.0,9,   -999.0,9,  -999.0, -999.00,-999.0000,-999.000,-999.000
     316N145_5,  I09S,    98,  1,     30, SIH017,2,19950105,1400,-58.6028, 114.9972, 4565, 2124.1,    208.1,   1.6224,  34.4509,2,  34.4508,2,    191.7,2,  1.6119,    193.9,2,    68.56,2,    34.13,2,     0.01,2,     2.37,2, -999.000,9, -999.000,9, -999.000,5,-999.0000,5,  -999.00,9,   -999.0,9,  -999.00,9,-999.000,9,   -999.0,9,   -999.0,9,  -999.0, -999.00,-999.0000,-999.000,-999.000
     316N145_5,  I09S,    98,  1,     29, SIH014,2,19950105,1400,-58.6028, 114.9972, 4565, 2596.0,    255.5,   1.8269,  34.5247,2,  34.5258,2,    179.4,2,  1.8135,    181.2,2,    73.53,2,    34.17,2,     0.01,2,     2.37,2, -999.000,9, -999.000,9, -999.000,5,-999.0000,5,  -999.00,9,   -999.0,9,  -999.00,9,-999.000,9,   -999.0,9,   -999.0,9,  -999.0, -999.00,-999.0000,-999.000,-999.000
     316N145_5,  I09S,    98,  1,     28, SIH011,2,19950105,1400,-58.6028, 114.9972, 4565, 3111.5,    307.4,   1.9389,  34.5751,2,  34.5773,2,    171.2,2,  1.9223,    181.8,4,    76.32,2,    33.83,2,     0.01,2,     2.35,2, -999.000,9, -999.000,9, -999.000,5,-999.0000,5,  -999.00,9,   -999.0,9,  -999.00,9,-999.000,9,   -999.0,9,   -999.0,9,  -999.0, -999.00,-999.0000,-999.000,-999.000
     316N145_5,  I09S,    98,  1,     27, SIH008,2,19950105,1400,-58.6028, 114.9972, 4565, 3614.5,    358.0,   1.9690,  34.6063,2,  34.6085,2,    174.1,2,  1.9494,    174.7,2,    77.87,2,    33.50,2,     0.01,2,     2.32,2, -999.000,9, -999.000,9, -999.000,5,-999.0000,5,  -999.00,9,   -999.0,9,  -999.00,9,-999.000,9,   -999.0,9,   -999.0,9,  -999.0, -999.00,-999.0000,-999.000,-999.000
     316N145_5,  I09S,    98,  1,     26, SIH005,2,19950105,1400,-58.6028, 114.9972, 4565, 4121.1,    409.0,   1.9974,  34.6329,2,  34.6356,2,    171.8,2,  1.9748,    175.2,2,    79.53,2,    33.13,2,     0.01,2,     2.29,2, -999.000,9, -999.000,9, -999.000,5,-999.0000,5,  -999.00,9,   -999.0,9,  -999.00,9,-999.000,9,   -999.0,9,   -999.0,9,  -999.0, -999.00,-999.0000,-999.000,-999.000
     316N145_5,  I09S,    98,  1,     25, SIH019,2,19950105,1400,-58.6028, 114.9972, 4565, 4619.3,    459.1,   2.0101,  34.6599,2,  34.6614,2,    172.0,2,  1.9844,    176.6,2,    80.52,2,    32.61,2,     0.00,2,     2.25,2, -999.000,9, -999.000,9, -999.000,5,-999.0000,5,  -999.00,9,   -999.0,9,  -999.00,9,-999.000,9,   -999.0,9,   -999.0,9,  -999.0, -999.00,-999.0000,-999.000,-999.000
     316N145_5,  I09S,    98,  1,      5, SIH006,2,19950105,1400,-58.6028, 114.9972, 4565,40437.4,   4061.9,   0.0004,  34.6758,2,  34.6749,2,    229.8,2, -0.2821,    231.2,2,   128.50,2,    31.83,2,     0.00,2,     2.20,2, -999.000,9, -999.000,9, -999.000,5,-999.0000,5,  -999.00,9,   -999.0,9,  -999.00,9,-999.000,9,   -999.0,9,   -999.0,9,  -999.0, -999.00,-999.0000,-999.000,-999.000
     316N145_5,  I09S,    98,  1,      4, SIH004,2,19950105,1400,-58.6028, 114.9972, 4565,42202.3,   4239.4,  -0.0343,  34.6746,2,  34.6741,2,    231.6,2, -0.3338,    232.6,2,   129.46,2,    31.92,2,     0.00,2,     2.19,2, -999.000,9, -999.000,9, -999.000,5,-999.0000,5,  -999.00,9,   -999.0,9,  -999.00,9,-999.000,9,   -999.0,9,   -999.0,9,  -999.0, -999.00,-999.0000,-999.000,-999.000
     316N145_5,  I09S,    98,  1,      3, SIH025,2,19950105,1400,-58.6028, 114.9972, 4565,44410.4,   4461.6,  -0.0726,  34.6729,2,  34.6724,2,    234.6,2, -0.3941,    234.8,2,   130.38,2,    31.92,2,     0.00,2,     2.19,2, -999.000,9, -999.000,9, -999.000,5,-999.0000,5,  -999.00,9,   -999.0,9,  -999.00,9,-999.000,9,   -999.0,9,   -999.0,9,  -999.0, -999.00,-999.0000,-999.000,-999.000
     316N145_5,  I09S,    98,  1,      2, SIH001,2,19950105,1400,-58.6028, 114.9972, 4565,45432.5,   4564.4,  -0.1122,  34.6703,2,  34.6706,2,    237.8,2, -0.4434,    236.8,2,   132.55,2,    31.92,2,     0.00,2,     2.19,2, -999.000,9, -999.000,9, -999.000,5,-999.0000,5,  -999.00,9,   -999.0,9,  -999.00,9,-999.000,9,   -999.0,9,   -999.0,9,  -999.0, -999.00,-999.0000,-999.000,-999.000
     316N145_5,  I09S,    98,  1,      1, SIH036,2,19950105,1400,-58.6028, 114.9972, 4565,45940.5,   4615.5,  -0.1100,  34.6705,2,  34.6702,2,    236.4,2, -0.4467,    237.1,2,   133.37,2,    31.81,2,     0.00,2,     2.19,2, -999.000,9, -999.000,9, -999.000,5,-999.0000,5,  -999.00,9,   -999.0,9,  -999.00,9,-999.000,9,   -999.0,9,   -999.0,9,  -999.0, -999.00,-999.0000,-999.000,-999.000
     316N145_5,  I09S,    99,  1,     16, SIH022,2,19950105,2145,-57.9917, 115.0167, 4585,14159.1,   1418.6,   1.5501,  34.7387,2,  34.7400,2,    197.1,2,  1.4645,    194.9,4,    89.13,2,    30.67,2,     0.00,2,     2.07,2,    0.144,6,    0.065,6, -999.000,5,-999.0000,5,  -999.00,9,   -150.3,2,     0.44,2,-999.000,9,   2247.6,6,   2353.5,2,     3.2, -999.00,-999.0000,-999.000,-999.000
     316N145_5,  I09S,    99,  1,     15, SIH021,2,19950105,2145,-57.9917, 115.0167, 4585,16220.6,   1626.0,   1.3961,  34.7355,2,  34.7378,2,    197.4,2,  1.2973,    201.0,2,    99.30,2,    30.73,2,     0.00,2,     2.07,2,    0.104,2,    0.050,2, -999.000,5,-999.0000,5,  -999.00,9,   -161.2,2,     0.43,2,-999.000,9,   2249.3,2,   -999.0,9,     2.5, -999.00,-999.0000,-999.000,-999.000
     316N145_5,  I09S,    99,  1,     14, SIH002,2,19950105,2145,-57.9917, 115.0167, 4585,18239.1,   1829.0,   1.2218,  34.7293,2,  34.7304,2,    198.7,2,  1.1101,    203.2,2,   104.63,2,    30.93,2,     0.00,2,     2.09,2,    0.094,2,    0.041,2, -999.000,5,-999.0000,5,  -999.00,9,   -164.6,2,     0.32,2,-999.000,9,   2251.8,2,   2357.6,2,     2.9, -999.00,-999.0000,-999.000,-999.000
     316N145_5,  I09S,    99,  1,     13, SIH018,2,19950105,2145,-57.9917, 115.0167, 4585,20226.8,   2029.0,   1.0595,  34.7207,2,  34.7223,2,    200.3,2,  0.9348,    204.8,2,   109.17,2,    31.29,2,     0.00,2,     2.12,2,    0.099,2,    0.041,2, -999.000,5,-999.0000,5,  -999.00,9,   -155.4,2,     0.37,2,-999.000,9,   2253.9,2,   -999.0,9,     2.6, -999.00,-999.0000,-999.000,-999.000
     316N145_5,  I09S,    99,  1,     12, SIH016,2,19950105,2145,-57.9917, 115.0167, 4585,22275.3,   2235.0,   0.8869,  34.7121,2,  34.7129,2,    202.1,2,  0.7489,    206.5,2,   114.19,2,    31.54,2,     0.00,2,     2.14,2,    0.087,2,    0.043,2, -999.000,5,-999.0000,5,  -999.00,9,   -160.5,2,     0.38,2,-999.000,9,   2256.8,2,   2372.5,2,     3.8, -999.00,-999.0000,-999.000,-999.000
     316N145_5,  I09S,    99,  1,     11, SIH015,2,19950105,2145,-57.9917, 115.0167, 4585,24335.8,   2442.3,   0.7490,  34.7048,2,  34.7060,2,    202.5,2,  0.5967,    208.5,2,   118.27,2,    31.79,2,     0.00,2,     2.16,2,    0.091,2,    0.043,2, -999.000,5,-999.0000,5,  -999.00,9,   -158.4,2,     0.34,2,-999.000,9,   2257.2,2,   2359.0,2,     4.0, -999.00,-999.0000,-999.000,-999.000
     316N145_5,  I09S,    99,  1,     10, SIH013,2,19950105,2145,-57.9917, 115.0167, 4585,27363.4,   2746.8,   0.5328,  34.6952,2,  34.6973,2,    208.3,2,  0.3593,    212.9,2,   123.76,2,    32.00,2,     0.00,2,     2.18,2, -999.000,9, -999.000,9, -999.000,5,-999.0000,5,  -999.00,9,   -150.9,2,     0.39,2,-999.000,9,   2258.2,2,   2366.8,2,     3.6, -999.00,-999.0000,-999.000,-999.000
     316N145_5,  I09S,    99,  1,      9, SIH012,2,19950105,2145,-57.9917, 115.0167, 4585,30404.9,   3052.7,   0.3483,  34.6876,2,  34.6881,2,    211.6,2,  0.1523,    217.6,2,   127.05,2,    32.16,2,     0.00,2,     2.19,2,    0.174,2,    0.083,2, -999.000,5,-999.0000,5,  -999.00,9,   -152.2,2,     0.32,2,-999.000,9,   2257.4,2,   2360.0,2,     5.2, -999.00,-999.0000,-999.000,-999.000
     316N145_5,  I09S,    99,  1,      8, SIH010,2,19950105,2145,-57.9917, 115.0167, 4585,33437.3,   3357.8,   0.2196,  34.6830,2,  34.6830,2,    216.9,2, -0.0008,    221.8,2,   128.79,2,    32.07,2,     0.00,2,     2.19,2,    0.259,6,    0.126,6, -999.000,5,-999.0000,5,  -999.00,9,   -164.4,2,     0.42,2,-999.000,9,   2256.0,2,   2361.4,2,     2.5, -999.00,-999.0000,-999.000,-999.000
     316N145_5,  I09S,    99,  1,      7, SIH009,2,19950105,2145,-57.9917, 115.0167, 4585,36478.8,   3663.7,   0.1187,  34.6799,2,  34.6791,2,    221.8,2, -0.1279,    225.9,2,   130.07,2,    32.13,2,     0.00,2,     2.19,2,    0.352,2,    0.164,2, -999.000,5,-999.0000,5,  -999.00,9,   -160.0,2,     0.39,2,-999.000,9,   2254.6,2,   2361.2,2,     3.6, -999.00,-999.0000,-999.000,-999.000
     316N145_5,  I09S,    99,  1,      6, SIH038,2,19950105,2145,-57.9917, 115.0167, 4585,38561.1,   3873.2,   0.0586,  34.6771,2,  34.6800,3,    224.6,2, -0.2067,    225.8,4,   129.92,2,    32.09,2,     0.00,2,     2.19,2,    0.350,2,    0.164,2, -999.000,5,-999.0000,5,  -999.00,9,   -999.0,9,  -999.00,9,-999.000,9,   2254.3,2,   2355.4,2,  -999.0, -999.00,-999.0000,-999.000,-999.000
     316N145_5,  I09S,    99,  1,      5, SIH006,2,19950105,2145,-57.9917, 115.0167, 4585,40619.8,   4080.3,   0.0005,  34.6752,2,  34.6767,2,    226.6,2, -0.2838,    231.5,2,   130.25,2,    32.05,2,     0.00,2,     2.18,2,    0.589,2,    0.274,2, -999.000,5,-999.0000,5,  -999.00,9,   -159.2,2,     0.38,2,-999.000,9,   2253.9,2,   2380.7,2,     5.2, -999.00,-999.0000,-999.000,-999.000
     316N145_5,  I09S,    99,  1,      4, SIH004,2,19950105,2145,-57.9917, 115.0167, 4585,42637.7,   4283.2,  -0.0403,  34.6745,2,  34.6739,2,    230.3,2, -0.3441,    233.6,2,   130.11,2,    32.00,2,     0.00,2,     2.18,2,    0.761,2,    0.351,2, -999.000,5,-999.0000,5,  -999.00,9,   -148.4,2,     0.23,2,-999.000,9,   2250.8,2,   2346.7,3,     4.7, -999.00,-999.0000,-999.000,-999.000
     316N145_5,  I09S,    99,  1,      3, SIH025,2,19950105,2145,-57.9917, 115.0167, 4585,44651.9,   4485.9,  -0.0792,  34.6723,2,  34.6726,2,    233.6,2, -0.4031,    236.1,2,   129.82,2,    31.96,2,     0.00,2,     2.18,2,    1.033,2,    0.472,2, -999.000,5,-999.0000,5,  -999.00,9,   -163.5,2,     0.05,2,-999.000,9,   2252.5,2,   2374.8,2,     4.6, -999.00,-999.0000,-999.000,-999.000
     316N145_5,  I09S,    99,  1,      2, SIH001,2,19950105,2145,-57.9917, 115.0167, 4585,45679.0,   4589.2,  -0.1133,  34.6706,2,  34.6694,2,    235.7,2, -0.4471,    236.9,2,   131.87,2,    31.97,2,     0.00,2,     2.18,2,    1.327,2,    0.609,2, -999.000,5,-999.0000,5,  -999.00,9,   -153.9,2,     0.15,2,-999.000,9,   2253.8,2,   2341.1,3,     5.6, -999.00,-999.0000,-999.000,-999.000
     316N145_5,  I09S,    99,  1,      1, SIH036,2,19950105,2145,-57.9917, 115.0167, 4585,46162.4,   4637.8,  -0.1132,  34.6703,2,  34.6698,2,    236.2,3, -0.4522,    236.5,2,   133.86,2,    31.92,2,     0.00,2,     2.17,2,    1.353,2,    0.631,2, -999.000,5,-999.0000,5,  -999.00,9,   -132.9,2,     0.44,2,-999.000,9,   2255.0,6,   2360.1,2,     5.6, -999.00,-999.0000,-999.000,-999.000