BOTTLE,20090521WHPSIOdm
EXPOCODE,SECT_ID,STNNBR,CASTNO,SAMPNO,BTLNBR,BTLNBR_FLAG_W,DATE,TIME,LATITUDE,LONGITUDE,DEPTH,CTDRAW,CTDPRS,CTDTMP,CTDSAL,CTDSAL_FLAG_W,SALNTY,SALNTY_FLAG_W,CTDOXY,CTDOXY_FLAG_W,THETA,OXYGEN,OXYGEN_FLAG_W,SILCAT,SILCAT_FLAG_W,NITRAT,NITRAT_FLAG_W,NITRIT,NITRIT_FLAG_W,PHSPHT,PHSPHT_FLAG_W,CFC-11,CFC-11_FLAG_W,CFC-12,CFC-12_FLAG_W,TRITUM,TRITUM_FLAG_W,HELIUM,HELIUM_FLAG_W,DELHE3,DELHE3_FLAG_W,DELC14,DELC14_FLAG_W,DELC13,DELC13_FLAG_W,NEON,NEON_FLAG_W,TCARBN,TCARBN_FLAG_W,ALKALI,ALKALI_FLAG_W,C14ERR,DELHER,HELIER,NEONER,TRITER
,,,,,,,,,,,,,DBAR,IPTS-68,PSS-78,,PSS-78,,UMOL/KG,,IPTS-68,UMOL/KG,,UMOL/KG,,UMOL/KG,,UMOL/KG,,UMOL/KG,,PMOL/KG,,PMOL/KG,,TU,,NMOL/KG,,PERCNT,,/MILLE,,/MILLE,,NMOL/KG,,UMOL/KG,,UMOL/KG,,/MILLE,PERCNT,NMOL/KG,NMOL/KG,TU
     316N145_5,  I09S,   105,  1,     36, SIH035,2,19950107,1433,-55.0000, 115.0000, 4465,  175.4,     12.3,   3.8218,  33.9003,2,  33.9026,2,    320.1,2,  3.8210,    322.2,2,     1.05,2,    22.53,2,     0.28,2,     1.55,2,    5.527,2,    2.706,2, -999.000,5,-999.0000,5,  -999.00,9,   -999.0,9,  -999.00,9,-999.000,9,   -999.0,9,   -999.0,9,  -999.0, -999.00,-999.0000,-999.000,-999.000
     316N145_5,  I09S,   105,  1,     35, SIH032,2,19950107,1433,-55.0000, 115.0000, 4465,  379.9,     32.9,   3.8057,  33.9007,2,  33.9050,2,    314.8,2,  3.8035,    322.3,2,     1.04,2,    22.59,2,     0.27,2,     1.54,2,    5.530,2,    2.713,2, -999.000,5,-999.0000,5,  -999.00,9,   -999.0,9,  -999.00,9,-999.000,9,   -999.0,9,   -999.0,9,  -999.0, -999.00,-999.0000,-999.000,-999.000
     316N145_5,  I09S,   105,  1,     34, SIH029,2,19950107,1433,-55.0000, 115.0000, 4465,  625.6,     57.6,   3.7308,  33.9035,2,  33.9071,2,    324.8,2,  3.7271,    321.9,2,     1.03,2,    22.63,2,     0.27,2,     1.60,2,    5.566,6,    2.717,6, -999.000,5,-999.0000,5,  -999.00,9,   -999.0,9,  -999.00,9,-999.000,9,   -999.0,9,   -999.0,9,  -999.0, -999.00,-999.0000,-999.000,-999.000
     316N145_5,  I09S,   105,  1,     33, SIH026,2,19950107,1433,-55.0000, 115.0000, 4465,  877.1,     82.9,   3.7127,  33.9029,2,  33.9070,2,    326.0,2,  3.7073,    321.3,2,     1.17,2,    22.71,2,     0.28,2,     1.60,2,    5.544,2,    2.721,2, -999.000,5,-999.0000,5,  -999.00,9,   -999.0,9,  -999.00,9,-999.000,9,   -999.0,9,   -999.0,9,  -999.0, -999.00,-999.0000,-999.000,-999.000
     316N145_5,  I09S,   105,  1,     32, SIH023,2,19950107,1433,-55.0000, 115.0000, 4465, 1126.9,    108.0,   3.6927,  33.9043,2,  33.9083,2,    311.6,2,  3.6856,    320.2,2,     1.32,2,    22.76,2,     0.28,2,     1.62,2,    5.507,2,    2.713,2, -999.000,5,-999.0000,5,  -999.00,9,   -999.0,9,  -999.00,9,-999.000,9,   -999.0,9,   -999.0,9,  -999.0, -999.00,-999.0000,-999.000,-999.000
     316N145_5,  I09S,   105,  1,     31, SIH020,2,19950107,1433,-55.0000, 115.0000, 4465, 1625.6,    158.2,   2.7856,  33.9495,2,  33.9549,2,    318.9,2,  2.7764,    315.7,2,    12.67,2,    25.45,2,     0.38,2,     1.83,2,    5.494,2,    2.706,2, -999.000,5,-999.0000,5,  -999.00,9,   -999.0,9,  -999.00,9,-999.000,9,   -999.0,9,   -999.0,9,  -999.0, -999.00,-999.0000,-999.000,-999.000
     316N145_5,  I09S,   105,  1,     30, SIH017,2,19950107,1433,-55.0000, 115.0000, 4465, 2119.5,    207.8,   2.6107,  34.0502,2,  34.0509,2,    285.4,2,  2.5988,    282.0,2,    22.63,2,    28.58,2,     0.03,2,     2.00,2,    4.568,2,    2.232,2, -999.000,5,-999.0000,5,  -999.00,9,   -999.0,9,  -999.00,9,-999.000,9,   -999.0,9,   -999.0,9,  -999.0, -999.00,-999.0000,-999.000,-999.000
     316N145_5,  I09S,   105,  1,     29, SIH014,2,19950107,1433,-55.0000, 115.0000, 4465, 2621.7,    258.4,   2.9365,  34.1693,2,  34.1717,2,    249.0,2,  2.9208,    247.5,2,    29.94,2,    30.41,2,     0.03,2,     2.11,2,    3.330,2,    1.578,2, -999.000,5,-999.0000,5,  -999.00,9,   -999.0,9,  -999.00,9,-999.000,9,   -999.0,9,   -999.0,9,  -999.0, -999.00,-999.0000,-999.000,-999.000
     316N145_5,  I09S,   105,  1,     28, SIH011,2,19950107,1433,-55.0000, 115.0000, 4465, 3107.7,    307.2,   2.6771,  34.1959,2,  34.1989,2,    241.2,2,  2.6589,    240.5,2,    35.23,2,    31.32,2,     0.03,2,     2.18,2,    3.021,6,    1.439,6, -999.000,5,-999.0000,5,  -999.00,9,   -999.0,9,  -999.00,9,-999.000,9,   -999.0,9,   -999.0,9,  -999.0, -999.00,-999.0000,-999.000,-999.000
     316N145_5,  I09S,   105,  1,     27, SIH008,2,19950107,1433,-55.0000, 115.0000, 4465, 3611.7,    357.9,   2.6670,  34.2453,2,  34.2479,2,    227.2,2,  2.6456,    227.1,2,    40.04,2,    32.09,2,     0.03,2,     2.22,2,    2.457,2,    1.145,2, -999.000,5,-999.0000,5,  -999.00,9,   -999.0,9,  -999.00,9,-999.000,9,   -999.0,9,   -999.0,9,  -999.0, -999.00,-999.0000,-999.000,-999.000
     316N145_5,  I09S,   105,  1,     26, SIH005,2,19950107,1433,-55.0000, 115.0000, 4465, 4102.8,    407.3,   2.6042,  34.2882,2,  34.2927,2,    214.2,2,  2.5799,    216.0,2,    45.17,2,    32.66,2,     0.03,2,     2.34,2,    2.058,2,    0.966,2, -999.000,5,-999.0000,5,  -999.00,9,   -999.0,9,  -999.00,9,-999.000,9,   -999.0,9,   -999.0,9,  -999.0, -999.00,-999.0000,-999.000,-999.000
     316N145_5,  I09S,   105,  1,     25, SIH019,2,19950107,1433,-55.0000, 115.0000, 4465, 4604.3,    457.8,   2.4876,  34.3265,2,  34.3284,2,    205.3,2,  2.4605,    208.2,2,    50.30,2,    33.23,2,     0.03,2,     2.29,2,    1.745,2,    0.814,2, -999.000,5,-999.0000,5,  -999.00,9,   -999.0,9,  -999.00,9,-999.000,9,   -999.0,9,   -999.0,9,  -999.0, -999.00,-999.0000,-999.000,-999.000
     316N145_5,  I09S,   105,  1,     24, SIH037,2,19950107,1433,-55.0000, 115.0000, 4465, 5110.6,    508.7,   2.4447,  34.3667,2,  34.3684,2,    197.9,2,  2.4145,    198.9,2,    54.81,2,    33.66,2,     0.03,2,     2.32,2,    1.470,2,    0.680,2, -999.000,5,-999.0000,5,  -999.00,9,   -999.0,9,  -999.00,9,-999.000,9,   -999.0,9,   -999.0,9,  -999.0, -999.00,-999.0000,-999.000,-999.000
     316N145_5,  I09S,   105,  1,     23, SIH033,2,19950107,1433,-55.0000, 115.0000, 4465, 6111.3,    609.4,   2.4243,  34.4397,2,  34.4438,2,    184.9,2,  2.3876,    187.5,2,    62.11,2,    33.95,2,     0.03,2,     2.34,2,    0.996,2,    0.461,2, -999.000,5,-999.0000,5,  -999.00,9,   -999.0,9,  -999.00,9,-999.000,9,   -999.0,9,   -999.0,9,  -999.0, -999.00,-999.0000,-999.000,-999.000
     316N145_5,  I09S,   105,  1,     22, SIH031,2,19950107,1433,-55.0000, 115.0000, 4465, 7127.8,    711.6,   2.3903,  34.4996,2,  34.5025,2,    172.5,2,  2.3471,    180.0,2,    67.08,2,    33.90,2,     0.02,2,     2.34,2,    0.725,2,    0.353,2, -999.000,5,-999.0000,5,  -999.00,9,   -999.0,9,  -999.00,9,-999.000,9,   -999.0,9,   -999.0,9,  -999.0, -999.00,-999.0000,-999.000,-999.000
     316N145_5,  I09S,   105,  1,     20, SIH028,2,19950107,1433,-55.0000, 115.0000, 4465, 8123.0,    811.7,   2.3872,  34.5642,2,  34.5667,2,    171.9,2,  2.3372,    175.6,2,    71.26,2,    33.57,2,     0.02,2,     2.30,2,    0.441,2,    0.196,2, -999.000,5,-999.0000,5,  -999.00,9,   -999.0,9,  -999.00,9,-999.000,9,   -999.0,9,   -999.0,9,  -999.0, -999.00,-999.0000,-999.000,-999.000
     316N145_5,  I09S,   105,  1,     21, SIH030,2,19950107,1433,-55.0000, 115.0000, 4465, 8124.0,    811.8,   2.3873,  34.5644,2,  34.5667,2,    171.6,2,  2.3373,    175.2,2,    71.27,2,    33.52,2,     0.02,2,     2.30,2,    0.447,2,    0.207,2, -999.000,5,-999.0000,5,  -999.00,9,   -999.0,9,  -999.00,9,-999.000,9,   -999.0,9,   -999.0,9,  -999.0, -999.00,-999.0000,-999.000,-999.000
     316N145_5,  I09S,   105,  1,     19, SIH027,2,19950107,1433,-55.0000, 115.0000, 4465,10102.9,   1010.9,   2.3435,  34.6429,2,  34.6468,2,    172.7,2,  2.2798,    177.0,2,    74.98,2,    32.41,2,     0.02,2,     2.22,2,    0.225,2,    0.104,2, -999.000,5,-999.0000,5,  -999.00,9,   -999.0,9,  -999.00,9,-999.000,9,   -999.0,9,   -999.0,9,  -999.0, -999.00,-999.0000,-999.000,-999.000
     316N145_5,  I09S,   105,  1,     18, SIH003,2,19950107,1433,-55.0000, 115.0000, 4465,11132.4,   1114.4,   2.2855,  34.6748,2,  34.6763,2,    175.3,2,  2.2148,    179.7,2,    76.53,2,    31.78,2,     0.02,2,     2.19,2,    0.179,2,    0.079,2, -999.000,5,-999.0000,5,  -999.00,9,   -999.0,9,  -999.00,9,-999.000,9,   -999.0,9,   -999.0,9,  -999.0, -999.00,-999.0000,-999.000,-999.000
     316N145_5,  I09S,   105,  1,     17, SIH024,2,19950107,1433,-55.0000, 115.0000, 4465,12135.8,   1215.3,   2.2277,  34.6986,2,  34.7013,2,    179.7,2,  2.1501,    183.1,2,    77.92,2,    31.25,2,     0.02,2,     2.14,2,    0.148,2,    0.067,2, -999.000,5,-999.0000,5,  -999.00,9,   -999.0,9,  -999.00,9,-999.000,9,   -999.0,9,   -999.0,9,  -999.0, -999.00,-999.0000,-999.000,-999.000
     316N145_5,  I09S,   105,  1,     16, SIH022,2,19950107,1433,-55.0000, 115.0000, 4465,14148.7,   1417.8,   2.0897,  34.7259,2,  34.7280,2,    185.4,2,  1.9983,    188.4,2,    80.87,2,    30.62,2,     0.02,2,     2.10,2,    0.124,2,    0.060,2, -999.000,5,-999.0000,5,  -999.00,9,   -999.0,9,  -999.00,9,-999.000,9,   -999.0,9,   -999.0,9,  -999.0, -999.00,-999.0000,-999.000,-999.000
     316N145_5,  I09S,   105,  1,     15, SIH021,2,19950107,1433,-55.0000, 115.0000, 4465,16169.3,   1621.0,   1.9351,  34.7393,2,  34.7425,2,    187.2,2,  1.8299,    193.1,2,    84.90,2,    30.24,2,     0.02,2,     2.07,2,    0.102,2,    0.051,2, -999.000,5,-999.0000,5,  -999.00,9,   -999.0,9,  -999.00,9,-999.000,9,   -999.0,9,   -999.0,9,  -999.0, -999.00,-999.0000,-999.000,-999.000
     316N145_5,  I09S,   105,  1,     14, SIH002,2,19950107,1433,-55.0000, 115.0000, 4465,18174.2,   1822.7,   1.7798,  34.7459,2,  34.7465,2,    192.6,2,  1.6607,    196.9,2,    89.57,2,    30.04,2,     0.02,2,     2.06,2,    0.094,2,    0.052,2, -999.000,5,-999.0000,5,  -999.00,9,   -999.0,9,  -999.00,9,-999.000,9,   -999.0,9,   -999.0,9,  -999.0, -999.00,-999.0000,-999.000,-999.000
     316N145_5,  I09S,   105,  1,     13, SIH018,2,19950107,1433,-55.0000, 115.0000, 4465,20201.3,   2026.6,   1.6070,  34.7429,2,  34.7449,2,    195.5,2,  1.4740,    199.6,2,    94.54,2,    30.23,2,     0.02,2,     2.07,2,    0.071,2,    0.030,2, -999.000,5,-999.0000,5,  -999.00,9,   -999.0,9,  -999.00,9,-999.000,9,   -999.0,9,   -999.0,9,  -999.0, -999.00,-999.0000,-999.000,-999.000
     316N145_5,  I09S,   105,  1,     12, SIH016,2,19950107,1433,-55.0000, 115.0000, 4465,22227.7,   2230.4,   1.4129,  34.7365,2,  34.7390,2,    195.5,2,  1.2662,    201.9,2,   100.29,2,    30.43,2,     0.02,2,     2.10,2,    0.067,2,    0.033,2, -999.000,5,-999.0000,5,  -999.00,9,   -999.0,9,  -999.00,9,-999.000,9,   -999.0,9,   -999.0,9,  -999.0, -999.00,-999.0000,-999.000,-999.000
     316N145_5,  I09S,   105,  1,     11, SIH015,2,19950107,1433,-55.0000, 115.0000, 4465,24237.4,   2432.6,   1.2525,  34.7289,2,  34.7317,2,    195.8,2,  1.0917,    203.5,2,   105.11,2,    30.71,2,     0.02,2,     2.12,2,    0.071,2,    0.040,2, -999.000,5,-999.0000,5,  -999.00,9,   -999.0,9,  -999.00,9,-999.000,9,   -999.0,9,   -999.0,9,  -999.0, -999.00,-999.0000,-999.000,-999.000
     316N145_5,  I09S,   105,  1,     10, SIH013,2,19950107,1433,-55.0000, 115.0000, 4465,27391.5,   2749.8,   0.9812,  34.7152,2,  34.7178,2,    202.7,2,  0.7982,    206.6,2,   113.66,2,    31.19,2,     0.02,2,     2.15,2,    0.086,2,    0.040,2, -999.000,5,-999.0000,5,  -999.00,9,   -999.0,9,  -999.00,9,-999.000,9,   -999.0,9,   -999.0,9,  -999.0, -999.00,-999.0000,-999.000,-999.000
     316N145_5,  I09S,   105,  1,      9, SIH012,2,19950107,1433,-55.0000, 115.0000, 4465,30401.9,   3052.7,   0.6962,  34.7021,2,  34.7009,2,    203.2,2,  0.4922,    211.0,2,   120.97,2,    31.72,2,     0.02,2,     2.19,2,    0.125,2,    0.059,2, -999.000,5,-999.0000,5,  -999.00,9,   -999.0,9,  -999.00,9,-999.000,9,   -999.0,9,   -999.0,9,  -999.0, -999.00,-999.0000,-999.000,-999.000
     316N145_5,  I09S,   105,  1,      8, SIH010,2,19950107,1433,-55.0000, 115.0000, 4465,33448.5,   3359.1,   0.4902,  34.6920,2,  34.6934,2,    211.2,2,  0.2630,    215.2,2,   125.53,2,    31.89,2,     0.01,2,     2.20,2,    0.197,2,    0.084,2, -999.000,5,-999.0000,5,  -999.00,9,   -999.0,9,  -999.00,9,-999.000,9,   -999.0,9,   -999.0,9,  -999.0, -999.00,-999.0000,-999.000,-999.000
     316N145_5,  I09S,   105,  1,      7, SIH009,2,19950107,1433,-55.0000, 115.0000, 4465,35465.5,   3562.0,   0.3945,  34.6884,2,  34.6897,2,    213.3,2,  0.1504,    218.0,2,   128.56,2,    31.97,2,     0.01,2,     2.21,2,    0.251,2,    0.122,2, -999.000,5,-999.0000,5,  -999.00,9,   -999.0,9,  -999.00,9,-999.000,9,   -999.0,9,   -999.0,9,  -999.0, -999.00,-999.0000,-999.000,-999.000
     316N145_5,  I09S,   105,  1,      6, SIH038,2,19950107,1433,-55.0000, 115.0000, 4465,37468.6,   3763.5,   0.3200,  34.6855,2,  34.6855,2,    216.7,2,  0.0582,    220.2,2,   130.29,2,    32.04,2,     0.02,2,     2.21,2,    0.305,2,    0.145,2, -999.000,5,-999.0000,5,  -999.00,9,   -999.0,9,  -999.00,9,-999.000,9,   -999.0,9,   -999.0,9,  -999.0, -999.00,-999.0000,-999.000,-999.000
     316N145_5,  I09S,   105,  1,      5, SIH006,2,19950107,1433,-55.0000, 115.0000, 4465,39487.4,   3966.6,   0.2585,  34.6828,2,  34.6836,2,    218.7,2, -0.0218,    222.3,2,   131.21,2,    32.04,2,     0.02,2,     2.21,2,    0.352,6,    0.168,6, -999.000,5,-999.0000,5,  -999.00,9,   -999.0,9,  -999.00,9,-999.000,9,   -999.0,9,   -999.0,9,  -999.0, -999.00,-999.0000,-999.000,-999.000
     316N145_5,  I09S,   105,  1,      4, SIH004,2,19950107,1433,-55.0000, 115.0000, 4465,41533.1,   4172.3,   0.1971,  34.6797,2,  34.6808,2,    221.8,2, -0.1024,    224.6,2,   133.08,2,    32.09,2,     0.02,2,     2.21,2,    0.414,2,    0.192,2, -999.000,5,-999.0000,5,  -999.00,9,   -999.0,9,  -999.00,9,-999.000,9,   -999.0,9,   -999.0,9,  -999.0, -999.00,-999.0000,-999.000,-999.000
     316N145_5,  I09S,   105,  1,      3, SIH025,2,19950107,1433,-55.0000, 115.0000, 4465,43563.3,   4376.6,   0.1556,  34.6778,2,  34.6793,2,    224.7,2, -0.1640,    226.3,2,   135.40,2,    32.14,2,     0.02,2,     2.21,2,    0.478,2,    0.227,2, -999.000,5,-999.0000,5,  -999.00,9,   -999.0,9,  -999.00,9,-999.000,9,   -999.0,9,   -999.0,9,  -999.0, -999.00,-999.0000,-999.000,-999.000
     316N145_5,  I09S,   105,  1,      2, SIH001,2,19950107,1433,-55.0000, 115.0000, 4465,44496.4,   4470.4,   0.1528,  34.6770,2,  34.6781,2,    224.8,2, -0.1767,    227.0,2,   135.85,2,    32.08,2,     0.02,2,     2.22,2,    0.496,2,    0.229,2, -999.000,5,-999.0000,5,  -999.00,9,   -999.0,9,  -999.00,9,-999.000,9,   -999.0,9,   -999.0,9,  -999.0, -999.00,-999.0000,-999.000,-999.000
     316N145_5,  I09S,   105,  1,      1, SIH036,2,19950107,1433,-55.0000, 115.0000, 4465,44998.9,   4521.0,   0.1567,  34.6771,2,  34.6796,2,    226.4,2, -0.1784,    227.3,2,   135.98,2,    32.11,2,     0.01,2,     2.21,2,    0.498,2,    0.250,2, -999.000,5,-999.0000,5,  -999.00,9,   -999.0,9,  -999.00,9,-999.000,9,   -999.0,9,   -999.0,9,  -999.0, -999.00,-999.0000,-999.000,-999.000