BOTTLE,20090521WHPSIOdm
EXPOCODE,SECT_ID,STNNBR,CASTNO,SAMPNO,BTLNBR,BTLNBR_FLAG_W,DATE,TIME,LATITUDE,LONGITUDE,DEPTH,CTDRAW,CTDPRS,CTDTMP,CTDSAL,CTDSAL_FLAG_W,SALNTY,SALNTY_FLAG_W,CTDOXY,CTDOXY_FLAG_W,THETA,OXYGEN,OXYGEN_FLAG_W,SILCAT,SILCAT_FLAG_W,NITRAT,NITRAT_FLAG_W,NITRIT,NITRIT_FLAG_W,PHSPHT,PHSPHT_FLAG_W,CFC-11,CFC-11_FLAG_W,CFC-12,CFC-12_FLAG_W,TRITUM,TRITUM_FLAG_W,HELIUM,HELIUM_FLAG_W,DELHE3,DELHE3_FLAG_W,DELC14,DELC14_FLAG_W,DELC13,DELC13_FLAG_W,NEON,NEON_FLAG_W,TCARBN,TCARBN_FLAG_W,ALKALI,ALKALI_FLAG_W,C14ERR,DELHER,HELIER,NEONER,TRITER
,,,,,,,,,,,,,DBAR,IPTS-68,PSS-78,,PSS-78,,UMOL/KG,,IPTS-68,UMOL/KG,,UMOL/KG,,UMOL/KG,,UMOL/KG,,UMOL/KG,,PMOL/KG,,PMOL/KG,,TU,,NMOL/KG,,PERCNT,,/MILLE,,/MILLE,,NMOL/KG,,UMOL/KG,,UMOL/KG,,/MILLE,PERCNT,NMOL/KG,NMOL/KG,TU
     316N145_5,  I08S,    80,  1,     36, SIH035,2,19941227,1042,-63.5195,  82.0028, 3345,  153.5,     10.0,   0.0548,  33.7268,2,  33.7343,2,    348.3,2,  0.0545,    346.7,2,    38.16,2,    26.03,2,     0.29,2,     1.70,2, -999.000,9, -999.000,9, -999.000,5,-999.0000,5,  -999.00,9,   -999.0,9,  -999.00,9,-999.000,9,   -999.0,9,   -999.0,9,  -999.0, -999.00,-999.0000,-999.000,-999.000
     316N145_5,  I08S,    80,  1,     35, SIH032,2,19941227,1042,-63.5195,  82.0028, 3345,  357.2,     30.5,  -0.0835,  33.7529,2,  33.7609,2,    345.6,2, -0.0845,    346.0,2,    37.83,2,    25.93,2,     0.27,2,     1.73,2, -999.000,9, -999.000,9, -999.000,5,-999.0000,5,  -999.00,9,   -999.0,9,  -999.00,9,-999.000,9,   -999.0,9,   -999.0,9,  -999.0, -999.00,-999.0000,-999.000,-999.000
     316N145_5,  I08S,    80,  1,     34, SIH029,2,19941227,1042,-63.5195,  82.0028, 3345,  606.6,     55.6,  -1.2539,  34.0820,2,  34.0795,2,    319.5,2, -1.2552,    303.3,2,    50.43,2,    29.80,2,     0.18,2,     2.09,2, -999.000,9, -999.000,9, -999.000,5,-999.0000,5,  -999.00,9,   -999.0,9,  -999.00,9,-999.000,9,   -999.0,9,   -999.0,9,  -999.0, -999.00,-999.0000,-999.000,-999.000
     316N145_5,  I08S,    80,  1,     33, SIH026,2,19941227,1042,-63.5195,  82.0028, 3345,  857.8,     80.9,  -0.1374,  34.2585,2,  34.2615,2,    257.4,2, -0.1401,    248.6,2,    62.87,2,    32.67,2,     0.16,2,     2.28,2, -999.000,9, -999.000,9, -999.000,5,-999.0000,5,  -999.00,9,   -999.0,9,  -999.00,9,-999.000,9,   -999.0,9,   -999.0,9,  -999.0, -999.00,-999.0000,-999.000,-999.000
     316N145_5,  I08S,    80,  1,     32, SIH023,2,19941227,1042,-63.5195,  82.0028, 3345, 1104.3,    105.7,   1.1338,  34.4407,2,  34.4159,2,    204.9,2,  1.1291,    205.8,2,    71.98,2,    34.50,2,     0.10,2,     2.36,2, -999.000,9, -999.000,9, -999.000,5,-999.0000,5,  -999.00,9,   -999.0,9,  -999.00,9,-999.000,9,   -999.0,9,   -999.0,9,  -999.0, -999.00,-999.0000,-999.000,-999.000
     316N145_5,  I08S,    80,  1,     31, SIH020,2,19941227,1042,-63.5195,  82.0028, 3345, 1605.4,    156.1,   1.6027,  34.5315,2,  34.5351,2,    183.4,2,  1.5949,    181.6,2,    78.94,2,    34.95,2,     0.03,2,     2.38,2, -999.000,9, -999.000,9, -999.000,5,-999.0000,5,  -999.00,9,   -999.0,9,  -999.00,9,-999.000,9,   -999.0,9,   -999.0,9,  -999.0, -999.00,-999.0000,-999.000,-999.000
     316N145_5,  I08S,    80,  1,     30, SIH017,2,19941227,1042,-63.5195,  82.0028, 3345, 2104.1,    206.3,   1.8302,  34.5886,2,  34.5908,2,    173.9,2,  1.8195,    174.6,2,    82.08,2,    34.80,2,     0.01,2,     2.36,2, -999.000,9, -999.000,9, -999.000,5,-999.0000,5,  -999.00,9,   -999.0,9,  -999.00,9,-999.000,9,   -999.0,9,   -999.0,9,  -999.0, -999.00,-999.0000,-999.000,-999.000
     316N145_5,  I08S,    80,  1,     29, SIH014,2,19941227,1042,-63.5195,  82.0028, 3345, 2608.6,    257.0,   1.8486,  34.6244,2,  34.6276,2,    171.9,2,  1.8350,    175.0,2,    83.73,2,    34.29,2,     0.01,2,     2.32,2, -999.000,9, -999.000,9, -999.000,5,-999.0000,5,  -999.00,9,   -999.0,9,  -999.00,9,-999.000,9,   -999.0,9,   -999.0,9,  -999.0, -999.00,-999.0000,-999.000,-999.000
     316N145_5,  I08S,    80,  1,     28, SIH011,2,19941227,1042,-63.5195,  82.0028, 3345, 3103.8,    306.8,   1.9459,  34.6587,2,  34.6627,2,    174.3,2,  1.9293,    174.1,2,    84.39,2,    33.78,2,     0.00,2,     2.29,2, -999.000,9, -999.000,9, -999.000,5,-999.0000,5,  -999.00,9,   -999.0,9,  -999.00,9,-999.000,9,   -999.0,9,   -999.0,9,  -999.0, -999.00,-999.0000,-999.000,-999.000
     316N145_5,  I08S,    80,  1,     27, SIH008,2,19941227,1042,-63.5195,  82.0028, 3345, 3606.7,    357.4,   1.9345,  34.6753,2,  34.6775,2,    175.5,2,  1.9150,    176.3,2,    85.05,2,    33.37,2,     0.00,2,     2.25,2, -999.000,9, -999.000,9, -999.000,5,-999.0000,5,  -999.00,9,   -999.0,9,  -999.00,9,-999.000,9,   -999.0,9,   -999.0,9,  -999.0, -999.00,-999.0000,-999.000,-999.000
     316N145_5,  I08S,    80,  1,     26, SIH005,2,19941227,1042,-63.5195,  82.0028, 3345, 4100.7,    407.1,   1.9263,  34.6900,2,  34.6938,2,    175.4,2,  1.9039,    178.4,2,    85.54,2,    32.95,2,     0.00,2,     2.23,2, -999.000,9, -999.000,9, -999.000,5,-999.0000,5,  -999.00,9,   -999.0,9,  -999.00,9,-999.000,9,   -999.0,9,   -999.0,9,  -999.0, -999.00,-999.0000,-999.000,-999.000
     316N145_5,  I08S,    80,  1,     25, SIH019,2,19941227,1042,-63.5195,  82.0028, 3345, 4612.8,    458.6,   1.9285,  34.7042,2,  34.7076,2,    179.9,2,  1.9031,    181.3,2,    85.54,2,    32.48,2,     0.00,2,     2.20,2, -999.000,9, -999.000,9, -999.000,5,-999.0000,5,  -999.00,9,   -999.0,9,  -999.00,9,-999.000,9,   -999.0,9,   -999.0,9,  -999.0, -999.00,-999.0000,-999.000,-999.000
     316N145_5,  I08S,    80,  1,     24, SIH037,2,19941227,1042,-63.5195,  82.0028, 3345, 5107.2,    508.3,   1.9170,  34.7144,2,  34.7300,2,    178.4,2,  1.8887,    188.2,2,    86.86,2,    31.57,2,     0.00,2,     2.14,2, -999.000,9, -999.000,9, -999.000,5,-999.0000,5,  -999.00,9,   -999.0,9,  -999.00,9,-999.000,9,   -999.0,9,   -999.0,9,  -999.0, -999.00,-999.0000,-999.000,-999.000
     316N145_5,  I08S,    80,  1,     23, SIH033,2,19941227,1042,-63.5195,  82.0028, 3345, 6112.3,    609.4,   1.8431,  34.7282,2,  34.7378,2,    184.9,2,  1.8090,    191.3,2,    87.86,2,    31.30,2,     0.00,2,     2.12,2, -999.000,9, -999.000,9, -999.000,5,-999.0000,5,  -999.00,9,   -999.0,9,  -999.00,9,-999.000,9,   -999.0,9,   -999.0,9,  -999.0, -999.00,-999.0000,-999.000,-999.000
     316N145_5,  I08S,    80,  1,     22, SIH031,2,19941227,1042,-63.5195,  82.0028, 3345, 7108.0,    709.6,   1.7845,  34.7352,2,  34.7425,2,    187.7,2,  1.7445,    194.2,2,    89.51,2,    31.08,2,     0.00,2,     2.11,2, -999.000,9, -999.000,9, -999.000,5,-999.0000,5,  -999.00,9,   -999.0,9,  -999.00,9,-999.000,9,   -999.0,9,   -999.0,9,  -999.0, -999.00,-999.0000,-999.000,-999.000
     316N145_5,  I08S,    80,  1,     21, SIH030,2,19941227,1042,-63.5195,  82.0028, 3345, 8119.3,    811.3,   1.7003,  34.7389,2,  34.7431,2,    191.5,2,  1.6545,    194.5,2,    89.18,2,    31.06,2,     0.00,2,     2.16,3, -999.000,9, -999.000,9, -999.000,5,-999.0000,5,  -999.00,9,   -999.0,9,  -999.00,9,-999.000,9,   -999.0,9,   -999.0,9,  -999.0, -999.00,-999.0000,-999.000,-999.000
     316N145_5,  I08S,    80,  1,     20, SIH028,2,19941227,1042,-63.5195,  82.0028, 3345, 9111.6,    911.1,   1.6272,  34.7444,2,  34.7427,2,    191.6,2,  1.5755,    194.4,2,    89.17,2,    31.04,2,     0.00,2,     2.11,2, -999.000,9, -999.000,9, -999.000,5,-999.0000,5,  -999.00,9,   -999.0,9,  -999.00,9,-999.000,9,   -999.0,9,   -999.0,9,  -999.0, -999.00,-999.0000,-999.000,-999.000
     316N145_5,  I08S,    80,  1,     19, SIH027,2,19941227,1042,-63.5195,  82.0028, 3345,10111.0,   1011.6,   1.5633,  34.7473,2,  34.7506,2,    196.4,2,  1.5056,    200.3,2,    91.98,2,    30.67,2,     0.00,2,     2.07,2, -999.000,9, -999.000,9, -999.000,5,-999.0000,5,  -999.00,9,   -999.0,9,  -999.00,9,-999.000,9,   -999.0,9,   -999.0,9,  -999.0, -999.00,-999.0000,-999.000,-999.000
     316N145_5,  I08S,    80,  1,     18, SIH003,2,19941227,1042,-63.5195,  82.0028, 3345,11117.3,   1112.9,   1.4720,  34.7444,2,  34.7478,2,    199.2,2,  1.4084,    201.4,2,    94.13,2,    30.75,2,     0.00,2,     2.08,2, -999.000,9, -999.000,9, -999.000,5,-999.0000,5,  -999.00,9,   -999.0,9,  -999.00,9,-999.000,9,   -999.0,9,   -999.0,9,  -999.0, -999.00,-999.0000,-999.000,-999.000
     316N145_5,  I08S,    80,  1,     17, SIH024,2,19941227,1042,-63.5195,  82.0028, 3345,12130.5,   1214.8,   1.3751,  34.7413,2,  34.7404,2,    198.6,2,  1.3056,    202.9,2,    96.78,2,    30.83,2,     0.00,2,     2.09,2, -999.000,9, -999.000,9, -999.000,5,-999.0000,5,  -999.00,9,   -999.0,9,  -999.00,9,-999.000,9,   -999.0,9,   -999.0,9,  -999.0, -999.00,-999.0000,-999.000,-999.000
     316N145_5,  I08S,    80,  1,     16, SIH022,2,19941227,1042,-63.5195,  82.0028, 3345,13132.4,   1315.5,   1.2820,  34.7357,2,  34.7392,2,    198.7,2,  1.2066,    203.5,2,    99.59,2,    31.11,2,     0.00,2,     2.10,2, -999.000,9, -999.000,9, -999.000,5,-999.0000,5,  -999.00,9,   -999.0,9,  -999.00,9,-999.000,9,   -999.0,9,   -999.0,9,  -999.0, -999.00,-999.0000,-999.000,-999.000
     316N145_5,  I08S,    80,  1,     15, SIH021,2,19941227,1042,-63.5195,  82.0028, 3345,14141.4,   1417.0,   1.1944,  34.7318,2,  34.7353,2,    199.3,2,  1.1130,    204.1,2,   102.40,2,    31.44,2,     0.00,2,     2.12,2, -999.000,9, -999.000,9, -999.000,5,-999.0000,5,  -999.00,9,   -999.0,9,  -999.00,9,-999.000,9,   -999.0,9,   -999.0,9,  -999.0, -999.00,-999.0000,-999.000,-999.000
     316N145_5,  I08S,    80,  1,     14, SIH002,2,19941227,1042,-63.5195,  82.0028, 3345,15147.2,   1518.2,   1.1011,  34.7257,2,  34.7296,2,    200.6,2,  1.0137,    205.2,2,   105.04,2,    31.52,2,     0.00,2,     2.13,2, -999.000,9, -999.000,9, -999.000,5,-999.0000,5,  -999.00,9,   -999.0,9,  -999.00,9,-999.000,9,   -999.0,9,   -999.0,9,  -999.0, -999.00,-999.0000,-999.000,-999.000
     316N145_5,  I08S,    80,  1,     13, SIH018,2,19941227,1042,-63.5195,  82.0028, 3345,16149.3,   1619.0,   1.0066,  34.7213,2,  34.7247,2,    200.0,2,  0.9132,    206.0,2,   108.02,2,    31.76,2,     0.00,2,     2.15,2, -999.000,9, -999.000,9, -999.000,5,-999.0000,5,  -999.00,9,   -999.0,9,  -999.00,9,-999.000,9,   -999.0,9,   -999.0,9,  -999.0, -999.00,-999.0000,-999.000,-999.000
     316N145_5,  I08S,    80,  1,     12, SIH016,2,19941227,1042,-63.5195,  82.0028, 3345,17165.3,   1721.2,   0.9164,  34.7163,2,  34.7211,2,    202.8,2,  0.8170,    206.5,2,   110.49,2,    32.29,2,     0.00,2,     2.16,2, -999.000,9, -999.000,9, -999.000,5,-999.0000,5,  -999.00,9,   -999.0,9,  -999.00,9,-999.000,9,   -999.0,9,   -999.0,9,  -999.0, -999.00,-999.0000,-999.000,-999.000
     316N145_5,  I08S,    80,  1,     11, SIH015,2,19941227,1042,-63.5195,  82.0028, 3345,18175.7,   1822.8,   0.8337,  34.7107,2,  34.7132,2,    203.7,2,  0.7281,    207.2,2,   113.14,2,    32.32,2,     0.00,2,     2.18,2, -999.000,9, -999.000,9, -999.000,5,-999.0000,5,  -999.00,9,   -999.0,9,  -999.00,9,-999.000,9,   -999.0,9,   -999.0,9,  -999.0, -999.00,-999.0000,-999.000,-999.000
     316N145_5,  I08S,    80,  1,     10, SIH013,2,19941227,1042,-63.5195,  82.0028, 3345,19187.4,   1924.6,   0.7575,  34.7062,2,  34.7083,2,    202.0,2,  0.6455,    208.0,2,   115.12,2,    32.21,2,     0.00,2,     2.19,2, -999.000,9, -999.000,9, -999.000,5,-999.0000,5,  -999.00,9,   -999.0,9,  -999.00,9,-999.000,9,   -999.0,9,   -999.0,9,  -999.0, -999.00,-999.0000,-999.000,-999.000
     316N145_5,  I08S,    80,  1,      9, SIH012,2,19941227,1042,-63.5195,  82.0028, 3345,20197.9,   2026.2,   0.6809,  34.7020,2,  34.7044,2,    203.6,2,  0.5625,    209.0,2,   117.60,2,    32.23,2,     0.00,2,     2.21,2, -999.000,9, -999.000,9, -999.000,5,-999.0000,5,  -999.00,9,   -999.0,9,  -999.00,9,-999.000,9,   -999.0,9,   -999.0,9,  -999.0, -999.00,-999.0000,-999.000,-999.000
     316N145_5,  I08S,    80,  1,      8, SIH010,2,19941227,1042,-63.5195,  82.0028, 3345,22220.4,   2229.7,   0.5085,  34.6896,2,  34.6928,2,    204.5,2,  0.3775,    211.0,2,   121.07,2,    32.63,2,     0.00,2,     2.24,2, -999.000,9, -999.000,9, -999.000,5,-999.0000,5,  -999.00,9,   -999.0,9,  -999.00,9,-999.000,9,   -999.0,9,   -999.0,9,  -999.0, -999.00,-999.0000,-999.000,-999.000
     316N145_5,  I08S,    80,  1,      7, SIH009,2,19941227,1042,-63.5195,  82.0028, 3345,24297.7,   2438.6,   0.3485,  34.6789,2,  34.6824,2,    211.6,2,  0.2040,    215.3,2,   121.06,2,    32.56,2,     0.00,2,     2.24,2, -999.000,9, -999.000,9, -999.000,5,-999.0000,5,  -999.00,9,   -999.0,9,  -999.00,9,-999.000,9,   -999.0,9,   -999.0,9,  -999.0, -999.00,-999.0000,-999.000,-999.000
     316N145_5,  I08S,    80,  1,      6, SIH038,2,19941227,1042,-63.5195,  82.0028, 3345,26265.4,   2636.6,   0.2497,  34.6760,2,  34.6781,2,    214.7,2,  0.0913,    218.4,2,   123.37,2,    32.59,2,     0.00,2,     2.25,2, -999.000,9, -999.000,9, -999.000,5,-999.0000,5,  -999.00,9,   -999.0,9,  -999.00,9,-999.000,9,   -999.0,9,   -999.0,9,  -999.0, -999.00,-999.0000,-999.000,-999.000
     316N145_5,  I08S,    80,  1,      5, SIH006,2,19941227,1042,-63.5195,  82.0028, 3345,28298.9,   2841.1,   0.1637,  34.6739,2,  34.6759,2,    220.1,2, -0.0099,    221.3,2,   124.86,2,    32.57,2,     0.00,2,     2.24,2, -999.000,9, -999.000,9, -999.000,5,-999.0000,5,  -999.00,9,   -999.0,9,  -999.00,9,-999.000,9,   -999.0,9,   -999.0,9,  -999.0, -999.00,-999.0000,-999.000,-999.000
     316N145_5,  I08S,    80,  1,      4, SIH004,2,19941227,1042,-63.5195,  82.0028, 3345,30311.6,   3043.6,   0.0808,  34.6719,2,  34.6743,2,    224.3,2, -0.1082,    224.2,2,   125.01,2,    32.50,2,     0.00,2,     2.24,2, -999.000,9, -999.000,9, -999.000,5,-999.0000,5,  -999.00,9,   -999.0,9,  -999.00,9,-999.000,9,   -999.0,9,   -999.0,9,  -999.0, -999.00,-999.0000,-999.000,-999.000
     316N145_5,  I08S,    80,  1,      3, SIH025,2,19941227,1042,-63.5195,  82.0028, 3345,32338.0,   3247.4,   0.0069,  34.6719,2,  34.6728,2,    228.6,2, -0.1983,    227.9,2,   124.18,2,    32.27,2,     0.00,2,     2.24,2, -999.000,9, -999.000,9, -999.000,5,-999.0000,5,  -999.00,9,   -999.0,9,  -999.00,9,-999.000,9,   -999.0,9,   -999.0,9,  -999.0, -999.00,-999.0000,-999.000,-999.000
     316N145_5,  I08S,    80,  1,      2, SIH001,2,19941227,1042,-63.5195,  82.0028, 3345,33146.4,   3328.7,  -0.0210,  34.6711,2,  34.6720,2,    228.7,2, -0.2328,    228.9,2,   123.85,2,    32.35,2,     0.00,2,     2.22,2, -999.000,9, -999.000,9, -999.000,5,-999.0000,5,  -999.00,9,   -999.0,9,  -999.00,9,-999.000,9,   -999.0,9,   -999.0,9,  -999.0, -999.00,-999.0000,-999.000,-999.000
     316N145_5,  I08S,    80,  1,      1, SIH036,2,19941227,1042,-63.5195,  82.0028, 3345,33643.1,   3378.7,  -0.0497,  34.6707,2,  34.6745,3,    229.1,2, -0.2652,    230.3,2,   123.28,2,    32.29,2,     0.00,2,     2.22,2, -999.000,9, -999.000,9, -999.000,5,-999.0000,5,  -999.00,9,   -999.0,9,  -999.00,9,-999.000,9,   -999.0,9,   -999.0,9,  -999.0, -999.00,-999.0000,-999.000,-999.000