BOTTLE,20090521WHPSIOdm
EXPOCODE,SECT_ID,STNNBR,CASTNO,SAMPNO,BTLNBR,BTLNBR_FLAG_W,DATE,TIME,LATITUDE,LONGITUDE,DEPTH,CTDRAW,CTDPRS,CTDTMP,CTDSAL,CTDSAL_FLAG_W,SALNTY,SALNTY_FLAG_W,CTDOXY,CTDOXY_FLAG_W,THETA,OXYGEN,OXYGEN_FLAG_W,SILCAT,SILCAT_FLAG_W,NITRAT,NITRAT_FLAG_W,NITRIT,NITRIT_FLAG_W,PHSPHT,PHSPHT_FLAG_W,CFC-11,CFC-11_FLAG_W,CFC-12,CFC-12_FLAG_W,TRITUM,TRITUM_FLAG_W,HELIUM,HELIUM_FLAG_W,DELHE3,DELHE3_FLAG_W,DELC14,DELC14_FLAG_W,DELC13,DELC13_FLAG_W,NEON,NEON_FLAG_W,TCARBN,TCARBN_FLAG_W,ALKALI,ALKALI_FLAG_W,C14ERR,DELHER,HELIER,NEONER,TRITER
,,,,,,,,,,,,,DBAR,IPTS-68,PSS-78,,PSS-78,,UMOL/KG,,IPTS-68,UMOL/KG,,UMOL/KG,,UMOL/KG,,UMOL/KG,,UMOL/KG,,PMOL/KG,,PMOL/KG,,TU,,NMOL/KG,,PERCNT,,/MILLE,,/MILLE,,NMOL/KG,,UMOL/KG,,UMOL/KG,,/MILLE,PERCNT,NMOL/KG,NMOL/KG,TU
     316N145_5,  I09S,   109,  1,     36, SIH035,9,19950108,1944,-52.6083, 114.9833, 3825,  169.0,     11.6,   3.5393,  33.8678,3,-999.0000,9,    334.0,3,  3.5385,   -999.0,9,  -999.00,9,  -999.00,9,  -999.00,9,  -999.00,9, -999.000,9, -999.000,9, -999.000,5,-999.0000,5,  -999.00,9,   -999.0,9,  -999.00,9,-999.000,9,   -999.0,9,   -999.0,9,  -999.0, -999.00,-999.0000,-999.000,-999.000
     316N145_5,  I09S,   109,  1,     35, SIH032,2,19950108,1944,-52.6083, 114.9833, 3825,  369.5,     31.8,   3.5406,  33.8671,2,  33.8694,2,    332.0,2,  3.5386,    324.2,2,     8.09,2,    23.99,2,     0.25,2,     1.60,2,    5.672,2,    2.816,2, -999.000,5,-999.0000,5,  -999.00,9,   -999.0,9,  -999.00,9,-999.000,9,   -999.0,9,   -999.0,9,  -999.0, -999.00,-999.0000,-999.000,-999.000
     316N145_5,  I09S,   109,  1,     34, SIH029,2,19950108,1944,-52.6083, 114.9833, 3825,  618.6,     56.9,   3.4108,  33.8726,2,  33.8699,2,    339.3,2,  3.4072,    324.4,2,     8.09,2,    23.98,2,     0.25,2,     1.60,2,    5.711,2,    2.818,2, -999.000,5,-999.0000,5,  -999.00,9,   -999.0,9,  -999.00,9,-999.000,9,   -999.0,9,   -999.0,9,  -999.0, -999.00,-999.0000,-999.000,-999.000
     316N145_5,  I09S,   109,  1,     33, SIH026,2,19950108,1944,-52.6083, 114.9833, 3825,  867.5,     81.9,   3.3920,  33.8725,2,  33.8756,2,    337.6,2,  3.3868,    325.5,2,     8.09,2,    23.98,2,     0.25,2,     1.60,2,    5.709,2,    2.810,2, -999.000,5,-999.0000,5,  -999.00,9,   -999.0,9,  -999.00,9,-999.000,9,   -999.0,9,   -999.0,9,  -999.0, -999.00,-999.0000,-999.000,-999.000
     316N145_5,  I09S,   109,  1,     32, SIH023,2,19950108,1944,-52.6083, 114.9833, 3825, 1129.1,    108.2,   2.7268,  33.9117,2,  33.9138,2,    334.3,2,  2.7206,    324.4,2,     7.13,2,    24.01,2,     0.25,2,     1.68,2,    5.783,2,    2.852,2, -999.000,5,-999.0000,5,  -999.00,9,   -999.0,9,  -999.00,9,-999.000,9,   -999.0,9,   -999.0,9,  -999.0, -999.00,-999.0000,-999.000,-999.000
     316N145_5,  I09S,   109,  1,     31, SIH020,2,19950108,1944,-52.6083, 114.9833, 3825, 1610.4,    156.6,   1.1324,  34.0182,2,  34.0219,2,    316.6,2,  1.1253,    313.7,2,    28.21,2,    28.18,2,     0.20,2,     1.96,2,    5.689,2,    2.754,2, -999.000,5,-999.0000,5,  -999.00,9,   -999.0,9,  -999.00,9,-999.000,9,   -999.0,9,   -999.0,9,  -999.0, -999.00,-999.0000,-999.000,-999.000
     316N145_5,  I09S,   109,  1,     30, SIH017,2,19950108,1944,-52.6083, 114.9833, 3825, 2134.0,    209.3,   1.5348,  34.1911,2,  34.1922,2,    255.9,2,  1.5245,    253.6,2,    43.59,2,    31.71,2,     0.01,2,     2.17,2,    3.651,2,    1.732,2, -999.000,5,-999.0000,5,  -999.00,9,   -999.0,9,  -999.00,9,-999.000,9,   -999.0,9,   -999.0,9,  -999.0, -999.00,-999.0000,-999.000,-999.000
     316N145_5,  I09S,   109,  1,     29, SIH014,2,19950108,1944,-52.6083, 114.9833, 3825, 2597.5,    255.9,   1.7924,  34.3036,2,  34.1924,2,    217.8,2,  1.7791,    253.7,2,    43.42,2,    31.60,2,     0.01,2,     2.17,2,    3.635,2,    1.721,2, -999.000,5,-999.0000,5,  -999.00,9,   -999.0,9,  -999.00,9,-999.000,9,   -999.0,9,   -999.0,9,  -999.0, -999.00,-999.0000,-999.000,-999.000
     316N145_5,  I09S,   109,  1,     28, SIH011,2,19950108,1944,-52.6083, 114.9833, 3825, 3118.1,    308.3,   1.9442,  34.3790,2,  34.3817,2,    200.5,2,  1.9276,    202.7,2,    60.29,2,    33.82,2,     0.01,2,     2.31,2,    1.778,2,    0.821,2, -999.000,5,-999.0000,5,  -999.00,9,   -999.0,9,  -999.00,9,-999.000,9,   -999.0,9,   -999.0,9,  -999.0, -999.00,-999.0000,-999.000,-999.000
     316N145_5,  I09S,   109,  1,     27, SIH008,2,19950108,1944,-52.6083, 114.9833, 3825, 3607.9,    357.5,   2.1693,  34.4575,2,  34.4597,2,    186.8,2,  2.1493,    187.1,2,    65.45,2,    33.97,2,     0.01,2,     2.32,2,    1.121,2,    0.513,2, -999.000,5,-999.0000,5,  -999.00,9,   -999.0,9,  -999.00,9,-999.000,9,   -999.0,9,   -999.0,9,  -999.0, -999.00,-999.0000,-999.000,-999.000
     316N145_5,  I09S,   109,  1,     26, SIH005,2,19950108,1944,-52.6083, 114.9833, 3825, 4118.5,    408.9,   2.1671,  34.5013,2,  34.4624,2,    177.9,2,  2.1440,    187.2,2,    65.45,2,    33.91,2,     0.01,2,     2.32,2,    1.116,2,    0.513,2, -999.000,5,-999.0000,5,  -999.00,9,   -999.0,9,  -999.00,9,-999.000,9,   -999.0,9,   -999.0,9,  -999.0, -999.00,-999.0000,-999.000,-999.000
     316N145_5,  I09S,   109,  1,     25, SIH019,2,19950108,1944,-52.6083, 114.9833, 3825, 4605.9,    457.9,   2.1992,  34.5433,2,  34.5064,2,    175.5,2,  2.1730,    181.7,2,    68.93,2,    33.90,2,     0.01,2,     2.32,2,    0.885,2,    0.397,2, -999.000,5,-999.0000,5,  -999.00,9,   -999.0,9,  -999.00,9,-999.000,9,   -999.0,9,   -999.0,9,  -999.0, -999.00,-999.0000,-999.000,-999.000
     316N145_5,  I09S,   109,  1,     24, SIH037,2,19950108,1944,-52.6083, 114.9833, 3825, 5095.2,    507.1,   2.2523,  34.5814,2,  34.5848,2,    174.4,2,  2.2228,    176.5,2,    73.37,2,    33.27,2,     0.00,2,     2.28,2,    0.484,2,    0.216,2, -999.000,5,-999.0000,5,  -999.00,9,   -999.0,9,  -999.00,9,-999.000,9,   -999.0,9,   -999.0,9,  -999.0, -999.00,-999.0000,-999.000,-999.000
     316N145_5,  I09S,   109,  1,     23, SIH033,2,19950108,1944,-52.6083, 114.9833, 3825, 6095.6,    607.8,   2.2360,  34.6271,2,  34.6315,2,    173.8,2,  2.2002,    176.5,2,    75.58,2,    32.64,2,     0.00,2,     2.23,2,    0.342,2,    0.150,2, -999.000,5,-999.0000,5,  -999.00,9,   -999.0,9,  -999.00,9,-999.000,9,   -999.0,9,   -999.0,9,  -999.0, -999.00,-999.0000,-999.000,-999.000
     316N145_5,  I09S,   109,  1,     22, SIH031,2,19950108,1944,-52.6083, 114.9833, 3825, 7103.3,    709.1,   2.2093,  34.6605,2,  34.6627,2,    178.0,2,  2.1670,    178.4,2,    76.86,2,    32.06,2,     0.00,2,     2.19,2,    0.263,2,    0.114,2, -999.000,5,-999.0000,5,  -999.00,9,   -999.0,9,  -999.00,9,-999.000,9,   -999.0,9,   -999.0,9,  -999.0, -999.00,-999.0000,-999.000,-999.000
     316N145_5,  I09S,   109,  1,     21, SIH030,2,19950108,1944,-52.6083, 114.9833, 3825, 8099.4,    809.3,   2.1366,  34.6833,2,  34.6855,2,    175.7,2,  2.0881,    180.9,2,    78.91,2,    31.38,2,     0.00,2,     2.16,2,    0.232,3,    0.094,2, -999.000,5,-999.0000,5,  -999.00,9,   -999.0,9,  -999.00,9,-999.000,9,   -999.0,9,   -999.0,9,  -999.0, -999.00,-999.0000,-999.000,-999.000
     316N145_5,  I09S,   109,  1,     20, SIH028,2,19950108,1944,-52.6083, 114.9833, 3825, 9101.0,    910.1,   2.0647,  34.7073,2,  34.7119,2,    181.2,2,  2.0099,    184.9,2,    80.66,2,    31.04,2,     0.00,2,     2.12,2,    0.190,3,    0.073,2, -999.000,5,-999.0000,5,  -999.00,9,   -999.0,9,  -999.00,9,-999.000,9,   -999.0,9,   -999.0,9,  -999.0, -999.00,-999.0000,-999.000,-999.000
     316N145_5,  I09S,   109,  1,     19, SIH027,2,19950108,1944,-52.6083, 114.9833, 3825,10108.5,   1011.4,   2.0135,  34.7221,2,  34.7233,2,    181.5,2,  1.9522,    187.4,2,    82.08,2,    30.65,2,     0.00,2,     2.10,2,    0.153,3,    0.061,2, -999.000,5,-999.0000,5,  -999.00,9,   -999.0,9,  -999.00,9,-999.000,9,   -999.0,9,   -999.0,9,  -999.0, -999.00,-999.0000,-999.000,-999.000
     316N145_5,  I09S,   109,  1,     18, SIH003,2,19950108,1944,-52.6083, 114.9833, 3825,11103.8,   1111.5,   1.9420,  34.7327,2,  34.7370,2,    188.5,2,  1.8744,    190.7,2,    83.82,2,    30.31,2,     0.00,2,     2.08,2,    0.135,2,    0.060,2, -999.000,5,-999.0000,5,  -999.00,9,   -999.0,9,  -999.00,9,-999.000,9,   -999.0,9,   -999.0,9,  -999.0, -999.00,-999.0000,-999.000,-999.000
     316N145_5,  I09S,   109,  1,     17, SIH024,2,19950108,1944,-52.6083, 114.9833, 3825,12115.0,   1213.2,   1.8787,  34.7400,2,  34.7380,4,    190.5,2,  1.8044,    192.5,2,    84.78,2,    30.25,2,     0.00,2,     2.07,2, -999.000,9, -999.000,9, -999.000,5,-999.0000,5,  -999.00,9,   -999.0,9,  -999.00,9,-999.000,9,   -999.0,9,   -999.0,9,  -999.0, -999.00,-999.0000,-999.000,-999.000
     316N145_5,  I09S,   109,  1,     16, SIH022,2,19950108,1944,-52.6083, 114.9833, 3825,13096.1,   1311.9,   1.8044,  34.7426,2,  34.7427,2,    190.4,2,  1.7238,    195.0,2,    87.48,2,    30.01,2,     0.00,2,     2.06,2, -999.000,9, -999.000,9, -999.000,5,-999.0000,5,  -999.00,9,   -999.0,9,  -999.00,9,-999.000,9,   -999.0,9,   -999.0,9,  -999.0, -999.00,-999.0000,-999.000,-999.000
     316N145_5,  I09S,   109,  1,     15, SIH021,2,19950108,1944,-52.6083, 114.9833, 3825,14113.0,   1414.2,   1.7049,  34.7429,2,  34.7471,2,    195.1,2,  1.6179,    196.9,2,    90.16,2,    30.09,2,     0.00,2,     2.05,2,    0.103,2,    0.043,2, -999.000,5,-999.0000,5,  -999.00,9,   -999.0,9,  -999.00,9,-999.000,9,   -999.0,9,   -999.0,9,  -999.0, -999.00,-999.0000,-999.000,-999.000
     316N145_5,  I09S,   109,  1,     14, SIH002,2,19950108,1944,-52.6083, 114.9833, 3825,15185.2,   1522.0,   1.6153,  34.7425,2,  34.7451,2,    195.7,2,  1.5215,    198.5,2,    92.70,2,    30.08,2,     0.00,2,     2.06,2, -999.000,9, -999.000,9, -999.000,5,-999.0000,5,  -999.00,9,   -999.0,9,  -999.00,9,-999.000,9,   -999.0,9,   -999.0,9,  -999.0, -999.00,-999.0000,-999.000,-999.000
     316N145_5,  I09S,   109,  1,     13, SIH018,2,19950108,1944,-52.6083, 114.9833, 3825,17175.6,   1722.3,   1.4446,  34.7376,2,  34.7435,2,    199.4,2,  1.3379,    200.7,2,    97.78,2,    30.26,2,     0.00,2,     2.07,2,    0.081,2,    0.038,2, -999.000,5,-999.0000,5,  -999.00,9,   -999.0,9,  -999.00,9,-999.000,9,   -999.0,9,   -999.0,9,  -999.0, -999.00,-999.0000,-999.000,-999.000
     316N145_5,  I09S,   109,  1,     12, SIH016,2,19950108,1944,-52.6083, 114.9833, 3825,19243.5,   1930.3,   1.2652,  34.7310,2,  34.7333,2,    200.4,2,  1.1451,    202.8,2,   103.49,2,    30.54,2,     0.00,2,     2.09,2,    0.072,2,    0.029,2, -999.000,5,-999.0000,5,  -999.00,9,   -999.0,9,  -999.00,9,-999.000,9,   -999.0,9,   -999.0,9,  -999.0, -999.00,-999.0000,-999.000,-999.000
     316N145_5,  I09S,   109,  1,     11, SIH015,2,19950108,1944,-52.6083, 114.9833, 3825,21244.4,   2131.5,   1.0997,  34.7236,2,  34.7264,2,    201.9,2,  0.9663,    204.6,2,   108.71,2,    30.91,2,     0.00,2,     2.12,2,    0.072,2,    0.029,2, -999.000,5,-999.0000,5,  -999.00,9,   -999.0,9,  -999.00,9,-999.000,9,   -999.0,9,   -999.0,9,  -999.0, -999.00,-999.0000,-999.000,-999.000
     316N145_5,  I09S,   109,  1,     10, SIH013,2,19950108,1944,-52.6083, 114.9833, 3825,23304.1,   2338.7,   0.9106,  34.7138,2,  34.7152,2,    202.7,2,  0.7638,    206.8,2,   114.27,2,    31.24,2,     0.00,2,     2.14,2,    0.094,2,    0.037,2, -999.000,5,-999.0000,5,  -999.00,9,   -999.0,9,  -999.00,9,-999.000,9,   -999.0,9,   -999.0,9,  -999.0, -999.00,-999.0000,-999.000,-999.000
     316N145_5,  I09S,   109,  1,      9, SIH012,2,19950108,1944,-52.6083, 114.9833, 3825,25314.6,   2540.9,   0.7523,  34.7065,2,  34.7074,2,    207.1,2,  0.5918,    209.3,2,   118.38,2,    31.46,2,     0.00,2,     2.16,2,    0.114,2,    0.053,2, -999.000,5,-999.0000,5,  -999.00,9,   -999.0,9,  -999.00,9,-999.000,9,   -999.0,9,   -999.0,9,  -999.0, -999.00,-999.0000,-999.000,-999.000
     316N145_5,  I09S,   109,  1,      8, SIH010,2,19950108,1944,-52.6083, 114.9833, 3825,27401.0,   2750.8,   0.5592,  34.6967,2,  34.6987,2,    209.6,2,  0.3848,    212.9,2,   122.99,2,    31.75,2,     0.00,2,     2.18,2,    0.163,2,    0.068,2, -999.000,5,-999.0000,5,  -999.00,9,   -999.0,9,  -999.00,9,-999.000,9,   -999.0,9,   -999.0,9,  -999.0, -999.00,-999.0000,-999.000,-999.000
     316N145_5,  I09S,   109,  1,      7, SIH009,2,19950108,1944,-52.6083, 114.9833, 3825,29363.7,   2948.2,   0.4001,  34.6911,2,  34.6922,2,    213.2,2,  0.2121,    216.6,2,   126.79,2,    31.92,2,     0.00,2,     2.19,2,    0.226,2,    0.106,2, -999.000,5,-999.0000,5,  -999.00,9,   -999.0,9,  -999.00,9,-999.000,9,   -999.0,9,   -999.0,9,  -999.0, -999.00,-999.0000,-999.000,-999.000
     316N145_5,  I09S,   109,  1,      6, SIH038,2,19950108,1944,-52.6083, 114.9833, 3825,31428.4,   3155.9,   0.3025,  34.6865,2,  34.6887,2,    216.5,2,  0.0985,    219.5,2,   130.16,2,    31.86,2,     0.00,2,     2.19,2,    0.294,2,    0.132,2, -999.000,5,-999.0000,5,  -999.00,9,   -999.0,9,  -999.00,9,-999.000,9,   -999.0,9,   -999.0,9,  -999.0, -999.00,-999.0000,-999.000,-999.000
     316N145_5,  I09S,   109,  1,      5, SIH006,2,19950108,1944,-52.6083, 114.9833, 3825,33419.0,   3356.1,   0.2608,  34.6849,2,  34.6867,2,    218.2,2,  0.0395,    220.7,2,   131.91,2,    31.87,2,     0.00,2,     2.19,2,    0.326,2,    0.148,2, -999.000,5,-999.0000,5,  -999.00,9,   -999.0,9,  -999.00,9,-999.000,9,   -999.0,9,   -999.0,9,  -999.0, -999.00,-999.0000,-999.000,-999.000
     316N145_5,  I09S,   109,  1,      4, SIH004,2,19950108,1944,-52.6083, 114.9833, 3825,35491.4,   3564.6,   0.2029,  34.6823,2,  34.6826,2,    220.1,2, -0.0365,    222.7,2,   132.19,2,    31.94,2,     0.00,2,     2.20,2,    0.371,2,    0.169,2, -999.000,5,-999.0000,5,  -999.00,9,   -999.0,9,  -999.00,9,-999.000,9,   -999.0,9,   -999.0,9,  -999.0, -999.00,-999.0000,-999.000,-999.000
     316N145_5,  I09S,   109,  1,      3, SIH025,2,19950108,1944,-52.6083, 114.9833, 3825,37521.6,   3768.8,   0.1695,  34.6809,2,  34.6796,2,    222.6,2, -0.0886,    223.9,2,   134.29,2,    32.00,2,     0.00,2,     2.19,2,    0.428,2,    0.200,2, -999.000,5,-999.0000,5,  -999.00,9,   -999.0,9,  -999.00,9,-999.000,9,   -999.0,9,   -999.0,9,  -999.0, -999.00,-999.0000,-999.000,-999.000
     316N145_5,  I09S,   109,  1,      2, SIH001,2,19950108,1944,-52.6083, 114.9833, 3825,38369.6,   3854.1,   0.1720,  34.6803,2,  34.6785,2,    222.9,2, -0.0946,    224.1,2,   134.61,2,    31.97,2,     0.00,2,     2.20,2,    0.422,2,    0.192,2, -999.000,5,-999.0000,5,  -999.00,9,   -999.0,9,  -999.00,9,-999.000,9,   -999.0,9,   -999.0,9,  -999.0, -999.00,-999.0000,-999.000,-999.000
     316N145_5,  I09S,   109,  1,      1, SIH036,2,19950108,1944,-52.6083, 114.9833, 3825,38878.7,   3905.3,   0.1747,  34.6800,2,  34.6818,2,    224.1,3, -0.0970,    224.5,2,   134.89,2,    31.99,2,     0.00,2,     2.19,2,    0.435,2,    0.200,2, -999.000,5,-999.0000,5,  -999.00,9,   -999.0,9,  -999.00,9,-999.000,9,   -999.0,9,   -999.0,9,  -999.0, -999.00,-999.0000,-999.000,-999.000