BOTTLE,20090521WHPSIOdm
EXPOCODE,SECT_ID,STNNBR,CASTNO,SAMPNO,BTLNBR,BTLNBR_FLAG_W,DATE,TIME,LATITUDE,LONGITUDE,DEPTH,CTDRAW,CTDPRS,CTDTMP,CTDSAL,CTDSAL_FLAG_W,SALNTY,SALNTY_FLAG_W,CTDOXY,CTDOXY_FLAG_W,THETA,OXYGEN,OXYGEN_FLAG_W,SILCAT,SILCAT_FLAG_W,NITRAT,NITRAT_FLAG_W,NITRIT,NITRIT_FLAG_W,PHSPHT,PHSPHT_FLAG_W,CFC-11,CFC-11_FLAG_W,CFC-12,CFC-12_FLAG_W,TRITUM,TRITUM_FLAG_W,HELIUM,HELIUM_FLAG_W,DELHE3,DELHE3_FLAG_W,DELC14,DELC14_FLAG_W,DELC13,DELC13_FLAG_W,NEON,NEON_FLAG_W,TCARBN,TCARBN_FLAG_W,ALKALI,ALKALI_FLAG_W,C14ERR,DELHER,HELIER,NEONER,TRITER
,,,,,,,,,,,,,DBAR,IPTS-68,PSS-78,,PSS-78,,UMOL/KG,,IPTS-68,UMOL/KG,,UMOL/KG,,UMOL/KG,,UMOL/KG,,UMOL/KG,,PMOL/KG,,PMOL/KG,,TU,,NMOL/KG,,PERCNT,,/MILLE,,/MILLE,,NMOL/KG,,UMOL/KG,,UMOL/KG,,/MILLE,PERCNT,NMOL/KG,NMOL/KG,TU
     316N145_5,  I08S,    63,  1,     36, SIH035,2,19941223,1927,-56.4833,  83.7695, 4765,  166.2,     11.1,   1.5217,  33.9769,2,  33.9792,2,    327.6,2,  1.5211,    340.4,2,    27.68,2,    25.49,2,     0.23,2,     1.67,2,    6.196,2,    3.017,2, -999.000,5,-999.0000,5,  -999.00,9,   -999.0,9,  -999.00,9,-999.000,9,   -999.0,9,   -999.0,9,  -999.0, -999.00,-999.0000,-999.000,-999.000
     316N145_5,  I08S,    63,  1,     35, SIH032,2,19941223,1927,-56.4833,  83.7695, 4765,  356.3,     30.2,   1.1753,  34.0236,2,  34.0249,2,    337.5,2,  1.1740,    343.7,2,    30.49,2,    26.05,2,     0.22,2,     1.70,2,    6.231,2,    3.037,2, -999.000,5,-999.0000,5,  -999.00,9,   -999.0,9,  -999.00,9,-999.000,9,   -999.0,9,   -999.0,9,  -999.0, -999.00,-999.0000,-999.000,-999.000
     316N145_5,  I08S,    63,  1,     34, SIH029,2,19941223,1927,-56.4833,  83.7695, 4765,  603.8,     55.1,   1.1251,  34.0865,2,  34.0891,2,    331.8,2,  1.1226,    339.6,2,    33.79,2,    26.80,2,     0.22,2,     1.83,2, -999.000,9, -999.000,9, -999.000,5,-999.0000,5,  -999.00,9,   -999.0,9,  -999.00,9,-999.000,9,   -999.0,9,   -999.0,9,  -999.0, -999.00,-999.0000,-999.000,-999.000
     316N145_5,  I08S,    63,  1,     33, SIH026,2,19941223,1927,-56.4833,  83.7695, 4765,  854.9,     80.4,   0.7445,  34.1143,2,  34.1162,2,    332.9,2,  0.7412,    337.3,2,    41.92,2,    27.90,2,     0.22,2,     1.94,2,    6.207,2,    3.004,2, -999.000,5,-999.0000,5,  -999.00,9,   -999.0,9,  -999.00,9,-999.000,9,   -999.0,9,   -999.0,9,  -999.0, -999.00,-999.0000,-999.000,-999.000
     316N145_5,  I08S,    63,  1,     32, SIH023,2,19941223,1927,-56.4833,  83.7695, 4765, 1097.7,    104.8,   0.0938,  34.1451,2,  34.1503,2,    336.1,2,  0.0900,    330.7,2,    50.54,2,    29.25,2,     0.22,2,     2.04,2,    6.097,2,    2.958,2, -999.000,5,-999.0000,5,  -999.00,9,   -999.0,9,  -999.00,9,-999.000,9,   -999.0,9,   -999.0,9,  -999.0, -999.00,-999.0000,-999.000,-999.000
     316N145_5,  I08S,    63,  1,     31, SIH020,2,19941223,1927,-56.4833,  83.7695, 4765, 1606.2,    156.0,   0.3890,  34.3021,2,  34.2893,2,    275.0,2,  0.3829,    276.4,2,    62.31,2,    31.84,2,     0.18,2,     2.24,2, -999.000,9, -999.000,9, -999.000,5,-999.0000,5,  -999.00,9,   -999.0,9,  -999.00,9,-999.000,9,   -999.0,9,   -999.0,9,  -999.0, -999.00,-999.0000,-999.000,-999.000
     316N145_5,  I08S,    63,  1,     30, SIH017,2,19941223,1927,-56.4833,  83.7695, 4765, 2117.6,    207.4,   1.6788,  34.4949,2,  34.5107,2,    194.0,2,  1.6683,    194.6,2,    73.40,2,    34.21,2,     0.06,2,     2.37,2, -999.000,9, -999.000,9, -999.000,5,-999.0000,5,  -999.00,9,   -999.0,9,  -999.00,9,-999.000,9,   -999.0,9,   -999.0,9,  -999.0, -999.00,-999.0000,-999.000,-999.000
     316N145_5,  I08S,    63,  1,     29, SIH014,2,19941223,1927,-56.4833,  83.7695, 4765, 2574.8,    253.4,   1.9395,  34.5874,2,  34.5930,2,    179.9,2,  1.9260,    179.7,2,    78.04,2,    34.00,2,     0.02,2,     2.35,2,    0.721,2,    0.353,2, -999.000,5,-999.0000,5,  -999.00,9,   -999.0,9,  -999.00,9,-999.000,9,   -999.0,9,   -999.0,9,  -999.0, -999.00,-999.0000,-999.000,-999.000
     316N145_5,  I08S,    63,  1,     28, SIH011,2,19941223,1927,-56.4833,  83.7695, 4765, 3100.0,    306.2,   2.0951,  34.6393,2,  34.6394,2,    174.3,2,  2.0781,    177.0,2,    79.35,2,    33.05,2,     0.01,2,     2.30,2,    0.391,2,    0.188,2, -999.000,5,-999.0000,5,  -999.00,9,   -999.0,9,  -999.00,9,-999.000,9,   -999.0,9,   -999.0,9,  -999.0, -999.00,-999.0000,-999.000,-999.000
     316N145_5,  I08S,    63,  1,     27, SIH008,2,19941223,1927,-56.4833,  83.7695, 4765, 3605.9,    357.1,   2.0719,  34.6582,2,  34.6580,2,    177.9,2,  2.0521,    179.1,2,    80.00,2,    32.89,2,     0.01,2,     2.27,2, -999.000,9, -999.000,9, -999.000,5,-999.0000,5,  -999.00,9,   -999.0,9,  -999.00,9,-999.000,9,   -999.0,9,   -999.0,9,  -999.0, -999.00,-999.0000,-999.000,-999.000
     316N145_5,  I08S,    63,  1,     26, SIH005,2,19941223,1927,-56.4833,  83.7695, 4765, 4109.7,    407.8,   2.1186,  34.6862,2,  34.6879,2,    178.7,2,  2.0956,    181.3,2,    79.83,2,    32.35,2,     0.00,2,     2.22,2,    0.222,2,    0.107,2, -999.000,5,-999.0000,5,  -999.00,9,   -999.0,9,  -999.00,9,-999.000,9,   -999.0,9,   -999.0,9,  -999.0, -999.00,-999.0000,-999.000,-999.000
     316N145_5,  I08S,    63,  1,     25, SIH019,2,19941223,1927,-56.4833,  83.7695, 4765, 4597.6,    456.9,   2.0370,  34.6963,2,  34.6983,2,    183.4,2,  2.0113,    183.3,2,    81.31,2,    32.10,2,     0.00,2,     2.20,2, -999.000,9, -999.000,9, -999.000,5,-999.0000,5,  -999.00,9,   -999.0,9,  -999.00,9,-999.000,9,   -999.0,9,   -999.0,9,  -999.0, -999.00,-999.0000,-999.000,-999.000
     316N145_5,  I08S,    63,  1,     24, SIH037,2,19941223,1927,-56.4833,  83.7695, 4765, 5084.4,    505.8,   2.1138,  34.7179,2,  34.7186,2,    183.8,2,  2.0848,    186.4,2,    80.14,2,    31.29,2,     0.00,2,     2.15,2,    0.124,2,    0.059,2, -999.000,5,-999.0000,5,  -999.00,9,   -999.0,9,  -999.00,9,-999.000,9,   -999.0,9,   -999.0,9,  -999.0, -999.00,-999.0000,-999.000,-999.000
     316N145_5,  I08S,    63,  1,     23, SIH033,2,19941223,1927,-56.4833,  83.7695, 4765, 6101.9,    608.2,   1.9453,  34.7232,2,  34.7260,2,    186.4,2,  1.9108,    188.5,2,    83.44,2,    31.29,2,     0.00,2,     2.15,2,    0.192,2,    0.087,2, -999.000,5,-999.0000,5,  -999.00,9,   -999.0,9,  -999.00,9,-999.000,9,   -999.0,9,   -999.0,9,  -999.0, -999.00,-999.0000,-999.000,-999.000
     316N145_5,  I08S,    63,  1,     22, SIH031,2,19941223,1927,-56.4833,  83.7695, 4765, 7107.7,    709.4,   1.9038,  34.7383,2,  34.7388,2,    187.9,2,  1.8632,    192.0,2,    84.59,2,    30.78,2,     0.00,2,     2.12,2,    0.128,2,    0.058,2, -999.000,5,-999.0000,5,  -999.00,9,   -999.0,9,  -999.00,9,-999.000,9,   -999.0,9,   -999.0,9,  -999.0, -999.00,-999.0000,-999.000,-999.000
     316N145_5,  I08S,    63,  1,     21, SIH030,2,19941223,1927,-56.4833,  83.7695, 4765, 8120.0,    811.2,   1.6468,  34.7209,2,  34.7211,2,    187.8,2,  1.6013,    192.8,2,    88.73,2,    31.42,2,     0.01,2,     2.17,2, -999.000,9, -999.000,9, -999.000,5,-999.0000,5,  -999.00,9,   -999.0,9,  -999.00,9,-999.000,9,   -999.0,9,   -999.0,9,  -999.0, -999.00,-999.0000,-999.000,-999.000
     316N145_5,  I08S,    63,  1,     20, SIH028,2,19941223,1927,-56.4833,  83.7695, 4765, 9116.1,    911.4,   1.5860,  34.7257,2,  34.7258,2,    193.5,2,  1.5346,    195.1,2,    90.04,2,    31.18,2,     0.00,2,     2.16,2,    0.302,2,    0.141,2, -999.000,5,-999.0000,5,  -999.00,9,   -999.0,9,  -999.00,9,-999.000,9,   -999.0,9,   -999.0,9,  -999.0, -999.00,-999.0000,-999.000,-999.000
     316N145_5,  I08S,    63,  1,     19, SIH027,2,19941223,1927,-56.4833,  83.7695, 4765,10166.6,   1017.0,   1.6426,  34.7449,2,  34.7467,2,    194.4,2,  1.5839,    198.7,2,    91.19,2,    30.47,2,     0.00,2,     2.10,2, -999.000,9, -999.000,9, -999.000,5,-999.0000,5,  -999.00,9,   -999.0,9,  -999.00,9,-999.000,9,   -999.0,9,   -999.0,9,  -999.0, -999.00,-999.0000,-999.000,-999.000
     316N145_5,  I08S,    63,  1,     18, SIH003,2,19941223,1927,-56.4833,  83.7695, 4765,11130.0,   1113.9,   1.4842,  34.7353,2,  34.7357,2,    194.8,2,  1.4204,    198.6,2,    94.16,2,    30.87,2,     0.00,2,     2.13,2,    0.210,2,    0.094,2, -999.000,5,-999.0000,5,  -999.00,9,   -999.0,9,  -999.00,9,-999.000,9,   -999.0,9,   -999.0,9,  -999.0, -999.00,-999.0000,-999.000,-999.000
     316N145_5,  I08S,    63,  1,     17, SIH024,2,19941223,1927,-56.4833,  83.7695, 4765,12051.2,   1206.6,   1.4162,  34.7354,2,  34.7360,2,    196.0,2,  1.3469,    200.5,2,    96.14,2,    30.77,2,     0.00,2,     2.13,2, -999.000,9, -999.000,9, -999.000,5,-999.0000,5,  -999.00,9,   -999.0,9,  -999.00,9,-999.000,9,   -999.0,9,   -999.0,9,  -999.0, -999.00,-999.0000,-999.000,-999.000
     316N145_5,  I08S,    63,  1,     16, SIH022,2,19941223,1927,-56.4833,  83.7695, 4765,14137.3,   1416.4,   1.2414,  34.7298,2,  34.7321,2,    200.5,2,  1.1595,    203.2,2,   101.76,2,    31.17,2,     0.00,2,     2.14,2,    0.138,2,    0.064,2, -999.000,5,-999.0000,5,  -999.00,9,   -999.0,9,  -999.00,9,-999.000,9,   -999.0,9,   -999.0,9,  -999.0, -999.00,-999.0000,-999.000,-999.000
     316N145_5,  I08S,    63,  1,     15, SIH021,2,19941223,1927,-56.4833,  83.7695, 4765,16104.5,   1614.3,   1.1236,  34.7280,2,  34.7288,2,    200.3,2,  1.0291,    204.4,2,   106.72,2,    31.36,2,     0.00,2,     2.16,2,    0.084,2,    0.056,2, -999.000,5,-999.0000,5,  -999.00,9,   -999.0,9,  -999.00,9,-999.000,9,   -999.0,9,   -999.0,9,  -999.0, -999.00,-999.0000,-999.000,-999.000
     316N145_5,  I08S,    63,  1,     14, SIH002,2,19941223,1927,-56.4833,  83.7695, 4765,18030.5,   1808.0,   1.0057,  34.7210,2,  34.7186,2,    201.7,2,  0.8987,    206.0,2,   110.02,2,    31.61,2,     0.00,2,     2.18,2, -999.000,9, -999.000,9, -999.000,5,-999.0000,5,  -999.00,9,   -999.0,9,  -999.00,9,-999.000,9,   -999.0,9,   -999.0,9,  -999.0, -999.00,-999.0000,-999.000,-999.000
     316N145_5,  I08S,    63,  1,     13, SIH018,2,19941223,1927,-56.4833,  83.7695, 4765,20164.9,   2022.7,   0.8663,  34.7128,2,  34.7166,3,    202.7,2,  0.7452,    207.7,2,   114.32,2,    31.85,2,     0.00,2,     2.20,2,    0.101,2,    0.055,2, -999.000,5,-999.0000,5,  -999.00,9,   -999.0,9,  -999.00,9,-999.000,9,   -999.0,9,   -999.0,9,  -999.0, -999.00,-999.0000,-999.000,-999.000
     316N145_5,  I08S,    63,  1,     12, SIH016,2,19941223,1927,-56.4833,  83.7695, 4765,22221.5,   2229.6,   0.7127,  34.7050,2,  34.7056,2,    204.7,2,  0.5781,    209.6,2,   118.28,2,    32.16,2,     0.00,2,     2.22,2,    0.125,2,    0.062,2, -999.000,5,-999.0000,5,  -999.00,9,   -999.0,9,  -999.00,9,-999.000,9,   -999.0,9,   -999.0,9,  -999.0, -999.00,-999.0000,-999.000,-999.000
     316N145_5,  I08S,    63,  1,     11, SIH015,3,19941223,1927,-56.4833,  83.7695, 4765,24301.1,   2438.8,   0.5704,  34.6971,2,  34.7038,4,    204.6,2,  0.4218,    209.3,4,   116.29,4,    32.07,4,     0.00,4,     2.22,4, -999.000,9, -999.000,9, -999.000,5,-999.0000,5,  -999.00,9,   -999.0,9,  -999.00,9,-999.000,9,   -999.0,9,   -999.0,9,  -999.0, -999.00,-999.0000,-999.000,-999.000
     316N145_5,  I08S,    63,  1,     10, SIH013,2,19941223,1927,-56.4833,  83.7695, 4765,27335.1,   2744.0,   0.3958,  34.6883,2,  34.6881,2,    210.0,2,  0.2255,    215.9,2,   125.22,2,    32.50,2,     0.00,2,     2.25,2, -999.000,9, -999.000,9, -999.000,5,-999.0000,5,  -999.00,9,   -999.0,9,  -999.00,9,-999.000,9,   -999.0,9,   -999.0,9,  -999.0, -999.00,-999.0000,-999.000,-999.000
     316N145_5,  I08S,    63,  1,      9, SIH012,2,19941223,1927,-56.4833,  83.7695, 4765,30394.8,   3051.7,   0.2481,  34.6843,2,  34.6836,2,    214.3,2,  0.0545,    220.9,2,   127.03,2,    32.60,2,     0.00,2,     2.26,2,    0.332,2,    0.165,2, -999.000,5,-999.0000,5,  -999.00,9,   -999.0,9,  -999.00,9,-999.000,9,   -999.0,9,   -999.0,9,  -999.0, -999.00,-999.0000,-999.000,-999.000
     316N145_5,  I08S,    63,  1,      8, SIH010,2,19941223,1927,-56.4833,  83.7695, 4765,33442.2,   3358.3,   0.1517,  34.6807,2,  34.6779,2,    219.8,2, -0.0671,    224.3,2,   127.67,2,    32.54,2,     0.00,2,     2.25,2, -999.000,9, -999.000,9, -999.000,5,-999.0000,5,  -999.00,9,   -999.0,9,  -999.00,9,-999.000,9,   -999.0,9,   -999.0,9,  -999.0, -999.00,-999.0000,-999.000,-999.000
     316N145_5,  I08S,    63,  1,      7, SIH009,2,19941223,1927,-56.4833,  83.7695, 4765,36468.6,   3662.7,   0.0867,  34.6657,2,  34.6769,2,    223.5,2, -0.1588,    227.2,2,   127.98,2,    32.54,2,     0.00,2,     2.25,2,    0.644,2,    0.292,2, -999.000,5,-999.0000,5,  -999.00,9,   -999.0,9,  -999.00,9,-999.000,9,   -999.0,9,   -999.0,9,  -999.0, -999.00,-999.0000,-999.000,-999.000
     316N145_5,  I08S,    63,  1,      6, SIH038,2,19941223,1927,-56.4833,  83.7695, 4765,39638.7,   3981.6,   0.0347,  34.6751,2,  34.6755,2,    225.9,2, -0.2406,    229.9,2,   127.97,2,    32.49,2,     0.00,2,     2.25,2, -999.000,9, -999.000,9, -999.000,5,-999.0000,5,  -999.00,9,   -999.0,9,  -999.00,9,-999.000,9,   -999.0,9,   -999.0,9,  -999.0, -999.00,-999.0000,-999.000,-999.000
     316N145_5,  I08S,    63,  1,      5, SIH006,2,19941223,1927,-56.4833,  83.7695, 4765,42656.1,   4285.1,   0.0029,  34.6745,2,  34.6718,2,    229.9,2, -0.3024,    232.2,2,   128.30,2,    32.43,2,     0.00,2,     2.24,2,    0.814,2,    0.430,2, -999.000,5,-999.0000,5,  -999.00,9,   -999.0,9,  -999.00,9,-999.000,9,   -999.0,9,   -999.0,9,  -999.0, -999.00,-999.0000,-999.000,-999.000
     316N145_5,  I08S,    63,  1,      4, SIH004,2,19941223,1927,-56.4833,  83.7695, 4765,44720.9,   4492.8,   0.0079,  34.6737,2,  34.6732,2,    231.7,2, -0.3195,    233.0,2,   127.94,2,    32.53,2,     0.00,2,     2.24,2, -999.000,9, -999.000,9, -999.000,5,-999.0000,5,  -999.00,9,   -999.0,9,  -999.00,9,-999.000,9,   -999.0,9,   -999.0,9,  -999.0, -999.00,-999.0000,-999.000,-999.000
     316N145_5,  I08S,    63,  1,      3, SIH025,2,19941223,1927,-56.4833,  83.7695, 4765,46752.7,   4697.2,   0.0160,  34.6727,2,  34.6714,2,    232.8,2, -0.3337,    233.0,2,   128.27,2,    32.42,2,     0.00,2,     2.24,2,    0.877,2,    0.426,2, -999.000,5,-999.0000,5,  -999.00,9,   -999.0,9,  -999.00,9,-999.000,9,   -999.0,9,   -999.0,9,  -999.0, -999.00,-999.0000,-999.000,-999.000
     316N145_5,  I08S,    63,  1,      2, SIH001,2,19941223,1927,-56.4833,  83.7695, 4765,47361.0,   4758.4,   0.0157,  34.6735,2,  34.6720,2,    233.8,2, -0.3407,    233.0,2,   128.25,2,    32.42,2,     0.00,2,     2.24,2, -999.000,9, -999.000,9, -999.000,5,-999.0000,5,  -999.00,9,   -999.0,9,  -999.00,9,-999.000,9,   -999.0,9,   -999.0,9,  -999.0, -999.00,-999.0000,-999.000,-999.000
     316N145_5,  I08S,    63,  1,      1, SIH036,2,19941223,1927,-56.4833,  83.7695, 4765,48018.1,   4824.5,  -0.0035,  34.6728,2,  34.6718,2,    234.4,2, -0.3666,    233.9,2,   129.35,2,    32.35,2,     0.00,2,     2.24,2,    0.985,2,    0.462,2, -999.000,5,-999.0000,5,  -999.00,9,   -999.0,9,  -999.00,9,-999.000,9,   -999.0,9,   -999.0,9,  -999.0, -999.00,-999.0000,-999.000,-999.000