BOTTLE,20090521WHPSIOdm
EXPOCODE,SECT_ID,STNNBR,CASTNO,SAMPNO,BTLNBR,BTLNBR_FLAG_W,DATE,TIME,LATITUDE,LONGITUDE,DEPTH,CTDRAW,CTDPRS,CTDTMP,CTDSAL,CTDSAL_FLAG_W,SALNTY,SALNTY_FLAG_W,CTDOXY,CTDOXY_FLAG_W,THETA,OXYGEN,OXYGEN_FLAG_W,SILCAT,SILCAT_FLAG_W,NITRAT,NITRAT_FLAG_W,NITRIT,NITRIT_FLAG_W,PHSPHT,PHSPHT_FLAG_W,CFC-11,CFC-11_FLAG_W,CFC-12,CFC-12_FLAG_W,TRITUM,TRITUM_FLAG_W,HELIUM,HELIUM_FLAG_W,DELHE3,DELHE3_FLAG_W,DELC14,DELC14_FLAG_W,DELC13,DELC13_FLAG_W,NEON,NEON_FLAG_W,TCARBN,TCARBN_FLAG_W,ALKALI,ALKALI_FLAG_W,C14ERR,DELHER,HELIER,NEONER,TRITER
,,,,,,,,,,,,,DBAR,IPTS-68,PSS-78,,PSS-78,,UMOL/KG,,IPTS-68,UMOL/KG,,UMOL/KG,,UMOL/KG,,UMOL/KG,,UMOL/KG,,PMOL/KG,,PMOL/KG,,TU,,NMOL/KG,,PERCNT,,/MILLE,,/MILLE,,NMOL/KG,,UMOL/KG,,UMOL/KG,,/MILLE,PERCNT,NMOL/KG,NMOL/KG,TU
     316N145_5,  I08S,    83,  1,     36, SIH035,2,19941228,0523,-63.8445,  81.8917, 3705,  105.8,      5.3,  -0.7469,  33.2096,2,  33.2389,2,    333.8,2, -0.7470,    339.5,2,    47.85,2,    26.30,2,     0.29,2,     1.74,2, -999.000,9, -999.000,9, -999.000,5,-999.0000,5,  -999.00,9,   -999.0,9,  -999.00,9,-999.000,9,   -999.0,9,   -999.0,9,  -999.0, -999.00,-999.0000,-999.000,-999.000
     316N145_5,  I08S,    83,  1,     35, SIH032,2,19941228,0523,-63.8445,  81.8917, 3705,  291.1,     23.9,  -1.4492,  33.8553,2,  33.8744,2,    318.0,2, -1.4497,    322.4,2,    51.62,2,    27.51,2,     0.18,2,     1.85,2, -999.000,9, -999.000,9, -999.000,5,-999.0000,5,  -999.00,9,   -999.0,9,  -999.00,9,-999.000,9,   -999.0,9,   -999.0,9,  -999.0, -999.00,-999.0000,-999.000,-999.000
     316N145_5,  I08S,    83,  1,     34, SIH029,2,19941228,0523,-63.8445,  81.8917, 3705,  563.9,     51.4,  -1.5983,  34.1885,2,  34.1938,2,    302.9,2, -1.5994,    297.5,2,    59.36,2,    29.36,2,     0.13,2,     1.99,2, -999.000,9, -999.000,9, -999.000,5,-999.0000,5,  -999.00,9,   -999.0,9,  -999.00,9,-999.000,9,   -999.0,9,   -999.0,9,  -999.0, -999.00,-999.0000,-999.000,-999.000
     316N145_5,  I08S,    83,  1,     33, SIH026,2,19941228,0523,-63.8445,  81.8917, 3705,  817.4,     76.9,  -1.5915,  34.2503,2,  34.2556,2,    296.7,2, -1.5931,    289.2,2,    62.65,2,    29.79,2,     0.12,2,     2.03,2, -999.000,9, -999.000,9, -999.000,5,-999.0000,5,  -999.00,9,   -999.0,9,  -999.00,9,-999.000,9,   -999.0,9,   -999.0,9,  -999.0, -999.00,-999.0000,-999.000,-999.000
     316N145_5,  I08S,    83,  1,     32, SIH023,2,19941228,0523,-63.8445,  81.8917, 3705, 1044.6,     99.8,  -1.6527,  34.2899,2,  34.2972,2,    298.7,2, -1.6548,    289.7,2,    63.80,2,    29.96,2,     0.04,2,     2.03,2, -999.000,9, -999.000,9, -999.000,5,-999.0000,5,  -999.00,9,   -999.0,9,  -999.00,9,-999.000,9,   -999.0,9,   -999.0,9,  -999.0, -999.00,-999.0000,-999.000,-999.000
     316N145_5,  I08S,    83,  1,     31, SIH020,2,19941228,0523,-63.8445,  81.8917, 3705, 1565.3,    152.1,  -1.6084,  34.3303,2,  34.3360,2,    305.4,2, -1.6117,    291.0,2,    64.97,2,    29.82,2,     0.01,2,     2.02,2, -999.000,9, -999.000,9, -999.000,5,-999.0000,5,  -999.00,9,   -999.0,9,  -999.00,9,-999.000,9,   -999.0,9,   -999.0,9,  -999.0, -999.00,-999.0000,-999.000,-999.000
     316N145_5,  I08S,    83,  1,     30, SIH017,2,19941228,0523,-63.8445,  81.8917, 3705, 2074.5,    203.4,  -0.7326,  34.4203,2,  34.4257,2,    273.7,2, -0.7387,    266.0,2,    70.73,2,    30.61,2,     0.00,2,     2.08,2, -999.000,9, -999.000,9, -999.000,5,-999.0000,5,  -999.00,9,   -999.0,9,  -999.00,9,-999.000,9,   -999.0,9,   -999.0,9,  -999.0, -999.00,-999.0000,-999.000,-999.000
     316N145_5,  I08S,    83,  1,     29, SIH014,2,19941228,0523,-63.8445,  81.8917, 3705, 2564.0,    252.6,  -0.0041,  34.4979,2,  34.5034,2,    249.3,2, -0.0135,    242.5,2,    76.17,2,    31.14,2,     0.00,2,     2.12,2, -999.000,9, -999.000,9, -999.000,5,-999.0000,5,  -999.00,9,   -999.0,9,  -999.00,9,-999.000,9,   -999.0,9,   -999.0,9,  -999.0, -999.00,-999.0000,-999.000,-999.000
     316N145_5,  I08S,    83,  1,     28, SIH011,2,19941228,0523,-63.8445,  81.8917, 3705, 3057.1,    302.2,   1.2160,  34.6215,2,  34.6291,2,    197.2,2,  1.2015,    200.4,2,    83.26,2,    31.82,2,     0.00,2,     2.16,2, -999.000,9, -999.000,9, -999.000,5,-999.0000,5,  -999.00,9,   -999.0,9,  -999.00,9,-999.000,9,   -999.0,9,   -999.0,9,  -999.0, -999.00,-999.0000,-999.000,-999.000
     316N145_5,  I08S,    83,  1,     27, SIH008,2,19941228,0523,-63.8445,  81.8917, 3705, 3550.6,    351.8,   0.9446,  34.6130,2,  34.5965,2,    211.1,2,  0.9283,    219.3,2,    81.45,2,    31.27,2,     0.00,2,     2.13,2, -999.000,9, -999.000,9, -999.000,5,-999.0000,5,  -999.00,9,   -999.0,9,  -999.00,9,-999.000,9,   -999.0,9,   -999.0,9,  -999.0, -999.00,-999.0000,-999.000,-999.000
     316N145_5,  I08S,    83,  1,     26, SIH005,2,19941228,0523,-63.8445,  81.8917, 3705, 4081.3,    405.2,   1.0473,  34.6397,2,  34.6433,2,    207.0,2,  1.0281,    208.2,2,    84.42,2,    31.09,2,     0.00,2,     2.12,2, -999.000,9, -999.000,9, -999.000,5,-999.0000,5,  -999.00,9,   -999.0,9,  -999.00,9,-999.000,9,   -999.0,9,   -999.0,9,  -999.0, -999.00,-999.0000,-999.000,-999.000
     316N145_5,  I08S,    83,  1,     25, SIH019,2,19941228,0523,-63.8445,  81.8917, 3705, 4589.5,    456.3,   1.2814,  34.6714,2,  34.6783,2,    200.4,2,  1.2586,    200.7,2,    86.89,2,    30.97,2,     0.00,2,     2.11,2, -999.000,9, -999.000,9, -999.000,5,-999.0000,5,  -999.00,9,   -999.0,9,  -999.00,9,-999.000,9,   -999.0,9,   -999.0,9,  -999.0, -999.00,-999.0000,-999.000,-999.000
     316N145_5,  I08S,    83,  1,     24, SIH037,2,19941228,0523,-63.8445,  81.8917, 3705, 5090.0,    506.7,   1.2784,  34.6838,2,  34.6875,2,    200.4,2,  1.2528,    202.2,2,    87.88,2,    30.80,2,     0.00,2,     2.10,2, -999.000,9, -999.000,9, -999.000,5,-999.0000,5,  -999.00,9,   -999.0,9,  -999.00,9,-999.000,9,   -999.0,9,   -999.0,9,  -999.0, -999.00,-999.0000,-999.000,-999.000
     316N145_5,  I08S,    83,  1,     23, SIH033,2,19941228,0523,-63.8445,  81.8917, 3705, 6095.2,    607.8,   1.3434,  34.7080,2,  34.7148,2,    198.1,2,  1.3119,    201.0,2,    90.68,2,    30.47,2,     0.00,2,     2.08,2, -999.000,9, -999.000,9, -999.000,5,-999.0000,5,  -999.00,9,   -999.0,9,  -999.00,9,-999.000,9,   -999.0,9,   -999.0,9,  -999.0, -999.00,-999.0000,-999.000,-999.000
     316N145_5,  I08S,    83,  1,     22, SIH031,2,19941228,0523,-63.8445,  81.8917, 3705, 7097.2,    708.6,   1.2805,  34.7152,2,  34.7188,2,    199.9,2,  1.2435,    202.7,2,    93.82,2,    30.29,2,     0.00,2,     2.07,2, -999.000,9, -999.000,9, -999.000,5,-999.0000,5,  -999.00,9,   -999.0,9,  -999.00,9,-999.000,9,   -999.0,9,   -999.0,9,  -999.0, -999.00,-999.0000,-999.000,-999.000
     316N145_5,  I08S,    83,  1,     21, SIH030,2,19941228,0523,-63.8445,  81.8917, 3705, 8107.1,    810.2,   1.1098,  34.7064,2,  34.7093,2,    203.4,2,  1.0679,    206.2,2,    95.97,2,    30.49,2,     0.00,2,     2.08,2, -999.000,9, -999.000,9, -999.000,5,-999.0000,5,  -999.00,9,   -999.0,9,  -999.00,9,-999.000,9,   -999.0,9,   -999.0,9,  -999.0, -999.00,-999.0000,-999.000,-999.000
     316N145_5,  I08S,    83,  1,     20, SIH028,2,19941228,0523,-63.8445,  81.8917, 3705, 9118.1,    911.8,   1.0868,  34.7135,2,  34.7164,2,    202.2,2,  1.0391,    205.0,2,   100.10,2,    30.58,2,     0.00,2,     2.09,2, -999.000,9, -999.000,9, -999.000,5,-999.0000,5,  -999.00,9,   -999.0,9,  -999.00,9,-999.000,9,   -999.0,9,   -999.0,9,  -999.0, -999.00,-999.0000,-999.000,-999.000
     316N145_5,  I08S,    83,  1,     19, SIH027,2,19941228,0523,-63.8445,  81.8917, 3705,10121.9,   1012.8,   0.9887,  34.7101,2,  34.7129,2,    203.7,2,  0.9356,    205.9,2,   102.58,2,    30.62,2,     0.00,2,     2.10,2, -999.000,9, -999.000,9, -999.000,5,-999.0000,5,  -999.00,9,   -999.0,9,  -999.00,9,-999.000,9,   -999.0,9,   -999.0,9,  -999.0, -999.00,-999.0000,-999.000,-999.000
     316N145_5,  I08S,    83,  1,     18, SIH003,2,19941228,0523,-63.8445,  81.8917, 3705,11129.8,   1114.2,   0.9785,  34.7162,2,  34.7201,2,    200.3,2,  0.9192,    205.2,2,   106.54,2,    30.72,2,     0.00,2,     2.10,2, -999.000,9, -999.000,9, -999.000,5,-999.0000,5,  -999.00,9,   -999.0,9,  -999.00,9,-999.000,9,   -999.0,9,   -999.0,9,  -999.0, -999.00,-999.0000,-999.000,-999.000
     316N145_5,  I08S,    83,  1,     17, SIH024,2,19941228,0523,-63.8445,  81.8917, 3705,12149.1,   1216.7,   0.8472,  34.7060,2,  34.7076,2,    204.5,2,  0.7827,    207.4,2,   108.02,2,    31.02,2,     0.00,2,     2.12,2, -999.000,9, -999.000,9, -999.000,5,-999.0000,5,  -999.00,9,   -999.0,9,  -999.00,9,-999.000,9,   -999.0,9,   -999.0,9,  -999.0, -999.00,-999.0000,-999.000,-999.000
     316N145_5,  I08S,    83,  1,     16, SIH022,2,19941228,0523,-63.8445,  81.8917, 3705,13138.8,   1316.3,   0.7400,  34.6990,2,  34.7034,2,    205.4,2,  0.6702,    209.0,2,   110.17,2,    31.12,2,     0.00,2,     2.13,2, -999.000,9, -999.000,9, -999.000,5,-999.0000,5,  -999.00,9,   -999.0,9,  -999.00,9,-999.000,9,   -999.0,9,   -999.0,9,  -999.0, -999.00,-999.0000,-999.000,-999.000
     316N145_5,  I08S,    83,  1,     15, SIH021,2,19941228,0523,-63.8445,  81.8917, 3705,14165.9,   1419.6,   0.6504,  34.6942,2,  34.6977,2,    205.8,2,  0.5750,    209.7,2,   112.16,2,    31.27,2,     0.00,2,     2.14,2, -999.000,9, -999.000,9, -999.000,5,-999.0000,5,  -999.00,9,   -999.0,9,  -999.00,9,-999.000,9,   -999.0,9,   -999.0,9,  -999.0, -999.00,-999.0000,-999.000,-999.000
     316N145_5,  I08S,    83,  1,     14, SIH002,2,19941228,0523,-63.8445,  81.8917, 3705,15160.7,   1519.7,   0.5860,  34.6911,2,  34.6934,2,    206.4,2,  0.5047,    210.6,2,   114.81,2,    31.51,2,     0.00,2,     2.16,2,    0.320,2,    0.146,2, -999.000,5,-999.0000,5,  -999.00,9,   -999.0,9,  -999.00,9,-999.000,9,   -999.0,9,   -999.0,9,  -999.0, -999.00,-999.0000,-999.000,-999.000
     316N145_5,  I08S,    83,  1,     13, SIH018,2,19941228,0523,-63.8445,  81.8917, 3705,16188.1,   1623.0,   0.5268,  34.6894,2,  34.6930,2,    207.0,2,  0.4394,    210.0,2,   117.78,2,    31.61,2,     0.00,2,     2.17,2,    0.235,3,    0.092,2, -999.000,5,-999.0000,5,  -999.00,9,   -999.0,9,  -999.00,9,-999.000,9,   -999.0,9,   -999.0,9,  -999.0, -999.00,-999.0000,-999.000,-999.000
     316N145_5,  I08S,    83,  1,     12, SIH016,2,19941228,0523,-63.8445,  81.8917, 3705,17188.8,   1723.7,   0.4770,  34.6887,2,  34.6912,2,    206.9,2,  0.3834,    211.0,2,   120.09,2,    31.70,2,     0.00,2,     2.17,2,    0.183,2,    0.099,2, -999.000,5,-999.0000,5,  -999.00,9,   -999.0,9,  -999.00,9,-999.000,9,   -999.0,9,   -999.0,9,  -999.0, -999.00,-999.0000,-999.000,-999.000
     316N145_5,  I08S,    83,  1,     11, SIH015,2,19941228,0523,-63.8445,  81.8917, 3705,19226.4,   1928.6,   0.3426,  34.6816,2,  34.6838,2,    209.1,2,  0.2366,    214.3,2,   122.25,2,    31.95,2,     0.00,2,     2.18,2,    0.250,2,    0.161,2, -999.000,5,-999.0000,5,  -999.00,9,   -999.0,9,  -999.00,9,-999.000,9,   -999.0,9,   -999.0,9,  -999.0, -999.00,-999.0000,-999.000,-999.000
     316N145_5,  I08S,    83,  1,     10, SIH013,2,19941228,0523,-63.8445,  81.8917, 3705,21248.6,   2132.0,   0.2239,  34.6761,2,  34.6802,2,    212.1,2,  0.1051,    217.2,2,   124.23,2,    31.99,2,     0.00,2,     2.19,2,    0.282,2,    0.121,2, -999.000,5,-999.0000,5,  -999.00,9,   -999.0,9,  -999.00,9,-999.000,9,   -999.0,9,   -999.0,9,  -999.0, -999.00,-999.0000,-999.000,-999.000
     316N145_5,  I08S,    83,  1,      9, SIH012,2,19941228,0523,-63.8445,  81.8917, 3705,23269.5,   2335.3,   0.1373,  34.6737,2,  34.6765,2,    214.5,2,  0.0048,    219.8,2,   126.05,2,    31.98,2,     0.00,2,     2.19,2,    0.267,2,    0.134,2, -999.000,5,-999.0000,5,  -999.00,9,   -999.0,9,  -999.00,9,-999.000,9,   -999.0,9,   -999.0,9,  -999.0, -999.00,-999.0000,-999.000,-999.000
     316N145_5,  I08S,    83,  1,      8, SIH010,2,19941228,0523,-63.8445,  81.8917, 3705,25308.8,   2540.4,   0.0667,  34.6730,2,  34.6779,2,    219.7,2, -0.0804,    223.9,2,   124.56,2,    31.81,2,     0.00,2,     2.18,2,    0.432,2,    0.225,2, -999.000,5,-999.0000,5,  -999.00,9,   -999.0,9,  -999.00,9,-999.000,9,   -999.0,9,   -999.0,9,  -999.0, -999.00,-999.0000,-999.000,-999.000
     316N145_5,  I08S,    83,  1,      7, SIH009,2,19941228,0523,-63.8445,  81.8917, 3705,27334.6,   2744.2,   0.0062,  34.6729,2,  34.6757,2,    222.7,2, -0.1560,    227.1,2,   122.91,2,    31.69,2,     0.00,2,     2.17,2,    0.627,2,    0.321,2, -999.000,5,-999.0000,5,  -999.00,9,   -999.0,9,  -999.00,9,-999.000,9,   -999.0,9,   -999.0,9,  -999.0, -999.00,-999.0000,-999.000,-999.000
     316N145_5,  I08S,    83,  1,      6, SIH038,2,19941228,0523,-63.8445,  81.8917, 3705,29362.8,   2948.2,  -0.0589,  34.6711,2,  34.6737,2,    228.0,2, -0.2366,    229.4,2,   122.26,2,    31.67,2,     0.00,2,     2.17,2,    0.751,2,    0.370,2, -999.000,5,-999.0000,5,  -999.00,9,   -999.0,9,  -999.00,9,-999.000,9,   -999.0,9,   -999.0,9,  -999.0, -999.00,-999.0000,-999.000,-999.000
     316N145_5,  I08S,    83,  1,      5, SIH006,2,19941228,0523,-63.8445,  81.8917, 3705,31392.7,   3152.4,  -0.1067,  34.6707,2,  34.6710,2,    231.0,2, -0.3008,    232.5,2,   121.27,2,    31.50,2,     0.00,2,     2.17,2,    0.876,2,    0.436,2, -999.000,5,-999.0000,5,  -999.00,9,   -999.0,9,  -999.00,9,-999.000,9,   -999.0,9,   -999.0,9,  -999.0, -999.00,-999.0000,-999.000,-999.000
     316N145_5,  I08S,    83,  1,      4, SIH004,2,19941228,0523,-63.8445,  81.8917, 3705,33411.5,   3355.5,  -0.1400,  34.6690,2,  34.6702,2,    233.0,2, -0.3513,    234.8,2,   119.29,2,    31.43,2,     0.00,2,     2.16,2,    1.084,2,    0.499,2, -999.000,5,-999.0000,5,  -999.00,9,   -999.0,9,  -999.00,9,-999.000,9,   -999.0,9,   -999.0,9,  -999.0, -999.00,-999.0000,-999.000,-999.000
     316N145_5,  I08S,    83,  1,      3, SIH025,2,19941228,0523,-63.8445,  81.8917, 3705,35466.8,   3562.2,  -0.1599,  34.6692,2,  34.6712,2,    234.6,2, -0.3895,    235.6,2,   121.60,2,    31.52,2,     0.00,2,     2.16,2,    1.100,2,    0.505,2, -999.000,5,-999.0000,5,  -999.00,9,   -999.0,9,  -999.00,9,-999.000,9,   -999.0,9,   -999.0,9,  -999.0, -999.00,-999.0000,-999.000,-999.000
     316N145_5,  I08S,    83,  1,      2, SIH001,2,19941228,0523,-63.8445,  81.8917, 3705,36486.7,   3664.8,  -0.1789,  34.6691,2,  34.6716,2,    236.7,2, -0.4176,    236.0,2,   124.08,2,    31.62,2,     0.00,2,     2.16,2,    1.160,2,    0.560,2, -999.000,5,-999.0000,5,  -999.00,9,   -999.0,9,  -999.00,9,-999.000,9,   -999.0,9,   -999.0,9,  -999.0, -999.00,-999.0000,-999.000,-999.000
     316N145_5,  I08S,    83,  1,      1, SIH036,2,19941228,0523,-63.8445,  81.8917, 3705,36993.0,   3715.7,  -0.1906,  34.6688,2,  34.6706,2,    236.6,2, -0.4338,    236.1,2,   126.51,2,    31.55,2,     0.00,2,     2.16,2,    1.230,2,    0.566,2, -999.000,5,-999.0000,5,  -999.00,9,   -999.0,9,  -999.00,9,-999.000,9,   -999.0,9,   -999.0,9,  -999.0, -999.00,-999.0000,-999.000,-999.000