BOTTLE,20090521WHPSIOdm
EXPOCODE,SECT_ID,STNNBR,CASTNO,SAMPNO,BTLNBR,BTLNBR_FLAG_W,DATE,TIME,LATITUDE,LONGITUDE,DEPTH,CTDRAW,CTDPRS,CTDTMP,CTDSAL,CTDSAL_FLAG_W,SALNTY,SALNTY_FLAG_W,CTDOXY,CTDOXY_FLAG_W,THETA,OXYGEN,OXYGEN_FLAG_W,SILCAT,SILCAT_FLAG_W,NITRAT,NITRAT_FLAG_W,NITRIT,NITRIT_FLAG_W,PHSPHT,PHSPHT_FLAG_W,CFC-11,CFC-11_FLAG_W,CFC-12,CFC-12_FLAG_W,TRITUM,TRITUM_FLAG_W,HELIUM,HELIUM_FLAG_W,DELHE3,DELHE3_FLAG_W,DELC14,DELC14_FLAG_W,DELC13,DELC13_FLAG_W,NEON,NEON_FLAG_W,TCARBN,TCARBN_FLAG_W,ALKALI,ALKALI_FLAG_W,C14ERR,DELHER,HELIER,NEONER,TRITER
,,,,,,,,,,,,,DBAR,IPTS-68,PSS-78,,PSS-78,,UMOL/KG,,IPTS-68,UMOL/KG,,UMOL/KG,,UMOL/KG,,UMOL/KG,,UMOL/KG,,PMOL/KG,,PMOL/KG,,TU,,NMOL/KG,,PERCNT,,/MILLE,,/MILLE,,NMOL/KG,,UMOL/KG,,UMOL/KG,,/MILLE,PERCNT,NMOL/KG,NMOL/KG,TU
     316N145_5,  I08S,    82,  1,     36, SIH035,2,19941227,2324,-64.1472,  81.8917, 3690,  104.2,      5.3,   0.6198,  33.5871,2,  33.5890,2,    318.5,2,  0.6196,    341.6,2,    43.95,2,    26.06,2,     0.33,2,     1.67,2,    6.467,2,    3.071,2,    0.179,2,   1.7950,2,    -1.44,2,    -95.0,2,  -999.00,9,   8.011,2,   2140.6,2,   2276.1,2,     2.8,    0.09,  0.0020,   0.080,   0.005
     316N145_5,  I08S,    82,  1,     35, SIH032,2,19941227,2324,-64.1472,  81.8917, 3690,  306.5,     25.6,  -0.4063,  33.8358,2,  33.8247,2,    333.1,2, -0.4070,    341.4,2,    46.59,2,    26.81,2,     0.22,2,     1.73,2,    5.847,2,    2.795,2,    0.276,2,   1.8560,2,    -1.00,2,   -106.6,2,     1.21,2,   8.227,2,   2156.6,2,   2293.8,2,     6.4,    0.13,  0.0020,   0.034,   0.006
     316N145_5,  I08S,    82,  1,     34, SIH029,2,19941227,2324,-64.1472,  81.8917, 3690,  542.9,     49.4,  -1.3166,  34.0777,2,  34.0905,2,    325.8,2, -1.3178,    316.0,2,    48.74,2,    28.52,2,     0.17,2,     1.92,2,    4.974,2,    2.359,2,    0.117,2,   1.8370,2,     0.56,2,   -128.9,2,    -0.03,2,   8.151,2,   2172.6,2,   2313.9,2,     5.7,    0.09,  0.0020,   0.086,   0.005
     316N145_5,  I08S,    82,  1,     33, SIH026,2,19941227,2324,-64.1472,  81.8917, 3690,  810.4,     76.3,  -0.5871,  34.2673,2,  34.2695,2,    270.9,2, -0.5894,    262.0,2,    63.96,2,    31.29,2,     0.15,2,     2.16,2,    3.679,2,    1.745,2,    0.238,4,   1.8500,2,     2.89,2,   -118.7,2,     0.66,2,   8.133,2,   2221.4,2,   -999.0,9,     4.3,    0.13,  0.0020,   0.047,   0.006
     316N145_5,  I08S,    82,  1,     32, SIH023,2,19941227,2324,-64.1472,  81.8917, 3690, 1057.7,    101.2,   0.3215,  34.4071,2,  34.4180,2,    225.4,2,  0.3176,    223.1,2,    72.56,2,    32.87,2,     0.12,2,     2.24,2,    2.629,2,    1.214,2,    0.278,4,   1.8530,2,     5.11,2,   -129.3,2,     0.50,2,   8.103,2,   2234.9,2,   2321.4,2,     3.5,    0.14,  0.0020,   0.044,   0.007
     316N145_5,  I08S,    82,  1,     31, SIH020,2,19941227,2324,-64.1472,  81.8917, 3690, 1558.6,    151.6,   1.1080,  34.5442,2,  34.5498,2,    197.8,2,  1.1011,    197.9,2,    79.66,2,    33.18,2,     0.01,2,     2.25,2,    1.477,6,    0.686,6,    0.288,4,   1.9020,3,     7.14,2,   -134.4,2,     0.38,2,   8.213,3,   2243.3,2,   2344.4,2,     4.0,    0.13,  0.0020,   0.042,   0.006
     316N145_5,  I08S,    82,  1,     30, SIH017,2,19941227,2324,-64.1472,  81.8917, 3690, 2003.4,    196.3,   1.4805,  34.6040,2,  34.6079,2,    182.9,2,  1.4708,    187.5,2,    82.80,2,    32.96,2,     0.01,2,     2.24,2,    0.942,2,    0.447,2,    0.306,4,   1.8440,2,     8.01,2,   -149.8,2,     0.32,2,   8.009,2,   2251.1,2,   2337.4,2,     3.3,    0.14,  0.0020,   0.056,   0.009
     316N145_5,  I08S,    82,  1,     29, SIH014,2,19941227,2324,-64.1472,  81.8917, 3690, 2554.6,    251.8,   1.7034,  34.6484,2,  34.6561,2,    182.1,2,  1.6904,    181.9,2,    84.94,2,    32.70,2,     0.01,2,     2.22,2,    0.577,2,    0.269,2, -999.000,5,-999.0000,5,  -999.00,9,   -154.6,2,     0.34,2,-999.000,9,   2254.4,2,   -999.0,9,     2.9, -999.00,-999.0000,-999.000,-999.000
     316N145_5,  I08S,    82,  1,     28, SIH011,2,19941227,2324,-64.1472,  81.8917, 3690, 3071.3,    303.7,   1.8665,  34.6877,2,  34.6920,2,    177.7,2,  1.8503,    181.6,2,    86.09,2,    32.04,2,     0.00,2,     2.19,2,    0.338,2,    0.175,2,    0.180,4,   1.8560,2,     9.42,2,   -151.4,2,     0.36,2,   8.182,3,   2252.1,2,   2339.6,2,     4.9,    0.13,  0.0020,   0.037,   0.009
     316N145_5,  I08S,    82,  1,     27, SIH008,2,19941227,2324,-64.1472,  81.8917, 3690, 3568.8,    353.8,   1.7970,  34.6943,2,  34.6977,2,    182.2,2,  1.7781,    184.4,2,    86.08,2,    31.73,2,     0.00,2,     2.17,2,    0.358,2,    0.172,2, -999.000,5,-999.0000,5,  -999.00,9,   -156.9,2,     0.33,2,-999.000,9,   2251.9,2,   2346.7,2,     3.6, -999.00,-999.0000,-999.000,-999.000
     316N145_5,  I08S,    82,  1,     26, SIH005,2,19941227,2324,-64.1472,  81.8917, 3690, 4068.7,    404.1,   1.7807,  34.7070,2,  34.7123,2,    182.6,2,  1.7590,    186.4,2,    86.91,2,    31.41,2,     0.00,2,     2.14,2,    0.289,2,    0.140,2,    0.057,2,   1.8540,2,     9.05,2,   -119.9,2,     0.33,2,   8.039,2,   2250.5,2,   2347.1,2,     3.4,    0.14,  0.0020,   0.038,   0.008
     316N145_5,  I08S,    82,  1,     25, SIH019,2,19941227,2324,-64.1472,  81.8917, 3690, 4570.8,    454.6,   1.7432,  34.7112,2,  34.7136,2,    183.6,2,  1.7187,    188.9,2,    87.57,2,    31.30,2,     0.00,2,     2.13,2,    0.328,2,    0.175,2, -999.000,5,-999.0000,5,  -999.00,9,   -122.7,2,     0.29,2,-999.000,9,   2248.3,2,   2340.7,2,     4.2, -999.00,-999.0000,-999.000,-999.000
     316N145_5,  I08S,    82,  1,     24, SIH037,2,19941227,2324,-64.1472,  81.8917, 3690, 5067.7,    504.5,   1.7347,  34.7224,2,  34.7254,2,    184.5,2,  1.7073,    190.0,2,    88.05,2,    30.93,2,     0.00,2,     2.11,2,    0.234,2,    0.114,2,    0.223,4,   1.8560,2,     9.43,2,   -136.0,2,     0.45,2,   8.150,2,   2248.8,2,   -999.0,9,     4.9,    0.13,  0.0030,   0.044,   0.009
     316N145_5,  I08S,    82,  1,     23, SIH033,2,19941227,2324,-64.1472,  81.8917, 3690, 6087.6,    607.1,   1.6265,  34.7263,2,  34.7309,2,    187.2,2,  1.5936,    194.4,2,    89.86,2,    30.62,2,     0.00,2,     2.10,2,    0.244,2,    0.123,2,    0.146,4,   1.8530,2,     9.27,2,   -132.5,2,     0.39,2,   8.022,2,   2247.5,2,   2344.1,2,     3.8,    0.09,  0.0020,   0.086,   0.007
     316N145_5,  I08S,    82,  1,     22, SIH031,2,19941227,2324,-64.1472,  81.8917, 3690, 7096.4,    708.6,   1.5448,  34.7332,2,  34.7374,2,    194.0,2,  1.5063,    197.6,2,    92.01,2,    30.42,2,     0.00,2,     2.08,2,    0.198,2,    0.101,2,    0.436,4,   1.8690,2,     8.97,2,   -144.7,2,     0.46,2,   8.089,2,   2246.6,2,   2364.2,2,     2.7,    0.13,  0.0020,   0.028,   0.007
     316N145_5,  I08S,    82,  1,     21, SIH030,2,19941227,2324,-64.1472,  81.8917, 3690, 8100.2,    809.6,   1.4636,  34.7356,2,  34.7412,2,    194.4,2,  1.4194,    199.0,2,    94.64,2,    30.35,2,     0.00,2,     2.07,2, -999.000,9, -999.000,9,    0.262,4,   1.8650,2,     9.05,2,   -146.8,2,     0.48,2,   8.121,2,   2246.6,2,   -999.0,9,     2.7,    0.09,  0.0020,   0.084,   0.008
     316N145_5,  I08S,    82,  1,     20, SIH028,2,19941227,2324,-64.1472,  81.8917, 3690, 9114.5,    911.6,   1.3405,  34.7324,2,  34.7337,2,    194.6,2,  1.2908,    201.5,2,    96.79,2,    30.39,2,     0.00,2,     2.09,2,    0.208,2,    0.102,2,    0.331,4,   1.8500,2,     8.69,2,   -143.8,2,     0.43,2,   8.058,2,   2247.5,2,   2354.5,2,     3.3,    0.13,  0.0020,   0.039,   0.007
     316N145_5,  I08S,    82,  1,     19, SIH027,2,19941227,2324,-64.1472,  81.8917, 3690,10124.2,   1013.2,   1.2386,  34.7288,2,  34.7315,2,    198.0,2,  1.1834,    202.8,2,    99.92,2,    30.58,2,     0.00,2,     2.09,2,    0.172,2,    0.084,2,    0.054,2,   1.8600,2,     8.99,2,   -151.9,2,     0.45,2,   8.079,2,   2248.6,2,   2355.3,2,     2.9,    0.09,  0.0020,   0.076,   0.010
     316N145_5,  I08S,    82,  1,     18, SIH003,2,19941227,2324,-64.1472,  81.8917, 3690,11123.5,   1113.7,   1.1540,  34.7254,2,  34.7298,2,    198.6,2,  1.0932,    203.7,2,   102.72,2,    30.67,2,     0.00,2,     2.10,2,    0.155,2,    0.071,2,    0.279,4,   1.8640,2,     8.93,2,   -147.4,2,     0.26,2,   8.103,2,   2250.2,6,   2358.6,2,     6.4,    0.13,  0.0020,   0.049,   0.009
     316N145_5,  I08S,    82,  1,     17, SIH024,2,19941227,2324,-64.1472,  81.8917, 3690,12130.3,   1214.9,   1.0731,  34.7225,2,  34.7250,2,    199.9,2,  1.0065,    204.4,2,   105.03,2,    30.81,2,     0.00,2,     2.11,2,    0.126,2,    0.071,2,    0.140,4,   1.9250,3,     8.67,2,   -147.8,2,     0.46,2,   8.304,3,   2247.5,2,   2358.3,2,     5.4,    0.14,  0.0030,   0.039,   0.005
     316N145_5,  I08S,    82,  1,     16, SIH022,2,19941227,2324,-64.1472,  81.8917, 3690,13131.9,   1315.7,   0.9879,  34.7179,2,  34.7229,2,    200.4,2,  0.9155,    205.5,2,   107.83,2,    30.95,2,     0.00,2,     2.13,2,    0.110,2,    0.060,2,    0.203,4,   1.8820,2,     8.51,2,   -143.7,2,     0.37,2,   8.173,2,   2250.6,2,   2356.2,2,     4.1,    0.13,  0.0020,   0.040,   0.006
     316N145_5,  I08S,    82,  1,     15, SIH021,2,19941227,2324,-64.1472,  81.8917, 3690,14155.4,   1418.6,   0.8972,  34.7137,2,  34.7182,2,    201.8,2,  0.8190,    206.3,2,   110.13,2,    31.14,2,     0.00,2,     2.14,2,    0.115,2,    0.059,2,    0.010,2,   1.8650,2,     8.56,2,   -151.0,2,     0.20,2,   8.106,2,   2252.1,2,   -999.0,9,     2.8,    0.14,  0.0020,   0.045,   0.006
     316N145_5,  I08S,    82,  1,     14, SIH002,2,19941227,2324,-64.1472,  81.8917, 3690,15151.5,   1518.8,   0.7875,  34.7060,2,  34.7095,2,    199.5,2,  0.7039,    207.3,2,   112.60,2,    31.43,2,     0.00,2,     2.16,2,    0.151,2,    0.080,2,   -0.142,4,   1.9140,3,     8.59,2,   -154.4,2,     0.40,2,   8.307,3,   2254.6,2,   2358.4,2,     3.1,    0.14,  0.0030,   0.042,   0.065
     316N145_5,  I08S,    82,  1,     13, SIH018,2,19941227,2324,-64.1472,  81.8917, 3690,16177.1,   1622.0,   0.6960,  34.6999,2,  34.7038,2,    199.6,2,  0.6065,    208.4,2,   114.74,2,    31.57,2,     0.00,2,     2.17,2,    0.173,2,    0.101,2, -999.000,5,-999.0000,5,  -999.00,9,   -169.0,2,     0.35,2,-999.000,9,   2256.4,2,   2361.8,2,     2.7, -999.00,-999.0000,-999.000,-999.000
     316N145_5,  I08S,    82,  1,     12, SIH016,2,19941227,2324,-64.1472,  81.8917, 3690,17184.5,   1723.3,   0.6169,  34.6956,2,  34.7001,2,    203.7,2,  0.5214,    209.0,2,   117.38,2,    31.80,2,     0.00,2,     2.18,2,    0.145,2,    0.075,2,    0.009,2,   1.8740,2,     8.29,2,   -151.8,2,     0.22,2,   8.122,2,   2256.2,2,   2362.3,2,     4.1,    0.14,  0.0020,   0.040,   0.006
     316N145_5,  I08S,    82,  1,     11, SIH015,2,19941227,2324,-64.1472,  81.8917, 3690,19208.4,   1926.9,   0.4674,  34.6871,2,  34.6912,2,    204.7,2,  0.3596,    212.0,2,   120.34,2,    32.05,2,     0.00,2,     2.20,2,    0.200,2,    0.104,2,    0.012,2,   1.9000,2,     7.93,2,   -157.2,2,     0.39,2,   8.238,2,   2255.4,2,   2362.1,2,     3.1,    0.14,  0.0030,   0.052,   0.025
     316N145_5,  I08S,    82,  1,     10, SIH013,2,19941227,2324,-64.1472,  81.8917, 3690,21237.3,   2131.0,   0.3237,  34.6783,2,  34.6826,2,    210.0,2,  0.2033,    215.6,2,   120.82,2,    32.04,2,     0.00,2,     2.20,2,    0.358,2,    0.185,2,    0.022,2,   1.8980,2,     7.57,2,   -153.2,2,     0.38,2,   8.210,2,   2256.1,2,   2359.0,2,     4.2,    0.14,  0.0020,   0.043,   0.006
     316N145_5,  I08S,    82,  1,      9, SIH012,2,19941227,2324,-64.1472,  81.8917, 3690,23235.0,   2331.9,   0.2413,  34.6769,2,  34.6794,2,    212.9,2,  0.1071,    217.2,2,   124.78,2,    32.42,2,     0.00,2,     2.22,2,    0.252,2,    0.133,2,   -0.022,4,   1.8800,2,     7.21,2,   -165.6,2,     0.21,2,   8.214,2,   2257.8,2,   -999.0,9,     3.0,    0.14,  0.0020,   0.044,   0.005
     316N145_5,  I08S,    82,  1,      8, SIH010,2,19941227,2324,-64.1472,  81.8917, 3690,25285.6,   2538.2,   0.1484,  34.6748,2,  34.6777,2,    216.8,2,  0.0000,    221.2,2,   124.93,2,    32.17,2,     0.00,2,     2.21,2,    0.362,2,    0.175,2,    0.009,2,   3.7690,4,   -63.85,4,   -161.5,2,     0.19,2,  14.310,4,   2255.6,2,   2360.1,2,     3.1,    0.15,  0.0050,  70.071,   0.005
     316N145_5,  I08S,    82,  1,      7, SIH009,2,19941227,2324,-64.1472,  81.8917, 3690,27308.3,   2741.7,   0.0805,  34.6733,2,  34.6769,2,    219.2,2, -0.0831,    224.2,2,   125.08,2,    32.00,2,     0.00,2,     2.21,2,    0.419,2,    0.208,2,    0.009,2,   1.9240,3,     6.98,2,   -157.9,2,     0.44,2,   8.371,3,   2255.2,2,   2372.4,2,     3.0,    0.13,  0.0020,   0.029,   0.005
     316N145_5,  I08S,    82,  1,      6, SIH038,2,19941227,2324,-64.1472,  81.8917, 3690,29349.0,   2946.9,   0.0094,  34.6709,2,  34.6739,2,    223.5,2, -0.1697,    226.9,2,   124.92,2,    32.04,2,     0.00,2,     2.21,2,    0.487,2,    0.236,2,    0.011,2,   1.8980,2,    15.21,2,   -170.2,2,    -0.47,4,   8.116,2,   2254.1,2,   -999.0,9,     2.8,    0.14,  0.0030,   0.020,   0.005
     316N145_5,  I08S,    82,  1,      5, SIH006,2,19941227,2324,-64.1472,  81.8917, 3690,31366.1,   3149.8,  -0.0388,  34.6712,2,  34.6739,2,    226.7,2, -0.2342,    229.7,2,   123.59,2,    31.98,2,     0.00,2,     2.19,2,    0.671,2,    0.325,2,    0.022,2,   1.9020,2,     6.37,2,   -143.5,2,     0.27,2,   8.285,2,   2252.6,2,   2353.1,2,     3.9,    0.13,  0.0020,   0.035,   0.005
     316N145_5,  I08S,    82,  1,      4, SIH004,2,19941227,2324,-64.1472,  81.8917, 3690,33447.2,   3359.2,  -0.0969,  34.6707,2,  34.6767,4,    231.4,2, -0.3095,    233.0,2,   122.09,2,    31.86,2,     0.00,2,     2.19,2,    0.871,2,    0.432,2,    0.035,2,   1.9160,2,     6.18,2,   -140.7,2,     0.43,2,   8.339,2,   2251.5,2,   2364.6,2,     3.5,    0.14,  0.0020,   0.039,   0.009
     316N145_5,  I08S,    82,  1,      3, SIH025,2,19941227,2324,-64.1472,  81.8917, 3690,34972.9,   3512.6,  -0.1243,  34.6702,2,  34.6716,2,    233.0,2, -0.3502,    234.3,2,   120.43,2,    31.71,2,     0.00,2,     2.19,2,    1.008,2,    0.486,2,    0.000,5,   1.9400,2,     5.86,2,   -156.3,2,     0.33,2,   8.212,2,   2251.1,2,   -999.0,9,     4.5,    0.13,  0.0030,   0.039,   0.000
     316N145_5,  I08S,    82,  1,      2, SIH001,2,19941227,2324,-64.1472,  81.8917, 3690,36233.7,   3639.5,  -0.1441,  34.6698,2,  34.6710,2,    235.6,2, -0.3813,    236.4,2,   121.24,2,    31.75,2,     0.00,2,     2.19,2,    1.070,2,    0.514,2,    0.043,2,   1.8910,2,     5.91,2,   -149.1,2,     0.52,2,   8.262,2,   -999.0,9,   2358.0,2,     4.8,    0.14,  0.0020,   0.051,   0.005
     316N145_5,  I08S,    82,  1,      1, SIH036,2,19941227,2324,-64.1472,  81.8917, 3690,36768.5,   3693.3,  -0.1566,  34.6698,2,  34.6716,2,    236.1,2, -0.3985,    235.4,2,   123.38,2,    31.72,2,     0.00,2,     2.18,2,    1.074,2,    0.509,2,    0.475,4,-999.0000,5,  -999.00,5,   -152.9,2,     0.46,2,-999.000,5,   2252.4,6,   2359.5,2,     3.0, -999.00,-999.0000,-999.000,   0.051