BOTTLE,20090521WHPSIOdm
#Merged 2 decimal place DELC13 received from Dana Gerlach, WHOI, Apr 1, 2002.
#Changed HELIUM units from UMOL/KG to NMOL/KG.
#code : jjward hyd_to_exchange.pl 
#original files copied from HTML directory: 20090520
#original HYD file: i08shy.txt   Mon May 18 13:04:07 2009
#original SUM file: i08ssu.txt   Thu May 14 09:17:45 2009
#BOTTLE,20080321WHPSIOdm
#code : jjward hyd_to_exchange.pl 
#original files copied from HTML directory: 20080321
#original HYD file: i08shy.txt   Fri Mar 21 08:37:40 2008
#original SUM file: i08ssu.txt   Wed Jun 16 11:13:01 1999
EXPOCODE,SECT_ID,STNNBR,CASTNO,SAMPNO,BTLNBR,BTLNBR_FLAG_W,DATE,TIME,LATITUDE,LONGITUDE,DEPTH,CTDRAW,CTDPRS,CTDTMP,CTDSAL,CTDSAL_FLAG_W,SALNTY,SALNTY_FLAG_W,CTDOXY,CTDOXY_FLAG_W,THETA,OXYGEN,OXYGEN_FLAG_W,SILCAT,SILCAT_FLAG_W,NITRAT,NITRAT_FLAG_W,NITRIT,NITRIT_FLAG_W,PHSPHT,PHSPHT_FLAG_W,CFC-11,CFC-11_FLAG_W,CFC-12,CFC-12_FLAG_W,TRITUM,TRITUM_FLAG_W,HELIUM,HELIUM_FLAG_W,DELHE3,DELHE3_FLAG_W,DELC14,DELC14_FLAG_W,DELC13,DELC13_FLAG_W,NEON,NEON_FLAG_W,TCARBN,TCARBN_FLAG_W,ALKALI,ALKALI_FLAG_W,C14ERR,DELHER,HELIER,NEONER,TRITER
,,,,,,,,,,,,,DBAR,IPTS-68,PSS-78,,PSS-78,,UMOL/KG,,IPTS-68,UMOL/KG,,UMOL/KG,,UMOL/KG,,UMOL/KG,,UMOL/KG,,PMOL/KG,,PMOL/KG,,TU,,NMOL/KG,,PERCNT,,/MILLE,,/MILLE,,NMOL/KG,,UMOL/KG,,UMOL/KG,,/MILLE,PERCNT,NMOL/KG,NMOL/KG,TU
     316N145_5,  I08S,     4,  1,     36, SIH001,2,19941205,0313,-30.3000,  94.9945, 1945,  147.4,      9.8,  21.1028,  35.9364,2,  35.9408,2,    244.1,2, 21.1009,    224.5,2,     1.02,2,     0.12,2,     0.00,2,     0.12,2,    2.247,2,    1.262,2,    1.298,2,   1.7530,2,    -1.42,2,    112.2,2,  -999.00,9,   7.085,2,   2039.2,6,   -999.0,9,     3.8,    0.13,  0.0020,   0.036,   0.016
     316N145_5,  I08S,     4,  1,     35, SIH019,2,19941205,0313,-30.3000,  94.9945, 1945,  594.4,     54.7,  19.8913,  35.9424,2,  35.9437,2,    241.4,2, 19.8812,    232.9,2,     1.04,2,     0.15,2,     0.00,2,     0.14,2,    2.451,2,    1.307,2, -999.000,5,-999.0000,5,  -999.00,9,    100.4,2,     1.32,2,-999.000,9,   2047.5,2,   -999.0,9,     4.4, -999.00,-999.0000,-999.000,-999.000
     316N145_5,  I08S,     4,  1,     34, SIH025,2,19941205,0313,-30.3000,  94.9945, 1945,  841.2,     79.5,  19.0138,  35.9201,2,  35.9186,2,    242.9,2, 18.9995,    236.7,2,     1.04,2,     0.17,2,     0.00,2,     0.13,2,    2.537,2,    1.373,2,    1.310,2,   1.7670,2,    -1.55,2,    101.2,2,     1.32,2,   7.191,2,   2047.2,2,   -999.0,9,     3.6,    0.13,  0.0020,   0.047,   0.016
     316N145_5,  I08S,     4,  1,     33, SIH004,2,19941205,0313,-30.3000,  94.9945, 1945, 1090.6,    104.6,  18.0026,  35.8631,2,  35.8627,2,    242.2,2, 17.9846,    233.4,2,     1.06,2,     0.19,2,     0.00,2,     0.17,2,    2.672,2,    1.364,2,    1.129,2,   1.7440,2,    -1.69,2,    109.0,2,     1.36,2,   7.123,2,   2057.3,2,   2353.1,2,     4.3,    0.16,  0.0040,   0.046,   0.014
     316N145_5,  I08S,     4,  1,     32, SIH005,2,19941205,0313,-30.3000,  94.9945, 1945, 1592.3,    155.1,  16.3595,  35.7105,2,  35.7126,2,    231.0,2, 16.3345,    229.8,2,     0.90,2,     0.76,2,     0.15,2,     0.26,2,    2.869,2,    1.429,2,    1.143,2,   1.7310,2,    -1.27,2,    105.3,2,     1.33,2,   7.127,2,   2074.1,2,   2342.9,2,     8.6,    0.13,  0.0020,   0.052,   0.015
     316N145_5,  I08S,     4,  1,     31, SIH006,2,19941205,0313,-30.3000,  94.9945, 1945, 2098.9,    206.0,  14.8461,  35.5499,2,  35.5541,2,    221.9,2, 14.8149,    221.8,2,     1.44,2,     3.78,2,     0.01,2,     0.45,2,    2.978,6,    1.468,6,    1.017,2,   1.9090,4,     9.38,4,    110.8,2,     1.26,2,   8.214,4,   2088.4,2,   2358.7,3,     7.5,    0.13,  0.0020,   0.023,   0.013
     316N145_5,  I08S,     4,  1,     29, SIH008,2,19941205,0313,-30.3000,  94.9945, 1945, 2588.4,    255.2,  13.7175,  35.3865,2,  35.3809,2,    222.3,2, 13.6809,    227.1,2,     1.63,2,     5.52,2,     0.01,2,     0.56,2,    3.031,2,    1.523,2, -999.000,5,-999.0000,5,  -999.00,9,    105.4,2,     1.27,2,-999.000,9,   2093.2,2,   2325.7,2,     6.1, -999.00,-999.0000,-999.000,-999.000
     316N145_5,  I08S,     4,  1,     30, SIH038,2,19941205,0313,-30.3000,  94.9945, 1945, 2592.3,    255.6,  13.7070,  35.3832,2,  35.3835,2,    222.3,2, 13.6704,    226.8,2,     1.79,2,     5.50,2,     0.01,2,     0.56,2,    3.021,2,    1.505,2,    1.126,2,   1.7710,2,    -0.68,2,    108.6,2,     1.29,2,   7.356,2,   2093.4,2,   2327.0,2,     3.6,    0.13,  0.0020,   0.041,   0.015
     316N145_5,  I08S,     4,  1,     28, SIH009,2,19941205,0313,-30.3000,  94.9945, 1945, 3105.7,    307.2,  12.6234,  35.2116,2,  35.2123,2,    229.3,2, 12.5817,    230.3,2,     2.16,2,     7.64,2,     0.01,2,     0.68,2,    3.160,2,    1.523,2,    0.941,2,   1.7660,2,    -0.80,2,     97.6,2,     1.25,2,   7.374,2,   2097.5,2,   2321.2,2,     3.2,    0.16,  0.0040,   0.046,   0.013
     316N145_5,  I08S,     4,  1,     27, SIH010,2,19941205,0313,-30.3000,  94.9945, 1945, 3588.1,    355.7,  12.0102,  35.1224,2,  35.1165,2,    233.9,2, 11.9634,    234.7,2,     2.52,2,     8.71,2,     0.01,2,     0.75,2,    3.216,2,    1.559,2, -999.000,5,-999.0000,5,  -999.00,9,     93.1,2,     1.32,2,-999.000,9,   2100.1,2,   2310.1,2,     3.9, -999.00,-999.0000,-999.000,-999.000
     316N145_5,  I08S,     4,  1,     26, SIH011,2,19941205,0313,-30.3000,  94.9945, 1945, 4097.4,    406.9,  11.4592,  35.0285,2,-999.0000,9,    237.8,2, 11.4072,    237.8,2,  -999.00,9,  -999.00,9,  -999.00,9,  -999.00,9,    3.282,2,    1.586,2,    0.000,5,   1.7410,4,    -0.67,2,     84.2,2,     1.30,2,   7.338,4,   2102.8,2,   2311.8,2,     7.9,    0.12,  0.0020,   0.040,   0.000
     316N145_5,  I08S,     4,  1,     25, SIH012,2,19941205,0313,-30.3000,  94.9945, 1945, 4584.1,    455.9,  11.0375,  34.9591,2,  34.9575,2,    239.1,2, 10.9805,    239.2,2,     3.05,2,    10.95,2,     0.00,2,     0.89,2,    3.272,6,    1.590,6, -999.000,5,-999.0000,5,  -999.00,9,     78.3,2,     1.30,2,-999.000,9,   2103.6,2,   2298.5,2,     5.2, -999.00,-999.0000,-999.000,-999.000
     316N145_5,  I08S,     4,  1,     24, SIH013,2,19941205,0313,-30.3000,  94.9945, 1945, 5082.9,    506.0,  10.5797,  34.8842,2,  34.8825,2,    240.2,2, 10.5180,    240.4,2,     3.40,2,    12.14,2,     0.00,2,     0.96,2,    3.221,2,    1.550,2,    0.568,2,-999.0000,5,  -999.00,9,     -9.6,4,     1.17,3,-999.000,9,   2107.2,2,   2299.8,2,    12.8, -999.00,-999.0000,-999.000,   0.009
     316N145_5,  I08S,     4,  1,     23, SIH014,2,19941205,0313,-30.3000,  94.9945, 1945, 6076.1,    605.9,   9.8037,  34.7627,2,  34.7585,2,    239.7,2,  9.7330,    237.8,2,     4.27,2,    14.44,2,     0.00,2,     1.11,2, -999.000,9, -999.000,9,    0.506,2,   1.8240,2,    -0.48,2,     45.8,2,     1.29,2,   7.665,2,   2112.3,2,   2294.5,2,     8.3,    0.12,  0.0020,   0.036,   0.008
     316N145_5,  I08S,     4,  1,     22, SIH015,2,19941205,0313,-30.3000,  94.9945, 1945, 7078.0,    706.7,   9.0245,  34.6527,2,  34.6510,2,    229.9,2,  8.9457,    228.5,2,     6.18,2,    17.54,2,     0.00,2,     1.31,2,    2.474,2,    1.208,2,    0.617,2,   1.7910,2,     0.08,2,     49.2,2,     1.32,2,   7.615,2,   2123.6,2,   2285.9,2,     6.1,    0.12,  0.0020,   0.026,   0.009
     316N145_5,  I08S,     4,  1,     21, SIH016,2,19941205,0313,-30.3000,  94.9945, 1945, 8075.8,    807.0,   7.6879,  34.5291,2,  34.5292,2,    213.4,2,  7.6055,    206.0,2,    13.22,2,    22.74,2,     0.00,2,     1.63,2,    1.331,2,    0.671,2,    0.229,2,   1.7830,2,     1.49,2,     34.3,2,     1.29,2,   7.613,2,   2149.4,2,   2296.7,2,     4.1,    0.12,  0.0020,   0.043,   0.006
     316N145_5,  I08S,     4,  1,     20, SIH017,2,19941205,0313,-30.3000,  94.9945, 1945, 9073.2,    907.3,   6.2124,  34.4479,2,  34.4434,2,    197.7,2,  6.1292,    193.9,2,    23.86,2,    27.29,2,     0.00,2,     1.93,2,    0.738,2,    0.377,2,    0.255,2,-999.0000,5,  -999.00,9,    -66.3,2,     1.01,2,-999.000,9,   2175.1,2,   2297.9,2,     4.1, -999.00,-999.0000,-999.000,   0.006
     316N145_5,  I08S,     4,  1,     19, SIH018,2,19941205,0313,-30.3000,  94.9945, 1945,10078.0,   1008.4,   4.9587,  34.4055,2,  34.4055,2,    187.9,2,  4.8751,    186.2,2,    36.39,2,    30.28,2,     0.00,2,     2.15,2,    0.433,6,    0.218,6,    0.231,2,   1.8570,2,     4.03,2,   -107.9,2,     0.87,2,   7.941,2,   2198.0,2,   2309.4,2,     4.6,    0.12,  0.0020,   0.046,   0.006
     316N145_5,  I08S,     4,  1,     18, SIH002,2,19941205,0313,-30.3000,  94.9945, 1945,11078.4,   1109.0,   4.3083,  34.4342,2,  34.4383,2,    173.2,2,  4.2210,    171.2,2,    50.45,2,    32.20,2,     0.00,2,     2.30,2,    0.200,6,    0.105,6,    0.093,2,   1.8260,2,     6.15,2,   -113.9,2,     0.74,2,   7.876,2,   2222.3,6,   2316.9,2,     3.7,    0.12,  0.0020,   0.024,   0.004
     316N145_5,  I08S,     4,  1,     17, SIH020,2,19941205,0313,-30.3000,  94.9945, 1945,12085.8,   1210.4,   3.9723,  34.4938,2,  34.4948,2,    156.1,2,  3.8792,    153.7,2,    64.68,2,    33.72,2,     0.00,2,     2.42,2,    0.071,2,    0.040,2,    0.270,4,   1.9010,2,     7.20,2,   -134.4,2,     0.54,2,   8.050,2,   2244.8,2,   2340.6,2,     4.2,    0.12,  0.0020,   0.034,   0.006
     316N145_5,  I08S,     4,  1,     16, SIH021,2,19941205,0313,-30.3000,  94.9945, 1945,13079.1,   1310.3,   3.6814,  34.5306,2,  34.5319,2,    149.7,2,  3.5824,    148.8,2,    72.41,2,    34.24,2,     0.00,2,     2.45,2,    0.033,2,    0.020,2, -999.000,5,-999.0000,5,  -999.00,9,   -999.0,9,  -999.00,9,-999.000,9,   -999.0,9,   -999.0,9,  -999.0, -999.00,-999.0000,-999.000,-999.000
     316N145_5,  I08S,     4,  1,     15, SIH022,2,19941205,0313,-30.3000,  94.9945, 1945,13082.0,   1310.6,   3.6811,  34.5312,2,  34.5315,2,    149.7,2,  3.5820,    148.6,2,    72.42,2,    34.24,2,     0.00,2,     2.46,2,    0.021,2,    0.025,2,   -0.019,4,   1.8430,2,     9.18,2,   -143.9,2,     0.47,2,   7.883,2,   2255.3,6,   -999.0,9,     3.0,    0.12,  0.0020,   0.045,   0.003
     316N145_5,  I08S,     4,  1,     13, SIH024,2,19941205,0313,-30.3000,  94.9945, 1945,14079.0,   1410.9,   3.5063,  34.5669,2,  34.5661,2,    147.4,2,  3.4004,    146.3,2,    78.59,2,    34.48,2,     0.00,2,     2.48,2,    0.029,2,    0.014,2,    0.144,4,   1.9200,2,     9.67,2,   -161.2,2,     0.40,2,   8.162,2,   -999.0,9,   -999.0,9,     3.0,    0.12,  0.0020,   0.023,   0.005
     316N145_5,  I08S,     4,  1,     14, SIH023,2,19941205,0313,-30.3000,  94.9945, 1945,14087.9,   1411.7,   3.5063,  34.5668,2,  34.5663,2,    147.4,2,  3.4004,    144.6,2,    78.76,2,    34.48,2,     0.00,2,     2.48,2,    0.014,2,    0.012,2, -999.000,5,-999.0000,5,  -999.00,9,   -999.0,9,  -999.00,9,-999.000,9,   2263.9,6,   2361.1,2,  -999.0, -999.00,-999.0000,-999.000,-999.000
     316N145_5,  I08S,     4,  1,     11, SIH026,2,19941205,0313,-30.3000,  94.9945, 1945,15092.2,   1512.8,   3.3122,  34.5946,2,  34.5952,2,    145.9,2,  3.1996,    144.6,2,    83.06,2,    34.54,2,     0.00,2,     2.47,2,    0.018,3,    0.003,2,    0.182,4,   1.8680,2,    10.55,2,   -169.8,2,     0.35,2,   8.005,2,   -999.0,9,   2357.4,2,     2.4,    0.12,  0.0020,   0.024,   0.007
     316N145_5,  I08S,     4,  1,     12, SIH003,2,19941205,0313,-30.3000,  94.9945, 1945,15100.1,   1513.6,   3.3128,  34.5942,2,  34.5952,2,    145.9,2,  3.2002,    145.1,2,    83.05,2,    34.43,2,     0.00,2,     2.48,2,    0.042,4,    0.038,4, -999.000,5,-999.0000,5,  -999.00,9,   -999.0,9,  -999.00,9,-999.000,9,   2267.7,6,   2348.9,2,  -999.0, -999.00,-999.0000,-999.000,-999.000
     316N145_5,  I08S,     4,  1,     10, SIH027,2,19941205,0313,-30.3000,  94.9945, 1945,16096.6,   1613.8,   3.1207,  34.6163,2,  34.6166,2,    146.8,2,  3.0017,    146.9,2,    86.32,2,    34.32,2,     0.00,2,     2.46,2,    0.016,3,    0.009,3, -999.000,5,-999.0000,5,  -999.00,9,   -999.0,9,  -999.00,9,-999.000,9,   -999.0,9,   2360.8,2,  -999.0, -999.00,-999.0000,-999.000,-999.000
     316N145_5,  I08S,     4,  1,      9, SIH028,2,19941205,0313,-30.3000,  94.9945, 1945,16097.9,   1613.9,   3.1210,  34.6158,2,  34.6164,2,    146.8,2,  3.0020,    146.2,2,    86.32,2,    34.20,2,     0.00,2,     2.46,2,    0.576,4,    0.621,4,    0.135,4,   2.0790,4,     8.02,3,   -171.5,2,     0.35,2,   8.514,4,   2270.5,6,   2365.6,2,     4.0,    0.12,  0.0020,   0.044,   0.005
     316N145_5,  I08S,     4,  1,      7, SIH030,2,19941205,0313,-30.3000,  94.9945, 1945,17123.5,   1717.1,   2.9721,  34.6415,2,  34.6423,2,    148.6,2,  2.8460,    148.4,2,    90.10,2,    33.92,2,     0.00,2,     2.45,2,    0.010,3,    0.007,3,    0.199,4,   2.1190,4,     9.07,3,   -167.6,2,     0.33,2,   8.731,4,   2274.1,2,   2361.5,2,     2.8,    0.12,  0.0020,   0.038,   0.006
     316N145_5,  I08S,     4,  1,      8, SIH029,2,19941205,0313,-30.3000,  94.9945, 1945,17208.7,   1725.7,   2.9716,  34.6376,2,  34.6435,2,    148.6,2,  2.8448,   -999.0,9,    89.93,2,    33.98,2,     0.00,2,     2.44,2, -999.000,9, -999.000,9, -999.000,5,-999.0000,5,  -999.00,9,   -999.0,9,  -999.00,9,-999.000,9,   -999.0,9,   -999.0,9,  -999.0, -999.00,-999.0000,-999.000,-999.000
     316N145_5,  I08S,     4,  1,      6, SIH031,2,19941205,0313,-30.3000,  94.9945, 1945,18122.5,   1817.6,   2.8251,  34.6599,2,  34.6602,2,    151.7,2,  2.6922,    152.3,2,    92.16,2,    33.63,2,     0.00,2,     2.41,2,    0.001,3,    0.006,2, -999.000,5,-999.0000,5,  -999.00,9,   -999.0,9,  -999.00,9,-999.000,9,   2274.0,2,   2373.4,2,  -999.0, -999.00,-999.0000,-999.000,-999.000
     316N145_5,  I08S,     4,  1,      5, SIH032,2,19941205,0313,-30.3000,  94.9945, 1945,18146.8,   1820.0,   2.8238,  34.6585,2,  34.6620,2,    151.8,2,  2.6907,    152.2,2,    92.00,2,    33.57,2,     0.00,2,     2.42,2, -999.000,9, -999.000,9,    0.181,4,   1.9570,2,    10.98,2,   -168.6,2,     0.35,2,   8.290,2,   2273.5,2,   2362.5,2,     2.7,    0.12,  0.0020,   0.029,   0.007
     316N145_5,  I08S,     4,  1,      4, SIH033,2,19941205,0313,-30.3000,  94.9945, 1945,19119.8,   1917.9,   2.4735,  34.7013,2,  34.7019,2,    156.9,2,  2.3367,    159.0,2,   100.04,2,    33.01,2,     0.00,2,     2.38,2,    0.013,3,    0.016,3, -999.000,5,-999.0000,5,  -999.00,9,   -999.0,9,  -999.00,9,-999.000,9,   -999.0,9,   2375.9,2,  -999.0, -999.00,-999.0000,-999.000,-999.000
     316N145_5,  I08S,     4,  1,      3, SIH037,2,19941205,0313,-30.3000,  94.9945, 1945,19120.2,   1917.9,   2.4736,  34.7014,2,  34.7062,2,    156.9,2,  2.3369,    159.7,2,   100.91,2,    32.89,2,     0.00,2,     2.38,2, -999.000,9, -999.000,9,    0.003,4,   1.9750,2,    10.84,2,   -170.6,2,     0.37,2,   8.276,2,   2277.7,6,   2375.3,2,     2.8,    0.12,  0.0020,   0.025,   0.004
     316N145_5,  I08S,     4,  1,      1, SIH036,2,19941205,0313,-30.3000,  94.9945, 1945,19309.0,   1937.0,   2.4353,  34.7053,2,  34.7062,2,    157.3,2,  2.2975,    160.2,2,   100.44,2,    32.84,2,     0.00,2,     2.37,2,    0.006,2,    0.005,2,    0.264,4,   1.9000,2,    12.73,2,   -176.7,2,     0.33,2,   8.114,2,   2278.4,6,   2390.7,2,     2.3,    0.12,  0.0020,   0.045,   0.007
     316N145_5,  I08S,     4,  1,      2, SIH035,2,19941205,0313,-30.3000,  94.9945, 1945,19319.6,   1938.0,   2.4380,  34.7049,2,  34.7048,2,    157.4,3,  2.3000,    159.8,2,   100.91,2,    32.84,2,     0.00,2,     2.37,2,    0.026,3,    0.012,3, -999.000,5,-999.0000,5,  -999.00,9,   -999.0,9,  -999.00,9,-999.000,9,   2275.8,2,   2382.3,2,  -999.0, -999.00,-999.0000,-999.000,-999.000