BOTTLE,20090521WHPSIOdm
EXPOCODE,SECT_ID,STNNBR,CASTNO,SAMPNO,BTLNBR,BTLNBR_FLAG_W,DATE,TIME,LATITUDE,LONGITUDE,DEPTH,CTDRAW,CTDPRS,CTDTMP,CTDSAL,CTDSAL_FLAG_W,SALNTY,SALNTY_FLAG_W,CTDOXY,CTDOXY_FLAG_W,THETA,OXYGEN,OXYGEN_FLAG_W,SILCAT,SILCAT_FLAG_W,NITRAT,NITRAT_FLAG_W,NITRIT,NITRIT_FLAG_W,PHSPHT,PHSPHT_FLAG_W,CFC-11,CFC-11_FLAG_W,CFC-12,CFC-12_FLAG_W,TRITUM,TRITUM_FLAG_W,HELIUM,HELIUM_FLAG_W,DELHE3,DELHE3_FLAG_W,DELC14,DELC14_FLAG_W,DELC13,DELC13_FLAG_W,NEON,NEON_FLAG_W,TCARBN,TCARBN_FLAG_W,ALKALI,ALKALI_FLAG_W,C14ERR,DELHER,HELIER,NEONER,TRITER
,,,,,,,,,,,,,DBAR,IPTS-68,PSS-78,,PSS-78,,UMOL/KG,,IPTS-68,UMOL/KG,,UMOL/KG,,UMOL/KG,,UMOL/KG,,UMOL/KG,,PMOL/KG,,PMOL/KG,,TU,,NMOL/KG,,PERCNT,,/MILLE,,/MILLE,,NMOL/KG,,UMOL/KG,,UMOL/KG,,/MILLE,PERCNT,NMOL/KG,NMOL/KG,TU
     316N145_5,  I08S,    76,  1,     34, SIH029,2,19941226,1302,-61.4888,  82.0028, 2200,  128.7,      7.5,   0.2131,  33.9555,2,  33.9626,2,    341.1,2,  0.2128,    344.8,2,    44.71,2,    27.20,2,     0.25,2,     1.88,2, -999.000,9, -999.000,9, -999.000,5,-999.0000,5,  -999.00,9,   -999.0,9,  -999.00,9,-999.000,9,   -999.0,9,   -999.0,9,  -999.0, -999.00,-999.0000,-999.000,-999.000
     316N145_5,  I08S,    76,  1,     33, SIH026,2,19941226,1302,-61.4888,  82.0028, 2200,  329.9,     27.8,   0.2119,  33.9564,2,  33.9624,2,    338.2,2,  0.2109,    344.9,2,    44.88,2,    27.16,2,     0.25,2,     1.89,2, -999.000,9, -999.000,9, -999.000,5,-999.0000,5,  -999.00,9,   -999.0,9,  -999.00,9,-999.000,9,   -999.0,9,   -999.0,9,  -999.0, -999.00,-999.0000,-999.000,-999.000
     316N145_5,  I08S,    76,  1,     32, SIH023,2,19941226,1302,-61.4888,  82.0028, 2200,  585.8,     53.5,  -0.3332,  33.9843,2,  33.9892,2,    347.3,2, -0.3349,    347.7,2,    46.54,2,    27.56,2,     0.22,2,     1.93,2, -999.000,9, -999.000,9, -999.000,5,-999.0000,5,  -999.00,9,   -999.0,9,  -999.00,9,-999.000,9,   -999.0,9,   -999.0,9,  -999.0, -999.00,-999.0000,-999.000,-999.000
     316N145_5,  I08S,    76,  1,     31, SIH020,2,19941226,1302,-61.4888,  82.0028, 2200,  831.9,     78.3,  -1.2874,  34.0994,2,  34.1036,2,    333.8,2, -1.2893,    321.9,2,    54.82,2,    29.58,2,     0.20,2,     2.16,2, -999.000,9, -999.000,9, -999.000,5,-999.0000,5,  -999.00,9,   -999.0,9,  -999.00,9,-999.000,9,   -999.0,9,   -999.0,9,  -999.0, -999.00,-999.0000,-999.000,-999.000
     316N145_5,  I08S,    76,  1,     30, SIH017,2,19941226,1302,-61.4888,  82.0028, 2200, 1080.0,    103.3,  -0.8474,  34.2303,2,  34.2483,2,    292.3,2, -0.8503,    276.1,2,    64.60,2,    31.50,2,     0.17,2,     2.30,2, -999.000,9, -999.000,9, -999.000,5,-999.0000,5,  -999.00,9,   -999.0,9,  -999.00,9,-999.000,9,   -999.0,9,   -999.0,9,  -999.0, -999.00,-999.0000,-999.000,-999.000
     316N145_5,  I08S,    76,  1,     29, SIH014,2,19941226,1302,-61.4888,  82.0028, 2200, 1582.6,    153.8,   1.3017,  34.5622,2,  34.5667,2,    189.3,2,  1.2944,    187.0,2,    81.65,2,    33.86,2,     0.04,2,     2.39,2, -999.000,9, -999.000,9, -999.000,5,-999.0000,5,  -999.00,9,   -999.0,9,  -999.00,9,-999.000,9,   -999.0,9,   -999.0,9,  -999.0, -999.00,-999.0000,-999.000,-999.000
     316N145_5,  I08S,    76,  1,     28, SIH011,2,19941226,1302,-61.4888,  82.0028, 2200, 2092.5,    205.1,   1.8143,  34.6475,2,  34.6561,2,    174.3,2,  1.8036,    174.9,2,    85.46,2,    33.31,2,     0.01,2,     2.35,2, -999.000,9, -999.000,9, -999.000,5,-999.0000,5,  -999.00,9,   -999.0,9,  -999.00,9,-999.000,9,   -999.0,9,   -999.0,9,  -999.0, -999.00,-999.0000,-999.000,-999.000
     316N145_5,  I08S,    76,  1,     27, SIH008,2,19941226,1302,-61.4888,  82.0028, 2200, 2579.2,    254.1,   1.8710,  34.6736,2,  34.6787,2,    175.3,2,  1.8575,    175.5,2,    86.12,2,    32.79,2,     0.01,2,     2.32,2, -999.000,9, -999.000,9, -999.000,5,-999.0000,5,  -999.00,9,   -999.0,9,  -999.00,9,-999.000,9,   -999.0,9,   -999.0,9,  -999.0, -999.00,-999.0000,-999.000,-999.000
     316N145_5,  I08S,    76,  1,     26, SIH005,2,19941226,1302,-61.4888,  82.0028, 2200, 3078.8,    304.3,   1.8878,  34.6910,2,  34.6944,2,    171.4,2,  1.8715,    175.2,2,    87.12,2,    32.64,2,     0.01,2,     2.31,2, -999.000,9, -999.000,9, -999.000,5,-999.0000,5,  -999.00,9,   -999.0,9,  -999.00,9,-999.000,9,   -999.0,9,   -999.0,9,  -999.0, -999.00,-999.0000,-999.000,-999.000
     316N145_5,  I08S,    76,  1,     25, SIH019,2,19941226,1302,-61.4888,  82.0028, 2200, 3574.7,    354.2,   1.8878,  34.7034,2,  34.7060,2,    176.8,2,  1.8687,    177.1,2,    87.78,2,    32.36,2,     0.00,2,     2.29,2, -999.000,9, -999.000,9, -999.000,5,-999.0000,5,  -999.00,9,   -999.0,9,  -999.00,9,-999.000,9,   -999.0,9,   -999.0,9,  -999.0, -999.00,-999.0000,-999.000,-999.000
     316N145_5,  I08S,    76,  1,     36, SIH035,2,19941226,1302,-61.4888,  82.0028, 2200, 4085.2,    405.5,   1.8894,  34.7162,2,  34.7193,2,    176.9,2,  1.8673,    180.9,2,    86.42,2,    31.41,2,     0.00,2,     2.24,2, -999.000,9, -999.000,9, -999.000,5,-999.0000,5,  -999.00,9,   -999.0,9,  -999.00,9,-999.000,9,   -999.0,9,   -999.0,9,  -999.0, -999.00,-999.0000,-999.000,-999.000
     316N145_5,  I08S,    76,  1,     35, SIH032,2,19941226,1302,-61.4888,  82.0028, 2200, 4590.2,    456.3,   1.8575,  34.7230,2,  34.7258,2,    177.8,2,  1.8325,    183.0,2,    87.25,2,    31.19,2,     0.00,2,     2.23,2, -999.000,9, -999.000,9, -999.000,5,-999.0000,5,  -999.00,9,   -999.0,9,  -999.00,9,-999.000,9,   -999.0,9,   -999.0,9,  -999.0, -999.00,-999.0000,-999.000,-999.000
     316N145_5,  I08S,    76,  1,     24, SIH037,2,19941226,1302,-61.4888,  82.0028, 2200, 5082.9,    505.9,   1.8377,  34.7284,2,  34.7323,2,    182.8,2,  1.8098,    185.0,2,    88.11,2,    31.44,2,     0.00,2,     2.20,2, -999.000,9, -999.000,9, -999.000,5,-999.0000,5,  -999.00,9,   -999.0,9,  -999.00,9,-999.000,9,   -999.0,9,   -999.0,9,  -999.0, -999.00,-999.0000,-999.000,-999.000
     316N145_5,  I08S,    76,  1,     23, SIH033,2,19941226,1302,-61.4888,  82.0028, 2200, 6066.1,    604.8,   1.7794,  34.7377,2,  34.7451,2,    185.4,2,  1.7459,    189.4,2,    88.61,2,    30.99,2,     0.00,2,     2.17,2, -999.000,9, -999.000,9, -999.000,5,-999.0000,5,  -999.00,9,   -999.0,9,  -999.00,9,-999.000,9,   -999.0,9,   -999.0,9,  -999.0, -999.00,-999.0000,-999.000,-999.000
     316N145_5,  I08S,    76,  1,     22, SIH031,2,19941226,1302,-61.4888,  82.0028, 2200, 7085.4,    707.3,   1.7190,  34.7426,2,  34.7427,2,    188.7,2,  1.6796,    194.1,2,    89.61,2,    30.65,2,     0.00,2,     2.15,2, -999.000,9, -999.000,9, -999.000,5,-999.0000,5,  -999.00,9,   -999.0,9,  -999.00,9,-999.000,9,   -999.0,9,   -999.0,9,  -999.0, -999.00,-999.0000,-999.000,-999.000
     316N145_5,  I08S,    76,  1,     21, SIH030,2,19941226,1302,-61.4888,  82.0028, 2200, 8094.0,    808.8,   1.6457,  34.7458,2,  34.7478,2,    192.3,2,  1.6004,    195.7,2,    91.60,2,    30.61,2,     0.00,2,     2.14,2, -999.000,9, -999.000,9, -999.000,5,-999.0000,5,  -999.00,9,   -999.0,9,  -999.00,9,-999.000,9,   -999.0,9,   -999.0,9,  -999.0, -999.00,-999.0000,-999.000,-999.000
     316N145_5,  I08S,    76,  1,     20, SIH028,2,19941226,1302,-61.4888,  82.0028, 2200, 9086.4,    908.6,   1.5527,  34.7451,2,  34.7490,2,    195.4,2,  1.5017,    198.7,2,    93.43,2,    30.50,2,     0.00,2,     2.14,2, -999.000,9, -999.000,9, -999.000,5,-999.0000,5,  -999.00,9,   -999.0,9,  -999.00,9,-999.000,9,   -999.0,9,   -999.0,9,  -999.0, -999.00,-999.0000,-999.000,-999.000
     316N145_5,  I08S,    76,  1,     19, SIH027,2,19941226,1302,-61.4888,  82.0028, 2200,10061.5,   1006.7,   1.4593,  34.7434,2,  34.7471,2,    198.0,2,  1.4027,    199.9,2,    96.24,2,    30.63,2,     0.00,2,     2.14,2, -999.000,9, -999.000,9, -999.000,5,-999.0000,5,  -999.00,9,   -999.0,9,  -999.00,9,-999.000,9,   -999.0,9,   -999.0,9,  -999.0, -999.00,-999.0000,-999.000,-999.000
     316N145_5,  I08S,    76,  1,     18, SIH003,2,19941226,1302,-61.4888,  82.0028, 2200,11070.4,   1108.1,   1.3726,  34.7404,2,  34.7443,2,    196.8,2,  1.3101,    200.5,2,    99.07,2,    30.64,2,     0.00,2,     2.15,2, -999.000,9, -999.000,9, -999.000,5,-999.0000,5,  -999.00,9,   -999.0,9,  -999.00,9,-999.000,9,   -999.0,9,   -999.0,9,  -999.0, -999.00,-999.0000,-999.000,-999.000
     316N145_5,  I08S,    76,  1,     17, SIH024,2,19941226,1302,-61.4888,  82.0028, 2200,12090.1,   1210.7,   1.2798,  34.7365,2,  34.7388,2,    197.4,2,  1.2115,    201.6,2,   101.72,2,    30.83,2,     0.00,2,     2.16,2, -999.000,9, -999.000,9, -999.000,5,-999.0000,5,  -999.00,9,   -999.0,9,  -999.00,9,-999.000,9,   -999.0,9,   -999.0,9,  -999.0, -999.00,-999.0000,-999.000,-999.000
     316N145_5,  I08S,    76,  1,     16, SIH022,2,19941226,1302,-61.4888,  82.0028, 2200,13109.1,   1313.2,   1.1876,  34.7319,2,  34.7357,2,    199.5,2,  1.1134,    203.0,2,   104.04,2,    30.84,2,     0.00,2,     2.17,2, -999.000,9, -999.000,9, -999.000,5,-999.0000,5,  -999.00,9,   -999.0,9,  -999.00,9,-999.000,9,   -999.0,9,   -999.0,9,  -999.0, -999.00,-999.0000,-999.000,-999.000
     316N145_5,  I08S,    76,  1,     15, SIH021,2,19941226,1302,-61.4888,  82.0028, 2200,14095.2,   1412.4,   1.0764,  34.7255,2,  34.7300,2,    200.7,2,  0.9966,    203.7,2,   108.52,2,    31.14,2,     0.00,2,     2.19,2, -999.000,9, -999.000,9, -999.000,5,-999.0000,5,  -999.00,9,   -999.0,9,  -999.00,9,-999.000,9,   -999.0,9,   -999.0,9,  -999.0, -999.00,-999.0000,-999.000,-999.000
     316N145_5,  I08S,    76,  1,     14, SIH002,2,19941226,1302,-61.4888,  82.0028, 2200,15105.4,   1514.0,   0.9880,  34.7205,2,  34.7229,2,    199.4,2,  0.9022,    203.4,2,   112.87,2,    31.55,2,     0.00,2,     2.21,2, -999.000,9, -999.000,9, -999.000,5,-999.0000,5,  -999.00,9,   -999.0,9,  -999.00,9,-999.000,9,   -999.0,9,   -999.0,9,  -999.0, -999.00,-999.0000,-999.000,-999.000
     316N145_5,  I08S,    76,  1,     13, SIH018,2,19941226,1302,-61.4888,  82.0028, 2200,15109.0,   1514.4,   0.9880,  34.7206,2,  34.7239,2,    199.6,2,  0.9022,    203.4,2,   112.79,2,    31.44,2,     0.00,2,     2.21,2, -999.000,9, -999.000,9, -999.000,5,-999.0000,5,  -999.00,9,   -999.0,9,  -999.00,9,-999.000,9,   -999.0,9,   -999.0,9,  -999.0, -999.00,-999.0000,-999.000,-999.000
     316N145_5,  I08S,    76,  1,     11, SIH015,2,19941226,1302,-61.4888,  82.0028, 2200,16105.7,   1614.6,   0.9125,  34.7168,2,  34.7195,2,    202.2,2,  0.8207,    204.8,2,   115.49,2,    31.40,2,     0.00,2,     2.22,2, -999.000,9, -999.000,9, -999.000,5,-999.0000,5,  -999.00,9,   -999.0,9,  -999.00,9,-999.000,9,   -999.0,9,   -999.0,9,  -999.0, -999.00,-999.0000,-999.000,-999.000
     316N145_5,  I08S,    76,  1,     12, SIH016,2,19941226,1302,-61.4888,  82.0028, 2200,16108.8,   1615.0,   0.9123,  34.7168,2,  34.7190,2,    202.3,2,  0.8204,    204.4,2,   115.31,2,    31.51,2,     0.00,2,     2.22,2, -999.000,9, -999.000,9, -999.000,5,-999.0000,5,  -999.00,9,   -999.0,9,  -999.00,9,-999.000,9,   -999.0,9,   -999.0,9,  -999.0, -999.00,-999.0000,-999.000,-999.000
     316N145_5,  I08S,    76,  1,     10, SIH013,2,19941226,1302,-61.4888,  82.0028, 2200,17119.6,   1716.3,   0.8348,  34.7128,2,  34.7150,2,    204.2,2,  0.7368,    206.1,2,   116.65,2,    31.65,2,     0.00,2,     2.23,2, -999.000,9, -999.000,9, -999.000,5,-999.0000,5,  -999.00,9,   -999.0,9,  -999.00,9,-999.000,9,   -999.0,9,   -999.0,9,  -999.0, -999.00,-999.0000,-999.000,-999.000
     316N145_5,  I08S,    76,  1,      9, SIH012,2,19941226,1302,-61.4888,  82.0028, 2200,17124.8,   1717.2,   0.8345,  34.7130,2,  34.7156,2,    203.4,2,  0.7365,    205.8,2,   116.32,2,    31.54,2,     0.00,2,     2.23,2, -999.000,9, -999.000,9, -999.000,5,-999.0000,5,  -999.00,9,   -999.0,9,  -999.00,9,-999.000,9,   -999.0,9,   -999.0,9,  -999.0, -999.00,-999.0000,-999.000,-999.000
     316N145_5,  I08S,    76,  1,      8, SIH010,2,19941226,1302,-61.4888,  82.0028, 2200,18129.8,   1818.2,   0.7670,  34.7086,2,  34.7119,2,    201.9,2,  0.6626,    205.9,2,   119.63,2,    31.55,2,     0.00,2,     2.24,2, -999.000,9, -999.000,9, -999.000,5,-999.0000,5,  -999.00,9,   -999.0,9,  -999.00,9,-999.000,9,   -999.0,9,   -999.0,9,  -999.0, -999.00,-999.0000,-999.000,-999.000
     316N145_5,  I08S,    76,  1,      7, SIH009,2,19941226,1302,-61.4888,  82.0028, 2200,18130.8,   1818.3,   0.7664,  34.7089,2,  34.7103,2,    202.2,2,  0.6621,    206.7,2,   119.64,2,    31.50,2,     0.00,2,     2.24,2, -999.000,9, -999.000,9, -999.000,5,-999.0000,5,  -999.00,9,   -999.0,9,  -999.00,9,-999.000,9,   -999.0,9,   -999.0,9,  -999.0, -999.00,-999.0000,-999.000,-999.000
     316N145_5,  I08S,    76,  1,      5, SIH006,2,19941226,1302,-61.4888,  82.0028, 2200,19145.2,   1920.4,   0.6639,  34.7029,2,  34.7050,2,    206.7,2,  0.5536,    207.9,2,   122.46,2,    31.86,2,     0.00,2,     2.25,2, -999.000,9, -999.000,9, -999.000,5,-999.0000,5,  -999.00,9,   -999.0,9,  -999.00,9,-999.000,9,   -999.0,9,   -999.0,9,  -999.0, -999.00,-999.0000,-999.000,-999.000
     316N145_5,  I08S,    76,  1,      6, SIH038,2,19941226,1302,-61.4888,  82.0028, 2200,19152.6,   1921.1,   0.6639,  34.7031,2,  34.7052,2,    206.7,2,  0.5536,    207.6,2,   122.63,2,    31.79,2,     0.00,2,     2.25,2, -999.000,9, -999.000,9, -999.000,5,-999.0000,5,  -999.00,9,   -999.0,9,  -999.00,9,-999.000,9,   -999.0,9,   -999.0,9,  -999.0, -999.00,-999.0000,-999.000,-999.000
     316N145_5,  I08S,    76,  1,      4, SIH004,2,19941226,1302,-61.4888,  82.0028, 2200,20163.0,   2022.8,   0.5591,  34.6973,2,  34.6999,2,    208.5,2,  0.4429,    208.8,2,   127.27,2,    32.04,2,     0.00,2,     2.26,2, -999.000,9, -999.000,9, -999.000,5,-999.0000,5,  -999.00,9,   -999.0,9,  -999.00,9,-999.000,9,   -999.0,9,   -999.0,9,  -999.0, -999.00,-999.0000,-999.000,-999.000
     316N145_5,  I08S,    76,  1,      2, SIH001,2,19941226,1302,-61.4888,  82.0028, 2200,21185.7,   2125.6,   0.4534,  34.6919,2,  34.6899,2,    210.6,2,  0.3312,    210.0,2,   131.76,2,    32.28,2,     0.00,2,     2.28,2, -999.000,9, -999.000,9, -999.000,5,-999.0000,5,  -999.00,9,   -999.0,9,  -999.00,9,-999.000,9,   -999.0,9,   -999.0,9,  -999.0, -999.00,-999.0000,-999.000,-999.000
     316N145_5,  I08S,    76,  1,      3, SIH025,2,19941226,1302,-61.4888,  82.0028, 2200,21186.2,   2125.7,   0.4537,  34.6915,2,  34.6934,2,    211.4,2,  0.3315,    210.3,2,   131.75,2,    32.33,2,     0.00,2,     2.28,2, -999.000,9, -999.000,9, -999.000,5,-999.0000,5,  -999.00,9,   -999.0,9,  -999.00,9,-999.000,9,   -999.0,9,   -999.0,9,  -999.0, -999.00,-999.0000,-999.000,-999.000
     316N145_5,  I08S,    76,  1,      1, SIH036,2,19941226,1302,-61.4888,  82.0028, 2200,21667.7,   2174.1,   0.4104,  34.6894,2,  34.6920,2,    208.0,2,  0.2853,    210.8,2,   135.13,2,    32.15,2,     0.02,2,     2.29,2, -999.000,9, -999.000,9, -999.000,5,-999.0000,5,  -999.00,9,   -999.0,9,  -999.00,9,-999.000,9,   -999.0,9,   -999.0,9,  -999.0, -999.00,-999.0000,-999.000,-999.000