BOTTLE,20090521WHPSIOdm
EXPOCODE,SECT_ID,STNNBR,CASTNO,SAMPNO,BTLNBR,BTLNBR_FLAG_W,DATE,TIME,LATITUDE,LONGITUDE,DEPTH,CTDRAW,CTDPRS,CTDTMP,CTDSAL,CTDSAL_FLAG_W,SALNTY,SALNTY_FLAG_W,CTDOXY,CTDOXY_FLAG_W,THETA,OXYGEN,OXYGEN_FLAG_W,SILCAT,SILCAT_FLAG_W,NITRAT,NITRAT_FLAG_W,NITRIT,NITRIT_FLAG_W,PHSPHT,PHSPHT_FLAG_W,CFC-11,CFC-11_FLAG_W,CFC-12,CFC-12_FLAG_W,TRITUM,TRITUM_FLAG_W,HELIUM,HELIUM_FLAG_W,DELHE3,DELHE3_FLAG_W,DELC14,DELC14_FLAG_W,DELC13,DELC13_FLAG_W,NEON,NEON_FLAG_W,TCARBN,TCARBN_FLAG_W,ALKALI,ALKALI_FLAG_W,C14ERR,DELHER,HELIER,NEONER,TRITER
,,,,,,,,,,,,,DBAR,IPTS-68,PSS-78,,PSS-78,,UMOL/KG,,IPTS-68,UMOL/KG,,UMOL/KG,,UMOL/KG,,UMOL/KG,,UMOL/KG,,PMOL/KG,,PMOL/KG,,TU,,NMOL/KG,,PERCNT,,/MILLE,,/MILLE,,NMOL/KG,,UMOL/KG,,UMOL/KG,,/MILLE,PERCNT,NMOL/KG,NMOL/KG,TU
     316N145_5,  I09S,   107,  1,     36, SIH035,2,19950108,0520,-53.8055, 114.9833, 4020,  166.2,     11.5,   4.0102,  33.8838,2,  33.8866,2,    326.7,2,  4.0094,    322.3,2,     1.47,2,    22.67,2,     0.25,2,     1.54,2,    5.561,2,    2.730,2,    0.000,5,   1.7890,2,    -1.83,2,   -999.0,9,  -999.00,9,   7.865,2,   -999.0,9,   -999.0,9,  -999.0,   90.14,  0.0040,   0.023,   0.000
     316N145_5,  I09S,   107,  1,     35, SIH032,2,19950108,0520,-53.8055, 114.9833, 4020,  360.9,     31.0,   3.9408,  33.8830,2,  33.8868,2,    320.7,2,  3.9387,    321.9,2,     1.47,2,    22.87,2,     0.24,2,     1.55,2,    5.581,6,    2.746,6, -999.000,5,-999.0000,5,  -999.00,9,   -999.0,9,  -999.00,9,-999.000,9,   -999.0,9,   -999.0,9,  -999.0, -999.00,-999.0000,-999.000,-999.000
     316N145_5,  I09S,   107,  1,     34, SIH029,2,19950108,0520,-53.8055, 114.9833, 4020,  610.5,     56.1,   3.9108,  33.8829,2,  33.8864,2,    330.5,2,  3.9071,    321.8,2,     1.47,2,    22.92,2,     0.24,2,     1.55,2,    5.533,2,    2.721,2,    0.000,5,   1.7960,2,    -1.86,2,   -999.0,9,  -999.00,9,   7.864,2,   -999.0,9,   -999.0,9,  -999.0,   40.13,  0.0040,   0.022,   0.000
     316N145_5,  I09S,   107,  1,     33, SIH026,2,19950108,0520,-53.8055, 114.9833, 4020,  860.5,     81.3,   3.8265,  33.8818,2,  33.8852,2,    326.7,2,  3.8211,    321.6,2,     1.47,2,    22.97,2,     0.24,2,     1.56,2,    5.590,2,    2.740,2, -999.000,5,-999.0000,5,  -999.00,9,   -999.0,9,  -999.00,9,-999.000,9,   -999.0,9,   -999.0,9,  -999.0, -999.00,-999.0000,-999.000,-999.000
     316N145_5,  I09S,   107,  1,     32, SIH023,2,19950108,0520,-53.8055, 114.9833, 4020, 1099.1,    105.3,   2.3490,  33.9077,2,  33.9021,2,    325.1,2,  2.3433,    323.9,2,    13.77,2,    24.85,2,     0.25,2,     1.80,2,    5.984,2,    2.930,2,    0.000,5,   1.7870,2,    -1.77,2,   -999.0,9,  -999.00,9,   7.912,2,   -999.0,9,   -999.0,9,  -999.0,   10.15,  0.0020,   0.042,   0.000
     316N145_5,  I09S,   107,  1,     31, SIH020,2,19950108,0520,-53.8055, 114.9833, 4020, 1609.7,    156.7,   1.3380,  33.9357,2,  33.9387,2,    320.0,2,  1.3307,    322.6,2,    22.56,2,    27.34,2,     0.34,2,     1.88,2,    5.954,2,    2.916,2, -999.000,5,-999.0000,5,  -999.00,9,   -999.0,9,  -999.00,9,-999.000,9,   -999.0,9,   -999.0,9,  -999.0, -999.00,-999.0000,-999.000,-999.000
     316N145_5,  I09S,   107,  1,     30, SIH017,2,19950108,0520,-53.8055, 114.9833, 4020, 2110.1,    207.0,   1.4585,  34.0818,2,  34.0848,2,    282.7,2,  1.4485,    280.1,2,    34.06,2,    30.42,2,     0.01,2,     2.05,2,    4.503,2,    2.167,2,    0.000,5,   1.8040,2,     0.21,2,   -999.0,9,  -999.00,9,   7.992,2,   -999.0,9,   -999.0,9,  -999.0,    0.13,  0.0040,   0.023,   0.000
     316N145_5,  I09S,   107,  1,     29, SIH014,2,19950108,0520,-53.8055, 114.9833, 4020, 2616.4,    257.9,   2.0966,  34.2461,2,  34.2446,2,    222.6,2,  2.0827,    231.1,2,    45.40,2,    32.70,2,     0.01,2,     2.21,2,    2.780,2,    1.305,2, -999.000,5,-999.0000,5,  -999.00,9,   -999.0,9,  -999.00,9,-999.000,9,   -999.0,9,   -999.0,9,  -999.0, -999.00,-999.0000,-999.000,-999.000
     316N145_5,  I09S,   107,  1,     28, SIH011,2,19950108,0520,-53.8055, 114.9833, 4020, 3100.6,    306.6,   2.0418,  34.3046,2,  34.3095,2,    215.0,2,  2.0252,    216.1,2,    52.42,2,    33.51,2,     0.01,2,     2.27,2,    2.251,2,    1.046,2,    0.000,5,   1.8220,2,     3.76,2,   -999.0,9,  -999.00,9,   7.987,2,   -999.0,9,   -999.0,9,  -999.0,    0.14,  0.0020,   0.029,   0.000
     316N145_5,  I09S,   107,  1,     27, SIH008,2,19950108,0520,-53.8055, 114.9833, 4020, 3608.1,    357.7,   2.2545,  34.3865,2,  34.3915,2,    194.3,2,  2.2342,    197.6,2,    58.49,2,    33.84,2,     0.01,2,     2.30,2,    1.470,2,    0.668,2, -999.000,5,-999.0000,5,  -999.00,9,   -999.0,9,  -999.00,9,-999.000,9,   -999.0,9,   -999.0,9,  -999.0, -999.00,-999.0000,-999.000,-999.000
     316N145_5,  I09S,   107,  1,     26, SIH005,2,19950108,0520,-53.8055, 114.9833, 4020, 4103.9,    407.5,   2.2109,  34.4305,2,  34.4339,2,    189.3,2,  2.1878,    191.2,2,    62.96,2,    34.18,2,     0.00,2,     2.31,2,    1.229,2,    0.587,2, -999.000,5,-999.0000,5,  -999.00,9,   -999.0,9,  -999.00,9,-999.000,9,   -999.0,9,   -999.0,9,  -999.0, -999.00,-999.0000,-999.000,-999.000
     316N145_5,  I09S,   107,  1,     25, SIH019,2,19950108,0520,-53.8055, 114.9833, 4020, 4606.4,    458.1,   2.1825,  34.4606,2,  34.4650,2,    180.2,2,  2.1564,    186.6,2,    65.83,2,    34.26,2,     0.01,2,     2.31,2,    1.066,2,    0.493,2,    0.000,5,   1.5240,4,     7.69,2,   -999.0,9,  -999.00,9,   5.879,4,   -999.0,9,   -999.0,9,  -999.0,    0.13,  0.0030,   0.017,   0.000
     316N145_5,  I09S,   107,  1,     24, SIH037,2,19950108,0520,-53.8055, 114.9833, 4020, 5111.5,    508.9,   2.2502,  34.5036,2,  34.5060,2,    174.9,2,  2.2207,    180.8,2,    68.70,2,    34.22,2,     0.00,2,     2.31,2,    0.805,2,    0.375,2, -999.000,5,-999.0000,5,  -999.00,9,   -999.0,9,  -999.00,9,-999.000,9,   -999.0,9,   -999.0,9,  -999.0, -999.00,-999.0000,-999.000,-999.000
     316N145_5,  I09S,   107,  1,     23, SIH033,2,19950108,0520,-53.8055, 114.9833, 4020, 6112.9,    609.6,   2.2024,  34.5719,2,  34.5736,2,    172.3,2,  2.1667,    176.9,2,    73.33,2,    33.74,2,     0.00,2,     2.28,2,    0.572,2,    0.259,2,    0.000,5,   1.8400,2,     7.92,2,   -999.0,9,  -999.00,9,   7.997,2,   -999.0,9,   -999.0,9,  -999.0,    0.14,  0.0020,   0.042,   0.000
     316N145_5,  I09S,   107,  1,     22, SIH031,2,19950108,0520,-53.8055, 114.9833, 4020, 7114.6,    710.4,   2.2822,  34.6265,2,  34.6337,2,    170.6,2,  2.2395,    176.8,2,    75.08,2,    32.84,2,     0.00,2,     2.21,2,    0.302,2,    0.139,2, -999.000,5,-999.0000,5,  -999.00,9,   -999.0,9,  -999.00,9,-999.000,9,   -999.0,9,   -999.0,9,  -999.0, -999.00,-999.0000,-999.000,-999.000
     316N145_5,  I09S,   107,  1,     21, SIH030,2,19950108,0520,-53.8055, 114.9833, 4020, 8116.5,    811.1,   2.2765,  34.6674,2,  34.6769,2,    177.0,2,  2.2270,    179.7,2,    76.36,2,    32.03,2,     0.00,2,     2.16,2,    0.185,3,    0.074,2,    0.000,5,   1.8460,2,     8.69,2,   -999.0,9,  -999.00,9,   7.987,2,   -999.0,9,   -999.0,9,  -999.0,    0.13,  0.0040,   0.023,   0.000
     316N145_5,  I09S,   107,  1,     20, SIH028,2,19950108,0520,-53.8055, 114.9833, 4020, 9114.7,    911.5,   2.2300,  34.6894,2,  34.6987,2,    179.8,2,  2.1739,    182.9,2,    77.47,2,    31.45,2,     0.00,2,     2.12,2,    0.149,2,    0.065,2, -999.000,5,-999.0000,5,  -999.00,9,   -999.0,9,  -999.00,9,-999.000,9,   -999.0,9,   -999.0,9,  -999.0, -999.00,-999.0000,-999.000,-999.000
     316N145_5,  I09S,   107,  1,     19, SIH027,2,19950108,0520,-53.8055, 114.9833, 4020,10114.9,   1012.2,   2.1217,  34.7007,2,  34.7097,2,    181.5,2,  2.0595,    184.6,2,    79.71,2,    31.36,2,     0.00,2,     2.11,2,    0.186,2,    0.086,2,    0.000,5,   1.8490,2,     8.71,2,   -999.0,9,  -999.00,9,   8.003,2,   -999.0,9,   -999.0,9,  -999.0,    0.13,  0.0040,   0.023,   0.000
     316N145_5,  I09S,   107,  1,     18, SIH003,2,19950108,0520,-53.8055, 114.9833, 4020,11111.0,   1112.3,   2.0697,  34.7137,2,  34.7256,2,    185.5,2,  2.0009,    188.0,2,    81.14,2,    30.89,2,     0.00,2,     2.07,2,    0.140,2,    0.061,2, -999.000,5,-999.0000,5,  -999.00,9,   -999.0,9,  -999.00,9,-999.000,9,   -999.0,9,   -999.0,9,  -999.0, -999.00,-999.0000,-999.000,-999.000
     316N145_5,  I09S,   107,  1,     17, SIH024,2,19950108,0520,-53.8055, 114.9833, 4020,12111.5,   1213.0,   1.9905,  34.7244,2,  34.7357,2,    188.0,2,  1.9152,    191.1,2,    83.21,2,    30.55,2,     0.00,2,     2.07,2,    0.126,2,    0.051,2,    0.000,5,   1.8510,2,     8.93,2,   -999.0,9,  -999.00,9,   8.024,2,   -999.0,9,   -999.0,9,  -999.0,    0.14,  0.0040,   0.052,   0.000
     316N145_5,  I09S,   107,  1,     16, SIH022,2,19950108,0520,-53.8055, 114.9833, 4020,13128.9,   1315.3,   1.9081,  34.7334,2,  34.7414,2,    190.2,2,  1.8262,    193.4,2,    85.13,2,    30.46,2,     0.00,2,     2.05,2,    0.117,2,    0.050,2, -999.000,5,-999.0000,5,  -999.00,9,   -999.0,9,  -999.00,9,-999.000,9,   -999.0,9,   -999.0,9,  -999.0, -999.00,-999.0000,-999.000,-999.000
     316N145_5,  I09S,   107,  1,     15, SIH021,2,19950108,0520,-53.8055, 114.9833, 4020,15106.5,   1514.2,   1.7385,  34.7389,2,  34.7473,2,    193.9,2,  1.6438,    197.4,2,    89.85,2,    30.22,2,     0.00,2,     2.04,2,    0.087,2,    0.035,2,    0.000,5,   1.8660,2,     9.19,2,   -999.0,9,  -999.00,9,   8.060,2,   -999.0,9,   -999.0,9,  -999.0,    0.13,  0.0040,   0.023,   0.000
     316N145_5,  I09S,   107,  1,     14, SIH002,2,19950108,0520,-53.8055, 114.9833, 4020,17180.6,   1722.9,   1.5605,  34.7355,2,  34.7449,2,    194.4,2,  1.4522,    199.5,2,    95.12,2,    30.23,2,     0.00,2,     2.05,2,    0.086,2,    0.034,2,    0.000,5,   1.9020,3,     8.77,2,   -999.0,9,  -999.00,9,   8.178,3,   -999.0,9,   -999.0,9,  -999.0,    0.14,  0.0060,   0.034,   0.000
     316N145_5,  I09S,   107,  1,     13, SIH018,2,19950108,0520,-53.8055, 114.9833, 4020,19198.8,   1925.9,   1.3756,  34.7285,2,  34.7368,2,    197.9,2,  1.2542,    201.7,2,   100.79,2,    30.47,2,     0.00,2,     2.07,2,    0.084,2,    0.044,2,    0.000,5,   1.8680,2,     8.69,2,   -999.0,9,  -999.00,9,   8.083,2,   -999.0,9,   -999.0,9,  -999.0,    0.13,  0.0040,   0.024,   0.000
     316N145_5,  I09S,   107,  1,     12, SIH016,2,19950108,0520,-53.8055, 114.9833, 4020,21220.0,   2129.2,   1.1997,  34.7214,2,  34.7290,2,    198.9,2,  1.0649,    203.4,2,   106.13,2,    30.85,2,     0.00,2,     2.10,2,    0.076,2,    0.036,2,    0.000,5,   1.8320,3,     8.55,2,   -999.0,9,  -999.00,9,   7.925,3,   -999.0,9,   -999.0,9,  -999.0,    0.14,  0.0020,   0.036,   0.000
     316N145_5,  I09S,   107,  1,     11, SIH015,2,19950108,0520,-53.8055, 114.9833, 4020,23292.3,   2337.6,   1.0209,  34.7116,2,  34.7207,2,    199.6,2,  0.8722,    206.1,2,   110.92,2,    31.18,2,     0.00,2,     2.12,2,    0.087,2,    0.055,2,    0.000,5,-999.0000,5,    10.18,3,   -999.0,9,  -999.00,9,-999.000,5,   -999.0,9,   -999.0,9,  -999.0,    0.96,-999.0000,-999.000,   0.000
     316N145_5,  I09S,   107,  1,     10, SIH013,2,19950108,0520,-53.8055, 114.9833, 4020,25315.2,   2541.1,   0.8459,  34.7037,2,  34.7111,2,    203.1,2,  0.6836,    208.3,2,   116.19,2,    31.46,2,     0.00,2,     2.14,2,    0.100,2,    0.042,2,    0.000,5,   1.8900,2,     8.23,2,   -999.0,9,  -999.00,9,   8.172,2,   -999.0,9,   -999.0,9,  -999.0,    0.14,  0.0040,   0.047,   0.000
     316N145_5,  I09S,   107,  1,      9, SIH012,2,19950108,0520,-53.8055, 114.9833, 4020,27330.6,   2743.8,   0.6272,  34.6915,2,  34.7020,2,    206.5,2,  0.4521,    211.7,2,   121.70,2,    31.71,2,     0.00,2,     2.16,2,    0.146,2,    0.065,2,    0.000,5,   1.8720,2,     7.97,2,   -999.0,9,  -999.00,9,   8.165,2,   -999.0,9,   -999.0,9,  -999.0,    0.12,  0.0040,   0.034,   0.000
     316N145_5,  I09S,   107,  1,      8, SIH010,2,19950108,0520,-53.8055, 114.9833, 4020,29407.4,   2952.7,   0.4824,  34.6835,2,  34.6954,2,    210.5,2,  0.2922,    214.8,2,   124.97,2,    31.93,2,     0.00,2,     2.17,2,    0.193,2,    0.082,2,    0.000,5,   1.9280,3,     7.64,2,   -999.0,9,  -999.00,9,   8.322,3,   -999.0,9,   -999.0,9,  -999.0,    0.17,  0.0080,   0.032,   0.000
     316N145_5,  I09S,   107,  1,      7, SIH009,2,19950108,0520,-53.8055, 114.9833, 4020,31387.9,   3151.9,   0.3677,  34.6792,2,  34.6910,2,    213.1,2,  0.1625,    217.9,2,   128.69,2,    32.02,2,     0.00,2,     2.18,2,    0.257,2,    0.127,2, -999.000,5,-999.0000,5,  -999.00,9,   -999.0,9,  -999.00,9,-999.000,9,   -999.0,9,   -999.0,9,  -999.0, -999.00,-999.0000,-999.000,-999.000
     316N145_5,  I09S,   107,  1,      6, SIH038,2,19950108,0520,-53.8055, 114.9833, 4020,33408.8,   3355.2,   0.2838,  34.6762,2,  34.6881,2,    215.5,2,  0.0620,    220.4,2,   131.39,2,    32.07,2,     0.00,2,     2.19,2,    0.309,2,    0.146,2,    0.000,5,   1.8730,2,     7.27,2,   -999.0,9,  -999.00,9,   8.173,2,   -999.0,9,   -999.0,9,  -999.0,    0.12,  0.0040,   0.034,   0.000
     316N145_5,  I09S,   107,  1,      5, SIH006,2,19950108,0520,-53.8055, 114.9833, 4020,35467.3,   3562.3,   0.2363,  34.6747,2,  34.6851,2,    218.2,2, -0.0036,    221.7,2,   132.68,2,    32.12,2,     0.00,2,     2.19,2,    0.345,2,    0.155,2,    0.000,5,   1.8930,2,     6.97,2,   -999.0,9,  -999.00,9,   8.325,2,   -999.0,9,   -999.0,9,  -999.0,    0.12,  0.0040,   0.035,   0.000
     316N145_5,  I09S,   107,  1,      4, SIH004,2,19950108,0520,-53.8055, 114.9833, 4020,37494.4,   3766.2,   0.2085,  34.6715,2,  34.6824,2,    219.9,2, -0.0503,    222.9,2,   134.11,2,    32.12,2,     0.00,2,     2.19,2,    0.377,2,    0.173,2,    0.000,5,   1.9070,2,     6.82,2,   -999.0,9,  -999.00,9,   8.307,2,   -999.0,9,   -999.0,9,  -999.0,    0.12,  0.0040,   0.035,   0.000
     316N145_5,  I09S,   107,  1,      3, SIH025,2,19950108,0520,-53.8055, 114.9833, 4020,39561.2,   3974.1,   0.2018,  34.6718,2,  34.6824,2,    221.7,2, -0.0775,    224.2,2,   135.06,2,    32.12,2,     0.00,2,     2.19,2,    0.408,2,    0.188,2,    0.000,5,   1.8920,2,     6.82,2,   -999.0,9,  -999.00,9,   8.237,2,   -999.0,9,   -999.0,9,  -999.0,    0.12,  0.0040,   0.035,   0.000
     316N145_5,  I09S,   107,  1,      2, SIH001,2,19950108,0520,-53.8055, 114.9833, 4020,40568.6,   4075.4,   0.2028,  34.6712,2,  34.6826,2,    221.3,2, -0.0868,    224.3,2,   135.54,2,    32.17,2,     0.00,2,     2.20,2,    0.413,2,    0.197,2,    0.000,5,   1.9050,2,     6.68,2,   -999.0,9,  -999.00,9,   8.341,2,   -999.0,9,   -999.0,9,  -999.0,    0.12,  0.0050,   0.035,   0.000
     316N145_5,  I09S,   107,  1,      1, SIH036,2,19950108,0520,-53.8055, 114.9833, 4020,41067.3,   4125.6,   0.2067,  34.6706,2,  34.6820,2,    222.6,2, -0.0882,    224.3,2,   135.58,2,    32.17,2,     0.00,2,     2.19,2,    0.415,2,    0.192,2,    0.000,5,   1.8580,3,     6.75,2,   -999.0,9,  -999.00,9,   8.206,3,   -999.0,9,   -999.0,9,  -999.0,    0.17,  0.0080,   0.032,   0.000