BOTTLE,20090521WHPSIOdm
EXPOCODE,SECT_ID,STNNBR,CASTNO,SAMPNO,BTLNBR,BTLNBR_FLAG_W,DATE,TIME,LATITUDE,LONGITUDE,DEPTH,CTDRAW,CTDPRS,CTDTMP,CTDSAL,CTDSAL_FLAG_W,SALNTY,SALNTY_FLAG_W,CTDOXY,CTDOXY_FLAG_W,THETA,OXYGEN,OXYGEN_FLAG_W,SILCAT,SILCAT_FLAG_W,NITRAT,NITRAT_FLAG_W,NITRIT,NITRIT_FLAG_W,PHSPHT,PHSPHT_FLAG_W,CFC-11,CFC-11_FLAG_W,CFC-12,CFC-12_FLAG_W,TRITUM,TRITUM_FLAG_W,HELIUM,HELIUM_FLAG_W,DELHE3,DELHE3_FLAG_W,DELC14,DELC14_FLAG_W,DELC13,DELC13_FLAG_W,NEON,NEON_FLAG_W,TCARBN,TCARBN_FLAG_W,ALKALI,ALKALI_FLAG_W,C14ERR,DELHER,HELIER,NEONER,TRITER
,,,,,,,,,,,,,DBAR,IPTS-68,PSS-78,,PSS-78,,UMOL/KG,,IPTS-68,UMOL/KG,,UMOL/KG,,UMOL/KG,,UMOL/KG,,UMOL/KG,,PMOL/KG,,PMOL/KG,,TU,,NMOL/KG,,PERCNT,,/MILLE,,/MILLE,,NMOL/KG,,UMOL/KG,,UMOL/KG,,/MILLE,PERCNT,NMOL/KG,NMOL/KG,TU
     316N145_5,  I09S,   126,  1,     36, SI9446,2,19950113,0542,-43.9917, 115.0000, 4310,  186.3,     13.2,  11.2409,  34.7305,2,  34.7327,2,    281.2,2, 11.2393,    277.1,2,     1.05,2,     8.62,2,     0.18,2,     0.70,2,    3.646,2,    1.887,2, -999.000,5,-999.0000,5,  -999.00,9,   -999.0,9,  -999.00,9,-999.000,9,   2073.5,6,   2297.7,2,  -999.0, -999.00,-999.0000,-999.000,-999.000
     316N145_5,  I09S,   126,  1,     35, SIH032,2,19950113,0542,-43.9917, 115.0000, 4310,  381.3,     32.9,  11.1306,  34.7288,2,  34.7282,2,    276.7,2, 11.1266,    277.1,2,     1.05,2,     8.69,2,     0.19,2,     0.71,2,    3.656,2,    1.910,2, -999.000,5,-999.0000,5,  -999.00,9,   -999.0,9,  -999.00,9,-999.000,9,   2075.4,2,   2301.0,2,  -999.0, -999.00,-999.0000,-999.000,-999.000
     316N145_5,  I09S,   126,  1,     34, SIH029,2,19950113,0542,-43.9917, 115.0000, 4310,  635.0,     58.4,  10.8623,  34.7362,2,  34.7364,2,    270.0,2, 10.8552,    251.9,4,     1.68,2,     9.19,2,     0.21,2,     0.76,2,    3.712,6,    1.902,6, -999.000,5,-999.0000,5,  -999.00,9,   -999.0,9,  -999.00,9,-999.000,9,   2081.7,2,   2296.8,2,  -999.0, -999.00,-999.0000,-999.000,-999.000
     316N145_5,  I09S,   126,  1,     33, SIH026,2,19950113,0542,-43.9917, 115.0000, 4310,  885.6,     83.6,  10.6936,  34.7435,2,  34.7439,2,    267.4,2, 10.6836,    273.1,2,     2.00,2,     9.42,2,     0.22,2,     0.79,2,    3.716,2,    1.920,2, -999.000,5,-999.0000,5,  -999.00,9,   -999.0,9,  -999.00,9,-999.000,9,   2083.1,2,   2312.1,6,  -999.0, -999.00,-999.0000,-999.000,-999.000
     316N145_5,  I09S,   126,  1,     32, SIH023,2,19950113,0542,-43.9917, 115.0000, 4310, 1121.9,    107.3,  10.5599,  34.7450,2,  34.7443,2,    278.7,2, 10.5471,    272.0,2,     2.48,2,     9.69,2,     0.23,2,     0.82,2,    3.723,2,    1.947,2, -999.000,5,-999.0000,5,  -999.00,9,   -999.0,9,  -999.00,9,-999.000,9,   2084.2,2,   2307.8,2,  -999.0, -999.00,-999.0000,-999.000,-999.000
     316N145_5,  I09S,   126,  1,     31, SIH020,2,19950113,0542,-43.9917, 115.0000, 4310, 1632.3,    158.6,   9.5795,  34.7175,2,  34.7180,2,    267.9,2,  9.5616,    266.6,2,     4.23,2,    13.12,2,     0.08,2,     0.99,2,    3.722,2,    1.910,2, -999.000,5,-999.0000,5,  -999.00,9,   -999.0,9,  -999.00,9,-999.000,9,   2101.2,2,   2293.7,2,  -999.0, -999.00,-999.0000,-999.000,-999.000
     316N145_5,  I09S,   126,  1,     30, SIH017,2,19950113,0542,-43.9917, 115.0000, 4310, 2124.8,    208.2,   9.4672,  34.7102,2,  34.7103,2,    263.9,2,  9.4440,    261.3,2,     4.23,2,    13.70,2,     0.01,2,     1.02,2,    3.599,2,    1.910,2, -999.000,5,-999.0000,5,  -999.00,9,   -999.0,9,  -999.00,9,-999.000,9,   2105.0,2,   2294.0,2,  -999.0, -999.00,-999.0000,-999.000,-999.000
     316N145_5,  I09S,   126,  1,     29, SIH014,2,19950113,0542,-43.9917, 115.0000, 4310, 2622.3,    258.2,   9.5056,  34.7269,2,  34.7270,2,    267.3,2,  9.4766,    264.6,2,     4.23,2,    13.38,2,     0.01,2,     1.00,2,    3.651,2,    1.890,2, -999.000,5,-999.0000,5,  -999.00,9,   -999.0,9,  -999.00,9,-999.000,9,   2102.3,2,   2290.7,2,  -999.0, -999.00,-999.0000,-999.000,-999.000
     316N145_5,  I09S,   126,  1,     28, SIH011,2,19950113,0542,-43.9917, 115.0000, 4310, 3116.4,    307.9,   9.2821,  34.6857,2,  34.6836,2,    264.5,2,  9.2479,    259.3,2,     4.39,2,    14.27,2,     0.01,2,     1.05,2,    3.549,2,    1.822,2, -999.000,5,-999.0000,5,  -999.00,9,   -999.0,9,  -999.00,9,-999.000,9,   2106.7,2,   2291.8,2,  -999.0, -999.00,-999.0000,-999.000,-999.000
     316N145_5,  I09S,   126,  1,     27, SIH008,2,19950113,0542,-43.9917, 115.0000, 4310, 3625.5,    359.1,   9.3512,  34.7059,2,  34.7060,2,    267.2,2,  9.3110,    266.0,2,     4.40,2,    13.66,2,     0.01,2,     1.02,2,    3.633,2,    1.877,2, -999.000,5,-999.0000,5,  -999.00,9,   -999.0,9,  -999.00,9,-999.000,9,   2103.3,2,   2303.4,2,  -999.0, -999.00,-999.0000,-999.000,-999.000
     316N145_5,  I09S,   126,  1,     26, SIH005,2,19950113,0542,-43.9917, 115.0000, 4310, 4124.6,    409.3,   9.2882,  34.6971,2,  34.6971,2,    270.2,2,  9.2425,    266.5,2,     4.55,2,    13.86,2,     0.01,2,     1.03,2,    3.620,2,    1.890,2, -999.000,5,-999.0000,5,  -999.00,9,   -999.0,9,  -999.00,9,-999.000,9,   2104.1,2,   2290.2,2,  -999.0, -999.00,-999.0000,-999.000,-999.000
     316N145_5,  I09S,   126,  1,     25, SIH019,2,19950113,0542,-43.9917, 115.0000, 4310, 4627.4,    459.8,   9.1501,  34.6748,2,  34.6736,2,    266.1,2,  9.0990,    264.8,2,     4.71,2,    14.38,2,     0.01,2,     1.07,2,    3.579,2,    1.838,2, -999.000,5,-999.0000,5,  -999.00,9,   -999.0,9,  -999.00,9,-999.000,9,   2105.9,2,   2290.1,2,  -999.0, -999.00,-999.0000,-999.000,-999.000
     316N145_5,  I09S,   126,  1,     24, SIH037,2,19950113,0542,-43.9917, 115.0000, 4310, 5123.3,    509.7,   8.9410,  34.6385,2,  34.6396,2,    265.0,2,  8.8851,    262.8,2,     5.19,2,    15.22,2,     0.01,2,     1.10,2,    3.517,2,    1.799,2, -999.000,5,-999.0000,5,  -999.00,9,   -999.0,9,  -999.00,9,-999.000,9,   2108.3,2,   2290.9,2,  -999.0, -999.00,-999.0000,-999.000,-999.000
     316N145_5,  I09S,   126,  1,     23, SIH033,2,19950113,0542,-43.9917, 115.0000, 4310, 6107.0,    608.6,   8.2536,  34.5386,2,  34.5400,2,    256.2,2,  8.1896,    254.7,2,     6.78,2,    17.75,2,     0.01,2,     1.26,2,    3.311,2,    1.680,2, -999.000,5,-999.0000,5,  -999.00,9,   -999.0,9,  -999.00,9,-999.000,9,   2118.9,2,   2290.0,2,  -999.0, -999.00,-999.0000,-999.000,-999.000
     316N145_5,  I09S,   126,  1,     22, SIH031,2,19950113,0542,-43.9917, 115.0000, 4310, 7123.5,    710.8,   7.4503,  34.4531,2,  34.4546,2,    238.2,2,  7.3794,    235.8,2,    10.27,2,    21.28,2,     0.00,2,     1.48,2,    2.709,2,    1.367,2, -999.000,5,-999.0000,5,  -999.00,9,   -999.0,9,  -999.00,9,-999.000,9,   2135.4,2,   2283.8,2,  -999.0, -999.00,-999.0000,-999.000,-999.000
     316N145_5,  I09S,   126,  1,     21, SIH030,2,19950113,0542,-43.9917, 115.0000, 4310, 8122.7,    811.3,   6.6396,  34.4200,2,  34.4202,2,    217.3,2,  6.5632,    216.8,2,    15.68,2,    24.70,2,     0.00,2,     1.68,2,    2.058,2,    1.032,2, -999.000,5,-999.0000,5,  -999.00,9,   -999.0,9,  -999.00,9,-999.000,9,   2154.0,2,   2302.4,2,  -999.0, -999.00,-999.0000,-999.000,-999.000
     316N145_5,  I09S,   126,  1,     20, SIH028,2,19950113,0542,-43.9917, 115.0000, 4310, 9113.5,    911.0,   5.6320,  34.3683,2,  34.3694,2,    212.4,2,  5.5525,    213.9,2,    21.08,2,    27.24,2,     0.01,2,     1.85,2,    1.792,2,    0.889,2, -999.000,5,-999.0000,5,  -999.00,9,   -999.0,9,  -999.00,9,-999.000,9,   2168.5,2,   2291.4,2,  -999.0, -999.00,-999.0000,-999.000,-999.000
     316N145_5,  I09S,   126,  1,     19, SIH027,2,19950113,0542,-43.9917, 115.0000, 4310,10112.8,   1011.5,   4.6571,  34.3211,2,  34.3227,2,    214.6,2,  4.5757,    218.7,2,    26.32,2,    28.99,2,     0.00,2,     1.97,2,    1.836,2,    0.889,2, -999.000,5,-999.0000,5,  -999.00,9,   -999.0,9,  -999.00,9,-999.000,9,   2176.9,2,   2298.3,2,  -999.0, -999.00,-999.0000,-999.000,-999.000
     316N145_5,  I09S,   126,  1,     18, SIH003,2,19950113,0542,-43.9917, 115.0000, 4310,11127.5,   1113.6,   4.1486,  34.3535,2,  34.3529,2,    199.9,2,  4.0624,    201.9,2,    36.49,2,    30.96,2,     0.00,2,     2.10,2,    0.923,2,    0.462,2, -999.000,5,-999.0000,5,  -999.00,9,   -999.0,9,  -999.00,9,-999.000,9,   2196.1,6,   2325.5,2,  -999.0, -999.00,-999.0000,-999.000,-999.000
     316N145_5,  I09S,   126,  1,     17, SIH024,2,19950113,0542,-43.9917, 115.0000, 4310,12127.5,   1214.1,   3.6564,  34.3702,2,  34.3713,2,    194.1,2,  3.5660,    196.4,2,    44.11,2,    32.14,2,     0.00,2,     2.18,2, -999.000,9, -999.000,9, -999.000,5,-999.0000,5,  -999.00,9,   -999.0,9,  -999.00,9,-999.000,9,   2210.5,2,   2310.4,6,  -999.0, -999.00,-999.0000,-999.000,-999.000
     316N145_5,  I09S,   126,  1,     16, SIH022,2,19950113,0542,-43.9917, 115.0000, 4310,14156.5,   1418.2,   2.9914,  34.4450,2,  34.4457,2,    181.9,2,  2.8907,    183.1,2,    57.77,2,    33.59,2,     0.00,2,     2.28,2,    0.524,2,    0.254,2, -999.000,5,-999.0000,5,  -999.00,9,   -999.0,9,  -999.00,9,-999.000,9,   2230.7,2,   -999.0,9,  -999.0, -999.00,-999.0000,-999.000,-999.000
     316N145_5,  I09S,   126,  1,     15, SIH021,2,19950113,0542,-43.9917, 115.0000, 4310,16135.1,   1617.2,   2.6897,  34.5311,2,  34.5309,2,    175.1,2,  2.5759,    176.5,2,    66.66,2,    33.65,2,     0.00,2,     2.28,2, -999.000,9, -999.000,9, -999.000,5,-999.0000,5,  -999.00,9,   -999.0,9,  -999.00,9,-999.000,9,   2242.3,2,   2338.1,2,  -999.0, -999.00,-999.0000,-999.000,-999.000
     316N145_5,  I09S,   126,  1,     14, SIH002,2,19950113,0542,-43.9917, 115.0000, 4310,18167.3,   1821.6,   2.5549,  34.6241,2,  34.6250,2,    174.7,2,  2.4254,    174.4,2,    73.49,2,    32.94,2,     0.00,2,     2.23,2,    0.142,2,    0.067,2, -999.000,5,-999.0000,5,  -999.00,9,   -999.0,9,  -999.00,9,-999.000,9,   2247.2,2,   2336.8,2,  -999.0, -999.00,-999.0000,-999.000,-999.000
     316N145_5,  I09S,   126,  1,     13, SIH018,2,19950113,0542,-43.9917, 115.0000, 4310,20172.9,   2023.4,   2.4369,  34.6852,2,  34.6869,2,    178.6,2,  2.2916,    180.5,2,    75.70,2,    31.68,2,     0.00,2,     2.14,2, -999.000,9, -999.000,9, -999.000,5,-999.0000,5,  -999.00,9,   -999.0,9,  -999.00,9,-999.000,9,   2245.6,2,   2329.4,3,  -999.0, -999.00,-999.0000,-999.000,-999.000
     316N145_5,  I09S,   126,  1,     12, SIH016,2,19950113,0542,-43.9917, 115.0000, 4310,22174.6,   2224.7,   2.3134,  34.7233,2,  34.7254,2,    185.0,2,  2.1522,    186.2,2,    78.56,2,    30.79,2,     0.00,2,     2.08,2,    0.055,2,    0.035,2, -999.000,5,-999.0000,5,  -999.00,9,   -999.0,9,  -999.00,9,-999.000,9,   2244.2,2,   2353.8,2,  -999.0, -999.00,-999.0000,-999.000,-999.000
     316N145_5,  I09S,   126,  1,     11, SIH015,2,19950113,0542,-43.9917, 115.0000, 4310,24190.4,   2427.5,   2.1802,  34.7422,2,  34.7416,2,    187.9,2,  2.0029,    190.7,2,    82.22,2,    30.37,2,     0.00,2,     2.05,2, -999.000,9, -999.000,9, -999.000,5,-999.0000,5,  -999.00,9,   -999.0,9,  -999.00,9,-999.000,9,   2244.0,2,   2350.2,2,  -999.0, -999.00,-999.0000,-999.000,-999.000
     316N145_5,  I09S,   126,  1,     10, SIH013,2,19950113,0542,-43.9917, 115.0000, 4310,27239.2,   2734.2,   1.9159,  34.7504,2,  34.7512,2,    191.4,2,  1.7151,    195.4,2,    90.63,2,    30.33,2,     0.00,2,     2.05,2,    0.022,2,    0.015,2, -999.000,5,-999.0000,5,  -999.00,9,   -999.0,9,  -999.00,9,-999.000,9,   2247.3,2,   2372.3,2,  -999.0, -999.00,-999.0000,-999.000,-999.000
     316N145_5,  I09S,   126,  1,      9, SIH012,2,19950113,0542,-43.9917, 115.0000, 4310,30298.0,   3041.8,   1.5480,  34.7407,2,  34.7414,2,    196.7,2,  1.3257,    200.3,2,   101.27,2,    30.71,2,     0.00,2,     2.08,2, -999.000,9, -999.000,9, -999.000,5,-999.0000,5,  -999.00,9,   -999.0,9,  -999.00,9,-999.000,9,   2251.6,2,   2362.0,2,  -999.0, -999.00,-999.0000,-999.000,-999.000
     316N145_5,  I09S,   126,  1,      8, SIH010,2,19950113,0542,-43.9917, 115.0000, 4310,32292.0,   3242.4,   1.3333,  34.7313,2,  34.7313,2,    200.0,2,  1.0966,    202.9,2,   108.25,2,    31.04,2,     0.00,2,     2.10,2,    0.030,2,    0.018,2, -999.000,5,-999.0000,5,  -999.00,9,   -999.0,9,  -999.00,9,-999.000,9,   2254.3,2,   2365.2,2,  -999.0, -999.00,-999.0000,-999.000,-999.000
     316N145_5,  I09S,   126,  1,      7, SIH009,2,19950113,0542,-43.9917, 115.0000, 4310,34345.7,   3449.0,   1.1479,  34.7231,2,  34.7235,2,    201.7,2,  0.8954,    205.2,2,   114.13,2,    31.42,2,     0.00,2,     2.13,2, -999.000,9, -999.000,9, -999.000,5,-999.0000,5,  -999.00,9,   -999.0,9,  -999.00,9,-999.000,9,   2256.0,2,   2368.1,2,  -999.0, -999.00,-999.0000,-999.000,-999.000
     316N145_5,  I09S,   126,  1,      6, SIH038,2,19950113,0542,-43.9917, 115.0000, 4310,36379.2,   3653.5,   1.0341,  34.7174,2,  34.7166,2,    203.4,2,  0.7641,    206.9,2,   118.10,2,    31.57,2,     0.00,2,     2.14,2,    0.049,6,    0.027,6, -999.000,5,-999.0000,5,  -999.00,9,   -999.0,9,  -999.00,9,-999.000,9,   2256.9,2,   2364.4,2,  -999.0, -999.00,-999.0000,-999.000,-999.000
     316N145_5,  I09S,   126,  1,      5, SIH006,2,19950113,0542,-43.9917, 115.0000, 4310,38407.5,   3857.6,   0.9530,  34.7125,2,  34.7138,2,    206.0,2,  0.6642,    208.3,2,   120.48,2,    31.76,2,     0.00,2,     2.15,2, -999.000,9, -999.000,9, -999.000,5,-999.0000,5,  -999.00,9,   -999.0,9,  -999.00,9,-999.000,9,   2257.4,2,   2360.0,2,  -999.0, -999.00,-999.0000,-999.000,-999.000
     316N145_5,  I09S,   126,  1,      4, SIH004,2,19950113,0542,-43.9917, 115.0000, 4310,40536.6,   4071.7,   0.8873,  34.7094,2,  34.7117,2,    209.5,2,  0.5779,    209.8,2,   122.56,2,    31.81,2,     0.00,2,     2.16,2,    0.074,2,    0.040,2, -999.000,5,-999.0000,5,  -999.00,9,   -999.0,9,  -999.00,9,-999.000,9,   2258.7,2,   2352.6,3,  -999.0, -999.00,-999.0000,-999.000,-999.000
     316N145_5,  I09S,   126,  1,      3, SIH025,2,19950113,0542,-43.9917, 115.0000, 4310,42579.9,   4277.3,   0.8632,  34.7068,2,  34.7074,2,    210.2,2,  0.5324,    210.2,2,   123.67,2,    31.95,2,     0.00,2,     2.17,2, -999.000,9, -999.000,9, -999.000,5,-999.0000,5,  -999.00,9,   -999.0,9,  -999.00,9,-999.000,9,   2259.6,2,   2369.6,2,  -999.0, -999.00,-999.0000,-999.000,-999.000
     316N145_5,  I09S,   126,  1,      2, SIH001,2,19950113,0542,-43.9917, 115.0000, 4310,43599.6,   4379.8,   0.8713,  34.7074,2,  34.7093,2,    210.7,2,  0.5291,    210.8,2,   123.50,2,    31.96,2,     0.00,2,     2.17,2,    0.071,2,    0.041,2, -999.000,5,-999.0000,5,  -999.00,9,   -999.0,9,  -999.00,9,-999.000,9,   2260.4,2,   2378.0,6,  -999.0, -999.00,-999.0000,-999.000,-999.000
     316N145_5,  I09S,   126,  1,      1, SIH036,2,19950113,0542,-43.9917, 115.0000, 4310,44106.1,   4430.8,   0.8749,  34.7066,2,  34.7056,2,    211.6,2,  0.5269,    211.7,2,   123.68,2,    31.94,2,     0.00,2,     2.16,2,    0.079,2,    0.040,2, -999.000,5,-999.0000,5,  -999.00,9,   -999.0,9,  -999.00,9,-999.000,9,   2261.5,6,   2378.8,2,  -999.0, -999.00,-999.0000,-999.000,-999.000