BOTTLE,20090521WHPSIOdm
EXPOCODE,SECT_ID,STNNBR,CASTNO,SAMPNO,BTLNBR,BTLNBR_FLAG_W,DATE,TIME,LATITUDE,LONGITUDE,DEPTH,CTDRAW,CTDPRS,CTDTMP,CTDSAL,CTDSAL_FLAG_W,SALNTY,SALNTY_FLAG_W,CTDOXY,CTDOXY_FLAG_W,THETA,OXYGEN,OXYGEN_FLAG_W,SILCAT,SILCAT_FLAG_W,NITRAT,NITRAT_FLAG_W,NITRIT,NITRIT_FLAG_W,PHSPHT,PHSPHT_FLAG_W,CFC-11,CFC-11_FLAG_W,CFC-12,CFC-12_FLAG_W,TRITUM,TRITUM_FLAG_W,HELIUM,HELIUM_FLAG_W,DELHE3,DELHE3_FLAG_W,DELC14,DELC14_FLAG_W,DELC13,DELC13_FLAG_W,NEON,NEON_FLAG_W,TCARBN,TCARBN_FLAG_W,ALKALI,ALKALI_FLAG_W,C14ERR,DELHER,HELIER,NEONER,TRITER
,,,,,,,,,,,,,DBAR,IPTS-68,PSS-78,,PSS-78,,UMOL/KG,,IPTS-68,UMOL/KG,,UMOL/KG,,UMOL/KG,,UMOL/KG,,UMOL/KG,,PMOL/KG,,PMOL/KG,,TU,,NMOL/KG,,PERCNT,,/MILLE,,/MILLE,,NMOL/KG,,UMOL/KG,,UMOL/KG,,/MILLE,PERCNT,NMOL/KG,NMOL/KG,TU
     316N145_5,  I09S,   102,  1,     36, SIH035,2,19950106,1620,-56.8000, 115.0083, 4540,  188.9,     13.2,   2.6803,  33.8830,2,  33.8860,2,    324.7,2,  2.6796,    326.4,2,     8.67,2,    24.63,2,     0.27,2,     1.70,2, -999.000,9, -999.000,9, -999.000,5,-999.0000,5,  -999.00,9,   -999.0,9,  -999.00,9,-999.000,9,   2137.5,6,   2288.1,2,  -999.0, -999.00,-999.0000,-999.000,-999.000
     316N145_5,  I09S,   102,  1,     35, SIH032,2,19950106,1620,-56.8000, 115.0083, 4540,  386.2,     33.1,   2.6614,  33.8846,2,  33.8862,2,    333.6,2,  2.6596,    327.2,2,     9.61,2,    24.72,2,     0.27,2,     1.69,2, -999.000,9, -999.000,9, -999.000,5,-999.0000,5,  -999.00,9,   -999.0,9,  -999.00,9,-999.000,9,   2136.5,2,   2285.4,2,  -999.0, -999.00,-999.0000,-999.000,-999.000
     316N145_5,  I09S,   102,  1,     34, SIH029,2,19950106,1620,-56.8000, 115.0083, 4540,  632.7,     57.9,   2.6439,  33.8855,2,  33.8885,2,    339.1,2,  2.6407,    327.2,2,    10.24,2,    24.83,2,     0.26,2,     1.70,2, -999.000,9, -999.000,9, -999.000,5,-999.0000,5,  -999.00,9,   -999.0,9,  -999.00,9,-999.000,9,   2135.8,2,   2282.1,2,  -999.0, -999.00,-999.0000,-999.000,-999.000
     316N145_5,  I09S,   102,  1,     33, SIH026,2,19950106,1620,-56.8000, 115.0083, 4540,  884.7,     83.2,   2.6446,  33.8856,2,  33.8889,2,    331.6,2,  2.6399,    327.4,2,    10.15,2,    24.83,2,     0.27,2,     1.70,2, -999.000,9, -999.000,9, -999.000,5,-999.0000,5,  -999.00,9,   -999.0,9,  -999.00,9,-999.000,9,   2135.0,2,   -999.0,9,  -999.0, -999.00,-999.0000,-999.000,-999.000
     316N145_5,  I09S,   102,  1,     32, SIH023,2,19950106,1620,-56.8000, 115.0083, 4540, 1138.5,    108.8,   1.6455,  33.9194,2,  33.9209,2,    325.8,2,  1.6402,    322.1,2,    19.10,2,    26.51,2,     0.30,2,     1.92,2, -999.000,9, -999.000,9, -999.000,5,-999.0000,5,  -999.00,9,   -999.0,9,  -999.00,9,-999.000,9,   2151.5,2,   2282.1,2,  -999.0, -999.00,-999.0000,-999.000,-999.000
     316N145_5,  I09S,   102,  1,     31, SIH020,2,19950106,1620,-56.8000, 115.0083, 4540, 1641.9,    159.4,   1.4181,  34.0216,2,  34.0200,2,    299.1,2,  1.4105,    297.7,2,    28.61,2,    29.39,2,     0.06,2,     2.02,2, -999.000,9, -999.000,9, -999.000,5,-999.0000,5,  -999.00,9,   -999.0,9,  -999.00,9,-999.000,9,   2170.9,2,   2289.2,2,  -999.0, -999.00,-999.0000,-999.000,-999.000
     316N145_5,  I09S,   102,  1,     30, SIH017,2,19950106,1620,-56.8000, 115.0083, 4540, 2138.1,    209.3,   2.1333,  34.2280,2,  34.2328,2,    231.1,2,  2.1220,    233.7,2,    43.39,2,    32.56,2,     0.02,2,     2.25,2, -999.000,9, -999.000,9, -999.000,5,-999.0000,5,  -999.00,9,   -999.0,9,  -999.00,9,-999.000,9,   2207.4,2,   2320.3,3,  -999.0, -999.00,-999.0000,-999.000,-999.000
     316N145_5,  I09S,   102,  1,     29, SIH014,2,19950106,1620,-56.8000, 115.0083, 4540, 2638.7,    259.7,   1.8816,  34.2871,2,  34.2881,2,    217.5,2,  1.8680,    222.6,2,    51.64,2,    33.52,2,     0.02,2,     2.31,2, -999.000,9, -999.000,9, -999.000,5,-999.0000,5,  -999.00,9,   -999.0,9,  -999.00,9,-999.000,9,   2221.6,2,   2313.3,2,  -999.0, -999.00,-999.0000,-999.000,-999.000
     316N145_5,  I09S,   102,  1,     28, SIH011,2,19950106,1620,-56.8000, 115.0083, 4540, 3132.9,    309.4,   1.9712,  34.3570,2,  34.3590,2,    201.5,2,  1.9546,    206.1,2,    58.18,2,    34.09,2,     0.02,2,     2.35,2, -999.000,9, -999.000,9, -999.000,5,-999.0000,5,  -999.00,9,   -999.0,9,  -999.00,9,-999.000,9,   2230.5,2,   2317.2,2,  -999.0, -999.00,-999.0000,-999.000,-999.000
     316N145_5,  I09S,   102,  1,     27, SIH008,2,19950106,1620,-56.8000, 115.0083, 4540, 3630.3,    359.4,   2.1157,  34.4166,2,  34.4206,2,    189.1,2,  2.0957,    193.7,2,    62.70,2,    34.32,2,     0.02,2,     2.36,2, -999.000,9, -999.000,9, -999.000,5,-999.0000,5,  -999.00,9,   -999.0,9,  -999.00,9,-999.000,9,   2238.7,2,   2341.3,3,  -999.0, -999.00,-999.0000,-999.000,-999.000
     316N145_5,  I09S,   102,  1,     26, SIH005,2,19950106,1620,-56.8000, 115.0083, 4540, 4139.1,    410.6,   2.1628,  34.4672,2,  34.4703,2,    178.9,2,  2.1396,    185.0,2,    66.91,2,    34.46,2,     0.02,2,     2.38,2, -999.000,9, -999.000,9, -999.000,5,-999.0000,5,  -999.00,9,   -999.0,9,  -999.00,9,-999.000,9,   2244.5,2,   2320.5,2,  -999.0, -999.00,-999.0000,-999.000,-999.000
     316N145_5,  I09S,   102,  1,     25, SIH019,2,19950106,1620,-56.8000, 115.0083, 4540, 4638.8,    460.8,   2.1996,  34.5134,2,  34.5160,2,    174.2,2,  2.1732,    179.0,2,    70.18,2,    34.31,2,     0.02,2,     2.37,2, -999.000,9, -999.000,9, -999.000,5,-999.0000,5,  -999.00,9,   -999.0,9,  -999.00,9,-999.000,9,   2249.7,2,   -999.0,9,  -999.0, -999.00,-999.0000,-999.000,-999.000
     316N145_5,  I09S,   102,  1,     24, SIH037,2,19950106,1620,-56.8000, 115.0083, 4540, 5136.7,    510.9,   2.2706,  34.5501,2,  34.5555,2,    173.1,2,  2.2408,    176.0,2,    71.73,2,    34.03,2,     0.01,2,     2.34,2, -999.000,9, -999.000,9, -999.000,5,-999.0000,5,  -999.00,9,   -999.0,9,  -999.00,9,-999.000,9,   2250.2,2,   2357.9,3,  -999.0, -999.00,-999.0000,-999.000,-999.000
     316N145_5,  I09S,   102,  1,     23, SIH033,2,19950106,1620,-56.8000, 115.0083, 4540, 6136.6,    611.5,   2.2860,  34.6038,2,  34.6071,2,    169.6,2,  2.2497,    175.0,2,    74.53,2,    33.39,2,     0.01,2,     2.30,2, -999.000,9, -999.000,9, -999.000,5,-999.0000,5,  -999.00,9,   -999.0,9,  -999.00,9,-999.000,9,   2252.2,2,   2321.9,2,  -999.0, -999.00,-999.0000,-999.000,-999.000
     316N145_5,  I09S,   102,  1,     22, SIH031,2,19950106,1620,-56.8000, 115.0083, 4540, 7139.3,    712.3,   2.2670,  34.6500,2,  34.6523,2,    171.8,2,  2.2242,    177.7,2,    76.09,2,    32.71,2,     0.01,2,     2.24,2, -999.000,9, -999.000,9, -999.000,5,-999.0000,5,  -999.00,9,   -999.0,9,  -999.00,9,-999.000,9,   2250.0,2,   2335.4,2,  -999.0, -999.00,-999.0000,-999.000,-999.000
     316N145_5,  I09S,   102,  1,     21, SIH030,2,19950106,1620,-56.8000, 115.0083, 4540, 8130.5,    812.0,   2.2088,  34.6774,2,  34.6818,2,    177.0,2,  2.1597,    180.6,2,    77.66,2,    32.08,2,     0.01,2,     2.21,2, -999.000,9, -999.000,9, -999.000,5,-999.0000,5,  -999.00,9,   -999.0,9,  -999.00,9,-999.000,9,   2249.5,2,   2354.7,2,  -999.0, -999.00,-999.0000,-999.000,-999.000
     316N145_5,  I09S,   102,  1,     20, SIH028,2,19950106,1620,-56.8000, 115.0083, 4540, 9141.8,    913.8,   2.1685,  34.7024,2,  34.7038,2,    180.2,2,  2.1127,    183.6,2,    78.91,2,    31.31,2,     0.01,2,     2.16,2, -999.000,9, -999.000,9, -999.000,5,-999.0000,5,  -999.00,9,   -999.0,9,  -999.00,9,-999.000,9,   2249.9,2,   2341.4,2,  -999.0, -999.00,-999.0000,-999.000,-999.000
     316N145_5,  I09S,   102,  1,     19, SIH027,2,19950106,1620,-56.8000, 115.0083, 4540,10128.0,   1013.0,   2.1113,  34.7177,2,  34.7213,2,    183.8,2,  2.0491,    186.5,2,    80.31,2,    30.96,2,     0.01,2,     2.14,2, -999.000,9, -999.000,9, -999.000,5,-999.0000,5,  -999.00,9,   -999.0,9,  -999.00,9,-999.000,9,   2247.6,2,   2340.6,2,  -999.0, -999.00,-999.0000,-999.000,-999.000
     316N145_5,  I09S,   102,  1,     18, SIH003,2,19950106,1620,-56.8000, 115.0083, 4540,11118.2,   1112.6,   2.0299,  34.7284,2,  34.7311,2,    185.2,2,  1.9614,    189.2,2,    82.02,2,    30.67,2,     0.01,2,     2.12,2, -999.000,9, -999.000,9, -999.000,5,-999.0000,5,  -999.00,9,   -999.0,9,  -999.00,9,-999.000,9,   2246.1,6,   2349.2,2,  -999.0, -999.00,-999.0000,-999.000,-999.000
     316N145_5,  I09S,   102,  1,     17, SIH024,2,19950106,1620,-56.8000, 115.0083, 4540,12119.0,   1213.2,   1.9718,  34.7360,2,  34.7386,2,    188.6,2,  1.8966,    191.5,2,    83.74,2,    30.51,2,     0.01,2,     2.10,2, -999.000,9, -999.000,9, -999.000,5,-999.0000,5,  -999.00,9,   -999.0,9,  -999.00,9,-999.000,9,   2246.6,2,   2347.6,2,  -999.0, -999.00,-999.0000,-999.000,-999.000
     316N145_5,  I09S,   102,  1,     16, SIH022,2,19950106,1620,-56.8000, 115.0083, 4540,14139.3,   1416.4,   1.8382,  34.7439,2,  34.7463,2,    191.8,2,  1.7496,    194.9,2,    87.48,2,    30.22,2,     0.01,2,     2.09,2, -999.000,9, -999.000,9, -999.000,5,-999.0000,5,  -999.00,9,   -999.0,9,  -999.00,9,-999.000,9,   2248.0,2,   2349.1,2,  -999.0, -999.00,-999.0000,-999.000,-999.000
     316N145_5,  I09S,   102,  1,     15, SIH021,2,19950106,1620,-56.8000, 115.0083, 4540,16157.7,   1619.5,   1.6511,  34.7436,2,  34.7449,2,    192.4,2,  1.5495,    198.1,2,    92.31,2,    30.32,2,     0.01,2,     2.09,2, -999.000,9, -999.000,9, -999.000,5,-999.0000,5,  -999.00,9,   -999.0,9,  -999.00,9,-999.000,9,   2248.7,2,   2366.5,3,  -999.0, -999.00,-999.0000,-999.000,-999.000
     316N145_5,  I09S,   102,  1,     14, SIH002,2,19950106,1620,-56.8000, 115.0083, 4540,18170.8,   1822.0,   1.4626,  34.7394,2,  34.7416,2,    196.1,2,  1.3480,    200.7,2,    98.08,2,    30.45,2,     0.01,2,     2.11,2, -999.000,9, -999.000,9, -999.000,5,-999.0000,5,  -999.00,9,   -999.0,9,  -999.00,9,-999.000,9,   2250.0,2,   2359.7,2,  -999.0, -999.00,-999.0000,-999.000,-999.000
     316N145_5,  I09S,   102,  1,     13, SIH018,2,19950106,1620,-56.8000, 115.0083, 4540,20180.3,   2024.1,   1.2849,  34.7319,2,  34.7343,2,    199.0,2,  1.1571,    203.2,2,   103.69,2,    30.79,2,     0.01,2,     2.13,2, -999.000,9, -999.000,9, -999.000,5,-999.0000,5,  -999.00,9,   -999.0,9,  -999.00,9,-999.000,9,   2253.8,2,   2354.6,2,  -999.0, -999.00,-999.0000,-999.000,-999.000
     316N145_5,  I09S,   102,  1,     12, SIH016,2,19950106,1620,-56.8000, 115.0083, 4540,22217.2,   2229.0,   1.1260,  34.7245,2,  34.7278,2,    198.9,2,  0.9844,    204.1,2,   108.83,2,    31.07,2,     0.01,2,     2.15,2, -999.000,9, -999.000,9, -999.000,5,-999.0000,5,  -999.00,9,   -999.0,9,  -999.00,9,-999.000,9,   2254.6,2,   2361.7,2,  -999.0, -999.00,-999.0000,-999.000,-999.000
     316N145_5,  I09S,   102,  1,     11, SIH015,2,19950106,1620,-56.8000, 115.0083, 4540,24228.2,   2431.2,   0.9534,  34.7161,2,  34.7162,2,    202.0,2,  0.7982,    206.9,2,   114.13,2,    31.40,2,     0.01,2,     2.18,2, -999.000,9, -999.000,9, -999.000,5,-999.0000,5,  -999.00,9,   -999.0,9,  -999.00,9,-999.000,9,   2257.7,2,   2358.8,2,  -999.0, -999.00,-999.0000,-999.000,-999.000
     316N145_5,  I09S,   102,  1,     10, SIH013,2,19950106,1620,-56.8000, 115.0083, 4540,27295.6,   2739.8,   0.6916,  34.7025,2,  34.7048,2,    203.6,2,  0.5155,    209.9,2,   120.05,2,    31.82,2,     0.01,2,     2.21,2, -999.000,9, -999.000,9, -999.000,5,-999.0000,5,  -999.00,9,   -999.0,9,  -999.00,9,-999.000,9,   2260.9,2,   2352.6,2,  -999.0, -999.00,-999.0000,-999.000,-999.000
     316N145_5,  I09S,   102,  1,      9, SIH012,2,19950106,1620,-56.8000, 115.0083, 4540,30408.8,   3052.9,   0.4756,  34.6923,2,  34.6928,2,    209.0,2,  0.2767,    215.2,2,   125.21,2,    32.01,2,     0.01,2,     2.22,2, -999.000,9, -999.000,9, -999.000,5,-999.0000,5,  -999.00,9,   -999.0,9,  -999.00,9,-999.000,9,   2259.5,2,   -999.0,9,  -999.0, -999.00,-999.0000,-999.000,-999.000
     316N145_5,  I09S,   102,  1,      8, SIH010,2,19950106,1620,-56.8000, 115.0083, 4540,33466.8,   3360.5,   0.3018,  34.6860,2,  34.6853,2,    215.3,2,  0.0791,    219.7,2,   127.86,2,    32.11,2,     0.01,2,     2.23,2, -999.000,9, -999.000,9, -999.000,5,-999.0000,5,  -999.00,9,   -999.0,9,  -999.00,9,-999.000,9,   2258.8,2,   2356.2,2,  -999.0, -999.00,-999.0000,-999.000,-999.000
     316N145_5,  I09S,   102,  1,      7, SIH009,2,19950106,1620,-56.8000, 115.0083, 4540,36408.1,   3656.4,   0.1831,  34.6814,2,  34.6832,2,    218.5,2, -0.0645,    224.0,2,   130.51,2,    32.10,2,     0.01,2,     2.23,2, -999.000,9, -999.000,9, -999.000,5,-999.0000,5,  -999.00,9,   -999.0,9,  -999.00,9,-999.000,9,   2257.7,2,   2355.9,2,  -999.0, -999.00,-999.0000,-999.000,-999.000
     316N145_5,  I09S,   102,  1,      6, SIH038,2,19950106,1620,-56.8000, 115.0083, 4540,38553.0,   3872.2,   0.1247,  34.6794,2,  34.6791,2,    222.3,2, -0.1424,    226.1,2,   132.54,2,    32.15,2,     0.01,2,     2.24,2, -999.000,9, -999.000,9, -999.000,5,-999.0000,5,  -999.00,9,   -999.0,9,  -999.00,9,-999.000,9,   2258.9,2,   2379.5,3,  -999.0, -999.00,-999.0000,-999.000,-999.000
     316N145_5,  I09S,   102,  1,      5, SIH006,2,19950106,1620,-56.8000, 115.0083, 4540,40585.0,   4076.6,   0.0696,  34.6769,2,  34.6775,2,    224.9,2, -0.2163,    228.4,2,   134.42,2,    32.14,2,     0.01,2,     2.23,2, -999.000,9, -999.000,9, -999.000,5,-999.0000,5,  -999.00,9,   -999.0,9,  -999.00,9,-999.000,9,   2258.6,2,   -999.0,9,  -999.0, -999.00,-999.0000,-999.000,-999.000
     316N145_5,  I09S,   102,  1,      4, SIH004,2,19950106,1620,-56.8000, 115.0083, 4540,42615.5,   4280.8,   0.0341,  34.6755,2,  34.6745,2,    226.9,2, -0.2717,    230.3,2,   134.11,2,    32.13,2,     0.01,2,     2.23,2, -999.000,9, -999.000,9, -999.000,5,-999.0000,5,  -999.00,9,   -999.0,9,  -999.00,9,-999.000,9,   2256.6,2,   2350.3,2,  -999.0, -999.00,-999.0000,-999.000,-999.000
     316N145_5,  I09S,   102,  1,      3, SIH025,2,19950106,1620,-56.8000, 115.0083, 4540,44137.2,   4433.9,   0.0102,  34.6740,2,  34.6753,2,    229.9,2, -0.3109,    231.8,2,   134.59,2,    32.03,2,     0.01,2,     2.23,2, -999.000,9, -999.000,9, -999.000,5,-999.0000,5,  -999.00,9,   -999.0,9,  -999.00,9,-999.000,9,   2256.1,2,   2365.4,2,  -999.0, -999.00,-999.0000,-999.000,-999.000
     316N145_5,  I09S,   102,  1,      2, SIH001,2,19950106,1620,-56.8000, 115.0083, 4540,45064.4,   4527.2,   0.0007,  34.6748,2,  34.6730,2,    232.1,2, -0.3301,    232.3,2,   134.75,2,    32.03,2,     0.01,2,     2.23,2, -999.000,9, -999.000,9, -999.000,5,-999.0000,5,  -999.00,9,   -999.0,9,  -999.00,9,-999.000,9,   2256.7,2,   2368.2,2,  -999.0, -999.00,-999.0000,-999.000,-999.000
     316N145_5,  I09S,   102,  1,      1, SIH036,2,19950106,1620,-56.8000, 115.0083, 4540,45568.2,   4577.8,  -0.0282,  34.6731,2,  34.6726,2,    233.5,2, -0.3635,    233.2,2,   138.33,2,    32.11,2,     0.01,2,     2.23,2, -999.000,9, -999.000,9, -999.000,5,-999.0000,5,  -999.00,9,   -999.0,9,  -999.00,9,-999.000,9,   2257.8,6,   2362.6,2,  -999.0, -999.00,-999.0000,-999.000,-999.000