BOTTLE,20090521WHPSIOdm
EXPOCODE,SECT_ID,STNNBR,CASTNO,SAMPNO,BTLNBR,BTLNBR_FLAG_W,DATE,TIME,LATITUDE,LONGITUDE,DEPTH,CTDRAW,CTDPRS,CTDTMP,CTDSAL,CTDSAL_FLAG_W,SALNTY,SALNTY_FLAG_W,CTDOXY,CTDOXY_FLAG_W,THETA,OXYGEN,OXYGEN_FLAG_W,SILCAT,SILCAT_FLAG_W,NITRAT,NITRAT_FLAG_W,NITRIT,NITRIT_FLAG_W,PHSPHT,PHSPHT_FLAG_W,CFC-11,CFC-11_FLAG_W,CFC-12,CFC-12_FLAG_W,TRITUM,TRITUM_FLAG_W,HELIUM,HELIUM_FLAG_W,DELHE3,DELHE3_FLAG_W,DELC14,DELC14_FLAG_W,DELC13,DELC13_FLAG_W,NEON,NEON_FLAG_W,TCARBN,TCARBN_FLAG_W,ALKALI,ALKALI_FLAG_W,C14ERR,DELHER,HELIER,NEONER,TRITER
,,,,,,,,,,,,,DBAR,IPTS-68,PSS-78,,PSS-78,,UMOL/KG,,IPTS-68,UMOL/KG,,UMOL/KG,,UMOL/KG,,UMOL/KG,,UMOL/KG,,PMOL/KG,,PMOL/KG,,TU,,NMOL/KG,,PERCNT,,/MILLE,,/MILLE,,NMOL/KG,,UMOL/KG,,UMOL/KG,,/MILLE,PERCNT,NMOL/KG,NMOL/KG,TU
     316N145_5,  I08S,    56,  1,     36, SIH035,2,19941221,1450,-53.5278,  87.0222, 4570,  182.7,     13.3,   2.4308,  33.9576,2,  33.9594,2,    339.0,2,  2.4300,    330.9,2,     9.01,2,    23.67,2,     0.19,2,     1.58,2,    5.860,2,    2.778,2, -999.000,5,-999.0000,5,  -999.00,9,    -48.5,2,  -999.00,9,-999.000,9,   2132.8,6,   2286.4,2,     3.0, -999.00,-999.0000,-999.000,-999.000
     316N145_5,  I08S,    56,  1,     35, SIH032,2,19941221,1450,-53.5278,  87.0222, 4570,  381.3,     33.3,   2.3826,  33.9637,2,  33.9684,2,    335.0,2,  2.3808,    330.3,2,     9.51,2,    23.78,2,     0.19,2,     1.58,2,    5.848,2,    2.773,2, -999.000,5,-999.0000,5,  -999.00,9,    -46.9,2,     1.66,2,-999.000,9,   2134.2,2,   2287.6,2,     2.8, -999.00,-999.0000,-999.000,-999.000
     316N145_5,  I08S,    56,  1,     34, SIH029,2,19941221,1450,-53.5278,  87.0222, 4570,  627.1,     58.0,   2.3486,  33.9614,2,  33.9624,2,    329.2,2,  2.3455,    330.0,2,     9.67,2,    23.85,2,     0.19,2,     1.59,2,    5.870,2,    2.789,2, -999.000,5,-999.0000,5,  -999.00,9,    -44.6,6,     1.63,6,-999.000,9,   2134.4,2,   2289.6,2,     2.0, -999.00,-999.0000,-999.000,-999.000
     316N145_5,  I08S,    56,  1,     33, SIH026,2,19941221,1450,-53.5278,  87.0222, 4570,  881.4,     83.6,   1.7969,  33.9756,2,  33.9761,2,    336.5,2,  1.7928,    322.9,2,    17.09,2,    25.51,2,     0.18,2,     1.76,2,    5.813,2,    2.779,2, -999.000,5,-999.0000,5,  -999.00,9,    -51.7,2,     1.46,2,-999.000,9,   2147.0,2,   2287.8,2,     2.7, -999.00,-999.0000,-999.000,-999.000
     316N145_5,  I08S,    56,  1,     32, SIH023,2,19941221,1450,-53.5278,  87.0222, 4570, 1126.7,    108.3,   1.2601,  34.0362,2,  34.0343,2,    343.6,2,  1.2552,    315.1,2,    29.96,2,    27.99,2,     0.17,2,     1.95,2, -999.000,9, -999.000,9, -999.000,5,-999.0000,5,  -999.00,9,    -64.8,2,     1.21,2,-999.000,9,   2169.3,2,   2293.8,2,     3.2, -999.00,-999.0000,-999.000,-999.000
     316N145_5,  I08S,    56,  1,     31, SIH020,2,19941221,1450,-53.5278,  87.0222, 4570, 1617.2,    157.6,   0.8135,  34.0843,2,  34.0878,2,    312.8,2,  0.8068,    311.6,2,    39.36,2,    29.34,2,     0.17,2,     2.04,2,    5.579,2,    2.649,2, -999.000,5,-999.0000,5,  -999.00,9,    -85.7,2,     1.11,2,-999.000,9,   2180.6,2,   2301.0,2,     2.7, -999.00,-999.0000,-999.000,-999.000
     316N145_5,  I08S,    56,  1,     30, SIH017,2,19941221,1450,-53.5278,  87.0222, 4570, 2128.6,    209.0,   1.0409,  34.1881,2,  34.1858,2,    269.4,2,  1.0315,    274.5,2,    46.61,2,    31.56,2,     0.13,2,     2.18,2, -999.000,9, -999.000,9, -999.000,5,-999.0000,5,  -999.00,9,    -93.8,2,     0.89,2,-999.000,9,   2199.8,2,   2298.3,2,     2.6, -999.00,-999.0000,-999.000,-999.000
     316N145_5,  I08S,    56,  1,     29, SIH014,2,19941221,1450,-53.5278,  87.0222, 4570, 2617.5,    258.2,   1.5537,  34.3001,2,  34.3001,2,    207.6,2,  1.5408,    232.8,2,    55.02,2,    33.28,2,     0.07,2,     2.30,2,    2.755,6,    1.300,6, -999.000,5,-999.0000,5,  -999.00,9,   -108.9,2,     0.61,2,-999.000,9,   2219.9,2,   2309.6,2,     2.7, -999.00,-999.0000,-999.000,-999.000
     316N145_5,  I08S,    56,  1,     28, SIH011,2,19941221,1450,-53.5278,  87.0222, 4570, 3123.8,    309.1,   2.0683,  34.4046,2,  34.4041,2,    200.3,2,  2.0514,    200.6,2,    61.12,2,    34.30,2,     0.03,2,     2.35,2, -999.000,9, -999.000,9, -999.000,5,-999.0000,5,  -999.00,9,   -119.0,2,     0.52,2,-999.000,9,   2235.0,2,   2320.1,3,     2.8, -999.00,-999.0000,-999.000,-999.000
     316N145_5,  I08S,    56,  1,     27, SIH008,2,19941221,1450,-53.5278,  87.0222, 4570, 3620.0,    359.1,   2.1586,  34.4500,2,  34.4465,2,    192.8,2,  2.1385,    191.8,2,    64.92,2,    34.60,2,     0.01,2,     2.37,2,    1.249,2,    0.584,2, -999.000,5,-999.0000,5,  -999.00,9,   -139.4,2,     0.42,2,-999.000,9,   2239.9,2,   2311.4,2,     4.7, -999.00,-999.0000,-999.000,-999.000
     316N145_5,  I08S,    56,  1,     26, SIH005,2,19941221,1450,-53.5278,  87.0222, 4570, 4127.9,    410.1,   1.8980,  34.4463,2,  34.4465,2,    184.4,2,  1.8758,    198.4,2,    66.57,2,    34.50,2,     0.02,2,     2.37,2, -999.000,9, -999.000,9, -999.000,5,-999.0000,5,  -999.00,9,   -123.3,2,     0.50,2,-999.000,9,   2240.4,2,   2317.5,2,     2.6, -999.00,-999.0000,-999.000,-999.000
     316N145_5,  I08S,    56,  1,     25, SIH019,2,19941221,1450,-53.5278,  87.0222, 4570, 4631.4,    460.8,   2.0456,  34.5105,2,  34.5105,2,    180.4,2,  2.0198,    186.4,2,    70.85,2,    34.42,2,     0.01,2,     2.36,2,    1.005,2,    0.469,2, -999.000,5,-999.0000,5,  -999.00,9,   -132.9,2,     0.40,2,-999.000,9,   2246.4,2,   2327.8,2,     2.6, -999.00,-999.0000,-999.000,-999.000
     316N145_5,  I08S,    56,  1,     24, SIH037,2,19941221,1450,-53.5278,  87.0222, 4570, 5131.8,    511.1,   2.0322,  34.5419,2,  34.5437,2,    179.9,2,  2.0034,    183.4,2,    73.17,2,    34.34,2,     0.01,2,     2.36,2,    0.886,2,    0.412,2, -999.000,5,-999.0000,5,  -999.00,9,   -129.2,2,     0.42,2,-999.000,9,   2248.9,2,   2325.9,2,     3.2, -999.00,-999.0000,-999.000,-999.000
     316N145_5,  I08S,    56,  1,     23, SIH033,2,19941221,1450,-53.5278,  87.0222, 4570, 6111.1,    609.6,   1.8469,  34.6013,2,  34.6012,2,    181.4,2,  1.8129,    186.0,2,    78.11,2,    33.62,2,     0.01,2,     2.31,2,    0.840,2,    0.398,2, -999.000,5,-999.0000,5,  -999.00,9,   -138.8,2,     0.36,2,-999.000,9,   2251.8,2,   2333.3,2,     2.6, -999.00,-999.0000,-999.000,-999.000
     316N145_5,  I08S,    56,  1,     22, SIH031,2,19941221,1450,-53.5278,  87.0222, 4570, 7134.8,    712.6,   2.1001,  34.6749,2,  34.6749,2,    181.4,2,  2.0582,    181.0,2,    79.27,2,    32.47,2,     0.00,2,     2.23,2, -999.000,9, -999.000,9, -999.000,5,-999.0000,5,  -999.00,9,   -143.4,2,     0.36,2,-999.000,9,   2251.1,2,   2342.3,2,     2.7, -999.00,-999.0000,-999.000,-999.000
     316N145_5,  I08S,    56,  1,     21, SIH030,2,19941221,1450,-53.5278,  87.0222, 4570, 8114.9,    811.2,   2.1021,  34.7031,2,  34.7042,2,    183.1,2,  2.0537,    184.8,2,    79.43,2,    31.66,2,     0.00,2,     2.17,2,    0.209,2,    0.105,2, -999.000,5,-999.0000,5,  -999.00,9,   -136.1,2,     0.41,2,-999.000,9,   2250.6,2,   2341.9,2,     3.4, -999.00,-999.0000,-999.000,-999.000
     316N145_5,  I08S,    56,  1,     20, SIH028,2,19941221,1450,-53.5278,  87.0222, 4570, 9112.3,    911.5,   2.0211,  34.7114,2,  34.7111,2,    185.7,2,  1.9666,    186.6,2,    81.57,2,    31.57,2,     0.00,2,     2.17,2, -999.000,9, -999.000,9, -999.000,5,-999.0000,5,  -999.00,9,   -145.2,2,     0.42,2,-999.000,9,   2245.9,2,   2343.3,2,     2.7, -999.00,-999.0000,-999.000,-999.000
     316N145_5,  I08S,    56,  1,     19, SIH027,2,19941221,1450,-53.5278,  87.0222, 4570,10171.8,   1018.1,   1.9536,  34.7282,2,  34.7288,2,    188.2,2,  1.8923,    190.0,2,    83.22,2,    31.06,2,     0.00,2,     2.13,2,    0.173,6,    0.079,6, -999.000,5,-999.0000,5,  -999.00,9,   -139.9,2,     0.42,2,-999.000,9,   2244.4,2,   2348.0,2,     3.9, -999.00,-999.0000,-999.000,-999.000
     316N145_5,  I08S,    56,  1,     18, SIH003,2,19941221,1450,-53.5278,  87.0222, 4570,11099.9,   1111.4,   1.9280,  34.7392,2,  34.7404,2,    191.7,2,  1.8604,    192.9,2,    84.05,2,    30.67,2,     0.00,2,     2.11,2, -999.000,9, -999.000,9, -999.000,5,-999.0000,5,  -999.00,9,   -137.7,2,     0.43,2,-999.000,9,   2244.5,6,   2344.9,2,     3.8, -999.00,-999.0000,-999.000,-999.000
     316N145_5,  I08S,    56,  1,     17, SIH024,2,19941221,1450,-53.5278,  87.0222, 4570,12056.8,   1207.7,   1.8494,  34.7436,2,  34.7443,2,    196.4,2,  1.7758,    195.0,2,    86.04,2,    30.47,2,     0.00,2,     2.10,2, -999.000,9, -999.000,9, -999.000,5,-999.0000,5,  -999.00,9,   -136.3,2,     0.47,2,-999.000,9,   2245.4,2,   2346.5,2,     2.8, -999.00,-999.0000,-999.000,-999.000
     316N145_5,  I08S,    56,  1,     16, SIH022,2,19941221,1450,-53.5278,  87.0222, 4570,14055.4,   1408.7,   1.7015,  34.7461,2,-999.0000,9,    197.4,2,  1.6150,    198.3,2,    90.49,2,    30.48,2,     0.00,2,     2.10,2,    0.105,2,    0.046,2, -999.000,5,-999.0000,5,  -999.00,9,   -138.6,2,     0.44,2,-999.000,9,   2246.1,2,   2354.2,2,     2.7, -999.00,-999.0000,-999.000,-999.000
     316N145_5,  I08S,    56,  1,     15, SIH021,2,19941221,1450,-53.5278,  87.0222, 4570,16090.0,   1613.4,   1.5025,  34.7414,2,  34.7433,2,    200.4,2,  1.4032,    200.9,2,    95.94,2,    30.60,2,     0.00,2,     2.11,2, -999.000,9, -999.000,9, -999.000,5,-999.0000,5,  -999.00,9,   -130.7,2,     0.43,2,-999.000,9,   2247.7,2,   2351.5,2,     2.8, -999.00,-999.0000,-999.000,-999.000
     316N145_5,  I08S,    56,  1,     14, SIH002,2,19941221,1450,-53.5278,  87.0222, 4570,18086.4,   1814.2,   1.2735,  34.7320,2,  34.7327,2,    202.5,2,  1.1622,    203.4,2,   101.87,2,    30.98,2,     0.00,2,     2.14,2, -999.000,9, -999.000,9, -999.000,5,-999.0000,5,  -999.00,9,   -132.9,2,     0.42,2,-999.000,9,   2251.2,2,   2356.7,2,     2.7, -999.00,-999.0000,-999.000,-999.000
     316N145_5,  I08S,    56,  1,     13, SIH018,2,19941221,1450,-53.5278,  87.0222, 4570,20020.5,   2008.7,   1.0865,  34.7245,2,  34.7247,2,    205.5,2,  0.9630,    205.2,2,   107.82,2,    31.36,2,     0.00,2,     2.16,2, -999.000,9, -999.000,9, -999.000,5,-999.0000,5,  -999.00,9,   -141.2,2,     0.38,2,-999.000,9,   2249.4,2,   2357.3,2,     2.8, -999.00,-999.0000,-999.000,-999.000
     316N145_5,  I08S,    56,  1,     12, SIH016,2,19941221,1450,-53.5278,  87.0222, 4570,22131.5,   2221.0,   0.9787,  34.7170,2,  34.7172,2,    205.9,2,  0.8402,    206.4,2,   111.12,2,    31.58,2,     0.00,2,     2.18,2, -999.000,9, -999.000,9, -999.000,5,-999.0000,5,  -999.00,9,   -144.1,2,     0.37,2,-999.000,9,   2253.8,2,   2353.7,2,     3.4, -999.00,-999.0000,-999.000,-999.000
     316N145_5,  I08S,    56,  1,     11, SIH015,2,19941221,1450,-53.5278,  87.0222, 4570,24180.5,   2427.2,   0.8537,  34.7103,2,  34.7099,2,    207.2,2,  0.7007,    207.7,2,   114.76,2,    31.80,2,     0.00,2,     2.20,2, -999.000,9, -999.000,9, -999.000,5,-999.0000,5,  -999.00,9,   -157.7,2,     0.40,2,-999.000,9,   2256.7,2,   2354.1,2,     2.9, -999.00,-999.0000,-999.000,-999.000
     316N145_5,  I08S,    56,  1,     10, SIH013,2,19941221,1450,-53.5278,  87.0222, 4570,27200.8,   2731.0,   0.6106,  34.6977,2,  34.6973,2,    210.0,2,  0.4369,    211.3,2,   120.69,2,    32.28,2,     0.00,2,     2.23,2,    0.093,2,    0.043,2, -999.000,5,-999.0000,5,  -999.00,9,   -159.8,2,     0.44,2,-999.000,9,   2257.8,2,   2360.5,2,     4.2, -999.00,-999.0000,-999.000,-999.000
     316N145_5,  I08S,    56,  1,      9, SIH012,2,19941221,1450,-53.5278,  87.0222, 4570,30156.8,   3028.3,   0.4128,  34.6883,2,  34.6883,2,    215.3,2,  0.2176,    215.7,2,   124.33,2,    32.46,2,     0.00,2,     2.25,2, -999.000,9, -999.000,9, -999.000,5,-999.0000,5,  -999.00,9,   -158.4,2,     0.45,2,-999.000,9,   2256.9,2,   2354.2,2,     3.6, -999.00,-999.0000,-999.000,-999.000
     316N145_5,  I08S,    56,  1,      8, SIH010,2,19941221,1450,-53.5278,  87.0222, 4570,33303.8,   3344.8,   0.2196,  34.6813,2,  34.6812,2,    221.0,2,  0.0003,    221.8,2,   126.48,2,    32.53,2,     0.00,2,     2.25,2,    0.149,2,    0.071,2, -999.000,5,-999.0000,5,  -999.00,9,   -155.3,2,     0.46,2,-999.000,9,   2256.2,2,   2353.5,2,     3.0, -999.00,-999.0000,-999.000,-999.000
     316N145_5,  I08S,    56,  1,      7, SIH009,2,19941221,1450,-53.5278,  87.0222, 4570,36265.5,   3642.8,   0.1550,  34.6796,2,  34.6777,2,    224.0,2, -0.0905,    225.0,2,   126.81,2,    32.49,2,     0.00,2,     2.25,2, -999.000,9, -999.000,9, -999.000,5,-999.0000,5,  -999.00,9,   -153.3,2,     0.44,2,-999.000,9,   2255.3,2,   2358.3,2,     3.2, -999.00,-999.0000,-999.000,-999.000
     316N145_5,  I08S,    56,  1,      6, SIH038,2,19941221,1450,-53.5278,  87.0222, 4570,39333.0,   3951.3,   0.0788,  34.6762,2,  34.6749,2,    227.6,2, -0.1948,    228.2,2,   126.81,2,    32.45,2,     0.00,2,     2.24,2,    0.608,2,    0.298,2, -999.000,5,-999.0000,5,  -999.00,9,   -165.0,2,     0.44,2,-999.000,9,   2254.8,2,   2352.4,2,     3.6, -999.00,-999.0000,-999.000,-999.000
     316N145_5,  I08S,    56,  1,      5, SIH006,2,19941221,1450,-53.5278,  87.0222, 4570,41393.5,   4158.6,   0.0530,  34.6762,2,  34.6741,2,    229.1,2, -0.2408,    229.8,2,   127.48,2,    32.41,2,     0.00,2,     2.24,2, -999.000,9, -999.000,9, -999.000,5,-999.0000,5,  -999.00,9,   -151.4,2,     0.49,2,-999.000,9,   2254.5,2,   2352.8,2,     3.5, -999.00,-999.0000,-999.000,-999.000
     316N145_5,  I08S,    56,  1,      4, SIH004,2,19941221,1450,-53.5278,  87.0222, 4570,43429.1,   4363.4,   0.0308,  34.6740,2,  34.6728,2,    230.3,2, -0.2836,    231.2,2,   127.97,2,    32.43,2,     0.00,2,     2.24,2,    0.368,4,    0.173,4, -999.000,5,-999.0000,5,  -999.00,9,   -137.3,2,     0.50,2,-999.000,9,   2254.1,2,   2355.9,2,     3.0, -999.00,-999.0000,-999.000,-999.000
     316N145_5,  I08S,    56,  1,      3, SIH025,2,19941221,1450,-53.5278,  87.0222, 4570,45746.7,   4596.5,   0.0218,  34.6734,2,  34.6722,2,    231.8,2, -0.3172,    232.4,2,   128.47,2,    32.39,2,     0.00,2,     2.24,2, -999.000,9, -999.000,9, -999.000,5,-999.0000,5,  -999.00,9,   -135.5,2,     0.40,2,-999.000,9,   2252.6,2,   2349.6,2,     3.3, -999.00,-999.0000,-999.000,-999.000
     316N145_5,  I08S,    56,  1,      2, SIH001,2,19941221,1450,-53.5278,  87.0222, 4570,46801.8,   4702.6,   0.0324,  34.6735,2,  34.6724,2,    232.5,2, -0.3185,    232.4,2,   128.32,2,    32.35,2,     0.00,2,     2.24,2, -999.000,9, -999.000,9, -999.000,5,-999.0000,5,  -999.00,9,   -164.4,2,     0.47,2,-999.000,9,   2254.2,2,   2349.8,2,     5.6, -999.00,-999.0000,-999.000,-999.000
     316N145_5,  I08S,    56,  1,      1, SIH036,2,19941221,1450,-53.5278,  87.0222, 4570,47306.4,   4753.4,   0.0376,  34.6730,2,  34.6726,2,    232.7,2, -0.3190,    233.2,2,   128.58,2,    32.41,2,     0.00,2,     2.24,2,    0.843,2,    0.397,2, -999.000,5,-999.0000,5,  -999.00,9,   -159.2,2,     0.47,2,-999.000,9,   2255.2,6,   2355.3,2,     4.2, -999.00,-999.0000,-999.000,-999.000