BOTTLE,20090521WHPSIOdm
EXPOCODE,SECT_ID,STNNBR,CASTNO,SAMPNO,BTLNBR,BTLNBR_FLAG_W,DATE,TIME,LATITUDE,LONGITUDE,DEPTH,CTDRAW,CTDPRS,CTDTMP,CTDSAL,CTDSAL_FLAG_W,SALNTY,SALNTY_FLAG_W,CTDOXY,CTDOXY_FLAG_W,THETA,OXYGEN,OXYGEN_FLAG_W,SILCAT,SILCAT_FLAG_W,NITRAT,NITRAT_FLAG_W,NITRIT,NITRIT_FLAG_W,PHSPHT,PHSPHT_FLAG_W,CFC-11,CFC-11_FLAG_W,CFC-12,CFC-12_FLAG_W,TRITUM,TRITUM_FLAG_W,HELIUM,HELIUM_FLAG_W,DELHE3,DELHE3_FLAG_W,DELC14,DELC14_FLAG_W,DELC13,DELC13_FLAG_W,NEON,NEON_FLAG_W,TCARBN,TCARBN_FLAG_W,ALKALI,ALKALI_FLAG_W,C14ERR,DELHER,HELIER,NEONER,TRITER
,,,,,,,,,,,,,DBAR,IPTS-68,PSS-78,,PSS-78,,UMOL/KG,,IPTS-68,UMOL/KG,,UMOL/KG,,UMOL/KG,,UMOL/KG,,UMOL/KG,,PMOL/KG,,PMOL/KG,,TU,,NMOL/KG,,PERCNT,,/MILLE,,/MILLE,,NMOL/KG,,UMOL/KG,,UMOL/KG,,/MILLE,PERCNT,NMOL/KG,NMOL/KG,TU
     316N145_5,  I09S,    97,  1,     36, SIH035,2,19950105,0617,-59.2028, 115.0028, 4550,  209.8,     15.6,   1.6127,  33.9271,2,  33.9301,2,    349.5,2,  1.6120,    336.8,2,    17.51,2,    25.52,2,     0.25,2,     1.66,2,    6.541,2,    3.063,2,    0.132,2,   1.8010,2,    -1.41,2,   -999.0,9,  -999.00,9,   7.880,2,   -999.0,9,   -999.0,9,  -999.0,   60.23,  0.0050,   0.036,   0.007
     316N145_5,  I09S,    97,  1,     35, SIH032,2,19950105,0617,-59.2028, 115.0028, 4550,  360.4,     30.8,   1.6078,  33.9261,2,  33.9285,2,    341.5,2,  1.6064,    337.1,2,    17.51,2,    25.58,2,     0.25,2,     1.66,2, -999.000,9, -999.000,9, -999.000,5,-999.0000,5,  -999.00,9,   -999.0,9,  -999.00,9,-999.000,9,   -999.0,9,   -999.0,9,  -999.0, -999.00,-999.0000,-999.000,-999.000
     316N145_5,  I09S,    97,  1,     34, SIH029,2,19950105,0617,-59.2028, 115.0028, 4550,  623.0,     57.2,   1.6065,  33.9269,2,  33.9277,2,    345.8,2,  1.6038,    336.8,2,    17.82,2,    25.59,2,     0.25,2,     1.66,2,    6.463,6,    3.026,6,    0.193,2,-999.0000,5,  -999.00,9,   -999.0,9,  -999.00,9,-999.000,9,   -999.0,9,   -999.0,9,  -999.0, -999.00,-999.0000,-999.000,   0.007
     316N145_5,  I09S,    97,  1,     33, SIH026,2,19950105,0617,-59.2028, 115.0028, 4550,  872.4,     82.3,   0.9159,  33.9432,2,  33.9361,2,    341.2,2,  0.9124,    337.2,2,    21.73,2,    26.17,2,     0.23,2,     1.77,2, -999.000,9, -999.000,9, -999.000,5,-999.0000,5,  -999.00,9,   -999.0,9,  -999.00,9,-999.000,9,   -999.0,9,   -999.0,9,  -999.0, -999.00,-999.0000,-999.000,-999.000
     316N145_5,  I09S,    97,  1,     32, SIH023,2,19950105,0617,-59.2028, 115.0028, 4550, 1110.5,    106.2,   0.1628,  33.9581,2,  33.9641,2,    334.7,2,  0.1590,    332.7,2,    29.41,2,    27.78,2,     0.22,2,     1.94,2,    6.434,2,    2.983,2,    0.119,2,   1.8270,2,    -1.18,2,   -999.0,9,  -999.00,9,   8.008,2,   -999.0,9,   -999.0,9,  -999.0,   50.23,  0.0050,   0.036,   0.008
     316N145_5,  I09S,    97,  1,     31, SIH020,2,19950105,0617,-59.2028, 115.0028, 4550, 1606.7,    156.1,  -0.1324,  34.0422,2,  34.0398,2,    319.1,2, -0.1378,    316.1,2,    39.90,2,    29.42,2,     0.16,2,     2.02,2, -999.000,9, -999.000,9, -999.000,5,-999.0000,5,  -999.00,9,   -999.0,9,  -999.00,9,-999.000,9,   -999.0,9,   -999.0,9,  -999.0, -999.00,-999.0000,-999.000,-999.000
     316N145_5,  I09S,    97,  1,     30, SIH017,2,19950105,0617,-59.2028, 115.0028, 4550, 2114.7,    207.2,   1.7663,  34.3763,2,  34.3802,2,    201.9,2,  1.7557,    202.7,2,    61.80,2,    34.40,2,     0.01,2,     2.36,2,    1.949,2,    0.912,2,    0.063,2,   1.8220,2,     4.88,2,   -999.0,9,  -999.00,9,   7.963,2,   -999.0,9,   -999.0,9,  -999.0,    0.19,  0.0030,   0.060,   0.006
     316N145_5,  I09S,    97,  1,     29, SIH014,2,19950105,0617,-59.2028, 115.0028, 4550, 2616.4,    257.7,   1.9803,  34.4558,2,  34.4563,2,    180.9,2,  1.9665,    185.5,2,    67.90,2,    34.75,2,     0.01,2,     2.37,2, -999.000,9, -999.000,9, -999.000,5,-999.0000,5,  -999.00,9,   -999.0,9,  -999.00,9,-999.000,9,   -999.0,9,   -999.0,9,  -999.0, -999.00,-999.0000,-999.000,-999.000
     316N145_5,  I09S,    97,  1,     28, SIH011,2,19950105,0617,-59.2028, 115.0028, 4550, 3106.3,    307.0,   2.0754,  34.5070,2,  34.5080,2,    174.5,2,  2.0585,    178.6,2,    71.34,2,    34.69,2,     0.01,2,     2.37,2,    0.927,2,    0.430,2,    0.189,4,   1.8610,2,     6.60,2,   -999.0,9,  -999.00,9,   8.000,2,   -999.0,9,   -999.0,9,  -999.0,    0.23,  0.0050,   0.036,   0.007
     316N145_5,  I09S,    97,  1,     27, SIH008,2,19950105,0617,-59.2028, 115.0028, 4550, 3624.4,    359.1,   2.1271,  34.5587,2,  34.5602,2,    172.2,2,  2.1071,    174.1,2,    74.32,2,    34.33,2,     0.01,2,     2.34,2, -999.000,9, -999.000,9, -999.000,5,-999.0000,5,  -999.00,9,   -999.0,9,  -999.00,9,-999.000,9,   -999.0,9,   -999.0,9,  -999.0, -999.00,-999.0000,-999.000,-999.000
     316N145_5,  I09S,    97,  1,     26, SIH005,2,19950105,0617,-59.2028, 115.0028, 4550, 4100.0,    406.9,   2.1612,  34.5902,2,  34.5930,2,    169.9,2,  2.1381,    172.7,2,    75.89,2,    33.98,2,     0.00,2,     2.31,2, -999.000,9, -999.000,9, -999.000,5,-999.0000,5,  -999.00,9,   -999.0,9,  -999.00,9,-999.000,9,   -999.0,9,   -999.0,9,  -999.0, -999.00,-999.0000,-999.000,-999.000
     316N145_5,  I09S,    97,  1,     25, SIH019,2,19950105,0617,-59.2028, 115.0028, 4550, 4601.3,    457.4,   2.1587,  34.6192,2,  34.6172,2,    170.4,2,  2.1326,    173.1,2,    77.30,2,    33.61,2,     0.00,2,     2.28,2,    0.394,2,    0.181,2,    0.053,2,-999.0000,5,  -999.00,9,   -999.0,9,  -999.00,9,-999.000,9,   -999.0,9,   -999.0,9,  -999.0, -999.00,-999.0000,-999.000,   0.006
     316N145_5,  I09S,    97,  1,     24, SIH037,2,19950105,0617,-59.2028, 115.0028, 4550, 5102.4,    507.8,   2.1485,  34.6400,2,  34.6419,2,    171.7,2,  2.1193,    174.0,2,    77.93,2,    33.21,2,     0.00,2,     2.26,2, -999.000,9, -999.000,9, -999.000,5,-999.0000,5,  -999.00,9,   -999.0,9,  -999.00,9,-999.000,9,   -999.0,9,   -999.0,9,  -999.0, -999.00,-999.0000,-999.000,-999.000
     316N145_5,  I09S,    97,  1,     23, SIH033,2,19950105,0617,-59.2028, 115.0028, 4550, 6095.2,    607.6,   2.1017,  34.6674,2,  34.6683,2,    174.1,2,  2.0665,    177.3,2,    79.65,2,    32.60,2,     0.00,2,     2.22,2,    0.281,2,    0.129,2,    0.014,2,   1.8760,2,     8.79,2,   -999.0,9,  -999.00,9,   8.007,2,   -999.0,9,   -999.0,9,  -999.0,    0.23,  0.0050,   0.037,   0.006
     316N145_5,  I09S,    97,  1,     22, SIH031,2,19950105,0617,-59.2028, 115.0028, 4550, 7105.2,    709.2,   2.0692,  34.6975,2,  34.6991,2,    180.1,2,  2.0277,    181.3,2,    80.91,2,    31.89,2,     0.00,2,     2.17,2, -999.000,9, -999.000,9, -999.000,5,-999.0000,5,  -999.00,9,   -999.0,9,  -999.00,9,-999.000,9,   -999.0,9,   -999.0,9,  -999.0, -999.00,-999.0000,-999.000,-999.000
     316N145_5,  I09S,    97,  1,     21, SIH030,2,19950105,0617,-59.2028, 115.0028, 4550, 8139.5,    813.2,   2.0084,  34.7158,2,  34.7176,2,    181.5,2,  1.9605,    184.2,2,    82.64,2,    31.38,2,     0.00,2,     2.14,2,    0.159,2,    0.082,2,    0.057,4,-999.0000,5,  -999.00,9,   -999.0,9,  -999.00,9,-999.000,9,   -999.0,9,   -999.0,9,  -999.0, -999.00,-999.0000,-999.000,   0.016
     316N145_5,  I09S,    97,  1,     20, SIH028,2,19950105,0617,-59.2028, 115.0028, 4550, 9124.9,    912.4,   1.9537,  34.7289,2,  34.7311,2,    185.7,2,  1.8996,    188.4,2,    84.05,2,    31.02,2,     0.01,2,     2.11,2, -999.000,9, -999.000,9, -999.000,5,-999.0000,5,  -999.00,9,   -999.0,9,  -999.00,9,-999.000,9,   -999.0,9,   -999.0,9,  -999.0, -999.00,-999.0000,-999.000,-999.000
     316N145_5,  I09S,    97,  1,     19, SIH027,2,19950105,0617,-59.2028, 115.0028, 4550,10114.5,   1011.9,   1.8970,  34.7368,2,  34.7360,2,    188.8,2,  1.8365,    191.0,2,    85.62,2,    30.74,2,     0.00,2,     2.09,2,    0.113,2,    0.055,2,   -0.006,4,   1.8720,2,     9.28,2,   -999.0,9,  -999.00,9,   8.100,2,   -999.0,9,   -999.0,9,  -999.0,    0.20,  0.0040,   0.034,   0.007
     316N145_5,  I09S,    97,  1,     18, SIH003,2,19950105,0617,-59.2028, 115.0028, 4550,11139.6,   1115.0,   1.8182,  34.7414,2,  34.7433,2,    191.9,2,  1.7513,    193.1,2,    87.35,2,    30.68,2,     0.00,2,     2.08,2, -999.000,9, -999.000,9, -999.000,5,-999.0000,5,  -999.00,9,   -999.0,9,  -999.00,9,-999.000,9,   -999.0,9,   -999.0,9,  -999.0, -999.00,-999.0000,-999.000,-999.000
     316N145_5,  I09S,    97,  1,     17, SIH024,2,19950105,0617,-59.2028, 115.0028, 4550,12150.5,   1216.7,   1.7496,  34.7430,2,  34.7459,2,    192.3,2,  1.6763,    194.6,2,    90.18,2,    30.53,2,     0.00,2,     2.07,2,    0.094,2,    0.055,2,    0.149,4,-999.0000,5,  -999.00,9,   -999.0,9,  -999.00,9,-999.000,9,   -999.0,9,   -999.0,9,  -999.0, -999.00,-999.0000,-999.000,   0.008
     316N145_5,  I09S,    97,  1,     16, SIH022,2,19950105,0617,-59.2028, 115.0028, 4550,14179.4,   1420.8,   1.5573,  34.7405,2,  34.7400,2,    197.6,2,  1.4716,    199.9,2,    97.62,2,    30.68,2,     0.00,2,     2.08,2,    0.101,2,    0.048,2,    0.096,4,   1.8750,2,     8.66,2,   -999.0,9,  -999.00,9,   8.104,2,   -999.0,9,   -999.0,9,  -999.0,    0.16,  0.0040,   0.026,   0.006
     316N145_5,  I09S,    97,  1,     15, SIH021,2,19950105,0617,-59.2028, 115.0028, 4550,16169.0,   1620.9,   1.3771,  34.7361,2,  34.7368,2,    200.1,2,  1.2789,    200.8,2,    99.98,2,    30.83,2,     0.00,2,     2.09,2,    0.097,2,    0.042,2,   -0.060,4,-999.0000,5,  -999.00,9,   -999.0,9,  -999.00,9,-999.000,9,   -999.0,9,   -999.0,9,  -999.0, -999.00,-999.0000,-999.000,   0.011
     316N145_5,  I09S,    97,  1,     14, SIH002,2,19950105,0617,-59.2028, 115.0028, 4550,18174.6,   1822.6,   1.1966,  34.7285,2,  34.7284,2,    200.3,2,  1.0858,    202.7,2,   104.91,2,    31.07,2,     0.00,2,     2.12,2,    0.084,2,    0.039,2,    0.003,4,   1.8850,2,     8.66,2,   -999.0,9,  -999.00,9,   8.158,2,   -999.0,9,   -999.0,9,  -999.0,    0.20,  0.0050,   0.034,   0.005
     316N145_5,  I09S,    97,  1,     13, SIH018,2,19950105,0617,-59.2028, 115.0028, 4550,20186.4,   2025.0,   1.0351,  34.7207,2,  34.7195,2,    200.4,2,  0.9112,    204.5,2,   109.31,2,    31.41,2,     0.00,2,     2.14,2,    0.090,2,    0.041,2,    0.019,4,-999.0000,5,  -999.00,9,   -999.0,9,  -999.00,9,-999.000,9,   -999.0,9,   -999.0,9,  -999.0, -999.00,-999.0000,-999.000,   0.006
     316N145_5,  I09S,    97,  1,     12, SIH016,2,19950105,0617,-59.2028, 115.0028, 4550,22247.5,   2232.3,   0.8779,  34.7113,2,  34.7121,2,    203.8,2,  0.7403,    206.5,2,   113.86,2,    31.71,2,     0.00,2,     2.16,2, -999.000,9, -999.000,9, -999.000,5,-999.0000,5,  -999.00,9,   -999.0,9,  -999.00,9,-999.000,9,   -999.0,9,   -999.0,9,  -999.0, -999.00,-999.0000,-999.000,-999.000
     316N145_5,  I09S,    97,  1,     11, SIH015,2,19950105,0617,-59.2028, 115.0028, 4550,24302.9,   2439.1,   0.7117,  34.7023,2,  34.7085,3,    205.6,2,  0.5604,    208.2,2,   118.41,2,    32.00,2,     0.00,2,     2.18,2,    0.099,2,    0.053,2,    0.186,4,   1.8820,2,     7.64,2,   -999.0,9,  -999.00,9,   8.179,2,   -999.0,9,   -999.0,9,  -999.0,    0.20,  0.0040,   0.034,   0.006
     316N145_5,  I09S,    97,  1,     10, SIH013,2,19950105,0617,-59.2028, 115.0028, 4550,27317.0,   2742.2,   0.5103,  34.6935,2,  34.6934,2,    207.0,2,  0.3378,    212.2,2,   123.28,2,    32.24,2,     0.00,2,     2.20,2,    0.119,2,    0.062,2,    0.157,4,   1.8990,2,     8.06,2,   -999.0,9,  -999.00,9,   8.230,2,   -999.0,9,   -999.0,9,  -999.0,    0.17,  0.0030,   0.093,   0.005
     316N145_5,  I09S,    97,  1,      9, SIH012,2,19950105,0617,-59.2028, 115.0028, 4550,30406.8,   3053.0,   0.3403,  34.6871,2,  34.6871,2,    212.9,2,  0.1445,    217.6,2,   126.73,2,    32.28,2,     0.00,2,     2.21,2,    0.177,2,    0.086,2,    0.279,4,   1.8830,2,     7.50,2,   -999.0,9,  -999.00,9,   8.228,2,   -999.0,9,   -999.0,9,  -999.0,    0.20,  0.0040,   0.034,   0.006
     316N145_5,  I09S,    97,  1,      8, SIH010,2,19950105,0617,-59.2028, 115.0028, 4550,33476.7,   3361.8,   0.2177,  34.6830,2,  34.6828,2,    217.0,2, -0.0030,    221.6,2,   128.93,2,    32.23,2,     0.00,2,     2.21,2,    0.255,2,    0.127,2,    0.217,4,   1.9310,3,     6.76,2,   -999.0,9,  -999.00,9,   8.389,3,   -999.0,9,   -999.0,9,  -999.0,    0.12,  0.0030,   0.040,   0.005
     316N145_5,  I09S,    97,  1,      7, SIH009,2,19950105,0617,-59.2028, 115.0028, 4550,36513.9,   3667.3,   0.1180,  34.6794,2,  34.6798,2,    221.2,2, -0.1289,    225.3,2,   131.14,2,    32.23,2,     0.00,2,     2.21,2,    0.345,2,    0.167,2,    0.027,4,   1.8970,2,     6.41,2,   -999.0,9,  -999.00,9,   8.215,2,   -999.0,9,   -999.0,9,  -999.0,    0.20,  0.0040,   0.034,   0.005
     316N145_5,  I09S,    97,  1,      6, SIH038,2,19950105,0617,-59.2028, 115.0028, 4550,38544.4,   3871.6,   0.0515,  34.6766,2,  34.6767,2,    225.8,2, -0.2134,    228.8,2,   129.42,2,    32.12,2,     0.00,2,     2.20,2, -999.000,9, -999.000,9, -999.000,5,-999.0000,5,  -999.00,9,   -999.0,9,  -999.00,9,-999.000,9,   -999.0,9,   -999.0,9,  -999.0, -999.00,-999.0000,-999.000,-999.000
     316N145_5,  I09S,    97,  1,      5, SIH006,2,19950105,0617,-59.2028, 115.0028, 4550,40561.3,   4074.5,   0.0022,  34.6751,2,  34.6753,2,    227.9,2, -0.2815,    231.2,2,   129.43,2,    32.11,2,     0.00,2,     2.20,2,    0.575,2,    0.267,2,    0.050,4,   1.9070,2,     6.08,2,   -999.0,9,  -999.00,9,   8.328,2,   -999.0,9,   -999.0,9,  -999.0,    0.12,  0.0040,   0.052,   0.006
     316N145_5,  I09S,    97,  1,      4, SIH004,2,19950105,0617,-59.2028, 115.0028, 4550,42684.6,   4288.1,  -0.0400,  34.6740,2,  34.6734,2,    232.4,2, -0.3444,    233.3,2,   129.28,2,    32.06,2,     0.00,2,     2.20,2,    0.798,2,    0.369,2,    0.052,4,   1.8980,2,     6.14,2,   -999.0,9,  -999.00,9,   8.297,2,   -999.0,9,   -999.0,9,  -999.0,    0.20,  0.0040,   0.034,   0.004
     316N145_5,  I09S,    97,  1,      3, SIH025,2,19950105,0617,-59.2028, 115.0028, 4550,44558.4,   4476.5,  -0.0710,  34.6732,2,  34.6708,2,    236.1,2, -0.3941,    235.1,2,   128.03,2,    32.00,2,     0.00,2,     2.20,2,    0.991,2,    0.456,2,   -0.014,4,   1.9300,3,     5.76,2,   -999.0,9,  -999.00,9,   8.417,3,   -999.0,9,   -999.0,9,  -999.0,    0.12,  0.0030,   0.037,   0.004
     316N145_5,  I09S,    97,  1,      2, SIH001,2,19950105,0617,-59.2028, 115.0028, 4550,45259.2,   4547.0,  -0.0893,  34.6720,2,  34.6704,2,    235.2,2, -0.4193,    235.8,2,   130.09,2,    31.94,2,     0.00,2,     2.20,2,    1.127,2,    0.518,2,    0.072,4,   1.8890,2,     5.82,2,   -999.0,9,  -999.00,9,   8.226,2,   -999.0,9,   -999.0,9,  -999.0,    0.20,  0.0040,   0.034,   0.005
     316N145_5,  I09S,    97,  1,      1, SIH036,2,19950105,0617,-59.2028, 115.0028, 4550,45774.7,   4598.9,  -0.1062,  34.6700,2,  34.6694,2,    235.9,2, -0.4413,    236.3,2,   133.70,2,    31.91,2,     0.00,2,     2.19,2,    1.283,2,    0.592,2,    0.168,4,   1.6810,4,     5.86,2,   -999.0,9,  -999.00,9,   7.074,4,   -999.0,9,   -999.0,9,  -999.0,    0.13,  0.0030,   0.032,   0.005