BOTTLE,20090521WHPSIOdm
EXPOCODE,SECT_ID,STNNBR,CASTNO,SAMPNO,BTLNBR,BTLNBR_FLAG_W,DATE,TIME,LATITUDE,LONGITUDE,DEPTH,CTDRAW,CTDPRS,CTDTMP,CTDSAL,CTDSAL_FLAG_W,SALNTY,SALNTY_FLAG_W,CTDOXY,CTDOXY_FLAG_W,THETA,OXYGEN,OXYGEN_FLAG_W,SILCAT,SILCAT_FLAG_W,NITRAT,NITRAT_FLAG_W,NITRIT,NITRIT_FLAG_W,PHSPHT,PHSPHT_FLAG_W,CFC-11,CFC-11_FLAG_W,CFC-12,CFC-12_FLAG_W,TRITUM,TRITUM_FLAG_W,HELIUM,HELIUM_FLAG_W,DELHE3,DELHE3_FLAG_W,DELC14,DELC14_FLAG_W,DELC13,DELC13_FLAG_W,NEON,NEON_FLAG_W,TCARBN,TCARBN_FLAG_W,ALKALI,ALKALI_FLAG_W,C14ERR,DELHER,HELIER,NEONER,TRITER
,,,,,,,,,,,,,DBAR,IPTS-68,PSS-78,,PSS-78,,UMOL/KG,,IPTS-68,UMOL/KG,,UMOL/KG,,UMOL/KG,,UMOL/KG,,UMOL/KG,,PMOL/KG,,PMOL/KG,,TU,,NMOL/KG,,PERCNT,,/MILLE,,/MILLE,,NMOL/KG,,UMOL/KG,,UMOL/KG,,/MILLE,PERCNT,NMOL/KG,NMOL/KG,TU
     316N145_5,  I08S,    58,  1,     36, SIH035,2,19941222,0428,-54.3667,  86.1417, 4725,  165.5,     11.6,   1.8611,  34.0164,2,  34.0194,2,    351.9,2,  1.8605,    334.3,2,    12.55,2,    24.41,2,     0.21,2,     1.60,2,    5.928,2,    2.821,2, -999.000,5,-999.0000,5,  -999.00,9,   -999.0,9,  -999.00,9,-999.000,9,   2141.4,6,   2293.4,2,  -999.0, -999.00,-999.0000,-999.000,-999.000
     316N145_5,  I08S,    58,  1,     35, SIH032,2,19941222,0428,-54.3667,  86.1417, 4725,  362.3,     31.4,   1.8382,  34.0174,2,  34.0215,2,    342.0,2,  1.8367,    334.0,2,    12.72,2,    24.51,2,     0.21,2,     1.60,2,    5.917,2,    2.821,2, -999.000,5,-999.0000,5,  -999.00,9,   -999.0,9,  -999.00,9,-999.000,9,   2142.2,2,   2286.2,2,  -999.0, -999.00,-999.0000,-999.000,-999.000
     316N145_5,  I08S,    58,  1,     34, SIH029,2,19941222,0428,-54.3667,  86.1417, 4725,  625.5,     57.8,   1.8287,  34.0169,2,  34.0202,2,    335.5,2,  1.8258,    332.9,2,    12.89,2,    24.62,2,     0.21,2,     1.61,2, -999.000,9, -999.000,9, -999.000,5,-999.0000,5,  -999.00,9,   -999.0,9,  -999.00,9,-999.000,9,   2143.1,2,   2286.9,2,  -999.0, -999.00,-999.0000,-999.000,-999.000
     316N145_5,  I08S,    58,  1,     33, SIH026,2,19941222,0428,-54.3667,  86.1417, 4725,  873.5,     82.8,   1.8258,  34.0192,2,  34.0215,2,    333.3,2,  1.8217,    333.3,2,    13.06,2,    24.61,2,     0.21,2,     1.61,2,    5.989,2,    2.850,2, -999.000,5,-999.0000,5,  -999.00,9,   -999.0,9,  -999.00,9,-999.000,9,   2144.4,2,   2291.8,2,  -999.0, -999.00,-999.0000,-999.000,-999.000
     316N145_5,  I08S,    58,  1,     32, SIH023,2,19941222,0428,-54.3667,  86.1417, 4725, 1108.9,    106.5,   1.8202,  34.0216,2,  34.0262,2,    333.0,2,  1.8149,    333.0,2,    13.57,2,    24.67,2,     0.21,2,     1.61,2, -999.000,9, -999.000,9, -999.000,5,-999.0000,5,  -999.00,9,   -999.0,9,  -999.00,9,-999.000,9,   2145.3,2,   2293.2,2,  -999.0, -999.00,-999.0000,-999.000,-999.000
     316N145_5,  I08S,    58,  1,     31, SIH020,2,19941222,0428,-54.3667,  86.1417, 4725, 1603.9,    156.3,   0.9445,  34.0955,2,  34.0925,2,    325.9,2,  0.9377,    305.0,2,    36.49,2,    29.01,2,     0.18,2,     2.07,2,    5.307,2,    2.527,2, -999.000,5,-999.0000,5,  -999.00,9,   -999.0,9,  -999.00,9,-999.000,9,   2180.0,2,   2308.4,2,  -999.0, -999.00,-999.0000,-999.000,-999.000
     316N145_5,  I08S,    58,  1,     30, SIH017,2,19941222,0428,-54.3667,  86.1417, 4725, 2102.5,    206.4,   0.9619,  34.1934,2,  34.1964,2,    283.5,2,  0.9527,    274.6,2,    48.46,2,    31.52,2,     0.17,2,     2.20,2, -999.000,9, -999.000,9, -999.000,5,-999.0000,5,  -999.00,9,   -999.0,9,  -999.00,9,-999.000,9,   2199.8,2,   -999.0,9,  -999.0, -999.00,-999.0000,-999.000,-999.000
     316N145_5,  I08S,    58,  1,     29, SIH014,2,19941222,0428,-54.3667,  86.1417, 4725, 2614.5,    257.9,   1.1969,  34.2777,2,  34.2707,2,    245.1,2,  1.1848,    251.7,2,    55.10,2,    32.78,2,     0.15,2,     2.27,2,    3.425,2,    1.639,2, -999.000,5,-999.0000,5,  -999.00,9,   -999.0,9,  -999.00,9,-999.000,9,   2213.9,2,   2306.4,2,  -999.0, -999.00,-999.0000,-999.000,-999.000
     316N145_5,  I08S,    58,  1,     28, SIH011,2,19941222,0428,-54.3667,  86.1417, 4725, 3112.7,    308.0,   1.5031,  34.3444,2,  34.3421,2,    208.3,2,  1.4877,    228.2,2,    60.25,2,    33.62,2,     0.09,2,     2.32,2,    2.666,2,    1.262,2, -999.000,5,-999.0000,5,  -999.00,9,   -999.0,9,  -999.00,9,-999.000,9,   2223.7,2,   2323.1,2,  -999.0, -999.00,-999.0000,-999.000,-999.000
     316N145_5,  I08S,    58,  1,     27, SIH008,9,19941222,0428,-54.3667,  86.1417, 4725, 3602.7,    357.3,   1.6551,  34.4047,3,-999.0000,9,    199.2,3,  1.6366,   -999.0,9,  -999.00,9,  -999.00,9,  -999.00,9,  -999.00,9, -999.000,9, -999.000,9, -999.000,5,-999.0000,5,  -999.00,9,   -999.0,9,  -999.00,9,-999.000,9,   -999.0,9,   -999.0,9,  -999.0, -999.00,-999.0000,-999.000,-999.000
     316N145_5,  I08S,    58,  1,     26, SIH005,2,19941222,0428,-54.3667,  86.1417, 4725, 4111.6,    408.5,   1.9656,  34.5054,2,  34.5068,2,    185.8,2,  1.9432,    189.2,2,    71.21,2,    34.25,2,     0.02,2,     2.36,2, -999.000,9, -999.000,9, -999.000,5,-999.0000,5,  -999.00,9,   -999.0,9,  -999.00,9,-999.000,9,   2239.3,2,   -999.0,9,  -999.0, -999.00,-999.0000,-999.000,-999.000
     316N145_5,  I08S,    58,  1,     25, SIH019,2,19941222,0428,-54.3667,  86.1417, 4725, 4604.0,    458.0,   2.0634,  34.5606,2,  34.5624,2,    182.0,2,  2.0377,    181.6,2,    74.20,2,    34.00,2,     0.02,2,     2.34,2,    0.762,2,    0.361,2, -999.000,5,-999.0000,5,  -999.00,9,   -999.0,9,  -999.00,9,-999.000,9,   2247.3,2,   2330.2,2,  -999.0, -999.00,-999.0000,-999.000,-999.000
     316N145_5,  I08S,    58,  1,     24, SIH037,2,19941222,0428,-54.3667,  86.1417, 4725, 5113.5,    509.3,   2.1157,  34.6016,2,  34.6038,2,    180.1,2,  2.0866,    179.1,2,    76.37,2,    33.59,2,     0.01,2,     2.31,2, -999.000,9, -999.000,9, -999.000,5,-999.0000,5,  -999.00,9,   -999.0,9,  -999.00,9,-999.000,9,   2249.4,2,   2344.6,3,  -999.0, -999.00,-999.0000,-999.000,-999.000
     316N145_5,  I08S,    58,  1,     23, SIH033,2,19941222,0428,-54.3667,  86.1417, 4725, 6128.5,    611.4,   2.0960,  34.6556,2,  34.6576,2,    177.5,2,  2.0606,    180.3,2,    78.86,2,    32.74,2,     0.01,2,     2.25,2,    0.364,2,    0.170,2, -999.000,5,-999.0000,5,  -999.00,9,   -999.0,9,  -999.00,9,-999.000,9,   2248.0,2,   2337.6,2,  -999.0, -999.00,-999.0000,-999.000,-999.000
     316N145_5,  I08S,    58,  1,     22, SIH031,2,19941222,0428,-54.3667,  86.1417, 4725, 7103.0,    709.4,   2.0644,  34.6855,2,  34.6861,2,    183.2,2,  2.0229,    182.8,2,    80.20,2,    32.07,2,     0.01,2,     2.21,2, -999.000,9, -999.000,9, -999.000,5,-999.0000,5,  -999.00,9,   -999.0,9,  -999.00,9,-999.000,9,   2247.9,2,   2339.1,2,  -999.0, -999.00,-999.0000,-999.000,-999.000
     316N145_5,  I08S,    58,  1,     21, SIH030,2,19941222,0428,-54.3667,  86.1417, 4725, 8113.3,    811.0,   1.8397,  34.6808,2,  34.6820,2,    187.3,2,  1.7930,    186.0,2,    82.69,2,    32.23,2,     0.01,2,     2.22,2,    0.458,2,    0.208,2, -999.000,5,-999.0000,5,  -999.00,9,   -999.0,9,  -999.00,9,-999.000,9,   2249.6,2,   2343.7,2,  -999.0, -999.00,-999.0000,-999.000,-999.000
     316N145_5,  I08S,    58,  1,     20, SIH028,2,19941222,0428,-54.3667,  86.1417, 4725, 9119.8,    912.2,   1.8164,  34.7107,2,  34.7119,2,    189.8,2,  1.7633,    189.2,2,    85.02,2,    31.49,2,     0.01,2,     2.17,2, -999.000,9, -999.000,9, -999.000,5,-999.0000,5,  -999.00,9,   -999.0,9,  -999.00,9,-999.000,9,   2248.4,2,   2350.9,2,  -999.0, -999.00,-999.0000,-999.000,-999.000
     316N145_5,  I08S,    58,  1,     19, SIH027,2,19941222,0428,-54.3667,  86.1417, 4725,10111.7,   1012.0,   1.8516,  34.7323,2,  34.7337,2,    192.4,2,  1.7915,    192.5,2,    85.36,2,    30.88,2,     0.00,2,     2.13,2,    0.186,2,    0.089,2, -999.000,5,-999.0000,5,  -999.00,9,   -999.0,9,  -999.00,9,-999.000,9,   2245.0,2,   2344.8,2,  -999.0, -999.00,-999.0000,-999.000,-999.000
     316N145_5,  I08S,    58,  1,     18, SIH003,2,19941222,0428,-54.3667,  86.1417, 4725,11112.7,   1112.7,   1.7595,  34.7353,2,  34.7362,2,    197.0,2,  1.6933,    194.4,2,    87.69,2,    30.76,2,     0.01,2,     2.12,2, -999.000,9, -999.000,9, -999.000,5,-999.0000,5,  -999.00,9,   -999.0,9,  -999.00,9,-999.000,9,   2246.3,6,   2356.4,2,  -999.0, -999.00,-999.0000,-999.000,-999.000
     316N145_5,  I08S,    58,  1,     17, SIH024,2,19941222,0428,-54.3667,  86.1417, 4725,12114.2,   1213.4,   1.7413,  34.7489,2,  34.7508,2,    197.8,2,  1.6683,    198.3,2,    89.19,2,    30.25,2,     0.00,2,     2.08,2,    0.090,2,    0.042,2, -999.000,5,-999.0000,5,  -999.00,9,   -999.0,9,  -999.00,9,-999.000,9,   2244.0,2,   2348.4,2,  -999.0, -999.00,-999.0000,-999.000,-999.000
     316N145_5,  I08S,    58,  1,     16, SIH022,2,19941222,0428,-54.3667,  86.1417, 4725,14126.8,   1415.9,   1.5831,  34.7445,2,  34.7467,2,    200.5,2,  1.4974,    200.6,2,    93.68,2,    30.45,2,     0.00,2,     2.10,2, -999.000,9, -999.000,9, -999.000,5,-999.0000,5,  -999.00,9,   -999.0,9,  -999.00,9,-999.000,9,   2245.9,2,   2347.0,2,  -999.0, -999.00,-999.0000,-999.000,-999.000
     316N145_5,  I08S,    58,  1,     15, SIH021,2,19941222,0428,-54.3667,  86.1417, 4725,16144.1,   1618.8,   1.3704,  34.7379,2,  34.7378,2,    203.3,2,  1.2725,    202.2,2,    99.33,2,    30.71,2,     0.00,2,     2.12,2,    0.115,2,    0.059,2, -999.000,5,-999.0000,5,  -999.00,9,   -999.0,9,  -999.00,9,-999.000,9,   2248.7,2,   2360.3,2,  -999.0, -999.00,-999.0000,-999.000,-999.000
     316N145_5,  I08S,    58,  1,     14, SIH002,2,19941222,0428,-54.3667,  86.1417, 4725,18147.5,   1820.3,   1.1699,  34.7293,2,  34.7288,2,    204.5,2,  1.0596,    204.7,2,   105.15,2,    31.08,2,     0.00,2,     2.14,2, -999.000,9, -999.000,9, -999.000,5,-999.0000,5,  -999.00,9,   -999.0,9,  -999.00,9,-999.000,9,   2251.6,2,   2354.7,2,  -999.0, -999.00,-999.0000,-999.000,-999.000
     316N145_5,  I08S,    58,  1,     13, SIH018,2,19941222,0428,-54.3667,  86.1417, 4725,20153.8,   2022.1,   1.0275,  34.7207,2,  34.7205,2,    205.7,2,  0.9040,    206.0,2,   109.30,2,    31.38,2,     0.00,2,     2.17,2,    0.113,2,    0.053,2, -999.000,5,-999.0000,5,  -999.00,9,   -999.0,9,  -999.00,9,-999.000,9,   2252.3,2,   2366.9,3,  -999.0, -999.00,-999.0000,-999.000,-999.000
     316N145_5,  I08S,    58,  1,     12, SIH016,2,19941222,0428,-54.3667,  86.1417, 4725,22181.7,   2226.1,   0.8410,  34.7101,2,  34.7107,2,    208.9,2,  0.7045,    208.2,2,   114.79,2,    31.76,2,     0.00,2,     2.20,2, -999.000,9, -999.000,9, -999.000,5,-999.0000,5,  -999.00,9,   -999.0,9,  -999.00,9,-999.000,9,   2254.4,2,   2357.0,2,  -999.0, -999.00,-999.0000,-999.000,-999.000
     316N145_5,  I08S,    58,  1,     11, SIH015,2,19941222,0428,-54.3667,  86.1417, 4725,24230.2,   2432.1,   0.7062,  34.7039,2,  34.7028,2,    210.5,2,  0.5555,    209.7,2,   118.61,2,    32.01,2,     0.00,2,     2.21,2,    0.124,2,    0.061,2, -999.000,5,-999.0000,5,  -999.00,9,   -999.0,9,  -999.00,9,-999.000,9,   2257.0,2,   2354.4,2,  -999.0, -999.00,-999.0000,-999.000,-999.000
     316N145_5,  I08S,    58,  1,     10, SIH013,2,19941222,0428,-54.3667,  86.1417, 4725,27229.1,   2733.8,   0.5854,  34.6968,2,  34.6965,2,    212.3,2,  0.4120,    212.2,2,   121.61,2,    32.22,2,     0.00,2,     2.23,2, -999.000,9, -999.000,9, -999.000,5,-999.0000,5,  -999.00,9,   -999.0,9,  -999.00,9,-999.000,9,   2255.0,2,   2368.3,3,  -999.0, -999.00,-999.0000,-999.000,-999.000
     316N145_5,  I08S,    58,  1,      9, SIH012,2,19941222,0428,-54.3667,  86.1417, 4725,30290.6,   3041.8,   0.3507,  34.6871,2,  34.6861,2,    218.4,2,  0.1557,    217.5,2,   125.27,2,    32.37,2,     0.00,2,     2.24,2,    0.256,2,    0.120,2, -999.000,5,-999.0000,5,  -999.00,9,   -999.0,9,  -999.00,9,-999.000,9,   2255.9,2,   2349.1,2,  -999.0, -999.00,-999.0000,-999.000,-999.000
     316N145_5,  I08S,    58,  1,      8, SIH010,2,19941222,0428,-54.3667,  86.1417, 4725,33299.9,   3344.5,   0.2421,  34.6834,2,  34.6859,3,    221.3,2,  0.0223,    221.6,2,   126.77,2,    32.37,2,     0.00,2,     2.24,2, -999.000,9, -999.000,9, -999.000,5,-999.0000,5,  -999.00,9,   -999.0,9,  -999.00,9,-999.000,9,   2255.1,2,   2352.1,2,  -999.0, -999.00,-999.0000,-999.000,-999.000
     316N145_5,  I08S,    58,  1,      7, SIH009,2,19941222,0428,-54.3667,  86.1417, 4725,36350.3,   3651.3,   0.1171,  34.6794,2,  34.6779,2,    225.9,2, -0.1282,    226.6,2,   127.10,2,    32.31,2,     0.00,2,     2.24,2, -999.000,9, -999.000,9, -999.000,5,-999.0000,5,  -999.00,9,   -999.0,9,  -999.00,9,-999.000,9,   2253.4,2,   2365.6,3,  -999.0, -999.00,-999.0000,-999.000,-999.000
     316N145_5,  I08S,    58,  1,      6, SIH038,2,19941222,0428,-54.3667,  86.1417, 4725,39404.0,   3958.5,   0.0632,  34.6766,2,  34.6759,2,    229.4,2, -0.2107,    229.3,2,   127.11,2,    32.26,2,     0.00,2,     2.24,2,    0.624,2,    0.302,2, -999.000,5,-999.0000,5,  -999.00,9,   -999.0,9,  -999.00,9,-999.000,9,   2253.6,2,   -999.0,9,  -999.0, -999.00,-999.0000,-999.000,-999.000
     316N145_5,  I08S,    58,  1,      5, SIH006,2,19941222,0428,-54.3667,  86.1417, 4725,41441.6,   4163.4,   0.0126,  34.6751,2,  34.6730,2,    231.7,2, -0.2805,    231.3,2,   127.62,2,    32.21,2,     0.00,2,     2.24,2, -999.000,9, -999.000,9, -999.000,5,-999.0000,5,  -999.00,9,   -999.0,9,  -999.00,9,-999.000,9,   2253.9,2,   2353.4,2,  -999.0, -999.00,-999.0000,-999.000,-999.000
     316N145_5,  I08S,    58,  1,      4, SIH004,2,19941222,0428,-54.3667,  86.1417, 4725,43490.6,   4369.5,  -0.0140,  34.6732,2,  34.6734,2,    233.1,2, -0.3276,    232.7,2,   127.46,2,    32.26,2,     0.00,2,     2.23,2,    0.878,2,    0.407,2, -999.000,5,-999.0000,5,  -999.00,9,   -999.0,9,  -999.00,9,-999.000,9,   2252.4,2,   2372.9,3,  -999.0, -999.00,-999.0000,-999.000,-999.000
     316N145_5,  I08S,    58,  1,      3, SIH025,2,19941222,0428,-54.3667,  86.1417, 4725,45015.8,   4523.0,  -0.0108,  34.6737,2,  34.6722,2,    234.1,2, -0.3408,    233.1,2,   127.47,2,    32.21,2,     0.00,2,     2.24,2,    0.914,2,    0.424,2, -999.000,5,-999.0000,5,  -999.00,9,   -999.0,9,  -999.00,9,-999.000,9,   2254.5,2,   -999.0,9,  -999.0, -999.00,-999.0000,-999.000,-999.000
     316N145_5,  I08S,    58,  1,      2, SIH001,2,19941222,0428,-54.3667,  86.1417, 4725,46020.4,   4624.0,  -0.0006,  34.6737,2,  34.6722,2,    233.8,2, -0.3418,    233.7,2,   127.80,2,    32.26,2,     0.00,2,     2.23,2,    0.915,2,    0.425,2, -999.000,5,-999.0000,5,  -999.00,9,   -999.0,9,  -999.00,9,-999.000,9,   2253.8,2,   2354.4,2,  -999.0, -999.00,-999.0000,-999.000,-999.000
     316N145_5,  I08S,    58,  1,      1, SIH036,2,19941222,0428,-54.3667,  86.1417, 4725,46676.5,   4690.0,   0.0067,  34.6727,2,  34.6726,2,    233.9,2, -0.3420,    234.1,2,   127.86,2,    32.22,2,     0.00,2,     2.23,2, -999.000,9, -999.000,9, -999.000,5,-999.0000,5,  -999.00,9,   -999.0,9,  -999.00,9,-999.000,9,   2253.3,6,   2367.8,3,  -999.0, -999.00,-999.0000,-999.000,-999.000