BOTTLE,20090521WHPSIOdm
EXPOCODE,SECT_ID,STNNBR,CASTNO,SAMPNO,BTLNBR,BTLNBR_FLAG_W,DATE,TIME,LATITUDE,LONGITUDE,DEPTH,CTDRAW,CTDPRS,CTDTMP,CTDSAL,CTDSAL_FLAG_W,SALNTY,SALNTY_FLAG_W,CTDOXY,CTDOXY_FLAG_W,THETA,OXYGEN,OXYGEN_FLAG_W,SILCAT,SILCAT_FLAG_W,NITRAT,NITRAT_FLAG_W,NITRIT,NITRIT_FLAG_W,PHSPHT,PHSPHT_FLAG_W,CFC-11,CFC-11_FLAG_W,CFC-12,CFC-12_FLAG_W,TRITUM,TRITUM_FLAG_W,HELIUM,HELIUM_FLAG_W,DELHE3,DELHE3_FLAG_W,DELC14,DELC14_FLAG_W,DELC13,DELC13_FLAG_W,NEON,NEON_FLAG_W,TCARBN,TCARBN_FLAG_W,ALKALI,ALKALI_FLAG_W,C14ERR,DELHER,HELIER,NEONER,TRITER
,,,,,,,,,,,,,DBAR,IPTS-68,PSS-78,,PSS-78,,UMOL/KG,,IPTS-68,UMOL/KG,,UMOL/KG,,UMOL/KG,,UMOL/KG,,UMOL/KG,,PMOL/KG,,PMOL/KG,,TU,,NMOL/KG,,PERCNT,,/MILLE,,/MILLE,,NMOL/KG,,UMOL/KG,,UMOL/KG,,/MILLE,PERCNT,NMOL/KG,NMOL/KG,TU
     316N145_5,  I08S,    23,  1,     24, SIH037,2,19941211,2327,-39.9917,  94.9972, 3630,  168.7,     12.5,  12.7949,  34.9698,2,  34.9697,2,    271.9,2, 12.7932,    266.2,2,     1.79,2,     6.38,2,     0.13,2,     0.60,2,    3.400,2,    1.779,2, -999.000,5,-999.0000,5,  -999.00,9,   -999.0,9,  -999.00,9,-999.000,9,   2070.0,2,   2307.9,2,  -999.0, -999.00,-999.0000,-999.000,-999.000
     316N145_5,  I08S,    23,  1,     23, SIH033,2,19941211,2327,-39.9917,  94.9972, 3630,  608.3,     56.7,  12.7942,  34.9708,2,  34.9681,2,    269.2,2, 12.7865,    266.4,2,     1.94,2,     6.37,2,     0.14,2,     0.60,2,    3.410,2,    1.798,2, -999.000,5,-999.0000,5,  -999.00,9,   -999.0,9,  -999.00,9,-999.000,9,   2070.1,2,   -999.0,9,  -999.0, -999.00,-999.0000,-999.000,-999.000
     316N145_5,  I08S,    23,  1,     22, SIH031,2,19941211,2327,-39.9917,  94.9972, 3630, 1096.8,    105.8,  11.5865,  34.9797,2,  34.9805,2,    264.9,2, 11.5731,    264.5,2,     3.39,2,     7.94,2,     0.29,2,     0.74,2,    3.530,2,    1.839,2, -999.000,5,-999.0000,5,  -999.00,9,   -999.0,9,  -999.00,9,-999.000,9,   2086.5,2,   2335.1,3,  -999.0, -999.00,-999.0000,-999.000,-999.000
     316N145_5,  I08S,    23,  1,     21, SIH030,2,19941211,2327,-39.9917,  94.9972, 3630, 2095.3,    206.2,  11.1271,  34.9673,2,  34.9671,2,    255.8,2, 11.1015,    256.0,2,     4.04,2,    10.41,2,     0.01,2,     0.83,2,    3.410,2,    1.755,2, -999.000,5,-999.0000,5,  -999.00,9,   -999.0,9,  -999.00,9,-999.000,9,   2094.5,2,   -999.0,9,  -999.0, -999.00,-999.0000,-999.000,-999.000
     316N145_5,  I08S,    23,  1,     20, SIH028,2,19941211,2327,-39.9917,  94.9972, 3630, 3067.2,    304.0,  10.8636,  34.9285,2,  34.9296,2,    256.2,2, 10.8262,    258.2,2,     3.88,2,    10.72,2,     0.01,2,     0.85,2,    3.466,2,    1.796,2, -999.000,5,-999.0000,5,  -999.00,9,   -999.0,9,  -999.00,9,-999.000,9,   2095.0,2,   2316.1,2,  -999.0, -999.00,-999.0000,-999.000,-999.000
     316N145_5,  I08S,    23,  1,     19, SIH027,2,19941211,2327,-39.9917,  94.9972, 3630, 3988.5,    396.6,  10.5815,  34.8872,2,  34.8869,2,    256.1,2, 10.5334,    256.5,2,     3.88,2,    11.35,2,     0.01,2,     0.89,2,    3.457,2,    1.754,2, -999.000,5,-999.0000,5,  -999.00,9,   -999.0,9,  -999.00,9,-999.000,9,   2097.4,2,   2305.6,2,  -999.0, -999.00,-999.0000,-999.000,-999.000
     316N145_5,  I08S,    23,  1,     18, SIH003,2,19941211,2327,-39.9917,  94.9972, 3630, 4934.2,    491.7,  10.2725,  34.8375,2,  34.8383,2,    258.1,2, 10.2137,    258.8,2,     4.20,2,    12.02,2,     0.01,2,     0.93,2,    3.515,2,    1.774,2, -999.000,5,-999.0000,5,  -999.00,9,   -999.0,9,  -999.00,9,-999.000,9,   2099.3,2,   2321.9,3,  -999.0, -999.00,-999.0000,-999.000,-999.000
     316N145_5,  I08S,    23,  1,     17, SIH024,2,19941211,2327,-39.9917,  94.9972, 3630, 5907.0,    589.5,  10.0218,  34.7977,2,  34.7974,2,    260.2,2,  9.9521,    256.9,2,     4.37,2,    12.80,2,     0.01,2,     0.98,2,    3.479,2,    1.769,2, -999.000,5,-999.0000,5,  -999.00,9,   -999.0,9,  -999.00,9,-999.000,9,   2101.3,2,   2284.9,2,  -999.0, -999.00,-999.0000,-999.000,-999.000
     316N145_5,  I08S,    23,  1,     16, SIH022,2,19941211,2327,-39.9917,  94.9972, 3630, 6844.3,    683.8,   9.4382,  34.7025,2,  34.7044,2,    240.1,2,  9.3600,    239.6,2,     5.97,2,    16.05,2,     0.00,2,     1.17,2,    2.999,2,    1.492,2, -999.000,5,-999.0000,5,  -999.00,9,   -999.0,9,  -999.00,9,-999.000,9,   2114.2,2,   -999.0,9,  -999.0, -999.00,-999.0000,-999.000,-999.000
     316N145_5,  I08S,    23,  1,     15, SIH021,2,19941211,2327,-39.9917,  94.9972, 3630, 7772.4,    777.1,   8.7122,  34.6133,2,  34.6146,2,    227.0,2,  8.6270,    225.3,2,     8.55,2,    19.28,2,     0.00,2,     1.37,2,    2.395,2,    1.170,2, -999.000,5,-999.0000,5,  -999.00,9,   -999.0,9,  -999.00,9,-999.000,9,   2127.6,2,   2281.6,2,  -999.0, -999.00,-999.0000,-999.000,-999.000
     316N145_5,  I08S,    23,  1,     14, SIH002,2,19941211,2327,-39.9917,  94.9972, 3630, 9830.6,    984.1,   6.0213,  34.4100,2,  34.4096,2,    205.0,2,  5.9319,    205.4,2,    21.72,2,    27.36,2,     0.00,2,     1.88,2,    1.328,2,    0.655,2, -999.000,5,-999.0000,5,  -999.00,9,   -999.0,9,  -999.00,9,-999.000,9,   2168.4,2,   -999.0,9,  -999.0, -999.00,-999.0000,-999.000,-999.000
     316N145_5,  I08S,    23,  1,     13, SIH018,2,19941211,2327,-39.9917,  94.9972, 3630,11861.0,   1188.3,   4.1852,  34.3554,2,  34.3584,2,    203.2,2,  4.0922,    201.0,2,    36.99,2,    31.32,2,     0.00,2,     2.15,2,    0.812,2,    0.388,2, -999.000,5,-999.0000,5,  -999.00,9,   -999.0,9,  -999.00,9,-999.000,9,   2196.4,2,   2308.6,2,  -999.0, -999.00,-999.0000,-999.000,-999.000
     316N145_5,  I08S,    23,  1,     12, SIH016,2,19941211,2327,-39.9917,  94.9972, 3630,13925.7,   1396.0,   3.4023,  34.4238,2,  34.4243,2,    185.2,2,  3.2991,    181.8,2,    54.51,2,    33.62,2,     0.00,2,     2.33,2,    0.379,2,    0.189,2, -999.000,5,-999.0000,5,  -999.00,9,   -999.0,9,  -999.00,9,-999.000,9,   2226.0,2,   2322.3,2,  -999.0, -999.00,-999.0000,-999.000,-999.000
     316N145_5,  I08S,    23,  1,     11, SIH015,2,19941211,2327,-39.9917,  94.9972, 3630,16018.9,   1606.6,   2.9889,  34.5188,2,  34.5203,2,    169.5,2,  2.8724,    167.9,2,    68.97,2,    34.40,2,     0.00,2,     2.39,2,    0.143,2,    0.070,2, -999.000,5,-999.0000,5,  -999.00,9,   -999.0,9,  -999.00,9,-999.000,9,   2245.3,6,   2338.0,2,  -999.0, -999.00,-999.0000,-999.000,-999.000
     316N145_5,  I08S,    23,  1,     10, SIH013,2,19941211,2327,-39.9917,  94.9972, 3630,18081.6,   1814.0,   2.7082,  34.5964,2,  34.5967,2,    167.1,2,  2.5774,    168.3,2,    75.74,2,    33.87,2,     0.00,2,     2.34,2,    0.103,2,    0.062,2, -999.000,5,-999.0000,5,  -999.00,9,   -999.0,9,  -999.00,9,-999.000,9,   2251.8,2,   2346.9,2,  -999.0, -999.00,-999.0000,-999.000,-999.000
     316N145_5,  I08S,    23,  1,      9, SIH012,2,19941211,2327,-39.9917,  94.9972, 3630,20149.3,   2022.0,   2.5398,  34.6622,2,  34.6631,2,    171.8,2,  2.3931,    171.6,2,    80.72,2,    32.93,2,     0.00,2,     2.27,2,    0.051,2,    0.031,2, -999.000,5,-999.0000,5,  -999.00,9,   -999.0,9,  -999.00,9,-999.000,9,   2252.9,2,   2358.9,2,  -999.0, -999.00,-999.0000,-999.000,-999.000
     316N145_5,  I08S,    23,  1,      8, SIH010,2,19941211,2327,-39.9917,  94.9972, 3630,23173.5,   2326.2,   2.3130,  34.7235,2,  34.7235,2,    183.8,2,  2.1426,    184.3,2,    82.66,2,    31.37,2,     0.00,2,     2.15,2,    0.028,2,    0.015,2, -999.000,5,-999.0000,5,  -999.00,9,   -999.0,9,  -999.00,9,-999.000,9,   2246.2,2,   -999.0,9,  -999.0, -999.00,-999.0000,-999.000,-999.000
     316N145_5,  I08S,    23,  1,      7, SIH009,2,19941211,2327,-39.9917,  94.9972, 3630,26198.1,   2630.5,   2.0481,  34.7468,2,  34.7482,2,    193.3,2,  1.8544,    193.0,2,    88.45,2,    30.64,2,     0.00,2,     2.10,2,    0.029,2,    0.025,3, -999.000,5,-999.0000,5,  -999.00,9,   -999.0,9,  -999.00,9,-999.000,9,   2245.9,2,   2358.0,2,  -999.0, -999.00,-999.0000,-999.000,-999.000
     316N145_5,  I08S,    23,  1,      6, SIH038,2,19941211,2327,-39.9917,  94.9972, 3630,29241.8,   2936.6,   1.6948,  34.7451,2,  34.7457,2,    199.1,2,  1.4794,    199.0,2,    97.94,2,    30.75,2,     0.00,2,     2.11,2,    0.021,2,    0.020,2, -999.000,5,-999.0000,5,  -999.00,9,   -999.0,9,  -999.00,9,-999.000,9,   2248.6,2,   -999.0,9,  -999.0, -999.00,-999.0000,-999.000,-999.000
     316N145_5,  I08S,    23,  1,      5, SIH006,2,19941211,2327,-39.9917,  94.9972, 3630,31249.9,   3138.6,   1.4802,  34.7366,2,  34.7372,2,    201.4,2,  1.2502,    201.4,2,   105.35,2,    31.06,2,     0.00,2,     2.14,2,    0.015,3,    0.017,2, -999.000,5,-999.0000,5,  -999.00,9,   -999.0,9,  -999.00,9,-999.000,9,   2251.7,2,   2364.0,2,  -999.0, -999.00,-999.0000,-999.000,-999.000
     316N145_5,  I08S,    23,  1,      4, SIH004,2,19941211,2327,-39.9917,  94.9972, 3630,33321.9,   3347.0,   1.3410,  34.7317,2,  34.7311,2,    202.5,2,  1.0938,    203.0,2,   110.36,2,    31.33,2,     0.00,2,     2.16,2,    0.030,2,    0.019,2, -999.000,5,-999.0000,5,  -999.00,9,   -999.0,9,  -999.00,9,-999.000,9,   2254.2,2,   -999.0,9,  -999.0, -999.00,-999.0000,-999.000,-999.000
     316N145_5,  I08S,    23,  1,      3, SIH025,2,19941211,2327,-39.9917,  94.9972, 3630,34831.6,   3498.9,   1.2183,  34.7244,2,  34.7239,2,    204.4,2,  0.9590,    203.9,2,   114.23,2,    31.58,2,     0.00,2,     2.18,2,    0.024,2,    0.001,3, -999.000,5,-999.0000,5,  -999.00,9,   -999.0,9,  -999.00,9,-999.000,9,   2256.7,2,   2376.6,2,  -999.0, -999.00,-999.0000,-999.000,-999.000
     316N145_5,  I08S,    23,  1,      2, SIH001,2,19941211,2327,-39.9917,  94.9972, 3630,35939.6,   3610.4,   1.1825,  34.7225,2,  34.7223,2,    205.4,2,  0.9129,    204.5,2,   115.53,2,    31.69,2,     0.00,2,     2.18,2,    0.028,2,    0.018,2, -999.000,5,-999.0000,5,  -999.00,9,   -999.0,9,  -999.00,9,-999.000,9,   2257.8,2,   2365.5,2,  -999.0, -999.00,-999.0000,-999.000,-999.000
     316N145_5,  I08S,    23,  1,      1, SIH036,2,19941211,2327,-39.9917,  94.9972, 3630,36559.3,   3672.7,   1.1716,  34.7225,2,  34.7219,2,    205.3,2,  0.8959,    204.6,2,   115.77,2,    31.78,2,     0.00,2,     2.18,2,    0.039,2,    0.029,2, -999.000,5,-999.0000,5,  -999.00,9,   -999.0,9,  -999.00,9,-999.000,9,   2258.6,6,   2369.8,2,  -999.0, -999.00,-999.0000,-999.000,-999.000
     316N145_5,  I08S,    24,  1,     24, SIH037,2,19941212,0526,-40.4972,  95.0055, 3535,  186.5,     14.1,  12.5758,  34.9555,2,  34.9553,2,    273.5,2, 12.5739,    269.5,2,     1.85,2,     7.02,2,     0.15,2,     0.61,2,    3.408,2,    1.757,2, -999.000,5,-999.0000,5,  -999.00,9,   -999.0,9,  -999.00,9,-999.000,9,   -999.0,9,   -999.0,9,  -999.0, -999.00,-999.0000,-999.000,-999.000
     316N145_5,  I08S,    24,  1,     23, SIH033,2,19941212,0526,-40.4972,  95.0055, 3535,  396.2,     35.2,  12.5039,  34.9554,2,  34.9543,2,    274.5,2, 12.4992,    269.3,2,     1.86,2,     7.00,2,     0.16,2,     0.61,2,    3.439,6,    1.780,6, -999.000,5,-999.0000,5,  -999.00,9,   -999.0,9,  -999.00,9,-999.000,9,   -999.0,9,   -999.0,9,  -999.0, -999.00,-999.0000,-999.000,-999.000
     316N145_5,  I08S,    24,  1,     22, SIH031,2,19941212,0526,-40.4972,  95.0055, 3535,  630.6,     58.7,  12.4313,  34.9559,2,  34.9555,2,    272.4,2, 12.4235,    267.5,2,     2.02,2,     7.15,2,     0.16,2,     0.63,2,    3.444,2,    1.827,2, -999.000,5,-999.0000,5,  -999.00,9,   -999.0,9,  -999.00,9,-999.000,9,   -999.0,9,   -999.0,9,  -999.0, -999.00,-999.0000,-999.000,-999.000
     316N145_5,  I08S,    24,  1,     21, SIH030,2,19941212,0526,-40.4972,  95.0055, 3535, 1156.6,    111.6,  11.3809,  34.9720,2,  34.9695,2,    265.0,2, 11.3669,    263.5,2,     3.31,2,     8.64,2,     0.49,2,     0.75,2, -999.000,9, -999.000,9, -999.000,5,-999.0000,5,  -999.00,9,   -999.0,9,  -999.00,9,-999.000,9,   -999.0,9,   -999.0,9,  -999.0, -999.00,-999.0000,-999.000,-999.000
     316N145_5,  I08S,    24,  1,     20, SIH028,2,19941212,0526,-40.4972,  95.0055, 3535, 2131.5,    209.7,  10.9658,  34.9391,2,  34.9402,2,    254.1,2, 10.9400,    258.2,2,     3.64,2,    10.57,2,     0.01,2,     0.82,2,    3.501,2,    1.807,2, -999.000,5,-999.0000,5,  -999.00,9,   -999.0,9,  -999.00,9,-999.000,9,   -999.0,9,   -999.0,9,  -999.0, -999.00,-999.0000,-999.000,-999.000
     316N145_5,  I08S,    24,  1,     19, SIH027,2,19941212,0526,-40.4972,  95.0055, 3535, 3137.4,    310.8,  10.7739,  34.9174,2,  34.9178,2,    259.7,2, 10.7359,    257.0,2,     3.65,2,    11.08,2,     0.01,2,     0.85,2, -999.000,9, -999.000,9, -999.000,5,-999.0000,5,  -999.00,9,   -999.0,9,  -999.00,9,-999.000,9,   -999.0,9,   -999.0,9,  -999.0, -999.00,-999.0000,-999.000,-999.000
     316N145_5,  I08S,    24,  1,     18, SIH003,2,19941212,0526,-40.4972,  95.0055, 3535, 4118.5,    409.5,  10.4650,  34.8680,2,  34.8686,2,    259.9,2, 10.4157,    255.6,2,     4.13,2,    12.01,2,     0.01,2,     0.91,2,    3.461,2,    1.755,2, -999.000,5,-999.0000,5,  -999.00,9,   -999.0,9,  -999.00,9,-999.000,9,   -999.0,9,   -999.0,9,  -999.0, -999.00,-999.0000,-999.000,-999.000
     316N145_5,  I08S,    24,  1,     17, SIH024,2,19941212,0526,-40.4972,  95.0055, 3535, 5124.8,    510.7,  10.1071,  34.8090,2,  34.8094,2,    253.1,2, 10.0467,    254.4,2,     4.46,2,    13.06,2,     0.01,2,     0.97,2,    3.444,2,    1.727,2, -999.000,5,-999.0000,5,  -999.00,9,   -999.0,9,  -999.00,9,-999.000,9,   -999.0,9,   -999.0,9,  -999.0, -999.00,-999.0000,-999.000,-999.000
     316N145_5,  I08S,    24,  1,     16, SIH022,2,19941212,0526,-40.4972,  95.0055, 3535, 6124.0,    611.1,   9.7840,  34.7573,2,  34.7585,2,    250.8,2,  9.7127,    249.0,2,     5.11,2,    14.41,2,     0.01,2,     1.06,2,    3.265,2,    1.651,2, -999.000,5,-999.0000,5,  -999.00,9,   -999.0,9,  -999.00,9,-999.000,9,   -999.0,9,   -999.0,9,  -999.0, -999.00,-999.0000,-999.000,-999.000
     316N145_5,  I08S,    24,  1,     15, SIH021,2,19941212,0526,-40.4972,  95.0055, 3535, 7123.2,    711.6,   8.9792,  34.6468,2,  34.6445,2,    227.5,2,  8.9001,    228.4,2,     7.68,2,    18.49,2,     0.01,2,     1.31,2,    2.515,2,    1.257,2, -999.000,5,-999.0000,5,  -999.00,9,   -999.0,9,  -999.00,9,-999.000,9,   -999.0,9,   -999.0,9,  -999.0, -999.00,-999.0000,-999.000,-999.000
     316N145_5,  I08S,    24,  1,     14, SIH002,2,19941212,0526,-40.4972,  95.0055, 3535, 8133.4,    813.2,   7.9870,  34.5493,2,  34.5490,2,    211.3,2,  7.9021,    212.2,2,    12.18,2,    22.27,2,     0.01,2,     1.54,2,    1.860,2,    0.925,2, -999.000,5,-999.0000,5,  -999.00,9,   -999.0,9,  -999.00,9,-999.000,9,   -999.0,9,   -999.0,9,  -999.0, -999.00,-999.0000,-999.000,-999.000
     316N145_5,  I08S,    24,  1,     13, SIH018,2,19941212,0526,-40.4972,  95.0055, 3535,10123.2,   1013.3,   5.3411,  34.3545,2,  34.3564,2,    215.9,2,  5.2542,    217.0,2,    22.93,2,    28.00,2,     0.01,2,     1.93,2,    1.866,2,    0.908,2, -999.000,5,-999.0000,5,  -999.00,9,   -999.0,9,  -999.00,9,-999.000,9,   -999.0,9,   -999.0,9,  -999.0, -999.00,-999.0000,-999.000,-999.000
     316N145_5,  I08S,    24,  1,     12, SIH016,2,19941212,0526,-40.4972,  95.0055, 3535,12142.3,   1216.4,   3.8515,  34.3554,2,  34.3560,2,    204.5,2,  3.7592,    201.8,2,    40.24,2,    31.84,2,     0.00,2,     2.19,2, -999.000,9, -999.000,9, -999.000,5,-999.0000,5,  -999.00,9,   -999.0,9,  -999.00,9,-999.000,9,   -999.0,9,   -999.0,9,  -999.0, -999.00,-999.0000,-999.000,-999.000
     316N145_5,  I08S,    24,  1,     11, SIH015,2,19941212,0526,-40.4972,  95.0055, 3535,14156.8,   1419.1,   3.1802,  34.4311,2,  34.4320,2,    188.0,2,  3.0774,    184.9,2,    55.31,2,    33.63,2,     0.00,2,     2.32,2,    0.540,2,    0.257,2, -999.000,5,-999.0000,5,  -999.00,9,   -999.0,9,  -999.00,9,-999.000,9,   -999.0,9,   -999.0,9,  -999.0, -999.00,-999.0000,-999.000,-999.000
     316N145_5,  I08S,    24,  1,     10, SIH013,2,19941212,0526,-40.4972,  95.0055, 3535,16172.2,   1621.8,   2.8688,  34.5288,2,  34.5276,2,    170.9,2,  2.7524,    171.3,2,    68.46,2,    34.20,2,     0.00,2,     2.36,2,    0.197,2,    0.105,2, -999.000,5,-999.0000,5,  -999.00,9,   -999.0,9,  -999.00,9,-999.000,9,   -999.0,9,   -999.0,9,  -999.0, -999.00,-999.0000,-999.000,-999.000
     316N145_5,  I08S,    24,  1,      9, SIH012,2,19941212,0526,-40.4972,  95.0055, 3535,18161.6,   1821.9,   2.6425,  34.6086,2,  34.6091,2,    172.9,2,  2.5118,    173.3,2,    73.11,2,    33.36,2,     0.00,2,     2.29,2,    0.127,2,    0.075,2, -999.000,5,-999.0000,5,  -999.00,9,   -999.0,9,  -999.00,9,-999.000,9,   -999.0,9,   -999.0,9,  -999.0, -999.00,-999.0000,-999.000,-999.000
     316N145_5,  I08S,    24,  1,      8, SIH010,2,19941212,0526,-40.4972,  95.0055, 3535,20179.4,   2024.9,   2.4898,  34.6729,2,  34.6734,2,    176.7,2,  2.3436,    177.3,2,    77.44,2,    32.41,2,     0.00,2,     2.22,2, -999.000,9, -999.000,9, -999.000,5,-999.0000,5,  -999.00,9,   -999.0,9,  -999.00,9,-999.000,9,   -999.0,9,   -999.0,9,  -999.0, -999.00,-999.0000,-999.000,-999.000
     316N145_5,  I08S,    24,  1,      7, SIH009,2,19941212,0526,-40.4972,  95.0055, 3535,22171.3,   2225.2,   2.3674,  34.7136,2,  34.7152,2,    183.5,2,  2.2052,    184.2,2,    78.73,2,    31.41,2,     0.00,2,     2.14,2,    0.042,6,    0.024,6, -999.000,5,-999.0000,5,  -999.00,9,   -999.0,9,  -999.00,9,-999.000,9,   -999.0,9,   -999.0,9,  -999.0, -999.00,-999.0000,-999.000,-999.000
     316N145_5,  I08S,    24,  1,      6, SIH038,2,19941212,0526,-40.4972,  95.0055, 3535,25187.5,   2528.6,   2.1285,  34.7445,2,  34.7459,2,    191.1,2,  1.9427,    191.6,2,    85.78,2,    30.72,2,     0.00,2,     2.10,2, -999.000,9, -999.000,9, -999.000,5,-999.0000,5,  -999.00,9,   -999.0,9,  -999.00,9,-999.000,9,   -999.0,9,   -999.0,9,  -999.0, -999.00,-999.0000,-999.000,-999.000
     316N145_5,  I08S,    24,  1,      5, SIH006,2,19941212,0526,-40.4972,  95.0055, 3535,28218.8,   2833.5,   1.8167,  34.7485,2,  34.7498,2,    196.8,2,  1.6085,    198.5,2,    93.96,2,    30.61,2,     0.00,2,     2.10,2,    0.022,2,    0.020,2, -999.000,5,-999.0000,5,  -999.00,9,   -999.0,9,  -999.00,9,-999.000,9,   -999.0,9,   -999.0,9,  -999.0, -999.00,-999.0000,-999.000,-999.000
     316N145_5,  I08S,    24,  1,      4, SIH004,2,19941212,0526,-40.4972,  95.0055, 3535,31221.3,   3135.5,   1.4680,  34.7368,2,  34.7376,2,    201.8,2,  1.2385,    201.1,2,   105.03,2,    31.20,2,     0.00,2,     2.14,2, -999.000,9, -999.000,9, -999.000,5,-999.0000,5,  -999.00,9,   -999.0,9,  -999.00,9,-999.000,9,   -999.0,9,   -999.0,9,  -999.0, -999.00,-999.0000,-999.000,-999.000
     316N145_5,  I08S,    24,  1,      3, SIH025,2,19941212,0526,-40.4972,  95.0055, 3535,33288.2,   3343.5,   1.2853,  34.7288,2,  34.7278,2,    203.4,2,  1.0398,    203.4,2,   111.13,2,    31.56,2,     0.00,2,     2.16,2,    0.030,2,    0.025,2, -999.000,5,-999.0000,5,  -999.00,9,   -999.0,9,  -999.00,9,-999.000,9,   -999.0,9,   -999.0,9,  -999.0, -999.00,-999.0000,-999.000,-999.000
     316N145_5,  I08S,    24,  1,      2, SIH001,2,19941212,0526,-40.4972,  95.0055, 3535,34796.4,   3495.2,   1.2372,  34.7256,2,  34.7260,2,    204.5,2,  0.9779,    203.8,2,   113.06,2,    31.67,2,     0.00,2,     2.18,2,    0.023,2,    0.012,2, -999.000,5,-999.0000,5,  -999.00,9,   -999.0,9,  -999.00,9,-999.000,9,   -999.0,9,   -999.0,9,  -999.0, -999.00,-999.0000,-999.000,-999.000
     316N145_5,  I08S,    24,  1,      1, SIH036,2,19941212,0526,-40.4972,  95.0055, 3535,35378.5,   3553.7,   1.2317,  34.7249,2,  34.7260,2,    203.2,2,  0.9666,    203.8,2,   113.56,2,    31.68,2,     0.00,2,     2.17,2, -999.000,9, -999.000,9, -999.000,5,-999.0000,5,  -999.00,9,   -999.0,9,  -999.00,9,-999.000,9,   -999.0,9,   -999.0,9,  -999.0, -999.00,-999.0000,-999.000,-999.000