BOTTLE,20090521WHPSIOdm
EXPOCODE,SECT_ID,STNNBR,CASTNO,SAMPNO,BTLNBR,BTLNBR_FLAG_W,DATE,TIME,LATITUDE,LONGITUDE,DEPTH,CTDRAW,CTDPRS,CTDTMP,CTDSAL,CTDSAL_FLAG_W,SALNTY,SALNTY_FLAG_W,CTDOXY,CTDOXY_FLAG_W,THETA,OXYGEN,OXYGEN_FLAG_W,SILCAT,SILCAT_FLAG_W,NITRAT,NITRAT_FLAG_W,NITRIT,NITRIT_FLAG_W,PHSPHT,PHSPHT_FLAG_W,CFC-11,CFC-11_FLAG_W,CFC-12,CFC-12_FLAG_W,TRITUM,TRITUM_FLAG_W,HELIUM,HELIUM_FLAG_W,DELHE3,DELHE3_FLAG_W,DELC14,DELC14_FLAG_W,DELC13,DELC13_FLAG_W,NEON,NEON_FLAG_W,TCARBN,TCARBN_FLAG_W,ALKALI,ALKALI_FLAG_W,C14ERR,DELHER,HELIER,NEONER,TRITER
,,,,,,,,,,,,,DBAR,IPTS-68,PSS-78,,PSS-78,,UMOL/KG,,IPTS-68,UMOL/KG,,UMOL/KG,,UMOL/KG,,UMOL/KG,,UMOL/KG,,PMOL/KG,,PMOL/KG,,TU,,NMOL/KG,,PERCNT,,/MILLE,,/MILLE,,NMOL/KG,,UMOL/KG,,UMOL/KG,,/MILLE,PERCNT,NMOL/KG,NMOL/KG,TU
     316N145_5,  I09S,   119,  1,     36, SI9446,2,19950111,1003,-47.5055, 115.0028, 3700,  165.5,     11.2,   9.7784,  34.6892,2,  34.6926,2,    273.9,2,  9.7771,    280.1,2,     2.83,2,    10.90,2,     0.22,2,     0.86,2, -999.000,9, -999.000,9, -999.000,5,-999.0000,5,  -999.00,9,   -999.0,9,  -999.00,9,-999.000,9,   -999.0,9,   -999.0,9,  -999.0, -999.00,-999.0000,-999.000,-999.000
     316N145_5,  I09S,   119,  1,     35, SIH032,2,19950111,1003,-47.5055, 115.0028, 3700,  372.9,     32.1,   9.7793,  34.6903,2,  34.6936,2,    274.2,2,  9.7757,    279.9,2,     2.82,2,    10.90,2,     0.22,2,     0.86,2, -999.000,9, -999.000,9, -999.000,5,-999.0000,5,  -999.00,9,   -999.0,9,  -999.00,9,-999.000,9,   -999.0,9,   -999.0,9,  -999.0, -999.00,-999.0000,-999.000,-999.000
     316N145_5,  I09S,   119,  1,     34, SIH029,2,19950111,1003,-47.5055, 115.0028, 3700,  632.6,     58.2,   9.7849,  34.6889,2,  34.6920,2,    274.6,2,  9.7783,    279.8,2,     2.82,2,    10.89,2,     0.22,2,     0.87,2, -999.000,9, -999.000,9, -999.000,5,-999.0000,5,  -999.00,9,   -999.0,9,  -999.00,9,-999.000,9,   -999.0,9,   -999.0,9,  -999.0, -999.00,-999.0000,-999.000,-999.000
     316N145_5,  I09S,   119,  1,     33, SIH026,2,19950111,1003,-47.5055, 115.0028, 3700,  863.6,     81.4,   9.7863,  34.6900,2,  34.6930,2,    279.0,2,  9.7771,    280.0,2,     2.81,2,    10.94,2,     0.22,2,     0.87,2, -999.000,9, -999.000,9, -999.000,5,-999.0000,5,  -999.00,9,   -999.0,9,  -999.00,9,-999.000,9,   -999.0,9,   -999.0,9,  -999.0, -999.00,-999.0000,-999.000,-999.000
     316N145_5,  I09S,   119,  1,     32, SIH023,2,19950111,1003,-47.5055, 115.0028, 3700, 1107.7,    106.0,   9.7548,  34.6892,2,  34.6920,2,    275.2,2,  9.7428,    279.0,2,     2.65,2,    10.98,2,     0.22,2,     0.87,2, -999.000,9, -999.000,9, -999.000,5,-999.0000,5,  -999.00,9,   -999.0,9,  -999.00,9,-999.000,9,   -999.0,9,   -999.0,9,  -999.0, -999.00,-999.0000,-999.000,-999.000
     316N145_5,  I09S,   119,  1,     31, SIH020,2,19950111,1003,-47.5055, 115.0028, 3700, 1602.5,    155.7,   9.4916,  34.6704,2,  34.6745,2,    270.6,2,  9.4743,    274.2,2,     3.60,2,    11.71,2,     0.25,2,     0.95,2, -999.000,9, -999.000,9, -999.000,5,-999.0000,5,  -999.00,9,   -999.0,9,  -999.00,9,-999.000,9,   -999.0,9,   -999.0,9,  -999.0, -999.00,-999.0000,-999.000,-999.000
     316N145_5,  I09S,   119,  1,     30, SIH017,2,19950111,1003,-47.5055, 115.0028, 3700, 2108.5,    206.6,   9.3596,  34.6869,2,  34.6916,2,    270.7,2,  9.3367,    270.7,2,     4.38,2,    12.87,2,     0.28,2,     1.00,2, -999.000,9, -999.000,9, -999.000,5,-999.0000,5,  -999.00,9,   -999.0,9,  -999.00,9,-999.000,9,   -999.0,9,   -999.0,9,  -999.0, -999.00,-999.0000,-999.000,-999.000
     316N145_5,  I09S,   119,  1,     29, SIH014,2,19950111,1003,-47.5055, 115.0028, 3700, 2610.3,    257.1,   9.1734,  34.6736,2,  34.6773,2,    263.3,2,  9.1451,    269.3,2,     4.68,2,    13.84,2,     0.02,2,     1.04,2, -999.000,9, -999.000,9, -999.000,5,-999.0000,5,  -999.00,9,   -999.0,9,  -999.00,9,-999.000,9,   -999.0,9,   -999.0,9,  -999.0, -999.00,-999.0000,-999.000,-999.000
     316N145_5,  I09S,   119,  1,     28, SIH011,2,19950111,1003,-47.5055, 115.0028, 3700, 3093.9,    305.7,   8.9909,  34.6491,2,  34.6531,2,    268.4,2,  8.9576,    268.5,2,     4.99,2,    14.46,2,     0.02,2,     1.08,2, -999.000,9, -999.000,9, -999.000,5,-999.0000,5,  -999.00,9,   -999.0,9,  -999.00,9,-999.000,9,   -999.0,9,   -999.0,9,  -999.0, -999.00,-999.0000,-999.000,-999.000
     316N145_5,  I09S,   119,  1,     27, SIH008,2,19950111,1003,-47.5055, 115.0028, 3700, 3582.6,    354.8,   8.9398,  34.6434,2,  34.6480,2,    267.2,2,  8.9012,    269.3,2,     4.83,2,    14.54,2,     0.02,2,     1.08,2, -999.000,9, -999.000,9, -999.000,5,-999.0000,5,  -999.00,9,   -999.0,9,  -999.00,9,-999.000,9,   -999.0,9,   -999.0,9,  -999.0, -999.00,-999.0000,-999.000,-999.000
     316N145_5,  I09S,   119,  1,     26, SIH005,2,19950111,1003,-47.5055, 115.0028, 3700, 4079.4,    404.8,   8.8192,  34.6239,2,  34.6272,2,    275.1,2,  8.7754,    268.8,2,     5.14,2,    14.92,2,     0.02,2,     1.09,2, -999.000,9, -999.000,9, -999.000,5,-999.0000,5,  -999.00,9,   -999.0,9,  -999.00,9,-999.000,9,   -999.0,9,   -999.0,9,  -999.0, -999.00,-999.0000,-999.000,-999.000
     316N145_5,  I09S,   119,  1,     25, SIH019,3,19950111,1003,-47.5055, 115.0028, 3700, 4599.6,    457.1,   8.6627,  34.5967,2,  34.5767,4,    272.8,2,  8.6137,    261.0,4,     6.72,4,    16.34,4,     0.06,4,     1.19,4, -999.000,9, -999.000,9, -999.000,5,-999.0000,5,  -999.00,9,   -999.0,9,  -999.00,9,-999.000,9,   -999.0,9,   -999.0,9,  -999.0, -999.00,-999.0000,-999.000,-999.000
     316N145_5,  I09S,   119,  1,     24, SIH037,2,19950111,1003,-47.5055, 115.0028, 3700, 5113.5,    508.8,   8.4210,  34.5604,2,  34.5641,2,    266.1,2,  8.3672,    263.9,2,     5.92,2,    16.38,2,     0.02,2,     1.19,2, -999.000,9, -999.000,9, -999.000,5,-999.0000,5,  -999.00,9,   -999.0,9,  -999.00,9,-999.000,9,   -999.0,9,   -999.0,9,  -999.0, -999.00,-999.0000,-999.000,-999.000
     316N145_5,  I09S,   119,  1,     23, SIH033,2,19950111,1003,-47.5055, 115.0028, 3700, 6085.6,    606.5,   7.5615,  34.4471,2,  34.4493,2,    256.3,2,  7.5009,    248.2,2,     8.93,2,    20.09,2,     0.01,2,     1.42,2, -999.000,9, -999.000,9, -999.000,5,-999.0000,5,  -999.00,9,   -999.0,9,  -999.00,9,-999.000,9,   -999.0,9,   -999.0,9,  -999.0, -999.00,-999.0000,-999.000,-999.000
     316N145_5,  I09S,   119,  1,     22, SIH031,2,19950111,1003,-47.5055, 115.0028, 3700, 7100.2,    708.6,   6.8132,  34.4205,2,  34.4245,2,    230.3,2,  6.7460,    221.8,2,    14.46,2,    23.84,2,     0.00,2,     1.63,2, -999.000,9, -999.000,9, -999.000,5,-999.0000,5,  -999.00,9,   -999.0,9,  -999.00,9,-999.000,9,   -999.0,9,   -999.0,9,  -999.0, -999.00,-999.0000,-999.000,-999.000
     316N145_5,  I09S,   119,  1,     21, SIH030,2,19950111,1003,-47.5055, 115.0028, 3700, 8089.2,    808.1,   5.7448,  34.3613,2,  34.3639,2,    222.1,2,  5.6742,    217.5,2,    19.84,2,    26.69,2,     0.00,2,     1.82,2, -999.000,9, -999.000,9, -999.000,5,-999.0000,5,  -999.00,9,   -999.0,9,  -999.00,9,-999.000,9,   -999.0,9,   -999.0,9,  -999.0, -999.00,-999.0000,-999.000,-999.000
     316N145_5,  I09S,   119,  1,     20, SIH028,2,19950111,1003,-47.5055, 115.0028, 3700, 8097.9,    808.9,   5.7359,  34.3627,2,  34.3654,2,    221.7,2,  5.6653,    217.7,2,    19.83,2,    26.67,2,     0.00,2,     1.82,2, -999.000,9, -999.000,9, -999.000,5,-999.0000,5,  -999.00,9,   -999.0,9,  -999.00,9,-999.000,9,   -999.0,9,   -999.0,9,  -999.0, -999.00,-999.0000,-999.000,-999.000
     316N145_5,  I09S,   119,  1,     19, SIH027,2,19950111,1003,-47.5055, 115.0028, 3700,10073.8,   1007.7,   4.0466,  34.3112,2,  34.3160,2,    218.4,2,  3.9703,    215.8,2,    32.38,2,    30.30,2,     0.00,2,     2.07,2, -999.000,9, -999.000,9, -999.000,5,-999.0000,5,  -999.00,9,   -999.0,9,  -999.00,9,-999.000,9,   -999.0,9,   -999.0,9,  -999.0, -999.00,-999.0000,-999.000,-999.000
     316N145_5,  I09S,   119,  1,     18, SIH003,2,19950111,1003,-47.5055, 115.0028, 3700,11115.4,   1112.4,   3.4991,  34.3346,2,  34.3370,2,    209.7,2,  3.4186,    207.4,2,    40.88,2,    31.87,2,     0.00,2,     2.17,2, -999.000,9, -999.000,9, -999.000,5,-999.0000,5,  -999.00,9,   -999.0,9,  -999.00,9,-999.000,9,   -999.0,9,   -999.0,9,  -999.0, -999.00,-999.0000,-999.000,-999.000
     316N145_5,  I09S,   119,  1,     17, SIH024,2,19950111,1003,-47.5055, 115.0028, 3700,12099.4,   1211.4,   3.2547,  34.3732,2,  34.3776,2,    196.7,2,  3.1684,    197.2,2,    47.69,2,    32.65,2,     0.00,2,     2.23,2, -999.000,9, -999.000,9, -999.000,5,-999.0000,5,  -999.00,9,   -999.0,9,  -999.00,9,-999.000,9,   -999.0,9,   -999.0,9,  -999.0, -999.00,-999.0000,-999.000,-999.000
     316N145_5,  I09S,   119,  1,     16, SIH022,2,19950111,1003,-47.5055, 115.0028, 3700,13101.1,   1312.2,   2.9963,  34.4171,2,  34.4186,2,    187.6,2,  2.9042,    188.9,2,    54.81,2,    33.31,2,     0.00,2,     2.28,2, -999.000,9, -999.000,9, -999.000,5,-999.0000,5,  -999.00,9,   -999.0,9,  -999.00,9,-999.000,9,   -999.0,9,   -999.0,9,  -999.0, -999.00,-999.0000,-999.000,-999.000
     316N145_5,  I09S,   119,  1,     15, SIH021,2,19950111,1003,-47.5055, 115.0028, 3700,14111.7,   1413.8,   2.8621,  34.4707,2,  34.4750,2,    177.6,2,  2.7632,    180.8,2,    60.99,2,    33.72,2,     0.00,2,     2.31,2, -999.000,9, -999.000,9, -999.000,5,-999.0000,5,  -999.00,9,   -999.0,9,  -999.00,9,-999.000,9,   -999.0,9,   -999.0,9,  -999.0, -999.00,-999.0000,-999.000,-999.000
     316N145_5,  I09S,   119,  1,     14, SIH002,2,19950111,1003,-47.5055, 115.0028, 3700,15208.5,   1524.1,   2.7258,  34.5238,2,  34.5248,2,    174.8,2,  2.6193,    176.9,2,    65.90,2,    33.61,2,     0.00,2,     2.30,2, -999.000,9, -999.000,9, -999.000,5,-999.0000,5,  -999.00,9,   -999.0,9,  -999.00,9,-999.000,9,   -999.0,9,   -999.0,9,  -999.0, -999.00,-999.0000,-999.000,-999.000
     316N145_5,  I09S,   119,  1,     13, SIH018,2,19950111,1003,-47.5055, 115.0028, 3700,16223.6,   1626.2,   2.6340,  34.5686,2,  34.5696,2,    171.6,2,  2.5201,    174.8,2,    69.38,2,    33.40,2,     0.00,2,     2.28,2, -999.000,9, -999.000,9, -999.000,5,-999.0000,5,  -999.00,9,   -999.0,9,  -999.00,9,-999.000,9,   -999.0,9,   -999.0,9,  -999.0, -999.00,-999.0000,-999.000,-999.000
     316N145_5,  I09S,   119,  1,     12, SIH016,2,19950111,1003,-47.5055, 115.0028, 3700,18259.3,   1831.0,   2.4842,  34.6330,2,  34.6346,2,    174.6,2,  2.3549,    177.2,2,    73.34,2,    32.58,2,     0.00,2,     2.22,2, -999.000,9, -999.000,9, -999.000,5,-999.0000,5,  -999.00,9,   -999.0,9,  -999.00,9,-999.000,9,   -999.0,9,   -999.0,9,  -999.0, -999.00,-999.0000,-999.000,-999.000
     316N145_5,  I09S,   119,  1,     11, SIH015,2,19950111,1003,-47.5055, 115.0028, 3700,20224.3,   2028.7,   2.3994,  34.6995,2,  34.7015,2,    178.3,2,  2.2541,    183.0,2,    76.35,2,    31.24,2,     0.00,2,     2.13,2, -999.000,9, -999.000,9, -999.000,5,-999.0000,5,  -999.00,9,   -999.0,9,  -999.00,9,-999.000,9,   -999.0,9,   -999.0,9,  -999.0, -999.00,-999.0000,-999.000,-999.000
     316N145_5,  I09S,   119,  1,      9, SIH012,2,19950111,1003,-47.5055, 115.0028, 3700,22204.3,   2227.8,   2.2717,  34.7304,2,  34.7337,2,    185.5,2,  2.1108,    189.4,2,    78.26,2,    30.41,2,     0.00,2,     2.07,2, -999.000,9, -999.000,9, -999.000,5,-999.0000,5,  -999.00,9,   -999.0,9,  -999.00,9,-999.000,9,   -999.0,9,   -999.0,9,  -999.0, -999.00,-999.0000,-999.000,-999.000
     316N145_5,  I09S,   119,  1,     10, SIH013,2,19950111,1003,-47.5055, 115.0028, 3700,22208.1,   2228.2,   2.2715,  34.7305,2,  34.7335,2,    185.2,2,  2.1106,    189.6,2,    78.26,2,    30.43,2,     0.00,2,     2.07,2, -999.000,9, -999.000,9, -999.000,5,-999.0000,5,  -999.00,9,   -999.0,9,  -999.00,9,-999.000,9,   -999.0,9,   -999.0,9,  -999.0, -999.00,-999.0000,-999.000,-999.000
     316N145_5,  I09S,   119,  1,      8, SIH010,2,19950111,1003,-47.5055, 115.0028, 3700,26193.5,   2629.1,   1.9409,  34.7512,2,  34.7516,2,    194.1,2,  1.7494,    196.8,2,    87.93,2,    29.92,2,     0.00,2,     2.04,2, -999.000,9, -999.000,9, -999.000,5,-999.0000,5,  -999.00,9,   -999.0,9,  -999.00,9,-999.000,9,   -999.0,9,   -999.0,9,  -999.0, -999.00,-999.0000,-999.000,-999.000
     316N145_5,  I09S,   119,  1,      7, SIH009,2,19950111,1003,-47.5055, 115.0028, 3700,28243.2,   2835.3,   1.6848,  34.7446,2,  34.7469,2,    198.4,2,  1.4792,    199.4,2,    96.18,2,    30.29,2,     0.00,2,     2.07,2, -999.000,9, -999.000,9, -999.000,5,-999.0000,5,  -999.00,9,   -999.0,9,  -999.00,9,-999.000,9,   -999.0,9,   -999.0,9,  -999.0, -999.00,-999.0000,-999.000,-999.000
     316N145_5,  I09S,   119,  1,      6, SIH038,2,19950111,1003,-47.5055, 115.0028, 3700,30289.4,   3041.1,   1.4804,  34.7372,2,  34.7386,2,    200.1,2,  1.2598,    201.1,2,   103.01,2,    30.65,2,     0.00,2,     2.10,2, -999.000,9, -999.000,9, -999.000,5,-999.0000,5,  -999.00,9,   -999.0,9,  -999.00,9,-999.000,9,   -999.0,9,   -999.0,9,  -999.0, -999.00,-999.0000,-999.000,-999.000
     316N145_5,  I09S,   119,  1,      5, SIH006,2,19950111,1003,-47.5055, 115.0028, 3700,32379.8,   3251.4,   1.2895,  34.7278,2,  34.7300,2,    201.7,2,  1.0530,    203.2,2,   109.35,2,    31.01,2,     0.00,2,     2.12,2, -999.000,9, -999.000,9, -999.000,5,-999.0000,5,  -999.00,9,   -999.0,9,  -999.00,9,-999.000,9,   -999.0,9,   -999.0,9,  -999.0, -999.00,-999.0000,-999.000,-999.000
     316N145_5,  I09S,   119,  1,      4, SIH004,2,19950111,1003,-47.5055, 115.0028, 3700,34431.8,   3457.8,   1.1288,  34.7193,2,  34.7223,2,    205.1,2,  0.8760,    205.5,2,   115.23,2,    31.33,2,     0.00,2,     2.14,2, -999.000,9, -999.000,9, -999.000,5,-999.0000,5,  -999.00,9,   -999.0,9,  -999.00,9,-999.000,9,   -999.0,9,   -999.0,9,  -999.0, -999.00,-999.0000,-999.000,-999.000
     316N145_5,  I09S,   119,  1,      3, SIH025,2,19950111,1003,-47.5055, 115.0028, 3700,36451.5,   3660.9,   1.0980,  34.7169,2,  34.7199,2,    206.9,2,  0.8255,    206.1,2,   116.35,2,    31.45,2,     0.00,2,     2.15,2, -999.000,9, -999.000,9, -999.000,5,-999.0000,5,  -999.00,9,   -999.0,9,  -999.00,9,-999.000,9,   -999.0,9,   -999.0,9,  -999.0, -999.00,-999.0000,-999.000,-999.000
     316N145_5,  I09S,   119,  1,      2, SIH001,2,19950111,1003,-47.5055, 115.0028, 3700,37180.5,   3734.3,   1.0955,  34.7176,2,  34.7188,2,    205.9,2,  0.8156,    206.4,2,   116.84,2,    31.44,2,     0.00,2,     2.15,2, -999.000,9, -999.000,9, -999.000,5,-999.0000,5,  -999.00,9,   -999.0,9,  -999.00,9,-999.000,9,   -999.0,9,   -999.0,9,  -999.0, -999.00,-999.0000,-999.000,-999.000
     316N145_5,  I09S,   119,  1,      1, SIH036,2,19950111,1003,-47.5055, 115.0028, 3700,37703.4,   3786.9,   1.0968,  34.7178,2,  34.7193,2,    205.0,2,  0.8114,    206.2,2,   117.16,2,    31.43,2,     0.00,2,     2.15,2, -999.000,9, -999.000,9, -999.000,5,-999.0000,5,  -999.00,9,   -999.0,9,  -999.00,9,-999.000,9,   -999.0,9,   -999.0,9,  -999.0, -999.00,-999.0000,-999.000,-999.000