BOTTLE,20090521WHPSIOdm
EXPOCODE,SECT_ID,STNNBR,CASTNO,SAMPNO,BTLNBR,BTLNBR_FLAG_W,DATE,TIME,LATITUDE,LONGITUDE,DEPTH,CTDRAW,CTDPRS,CTDTMP,CTDSAL,CTDSAL_FLAG_W,SALNTY,SALNTY_FLAG_W,CTDOXY,CTDOXY_FLAG_W,THETA,OXYGEN,OXYGEN_FLAG_W,SILCAT,SILCAT_FLAG_W,NITRAT,NITRAT_FLAG_W,NITRIT,NITRIT_FLAG_W,PHSPHT,PHSPHT_FLAG_W,CFC-11,CFC-11_FLAG_W,CFC-12,CFC-12_FLAG_W,TRITUM,TRITUM_FLAG_W,HELIUM,HELIUM_FLAG_W,DELHE3,DELHE3_FLAG_W,DELC14,DELC14_FLAG_W,DELC13,DELC13_FLAG_W,NEON,NEON_FLAG_W,TCARBN,TCARBN_FLAG_W,ALKALI,ALKALI_FLAG_W,C14ERR,DELHER,HELIER,NEONER,TRITER
,,,,,,,,,,,,,DBAR,IPTS-68,PSS-78,,PSS-78,,UMOL/KG,,IPTS-68,UMOL/KG,,UMOL/KG,,UMOL/KG,,UMOL/KG,,UMOL/KG,,PMOL/KG,,PMOL/KG,,TU,,NMOL/KG,,PERCNT,,/MILLE,,/MILLE,,NMOL/KG,,UMOL/KG,,UMOL/KG,,/MILLE,PERCNT,NMOL/KG,NMOL/KG,TU
     316N145_5,  I08S,    75,  1,     34, SIH029,2,19941226,0801,-61.0000,  82.0000, 1890,  133.8,      8.0,   0.3453,  33.8133,2,  33.8204,2,    335.1,2,  0.3450,    345.2,2,    38.89,2,    26.80,2,     0.28,2,     1.74,2,    6.597,2,    3.143,2, -999.000,5,-999.0000,5,  -999.00,9,   -134.8,2,  -999.00,9,-999.000,9,   2153.2,6,   2291.0,2,     4.0, -999.00,-999.0000,-999.000,-999.000
     316N145_5,  I08S,    75,  1,     33, SIH026,2,19941226,0801,-61.0000,  82.0000, 1890,  339.5,     28.7,   0.2147,  33.8346,2,  33.8392,2,    342.6,2,  0.2137,    344.9,2,    39.72,2,    26.91,2,     0.28,2,     1.76,2,    6.583,2,    3.094,2, -999.000,5,-999.0000,5,  -999.00,9,   -105.4,2,     0.70,2,-999.000,9,   2155.9,2,   2289.7,2,     3.9, -999.00,-999.0000,-999.000,-999.000
     316N145_5,  I08S,    75,  1,     32, SIH023,2,19941226,0801,-61.0000,  82.0000, 1890,  584.4,     53.3,  -0.6506,  34.0464,2,  34.0543,2,    351.8,2, -0.6522,    342.5,2,    51.58,2,    29.27,2,     0.22,2,     1.99,2,    6.425,2,    3.010,2, -999.000,5,-999.0000,5,  -999.00,9,   -140.8,2,    -0.32,6,-999.000,9,   2181.3,2,   2300.0,2,     3.2, -999.00,-999.0000,-999.000,-999.000
     316N145_5,  I08S,    75,  1,     31, SIH020,2,19941226,0801,-61.0000,  82.0000, 1890,  842.9,     79.3,  -0.6971,  34.1974,2,  34.1850,2,    304.3,2, -0.6994,    294.6,2,    60.97,2,    31.15,2,     0.19,2,     2.18,2,    4.774,2,    2.257,2, -999.000,5,-999.0000,5,  -999.00,9,   -192.6,3,    -2.12,3,-999.000,9,   2206.4,2,   2311.3,2,     4.9, -999.00,-999.0000,-999.000,-999.000
     316N145_5,  I08S,    75,  1,     30, SIH017,2,19941226,0801,-61.0000,  82.0000, 1890, 1088.7,    104.0,   0.0996,  34.3623,2,  34.3700,2,    252.6,2,  0.0958,    241.7,2,    71.35,2,    32.85,2,     0.19,2,     2.29,2,    3.116,2,    1.464,2, -999.000,5,-999.0000,5,  -999.00,9,   -164.2,2,    -0.73,2,-999.000,9,   2230.7,2,   -999.0,9,     3.4, -999.00,-999.0000,-999.000,-999.000
     316N145_5,  I08S,    75,  1,     29, SIH014,2,19941226,0801,-61.0000,  82.0000, 1890, 1597.9,    155.2,   1.7470,  34.6113,2,  34.6164,2,    176.7,2,  1.7391,    176.1,2,    82.70,2,    34.22,2,     0.02,2,     2.34,2,    0.692,2,    0.324,2, -999.000,5,-999.0000,5,  -999.00,9,   -251.3,4,    -3.76,4,-999.000,9,   2258.3,2,   -999.0,9,     3.0, -999.00,-999.0000,-999.000,-999.000
     316N145_5,  I08S,    75,  1,     28, SIH011,2,19941226,0801,-61.0000,  82.0000, 1890, 2092.9,    205.0,   1.8725,  34.6587,2,  34.6618,2,    170.7,2,  1.8617,    175.7,2,    84.85,2,    33.64,2,     0.01,2,     2.30,2,    0.412,2,    0.202,2, -999.000,5,-999.0000,5,  -999.00,9,   -165.7,2,    -0.86,2,-999.000,9,   2257.8,2,   2348.1,2,     3.1, -999.00,-999.0000,-999.000,-999.000
     316N145_5,  I08S,    75,  1,     27, SIH008,2,19941226,0801,-61.0000,  82.0000, 1890, 2592.6,    255.3,   1.8691,  34.6765,2,  34.6804,2,    173.0,2,  1.8556,    175.3,2,    86.00,2,    33.41,2,     0.01,2,     2.28,2,    0.351,2,    0.172,2, -999.000,5,-999.0000,5,  -999.00,9,   -170.8,2,    -1.03,2,-999.000,9,   2257.7,2,   2322.4,3,     3.2, -999.00,-999.0000,-999.000,-999.000
     316N145_5,  I08S,    75,  1,     26, SIH005,2,19941226,0801,-61.0000,  82.0000, 1890, 3091.5,    305.5,   1.9053,  34.6982,2,  34.7007,2,    177.5,2,  1.8888,    178.4,2,    86.00,2,    32.78,2,     0.00,2,     2.24,2,    0.247,2,    0.122,2, -999.000,5,-999.0000,5,  -999.00,9,   -164.0,2,    -0.68,2,-999.000,9,   2255.6,2,   2343.4,2,     3.8, -999.00,-999.0000,-999.000,-999.000
     316N145_5,  I08S,    75,  1,     25, SIH019,2,19941226,0801,-61.0000,  82.0000, 1890, 3584.3,    355.1,   1.8916,  34.7101,2,  34.7134,2,    180.6,2,  1.8723,    180.4,2,    86.33,2,    32.45,2,     0.00,2,     2.22,2,    0.218,2,    0.107,2, -999.000,5,-999.0000,5,  -999.00,9,   -194.4,3,    -1.95,3,-999.000,9,   2255.5,2,   2348.4,2,     4.7, -999.00,-999.0000,-999.000,-999.000
     316N145_5,  I08S,    75,  1,     24, SIH037,2,19941226,0801,-61.0000,  82.0000, 1890, 4091.6,    406.1,   1.8629,  34.7179,2,  34.7197,2,    179.7,2,  1.8408,    181.0,2,    87.33,2,    32.31,2,     0.00,2,     2.21,2,    0.196,2,    0.102,2, -999.000,5,-999.0000,5,  -999.00,9,   -174.6,2,    -0.62,2,-999.000,9,   2255.0,2,   -999.0,9,     2.7, -999.00,-999.0000,-999.000,-999.000
     316N145_5,  I08S,    75,  1,     23, SIH033,2,19941226,0801,-61.0000,  82.0000, 1890, 4574.1,    454.6,   1.8443,  34.7255,2,  34.7266,2,    182.4,2,  1.8195,    183.1,2,    87.66,2,    32.02,2,     0.00,2,     2.19,2,    0.165,2,    0.084,2, -999.000,5,-999.0000,5,  -999.00,9,   -156.1,2,     0.06,2,-999.000,9,   2252.8,2,   2348.1,2,     2.3, -999.00,-999.0000,-999.000,-999.000
     316N145_5,  I08S,    75,  1,     22, SIH031,2,19941226,0801,-61.0000,  82.0000, 1890, 5083.5,    505.8,   1.8089,  34.7330,2,  34.7355,2,    183.7,2,  1.7812,    187.2,2,    87.83,2,    31.59,2,     0.00,2,     2.16,2,    0.155,2,    0.105,2, -999.000,5,-999.0000,5,  -999.00,9,   -154.8,2,     0.11,2,-999.000,9,   2250.5,2,   2332.1,3,     3.2, -999.00,-999.0000,-999.000,-999.000
     316N145_5,  I08S,    75,  1,     21, SIH030,2,19941226,0801,-61.0000,  82.0000, 1890, 6085.3,    606.6,   1.7425,  34.7394,2,  34.7396,2,    190.5,2,  1.7090,    191.1,2,    88.66,2,    31.20,2,     0.00,2,     2.13,2,    0.156,2,    0.083,2, -999.000,5,-999.0000,5,  -999.00,9,   -155.8,2,    -0.01,2,-999.000,9,   2248.6,2,   -999.0,9,     3.4, -999.00,-999.0000,-999.000,-999.000
     316N145_5,  I08S,    75,  1,     20, SIH028,2,19941226,0801,-61.0000,  82.0000, 1890, 7077.0,    706.4,   1.6912,  34.7454,2,  34.7457,2,    193.5,2,  1.6520,    195.4,2,    89.31,2,    30.76,2,     0.00,2,     2.11,2,    0.110,2,    0.056,2, -999.000,5,-999.0000,5,  -999.00,9,   -171.5,2,    -0.68,2,-999.000,9,   2247.1,2,   2355.0,2,     4.3, -999.00,-999.0000,-999.000,-999.000
     316N145_5,  I08S,    75,  1,     19, SIH027,2,19941226,0801,-61.0000,  82.0000, 1890, 8078.7,    807.1,   1.5954,  34.7466,2,  34.7482,2,    194.5,2,  1.5505,    197.6,2,    91.79,2,    30.72,2,     0.00,2,     2.10,2,    0.098,2,    0.053,2, -999.000,5,-999.0000,5,  -999.00,9,   -183.4,2,    -0.84,2,-999.000,9,   2247.2,2,   2352.7,2,     2.8, -999.00,-999.0000,-999.000,-999.000
     316N145_5,  I08S,    75,  1,     18, SIH003,2,19941226,0801,-61.0000,  82.0000, 1890, 9085.6,    908.4,   1.4939,  34.7442,2,  34.7453,2,    196.1,2,  1.4434,    198.9,2,    94.10,2,    30.78,2,     0.00,2,     2.10,2,    0.107,2,    0.057,2, -999.000,5,-999.0000,5,  -999.00,9,   -163.2,2,    -0.37,2,-999.000,9,   -999.0,9,   -999.0,9,     3.0, -999.00,-999.0000,-999.000,-999.000
     316N145_5,  I08S,    75,  1,     17, SIH024,2,19941226,0801,-61.0000,  82.0000, 1890,10091.6,   1009.6,   1.4127,  34.7434,2,  34.7443,2,    195.1,2,  1.3563,    200.4,2,    96.57,2,    30.85,2,     0.00,2,     2.11,2,    0.083,2,    0.042,2, -999.000,5,-999.0000,5,  -999.00,9,   -149.4,2,     0.37,2,-999.000,9,   2248.1,2,   2356.7,2,     3.4, -999.00,-999.0000,-999.000,-999.000
     316N145_5,  I08S,    75,  1,     16, SIH022,2,19941226,0801,-61.0000,  82.0000, 1890,11089.5,   1110.0,   1.2947,  34.7390,2,  34.7394,2,    198.7,2,  1.2328,    201.4,2,   100.03,2,    31.00,2,     0.00,2,     2.13,2,    0.081,2,    0.045,2, -999.000,5,-999.0000,5,  -999.00,9,   -155.0,2,     0.34,2,-999.000,9,   -999.0,9,   -999.0,9,     4.9, -999.00,-999.0000,-999.000,-999.000
     316N145_5,  I08S,    75,  1,     14, SIH002,2,19941226,0801,-61.0000,  82.0000, 1890,12103.9,   1212.0,   1.1933,  34.7331,2,  34.7337,2,    199.9,2,  1.1257,    202.4,2,   103.17,2,    31.23,2,     0.00,2,     2.14,2, -999.000,9, -999.000,9, -999.000,5,-999.0000,5,  -999.00,9,   -149.3,2,     0.44,2,-999.000,9,   -999.0,9,   -999.0,9,     3.3, -999.00,-999.0000,-999.000,-999.000
     316N145_5,  I08S,    75,  1,     15, SIH021,2,19941226,0801,-61.0000,  82.0000, 1890,12106.0,   1212.2,   1.1925,  34.7327,2,  34.7347,2,    200.4,2,  1.1249,    202.0,2,   103.33,2,    31.22,2,     0.00,2,     2.14,2,    0.071,2,    0.046,2, -999.000,5,-999.0000,5,  -999.00,9,   -154.9,2,     0.30,2,-999.000,9,   2251.7,2,   2369.2,2,     3.1, -999.00,-999.0000,-999.000,-999.000
     316N145_5,  I08S,    75,  1,     13, SIH018,2,19941226,0801,-61.0000,  82.0000, 1890,13115.6,   1313.8,   1.0962,  34.7281,2,  34.7288,2,    201.2,2,  1.0229,    202.6,2,   106.63,2,    31.44,2,     0.00,2,     2.15,2,    0.064,2,    0.033,2, -999.000,5,-999.0000,5,  -999.00,9,   -179.8,2,    -0.29,2,-999.000,9,   -999.0,9,   -999.0,9,     4.0, -999.00,-999.0000,-999.000,-999.000
     316N145_5,  I08S,    75,  1,     12, SIH016,2,19941226,0801,-61.0000,  82.0000, 1890,13123.9,   1314.6,   1.0960,  34.7285,2,  34.7290,2,    201.2,2,  1.0226,    202.9,2,   106.63,2,    31.45,2,     0.00,2,     2.15,2, -999.000,9, -999.000,9, -999.000,5,-999.0000,5,  -999.00,9,   -999.0,9,  -999.00,9,-999.000,9,   2253.4,2,   2364.4,2,  -999.0, -999.00,-999.0000,-999.000,-999.000
     316N145_5,  I08S,    75,  1,     10, SIH013,2,19941226,0801,-61.0000,  82.0000, 1890,14095.8,   1412.4,   1.0138,  34.7241,2,  34.7237,2,    201.0,2,  0.9347,    202.6,2,   111.41,2,    31.77,2,     0.00,2,     2.17,2, -999.000,9, -999.000,9, -999.000,5,-999.0000,5,  -999.00,9,   -153.0,2,     0.31,2,-999.000,9,   -999.0,9,   -999.0,9,     3.6, -999.00,-999.0000,-999.000,-999.000
     316N145_5,  I08S,    75,  1,     11, SIH015,2,19941226,0801,-61.0000,  82.0000, 1890,14097.0,   1412.5,   1.0138,  34.7240,2,  34.7272,2,    200.3,2,  0.9347,    202.7,2,   111.25,2,    31.72,2,     0.00,2,     2.17,2,    0.064,2,    0.036,2, -999.000,5,-999.0000,5,  -999.00,9,   -170.1,2,     0.40,2,-999.000,9,   -999.0,9,   -999.0,9,     4.4, -999.00,-999.0000,-999.000,-999.000
     316N145_5,  I08S,    75,  1,      8, SIH010,2,19941226,0801,-61.0000,  82.0000, 1890,15099.8,   1513.4,   0.9314,  34.7191,2,  34.7193,2,    202.8,2,  0.8464,    204.6,2,   113.40,2,    31.85,2,     0.00,2,     2.18,2, -999.000,9, -999.000,9, -999.000,5,-999.0000,5,  -999.00,9,   -165.3,2,     0.41,2,-999.000,9,   2256.0,2,   2362.0,2,     6.1, -999.00,-999.0000,-999.000,-999.000
     316N145_5,  I08S,    75,  1,      9, SIH012,2,19941226,0801,-61.0000,  82.0000, 1890,15106.5,   1514.0,   0.9307,  34.7190,2,-999.0000,9,    203.3,2,  0.8456,    203.9,2,   113.55,2,    31.84,2,     0.00,2,     2.19,2,    0.064,6,    0.036,6, -999.000,5,-999.0000,5,  -999.00,9,   -162.9,2,     0.42,2,-999.000,9,   -999.0,9,   -999.0,9,     2.9, -999.00,-999.0000,-999.000,-999.000
     316N145_5,  I08S,    75,  1,      6, SIH038,2,19941226,0801,-61.0000,  82.0000, 1890,16107.2,   1614.7,   0.8396,  34.7146,2,  34.7162,2,    205.5,2,  0.7487,    205.9,2,   115.05,2,    31.97,2,     0.00,2,     2.20,2, -999.000,9, -999.000,9, -999.000,5,-999.0000,5,  -999.00,9,   -162.9,2,     0.42,2,-999.000,9,   -999.0,9,   -999.0,9,     3.9, -999.00,-999.0000,-999.000,-999.000
     316N145_5,  I08S,    75,  1,      7, SIH009,2,19941226,0801,-61.0000,  82.0000, 1890,16116.1,   1615.6,   0.8394,  34.7146,2,  34.7158,2,    205.6,2,  0.7485,    205.2,2,   115.04,2,    32.01,2,     0.00,2,     2.20,2,    0.065,2,    0.036,2, -999.000,5,-999.0000,5,  -999.00,9,   -156.6,2,     0.42,2,-999.000,9,   2256.3,2,   -999.0,9,     4.1, -999.00,-999.0000,-999.000,-999.000
     316N145_5,  I08S,    75,  1,      5, SIH006,2,19941226,0801,-61.0000,  82.0000, 1890,17089.5,   1713.5,   0.7584,  34.7095,2,  34.7115,2,    206.3,2,  0.6617,    205.7,2,   122.13,2,    32.23,2,     0.00,2,     2.22,2,    0.058,2,    0.040,2, -999.000,5,-999.0000,5,  -999.00,9,   -163.1,2,     0.42,2,-999.000,9,   -999.0,9,   -999.0,9,     2.6, -999.00,-999.0000,-999.000,-999.000
     316N145_5,  I08S,    75,  1,      4, SIH004,2,19941226,0801,-61.0000,  82.0000, 1890,17103.1,   1714.9,   0.7582,  34.7094,2,  34.7091,2,    204.4,2,  0.6613,    205.7,2,   121.80,2,    32.15,2,     0.00,2,     2.21,2, -999.000,9, -999.000,9, -999.000,5,-999.0000,5,  -999.00,9,   -163.3,2,     0.35,2,-999.000,9,   2258.8,2,   2363.0,2,     2.7, -999.00,-999.0000,-999.000,-999.000
     316N145_5,  I08S,    75,  1,      2, SIH001,2,19941226,0801,-61.0000,  82.0000, 1890,18108.7,   1816.0,   0.5449,  34.6979,2,  34.6983,2,    209.3,2,  0.4439,    207.7,2,   131.02,2,    32.63,2,     0.00,2,     2.24,2, -999.000,9, -999.000,9, -999.000,5,-999.0000,5,  -999.00,9,   -144.3,2,     0.38,2,-999.000,9,   -999.0,9,   -999.0,9,     3.4, -999.00,-999.0000,-999.000,-999.000
     316N145_5,  I08S,    75,  1,      3, SIH025,2,19941226,0801,-61.0000,  82.0000, 1890,18111.9,   1816.4,   0.5453,  34.6979,2,  34.7005,2,    209.5,2,  0.4442,    208.3,2,   130.53,2,    32.66,2,     0.00,2,     2.24,2,    0.052,2,    0.035,2, -999.000,5,-999.0000,5,  -999.00,9,   -155.8,2,     0.38,2,-999.000,9,   -999.0,9,   -999.0,9,     2.9, -999.00,-999.0000,-999.000,-999.000
     316N145_5,  I08S,    75,  1,      1, SIH036,2,19941226,0801,-61.0000,  82.0000, 1890,18552.3,   1860.7,   0.4434,  34.6924,2,  34.6936,2,    211.2,2,  0.3407,    209.8,2,   135.19,2,    32.80,2,     0.01,2,     2.26,2,    0.051,2,    0.032,2, -999.000,5,-999.0000,5,  -999.00,9,   -151.5,2,    -0.07,2,-999.000,9,   2262.9,6,   2369.8,2,     3.3, -999.00,-999.0000,-999.000,-999.000