BOTTLE,20020603WHPSIOKJU
EXPOCODE,SECT_ID,STNNBR,CASTNO,SAMPNO,BTLNBR,BTLNBR_FLAG_W,DATE,TIME,LATITUDE,LONGITUDE,DEPTH,CTDPRS,CTDTMP,CTDSAL,CTDSAL_FLAG_W,SALNTY,SALNTY_FLAG_W,CTDOXY,CTDOXY_FLAG_W,OXYGEN,OXYGEN_FLAG_W,THETA
,,,,,,,,,,,,DBAR,ITS-90,PSS-78,,PSS-78,,UMOL/KG,,UMOL/KG,,DEG C
   33KMGP200_1,  PR16,    36,  1,     12,     12,2,20000507,1233, -0.4967,-109.8483, 3858,      2.3,  25.4365,  35.1449,2,  35.1431,2,   -999.0,9,   -999.0,9, 25.4360
   33KMGP200_1,  PR16,    36,  1,     11,     11,2,20000507,1233, -0.4967,-109.8483, 3858,     10.1,  25.3798,  35.1386,2,  35.1400,2,   -999.0,9,   -999.0,9, 25.3776
   33KMGP200_1,  PR16,    36,  1,     10,     10,2,20000507,1233, -0.4967,-109.8483, 3858,     26.6,  24.0403,  35.0609,2,  35.0729,2,   -999.0,9,   -999.0,9, 24.0347
   33KMGP200_1,  PR16,    36,  1,      9,      9,2,20000507,1233, -0.4967,-109.8483, 3858,     38.3,  22.5145,  35.2557,2,  35.2433,2,   -999.0,9,   -999.0,9, 22.5068
   33KMGP200_1,  PR16,    36,  1,      8,      8,2,20000507,1233, -0.4967,-109.8483, 3858,     58.9,  19.8483,  35.4578,2,  35.4769,2,   -999.0,9,   -999.0,9, 19.8375
   33KMGP200_1,  PR16,    36,  1,      6,      6,2,20000507,1233, -0.4967,-109.8483, 3858,    150.8,  13.5880,  34.9984,2,  35.0009,2,   -999.0,9,   -999.0,9, 13.5667
   33KMGP200_1,  PR16,    36,  1,      5,      5,2,20000507,1233, -0.4967,-109.8483, 3858,    199.6,  12.8501,  34.9138,2,  34.9140,2,   -999.0,9,   -999.0,9, 12.8229
   33KMGP200_1,  PR16,    36,  1,      4,      4,2,20000507,1233, -0.4967,-109.8483, 3858,    399.7,   9.4090,  34.6976,2,  34.6991,2,   -999.0,9,   -999.0,9,  9.3641
   33KMGP200_1,  PR16,    36,  1,      3,      3,2,20000507,1233, -0.4967,-109.8483, 3858,    598.6,   6.8071,  34.5703,2,  34.5708,2,   -999.0,9,   -999.0,9,  6.7506
   33KMGP200_1,  PR16,    36,  1,      2,      2,2,20000507,1233, -0.4967,-109.8483, 3858,    798.4,   5.4243,  34.5486,2,  34.5475,2,   -999.0,9,   -999.0,9,  5.3563
   33KMGP200_1,  PR16,    36,  1,      1,      1,2,20000507,1233, -0.4967,-109.8483, 3858,   1004.1,   4.6890,  34.5548,2,  34.5544,2,   -999.0,9,   -999.0,9,  4.6076
   33KMGP200_1,  PR16,    37,  1,     12,     12,2,20000508,1327, -0.0517,-110.1533, 3788,   1000.1,   4.6827,  34.5549,2,  34.5549,2,   -999.0,9,   -999.0,9,  4.6017
   33KMGP200_1,  PR16,    37,  1,     11,     11,2,20000508,1327, -0.0517,-110.1533, 3788,   1250.0,   3.8857,  34.5753,2,  34.5754,2,   -999.0,9,   -999.0,9,  3.7897
   33KMGP200_1,  PR16,    37,  1,     10,     10,2,20000508,1327, -0.0517,-110.1533, 3788,   1500.0,   3.2110,  34.6015,2,  34.6015,2,   -999.0,9,   -999.0,9,  3.1007
   33KMGP200_1,  PR16,    37,  1,      9,      9,2,20000508,1327, -0.0517,-110.1533, 3788,   1749.3,   2.6803,  34.6225,2,  34.6231,2,   -999.0,9,   -999.0,9,  2.5553
   33KMGP200_1,  PR16,    37,  1,      8,      8,2,20000508,1327, -0.0517,-110.1533, 3788,   1999.6,   2.2265,  34.6457,2,  34.6453,2,   -999.0,9,   -999.0,9,  2.0865
   33KMGP200_1,  PR16,    37,  1,      5,      5,2,20000508,1327, -0.0517,-110.1533, 3788,   2502.3,   1.8446,  34.6662,2,  34.6665,2,   -999.0,9,   -999.0,9,  1.6669
   33KMGP200_1,  PR16,    37,  1,      6,      6,2,20000508,1327, -0.0517,-110.1533, 3788,   2503.2,   1.8445,  34.6664,2,  34.6657,2,   -999.0,9,   -999.0,9,  1.6667
   33KMGP200_1,  PR16,    37,  1,      3,      3,2,20000508,1327, -0.0517,-110.1533, 3788,   2748.0,   1.7462,  34.6729,2,  34.6713,2,   -999.0,9,   -999.0,9,  1.5479
   33KMGP200_1,  PR16,    37,  1,      4,      4,2,20000508,1327, -0.0517,-110.1533, 3788,   2748.2,   1.7461,  34.6732,2,  34.6719,2,   -999.0,9,   -999.0,9,  1.5477
   33KMGP200_1,  PR16,    37,  1,      2,      2,2,20000508,1327, -0.0517,-110.1533, 3788,   3004.1,   1.7033,  34.6758,2,  34.6755,2,   -999.0,9,   -999.0,9,  1.4816
   33KMGP200_1,  PR16,    37,  1,      1,      1,2,20000508,1327, -0.0517,-110.1533, 3788,   3004.8,   1.7029,  34.6760,2,  34.6746,2,   -999.0,9,   -999.0,9,  1.4811
   33KMGP200_1,  PR16,    39,  1,     12,     12,2,20000509,0306,  1.0000,-110.1500, 3837,      2.0,  26.5569,  35.1018,2,  35.1007,2,   -999.0,9,   -999.0,9, 26.5565
   33KMGP200_1,  PR16,    39,  1,     11,     11,2,20000509,0306,  1.0000,-110.1500, 3837,     11.1,  26.3733,  35.0955,2,  35.0963,2,   -999.0,9,   -999.0,9, 26.3708
   33KMGP200_1,  PR16,    39,  1,     10,     10,2,20000509,0306,  1.0000,-110.1500, 3837,     25.2,  26.2732,  35.0799,2,  35.0921,2,   -999.0,9,   -999.0,9, 26.2675
   33KMGP200_1,  PR16,    39,  1,      8,      8,2,20000509,0306,  1.0000,-110.1500, 3837,     61.4,  18.0262,  34.8175,2,  34.8182,2,   -999.0,9,   -999.0,9, 18.0157
   33KMGP200_1,  PR16,    39,  1,      6,      6,2,20000509,0306,  1.0000,-110.1500, 3837,    150.2,  13.1714,  34.9167,2,  34.9166,2,   -999.0,9,   -999.0,9, 13.1506
   33KMGP200_1,  PR16,    39,  1,      5,      5,2,20000509,0306,  1.0000,-110.1500, 3837,    199.9,  12.7744,  34.9037,2,  34.9033,2,   -999.0,9,   -999.0,9, 12.7473
   33KMGP200_1,  PR16,    39,  1,      4,      4,2,20000509,0306,  1.0000,-110.1500, 3837,    400.4,   8.8857,  34.6674,2,  34.6674,2,   -999.0,9,   -999.0,9,  8.8422
   33KMGP200_1,  PR16,    39,  1,      3,      3,2,20000509,0306,  1.0000,-110.1500, 3837,    600.8,   7.0772,  34.5837,2,  34.5828,2,   -999.0,9,   -999.0,9,  7.0193
   33KMGP200_1,  PR16,    39,  1,      2,      2,2,20000509,0306,  1.0000,-110.1500, 3837,    801.2,   5.5356,  34.5496,2,  34.5486,2,   -999.0,9,   -999.0,9,  5.4666
   33KMGP200_1,  PR16,    39,  1,      1,      1,2,20000509,0306,  1.0000,-110.1500, 3837,   1003.5,   4.6376,  34.5590,2,  34.5584,2,   -999.0,9,   -999.0,9,  4.5566
   33KMGP200_1,  PR16,    40,  1,     12,     12,2,20000509,0726,  1.5033,-110.2050, 3810,      1.9,  26.8074,  35.0375,2,  35.0378,2,   -999.0,9,   -999.0,9, 26.8069
   33KMGP200_1,  PR16,    40,  1,     11,     11,2,20000509,0726,  1.5033,-110.2050, 3810,      9.4,  26.8098,  35.0378,2,  35.0377,2,   -999.0,9,   -999.0,9, 26.8076
   33KMGP200_1,  PR16,    40,  1,     10,     10,2,20000509,0726,  1.5033,-110.2050, 3810,     23.9,  26.7108,  35.0259,2,  35.0311,2,   -999.0,9,   -999.0,9, 26.7053
   33KMGP200_1,  PR16,    40,  1,      8,      8,2,20000509,0726,  1.5033,-110.2050, 3810,     58.9,  18.2916,  34.7905,2,  34.8122,2,   -999.0,9,   -999.0,9, 18.2814
   33KMGP200_1,  PR16,    40,  1,      7,      7,2,20000509,0726,  1.5033,-110.2050, 3810,    100.3,  14.0452,  34.9392,2,  34.9469,2,   -999.0,9,   -999.0,9, 14.0308
   33KMGP200_1,  PR16,    40,  1,      6,      6,2,20000509,0726,  1.5033,-110.2050, 3810,    149.1,  13.2853,  34.9259,2,  34.9268,2,   -999.0,9,   -999.0,9, 13.2646
   33KMGP200_1,  PR16,    40,  1,      5,      5,2,20000509,0726,  1.5033,-110.2050, 3810,    200.1,  12.6975,  34.8820,2,  34.8820,2,   -999.0,9,   -999.0,9, 12.6704
   33KMGP200_1,  PR16,    40,  1,      4,      4,2,20000509,0726,  1.5033,-110.2050, 3810,    398.6,   8.8308,  34.6565,2,  34.6587,2,   -999.0,9,   -999.0,9,  8.7877
   33KMGP200_1,  PR16,    40,  1,      3,      3,2,20000509,0726,  1.5033,-110.2050, 3810,    600.8,   7.0770,  34.5842,2,  34.5840,2,   -999.0,9,   -999.0,9,  7.0191
   33KMGP200_1,  PR16,    40,  1,      2,      2,2,20000509,0726,  1.5033,-110.2050, 3810,    800.2,   5.9244,  34.5572,2,  34.5572,2,   -999.0,9,   -999.0,9,  5.8532
   33KMGP200_1,  PR16,    40,  1,      1,      1,2,20000509,0726,  1.5033,-110.2050, 3810,   1000.9,   4.6535,  34.5638,2,  34.5631,2,   -999.0,9,   -999.0,9,  4.5726
   33KMGP200_1,  PR16,    41,  1,     12,     12,2,20000509,1329,  2.0583,-110.2767, 3768,    999.1,   4.6274,  34.5638,2,  34.5648,2,   -999.0,9,   -999.0,9,  4.5469
   33KMGP200_1,  PR16,    41,  1,     11,     11,2,20000509,1329,  2.0583,-110.2767, 3768,   1250.2,   3.6057,  34.5874,2,  34.5881,2,   -999.0,9,   -999.0,9,  3.5124
   33KMGP200_1,  PR16,    41,  1,     10,     10,2,20000509,1329,  2.0583,-110.2767, 3768,   1499.3,   3.0370,  34.6106,2,  34.6110,2,   -999.0,9,   -999.0,9,  2.9287
   33KMGP200_1,  PR16,    41,  1,      8,      8,2,20000509,1329,  2.0583,-110.2767, 3768,   1999.7,   2.3165,  34.6403,2,  34.6408,2,   -999.0,9,   -999.0,9,  2.1753
   33KMGP200_1,  PR16,    41,  1,      7,      7,2,20000509,1329,  2.0583,-110.2767, 3768,   2249.4,   2.0524,  34.6548,2,  34.6558,2,   -999.0,9,   -999.0,9,  1.8936
   33KMGP200_1,  PR16,    41,  1,      5,      5,2,20000509,1329,  2.0583,-110.2767, 3768,   2497.6,   1.8461,  34.6670,2,  34.6666,2,   -999.0,9,   -999.0,9,  1.6688
   33KMGP200_1,  PR16,    41,  1,      6,      6,2,20000509,1329,  2.0583,-110.2767, 3768,   2498.1,   1.8467,  34.6669,2,  34.6669,2,   -999.0,9,   -999.0,9,  1.6693
   33KMGP200_1,  PR16,    41,  1,      4,      4,2,20000509,1329,  2.0583,-110.2767, 3768,   2749.0,   1.7680,  34.6713,2,  34.6716,2,   -999.0,9,   -999.0,9,  1.5691
   33KMGP200_1,  PR16,    41,  1,      3,      3,2,20000509,1329,  2.0583,-110.2767, 3768,   2749.4,   1.7671,  34.6714,2,  34.6710,2,   -999.0,9,   -999.0,9,  1.5682
   33KMGP200_1,  PR16,    41,  1,      1,      1,2,20000509,1329,  2.0583,-110.2767, 3768,   3001.3,   1.6871,  34.6759,2,  34.6760,2,   -999.0,9,   -999.0,9,  1.4660
   33KMGP200_1,  PR16,    41,  1,      2,      2,2,20000509,1329,  2.0583,-110.2767, 3768,   3002.2,   1.6863,  34.6761,2,  34.6755,2,   -999.0,9,   -999.0,9,  1.4651
   33KMGP200_1,  PR16,    42,  1,     12,     12,2,20000509,2355,  2.9983,-110.1900, 3767,      2.1,  28.2474,  34.7422,2,  34.7414,2,   -999.0,9,   -999.0,9, 28.2469
   33KMGP200_1,  PR16,    42,  1,     11,     11,2,20000509,2355,  2.9983,-110.1900, 3767,      9.6,  28.1857,  34.7350,2,  34.7392,2,   -999.0,9,   -999.0,9, 28.1835
   33KMGP200_1,  PR16,    42,  1,     10,     10,2,20000509,2355,  2.9983,-110.1900, 3767,     25.5,  26.8358,  34.6016,2,  34.6461,2,   -999.0,9,   -999.0,9, 26.8299
   33KMGP200_1,  PR16,    42,  1,      9,      9,2,20000509,2355,  2.9983,-110.1900, 3767,     39.0,  19.5105,  34.7241,2,  34.7404,2,   -999.0,9,   -999.0,9, 19.5035
   33KMGP200_1,  PR16,    42,  1,      8,      8,2,20000509,2355,  2.9983,-110.1900, 3767,     61.3,  14.4671,  34.9665,2,  34.9658,2,   -999.0,9,   -999.0,9, 14.4581
   33KMGP200_1,  PR16,    42,  1,      6,      6,2,20000509,2355,  2.9983,-110.1900, 3767,    151.4,  13.3361,  34.9212,2,  34.9217,2,   -999.0,9,   -999.0,9, 13.3150
   33KMGP200_1,  PR16,    42,  1,      5,      5,2,20000509,2355,  2.9983,-110.1900, 3767,    199.1,  12.8008,  34.8922,2,  34.8908,2,   -999.0,9,   -999.0,9, 12.7737
   33KMGP200_1,  PR16,    42,  1,      4,      4,2,20000509,2355,  2.9983,-110.1900, 3767,    400.3,   9.1539,  34.6634,2,  34.6645,2,   -999.0,9,   -999.0,9,  9.1096
   33KMGP200_1,  PR16,    42,  1,      3,      3,2,20000509,2355,  2.9983,-110.1900, 3767,    600.5,   6.9432,  34.5731,2,  34.5727,2,   -999.0,9,   -999.0,9,  6.8860
   33KMGP200_1,  PR16,    42,  1,      2,      2,2,20000509,2355,  2.9983,-110.1900, 3767,    802.3,   5.8887,  34.5594,2,  34.5597,2,   -999.0,9,   -999.0,9,  5.8175
   33KMGP200_1,  PR16,    43,  1,     12,     12,2,20000510,0705,  3.9983,-110.0817, 3898,      1.5,  28.3591,  34.3473,2,  34.3468,2,   -999.0,9,   -999.0,9, 28.3587
   33KMGP200_1,  PR16,    43,  1,     11,     11,2,20000510,0705,  3.9983,-110.0817, 3898,     10.5,  28.3601,  34.3463,2,  34.3481,2,   -999.0,9,   -999.0,9, 28.3576
   33KMGP200_1,  PR16,    43,  1,     10,     10,2,20000510,0705,  3.9983,-110.0817, 3898,     25.2,  27.3270,  34.5978,2,  34.5835,2,   -999.0,9,   -999.0,9, 27.3212
   33KMGP200_1,  PR16,    43,  1,      8,      8,2,20000510,0705,  3.9983,-110.0817, 3898,     59.4,  15.1708,  34.9065,2,  34.9075,2,   -999.0,9,   -999.0,9, 15.1617
   33KMGP200_1,  PR16,    43,  1,      7,      7,2,20000510,0705,  3.9983,-110.0817, 3898,    100.9,  13.9114,  34.9468,2,  34.9479,2,   -999.0,9,   -999.0,9, 13.8969
   33KMGP200_1,  PR16,    43,  1,      6,      6,2,20000510,0705,  3.9983,-110.0817, 3898,    150.5,  13.2668,  34.9181,2,  34.9182,2,   -999.0,9,   -999.0,9, 13.2459
   33KMGP200_1,  PR16,    43,  1,      5,      5,2,20000510,0705,  3.9983,-110.0817, 3898,    201.9,  12.8313,  34.8968,2,  34.8985,2,   -999.0,9,   -999.0,9, 12.8038
   33KMGP200_1,  PR16,    43,  1,      4,      4,2,20000510,0705,  3.9983,-110.0817, 3898,    398.5,   9.8731,  34.6941,2,  34.6938,2,   -999.0,9,   -999.0,9,  9.8270
   33KMGP200_1,  PR16,    43,  1,      3,      3,2,20000510,0705,  3.9983,-110.0817, 3898,    600.1,   7.1185,  34.5867,2,  34.5863,2,   -999.0,9,   -999.0,9,  7.0605
   33KMGP200_1,  PR16,    43,  1,      2,      2,2,20000510,0705,  3.9983,-110.0817, 3898,    800.1,   5.8719,  34.5571,2,  34.5570,2,   -999.0,9,   -999.0,9,  5.8010
   33KMGP200_1,  PR16,    43,  1,      1,      1,2,20000510,0705,  3.9983,-110.0817, 3898,   1003.6,   4.7899,  34.5635,2,  34.5625,2,   -999.0,9,   -999.0,9,  4.7078
   33KMGP200_1,  PR16,    44,  1,     12,     12,2,20000510,1358,  4.9583,-109.9717, 3877,      2.3,  28.5009,  33.4625,2,  33.4584,2,   -999.0,9,   -999.0,9, 28.5003
   33KMGP200_1,  PR16,    44,  1,     11,     11,2,20000510,1358,  4.9583,-109.9717, 3877,      9.6,  28.6318,  33.9647,2,  33.9773,2,   -999.0,9,   -999.0,9, 28.6295
   33KMGP200_1,  PR16,    44,  1,     10,     10,2,20000510,1358,  4.9583,-109.9717, 3877,     24.9,  20.5806,  34.6630,2,  34.6905,2,   -999.0,9,   -999.0,9, 20.5759
   33KMGP200_1,  PR16,    44,  1,      8,      8,2,20000510,1358,  4.9583,-109.9717, 3877,     60.5,  14.2640,  34.9272,2,  34.9314,2,   -999.0,9,   -999.0,9, 14.2552
   33KMGP200_1,  PR16,    44,  1,      7,      7,2,20000510,1358,  4.9583,-109.9717, 3877,    100.2,  13.4741,  34.9284,2,  34.9298,2,   -999.0,9,   -999.0,9, 13.4600
   33KMGP200_1,  PR16,    44,  1,      6,      6,2,20000510,1358,  4.9583,-109.9717, 3877,    150.6,  13.0225,  34.8994,2,  34.9203,2,   -999.0,9,   -999.0,9, 13.0018
   33KMGP200_1,  PR16,    44,  1,      5,      5,2,20000510,1358,  4.9583,-109.9717, 3877,    199.9,  12.5163,  34.8685,2,  34.8680,2,   -999.0,9,   -999.0,9, 12.4895
   33KMGP200_1,  PR16,    44,  1,      4,      4,2,20000510,1358,  4.9583,-109.9717, 3877,    399.8,   9.9639,  34.6958,2,  34.6960,2,   -999.0,9,   -999.0,9,  9.9173
   33KMGP200_1,  PR16,    44,  1,      3,      3,2,20000510,1358,  4.9583,-109.9717, 3877,    600.0,   7.6083,  34.6027,2,  34.6038,2,   -999.0,9,   -999.0,9,  7.5481
   33KMGP200_1,  PR16,    44,  1,      2,      2,2,20000510,1358,  4.9583,-109.9717, 3877,    798.7,   5.7420,  34.5620,2,  34.5623,2,   -999.0,9,   -999.0,9,  5.6720
   33KMGP200_1,  PR16,    44,  1,      1,      1,2,20000510,1358,  4.9583,-109.9717, 3877,   1001.7,   4.7268,  34.5629,2,  34.5638,2,   -999.0,9,   -999.0,9,  4.6453
   33KMGP200_1,  PR16,    45,  1,     12,     12,2,20000511,0931,  6.0033,-110.0450, 3486,      1.9,  28.8191,  34.0725,2,  34.0696,2,   -999.0,9,   -999.0,9, 28.8186
   33KMGP200_1,  PR16,    45,  1,     10,     10,2,20000511,0931,  6.0033,-110.0450, 3486,     10.0,  28.8272,  34.0721,2,  34.0727,2,   -999.0,9,   -999.0,9, 28.8248
   33KMGP200_1,  PR16,    45,  1,     11,     11,2,20000511,0931,  6.0033,-110.0450, 3486,     10.4,  28.8228,  34.0725,2,  34.0720,2,   -999.0,9,   -999.0,9, 28.8203
   33KMGP200_1,  PR16,    45,  1,      8,      8,2,20000511,0931,  6.0033,-110.0450, 3486,     39.7,  20.8189,  34.6318,2,  34.6465,2,   -999.0,9,   -999.0,9, 20.8114
   33KMGP200_1,  PR16,    45,  1,      6,      6,2,20000511,0931,  6.0033,-110.0450, 3486,    100.7,  13.0146,  34.7195,2,  34.7261,2,   -999.0,9,   -999.0,9, 13.0008
   33KMGP200_1,  PR16,    45,  1,      5,      5,2,20000511,0931,  6.0033,-110.0450, 3486,    150.3,  11.7969,  34.7191,2,  34.7201,2,   -999.0,9,   -999.0,9, 11.7776
   33KMGP200_1,  PR16,    45,  1,      4,      4,2,20000511,0931,  6.0033,-110.0450, 3486,    200.0,  11.2616,  34.7215,2,  34.7212,2,   -999.0,9,   -999.0,9, 11.2366
   33KMGP200_1,  PR16,    45,  1,      3,      3,2,20000511,0931,  6.0033,-110.0450, 3486,    600.6,   7.6390,  34.6017,2,  34.6004,2,   -999.0,9,   -999.0,9,  7.5786
   33KMGP200_1,  PR16,    45,  1,      2,      2,2,20000511,0931,  6.0033,-110.0450, 3486,    799.7,   5.8278,  34.5605,2,  34.5602,2,   -999.0,9,   -999.0,9,  5.7572
   33KMGP200_1,  PR16,    45,  1,      1,      1,2,20000511,0931,  6.0033,-110.0450, 3486,   1000.5,   4.8025,  34.5599,2,  34.5584,2,   -999.0,9,   -999.0,9,  4.7206
   33KMGP200_1,  PR16,    46,  1,     12,     12,2,20000511,1717,  7.0050,-110.0933, 3727,      2.2,  28.8945,  33.2791,2,  33.2789,2,   -999.0,9,   -999.0,9, 28.8939
   33KMGP200_1,  PR16,    46,  1,     11,     11,2,20000511,1717,  7.0050,-110.0933, 3727,     10.3,  28.9986,  33.7245,2,  33.7198,2,   -999.0,9,   -999.0,9, 28.9962
   33KMGP200_1,  PR16,    46,  1,     10,     10,2,20000511,1717,  7.0050,-110.0933, 3727,     24.6,  29.2547,  34.3080,2,  34.3748,2,   -999.0,9,   -999.0,9, 29.2487
   33KMGP200_1,  PR16,    46,  1,      8,      8,2,20000511,1717,  7.0050,-110.0933, 3727,     59.1,  17.7784,  34.6381,2,  34.6530,2,   -999.0,9,   -999.0,9, 17.7684
   33KMGP200_1,  PR16,    46,  1,      6,      6,2,20000511,1717,  7.0050,-110.0933, 3727,    160.5,  11.8338,  34.7714,2,  34.7737,2,   -999.0,9,   -999.0,9, 11.8131
   33KMGP200_1,  PR16,    46,  1,      5,      5,2,20000511,1717,  7.0050,-110.0933, 3727,    198.4,  11.1872,  34.7482,2,  34.7491,2,   -999.0,9,   -999.0,9, 11.1626
   33KMGP200_1,  PR16,    46,  1,      4,      4,2,20000511,1717,  7.0050,-110.0933, 3727,    399.8,   9.2868,  34.6610,2,  34.6629,2,   -999.0,9,   -999.0,9,  9.2422
   33KMGP200_1,  PR16,    46,  1,      3,      3,2,20000511,1717,  7.0050,-110.0933, 3727,    601.8,   6.8882,  34.5708,2,  34.5719,2,   -999.0,9,   -999.0,9,  6.8311
   33KMGP200_1,  PR16,    46,  1,      2,      2,2,20000511,1717,  7.0050,-110.0933, 3727,    800.2,   5.5216,  34.5607,2,  34.5613,2,   -999.0,9,   -999.0,9,  5.4528
   33KMGP200_1,  PR16,    46,  1,      1,      1,2,20000511,1717,  7.0050,-110.0933, 3727,   1000.9,   4.6509,  34.5627,2,  34.5634,2,   -999.0,9,   -999.0,9,  4.5700
   33KMGP200_1,  PR16,    47,  1,     12,     12,2,20000512,0354,  8.0467,-110.1500, 3623,      2.1,  28.7833,  33.3510,2,  33.3517,2,   -999.0,9,   -999.0,9, 28.7828
   33KMGP200_1,  PR16,    47,  1,     11,     11,2,20000512,0354,  8.0467,-110.1500, 3623,     10.6,  28.7785,  33.3482,2,  33.3499,2,   -999.0,9,   -999.0,9, 28.7760
   33KMGP200_1,  PR16,    47,  1,     10,     10,2,20000512,0354,  8.0467,-110.1500, 3623,     25.8,  28.9130,  33.6073,2,  33.5718,2,   -999.0,9,   -999.0,9, 28.9068
   33KMGP200_1,  PR16,    47,  1,      8,      8,2,20000512,0354,  8.0467,-110.1500, 3623,     59.2,  21.2037,  34.3926,2,  34.4258,2,   -999.0,9,   -999.0,9, 21.1924
   33KMGP200_1,  PR16,    47,  1,      6,      6,2,20000512,0354,  8.0467,-110.1500, 3623,    149.6,  12.3099,  34.7781,2,  34.7773,2,   -999.0,9,   -999.0,9, 12.2902
   33KMGP200_1,  PR16,    47,  1,      5,      5,2,20000512,0354,  8.0467,-110.1500, 3623,    201.0,  11.6398,  34.7585,2,  34.7583,2,   -999.0,9,   -999.0,9, 11.6142
   33KMGP200_1,  PR16,    47,  1,      4,      4,2,20000512,0354,  8.0467,-110.1500, 3623,    400.8,   9.4312,  34.6725,2,  34.6735,2,   -999.0,9,   -999.0,9,  9.3861
   33KMGP200_1,  PR16,    47,  1,      2,      2,2,20000512,0354,  8.0467,-110.1500, 3623,    600.1,   6.9439,  34.5726,2,  34.5721,2,   -999.0,9,   -999.0,9,  6.8867
   33KMGP200_1,  PR16,    47,  1,      3,      3,2,20000512,0354,  8.0467,-110.1500, 3623,    600.7,   6.9335,  34.5730,2,  34.5718,2,   -999.0,9,   -999.0,9,  6.8763
   33KMGP200_1,  PR16,    47,  1,      1,      1,2,20000512,0354,  8.0467,-110.1500, 3623,    800.0,   5.7938,  34.5571,2,  34.5573,2,   -999.0,9,   -999.0,9,  5.7234