BOTTLE,20020603WHPSIOKJU
#code : jjward hyd_to_exchange.pl 
#original files copied from HTML directory: 20020603
#original HYD file: pr16_aahy.txt   Thu Jun 21 13:55:20 2001
#original SUM file: pr16_aasu.txt   Mon Jun  3 12:04:44 2002
EXPOCODE,SECT_ID,STNNBR,CASTNO,SAMPNO,BTLNBR,BTLNBR_FLAG_W,DATE,TIME,LATITUDE,LONGITUDE,DEPTH,CTDPRS,CTDTMP,CTDSAL,CTDSAL_FLAG_W,SALNTY,SALNTY_FLAG_W,CTDOXY,CTDOXY_FLAG_W,OXYGEN,OXYGEN_FLAG_W,THETA
,,,,,,,,,,,,DBAR,ITS-90,PSS-78,,PSS-78,,UMOL/KG,,UMOL/KG,,DEG C
   33KMGP200_1,  PR16,    27,  1,     12,     12,2,20000504,1025, -8.0233,-109.9217, 3500,      2.5,  26.7419,  34.8785,2,  34.8776,2,   -999.0,9,   -999.0,9, 26.7413
   33KMGP200_1,  PR16,    27,  1,     11,     11,2,20000504,1025, -8.0233,-109.9217, 3500,     10.2,  26.7573,  34.8792,2,  34.8787,2,   -999.0,9,   -999.0,9, 26.7550
   33KMGP200_1,  PR16,    27,  1,     10,     10,2,20000504,1025, -8.0233,-109.9217, 3500,     24.6,  26.7556,  34.8776,2,  34.8780,2,   -999.0,9,   -999.0,9, 26.7500
   33KMGP200_1,  PR16,    27,  1,      9,      9,2,20000504,1025, -8.0233,-109.9217, 3500,     39.6,  24.9113,  34.9143,2,  34.9299,2,   -999.0,9,   -999.0,9, 24.9028
   33KMGP200_1,  PR16,    27,  1,      8,      8,2,20000504,1025, -8.0233,-109.9217, 3500,     60.8,  21.4496,  35.5043,2,  35.5295,2,   -999.0,9,   -999.0,9, 21.4377
   33KMGP200_1,  PR16,    27,  1,      7,      7,2,20000504,1025, -8.0233,-109.9217, 3500,    101.4,  16.9988,  35.2229,2,  35.2337,2,   -999.0,9,   -999.0,9, 16.9821
   33KMGP200_1,  PR16,    27,  1,      6,      6,2,20000504,1025, -8.0233,-109.9217, 3500,    150.8,  13.1974,  34.8646,2,  34.8727,2,   -999.0,9,   -999.0,9, 13.1765
   33KMGP200_1,  PR16,    27,  1,      5,      5,2,20000504,1025, -8.0233,-109.9217, 3500,    199.7,  11.5465,  34.8193,2,  34.8180,2,   -999.0,9,   -999.0,9, 11.5212
   33KMGP200_1,  PR16,    27,  1,      4,      4,2,20000504,1025, -8.0233,-109.9217, 3500,    401.8,   9.0397,  34.6854,2,  34.6838,2,   -999.0,9,   -999.0,9,  8.9956
   33KMGP200_1,  PR16,    27,  1,      3,      3,2,20000504,1025, -8.0233,-109.9217, 3500,    599.4,   6.8508,  34.5760,2,  34.5749,2,   -999.0,9,   -999.0,9,  6.7940
   33KMGP200_1,  PR16,    27,  1,      2,      2,2,20000504,1025, -8.0233,-109.9217, 3500,    800.6,   5.2977,  34.5370,2,  34.5355,2,   -999.0,9,   -999.0,9,  5.2303
   33KMGP200_1,  PR16,    27,  1,      1,      1,2,20000504,1025, -8.0233,-109.9217, 3500,   1002.1,   4.3419,  34.5468,2,  34.5472,2,   -999.0,9,   -999.0,9,  4.2633
   33KMGP200_1,  PR16,    28,  1,     12,     12,2,20000504,1823, -7.0017,-109.9483, 3582,      3.0,  26.9421,  34.7689,2,  34.7694,2,   -999.0,9,   -999.0,9, 26.9414
   33KMGP200_1,  PR16,    28,  1,     11,     11,2,20000504,1823, -7.0017,-109.9483, 3582,     10.3,  26.9332,  34.7688,2,  34.7686,2,   -999.0,9,   -999.0,9, 26.9309
   33KMGP200_1,  PR16,    28,  1,     10,     10,2,20000504,1823, -7.0017,-109.9483, 3582,     24.3,  26.9027,  34.7671,2,  34.7663,2,   -999.0,9,   -999.0,9, 26.8972
   33KMGP200_1,  PR16,    28,  1,      9,      9,2,20000504,1823, -7.0017,-109.9483, 3582,     39.8,  26.6438,  34.8672,2,  34.8067,2,   -999.0,9,   -999.0,9, 26.6348
   33KMGP200_1,  PR16,    28,  1,      8,      8,2,20000504,1823, -7.0017,-109.9483, 3582,     59.0,  21.7618,  35.5792,2,  35.5901,2,   -999.0,9,   -999.0,9, 21.7502
   33KMGP200_1,  PR16,    28,  1,      7,      7,2,20000504,1823, -7.0017,-109.9483, 3582,    100.1,  15.1685,  34.9830,2,  35.0236,2,   -999.0,9,   -999.0,9, 15.1532
   33KMGP200_1,  PR16,    28,  1,      6,      6,2,20000504,1823, -7.0017,-109.9483, 3582,    152.1,  12.7135,  34.9267,2,  34.9261,2,   -999.0,9,   -999.0,9, 12.6930
   33KMGP200_1,  PR16,    28,  1,      4,      4,2,20000504,1823, -7.0017,-109.9483, 3582,    399.8,   9.3867,  34.7082,2,  34.7087,2,   -999.0,9,   -999.0,9,  9.3418
   33KMGP200_1,  PR16,    28,  1,      3,      3,2,20000504,1823, -7.0017,-109.9483, 3582,    597.0,   6.7737,  34.5712,2,  34.5719,2,   -999.0,9,   -999.0,9,  6.7175
   33KMGP200_1,  PR16,    28,  1,      2,      2,2,20000504,1823, -7.0017,-109.9483, 3582,    798.6,   5.4436,  34.5430,2,  34.5423,2,   -999.0,9,   -999.0,9,  5.3755
   33KMGP200_1,  PR16,    28,  1,      1,      1,2,20000504,1823, -7.0017,-109.9483, 3582,   1001.4,   4.5245,  34.5485,2,  34.5486,2,   -999.0,9,   -999.0,9,  4.4446
   33KMGP200_1,  PR16,    29,  1,     12,     12,2,20000505,0208, -6.0000,-109.9783, 3645,      2.3,  26.8468,  34.7341,2,  34.7332,2,   -999.0,9,   -999.0,9, 26.8462
   33KMGP200_1,  PR16,    29,  1,     11,     11,2,20000505,0208, -6.0000,-109.9783, 3645,     10.3,  26.8468,  34.7351,2,  34.7344,2,   -999.0,9,   -999.0,9, 26.8444
   33KMGP200_1,  PR16,    29,  1,     10,     10,2,20000505,0208, -6.0000,-109.9783, 3645,     24.4,  26.8509,  34.7346,2,  34.7339,2,   -999.0,9,   -999.0,9, 26.8453
   33KMGP200_1,  PR16,    29,  1,      9,      9,2,20000505,0208, -6.0000,-109.9783, 3645,     39.2,  26.7729,  34.7320,2,  34.7438,2,   -999.0,9,   -999.0,9, 26.7639
   33KMGP200_1,  PR16,    29,  1,      8,      8,2,20000505,0208, -6.0000,-109.9783, 3645,     57.4,  20.6129,  35.4630,2,  35.5232,2,   -999.0,9,   -999.0,9, 20.6020
   33KMGP200_1,  PR16,    29,  1,      7,      7,2,20000505,0208, -6.0000,-109.9783, 3645,     99.7,  14.6323,  35.0158,2,  35.0232,2,   -999.0,9,   -999.0,9, 14.6175
   33KMGP200_1,  PR16,    29,  1,      6,      6,2,20000505,0208, -6.0000,-109.9783, 3645,    149.2,  12.6212,  34.9207,2,  34.9221,2,   -999.0,9,   -999.0,9, 12.6011
   33KMGP200_1,  PR16,    29,  1,      5,      5,2,20000505,0208, -6.0000,-109.9783, 3645,    199.4,  11.6024,  34.8525,2,  34.8513,2,   -999.0,9,   -999.0,9, 11.5770
   33KMGP200_1,  PR16,    29,  1,      4,      4,2,20000505,0208, -6.0000,-109.9783, 3645,    399.7,   8.9138,  34.6805,2,  34.6801,2,   -999.0,9,   -999.0,9,  8.8703
   33KMGP200_1,  PR16,    29,  1,      3,      3,2,20000505,0208, -6.0000,-109.9783, 3645,    600.3,   6.6685,  34.5745,2,  34.5728,2,   -999.0,9,   -999.0,9,  6.6125
   33KMGP200_1,  PR16,    29,  1,      2,      2,2,20000505,0208, -6.0000,-109.9783, 3645,    798.5,   5.3389,  34.5455,2,  34.5443,2,   -999.0,9,   -999.0,9,  5.2714
   33KMGP200_1,  PR16,    29,  1,      1,      1,2,20000505,0208, -6.0000,-109.9783, 3645,   1001.1,   4.4877,  34.5481,2,  34.5473,2,   -999.0,9,   -999.0,9,  4.4081
   33KMGP200_1,  PR16,    30,  1,     12,     12,2,20000505,1324, -5.0250,-109.9767, 3477,    999.2,   4.6838,  34.5438,2,  34.5453,2,   -999.0,9,   -999.0,9,  4.6029
   33KMGP200_1,  PR16,    30,  1,     11,     11,2,20000505,1324, -5.0250,-109.9767, 3477,   1249.6,   3.6045,  34.5763,2,  34.5772,2,   -999.0,9,   -999.0,9,  3.5113
   33KMGP200_1,  PR16,    30,  1,     10,     10,2,20000505,1324, -5.0250,-109.9767, 3477,   1499.9,   3.0684,  34.5987,2,  34.5985,2,   -999.0,9,   -999.0,9,  2.9597
   33KMGP200_1,  PR16,    30,  1,      9,      9,2,20000505,1324, -5.0250,-109.9767, 3477,   1749.1,   2.6710,  34.6196,2,  34.6203,2,   -999.0,9,   -999.0,9,  2.5461
   33KMGP200_1,  PR16,    30,  1,      8,      8,2,20000505,1324, -5.0250,-109.9767, 3477,   1999.3,   2.3334,  34.6391,2,  34.6402,2,   -999.0,9,   -999.0,9,  2.1920
   33KMGP200_1,  PR16,    30,  1,      7,      7,2,20000505,1324, -5.0250,-109.9767, 3477,   2249.1,   2.1024,  34.6521,2,  34.6532,2,   -999.0,9,   -999.0,9,  1.9428
   33KMGP200_1,  PR16,    30,  1,      6,      6,2,20000505,1324, -5.0250,-109.9767, 3477,   2499.1,   1.9403,  34.6627,2,  34.6635,2,   -999.0,9,   -999.0,9,  1.7612
   33KMGP200_1,  PR16,    30,  1,      5,      5,2,20000505,1324, -5.0250,-109.9767, 3477,   2499.4,   1.9399,  34.6627,2,  34.6629,2,   -999.0,9,   -999.0,9,  1.7607
   33KMGP200_1,  PR16,    30,  1,      4,      4,2,20000505,1324, -5.0250,-109.9767, 3477,   2750.0,   1.8026,  34.6722,2,  34.6730,2,   -999.0,9,   -999.0,9,  1.6029
   33KMGP200_1,  PR16,    30,  1,      3,      3,2,20000505,1324, -5.0250,-109.9767, 3477,   2750.1,   1.8022,  34.6723,2,  34.6730,2,   -999.0,9,   -999.0,9,  1.6025
   33KMGP200_1,  PR16,    30,  1,      2,      2,2,20000505,1324, -5.0250,-109.9767, 3477,   3003.8,   1.7273,  34.6773,2,  34.6779,2,   -999.0,9,   -999.0,9,  1.5051
   33KMGP200_1,  PR16,    30,  1,      1,      1,2,20000505,1324, -5.0250,-109.9767, 3477,   3003.9,   1.7271,  34.6774,2,  34.6793,2,   -999.0,9,   -999.0,9,  1.5049
   33KMGP200_1,  PR16,    31,  1,     12,     12,2,20000506,0908, -3.9983,-109.9683, 3888,      2.7,  26.7333,  34.7596,2,  34.7578,2,   -999.0,9,   -999.0,9, 26.7327
   33KMGP200_1,  PR16,    31,  1,     11,     11,2,20000506,0908, -3.9983,-109.9683, 3888,     10.0,  26.7421,  34.7419,2,  34.7605,2,   -999.0,9,   -999.0,9, 26.7398
   33KMGP200_1,  PR16,    31,  1,     10,     10,2,20000506,0908, -3.9983,-109.9683, 3888,     24.3,  20.3974,  35.3592,2,  35.3714,2,   -999.0,9,   -999.0,9, 20.3928
   33KMGP200_1,  PR16,    31,  1,      9,      9,2,20000506,0908, -3.9983,-109.9683, 3888,     39.3,  16.5223,  35.1262,2,  35.1442,2,   -999.0,9,   -999.0,9, 16.5160
   33KMGP200_1,  PR16,    31,  1,      8,      8,2,20000506,0908, -3.9983,-109.9683, 3888,     61.2,  14.4399,  35.0085,2,  35.0086,2,   -999.0,9,   -999.0,9, 14.4309
   33KMGP200_1,  PR16,    31,  1,      7,      7,2,20000506,0908, -3.9983,-109.9683, 3888,    100.5,  13.4558,  34.9624,2,  34.9611,2,   -999.0,9,   -999.0,9, 13.4417
   33KMGP200_1,  PR16,    31,  1,      6,      6,2,20000506,0908, -3.9983,-109.9683, 3888,    148.6,  12.9183,  34.9228,2,  34.9211,2,   -999.0,9,   -999.0,9, 12.8980
   33KMGP200_1,  PR16,    31,  1,      5,      5,2,20000506,0908, -3.9983,-109.9683, 3888,    199.6,  12.4609,  34.8953,2,  34.8936,2,   -999.0,9,   -999.0,9, 12.4342
   33KMGP200_1,  PR16,    31,  1,      4,      4,2,20000506,0908, -3.9983,-109.9683, 3888,    399.2,   9.1278,  34.6908,2,  34.6887,2,   -999.0,9,   -999.0,9,  9.0837
   33KMGP200_1,  PR16,    31,  1,      3,      3,2,20000506,0908, -3.9983,-109.9683, 3888,    599.5,   6.9766,  34.5862,2,  34.5853,2,   -999.0,9,   -999.0,9,  6.9193
   33KMGP200_1,  PR16,    31,  1,      2,      2,2,20000506,0908, -3.9983,-109.9683, 3888,    798.9,   5.3718,  34.5435,2,  34.5436,2,   -999.0,9,   -999.0,9,  5.3041
   33KMGP200_1,  PR16,    31,  1,      1,      1,2,20000506,0908, -3.9983,-109.9683, 3888,   1001.1,   4.6404,  34.5502,2,  34.5489,2,   -999.0,9,   -999.0,9,  4.5596
   33KMGP200_1,  PR16,    32,  1,     12,     12,2,20000506,1639, -2.9983,-109.9450, 3957,      3.3,  26.7462,  35.0630,2,  35.0612,2,   -999.0,9,   -999.0,9, 26.7454
   33KMGP200_1,  PR16,    32,  1,     11,     11,2,20000506,1639, -2.9983,-109.9450, 3957,      9.9,  26.7131,  35.0592,2,  35.0611,2,   -999.0,9,   -999.0,9, 26.7108
   33KMGP200_1,  PR16,    32,  1,     10,     10,2,20000506,1639, -2.9983,-109.9450, 3957,     25.4,  25.8247,  35.0694,2,  35.1382,2,   -999.0,9,   -999.0,9, 25.8191
   33KMGP200_1,  PR16,    32,  1,      9,      9,2,20000506,1639, -2.9983,-109.9450, 3957,     41.8,  16.6134,  35.0025,2,  35.0101,2,   -999.0,9,   -999.0,9, 16.6066
   33KMGP200_1,  PR16,    32,  1,      8,      8,2,20000506,1639, -2.9983,-109.9450, 3957,     61.6,  14.0760,  34.9779,2,  34.9803,2,   -999.0,9,   -999.0,9, 14.0671
   33KMGP200_1,  PR16,    32,  1,      7,      7,2,20000506,1639, -2.9983,-109.9450, 3957,     99.2,  13.0277,  34.9309,2,  34.9295,2,   -999.0,9,   -999.0,9, 13.0141
   33KMGP200_1,  PR16,    32,  1,      6,      6,2,20000506,1639, -2.9983,-109.9450, 3957,    151.3,  12.5815,  34.8916,2,  34.8904,2,   -999.0,9,   -999.0,9, 12.5612
   33KMGP200_1,  PR16,    32,  1,      5,      5,2,20000506,1639, -2.9983,-109.9450, 3957,    201.7,  12.4618,  34.8862,2,  34.8848,2,   -999.0,9,   -999.0,9, 12.4349
   33KMGP200_1,  PR16,    32,  1,      4,      4,2,20000506,1639, -2.9983,-109.9450, 3957,    398.7,   9.9883,  34.7388,2,  34.7382,2,   -999.0,9,   -999.0,9,  9.9417
   33KMGP200_1,  PR16,    32,  1,      3,      3,2,20000506,1639, -2.9983,-109.9450, 3957,    600.5,   6.9361,  34.5865,2,  34.5842,2,   -999.0,9,   -999.0,9,  6.8789
   33KMGP200_1,  PR16,    32,  1,      2,      2,2,20000506,1639, -2.9983,-109.9450, 3957,    800.3,   5.4703,  34.5481,2,  34.5475,2,   -999.0,9,   -999.0,9,  5.4018
   33KMGP200_1,  PR16,    32,  1,      1,      1,2,20000506,1639, -2.9983,-109.9450, 3957,   1001.1,   4.5339,  34.5561,2,  34.5554,2,   -999.0,9,   -999.0,9,  4.4540
   33KMGP200_1,  PR16,    33,  1,     12,     12,2,20000507,0034, -2.0133,-109.9200, 3984,      1.4,  26.5908,  35.1689,2,  35.1668,2,   -999.0,9,   -999.0,9, 26.5905
   33KMGP200_1,  PR16,    33,  1,     11,     11,2,20000507,0034, -2.0133,-109.9200, 3984,     10.1,  26.5924,  35.1670,2,  35.1668,2,   -999.0,9,   -999.0,9, 26.5901
   33KMGP200_1,  PR16,    33,  1,     10,     10,2,20000507,0034, -2.0133,-109.9200, 3984,     24.6,  25.6252,  35.1795,2,  35.1872,2,   -999.0,9,   -999.0,9, 25.6198
   33KMGP200_1,  PR16,    33,  1,      9,      9,2,20000507,0034, -2.0133,-109.9200, 3984,     40.3,  21.1918,  35.3588,2,  35.3771,2,   -999.0,9,   -999.0,9, 21.1841
   33KMGP200_1,  PR16,    33,  1,      8,      8,2,20000507,0034, -2.0133,-109.9200, 3984,     60.0,  15.3955,  35.0212,2,  35.0273,2,   -999.0,9,   -999.0,9, 15.3863
   33KMGP200_1,  PR16,    33,  1,      7,      7,2,20000507,0034, -2.0133,-109.9200, 3984,    101.1,  13.0476,  34.9213,2,  34.9201,2,   -999.0,9,   -999.0,9, 13.0337
   33KMGP200_1,  PR16,    33,  1,      6,      6,2,20000507,0034, -2.0133,-109.9200, 3984,    149.2,  12.8817,  34.9139,2,  34.9114,2,   -999.0,9,   -999.0,9, 12.8614
   33KMGP200_1,  PR16,    33,  1,      5,      5,2,20000507,0034, -2.0133,-109.9200, 3984,    198.7,  12.7254,  34.9045,2,  34.9031,2,   -999.0,9,   -999.0,9, 12.6985
   33KMGP200_1,  PR16,    33,  1,      4,      4,2,20000507,0034, -2.0133,-109.9200, 3984,    398.9,  10.0177,  34.7385,2,  34.7389,2,   -999.0,9,   -999.0,9,  9.9710
   33KMGP200_1,  PR16,    33,  1,      3,      3,2,20000507,0034, -2.0133,-109.9200, 3984,    599.9,   6.9917,  34.5824,2,  34.5806,2,   -999.0,9,   -999.0,9,  6.9343
   33KMGP200_1,  PR16,    33,  1,      2,      2,2,20000507,0034, -2.0133,-109.9200, 3984,    797.8,   5.4364,  34.5489,2,  34.5473,2,   -999.0,9,   -999.0,9,  5.3684
   33KMGP200_1,  PR16,    33,  1,      1,      1,2,20000507,0034, -2.0133,-109.9200, 3984,   1003.4,   4.5755,  34.5548,2,  34.5514,2,   -999.0,9,   -999.0,9,  4.4950
   33KMGP200_1,  PR16,    34,  1,     12,     12,2,20000507,0434, -1.4933,-109.8917, 3927,      3.3,  26.2535,  35.2141,2,  35.2117,2,   -999.0,9,   -999.0,9, 26.2528
   33KMGP200_1,  PR16,    34,  1,     11,     11,2,20000507,0434, -1.4933,-109.8917, 3927,     10.5,  26.2175,  35.2138,2,  35.2120,2,   -999.0,9,   -999.0,9, 26.2151
   33KMGP200_1,  PR16,    34,  1,     10,     10,2,20000507,0434, -1.4933,-109.8917, 3927,     26.0,  25.5488,  35.2276,2,  35.2320,2,   -999.0,9,   -999.0,9, 25.5430
   33KMGP200_1,  PR16,    34,  1,      9,      9,2,20000507,0434, -1.4933,-109.8917, 3927,     41.0,  22.5719,  35.4671,2,  35.4767,2,   -999.0,9,   -999.0,9, 22.5636
   33KMGP200_1,  PR16,    34,  1,      8,      8,2,20000507,0434, -1.4933,-109.8917, 3927,     61.5,  16.7944,  35.1636,2,  35.2024,2,   -999.0,9,   -999.0,9, 16.7843
   33KMGP200_1,  PR16,    34,  1,      7,      7,2,20000507,0434, -1.4933,-109.8917, 3927,    100.8,  13.0174,  34.9229,2,  34.9211,2,   -999.0,9,   -999.0,9, 13.0036
   33KMGP200_1,  PR16,    34,  1,      6,      6,2,20000507,0434, -1.4933,-109.8917, 3927,    151.2,  12.7785,  34.9102,2,  34.9079,2,   -999.0,9,   -999.0,9, 12.7580
   33KMGP200_1,  PR16,    34,  1,      5,      5,2,20000507,0434, -1.4933,-109.8917, 3927,    201.6,  12.5791,  34.8975,2,  34.8954,2,   -999.0,9,   -999.0,9, 12.5520
   33KMGP200_1,  PR16,    34,  1,      4,      4,2,20000507,0434, -1.4933,-109.8917, 3927,    402.0,   9.7386,  34.7224,2,  34.7215,2,   -999.0,9,   -999.0,9,  9.6923
   33KMGP200_1,  PR16,    34,  1,      3,      3,2,20000507,0434, -1.4933,-109.8917, 3927,    600.0,   6.6174,  34.5676,2,  34.5661,2,   -999.0,9,   -999.0,9,  6.5617
   33KMGP200_1,  PR16,    34,  1,      2,      2,2,20000507,0434, -1.4933,-109.8917, 3927,    800.9,   5.5424,  34.5478,2,  34.5450,2,   -999.0,9,   -999.0,9,  5.4734
   33KMGP200_1,  PR16,    34,  1,      1,      1,2,20000507,0434, -1.4933,-109.8917, 3927,   1001.5,   4.4575,  34.5544,2,  34.5516,2,   -999.0,9,   -999.0,9,  4.3781
   33KMGP200_1,  PR16,    35,  1,     12,     12,2,20000507,0831, -0.9983,-109.8683, 3878,      3.2,  25.7168,  35.1802,2,  35.1783,2,   -999.0,9,   -999.0,9, 25.7161
   33KMGP200_1,  PR16,    35,  1,     11,     11,2,20000507,0831, -0.9983,-109.8683, 3878,      9.4,  25.7269,  35.1792,2,  35.1801,2,   -999.0,9,   -999.0,9, 25.7248
   33KMGP200_1,  PR16,    35,  1,     10,     10,2,20000507,0831, -0.9983,-109.8683, 3878,     25.5,  25.2940,  35.2057,2,  35.2031,2,   -999.0,9,   -999.0,9, 25.2885
   33KMGP200_1,  PR16,    35,  1,      9,      9,2,20000507,0831, -0.9983,-109.8683, 3878,     40.0,  23.6407,  35.3731,2,  35.3787,2,   -999.0,9,   -999.0,9, 23.6324
   33KMGP200_1,  PR16,    35,  1,      8,      8,2,20000507,0831, -0.9983,-109.8683, 3878,     59.2,  18.7528,  35.3396,2,  35.3631,2,   -999.0,9,   -999.0,9, 18.7423
   33KMGP200_1,  PR16,    35,  1,      7,      7,2,20000507,0831, -0.9983,-109.8683, 3878,    100.1,  14.0947,  35.0357,2,  35.0350,2,   -999.0,9,   -999.0,9, 14.0802
   33KMGP200_1,  PR16,    35,  1,      6,      6,2,20000507,0831, -0.9983,-109.8683, 3878,    149.7,  12.6741,  34.8944,2,  34.8947,2,   -999.0,9,   -999.0,9, 12.6539
   33KMGP200_1,  PR16,    35,  1,      5,      5,2,20000507,0831, -0.9983,-109.8683, 3878,    197.7,  12.6326,  34.8989,2,  34.8978,2,   -999.0,9,   -999.0,9, 12.6059
   33KMGP200_1,  PR16,    35,  1,      4,      4,2,20000507,0831, -0.9983,-109.8683, 3878,    400.3,   9.6633,  34.7129,2,  34.7114,2,   -999.0,9,   -999.0,9,  9.6175
   33KMGP200_1,  PR16,    35,  1,      3,      3,2,20000507,0831, -0.9983,-109.8683, 3878,    600.8,   6.6929,  34.5685,2,  34.5672,2,   -999.0,9,   -999.0,9,  6.6368
   33KMGP200_1,  PR16,    35,  1,      2,      2,2,20000507,0831, -0.9983,-109.8683, 3878,    799.6,   5.4838,  34.5490,2,  34.5479,2,   -999.0,9,   -999.0,9,  5.4153
   33KMGP200_1,  PR16,    35,  1,      1,      1,2,20000507,0831, -0.9983,-109.8683, 3878,   1002.1,   4.6296,  34.5534,2,  34.5500,2,   -999.0,9,   -999.0,9,  4.5488