BOTTLE,20020603WHPSIOKJU
EXPOCODE,SECT_ID,STNNBR,CASTNO,SAMPNO,BTLNBR,BTLNBR_FLAG_W,DATE,TIME,LATITUDE,LONGITUDE,DEPTH,CTDPRS,CTDTMP,CTDSAL,CTDSAL_FLAG_W,SALNTY,SALNTY_FLAG_W,CTDOXY,CTDOXY_FLAG_W,OXYGEN,OXYGEN_FLAG_W,THETA
,,,,,,,,,,,,DBAR,ITS-90,PSS-78,,PSS-78,,UMOL/KG,,UMOL/KG,,DEG C
   33KMGP200_1,  PR16,    48,  1,     12,     12,2,20000512,2042, 10.0000,-110.5983, 3626,      1.8,  28.8097,  34.0607,2,  34.0597,2,   -999.0,9,   -999.0,9, 28.8093
   33KMGP200_1,  PR16,    48,  1,     11,     11,2,20000512,2042, 10.0000,-110.5983, 3626,     10.4,  28.7307,  34.0592,2,  34.0594,2,   -999.0,9,   -999.0,9, 28.7282
   33KMGP200_1,  PR16,    48,  1,     10,     10,2,20000512,2042, 10.0000,-110.5983, 3626,     24.6,  28.7092,  34.0754,2,  34.0743,2,   -999.0,9,   -999.0,9, 28.7033
   33KMGP200_1,  PR16,    48,  1,      8,      8,2,20000512,2042, 10.0000,-110.5983, 3626,     60.1,  26.5761,  34.1181,2,  34.1198,2,   -999.0,9,   -999.0,9, 26.5625
   33KMGP200_1,  PR16,    48,  1,      7,      7,2,20000512,2042, 10.0000,-110.5983, 3626,    100.7,  22.8576,  34.2433,2,  34.2539,2,   -999.0,9,   -999.0,9, 22.8372
   33KMGP200_1,  PR16,    48,  1,      6,      6,2,20000512,2042, 10.0000,-110.5983, 3626,    149.7,  14.4424,  34.7753,2,  34.7803,2,   -999.0,9,   -999.0,9, 14.4204
   33KMGP200_1,  PR16,    48,  1,      5,      5,2,20000512,2042, 10.0000,-110.5983, 3626,    201.5,  12.5546,  34.7950,2,  34.7942,2,   -999.0,9,   -999.0,9, 12.5276
   33KMGP200_1,  PR16,    48,  1,      4,      4,2,20000512,2042, 10.0000,-110.5983, 3626,    401.0,   9.5479,  34.6505,2,  34.6507,2,   -999.0,9,   -999.0,9,  9.5024
   33KMGP200_1,  PR16,    48,  1,      3,      3,2,20000512,2042, 10.0000,-110.5983, 3626,    598.8,   6.9834,  34.5607,2,  34.5610,2,   -999.0,9,   -999.0,9,  6.9262
   33KMGP200_1,  PR16,    48,  1,      2,      2,2,20000512,2042, 10.0000,-110.5983, 3626,    801.2,   5.4433,  34.5470,2,  34.5474,2,   -999.0,9,   -999.0,9,  5.3749
   33KMGP200_1,  PR16,    48,  1,      1,      1,2,20000512,2042, 10.0000,-110.5983, 3626,   1003.5,   4.4819,  34.5619,2,  34.5604,2,   -999.0,9,   -999.0,9,  4.4022
   33KMGP200_1,  PR16,    49,  1,     12,     12,2,20000513,0459, 10.9967,-110.8050, 3916,      2.6,  28.7576,  34.0026,2,  34.0028,2,   -999.0,9,   -999.0,9, 28.7570
   33KMGP200_1,  PR16,    49,  1,     11,     11,2,20000513,0459, 10.9967,-110.8050, 3916,     10.8,  28.7505,  34.0016,2,  34.0012,2,   -999.0,9,   -999.0,9, 28.7479
   33KMGP200_1,  PR16,    49,  1,     10,     10,2,20000513,0459, 10.9967,-110.8050, 3916,     25.6,  28.7718,  34.0157,2,  34.0150,2,   -999.0,9,   -999.0,9, 28.7657
   33KMGP200_1,  PR16,    49,  1,      8,      8,2,20000513,0459, 10.9967,-110.8050, 3916,     60.6,  27.3653,  34.1008,2,  34.1059,2,   -999.0,9,   -999.0,9, 27.3513
   33KMGP200_1,  PR16,    49,  1,      7,      7,2,20000513,0459, 10.9967,-110.8050, 3916,    100.5,  20.8982,  34.4207,2,  34.4731,2,   -999.0,9,   -999.0,9, 20.8791
   33KMGP200_1,  PR16,    49,  1,      6,      6,2,20000513,0459, 10.9967,-110.8050, 3916,    149.8,  14.7789,  34.7590,2,  34.7643,2,   -999.0,9,   -999.0,9, 14.7565
   33KMGP200_1,  PR16,    49,  1,      5,      5,2,20000513,0459, 10.9967,-110.8050, 3916,    202.3,  12.8692,  34.7991,2,  34.7966,2,   -999.0,9,   -999.0,9, 12.8416
   33KMGP200_1,  PR16,    49,  1,      4,      4,2,20000513,0459, 10.9967,-110.8050, 3916,    400.5,  10.0597,  34.6828,2,  34.6812,2,   -999.0,9,   -999.0,9, 10.0127
   33KMGP200_1,  PR16,    49,  1,      3,      3,2,20000513,0459, 10.9967,-110.8050, 3916,    600.2,   6.9675,  34.5645,2,  34.5623,2,   -999.0,9,   -999.0,9,  6.9102
   33KMGP200_1,  PR16,    49,  1,      2,      2,2,20000513,0459, 10.9967,-110.8050, 3916,    799.9,   5.5681,  34.5489,2,  34.5481,2,   -999.0,9,   -999.0,9,  5.4990
   33KMGP200_1,  PR16,    49,  1,      1,      1,2,20000513,0459, 10.9967,-110.8050, 3916,   1001.0,   4.5678,  34.5595,2,  34.5582,2,   -999.0,9,   -999.0,9,  4.4876
   33KMGP200_1,  PR16,    50,  1,     12,     12,2,20000513,1253, 12.0050,-111.0283, 3813,      2.5,  28.2731,  33.9114,2,  33.9110,2,   -999.0,9,   -999.0,9, 28.2725
   33KMGP200_1,  PR16,    50,  1,     11,     11,2,20000513,1253, 12.0050,-111.0283, 3813,     10.0,  28.2806,  33.9114,2,  33.9112,2,   -999.0,9,   -999.0,9, 28.2782
   33KMGP200_1,  PR16,    50,  1,     10,     10,2,20000513,1253, 12.0050,-111.0283, 3813,     25.2,  28.2808,  33.9118,2,  33.9116,2,   -999.0,9,   -999.0,9, 28.2748
   33KMGP200_1,  PR16,    50,  1,      8,      8,2,20000513,1253, 12.0050,-111.0283, 3813,     60.4,  27.2607,  34.1745,2,  34.1719,2,   -999.0,9,   -999.0,9, 27.2467
   33KMGP200_1,  PR16,    50,  1,      7,      7,2,20000513,1253, 12.0050,-111.0283, 3813,    100.1,  18.4606,  34.5740,2,  34.5898,2,   -999.0,9,   -999.0,9, 18.4432
   33KMGP200_1,  PR16,    50,  1,      6,      6,2,20000513,1253, 12.0050,-111.0283, 3813,    148.7,  13.4414,  34.7861,2,  34.7894,2,   -999.0,9,   -999.0,9, 13.4205
   33KMGP200_1,  PR16,    50,  1,      5,      5,2,20000513,1253, 12.0050,-111.0283, 3813,    198.2,  12.4485,  34.7887,2,  34.7889,2,   -999.0,9,   -999.0,9, 12.4221
   33KMGP200_1,  PR16,    50,  1,      4,      4,2,20000513,1253, 12.0050,-111.0283, 3813,    400.1,   9.8008,  34.6614,2,  34.6624,2,   -999.0,9,   -999.0,9,  9.7547
   33KMGP200_1,  PR16,    50,  1,      3,      3,2,20000513,1253, 12.0050,-111.0283, 3813,    600.5,   7.2649,  34.5626,2,  34.5621,2,   -999.0,9,   -999.0,9,  7.2062
   33KMGP200_1,  PR16,    50,  1,      2,      2,2,20000513,1253, 12.0050,-111.0283, 3813,    799.8,   5.7695,  34.5507,2,  34.5504,2,   -999.0,9,   -999.0,9,  5.6993
   33KMGP200_1,  PR16,    50,  1,      1,      1,2,20000513,1253, 12.0050,-111.0283, 3813,   1001.2,   4.6945,  34.5560,2,  34.5553,2,   -999.0,9,   -999.0,9,  4.6133