BOTTLE,20140403SIOCCHCBG
EXPOCODE,SECT_ID,STNNBR,CASTNO,SAMPNO,BTLNBR,BTLNBR_FLAG_W,DATE,TIME,LATITUDE,LONGITUDE,DEPTH,CTDPRS,CTDTMP,CTDSAL,CTDSAL_FLAG_W,SALNTY,SALNTY_FLAG_W,CTDOXY,CTDOXY_FLAG_W,OXYGEN,OXYGEN_FLAG_W,SILCAT,SILCAT_FLAG_W,NO2+NO3,NO2+NO3_FLAG_W,PHSPHT,PHSPHT_FLAG_W,CFC-11,CFC-11_FLAG_W,CFC-12,CFC-12_FLAG_W,CFC113,CFC113_FLAG_W,CCL4,CCL4_FLAG_W,MCHFRM,MCHFRM_FLAG_W,TCARBN,TCARBN_FLAG_W,ALKALI,ALKALI_FLAG_W,THETA,BTL_DATE,BTL_TIME
,,,,,,,,,,,METERS,DBAR,ITS-90,PSS-78,,PSS-78,,UMOL/KG,,UMOL/KG,,UMOL/KG,,UMOL/KG,,UMOL/KG,,PMOL/KG,,PMOL/KG,,PMOL/KG,,PMOL/KG,,PMOL/KG,,UMOL/KG,,UMOL/KG,,DEG C,,
  18HU20040515, AR07W,   134,  1, 277397,      1,2,20040522,1648, 57.3777, -51.7892, 3564,   3579.9,   1.6504,  34.8864,2,  34.8366,4,    283.8,2,    293.7,2,     8.59,3,    15.93,4,     1.03,3,    5.075,3,    3.057,3,    0.434,3,    5.803,2,    4.917,2,   2154.8,2,   2305.6,2,   1.3710, 20040522,     1648
  18HU20040515, AR07W,   134,  1, 277398,      2,2,20040522,1648, 57.3777, -51.7892, 3564,   3499.9,   1.7813,  34.8872,2,  34.8862,2,    282.9,2,    280.7,2,    10.46,6,    14.14,6,     0.96,6,    4.094,2,    2.330,2,    0.263,2,    4.465,2,    6.376,2,   2157.9,2,   2302.2,2,   1.5069, 20040522,     1651
  18HU20040515, AR07W,   134,  1, 277399,      3,2,20040522,1648, 57.3777, -51.7892, 3564,   3411.4,   2.0144,  34.8886,2,  34.8879,2,    280.2,2,    278.0,2,    10.87,6,    14.62,6,     0.97,6,    3.776,2,    2.038,2,    0.256,2,    4.184,2,    6.307,2,   2159.4,2,   2306.0,2,   1.7434, 20040522,     1654
  18HU20040515, AR07W,   134,  1, 277400,      4,2,20040522,1648, 57.3777, -51.7892, 3564,   3301.6,   2.3176,  34.8959,2,  34.8952,2,    275.4,2,    273.2,2,    12.26,6,    14.97,6,     0.99,6,    3.187,2,    1.545,2,    0.236,2,    3.650,2,    5.824,2,   2159.4,2,   2304.5,2,   2.0508, 20040522,     1656
  18HU20040515, AR07W,   134,  1, 277401,      5,2,20040522,1648, 57.3777, -51.7892, 3564,   3180.8,   2.5267,  34.9040,2,  34.9031,2,    272.7,2,    270.3,2,    12.40,6,    15.42,6,     1.00,6,    3.070,2,    1.638,2,    0.231,2,    3.516,2,    5.766,2,   2158.6,2,   2307.7,2,   2.2676, 20040522,     1659
  18HU20040515, AR07W,   134,  1, 277402,      6,2,20040522,1648, 57.3777, -51.7892, 3564,   3042.1,   2.6972,  34.9081,2,  34.9084,6,    271.2,2,    269.4,2,    12.05,6,    15.64,6,     1.03,6,    2.977,2,    1.702,2,    0.202,2,    3.397,2,    5.742,2,   2158.2,2,   2314.6,2,   2.4487, 20040522,     1701
  18HU20040515, AR07W,   134,  1, 277403,      7,2,20040522,1648, 57.3777, -51.7892, 3564,   2878.8,   2.8419,  34.9083,2,  34.9076,2,    269.7,2,    267.6,2,    12.11,6,    15.65,6,     1.03,6,    2.742,2,    1.704,2,    0.161,2,    3.240,2,    5.719,2,   2156.9,2,   2307.1,2,   2.6072, 20040522,     1704
  18HU20040515, AR07W,   134,  1, 277404,      8,2,20040522,1648, 57.3777, -51.7892, 3564,   2687.5,   2.9668,  34.9040,2,  34.9030,2,    270.4,2,    268.8,2,    11.47,6,    15.83,6,     1.05,6,    3.566,3,    1.671,2,    0.199,2,    3.521,2,    6.318,2,   2156.6,2,   2315.1,2,   2.7490, 20040522,     1707
  18HU20040515, AR07W,   134,  1, 277405,      9,2,20040522,1648, 57.3777, -51.7892, 3564,   2483.6,   3.0832,  34.8980,2,  34.8975,2,    271.1,2,    269.5,2,    11.00,6,    16.06,6,     1.04,6,    3.213,2,    1.667,2,    0.232,2,    3.646,2,    6.921,2,   2156.8,2,   2308.6,2,   2.8835, 20040522,     1711
  18HU20040515, AR07W,   134,  1, 277406,     10,2,20040522,1648, 57.3777, -51.7892, 3564,   2250.4,   3.1341,  34.8844,2,  34.8836,2,    273.4,2,    271.9,2,    10.59,6,    16.37,6,     1.06,6,    3.579,2,    2.056,3,    0.227,2,    4.051,2,    8.017,2,   2155.4,2,   2294.4,3,   2.9562, 20040522,     1715
  18HU20040515, AR07W,   134,  1, 277407,     11,2,20040522,1648, 57.3777, -51.7892, 3564,   2009.3,   3.2403,  34.8825,2,  34.8822,2,    272.7,2,    271.4,2,    10.50,6,    16.56,6,     1.12,6,    3.742,2,    1.916,2,    0.251,2,    4.198,2,    8.320,2,   2156.6,2,   2297.6,3,   3.0835, 20040522,     1719
  18HU20040515, AR07W,   134,  1, 277408,     12,2,20040522,1648, 57.3777, -51.7892, 3564,   1769.4,   3.4300,  34.8930,2,  34.8924,2,    269.0,2,    267.2,2,    10.23,6,    16.52,6,     1.10,6,    3.757,2,    2.013,2,    0.275,2,    4.074,2,    7.617,2,   2156.5,2,   2314.6,2,   3.2925, 20040522,     1723
  18HU20040515, AR07W,   134,  1, 277409,     13,2,20040522,1648, 57.3777, -51.7892, 3564,   1527.8,   3.4350,  34.8720,2,  34.8708,2,    273.7,2,    273.2,6,     9.54,6,    16.16,6,     1.05,6,    4.387,2,    2.526,2,    0.284,2,    4.634,2,    6.862,2,   2157.0,2,   2308.1,2,   3.3190, 20040522,     1727
  18HU20040515, AR07W,   134,  1, 277410,     14,2,20040522,1648, 57.3777, -51.7892, 3564,   1289.3,   3.3128,  34.8431,2,  34.8426,2,    285.1,2,    284.5,2,     8.60,6,    15.74,6,     1.04,6,    4.921,2,    2.786,2,    0.380,2,    5.358,2,    5.404,2,   2152.7,2,   2305.0,2,   3.2185, 20040522,     1731
  18HU20040515, AR07W,   134,  1, 277411,     15,2,20040522,1648, 57.3777, -51.7892, 3564,   1067.6,   3.3158,  34.8398,2,  34.8389,2,    283.0,2,    281.8,2,     8.78,6,    15.71,6,     1.14,3,    5.013,2,    2.986,2,    0.380,2,    5.529,2,    5.780,2,   2153.8,2,   2303.9,2,   3.2395, 20040522,     1735
  18HU20040515, AR07W,   134,  1, 277412,     16,2,20040522,1648, 57.3777, -51.7892, 3564,    869.4,   3.3323,  34.8358,2,  34.8352,2,    289.2,2,    289.0,2,     8.27,6,    15.52,6,     1.01,6,    5.221,2,    3.187,2,    0.420,2,    5.883,2,    4.711,2,   2153.4,2,   2295.4,3,   3.2714, 20040522,     1738
  18HU20040515, AR07W,   134,  1, 277413,     17,2,20040522,1648, 57.3777, -51.7892, 3564,    678.6,   3.4851,  34.8525,2,  34.8521,2,    286.6,2,    285.0,2,     8.32,6,    15.69,6,     1.02,6,    5.093,2,    3.057,2,    0.400,2,    5.655,2,    4.811,2,   2153.9,2,   2307.3,2,   3.4377, 20040522,     1741
  18HU20040515, AR07W,   134,  1, 277414,     18,2,20040522,1648, 57.3777, -51.7892, 3564,    510.6,   3.5729,  34.8620,2,  34.8617,2,    290.4,2,    288.5,2,     8.02,6,    15.24,6,     1.02,6,    5.098,2,    3.006,2,    0.433,2,    5.762,2,    4.258,2,   2152.2,2,   2306.3,2,   3.5376, 20040522,     1744
  18HU20040515, AR07W,   134,  1, 277415,     19,2,20040522,1648, 57.3777, -51.7892, 3564,    360.9,   3.6963,  34.8745,2,-999.0000,9,    291.4,2,    288.6,2,     7.77,6,    15.36,6,     1.01,6,    5.147,2,    3.061,2,    0.437,2,    5.907,2,    4.093,2,   2152.3,2,   2309.8,3,   3.6714, 20040522,     1747
  18HU20040515, AR07W,   134,  1, 277416,     20,2,20040522,1648, 57.3777, -51.7892, 3564,    239.1,   3.6474,  34.8630,2,-999.0000,9,    294.7,2,    291.7,2,     7.90,6,    15.24,6,     1.00,6,    5.165,2,    2.992,2,    0.460,2,    5.933,2,    3.882,2,   2151.5,2,   2313.8,3,   3.6312, 20040522,     1750
  18HU20040515, AR07W,   134,  1, 277417,     21,2,20040522,1648, 57.3777, -51.7892, 3564,    138.9,   3.5917,  34.8426,2,-999.0000,9,    293.9,2,    292.2,2,     7.90,6,    15.19,6,     1.02,6,    5.238,2,    3.157,2,    0.420,2,    6.068,2,    3.824,2,   2152.2,2,   2302.0,2,   3.5825, 20040522,     1752
  18HU20040515, AR07W,   134,  1, 277418,     22,2,20040522,1648, 57.3777, -51.7892, 3564,     86.2,   3.7480,  34.8193,2,-999.0000,9,    298.6,2,    301.6,2,     7.70,6,    13.99,6,     0.95,6,    5.597,2,    3.377,2,    0.458,2,    7.189,2,    4.135,2,   2143.7,2,   2304.2,2,   3.7422, 20040522,     1753
  18HU20040515, AR07W,   134,  1, 277419,     23,2,20040522,1648, 57.3777, -51.7892, 3564,     32.6,   4.0021,  34.7988,2,-999.0000,9,    310.9,2,    313.3,2,     7.19,6,    11.35,6,     0.83,6,    5.478,2,    3.343,2,    0.436,2,    6.714,2,    3.402,2,   2127.9,2,   2303.4,2,   3.9999, 20040522,     1755
  18HU20040515, AR07W,   134,  1, 277420,     24,2,20040522,1648, 57.3777, -51.7892, 3564,      2.1,   4.0302,  34.8145,2,-999.0000,9,    291.7,2,    318.1,3,     7.23,6,    10.87,6,     0.80,6,    5.465,2,    3.187,2,    0.512,2,    6.579,2,    3.325,2,   2122.2,3,   2301.6,2,   4.0301, 20040522,     1756
  18HU20040515, AR07W,   149,  1, 277421,      1,2,20040522,2350, 57.7998, -51.3377, 3545,   3675.8,   1.5813,  34.8890,2,  34.8884,2,    284.6,2,    282.7,2,     9.98,6,    13.71,6,     0.91,6,    4.141,2,    2.169,2,    0.339,2,    3.850,2,    4.193,2,   2164.1,3,   2308.1,2,   1.2936, 20040522,     2350
  18HU20040515, AR07W,   149,  1, 277422,      2,2,20040522,2350, 57.7998, -51.3377, 3545,   3594.1,   1.6643,  34.8848,2,  34.8847,2,    283.3,2,    281.7,2,    10.21,6,    13.85,6,     0.94,6,    3.924,2,    2.044,2,    0.324,2,    3.656,2,    4.282,2,   2163.1,3,   2321.4,3,   1.3830, 20040522,     2353
  18HU20040515, AR07W,   149,  1, 277423,      3,2,20040522,2350, 57.7998, -51.3377, 3545,   3490.6,   1.8848,  34.8855,2,  34.8851,2,    280.8,2,    279.2,2,    10.50,6,    14.32,6,     0.96,6,    3.544,2,    1.897,2,    0.331,2,    3.436,2,    4.066,2,   2164.5,3,   2307.5,2,   1.6088, 20040522,     2356
  18HU20040515, AR07W,   149,  1, 277424,      4,2,20040522,2350, 57.7998, -51.3377, 3545,   3379.4,   2.1074,  34.8891,2,  34.8894,2,    276.7,2,    275.3,2,    12.01,6,    14.65,6,     1.01,6,    3.310,2,    1.624,2,    0.237,2,    3.164,2,    3.918,2,   2164.7,3,   2333.4,4,   1.8375, 20040522,     2359
  18HU20040515, AR07W,   149,  1, 277425,      5,2,20040522,2350, 57.7998, -51.3377, 3545,   3249.5,   2.3749,  34.8983,2,  34.8983,2,    272.1,2,    270.8,2,    13.02,6,    15.36,6,     1.01,6,    2.927,2,    1.335,2,    0.211,2,    2.800,2,    3.768,2,   2160.7,3,   2291.9,2,   2.1122, 20040523,        3
  18HU20040515, AR07W,   149,  1, 277426,      6,2,20040522,2350, 57.7998, -51.3377, 3545,   3116.9,   2.5354,  34.9049,2,  34.9048,2,    270.3,2,    269.3,2,    12.70,6,    15.37,6,     1.02,6,    2.548,2,    1.249,2,    0.403,3,    2.616,2,    3.573,2,   2162.2,3,   2276.7,3,   2.2828, 20040523,        6
  18HU20040515, AR07W,   149,  1, 277427,      7,2,20040522,2350, 57.7998, -51.3377, 3545,   2935.9,   2.7195,  34.9095,2,  34.9099,2,    269.4,2,    268.6,2,    12.22,6,    15.35,6,     1.04,6,    2.807,2,    1.300,2,    0.186,2,    2.730,2,    3.794,2,   2159.8,3,   2299.4,2,   2.4815, 20040523,       11
  18HU20040515, AR07W,   149,  1, 277428,      8,2,20040522,2350, 57.7998, -51.3377, 3545,   2739.5,   2.8606,  34.9084,2,  34.9089,2,    268.8,2,    267.9,2,    11.83,6,    15.55,6,     1.05,6,    2.779,2,    1.274,2,    0.163,2,    2.680,2,    3.872,2,   2160.9,3,   2299.5,2,   2.6396, 20040523,       14
  18HU20040515, AR07W,   149,  1, 277429,      9,2,20040522,2350, 57.7998, -51.3377, 3545,   2522.6,   3.0102,  34.9029,2,  34.9042,2,    269.7,2,    266.6,2,    11.05,6,    15.76,6,     1.04,6,    2.855,2,    1.443,2,    0.640,3,    2.767,2,    4.188,2,   2159.6,3,   2307.1,2,   2.8080, 20040523,       19
  18HU20040515, AR07W,   149,  1, 277430,     10,2,20040522,2350, 57.7998, -51.3377, 3545,   2290.2,   3.1107,  34.8914,2,  34.8926,2,    271.6,2,    270.6,2,    11.26,6,    16.00,6,     1.11,6,    3.366,2,    1.624,2,    0.219,2,    3.148,2,    4.825,2,   2160.3,3,   2350.7,4,   2.9293, 20040523,       24
  18HU20040515, AR07W,   149,  1, 277431,     11,2,20040522,2350, 57.7998, -51.3377, 3545,   2035.9,   3.2284,  34.8866,2,  34.8876,6,    272.0,2,    270.8,2,    10.30,6,    16.47,6,     1.07,6,    3.661,2,    1.817,2,    0.198,2,    3.316,2,    5.100,2,   2159.9,3,   2296.1,2,   3.0692, 20040523,       29
  18HU20040515, AR07W,   149,  1, 277432,     12,2,20040522,2350, 57.7998, -51.3377, 3545,   1791.8,   3.4483,  34.8995,2,  34.9014,2,    267.8,2,    266.7,2,    10.10,6,    16.32,6,     1.08,6,    3.446,2,    1.809,2,    0.197,3,    3.156,2,    4.659,2,   2162.7,3,   2291.8,2,   3.3085, 20040523,       34
  18HU20040515, AR07W,   149,  1, 277433,     13,2,20040522,2350, 57.7998, -51.3377, 3545,   1550.7,   3.4596,  34.8767,2,  34.8786,2,    272.3,2,    271.5,6,     9.57,6,    16.39,6,     1.05,6,    4.197,2,    2.192,2,    0.307,2,    3.851,2,    4.557,2,   2162.6,3,   2294.0,2,   3.3413, 20040523,       39
  18HU20040515, AR07W,   149,  1, 277434,     14,2,20040522,2350, 57.7998, -51.3377, 3545,   1299.7,   3.3491,  34.8495,2,  34.8519,2,    282.5,2,    281.7,2,     8.79,6,    15.83,6,     1.04,6,    4.823,2,    2.650,2,    0.306,2,    4.116,2,    3.560,2,   2160.4,3,   -999.0,9,   3.2536, 20040523,       43
  18HU20040515, AR07W,   149,  1, 277435,     15,2,20040522,2350, 57.7998, -51.3377, 3545,   1069.0,   3.3833,  34.8511,2,  34.8526,2,    284.5,2,    283.1,2,     8.45,6,    15.73,6,     1.03,6,    4.465,3,    2.648,2,    0.375,2,    4.376,2,    3.439,2,   2158.7,3,   2312.1,2,   3.3063, 20040523,       48
  18HU20040515, AR07W,   149,  1, 277436,     16,2,20040522,2350, 57.7998, -51.3377, 3545,    869.2,   3.3394,  34.8405,2,  34.8430,2,    283.1,2,    282.0,2,     8.67,6,    15.91,6,     1.27,4,    4.870,2,    2.694,2,    0.361,2,    4.578,2,    3.580,2,   2159.0,3,   2307.2,2,   3.2785, 20040523,       52
  18HU20040515, AR07W,   149,  1, 277437,     17,2,20040522,2350, 57.7998, -51.3377, 3545,    678.9,   3.3793,  34.8404,2,  34.8422,2,    287.6,2,    286.0,2,     8.31,6,    15.66,6,     1.02,6,    5.055,2,    2.810,2,    0.325,2,    4.498,2,    3.188,2,   2157.4,3,   2274.1,3,   3.3325, 20040523,       57
  18HU20040515, AR07W,   149,  1, 277438,     18,2,20040522,2350, 57.7998, -51.3377, 3545,    509.8,   3.5057,  34.8525,2,  34.8546,2,    290.2,2,    288.7,2,     8.08,6,    15.67,6,     1.01,6,    4.619,3,    2.770,2,    0.410,2,    4.626,2,    2.826,2,   2155.7,3,   2293.6,2,   3.4707, 20040523,      100
  18HU20040515, AR07W,   149,  1, 277439,     19,2,20040522,2350, 57.7998, -51.3377, 3545,    360.2,   3.4911,  34.8468,2,-999.0000,9,    295.5,2,    293.4,2,     7.99,6,    15.16,6,     1.00,6,    5.169,2,    2.922,2,    0.448,2,    5.172,2,    2.764,2,   2156.5,3,   2282.3,3,   3.4668, 20040523,      103
  18HU20040515, AR07W,   149,  1, 277440,     20,2,20040522,2350, 57.7998, -51.3377, 3545,    240.9,   3.5600,  34.8490,2,-999.0000,9,    293.7,2,    291.4,2,     7.92,6,    15.31,6,     1.00,6,    5.192,2,    2.909,2,    0.345,3,    4.840,2,    2.737,2,   2155.7,3,   2291.6,2,   3.5439, 20040523,      107
  18HU20040515, AR07W,   149,  1, 277441,     21,2,20040522,2350, 57.7998, -51.3377, 3545,    139.6,   3.9525,  34.8795,2,-999.0000,9,    286.4,2,    286.2,2,     7.52,6,    14.96,6,     0.97,6,    4.531,3,    2.676,3,    0.500,2,    4.415,2,    2.444,2,   -999.0,9,   2296.6,2,   3.9428, 20040523,      110
  18HU20040515, AR07W,   149,  1, 277442,     22,2,20040522,2350, 57.7998, -51.3377, 3545,     69.8,   4.0992,  34.8050,2,-999.0000,9,    307.0,2,    310.0,2,     7.01,6,    11.30,6,     0.82,6,    5.245,2,    2.985,2,    0.561,2,    5.369,2,    2.307,2,   2132.1,3,   2309.6,2,   4.0943, 20040523,      112
  18HU20040515, AR07W,   149,  1, 277443,     23,2,20040522,2350, 57.7998, -51.3377, 3545,     33.6,   4.1635,  34.8057,2,-999.0000,9,    311.2,2,    313.9,2,     6.83,6,    10.54,6,     0.77,6,    5.360,2,    3.023,2,    0.369,2,    5.168,2,    2.355,2,   2127.4,3,   2287.9,2,   4.1611, 20040523,      113
  18HU20040515, AR07W,   149,  1, 277444,     24,2,20040522,2350, 57.7998, -51.3377, 3545,      4.3,   4.4284,  34.8071,2,-999.0000,9,    312.8,2,    315.5,2,     6.98,6,    10.52,6,     0.77,6,    5.188,2,    2.930,2,    0.345,2,    4.959,2,    2.250,2,   2124.9,3,   2273.6,2,   4.4281, 20040523,      115