BOTTLE,20140403SIOCCHCBG
EXPOCODE,SECT_ID,STNNBR,CASTNO,SAMPNO,BTLNBR,BTLNBR_FLAG_W,DATE,TIME,LATITUDE,LONGITUDE,DEPTH,CTDPRS,CTDTMP,CTDSAL,CTDSAL_FLAG_W,SALNTY,SALNTY_FLAG_W,CTDOXY,CTDOXY_FLAG_W,OXYGEN,OXYGEN_FLAG_W,SILCAT,SILCAT_FLAG_W,NO2+NO3,NO2+NO3_FLAG_W,PHSPHT,PHSPHT_FLAG_W,CFC-11,CFC-11_FLAG_W,CFC-12,CFC-12_FLAG_W,CFC113,CFC113_FLAG_W,CCL4,CCL4_FLAG_W,MCHFRM,MCHFRM_FLAG_W,TCARBN,TCARBN_FLAG_W,ALKALI,ALKALI_FLAG_W,THETA,BTL_DATE,BTL_TIME
,,,,,,,,,,,METERS,DBAR,ITS-90,PSS-78,,PSS-78,,UMOL/KG,,UMOL/KG,,UMOL/KG,,UMOL/KG,,UMOL/KG,,PMOL/KG,,PMOL/KG,,PMOL/KG,,PMOL/KG,,PMOL/KG,,UMOL/KG,,UMOL/KG,,DEG C,,
  18HU20040515, AR07W,   162,  1, 277445,      1,2,20040523,0521, 58.2213, -50.8900, 3481,   3596.3,   1.5732,  34.8897,2,  34.8918,2,    283.6,2,    290.3,2,     9.93,6,    14.08,6,     0.93,6,    4.169,2,    2.244,2,    0.250,2,    4.589,2,    6.310,2,   2158.8,2,   2277.6,2,   1.2940, 20040523,      521
  18HU20040515, AR07W,   162,  1, 277446,      2,2,20040523,0521, 58.2213, -50.8900, 3481,   3518.3,   1.7444,  34.8909,2,  34.8934,2,    282.4,2,    287.6,2,     9.27,6,    14.02,6,     0.92,6,    4.029,2,    2.258,2,    0.296,2,    4.595,2,    6.117,2,   2157.9,2,   2284.2,2,   1.4690, 20040523,      525
  18HU20040515, AR07W,   162,  1, 277447,      3,2,20040523,0521, 58.2213, -50.8900, 3481,   3430.3,   2.0182,  34.8908,2,  34.8922,2,    278.0,2,    282.9,2,    11.35,6,    14.64,6,     0.96,6,    3.713,2,    2.117,2,    0.253,2,    4.261,2,    6.040,2,   2160.5,2,   2282.4,2,   1.7452, 20040523,      528
  18HU20040515, AR07W,   162,  1, 277448,      4,2,20040523,0521, 58.2213, -50.8900, 3481,   3320.9,   2.2558,  34.8958,2,  34.8971,2,    272.1,2,    276.6,2,    14.36,6,    15.49,6,     1.02,6,    0.000,4,    0.000,4,    0.000,4,    0.000,4,    0.000,4,   2160.5,2,   2287.3,2,   1.9884, 20040523,      530
  18HU20040515, AR07W,   162,  1, 277449,      5,2,20040523,0521, 58.2213, -50.8900, 3481,   3200.9,   2.4640,  34.9048,2,  34.9058,2,    268.5,2,    273.4,2,    14.31,6,    15.91,6,     1.03,6,    2.565,2,    1.242,2,    0.176,2,    3.253,2,    5.516,2,   2158.8,2,   -999.0,9,   2.2043, 20040523,      534
  18HU20040515, AR07W,   162,  1, 277450,      6,2,20040523,0521, 58.2213, -50.8900, 3481,   3060.9,   2.6498,  34.9142,2,  34.9144,6,    267.1,2,    271.7,2,    13.68,6,    15.99,6,     1.04,6,    2.477,2,    1.310,2,    0.166,2,    3.010,2,    5.034,2,   2159.6,2,   2292.2,2,   2.4004, 20040523,      537
  18HU20040515, AR07W,   162,  1, 277451,      7,2,20040523,0521, 58.2213, -50.8900, 3481,   2899.2,   2.8074,  34.9155,2,  34.9158,2,    266.8,2,    271.6,2,    13.05,6,    16.21,6,     1.04,6,    2.556,2,    1.239,2,    0.139,2,    2.981,2,    5.372,2,   2158.8,2,   2292.5,2,   2.5713, 20040523,      540
  18HU20040515, AR07W,   162,  1, 277452,      8,2,20040523,0521, 58.2213, -50.8900, 3481,   2709.3,   2.9211,  34.9063,2,  34.9065,2,    268.4,2,    273.8,2,    11.76,6,    15.99,6,     1.06,6,    2.892,2,    1.403,2,    0.185,2,    3.396,2,    6.031,2,   2159.8,2,   2293.2,2,   2.7020, 20040523,      544
  18HU20040515, AR07W,   162,  1, 277453,      9,2,20040523,0521, 58.2213, -50.8900, 3481,   2501.1,   3.0489,  34.9005,2,  34.9014,2,    269.1,2,    274.4,2,    11.28,6,    16.26,6,     1.06,6,    2.567,4,    0.000,4,    0.000,4,    3.441,4,    5.849,4,   2158.7,2,   2286.7,2,   2.8481, 20040523,      547
  18HU20040515, AR07W,   162,  1, 277454,     10,2,20040523,0521, 58.2213, -50.8900, 3481,   2270.4,   3.1517,  34.8909,2,  34.8914,2,    271.0,2,    275.9,2,    10.62,6,    16.32,6,     1.05,6,    3.559,2,    1.784,2,    0.234,2,    3.889,2,    7.568,2,   2155.1,2,   2268.1,3,   2.9716, 20040523,      552
  18HU20040515, AR07W,   162,  1, 277455,     11,2,20040523,0521, 58.2213, -50.8900, 3481,   2020.1,   3.2442,  34.8829,2,  34.8835,6,    271.2,2,    276.3,2,    10.54,6,    16.87,6,     1.08,6,    3.660,2,    1.863,2,    0.254,2,    4.181,2,    8.186,2,   2154.8,2,   2281.7,3,   3.0863, 20040523,      556
  18HU20040515, AR07W,   162,  1, 277456,     12,2,20040523,0521, 58.2213, -50.8900, 3481,   1770.6,   3.4543,  34.8929,2,  34.8932,2,    267.5,2,    272.4,2,    10.42,6,    16.66,6,     1.08,6,    3.697,2,    1.933,2,    0.279,2,    4.166,2,    7.325,2,   2157.7,2,   2272.2,2,   3.3163, 20040523,      600
  18HU20040515, AR07W,   162,  1, 277457,     13,2,20040523,0521, 58.2213, -50.8900, 3481,   1527.9,   3.4031,  34.8632,2,  34.8633,2,    275.8,2,    281.0,6,     9.46,6,    16.46,6,     1.05,6,    4.430,2,    2.499,2,    0.345,2,    4.898,2,    6.349,2,   2157.2,2,   2274.3,2,   3.2875, 20040523,      605
  18HU20040515, AR07W,   162,  1, 277458,     14,2,20040523,0521, 58.2213, -50.8900, 3481,   1291.3,   3.3129,  34.8415,2,  34.8420,2,    282.2,2,    288.0,2,     8.88,6,    16.01,6,     1.02,6,    4.811,2,    2.804,2,    0.420,2,    5.636,2,    5.669,2,   2154.2,3,   -999.0,9,   3.2184, 20040523,      609
  18HU20040515, AR07W,   162,  1, 277459,     15,2,20040523,0521, 58.2213, -50.8900, 3481,   1069.6,   3.3376,  34.8412,2,  34.8418,2,    281.6,2,    286.6,2,     6.85,4,    11.37,4,     0.78,4,    4.840,2,    2.697,2,    0.400,2,    5.634,2,    5.384,2,   2155.8,2,   2274.0,2,   3.2610, 20040523,      613
  18HU20040515, AR07W,   162,  1, 277460,     16,2,20040523,0521, 58.2213, -50.8900, 3481,    867.9,   3.3833,  34.8395,2,  34.8395,2,    285.8,2,    291.4,2,     6.93,4,    11.51,4,     0.79,4,    5.018,2,    2.989,2,    0.413,2,    5.903,2,    4.840,2,   2154.8,2,   2262.6,4,   3.3222, 20040523,      617
  18HU20040515, AR07W,   162,  1, 277461,     17,2,20040523,0521, 58.2213, -50.8900, 3481,    680.9,   3.5556,  34.8585,2,  34.8585,2,    288.8,2,    293.8,2,     8.34,6,    15.20,6,     1.01,6,    5.027,2,    3.062,2,    0.452,2,    6.200,2,    4.214,2,   2153.7,2,   2278.0,2,   3.5077, 20040523,      621
  18HU20040515, AR07W,   162,  1, 277462,     18,2,20040523,0521, 58.2213, -50.8900, 3481,    509.2,   3.6226,  34.8638,2,  34.8644,2,    291.3,2,    296.0,2,     7.98,6,    14.72,6,     0.98,6,    5.026,2,    2.998,2,    0.483,2,    6.342,2,    3.881,2,   2152.7,2,   2283.3,2,   3.5872, 20040523,      624
  18HU20040515, AR07W,   162,  1, 277463,     19,2,20040523,0521, 58.2213, -50.8900, 3481,    358.9,   3.6766,  34.8674,2,  34.8678,2,    293.4,2,    298.1,2,     7.96,6,    14.38,6,     0.93,6,    5.200,2,    3.125,2,    0.416,2,    6.362,2,    3.891,2,   2152.0,2,   2284.4,2,   3.6519, 20040523,      627
  18HU20040515, AR07W,   162,  1, 277464,     20,2,20040523,0521, 58.2213, -50.8900, 3481,    242.3,   3.8241,  34.8790,2,  34.8798,2,    289.7,2,    294.0,2,     7.94,6,    14.04,6,     0.93,6,    4.898,2,    3.002,2,    0.448,2,    5.992,2,    3.770,2,   2153.5,2,   2289.1,2,   3.8073, 20040523,      631
  18HU20040515, AR07W,   162,  1, 277465,     21,2,20040523,0521, 58.2213, -50.8900, 3481,    139.5,   3.9269,  34.8624,2,  34.8635,2,    289.0,2,    294.5,2,     7.89,6,    13.76,6,     0.93,6,    5.102,4,    2.807,4,    0.455,2,    6.193,2,    3.273,2,   2151.5,2,   2288.1,2,   3.9173, 20040523,      633
  18HU20040515, AR07W,   162,  1, 277466,     22,2,20040523,0521, 58.2213, -50.8900, 3481,     69.0,   4.2350,  34.7855,2,  34.7858,2,    303.5,2,    312.4,2,     7.75,6,    13.47,6,     0.91,6,    5.327,2,    3.200,2,    0.477,2,    7.124,2,    3.239,2,   2128.7,2,   2301.8,3,   4.2301, 20040523,      636
  18HU20040515, AR07W,   162,  1, 277467,     23,2,20040523,0521, 58.2213, -50.8900, 3481,     33.5,   4.2625,  34.7863,2,  34.7866,2,    304.7,2,    314.1,2,     7.85,6,    13.91,6,     0.93,6,    5.232,2,    3.247,2,    0.449,2,    6.842,2,    3.091,2,   2124.1,2,   2281.6,2,   4.2601, 20040523,      637
  18HU20040515, AR07W,   162,  1, 277468,     24,2,20040523,0521, 58.2213, -50.8900, 3481,      2.5,   4.3910,  34.7914,2,  34.7923,2,    304.2,2,    312.7,2,     7.81,6,    13.65,6,     0.95,6,    4.962,4,    2.862,4,    0.430,2,    6.740,2,    3.340,2,   2129.1,2,   2285.2,2,   4.3908, 20040523,      639
  18HU20040515, AR07W,   213,  1, 277469,      1,2,20040525,0110, 58.6257, -50.4175, 3444,   3564.6,   1.7252,  34.8864,2,  34.8861,2,    278.9,2,    285.0,2,    10.52,6,    14.13,6,     0.96,6,    4.193,2,    2.142,2,    0.344,2,    4.368,2,    6.606,2,   2157.4,2,   2304.5,2,   1.4455, 20040525,      110
  18HU20040515, AR07W,   213,  1, 277470,      2,2,20040525,0110, 58.6257, -50.4175, 3444,   3495.1,   1.8406,  34.8865,2,  34.8863,2,    277.9,2,    306.4,3,    10.49,6,    14.40,6,     0.93,6,    4.006,2,    2.007,2,    0.290,2,    4.268,2,    6.464,2,   2156.9,2,   2284.0,2,   1.5652, 20040525,      113
  18HU20040515, AR07W,   213,  1, 277471,      3,2,20040525,0110, 58.6257, -50.4175, 3444,   3425.5,   2.0621,  34.8878,2,  34.8879,2,    274.6,2,    281.3,2,    11.40,6,    14.63,6,     0.96,6,    3.703,2,    2.004,2,    0.275,2,    4.265,2,    6.722,2,   2155.3,6,   2306.1,6,   1.7885, 20040525,      115
  18HU20040515, AR07W,   213,  1, 277472,      4,2,20040525,0110, 58.6257, -50.4175, 3444,   3322.5,   2.3454,  34.8968,2,  34.8969,2,    269.7,2,    277.0,2,    13.01,6,    15.61,6,     1.02,6,    3.110,2,    1.442,2,    0.223,2,    3.430,2,    6.046,2,   2156.3,2,   2296.6,2,   2.0757, 20040525,      119
  18HU20040515, AR07W,   213,  1, 277473,      5,2,20040525,0110, 58.6257, -50.4175, 3444,   3196.1,   2.5603,  34.9061,2,  34.9061,2,    266.6,2,    273.3,2,    13.25,6,    15.66,6,     1.02,6,    2.821,2,    1.233,2,    0.221,2,    3.212,2,    5.776,2,   2157.9,2,   -999.0,9,   2.2988, 20040525,      122
  18HU20040515, AR07W,   213,  1, 277474,      6,2,20040525,0110, 58.6257, -50.4175, 3444,   3055.5,   2.7645,  34.9095,2,  34.9100,6,    266.1,2,    272.4,2,    12.52,6,    16.11,6,     1.03,6,    2.909,2,    1.390,2,    0.220,2,    3.303,2,    6.071,2,   2155.4,2,   2299.1,2,   2.5132, 20040525,      127
  18HU20040515, AR07W,   213,  1, 277475,      7,2,20040525,0110, 58.6257, -50.4175, 3444,   2902.2,   2.9079,  34.9061,2,  34.9056,2,    266.2,2,    272.9,2,    12.02,6,    15.90,6,     1.07,6,    3.045,2,    1.505,2,    0.232,2,    3.327,2,    6.365,2,   2154.3,2,   2288.4,2,   2.6694, 20040525,      130
  18HU20040515, AR07W,   213,  1, 277476,      8,2,20040525,0110, 58.6257, -50.4175, 3444,   2710.8,   3.0607,  34.9022,2,  34.9010,2,    266.8,2,    273.1,2,    11.19,6,    16.14,6,     1.04,6,    3.259,2,    1.485,2,    0.174,2,    3.509,2,    6.808,2,   2153.6,2,   2300.3,2,   2.8387, 20040525,      135
  18HU20040515, AR07W,   213,  1, 277477,      9,2,20040525,0110, 58.6257, -50.4175, 3444,   2498.7,   3.1791,  34.8930,2,  34.8916,2,    268.6,2,    274.8,2,    10.44,6,    16.40,6,     1.06,6,    3.696,2,    1.815,2,    0.210,2,    3.993,2,    7.978,2,   2153.4,2,   2291.8,2,   2.9762, 20040525,      140
  18HU20040515, AR07W,   213,  1, 277478,     10,2,20040525,0110, 58.6257, -50.4175, 3444,   2256.8,   3.3129,  34.8884,2,  34.8892,6,    268.3,2,    273.6,2,    10.42,6,    16.47,6,     1.06,6,    3.913,2,    1.802,2,    0.296,2,    4.098,2,    8.537,2,   2153.7,2,   2293.1,2,   3.1314, 20040525,      145
  18HU20040515, AR07W,   213,  1, 277479,     11,2,20040525,0110, 58.6257, -50.4175, 3444,   2016.4,   3.4728,  34.8847,2,  34.8849,2,    266.9,2,    272.4,2,    10.01,6,    16.56,6,     1.05,6,    4.094,2,    2.098,2,    0.339,2,    4.240,2,    7.846,2,   2155.1,2,   2282.9,2,   3.3118, 20040525,      150
  18HU20040515, AR07W,   213,  1, 277480,     12,2,20040525,0110, 58.6257, -50.4175, 3444,   1766.6,   3.3074,  34.8390,2,  34.8393,2,    281.0,2,    287.6,2,     8.75,6,    16.01,6,     1.02,6,    5.224,2,    2.813,2,    0.453,2,    5.538,2,    6.202,2,   2153.1,2,   2282.9,2,   3.1719, 20040525,      155
  18HU20040515, AR07W,   213,  1, 277481,     13,2,20040525,0110, 58.6257, -50.4175, 3444,   1532.3,   3.2860,  34.8307,2,  34.8308,2,    283.9,2,    290.5,6,     8.34,6,    15.72,6,     1.05,6,    5.311,2,    2.942,2,    0.418,2,    5.569,2,    5.530,2,   2151.9,2,   2288.4,2,   3.1715, 20040525,      200
  18HU20040515, AR07W,   213,  1, 277482,     14,2,20040525,0110, 58.6257, -50.4175, 3444,   1289.6,   3.3759,  34.8365,2,  34.8369,2,    282.7,2,    289.1,2,     8.45,6,    15.99,6,     1.01,6,    5.314,2,    3.072,2,    0.449,2,    5.817,2,    5.489,2,   2151.2,2,   2286.8,2,   3.2810, 20040525,      205
  18HU20040515, AR07W,   213,  1, 277483,     15,2,20040525,0110, 58.6257, -50.4175, 3444,   1064.0,   3.5988,  34.8578,2,  34.8582,2,    288.0,2,    294.2,2,     7.93,6,    15.34,6,     1.02,6,    5.417,2,    3.148,2,    0.454,2,    6.159,2,    4.413,2,   2151.4,2,   2298.1,2,   3.5204, 20040525,      209
  18HU20040515, AR07W,   213,  1, 277484,     16,2,20040525,0110, 58.6257, -50.4175, 3444,    872.7,   3.6656,  34.8644,2,  34.8646,2,    289.6,2,    295.9,2,     7.90,6,    15.53,6,     0.97,6,    5.307,2,    3.040,2,    0.526,2,    5.892,2,    3.979,2,   2151.1,2,   2287.1,2,   3.6021, 20040525,      213
  18HU20040515, AR07W,   213,  1, 277485,     17,2,20040525,0110, 58.6257, -50.4175, 3444,    685.9,   3.7545,  34.8708,2,  34.8719,2,    289.8,2,    295.6,2,     7.88,6,    15.36,6,     0.96,6,    5.373,2,    3.165,2,    0.500,2,    6.119,2,    4.070,2,   2148.4,2,   -999.0,9,   3.7051, 20040525,      217
  18HU20040515, AR07W,   213,  1, 277486,     18,2,20040525,0110, 58.6257, -50.4175, 3444,    504.5,   4.0547,  34.8876,2,  34.8882,2,    283.1,2,    288.2,2,     7.84,6,    15.22,6,     0.96,6,    5.084,2,    3.012,2,    0.443,2,    5.621,2,    4.037,2,   2149.7,2,   2286.0,2,   4.0179, 20040525,      221
  18HU20040515, AR07W,   213,  1, 277487,     19,2,20040525,0110, 58.6257, -50.4175, 3444,    362.3,   4.2802,  34.8914,2,  34.8914,2,    281.2,2,    286.2,2,     7.72,6,    15.22,6,     0.96,6,    5.066,2,    2.891,2,    0.422,2,    5.512,2,    3.950,2,   2146.5,2,   2281.2,2,   4.2535, 20040525,      224
  18HU20040515, AR07W,   213,  1, 277488,     20,2,20040525,0110, 58.6257, -50.4175, 3444,    239.8,   4.2839,  34.8601,2,  34.8605,2,    287.2,2,    291.9,2,     7.45,6,    14.40,6,     0.94,6,    5.244,2,    3.092,2,    0.515,2,    5.847,2,    3.618,2,   2142.7,2,   2286.0,2,   4.2665, 20040525,      226
  18HU20040515, AR07W,   213,  1, 277489,     21,2,20040525,0110, 58.6257, -50.4175, 3444,    140.2,   4.2870,  34.8518,2,  34.8521,2,    289.6,2,    293.7,2,     7.62,6,    14.41,6,     0.91,6,    5.272,2,    3.091,2,    0.479,2,    5.972,2,    3.545,2,   2142.1,2,   2294.8,2,   4.2769, 20040525,      229
  18HU20040515, AR07W,   213,  1, 277490,     22,2,20040525,0110, 58.6257, -50.4175, 3444,     69.8,   4.3969,  34.8295,2,  34.8296,2,    294.7,2,    301.9,2,     7.53,6,    13.53,6,     0.89,6,    5.478,2,    3.100,2,    0.481,2,    6.301,2,    3.417,2,   2138.9,2,   2291.1,2,   4.3919, 20040525,      232
  18HU20040515, AR07W,   213,  1, 277491,     23,2,20040525,0110, 58.6257, -50.4175, 3444,     34.0,   4.4163,  34.8290,2,-999.0000,9,    296.0,2,    303.8,2,     7.58,6,    13.51,6,     0.88,6,    5.387,2,    3.240,2,    0.519,2,    6.296,2,    3.387,2,   2136.1,2,   2273.3,2,   4.4138, 20040525,      233
  18HU20040515, AR07W,   213,  1, 277492,     24,2,20040525,0110, 58.6257, -50.4175, 3444,      3.8,   4.6316,  34.8249,2,-999.0000,9,    297.1,2,    305.6,2,     7.70,6,    13.13,6,     0.86,6,    5.381,2,    3.080,2,    0.433,2,    6.412,2,    3.323,2,   2134.4,2,   2290.7,2,   4.6313, 20040525,      235