BOTTLE,20140403SIOCCHCBG
EXPOCODE,SECT_ID,STNNBR,CASTNO,SAMPNO,BTLNBR,BTLNBR_FLAG_W,DATE,TIME,LATITUDE,LONGITUDE,DEPTH,CTDPRS,CTDTMP,CTDSAL,CTDSAL_FLAG_W,SALNTY,SALNTY_FLAG_W,CTDOXY,CTDOXY_FLAG_W,OXYGEN,OXYGEN_FLAG_W,SILCAT,SILCAT_FLAG_W,NO2+NO3,NO2+NO3_FLAG_W,PHSPHT,PHSPHT_FLAG_W,CFC-11,CFC-11_FLAG_W,CFC-12,CFC-12_FLAG_W,CFC113,CFC113_FLAG_W,CCL4,CCL4_FLAG_W,MCHFRM,MCHFRM_FLAG_W,TCARBN,TCARBN_FLAG_W,ALKALI,ALKALI_FLAG_W,THETA,BTL_DATE,BTL_TIME
,,,,,,,,,,,METERS,DBAR,ITS-90,PSS-78,,PSS-78,,UMOL/KG,,UMOL/KG,,UMOL/KG,,UMOL/KG,,UMOL/KG,,PMOL/KG,,PMOL/KG,,PMOL/KG,,PMOL/KG,,PMOL/KG,,UMOL/KG,,UMOL/KG,,DEG C,,
  18HU20040515, AR07W,   223,  1, 277493,      1,2,20040525,0653, 59.0668, -49.9597, 3408,   3501.4,   1.5654,  34.8892,2,  34.8853,2,    281.4,2,    285.9,2,    10.30,6,    14.21,6,     0.94,6,    4.034,2,    2.111,2,    0.334,2,    4.045,2,    5.875,2,   2156.0,3,   2291.6,2,   1.2963, 20040525,      653
  18HU20040515, AR07W,   223,  1, 277494,      2,2,20040525,0653, 59.0668, -49.9597, 3408,   3429.0,   1.6821,  34.8855,2,  34.8863,2,    280.0,2,    286.0,2,    10.42,6,    14.44,6,     0.91,6,    4.092,2,    2.118,2,    0.350,2,    4.052,2,    5.707,2,   2158.0,3,   2277.5,2,   1.4175, 20040525,      656
  18HU20040515, AR07W,   223,  1, 277495,      3,2,20040525,0653, 59.0668, -49.9597, 3408,   3361.4,   1.8790,  34.8859,2,  34.8859,2,    278.4,2,    284.3,2,    10.46,6,    14.50,6,     0.93,6,    3.936,2,    2.022,2,    0.318,2,    4.010,2,    5.842,2,   2156.9,3,   2283.8,2,   1.6165, 20040525,      658
  18HU20040515, AR07W,   223,  1, 277496,      4,2,20040525,0653, 59.0668, -49.9597, 3408,   3273.3,   2.0980,  34.8893,2,  34.8898,2,    275.1,2,    280.3,2,    11.46,6,    15.21,6,     0.96,6,    3.608,2,    1.799,2,    0.295,2,    3.682,2,    5.660,2,   2158.9,3,   2286.7,2,   1.8393, 20040525,      701
  18HU20040515, AR07W,   223,  1, 277497,      5,2,20040525,0653, 59.0668, -49.9597, 3408,   3146.2,   2.3303,  34.8962,2,  34.8965,2,    271.0,2,    276.2,2,    12.72,6,    15.48,6,     0.98,6,    3.027,2,    1.475,2,    0.274,2,    3.164,2,    5.036,2,   -999.0,9,   2295.1,2,   2.0793, 20040525,      704
  18HU20040515, AR07W,   223,  1, 277498,      6,2,20040525,0653, 59.0668, -49.9597, 3408,   3023.6,   2.5421,  34.9050,2,  34.9053,6,    268.8,2,    274.2,2,    12.47,6,    15.87,6,     0.99,6,    3.020,2,    1.458,2,    0.239,2,    3.285,2,    5.633,2,   2157.0,3,   2302.9,2,   2.2989, 20040525,      707
  18HU20040515, AR07W,   223,  1, 277499,      7,2,20040525,0653, 59.0668, -49.9597, 3408,   2863.0,   2.7169,  34.9100,2,  34.9099,2,    267.5,2,    272.6,2,    12.30,6,    15.99,6,     1.00,6,    2.923,2,    1.376,2,    0.238,2,    3.089,2,    5.236,2,   2158.5,3,   2316.3,3,   2.4864, 20040525,      711
  18HU20040515, AR07W,   223,  1, 277500,      8,2,20040525,0653, 59.0668, -49.9597, 3408,   2659.1,   2.8897,  34.9078,2,  34.9075,2,    267.3,2,    272.5,2,    11.65,6,    16.19,6,     1.00,6,    2.995,2,    1.477,2,    0.186,2,    3.092,2,    5.137,2,   2156.1,3,   2287.0,2,   2.6762, 20040525,      715
  18HU20040515, AR07W,   223,  1, 277501,      9,2,20040525,0653, 59.0668, -49.9597, 3408,   2437.8,   3.0362,  34.9025,2,  34.9018,2,    268.5,2,    273.6,2,    10.47,6,    16.09,6,     1.01,6,    3.443,2,    1.768,2,    0.288,2,    3.454,2,    5.805,2,   2154.5,3,   2296.5,2,   2.8418, 20040525,      719
  18HU20040515, AR07W,   223,  1, 277502,     10,2,20040525,0653, 59.0668, -49.9597, 3408,   2209.9,   3.1439,  34.8900,2,  34.8907,6,    270.0,2,    275.1,2,    10.45,6,    16.36,6,     1.02,6,    3.613,2,    1.746,2,    0.269,2,    3.669,2,    6.850,2,   2157.3,3,   2307.6,2,   2.9697, 20040525,      724
  18HU20040515, AR07W,   223,  1, 277503,     11,2,20040525,0653, 59.0668, -49.9597, 3408,   1968.1,   3.3595,  34.9004,2,  34.9004,2,    267.4,2,    272.1,2,    10.14,6,    16.64,6,     1.03,6,    3.650,2,    1.822,2,    0.278,2,    3.474,2,    6.104,2,   2156.5,3,   2301.0,2,   3.2047, 20040525,      728
  18HU20040515, AR07W,   223,  1, 277504,     12,2,20040525,0653, 59.0668, -49.9597, 3408,   1729.6,   3.5006,  34.8999,2,  34.8999,2,    265.6,2,    270.6,2,    10.07,6,    16.65,6,     1.04,6,    3.891,2,    1.996,2,    0.296,2,    3.819,2,    6.706,2,   2159.0,3,   -999.0,9,   3.3657, 20040525,      732
  18HU20040515, AR07W,   223,  1, 277505,     13,2,20040525,0653, 59.0668, -49.9597, 3408,   1500.2,   3.3801,  34.8571,2,  34.8566,2,    276.7,2,    282.2,6,     9.10,6,    16.37,6,     1.02,6,    4.758,2,    2.551,2,    0.367,2,    4.710,2,    5.814,2,   2155.5,3,   2296.1,2,   3.2672, 20040525,      736
  18HU20040515, AR07W,   223,  1, 277506,     14,2,20040525,0653, 59.0668, -49.9597, 3408,   1280.1,   3.3420,  34.8465,2,  34.8450,2,    283.7,2,    289.2,2,     8.68,6,    16.20,6,     1.00,6,    0.022,4,    0.000,4,    0.000,4,    0.057,4,    0.000,2,   2154.7,3,   2289.3,2,   3.2482, 20040525,      740
  18HU20040515, AR07W,   223,  1, 277507,     15,2,20040525,0653, 59.0668, -49.9597, 3408,   1069.0,   3.3470,  34.8453,2,  34.8448,2,    284.2,2,    288.9,2,     8.39,6,    15.96,6,     1.00,6,    5.104,2,    2.824,2,    0.474,2,    5.180,2,    4.813,2,   2156.5,3,   2279.7,2,   3.2703, 20040525,      744
  18HU20040515, AR07W,   223,  1, 277508,     16,2,20040525,0653, 59.0668, -49.9597, 3408,    870.1,   3.4520,  34.8549,2,  34.8552,2,    285.5,2,    290.6,2,     9.12,6,    16.01,6,     1.00,6,    5.083,2,    2.821,2,    0.456,2,    5.220,2,    4.394,2,   2155.3,3,   2281.3,2,   3.3902, 20040525,      747
  18HU20040515, AR07W,   223,  1, 277509,     17,2,20040525,0653, 59.0668, -49.9597, 3408,    682.4,   3.6239,  34.8684,2,  34.8688,2,    285.1,2,    289.7,2,     8.17,6,    15.65,6,     1.00,6,    5.159,2,    2.862,2,    0.449,2,    5.188,2,    4.253,2,   2153.6,3,   2263.5,3,   3.5755, 20040525,      753
  18HU20040515, AR07W,   223,  1, 277510,     18,2,20040525,0653, 59.0668, -49.9597, 3408,    508.4,   3.9067,  34.8927,2,  34.8936,2,    277.3,2,    281.6,2,     8.33,6,    16.02,6,     0.99,6,    4.817,2,    2.657,2,    0.411,2,    4.846,2,    4.365,2,   2154.2,3,   2291.1,2,   3.8702, 20040525,      756
  18HU20040515, AR07W,   223,  1, 277511,     19,2,20040525,0653, 59.0668, -49.9597, 3408,    362.1,   4.0832,  34.8941,2,  34.8949,2,    278.8,2,    282.4,2,     8.18,6,    15.55,6,     0.98,6,    4.812,2,    2.653,2,    0.426,2,    4.804,2,    3.889,2,   2152.6,3,   2272.7,2,   4.0571, 20040525,      758
  18HU20040515, AR07W,   223,  1, 277512,     20,2,20040525,0653, 59.0668, -49.9597, 3408,    232.3,   4.2352,  34.8871,2,-999.0000,9,    281.9,2,    285.5,2,     7.58,6,    15.21,6,     0.96,6,    4.932,2,    2.788,2,    0.417,2,    5.045,2,    3.662,2,   2148.3,3,   2292.7,2,   4.2184, 20040525,      801
  18HU20040515, AR07W,   223,  1, 277513,     21,2,20040525,0653, 59.0668, -49.9597, 3408,    141.3,   4.1046,  34.8372,2,-999.0000,9,    295.3,2,    299.5,2,     6.53,6,    12.87,6,     0.85,6,    5.278,2,    2.967,2,    0.465,2,    5.646,2,    3.325,2,   2138.3,3,   2283.5,2,   4.0946, 20040525,      804
  18HU20040515, AR07W,   223,  1, 277514,     22,2,20040525,0653, 59.0668, -49.9597, 3408,     68.8,   3.8816,  34.6400,2,-999.0000,9,    311.8,2,   -999.0,9,     4.69,6,     7.61,6,     0.62,6,    5.622,2,    3.152,2,    0.542,2,    6.193,2,    3.038,2,   2104.9,3,   2301.7,3,   3.8769, 20040525,      806
  18HU20040515, AR07W,   223,  1, 277515,     23,2,20040525,0653, 59.0668, -49.9597, 3408,     36.1,   3.8382,  34.5606,2,-999.0000,9,    318.9,2,    327.7,2,     4.73,6,     5.95,6,     0.52,6,    5.703,2,    3.226,2,    0.507,2,    6.332,2,    3.077,2,   2088.6,3,   2274.9,2,   3.8358, 20040525,      808
  18HU20040515, AR07W,   223,  1, 277516,     24,2,20040525,0653, 59.0668, -49.9597, 3408,      3.1,   3.8304,  34.5495,2,-999.0000,9,    322.4,2,    329.5,2,     4.30,6,     5.48,6,     0.50,6,    5.784,2,    3.243,2,    0.545,2,    6.398,2,    3.127,2,   2085.0,3,   2283.4,2,   3.8302, 20040525,      810
  18HU20040515, AR07W,   237,  1, 277517,      1,2,20040525,1244, 59.4928, -49.4923, 3440,    201.5,   4.2848,  34.8785,2,-999.0000,9,    280.2,2,   -999.0,9,     7.28,6,    14.76,6,     0.94,6, -999.000,9, -999.000,9, -999.000,9, -999.000,9, -999.000,9,   -999.0,9,   -999.0,9,   4.2702, 20040525,     1244
  18HU20040515, AR07W,   237,  1, 277518,      2,2,20040525,1244, 59.4928, -49.4923, 3440,    150.2,   4.4315,  34.8839,2,-999.0000,9,    279.3,2,   -999.0,9,     7.19,6,    14.36,6,     0.93,6, -999.000,9, -999.000,9, -999.000,9, -999.000,9, -999.000,9,   -999.0,9,   -999.0,9,   4.4205, 20040525,     1245
  18HU20040515, AR07W,   237,  1, 277519,      3,2,20040525,1244, 59.4928, -49.4923, 3440,    101.4,   4.6047,  34.8860,2,-999.0000,9,    278.4,2,   -999.0,9,     7.05,6,    14.33,6,     0.94,6, -999.000,9, -999.000,9, -999.000,9, -999.000,9, -999.000,9,   -999.0,9,   -999.0,9,   4.5972, 20040525,     1247
  18HU20040515, AR07W,   237,  1, 277520,      4,2,20040525,1244, 59.4928, -49.4923, 3440,     81.2,   4.2409,  34.8200,2,-999.0000,9,    286.5,2,   -999.0,9,     6.32,6,    12.53,6,     0.86,6, -999.000,9, -999.000,9, -999.000,9, -999.000,9, -999.000,9,   -999.0,9,   -999.0,9,   4.2351, 20040525,     1248
  18HU20040515, AR07W,   237,  1, 277521,      5,2,20040525,1244, 59.4928, -49.4923, 3440,     61.0,   3.9172,  34.7235,2,-999.0000,9,    299.5,2,   -999.0,9,     5.05,6,     9.54,6,     0.75,6, -999.000,9, -999.000,9, -999.000,9, -999.000,9, -999.000,9,   -999.0,9,   -999.0,9,   3.9130, 20040525,     1249
  18HU20040515, AR07W,   237,  1, 277522,      6,2,20040525,1244, 59.4928, -49.4923, 3440,     49.2,   3.8812,  34.6523,2,-999.0000,9,    309.1,2,   -999.0,9,     4.51,6,     7.60,6,     0.62,6, -999.000,9, -999.000,9, -999.000,9, -999.000,9, -999.000,9,   -999.0,9,   -999.0,9,   3.8779, 20040525,     1250
  18HU20040515, AR07W,   237,  1, 277523,      7,2,20040525,1244, 59.4928, -49.4923, 3440,     40.0,   3.8786,  34.5626,2,-999.0000,9,    319.8,2,   -999.0,9,     4.02,6,     5.39,6,     0.50,6, -999.000,9, -999.000,9, -999.000,9, -999.000,9, -999.000,9,   -999.0,9,   -999.0,9,   3.8759, 20040525,     1250
  18HU20040515, AR07W,   237,  1, 277524,      8,2,20040525,1244, 59.4928, -49.4923, 3440,     30.2,   3.8898,  34.5495,2,-999.0000,9,    322.0,2,   -999.0,9,     4.04,6,     5.14,6,     0.48,6, -999.000,9, -999.000,9, -999.000,9, -999.000,9, -999.000,9,   -999.0,9,   -999.0,9,   3.8878, 20040525,     1251
  18HU20040515, AR07W,   237,  1, 277525,      9,2,20040525,1244, 59.4928, -49.4923, 3440,     30.0,   3.8891,  34.5495,2,-999.0000,9,    321.9,2,   -999.0,9,  -999.00,9,  -999.00,9,  -999.00,9, -999.000,9, -999.000,9, -999.000,9, -999.000,9, -999.000,9,   -999.0,9,   -999.0,9,   3.8871, 20040525,     1251
  18HU20040515, AR07W,   237,  1, 277526,     10,2,20040525,1244, 59.4928, -49.4923, 3440,     30.1,   3.8879,  34.5501,2,-999.0000,9,    322.3,2,   -999.0,9,  -999.00,9,  -999.00,9,  -999.00,9, -999.000,9, -999.000,9, -999.000,9, -999.000,9, -999.000,9,   -999.0,9,   -999.0,9,   3.8859, 20040525,     1252
  18HU20040515, AR07W,   237,  1, 277527,     11,2,20040525,1244, 59.4928, -49.4923, 3440,     30.5,   3.8867,  34.5503,2,-999.0000,9,    322.3,2,   -999.0,9,  -999.00,9,  -999.00,9,  -999.00,9, -999.000,9, -999.000,9, -999.000,9, -999.000,9, -999.000,9,   -999.0,9,   -999.0,9,   3.8846, 20040525,     1252
  18HU20040515, AR07W,   237,  1, 277528,     12,2,20040525,1244, 59.4928, -49.4923, 3440,     29.7,   3.8896,  34.5497,2,-999.0000,9,    322.1,2,   -999.0,9,  -999.00,9,  -999.00,9,  -999.00,9, -999.000,9, -999.000,9, -999.000,9, -999.000,9, -999.000,9,   -999.0,9,   -999.0,9,   3.8876, 20040525,     1252
  18HU20040515, AR07W,   237,  1, 277529,     13,2,20040525,1244, 59.4928, -49.4923, 3440,     30.8,   3.8840,  34.5503,2,-999.0000,9,    322.3,2,   -999.0,9,  -999.00,9,  -999.00,9,  -999.00,9, -999.000,9, -999.000,9, -999.000,9, -999.000,9, -999.000,9,   -999.0,9,   -999.0,9,   3.8819, 20040525,     1252
  18HU20040515, AR07W,   237,  1, 277530,     14,2,20040525,1244, 59.4928, -49.4923, 3440,     20.4,   3.9117,  34.5449,2,-999.0000,9,    323.9,2,   -999.0,9,     4.02,6,     4.83,6,     0.48,6, -999.000,9, -999.000,9, -999.000,9, -999.000,9, -999.000,9,   -999.0,9,   -999.0,9,   3.9103, 20040525,     1253
  18HU20040515, AR07W,   237,  1, 277531,     15,2,20040525,1244, 59.4928, -49.4923, 3440,      9.9,   3.9115,  34.5378,2,-999.0000,9,    324.4,2,   -999.0,9,     4.03,6,     4.84,6,     0.50,6, -999.000,9, -999.000,9, -999.000,9, -999.000,9, -999.000,9,   -999.0,9,   -999.0,9,   3.9108, 20040525,     1254
  18HU20040515, AR07W,   237,  1, 277532,     16,2,20040525,1244, 59.4928, -49.4923, 3440,      2.1,   3.9273,  34.5369,2,-999.0000,9,    324.3,2,   -999.0,9,     3.96,6,     4.72,6,     0.46,6, -999.000,9, -999.000,9, -999.000,9, -999.000,9, -999.000,9,   -999.0,9,   -999.0,9,   3.9272, 20040525,     1255
  18HU20040515, AR07W,   237,  1, 277533,     17,2,20040525,1244, 59.4928, -49.4923, 3440,      2.0,   3.9271,  34.5367,2,-999.0000,9,    324.3,2,   -999.0,9,  -999.00,9,  -999.00,9,  -999.00,9, -999.000,9, -999.000,9, -999.000,9, -999.000,9, -999.000,9,   -999.0,9,   -999.0,9,   3.9270, 20040525,     1255
  18HU20040515, AR07W,   237,  1, 277534,     18,2,20040525,1244, 59.4928, -49.4923, 3440,      2.2,   3.9257,  34.5372,2,-999.0000,9,    324.2,2,   -999.0,9,  -999.00,9,  -999.00,9,  -999.00,9, -999.000,9, -999.000,9, -999.000,9, -999.000,9, -999.000,9,   -999.0,9,   -999.0,9,   3.9256, 20040525,     1255
  18HU20040515, AR07W,   237,  1, 277535,     19,2,20040525,1244, 59.4928, -49.4923, 3440,      2.0,   3.9267,  34.5397,2,-999.0000,9,    324.3,2,   -999.0,9,  -999.00,9,  -999.00,9,  -999.00,9, -999.000,9, -999.000,9, -999.000,9, -999.000,9, -999.000,9,   -999.0,9,   -999.0,9,   3.9266, 20040525,     1255
  18HU20040515, AR07W,   237,  1, 277536,     20,2,20040525,1244, 59.4928, -49.4923, 3440,      2.2,   3.9262,  34.5400,2,-999.0000,9,    324.1,2,   -999.0,9,  -999.00,9,  -999.00,9,  -999.00,9, -999.000,9, -999.000,9, -999.000,9, -999.000,9, -999.000,9,   -999.0,9,   -999.0,9,   3.9261, 20040525,     1255