BOTTLE,20140403SIOCCHCBG
EXPOCODE,SECT_ID,STNNBR,CASTNO,SAMPNO,BTLNBR,BTLNBR_FLAG_W,DATE,TIME,LATITUDE,LONGITUDE,DEPTH,CTDPRS,CTDTMP,CTDSAL,CTDSAL_FLAG_W,SALNTY,SALNTY_FLAG_W,CTDOXY,CTDOXY_FLAG_W,OXYGEN,OXYGEN_FLAG_W,SILCAT,SILCAT_FLAG_W,NO2+NO3,NO2+NO3_FLAG_W,PHSPHT,PHSPHT_FLAG_W,CFC-11,CFC-11_FLAG_W,CFC-12,CFC-12_FLAG_W,CFC113,CFC113_FLAG_W,CCL4,CCL4_FLAG_W,MCHFRM,MCHFRM_FLAG_W,TCARBN,TCARBN_FLAG_W,ALKALI,ALKALI_FLAG_W,THETA,BTL_DATE,BTL_TIME
,,,,,,,,,,,METERS,DBAR,ITS-90,PSS-78,,PSS-78,,UMOL/KG,,UMOL/KG,,UMOL/KG,,UMOL/KG,,UMOL/KG,,PMOL/KG,,PMOL/KG,,PMOL/KG,,PMOL/KG,,PMOL/KG,,UMOL/KG,,UMOL/KG,,DEG C,,
  18HU20040515, AR07W,   287,  1, 277742,      1,2,20040529,0430, 50.8965, -45.1995, 4030,   4196.5,   1.9062,  34.8802,2,  34.8812,2,    285.7,2,    345.9,3,  -999.00,9,  -999.00,9,  -999.00,9,    3.888,2,    2.109,2,    0.280,2,    4.292,2,    6.548,2,   2152.1,2,   2299.0,2,   1.5524, 20040529,      430
  18HU20040515, AR07W,   287,  1, 277743,      2,2,20040529,0430, 50.8965, -45.1995, 4030,   4030.4,   1.9798,  34.8823,2,  34.8825,2,    283.1,2,    291.4,2,  -999.00,9,  -999.00,9,  -999.00,9,    3.684,2,    1.893,2,    0.278,2,    3.939,2,    6.242,2,   2151.0,2,   2294.7,2,   1.6427, 20040529,      433
  18HU20040515, AR07W,   287,  1, 277744,      3,2,20040529,0430, 50.8965, -45.1995, 4030,   3899.2,   2.0321,  34.8842,2,  34.8857,2,    280.5,2,    281.4,2,  -999.00,9,  -999.00,9,  -999.00,9,    3.450,2,    1.787,2,    0.235,2,    3.698,2,    6.000,2,   2152.9,2,   2297.1,2,   1.7082, 20040529,      436
  18HU20040515, AR07W,   287,  1, 277745,      4,2,20040529,0430, 50.8965, -45.1995, 4030,   3748.8,   2.1149,  34.8876,2,  34.8888,2,    276.8,2,    277.1,2,  -999.00,9,  -999.00,9,  -999.00,9,    2.979,2,    1.452,2,    0.221,2,    3.404,2,    5.680,2,   2152.2,2,   2305.9,2,   1.8053, 20040529,      439
  18HU20040515, AR07W,   287,  1, 277746,      5,2,20040529,0430, 50.8965, -45.1995, 4030,   3602.7,   2.2054,  34.8917,2,  34.8928,2,    274.6,2,    274.7,2,  -999.00,9,  -999.00,9,  -999.00,9,    2.731,2,    1.244,2,    0.203,2,    3.147,2,    5.315,2,   2151.7,2,   -999.0,9,   1.9093, 20040529,      443
  18HU20040515, AR07W,   287,  1, 277747,      6,2,20040529,0430, 50.8965, -45.1995, 4030,   3449.6,   2.3022,  34.8970,2,  34.8979,2,    272.0,2,    272.2,2,  -999.00,9,  -999.00,9,  -999.00,9,    2.463,2,    1.046,2,    0.179,2,    2.818,2,    4.852,2,   2153.9,2,   2305.7,2,   2.0201, 20040529,      446
  18HU20040515, AR07W,   287,  1, 277748,      7,2,20040529,0430, 50.8965, -45.1995, 4030,   3299.4,   2.3947,  34.8994,2,  34.9002,2,    273.3,2,    273.4,2,  -999.00,9,  -999.00,9,  -999.00,9,    2.586,2,    1.124,2,    0.171,2,    2.863,2,    4.897,2,   2151.7,2,   2317.3,2,   2.1263, 20040529,      450
  18HU20040515, AR07W,   287,  1, 277749,      8,2,20040529,0430, 50.8965, -45.1995, 4030,   3149.9,   2.5077,  34.9033,2,  34.9044,2,    272.7,2,    272.4,2,  -999.00,9,  -999.00,9,  -999.00,9,    2.556,2,    1.188,2,    0.159,2,    2.904,2,    4.999,2,   2152.8,2,   2310.6,2,   2.2523, 20040529,      453
  18HU20040515, AR07W,   287,  1, 277750,      9,2,20040529,0430, 50.8965, -45.1995, 4030,   2998.5,   2.6402,  34.9083,2,  34.9093,2,    271.9,2,    271.7,2,  -999.00,9,  -999.00,9,  -999.00,9,    2.468,2,    1.141,2,    0.170,2,    2.915,2,    5.125,2,   2152.6,2,   2322.4,2,   2.3975, 20040529,      456
  18HU20040515, AR07W,   287,  1, 277751,     10,2,20040529,0430, 50.8965, -45.1995, 4030,   2800.5,   2.7981,  34.9110,2,  34.9120,2,    270.8,2,    270.6,2,  -999.00,9,  -999.00,9,  -999.00,9,    2.559,2,    1.076,2,    0.161,2,    2.873,2,    5.168,2,   2152.0,2,   2305.9,2,   2.5722, 20040529,      500
  18HU20040515, AR07W,   287,  1, 277752,     11,2,20040529,0430, 50.8965, -45.1995, 4030,   2601.0,   2.9157,  34.9068,2,  34.9075,2,    271.6,2,    271.7,2,  -999.00,9,  -999.00,9,  -999.00,9,    2.692,2,    1.216,2,    0.167,2,    2.992,2,    5.452,2,   2149.3,2,   2311.5,2,   2.7075, 20040529,      504
  18HU20040515, AR07W,   287,  1, 277753,     12,2,20040529,0430, 50.8965, -45.1995, 4030,   2399.3,   3.0328,  34.9053,2,-999.0000,9,    271.1,2,    270.4,2,  -999.00,9,  -999.00,9,  -999.00,9, -999.000,9, -999.000,9, -999.000,9, -999.000,9, -999.000,9,   2147.4,2,   2311.8,2,   2.8422, 20040529,      508
  18HU20040515, AR07W,   287,  1, 277754,     13,2,20040529,0430, 50.8965, -45.1995, 4030,   2200.5,   3.1079,  34.8991,2,  34.8993,2,    272.3,2,    272.7,6,  -999.00,9,  -999.00,9,  -999.00,9,    2.948,2,    1.347,2,    0.194,2,    3.213,2,    6.114,2,   2148.2,2,   2302.0,2,   2.9351, 20040529,      512
  18HU20040515, AR07W,   287,  1, 277755,     14,2,20040529,0430, 50.8965, -45.1995, 4030,   2001.9,   3.1675,  34.8919,2,  34.8924,2,    273.8,2,    273.6,2,  -999.00,9,  -999.00,9,  -999.00,9,    3.296,2,    1.482,2,    0.200,2,    3.540,2,    6.932,2,   2148.5,2,   2303.1,2,   3.0124, 20040529,      516
  18HU20040515, AR07W,   287,  1, 277756,     15,2,20040529,0430, 50.8965, -45.1995, 4030,   1798.4,   3.2695,  34.8924,2,  34.8934,2,    272.6,2,    272.5,2,  -999.00,9,  -999.00,9,  -999.00,9,    3.314,2,    1.540,2,    0.221,2,    3.673,2,    7.188,2,   2147.7,2,   2305.8,2,   3.1315, 20040529,      520
  18HU20040515, AR07W,   287,  1, 277757,     16,2,20040529,0430, 50.8965, -45.1995, 4030,   1592.6,   3.4108,  34.8988,2,  34.8993,2,    270.2,2,    270.1,2,  -999.00,9,  -999.00,9,  -999.00,9,    3.308,2,    1.597,2,    0.216,2,    3.487,2,    6.564,2,   2148.9,2,   2305.9,2,   3.2893, 20040529,      524
  18HU20040515, AR07W,   287,  1, 277758,     17,2,20040529,0430, 50.8965, -45.1995, 4030,   1402.1,   3.5165,  34.8981,2,  34.8981,2,    269.5,2,    269.8,2,  -999.00,9,  -999.00,9,  -999.00,9,    3.734,2,    1.784,2,    0.256,2,    3.842,2,    6.679,2,   2148.5,2,   2296.5,2,   3.4104, 20040529,      528
  18HU20040515, AR07W,   287,  1, 277759,     18,2,20040529,0430, 50.8965, -45.1995, 4030,   1198.9,   3.5731,  34.8894,2,  34.8906,2,    271.9,2,    272.5,2,  -999.00,9,  -999.00,9,  -999.00,9,    4.022,2,    2.171,2,    0.293,2,    4.280,2,    6.158,2,   2148.2,2,   2304.7,2,   3.4837, 20040529,      532
  18HU20040515, AR07W,   287,  1, 277760,     19,2,20040529,0430, 50.8965, -45.1995, 4030,   1002.7,   3.5587,  34.8726,2,  34.8737,2,    275.2,2,    275.8,2,  -999.00,9,  -999.00,9,  -999.00,9,    4.486,2,    2.449,2,    0.329,2,    4.554,2,    5.746,2,   2149.2,2,   2289.9,2,   3.4856, 20040529,      537
  18HU20040515, AR07W,   287,  1, 277761,     20,2,20040529,0430, 50.8965, -45.1995, 4030,    708.7,   3.8952,  34.8879,2,  34.8894,2,    267.6,2,    267.9,2,  -999.00,9,  -999.00,9,  -999.00,9,    4.396,2,    2.430,2,    0.294,2,    4.525,2,    5.244,2,   2152.8,2,   2301.3,2,   3.8433, 20040529,      543
  18HU20040515, AR07W,   287,  1, 277762,     21,2,20040529,0430, 50.8965, -45.1995, 4030,    401.0,   4.9796,  34.9259,2,  34.9264,2,    237.0,2,    236.4,2,  -999.00,9,  -999.00,9,  -999.00,9,    3.486,3,    1.900,3,    0.271,2,    3.379,2,    3.915,2,   2161.2,2,   2302.0,2,   4.9477, 20040529,      548
  18HU20040515, AR07W,   287,  1, 277763,     22,2,20040529,0430, 50.8965, -45.1995, 4030,    201.0,   6.5069,  34.8806,2,-999.0000,9,    211.5,2,    210.5,2,  -999.00,9,  -999.00,9,  -999.00,9,    3.170,3,    1.757,3,    0.184,3,    2.732,2,    2.593,2,   2157.2,2,   2297.0,2,   6.4889, 20040529,      552
  18HU20040515, AR07W,   287,  1, 277764,     23,2,20040529,0430, 50.8965, -45.1995, 4030,     69.3,   9.0574,  34.7712,2,-999.0000,9,    269.5,2,    270.4,2,  -999.00,9,  -999.00,9,  -999.00,9,    4.207,2,    2.634,4,    0.316,2,    4.400,2,    2.205,2,   2088.6,2,   2299.5,2,   9.0499, 20040529,      556
  18HU20040515, AR07W,   287,  1, 277765,     24,2,20040529,0430, 50.8965, -45.1995, 4030,     28.9,   9.1344,  34.7731,2,-999.0000,9,    272.8,2,    274.9,2,  -999.00,9,  -999.00,9,  -999.00,9,    4.201,2,    2.533,2,    0.342,2,    4.461,2,    2.231,2,   2084.6,2,   2299.2,2,   9.1313, 20040529,      557
  18HU20040515, AR07W,   289,  1, 277766,      1,2,20040529,1002, 50.5997, -45.8012, 3627,   3762.3,   1.8593,  34.8816,2,  34.8826,2,    284.6,2,    283.6,2,  -999.00,9,  -999.00,9,  -999.00,9,    3.672,2,    1.867,2,    0.383,2,    3.459,2,    4.943,2,   2153.1,2,   2313.1,2,   1.5550, 20040529,     1002
  18HU20040515, AR07W,   289,  1, 277767,      2,2,20040529,1002, 50.5997, -45.8012, 3627,   3635.2,   1.9889,  34.8849,2,  34.8857,2,    282.3,2,    280.6,2,  -999.00,9,  -999.00,9,  -999.00,9,    3.419,2,    1.687,2,    0.343,2,    3.304,2,    4.813,2,   2151.7,2,   2308.6,2,   1.6949, 20040529,     1005
  18HU20040515, AR07W,   289,  1, 277768,      3,2,20040529,1002, 50.5997, -45.8012, 3627,   3501.8,   2.0315,  34.8863,2,  34.8867,2,    281.3,2,    280.3,2,  -999.00,9,  -999.00,9,  -999.00,9,    3.472,2,    1.651,2,    0.274,2,    3.324,2,    4.966,2,   2152.3,2,   2313.1,2,   1.7506, 20040529,     1008
  18HU20040515, AR07W,   289,  1, 277769,      4,2,20040529,1002, 50.5997, -45.8012, 3627,   3248.6,   2.1927,  34.8918,2,  34.8921,2,    278.0,2,    276.8,2,  -999.00,9,  -999.00,9,  -999.00,9,    2.947,2,    1.403,2,    0.318,2,    2.940,2,    4.429,2,   2151.1,2,   2302.4,2,   1.9344, 20040529,     1014
  18HU20040515, AR07W,   289,  1, 277770,      5,2,20040529,1002, 50.5997, -45.8012, 3627,   3001.8,   2.3170,  34.8964,2,  34.8966,2,    276.8,2,    276.1,2,  -999.00,9,  -999.00,9,  -999.00,9,    2.924,2,    1.378,2,    0.266,2,    2.946,2,    4.532,2,   2148.2,2,   2277.1,3,   2.0810, 20040529,     1019
  18HU20040515, AR07W,   289,  1, 277771,      6,2,20040529,1002, 50.5997, -45.8012, 3627,   2746.5,   2.4757,  34.9020,2,  34.9020,2,    275.2,2,    274.7,2,  -999.00,9,  -999.00,9,  -999.00,9,    2.839,2,    1.325,2,    0.231,2,    2.857,2,    4.492,2,   -999.0,9,   2266.8,3,   2.2617, 20040529,     1024
  18HU20040515, AR07W,   289,  1, 277772,      7,2,20040529,1002, 50.5997, -45.8012, 3627,   2462.1,   2.7313,  34.9099,2,  34.9106,2,    271.7,2,    270.8,2,  -999.00,9,  -999.00,9,  -999.00,9,    2.400,2,    1.086,2,    0.259,2,    2.466,2,    3.996,2,   2148.9,3,   2295.8,2,   2.5400, 20040529,     1029
  18HU20040515, AR07W,   289,  1, 277773,      8,2,20040529,1002, 50.5997, -45.8012, 3627,   2203.0,   2.8909,  34.9072,2,  34.9085,2,    272.5,2,    271.3,2,  -999.00,9,  -999.00,9,  -999.00,9,    2.621,2,    1.187,2,    0.241,2,    2.675,2,    4.491,2,   2153.6,2,   2311.0,2,   2.7214, 20040529,     1035
  18HU20040515, AR07W,   289,  1, 277774,      9,2,20040529,1002, 50.5997, -45.8012, 3627,   1999.3,   2.9786,  34.8985,2,  34.8997,2,    273.8,2,    273.4,2,  -999.00,9,  -999.00,9,  -999.00,9,    3.013,2,    1.401,2,    0.233,2,    3.102,2,    5.287,2,   2150.8,2,   2303.9,2,   2.8265, 20040529,     1039
  18HU20040515, AR07W,   289,  1, 277775,     10,2,20040529,1002, 50.5997, -45.8012, 3627,   1674.3,   3.1230,  34.8859,2,  34.8867,2,    276.3,2,    275.4,2,  -999.00,9,  -999.00,9,  -999.00,9,    3.524,2,    1.689,2,    0.317,2,    3.337,2,    5.889,2,   2152.3,2,   2292.0,2,   2.9980, 20040529,     1045
  18HU20040515, AR07W,   289,  1, 277776,     11,2,20040529,1002, 50.5997, -45.8012, 3627,   1348.9,   3.3619,  34.8899,2,  34.8907,2,    272.9,2,    273.1,2,  -999.00,9,  -999.00,9,  -999.00,9,    3.729,2,    1.840,2,    0.325,2,    3.559,2,    5.867,2,   2150.1,2,   2292.3,2,   3.2620, 20040529,     1051
  18HU20040515, AR07W,   289,  1, 277777,     12,2,20040529,1002, 50.5997, -45.8012, 3627,   1151.8,   3.4346,  34.8818,2,-999.0000,9,    274.8,2,   -999.0,9,  -999.00,9,  -999.00,9,  -999.00,9, -999.000,9, -999.000,9, -999.000,9, -999.000,9, -999.000,9,   -999.0,9,   -999.0,9,   3.3504, 20040529,     1056
  18HU20040515, AR07W,   289,  1, 277778,     13,2,20040529,1002, 50.5997, -45.8012, 3627,    909.6,   3.4262,  34.8596,2,  34.8606,2,    280.9,2,    280.6,6,  -999.00,9,  -999.00,9,  -999.00,9,    4.541,2,    2.419,2,    0.351,2,    4.304,2,    4.844,2,   2150.5,2,   2293.4,2,   3.3615, 20040529,     1100
  18HU20040515, AR07W,   289,  1, 277779,     14,2,20040529,1002, 50.5997, -45.8012, 3627,    750.4,   3.5517,  34.8660,2,  34.8667,2,    278.6,2,    277.6,2,  -999.00,9,  -999.00,9,  -999.00,9,    4.416,2,    2.432,2,    0.416,2,    4.247,2,    4.579,2,   2149.3,2,   2291.6,2,   3.4985, 20040529,     1104
  18HU20040515, AR07W,   289,  1, 277780,     15,2,20040529,1002, 50.5997, -45.8012, 3627,    598.6,   3.6965,  34.8668,2,  34.8675,2,    276.2,2,    275.5,2,  -999.00,9,  -999.00,9,  -999.00,9,    4.435,2,    2.402,2,    0.425,2,    4.092,2,    4.205,2,   2143.3,2,   2288.1,2,   3.6541, 20040529,     1108
  18HU20040515, AR07W,   289,  1, 277781,     16,2,20040529,1002, 50.5997, -45.8012, 3627,    451.0,   3.8515,  34.8678,2,  34.8683,2,    274.2,2,    273.8,2,  -999.00,9,  -999.00,9,  -999.00,9,    4.523,2,    2.441,2,    0.382,2,    4.303,2,    4.236,2,   2146.4,2,   2291.0,2,   3.8195, 20040529,     1111
  18HU20040515, AR07W,   289,  1, 277782,     17,2,20040529,1002, 50.5997, -45.8012, 3627,    298.3,   4.0955,  34.8590,2,  34.8591,2,    275.6,2,    273.7,2,  -999.00,9,  -999.00,9,  -999.00,9,    4.478,2,    2.468,2,    0.475,2,    4.123,2,    3.494,2,   2147.8,2,   2290.3,2,   4.0741, 20040529,     1114
  18HU20040515, AR07W,   289,  1, 277783,     18,2,20040529,1002, 50.5997, -45.8012, 3627,    149.0,   3.8670,  34.7410,2,-999.0000,9,    289.0,2,    286.5,2,  -999.00,9,  -999.00,9,  -999.00,9,    4.960,2,    2.736,2,    0.501,2,    4.948,2,    2.832,2,   2138.8,2,   2276.9,2,   3.8568, 20040529,     1118
  18HU20040515, AR07W,   289,  1, 277784,     19,2,20040529,1002, 50.5997, -45.8012, 3627,     71.4,   4.8885,  34.6344,2,-999.0000,9,    300.5,2,    299.8,2,  -999.00,9,  -999.00,9,  -999.00,9,    5.178,2,    2.949,2,    0.490,2,    5.499,2,    2.467,2,   2118.3,2,   2289.1,2,   4.8831, 20040529,     1120
  18HU20040515, AR07W,   289,  1, 277785,     20,2,20040529,1002, 50.5997, -45.8012, 3627,     24.7,   7.1673,  34.4793,2,-999.0000,9,    295.9,2,    297.8,2,  -999.00,9,  -999.00,9,  -999.00,9,    4.498,2,    2.597,2,    0.490,2,    4.529,2,    2.066,2,   2079.1,2,   2287.6,2,   7.1650, 20040529,     1121