BOTTLE,20140403SIOCCHCBG
EXPOCODE,SECT_ID,STNNBR,CASTNO,SAMPNO,BTLNBR,BTLNBR_FLAG_W,DATE,TIME,LATITUDE,LONGITUDE,DEPTH,CTDPRS,CTDTMP,CTDSAL,CTDSAL_FLAG_W,SALNTY,SALNTY_FLAG_W,CTDOXY,CTDOXY_FLAG_W,OXYGEN,OXYGEN_FLAG_W,SILCAT,SILCAT_FLAG_W,NO2+NO3,NO2+NO3_FLAG_W,PHSPHT,PHSPHT_FLAG_W,CFC-11,CFC-11_FLAG_W,CFC-12,CFC-12_FLAG_W,CFC113,CFC113_FLAG_W,CCL4,CCL4_FLAG_W,MCHFRM,MCHFRM_FLAG_W,TCARBN,TCARBN_FLAG_W,ALKALI,ALKALI_FLAG_W,THETA,BTL_DATE,BTL_TIME
,,,,,,,,,,,METERS,DBAR,ITS-90,PSS-78,,PSS-78,,UMOL/KG,,UMOL/KG,,UMOL/KG,,UMOL/KG,,UMOL/KG,,PMOL/KG,,PMOL/KG,,PMOL/KG,,PMOL/KG,,PMOL/KG,,UMOL/KG,,UMOL/KG,,DEG C,,
  18HU20040515, AR07W,   100,  1, 277305,      1,2,20040521,2314, 56.1233, -53.1150, 3252,   3408.3,   1.5387,  34.8903,2,  34.8898,2,    288.9,2,    284.7,2,     9.51,6,    13.70,6,     0.88,6,    4.193,2,    2.193,2,    0.277,2,    4.448,2,    6.242,2,   2160.2,2,   2306.5,2,   1.2797, 20040521,     2314
  18HU20040515, AR07W,   100,  1, 277306,      2,2,20040521,2314, 56.1233, -53.1150, 3252,   3302.2,   1.6811,  34.8841,2,  34.8833,2,    286.5,2,    282.3,2,    10.08,6,    14.35,6,     0.91,6,    4.066,2,    2.194,2,    0.295,2,    4.294,2,    6.357,2,   2161.5,2,   2307.9,2,   1.4294, 20040521,     2318
  18HU20040515, AR07W,   100,  1, 277307,      3,2,20040521,2314, 56.1233, -53.1150, 3252,   3218.8,   1.9559,  34.8882,2,  34.8882,2,    283.4,2,    278.7,2,    10.70,6,    14.47,6,     0.93,6,    3.848,2,    1.856,2,    0.238,2,    3.916,2,    5.919,2,   2158.5,2,   2308.3,2,   1.7062, 20040521,     2321
  18HU20040515, AR07W,   100,  1, 277308,      4,2,20040521,2314, 56.1233, -53.1150, 3252,   3117.7,   2.2202,  34.8941,2,  34.8944,2,    277.8,2,    273.2,2,    12.98,6,    15.26,6,     0.99,6,    3.018,2,    1.359,2,    0.219,2,    3.360,2,    5.617,2,   2159.2,2,   2304.1,2,   1.9746, 20040521,     2323
  18HU20040515, AR07W,   100,  1, 277309,      5,2,20040521,2314, 56.1233, -53.1150, 3252,   2995.2,   2.4260,  34.9000,2,  34.8997,2,    276.5,2,    272.0,2,    12.13,6,    15.37,6,     0.99,6,    3.112,2,    1.484,2,    0.230,2,    3.362,2,    5.713,2,   2159.1,2,   2307.6,2,   2.1883, 20040521,     2326
  18HU20040515, AR07W,   100,  1, 277310,      6,2,20040521,2314, 56.1233, -53.1150, 3252,   2866.1,   2.6755,  34.9136,2,  34.9126,6,    272.7,2,    267.9,2,    12.99,6,    15.77,6,     1.01,6,    2.472,2,    1.101,2,    0.185,2,    2.798,2,    5.082,2,   2160.3,2,   2323.2,3,   2.4455, 20040521,     2329
  18HU20040515, AR07W,   100,  1, 277311,      7,2,20040521,2314, 56.1233, -53.1150, 3252,   2700.3,   2.8191,  34.9120,2,  34.9117,2,    272.9,2,    268.2,2,    12.13,6,    16.07,6,     0.98,6,    2.644,2,    1.217,2,    0.209,2,    2.988,2,    5.513,2,   2158.3,2,   2299.1,2,   2.6029, 20040521,     2333
  18HU20040515, AR07W,   100,  1, 277312,      8,2,20040521,2314, 56.1233, -53.1150, 3252,   2520.5,   2.9429,  34.9049,2,  34.9051,6,    274.4,2,    269.5,2,    11.14,6,    15.79,6,     0.99,6,    3.148,2,    1.452,2,    0.237,2,    3.312,2,    6.073,2,   2157.0,2,   2307.8,2,   2.7421, 20040521,     2336
  18HU20040515, AR07W,   100,  1, 277313,      9,2,20040521,2314, 56.1233, -53.1150, 3252,   2318.7,   3.0646,  34.8968,2,  34.8959,2,    275.3,2,    270.3,2,    11.12,6,    16.29,6,     1.03,6,    2.957,2,    1.364,2,    0.202,2,    3.243,2,    6.411,2,   2157.7,2,   2308.4,2,   2.8813, 20040521,     2340
  18HU20040515, AR07W,   100,  1, 277314,     10,2,20040521,2314, 56.1233, -53.1150, 3252,   2099.0,   3.1271,  34.8852,2,  34.8847,2,    277.7,2,    272.6,2,    10.51,6,    16.56,6,     1.02,6,    3.548,2,    1.715,2,    0.241,2,    3.785,2,    7.590,2,   2156.1,2,   2301.5,2,   2.9636, 20040521,     2344
  18HU20040515, AR07W,   100,  1, 277315,     11,2,20040521,2314, 56.1233, -53.1150, 3252,   1880.0,   3.2671,  34.8905,2,  34.8898,2,    276.0,2,    270.7,2,    10.40,6,    16.41,6,     1.02,6,    3.702,2,    1.902,2,    0.235,2,    3.885,2,    7.613,2,   -999.0,9,   2286.4,3,   3.1217, 20040521,     2348
  18HU20040515, AR07W,   100,  1, 277316,     12,2,20040521,2314, 56.1233, -53.1150, 3252,   1636.0,   3.4334,  34.8901,2,  34.8886,2,    273.7,2,    268.4,2,    10.26,6,    16.87,6,     1.03,6,    3.740,2,    1.890,2,    0.262,2,    3.946,2,    7.369,2,   -999.0,9,   2299.2,2,   3.3078, 20040521,     2353
  18HU20040515, AR07W,   100,  1, 277317,     13,2,20040521,2314, 56.1233, -53.1150, 3252,   1395.6,   3.3846,  34.8599,2,  34.8577,2,    282.7,2,    277.7,6,     9.19,6,    16.12,6,     0.98,6,    4.551,2,    2.554,2,    0.335,2,    4.694,2,    6.179,2,   -999.0,9,   2299.9,2,   3.2806, 20040521,     2358
  18HU20040515, AR07W,   100,  1, 277318,     14,2,20040521,2314, 56.1233, -53.1150, 3252,   1182.3,   3.3331,  34.8442,2,  34.8422,2,    287.2,2,    281.8,2,     9.20,6,    15.92,6,     1.00,6,    4.857,2,    2.824,2,    0.422,2,    5.097,2,    5.721,2,   -999.0,9,   2303.1,2,   3.2474, 20040522,        2
  18HU20040515, AR07W,   100,  1, 277319,     15,2,20040521,2314, 56.1233, -53.1150, 3252,    959.1,   3.3697,  34.8451,2,  34.8428,2,    291.3,2,    286.0,2,     8.49,6,    15.64,6,     1.02,6,    5.138,2,    2.745,2,    0.406,2,    5.675,2,    5.115,2,   2156.1,2,   2307.5,2,   3.3016, 20040522,        7
  18HU20040515, AR07W,   100,  1, 277320,     16,2,20040521,2314, 56.1233, -53.1150, 3252,    758.4,   3.4791,  34.8580,2,  34.8567,2,    293.6,2,    288.4,2,     8.21,6,    15.51,6,     0.95,6,    5.093,2,    2.791,2,    0.414,2,    5.552,2,    4.426,2,   2156.9,2,   2307.2,2,   3.4257, 20040522,       12
  18HU20040515, AR07W,   100,  1, 277321,     17,2,20040521,2314, 56.1233, -53.1150, 3252,    576.8,   3.4493,  34.8479,2,  34.8471,2,    294.3,2,    288.6,2,     8.15,6,    15.49,6,     0.97,6,    5.147,2,    2.860,2,    0.449,2,    5.750,2,    4.524,2,   2155.3,2,   2301.3,2,   3.4097, 20040522,       16
  18HU20040515, AR07W,   100,  1, 277322,     18,2,20040521,2314, 56.1233, -53.1150, 3252,    436.6,   3.6077,  34.8623,2,  34.8606,2,    295.8,2,    289.9,2,     7.96,6,    15.27,6,     0.99,6,    5.376,2,    3.022,2,    0.414,2,    5.725,2,    4.183,2,   2155.0,2,   2306.4,2,   3.5776, 20040522,       19
  18HU20040515, AR07W,   100,  1, 277323,     19,2,20040521,2314, 56.1233, -53.1150, 3252,    306.9,   3.5050,  34.8422,2,  34.8412,2,    294.3,2,    287.7,2,     8.18,6,    15.45,6,     0.95,6,    5.028,2,    2.945,2,    0.376,2,    5.470,2,    4.140,2,   2155.7,2,   2288.5,3,   3.4844, 20040522,       22
  18HU20040515, AR07W,   100,  1, 277324,     20,2,20040521,2314, 56.1233, -53.1150, 3252,    209.6,   3.7301,  34.8637,2,  34.8647,2,    293.0,2,    286.1,2,     7.94,6,    14.94,6,     0.96,6,    5.049,2,    3.013,2,    0.423,2,    5.628,2,    4.104,2,   2152.6,2,   2304.1,2,   3.7158, 20040522,       24
  18HU20040515, AR07W,   100,  1, 277325,     21,2,20040521,2314, 56.1233, -53.1150, 3252,    121.0,   3.5405,  34.8248,2,  34.8234,2,    295.9,2,    294.9,2,     7.90,6,    14.98,6,     0.95,6,    5.508,2,    2.993,2,    0.452,2,    5.812,2,    3.953,2,   2152.6,2,   2300.6,2,   3.5325, 20040522,       27
  18HU20040515, AR07W,   100,  1, 277326,     22,2,20040521,2314, 56.1233, -53.1150, 3252,     62.0,   3.5512,  34.7027,2,  34.7015,2,    305.8,2,    302.9,2,     8.01,6,    13.47,6,     0.89,6,    5.363,2,    3.277,2,    0.412,2,    6.245,2,    3.407,2,   2141.6,2,   2299.2,2,   3.5472, 20040522,       29
  18HU20040515, AR07W,   100,  1, 277327,     23,2,20040521,2314, 56.1233, -53.1150, 3252,     28.8,   3.6503,  34.6942,2,  34.6935,2,    308.8,2,    306.4,2,     8.02,6,    13.13,6,     0.87,6,    5.489,2,    3.192,2,    0.508,2,    6.458,2,    3.388,2,   2139.2,2,   2295.7,2,   3.6484, 20040522,       30
  18HU20040515, AR07W,   100,  1, 277328,     24,2,20040521,2314, 56.1233, -53.1150, 3252,      4.2,   3.6460,  34.6914,2,  34.6919,2,    308.5,2,    306.2,2,     7.84,6,    13.11,6,     0.85,6,    5.708,2,    3.190,2,    0.471,2,    6.713,2,    3.539,2,   2139.3,2,   2303.9,2,   3.6457, 20040522,       32
  18HU20040515, AR07W,   110,  1, 277329,      1,2,20040522,0416, 56.5377, -52.6777, 3408,   3530.1,   1.6242,  34.8847,2,  34.8832,2,    285.7,2,    283.0,2,    11.04,6,    14.26,6,     0.90,6,    4.075,2,    2.064,2,    0.312,2,    3.629,2,    4.604,2,   2162.2,2,   2296.8,2,   1.3506, 20040522,      416
  18HU20040515, AR07W,   110,  1, 277330,      2,2,20040522,0416, 56.5377, -52.6777, 3408,   3461.0,   1.6922,  34.8818,2,  34.8800,2,    284.9,2,    282.8,2,    10.60,6,    14.15,6,     0.92,6,    3.899,2,    2.005,2,    0.309,2,    3.458,2,    4.476,2,   2159.3,2,   2294.1,2,   1.4241, 20040522,      418
  18HU20040515, AR07W,   110,  1, 277331,      3,2,20040522,0416, 56.5377, -52.6777, 3408,   3380.6,   1.9168,  34.8853,2,  34.8833,2,    283.0,2,    280.5,2,    10.55,6,    14.63,6,     0.89,6,    3.761,2,    1.876,2,    0.281,2,    3.489,2,    4.645,2,   2175.5,4,   2295.7,2,   1.6514, 20040522,      421
  18HU20040515, AR07W,   110,  1, 277332,      4,2,20040522,0416, 56.5377, -52.6777, 3408,   3278.3,   2.1623,  34.8904,2,  34.8892,2,    278.9,2,    278.5,2,    11.98,6,    14.95,6,     1.10,3,    3.320,2,    1.597,2,    0.227,2,    3.110,2,    4.366,2,   2159.5,2,   2306.7,3,   1.9016, 20040522,      424
  18HU20040515, AR07W,   110,  1, 277333,      5,2,20040522,0416, 56.5377, -52.6777, 3408,   3160.2,   2.4276,  34.8999,2,  34.8983,2,    275.7,2,    273.0,2,    12.21,6,    15.62,6,     0.94,6,    3.060,2,    1.460,2,    0.224,2,    2.900,2,    4.185,2,   2159.2,2,   2291.6,3,   2.1730, 20040522,      428
  18HU20040515, AR07W,   110,  1, 277334,      6,2,20040522,0416, 56.5377, -52.6777, 3408,   3028.9,   2.6488,  34.9101,2,  34.9073,6,    272.0,2,    269.8,2,    13.11,6,    15.84,6,     1.00,6,    2.696,2,    1.209,2,    0.199,2,    2.638,2,    4.262,2,   2160.9,2,   2301.9,2,   2.4027, 20040522,      431
  18HU20040515, AR07W,   110,  1, 277335,      7,2,20040522,0416, 56.5377, -52.6777, 3408,   2857.0,   2.7987,  34.9126,2,  34.9055,2,    271.2,2,    268.8,2,    12.72,6,    16.03,6,     0.98,6, -999.000,9, -999.000,9, -999.000,9, -999.000,9, -999.000,9,   2161.1,2,   2301.5,2,   2.5671, 20040522,      434
  18HU20040515, AR07W,   110,  1, 277336,      8,2,20040522,0416, 56.5377, -52.6777, 3408,   2662.3,   2.9436,  34.9065,2,  34.9057,2,    272.1,2,    269.1,2,    12.02,6,    16.26,6,     1.00,6,    2.807,2,    1.295,2,    0.209,2,    2.709,2,    4.375,2,   2160.0,2,   2301.2,2,   2.7287, 20040522,      438
  18HU20040515, AR07W,   110,  1, 277337,      9,2,20040522,0416, 56.5377, -52.6777, 3408,   2438.9,   3.0650,  34.8985,2,  34.8978,2,    273.9,2,    271.0,2,    11.18,6,    16.19,6,     1.03,6,    3.092,2,    1.468,2,    0.262,2,    2.991,2,    4.874,2,   -999.0,9,   2291.4,3,   2.8700, 20040522,      442
  18HU20040515, AR07W,   110,  1, 277338,     10,2,20040522,0416, 56.5377, -52.6777, 3408,   2209.1,   3.1299,  34.8881,2,  34.8879,6,    275.6,2,    273.0,2,    10.69,6,    16.66,6,     1.01,6,    3.471,2,    1.701,2,    0.210,2,    3.178,2,    5.473,2,   2159.4,2,   2296.7,2,   2.9560, 20040522,      446
  18HU20040515, AR07W,   110,  1, 277339,     11,2,20040522,0416, 56.5377, -52.6777, 3408,   1969.4,   3.2328,  34.8822,2,  34.8815,2,    275.8,2,    272.7,2,    10.51,6,    16.84,6,     1.01,6,    3.682,2,    1.753,2,    0.262,2,    3.313,2,    5.800,2,   2158.6,2,   2297.6,2,   3.0798, 20040522,      451
  18HU20040515, AR07W,   110,  1, 277340,     12,2,20040522,0416, 56.5377, -52.6777, 3408,   1732.0,   3.4271,  34.8895,2,  34.8885,2,    272.1,2,    268.9,2,    10.41,6,    16.92,6,     1.03,6,    3.657,2,    1.831,2,    0.291,2,    3.331,2,    5.405,2,   2160.9,2,   2301.6,2,   3.2930, 20040522,      456
  18HU20040515, AR07W,   110,  1, 277341,     13,2,20040522,0416, 56.5377, -52.6777, 3408,   1499.1,   3.3854,  34.8595,2,  34.8584,2,    281.2,2,    278.1,6,     9.19,6,    16.33,6,     0.98,6,    4.573,2,    2.449,2,    0.351,2,    4.055,2,    4.646,2,   2157.5,2,   2304.0,2,   3.2725, 20040522,      500
  18HU20040515, AR07W,   110,  1, 277342,     14,2,20040522,0416, 56.5377, -52.6777, 3408,   1281.2,   3.2913,  34.8387,2,  34.8374,2,    291.9,2,    289.1,2,     8.49,6,    15.78,6,     0.96,6,    5.053,2,    2.778,2,    0.415,2,    4.719,2,    3.788,2,   2155.9,2,   2288.8,2,   3.1979, 20040522,      504
  18HU20040515, AR07W,   110,  1, 277343,     15,2,20040522,0416, 56.5377, -52.6777, 3408,   1069.1,   3.2967,  34.8350,2,  34.8340,2,    290.0,2,    287.5,2,     8.61,6,    15.87,6,     0.99,6,    5.071,2,    2.735,2,    0.435,2,    4.637,2,    3.793,2,   2157.6,2,   2295.9,2,   3.2205, 20040522,      508
  18HU20040515, AR07W,   110,  1, 277344,     16,2,20040522,0416, 56.5377, -52.6777, 3408,    869.1,   3.3011,  34.8316,2,  34.8305,2,    292.9,2,    290.0,2,     8.28,6,    15.78,6,     0.98,6,    5.055,2,    2.800,2,    0.450,2,    4.638,2,    3.425,2,   2157.1,2,   2291.8,2,   3.2404, 20040522,      512
  18HU20040515, AR07W,   110,  1, 277345,     17,2,20040522,0416, 56.5377, -52.6777, 3408,    680.4,   3.4076,  34.8459,2,  34.8448,2,    293.0,2,    289.4,2,     8.09,6,    15.08,6,     0.97,6,    5.066,2,    2.850,2,    0.430,2,    4.779,2,    3.408,2,   -999.0,9,   2302.1,2,   3.3605, 20040522,      516
  18HU20040515, AR07W,   110,  1, 277346,     18,2,20040522,0416, 56.5377, -52.6777, 3408,    511.3,   3.4596,  34.8495,2,  34.8484,2,    297.0,2,    293.3,2,     7.69,6,    15.23,6,     0.98,6,    5.100,2,    2.876,2,    0.465,2,    4.944,2,    3.049,2,   2156.2,2,   2301.1,2,   3.4247, 20040522,      519
  18HU20040515, AR07W,   110,  1, 277347,     19,2,20040522,0416, 56.5377, -52.6777, 3408,    358.3,   3.6186,  34.8658,2,  34.8656,2,    296.2,2,    292.0,2,     7.60,6,    14.84,6,     0.94,6,    5.005,2,    2.821,2,    0.484,2,    4.664,2,    2.912,2,   2155.3,2,   2307.4,2,   3.5941, 20040522,      523
  18HU20040515, AR07W,   110,  1, 277348,     20,2,20040522,0416, 56.5377, -52.6777, 3408,    239.3,   3.5185,  34.8473,2,  34.8473,2,    294.9,2,    290.2,2,     7.66,6,    15.10,6,     0.97,6,    5.005,2,    2.768,2,    0.418,2,    4.793,2,    3.101,2,   2156.8,2,   2298.1,2,   3.5026, 20040522,      525
  18HU20040515, AR07W,   110,  1, 277349,     21,2,20040522,0416, 56.5377, -52.6777, 3408,    138.8,   3.5236,  34.8388,2,  34.8395,2,    293.8,2,    291.3,2,     7.42,6,    14.75,6,     0.96,6,    0.387,4,    0.000,4,    0.000,4,    0.327,4,    0.696,2,   2156.4,2,   2290.0,3,   3.5145, 20040522,      528
  18HU20040515, AR07W,   110,  1, 277350,     22,2,20040522,0416, 56.5377, -52.6777, 3408,     69.8,   3.8341,  34.8100,2,  34.8088,2,    302.6,2,    302.6,2,     7.10,6,    13.42,6,     0.85,6,    5.217,2,    2.924,2,    0.512,2,    5.110,2,    2.583,2,   2145.4,2,   2295.9,2,   3.8294, 20040522,      530
  18HU20040515, AR07W,   110,  1, 277351,     23,2,20040522,0416, 56.5377, -52.6777, 3408,     34.6,   3.8791,  34.7710,2,  34.7708,2,    307.7,2,    307.8,2,     7.04,6,    12.41,6,     0.83,6,    5.357,2,    3.060,2,    0.485,2,    5.501,2,    2.540,2,   2142.8,2,   2294.2,2,   3.8768, 20040522,      532
  18HU20040515, AR07W,   110,  1, 277352,     24,2,20040522,0416, 56.5377, -52.6777, 3408,      3.9,   3.8843,  34.7725,2,  34.7724,2,    307.7,2,    308.0,2,     7.03,6,    12.59,6,     0.82,6,    5.342,2,    3.070,2,    0.542,2,    5.633,2,    2.549,2,   2141.9,2,   2304.7,2,   3.8840, 20040522,      533