BOTTLE,20140403SIOCCHCBG
EXPOCODE,SECT_ID,STNNBR,CASTNO,SAMPNO,BTLNBR,BTLNBR_FLAG_W,DATE,TIME,LATITUDE,LONGITUDE,DEPTH,CTDPRS,CTDTMP,CTDSAL,CTDSAL_FLAG_W,SALNTY,SALNTY_FLAG_W,CTDOXY,CTDOXY_FLAG_W,OXYGEN,OXYGEN_FLAG_W,SILCAT,SILCAT_FLAG_W,NO2+NO3,NO2+NO3_FLAG_W,PHSPHT,PHSPHT_FLAG_W,CFC-11,CFC-11_FLAG_W,CFC-12,CFC-12_FLAG_W,CFC113,CFC113_FLAG_W,CCL4,CCL4_FLAG_W,MCHFRM,MCHFRM_FLAG_W,TCARBN,TCARBN_FLAG_W,ALKALI,ALKALI_FLAG_W,THETA,BTL_DATE,BTL_TIME
,,,,,,,,,,,METERS,DBAR,ITS-90,PSS-78,,PSS-78,,UMOL/KG,,UMOL/KG,,UMOL/KG,,UMOL/KG,,UMOL/KG,,PMOL/KG,,PMOL/KG,,PMOL/KG,,PMOL/KG,,PMOL/KG,,UMOL/KG,,UMOL/KG,,DEG C,,
  18HU20040515, AR07W,    19,  1, 277047,      1,2,20040516,1816, 42.8520, -61.6795, 1052,   1063.5,   3.8983,  34.9267,2,-999.0000,9,    260.3,2,   -999.0,9,    11.50,6,    17.15,6,     1.08,6, -999.000,9, -999.000,9, -999.000,9, -999.000,9, -999.000,9,   -999.0,9,   -999.0,9,   3.8174, 20040516,     1816
  18HU20040515, AR07W,    19,  1, 277048,      2,2,20040516,1816, 42.8520, -61.6795, 1052,    756.4,   4.3097,  34.9194,2,-999.0000,9,    252.2,2,   -999.0,9,    10.90,6,    17.41,6,     1.10,6, -999.000,9, -999.000,9, -999.000,9, -999.000,9, -999.000,9,   -999.0,9,   -999.0,9,   4.2515, 20040516,     1822
  18HU20040515, AR07W,    19,  1, 277049,      3,2,20040516,1816, 42.8520, -61.6795, 1052,    504.2,   4.8243,  34.9029,2,-999.0000,9,    232.0,2,   -999.0,9,    11.85,6,    18.35,6,     1.15,6, -999.000,9, -999.000,9, -999.000,9, -999.000,9, -999.000,9,   -999.0,9,   -999.0,9,   4.7845, 20040516,     1827
  18HU20040515, AR07W,    19,  1, 277050,      4,2,20040516,1816, 42.8520, -61.6795, 1052,    252.3,   8.4866,  35.0257,2,-999.0000,9,    155.3,2,   -999.0,9,    13.07,6,    21.66,6,     1.34,6, -999.000,9, -999.000,9, -999.000,9, -999.000,9, -999.000,9,   -999.0,9,   -999.0,9,   8.4600, 20040516,     1831
  18HU20040515, AR07W,    19,  1, 277051,      5,2,20040516,1816, 42.8520, -61.6795, 1052,    101.4,   9.5981,  34.8833,2,-999.0000,9,    231.7,2,   -999.0,9,     6.08,6,    10.63,6,     0.71,6, -999.000,9, -999.000,9, -999.000,9, -999.000,9, -999.000,9,   -999.0,9,   -999.0,9,   9.5867, 20040516,     1834
  18HU20040515, AR07W,    19,  1, 277052,      6,2,20040516,1816, 42.8520, -61.6795, 1052,     81.3,   6.5567,  34.1067,2,-999.0000,9,    245.0,2,   -999.0,9,     6.93,6,    10.90,6,     0.83,6, -999.000,9, -999.000,9, -999.000,9, -999.000,9, -999.000,9,   -999.0,9,   -999.0,9,   6.5495, 20040516,     1835
  18HU20040515, AR07W,    19,  1, 277053,      7,2,20040516,1816, 42.8520, -61.6795, 1052,     61.2,   2.1058,  33.0578,2,-999.0000,9,    292.0,2,   -999.0,9,     6.22,6,     8.36,6,     0.85,6, -999.000,9, -999.000,9, -999.000,9, -999.000,9, -999.000,9,   -999.0,9,   -999.0,9,   2.1027, 20040516,     1836
  18HU20040515, AR07W,    19,  1, 277054,      8,2,20040516,1816, 42.8520, -61.6795, 1052,     51.1,   2.0026,  32.9548,2,-999.0000,9,    300.6,2,   -999.0,9,     4.02,6,     7.27,6,     0.85,6, -999.000,9, -999.000,9, -999.000,9, -999.000,9, -999.000,9,   -999.0,9,   -999.0,9,   2.0001, 20040516,     1837
  18HU20040515, AR07W,    19,  1, 277055,      9,2,20040516,1816, 42.8520, -61.6795, 1052,     41.0,   2.9467,  32.9099,2,-999.0000,9,    308.6,2,   -999.0,9,     1.14,6,     4.72,6,     0.72,6, -999.000,9, -999.000,9, -999.000,9, -999.000,9, -999.000,9,   -999.0,9,   -999.0,9,   2.9444, 20040516,     1838
  18HU20040515, AR07W,    19,  1, 277056,     10,2,20040516,1816, 42.8520, -61.6795, 1052,     31.1,   4.3641,  32.9115,2,-999.0000,9,    313.0,2,   -999.0,9,     0.91,6,     2.16,6,     0.52,6, -999.000,9, -999.000,9, -999.000,9, -999.000,9, -999.000,9,   -999.0,9,   -999.0,9,   4.3620, 20040516,     1838
  18HU20040515, AR07W,    19,  1, 277057,     11,2,20040516,1816, 42.8520, -61.6795, 1052,     21.1,   5.5869,  32.6733,2,-999.0000,9,    330.8,2,   -999.0,9,     0.53,6,     0.00,6,     0.38,6, -999.000,9, -999.000,9, -999.000,9, -999.000,9, -999.000,9,   -999.0,9,   -999.0,9,   5.5853, 20040516,     1839
  18HU20040515, AR07W,    19,  1, 277058,     12,2,20040516,1816, 42.8520, -61.6795, 1052,     10.9,   5.5705,  32.2516,2,-999.0000,9,    330.9,2,   -999.0,9,     0.00,6,     0.00,6,     0.34,6, -999.000,9, -999.000,9, -999.000,9, -999.000,9, -999.000,9,   -999.0,9,   -999.0,9,   5.5697, 20040516,     1840
  18HU20040515, AR07W,    19,  1, 277059,     13,2,20040516,1816, 42.8520, -61.6795, 1052,      2.8,   5.5392,  32.1861,2,-999.0000,9,    332.5,2,   -999.0,9,     0.00,6,     0.00,6,     0.33,6, -999.000,9, -999.000,9, -999.000,9, -999.000,9, -999.000,9,   -999.0,9,   -999.0,9,   5.5390, 20040516,     1841
  18HU20040515, AR07W,    20,  1, 277060,      1,2,20040516,2129, 42.5337, -61.4003, 2068,   2838.4,   2.7538,  34.9189,2,  34.9482,3,    269.7,2,    260.1,2,    11.16,6,    17.29,6,     1.11,6, -999.000,9, -999.000,9, -999.000,9, -999.000,9, -999.000,9,   -999.0,9,   -999.0,9,   2.5249, 20040516,     2129
  18HU20040515, AR07W,    20,  1, 277061,      2,2,20040516,2129, 42.5337, -61.4003, 2068,   1514.8,   3.6720,  34.9308,2,  34.9302,6,    267.1,2,    259.5,6,    15.58,6,    17.09,6,     1.09,6, -999.000,9, -999.000,9, -999.000,9, -999.000,9, -999.000,9,   -999.0,9,   -999.0,9,   3.5543, 20040516,     2155
  18HU20040515, AR07W,    20,  1, 277062,      3,2,20040516,2129, 42.5337, -61.4003, 2068,   1007.9,   4.1199,  34.9491,2,  34.9490,6,    259.2,2,    252.2,2,    11.08,6,    17.25,6,     1.09,6, -999.000,9, -999.000,9, -999.000,9, -999.000,9, -999.000,9,   -999.0,9,   -999.0,9,   4.0419, 20040516,     2205
  18HU20040515, AR07W,    20,  1, 277063,      4,2,20040516,2129, 42.5337, -61.4003, 2068,    505.1,   5.1532,  34.9055,2,  34.9069,2,    223.8,2,    217.2,2,    12.18,6,    18.77,6,     1.24,6, -999.000,9, -999.000,9, -999.000,9, -999.000,9, -999.000,9,   -999.0,9,   -999.0,9,   5.1120, 20040516,     2215
  18HU20040515, AR07W,    20,  1, 277064,      5,2,20040516,2129, 42.5337, -61.4003, 2068,    252.0,   8.6155,  35.0465,2,  35.0421,2,    156.6,2,    152.8,2,    12.58,6,    21.27,6,     1.34,6, -999.000,9, -999.000,9, -999.000,9, -999.000,9, -999.000,9,   -999.0,9,   -999.0,9,   8.5887, 20040516,     2220
  18HU20040515, AR07W,    20,  1, 277065,      6,2,20040516,2129, 42.5337, -61.4003, 2068,    102.6,  10.1104,  34.9572,2,-999.0000,9,    227.9,2,    222.4,2,     6.09,6,    11.41,6,     0.77,6, -999.000,9, -999.000,9, -999.000,9, -999.000,9, -999.000,9,   -999.0,9,   -999.0,9,  10.0985, 20040516,     2224
  18HU20040515, AR07W,    20,  1, 277066,      7,2,20040516,2129, 42.5337, -61.4003, 2068,     82.1,   9.7837,  34.8077,2,-999.0000,9,    238.0,2,    232.6,2,     4.76,6,     9.77,6,     0.69,6, -999.000,9, -999.000,9, -999.000,9, -999.000,9, -999.000,9,   -999.0,9,   -999.0,9,   9.7744, 20040516,     2226
  18HU20040515, AR07W,    20,  1, 277067,      8,2,20040516,2129, 42.5337, -61.4003, 2068,     62.7,   6.9813,  34.0549,2,-999.0000,9,    258.6,2,    252.2,2,     4.53,6,     8.87,6,     0.73,6, -999.000,9, -999.000,9, -999.000,9, -999.000,9, -999.000,9,   -999.0,9,   -999.0,9,   6.9756, 20040516,     2228
  18HU20040515, AR07W,    20,  1, 277068,      9,2,20040516,2129, 42.5337, -61.4003, 2068,     52.6,   7.2673,  33.8459,2,-999.0000,9,    283.6,2,    275.4,2,     2.47,6,     4.78,6,     0.55,6, -999.000,9, -999.000,9, -999.000,9, -999.000,9, -999.000,9,   -999.0,9,   -999.0,9,   7.2624, 20040516,     2230
  18HU20040515, AR07W,    20,  1, 277069,     10,2,20040516,2129, 42.5337, -61.4003, 2068,     42.7,   6.7881,  33.5466,2,-999.0000,9,    296.3,2,    287.4,2,     1.80,6,     3.42,6,     0.66,6, -999.000,9, -999.000,9, -999.000,9, -999.000,9, -999.000,9,   -999.0,9,   -999.0,9,   6.7843, 20040516,     2232
  18HU20040515, AR07W,    20,  1, 277070,     11,2,20040516,2129, 42.5337, -61.4003, 2068,     32.4,   8.3232,  33.7201,2,-999.0000,9,    296.8,2,    288.7,2,     1.41,6,     1.82,6,     0.36,6, -999.000,9, -999.000,9, -999.000,9, -999.000,9, -999.000,9,   -999.0,9,   -999.0,9,   8.3199, 20040516,     2234
  18HU20040515, AR07W,    20,  1, 277071,     12,2,20040516,2129, 42.5337, -61.4003, 2068,     22.4,   8.4765,  33.4929,2,-999.0000,9,    305.1,2,    298.2,2,     1.00,6,     0.52,6,     0.29,6, -999.000,9, -999.000,9, -999.000,9, -999.000,9, -999.000,9,   -999.0,9,   -999.0,9,   8.4742, 20040516,     2236
  18HU20040515, AR07W,    20,  1, 277072,     13,2,20040516,2129, 42.5337, -61.4003, 2068,     12.3,   8.5142,  33.3903,2,-999.0000,9,    308.8,2,    301.6,2,     0.77,6,     0.15,6,     0.32,6, -999.000,9, -999.000,9, -999.000,9, -999.000,9, -999.000,9,   -999.0,9,   -999.0,9,   8.5130, 20040516,     2238
  18HU20040515, AR07W,    20,  1, 277073,     14,2,20040516,2129, 42.5337, -61.4003, 2068,      4.6,   7.5981,  32.7659,2,-999.0000,9,    314.7,2,    306.3,2,     0.58,6,     0.00,6,     0.27,6, -999.000,9, -999.000,9, -999.000,9, -999.000,9, -999.000,9,   -999.0,9,   -999.0,9,   7.5977, 20040516,     2239
  18HU20040515, AR07W,    26,  1, 277074,      1,2,20040517,1242, 44.8038, -60.4885,   83,     80.1,   0.3719,  32.2954,2,-999.0000,9,    308.9,2,   -999.0,9,  -999.00,9,  -999.00,9,  -999.00,9, -999.000,9, -999.000,9, -999.000,9, -999.000,9, -999.000,9,   -999.0,9,   -999.0,9,   0.3691, 20040517,     1242
  18HU20040515, AR07W,    26,  1, 277075,      2,2,20040517,1242, 44.8038, -60.4885,   83,     59.9,   0.3501,  32.2013,2,-999.0000,9,    313.5,2,   -999.0,9,     6.92,6,     7.78,6,     0.89,6, -999.000,9, -999.000,9, -999.000,9, -999.000,9, -999.000,9,   -999.0,9,   -999.0,9,   0.3481, 20040517,     1243
  18HU20040515, AR07W,    26,  1, 277076,      3,2,20040517,1242, 44.8038, -60.4885,   83,     50.6,   0.2609,  32.1825,2,-999.0000,9,    315.8,2,   -999.0,9,     6.54,6,     7.68,6,     0.87,6, -999.000,9, -999.000,9, -999.000,9, -999.000,9, -999.000,9,   -999.0,9,   -999.0,9,   0.2592, 20040517,     1244
  18HU20040515, AR07W,    26,  1, 277077,      4,2,20040517,1242, 44.8038, -60.4885,   83,     40.0,  -0.1194,  32.0269,2,-999.0000,9,    329.7,2,   -999.0,9,     4.21,6,     6.97,6,     0.85,6, -999.000,9, -999.000,9, -999.000,9, -999.000,9, -999.000,9,   -999.0,9,   -999.0,9,  -0.1206, 20040517,     1244
  18HU20040515, AR07W,    26,  1, 277078,      5,2,20040517,1242, 44.8038, -60.4885,   83,     30.6,   0.0706,  31.6921,2,-999.0000,9,    367.4,2,   -999.0,9,  -999.00,9,  -999.00,9,  -999.00,9, -999.000,9, -999.000,9, -999.000,9, -999.000,9, -999.000,9,   -999.0,9,   -999.0,9,   0.0697, 20040517,     1245
  18HU20040515, AR07W,    26,  1, 277079,      6,2,20040517,1242, 44.8038, -60.4885,   83,     30.4,   0.1212,  31.6510,2,-999.0000,9,    367.1,2,   -999.0,9,  -999.00,9,  -999.00,9,  -999.00,9, -999.000,9, -999.000,9, -999.000,9, -999.000,9, -999.000,9,   -999.0,9,   -999.0,9,   0.1203, 20040517,     1245
  18HU20040515, AR07W,    26,  1, 277080,      7,2,20040517,1242, 44.8038, -60.4885,   83,     30.5,   0.1137,  31.6567,2,-999.0000,9,    367.6,2,   -999.0,9,  -999.00,9,  -999.00,9,  -999.00,9, -999.000,9, -999.000,9, -999.000,9, -999.000,9, -999.000,9,   -999.0,9,   -999.0,9,   0.1128, 20040517,     1246
  18HU20040515, AR07W,    26,  1, 277081,      8,2,20040517,1242, 44.8038, -60.4885,   83,     30.4,   0.1303,  31.6558,2,-999.0000,9,    368.1,2,   -999.0,9,     0.80,6,     2.91,6,     0.58,6, -999.000,9, -999.000,9, -999.000,9, -999.000,9, -999.000,9,   -999.0,9,   -999.0,9,   0.1294, 20040517,     1246
  18HU20040515, AR07W,    26,  1, 277082,      9,2,20040517,1242, 44.8038, -60.4885,   83,     20.0,   2.2045,  30.9740,2,-999.0000,9,    372.0,2,   -999.0,9,     0.00,6,     0.26,6,     0.31,6, -999.000,9, -999.000,9, -999.000,9, -999.000,9, -999.000,9,   -999.0,9,   -999.0,9,   2.2036, 20040517,     1246
  18HU20040515, AR07W,    26,  1, 277083,     10,2,20040517,1242, 44.8038, -60.4885,   83,     10.3,   3.0494,  30.7619,2,-999.0000,9,    360.5,2,   -999.0,9,     0.00,6,     0.13,6,     0.28,6, -999.000,9, -999.000,9, -999.000,9, -999.000,9, -999.000,9,   -999.0,9,   -999.0,9,   3.0488, 20040517,     1247
  18HU20040515, AR07W,    26,  1, 277084,     11,2,20040517,1242, 44.8038, -60.4885,   83,      2.1,   3.1689,  30.7436,2,-999.0000,9,    295.9,2,   -999.0,9,     0.00,6,     0.17,4,     0.33,4, -999.000,9, -999.000,9, -999.000,9, -999.000,9, -999.000,9,   -999.0,9,   -999.0,9,   3.1688, 20040517,     1249
  18HU20040515, AR07W,    27,  1, 277085,      1,2,20040518,1114, 49.2983, -58.9083,  141,    132.7,   1.5706,  33.1278,2,-999.0000,9,    240.4,2,   -999.0,9,    14.64,4,    12.73,4,     1.18,4, -999.000,9, -999.000,9, -999.000,9, -999.000,9, -999.000,9,   -999.0,9,   -999.0,9,   1.5644, 20040518,     1114
  18HU20040515, AR07W,    27,  1, 277086,      2,2,20040518,1114, 49.2983, -58.9083,  141,    100.8,  -0.4610,  32.2623,2,-999.0000,9,    326.9,2,   -999.0,9,     5.76,6,     6.39,6,     0.86,6, -999.000,9, -999.000,9, -999.000,9, -999.000,9, -999.000,9,   -999.0,9,   -999.0,9,  -0.4638, 20040518,     1115
  18HU20040515, AR07W,    27,  1, 277087,      3,2,20040518,1114, 49.2983, -58.9083,  141,     80.6,  -0.1080,  32.1005,2,-999.0000,9,    347.5,2,   -999.0,9,     1.86,6,     2.60,6,     0.66,6, -999.000,9, -999.000,9, -999.000,9, -999.000,9, -999.000,9,   -999.0,9,   -999.0,9,  -0.1104, 20040518,     1116
  18HU20040515, AR07W,    27,  1, 277088,      4,2,20040518,1114, 49.2983, -58.9083,  141,     60.4,   0.8401,  31.9802,2,-999.0000,9,    356.3,2,   -999.0,9,     0.51,6,     0.98,6,     0.50,6, -999.000,9, -999.000,9, -999.000,9, -999.000,9, -999.000,9,   -999.0,9,   -999.0,9,   0.8378, 20040518,     1117
  18HU20040515, AR07W,    27,  1, 277089,      5,2,20040518,1114, 49.2983, -58.9083,  141,     50.4,   0.8900,  31.9564,2,-999.0000,9,    356.4,2,   -999.0,9,     0.58,6,     1.11,6,     0.55,6, -999.000,9, -999.000,9, -999.000,9, -999.000,9, -999.000,9,   -999.0,9,   -999.0,9,   0.8881, 20040518,     1117
  18HU20040515, AR07W,    27,  1, 277090,      6,2,20040518,1114, 49.2983, -58.9083,  141,     50.6,   0.8858,  31.9576,2,-999.0000,9,    356.3,2,   -999.0,9,  -999.00,9,  -999.00,9,  -999.00,9, -999.000,9, -999.000,9, -999.000,9, -999.000,9, -999.000,9,   -999.0,9,   -999.0,9,   0.8839, 20040518,     1118
  18HU20040515, AR07W,    27,  1, 277091,      7,2,20040518,1114, 49.2983, -58.9083,  141,     50.6,   0.8852,  31.9577,2,-999.0000,9,    356.3,2,   -999.0,9,  -999.00,9,  -999.00,9,  -999.00,9, -999.000,9, -999.000,9, -999.000,9, -999.000,9, -999.000,9,   -999.0,9,   -999.0,9,   0.8833, 20040518,     1118
  18HU20040515, AR07W,    27,  1, 277092,      8,2,20040518,1114, 49.2983, -58.9083,  141,     50.6,   0.8831,  31.9579,2,-999.0000,9,    356.3,2,   -999.0,9,  -999.00,9,  -999.00,9,  -999.00,9, -999.000,9, -999.000,9, -999.000,9, -999.000,9, -999.000,9,   -999.0,9,   -999.0,9,   0.8812, 20040518,     1118
  18HU20040515, AR07W,    27,  1, 277093,      9,2,20040518,1114, 49.2983, -58.9083,  141,     50.7,   0.8831,  31.9578,2,-999.0000,9,    355.8,2,   -999.0,9,  -999.00,9,  -999.00,9,  -999.00,9, -999.000,9, -999.000,9, -999.000,9, -999.000,9, -999.000,9,   -999.0,9,   -999.0,9,   0.8812, 20040518,     1118
  18HU20040515, AR07W,    27,  1, 277094,     10,2,20040518,1114, 49.2983, -58.9083,  141,     40.6,   1.0721,  31.9484,2,-999.0000,9,    356.6,2,   -999.0,9,     0.54,6,     1.14,6,     0.58,6, -999.000,9, -999.000,9, -999.000,9, -999.000,9, -999.000,9,   -999.0,9,   -999.0,9,   1.0705, 20040518,     1119
  18HU20040515, AR07W,    27,  1, 277095,     11,2,20040518,1114, 49.2983, -58.9083,  141,     30.7,   1.2912,  31.9419,2,-999.0000,9,    356.6,2,   -999.0,9,     0.50,6,     1.09,6,     0.53,6, -999.000,9, -999.000,9, -999.000,9, -999.000,9, -999.000,9,   -999.0,9,   -999.0,9,   1.2899, 20040518,     1120
  18HU20040515, AR07W,    27,  1, 277096,     12,2,20040518,1114, 49.2983, -58.9083,  141,     20.6,   1.4313,  31.9347,2,-999.0000,9,    356.0,2,   -999.0,9,     0.50,6,     1.05,6,     0.54,6, -999.000,9, -999.000,9, -999.000,9, -999.000,9, -999.000,9,   -999.0,9,   -999.0,9,   1.4304, 20040518,     1120
  18HU20040515, AR07W,    27,  1, 277097,     13,2,20040518,1114, 49.2983, -58.9083,  141,     10.5,   1.9119,  31.9254,2,-999.0000,9,    354.5,2,   -999.0,9,     0.57,6,     1.10,6,     0.57,6, -999.000,9, -999.000,9, -999.000,9, -999.000,9, -999.000,9,   -999.0,9,   -999.0,9,   1.9114, 20040518,     1121
  18HU20040515, AR07W,    27,  1, 277098,     14,2,20040518,1114, 49.2983, -58.9083,  141,      2.7,   1.9499,  31.9248,2,-999.0000,9,    353.4,2,   -999.0,9,     0.53,6,     1.09,6,     0.54,6, -999.000,9, -999.000,9, -999.000,9, -999.000,9, -999.000,9,   -999.0,9,   -999.0,9,   1.9498, 20040518,     1122
  18HU20040515, AR07W,    27,  1, 277099,     15,2,20040518,1114, 49.2983, -58.9083,  141,      2.7,   1.9679,  31.9246,2,-999.0000,9,    353.4,2,   -999.0,9,  -999.00,9,  -999.00,9,  -999.00,9, -999.000,9, -999.000,9, -999.000,9, -999.000,9, -999.000,9,   -999.0,9,   -999.0,9,   1.9678, 20040518,     1122
  18HU20040515, AR07W,    27,  1, 277100,     16,2,20040518,1114, 49.2983, -58.9083,  141,      2.7,   1.9460,  31.9260,2,-999.0000,9,    353.0,2,   -999.0,9,  -999.00,9,  -999.00,9,  -999.00,9, -999.000,9, -999.000,9, -999.000,9, -999.000,9, -999.000,9,   -999.0,9,   -999.0,9,   1.9459, 20040518,     1122
  18HU20040515, AR07W,    27,  1, 277101,     17,2,20040518,1114, 49.2983, -58.9083,  141,      2.6,   1.9655,  31.9255,2,-999.0000,9,    353.0,2,   -999.0,9,  -999.00,9,  -999.00,9,  -999.00,9, -999.000,9, -999.000,9, -999.000,9, -999.000,9, -999.000,9,   -999.0,9,   -999.0,9,   1.9654, 20040518,     1122