BOTTLE,20140403SIOCCHCBG
EXPOCODE,SECT_ID,STNNBR,CASTNO,SAMPNO,BTLNBR,BTLNBR_FLAG_W,DATE,TIME,LATITUDE,LONGITUDE,DEPTH,CTDPRS,CTDTMP,CTDSAL,CTDSAL_FLAG_W,SALNTY,SALNTY_FLAG_W,CTDOXY,CTDOXY_FLAG_W,OXYGEN,OXYGEN_FLAG_W,SILCAT,SILCAT_FLAG_W,NO2+NO3,NO2+NO3_FLAG_W,PHSPHT,PHSPHT_FLAG_W,CFC-11,CFC-11_FLAG_W,CFC-12,CFC-12_FLAG_W,CFC113,CFC113_FLAG_W,CCL4,CCL4_FLAG_W,MCHFRM,MCHFRM_FLAG_W,TCARBN,TCARBN_FLAG_W,ALKALI,ALKALI_FLAG_W,THETA,BTL_DATE,BTL_TIME
,,,,,,,,,,,METERS,DBAR,ITS-90,PSS-78,,PSS-78,,UMOL/KG,,UMOL/KG,,UMOL/KG,,UMOL/KG,,UMOL/KG,,PMOL/KG,,PMOL/KG,,PMOL/KG,,PMOL/KG,,PMOL/KG,,UMOL/KG,,UMOL/KG,,DEG C,,
  18HU20040515, AR07W,   123,  1, 277353,      1,2,20040522,1014, 56.9605, -52.2178, 3444,   3564.3,   1.6285,  34.8837,2,  34.8827,2,    285.1,2,    284.4,2,    11.15,6,    14.19,6,     1.07,3, -999.000,9, -999.000,9, -999.000,9, -999.000,9, -999.000,9,   2160.3,2,   2302.1,2,   1.3513, 20040522,     1014
  18HU20040515, AR07W,   123,  1, 277354,      2,2,20040522,1014, 56.9605, -52.2178, 3444,   3490.1,   1.7269,  34.8804,2,  34.8811,2,    284.3,2,    282.6,2,    10.84,6,    14.09,6,     0.95,6, -999.000,9, -999.000,9, -999.000,9, -999.000,9, -999.000,9,   2158.4,2,   2299.5,2,   1.4549, 20040522,     1016
  18HU20040515, AR07W,   123,  1, 277355,      3,2,20040522,1014, 56.9605, -52.2178, 3444,   3394.4,   1.9883,  34.8849,2,  34.8847,2,    281.4,2,    280.0,2,    11.50,6,    14.76,6,     0.98,6, -999.000,9, -999.000,9, -999.000,9, -999.000,9, -999.000,9,   2157.7,2,   2307.1,2,   1.7198, 20040522,     1019
  18HU20040515, AR07W,   123,  1, 277356,      4,2,20040522,1014, 56.9605, -52.2178, 3444,   3288.0,   2.2535,  34.8930,2,  34.8927,2,    277.0,2,    274.8,2,    13.01,6,    15.54,6,     1.02,6, -999.000,9, -999.000,9, -999.000,9, -999.000,9, -999.000,9,   2157.1,2,   2315.2,2,   1.9896, 20040522,     1022
  18HU20040515, AR07W,   123,  1, 277357,      5,2,20040522,1014, 56.9605, -52.2178, 3444,   3169.1,   2.4404,  34.9033,2,  34.9030,2,    272.4,2,    270.4,2,    14.31,6,    15.69,6,     1.04,6, -999.000,9, -999.000,9, -999.000,9, -999.000,9, -999.000,9,   2159.8,2,   -999.0,9,   2.1845, 20040522,     1024
  18HU20040515, AR07W,   123,  1, 277358,      6,2,20040522,1014, 56.9605, -52.2178, 3444,   3031.7,   2.6348,  34.9133,2,  34.9125,6,    270.2,2,    268.3,2,    14.09,6,    15.94,6,     1.04,6, -999.000,9, -999.000,9, -999.000,9, -999.000,9, -999.000,9,   2159.6,2,   2316.1,2,   2.3887, 20040522,     1026
  18HU20040515, AR07W,   123,  1, 277359,      7,2,20040522,1014, 56.9605, -52.2178, 3444,   2866.8,   2.7649,  34.9155,2,  34.9132,2,    269.9,2,    268.3,2,    13.33,6,    16.24,6,     1.04,6, -999.000,9, -999.000,9, -999.000,9, -999.000,9, -999.000,9,   2157.9,2,   2313.7,2,   2.5330, 20040522,     1030
  18HU20040515, AR07W,   123,  1, 277360,      8,2,20040522,1014, 56.9605, -52.2178, 3444,   2679.7,   2.8867,  34.9091,2,  34.9082,2,    270.5,2,    269.0,2,    12.37,6,    16.14,6,     1.05,6, -999.000,9, -999.000,9, -999.000,9, -999.000,9, -999.000,9,   2155.9,2,   2308.9,2,   2.6712, 20040522,     1033
  18HU20040515, AR07W,   123,  1, 277361,      9,2,20040522,1014, 56.9605, -52.2178, 3444,   2468.4,   3.0006,  34.9036,2,  34.9025,2,    271.4,2,    269.7,2,    11.90,6,    16.39,6,     1.06,6, -999.000,9, -999.000,9, -999.000,9, -999.000,9, -999.000,9,   2156.7,2,   2294.7,2,   2.8039, 20040522,     1039
  18HU20040515, AR07W,   123,  1, 277362,     10,2,20040522,1014, 56.9605, -52.2178, 3444,   2246.5,   3.0862,  34.8923,2,  34.8913,2,    273.4,2,    272.1,2,    11.27,6,    16.32,6,     1.06,6, -999.000,9, -999.000,9, -999.000,9, -999.000,9, -999.000,9,   2156.2,2,   2298.3,2,   2.9094, 20040522,     1044
  18HU20040515, AR07W,   123,  1, 277363,     11,2,20040522,1014, 56.9605, -52.2178, 3444,   2011.0,   3.1402,  34.8802,2,  34.8794,6,    275.7,2,    273.8,2,    11.04,6,    16.64,6,     1.07,6, -999.000,9, -999.000,9, -999.000,9, -999.000,9, -999.000,9,   2155.1,2,   2292.9,2,   2.9847, 20040522,     1049
  18HU20040515, AR07W,   123,  1, 277364,     12,2,20040522,1014, 56.9605, -52.2178, 3444,   1767.1,   3.2635,  34.8819,2,  34.8809,2,    273.8,2,    271.8,2,    10.87,6,    16.76,6,     1.07,6, -999.000,9, -999.000,9, -999.000,9, -999.000,9, -999.000,9,   2156.1,2,   2298.9,2,   3.1284, 20040522,     1054
  18HU20040515, AR07W,   123,  1, 277365,     13,2,20040522,1014, 56.9605, -52.2178, 3444,   1530.8,   3.3810,  34.8804,2,  34.8797,2,    273.1,2,    276.0,6,    10.57,6,    16.66,6,     1.06,6, -999.000,9, -999.000,9, -999.000,9, -999.000,9, -999.000,9,   2156.6,2,   2294.8,2,   3.2654, 20040522,     1058
  18HU20040515, AR07W,   123,  1, 277366,     14,2,20040522,1014, 56.9605, -52.2178, 3444,   1287.2,   3.3128,  34.8520,2,  34.8514,2,    281.3,2,    280.1,2,     9.70,6,    16.48,6,     1.04,6, -999.000,9, -999.000,9, -999.000,9, -999.000,9, -999.000,9,   2154.6,2,   2288.5,2,   3.2187, 20040522,     1102
  18HU20040515, AR07W,   123,  1, 277367,     15,2,20040522,1014, 56.9605, -52.2178, 3444,   1068.2,   3.2291,  34.8328,2,  34.8323,2,    288.0,2,    287.1,2,     9.01,6,    16.63,6,     1.06,6, -999.000,9, -999.000,9, -999.000,9, -999.000,9, -999.000,9,   2155.5,2,   2304.8,2,   3.1535, 20040522,     1106
  18HU20040515, AR07W,   123,  1, 277368,     16,2,20040522,1014, 56.9605, -52.2178, 3444,    870.9,   3.2348,  34.8307,2,  34.8301,2,    288.9,2,    287.4,2,     9.02,6,    16.13,6,     1.07,6, -999.000,9, -999.000,9, -999.000,9, -999.000,9, -999.000,9,   2153.6,2,   2300.5,2,   3.1745, 20040522,     1110
  18HU20040515, AR07W,   123,  1, 277369,     17,2,20040522,1014, 56.9605, -52.2178, 3444,    681.4,   3.2692,  34.8307,2,  34.8301,2,    290.3,2,    288.0,2,     9.04,6,    16.05,6,     1.01,6, -999.000,9, -999.000,9, -999.000,9, -999.000,9, -999.000,9,   2155.5,2,   2294.3,2,   3.2228, 20040522,     1114
  18HU20040515, AR07W,   123,  1, 277370,     18,2,20040522,1014, 56.9605, -52.2178, 3444,    511.1,   3.3229,  34.8349,2,  34.8344,2,    289.4,2,    287.5,2,     9.01,6,    15.96,6,     1.03,6, -999.000,9, -999.000,9, -999.000,9, -999.000,9, -999.000,9,   2154.2,2,   2297.1,3,   3.2886, 20040522,     1117
  18HU20040515, AR07W,   123,  1, 277371,     19,2,20040522,1014, 56.9605, -52.2178, 3444,    361.3,   3.4773,  34.8509,2,-999.0000,9,    291.6,2,    288.3,2,     8.77,6,    15.71,6,     1.02,6, -999.000,9, -999.000,9, -999.000,9, -999.000,9, -999.000,9,   2153.1,2,   2299.5,2,   3.4530, 20040522,     1120
  18HU20040515, AR07W,   123,  1, 277372,     20,2,20040522,1014, 56.9605, -52.2178, 3444,    240.8,   3.4909,  34.8446,2,-999.0000,9,    292.8,2,    289.6,2,     8.72,6,    15.91,6,     1.01,6, -999.000,9, -999.000,9, -999.000,9, -999.000,9, -999.000,9,   2152.6,2,   2284.7,3,   3.4749, 20040522,     1123
  18HU20040515, AR07W,   123,  1, 277373,     21,2,20040522,1014, 56.9605, -52.2178, 3444,    140.2,   3.3872,  34.8185,2,-999.0000,9,    296.7,2,    294.2,2,     8.62,6,    15.31,6,     1.01,6, -999.000,9, -999.000,9, -999.000,9, -999.000,9, -999.000,9,   2152.7,2,   2283.8,3,   3.3781, 20040522,     1125
  18HU20040515, AR07W,   123,  1, 277374,     22,2,20040522,1014, 56.9605, -52.2178, 3444,     70.2,   3.7600,  34.7788,2,-999.0000,9,    305.0,2,    306.0,2,     8.24,6,    13.66,6,     0.92,6, -999.000,9, -999.000,9, -999.000,9, -999.000,9, -999.000,9,   2140.4,2,   2296.8,2,   3.7553, 20040522,     1126
  18HU20040515, AR07W,   123,  1, 277375,     23,2,20040522,1014, 56.9605, -52.2178, 3444,     33.7,   3.8379,  34.7703,2,-999.0000,9,    305.9,2,    308.0,2,     8.06,6,    13.46,6,     0.88,6, -999.000,9, -999.000,9, -999.000,9, -999.000,9, -999.000,9,   2137.2,2,   2279.3,2,   3.8356, 20040522,     1128
  18HU20040515, AR07W,   123,  1, 277376,     24,2,20040522,1014, 56.9605, -52.2178, 3444,      3.1,   3.8621,  34.7701,2,-999.0000,9,    305.9,2,    307.7,2,     8.18,6,    13.12,6,     0.89,6, -999.000,9, -999.000,9, -999.000,9, -999.000,9, -999.000,9,   2137.6,2,   2278.3,2,   3.8619, 20040522,     1129
  18HU20040515, AR07W,   133,  1, 277377,      1,2,20040522,1435, 57.3805, -51.7788, 3500,    199.4,   3.5929,  34.8520,2,-999.0000,9,    288.1,2,   -999.0,9,  -999.00,9,  -999.00,9,  -999.00,9, -999.000,9, -999.000,9, -999.000,9, -999.000,9, -999.000,9,   -999.0,9,   -999.0,9,   3.5796, 20040522,     1435
  18HU20040515, AR07W,   133,  1, 277378,      2,2,20040522,1435, 57.3805, -51.7788, 3500,    150.1,   3.5411,  34.8397,2,-999.0000,9,    289.7,2,   -999.0,9,     8.30,6,    15.22,6,     0.99,6, -999.000,9, -999.000,9, -999.000,9, -999.000,9, -999.000,9,   -999.0,9,   -999.0,9,   3.5312, 20040522,     1436
  18HU20040515, AR07W,   133,  1, 277379,      3,2,20040522,1435, 57.3805, -51.7788, 3500,    100.9,   3.7406,  34.8136,2,-999.0000,9,    299.2,2,   -999.0,9,     8.11,6,    14.21,6,     0.93,6, -999.000,9, -999.000,9, -999.000,9, -999.000,9, -999.000,9,   -999.0,9,   -999.0,9,   3.7338, 20040522,     1438
  18HU20040515, AR07W,   133,  1, 277380,      4,2,20040522,1435, 57.3805, -51.7788, 3500,     79.8,   3.7756,  34.8112,2,-999.0000,9,    300.8,2,   -999.0,9,     8.00,6,    14.00,6,     0.93,6, -999.000,9, -999.000,9, -999.000,9, -999.000,9, -999.000,9,   -999.0,9,   -999.0,9,   3.7702, 20040522,     1439
  18HU20040515, AR07W,   133,  1, 277381,      5,2,20040522,1435, 57.3805, -51.7788, 3500,     60.2,   3.8269,  34.8099,2,-999.0000,9,    301.9,2,   -999.0,9,     7.96,6,    13.56,6,     0.90,6, -999.000,9, -999.000,9, -999.000,9, -999.000,9, -999.000,9,   -999.0,9,   -999.0,9,   3.8228, 20040522,     1440
  18HU20040515, AR07W,   133,  1, 277382,      6,2,20040522,1435, 57.3805, -51.7788, 3500,     50.3,   3.9859,  34.7998,2,-999.0000,9,    308.4,2,   -999.0,9,     7.55,6,    12.06,6,     0.91,6, -999.000,9, -999.000,9, -999.000,9, -999.000,9, -999.000,9,   -999.0,9,   -999.0,9,   3.9824, 20040522,     1441
  18HU20040515, AR07W,   133,  1, 277383,      7,2,20040522,1435, 57.3805, -51.7788, 3500,     40.3,   4.0095,  34.7971,2,-999.0000,9,    309.8,2,   -999.0,9,     7.46,6,    11.52,6,     0.83,6, -999.000,9, -999.000,9, -999.000,9, -999.000,9, -999.000,9,   -999.0,9,   -999.0,9,   4.0067, 20040522,     1441
  18HU20040515, AR07W,   133,  1, 277384,      8,2,20040522,1435, 57.3805, -51.7788, 3500,     29.8,   4.0249,  34.7968,2,-999.0000,9,    311.9,2,   -999.0,9,     7.44,6,    11.05,6,     0.78,6, -999.000,9, -999.000,9, -999.000,9, -999.000,9, -999.000,9,   -999.0,9,   -999.0,9,   4.0228, 20040522,     1442
  18HU20040515, AR07W,   133,  1, 277385,      9,2,20040522,1435, 57.3805, -51.7788, 3500,     28.9,   4.0248,  34.7969,2,-999.0000,9,    312.2,2,   -999.0,9,  -999.00,9,  -999.00,9,  -999.00,9, -999.000,9, -999.000,9, -999.000,9, -999.000,9, -999.000,9,   -999.0,9,   -999.0,9,   4.0228, 20040522,     1442
  18HU20040515, AR07W,   133,  1, 277386,     10,2,20040522,1435, 57.3805, -51.7788, 3500,     30.6,   4.0214,  34.7972,2,-999.0000,9,    312.2,2,   -999.0,9,  -999.00,9,  -999.00,9,  -999.00,9, -999.000,9, -999.000,9, -999.000,9, -999.000,9, -999.000,9,   -999.0,9,   -999.0,9,   4.0193, 20040522,     1442
  18HU20040515, AR07W,   133,  1, 277387,     11,2,20040522,1435, 57.3805, -51.7788, 3500,     29.4,   4.0256,  34.7967,2,-999.0000,9,    312.2,2,   -999.0,9,  -999.00,9,  -999.00,9,  -999.00,9, -999.000,9, -999.000,9, -999.000,9, -999.000,9, -999.000,9,   -999.0,9,   -999.0,9,   4.0236, 20040522,     1442
  18HU20040515, AR07W,   133,  1, 277388,     12,2,20040522,1435, 57.3805, -51.7788, 3500,     29.3,   4.0219,  34.7971,2,-999.0000,9,    312.2,2,   -999.0,9,  -999.00,9,  -999.00,9,  -999.00,9, -999.000,9, -999.000,9, -999.000,9, -999.000,9, -999.000,9,   -999.0,9,   -999.0,9,   4.0199, 20040522,     1442
  18HU20040515, AR07W,   133,  1, 277389,     13,2,20040522,1435, 57.3805, -51.7788, 3500,     30.4,   4.0197,  34.7973,2,-999.0000,9,    312.0,2,   -999.0,9,  -999.00,9,  -999.00,9,  -999.00,9, -999.000,9, -999.000,9, -999.000,9, -999.000,9, -999.000,9,   -999.0,9,   -999.0,9,   4.0176, 20040522,     1442
  18HU20040515, AR07W,   133,  1, 277390,     14,2,20040522,1435, 57.3805, -51.7788, 3500,     19.6,   4.0528,  34.7955,2,-999.0000,9,    315.3,2,   -999.0,9,     7.27,6,    10.57,6,     0.77,6, -999.000,9, -999.000,9, -999.000,9, -999.000,9, -999.000,9,   -999.0,9,   -999.0,9,   4.0514, 20040522,     1443
  18HU20040515, AR07W,   133,  1, 277391,     15,2,20040522,1435, 57.3805, -51.7788, 3500,     10.9,   4.1230,  34.7945,2,-999.0000,9,    316.9,2,   -999.0,9,     7.08,6,    10.29,6,     0.77,6, -999.000,9, -999.000,9, -999.000,9, -999.000,9, -999.000,9,   -999.0,9,   -999.0,9,   4.1222, 20040522,     1444
  18HU20040515, AR07W,   133,  1, 277392,     16,2,20040522,1435, 57.3805, -51.7788, 3500,      3.4,   4.2381,  34.7947,2,-999.0000,9,    316.3,2,   -999.0,9,     7.11,6,    10.07,6,     0.74,6, -999.000,9, -999.000,9, -999.000,9, -999.000,9, -999.000,9,   -999.0,9,   -999.0,9,   4.2379, 20040522,     1445
  18HU20040515, AR07W,   133,  1, 277393,     17,2,20040522,1435, 57.3805, -51.7788, 3500,      3.4,   4.2367,  34.7946,2,-999.0000,9,    316.3,2,   -999.0,9,  -999.00,9,  -999.00,9,  -999.00,9, -999.000,9, -999.000,9, -999.000,9, -999.000,9, -999.000,9,   -999.0,9,   -999.0,9,   4.2365, 20040522,     1445
  18HU20040515, AR07W,   133,  1, 277394,     18,2,20040522,1435, 57.3805, -51.7788, 3500,      3.1,   4.2326,  34.7949,2,-999.0000,9,    315.9,2,   -999.0,9,  -999.00,9,  -999.00,9,  -999.00,9, -999.000,9, -999.000,9, -999.000,9, -999.000,9, -999.000,9,   -999.0,9,   -999.0,9,   4.2324, 20040522,     1445
  18HU20040515, AR07W,   133,  1, 277395,     19,2,20040522,1435, 57.3805, -51.7788, 3500,      3.3,   4.2335,  34.7950,2,-999.0000,9,    315.6,2,   -999.0,9,  -999.00,9,  -999.00,9,  -999.00,9, -999.000,9, -999.000,9, -999.000,9, -999.000,9, -999.000,9,   -999.0,9,   -999.0,9,   4.2333, 20040522,     1445
  18HU20040515, AR07W,   133,  1, 277396,     20,2,20040522,1435, 57.3805, -51.7788, 3500,      3.5,   4.2269,  34.7949,2,-999.0000,9,    315.7,2,   -999.0,9,  -999.00,9,  -999.00,9,  -999.00,9, -999.000,9, -999.000,9, -999.000,9, -999.000,9, -999.000,9,   -999.0,9,   -999.0,9,   4.2267, 20040522,     1445