BOTTLE,20140403SIOCCHCBG
EXPOCODE,SECT_ID,STNNBR,CASTNO,SAMPNO,BTLNBR,BTLNBR_FLAG_W,DATE,TIME,LATITUDE,LONGITUDE,DEPTH,CTDPRS,CTDTMP,CTDSAL,CTDSAL_FLAG_W,SALNTY,SALNTY_FLAG_W,CTDOXY,CTDOXY_FLAG_W,OXYGEN,OXYGEN_FLAG_W,SILCAT,SILCAT_FLAG_W,NO2+NO3,NO2+NO3_FLAG_W,PHSPHT,PHSPHT_FLAG_W,CFC-11,CFC-11_FLAG_W,CFC-12,CFC-12_FLAG_W,CFC113,CFC113_FLAG_W,CCL4,CCL4_FLAG_W,MCHFRM,MCHFRM_FLAG_W,TCARBN,TCARBN_FLAG_W,ALKALI,ALKALI_FLAG_W,THETA,BTL_DATE,BTL_TIME
,,,,,,,,,,,METERS,DBAR,ITS-90,PSS-78,,PSS-78,,UMOL/KG,,UMOL/KG,,UMOL/KG,,UMOL/KG,,UMOL/KG,,PMOL/KG,,PMOL/KG,,PMOL/KG,,PMOL/KG,,PMOL/KG,,UMOL/KG,,UMOL/KG,,DEG C,,
  18HU20040515, AR07W,    73,  1, 277215,      1,2,20040521,0638, 55.4292, -53.8245, 2640,   2743.0,   1.8998,  34.8895,2,  34.8892,2,    286.4,2,    279.8,2,    10.59,6,    13.96,6,     1.02,6,    3.680,2,    1.814,2,    0.304,2,    3.407,2,    4.538,2,   2161.4,2,   2304.0,2,   1.6979, 20040521,      638
  18HU20040515, AR07W,    73,  1, 277216,      2,2,20040521,0638, 55.4292, -53.8245, 2640,   2619.3,   2.3571,  34.8996,2,  34.9006,2,    280.3,2,    274.1,2,    11.76,6,    14.82,6,     1.01,6,    3.203,2,    1.522,2,    0.254,2,    2.987,2,    4.414,2,   2163.0,2,   2298.4,2,   2.1578, 20040521,      642
  18HU20040515, AR07W,    73,  1, 277217,      3,2,20040521,0638, 55.4292, -53.8245, 2640,   2539.4,   2.3956,  34.9006,2,  34.9003,6,    279.8,2,    272.8,6,    11.71,6,    14.73,6,     1.03,6,    3.144,2,    1.476,2,    0.234,2,    2.958,2,    4.412,2,   2161.8,2,   2294.9,2,   2.2032, 20040521,      645
  18HU20040515, AR07W,    73,  1, 277218,      4,2,20040521,0638, 55.4292, -53.8245, 2640,   2410.6,   2.4445,  34.9025,2,  34.9028,2,    278.8,2,    273.3,2,    11.75,6,    15.13,6,     1.03,6,    3.055,2,    1.435,2,    0.239,2,    2.905,2,    4.303,2,   2158.0,2,   2296.8,2,   2.2633, 20040521,      648
  18HU20040515, AR07W,    73,  1, 277219,      5,2,20040521,0638, 55.4292, -53.8245, 2640,   2290.5,   2.5882,  34.9045,2,  34.9044,2,    278.0,2,    269.6,2,    11.41,6,    14.88,6,     1.02,6,    3.088,2,    1.472,2,    0.237,2,    2.889,2,    4.409,2,   2156.1,2,   2271.3,3,   2.4156, 20040521,      652
  18HU20040515, AR07W,    73,  1, 277220,      6,2,20040521,0638, 55.4292, -53.8245, 2640,   2147.1,   2.7532,  34.9063,2,  34.9056,6,    277.0,2,    269.7,2,    11.20,6,    15.23,6,     1.04,6,    3.079,2,    1.437,2,    0.204,2,    2.869,2,    4.507,2,   2158.6,2,   2298.2,2,   2.5911, 20040521,      656
  18HU20040515, AR07W,    73,  1, 277221,      7,2,20040521,0638, 55.4292, -53.8245, 2640,   1991.5,   2.8717,  34.9052,2,  34.9056,2,    276.6,2,    270.2,2,    10.74,6,    15.08,6,     1.04,6,    3.080,2,    1.450,2,    0.230,2,    2.875,2,    4.562,2,   2159.2,2,   2289.2,2,   2.7219, 20040521,      701
  18HU20040515, AR07W,    73,  1, 277222,      8,2,20040521,0638, 55.4292, -53.8245, 2640,   1809.6,   3.0074,  34.9008,2,  34.9018,2,    277.0,2,    270.3,6,    10.55,6,    15.41,6,     1.04,6,    3.330,2,    1.576,2,    0.227,2,    3.056,2,    5.023,2,   2156.9,2,   2317.0,3,   2.8719, 20040521,      705
  18HU20040515, AR07W,    73,  1, 277223,      9,2,20040521,0638, 55.4292, -53.8245, 2640,   1609.8,   3.2735,  34.8956,2,  34.8959,2,    276.3,2,    270.3,2,     9.90,6,    15.63,6,     1.06,6,    3.698,2,    1.784,2,    0.283,2,    3.303,2,    5.564,2,   2159.4,2,   2290.2,2,   3.1522, 20040521,      709
  18HU20040515, AR07W,    73,  1, 277224,     10,2,20040521,0638, 55.4292, -53.8245, 2640,   1409.1,   3.4759,  34.8940,2,  34.8941,2,    275.2,2,    269.8,2,     9.51,6,    15.53,6,     1.06,6,    3.898,2,    1.963,2,    0.319,2,    3.433,2,    5.145,2,   2159.5,2,   2290.0,2,   3.3697, 20040521,      713
  18HU20040515, AR07W,    73,  1, 277225,     11,2,20040521,0638, 55.4292, -53.8245, 2640,   1211.2,   3.3203,  34.8457,2,  34.8456,2,    293.9,2,    288.9,2,     7.99,6,    15.24,6,     1.01,6,    5.018,2,    2.730,2,    0.404,2,    4.655,2,    3.849,2,   2159.4,2,   2290.7,2,   3.2324, 20040521,      717
  18HU20040515, AR07W,    73,  1, 277226,     12,2,20040521,0638, 55.4292, -53.8245, 2640,   1028.0,   3.3193,  34.8457,2,  34.8462,2,    295.5,2,    290.8,2,     7.92,6,    14.81,6,     1.02,6,    5.022,2,    2.777,2,    0.423,2,    4.879,2,    3.667,2,   2155.8,2,   -999.0,9,   3.2461, 20040521,      721
  18HU20040515, AR07W,    73,  1, 277227,     13,2,20040521,0638, 55.4292, -53.8245, 2640,    849.7,   3.3531,  34.8492,2,  34.8493,2,    294.3,2,    288.9,2,     8.06,6,    15.29,6,     1.02,6,    4.970,2,    2.723,2,    0.415,2,    4.631,2,    3.608,2,   2158.5,2,   2301.9,2,   3.2935, 20040521,      725
  18HU20040515, AR07W,    73,  1, 277228,     14,2,20040521,0638, 55.4292, -53.8245, 2640,    670.4,   3.7916,  34.8830,2,  34.8835,2,    288.0,2,    282.7,2,     7.95,6,    15.11,6,     1.04,6,    4.798,2,    2.624,2,    0.382,2,    4.392,2,    3.496,2,   2155.8,2,   2293.7,2,   3.7432, 20040521,      729
  18HU20040515, AR07W,    73,  1, 277229,     15,2,20040521,0638, 55.4292, -53.8245, 2640,    511.4,   3.8112,  34.8785,2,  34.8784,2,    291.1,2,    285.2,2,     7.81,6,    14.86,6,     0.98,6,    4.895,2,    2.702,2,    0.409,2,    4.520,2,    3.269,2,   2154.6,2,   2291.2,2,   3.7748, 20040521,      733
  18HU20040515, AR07W,    73,  1, 277230,     16,2,20040521,0638, 55.4292, -53.8245, 2640,    369.4,   3.7926,  34.8702,2,  34.8705,2,    293.1,2,    287.0,2,     7.66,6,    14.60,6,     0.98,6,    4.789,2,    2.656,2,    0.403,2,    4.423,2,    2.945,2,   2154.1,2,   2286.3,2,   3.7668, 20040521,      736
  18HU20040515, AR07W,    73,  1, 277231,     17,2,20040521,0638, 55.4292, -53.8245, 2640,    251.0,   3.7667,  34.8609,2,  34.8607,2,    293.0,2,    286.6,2,     7.74,6,    14.56,6,     1.00,6,    4.948,2,    2.740,2,    0.399,2,    4.607,2,    3.123,2,   2152.7,2,   -999.0,9,   3.7495, 20040521,      739
  18HU20040515, AR07W,    73,  1, 277232,     18,2,20040521,0638, 55.4292, -53.8245, 2640,    151.3,   3.6886,  34.8391,2,  34.8383,2,    296.2,2,    289.6,2,     7.69,6,    14.51,6,     0.98,6,    5.030,2,    2.789,2,    0.401,2,    4.722,2,    3.033,2,   2149.5,2,   2287.0,2,   3.6784, 20040521,      741
  18HU20040515, AR07W,    73,  1, 277233,     19,2,20040521,0638, 55.4292, -53.8245, 2640,     98.3,   3.6537,  34.8206,2,  34.8200,2,    301.8,2,    292.6,2,     7.63,6,    14.71,6,     0.99,6,    5.126,2,    2.839,2,    0.392,2,    4.875,2,    3.054,2,   2152.5,2,   2289.4,2,   3.6472, 20040521,      743
  18HU20040515, AR07W,    73,  1, 277234,     20,2,20040521,0638, 55.4292, -53.8245, 2640,     50.3,   3.6300,  34.7890,2,  34.7881,2,    306.1,2,    297.2,2,     7.67,6,    14.15,6,     0.94,6,    5.226,2,    2.908,2,    0.431,2,    5.115,2,    2.904,2,   2146.2,2,   2292.7,2,   3.6267, 20040521,      745
  18HU20040515, AR07W,    73,  1, 277235,     21,2,20040521,0638, 55.4292, -53.8245, 2640,     19.3,   3.6438,  34.7674,2,  34.7663,2,    308.2,2,    301.3,2,     7.76,6,    13.75,6,     0.92,6,    5.244,2,    2.943,2,    0.438,2,    5.224,2,    2.810,2,   2141.9,2,   2289.1,2,   3.6425, 20040521,      746
  18HU20040515, AR07W,    73,  1, 277236,     22,2,20040521,0638, 55.4292, -53.8245, 2640,      2.3,   3.6479,  34.7662,2,  34.7657,2,    303.9,2,    334.2,3,     7.70,6,    13.71,6,     0.93,6,    5.356,2,    2.987,2,    0.463,2,    5.335,2,    2.834,2,   2145.1,2,   2284.7,2,   3.6477, 20040521,      747
  18HU20040515, AR07W,    81,  1, 277237,      1,2,20040521,1114, 55.6192, -53.6360, 2740,    203.4,   3.6586,  34.8444,2,-999.0000,9,    292.5,2,   -999.0,9,     7.68,6,    13.84,6,     0.90,6, -999.000,9, -999.000,9, -999.000,9, -999.000,9, -999.000,9,   -999.0,9,   -999.0,9,   3.6449, 20040521,     1114
  18HU20040515, AR07W,    81,  1, 277238,      2,2,20040521,1114, 55.6192, -53.6360, 2740,    152.7,   3.6352,  34.8238,2,-999.0000,9,    293.5,2,   -999.0,9,     8.07,6,    13.43,6,     0.93,6, -999.000,9, -999.000,9, -999.000,9, -999.000,9, -999.000,9,   -999.0,9,   -999.0,9,   3.6250, 20040521,     1115
  18HU20040515, AR07W,    81,  1, 277239,      3,2,20040521,1114, 55.6192, -53.6360, 2740,    102.4,   3.6127,  34.7904,2,-999.0000,9,    299.9,2,   -999.0,9,     7.71,6,    13.60,6,     0.90,6, -999.000,9, -999.000,9, -999.000,9, -999.000,9, -999.000,9,   -999.0,9,   -999.0,9,   3.6059, 20040521,     1117
  18HU20040515, AR07W,    81,  1, 277240,      4,2,20040521,1114, 55.6192, -53.6360, 2740,     83.1,   3.6171,  34.7825,2,-999.0000,9,    302.1,2,   -999.0,9,    10.74,3,    13.88,6,     0.92,6, -999.000,9, -999.000,9, -999.000,9, -999.000,9, -999.000,9,   -999.0,9,   -999.0,9,   3.6116, 20040521,     1118
  18HU20040515, AR07W,    81,  1, 277241,      5,2,20040521,1114, 55.6192, -53.6360, 2740,     62.5,   3.6591,  34.7695,2,-999.0000,9,    305.7,2,   -999.0,9,    10.73,3,    14.12,6,     0.93,6, -999.000,9, -999.000,9, -999.000,9, -999.000,9, -999.000,9,   -999.0,9,   -999.0,9,   3.6550, 20040521,     1119
  18HU20040515, AR07W,    81,  1, 277242,      6,2,20040521,1114, 55.6192, -53.6360, 2740,     52.9,   3.6632,  34.7696,2,-999.0000,9,    306.1,2,   -999.0,9,    10.75,3,    14.09,6,     0.92,6, -999.000,9, -999.000,9, -999.000,9, -999.000,9, -999.000,9,   -999.0,9,   -999.0,9,   3.6597, 20040521,     1120
  18HU20040515, AR07W,    81,  1, 277243,      7,2,20040521,1114, 55.6192, -53.6360, 2740,     42.5,   3.6706,  34.7672,2,-999.0000,9,    306.6,2,   -999.0,9,     8.07,6,    14.02,6,     0.94,6, -999.000,9, -999.000,9, -999.000,9, -999.000,9, -999.000,9,   -999.0,9,   -999.0,9,   3.6678, 20040521,     1121
  18HU20040515, AR07W,    81,  1, 277244,      8,2,20040521,1114, 55.6192, -53.6360, 2740,     31.9,   3.6784,  34.7656,2,-999.0000,9,    307.0,2,   -999.0,9,     8.04,6,    13.84,6,     0.96,6, -999.000,9, -999.000,9, -999.000,9, -999.000,9, -999.000,9,   -999.0,9,   -999.0,9,   3.6763, 20040521,     1122
  18HU20040515, AR07W,    81,  1, 277245,      9,2,20040521,1114, 55.6192, -53.6360, 2740,     32.3,   3.6785,  34.7655,2,-999.0000,9,    307.1,2,   -999.0,9,  -999.00,9,  -999.00,9,  -999.00,9, -999.000,9, -999.000,9, -999.000,9, -999.000,9, -999.000,9,   -999.0,9,   -999.0,9,   3.6764, 20040521,     1122
  18HU20040515, AR07W,    81,  1, 277246,     10,2,20040521,1114, 55.6192, -53.6360, 2740,     31.7,   3.6786,  34.7657,2,-999.0000,9,    307.1,2,   -999.0,9,  -999.00,9,  -999.00,9,  -999.00,9, -999.000,9, -999.000,9, -999.000,9, -999.000,9, -999.000,9,   -999.0,9,   -999.0,9,   3.6765, 20040521,     1122
  18HU20040515, AR07W,    81,  1, 277247,     11,2,20040521,1114, 55.6192, -53.6360, 2740,     32.5,   3.6779,  34.7657,2,-999.0000,9,    306.9,2,   -999.0,9,  -999.00,9,  -999.00,9,  -999.00,9, -999.000,9, -999.000,9, -999.000,9, -999.000,9, -999.000,9,   -999.0,9,   -999.0,9,   3.6758, 20040521,     1122
  18HU20040515, AR07W,    81,  1, 277248,     12,2,20040521,1114, 55.6192, -53.6360, 2740,     31.8,   3.6784,  34.7656,2,-999.0000,9,    306.9,2,   -999.0,9,  -999.00,9,  -999.00,9,  -999.00,9, -999.000,9, -999.000,9, -999.000,9, -999.000,9, -999.000,9,   -999.0,9,   -999.0,9,   3.6763, 20040521,     1122
  18HU20040515, AR07W,    81,  1, 277249,     13,2,20040521,1114, 55.6192, -53.6360, 2740,     32.4,   3.6771,  34.7660,2,-999.0000,9,    307.1,2,   -999.0,9,  -999.00,9,  -999.00,9,  -999.00,9, -999.000,9, -999.000,9, -999.000,9, -999.000,9, -999.000,9,   -999.0,9,   -999.0,9,   3.6750, 20040521,     1122
  18HU20040515, AR07W,    81,  1, 277250,     14,2,20040521,1114, 55.6192, -53.6360, 2740,     21.4,   3.6858,  34.7655,2,-999.0000,9,    307.1,2,   -999.0,9,     7.91,6,    13.92,6,     0.95,6, -999.000,9, -999.000,9, -999.000,9, -999.000,9, -999.000,9,   -999.0,9,   -999.0,9,   3.6844, 20040521,     1122
  18HU20040515, AR07W,    81,  1, 277251,     15,2,20040521,1114, 55.6192, -53.6360, 2740,     12.1,   3.6936,  34.7635,2,-999.0000,9,    307.2,2,   -999.0,9,     8.50,6,    14.04,6,     0.92,6, -999.000,9, -999.000,9, -999.000,9, -999.000,9, -999.000,9,   -999.0,9,   -999.0,9,   3.6928, 20040521,     1123
  18HU20040515, AR07W,    81,  1, 277252,     16,2,20040521,1114, 55.6192, -53.6360, 2740,      4.4,   3.6981,  34.7562,2,-999.0000,9,    185.1,2,   -999.0,9,     7.97,6,    13.72,4,     0.93,4, -999.000,9, -999.000,9, -999.000,9, -999.000,9, -999.000,9,   -999.0,9,   -999.0,9,   3.6978, 20040521,     1124
  18HU20040515, AR07W,    81,  1, 277253,     17,2,20040521,1114, 55.6192, -53.6360, 2740,      4.4,   3.6987,  34.7557,2,-999.0000,9,    183.1,2,   -999.0,9,  -999.00,9,  -999.00,9,  -999.00,9, -999.000,9, -999.000,9, -999.000,9, -999.000,9, -999.000,9,   -999.0,9,   -999.0,9,   3.6984, 20040521,     1124
  18HU20040515, AR07W,    81,  1, 277254,     18,2,20040521,1114, 55.6192, -53.6360, 2740,      4.3,   3.6990,  34.7555,2,-999.0000,9,    181.0,2,   -999.0,9,  -999.00,9,  -999.00,9,  -999.00,9, -999.000,9, -999.000,9, -999.000,9, -999.000,9, -999.000,9,   -999.0,9,   -999.0,9,   3.6987, 20040521,     1124
  18HU20040515, AR07W,    81,  1, 277255,     19,2,20040521,1114, 55.6192, -53.6360, 2740,      4.9,   3.6996,  34.7549,2,-999.0000,9,    178.6,2,   -999.0,9,  -999.00,9,  -999.00,9,  -999.00,9, -999.000,9, -999.000,9, -999.000,9, -999.000,9, -999.000,9,   -999.0,9,   -999.0,9,   3.6993, 20040521,     1124
  18HU20040515, AR07W,    81,  1, 277256,     20,2,20040521,1114, 55.6192, -53.6360, 2740,      4.7,   3.7009,  34.7539,2,-999.0000,9,    173.4,2,   -999.0,9,  -999.00,9,  -999.00,9,  -999.00,9, -999.000,9, -999.000,9, -999.000,9, -999.000,9, -999.000,9,   -999.0,9,   -999.0,9,   3.7006, 20040521,     1124