BOTTLE,20140403SIOCCHCBG
EXPOCODE,SECT_ID,STNNBR,CASTNO,SAMPNO,BTLNBR,BTLNBR_FLAG_W,DATE,TIME,LATITUDE,LONGITUDE,DEPTH,CTDPRS,CTDTMP,CTDSAL,CTDSAL_FLAG_W,SALNTY,SALNTY_FLAG_W,CTDOXY,CTDOXY_FLAG_W,OXYGEN,OXYGEN_FLAG_W,SILCAT,SILCAT_FLAG_W,NO2+NO3,NO2+NO3_FLAG_W,PHSPHT,PHSPHT_FLAG_W,CFC-11,CFC-11_FLAG_W,CFC-12,CFC-12_FLAG_W,CFC113,CFC113_FLAG_W,CCL4,CCL4_FLAG_W,MCHFRM,MCHFRM_FLAG_W,TCARBN,TCARBN_FLAG_W,ALKALI,ALKALI_FLAG_W,THETA,BTL_DATE,BTL_TIME
,,,,,,,,,,,METERS,DBAR,ITS-90,PSS-78,,PSS-78,,UMOL/KG,,UMOL/KG,,UMOL/KG,,UMOL/KG,,UMOL/KG,,PMOL/KG,,PMOL/KG,,PMOL/KG,,PMOL/KG,,PMOL/KG,,UMOL/KG,,UMOL/KG,,DEG C,,
  18HU20040515, AR07W,   238,  1, 277537,      1,2,20040525,1445, 59.4828, -49.4747, 3334,   3426.2,   1.6089,  34.8903,2,  34.8916,2,    282.4,2,    291.5,2,     9.71,6,    13.90,6,     0.93,6,    4.230,2,    2.320,2,    0.292,2,    4.665,2,    6.557,2,   2159.7,2,   2295.9,2,   1.3463, 20040525,     1445
  18HU20040515, AR07W,   238,  1, 277538,      2,2,20040525,1445, 59.4828, -49.4747, 3334,   3369.2,   1.6739,  34.8898,2,  34.8904,2,    282.0,2,    289.4,2,     9.54,6,    13.75,6,     0.91,6,    4.156,2,    2.301,2,    0.313,2,    4.441,2,    6.348,2,   2159.1,2,   2292.5,2,   1.4156, 20040525,     1447
  18HU20040515, AR07W,   238,  1, 277539,      3,2,20040525,1445, 59.4828, -49.4747, 3334,   3286.8,   1.8260,  34.8858,2,  34.8870,2,    279.7,2,    286.8,2,    10.56,6,    14.21,6,     0.93,6,    3.955,2,    2.066,2,    0.337,2,    4.438,2,    6.676,2,   2160.2,2,   2298.8,2,   1.5724, 20040525,     1450
  18HU20040515, AR07W,   238,  1, 277540,      4,2,20040525,1445, 59.4828, -49.4747, 3334,   3184.2,   2.0596,  34.8916,2,  34.8923,2,    277.0,2,    283.8,2,    10.98,6,    14.56,6,     0.96,6,    3.663,2,    1.983,2,    0.225,2,    4.018,2,    6.154,2,   2159.3,2,   2296.1,2,   1.8109, 20040525,     1452
  18HU20040515, AR07W,   238,  1, 277541,      5,2,20040525,1445, 59.4828, -49.4747, 3334,   3071.1,   2.2927,  34.8972,2,  34.8972,2,    273.1,2,    279.0,2,    12.37,6,    14.94,6,     0.98,6,    3.234,2,    1.618,2,    0.255,2,    3.560,2,    5.803,2,   2162.5,2,   2304.5,2,   2.0502, 20040525,     1454
  18HU20040515, AR07W,   238,  1, 277542,      6,2,20040525,1445, 59.4828, -49.4747, 3334,   2937.6,   2.4879,  34.9038,2,  34.9039,6,    270.2,2,    276.6,2,    12.56,6,    15.37,6,     1.00,6,    3.003,2,    1.517,2,    0.258,2,    3.363,2,    5.759,2,   2160.9,2,   2301.5,2,   2.2547, 20040525,     1457
  18HU20040515, AR07W,   238,  1, 277543,      7,2,20040525,1445, 59.4828, -49.4747, 3334,   2759.4,   2.6729,  34.9081,2,  34.9088,2,    268.8,2,    275.5,2,    12.25,6,    15.55,6,     1.01,6,    2.966,2,    1.537,2,    0.221,2,    3.351,2,    5.889,2,   2160.3,2,   2288.1,2,   2.4537, 20040525,     1500
  18HU20040515, AR07W,   238,  1, 277544,      8,2,20040525,1445, 59.4828, -49.4747, 3334,   2583.0,   2.8140,  34.9075,2,  34.9082,2,    268.0,2,    274.5,2,    13.92,6,    15.75,6,     1.03,6,    2.844,2,    1.390,2,    0.222,2,    3.152,2,    5.890,2,   2158.2,2,   2264.5,3,   2.6095, 20040525,     1503
  18HU20040515, AR07W,   238,  1, 277545,      9,2,20040525,1445, 59.4828, -49.4747, 3334,   2376.8,   2.9265,  34.9020,2,  34.9029,2,    269.3,2,    276.1,2,    11.18,6,    15.61,6,     1.02,6,    3.292,2,    1.632,2,    0.325,2,    3.558,2,    6.338,2,   2156.9,2,   2277.7,2,   2.7400, 20040525,     1507
  18HU20040515, AR07W,   238,  1, 277546,     10,2,20040525,1445, 59.4828, -49.4747, 3334,   2151.2,   3.0789,  34.9004,2,  34.9005,2,    269.2,2,    276.4,2,    10.78,6,    15.60,6,     1.01,6,    3.471,2,    1.781,2,    0.278,2,    3.741,2,    6.747,2,   2157.4,2,   2307.1,2,   2.9112, 20040525,     1511
  18HU20040515, AR07W,   238,  1, 277547,     11,2,20040525,1445, 59.4828, -49.4747, 3334,   1920.1,   3.1660,  34.8907,2,  34.8917,2,    270.3,2,    277.0,2,    10.53,6,    16.12,6,     1.03,6,    3.667,2,    1.830,2,    0.288,2,    3.920,2,    7.887,2,   2157.6,2,   2299.3,2,   3.0184, 20040525,     1515
  18HU20040515, AR07W,   238,  1, 277548,     12,2,20040525,1445, 59.4828, -49.4747, 3334,   1714.7,   3.3287,  34.8939,2,  34.8942,2,    268.4,2,    275.9,2,    10.48,6,    16.28,6,     1.04,6,    3.707,2,    1.902,2,    0.263,2,    3.918,2,    7.776,2,   2156.9,2,   2294.0,2,   3.1974, 20040525,     1518
  18HU20040515, AR07W,   238,  1, 277549,     13,2,20040525,1445, 59.4828, -49.4747, 3334,   1488.7,   3.5253,  34.9020,2,  34.9021,2,    266.0,2,    272.9,6,    10.11,6,    16.09,6,     1.03,6,    3.861,2,    2.007,2,    0.268,2,    3.936,2,    6.865,2,   2161.5,2,   2331.6,3,   3.4116, 20040525,     1523
  18HU20040515, AR07W,   238,  1, 277550,     14,2,20040525,1445, 59.4828, -49.4747, 3334,   1291.1,   3.3641,  34.8555,2,  34.8560,2,    278.1,2,    284.9,2,     9.18,6,    15.79,6,     1.01,6,    4.711,2,    2.663,2,    0.391,2,    4.944,2,    6.212,2,   2162.2,2,   2286.6,2,   3.2691, 20040525,     1527
  18HU20040515, AR07W,   238,  1, 277551,     15,2,20040525,1445, 59.4828, -49.4747, 3334,   1089.3,   3.3191,  34.8435,2,  34.8442,2,    285.0,2,    292.1,2,     9.12,6,    15.80,6,     1.00,6,    4.796,2,    2.705,2,    0.378,2,    5.159,2,    4.895,2,   2154.1,2,   2280.1,2,   3.2410, 20040525,     1531
  18HU20040515, AR07W,   238,  1, 277552,     16,2,20040525,1445, 59.4828, -49.4747, 3334,    955.1,   3.3964,  34.8537,2,  34.8534,2,    282.4,2,    289.3,2,     9.07,6,    15.47,6,     1.01,6,    4.832,2,    2.724,2,    0.416,2,    5.115,2,    5.102,2,   2155.3,2,   2279.0,2,   3.3284, 20040525,     1534
  18HU20040515, AR07W,   238,  1, 277553,     17,2,20040525,1445, 59.4828, -49.4747, 3334,    694.9,   3.7538,  34.8900,2,  34.8898,2,    272.4,2,    278.5,2,     8.96,6,    15.83,6,     1.01,6,    4.472,2,    2.435,2,    0.274,2,    4.621,2,    5.432,2,   2157.6,2,   2299.4,2,   3.7037, 20040525,     1539
  18HU20040515, AR07W,   238,  1, 277554,     18,2,20040525,1445, 59.4828, -49.4747, 3334,    514.0,   3.8590,  34.8872,2,  34.8869,2,    280.5,2,    287.6,2,     8.20,6,    15.29,6,     0.98,6,    4.771,2,    2.786,2,    0.389,2,    5.172,2,    4.330,2,   2153.9,2,   2302.4,2,   3.8222, 20040525,     1542
  18HU20040515, AR07W,   238,  1, 277555,     19,2,20040525,1445, 59.4828, -49.4747, 3334,    364.1,   4.0065,  34.8916,2,-999.0000,9,    280.1,2,    285.5,2,     8.23,6,    15.28,6,     0.97,6,    4.753,2,    2.788,2,    0.325,2,    5.088,2,    4.219,2,   2152.4,2,   2292.4,2,   3.9805, 20040525,     1544
  18HU20040515, AR07W,   238,  1, 277556,     20,2,20040525,1445, 59.4828, -49.4747, 3334,    240.8,   3.9896,  34.8771,2,-999.0000,9,    286.4,2,    292.8,2,     7.71,6,    14.67,6,     0.93,6,    4.962,2,    2.904,2,    0.424,2,    5.476,2,    3.756,2,   2151.1,2,   2297.3,2,   3.9726, 20040525,     1547
  18HU20040515, AR07W,   238,  1, 277557,     21,2,20040525,1445, 59.4828, -49.4747, 3334,    142.2,   3.9741,  34.8460,2,-999.0000,9,    296.7,2,    303.0,2,     7.15,6,    13.14,6,     0.88,6,    5.242,2,    3.091,2,    0.369,2,    5.982,2,    3.449,2,   2145.4,2,   2287.4,2,   3.9642, 20040525,     1548
  18HU20040515, AR07W,   238,  1, 277558,     22,2,20040525,1445, 59.4828, -49.4747, 3334,     72.2,   3.9386,  34.7379,2,-999.0000,9,    308.7,2,    314.9,2,     5.71,6,     9.01,6,     0.70,6,    5.437,2,    3.363,2,    0.490,2,    6.378,2,    3.319,2,   2121.1,2,   2275.2,2,   3.9337, 20040525,     1550
  18HU20040515, AR07W,   238,  1, 277559,     23,2,20040525,1445, 59.4828, -49.4747, 3334,     35.7,   4.0032,  34.6287,2,-999.0000,9,    315.7,2,    323.5,2,     5.94,6,     6.45,6,     0.54,6,    5.547,2,    3.346,2,    0.548,2,    6.680,2,    3.221,2,   2099.4,2,   2264.1,2,   4.0008, 20040525,     1551
  18HU20040515, AR07W,   238,  1, 277560,     24,2,20040525,1445, 59.4828, -49.4747, 3334,      3.5,   3.9723,  34.5492,2,-999.0000,9,    323.5,2,    332.3,2,     4.86,6,     4.98,6,     0.45,6,    5.665,2,    3.388,2,    0.445,2,    6.686,2,    3.137,2,   2083.1,2,   2279.8,2,   3.9721, 20040525,     1552
  18HU20040515, AR07W,   246,  1, 277561,      1,2,20040525,2019, 59.7495, -49.1580, 3260,   3247.6,   1.5387,  34.8910,2,  34.8906,2,    284.7,2,    294.0,2,     9.28,6,    13.29,6,     0.88,6,    4.181,2,    2.259,2,    0.310,2,    3.655,2,    4.507,2,   2145.0,3,   2298.0,2,   1.2958, 20040525,     2019
  18HU20040515, AR07W,   246,  1, 277562,      2,2,20040525,2019, 59.7495, -49.1580, 3260,   3191.1,   1.5940,  34.8904,2,  34.8904,2,    283.8,2,    287.6,2,     9.25,6,    13.73,6,     0.88,6,    4.090,2,    2.213,2,    0.361,2,    3.544,2,    4.330,2,   2144.9,3,   2294.5,2,   1.3554, 20040525,     2020
  18HU20040515, AR07W,   246,  1, 277563,      3,2,20040525,2019, 59.7495, -49.1580, 3260,   3121.8,   1.7747,  34.8843,2,-999.0000,9,    281.7,2,   -999.0,9,  -999.00,9,  -999.00,9,  -999.00,9, -999.000,9, -999.000,9, -999.000,9, -999.000,9, -999.000,9,   -999.0,9,   -999.0,9,   1.5389, 20040525,     2021
  18HU20040515, AR07W,   246,  1, 277564,      4,2,20040525,2019, 59.7495, -49.1580, 3260,   3019.3,   2.0486,  34.8882,2,  34.8884,2,    277.8,2,    280.6,2,    11.32,6,    14.34,6,     0.93,6,    3.529,2,    1.775,2,    0.291,2,    3.151,2,    4.386,2,   2145.2,3,   2292.6,2,   1.8168, 20040525,     2023
  18HU20040515, AR07W,   246,  1, 277565,      5,2,20040525,2019, 59.7495, -49.1580, 3260,   2899.4,   2.3051,  34.8964,2,  34.8963,2,    273.0,2,    276.4,2,    12.56,6,    15.14,6,     0.96,6,    2.986,2,    1.500,2,    0.273,2,    2.790,2,    4.104,2,   2146.8,3,   2304.3,2,   2.0796, 20040525,     2026
  18HU20040515, AR07W,   246,  1, 277566,      6,2,20040525,2019, 59.7495, -49.1580, 3260,   2770.6,   2.4976,  34.9048,2,  34.9049,2,    270.4,2,    273.3,2,    12.85,6,    15.24,6,     0.98,6,    2.732,2,    1.353,2,    0.246,2,    2.590,2,    3.945,2,   2147.6,3,   2298.5,2,   2.2808, 20040525,     2028
  18HU20040515, AR07W,   246,  1, 277567,      7,2,20040525,2019, 59.7495, -49.1580, 3260,   2619.3,   2.6710,  34.9109,2,  34.9112,2,    269.0,2,    272.5,2,    12.05,6,    15.31,6,     0.98,6,    2.728,2,    1.377,2,    0.243,2,    2.573,2,    3.969,2,   2145.8,3,   2295.5,2,   2.4656, 20040525,     2030
  18HU20040515, AR07W,   246,  1, 277568,      8,2,20040525,2019, 59.7495, -49.1580, 3260,   2460.5,   2.8241,  34.9110,2,  34.9108,2,    268.6,2,    272.1,2,    11.47,6,    15.43,6,     0.99,6,    2.783,2,    1.426,2,    0.225,2,    2.583,2,    4.077,2,   2146.5,3,   2304.3,2,   2.6313, 20040525,     2033
  18HU20040515, AR07W,   246,  1, 277569,      9,2,20040525,2019, 59.7495, -49.1580, 3260,   2258.8,   2.9742,  34.9030,2,  34.9025,2,    269.5,2,    273.1,2,    10.81,6,    15.15,6,     1.03,6,    3.067,2,    1.559,2,    0.233,2,    2.788,2,    4.472,2,   2145.2,3,   2297.1,2,   2.7981, 20040525,     2036
  18HU20040515, AR07W,   246,  1, 277570,     10,2,20040525,2019, 59.7495, -49.1580, 3260,   2056.5,   3.0935,  34.8957,2,  34.8950,2,    270.7,2,    274.4,2,    11.88,6,    14.79,6,     0.99,6,    3.326,2,    1.709,2,    0.262,2,    2.995,2,    5.033,2,   2145.1,3,   2300.9,2,   2.9345, 20040525,     2039
  18HU20040515, AR07W,   246,  1, 277571,     11,2,20040525,2019, 59.7495, -49.1580, 3260,   1849.1,   3.1619,  34.8845,2,  34.8836,2,    272.3,2,    276.1,2,     9.85,6,    15.49,6,     1.00,6,    3.589,2,    1.841,2,    0.271,2,    3.190,2,    5.611,2,   2144.3,3,   2298.1,2,   3.0208, 20040525,     2042
  18HU20040515, AR07W,   246,  1, 277572,     12,2,20040525,2019, 59.7495, -49.1580, 3260,   1660.5,   3.3417,  34.8924,2,  34.8924,2,    269.3,2,    272.7,2,     9.75,6,    15.97,6,     1.02,6,    3.714,2,    1.916,2,    0.303,2,    3.202,2,    5.467,2,   2145.6,3,   2301.2,2,   3.2151, 20040525,     2045
  18HU20040515, AR07W,   246,  1, 277573,     13,2,20040525,2019, 59.7495, -49.1580, 3260,   1499.7,   3.4815,  34.8941,2,  34.8936,2,    267.9,2,    271.3,6,     9.41,6,    15.65,6,     1.00,6,    3.832,2,    2.004,2,    0.322,2,    3.299,2,    5.179,2,   2147.0,3,   2299.1,2,   3.3674, 20040525,     2048
  18HU20040515, AR07W,   246,  1, 277574,     14,2,20040525,2019, 59.7495, -49.1580, 3260,   1181.5,   3.3023,  34.8419,2,  34.8431,2,    283.7,2,    287.4,2,     8.09,6,    15.07,6,     0.97,6,    4.893,2,    2.692,2,    0.402,2,    4.260,2,    4.069,2,   2144.0,3,   -999.0,9,   3.2170, 20040525,     2056
  18HU20040515, AR07W,   246,  1, 277575,     15,2,20040525,2019, 59.7495, -49.1580, 3260,   1031.1,   3.3277,  34.8425,2,  34.8426,2,    284.2,2,    287.8,2,     7.85,6,    15.14,6,     0.97,6,    5.644,3,    4.662,3,    0.874,3,    4.246,2,    3.742,2,   2144.1,3,   2282.0,2,   3.2542, 20040525,     2100
  18HU20040515, AR07W,   246,  1, 277576,     16,2,20040525,2019, 59.7495, -49.1580, 3260,    836.6,   3.5312,  34.8623,2,  34.8645,2,    280.3,2,    284.0,2,     7.98,6,    14.97,6,     0.97,6,    4.699,2,    2.697,2,    0.409,2,    4.188,2,    3.749,2,   2144.0,3,   2284.9,2,   3.4715, 20040525,     2104
  18HU20040515, AR07W,   246,  1, 277577,     17,2,20040525,2019, 59.7495, -49.1580, 3260,    655.0,   3.6642,  34.8682,2,  34.8676,2,    290.0,2,    293.5,2,     7.47,6,    14.75,6,     0.94,6,    5.017,2,    2.845,2,    0.470,2,    4.636,2,    3.009,2,   2141.3,3,   2300.1,2,   3.6177, 20040525,     2108
  18HU20040515, AR07W,   246,  1, 277578,     18,2,20040525,2019, 59.7495, -49.1580, 3260,    477.3,   3.9822,  34.8955,2,  34.8953,2,    279.2,2,    281.6,2,     7.42,6,    14.88,6,     0.95,6,    4.590,2,    2.625,2,    0.413,2,    4.099,2,    3.316,2,   2143.6,3,   2289.6,2,   3.9477, 20040525,     2112
  18HU20040515, AR07W,   246,  1, 277579,     19,2,20040525,2019, 59.7495, -49.1580, 3260,    331.3,   4.3326,  34.9056,2,-999.0000,9,    278.4,2,    280.6,2,     7.21,6,    14.83,6,     0.93,6,    4.556,2,    2.640,2,    0.422,2,    4.072,2,    2.958,2,   2141.3,3,   2302.4,2,   4.3081, 20040525,     2115
  18HU20040515, AR07W,   246,  1, 277580,     20,2,20040525,2019, 59.7495, -49.1580, 3260,    213.3,   4.4333,  34.8891,2,-999.0000,9,    282.8,2,    285.0,2,     6.76,6,    14.43,6,     0.90,6,    4.655,2,    2.718,2,    0.421,2,    4.181,2,    2.596,2,   2136.3,3,   2299.5,2,   4.4176, 20040525,     2118
  18HU20040515, AR07W,   246,  1, 277581,     21,2,20040525,2019, 59.7495, -49.1580, 3260,    111.4,   4.1078,  34.7825,2,-999.0000,9,    297.3,2,    300.6,2,     6.00,6,    11.49,6,     0.80,6,    5.112,2,    3.023,2,    0.498,2,    4.873,2,    2.502,2,   2122.1,3,   2289.2,2,   4.1000, 20040525,     2120
  18HU20040515, AR07W,   246,  1, 277582,     22,2,20040525,2019, 59.7495, -49.1580, 3260,     50.3,   3.9882,  34.5937,2,-999.0000,9,    323.8,2,    328.2,2,     5.26,6,     5.55,6,     0.48,6,    5.442,2,    3.202,2,    0.539,2,    5.532,2,    2.398,2,   2077.6,3,   2286.2,2,   3.9848, 20040525,     2122
  18HU20040515, AR07W,   246,  1, 277583,     23,2,20040525,2019, 59.7495, -49.1580, 3260,     21.9,   3.4546,  34.3639,2,-999.0000,9,    325.6,2,    331.7,2,     2.93,6,     4.07,6,     0.39,6,    5.630,2,    3.281,2,    0.521,2,    5.596,2,    2.417,2,   2068.3,3,   2280.9,2,   3.4532, 20040525,     2124
  18HU20040515, AR07W,   246,  1, 277584,     24,2,20040525,2019, 59.7495, -49.1580, 3260,      5.0,   3.4035,  34.3435,2,-999.0000,9,    326.1,2,    331.6,2,     2.82,6,     4.03,6,     0.39,6,    5.694,2,    3.329,2,    0.530,2,    5.659,2,    2.462,2,   2064.4,3,   2263.8,2,   3.4032, 20040525,     2125