BOTTLE,20020311WHPSIOKJU
#code : jjward hyd_to_exchange.pl 
#original files copied from HTML directory: 20020311
#original HYD file: pr16_0ahy.txt   Mon Mar 11 13:53:16 2002
#original SUM file: pr16_0asu.txt   Mon Jun 25 11:08:35 2001
EXPOCODE,SECT_ID,STNNBR,CASTNO,SAMPNO,BTLNBR,BTLNBR_FLAG_W,DATE,TIME,LATITUDE,LONGITUDE,DEPTH,CTDPRS,CTDTMP,CTDSAL,CTDSAL_FLAG_W,SALNTY,SALNTY_FLAG_W,CTDOXY,CTDOXY_FLAG_W,OXYGEN,OXYGEN_FLAG_W,THETA
,,,,,,,,,,,,DBAR,ITS-90,PSS-78,,PSS-78,,UMOL/KG,,UMOL/KG,,DEG C
   3175EP190_1,  PR16,   020,  1,      6,      6,2,19900512,2201, -4.8933,-110.0900, 3502,      0.0,  27.1565,  35.2370,2,  35.2420,2,   -999.0,9,   -999.0,9, 27.1565
   3175EP190_1,  PR16,   020,  1,      5,      5,2,19900512,2201, -4.8933,-110.0900, 3502,     18.2,  27.0175,  35.2320,2,  35.2320,2,   -999.0,9,   -999.0,9, 27.0133
   3175EP190_1,  PR16,   020,  1,      4,      4,2,19900512,2201, -4.8933,-110.0900, 3502,     37.6,  23.6713,  35.5970,2,  35.6690,2,   -999.0,9,   -999.0,9, 23.6635
   3175EP190_1,  PR16,   020,  1,      3,      3,2,19900512,2201, -4.8933,-110.0900, 3502,     57.4,  19.0474,  35.2440,2,  35.3040,2,   -999.0,9,   -999.0,9, 19.0372
   3175EP190_1,  PR16,   020,  1,      2,      2,2,19900512,2201, -4.8933,-110.0900, 3502,     77.3,  14.5185,  35.0210,2,  35.0220,2,   -999.0,9,   -999.0,9, 14.5071
   3175EP190_1,  PR16,   020,  1,      1,      1,2,19900512,2201, -4.8933,-110.0900, 3502,     97.8,  13.5737,  34.9420,2,  34.9580,2,   -999.0,9,   -999.0,9, 13.5600
   3175EP190_1,  PR16,   020,  1,     12,     12,2,19900512,2201, -4.8933,-110.0900, 3502,    122.3,  13.0259,  34.9270,2,  34.9320,2,   -999.0,9,   -999.0,9, 13.0091
   3175EP190_1,  PR16,   020,  1,     11,     11,2,19900512,2201, -4.8933,-110.0900, 3502,    147.9,  12.8329,  34.9120,2,  34.9130,2,   -999.0,9,   -999.0,9, 12.8128
   3175EP190_1,  PR16,   020,  1,     10,     10,2,19900512,2201, -4.8933,-110.0900, 3502,    196.4,  12.5640,  34.8910,2,  34.8620,2,   -999.0,9,   -999.0,9, 12.5376
   3175EP190_1,  PR16,   020,  1,      9,      9,2,19900512,2201, -4.8933,-110.0900, 3502,    295.5,  11.8652,  34.8620,2,  34.8620,2,   -999.0,9,   -999.0,9, 11.8268
   3175EP190_1,  PR16,   020,  1,      8,      8,2,19900512,2201, -4.8933,-110.0900, 3502,    495.4,   8.9748,  34.6920,2,  34.6900,2,   -999.0,9,   -999.0,9,  8.9204
   3175EP190_1,  PR16,   020,  1,      7,      7,2,19900512,2201, -4.8933,-110.0900, 3502,    994.5,   4.4019,  34.5560,2,  34.5550,2,   -999.0,9,   -999.0,9,  4.3236
   3175EP190_1,  PR16,   021,  1,     12,     12,2,19900513,0259, -4.0017,-110.4750, 3786,      0.5,  27.1545,  35.1720,2,  35.0160,2,   -999.0,9,   -999.0,9, 27.1544
   3175EP190_1,  PR16,   021,  1,     11,     11,2,19900513,0259, -4.0017,-110.4750, 3786,     17.8,  27.1535,  35.1720,2,  35.1740,2,   -999.0,9,   -999.0,9, 27.1494
   3175EP190_1,  PR16,   021,  1,     10,     10,2,19900513,0259, -4.0017,-110.4750, 3786,     37.6,  27.1395,  35.1740,2,  35.1700,2,   -999.0,9,   -999.0,9, 27.1308
   3175EP190_1,  PR16,   021,  1,      9,      9,2,19900513,0259, -4.0017,-110.4750, 3786,     57.7,  20.0492,  35.0900,2,  35.0870,2,   -999.0,9,   -999.0,9, 20.0385
   3175EP190_1,  PR16,   021,  1,      8,      8,2,19900513,0259, -4.0017,-110.4750, 3786,     78.0,  14.6505,  35.0130,2,  35.0180,2,   -999.0,9,   -999.0,9, 14.6389
   3175EP190_1,  PR16,   021,  1,      7,      7,2,19900513,0259, -4.0017,-110.4750, 3786,     97.4,  13.6147,  34.9620,2,  34.9620,2,   -999.0,9,   -999.0,9, 13.6010
   3175EP190_1,  PR16,   021,  1,      6,      6,2,19900513,0259, -4.0017,-110.4750, 3786,    121.5,  13.1838,  34.9380,2,  34.9380,2,   -999.0,9,   -999.0,9, 13.1670
   3175EP190_1,  PR16,   021,  1,      5,      5,2,19900513,0259, -4.0017,-110.4750, 3786,    146.8,  12.9899,  34.9250,2,  34.9240,2,   -999.0,9,   -999.0,9, 12.9698
   3175EP190_1,  PR16,   021,  1,      4,      4,2,19900513,0259, -4.0017,-110.4750, 3786,    197.8,  12.6610,  34.9040,2,  34.9050,2,   -999.0,9,   -999.0,9, 12.6342
   3175EP190_1,  PR16,   021,  1,      3,      3,2,19900513,0259, -4.0017,-110.4750, 3786,    297.0,  11.8352,  34.8610,2,  34.8610,2,   -999.0,9,   -999.0,9, 11.7967
   3175EP190_1,  PR16,   021,  1,      2,      2,2,19900513,0259, -4.0017,-110.4750, 3786,    495.6,   8.6709,  34.6730,2,  34.6750,2,   -999.0,9,   -999.0,9,  8.6176
   3175EP190_1,  PR16,   021,  1,      1,      1,2,19900513,0259, -4.0017,-110.4750, 3786,    994.2,   4.4619,  34.5550,2,  34.5520,2,   -999.0,9,   -999.0,9,  4.3831
   3175EP190_1,  PR16,   022,  1,     12,     12,2,19900513,0838, -2.9933,-110.9033, 3940,      1.5,  27.0235,  35.1930,2,  35.1920,2,   -999.0,9,   -999.0,9, 27.0232
   3175EP190_1,  PR16,   022,  1,     11,     11,2,19900513,0838, -2.9933,-110.9033, 3940,     18.3,  27.0345,  35.1930,2,  35.2160,2,   -999.0,9,   -999.0,9, 27.0303
   3175EP190_1,  PR16,   022,  1,     10,     10,2,19900513,0838, -2.9933,-110.9033, 3940,     37.7,  24.3002,  35.1180,2,  35.1600,2,   -999.0,9,   -999.0,9, 24.2922
   3175EP190_1,  PR16,   022,  1,      9,      9,2,19900513,0838, -2.9933,-110.9033, 3940,     57.6,  14.1216,  35.0020,2,  34.9770,2,   -999.0,9,   -999.0,9, 14.1133
   3175EP190_1,  PR16,   022,  1,      8,      8,2,19900513,0838, -2.9933,-110.9033, 3940,     77.6,  13.5008,  34.9550,2,  34.9630,2,   -999.0,9,   -999.0,9, 13.4899
   3175EP190_1,  PR16,   022,  1,      7,      7,2,19900513,0838, -2.9933,-110.9033, 3940,     97.3,  13.2438,  34.9290,2,  34.9360,2,   -999.0,9,   -999.0,9, 13.2303
   3175EP190_1,  PR16,   022,  1,      6,      6,2,19900513,0838, -2.9933,-110.9033, 3940,    122.1,  13.0549,  34.9200,2,  34.9200,2,   -999.0,9,   -999.0,9, 13.0381
   3175EP190_1,  PR16,   022,  1,      5,      5,2,19900513,0838, -2.9933,-110.9033, 3940,    147.1,  12.8109,  34.9100,2,  34.9110,2,   -999.0,9,   -999.0,9, 12.7909
   3175EP190_1,  PR16,   022,  1,      4,      4,2,19900513,0838, -2.9933,-110.9033, 3940,    196.8,  12.6190,  34.8920,2,  34.8940,2,   -999.0,9,   -999.0,9, 12.5925
   3175EP190_1,  PR16,   022,  1,      3,      3,2,19900513,0838, -2.9933,-110.9033, 3940,    296.5,  12.0801,  34.8770,2,  34.8650,2,   -999.0,9,   -999.0,9, 12.0411
   3175EP190_1,  PR16,   022,  1,      2,      2,2,19900513,0838, -2.9933,-110.9033, 3940,    495.7,   8.4390,  34.6600,2,  34.6740,2,   -999.0,9,   -999.0,9,  8.3865
   3175EP190_1,  PR16,   022,  1,      1,      1,2,19900513,0838, -2.9933,-110.9033, 3940,    994.3,   4.4189,  34.5640,2,  34.5630,2,   -999.0,9,   -999.0,9,  4.3404
   3175EP190_1,  PR16,   023,  1,     11,     11,2,19900513,1438, -2.0550,-111.3350, 4071,      0.5,  26.7226,  35.2900,2,  35.2910,2,   -999.0,9,   -999.0,9, 26.7225
   3175EP190_1,  PR16,   023,  1,     10,     10,2,19900513,1438, -2.0550,-111.3350, 4071,     17.9,  26.7226,  35.2920,2,  35.2900,2,   -999.0,9,   -999.0,9, 26.7185
   3175EP190_1,  PR16,   023,  1,      9,      9,2,19900513,1438, -2.0550,-111.3350, 4071,     37.8,  26.0218,  35.3390,2,  35.2750,2,   -999.0,9,   -999.0,9, 26.0133
   3175EP190_1,  PR16,   023,  1,      8,      8,2,19900513,1438, -2.0550,-111.3350, 4071,     56.9,  19.6383,  35.2260,2,  35.1680,2,   -999.0,9,   -999.0,9, 19.6279
   3175EP190_1,  PR16,   023,  1,      7,      7,2,19900513,1438, -2.0550,-111.3350, 4071,     77.4,  15.2603,  35.0310,2,  35.0370,2,   -999.0,9,   -999.0,9, 15.2485
   3175EP190_1,  PR16,   023,  1,      6,      6,2,19900513,1438, -2.0550,-111.3350, 4071,     97.0,  13.6597,  34.9540,2,  34.9670,2,   -999.0,9,   -999.0,9, 13.6460
   3175EP190_1,  PR16,   023,  1,      5,      5,2,19900513,1438, -2.0550,-111.3350, 4071,    121.7,  12.9969,  34.9130,2,  34.9340,2,   -999.0,9,   -999.0,9, 12.9802
   3175EP190_1,  PR16,   023,  1,      4,      4,2,19900513,1438, -2.0550,-111.3350, 4071,    148.1,  12.7349,  34.9000,2,  34.9010,2,   -999.0,9,   -999.0,9, 12.7149
   3175EP190_1,  PR16,   023,  1,      3,      3,2,19900513,1438, -2.0550,-111.3350, 4071,    196.7,  12.6030,  34.8960,2,  34.8990,2,   -999.0,9,   -999.0,9, 12.5765
   3175EP190_1,  PR16,   023,  1,      2,      2,2,19900513,1438, -2.0550,-111.3350, 4071,    297.0,  12.0451,  34.8620,2,  34.8600,2,   -999.0,9,   -999.0,9, 12.0062
   3175EP190_1,  PR16,   023,  1,      1,      1,2,19900513,1438, -2.0550,-111.3350, 4071,    495.3,   8.3980,  34.6570,2,  34.6520,2,   -999.0,9,   -999.0,9,  8.3457
   3175EP190_1,  PR16,   023,  1,     12,     12,2,19900513,1438, -2.0550,-111.3350, 4071,    993.6,   4.5219,  34.5590,2,  34.5580,2,   -999.0,9,   -999.0,9,  4.4427
   3175EP190_1,  PR16,   024,  1,      6,      6,2,19900513,2358, -0.9967,-110.6533, 4071,      0.7,  26.4576,  35.1970,2,  35.1970,2,   -999.0,9,   -999.0,9, 26.4575
   3175EP190_1,  PR16,   024,  1,      5,      5,2,19900513,2358, -0.9967,-110.6533, 4071,     17.6,  26.2767,  35.2050,2,  35.2120,2,   -999.0,9,   -999.0,9, 26.2727
   3175EP190_1,  PR16,   024,  1,      4,      4,2,19900513,2358, -0.9967,-110.6533, 4071,     37.3,  25.0260,  35.2640,2,  35.2720,2,   -999.0,9,   -999.0,9, 25.0179
   3175EP190_1,  PR16,   024,  1,      3,      3,2,19900513,2358, -0.9967,-110.6533, 4071,     57.5,  20.0662,  35.4220,2,  35.4180,2,   -999.0,9,   -999.0,9, 20.0555
   3175EP190_1,  PR16,   024,  1,      2,      2,2,19900513,2358, -0.9967,-110.6533, 4071,     78.4,  16.7290,  35.2760,2,  35.2690,2,   -999.0,9,   -999.0,9, 16.7162
   3175EP190_1,  PR16,   024,  1,      1,      1,2,19900513,2358, -0.9967,-110.6533, 4071,     97.6,  13.9766,  35.0300,2,  35.0190,2,   -999.0,9,   -999.0,9, 13.9626
   3175EP190_1,  PR16,   024,  1,     12,     12,2,19900513,2358, -0.9967,-110.6533, 4071,    121.9,  13.1918,  34.9410,2,  34.9440,2,   -999.0,9,   -999.0,9, 13.1750
   3175EP190_1,  PR16,   024,  1,     11,     11,2,19900513,2358, -0.9967,-110.6533, 4071,    147.1,  12.9289,  34.9200,2,  34.9150,2,   -999.0,9,   -999.0,9, 12.9088
   3175EP190_1,  PR16,   024,  1,     10,     10,2,19900513,2358, -0.9967,-110.6533, 4071,    196.8,  12.6050,  34.8920,2,  34.8900,2,   -999.0,9,   -999.0,9, 12.5785
   3175EP190_1,  PR16,   024,  1,      9,      9,2,19900513,2358, -0.9967,-110.6533, 4071,    296.2,  11.5422,  34.8240,2,  34.8220,2,   -999.0,9,   -999.0,9, 11.5045
   3175EP190_1,  PR16,   024,  1,      8,      8,2,19900513,2358, -0.9967,-110.6533, 4071,    494.9,   8.1480,  34.6340,2,  34.6350,2,   -999.0,9,   -999.0,9,  8.0967
   3175EP190_1,  PR16,   024,  1,      7,      7,2,19900513,2358, -0.9967,-110.6533, 4071,    993.7,   4.4999,  34.5640,2,  34.5570,2,   -999.0,9,   -999.0,9,  4.4209
   3175EP190_1,  PR16,   025,  1,     12,     12,2,19900514,1043, -0.0200,-109.9467, 3833,      1.2,  26.0717,  35.1300,2,  35.1290,2,   -999.0,9,   -999.0,9, 26.0715
   3175EP190_1,  PR16,   025,  1,     11,     11,2,19900514,1043, -0.0200,-109.9467, 3833,     17.9,  25.9968,  35.1210,2,  35.1170,2,   -999.0,9,   -999.0,9, 25.9928
   3175EP190_1,  PR16,   025,  1,     10,     10,2,19900514,1043, -0.0200,-109.9467, 3833,     37.8,  24.4251,  35.0300,2,  35.0330,2,   -999.0,9,   -999.0,9, 24.4171
   3175EP190_1,  PR16,   025,  1,      9,      9,2,19900514,1043, -0.0200,-109.9467, 3833,     58.2,  18.9225,  34.9060,2,  34.9010,2,   -999.0,9,   -999.0,9, 18.9121
   3175EP190_1,  PR16,   025,  1,      8,      8,2,19900514,1043, -0.0200,-109.9467, 3833,     77.1,  17.0559,  34.9690,2,  34.9300,2,   -999.0,9,   -999.0,9, 17.0432
   3175EP190_1,  PR16,   025,  1,      7,      7,2,19900514,1043, -0.0200,-109.9467, 3833,     97.2,  15.4083,  34.9860,2,  34.9790,2,   -999.0,9,   -999.0,9, 15.3934
   3175EP190_1,  PR16,   025,  1,      6,      6,2,19900514,1043, -0.0200,-109.9467, 3833,    122.3,  14.3646,  35.0310,2,  35.0200,2,   -999.0,9,   -999.0,9, 14.3466
   3175EP190_1,  PR16,   025,  1,      5,      5,2,19900514,1043, -0.0200,-109.9467, 3833,    146.0,  13.7397,  34.9680,2,  34.9680,2,   -999.0,9,   -999.0,9, 13.7189
   3175EP190_1,  PR16,   025,  1,      4,      4,2,19900514,1043, -0.0200,-109.9467, 3833,    196.8,  12.9439,  34.9090,2,  34.9080,2,   -999.0,9,   -999.0,9, 12.9169
   3175EP190_1,  PR16,   025,  1,      3,      3,2,19900514,1043, -0.0200,-109.9467, 3833,    296.1,  11.3103,  34.8000,2,  34.7970,2,   -999.0,9,   -999.0,9, 11.2730
   3175EP190_1,  PR16,   025,  1,      2,      2,2,19900514,1043, -0.0200,-109.9467, 3833,    495.4,   7.9591,  34.6260,2,  34.6240,2,   -999.0,9,   -999.0,9,  7.9084
   3175EP190_1,  PR16,   026,  1,     12,     12,2,19900515,0745,  1.0017,-110.1000, 3779,      1.7,  26.6236,  35.0050,2,  35.0060,2,   -999.0,9,   -999.0,9, 26.6232
   3175EP190_1,  PR16,   026,  1,     11,     11,2,19900515,0745,  1.0017,-110.1000, 3779,     18.2,  26.6216,  35.0020,2,  35.0050,2,   -999.0,9,   -999.0,9, 26.6175
   3175EP190_1,  PR16,   026,  1,     10,     10,2,19900515,0745,  1.0017,-110.1000, 3779,     37.5,  26.5906,  35.0000,2,  34.9920,2,   -999.0,9,   -999.0,9, 26.5821
   3175EP190_1,  PR16,   026,  1,      9,      9,2,19900515,0745,  1.0017,-110.1000, 3779,     57.5,  19.9212,  34.7530,2,  34.7660,2,   -999.0,9,   -999.0,9, 19.9107
   3175EP190_1,  PR16,   026,  1,      8,      8,2,19900515,0745,  1.0017,-110.1000, 3779,     77.5,  15.1414,  34.9180,2,  34.9080,2,   -999.0,9,   -999.0,9, 15.1296
   3175EP190_1,  PR16,   026,  1,      7,      7,2,19900515,0745,  1.0017,-110.1000, 3779,     97.1,  14.3406,  34.9300,2,  34.9250,2,   -999.0,9,   -999.0,9, 14.3263
   3175EP190_1,  PR16,   026,  1,      6,      6,2,19900515,0745,  1.0017,-110.1000, 3779,    122.1,  13.5338,  34.9040,2,  34.9040,2,   -999.0,9,   -999.0,9, 13.5166
   3175EP190_1,  PR16,   026,  1,      5,      5,2,19900515,0745,  1.0017,-110.1000, 3779,    146.8,  13.1228,  34.9040,2,  34.9090,2,   -999.0,9,   -999.0,9, 13.1026
   3175EP190_1,  PR16,   026,  1,      4,      4,2,19900515,0745,  1.0017,-110.1000, 3779,    196.8,  12.7169,  34.8950,2,  34.9740,2,   -999.0,9,   -999.0,9, 12.6903
   3175EP190_1,  PR16,   026,  1,      3,      3,2,19900515,0745,  1.0017,-110.1000, 3779,    295.6,  11.3143,  34.7770,2,  34.7820,2,   -999.0,9,   -999.0,9, 11.2771
   3175EP190_1,  PR16,   026,  1,      2,      2,2,19900515,0745,  1.0017,-110.1000, 3779,    495.4,   7.7551,  34.6140,2,  34.6150,2,   -999.0,9,   -999.0,9,  7.7052
   3175EP190_1,  PR16,   026,  1,      1,      1,2,19900515,0745,  1.0017,-110.1000, 3779,    994.2,   4.4589,  34.5590,2,  34.5650,2,   -999.0,9,   -999.0,9,  4.3801
   3175EP190_1,  PR16,   027,  1,     11,     11,2,19900515,1300,  1.9683,-110.1867, 3818,      0.0,  27.3924,  34.8040,2,  34.8070,2,   -999.0,9,   -999.0,9, 27.3924
   3175EP190_1,  PR16,   027,  1,     12,     12,2,19900515,1300,  1.9683,-110.1867, 3818,      1.8,  27.4034,  34.8030,2,  34.8040,2,   -999.0,9,   -999.0,9, 27.4030
   3175EP190_1,  PR16,   027,  1,     10,     10,2,19900515,1300,  1.9683,-110.1867, 3818,     18.5,  27.3874,  34.8090,2,  34.8540,2,   -999.0,9,   -999.0,9, 27.3831
   3175EP190_1,  PR16,   027,  1,      8,      8,2,19900515,1300,  1.9683,-110.1867, 3818,     58.1,  26.3777,  34.9890,2,  34.9350,2,   -999.0,9,   -999.0,9, 26.3646
   3175EP190_1,  PR16,   027,  1,      7,      7,2,19900515,1300,  1.9683,-110.1867, 3818,     77.4,  16.3571,  34.9100,2,  34.8740,2,   -999.0,9,   -999.0,9, 16.3447
   3175EP190_1,  PR16,   027,  1,      6,      6,2,19900515,1300,  1.9683,-110.1867, 3818,     97.5,  14.4055,  34.9170,2,  34.8710,2,   -999.0,9,   -999.0,9, 14.3912
   3175EP190_1,  PR16,   027,  1,      5,      5,2,19900515,1300,  1.9683,-110.1867, 3818,    122.1,  13.5188,  34.9290,2,  34.9250,2,   -999.0,9,   -999.0,9, 13.5016
   3175EP190_1,  PR16,   027,  1,      4,      4,2,19900515,1300,  1.9683,-110.1867, 3818,    147.2,  13.2698,  34.9210,2,  34.9200,2,   -999.0,9,   -999.0,9, 13.2493
   3175EP190_1,  PR16,   027,  1,      3,      3,2,19900515,1300,  1.9683,-110.1867, 3818,    196.7,  12.9089,  34.9000,2,  34.8970,2,   -999.0,9,   -999.0,9, 12.8820
   3175EP190_1,  PR16,   027,  1,      2,      2,2,19900515,1300,  1.9683,-110.1867, 3818,    495.1,   7.8561,  34.6250,2,  34.6230,2,   -999.0,9,   -999.0,9,  7.8058
   3175EP190_1,  PR16,   027,  1,      1,      1,2,19900515,1300,  1.9683,-110.1867, 3818,    993.7,   4.5439,  34.5660,2,  34.5630,2,   -999.0,9,   -999.0,9,  4.4645
   3175EP190_1,  PR16,   028,  1,     12,     12,2,19900515,2309,  3.0033,-110.1067, 3850,      0.2,  27.7783,  34.8430,2,  34.8420,2,   -999.0,9,   -999.0,9, 27.7783
   3175EP190_1,  PR16,   028,  1,     11,     11,2,19900515,2309,  3.0033,-110.1067, 3850,      0.9,  27.7753,  34.8420,2,  34.8440,2,   -999.0,9,   -999.0,9, 27.7751
   3175EP190_1,  PR16,   028,  1,     10,     10,2,19900515,2309,  3.0033,-110.1067, 3850,     17.6,  27.5724,  34.8520,2,  34.8520,2,   -999.0,9,   -999.0,9, 27.5683
   3175EP190_1,  PR16,   028,  1,      9,      9,2,19900515,2309,  3.0033,-110.1067, 3850,     38.2,  27.3414,  34.8770,2,  34.8700,2,   -999.0,9,   -999.0,9, 27.3326
   3175EP190_1,  PR16,   028,  1,      8,      8,2,19900515,2309,  3.0033,-110.1067, 3850,     58.2,  17.7987,  34.7950,2,  34.7520,2,   -999.0,9,   -999.0,9, 17.7889
   3175EP190_1,  PR16,   028,  1,      7,      7,2,19900515,2309,  3.0033,-110.1067, 3850,     77.1,  14.4535,  34.9280,2,  34.9220,2,   -999.0,9,   -999.0,9, 14.4422
   3175EP190_1,  PR16,   028,  1,      6,      6,2,19900515,2309,  3.0033,-110.1067, 3850,     96.6,  14.0126,  34.9300,2,  34.9240,2,   -999.0,9,   -999.0,9, 13.9987
   3175EP190_1,  PR16,   028,  1,      5,      5,2,19900515,2309,  3.0033,-110.1067, 3850,    122.2,  13.4838,  34.9340,2,  34.9250,2,   -999.0,9,   -999.0,9, 13.4666
   3175EP190_1,  PR16,   028,  1,      4,      4,2,19900515,2309,  3.0033,-110.1067, 3850,    147.5,  13.2548,  34.9160,2,  34.9150,2,   -999.0,9,   -999.0,9, 13.2343
   3175EP190_1,  PR16,   028,  1,      3,      3,2,19900515,2309,  3.0033,-110.1067, 3850,    196.5,  12.9469,  34.9020,2,  34.8990,2,   -999.0,9,   -999.0,9, 12.9200
   3175EP190_1,  PR16,   028,  1,      2,      2,2,19900515,2309,  3.0033,-110.1067, 3850,    495.4,   8.1430,  34.6380,2,  34.6390,2,   -999.0,9,   -999.0,9,  8.0917
   3175EP190_1,  PR16,   028,  1,      1,      1,2,19900515,2309,  3.0033,-110.1067, 3850,    994.0,   4.5639,  34.5680,2,  34.5670,2,   -999.0,9,   -999.0,9,  4.4843