BOTTLE,20020311WHPSIOKJU
EXPOCODE,SECT_ID,STNNBR,CASTNO,SAMPNO,BTLNBR,BTLNBR_FLAG_W,DATE,TIME,LATITUDE,LONGITUDE,DEPTH,CTDPRS,CTDTMP,CTDSAL,CTDSAL_FLAG_W,SALNTY,SALNTY_FLAG_W,CTDOXY,CTDOXY_FLAG_W,OXYGEN,OXYGEN_FLAG_W,THETA
,,,,,,,,,,,,DBAR,ITS-90,PSS-78,,PSS-78,,UMOL/KG,,UMOL/KG,,DEG C
   3175EP190_1,  PR16,   029,  1,     12,     12,2,19900516,0411,  4.0033,-110.0500, 3913,      0.1,  28.4492,  34.3900,2,  34.3890,2,   -999.0,9,   -999.0,9, 28.4491
   3175EP190_1,  PR16,   029,  1,     11,     11,2,19900516,0411,  4.0033,-110.0500, 3913,     18.0,  28.4582,  34.3900,2,  34.3870,2,   -999.0,9,   -999.0,9, 28.4539
   3175EP190_1,  PR16,   029,  1,     10,     10,2,19900516,0411,  4.0033,-110.0500, 3913,     37.9,  27.4154,  34.8210,2,  34.8200,2,   -999.0,9,   -999.0,9, 27.4066
   3175EP190_1,  PR16,   029,  1,      9,      9,2,19900516,0411,  4.0033,-110.0500, 3913,     57.3,  22.4726,  34.7790,2,  34.7740,2,   -999.0,9,   -999.0,9, 22.4611
   3175EP190_1,  PR16,   029,  1,      8,      8,2,19900516,0411,  4.0033,-110.0500, 3913,     77.6,  15.0404,  34.9300,2,  34.9200,2,   -999.0,9,   -999.0,9, 15.0287
   3175EP190_1,  PR16,   029,  1,      7,      7,2,19900516,0411,  4.0033,-110.0500, 3913,     97.3,  13.9457,  34.9270,2,  34.9280,2,   -999.0,9,   -999.0,9, 13.9317
   3175EP190_1,  PR16,   029,  1,      6,      6,2,19900516,0411,  4.0033,-110.0500, 3913,    121.9,  13.5457,  34.9250,2,  34.9200,2,   -999.0,9,   -999.0,9, 13.5286
   3175EP190_1,  PR16,   029,  1,      5,      5,2,19900516,0411,  4.0033,-110.0500, 3913,    147.0,  13.1838,  34.8850,2,  34.9110,2,   -999.0,9,   -999.0,9, 13.1635
   3175EP190_1,  PR16,   029,  1,      4,      4,2,19900516,0411,  4.0033,-110.0500, 3913,    197.1,  12.8219,  34.8910,2,  34.8880,2,   -999.0,9,   -999.0,9, 12.7951
   3175EP190_1,  PR16,   029,  1,      3,      3,2,19900516,0411,  4.0033,-110.0500, 3913,    296.3,  11.6712,  34.8130,2,  34.8090,2,   -999.0,9,   -999.0,9, 11.6331
   3175EP190_1,  PR16,   029,  1,      2,      2,2,19900516,0411,  4.0033,-110.0500, 3913,    495.5,   8.5519,  34.6510,2,  34.6450,2,   -999.0,9,   -999.0,9,  8.4991
   3175EP190_1,  PR16,   029,  1,      1,      1,2,19900516,0411,  4.0033,-110.0500, 3913,    993.8,   4.7889,  34.5670,2,  34.5640,2,   -999.0,9,   -999.0,9,  4.7076
   3175EP190_1,  PR16,   030,  1,     12,     12,2,19900516,0919,  5.0050,-109.9450, 3816,      0.9,  28.5751,  33.8130,2,  33.7870,2,   -999.0,9,   -999.0,9, 28.5749
   3175EP190_1,  PR16,   030,  1,     11,     11,2,19900516,0919,  5.0050,-109.9450, 3816,     18.1,  28.6911,  33.9990,2,  33.9980,2,   -999.0,9,   -999.0,9, 28.6868
   3175EP190_1,  PR16,   030,  1,     10,     10,2,19900516,0919,  5.0050,-109.9450, 3816,     37.8,  28.6601,  33.9980,2,  33.9960,2,   -999.0,9,   -999.0,9, 28.6511
   3175EP190_1,  PR16,   030,  1,      9,      9,2,19900516,0919,  5.0050,-109.9450, 3816,     57.6,  25.9498,  34.1060,2,  34.1970,2,   -999.0,9,   -999.0,9, 25.9370
   3175EP190_1,  PR16,   030,  1,      8,      8,2,19900516,0919,  5.0050,-109.9450, 3816,     77.3,  17.0339,  34.6620,2,  34.6980,2,   -999.0,9,   -999.0,9, 17.0212
   3175EP190_1,  PR16,   030,  1,      7,      7,2,19900516,0919,  5.0050,-109.9450, 3816,     96.6,  14.0326,  34.6850,2,  34.6920,2,   -999.0,9,   -999.0,9, 14.0187
   3175EP190_1,  PR16,   030,  1,      6,      6,2,19900516,0919,  5.0050,-109.9450, 3816,    122.7,  12.4450,  34.6700,2,  34.6680,2,   -999.0,9,   -999.0,9, 12.4287
   3175EP190_1,  PR16,   030,  1,      5,      5,2,19900516,0919,  5.0050,-109.9450, 3816,    147.1,  11.5672,  34.6690,2,  34.6720,2,   -999.0,9,   -999.0,9, 11.5486
   3175EP190_1,  PR16,   030,  1,      4,      4,2,19900516,0919,  5.0050,-109.9450, 3816,    196.1,  11.1223,  34.7520,2,  34.7530,2,   -999.0,9,   -999.0,9, 11.0980
   3175EP190_1,  PR16,   030,  1,      3,      3,2,19900516,0919,  5.0050,-109.9450, 3816,    296.0,  10.3175,  34.7100,2,  34.7070,2,   -999.0,9,   -999.0,9, 10.2824
   3175EP190_1,  PR16,   030,  1,      2,      2,2,19900516,0919,  5.0050,-109.9450, 3816,    495.0,   8.1051,  34.6240,2,  34.6220,2,   -999.0,9,   -999.0,9,  8.0539
   3175EP190_1,  PR16,   030,  1,      1,      1,2,19900516,0919,  5.0050,-109.9450, 3816,    994.1,   4.6749,  34.5680,2,  34.5630,2,   -999.0,9,   -999.0,9,  4.5944