BOTTLE,20010418WHPSIOKJU
EXPOCODE,SECT_ID,STNNBR,CASTNO,SAMPNO,BTLNBR,BTLNBR_FLAG_W,DATE,TIME,LATITUDE,LONGITUDE,DEPTH,CTDPRS,CTDTMP,CTDSAL,CTDSAL_FLAG_W,SALNTY,SALNTY_FLAG_W,OXYGEN,OXYGEN_FLAG_W,NITRAT,NITRAT_FLAG_W,NITRIT,NITRIT_FLAG_W,PHSPHT,PHSPHT_FLAG_W
,,,,,,,,,,,,DBAR,DEG C,PSS-78,,PSS-78,,UMOL/KG,,UMOL/KG,,UMOL/KG,,UMOL/KG,
    49SU9409_2,  PR17,SU5021,  3,     23,   -999,5,19941004,1922, 30.6088, 132.1775, 2480,     10.1,  26.5110,  34.3977,3,-999.0000,9,    201.0,3,     0.00,3,     0.00,3,     0.00,3
    49SU9409_2,  PR17,SU5021,  3,     22,   -999,5,19941004,1922, 30.6088, 132.1775, 2480,     24.9,  26.5210,  34.3980,3,-999.0000,9,    202.0,3,     0.00,3,     0.00,3,     0.00,3
    49SU9409_2,  PR17,SU5021,  3,     21,   -999,5,19941004,1922, 30.6088, 132.1775, 2480,     49.8,  26.5290,  34.3981,3,-999.0000,9,    202.0,3,     0.00,3,     0.00,3,     0.00,3
    49SU9409_2,  PR17,SU5021,  3,     20,   -999,5,19941004,1922, 30.6088, 132.1775, 2480,     75.1,  29.5280,  34.4021,3,-999.0000,9,    203.0,3,     0.00,3,     0.00,3,     0.00,3
    49SU9409_2,  PR17,SU5021,  3,     19,   -999,5,19941004,1922, 30.6088, 132.1775, 2480,    101.6,  24.4640,  34.7249,3,-999.0000,9,    193.0,3,     0.90,3,     0.14,3,     0.06,3
    49SU9409_2,  PR17,SU5021,  3,     18,   -999,5,19941004,1922, 30.6088, 132.1775, 2480,    126.0,  22.6810,  34.8257,3,-999.0000,9,    191.0,3,     1.80,3,     0.04,3,     0.11,3
    49SU9409_2,  PR17,SU5021,  3,     17,   -999,5,19941004,1922, 30.6088, 132.1775, 2480,    151.3,  21.0780,  34.8779,3,-999.0000,9,    194.0,3,     2.10,3,     0.03,3,     0.14,3
    49SU9409_2,  PR17,SU5021,  3,     16,   -999,5,19941004,1922, 30.6088, 132.1775, 2480,    202.0,  18.6320,  34.8592,3,-999.0000,9,    201.0,3,     3.20,3,     0.01,3,     0.19,3
    49SU9409_2,  PR17,SU5021,  3,     15,   -999,5,19941004,1922, 30.6088, 132.1775, 2480,    252.1,  17.6630,  34.8281,3,-999.0000,9,    204.0,3,     3.80,3,     0.01,3,     0.21,3
    49SU9409_2,  PR17,SU5021,  3,     14,   -999,5,19941004,1922, 30.6088, 132.1775, 2480,    302.7,  16.5240,  34.7401,3,-999.0000,9,    197.0,3,     6.20,3,     0.01,3,     0.35,3
    49SU9409_2,  PR17,SU5021,  3,     13,   -999,5,19941004,1922, 30.6088, 132.1775, 2480,    402.5,  13.3920,  34.5069,3,-999.0000,9,    178.0,3,    13.20,3,     0.01,3,     0.80,3
    49SU9409_2,  PR17,SU5021,  3,     12,   -999,5,19941004,1922, 30.6088, 132.1775, 2480,    499.3,  10.1580,  34.3036,3,-999.0000,9,    163.0,3,    20.10,3,     0.00,3,     1.29,3
    49SU9409_2,  PR17,SU5022,  2,      9,   -999,5,19941004,2349, 31.0053, 131.7175, 1470,    404.5,   8.6490,  34.2369,3,  34.2308,3,    149.0,3,    24.30,3,     0.01,3,     1.63,3
    49SU9409_2,  PR17,SU5022,  2,      8,   -999,5,19941004,2349, 31.0053, 131.7175, 1470,    506.7,   6.4800,  34.1665,3,  34.1650,3,    119.0,3,    31.20,3,     0.01,3,     2.14,3
    49SU9409_2,  PR17,SU5022,  2,      7,   -999,5,19941004,2349, 31.0053, 131.7175, 1470,    606.5,   5.3550,  34.1886,3,  34.1880,3,     94.0,3,    35.60,3,     0.00,3,     2.45,3
    49SU9409_2,  PR17,SU5022,  2,      6,   -999,5,19941004,2349, 31.0053, 131.7175, 1470,    707.2,   4.5690,  34.3004,3,  34.3017,3,     75.0,3,    38.40,3,     0.00,3,     2.66,3
    49SU9409_2,  PR17,SU5022,  2,      5,   -999,5,19941004,2349, 31.0053, 131.7175, 1470,    808.5,   4.0100,  34.3580,3,  34.3437,3,   -999.0,5,  -999.00,5,  -999.00,5,  -999.00,5
    49SU9409_2,  PR17,SU5022,  2,      4,   -999,5,19941004,2349, 31.0053, 131.7175, 1470,    908.8,   3.5590,  34.4101,3,  34.4135,3,     64.0,3,    40.80,3,     0.00,3,     2.81,3
    49SU9409_2,  PR17,SU5022,  2,      3,   -999,5,19941004,2349, 31.0053, 131.7175, 1470,   1010.2,   3.2890,  34.4408,3,  34.4371,3,     70.0,3,    41.00,3,     0.00,3,     2.80,3
    49SU9409_2,  PR17,SU5022,  2,      2,   -999,5,19941004,2349, 31.0053, 131.7175, 1470,   1209.9,   2.8560,  34.4943,3,  34.4906,3,     81.0,3,    40.80,3,     0.00,3,     2.78,3
    49SU9409_2,  PR17,SU5022,  2,      1,   -999,5,19941004,2349, 31.0053, 131.7175, 1470,   1415.7,   2.5290,  34.5359,3,  34.5320,3,     89.0,3,    40.40,3,     0.00,3,     2.75,3
    49SU9409_2,  PR17,SU5022,  3,     19,   -999,5,19941005,0042, 31.0315, 131.7315, 1450,     10.1,  25.8530,  34.3198,3,  34.3180,3,    205.0,3,     0.00,3,     0.00,3,     0.01,3
    49SU9409_2,  PR17,SU5022,  3,     18,   -999,5,19941005,0042, 31.0315, 131.7315, 1450,     25.5,  25.8530,  34.3195,3,  34.3209,3,    205.0,3,     0.10,3,     0.00,3,     0.02,3
    49SU9409_2,  PR17,SU5022,  3,     17,   -999,5,19941005,0042, 31.0315, 131.7315, 1450,     50.1,  25.8490,  34.3251,3,  34.3231,3,    204.0,3,     0.00,3,     0.02,3,     0.01,3
    49SU9409_2,  PR17,SU5022,  3,     16,   -999,5,19941005,0042, 31.0315, 131.7315, 1450,     75.2,  25.4820,  34.3908,3,  34.4023,3,    199.0,3,     0.40,3,     0.22,3,     0.04,3
    49SU9409_2,  PR17,SU5022,  3,     15,   -999,5,19941005,0042, 31.0315, 131.7315, 1450,    101.3,  24.3470,  34.7452,3,  34.7416,3,    198.0,3,     0.80,3,     0.14,3,     0.06,3
    49SU9409_2,  PR17,SU5022,  3,     14,   -999,5,19941005,0042, 31.0315, 131.7315, 1450,    126.9,  22.4120,  34.8582,3,  34.8487,3,    196.0,3,     1.40,3,     0.08,3,     0.10,3
    49SU9409_2,  PR17,SU5022,  3,     13,   -999,5,19941005,0042, 31.0315, 131.7315, 1450,    152.0,  20.5430,  34.8796,3,  34.8759,3,    194.0,3,     2.30,3,     0.03,3,     0.15,3
    49SU9409_2,  PR17,SU5022,  3,     12,   -999,5,19941005,0042, 31.0315, 131.7315, 1450,    202.5,  15.6520,  34.6153,3,  34.6168,3,    174.0,3,    10.60,3,     0.01,3,     0.67,3
    49SU9409_2,  PR17,SU5022,  3,     11,   -999,5,19941005,0042, 31.0315, 131.7315, 1450,    252.3,  14.2550,  34.5562,3,  34.5553,3,    170.0,3,    13.10,3,     0.01,3,     0.83,3
    49SU9409_2,  PR17,SU5022,  3,     10,   -999,5,19941005,0042, 31.0315, 131.7315, 1450,    317.7,  11.9950,  34.4473,3,  34.4530,3,    158.0,3,    17.50,3,     0.01,3,     1.13,3
    49SU9409_2,  PR17,SU5023,  2,      9,   -999,5,19941005,0230, 31.1608, 131.5138,  320,     10.5,  25.6310,  34.3437,3,-999.0000,9,    208.0,3,     0.00,3,     0.00,3,     0.01,3
    49SU9409_2,  PR17,SU5023,  2,      8,   -999,5,19941005,0230, 31.1608, 131.5138,  320,     25.0,  25.4990,  34.3326,3,-999.0000,9,    211.0,3,     0.00,3,     0.00,3,     0.02,3
    49SU9409_2,  PR17,SU5023,  2,      7,   -999,5,19941005,0230, 31.1608, 131.5138,  320,     52.0,  24.0610,  34.4524,3,-999.0000,9,    193.0,3,     2.00,3,     0.16,3,     0.14,3
    49SU9409_2,  PR17,SU5023,  2,      6,   -999,5,19941005,0230, 31.1608, 131.5138,  320,     76.4,  22.3030,  34.5885,3,-999.0000,9,    187.0,3,     3.40,3,     0.03,3,     0.22,3
    49SU9409_2,  PR17,SU5023,  2,      5,   -999,5,19941005,0230, 31.1608, 131.5138,  320,    102.3,  20.6900,  34.6538,3,-999.0000,9,    184.0,3,     4.80,3,     0.01,3,     0.32,3
    49SU9409_2,  PR17,SU5023,  2,      4,   -999,5,19941005,0230, 31.1608, 131.5138,  320,    125.3,  19.9020,  34.8309,3,-999.0000,9,   -999.0,5,  -999.00,5,  -999.00,5,  -999.00,5
    49SU9409_2,  PR17,SU5023,  2,      3,   -999,5,19941005,0230, 31.1608, 131.5138,  320,    152.1,  18.5520,  34.7445,3,-999.0000,9,    184.0,3,     5.80,3,     0.00,3,     0.38,3
    49SU9409_2,  PR17,SU5023,  2,      2,   -999,5,19941005,0230, 31.1608, 131.5138,  320,    201.8,  14.7390,  34.6030,3,-999.0000,9,    180.0,3,    10.90,3,     0.00,3,     0.71,3
    49SU9409_2,  PR17,SU5023,  2,      1,   -999,5,19941005,0230, 31.1608, 131.5138,  320,    260.5,  13.0120,  34.4965,3,-999.0000,9,    169.0,3,    15.10,3,     0.00,3,     1.00,3