BOTTLE,20010418WHPSIOKJU
#code : jjward hyd_to_exchange.pl 
#original files copied from HTML directory: 20010417
#original HYD file: pr17_ph2.txt   Wed Apr 18 13:17:48 2001
#original SUM file: pr17_psu2.txt   Wed Apr 18 13:12:56 2001
EXPOCODE,SECT_ID,STNNBR,CASTNO,SAMPNO,BTLNBR,BTLNBR_FLAG_W,DATE,TIME,LATITUDE,LONGITUDE,DEPTH,CTDPRS,CTDTMP,CTDSAL,CTDSAL_FLAG_W,SALNTY,SALNTY_FLAG_W,OXYGEN,OXYGEN_FLAG_W,NITRAT,NITRAT_FLAG_W,NITRIT,NITRIT_FLAG_W,PHSPHT,PHSPHT_FLAG_W
,,,,,,,,,,,,DBAR,DEG C,PSS-78,,PSS-78,,UMOL/KG,,UMOL/KG,,UMOL/KG,,UMOL/KG,
    49SU9409_2,  PR17,SU5018,  2,      9,   -999,5,19941003,2127, 29.5067, 133.5168, 2730,   1009.5,   4.5070,  34.2422,3,-999.0000,9,     70.0,3,    38.70,3,     0.00,3,     2.67,3
    49SU9409_2,  PR17,SU5018,  2,      8,   -999,5,19941003,2127, 29.5067, 133.5168, 2730,   1212.1,   3.5930,  34.3732,3,-999.0000,9,     58.0,3,    41.20,3,     0.00,3,     2.83,3
    49SU9409_2,  PR17,SU5018,  2,      7,   -999,5,19941003,2127, 29.5067, 133.5168, 2730,   1413.9,   3.1230,  34.4577,3,-999.0000,9,     67.0,3,    41.20,3,     0.00,3,  -999.00,5
    49SU9409_2,  PR17,SU5018,  2,      6,   -999,5,19941003,2127, 29.5067, 133.5168, 2730,   1616.4,   2.5880,  34.5241,3,-999.0000,9,     84.0,3,    40.30,3,     0.00,3,  -999.00,5
    49SU9409_2,  PR17,SU5018,  2,      5,   -999,5,19941003,2127, 29.5067, 133.5168, 2730,   1819.7,   2.2870,  34.5648,3,-999.0000,9,     97.0,3,    40.20,3,     0.00,3,  -999.00,5
    49SU9409_2,  PR17,SU5018,  2,      4,   -999,5,19941003,2127, 29.5067, 133.5168, 2730,   2023.0,   2.0960,  34.5944,3,-999.0000,9,    109.0,3,    39.30,3,     0.00,3,  -999.00,5
    49SU9409_2,  PR17,SU5018,  2,      3,   -999,5,19941003,2127, 29.5067, 133.5168, 2730,   2226.7,   1.9350,  34.6165,3,-999.0000,9,    122.0,3,    39.00,3,     0.00,3,  -999.00,5
    49SU9409_2,  PR17,SU5018,  2,      2,   -999,5,19941003,2127, 29.5067, 133.5168, 2730,   2429.6,   1.8120,  34.6340,3,-999.0000,9,    134.0,3,    38.40,3,     0.00,3,  -999.00,5
    49SU9409_2,  PR17,SU5018,  2,      1,   -999,5,19941003,2127, 29.5067, 133.5168, 2730,   2645.5,   1.7070,  34.6472,3,-999.0000,9,    137.0,3,    35.20,3,     0.00,3,  -999.00,5
    49SU9409_2,  PR17,SU5018,  3,     15,   -999,5,19941003,2224, 29.5190, 133.5287, 2690,    403.5,  15.9780,  34.6977,3,-999.0000,9,    196.0,3,     6.90,3,     0.00,3,     0.39,3
    49SU9409_2,  PR17,SU5018,  3,     14,   -999,5,19941003,2224, 29.5190, 133.5287, 2690,    503.9,  13.7300,  34.5214,3,-999.0000,9,    186.0,3,    11.40,3,     0.00,3,     0.67,3
    49SU9409_2,  PR17,SU5018,  3,     13,   -999,5,19941003,2224, 29.5190, 133.5287, 2690,    605.3,  10.9450,  34.3248,3,-999.0000,9,    173.0,3,    17.60,3,     0.00,3,     1.12,3
    49SU9409_2,  PR17,SU5018,  3,     12,   -999,5,19941003,2224, 29.5190, 133.5287, 2690,    706.4,   8.4610,  34.1690,3,-999.0000,9,    160.0,3,    23.60,3,     0.00,3,     1.57,3
    49SU9409_2,  PR17,SU5018,  3,     11,   -999,5,19941003,2224, 29.5190, 133.5287, 2690,    806.7,   6.7220,  34.1232,3,-999.0000,9,    128.0,3,    30.00,3,     0.00,3,     2.03,3
    49SU9409_2,  PR17,SU5018,  3,     10,   -999,5,19941003,2224, 29.5190, 133.5287, 2690,    908.7,   5.3780,  34.1379,3,-999.0000,9,    100.0,3,    34.90,3,     0.00,3,     2.40,3
    49SU9409_2,  PR17,SU5018,  4,     25,   -999,5,19941003,2246, 29.5237, 133.5345, 2670,      9.7,  26.0170,  34.7933,3,-999.0000,9,    206.0,3,     0.00,3,     0.00,3,     0.00,3
    49SU9409_2,  PR17,SU5018,  4,     24,   -999,5,19941003,2246, 29.5237, 133.5345, 2670,     25.1,  26.0190,  34.7943,3,-999.0000,9,    206.0,3,     0.00,3,     0.00,3,     0.00,3
    49SU9409_2,  PR17,SU5018,  4,     23,   -999,5,19941003,2246, 29.5237, 133.5345, 2670,     49.8,  26.0050,  34.7958,3,-999.0000,9,    207.0,3,     0.00,3,     0.00,3,     0.00,3
    49SU9409_2,  PR17,SU5018,  4,     22,   -999,5,19941003,2246, 29.5237, 133.5345, 2670,     74.6,  21.6230,  34.9728,3,-999.0000,9,    226.0,3,     0.00,3,     0.00,3,     0.00,3
    49SU9409_2,  PR17,SU5018,  4,     21,   -999,5,19941003,2246, 29.5237, 133.5345, 2670,    100.4,  20.5720,  34.9993,3,-999.0000,9,    218.0,3,     0.00,3,     0.03,3,     0.00,3
    49SU9409_2,  PR17,SU5018,  4,     20,   -999,5,19941003,2246, 29.5237, 133.5345, 2670,    126.7,  19.8080,  34.9791,3,-999.0000,9,    211.0,3,     0.30,3,     0.06,3,     0.03,3
    49SU9409_2,  PR17,SU5018,  4,     19,   -999,5,19941003,2246, 29.5237, 133.5345, 2670,    151.1,  19.2500,  34.9611,3,-999.0000,9,    210.0,3,     1.40,3,     0.02,3,     0.08,3
    49SU9409_2,  PR17,SU5018,  4,     18,   -999,5,19941003,2246, 29.5237, 133.5345, 2670,    201.3,  18.7130,  34.8934,3,-999.0000,9,    214.0,3,     1.70,3,     0.01,3,     0.09,3
    49SU9409_2,  PR17,SU5018,  4,     17,   -999,5,19941003,2246, 29.5237, 133.5345, 2670,    252.0,  18.1880,  34.9348,3,-999.0000,9,    213.0,3,     2.30,3,     0.01,3,     0.13,3
    49SU9409_2,  PR17,SU5018,  4,     16,   -999,5,19941003,2246, 29.5237, 133.5345, 2670,    301.4,  17.6440,  34.8364,3,-999.0000,9,    209.0,3,     3.40,3,     0.01,3,     0.19,3
    49SU9409_2,  PR17,SU5019,  2,     10,   -999,5,19941004,0514, 29.9608, 132.9587, 3820,   1820.5,   2.2970,  34.5672,3,  34.5686,3,     97.0,3,    40.20,3,     0.00,3,     2.67,3
    49SU9409_2,  PR17,SU5019,  2,      9,   -999,5,19941004,0514, 29.9608, 132.9587, 3820,   2023.3,   2.1270,  34.5919,3,  34.5895,3,    107.0,3,    39.70,3,     0.00,3,     2.65,3
    49SU9409_2,  PR17,SU5019,  2,      8,   -999,5,19941004,0514, 29.9608, 132.9587, 3820,   2226.8,   1.9560,  34.6149,3,  34.6135,3,    118.0,3,    39.10,3,     0.00,3,     2.60,3
    49SU9409_2,  PR17,SU5019,  2,      7,   -999,5,19941004,0514, 29.9608, 132.9587, 3820,   2429.8,   1.8090,  34.6346,3,  34.6343,3,    127.0,3,    38.70,3,     0.00,3,     2.54,3
    49SU9409_2,  PR17,SU5019,  2,      6,   -999,5,19941004,0514, 29.9608, 132.9587, 3820,   2634.3,   1.7330,  34.6493,3,  34.6434,3,    133.0,3,    38.20,3,     0.00,3,     2.49,3
    49SU9409_2,  PR17,SU5019,  2,      5,   -999,5,19941004,0514, 29.9608, 132.9587, 3820,   2838.4,   1.6480,  34.6592,3,  34.6536,3,    139.0,3,    37.50,3,     0.00,3,  -999.00,5
    49SU9409_2,  PR17,SU5019,  2,      4,   -999,5,19941004,0514, 29.9608, 132.9587, 3820,   3043.1,   1.6040,  34.6659,3,  34.6772,3,    143.0,3,    37.50,3,     0.00,3,    24.21,3
    49SU9409_2,  PR17,SU5019,  2,      3,   -999,5,19941004,0514, 29.9608, 132.9587, 3820,   3246.8,   1.5680,  34.6720,3,  34.6711,3,    146.0,3,    37.50,3,     0.00,3,    24.21,3
    49SU9409_2,  PR17,SU5019,  2,      2,   -999,5,19941004,0514, 29.9608, 132.9587, 3820,   3450.5,   1.5380,  34.6781,3,  34.6751,3,    151.0,3,    37.30,3,     0.00,3,    23.92,3
    49SU9409_2,  PR17,SU5019,  2,      1,   -999,5,19941004,0514, 29.9608, 132.9587, 3820,   3680.0,   1.5430,  34.6789,3,  34.6812,3,    153.0,3,    37.00,3,     0.00,3,  -999.00,5
    49SU9409_2,  PR17,SU5019,  3,     20,   -999,5,19941004,0644, 29.9615, 132.9670, 3790,    402.7,  15.3050,  34.6479,3,  34.6448,3,    188.0,3,     8.80,3,     0.00,3,     0.52,3
    49SU9409_2,  PR17,SU5019,  3,     19,   -999,5,19941004,0644, 29.9615, 132.9670, 3790,    503.0,  13.1150,  34.4891,3,  34.4850,3,    176.0,3,    13.60,3,     0.00,3,     0.85,3
    49SU9409_2,  PR17,SU5019,  3,     18,   -999,5,19941004,0644, 29.9615, 132.9670, 3790,    605.2,  10.2170,  34.3029,3,  34.3003,3,    162.0,3,    20.20,3,     0.00,3,     1.31,3
    49SU9409_2,  PR17,SU5019,  3,     17,   -999,5,19941004,0644, 29.9615, 132.9670, 3790,    705.7,   7.8000,  34.1916,3,  34.1903,3,    136.0,3,    27.10,3,     0.00,3,     1.82,3
    49SU9409_2,  PR17,SU5019,  3,     16,   -999,5,19941004,0644, 29.9615, 132.9670, 3790,    807.0,   6.0570,  34.1670,3,  34.1670,3,    106.0,3,    33.20,3,     0.00,3,     2.25,3
    49SU9409_2,  PR17,SU5019,  3,     15,   -999,5,19941004,0644, 29.9615, 132.9670, 3790,    908.4,   5.0960,  34.2344,3,  34.2445,3,     86.0,3,    36.60,3,     0.00,3,     2.49,3
    49SU9409_2,  PR17,SU5019,  3,     14,   -999,5,19941004,0644, 29.9615, 132.9670, 3790,   1008.5,   4.3040,  34.2908,3,  34.2883,3,     67.0,3,    39.80,3,     0.00,3,     2.72,3
    49SU9409_2,  PR17,SU5019,  3,     13,   -999,5,19941004,0644, 29.9615, 132.9670, 3790,   1211.2,   3.3530,  34.4365,3,  34.4379,3,     69.0,3,    41.30,3,     0.00,3,     2.81,3
    49SU9409_2,  PR17,SU5019,  3,     12,   -999,5,19941004,0644, 29.9615, 132.9670, 3790,   1414.0,   2.8860,  34.4920,3,  34.4911,3,     76.0,3,    41.20,3,     0.00,3,     2.78,3
    49SU9409_2,  PR17,SU5019,  3,     11,   -999,5,19941004,0644, 29.9615, 132.9670, 3790,   1618.2,   2.5570,  34.5318,3,  34.5326,3,     86.0,3,    40.80,3,     0.00,3,     2.73,3
    49SU9409_2,  PR17,SU5019,  4,     30,   -999,5,19941004,0726, 29.9625, 132.9688, 3790,      9.6,  26.6030,  34.7596,3,  34.7589,3,    206.0,3,     0.00,3,     0.00,3,     0.01,3
    49SU9409_2,  PR17,SU5019,  4,     29,   -999,5,19941004,0726, 29.9625, 132.9688, 3790,     25.3,  26.4850,  34.7767,3,  34.7721,3,    203.0,3,     0.00,3,     0.00,3,     0.00,3
    49SU9409_2,  PR17,SU5019,  4,     28,   -999,5,19941004,0726, 29.9625, 132.9688, 3790,     50.7,  22.1810,  34.9795,3,  34.9760,3,    228.0,3,     0.00,3,     0.00,3,     0.00,3
    49SU9409_2,  PR17,SU5019,  4,     27,   -999,5,19941004,0726, 29.9625, 132.9688, 3790,     75.6,  20.9950,  34.9680,3,  34.9649,3,    212.0,3,     0.30,3,     0.06,3,     0.04,3
    49SU9409_2,  PR17,SU5019,  4,     26,   -999,5,19941004,0726, 29.9625, 132.9688, 3790,    100.0,  20.2570,  34.9544,3,  34.9517,3,    206.0,3,     1.10,3,     0.06,3,     0.08,3
    49SU9409_2,  PR17,SU5019,  4,     25,   -999,5,19941004,0726, 29.9625, 132.9688, 3790,    125.7,  19.7510,  34.9439,3,  34.9403,3,    209.0,3,     1.10,3,     0.03,3,     0.08,3
    49SU9409_2,  PR17,SU5019,  4,     24,   -999,5,19941004,0726, 29.9625, 132.9688, 3790,    151.4,  19.1110,  34.9137,3,  34.9129,3,    203.0,3,     2.00,3,     0.02,3,     0.13,3
    49SU9409_2,  PR17,SU5019,  4,     23,   -999,5,19941004,0726, 29.9625, 132.9688, 3790,    201.6,  18.3870,  34.8972,3,  34.8960,3,    211.0,3,     2.20,3,     0.01,3,     0.14,3
    49SU9409_2,  PR17,SU5019,  4,     22,   -999,5,19941004,0726, 29.9625, 132.9688, 3790,    251.9,  17.4860,  34.8207,3,  34.8201,3,    206.0,3,     4.00,3,     0.01,3,     0.23,3
    49SU9409_2,  PR17,SU5019,  4,     21,   -999,5,19941004,0726, 29.9625, 132.9688, 3790,    304.0,  17.0810,  34.7877,3,  34.7871,3,    204.0,3,     4.80,3,     0.00,3,     0.27,3
    49SU9409_2,  PR17,SU5020,  2,     11,   -999,5,19941004,1146, 30.2855, 132.5645, 4000,   1820.3,   2.2590,  34.5735,3,-999.0000,9,    100.0,3,    39.80,3,     0.00,3,     2.75,3
    49SU9409_2,  PR17,SU5020,  2,     10,   -999,5,19941004,1146, 30.2855, 132.5645, 4000,   2024.5,   2.0660,  34.6012,3,-999.0000,9,    113.0,3,    39.20,3,     0.00,3,     2.70,3
    49SU9409_2,  PR17,SU5020,  2,      9,   -999,5,19941004,1146, 30.2855, 132.5645, 4000,   2227.2,   1.9450,  34.6203,3,-999.0000,9,    118.0,3,    38.70,3,     0.00,3,     2.66,3
    49SU9409_2,  PR17,SU5020,  2,      8,   -999,5,19941004,1146, 30.2855, 132.5645, 4000,   2431.5,   1.8210,  34.6358,3,-999.0000,9,    126.0,3,    38.50,3,     0.00,3,     2.63,3
    49SU9409_2,  PR17,SU5020,  2,      7,   -999,5,19941004,1146, 30.2855, 132.5645, 4000,   2634.4,   1.7180,  34.6493,3,-999.0000,9,    132.0,3,    38.10,3,     0.00,3,     2.59,3
    49SU9409_2,  PR17,SU5020,  2,      6,   -999,5,19941004,1146, 30.2855, 132.5645, 4000,   2838.6,   1.6340,  34.6605,3,-999.0000,9,    139.0,3,    37.60,3,     0.00,3,     2.57,3
    49SU9409_2,  PR17,SU5020,  2,      5,   -999,5,19941004,1146, 30.2855, 132.5645, 4000,   3042.4,   1.5870,  34.6683,3,-999.0000,9,    146.0,3,    37.20,3,     0.00,3,     2.51,3
    49SU9409_2,  PR17,SU5020,  2,      4,   -999,5,19941004,1146, 30.2855, 132.5645, 4000,   3246.6,   1.5360,  34.6754,3,-999.0000,9,    151.0,3,    37.10,3,     0.00,3,     2.49,3
    49SU9409_2,  PR17,SU5020,  2,      3,   -999,5,19941004,1146, 30.2855, 132.5645, 4000,   3451.1,   1.5320,  34.6780,3,-999.0000,9,    153.0,3,    37.00,3,     0.00,3,     2.48,3
    49SU9409_2,  PR17,SU5020,  2,      2,   -999,5,19941004,1146, 30.2855, 132.5645, 4000,   3657.0,   1.5360,  34.6791,3,-999.0000,9,    153.0,3,    36.90,3,     0.00,3,     2.49,3
    49SU9409_2,  PR17,SU5020,  2,      1,   -999,5,19941004,1146, 30.2855, 132.5645, 4000,   3884.7,   1.5460,  34.6807,3,-999.0000,9,    153.0,3,    36.60,3,     0.00,3,     2.46,3
    49SU9409_2,  PR17,SU5020,  3,     21,   -999,5,19941004,1308, 30.2870, 132.5788, 4070,    403.5,  14.2030,  34.5651,3,-999.0000,9,    184.0,3,    11.10,3,     0.00,3,     0.74,3
    49SU9409_2,  PR17,SU5020,  3,     20,   -999,5,19941004,1308, 30.2870, 132.5788, 4070,    504.4,  11.6510,  34.3941,3,-999.0000,9,    172.0,3,    16.70,3,     0.00,3,     1.14,3
    49SU9409_2,  PR17,SU5020,  3,     19,   -999,5,19941004,1308, 30.2870, 132.5788, 4070,    605.0,   8.8300,  34.2448,3,-999.0000,9,    146.0,3,    24.20,3,     0.00,3,     1.69,3
    49SU9409_2,  PR17,SU5020,  3,     18,   -999,5,19941004,1308, 30.2870, 132.5788, 4070,    706.8,   6.9550,  34.1932,3,-999.0000,9,    122.0,3,    30.30,3,     0.00,3,     2.12,3
    49SU9409_2,  PR17,SU5020,  3,     17,   -999,5,19941004,1308, 30.2870, 132.5788, 4070,    806.4,   5.4780,  34.2125,3,-999.0000,9,     91.0,3,    35.60,3,     0.00,3,     2.51,3
    49SU9409_2,  PR17,SU5020,  3,     16,   -999,5,19941004,1308, 30.2870, 132.5788, 4070,    908.5,   4.3920,  34.2791,3,-999.0000,9,     71.0,3,    39.10,3,     0.00,3,     2.74,3
    49SU9409_2,  PR17,SU5020,  3,     15,   -999,5,19941004,1308, 30.2870, 132.5788, 4070,   1008.7,   3.9070,  34.3401,3,-999.0000,9,     61.0,3,    40.70,3,     0.00,3,     2.85,3
    49SU9409_2,  PR17,SU5020,  3,     14,   -999,5,19941004,1308, 30.2870, 132.5788, 4070,   1212.6,   3.2950,  34.4428,3,-999.0000,9,     70.0,3,    41.10,3,     0.00,3,     2.87,3
    49SU9409_2,  PR17,SU5020,  3,     13,   -999,5,19941004,1308, 30.2870, 132.5788, 4070,   1415.5,   2.8300,  34.5008,3,-999.0000,9,     78.0,3,    40.90,3,     0.00,3,     2.86,3
    49SU9409_2,  PR17,SU5020,  3,     12,   -999,5,19941004,1308, 30.2870, 132.5788, 4070,   1620.5,   2.5070,  34.5412,3,-999.0000,9,     91.0,3,    40.40,3,     0.00,3,     2.80,3
    49SU9409_2,  PR17,SU5020,  4,     31,   -999,5,19941004,1345, 30.2885, 132.5868, 4050,     10.9,  26.9060,  34.7368,3,-999.0000,9,    203.0,3,     0.00,3,     0.00,3,     0.00,3
    49SU9409_2,  PR17,SU5020,  4,     30,   -999,5,19941004,1345, 30.2885, 132.5868, 4050,     25.1,  26.9000,  34.7356,3,-999.0000,9,    203.0,3,     0.00,3,     0.00,3,     0.00,3
    49SU9409_2,  PR17,SU5020,  4,     29,   -999,5,19941004,1345, 30.2885, 132.5868, 4050,     51.1,  26.8930,  34.7365,3,-999.0000,9,    204.0,3,     0.00,3,     0.00,3,     0.00,3
    49SU9409_2,  PR17,SU5020,  4,     28,   -999,5,19941004,1345, 30.2885, 132.5868, 4050,     75.8,  21.3270,  34.8896,3,-999.0000,9,    228.0,3,     0.00,3,     0.00,3,     0.01,3
    49SU9409_2,  PR17,SU5020,  4,     27,   -999,5,19941004,1345, 30.2885, 132.5868, 4050,    101.9,  20.2390,  34.8994,3,-999.0000,9,    221.0,3,     0.00,3,     0.05,3,     0.03,3
    49SU9409_2,  PR17,SU5020,  4,     26,   -999,5,19941004,1345, 30.2885, 132.5868, 4050,    126.4,  19.4080,  34.8965,3,-999.0000,9,    208.0,3,     1.80,3,     0.04,3,     0.13,3
    49SU9409_2,  PR17,SU5020,  4,     25,   -999,5,19941004,1345, 30.2885, 132.5868, 4050,    151.8,  18.8670,  34.8874,3,-999.0000,9,    203.0,3,     2.60,3,     0.02,3,     0.18,3
    49SU9409_2,  PR17,SU5020,  4,     24,   -999,5,19941004,1345, 30.2885, 132.5868, 4050,    202.1,  18.3420,  34.8776,3,-999.0000,9,    209.0,3,     2.70,3,     0.01,3,     0.19,3
    49SU9409_2,  PR17,SU5020,  4,     23,   -999,5,19941004,1345, 30.2885, 132.5868, 4050,    253.2,  17.4010,  34.7948,3,-999.0000,9,    201.0,3,     4.80,3,     0.01,3,     0.31,3
    49SU9409_2,  PR17,SU5020,  4,     22,   -999,5,19941004,1345, 30.2885, 132.5868, 4050,    301.9,  16.4330,  34.7288,3,-999.0000,9,    195.0,3,     6.60,3,     0.01,3,     0.43,3
    49SU9409_2,  PR17,SU5021,  2,     11,   -999,5,19941004,1832, 30.6122, 132.1653, 2490,    605.2,   7.5200,  34.2248,3,-999.0000,9,    124.0,3,    28.70,3,     0.00,3,     1.93,3
    49SU9409_2,  PR17,SU5021,  2,     10,   -999,5,19941004,1832, 30.6122, 132.1653, 2490,    706.1,   5.8330,  34.2251,3,-999.0000,9,     93.0,3,    34.80,3,     0.00,3,     2.37,3
    49SU9409_2,  PR17,SU5021,  2,      9,   -999,5,19941004,1832, 30.6122, 132.1653, 2490,    807.0,   4.8600,  34.2770,3,-999.0000,9,     77.0,3,    37.90,3,     0.00,3,     2.58,3
    49SU9409_2,  PR17,SU5021,  2,      8,   -999,5,19941004,1832, 30.6122, 132.1653, 2490,    908.8,   4.2580,  34.3530,3,-999.0000,9,     73.0,3,    39.50,3,     0.00,3,     2.71,3
    49SU9409_2,  PR17,SU5021,  2,      7,   -999,5,19941004,1832, 30.6122, 132.1653, 2490,   1009.5,   3.4630,  34.4234,3,-999.0000,9,     70.0,3,    41.10,3,     0.00,3,     2.80,3
    49SU9409_2,  PR17,SU5021,  2,      6,   -999,5,19941004,1832, 30.6122, 132.1653, 2490,   1211.7,   2.9660,  34.4810,3,-999.0000,9,     74.0,3,    41.20,3,     0.00,3,     2.79,3
    49SU9409_2,  PR17,SU5021,  2,      5,   -999,5,19941004,1832, 30.6122, 132.1653, 2490,   1414.5,   2.6480,  34.5220,3,-999.0000,9,     84.0,3,    40.70,3,     0.00,3,     2.77,3
    49SU9409_2,  PR17,SU5021,  2,      4,   -999,5,19941004,1832, 30.6122, 132.1653, 2490,   1617.1,   2.3830,  34.5552,3,-999.0000,9,     93.0,3,    40.50,3,     0.00,3,     2.73,3
    49SU9409_2,  PR17,SU5021,  2,      3,   -999,5,19941004,1832, 30.6122, 132.1653, 2490,   1820.1,   2.1740,  34.5834,3,-999.0000,9,    102.0,3,    40.00,3,     0.00,3,     2.67,3
    49SU9409_2,  PR17,SU5021,  2,      2,   -999,5,19941004,1832, 30.6122, 132.1653, 2490,   2023.5,   2.0250,  34.6037,3,-999.0000,9,    113.0,3,    39.40,3,     0.00,3,     2.62,3
    49SU9409_2,  PR17,SU5021,  2,      1,   -999,5,19941004,1832, 30.6122, 132.1653, 2490,   2247.6,   1.9100,  34.6207,3,-999.0000,9,    119.0,3,    38.70,3,     0.00,3,     2.57,3