BOTTLE,20020809WHPSIObren
EXPOCODE,SECT_ID,STNNBR,CASTNO,SAMPNO,BTLNBR,BTLNBR_FLAG_W,DATE,TIME,LATITUDE,LONGITUDE,DEPTH,CTDPRS,CTDTMP,CTDSAL,CTDSAL_FLAG_W,SALNTY,SALNTY_FLAG_W,CTDOXY,CTDOXY_FLAG_W,OXYGEN,OXYGEN_FLAG_W,SILCAT,SILCAT_FLAG_W,NO2+NO3,NO2+NO3_FLAG_W,PHSPHT,PHSPHT_FLAG_W,CTDRAW,REVTMP,REVPRS,THETA
,,,,,,,,,,,,DBAR,ITS-90,PSS-78,,PSS-78,,UMOL/KG,,UMOL/KG,,UMOL/KG,,UMOL/KG,,UMOL/KG,,,DEG C,DBAR,ITS-90
     32MW053_1,  PRS2,     2, 13,     23,     30,2,19940310,0200, 22.7382,-157.9923, 4740,      5.1,  23.7781,  35.0891,2,  35.0898,2,    213.5,1,   -999.0,9,  -999.00,9,  -999.00,9,  -999.00,9,      5,-999.000,  -999.0, 23.7770
     32MW053_1,  PRS2,     2, 13,     22,     22,2,19940310,0200, 22.7382,-157.9923, 4740,     10.2,  23.7476,  35.0877,2,  35.0846,2,    213.6,1,   -999.0,9,  -999.00,9,  -999.00,9,  -999.00,9,     10,-999.000,  -999.0, 23.7455
     32MW053_1,  PRS2,     2, 13,     21,     21,2,19940310,0200, 22.7382,-157.9923, 4740,     15.1,  23.6318,  35.0811,2,  35.0760,2,    213.5,1,   -999.0,9,  -999.00,9,  -999.00,9,  -999.00,9,     15,-999.000,  -999.0, 23.6287
     32MW053_1,  PRS2,     2, 13,     20,     20,2,19940310,0200, 22.7382,-157.9923, 4740,     20.3,  23.3790,  35.0860,2,  35.0841,2,    213.2,1,   -999.0,9,  -999.00,9,  -999.00,9,  -999.00,9,     20,-999.000,  -999.0, 23.3748
     32MW053_1,  PRS2,     2, 13,     19,     19,2,19940310,0200, 22.7382,-157.9923, 4740,     25.2,  23.1225,  35.1268,2,  35.1299,2,    214.6,1,   -999.0,9,  -999.00,9,  -999.00,9,  -999.00,9,     26,-999.000,  -999.0, 23.1174
     32MW053_1,  PRS2,     2, 13,     18,     18,2,19940310,0200, 22.7382,-157.9923, 4740,     30.1,  22.9111,  35.1573,2,  35.1571,2,    214.4,1,   -999.0,9,  -999.00,9,  -999.00,9,  -999.00,9,     29,-999.000,  -999.0, 22.9050
     32MW053_1,  PRS2,     2, 13,     17,     17,2,19940310,0200, 22.7382,-157.9923, 4740,     34.9,  22.8399,  35.1656,2,  35.1736,2,    216.3,1,   -999.0,9,  -999.00,9,  -999.00,9,  -999.00,9,     35,-999.000,  -999.0, 22.8328
     32MW053_1,  PRS2,     2, 13,     16,     16,2,19940310,0200, 22.7382,-157.9923, 4740,     39.8,  22.7573,  35.1720,2,  35.1689,2,    217.3,1,   -999.0,9,  -999.00,9,  -999.00,9,  -999.00,9,     40,-999.000,  -999.0, 22.7492
     32MW053_1,  PRS2,     2, 13,     15,     15,2,19940310,0200, 22.7382,-157.9923, 4740,     45.0,  22.6065,  35.1829,2,  35.1790,2,    217.5,1,   -999.0,9,  -999.00,9,  -999.00,9,  -999.00,9,     45,-999.000,  -999.0, 22.5975
     32MW053_1,  PRS2,     2, 13,     14,     14,2,19940310,0200, 22.7382,-157.9923, 4740,     50.8,  22.5657,  35.1873,2,  35.1910,2,    217.3,1,   -999.0,9,  -999.00,9,  -999.00,9,  -999.00,9,     51,-999.000,  -999.0, 22.5555
     32MW053_1,  PRS2,     2, 13,     13,     13,2,19940310,0200, 22.7382,-157.9923, 4740,     54.3,  22.5470,  35.1886,2,  35.1868,2,    217.5,1,   -999.0,9,  -999.00,9,  -999.00,9,  -999.00,9,     54,-999.000,  -999.0, 22.5361
     32MW053_1,  PRS2,     2, 13,     12,     12,2,19940310,0200, 22.7382,-157.9923, 4740,     64.2,  22.4144,  35.2013,2,  35.1957,2,    216.7,1,   -999.0,9,  -999.00,9,  -999.00,9,  -999.00,9,     64,-999.000,  -999.0, 22.4015
     32MW053_1,  PRS2,     2, 13,     11,     11,2,19940310,0200, 22.7382,-157.9923, 4740,     74.8,  22.3256,  35.2048,2,  35.2060,2,    219.6,1,   -999.0,9,  -999.00,9,  -999.00,9,  -999.00,9,     74,-999.000,  -999.0, 22.3106
     32MW053_1,  PRS2,     2, 13,     10,     32,2,19940310,0200, 22.7382,-157.9923, 4740,     85.0,  22.2543,  35.2104,2,  35.2079,2,    219.6,1,   -999.0,9,  -999.00,9,  -999.00,9,  -999.00,9,     85,-999.000,  -999.0, 22.2374
     32MW053_1,  PRS2,     2, 13,      9,      3,2,19940310,0200, 22.7382,-157.9923, 4740,     94.9,  22.1864,  35.2188,2,  35.2186,2,    219.2,1,   -999.0,9,  -999.00,9,  -999.00,9,  -999.00,9,     95,-999.000,  -999.0, 22.1675
     32MW053_1,  PRS2,     2, 13,      8,     29,2,19940310,0200, 22.7382,-157.9923, 4740,    104.6,  22.1433,  35.2237,2,  35.2239,2,    217.3,1,   -999.0,9,  -999.00,9,  -999.00,9,  -999.00,9,    130,-999.000,  -999.0, 22.1225
     32MW053_1,  PRS2,     2, 13,      7,     28,2,19940310,0200, 22.7382,-157.9923, 4740,    115.7,  22.0855,  35.2390,2,  35.2414,2,    218.0,1,   -999.0,9,  -999.00,9,  -999.00,9,  -999.00,9,    115,-999.000,  -999.0, 22.0625
     32MW053_1,  PRS2,     2, 13,      6,      7,2,19940310,0200, 22.7382,-157.9923, 4740,    124.0,  22.0452,  35.2424,2,  35.2479,2,    217.9,1,   -999.0,9,  -999.00,9,  -999.00,9,  -999.00,9,    124,-999.000,  -999.0, 22.0206
     32MW053_1,  PRS2,     2, 13,      5,     23,2,19940310,0200, 22.7382,-157.9923, 4740,    150.0,  21.7377,  35.2708,2,  35.2548,3,    210.0,1,   -999.0,9,  -999.00,9,  -999.00,9,  -999.00,9,    150,-999.000,  -999.0, 21.7083
     32MW053_1,  PRS2,     2, 13,      4,     36,2,19940310,0200, 22.7382,-157.9923, 4740,    175.4,  21.0552,  35.2660,2,  35.2745,2,    202.7,1,   -999.0,9,  -999.00,9,  -999.00,9,  -999.00,9,    176,-999.000,  -999.0, 21.0215
     32MW053_1,  PRS2,     2, 13,      3,     35,2,19940310,0200, 22.7382,-157.9923, 4740,    251.0,  16.9928,  34.8170,2,  34.8151,2,    197.5,1,   -999.0,9,  -999.00,9,  -999.00,9,  -999.00,9,    251,-999.000,  -999.0, 16.9514
     32MW053_1,  PRS2,     2, 13,      2,     34,2,19940310,0200, 22.7382,-157.9923, 4740,    450.6,   8.5064,  34.0768,2,  34.0742,2,    154.0,1,   -999.0,9,  -999.00,9,  -999.00,9,  -999.00,9,    450,-999.000,  -999.0,  8.4590
     32MW053_1,  PRS2,     2, 13,      1,     33,2,19940310,0200, 22.7382,-157.9923, 4740,   1002.5,   4.2500,  34.4787,2,  34.5115,4,     40.8,1,   -999.0,9,  -999.00,9,  -999.00,9,  -999.00,9,   1003,-999.000,  -999.0,  4.1723
     32MW053_1,  PRS2,     2, 14,     10,     32,2,19940310,0458, 22.7045,-158.0362, 4745,      4.7,  23.7430,  35.0963,2,  35.0967,2,    213.3,1,   -999.0,9,  -999.00,9,  -999.00,9,  -999.00,9,      5,-999.000,  -999.0, 23.7421
     32MW053_1,  PRS2,     2, 14,      9,      3,2,19940310,0458, 22.7045,-158.0362, 4745,     24.8,  23.0688,  35.1321,2,  35.1291,2,    215.3,1,   -999.0,9,  -999.00,9,  -999.00,9,  -999.00,9,     25,-999.000,  -999.0, 23.0637
     32MW053_1,  PRS2,     2, 14,      8,     29,2,19940310,0458, 22.7045,-158.0362, 4745,     45.9,  22.6688,  35.1801,2,  35.1796,2,    215.2,1,   -999.0,9,  -999.00,9,  -999.00,9,  -999.00,9,     46,-999.000,  -999.0, 22.6595
     32MW053_1,  PRS2,     2, 14,      7,     28,2,19940310,0458, 22.7045,-158.0362, 4745,     75.5,  22.3429,  35.2020,2,  35.2036,2,    216.6,1,   -999.0,9,  -999.00,9,  -999.00,9,  -999.00,9,     75,-999.000,  -999.0, 22.3278
     32MW053_1,  PRS2,     2, 14,      6,      7,2,19940310,0458, 22.7045,-158.0362, 4745,    100.2,  22.2026,  35.2229,2,  35.2243,2,    215.3,1,   -999.0,9,  -999.00,9,  -999.00,9,  -999.00,9,    100,-999.000,  -999.0, 22.1826
     32MW053_1,  PRS2,     2, 14,      5,     23,2,19940310,0458, 22.7045,-158.0362, 4745,    125.3,  21.9996,  35.2392,2,  35.2442,2,    210.8,1,   -999.0,9,  -999.00,9,  -999.00,9,  -999.00,9,    125,-999.000,  -999.0, 21.9748
     32MW053_1,  PRS2,     2, 14,      4,     36,2,19940310,0458, 22.7045,-158.0362, 4745,    151.1,  21.5258,  35.2750,2,  35.2785,2,    203.0,1,   -999.0,9,  -999.00,9,  -999.00,9,  -999.00,9,    151,-999.000,  -999.0, 21.4964
     32MW053_1,  PRS2,     2, 14,      3,     35,2,19940310,0458, 22.7045,-158.0362, 4745,    176.2,  21.1489,  35.2827,2,  35.2863,2,    207.0,1,   -999.0,9,  -999.00,9,  -999.00,9,  -999.00,9,    176,-999.000,  -999.0, 21.1150
     32MW053_1,  PRS2,     2, 14,      2,     34,2,19940310,0458, 22.7045,-158.0362, 4745,    467.5,   8.2001,  34.0673,2,  34.0652,2,    150.9,1,   -999.0,9,  -999.00,9,  -999.00,9,  -999.00,9,    468,-999.000,  -999.0,  8.1520
     32MW053_1,  PRS2,     2, 14,      1,     33,2,19940310,0458, 22.7045,-158.0362, 4745,   1021.8,   4.0330,  34.4891,2,  34.4901,2,     41.2,1,   -999.0,9,  -999.00,9,  -999.00,9,  -999.00,9,   1021,-999.000,  -999.0,  3.9553
     32MW053_1,  PRS2,     2, 15,     16,     16,2,19940310,0757, 22.7478,-158.0030, 4730,      4.5,  23.7313,  35.0972,2,  35.0967,2,    212.5,1,   -999.0,9,  -999.00,9,  -999.00,9,  -999.00,9,      5,-999.000,  -999.0, 23.7304
     32MW053_1,  PRS2,     2, 15,     15,     15,2,19940310,0757, 22.7478,-158.0030, 4730,     24.4,  23.3830,  35.1049,2,  35.1311,4,    210.9,1,   -999.0,9,  -999.00,9,  -999.00,9,  -999.00,9,     25,-999.000,  -999.0, 23.3779
     32MW053_1,  PRS2,     2, 15,     14,     14,2,19940310,0757, 22.7478,-158.0030, 4730,     44.5,  23.0758,  35.1427,2,  35.1406,2,    214.7,1,   -999.0,9,  -999.00,9,  -999.00,9,  -999.00,9,     44,-999.000,  -999.0, 23.0667
     32MW053_1,  PRS2,     2, 15,     13,     13,2,19940310,0757, 22.7478,-158.0030, 4730,     74.7,  22.4532,  35.1957,2,  35.1937,2,    217.3,1,   -999.0,9,  -999.00,9,  -999.00,9,  -999.00,9,     76,-999.000,  -999.0, 22.4382
     32MW053_1,  PRS2,     2, 15,     12,     12,2,19940310,0757, 22.7478,-158.0030, 4730,     99.4,  22.2686,  35.2153,2,  35.2144,2,    216.8,1,   -999.0,9,  -999.00,9,  -999.00,9,  -999.00,9,    100,-999.000,  -999.0, 22.2487
     32MW053_1,  PRS2,     2, 15,     11,     11,2,19940310,0757, 22.7478,-158.0030, 4730,    124.6,  22.0596,  35.2237,2,  35.2245,2,    217.1,1,   -999.0,9,  -999.00,9,  -999.00,9,  -999.00,9,    125,-999.000,  -999.0, 22.0349
     32MW053_1,  PRS2,     2, 15,     10,     32,2,19940310,0757, 22.7478,-158.0030, 4730,    141.0,  21.9356,  35.2493,2,-999.0000,5,    214.6,1,   -999.0,9,  -999.00,9,  -999.00,9,  -999.00,9,    140,-999.000,  -999.0, 21.9078
     32MW053_1,  PRS2,     2, 15,      9,      3,2,19940310,0757, 22.7478,-158.0030, 4730,    145.1,  21.9203,  35.2531,2,  35.2536,2,    213.6,1,   -999.0,9,  -999.00,9,  -999.00,9,  -999.00,9,    144,-999.000,  -999.0, 21.8917
     32MW053_1,  PRS2,     2, 15,      8,     29,2,19940310,0757, 22.7478,-158.0030, 4730,    150.0,  21.8129,  35.2634,2,  35.2639,2,    213.5,1,   -999.0,9,  -999.00,9,  -999.00,9,  -999.00,9,    150,-999.000,  -999.0, 21.7834
     32MW053_1,  PRS2,     2, 15,      7,     28,2,19940310,0757, 22.7478,-158.0030, 4730,    154.6,  21.7666,  35.2667,2,  35.2658,2,    210.0,1,   -999.0,9,  -999.00,9,  -999.00,9,  -999.00,9,    155,-999.000,  -999.0, 21.7362
     32MW053_1,  PRS2,     2, 15,      6,      7,2,19940310,0757, 22.7478,-158.0030, 4730,    160.5,  21.6434,  35.2779,2,  35.2658,2,    211.5,1,   -999.0,9,  -999.00,9,  -999.00,9,  -999.00,9,    160,-999.000,  -999.0, 21.6119
     32MW053_1,  PRS2,     2, 15,      5,     23,2,19940310,0757, 22.7478,-158.0030, 4730,    176.1,  21.2997,  35.2795,2,  35.2830,2,    207.1,1,   -999.0,9,  -999.00,9,  -999.00,9,  -999.00,9,    177,-999.000,  -999.0, 21.2656
     32MW053_1,  PRS2,     2, 15,      4,     36,2,19940310,0757, 22.7478,-158.0030, 4730,    251.5,  17.5644,  34.8775,2,  34.8760,2,    196.7,1,   -999.0,9,  -999.00,9,  -999.00,9,  -999.00,9,    252,-999.000,  -999.0, 17.5220
     32MW053_1,  PRS2,     2, 15,      3,     35,2,19940310,0757, 22.7478,-158.0030, 4730,    503.1,   7.4598,  34.0790,2,  34.0752,2,    111.7,1,   -999.0,9,  -999.00,9,  -999.00,9,  -999.00,9,    502,-999.000,  -999.0,  7.4106
     32MW053_1,  PRS2,     2, 15,      2,     34,2,19940310,0757, 22.7478,-158.0030, 4730,    746.9,   4.9063,  34.3113,2,  34.3103,2,     34.4,1,   -999.0,9,  -999.00,9,  -999.00,9,  -999.00,9,    748,-999.000,  -999.0,  4.8462
     32MW053_1,  PRS2,     2, 15,      1,     33,2,19940310,0757, 22.7478,-158.0030, 4730,   1028.5,   4.0007,  34.4943,2,  34.4991,2,     41.5,1,   -999.0,9,  -999.00,9,  -999.00,9,  -999.00,9,   1030,-999.000,  -999.0,  3.9227
     32MW053_1,  PRS2,     2, 16,     10,     32,2,19940310,1058, 22.7482,-157.9962, 4742,      5.2,  23.6928,  35.0933,2,  35.1419,4,    213.1,1,   -999.0,9,  -999.00,9,  -999.00,9,  -999.00,9,      5,-999.000,  -999.0, 23.6917
     32MW053_1,  PRS2,     2, 16,      9,      3,2,19940310,1058, 22.7482,-157.9962, 4742,     24.0,  23.3207,  35.1148,2,  35.1161,2,    213.3,1,   -999.0,9,  -999.00,9,  -999.00,9,  -999.00,9,     24,-999.000,  -999.0, 23.3157
     32MW053_1,  PRS2,     2, 16,      8,     29,2,19940310,1058, 22.7482,-157.9962, 4742,     44.2,  22.7211,  35.1712,2,  35.1731,2,    213.0,1,   -999.0,9,  -999.00,9,  -999.00,9,  -999.00,9,     45,-999.000,  -999.0, 22.7122
     32MW053_1,  PRS2,     2, 16,      7,     28,2,19940310,1058, 22.7482,-157.9962, 4742,     74.3,  22.4230,  35.2033,2,  35.2032,2,    216.3,1,   -999.0,9,  -999.00,9,  -999.00,9,  -999.00,9,     75,-999.000,  -999.0, 22.4081
     32MW053_1,  PRS2,     2, 16,      6,      7,2,19940310,1058, 22.7482,-157.9962, 4742,     99.4,  22.1964,  35.2131,2,  35.2168,2,    216.5,1,   -999.0,9,  -999.00,9,  -999.00,9,  -999.00,9,    100,-999.000,  -999.0, 22.1766
     32MW053_1,  PRS2,     2, 16,      5,     23,2,19940310,1058, 22.7482,-157.9962, 4742,    124.5,  21.9071,  35.2517,2,  35.2550,2,    209.0,1,   -999.0,9,  -999.00,9,  -999.00,9,  -999.00,9,    125,-999.000,  -999.0, 21.8825
     32MW053_1,  PRS2,     2, 16,      4,     36,2,19940310,1058, 22.7482,-157.9962, 4742,    149.6,  21.3908,  35.2854,2,  35.2936,2,    206.3,1,   -999.0,9,  -999.00,9,  -999.00,9,  -999.00,9,    150,-999.000,  -999.0, 21.3617
     32MW053_1,  PRS2,     2, 16,      3,     35,2,19940310,1058, 22.7482,-157.9962, 4742,    175.5,  20.4595,  35.1743,2,  35.1727,2,    194.2,1,   -999.0,9,  -999.00,9,  -999.00,9,  -999.00,9,    175,-999.000,  -999.0, 20.4265
     32MW053_1,  PRS2,     2, 16,      2,     34,2,19940310,1058, 22.7482,-157.9962, 4742,    447.4,   8.6551,  34.0731,2,  34.0691,2,    161.7,1,   -999.0,9,  -999.00,9,  -999.00,9,  -999.00,9,    448,-999.000,  -999.0,  8.6076
     32MW053_1,  PRS2,     2, 16,      1,     33,2,19940310,1058, 22.7482,-157.9962, 4742,   1031.6,   4.1196,  34.4814,2,  34.4803,2,     39.8,1,   -999.0,9,  -999.00,9,  -999.00,9,  -999.00,9,   1031,-999.000,  -999.0,  4.0404
     32MW053_1,  PRS2,     2, 17,     24,     31,2,19940310,1357, 22.7545,-158.0028, 4723,      6.0,  23.6416,  35.0844,2,  35.0801,2,    212.2,1,   -999.0,9,  -999.00,9,  -999.00,9,  -999.00,9,      6,-999.000,  -999.0, 23.6404
     32MW053_1,  PRS2,     2, 17,     23,     30,2,19940310,1357, 22.7545,-158.0028, 4723,     10.9,  23.6470,  35.0871,2,  35.0833,2,    212.2,1,   -999.0,9,  -999.00,9,  -999.00,9,  -999.00,9,     11,-999.000,  -999.0, 23.6447
     32MW053_1,  PRS2,     2, 17,     22,     22,2,19940310,1357, 22.7545,-158.0028, 4723,     15.5,  23.5689,  35.0988,2,  35.0919,2,    212.6,1,   -999.0,9,  -999.00,9,  -999.00,9,  -999.00,9,     16,-999.000,  -999.0, 23.5657
     32MW053_1,  PRS2,     2, 17,     21,     21,2,19940310,1357, 22.7545,-158.0028, 4723,     15.6,  23.5709,  35.0990,2,  35.0919,2,    212.7,1,   -999.0,9,  -999.00,9,  -999.00,9,  -999.00,9,     15,-999.000,  -999.0, 23.5677
     32MW053_1,  PRS2,     2, 17,     20,     20,2,19940310,1357, 22.7545,-158.0028, 4723,     20.4,  23.3269,  35.1159,2,  35.1116,2,    212.5,1,   -999.0,9,  -999.00,9,  -999.00,9,  -999.00,9,     22,-999.000,  -999.0, 23.3227
     32MW053_1,  PRS2,     2, 17,     19,     19,2,19940310,1357, 22.7545,-158.0028, 4723,     25.7,  23.2830,  35.1232,2,  35.1183,2,    213.4,1,   -999.0,9,  -999.00,9,  -999.00,9,  -999.00,9,     26,-999.000,  -999.0, 23.2777
     32MW053_1,  PRS2,     2, 17,     18,     18,2,19940310,1357, 22.7545,-158.0028, 4723,     30.6,  23.2569,  35.1272,2,  35.1293,2,    214.1,1,   -999.0,9,  -999.00,9,  -999.00,9,  -999.00,9,     30,-999.000,  -999.0, 23.2506
     32MW053_1,  PRS2,     2, 17,     17,     17,2,19940310,1357, 22.7545,-158.0028, 4723,     35.6,  23.2178,  35.1316,2,  35.1295,2,    213.8,1,   -999.0,9,  -999.00,9,  -999.00,9,  -999.00,9,     35,-999.000,  -999.0, 23.2105
     32MW053_1,  PRS2,     2, 17,     16,     16,2,19940310,1357, 22.7545,-158.0028, 4723,     40.7,  23.1193,  35.1389,2,  35.1360,2,    215.3,1,   -999.0,9,  -999.00,9,  -999.00,9,  -999.00,9,     40,-999.000,  -999.0, 23.1110
     32MW053_1,  PRS2,     2, 17,     15,     15,2,19940310,1357, 22.7545,-158.0028, 4723,     46.1,  22.8631,  35.1515,2,  35.1482,2,    211.7,1,   -999.0,9,  -999.00,9,  -999.00,9,  -999.00,9,     46,-999.000,  -999.0, 22.8537
     32MW053_1,  PRS2,     2, 17,     14,     14,2,19940310,1357, 22.7545,-158.0028, 4723,     50.6,  22.7555,  35.1562,2,  35.1534,2,    214.3,1,   -999.0,9,  -999.00,9,  -999.00,9,  -999.00,9,     51,-999.000,  -999.0, 22.7452
     32MW053_1,  PRS2,     2, 17,     13,     13,2,19940310,1357, 22.7545,-158.0028, 4723,     54.2,  22.7152,  35.1680,2,  35.1654,2,    215.6,1,   -999.0,9,  -999.00,9,  -999.00,9,  -999.00,9,     54,-999.000,  -999.0, 22.7043
     32MW053_1,  PRS2,     2, 17,     12,     12,2,19940310,1357, 22.7545,-158.0028, 4723,     65.8,  22.5890,  35.1895,2,  35.1898,2,    216.2,1,   -999.0,9,  -999.00,9,  -999.00,9,  -999.00,9,     66,-999.000,  -999.0, 22.5757
     32MW053_1,  PRS2,     2, 17,     11,     11,2,19940310,1357, 22.7545,-158.0028, 4723,     75.6,  22.4951,  35.2002,2,  35.2004,2,    216.1,1,   -999.0,9,  -999.00,9,  -999.00,9,  -999.00,9,     76,-999.000,  -999.0, 22.4799
     32MW053_1,  PRS2,     2, 17,     10,     32,2,19940310,1357, 22.7545,-158.0028, 4723,     85.6,  22.4354,  35.2051,2,  35.2067,2,    216.2,1,   -999.0,9,  -999.00,9,  -999.00,9,  -999.00,9,     86,-999.000,  -999.0, 22.4183
     32MW053_1,  PRS2,     2, 17,      9,      3,2,19940310,1357, 22.7545,-158.0028, 4723,     96.0,  22.3224,  35.2148,2,  35.2136,2,    214.9,1,   -999.0,9,  -999.00,9,  -999.00,9,  -999.00,9,     95,-999.000,  -999.0, 22.3032
     32MW053_1,  PRS2,     2, 17,      8,     29,2,19940310,1357, 22.7545,-158.0028, 4723,    105.7,  22.2767,  35.2191,2,  35.2190,2,    214.5,1,   -999.0,9,  -999.00,9,  -999.00,9,  -999.00,9,    106,-999.000,  -999.0, 22.2556
     32MW053_1,  PRS2,     2, 17,      7,     28,2,19940310,1357, 22.7545,-158.0028, 4723,    116.3,  22.2495,  35.2217,2,  35.2217,2,    214.2,1,   -999.0,9,  -999.00,9,  -999.00,9,  -999.00,9,    116,-999.000,  -999.0, 22.2263
     32MW053_1,  PRS2,     2, 17,      6,      7,2,19940310,1357, 22.7545,-158.0028, 4723,    126.2,  22.1739,  35.2306,2,  35.2316,2,    215.8,1,   -999.0,9,  -999.00,9,  -999.00,9,  -999.00,9,    127,-999.000,  -999.0, 22.1488
     32MW053_1,  PRS2,     2, 17,      5,     23,2,19940310,1357, 22.7545,-158.0028, 4723,    150.4,  22.0082,  35.2551,2,  35.2572,2,    209.8,1,   -999.0,9,  -999.00,9,  -999.00,9,  -999.00,9,    150,-999.000,  -999.0, 21.9784
     32MW053_1,  PRS2,     2, 17,      4,     36,2,19940310,1357, 22.7545,-158.0028, 4723,    175.5,  21.5191,  35.2825,2,  35.2861,2,    206.9,1,   -999.0,9,  -999.00,9,  -999.00,9,  -999.00,9,    175,-999.000,  -999.0, 21.4848
     32MW053_1,  PRS2,     2, 17,      3,     35,2,19940310,1357, 22.7545,-158.0028, 4723,    249.8,  17.2832,  34.8305,2,  34.8717,3,    192.1,1,   -999.0,9,  -999.00,9,  -999.00,9,  -999.00,9,    249,-999.000,  -999.0, 17.2415
     32MW053_1,  PRS2,     2, 17,      2,     34,2,19940310,1357, 22.7545,-158.0028, 4723,    502.1,   8.0398,  34.0719,2,  34.0737,2,    130.5,1,   -999.0,9,  -999.00,9,  -999.00,9,  -999.00,9,    502,-999.000,  -999.0,  7.9886
     32MW053_1,  PRS2,     2, 17,      1,     33,2,19940310,1357, 22.7545,-158.0028, 4723,   1031.5,   4.0878,  34.4856,2,  34.4856,2,     41.2,1,   -999.0,9,  -999.00,9,  -999.00,9,  -999.00,9,   1032,-999.000,  -999.0,  4.0088