BOTTLE,20020809WHPSIObren
EXPOCODE,SECT_ID,STNNBR,CASTNO,SAMPNO,BTLNBR,BTLNBR_FLAG_W,DATE,TIME,LATITUDE,LONGITUDE,DEPTH,CTDPRS,CTDTMP,CTDSAL,CTDSAL_FLAG_W,SALNTY,SALNTY_FLAG_W,CTDOXY,CTDOXY_FLAG_W,OXYGEN,OXYGEN_FLAG_W,SILCAT,SILCAT_FLAG_W,NO2+NO3,NO2+NO3_FLAG_W,PHSPHT,PHSPHT_FLAG_W,CTDRAW,REVTMP,REVPRS,THETA
,,,,,,,,,,,,DBAR,ITS-90,PSS-78,,PSS-78,,UMOL/KG,,UMOL/KG,,UMOL/KG,,UMOL/KG,,UMOL/KG,,,DEG C,DBAR,ITS-90
     32MW053_1,  PRS2,     2, 18,     24,     31,2,19940310,1655, 22.7505,-158.0048, 4724,      5.7,  23.6100,  35.0710,2,  35.0681,2,    211.3,1,   -999.0,9,  -999.00,9,  -999.00,9,  -999.00,9,      6,-999.000,  -999.0, 23.6089
     32MW053_1,  PRS2,     2, 18,     23,     30,2,19940310,1655, 22.7505,-158.0048, 4724,     10.3,  23.6162,  35.0745,2,  35.0726,2,    211.4,1,   -999.0,9,  -999.00,9,  -999.00,9,  -999.00,9,     10,-999.000,  -999.0, 23.6141
     32MW053_1,  PRS2,     2, 18,     22,     22,2,19940310,1655, 22.7505,-158.0048, 4724,     15.4,  23.6219,  35.0843,2,  35.0925,2,    211.6,1,   -999.0,9,  -999.00,9,  -999.00,9,  -999.00,9,     15,-999.000,  -999.0, 23.6187
     32MW053_1,  PRS2,     2, 18,     21,     21,2,19940310,1655, 22.7505,-158.0048, 4724,     20.4,  23.6057,  35.0904,2,  35.0905,2,    212.0,1,   -999.0,9,  -999.00,9,  -999.00,9,  -999.00,9,     20,-999.000,  -999.0, 23.6015
     32MW053_1,  PRS2,     2, 18,     20,     20,2,19940310,1655, 22.7505,-158.0048, 4724,     46.1,  22.9043,  35.1487,2,  35.1496,2,    211.4,1,   -999.0,9,  -999.00,9,  -999.00,9,  -999.00,9,     46,-999.000,  -999.0, 22.8950
     32MW053_1,  PRS2,     2, 18,     19,     19,2,19940310,1655, 22.7505,-158.0048, 4724,     66.2,  22.5475,  35.1841,2,  35.1837,2,    216.7,1,   -999.0,9,  -999.00,9,  -999.00,9,  -999.00,9,     65,-999.000,  -999.0, 22.5342
     32MW053_1,  PRS2,     2, 18,     18,     18,2,19940310,1655, 22.7505,-158.0048, 4724,     80.5,  22.4714,  35.2012,2,  35.1989,2,    215.6,1,   -999.0,9,  -999.00,9,  -999.00,9,  -999.00,9,     81,-999.000,  -999.0, 22.4553
     32MW053_1,  PRS2,     2, 18,     17,     17,2,19940310,1655, 22.7505,-158.0048, 4724,    100.5,  22.3350,  35.2127,2,  35.2115,2,    214.2,1,   -999.0,9,  -999.00,9,  -999.00,9,  -999.00,9,    101,-999.000,  -999.0, 22.3149
     32MW053_1,  PRS2,     2, 18,     16,     16,2,19940310,1655, 22.7505,-158.0048, 4724,    121.0,  22.1816,  35.2305,2,  35.2312,2,    215.1,1,   -999.0,9,  -999.00,9,  -999.00,9,  -999.00,9,    120,-999.000,  -999.0, 22.1575
     32MW053_1,  PRS2,     2, 18,     15,     15,2,19940310,1655, 22.7505,-158.0048, 4724,    142.2,  22.0381,  35.2470,2,  35.2465,2,    210.9,1,   -999.0,9,  -999.00,9,  -999.00,9,  -999.00,9,    142,-999.000,  -999.0, 22.0099
     32MW053_1,  PRS2,     2, 18,     14,     14,2,19940310,1655, 22.7505,-158.0048, 4724,    169.3,  21.5671,  35.2858,2,  35.2924,2,    203.6,1,   -999.0,9,  -999.00,9,  -999.00,9,  -999.00,9,    169,-999.000,  -999.0, 21.5341
     32MW053_1,  PRS2,     2, 18,     13,     13,2,19940310,1655, 22.7505,-158.0048, 4724,    178.1,  21.3662,  35.2651,2,  35.2716,2,    205.6,1,   -999.0,9,  -999.00,9,  -999.00,9,  -999.00,9,    177,-999.000,  -999.0, 21.3317
     32MW053_1,  PRS2,     2, 18,     12,     12,2,19940310,1655, 22.7505,-158.0048, 4724,    196.8,  20.5360,  35.1623,2,  35.1632,2,    180.2,1,   -999.0,9,  -999.00,9,  -999.00,9,  -999.00,9,    197,-999.000,  -999.0, 20.4989
     32MW053_1,  PRS2,     2, 18,     11,     11,2,19940310,1655, 22.7505,-158.0048, 4724,    248.6,  18.4341,  34.9773,2,  34.9785,2,    182.5,1,   -999.0,9,  -999.00,9,  -999.00,9,  -999.00,9,    249,-999.000,  -999.0, 18.3906
     32MW053_1,  PRS2,     2, 18,     10,     32,2,19940310,1655, 22.7505,-158.0048, 4724,    300.4,  14.9952,  34.5440,2,  34.5480,2,    195.5,1,   -999.0,9,  -999.00,9,  -999.00,9,  -999.00,9,    300,-999.000,  -999.0, 14.9497
     32MW053_1,  PRS2,     2, 18,      9,      3,2,19940310,1655, 22.7505,-158.0048, 4724,    351.8,  11.7153,  34.2206,2,  34.2221,2,    197.3,1,   -999.0,9,  -999.00,9,  -999.00,9,  -999.00,9,    352,-999.000,  -999.0, 11.6702
     32MW053_1,  PRS2,     2, 18,      8,     29,2,19940310,1655, 22.7505,-158.0048, 4724,    402.4,   9.8630,  34.1005,2,  34.0964,2,    179.6,1,   -999.0,9,  -999.00,9,  -999.00,9,  -999.00,9,    401,-999.000,  -999.0,  9.8167
     32MW053_1,  PRS2,     2, 18,      7,     28,2,19940310,1655, 22.7505,-158.0048, 4724,    451.4,   8.8088,  34.0779,2,  34.0742,2,    166.9,1,   -999.0,9,  -999.00,9,  -999.00,9,  -999.00,9,    451,-999.000,  -999.0,  8.7602
     32MW053_1,  PRS2,     2, 18,      6,      7,2,19940310,1655, 22.7505,-158.0048, 4724,    501.1,   7.1994,  34.0839,2,  34.0854,2,     90.8,1,   -999.0,9,  -999.00,9,  -999.00,9,  -999.00,9,    500,-999.000,  -999.0,  7.1514
     32MW053_1,  PRS2,     2, 18,      5,     23,2,19940310,1655, 22.7505,-158.0048, 4724,    601.9,   6.0522,  34.1431,2,  34.1448,2,     57.7,1,   -999.0,9,  -999.00,9,  -999.00,9,  -999.00,9,    602,-999.000,  -999.0,  5.9993
     32MW053_1,  PRS2,     2, 18,      4,     36,2,19940310,1655, 22.7505,-158.0048, 4724,    698.3,   5.2814,  34.2350,2,  34.2340,2,     36.9,1,   -999.0,9,  -999.00,9,  -999.00,9,  -999.00,9,    699,-999.000,  -999.0,  5.2235
     32MW053_1,  PRS2,     2, 18,      3,     35,2,19940310,1655, 22.7505,-158.0048, 4724,    800.9,   4.7352,  34.3522,2,  34.3519,2,     32.0,1,   -999.0,9,  -999.00,9,  -999.00,9,  -999.00,9,    799,-999.000,  -999.0,  4.6714
     32MW053_1,  PRS2,     2, 18,      2,     34,2,19940310,1655, 22.7505,-158.0048, 4724,    901.3,   4.4792,  34.4386,2,  34.4404,2,     37.3,1,   -999.0,9,  -999.00,9,  -999.00,9,  -999.00,9,    900,-999.000,  -999.0,  4.4085
     32MW053_1,  PRS2,     2, 18,      1,     33,2,19940310,1655, 22.7505,-158.0048, 4724,   1029.4,   4.0820,  34.4863,2,  34.4887,2,     40.9,1,   -999.0,9,  -999.00,9,  -999.00,9,  -999.00,9,   1029,-999.000,  -999.0,  4.0033
     32MW053_1,  PRS2,     2, 19,     18,     18,2,19940310,2019, 22.7518,-158.0038, 4724,      5.2,  23.6713,  35.0624,2,  35.0695,2,    211.2,1,   -999.0,9,  -999.00,9,  -999.00,9,  -999.00,9,      5,-999.000,  -999.0, 23.6702
     32MW053_1,  PRS2,     2, 19,     17,     17,2,19940310,2019, 22.7518,-158.0038, 4724,     10.4,  23.6433,  35.0750,2,  35.0736,2,    211.0,1,   -999.0,9,  -999.00,9,  -999.00,9,  -999.00,9,     10,-999.000,  -999.0, 23.6412
     32MW053_1,  PRS2,     2, 19,     16,     16,2,19940310,2019, 22.7518,-158.0038, 4724,     25.1,  23.4989,  35.0977,2,  35.1136,2,    212.7,1,   -999.0,9,  -999.00,9,  -999.00,9,  -999.00,9,     25,-999.000,  -999.0, 23.4937
     32MW053_1,  PRS2,     2, 19,     15,     15,2,19940310,2019, 22.7518,-158.0038, 4724,     45.4,  22.9114,  35.1373,2,  35.1343,2,    211.6,1,   -999.0,9,  -999.00,9,  -999.00,9,  -999.00,9,     44,-999.000,  -999.0, 22.9022
     32MW053_1,  PRS2,     2, 19,     14,     14,2,19940310,2019, 22.7518,-158.0038, 4724,     50.3,  22.7912,  35.1458,2,  35.1439,2,    213.6,1,   -999.0,9,  -999.00,9,  -999.00,9,  -999.00,9,     51,-999.000,  -999.0, 22.7810
     32MW053_1,  PRS2,     2, 19,     13,     13,2,19940310,2019, 22.7518,-158.0038, 4724,     75.2,  22.4447,  35.2029,2,  35.2014,2,    215.0,1,   -999.0,9,  -999.00,9,  -999.00,9,  -999.00,9,     75,-999.000,  -999.0, 22.4296
     32MW053_1,  PRS2,     2, 19,     12,     12,2,19940310,2019, 22.7518,-158.0038, 4724,     90.0,  22.3692,  35.2078,2,  35.2067,2,    215.6,1,   -999.0,9,  -999.00,9,  -999.00,9,  -999.00,9,     90,-999.000,  -999.0, 22.3511
     32MW053_1,  PRS2,     2, 19,     11,     11,2,19940310,2019, 22.7518,-158.0038, 4724,     90.0,  22.3689,  35.2076,2,  35.2087,2,    215.8,1,   -999.0,9,  -999.00,9,  -999.00,9,  -999.00,9,     91,-999.000,  -999.0, 22.3509
     32MW053_1,  PRS2,     2, 19,     10,     32,2,19940310,2019, 22.7518,-158.0038, 4724,    100.3,  22.3006,  35.2162,2,  35.2197,2,    216.1,1,   -999.0,9,  -999.00,9,  -999.00,9,  -999.00,9,    101,-999.000,  -999.0, 22.2806
     32MW053_1,  PRS2,     2, 19,      9,      3,2,19940310,2019, 22.7518,-158.0038, 4724,    125.1,  22.0076,  35.2451,2,  35.2469,2,    210.0,1,   -999.0,9,  -999.00,9,  -999.00,9,  -999.00,9,    141,-999.000,  -999.0, 21.9829
     32MW053_1,  PRS2,     2, 19,      8,     29,2,19940310,2019, 22.7518,-158.0038, 4724,    150.4,  21.1586,  35.2418,2,  35.2450,2,    201.2,1,   -999.0,9,  -999.00,9,  -999.00,9,  -999.00,9,    150,-999.000,  -999.0, 21.1296
     32MW053_1,  PRS2,     2, 19,      7,     28,2,19940310,2019, 22.7518,-158.0038, 4724,    175.4,  20.3215,  35.1381,2,  35.1427,2,    181.7,1,   -999.0,9,  -999.00,9,  -999.00,9,  -999.00,9,    175,-999.000,  -999.0, 20.2887
     32MW053_1,  PRS2,     2, 19,      6,      7,2,19940310,2019, 22.7518,-158.0038, 4724,    200.7,  19.4115,  35.0872,2,  35.0813,2,    191.5,1,   -999.0,9,  -999.00,9,  -999.00,9,  -999.00,9,    200,-999.000,  -999.0, 19.3752
     32MW053_1,  PRS2,     2, 19,      5,     23,2,19940310,2019, 22.7518,-158.0038, 4724,    252.9,  16.6199,  34.7405,2,  34.7408,2,    196.2,1,   -999.0,9,  -999.00,9,  -999.00,9,  -999.00,9,    253,-999.000,  -999.0, 16.5788
     32MW053_1,  PRS2,     2, 19,      4,     36,2,19940310,2019, 22.7518,-158.0038, 4724,    306.6,  13.7420,  34.4008,2,  34.4029,2,    194.7,1,   -999.0,9,  -999.00,9,  -999.00,9,  -999.00,9,    307,-999.000,  -999.0, 13.6983
     32MW053_1,  PRS2,     2, 19,      3,     35,2,19940310,2019, 22.7518,-158.0038, 4724,    503.5,   7.1857,  34.0830,2,  34.0799,2,     80.5,1,   -999.0,9,  -999.00,9,  -999.00,9,  -999.00,9,    505,-999.000,  -999.0,  7.1375
     32MW053_1,  PRS2,     2, 19,      2,     34,2,19940310,2019, 22.7518,-158.0038, 4724,    779.2,   4.7250,  34.3542,2,  34.3537,2,     31.5,1,   -999.0,9,  -999.00,9,  -999.00,9,  -999.00,9,    779,-999.000,  -999.0,  4.6632
     32MW053_1,  PRS2,     2, 19,      1,     33,2,19940310,2019, 22.7518,-158.0038, 4724,   1022.5,   3.9674,  34.4979,2,  34.4989,2,     42.5,1,   -999.0,9,  -999.00,9,  -999.00,9,  -999.00,9,   1023,-999.000,  -999.0,  3.8901
     32MW053_1,  PRS2,     2, 20,     24,     31,2,19940310,2307, 22.7463,-158.0040, 4724,      5.1,  23.7990,  35.0545,2,  35.0614,2,    209.6,1,   -999.0,9,  -999.00,9,  -999.00,9,  -999.00,9,      5,-999.000,  -999.0, 23.7979
     32MW053_1,  PRS2,     2, 20,     23,     30,2,19940310,2307, 22.7463,-158.0040, 4724,      5.1,  23.7521,  35.0576,2,-999.0000,5,    209.8,1,   -999.0,9,  -999.00,9,  -999.00,9,  -999.00,9,      5,-999.000,  -999.0, 23.7511
     32MW053_1,  PRS2,     2, 20,     22,     22,2,19940310,2307, 22.7463,-158.0040, 4724,     25.3,  23.3172,  35.1272,2,  35.1222,2,    212.5,1,   -999.0,9,  -999.00,9,  -999.00,9,  -999.00,9,     26,-999.000,  -999.0, 23.3120
     32MW053_1,  PRS2,     2, 20,     21,     21,2,19940310,2307, 22.7463,-158.0040, 4724,     25.5,  23.2675,  35.1314,2,-999.0000,5,    212.3,1,   -999.0,9,  -999.00,9,  -999.00,9,  -999.00,9,     25,-999.000,  -999.0, 23.2623
     32MW053_1,  PRS2,     2, 20,     19,     19,2,19940310,2307, 22.7463,-158.0040, 4724,     45.2,  22.7558,  35.1538,2,-999.0000,5,    210.3,1,   -999.0,9,  -999.00,9,  -999.00,9,  -999.00,9,      0,-999.000,  -999.0, 22.7467
     32MW053_1,  PRS2,     2, 20,     20,     20,2,19940310,2307, 22.7463,-158.0040, 4724,     45.3,  22.7630,  35.1531,2,  35.1534,2,    210.8,1,   -999.0,9,  -999.00,9,  -999.00,9,  -999.00,9,     45,-999.000,  -999.0, 22.7538
     32MW053_1,  PRS2,     2, 20,     18,     18,2,19940310,2307, 22.7463,-158.0040, 4724,     75.4,  22.4587,  35.2020,2,  35.2121,2,    216.3,1,   -999.0,9,  -999.00,9,  -999.00,9,  -999.00,9,     76,-999.000,  -999.0, 22.4436
     32MW053_1,  PRS2,     2, 20,     17,     17,2,19940310,2307, 22.7463,-158.0040, 4724,     75.4,  22.4545,  35.2024,2,-999.0000,5,    215.9,1,   -999.0,9,  -999.00,9,  -999.00,9,  -999.00,9,     75,-999.000,  -999.0, 22.4394
     32MW053_1,  PRS2,     2, 20,     15,     15,2,19940310,2307, 22.7463,-158.0040, 4724,    100.3,  22.2377,  35.2238,2,-999.0000,5,    212.1,1,   -999.0,9,  -999.00,9,  -999.00,9,  -999.00,9,    100,-999.000,  -999.0, 22.2177
     32MW053_1,  PRS2,     2, 20,     16,     16,2,19940310,2307, 22.7463,-158.0040, 4724,    100.4,  22.2385,  35.2237,2,  35.2241,2,    212.0,1,   -999.0,9,  -999.00,9,  -999.00,9,  -999.00,9,    100,-999.000,  -999.0, 22.2185
     32MW053_1,  PRS2,     2, 20,     13,     13,2,19940310,2307, 22.7463,-158.0040, 4724,    125.2,  21.8173,  35.2467,2,-999.0000,5,    210.3,1,   -999.0,9,  -999.00,9,  -999.00,9,  -999.00,9,    125,-999.000,  -999.0, 21.7927
     32MW053_1,  PRS2,     2, 20,     14,     14,2,19940310,2307, 22.7463,-158.0040, 4724,    125.3,  21.8271,  35.2472,2,  35.2503,2,    210.5,1,   -999.0,9,  -999.00,9,  -999.00,9,  -999.00,9,    125,-999.000,  -999.0, 21.8024
     32MW053_1,  PRS2,     2, 20,     12,     12,2,19940310,2307, 22.7463,-158.0040, 4724,    150.5,  20.7838,  35.1629,2,  35.1624,2,    189.2,1,   -999.0,9,  -999.00,9,  -999.00,9,  -999.00,9,    151,-999.000,  -999.0, 20.7552
     32MW053_1,  PRS2,     2, 20,     11,     11,2,19940310,2307, 22.7463,-158.0040, 4724,    150.7,  20.7732,  35.1609,2,-999.0000,5,    188.7,1,   -999.0,9,  -999.00,9,  -999.00,9,  -999.00,9,    152,-999.000,  -999.0, 20.7445
     32MW053_1,  PRS2,     2, 20,      9,      3,2,19940310,2307, 22.7463,-158.0040, 4724,    175.6,  20.0156,  35.1340,2,-999.0000,5,    194.0,1,   -999.0,9,  -999.00,9,  -999.00,9,  -999.00,9,    175,-999.000,  -999.0, 19.9831
     32MW053_1,  PRS2,     2, 20,     10,     32,2,19940310,2307, 22.7463,-158.0040, 4724,    175.9,  20.0285,  35.1342,2,  35.1378,2,    193.9,1,   -999.0,9,  -999.00,9,  -999.00,9,  -999.00,9,    176,-999.000,  -999.0, 19.9959
     32MW053_1,  PRS2,     2, 20,      8,     29,2,19940310,2307, 22.7463,-158.0040, 4724,    250.2,  16.1669,  34.6833,2,  34.6806,2,    196.5,1,   -999.0,9,  -999.00,9,  -999.00,9,  -999.00,9,    252,-999.000,  -999.0, 16.1271
     32MW053_1,  PRS2,     2, 20,      7,     28,2,19940310,2307, 22.7463,-158.0040, 4724,    250.5,  16.1665,  34.6845,2,-999.0000,5,    196.3,1,   -999.0,9,  -999.00,9,  -999.00,9,  -999.00,9,    249,-999.000,  -999.0, 16.1266
     32MW053_1,  PRS2,     2, 20,      6,      7,2,19940310,2307, 22.7463,-158.0040, 4724,    451.3,   8.3487,  34.0762,2,-999.0000,5,    138.4,1,   -999.0,9,  -999.00,9,  -999.00,9,  -999.00,9,    451,-999.000,  -999.0,  8.3017
     32MW053_1,  PRS2,     2, 20,      5,     23,2,19940310,2307, 22.7463,-158.0040, 4724,    500.5,   7.4052,  34.0817,2,  34.0837,2,    108.2,1,   -999.0,9,  -999.00,9,  -999.00,9,  -999.00,9,    501,-999.000,  -999.0,  7.3565
     32MW053_1,  PRS2,     2, 20,      4,     36,2,19940310,2307, 22.7463,-158.0040, 4724,    752.4,   4.9315,  34.3036,2,  34.3025,2,     33.9,1,   -999.0,9,  -999.00,9,  -999.00,9,  -999.00,9,    752,-999.000,  -999.0,  4.8708
     32MW053_1,  PRS2,     2, 20,      3,     35,2,19940310,2307, 22.7463,-158.0040, 4724,    752.6,   4.9290,  34.3038,2,-999.0000,5,     34.0,1,   -999.0,9,  -999.00,9,  -999.00,9,  -999.00,9,    753,-999.000,  -999.0,  4.8683
     32MW053_1,  PRS2,     2, 20,      2,     34,2,19940310,2307, 22.7463,-158.0040, 4724,    949.1,   4.2653,  34.4659,2,  34.4667,2,     39.4,1,   -999.0,9,  -999.00,9,  -999.00,9,  -999.00,9,    949,-999.000,  -999.0,  4.1920
     32MW053_1,  PRS2,     2, 20,      1,     33,2,19940310,2307, 22.7463,-158.0040, 4724,   1032.3,   4.0218,  34.4933,2,  34.4940,2,     41.9,1,   -999.0,9,  -999.00,9,  -999.00,9,  -999.00,9,   1032,-999.000,  -999.0,  3.9433