BOTTLE,20020809WHPSIObren
EXPOCODE,SECT_ID,STNNBR,CASTNO,SAMPNO,BTLNBR,BTLNBR_FLAG_W,DATE,TIME,LATITUDE,LONGITUDE,DEPTH,CTDPRS,CTDTMP,CTDSAL,CTDSAL_FLAG_W,SALNTY,SALNTY_FLAG_W,CTDOXY,CTDOXY_FLAG_W,OXYGEN,OXYGEN_FLAG_W,SILCAT,SILCAT_FLAG_W,NO2+NO3,NO2+NO3_FLAG_W,PHSPHT,PHSPHT_FLAG_W,CTDRAW,REVTMP,REVPRS,THETA
,,,,,,,,,,,,DBAR,ITS-90,PSS-78,,PSS-78,,UMOL/KG,,UMOL/KG,,UMOL/KG,,UMOL/KG,,UMOL/KG,,,DEG C,DBAR,ITS-90
     32MW053_1,  PRS2,     2,  4,     23,     30,2,19940308,2257, 22.7538,-158.0000, 4727,      6.7,  23.9329,  35.1256,2,  35.1234,2,    215.2,1,   -999.0,9,  -999.00,9,  -999.00,9,  -999.00,9,      7,-999.000,  -999.0, 23.9315
     32MW053_1,  PRS2,     2,  4,     24,     31,2,19940308,2257, 22.7538,-158.0000, 4727,      6.8,  23.9437,  35.1250,2,  35.1240,2,    214.9,1,   -999.0,9,  -999.00,9,  -999.00,9,  -999.00,9,      7,-999.000,  -999.0, 23.9422
     32MW053_1,  PRS2,     2,  4,     21,     21,2,19940308,2257, 22.7538,-158.0000, 4727,     26.4,  23.1498,  35.1217,2,  35.1207,2,    215.8,1,   -999.0,9,  -999.00,9,  -999.00,9,  -999.00,9,     27,-999.000,  -999.0, 23.1444
     32MW053_1,  PRS2,     2,  4,     22,     22,2,19940308,2257, 22.7538,-158.0000, 4727,     26.6,  23.1409,  35.1215,2,  35.1232,2,    215.5,1,   -999.0,9,  -999.00,9,  -999.00,9,  -999.00,9,     27,-999.000,  -999.0, 23.1354
     32MW053_1,  PRS2,     2,  4,     20,     20,3,19940308,2257, 22.7538,-158.0000, 4727,     45.2,  22.5176,  35.1635,2,  35.1622,2,    218.9,1,   -999.0,9,  -999.00,9,  -999.00,9,  -999.00,9,     45,-999.000,  -999.0, 22.5085
     32MW053_1,  PRS2,     2,  4,     19,     19,2,19940308,2257, 22.7538,-158.0000, 4727,     55.4,  22.4572,  35.1794,2,  35.1792,2,    219.2,1,   -999.0,9,  -999.00,9,  -999.00,9,  -999.00,9,     56,-999.000,  -999.0, 22.4461
     32MW053_1,  PRS2,     2,  4,     18,     18,2,19940308,2257, 22.7538,-158.0000, 4727,     75.3,  22.3687,  35.2016,2,  35.2016,2,    217.9,1,   -999.0,9,  -999.00,9,  -999.00,9,  -999.00,9,     75,-999.000,  -999.0, 22.3536
     32MW053_1,  PRS2,     2,  4,     17,     17,2,19940308,2257, 22.7538,-158.0000, 4727,    100.4,  22.2257,  35.2160,2,  35.2174,2,    215.1,1,   -999.0,9,  -999.00,9,  -999.00,9,  -999.00,9,    100,-999.000,  -999.0, 22.2057
     32MW053_1,  PRS2,     2,  4,     16,     16,2,19940308,2257, 22.7538,-158.0000, 4727,    125.4,  21.9767,  35.2562,2,  35.2589,2,    208.8,1,   -999.0,9,  -999.00,9,  -999.00,9,  -999.00,9,    126,-999.000,  -999.0, 21.9518
     32MW053_1,  PRS2,     2,  4,     15,     15,3,19940308,2257, 22.7538,-158.0000, 4727,    125.4,  21.9751,  35.2568,2,  35.2586,2,    208.5,1,   -999.0,9,  -999.00,9,  -999.00,9,  -999.00,9,    125,-999.000,  -999.0, 21.9503
     32MW053_1,  PRS2,     2,  4,     14,     14,2,19940308,2257, 22.7538,-158.0000, 4727,    150.5,  21.4928,  35.2583,2,  35.2649,2,    207.2,1,   -999.0,9,  -999.00,9,  -999.00,9,  -999.00,9,    151,-999.000,  -999.0, 21.4635
     32MW053_1,  PRS2,     2,  4,     13,     13,2,19940308,2257, 22.7538,-158.0000, 4727,    150.6,  21.4906,  35.2584,2,  35.2605,2,    206.7,1,   -999.0,9,  -999.00,9,  -999.00,9,  -999.00,9,    151,-999.000,  -999.0, 21.4613
     32MW053_1,  PRS2,     2,  4,     12,     12,2,19940308,2257, 22.7538,-158.0000, 4727,    175.4,  21.0335,  35.2434,2,  35.2459,2,    201.2,1,   -999.0,9,  -999.00,9,  -999.00,9,  -999.00,9,    176,-999.000,  -999.0, 20.9998
     32MW053_1,  PRS2,     2,  4,     11,     11,2,19940308,2257, 22.7538,-158.0000, 4727,    175.5,  21.0175,  35.2431,2,  35.2463,2,    201.3,1,   -999.0,9,  -999.00,9,  -999.00,9,  -999.00,9,    176,-999.000,  -999.0, 20.9839
     32MW053_1,  PRS2,     2,  4,      9,      3,2,19940308,2257, 22.7538,-158.0000, 4727,    246.1,  17.8707,  34.9181,2,  34.9178,2,    194.6,1,   -999.0,9,  -999.00,9,  -999.00,9,  -999.00,9,    246,-999.000,  -999.0, 17.8287
     32MW053_1,  PRS2,     2,  4,     10,     32,2,19940308,2257, 22.7538,-158.0000, 4727,    246.4,  17.8721,  34.9173,2,  34.9164,2,    194.5,1,   -999.0,9,  -999.00,9,  -999.00,9,  -999.00,9,    247,-999.000,  -999.0, 17.8300
     32MW053_1,  PRS2,     2,  4,      7,     28,2,19940308,2257, 22.7538,-158.0000, 4727,    497.6,   7.6385,  34.0727,2,  34.0699,2,    119.5,1,   -999.0,9,  -999.00,9,  -999.00,9,  -999.00,9,    498,-999.000,  -999.0,  7.5892
     32MW053_1,  PRS2,     2,  4,      8,     29,2,19940308,2257, 22.7538,-158.0000, 4727,    498.0,   7.6405,  34.0731,2,  34.0709,2,    119.8,1,   -999.0,9,  -999.00,9,  -999.00,9,  -999.00,9,    499,-999.000,  -999.0,  7.5912
     32MW053_1,  PRS2,     2,  4,      6,      7,2,19940308,2257, 22.7538,-158.0000, 4727,    699.5,   5.1624,  34.2514,2,  34.2505,2,     36.1,1,   -999.0,9,  -999.00,9,  -999.00,9,  -999.00,9,    701,-999.000,  -999.0,  5.1050
     32MW053_1,  PRS2,     2,  4,      5,     23,2,19940308,2257, 22.7538,-158.0000, 4727,    749.6,   4.9473,  34.3177,2,  34.3168,2,     35.1,1,   -999.0,9,  -999.00,9,  -999.00,9,  -999.00,9,    750,-999.000,  -999.0,  4.8867
     32MW053_1,  PRS2,     2,  4,      4,     36,2,19940308,2257, 22.7538,-158.0000, 4727,    844.2,   4.5915,  34.3992,2,  34.3986,2,     33.9,1,   -999.0,9,  -999.00,9,  -999.00,9,  -999.00,9,    844,-999.000,  -999.0,  4.5249
     32MW053_1,  PRS2,     2,  4,      2,     34,2,19940308,2257, 22.7538,-158.0000, 4727,   1000.4,   4.2138,  34.4811,2,  34.4820,2,     41.3,1,   -999.0,9,  -999.00,9,  -999.00,9,  -999.00,9,   1000,-999.000,  -999.0,  4.1365
     32MW053_1,  PRS2,     2,  4,      3,     35,2,19940308,2257, 22.7538,-158.0000, 4727,   1000.5,   4.2143,  34.4811,2,  34.4822,2,     41.4,1,   -999.0,9,  -999.00,9,  -999.00,9,  -999.00,9,   1001,-999.000,  -999.0,  4.1370
     32MW053_1,  PRS2,     2,  4,      1,     33,2,19940308,2257, 22.7538,-158.0000, 4727,   1033.2,   4.0841,  34.4855,2,  34.4866,2,     41.4,1,   -999.0,9,  -999.00,9,  -999.00,9,  -999.00,9,   1033,-999.000,  -999.0,  4.0050
     32MW053_1,  PRS2,     2,  5,     19,     19,2,19940309,0158, 22.7575,-158.0010, 4725,      5.5,  23.9327,  35.1190,2,  35.1215,2,    213.7,2,   -999.0,5,  -999.00,5,  -999.00,5,  -999.00,5,      6,-999.000,  -999.0, 23.9316
     32MW053_1,  PRS2,     2,  5,     18,     18,2,19940309,0158, 22.7575,-158.0010, 4725,    178.7,  21.0045,  35.3076,2,  35.3068,2,    209.8,2,   -999.0,5,  -999.00,5,  -999.00,5,  -999.00,5,    179,-999.000,  -999.0, 20.9702
     32MW053_1,  PRS2,     2,  5,     17,     17,2,19940309,0158, 22.7575,-158.0010, 4725,    208.4,  20.3068,  35.2513,2,  35.2511,2,    201.3,2,   -999.0,5,  -999.00,5,  -999.00,5,  -999.00,5,    209,-999.000,  -999.0, 20.2678
     32MW053_1,  PRS2,     2,  5,     16,     16,2,19940309,0158, 22.7575,-158.0010, 4725,    222.6,  19.4723,  35.1421,2,  35.1504,2,    191.1,2,    201.4,2,  -999.00,5,  -999.00,5,  -999.00,5,    222,-999.000,  -999.0, 19.4319
     32MW053_1,  PRS2,     2,  5,     15,     15,2,19940309,0158, 22.7575,-158.0010, 4725,    234.9,  18.6155,  35.0137,2,  35.0193,2,    197.0,2,    197.1,2,     3.03,2,     2.42,2,     0.21,2,    236,-999.000,  -999.0, 18.5741
     32MW053_1,  PRS2,     2,  5,     14,     14,2,19940309,0158, 22.7575,-158.0010, 4725,    253.2,  17.2983,  34.8557,2,  34.8623,2,    187.8,2,    197.3,2,     3.97,2,     3.57,2,     0.28,2,    253,-999.000,  -999.0, 17.2560
     32MW053_1,  PRS2,     2,  5,     13,     13,2,19940309,0158, 22.7575,-158.0010, 4725,    277.0,  15.0918,  34.5795,2,  34.5846,2,    197.9,2,    198.5,2,     6.09,2,     6.14,2,     0.45,2,    277,-999.000,  -999.0, 15.0497
     32MW053_1,  PRS2,     2,  5,     12,     12,2,19940309,0158, 22.7575,-158.0010, 4725,    301.7,  13.5627,  34.3962,2,  34.3974,2,    194.5,2,    197.9,2,     8.14,2,     8.42,2,     0.62,2,    302,-999.000,  -999.0, 13.5201
     32MW053_1,  PRS2,     2,  5,     11,     11,2,19940309,0158, 22.7575,-158.0010, 4725,    326.3,  12.8453,  34.3201,2,  34.3186,2,    197.8,2,    198.0,2,     9.44,2,     9.71,2,     0.71,2,    326,-999.000,  -999.0, 12.8008
     32MW053_1,  PRS2,     2,  5,     10,     32,2,19940309,0158, 22.7575,-158.0010, 4725,    349.3,  12.2237,  34.2798,2,  34.2736,2,    201.6,2,    199.4,2,    11.00,2,    10.92,2,     0.79,2,    350,-999.000,  -999.0, 12.1776
     32MW053_1,  PRS2,     2,  5,      9,      3,2,19940309,0158, 22.7575,-158.0010, 4725,    400.9,  10.0762,  34.1216,2,  34.1189,2,    197.6,2,    194.6,2,    17.84,2,    15.80,2,     1.11,2,    401,-999.000,  -999.0, 10.0295
     32MW053_1,  PRS2,     2,  5,      8,     29,2,19940309,0158, 22.7575,-158.0010, 4725,    464.0,   8.2005,  34.0722,2,  34.0691,2,    137.1,2,    145.5,2,    34.13,2,    24.34,2,     1.74,2,    464,-999.000,  -999.0,  8.1527
     32MW053_1,  PRS2,     2,  5,      7,     28,2,19940309,0158, 22.7575,-158.0010, 4725,    496.9,   7.6271,  34.0741,2,  34.0715,2,    117.8,2,   -999.0,5,  -999.00,5,  -999.00,5,  -999.00,5,    498,-999.000,  -999.0,  7.5779
     32MW053_1,  PRS2,     2,  5,      6,      7,2,19940309,0158, 22.7575,-158.0010, 4725,    592.9,   6.0602,  34.1135,2,  34.1121,2,     68.9,2,     65.2,2,    65.49,2,    35.43,2,     2.57,2,    593,-999.000,  -999.0,  6.0081
     32MW053_1,  PRS2,     2,  5,      5,     23,2,19940309,0158, 22.7575,-158.0010, 4725,    701.2,   5.2413,  34.2393,2,  34.2377,2,     36.2,2,     35.9,2,    84.61,2,    39.52,2,     2.90,2,    702,-999.000,  -999.0,  5.1834
     32MW053_1,  PRS2,     2,  5,      4,     36,2,19940309,0158, 22.7575,-158.0010, 4725,    802.2,   4.8358,  34.3270,2,  34.3250,2,     32.0,2,     30.9,2,    93.32,2,    40.82,2,     3.02,2,    803,-999.000,  -999.0,  4.7713
     32MW053_1,  PRS2,     2,  5,      3,     35,2,19940309,0158, 22.7575,-158.0010, 4725,    901.9,   4.4410,  34.4345,2,  34.4365,2,     37.9,2,     34.7,2,   101.46,2,    41.49,2,     3.06,2,    903,-999.000,  -999.0,  4.3705
     32MW053_1,  PRS2,     2,  5,      2,     34,2,19940309,0158, 22.7575,-158.0010, 4725,   1032.0,   4.0333,  34.4894,2,  34.4909,2,     41.6,2,     43.3,2,   109.30,2,    41.67,2,     3.07,2,   1032,-999.000,  -999.0,  3.9547
     32MW053_1,  PRS2,     2,  5,      1,     33,2,19940309,0158, 22.7575,-158.0010, 4725,   1032.0,   4.0333,  34.4894,2,  34.4911,2,     41.6,2,     42.3,2,   109.43,2,    41.70,2,     3.06,2,   1032,-999.000,  -999.0,  3.9547
     32MW053_1,  PRS2,     2,  6,     22,     22,2,19940309,0501, 22.7537,-157.9988, 4720,      4.5,  23.7492,  35.1212,2,  35.1181,2,    213.8,2,   -999.0,5,  -999.00,5,  -999.00,5,  -999.00,5,      5,-999.000,  -999.0, 23.7482
     32MW053_1,  PRS2,     2,  6,     21,     21,2,19940309,0501, 22.7537,-157.9988, 4720,      4.6,  23.7531,  35.1206,2,  35.1181,2,    213.8,2,    213.9,2,     1.81,2,     0.01,2,     0.06,2,      5,-999.000,  -999.0, 23.7522
     32MW053_1,  PRS2,     2,  6,     20,     20,2,19940309,0501, 22.7537,-157.9988, 4720,     14.9,  23.6344,  35.1142,2,  35.1136,2,    213.1,2,    214.3,2,     1.81,2,     0.01,2,     0.06,2,     15,-999.000,  -999.0, 23.6313
     32MW053_1,  PRS2,     2,  6,     18,     18,2,19940309,0501, 22.7537,-157.9988, 4720,     25.2,  23.3489,  35.1182,2,  35.1130,2,    215.6,2,    215.0,2,     1.77,2,     0.00,2,     0.05,2,     26,-999.000,  -999.0, 23.3438
     32MW053_1,  PRS2,     2,  6,     19,     19,2,19940309,0501, 22.7537,-157.9988, 4720,     25.7,  23.3298,  35.1193,2,  35.1150,2,    215.6,2,   -999.0,5,  -999.00,5,  -999.00,5,  -999.00,5,     26,-999.000,  -999.0, 23.3245
     32MW053_1,  PRS2,     2,  6,     17,     17,2,19940309,0501, 22.7537,-157.9988, 4720,     36.8,  22.9302,  35.1494,2,  35.1467,2,    214.1,2,    217.2,2,     1.75,2,     0.00,2,     0.05,2,     37,-999.000,  -999.0, 22.9227
     32MW053_1,  PRS2,     2,  6,     16,     16,2,19940309,0501, 22.7537,-157.9988, 4720,     45.5,  22.6950,  35.1754,2,  35.1701,2,    217.2,2,    217.7,2,     1.70,2,     0.00,2,     0.04,2,     46,-999.000,  -999.0, 22.6858
     32MW053_1,  PRS2,     2,  6,     15,     15,2,19940309,0501, 22.7537,-157.9988, 4720,     60.1,  22.5239,  35.1909,2,  35.1865,2,    215.1,2,   -999.0,5,     1.66,2,     0.01,2,     0.05,2,     60,-999.000,  -999.0, 22.5118
     32MW053_1,  PRS2,     2,  6,     14,     14,2,19940309,0501, 22.7537,-157.9988, 4720,     75.0,  22.4012,  35.2065,2,  35.2020,2,    217.7,2,   -999.0,5,     1.66,2,     0.01,2,     0.04,2,     74,-999.000,  -999.0, 22.3861
     32MW053_1,  PRS2,     2,  6,     13,     13,2,19940309,0501, 22.7537,-157.9988, 4720,     83.3,  22.3668,  35.2072,2,  35.2024,2,    218.6,2,   -999.0,5,     1.64,2,     0.00,2,     0.04,2,     83,-999.000,  -999.0, 22.3501
     32MW053_1,  PRS2,     2,  6,     12,     12,2,19940309,0501, 22.7537,-157.9988, 4720,     95.2,  22.2921,  35.2220,2,  35.2192,2,    218.3,2,    214.5,2,     1.62,2,     0.00,2,     0.04,2,     96,-999.000,  -999.0, 22.2731
     32MW053_1,  PRS2,     2,  6,     11,     11,2,19940309,0501, 22.7537,-157.9988, 4720,    104.9,  22.2131,  35.2193,2,  35.2160,2,    215.9,2,    213.4,2,     1.64,2,     0.00,2,     0.04,2,    104,-999.000,  -999.0, 22.1922
     32MW053_1,  PRS2,     2,  6,     10,     32,2,19940309,0501, 22.7537,-157.9988, 4720,    115.9,  22.1395,  35.2275,2,  35.2235,2,    214.8,2,    212.6,2,     1.63,2,     0.00,2,     0.04,2,    115,-999.000,  -999.0, 22.1165
     32MW053_1,  PRS2,     2,  6,      9,      3,2,19940309,0501, 22.7537,-157.9988, 4720,    125.8,  22.0311,  35.2376,2,  35.2345,2,    211.4,2,    210.4,2,     1.64,2,     0.04,2,     0.05,2,    126,-999.000,  -999.0, 22.0062
     32MW053_1,  PRS2,     2,  6,      8,     29,2,19940309,0501, 22.7537,-157.9988, 4720,    135.0,  21.9481,  35.2589,2,  35.2554,2,    205.7,2,    208.1,2,     1.69,2,     0.20,2,     0.05,2,    135,-999.000,  -999.0, 21.9214
     32MW053_1,  PRS2,     2,  6,      7,     28,2,19940309,0501, 22.7537,-157.9988, 4720,    149.2,  21.7906,  35.2712,2,  35.2696,2,    204.2,2,    206.3,2,     1.71,2,     0.38,2,     0.06,2,    149,-999.000,  -999.0, 21.7612
     32MW053_1,  PRS2,     2,  6,      6,      7,2,19940309,0501, 22.7537,-157.9988, 4720,    159.5,  21.5309,  35.2759,2,  35.2820,2,    202.6,2,    205.3,2,     1.85,2,     0.57,2,     0.07,2,    160,-999.000,  -999.0, 21.4998
     32MW053_1,  PRS2,     2,  6,      5,     23,2,19940309,0501, 22.7537,-157.9988, 4720,    174.7,  21.2870,  35.2924,2,  35.2972,2,    207.1,2,    206.4,2,  -999.00,5,  -999.00,5,  -999.00,5,    175,-999.000,  -999.0, 21.2532
     32MW053_1,  PRS2,     2,  6,      4,     36,2,19940309,0501, 22.7537,-157.9988, 4720,    185.8,  21.0994,  35.2949,2,  35.2948,2,    199.7,2,    206.9,2,  -999.00,5,  -999.00,5,  -999.00,5,    186,-999.000,  -999.0, 21.0637
     32MW053_1,  PRS2,     2,  6,      3,     35,2,19940309,0501, 22.7537,-157.9988, 4720,    200.4,  20.8517,  35.2641,2,  35.2767,2,    220.6,2,    206.5,2,     1.95,2,     0.69,2,     0.08,2,    201,-999.000,  -999.0, 20.8134
     32MW053_1,  PRS2,     2,  6,      2,     34,2,19940309,0501, 22.7537,-157.9988, 4720,    496.5,   7.7402,  34.0763,2,  34.0733,2,    124.8,2,   -999.0,5,  -999.00,5,  -999.00,5,  -999.00,5,    495,-999.000,  -999.0,  7.6906
     32MW053_1,  PRS2,     2,  6,      1,     33,2,19940309,0501, 22.7537,-157.9988, 4720,   1027.1,   4.0371,  34.4917,2,  34.4917,2,     41.5,2,   -999.0,5,  -999.00,5,  -999.00,5,  -999.00,5,   1027,-999.000,  -999.0,  3.9589
     32MW053_1,  PRS2,     2,  7,     10,     32,2,19940309,0805, 22.7528,-157.9972, 4720,      5.5,  23.6813,  35.1186,2,  35.1209,2,    212.9,1,   -999.0,9,  -999.00,9,  -999.00,9,  -999.00,9,      6,-999.000,  -999.0, 23.6801
     32MW053_1,  PRS2,     2,  7,      9,      3,2,19940309,0805, 22.7528,-157.9972, 4720,     25.1,  23.4182,  35.0926,2,  35.0945,2,    213.2,1,   -999.0,9,  -999.00,9,  -999.00,9,  -999.00,9,     26,-999.000,  -999.0, 23.4130
     32MW053_1,  PRS2,     2,  7,      8,     29,2,19940309,0805, 22.7528,-157.9972, 4720,     46.4,  22.8094,  35.1618,2,  35.1599,2,    216.1,1,   -999.0,9,  -999.00,9,  -999.00,9,  -999.00,9,     45,-999.000,  -999.0, 22.8000
     32MW053_1,  PRS2,     2,  7,      7,     28,2,19940309,0805, 22.7528,-157.9972, 4720,     75.7,  22.3942,  35.2043,2,  35.2038,2,    218.6,1,   -999.0,9,  -999.00,9,  -999.00,9,  -999.00,9,     75,-999.000,  -999.0, 22.3790
     32MW053_1,  PRS2,     2,  7,      6,      7,2,19940309,0805, 22.7528,-157.9972, 4720,     97.6,  22.2511,  35.2161,2,  35.2186,2,    216.4,1,   -999.0,9,  -999.00,9,  -999.00,9,  -999.00,9,     98,-999.000,  -999.0, 22.2317
     32MW053_1,  PRS2,     2,  7,      5,     23,2,19940309,0805, 22.7528,-157.9972, 4720,    126.3,  22.0485,  35.2333,2,  35.2416,2,    212.2,1,   -999.0,9,  -999.00,9,  -999.00,9,  -999.00,9,    127,-999.000,  -999.0, 22.0235
     32MW053_1,  PRS2,     2,  7,      4,     36,2,19940309,0805, 22.7528,-157.9972, 4720,    150.0,  21.7302,  35.2752,2,  35.2875,2,    202.8,1,   -999.0,9,  -999.00,9,  -999.00,9,  -999.00,9,    150,-999.000,  -999.0, 21.7007
     32MW053_1,  PRS2,     2,  7,      3,     35,2,19940309,0805, 22.7528,-157.9972, 4720,    177.6,  20.9804,  35.2635,2,  35.2759,2,    207.3,1,   -999.0,9,  -999.00,9,  -999.00,9,  -999.00,9,    179,-999.000,  -999.0, 20.9464
     32MW053_1,  PRS2,     2,  7,      2,     34,2,19940309,0805, 22.7528,-157.9972, 4720,    464.5,   8.1976,  34.0692,2,  34.0691,2,    147.0,1,   -999.0,9,  -999.00,9,  -999.00,9,  -999.00,9,    464,-999.000,  -999.0,  8.1497
     32MW053_1,  PRS2,     2,  7,      1,     33,2,19940309,0805, 22.7528,-157.9972, 4720,   1033.7,   4.0338,  34.4914,2,  34.4928,2,     41.6,1,   -999.0,9,  -999.00,9,  -999.00,9,  -999.00,9,   1033,-999.000,  -999.0,  3.9551
     32MW053_1,  PRS2,     2,  8,      5,     23,2,19940309,1056, 22.7482,-158.0013, 4743,     12.0,  23.6678,  35.1156,2,  35.1197,2,    213.1,1,   -999.0,9,  -999.00,9,  -999.00,9,  -999.00,9,     12,-999.000,  -999.0, 23.6653
     32MW053_1,  PRS2,     2,  8,      4,     36,2,19940309,1056, 22.7482,-158.0013, 4743,     93.4,  22.3315,  35.2088,2,  35.2125,2,    217.0,1,   -999.0,9,  -999.00,9,  -999.00,9,  -999.00,9,     93,-999.000,  -999.0, 22.3128
     32MW053_1,  PRS2,     2,  8,      3,     35,2,19940309,1056, 22.7482,-158.0013, 4743,    185.2,  20.9127,  35.2630,2,  35.2678,2,    205.4,1,   -999.0,9,  -999.00,9,  -999.00,9,  -999.00,9,    184,-999.000,  -999.0, 20.8773
     32MW053_1,  PRS2,     2,  8,      2,     34,2,19940309,1056, 22.7482,-158.0013, 4743,    451.9,   8.3323,  34.0681,2,  34.0650,2,    148.1,1,   -999.0,9,  -999.00,9,  -999.00,9,  -999.00,9,    451,-999.000,  -999.0,  8.2854
     32MW053_1,  PRS2,     2,  8,      1,     33,2,19940309,1056, 22.7482,-158.0013, 4743,   1028.8,   4.1280,  34.4824,2,  34.4824,2,     40.6,1,   -999.0,9,  -999.00,9,  -999.00,9,  -999.00,9,   1028,-999.000,  -999.0,  4.0490