BOTTLE,20020809WHPSIObren
EXPOCODE,SECT_ID,STNNBR,CASTNO,SAMPNO,BTLNBR,BTLNBR_FLAG_W,DATE,TIME,LATITUDE,LONGITUDE,DEPTH,CTDPRS,CTDTMP,CTDSAL,CTDSAL_FLAG_W,SALNTY,SALNTY_FLAG_W,CTDOXY,CTDOXY_FLAG_W,OXYGEN,OXYGEN_FLAG_W,SILCAT,SILCAT_FLAG_W,NO2+NO3,NO2+NO3_FLAG_W,PHSPHT,PHSPHT_FLAG_W,CTDRAW,REVTMP,REVPRS,THETA
,,,,,,,,,,,,DBAR,ITS-90,PSS-78,,PSS-78,,UMOL/KG,,UMOL/KG,,UMOL/KG,,UMOL/KG,,UMOL/KG,,,DEG C,DBAR,ITS-90
     32MW053_1,  PRS2,     2,  9,     15,     15,2,19940309,1350, 22.7530,-158.0045, 4725,      7.8,  23.6443,  35.1188,2,  35.1179,2,    212.8,1,   -999.0,9,  -999.00,9,  -999.00,9,  -999.00,9,      8,-999.000,  -999.0, 23.6427
     32MW053_1,  PRS2,     2,  9,     14,     14,2,19940309,1350, 22.7530,-158.0045, 4725,     25.7,  23.6449,  35.1171,2,  35.1171,2,    212.9,1,   -999.0,9,  -999.00,9,  -999.00,9,  -999.00,9,     26,-999.000,  -999.0, 23.6395
     32MW053_1,  PRS2,     2,  9,     13,     13,2,19940309,1350, 22.7530,-158.0045, 4725,     45.6,  22.8653,  35.1635,2,  35.1624,2,    214.2,1,   -999.0,9,  -999.00,9,  -999.00,9,  -999.00,9,     46,-999.000,  -999.0, 22.8561
     32MW053_1,  PRS2,     2,  9,     12,     12,2,19940309,1350, 22.7530,-158.0045, 4725,     75.9,  22.4123,  35.2012,2,  35.2097,2,    216.1,1,   -999.0,9,  -999.00,9,  -999.00,9,  -999.00,9,     75,-999.000,  -999.0, 22.3971
     32MW053_1,  PRS2,     2,  9,     11,     11,2,19940309,1350, 22.7530,-158.0045, 4725,    100.8,  22.2480,  35.2127,2,  35.2136,2,    215.2,1,   -999.0,9,  -999.00,9,  -999.00,9,  -999.00,9,    100,-999.000,  -999.0, 22.2279
     32MW053_1,  PRS2,     2,  9,     10,     32,2,19940309,1350, 22.7530,-158.0045, 4725,    125.6,  22.1115,  35.2327,2,  35.2353,2,    219.4,1,   -999.0,9,  -999.00,9,  -999.00,9,  -999.00,9,    126,-999.000,  -999.0, 22.0866
     32MW053_1,  PRS2,     2,  9,      9,      3,2,19940309,1350, 22.7530,-158.0045, 4725,    152.2,  21.8773,  35.2641,2,  35.2690,2,    209.1,1,   -999.0,9,  -999.00,9,  -999.00,9,  -999.00,9,    152,-999.000,  -999.0, 21.8473
     32MW053_1,  PRS2,     2,  9,      8,     29,2,19940309,1350, 22.7530,-158.0045, 4725,    175.2,  21.2903,  35.2808,2,  35.2873,2,    202.7,1,   -999.0,9,  -999.00,9,  -999.00,9,  -999.00,9,    176,-999.000,  -999.0, 21.2564
     32MW053_1,  PRS2,     2,  9,      7,     28,2,19940309,1350, 22.7530,-158.0045, 4725,    451.3,   9.0030,  34.0806,2,  34.0768,2,    171.6,1,   -999.0,9,  -999.00,9,  -999.00,9,  -999.00,9,    451,-999.000,  -999.0,  8.9539
     32MW053_1,  PRS2,     2,  9,      6,      7,2,19940309,1350, 22.7530,-158.0045, 4725,    809.6,   4.6980,  34.3604,2,  34.3602,2,     32.6,1,   -999.0,9,  -999.00,9,  -999.00,9,  -999.00,9,    810,-999.000,  -999.0,  4.6337
     32MW053_1,  PRS2,     2,  9,      1,     33,2,19940309,1350, 22.7530,-158.0045, 4725,   1017.8,   4.1082,  34.4841,2,-999.0000,5,     40.5,1,   -999.0,9,  -999.00,9,  -999.00,9,  -999.00,9,   1018,-999.000,  -999.0,  4.0302
     32MW053_1,  PRS2,     2,  9,      2,     34,2,19940309,1350, 22.7530,-158.0045, 4725,   1018.2,   4.1072,  34.4842,2,-999.0000,5,     40.5,1,   -999.0,9,  -999.00,9,  -999.00,9,  -999.00,9,   1019,-999.000,  -999.0,  4.0293
     32MW053_1,  PRS2,     2,  9,      3,     35,2,19940309,1350, 22.7530,-158.0045, 4725,   1018.5,   4.1057,  34.4847,2,-999.0000,5,     40.5,1,   -999.0,9,  -999.00,9,  -999.00,9,  -999.00,9,   1019,-999.000,  -999.0,  4.0277
     32MW053_1,  PRS2,     2,  9,      4,     36,2,19940309,1350, 22.7530,-158.0045, 4725,   1019.0,   4.1037,  34.4845,2,-999.0000,5,     40.5,1,   -999.0,9,  -999.00,9,  -999.00,9,  -999.00,9,   1018,-999.000,  -999.0,  4.0257
     32MW053_1,  PRS2,     2,  9,      5,     23,2,19940309,1350, 22.7530,-158.0045, 4725,   1019.1,   4.1029,  34.4839,2,  34.4860,2,     40.5,1,   -999.0,9,  -999.00,9,  -999.00,9,  -999.00,9,   1018,-999.000,  -999.0,  4.0249
     32MW053_1,  PRS2,     2, 10,     24,     31,2,19940309,1700, 22.7492,-158.0005, 4722,      5.5,  23.6122,  35.1103,2,  35.1089,2,    212.0,1,   -999.0,9,  -999.00,9,  -999.00,9,  -999.00,9,      6,-999.000,  -999.0, 23.6111
     32MW053_1,  PRS2,     2, 10,     23,     30,2,19940309,1700, 22.7492,-158.0005, 4722,     25.3,  23.6115,  35.1086,2,  35.1073,2,    212.0,1,   -999.0,9,  -999.00,9,  -999.00,9,  -999.00,9,     25,-999.000,  -999.0, 23.6063
     32MW053_1,  PRS2,     2, 10,     22,     22,2,19940309,1700, 22.7492,-158.0005, 4722,     45.7,  22.8237,  35.1707,2,  35.1671,2,    216.7,1,   -999.0,9,  -999.00,9,  -999.00,9,  -999.00,9,     45,-999.000,  -999.0, 22.8145
     32MW053_1,  PRS2,     2, 10,     20,     20,2,19940309,1700, 22.7492,-158.0005, 4722,     65.3,  22.4752,  35.1942,2,-999.0000,5,    215.7,1,   -999.0,9,  -999.00,9,  -999.00,9,  -999.00,9,     65,-999.000,  -999.0, 22.4621
     32MW053_1,  PRS2,     2, 10,     21,     21,2,19940309,1700, 22.7492,-158.0005, 4722,     65.5,  22.4741,  35.1944,2,  35.1918,2,    215.5,1,   -999.0,9,  -999.00,9,  -999.00,9,  -999.00,9,     65,-999.000,  -999.0, 22.4610
     32MW053_1,  PRS2,     2, 10,     19,     19,2,19940309,1700, 22.7492,-158.0005, 4722,     75.2,  22.3964,  35.2034,2,-999.0000,5,    216.3,1,   -999.0,9,  -999.00,9,  -999.00,9,  -999.00,9,     75,-999.000,  -999.0, 22.3814
     32MW053_1,  PRS2,     2, 10,     17,     17,2,19940309,1700, 22.7492,-158.0005, 4722,     80.6,  22.3677,  35.2136,2,-999.0000,5,    217.1,1,   -999.0,9,  -999.00,9,  -999.00,9,  -999.00,9,     81,-999.000,  -999.0, 22.3515
     32MW053_1,  PRS2,     2, 10,     18,     18,2,19940309,1700, 22.7492,-158.0005, 4722,     81.0,  22.3679,  35.2138,2,-999.0000,5,    217.2,1,   -999.0,9,  -999.00,9,  -999.00,9,  -999.00,9,     81,-999.000,  -999.0, 22.3517
     32MW053_1,  PRS2,     2, 10,     16,     16,2,19940309,1700, 22.7492,-158.0005, 4722,    100.2,  22.2805,  35.2184,2,-999.0000,5,    215.2,1,   -999.0,9,  -999.00,9,  -999.00,9,  -999.00,9,    101,-999.000,  -999.0, 22.2605
     32MW053_1,  PRS2,     2, 10,     14,     14,2,19940309,1700, 22.7492,-158.0005, 4722,    110.8,  22.2104,  35.2155,2,-999.0000,5,    215.2,1,   -999.0,9,  -999.00,9,  -999.00,9,  -999.00,9,    110,-999.000,  -999.0, 22.1883
     32MW053_1,  PRS2,     2, 10,     15,     15,2,19940309,1700, 22.7492,-158.0005, 4722,    110.9,  22.2122,  35.2154,2,  35.2138,2,    215.2,1,   -999.0,9,  -999.00,9,  -999.00,9,  -999.00,9,    111,-999.000,  -999.0, 22.1902
     32MW053_1,  PRS2,     2, 10,     13,     13,2,19940309,1700, 22.7492,-158.0005, 4722,    124.0,  22.1401,  35.2404,2,  35.2377,2,    218.3,1,   -999.0,9,  -999.00,9,  -999.00,9,  -999.00,9,    124,-999.000,  -999.0, 22.1155
     32MW053_1,  PRS2,     2, 10,     11,     11,2,19940309,1700, 22.7492,-158.0005, 4722,    139.0,  22.0056,  35.2517,2,-999.0000,5,    213.5,1,   -999.0,9,  -999.00,9,  -999.00,9,  -999.00,9,    139,-999.000,  -999.0, 21.9781
     32MW053_1,  PRS2,     2, 10,     12,     12,2,19940309,1700, 22.7492,-158.0005, 4722,    139.3,  22.0049,  35.2519,2,  35.2511,2,    213.7,1,   -999.0,9,  -999.00,9,  -999.00,9,  -999.00,9,    139,-999.000,  -999.0, 21.9773
     32MW053_1,  PRS2,     2, 10,     10,     32,2,19940309,1700, 22.7492,-158.0005, 4722,    148.5,  21.8172,  35.2697,2,  35.2698,2,    206.7,1,   -999.0,9,  -999.00,9,  -999.00,9,  -999.00,9,    149,-999.000,  -999.0, 21.7880
     32MW053_1,  PRS2,     2, 10,      9,      3,2,19940309,1700, 22.7492,-158.0005, 4722,    158.6,  21.6808,  35.2733,2,  35.2777,2,    200.3,1,   -999.0,9,  -999.00,9,  -999.00,9,  -999.00,9,    159,-999.000,  -999.0, 21.6497
     32MW053_1,  PRS2,     2, 10,      8,     29,2,19940309,1700, 22.7492,-158.0005, 4722,    158.7,  21.6809,  35.2736,2,-999.0000,5,    200.2,1,   -999.0,9,  -999.00,9,  -999.00,9,  -999.00,9,    159,-999.000,  -999.0, 21.6497
     32MW053_1,  PRS2,     2, 10,      7,     28,2,19940309,1700, 22.7492,-158.0005, 4722,    175.2,  21.1652,  35.2782,2,  35.2816,2,    203.7,1,   -999.0,9,  -999.00,9,  -999.00,9,  -999.00,9,    176,-999.000,  -999.0, 21.1315
     32MW053_1,  PRS2,     2, 10,      6,      7,2,19940309,1700, 22.7492,-158.0005, 4722,    181.7,  20.9142,  35.2673,2,  35.2706,2,    203.6,1,   -999.0,9,  -999.00,9,  -999.00,9,  -999.00,9,    183,-999.000,  -999.0, 20.8795
     32MW053_1,  PRS2,     2, 10,      5,     23,2,19940309,1700, 22.7492,-158.0005, 4722,    182.1,  20.9159,  35.2672,2,-999.0000,5,    203.6,1,   -999.0,9,  -999.00,9,  -999.00,9,  -999.00,9,    182,-999.000,  -999.0, 20.8811
     32MW053_1,  PRS2,     2, 10,      3,     35,2,19940309,1700, 22.7492,-158.0005, 4722,    201.8,  20.3861,  35.2475,2,-999.0000,5,    202.9,1,   -999.0,9,  -999.00,9,  -999.00,9,  -999.00,9,    202,-999.000,  -999.0, 20.3482
     32MW053_1,  PRS2,     2, 10,      4,     36,2,19940309,1700, 22.7492,-158.0005, 4722,    202.1,  20.3856,  35.2476,2,  35.2505,2,    202.8,1,   -999.0,9,  -999.00,9,  -999.00,9,  -999.00,9,    202,-999.000,  -999.0, 20.3476
     32MW053_1,  PRS2,     2, 10,      2,     34,2,19940309,1700, 22.7492,-158.0005, 4722,    841.3,   4.6138,  34.4006,2,  34.4025,2,     32.5,1,   -999.0,9,  -999.00,9,  -999.00,9,  -999.00,9,    840,-999.000,  -999.0,  4.5473
     32MW053_1,  PRS2,     2, 10,      1,     33,2,19940309,1700, 22.7492,-158.0005, 4722,   1021.0,   4.0944,  34.4866,2,  34.4862,2,     41.4,1,   -999.0,9,  -999.00,9,  -999.00,9,  -999.00,9,   1021,-999.000,  -999.0,  4.0162
     32MW053_1,  PRS2,     2, 11,     24,     31,2,19940309,1955, 22.7505,-158.0070, 4725,      5.6,  23.7106,  35.1001,2,  35.0996,2,    213.1,1,   -999.0,9,  -999.00,9,  -999.00,9,  -999.00,9,      6,-999.000,  -999.0, 23.7094
     32MW053_1,  PRS2,     2, 11,     22,     22,2,19940309,1955, 22.7505,-158.0070, 4725,     25.4,  23.2749,  35.0959,2,  35.0937,2,    213.8,1,   -999.0,9,  -999.00,9,  -999.00,9,  -999.00,9,     26,-999.000,  -999.0, 23.2697
     32MW053_1,  PRS2,     2, 11,     23,     30,2,19940309,1955, 22.7505,-158.0070, 4725,     25.5,  23.2675,  35.0970,2,  35.0945,2,    213.9,1,   -999.0,9,  -999.00,9,  -999.00,9,  -999.00,9,     26,-999.000,  -999.0, 23.2622
     32MW053_1,  PRS2,     2, 11,     21,     21,2,19940309,1955, 22.7505,-158.0070, 4725,     45.6,  22.5548,  35.1906,2,  35.1865,2,    217.2,1,   -999.0,9,  -999.00,9,  -999.00,9,  -999.00,9,     45,-999.000,  -999.0, 22.5456
     32MW053_1,  PRS2,     2, 11,     19,     19,2,19940309,1955, 22.7505,-158.0070, 4725,     50.6,  22.5064,  35.1995,2,  35.2036,2,    216.6,1,   -999.0,9,  -999.00,9,  -999.00,9,  -999.00,9,     51,-999.000,  -999.0, 22.4962
     32MW053_1,  PRS2,     2, 11,     20,     20,2,19940309,1955, 22.7505,-158.0070, 4725,     50.9,  22.5064,  35.1995,2,  35.1969,2,    216.7,1,   -999.0,9,  -999.00,9,  -999.00,9,  -999.00,9,     49,-999.000,  -999.0, 22.4962
     32MW053_1,  PRS2,     2, 11,     18,     18,2,19940309,1955, 22.7505,-158.0070, 4725,     75.3,  22.3906,  35.2082,2,  35.2071,2,    218.8,1,   -999.0,9,  -999.00,9,  -999.00,9,  -999.00,9,     76,-999.000,  -999.0, 22.3755
     32MW053_1,  PRS2,     2, 11,     17,     17,2,19940309,1955, 22.7505,-158.0070, 4725,     75.3,  22.3909,  35.2078,2,  35.2063,2,    218.7,1,   -999.0,9,  -999.00,9,  -999.00,9,  -999.00,9,     76,-999.000,  -999.0, 22.3759
     32MW053_1,  PRS2,     2, 11,     16,     16,2,19940309,1955, 22.7505,-158.0070, 4725,    100.6,  22.1573,  35.2243,2,-999.0000,5,    218.7,1,   -999.0,9,  -999.00,9,  -999.00,9,  -999.00,9,    100,-999.000,  -999.0, 22.1373
     32MW053_1,  PRS2,     2, 11,     15,     15,2,19940309,1955, 22.7505,-158.0070, 4725,    100.6,  22.1567,  35.2241,2,  35.2357,2,    218.8,1,   -999.0,9,  -999.00,9,  -999.00,9,  -999.00,9,    100,-999.000,  -999.0, 22.1367
     32MW053_1,  PRS2,     2, 11,     14,     14,2,19940309,1955, 22.7505,-158.0070, 4725,    126.2,  21.9612,  35.2559,2,  35.2816,4,    210.7,1,   -999.0,9,  -999.00,9,  -999.00,9,  -999.00,9,    126,-999.000,  -999.0, 21.9362
     32MW053_1,  PRS2,     2, 11,     13,     13,2,19940309,1955, 22.7505,-158.0070, 4725,    140.8,  21.8170,  35.2701,2,  35.2702,2,    199.2,1,   -999.0,9,  -999.00,9,  -999.00,9,  -999.00,9,    140,-999.000,  -999.0, 21.7893
     32MW053_1,  PRS2,     2, 11,     11,     11,2,19940309,1955, 22.7505,-158.0070, 4725,    147.1,  21.6227,  35.2768,2,  35.2777,2,    201.2,1,   -999.0,9,  -999.00,9,  -999.00,9,  -999.00,9,    149,-999.000,  -999.0, 21.5939
     32MW053_1,  PRS2,     2, 11,     12,     12,2,19940309,1955, 22.7505,-158.0070, 4725,    147.9,  21.6113,  35.2787,2,  35.2999,4,    200.9,1,   -999.0,9,  -999.00,9,  -999.00,9,  -999.00,9,    148,-999.000,  -999.0, 21.5823
     32MW053_1,  PRS2,     2, 11,     10,     32,2,19940309,1955, 22.7505,-158.0070, 4725,    175.2,  20.6739,  35.2581,2,  35.2605,2,    203.0,1,   -999.0,9,  -999.00,9,  -999.00,9,  -999.00,9,    175,-999.000,  -999.0, 20.6407
     32MW053_1,  PRS2,     2, 11,      9,      3,2,19940309,1955, 22.7505,-158.0070, 4725,    175.7,  20.6534,  35.2571,2,  35.2605,2,    202.8,1,   -999.0,9,  -999.00,9,  -999.00,9,  -999.00,9,    176,-999.000,  -999.0, 20.6201
     32MW053_1,  PRS2,     2, 11,      7,     28,2,19940309,1955, 22.7505,-158.0070, 4725,    252.0,  16.3047,  34.7300,2,  34.7307,2,    192.6,1,   -999.0,9,  -999.00,9,  -999.00,9,  -999.00,9,    252,-999.000,  -999.0, 16.2643
     32MW053_1,  PRS2,     2, 11,      8,     29,2,19940309,1955, 22.7505,-158.0070, 4725,    252.5,  16.2616,  34.7252,2,  34.7252,2,    193.1,1,   -999.0,9,  -999.00,9,  -999.00,9,  -999.00,9,    252,-999.000,  -999.0, 16.2213
     32MW053_1,  PRS2,     2, 11,      5,     23,2,19940309,1955, 22.7505,-158.0070, 4725,    503.8,   7.6487,  34.0723,2,  34.0754,2,    117.7,1,   -999.0,9,  -999.00,9,  -999.00,9,  -999.00,9,    504,-999.000,  -999.0,  7.5987
     32MW053_1,  PRS2,     2, 11,      6,      7,2,19940309,1955, 22.7505,-158.0070, 4725,    504.1,   7.6410,  34.0736,2,  34.0807,2,    117.6,1,   -999.0,9,  -999.00,9,  -999.00,9,  -999.00,9,    505,-999.000,  -999.0,  7.5910
     32MW053_1,  PRS2,     2, 11,      4,     36,2,19940309,1955, 22.7505,-158.0070, 4725,    750.3,   4.9577,  34.2992,2,  34.2978,2,     34.1,1,   -999.0,9,  -999.00,9,  -999.00,9,  -999.00,9,    751,-999.000,  -999.0,  4.8970
     32MW053_1,  PRS2,     2, 11,      3,     35,2,19940309,1955, 22.7505,-158.0070, 4725,    750.3,   4.9580,  34.2989,2,  34.2974,2,     34.2,1,   -999.0,9,  -999.00,9,  -999.00,9,  -999.00,9,    750,-999.000,  -999.0,  4.8974
     32MW053_1,  PRS2,     2, 11,      1,     33,2,19940309,1955, 22.7505,-158.0070, 4725,   1022.7,   3.9910,  34.4978,2,  34.4981,2,     43.1,1,   -999.0,9,  -999.00,9,  -999.00,9,  -999.00,9,   1023,-999.000,  -999.0,  3.9136
     32MW053_1,  PRS2,     2, 11,      2,     34,2,19940309,1955, 22.7505,-158.0070, 4725,   1024.4,   3.9903,  34.4977,2,  34.4979,2,     43.1,1,   -999.0,9,  -999.00,9,  -999.00,9,  -999.00,9,   1023,-999.000,  -999.0,  3.9127
     32MW053_1,  PRS2,     2, 12,     22,     22,2,19940309,2308, 22.7498,-157.9932, 4723,      5.2,  23.8266,  35.0885,2,  35.0927,2,    214.3,1,   -999.0,9,  -999.00,9,  -999.00,9,  -999.00,9,      5,-999.000,  -999.0, 23.8255
     32MW053_1,  PRS2,     2, 12,     21,     21,2,19940309,2308, 22.7498,-157.9932, 4723,     10.0,  23.6526,  35.0845,2,  35.0923,2,    212.1,1,   -999.0,9,  -999.00,9,  -999.00,9,  -999.00,9,     10,-999.000,  -999.0, 23.6505
     32MW053_1,  PRS2,     2, 12,     20,     20,2,19940309,2308, 22.7498,-157.9932, 4723,     10.0,  23.6551,  35.0853,2,  35.0823,2,    211.9,1,   -999.0,9,  -999.00,9,  -999.00,9,  -999.00,9,     10,-999.000,  -999.0, 23.6530
     32MW053_1,  PRS2,     2, 12,     19,     19,2,19940309,2308, 22.7498,-157.9932, 4723,     14.9,  23.5005,  35.0752,2,  35.0770,2,    211.8,1,   -999.0,9,  -999.00,9,  -999.00,9,  -999.00,9,     16,-999.000,  -999.0, 23.4974
     32MW053_1,  PRS2,     2, 12,     18,     18,2,19940309,2308, 22.7498,-157.9932, 4723,     15.0,  23.5072,  35.0762,2,  35.0850,2,    211.9,1,   -999.0,9,  -999.00,9,  -999.00,9,  -999.00,9,     15,-999.000,  -999.0, 23.5041
     32MW053_1,  PRS2,     2, 12,     17,     17,2,19940309,2308, 22.7498,-157.9932, 4723,     19.9,  23.0841,  35.1307,2,  35.1252,2,    213.2,1,   -999.0,9,  -999.00,9,  -999.00,9,  -999.00,9,     20,-999.000,  -999.0, 23.0800
     32MW053_1,  PRS2,     2, 12,     16,     16,2,19940309,2308, 22.7498,-157.9932, 4723,     19.9,  23.0800,  35.1320,2,  35.1248,2,    213.1,1,   -999.0,9,  -999.00,9,  -999.00,9,  -999.00,9,     20,-999.000,  -999.0, 23.0760
     32MW053_1,  PRS2,     2, 12,     14,     14,2,19940309,2308, 22.7498,-157.9932, 4723,     24.8,  22.8794,  35.1585,2,  35.1563,2,    213.0,1,   -999.0,9,  -999.00,9,  -999.00,9,  -999.00,9,     25,-999.000,  -999.0, 22.8743
     32MW053_1,  PRS2,     2, 12,     15,     15,2,19940309,2308, 22.7498,-157.9932, 4723,     25.0,  22.8730,  35.1584,2,  35.1577,2,    213.2,1,   -999.0,9,  -999.00,9,  -999.00,9,  -999.00,9,     26,-999.000,  -999.0, 22.8679
     32MW053_1,  PRS2,     2, 12,     13,     13,2,19940309,2308, 22.7498,-157.9932, 4723,     34.8,  22.7064,  35.1743,2,  35.1727,2,    216.3,1,   -999.0,9,  -999.00,9,  -999.00,9,  -999.00,9,     36,-999.000,  -999.0, 22.6994
     32MW053_1,  PRS2,     2, 12,     12,     12,2,19940309,2308, 22.7498,-157.9932, 4723,     35.2,  22.7066,  35.1749,2,  35.1727,2,    216.4,1,   -999.0,9,  -999.00,9,  -999.00,9,  -999.00,9,     36,-999.000,  -999.0, 22.6995
     32MW053_1,  PRS2,     2, 12,     11,     11,2,19940309,2308, 22.7498,-157.9932, 4723,     44.3,  22.5725,  35.1847,2,  35.1825,2,    214.9,1,   -999.0,9,  -999.00,9,  -999.00,9,  -999.00,9,     48,-999.000,  -999.0, 22.5636
     32MW053_1,  PRS2,     2, 12,     10,     32,2,19940309,2308, 22.7498,-157.9932, 4723,     74.6,  22.2649,  35.2077,2,  35.2063,2,    215.6,1,   -999.0,9,  -999.00,9,  -999.00,9,  -999.00,9,     74,-999.000,  -999.0, 22.2500
     32MW053_1,  PRS2,     2, 12,      9,      3,2,19940309,2308, 22.7498,-157.9932, 4723,    100.2,  22.1045,  35.2387,2,  35.2379,2,    218.6,1,   -999.0,9,  -999.00,9,  -999.00,9,  -999.00,9,    101,-999.000,  -999.0, 22.0846
     32MW053_1,  PRS2,     2, 12,      8,     29,2,19940309,2308, 22.7498,-157.9932, 4723,    123.6,  21.8858,  35.2557,2,  35.2564,2,    210.7,1,   -999.0,9,  -999.00,9,  -999.00,9,  -999.00,9,    125,-999.000,  -999.0, 21.8614
     32MW053_1,  PRS2,     2, 12,      7,     28,2,19940309,2308, 22.7498,-157.9932, 4723,    150.0,  21.4121,  35.2952,2,  35.2968,2,    205.4,1,   -999.0,9,  -999.00,9,  -999.00,9,  -999.00,9,    150,-999.000,  -999.0, 21.3830
     32MW053_1,  PRS2,     2, 12,      6,      7,2,19940309,2308, 22.7498,-157.9932, 4723,    175.5,  20.5968,  35.2546,2,  35.2639,2,    205.5,1,   -999.0,9,  -999.00,9,  -999.00,9,  -999.00,9,    175,-999.000,  -999.0, 20.5636
     32MW053_1,  PRS2,     2, 12,      5,     23,2,19940309,2308, 22.7498,-157.9932, 4723,    247.0,  16.9536,  34.8120,2,  34.8163,2,    198.9,1,   -999.0,9,  -999.00,9,  -999.00,9,  -999.00,9,    248,-999.000,  -999.0, 16.9130
     32MW053_1,  PRS2,     2, 12,      4,     36,2,19940309,2308, 22.7498,-157.9932, 4723,    448.5,   8.4700,  34.0769,2,  34.0731,2,    144.4,1,   -999.0,9,  -999.00,9,  -999.00,9,  -999.00,9,    449,-999.000,  -999.0,  8.4230
     32MW053_1,  PRS2,     2, 12,      3,     35,2,19940309,2308, 22.7498,-157.9932, 4723,    499.0,   7.7438,  34.0731,2,  34.0701,2,    128.0,1,   -999.0,9,  -999.00,9,  -999.00,9,  -999.00,9,    499,-999.000,  -999.0,  7.6940
     32MW053_1,  PRS2,     2, 12,      2,     34,2,19940309,2308, 22.7498,-157.9932, 4723,    749.6,   4.9661,  34.2977,2,  34.3031,2,     34.4,1,   -999.0,9,  -999.00,9,  -999.00,9,  -999.00,9,    749,-999.000,  -999.0,  4.9054
     32MW053_1,  PRS2,     2, 12,      1,     33,2,19940309,2308, 22.7498,-157.9932, 4723,   1035.8,   4.0097,  34.4991,2,  34.5031,2,     43.2,1,   -999.0,9,  -999.00,9,  -999.00,9,  -999.00,9,   1037,-999.000,  -999.0,  3.9310