BOTTLE,20020809WHPSIObren
EXPOCODE,SECT_ID,STNNBR,CASTNO,SAMPNO,BTLNBR,BTLNBR_FLAG_W,DATE,TIME,LATITUDE,LONGITUDE,DEPTH,CTDPRS,CTDTMP,CTDSAL,CTDSAL_FLAG_W,SALNTY,SALNTY_FLAG_W,CTDOXY,CTDOXY_FLAG_W,OXYGEN,OXYGEN_FLAG_W,SILCAT,SILCAT_FLAG_W,NO2+NO3,NO2+NO3_FLAG_W,PHSPHT,PHSPHT_FLAG_W,CTDRAW,REVTMP,REVPRS,THETA
,,,,,,,,,,,,DBAR,ITS-90,PSS-78,,PSS-78,,UMOL/KG,,UMOL/KG,,UMOL/KG,,UMOL/KG,,UMOL/KG,,,DEG C,DBAR,ITS-90
     32MW053_1,  PRS2,     2, 21,     24,     31,2,19940311,0246, 22.7440,-157.9810, 4218,      5.1,  23.8392,  35.0722,2,  35.0770,2,    212.7,1,   -999.0,9,  -999.00,9,  -999.00,9,  -999.00,9,      6,-999.000,  -999.0, 23.8381
     32MW053_1,  PRS2,     2, 21,     23,     30,2,19940311,0246, 22.7440,-157.9810, 4218,     25.2,  23.6588,  35.0738,2,  35.0744,2,    213.4,1,   -999.0,9,  -999.00,9,  -999.00,9,  -999.00,9,     25,-999.000,  -999.0, 23.6535
     32MW053_1,  PRS2,     2, 21,     22,     22,2,19940311,0246, 22.7440,-157.9810, 4218,     45.3,  22.9381,  35.1355,2,  35.1376,2,    217.8,1,   -999.0,9,  -999.00,9,  -999.00,9,  -999.00,9,     44,-999.000,  -999.0, 22.9288
     32MW053_1,  PRS2,     2, 21,     21,     21,2,19940311,0246, 22.7440,-157.9810, 4218,     59.0,  22.7634,  35.1372,2,  35.1469,2,    217.4,1,   -999.0,9,  -999.00,9,  -999.00,9,  -999.00,9,     60,-999.000,  -999.0, 22.7514
     32MW053_1,  PRS2,     2, 21,     20,     20,2,19940311,0246, 22.7440,-157.9810, 4218,    199.0,  19.7622,  35.0839,2,  35.0927,2,    186.2,1,   -999.0,9,  -999.00,9,  -999.00,9,  -999.00,9,    198,-999.000,  -999.0, 19.7257
     32MW053_1,  PRS2,     2, 21,     19,     19,2,19940311,0246, 22.7440,-157.9810, 4218,    297.9,  14.4866,  34.4925,2,  34.5003,2,    195.0,1,   -999.0,9,  -999.00,9,  -999.00,9,  -999.00,9,    298,-999.000,  -999.0, 14.4426
     32MW053_1,  PRS2,     2, 21,     18,     18,2,19940311,0246, 22.7440,-157.9810, 4218,    398.8,   9.7195,  34.0989,2,  34.0944,2,    187.9,1,   -999.0,9,  -999.00,9,  -999.00,9,  -999.00,9,    399,-999.000,  -999.0,  9.6741
     32MW053_1,  PRS2,     2, 21,     17,     17,2,19940311,0246, 22.7440,-157.9810, 4218,    424.0,   8.9399,  34.0793,2,  34.0748,2,    164.1,1,   -999.0,9,  -999.00,9,  -999.00,9,  -999.00,9,    425,-999.000,  -999.0,  8.8940
     32MW053_1,  PRS2,     2, 21,     16,     16,2,19940311,0246, 22.7440,-157.9810, 4218,    448.1,   8.4102,  34.0771,2,  34.0858,2,    146.4,1,   -999.0,9,  -999.00,9,  -999.00,9,  -999.00,9,    448,-999.000,  -999.0,  8.3633
     32MW053_1,  PRS2,     2, 21,     15,     15,2,19940311,0246, 22.7440,-157.9810, 4218,    473.1,   8.0091,  34.0746,2,  34.0711,2,    136.1,1,   -999.0,9,  -999.00,9,  -999.00,9,  -999.00,9,    474,-999.000,  -999.0,  7.9610
     32MW053_1,  PRS2,     2, 21,     14,     14,2,19940311,0246, 22.7440,-157.9810, 4218,    498.2,   7.6109,  34.0779,2,  34.0742,2,    115.6,1,   -999.0,9,  -999.00,9,  -999.00,9,  -999.00,9,    500,-999.000,  -999.0,  7.5616
     32MW053_1,  PRS2,     2, 21,     13,     13,2,19940311,0246, 22.7440,-157.9810, 4218,    523.7,   7.1720,  34.0883,2,  34.0837,2,    100.0,1,   -999.0,9,  -999.00,9,  -999.00,9,  -999.00,9,    524,-999.000,  -999.0,  7.1219
     32MW053_1,  PRS2,     2, 21,     12,     12,2,19940311,0246, 22.7440,-157.9810, 4218,    548.6,   6.6860,  34.0920,2,  34.0923,2,    102.1,1,   -999.0,9,  -999.00,9,  -999.00,9,  -999.00,9,    549,-999.000,  -999.0,  6.6354
     32MW053_1,  PRS2,     2, 21,     11,     11,2,19940311,0246, 22.7440,-157.9810, 4218,    574.7,   6.3143,  34.1306,2,  34.1311,2,     62.3,1,   -999.0,9,  -999.00,9,  -999.00,9,  -999.00,9,    575,-999.000,  -999.0,  6.2628
     32MW053_1,  PRS2,     2, 21,     10,     32,2,19940311,0246, 22.7440,-157.9810, 4218,    599.4,   6.0321,  34.1436,2,  34.1409,2,     60.8,1,   -999.0,9,  -999.00,9,  -999.00,9,  -999.00,9,    601,-999.000,  -999.0,  5.9795
     32MW053_1,  PRS2,     2, 21,      9,      3,2,19940311,0246, 22.7440,-157.9810, 4218,    625.0,   5.6432,  34.1642,2,  34.1628,2,     49.1,1,   -999.0,9,  -999.00,9,  -999.00,9,  -999.00,9,    625,-999.000,  -999.0,  5.5901
     32MW053_1,  PRS2,     2, 21,      8,     29,2,19940311,0246, 22.7440,-157.9810, 4218,    650.3,   5.4583,  34.1975,2,  34.1950,2,     41.4,1,   -999.0,9,  -999.00,9,  -999.00,9,  -999.00,9,    651,-999.000,  -999.0,  5.4038
     32MW053_1,  PRS2,     2, 21,      7,     28,2,19940311,0246, 22.7440,-157.9810, 4218,    675.7,   5.2977,  34.2295,2,  34.2256,2,     39.1,1,   -999.0,9,  -999.00,9,  -999.00,9,  -999.00,9,    676,-999.000,  -999.0,  5.2418
     32MW053_1,  PRS2,     2, 21,      6,      7,2,19940311,0246, 22.7440,-157.9810, 4218,    700.8,   5.1943,  34.2520,2,  34.2489,2,     37.0,1,   -999.0,9,  -999.00,9,  -999.00,9,  -999.00,9,    699,-999.000,  -999.0,  5.1367
     32MW053_1,  PRS2,     2, 21,      5,     23,2,19940311,0246, 22.7440,-157.9810, 4218,    725.8,   5.0985,  34.2730,2,  34.2715,2,     36.2,1,   -999.0,9,  -999.00,9,  -999.00,9,  -999.00,9,    725,-999.000,  -999.0,  5.0392
     32MW053_1,  PRS2,     2, 21,      4,     36,2,19940311,0246, 22.7440,-157.9810, 4218,    750.8,   5.0112,  34.2902,2,  34.2917,2,     35.4,1,   -999.0,9,  -999.00,9,  -999.00,9,  -999.00,9,    751,-999.000,  -999.0,  4.9502
     32MW053_1,  PRS2,     2, 21,      3,     35,2,19940311,0246, 22.7440,-157.9810, 4218,    775.3,   4.9195,  34.3114,2,  34.3131,2,     32.7,1,   -999.0,9,  -999.00,9,  -999.00,9,  -999.00,9,    775,-999.000,  -999.0,  4.8569
     32MW053_1,  PRS2,     2, 21,      2,     34,2,19940311,0246, 22.7440,-157.9810, 4218,    801.5,   4.7445,  34.3517,2,  34.3488,2,     32.7,1,   -999.0,9,  -999.00,9,  -999.00,9,  -999.00,9,    800,-999.000,  -999.0,  4.6806
     32MW053_1,  PRS2,     2, 21,      1,     33,2,19940311,0246, 22.7440,-157.9810, 4218,   1034.4,   4.0588,  34.4902,2,  34.4909,2,     42.3,1,   -999.0,9,  -999.00,9,  -999.00,9,  -999.00,9,   1035,-999.000,  -999.0,  3.9799
     32MW053_1,  PRS2,     2, 22,      5,     23,2,19940311,0459, 22.7455,-158.0100, 4729,     25.3,  23.3450,  35.1221,2,  35.1266,2,    212.1,1,   -999.0,9,  -999.00,9,  -999.00,9,  -999.00,9,     26,-999.000,  -999.0, 23.3398
     32MW053_1,  PRS2,     2, 22,      4,     36,2,19940311,0459, 22.7455,-158.0100, 4729,     25.5,  23.3453,  35.1227,2,  35.1272,2,    212.1,1,   -999.0,9,  -999.00,9,  -999.00,9,  -999.00,9,     25,-999.000,  -999.0, 23.3401
     32MW053_1,  PRS2,     2, 22,      3,     35,2,19940311,0459, 22.7455,-158.0100, 4729,     97.4,  22.3631,  35.2063,2,  35.2119,2,    215.2,1,   -999.0,9,  -999.00,9,  -999.00,9,  -999.00,9,     97,-999.000,  -999.0, 22.3436
     32MW053_1,  PRS2,     2, 22,      2,     34,2,19940311,0459, 22.7455,-158.0100, 4729,    509.6,   7.5908,  34.0759,2,  34.0717,2,    132.5,1,   -999.0,9,  -999.00,9,  -999.00,9,  -999.00,9,    509,-999.000,  -999.0,  7.5404
     32MW053_1,  PRS2,     2, 22,      1,     33,2,19940311,0459, 22.7455,-158.0100, 4729,   1020.9,   4.0588,  34.4910,2,  34.4905,2,     42.2,1,   -999.0,9,  -999.00,9,  -999.00,9,  -999.00,9,   1022,-999.000,  -999.0,  3.9809
     32MW053_1,  PRS2,     3,  1,     22,     22,2,19940311,1527, 23.4193,-158.0013, 4500,      5.3,  23.6595,  35.0460,2,  35.0463,2,    212.3,2,    212.7,2,  -999.00,9,  -999.00,9,  -999.00,9,      5,-999.000,  -999.0, 23.6584
     32MW053_1,  PRS2,     3,  1,     21,     21,2,19940311,1527, 23.4193,-158.0013, 4500,     24.9,  23.6712,  35.0451,2,  35.0443,2,    212.3,2,    212.5,2,  -999.00,9,  -999.00,9,  -999.00,9,     26,-999.000,  -999.0, 23.6660
     32MW053_1,  PRS2,     3,  1,     20,     20,2,19940311,1527, 23.4193,-158.0013, 4500,     45.4,  23.5686,  35.0592,2,  35.0610,2,    212.6,2,    213.0,2,  -999.00,9,  -999.00,9,  -999.00,9,     46,-999.000,  -999.0, 23.5592
     32MW053_1,  PRS2,     3,  1,     19,     19,2,19940311,1527, 23.4193,-158.0013, 4500,     57.5,  23.1395,  35.0937,2,  35.0941,2,    213.3,2,    214.7,2,  -999.00,9,  -999.00,9,  -999.00,9,     58,-999.000,  -999.0, 23.1278
     32MW053_1,  PRS2,     3,  1,     18,     18,2,19940311,1527, 23.4193,-158.0013, 4500,     76.5,  22.7234,  35.1317,2,  35.1278,2,    216.3,2,    215.8,2,  -999.00,9,  -999.00,9,  -999.00,9,     77,-999.000,  -999.0, 22.7079
     32MW053_1,  PRS2,     3,  1,     17,     17,2,19940311,1527, 23.4193,-158.0013, 4500,     95.9,  22.3643,  35.2009,2,  35.1998,2,    210.9,2,    213.0,2,  -999.00,9,  -999.00,9,  -999.00,9,     95,-999.000,  -999.0, 22.3452
     32MW053_1,  PRS2,     3,  1,     16,     16,2,19940311,1527, 23.4193,-158.0013, 4500,    105.8,  22.1996,  35.2199,2,  35.2174,2,    209.4,2,    212.2,2,  -999.00,9,  -999.00,9,  -999.00,9,    105,-999.000,  -999.0, 22.1786
     32MW053_1,  PRS2,     3,  1,     15,     15,2,19940311,1527, 23.4193,-158.0013, 4500,    108.7,  22.1539,  35.2222,2,  35.2217,2,    209.5,2,    212.0,2,  -999.00,9,  -999.00,9,  -999.00,9,    109,-999.000,  -999.0, 22.1323
     32MW053_1,  PRS2,     3,  1,     14,     14,2,19940311,1527, 23.4193,-158.0013, 4500,    116.3,  21.6819,  35.2662,2,  35.2680,2,    203.2,2,    210.0,2,  -999.00,9,  -999.00,9,  -999.00,9,    116,-999.000,  -999.0, 21.6591
     32MW053_1,  PRS2,     3,  1,     13,     13,2,19940311,1527, 23.4193,-158.0013, 4500,    126.6,  21.3492,  35.2697,2,  35.2721,2,    206.5,2,    206.2,2,  -999.00,9,  -999.00,9,  -999.00,9,    127,-999.000,  -999.0, 21.3247
     32MW053_1,  PRS2,     3,  1,     12,     12,2,19940311,1527, 23.4193,-158.0013, 4500,    148.4,  21.2811,  35.3606,2,  35.3614,2,    219.4,2,    212.3,2,  -999.00,9,  -999.00,9,  -999.00,9,    148,-999.000,  -999.0, 21.2524
     32MW053_1,  PRS2,     3,  1,     11,     11,2,19940311,1527, 23.4193,-158.0013, 4500,    176.2,  21.0303,  35.3597,2,  35.3612,2,    214.5,2,    212.1,2,  -999.00,9,  -999.00,9,  -999.00,9,    176,-999.000,  -999.0, 20.9965
     32MW053_1,  PRS2,     3,  1,     10,     32,2,19940311,1527, 23.4193,-158.0013, 4500,    202.9,  19.3178,  35.1137,2,  35.1222,2,    195.8,2,    201.3,2,  -999.00,9,  -999.00,9,  -999.00,9,    203,-999.000,  -999.0, 19.2811
     32MW053_1,  PRS2,     3,  1,      9,      3,2,19940311,1527, 23.4193,-158.0013, 4500,    227.5,  17.6824,  34.8995,2,  34.8973,2,    191.1,2,    196.0,2,  -999.00,9,  -999.00,9,  -999.00,9,    226,-999.000,  -999.0, 17.6438
     32MW053_1,  PRS2,     3,  1,      8,     29,2,19940311,1527, 23.4193,-158.0013, 4500,    249.5,  16.5331,  34.7627,2,  34.7783,2,    197.6,2,    197.5,2,  -999.00,9,  -999.00,9,  -999.00,9,    250,-999.000,  -999.0, 16.4927
     32MW053_1,  PRS2,     3,  1,      7,     28,2,19940311,1527, 23.4193,-158.0013, 4500,    297.8,  13.3627,  34.3751,2,  34.3727,2,    195.4,2,    193.7,2,  -999.00,9,  -999.00,9,  -999.00,9,    298,-999.000,  -999.0, 13.3211
     32MW053_1,  PRS2,     3,  1,      6,      7,2,19940311,1527, 23.4193,-158.0013, 4500,    401.5,   9.6959,  34.0964,2,  34.0962,2,    182.4,2,    182.5,2,  -999.00,9,  -999.00,9,  -999.00,9,    402,-999.000,  -999.0,  9.6502
     32MW053_1,  PRS2,     3,  1,      5,     23,2,19940311,1527, 23.4193,-158.0013, 4500,    531.0,   6.5611,  34.0358,2,  34.0441,3,    109.2,3,    108.6,2,  -999.00,9,  -999.00,9,  -999.00,9,    531,-999.000,  -999.0,  6.5127
     32MW053_1,  PRS2,     3,  1,      3,     35,2,19940311,1527, 23.4193,-158.0013, 4500,    751.7,   4.7018,  34.3137,2,-999.0000,5,     26.8,2,   -999.0,5,  -999.00,9,  -999.00,9,  -999.00,9,    752,-999.000,  -999.0,  4.6425
     32MW053_1,  PRS2,     3,  1,      4,     36,2,19940311,1527, 23.4193,-158.0013, 4500,    752.6,   4.6983,  34.3151,2,  34.3203,2,     26.8,2,     23.2,2,  -999.00,9,  -999.00,9,  -999.00,9,    753,-999.000,  -999.0,  4.6389
     32MW053_1,  PRS2,     3,  1,      1,     33,2,19940311,1527, 23.4193,-158.0013, 4500,   1030.5,   3.9681,  34.4903,2,-999.0000,5,     40.9,2,   -999.0,5,  -999.00,9,  -999.00,9,  -999.00,9,   1031,-999.000,  -999.0,  3.8902
     32MW053_1,  PRS2,     3,  1,      2,     34,2,19940311,1527, 23.4193,-158.0013, 4500,   1030.7,   3.9676,  34.4904,2,  34.4938,2,     40.9,2,     41.2,2,  -999.00,9,  -999.00,9,  -999.00,9,   1031,-999.000,  -999.0,  3.8897
     32MW053_1,  PRS2,     6,  1,     11,     11,2,19940308,0422, 21.8485,-158.3638, 2480,      7.7,  23.0294,  35.2172,2,  35.2142,2,    213.5,2,    216.8,2,  -999.00,9,  -999.00,9,  -999.00,9,      8,-999.000,  -999.0, 23.0279
     32MW053_1,  PRS2,     6,  1,     10,     32,2,19940308,0422, 21.8485,-158.3638, 2480,      7.7,  23.0385,  35.2159,2,  35.2162,2,    213.7,2,    217.1,2,  -999.00,9,  -999.00,9,  -999.00,9,      8,-999.000,  -999.0, 23.0370
     32MW053_1,  PRS2,     6,  1,      9,      3,2,19940308,0422, 21.8485,-158.3638, 2480,     47.3,  21.1801,  35.2827,2,  35.2792,2,    211.7,2,   -999.0,5,  -999.00,9,  -999.00,9,  -999.00,9,     48,-999.000,  -999.0, 21.1710
     32MW053_1,  PRS2,     6,  1,      8,     29,2,19940308,0422, 21.8485,-158.3638, 2480,     62.1,  20.8414,  35.2595,2,  35.2550,2,    217.9,2,    211.0,2,  -999.00,9,  -999.00,9,  -999.00,9,     62,-999.000,  -999.0, 20.8296
     32MW053_1,  PRS2,     6,  1,      7,     28,2,19940308,0422, 21.8485,-158.3638, 2480,     76.2,  20.6959,  35.2496,2,  34.6170,4,    213.1,3,   -999.0,5,  -999.00,9,  -999.00,9,  -999.00,9,     76,-999.000,  -999.0, 20.6814
     32MW053_1,  PRS2,     6,  1,      6,      7,2,19940308,0422, 21.8485,-158.3638, 2480,    101.9,  20.1098,  35.2001,2,  35.1969,2,    198.9,2,   -999.0,5,  -999.00,9,  -999.00,9,  -999.00,9,    103,-999.000,  -999.0, 20.0909
     32MW053_1,  PRS2,     6,  1,      5,     23,2,19940308,0422, 21.8485,-158.3638, 2480,    127.2,  19.7348,  35.1594,2,  35.1571,2,    207.2,2,   -999.0,5,  -999.00,9,  -999.00,9,  -999.00,9,    128,-999.000,  -999.0, 19.7115
     32MW053_1,  PRS2,     6,  1,      4,     36,2,19940308,0422, 21.8485,-158.3638, 2480,    152.3,  19.2975,  35.1018,2,  35.1024,2,    205.6,2,   -999.0,5,  -999.00,9,  -999.00,9,  -999.00,9,    152,-999.000,  -999.0, 19.2700
     32MW053_1,  PRS2,     6,  1,      3,     35,2,19940308,0422, 21.8485,-158.3638, 2480,    177.4,  18.5218,  35.0064,2,  35.0037,2,    198.1,2,   -999.0,5,  -999.00,9,  -999.00,9,  -999.00,9,    176,-999.000,  -999.0, 18.4907
     32MW053_1,  PRS2,     6,  1,      2,     34,2,19940308,0422, 21.8485,-158.3638, 2480,    466.4,   7.6089,  34.0700,2,  34.0654,2,    127.1,2,    125.9,2,  -999.00,9,  -999.00,9,  -999.00,9,    466,-999.000,  -999.0,  7.5628
     32MW053_1,  PRS2,     6,  1,      1,     33,2,19940308,0422, 21.8485,-158.3638, 2480,   2479.1,   1.7326,  34.6539,2,  34.6539,2,    108.7,2,    112.1,2,  -999.00,9,  -999.00,9,  -999.00,9,   2480,-999.000,  -999.0,  1.5592