BOTTLE,20020809WHPSIObren
#code : jjward hyd_to_exchange.pl 
#original files copied from HTML directory: 20020809
#original HYD file: /whpo/11/HOTS/BOTTLE/hot53/hot53.sea   Fri Aug  9 09:51:34 2002
#original SUM file: /whpo/11/HOTS/BOTTLE/hot53/hot53.sum   Fri Aug  9 13:30:38 2002
EXPOCODE,SECT_ID,STNNBR,CASTNO,SAMPNO,BTLNBR,BTLNBR_FLAG_W,DATE,TIME,LATITUDE,LONGITUDE,DEPTH,CTDPRS,CTDTMP,CTDSAL,CTDSAL_FLAG_W,SALNTY,SALNTY_FLAG_W,CTDOXY,CTDOXY_FLAG_W,OXYGEN,OXYGEN_FLAG_W,SILCAT,SILCAT_FLAG_W,NO2+NO3,NO2+NO3_FLAG_W,PHSPHT,PHSPHT_FLAG_W,CTDRAW,REVTMP,REVPRS,THETA
,,,,,,,,,,,,DBAR,ITS-90,PSS-78,,PSS-78,,UMOL/KG,,UMOL/KG,,UMOL/KG,,UMOL/KG,,UMOL/KG,,,DEG C,DBAR,ITS-90
     32MW053_1,  PRS2,     1,  2,      2,     34,2,19940308,0045, 21.3697,-158.2895, 1100,    753.4,   4.9644,  34.3586,2,  34.3574,2,     39.6,1,   -999.0,9,  -999.00,9,  -999.00,9,  -999.00,9,    753,-999.000,  -999.0,  4.9033
     32MW053_1,  PRS2,     1,  2,      1,     33,2,19940308,0045, 21.3697,-158.2895, 1100,   1104.3,   3.6826,  34.5192,2,  34.5225,2,     47.7,1,   -999.0,9,  -999.00,9,  -999.00,9,  -999.00,9,   1104,-999.000,  -999.0,  3.6009
     32MW053_1,  PRS2,     1,  3,     24,     31,2,19940312,0807, 21.3430,-158.2738, 1500,      5.0,  24.2524,  34.9302,2,-999.0000,5,    205.7,2,    210.8,2,     1.75,2,     0.01,2,     0.07,2,      5,-999.000,  -999.0, 24.2513
     32MW053_1,  PRS2,     1,  3,     23,     30,2,19940312,0807, 21.3430,-158.2738, 1500,     25.1,  23.2619,  35.1005,2,-999.0000,5,    211.3,2,    213.3,2,     1.80,2,     0.00,2,     0.06,2,     25,-999.000,  -999.0, 23.2567
     32MW053_1,  PRS2,     1,  3,     22,     22,2,19940312,0807, 21.3430,-158.2738, 1500,     44.6,  22.7817,  35.1404,2,-999.0000,5,    209.8,2,    212.4,2,     1.78,2,     0.00,2,     0.07,2,     45,-999.000,  -999.0, 22.7727
     32MW053_1,  PRS2,     1,  3,     21,     21,2,19940312,0807, 21.3430,-158.2738, 1500,     59.7,  21.8644,  35.1386,2,  35.1398,2,    209.8,2,    207.2,2,     1.71,2,     0.01,2,     0.09,2,     60,-999.000,  -999.0, 21.8527
     32MW053_1,  PRS2,     1,  3,     20,     20,2,19940312,0807, 21.3430,-158.2738, 1500,     75.2,  21.4005,  35.2102,2,  35.2105,2,    204.3,2,    206.0,2,     1.91,2,     0.30,2,     0.09,2,     75,-999.000,  -999.0, 21.3859
     32MW053_1,  PRS2,     1,  3,     19,     19,2,19940312,0807, 21.3430,-158.2738, 1500,     93.2,  20.7443,  35.1825,2,  35.1894,2,    201.4,2,    199.5,2,     2.22,2,     1.03,2,     0.14,2,     94,-999.000,  -999.0, 20.7266
     32MW053_1,  PRS2,     1,  3,     18,     18,2,19940312,0807, 21.3430,-158.2738, 1500,    100.6,  20.5259,  35.1586,2,  35.1567,2,    197.6,2,    196.9,2,     2.32,2,     1.28,2,     0.17,2,    101,-999.000,  -999.0, 20.5069
     32MW053_1,  PRS2,     1,  3,     17,     17,2,19940312,0807, 21.3430,-158.2738, 1500,    114.4,  19.5148,  35.0135,2,  35.0098,2,    186.3,2,    184.4,2,     3.26,2,     3.03,2,     0.30,2,    115,-999.000,  -999.0, 19.4941
     32MW053_1,  PRS2,     1,  3,     16,     16,2,19940312,0807, 21.3430,-158.2738, 1500,    124.5,  19.3969,  35.0628,2,  35.0943,4,    200.8,3,    193.6,2,     2.69,2,     2.09,2,     0.21,2,    125,-999.000,  -999.0, 19.3744
     32MW053_1,  PRS2,     1,  3,     15,     15,2,19940312,0807, 21.3430,-158.2738, 1500,    149.7,  18.4522,  34.9942,2,  34.9963,2,    196.6,2,    193.8,2,     3.23,2,     2.72,2,     0.24,2,    150,-999.000,  -999.0, 18.4261
     32MW053_1,  PRS2,     1,  3,     14,     14,2,19940312,0807, 21.3430,-158.2738, 1500,    175.2,  17.0081,  34.7845,2,  34.7844,2,    182.1,2,    182.3,2,     5.17,2,     5.54,2,     0.45,2,    175,-999.000,  -999.0, 16.9792
     32MW053_1,  PRS2,     1,  3,     13,     13,2,19940312,0807, 21.3430,-158.2738, 1500,    199.9,  15.4009,  34.6166,2,  34.6136,2,    189.1,2,    190.4,2,     6.80,2,     7.13,2,     0.55,2,    201,-999.000,  -999.0, 15.3702
     32MW053_1,  PRS2,     1,  3,     12,     12,2,19940312,0807, 21.3430,-158.2738, 1500,    224.7,  14.6753,  34.5440,2,  34.5400,2,    188.0,2,    187.1,2,     7.88,2,     8.20,2,     0.63,2,    224,-999.000,  -999.0, 14.6419
     32MW053_1,  PRS2,     1,  3,     11,     11,2,19940312,0807, 21.3430,-158.2738, 1500,    250.9,  12.9245,  34.3742,2,  34.3780,2,    178.0,2,    181.8,2,    11.62,2,    11.59,2,     0.86,2,    250,-999.000,  -999.0, 12.8902
     32MW053_1,  PRS2,     1,  3,     10,     32,2,19940312,0807, 21.3430,-158.2738, 1500,    273.7,  12.4409,  34.3368,2,  34.3325,2,    185.7,2,   -999.0,5,  -999.00,5,  -999.00,5,  -999.00,5,    273,-999.000,  -999.0, 12.4045
     32MW053_1,  PRS2,     1,  3,      9,      3,2,19940312,0807, 21.3430,-158.2738, 1500,    298.4,  10.6746,  34.2189,2,  34.2175,2,    178.0,2,    177.0,2,    19.19,2,    16.12,2,     1.16,2,    300,-999.000,  -999.0, 10.6387
     32MW053_1,  PRS2,     1,  3,      8,     29,2,19940312,0807, 21.3430,-158.2738, 1500,    348.4,   9.3635,  34.1559,2,  34.1628,2,    160.0,2,   -999.0,5,  -999.00,5,  -999.00,5,  -999.00,5,    349,-999.000,  -999.0,  9.3248
     32MW053_1,  PRS2,     1,  3,      7,     28,2,19940312,0807, 21.3430,-158.2738, 1500,    398.9,   8.1773,  34.1199,2,  34.1221,2,    136.4,2,    136.5,2,    37.98,2,    25.07,2,     1.80,2,    399,-999.000,  -999.0,  8.1364
     32MW053_1,  PRS2,     1,  3,      6,      7,2,19940312,0807, 21.3430,-158.2738, 1500,    498.7,   6.7200,  34.1222,2,  34.1193,2,     93.6,2,     90.8,2,    48.50,3,    29.10,3,     2.11,3,    499,-999.000,  -999.0,  6.6740
     32MW053_1,  PRS2,     1,  3,      5,     23,2,19940312,0807, 21.3430,-158.2738, 1500,    586.2,   5.7776,  34.2074,2,  34.2073,2,     55.9,2,   -999.0,5,  -999.00,5,  -999.00,5,  -999.00,5,    587,-999.000,  -999.0,  5.7273
     32MW053_1,  PRS2,     1,  3,      4,     36,2,19940312,0807, 21.3430,-158.2738, 1500,    669.7,   5.0743,  34.3072,2,  34.3074,2,     40.1,2,   -999.0,5,  -999.00,5,  -999.00,5,  -999.00,5,    669,-999.000,  -999.0,  5.0199
     32MW053_1,  PRS2,     1,  3,      3,     35,2,19940312,0807, 21.3430,-158.2738, 1500,    750.6,   4.8533,  34.3953,2,  34.3951,2,     36.7,2,     34.7,2,    93.03,2,    40.61,2,     3.03,2,    751,-999.000,  -999.0,  4.7931
     32MW053_1,  PRS2,     1,  3,      2,     34,2,19940312,0807, 21.3430,-158.2738, 1500,    891.7,   4.3799,  34.4639,2,  34.4710,2,     38.9,2,   -999.0,5,  -999.00,5,  -999.00,5,  -999.00,5,    890,-999.000,  -999.0,  4.3106
     32MW053_1,  PRS2,     1,  3,      1,     33,2,19940312,0807, 21.3430,-158.2738, 1500,   1026.1,   4.0672,  34.4863,2,  34.4950,3,     41.6,3,     44.7,2,   107.24,2,    41.09,2,     3.04,2,   1026,-999.000,  -999.0,  3.9889
     32MW053_1,  PRS2,     2,  2,     24,     31,2,19940308,1414, 22.7585,-157.9817, 4712,     14.5,  23.5634,  35.1161,2,  35.1185,2,    214.9,2,    213.1,2,     1.98,2,     0.00,2,     0.07,2,     15,-999.000,  -999.0, 23.5604
     32MW053_1,  PRS2,     2,  2,     23,     30,2,19940308,1414, 22.7585,-157.9817, 4712,    159.0,  21.6139,  35.2586,2,  35.2676,2,    211.5,2,    205.9,2,     2.11,2,     0.38,2,     0.09,2,    159,-999.000,  -999.0, 21.5828
     32MW053_1,  PRS2,     2,  2,     22,     22,2,19940308,1414, 22.7585,-157.9817, 4712,    845.7,   4.5443,  34.4117,2,  34.4094,2,     34.8,2,     32.6,2,    99.95,2,    41.39,2,     2.99,2,    846,-999.000,  -999.0,  4.4779
     32MW053_1,  PRS2,     2,  2,     21,     21,2,19940308,1414, 22.7585,-157.9817, 4712,    997.5,   4.1379,  34.4796,2,  34.4938,4,     43.1,3,     51.0,4,   105.48,2,    40.65,3,     2.95,3,    997,-999.000,  -999.0,  4.0614
     32MW053_1,  PRS2,     2,  2,     20,     20,2,19940308,1414, 22.7585,-157.9817, 4712,   1193.7,   3.6198,  34.5318,2,  34.5390,4,     50.7,3,     52.4,2,   115.80,2,    40.40,3,     2.95,3,   1195,-999.000,  -999.0,  3.5312
     32MW053_1,  PRS2,     2,  2,     19,     19,2,19940308,1414, 22.7585,-157.9817, 4712,   1392.0,   3.2235,  34.5585,2,  34.5592,2,     58.5,2,     58.3,2,   127.36,2,    41.24,2,     3.01,2,   1392,-999.000,  -999.0,  3.1222
     32MW053_1,  PRS2,     2,  2,     18,     18,2,19940308,1414, 22.7585,-157.9817, 4712,   1596.7,   2.8043,  34.5813,2,  34.5834,2,     65.3,2,     68.1,2,   136.60,2,    40.86,2,     2.97,2,   1596,-999.000,  -999.0,  2.6907
     32MW053_1,  PRS2,     2,  2,     17,     17,2,19940308,1414, 22.7585,-157.9817, 4712,   1800.1,   2.4369,  34.5999,2,  34.6007,2,     76.9,2,     77.8,2,   145.19,2,    40.36,2,     2.92,2,   1800,-999.000,  -999.0,  2.3110
     32MW053_1,  PRS2,     2,  2,     16,     16,2,19940308,1414, 22.7585,-157.9817, 4712,   2000.6,   2.1886,  34.6151,2,  34.6174,2,     81.9,2,     85.1,2,   151.28,2,    39.90,2,     2.87,2,   2000,-999.000,  -999.0,  2.0493
     32MW053_1,  PRS2,     2,  2,     15,     15,2,19940308,1414, 22.7585,-157.9817, 4712,   2199.5,   1.9729,  34.6298,2,  34.6309,2,     90.2,2,     93.4,2,   156.59,2,    39.55,2,     2.84,2,   2199,-999.000,  -999.0,  1.8199
     32MW053_1,  PRS2,     2,  2,     14,     14,2,19940308,1414, 22.7585,-157.9817, 4712,   2398.1,   1.8065,  34.6421,2,  34.6431,2,     96.9,2,    100.0,2,   161.08,2,    39.08,2,     2.79,2,   2399,-999.000,  -999.0,  1.6390
     32MW053_1,  PRS2,     2,  2,     13,     13,2,19940308,1414, 22.7585,-157.9817, 4712,   2599.4,   1.6964,  34.6533,2,  34.6637,4,    104.5,3,    109.2,2,   161.72,2,    38.50,2,     2.75,2,   2599,-999.000,  -999.0,  1.5128
     32MW053_1,  PRS2,     2,  2,     12,     12,2,19940308,1414, 22.7585,-157.9817, 4712,   2799.3,   1.6165,  34.6603,2,  34.6610,2,    114.8,2,    115.5,2,   162.28,2,    38.45,2,     2.71,2,   2801,-999.000,  -999.0,  1.4161
     32MW053_1,  PRS2,     2,  2,     11,     11,2,19940308,1414, 22.7585,-157.9817, 4712,   3001.2,   1.5495,  34.6677,2,  34.6682,2,    120.6,2,    123.5,2,   160.82,2,    37.84,2,     2.66,2,   3001,-999.000,  -999.0,  1.3315
     32MW053_1,  PRS2,     2,  2,     10,     32,2,19940308,1414, 22.7585,-157.9817, 4712,   3195.1,   1.5096,  34.6746,2,  34.6791,3,    127.6,3,    130.8,2,   158.93,2,    37.29,2,     2.62,2,   3195,-999.000,  -999.0,  1.2738
     32MW053_1,  PRS2,     2,  2,      9,      3,2,19940308,1414, 22.7585,-157.9817, 4712,   3398.1,   1.4787,  34.6789,2,  34.6924,4,    135.5,3,    137.0,2,   156.48,2,    36.88,2,     2.59,2,   3399,-999.000,  -999.0,  1.2234
     32MW053_1,  PRS2,     2,  2,      8,     29,2,19940308,1414, 22.7585,-157.9817, 4712,   3595.0,   1.4613,  34.6823,2,  34.6885,4,    140.1,3,    141.5,2,   154.94,2,    36.54,2,     2.56,2,   3596,-999.000,  -999.0,  1.1864
     32MW053_1,  PRS2,     2,  2,      7,     28,2,19940308,1414, 22.7585,-157.9817, 4712,   3780.5,   1.4554,  34.6846,2,  34.6840,2,    145.1,2,    144.8,2,   154.04,2,    36.33,2,     2.54,2,   3781,-999.000,  -999.0,  1.1613
     32MW053_1,  PRS2,     2,  2,      6,      7,2,19940308,1414, 22.7585,-157.9817, 4712,   3997.1,   1.4531,  34.6870,2,  34.6859,2,    148.4,2,    148.3,2,   152.30,2,    36.12,2,     2.52,2,   3998,-999.000,  -999.0,  1.1359
     32MW053_1,  PRS2,     2,  2,      5,     23,2,19940308,1414, 22.7585,-157.9817, 4712,   4195.6,   1.4615,  34.6883,2,  34.6861,2,    150.6,2,    150.3,2,   151.24,2,    35.97,2,     2.51,2,   4196,-999.000,  -999.0,  1.1221
     32MW053_1,  PRS2,     2,  2,      4,     36,2,19940308,1414, 22.7585,-157.9817, 4712,   4404.8,   1.4774,  34.6893,2,  34.6875,2,    148.8,2,    151.6,2,   150.86,2,    35.96,2,     2.50,2,   4406,-999.000,  -999.0,  1.1140
     32MW053_1,  PRS2,     2,  2,      3,     35,2,19940308,1414, 22.7585,-157.9817, 4712,   4526.8,   1.4877,  34.6899,2,  34.6893,2,    153.5,2,    152.0,2,   150.25,2,    35.87,2,     2.50,2,   4527,-999.000,  -999.0,  1.1100
     32MW053_1,  PRS2,     2,  2,      2,     34,3,19940308,1414, 22.7585,-157.9817, 4712,   4627.2,   1.4966,  34.6902,2,  34.6887,2,    155.0,2,    152.6,2,   149.81,2,    35.79,2,     2.49,2,   4627,-999.000,  -999.0,  1.1070
     32MW053_1,  PRS2,     2,  2,      1,     33,2,19940308,1414, 22.7585,-157.9817, 4712,   4788.9,   1.5057,  34.6913,2,  34.6899,2,    155.7,2,    154.1,2,   147.95,2,    35.70,2,     2.49,2,   4789,-999.000,  -999.0,  1.0967
     32MW053_1,  PRS2,     2,  3,     24,     31,2,19940308,1955, 22.7567,-158.0037, 4710,      6.9,  23.7054,  35.1221,2,  35.1232,2,    212.6,2,   -999.0,5,  -999.00,5,  -999.00,5,  -999.00,5,      7,-999.000,  -999.0, 23.7040
     32MW053_1,  PRS2,     2,  3,     23,     30,2,19940308,1955, 22.7567,-158.0037, 4710,      6.9,  23.7141,  35.1232,2,  35.1236,2,    212.7,2,    213.5,2,     1.81,2,     0.00,2,     0.07,2,      7,-999.000,  -999.0, 23.7127
     32MW053_1,  PRS2,     2,  3,     22,     22,2,19940308,1955, 22.7567,-158.0037, 4710,     17.9,  23.4263,  35.1157,2,  35.1179,2,    211.9,2,    214.1,2,     1.75,2,     0.00,2,     0.07,2,     18,-999.000,  -999.0, 23.4226
     32MW053_1,  PRS2,     2,  3,     21,     21,2,19940308,1955, 22.7567,-158.0037, 4710,     39.9,  22.6887,  35.1886,2,  35.1843,2,    218.9,2,    217.2,2,     1.76,2,     0.00,2,     0.05,2,     39,-999.000,  -999.0, 22.6806
     32MW053_1,  PRS2,     2,  3,     20,     20,2,19940308,1955, 22.7567,-158.0037, 4710,    115.7,  22.0530,  35.2426,2,  35.2442,2,    211.9,2,    209.5,2,     1.78,2,     0.12,2,     0.07,2,    116,-999.000,  -999.0, 22.0301
     32MW053_1,  PRS2,     2,  3,     19,     19,2,19940308,1955, 22.7567,-158.0037, 4710,    124.8,  21.9202,  35.2510,2,  35.2560,2,    208.8,2,    207.9,2,     1.80,2,     0.25,2,     0.08,2,    125,-999.000,  -999.0, 21.8956
     32MW053_1,  PRS2,     2,  3,     18,     18,2,19940308,1955, 22.7567,-158.0037, 4710,    143.7,  21.7233,  35.2793,2,  35.1713,4,    205.5,3,    206.0,2,     1.87,2,     0.43,2,     0.08,2,    144,-999.000,  -999.0, 21.6950
     32MW053_1,  PRS2,     2,  3,     17,     17,2,19940308,1955, 22.7567,-158.0037, 4710,    197.3,  19.9504,  35.1663,2,  35.1719,2,    193.5,2,    197.5,2,     2.26,2,     1.34,2,     0.16,2,    198,-999.000,  -999.0, 19.9140
     32MW053_1,  PRS2,     2,  3,     16,     16,2,19940308,1955, 22.7567,-158.0037, 4710,    255.6,  15.9213,  34.6794,2,  34.6956,2,    191.6,2,    199.8,2,     5.14,2,     4.64,2,     0.36,2,    256,-999.000,  -999.0, 15.8810
     32MW053_1,  PRS2,     2,  3,     15,     15,2,19940308,1955, 22.7567,-158.0037, 4710,    343.3,  12.0247,  34.2687,2,  34.2660,2,    201.2,2,    200.2,2,    11.63,2,    11.27,2,     0.79,2,    343,-999.000,  -999.0, 11.9799
     32MW053_1,  PRS2,     2,  3,     14,     14,2,19940308,1955, 22.7567,-158.0037, 4710,    361.1,  11.6597,  34.2560,2,  34.2599,2,    212.4,2,    201.7,2,    12.93,2,    12.09,2,     0.85,2,    361,-999.000,  -999.0, 11.6135
     32MW053_1,  PRS2,     2,  3,     13,     13,2,19940308,1955, 22.7567,-158.0037, 4710,    405.3,   9.7994,  34.1038,2,  34.1027,2,    181.8,2,    187.1,2,    19.91,2,    17.07,2,     1.22,2,    405,-999.000,  -999.0,  9.7530
     32MW053_1,  PRS2,     2,  3,     12,     12,2,19940308,1955, 22.7567,-158.0037, 4710,    450.3,   8.5483,  34.0740,2,  34.0712,2,    165.1,2,    155.8,2,    30.48,2,    22.67,2,     1.59,2,    450,-999.000,  -999.0,  8.5008
     32MW053_1,  PRS2,     2,  3,     11,     11,2,19940308,1955, 22.7567,-158.0037, 4710,    496.0,   7.7848,  34.0702,2,  34.0728,2,    135.0,2,    126.7,2,    39.52,2,    26.74,2,     1.94,2,    496,-999.000,  -999.0,  7.7351
     32MW053_1,  PRS2,     2,  3,     10,     32,2,19940308,1955, 22.7567,-158.0037, 4710,    516.5,   7.3325,  34.0844,2,  34.0829,2,    104.8,2,    102.6,2,    46.56,2,    29.68,2,     2.20,2,    517,-999.000,  -999.0,  7.2824
     32MW053_1,  PRS2,     2,  3,      9,      3,2,19940308,1955, 22.7567,-158.0037, 4710,    555.9,   6.7292,  34.0720,2,  34.0735,2,    100.4,2,     96.7,2,    53.22,2,    31.52,2,     2.31,2,    556,-999.000,  -999.0,  6.6777
     32MW053_1,  PRS2,     2,  3,      8,     29,2,19940308,1955, 22.7567,-158.0037, 4710,    597.6,   6.2174,  34.1161,2,  34.1179,2,     64.2,2,     67.9,2,    63.84,2,    35.15,2,     2.59,2,    599,-999.000,  -999.0,  6.1641
     32MW053_1,  PRS2,     2,  3,      7,     28,2,19940308,1955, 22.7567,-158.0037, 4710,    634.6,   5.6900,  34.1586,2,  34.1594,2,     52.7,2,     50.1,2,    73.70,2,    37.62,2,     2.79,2,    635,-999.000,  -999.0,  5.6358
     32MW053_1,  PRS2,     2,  3,      6,      7,2,19940308,1955, 22.7567,-158.0037, 4710,    694.3,   5.1804,  34.2479,2,  34.2499,2,     37.9,2,     33.9,2,    85.54,2,    40.07,2,     2.97,2,    694,-999.000,  -999.0,  5.1234
     32MW053_1,  PRS2,     2,  3,      5,     23,2,19940308,1955, 22.7567,-158.0037, 4710,    758.0,   4.9041,  34.3322,2,  34.3309,2,     32.8,2,     30.4,2,    92.02,2,    40.86,2,     3.03,2,    758,-999.000,  -999.0,  4.8430
     32MW053_1,  PRS2,     2,  3,      4,     36,2,19940308,1955, 22.7567,-158.0037, 4710,    852.3,   4.5837,  34.4095,2,  34.4081,2,     35.5,2,     32.0,2,    98.84,2,    41.61,2,     3.08,2,    852,-999.000,  -999.0,  4.5164
     32MW053_1,  PRS2,     2,  3,      3,     35,2,19940308,1955, 22.7567,-158.0037, 4710,    859.6,   4.5742,  34.4120,2,  34.4130,2,     34.0,2,     32.1,2,    99.24,2,    41.61,2,     3.07,2,    860,-999.000,  -999.0,  4.5064
     32MW053_1,  PRS2,     2,  3,      2,     34,2,19940308,1955, 22.7567,-158.0037, 4710,   1009.9,   4.0848,  34.4864,2,  34.4866,2,     41.4,2,     42.4,2,   108.89,2,    41.78,2,     3.06,2,   1010,-999.000,  -999.0,  4.0077
     32MW053_1,  PRS2,     2,  3,      1,     33,2,19940308,1955, 22.7567,-158.0037, 4710,   1028.6,   4.0370,  34.4942,2,  34.4960,2,     44.6,2,     43.4,2,   109.38,2,    41.74,2,     3.07,2,   1028,-999.000,  -999.0,  3.9587