BOTTLE,20140827CCHSIOCBG
EXPOCODE,SECT_ID,STNNBR,CASTNO,SAMPNO,BTLNBR,BTLNBR_FLAG_W,DATE,TIME,LATITUDE,LONGITUDE,DEPTH,CTDPRS,CTDTMP,CTDSAL,CTDSAL_FLAG_W,SALNTY,SALNTY_FLAG_W,CTDOXY,CTDOXY_FLAG_W,OXYGEN,OXYGEN_FLAG_W,SILCAT,SILCAT_FLAG_W,NITRAT,NITRAT_FLAG_W,PHSPHT,PHSPHT_FLAG_W,CFC-11,CFC-11_FLAG_W,CFC-12,CFC-12_FLAG_W,CFC113,CFC113_FLAG_W,TCARBN,TCARBN_FLAG_W,ALKALI,ALKALI_FLAG_W,CCL4,CCL4_FLAG_W,MCHFRM,MCHFRM_FLAG_W,BTL_DATE,BTL_TIME,THETA
,,,,,,,,,,,METERS,DBAR,ITS-90,PSS-78,,PSS-78,,UMOL/KG,,UMOL/KG,,UMOL/KG,,UMOL/KG,,UMOL/KG,,PMOL/KG,,PMOL/KG,,PMOL/KG,,UMOL/KG,,UMOL/KG,,PMOL/KG,,PMOL/KG,,,,DEG C
18HU20010530,      AR07W,     246,          1,     237787,          1,2,20010612,       0654,    52.8692,   -51.5208,       1540,  1592.4,   3.2258,  34.8641,2,  34.8775,2,    280.1,2,  -999.0,9,   10.66,6,   16.59,6,    1.16,6,   3.558,2,   2.002,2,   0.425,4,  2153.8,2,  2313.1,2,   4.780,2,  25.559,2, 20010612,      654,   3.1066
18HU20010530,      AR07W,     246,          1,     237788,          2,2,20010612,       0654,    52.8692,   -51.5208,       1540,  1550.3,   3.2148,  34.8639,2,  34.8769,2,    279.9,2,  -999.0,9,   10.58,6,   16.46,6,    1.02,6,   3.535,2,   1.990,2,   0.196,4,  2155.2,2,  2315.7,2,   4.489,2,  23.930,2, 20010612,      656,   3.0994
18HU20010530,      AR07W,     246,          1,     237789,          3,2,20010612,       0654,    52.8692,   -51.5208,       1540,  1489.7,   3.2178,  34.8643,2,  34.8773,2,    279.5,2,  -999.0,9,   10.68,6,   16.45,6,    1.05,6,   3.582,2,   1.970,2,   0.085,4,  2153.7,2,  2303.4,2,   4.477,2,  23.852,2, 20010612,      658,   3.1076
18HU20010530,      AR07W,     246,          1,     237790,          4,2,20010612,       0654,    52.8692,   -51.5208,       1540,  1419.3,   3.2295,  34.8648,2,  34.8773,2,    278.8,2,  -999.0,9,   10.53,6,   16.48,6,    1.02,6,   3.471,2,   1.923,2,   0.517,4,  2157.2,2,  2307.8,3,   4.493,2,  24.539,2, 20010612,      659,   3.1251
18HU20010530,      AR07W,     246,          1,     237791,          5,2,20010612,       0654,    52.8692,   -51.5208,       1540,  1329.4,   3.2596,  34.8666,2,  34.8795,2,    278.0,2,  -999.0,9,   10.31,6,   16.17,6,    1.04,6,   3.699,2,   2.104,2,   0.203,4,  2156.1,2,  2306.7,2,   4.418,2,  23.338,2, 20010612,      702,   3.1624
18HU20010530,      AR07W,     246,          1,     237792,          6,2,20010612,       0654,    52.8692,   -51.5208,       1540,  1231.6,   3.3161,  34.8687,2,  34.8811,6,    276.7,2,  -999.0,9,   10.29,6,   16.23,6,    1.03,6,   3.573,2,   1.953,2,   0.386,4,  2159.0,2,  2298.4,2,   6.284,6,  18.589,6, 20010612,      704,   3.2265
18HU20010530,      AR07W,     246,          1,     237793,          7,2,20010612,       0654,    52.8692,   -51.5208,       1540,  1120.6,   3.3715,  34.8688,2,  34.8820,2,    275.8,2,  -999.0,9,   10.32,6,   16.24,6,    1.03,6,   3.570,2,   2.138,2,   0.673,4,  2154.2,2,  2296.7,2,   4.533,2,  24.445,2, 20010612,      706,   3.2904
18HU20010530,      AR07W,     246,          1,     237794,          8,2,20010612,       0654,    52.8692,   -51.5208,       1540,   998.7,   3.4032,  34.8548,2,  34.8665,2,    278.7,2,  -999.0,9,   10.06,6,   16.27,6,    1.01,6,   4.110,2,   2.421,2,   0.169,4,  2155.2,2,  -999.0,9,   5.165,2,  21.575,2, 20010612,      709,   3.3316
18HU20010530,      AR07W,     246,          1,     237795,          9,2,20010612,       0654,    52.8692,   -51.5208,       1540,   889.2,   3.3097,  34.8288,2,  34.8421,2,    285.2,2,  -999.0,9,    8.86,6,   15.34,6,    1.11,6,   4.602,2,   2.538,2,   0.257,4,  2150.9,2,  2325.7,2,   5.902,2,  19.987,2, 20010612,      711,   3.2474
18HU20010530,      AR07W,     246,          1,     237796,         10,2,20010612,       0654,    52.8692,   -51.5208,       1540,   789.3,   3.3557,  34.8300,2,  34.8433,2,    286.8,2,  -999.0,9,    8.71,6,   15.50,6,    0.99,6,   4.399,2,   2.619,2,   1.016,4,  2147.6,2,  2310.2,2,   5.815,2,  19.893,2, 20010612,      712,   3.3007
18HU20010530,      AR07W,     246,          1,     237797,         11,2,20010612,       0654,    52.8692,   -51.5208,       1540,   649.6,   3.4309,  34.8335,2,  34.8461,2,    284.8,2,  -999.0,9,    8.58,6,   15.20,6,    1.01,6,   4.555,2,   2.664,2,   0.289,4,  2152.6,2,  -999.0,9,   5.949,2,  18.889,2, 20010612,      715,   3.3860
18HU20010530,      AR07W,     246,          1,     237798,         12,2,20010612,       0654,    52.8692,   -51.5208,       1540,   500.2,   3.4385,  34.8288,2,  34.8410,2,    286.5,2,  -999.0,9,    8.56,6,   15.43,6,    0.97,6,   4.716,6,   2.739,6,   0.308,4,  2150.6,2,  2305.3,2,   6.063,6,  17.905,6, 20010612,      717,   3.4045
18HU20010530,      AR07W,     246,          1,     237799,         13,2,20010612,       0654,    52.8692,   -51.5208,       1540,   369.8,   3.5076,  34.8312,2,  34.8429,2,    281.1,2,  -999.0,9,    8.96,6,   15.47,6,    1.00,6,   4.299,2,   2.661,2,   1.553,4,  2151.3,2,  -999.0,9,   5.604,2,  20.212,2, 20010612,      720,   3.4826
18HU20010530,      AR07W,     246,          1,     237800,         14,2,20010612,       0654,    52.8692,   -51.5208,       1540,   251.3,   3.4665,  34.8037,2,  34.8156,2,    280.4,2,  -999.0,9,    8.74,6,   15.59,6,    1.01,6,   4.700,2,   2.630,2,   0.289,4,  -999.0,9,  2316.7,2,   5.799,2,  18.222,2, 20010612,      722,   3.4499
18HU20010530,      AR07W,     246,          1,     237801,         15,2,20010612,       0654,    52.8692,   -51.5208,       1540,   149.9,   3.4320,  34.7812,2,  34.7961,2,    281.8,2,  -999.0,9,    8.68,6,   15.16,6,    0.99,6,   4.802,2,   2.734,2,   0.329,4,  2154.1,2,  2320.6,2,   5.928,2,  18.161,2, 20010612,      724,   3.4222
18HU20010530,      AR07W,     246,          1,     237802,         16,2,20010612,       0654,    52.8692,   -51.5208,       1540,    99.9,   3.2744,  34.7156,2,  34.7256,2,    288.1,2,  -999.0,9,    8.65,6,   14.60,6,    0.95,6,   4.933,2,   2.815,2,   0.372,4,  2147.5,2,  2299.3,2,   6.467,2,  17.034,2, 20010612,      726,   3.2681
18HU20010530,      AR07W,     246,          1,     237803,         17,2,20010612,       0654,    52.8692,   -51.5208,       1540,    79.5,   3.1736,  34.6738,2,-999.0000,9,    289.6,2,  -999.0,9,    2.33,6,    0.89,6,    0.30,6,-999.000,9,-999.000,9,-999.000,9,  -999.0,9,  -999.0,9,-999.000,9,-999.000,9, 20010612,      726,   3.1687
18HU20010530,      AR07W,     246,          1,     237804,         18,2,20010612,       0654,    52.8692,   -51.5208,       1540,    58.4,   3.0054,  34.5989,2,-999.0000,9,    290.8,2,  -999.0,9,    2.24,6,    0.93,6,    0.38,6,-999.000,9,-999.000,9,-999.000,9,  -999.0,9,  -999.0,9,-999.000,9,-999.000,9, 20010612,      727,   3.0019
18HU20010530,      AR07W,     246,          1,     237805,         19,2,20010612,       0654,    52.8692,   -51.5208,       1540,    49.5,   2.6688,  34.4718,2,  34.4871,2,    290.2,2,  -999.0,9,    1.80,6,    1.84,6,    0.26,6,   5.130,2,   2.988,2,   0.372,4,  2141.0,2,  2291.7,2,   6.689,2,  17.529,2, 20010612,      728,   2.6659
18HU20010530,      AR07W,     246,          1,     237806,         20,2,20010612,       0654,    52.8692,   -51.5208,       1540,    29.5,   3.1627,  33.6350,2,-999.0000,9,    360.6,2,  -999.0,9,    1.80,6,    3.25,6,    0.32,6,-999.000,9,-999.000,9,-999.000,9,  -999.0,9,  -999.0,9,-999.000,9,-999.000,9, 20010612,      729,   3.1609
18HU20010530,      AR07W,     246,          1,     237807,         21,2,20010612,       0654,    52.8692,   -51.5208,       1540,    29.4,   3.1622,  33.6382,2,-999.0000,9,    361.1,2,  -999.0,9,    1.80,6,    3.07,6,    0.29,6,-999.000,9,-999.000,9,-999.000,9,  -999.0,9,  -999.0,9,-999.000,9,-999.000,9, 20010612,      729,   3.1604
18HU20010530,      AR07W,     246,          1,     237808,         22,2,20010612,       0654,    52.8692,   -51.5208,       1540,    18.8,   3.3612,  33.3566,2,  33.4171,2,    366.9,2,  -999.0,9,    9.18,6,   13.51,6,    1.01,6,   6.020,2,   3.490,2,   0.401,4,  -999.0,9,  2249.9,2,   8.916,2,  16.967,2, 20010612,      730,   3.3601
18HU20010530,      AR07W,     246,          1,     237809,         23,2,20010612,       0654,    52.8692,   -51.5208,       1540,     8.7,   3.6143,  33.1122,2,  33.1278,2,    367.6,2,  -999.0,9,    8.84,6,   13.78,6,    0.95,6,   6.208,2,   3.586,2,   0.448,4,  2135.8,2,  -999.0,9,   9.210,2,  16.393,2, 20010612,      731,   3.6138
18HU20010530,      AR07W,     246,          1,     237810,         24,2,20010612,       0654,    52.8692,   -51.5208,       1540,     3.0,   3.6374,  33.0923,2,-999.0000,9,    367.4,2,  -999.0,9,    8.51,6,   13.92,6,    0.96,6,-999.000,9,-999.000,9,-999.000,9,  -999.0,9,  -999.0,9,-999.000,9,-999.000,9, 20010612,      731,   3.6372
18HU20010530,      AR07W,     248,          1,     237811,          1,2,20010612,       0943,    52.7302,   -51.9985,        302,   296.5,   3.5281,  34.8022,2,  34.5690,3,    279.3,2,  -999.0,9,    9.63,6,   13.97,6,    1.08,6,   5.058,6,   2.707,6,   0.362,4,  -999.0,9,  2310.6,2,   6.583,6,  14.595,6, 20010612,      943,   3.5082
18HU20010530,      AR07W,     248,          1,     237812,          2,2,20010612,       0943,    52.7302,   -51.9985,        302,   198.9,   2.5249,  34.4510,2,  34.4642,6,    287.5,2,  -999.0,9,    9.47,6,   13.70,6,    0.95,6,   5.020,6,   2.512,6,   0.344,4,  -999.0,9,  2285.6,2,   6.108,6,  13.816,6, 20010612,      946,   2.5134
18HU20010530,      AR07W,     248,          1,     237813,          3,2,20010612,       0943,    52.7302,   -51.9985,        302,   151.0,   1.1997,  34.0698,2,  34.0776,2,    294.9,2,  -999.0,9,    9.63,6,   12.27,6,    0.92,6,   5.642,6,   2.872,6,   0.397,4,  2132.7,3,  2272.4,2,   7.156,6,  15.141,6, 20010612,      947,   1.1928
18HU20010530,      AR07W,     248,          1,     237814,          4,2,20010612,       0943,    52.7302,   -51.9985,        302,   100.2,  -0.0969,  33.6661,2,  33.6825,2,    310.3,2,  -999.0,9,    7.49,6,    8.78,6,    0.78,6,   5.855,6,   2.946,6,   0.411,4,  2104.4,2,  2262.3,2,   7.859,6,  17.208,6, 20010612,      949,  -0.1002
18HU20010530,      AR07W,     248,          1,     237815,          5,2,20010612,       0943,    52.7302,   -51.9985,        302,    78.8,  -0.8837,  33.4607,2,-999.0000,9,    323.9,2,  -999.0,9, -999.00,9, -999.00,9, -999.00,9,-999.000,9,-999.000,9,-999.000,9,  -999.0,9,  -999.0,9,-999.000,9,-999.000,9, 20010612,      950,  -0.8857
18HU20010530,      AR07W,     248,          1,     237816,          6,2,20010612,       0943,    52.7302,   -51.9985,        302,    60.5,  -1.1173,  33.3475,2,-999.0000,9,    316.3,2,  -999.0,9, -999.00,9, -999.00,9, -999.00,9,-999.000,9,-999.000,9,-999.000,9,  -999.0,9,  -999.0,9,-999.000,9,-999.000,9, 20010612,      951,  -1.1187
18HU20010530,      AR07W,     248,          1,     237817,          7,2,20010612,       0943,    52.7302,   -51.9985,        302,    50.4,  -0.9478,  33.2495,2,  33.2598,2,    346.8,2,  -999.0,9,    4.32,6,    5.58,6,    0.63,6,   7.128,6,   3.570,6,   0.452,4,  2079.7,2,  -999.0,9,   9.676,6,  17.439,6, 20010612,      952,  -0.9490
18HU20010530,      AR07W,     248,          1,     237818,          8,2,20010612,       0943,    52.7302,   -51.9985,        302,    39.8,  -0.3950,  33.1114,2,-999.0000,9,    352.2,2,  -999.0,9, -999.00,9, -999.00,9, -999.00,9,-999.000,9,-999.000,9,-999.000,9,  -999.0,9,  -999.0,9,-999.000,9,-999.000,9, 20010612,      953,  -0.3962
18HU20010530,      AR07W,     248,          1,     237819,          9,2,20010612,       0943,    52.7302,   -51.9985,        302,    40.6,  -0.3385,  33.1301,2,-999.0000,9,    349.2,2,  -999.0,9,    4.55,6,    4.89,6,    0.71,6,-999.000,9,-999.000,9,-999.000,9,  -999.0,9,  -999.0,9,-999.000,9,-999.000,9, 20010612,      953,  -0.3397
18HU20010530,      AR07W,     248,          1,     237820,         10,2,20010612,       0943,    52.7302,   -51.9985,        302,    30.0,  -0.2576,  32.8271,2,-999.0000,9,    339.6,2,  -999.0,9, -999.00,9, -999.00,9, -999.00,9,-999.000,9,-999.000,9,-999.000,9,  -999.0,9,  -999.0,9,-999.000,9,-999.000,9, 20010612,      954,  -0.2585
18HU20010530,      AR07W,     248,          1,     237821,         11,2,20010612,       0943,    52.7302,   -51.9985,        302,    19.6,   0.8924,  32.4335,2,  32.4192,2,    347.0,2,  -999.0,9,    7.31,6,    4.67,6,    0.65,6,   6.998,6,   3.288,6,   0.600,4,  2056.5,2,  2210.2,2,   9.729,6,  15.641,6, 20010612,      955,   0.8916
18HU20010530,      AR07W,     248,          1,     237822,         12,2,20010612,       0943,    52.7302,   -51.9985,        302,    19.2,   2.0932,  32.2538,2,-999.0000,9,    341.7,2,  -999.0,9,    8.77,6,    4.51,6,    0.71,6,-999.000,9,-999.000,9,-999.000,9,  -999.0,9,  -999.0,9,-999.000,9,-999.000,9, 20010612,      955,   2.0923
18HU20010530,      AR07W,     248,          1,     237823,         13,2,20010612,       0943,    52.7302,   -51.9985,        302,    10.1,   3.0937,  32.1085,2,  32.1200,2,    341.1,2,  -999.0,9,    8.06,6,    3.64,6,    0.66,6,   6.570,6,   3.182,6,   0.661,4,  2048.5,2,  -999.0,9,   9.615,6,  13.877,6, 20010612,      956,   3.0931
18HU20010530,      AR07W,     248,          1,     237824,         14,2,20010612,       0943,    52.7302,   -51.9985,        302,    10.0,   2.9803,  32.1211,2,-999.0000,9,    341.7,2,  -999.0,9,    8.13,6,    3.59,6,    0.65,6,-999.000,9,-999.000,9,-999.000,9,  -999.0,9,  -999.0,9,-999.000,9,-999.000,9, 20010612,      957,   2.9797
18HU20010530,      AR07W,     248,          1,     237825,         15,2,20010612,       0943,    52.7302,   -51.9985,        302,     9.7,   2.9893,  32.1204,2,-999.0000,9,    341.2,2,  -999.0,9, -999.00,9, -999.00,9, -999.00,9,-999.000,9,-999.000,9,-999.000,9,  -999.0,9,  -999.0,9,-999.000,9,-999.000,9, 20010612,      957,   2.9888
18HU20010530,      AR07W,     248,          1,     237826,         16,2,20010612,       0943,    52.7302,   -51.9985,        302,     9.5,   3.0906,  32.1115,2,-999.0000,9,    339.7,2,  -999.0,9, -999.00,9, -999.00,9, -999.00,9,-999.000,9,-999.000,9,-999.000,9,  -999.0,9,  -999.0,9,-999.000,9,-999.000,9, 20010612,      957,   3.0901
18HU20010530,      AR07W,     248,          1,     237827,         17,2,20010612,       0943,    52.7302,   -51.9985,        302,    10.0,   3.1110,  32.1102,2,-999.0000,9,    340.4,2,  -999.0,9, -999.00,9, -999.00,9, -999.00,9,-999.000,9,-999.000,9,-999.000,9,  -999.0,9,  -999.0,9,-999.000,9,-999.000,9, 20010612,      957,   3.1104
18HU20010530,      AR07W,     248,          1,     237828,         18,2,20010612,       0943,    52.7302,   -51.9985,        302,     9.6,   3.0241,  32.1170,2,  32.1270,2,    340.9,2,  -999.0,9, -999.00,9, -999.00,9, -999.00,9,   6.752,6,   3.241,6,   0.578,4,  -999.0,9,  -999.0,9,   9.892,6,  13.893,6, 20010612,      958,   3.0236
18HU20010530,      AR07W,     248,          1,     237829,         19,2,20010612,       0943,    52.7302,   -51.9985,        302,     3.1,   3.4747,  32.0870,2,  32.1027,2,    339.2,2,  -999.0,9,    7.89,6,    3.59,6,    0.63,6,   6.575,6,   3.214,6,   0.695,4,  2047.3,2,  2202.4,2,   9.661,6,  13.648,6, 20010612,      959,   3.4745
18HU20010530,      AR07W,     250,          1,     237830,          1,2,20010612,       1147,    52.6167,   -52.4057,        269,   263.3,   3.0615,  34.6122,2,  34.8733,3,    273.6,2,  -999.0,9, -999.00,9, -999.00,9, -999.00,9,-999.000,9,-999.000,9,-999.000,9,  -999.0,9,  -999.0,9,-999.000,9,-999.000,9, 20010612,     1147,   3.0450
18HU20010530,      AR07W,     250,          1,     237831,          2,2,20010612,       1147,    52.6167,   -52.4057,        269,   199.3,   2.2500,  34.3746,2,  34.3706,2,    288.1,2,  -999.0,9,    9.02,6,   12.98,6,    1.05,6,   5.242,6,   2.681,6,   0.396,4,  2137.6,2,  2286.4,2,   6.517,6,  14.454,6, 20010612,     1148,   2.2390
18HU20010530,      AR07W,     250,          1,     237832,          3,2,20010612,       1147,    52.6167,   -52.4057,        269,   100.7,   0.4915,  33.8248,2,  33.8506,2,    302.1,2,  -999.0,9,    8.96,6,   11.30,6,    0.91,6,   5.892,6,   2.962,6,   0.481,4,  2125.5,2,  2265.3,2,   7.591,6,  15.517,6, 20010612,     1151,   0.4876
18HU20010530,      AR07W,     250,          1,     237833,          4,2,20010612,       1147,    52.6167,   -52.4057,        269,    80.3,   0.1058,  33.7049,2,-999.0000,9,    303.8,2,  -999.0,9, -999.00,9, -999.00,9, -999.00,9,-999.000,9,-999.000,9,-999.000,9,  -999.0,9,  -999.0,9,-999.000,9,-999.000,9, 20010612,     1152,   0.1030
18HU20010530,      AR07W,     250,          1,     237834,          5,2,20010612,       1147,    52.6167,   -52.4057,        269,    60.6,  -0.0314,  33.4311,2,-999.0000,9,    313.3,2,  -999.0,9, -999.00,9, -999.00,9, -999.00,9,-999.000,9,-999.000,9,-999.000,9,  -999.0,9,  -999.0,9,-999.000,9,-999.000,9, 20010612,     1153,  -0.0334
18HU20010530,      AR07W,     250,          1,     237835,          6,2,20010612,       1147,    52.6167,   -52.4057,        269,    50.5,   0.7417,  33.2862,2,  33.3213,2,    331.3,2,  -999.0,9,    4.61,6,    6.73,6,    0.73,6,   6.650,6,   3.317,6,   0.616,4,  2099.0,2,  2254.1,2,   9.392,6,  15.636,6, 20010612,     1154,   0.7397
18HU20010530,      AR07W,     250,          1,     237836,          7,2,20010612,       1147,    52.6167,   -52.4057,        269,    39.9,   0.5483,  33.1717,2,-999.0000,9,    336.3,2,  -999.0,9, -999.00,9, -999.00,9, -999.00,9,-999.000,9,-999.000,9,-999.000,9,  -999.0,9,  -999.0,9,-999.000,9,-999.000,9, 20010612,     1154,   0.5468
18HU20010530,      AR07W,     250,          1,     237837,          8,2,20010612,       1147,    52.6167,   -52.4057,        269,    29.6,   0.8780,  33.0038,2,-999.0000,9,    346.4,2,  -999.0,9, -999.00,9, -999.00,9, -999.00,9,-999.000,9,-999.000,9,-999.000,9,  -999.0,9,  -999.0,9,-999.000,9,-999.000,9, 20010612,     1155,   0.8768
18HU20010530,      AR07W,     250,          1,     237838,          9,2,20010612,       1147,    52.6167,   -52.4057,        269,    19.7,   3.3103,  32.8533,2,  32.8878,2,    367.4,2,  -999.0,9,    0.00,6,    0.17,6,    0.19,6,   6.514,6,   3.183,6,   0.577,4,  2006.8,2,  2233.1,2,   9.323,6,  13.842,6, 20010612,     1156,   3.3091
18HU20010530,      AR07W,     250,          1,     237839,         10,2,20010612,       1147,    52.6167,   -52.4057,        269,     9.3,   3.7112,  32.8550,2,-999.0000,9,    363.7,2,  -999.0,9, -999.00,9, -999.00,9, -999.00,9,-999.000,9,-999.000,9,-999.000,9,  -999.0,9,  -999.0,9,-999.000,9,-999.000,9, 20010612,     1157,   3.7106
18HU20010530,      AR07W,     250,          1,     237840,         11,2,20010612,       1147,    52.6167,   -52.4057,        269,     9.3,   3.8703,  32.8509,2,-999.0000,9,    361.0,2,  -999.0,9, -999.00,9, -999.00,9, -999.00,9,-999.000,9,-999.000,9,-999.000,9,  -999.0,9,  -999.0,9,-999.000,9,-999.000,9, 20010612,     1157,   3.8697
18HU20010530,      AR07W,     250,          1,     237841,         12,2,20010612,       1147,    52.6167,   -52.4057,        269,     3.3,   4.1960,  32.8434,2,  32.8557,2,    356.2,2,  -999.0,9,    0.13,6,    0.12,6,    0.26,6,   6.202,6,   3.131,6,   0.545,4,  2010.2,2,  2228.6,2,   9.131,6,  13.008,6, 20010612,     1158,   4.1958