BOTTLE,20140827CCHSIOCBG
EXPOCODE,SECT_ID,STNNBR,CASTNO,SAMPNO,BTLNBR,BTLNBR_FLAG_W,DATE,TIME,LATITUDE,LONGITUDE,DEPTH,CTDPRS,CTDTMP,CTDSAL,CTDSAL_FLAG_W,SALNTY,SALNTY_FLAG_W,CTDOXY,CTDOXY_FLAG_W,OXYGEN,OXYGEN_FLAG_W,SILCAT,SILCAT_FLAG_W,NITRAT,NITRAT_FLAG_W,PHSPHT,PHSPHT_FLAG_W,CFC-11,CFC-11_FLAG_W,CFC-12,CFC-12_FLAG_W,CFC113,CFC113_FLAG_W,TCARBN,TCARBN_FLAG_W,ALKALI,ALKALI_FLAG_W,CCL4,CCL4_FLAG_W,MCHFRM,MCHFRM_FLAG_W,BTL_DATE,BTL_TIME,THETA
,,,,,,,,,,,METERS,DBAR,ITS-90,PSS-78,,PSS-78,,UMOL/KG,,UMOL/KG,,UMOL/KG,,UMOL/KG,,UMOL/KG,,PMOL/KG,,PMOL/KG,,PMOL/KG,,UMOL/KG,,UMOL/KG,,PMOL/KG,,PMOL/KG,,,,DEG C
18HU20010530,      AR07W,     119,          1,     237478,          1,2,20010608,       1334,    60.3635,   -48.4503,       1003,   768.1,   4.3599,  34.9093,2,  34.9206,6,    285.9,2,   290.5,2,    8.26,6,   15.30,6,    1.04,6,   4.699,2,   2.649,2,-999.000,9,  2153.6,2,  2305.3,2,   5.925,2,  18.359,2, 20010608,     1334,   4.3005
18HU20010530,      AR07W,     119,          1,     237479,          2,2,20010608,       1334,    60.3635,   -48.4503,       1003,   700.0,   4.3720,  34.9100,2,  34.9206,2,    285.7,2,   290.2,2,    8.27,6,   15.36,6,    1.01,6,   4.582,2,   2.661,2,-999.000,9,  2152.5,2,  2303.4,2,   5.994,2,  17.749,2, 20010608,     1336,   4.3181
18HU20010530,      AR07W,     119,          1,     237480,          3,2,20010608,       1334,    60.3635,   -48.4503,       1003,   630.3,   4.3873,  34.9112,2,  34.9203,2,    285.5,2,   291.2,2,    8.34,6,   15.40,6,    1.11,6,   4.628,2,   2.676,2,-999.000,9,  2152.9,2,  2304.0,2,   5.900,2,  16.828,2, 20010608,     1338,   4.3390
18HU20010530,      AR07W,     119,          1,     237481,          4,2,20010608,       1334,    60.3635,   -48.4503,       1003,   550.4,   4.4258,  34.9132,2,  34.9244,2,    285.5,2,   291.2,2,    8.27,6,   15.35,6,    0.99,6,   4.589,2,   2.696,2,-999.000,9,  2152.1,2,  2306.9,2,   5.988,2,  17.206,2, 20010608,     1340,   4.3838
18HU20010530,      AR07W,     119,          1,     237482,          5,2,20010608,       1334,    60.3635,   -48.4503,       1003,   470.0,   4.5529,  34.9131,2,  34.9242,2,    286.8,2,   292.3,2,    7.90,6,   14.75,6,    0.98,6,   4.755,2,   2.719,2,-999.000,9,  2151.0,2,  2316.5,2,   6.117,2,  16.606,2, 20010608,     1342,   4.5169
18HU20010530,      AR07W,     119,          1,     237483,          6,2,20010608,       1334,    60.3635,   -48.4503,       1003,   360.5,   4.5828,  34.9137,2,  34.9248,2,    286.8,2,   292.5,2,    7.84,6,   14.85,6,    0.97,6,   4.659,6,   2.678,6,   0.131,4,  2149.1,2,  2310.2,2,   6.036,6,  14.965,6, 20010608,     1344,   4.5554
18HU20010530,      AR07W,     119,          1,     237484,          7,2,20010608,       1334,    60.3635,   -48.4503,       1003,   259.9,   4.7210,  34.9203,2,  34.9315,2,    286.8,2,   293.0,2,    7.63,6,   14.36,6,    0.99,6,   4.726,2,   2.746,2,-999.000,9,  2149.3,2,  2308.6,2,   6.152,2,  15.927,2, 20010608,     1346,   4.7011
18HU20010530,      AR07W,     119,          1,     237485,          8,2,20010608,       1334,    60.3635,   -48.4503,       1003,   169.9,   4.8308,  34.9121,2,  34.9226,2,    290.4,2,   297.1,6,    7.41,6,   13.65,6,    0.92,6,   4.861,2,   2.867,2,-999.000,9,  2145.1,2,  2301.0,2,   6.362,2,  15.540,2, 20010608,     1347,   4.8178
18HU20010530,      AR07W,     119,          1,     237486,          9,2,20010608,       1334,    60.3635,   -48.4503,       1003,    99.3,   4.5094,  34.8013,2,  34.8148,2,    297.6,2,   306.3,2,    6.78,6,   11.97,6,    0.88,6,   5.039,2,   3.025,2,-999.000,9,  2134.4,2,  2304.7,2,   6.779,2,  15.432,2, 20010608,     1350,   4.5021
18HU20010530,      AR07W,     119,          1,     237487,         10,2,20010608,       1334,    60.3635,   -48.4503,       1003,    80.1,   4.3646,  34.7627,2,-999.0000,9,    299.5,2,  -999.0,9, -999.00,9, -999.00,9, -999.00,9,-999.000,9,-999.000,9,-999.000,9,  -999.0,9,  -999.0,9,-999.000,9,-999.000,9, 20010608,     1350,   4.3588
18HU20010530,      AR07W,     119,          1,     237488,         11,2,20010608,       1334,    60.3635,   -48.4503,       1003,    59.2,   3.9003,  34.6333,2,-999.0000,9,    305.5,2,  -999.0,9, -999.00,9, -999.00,9, -999.00,9,-999.000,9,-999.000,9,-999.000,9,  -999.0,9,  -999.0,9,-999.000,9,-999.000,9, 20010608,     1351,   3.8963
18HU20010530,      AR07W,     119,          1,     237489,         12,2,20010608,       1334,    60.3635,   -48.4503,       1003,    50.4,   3.4683,  34.5319,2,-999.0000,9,    305.6,2,   315.2,2,    6.23,6,   10.97,6,    0.83,6,   5.501,2,   3.136,2,-999.000,9,  2122.1,2,  2283.3,2,   7.313,2,  16.457,2, 20010608,     1352,   3.4651
18HU20010530,      AR07W,     119,          1,     237490,         13,2,20010608,       1334,    60.3635,   -48.4503,       1003,    39.3,   3.4061,  34.4912,2,-999.0000,9,    307.4,2,  -999.0,9, -999.00,9, -999.00,9, -999.00,9,-999.000,9,-999.000,9,-999.000,9,  -999.0,9,  -999.0,9,-999.000,9,-999.000,9, 20010608,     1353,   3.4036
18HU20010530,      AR07W,     119,          1,     237491,         14,2,20010608,       1334,    60.3635,   -48.4503,       1003,    29.8,   2.9616,  34.3544,2,-999.0000,9,    310.4,2,  -999.0,9, -999.00,9, -999.00,9, -999.00,9,-999.000,9,-999.000,9,-999.000,9,  -999.0,9,  -999.0,9,-999.000,9,-999.000,9, 20010608,     1353,   2.9598
18HU20010530,      AR07W,     119,          1,     237492,         15,2,20010608,       1334,    60.3635,   -48.4503,       1003,    20.6,   2.2105,  34.0675,2,-999.0000,9,    318.7,2,  -999.0,9, -999.00,9, -999.00,9, -999.00,9,-999.000,9,-999.000,9,-999.000,9,  -999.0,9,  -999.0,9,-999.000,9,-999.000,9, 20010608,     1354,   2.2094
18HU20010530,      AR07W,     119,          1,     237493,         16,2,20010608,       1334,    60.3635,   -48.4503,       1003,     9.7,   1.7430,  33.7734,2,  33.8104,2,    352.5,2,   364.3,2,    2.71,6,    4.05,6,    0.44,6,   6.561,2,   3.629,2,-999.000,9,  2055.9,2,  2255.4,2,   9.482,2,  19.588,2, 20010608,     1355,   1.7425
18HU20010530,      AR07W,     119,          1,     237494,         17,2,20010608,       1334,    60.3635,   -48.4503,       1003,     3.3,   1.4428,  33.5825,2,-999.0000,9,    360.6,2,  -999.0,9, -999.00,9, -999.00,9, -999.00,9,-999.000,9,-999.000,9,-999.000,9,  -999.0,9,  -999.0,9,-999.000,9,-999.000,9, 20010608,     1356,   1.4427
18HU20010530,      AR07W,     133,          1,     237498,          1,2,20010608,       2148,    60.1747,   -48.6755,       2795,  2896.9,   2.0398,  34.8674,2,  34.8799,2,    291.0,2,   290.3,2,   10.38,6,   14.32,6,    1.04,6,   3.382,2,   1.984,2,   0.353,4,  2157.3,2,  2305.3,2,   4.383,2,  18.607,2, 20010608,     2148,   1.8202
18HU20010530,      AR07W,     133,          1,     237499,          2,2,20010608,       2148,    60.1747,   -48.6755,       2795,  2840.8,   2.0486,  34.8678,2,  34.8791,2,    290.3,2,   291.8,2,   10.42,6,   14.14,6,    1.04,6,   3.361,2,   2.011,2,   0.248,4,  2159.4,2,  2312.6,2,   4.418,2,  18.388,2, 20010608,     2150,   1.8343
18HU20010530,      AR07W,     133,          1,     237500,          3,2,20010608,       2148,    60.1747,   -48.6755,       2795,  2760.4,   2.1314,  34.8706,2,  34.8821,2,    288.1,2,   290.2,2,   10.87,6,   14.32,6,    1.05,6,   3.205,2,   1.869,2,   0.298,4,  2156.3,2,  2303.1,2,   4.221,2,  17.218,2, 20010608,     2152,   1.9231
18HU20010530,      AR07W,     133,          1,     237501,          4,2,20010608,       2148,    60.1747,   -48.6755,       2795,  2660.8,   2.3458,  34.8784,2,  34.8899,2,    284.4,2,   284.9,2,   11.69,6,   14.81,6,    1.07,6,   2.912,2,   1.654,2,   0.404,4,  2154.6,2,  2301.6,2,   3.747,2,  16.664,2, 20010608,     2155,   2.1428
18HU20010530,      AR07W,     133,          1,     237502,          5,2,20010608,       2148,    60.1747,   -48.6755,       2795,  2540.0,   2.4871,  34.8841,2,  34.8959,6,    281.6,2,   282.5,2,   11.86,6,   14.76,6,    1.09,6,   2.811,2,   1.513,2,   0.200,4,  2157.2,2,  2306.7,2,   3.665,2,  16.004,2, 20010608,     2158,   2.2930
18HU20010530,      AR07W,     133,          1,     237503,          6,2,20010608,       2148,    60.1747,   -48.6755,       2795,  2400.4,   2.6421,  34.8888,2,  34.9009,6,    279.4,2,   280.6,2,   11.83,6,   15.21,6,    1.09,6,   2.639,2,   1.539,2,   0.208,4,  2156.4,2,  2302.4,2,   3.517,2,  15.788,2, 20010608,     2201,   2.4584
18HU20010530,      AR07W,     133,          1,     237504,          7,2,20010608,       2148,    60.1747,   -48.6755,       2795,  2240.0,   2.8625,  34.8934,2,  34.9055,2,    277.3,2,   279.0,2,   11.74,6,   15.31,6,    1.11,6,   2.561,2,   1.482,2,   0.439,4,  2157.4,2,  2301.8,3,   3.299,2,  16.188,2, 20010608,     2204,   2.6900
18HU20010530,      AR07W,     133,          1,     237505,          8,2,20010608,       2148,    60.1747,   -48.6755,       2795,  2039.8,   3.0067,  34.8838,2,  34.8956,2,    278.4,2,   280.9,2,   10.97,6,   15.47,6,    1.13,6,   2.931,2,   1.716,2,   0.236,4,  2156.1,2,  2302.5,2,   3.926,2,  19.053,2, 20010608,     2208,   2.8505
18HU20010530,      AR07W,     133,          1,     237506,          9,2,20010608,       2148,    60.1747,   -48.6755,       2795,  1860.4,   3.0549,  34.8736,2,  34.8848,2,    279.6,2,   283.3,2,   10.62,6,   15.93,6,    1.12,6,   3.114,2,   1.781,2,   0.231,4,  2153.8,2,  2306.5,2,   4.148,2,  21.140,2, 20010608,     2211,   2.9143
18HU20010530,      AR07W,     133,          1,     237507,         10,2,20010608,       2148,    60.1747,   -48.6755,       2795,  1660.9,   3.1738,  34.8724,2,  34.8842,2,    279.1,2,   283.0,2,   10.18,6,   15.56,6,    1.12,6,   3.549,2,   1.937,2,   0.295,4,  2156.4,2,  2310.4,2,   4.439,2,  22.364,2, 20010608,     2214,   3.0493
18HU20010530,      AR07W,     133,          1,     237508,         11,2,20010608,       2148,    60.1747,   -48.6755,       2795,  1458.2,   3.3278,  34.8806,2,  34.8911,2,    276.0,2,   280.3,6,   10.18,6,   15.96,6,    1.12,6,   3.391,2,   1.933,2,   0.289,4,  2159.4,2,  2322.6,3,   4.347,2,  21.084,2, 20010608,     2217,   3.2190
18HU20010530,      AR07W,     133,          1,     237509,         12,2,20010608,       2148,    60.1747,   -48.6755,       2795,  1260.2,   3.4499,  34.8845,2,  34.8970,2,    273.8,2,   278.5,2,   10.02,6,   15.69,6,    1.15,6,   3.435,2,   1.977,2,   0.292,4,  2155.5,2,  2319.2,3,   4.514,2,  20.561,2, 20010608,     2221,   3.3566
18HU20010530,      AR07W,     133,          1,     237510,         13,2,20010608,       2148,    60.1747,   -48.6755,       2795,  1059.3,   3.5658,  34.8812,2,  34.8928,2,    273.6,2,   278.9,2,    9.82,6,   15.92,6,    1.12,6,   3.640,6,   1.973,6,   0.436,4,  2156.7,2,  2304.5,2,   4.455,6,  19.504,6, 20010608,     2224,   3.4880
18HU20010530,      AR07W,     133,          1,     237511,         14,2,20010608,       2148,    60.1747,   -48.6755,       2795,   879.6,   3.5883,  34.8609,2,-999.0000,9,    279.3,2,   285.7,2,    9.25,6,   15.59,6,    1.13,6,   4.116,2,   2.548,2,   0.282,4,  2155.1,2,  2300.6,2,   5.327,2,  18.536,2, 20010608,     2227,   3.5248
18HU20010530,      AR07W,     133,          1,     237512,         15,2,20010608,       2148,    60.1747,   -48.6755,       2795,   719.3,   3.6841,  34.8602,2,  34.8710,2,    287.9,2,   294.6,2,    8.50,6,   15.21,6,    1.08,6,   4.552,2,   2.855,4,   0.316,4,  2151.2,2,  2304.0,2,   6.160,2,  16.011,2, 20010608,     2230,   3.6325
18HU20010530,      AR07W,     133,          1,     237513,         16,2,20010608,       2148,    60.1747,   -48.6755,       2795,   579.0,   3.8590,  34.8727,2,  34.8842,2,    285.2,2,   291.5,2,    8.78,6,   15.29,6,    1.10,6,   4.500,2,   2.756,2,   0.457,4,  2152.0,2,  2316.7,2,   6.051,2,  17.376,2, 20010608,     2234,   3.8173
18HU20010530,      AR07W,     133,          1,     237514,         17,2,20010608,       2148,    60.1747,   -48.6755,       2795,   461.0,   4.1370,  34.9023,2,  34.9131,2,    280.3,2,   288.1,2,    8.49,6,   15.14,6,    1.08,6,   3.970,3,   2.568,2,   1.087,4,  2151.9,2,  2303.3,2,   5.108,2,  16.762,2, 20010608,     2238,   4.1032
18HU20010530,      AR07W,     133,          1,     237515,         18,2,20010608,       2148,    60.1747,   -48.6755,       2795,   338.8,   4.2425,  34.8986,2,  34.9101,2,    287.6,2,   294.3,2,    8.20,6,   15.18,6,    1.09,6,   4.480,2,   2.821,4,   0.343,4,  2150.4,2,  2313.7,2,   6.160,2,  13.787,2, 20010608,     2240,   4.2177
18HU20010530,      AR07W,     133,          1,     237516,         19,2,20010608,       2148,    60.1747,   -48.6755,       2795,   239.3,   4.6279,  34.9337,2,  34.9438,2,    283.8,2,   290.0,2,    8.29,6,   14.73,6,    1.09,6,   4.439,2,   2.744,2,   0.473,4,  2152.0,2,  2293.7,3,   5.876,2,  14.807,2, 20010608,     2242,   4.6098
18HU20010530,      AR07W,     133,          1,     237517,         20,2,20010608,       2148,    60.1747,   -48.6755,       2795,   138.3,   4.6307,  34.9044,2,  34.9190,2,    288.3,2,   296.0,2,    7.63,6,   14.21,6,    1.05,6,   4.289,2,   2.804,4,   1.485,4,  2150.0,2,  2305.0,2,   5.712,2,  14.026,2, 20010608,     2244,   4.6204
18HU20010530,      AR07W,     133,          1,     237518,         21,2,20010608,       2148,    60.1747,   -48.6755,       2795,    79.3,   4.5522,  34.8025,2,  34.8161,2,    301.1,2,   308.5,2,    6.71,6,   10.12,6,    0.91,6,   4.982,2,   3.151,4,   0.338,4,  2127.9,2,  2302.6,2,   7.478,2,  13.297,2, 20010608,     2245,   4.5464
18HU20010530,      AR07W,     133,          1,     237519,         22,2,20010608,       2148,    60.1747,   -48.6755,       2795,    34.8,   4.7603,  34.6948,2,  34.7047,2,    320.7,2,   328.8,2,    5.58,6,    5.57,6,    0.62,6,   5.259,2,   3.353,4,   0.450,4,  2087.9,2,  2306.5,2,   7.862,2,  14.146,2, 20010608,     2246,   4.7577
18HU20010530,      AR07W,     133,          1,     237520,         23,2,20010608,       2148,    60.1747,   -48.6755,       2795,     2.9,   4.6550,  34.6034,2,  34.6200,2,    333.4,2,   342.0,2,    5.17,6,    4.81,6,    0.53,6,   5.109,2,   3.265,4,   0.315,4,  2074.8,2,  2303.6,2,   7.838,2,  12.878,2, 20010608,     2248,   4.6548