BOTTLE,20140827CCHSIOCBG
EXPOCODE,SECT_ID,STNNBR,CASTNO,SAMPNO,BTLNBR,BTLNBR_FLAG_W,DATE,TIME,LATITUDE,LONGITUDE,DEPTH,CTDPRS,CTDTMP,CTDSAL,CTDSAL_FLAG_W,SALNTY,SALNTY_FLAG_W,CTDOXY,CTDOXY_FLAG_W,OXYGEN,OXYGEN_FLAG_W,SILCAT,SILCAT_FLAG_W,NITRAT,NITRAT_FLAG_W,PHSPHT,PHSPHT_FLAG_W,CFC-11,CFC-11_FLAG_W,CFC-12,CFC-12_FLAG_W,CFC113,CFC113_FLAG_W,TCARBN,TCARBN_FLAG_W,ALKALI,ALKALI_FLAG_W,CCL4,CCL4_FLAG_W,MCHFRM,MCHFRM_FLAG_W,BTL_DATE,BTL_TIME,THETA
,,,,,,,,,,,METERS,DBAR,ITS-90,PSS-78,,PSS-78,,UMOL/KG,,UMOL/KG,,UMOL/KG,,UMOL/KG,,UMOL/KG,,PMOL/KG,,PMOL/KG,,PMOL/KG,,UMOL/KG,,UMOL/KG,,PMOL/KG,,PMOL/KG,,,,DEG C
18HU20010530,      AR07W,     252,          1,     237842,          1,2,20010612,       1344,    52.4998,   -52.8018,        278,   274.8,   3.0867,  34.6125,2,  34.6238,6,    272.6,2,  -999.0,9,   12.45,6,   14.70,6,    1.12,6,   4.806,6,   2.543,6,   0.191,4,  2160.7,2,  2250.6,3,   5.701,6,  14.738,6, 20010612,     1344,   3.0694
18HU20010530,      AR07W,     252,          1,     237843,          2,2,20010612,       1344,    52.4998,   -52.8018,        278,   200.3,   2.4639,  34.4404,2,  34.4646,2,    280.5,2,  -999.0,9,   10.86,6,   14.04,6,    1.00,6,   4.928,6,   2.397,6,   0.314,4,  2145.3,2,  2292.5,2,   5.960,6,  14.353,6, 20010612,     1346,   2.4525
18HU20010530,      AR07W,     252,          1,     237844,          3,2,20010612,       1344,    52.4998,   -52.8018,        278,   100.5,   0.7924,  33.9220,2,  33.9468,2,    300.0,2,  -999.0,9,    9.16,6,   11.67,6,    0.91,6,   5.834,6,   2.933,6,   0.442,4,  2129.6,2,  2262.5,2,   7.431,6,  15.412,6, 20010612,     1348,   0.7882
18HU20010530,      AR07W,     252,          1,     237845,          4,2,20010612,       1344,    52.4998,   -52.8018,        278,    79.5,   0.2010,  33.7286,2,-999.0000,9,    305.0,2,  -999.0,9, -999.00,9, -999.00,9, -999.00,9,-999.000,9,-999.000,9,-999.000,9,  -999.0,9,  -999.0,9,-999.000,9,-999.000,9, 20010612,     1349,   0.1981
18HU20010530,      AR07W,     252,          1,     237846,          5,2,20010612,       1344,    52.4998,   -52.8018,        278,    59.8,  -0.0793,  33.6202,2,-999.0000,9,    308.1,2,  -999.0,9, -999.00,9, -999.00,9, -999.00,9,-999.000,9,-999.000,9,-999.000,9,  -999.0,9,  -999.0,9,-999.000,9,-999.000,9, 20010612,     1350,  -0.0813
18HU20010530,      AR07W,     252,          1,     237847,          6,2,20010612,       1344,    52.4998,   -52.8018,        278,    49.3,  -0.2540,  33.4665,2,  33.5036,2,    310.3,2,  -999.0,9,    8.62,6,    9.98,6,    0.98,6,   6.476,6,   3.185,6,   0.473,4,  2116.6,2,  -999.0,9,   8.613,6,  16.735,6, 20010612,     1351,  -0.2555
18HU20010530,      AR07W,     252,          1,     237848,          7,2,20010612,       1344,    52.4998,   -52.8018,        278,    39.8,  -0.7392,  33.3602,2,-999.0000,9,    312.0,2,  -999.0,9, -999.00,9, -999.00,9, -999.00,9,-999.000,9,-999.000,9,-999.000,9,  -999.0,9,  -999.0,9,-999.000,9,-999.000,9, 20010612,     1352,  -0.7403
18HU20010530,      AR07W,     252,          1,     237849,          8,2,20010612,       1344,    52.4998,   -52.8018,        278,    29.4,  -1.1411,  33.2359,2,-999.0000,9,    307.3,2,  -999.0,9, -999.00,9, -999.00,9, -999.00,9,-999.000,9,-999.000,9,-999.000,9,  -999.0,9,  -999.0,9,-999.000,9,-999.000,9, 20010612,     1353,  -1.1418
18HU20010530,      AR07W,     252,          1,     237850,          9,2,20010612,       1344,    52.4998,   -52.8018,        278,    19.9,  -1.2353,  33.1432,2,  33.1168,2,    306.7,2,  -999.0,9,   10.14,6,    9.20,6,    0.92,6,   6.513,6,   3.177,6,   0.407,4,  2118.6,2,  2233.2,2,   8.429,6,  18.288,6, 20010612,     1354,  -1.2357
18HU20010530,      AR07W,     252,          1,     237851,         10,2,20010612,       1344,    52.4998,   -52.8018,        278,     9.6,   1.1746,  33.0666,2,-999.0000,9,    340.9,2,  -999.0,9, -999.00,9, -999.00,9, -999.00,9,-999.000,9,-999.000,9,-999.000,9,  -999.0,9,  -999.0,9,-999.000,9,-999.000,9, 20010612,     1354,   1.1742
18HU20010530,      AR07W,     252,          1,     237852,         11,2,20010612,       1344,    52.4998,   -52.8018,        278,     9.2,   1.2958,  33.0772,2,-999.0000,9,    352.9,2,  -999.0,9, -999.00,9, -999.00,9, -999.00,9,-999.000,9,-999.000,9,-999.000,9,  -999.0,9,  -999.0,9,-999.000,9,-999.000,9, 20010612,     1354,   1.2954
18HU20010530,      AR07W,     252,          1,     237853,         12,2,20010612,       1344,    52.4998,   -52.8018,        278,     3.4,   2.2747,  32.9171,2,  32.9579,2,    365.8,2,  -999.0,9,    0.56,6,    0.50,6,    0.25,6,   6.566,6,   2.898,6,   0.403,4,  2034.3,2,  -999.0,9,   9.611,6,  13.937,6, 20010612,     1355,   2.2745
18HU20010530,      AR07W,     254,          1,     237854,          1,2,20010612,       1655,    52.2863,   -53.5552,        394,   389.0,   3.3027,  34.6692,2,  34.6799,6,    265.9,2,  -999.0,9,   14.58,6,   15.18,6,    1.17,6,   4.653,2,   2.856,2,   0.254,4,  2161.8,2,  2271.5,2,   5.316,2,  17.319,2, 20010612,     1655,   3.2771
18HU20010530,      AR07W,     254,          1,     237855,          2,2,20010612,       1655,    52.2863,   -53.5552,        394,   300.3,   3.0136,  34.5514,2,  34.5515,2,    266.6,2,  -999.0,9,   12.51,6,   14.74,6,    1.05,6,   4.923,2,   2.880,2,   0.301,4,  2157.1,2,  2287.0,2,   5.517,2,  17.555,2, 20010612,     1658,   2.9948
18HU20010530,      AR07W,     254,          1,     237856,          3,2,20010612,       1655,    52.2863,   -53.5552,        394,   200.4,   2.2583,  34.3522,2,  34.3703,2,    282.7,2,  -999.0,9,    9.78,6,   13.25,6,    0.98,6,   5.148,2,   3.144,2,   0.588,4,  2143.0,2,  2270.9,2,   6.492,2,  18.889,2, 20010612,     1701,   2.2472
18HU20010530,      AR07W,     254,          1,     237857,          4,2,20010612,       1655,    52.2863,   -53.5552,        394,   149.7,   1.0870,  34.0447,2,  34.0716,2,    294.2,2,  -999.0,9,    9.41,6,   12.17,6,    0.94,6,   5.721,2,   3.193,2,   0.424,4,  2131.8,2,  2224.3,2,   7.438,2,  18.853,2, 20010612,     1702,   1.0803
18HU20010530,      AR07W,     254,          1,     237858,          5,2,20010612,       1655,    52.2863,   -53.5552,        394,    99.5,  -0.0679,  33.5860,2,  33.6155,2,    306.8,2,  -999.0,9,    9.00,6,   10.40,6,    0.99,6,   5.993,2,   3.645,2,   1.542,4,  2119.8,2,  2230.8,2,   8.284,2,  20.654,2, 20010612,     1703,  -0.0712
18HU20010530,      AR07W,     254,          1,     237859,          6,2,20010612,       1655,    52.2863,   -53.5552,        394,    79.5,  -0.7188,  33.3549,2,-999.0000,9,    310.2,2,  -999.0,9, -999.00,9, -999.00,9, -999.00,9,-999.000,9,-999.000,9,-999.000,9,  -999.0,9,  -999.0,9,-999.000,9,-999.000,9, 20010612,     1705,  -0.7210
18HU20010530,      AR07W,     254,          1,     237860,          7,2,20010612,       1655,    52.2863,   -53.5552,        394,    59.6,  -1.0944,  33.0847,2,-999.0000,9,    310.5,2,  -999.0,9, -999.00,9, -999.00,9, -999.00,9,-999.000,9,-999.000,9,-999.000,9,  -999.0,9,  -999.0,9,-999.000,9,-999.000,9, 20010612,     1706,  -1.0958
18HU20010530,      AR07W,     254,          1,     237861,          8,2,20010612,       1655,    52.2863,   -53.5552,        394,    49.5,  -1.2248,  32.9461,2,  32.9585,2,    316.2,2,  -999.0,9,    9.79,6,    8.41,6,    0.99,6,   6.763,2,   3.911,2,   1.146,4,  2115.4,2,  2233.0,2,   9.635,2,  22.229,2, 20010612,     1707,  -1.2259
18HU20010530,      AR07W,     254,          1,     237862,          9,2,20010612,       1655,    52.2863,   -53.5552,        394,    40.3,  -1.2555,  32.8094,2,-999.0000,9,    316.1,2,  -999.0,9, -999.00,9, -999.00,9, -999.00,9,-999.000,9,-999.000,9,-999.000,9,  -999.0,9,  -999.0,9,-999.000,9,-999.000,9, 20010612,     1707,  -1.2564
18HU20010530,      AR07W,     254,          1,     237863,         10,2,20010612,       1655,    52.2863,   -53.5552,        394,    30.3,  -0.2435,  32.6642,2,-999.0000,9,    335.9,2,  -999.0,9, -999.00,9, -999.00,9, -999.00,9,-999.000,9,-999.000,9,-999.000,9,  -999.0,9,  -999.0,9,-999.000,9,-999.000,9, 20010612,     1709,  -0.2444
18HU20010530,      AR07W,     254,          1,     237864,         11,2,20010612,       1655,    52.2863,   -53.5552,        394,    19.0,   0.8350,  32.5639,2,  32.5750,2,    344.7,2,  -999.0,9,    8.38,6,    5.33,6,    0.73,6,   7.104,2,   3.895,2,   0.970,4,  2083.7,2,  -999.0,9,  11.047,4,  20.624,2, 20010612,     1710,   0.8343
18HU20010530,      AR07W,     254,          1,     237865,         12,2,20010612,       1655,    52.2863,   -53.5552,        394,    10.2,   1.2675,  32.5063,2,  32.5197,2,    350.6,2,  -999.0,9,    8.31,6,    4.76,6,    0.72,6,   7.677,2,   4.056,2,   0.581,4,  2078.2,2,  2215.7,2,  11.164,4,  19.265,2, 20010612,     1711,   1.2671
18HU20010530,      AR07W,     254,          1,     237866,         13,2,20010612,       1655,    52.2863,   -53.5552,        394,     9.8,   1.5922,  32.4626,2,-999.0000,9,    351.3,2,  -999.0,9, -999.00,9, -999.00,9, -999.00,9,-999.000,9,-999.000,9,-999.000,9,  -999.0,9,  -999.0,9,-999.000,9,-999.000,9, 20010612,     1711,   1.5918
18HU20010530,      AR07W,     254,          1,     237867,         14,2,20010612,       1655,    52.2863,   -53.5552,        394,     2.9,   2.3748,  32.3791,2,  32.3925,2,    352.7,2,  -999.0,9,    7.42,6,    3.50,6,    0.64,6,   7.171,2,   3.962,2,   0.565,4,  2062.5,2,  2176.1,2,  11.133,4,  18.662,2, 20010612,     1712,   2.3747
18HU20010530,      AR07W,     256,          1,     237868,          1,2,20010612,       2011,    52.0652,   -54.2892,        187,   180.3,   0.1935,  33.7937,2,  33.8022,6,    292.1,2,  -999.0,9,   11.82,6,   11.32,6,    0.99,6,   5.929,6,   2.862,6,   0.452,4,  2131.4,2,  2242.1,2,   7.293,6,  16.010,6, 20010612,     2011,   0.1869
18HU20010530,      AR07W,     256,          1,     237869,          2,2,20010612,       2011,    52.0652,   -54.2892,        187,   150.1,  -0.0844,  33.6889,2,  33.6889,2,    301.2,2,  -999.0,9,    9.42,6,   10.88,6,    0.91,6,   6.006,6,   2.971,6,   0.469,4,  2123.3,2,  2255.0,2,   7.603,6,  15.587,6, 20010612,     2012,  -0.0895
18HU20010530,      AR07W,     256,          1,     237870,          3,2,20010612,       2011,    52.0652,   -54.2892,        187,    99.0,  -1.0683,  33.2940,2,  33.3048,2,    306.7,2,  -999.0,9,    9.79,6,    9.38,6,    0.91,6,   6.124,6,   3.041,6,   0.330,4,  2121.5,2,  2242.2,2,   8.015,6,  17.502,6, 20010612,     2013,  -1.0707
18HU20010530,      AR07W,     256,          1,     237871,          4,2,20010612,       2011,    52.0652,   -54.2892,        187,    79.1,  -1.2618,  33.0842,2,-999.0000,9,    309.4,2,  -999.0,9, -999.00,9, -999.00,9, -999.00,9,-999.000,9,-999.000,9,-999.000,9,  -999.0,9,  -999.0,9,-999.000,9,-999.000,9, 20010612,     2015,  -1.2635
18HU20010530,      AR07W,     256,          1,     237872,          5,2,20010612,       2011,    52.0652,   -54.2892,        187,    59.8,  -1.1818,  32.8978,2,-999.0000,9,    313.8,2,  -999.0,9, -999.00,9, -999.00,9, -999.00,9,-999.000,9,-999.000,9,-999.000,9,  -999.0,9,  -999.0,9,-999.000,9,-999.000,9, 20010612,     2016,  -1.1831
18HU20010530,      AR07W,     256,          1,     237873,          6,2,20010612,       2011,    52.0652,   -54.2892,        187,    50.1,  -1.2345,  32.7532,2,  32.7818,2,    313.6,2,  -999.0,9,   10.01,6,    8.00,6,    0.92,6,   6.973,6,   3.340,6,   0.501,4,  2110.7,2,  2225.3,2,   9.221,6,  17.939,6, 20010612,     2016,  -1.2356
18HU20010530,      AR07W,     256,          1,     237874,          7,2,20010612,       2011,    52.0652,   -54.2892,        187,    39.8,  -1.3475,  32.6394,2,-999.0000,9,    322.6,2,  -999.0,9, -999.00,9, -999.00,9, -999.00,9,-999.000,9,-999.000,9,-999.000,9,  -999.0,9,  -999.0,9,-999.000,9,-999.000,9, 20010612,     2017,  -1.3483
18HU20010530,      AR07W,     256,          1,     237875,          8,2,20010612,       2011,    52.0652,   -54.2892,        187,    29.3,  -1.1485,  32.5743,2,-999.0000,9,    328.1,2,  -999.0,9, -999.00,9, -999.00,9, -999.00,9,-999.000,9,-999.000,9,-999.000,9,  -999.0,9,  -999.0,9,-999.000,9,-999.000,9, 20010612,     2018,  -1.1491
18HU20010530,      AR07W,     256,          1,     237876,          9,2,20010612,       2011,    52.0652,   -54.2892,        187,    19.5,  -0.0899,  32.3365,2,  32.3887,2,    341.4,2,  -999.0,9,    7.67,6,    5.22,6,    0.88,6,   6.919,6,   3.067,6,   0.362,4,  2080.9,2,  2205.9,2,   9.773,6,  16.894,6, 20010612,     2019,  -0.0905
18HU20010530,      AR07W,     256,          1,     237877,         10,2,20010612,       2011,    52.0652,   -54.2892,        187,     9.4,   0.8219,  32.1330,2,  32.1500,2,    348.8,2,  -999.0,9,    7.47,6,    4.10,6,    0.71,6,   7.485,2,   3.893,2,   0.589,4,  2058.5,2,  2194.8,2,  11.103,4,  19.055,2, 20010612,     2020,   0.8215
18HU20010530,      AR07W,     256,          1,     237878,         11,2,20010612,       2011,    52.0652,   -54.2892,        187,     9.7,   0.7841,  32.1480,2,-999.0000,9,    351.8,2,  -999.0,9, -999.00,9, -999.00,9, -999.00,9,-999.000,9,-999.000,9,-999.000,9,  -999.0,9,  -999.0,9,-999.000,9,-999.000,9, 20010612,     2020,   0.7837
18HU20010530,      AR07W,     256,          1,     237879,         12,2,20010612,       2011,    52.0652,   -54.2892,        187,     3.1,   5.5543,  31.1852,2,  31.3048,2,    342.8,2,  -999.0,9,    2.98,6,    0.49,6,    0.31,6,   6.103,6,   3.036,6,   0.501,4,  -999.0,9,  2126.1,2,   8.764,6,  11.917,6, 20010612,     2021,   5.5541
18HU20010530,      AR07W,     257,          1,     237880,          1,2,20010613,       1108,    50.1478,   -57.9368,        198,   100.2,  -0.3510,  32.4217,2,-999.0000,9,    299.9,2,  -999.0,9,    8.00,6,    7.44,6,    1.03,6,-999.000,9,-999.000,9,-999.000,9,  -999.0,9,  -999.0,9,-999.000,9,-999.000,9, 20010613,     1108,  -0.3539
18HU20010530,      AR07W,     257,          1,     237881,          2,2,20010613,       1108,    50.1478,   -57.9368,        198,    79.4,  -0.1377,  32.2691,2,-999.0000,9,    311.1,2,  -999.0,9,    5.91,6,    6.18,6,    0.90,6,-999.000,9,-999.000,9,-999.000,9,  -999.0,9,  -999.0,9,-999.000,9,-999.000,9, 20010613,     1110,  -0.1401
18HU20010530,      AR07W,     257,          1,     237882,          3,2,20010613,       1108,    50.1478,   -57.9368,        198,    59.5,   0.3456,  32.1005,2,-999.0000,9,    328.1,2,  -999.0,9,    3.66,6,    4.17,6,    0.82,6,-999.000,9,-999.000,9,-999.000,9,  -999.0,9,  -999.0,9,-999.000,9,-999.000,9, 20010613,     1110,   0.3436
18HU20010530,      AR07W,     257,          1,     237883,          4,2,20010613,       1108,    50.1478,   -57.9368,        198,    49.7,   0.3558,  32.0477,2,-999.0000,9,    334.1,2,  -999.0,9,    2.75,6,    3.45,6,    0.81,6,-999.000,9,-999.000,9,-999.000,9,  -999.0,9,  -999.0,9,-999.000,9,-999.000,9, 20010613,     1111,   0.3541
18HU20010530,      AR07W,     257,          1,     237884,          5,2,20010613,       1108,    50.1478,   -57.9368,        198,    39.1,   0.4904,  31.8822,2,-999.0000,9,    352.0,2,  -999.0,9,    0.58,6,    1.72,6,    0.70,6,-999.000,9,-999.000,9,-999.000,9,  -999.0,9,  -999.0,9,-999.000,9,-999.000,9, 20010613,     1112,   0.4891
18HU20010530,      AR07W,     257,          1,     237885,          6,2,20010613,       1108,    50.1478,   -57.9368,        198,    39.3,   0.4753,  31.8844,2,-999.0000,9,    356.1,2,  -999.0,9,    0.58,6,    1.72,6,    0.72,6,-999.000,9,-999.000,9,-999.000,9,  -999.0,9,  -999.0,9,-999.000,9,-999.000,9, 20010613,     1112,   0.4739
18HU20010530,      AR07W,     257,          1,     237886,          7,2,20010613,       1108,    50.1478,   -57.9368,        198,    30.1,   0.6280,  31.8590,2,-999.0000,9,    368.2,2,  -999.0,9,    0.00,6,    0.20,6,    0.56,6,-999.000,9,-999.000,9,-999.000,9,  -999.0,9,  -999.0,9,-999.000,9,-999.000,9, 20010613,     1113,   0.6269
18HU20010530,      AR07W,     257,          1,     237887,          8,2,20010613,       1108,    50.1478,   -57.9368,        198,    19.2,   1.9010,  31.7997,2,-999.0000,9,    372.2,2,  -999.0,9,    0.00,6,    0.11,6,    0.48,6,-999.000,9,-999.000,9,-999.000,9,  -999.0,9,  -999.0,9,-999.000,9,-999.000,9, 20010613,     1114,   1.9001
18HU20010530,      AR07W,     257,          1,     237888,          9,2,20010613,       1108,    50.1478,   -57.9368,        198,    19.2,   2.5121,  31.7864,2,-999.0000,9,    368.1,2,  -999.0,9,    0.00,6,    0.14,6,    0.49,6,-999.000,9,-999.000,9,-999.000,9,  -999.0,9,  -999.0,9,-999.000,9,-999.000,9, 20010613,     1114,   2.5111
18HU20010530,      AR07W,     257,          1,     237889,         10,2,20010613,       1108,    50.1478,   -57.9368,        198,     9.0,   5.4952,  31.5331,2,-999.0000,9,    345.1,2,  -999.0,9,    0.00,6,    0.12,6,    0.42,6,-999.000,9,-999.000,9,-999.000,9,  -999.0,9,  -999.0,9,-999.000,9,-999.000,9, 20010613,     1114,   5.4945
18HU20010530,      AR07W,     257,          1,     237890,         11,2,20010613,       1108,    50.1478,   -57.9368,        198,     9.1,   5.8573,  31.5220,2,-999.0000,9,    336.5,2,  -999.0,9,    0.23,6,    0.12,6,    0.42,6,-999.000,9,-999.000,9,-999.000,9,  -999.0,9,  -999.0,9,-999.000,9,-999.000,9, 20010613,     1115,   5.8566
18HU20010530,      AR07W,     257,          1,     237891,         12,2,20010613,       1108,    50.1478,   -57.9368,        198,     8.9,   6.9719,  31.3755,2,-999.0000,9,    326.5,2,  -999.0,9, -999.00,9, -999.00,9, -999.00,9,-999.000,9,-999.000,9,-999.000,9,  -999.0,9,  -999.0,9,-999.000,9,-999.000,9, 20010613,     1115,   6.9711
18HU20010530,      AR07W,     257,          1,     237892,         13,2,20010613,       1108,    50.1478,   -57.9368,        198,     8.9,   7.3078,  31.3417,2,-999.0000,9,    319.8,2,  -999.0,9, -999.00,9, -999.00,9, -999.00,9,-999.000,9,-999.000,9,-999.000,9,  -999.0,9,  -999.0,9,-999.000,9,-999.000,9, 20010613,     1115,   7.3070
18HU20010530,      AR07W,     257,          1,     237893,         14,2,20010613,       1108,    50.1478,   -57.9368,        198,     9.0,   6.7864,  31.3793,2,-999.0000,9,    322.8,2,  -999.0,9, -999.00,9, -999.00,9, -999.00,9,-999.000,9,-999.000,9,-999.000,9,  -999.0,9,  -999.0,9,-999.000,9,-999.000,9, 20010613,     1115,   6.7856
18HU20010530,      AR07W,     257,          1,     237894,         15,2,20010613,       1108,    50.1478,   -57.9368,        198,     2.5,   7.1412,  31.3722,2,-999.0000,9,    318.0,2,  -999.0,9,    0.41,6,    0.14,6,    0.40,6,-999.000,9,-999.000,9,-999.000,9,  -999.0,9,  -999.0,9,-999.000,9,-999.000,9, 20010613,     1116,   7.1410