BOTTLE,20140827CCHSIOCBG
EXPOCODE,SECT_ID,STNNBR,CASTNO,SAMPNO,BTLNBR,BTLNBR_FLAG_W,DATE,TIME,LATITUDE,LONGITUDE,DEPTH,CTDPRS,CTDTMP,CTDSAL,CTDSAL_FLAG_W,SALNTY,SALNTY_FLAG_W,CTDOXY,CTDOXY_FLAG_W,OXYGEN,OXYGEN_FLAG_W,SILCAT,SILCAT_FLAG_W,NITRAT,NITRAT_FLAG_W,PHSPHT,PHSPHT_FLAG_W,CFC-11,CFC-11_FLAG_W,CFC-12,CFC-12_FLAG_W,CFC113,CFC113_FLAG_W,TCARBN,TCARBN_FLAG_W,ALKALI,ALKALI_FLAG_W,CCL4,CCL4_FLAG_W,MCHFRM,MCHFRM_FLAG_W,BTL_DATE,BTL_TIME,THETA
,,,,,,,,,,,METERS,DBAR,ITS-90,PSS-78,,PSS-78,,UMOL/KG,,UMOL/KG,,UMOL/KG,,UMOL/KG,,UMOL/KG,,PMOL/KG,,PMOL/KG,,PMOL/KG,,UMOL/KG,,UMOL/KG,,PMOL/KG,,PMOL/KG,,,,DEG C
18HU20010530,      AR07W,     238,          1,     237700,          1,2,20010611,       1030,    54.6928,   -52.5007,       1798,    99.3,   3.3321,  34.6604,2,-999.0000,9,    289.1,2,  -999.0,9,    8.39,6,   14.69,6,    0.99,6,-999.000,9,-999.000,9,-999.000,9,  -999.0,9,  -999.0,9,-999.000,9,-999.000,9, 20010611,     1030,   3.3258
18HU20010530,      AR07W,     238,          1,     237701,          2,2,20010611,       1030,    54.6928,   -52.5007,       1798,    80.9,   3.1106,  34.5954,2,-999.0000,9,    288.2,2,  -999.0,9,    8.57,6,   14.64,6,    0.96,6,-999.000,9,-999.000,9,-999.000,9,  -999.0,9,  -999.0,9,-999.000,9,-999.000,9, 20010611,     1032,   3.1056
18HU20010530,      AR07W,     238,          1,     237702,          3,2,20010611,       1030,    54.6928,   -52.5007,       1798,    59.4,   2.9237,  34.5532,2,-999.0000,9,    286.7,2,  -999.0,9,    9.08,6,   14.44,6,    0.97,6,-999.000,9,-999.000,9,-999.000,9,  -999.0,9,  -999.0,9,-999.000,9,-999.000,9, 20010611,     1033,   2.9201
18HU20010530,      AR07W,     238,          1,     237703,          4,2,20010611,       1030,    54.6928,   -52.5007,       1798,    49.6,   2.7084,  34.5066,2,-999.0000,9,    286.4,2,  -999.0,9,    9.49,6,   14.30,6,    0.97,6,-999.000,9,-999.000,9,-999.000,9,  -999.0,9,  -999.0,9,-999.000,9,-999.000,9, 20010611,     1034,   2.7055
18HU20010530,      AR07W,     238,          1,     237704,          5,2,20010611,       1030,    54.6928,   -52.5007,       1798,    39.8,   2.5449,  34.4421,2,-999.0000,9,    285.4,2,  -999.0,9,    9.27,6,   14.01,6,    0.99,6,-999.000,9,-999.000,9,-999.000,9,  -999.0,9,  -999.0,9,-999.000,9,-999.000,9, 20010611,     1035,   2.5427
18HU20010530,      AR07W,     238,          1,     237705,          6,2,20010611,       1030,    54.6928,   -52.5007,       1798,    39.9,   2.5409,  34.4338,2,-999.0000,9,    285.8,2,  -999.0,9,    6.84,6,   10.81,6,    0.74,6,-999.000,9,-999.000,9,-999.000,9,  -999.0,9,  -999.0,9,-999.000,9,-999.000,9, 20010611,     1035,   2.5387
18HU20010530,      AR07W,     238,          1,     237706,          7,2,20010611,       1030,    54.6928,   -52.5007,       1798,    29.4,   2.3751,  34.3827,2,-999.0000,9,    290.3,2,  -999.0,9, -999.00,9, -999.00,9, -999.00,9,-999.000,9,-999.000,9,-999.000,9,  -999.0,9,  -999.0,9,-999.000,9,-999.000,9, 20010611,     1036,   2.3735
18HU20010530,      AR07W,     238,          1,     237707,          8,2,20010611,       1030,    54.6928,   -52.5007,       1798,    19.9,   3.1265,  34.3241,2,-999.0000,9,    305.1,2,  -999.0,9,    5.79,6,    9.63,6,    0.75,6,-999.000,9,-999.000,9,-999.000,9,  -999.0,9,  -999.0,9,-999.000,9,-999.000,9, 20010611,     1036,   3.1253
18HU20010530,      AR07W,     238,          1,     237708,          9,2,20010611,       1030,    54.6928,   -52.5007,       1798,    20.4,   2.9863,  34.3692,2,-999.0000,9,    312.9,2,  -999.0,9,    4.62,6,    7.62,6,    0.52,6,-999.000,9,-999.000,9,-999.000,9,  -999.0,9,  -999.0,9,-999.000,9,-999.000,9, 20010611,     1036,   2.9851
18HU20010530,      AR07W,     238,          1,     237709,         10,2,20010611,       1030,    54.6928,   -52.5007,       1798,    10.1,   3.6379,  34.1384,2,-999.0000,9,    337.7,2,  -999.0,9,    2.99,6,    4.41,6,    0.45,6,-999.000,9,-999.000,9,-999.000,9,  -999.0,9,  -999.0,9,-999.000,9,-999.000,9, 20010611,     1037,   3.6372
18HU20010530,      AR07W,     238,          1,     237710,         11,2,20010611,       1030,    54.6928,   -52.5007,       1798,     9.1,   3.4373,  34.0052,2,-999.0000,9,    343.7,2,  -999.0,9,    2.92,6,    3.54,6,    0.32,6,-999.000,9,-999.000,9,-999.000,9,  -999.0,9,  -999.0,9,-999.000,9,-999.000,9, 20010611,     1038,   3.4367
18HU20010530,      AR07W,     238,          1,     237711,         12,2,20010611,       1030,    54.6928,   -52.5007,       1798,     9.6,   3.1524,  33.7554,2,-999.0000,9,    347.4,2,  -999.0,9, -999.00,9, -999.00,9, -999.00,9,-999.000,9,-999.000,9,-999.000,9,  -999.0,9,  -999.0,9,-999.000,9,-999.000,9, 20010611,     1038,   3.1518
18HU20010530,      AR07W,     238,          1,     237712,         13,2,20010611,       1030,    54.6928,   -52.5007,       1798,     9.6,   3.0790,  33.6769,2,-999.0000,9,    349.4,2,  -999.0,9, -999.00,9, -999.00,9, -999.00,9,-999.000,9,-999.000,9,-999.000,9,  -999.0,9,  -999.0,9,-999.000,9,-999.000,9, 20010611,     1038,   3.0784
18HU20010530,      AR07W,     238,          1,     237713,         14,2,20010611,       1030,    54.6928,   -52.5007,       1798,     9.9,   3.0099,  33.6142,2,-999.0000,9,    350.0,2,  -999.0,9, -999.00,9, -999.00,9, -999.00,9,-999.000,9,-999.000,9,-999.000,9,  -999.0,9,  -999.0,9,-999.000,9,-999.000,9, 20010611,     1038,   3.0093
18HU20010530,      AR07W,     238,          1,     237714,         15,2,20010611,       1030,    54.6928,   -52.5007,       1798,     2.5,   2.3353,  33.1309,2,-999.0000,9,    352.2,2,  -999.0,9,    4.62,6,    4.01,6,    0.53,6,-999.000,9,-999.000,9,-999.000,9,  -999.0,9,  -999.0,9,-999.000,9,-999.000,9, 20010611,     1039,   2.3352
18HU20010530,      AR07W,     239,          1,     237738,          1,2,20010611,       1144,    54.5693,   -52.3443,       2192,    95.5,   3.2185,  34.6988,2,-999.0000,9,    293.2,2,   300.3,2, -999.00,9, -999.00,9, -999.00,9,-999.000,9,-999.000,9,-999.000,9,  2140.7,2,  -999.0,9,-999.000,9,-999.000,9, 20010611,     1144,   3.2125
18HU20010530,      AR07W,     239,          1,     237737,          2,2,20010611,       1144,    54.5693,   -52.3443,       2192,    95.3,   3.2173,  34.6992,2,-999.0000,9,    293.3,2,   300.5,2, -999.00,9, -999.00,9, -999.00,9,-999.000,9,-999.000,9,-999.000,9,  -999.0,9,  -999.0,9,-999.000,9,-999.000,9, 20010611,     1144,   3.2113
18HU20010530,      AR07W,     239,          1,     237736,          3,2,20010611,       1144,    54.5693,   -52.3443,       2192,    95.6,   3.2183,  34.6987,2,-999.0000,9,    293.3,2,   300.3,2, -999.00,9, -999.00,9, -999.00,9,-999.000,9,-999.000,9,-999.000,9,  2141.0,2,  -999.0,9,-999.000,9,-999.000,9, 20010611,     1144,   3.2123
18HU20010530,      AR07W,     239,          1,     237735,          4,2,20010611,       1144,    54.5693,   -52.3443,       2192,    96.2,   3.2200,  34.7015,2,-999.0000,9,    293.2,2,   300.8,2, -999.00,9, -999.00,9, -999.00,9,-999.000,9,-999.000,9,-999.000,9,  -999.0,9,  -999.0,9,-999.000,9,-999.000,9, 20010611,     1144,   3.2140
18HU20010530,      AR07W,     239,          1,     237734,          5,2,20010611,       1144,    54.5693,   -52.3443,       2192,    96.4,   3.2137,  34.7043,2,-999.0000,9,    293.3,2,   300.7,2, -999.00,9, -999.00,9, -999.00,9,   4.938,2,   2.691,2,   0.447,4,  2140.6,2,  -999.0,9,   6.869,2,  14.002,2, 20010611,     1145,   3.2076
18HU20010530,      AR07W,     239,          1,     237733,          6,2,20010611,       1144,    54.5693,   -52.3443,       2192,    96.2,   3.2164,  34.7013,2,-999.0000,9,    293.3,2,   300.6,2, -999.00,9, -999.00,9, -999.00,9,-999.000,9,-999.000,9,-999.000,9,  -999.0,9,  -999.0,9,-999.000,9,-999.000,9, 20010611,     1145,   3.2104
18HU20010530,      AR07W,     239,          1,     237732,          7,2,20010611,       1144,    54.5693,   -52.3443,       2192,    96.1,   3.2173,  34.7002,2,-999.0000,9,    293.3,2,   300.4,2, -999.00,9, -999.00,9, -999.00,9,-999.000,9,-999.000,9,-999.000,9,  2142.7,2,  -999.0,9,-999.000,9,-999.000,9, 20010611,     1145,   3.2113
18HU20010530,      AR07W,     239,          1,     237731,          8,2,20010611,       1144,    54.5693,   -52.3443,       2192,    95.9,   3.2172,  34.7003,2,-999.0000,9,    293.3,2,  -999.0,9, -999.00,9, -999.00,9, -999.00,9,-999.000,9,-999.000,9,-999.000,9,  -999.0,9,  -999.0,9,-999.000,9,-999.000,9, 20010611,     1145,   3.2112
18HU20010530,      AR07W,     239,          1,     237730,          9,2,20010611,       1144,    54.5693,   -52.3443,       2192,    96.1,   3.2131,  34.7037,2,-999.0000,9,    293.2,2,   300.6,2, -999.00,9, -999.00,9, -999.00,9,-999.000,9,-999.000,9,-999.000,9,  2139.8,2,  -999.0,9,-999.000,9,-999.000,9, 20010611,     1145,   3.2071
18HU20010530,      AR07W,     239,          1,     237729,         10,2,20010611,       1144,    54.5693,   -52.3443,       2192,    95.9,   3.2158,  34.7011,2,-999.0000,9,    293.4,2,   300.4,2, -999.00,9, -999.00,9, -999.00,9,-999.000,9,-999.000,9,-999.000,9,  -999.0,9,  -999.0,9,-999.000,9,-999.000,9, 20010611,     1145,   3.2098
18HU20010530,      AR07W,     239,          1,     237728,         11,2,20010611,       1144,    54.5693,   -52.3443,       2192,    96.0,   3.2149,  34.7017,2,-999.0000,9,    293.3,2,   300.4,2, -999.00,9, -999.00,9, -999.00,9,-999.000,9,-999.000,9,-999.000,9,  -999.0,9,  -999.0,9,-999.000,9,-999.000,9, 20010611,     1145,   3.2089
18HU20010530,      AR07W,     239,          1,     237727,         12,2,20010611,       1144,    54.5693,   -52.3443,       2192,    95.7,   3.2163,  34.7008,2,-999.0000,9,    293.3,2,   300.7,2, -999.00,9, -999.00,9, -999.00,9,-999.000,9,-999.000,9,-999.000,9,  -999.0,9,  -999.0,9,-999.000,9,-999.000,9, 20010611,     1145,   3.2103
18HU20010530,      AR07W,     239,          1,     237726,         13,2,20010611,       1144,    54.5693,   -52.3443,       2192,    95.8,   3.2174,  34.6999,2,-999.0000,9,    293.2,2,   300.8,2, -999.00,9, -999.00,9, -999.00,9,   5.099,2,   2.678,2,   0.443,4,  2141.3,2,  -999.0,9,   6.983,2,  14.565,2, 20010611,     1145,   3.2114
18HU20010530,      AR07W,     239,          1,     237725,         14,2,20010611,       1144,    54.5693,   -52.3443,       2192,    95.9,   3.2205,  34.6979,2,-999.0000,9,    293.1,2,   300.3,2, -999.00,9, -999.00,9, -999.00,9,-999.000,9,-999.000,9,-999.000,9,  -999.0,9,  -999.0,9,-999.000,9,-999.000,9, 20010611,     1146,   3.2145
18HU20010530,      AR07W,     239,          1,     237724,         15,2,20010611,       1144,    54.5693,   -52.3443,       2192,    96.1,   3.2208,  34.6979,2,-999.0000,9,    293.2,2,   300.3,2, -999.00,9, -999.00,9, -999.00,9,-999.000,9,-999.000,9,-999.000,9,  2142.5,2,  -999.0,9,-999.000,9,-999.000,9, 20010611,     1146,   3.2148
18HU20010530,      AR07W,     239,          1,     237723,         16,2,20010611,       1144,    54.5693,   -52.3443,       2192,    96.1,   3.2194,  34.6988,2,-999.0000,9,    293.1,2,   300.3,2, -999.00,9, -999.00,9, -999.00,9,-999.000,9,-999.000,9,-999.000,9,  -999.0,9,  -999.0,9,-999.000,9,-999.000,9, 20010611,     1146,   3.2134
18HU20010530,      AR07W,     239,          1,     237722,         17,2,20010611,       1144,    54.5693,   -52.3443,       2192,    96.2,   3.2107,  34.7018,2,-999.0000,9,    293.2,2,   300.7,2, -999.00,9, -999.00,9, -999.00,9,-999.000,9,-999.000,9,-999.000,9,  2140.9,2,  -999.0,9,-999.000,9,-999.000,9, 20010611,     1146,   3.2047
18HU20010530,      AR07W,     239,          1,     237721,         18,2,20010611,       1144,    54.5693,   -52.3443,       2192,    95.8,   3.2115,  34.7017,2,-999.0000,9,    293.3,2,   300.3,2, -999.00,9, -999.00,9, -999.00,9,-999.000,9,-999.000,9,-999.000,9,  -999.0,9,  -999.0,9,-999.000,9,-999.000,9, 20010611,     1146,   3.2055
18HU20010530,      AR07W,     239,          1,     237720,         19,2,20010611,       1144,    54.5693,   -52.3443,       2192,    95.7,   3.2100,  34.7041,2,-999.0000,9,    293.4,2,   300.4,2, -999.00,9, -999.00,9, -999.00,9,-999.000,9,-999.000,9,-999.000,9,  2142.5,2,  -999.0,9,-999.000,9,-999.000,9, 20010611,     1146,   3.2040
18HU20010530,      AR07W,     239,          1,     237719,         20,2,20010611,       1144,    54.5693,   -52.3443,       2192,    95.6,   3.2107,  34.7022,2,-999.0000,9,    293.4,2,   300.5,2, -999.00,9, -999.00,9, -999.00,9,   5.150,2,   2.653,2,   0.463,4,  -999.0,9,  -999.0,9,   6.955,2,  14.294,2, 20010611,     1146,   3.2047
18HU20010530,      AR07W,     239,          1,     237718,         21,2,20010611,       1144,    54.5693,   -52.3443,       2192,    95.8,   3.2167,  34.6995,2,-999.0000,9,    293.4,2,   300.5,2, -999.00,9, -999.00,9, -999.00,9,   5.196,2,   2.685,2,   0.455,4,  2141.6,2,  -999.0,9,   7.764,2,  15.187,2, 20010611,     1146,   3.2107
18HU20010530,      AR07W,     239,          1,     237717,         22,2,20010611,       1144,    54.5693,   -52.3443,       2192,    96.4,   3.2195,  34.6979,2,-999.0000,9,    293.2,2,   300.7,2, -999.00,9, -999.00,9, -999.00,9,-999.000,9,-999.000,9,-999.000,9,  -999.0,9,  -999.0,9,-999.000,9,-999.000,9, 20010611,     1146,   3.2134
18HU20010530,      AR07W,     239,          1,     237716,         23,2,20010611,       1144,    54.5693,   -52.3443,       2192,    96.2,   3.2187,  34.6985,2,-999.0000,9,    293.1,2,   301.2,2, -999.00,9, -999.00,9, -999.00,9,   5.082,2,   2.577,2,   0.438,4,  2140.4,2,  -999.0,9,   6.920,2,  14.777,2, 20010611,     1147,   3.2127
18HU20010530,      AR07W,     239,          1,     237715,         24,2,20010611,       1144,    54.5693,   -52.3443,       2192,    95.8,   3.2170,  34.6993,2,-999.0000,9,    293.1,2,   300.7,2, -999.00,9, -999.00,9, -999.00,9,   5.088,2,   2.701,2,   0.392,4,  -999.0,9,  -999.0,9,   6.932,2,  14.371,2, 20010611,     1147,   3.2110