BOTTLE,20140827CCHSIOCBG
EXPOCODE,SECT_ID,STNNBR,CASTNO,SAMPNO,BTLNBR,BTLNBR_FLAG_W,DATE,TIME,LATITUDE,LONGITUDE,DEPTH,CTDPRS,CTDTMP,CTDSAL,CTDSAL_FLAG_W,SALNTY,SALNTY_FLAG_W,CTDOXY,CTDOXY_FLAG_W,OXYGEN,OXYGEN_FLAG_W,SILCAT,SILCAT_FLAG_W,NITRAT,NITRAT_FLAG_W,PHSPHT,PHSPHT_FLAG_W,CFC-11,CFC-11_FLAG_W,CFC-12,CFC-12_FLAG_W,CFC113,CFC113_FLAG_W,TCARBN,TCARBN_FLAG_W,ALKALI,ALKALI_FLAG_W,CCL4,CCL4_FLAG_W,MCHFRM,MCHFRM_FLAG_W,BTL_DATE,BTL_TIME,THETA
,,,,,,,,,,,METERS,DBAR,ITS-90,PSS-78,,PSS-78,,UMOL/KG,,UMOL/KG,,UMOL/KG,,UMOL/KG,,UMOL/KG,,PMOL/KG,,PMOL/KG,,PMOL/KG,,UMOL/KG,,UMOL/KG,,PMOL/KG,,PMOL/KG,,,,DEG C
18HU20010530,      AR07W,      84,          1,     237252,          1,2,20010606,       0544,    56.5403,   -52.6997,       3408,  3536.0,   1.4089,  34.8561,2,  34.8674,2,    299.9,2,   299.3,2,   10.77,6,   14.27,6,    0.98,6,   4.161,2,   2.245,2,   0.272,4,  2155.7,2,  2301.4,2,   5.011,2,  17.977,2, 20010606,      544,   1.1403
18HU20010530,      AR07W,      84,          1,     237253,          2,2,20010606,       0544,    56.5403,   -52.6997,       3408,  3460.4,   1.5114,  34.8561,2,  34.8686,2,    299.2,2,   297.7,2,    9.99,6,   14.27,6,    0.99,6,   3.773,2,   2.093,2,   0.098,4,  2155.2,2,  2302.5,2,   4.811,2,  17.772,2, 20010606,      546,   1.2479
18HU20010530,      AR07W,      84,          1,     237254,          3,2,20010606,       0544,    56.5403,   -52.6997,       3408,  3379.6,   1.7603,  34.8587,2,  34.8700,2,    296.0,2,   294.9,2,    9.90,6,   14.64,6,    0.96,6,   3.999,2,   2.042,2,   0.249,4,  2155.0,2,  -999.0,9,   4.867,2,  17.917,2, 20010606,      548,   1.4989
18HU20010530,      AR07W,      84,          1,     237255,          4,2,20010606,       0544,    56.5403,   -52.6997,       3408,  3280.4,   2.0811,  34.8683,2,  34.8810,2,    290.0,2,   288.4,2,   11.52,6,   15.12,6,    1.01,6,   3.306,6,   1.747,6,   0.161,4,  2150.5,2,  2297.6,2,   4.145,6,  15.179,6, 20010606,      550,   1.8222
18HU20010530,      AR07W,      84,          1,     237256,          5,2,20010606,       0544,    56.5403,   -52.6997,       3408,  3159.3,   2.3345,  34.8812,2,  34.8932,2,    283.5,2,   282.7,2,   13.07,6,   15.81,6,    1.05,6,   2.497,2,   1.579,4,   0.032,4,  2152.8,2,  2307.3,2,   3.391,2,  14.789,2, 20010606,      553,   2.0821
18HU20010530,      AR07W,      84,          1,     237257,          6,2,20010606,       0544,    56.5403,   -52.6997,       3408,  3029.0,   2.5116,  34.8839,2,  34.8120,6,    282.5,2,   281.9,2,   12.19,6,   15.70,6,    1.04,6,   2.733,2,   1.267,2,   0.139,4,  2157.0,2,  2309.9,2,   3.492,2,  14.710,2, 20010606,      555,   2.2687
18HU20010530,      AR07W,      84,          1,     237258,          7,2,20010606,       0544,    56.5403,   -52.6997,       3408,  2859.1,   2.7205,  34.8865,2,  34.8965,2,    280.2,2,   280.8,2,   11.95,6,   16.39,6,    1.06,6,   2.645,2,   1.475,2,   0.155,4,  2153.5,2,  2308.2,2,   3.433,2,  14.628,2, 20010606,      606,   2.4903
18HU20010530,      AR07W,      84,          1,     237259,          8,2,20010606,       0544,    56.5403,   -52.6997,       3408,  2659.6,   2.8899,  34.8865,2,  34.8975,2,    278.7,2,   280.0,2,   11.78,6,   16.14,6,    1.07,6,   2.447,2,   1.601,4,   0.044,4,  2156.7,2,  2302.3,2,   3.328,2,  15.196,2, 20010606,      610,   2.6764
18HU20010530,      AR07W,      84,          1,     237260,          9,2,20010606,       0544,    56.5403,   -52.6997,       3408,  2439.9,   3.0455,  34.8855,2,  34.8963,2,    277.7,2,   279.4,2,   11.75,6,   16.78,6,    1.11,6,   2.634,2,   1.301,2,-999.000,9,  2154.7,2,  2297.3,2,   3.336,2,  15.752,2, 20010606,      623,   2.8508
18HU20010530,      AR07W,      84,          1,     237261,         10,2,20010606,       0544,    56.5403,   -52.6997,       3408,  2210.0,   3.0728,  34.8689,2,  34.8810,6,    280.3,2,   283.6,2,   11.13,6,   16.79,6,    1.10,6,   3.076,2,   1.634,2,   0.161,4,  2151.4,2,  2292.2,2,   3.933,2,  18.702,2, 20010606,      629,   2.8998
18HU20010530,      AR07W,      84,          1,     237262,         11,2,20010606,       0544,    56.5403,   -52.6997,       3408,  1969.6,   3.0640,  34.8519,2,  34.8627,2,    283.6,2,   287.7,2,   10.48,6,   16.91,6,    1.09,6,   3.785,2,   2.065,2,   0.327,4,  2146.3,3,  2302.2,2,   4.733,2,  22.469,2, 20010606,      636,   2.9135
18HU20010530,      AR07W,      84,          1,     237263,         12,2,20010606,       0544,    56.5403,   -52.6997,       3408,  1730.6,   3.1599,  34.8559,2,  34.8674,2,    280.6,2,   285.5,2,   10.51,6,   16.84,6,    1.09,6,   3.638,2,   1.677,2,   0.131,4,  2150.8,2,  2306.2,2,   4.528,2,  21.900,2, 20010606,      642,   3.0295
18HU20010530,      AR07W,      84,          1,     237264,         13,2,20010606,       0544,    56.5403,   -52.6997,       3408,  1549.2,   3.2659,  34.8606,2,  34.8719,2,    277.2,2,   282.1,6,   10.55,6,   17.03,6,    1.11,6,   3.569,2,   1.852,2,   0.214,4,  2153.9,2,  2299.5,2,   4.402,2,  20.631,2, 20010606,      645,   3.1500
18HU20010530,      AR07W,      84,          1,     237265,         14,2,20010606,       0544,    56.5403,   -52.6997,       3408,  1374.8,   3.3776,  34.8659,2,  34.8766,2,    274.0,2,   279.5,2,   10.64,6,   17.34,6,    1.12,6,   3.622,2,   1.760,2,   0.233,4,  2152.2,2,  2312.0,2,   4.294,2,  19.605,2, 20010606,      649,   3.2754
18HU20010530,      AR07W,      84,          1,     237266,         15,2,20010606,       0544,    56.5403,   -52.6997,       3408,  1118.6,   3.3384,  34.8407,2,  34.8515,2,    279.9,2,   285.9,2,    9.64,6,   16.62,6,    1.08,6,   4.438,2,   2.241,2,   0.162,4,  2152.3,2,  2290.2,2,   5.182,2,  19.546,2, 20010606,      654,   3.2578
18HU20010530,      AR07W,      84,          1,     237267,         16,2,20010606,       0544,    56.5403,   -52.6997,       3408,   899.6,   3.3120,  34.8250,2,  34.8367,2,    283.0,2,   289.6,2,    9.20,6,   16.40,6,    1.09,6,   4.468,2,   2.522,2,   0.236,4,  2152.3,2,  2254.7,3,   5.500,2,  18.107,2, 20010606,      658,   3.2489
18HU20010530,      AR07W,      84,          1,     237268,         17,2,20010606,       0544,    56.5403,   -52.6997,       3408,   711.5,   3.3232,  34.8191,2,  34.8306,2,    286.4,2,   293.5,2,    8.68,6,   15.87,6,    1.08,6,   4.847,2,   2.547,2,   0.416,4,  2150.9,2,  2299.4,2,   6.017,2,  16.599,2, 20010606,      702,   3.2743
18HU20010530,      AR07W,      84,          1,     237269,         18,2,20010606,       0544,    56.5403,   -52.6997,       3408,   529.5,   3.4415,  34.8304,2,  34.8408,2,    291.9,2,   299.3,2,    8.41,6,   15.91,6,    1.04,6,   4.996,2,   2.708,2,   0.285,4,  2149.2,2,  2296.0,2,   6.417,2,  15.049,2, 20010606,      712,   3.4053
18HU20010530,      AR07W,      84,          1,     237270,         19,2,20010606,       0544,    56.5403,   -52.6997,       3408,   400.1,   3.3643,  34.8129,2,  34.8231,2,    285.6,2,   293.0,2,    8.61,6,   15.94,6,    1.06,6,   4.715,2,   2.850,2,   0.158,4,  2149.3,2,  2301.7,2,   6.104,2,  17.660,2, 20010606,      715,   3.3376
18HU20010530,      AR07W,      84,          1,     237271,         20,2,20010606,       0544,    56.5403,   -52.6997,       3408,   259.9,   3.1522,  34.7700,2,  34.7799,2,    289.0,2,   297.7,2,    8.20,6,   15.71,6,    1.04,6,   5.245,2,   2.719,2,   0.466,4,  2146.8,2,  2292.7,2,   6.671,2,  15.709,2, 20010606,      717,   3.1356
18HU20010530,      AR07W,      84,          1,     237272,         21,2,20010606,       0544,    56.5403,   -52.6997,       3408,   149.6,   3.0968,  34.7414,2,  34.7520,2,    295.7,2,   304.7,2,    7.79,6,   15.07,6,    1.02,6,   5.265,2,   2.693,2,   0.359,4,  2146.3,2,  2299.5,2,   6.909,2,  14.184,2, 20010606,      720,   3.0875
18HU20010530,      AR07W,      84,          1,     237273,         22,2,20010606,       0544,    56.5403,   -52.6997,       3408,    71.8,   3.5058,  34.6909,2,  34.7013,2,    312.0,2,   321.6,2,    2.67,6,   11.64,6,    0.81,6,   5.285,2,   2.954,2,   0.235,4,  2133.4,2,  2288.0,2,   7.683,2,  12.663,2, 20010606,      722,   3.5011
18HU20010530,      AR07W,      84,          1,     237274,         23,2,20010606,       0544,    56.5403,   -52.6997,       3408,    33.8,   4.2491,  34.6812,2,  34.6924,2,    324.1,2,   332.7,2,    0.32,6,    9.13,6,    0.67,6,   5.761,2,   2.780,2,   0.495,4,  2113.1,2,  -999.0,9,   8.503,2,  13.161,2, 20010606,      723,   4.2467
18HU20010530,      AR07W,      84,          1,     237275,         24,2,20010606,       0544,    56.5403,   -52.6997,       3408,     2.8,   5.0996,  34.6561,2,  34.6663,2,    321.7,2,   328.9,2,    0.51,6,    8.40,6,    0.66,6,   5.840,2,   2.833,2,   0.535,4,  2109.2,2,  2298.3,2,   7.972,2,  12.240,2, 20010606,      725,   5.0994
18HU20010530,      AR07W,      86,          1,     237276,          1,2,20010606,       1315,    56.6962,   -52.4903,       3506,   100.7,   2.9626,  34.6958,2,-999.0000,9,    303.6,2,  -999.0,9, -999.00,9, -999.00,9, -999.00,9,-999.000,9,-999.000,9,-999.000,9,  -999.0,9,  -999.0,9,-999.000,9,-999.000,9, 20010606,     1315,   2.9565
18HU20010530,      AR07W,      86,          1,     237277,          2,2,20010606,       1315,    56.6962,   -52.4903,       3506,    79.4,   2.9150,  34.6703,2,-999.0000,9,    304.5,2,  -999.0,9, -999.00,9, -999.00,9, -999.00,9,-999.000,9,-999.000,9,-999.000,9,  -999.0,9,  -999.0,9,-999.000,9,-999.000,9, 20010606,     1316,   2.9102
18HU20010530,      AR07W,      86,          1,     237278,          3,2,20010606,       1315,    56.6962,   -52.4903,       3506,    60.0,   2.9706,  34.6351,2,-999.0000,9,    307.0,2,  -999.0,9, -999.00,9, -999.00,9, -999.00,9,-999.000,9,-999.000,9,-999.000,9,  -999.0,9,  -999.0,9,-999.000,9,-999.000,9, 20010606,     1317,   2.9670
18HU20010530,      AR07W,      86,          1,     237279,          4,2,20010606,       1315,    56.6962,   -52.4903,       3506,    50.2,   3.5381,  34.6569,2,-999.0000,9,    315.5,2,  -999.0,9, -999.00,9, -999.00,9, -999.00,9,-999.000,9,-999.000,9,-999.000,9,  -999.0,9,  -999.0,9,-999.000,9,-999.000,9, 20010606,     1318,   3.5348
18HU20010530,      AR07W,      86,          1,     237280,          5,2,20010606,       1315,    56.6962,   -52.4903,       3506,    39.4,   4.0654,  34.6476,2,-999.0000,9,    320.7,2,  -999.0,9, -999.00,9, -999.00,9, -999.00,9,-999.000,9,-999.000,9,-999.000,9,  -999.0,9,  -999.0,9,-999.000,9,-999.000,9, 20010606,     1319,   4.0627
18HU20010530,      AR07W,      86,          1,     237281,          6,2,20010606,       1315,    56.6962,   -52.4903,       3506,    39.6,   4.1635,  34.6552,2,-999.0000,9,    325.0,2,  -999.0,9,    0.00,6,    6.60,6,    0.44,6,-999.000,9,-999.000,9,-999.000,9,  -999.0,9,  -999.0,9,-999.000,9,-999.000,9, 20010606,     1319,   4.1607
18HU20010530,      AR07W,      86,          1,     237282,          7,2,20010606,       1315,    56.6962,   -52.4903,       3506,    29.3,   4.6055,  34.6627,2,-999.0000,9,    333.0,2,  -999.0,9, -999.00,9, -999.00,9, -999.00,9,-999.000,9,-999.000,9,-999.000,9,  -999.0,9,  -999.0,9,-999.000,9,-999.000,9, 20010606,     1320,   4.6034
18HU20010530,      AR07W,      86,          1,     237283,          8,2,20010606,       1315,    56.6962,   -52.4903,       3506,    19.1,   5.1559,  34.6350,2,-999.0000,9,    333.5,2,  -999.0,9, -999.00,9, -999.00,9, -999.00,9,-999.000,9,-999.000,9,-999.000,9,  -999.0,9,  -999.0,9,-999.000,9,-999.000,9, 20010606,     1321,   5.1544
18HU20010530,      AR07W,      86,          1,     237284,          9,2,20010606,       1315,    56.6962,   -52.4903,       3506,    19.2,   5.2965,  34.6220,2,-999.0000,9,    331.8,2,  -999.0,9,    0.00,6,    5.00,6,    0.35,6,-999.000,9,-999.000,9,-999.000,9,  -999.0,9,  -999.0,9,-999.000,9,-999.000,9, 20010606,     1322,   5.2950
18HU20010530,      AR07W,      86,          1,     237285,         10,2,20010606,       1315,    56.6962,   -52.4903,       3506,     9.0,   5.4599,  34.5590,2,-999.0000,9,    328.4,2,  -999.0,9, -999.00,9, -999.00,9, -999.00,9,-999.000,9,-999.000,9,-999.000,9,  -999.0,9,  -999.0,9,-999.000,9,-999.000,9, 20010606,     1322,   5.4592
18HU20010530,      AR07W,      86,          1,     237286,         11,2,20010606,       1315,    56.6962,   -52.4903,       3506,     9.6,   5.4601,  34.5588,2,-999.0000,9,    328.1,2,  -999.0,9,    0.00,6,    2.46,6,    0.22,6,-999.000,9,-999.000,9,-999.000,9,  -999.0,9,  -999.0,9,-999.000,9,-999.000,9, 20010606,     1322,   5.4593
18HU20010530,      AR07W,      86,          1,     237287,         12,2,20010606,       1315,    56.6962,   -52.4903,       3506,     9.2,   5.4589,  34.5592,2,-999.0000,9,    327.9,2,  -999.0,9, -999.00,9, -999.00,9, -999.00,9,-999.000,9,-999.000,9,-999.000,9,  -999.0,9,  -999.0,9,-999.000,9,-999.000,9, 20010606,     1323,   5.4582
18HU20010530,      AR07W,      86,          1,     237288,         13,2,20010606,       1315,    56.6962,   -52.4903,       3506,     8.9,   5.4577,  34.5591,2,-999.0000,9,    327.8,2,  -999.0,9, -999.00,9, -999.00,9, -999.00,9,-999.000,9,-999.000,9,-999.000,9,  -999.0,9,  -999.0,9,-999.000,9,-999.000,9, 20010606,     1323,   5.4570
18HU20010530,      AR07W,      86,          1,     237289,         14,2,20010606,       1315,    56.6962,   -52.4903,       3506,     9.5,   5.4617,  34.5590,2,-999.0000,9,    327.8,2,  -999.0,9, -999.00,9, -999.00,9, -999.00,9,-999.000,9,-999.000,9,-999.000,9,  -999.0,9,  -999.0,9,-999.000,9,-999.000,9, 20010606,     1323,   5.4609
18HU20010530,      AR07W,      86,          1,     237290,         15,2,20010606,       1315,    56.6962,   -52.4903,       3506,     3.3,   5.4625,  34.5589,2,-999.0000,9,    327.5,2,  -999.0,9, -999.00,9, -999.00,9, -999.00,9,-999.000,9,-999.000,9,-999.000,9,  -999.0,9,  -999.0,9,-999.000,9,-999.000,9, 20010606,     1324,   5.4622