BOTTLE,20140827CCHSIOCBG
EXPOCODE,SECT_ID,STNNBR,CASTNO,SAMPNO,BTLNBR,BTLNBR_FLAG_W,DATE,TIME,LATITUDE,LONGITUDE,DEPTH,CTDPRS,CTDTMP,CTDSAL,CTDSAL_FLAG_W,SALNTY,SALNTY_FLAG_W,CTDOXY,CTDOXY_FLAG_W,OXYGEN,OXYGEN_FLAG_W,SILCAT,SILCAT_FLAG_W,NITRAT,NITRAT_FLAG_W,PHSPHT,PHSPHT_FLAG_W,CFC-11,CFC-11_FLAG_W,CFC-12,CFC-12_FLAG_W,CFC113,CFC113_FLAG_W,TCARBN,TCARBN_FLAG_W,ALKALI,ALKALI_FLAG_W,CCL4,CCL4_FLAG_W,MCHFRM,MCHFRM_FLAG_W,BTL_DATE,BTL_TIME,THETA
,,,,,,,,,,,METERS,DBAR,ITS-90,PSS-78,,PSS-78,,UMOL/KG,,UMOL/KG,,UMOL/KG,,UMOL/KG,,UMOL/KG,,PMOL/KG,,PMOL/KG,,PMOL/KG,,UMOL/KG,,UMOL/KG,,PMOL/KG,,PMOL/KG,,,,DEG C
18HU20010530,      AR07W,      52,          1,     237059,          1,2,20010604,       1126,    53.7923,   -55.4413,        203,   190.3,  -0.8247,  33.3806,2,  33.3861,6,    307.5,2,   321.3,2,   10.62,6,   10.44,6,    0.98,6,   6.028,2,   2.765,2,   0.522,4,  2101.3,2,  2231.3,2,   8.214,2,  19.462,2, 20010604,     1126,  -0.8299
18HU20010530,      AR07W,      52,          1,     237060,          2,2,20010604,       1126,    53.7923,   -55.4413,        203,   179.9,  -0.8572,  33.3601,2,  33.3465,2,    307.7,2,   322.1,2,   10.68,6,   10.32,6,    0.96,6,   6.090,2,   2.979,2,   0.433,4,  2101.5,3,  2232.0,2,   7.813,2,  18.555,2, 20010604,     1127,  -0.8621
18HU20010530,      AR07W,      52,          1,     237061,          3,2,20010604,       1126,    53.7923,   -55.4413,        203,   150.2,  -1.2520,  33.0863,2,  33.0855,2,    307.6,2,   322.2,6,   11.02,6,    9.79,6,    0.97,6,   6.583,6,   3.341,6,   0.514,4,  2104.3,2,  2221.9,2,   8.791,6,  21.965,6, 20010604,     1128,  -1.2554
18HU20010530,      AR07W,      52,          1,     237062,          4,2,20010604,       1126,    53.7923,   -55.4413,        203,   124.1,  -1.3695,  32.9311,2,  32.9039,2,    309.1,2,   325.2,2,   11.35,6,    8.99,6,    1.05,6,   6.049,2,   3.055,2,   0.425,4,  2105.5,2,  2212.7,2,   8.046,2,  20.462,2, 20010604,     1129,  -1.3721
18HU20010530,      AR07W,      52,          1,     237063,          5,2,20010604,       1126,    53.7923,   -55.4413,        203,    99.5,  -1.4920,  32.7357,2,  32.7366,2,    313.0,2,   330.3,2,   11.24,6,    8.40,6,    0.97,6,   6.250,2,   3.092,2,   0.459,4,  2095.0,2,  2203.8,2,   8.274,2,  20.825,2, 20010604,     1131,  -1.4939
18HU20010530,      AR07W,      52,          1,     237064,          6,2,20010604,       1126,    53.7923,   -55.4413,        203,    79.7,  -1.6205,  32.6236,2,-999.0000,9,    315.7,2,  -999.0,9,   11.37,6,    8.12,6,    1.00,6,-999.000,9,-999.000,9,-999.000,9,  -999.0,9,  -999.0,9,-999.000,9,-999.000,9, 20010604,     1132,  -1.6219
18HU20010530,      AR07W,      52,          1,     237065,          7,2,20010604,       1126,    53.7923,   -55.4413,        203,    60.7,  -1.5082,  32.5526,2,-999.0000,9,    323.3,2,  -999.0,9,   10.62,6,    7.27,6,    0.94,6,-999.000,9,-999.000,9,-999.000,9,  -999.0,9,  -999.0,9,-999.000,9,-999.000,9, 20010604,     1133,  -1.5093
18HU20010530,      AR07W,      52,          1,     237066,          8,2,20010604,       1126,    53.7923,   -55.4413,        203,    49.4,  -1.4869,  32.5234,2,  32.5345,2,    325.5,2,   341.2,2,   11.08,6,    7.29,6,    0.95,6,   6.696,2,   3.227,2,   0.478,4,  2107.8,2,  2216.0,2,   9.180,2,  19.871,2, 20010604,     1133,  -1.4878
18HU20010530,      AR07W,      52,          1,     237067,          9,2,20010604,       1126,    53.7923,   -55.4413,        203,    40.3,  -1.4782,  32.4837,2,-999.0000,9,    323.3,2,  -999.0,9,   11.31,6,    7.26,6,    0.99,6,-999.000,9,-999.000,9,-999.000,9,  -999.0,9,  -999.0,9,-999.000,9,-999.000,9, 20010604,     1134,  -1.4789
18HU20010530,      AR07W,      52,          1,     237068,         10,2,20010604,       1126,    53.7923,   -55.4413,        203,    39.1,  -1.4739,  32.4834,2,-999.0000,9,    323.4,2,  -999.0,9,    9.95,6,    6.71,6,    0.94,6,-999.000,9,-999.000,9,-999.000,9,  -999.0,9,  -999.0,9,-999.000,9,-999.000,9, 20010604,     1134,  -1.4746
18HU20010530,      AR07W,      52,          1,     237069,         11,2,20010604,       1126,    53.7923,   -55.4413,        203,    39.3,  -1.4817,  32.4846,2,-999.0000,9,    323.3,2,  -999.0,9, -999.00,9, -999.00,9, -999.00,9,-999.000,9,-999.000,9,-999.000,9,  -999.0,9,  -999.0,9,-999.000,9,-999.000,9, 20010604,     1134,  -1.4824
18HU20010530,      AR07W,      52,          1,     237070,         12,2,20010604,       1126,    53.7923,   -55.4413,        203,    30.0,  -1.4120,  32.4492,2,-999.0000,9,    323.6,2,  -999.0,9,   11.30,6,    7.08,6,    0.97,6,-999.000,9,-999.000,9,-999.000,9,  -999.0,9,  -999.0,9,-999.000,9,-999.000,9, 20010604,     1137,  -1.4126
18HU20010530,      AR07W,      52,          1,     237071,         13,2,20010604,       1126,    53.7923,   -55.4413,        203,    20.6,  -0.0981,  32.1778,2,-999.0000,9,    331.1,2,  -999.0,9,   10.43,6,    6.53,6,    0.89,6,-999.000,9,-999.000,9,-999.000,9,  -999.0,9,  -999.0,9,-999.000,9,-999.000,9, 20010604,     1139,  -0.0987
18HU20010530,      AR07W,      52,          1,     237072,         14,2,20010604,       1126,    53.7923,   -55.4413,        203,    20.2,   0.2369,  32.0713,2,-999.0000,9,    340.7,2,  -999.0,9,    7.91,3,    5.42,6,    0.63,3,-999.000,9,-999.000,9,-999.000,9,  -999.0,9,  -999.0,9,-999.000,9,-999.000,9, 20010604,     1139,   0.2362
18HU20010530,      AR07W,      52,          1,     237073,         15,2,20010604,       1126,    53.7923,   -55.4413,        203,    10.3,   1.0084,  31.8504,2,  31.8602,2,    350.6,2,   364.5,2,    9.97,6,    4.57,6,    0.81,6,   5.686,2,   0.000,4,-999.000,9,  2039.6,2,  2179.1,2,   9.244,2,  10.953,2, 20010604,     1140,   1.0080
18HU20010530,      AR07W,      52,          1,     237074,         16,2,20010604,       1126,    53.7923,   -55.4413,        203,     9.5,   1.0104,  31.8496,2,-999.0000,9,    350.8,2,  -999.0,9,    8.14,6,    4.11,6,    0.63,6,-999.000,9,-999.000,9,-999.000,9,  -999.0,9,  -999.0,9,-999.000,9,-999.000,9, 20010604,     1140,   1.0100
18HU20010530,      AR07W,      52,          1,     237075,         17,2,20010604,       1126,    53.7923,   -55.4413,        203,    10.3,   0.9958,  31.8497,2,-999.0000,9,    351.0,2,  -999.0,9, -999.00,9, -999.00,9, -999.00,9,-999.000,9,-999.000,9,-999.000,9,  -999.0,9,  -999.0,9,-999.000,9,-999.000,9, 20010604,     1141,   0.9954
18HU20010530,      AR07W,      52,          1,     237076,         18,2,20010604,       1126,    53.7923,   -55.4413,        203,    10.1,   1.0043,  31.8487,2,-999.0000,9,    351.0,2,  -999.0,9, -999.00,9, -999.00,9, -999.00,9,-999.000,9,-999.000,9,-999.000,9,  -999.0,9,  -999.0,9,-999.000,9,-999.000,9, 20010604,     1141,   1.0039
18HU20010530,      AR07W,      52,          1,     237077,         19,2,20010604,       1126,    53.7923,   -55.4413,        203,    10.0,   1.0048,  31.8504,2,-999.0000,9,    351.2,2,  -999.0,9, -999.00,9, -999.00,9, -999.00,9,-999.000,9,-999.000,9,-999.000,9,  -999.0,9,  -999.0,9,-999.000,9,-999.000,9, 20010604,     1141,   1.0044
18HU20010530,      AR07W,      52,          1,     237078,         20,2,20010604,       1126,    53.7923,   -55.4413,        203,     1.6,   1.0824,  31.8423,2,-999.0000,9,    351.2,2,  -999.0,9,   10.11,6,    4.46,6,    0.77,6,-999.000,9,-999.000,9,-999.000,9,  -999.0,9,  -999.0,9,-999.000,9,-999.000,9, 20010604,     1142,   1.0823
18HU20010530,      AR07W,      54,          1,     237079,          1,2,20010604,       1322,    53.9857,   -55.2483,        150,   140.3,  -1.0276,  33.3054,2,-999.0000,9,    308.2,2,  -999.0,9, -999.00,9, -999.00,9, -999.00,9,-999.000,9,-999.000,9,-999.000,9,  -999.0,9,  -999.0,9,-999.000,9,-999.000,9, 20010604,     1322,  -1.0311
18HU20010530,      AR07W,      54,          1,     237080,          2,2,20010604,       1322,    53.9857,   -55.2483,        150,   120.2,  -1.2358,  33.1234,2,  33.1406,2,    307.7,2,   322.6,2,   11.41,6,    9.38,6,    0.97,6,   6.581,6,   3.323,6,   0.544,4,  2112.8,2,  2219.6,3,   8.722,6,  21.932,6, 20010604,     1325,  -1.2385
18HU20010530,      AR07W,      54,          1,     237081,          3,2,20010604,       1322,    53.9857,   -55.2483,        150,    99.8,  -1.3670,  32.9428,2,  32.9469,2,    308.0,2,   323.3,6,   12.01,6,    9.16,6,    0.99,6,   6.298,2,   3.038,2,   0.466,4,  2101.2,2,  2213.5,2,   8.034,2,  19.470,2, 20010604,     1326,  -1.3691
18HU20010530,      AR07W,      54,          1,     237082,          4,2,20010604,       1322,    53.9857,   -55.2483,        150,    79.4,  -1.5026,  32.7878,2,-999.0000,9,    308.0,2,  -999.0,9, -999.00,9, -999.00,9, -999.00,9,-999.000,9,-999.000,9,-999.000,9,  -999.0,9,  -999.0,9,-999.000,9,-999.000,9, 20010604,     1328,  -1.5041
18HU20010530,      AR07W,      54,          1,     237083,          5,2,20010604,       1322,    53.9857,   -55.2483,        150,    60.5,  -1.5569,  32.6608,2,-999.0000,9,    311.9,2,  -999.0,9, -999.00,9, -999.00,9, -999.00,9,-999.000,9,-999.000,9,-999.000,9,  -999.0,9,  -999.0,9,-999.000,9,-999.000,9, 20010604,     1329,  -1.5580
18HU20010530,      AR07W,      54,          1,     237084,          6,2,20010604,       1322,    53.9857,   -55.2483,        150,    50.6,  -1.5654,  32.6009,2,  32.6095,6,    314.7,2,   332.7,2,   12.03,6,    7.77,6,    1.00,6,   6.558,2,   3.364,2,   0.523,4,  2110.3,2,  2212.9,2,   8.587,2,  19.948,2, 20010604,     1329,  -1.5663
18HU20010530,      AR07W,      54,          1,     237085,          7,2,20010604,       1322,    53.9857,   -55.2483,        150,    38.9,  -1.5614,  32.5573,2,-999.0000,9,    316.9,2,  -999.0,9, -999.00,9, -999.00,9, -999.00,9,-999.000,9,-999.000,9,-999.000,9,  -999.0,9,  -999.0,9,-999.000,9,-999.000,9, 20010604,     1330,  -1.5621
18HU20010530,      AR07W,      54,          1,     237086,          8,2,20010604,       1322,    53.9857,   -55.2483,        150,    28.6,  -1.6095,  32.5259,2,-999.0000,9,    319.8,2,  -999.0,9, -999.00,9, -999.00,9, -999.00,9,-999.000,9,-999.000,9,-999.000,9,  -999.0,9,  -999.0,9,-999.000,9,-999.000,9, 20010604,     1331,  -1.6100
18HU20010530,      AR07W,      54,          1,     237087,          9,2,20010604,       1322,    53.9857,   -55.2483,        150,    19.4,  -1.4536,  32.4615,2,-999.0000,9,    322.9,2,  -999.0,9, -999.00,9, -999.00,9, -999.00,9,-999.000,9,-999.000,9,-999.000,9,  -999.0,9,  -999.0,9,-999.000,9,-999.000,9, 20010604,     1332,  -1.4540
18HU20010530,      AR07W,      54,          1,     237088,         10,2,20010604,       1322,    53.9857,   -55.2483,        150,     9.6,   1.2551,  31.7650,2,  31.8513,2,    364.0,2,   389.1,2,    4.25,6,    1.07,6,    0.50,6,   6.205,2,   3.023,2,   0.454,4,  2008.7,2,  2183.1,2,   8.113,2,  19.835,2, 20010604,     1332,   1.2547
18HU20010530,      AR07W,      54,          1,     237089,         11,2,20010604,       1322,    53.9857,   -55.2483,        150,     9.8,   1.2666,  31.7762,2,-999.0000,9,    380.4,2,  -999.0,9, -999.00,9, -999.00,9, -999.00,9,-999.000,9,-999.000,9,-999.000,9,  -999.0,9,  -999.0,9,-999.000,9,-999.000,9, 20010604,     1332,   1.2662
18HU20010530,      AR07W,      54,          1,     237090,         12,2,20010604,       1322,    53.9857,   -55.2483,        150,     1.6,   1.6876,  31.7711,2,-999.0000,9,    391.4,2,  -999.0,9, -999.00,9, -999.00,9, -999.00,9,-999.000,9,-999.000,9,-999.000,9,  -999.0,9,  -999.0,9,-999.000,9,-999.000,9, 20010604,     1333,   1.6875
18HU20010530,      AR07W,      58,          1,     237091,          1,2,20010604,       1602,    54.2193,   -55.0238,        166,   155.2,   2.2061,  34.3858,2,  34.3774,6,    287.9,2,   295.3,2,   10.59,6,   13.78,6,    1.08,6,   5.702,2,   3.182,2,   0.584,4,  2133.7,2,  2265.8,2,   7.257,2,  23.274,2, 20010604,     1602,   2.1976
18HU20010530,      AR07W,      58,          1,     237092,          2,2,20010604,       1602,    54.2193,   -55.0238,        166,   139.9,   1.5219,  34.1842,2,  34.1964,2,    290.8,2,   299.6,2,    9.87,6,   13.19,6,    0.97,6,   6.098,2,   3.115,2,   0.517,4,  2127.0,2,  2250.8,3,   7.879,2,  24.220,2, 20010604,     1603,   1.5151
18HU20010530,      AR07W,      58,          1,     237093,          3,2,20010604,       1602,    54.2193,   -55.0238,        166,   118.9,   1.2807,  34.1147,2,  34.1280,2,    292.6,2,   301.7,6,    9.80,6,   12.90,6,    0.97,6,   6.264,2,   3.139,2,   0.555,4,  2130.2,2,  2258.5,2,   8.219,2,  24.957,2, 20010604,     1604,   1.2752
18HU20010530,      AR07W,      58,          1,     237094,          4,2,20010604,       1602,    54.2193,   -55.0238,        166,   100.6,   0.8041,  33.9797,2,  33.9567,2,    295.3,2,   307.9,2,    9.50,6,   12.20,6,    0.95,6,   6.600,6,   3.405,6,   0.590,4,  2117.9,2,  2248.1,2,   8.783,6,  25.306,6, 20010604,     1605,   0.7999
18HU20010530,      AR07W,      58,          1,     237095,          5,2,20010604,       1602,    54.2193,   -55.0238,        166,    79.5,  -0.2519,  33.6532,2,-999.0000,9,    302.1,2,  -999.0,9, -999.00,9, -999.00,9, -999.00,9,-999.000,9,-999.000,9,-999.000,9,  -999.0,9,  -999.0,9,-999.000,9,-999.000,9, 20010604,     1606,  -0.2544
18HU20010530,      AR07W,      58,          1,     237096,          6,2,20010604,       1602,    54.2193,   -55.0238,        166,    59.8,  -0.8606,  33.3748,2,-999.0000,9,    309.4,2,  -999.0,9, -999.00,9, -999.00,9, -999.00,9,-999.000,9,-999.000,9,-999.000,9,  -999.0,9,  -999.0,9,-999.000,9,-999.000,9, 20010604,     1607,  -0.8621
18HU20010530,      AR07W,      58,          1,     237097,          7,2,20010604,       1602,    54.2193,   -55.0238,        166,    50.4,  -0.8854,  33.2991,2,  33.3211,2,    318.8,2,   337.4,2,    7.76,3,    8.38,6,    0.82,3,   7.507,2,   3.808,2,   0.631,4,  2092.7,2,  2227.9,2,  10.717,4,  27.991,2, 20010604,     1607,  -0.8867
18HU20010530,      AR07W,      58,          1,     237098,          8,2,20010604,       1602,    54.2193,   -55.0238,        166,    39.4,  -0.8872,  33.2564,2,-999.0000,9,    322.5,2,  -999.0,9, -999.00,9, -999.00,9, -999.00,9,-999.000,9,-999.000,9,-999.000,9,  -999.0,9,  -999.0,9,-999.000,9,-999.000,9, 20010604,     1608,  -0.8882
18HU20010530,      AR07W,      58,          1,     237099,          9,2,20010604,       1602,    54.2193,   -55.0238,        166,    29.9,  -0.9628,  33.0469,2,-999.0000,9,    323.4,2,  -999.0,9, -999.00,9, -999.00,9, -999.00,9,-999.000,9,-999.000,9,-999.000,9,  -999.0,9,  -999.0,9,-999.000,9,-999.000,9, 20010604,     1609,  -0.9635
18HU20010530,      AR07W,      58,          1,     237100,         10,2,20010604,       1602,    54.2193,   -55.0238,        166,    20.6,  -0.1216,  32.5714,2,-999.0000,9,    339.7,2,  -999.0,9, -999.00,9, -999.00,9, -999.00,9,-999.000,9,-999.000,9,-999.000,9,  -999.0,9,  -999.0,9,-999.000,9,-999.000,9, 20010604,     1610,  -0.1222
18HU20010530,      AR07W,      58,          1,     237101,         11,2,20010604,       1602,    54.2193,   -55.0238,        166,    11.4,   0.4255,  32.1495,2,  32.2452,2,    342.6,2,   356.7,2,    9.35,6,    6.05,6,    0.82,6,   8.255,2,   4.256,2,   0.697,4,  2061.4,2,  2185.0,2,  12.138,4,  27.833,2, 20010604,     1611,   0.4251
18HU20010530,      AR07W,      58,          1,     237102,         12,2,20010604,       1602,    54.2193,   -55.0238,        166,     9.5,   0.3452,  32.1658,2,-999.0000,9,    345.0,2,  -999.0,9, -999.00,9, -999.00,9, -999.00,9,-999.000,9,-999.000,9,-999.000,9,  -999.0,9,  -999.0,9,-999.000,9,-999.000,9, 20010604,     1611,   0.3449
18HU20010530,      AR07W,      58,          1,     237103,         13,2,20010604,       1602,    54.2193,   -55.0238,        166,     3.2,   0.9139,  32.0033,2,-999.0000,9,    347.6,2,  -999.0,9, -999.00,9, -999.00,9, -999.00,9,-999.000,9,-999.000,9,-999.000,9,  -999.0,9,  -999.0,9,-999.000,9,-999.000,9, 20010604,     1612,   0.9138