BOTTLE,20140827CCHSIOCBG
EXPOCODE,SECT_ID,STNNBR,CASTNO,SAMPNO,BTLNBR,BTLNBR_FLAG_W,DATE,TIME,LATITUDE,LONGITUDE,DEPTH,CTDPRS,CTDTMP,CTDSAL,CTDSAL_FLAG_W,SALNTY,SALNTY_FLAG_W,CTDOXY,CTDOXY_FLAG_W,OXYGEN,OXYGEN_FLAG_W,SILCAT,SILCAT_FLAG_W,NITRAT,NITRAT_FLAG_W,PHSPHT,PHSPHT_FLAG_W,CFC-11,CFC-11_FLAG_W,CFC-12,CFC-12_FLAG_W,CFC113,CFC113_FLAG_W,TCARBN,TCARBN_FLAG_W,ALKALI,ALKALI_FLAG_W,CCL4,CCL4_FLAG_W,MCHFRM,MCHFRM_FLAG_W,BTL_DATE,BTL_TIME,THETA
,,,,,,,,,,,METERS,DBAR,ITS-90,PSS-78,,PSS-78,,UMOL/KG,,UMOL/KG,,UMOL/KG,,UMOL/KG,,UMOL/KG,,PMOL/KG,,PMOL/KG,,PMOL/KG,,UMOL/KG,,UMOL/KG,,PMOL/KG,,PMOL/KG,,,,DEG C
18HU20010530,      AR07W,     183,          1,     237608,          1,2,20010610,       0326,    57.3763,   -51.7935,       3463,  3586.4,   1.4156,  34.8560,2,-999.0000,9,    299.3,2,  -999.0,9, -999.00,9, -999.00,9, -999.00,9,-999.000,9,-999.000,9,-999.000,9,  -999.0,9,  -999.0,9,-999.000,9,-999.000,9, 20010610,      326,   1.1417
18HU20010530,      AR07W,     183,          1,     237609,          2,2,20010610,       0326,    57.3763,   -51.7935,       3463,  3501.2,   1.5247,  34.8557,2,  34.8673,2,    298.2,2,   299.7,2,   10.21,6,   14.28,6,    0.94,6,   3.807,2,   2.124,2,   1.289,4,  2156.1,2,  2295.4,2,   4.980,2,  21.702,2, 20010610,      328,   1.2567
18HU20010530,      AR07W,     183,          1,     237610,          3,2,20010610,       0326,    57.3763,   -51.7935,       3463,  3409.2,   1.7682,  34.8591,2,  34.8707,2,    295.1,2,   294.8,2,   10.17,6,   14.48,6,    0.96,6,   3.700,2,   1.904,2,   0.346,4,  2154.9,2,  2306.0,2,   5.577,2,  20.459,2, 20010610,      331,   1.5036
18HU20010530,      AR07W,     183,          1,     237611,          4,2,20010610,       0326,    57.3763,   -51.7935,       3463,  3299.5,   2.0864,  34.8688,2,  34.8809,2,    289.0,2,   288.7,2,   11.64,6,   15.10,6,    0.98,6,   3.136,2,   1.584,2,   0.235,4,  2157.1,2,  2306.6,3,   4.249,2,  17.852,2, 20010610,      333,   1.8254
18HU20010530,      AR07W,     183,          1,     237612,          5,2,20010610,       0326,    57.3763,   -51.7935,       3463,  3178.7,   2.3429,  34.8814,2,  34.8927,2,    282.5,2,   282.9,2,   13.24,6,   15.71,6,    1.01,6,   2.565,2,   1.349,2,   0.207,4,  2155.5,2,  2261.5,3,   3.451,2,  15.634,2, 20010610,      336,   2.0883
18HU20010530,      AR07W,     183,          1,     237613,          6,2,20010610,       0326,    57.3763,   -51.7935,       3463,  3039.3,   2.5329,  34.8873,2,  34.8999,6,    280.2,2,   281.0,2,   12.98,6,   15.98,6,    1.03,6,   2.529,2,   1.260,2,   0.224,4,  2156.2,2,  2306.3,2,   3.460,2,  16.943,2, 20010610,      339,   2.2884
18HU20010530,      AR07W,     183,          1,     237614,          7,2,20010610,       0326,    57.3763,   -51.7935,       3463,  2880.0,   2.7048,  34.8905,2,  34.9027,2,    278.5,2,   279.7,2,   12.41,6,   16.18,6,    1.03,6,   2.488,6,   1.326,6,   0.159,4,  2157.6,2,  2298.8,2,   3.273,6,  15.168,6, 20010610,      343,   2.4728
18HU20010530,      AR07W,     183,          1,     237615,          8,2,20010610,       0326,    57.3763,   -51.7935,       3463,  2688.9,   2.8656,  34.8899,2,  34.9025,2,    277.5,2,   279.3,2,   12.14,6,   16.39,6,    1.04,6,   2.457,2,   1.233,2,   0.169,4,  2155.7,2,  2312.0,2,   3.268,2,  15.462,2, 20010610,      346,   2.6496
18HU20010530,      AR07W,     183,          1,     237616,          9,2,20010610,       0326,    57.3763,   -51.7935,       3463,  2478.8,   3.0057,  34.8863,2,  34.8987,2,    276.8,2,   280.7,2,   11.94,6,   16.61,6,    1.09,6,   2.551,2,   1.318,2,   0.246,4,  2156.0,2,  2307.6,2,   3.477,2,  17.374,2, 20010610,      349,   2.8079
18HU20010530,      AR07W,     183,          1,     237617,         10,2,20010610,       0326,    57.3763,   -51.7935,       3463,  2249.7,   3.0564,  34.8714,2,  34.8820,2,    279.5,2,   283.2,2,   11.11,6,   16.72,6,    1.08,6,   3.037,2,   1.456,2,   0.221,4,  2154.6,2,  -999.0,9,   3.988,2,  20.311,2, 20010610,      352,   2.8799
18HU20010530,      AR07W,     183,          1,     237618,         11,2,20010610,       0326,    57.3763,   -51.7935,       3463,  2010.4,   3.0457,  34.8542,2,  34.8669,6,    282.9,2,   287.4,2,   10.83,6,   16.83,6,    1.06,6,   3.586,2,   1.771,2,   0.264,4,  2154.4,2,  2308.7,2,   4.559,2,  23.997,2, 20010610,      356,   2.8918
18HU20010530,      AR07W,     183,          1,     237619,         12,2,20010610,       0326,    57.3763,   -51.7935,       3463,  1770.0,   3.1022,  34.8530,2,-999.0000,9,    281.6,2,  -999.0,9, -999.00,9, -999.00,9, -999.00,9,-999.000,9,-999.000,9,-999.000,9,  -999.0,9,  -999.0,9,-999.000,9,-999.000,9, 20010610,      400,   2.9691
18HU20010530,      AR07W,     183,          1,     237620,         13,2,20010610,       0326,    57.3763,   -51.7935,       3463,  1530.1,   3.2181,  34.8583,2,  34.8704,2,    277.7,2,   283.6,6,   10.62,6,   17.03,6,    1.03,6,   3.539,2,   1.814,2,   0.320,4,  2157.5,2,  2315.3,2,   4.695,2,  24.406,2, 20010610,      404,   3.1044
18HU20010530,      AR07W,     183,          1,     237621,         14,2,20010610,       0326,    57.3763,   -51.7935,       3463,  1300.8,   3.3578,  34.8641,2,  34.8763,2,    274.1,2,   280.3,2,   10.73,6,   17.11,6,    1.04,6,   4.040,2,   1.915,2,   0.321,4,  2157.2,2,  2288.7,2,   4.505,2,  22.108,2, 20010610,      408,   3.2620
18HU20010530,      AR07W,     183,          1,     237622,         15,2,20010610,       0326,    57.3763,   -51.7935,       3463,  1098.7,   3.3487,  34.8466,2,  34.8586,2,    277.7,2,   285.1,2,    9.92,6,   16.66,6,    0.99,6,   4.207,2,   2.167,2,   0.339,4,  2156.5,2,  2297.4,2,   5.151,2,  21.429,2, 20010610,      411,   3.2696
18HU20010530,      AR07W,     183,          1,     237623,         16,2,20010610,       0326,    57.3763,   -51.7935,       3463,   899.5,   3.2132,  34.8184,2,  34.8310,2,    285.0,2,   292.5,2,    9.26,6,   16.03,6,    0.98,6,   4.686,2,   2.512,2,   0.506,4,  2151.8,2,  2289.7,2,   5.999,2,  20.991,2, 20010610,      414,   3.1508
18HU20010530,      AR07W,     183,          1,     237624,         17,2,20010610,       0326,    57.3763,   -51.7935,       3463,   620.5,   3.2339,  34.8144,2,  34.8269,2,    284.7,2,   292.8,2,    9.19,6,   16.02,6,    1.02,6,   5.019,2,   2.578,2,   0.431,4,  2153.2,2,  2300.0,2,   6.073,2,  19.587,2, 20010610,      418,   3.1921
18HU20010530,      AR07W,     183,          1,     237625,         18,2,20010610,       0326,    57.3763,   -51.7935,       3463,   448.6,   3.2857,  34.8157,2,  34.8259,2,    283.7,2,   292.0,2,    9.08,6,   16.10,6,    0.97,6,   4.832,2,   2.578,2,   0.390,4,  2153.7,2,  2295.7,2,   6.128,2,  19.034,2, 20010610,      423,   3.2559
18HU20010530,      AR07W,     183,          1,     237626,         19,2,20010610,       0326,    57.3763,   -51.7935,       3463,   340.0,   3.4086,  34.8267,2,  34.8391,2,    282.2,2,   290.4,2,    9.03,6,   16.27,6,    1.06,6,   4.901,2,   2.599,2,   0.643,4,  -999.0,9,  2305.4,2,   6.162,2,  21.121,2, 20010610,      425,   3.3860
18HU20010530,      AR07W,     183,          1,     237627,         20,2,20010610,       0326,    57.3763,   -51.7935,       3463,   239.9,   3.2654,  34.8001,2,  34.8117,2,    291.0,2,   299.9,2,    8.52,6,   15.54,6,    1.01,6,   5.261,2,   2.776,2,   0.501,4,  2151.1,2,  2308.6,2,   7.157,2,  16.697,2, 20010610,      427,   3.2499
18HU20010530,      AR07W,     183,          1,     237628,         21,2,20010610,       0326,    57.3763,   -51.7935,       3463,   140.4,   3.1509,  34.7708,2,  34.7824,2,    291.5,2,   300.7,2,    8.30,6,   15.39,6,    1.02,6,   5.136,2,   2.918,2,   0.461,4,  -999.0,9,  2295.3,2,   7.010,2,  16.399,2, 20010610,      429,   3.1421
18HU20010530,      AR07W,     183,          1,     237629,         22,2,20010610,       0326,    57.3763,   -51.7935,       3463,    70.2,   3.0007,  34.7157,2,  34.7296,2,    299.7,2,   309.3,2,    7.79,6,   14.09,6,    0.99,6,   5.298,2,   2.972,2,   0.995,4,  2144.8,2,  2310.4,2,   7.778,2,  17.685,2, 20010610,      431,   2.9964
18HU20010530,      AR07W,     183,          1,     237630,         23,2,20010610,       0326,    57.3763,   -51.7935,       3463,     9.3,   5.8535,  34.5791,2,  34.5902,2,    317.2,2,   323.6,2,    0.49,6,    5.80,6,    0.47,6,   5.434,2,   3.000,2,   0.497,4,  2095.4,2,  2296.5,2,   8.343,2,  13.188,2, 20010610,      434,   5.8527
18HU20010530,      AR07W,     183,          1,     237631,         24,2,20010610,       0326,    57.3763,   -51.7935,       3463,     3.0,   5.8684,  34.5791,2,  34.5902,2,    317.2,2,   323.5,2,    0.49,6,    5.77,6,    0.47,6,   5.074,2,   3.110,2,   1.095,4,  2092.6,2,  2295.3,2,   7.967,2,  15.223,2, 20010610,      435,   5.8682
18HU20010530,      AR07W,     209,          1,     237632,          1,2,20010610,       1153,    56.1138,   -53.1160,       3261,    99.9,   3.0830,  34.7220,2,-999.0000,9,    292.5,2,  -999.0,9,    8.02,6,   14.95,6,    1.02,6,-999.000,9,-999.000,9,-999.000,9,  -999.0,9,  -999.0,9,-999.000,9,-999.000,9, 20010610,     1153,   3.0768
18HU20010530,      AR07W,     209,          1,     237633,          2,2,20010610,       1153,    56.1138,   -53.1160,       3261,    80.6,   2.9344,  34.6839,2,-999.0000,9,    301.6,2,  -999.0,9,    7.72,6,   12.90,6,    0.93,6,-999.000,9,-999.000,9,-999.000,9,  -999.0,9,  -999.0,9,-999.000,9,-999.000,9, 20010610,     1154,   2.9295
18HU20010530,      AR07W,     209,          1,     237634,          3,2,20010610,       1153,    56.1138,   -53.1160,       3261,    59.8,   2.9039,  34.6407,2,-999.0000,9,    305.7,2,  -999.0,9,    7.20,6,   12.33,6,    0.90,6,-999.000,9,-999.000,9,-999.000,9,  -999.0,9,  -999.0,9,-999.000,9,-999.000,9, 20010610,     1155,   2.9003
18HU20010530,      AR07W,     209,          1,     237635,          4,2,20010610,       1153,    56.1138,   -53.1160,       3261,    49.4,   2.9752,  34.6237,2,-999.0000,9,    307.8,2,  -999.0,9,    6.18,6,   11.17,6,    0.88,6,-999.000,9,-999.000,9,-999.000,9,  -999.0,9,  -999.0,9,-999.000,9,-999.000,9, 20010610,     1157,   2.9722
18HU20010530,      AR07W,     209,          1,     237636,          5,2,20010610,       1153,    56.1138,   -53.1160,       3261,    39.7,   4.2359,  34.5897,2,-999.0000,9,    319.9,2,  -999.0,9,    0.68,6,    6.83,6,    0.53,6,-999.000,9,-999.000,9,-999.000,9,  -999.0,9,  -999.0,9,-999.000,9,-999.000,9, 20010610,     1157,   4.2331
18HU20010530,      AR07W,     209,          1,     237637,          6,2,20010610,       1153,    56.1138,   -53.1160,       3261,    39.9,   4.2802,  34.5908,2,-999.0000,9,    325.4,2,  -999.0,9,    0.00,6,    4.79,6,    0.36,6,-999.000,9,-999.000,9,-999.000,9,  -999.0,9,  -999.0,9,-999.000,9,-999.000,9, 20010610,     1158,   4.2774
18HU20010530,      AR07W,     209,          1,     237638,          7,2,20010610,       1153,    56.1138,   -53.1160,       3261,    30.7,   4.6801,  34.5615,2,-999.0000,9,    335.6,2,  -999.0,9,    0.40,6,    5.10,6,    0.36,6,-999.000,9,-999.000,9,-999.000,9,  -999.0,9,  -999.0,9,-999.000,9,-999.000,9, 20010610,     1158,   4.6778
18HU20010530,      AR07W,     209,          1,     237639,          8,2,20010610,       1153,    56.1138,   -53.1160,       3261,    19.2,   5.4900,  34.5258,2,-999.0000,9,    329.8,2,  -999.0,9,    0.52,6,    3.62,6,    0.29,6,-999.000,9,-999.000,9,-999.000,9,  -999.0,9,  -999.0,9,-999.000,9,-999.000,9, 20010610,     1159,   5.4885
18HU20010530,      AR07W,     209,          1,     237640,          9,2,20010610,       1153,    56.1138,   -53.1160,       3261,    19.4,   5.4898,  34.5265,2,-999.0000,9,    329.5,2,  -999.0,9,    0.00,6,    2.80,6,    0.22,6,-999.000,9,-999.000,9,-999.000,9,  -999.0,9,  -999.0,9,-999.000,9,-999.000,9, 20010610,     1159,   5.4882
18HU20010530,      AR07W,     209,          1,     237641,         10,2,20010610,       1153,    56.1138,   -53.1160,       3261,     9.2,   5.7640,  34.4870,2,-999.0000,9,    323.9,2,  -999.0,9,    0.42,6,    3.78,6,    0.32,6,-999.000,9,-999.000,9,-999.000,9,  -999.0,9,  -999.0,9,-999.000,9,-999.000,9, 20010610,     1200,   5.7632
18HU20010530,      AR07W,     209,          1,     237642,         11,2,20010610,       1153,    56.1138,   -53.1160,       3261,     9.7,   5.7803,  34.4849,2,-999.0000,9,    322.7,2,  -999.0,9,    0.00,6,    2.75,6,    0.22,6,-999.000,9,-999.000,9,-999.000,9,  -999.0,9,  -999.0,9,-999.000,9,-999.000,9, 20010610,     1200,   5.7795
18HU20010530,      AR07W,     209,          1,     237643,         12,2,20010610,       1153,    56.1138,   -53.1160,       3261,     9.4,   5.7784,  34.4862,2,-999.0000,9,    322.5,2,  -999.0,9, -999.00,9, -999.00,9, -999.00,9,-999.000,9,-999.000,9,-999.000,9,  -999.0,9,  -999.0,9,-999.000,9,-999.000,9, 20010610,     1200,   5.7776
18HU20010530,      AR07W,     209,          1,     237644,         13,2,20010610,       1153,    56.1138,   -53.1160,       3261,     9.5,   5.7647,  34.4884,2,-999.0000,9,    322.1,2,  -999.0,9, -999.00,9, -999.00,9, -999.00,9,-999.000,9,-999.000,9,-999.000,9,  -999.0,9,  -999.0,9,-999.000,9,-999.000,9, 20010610,     1201,   5.7639
18HU20010530,      AR07W,     209,          1,     237645,         14,2,20010610,       1153,    56.1138,   -53.1160,       3261,     9.2,   5.7458,  34.4960,2,-999.0000,9,    322.5,2,  -999.0,9, -999.00,9, -999.00,9, -999.00,9,-999.000,9,-999.000,9,-999.000,9,  -999.0,9,  -999.0,9,-999.000,9,-999.000,9, 20010610,     1201,   5.7450
18HU20010530,      AR07W,     209,          1,     237646,         15,2,20010610,       1153,    56.1138,   -53.1160,       3261,     3.5,   5.8530,  34.4752,2,-999.0000,9,    321.6,2,  -999.0,9,    0.43,6,    3.78,6,    0.34,6,-999.000,9,-999.000,9,-999.000,9,  -999.0,9,  -999.0,9,-999.000,9,-999.000,9, 20010610,     1202,   5.8527