BOTTLE,20140827CCHSIOCBG
EXPOCODE,SECT_ID,STNNBR,CASTNO,SAMPNO,BTLNBR,BTLNBR_FLAG_W,DATE,TIME,LATITUDE,LONGITUDE,DEPTH,CTDPRS,CTDTMP,CTDSAL,CTDSAL_FLAG_W,SALNTY,SALNTY_FLAG_W,CTDOXY,CTDOXY_FLAG_W,OXYGEN,OXYGEN_FLAG_W,SILCAT,SILCAT_FLAG_W,NITRAT,NITRAT_FLAG_W,PHSPHT,PHSPHT_FLAG_W,CFC-11,CFC-11_FLAG_W,CFC-12,CFC-12_FLAG_W,CFC113,CFC113_FLAG_W,TCARBN,TCARBN_FLAG_W,ALKALI,ALKALI_FLAG_W,CCL4,CCL4_FLAG_W,MCHFRM,MCHFRM_FLAG_W,BTL_DATE,BTL_TIME,THETA
,,,,,,,,,,,METERS,DBAR,ITS-90,PSS-78,,PSS-78,,UMOL/KG,,UMOL/KG,,UMOL/KG,,UMOL/KG,,UMOL/KG,,PMOL/KG,,PMOL/KG,,PMOL/KG,,UMOL/KG,,UMOL/KG,,PMOL/KG,,PMOL/KG,,,,DEG C
18HU20010530,      AR07W,      96,          1,     237339,          1,2,20010607,       1013,    58.6400,   -50.4163,       3462,   100.6,   3.9077,  34.8009,2,-999.0000,9,    295.5,2,  -999.0,9,    7.55,6,   14.54,6,    1.04,6,-999.000,9,-999.000,9,-999.000,9,  -999.0,9,  -999.0,9,-999.000,9,-999.000,9, 20010607,     1013,   3.9008
18HU20010530,      AR07W,      96,          1,     237340,          2,2,20010607,       1013,    58.6400,   -50.4163,       3462,    79.5,   3.8258,  34.7790,2,-999.0000,9,    300.2,2,  -999.0,9,    7.21,6,   13.66,6,    0.99,6,-999.000,9,-999.000,9,-999.000,9,  -999.0,9,  -999.0,9,-999.000,9,-999.000,9, 20010607,     1014,   3.8204
18HU20010530,      AR07W,      96,          1,     237341,          3,2,20010607,       1013,    58.6400,   -50.4163,       3462,    60.0,   3.8628,  34.7708,2,-999.0000,9,    301.2,2,  -999.0,9,    7.00,6,   13.30,6,    0.98,6,-999.000,9,-999.000,9,-999.000,9,  -999.0,9,  -999.0,9,-999.000,9,-999.000,9, 20010607,     1015,   3.8587
18HU20010530,      AR07W,      96,          1,     237342,          4,2,20010607,       1013,    58.6400,   -50.4163,       3462,    49.4,   4.0019,  34.7639,2,-999.0000,9,    309.9,2,  -999.0,9,    6.61,6,   10.53,6,    0.84,6,-999.000,9,-999.000,9,-999.000,9,  -999.0,9,  -999.0,9,-999.000,9,-999.000,9, 20010607,     1016,   3.9985
18HU20010530,      AR07W,      96,          1,     237343,          5,2,20010607,       1013,    58.6400,   -50.4163,       3462,    39.5,   4.5366,  34.7615,2,-999.0000,9,    316.9,2,  -999.0,9,    6.47,6,    9.35,6,    0.79,6,-999.000,9,-999.000,9,-999.000,9,  -999.0,9,  -999.0,9,-999.000,9,-999.000,9, 20010607,     1017,   4.5337
18HU20010530,      AR07W,      96,          1,     237344,          6,2,20010607,       1013,    58.6400,   -50.4163,       3462,    39.1,   4.5330,  34.7661,2,-999.0000,9,    319.8,2,  -999.0,9,    5.08,6,    7.62,6,    0.56,6,-999.000,9,-999.000,9,-999.000,9,  -999.0,9,  -999.0,9,-999.000,9,-999.000,9, 20010607,     1017,   4.5301
18HU20010530,      AR07W,      96,          1,     237345,          7,2,20010607,       1013,    58.6400,   -50.4163,       3462,    29.8,   5.1703,  34.7433,2,-999.0000,9,    319.5,2,  -999.0,9,    5.98,6,    8.65,6,    0.70,6,-999.000,9,-999.000,9,-999.000,9,  -999.0,9,  -999.0,9,-999.000,9,-999.000,9, 20010607,     1018,   5.1680
18HU20010530,      AR07W,      96,          1,     237346,          8,2,20010607,       1013,    58.6400,   -50.4163,       3462,    19.3,   5.2101,  34.7482,2,-999.0000,9,    317.0,2,  -999.0,9,    6.03,6,    8.39,6,    0.70,6,-999.000,9,-999.000,9,-999.000,9,  -999.0,9,  -999.0,9,-999.000,9,-999.000,9, 20010607,     1019,   5.2086
18HU20010530,      AR07W,      96,          1,     237347,          9,2,20010607,       1013,    58.6400,   -50.4163,       3462,    19.4,   5.2130,  34.7478,2,-999.0000,9,    316.8,2,  -999.0,9,    4.84,6,    6.90,6,    0.48,6,-999.000,9,-999.000,9,-999.000,9,  -999.0,9,  -999.0,9,-999.000,9,-999.000,9, 20010607,     1019,   5.2115
18HU20010530,      AR07W,      96,          1,     237348,         10,2,20010607,       1013,    58.6400,   -50.4163,       3462,     9.3,   5.2183,  34.7473,2,-999.0000,9,    316.6,2,  -999.0,9,    5.95,6,    8.60,6,    0.69,6,-999.000,9,-999.000,9,-999.000,9,  -999.0,9,  -999.0,9,-999.000,9,-999.000,9, 20010607,     1020,   5.2176
18HU20010530,      AR07W,      96,          1,     237349,         11,2,20010607,       1013,    58.6400,   -50.4163,       3462,     9.1,   5.2184,  34.7474,2,-999.0000,9,    316.6,2,  -999.0,9,    4.17,6,    6.12,6,    0.39,6,-999.000,9,-999.000,9,-999.000,9,  -999.0,9,  -999.0,9,-999.000,9,-999.000,9, 20010607,     1020,   5.2177
18HU20010530,      AR07W,      96,          1,     237350,         12,2,20010607,       1013,    58.6400,   -50.4163,       3462,     9.3,   5.2187,  34.7472,2,-999.0000,9,    316.4,2,  -999.0,9, -999.00,9, -999.00,9, -999.00,9,-999.000,9,-999.000,9,-999.000,9,  -999.0,9,  -999.0,9,-999.000,9,-999.000,9, 20010607,     1021,   5.2180
18HU20010530,      AR07W,      96,          1,     237351,         13,2,20010607,       1013,    58.6400,   -50.4163,       3462,     9.1,   5.2166,  34.7477,2,-999.0000,9,    316.4,2,  -999.0,9, -999.00,9, -999.00,9, -999.00,9,-999.000,9,-999.000,9,-999.000,9,  -999.0,9,  -999.0,9,-999.000,9,-999.000,9, 20010607,     1021,   5.2159
18HU20010530,      AR07W,      96,          1,     237352,         14,2,20010607,       1013,    58.6400,   -50.4163,       3462,     9.1,   5.2187,  34.7473,2,-999.0000,9,    316.5,2,  -999.0,9, -999.00,9, -999.00,9, -999.00,9,-999.000,9,-999.000,9,-999.000,9,  -999.0,9,  -999.0,9,-999.000,9,-999.000,9, 20010607,     1021,   5.2180
18HU20010530,      AR07W,      96,          1,     237353,         15,2,20010607,       1013,    58.6400,   -50.4163,       3462,     3.5,   5.2189,  34.7472,2,-999.0000,9,    316.5,2,  -999.0,9,    6.08,6,    8.43,6,    0.71,6,-999.000,9,-999.000,9,-999.000,9,  -999.0,9,  -999.0,9,-999.000,9,-999.000,9, 20010607,     1022,   5.2186
18HU20010530,      AR07W,      98,          1,     237354,          1,2,20010607,       1221,    58.6400,   -50.4165,       3462,  3569.5,   1.4165,  34.8559,2,  34.8666,2,    299.1,2,   298.4,2,   10.64,6,   14.31,6,    1.00,6,   4.119,2,   2.097,2,   0.361,4,  2160.7,2,  2306.8,2,   5.137,2,   6.036,2, 20010607,     1221,   1.1442
18HU20010530,      AR07W,      98,          1,     237355,          2,2,20010607,       1221,    58.6400,   -50.4165,       3462,  3519.0,   1.4732,  34.8563,2,  34.8676,2,    298.9,2,   298.6,2,   10.43,6,   14.12,6,    0.99,6,   3.998,2,   2.250,2,   0.290,4,  2157.4,2,  2298.6,2,   5.070,2,   5.747,2, 20010607,     1224,   1.2047
18HU20010530,      AR07W,      98,          1,     237356,          3,2,20010607,       1221,    58.6400,   -50.4165,       3462,  3429.1,   1.7527,  34.8592,2,  34.8708,2,    295.7,2,   295.4,2,    9.87,6,   14.53,6,    1.00,6,   3.702,2,   2.443,4,   0.291,4,  2154.6,2,  2305.7,2,   4.878,2,   5.593,2, 20010607,     1226,   1.4864
18HU20010530,      AR07W,      98,          1,     237357,          4,2,20010607,       1221,    58.6400,   -50.4165,       3462,  3320.1,   2.0652,  34.8678,2,  34.8790,2,    289.9,2,   289.8,2,   11.21,6,   15.01,6,    1.02,6,   3.192,2,   1.728,2,   0.346,4,  2156.7,2,  2306.7,2,   4.288,2,   5.451,2, 20010607,     1229,   1.8026
18HU20010530,      AR07W,      98,          1,     237358,          5,2,20010607,       1221,    58.6400,   -50.4165,       3462,  3200.2,   2.3591,  34.8810,2,  34.8922,2,    283.3,2,   283.3,2,   12.77,6,   15.70,6,    1.08,6,   2.712,2,   1.785,4,   0.190,4,  -999.0,9,  2312.9,2,   3.500,2,   4.615,2, 20010607,     1233,   2.1019
18HU20010530,      AR07W,      98,          1,     237359,          6,2,20010607,       1221,    58.6400,   -50.4165,       3462,  3058.7,   2.5561,  34.8873,2,  34.8994,6,    280.4,2,   281.2,2,   12.58,6,   15.94,6,    1.08,6,   2.482,2,   1.358,2,   0.189,4,  -999.0,9,  2310.6,2,   3.309,2,   4.344,2, 20010607,     1236,   2.3091
18HU20010530,      AR07W,      98,          1,     237360,          7,2,20010607,       1221,    58.6400,   -50.4165,       3462,  2898.9,   2.7419,  34.8899,2,  34.9015,2,    278.6,2,   280.0,2,   12.19,6,   16.00,6,    1.09,6,   2.527,2,   1.332,2,   0.236,4,  -999.0,9,  2328.1,3,   3.361,2,   4.657,2, 20010607,     1243,   2.5072
18HU20010530,      AR07W,      98,          1,     237361,          8,2,20010607,       1221,    58.6400,   -50.4165,       3462,  2709.7,   2.8971,  34.8858,2,  34.8974,2,    278.5,2,   281.1,2,   11.41,6,   16.25,6,    1.11,6,   2.693,2,   1.484,2,   0.213,4,  2156.8,2,  2309.3,2,   3.510,2,   4.935,2, 20010607,     1248,   2.6784
18HU20010530,      AR07W,      98,          1,     237362,          9,2,20010607,       1221,    58.6400,   -50.4165,       3462,  2500.3,   3.0142,  34.8787,2,  34.8911,2,    278.9,2,   283.5,2,   11.04,6,   16.17,6,    1.10,6,   3.071,2,   1.557,2,   0.225,4,  2157.2,2,  2305.8,2,   3.849,2,   5.549,2, 20010607,     1252,   2.8141
18HU20010530,      AR07W,      98,          1,     237363,         10,2,20010607,       1221,    58.6400,   -50.4165,       3462,  2269.2,   3.0728,  34.8643,2,  34.8762,6,    281.1,2,   286.0,2,   11.73,6,   16.73,6,    1.13,6,   3.321,2,   2.060,2,   0.320,4,  2157.1,2,  2307.4,3,   4.359,2,   6.664,2, 20010607,     1256,   2.8942
18HU20010530,      AR07W,      98,          1,     237364,         11,2,20010607,       1221,    58.6400,   -50.4165,       3462,  2018.9,   3.1356,  34.8583,2,  34.8689,2,    281.3,2,   286.1,2,   10.34,6,   16.58,6,    1.11,6,   3.684,2,   2.140,2,   0.316,4,  2157.2,2,  2309.2,2,   4.583,2,   7.253,2, 20010607,     1300,   2.9795
18HU20010530,      AR07W,      98,          1,     237365,         12,2,20010607,       1221,    58.6400,   -50.4165,       3462,  1769.8,   3.2401,  34.8605,2,  34.8723,2,    278.1,2,   284.4,2,   10.46,6,   16.99,6,    1.14,6,   3.671,2,   1.909,2,   0.295,4,  2158.5,2,  2303.4,2,   4.517,2,   6.944,2, 20010607,     1304,   3.1051
18HU20010530,      AR07W,      98,          1,     237366,         13,2,20010607,       1221,    58.6400,   -50.4165,       3462,  1529.7,   3.4171,  34.8670,2,-999.0000,9,    274.7,2,  -999.0,9, -999.00,9, -999.00,9, -999.00,9,-999.000,9,-999.000,9,-999.000,9,  -999.0,9,  -999.0,9,-999.000,9,-999.000,9, 20010607,     1308,   3.3012
18HU20010530,      AR07W,      98,          1,     237367,         14,2,20010607,       1221,    58.6400,   -50.4165,       3462,  1289.5,   3.3192,  34.8338,2,  34.8447,2,    282.0,2,   289.4,2,    9.28,6,   16.23,6,    1.08,6,   4.553,2,   2.427,2,   0.371,4,  2155.2,2,  2307.0,2,   5.563,2,   6.075,2, 20010607,     1312,   3.2248
18HU20010530,      AR07W,      98,          1,     237368,         15,2,20010607,       1221,    58.6400,   -50.4165,       3462,  1068.8,   3.2286,  34.8127,2,-999.0000,9,    286.7,2,   295.0,2,    8.68,6,   15.93,6,    1.09,6,   4.695,2,   2.614,2,   0.532,4,  2151.8,2,  2304.8,2,   6.079,2,   5.838,2, 20010607,     1316,   3.1530
18HU20010530,      AR07W,      98,          1,     237369,         16,2,20010607,       1221,    58.6400,   -50.4165,       3462,   869.3,   3.2919,  34.8169,2,-999.0000,9,    286.6,2,   295.4,2,    8.84,6,   15.85,6,    1.08,6,   4.350,2,   2.632,2,   1.735,4,  2151.9,2,  2304.4,2,   5.779,2,   5.776,2, 20010607,     1320,   3.2313
18HU20010530,      AR07W,      98,          1,     237370,         17,2,20010607,       1221,    58.6400,   -50.4165,       3462,   679.8,   3.4113,  34.8271,2,  34.8390,2,    286.9,2,   295.4,2,    8.36,6,   15.84,6,    1.09,6,   4.749,6,   2.603,6,   0.445,4,  2155.7,2,  2311.7,2,   6.087,6,  10.257,6, 20010607,     1323,   3.3643
18HU20010530,      AR07W,      98,          1,     237371,         18,2,20010607,       1221,    58.6400,   -50.4165,       3462,   509.0,   3.4547,  34.8263,2,  34.8394,2,    290.0,2,   299.0,2,    8.34,6,   15.66,6,    1.06,6,   4.862,2,   2.752,2,   0.652,4,  2154.2,2,  2302.2,2,   6.531,2,   5.003,2, 20010607,     1326,   3.4200
18HU20010530,      AR07W,      98,          1,     237372,         19,2,20010607,       1221,    58.6400,   -50.4165,       3462,   359.8,   3.5667,  34.8290,2,  34.8402,2,    290.3,2,   299.4,2,    8.08,6,   15.51,6,    1.05,6,   5.035,2,   2.752,2,   0.380,4,  2152.6,2,  2306.7,2,   6.606,2,   4.529,2, 20010607,     1328,   3.5423
18HU20010530,      AR07W,      98,          1,     237373,         20,2,20010607,       1221,    58.6400,   -50.4165,       3462,   239.9,   3.8390,  34.8422,2,  34.8505,2,    288.8,2,   296.9,2,    7.97,6,   15.38,6,    1.05,6,   4.803,2,   2.848,2,   0.234,4,  2152.1,2,  2294.2,2,   5.156,6,  11.918,6, 20010607,     1330,   3.8224
18HU20010530,      AR07W,      98,          1,     237374,         21,2,20010607,       1221,    58.6400,   -50.4165,       3462,   139.6,   3.9294,  34.8264,2,  34.8371,2,    290.1,2,   298.7,2,    7.62,6,   15.20,6,    1.04,6,   4.842,2,   2.823,2,   0.778,4,  2149.0,2,  2306.8,2,   6.705,2,   4.460,2, 20010607,     1332,   3.9198
18HU20010530,      AR07W,      98,          1,     237375,         22,2,20010607,       1221,    58.6400,   -50.4165,       3462,    68.3,   3.8125,  34.7648,2,  34.7756,2,    299.0,2,   310.5,2,    6.86,6,   13.00,6,    0.95,6,   5.092,2,   3.086,2,   0.936,4,  2143.1,2,  2314.4,2,   7.223,2,   4.093,2, 20010607,     1334,   3.8079
18HU20010530,      AR07W,      98,          1,     237376,         23,2,20010607,       1221,    58.6400,   -50.4165,       3462,    33.9,   4.6984,  34.7647,2,  34.7762,2,    316.8,2,   327.8,2,    6.33,6,    9.13,6,    0.75,6,   5.376,2,   3.090,2,   0.373,4,  2116.0,2,  2309.5,2,   7.702,2,   3.805,2, 20010607,     1335,   4.6959
18HU20010530,      AR07W,      98,          1,     237377,         24,2,20010607,       1221,    58.6400,   -50.4165,       3462,     3.2,   5.2120,  34.7524,2,  34.7628,2,    314.9,2,   323.4,2,    6.15,6,    8.38,6,    0.68,6,   5.183,2,   3.075,2,   0.767,4,  2110.9,2,  2305.9,2,   7.748,2,   4.174,2, 20010607,     1337,   5.2118