BOTTLE,20140827CCHSIOCBG
EXPOCODE,SECT_ID,STNNBR,CASTNO,SAMPNO,BTLNBR,BTLNBR_FLAG_W,DATE,TIME,LATITUDE,LONGITUDE,DEPTH,CTDPRS,CTDTMP,CTDSAL,CTDSAL_FLAG_W,SALNTY,SALNTY_FLAG_W,CTDOXY,CTDOXY_FLAG_W,OXYGEN,OXYGEN_FLAG_W,SILCAT,SILCAT_FLAG_W,NITRAT,NITRAT_FLAG_W,PHSPHT,PHSPHT_FLAG_W,CFC-11,CFC-11_FLAG_W,CFC-12,CFC-12_FLAG_W,CFC113,CFC113_FLAG_W,TCARBN,TCARBN_FLAG_W,ALKALI,ALKALI_FLAG_W,CCL4,CCL4_FLAG_W,MCHFRM,MCHFRM_FLAG_W,BTL_DATE,BTL_TIME,THETA
,,,,,,,,,,,METERS,DBAR,ITS-90,PSS-78,,PSS-78,,UMOL/KG,,UMOL/KG,,UMOL/KG,,UMOL/KG,,UMOL/KG,,PMOL/KG,,PMOL/KG,,PMOL/KG,,UMOL/KG,,UMOL/KG,,PMOL/KG,,PMOL/KG,,,,DEG C
18HU20010530,      AR07W,     102,          1,     237378,          1,2,20010607,       2025,    59.4853,   -49.4680,       3337,  3436.9,   1.4657,  34.8580,2,  34.8688,2,    298.5,2,   299.2,2,    9.69,6,   14.14,6,    1.04,6,   3.979,6,   2.152,6,   0.263,4,  2153.2,2,  2295.7,2,   4.863,6,  13.621,6, 20010607,     2025,   1.2057
18HU20010530,      AR07W,     102,          1,     237379,          2,2,20010607,       2025,    59.4853,   -49.4680,       3337,  3380.0,   1.4800,  34.8579,2,  34.8690,2,    297.8,2,   297.7,2,    9.66,6,   14.31,6,    1.16,3,   4.136,2,   2.031,2,   0.142,4,  2155.3,2,  2316.2,2,   4.913,2,  17.947,2, 20010607,     2027,   1.2254
18HU20010530,      AR07W,     102,          1,     237380,          3,2,20010607,       2025,    59.4853,   -49.4680,       3337,  3300.2,   1.6734,  34.8597,2,  34.8712,2,    296.0,2,   296.2,2,    9.35,6,   14.13,6,    1.01,6,   3.833,2,   1.925,2,   0.234,4,  2150.2,2,  2308.3,2,   4.631,2,  16.751,2, 20010607,     2029,   1.4222
18HU20010530,      AR07W,     102,          1,     237381,          4,2,20010607,       2025,    59.4853,   -49.4680,       3337,  3199.7,   1.9532,  34.8652,2,  34.8769,2,    291.2,2,   291.1,2,   10.73,6,   14.77,6,    1.05,6,   3.597,2,   1.683,2,   0.179,4,  2153.2,2,  2305.4,2,   4.352,2,  16.669,2, 20010607,     2031,   1.7055
18HU20010530,      AR07W,     102,          1,     237382,          5,2,20010607,       2025,    59.4853,   -49.4680,       3337,  3081.0,   2.2318,  34.8754,2,  34.8870,2,    285.9,2,   286.5,2,   11.99,6,   15.20,6,    1.07,6,   2.976,2,   1.430,2,   0.040,4,  2152.5,2,  2301.3,2,   3.762,2,  15.145,2, 20010607,     2034,   1.9897
18HU20010530,      AR07W,     102,          1,     237383,          6,2,20010607,       2025,    59.4853,   -49.4680,       3337,  2950.6,   2.4387,  34.8871,2,  34.8986,6,    280.2,2,   281.0,2,   13.20,6,   16.02,6,    1.11,6,   2.223,2,   1.393,4,   0.200,4,  2153.7,2,  2304.9,2,   3.039,2,  14.095,2, 20010607,     2036,   2.2053
18HU20010530,      AR07W,     102,          1,     237384,          7,2,20010607,       2025,    59.4853,   -49.4680,       3337,  2790.5,   2.6555,  34.8928,2,  34.9051,2,    278.0,2,   279.3,2,   12.77,6,   15.96,6,    1.11,6,-999.000,9,-999.000,9,-999.000,9,  2155.6,2,  2299.7,2,-999.000,9,-999.000,9, 20010607,     2039,   2.4335
18HU20010530,      AR07W,     102,          1,     237385,          8,2,20010607,       2025,    59.4853,   -49.4680,       3337,  2609.9,   2.8128,  34.8903,2,  34.9018,2,    277.6,2,   279.9,2,   11.88,6,   16.12,6,    1.11,6,   2.481,2,   1.320,2,   0.008,4,  2154.6,2,  2312.2,2,   3.172,2,  14.277,2, 20010607,     2042,   2.6057
18HU20010530,      AR07W,     102,          1,     237386,          9,2,20010607,       2025,    59.4853,   -49.4680,       3337,  2410.9,   2.9452,  34.8827,2,  34.8942,6,    278.3,2,   281.0,2,   11.15,6,   16.02,6,    1.14,6,   2.597,2,   1.707,4,   0.190,4,  2154.4,2,  2301.3,2,   3.426,2,  16.626,2, 20010607,     2046,   2.7551
18HU20010530,      AR07W,     102,          1,     237387,         10,2,20010607,       2025,    59.4853,   -49.4680,       3337,  2187.8,   3.0528,  34.8726,2,  34.8835,2,    279.7,2,   283.6,2,   10.68,6,   16.09,6,    1.13,6,   3.228,2,   1.607,2,   0.119,4,  2153.2,2,  2302.4,2,   3.971,2,  18.668,2, 20010607,     2050,   2.8822
18HU20010530,      AR07W,     102,          1,     237388,         11,2,20010607,       2025,    59.4853,   -49.4680,       3337,  1959.7,   3.1118,  34.8634,2,  34.8741,2,    281.0,2,   285.4,2,   10.22,6,   16.36,6,    1.12,6,   3.501,2,   1.805,2,   0.178,4,  2153.2,2,  2304.3,2,   4.331,2,  20.801,2, 20010607,     2055,   2.9615
18HU20010530,      AR07W,     102,          1,     237389,         12,2,20010607,       2025,    59.4853,   -49.4680,       3337,  1729.0,   3.2405,  34.8667,2,  34.8780,2,    278.2,2,   283.4,2,   10.24,6,   16.48,6,    1.27,3,   3.635,2,   1.798,2,   0.241,4,  2154.3,2,  2306.2,2,   4.184,2,  19.523,2, 20010607,     2059,   3.1091
18HU20010530,      AR07W,     102,          1,     237390,         13,2,20010607,       2025,    59.4853,   -49.4680,       3337,  1499.6,   3.4217,  34.8756,2,  34.8859,2,    274.3,2,   279.7,6,   10.16,6,   16.67,6,    1.13,6,   3.533,2,   1.701,2,   0.087,4,  2156.6,2,  2305.8,2,   4.215,2,  19.834,2, 20010607,     2102,   3.3083
18HU20010530,      AR07W,     102,          1,     237391,         14,2,20010607,       2025,    59.4853,   -49.4680,       3337,  1240.3,   3.2834,  34.8284,2,  34.8391,2,    284.1,2,   291.1,2,    9.14,6,   15.93,6,    1.12,6,   4.412,2,   2.341,2,   0.248,4,  2151.5,2,  2293.8,2,   5.400,2,  18.468,2, 20010607,     2107,   3.1934
18HU20010530,      AR07W,     102,          1,     237392,         15,2,20010607,       2025,    59.4853,   -49.4680,       3337,  1009.6,   3.1892,  34.8081,2,  34.8185,2,    289.6,2,   297.2,2,    8.47,6,   15.77,6,    1.08,6,   4.870,2,   2.563,2,   0.353,4,  2149.7,2,  2298.6,2,   5.922,2,  16.299,2, 20010607,     2110,   3.1185
18HU20010530,      AR07W,     102,          1,     237393,         16,2,20010607,       2025,    59.4853,   -49.4680,       3337,   868.7,   3.3104,  34.8215,2,  34.8319,2,    287.4,2,   295.1,2,    8.70,6,   15.57,6,    1.10,6,   4.541,2,   2.891,4,   0.253,4,  2151.0,2,  2298.3,2,   5.783,2,  16.733,2, 20010607,     2113,   3.2497
18HU20010530,      AR07W,     102,          1,     237394,         17,2,20010607,       2025,    59.4853,   -49.4680,       3337,   679.4,   3.5099,  34.8386,2,  34.8561,2,    286.5,2,   294.2,2,    8.61,6,   15.62,6,    1.10,6,   4.564,2,   2.545,2,   0.218,4,  2151.4,2,  2302.4,2,   5.817,2,  16.046,2, 20010607,     2117,   3.4623
18HU20010530,      AR07W,     102,          1,     237395,         18,2,20010607,       2025,    59.4853,   -49.4680,       3337,   525.8,   3.6531,  34.8458,2,  34.8567,2,    287.3,2,   295.3,2,    8.22,6,   15.57,6,    1.09,6,   4.815,2,   2.658,2,   0.361,4,  2147.0,2,  2304.1,2,   5.894,2,  14.460,2, 20010607,     2120,   3.6163
18HU20010530,      AR07W,     102,          1,     237396,         19,2,20010607,       2025,    59.4853,   -49.4680,       3337,   399.2,   3.9012,  34.8671,2,  34.8773,2,    286.3,2,   294.0,2,    8.22,6,   15.67,6,    1.06,6,   4.428,2,   2.582,2,   0.349,4,  2149.6,2,  2295.9,2,   5.784,2,  15.186,2, 20010607,     2122,   3.8729
18HU20010530,      AR07W,     102,          1,     237397,         20,2,20010607,       2025,    59.4853,   -49.4680,       3337,   290.5,   4.1255,  34.8821,2,  34.8911,2,    289.1,2,   296.8,2,    8.13,6,   15.66,6,    1.06,6,   4.627,2,   2.729,2,   0.222,4,  2148.8,2,  2299.4,2,   6.108,2,  13.599,2, 20010607,     2125,   4.1046
18HU20010530,      AR07W,     102,          1,     237398,         21,2,20010607,       2025,    59.4853,   -49.4680,       3337,   165.6,   4.3406,  34.8862,2,  34.8957,2,    286.6,2,   294.3,2,    7.67,6,   15.40,6,    1.05,6,   4.814,2,   2.622,2,   0.352,4,  2147.1,2,  2299.3,3,   5.790,2,  13.100,2, 20010607,     2129,   4.3286
18HU20010530,      AR07W,     102,          1,     237399,         22,2,20010607,       2025,    59.4853,   -49.4680,       3337,    69.9,   3.8146,  34.7518,2,  34.7608,2,    296.3,2,   305.0,2,    6.47,6,   12.53,6,    0.95,6,   4.746,2,   2.835,2,   0.366,4,  2137.0,2,  2290.2,2,   6.480,2,  12.369,2, 20010607,     2131,   3.8099
18HU20010530,      AR07W,     102,          1,     237400,         23,2,20010607,       2025,    59.4853,   -49.4680,       3337,    33.9,   3.8299,  34.5845,2,  34.5981,2,    319.4,2,   328.9,2,    3.72,6,    6.87,6,    0.64,6,   5.428,2,   2.907,2,   0.325,4,  2100.2,2,  2305.7,2,   6.977,2,  12.356,2, 20010607,     2133,   3.8276
18HU20010530,      AR07W,     102,          1,     237401,         24,2,20010607,       2025,    59.4853,   -49.4680,       3337,     3.1,   4.7572,  34.2169,2,  34.2275,2,    323.5,2,   331.9,2,    3.51,6,    0.53,6,    0.19,6,   5.529,2,   2.662,2,   0.334,4,  2029.4,2,  2281.5,2,   8.134,2,  12.612,2, 20010607,     2137,   4.7570
18HU20010530,      AR07W,     105,          1,     237402,          1,2,20010608,       0152,    59.9883,   -48.9035,       2959,  3071.4,   1.4682,  34.8604,2,  34.8723,2,    298.2,2,   299.8,2,    8.84,6,   13.59,6,    0.99,6,   4.000,2,   2.300,2,-999.000,9,  2154.6,2,  2298.1,2,   5.097,2,  20.756,2, 20010608,      152,   1.2443
18HU20010530,      AR07W,     105,          1,     237403,          2,2,20010608,       0152,    59.9883,   -48.9035,       2959,  3000.6,   1.4643,  34.8604,2,  34.8727,2,    297.3,2,   298.4,2,    8.84,6,   13.80,6,    0.90,6,   4.205,2,   2.291,2,-999.000,9,  2155.4,2,  2296.6,2,   5.140,2,  20.865,2, 20010608,      154,   1.2472
18HU20010530,      AR07W,     105,          1,     237404,          3,2,20010608,       0152,    59.9883,   -48.9035,       2959,  2909.6,   1.6348,  34.8603,2,  34.8730,2,    295.2,2,   296.3,2,    9.18,6,   13.87,6,    0.91,6,   3.928,2,   2.144,2,-999.000,9,  2155.1,2,  2304.6,2,   5.051,2,  21.106,2, 20010608,      156,   1.4227
18HU20010530,      AR07W,     105,          1,     237405,          4,2,20010608,       0152,    59.9883,   -48.9035,       2959,  2798.1,   2.0207,  34.8688,2,  34.8817,2,    288.2,2,   288.5,2,   11.27,6,   14.95,6,    0.96,6,   3.285,2,   1.863,2,-999.000,9,  2156.5,2,  2306.7,2,   4.289,2,  19.576,2, 20010608,      158,   1.8111
18HU20010530,      AR07W,     105,          1,     237406,          5,2,20010608,       0152,    59.9883,   -48.9035,       2959,  2671.4,   2.3703,  34.8831,2,  34.8960,2,    281.3,2,   282.3,2,   12.52,6,   15.41,6,    0.99,6,   2.782,2,   1.643,2,-999.000,9,  2158.0,2,  2295.4,2,   3.524,2,  17.105,2, 20010608,      201,   2.1658
18HU20010530,      AR07W,     105,          1,     237407,          6,2,20010608,       0152,    59.9883,   -48.9035,       2959,  2519.4,   2.5975,  34.8893,2,  34.9017,6,    279.0,2,   280.7,2,   12.35,6,   15.84,6,    1.01,6,   2.672,2,   1.340,2,-999.000,9,  2157.0,2,  2309.7,2,   3.402,2,  17.509,2, 20010608,      204,   2.4033
18HU20010530,      AR07W,     105,          1,     237408,          7,2,20010608,       0152,    59.9883,   -48.9035,       2959,  2349.7,   2.7350,  34.8895,2,  34.9018,6,    278.0,2,   279.5,2,   11.94,6,   15.82,6,    1.00,6,   2.674,2,   1.407,2,-999.000,9,  2156.9,2,  2292.6,2,   3.462,2,  17.448,2, 20010608,      207,   2.5544
18HU20010530,      AR07W,     105,          1,     237409,          8,2,20010608,       0152,    59.9883,   -48.9035,       2959,  2158.0,   2.8900,  34.8853,2,  34.8970,2,    278.0,2,   280.8,2,   11.31,6,   16.11,6,    0.99,6,   2.898,2,   1.561,2,-999.000,9,  2155.3,2,  2306.3,2,   3.769,2,  19.635,2, 20010608,      210,   2.7247
18HU20010530,      AR07W,     105,          1,     237410,          9,2,20010608,       0152,    59.9883,   -48.9035,       2959,  1939.8,   3.0008,  34.8756,2,  34.8873,2,    279.1,2,  -999.0,9,   10.76,6,   16.30,6,    1.10,6,   2.994,2,   1.716,2,   1.473,4,  2155.3,2,  2288.3,2,   3.853,2,  22.561,2, 20010608,      213,   2.8538
18HU20010530,      AR07W,     105,          1,     237411,         10,2,20010608,       0152,    59.9883,   -48.9035,       2959,  1709.4,   3.0293,  34.8556,2,  34.8670,2,    283.0,2,   309.0,4,   10.34,6,   16.63,6,    1.03,6,   3.725,2,   2.094,2,-999.000,9,  2154.8,2,  2305.6,2,   4.612,2,  26.132,2, 20010608,      217,   2.9025
18HU20010530,      AR07W,     105,          1,     237412,         11,2,20010608,       0152,    59.9883,   -48.9035,       2959,  1529.9,   3.1790,  34.8640,2,-999.0000,9,    279.5,2,  -999.0,9, -999.00,9, -999.00,9, -999.00,9,-999.000,9,-999.000,9,-999.000,9,  -999.0,9,  -999.0,9,-999.000,9,-999.000,9, 20010608,      220,   3.0658
18HU20010530,      AR07W,     105,          1,     237413,         12,2,20010608,       0152,    59.9883,   -48.9035,       2959,  1358.6,   3.3658,  34.8765,2,  34.8879,2,    275.1,2,   278.8,2,   10.33,6,   16.58,6,    1.04,6,   3.691,2,   1.881,2,-999.000,9,  2157.3,2,  2306.0,2,   4.480,2,  24.176,2, 20010608,      223,   3.2651
18HU20010530,      AR07W,     105,          1,     237414,         13,2,20010608,       0152,    59.9883,   -48.9035,       2959,  1199.8,   3.5002,  34.8787,2,  34.8902,2,    273.9,2,   277.0,2,   10.03,6,   16.57,6,    1.04,6,   3.388,2,   2.044,2,   1.992,4,  2156.8,2,  2299.6,2,   4.357,2,  24.024,2, 20010608,      226,   3.4114
18HU20010530,      AR07W,     105,          1,     237415,         14,2,20010608,       0152,    59.9883,   -48.9035,       2959,   969.5,   3.2688,  34.8220,2,  34.8330,2,    286.6,2,   290.8,2,    8.77,6,   15.71,6,    1.00,6,   4.709,2,   2.674,2,-999.000,9,  2154.3,2,  2299.7,2,   5.824,2,  20.363,2, 20010608,      229,   3.2006
18HU20010530,      AR07W,     105,          1,     237416,         15,2,20010608,       0152,    59.9883,   -48.9035,       2959,   798.7,   3.3907,  34.8330,2,  34.8441,2,    284.7,2,   289.0,2,    8.83,6,   15.89,6,    1.01,6,   4.608,2,   2.580,2,-999.000,9,  2154.9,2,  2295.8,2,   5.863,2,  21.088,2, 20010608,      233,   3.3348
18HU20010530,      AR07W,     105,          1,     237417,         16,2,20010608,       0152,    59.9883,   -48.9035,       2959,   620.8,   3.6646,  34.8600,2,  34.8713,2,    288.3,2,   293.2,2,    8.51,6,   15.66,6,    1.01,6,   4.650,6,   2.562,6,   0.196,4,  2151.6,2,  -999.0,9,   6.077,6,  17.376,6, 20010608,      237,   3.6207
18HU20010530,      AR07W,     105,          1,     237418,         17,2,20010608,       0152,    59.9883,   -48.9035,       2959,   499.6,   3.6446,  34.8471,2,  34.8589,2,    289.4,2,   294.2,2,    8.45,6,   15.58,6,    0.98,6,   4.995,2,   2.814,2,-999.000,9,  2151.3,2,  2312.9,2,   6.457,2,  17.623,2, 20010608,      239,   3.6098
18HU20010530,      AR07W,     105,          1,     237419,         18,2,20010608,       0152,    59.9883,   -48.9035,       2959,   378.6,   3.8798,  34.8701,2,  34.8809,2,    286.9,2,   292.5,2,    8.33,6,   15.54,6,    1.10,6,   4.755,2,   2.728,2,-999.000,9,  2151.4,2,  2300.3,2,   6.062,2,  16.585,2, 20010608,      241,   3.8531
18HU20010530,      AR07W,     105,          1,     237420,         19,2,20010608,       0152,    59.9883,   -48.9035,       2959,   261.3,   3.9539,  34.8652,2,  34.8783,2,    288.0,2,   293.5,2,    8.21,6,   15.68,6,    0.99,6,   4.843,2,   2.798,2,-999.000,9,  2150.2,2,  2311.7,2,   6.410,2,  16.268,2, 20010608,      243,   3.9355
18HU20010530,      AR07W,     105,          1,     237421,         20,2,20010608,       0152,    59.9883,   -48.9035,       2959,   140.5,   4.2492,  34.8835,2,  34.8924,2,    287.9,2,   293.4,2,    7.85,6,   15.41,6,    0.98,6,   5.493,2,   3.331,2,-999.000,9,  2150.4,2,  2304.8,2,   8.069,2,  14.814,2, 20010608,      247,   4.2391
18HU20010530,      AR07W,     105,          1,     237422,         21,2,20010608,       0152,    59.9883,   -48.9035,       2959,    80.6,   4.1129,  34.8407,2,  34.8464,2,    288.0,2,   294.0,2,    7.47,6,   15.15,6,    0.95,6,   4.936,2,   2.969,2,-999.000,9,  2149.5,2,  2296.7,2,   6.683,2,  16.224,2, 20010608,      248,   4.1072
18HU20010530,      AR07W,     105,          1,     237423,         22,2,20010608,       0152,    59.9883,   -48.9035,       2959,    40.6,   4.3866,  34.6529,2,  34.6628,2,    317.1,2,   325.3,2,    4.48,6,    5.53,6,    0.46,6,   5.592,2,   3.265,2,-999.000,9,  2088.3,2,  2315.5,2,   7.778,2,  15.033,2, 20010608,      250,   4.3837
18HU20010530,      AR07W,     105,          1,     237424,         23,2,20010608,       0152,    59.9883,   -48.9035,       2959,    19.9,   4.8327,  34.5943,2,  34.6064,2,    333.0,2,   339.0,2,    3.34,6,    1.71,6,    0.25,6,-999.000,9,-999.000,9,-999.000,9,  2053.3,2,  2302.6,2,-999.000,9,-999.000,9, 20010608,      252,   4.8312
18HU20010530,      AR07W,     105,          1,     237425,         24,2,20010608,       0152,    59.9883,   -48.9035,       2959,     3.1,   4.8953,  34.5942,2,  34.6064,2,    333.5,2,   341.0,2,    3.36,6,    1.51,6,    0.26,6,   5.459,2,   3.322,2,-999.000,9,  2051.8,2,  2306.4,2,   8.112,2,  14.386,2, 20010608,      253,   4.8951