BOTTLE,20140827CCHSIOCBG
EXPOCODE,SECT_ID,STNNBR,CASTNO,SAMPNO,BTLNBR,BTLNBR_FLAG_W,DATE,TIME,LATITUDE,LONGITUDE,DEPTH,CTDPRS,CTDTMP,CTDSAL,CTDSAL_FLAG_W,SALNTY,SALNTY_FLAG_W,CTDOXY,CTDOXY_FLAG_W,OXYGEN,OXYGEN_FLAG_W,SILCAT,SILCAT_FLAG_W,NITRAT,NITRAT_FLAG_W,PHSPHT,PHSPHT_FLAG_W,CFC-11,CFC-11_FLAG_W,CFC-12,CFC-12_FLAG_W,CFC113,CFC113_FLAG_W,TCARBN,TCARBN_FLAG_W,ALKALI,ALKALI_FLAG_W,CCL4,CCL4_FLAG_W,MCHFRM,MCHFRM_FLAG_W,BTL_DATE,BTL_TIME,THETA
,,,,,,,,,,,METERS,DBAR,ITS-90,PSS-78,,PSS-78,,UMOL/KG,,UMOL/KG,,UMOL/KG,,UMOL/KG,,UMOL/KG,,PMOL/KG,,PMOL/KG,,PMOL/KG,,UMOL/KG,,UMOL/KG,,PMOL/KG,,PMOL/KG,,,,DEG C
18HU20010530,      AR07W,     162,          1,     237560,          1,2,20010609,       1258,    59.0675,   -49.9485,       3399,  3513.9,   1.4107,  34.8571,2,  34.8689,2,    299.1,2,   297.4,2,    9.82,6,   13.10,6,    0.93,6,   3.895,2,   1.932,2,   0.510,4,  2156.1,2,  2297.6,2,   4.715,2,  31.558,2, 20010609,     1258,   1.1443
18HU20010530,      AR07W,     162,          1,     237561,          2,2,20010609,       1258,    59.0675,   -49.9485,       3399,  3449.6,   1.4920,  34.8570,2,  34.8691,2,    298.5,2,   297.6,2,    9.61,6,   12.87,6,    0.91,6,   4.005,2,   1.683,2,-999.000,9,  2153.1,2,  2296.0,2,   4.652,2,  28.906,2, 20010609,     1300,   1.2301
18HU20010530,      AR07W,     162,          1,     237562,          3,2,20010609,       1258,    59.0675,   -49.9485,       3399,  3369.2,   1.7229,  34.8588,2,  34.8713,2,    295.6,2,   295.4,2,    9.74,6,   13.22,6,    0.94,6,   3.746,2,   1.638,2,-999.000,9,  2150.6,2,  2294.4,3,   4.646,2,  28.693,2, 20010609,     1303,   1.4635
18HU20010530,      AR07W,     162,          1,     237563,          4,2,20010609,       1258,    59.0675,   -49.9485,       3399,  3268.7,   2.0050,  34.8661,2,  34.8781,2,    290.6,2,   287.7,6,   10.83,6,   13.54,6,    0.95,6,   3.382,2,   1.417,2,-999.000,9,  -999.0,9,  2296.7,2,   4.195,2,  29.713,2, 20010609,     1306,   1.7491
18HU20010530,      AR07W,     162,          1,     237564,          5,2,20010609,       1258,    59.0675,   -49.9485,       3399,  3150.3,   2.2760,  34.8768,2,  34.8887,2,    284.9,2,  -999.0,9,   12.14,6,   14.23,6,    1.00,6,   2.701,2,   0.996,4,   2.638,4,  2153.4,2,  2297.9,2,   3.491,2,  27.275,2, 20010609,     1308,   2.0259
18HU20010530,      AR07W,     162,          1,     237565,          6,2,20010609,       1258,    59.0675,   -49.9485,       3399,  3021.3,   2.4682,  34.8850,2,  34.8979,6,    281.2,2,   281.2,2,   12.64,6,   14.29,6,    1.00,6,   2.680,2,   0.871,4,-999.000,9,  2153.5,2,  2297.3,2,   3.337,2,  23.305,2, 20010609,     1311,   2.2270
18HU20010530,      AR07W,     162,          1,     237566,          7,2,20010609,       1258,    59.0675,   -49.9485,       3399,  2860.1,   2.6742,  34.8905,2,  34.9025,2,    278.6,2,   279.6,2,   12.39,6,   14.57,6,    1.02,6,   2.542,2,   0.889,4,-999.000,9,  2154.4,2,  2303.8,2,   3.201,2,  24.685,2, 20010609,     1315,   2.4449
18HU20010530,      AR07W,     162,          1,     237567,          8,2,20010609,       1258,    59.0675,   -49.9485,       3399,  2658.6,   2.8358,  34.8860,2,  34.8980,2,    278.5,2,   280.3,2,   11.27,6,   14.69,6,    1.05,6,   2.661,2,   1.049,4,   1.086,4,  2155.4,2,  2297.3,2,   3.288,2,  26.385,2, 20010609,     1319,   2.6234
18HU20010530,      AR07W,     162,          1,     237568,          9,2,20010609,       1258,    59.0675,   -49.9485,       3399,  2439.6,   2.9816,  34.8802,2,  34.8926,2,    278.5,2,   281.2,2,   11.42,6,   14.74,6,    1.04,6,   2.967,2,   1.108,4,-999.000,9,  2153.6,2,  2296.4,2,   3.588,2,  27.690,2, 20010609,     1323,   2.7881
18HU20010530,      AR07W,     162,          1,     237569,         10,2,20010609,       1258,    59.0675,   -49.9485,       3399,  2209.9,   3.0695,  34.8698,2,  34.8820,6,    280.1,2,   283.5,2,   10.44,6,   14.94,6,    1.04,6,   3.313,2,   1.336,2,-999.000,9,  2150.3,2,  2310.0,2,   4.117,2,  33.772,2, 20010609,     1327,   2.8966
18HU20010530,      AR07W,     162,          1,     237570,         11,2,20010609,       1258,    59.0675,   -49.9485,       3399,  1969.7,   3.0905,  34.8560,2,  34.8686,2,    282.3,2,   286.5,2,   10.32,6,   15.04,6,    1.04,6,   3.178,2,   1.594,2,   0.287,4,  2150.9,2,  2313.6,2,   4.078,2,  20.524,2, 20010609,     1332,   2.9396
18HU20010530,      AR07W,     162,          1,     237571,         12,2,20010609,       1258,    59.0675,   -49.9485,       3399,  1729.1,   3.2237,  34.8637,2,  34.8765,2,    278.6,2,   283.1,2,   10.42,6,   15.38,6,    1.07,6,   3.623,2,   1.504,2,-999.000,9,  2151.7,2,  2310.7,2,   4.277,2,  35.050,2, 20010609,     1336,   3.0926
18HU20010530,      AR07W,     162,          1,     237572,         13,2,20010609,       1258,    59.0675,   -49.9485,       3399,  1500.5,   3.3541,  34.8650,2,  34.8779,2,    275.3,2,   280.4,6,   10.32,6,   15.22,6,    1.05,6,   3.523,2,   1.631,2,   1.827,4,  2153.7,2,  2298.3,2,   4.303,2,  38.143,2, 20010609,     1339,   3.2414
18HU20010530,      AR07W,     162,          1,     237573,         14,2,20010609,       1258,    59.0675,   -49.9485,       3399,  1278.8,   3.3937,  34.8534,2,  34.8641,2,    276.8,2,   283.2,2,    9.73,6,   15.17,6,    1.11,6,   3.943,6,   1.875,6,   0.142,4,  2153.4,2,  2302.6,2,   4.749,6,  29.755,6, 20010609,     1343,   3.2994
18HU20010530,      AR07W,     162,          1,     237574,         15,2,20010609,       1258,    59.0675,   -49.9485,       3399,  1069.5,   3.2118,  34.8160,2,  34.8267,2,    285.9,2,   293.3,2,    8.74,6,   14.22,6,    1.05,6,   4.694,2,   2.180,2,-999.000,9,  2150.8,2,  2295.4,2,   5.743,2,  31.186,2, 20010609,     1346,   3.1362
18HU20010530,      AR07W,     162,          1,     237575,         16,2,20010609,       1258,    59.0675,   -49.9485,       3399,   871.2,   3.1754,  34.8070,2,  34.8188,2,    287.8,2,   295.5,2,    8.60,6,   14.47,6,    1.04,6,   4.786,2,   2.271,2,-999.000,9,  2148.7,2,  2291.5,2,   5.769,2,  28.223,2, 20010609,     1349,   3.1155
18HU20010530,      AR07W,     162,          1,     237576,         17,2,20010609,       1258,    59.0675,   -49.9485,       3399,   679.6,   3.2632,  34.8155,2,  34.8267,2,    287.5,2,   295.8,2,    8.39,6,   14.20,6,    1.02,6,   4.812,2,   2.435,2,-999.000,9,  2150.7,2,  2294.4,2,   6.030,2,  29.449,2, 20010609,     1353,   3.2170
18HU20010530,      AR07W,     162,          1,     237577,         18,2,20010609,       1258,    59.0675,   -49.9485,       3399,   509.7,   3.3440,  34.8209,2,  34.8326,2,    287.8,2,   295.5,2,    8.51,6,   14.15,6,    1.02,6,   4.801,2,   2.273,2,-999.000,9,  2150.8,2,  2289.2,2,   5.999,2,  26.691,2, 20010609,     1355,   3.3097
18HU20010530,      AR07W,     162,          1,     237578,         19,2,20010609,       1258,    59.0675,   -49.9485,       3399,   360.8,   3.4239,  34.8241,2,  34.8347,2,    289.0,2,   297.5,2,    8.12,6,   14.20,6,    1.03,6,   4.836,2,   2.618,2,-999.000,9,  2149.6,2,  2293.8,2,   6.077,2,  24.833,2, 20010609,     1358,   3.3998
18HU20010530,      AR07W,     162,          1,     237579,         20,2,20010609,       1258,    59.0675,   -49.9485,       3399,   239.9,   3.4841,  34.8148,2,  34.8243,2,    292.2,2,   300.0,2,    8.30,6,   13.90,6,    0.99,6,   5.018,2,   2.535,2,-999.000,9,  2148.7,2,  2302.2,2,   6.572,2,  25.249,2, 20010609,     1400,   3.4682
18HU20010530,      AR07W,     162,          1,     237580,         21,2,20010609,       1258,    59.0675,   -49.9485,       3399,   140.2,   3.6706,  34.8152,2,  34.8251,2,    292.5,2,   301.2,2,    7.69,6,   14.00,6,    1.00,6,   4.993,2,   2.574,2,-999.000,9,  2144.7,2,  2302.6,2,   6.394,2,  22.296,2, 20010609,     1402,   3.6612
18HU20010530,      AR07W,     162,          1,     237581,         22,2,20010609,       1258,    59.0675,   -49.9485,       3399,    69.7,   3.6724,  34.7757,2,  34.7854,2,    300.7,2,   311.7,2,    7.14,6,   12.19,6,    0.94,6,   5.239,2,   2.914,2,-999.000,9,  -999.0,9,  2301.3,2,   6.989,2,  21.056,2, 20010609,     1404,   3.6678
18HU20010530,      AR07W,     162,          1,     237582,         23,2,20010609,       1258,    59.0675,   -49.9485,       3399,    33.7,   4.8923,  34.7504,2,  34.7645,2,    316.4,2,   325.1,2,    4.36,6,    7.77,6,    0.66,6,   5.268,2,   2.735,2,-999.000,9,  2108.1,2,  2297.2,2,   7.183,2,  19.486,2, 20010609,     1405,   4.8897
18HU20010530,      AR07W,     162,          1,     237583,         24,2,20010609,       1258,    59.0675,   -49.9485,       3399,     3.2,   5.3510,  34.7177,2,  34.7319,2,    318.2,2,   325.5,2,    4.65,6,    6.38,6,    0.56,6,   5.279,2,   2.744,2,-999.000,9,  2093.1,2,  2298.3,2,   8.017,2,  21.239,2, 20010609,     1408,   5.3507
18HU20010530,      AR07W,     164,          1,     237584,          1,2,20010609,       2016,    58.2122,   -50.8798,       3481,  3597.2,   1.4159,  34.8563,2,  34.8675,2,    299.4,2,   300.0,2,   10.32,6,   14.08,6,    0.92,6,   4.229,2,   2.233,2,   0.252,4,  2155.3,2,  2296.4,2,   5.283,2,  18.564,2, 20010609,     2016,   1.1408
18HU20010530,      AR07W,     164,          1,     237585,          2,2,20010609,       2016,    58.2122,   -50.8798,       3481,  3520.4,   1.5230,  34.8563,2,  34.8679,2,    298.6,2,   297.9,2,    9.81,6,   14.36,6,    0.92,6,   4.006,2,   2.086,2,   0.085,4,  2153.9,2,  2295.6,2,   5.102,2,  18.451,2, 20010609,     2018,   1.2531
18HU20010530,      AR07W,     164,          1,     237586,          3,2,20010609,       2016,    58.2122,   -50.8798,       3481,  3430.1,   1.7997,  34.8602,2,  34.8718,2,    295.0,2,   294.0,2,    9.96,6,   14.40,6,    0.91,6,   3.836,2,   2.060,2,   0.152,4,  2155.1,2,  2296.5,2,   4.831,2,  17.436,2, 20010609,     2020,   1.5322
18HU20010530,      AR07W,     164,          1,     237587,          4,2,20010609,       2016,    58.2122,   -50.8798,       3481,  3319.8,   2.0970,  34.8689,2,  34.8807,2,    289.3,2,   288.3,2,   11.62,6,   15.26,6,    0.95,6,   3.404,2,   1.773,2,   0.171,4,  2155.7,2,  2302.5,2,   4.299,2,  16.772,2, 20010609,     2022,   1.8336
18HU20010530,      AR07W,     164,          1,     237588,          5,2,20010609,       2016,    58.2122,   -50.8798,       3481,  3199.4,   2.3689,  34.8812,2,  34.8935,2,    283.1,2,   282.9,2,   12.58,6,   15.52,6,    1.00,6,   2.688,2,   1.500,2,   0.022,4,  2157.1,2,  2313.9,2,   3.618,2,  15.514,2, 20010609,     2025,   2.1116
18HU20010530,      AR07W,     164,          1,     237589,          6,2,20010609,       2016,    58.2122,   -50.8798,       3481,  3059.5,   2.5861,  34.8899,2,  34.9026,6,    279.8,2,   279.8,2,   12.91,6,   16.05,6,    1.01,6,   2.468,2,   1.193,2,   0.093,4,  2156.1,2,  2295.8,2,   3.265,2,  13.911,2, 20010609,     2028,   2.3384
18HU20010530,      AR07W,     164,          1,     237590,          7,2,20010609,       2016,    58.2122,   -50.8798,       3481,  2899.9,   2.7512,  34.8911,2,  34.9029,2,    278.5,2,   279.3,2,   12.28,6,   16.12,6,    1.03,6,   2.546,2,   1.330,2,   0.099,4,  2156.9,2,  2303.3,2,   3.409,2,  14.799,2, 20010609,     2031,   2.5162
18HU20010530,      AR07W,     164,          1,     237591,          8,2,20010609,       2016,    58.2122,   -50.8798,       3481,  2710.0,   2.8944,  34.8876,2,  34.8991,2,    278.1,2,   279.9,2,   11.63,6,   16.30,6,    1.02,6,   2.591,2,   1.377,2,   0.132,4,  2155.2,2,  2305.1,2,   3.441,2,  16.157,2, 20010609,     2034,   2.6758
18HU20010530,      AR07W,     164,          1,     237592,          9,2,20010609,       2016,    58.2122,   -50.8798,       3481,  2500.1,   3.0064,  34.8797,2,  34.8907,2,    278.9,2,   281.2,2,   10.94,6,   16.51,6,    1.04,6,   3.015,2,   1.500,2,   0.187,4,  2156.0,2,  2297.2,2,   3.900,2,  17.347,2, 20010609,     2038,   2.8065
18HU20010530,      AR07W,     164,          1,     237593,         10,2,20010609,       2016,    58.2122,   -50.8798,       3481,  2269.9,   3.0687,  34.8661,2,  34.8775,2,    281.1,2,   284.7,2,   10.52,6,   16.41,6,    1.03,6,   3.490,6,   1.587,6,   0.138,4,  2154.1,2,  2305.6,2,   4.257,6,  24.784,6, 20010609,     2042,   2.8901
18HU20010530,      AR07W,     164,          1,     237594,         11,2,20010609,       2016,    58.2122,   -50.8798,       3481,  2020.0,   3.1267,  34.8582,2,  34.8696,2,    281.9,2,   286.0,2,   10.26,6,   16.86,6,    1.04,6,   3.402,2,   1.770,2,   0.200,4,  2154.5,2,  2303.0,2,   4.175,2,  19.847,2, 20010609,     2047,   2.9706
18HU20010530,      AR07W,     164,          1,     237595,         12,2,20010609,       2016,    58.2122,   -50.8798,       3481,  1770.1,   3.2170,  34.8569,2,  34.8688,2,    279.3,2,   284.0,2,   10.36,6,   16.79,6,    1.07,6,   3.677,2,   2.106,2,   0.143,4,  2156.8,2,  2305.8,2,   4.608,2,  21.276,2, 20010609,     2050,   3.0823
18HU20010530,      AR07W,     164,          1,     237596,         13,2,20010609,       2016,    58.2122,   -50.8798,       3481,  1530.1,   3.3739,  34.8634,2,  34.8737,2,    275.3,2,   279.1,6,   10.32,6,   17.04,6,    1.04,6,   3.874,2,   2.072,2,   0.228,4,  2157.8,2,  2307.4,2,   4.720,2,  21.037,2, 20010609,     2055,   3.2584
18HU20010530,      AR07W,     164,          1,     237597,         14,2,20010609,       2016,    58.2122,   -50.8798,       3481,  1290.4,   3.3323,  34.8363,2,  34.8470,2,    281.6,2,   293.9,3,    9.24,6,   16.40,6,    1.04,6,   4.124,2,   2.189,2,   0.264,4,  2155.7,2,  2312.9,2,   5.009,2,  17.769,2, 20010609,     2058,   3.2377
18HU20010530,      AR07W,     164,          1,     237598,         15,2,20010609,       2016,    58.2122,   -50.8798,       3481,  1034.8,   3.2454,  34.8148,2,  34.8251,2,    286.7,2,   293.8,2,    8.67,6,   15.87,6,    0.98,6,   4.660,2,   2.533,2,   0.277,4,  -999.0,9,  2293.7,2,   5.894,2,  17.923,2, 20010609,     2102,   3.1723
18HU20010530,      AR07W,     164,          1,     237599,         16,2,20010609,       2016,    58.2122,   -50.8798,       3481,   869.4,   3.2987,  34.8165,2,  34.8267,2,    287.8,2,   295.4,2,    8.48,6,   15.86,6,    0.98,6,   4.941,2,   2.753,2,   0.323,4,  2152.7,2,  2294.3,2,   6.290,2,  17.234,2, 20010609,     2105,   3.2380
18HU20010530,      AR07W,     164,          1,     237600,         17,2,20010609,       2016,    58.2122,   -50.8798,       3481,   680.6,   3.4174,  34.8282,2,  34.8383,2,    293.6,2,   301.4,2,    8.13,6,   15.52,6,    0.99,6,   4.592,2,   2.497,2,   0.317,4,  2149.6,2,  2299.8,2,   5.923,2,  13.463,2, 20010609,     2108,   3.3703
18HU20010530,      AR07W,     164,          1,     237601,         18,2,20010609,       2016,    58.2122,   -50.8798,       3481,   490.4,   3.6020,  34.8495,2,  34.8591,2,    293.7,2,   301.8,2,    8.06,6,   15.73,6,    0.96,6,   4.915,2,   2.599,2,   0.332,4,  2149.8,2,  2313.2,2,   6.594,2,  14.455,2, 20010609,     2111,   3.5680
18HU20010530,      AR07W,     164,          1,     237602,         19,2,20010609,       2016,    58.2122,   -50.8798,       3481,   300.9,   3.7042,  34.8444,2,  34.8530,2,    294.2,2,   302.2,2,    8.03,6,   15.36,6,    1.00,6,   4.998,2,   2.903,2,   0.383,4,  2147.2,2,  2309.0,2,   6.756,2,  13.913,2, 20010609,     2114,   3.6836
18HU20010530,      AR07W,     164,          1,     237603,         20,2,20010609,       2016,    58.2122,   -50.8798,       3481,   198.6,   3.8787,  34.8518,2,  34.8630,2,    290.8,2,   298.5,2,    8.03,6,   15.53,6,    0.97,6,   4.724,2,   2.680,2,   0.293,4,  2148.2,2,  2298.5,2,   6.156,2,  12.944,2, 20010609,     2116,   3.8650
18HU20010530,      AR07W,     164,          1,     237604,         21,2,20010609,       2016,    58.2122,   -50.8798,       3481,    90.2,   3.9097,  34.8177,2,  34.8292,2,    295.0,2,   303.1,2,    7.78,6,   14.72,6,    0.94,6,   4.865,2,   2.697,2,   0.358,4,  2142.9,2,  2303.6,2,   6.499,2,  12.618,2, 20010609,     2119,   3.9035
18HU20010530,      AR07W,     164,          1,     237605,         22,2,20010609,       2016,    58.2122,   -50.8798,       3481,    49.6,   4.6950,  34.8051,2,  34.8200,2,    304.9,2,   312.3,2,    7.37,6,   12.02,6,    0.82,6,   5.299,2,   3.039,2,   0.375,4,  2132.6,2,  2305.9,2,   7.676,2,  12.587,2, 20010609,     2120,   4.6913
18HU20010530,      AR07W,     164,          1,     237606,         23,2,20010609,       2016,    58.2122,   -50.8798,       3481,    11.6,   5.7040,  34.7666,2,  34.7785,2,    314.1,2,   320.9,2,    5.77,6,    8.86,6,    0.59,6,   5.888,2,   3.327,2,   0.482,4,  2109.4,2,  2320.4,2,   7.682,2,  11.190,2, 20010609,     2122,   5.7030
18HU20010530,      AR07W,     164,          1,     237607,         24,2,20010609,       2016,    58.2122,   -50.8798,       3481,     3.0,   5.7120,  34.7669,2,  34.7783,2,    313.9,2,   320.0,2,    5.81,6,    8.98,6,    0.58,6,   5.282,2,   2.956,2,   0.344,4,  2107.8,2,  2304.4,2,   7.409,2,  11.560,2, 20010609,     2122,   5.7118