BOTTLE,20140827CCHSIOCBG
EXPOCODE,SECT_ID,STNNBR,CASTNO,SAMPNO,BTLNBR,BTLNBR_FLAG_W,DATE,TIME,LATITUDE,LONGITUDE,DEPTH,CTDPRS,CTDTMP,CTDSAL,CTDSAL_FLAG_W,SALNTY,SALNTY_FLAG_W,CTDOXY,CTDOXY_FLAG_W,OXYGEN,OXYGEN_FLAG_W,SILCAT,SILCAT_FLAG_W,NITRAT,NITRAT_FLAG_W,PHSPHT,PHSPHT_FLAG_W,CFC-11,CFC-11_FLAG_W,CFC-12,CFC-12_FLAG_W,CFC113,CFC113_FLAG_W,TCARBN,TCARBN_FLAG_W,ALKALI,ALKALI_FLAG_W,CCL4,CCL4_FLAG_W,MCHFRM,MCHFRM_FLAG_W,BTL_DATE,BTL_TIME,THETA
,,,,,,,,,,,METERS,DBAR,ITS-90,PSS-78,,PSS-78,,UMOL/KG,,UMOL/KG,,UMOL/KG,,UMOL/KG,,UMOL/KG,,PMOL/KG,,PMOL/KG,,PMOL/KG,,UMOL/KG,,UMOL/KG,,PMOL/KG,,PMOL/KG,,,,DEG C
18HU20010530,      AR07W,      75,          1,     237204,          1,2,20010605,       1628,    55.6242,   -53.6450,       2886,  2965.7,   1.5823,  34.8583,2,  34.8698,2,    296.2,2,   297.1,2,   10.67,6,   13.95,6,    1.01,6,   4.137,2,   2.071,2,-999.000,9,  2151.7,2,  2303.6,2,   4.874,2,  13.831,2, 20010605,     1628,   1.3660
18HU20010530,      AR07W,      75,          1,     237205,          2,2,20010605,       1628,    55.6242,   -53.6450,       2886,  2890.6,   1.5770,  34.8581,2,  34.8711,2,    295.6,2,   295.6,2,   10.61,6,   13.89,6,    0.99,6,   4.225,2,   2.169,2,-999.000,9,  2140.5,3,  2304.1,2,   4.861,2,  13.887,2, 20010605,     1630,   1.3679
18HU20010530,      AR07W,      75,          1,     237206,          3,2,20010605,       1628,    55.6242,   -53.6450,       2886,  2810.8,   1.7327,  34.8600,2,  34.8678,2,    293.9,2,   294.1,2,   10.25,6,   14.71,6,    1.02,6,   3.943,2,   1.970,2,-999.000,9,  2145.5,2,  2313.6,2,   4.685,2,  13.524,2, 20010605,     1633,   1.5279
18HU20010530,      AR07W,      75,          1,     237207,          4,2,20010605,       1628,    55.6242,   -53.6450,       2886,  2688.6,   2.1694,  34.8731,2,  34.8845,2,    286.5,2,   286.4,2,   11.94,6,   14.70,6,    1.04,6,   3.102,6,   1.621,6,   0.032,4,  2147.7,2,  2312.3,2,   3.817,6,  13.641,6, 20010605,     1636,   1.9672
18HU20010530,      AR07W,      75,          1,     237208,          5,2,20010605,       1628,    55.6242,   -53.6450,       2886,  2559.8,   2.3517,  34.8792,2,  34.8912,2,    283.0,2,   283.7,2,   12.40,6,   15.28,6,    1.07,6,   3.112,2,   1.500,2,-999.000,9,  2148.7,2,  2314.3,2,   3.631,2,  11.351,2, 20010605,     1638,   2.1582
18HU20010530,      AR07W,      75,          1,     237209,          6,2,20010605,       1628,    55.6242,   -53.6450,       2886,  2429.1,   2.5406,  34.8825,2,  34.8949,6,    281.1,2,   282.6,2,   12.13,6,   15.53,6,    1.08,6,   3.107,2,   1.424,2,-999.000,9,  2146.9,2,  2320.7,2,   3.604,2,  11.712,2, 20010605,     1641,   2.3560
18HU20010530,      AR07W,      75,          1,     237210,          7,2,20010605,       1628,    55.6242,   -53.6450,       2886,  2289.8,   2.7203,  34.8846,2,  34.8967,2,    279.5,2,   281.0,2,   11.77,6,   15.62,6,    1.11,6,   2.968,2,   1.486,2,-999.000,9,  2147.4,2,  2307.3,2,   3.550,2,  11.642,2, 20010605,     1643,   2.5456
18HU20010530,      AR07W,      75,          1,     237211,          8,2,20010605,       1628,    55.6242,   -53.6450,       2886,  2150.0,   2.8609,  34.8825,2,  34.8941,2,    279.2,2,   281.3,2,   11.47,6,   15.97,6,    1.10,6,   3.033,2,   1.458,2,-999.000,9,  2150.2,2,  2297.9,2,   3.648,2,  12.499,2, 20010605,     1646,   2.6969
18HU20010530,      AR07W,      75,          1,     237212,          9,2,20010605,       1628,    55.6242,   -53.6450,       2886,  1987.9,   2.9439,  34.8793,2,  34.8912,2,    279.1,2,   281.3,2,   11.19,6,   16.08,6,    1.08,6,   3.229,2,   1.559,2,-999.000,9,  2148.0,2,  2301.2,2,   3.822,2,  13.331,2, 20010605,     1649,   2.7934
18HU20010530,      AR07W,      75,          1,     237213,         10,2,20010605,       1628,    55.6242,   -53.6450,       2886,  1809.3,   3.0341,  34.8674,2,  34.8790,2,    280.9,2,   284.0,2,   10.76,6,   16.02,6,    1.11,6,   3.537,2,   1.709,2,   0.230,4,  2147.4,2,  2306.8,2,   4.188,2,  15.850,2, 20010605,     1652,   2.8984
18HU20010530,      AR07W,      75,          1,     237214,         11,2,20010605,       1628,    55.6242,   -53.6450,       2886,  1629.5,   3.0911,  34.8609,2,  34.8729,2,    281.7,2,   285.5,2,   10.72,6,   16.63,6,    1.10,6,   3.636,2,   1.874,2,   0.543,4,  2145.8,2,  2295.1,2,   4.419,2,  17.423,2, 20010605,     1657,   2.9704
18HU20010530,      AR07W,      75,          1,     237215,         12,2,20010605,       1628,    55.6242,   -53.6450,       2886,  1429.4,   3.1952,  34.8648,2,  34.8766,2,    278.9,2,   283.2,2,   10.62,6,   16.44,6,    1.12,6,   4.032,2,   1.982,2,-999.000,9,  2145.7,2,  2303.1,2,   4.578,2,  16.588,2, 20010605,     1702,   3.0903
18HU20010530,      AR07W,      75,          1,     237216,         13,2,20010605,       1628,    55.6242,   -53.6450,       2886,  1230.7,   3.3950,  34.8724,2,  34.8835,2,    275.3,2,   280.0,2,   10.52,6,   16.47,6,    1.12,6,   3.991,2,   1.970,2,-999.000,9,  2147.5,2,  2311.7,2,   4.502,2,  15.019,2, 20010605,     1705,   3.3047
18HU20010530,      AR07W,      75,          1,     237217,         14,2,20010605,       1628,    55.6242,   -53.6450,       2886,  1030.7,   3.4512,  34.8674,2,  34.8782,2,    275.5,2,   280.7,2,   10.20,6,   16.55,6,    1.10,6,   4.263,2,   2.224,2,-999.000,9,  2147.5,2,  2300.2,2,   4.749,2,  14.961,2, 20010605,     1709,   3.3767
18HU20010530,      AR07W,      75,          1,     237218,         15,2,20010605,       1628,    55.6242,   -53.6450,       2886,   850.1,   3.3826,  34.8429,2,  34.8542,6,    281.7,2,   288.4,2,    9.33,6,   15.84,6,    1.11,6,   4.568,2,   2.376,2,   0.447,4,  2144.8,2,  2304.0,2,   5.281,2,  14.314,2, 20010605,     1713,   3.3228
18HU20010530,      AR07W,      75,          1,     237219,         16,2,20010605,       1628,    55.6242,   -53.6450,       2886,   669.9,   3.3335,  34.8302,2,  34.8418,2,    287.6,2,   294.3,2,    8.92,6,   15.69,6,    1.08,6,   5.119,2,   2.658,2,-999.000,9,  2145.6,2,  2294.1,2,   6.072,2,  12.425,2, 20010605,     1716,   3.2876
18HU20010530,      AR07W,      75,          1,     237220,         17,2,20010605,       1628,    55.6242,   -53.6450,       2886,   510.3,   3.4213,  34.8350,2,  34.8452,2,    289.1,2,   295.7,2,    8.78,6,   15.72,6,    1.07,6,   5.317,2,   2.554,2,-999.000,9,  2141.6,2,  2300.4,2,   6.354,2,  12.147,2, 20010605,     1720,   3.3866
18HU20010530,      AR07W,      75,          1,     237221,         18,2,20010605,       1628,    55.6242,   -53.6450,       2886,   370.1,   3.4711,  34.8385,2,  34.8487,2,    287.6,2,   295.2,2,   10.20,6,   15.36,6,    1.07,6,   5.156,2,   2.689,2,-999.000,9,  2144.8,2,  2292.0,2,   6.180,2,  11.891,2, 20010605,     1722,   3.4462
18HU20010530,      AR07W,      75,          1,     237222,         19,2,20010605,       1628,    55.6242,   -53.6450,       2886,   250.1,   3.4770,  34.8344,2,  34.8444,2,    288.2,2,   295.7,6,    8.66,6,   15.56,6,    1.05,6,   5.293,2,   2.719,2,-999.000,9,  2145.3,2,  2305.0,2,   6.332,2,  11.395,2, 20010605,     1724,   3.4604
18HU20010530,      AR07W,      75,          1,     237223,         20,2,20010605,       1628,    55.6242,   -53.6450,       2886,   149.7,   3.4795,  34.8217,2,  34.8312,2,    289.5,2,   298.1,2,    8.63,6,   15.23,6,    1.06,6,   5.630,2,   2.739,2,-999.000,9,  2140.6,2,  -999.0,9,   6.363,2,  11.082,2, 20010605,     1726,   3.4697
18HU20010530,      AR07W,      75,          1,     237224,         21,2,20010605,       1628,    55.6242,   -53.6450,       2886,   100.2,   3.5013,  34.8011,2,  34.8161,2,    290.5,2,   298.9,2,    8.68,6,   15.21,6,    1.05,6,   5.498,2,   2.712,2,-999.000,9,  2139.6,2,  2291.5,2,   6.734,2,  11.666,2, 20010605,     1727,   3.4948
18HU20010530,      AR07W,      75,          1,     237225,         22,2,20010605,       1628,    55.6242,   -53.6450,       2886,    49.4,   3.4994,  34.5669,2,  34.5741,2,    305.0,2,   316.5,2,    7.02,6,   11.87,6,    0.88,6,   5.828,2,   3.021,2,-999.000,9,  2115.9,2,  2287.0,2,   7.240,2,  10.759,2, 20010605,     1729,   3.4962
18HU20010530,      AR07W,      75,          1,     237226,         23,2,20010605,       1628,    55.6242,   -53.6450,       2886,    20.0,   4.0925,  34.0453,2,  34.0543,2,    336.4,2,   352.7,2,    3.71,6,    5.00,6,    0.49,6,   6.293,2,   3.391,2,   0.025,4,  2049.4,2,  2274.3,2,   8.378,2,  10.781,2, 20010605,     1730,   4.0911
18HU20010530,      AR07W,      75,          1,     237227,         24,2,20010605,       1628,    55.6242,   -53.6450,       2886,     2.1,   4.3732,  34.0323,2,  34.0378,2,    343.7,2,   353.0,2,    2.22,6,    4.64,6,    0.45,6,   6.405,2,   3.396,2,   0.025,4,  2051.2,2,  2264.4,2,   8.624,2,  10.206,2, 20010605,     1730,   4.3731
18HU20010530,      AR07W,      79,          1,     237228,          1,2,20010605,       2059,    55.8482,   -53.4157,       3078,  3157.1,   1.5696,  34.8580,2,  34.8696,2,    297.1,2,   296.2,2,   10.49,6,   14.73,6,    1.02,6,-999.000,9,-999.000,9,-999.000,9,  -999.0,9,  -999.0,9,-999.000,9,-999.000,9, 20010605,     2059,   1.3350
18HU20010530,      AR07W,      79,          1,     237229,          2,2,20010605,       2059,    55.8482,   -53.4157,       3078,  3100.3,   1.5641,  34.8581,2,  34.8731,2,    296.5,2,   296.3,2,   10.20,6,   14.47,6,    1.02,6,-999.000,9,-999.000,9,-999.000,9,  -999.0,9,  -999.0,9,-999.000,9,-999.000,9, 20010605,     2101,   1.3352
18HU20010530,      AR07W,      79,          1,     237230,          3,2,20010605,       2059,    55.8482,   -53.4157,       3078,  3019.6,   1.6709,  34.8586,2,  34.8707,2,    295.3,2,   295.7,2,    9.95,6,   14.62,6,    0.98,6,-999.000,9,-999.000,9,-999.000,9,  -999.0,9,  -999.0,9,-999.000,9,-999.000,9, 20010605,     2103,   1.4474
18HU20010530,      AR07W,      79,          1,     237231,          4,2,20010605,       2059,    55.8482,   -53.4157,       3078,  2919.9,   1.9563,  34.8660,2,  34.8778,2,    290.6,2,   291.3,2,   10.91,6,   15.27,6,    1.02,6,-999.000,9,-999.000,9,-999.000,9,  -999.0,9,  -999.0,9,-999.000,9,-999.000,9, 20010605,     2105,   1.7363
18HU20010530,      AR07W,      79,          1,     237232,          5,2,20010605,       2059,    55.8482,   -53.4157,       3078,  2809.3,   2.2518,  34.8754,2,  34.8873,2,    285.5,2,   286.1,2,   11.66,6,   15.50,6,    1.04,6,-999.000,9,-999.000,9,-999.000,9,  -999.0,9,  -999.0,9,-999.000,9,-999.000,9, 20010605,     2107,   2.0363
18HU20010530,      AR07W,      79,          1,     237233,          6,2,20010605,       2059,    55.8482,   -53.4157,       3078,  2689.9,   2.4815,  34.8802,2,  34.8923,6,    283.1,2,   283.2,2,   11.82,6,   15.99,6,    1.05,6,-999.000,9,-999.000,9,-999.000,9,  -999.0,9,  -999.0,9,-999.000,9,-999.000,9, 20010605,     2111,   2.2731
18HU20010530,      AR07W,      79,          1,     237234,          7,2,20010605,       2059,    55.8482,   -53.4157,       3078,  2559.8,   2.6764,  34.8853,2,  34.8963,6,    280.4,2,   281.3,2,   11.75,6,   16.16,6,    1.07,6,-999.000,9,-999.000,9,-999.000,9,  -999.0,9,  -999.0,9,-999.000,9,-999.000,9, 20010605,     2114,   2.4768
18HU20010530,      AR07W,      79,          1,     237235,          8,2,20010605,       2059,    55.8482,   -53.4157,       3078,  2409.7,   2.8294,  34.8833,2,  34.8949,2,    279.9,2,   281.6,2,   11.24,6,   16.20,6,    1.08,6,-999.000,9,-999.000,9,-999.000,9,  -999.0,9,  -999.0,9,-999.000,9,-999.000,9, 20010605,     2117,   2.6415
18HU20010530,      AR07W,      79,          1,     237236,          9,2,20010605,       2059,    55.8482,   -53.4157,       3078,  2230.1,   2.9581,  34.8821,2,  34.8939,2,    278.6,2,   280.6,2,   11.29,6,   16.82,6,    1.12,6,-999.000,9,-999.000,9,-999.000,9,  -999.0,9,  -999.0,9,-999.000,9,-999.000,9, 20010605,     2119,   2.7850
18HU20010530,      AR07W,      79,          1,     237237,         10,2,20010605,       2059,    55.8482,   -53.4157,       3078,  2009.9,   3.0360,  34.8675,2,  34.8788,2,    281.1,2,   284.3,2,   10.83,6,   16.94,6,    1.10,6,-999.000,9,-999.000,9,-999.000,9,  -999.0,9,  -999.0,9,-999.000,9,-999.000,9, 20010605,     2123,   2.8822
18HU20010530,      AR07W,      79,          1,     237238,         11,2,20010605,       2059,    55.8482,   -53.4157,       3078,  1791.0,   3.0274,  34.8522,2,  34.8637,2,    284.0,2,   288.4,6,   10.48,6,   16.85,6,    1.10,6,-999.000,9,-999.000,9,-999.000,9,  -999.0,9,  -999.0,9,-999.000,9,-999.000,9, 20010605,     2126,   2.8934
18HU20010530,      AR07W,      79,          1,     237239,         12,2,20010605,       2059,    55.8482,   -53.4157,       3078,  1550.3,   3.1446,  34.8570,2,  34.8688,2,    280.6,2,   285.0,2,   10.34,6,   16.93,6,    1.18,6,-999.000,9,-999.000,9,-999.000,9,  -999.0,9,  -999.0,9,-999.000,9,-999.000,9, 20010605,     2130,   3.0301
18HU20010530,      AR07W,      79,          1,     237240,         13,2,20010605,       2059,    55.8482,   -53.4157,       3078,  1308.4,   3.2850,  34.8635,2,  34.8735,2,    276.6,2,   281.4,2,   10.43,6,   17.31,6,    1.12,6,-999.000,9,-999.000,9,-999.000,9,  -999.0,9,  -999.0,9,-999.000,9,-999.000,9, 20010605,     2134,   3.1893
18HU20010530,      AR07W,      79,          1,     237241,         14,2,20010605,       2059,    55.8482,   -53.4157,       3078,  1090.4,   3.4086,  34.8641,2,  34.8745,2,    275.6,2,   280.8,2,   10.16,6,   16.87,6,    1.10,6,-999.000,9,-999.000,9,-999.000,9,  -999.0,9,  -999.0,9,-999.000,9,-999.000,9, 20010605,     2143,   3.3296
18HU20010530,      AR07W,      79,          1,     237242,         15,2,20010605,       2059,    55.8482,   -53.4157,       3078,   840.2,   3.2197,  34.8216,2,  34.8312,2,    285.5,2,   292.0,2,    9.01,6,   16.32,6,    1.09,6,-999.000,9,-999.000,9,-999.000,9,  -999.0,9,  -999.0,9,-999.000,9,-999.000,9, 20010605,     2147,   3.1618
18HU20010530,      AR07W,      79,          1,     237243,         16,2,20010605,       2059,    55.8482,   -53.4157,       3078,   711.0,   3.2110,  34.8189,2,  34.8288,2,    286.3,2,   293.3,2,    8.97,6,   16.47,6,    1.10,6,-999.000,9,-999.000,9,-999.000,9,  -999.0,9,  -999.0,9,-999.000,9,-999.000,9, 20010605,     2149,   3.1628
18HU20010530,      AR07W,      79,          1,     237244,         17,2,20010605,       2059,    55.8482,   -53.4157,       3078,   549.3,   3.2433,  34.8204,2,  34.8302,2,    286.5,2,   293.7,2,    8.74,6,   16.02,6,    1.08,6,-999.000,9,-999.000,9,-999.000,9,  -999.0,9,  -999.0,9,-999.000,9,-999.000,9, 20010605,     2153,   3.2066
18HU20010530,      AR07W,      79,          1,     237245,         18,2,20010605,       2059,    55.8482,   -53.4157,       3078,   399.7,   3.2051,  34.8110,2,  34.8194,2,    286.4,2,   293.8,2,    8.75,6,   16.28,6,    1.06,6,-999.000,9,-999.000,9,-999.000,9,  -999.0,9,  -999.0,9,-999.000,9,-999.000,9, 20010605,     2155,   3.1790
18HU20010530,      AR07W,      79,          1,     237246,         19,2,20010605,       2059,    55.8482,   -53.4157,       3078,   289.2,   3.2165,  34.8082,2,  34.8176,2,    285.4,2,   292.9,2,    8.62,6,   16.16,6,    1.07,6,-999.000,9,-999.000,9,-999.000,9,  -999.0,9,  -999.0,9,-999.000,9,-999.000,9, 20010605,     2157,   3.1978
18HU20010530,      AR07W,      79,          1,     237247,         20,2,20010605,       2059,    55.8482,   -53.4157,       3078,   191.1,   3.1691,  34.7929,2,  34.8025,2,    285.8,2,   294.2,2,    8.55,6,   16.25,6,    1.06,6,-999.000,9,-999.000,9,-999.000,9,  -999.0,9,  -999.0,9,-999.000,9,-999.000,9, 20010605,     2200,   3.1570
18HU20010530,      AR07W,      79,          1,     237248,         21,2,20010605,       2059,    55.8482,   -53.4157,       3078,   110.0,   3.1247,  34.7535,2,  34.7626,2,    295.1,2,   304.9,2,    8.06,6,   14.54,6,    0.99,6,-999.000,9,-999.000,9,-999.000,9,  -999.0,9,  -999.0,9,-999.000,9,-999.000,9, 20010605,     2201,   3.1179
18HU20010530,      AR07W,      79,          1,     237249,         22,2,20010605,       2059,    55.8482,   -53.4157,       3078,    49.3,   3.3062,  34.6899,2,  34.7036,2,    310.2,2,   320.0,2,    6.45,6,   11.81,6,    0.88,6,-999.000,9,-999.000,9,-999.000,9,  -999.0,9,  -999.0,9,-999.000,9,-999.000,9, 20010605,     2202,   3.3031
18HU20010530,      AR07W,      79,          1,     237250,         23,2,20010605,       2059,    55.8482,   -53.4157,       3078,    20.7,   4.5600,  34.5376,2,  34.5525,2,    334.9,2,   346.6,2,    0.39,6,    5.92,6,    0.41,6,-999.000,9,-999.000,9,-999.000,9,  -999.0,9,  -999.0,9,-999.000,9,-999.000,9, 20010605,     2203,   4.5585
18HU20010530,      AR07W,      79,          1,     237251,         24,2,20010605,       2059,    55.8482,   -53.4157,       3078,     3.1,   5.4842,  34.4415,2,  34.4528,2,    346.0,2,   353.7,2,    0.00,6,    3.02,6,    0.28,6,-999.000,9,-999.000,9,-999.000,9,  -999.0,9,  -999.0,9,-999.000,9,-999.000,9, 20010605,     2204,   5.4840