BOTTLE,20140827CCHSIOCBG
EXPOCODE,SECT_ID,STNNBR,CASTNO,SAMPNO,BTLNBR,BTLNBR_FLAG_W,DATE,TIME,LATITUDE,LONGITUDE,DEPTH,CTDPRS,CTDTMP,CTDSAL,CTDSAL_FLAG_W,SALNTY,SALNTY_FLAG_W,CTDOXY,CTDOXY_FLAG_W,OXYGEN,OXYGEN_FLAG_W,SILCAT,SILCAT_FLAG_W,NITRAT,NITRAT_FLAG_W,PHSPHT,PHSPHT_FLAG_W,CFC-11,CFC-11_FLAG_W,CFC-12,CFC-12_FLAG_W,CFC113,CFC113_FLAG_W,TCARBN,TCARBN_FLAG_W,ALKALI,ALKALI_FLAG_W,CCL4,CCL4_FLAG_W,MCHFRM,MCHFRM_FLAG_W,BTL_DATE,BTL_TIME,THETA
,,,,,,,,,,,METERS,DBAR,ITS-90,PSS-78,,PSS-78,,UMOL/KG,,UMOL/KG,,UMOL/KG,,UMOL/KG,,UMOL/KG,,PMOL/KG,,PMOL/KG,,PMOL/KG,,UMOL/KG,,UMOL/KG,,PMOL/KG,,PMOL/KG,,,,DEG C
18HU20010530,      AR07W,      90,          1,     237291,          1,2,20010606,       1700,    56.9612,   -52.2340,       3446,  3557.6,   1.4308,  34.8560,2,  34.8676,2,    299.6,2,   299.4,2,   10.82,6,   14.03,6,    0.97,6,   3.690,2,   2.474,4,   1.896,4,  2158.0,2,  2312.5,2,   4.830,2,   6.619,2, 20010606,     1700,   1.1594
18HU20010530,      AR07W,      90,          1,     237292,          2,2,20010606,       1700,    56.9612,   -52.2340,       3446,  3490.0,   1.5224,  34.8556,2,  34.8680,2,    298.2,2,   297.1,2,   10.06,6,   14.27,6,    0.96,6,   3.646,2,   2.252,2,   1.520,4,  2155.0,2,  2304.6,2,   4.917,2,   6.600,2, 20010606,     1704,   1.2556
18HU20010530,      AR07W,      90,          1,     237293,          3,2,20010606,       1700,    56.9612,   -52.2340,       3446,  3399.8,   1.7789,  34.8595,2,  34.8721,2,    295.1,2,   294.1,2,   10.13,6,   14.35,6,    0.97,6,   4.086,2,   2.788,4,   0.399,4,  2150.9,2,  2302.5,3,   4.999,2,   6.250,2, 20010606,     1706,   1.5150
18HU20010530,      AR07W,      90,          1,     237294,          4,2,20010606,       1700,    56.9612,   -52.2340,       3446,  3290.1,   2.1402,  34.8712,2,  34.8820,2,    288.2,2,   286.7,2,   11.97,6,   15.31,6,    1.02,6,   3.048,2,   1.802,2,   0.173,4,  2153.6,2,  2302.5,2,   4.063,2,   5.721,2, 20010606,     1709,   1.8789
18HU20010530,      AR07W,      90,          1,     237295,          5,2,20010606,       1700,    56.9612,   -52.2340,       3446,  3169.0,   2.3634,  34.8797,2,  34.8902,2,    283.4,2,   283.2,2,   12.49,6,   15.48,6,    1.03,6,   2.741,2,   1.764,4,   0.209,4,  2154.1,2,  2307.9,2,   3.636,2,   5.199,2, 20010606,     1712,   2.1094
18HU20010530,      AR07W,      90,          1,     237296,          6,2,20010606,       1700,    56.9612,   -52.2340,       3446,  3036.0,   2.5722,  34.8854,2,  34.8972,6,    281.1,2,   280.7,2,   12.43,6,   15.99,6,    1.06,6,   2.657,2,   1.508,2,   0.212,4,  2152.4,2,  2301.5,2,   3.457,2,   4.989,2, 20010606,     1716,   2.3272
18HU20010530,      AR07W,      90,          1,     237297,          7,2,20010606,       1700,    56.9612,   -52.2340,       3446,  2869.5,   2.7670,  34.8896,2,  34.9012,2,    278.3,2,   278.8,2,   12.36,6,   15.91,6,    1.06,6,   2.350,2,   1.290,2,   0.937,4,  2153.0,2,  2300.9,2,   3.213,2,   5.238,2, 20010606,     1720,   2.5348
18HU20010530,      AR07W,      90,          1,     237298,          8,2,20010606,       1700,    56.9612,   -52.2340,       3446,  2678.7,   2.9696,  34.8978,2,  34.9083,2,    275.1,2,   276.2,2,   12.79,6,   16.62,6,    1.09,6,   2.204,2,   1.236,2,   0.486,4,  2152.7,2,  2298.9,2,   2.988,2,   4.762,2, 20010606,     1726,   2.7526
18HU20010530,      AR07W,      90,          1,     237299,          9,2,20010606,       1700,    56.9612,   -52.2340,       3446,  2469.2,   3.0694,  34.8865,2,  34.8985,2,    277.0,2,   279.3,2,   11.69,6,   16.46,6,    1.12,6,   2.523,2,   1.423,2,   0.377,4,  2151.8,2,  2307.6,2,   3.340,2,   5.502,2, 20010606,     1731,   2.8714
18HU20010530,      AR07W,      90,          1,     237300,         10,2,20010606,       1700,    56.9612,   -52.2340,       3446,  2250.5,   3.0621,  34.8643,2,  34.8749,2,    281.1,2,   284.8,2,   10.74,6,   16.78,6,    1.10,6,   3.150,2,   1.723,2,   0.242,4,  2151.5,2,  2308.7,2,   4.126,2,   6.706,2, 20010606,     1735,   2.8854
18HU20010530,      AR07W,      90,          1,     237301,         11,2,20010606,       1700,    56.9612,   -52.2340,       3446,  2009.1,   3.0673,  34.8515,2,  34.8625,2,    283.4,2,   287.2,2,   10.11,6,   16.59,6,    1.10,6,   3.529,2,   2.103,2,   0.258,4,  2150.4,2,  2301.9,2,   4.603,2,   7.892,2, 20010606,     1739,   2.9131
18HU20010530,      AR07W,      90,          1,     237302,         12,2,20010606,       1700,    56.9612,   -52.2340,       3446,  1770.1,   3.1774,  34.8579,2,  34.8676,2,    279.6,2,   284.1,2,   10.33,6,   17.01,6,    1.12,6,   3.446,2,   1.962,2,   0.284,4,  2152.0,2,  2309.4,2,   4.462,2,   7.536,2, 20010606,     1745,   3.0433
18HU20010530,      AR07W,      90,          1,     237303,         13,2,20010606,       1700,    56.9612,   -52.2340,       3446,  1529.1,   3.3026,  34.8617,2,  34.8713,2,    276.0,2,   281.0,6,   10.23,6,   16.87,6,    1.11,6,   3.471,2,   1.971,2,   0.321,4,  2154.1,2,  2295.7,2,   4.558,2,   7.515,2, 20010606,     1749,   3.1880
18HU20010530,      AR07W,      90,          1,     237304,         14,2,20010606,       1700,    56.9612,   -52.2340,       3446,  1288.5,   3.3927,  34.8562,2,  34.8660,2,    275.7,2,   281.7,2,    9.91,6,   16.95,6,    1.11,6,   3.846,2,   2.141,2,   0.443,4,  2154.5,2,  2302.8,2,   4.847,2,   7.347,2, 20010606,     1755,   3.2976
18HU20010530,      AR07W,      90,          1,     237305,         15,2,20010606,       1700,    56.9612,   -52.2340,       3446,  1070.1,   3.1972,  34.8134,2,  34.8229,2,    286.0,2,   292.9,2,    8.67,6,   15.81,6,    1.05,6,   4.616,2,   2.678,2,   0.549,4,  2150.9,2,  2314.5,2,   6.037,2,   6.449,2, 20010606,     1800,   3.1217
18HU20010530,      AR07W,      90,          1,     237306,         16,2,20010606,       1700,    56.9612,   -52.2340,       3446,   869.3,   3.1771,  34.8053,2,  34.8149,2,    287.8,2,   294.9,2,    8.98,6,   15.99,6,    1.05,6,   4.837,6,   2.724,6,   0.389,4,  2151.0,2,  2314.2,2,   6.144,6,   9.754,6, 20010606,     1803,   3.1173
18HU20010530,      AR07W,      90,          1,     237307,         17,2,20010606,       1700,    56.9612,   -52.2340,       3446,   680.0,   3.2311,  34.8070,2,  34.8165,2,    286.3,2,   293.4,2,    8.69,6,   15.71,6,    1.07,6,   4.732,2,   2.753,2,   0.488,4,  2151.3,2,  2299.6,2,   6.180,2,   6.086,2, 20010606,     1806,   3.1850
18HU20010530,      AR07W,      90,          1,     237308,         18,2,20010606,       1700,    56.9612,   -52.2340,       3446,   508.7,   3.1533,  34.7865,2,  34.7952,2,    286.2,2,   294.1,2,    8.48,6,   15.82,6,    1.06,6,   4.830,2,   2.813,2,   0.507,4,  2154.3,2,  2294.5,2,   6.441,2,   5.853,2, 20010606,     1810,   3.1199
18HU20010530,      AR07W,      90,          1,     237309,         19,2,20010606,       1700,    56.9612,   -52.2340,       3446,   360.4,   2.9093,  34.7425,2,  34.7516,2,    296.3,2,   305.8,3,    8.09,6,   14.98,6,    1.03,6,   5.318,2,   3.010,2,   0.609,4,  2147.9,2,  2309.3,2,   7.471,2,   5.212,2, 20010606,     1813,   2.8868
18HU20010530,      AR07W,      90,          1,     237310,         20,2,20010606,       1700,    56.9612,   -52.2340,       3446,   240.2,   3.1115,  34.7582,2,  34.7665,2,    289.0,2,   297.4,2,    8.27,6,   15.61,6,    1.05,6,   5.102,2,   3.040,2,   0.458,4,  2150.2,2,  2299.8,2,   6.774,2,   5.232,2, 20010606,     1816,   3.0963
18HU20010530,      AR07W,      90,          1,     237311,         21,2,20010606,       1700,    56.9612,   -52.2340,       3446,   140.6,   3.0791,  34.7032,2,  34.7119,2,    292.7,2,   301.7,2,    7.60,6,   14.49,6,    1.01,6,   5.258,2,   3.045,2,   0.515,4,  2145.9,2,  2294.8,2,   7.290,2,   4.960,2, 20010606,     1818,   3.0704
18HU20010530,      AR07W,      90,          1,     237312,         22,2,20010606,       1700,    56.9612,   -52.2340,       3446,    69.3,   3.0159,  34.6025,2,  34.6152,2,    303.2,2,   315.1,2,    6.77,6,   12.48,6,    0.94,6,   5.712,2,   3.285,2,   0.483,4,  2137.7,2,  2296.9,2,   8.364,2,   4.575,2, 20010606,     1819,   3.0117
18HU20010530,      AR07W,      90,          1,     237313,         23,2,20010606,       1700,    56.9612,   -52.2340,       3446,    33.9,   3.9132,  34.5152,2,  34.5545,2,    310.6,2,   322.3,2,    2.15,6,   10.09,6,    0.80,6,   5.816,2,   3.357,2,   0.650,4,  2126.0,2,  2298.5,2,   8.476,2,   4.686,2, 20010606,     1820,   3.9109
18HU20010530,      AR07W,      90,          1,     237314,         24,2,20010606,       1700,    56.9612,   -52.2340,       3446,     2.2,   5.0180,  34.5408,2,  34.5531,2,    327.9,2,   336.4,2,    0.00,6,    5.90,6,    0.48,6,   5.601,2,   3.322,2,   0.597,4,  2093.8,2,  2305.2,2,   9.349,2,   4.392,2, 20010606,     1821,   5.0178
18HU20010530,      AR07W,      95,          1,     237315,          1,2,20010607,       0328,    57.8012,   -51.3378,       3545,  3676.1,   1.4129,  34.8565,2,  34.8668,2,    298.5,2,   299.8,2,   10.35,6,   14.05,6,    1.02,6,   3.718,2,   2.043,2,   0.276,4,  2156.1,2,  2307.4,2,   4.659,2,  17.294,2, 20010607,      328,   1.1297
18HU20010530,      AR07W,      95,          1,     237316,          2,2,20010607,       0328,    57.8012,   -51.3378,       3545,  3588.9,   1.4307,  34.8561,2,  34.8664,2,    297.9,2,   298.4,2,   10.22,6,   14.16,6,    1.00,6,   3.912,2,   1.993,2,   0.372,4,  2155.4,2,  2307.1,2,   4.750,2,  17.005,2, 20010607,      330,   1.1561
18HU20010530,      AR07W,      95,          1,     237317,          3,2,20010607,       0328,    57.8012,   -51.3378,       3545,  3489.6,   1.6539,  34.8583,2,  34.8688,2,    295.0,2,   296.5,2,    9.76,6,   14.38,6,    1.00,6,   3.832,2,   2.006,2,   0.289,4,  2153.7,2,  2310.3,2,   4.767,2,  17.388,2, 20010607,      347,   1.3839
18HU20010530,      AR07W,      95,          1,     237318,          4,2,20010607,       0328,    57.8012,   -51.3378,       3545,  3378.9,   1.9478,  34.8646,2,  34.8760,2,    289.8,2,   291.4,2,   10.94,6,   14.72,6,    1.02,6,   3.375,2,   1.669,2,   0.279,4,  2157.0,2,  2304.8,2,   4.233,2,  16.300,2, 20010607,      349,   1.6819
18HU20010530,      AR07W,      95,          1,     237319,          5,2,20010607,       0328,    57.8012,   -51.3378,       3545,  3248.0,   2.2770,  34.8796,2,  34.8912,2,    281.9,2,   283.5,2,   13.29,6,   15.73,6,    1.08,6,   2.660,2,   1.323,2,   0.249,4,  2156.8,2,  2314.1,2,   3.432,2,  14.399,2, 20010607,      354,   2.0168
18HU20010530,      AR07W,      95,          1,     237320,          6,2,20010607,       0328,    57.8012,   -51.3378,       3545,  3121.2,   2.4522,  34.8880,2,  34.9000,6,    278.5,2,   280.6,2,   13.71,6,   15.94,6,    1.09,6,   2.334,2,   1.240,2,   0.131,4,  -999.0,9,  2311.8,3,   3.012,2,  13.240,2, 20010607,      357,   2.2011
18HU20010530,      AR07W,      95,          1,     237321,          7,2,20010607,       0328,    57.8012,   -51.3378,       3545,  2939.3,   2.6666,  34.8960,2,  34.9067,2,    275.7,2,   279.4,2,   13.43,6,   16.16,6,    1.11,6,   2.252,6,   1.113,2,   0.207,4,  2157.0,2,  2299.6,2,   2.862,6,  12.800,6, 20010607,      410,   2.4294
18HU20010530,      AR07W,      95,          1,     237322,          8,2,20010607,       0328,    57.8012,   -51.3378,       3545,  2741.0,   2.8207,  34.8914,2,  34.9020,2,    275.8,2,   278.8,2,   12.39,6,   16.31,6,    1.10,6,   2.581,2,   1.136,2,   0.203,4,  2157.7,2,  2296.9,2,   3.123,2,  13.979,2, 20010607,      414,   2.6004
18HU20010530,      AR07W,      95,          1,     237323,          9,2,20010607,       0328,    57.8012,   -51.3378,       3545,  2519.3,   2.9528,  34.8860,2,  34.8985,2,    276.4,2,   280.2,2,   12.10,6,   16.49,6,    1.13,6,   2.580,2,   1.337,2,   0.150,4,  2152.4,2,  2303.3,2,   3.290,2,  15.318,2, 20010607,      426,   2.7520
18HU20010530,      AR07W,      95,          1,     237324,         10,2,20010607,       0328,    57.8012,   -51.3378,       3545,  2291.0,   3.0490,  34.8734,2,  34.8857,2,    278.1,2,   282.8,2,   11.45,6,   16.55,6,    1.12,6,   2.944,2,   0.188,4,   0.259,4,  2152.4,2,  2307.7,2,   0.000,4,  18.474,4, 20010607,      430,   2.8686
18HU20010530,      AR07W,      95,          1,     237325,         11,2,20010607,       0328,    57.8012,   -51.3378,       3545,  2039.5,   3.0375,  34.8537,2,  34.8656,6,    281.9,2,   287.7,2,   11.00,6,   16.83,6,    1.11,6,   3.448,2,   1.543,2,   0.262,4,  2154.7,2,  2308.9,2,   4.257,2,  20.906,2, 20010607,      435,   2.8810
18HU20010530,      AR07W,      95,          1,     237326,         12,2,20010607,       0328,    57.8012,   -51.3378,       3545,  1788.6,   3.1093,  34.8535,2,  34.8644,2,    280.4,2,   286.7,2,   10.87,6,   16.80,6,    1.12,6,   3.585,2,   1.859,2,   0.250,4,  2156.2,2,  2301.0,2,   4.402,2,  21.417,2, 20010607,      442,   2.9744
18HU20010530,      AR07W,      95,          1,     237327,         13,2,20010607,       0328,    57.8012,   -51.3378,       3545,  1550.1,   3.2466,  34.8606,2,  34.8711,2,    276.3,2,   283.2,6,   11.03,6,   16.97,6,    1.12,6,   3.544,2,   2.184,2,   0.236,4,  2153.3,2,  2307.6,2,   4.320,2,  21.712,2, 20010607,      447,   3.1309
18HU20010530,      AR07W,      95,          1,     237328,         14,2,20010607,       0328,    57.8012,   -51.3378,       3545,  1299.7,   3.4000,  34.8624,2,  34.8733,2,    274.5,2,   281.4,2,   10.53,6,   17.04,6,    1.11,6,   3.798,2,   1.919,2,   0.330,4,  2158.5,2,  2309.1,2,   4.412,2,  18.892,2, 20010607,      455,   3.3039
18HU20010530,      AR07W,      95,          1,     237329,         15,2,20010607,       0328,    57.8012,   -51.3378,       3545,   969.1,   3.1803,  34.8081,2,  34.8188,2,    287.3,2,   295.7,2,    9.07,6,   15.85,6,    1.08,6,   4.645,2,   2.447,2,   0.414,4,  2151.4,2,  2297.9,2,   5.805,2,  16.870,2, 20010607,      501,   3.1128
18HU20010530,      AR07W,      95,          1,     237330,         16,2,20010607,       0328,    57.8012,   -51.3378,       3545,   822.8,   3.2533,  34.8138,2,  34.8239,2,    286.8,2,   295.4,2,    9.14,6,   15.95,6,    1.06,6,   4.410,2,   2.895,4,   0.388,4,  2151.6,2,  2300.9,2,   5.748,2,  17.255,2, 20010607,      508,   3.1965
18HU20010530,      AR07W,      95,          1,     237331,         17,2,20010607,       0328,    57.8012,   -51.3378,       3545,   658.5,   3.3295,  34.8191,2,  34.8290,2,    288.4,2,   297.5,2,    8.80,6,   15.81,6,    1.12,6,   4.682,2,   2.533,2,   0.418,4,  2149.0,2,  2309.3,2,   5.861,2,  14.845,2, 20010607,      510,   3.2845
18HU20010530,      AR07W,      95,          1,     237332,         18,2,20010607,       0328,    57.8012,   -51.3378,       3545,   502.4,   3.3761,  34.8219,2,  34.8306,2,    291.1,2,   300.5,2,    8.59,6,   15.52,6,    1.07,6,   4.836,2,   2.528,2,   0.451,4,  2145.9,2,  2312.8,2,   6.124,2,  14.052,2, 20010607,      513,   3.3422
18HU20010530,      AR07W,      95,          1,     237333,         19,2,20010607,       0328,    57.8012,   -51.3378,       3545,   355.4,   3.6664,  34.8538,2,  34.8593,2,    290.6,2,   300.0,2,    8.41,6,   15.60,6,    1.05,6,   4.479,2,   2.690,2,   0.480,4,  2148.8,2,  2311.7,2,   6.159,2,  13.844,2, 20010607,      518,   3.6420
18HU20010530,      AR07W,      95,          1,     237334,         20,2,20010607,       0328,    57.8012,   -51.3378,       3545,   240.3,   3.6555,  34.8427,2,  34.8517,2,    290.2,2,   299.2,2,    8.45,6,   15.39,6,    1.06,6,   4.752,2,   2.496,2,   0.396,4,  2149.1,2,  2312.9,2,   6.022,2,  13.472,2, 20010607,      523,   3.6392
18HU20010530,      AR07W,      95,          1,     237335,         21,2,20010607,       0328,    57.8012,   -51.3378,       3545,   139.7,   3.7553,  34.8424,2,  34.8515,2,    286.6,2,   295.4,2,    8.37,6,   15.69,6,    1.06,6,   4.763,2,   2.555,2,   0.439,4,  2150.8,2,  2315.7,2,   5.914,2,  13.495,2, 20010607,      525,   3.7458
18HU20010530,      AR07W,      95,          1,     237336,         22,2,20010607,       0328,    57.8012,   -51.3378,       3545,    69.6,   3.7421,  34.8070,2,  34.8151,2,    297.5,2,   307.2,2,    8.07,6,   14.51,6,    1.02,6,   5.057,2,   2.695,2,   0.507,4,  2149.4,2,  2295.3,2,   6.734,2,  12.348,2, 20010607,      527,   3.7374
18HU20010530,      AR07W,      95,          1,     237337,         23,2,20010607,       0328,    57.8012,   -51.3378,       3545,    34.3,   4.1534,  34.7906,2,  34.8033,2,    306.7,2,   316.3,2,    7.16,6,   12.50,6,    0.93,6,   5.140,2,   2.820,2,   0.541,4,  2135.5,2,  2298.3,2,   6.963,2,  12.493,2, 20010607,      529,   4.1510
18HU20010530,      AR07W,      95,          1,     237338,         24,2,20010607,       0328,    57.8012,   -51.3378,       3545,     2.1,   5.2983,  34.6898,2,  34.6997,2,    316.8,2,   324.5,2,    2.26,6,    8.12,6,    0.63,6,   5.262,6,   3.000,6,   0.499,4,  2111.6,2,  2295.4,2,   7.599,6,   8.899,6, 20010607,      530,   5.2981