BOTTLE,20140827CCHSIOCBG
EXPOCODE,SECT_ID,STNNBR,CASTNO,SAMPNO,BTLNBR,BTLNBR_FLAG_W,DATE,TIME,LATITUDE,LONGITUDE,DEPTH,CTDPRS,CTDTMP,CTDSAL,CTDSAL_FLAG_W,SALNTY,SALNTY_FLAG_W,CTDOXY,CTDOXY_FLAG_W,OXYGEN,OXYGEN_FLAG_W,SILCAT,SILCAT_FLAG_W,NITRAT,NITRAT_FLAG_W,PHSPHT,PHSPHT_FLAG_W,CFC-11,CFC-11_FLAG_W,CFC-12,CFC-12_FLAG_W,CFC113,CFC113_FLAG_W,TCARBN,TCARBN_FLAG_W,ALKALI,ALKALI_FLAG_W,CCL4,CCL4_FLAG_W,MCHFRM,MCHFRM_FLAG_W,BTL_DATE,BTL_TIME,THETA
,,,,,,,,,,,METERS,DBAR,ITS-90,PSS-78,,PSS-78,,UMOL/KG,,UMOL/KG,,UMOL/KG,,UMOL/KG,,UMOL/KG,,PMOL/KG,,PMOL/KG,,PMOL/KG,,UMOL/KG,,UMOL/KG,,PMOL/KG,,PMOL/KG,,,,DEG C
18HU20010530,      AR07W,      61,          1,     237104,          1,2,20010604,       1846,    54.4921,   -54.7653,        191,   181.0,   2.7008,  34.5321,2,  34.5421,2,    284.7,2,   291.7,2,   10.65,6,   14.57,6,    1.04,6,   5.644,2,   3.012,2,   0.368,4,  2133.3,2,  2220.8,3,   6.908,2,  22.886,2, 20010604,     1846,   2.6901
18HU20010530,      AR07W,      61,          1,     237105,          2,2,20010604,       1846,    54.4921,   -54.7653,        191,   150.1,   1.9853,  34.3170,2,  34.3609,2,    286.5,2,   295.6,2,   10.91,6,   13.94,6,    1.00,6,   5.678,2,   3.002,2,   0.401,4,  2129.7,2,  2277.4,3,   7.216,2,  22.016,2, 20010604,     1847,   1.9774
18HU20010530,      AR07W,      61,          1,     237106,          3,2,20010604,       1846,    54.4921,   -54.7653,        191,   124.8,  -0.7287,  33.4386,2,  33.4684,2,    303.1,2,   318.5,6,   10.33,6,   10.54,6,    1.04,6,   7.049,2,   3.585,2,   0.752,4,  2108.3,2,  2242.3,2,   9.374,2,  28.044,2, 20010604,     1849,  -0.7322
18HU20010530,      AR07W,      61,          1,     237107,          4,2,20010604,       1846,    54.4921,   -54.7653,        191,    98.8,  -1.1367,  33.2176,2,  33.2170,6,    307.6,2,   324.0,2,   10.23,6,    9.71,6,    0.95,6,   6.872,6,   3.488,6,   0.637,4,  2106.9,2,  2233.6,2,   9.151,6,  25.353,6, 20010604,     1850,  -1.1390
18HU20010530,      AR07W,      61,          1,     237108,          5,2,20010604,       1846,    54.4921,   -54.7653,        191,    79.1,  -1.2031,  33.0588,2,-999.0000,9,    312.5,2,  -999.0,9, -999.00,9, -999.00,9, -999.00,9,-999.000,9,-999.000,9,-999.000,9,  -999.0,9,  -999.0,9,-999.000,9,-999.000,9, 20010604,     1851,  -1.2049
18HU20010530,      AR07W,      61,          1,     237109,          6,2,20010604,       1846,    54.4921,   -54.7653,        191,    59.2,  -1.2949,  32.7338,2,-999.0000,9,    316.9,2,  -999.0,9, -999.00,9, -999.00,9, -999.00,9,-999.000,9,-999.000,9,-999.000,9,  -999.0,9,  -999.0,9,-999.000,9,-999.000,9, 20010604,     1852,  -1.2961
18HU20010530,      AR07W,      61,          1,     237110,          7,2,20010604,       1846,    54.4921,   -54.7653,        191,    49.9,  -1.4661,  32.6285,2,  32.6453,2,    318.3,2,   337.2,2,   10.43,6,    7.82,6,    0.95,6,   8.039,2,   3.975,2,   0.569,4,  2097.5,2,  2216.7,2,  10.593,4,  27.812,2, 20010604,     1853,  -1.4671
18HU20010530,      AR07W,      61,          1,     237111,          8,2,20010604,       1846,    54.4921,   -54.7653,        191,    39.9,  -1.5368,  32.5330,2,-999.0000,9,    321.5,2,  -999.0,9, -999.00,9, -999.00,9, -999.00,9,-999.000,9,-999.000,9,-999.000,9,  -999.0,9,  -999.0,9,-999.000,9,-999.000,9, 20010604,     1854,  -1.5375
18HU20010530,      AR07W,      61,          1,     237112,          9,2,20010604,       1846,    54.4921,   -54.7653,        191,    29.9,  -1.3593,  32.4817,2,-999.0000,9,    322.6,2,  -999.0,9, -999.00,9, -999.00,9, -999.00,9,-999.000,9,-999.000,9,-999.000,9,  -999.0,9,  -999.0,9,-999.000,9,-999.000,9, 20010604,     1855,  -1.3599
18HU20010530,      AR07W,      61,          1,     237113,         10,2,20010604,       1846,    54.4921,   -54.7653,        191,    19.3,   0.4455,  32.1845,2,-999.0000,9,    335.7,2,  -999.0,9, -999.00,9, -999.00,9, -999.00,9,-999.000,9,-999.000,9,-999.000,9,  -999.0,9,  -999.0,9,-999.000,9,-999.000,9, 20010604,     1855,   0.4448
18HU20010530,      AR07W,      61,          1,     237114,         11,2,20010604,       1846,    54.4921,   -54.7653,        191,     9.5,   1.4788,  32.0658,2,  32.0640,2,    345.8,2,   363.8,2,    9.23,6,    5.24,6,    0.78,6,   8.361,2,   4.390,2,   0.561,4,  2050.7,2,  2172.3,2,  12.489,4,  24.368,2, 20010604,     1856,   1.4784
18HU20010530,      AR07W,      61,          1,     237115,         12,2,20010604,       1846,    54.4921,   -54.7653,        191,     9.4,   1.5102,  32.0634,2,-999.0000,9,    347.8,2,  -999.0,9, -999.00,9, -999.00,9, -999.00,9,-999.000,9,-999.000,9,-999.000,9,  -999.0,9,  -999.0,9,-999.000,9,-999.000,9, 20010604,     1856,   1.5098
18HU20010530,      AR07W,      61,          1,     237116,         13,2,20010604,       1846,    54.4921,   -54.7653,        191,     3.2,   1.6032,  32.0256,2,-999.0000,9,    348.5,2,  -999.0,9, -999.00,9, -999.00,9, -999.00,9,-999.000,9,-999.000,9,-999.000,9,  -999.0,9,  -999.0,9,-999.000,9,-999.000,9, 20010604,     1857,   1.6031
18HU20010530,      AR07W,      63,          1,     237117,          1,2,20010604,       2103,    54.7612,   -54.4866,        251,   238.0,   2.6348,  34.5259,2,  34.5361,6,    285.2,2,   292.1,2,   10.38,6,   14.42,6,    1.05,6,   4.844,2,   2.665,2,   0.474,4,  2153.9,2,  2274.4,2,   6.048,2,  16.383,2, 20010604,     2103,   2.6208
18HU20010530,      AR07W,      63,          1,     237118,          2,2,20010604,       2103,    54.7612,   -54.4866,        251,   199.2,   1.4953,  34.1768,2,  34.2258,2,    290.4,2,   299.9,2,    9.90,6,   13.26,6,    0.99,6,   4.717,2,   2.677,2,   0.637,4,  2134.7,2,  2255.8,3,   5.876,2,  15.596,2, 20010604,     2104,   1.4856
18HU20010530,      AR07W,      63,          1,     237119,          3,2,20010604,       2103,    54.7612,   -54.4866,        251,   150.0,  -0.7787,  33.5429,2,  33.5470,2,    308.5,2,   325.4,6,    8.00,6,   10.11,6,    0.89,6,   5.752,2,   2.859,2,   0.777,4,  2106.6,2,  2233.0,2,   6.952,2,  16.747,2, 20010604,     2106,  -0.7829
18HU20010530,      AR07W,      63,          1,     237120,          4,2,20010604,       2103,    54.7612,   -54.4866,        251,   124.8,  -1.2583,  33.3274,2,  33.3617,2,    311.3,2,   327.8,2,    8.12,6,    9.53,6,    0.90,6,   6.131,6,   3.050,6,   0.769,4,  2107.6,2,  2233.2,2,   8.272,6,  20.796,6, 20010604,     2107,  -1.2612
18HU20010530,      AR07W,      63,          1,     237121,          5,2,20010604,       2103,    54.7612,   -54.4866,        251,   100.4,  -1.4032,  33.2220,2,  33.2406,2,    314.4,2,   331.2,2,    7.78,6,    8.51,6,    0.97,6,   6.045,2,   3.215,2,   0.590,4,  2107.6,2,  2225.3,2,   7.812,2,  19.210,2, 20010604,     2108,  -1.4053
18HU20010530,      AR07W,      63,          1,     237122,          6,2,20010604,       2103,    54.7612,   -54.4866,        251,    79.7,  -1.2926,  33.0291,2,-999.0000,9,    313.1,2,  -999.0,9, -999.00,9, -999.00,9, -999.00,9,-999.000,9,-999.000,9,-999.000,9,  -999.0,9,  -999.0,9,-999.000,9,-999.000,9, 20010604,     2109,  -1.2943
18HU20010530,      AR07W,      63,          1,     237123,          7,2,20010604,       2103,    54.7612,   -54.4866,        251,    59.5,  -1.4540,  32.8165,2,-999.0000,9,    310.5,2,  -999.0,9, -999.00,9, -999.00,9, -999.00,9,-999.000,9,-999.000,9,-999.000,9,  -999.0,9,  -999.0,9,-999.000,9,-999.000,9, 20010604,     2110,  -1.4552
18HU20010530,      AR07W,      63,          1,     237124,          8,2,20010604,       2103,    54.7612,   -54.4866,        251,    49.9,  -1.4663,  32.7186,2,  32.7380,2,    313.4,2,   331.6,2,   10.25,6,    8.05,6,    0.98,6,   6.411,2,   3.270,2,   0.691,4,  2111.6,2,  2212.2,2,   8.220,2,  19.169,2, 20010604,     2111,  -1.4673
18HU20010530,      AR07W,      63,          1,     237125,          9,2,20010604,       2103,    54.7612,   -54.4866,        251,    39.6,  -1.4398,  32.6283,2,-999.0000,9,    317.1,2,  -999.0,9, -999.00,9, -999.00,9, -999.00,9,-999.000,9,-999.000,9,-999.000,9,  -999.0,9,  -999.0,9,-999.000,9,-999.000,9, 20010604,     2111,  -1.4406
18HU20010530,      AR07W,      63,          1,     237126,         10,2,20010604,       2103,    54.7612,   -54.4866,        251,    29.8,  -1.2201,  32.5171,2,-999.0000,9,    324.0,2,  -999.0,9, -999.00,9, -999.00,9, -999.00,9,-999.000,9,-999.000,9,-999.000,9,  -999.0,9,  -999.0,9,-999.000,9,-999.000,9, 20010604,     2112,  -1.2207
18HU20010530,      AR07W,      63,          1,     237127,         11,2,20010604,       2103,    54.7612,   -54.4866,        251,    19.6,  -1.0314,  32.4232,2,-999.0000,9,    330.8,2,  -999.0,9, -999.00,9, -999.00,9, -999.00,9,-999.000,9,-999.000,9,-999.000,9,  -999.0,9,  -999.0,9,-999.000,9,-999.000,9, 20010604,     2113,  -1.0318
18HU20010530,      AR07W,      63,          1,     237128,         12,2,20010604,       2103,    54.7612,   -54.4866,        251,     8.8,   1.2173,  32.0783,2,  32.1003,2,    346.7,2,   359.3,2,    9.18,6,    5.03,6,    0.82,6,   6.128,2,   3.398,2,   0.755,4,  2064.9,2,  2171.1,2,   8.907,2,  15.788,2, 20010604,     2114,   1.2169
18HU20010530,      AR07W,      63,          1,     237129,         13,2,20010604,       2103,    54.7612,   -54.4866,        251,     9.0,   1.2245,  32.0656,2,-999.0000,9,    347.0,2,  -999.0,9, -999.00,9, -999.00,9, -999.00,9,-999.000,9,-999.000,9,-999.000,9,  -999.0,9,  -999.0,9,-999.000,9,-999.000,9, 20010604,     2114,   1.2241
18HU20010530,      AR07W,      63,          1,     237130,         14,2,20010604,       2103,    54.7612,   -54.4866,        251,     3.2,   1.1997,  32.0391,2,-999.0000,9,    348.9,2,  -999.0,9, -999.00,9, -999.00,9, -999.00,9,-999.000,9,-999.000,9,-999.000,9,  -999.0,9,  -999.0,9,-999.000,9,-999.000,9, 20010604,     2115,   1.1996
18HU20010530,      AR07W,      65,          1,     237131,          1,2,20010604,       2305,    54.9558,   -54.2885,       1691,   365.8,   3.3211,  34.6686,2,  34.6784,6,    283.3,2,   288.9,2,    9.26,6,   14.16,6,    1.05,6,   4.271,2,   2.302,2,   0.398,4,  2143.1,2,  2287.3,2,   4.628,2,  14.627,2, 20010604,     2305,   3.2971
18HU20010530,      AR07W,      65,          1,     237132,          2,2,20010604,       2305,    54.9558,   -54.2885,       1691,   329.6,   3.3647,  34.6714,2,  34.6820,2,    282.9,2,   288.6,2,    9.14,6,   14.12,6,    1.04,6,   4.187,2,   2.564,2,   0.500,4,  2146.9,2,  2297.3,2,   4.634,2,  13.780,2, 20010604,     2307,   3.3430
18HU20010530,      AR07W,      65,          1,     237133,          3,2,20010604,       2305,    54.9558,   -54.2885,       1691,   288.9,   3.2147,  34.6200,2,  34.6297,2,    280.0,2,   285.9,2,   10.01,6,   14.36,6,    1.04,6,   4.154,2,   2.392,2,   0.536,4,  2146.7,2,  2277.3,2,   4.521,2,  14.491,2, 20010604,     2308,   3.1962
18HU20010530,      AR07W,      65,          1,     237134,          4,2,20010604,       2305,    54.9558,   -54.2885,       1691,   250.1,   2.9443,  34.5435,2,  34.5663,2,    291.8,2,   298.4,2,    8.04,3,   13.41,6,    1.00,6,   4.379,2,   2.772,4,   0.506,4,  2137.8,2,  2278.6,2,   5.125,2,  13.534,2, 20010604,     2309,   2.9289
18HU20010530,      AR07W,      65,          1,     237135,          5,2,20010604,       2305,    54.9558,   -54.2885,       1691,   199.4,   2.1757,  34.3462,2,  34.3629,2,    286.8,2,   294.5,6,    9.64,6,   13.35,6,    1.00,6,   5.372,2,   2.820,2,   0.585,4,  2133.5,2,  2268.4,2,   6.258,2,  16.898,2, 20010604,     2311,   2.1648
18HU20010530,      AR07W,      65,          1,     237136,          6,2,20010604,       2305,    54.9558,   -54.2885,       1691,   149.5,   1.4807,  34.1547,2,  34.1605,2,    289.4,2,   300.1,2,    9.07,6,   12.19,6,    1.03,6,   5.111,6,   2.811,6,   0.524,4,  2126.5,2,  2249.7,2,   5.809,6,  16.083,6, 20010604,     2313,   1.4735
18HU20010530,      AR07W,      65,          1,     237137,          7,2,20010604,       2305,    54.9558,   -54.2885,       1691,   125.2,   0.7859,  33.9327,2,  33.9400,2,    303.4,2,   317.0,2,    7.55,3,    9.81,6,    0.86,6,   4.926,2,   2.875,2,   0.569,4,  2113.6,2,  2250.6,2,   5.702,2,  15.336,2, 20010604,     2313,   0.7807
18HU20010530,      AR07W,      65,          1,     237138,          8,2,20010604,       2305,    54.9558,   -54.2885,       1691,    99.7,  -0.2293,  33.7078,2,  33.7134,2,    297.9,2,   312.4,2,    9.12,6,   10.38,6,    0.95,6,   5.259,2,   3.197,2,   0.597,4,  2125.0,2,  2253.3,2,   6.153,2,  17.824,2, 20010604,     2315,  -0.2325
18HU20010530,      AR07W,      65,          1,     237139,          9,2,20010604,       2305,    54.9558,   -54.2885,       1691,    79.5,  -0.8582,  33.5827,2,-999.0000,9,    302.4,2,  -999.0,9, -999.00,9, -999.00,9, -999.00,9,-999.000,9,-999.000,9,-999.000,9,  -999.0,9,  -999.0,9,-999.000,9,-999.000,9, 20010604,     2316,  -0.8603
18HU20010530,      AR07W,      65,          1,     237140,         10,2,20010604,       2305,    54.9558,   -54.2885,       1691,    59.1,  -1.2006,  33.3983,2,-999.0000,9,    333.8,2,  -999.0,9, -999.00,9, -999.00,9, -999.00,9,-999.000,9,-999.000,9,-999.000,9,  -999.0,9,  -999.0,9,-999.000,9,-999.000,9, 20010604,     2317,  -1.2020
18HU20010530,      AR07W,      65,          1,     237141,         11,2,20010604,       2305,    54.9558,   -54.2885,       1691,    49.9,  -1.1512,  33.3064,2,  33.3297,2,    338.4,2,   356.1,2,    5.16,6,    7.03,6,    0.76,6,   7.028,2,   3.386,2,   0.748,4,  2089.3,2,  2217.9,2,   9.471,2,  19.601,2, 20010604,     2317,  -1.1524
18HU20010530,      AR07W,      65,          1,     237142,         12,2,20010604,       2305,    54.9558,   -54.2885,       1691,    39.8,  -1.1939,  33.2803,2,-999.0000,9,    338.1,2,  -999.0,9, -999.00,9, -999.00,9, -999.00,9,-999.000,9,-999.000,9,-999.000,9,  -999.0,9,  -999.0,9,-999.000,9,-999.000,9, 20010604,     2318,  -1.1948
18HU20010530,      AR07W,      65,          1,     237143,         13,2,20010604,       2305,    54.9558,   -54.2885,       1691,    30.5,  -0.9090,  33.2306,2,-999.0000,9,    345.3,2,  -999.0,9, -999.00,9, -999.00,9, -999.00,9,-999.000,9,-999.000,9,-999.000,9,  -999.0,9,  -999.0,9,-999.000,9,-999.000,9, 20010604,     2319,  -0.9098
18HU20010530,      AR07W,      65,          1,     237144,         14,2,20010604,       2305,    54.9558,   -54.2885,       1691,    19.0,  -1.2756,  32.3319,2,-999.0000,9,    333.6,2,  -999.0,9, -999.00,9, -999.00,9, -999.00,9,-999.000,9,-999.000,9,-999.000,9,  -999.0,9,  -999.0,9,-999.000,9,-999.000,9, 20010604,     2319,  -1.2760
18HU20010530,      AR07W,      65,          1,     237145,         15,2,20010604,       2305,    54.9558,   -54.2885,       1691,     9.2,  -1.2083,  32.0007,2,  31.9769,2,    332.6,2,   350.7,2,    8.25,6,    6.26,6,    0.83,6,   7.063,2,   3.555,2,   0.748,4,  2041.6,2,  2155.7,2,   9.479,2,  20.606,2, 20010604,     2320,  -1.2085
18HU20010530,      AR07W,      65,          1,     237146,         16,2,20010604,       2305,    54.9558,   -54.2885,       1691,     9.1,  -1.1897,  31.9814,2,-999.0000,9,    332.5,2,  -999.0,9, -999.00,9, -999.00,9, -999.00,9,-999.000,9,-999.000,9,-999.000,9,  -999.0,9,  -999.0,9,-999.000,9,-999.000,9, 20010604,     2320,  -1.1899
18HU20010530,      AR07W,      65,          1,     237147,         17,2,20010604,       2305,    54.9558,   -54.2885,       1691,     3.5,  -0.9141,  31.9076,2,-999.0000,9,    333.9,2,  -999.0,9, -999.00,9, -999.00,9, -999.00,9,-999.000,9,-999.000,9,-999.000,9,  -999.0,9,  -999.0,9,-999.000,9,-999.000,9, 20010604,     2321,  -0.9142