BOTTLE,20140827CCHSIOCBG
EXPOCODE,SECT_ID,STNNBR,CASTNO,SAMPNO,BTLNBR,BTLNBR_FLAG_W,DATE,TIME,LATITUDE,LONGITUDE,DEPTH,CTDPRS,CTDTMP,CTDSAL,CTDSAL_FLAG_W,SALNTY,SALNTY_FLAG_W,CTDOXY,CTDOXY_FLAG_W,OXYGEN,OXYGEN_FLAG_W,SILCAT,SILCAT_FLAG_W,NITRAT,NITRAT_FLAG_W,PHSPHT,PHSPHT_FLAG_W,CFC-11,CFC-11_FLAG_W,CFC-12,CFC-12_FLAG_W,CFC113,CFC113_FLAG_W,TCARBN,TCARBN_FLAG_W,ALKALI,ALKALI_FLAG_W,CCL4,CCL4_FLAG_W,MCHFRM,MCHFRM_FLAG_W,BTL_DATE,BTL_TIME,THETA
,,,,,,,,,,,METERS,DBAR,ITS-90,PSS-78,,PSS-78,,UMOL/KG,,UMOL/KG,,UMOL/KG,,UMOL/KG,,UMOL/KG,,PMOL/KG,,PMOL/KG,,PMOL/KG,,UMOL/KG,,UMOL/KG,,PMOL/KG,,PMOL/KG,,,,DEG C
18HU20010530,      AR07W,      34,          1,     237002,          1,2,20010601,       1552,    42.5275,   -61.3997,       2772,  2905.4,   2.6962,  34.9063,2,  34.9186,6,    273.5,2,  -999.0,9,   17.30,6,   17.43,6,    1.31,6,-999.000,9,-999.000,9,-999.000,9,  -999.0,9,  -999.0,9,-999.000,9,-999.000,9, 20010601,     1552,   2.4618
18HU20010530,      AR07W,      34,          1,     237003,          2,2,20010601,       1552,    42.5275,   -61.3997,       2772,  2516.0,   3.0809,  34.9262,2,-999.0000,9,    267.7,2,  -999.0,9,   16.12,6,   17.74,6,    1.26,6,-999.000,9,-999.000,9,-999.000,9,  -999.0,9,  -999.0,9,-999.000,9,-999.000,9, 20010601,     1558,   2.8779
18HU20010530,      AR07W,      34,          1,     237004,          3,2,20010601,       1552,    42.5275,   -61.3997,       2772,  1998.9,   3.3418,  34.9161,2,-999.0000,9,    269.8,2,  -999.0,9,   12.81,6,   17.60,6,    1.23,6,-999.000,9,-999.000,9,-999.000,9,  -999.0,9,  -999.0,9,-999.000,9,-999.000,9, 20010601,     1606,   3.1843
18HU20010530,      AR07W,      34,          1,     237005,          4,2,20010601,       1552,    42.5275,   -61.3997,       2772,  1501.2,   3.6599,  34.9232,2,-999.0000,9,    265.7,2,  -999.0,9,   11.62,6,   17.73,6,    1.23,6,-999.000,9,-999.000,9,-999.000,9,  -999.0,9,  -999.0,9,-999.000,9,-999.000,9, 20010601,     1613,   3.5435
18HU20010530,      AR07W,      34,          1,     237006,          5,2,20010601,       1552,    42.5275,   -61.3997,       2772,  1248.7,   3.8419,  34.9260,2,-999.0000,9,    262.7,2,  -999.0,9,   11.01,6,   17.80,6,    1.21,6,-999.000,9,-999.000,9,-999.000,9,  -999.0,9,  -999.0,9,-999.000,9,-999.000,9, 20010601,     1618,   3.7457
18HU20010530,      AR07W,      34,          1,     237007,          6,2,20010601,       1552,    42.5275,   -61.3997,       2772,   999.0,   4.0060,  34.9299,2,-999.0000,9,    259.4,2,  -999.0,9,   10.98,6,   17.74,6,    1.22,6,-999.000,9,-999.000,9,-999.000,9,  -999.0,9,  -999.0,9,-999.000,9,-999.000,9, 20010601,     1622,   3.9297
18HU20010530,      AR07W,      34,          1,     237008,          7,2,20010601,       1552,    42.5275,   -61.3997,       2772,   748.3,   4.3366,  34.9390,2,-999.0000,9,    251.9,2,  -999.0,9,   10.80,6,   18.21,6,    1.23,6,-999.000,9,-999.000,9,-999.000,9,  -999.0,9,  -999.0,9,-999.000,9,-999.000,9, 20010601,     1626,   4.2789
18HU20010530,      AR07W,      34,          1,     237009,          8,2,20010601,       1552,    42.5275,   -61.3997,       2772,   498.3,   5.6025,  35.0139,2,-999.0000,9,    215.9,2,  -999.0,9,   12.26,6,   19.94,6,    1.35,6,-999.000,9,-999.000,9,-999.000,9,  -999.0,9,  -999.0,9,-999.000,9,-999.000,9, 20010601,     1631,   5.5601
18HU20010530,      AR07W,      34,          1,     237010,          9,2,20010601,       1552,    42.5275,   -61.3997,       2772,   250.1,   6.5212,  34.7237,2,-999.0000,9,    192.1,2,  -999.0,9,   11.93,6,   19.29,6,    1.43,6,-999.000,9,-999.000,9,-999.000,9,  -999.0,9,  -999.0,9,-999.000,9,-999.000,9, 20010601,     1635,   6.4987
18HU20010530,      AR07W,      34,          1,     237011,         10,2,20010601,       1552,    42.5275,   -61.3997,       2772,   198.6,   8.9933,  35.0656,2,-999.0000,9,    165.3,2,  -999.0,9,   11.59,6,   21.32,6,    1.46,6,-999.000,9,-999.000,9,-999.000,9,  -999.0,9,  -999.0,9,-999.000,9,-999.000,9, 20010601,     1637,   8.9717
18HU20010530,      AR07W,      34,          1,     237012,         11,2,20010601,       1552,    42.5275,   -61.3997,       2772,   149.3,   7.6124,  34.6623,2,-999.0000,9,    197.2,2,  -999.0,9,    9.10,6,   16.00,6,    1.19,6,-999.000,9,-999.000,9,-999.000,9,  -999.0,9,  -999.0,9,-999.000,9,-999.000,9, 20010601,     1638,   7.5978
18HU20010530,      AR07W,      34,          1,     237013,         12,2,20010601,       1552,    42.5275,   -61.3997,       2772,    97.9,   5.7597,  33.9581,2,-999.0000,9,    246.1,2,  -999.0,9,    6.24,6,   11.70,6,    1.00,6,-999.000,9,-999.000,9,-999.000,9,  -999.0,9,  -999.0,9,-999.000,9,-999.000,9, 20010601,     1639,   5.7517
18HU20010530,      AR07W,      34,          1,     237014,         13,2,20010601,       1552,    42.5275,   -61.3997,       2772,    79.0,   8.4559,  34.1953,2,-999.0000,9,    258.9,2,  -999.0,9,    2.92,6,    6.62,6,    0.70,6,-999.000,9,-999.000,9,-999.000,9,  -999.0,9,  -999.0,9,-999.000,9,-999.000,9, 20010601,     1640,   8.4478
18HU20010530,      AR07W,      34,          1,     237015,         14,2,20010601,       1552,    42.5275,   -61.3997,       2772,    58.9,  12.4180,  34.8993,2,-999.0000,9,    265.7,2,  -999.0,9,    1.10,6,    1.96,6,    0.39,6,-999.000,9,-999.000,9,-999.000,9,  -999.0,9,  -999.0,9,-999.000,9,-999.000,9, 20010601,     1641,  12.4102
18HU20010530,      AR07W,      34,          1,     237016,         15,2,20010601,       1552,    42.5275,   -61.3997,       2772,    48.8,  14.0557,  35.2316,2,-999.0000,9,    262.4,2,  -999.0,9,    0.56,6,    0.56,6,    0.27,6,-999.000,9,-999.000,9,-999.000,9,  -999.0,9,  -999.0,9,-999.000,9,-999.000,9, 20010601,     1642,  14.0486
18HU20010530,      AR07W,      34,          1,     237017,         16,2,20010601,       1552,    42.5275,   -61.3997,       2772,    38.3,  10.5052,  34.2000,2,-999.0000,9,    287.7,2,  -999.0,9,    3.31,6,    5.97,6,    0.59,6,-999.000,9,-999.000,9,-999.000,9,  -999.0,9,  -999.0,9,-999.000,9,-999.000,9, 20010601,     1643,  10.5007
18HU20010530,      AR07W,      34,          1,     237018,         17,2,20010601,       1552,    42.5275,   -61.3997,       2772,    29.8,   8.9723,  33.6690,2,-999.0000,9,    311.8,2,  -999.0,9, -999.00,9, -999.00,9, -999.00,9,-999.000,9,-999.000,9,-999.000,9,  -999.0,9,  -999.0,9,-999.000,9,-999.000,9, 20010601,     1643,   8.9692
18HU20010530,      AR07W,      34,          1,     237019,         18,2,20010601,       1552,    42.5275,   -61.3997,       2772,    18.4,   7.6638,  32.6965,2,-999.0000,9,    315.2,2,  -999.0,9,    1.10,6,    0.00,6,    0.52,6,-999.000,9,-999.000,9,-999.000,9,  -999.0,9,  -999.0,9,-999.000,9,-999.000,9, 20010601,     1644,   7.6621
18HU20010530,      AR07W,      34,          1,     237020,         19,2,20010601,       1552,    42.5275,   -61.3997,       2772,    10.0,   7.9602,  32.6599,2,-999.0000,9,    309.6,2,  -999.0,9,    0.84,6,    0.00,6,    0.45,6,-999.000,9,-999.000,9,-999.000,9,  -999.0,9,  -999.0,9,-999.000,9,-999.000,9, 20010601,     1645,   7.9592
18HU20010530,      AR07W,      34,          1,     237021,         20,2,20010601,       1552,    42.5275,   -61.3997,       2772,     3.4,   8.1409,  32.6484,2,-999.0000,9,    307.8,2,  -999.0,9,    0.92,6,    0.00,6,    0.43,6,-999.000,9,-999.000,9,-999.000,9,  -999.0,9,  -999.0,9,-999.000,9,-999.000,9, 20010601,     1645,   8.1406
18HU20010530,      AR07W,      39,          1,     237022,          1,2,20010602,       1108,    44.8118,   -60.4596,        182,   101.2,   1.2160,  32.3001,2,-999.0000,9,    296.7,2,  -999.0,9,    7.48,6,    8.10,6,    1.25,6,-999.000,9,-999.000,9,-999.000,9,  -999.0,9,  -999.0,9,-999.000,9,-999.000,9, 20010602,     1108,   1.2117
18HU20010530,      AR07W,      39,          1,     237023,          2,2,20010602,       1108,    44.8118,   -60.4596,        182,    77.2,   1.3243,  32.1938,2,-999.0000,9,    307.1,2,  -999.0,9, -999.00,9, -999.00,9, -999.00,9,-999.000,9,-999.000,9,-999.000,9,  -999.0,9,  -999.0,9,-999.000,9,-999.000,9, 20010602,     1110,   1.3210
18HU20010530,      AR07W,      39,          1,     237024,          3,2,20010602,       1108,    44.8118,   -60.4596,        182,    59.8,   1.7740,  32.0448,2,-999.0000,9,    322.2,2,  -999.0,9,    1.88,6,    3.53,6,    1.00,6,-999.000,9,-999.000,9,-999.000,9,  -999.0,9,  -999.0,9,-999.000,9,-999.000,9, 20010602,     1111,   1.7713
18HU20010530,      AR07W,      39,          1,     237025,          4,2,20010602,       1108,    44.8118,   -60.4596,        182,    49.5,   2.0901,  31.9964,2,-999.0000,9,    336.2,2,  -999.0,9,    0.50,6,    1.45,6,    0.79,6,-999.000,9,-999.000,9,-999.000,9,  -999.0,9,  -999.0,9,-999.000,9,-999.000,9, 20010602,     1112,   2.0877
18HU20010530,      AR07W,      39,          1,     237026,          5,2,20010602,       1108,    44.8118,   -60.4596,        182,    39.8,   2.7836,  31.8354,2,-999.0000,9,    345.2,2,  -999.0,9,    0.16,6,    0.82,6,    0.71,6,-999.000,9,-999.000,9,-999.000,9,  -999.0,9,  -999.0,9,-999.000,9,-999.000,9, 20010602,     1113,   2.7815
18HU20010530,      AR07W,      39,          1,     237027,          6,2,20010602,       1108,    44.8118,   -60.4596,        182,    40.0,   2.7246,  31.8277,2,-999.0000,9,    346.0,2,  -999.0,9,    0.69,6,    0.85,6,    0.49,6,-999.000,9,-999.000,9,-999.000,9,  -999.0,9,  -999.0,9,-999.000,9,-999.000,9, 20010602,     1113,   2.7225
18HU20010530,      AR07W,      39,          1,     237028,          7,2,20010602,       1108,    44.8118,   -60.4596,        182,    30.0,   1.5732,  31.4554,2,-999.0000,9,    355.6,2,  -999.0,9,    0.73,6,    1.17,6,    0.76,6,-999.000,9,-999.000,9,-999.000,9,  -999.0,9,  -999.0,9,-999.000,9,-999.000,9, 20010602,     1115,   1.5719
18HU20010530,      AR07W,      39,          1,     237029,          8,2,20010602,       1108,    44.8118,   -60.4596,        182,    20.5,   2.6140,  31.3025,2,-999.0000,9,    361.7,2,  -999.0,9,    0.00,6,    0.21,6,    0.64,6,-999.000,9,-999.000,9,-999.000,9,  -999.0,9,  -999.0,9,-999.000,9,-999.000,9, 20010602,     1117,   2.6130
18HU20010530,      AR07W,      39,          1,     237030,          9,2,20010602,       1108,    44.8118,   -60.4596,        182,    19.8,   2.7551,  31.2989,2,-999.0000,9,    361.4,2,  -999.0,9,    0.31,6,    0.12,6,    0.38,6,-999.000,9,-999.000,9,-999.000,9,  -999.0,9,  -999.0,9,-999.000,9,-999.000,9, 20010602,     1117,   2.7541
18HU20010530,      AR07W,      39,          1,     237031,         10,2,20010602,       1108,    44.8118,   -60.4596,        182,     9.8,   5.3398,  30.8998,2,-999.0000,9,    348.4,2,  -999.0,9,    0.00,6,    0.16,6,    0.58,6,-999.000,9,-999.000,9,-999.000,9,  -999.0,9,  -999.0,9,-999.000,9,-999.000,9, 20010602,     1118,   5.3391
18HU20010530,      AR07W,      39,          1,     237032,         11,2,20010602,       1108,    44.8118,   -60.4596,        182,     9.8,   5.9699,  30.8953,2,-999.0000,9,    339.8,2,  -999.0,9,    0.34,6,    0.05,6,    0.37,6,-999.000,9,-999.000,9,-999.000,9,  -999.0,9,  -999.0,9,-999.000,9,-999.000,9, 20010602,     1118,   5.9691
18HU20010530,      AR07W,      39,          1,     237033,         12,2,20010602,       1108,    44.8118,   -60.4596,        182,     1.1,   6.7055,  30.8411,2,-999.0000,9,    324.5,2,  -999.0,9,    0.85,6,    0.22,6,    0.56,6,-999.000,9,-999.000,9,-999.000,9,  -999.0,9,  -999.0,9,-999.000,9,-999.000,9, 20010602,     1119,   6.7054
18HU20010530,      AR07W,      44,          1,     237034,          1,2,20010603,       1110,    49.8453,   -58.4510,        173,   150.5,   2.8722,  33.3660,2,-999.0000,9,    206.8,2,  -999.0,9, -999.00,9, -999.00,9, -999.00,9,-999.000,9,-999.000,9,-999.000,9,  -999.0,9,  -999.0,9,-999.000,9,-999.000,9, 20010603,     1110,   2.8635
18HU20010530,      AR07W,      44,          1,     237035,          2,2,20010603,       1110,    49.8453,   -58.4510,        173,    99.5,  -0.0947,  32.4922,2,-999.0000,9,    291.1,2,  -999.0,9,    9.34,6,    8.58,6,    1.12,6,-999.000,9,-999.000,9,-999.000,9,  -999.0,9,  -999.0,9,-999.000,9,-999.000,9, 20010603,     1112,  -0.0978
18HU20010530,      AR07W,      44,          1,     237036,          3,2,20010603,       1110,    49.8453,   -58.4510,        173,    78.8,  -0.5068,  32.2033,2,-999.0000,9,    310.9,2,  -999.0,9,    5.78,6,    6.92,6,    1.01,6,-999.000,9,-999.000,9,-999.000,9,  -999.0,9,  -999.0,9,-999.000,9,-999.000,9, 20010603,     1113,  -0.5089
18HU20010530,      AR07W,      44,          1,     237037,          4,2,20010603,       1110,    49.8453,   -58.4510,        173,    59.1,  -0.0407,  31.9161,2,-999.0000,9,    334.8,2,  -999.0,9,    1.73,6,    3.71,6,    0.90,6,-999.000,9,-999.000,9,-999.000,9,  -999.0,9,  -999.0,9,-999.000,9,-999.000,9, 20010603,     1114,  -0.0425
18HU20010530,      AR07W,      44,          1,     237038,          5,2,20010603,       1110,    49.8453,   -58.4510,        173,    49.8,   0.3881,  31.8785,2,-999.0000,9,    347.4,2,  -999.0,9,    0.00,6,    1.70,6,    0.76,6,-999.000,9,-999.000,9,-999.000,9,  -999.0,9,  -999.0,9,-999.000,9,-999.000,9, 20010603,     1115,   0.3864
18HU20010530,      AR07W,      44,          1,     237039,          6,2,20010603,       1110,    49.8453,   -58.4510,        173,    39.2,   0.5637,  31.8640,2,-999.0000,9,    362.4,2,  -999.0,9,    0.00,6,    0.49,6,    0.63,6,-999.000,9,-999.000,9,-999.000,9,  -999.0,9,  -999.0,9,-999.000,9,-999.000,9, 20010603,     1116,   0.5623
18HU20010530,      AR07W,      44,          1,     237040,          7,2,20010603,       1110,    49.8453,   -58.4510,        173,    39.3,   0.5646,  31.8653,2,-999.0000,9,    365.8,2,  -999.0,9,    0.00,6,    0.49,6,    0.57,6,-999.000,9,-999.000,9,-999.000,9,  -999.0,9,  -999.0,9,-999.000,9,-999.000,9, 20010603,     1116,   0.5632
18HU20010530,      AR07W,      44,          1,     237041,          8,2,20010603,       1110,    49.8453,   -58.4510,        173,    29.6,   0.8386,  31.8431,2,-999.0000,9,    369.5,2,  -999.0,9,    0.00,6,    0.08,6,    0.51,6,-999.000,9,-999.000,9,-999.000,9,  -999.0,9,  -999.0,9,-999.000,9,-999.000,9, 20010603,     1117,   0.8375
18HU20010530,      AR07W,      44,          1,     237042,          9,2,20010603,       1110,    49.8453,   -58.4510,        173,    19.2,   3.9567,  31.6374,2,-999.0000,9,    357.2,2,  -999.0,9,    0.00,6,    0.00,6,    0.43,6,-999.000,9,-999.000,9,-999.000,9,  -999.0,9,  -999.0,9,-999.000,9,-999.000,9, 20010603,     1118,   3.9555
18HU20010530,      AR07W,      44,          1,     237043,         10,2,20010603,       1110,    49.8453,   -58.4510,        173,    19.2,   4.0806,  31.6422,2,-999.0000,9,    350.0,2,  -999.0,9,    0.00,6,    0.14,6,    0.38,6,-999.000,9,-999.000,9,-999.000,9,  -999.0,9,  -999.0,9,-999.000,9,-999.000,9, 20010603,     1118,   4.0794
18HU20010530,      AR07W,      44,          1,     237044,         11,2,20010603,       1110,    49.8453,   -58.4510,        173,     9.1,   6.6092,  31.5012,2,-999.0000,9,    328.6,2,  -999.0,9,    0.00,6,    0.00,6,    0.40,6,-999.000,9,-999.000,9,-999.000,9,  -999.0,9,  -999.0,9,-999.000,9,-999.000,9, 20010603,     1119,   6.6084
18HU20010530,      AR07W,      44,          1,     237045,         12,2,20010603,       1110,    49.8453,   -58.4510,        173,     9.1,   7.0588,  31.4408,2,-999.0000,9,    322.4,2,  -999.0,9,    0.00,6,    0.11,6,    0.34,6,-999.000,9,-999.000,9,-999.000,9,  -999.0,9,  -999.0,9,-999.000,9,-999.000,9, 20010603,     1119,   7.0580
18HU20010530,      AR07W,      44,          1,     237046,         13,2,20010603,       1110,    49.8453,   -58.4510,        173,     1.7,   7.2471,  31.4451,2,-999.0000,9,    317.8,2,  -999.0,9,    0.00,6,    0.00,6,    0.43,6,-999.000,9,-999.000,9,-999.000,9,  -999.0,9,  -999.0,9,-999.000,9,-999.000,9, 20010603,     1120,   7.2469
18HU20010530,      AR07W,      48,          1,     237047,          1,2,20010604,       0936,    53.6779,   -55.5468,        155,   149.9,  -1.1772,  33.1103,2,  33.1198,2,    310.1,2,   326.5,2,   11.38,6,    9.63,6,    1.06,6,   6.666,2,   3.291,2,   0.571,4,  2103.9,2,  2219.6,2,   9.064,2,  21.992,2, 20010604,      936,  -1.1807
18HU20010530,      AR07W,      48,          1,     237048,          2,2,20010604,       0936,    53.6779,   -55.5468,        155,   124.3,  -1.4379,  32.8936,2,-999.0000,9,    311.3,2,   327.1,2,   11.54,6,    9.16,6,    1.04,6,   6.643,2,   3.548,2,   0.521,4,  2108.8,2,  2217.1,3,   9.115,2,  21.732,2, 20010604,      937,  -1.4404
18HU20010530,      AR07W,      48,          1,     237049,          3,2,20010604,       0936,    53.6779,   -55.5468,        155,    99.9,  -1.5326,  32.7038,2,  32.7056,2,    313.0,2,   329.0,6,   11.61,6,    8.59,6,    0.99,6,   6.493,2,   3.489,2,   0.462,4,  2100.6,2,  2210.5,2,   8.776,2,  20.108,2, 20010604,      938,  -1.5345
18HU20010530,      AR07W,      48,          1,     237050,          4,2,20010604,       0936,    53.6779,   -55.5468,        155,    79.8,  -1.6008,  32.6036,2,-999.0000,9,    315.6,2,  -999.0,9, -999.00,9, -999.00,9, -999.00,9,-999.000,9,-999.000,9,-999.000,9,  -999.0,9,  -999.0,9,-999.000,9,-999.000,9, 20010604,      939,  -1.6022
18HU20010530,      AR07W,      48,          1,     237051,          5,2,20010604,       0936,    53.6779,   -55.5468,        155,    59.1,  -1.5700,  32.5462,2,-999.0000,9,    319.9,2,  -999.0,9, -999.00,9, -999.00,9, -999.00,9,-999.000,9,-999.000,9,-999.000,9,  -999.0,9,  -999.0,9,-999.000,9,-999.000,9, 20010604,      940,  -1.5711
18HU20010530,      AR07W,      48,          1,     237052,          6,2,20010604,       0936,    53.6779,   -55.5468,        155,    49.4,  -1.5475,  32.5232,2,  32.5378,2,    321.8,2,   340.6,2,   11.25,6,    7.68,6,    0.96,6,   7.437,6,   3.840,6,   0.592,4,  2096.1,2,  2206.1,2,   9.588,2,  23.163,6, 20010604,      941,  -1.5484
18HU20010530,      AR07W,      48,          1,     237053,          7,2,20010604,       0936,    53.6779,   -55.5468,        155,    40.1,  -1.5088,  32.5043,2,-999.0000,9,    323.9,2,  -999.0,9, -999.00,9, -999.00,9, -999.00,9,-999.000,9,-999.000,9,-999.000,9,  -999.0,9,  -999.0,9,-999.000,9,-999.000,9, 20010604,      942,  -1.5095
18HU20010530,      AR07W,      48,          1,     237054,          8,2,20010604,       0936,    53.6779,   -55.5468,        155,    30.2,  -1.3997,  32.4658,2,-999.0000,9,    325.6,2,  -999.0,9, -999.00,9, -999.00,9, -999.00,9,-999.000,9,-999.000,9,-999.000,9,  -999.0,9,  -999.0,9,-999.000,9,-999.000,9, 20010604,      943,  -1.4003
18HU20010530,      AR07W,      48,          1,     237055,          9,2,20010604,       0936,    53.6779,   -55.5468,        155,    20.1,  -1.3430,  32.4333,2,-999.0000,9,    329.0,2,  -999.0,9, -999.00,9, -999.00,9, -999.00,9,-999.000,9,-999.000,9,-999.000,9,  -999.0,9,  -999.0,9,-999.000,9,-999.000,9, 20010604,      943,  -1.3434
18HU20010530,      AR07W,      48,          1,     237056,         10,2,20010604,       0936,    53.6779,   -55.5468,        155,    10.0,   1.0328,  31.8206,2,  31.9106,2,    345.7,2,   362.6,2,   10.07,6,    4.72,6,    0.78,6,   7.120,2,   3.745,2,   0.625,4,  2047.2,2,  2178.3,2,  10.929,4,  18.585,2, 20010604,      944,   1.0324
18HU20010530,      AR07W,      48,          1,     237057,         11,2,20010604,       0936,    53.6779,   -55.5468,        155,     9.6,   0.9274,  31.8562,2,-999.0000,9,    351.5,2,  -999.0,9, -999.00,9, -999.00,9, -999.00,9,-999.000,9,-999.000,9,-999.000,9,  -999.0,9,  -999.0,9,-999.000,9,-999.000,9, 20010604,      945,   0.9270
18HU20010530,      AR07W,      48,          1,     237058,         12,2,20010604,       0936,    53.6779,   -55.5468,        155,     3.1,   3.4982,  28.2451,3,-999.0000,9,    359.4,2,  -999.0,9, -999.00,9, -999.00,9, -999.00,9,-999.000,9,-999.000,9,-999.000,9,  -999.0,9,  -999.0,9,-999.000,9,-999.000,9, 20010604,      945,-999.0000