BOTTLE,20010424WHPSIOKJU
EXPOCODE,SECT_ID,STNNBR,CASTNO,SAMPNO,BTLNBR,BTLNBR_FLAG_W,DATE,TIME,LATITUDE,LONGITUDE,DEPTH,CTDPRS,CTDTMP,CTDSAL,CTDSAL_FLAG_W,SALNTY,SALNTY_FLAG_W,CTDOXY,CTDOXY_FLAG_W,OXYGEN,OXYGEN_FLAG_W
,,,,,,,,,,,,DBAR,ITS-90,PSS-78,,PSS-78,,UMOL/KG,,UMOL/KG,
   33KMGP498_1,  PR15,    11,  1,     12,     12,2,19980711,2202, -1.9300, 164.4200, 4432,      3.0,  29.4687,  34.4647,2,  34.4647,2,   -999.0,9,   -999.0,9
   33KMGP498_1,  PR15,    11,  1,     11,     11,2,19980711,2202, -1.9300, 164.4200, 4432,      9.7,  29.4605,  34.4619,2,  34.4628,2,   -999.0,9,   -999.0,9
   33KMGP498_1,  PR15,    11,  1,     10,     10,2,19980711,2202, -1.9300, 164.4200, 4432,     24.8,  29.4178,  34.5080,2,  34.5094,2,   -999.0,9,   -999.0,9
   33KMGP498_1,  PR15,    11,  1,      9,      9,2,19980711,2202, -1.9300, 164.4200, 4432,     40.6,  29.0376,  34.7063,2,  34.7059,2,   -999.0,9,   -999.0,9
   33KMGP498_1,  PR15,    11,  1,      8,      8,2,19980711,2202, -1.9300, 164.4200, 4432,     59.9,  28.9814,  34.7317,2,  34.7316,2,   -999.0,9,   -999.0,9
   33KMGP498_1,  PR15,    11,  1,      7,      7,2,19980711,2202, -1.9300, 164.4200, 4432,    101.6,  25.0100,  35.6133,2,  35.6177,2,   -999.0,9,   -999.0,9
   33KMGP498_1,  PR15,    11,  1,      6,      6,2,19980711,2202, -1.9300, 164.4200, 4432,    150.2,  17.3445,  35.4355,2,  35.4399,2,   -999.0,9,   -999.0,9
   33KMGP498_1,  PR15,    11,  1,      5,      5,2,19980711,2202, -1.9300, 164.4200, 4432,    200.0,  13.7190,  35.0818,2,  35.0826,2,   -999.0,9,   -999.0,9
   33KMGP498_1,  PR15,    11,  1,      4,      4,2,19980711,2202, -1.9300, 164.4200, 4432,    400.3,   9.6341,  34.7034,2,  34.7025,2,   -999.0,9,   -999.0,9
   33KMGP498_1,  PR15,    11,  1,      3,      3,2,19980711,2202, -1.9300, 164.4200, 4432,    600.9,   6.8038,  34.5536,2,  34.5539,2,   -999.0,9,   -999.0,9
   33KMGP498_1,  PR15,    11,  1,      2,      2,2,19980711,2202, -1.9300, 164.4200, 4432,    799.7,   5.2009,  34.5271,2,  34.5265,2,   -999.0,9,   -999.0,9
   33KMGP498_1,  PR15,    11,  1,      1,      1,2,19980711,2202, -1.9300, 164.4200, 4432,   1008.6,   4.3029,  34.5548,2,  34.5539,2,   -999.0,9,   -999.0,9
   33KMGP498_1,  PR15,    12,  1,     12,     12,2,19980712,1705, -2.9900, 164.7000, 3635,      3.3,  29.2995,  34.0902,2,  34.0896,2,   -999.0,9,   -999.0,9
   33KMGP498_1,  PR15,    12,  1,     11,     11,2,19980712,1705, -2.9900, 164.7000, 3635,      9.7,  29.3561,  34.1420,2,  34.1314,2,   -999.0,9,   -999.0,9
   33KMGP498_1,  PR15,    12,  1,     10,     10,2,19980712,1705, -2.9900, 164.7000, 3635,     24.8,  29.3707,  34.1507,2,  34.1479,2,   -999.0,9,   -999.0,9
   33KMGP498_1,  PR15,    12,  1,      9,      9,2,19980712,1705, -2.9900, 164.7000, 3635,     39.3,  29.3812,  34.1556,2,  34.1561,2,   -999.0,9,   -999.0,9
   33KMGP498_1,  PR15,    12,  1,      8,      8,2,19980712,1705, -2.9900, 164.7000, 3635,     58.3,  29.3938,  34.1736,2,  34.1670,2,   -999.0,9,   -999.0,9
   33KMGP498_1,  PR15,    12,  1,      7,      7,2,19980712,1705, -2.9900, 164.7000, 3635,    100.4,  26.1677,  35.4149,2,  35.3906,2,   -999.0,9,   -999.0,9
   33KMGP498_1,  PR15,    12,  1,      6,      6,2,19980712,1705, -2.9900, 164.7000, 3635,    149.4,  20.8671,  35.7303,2,  35.7333,2,   -999.0,9,   -999.0,9
   33KMGP498_1,  PR15,    12,  1,      5,      5,2,19980712,1705, -2.9900, 164.7000, 3635,    200.5,  15.8927,  35.2912,2,  35.2921,2,   -999.0,9,   -999.0,9
   33KMGP498_1,  PR15,    12,  1,      4,      4,2,19980712,1705, -2.9900, 164.7000, 3635,    401.0,   9.0413,  34.6733,2,  34.7025,2,   -999.0,9,   -999.0,9
   33KMGP498_1,  PR15,    12,  1,      3,      3,2,19980712,1705, -2.9900, 164.7000, 3635,    600.7,   7.1268,  34.5655,2,  34.5650,2,   -999.0,9,   -999.0,9
   33KMGP498_1,  PR15,    12,  1,      2,      2,2,19980712,1705, -2.9900, 164.7000, 3635,    800.7,   5.4454,  34.5382,2,  34.5358,2,   -999.0,9,   -999.0,9
   33KMGP498_1,  PR15,    12,  1,      1,      1,2,19980712,1705, -2.9900, 164.7000, 3635,   1014.2,   4.3588,  34.5476,2,  34.5459,2,   -999.0,9,   -999.0,9
   33KMGP498_1,  PR15,    13,  1,     12,     12,2,19980713,0056, -4.0000, 164.9500, 3249,      9.9,  29.2582,  34.1479,2,  34.1482,2,   -999.0,9,   -999.0,9
   33KMGP498_1,  PR15,    13,  1,     11,     11,2,19980713,0056, -4.0000, 164.9500, 3249,     26.3,  29.2500,  34.1472,2,  34.1473,2,   -999.0,9,   -999.0,9
   33KMGP498_1,  PR15,    13,  1,     10,     10,2,19980713,0056, -4.0000, 164.9500, 3249,     39.7,  29.2481,  34.1473,2,  34.1473,2,   -999.0,9,   -999.0,9
   33KMGP498_1,  PR15,    13,  1,      9,      9,2,19980713,0056, -4.0000, 164.9500, 3249,     61.0,  29.3047,  34.5870,2,  34.5305,2,   -999.0,9,   -999.0,9
   33KMGP498_1,  PR15,    13,  1,      8,      8,2,19980713,0056, -4.0000, 164.9500, 3249,    101.6,  27.3964,  35.1593,2,  35.1522,2,   -999.0,9,   -999.0,9
   33KMGP498_1,  PR15,    13,  1,      7,      7,2,19980713,0056, -4.0000, 164.9500, 3249,    150.3,  19.6278,  35.6340,2,  35.6446,2,   -999.0,9,   -999.0,9
   33KMGP498_1,  PR15,    13,  1,      6,      6,2,19980713,0056, -4.0000, 164.9500, 3249,    199.3,  14.3733,  35.1440,2,  35.1477,2,   -999.0,9,   -999.0,9
   33KMGP498_1,  PR15,    13,  1,      5,      5,2,19980713,0056, -4.0000, 164.9500, 3249,    298.6,  10.2249,  34.7614,2,  32.8003,2,   -999.0,9,   -999.0,9
   33KMGP498_1,  PR15,    13,  1,      4,      4,2,19980713,0056, -4.0000, 164.9500, 3249,    399.7,   8.8774,  34.6660,2,  34.6651,2,   -999.0,9,   -999.0,9
   33KMGP498_1,  PR15,    13,  1,      3,      3,2,19980713,0056, -4.0000, 164.9500, 3249,    601.1,   6.5580,  34.5593,2,  34.5594,2,   -999.0,9,   -999.0,9
   33KMGP498_1,  PR15,    13,  1,      2,      2,2,19980713,0056, -4.0000, 164.9500, 3249,    800.0,   5.1822,  34.5361,2,  34.5374,2,   -999.0,9,   -999.0,9
   33KMGP498_1,  PR15,    13,  1,      1,      1,2,19980713,0056, -4.0000, 164.9500, 3249,   1002.6,   4.2693,  34.5497,2,  34.5495,2,   -999.0,9,   -999.0,9
   33KMGP498_1,  PR15,    14,  1,     12,     12,2,19980713,0920, -5.0300, 165.1900, 2479,      1.7,  29.2062,  34.2317,2,  34.2308,2,   -999.0,9,   -999.0,9
   33KMGP498_1,  PR15,    14,  1,     11,     11,2,19980713,0920, -5.0300, 165.1900, 2479,     10.7,  29.2087,  34.2306,2,  34.2307,2,   -999.0,9,   -999.0,9
   33KMGP498_1,  PR15,    14,  1,     10,     10,2,19980713,0920, -5.0300, 165.1900, 2479,     24.9,  29.1698,  34.2427,2,  34.2430,2,   -999.0,9,   -999.0,9
   33KMGP498_1,  PR15,    14,  1,      9,      9,2,19980713,0920, -5.0300, 165.1900, 2479,     40.0,  29.1716,  34.2475,2,  34.2472,2,   -999.0,9,   -999.0,9
   33KMGP498_1,  PR15,    14,  1,      8,      8,2,19980713,0920, -5.0300, 165.1900, 2479,     60.6,  29.1035,  34.4724,2,  34.4548,2,   -999.0,9,   -999.0,9
   33KMGP498_1,  PR15,    14,  1,      7,      7,2,19980713,0920, -5.0300, 165.1900, 2479,    101.2,  26.2278,  35.3896,2,  35.3963,2,   -999.0,9,   -999.0,9
   33KMGP498_1,  PR15,    14,  1,      6,      6,2,19980713,0920, -5.0300, 165.1900, 2479,    149.8,  20.2870,  35.6728,2,  35.6679,2,   -999.0,9,   -999.0,9
   33KMGP498_1,  PR15,    14,  1,      5,      5,2,19980713,0920, -5.0300, 165.1900, 2479,    199.9,  14.1451,  35.1290,2,  35.1400,2,   -999.0,9,   -999.0,9
   33KMGP498_1,  PR15,    14,  1,      4,      4,2,19980713,0920, -5.0300, 165.1900, 2479,    400.4,   9.0090,  34.6711,2,  34.6709,2,   -999.0,9,   -999.0,9
   33KMGP498_1,  PR15,    14,  1,      3,      3,2,19980713,0920, -5.0300, 165.1900, 2479,    599.1,   7.0034,  34.5713,2,  34.5709,2,   -999.0,9,   -999.0,9
   33KMGP498_1,  PR15,    14,  1,      2,      2,2,19980713,0920, -5.0300, 165.1900, 2479,    800.9,   5.6354,  34.5180,2,  34.5186,2,   -999.0,9,   -999.0,9
   33KMGP498_1,  PR15,    14,  1,      1,      1,2,19980713,0920, -5.0300, 165.1900, 2479,   1003.5,   4.6317,  34.5305,2,  34.5304,2,   -999.0,9,   -999.0,9
   33KMGP498_1,  PR15,    15,  1,     12,     12,2,19980713,1555, -6.0000, 165.0800, 3609,      2.7,  29.0577,  34.2146,2,  34.2132,2,   -999.0,9,   -999.0,9
   33KMGP498_1,  PR15,    15,  1,     11,     11,2,19980713,1555, -6.0000, 165.0800, 3609,     15.3,  29.0614,  34.2142,2,  34.2148,2,   -999.0,9,   -999.0,9
   33KMGP498_1,  PR15,    15,  1,     10,     10,2,19980713,1555, -6.0000, 165.0800, 3609,     24.7,  29.0727,  34.2138,2,  34.2136,2,   -999.0,9,   -999.0,9
   33KMGP498_1,  PR15,    15,  1,      9,      9,2,19980713,1555, -6.0000, 165.0800, 3609,     40.5,  29.0715,  34.2120,2,  34.2113,2,   -999.0,9,   -999.0,9
   33KMGP498_1,  PR15,    15,  1,      8,      8,2,19980713,1555, -6.0000, 165.0800, 3609,     60.3,  28.9506,  34.5192,2,  34.4442,2,   -999.0,9,   -999.0,9
   33KMGP498_1,  PR15,    15,  1,      7,      7,2,19980713,1555, -6.0000, 165.0800, 3609,    100.0,  25.7751,  35.4459,2,  35.4385,2,   -999.0,9,   -999.0,9
   33KMGP498_1,  PR15,    15,  1,      6,      6,2,19980713,1555, -6.0000, 165.0800, 3609,    151.1,  19.9953,  35.6559,2,  35.6579,2,   -999.0,9,   -999.0,9
   33KMGP498_1,  PR15,    15,  1,      5,      5,2,19980713,1555, -6.0000, 165.0800, 3609,    201.3,  14.2717,  35.1412,2,  35.1452,2,   -999.0,9,   -999.0,9
   33KMGP498_1,  PR15,    15,  1,      4,      4,2,19980713,1555, -6.0000, 165.0800, 3609,    399.5,   8.9183,  34.6649,2,  34.6631,2,   -999.0,9,   -999.0,9
   33KMGP498_1,  PR15,    15,  1,      3,      3,2,19980713,1555, -6.0000, 165.0800, 3609,    600.2,   6.6944,  34.5356,2,  34.5362,2,   -999.0,9,   -999.0,9
   33KMGP498_1,  PR15,    15,  1,      2,      2,2,19980713,1555, -6.0000, 165.0800, 3609,    799.7,   5.4714,  34.5203,2,  34.5204,2,   -999.0,9,   -999.0,9
   33KMGP498_1,  PR15,    15,  1,      1,      1,2,19980713,1555, -6.0000, 165.0800, 3609,   1000.8,   4.3100,  34.5411,2,  34.5415,2,   -999.0,9,   -999.0,9
   33KMGP498_1,  PR15,    16,  1,     10,     10,2,19980713,2235, -7.0000, 164.9700, 3727,     25.5,  28.9938,  34.2845,2,  34.2853,2,   -999.0,9,   -999.0,9
   33KMGP498_1,  PR15,    16,  1,      9,      9,2,19980713,2235, -7.0000, 164.9700, 3727,     41.0,  28.8231,  34.4425,2,  34.2858,2,   -999.0,9,   -999.0,9
   33KMGP498_1,  PR15,    16,  1,      8,      8,2,19980713,2235, -7.0000, 164.9700, 3727,     59.2,  28.0919,  34.7843,2,  34.7816,2,   -999.0,9,   -999.0,9
   33KMGP498_1,  PR15,    16,  1,      7,      7,2,19980713,2235, -7.0000, 164.9700, 3727,     98.1,  25.1722,  35.5607,2,  35.5353,2,   -999.0,9,   -999.0,9
   33KMGP498_1,  PR15,    16,  1,      6,      6,2,19980713,2235, -7.0000, 164.9700, 3727,    150.7,  20.3811,  35.6849,2,  35.6884,2,   -999.0,9,   -999.0,9
   33KMGP498_1,  PR15,    16,  1,      5,      5,2,19980713,2235, -7.0000, 164.9700, 3727,    199.5,  16.9398,  35.3902,2,  35.3954,2,   -999.0,9,   -999.0,9
   33KMGP498_1,  PR15,    16,  1,      4,      4,2,19980713,2235, -7.0000, 164.9700, 3727,    399.1,   8.2405,  34.6200,2,  34.6215,2,   -999.0,9,   -999.0,9
   33KMGP498_1,  PR15,    16,  1,      3,      3,2,19980713,2235, -7.0000, 164.9700, 3727,    599.7,   6.2509,  34.5211,2,  34.5214,2,   -999.0,9,   -999.0,9
   33KMGP498_1,  PR15,    16,  1,      2,      2,2,19980713,2235, -7.0000, 164.9700, 3727,    799.1,   5.1478,  34.5171,2,  34.5167,2,   -999.0,9,   -999.0,9
   33KMGP498_1,  PR15,    16,  1,      1,      1,2,19980713,2235, -7.0000, 164.9700, 3727,   1002.9,   4.3757,  34.5385,2,  34.5387,2,   -999.0,9,   -999.0,9
   33KMGP498_1,  PR15,    17,  1,     12,     12,2,19980714,1050, -8.0400, 164.8200, 3901,      3.2,  28.7025,  34.2299,2,  34.2296,2,   -999.0,9,   -999.0,9
   33KMGP498_1,  PR15,    17,  1,     11,     11,2,19980714,1050, -8.0400, 164.8200, 3901,     10.4,  28.6915,  34.2313,2,  34.2303,2,   -999.0,9,   -999.0,9
   33KMGP498_1,  PR15,    17,  1,     10,     10,2,19980714,1050, -8.0400, 164.8200, 3901,     24.0,  28.5724,  34.2570,2,  34.2523,2,   -999.0,9,   -999.0,9
   33KMGP498_1,  PR15,    17,  1,      9,      9,2,19980714,1050, -8.0400, 164.8200, 3901,     40.7,  28.4913,  34.5273,2,  34.5246,2,   -999.0,9,   -999.0,9
   33KMGP498_1,  PR15,    17,  1,      8,      8,2,19980714,1050, -8.0400, 164.8200, 3901,     60.7,  27.8097,  34.8714,2,  34.8680,2,   -999.0,9,   -999.0,9
   33KMGP498_1,  PR15,    17,  1,      7,      7,2,19980714,1050, -8.0400, 164.8200, 3901,    100.1,  25.1864,  35.4813,2,  35.4727,2,   -999.0,9,   -999.0,9
   33KMGP498_1,  PR15,    17,  1,      6,      6,2,19980714,1050, -8.0400, 164.8200, 3901,    149.9,  21.0101,  35.7075,2,  35.7026,2,   -999.0,9,   -999.0,9
   33KMGP498_1,  PR15,    17,  1,      5,      5,2,19980714,1050, -8.0400, 164.8200, 3901,    201.6,  16.5546,  35.3658,2,  35.3677,2,   -999.0,9,   -999.0,9
   33KMGP498_1,  PR15,    17,  1,      4,      4,2,19980714,1050, -8.0400, 164.8200, 3901,    399.1,   7.9911,  34.6016,2,  34.6024,2,   -999.0,9,   -999.0,9
   33KMGP498_1,  PR15,    17,  1,      3,      3,2,19980714,1050, -8.0400, 164.8200, 3901,    599.7,   6.3079,  34.5228,2,  34.5240,2,   -999.0,9,   -999.0,9
   33KMGP498_1,  PR15,    17,  1,      2,      2,2,19980714,1050, -8.0400, 164.8200, 3901,    799.7,   5.0731,  34.5045,2,  34.5048,2,   -999.0,9,   -999.0,9
   33KMGP498_1,  PR15,    17,  1,      1,      1,2,19980714,1050, -8.0400, 164.8200, 3901,   1002.1,   4.1860,  34.5268,2,  34.5267,2,   -999.0,9,   -999.0,9