BOTTLE,20010424WHPSIOKJU
#code : jjward hyd_to_exchange.pl 
#original files copied from HTML directory: 20010424
#original HYD file: pr15_eehy.txt   Mon Sep 18 12:26:04 2000
#original SUM file: pr15_eesu.txt   Mon Sep 18 12:26:13 2000
EXPOCODE,SECT_ID,STNNBR,CASTNO,SAMPNO,BTLNBR,BTLNBR_FLAG_W,DATE,TIME,LATITUDE,LONGITUDE,DEPTH,CTDPRS,CTDTMP,CTDSAL,CTDSAL_FLAG_W,SALNTY,SALNTY_FLAG_W,CTDOXY,CTDOXY_FLAG_W,OXYGEN,OXYGEN_FLAG_W
,,,,,,,,,,,,DBAR,ITS-90,PSS-78,,PSS-78,,UMOL/KG,,UMOL/KG,
   33KMGP498_1,  PR15,     1,  1,     12,     12,2,19980708,0428,  8.0200, 165.0500, 5215,      2.1,  28.6066,  34.3260,2,  34.2480,2,   -999.0,9,   -999.0,9
   33KMGP498_1,  PR15,     1,  1,     11,     11,2,19980708,0428,  8.0200, 165.0500, 5215,     10.0,  28.6979,  34.4415,2,  34.4296,2,   -999.0,9,   -999.0,9
   33KMGP498_1,  PR15,     1,  1,     10,     10,2,19980708,0428,  8.0200, 165.0500, 5215,     25.6,  28.8032,  34.5566,2,  34.5558,2,   -999.0,9,   -999.0,9
   33KMGP498_1,  PR15,     1,  1,      9,      9,2,19980708,0428,  8.0200, 165.0500, 5215,     39.5,  28.8023,  34.5563,2,  34.5556,2,   -999.0,9,   -999.0,9
   33KMGP498_1,  PR15,     1,  1,      8,      8,2,19980708,0428,  8.0200, 165.0500, 5215,     59.0,  28.7546,  34.6005,2,  34.5993,2,   -999.0,9,   -999.0,9
   33KMGP498_1,  PR15,     1,  1,      7,      7,2,19980708,0428,  8.0200, 165.0500, 5215,    100.7,  28.5485,  34.7718,2,  34.7797,2,   -999.0,9,   -999.0,9
   33KMGP498_1,  PR15,     1,  1,      6,      6,2,19980708,0428,  8.0200, 165.0500, 5215,    150.7,  21.1972,  34.7410,2,  34.7525,2,   -999.0,9,   -999.0,9
   33KMGP498_1,  PR15,     1,  1,      5,      5,2,19980708,0428,  8.0200, 165.0500, 5215,    200.1,  13.6107,  34.5186,2,  34.5241,2,   -999.0,9,   -999.0,9
   33KMGP498_1,  PR15,     1,  1,      4,      4,2,19980708,0428,  8.0200, 165.0500, 5215,    400.4,   8.9560,  34.6209,2,  34.6201,2,   -999.0,9,   -999.0,9
   33KMGP498_1,  PR15,     1,  1,      3,      3,2,19980708,0428,  8.0200, 165.0500, 5215,    600.7,   6.9433,  34.5476,2,  34.5472,2,   -999.0,9,   -999.0,9
   33KMGP498_1,  PR15,     1,  1,      2,      2,2,19980708,0428,  8.0200, 165.0500, 5215,    800.8,   5.5859,  34.5367,2,  34.5600,2,   -999.0,9,   -999.0,9
   33KMGP498_1,  PR15,     1,  1,      1,      1,2,19980708,0428,  8.0200, 165.0500, 5215,   1006.6,   4.6411,  34.5517,2,  34.5515,2,   -999.0,9,   -999.0,9
   33KMGP498_1,  PR15,     2,  1,     11,     11,2,19980708,1210,  7.0000, 165.0100, 5157,     10.1,  28.7022,  34.4370,2,  34.4415,2,   -999.0,9,   -999.0,9
   33KMGP498_1,  PR15,     2,  1,     10,     10,2,19980708,1210,  7.0000, 165.0100, 5157,     25.0,  28.8810,  34.5531,2,  34.5539,2,   -999.0,9,   -999.0,9
   33KMGP498_1,  PR15,     2,  1,      8,      8,2,19980708,1210,  7.0000, 165.0100, 5157,     58.8,  28.8187,  34.5706,2,  34.5706,2,   -999.0,9,   -999.0,9
   33KMGP498_1,  PR15,     2,  1,      7,      7,2,19980708,1210,  7.0000, 165.0100, 5157,    100.5,  28.6852,  34.6440,2,  34.6491,2,   -999.0,9,   -999.0,9
   33KMGP498_1,  PR15,     2,  1,      6,      6,2,19980708,1210,  7.0000, 165.0100, 5157,    149.9,  21.8363,  34.7409,2,  34.7478,2,   -999.0,9,   -999.0,9
   33KMGP498_1,  PR15,     2,  1,      5,      5,2,19980708,1210,  7.0000, 165.0100, 5157,    200.4,  13.2811,  34.5475,2,  34.5514,2,   -999.0,9,   -999.0,9
   33KMGP498_1,  PR15,     2,  1,      4,      4,2,19980708,1210,  7.0000, 165.0100, 5157,    400.3,   8.8708,  34.6200,2,  34.6197,2,   -999.0,9,   -999.0,9
   33KMGP498_1,  PR15,     2,  1,      3,      3,2,19980708,1210,  7.0000, 165.0100, 5157,    599.6,   7.3231,  34.5614,2,  34.5618,2,   -999.0,9,   -999.0,9
   33KMGP498_1,  PR15,     2,  1,      2,      2,2,19980708,1210,  7.0000, 165.0100, 5157,    799.5,   5.7520,  34.5398,2,  34.5415,2,   -999.0,9,   -999.0,9
   33KMGP498_1,  PR15,     2,  1,      1,      1,2,19980708,1210,  7.0000, 165.0100, 5157,   1004.1,   4.6339,  34.5514,2,  34.5515,2,   -999.0,9,   -999.0,9
   33KMGP498_1,  PR15,     3,  1,     12,     12,2,19980708,1858,  6.0000, 165.0100, 5005,      3.3,  28.8889,  34.5892,2,  34.5904,2,   -999.0,9,   -999.0,9
   33KMGP498_1,  PR15,     3,  1,     11,     11,2,19980708,1858,  6.0000, 165.0100, 5005,      9.8,  28.8847,  34.5876,2,  34.5877,2,   -999.0,9,   -999.0,9
   33KMGP498_1,  PR15,     3,  1,     10,     10,2,19980708,1858,  6.0000, 165.0100, 5005,     24.7,  28.9005,  34.5894,2,  34.5913,2,   -999.0,9,   -999.0,9
   33KMGP498_1,  PR15,     3,  1,      9,      9,2,19980708,1858,  6.0000, 165.0100, 5005,     39.7,  28.9556,  34.6804,2,  34.6799,2,   -999.0,9,   -999.0,9
   33KMGP498_1,  PR15,     3,  1,      8,      8,2,19980708,1858,  6.0000, 165.0100, 5005,     60.5,  28.7100,  34.7491,2,  34.7398,2,   -999.0,9,   -999.0,9
   33KMGP498_1,  PR15,     3,  1,      7,      7,2,19980708,1858,  6.0000, 165.0100, 5005,    100.5,  28.3951,  34.8090,2,  34.8123,2,   -999.0,9,   -999.0,9
   33KMGP498_1,  PR15,     3,  1,      6,      6,2,19980708,1858,  6.0000, 165.0100, 5005,    149.8,  21.2177,  34.7873,2,  34.7905,2,   -999.0,9,   -999.0,9
   33KMGP498_1,  PR15,     3,  1,      5,      5,2,19980708,1858,  6.0000, 165.0100, 5005,    199.3,  12.9198,  34.5387,2,  34.5410,2,   -999.0,9,   -999.0,9
   33KMGP498_1,  PR15,     3,  1,      4,      4,2,19980708,1858,  6.0000, 165.0100, 5005,    399.2,   8.5900,  34.6156,2,  34.6155,2,   -999.0,9,   -999.0,9
   33KMGP498_1,  PR15,     3,  1,      3,      3,2,19980708,1858,  6.0000, 165.0100, 5005,    600.2,   7.1575,  34.5640,2,  34.5646,2,   -999.0,9,   -999.0,9
   33KMGP498_1,  PR15,     3,  1,      2,      2,2,19980708,1858,  6.0000, 165.0100, 5005,    799.9,   5.8444,  34.5379,2,  34.5390,2,   -999.0,9,   -999.0,9
   33KMGP498_1,  PR15,     3,  1,      1,      1,2,19980708,1858,  6.0000, 165.0100, 5005,   1002.7,   4.6297,  34.5521,2,  34.5528,2,   -999.0,9,   -999.0,9
   33KMGP498_1,  PR15,     4,  1,     12,     12,2,19980709,0906,  5.0100, 165.0000, 4780,      3.0,  28.9445,  34.6906,2,  34.6900,2,   -999.0,9,   -999.0,9
   33KMGP498_1,  PR15,     4,  1,     11,     11,2,19980709,0906,  5.0100, 165.0000, 4780,      9.6,  28.9527,  34.6892,2,  34.6887,2,   -999.0,9,   -999.0,9
   33KMGP498_1,  PR15,     4,  1,     10,     10,2,19980709,0906,  5.0100, 165.0000, 4780,     24.5,  28.9086,  34.6950,2,  34.6966,2,   -999.0,9,   -999.0,9
   33KMGP498_1,  PR15,     4,  1,      9,      9,2,19980709,0906,  5.0100, 165.0000, 4780,     39.0,  28.8628,  34.6973,2,  34.6972,2,   -999.0,9,   -999.0,9
   33KMGP498_1,  PR15,     4,  1,      8,      8,2,19980709,0906,  5.0100, 165.0000, 4780,     61.0,  28.8202,  34.7119,2,  34.7126,2,   -999.0,9,   -999.0,9
   33KMGP498_1,  PR15,     4,  1,      7,      7,2,19980709,0906,  5.0100, 165.0000, 4780,    100.0,  28.2652,  34.8015,2,  34.8055,2,   -999.0,9,   -999.0,9
   33KMGP498_1,  PR15,     4,  1,      6,      6,2,19980709,0906,  5.0100, 165.0000, 4780,    148.5,  19.9162,  34.7755,2,  34.7850,2,   -999.0,9,   -999.0,9
   33KMGP498_1,  PR15,     4,  1,      5,      5,2,19980709,0906,  5.0100, 165.0000, 4780,    199.1,  12.9754,  34.5350,2,  34.5410,2,   -999.0,9,   -999.0,9
   33KMGP498_1,  PR15,     4,  1,      4,      4,2,19980709,0906,  5.0100, 165.0000, 4780,    399.7,   8.5422,  34.6143,2,  34.6130,2,   -999.0,9,   -999.0,9
   33KMGP498_1,  PR15,     4,  1,      3,      3,2,19980709,0906,  5.0100, 165.0000, 4780,    600.2,   7.0675,  34.5639,2,  34.5642,2,   -999.0,9,   -999.0,9
   33KMGP498_1,  PR15,     4,  1,      2,      2,2,19980709,0906,  5.0100, 165.0000, 4780,    799.2,   5.6314,  34.5412,2,  34.5408,2,   -999.0,9,   -999.0,9
   33KMGP498_1,  PR15,     4,  1,      1,      1,2,19980709,0906,  5.0100, 165.0000, 4780,   1010.0,   4.3884,  34.5579,2,  34.5564,2,   -999.0,9,   -999.0,9
   33KMGP498_1,  PR15,     5,  1,     11,     11,2,19980709,1622,  4.0000, 164.9800, 4498,      9.7,  28.9375,  34.6828,2,  34.6815,2,   -999.0,9,   -999.0,9
   33KMGP498_1,  PR15,     5,  1,     10,     10,2,19980709,1622,  4.0000, 164.9800, 4498,     25.0,  28.8606,  34.7307,2,  34.7282,2,   -999.0,9,   -999.0,9
   33KMGP498_1,  PR15,     5,  1,      9,      9,2,19980709,1622,  4.0000, 164.9800, 4498,     40.4,  28.7069,  34.8043,2,  34.8038,2,   -999.0,9,   -999.0,9
   33KMGP498_1,  PR15,     5,  1,      8,      8,2,19980709,1622,  4.0000, 164.9800, 4498,     61.1,  28.6584,  34.8004,2,  34.8010,2,   -999.0,9,   -999.0,9
   33KMGP498_1,  PR15,     5,  1,      7,      7,2,19980709,1622,  4.0000, 164.9800, 4498,    100.2,  24.9248,  34.7530,2,  34.7516,2,   -999.0,9,   -999.0,9
   33KMGP498_1,  PR15,     5,  1,      6,      6,2,19980709,1622,  4.0000, 164.9800, 4498,    148.9,  20.2022,  34.9014,2,  34.9025,2,   -999.0,9,   -999.0,9
   33KMGP498_1,  PR15,     5,  1,      5,      5,2,19980709,1622,  4.0000, 164.9800, 4498,    200.2,  12.2119,  34.5060,2,  34.5059,2,   -999.0,9,   -999.0,9
   33KMGP498_1,  PR15,     5,  1,      4,      4,2,19980709,1622,  4.0000, 164.9800, 4498,    400.0,   8.5331,  34.6193,2,  34.6206,2,   -999.0,9,   -999.0,9
   33KMGP498_1,  PR15,     5,  1,      3,      3,2,19980709,1622,  4.0000, 164.9800, 4498,    600.7,   6.9388,  34.5615,2,  34.5609,2,   -999.0,9,   -999.0,9
   33KMGP498_1,  PR15,     5,  1,      2,      2,2,19980709,1622,  4.0000, 164.9800, 4498,    800.6,   5.4629,  34.5405,2,  34.5420,2,   -999.0,9,   -999.0,9
   33KMGP498_1,  PR15,     5,  1,      1,      1,2,19980709,1622,  4.0000, 164.9800, 4498,   1003.3,   4.5904,  34.5520,2,  34.5518,2,   -999.0,9,   -999.0,9
   33KMGP498_1,  PR15,     6,  1,     12,     12,2,19980709,2317,  3.0100, 164.9400, 4198,      1.6,  29.0067,  34.5637,2,  34.5648,2,   -999.0,9,   -999.0,9
   33KMGP498_1,  PR15,     6,  1,     11,     11,2,19980709,2317,  3.0100, 164.9400, 4198,     10.2,  28.9278,  34.5612,2,  34.5613,2,   -999.0,9,   -999.0,9
   33KMGP498_1,  PR15,     6,  1,     10,     10,2,19980709,2317,  3.0100, 164.9400, 4198,     25.1,  28.9261,  34.5615,2,  34.5620,2,   -999.0,9,   -999.0,9
   33KMGP498_1,  PR15,     6,  1,      9,      9,2,19980709,2317,  3.0100, 164.9400, 4198,     39.7,  28.9224,  34.5659,2,  34.5656,2,   -999.0,9,   -999.0,9
   33KMGP498_1,  PR15,     6,  1,      8,      8,2,19980709,2317,  3.0100, 164.9400, 4198,     59.4,  28.8936,  34.5781,2,  34.5777,2,   -999.0,9,   -999.0,9
   33KMGP498_1,  PR15,     6,  1,      7,      7,2,19980709,2317,  3.0100, 164.9400, 4198,     99.6,  26.1225,  34.7251,2,  34.7493,2,   -999.0,9,   -999.0,9
   33KMGP498_1,  PR15,     6,  1,      6,      6,2,19980709,2317,  3.0100, 164.9400, 4198,    149.7,  17.4851,  34.7469,2,  34.7551,2,   -999.0,9,   -999.0,9
   33KMGP498_1,  PR15,     6,  1,      5,      5,2,19980709,2317,  3.0100, 164.9400, 4198,    200.1,  11.6882,  34.4978,2,  34.5092,2,   -999.0,9,   -999.0,9
   33KMGP498_1,  PR15,     6,  1,      4,      4,2,19980709,2317,  3.0100, 164.9400, 4198,    398.7,   8.5754,  34.6037,2,  34.6046,2,   -999.0,9,   -999.0,9
   33KMGP498_1,  PR15,     6,  1,      3,      3,2,19980709,2317,  3.0100, 164.9400, 4198,    599.5,   6.6444,  34.5520,2,  34.5522,2,   -999.0,9,   -999.0,9
   33KMGP498_1,  PR15,     6,  1,      2,      2,2,19980709,2317,  3.0100, 164.9400, 4198,    799.1,   5.3258,  34.5424,2,  34.5423,2,   -999.0,9,   -999.0,9
   33KMGP498_1,  PR15,     6,  1,      1,      1,2,19980709,2317,  3.0100, 164.9400, 4198,   1005.6,   4.3961,  34.5555,2,  34.5554,2,   -999.0,9,   -999.0,9
   33KMGP498_1,  PR15,     7,  1,     12,     12,2,19980710,0616,  1.9900, 164.9400, 4189,      1.9,  29.1755,  34.8198,2,  34.8202,2,   -999.0,9,   -999.0,9
   33KMGP498_1,  PR15,     7,  1,     11,     11,2,19980710,0616,  1.9900, 164.9400, 4189,      9.8,  28.7288,  34.8122,2,  34.8123,2,   -999.0,9,   -999.0,9
   33KMGP498_1,  PR15,     7,  1,     10,     10,2,19980710,0616,  1.9900, 164.9400, 4189,     25.2,  28.6762,  34.8283,2,  34.8283,2,   -999.0,9,   -999.0,9
   33KMGP498_1,  PR15,     7,  1,      9,      9,2,19980710,0616,  1.9900, 164.9400, 4189,     39.8,  28.6362,  34.8524,2,  34.8526,2,   -999.0,9,   -999.0,9
   33KMGP498_1,  PR15,     7,  1,      8,      8,2,19980710,0616,  1.9900, 164.9400, 4189,     60.3,  28.5652,  34.8338,2,  34.8326,2,   -999.0,9,   -999.0,9
   33KMGP498_1,  PR15,     7,  1,      7,      7,2,19980710,0616,  1.9900, 164.9400, 4189,    100.5,  26.7708,  34.8510,2,  34.8542,2,   -999.0,9,   -999.0,9
   33KMGP498_1,  PR15,     7,  1,      6,      6,2,19980710,0616,  1.9900, 164.9400, 4189,    149.8,  13.5857,  34.5441,2,  34.5421,2,   -999.0,9,   -999.0,9
   33KMGP498_1,  PR15,     7,  1,      5,      5,2,19980710,0616,  1.9900, 164.9400, 4189,    200.5,  11.9787,  34.8484,2,  34.8526,2,   -999.0,9,   -999.0,9
   33KMGP498_1,  PR15,     7,  1,      4,      4,2,19980710,0616,  1.9900, 164.9400, 4189,    401.1,   9.6741,  34.6929,2,  34.6919,2,   -999.0,9,   -999.0,9
   33KMGP498_1,  PR15,     7,  1,      3,      3,2,19980710,0616,  1.9900, 164.9400, 4189,    600.2,   7.1030,  34.5572,2,  34.5566,2,   -999.0,9,   -999.0,9
   33KMGP498_1,  PR15,     7,  1,      2,      2,2,19980710,0616,  1.9900, 164.9400, 4189,    800.7,   5.4515,  34.5411,2,  34.5410,2,   -999.0,9,   -999.0,9
   33KMGP498_1,  PR15,     7,  1,      1,      1,2,19980710,0616,  1.9900, 164.9400, 4189,   1007.0,   4.4306,  34.5561,2,  34.5553,2,   -999.0,9,   -999.0,9
   33KMGP498_1,  PR15,     8,  1,     12,     12,2,19980710,1348,  1.0000, 164.9900, 4335,      2.1,  28.8428,  34.9042,2,  34.9031,2,   -999.0,9,   -999.0,9
   33KMGP498_1,  PR15,     8,  1,     11,     11,2,19980710,1348,  1.0000, 164.9900, 4335,     10.5,  28.8246,  34.9025,2,  34.9017,2,   -999.0,9,   -999.0,9
   33KMGP498_1,  PR15,     8,  1,     10,     10,2,19980710,1348,  1.0000, 164.9900, 4335,     25.3,  28.7276,  34.8994,2,  34.8991,2,   -999.0,9,   -999.0,9
   33KMGP498_1,  PR15,     8,  1,      9,      9,2,19980710,1348,  1.0000, 164.9900, 4335,     40.7,  28.6980,  34.8975,2,  34.8966,2,   -999.0,9,   -999.0,9
   33KMGP498_1,  PR15,     8,  1,      8,      8,2,19980710,1348,  1.0000, 164.9900, 4335,     60.8,  28.6671,  34.8955,2,  34.8951,2,   -999.0,9,   -999.0,9
   33KMGP498_1,  PR15,     8,  1,      7,      7,2,19980710,1348,  1.0000, 164.9900, 4335,     99.5,  25.2173,  34.7959,2,  34.8041,2,   -999.0,9,   -999.0,9
   33KMGP498_1,  PR15,     8,  1,      6,      6,2,19980710,1348,  1.0000, 164.9900, 4335,    150.1,  17.2400,  34.9134,2,  34.9241,2,   -999.0,9,   -999.0,9
   33KMGP498_1,  PR15,     8,  1,      5,      5,2,19980710,1348,  1.0000, 164.9900, 4335,    200.0,  13.6139,  34.9081,2,  34.8995,2,   -999.0,9,   -999.0,9
   33KMGP498_1,  PR15,     8,  1,      4,      4,2,19980710,1348,  1.0000, 164.9900, 4335,    400.2,   9.3228,  34.6727,2,  34.6716,2,   -999.0,9,   -999.0,9
   33KMGP498_1,  PR15,     8,  1,      2,      2,2,19980710,1348,  1.0000, 164.9900, 4335,    799.3,   5.4317,  34.5351,2,  34.5356,2,   -999.0,9,   -999.0,9
   33KMGP498_1,  PR15,     8,  1,      1,      1,2,19980710,1348,  1.0000, 164.9900, 4335,   1002.5,   4.3809,  34.5538,2,  34.5530,2,   -999.0,9,   -999.0,9
   33KMGP498_1,  PR15,     9,  1,     12,     12,2,19980711,0750,  0.0200, 165.0000, 4415,      1.2,  28.8498,  34.8559,2,  34.8554,2,   -999.0,9,   -999.0,9
   33KMGP498_1,  PR15,     9,  1,     11,     11,2,19980711,0750,  0.0200, 165.0000, 4415,     10.2,  28.8183,  34.8537,2,  34.8543,2,   -999.0,9,   -999.0,9
   33KMGP498_1,  PR15,     9,  1,     10,     10,2,19980711,0750,  0.0200, 165.0000, 4415,     25.1,  28.6723,  34.8495,2,  34.8484,2,   -999.0,9,   -999.0,9
   33KMGP498_1,  PR15,     9,  1,      9,      9,2,19980711,0750,  0.0200, 165.0000, 4415,     39.4,  28.5816,  34.8392,2,  34.8403,2,   -999.0,9,   -999.0,9
   33KMGP498_1,  PR15,     9,  1,      8,      8,2,19980711,0750,  0.0200, 165.0000, 4415,     58.1,  28.3843,  34.8262,2,  34.8292,2,   -999.0,9,   -999.0,9
   33KMGP498_1,  PR15,     9,  1,      7,      7,2,19980711,0750,  0.0200, 165.0000, 4415,     99.1,  25.1623,  35.2849,2,  35.2817,2,   -999.0,9,   -999.0,9
   33KMGP498_1,  PR15,     9,  1,      6,      6,2,19980711,0750,  0.0200, 165.0000, 4415,    150.0,  18.1680,  35.3344,2,  35.0070,3,   -999.0,9,   -999.0,9
   33KMGP498_1,  PR15,     9,  1,      5,      5,2,19980711,0750,  0.0200, 165.0000, 4415,    199.5,  13.9891,  35.0007,2,  35.0072,2,   -999.0,9,   -999.0,9
   33KMGP498_1,  PR15,     9,  1,      4,      4,2,19980711,0750,  0.0200, 165.0000, 4415,    400.1,   9.2982,  34.6790,2,  34.6785,2,   -999.0,9,   -999.0,9
   33KMGP498_1,  PR15,     9,  1,      3,      3,2,19980711,0750,  0.0200, 165.0000, 4415,    600.7,   6.9793,  34.5638,2,  34.5648,2,   -999.0,9,   -999.0,9
   33KMGP498_1,  PR15,     9,  1,      2,      2,2,19980711,0750,  0.0200, 165.0000, 4415,    799.9,   5.3953,  34.5370,2,  34.5374,2,   -999.0,9,   -999.0,9
   33KMGP498_1,  PR15,     9,  1,      1,      1,2,19980711,0750,  0.0200, 165.0000, 4415,   1009.4,   4.3566,  34.5544,2,  34.5539,2,   -999.0,9,   -999.0,9
   33KMGP498_1,  PR15,    10,  1,     12,     12,2,19980711,1504, -1.0000, 164.7400, 4428,      2.4,  28.9643,  34.7919,2,  34.7912,2,   -999.0,9,   -999.0,9
   33KMGP498_1,  PR15,    10,  1,     11,     11,2,19980711,1504, -1.0000, 164.7400, 4428,     10.3,  28.9675,  34.7910,2,  34.7923,2,   -999.0,9,   -999.0,9
   33KMGP498_1,  PR15,    10,  1,     10,     10,2,19980711,1504, -1.0000, 164.7400, 4428,     25.4,  28.9010,  34.7935,2,  34.7931,2,   -999.0,9,   -999.0,9
   33KMGP498_1,  PR15,    10,  1,      9,      9,2,19980711,1504, -1.0000, 164.7400, 4428,     40.2,  28.8580,  34.8066,2,  34.8062,2,   -999.0,9,   -999.0,9
   33KMGP498_1,  PR15,    10,  1,      8,      8,2,19980711,1504, -1.0000, 164.7400, 4428,     60.4,  28.0425,  34.9832,2,  34.9806,2,   -999.0,9,   -999.0,9
   33KMGP498_1,  PR15,    10,  1,      7,      7,2,19980711,1504, -1.0000, 164.7400, 4428,    100.5,  25.1808,  35.5263,2,  35.5247,2,   -999.0,9,   -999.0,9
   33KMGP498_1,  PR15,    10,  1,      6,      6,2,19980711,1504, -1.0000, 164.7400, 4428,    149.7,  16.1437,  35.2312,2,  35.2328,2,   -999.0,9,   -999.0,9
   33KMGP498_1,  PR15,    10,  1,      5,      5,2,19980711,1504, -1.0000, 164.7400, 4428,    200.1,  13.4983,  34.9690,2,  34.9764,2,   -999.0,9,   -999.0,9
   33KMGP498_1,  PR15,    10,  1,      4,      4,2,19980711,1504, -1.0000, 164.7400, 4428,    400.0,   9.5506,  34.6992,2,  34.6977,2,   -999.0,9,   -999.0,9
   33KMGP498_1,  PR15,    10,  1,      3,      3,2,19980711,1504, -1.0000, 164.7400, 4428,    600.1,   6.9140,  34.5575,2,  34.5571,2,   -999.0,9,   -999.0,9
   33KMGP498_1,  PR15,    10,  1,      2,      2,2,19980711,1504, -1.0000, 164.7400, 4428,    799.6,   5.3898,  34.5337,2,  34.5334,2,   -999.0,9,   -999.0,9
   33KMGP498_1,  PR15,    10,  1,      1,      1,2,19980711,1504, -1.0000, 164.7400, 4428,   1004.2,   4.3987,  34.5509,2,  34.5508,2,   -999.0,9,   -999.0,9