BOTTLE,20010820WHPSIOKJU
EXPOCODE,SECT_ID,STNNBR,CASTNO,SAMPNO,BTLNBR,BTLNBR_FLAG_W,DATE,TIME,LATITUDE,LONGITUDE,DEPTH,CTDPRS,CTDTMP,CTDSAL,CTDSAL_FLAG_W,SALNTY,SALNTY_FLAG_W,CTDOXY,CTDOXY_FLAG_W,OXYGEN,OXYGEN_FLAG_W,SILCAT,SILCAT_FLAG_W,NO2+NO3,NO2+NO3_FLAG_W,PHSPHT,PHSPHT_FLAG_W
,,,,,,,,,,,,DBR,ITS-90,PSS-78,,PSS-78,,UMOL/KG,,UMOL/KG,,UMOL/KG,,UMOL/KG,,UMOL/KG,
    09FA1089_1,  PR11,   163,  1,   -999,     11,2,19890902,2310,-29.0752, 155.7585, 1608,      3.8,  19.0960,  35.5820,2,  35.5830,2,    173.2,2,    222.1,2,     1.17,3,     1.55,3,     0.31,3
    09FA1089_1,  PR11,   163,  1,   -999,      3,2,19890902,2310,-29.0752, 155.7585, 1608,     49.0,  19.0380,  35.5850,2,  35.5830,2,    222.5,2,    221.8,2,     0.98,3,     1.38,3,     0.31,3
    09FA1089_1,  PR11,   163,  1,   -999,      9,2,19890902,2310,-29.0752, 155.7585, 1608,     98.8,  19.0050,  35.5870,2,  35.5830,2,    226.9,2,    220.5,2,     0.78,3,     1.55,3,     0.34,3
    09FA1089_1,  PR11,   163,  1,   -999,     18,2,19890902,2310,-29.0752, 155.7585, 1608,    198.3,  18.8980,  35.5890,2,  35.5860,2,    218.6,2,    217.2,2,     0.78,3,     2.24,3,     0.31,3
    09FA1089_1,  PR11,   163,  1,   -999,     27,2,19890902,2310,-29.0752, 155.7585, 1608,    298.6,  17.2670,  35.5250,2,  35.5220,2,    180.4,2,    182.1,2,     2.15,3,     7.23,3,     0.62,3
    09FA1089_1,  PR11,   163,  1,   -999,      2,2,19890902,2310,-29.0752, 155.7585, 1608,    423.3,  13.7770,  35.2480,2,  35.2460,2,    184.1,2,    186.9,2,     4.20,3,    12.22,3,     0.91,3
    09FA1089_1,  PR11,   163,  1,   -999,      5,2,19890902,2310,-29.0752, 155.7585, 1608,    598.5,   9.9710,  34.7850,2,  34.7910,2,    191.5,2,    194.7,2,     7.82,3,    19.63,3,     1.31,3
    09FA1089_1,  PR11,   163,  1,   -999,     24,2,19890902,2310,-29.0752, 155.7585, 1608,    797.8,   7.3390,  34.5330,2,  34.5340,2,    185.5,2,    185.5,2,    18.77,3,    27.56,3,     1.95,3
    09FA1089_1,  PR11,   163,  1,   -999,     31,2,19890902,2310,-29.0752, 155.7585, 1608,   1028.7,   5.5680,  34.4660,2,  34.4700,2,    179.2,2,    178.6,2,    35.09,3,    32.38,3,     2.11,3
    09FA1089_1,  PR11,   163,  1,   -999,     10,2,19890902,2310,-29.0752, 155.7585, 1608,   1233.8,   4.1810,  34.5070,2,  34.5070,2,    167.6,2,    166.2,2,    62.07,3,    35.83,3,     2.35,3
    09FA1089_1,  PR11,   163,  1,   -999,     17,2,19890902,2310,-29.0752, 155.7585, 1608,   1408.2,   3.3850,  34.5580,2,  34.5580,2,    157.2,2,    153.8,2,    79.96,3,    37.89,3,     2.48,3
    09FA1089_1,  PR11,   163,  1,   -999,     12,2,19890902,2310,-29.0752, 155.7585, 1608,   1607.8,   2.9040,  34.5980,2,  34.5990,2,    155.1,2,    150.2,2,    91.49,3,    38.41,3,     2.53,3
    09FA1089_1,  PR11,   165,  1,   -999,     11,2,19890903,0135,-29.1223, 155.5697, 4722,      2.7,  19.2300,  35.5630,2,  35.5620,2,    162.3,2,    222.1,2,     0.98,3,     1.38,3,     0.31,3
    09FA1089_1,  PR11,   165,  1,   -999,      6,2,19890903,0135,-29.1223, 155.5697, 4722,     49.0,  19.0790,  35.5720,2,  35.5710,2,    223.8,2,    221.1,2,     0.78,3,     1.55,3,     0.31,3
    09FA1089_1,  PR11,   165,  1,   -999,      8,2,19890903,0135,-29.1223, 155.5697, 4722,     98.0,  19.0800,  35.5770,2,  35.5730,2,    219.5,2,    219.2,2,     0.98,3,     1.72,3,     0.31,3
    09FA1089_1,  PR11,   165,  1,   -999,     16,2,19890903,0135,-29.1223, 155.5697, 4722,    147.6,  19.0350,  35.5800,2,  35.5770,2,    217.4,2,    218.5,2,     0.98,3,     1.72,3,     0.31,3
    09FA1089_1,  PR11,   165,  1,   -999,     13,2,19890903,0135,-29.1223, 155.5697, 4722,    198.3,  18.9950,  35.5820,2,  35.5800,2,    216.4,2,    218.5,2,     0.78,3,     1.89,3,     0.31,3
    09FA1089_1,  PR11,   165,  1,   -999,     22,2,19890903,0135,-29.1223, 155.5697, 4722,    297.4,  17.4260,  35.5410,2,  35.5410,2,    187.6,2,    177.6,2,     2.15,3,     7.75,3,     0.63,3
    09FA1089_1,  PR11,   165,  1,   -999,     20,2,19890903,0135,-29.1223, 155.5697, 4722,    398.8,  14.5600,  35.3120,2,  35.3160,2,    182.5,2,    183.7,2,     3.71,3,    11.53,3,     0.85,3
    09FA1089_1,  PR11,   165,  1,   -999,     26,2,19890903,0135,-29.1223, 155.5697, 4722,    439.7,  13.5750,  35.2290,2,  35.2270,2,    185.2,2,    187.6,2,     4.40,3,    12.91,3,     0.94,3
    09FA1089_1,  PR11,   165,  1,   -999,      4,2,19890903,0135,-29.1223, 155.5697, 4722,    497.0,  12.4820,  35.1220,2,  35.1260,2,    191.0,2,    193.4,2,     4.89,3,    14.29,3,     1.02,3
    09FA1089_1,  PR11,   165,  1,   -999,     19,2,19890903,0135,-29.1223, 155.5697, 4722,    598.1,  10.0240,  34.7940,2,  34.8010,2,    190.1,2,    191.8,2,     7.82,3,    20.14,3,     1.34,3
    09FA1089_1,  PR11,   165,  1,   -999,     29,2,19890903,0135,-29.1223, 155.5697, 4722,    798.2,   7.5110,  34.5450,2,  -9.9999,5,    186.5,2,    187.5,2,    16.52,3,    26.49,3,     1.71,3
    09FA1089_1,  PR11,   165,  1,   -999,     27,2,19890903,0135,-29.1223, 155.5697, 4722,    998.3,   5.7010,  34.4670,2,  34.4720,2,    180.7,2,    178.6,2,    33.34,3,    32.21,3,     2.07,3
    09FA1089_1,  PR11,   165,  1,   -999,      3,2,19890903,0135,-29.1223, 155.5697, 4722,   1239.4,   4.2240,  34.5040,2,  34.5080,2,    167.5,2,    171.1,2,    62.07,3,    35.99,3,     2.35,3
    09FA1089_1,  PR11,   165,  1,   -999,      9,2,19890903,0135,-29.1223, 155.5697, 4722,   1469.7,   3.4390,  34.5510,2,  34.5520,2,    157.1,2,    154.1,2,    79.96,3,    37.89,3,     2.50,3
    09FA1089_1,  PR11,   165,  1,   -999,     18,2,19890903,0135,-29.1223, 155.5697, 4722,   1754.3,   2.6510,  34.6240,2,  34.6270,2,    155.2,2,    151.5,2,  -999.00,5,  -999.00,5,  -999.00,5
    09FA1089_1,  PR11,   165,  1,   -999,     21,2,19890903,0135,-29.1223, 155.5697, 4722,   2190.4,   2.1960,  34.6860,2,  34.6840,2,    169.3,2,    167.1,2,    96.37,3,    37.02,3,     2.42,3
    09FA1089_1,  PR11,   165,  1,   -999,      2,2,19890903,0135,-29.1223, 155.5697, 4722,   2478.1,   1.9550,  34.7150,2,  -9.9999,5,    177.7,2,    177.2,2,  -999.00,5,  -999.00,5,  -999.00,5
    09FA1089_1,  PR11,   165,  1,   -999,      5,2,19890903,0135,-29.1223, 155.5697, 4722,   2798.4,   1.6880,  34.7260,2,  34.7250,2,    184.0,2,    183.4,2,    99.60,3,    34.96,3,     2.22,3
    09FA1089_1,  PR11,   165,  1,   -999,     24,2,19890903,0135,-29.1223, 155.5697, 4722,   3209.5,   1.3430,  34.7240,2,  34.7220,2,    188.8,2,    188.6,2,   107.81,3,    35.48,3,     2.29,3
    09FA1089_1,  PR11,   165,  1,   -999,     31,2,19890903,0135,-29.1223, 155.5697, 4722,   3499.4,   1.2190,  34.7230,2,  34.7190,2,    190.9,2,    190.9,2,   112.69,3,    35.48,3,     2.27,3
    09FA1089_1,  PR11,   165,  1,   -999,     10,2,19890903,0135,-29.1223, 155.5697, 4722,   3997.6,   1.1370,  34.7190,2,  34.7160,2,    192.6,2,    192.9,2,   117.58,3,    35.99,3,     2.37,3
    09FA1089_1,  PR11,   165,  1,   -999,     17,2,19890903,0135,-29.1223, 155.5697, 4722,   4481.1,   1.1650,  34.7190,2,  34.7160,2,    193.6,2,    193.2,2,   114.26,3,    35.48,3,     2.29,3
    09FA1089_1,  PR11,   165,  1,   -999,     12,2,19890903,0135,-29.1223, 155.5697, 4722,   4719.0,   1.1720,  34.7170,2,  34.7160,2,    193.9,2,    193.9,2,   114.26,3,    35.13,3,     2.27,3
    09FA1089_1,  PR11,   167,  1,   -999,     11,2,19890903,0842,-29.1070, 154.8115, 4650,      4.6,  20.7290,  35.4960,2,  35.4950,2,    160.3,2,    218.6,2,     0.98,3,     0.33,3,     0.21,3
    09FA1089_1,  PR11,   167,  1,   -999,      6,2,19890903,0842,-29.1070, 154.8115, 4650,     48.9,  20.6800,  35.5410,2,  35.5380,2,    210.0,2,    216.3,2,     0.68,3,     0.33,3,     0.21,3
    09FA1089_1,  PR11,   167,  1,   -999,      8,2,19890903,0842,-29.1070, 154.8115, 4650,     98.2,  20.5510,  35.5830,2,  35.5800,2,    212.5,2,    212.4,2,     0.68,3,     0.83,3,     0.21,3
    09FA1089_1,  PR11,   167,  1,   -999,     16,2,19890903,0842,-29.1070, 154.8115, 4650,    153.6,  19.4890,  35.6290,2,  35.6260,2,    190.5,2,    205.1,2,     0.98,3,     2.31,3,     0.31,3
    09FA1089_1,  PR11,   167,  1,   -999,     13,2,19890903,0842,-29.1070, 154.8115, 4650,    198.5,  19.1350,  35.5710,2,  35.5690,2,    211.5,2,    217.5,2,     0.78,3,     1.98,3,     0.28,3
    09FA1089_1,  PR11,   167,  1,   -999,     28,2,19890903,0842,-29.1070, 154.8115, 4650,    298.7,  18.3640,  35.6080,2,  35.6010,2,    179.0,2,    188.4,2,  -999.00,5,  -999.00,5,  -999.00,5
    09FA1089_1,  PR11,   167,  1,   -999,     22,2,19890903,0842,-29.1070, 154.8115, 4650,    398.5,  16.0460,  35.4410,2,  35.4410,2,    179.8,2,    179.5,2,     2.74,3,     8.77,3,     0.70,3
    09FA1089_1,  PR11,   167,  1,   -999,     20,2,19890903,0842,-29.1070, 154.8115, 4650,    473.5,  14.0450,  35.2780,2,  35.2760,2,    187.4,2,    185.3,2,     3.91,3,    11.63,3,     0.89,3
    09FA1089_1,  PR11,   167,  1,   -999,     26,2,19890903,0842,-29.1070, 154.8115, 4650,    598.8,  10.8560,  34.9020,2,  34.9080,2,    186.4,2,    188.2,2,     6.94,3,    17.56,3,     1.20,3
    09FA1089_1,  PR11,   167,  1,   -999,      4,2,19890903,0842,-29.1070, 154.8115, 4650,    798.4,   7.7550,  34.5670,2,  34.5780,2,    186.0,2,    185.9,2,    15.93,3,    25.19,3,     1.70,3
    09FA1089_1,  PR11,   167,  1,   -999,     19,2,19890903,0842,-29.1070, 154.8115, 4650,    999.1,   5.9780,  34.4730,2,  34.4780,2,    179.8,2,    181.3,2,    29.52,3,    29.99,3,     2.01,3
    09FA1089_1,  PR11,   167,  1,   -999,     29,2,19890903,0842,-29.1070, 154.8115, 4650,   1048.3,   5.5700,  34.4670,2,  -9.9999,5,    178.9,2,    179.3,2,    31.87,3,    29.82,3,     2.02,3
    09FA1089_1,  PR11,   167,  1,   -999,     27,2,19890903,0842,-29.1070, 154.8115, 4650,   1254.4,   4.2650,  34.4950,2,  34.4980,2,    166.9,2,    164.8,2,    62.37,3,    34.80,3,     2.34,3
    09FA1089_1,  PR11,   167,  1,   -999,      3,2,19890903,0842,-29.1070, 154.8115, 4650,   1492.3,   3.3350,  34.5600,2,  34.5600,2,    156.3,2,    152.7,2,    87.00,3,    36.78,3,     2.51,3
    09FA1089_1,  PR11,   167,  1,   -999,      9,2,19890903,0842,-29.1070, 154.8115, 4650,   1748.7,   2.6980,  34.6190,2,  34.6190,2,    154.0,2,    150.0,2,    98.43,3,    36.78,3,     2.51,3
    09FA1089_1,  PR11,   167,  1,   -999,     18,2,19890903,0842,-29.1070, 154.8115, 4650,   1998.1,   2.3830,  34.6580,2,  34.6590,2,    161.7,2,    158.2,2,   101.75,3,    36.46,3,     2.46,3
    09FA1089_1,  PR11,   167,  1,   -999,     21,2,19890903,0842,-29.1070, 154.8115, 4650,   2208.8,   2.2050,  34.6860,2,  34.6850,2,    169.3,2,    168.0,2,   100.09,3,    35.63,3,     2.43,3
    09FA1089_1,  PR11,   167,  1,   -999,      2,2,19890903,0842,-29.1070, 154.8115, 4650,   2523.3,   1.9400,  34.7200,2,  34.7190,2,    177.9,2,    178.4,2,   100.08,3,    34.46,3,     2.36,3
    09FA1089_1,  PR11,   167,  1,   -999,      5,2,19890903,0842,-29.1070, 154.8115, 4650,   2799.3,   1.6790,  34.7270,2,  -9.9999,5,    183.1,2,    186.0,2,   103.41,3,    34.13,3,     2.29,3
    09FA1089_1,  PR11,   167,  1,   -999,     24,2,19890903,0842,-29.1070, 154.8115, 4650,   3210.7,   1.3450,  34.7260,2,  34.7250,2,    188.5,2,    191.8,2,   111.52,3,    33.80,3,     2.26,3
    09FA1089_1,  PR11,   167,  1,   -999,     31,2,19890903,0842,-29.1070, 154.8115, 4650,   3498.1,   1.2060,  34.7220,2,  34.7210,2,    190.9,2,    191.8,2,   121.39,3,    35.13,3,     2.37,3
    09FA1089_1,  PR11,   167,  1,   -999,     10,2,19890903,0842,-29.1070, 154.8115, 4650,   3998.2,   1.1380,  34.7200,2,  34.7170,2,    191.7,2,    194.1,2,   121.39,3,    34.80,3,     2.32,3
    09FA1089_1,  PR11,   167,  1,   -999,     17,2,19890903,0842,-29.1070, 154.8115, 4650,   4499.3,   1.1580,  34.7170,2,  34.7170,2,    193.6,2,    193.5,2,   124.72,3,    35.29,3,     2.38,3
    09FA1089_1,  PR11,   167,  1,   -999,     12,2,19890903,0842,-29.1070, 154.8115, 4650,   4649.5,   1.1610,  34.7180,2,  34.7170,2,    194.0,2,    193.8,2,   124.72,3,    35.29,3,     2.38,3
    09FA1089_1,  PR11,   169,  1,   -999,     11,2,19890903,1352,-29.1248, 154.4773, 4264,      3.1,  20.8450,  35.4690,2,  35.4730,2,    210.5,2,    219.6,2,  -999.00,5,  -999.00,5,  -999.00,5
    09FA1089_1,  PR11,   169,  1,   -999,      6,2,19890903,1352,-29.1248, 154.4773, 4264,     48.4,  20.6240,  35.5580,2,  35.5590,2,    221.4,2,    217.6,2,     0.78,3,     0.33,3,     0.21,3
    09FA1089_1,  PR11,   169,  1,   -999,      8,2,19890903,1352,-29.1248, 154.4773, 4264,     98.4,  20.4500,  35.5720,2,  35.5710,2,    222.7,2,    216.0,2,     1.17,3,     0.50,3,     0.21,3
    09FA1089_1,  PR11,   169,  1,   -999,     16,2,19890903,1352,-29.1248, 154.4773, 4264,    148.3,  20.3860,  35.5920,2,  35.5900,2,    217.4,2,    211.7,2,     0.68,3,     0.66,3,     0.21,3
    09FA1089_1,  PR11,   169,  1,   -999,     13,2,19890903,1352,-29.1248, 154.4773, 4264,    198.2,  19.8920,  35.6670,2,  35.6690,2,    203.4,2,    194.0,2,     0.98,3,     3.31,3,     0.37,3
    09FA1089_1,  PR11,   169,  1,   -999,     28,2,19890903,1352,-29.1248, 154.4773, 4264,    293.1,  18.6040,  35.6340,2,  35.6340,2,    185.3,2,    182.2,2,     1.47,3,     5.46,3,     0.50,3
    09FA1089_1,  PR11,   169,  1,   -999,     22,2,19890903,1352,-29.1248, 154.4773, 4264,    398.7,  15.9860,  35.4280,2,  35.4300,2,    176.4,2,    179.1,2,     2.74,3,     9.60,3,     0.75,3
    09FA1089_1,  PR11,   169,  1,   -999,     20,2,19890903,1352,-29.1248, 154.4773, 4264,    472.8,  13.6330,  35.1840,2,  35.1820,2,    181.8,2,    182.0,2,     4.40,3,    13.58,3,     1.00,3
    09FA1089_1,  PR11,   169,  1,   -999,     26,2,19890903,1352,-29.1248, 154.4773, 4264,    598.5,  10.6970,  34.8610,2,  34.8630,2,    183.6,2,    185.2,2,     7.53,3,    19.38,3,     1.31,3
    09FA1089_1,  PR11,   169,  1,   -999,      4,2,19890903,1352,-29.1248, 154.4773, 4264,    798.0,   7.3900,  34.5280,2,  34.5370,2,    187.4,2,    189.1,2,    17.40,3,    27.18,3,     1.78,3
    09FA1089_1,  PR11,   169,  1,   -999,     19,2,19890903,1352,-29.1248, 154.4773, 4264,    977.9,   5.6340,  34.4570,2,  34.4590,2,    181.2,2,    185.2,2,    33.14,3,    31.99,3,     2.10,3
    09FA1089_1,  PR11,   169,  1,   -999,     29,2,19890903,1352,-29.1248, 154.4773, 4264,    998.6,   5.5050,  34.4550,2,  34.4720,3,    182.0,2,    179.6,2,    34.31,3,    31.99,3,     2.10,3
    09FA1089_1,  PR11,   169,  1,   -999,     27,2,19890903,1352,-29.1248, 154.4773, 4264,   1244.4,   4.1670,  34.4990,2,  34.5010,2,    166.2,2,    164.2,2,    67.26,3,    36.12,3,     2.40,3
    09FA1089_1,  PR11,   169,  1,   -999,      3,2,19890903,1352,-29.1248, 154.4773, 4264,   1493.6,   3.2970,  34.5620,2,  34.5610,2,    154.9,2,    150.5,2,    93.55,3,    38.11,3,     2.55,3
    09FA1089_1,  PR11,   169,  1,   -999,      9,2,19890903,1352,-29.1248, 154.4773, 4264,   1598.2,   3.0280,  34.5850,2,  34.5880,2,    154.1,2,    149.2,2,    96.77,3,    38.28,3,     2.55,3
    09FA1089_1,  PR11,   169,  1,   -999,     18,2,19890903,1352,-29.1248, 154.4773, 4264,   1748.5,   2.6780,  34.6210,2,  34.6200,2,    154.4,2,    151.8,2,   101.75,3,    38.44,3,     2.57,3
    09FA1089_1,  PR11,   169,  1,   -999,     21,2,19890903,1352,-29.1248, 154.4773, 4264,   2186.9,   2.1940,  34.6880,2,  34.6880,2,    169.6,2,    169.4,2,   100.09,3,    36.61,3,     2.43,3
    09FA1089_1,  PR11,   169,  1,   -999,      2,2,19890903,1352,-29.1248, 154.4773, 4264,   2508.6,   1.9040,  34.7190,2,  34.7160,2,    178.2,2,    179.5,2,   103.41,3,    35.95,3,     2.38,3
    09FA1089_1,  PR11,   169,  1,   -999,      5,2,19890903,1352,-29.1248, 154.4773, 4264,   2803.8,   1.6730,  34.7290,2,  34.7270,2,    184.4,2,    185.1,2,   109.96,3,    35.79,3,     2.37,3
    09FA1089_1,  PR11,   169,  1,   -999,     24,2,19890903,1352,-29.1248, 154.4773, 4264,   2998.5,   1.5310,  34.7290,2,  34.7240,2,    186.1,2,    187.7,2,   113.18,3,    35.63,3,     2.37,3
    09FA1089_1,  PR11,   169,  1,   -999,     31,2,19890903,1352,-29.1248, 154.4773, 4264,   3263.6,   1.3590,  34.7260,2,  34.7220,2,    189.1,2,    189.3,2,   118.17,3,    35.63,3,     2.38,3
    09FA1089_1,  PR11,   169,  1,   -999,     10,2,19890903,1352,-29.1248, 154.4773, 4264,   3498.2,   1.2240,  34.7220,2,  34.7190,2,    190.6,2,    191.6,2,   123.05,3,    35.79,3,     2.39,3
    09FA1089_1,  PR11,   169,  1,   -999,     17,2,19890903,1352,-29.1248, 154.4773, 4264,   3998.2,   1.1190,  34.7190,2,  34.7170,2,    193.2,2,    193.5,2,   126.38,3,    35.95,3,     2.39,3
    09FA1089_1,  PR11,   169,  1,   -999,     12,2,19890903,1352,-29.1248, 154.4773, 4264,   4263.1,   1.1310,  34.7170,2,  34.7170,2,    192.7,2,    193.5,2,   124.72,3,    35.95,3,     2.39,3
    09FA1089_2,  PR11,   171,  1,   -999,     11,2,19890908,0045,-29.1167, 153.5312,   40,      4.3,  19.4170,  35.4280,2,  35.4250,2,    157.8,2,    230.0,2,     0.29,3,     0.20,3,     0.23,3
    09FA1089_2,  PR11,   171,  1,   -999,     12,2,19890908,0045,-29.1167, 153.5312,   40,     23.8,  18.6030,  35.4550,2,  35.4570,2,    220.5,2,    226.0,2,     1.95,3,     1.00,3,     0.33,3
    09FA1089_2,  PR11,   171,  1,   -999,     21,2,19890908,0045,-29.1167, 153.5312,   40,     36.1,  18.5880,  35.4550,2,  35.4530,2,    220.5,2,    223.4,2,     1.86,3,     1.00,3,     0.33,3
    09FA1089_2,  PR11,   173,  1,   -999,     11,2,19890908,0145,-29.1092, 153.6405,   60,      4.5,  19.8300,  35.4090,2,  35.4090,2,    216.3,2,    228.1,2,     0.00,3,     0.00,3,     0.21,3
    09FA1089_2,  PR11,   173,  1,   -999,     12,2,19890908,0145,-29.1092, 153.6405,   60,     28.4,  19.2500,  35.4550,2,  35.4560,2,    224.4,2,    227.1,2,     0.00,3,     0.20,3,     0.22,3
    09FA1089_2,  PR11,   173,  1,   -999,     21,2,19890908,0145,-29.1092, 153.6405,   60,     58.7,  18.8060,  35.4770,2,  35.4760,2,    214.2,2,    223.8,2,     0.68,3,     0.79,3,     0.28,3
    09FA1089_2,  PR11,   175,  1,   -999,     31,2,19890908,0252,-29.1070, 153.8112,  146,      3.7,  21.2800,  35.3130,2,  35.3150,2,    151.4,2,    221.0,2,     0.29,3,     0.20,3,     0.21,3
    09FA1089_2,  PR11,   175,  1,   -999,     11,2,19890908,0252,-29.1070, 153.8112,  146,     49.1,  20.7530,  35.3350,2,  35.3380,2,    212.2,2,    221.3,2,     0.20,3,     0.40,3,     0.22,3
    09FA1089_2,  PR11,   175,  1,   -999,     12,2,19890908,0252,-29.1070, 153.8112,  146,     97.6,  19.4050,  35.4410,2,  35.4380,2,    217.0,2,    213.3,2,     0.68,3,     1.19,3,     0.31,3
    09FA1089_2,  PR11,   175,  1,   -999,     21,2,19890908,0252,-29.1070, 153.8112,  146,    147.8,  18.7300,  35.5050,2,  35.5030,2,    190.0,2,    190.0,2,     2.15,3,     4.56,3,     0.49,3
    09FA1089_2,  PR11,   177,  1,   -999,     11,2,19890908,0342,-29.0945, 153.8400,  190,      5.3,  21.2530,  35.3580,2,  35.3580,2,    205.4,2,    219.7,2,     0.49,3,     0.20,3,     0.23,3
    09FA1089_2,  PR11,   177,  1,   -999,     31,2,19890908,0342,-29.0945, 153.8400,  190,     49.0,  21.0880,  35.4190,2,  35.4240,2,    221.0,2,    217.7,2,     0.49,3,     0.40,3,     0.22,3
    09FA1089_2,  PR11,   177,  1,   -999,     12,2,19890908,0342,-29.0945, 153.8400,  190,     97.6,  19.8070,  35.4340,2,  35.4320,2,    204.5,2,    200.6,2,     0.98,3,     2.78,3,     0.39,3
    09FA1089_2,  PR11,   177,  1,   -999,     21,2,19890908,0342,-29.0945, 153.8400,  190,    149.1,  18.8730,  35.5020,2,  35.4970,2,    199.8,2,    197.9,2,     1.47,3,     3.38,3,     0.43,3
    09FA1089_2,  PR11,   177,  1,   -999,      6,2,19890908,0342,-29.0945, 153.8400,  190,    189.8,  17.8110,  35.4950,2,  35.4950,2,    181.1,2,    184.1,2,     2.44,3,     6.55,3,     0.60,3