BOTTLE,20010820WHPSIOKJU
EXPOCODE,SECT_ID,STNNBR,CASTNO,SAMPNO,BTLNBR,BTLNBR_FLAG_W,DATE,TIME,LATITUDE,LONGITUDE,DEPTH,CTDPRS,CTDTMP,CTDSAL,CTDSAL_FLAG_W,SALNTY,SALNTY_FLAG_W,CTDOXY,CTDOXY_FLAG_W,OXYGEN,OXYGEN_FLAG_W,SILCAT,SILCAT_FLAG_W,NO2+NO3,NO2+NO3_FLAG_W,PHSPHT,PHSPHT_FLAG_W
,,,,,,,,,,,,DBR,ITS-90,PSS-78,,PSS-78,,UMOL/KG,,UMOL/KG,,UMOL/KG,,UMOL/KG,,UMOL/KG,
    09FA1089_1,  PR11,   101,  1,   -999,     11,2,19890826,1829,-30.1023, 172.6682, 1820,      4.5,  17.5710,  35.6640,2,  35.6630,2,    227.3,2,    231.1,2,     1.17,3,     1.53,3,     0.32,3
    09FA1089_1,  PR11,   101,  1,   -999,     19,2,19890826,1829,-30.1023, 172.6682, 1820,     47.2,  17.5720,  35.6640,2,  35.6610,2,    232.8,2,    231.5,2,     0.98,3,     1.35,3,     0.27,3
    09FA1089_1,  PR11,   101,  1,   -999,     28,2,19890826,1829,-30.1023, 172.6682, 1820,     97.6,  17.5340,  35.6620,2,  35.6580,2,    236.1,2,    230.4,2,     0.98,3,     1.73,3,     0.29,3
    09FA1089_1,  PR11,   101,  1,   -999,     20,2,19890826,1829,-30.1023, 172.6682, 1820,    148.4,  17.5070,  35.6590,2,  35.6560,2,    228.4,2,    229.7,2,     0.98,3,     1.73,3,     0.27,3
    09FA1089_1,  PR11,   101,  1,   -999,      3,2,19890826,1829,-30.1023, 172.6682, 1820,    197.9,  16.8750,  35.5850,2,  35.5860,2,    212.0,2,    211.8,2,     1.47,3,     4.23,3,     0.44,3
    09FA1089_1,  PR11,   101,  1,   -999,     30,2,19890826,1829,-30.1023, 172.6682, 1820,    298.7,  14.4600,  35.3440,2,  35.3440,2,    200.0,2,    198.9,2,     3.22,3,     9.42,3,     0.74,3
    09FA1089_1,  PR11,   101,  1,   -999,      9,2,19890826,1829,-30.1023, 172.6682, 1820,    333.2,  14.0760,  35.2920,2,  35.2910,2,    194.9,2,    194.8,2,     3.52,3,    10.39,3,     0.76,3
    09FA1089_1,  PR11,   101,  1,   -999,     18,2,19890826,1829,-30.1023, 172.6682, 1820,    398.6,  12.8890,  35.1520,2,  35.1510,2,    196.5,2,    198.2,2,     4.20,3,    11.92,3,     0.85,3
    09FA1089_1,  PR11,   101,  1,   -999,     27,2,19890826,1829,-30.1023, 172.6682, 1820,    498.4,  11.2650,  34.9460,2,  34.9520,2,    191.7,2,    192.0,2,     6.35,3,    16.54,3,     1.11,3
    09FA1089_1,  PR11,   101,  1,   -999,      2,2,19890826,1829,-30.1023, 172.6682, 1820,    596.8,   9.4180,  34.7400,2,  34.7420,2,    193.9,2,    193.7,2,     9.58,3,    20.20,3,     1.30,3
    09FA1089_1,  PR11,   101,  1,   -999,      5,2,19890826,1829,-30.1023, 172.6682, 1820,    796.8,   7.1800,  34.5010,2,  34.5030,2,    202.4,2,    201.6,2,    14.96,3,    24.82,3,     1.62,3
    09FA1089_1,  PR11,   101,  1,   -999,     24,2,19890826,1829,-30.1023, 172.6682, 1820,    897.7,   6.5310,  34.4670,2,  34.4700,2,    199.2,2,    198.5,2,    20.82,3,    28.86,3,     1.90,3
    09FA1089_1,  PR11,   101,  1,   -999,     31,2,19890826,1829,-30.1023, 172.6682, 1820,   1017.9,   5.7150,  34.4640,2,  34.4650,2,    188.9,2,    193.3,2,    30.70,3,    31.36,3,     2.06,3
    09FA1089_1,  PR11,   101,  1,   -999,     10,2,19890826,1829,-30.1023, 172.6682, 1820,   1263.9,   4.2560,  34.4900,2,  34.4910,2,    174.3,2,    174.0,2,    61.98,3,    35.02,3,     2.34,3
    09FA1089_1,  PR11,   101,  1,   -999,     21,2,19890826,1829,-30.1023, 172.6682, 1820,   1497.9,   3.4800,  34.5480,2,  34.5470,2,    166.4,2,    165.0,2,    82.11,3,    36.56,3,     2.45,3
    09FA1089_1,  PR11,   101,  1,   -999,     12,2,19890826,1829,-30.1023, 172.6682, 1820,   1818.8,   2.6720,  34.6120,2,  34.6090,2,    158.7,2,    156.3,2,   105.57,3,    37.91,3,     2.56,3
    09FA1089_1,  PR11,   103,  1,   -999,     11,2,19890826,2319,-29.4480, 172.7443, 2040,      3.3,  17.6890,  35.6580,2,  35.6600,2,    178.9,2,    232.5,2,     1.37,3,     1.33,3,     0.31,3
    09FA1089_1,  PR11,   103,  1,   -999,     19,2,19890826,2319,-29.4480, 172.7443, 2040,     47.9,  17.6560,  35.6720,2,  35.6680,2,    232.9,2,    229.0,2,     1.17,3,     1.33,3,     0.31,3
    09FA1089_1,  PR11,   103,  1,   -999,     28,2,19890826,2319,-29.4480, 172.7443, 2040,     98.6,  17.6070,  35.6630,2,  35.6630,2,    230.1,2,    230.1,2,     0.98,3,     1.71,3,     0.29,3
    09FA1089_1,  PR11,   103,  1,   -999,     20,2,19890826,2319,-29.4480, 172.7443, 2040,    148.0,  17.3260,  35.6290,2,  35.6310,2,    219.4,2,    217.6,2,     1.37,3,     3.04,3,     0.37,3
    09FA1089_1,  PR11,   103,  1,   -999,      3,2,19890826,2319,-29.4480, 172.7443, 2040,    198.4,  15.9580,  35.4960,2,  35.4980,2,    201.2,2,    199.0,2,     2.34,3,     6.65,3,     0.61,3
    09FA1089_1,  PR11,   103,  1,   -999,     30,2,19890826,2319,-29.4480, 172.7443, 2040,    298.3,  14.2460,  35.3170,2,  35.3170,2,    195.4,2,    197.2,2,     3.42,3,     9.31,3,     0.75,3
    09FA1089_1,  PR11,   103,  1,   -999,      9,2,19890826,2319,-29.4480, 172.7443, 2040,    397.8,  12.0550,  35.0460,2,  35.0740,2,    192.5,2,    195.4,2,     4.98,3,    12.73,3,     0.95,3
    09FA1089_1,  PR11,   103,  1,   -999,     18,2,19890826,2319,-29.4480, 172.7443, 2040,    498.8,  10.0810,  34.8110,2,  34.8230,2,    192.9,2,    192.0,2,     8.21,3,    18.25,3,     1.32,3
    09FA1089_1,  PR11,   103,  1,   -999,     27,2,19890826,2319,-29.4480, 172.7443, 2040,    598.8,   8.7370,  34.6540,2,  34.6540,2,    197.2,2,    198.2,2,    10.07,3,    20.91,3,     1.44,3
    09FA1089_1,  PR11,   103,  1,   -999,      2,2,19890826,2319,-29.4480, 172.7443, 2040,    798.1,   6.9220,  34.5110,2,  34.5130,2,    197.6,2,    196.7,2,    18.57,3,    25.09,3,     1.73,3
    09FA1089_1,  PR11,   103,  1,   -999,      5,2,19890826,2319,-29.4480, 172.7443, 2040,    922.9,   5.6700,  34.4410,2,  34.4430,2,    193.9,2,    191.9,2,    29.52,3,    30.03,3,     2.09,3
    09FA1089_1,  PR11,   103,  1,   -999,     24,2,19890826,2319,-29.4480, 172.7443, 2040,    997.8,   5.3690,  34.4410,2,  34.4430,2,    187.0,2,    187.8,2,    32.55,3,    30.61,3,     2.18,3
    09FA1089_1,  PR11,   103,  1,   -999,     31,2,19890826,2319,-29.4480, 172.7443, 2040,   1247.5,   4.0320,  34.4900,2,  34.4880,2,    173.9,2,    182.2,2,  -999.00,5,    33.83,3,     2.41,3
    09FA1089_1,  PR11,   103,  1,   -999,     10,2,19890826,2319,-29.4480, 172.7443, 2040,   1448.4,   3.4070,  34.5460,2,  34.5430,2,    165.4,2,    164.3,2,    81.82,3,    35.16,3,     2.50,3
    09FA1089_1,  PR11,   103,  1,   -999,     12,2,19890826,2319,-29.4480, 172.7443, 2040,   2039.5,   2.3020,  34.6450,2,  34.6470,2,    156.1,2,    155.6,2,   114.17,3,    36.68,3,     2.62,3
    09FA1089_1,  PR11,   105,  1,   -999,     11,2,19890827,0421,-28.7957, 172.8335, 1800,      3.4,  18.9010,  35.6620,2,  35.6610,2,    219.0,2,    229.8,2,  -999.00,5,  -999.00,5,  -999.00,5
    09FA1089_1,  PR11,   105,  1,   -999,     28,2,19890827,0421,-28.7957, 172.8335, 1800,     47.9,  18.4160,  35.6570,2,  35.6550,2,    231.7,2,    226.7,2,     0.88,3,     1.52,3,     0.32,3
    09FA1089_1,  PR11,   105,  1,   -999,     20,2,19890827,0421,-28.7957, 172.8335, 1800,     98.5,  18.2880,  35.6560,2,  35.6540,2,    227.3,2,    225.6,2,     0.88,3,     1.71,3,     0.31,3
    09FA1089_1,  PR11,   105,  1,   -999,      3,2,19890827,0421,-28.7957, 172.8335, 1800,    147.7,  17.5900,  35.5860,2,  35.5890,2,    222.5,2,    192.1,2,     1.66,3,     5.51,3,     0.55,3
    09FA1089_1,  PR11,   105,  1,   -999,     30,2,19890827,0421,-28.7957, 172.8335, 1800,    197.9,  16.2070,  35.4820,2,  35.4820,2,    191.0,2,    189.7,2,     2.54,3,     7.79,3,     0.69,3
    09FA1089_1,  PR11,   105,  1,   -999,     18,2,19890827,0421,-28.7957, 172.8335, 1800,    396.4,  12.3690,  35.0940,2,  35.0960,2,    185.8,2,    189.6,2,     5.77,3,    14.44,3,     1.08,3
    09FA1089_1,  PR11,   105,  1,   -999,     27,2,19890827,0421,-28.7957, 172.8335, 1800,    498.6,  10.8950,  34.9210,2,  34.9210,2,    187.3,2,    189.2,2,     7.82,3,    17.29,3,     1.23,3
    09FA1089_1,  PR11,   105,  1,   -999,      2,2,19890827,0421,-28.7957, 172.8335, 1800,    598.6,   9.5610,  34.7680,2,  34.7680,2,    189.2,2,    189.9,2,    10.26,3,    19.96,3,     1.36,3
    09FA1089_1,  PR11,   105,  1,   -999,      5,2,19890827,0421,-28.7957, 172.8335, 1800,    798.8,   6.9080,  34.4730,2,  34.4740,2,    199.0,2,   -999.0,5,    15.64,3,    25.81,3,     1.81,3
    09FA1089_1,  PR11,   105,  1,   -999,     24,2,19890827,0421,-28.7957, 172.8335, 1800,    976.8,   5.4490,  34.4150,2,  34.4160,2,    190.9,2,    194.0,2,    27.96,3,    30.23,3,     2.10,3
    09FA1089_1,  PR11,   105,  1,   -999,     31,2,19890827,0421,-28.7957, 172.8335, 1800,   1218.3,   4.0690,  34.4680,2,  34.4720,2,    173.9,2,    174.6,2,    57.97,3,    34.03,3,     2.37,3
    09FA1089_1,  PR11,   105,  1,   -999,     21,2,19890827,0421,-28.7957, 172.8335, 1800,   1498.0,   3.0950,  34.5700,2,  34.5710,2,    160.8,2,    161.8,2,  -999.00,5,  -999.00,5,  -999.00,5
    09FA1089_1,  PR11,   105,  1,   -999,     12,2,19890827,0421,-28.7957, 172.8335, 1800,   1745.9,   2.6410,  34.6130,2,  34.6150,2,    157.6,2,    156.3,2,    97.16,3,    34.59,3,     2.37,3
    09FA1089_1,  PR11,   107,  1,   -999,     11,2,19890827,0856,-28.2533, 172.9090, 2190,      3.6,  19.1010,  35.6770,2,  35.6820,2,    203.1,2,    227.4,2,     0.88,3,     0.76,3,     0.28,3
    09FA1089_1,  PR11,   107,  1,   -999,      4,2,19890827,0856,-28.2533, 172.9090, 2190,     48.2,  18.8860,  35.6640,2,  35.6660,2,    228.5,2,    223.9,2,     0.88,3,     1.14,3,     0.26,3
    09FA1089_1,  PR11,   107,  1,   -999,     19,2,19890827,0856,-28.2533, 172.9090, 2190,     97.8,  18.7370,  35.6640,2,  35.6620,2,    220.4,2,    222.9,2,     0.88,3,     1.52,3,     0.28,3
    09FA1089_1,  PR11,   107,  1,   -999,     28,2,19890827,0856,-28.2533, 172.9090, 2190,    148.3,  18.4960,  35.6510,2,  35.6490,2,    213.6,2,    217.4,2,     0.88,3,     2.09,3,     0.31,3
    09FA1089_1,  PR11,   107,  1,   -999,     20,2,19890827,0856,-28.2533, 172.9090, 2190,    198.6,  17.0690,  35.5440,2,  35.5440,2,    188.1,2,    190.8,2,     2.05,3,     6.45,3,     0.57,3
    09FA1089_1,  PR11,   107,  1,   -999,      3,2,19890827,0856,-28.2533, 172.9090, 2190,    299.1,  14.7230,  35.3250,2,  35.3260,2,    185.6,2,    186.5,2,     3.61,3,    10.64,3,     0.83,3
    09FA1089_1,  PR11,   107,  1,   -999,     30,2,19890827,0856,-28.2533, 172.9090, 2190,    343.5,  13.7260,  35.2330,2,  35.2320,2,    188.1,2,    186.2,2,     4.40,3,    12.15,3,     0.95,3
    09FA1089_1,  PR11,   107,  1,   -999,      9,2,19890827,0856,-28.2533, 172.9090, 2190,    399.0,  12.7060,  35.1240,2,  35.1220,2,    185.2,2,    190.6,2,     5.47,3,    14.06,3,     1.07,3
    09FA1089_1,  PR11,   107,  1,   -999,     18,2,19890827,0856,-28.2533, 172.9090, 2190,    497.9,  10.5810,  34.8490,2,  34.8480,2,    189.2,2,    192.7,2,     7.13,3,    18.43,3,     1.32,3
    09FA1089_1,  PR11,   107,  1,   -999,     27,2,19890827,0856,-28.2533, 172.9090, 2190,    600.1,   8.6200,  34.6160,2,  34.6160,2,    193.0,2,    199.9,2,     9.58,3,    22.42,3,     1.57,3
    09FA1089_1,  PR11,   107,  1,   -999,      2,2,19890827,0856,-28.2533, 172.9090, 2190,    799.1,   6.4410,  34.4290,2,  34.4400,2,    201.1,2,    203.6,2,    17.89,3,    27.75,3,     1.92,3
    09FA1089_1,  PR11,   107,  1,   -999,      5,2,19890827,0856,-28.2533, 172.9090, 2190,    925.6,   5.6040,  34.4120,2,  34.4120,2,    193.7,2,    194.3,2,    26.40,3,    30.61,3,     2.10,3
    09FA1089_1,  PR11,   107,  1,   -999,     24,2,19890827,0856,-28.2533, 172.9090, 2190,   1208.6,   4.0080,  34.4820,2,  34.4810,2,    174.3,2,    173.3,2,    57.97,3,    33.27,3,     2.22,3
    09FA1089_1,  PR11,   107,  1,   -999,     31,2,19890827,0856,-28.2533, 172.9090, 2190,   1464.2,   3.2590,  34.5490,2,  34.5480,2,    163.6,2,    164.6,2,    86.90,3,    36.30,3,     2.52,3
    09FA1089_1,  PR11,   107,  1,   -999,     10,2,19890827,0856,-28.2533, 172.9090, 2190,   1499.3,   3.1730,  34.5570,2,  34.5550,2,    162.8,2,    162.9,2,  -999.00,5,  -999.00,5,  -999.00,5
    09FA1089_1,  PR11,   107,  1,   -999,     21,2,19890827,0856,-28.2533, 172.9090, 2190,   1747.7,   2.6900,  34.6050,2,  34.6030,2,    157.0,2,    158.1,2,   100.58,3,    36.49,3,     2.52,3
    09FA1089_1,  PR11,   107,  1,   -999,     12,2,19890827,0856,-28.2533, 172.9090, 2190,   2188.7,   2.1300,  34.6560,2,  34.6520,2,    155.0,2,    154.3,2,   121.01,3,    38.01,3,     2.65,3
    09FA1089_1,  PR11,   109,  1,   -999,     11,2,19890827,1428,-28.2487, 172.1263, 2480,      3.4,  19.5200,  35.6630,2,  35.6600,2,    192.8,2,    222.9,2,     1.07,3,     0.77,3,     0.25,3
    09FA1089_1,  PR11,   109,  1,   -999,      4,2,19890827,1428,-28.2487, 172.1263, 2480,     48.2,  19.3920,  35.6640,2,  35.6610,2,    225.7,2,    225.7,2,     0.88,3,     0.77,3,     0.28,3
    09FA1089_1,  PR11,   109,  1,   -999,     19,2,19890827,1428,-28.2487, 172.1263, 2480,     98.4,  19.3170,  35.6660,2,  35.6610,2,    225.1,2,    225.3,2,     0.88,3,     0.77,3,     0.23,3
    09FA1089_1,  PR11,   109,  1,   -999,     27,2,19890827,1428,-28.2487, 172.1263, 2480,    148.6,  19.2350,  35.6570,2,  35.6560,2,    219.7,2,    219.8,2,     0.88,3,     1.15,3,     0.23,3
    09FA1089_1,  PR11,   109,  1,   -999,     29,2,19890827,1428,-28.2487, 172.1263, 2480,    198.7,  18.6160,  35.6420,2,  35.6380,2,    201.1,2,    200.8,2,     1.17,3,     3.47,3,     0.37,3
    09FA1089_1,  PR11,   109,  1,   -999,     26,2,19890827,1428,-28.2487, 172.1263, 2480,    298.5,  16.3310,  35.4790,2,  35.4770,2,    184.9,2,    185.5,2,     2.44,3,     7.71,3,     0.63,3
    09FA1089_1,  PR11,   109,  1,   -999,     28,2,19890827,1428,-28.2487, 172.1263, 2480,    398.5,  13.4040,  35.1740,2,  35.1820,2,    182.1,2,    187.9,2,     4.30,3,    11.94,3,     0.87,3
    09FA1089_1,  PR11,   109,  1,   -999,     20,2,19890827,1428,-28.2487, 172.1263, 2480,    499.4,  11.4760,  34.9540,2,  34.9490,2,    183.9,2,    187.5,2,     6.25,3,    15.99,3,     1.11,3
    09FA1089_1,  PR11,   109,  1,   -999,      3,2,19890827,1428,-28.2487, 172.1263, 2480,    598.2,   9.8140,  34.7760,2,  34.7720,2,    187.9,2,   -999.0,5,     9.87,3,    20.43,3,     1.44,3
    09FA1089_1,  PR11,   109,  1,   -999,     30,2,19890827,1428,-28.2487, 172.1263, 2480,    698.5,   8.8250,  34.6900,2,  34.6990,2,    188.8,2,    190.3,2,    13.98,3,    22.73,3,     1.60,3
    09FA1089_1,  PR11,   109,  1,   -999,      9,2,19890827,1428,-28.2487, 172.1263, 2480,    799.5,   7.3780,  34.5630,2,  34.5620,2,    184.4,2,    191.0,2,    20.92,3,    26.21,3,     1.84,3
    09FA1089_1,  PR11,   109,  1,   -999,     17,2,19890827,1428,-28.2487, 172.1263, 2480,   1067.1,   4.8920,  34.4530,2,  34.4550,2,    172.6,2,    181.6,2,    40.57,3,    32.18,3,     2.27,3
    09FA1089_1,  PR11,   109,  1,   -999,      2,2,19890827,1428,-28.2487, 172.1263, 2480,   1218.0,   4.0450,  34.4800,2,  34.4830,2,    163.5,2,    172.3,2,    62.17,3,    34.50,3,     2.41,3
    09FA1089_1,  PR11,   109,  1,   -999,      5,2,19890827,1428,-28.2487, 172.1263, 2480,   1424.0,   3.2820,  34.5530,2,  34.5550,2,    160.8,2,    162.7,2,    86.31,3,    36.03,3,     2.53,3
    09FA1089_1,  PR11,   109,  1,   -999,     24,2,19890827,1428,-28.2487, 172.1263, 2480,   1498.8,   3.0900,  34.5720,2,  34.5750,2,    157.2,2,    158.9,2,    91.49,3,    36.23,3,     2.56,3
    09FA1089_1,  PR11,   109,  1,   -999,     31,2,19890827,1428,-28.2487, 172.1263, 2480,   1748.4,   2.5920,  34.6170,2,  34.6260,2,    155.4,2,    156.1,2,   105.27,3,    36.22,3,     2.56,3
    09FA1089_1,  PR11,   109,  1,   -999,     10,2,19890827,1428,-28.2487, 172.1263, 2480,   1999.7,   2.2440,  34.6460,2,  34.6430,2,    155.1,2,    153.4,2,   117.39,3,    37.38,3,     2.64,3
    09FA1089_1,  PR11,   109,  1,   -999,     21,2,19890827,1428,-28.2487, 172.1263, 2480,   2233.0,   2.0450,  34.6630,2,  34.6590,2,    154.4,2,    154.0,2,   122.47,3,    37.77,3,     2.65,3
    09FA1089_1,  PR11,   109,  1,   -999,     12,2,19890827,1428,-28.2487, 172.1263, 2480,   2477.4,   1.9770,  34.6700,2,  34.6680,2,    154.4,2,    154.4,2,   120.81,3,    36.42,3,     2.53,3
    09FA1089_1,  PR11,   111,  1,   -999,     11,2,19890827,2009,-28.2580, 171.3218, 3520,      3.8,  19.3590,  35.6610,2,  35.6640,2,    186.4,2,    221.2,2,     1.17,3,     1.15,3,     0.32,3
    09FA1089_1,  PR11,   111,  1,   -999,      6,2,19890827,2009,-28.2580, 171.3218, 3520,     49.0,  19.3360,  35.6620,2,  35.6610,2,    224.0,2,    218.5,2,     1.07,3,     1.15,3,     0.28,3
    09FA1089_1,  PR11,   111,  1,   -999,      4,2,19890827,2009,-28.2580, 171.3218, 3520,     98.2,  19.0410,  35.6540,2,  35.6540,2,    226.0,2,    216.4,2,     0.88,3,     1.73,3,     0.34,3
    09FA1089_1,  PR11,   111,  1,   -999,     19,2,19890827,2009,-28.2580, 171.3218, 3520,    148.5,  18.6840,  35.6610,2,  35.6590,2,    223.3,2,    221.5,2,     0.88,3,     1.35,3,     0.29,3
    09FA1089_1,  PR11,   111,  1,   -999,     27,2,19890827,2009,-28.2580, 171.3218, 3520,    199.2,  18.0280,  35.6090,2,  35.6080,2,    217.3,2,    189.5,2,     1.56,3,     4.42,3,     0.47,3
    09FA1089_1,  PR11,   111,  1,   -999,     29,2,19890827,2009,-28.2580, 171.3218, 3520,    298.3,  15.4900,  35.4170,2,  35.4200,2,    185.5,2,    189.7,2,     3.13,3,     8.67,3,     0.72,3
    09FA1089_1,  PR11,   111,  1,   -999,     26,2,19890827,2009,-28.2580, 171.3218, 3520,    398.8,  12.7320,  35.1230,2,  35.1060,2,    183.3,2,    189.3,2,     5.67,3,    14.44,3,     1.06,3
    09FA1089_1,  PR11,   111,  1,   -999,     28,2,19890827,2009,-28.2580, 171.3218, 3520,    499.3,  11.2140,  34.9440,2,  34.9480,2,    184.2,2,    189.0,2,     6.94,3,    16.56,3,     1.18,3
    09FA1089_1,  PR11,   111,  1,   -999,     20,2,19890827,2009,-28.2580, 171.3218, 3520,    598.6,   9.3290,  34.7330,2,  34.7370,2,    189.6,2,    190.0,2,    11.04,3,    20.81,3,     1.41,3
    09FA1089_1,  PR11,   111,  1,   -999,      3,2,19890827,2009,-28.2580, 171.3218, 3520,    800.8,   7.0030,  34.5110,2,  34.5120,2,    193.5,2,    195.4,2,    20.92,3,    27.18,3,     1.85,3
    09FA1089_1,  PR11,   111,  1,   -999,     30,2,19890827,2009,-28.2580, 171.3218, 3520,    949.5,   5.7770,  34.4820,2,  34.4910,2,    185.5,2,    186.8,2,    34.21,3,    30.45,3,     2.09,3
    09FA1089_1,  PR11,   111,  1,   -999,      9,2,19890827,2009,-28.2580, 171.3218, 3520,    999.3,   5.3980,  34.4820,2,  34.4840,2,    180.4,2,    183.0,2,    39.00,3,    31.60,3,     2.18,3
    09FA1089_1,  PR11,   111,  1,   -999,     18,2,19890827,2009,-28.2580, 171.3218, 3520,   1248.1,   4.1400,  34.5110,2,  34.5130,2,    170.4,2,    169.2,2,    69.01,3,    34.68,3,     2.44,3
    09FA1089_1,  PR11,   111,  1,   -999,     17,2,19890827,2009,-28.2580, 171.3218, 3520,   1499.8,   3.1730,  34.5670,2,  34.5650,2,    160.2,2,    161.3,2,    91.49,3,    36.42,3,     2.54,3
    09FA1089_1,  PR11,   111,  1,   -999,      2,2,19890827,2009,-28.2580, 171.3218, 3520,   1749.9,   2.6790,  34.6080,2,  34.6070,2,    155.7,2,   -999.0,5,   105.27,3,    37.34,3,     2.61,3
    09FA1089_1,  PR11,   111,  1,   -999,      5,2,19890827,2009,-28.2580, 171.3218, 3520,   2001.5,   2.3150,  34.6380,2,  34.6360,2,    153.7,2,    153.0,2,   113.87,3,    38.15,3,     2.65,3
    09FA1089_1,  PR11,   111,  1,   -999,     24,2,19890827,2009,-28.2580, 171.3218, 3520,   2249.6,   2.1290,  34.6550,2,  34.6520,2,    152.6,2,    152.7,2,   124.23,3,    38.34,3,     2.68,3
    09FA1089_1,  PR11,   111,  1,   -999,     31,2,19890827,2009,-28.2580, 171.3218, 3520,   2499.0,   1.9840,  34.6690,2,  34.6660,2,    153.0,2,    153.0,2,   127.65,3,    38.54,3,     2.67,3
    09FA1089_1,  PR11,   111,  1,   -999,     10,2,19890827,2009,-28.2580, 171.3218, 3520,   2799.1,   1.9120,  34.6760,2,  34.6730,2,    153.9,2,   -999.0,5,   129.41,3,    38.31,3,     2.67,3
    09FA1089_1,  PR11,   111,  1,   -999,     21,2,19890827,2009,-28.2580, 171.3218, 3520,   3099.3,   1.8510,  34.6840,2,  34.6790,2,    154.1,2,    154.7,2,   131.17,3,    37.95,3,     2.67,3
    09FA1089_1,  PR11,   111,  1,   -999,     12,2,19890827,2009,-28.2580, 171.3218, 3520,   3516.6,   1.8480,  34.6870,2,  34.6880,2,    154.9,2,    156.1,2,   125.99,3,    37.19,3,     2.57,3