BOTTLE,20010820WHPSIOKJU
EXPOCODE,SECT_ID,STNNBR,CASTNO,SAMPNO,BTLNBR,BTLNBR_FLAG_W,DATE,TIME,LATITUDE,LONGITUDE,DEPTH,CTDPRS,CTDTMP,CTDSAL,CTDSAL_FLAG_W,SALNTY,SALNTY_FLAG_W,CTDOXY,CTDOXY_FLAG_W,OXYGEN,OXYGEN_FLAG_W,SILCAT,SILCAT_FLAG_W,NO2+NO3,NO2+NO3_FLAG_W,PHSPHT,PHSPHT_FLAG_W
,,,,,,,,,,,,DBR,ITS-90,PSS-78,,PSS-78,,UMOL/KG,,UMOL/KG,,UMOL/KG,,UMOL/KG,,UMOL/KG,
    09FA1089_1, PR13N,    63,  1,   -999,     11,2,19890822,0015,-43.2382, 168.0753, 1150,      2.0,  12.7580,  35.1820,2,  35.1800,2,    208.2,2,    253.0,2,     1.37,3,     4.90,3,     0.57,3
    09FA1089_1, PR13N,    63,  1,   -999,     20,2,19890822,0015,-43.2382, 168.0753, 1150,     49.6,  12.6670,  35.1810,2,  35.1790,2,    252.8,2,    251.3,2,     1.37,3,     4.90,3,     0.55,3
    09FA1089_1, PR13N,    63,  1,   -999,     12,2,19890822,0015,-43.2382, 168.0753, 1150,     99.6,  12.6680,  35.1810,2,  35.1770,2,    252.0,2,    256.8,2,     1.37,3,     5.10,3,     0.55,3
    09FA1089_1, PR13N,    63,  1,   -999,     28,2,19890822,0015,-43.2382, 168.0753, 1150,    149.0,  12.3290,  35.1440,2,  35.1440,2,    244.9,2,    219.2,2,     3.22,3,     9.36,3,     0.78,3
    09FA1089_1, PR13N,    63,  1,   -999,     30,2,19890822,0015,-43.2382, 168.0753, 1150,    199.6,  11.8600,  35.0790,2,  -9.9999,5,    213.5,2,    210.6,2,     4.01,3,    11.73,3,     0.89,3
    09FA1089_1, PR13N,    63,  1,   -999,      1,2,19890822,0015,-43.2382, 168.0753, 1150,    298.5,  10.9010,  34.9330,2,  -9.9999,5,    205.0,2,    205.0,2,     5.37,3,    15.31,3,     1.09,3
    09FA1089_1, PR13N,    63,  1,   -999,      4,2,19890822,0015,-43.2382, 168.0753, 1150,    398.0,   9.8290,  34.7770,2,  34.7820,2,    202.3,2,    202.6,2,     6.55,3,    18.30,3,     1.26,3
    09FA1089_1, PR13N,    63,  1,   -999,      6,2,19890822,0015,-43.2382, 168.0753, 1150,    499.5,   8.6080,  34.6190,2,  34.6160,2,    201.7,2,    205.0,2,     9.48,3,    22.55,3,     1.52,3
    09FA1089_1, PR13N,    63,  1,   -999,      5,2,19890822,0015,-43.2382, 168.0753, 1150,    598.3,   7.8870,  34.5650,2,  34.5640,2,    188.8,2,    191.2,2,    14.08,3,    25.53,3,     1.71,3
    09FA1089_1, PR13N,    63,  1,   -999,      8,2,19890822,0015,-43.2382, 168.0753, 1150,    798.1,   6.2790,  34.4780,2,  34.4770,2,    177.1,2,    176.7,2,    26.20,3,    30.42,3,     2.03,3
    09FA1089_1, PR13N,    63,  1,   -999,     21,2,19890822,0015,-43.2382, 168.0753, 1150,   1000.6,   4.9580,  34.4400,2,  34.4430,2,    177.9,2,    177.7,2,    37.83,3,    33.19,3,     2.23,3
    09FA1089_1, PR13N,    63,  1,   -999,      3,2,19890822,0015,-43.2382, 168.0753, 1150,   1148.4,   4.2970,  34.4600,2,  34.4640,2,    170.2,2,    168.3,2,    55.04,3,    35.10,3,     2.36,3
    09FA1089_1, PR13N,    65,  1,   -999,     11,2,19890822,0400,-43.6873, 168.4585, 1652,      4.7,  13.3130,  35.2500,2,  35.2480,2,    237.9,2,    249.9,2,  -999.00,5,  -999.00,5,  -999.00,5
    09FA1089_1, PR13N,    65,  1,   -999,     18,2,19890822,0400,-43.6873, 168.4585, 1652,     49.5,  13.1080,  35.2290,2,  35.2290,2,    241.1,2,    244.8,2,  -999.00,5,  -999.00,5,  -999.00,5
    09FA1089_1, PR13N,    65,  1,   -999,     29,2,19890822,0400,-43.6873, 168.4585, 1652,     97.7,  12.8750,  35.1910,2,  35.1880,2,    252.5,2,    248.9,2,  -999.00,5,  -999.00,5,  -999.00,5
    09FA1089_1, PR13N,    65,  1,   -999,     23,2,19890822,0400,-43.6873, 168.4585, 1652,    149.5,  12.7970,  35.1890,2,  35.1900,2,    249.8,2,    251.3,2,  -999.00,5,  -999.00,5,  -999.00,5
    09FA1089_1, PR13N,    65,  1,   -999,     20,2,19890822,0400,-43.6873, 168.4585, 1652,    198.0,  12.6950,  35.1760,2,  35.1730,2,    210.1,2,    232.7,2,  -999.00,5,  -999.00,5,  -999.00,5
    09FA1089_1, PR13N,    65,  1,   -999,     12,2,19890822,0400,-43.6873, 168.4585, 1652,    300.0,  11.5510,  35.0350,2,  35.0360,2,    207.4,2,    205.7,2,  -999.00,5,  -999.00,5,  -999.00,5
    09FA1089_1, PR13N,    65,  1,   -999,     30,2,19890822,0400,-43.6873, 168.4585, 1652,    496.4,   9.2800,  34.6930,2,  34.6970,2,    206.6,2,    209.8,2,  -999.00,5,  -999.00,5,  -999.00,5
    09FA1089_1, PR13N,    65,  1,   -999,      1,2,19890822,0400,-43.6873, 168.4585, 1652,    597.7,   8.7070,  34.6270,2,  34.6280,2,    200.1,2,    206.7,2,     8.80,3,    22.33,3,     1.49,3
    09FA1089_1, PR13N,    65,  1,   -999,      4,2,19890822,0400,-43.6873, 168.4585, 1652,    799.5,   6.9800,  34.5240,2,  34.5390,2,    182.1,2,    183.2,2,    21.11,3,    28.08,3,     1.83,3
    09FA1089_1, PR13N,    65,  1,   -999,      6,2,19890822,0400,-43.6873, 168.4585, 1652,    998.2,   5.5040,  34.4600,2,  34.4610,2,    173.5,2,    171.1,2,    33.73,3,    32.77,3,     2.14,3
    09FA1089_1, PR13N,    65,  1,   -999,      5,2,19890822,0400,-43.6873, 168.4585, 1652,   1263.6,   4.0610,  34.4870,2,  34.4860,2,    168.1,2,    166.6,2,    61.88,3,    36.17,3,     2.38,3
    09FA1089_1, PR13N,    65,  1,   -999,      8,2,19890822,0400,-43.6873, 168.4585, 1652,   1483.7,   3.3170,  34.5360,2,  34.5370,2,    163.2,2,    160.7,2,    77.42,3,    36.80,3,     2.45,3
    09FA1089_1, PR13N,    65,  1,   -999,     21,2,19890822,0400,-43.6873, 168.4585, 1652,   1503.5,   3.2320,  34.5470,2,  34.5520,2,    161.4,2,    160.0,2,    80.84,3,    37.44,3,     2.51,3
    09FA1089_1, PR13N,    65,  1,   -999,      3,2,19890822,0400,-43.6873, 168.4585, 1652,   1648.7,   2.8740,  34.5910,2,  34.5920,2,    159.8,2,    156.6,2,    91.20,3,    37.65,3,     2.54,3
    09FA1089_1, PR13N,    67,  1,   -999,     11,2,19890822,0624,-43.7925, 168.5248, 1000,      3.7,  13.6070,  35.2180,2,  35.2190,2,    258.9,2,    252.0,2,     1.66,3,     2.34,3,     0.45,3
    09FA1089_1, PR13N,    67,  1,   -999,     12,2,19890822,0624,-43.7925, 168.5248, 1000,     48.3,  13.7160,  35.2550,2,  35.2530,2,    248.5,2,    247.5,2,     1.66,3,     2.76,3,     0.43,3
    09FA1089_1, PR13N,    67,  1,   -999,     28,2,19890822,0624,-43.7925, 168.5248, 1000,     98.3,  13.8070,  35.2930,2,  35.2910,2,    243.2,2,    242.4,2,     1.56,3,     3.40,3,     0.42,3
    09FA1089_1, PR13N,    67,  1,   -999,     30,2,19890822,0624,-43.7925, 168.5248, 1000,    147.6,  13.7730,  35.2900,2,  35.2880,2,    237.8,2,    240.3,2,     1.66,3,     4.04,3,     0.46,3
    09FA1089_1, PR13N,    67,  1,   -999,      1,2,19890822,0624,-43.7925, 168.5248, 1000,    197.9,  13.5750,  35.2620,2,  35.2610,2,    236.0,2,    235.1,2,     1.66,3,     4.68,3,     0.48,3
    09FA1089_1, PR13N,    67,  1,   -999,      4,2,19890822,0624,-43.7925, 168.5248, 1000,    298.8,  12.5910,  35.1680,2,  35.1640,2,    219.1,2,    217.1,2,     3.42,3,     9.57,3,     0.75,3
    09FA1089_1, PR13N,    67,  1,   -999,      6,2,19890822,0624,-43.7925, 168.5248, 1000,    397.5,  11.2850,  34.9910,2,  34.9950,2,    203.6,2,    207.1,2,     4.98,3,    14.25,3,     1.01,3
    09FA1089_1, PR13N,    67,  1,   -999,      5,2,19890822,0624,-43.7925, 168.5248, 1000,    498.2,   9.8400,  34.7900,2,  34.7920,2,    200.0,2,    202.6,2,     7.13,3,    18.93,3,     1.25,3
    09FA1089_1, PR13N,    67,  1,   -999,      8,2,19890822,0624,-43.7925, 168.5248, 1000,    597.8,   8.3000,  34.6120,2,  34.6130,2,    193.2,2,    194.3,2,    12.80,3,    24.68,3,     1.60,3
    09FA1089_1, PR13N,    67,  1,   -999,     21,2,19890822,0624,-43.7925, 168.5248, 1000,    799.4,   7.2660,  34.5450,2,  34.5500,2,    183.6,2,    185.3,2,    20.04,3,    28.30,3,     1.83,3
    09FA1089_1, PR13N,    67,  1,   -999,      3,2,19890822,0624,-43.7925, 168.5248, 1000,    999.5,   5.9350,  34.4810,2,  34.4840,2,    173.2,2,    174.2,2,    30.60,3,    32.12,3,     2.06,3
    09FA1089_1, PR13N,    69,  1,   -999,     11,2,19890822,0818,-43.8738, 168.6438,  500,      4.7,  12.5210,  34.5250,2,  34.5360,2,    216.7,2,    268.0,2,     2.54,3,     0.39,3,     0.34,3
    09FA1089_1, PR13N,    69,  1,   -999,      1,2,19890822,0818,-43.8738, 168.6438,  500,     47.7,  13.6100,  35.1350,2,  35.1340,2,    246.4,2,    244.1,2,     1.95,3,     2.76,3,     0.42,3
    09FA1089_1, PR13N,    69,  1,   -999,      4,2,19890822,0818,-43.8738, 168.6438,  500,     98.3,  13.7320,  35.2050,2,  35.2020,2,    238.8,2,    239.6,2,     1.95,3,     3.54,3,     0.50,3
    09FA1089_1, PR13N,    69,  1,   -999,      6,2,19890822,0818,-43.8738, 168.6438,  500,    149.1,  13.7180,  35.2150,2,  35.2160,2,    239.1,2,    239.6,2,     1.95,3,     3.73,3,     0.47,3
    09FA1089_1, PR13N,    69,  1,   -999,      5,2,19890822,0818,-43.8738, 168.6438,  500,    198.4,  13.6800,  35.2170,2,  35.2180,2,    234.9,2,    227.5,2,     2.15,3,     3.93,3,     0.47,3
    09FA1089_1, PR13N,    69,  1,   -999,      8,2,19890822,0818,-43.8738, 168.6438,  500,    299.0,  13.1180,  35.2120,2,  35.2120,2,    208.3,2,   -999.0,5,     2.64,3,     6.49,3,     0.64,3
    09FA1089_1, PR13N,    69,  1,   -999,     21,2,19890822,0818,-43.8738, 168.6438,  500,    398.1,  11.2560,  34.9830,2,  34.9860,2,    195.9,2,    208.1,2,     5.57,3,    13.56,3,     1.03,3
    09FA1089_1, PR13N,    69,  1,   -999,      3,2,19890822,0818,-43.8738, 168.6438,  500,    499.5,   9.3210,  34.7450,2,  34.7440,2,    195.9,2,    199.1,2,    11.24,3,    19.85,3,     1.40,3
    09FA1089_1, PR13N,    71,  1,   -999,      8,2,19890822,0930,-43.8920, 168.6655,   74,      3.6,  12.2750,  34.2830,2,  34.2830,2,    270.8,2,    270.4,2,     2.84,3,     0.20,3,     0.30,3
    09FA1089_1, PR13N,    71,  1,   -999,     21,2,19890822,0930,-43.8920, 168.6655,   74,     48.8,  13.6790,  35.1530,2,  35.1500,2,    242.2,2,    242.7,2,     1.86,3,     2.76,3,     0.41,3
    09FA1089_1, PR13N,    71,  1,   -999,      3,2,19890822,0930,-43.8920, 168.6655,   74,     73.6,  13.7080,  35.1870,2,  35.1900,2,    237.4,2,    239.3,2,     1.86,3,     3.54,3,     0.44,3
    09FA1089_1, PR13N,    73,  1,   -999,     21,2,19890822,1006,-43.9095, 168.6707,   44,      3.8,  12.3090,  34.1920,2,  34.2140,2,    267.0,2,    268.7,2,     2.64,3,     0.20,3,     0.28,3
    09FA1089_1, PR13N,    73,  1,   -999,      3,2,19890822,1006,-43.9095, 168.6707,   44,     43.5,  13.6770,  35.1640,2,  35.1640,2,    234.6,2,    238.6,2,     1.95,3,     3.73,3,     0.48,3
    09FA1089_1,  PR11,    75,  1,   -999,     11,2,19890825,0608,-34.3215, 172.6608,   84,      4.6,  16.0520,  35.3720,2,  35.3710,2,    151.1,2,    240.4,2,     1.86,3,     3.15,3,     0.39,3
    09FA1089_1,  PR11,    75,  1,   -999,     21,2,19890825,0608,-34.3215, 172.6608,   84,     48.6,  15.9520,  35.3910,2,  35.3920,2,    234.4,2,    236.2,2,     1.86,3,     3.34,3,     0.41,3
    09FA1089_1,  PR11,    75,  1,   -999,     12,2,19890825,0608,-34.3215, 172.6608,   84,     83.7,  15.9560,  35.3920,2,  35.3920,2,    232.4,2,    235.6,2,     1.95,3,     3.34,3,     0.41,3
    09FA1089_1,  PR11,    77,  1,   -999,     11,2,19890825,0703,-34.2285, 172.6443,   90,      4.4,  16.5300,  35.4970,2,  35.4990,2,    183.0,2,    237.3,2,     1.76,3,     2.53,3,     0.37,3
    09FA1089_1,  PR11,    77,  1,   -999,     26,2,19890825,0703,-34.2285, 172.6443,   90,     47.8,  16.3160,  35.4790,2,  35.4790,2,    233.6,2,    233.8,2,     1.76,3,     2.89,3,     0.39,3
    09FA1089_1,  PR11,    77,  1,   -999,     12,2,19890825,0703,-34.2285, 172.6443,   90,     88.5,  16.2990,  35.4730,2,  35.4710,2,    234.3,2,    233.5,2,     1.76,3,     3.08,3,     0.40,3
    09FA1089_1,  PR11,    79,  1,   -999,     11,2,19890825,0805,-34.1208, 172.6098,   94,      5.0,  16.8540,  35.5500,2,  35.5480,2,    192.2,2,    233.9,2,     1.47,3,     2.35,3,     0.34,3
    09FA1089_1,  PR11,    79,  1,   -999,     26,2,19890825,0805,-34.1208, 172.6098,   94,     48.3,  16.6420,  35.5330,2,  35.5340,2,    232.1,2,    232.1,2,     1.56,3,     2.72,3,     0.36,3
    09FA1089_1,  PR11,    79,  1,   -999,     12,2,19890825,0805,-34.1208, 172.6098,   94,     94.9,  16.3120,  35.4960,2,  35.4980,2,    225.0,2,    227.3,2,     1.95,3,     3.80,3,     0.43,3
    09FA1089_1,  PR11,    81,  1,   -999,     11,2,19890825,0906,-34.0242, 172.5878,  348,      4.3,  16.7580,  35.5360,2,  35.5370,2,    222.0,2,    232.8,2,     1.76,3,     2.72,3,     0.53,3
    09FA1089_1,  PR11,    81,  1,   -999,     18,2,19890825,0906,-34.0242, 172.5878,  348,     49.4,  16.7520,  35.5320,2,  35.5260,2,    234.7,2,    234.9,2,     1.56,3,     2.72,3,     0.40,3
    09FA1089_1,  PR11,    81,  1,   -999,     24,2,19890825,0906,-34.0242, 172.5878,  348,     99.0,  16.3300,  35.4810,2,  35.4840,2,    235.5,2,    235.2,2,     1.76,3,     3.08,3,     0.40,3
    09FA1089_1,  PR11,    81,  1,   -999,     10,2,19890825,0906,-34.0242, 172.5878,  348,    148.1,  16.2940,  35.4790,2,  35.4810,2,    232.2,2,    233.1,2,     1.95,3,     3.44,3,     0.40,3
    09FA1089_1,  PR11,    81,  1,   -999,     12,2,19890825,0906,-34.0242, 172.5878,  348,    348.8,  12.1510,  35.0590,2,  35.0730,2,    192.3,2,    196.5,2,     7.72,3,    14.46,3,     1.05,3
    09FA1089_1,  PR11,    83,  1,   -999,     11,2,19890825,1002,-33.9858, 172.5897,  550,      4.0,  16.9360,  35.5520,2,  35.5500,2,    202.1,2,    234.2,2,     1.56,3,     2.39,3,     0.44,3
    09FA1089_1,  PR11,    83,  1,   -999,     18,2,19890825,1002,-33.9858, 172.5897,  550,     49.3,  16.2070,  35.4660,2,  35.4660,2,    235.0,2,    233.5,2,     2.05,3,     3.50,3,     0.44,3
    09FA1089_1,  PR11,    83,  1,   -999,     27,2,19890825,1002,-33.9858, 172.5897,  550,     99.2,  16.2160,  35.4680,2,  35.4710,2,    231.6,2,    232.1,2,     2.05,3,     3.50,3,     0.42,3
    09FA1089_1,  PR11,    83,  1,   -999,     24,2,19890825,1002,-33.9858, 172.5897,  550,    149.3,  15.9000,  35.4390,2,  35.4390,2,    225.1,2,    225.5,2,     2.34,3,     4.60,3,     0.47,3
    09FA1089_1,  PR11,    83,  1,   -999,     31,2,19890825,1002,-33.9858, 172.5897,  550,    199.0,  15.1630,  35.3670,2,  35.3720,2,    217.9,2,    217.6,2,     3.61,3,     6.62,3,     0.60,3
    09FA1089_1,  PR11,    83,  1,   -999,     10,2,19890825,1002,-33.9858, 172.5897,  550,    344.4,  13.4790,  35.2100,2,  35.2130,2,    196.2,2,    197.5,2,     5.18,3,    11.60,3,     0.89,3
    09FA1089_1,  PR11,    83,  1,   -999,     21,2,19890825,1002,-33.9858, 172.5897,  550,    395.1,  12.2380,  35.0760,2,  35.0740,2,    193.4,2,    190.6,2,     7.04,3,    14.35,3,     1.07,3
    09FA1089_1,  PR11,    83,  1,   -999,     12,2,19890825,1002,-33.9858, 172.5897,  550,    547.5,   9.7000,  34.7940,2,  34.7920,2,    193.4,2,   -999.0,5,    12.90,3,    20.25,3,     1.44,3
    09FA1089_1,  PR11,    85,  1,   -999,     11,2,19890825,1125,-33.8823, 172.5557, 1000,      3.5,  17.1530,  35.5860,2,  35.5870,2,    213.0,2,    231.8,2,     1.47,3,     2.21,3,     0.36,3
    09FA1089_1,  PR11,    85,  1,   -999,     20,2,19890825,1125,-33.8823, 172.5557, 1000,     48.6,  17.1700,  35.5870,2,  35.5880,2,    231.7,2,    230.1,2,     1.27,3,     2.21,3,     0.34,3
    09FA1089_1,  PR11,    85,  1,   -999,      9,2,19890825,1125,-33.8823, 172.5557, 1000,     98.8,  17.1590,  35.5910,2,  35.5880,2,    228.4,2,    229.0,2,     1.27,3,     2.21,3,     0.36,3
    09FA1089_1,  PR11,    85,  1,   -999,     18,2,19890825,1125,-33.8823, 172.5557, 1000,    148.9,  16.5030,  35.5190,2,  35.5180,2,    217.6,2,    216.3,2,     1.86,3,     4.42,3,     0.48,3
    09FA1089_1,  PR11,    85,  1,   -999,     27,2,19890825,1125,-33.8823, 172.5557, 1000,    198.8,  15.7930,  35.4500,2,  35.4490,2,    201.1,2,    202.4,2,     2.64,3,     6.81,3,     0.62,3
    09FA1089_1,  PR11,    85,  1,   -999,      2,2,19890825,1125,-33.8823, 172.5557, 1000,    300.7,  14.6520,  35.3380,2,  35.3400,2,    191.6,2,    192.4,2,     3.61,3,     9.39,3,     0.78,3
    09FA1089_1,  PR11,    85,  1,   -999,     17,2,19890825,1125,-33.8823, 172.5557, 1000,    332.7,  13.9670,  35.2700,2,  35.2690,2,    191.1,2,    194.8,2,     4.40,3,    10.67,3,     0.87,3
    09FA1089_1,  PR11,    85,  1,   -999,     24,2,19890825,1125,-33.8823, 172.5557, 1000,    399.2,  12.3810,  35.0900,2,  35.0900,2,    188.3,2,    191.0,2,     5.96,3,    13.81,3,     1.07,3
    09FA1089_1,  PR11,    85,  1,   -999,     10,2,19890825,1125,-33.8823, 172.5557, 1000,    598.0,   9.7820,  34.7960,2,  34.7950,2,    189.0,2,    191.3,2,    11.53,3,    19.69,3,     1.41,3
    09FA1089_1,  PR11,    85,  1,   -999,     21,2,19890825,1125,-33.8823, 172.5557, 1000,    798.8,   7.5860,  34.5930,2,  34.5960,2,    187.9,2,    189.9,2,    21.11,3,    24.86,3,     1.77,3
    09FA1089_1,  PR11,    85,  1,   -999,     12,2,19890825,1125,-33.8823, 172.5557, 1000,    999.7,   5.8960,  34.5230,2,  34.5230,2,    183.4,2,    179.8,2,    36.36,3,    29.09,3,     2.09,3
    09FA1089_1,  PR11,    87,  1,   -999,     11,2,19890825,1414,-33.6027, 172.4778, 1400,      3.1,  17.2690,  35.5940,2,  35.5960,2,    223.9,2,    229.0,2,     1.37,3,     2.16,3,     0.39,3
    09FA1089_1,  PR11,    87,  1,   -999,     19,2,19890825,1414,-33.6027, 172.4778, 1400,     49.0,  17.2820,  35.5960,2,  35.5970,2,    224.0,2,    229.0,2,     1.17,3,     2.16,3,     0.36,3
    09FA1089_1,  PR11,    87,  1,   -999,      3,2,19890825,1414,-33.6027, 172.4778, 1400,     99.7,  17.1980,  35.5900,2,  35.5860,2,    224.1,2,    225.2,2,     1.37,3,     2.55,3,     0.37,3
    09FA1089_1,  PR11,    87,  1,   -999,     23,2,19890825,1414,-33.6027, 172.4778, 1400,    148.4,  16.8720,  35.5750,2,  -9.9999,5,    220.2,2,    219.0,2,     1.47,3,     3.54,3,     0.45,3
    09FA1089_1,  PR11,    87,  1,   -999,     20,2,19890825,1414,-33.6027, 172.4778, 1400,    199.2,  16.2580,  35.5150,2,  35.5130,2,    202.5,2,    207.3,2,     2.15,3,     5.50,3,     0.56,3
    09FA1089_1,  PR11,    87,  1,   -999,      9,2,19890825,1414,-33.6027, 172.4778, 1400,    300.1,  13.8400,  35.2620,2,  35.2580,2,    193.8,2,    196.5,2,     4.30,3,    11.20,3,     0.87,3
    09FA1089_1,  PR11,    87,  1,   -999,     18,2,19890825,1414,-33.6027, 172.4778, 1400,    398.3,  12.1230,  35.0650,2,  35.0650,2,    188.4,2,    191.6,2,     6.16,3,    14.34,3,     1.04,3
    09FA1089_1,  PR11,    87,  1,   -999,     27,2,19890825,1414,-33.6027, 172.4778, 1400,    499.9,  11.1270,  34.9510,2,  34.9550,2,    188.8,2,    190.9,2,     8.40,3,    16.91,3,     1.23,3
    09FA1089_1,  PR11,    87,  1,   -999,      2,2,19890825,1414,-33.6027, 172.4778, 1400,    599.6,   8.7300,  34.6830,2,  34.6850,2,    190.2,2,    189.5,2,  -999.00,5,  -999.00,5,  -999.00,5
    09FA1089_1,  PR11,    87,  1,   -999,     17,2,19890825,1414,-33.6027, 172.4778, 1400,    799.9,   6.5020,  34.4610,2,  34.4630,2,    199.1,2,    198.8,2,    20.92,3,    26.74,3,     1.84,3
    09FA1089_1,  PR11,    87,  1,   -999,     24,2,19890825,1414,-33.6027, 172.4778, 1400,    999.2,   5.5200,  34.4990,2,  34.5000,2,    186.1,2,    180.2,2,    39.30,3,    31.07,3,     2.20,3
    09FA1089_1,  PR11,    87,  1,   -999,     31,2,19890825,1414,-33.6027, 172.4778, 1400,   1199.9,   4.5980,  34.5250,2,  34.5230,2,    177.1,2,    170.5,2,    71.95,3,    33.04,3,  -999.00,5
    09FA1089_1,  PR11,    87,  1,   -999,     10,2,19890825,1414,-33.6027, 172.4778, 1400,   1278.7,   4.3560,  34.5280,2,  34.5250,2,    174.6,2,    169.5,2,    73.61,3,    33.43,3,  -999.00,5
    09FA1089_1,  PR11,    87,  1,   -999,     21,2,19890825,1414,-33.6027, 172.4778, 1400,   1330.5,   4.1250,  34.5340,2,  34.5330,2,    173.6,2,    168.4,2,    78.59,3,    34.21,3,     2.43,3
    09FA1089_1,  PR11,    87,  1,   -999,     12,2,19890825,1414,-33.6027, 172.4778, 1400,   1397.7,   3.8210,  34.5500,2,  34.5510,2,    172.3,2,    165.7,2,    87.00,3,    34.60,3,     2.48,3