BOTTLE,20010820WHPSIOKJU
EXPOCODE,SECT_ID,STNNBR,CASTNO,SAMPNO,BTLNBR,BTLNBR_FLAG_W,DATE,TIME,LATITUDE,LONGITUDE,DEPTH,CTDPRS,CTDTMP,CTDSAL,CTDSAL_FLAG_W,SALNTY,SALNTY_FLAG_W,CTDOXY,CTDOXY_FLAG_W,OXYGEN,OXYGEN_FLAG_W,SILCAT,SILCAT_FLAG_W,NO2+NO3,NO2+NO3_FLAG_W,PHSPHT,PHSPHT_FLAG_W
,,,,,,,,,,,,DBR,ITS-90,PSS-78,,PSS-78,,UMOL/KG,,UMOL/KG,,UMOL/KG,,UMOL/KG,,UMOL/KG,
    09FA1089_1,  PR11,   123,  1,   -999,     11,2,19890829,0449,-28.2550, 167.5977, 1040,      4.1,  20.2520,  35.6470,2,  35.6510,2,    183.5,2,    221.6,2,     1.07,3,     0.20,3,     0.24,3
    09FA1089_1,  PR11,   123,  1,   -999,      3,2,19890829,0449,-28.2550, 167.5977, 1040,     47.6,  20.2000,  35.6430,2,  35.6420,2,    219.1,2,    223.0,2,     0.88,3,     0.20,3,     0.21,3
    09FA1089_1,  PR11,   123,  1,   -999,     30,2,19890829,0449,-28.2550, 167.5977, 1040,     97.8,  20.1560,  35.6440,2,  35.6440,2,    217.5,2,    218.5,2,     0.88,3,     0.39,3,     0.21,3
    09FA1089_1,  PR11,   123,  1,   -999,      9,2,19890829,0449,-28.2550, 167.5977, 1040,    148.5,  19.4890,  35.6690,2,  35.6660,2,    200.4,2,    194.4,2,     1.27,3,     3.13,3,     0.38,3
    09FA1089_1,  PR11,   123,  1,   -999,     18,2,19890829,0449,-28.2550, 167.5977, 1040,    199.0,  18.3970,  35.6540,2,  35.6540,2,    189.9,2,    190.2,2,     1.37,3,     4.30,3,     0.48,3
    09FA1089_1,  PR11,   123,  1,   -999,     29,2,19890829,0449,-28.2550, 167.5977, 1040,    299.0,  16.6590,  35.5120,2,  35.5100,2,    184.3,2,    185.3,2,     2.25,3,     7.03,3,     0.63,3
    09FA1089_1,  PR11,   123,  1,   -999,      2,2,19890829,0449,-28.2550, 167.5977, 1040,    386.0,  13.9600,  35.2370,2,  35.2340,2,    180.8,2,    184.9,2,  -999.00,5,  -999.00,5,  -999.00,5
    09FA1089_1,  PR11,   123,  1,   -999,      5,2,19890829,0449,-28.2550, 167.5977, 1040,    400.3,  13.7760,  35.2180,2,  35.2140,2,    181.7,2,    184.2,2,     4.20,3,    11.72,3,     0.89,3
    09FA1089_1,  PR11,   123,  1,   -999,     24,2,19890829,0449,-28.2550, 167.5977, 1040,    498.2,  11.8510,  35.0150,2,  35.0160,2,    183.1,2,    186.9,2,     6.25,3,    15.44,3,     1.10,3
    09FA1089_1,  PR11,   123,  1,   -999,     31,2,19890829,0449,-28.2550, 167.5977, 1040,    601.2,   9.9430,  34.7910,2,  34.7930,2,    188.2,2,    190.3,2,     9.28,3,    19.35,3,     1.38,3
    09FA1089_1,  PR11,   123,  1,   -999,     10,2,19890829,0449,-28.2550, 167.5977, 1040,    799.8,   7.0420,  34.5170,2,  34.5190,2,    193.3,2,    195.8,2,    18.57,3,    25.02,3,     1.71,3
    09FA1089_1,  PR11,   123,  1,   -999,     21,2,19890829,0449,-28.2550, 167.5977, 1040,    995.4,   5.6800,  34.4540,2,  34.4550,2,    188.6,2,    190.9,2,    29.43,3,    28.35,3,     1.95,3
    09FA1089_1,  PR11,   123,  1,   -999,     12,2,19890829,0449,-28.2550, 167.5977, 1040,   1035.1,   5.2650,  34.4590,2,  34.4610,2,    185.2,2,    186.1,2,    36.27,3,    30.30,3,     2.10,3
    09FA1089_1,  PR11,   125,  1,   -999,     11,2,19890829,0807,-28.2685, 167.1878, 2072,      3.9,  19.9330,  35.6590,2,  35.6610,2,    188.1,2,    222.3,2,     1.07,3,     0.20,3,     0.26,3
    09FA1089_1,  PR11,   125,  1,   -999,     27,2,19890829,0807,-28.2685, 167.1878, 2072,     48.8,  19.4780,  35.6680,2,  35.6690,2,    225.7,2,    226.4,2,     0.88,3,     0.20,3,     0.23,3
    09FA1089_1,  PR11,   125,  1,   -999,     19,2,19890829,0807,-28.2685, 167.1878, 2072,     99.3,  19.1980,  35.6710,2,  35.6680,2,    224.4,2,    217.8,2,     1.07,3,     1.17,3,     0.27,3
    09FA1089_1,  PR11,   125,  1,   -999,     20,2,19890829,0807,-28.2685, 167.1878, 2072,    148.5,  18.9690,  35.6590,2,  35.6580,2,    212.6,2,    213.0,2,     1.07,3,     1.95,3,     0.33,3
    09FA1089_1,  PR11,   125,  1,   -999,     28,2,19890829,0807,-28.2685, 167.1878, 2072,    199.3,  18.2580,  35.6160,2,  35.6150,2,    192.0,2,    194.7,2,     1.76,3,     4.49,3,     0.49,3
    09FA1089_1,  PR11,   125,  1,   -999,      3,2,19890829,0807,-28.2685, 167.1878, 2072,    298.7,  15.9330,  35.4450,2,  35.4410,2,    185.2,2,    184.9,2,     2.93,3,     8.40,3,     0.72,3
    09FA1089_1,  PR11,   125,  1,   -999,     30,2,19890829,0807,-28.2685, 167.1878, 2072,    369.5,  14.0510,  35.2510,2,  35.2560,2,    182.2,2,    184.5,2,     4.20,3,    11.72,3,     0.92,3
    09FA1089_1,  PR11,   125,  1,   -999,      9,2,19890829,0807,-28.2685, 167.1878, 2072,    398.9,  13.2830,  35.1620,2,  35.1600,2,    182.3,2,    184.5,2,     5.08,3,    13.09,3,     1.02,3
    09FA1089_1,  PR11,   125,  1,   -999,     18,2,19890829,0807,-28.2685, 167.1878, 2072,    499.5,  11.2540,  34.9290,2,  34.9400,2,    184.1,2,    186.6,2,     7.04,3,    16.81,3,     1.23,3
    09FA1089_1,  PR11,   125,  1,   -999,     29,2,19890829,0807,-28.2685, 167.1878, 2072,    598.7,   9.3850,  34.7150,2,  34.7300,2,    188.8,2,    192.4,2,     9.77,3,    20.53,3,     1.47,3
    09FA1089_1,  PR11,   125,  1,   -999,      2,2,19890829,0807,-28.2685, 167.1878, 2072,    799.3,   7.0830,  34.5120,2,  34.5130,2,    193.0,2,    196.8,2,    19.26,3,    26.00,3,     1.83,3
    09FA1089_1,  PR11,   125,  1,   -999,      5,2,19890829,0807,-28.2685, 167.1878, 2072,   1028.8,   5.4190,  34.4630,2,  34.4690,2,    184.1,2,    185.1,2,    35.39,3,    30.10,3,     2.10,3
    09FA1089_1,  PR11,   125,  1,   -999,     24,2,19890829,0807,-28.2685, 167.1878, 2072,   1259.1,   4.2060,  34.5080,2,  34.5090,2,    171.2,2,    169.2,2,    61.29,3,    31.47,3,     2.12,3
    09FA1089_1,  PR11,   125,  1,   -999,     31,2,19890829,0807,-28.2685, 167.1878, 2072,   1433.3,   3.4460,  34.5600,2,  34.5590,2,    161.5,2,    161.0,2,    80.55,3,    33.81,3,     2.33,3
    09FA1089_1,  PR11,   125,  1,   -999,     10,2,19890829,0807,-28.2685, 167.1878, 2072,   1499.6,   3.2100,  34.5770,2,  34.5700,2,    158.1,2,    157.5,2,    85.82,3,    33.42,3,     2.34,3
    09FA1089_1,  PR11,   125,  1,   -999,     21,2,19890829,0807,-28.2685, 167.1878, 2072,   1751.8,   2.6750,  34.6190,2,  34.6150,2,    154.2,2,    153.0,2,    92.86,3,    34.20,3,     2.33,3
    09FA1089_1,  PR11,   125,  1,   -999,     12,2,19890829,0807,-28.2685, 167.1878, 2072,   2067.7,   2.3030,  34.6510,2,  34.6450,2,    155.7,2,    153.7,2,   110.35,3,    35.76,3,     2.49,3
    09FA1089_1,  PR11,   127,  1,   -999,     11,2,19890829,1051,-28.2588, 167.0292, 3020,      3.1,  19.4640,  35.6710,2,  35.6670,2,    185.1,2,    219.5,2,  -999.00,5,  -999.00,5,  -999.00,5
    09FA1089_1,  PR11,   127,  1,   -999,      4,2,19890829,1051,-28.2588, 167.0292, 3020,     49.0,  19.4820,  35.6710,2,  35.6640,2,    221.2,2,    218.5,2,     0.88,3,     0.78,3,     0.30,3
    09FA1089_1,  PR11,   127,  1,   -999,     22,2,19890829,1051,-28.2588, 167.0292, 3020,    100.0,  19.0700,  35.6690,2,  35.6660,2,    227.4,2,    222.9,2,     0.88,3,     0.98,3,     0.27,3
    09FA1089_1,  PR11,   127,  1,   -999,      6,2,19890829,1051,-28.2588, 167.0292, 3020,    148.8,  18.2650,  35.6150,2,  35.6110,2,    216.6,2,    192.6,2,     1.37,3,     4.69,3,     0.49,3
    09FA1089_1,  PR11,   127,  1,   -999,     27,2,19890829,1051,-28.2588, 167.0292, 3020,    199.7,  17.3910,  35.5610,2,  35.5620,2,    189.8,2,    183.9,2,     1.95,3,     5.86,3,     0.54,3
    09FA1089_1,  PR11,   127,  1,   -999,     19,2,19890829,1051,-28.2588, 167.0292, 3020,    299.9,  15.3590,  35.3910,2,  35.3930,2,    184.9,2,    184.2,2,     3.13,3,     9.38,3,     0.77,3
    09FA1089_1,  PR11,   127,  1,   -999,     20,2,19890829,1051,-28.2588, 167.0292, 3020,    363.7,  13.8080,  35.2270,2,  35.2290,2,    185.1,2,    183.8,2,     4.40,3,    12.12,3,     0.95,3
    09FA1089_1,  PR11,   127,  1,   -999,     28,2,19890829,1051,-28.2588, 167.0292, 3020,    399.9,  13.2490,  35.1570,2,  35.1600,2,    182.9,2,   -999.0,5,     4.69,3,    13.29,3,     1.00,3
    09FA1089_1,  PR11,   127,  1,   -999,      3,2,19890829,1051,-28.2588, 167.0292, 3020,    499.2,  11.4180,  34.9450,2,  34.9480,2,    186.0,2,    186.9,2,     7.04,3,    16.81,3,     1.22,3
    09FA1089_1,  PR11,   127,  1,   -999,     30,2,19890829,1051,-28.2588, 167.0292, 3020,    601.1,   9.4210,  34.7180,2,  34.7240,2,    189.1,2,    192.0,2,     9.68,3,    20.53,3,     1.47,3
    09FA1089_1,  PR11,   127,  1,   -999,      9,2,19890829,1051,-28.2588, 167.0292, 3020,    799.0,   6.9450,  34.4890,2,  34.4940,2,    194.3,2,    196.8,2,    16.81,3,    24.44,3,     1.65,3
    09FA1089_1,  PR11,   127,  1,   -999,      2,2,19890829,1051,-28.2588, 167.0292, 3020,   1414.1,   3.4220,  34.5580,2,  34.5660,2,    159.9,2,    161.6,2,    82.31,3,    34.79,3,     2.46,3
    09FA1089_1,  PR11,   127,  1,   -999,      5,2,19890829,1051,-28.2588, 167.0292, 3020,   1498.9,   3.1670,  34.5760,2,  34.5780,2,    156.4,2,    156.8,2,  -999.00,5,  -999.00,5,  -999.00,5
    09FA1089_1,  PR11,   127,  1,   -999,     24,2,19890829,1051,-28.2588, 167.0292, 3020,   1749.5,   2.6860,  34.6140,2,  34.6150,2,    154.1,2,    151.3,2,  -999.00,5,  -999.00,5,  -999.00,5
    09FA1089_1,  PR11,   127,  1,   -999,     31,2,19890829,1051,-28.2588, 167.0292, 3020,   2317.9,   2.1180,  34.6660,2,  34.6660,2,    156.5,2,    154.7,2,   117.29,3,    36.94,3,     2.60,3
    09FA1089_1,  PR11,   127,  1,   -999,     10,2,19890829,1051,-28.2588, 167.0292, 3020,   2497.7,   2.0300,  34.6740,2,  34.6740,2,    158.3,2,    155.8,2,  -999.00,5,  -999.00,5,  -999.00,5
    09FA1089_1,  PR11,   127,  1,   -999,     21,2,19890829,1051,-28.2588, 167.0292, 3020,   2602.9,   2.0060,  34.6780,2,  34.6740,2,    158.1,2,    157.5,2,  -999.00,5,  -999.00,5,  -999.00,5
    09FA1089_1,  PR11,   129,  1,   -999,     11,2,19890829,1653,-28.2520, 166.2810, 3532,      4.0,  19.5030,  35.6680,2,  -9.9999,5,    209.0,2,    225.9,2,     1.27,3,     0.22,3,     0.23,3
    09FA1089_1,  PR11,   129,  1,   -999,      4,2,19890829,1653,-28.2520, 166.2810, 3532,     48.2,  19.4380,  35.6650,2,  35.6680,2,    237.0,2,    225.8,2,     1.07,3,     0.46,3,     0.23,3
    09FA1089_1,  PR11,   129,  1,   -999,     22,2,19890829,1653,-28.2520, 166.2810, 3532,     99.6,  19.0670,  35.6690,2,  35.6680,2,    225.9,2,    219.8,2,     1.07,3,     1.60,3,     0.29,3
    09FA1089_1,  PR11,   129,  1,   -999,      6,2,19890829,1653,-28.2520, 166.2810, 3532,    147.1,  18.2670,  35.6170,2,  35.6210,2,    200.0,2,    189.9,2,     1.76,3,     5.25,3,     0.50,3
    09FA1089_1,  PR11,   129,  1,   -999,     27,2,19890829,1653,-28.2520, 166.2810, 3532,    197.1,  17.5500,  35.5720,2,  35.5710,2,    192.6,2,    186.0,2,     2.15,3,     6.62,3,     0.60,3
    09FA1089_1,  PR11,   129,  1,   -999,     19,2,19890829,1653,-28.2520, 166.2810, 3532,    298.2,  15.2140,  35.3830,2,  35.3840,2,    191.3,2,    188.1,2,     3.32,3,     9.82,3,     0.80,3
    09FA1089_1,  PR11,   129,  1,   -999,     20,2,19890829,1653,-28.2520, 166.2810, 3532,    378.0,  13.5710,  35.2050,2,  35.2120,2,    189.7,2,    188.4,2,     4.59,3,    12.79,3,     0.95,3
    09FA1089_1,  PR11,   129,  1,   -999,     28,2,19890829,1653,-28.2520, 166.2810, 3532,    499.1,  11.1660,  34.9270,2,  34.9300,2,    190.5,2,    189.7,2,     7.04,3,    17.37,3,     1.22,3
    09FA1089_1,  PR11,   129,  1,   -999,      3,2,19890829,1653,-28.2520, 166.2810, 3532,    599.1,   9.4750,  34.7310,2,  34.7340,2,    193.4,2,    193.6,2,    10.26,3,    21.71,3,     1.46,3
    09FA1089_1,  PR11,   129,  1,   -999,     30,2,19890829,1653,-28.2520, 166.2810, 3532,    798.1,   7.0890,  34.4930,2,  34.5170,2,    201.0,2,    201.7,2,    15.84,3,    26.05,3,     1.69,3
    09FA1089_1,  PR11,   129,  1,   -999,      9,2,19890829,1653,-28.2520, 166.2810, 3532,    998.4,   5.7480,  34.4420,2,  34.4440,2,    194.5,2,    193.2,2,    28.06,3,    30.39,3,     1.99,3
    09FA1089_1,  PR11,   129,  1,   -999,     17,2,19890829,1653,-28.2520, 166.2810, 3532,   1237.7,   4.3070,  34.4900,2,  34.4910,2,    176.6,2,    175.4,2,    61.68,3,    34.96,3,     2.32,3
    09FA1089_1,  PR11,   129,  1,   -999,      2,2,19890829,1653,-28.2520, 166.2810, 3532,   1398.7,   3.3520,  34.5700,2,  34.5830,2,    162.6,2,    159.5,2,    86.41,3,    37.48,3,     2.47,3
    09FA1089_1,  PR11,   129,  1,   -999,      5,2,19890829,1653,-28.2520, 166.2810, 3532,   1749.9,   2.5520,  34.6310,2,  34.6300,2,    156.3,2,    153.4,2,   107.62,3,    38.84,3,     2.62,3
    09FA1089_1,  PR11,   129,  1,   -999,     24,2,19890829,1653,-28.2520, 166.2810, 3532,   1997.5,   2.2850,  34.6550,2,  34.6550,2,    156.5,2,    153.4,2,   112.89,3,    39.07,3,     2.62,3
    09FA1089_1,  PR11,   129,  1,   -999,     31,2,19890829,1653,-28.2520, 166.2810, 3532,   2248.2,   2.0960,  34.6720,2,  34.6690,2,    158.7,2,    156.3,2,   118.17,3,    39.30,3,     2.64,3
    09FA1089_1,  PR11,   129,  1,   -999,     10,2,19890829,1653,-28.2520, 166.2810, 3532,   2498.6,   2.0030,  34.6830,2,  34.6760,2,    159.4,2,    157.7,2,   118.17,3,    39.53,3,     2.67,3
    09FA1089_1,  PR11,   129,  1,   -999,     21,2,19890829,1653,-28.2520, 166.2810, 3532,   3001.7,   1.9230,  34.6920,2,  34.6890,2,    162.3,2,    160.5,2,   119.93,3,    38.84,3,     2.61,3
    09FA1089_1,  PR11,   129,  1,   -999,     12,2,19890829,1653,-28.2520, 166.2810, 3532,   3530.8,   1.9070,  34.6960,2,  34.6950,2,    163.3,2,    161.6,2,   121.69,3,    39.07,3,     2.61,3
    09FA1089_1,  PR11,   131,  1,   -999,     11,2,19890830,0131,-28.2413, 165.5447, 3340,      5.4,  19.3630,  35.6760,2,  35.6760,2,    224.9,2,    223.7,2,     0.88,3,     0.68,3,     0.30,3
    09FA1089_1,  PR11,   131,  1,   -999,      4,2,19890830,0131,-28.2413, 165.5447, 3340,     47.7,  19.2980,  35.6800,2,  35.6770,2,    222.2,2,    225.8,2,     0.68,3,     0.68,3,     0.26,3
    09FA1089_1,  PR11,   131,  1,   -999,     22,2,19890830,0131,-28.2413, 165.5447, 3340,     97.6,  18.8110,  35.6640,2,  35.6610,2,    226.2,2,    223.0,2,     0.88,3,     2.05,3,     0.30,3
    09FA1089_1,  PR11,   131,  1,   -999,      6,2,19890830,0131,-28.2413, 165.5447, 3340,    149.1,  18.4690,  35.6350,2,  35.6340,2,    200.8,2,    213.0,2,     1.07,3,     2.97,3,     0.38,3
    09FA1089_1,  PR11,   131,  1,   -999,     27,2,19890830,0131,-28.2413, 165.5447, 3340,    198.0,  17.4830,  35.5780,2,  35.5760,2,    189.4,2,    188.8,2,     1.56,3,     6.16,3,     0.54,3
    09FA1089_1,  PR11,   131,  1,   -999,     19,2,19890830,0131,-28.2413, 165.5447, 3340,    297.2,  15.7140,  35.4370,2,  35.4410,2,    188.7,2,    187.4,2,     3.03,3,     9.36,3,     0.75,3
    09FA1089_1,  PR11,   131,  1,   -999,     20,2,19890830,0131,-28.2413, 165.5447, 3340,    379.0,  13.7730,  35.2330,2,  35.2430,2,    189.3,2,    187.3,2,     4.20,3,    12.79,3,     0.95,3
    09FA1089_1,  PR11,   131,  1,   -999,     28,2,19890830,0131,-28.2413, 165.5447, 3340,    397.4,  13.4120,  35.1950,2,  35.1940,2,    187.3,2,    187.0,2,     4.59,3,    13.71,3,     1.01,3
    09FA1089_1,  PR11,   131,  1,   -999,      3,2,19890830,0131,-28.2413, 165.5447, 3340,    497.5,  11.6310,  34.9880,2,  34.9850,2,    186.5,2,    188.7,2,     6.55,3,    17.13,3,     1.16,3
    09FA1089_1,  PR11,   131,  1,   -999,     30,2,19890830,0131,-28.2413, 165.5447, 3340,    597.7,   9.6590,  34.7560,2,  34.7720,2,    189.7,2,    193.6,2,     8.50,3,    20.10,3,     1.28,3
    09FA1089_1,  PR11,   131,  1,   -999,      9,2,19890830,0131,-28.2413, 165.5447, 3340,    799.3,   7.1420,  34.5050,2,  34.5090,2,    198.4,2,    200.3,2,    15.54,3,    26.28,3,     1.61,3
    09FA1089_1,  PR11,   131,  1,   -999,     18,2,19890830,0131,-28.2413, 165.5447, 3340,    997.7,   5.4790,  34.4410,2,  34.4460,2,    190.7,2,    187.9,2,    30.31,3,    31.54,3,     1.96,3
    09FA1089_1,  PR11,   131,  1,   -999,     17,2,19890830,0131,-28.2413, 165.5447, 3340,   1268.5,   4.2250,  34.5070,2,  34.5080,2,    171.0,2,    170.8,2,    59.92,3,    35.42,3,     2.23,3
    09FA1089_1,  PR11,   131,  1,   -999,      2,2,19890830,0131,-28.2413, 165.5447, 3340,   1457.9,   3.4100,  34.5650,2,  34.5670,2,    160.1,2,    158.4,2,    79.37,3,    36.78,3,     2.38,3
    09FA1089_1,  PR11,   131,  1,   -999,      5,2,19890830,0131,-28.2413, 165.5447, 3340,   1498.1,   3.2680,  34.5740,2,  34.5800,2,    158.4,2,    158.1,2,    82.89,3,    37.48,3,     2.36,3
    09FA1089_1,  PR11,   131,  1,   -999,     24,2,19890830,0131,-28.2413, 165.5447, 3340,   1748.0,   2.7330,  34.6150,2,  34.6140,2,    154.9,2,    153.8,2,    98.72,3,    38.61,3,     2.50,3
    09FA1089_1,  PR11,   131,  1,   -999,     31,2,19890830,0131,-28.2413, 165.5447, 3340,   2333.1,   2.1120,  34.6720,2,  34.6670,2,    155.4,2,    154.1,2,   107.61,3,    38.38,3,     2.41,3
    09FA1089_1,  PR11,   131,  1,   -999,     10,2,19890830,0131,-28.2413, 165.5447, 3340,   2499.6,   2.0450,  34.6780,2,  34.6740,2,    157.0,2,    157.0,2,   111.13,3,    38.84,3,     2.52,3
    09FA1089_1,  PR11,   131,  1,   -999,     21,2,19890830,0131,-28.2413, 165.5447, 3340,   3002.2,   1.9410,  34.6910,2,  34.6830,2,    158.9,2,    159.1,2,   111.13,3,    37.70,3,     2.38,3
    09FA1089_1,  PR11,   131,  1,   -999,     12,2,19890830,0131,-28.2413, 165.5447, 3340,   3341.4,   1.9100,  34.6940,2,  34.7080,3,    160.0,2,    160.8,2,   119.93,3,    39.07,3,     2.53,3