BOTTLE,20010820WHPSIOKJU
EXPOCODE,SECT_ID,STNNBR,CASTNO,SAMPNO,BTLNBR,BTLNBR_FLAG_W,DATE,TIME,LATITUDE,LONGITUDE,DEPTH,CTDPRS,CTDTMP,CTDSAL,CTDSAL_FLAG_W,SALNTY,SALNTY_FLAG_W,CTDOXY,CTDOXY_FLAG_W,OXYGEN,OXYGEN_FLAG_W,SILCAT,SILCAT_FLAG_W,NO2+NO3,NO2+NO3_FLAG_W,PHSPHT,PHSPHT_FLAG_W
,,,,,,,,,,,,DBR,ITS-90,PSS-78,,PSS-78,,UMOL/KG,,UMOL/KG,,UMOL/KG,,UMOL/KG,,UMOL/KG,
    09FA1089_1, PR13N,    21,  1,   -999,     11,2,19890816,0312,-43.2322, 150.0963, 3090,      2.9,  13.4920,  35.3320,2,  35.3320,2,    201.5,2,    242.5,2,     2.44,3,     5.47,3,     0.58,3
    09FA1089_1, PR13N,    21,  1,   -999,     25,2,19890816,0312,-43.2322, 150.0963, 3090,     48.7,  13.1410,  35.2850,2,  35.2810,2,    255.4,2,    245.3,2,     2.15,3,     5.79,3,     0.60,3
    09FA1089_1, PR13N,    21,  1,   -999,     19,2,19890816,0312,-43.2322, 150.0963, 3090,     98.4,  12.2740,  35.1010,2,  35.0930,2,    249.3,2,    242.2,2,     2.44,3,     8.05,3,     0.71,3
    09FA1089_1, PR13N,    21,  1,   -999,     24,2,19890816,0312,-43.2322, 150.0963, 3090,    148.4,  12.0100,  35.0560,2,  35.0560,2,    254.0,2,    254.7,2,     2.15,3,     7.25,3,     0.68,3
    09FA1089_1, PR13N,    21,  1,   -999,     28,2,19890816,0312,-43.2322, 150.0963, 3090,    197.9,  11.6860,  34.9890,2,  -9.9999,5,    247.9,2,    243.6,2,     2.35,3,     8.05,3,     0.73,3
    09FA1089_1, PR13N,    21,  1,   -999,     18,2,19890816,0312,-43.2322, 150.0963, 3090,    299.1,  10.5540,  34.8460,2,  34.8440,2,    227.0,2,    226.2,2,     4.10,3,    13.69,3,     1.03,3
    09FA1089_1, PR13N,    21,  1,   -999,     37,2,19890816,0312,-43.2322, 150.0963, 3090,    398.8,   9.5590,  34.7120,2,  34.7170,2,    232.3,2,    225.6,2,     5.96,3,    16.92,3,     1.22,3
    09FA1089_1, PR13N,    21,  1,   -999,     31,2,19890816,0312,-43.2322, 150.0963, 3090,    499.5,   8.9480,  34.6150,2,  34.6150,2,    226.3,2,    238.3,2,     4.99,3,    16.92,3,     1.19,3
    09FA1089_1, PR13N,    21,  1,   -999,     22,2,19890816,0312,-43.2322, 150.0963, 3090,    598.7,   8.4770,  34.5620,2,  34.5630,2,    216.8,2,    229.7,2,     7.23,3,    20.14,3,     1.40,3
    09FA1089_1, PR13N,    21,  1,   -999,     64,2,19890816,0312,-43.2322, 150.0963, 3090,    798.2,   7.2390,  34.5130,2,  34.5180,2,    189.5,2,    190.4,2,    17.40,3,    26.10,3,     1.77,3
    09FA1089_1, PR13N,    21,  1,   -999,     20,2,19890816,0312,-43.2322, 150.0963, 3090,   1000.5,   5.4130,  34.4350,2,  34.4360,2,    184.4,2,    185.9,2,    32.07,3,    31.10,3,     2.16,3
    09FA1089_1, PR13N,    21,  1,   -999,     12,2,19890816,0312,-43.2322, 150.0963, 3090,   1269.0,   3.8250,  34.4260,2,  34.4280,2,    180.1,2,    183.4,2,    74.49,3,    34.31,3,     2.38,3
    09FA1089_1, PR13N,    21,  1,   -999,     17,2,19890816,0312,-43.2322, 150.0963, 3090,   1502.6,   3.0900,  34.5060,2,  34.5070,2,    169.0,2,    169.1,2,  -999.00,5,  -999.00,5,  -999.00,5
    09FA1089_1, PR13N,    21,  1,   -999,     30,2,19890816,0312,-43.2322, 150.0963, 3090,   1748.2,   2.5920,  34.6030,2,  34.6030,2,    168.8,2,    167.1,2,    91.00,3,    35.44,3,     2.48,3
    09FA1089_1, PR13N,    21,  1,   -999,      1,2,19890816,0312,-43.2322, 150.0963, 3090,   1948.1,   2.4180,  34.6570,2,  34.6550,2,    172.3,2,    172.6,2,    92.66,3,    34.80,3,     2.42,3
    09FA1089_1, PR13N,    21,  1,   -999,      4,2,19890816,0312,-43.2322, 150.0963, 3090,   2116.3,   2.2900,  34.6920,2,  34.6900,2,    176.1,2,    178.1,2,  -999.00,5,  -999.00,5,  -999.00,5
    09FA1089_1, PR13N,    21,  1,   -999,      6,2,19890816,0312,-43.2322, 150.0963, 3090,   2297.1,   2.1470,  34.7170,2,  34.7170,2,    179.7,2,    179.7,2,  -999.00,5,  -999.00,5,  -999.00,5
    09FA1089_1, PR13N,    21,  1,   -999,      5,2,19890816,0312,-43.2322, 150.0963, 3090,   2449.1,   2.0540,  34.7270,2,  34.7290,2,    180.2,2,    180.0,2,   102.63,3,    33.83,3,     2.34,3
    09FA1089_1, PR13N,    21,  1,   -999,      8,2,19890816,0312,-43.2322, 150.0963, 3090,   2499.0,   2.0060,  34.7300,2,  34.7290,2,    181.3,2,    181.9,2,  -999.00,5,  -999.00,5,  -999.00,5
    09FA1089_1, PR13N,    21,  1,   -999,     21,2,19890816,0312,-43.2322, 150.0963, 3090,   2799.6,   1.7810,  34.7380,2,  34.7420,2,    185.2,2,    187.2,2,   109.27,3,    33.35,3,     2.31,3
    09FA1089_1, PR13N,    21,  1,   -999,      3,2,19890816,0312,-43.2322, 150.0963, 3090,   3089.7,   1.6500,  34.7380,2,  34.7340,2,    187.1,2,    190.0,2,  -999.00,5,  -999.00,5,  -999.00,5
    09FA1089_1, PR13N,    23,  1,   -999,     11,2,19890816,0850,-43.2472, 150.8807, 3604,     48.3,  12.5320,  35.1640,2,  35.1600,2,    211.0,2,    248.9,2,     2.34,3,     6.28,3,     0.64,3
    09FA1089_1, PR13N,    23,  1,   -999,     25,2,19890816,0850,-43.2472, 150.8807, 3604,     98.8,  12.5080,  35.1590,2,  35.1570,2,    251.2,2,    250.0,2,     1.95,3,     6.12,3,     0.60,3
    09FA1089_1, PR13N,    23,  1,   -999,     19,2,19890816,0850,-43.2472, 150.8807, 3604,    148.5,  12.4720,  35.1480,2,  35.1490,2,    252.3,2,    249.4,2,     1.66,3,     5.96,3,     0.57,3
    09FA1089_1, PR13N,    23,  1,   -999,     24,2,19890816,0850,-43.2472, 150.8807, 3604,    197.8,  11.7830,  35.0100,2,  35.0110,2,    246.4,2,    247.2,2,     1.95,3,     8.05,3,     0.68,3
    09FA1089_1, PR13N,    23,  1,   -999,     28,2,19890816,0850,-43.2472, 150.8807, 3604,    298.1,   9.9580,  34.7540,2,  34.7570,2,    233.0,2,    230.6,2,     4.98,3,    15.63,3,     1.13,3
    09FA1089_1, PR13N,    23,  1,   -999,     18,2,19890816,0850,-43.2472, 150.8807, 3604,    398.2,   9.2070,  34.6490,2,  34.6500,2,    234.5,2,    240.3,2,     5.18,3,    17.23,3,     1.22,3
    09FA1089_1, PR13N,    23,  1,   -999,     37,2,19890816,0850,-43.2472, 150.8807, 3604,    498.5,   8.7630,  34.5920,2,  34.5980,2,    235.9,2,    238.9,2,     5.96,3,    18.69,3,     1.32,3
    09FA1089_1, PR13N,    23,  1,   -999,     31,2,19890816,0850,-43.2472, 150.8807, 3604,    598.6,   8.3460,  34.5570,2,  34.5590,2,    220.1,2,    225.0,2,     8.41,3,    20.95,3,     1.45,3
    09FA1089_1, PR13N,    23,  1,   -999,     22,2,19890816,0850,-43.2472, 150.8807, 3604,    798.6,   7.1730,  34.4950,2,  34.5040,2,    194.5,2,    194.0,2,    16.23,3,    25.13,3,     1.63,3
    09FA1089_1, PR13N,    23,  1,   -999,     10,2,19890816,0850,-43.2472, 150.8807, 3604,    998.9,   5.2410,  34.3900,2,  34.3960,2,    194.3,2,    196.7,2,    26.30,3,    28.84,3,     1.86,3
    09FA1089_1, PR13N,    23,  1,   -999,     20,2,19890816,0850,-43.2472, 150.8807, 3604,   1258.2,   4.0720,  34.4720,2,  34.4760,2,    171.4,2,   -999.0,5,    66.18,3,    32.71,3,     2.14,3
    09FA1089_1, PR13N,    23,  1,   -999,     12,2,19890816,0850,-43.2472, 150.8807, 3604,   1458.5,   3.1400,  34.4960,2,  34.4970,2,    170.1,2,    170.1,2,    77.81,3,    36.09,3,     2.48,3
    09FA1089_1, PR13N,    23,  1,   -999,     17,2,19890816,0850,-43.2472, 150.8807, 3604,   1498.5,   3.0260,  34.5160,2,  34.5140,2,    169.8,2,    168.2,2,  -999.00,5,  -999.00,5,  -999.00,5
    09FA1089_1, PR13N,    23,  1,   -999,     30,2,19890816,0850,-43.2472, 150.8807, 3604,   1748.4,   2.6270,  34.5970,2,  34.5930,2,    175.1,2,    168.2,2,    86.12,3,    35.44,3,     2.42,3
    09FA1089_1, PR13N,    23,  1,   -999,      1,2,19890816,0850,-43.2472, 150.8807, 3604,   2132.9,   2.2800,  34.6850,2,  34.6890,2,    181.2,2,    173.7,2,    89.34,3,    32.86,3,     2.19,3
    09FA1089_1, PR13N,    23,  1,   -999,      4,2,19890816,0850,-43.2472, 150.8807, 3604,   2443.8,   2.0460,  34.7280,2,  34.7280,2,    186.8,2,    183.9,2,    95.98,3,    32.54,3,     2.20,3
    09FA1089_1, PR13N,    23,  1,   -999,      6,2,19890816,0850,-43.2472, 150.8807, 3604,   2769.6,   1.7750,  34.7360,2,  34.7310,2,    187.9,2,    187.5,2,   100.96,3,    31.89,3,     2.14,3
    09FA1089_1, PR13N,    23,  1,   -999,      5,2,19890816,0850,-43.2472, 150.8807, 3604,   2998.5,   1.6710,  34.7360,2,  34.7310,2,    193.4,2,    188.3,2,   109.27,3,    32.54,3,     2.19,3
    09FA1089_1, PR13N,    23,  1,   -999,      8,2,19890816,0850,-43.2472, 150.8807, 3604,   3438.4,   1.4340,  34.7320,2,  34.7290,2,    194.9,2,    196.3,2,   120.80,3,    33.83,3,     2.34,3
    09FA1089_1, PR13N,    23,  1,   -999,     21,2,19890816,0850,-43.2472, 150.8807, 3604,   3598.0,   1.2720,  34.7280,2,  34.7250,2,    194.9,2,    198.8,2,   124.13,3,    33.83,3,     2.34,3
    09FA1089_1, PR13N,    25,  1,   -999,     11,2,19890816,1451,-43.2413, 151.6590, 4180,     48.7,  11.9450,  35.0150,2,  35.0190,2,    253.1,2,    253.6,2,     2.25,3,     6.70,3,     0.66,3
    09FA1089_1, PR13N,    25,  1,   -999,     13,2,19890816,1451,-43.2413, 151.6590, 4180,     98.4,  11.9420,  35.0150,2,  35.0140,2,    256.0,2,    256.4,2,     2.15,3,     6.38,3,     0.61,3
    09FA1089_1, PR13N,    25,  1,   -999,     25,2,19890816,1451,-43.2413, 151.6590, 4180,    148.7,  11.8950,  35.0060,2,  34.9990,2,    253.2,2,    255.0,2,     2.15,3,     6.54,3,     0.64,3
    09FA1089_1, PR13N,    25,  1,   -999,     19,2,19890816,1451,-43.2413, 151.6590, 4180,    198.6,  10.8460,  34.8890,2,  34.8850,2,    229.5,2,    225.1,2,     4.40,3,    13.73,3,     1.01,3
    09FA1089_1, PR13N,    25,  1,   -999,     24,2,19890816,1451,-43.2413, 151.6590, 4180,    298.4,   9.8730,  34.7570,2,  34.7590,2,    219.9,2,    223.1,2,     5.28,3,    16.19,3,     1.16,3
    09FA1089_1, PR13N,    25,  1,   -999,     28,2,19890816,1451,-43.2413, 151.6590, 4180,    398.1,   9.3160,  34.6910,2,  34.6940,2,    218.3,2,    217.8,2,     7.04,3,    18.97,3,     1.36,3
    09FA1089_1, PR13N,    25,  1,   -999,     18,2,19890816,1451,-43.2413, 151.6590, 4180,    498.4,   8.5990,  34.5940,2,  34.5990,2,    229.0,2,    209.5,2,     8.50,3,    20.94,3,     1.48,3
    09FA1089_1, PR13N,    25,  1,   -999,     37,2,19890816,1451,-43.2413, 151.6590, 4180,    597.9,   8.0730,  34.5390,2,  34.5360,2,    208.0,2,    214.8,2,    10.56,3,    22.89,3,     1.59,3
    09FA1089_1, PR13N,    25,  1,   -999,     31,2,19890816,1451,-43.2413, 151.6590, 4180,    798.3,   6.6320,  34.4540,2,  34.4550,2,    195.3,2,    196.8,2,    19.75,3,    27.80,3,     1.90,3
    09FA1089_1, PR13N,    25,  1,   -999,     22,2,19890816,1451,-43.2413, 151.6590, 4180,    947.7,   5.3110,  34.3920,2,  34.3970,2,    195.6,2,    195.6,2,    28.25,3,    30.91,3,     2.11,3
    09FA1089_1, PR13N,    25,  1,   -999,     10,2,19890816,1451,-43.2413, 151.6590, 4180,    998.0,   5.1180,  34.4070,2,  34.4150,2,    189.5,2,    188.4,2,    32.75,3,    31.73,3,     2.17,3
    09FA1089_1, PR13N,    25,  1,   -999,     20,2,19890816,1451,-43.2413, 151.6590, 4180,   1247.8,   3.9600,  34.4540,2,  34.4560,2,    176.3,2,    174.8,2,    60.81,3,    34.35,3,     2.41,3
    09FA1089_1, PR13N,    25,  1,   -999,     12,2,19890816,1451,-43.2413, 151.6590, 4180,   1497.8,   3.2160,  34.5380,2,  34.5380,2,    164.6,2,    160.7,2,    85.44,3,    36.15,3,     2.55,3
    09FA1089_1, PR13N,    25,  1,   -999,     17,2,19890816,1451,-43.2413, 151.6590, 4180,   1748.3,   2.6700,  34.6080,2,  -9.9999,5,    165.6,2,    163.5,2,    87.09,3,    34.67,3,     2.42,3
    09FA1089_1, PR13N,    25,  1,   -999,     30,2,19890816,1451,-43.2413, 151.6590, 4180,   2148.7,   2.2400,  34.6930,2,  34.6940,2,    175.7,2,    175.1,2,    95.30,3,    34.01,3,     2.37,3
    09FA1089_1, PR13N,    25,  1,   -999,      1,2,19890816,1451,-43.2413, 151.6590, 4180,   2497.5,   2.0160,  34.7290,2,  34.7280,2,    183.5,2,    182.0,2,    98.62,3,    32.55,3,     2.25,3
    09FA1089_1, PR13N,    25,  1,   -999,      4,2,19890816,1451,-43.2413, 151.6590, 4180,   2848.3,   1.7660,  34.7370,2,  34.7370,2,    188.0,2,    186.4,2,   101.84,3,    32.05,3,     2.20,3
    09FA1089_1, PR13N,    25,  1,   -999,      6,2,19890816,1451,-43.2413, 151.6590, 4180,   3348.1,   1.3890,  34.7300,2,  34.7250,2,    194.6,2,    195.2,2,   116.70,3,    33.04,3,     2.28,3
    09FA1089_1, PR13N,    25,  1,   -999,      5,2,19890816,1451,-43.2413, 151.6590, 4180,   3498.9,   1.2470,  34.7250,2,  34.7190,2,    196.6,2,    195.8,2,   121.59,3,    33.85,3,     2.34,3
    09FA1089_1, PR13N,    25,  1,   -999,      8,2,19890816,1451,-43.2413, 151.6590, 4180,   3998.8,   0.9950,  34.7160,2,  34.7120,2,    201.4,2,    201.3,2,   118.36,3,    32.38,3,     2.19,3
    09FA1089_1, PR13N,    27,  1,   -999,     11,2,19890817,0016,-43.2665, 152.5940, 4570,      3.3,  12.1250,  35.0070,2,  35.0060,2,    200.9,2,    255.1,2,     2.25,3,     6.38,3,     0.64,3
    09FA1089_1, PR13N,    27,  1,   -999,     13,2,19890817,0016,-43.2665, 152.5940, 4570,     98.9,  12.1720,  35.0590,2,  35.0600,2,    250.4,2,    251.5,2,     2.44,3,     6.70,3,     0.64,3
    09FA1089_1, PR13N,    27,  1,   -999,      2,2,19890817,0016,-43.2665, 152.5940, 4570,    148.6,  12.1950,  35.0680,2,  35.0640,2,    252.2,2,    250.3,2,     2.44,3,     6.70,3,     0.64,3
    09FA1089_1, PR13N,    27,  1,   -999,     19,2,19890817,0016,-43.2665, 152.5940, 4570,    198.4,  11.0430,  34.9100,2,  34.9100,2,    226.2,2,    225.8,2,     3.91,3,    12.75,3,     0.95,3
    09FA1089_1, PR13N,    27,  1,   -999,     24,2,19890817,0016,-43.2665, 152.5940, 4570,    299.2,   9.6240,  34.7050,2,  34.7080,2,    231.1,2,    234.1,2,     4.59,3,    15.37,3,     1.10,3
    09FA1089_1, PR13N,    27,  1,   -999,     28,2,19890817,0016,-43.2665, 152.5940, 4570,    399.5,   8.9800,  34.6150,2,  34.6210,2,    231.3,2,    242.6,2,     5.28,3,    17.50,3,     1.25,3
    09FA1089_1, PR13N,    27,  1,   -999,     18,2,19890817,0016,-43.2665, 152.5940, 4570,    498.5,   8.5230,  34.5460,2,  34.5510,2,    234.2,2,    248.5,2,     5.77,3,    18.32,3,     1.31,3
    09FA1089_1, PR13N,    27,  1,   -999,     37,2,19890817,0016,-43.2665, 152.5940, 4570,    599.0,   8.3740,  34.5410,2,  34.5400,2,    227.0,2,    238.5,2,     6.26,3,    18.15,3,     1.23,3
    09FA1089_1, PR13N,    27,  1,   -999,     31,2,19890817,0016,-43.2665, 152.5940, 4570,    799.3,   7.2230,  34.4910,2,  34.4920,2,    195.3,2,    195.7,2,    16.62,3,    26.34,3,     1.81,3
    09FA1089_1, PR13N,    27,  1,   -999,     22,2,19890817,0016,-43.2665, 152.5940, 4570,    998.4,   5.5110,  34.4060,2,  34.4130,2,    192.9,2,    193.0,2,    26.59,3,    29.28,3,     2.00,3
    09FA1089_1, PR13N,    27,  1,   -999,     10,2,19890817,0016,-43.2665, 152.5940, 4570,   1129.0,   4.5770,  34.3940,2,  34.3990,2,    188.6,2,    190.3,2,    35.68,3,    31.90,3,     2.17,3
    09FA1089_1, PR13N,    27,  1,   -999,     20,2,19890817,0016,-43.2665, 152.5940, 4570,   1289.1,   3.8010,  34.4380,2,  34.4410,2,    179.9,2,    177.6,2,    55.92,3,    33.37,3,     2.28,3
    09FA1089_1, PR13N,    27,  1,   -999,     12,2,19890817,0016,-43.2665, 152.5940, 4570,   1469.6,   3.1640,  34.4930,2,  34.4940,2,    172.4,2,    168.4,2,    70.68,3,    35.33,3,     2.44,3
    09FA1089_1, PR13N,    27,  1,   -999,     17,2,19890817,0016,-43.2665, 152.5940, 4570,   1596.1,   2.9240,  34.5590,2,  34.5570,2,    165.5,2,    161.9,2,    85.43,3,    36.47,3,     2.53,3
    09FA1089_1, PR13N,    27,  1,   -999,     30,2,19890817,0016,-43.2665, 152.5940, 4570,   1747.7,   2.6610,  34.6030,2,  34.6010,2,    167.0,2,    162.5,2,  -999.00,5,  -999.00,5,  -999.00,5
    09FA1089_1, PR13N,    27,  1,   -999,      1,2,19890817,0016,-43.2665, 152.5940, 4570,   2178.5,   2.2700,  34.6880,2,  34.6880,2,    176.1,2,    171.6,2,    93.64,3,    34.84,3,     2.41,3
    09FA1089_1, PR13N,    27,  1,   -999,      4,2,19890817,0016,-43.2665, 152.5940, 4570,   2499.4,   2.0270,  34.7220,2,  34.7200,2,    182.6,2,    180.2,2,  -999.00,5,  -999.00,5,  -999.00,5
    09FA1089_1, PR13N,    27,  1,   -999,      6,2,19890817,0016,-43.2665, 152.5940, 4570,   2828.2,   1.8030,  34.7330,2,  34.7270,2,    184.9,2,    184.9,2,   106.83,3,    33.69,3,     2.35,3
    09FA1089_1, PR13N,    27,  1,   -999,      5,2,19890817,0016,-43.2665, 152.5940, 4570,   3396.9,   1.4080,  34.7280,2,  34.7270,2,    191.7,2,    191.7,2,   108.49,3,    32.21,3,     2.17,3
    09FA1089_1, PR13N,    27,  1,   -999,      8,2,19890817,0016,-43.2665, 152.5940, 4570,   3498.2,   1.3460,  34.7260,2,  34.7230,2,    192.8,2,    193.1,2,   108.49,3,    31.73,3,     2.12,3
    09FA1089_1, PR13N,    27,  1,   -999,     21,2,19890817,0016,-43.2665, 152.5940, 4570,   3999.2,   1.1310,  34.7170,2,  34.7130,2,    195.2,2,    195.5,2,   116.70,3,    32.70,3,     2.23,3
    09FA1089_1, PR13N,    27,  1,   -999,      3,2,19890817,0016,-43.2665, 152.5940, 4570,   4569.8,   1.0590,  34.7130,2,  34.7130,2,    197.9,2,    198.2,2,   116.70,3,    32.55,3,     2.19,3