BOTTLE,20010820WHPSIOKJU
EXPOCODE,SECT_ID,STNNBR,CASTNO,SAMPNO,BTLNBR,BTLNBR_FLAG_W,DATE,TIME,LATITUDE,LONGITUDE,DEPTH,CTDPRS,CTDTMP,CTDSAL,CTDSAL_FLAG_W,SALNTY,SALNTY_FLAG_W,CTDOXY,CTDOXY_FLAG_W,OXYGEN,OXYGEN_FLAG_W,SILCAT,SILCAT_FLAG_W,NO2+NO3,NO2+NO3_FLAG_W,PHSPHT,PHSPHT_FLAG_W
,,,,,,,,,,,,DBR,ITS-90,PSS-78,,PSS-78,,UMOL/KG,,UMOL/KG,,UMOL/KG,,UMOL/KG,,UMOL/KG,
    09FA1089_1,  PR11,   133,  1,   -999,     11,2,19890830,0911,-28.2472, 164.8448, 3400,      5.4,  20.0290,  35.6390,2,  35.6420,2,    229.7,2,    222.3,2,     0.88,3,     0.22,3,     0.27,3
    09FA1089_1,  PR11,   133,  1,   -999,      4,2,19890830,0911,-28.2472, 164.8448, 3400,     49.2,  20.0140,  35.6440,2,  35.6400,2,    225.1,2,    222.7,2,     0.68,3,     0.22,3,     0.26,3
    09FA1089_1,  PR11,   133,  1,   -999,     22,2,19890830,0911,-28.2472, 164.8448, 3400,     99.1,  19.8080,  35.6620,2,  35.6610,2,    216.8,2,    215.6,2,     0.68,3,     1.37,3,     0.27,3
    09FA1089_1,  PR11,   133,  1,   -999,      6,2,19890830,0911,-28.2472, 164.8448, 3400,    129.8,  19.6280,  35.6730,2,  35.6700,2,    224.0,2,    222.3,2,     0.49,3,     0.46,3,     0.26,3
    09FA1089_1,  PR11,   133,  1,   -999,     27,2,19890830,0911,-28.2472, 164.8448, 3400,    199.6,  19.3760,  35.6640,2,  35.6610,2,    214.0,2,    216.3,2,     0.68,3,     1.83,3,     0.30,3
    09FA1089_1,  PR11,   133,  1,   -999,     19,2,19890830,0911,-28.2472, 164.8448, 3400,    296.8,  17.0720,  35.5330,2,  35.5310,2,    189.2,2,    186.0,2,     1.95,3,     7.08,3,     0.59,3
    09FA1089_1,  PR11,   133,  1,   -999,     20,2,19890830,0911,-28.2472, 164.8448, 3400,    398.6,  14.6120,  35.3190,2,  35.3200,2,    188.0,2,    182.7,2,     3.52,3,    11.19,3,     0.83,3
    09FA1089_1,  PR11,   133,  1,   -999,     28,2,19890830,0911,-28.2472, 164.8448, 3400,    423.8,  14.2240,  35.2810,2,  35.2830,2,    185.7,2,    187.0,2,     3.71,3,    11.88,3,     0.86,3
    09FA1089_1,  PR11,   133,  1,   -999,      3,2,19890830,0911,-28.2472, 164.8448, 3400,    502.0,  12.2740,  35.0530,2,  35.0650,2,    186.5,2,    187.3,2,     5.67,3,    15.99,3,     1.10,3
    09FA1089_1,  PR11,   133,  1,   -999,     30,2,19890830,0911,-28.2472, 164.8448, 3400,    597.4,  10.3220,  34.8200,2,  -9.9999,5,    200.4,2,   -999.0,5,  -999.00,5,  -999.00,5,  -999.00,5
    09FA1089_1,  PR11,   133,  1,   -999,      9,2,19890830,0911,-28.2472, 164.8448, 3400,    797.3,   7.1670,  34.4830,2,  34.4820,2,    192.4,2,    200.3,2,    15.74,3,    28.10,3,     1.79,3
    09FA1089_1,  PR11,   133,  1,   -999,     18,2,19890830,0911,-28.2472, 164.8448, 3400,    969.4,   5.7750,  34.4440,2,  34.4470,2,    172.4,2,    189.3,2,    27.47,3,    30.62,3,     1.87,3
    09FA1089_1,  PR11,   133,  1,   -999,     17,2,19890830,0911,-28.2472, 164.8448, 3400,   1237.7,   4.2570,  34.5040,2,  34.5070,2,    161.0,2,    171.5,2,    65.30,3,    37.02,3,     2.41,3
    09FA1089_1,  PR11,   133,  1,   -999,      2,2,19890830,0911,-28.2472, 164.8448, 3400,   1481.9,   3.4120,  34.5580,2,  34.5580,2,    159.8,2,    157.7,2,    79.37,3,    37.70,3,     2.33,3
    09FA1089_1,  PR11,   133,  1,   -999,      5,2,19890830,0911,-28.2472, 164.8448, 3400,   1498.5,   3.3620,  34.5630,2,  34.5630,2,    155.3,2,    158.4,2,    81.13,3,    37.02,3,     2.33,3
    09FA1089_1,  PR11,   133,  1,   -999,     24,2,19890830,0911,-28.2472, 164.8448, 3400,   1750.6,   2.8160,  34.6060,2,  34.6100,2,    157.1,2,    153.1,2,    98.72,3,    39.53,3,     2.53,3
    09FA1089_1,  PR11,   133,  1,   -999,     31,2,19890830,0911,-28.2472, 164.8448, 3400,   2347.7,   2.1180,  34.6680,2,  34.6660,2,    158.6,2,    155.9,2,  -999.00,5,  -999.00,5,  -999.00,5
    09FA1089_1,  PR11,   133,  1,   -999,     10,2,19890830,0911,-28.2472, 164.8448, 3400,   2499.7,   2.0430,  34.6750,2,  34.6730,2,    159.2,2,    157.7,2,   116.41,3,    40.44,3,     2.59,3
    09FA1089_1,  PR11,   133,  1,   -999,     21,2,19890830,0911,-28.2472, 164.8448, 3400,   2797.7,   1.9680,  34.6830,2,  34.6810,2,    161.7,2,    158.4,2,   118.17,3,    40.44,3,     2.61,3
    09FA1089_1,  PR11,   133,  1,   -999,     12,2,19890830,0911,-28.2472, 164.8448, 3400,   3393.4,   1.9140,  34.6910,2,  34.6930,2,    161.7,2,   -999.0,5,  -999.00,5,  -999.00,5,  -999.00,5
    09FA1089_1,  PR11,   135,  1,   -999,     11,2,19890830,1634,-28.2517, 164.1093, 3188,      3.4,  20.0360,  35.6340,2,  35.6330,2,    197.7,2,    219.5,2,     1.07,3,     0.63,3,     0.26,3
    09FA1089_1,  PR11,   135,  1,   -999,      4,2,19890830,1634,-28.2517, 164.1093, 3188,     47.1,  20.0450,  35.6360,2,  35.6320,2,    224.0,2,    219.5,2,     0.88,3,     0.63,3,     0.24,3
    09FA1089_1,  PR11,   135,  1,   -999,     22,2,19890830,1634,-28.2517, 164.1093, 3188,     98.3,  19.7350,  35.6730,2,  35.6700,2,    223.6,2,    217.0,2,     0.68,3,     1.28,3,     0.26,3
    09FA1089_1,  PR11,   135,  1,   -999,      6,2,19890830,1634,-28.2517, 164.1093, 3188,    124.6,  19.4570,  35.6670,2,  35.6650,2,    216.7,2,    218.7,2,     0.88,3,     1.28,3,     0.27,3
    09FA1089_1,  PR11,   135,  1,   -999,     27,2,19890830,1634,-28.2517, 164.1093, 3188,    200.5,  18.8910,  35.6590,2,  35.6600,2,    222.9,2,    214.4,2,     1.07,3,     2.56,3,     0.31,3
    09FA1089_1,  PR11,   135,  1,   -999,     19,2,19890830,1634,-28.2517, 164.1093, 3188,    304.3,  16.6620,  35.4950,2,  35.4730,2,    182.2,2,    183.1,2,     2.74,3,     8.10,3,     0.67,3
    09FA1089_1,  PR11,   135,  1,   -999,     20,2,19890830,1634,-28.2517, 164.1093, 3188,    428.4,  13.8390,  35.2340,2,  35.2380,2,    184.2,2,    189.1,2,     4.40,3,    11.72,3,     0.91,3
    09FA1089_1,  PR11,   135,  1,   -999,     28,2,19890830,1634,-28.2517, 164.1093, 3188,    503.0,  11.9070,  35.0050,2,  34.9810,2,    183.9,2,    187.6,2,     6.55,3,    16.00,3,     1.16,3
    09FA1089_1,  PR11,   135,  1,   -999,      3,2,19890830,1634,-28.2517, 164.1093, 3188,    600.3,   9.9630,  34.7670,2,  34.7470,2,    191.9,2,    191.9,2,     9.48,3,    20.05,3,     1.46,3
    09FA1089_1,  PR11,   135,  1,   -999,     13,2,19890830,1634,-28.2517, 164.1093, 3188,    799.5,   7.1960,  34.5000,2,  34.4980,2,    198.8,2,    200.7,2,    17.40,3,    26.02,3,     1.80,3
    09FA1089_1,  PR11,   135,  1,   -999,      9,2,19890830,1634,-28.2517, 164.1093, 3188,    900.6,   6.0930,  34.4510,2,  34.4510,2,    194.8,2,    192.9,2,    25.81,3,    29.01,3,     2.00,3
    09FA1089_1,  PR11,   135,  1,   -999,     17,2,19890830,1634,-28.2517, 164.1093, 3188,   1230.3,   4.1320,  34.5020,2,  34.5070,2,    172.2,2,    170.5,2,    67.16,3,    34.14,3,     2.38,3
    09FA1089_1,  PR11,   135,  1,   -999,      5,2,19890830,1634,-28.2517, 164.1093, 3188,   1748.6,   2.7790,  34.6100,2,  34.6120,2,    155.4,2,    154.8,2,   101.66,3,    36.48,3,     2.58,3
    09FA1089_1,  PR11,   135,  1,   -999,     24,2,19890830,1634,-28.2517, 164.1093, 3188,   1997.8,   2.2900,  34.6520,2,  34.6490,2,    154.6,2,    154.8,2,   114.36,3,    36.48,3,     2.59,3
    09FA1089_1,  PR11,   135,  1,   -999,     31,2,19890830,1634,-28.2517, 164.1093, 3188,   2298.3,   2.1100,  34.6680,2,  34.6670,2,    156.0,2,    156.6,2,   119.83,3,    36.90,3,     2.62,3
    09FA1089_1,  PR11,   135,  1,   -999,     10,2,19890830,1634,-28.2517, 164.1093, 3188,   2495.1,   2.0220,  34.6780,2,  34.6760,2,    156.1,2,    157.7,2,   119.83,3,    36.68,3,     2.61,3
    09FA1089_1,  PR11,   135,  1,   -999,     21,2,19890830,1634,-28.2517, 164.1093, 3188,   3000.7,   1.9330,  34.6880,2,  34.6890,2,    158.6,2,    158.7,2,   123.45,3,    36.68,3,     2.59,3
    09FA1089_1,  PR11,   135,  1,   -999,     12,2,19890830,1634,-28.2517, 164.1093, 3188,   3183.0,   1.9250,  34.6900,2,  34.6910,2,    158.8,2,    161.9,2,   125.21,3,    36.90,3,     2.56,3
    09FA1089_1,  PR11,   137,  1,   -999,     11,2,19890830,2108,-28.2798, 163.9233, 2028,      5.1,  19.7290,  35.6580,2,  35.6580,2,    186.3,2,    222.3,2,     1.07,3,     0.63,3,     0.27,3
    09FA1089_1,  PR11,   137,  1,   -999,     19,2,19890830,2108,-28.2798, 163.9233, 2028,     49.5,  19.7230,  35.6600,2,  35.6580,2,    225.4,2,    222.3,2,     0.88,3,     0.63,3,     0.24,3
    09FA1089_1,  PR11,   137,  1,   -999,     20,2,19890830,2108,-28.2798, 163.9233, 2028,    101.7,  19.6890,  35.6630,2,  35.6590,2,    227.3,2,    219.5,2,     0.88,3,     0.85,3,     0.26,3
    09FA1089_1,  PR11,   137,  1,   -999,     28,2,19890830,2108,-28.2798, 163.9233, 2028,    150.9,  19.2710,  35.6660,2,  35.6650,2,    228.3,2,    217.3,2,     0.88,3,     1.49,3,     0.30,3
    09FA1089_1,  PR11,   137,  1,   -999,      3,2,19890830,2108,-28.2798, 163.9233, 2028,    200.3,  19.1060,  35.6700,2,  35.6680,2,    218.1,2,    220.1,2,     1.07,3,     1.28,3,     0.27,3
    09FA1089_1,  PR11,   137,  1,   -999,     13,2,19890830,2108,-28.2798, 163.9233, 2028,    303.0,  16.7210,  35.5090,2,  35.5150,2,    188.3,2,    185.3,2,     2.54,3,     7.25,3,     0.62,3
    09FA1089_1,  PR11,   137,  1,   -999,      9,2,19890830,2108,-28.2798, 163.9233, 2028,    399.4,  14.0710,  35.2710,2,  35.2710,2,    187.6,2,    185.9,2,     4.01,3,    11.09,3,     0.83,3
    09FA1089_1,  PR11,   137,  1,   -999,     18,2,19890830,2108,-28.2798, 163.9233, 2028,    501.4,  11.5080,  34.9750,2,  34.9790,2,    189.1,2,    187.6,2,     6.74,3,    16.21,3,     1.12,3
    09FA1089_1,  PR11,   137,  1,   -999,      4,2,19890830,2108,-28.2798, 163.9233, 2028,    602.4,   9.9770,  34.7950,2,  34.7960,2,    191.7,2,    190.8,2,     8.70,3,    18.76,3,     1.28,3
    09FA1089_1,  PR11,   137,  1,   -999,      2,2,19890830,2108,-28.2798, 163.9233, 2028,    800.7,   7.3220,  34.5360,2,  -9.9999,5,    194.2,2,    194.3,2,    18.18,3,    24.93,3,     1.70,3
    09FA1089_1,  PR11,   137,  1,   -999,      5,2,19890830,2108,-28.2798, 163.9233, 2028,    999.6,   5.6390,  34.4730,2,  34.4780,2,    187.1,2,    185.4,2,    34.31,3,    30.29,3,     2.07,3
    09FA1089_1,  PR11,   137,  1,   -999,     24,2,19890830,2108,-28.2798, 163.9233, 2028,   1200.9,   4.2710,  34.5080,2,  34.5250,2,    172.7,2,    172.3,2,    65.30,3,    33.49,3,     2.29,3
    09FA1089_1,  PR11,   137,  1,   -999,     31,2,19890830,2108,-28.2798, 163.9233, 2028,   1397.5,   3.4130,  34.5640,2,  34.5650,2,    161.8,2,    159.5,2,    83.48,3,    34.98,3,     2.39,3
    09FA1089_1,  PR11,   137,  1,   -999,     10,2,19890830,2108,-28.2798, 163.9233, 2028,   1499.9,   3.0850,  34.5880,2,  34.5880,2,    157.2,2,    157.0,2,    92.57,3,    36.48,3,     2.53,3
    09FA1089_1,  PR11,   137,  1,   -999,     21,2,19890830,2108,-28.2798, 163.9233, 2028,   1745.5,   2.6890,  34.6180,2,  34.6170,2,    154.4,2,    153.8,2,   103.42,3,    37.33,3,     2.56,3
    09FA1089_1,  PR11,   137,  1,   -999,     12,2,19890830,2108,-28.2798, 163.9233, 2028,   2027.6,   2.3330,  34.6500,2,  34.6500,2,    154.4,2,    154.5,2,   110.74,3,    36.48,3,     2.53,3
    09FA1089_1,  PR11,   139,  1,   -999,     11,2,19890831,0401,-28.2433, 163.0163, 1100,      4.6,  19.5850,  35.6810,2,  35.6820,2,    201.3,2,    229.0,2,     0.68,3,     0.43,3,     0.27,3
    09FA1089_1,  PR11,   139,  1,   -999,      3,2,19890831,0401,-28.2433, 163.0163, 1100,     49.7,  19.3900,  35.6790,2,  35.6800,2,    219.2,2,    226.2,2,     0.68,3,     0.63,3,     0.26,3
    09FA1089_1,  PR11,   139,  1,   -999,      9,2,19890831,0401,-28.2433, 163.0163, 1100,     98.8,  19.1250,  35.6720,2,  35.6770,2,    224.1,2,    221.6,2,     0.88,3,     1.49,3,     0.28,3
    09FA1089_1,  PR11,   139,  1,   -999,     18,2,19890831,0401,-28.2433, 163.0163, 1100,    150.0,  18.6920,  35.6310,2,  35.6310,2,    185.3,2,    186.0,2,     1.47,3,     4.90,3,     0.49,3
    09FA1089_1,  PR11,   139,  1,   -999,      4,2,19890831,0401,-28.2433, 163.0163, 1100,    199.3,  17.4410,  35.5550,2,  35.5510,2,    183.8,2,    182.8,2,     1.95,3,     6.82,3,     0.59,3
    09FA1089_1,  PR11,   139,  1,   -999,      2,2,19890831,0401,-28.2433, 163.0163, 1100,    348.8,  13.9160,  35.2590,2,  35.2610,2,    185.6,2,    187.0,2,     4.01,3,    11.09,3,     0.82,3
    09FA1089_1,  PR11,   139,  1,   -999,      5,2,19890831,0401,-28.2433, 163.0163, 1100,    398.9,  12.6680,  35.1210,2,  35.1240,2,    186.5,2,    188.0,2,     4.89,3,    13.44,3,     0.97,3
    09FA1089_1,  PR11,   139,  1,   -999,     24,2,19890831,0401,-28.2433, 163.0163, 1100,    500.0,  10.6580,  34.8850,2,  34.8740,2,    186.6,2,    188.7,2,     7.82,3,    17.91,3,     1.21,3
    09FA1089_1,  PR11,   139,  1,   -999,     31,2,19890831,0401,-28.2433, 163.0163, 1100,    600.9,   9.2680,  34.7250,2,  34.6990,2,    188.3,2,    191.8,2,    11.24,3,    21.54,3,     1.44,3
    09FA1089_1,  PR11,   139,  1,   -999,     10,2,19890831,0401,-28.2433, 163.0163, 1100,    802.9,   6.5460,  34.4950,2,  34.4970,2,    187.9,2,    189.7,2,    22.48,3,    27.09,3,     1.79,3
    09FA1089_1,  PR11,   139,  1,   -999,     21,2,19890831,0401,-28.2433, 163.0163, 1100,   1014.2,   5.3420,  34.4720,2,  34.4720,2,    181.7,2,    183.3,2,    32.65,3,    29.43,3,     1.93,3
    09FA1089_1,  PR11,   139,  1,   -999,     12,2,19890831,0401,-28.2433, 163.0163, 1100,   1096.2,   4.7540,  34.4860,2,  34.4890,2,    175.0,2,    174.8,2,    43.21,3,    31.79,3,     2.13,3
    09FA1089_1,  PR11,   141,  1,   -999,     11,2,19890831,1318,-28.2515, 162.1688, 1450,      3.7,  20.2040,  35.6300,2,  35.6310,2,    185.3,2,    216.0,2,     1.07,3,     1.34,3,     0.29,3
    09FA1089_1,  PR11,   141,  1,   -999,      6,2,19890831,1318,-28.2515, 162.1688, 1450,     48.3,  19.8960,  35.6640,2,  35.6610,2,    192.9,2,    204.2,2,     1.07,3,     2.67,3,     0.35,3
    09FA1089_1,  PR11,   141,  1,   -999,     28,2,19890831,1318,-28.2515, 162.1688, 1450,     98.3,  19.5930,  35.6740,2,  35.6690,2,    216.4,2,    214.8,2,     0.78,3,     1.67,3,     0.29,3
    09FA1089_1,  PR11,   141,  1,   -999,      3,2,19890831,1318,-28.2515, 162.1688, 1450,    148.3,  19.4840,  35.6780,2,  35.6740,2,    218.8,2,    217.7,2,     0.78,3,     1.50,3,     0.27,3
    09FA1089_1,  PR11,   141,  1,   -999,      9,2,19890831,1318,-28.2515, 162.1688, 1450,    199.5,  18.6870,  35.6310,2,  35.6270,2,    189.7,2,    188.5,2,     1.66,3,     5.51,3,     0.51,3
    09FA1089_1,  PR11,   141,  1,   -999,     18,2,19890831,1318,-28.2515, 162.1688, 1450,    299.2,  16.1850,  35.4630,2,  35.4610,2,    182.4,2,    183.5,2,     2.74,3,     8.51,3,     0.68,3
    09FA1089_1,  PR11,   141,  1,   -999,      4,2,19890831,1318,-28.2515, 162.1688, 1450,    393.4,  13.8140,  35.2440,2,  35.2410,2,    184.4,2,    187.3,2,     4.20,3,    11.52,3,     0.87,3
    09FA1089_1,  PR11,   141,  1,   -999,      2,2,19890831,1318,-28.2515, 162.1688, 1450,    499.8,  11.6360,  34.9980,2,  35.0040,2,    185.8,2,    189.0,2,     6.84,3,    16.36,3,     1.17,3
    09FA1089_1,  PR11,   141,  1,   -999,      5,2,19890831,1318,-28.2515, 162.1688, 1450,    599.1,   9.8900,  34.7920,2,  34.7920,2,    185.9,2,    190.8,2,     9.97,3,    20.37,3,     1.41,3
    09FA1089_1,  PR11,   141,  1,   -999,     24,2,19890831,1318,-28.2515, 162.1688, 1450,    799.2,   7.1570,  34.5290,2,  34.5310,2,    188.1,2,    191.5,2,    20.72,3,    27.21,3,     1.81,3
    09FA1089_1,  PR11,   141,  1,   -999,     31,2,19890831,1318,-28.2515, 162.1688, 1450,    949.3,   5.8810,  34.4760,2,  34.4800,2,    184.9,2,    187.2,2,    31.97,3,    30.56,3,     2.04,3
    09FA1089_1,  PR11,   141,  1,   -999,     10,2,19890831,1318,-28.2515, 162.1688, 1450,   1233.9,   4.1450,  34.5190,2,  34.5180,2,    168.0,2,    167.3,2,    70.28,3,    35.23,3,     2.37,3
    09FA1089_1,  PR11,   141,  1,   -999,     21,2,19890831,1318,-28.2515, 162.1688, 1450,   1413.0,   3.3620,  34.5670,2,  34.5660,2,    158.4,2,    161.6,2,    92.47,3,    36.73,3,     2.50,3
    09FA1089_1,  PR11,   141,  1,   -999,     12,2,19890831,1318,-28.2515, 162.1688, 1450,   1450.5,   3.2420,  34.5740,2,  34.5800,2,    155.6,2,    156.3,2,    92.47,3,    36.06,3,     2.44,3
    09FA1089_1,  PR11,   143,  1,   -999,     11,2,19890831,1837,-28.2487, 161.3158, 1600,      3.5,  19.0900,  35.6770,2,  35.6750,2,    175.1,2,    226.2,2,     1.47,3,     1.34,3,     0.30,3
    09FA1089_1,  PR11,   143,  1,   -999,      6,2,19890831,1837,-28.2487, 161.3158, 1600,     48.3,  18.9190,  35.6530,2,  35.6560,2,    226.2,2,    226.2,2,     1.07,3,     1.34,3,     0.27,3
    09FA1089_1,  PR11,   143,  1,   -999,     28,2,19890831,1837,-28.2487, 161.3158, 1600,     98.6,  18.9030,  35.6540,2,  35.6560,2,    228.8,2,    225.5,2,     0.88,3,     1.17,3,     0.26,3
    09FA1089_1,  PR11,   143,  1,   -999,      3,2,19890831,1837,-28.2487, 161.3158, 1600,    198.9,  18.5680,  35.6680,2,  35.6630,2,    217.4,2,    220.8,2,     0.88,3,     2.17,3,     0.32,3
    09FA1089_1,  PR11,   143,  1,   -999,      9,2,19890831,1837,-28.2487, 161.3158, 1600,    297.8,  15.4900,  35.4160,2,  35.4220,2,    186.9,2,    185.6,2,     2.93,3,     9.01,3,     0.69,3
    09FA1089_1,  PR11,   143,  1,   -999,     18,2,19890831,1837,-28.2487, 161.3158, 1600,    358.4,  13.9530,  35.2630,2,  35.2640,2,    187.0,2,    189.4,2,     4.40,3,    12.18,3,     0.91,3
    09FA1089_1,  PR11,   143,  1,   -999,      4,2,19890831,1837,-28.2487, 161.3158, 1600,    398.6,  12.8990,  35.1530,2,  35.1580,2,    187.8,2,    189.8,2,     4.98,3,    13.18,3,     0.93,3
    09FA1089_1,  PR11,   143,  1,   -999,      2,2,19890831,1837,-28.2487, 161.3158, 1600,    496.7,  11.0420,  34.9230,2,  34.9250,2,    186.5,2,    189.4,2,     7.92,3,    18.20,3,     1.26,3
    09FA1089_1,  PR11,   143,  1,   -999,      5,2,19890831,1837,-28.2487, 161.3158, 1600,    597.6,   9.6220,  34.7670,2,  34.7660,2,    187.4,2,    190.8,2,    11.14,3,    21.70,3,     1.44,3
    09FA1089_1,  PR11,   143,  1,   -999,     24,2,19890831,1837,-28.2487, 161.3158, 1600,    799.1,   7.0710,  34.5300,2,  34.5290,2,    187.8,2,    191.1,2,    22.19,3,    27.88,3,     1.84,3
    09FA1089_1,  PR11,   143,  1,   -999,     31,2,19890831,1837,-28.2487, 161.3158, 1600,    999.5,   5.4470,  34.4800,2,  34.4820,2,    180.1,2,    181.9,2,    38.81,3,    32.05,3,     2.11,3
    09FA1089_1,  PR11,   143,  1,   -999,     10,2,19890831,1837,-28.2487, 161.3158, 1600,   1228.4,   4.2190,  34.5120,2,  34.5100,2,    168.1,2,    168.7,2,    70.29,3,    35.06,3,     2.34,3
    09FA1089_1,  PR11,   143,  1,   -999,     21,2,19890831,1837,-28.2487, 161.3158, 1600,   1400.6,   3.3800,  34.5640,2,  34.5640,2,    158.2,2,    157.7,2,    92.47,3,    37.07,3,     2.49,3
    09FA1089_1,  PR11,   143,  1,   -999,     12,2,19890831,1837,-28.2487, 161.3158, 1600,   1599.1,   2.8760,  34.6060,2,  34.6040,2,    151.5,2,    153.8,2,    98.04,3,    36.39,3,     2.37,3