BOTTLE,20010820WHPSIOKJU
EXPOCODE,SECT_ID,STNNBR,CASTNO,SAMPNO,BTLNBR,BTLNBR_FLAG_W,DATE,TIME,LATITUDE,LONGITUDE,DEPTH,CTDPRS,CTDTMP,CTDSAL,CTDSAL_FLAG_W,SALNTY,SALNTY_FLAG_W,CTDOXY,CTDOXY_FLAG_W,OXYGEN,OXYGEN_FLAG_W,SILCAT,SILCAT_FLAG_W,NO2+NO3,NO2+NO3_FLAG_W,PHSPHT,PHSPHT_FLAG_W
,,,,,,,,,,,,DBR,ITS-90,PSS-78,,PSS-78,,UMOL/KG,,UMOL/KG,,UMOL/KG,,UMOL/KG,,UMOL/KG,
    09FA1089_1,  PR11,   155,  1,   -999,     11,2,19890902,0057,-28.4590, 157.4182, 4206,      2.6,  20.1980,  35.6180,2,  35.6220,2,    165.1,2,    221.5,2,     0.59,3,     0.37,3,     0.24,3
    09FA1089_1,  PR11,   155,  1,   -999,     20,2,19890902,0057,-28.4590, 157.4182, 4206,     47.9,  20.0070,  35.6380,2,  35.6400,2,    222.9,2,    222.1,2,     0.59,3,     0.37,3,     0.23,3
    09FA1089_1,  PR11,   155,  1,   -999,     22,2,19890902,0057,-28.4590, 157.4182, 4206,     98.5,  19.6670,  35.6180,2,  35.6160,2,    216.8,2,    212.6,2,     0.88,3,     1.66,3,     0.28,3
    09FA1089_1,  PR11,   155,  1,   -999,     26,2,19890902,0057,-28.4590, 157.4182, 4206,    147.9,  19.3630,  35.6130,2,  35.6120,2,    210.3,2,    212.9,2,     0.88,3,     2.21,3,     0.39,3
    09FA1089_1,  PR11,   155,  1,   -999,     13,2,19890902,0057,-28.4590, 157.4182, 4206,    197.9,  18.8180,  35.6440,2,  35.6410,2,    184.8,2,    185.7,2,     1.47,3,     5.71,3,     0.48,3
    09FA1089_1,  PR11,   155,  1,   -999,      4,2,19890902,0057,-28.4590, 157.4182, 4206,    298.0,  16.1020,  35.4460,2,  35.4490,2,    179.5,2,    179.1,2,     2.74,3,     9.95,3,     0.72,3
    09FA1089_1,  PR11,   155,  1,   -999,      8,2,19890902,0057,-28.4590, 157.4182, 4206,    378.0,  14.3160,  35.3070,2,  35.3070,2,    184.9,2,    185.6,2,     4.01,3,    12.16,3,     0.87,3
    09FA1089_1,  PR11,   155,  1,   -999,     19,2,19890902,0057,-28.4590, 157.4182, 4206,    399.4,  13.6920,  35.2420,2,  35.2400,2,    185.1,2,    186.5,2,     4.20,3,    13.09,3,     0.93,3
    09FA1089_1,  PR11,   155,  1,   -999,     29,2,19890902,0057,-28.4590, 157.4182, 4206,    498.9,  11.3300,  34.9580,2,  34.9670,2,    185.8,2,    187.8,2,     6.74,3,    18.07,3,     1.17,3
    09FA1089_1,  PR11,   155,  1,   -999,     27,2,19890902,0057,-28.4590, 157.4182, 4206,    601.2,   9.4170,  34.7270,2,  34.7220,2,    187.0,2,    190.7,2,     9.97,3,    23.24,3,     1.48,3
    09FA1089_1,  PR11,   155,  1,   -999,     16,2,19890902,0057,-28.4590, 157.4182, 4206,    799.4,   7.0970,  34.5200,2,  34.5340,2,    185.9,2,    187.4,2,    19.84,3,    29.51,3,     1.81,3
    09FA1089_1,  PR11,   155,  1,   -999,      6,2,19890902,0057,-28.4590, 157.4182, 4206,    978.9,   5.5530,  34.4630,2,  34.4670,2,    182.3,2,    180.2,2,    34.02,3,    33.76,3,     2.11,3
    09FA1089_1,  PR11,   155,  1,   -999,     28,2,19890902,0057,-28.4590, 157.4182, 4206,   1238.7,   4.1920,  34.5030,2,  -9.9999,5,    166.8,2,    164.8,2,    67.65,3,    37.44,3,     2.35,3
    09FA1089_1,  PR11,   155,  1,   -999,      3,2,19890902,0057,-28.4590, 157.4182, 4206,   1479.0,   3.3510,  34.5590,2,  34.5640,2,    156.0,2,    152.3,2,    90.81,3,    39.84,3,     2.50,3
    09FA1089_1,  PR11,   155,  1,   -999,      9,2,19890902,0057,-28.4590, 157.4182, 4206,   1750.3,   2.7000,  34.6200,2,  34.6240,2,    153.6,2,    151.3,2,   103.51,3,    40.57,3,     2.55,3
    09FA1089_1,  PR11,   155,  1,   -999,     18,2,19890902,0057,-28.4590, 157.4182, 4206,   1999.2,   2.4210,  34.6560,2,  34.6560,2,    160.1,2,    156.9,2,   103.51,3,    39.65,3,     2.48,3
    09FA1089_1,  PR11,   155,  1,   -999,      2,2,19890902,0057,-28.4590, 157.4182, 4206,   2509.6,   1.9370,  34.7160,2,  34.7160,2,    177.1,2,    177.5,2,   105.56,3,    38.18,3,     2.35,3
    09FA1089_1,  PR11,   155,  1,   -999,      5,2,19890902,0057,-28.4590, 157.4182, 4206,   2799.0,   1.6400,  34.7270,2,  34.7260,2,    183.3,2,    183.7,2,   111.91,3,    37.99,3,     2.35,3
    09FA1089_1,  PR11,   155,  1,   -999,     24,2,19890902,0057,-28.4590, 157.4182, 4206,   2999.0,   1.4880,  34.7280,2,  34.7230,2,    185.9,2,    186.9,2,   116.11,3,    37.99,3,     2.35,3
    09FA1089_1,  PR11,   155,  1,   -999,     31,2,19890902,0057,-28.4590, 157.4182, 4206,   3218.9,   1.3320,  34.7270,2,  34.7310,2,    188.0,2,    190.5,2,   120.41,3,    37.99,3,     2.35,3
    09FA1089_1,  PR11,   155,  1,   -999,     10,2,19890902,0057,-28.4590, 157.4182, 4206,   3485.4,   1.2030,  34.7240,2,  34.7210,2,    190.3,2,    191.8,2,   122.47,3,    38.18,3,     2.36,3
    09FA1089_1,  PR11,   155,  1,   -999,     17,2,19890902,0057,-28.4590, 157.4182, 4206,   4002.9,   1.1300,  34.7220,2,  34.7200,2,    192.6,2,    194.5,2,   124.62,3,    38.18,3,     2.36,3
    09FA1089_1,  PR11,   155,  1,   -999,     12,2,19890902,0057,-28.4590, 157.4182, 4206,   4197.7,   1.1310,  34.7210,2,  34.7180,2,    192.7,2,    192.8,2,   124.62,3,    38.18,3,     2.38,3
    09FA1089_1,  PR11,   157,  1,   -999,     11,2,19890902,0640,-28.6370, 156.8707, 4600,      3.5,  18.9400,  35.6100,2,  35.6110,2,    167.6,2,    230.3,2,     0.88,3,     0.19,3,     0.26,3
    09FA1089_1,  PR11,   157,  1,   -999,     20,2,19890902,0640,-28.6370, 156.8707, 4600,     48.4,  18.6360,  35.6350,2,  35.6350,2,    224.8,2,    225.0,2,     0.98,3,     0.94,3,     0.29,3
    09FA1089_1,  PR11,   157,  1,   -999,     22,2,19890902,0640,-28.6370, 156.8707, 4600,     89.8,  18.4840,  35.6280,2,  35.6260,2,    218.3,2,    214.2,2,     1.17,3,     2.45,3,     0.34,3
    09FA1089_1,  PR11,   157,  1,   -999,     26,2,19890902,0640,-28.6370, 156.8707, 4600,    148.4,  16.7920,  35.5030,2,  35.5030,2,    179.5,2,    181.1,2,     2.44,3,     7.54,3,     0.68,3
    09FA1089_1,  PR11,   157,  1,   -999,     13,2,19890902,0640,-28.6370, 156.8707, 4600,    198.7,  15.7000,  35.4280,2,  35.4250,2,    180.7,2,    181.7,2,     3.03,3,     9.23,3,     0.88,3
    09FA1089_1,  PR11,   157,  1,   -999,      4,2,19890902,0640,-28.6370, 156.8707, 4600,    288.7,  13.8400,  35.2690,2,  35.2670,2,    187.2,2,    185.9,2,     4.01,3,    11.50,3,     0.93,3
    09FA1089_1,  PR11,   157,  1,   -999,      8,2,19890902,0640,-28.6370, 156.8707, 4600,    398.4,  11.8230,  35.0380,2,  35.0370,2,    189.0,2,    192.1,2,     5.28,3,    14.71,3,     1.06,3
    09FA1089_1,  PR11,   157,  1,   -999,     19,2,19890902,0640,-28.6370, 156.8707, 4600,    498.5,   9.8630,  34.7830,2,  34.7890,2,    187.1,2,    188.8,2,     8.21,3,    19.23,3,     1.32,3
    09FA1089_1,  PR11,   157,  1,   -999,     29,2,19890902,0640,-28.6370, 156.8707, 4600,    598.3,   8.5860,  34.6420,2,  34.6580,2,    188.8,2,    189.7,2,    11.14,3,    22.07,3,     1.49,3
    09FA1089_1,  PR11,   157,  1,   -999,     27,2,19890902,0640,-28.6370, 156.8707, 4600,    798.4,   6.5610,  34.4940,2,  34.5010,2,    187.3,2,    185.8,2,    22.29,3,    27.35,3,     1.84,3
    09FA1089_1,  PR11,   157,  1,   -999,     16,2,19890902,0640,-28.6370, 156.8707, 4600,    937.5,   5.5050,  34.4690,2,  34.4950,3,    179.8,2,    177.9,2,    35.29,3,    31.50,3,     2.14,3
    09FA1089_1,  PR11,   157,  1,   -999,      6,2,19890902,0640,-28.6370, 156.8707, 4600,    998.5,   5.1130,  34.4650,2,  34.4650,2,    176.7,2,    175.3,2,    39.98,3,    32.82,3,     2.23,3
    09FA1089_1,  PR11,   157,  1,   -999,     28,2,19890902,0640,-28.6370, 156.8707, 4600,   1184.2,   4.2180,  34.5020,2,  34.5190,2,    167.0,2,    163.8,2,    56.60,3,    32.44,3,     2.07,3
    09FA1089_1,  PR11,   157,  1,   -999,      3,2,19890902,0640,-28.6370, 156.8707, 4600,   1398.9,   3.3050,  34.5650,2,  34.5740,2,    156.5,2,    150.4,2,    81.62,3,    34.90,3,     2.28,3
    09FA1089_1,  PR11,   157,  1,   -999,      9,2,19890902,0640,-28.6370, 156.8707, 4600,   1498.5,   3.0530,  34.5860,2,  34.5950,2,    153.1,2,    148.1,2,    88.27,3,    35.46,3,     2.33,3
    09FA1089_1,  PR11,   157,  1,   -999,     21,2,19890902,0640,-28.6370, 156.8707, 4600,   2202.5,   2.1680,  34.6930,2,  34.6960,2,    168.8,2,    169.0,2,    93.25,3,    34.33,3,     2.25,3
    09FA1089_1,  PR11,   157,  1,   -999,      2,2,19890902,0640,-28.6370, 156.8707, 4600,   2478.0,   1.9460,  34.7190,2,  34.7160,2,    177.7,2,    177.5,2,    93.24,3,    33.76,3,     2.17,3
    09FA1089_1,  PR11,   157,  1,   -999,      5,2,19890902,0640,-28.6370, 156.8707, 4600,   2802.6,   1.6620,  34.7290,2,  34.7270,2,    183.8,2,    184.7,2,   109.86,3,    35.65,3,     2.37,3
    09FA1089_1,  PR11,   157,  1,   -999,     24,2,19890902,0640,-28.6370, 156.8707, 4600,   3216.8,   1.3390,  34.7270,2,  34.7270,2,    188.3,2,    189.2,2,   116.50,3,    35.65,3,     2.36,3
    09FA1089_1,  PR11,   157,  1,   -999,     31,2,19890902,0640,-28.6370, 156.8707, 4600,   3497.6,   1.1980,  34.7260,2,  34.7250,2,    190.9,2,    191.9,2,  -999.00,5,  -999.00,5,  -999.00,5
    09FA1089_1,  PR11,   157,  1,   -999,     10,2,19890902,0640,-28.6370, 156.8707, 4600,   3996.9,   1.1470,  34.7230,2,  34.7220,2,    192.6,2,    192.5,2,   124.91,3,    36.58,3,     2.40,3
    09FA1089_1,  PR11,   157,  1,   -999,     17,2,19890902,0640,-28.6370, 156.8707, 4600,   4499.9,   1.1640,  34.7220,2,  34.7200,2,    193.3,2,    194.1,2,   126.47,3,    36.58,3,     2.43,3
    09FA1089_1,  PR11,   157,  1,   -999,     12,2,19890902,0640,-28.6370, 156.8707, 4600,   4599.7,   1.1730,  34.7220,2,  34.7200,2,    193.6,2,    193.5,2,   128.14,3,    36.58,3,     2.43,3
    09FA1089_1,  PR11,   159,  1,   -999,     11,2,19890902,1245,-28.8062, 156.3507, 4862,      3.5,  18.9100,  35.5860,2,  35.5890,2,    162.1,2,    223.1,2,     0.98,3,     1.89,3,     0.35,3
    09FA1089_1,  PR11,   159,  1,   -999,     20,2,19890902,1245,-28.8062, 156.3507, 4862,     48.2,  18.8520,  35.5800,2,  35.5810,2,    220.1,2,    220.8,2,     0.98,3,     1.89,3,     0.32,3
    09FA1089_1,  PR11,   159,  1,   -999,     22,2,19890902,1245,-28.8062, 156.3507, 4862,     98.5,  18.8510,  35.5810,2,  35.5780,2,    222.8,2,    221.1,2,     0.88,3,     2.07,3,     0.31,3
    09FA1089_1,  PR11,   159,  1,   -999,     26,2,19890902,1245,-28.8062, 156.3507, 4862,    163.3,  18.5400,  35.5910,2,  35.5900,2,    212.6,2,    201.1,2,     1.17,3,     3.77,3,     0.47,3
    09FA1089_1,  PR11,   159,  1,   -999,     13,2,19890902,1245,-28.8062, 156.3507, 4862,    198.5,  17.6810,  35.5540,2,  35.5530,2,    189.8,2,    185.7,2,     1.86,3,     6.41,3,     0.58,3
    09FA1089_1,  PR11,   159,  1,   -999,      4,2,19890902,1245,-28.8062, 156.3507, 4862,    333.4,  14.3800,  35.3010,2,  35.3030,2,    186.1,2,    185.2,2,     3.81,3,    11.68,3,     0.88,3
    09FA1089_1,  PR11,   159,  1,   -999,      8,2,19890902,1245,-28.8062, 156.3507, 4862,    398.2,  13.1450,  35.1860,2,  35.1850,2,    189.2,2,    188.2,2,     4.49,3,    13.39,3,     0.98,3
    09FA1089_1,  PR11,   159,  1,   -999,     19,2,19890902,1245,-28.8062, 156.3507, 4862,    498.9,  11.2390,  34.9560,2,  34.9560,2,    189.8,2,    192.0,2,     5.86,3,    16.78,3,     1.11,3
    09FA1089_1,  PR11,   159,  1,   -999,     29,2,19890902,1245,-28.8062, 156.3507, 4862,    598.7,   9.4280,  34.7220,2,  34.7340,2,    191.2,2,    192.7,2,     9.19,3,    22.07,3,     1.47,3
    09FA1089_1,  PR11,   159,  1,   -999,     27,2,19890902,1245,-28.8062, 156.3507, 4862,    798.5,   6.8820,  34.5060,2,  34.5070,2,    186.0,2,    185.8,2,    21.51,3,    29.42,3,     1.89,3
    09FA1089_1,  PR11,   159,  1,   -999,     16,2,19890902,1245,-28.8062, 156.3507, 4862,    960.1,   5.5410,  34.4640,2,  -9.9999,5,    179.9,2,    179.9,2,    32.94,3,    31.88,3,     1.99,3
    09FA1089_1,  PR11,   159,  1,   -999,      6,2,19890902,1245,-28.8062, 156.3507, 4862,    998.5,   5.3370,  34.4670,2,  34.4700,2,    177.4,2,    176.3,2,    37.93,3,    34.14,3,     2.21,3
    09FA1089_1,  PR11,   159,  1,   -999,     28,2,19890902,1245,-28.8062, 156.3507, 4862,   1179.1,   4.2460,  34.5000,2,  34.5150,2,    167.4,2,    166.7,2,    64.91,3,    36.40,3,     2.33,3
    09FA1089_1,  PR11,   159,  1,   -999,      3,2,19890902,1245,-28.8062, 156.3507, 4862,   1388.3,   3.4100,  34.5540,2,  34.5540,2,    156.9,2,    154.6,2,    84.95,3,    39.04,3,     2.54,3
    09FA1089_1,  PR11,   159,  1,   -999,      9,2,19890902,1245,-28.8062, 156.3507, 4862,   1498.8,   3.0440,  34.5840,2,  34.5850,2,    153.9,2,    150.4,2,    96.58,3,    39.61,3,     2.66,3
    09FA1089_1,  PR11,   159,  1,   -999,     18,2,19890902,1245,-28.8062, 156.3507, 4862,   1754.3,   2.5650,  34.6340,2,  34.6340,2,    156.8,2,    154.6,2,   101.56,3,    39.61,3,     2.59,3
    09FA1089_1,  PR11,   159,  1,   -999,     21,2,19890902,1245,-28.8062, 156.3507, 4862,   2159.1,   2.2120,  34.6850,2,  34.6850,2,    169.1,2,    167.7,2,   101.55,3,    38.10,3,     2.52,3
    09FA1089_1,  PR11,   159,  1,   -999,      2,2,19890902,1245,-28.8062, 156.3507, 4862,   2490.2,   1.9080,  34.7190,2,  34.7170,2,    177.5,2,    183.7,2,   103.21,3,    36.96,3,     2.38,3
    09FA1089_1,  PR11,   159,  1,   -999,      5,2,19890902,1245,-28.8062, 156.3507, 4862,   2802.6,   1.6530,  34.7280,2,  34.7240,2,    184.1,2,    185.3,2,   111.52,3,    36.58,3,     2.37,3
    09FA1089_1,  PR11,   159,  1,   -999,     24,2,19890902,1245,-28.8062, 156.3507, 4862,   3228.2,   1.3360,  34.7250,2,  34.7220,2,    188.6,2,    190.5,2,   118.17,3,    36.96,3,     2.40,3
    09FA1089_1,  PR11,   159,  1,   -999,     31,2,19890902,1245,-28.8062, 156.3507, 4862,   3498.1,   1.2270,  34.7230,2,  34.7210,2,    191.0,2,    191.8,2,   123.15,3,    37.34,3,     2.38,3
    09FA1089_1,  PR11,   159,  1,   -999,     10,2,19890902,1245,-28.8062, 156.3507, 4862,   4006.5,   1.1580,  34.7210,2,  34.7180,2,    192.5,2,    192.5,2,   124.91,3,    37.53,3,     2.41,3
    09FA1089_1,  PR11,   159,  1,   -999,     17,2,19890902,1245,-28.8062, 156.3507, 4862,   4505.1,   1.1740,  34.7190,2,  34.7170,2,    193.4,2,    194.5,2,   126.47,3,    37.72,3,     2.43,3
    09FA1089_1,  PR11,   159,  1,   -999,     12,2,19890902,1245,-28.8062, 156.3507, 4862,   4865.2,   1.2020,  34.7170,2,  34.7150,2,    193.6,2,    193.5,2,   126.47,3,    37.90,3,     2.41,3
    09FA1089_1,  PR11,   161,  1,   -999,     11,2,19890902,1911,-28.9923, 155.8280, 3892,      4.9,  19.1030,  35.5760,2,  35.5750,2,    147.5,2,    219.8,2,     1.17,3,     1.89,3,     0.31,3
    09FA1089_1,  PR11,   161,  1,   -999,     20,2,19890902,1911,-28.9923, 155.8280, 3892,     48.5,  19.0870,  35.5750,2,  35.5750,2,    222.5,2,    223.1,2,     0.98,3,     1.89,3,     0.31,3
    09FA1089_1,  PR11,   161,  1,   -999,     22,2,19890902,1911,-28.9923, 155.8280, 3892,     98.0,  19.0920,  35.5760,2,  35.5740,2,    222.7,2,    211.3,2,     0.78,3,     1.89,3,     0.31,3
    09FA1089_1,  PR11,   161,  1,   -999,     26,2,19890902,1911,-28.9923, 155.8280, 3892,    149.0,  19.0510,  35.5890,2,  35.5860,2,    221.2,2,    215.2,2,     0.98,3,     2.24,3,     0.31,3
    09FA1089_1,  PR11,   161,  1,   -999,     13,2,19890902,1911,-28.9923, 155.8280, 3892,    198.8,  18.9090,  35.5870,2,  35.5850,2,    211.0,2,    216.5,2,     0.78,3,     2.41,3,     0.31,3
    09FA1089_1,  PR11,   161,  1,   -999,      4,2,19890902,1911,-28.9923, 155.8280, 3892,    229.2,  18.7880,  35.6050,2,  35.6040,2,    190.1,2,    204.7,2,     1.17,3,     3.10,3,     0.38,3
    09FA1089_1,  PR11,   161,  1,   -999,      8,2,19890902,1911,-28.9923, 155.8280, 3892,    298.6,  17.1490,  35.5180,2,  35.5170,2,    185.5,2,    176.5,2,     2.64,3,     7.57,3,     0.64,3
    09FA1089_1,  PR11,   161,  1,   -999,     19,2,19890902,1911,-28.9923, 155.8280, 3892,    407.9,  14.2080,  35.2780,2,  35.2790,2,    185.3,2,    183.6,2,     4.10,3,    11.53,3,  -999.00,5
    09FA1089_1,  PR11,   161,  1,   -999,     29,2,19890902,1911,-28.9923, 155.8280, 3892,    498.2,  11.9510,  35.0500,2,  35.0640,2,    190.1,2,    192.7,2,     5.57,3,    14.46,3,     1.07,3
    09FA1089_1,  PR11,   161,  1,   -999,     27,2,19890902,1911,-28.9923, 155.8280, 3892,    598.6,   9.7940,  34.7640,2,  34.7660,2,    192.8,2,    193.7,2,     8.01,3,    19.46,3,     1.41,3
    09FA1089_1,  PR11,   161,  1,   -999,     16,2,19890902,1911,-28.9923, 155.8280, 3892,    798.0,   7.4150,  34.5350,2,  34.5580,2,    185.7,2,    186.8,2,    17.50,3,    26.35,3,     1.76,3
    09FA1089_1,  PR11,   161,  1,   -999,      6,2,19890902,1911,-28.9923, 155.8280, 3892,    982.7,   5.7960,  34.4660,2,  34.4720,2,    180.7,2,    179.2,2,    31.87,3,    30.83,3,     2.07,3
    09FA1089_1,  PR11,   161,  1,   -999,     28,2,19890902,1911,-28.9923, 155.8280, 3892,   1098.6,   5.1930,  34.4690,2,  34.4770,2,    176.1,2,    177.2,2,    39.20,3,    32.38,3,     2.14,3
    09FA1089_1,  PR11,   161,  1,   -999,      3,2,19890902,1911,-28.9923, 155.8280, 3892,   1242.8,   4.1650,  34.5040,2,  34.5050,2,    168.2,2,    164.1,2,    63.74,3,    35.13,3,     2.37,3
    09FA1089_1,  PR11,   161,  1,   -999,      9,2,19890902,1911,-28.9923, 155.8280, 3892,   1418.9,   3.3130,  34.5620,2,  34.5620,2,    157.1,2,    153.0,2,    83.28,3,    37.20,3,     2.50,3
    09FA1089_1,  PR11,   161,  1,   -999,     18,2,19890902,1911,-28.9923, 155.8280, 3892,   1498.2,   3.0750,  34.5810,2,  34.5900,2,    154.6,2,    154.0,2,    86.51,3,    37.03,3,     2.50,3
    09FA1089_1,  PR11,   161,  1,   -999,     21,2,19890902,1911,-28.9923, 155.8280, 3892,   1746.7,   2.6600,  34.6220,2,  34.6210,2,    156.4,2,    154.9,2,    96.38,3,    37.54,3,     2.54,3
    09FA1089_1,  PR11,   161,  1,   -999,      2,2,19890902,1911,-28.9923, 155.8280, 3892,   2143.4,   2.1850,  34.6850,2,  34.6860,2,    169.4,2,    168.0,2,    96.37,3,    35.99,3,     2.42,3
    09FA1089_1,  PR11,   161,  1,   -999,      5,2,19890902,1911,-28.9923, 155.8280, 3892,   2472.9,   1.9280,  34.7150,2,  34.7140,2,    177.6,2,    178.8,2,    97.93,3,    35.30,3,     2.38,3
    09FA1089_1,  PR11,   161,  1,   -999,     24,2,19890902,1911,-28.9923, 155.8280, 3892,   2598.1,   1.8250,  34.7190,2,  34.7190,2,    181.0,2,    180.7,2,    99.60,3,    35.13,3,     2.35,3
    09FA1089_1,  PR11,   161,  1,   -999,     31,2,19890902,1911,-28.9923, 155.8280, 3892,   2798.5,   1.6390,  34.7260,2,  34.7220,2,    184.4,2,    185.3,2,   106.14,3,    35.13,3,     2.35,3
    09FA1089_1,  PR11,   161,  1,   -999,     10,2,19890902,1911,-28.9923, 155.8280, 3892,   3228.8,   1.3490,  34.7240,2,  34.7200,2,    189.1,2,    191.2,2,   112.69,3,    35.30,3,     2.37,3
    09FA1089_1,  PR11,   161,  1,   -999,     17,2,19890902,1911,-28.9923, 155.8280, 3892,   3499.0,   1.2100,  34.7220,2,  34.7180,2,    190.9,2,    191.5,2,   117.58,3,    35.48,3,     2.37,3
    09FA1089_1,  PR11,   161,  1,   -999,     12,2,19890902,1911,-28.9923, 155.8280, 3892,   3890.3,   1.1670,  34.7200,2,  34.7160,2,    192.0,2,    192.8,2,   117.58,3,    35.48,3,     2.37,3