BOTTLE,20010820WHPSIOKJU
EXPOCODE,SECT_ID,STNNBR,CASTNO,SAMPNO,BTLNBR,BTLNBR_FLAG_W,DATE,TIME,LATITUDE,LONGITUDE,DEPTH,CTDPRS,CTDTMP,CTDSAL,CTDSAL_FLAG_W,SALNTY,SALNTY_FLAG_W,CTDOXY,CTDOXY_FLAG_W,OXYGEN,OXYGEN_FLAG_W,SILCAT,SILCAT_FLAG_W,NO2+NO3,NO2+NO3_FLAG_W,PHSPHT,PHSPHT_FLAG_W
,,,,,,,,,,,,DBR,ITS-90,PSS-78,,PSS-78,,UMOL/KG,,UMOL/KG,,UMOL/KG,,UMOL/KG,,UMOL/KG,
    09FA1089_2,  PR11,   179,  1,   -999,     11,2,19890908,0559,-29.0727, 153.9002,  502,      5.7,  21.2240,  35.3930,2,  35.3930,2,    179.5,2,    219.6,2,     0.29,3,     0.20,3,     0.21,3
    09FA1089_2,  PR11,   179,  1,   -999,     26,2,19890908,0559,-29.0727, 153.9002,  502,     48.7,  21.0870,  35.4260,2,  35.4100,2,    215.0,2,    216.4,2,     0.29,3,     0.40,3,     0.22,3
    09FA1089_2,  PR11,   179,  1,   -999,     20,2,19890908,0559,-29.0727, 153.9002,  502,     99.7,  20.8670,  35.4800,2,  35.4760,2,    211.9,2,    209.8,2,     0.49,3,     1.19,3,     0.28,3
    09FA1089_2,  PR11,   179,  1,   -999,     28,2,19890908,0559,-29.0727, 153.9002,  502,    158.6,  19.4270,  35.5870,2,  35.5830,2,    175.4,2,    172.1,2,     1.47,3,     6.15,3,     0.57,3
    09FA1089_2,  PR11,   179,  1,   -999,     31,2,19890908,0559,-29.0727, 153.9002,  502,    197.9,  18.3130,  35.5600,2,  35.5650,2,    173.2,2,    173.3,2,     1.86,3,     6.94,3,     0.63,3
    09FA1089_2,  PR11,   179,  1,   -999,     12,2,19890908,0559,-29.0727, 153.9002,  502,    288.3,  13.5340,  35.1620,2,  35.1600,2,    177.4,2,    182.4,2,     5.08,3,    13.90,3,     1.03,3
    09FA1089_2,  PR11,   179,  1,   -999,     21,2,19890908,0559,-29.0727, 153.9002,  502,    397.2,  11.2510,  34.9210,2,  34.9250,2,    182.7,2,    184.6,2,     6.94,3,    18.08,3,     1.27,3
    09FA1089_2,  PR11,   179,  1,   -999,      6,2,19890908,0559,-29.0727, 153.9002,  502,    501.5,   9.3540,  34.7090,2,  34.7100,2,    190.7,2,    187.8,2,    10.36,3,    22.45,3,     1.51,3
    09FA1089_2,  PR11,   181,  1,   -999,     11,2,19890908,0723,-29.1040, 153.9088, 1140,      6.3,  21.2710,  35.3210,2,  35.3190,2,    235.7,2,    222.6,2,     0.29,3,     0.20,3,     0.23,3
    09FA1089_2,  PR11,   181,  1,   -999,     24,2,19890908,0723,-29.1040, 153.9088, 1140,     99.5,  20.7060,  35.4110,2,  35.4120,2,    218.7,2,    210.8,2,     0.49,3,     1.19,3,     0.33,3
    09FA1089_2,  PR11,   181,  1,   -999,      9,2,19890908,0723,-29.1040, 153.9088, 1140,    159.2,  19.2200,  35.6320,2,  35.6310,2,    188.7,2,    180.6,2,     1.47,3,     5.16,3,     0.55,3
    09FA1089_2,  PR11,   181,  1,   -999,     10,2,19890908,0723,-29.1040, 153.9088, 1140,    198.2,  18.5890,  35.5770,2,  35.5770,2,    183.3,2,    176.6,2,     1.86,3,     6.75,3,     0.63,3
    09FA1089_2,  PR11,   181,  1,   -999,     26,2,19890908,0723,-29.1040, 153.9088, 1140,    318.2,  13.1190,  35.1180,2,  35.1230,2,    182.7,2,    184.0,2,     5.57,3,    14.50,3,     1.07,3
    09FA1089_2,  PR11,   181,  1,   -999,     20,2,19890908,0723,-29.1040, 153.9088, 1140,    398.6,  11.2040,  34.9160,2,  34.9130,2,    183.1,2,    191.5,2,     7.23,3,    18.27,3,     1.28,3
    09FA1089_2,  PR11,   181,  1,   -999,     28,2,19890908,0723,-29.1040, 153.9088, 1140,    500.4,   9.3050,  34.7040,2,  34.7030,2,    186.1,2,    189.5,2,    10.07,3,    22.05,3,     1.51,3
    09FA1089_2,  PR11,   181,  1,   -999,     31,2,19890908,0723,-29.1040, 153.9088, 1140,    599.2,   8.2600,  34.6000,2,  34.6010,2,    188.8,2,    191.1,2,    13.10,3,    24.84,3,     1.67,3
    09FA1089_2,  PR11,   181,  1,   -999,     12,2,19890908,0723,-29.1040, 153.9088, 1140,    797.8,   6.6310,  34.4820,2,  34.4830,2,    185.4,2,    190.4,2,    22.39,3,    29.00,3,     1.96,3
    09FA1089_2,  PR11,   181,  1,   -999,     17,2,19890908,0723,-29.1040, 153.9088, 1140,    946.5,   5.6030,  34.4580,2,  34.4620,2,    178.6,2,    184.5,2,    33.04,3,    31.79,3,     2.18,3
    09FA1089_2,  PR11,   181,  1,   -999,      6,2,19890908,0723,-29.1040, 153.9088, 1140,   1135.9,   4.3920,  34.4900,2,  34.4910,2,    161.2,2,    168.5,2,    62.37,3,    35.76,3,     2.37,3
    09FA1089_2,  PR11,   183,  1,   -999,     11,2,19890908,0912,-29.1453, 153.9665, 2094,      5.0,  21.1960,  35.3290,2,  35.3290,2,    220.2,2,    221.0,2,     0.49,3,     0.00,3,     0.21,3
    09FA1089_2,  PR11,   183,  1,   -999,      3,2,19890908,0912,-29.1453, 153.9665, 2094,     49.0,  20.9590,  35.4560,2,  35.4590,2,    223.9,2,    222.9,2,     0.49,3,     0.00,3,     0.20,3
    09FA1089_2,  PR11,   183,  1,   -999,      5,2,19890908,0912,-29.1453, 153.9665, 2094,     99.1,  20.8050,  35.5030,2,  35.4990,2,    226.8,2,    221.6,2,     0.29,3,     0.00,3,     0.20,3
    09FA1089_2,  PR11,   183,  1,   -999,     20,2,19890908,0912,-29.1453, 153.9665, 2094,    158.6,  19.3520,  35.6210,2,  35.6210,2,    189.1,2,    178.0,2,     1.37,3,     5.28,3,     0.55,3
    09FA1089_2,  PR11,   183,  1,   -999,      2,2,19890908,0912,-29.1453, 153.9665, 2094,    198.8,  18.5310,  35.6270,2,  35.6250,2,    187.9,2,    186.4,2,     1.37,3,     5.28,3,     0.53,3
    09FA1089_2,  PR11,   183,  1,   -999,     18,2,19890908,0912,-29.1453, 153.9665, 2094,    348.0,  13.5700,  35.1700,2,  35.1730,2,    181.0,2,    181.1,2,     4.69,3,    13.32,3,     1.02,3
    09FA1089_2,  PR11,   183,  1,   -999,     24,2,19890908,0912,-29.1453, 153.9665, 2094,    398.9,  12.0250,  35.0060,2,  35.0080,2,    182.8,2,    184.6,2,     5.96,3,    15.86,3,     1.18,3
    09FA1089_2,  PR11,   183,  1,   -999,      9,2,19890908,0912,-29.1453, 153.9665, 2094,    498.1,   9.5060,  34.7210,2,  34.7230,2,    187.4,2,    190.8,2,     9.29,3,    21.15,3,     1.49,3
    09FA1089_2,  PR11,   183,  1,   -999,     10,2,19890908,0912,-29.1453, 153.9665, 2094,    598.4,   8.1380,  34.5840,2,  34.5870,2,    191.6,2,    194.0,2,    12.90,3,    24.29,3,     1.69,3
    09FA1089_2,  PR11,   183,  1,   -999,     26,2,19890908,0912,-29.1453, 153.9665, 2094,    799.0,   6.5840,  34.4740,2,  34.4760,2,    192.1,2,    192.4,2,    21.90,3,    28.60,3,     1.96,3
    09FA1089_2,  PR11,   183,  1,   -999,     17,2,19890908,0912,-29.1453, 153.9665, 2094,    949.3,   5.5150,  34.4530,2,  34.4660,2,    185.1,2,    182.5,2,    33.53,3,    31.54,3,     2.14,3
    09FA1089_2,  PR11,   183,  1,   -999,     31,2,19890908,0912,-29.1453, 153.9665, 2094,   1400.0,   3.2910,  34.5600,2,  34.5580,2,    151.2,2,    150.8,2,    82.99,3,    37.60,3,     2.57,3
    09FA1089_2,  PR11,   183,  1,   -999,     12,2,19890908,0912,-29.1453, 153.9665, 2094,   1499.8,   3.0800,  34.5800,2,  34.5810,2,    156.5,2,    150.2,2,    87.97,3,    38.00,3,     2.60,3
    09FA1089_2,  PR11,   183,  1,   -999,     22,2,19890908,0912,-29.1453, 153.9665, 2094,   1746.3,   2.5330,  34.6380,2,  34.6360,2,    169.3,2,    157.7,2,    92.96,3,    37.60,3,     2.58,3
    09FA1089_2,  PR11,   183,  1,   -999,      6,2,19890908,0912,-29.1453, 153.9665, 2094,   2081.3,   2.1830,  34.6870,2,  34.6860,2,    169.3,2,    170.1,2,    91.29,3,    36.43,3,     2.46,3
    09FA1089_2,  PR11,   185,  1,   -999,     11,2,19890908,1244,-29.1720, 154.1823, 2948,      3.6,  20.4680,  35.5730,2,  35.5740,2,    184.8,2,    219.9,2,     0.49,3,     0.39,3,     0.22,3
    09FA1089_2,  PR11,   185,  1,   -999,      4,2,19890908,1244,-29.1720, 154.1823, 2948,     49.3,  20.4730,  35.5740,2,  35.5730,2,    225.5,2,    222.2,2,     0.29,3,     0.20,3,     0.21,3
    09FA1089_2,  PR11,   185,  1,   -999,     19,2,19890908,1244,-29.1720, 154.1823, 2948,     98.0,  20.4630,  35.5770,2,  35.5750,2,    223.1,2,    220.9,2,     0.20,3,     0.39,3,     0.21,3
    09FA1089_2,  PR11,   185,  1,   -999,      1,2,19890908,1244,-29.1720, 154.1823, 2948,    150.0,  20.1580,  35.6400,2,  35.6380,2,    208.8,2,    205.1,2,     0.29,3,     1.95,3,     0.30,3
    09FA1089_2,  PR11,   185,  1,   -999,     25,2,19890908,1244,-29.1720, 154.1823, 2948,    226.4,  19.1830,  35.6550,2,  35.6550,2,    187.9,2,    192.7,2,     0.88,3,     4.31,3,     0.57,3
    09FA1089_2,  PR11,   185,  1,   -999,      3,2,19890908,1244,-29.1720, 154.1823, 2948,    298.8,  17.8790,  35.5820,2,  35.5830,2,    181.2,2,    181.8,2,     1.66,3,     6.46,3,     0.60,3
    09FA1089_2,  PR11,   185,  1,   -999,      5,2,19890908,1244,-29.1720, 154.1823, 2948,    438.3,  13.6650,  35.1880,2,  35.1900,2,    180.4,2,    183.0,2,     4.20,3,    13.12,3,     0.99,3
    09FA1089_2,  PR11,   185,  1,   -999,     20,2,19890908,1244,-29.1720, 154.1823, 2948,    498.8,  12.0240,  35.0040,2,  35.0010,2,    182.5,2,    183.6,2,     5.28,3,    15.86,3,     1.12,3
    09FA1089_2,  PR11,   185,  1,   -999,      2,2,19890908,1244,-29.1720, 154.1823, 2948,    598.0,   9.9140,  34.7590,2,  34.7630,2,    187.4,2,    188.5,2,     8.31,3,    20.95,3,     1.43,3
    09FA1089_2,  PR11,   185,  1,   -999,     17,2,19890908,1244,-29.1720, 154.1823, 2948,    702.2,   7.8680,  34.5450,2,  34.5500,2,    193.5,2,    197.0,2,    11.93,3,    24.29,3,     1.83,3
    09FA1089_2,  PR11,   185,  1,   -999,     24,2,19890908,1244,-29.1720, 154.1823, 2948,    799.1,   6.9740,  34.4800,2,  34.4850,2,    193.1,2,    196.0,2,    17.40,3,    28.21,3,     2.03,3
    09FA1089_2,  PR11,   185,  1,   -999,      9,2,19890908,1244,-29.1720, 154.1823, 2948,   1019.0,   5.1250,  34.4570,2,  34.4620,2,    179.1,2,    176.3,2,    39.98,3,    34.09,3,     2.22,3
    09FA1089_2,  PR11,   185,  1,   -999,     10,2,19890908,1244,-29.1720, 154.1823, 2948,   1228.3,   4.1450,  34.5000,2,  34.5030,2,    166.1,2,    164.9,2,    59.73,3,    37.22,3,     2.43,3
    09FA1089_2,  PR11,   185,  1,   -999,     26,2,19890908,1244,-29.1720, 154.1823, 2948,   1439.6,   3.3220,  34.5580,2,  34.5600,2,    156.7,2,    152.8,2,    81.33,3,    39.18,3,     2.57,3
    09FA1089_2,  PR11,   185,  1,   -999,     18,2,19890908,1244,-29.1720, 154.1823, 2948,   1750.3,   2.5800,  34.6310,2,  34.6300,2,    157.0,2,    155.7,2,    92.96,3,    39.18,3,     2.58,3
    09FA1089_2,  PR11,   185,  1,   -999,     28,2,19890908,1244,-29.1720, 154.1823, 2948,   1998.8,   2.2900,  34.6710,2,  34.6700,2,    165.3,2,    165.2,2,    92.95,3,    38.20,3,     2.51,3
    09FA1089_2,  PR11,   185,  1,   -999,     31,2,19890908,1244,-29.1720, 154.1823, 2948,   2138.0,   2.1640,  34.6920,2,  34.6900,2,    169.4,2,    171.0,2,    92.95,3,    37.80,3,     2.49,3
    09FA1089_2,  PR11,   185,  1,   -999,     22,2,19890908,1244,-29.1720, 154.1823, 2948,   2596.4,   1.8540,  34.7240,2,  34.7220,2,    179.6,2,    182.4,2,    97.93,3,    36.82,3,     2.38,3
    09FA1089_2,  PR11,   185,  1,   -999,      6,2,19890908,1244,-29.1720, 154.1823, 2948,   2898.9,   1.7280,  34.7280,2,  34.7260,2,    182.6,2,    185.1,2,    96.27,3,    35.45,3,     2.30,3
    09FA1089_2,      ,   187,  1,   -999,     22,2,19890909,1558,-34.0730, 151.2005,   48,      4.2,  15.7620,  35.4480,2,  35.4490,2,    192.5,2,    239.9,2,     0.78,3,     1.31,3,     0.39,3
    09FA1089_2,      ,   187,  1,   -999,      6,2,19890909,1558,-34.0730, 151.2005,   48,     48.8,  15.3190,  35.4630,2,  35.4620,2,    241.4,2,    244.5,2,     0.78,3,     0.37,3,     0.34,3
    09FA1089_2,      ,   189,  1,   -999,     11,2,19890909,1637,-34.0837, 151.2327,   94,      3.5,  16.2090,  35.4480,2,  35.4480,2,    192.0,2,    228.5,2,     1.07,3,     2.25,3,     0.44,3
    09FA1089_2,      ,   189,  1,   -999,      4,2,19890909,1637,-34.0837, 151.2327,   94,     49.0,  15.3980,  35.4670,2,  35.4680,2,    242.8,2,    247.4,2,     0.49,3,     0.94,3,     0.30,3
    09FA1089_2,      ,   189,  1,   -999,      6,2,19890909,1637,-34.0837, 151.2327,   94,     94.3,  15.0990,  35.4620,2,  35.4610,2,    235.7,2,    235.0,2,     1.56,3,     2.43,3,     0.40,3
    09FA1089_2,      ,   191,  1,   -999,     11,2,19890909,1757,-34.1157, 151.4395,  148,      4.2,  20.1670,  35.4730,2,  35.4720,2,    176.1,2,    219.3,2,     0.00,3,     0.00,3,     0.21,3
    09FA1089_2,      ,   191,  1,   -999,     10,2,19890909,1757,-34.1157, 151.4395,  148,     49.6,  18.7300,  35.6030,2,  35.6150,2,    185.1,2,    180.9,2,     1.47,3,     5.42,3,     0.51,3
    09FA1089_2,      ,   191,  1,   -999,      4,2,19890909,1757,-34.1157, 151.4395,  148,     98.3,  16.6720,  35.4260,2,  35.4270,2,    202.6,2,    198.5,2,     2.25,3,     6.73,3,     0.57,3
    09FA1089_2,      ,   191,  1,   -999,      6,2,19890909,1757,-34.1157, 151.4395,  148,    148.7,  14.8620,  35.4400,2,  35.4390,2,    237.9,2,    228.5,2,     2.05,3,     5.24,3,     0.51,3
    09FA1089_2,      ,   193,  1,   -999,     11,2,19890909,1851,-34.1137, 151.4865,  200,      4.9,  20.3290,  35.4470,2,  35.4480,2,    177.8,2,    218.6,2,     0.00,3,     0.00,3,     0.20,3
    09FA1089_2,      ,   193,  1,   -999,     18,2,19890909,1851,-34.1137, 151.4865,  200,     63.0,  18.6570,  35.5940,2,  35.5900,2,    184.2,2,    182.8,2,     1.47,3,     5.42,3,     0.51,3
    09FA1089_2,      ,   193,  1,   -999,     10,2,19890909,1851,-34.1137, 151.4865,  200,     98.3,  16.4040,  35.4190,2,  35.4200,2,    202.2,2,    196.2,2,     2.05,3,     6.55,3,     0.53,3
    09FA1089_2,      ,   193,  1,   -999,     17,2,19890909,1851,-34.1137, 151.4865,  200,    147.5,  15.1020,  35.4380,2,  35.4380,2,    215.0,2,    225.5,2,     1.47,3,     4.48,3,     0.72,3
    09FA1089_2,      ,   193,  1,   -999,      6,2,19890909,1851,-34.1137, 151.4865,  200,    199.5,  14.8760,  35.4560,2,  35.4580,2,    234.6,2,    240.2,2,     1.07,3,     3.17,3,     0.40,3
    09FA1089_2,      ,   195,  1,   -999,     11,2,19890909,2003,-34.1443, 151.5667,  500,      3.9,  20.4510,  35.4590,2,  35.4580,2,    176.9,2,    218.6,2,     0.20,3,     0.00,3,     0.21,3
    09FA1089_2,      ,   195,  1,   -999,     31,2,19890909,2003,-34.1443, 151.5667,  500,     63.5,  19.5110,  35.5910,2,  35.5840,2,    190.8,2,    189.1,2,     1.07,3,     4.11,3,     0.47,3
    09FA1089_2,      ,   195,  1,   -999,     28,2,19890909,2003,-34.1443, 151.5667,  500,     98.5,  16.7370,  35.4360,2,  35.4490,2,    183.7,2,    184.1,2,     2.54,3,     7.29,3,     0.64,3
    09FA1089_2,      ,   195,  1,   -999,     26,2,19890909,2003,-34.1443, 151.5667,  500,    148.2,  15.0060,  35.3850,2,  35.3880,2,    199.3,2,    201.7,2,     3.03,3,     7.84,3,     0.70,3
    09FA1089_2,      ,   195,  1,   -999,     18,2,19890909,2003,-34.1443, 151.5667,  500,    246.0,  13.8750,  35.2910,2,  35.2880,2,    198.9,2,    201.0,2,     3.22,3,     9.35,3,     0.81,3
    09FA1089_2,      ,   195,  1,   -999,     10,2,19890909,2003,-34.1443, 151.5667,  500,    298.3,  12.3900,  35.1410,2,  35.1420,2,    199.3,2,    201.9,2,     4.10,3,    12.34,3,     0.96,3
    09FA1089_2,      ,   195,  1,   -999,     17,2,19890909,2003,-34.1443, 151.5667,  500,    399.2,  10.4690,  34.8620,2,  34.8710,2,    197.6,2,    201.6,2,     6.06,3,    17.39,3,     1.34,3
    09FA1089_2,      ,   195,  1,   -999,      6,2,19890909,2003,-34.1443, 151.5667,  500,    500.4,   9.0690,  34.6790,2,  34.6790,2,    196.1,2,    196.7,2,     9.09,3,    21.69,3,     1.49,3
    09FA1089_2,      ,   197,  1,   -999,     11,2,19890909,2120,-34.1683, 151.6497, 1000,      3.6,  20.2260,  35.4560,2,  35.4560,2,    155.9,2,    218.9,2,     0.00,3,     0.00,3,     0.22,3
    09FA1089_2,      ,   197,  1,   -999,     24,2,19890909,2120,-34.1683, 151.6497, 1000,     28.4,  20.2150,  35.4560,2,  35.4540,2,    219.6,2,    216.0,2,     0.00,3,     0.00,3,     0.21,3
    09FA1089_2,      ,   197,  1,   -999,      4,2,19890909,2120,-34.1683, 151.6497, 1000,     98.5,  16.5640,  35.4730,2,  35.4710,2,    182.9,2,    182.4,2,     2.25,3,     8.41,3,     0.69,3
    09FA1089_2,      ,   197,  1,   -999,      2,2,19890909,2120,-34.1683, 151.6497, 1000,    148.1,  15.0580,  35.3810,2,  35.3880,2,    190.7,2,    203.1,2,     2.74,3,     8.04,3,     0.69,3
    09FA1089_2,      ,   197,  1,   -999,     31,2,19890909,2120,-34.1683, 151.6497, 1000,    217.5,  14.0130,  35.3250,2,  35.3220,2,    206.4,2,    209.3,2,     2.83,3,     8.41,3,     0.72,3
    09FA1089_2,      ,   197,  1,   -999,     28,2,19890909,2120,-34.1683, 151.6497, 1000,    298.2,  13.2300,  35.2390,2,  35.2370,2,    199.5,2,    203.0,2,     3.61,3,    11.03,3,     0.86,3
    09FA1089_2,      ,   197,  1,   -999,     26,2,19890909,2120,-34.1683, 151.6497, 1000,    398.8,  10.8430,  34.9110,2,  34.9130,2,    197.3,2,    201.0,2,     5.77,3,    17.01,3,     1.20,3
    09FA1089_2,      ,   197,  1,   -999,     18,2,19890909,2120,-34.1683, 151.6497, 1000,    498.8,   9.4070,  34.7200,2,  34.7180,2,    192.3,2,    197.7,2,     8.41,3,    21.50,3,     1.44,3
    09FA1089_2,      ,   197,  1,   -999,     10,2,19890909,2120,-34.1683, 151.6497, 1000,    598.2,   8.1930,  34.6010,2,  34.6000,2,    188.1,2,    190.8,2,    13.39,3,    25.05,3,     1.68,3
    09FA1089_2,      ,   197,  1,   -999,     17,2,19890909,2120,-34.1683, 151.6497, 1000,    889.9,   5.6990,  34.4670,2,  34.4670,2,    181.7,2,    183.9,2,    32.16,3,    31.79,3,     2.18,3
    09FA1089_2,      ,   197,  1,   -999,      6,2,19890909,2120,-34.1683, 151.6497, 1000,    999.8,   4.9980,  34.4720,2,  34.4740,2,    176.0,2,    176.3,2,    44.48,3,    34.04,3,     2.24,3