BOTTLE,20010820WHPSIOKJU
EXPOCODE,SECT_ID,STNNBR,CASTNO,SAMPNO,BTLNBR,BTLNBR_FLAG_W,DATE,TIME,LATITUDE,LONGITUDE,DEPTH,CTDPRS,CTDTMP,CTDSAL,CTDSAL_FLAG_W,SALNTY,SALNTY_FLAG_W,CTDOXY,CTDOXY_FLAG_W,OXYGEN,OXYGEN_FLAG_W,SILCAT,SILCAT_FLAG_W,NO2+NO3,NO2+NO3_FLAG_W,PHSPHT,PHSPHT_FLAG_W
,,,,,,,,,,,,DBR,ITS-90,PSS-78,,PSS-78,,UMOL/KG,,UMOL/KG,,UMOL/KG,,UMOL/KG,,UMOL/KG,
    09FA1089_2,      ,   291,  1,   -999,     21,2,19890920,2332,-38.0007, 162.0170, 4780,     49.4,  14.4750,  35.3700,2,  35.3700,2,    249.2,2,    253.2,2,     1.76,3,     0.57,3,     0.40,3
    09FA1089_2,      ,   291,  1,   -999,     23,2,19890920,2332,-38.0007, 162.0170, 4780,     84.0,  14.2290,  35.3780,2,  35.3780,2,    243.1,2,    241.4,2,     2.05,3,     2.75,3,     0.55,3
    09FA1089_2,      ,   291,  1,   -999,     58,2,19890920,2332,-38.0007, 162.0170, 4780,    149.6,  13.8830,  35.3570,2,  35.3550,2,    220.4,2,    245.1,2,     1.95,3,     2.48,3,     0.50,3
    09FA1089_2,      ,   291,  1,   -999,      2,2,19890920,2332,-38.0007, 162.0170, 4780,    197.3,  13.2640,  35.2500,2,  35.2480,2,    209.6,2,    235.5,2,     2.25,3,     3.01,3,     0.59,3
    09FA1089_2,      ,   291,  1,   -999,     22,2,19890920,2332,-38.0007, 162.0170, 4780,    298.1,  11.8320,  35.0630,2,  35.0640,2,    209.6,2,    207.9,2,     4.49,3,    13.68,3,     0.96,3
    09FA1089_2,      ,   291,  1,   -999,      5,2,19890920,2332,-38.0007, 162.0170, 4780,    397.8,  10.4150,  34.8560,2,  34.8570,2,    212.5,2,    201.3,2,     6.55,3,    18.75,3,     1.22,3
    09FA1089_2,      ,   291,  1,   -999,     26,2,19890920,2332,-38.0007, 162.0170, 4780,    497.5,   9.3800,  34.7120,2,  34.7150,2,    199.8,2,    203.5,2,     7.92,3,    21.95,3,     1.26,3
    09FA1089_2,      ,   291,  1,   -999,     19,2,19890920,2332,-38.0007, 162.0170, 4780,    599.1,   8.5520,  34.6220,2,  34.6230,2,    185.9,2,    197.6,2,    11.34,3,    24.83,3,     1.58,3
    09FA1089_2,      ,   291,  1,   -999,      1,2,19890920,2332,-38.0007, 162.0170, 4780,    799.2,   6.9990,  34.5150,2,  34.5170,2,    180.8,2,    182.1,2,    21.60,3,    29.80,3,     1.91,3
    09FA1089_2,      ,   291,  1,   -999,     31,2,19890920,2332,-38.0007, 162.0170, 4780,   1020.9,   5.3460,  34.4550,2,  34.4560,2,    159.5,2,    176.2,2,    43.31,3,    33.82,3,     2.18,3
    09FA1089_2,      ,   291,  1,   -999,     13,2,19890920,2332,-38.0007, 162.0170, 4780,   1278.7,   4.0450,  34.5030,2,  -9.9999,5,    159.8,2,   -999.0,5,  -999.00,5,  -999.00,5,  -999.00,5
    09FA1089_2,      ,   291,  1,   -999,     27,2,19890920,2332,-38.0007, 162.0170, 4780,   1494.7,   3.2430,  34.5600,2,  34.5630,2,    167.5,2,    154.8,2,    89.54,3,    38.34,3,     2.50,3
    09FA1089_2,      ,   291,  1,   -999,     10,2,19890920,2332,-38.0007, 162.0170, 4780,   1747.3,   2.7210,  34.6110,2,  34.6110,2,    174.9,2,    155.1,2,    98.43,3,    36.96,3,     2.50,3
    09FA1089_2,      ,   291,  1,   -999,      8,2,19890920,2332,-38.0007, 162.0170, 4780,   1999.0,   2.4040,  34.6560,2,  34.6560,2,    180.7,2,    163.7,2,    98.43,3,    35.77,3,     2.48,3
    09FA1089_2,      ,   291,  1,   -999,     24,2,19890920,2332,-38.0007, 162.0170, 4780,   2262.7,   2.1820,  34.6920,2,  34.6900,2,    181.6,2,    171.8,2,    98.43,3,    35.77,3,     2.42,3
    09FA1089_2,      ,   291,  1,   -999,     29,2,19890920,2332,-38.0007, 162.0170, 4780,   2500.2,   1.9830,  34.7140,2,  34.7120,2,    186.0,2,    179.5,2,   101.45,3,    35.19,3,     2.37,3
    09FA1089_2,      ,   291,  1,   -999,     20,2,19890920,2332,-38.0007, 162.0170, 4780,   2575.0,   1.9260,  34.7180,2,  34.7200,2,    191.6,2,    181.0,2,   101.45,3,    34.40,3,     2.37,3
    09FA1089_2,      ,   291,  1,   -999,     17,2,19890920,2332,-38.0007, 162.0170, 4780,   2858.9,   1.6590,  34.7260,2,  34.7250,2,    192.0,2,    186.3,2,   108.88,3,    34.60,3,     2.36,3
    09FA1089_2,      ,   291,  1,   -999,     18,2,19890920,2332,-38.0007, 162.0170, 4780,   3496.9,   1.2580,  34.7200,2,  34.7190,2,    195.2,2,    191.2,2,   119.34,3,    34.99,3,     2.37,3
    09FA1089_2,      ,   291,  1,   -999,      3,2,19890920,2332,-38.0007, 162.0170, 4780,   3996.9,   1.1650,  34.7160,2,  34.7150,2,    195.1,2,    193.7,2,   123.84,3,    34.99,3,     2.39,3
    09FA1089_2,      ,   291,  1,   -999,     12,2,19890920,2332,-38.0007, 162.0170, 4780,   4498.2,   1.1480,  34.7150,2,  34.7130,2,    195.1,2,    193.4,2,   125.30,3,    35.19,3,     2.39,3
    09FA1089_2,      ,   291,  1,   -999,      4,2,19890920,2332,-38.0007, 162.0170, 4780,   4778.1,   1.1190,  34.7130,2,  34.7130,2,    195.1,2,    194.0,2,   125.30,3,    35.19,3,     2.41,3
    09FA1089_2,      ,   291,  1,   -999,      9,2,19890920,2332,-38.0007, 162.0170, 4780,   4778.1,   1.1190,  34.7130,2,  34.7100,2,    195.1,2,    194.9,2,   128.23,3,    35.58,3,     2.39,3
    09FA1089_2,      ,   293,  1,   -999,     21,2,19890921,0950,-38.0128, 160.8382, 4918,      5.7,  14.8290,  35.4410,2,  35.4380,2,    238.3,2,    239.8,2,     2.25,3,     1.54,3,     0.42,3
    09FA1089_2,      ,   293,  1,   -999,     23,2,19890921,0950,-38.0128, 160.8382, 4918,     44.0,  14.8370,  35.4420,2,  35.4400,2,    243.3,2,    243.6,2,     2.15,3,     1.54,3,     0.42,3
    09FA1089_2,      ,   293,  1,   -999,     58,2,19890921,0950,-38.0128, 160.8382, 4918,     98.1,  14.5640,  35.4230,2,  35.4200,2,    236.2,2,    234.3,2,     2.44,3,     2.31,3,     0.49,3
    09FA1089_2,      ,   293,  1,   -999,      2,2,19890921,0950,-38.0128, 160.8382, 4918,    148.9,  13.9220,  35.3300,2,  35.3320,2,    234.1,2,    214.7,2,     3.22,3,     4.82,3,     0.66,3
    09FA1089_2,      ,   293,  1,   -999,     22,2,19890921,0950,-38.0128, 160.8382, 4918,    198.3,  13.2590,  35.2630,2,  35.2600,2,    215.4,2,    211.0,2,     3.52,3,     6.55,3,     0.75,3
    09FA1089_2,      ,   293,  1,   -999,      5,2,19890921,0950,-38.0128, 160.8382, 4918,    300.2,  11.8530,  35.0660,2,  35.0660,2,    207.9,2,    202.6,2,     4.98,3,    11.17,3,     0.97,3
    09FA1089_2,      ,   293,  1,   -999,     26,2,19890921,0950,-38.0128, 160.8382, 4918,    398.2,  10.5290,  34.8730,2,  34.8750,2,    200.3,2,    198.2,2,     6.84,3,    15.78,3,     1.19,3
    09FA1089_2,      ,   293,  1,   -999,     19,2,19890921,0950,-38.0128, 160.8382, 4918,    497.8,   9.4070,  34.7170,2,  34.7180,2,    203.5,2,    203.8,2,     8.31,3,    19.06,3,     1.36,3
    09FA1089_2,      ,   293,  1,   -999,      1,2,19890921,0950,-38.0128, 160.8382, 4918,    597.8,   8.6410,  34.6360,2,  34.6390,2,    196.6,2,    195.4,2,    11.24,3,    22.15,3,     1.53,3
    09FA1089_2,      ,   293,  1,   -999,     31,2,19890921,0950,-38.0128, 160.8382, 4918,    799.8,   7.0050,  34.5120,2,  34.5150,2,    185.7,2,    183.0,2,    21.11,3,    28.11,3,     1.84,3
    09FA1089_2,      ,   293,  1,   -999,     13,2,19890921,0950,-38.0128, 160.8382, 4918,    999.0,   5.4730,  34.4570,2,  34.4600,2,    180.7,2,    178.0,2,    34.80,3,    32.36,3,     2.10,3
    09FA1089_2,      ,   293,  1,   -999,     27,2,19890921,0950,-38.0128, 160.8382, 4918,   1089.0,   4.9550,  34.4490,2,  34.4500,2,    180.6,2,    176.5,2,    45.56,3,    33.51,3,     2.18,3
    09FA1089_2,      ,   293,  1,   -999,     10,2,19890921,0950,-38.0128, 160.8382, 4918,   1256.1,   3.9910,  34.4750,2,  34.4770,2,    171.6,2,    169.0,2,    62.27,3,    34.66,3,     2.29,3
    09FA1089_2,      ,   293,  1,   -999,      8,2,19890921,0950,-38.0128, 160.8382, 4918,   1486.7,   3.1980,  34.5420,2,  34.5450,2,    163.4,2,    160.0,2,    80.45,3,    36.59,3,     2.43,3
    09FA1089_2,      ,   293,  1,   -999,     24,2,19890921,0950,-38.0128, 160.8382, 4918,   1500.9,   3.1520,  34.5450,2,  34.5460,2,    162.5,2,    159.7,2,    83.48,3,    37.36,3,     2.48,3
    09FA1089_2,      ,   293,  1,   -999,     29,2,19890921,0950,-38.0128, 160.8382, 4918,   1748.0,   2.6810,  34.6120,2,  34.6120,2,    161.7,2,    157.5,2,    91.10,3,    36.97,3,     2.46,3
    09FA1089_2,      ,   293,  1,   -999,     20,2,19890921,0950,-38.0128, 160.8382, 4918,   1998.8,   2.3750,  34.6630,2,  34.6620,2,    168.7,2,    166.8,2,    96.37,3,    36.39,3,     2.40,3
    09FA1089_2,      ,   293,  1,   -999,     17,2,19890921,0950,-38.0128, 160.8382, 4918,   2220.8,   2.1910,  34.6930,2,  34.6910,2,    175.3,2,    173.0,2,    95.69,3,    35.43,3,     2.35,3
    09FA1089_2,      ,   293,  1,   -999,      6,2,19890921,0950,-38.0128, 160.8382, 4918,   2536.8,   1.9330,  34.7220,2,  34.7210,2,    181.7,2,    181.6,2,   101.75,3,    34.66,3,     2.29,3
    09FA1089_2,      ,   293,  1,   -999,     18,2,19890921,0950,-38.0128, 160.8382, 4918,   2817.4,   1.6850,  34.7270,2,  34.7250,2,    185.2,2,    186.0,2,   110.84,3,    34.85,3,     2.29,3
    09FA1089_2,      ,   293,  1,   -999,      3,2,19890921,0950,-38.0128, 160.8382, 4918,   3406.9,   1.2990,  34.7220,2,  34.7200,2,    191.0,2,    192.2,2,   121.49,3,    35.04,3,     2.32,3
    09FA1089_2,      ,   293,  1,   -999,     12,2,19890921,0950,-38.0128, 160.8382, 4918,   3998.4,   1.1640,  34.7180,2,  34.7210,2,    193.3,2,    194.3,2,   123.74,3,    35.24,3,     2.32,3
    09FA1089_2,      ,   293,  1,   -999,      9,2,19890921,0950,-38.0128, 160.8382, 4918,   4498.6,   1.1480,  34.7160,2,  34.7140,2,    194.9,2,    196.2,2,   126.77,3,    35.04,3,     2.34,3
    09FA1089_2,      ,   293,  1,   -999,      4,2,19890921,0950,-38.0128, 160.8382, 4918,   4913.1,   1.1340,  34.7130,2,  34.7110,2,    195.5,2,    194.3,2,   127.55,3,    34.85,3,     2.34,3
    09FA1089_2,      ,   295,  1,   -999,     21,2,19890921,1902,-38.0062, 159.6292, 5050,     78.8,  14.3120,  35.3850,2,  35.3840,2,    227.2,2,    246.0,2,     1.95,3,     0.77,3,     0.42,3
    09FA1089_2,      ,   295,  1,   -999,     58,2,19890921,1902,-38.0062, 159.6292, 5050,    199.0,  12.9320,  35.2250,2,  35.2250,2,    199.9,2,    211.9,2,     3.62,3,     6.93,3,     0.80,3
    09FA1089_2,      ,   295,  1,   -999,      2,2,19890921,1902,-38.0062, 159.6292, 5050,    299.0,  11.6510,  35.0420,2,  35.0400,2,    204.6,2,    201.0,2,     6.35,3,    15.60,3,     1.19,3
    09FA1089_2,      ,   295,  1,   -999,     22,2,19890921,1902,-38.0062, 159.6292, 5050,    399.9,  10.3360,  34.8430,2,  34.8410,2,    223.7,2,    207.2,2,     6.35,3,    16.92,3,     1.19,3
    09FA1089_2,      ,   295,  1,   -999,      5,2,19890921,1902,-38.0062, 159.6292, 5050,    499.4,   9.1620,  34.6820,2,  34.6800,2,    192.7,2,    204.7,2,     8.50,3,    19.83,3,     1.41,3
    09FA1089_2,      ,   295,  1,   -999,     26,2,19890921,1902,-38.0062, 159.6292, 5050,    598.7,   8.3380,  34.6080,2,  34.6090,2,    185.9,2,    190.5,2,    12.90,3,    23.68,3,     1.61,3
    09FA1089_2,      ,   295,  1,   -999,     19,2,19890921,1902,-38.0062, 159.6292, 5050,    797.3,   6.7250,  34.4980,2,  34.5040,2,    182.2,2,    185.5,2,    22.58,3,    28.51,3,     1.90,3
    09FA1089_2,      ,   295,  1,   -999,      1,2,19890921,1902,-38.0062, 159.6292, 5050,    997.4,   5.3140,  34.4490,2,  34.4540,2,    179.3,2,    179.0,2,    35.68,3,    32.93,3,     2.13,3
    09FA1089_2,      ,   295,  1,   -999,     31,2,19890921,1902,-38.0062, 159.6292, 5050,   1058.6,   5.0290,  34.4650,2,  34.4670,2,    168.1,2,    174.9,2,    47.80,3,    33.51,3,     2.19,3
    09FA1089_2,      ,   295,  1,   -999,     13,2,19890921,1902,-38.0062, 159.6292, 5050,   1273.7,   4.0400,  34.5060,2,  34.5060,2,    158.7,2,    162.8,2,    68.33,3,    36.21,3,     2.37,3
    09FA1089_2,      ,   295,  1,   -999,     27,2,19890921,1902,-38.0062, 159.6292, 5050,   1494.5,   3.2480,  34.5630,2,  34.5610,2,    158.4,2,    152.9,2,    88.07,3,    38.13,3,     2.49,3
    09FA1089_2,      ,   295,  1,   -999,     10,2,19890921,1902,-38.0062, 159.6292, 5050,   1749.1,   2.7300,  34.6130,2,  34.6120,2,    164.3,2,    153.2,2,    97.16,3,    36.97,3,     2.45,3
    09FA1089_2,      ,   295,  1,   -999,      8,2,19890921,1902,-38.0062, 159.6292, 5050,   1998.9,   2.4220,  34.6560,2,  34.6640,2,    172.8,2,    164.6,2,    95.69,3,    35.63,3,     2.39,3
    09FA1089_2,      ,   295,  1,   -999,     29,2,19890921,1902,-38.0062, 159.6292, 5050,   2497.4,   1.9960,  34.7180,2,  34.7230,2,    181.6,2,    179.5,2,    98.72,3,    34.66,3,     2.29,3
    09FA1089_2,      ,   295,  1,   -999,     20,2,19890921,1902,-38.0062, 159.6292, 5050,   2601.7,   1.8920,  34.7270,2,  34.7230,2,    185.3,2,    182.6,2,   103.21,3,    34.46,3,     2.31,3
    09FA1089_2,      ,   295,  1,   -999,     17,2,19890921,1902,-38.0062, 159.6292, 5050,   2896.4,   1.6500,  34.7300,2,  34.7260,2,    186.6,2,    185.4,2,   109.27,3,    34.46,3,     2.31,3
    09FA1089_2,      ,   295,  1,   -999,      6,2,19890921,1902,-38.0062, 159.6292, 5050,   2998.0,   1.5560,  34.7300,2,  34.7280,2,    190.4,2,    189.1,2,   112.30,3,    34.66,3,     2.31,3
    09FA1089_2,      ,   295,  1,   -999,     18,2,19890921,1902,-38.0062, 159.6292, 5050,   3439.0,   1.2890,  34.7240,2,  34.7220,2,    192.7,2,    192.5,2,   119.93,3,    35.23,3,     2.32,3
    09FA1089_2,      ,   295,  1,   -999,      3,2,19890921,1902,-38.0062, 159.6292, 5050,   3998.1,   1.1650,  34.7200,2,  34.7210,2,    194.8,2,    194.9,2,   123.74,3,    35.43,3,     2.35,3
    09FA1089_2,      ,   295,  1,   -999,     12,2,19890921,1902,-38.0062, 159.6292, 5050,   4499.0,   1.1400,  34.7170,2,  34.7150,2,    196.2,2,    195.6,2,   125.20,3,    35.24,3,     2.34,3
    09FA1089_2,      ,   295,  1,   -999,      4,2,19890921,1902,-38.0062, 159.6292, 5050,   5053.3,   1.1320,  34.7150,2,  34.7140,2,    196.2,2,    194.9,2,   121.49,3,    34.66,3,     2.29,3
    09FA1089_2,      ,   295,  1,   -999,      9,2,19890921,1902,-38.0062, 159.6292, 5050,   5053.3,   1.1320,  34.7150,2,  34.7110,2,    196.2,2,    197.1,2,   127.55,3,    35.63,3,     2.35,3
    09FA1089_2,      ,   297,  1,   -999,     22,2,19890922,0318,-38.0045, 158.4685, 4976,      6.0,  14.8470,  35.4420,2,  35.4410,2,    247.5,2,    246.3,2,     1.86,3,     1.86,3,     0.42,3
    09FA1089_2,      ,   297,  1,   -999,      5,2,19890922,0318,-38.0045, 158.4685, 4976,     48.1,  14.6490,  35.4380,2,  35.4360,2,    247.7,2,    245.4,2,     1.86,3,     1.86,3,     0.42,3
    09FA1089_2,      ,   297,  1,   -999,      2,2,19890922,0318,-38.0045, 158.4685, 4976,     99.1,  14.4940,  35.4240,2,  35.4230,2,    241.6,2,    236.1,2,     2.25,3,     3.34,3,     0.49,3
    09FA1089_2,      ,   297,  1,   -999,     23,2,19890922,0318,-38.0045, 158.4685, 4976,    122.0,  14.3840,  35.4180,2,  35.4140,2,    232.3,2,    231.2,2,     2.44,3,     3.90,3,     0.54,3
    09FA1089_2,      ,   297,  1,   -999,     58,2,19890922,0318,-38.0045, 158.4685, 4976,    197.4,  12.8630,  35.2060,2,  35.2040,2,    209.5,2,    206.0,2,     4.10,3,     9.84,3,     0.85,3
    09FA1089_2,      ,   297,  1,   -999,     26,2,19890922,0318,-38.0045, 158.4685, 4976,    298.4,  11.4150,  34.9950,2,  35.0000,2,    200.3,2,    198.2,2,     5.86,3,    14.29,3,     1.08,3
    09FA1089_2,      ,   297,  1,   -999,     19,2,19890922,0318,-38.0045, 158.4685, 4976,    398.1,   9.9410,  34.7870,2,  34.7900,2,    199.2,2,    200.7,2,     7.23,3,    18.56,3,     1.28,3
    09FA1089_2,      ,   297,  1,   -999,      1,2,19890922,0318,-38.0045, 158.4685, 4976,    498.8,   8.9660,  34.6560,2,  34.6580,2,    205.3,2,    203.5,2,     8.89,3,    21.35,3,     1.44,3
    09FA1089_2,      ,   297,  1,   -999,     31,2,19890922,0318,-38.0045, 158.4685, 4976,    597.6,   8.2110,  34.5960,2,  34.5980,2,    191.0,2,    192.0,2,    13.49,3,    25.06,3,     1.63,3
    09FA1089_2,      ,   297,  1,   -999,     13,2,19890922,0318,-38.0045, 158.4685, 4976,    798.6,   6.5970,  34.4870,2,  34.4890,2,    185.6,2,    184.9,2,    23.46,3,    30.11,3,     1.91,3
    09FA1089_2,      ,   297,  1,   -999,     27,2,19890922,0318,-38.0045, 158.4685, 4976,    933.1,   5.5490,  34.4470,2,  34.4500,2,    184.0,2,    181.1,2,    32.46,3,    32.87,3,     2.07,3
    09FA1089_2,      ,   297,  1,   -999,     10,2,19890922,0318,-38.0045, 158.4685, 4976,    997.1,   5.1020,  34.4410,2,  34.4420,2,    178.8,2,    180.5,2,    44.48,3,    33.05,3,     2.10,3
    09FA1089_2,      ,   297,  1,   -999,      8,2,19890922,0318,-38.0045, 158.4685, 4976,   1227.5,   4.0490,  34.4890,2,  34.4890,2,    170.4,2,    165.9,2,    65.89,3,    36.01,3,     2.34,3
    09FA1089_2,      ,   297,  1,   -999,     24,2,19890922,0318,-38.0045, 158.4685, 4976,   1448.2,   3.1600,  34.5660,2,  34.5670,2,    158.9,2,    153.2,2,    90.42,3,    38.05,3,     2.48,3
    09FA1089_2,      ,   297,  1,   -999,     29,2,19890922,0318,-38.0045, 158.4685, 4976,   1498.7,   3.0240,  34.5800,2,  34.5800,2,    158.0,2,    152.9,2,    94.23,3,    38.24,3,     2.48,3
    09FA1089_2,      ,   297,  1,   -999,     20,2,19890922,0318,-38.0045, 158.4685, 4976,   1748.7,   2.6370,  34.6250,2,  34.6250,2,    158.2,2,    155.4,2,   102.63,3,    38.05,3,     2.48,3
    09FA1089_2,      ,   297,  1,   -999,     17,2,19890922,0318,-38.0045, 158.4685, 4976,   2294.6,   2.1640,  34.6970,2,  34.6970,2,    172.7,2,    172.4,2,    99.60,3,    35.83,3,     2.34,3
    09FA1089_2,      ,   297,  1,   -999,      6,2,19890922,0318,-38.0045, 158.4685, 4976,   2598.6,   1.9040,  34.7230,2,  34.7210,2,    179.9,2,    180.7,2,   105.75,3,    35.27,3,     2.28,3
    09FA1089_2,      ,   297,  1,   -999,     18,2,19890922,0318,-38.0045, 158.4685, 4976,   2897.6,   1.6570,  34.7290,2,  34.7280,2,    184.5,2,    186.6,2,   111.81,3,    35.09,3,     2.28,3
    09FA1089_2,      ,   297,  1,   -999,      3,2,19890922,0318,-38.0045, 158.4685, 4976,   3438.7,   1.3020,  34.7240,2,  34.7210,2,    189.6,2,    191.8,2,   122.56,3,    35.27,3,     2.31,3
    09FA1089_2,      ,   297,  1,   -999,     12,2,19890922,0318,-38.0045, 158.4685, 4976,   3998.7,   1.1580,  34.7190,2,  34.7180,2,    192.5,2,    194.3,2,   127.16,3,    35.46,3,     2.31,3
    09FA1089_2,      ,   297,  1,   -999,      9,2,19890922,0318,-38.0045, 158.4685, 4976,   4504.1,   1.1230,  34.7160,2,  34.7150,2,    194.0,2,    195.9,2,   128.72,3,    35.65,3,     2.31,3
    09FA1089_2,      ,   297,  1,   -999,      4,2,19890922,0318,-38.0045, 158.4685, 4976,   4975.9,   1.0990,  34.7130,2,  34.7120,2,    197.0,2,    198.3,2,   130.19,3,    35.65,3,     2.32,3