BOTTLE,20010820WHPSIOKJU
EXPOCODE,SECT_ID,STNNBR,CASTNO,SAMPNO,BTLNBR,BTLNBR_FLAG_W,DATE,TIME,LATITUDE,LONGITUDE,DEPTH,CTDPRS,CTDTMP,CTDSAL,CTDSAL_FLAG_W,SALNTY,SALNTY_FLAG_W,CTDOXY,CTDOXY_FLAG_W,OXYGEN,OXYGEN_FLAG_W,SILCAT,SILCAT_FLAG_W,NO2+NO3,NO2+NO3_FLAG_W,PHSPHT,PHSPHT_FLAG_W
,,,,,,,,,,,,DBR,ITS-90,PSS-78,,PSS-78,,UMOL/KG,,UMOL/KG,,UMOL/KG,,UMOL/KG,,UMOL/KG,
    09FA1089_2,      ,   237,  1,   -999,     11,2,19890915,2001,-34.4225, 165.8985, 2940,      4.9,  17.3430,  35.5620,2,  35.5600,2,    215.1,2,    234.7,2,     0.88,3,     1.30,3,     0.32,3
    09FA1089_2,      ,   237,  1,   -999,      5,2,19890915,2001,-34.4225, 165.8985, 2940,     98.6,  16.3470,  35.5070,2,  35.5060,2,    224.6,2,    224.3,2,     1.17,3,     3.74,3,     0.45,3
    09FA1089_2,      ,   237,  1,   -999,     19,2,19890915,2001,-34.4225, 165.8985, 2940,    148.6,  15.7450,  35.4880,2,  35.4850,2,    221.2,2,    219.8,2,     1.47,3,     4.72,3,     0.50,3
    09FA1089_2,      ,   237,  1,   -999,      1,2,19890915,2001,-34.4225, 165.8985, 2940,    198.3,  14.6900,  35.3610,2,  35.3550,2,    192.5,2,    195.6,2,     2.83,3,     9.61,3,     0.77,3
    09FA1089_2,      ,   237,  1,   -999,     27,2,19890915,2001,-34.4225, 165.8985, 2940,    231.9,  14.3030,  35.3300,2,  35.3310,2,    193.7,2,    196.8,2,     2.83,3,     9.94,3,     0.79,3
    09FA1089_2,      ,   237,  1,   -999,      3,2,19890915,2001,-34.4225, 165.8985, 2940,    298.5,  12.6580,  35.1520,2,  35.1550,2,    195.1,2,    195.3,2,     4.40,3,    13.19,3,     1.01,3
    09FA1089_2,      ,   237,  1,   -999,     24,2,19890915,2001,-34.4225, 165.8985, 2940,    398.6,  11.3360,  34.9890,2,  34.9900,2,    193.5,2,    198.8,2,     5.28,3,    15.80,3,     1.13,3
    09FA1089_2,      ,   237,  1,   -999,     20,2,19890915,2001,-34.4225, 165.8985, 2940,    498.2,   9.9200,  34.7950,2,  34.7960,2,    198.1,2,    197.6,2,     8.11,3,    19.88,3,     1.36,3
    09FA1089_2,      ,   237,  1,   -999,     12,2,19890915,2001,-34.4225, 165.8985, 2940,    600.4,   8.7250,  34.6600,2,  34.6560,2,    190.6,2,    193.1,2,    11.05,3,    22.65,3,     1.51,3
    09FA1089_2,      ,   237,  1,   -999,     29,2,19890915,2001,-34.4225, 165.8985, 2940,    799.6,   6.9630,  34.5210,2,  34.5210,2,    185.1,2,    184.6,2,    41.06,3,    32.10,3,     2.17,3
    09FA1089_2,      ,   237,  1,   -999,      9,2,19890915,2001,-34.4225, 165.8985, 2940,    997.2,   5.3750,  34.4660,2,  34.4700,2,    178.9,2,    177.3,2,  -999.00,5,  -999.00,5,  -999.00,5
    09FA1089_2,      ,   237,  1,   -999,     26,2,19890915,2001,-34.4225, 165.8985, 2940,   1064.6,   4.9850,  34.4720,2,  34.4770,2,    177.4,2,    175.5,2,    48.19,3,    31.78,3,     2.24,3
    09FA1089_2,      ,   237,  1,   -999,      2,2,19890915,2001,-34.4225, 165.8985, 2940,   1241.4,   4.0020,  34.4940,2,  34.4940,2,    167.8,2,    165.8,2,    66.57,3,    34.71,3,     2.40,3
    09FA1089_2,      ,   237,  1,   -999,      8,2,19890915,2001,-34.4225, 165.8985, 2940,   1447.2,   3.3140,  34.5620,2,  34.5640,2,    158.8,2,    157.4,2,    82.21,3,    34.88,3,     2.37,3
    09FA1089_2,      ,   237,  1,   -999,     28,2,19890915,2001,-34.4225, 165.8985, 2940,   1499.3,   3.1550,  34.5730,2,  34.5790,2,    157.0,2,    156.5,2,    90.71,3,    36.18,3,     2.50,3
    09FA1089_2,      ,   237,  1,   -999,     31,2,19890915,2001,-34.4225, 165.8985, 2940,   1748.1,   2.5650,  34.6270,2,  34.6250,2,    153.3,2,    153.1,2,   109.08,3,    37.49,3,     2.58,3
    09FA1089_2,      ,   237,  1,   -999,     18,2,19890915,2001,-34.4225, 165.8985, 2940,   1999.3,   2.2240,  34.6560,2,  34.6540,2,    152.5,2,    151.9,2,   117.59,3,    37.81,3,     2.61,3
    09FA1089_2,      ,   237,  1,   -999,     10,2,19890915,2001,-34.4225, 165.8985, 2940,   2323.5,   2.0610,  34.6740,2,  34.6700,2,    152.1,2,    154.0,2,   121.88,3,    37.97,3,     2.60,3
    09FA1089_2,      ,   237,  1,   -999,     13,2,19890915,2001,-34.4225, 165.8985, 2940,   2499.2,   2.0090,  34.6790,2,  34.6780,2,    151.8,2,    151.9,2,   124.72,3,    38.13,3,     2.61,3
    09FA1089_2,      ,   237,  1,   -999,      4,2,19890915,2001,-34.4225, 165.8985, 2940,   2936.4,   1.9330,  34.6880,2,  34.6860,2,    152.0,2,    156.5,2,   128.92,3,    38.13,3,     2.60,3
    09FA1089_2,      ,   239,  1,   -999,     11,2,19890916,0210,-34.4185, 166.8740, 2830,      4.3,  17.3940,  35.5730,2,  35.5710,2,    241.1,2,    236.2,2,     0.59,3,     0.98,3,     0.33,3
    09FA1089_2,      ,   239,  1,   -999,      5,2,19890916,0210,-34.4185, 166.8740, 2830,     49.3,  16.7320,  35.5530,2,  35.5510,2,    234.8,2,    228.6,2,     0.68,3,     2.12,3,     0.39,3
    09FA1089_2,      ,   239,  1,   -999,     19,2,19890916,0210,-34.4185, 166.8740, 2830,     98.3,  16.0710,  35.5190,2,  35.5160,2,    217.0,2,    221.0,2,     1.17,3,     3.42,3,     0.48,3
    09FA1089_2,      ,   239,  1,   -999,      1,2,19890916,0210,-34.4185, 166.8740, 2830,    148.4,  15.1150,  35.4130,2,  35.4130,2,    194.8,2,    202.0,2,     2.25,3,     7.98,3,     0.67,3
    09FA1089_2,      ,   239,  1,   -999,     27,2,19890916,0210,-34.4185, 166.8740, 2830,    186.5,  14.3510,  35.3360,2,  35.3390,2,    196.1,2,    196.2,2,     2.83,3,    10.10,3,     0.79,3
    09FA1089_2,      ,   239,  1,   -999,      3,2,19890916,0210,-34.4185, 166.8740, 2830,    296.9,  12.0400,  35.0850,2,  35.0870,2,    196.7,2,    198.3,2,     4.69,3,    14.67,3,     1.02,3
    09FA1089_2,      ,   239,  1,   -999,     24,2,19890916,0210,-34.4185, 166.8740, 2830,    398.2,  10.3840,  34.8570,2,  34.8600,2,    196.1,2,    197.0,2,     6.65,3,    19.22,3,     1.28,3
    09FA1089_2,      ,   239,  1,   -999,     20,2,19890916,0210,-34.4185, 166.8740, 2830,    499.1,   9.3900,  34.7460,2,  34.7450,2,    191.4,2,    193.1,2,    10.65,3,    22.32,3,     1.48,3
    09FA1089_2,      ,   239,  1,   -999,     12,2,19890916,0210,-34.4185, 166.8740, 2830,    598.5,   8.3600,  34.6230,2,  34.6270,2,    189.2,2,    190.1,2,    13.00,3,    25.10,3,     1.66,3
    09FA1089_2,      ,   239,  1,   -999,     29,2,19890916,0210,-34.4185, 166.8740, 2830,    798.4,   6.7540,  34.5060,2,  34.5130,2,    183.3,2,    182.5,2,  -999.00,5,  -999.00,5,  -999.00,5
    09FA1089_2,      ,   239,  1,   -999,      9,2,19890916,0210,-34.4185, 166.8740, 2830,    838.1,   6.3030,  34.4800,2,  34.4830,2,    182.8,2,    184.3,2,  -999.00,5,  -999.00,5,  -999.00,5
    09FA1089_2,      ,   239,  1,   -999,     26,2,19890916,0210,-34.4185, 166.8740, 2830,    998.3,   5.4440,  34.4830,2,  34.4860,2,    180.6,2,    178.8,2,    43.89,3,    33.41,3,     2.25,3
    09FA1089_2,      ,   239,  1,   -999,      2,2,19890916,0210,-34.4185, 166.8740, 2830,   1249.0,   4.1820,  34.5060,2,  34.5120,2,    168.6,2,    171.3,2,    60.90,3,    37.32,3,     2.58,3
    09FA1089_2,      ,   239,  1,   -999,      8,2,19890916,0210,-34.4185, 166.8740, 2830,   1473.7,   3.2850,  34.5670,2,  34.5650,2,    159.6,2,    158.3,2,    82.21,3,    39.76,3,     2.74,3
    09FA1089_2,      ,   239,  1,   -999,     28,2,19890916,0210,-34.4185, 166.8740, 2830,   1748.8,   2.6620,  34.6210,2,  34.6190,2,    154.8,2,    154.4,2,    93.54,3,    39.76,3,     2.80,3
    09FA1089_2,      ,   239,  1,   -999,     31,2,19890916,0210,-34.4185, 166.8740, 2830,   1997.5,   2.2970,  34.6520,2,  34.6510,2,    153.2,2,    152.8,2,   102.04,3,  -999.00,5,     2.89,3
    09FA1089_2,      ,   239,  1,   -999,     18,2,19890916,0210,-34.4185, 166.8740, 2830,   2362.5,   2.0730,  34.6730,2,  34.6720,2,    152.8,2,    152.2,2,   117.58,3,    38.46,3,     2.64,3
    09FA1089_2,      ,   239,  1,   -999,     10,2,19890916,0210,-34.4185, 166.8740, 2830,   2499.6,   2.0100,  34.6810,2,  34.6770,2,    153.0,2,    154.0,2,  -999.00,5,  -999.00,5,  -999.00,5
    09FA1089_2,      ,   239,  1,   -999,     13,2,19890916,0210,-34.4185, 166.8740, 2830,   2747.2,   1.9530,  34.6860,2,  34.6830,2,    153.3,2,    154.0,2,   120.42,3,    38.13,3,     2.60,3
    09FA1089_2,      ,   239,  1,   -999,      4,2,19890916,0210,-34.4185, 166.8740, 2830,   2831.4,   1.9270,  34.6890,2,  34.6860,2,    152.8,2,    153.7,2,   121.88,3,    38.62,3,     2.60,3
    09FA1089_2,      ,   241,  1,   -999,     11,2,19890916,0557,-34.4203, 167.2522, 2000,      6.3,  16.9080,  35.5300,2,  35.5260,2,    246.5,2,    245.5,2,     0.68,3,     0.57,3,     0.29,3
    09FA1089_2,      ,   241,  1,   -999,      3,2,19890916,0557,-34.4203, 167.2522, 2000,     49.3,  16.6510,  35.5320,2,  35.5330,2,    237.0,2,    233.4,2,     0.88,3,     1.49,3,     0.34,3
    09FA1089_2,      ,   241,  1,   -999,     24,2,19890916,0557,-34.4203, 167.2522, 2000,     99.2,  15.8830,  35.5010,2,  35.5010,2,    218.8,2,    222.2,2,     1.56,3,     4.31,3,     0.50,3
    09FA1089_2,      ,   241,  1,   -999,     20,2,19890916,0557,-34.4203, 167.2522, 2000,    148.4,  15.4150,  35.4540,2,  35.4530,2,    219.5,2,    216.5,2,     2.05,3,     5.25,3,     0.55,3
    09FA1089_2,      ,   241,  1,   -999,     12,2,19890916,0557,-34.4203, 167.2522, 2000,    208.3,  14.4630,  35.3490,2,  35.3540,2,    200.6,2,    201.3,2,     2.93,3,     8.43,3,     0.73,3
    09FA1089_2,      ,   241,  1,   -999,     29,2,19890916,0557,-34.4203, 167.2522, 2000,    298.2,  12.6920,  35.1570,2,  35.1580,2,    196.5,2,    194.9,2,     4.49,3,    12.75,3,     0.98,3
    09FA1089_2,      ,   241,  1,   -999,      9,2,19890916,0557,-34.4203, 167.2522, 2000,    401.4,  10.7740,  34.9070,2,  34.9100,2,    192.5,2,    192.5,2,     6.94,3,    17.82,3,     1.25,3
    09FA1089_2,      ,   241,  1,   -999,     26,2,19890916,0557,-34.4203, 167.2522, 2000,    499.1,   9.5140,  34.7510,2,  34.7530,2,    192.3,2,    193.7,2,     9.77,3,    21.56,3,     1.49,3
    09FA1089_2,      ,   241,  1,   -999,     19,2,19890916,0557,-34.4203, 167.2522, 2000,    589.9,   8.8800,  34.6970,2,  34.6970,2,    189.7,2,    191.9,2,    13.20,3,    23.62,3,     1.59,3
    09FA1089_2,      ,   241,  1,   -999,      8,2,19890916,0557,-34.4203, 167.2522, 2000,    798.0,   7.2720,  34.5530,2,  34.5560,2,    188.5,2,    186.7,2,    20.72,3,    27.95,3,     1.87,3
    09FA1089_2,      ,   241,  1,   -999,      5,2,19890916,0557,-34.4203, 167.2522, 2000,    957.6,   6.1290,  34.4820,2,  34.4810,2,    181.1,2,    180.4,2,    28.54,3,    31.69,3,     2.07,3
    09FA1089_2,      ,   241,  1,   -999,     31,2,19890916,0557,-34.4203, 167.2522, 2000,    998.9,   5.8270,  34.4780,2,  34.4770,2,    180.9,2,    179.8,2,    32.16,3,    32.45,3,     2.13,3
    09FA1089_2,      ,   241,  1,   -999,     10,2,19890916,0557,-34.4203, 167.2522, 2000,   1486.4,   3.3880,  34.5560,2,  34.5540,2,    155.3,2,    159.5,2,    79.96,3,    39.76,3,     2.44,3
    09FA1089_2,      ,   241,  1,   -999,     13,2,19890916,0557,-34.4203, 167.2522, 2000,   1738.5,   2.8090,  34.6070,2,  34.6060,2,    153.8,2,    155.0,2,    97.36,3,    41.82,3,     2.57,3
    09FA1089_2,      ,   241,  1,   -999,      4,2,19890916,0557,-34.4203, 167.2522, 2000,   2000.0,   2.2990,  34.6520,2,  34.6480,2,    153.8,2,    153.4,2,   109.57,3,  -999.00,5,     2.60,3
    09FA1089_2,      ,   243,  1,   -999,     11,2,19890916,0944,-34.4142, 167.7540, 1300,      5.3,  16.4890,  35.5190,2,  35.5160,2,    248.7,2,    246.1,2,     0.88,3,     1.49,3,     0.35,3
    09FA1089_2,      ,   243,  1,   -999,     20,2,19890916,0944,-34.4142, 167.7540, 1300,     49.0,  15.8970,  35.5140,2,  35.5120,2,    238.9,2,    236.4,2,     1.27,3,     2.63,3,     0.41,3
    09FA1089_2,      ,   243,  1,   -999,     12,2,19890916,0944,-34.4142, 167.7540, 1300,     98.1,  15.8070,  35.5090,2,  35.5080,2,    236.6,2,    234.3,2,     1.37,3,     3.18,3,     0.44,3
    09FA1089_2,      ,   243,  1,   -999,     29,2,19890916,0944,-34.4142, 167.7540, 1300,    147.8,  15.5360,  35.4730,2,  35.4710,2,    231.6,2,    225.8,2,     1.76,3,     4.69,3,     0.51,3
    09FA1089_2,      ,   243,  1,   -999,      9,2,19890916,0944,-34.4142, 167.7540, 1300,    208.6,  14.1550,  35.3150,2,  35.3150,2,    208.2,2,    207.4,2,     3.32,3,     8.62,3,     0.75,3
    09FA1089_2,      ,   243,  1,   -999,     26,2,19890916,0944,-34.4142, 167.7540, 1300,    298.6,  12.6020,  35.1550,2,  35.1530,2,    199.6,2,    198.0,2,     4.89,3,    12.56,3,     0.96,3
    09FA1089_2,      ,   243,  1,   -999,     19,2,19890916,0944,-34.4142, 167.7540, 1300,    398.3,  11.1310,  34.9630,2,  34.9670,2,    191.8,2,    194.6,2,     7.62,3,    16.31,3,     1.21,3
    09FA1089_2,      ,   243,  1,   -999,      8,2,19890916,0944,-34.4142, 167.7540, 1300,    499.0,   9.7710,  34.8010,2,  34.8040,2,    189.8,2,    188.9,2,    11.34,3,    20.25,3,     1.46,3
    09FA1089_2,      ,   243,  1,   -999,      5,2,19890916,0944,-34.4142, 167.7540, 1300,    598.4,   8.7990,  34.6750,2,  34.6790,2,    190.1,2,    191.3,2,    12.51,3,    22.88,3,     1.62,3
    09FA1089_2,      ,   243,  1,   -999,     31,2,19890916,0944,-34.4142, 167.7540, 1300,    798.3,   6.8740,  34.5210,2,  34.5220,2,    185.9,2,    187.6,2,    22.97,3,    28.32,3,     1.95,3
    09FA1089_2,      ,   243,  1,   -999,     18,2,19890916,0944,-34.4142, 167.7540, 1300,    998.2,   5.4230,  34.4740,2,  34.4740,2,    179.0,2,    180.4,2,    36.85,3,    32.26,3,     2.19,3
    09FA1089_2,      ,   243,  1,   -999,     10,2,19890916,0944,-34.4142, 167.7540, 1300,   1098.4,   4.9120,  34.4790,2,  34.4790,2,    175.8,2,    177.9,2,    48.68,3,    33.76,3,     2.26,3
    09FA1089_2,      ,   243,  1,   -999,     13,2,19890916,0944,-34.4142, 167.7540, 1300,   1228.3,   4.1360,  34.5020,2,  34.5040,2,    169.8,2,    164.9,2,    64.32,3,    35.63,3,     2.39,3
    09FA1089_2,      ,   243,  1,   -999,      4,2,19890916,0944,-34.4142, 167.7540, 1300,   1298.2,   4.0110,  34.5140,2,  34.5160,2,    167.4,2,    167.1,2,    66.08,3,    35.63,3,     2.41,3
    09FA1089_2,      ,   245,  1,   -999,     11,2,19890916,1257,-34.4190, 168.2160, 1500,     48.9,  15.7110,  35.4970,2,  35.4960,2,    240.3,2,    240.9,2,     1.56,3,     2.81,3,     0.41,3
    09FA1089_2,      ,   245,  1,   -999,      1,2,19890916,1257,-34.4190, 168.2160, 1500,     98.8,  15.6620,  35.4960,2,  35.4950,2,    237.0,2,    241.2,2,     1.56,3,     3.15,3,     0.41,3
    09FA1089_2,      ,   245,  1,   -999,      3,2,19890916,1257,-34.4190, 168.2160, 1500,    149.5,  15.5620,  35.4970,2,  35.4950,2,    213.6,2,    234.3,2,     1.56,3,     3.64,3,     0.42,3
    09FA1089_2,      ,   245,  1,   -999,     20,2,19890916,1257,-34.4190, 168.2160, 1500,    215.0,  14.6560,  35.3850,2,  35.3850,2,    197.9,2,    216.1,2,     2.44,3,     6.47,3,     0.63,3
    09FA1089_2,      ,   245,  1,   -999,     12,2,19890916,1257,-34.4190, 168.2160, 1500,    298.6,  12.2800,  35.1110,2,  35.1180,2,    193.9,2,    200.1,2,     6.06,3,    13.09,3,     1.01,3
    09FA1089_2,      ,   245,  1,   -999,     29,2,19890916,1257,-34.4190, 168.2160, 1500,    398.2,  11.3510,  35.0010,2,  35.0020,2,    190.3,2,    195.5,2,     8.21,3,    15.92,3,     1.17,3
    09FA1089_2,      ,   245,  1,   -999,      5,2,19890916,1257,-34.4190, 168.2160, 1500,    498.6,  10.3670,  34.8820,2,  34.8770,2,    187.5,2,    188.9,2,    10.75,3,    19.07,3,     1.34,3
    09FA1089_2,      ,   245,  1,   -999,     26,2,19890916,1257,-34.4190, 168.2160, 1500,    598.4,   9.4240,  34.7770,2,  34.7760,2,    181.0,2,    190.1,2,    14.27,3,    21.73,3,     1.50,3
    09FA1089_2,      ,   245,  1,   -999,     19,2,19890916,1257,-34.4190, 168.2160, 1500,    799.0,   6.7700,  34.5580,2,  34.5180,3,    176.8,2,    174.6,2,    29.03,3,    28.52,3,     1.96,3
    09FA1089_2,      ,   245,  1,   -999,      8,2,19890916,1257,-34.4190, 168.2160, 1500,    963.7,   5.5520,  34.5130,2,  34.5180,2,    175.4,2,    175.8,2,  -999.00,5,    31.84,3,     2.16,3
    09FA1089_2,      ,   245,  1,   -999,      9,2,19890916,1257,-34.4190, 168.2160, 1500,    998.6,   5.4190,  34.5190,2,  34.5210,2,    170.1,2,    174.9,2,    48.68,3,    32.17,3,     2.18,3
    09FA1089_2,      ,   245,  1,   -999,     31,2,19890916,1257,-34.4190, 168.2160, 1500,   1147.5,   4.6760,  34.5240,2,  34.5250,2,    166.3,2,    170.7,2,    60.90,3,    33.67,3,     2.31,3
    09FA1089_2,      ,   245,  1,   -999,     18,2,19890916,1257,-34.4190, 168.2160, 1500,   1279.0,   4.2350,  34.5350,2,  34.5360,2,    163.6,2,    165.8,2,    71.26,3,    34.83,3,     2.38,3
    09FA1089_2,      ,   245,  1,   -999,     10,2,19890916,1257,-34.4190, 168.2160, 1500,   1398.1,   3.9800,  34.5400,2,  34.5400,2,    161.3,2,    164.9,2,    75.66,3,    35.33,3,     2.43,3
    09FA1089_2,      ,   245,  1,   -999,      4,2,19890916,1257,-34.4190, 168.2160, 1500,   1501.0,   3.6940,  34.5460,2,  -9.9999,5,    161.3,2,   -999.0,5,  -999.00,5,  -999.00,5,  -999.00,5
    09FA1089_2,      ,   245,  1,   -999,     13,2,19890916,1257,-34.4190, 168.2160, 1500,   1501.0,   3.6940,  34.5460,2,  34.5460,2,    161.3,2,    161.3,2,    92.18,3,    36.49,3,     2.47,3