BOTTLE,20010820WHPSIOKJU
EXPOCODE,SECT_ID,STNNBR,CASTNO,SAMPNO,BTLNBR,BTLNBR_FLAG_W,DATE,TIME,LATITUDE,LONGITUDE,DEPTH,CTDPRS,CTDTMP,CTDSAL,CTDSAL_FLAG_W,SALNTY,SALNTY_FLAG_W,CTDOXY,CTDOXY_FLAG_W,OXYGEN,OXYGEN_FLAG_W,SILCAT,SILCAT_FLAG_W,NO2+NO3,NO2+NO3_FLAG_W,PHSPHT,PHSPHT_FLAG_W
,,,,,,,,,,,,DBR,ITS-90,PSS-78,,PSS-78,,UMOL/KG,,UMOL/KG,,UMOL/KG,,UMOL/KG,,UMOL/KG,
    09FA1089_1, PR13N,    53,  1,   -999,     11,2,19890820,2247,-43.2435, 164.6018, 3360,      3.2,  11.9300,  35.0430,2,  35.0410,2,    237.7,2,    253.0,2,     2.05,3,     5.71,3,     0.67,3
    09FA1089_1, PR13N,    53,  1,   -999,      2,2,19890820,2247,-43.2435, 164.6018, 3360,     48.3,  11.8620,  35.0360,2,  35.0390,2,    255.1,2,    254.1,2,     2.05,3,     5.71,3,     0.64,3
    09FA1089_1, PR13N,    53,  1,   -999,     19,2,19890820,2247,-43.2435, 164.6018, 3360,     98.5,  11.8330,  35.0290,2,  35.0270,2,    254.2,2,    253.0,2,     2.05,3,     5.71,3,     0.60,3
    09FA1089_1, PR13N,    53,  1,   -999,     24,2,19890820,2247,-43.2435, 164.6018, 3360,    147.8,  11.7770,  35.0280,2,  35.0270,2,    248.9,2,    240.2,2,     2.35,3,     7.36,3,     0.69,3
    09FA1089_1, PR13N,    53,  1,   -999,     28,2,19890820,2247,-43.2435, 164.6018, 3360,    197.6,  10.9660,  34.9310,2,  34.9330,2,    220.7,2,    216.8,2,     3.91,3,    12.88,3,     0.99,3
    09FA1089_1, PR13N,    53,  1,   -999,     18,2,19890820,2247,-43.2435, 164.6018, 3360,    297.7,   9.8270,  34.7620,2,  34.7610,2,    217.6,2,    217.4,2,     5.38,3,    16.57,3,     1.20,3
    09FA1089_1, PR13N,    53,  1,   -999,     27,2,19890820,2247,-43.2435, 164.6018, 3360,    397.2,   9.0940,  34.6610,2,  34.6610,2,    215.7,2,    213.3,2,     6.45,3,    18.78,3,     1.35,3
    09FA1089_1, PR13N,    53,  1,   -999,     31,2,19890820,2247,-43.2435, 164.6018, 3360,    498.5,   8.5190,  34.5960,2,  34.5950,2,    212.1,2,    213.6,2,     8.70,3,    20.99,3,     1.51,3
    09FA1089_1, PR13N,    53,  1,   -999,     22,2,19890820,2247,-43.2435, 164.6018, 3360,    598.6,   8.0550,  34.5650,2,  34.5700,2,    200.3,2,    199.8,2,    12.12,3,    23.20,3,     1.65,3
    09FA1089_1, PR13N,    53,  1,   -999,     10,2,19890820,2247,-43.2435, 164.6018, 3360,    797.5,   6.5820,  34.4820,2,  34.4870,2,    184.9,2,    182.2,2,    22.48,3,    27.99,3,     2.01,3
    09FA1089_1, PR13N,    53,  1,   -999,     20,2,19890820,2247,-43.2435, 164.6018, 3360,    997.7,   5.0800,  34.4360,2,  34.4410,2,    179.8,2,    178.7,2,    35.68,3,    31.67,3,     2.24,3
    09FA1089_1, PR13N,    53,  1,   -999,     12,2,19890820,2247,-43.2435, 164.6018, 3360,   1179.2,   4.0280,  34.4510,2,  34.4530,2,    174.9,2,    174.5,2,    51.91,3,    33.70,3,     2.40,3
    09FA1089_1, PR13N,    53,  1,   -999,     17,2,19890820,2247,-43.2435, 164.6018, 3360,   1377.0,   3.2440,  34.5170,2,  34.5180,2,    165.5,2,    163.1,2,    70.77,3,    34.99,3,     2.52,3
    09FA1089_1, PR13N,    53,  1,   -999,     30,2,19890820,2247,-43.2435, 164.6018, 3360,   1500.0,   2.9510,  34.5640,2,  34.5660,2,    163.1,2,    162.1,2,    78.69,3,    35.35,3,     2.55,3
    09FA1089_1, PR13N,    53,  1,   -999,      4,2,19890820,2247,-43.2435, 164.6018, 3360,   2128.6,   2.2110,  34.6900,2,  34.6870,2,    172.6,2,    172.4,2,    86.50,3,    33.32,3,     2.38,3
    09FA1089_1, PR13N,    53,  1,   -999,      6,2,19890820,2247,-43.2435, 164.6018, 3360,   2428.3,   1.9550,  34.7170,2,  34.7180,2,    178.1,2,    181.0,2,    95.98,3,    33.51,3,     2.38,3
    09FA1089_1, PR13N,    53,  1,   -999,      5,2,19890820,2247,-43.2435, 164.6018, 3360,   2499.4,   1.8880,  34.7210,2,  34.7190,2,    180.5,2,    180.7,2,    99.11,3,    33.32,3,     2.38,3
    09FA1089_1, PR13N,    53,  1,   -999,      8,2,19890820,2247,-43.2435, 164.6018, 3360,   2748.2,   1.7090,  34.7260,2,  34.7220,2,    182.5,2,    183.4,2,   103.80,3,    33.32,3,     2.40,3
    09FA1089_1, PR13N,    53,  1,   -999,     21,2,19890820,2247,-43.2435, 164.6018, 3360,   3276.4,   1.3720,  34.7270,2,  34.7240,2,    187.7,2,    188.3,2,   114.84,3,    33.32,3,     2.40,3
    09FA1089_1, PR13N,    53,  1,   -999,      3,2,19890820,2247,-43.2435, 164.6018, 3360,   3357.8,   1.3200,  34.7260,2,  34.7230,2,    188.3,2,    189.3,2,   116.41,3,    33.50,3,     2.40,3
    09FA1089_1, PR13N,    55,  1,   -999,     11,2,19890821,0457,-43.2513, 165.5295, 4350,      3.3,  12.6770,  35.1500,2,  35.1560,2,    196.4,2,    253.4,2,     1.76,3,     4.42,3,     0.56,3
    09FA1089_1, PR13N,    55,  1,   -999,     21,2,19890821,0457,-43.2513, 165.5295, 4350,     47.9,  12.6980,  35.1490,2,  35.1500,2,    255.6,2,    253.0,2,     1.56,3,     4.23,3,     0.53,3
    09FA1089_1, PR13N,    55,  1,   -999,      2,2,19890821,0457,-43.2513, 165.5295, 4350,     98.9,  12.5420,  35.1270,2,  35.1220,2,    250.4,2,    253.7,2,     1.76,3,     4.42,3,     0.51,3
    09FA1089_1, PR13N,    55,  1,   -999,     19,2,19890821,0457,-43.2513, 165.5295, 4350,    148.3,  11.7190,  34.9880,2,  34.9850,2,    238.0,2,    248.2,2,     2.05,3,     6.08,3,     0.62,3
    09FA1089_1, PR13N,    55,  1,   -999,     24,2,19890821,0457,-43.2513, 165.5295, 4350,    198.3,  11.5460,  34.9950,2,  34.9910,2,    229.6,2,    229.2,2,     3.13,3,     9.94,3,     0.83,3
    09FA1089_1, PR13N,    55,  1,   -999,     28,2,19890821,0457,-43.2513, 165.5295, 4350,    298.1,  10.3470,  34.8460,2,  34.8500,2,    210.5,2,    212.6,2,     5.18,3,    15.46,3,     1.12,3
    09FA1089_1, PR13N,    55,  1,   -999,     18,2,19890821,0457,-43.2513, 165.5295, 4350,    397.1,   9.2820,  34.6900,2,  34.6920,2,    215.6,2,    216.0,2,     6.45,3,    18.41,3,     1.32,3
    09FA1089_1, PR13N,    55,  1,   -999,     27,2,19890821,0457,-43.2513, 165.5295, 4350,    497.3,   8.6770,  34.6090,2,  34.6140,2,    214.9,2,    219.1,2,     7.53,3,    20.07,3,     1.43,3
    09FA1089_1, PR13N,    55,  1,   -999,     31,2,19890821,0457,-43.2513, 165.5295, 4350,    598.3,   8.1200,  34.5680,2,  34.5730,2,    202.1,2,    202.9,2,    11.34,3,    22.83,3,     1.60,3
    09FA1089_1, PR13N,    55,  1,   -999,     22,2,19890821,0457,-43.2513, 165.5295, 4350,    800.5,   6.6070,  34.4800,2,  34.4800,2,    185.3,2,    187.3,2,    21.70,3,    27.99,3,     1.94,3
    09FA1089_1, PR13N,    55,  1,   -999,     10,2,19890821,0457,-43.2513, 165.5295, 4350,    998.6,   5.1380,  34.4290,2,  34.4350,2,    183.7,2,    182.8,2,    33.24,3,    31.12,3,     2.19,3
    09FA1089_1, PR13N,    55,  1,   -999,     20,2,19890821,0457,-43.2513, 165.5295, 4350,   1211.6,   3.8670,  34.4520,2,  34.4600,2,    177.0,2,    173.8,2,    55.04,3,    33.70,3,     2.40,3
    09FA1089_1, PR13N,    55,  1,   -999,     12,2,19890821,0457,-43.2513, 165.5295, 4350,   1430.8,   3.1130,  34.5370,2,  34.5450,2,    166.1,2,    161.8,2,    77.13,3,    35.35,3,     2.54,3
    09FA1089_1, PR13N,    55,  1,   -999,     17,2,19890821,0457,-43.2513, 165.5295, 4350,   1500.8,   2.9880,  34.5650,2,  34.5690,2,    163.9,2,    159.3,2,  -999.00,5,  -999.00,5,  -999.00,5
    09FA1089_1, PR13N,    55,  1,   -999,     30,2,19890821,0457,-43.2513, 165.5295, 4350,   1748.1,   2.6220,  34.6210,2,  34.6230,2,    163.1,2,    160.7,2,    78.69,3,    33.14,3,     2.36,3
    09FA1089_1, PR13N,    55,  1,   -999,      1,2,19890821,0457,-43.2513, 165.5295, 4350,   2148.0,   2.2320,  34.6940,2,  34.6910,2,    171.6,2,    169.6,2,    92.76,3,    33.88,3,     2.43,3
    09FA1089_1, PR13N,    55,  1,   -999,      4,2,19890821,0457,-43.2513, 165.5295, 4350,   2457.6,   1.9390,  34.7250,2,  34.7150,2,    178.0,2,    180.3,2,  -999.00,5,  -999.00,5,  -999.00,5
    09FA1089_1, PR13N,    55,  1,   -999,      6,2,19890821,0457,-43.2513, 165.5295, 4350,   2741.3,   1.6940,  34.7340,2,  34.7310,2,    183.3,2,    184.1,2,  -999.00,5,  -999.00,5,  -999.00,5
    09FA1089_1, PR13N,    55,  1,   -999,      5,2,19890821,0457,-43.2513, 165.5295, 4350,   3249.2,   1.3670,  34.7310,2,  34.7310,2,    188.1,2,    188.9,2,   110.15,3,    33.32,3,     2.38,3
    09FA1089_1, PR13N,    55,  1,   -999,      8,2,19890821,0457,-43.2513, 165.5295, 4350,   3497.1,   1.2630,  34.7290,2,  34.7200,2,    189.2,2,    190.0,2,  -999.00,5,  -999.00,5,  -999.00,5
    09FA1089_1, PR13N,    55,  1,   -999,     21,2,19890821,0457,-43.2513, 165.5295, 4350,   3995.2,   1.1720,  34.7270,2,  34.7240,2,    190.8,2,    192.0,2,   121.10,3,    33.69,3,     2.41,3
    09FA1089_1, PR13N,    55,  1,   -999,      3,2,19890821,0457,-43.2513, 165.5295, 4350,   4348.8,   1.1200,  34.7250,2,  34.7180,2,    190.9,2,    191.4,2,   125.89,3,    34.06,3,     2.44,3
    09FA1089_1, PR13N,    57,  1,   -999,     11,2,19890821,1148,-43.2437, 166.4537, 4080,      3.1,  12.5180,  35.1250,2,  35.1270,2,    191.8,2,    252.7,2,     2.15,3,     4.63,3,     0.61,3
    09FA1089_1, PR13N,    57,  1,   -999,     26,2,19890821,1148,-43.2437, 166.4537, 4080,     48.6,  12.5040,  35.1250,2,  35.1240,2,    255.9,2,    252.0,2,     2.15,3,     4.63,3,     0.57,3
    09FA1089_1, PR13N,    57,  1,   -999,      2,2,19890821,1148,-43.2437, 166.4537, 4080,     98.0,  12.5080,  35.1260,2,  35.1250,2,    249.9,2,    251.3,2,     2.15,3,     4.82,3,     0.56,3
    09FA1089_1, PR13N,    57,  1,   -999,     19,2,19890821,1148,-43.2437, 166.4537, 4080,    148.2,  12.4180,  35.1400,2,  35.1390,2,    244.3,2,    221.6,2,     3.13,3,     6.36,3,     0.76,3
    09FA1089_1, PR13N,    57,  1,   -999,     24,2,19890821,1148,-43.2437, 166.4537, 4080,    197.9,  11.8660,  35.0720,2,  35.0730,2,    215.9,2,    213.0,2,     3.91,3,    10.99,3,     0.92,3
    09FA1089_1, PR13N,    57,  1,   -999,     28,2,19890821,1148,-43.2437, 166.4537, 4080,    298.4,  10.8040,  34.9110,2,  34.9120,2,    208.4,2,    210.5,2,     4.98,3,    14.27,3,     1.08,3
    09FA1089_1, PR13N,    57,  1,   -999,     18,2,19890821,1148,-43.2437, 166.4537, 4080,    397.6,   9.7060,  34.7450,2,  34.7470,2,    208.8,2,    212.3,2,     6.06,3,    17.55,3,     1.29,3
    09FA1089_1, PR13N,    57,  1,   -999,     27,2,19890821,1148,-43.2437, 166.4537, 4080,    498.5,   8.8450,  34.6220,2,  34.6230,2,    216.9,2,    217.4,2,     7.14,3,    19.68,3,     1.45,3
    09FA1089_1, PR13N,    57,  1,   -999,     31,2,19890821,1148,-43.2437, 166.4537, 4080,    598.3,   8.3460,  34.5850,2,  34.5860,2,    202.7,2,    204.3,2,    10.46,3,    21.99,3,     1.61,3
    09FA1089_1, PR13N,    57,  1,   -999,     22,2,19890821,1148,-43.2437, 166.4537, 4080,    798.1,   6.8790,  34.4940,2,  34.4970,2,    184.2,2,    182.9,2,    20.33,3,    27.39,3,     1.96,3
    09FA1089_1, PR13N,    57,  1,   -999,     10,2,19890821,1148,-43.2437, 166.4537, 4080,    998.5,   5.3820,  34.4340,2,  34.4360,2,    180.9,2,    180.4,2,    31.58,3,    30.48,3,     2.21,3
    09FA1089_1, PR13N,    57,  1,   -999,     20,2,19890821,1148,-43.2437, 166.4537, 4080,   1225.0,   4.0140,  34.4500,2,  34.4500,2,    173.9,2,    173.8,2,    51.52,3,    33.37,3,     2.43,3
    09FA1089_1, PR13N,    57,  1,   -999,     12,2,19890821,1148,-43.2437, 166.4537, 4080,   1444.2,   3.1810,  34.5330,2,  34.5330,2,    164.3,2,    160.7,2,    71.75,3,    34.92,3,     2.57,3
    09FA1089_1, PR13N,    57,  1,   -999,     17,2,19890821,1148,-43.2437, 166.4537, 4080,   1499.0,   3.0720,  34.5490,2,  34.5530,2,    161.6,2,    159.0,2,    73.41,3,    34.92,3,     2.58,3
    09FA1089_1, PR13N,    57,  1,   -999,     30,2,19890821,1148,-43.2437, 166.4537, 4080,   1748.1,   2.6730,  34.6110,2,  34.6100,2,    159.9,2,    156.6,2,    82.69,3,    34.92,3,     2.60,3
    09FA1089_1, PR13N,    57,  1,   -999,      1,2,19890821,1148,-43.2437, 166.4537, 4080,   2214.0,   2.2380,  34.6830,2,  34.6820,2,    170.6,2,    169.7,2,    85.82,3,    33.75,3,     2.49,3
    09FA1089_1, PR13N,    57,  1,   -999,      4,2,19890821,1148,-43.2437, 166.4537, 4080,   2498.3,   2.0050,  34.7110,2,  -9.9999,5,    177.0,2,    178.0,2,  -999.00,5,  -999.00,5,  -999.00,5
    09FA1089_1, PR13N,    57,  1,   -999,      6,2,19890821,1148,-43.2437, 166.4537, 4080,   2531.0,   1.9800,  34.7130,2,  34.7110,2,    177.9,2,    178.3,2,    87.38,3,    32.79,3,     2.40,3
    09FA1089_1, PR13N,    57,  1,   -999,      5,2,19890821,1148,-43.2437, 166.4537, 4080,   2813.5,   1.7200,  34.7230,2,  34.7220,2,    182.4,2,    183.1,2,    93.63,3,    32.79,3,     2.40,3
    09FA1089_1, PR13N,    57,  1,   -999,      8,2,19890821,1148,-43.2437, 166.4537, 4080,   3258.8,   1.3670,  34.7220,2,  34.7180,2,    187.0,2,    188.9,2,   103.02,3,    32.98,3,     2.42,3
    09FA1089_1, PR13N,    57,  1,   -999,     21,2,19890821,1148,-43.2437, 166.4537, 4080,   3497.3,   1.2660,  34.7190,2,  34.7190,2,    188.5,2,    189.3,2,   106.14,3,    33.17,3,     2.43,3
    09FA1089_1, PR13N,    57,  1,   -999,      3,2,19890821,1148,-43.2437, 166.4537, 4080,   4079.0,   1.1490,  34.7180,2,  34.7170,2,    189.5,2,    191.0,2,   107.71,3,    33.17,3,     2.43,3
    09FA1089_1, PR13N,    59,  1,   -999,     11,2,19890821,1825,-43.2487, 167.3732, 2170,      3.4,  12.6680,  35.1700,2,  35.1690,2,    211.8,2,    251.3,2,     1.86,3,     4.63,3,     0.61,3
    09FA1089_1, PR13N,    59,  1,   -999,     28,2,19890821,1825,-43.2487, 167.3732, 2170,     47.1,  12.6670,  35.1680,2,  35.1650,2,    251.1,2,    250.6,2,     1.86,3,     4.63,3,     0.57,3
    09FA1089_1, PR13N,    59,  1,   -999,     18,2,19890821,1825,-43.2487, 167.3732, 2170,     98.5,  12.6710,  35.1670,2,  35.1660,2,    252.1,2,    252.0,2,     1.56,3,     4.63,3,     0.56,3
    09FA1089_1, PR13N,    59,  1,   -999,     20,2,19890821,1825,-43.2487, 167.3732, 2170,    147.6,  12.6790,  35.1660,2,  35.1660,2,    252.8,2,    251.0,2,     1.56,3,     4.63,3,     0.56,3
    09FA1089_1, PR13N,    59,  1,   -999,     31,2,19890821,1825,-43.2487, 167.3732, 2170,    198.7,  12.4770,  35.1580,2,  35.1570,2,    215.9,2,    217.5,2,     3.13,3,     8.87,3,     0.78,3
    09FA1089_1, PR13N,    59,  1,   -999,     22,2,19890821,1825,-43.2487, 167.3732, 2170,    298.7,  11.3030,  34.9880,2,  34.9900,2,    205.0,2,    209.5,2,     4.40,3,    12.72,3,     0.99,3
    09FA1089_1, PR13N,    59,  1,   -999,     10,2,19890821,1825,-43.2487, 167.3732, 2170,    398.7,  10.0070,  34.7900,2,  34.7960,2,    205.2,2,    208.5,2,     5.67,3,    16.59,3,     1.23,3
    09FA1089_1, PR13N,    59,  1,   -999,     27,2,19890821,1825,-43.2487, 167.3732, 2170,    497.7,   9.0540,  34.6500,2,  34.6510,2,    214.2,2,    217.4,2,     6.45,3,    18.71,3,     1.37,3
    09FA1089_1, PR13N,    59,  1,   -999,     12,2,19890821,1825,-43.2487, 167.3732, 2170,    599.5,   8.4720,  34.5960,2,  34.5990,2,    202.5,2,    206.7,2,     9.38,3,    21.41,3,     1.56,3
    09FA1089_1, PR13N,    59,  1,   -999,     17,2,19890821,1825,-43.2487, 167.3732, 2170,    798.5,   7.1050,  34.5100,2,  34.5130,2,    183.9,2,    183.9,2,    17.99,3,    26.04,3,     1.88,3
    09FA1089_1, PR13N,    59,  1,   -999,     30,2,19890821,1825,-43.2487, 167.3732, 2170,    999.0,   5.4930,  34.4400,2,  34.4410,2,    179.8,2,    179.1,2,    30.01,3,    30.29,3,     2.21,3
    09FA1089_1, PR13N,    59,  1,   -999,      1,2,19890821,1825,-43.2487, 167.3732, 2170,   1078.7,   4.8900,  34.4320,2,  34.4320,2,    177.2,2,    177.3,2,    35.29,3,    31.45,3,     2.26,3
    09FA1089_1, PR13N,    59,  1,   -999,      4,2,19890821,1825,-43.2487, 167.3732, 2170,   1247.2,   3.8980,  34.4640,2,  34.4650,2,    172.3,2,    169.0,2,    53.08,3,    33.37,3,     2.43,3
    09FA1089_1, PR13N,    59,  1,   -999,      6,2,19890821,1825,-43.2487, 167.3732, 2170,   1447.5,   3.2380,  34.5280,2,  34.5260,2,    164.2,2,    161.1,2,    68.72,3,    34.72,3,     2.55,3
    09FA1089_1, PR13N,    59,  1,   -999,      5,2,19890821,1825,-43.2487, 167.3732, 2170,   1498.8,   3.1350,  34.5420,2,  34.5420,2,    160.3,2,    158.3,2,    71.75,3,    34.34,3,     2.55,3
    09FA1089_1, PR13N,    59,  1,   -999,      8,2,19890821,1825,-43.2487, 167.3732, 2170,   1747.7,   2.7150,  34.6080,2,  34.6050,2,    160.4,2,    155.2,2,    82.69,3,    34.92,3,     2.57,3
    09FA1089_1, PR13N,    59,  1,   -999,     21,2,19890821,1825,-43.2487, 167.3732, 2170,   1998.3,   2.4550,  34.6500,2,  34.6460,2,    165.0,2,    161.7,2,    85.82,3,    33.95,3,     2.54,3
    09FA1089_1, PR13N,    59,  1,   -999,      3,2,19890821,1825,-43.2487, 167.3732, 2170,   2169.3,   2.2410,  34.6770,2,  34.6750,2,    169.8,2,    165.5,2,    88.95,3,    33.95,3,     2.48,3
    09FA1089_1, PR13N,    61,  1,   -999,     11,2,19890821,2122,-43.2378, 167.6425, 1418,      3.4,  12.5500,  35.1320,2,  35.1350,2,    257.9,2,    255.4,2,     1.86,3,     4.25,3,     0.54,3
    09FA1089_1, PR13N,    61,  1,   -999,     18,2,19890821,2122,-43.2378, 167.6425, 1418,     48.5,  12.5440,  35.1320,2,  35.1320,2,    257.6,2,    256.8,2,     1.86,3,     4.25,3,     0.51,3
    09FA1089_1, PR13N,    61,  1,   -999,     10,2,19890821,2122,-43.2378, 167.6425, 1418,     98.8,  12.5350,  35.1350,2,  35.1340,2,    253.1,2,    250.6,2,     2.05,3,     4.90,3,     0.54,3
    09FA1089_1, PR13N,    61,  1,   -999,     20,2,19890821,2122,-43.2378, 167.6425, 1418,    148.7,  12.5110,  35.1380,2,  35.1350,2,    247.1,2,    244.4,2,     2.05,3,     5.53,3,     0.57,3
    09FA1089_1, PR13N,    61,  1,   -999,     12,2,19890821,2122,-43.2378, 167.6425, 1418,    198.7,  12.3540,  35.1330,2,  35.1320,2,    226.8,2,    225.1,2,     3.22,3,     8.72,3,     0.74,3
    09FA1089_1, PR13N,    61,  1,   -999,     28,2,19890821,2122,-43.2378, 167.6425, 1418,    297.7,  11.1510,  34.9680,2,  34.9680,2,    209.4,2,    209.9,2,     4.79,3,    13.61,3,     1.01,3
    09FA1089_1, PR13N,    61,  1,   -999,     13,2,19890821,2122,-43.2378, 167.6425, 1418,    397.1,   9.6980,  34.7480,2,  34.7470,2,    209.7,2,    210.5,2,     6.16,3,    18.08,3,     1.26,3
    09FA1089_1, PR13N,    61,  1,   -999,      1,2,19890821,2122,-43.2378, 167.6425, 1418,    500.0,   8.9170,  34.6410,2,  34.6420,2,    211.5,2,    214.7,2,     7.43,3,    20.21,3,     1.41,3
    09FA1089_1, PR13N,    61,  1,   -999,      4,2,19890821,2122,-43.2378, 167.6425, 1418,    600.2,   8.3220,  34.5880,2,  34.5890,2,    198.4,2,    202.2,2,    10.85,3,    23.19,3,     1.57,3
    09FA1089_1, PR13N,    61,  1,   -999,      6,2,19890821,2122,-43.2378, 167.6425, 1418,    799.3,   6.6990,  34.4870,2,  34.4880,2,    184.3,2,    184.9,2,    19.65,3,    26.59,3,     1.71,3
    09FA1089_1, PR13N,    61,  1,   -999,      5,2,19890821,2122,-43.2378, 167.6425, 1418,    998.8,   5.2030,  34.4400,2,  34.4450,2,    177.9,2,    177.3,2,    35.10,3,    32.34,3,     2.21,3
    09FA1089_1, PR13N,    61,  1,   -999,      8,2,19890821,2122,-43.2378, 167.6425, 1418,   1148.9,   4.4120,  34.4430,2,  34.4440,2,    175.0,2,    174.5,2,    51.62,3,    33.82,3,     2.32,3
    09FA1089_1, PR13N,    61,  1,   -999,     21,2,19890821,2122,-43.2378, 167.6425, 1418,   1249.5,   3.9810,  34.4640,2,  34.4620,2,    171.0,2,    169.4,2,    60.22,3,    34.67,3,     2.39,3
    09FA1089_1, PR13N,    61,  1,   -999,      3,2,19890821,2122,-43.2378, 167.6425, 1418,   1419.1,   3.2220,  34.5330,2,  34.5320,2,    162.4,2,    163.1,2,    80.84,3,    36.38,3,     2.49,3