BOTTLE,20010820WHPSIOKJU
EXPOCODE,SECT_ID,STNNBR,CASTNO,SAMPNO,BTLNBR,BTLNBR_FLAG_W,DATE,TIME,LATITUDE,LONGITUDE,DEPTH,CTDPRS,CTDTMP,CTDSAL,CTDSAL_FLAG_W,SALNTY,SALNTY_FLAG_W,CTDOXY,CTDOXY_FLAG_W,OXYGEN,OXYGEN_FLAG_W,SILCAT,SILCAT_FLAG_W,NO2+NO3,NO2+NO3_FLAG_W,PHSPHT,PHSPHT_FLAG_W
,,,,,,,,,,,,DBR,ITS-90,PSS-78,,PSS-78,,UMOL/KG,,UMOL/KG,,UMOL/KG,,UMOL/KG,,UMOL/KG,
    09FA1089_1,  PR11,   113,  1,   -999,     11,2,19890828,0236,-28.2463, 170.5228, 2800,      3.0,  19.2130,  35.6650,2,  35.6700,2,    209.9,2,    228.5,2,     0.98,3,     0.39,3,     0.26,3
    09FA1089_1,  PR11,   113,  1,   -999,      4,2,19890828,0236,-28.2463, 170.5228, 2800,     48.6,  18.6550,  35.6580,2,  35.6570,2,    228.3,2,    224.0,2,     0.88,3,     1.17,3,     0.29,3
    09FA1089_1,  PR11,   113,  1,   -999,     19,2,19890828,0236,-28.2463, 170.5228, 2800,     98.4,  18.2390,  35.6290,2,  35.6280,2,    223.8,2,    207.7,2,     1.37,3,     3.31,3,     0.41,3
    09FA1089_1,  PR11,   113,  1,   -999,     27,2,19890828,0236,-28.2463, 170.5228, 2800,    149.2,  17.1660,  35.5540,2,  35.5470,2,    198.7,2,    188.4,2,     2.05,3,     6.24,3,     0.61,3
    09FA1089_1,  PR11,   113,  1,   -999,     29,2,19890828,0236,-28.2463, 170.5228, 2800,    198.2,  15.9440,  35.4470,2,  -9.9999,5,    188.5,2,   -999.0,5,  -999.00,5,  -999.00,5,  -999.00,5
    09FA1089_1,  PR11,   113,  1,   -999,     26,2,19890828,0236,-28.2463, 170.5228, 2800,    299.5,  14.2210,  35.2990,2,  35.2930,2,    191.2,2,    191.4,2,     3.91,3,    10.34,3,     0.84,3
    09FA1089_1,  PR11,   113,  1,   -999,     28,2,19890828,0236,-28.2463, 170.5228, 2800,    328.1,  13.3320,  35.1980,2,  35.2030,2,    188.9,2,    190.0,2,     4.79,3,    12.09,3,     0.96,3
    09FA1089_1,  PR11,   113,  1,   -999,     20,2,19890828,0236,-28.2463, 170.5228, 2800,    398.5,  12.0790,  35.0420,2,  35.0480,2,    189.2,2,    188.3,2,     6.16,3,    14.82,3,     1.12,3
    09FA1089_1,  PR11,   113,  1,   -999,      3,2,19890828,0236,-28.2463, 170.5228, 2800,    497.8,  10.4310,  34.8500,2,  34.8510,2,    194.2,2,    188.9,2,     8.60,3,    18.53,3,     1.36,3
    09FA1089_1,  PR11,   113,  1,   -999,     30,2,19890828,0236,-28.2463, 170.5228, 2800,    598.0,   9.0090,  34.6810,2,  34.6970,2,    203.9,2,    194.4,2,    10.65,3,    21.45,3,     1.52,3
    09FA1089_1,  PR11,   113,  1,   -999,      9,2,19890828,0236,-28.2463, 170.5228, 2800,    798.0,   6.7000,  34.4450,2,  34.4500,2,    198.1,2,    203.3,2,    16.52,3,    26.73,3,     1.84,3
    09FA1089_1,  PR11,   113,  1,   -999,     17,2,19890828,0236,-28.2463, 170.5228, 2800,   1001.3,   4.8370,  34.4170,2,  34.4210,2,    174.5,2,    185.4,2,    37.25,3,    32.19,3,     2.24,3
    09FA1089_1,  PR11,   113,  1,   -999,      2,2,19890828,0236,-28.2463, 170.5228, 2800,   1166.7,   4.0370,  34.4770,2,  34.4780,2,    165.6,2,    174.4,2,    60.02,3,    33.95,3,     2.36,3
    09FA1089_1,  PR11,   113,  1,   -999,      5,2,19890828,0236,-28.2463, 170.5228, 2800,   1378.8,   3.3120,  34.5510,2,  34.5510,2,    162.6,2,    162.0,2,    75.46,3,    33.56,3,     2.26,3
    09FA1089_1,  PR11,   113,  1,   -999,     24,2,19890828,0236,-28.2463, 170.5228, 2800,   1497.7,   3.0220,  34.5790,2,  34.5800,2,    159.2,2,    158.2,2,    85.82,3,    34.34,3,     2.39,3
    09FA1089_1,  PR11,   113,  1,   -999,     31,2,19890828,0236,-28.2463, 170.5228, 2800,   1748.6,   2.5520,  34.6190,2,  34.6180,2,    157.1,2,    155.4,2,    94.33,3,    34.53,3,     2.36,3
    09FA1089_1,  PR11,   113,  1,   -999,     10,2,19890828,0236,-28.2463, 170.5228, 2800,   2246.6,   2.0530,  34.6600,2,  34.6590,2,    157.1,2,    155.8,2,   120.13,3,    37.46,3,     2.64,3
    09FA1089_1,  PR11,   113,  1,   -999,     21,2,19890828,0236,-28.2463, 170.5228, 2800,   2498.2,   1.9540,  34.6690,2,  34.6690,2,    157.8,2,    154.0,2,   120.13,3,    37.06,3,     2.61,3
    09FA1089_1,  PR11,   113,  1,   -999,     12,2,19890828,0236,-28.2463, 170.5228, 2800,   2800.7,   1.8300,  34.6820,2,  34.6810,2,    157.8,2,    154.0,2,   118.37,3,    35.11,3,     2.40,3
    09FA1089_1,  PR11,   115,  1,   -999,     11,2,19890828,0904,-28.2397, 169.7113, 2970,      4.4,  18.2310,  35.6490,2,  35.6450,2,    201.0,2,    227.7,2,     1.17,3,     1.37,3,     0.32,3
    09FA1089_1,  PR11,   115,  1,   -999,      4,2,19890828,0904,-28.2397, 169.7113, 2970,     47.9,  18.2090,  35.6490,2,  35.6460,2,    232.5,2,    228.8,2,     0.98,3,     1.37,3,     0.31,3
    09FA1089_1,  PR11,   115,  1,   -999,     19,2,19890828,0904,-28.2397, 169.7113, 2970,     98.7,  18.1530,  35.6460,2,  35.6420,2,    230.3,2,    227.0,2,     0.98,3,     1.76,3,     0.31,3
    09FA1089_1,  PR11,   115,  1,   -999,     27,2,19890828,0904,-28.2397, 169.7113, 2970,    148.5,  17.9010,  35.6240,2,  35.6220,2,    224.6,2,    228.1,2,     0.98,3,     1.95,3,     0.31,3
    09FA1089_1,  PR11,   115,  1,   -999,     29,2,19890828,0904,-28.2397, 169.7113, 2970,    199.9,  16.7630,  35.5210,2,  35.5330,2,    196.9,2,    198.7,2,     2.05,3,     6.05,3,     0.58,3
    09FA1089_1,  PR11,   115,  1,   -999,     26,2,19890828,0904,-28.2397, 169.7113, 2970,    298.6,  14.3310,  35.3070,2,  35.3070,2,    190.0,2,    190.1,2,     3.81,3,    10.53,3,     0.84,3
    09FA1089_1,  PR11,   115,  1,   -999,     28,2,19890828,0904,-28.2397, 169.7113, 2970,    327.9,  13.9980,  35.2730,2,  35.2720,2,    189.9,2,    191.4,2,     4.10,3,    11.12,3,     0.90,3
    09FA1089_1,  PR11,   115,  1,   -999,     20,2,19890828,0904,-28.2397, 169.7113, 2970,    398.2,  12.5300,  35.1050,2,  35.1040,2,    188.9,2,    188.6,2,     5.28,3,    13.45,3,     0.98,3
    09FA1089_1,  PR11,   115,  1,   -999,      3,2,19890828,0904,-28.2397, 169.7113, 2970,    498.8,  10.4890,  34.8670,2,  34.8640,2,    185.7,2,    187.6,2,     8.89,3,    18.72,3,     1.34,3
    09FA1089_1,  PR11,   115,  1,   -999,     30,2,19890828,0904,-28.2397, 169.7113, 2970,    597.9,   9.4120,  34.7450,2,  34.7500,2,    191.6,2,    188.9,2,    11.34,3,    21.26,3,     1.48,3
    09FA1089_1,  PR11,   115,  1,   -999,      9,2,19890828,0904,-28.2397, 169.7113, 2970,    798.2,   6.6170,  34.4850,2,  34.4860,2,    194.1,2,    196.5,2,    21.41,3,    27.51,3,     1.91,3
    09FA1089_1,  PR11,   115,  1,   -999,      2,2,19890828,0904,-28.2397, 169.7113, 2970,   1190.3,   4.2180,  34.5040,2,  34.5050,2,    173.1,2,    172.0,2,    60.02,3,    32.58,3,     2.24,3
    09FA1089_1,  PR11,   115,  1,   -999,      5,2,19890828,0904,-28.2397, 169.7113, 2970,   1413.0,   3.3470,  34.5550,2,  34.5570,2,    164.5,2,    164.4,2,    78.89,3,    34.72,3,     2.40,3
    09FA1089_1,  PR11,   115,  1,   -999,     24,2,19890828,0904,-28.2397, 169.7113, 2970,   1497.4,   3.1230,  34.5700,2,  34.5720,2,    162.2,2,    160.3,2,    80.64,3,    34.34,3,     2.36,3
    09FA1089_1,  PR11,   115,  1,   -999,     31,2,19890828,0904,-28.2397, 169.7113, 2970,   1749.2,   2.6710,  34.6080,2,  34.6080,2,    158.3,2,    157.5,2,    94.33,3,    34.34,3,     2.32,3
    09FA1089_1,  PR11,   115,  1,   -999,     10,2,19890828,0904,-28.2397, 169.7113, 2970,   2304.1,   2.0530,  34.6600,2,  34.6600,2,    155.6,2,    153.7,2,   109.77,3,    35.50,3,     2.38,3
    09FA1089_1,  PR11,   115,  1,   -999,     21,2,19890828,0904,-28.2397, 169.7113, 2970,   2495.4,   1.9440,  34.6700,2,  34.6680,2,    156.3,2,    153.7,2,   114.95,3,    35.89,3,     2.44,3
    09FA1089_1,  PR11,   117,  1,   -999,     11,2,19890828,1543,-28.2477, 168.9132, 3266,      4.0,  18.2620,  35.6540,2,  35.6540,2,    185.1,2,    229.1,2,     0.98,3,     1.37,3,     0.32,3
    09FA1089_1,  PR11,   117,  1,   -999,      4,2,19890828,1543,-28.2477, 168.9132, 3266,     48.9,  18.2690,  35.6530,2,  35.6500,2,    229.9,2,    229.1,2,     0.98,3,     1.17,3,     0.26,3
    09FA1089_1,  PR11,   117,  1,   -999,     19,2,19890828,1543,-28.2477, 168.9132, 3266,     99.1,  18.2150,  35.6460,2,  35.6430,2,    230.0,2,    226.0,2,     0.88,3,     1.76,3,     0.29,3
    09FA1089_1,  PR11,   117,  1,   -999,     27,2,19890828,1543,-28.2477, 168.9132, 3266,    147.8,  18.1930,  35.6450,2,  35.6410,2,    230.6,2,    224.3,2,     0.98,3,     1.95,3,     0.29,3
    09FA1089_1,  PR11,   117,  1,   -999,     29,2,19890828,1543,-28.2477, 168.9132, 3266,    198.5,  18.0490,  35.6280,2,  35.6270,2,    195.0,2,    218.1,2,     0.98,3,     2.53,3,     0.35,3
    09FA1089_1,  PR11,   117,  1,   -999,     26,2,19890828,1543,-28.2477, 168.9132, 3266,    297.5,  15.8510,  35.4480,2,  35.4530,2,    188.7,2,    192.2,2,     2.54,3,     7.60,3,     0.67,3
    09FA1089_1,  PR11,   117,  1,   -999,     28,2,19890828,1543,-28.2477, 168.9132, 3266,    398.7,  13.3390,  35.1980,2,  35.1990,2,    187.3,2,    190.7,2,     4.30,3,    12.28,3,     0.90,3
    09FA1089_1,  PR11,   117,  1,   -999,     20,2,19890828,1543,-28.2477, 168.9132, 3266,    499.5,  11.0040,  34.9290,2,  34.9310,2,    186.3,2,    189.6,2,     7.52,3,    17.16,3,     1.19,3
    09FA1089_1,  PR11,   117,  1,   -999,      3,2,19890828,1543,-28.2477, 168.9132, 3266,    597.6,   9.5660,  34.7640,2,  34.7760,2,    188.4,2,    192.0,2,    10.65,3,    19.71,3,     1.47,3
    09FA1089_1,  PR11,   117,  1,   -999,     30,2,19890828,1543,-28.2477, 168.9132, 3266,    797.2,   7.0630,  34.5320,2,  34.5560,3,    189.2,2,    197.1,2,    21.02,3,    25.65,3,     1.85,3
    09FA1089_1,  PR11,   117,  1,   -999,      9,2,19890828,1543,-28.2477, 168.9132, 3266,    978.3,   5.4510,  34.4360,2,  34.4390,2,    188.4,2,    190.2,2,    31.77,3,    30.05,3,     2.16,3
    09FA1089_1,  PR11,   117,  1,   -999,     17,2,19890828,1543,-28.2477, 168.9132, 3266,   1429.8,   3.3980,  34.5460,2,  34.5470,2,    164.2,2,    163.0,2,    84.26,3,    34.46,3,     2.52,3
    09FA1089_1,  PR11,   117,  1,   -999,      2,2,19890828,1543,-28.2477, 168.9132, 3266,   1499.5,   3.1440,  34.5670,2,  34.5690,2,    162.2,2,    172.0,3,    89.34,3,    35.02,3,     2.57,3
    09FA1089_1,  PR11,   117,  1,   -999,      5,2,19890828,1543,-28.2477, 168.9132, 3266,   1748.9,   2.7020,  34.6040,2,  34.6040,2,    158.2,2,    157.2,2,   106.54,3,    35.80,3,     2.63,3
    09FA1089_1,  PR11,   117,  1,   -999,     24,2,19890828,1543,-28.2477, 168.9132, 3266,   1999.0,   2.3970,  34.6300,2,  34.6310,2,    155.9,2,    155.4,2,   118.57,3,    36.37,3,     2.66,3
    09FA1089_1,  PR11,   117,  1,   -999,     31,2,19890828,1543,-28.2477, 168.9132, 3266,   2363.1,   2.0940,  34.6570,2,  34.6560,2,    155.3,2,    153.4,2,   123.74,3,    36.37,3,     2.69,3
    09FA1089_1,  PR11,   117,  1,   -999,     10,2,19890828,1543,-28.2477, 168.9132, 3266,   2598.4,   1.9670,  34.6700,2,  34.6670,2,    156.0,2,    158.9,2,   127.16,3,    36.56,3,     2.67,3
    09FA1089_1,  PR11,   117,  1,   -999,     21,2,19890828,1543,-28.2477, 168.9132, 3266,   3003.2,   1.8710,  34.6800,2,  34.6820,2,    156.2,2,    155.4,2,   128.92,3,    36.75,3,     2.72,3
    09FA1089_1,  PR11,   117,  1,   -999,     12,2,19890828,1543,-28.2477, 168.9132, 3266,   3263.9,   1.8700,  34.6820,2,  34.6800,2,    156.0,2,    154.7,2,   128.92,3,    36.75,3,     2.70,3
    09FA1089_1,  PR11,   119,  1,   -999,     11,2,19890828,2158,-28.2597, 168.1118, 2950,      5.7,  19.8310,  35.6590,2,  35.6590,2,    193.2,2,    224.7,2,     0.88,3,     0.20,3,     0.26,3
    09FA1089_1,  PR11,   119,  1,   -999,      4,2,19890828,2158,-28.2597, 168.1118, 2950,     48.3,  19.2500,  35.6700,2,  35.6680,2,    225.8,2,    225.4,2,     0.88,3,     0.38,3,     0.28,3
    09FA1089_1,  PR11,   119,  1,   -999,     19,2,19890828,2158,-28.2597, 168.1118, 2950,     98.7,  18.5750,  35.6650,2,  35.6640,2,    233.0,2,    227.0,2,     0.88,3,     0.96,3,     0.28,3
    09FA1089_1,  PR11,   119,  1,   -999,     27,2,19890828,2158,-28.2597, 168.1118, 2950,    149.0,  18.5390,  35.6610,2,  35.6580,2,    227.6,2,    226.0,2,     0.88,3,     1.53,3,     0.29,3
    09FA1089_1,  PR11,   119,  1,   -999,     29,2,19890828,2158,-28.2597, 168.1118, 2950,    198.5,  18.5160,  35.6590,2,  35.6570,2,    224.4,2,    225.3,2,     0.88,3,     1.53,3,     0.29,3
    09FA1089_1,  PR11,   119,  1,   -999,     26,2,19890828,2158,-28.2597, 168.1118, 2950,    298.2,  17.1610,  35.5520,2,  35.5680,2,    190.3,2,    192.9,2,     1.86,3,     5.73,3,     0.56,3
    09FA1089_1,  PR11,   119,  1,   -999,     28,2,19890828,2158,-28.2597, 168.1118, 2950,    399.1,  14.2410,  35.2960,2,  35.2910,2,    188.5,2,    189.7,2,     3.61,3,    10.14,3,     0.82,3
    09FA1089_1,  PR11,   119,  1,   -999,     20,2,19890828,2158,-28.2597, 168.1118, 2950,    497.8,  11.7370,  35.0080,2,  35.0250,2,    184.9,2,    190.0,2,     6.55,3,    15.50,3,     1.14,3
    09FA1089_1,  PR11,   119,  1,   -999,      3,2,19890828,2158,-28.2597, 168.1118, 2950,    598.1,   9.7790,  34.7720,2,  34.7820,2,    188.4,2,    196.2,2,    10.16,3,    20.09,3,     1.43,3
    09FA1089_1,  PR11,   119,  1,   -999,     30,2,19890828,2158,-28.2597, 168.1118, 2950,    798.0,   7.3430,  34.5140,2,  -9.9999,5,    193.1,2,    199.6,2,    15.25,3,    24.54,3,     1.82,3
    09FA1089_1,  PR11,   119,  1,   -999,      9,2,19890828,2158,-28.2597, 168.1118, 2950,    998.2,   5.8270,  34.4520,2,  34.4560,2,    188.4,2,    190.3,2,    29.23,3,    29.48,3,     2.17,3
    09FA1089_1,  PR11,   119,  1,   -999,     18,2,19890828,2158,-28.2597, 168.1118, 2950,   1208.4,   4.3510,  34.4780,2,  34.4840,2,    172.3,2,    177.1,2,    56.70,3,    33.50,3,     2.43,3
    09FA1089_1,  PR11,   119,  1,   -999,     17,2,19890828,2158,-28.2597, 168.1118, 2950,   1458.9,   3.3630,  34.5500,2,  34.5530,2,    161.3,2,    162.7,2,    79.08,3,    34.26,3,     2.46,3
    09FA1089_1,  PR11,   119,  1,   -999,      2,2,19890828,2158,-28.2597, 168.1118, 2950,   1498.1,   3.2350,  34.5600,2,  34.5620,2,    161.5,2,    163.4,2,    87.68,3,    35.80,3,     2.61,3
    09FA1089_1,  PR11,   119,  1,   -999,      5,2,19890828,2158,-28.2597, 168.1118, 2950,   1747.8,   2.6720,  34.6070,2,  34.6080,2,    157.4,2,    155.4,2,   103.12,3,    36.37,3,     2.64,3
    09FA1089_1,  PR11,   119,  1,   -999,     24,2,19890828,2158,-28.2597, 168.1118, 2950,   1998.5,   2.3450,  34.6350,2,  34.6360,2,    155.3,2,    153.0,2,   109.96,3,    36.94,3,     2.69,3
    09FA1089_1,  PR11,   119,  1,   -999,     31,2,19890828,2158,-28.2597, 168.1118, 2950,   2348.4,   2.0620,  34.6600,2,  34.6630,2,    155.0,2,    153.7,2,   120.32,3,    35.22,3,     2.69,3
    09FA1089_1,  PR11,   119,  1,   -999,     10,2,19890828,2158,-28.2597, 168.1118, 2950,   2498.3,   1.9690,  34.6700,2,  34.6680,2,    155.6,2,   -999.0,5,  -999.00,5,  -999.00,5,  -999.00,5
    09FA1089_1,  PR11,   119,  1,   -999,     21,2,19890828,2158,-28.2597, 168.1118, 2950,   2697.2,   1.8820,  34.6780,2,  34.6750,2,    156.0,2,    154.7,2,  -999.00,5,  -999.00,5,  -999.00,5
    09FA1089_1,  PR11,   119,  1,   -999,     12,2,19890828,2158,-28.2597, 168.1118, 2950,   2948.3,   1.8660,  34.6820,2,  34.6800,2,    156.0,2,    154.4,2,   121.98,3,    35.60,3,     2.57,3
    09FA1089_1,  PR11,   121,  1,   -999,     11,2,19890829,0114,-28.2438, 167.9590, 2024,      3.0,  20.2060,  35.6500,2,  35.6510,2,    186.8,2,    223.0,2,     0.88,3,     0.20,3,     0.32,3
    09FA1089_1,  PR11,   121,  1,   -999,     27,2,19890829,0114,-28.2438, 167.9590, 2024,     48.4,  20.1680,  35.6480,2,  35.6460,2,    219.6,2,    220.3,2,     0.68,3,     0.20,3,     0.25,3
    09FA1089_1,  PR11,   121,  1,   -999,     28,2,19890829,0114,-28.2438, 167.9590, 2024,     99.3,  20.1700,  35.6490,2,  35.6460,2,    221.5,2,    219.9,2,     0.68,3,     0.20,3,     0.22,3
    09FA1089_1,  PR11,   121,  1,   -999,     20,2,19890829,0114,-28.2438, 167.9590, 2024,    148.5,  19.3080,  35.6700,2,  35.6710,2,    217.3,2,    215.4,2,     0.68,3,     1.34,3,     0.29,3
    09FA1089_1,  PR11,   121,  1,   -999,      3,2,19890829,0114,-28.2438, 167.9590, 2024,    196.7,  18.5720,  35.6350,2,  35.6360,2,    190.8,2,    189.8,2,     1.37,3,     4.40,3,     0.50,3
    09FA1089_1,  PR11,   121,  1,   -999,     30,2,19890829,0114,-28.2438, 167.9590, 2024,    297.3,  16.6540,  35.5130,2,  35.5140,2,    187.1,2,    187.0,2,     2.25,3,     7.08,3,     0.72,3
    09FA1089_1,  PR11,   121,  1,   -999,      9,2,19890829,0114,-28.2438, 167.9590, 2024,    398.6,  14.1300,  35.2610,2,  35.2770,2,    184.3,2,    185.6,2,     4.10,3,    11.28,3,     0.91,3
    09FA1089_1,  PR11,   121,  1,   -999,     18,2,19890829,0114,-28.2438, 167.9590, 2024,    500.1,  11.9090,  35.0170,2,  35.0150,2,    182.2,2,    185.9,2,     6.06,3,    15.50,3,     1.14,3
    09FA1089_1,  PR11,   121,  1,   -999,     29,2,19890829,0114,-28.2438, 167.9590, 2024,    598.7,  10.3140,  34.8400,2,  34.8460,2,    183.8,2,    186.9,2,     8.89,3,    19.14,3,     1.40,3
    09FA1089_1,  PR11,   121,  1,   -999,      2,2,19890829,0114,-28.2438, 167.9590, 2024,    797.3,   7.8230,  34.5710,2,  34.5710,2,    193.1,2,    196.1,2,    14.56,3,    24.31,3,     1.73,3
    09FA1089_1,  PR11,   121,  1,   -999,      5,2,19890829,0114,-28.2438, 167.9590, 2024,    999.1,   5.6220,  34.4430,2,  34.4440,2,    188.7,2,    190.3,2,    28.06,3,    28.71,3,     1.93,3
    09FA1089_1,  PR11,   121,  1,   -999,     24,2,19890829,0114,-28.2438, 167.9590, 2024,   1258.3,   4.2570,  34.4860,2,  34.4840,2,    172.5,2,    173.0,2,    58.46,3,    33.12,3,     2.32,3
    09FA1089_1,  PR11,   121,  1,   -999,     31,2,19890829,0114,-28.2438, 167.9590, 2024,   1459.0,   3.4220,  34.5490,2,  34.5510,2,    163.9,2,    163.0,2,  -999.00,5,  -999.00,5,  -999.00,5
    09FA1089_1,  PR11,   121,  1,   -999,     10,2,19890829,0114,-28.2438, 167.9590, 2024,   1500.9,   3.2760,  34.5610,2,  34.5610,2,    163.0,2,    162.3,2,    80.74,3,    34.46,3,     2.39,3
    09FA1089_1,  PR11,   121,  1,   -999,     21,2,19890829,0114,-28.2438, 167.9590, 2024,   1745.1,   2.6230,  34.6150,2,  34.6140,2,    157.3,2,    157.5,2,  -999.00,5,  -999.00,5,  -999.00,5
    09FA1089_1,  PR11,   121,  1,   -999,     12,2,19890829,0114,-28.2438, 167.9590, 2024,   2024.1,   2.2930,  34.6430,2,  34.6400,2,    155.6,2,    153.7,2,   108.30,3,    35.79,3,     2.49,3