BOTTLE,20010820WHPSIOKJU
EXPOCODE,SECT_ID,STNNBR,CASTNO,SAMPNO,BTLNBR,BTLNBR_FLAG_W,DATE,TIME,LATITUDE,LONGITUDE,DEPTH,CTDPRS,CTDTMP,CTDSAL,CTDSAL_FLAG_W,SALNTY,SALNTY_FLAG_W,CTDOXY,CTDOXY_FLAG_W,OXYGEN,OXYGEN_FLAG_W,SILCAT,SILCAT_FLAG_W,NO2+NO3,NO2+NO3_FLAG_W,PHSPHT,PHSPHT_FLAG_W
,,,,,,,,,,,,DBR,ITS-90,PSS-78,,PSS-78,,UMOL/KG,,UMOL/KG,,UMOL/KG,,UMOL/KG,,UMOL/KG,
    09FA1089_2,      ,   307,  1,   -999,     22,2,19890924,0808,-39.0228, 152.6625, 4702,      5.2,  14.8660,  35.4210,2,  35.4210,2,    246.4,2,    248.8,2,     1.27,3,     0.73,3,     0.38,3
    09FA1089_2,      ,   307,  1,   -999,      5,2,19890924,0808,-39.0228, 152.6625, 4702,     49.1,  14.8470,  35.4220,2,  35.4210,2,    242.9,2,    245.1,2,     1.27,3,     0.92,3,     0.39,3
    09FA1089_2,      ,   307,  1,   -999,     34,2,19890924,0808,-39.0228, 152.6625, 4702,    113.3,  14.7000,  35.4090,2,  35.4060,2,    223.0,2,    241.7,2,     1.47,3,     1.29,3,     0.42,3
    09FA1089_2,      ,   307,  1,   -999,      2,2,19890924,0808,-39.0228, 152.6625, 4702,    149.0,  13.8740,  35.3250,2,  35.3230,2,    214.3,2,    213.4,2,     3.22,3,     4.97,3,     0.67,3
    09FA1089_2,      ,   307,  1,   -999,     58,2,19890924,0808,-39.0228, 152.6625, 4702,    198.7,  12.9250,  35.2020,2,  35.2020,2,    206.8,2,    204.5,2,     4.01,3,     7.92,3,     0.83,3
    09FA1089_2,      ,   307,  1,   -999,     26,2,19890924,0808,-39.0228, 152.6625, 4702,    297.7,  11.2840,  34.9760,2,  34.9740,2,    201.4,2,    201.7,2,     5.47,3,    12.17,3,     1.06,3
    09FA1089_2,      ,   307,  1,   -999,     19,2,19890924,0808,-39.0228, 152.6625, 4702,    399.0,   9.7540,  34.7570,2,  34.7580,2,    204.1,2,    204.1,2,     7.04,3,    16.22,3,     1.28,3
    09FA1089_2,      ,   307,  1,   -999,      1,2,19890924,0808,-39.0228, 152.6625, 4702,    499.5,   8.8490,  34.6440,2,  34.6450,2,    200.6,2,    205.0,2,     8.99,3,    18.99,3,     1.45,3
    09FA1089_2,      ,   307,  1,   -999,     31,2,19890924,0808,-39.0228, 152.6625, 4702,    598.6,   8.0770,  34.5850,2,  34.5850,2,    191.5,2,    190.9,2,    10.17,3,    22.12,3,     1.63,3
    09FA1089_2,      ,   307,  1,   -999,     13,2,19890924,0808,-39.0228, 152.6625, 4702,    799.3,   6.5310,  34.4830,2,  34.4860,2,    184.9,2,    184.7,2,    22.68,3,    26.36,3,     1.90,3
    09FA1089_2,      ,   307,  1,   -999,     27,2,19890924,0808,-39.0228, 152.6625, 4702,    969.0,   5.2870,  34.4530,2,  34.4510,2,    179.7,2,    180.1,2,    34.31,3,    29.69,3,     2.09,3
    09FA1089_2,      ,   307,  1,   -999,     10,2,19890924,0808,-39.0228, 152.6625, 4702,   1000.4,   5.0650,  34.4500,2,  34.4510,2,    178.6,2,    177.9,2,    37.05,3,    30.24,3,     2.09,3
    09FA1089_2,      ,   307,  1,   -999,      8,2,19890924,0808,-39.0228, 152.6625, 4702,   1189.6,   4.0980,  34.4900,2,  34.4930,2,    169.2,2,    164.4,2,    59.53,3,    32.63,3,     2.34,3
    09FA1089_2,      ,   307,  1,   -999,     24,2,19890924,0808,-39.0228, 152.6625, 4702,   1444.7,   3.1840,  34.5520,2,  34.5530,2,    160.8,2,    157.0,2,    69.21,3,    34.48,3,     2.47,3
    09FA1089_2,      ,   307,  1,   -999,     29,2,19890924,0808,-39.0228, 152.6625, 4702,   1748.8,   2.5850,  34.6290,2,  34.6320,2,    161.3,2,    160.0,2,    85.33,3,    34.10,3,     2.44,3
    09FA1089_2,      ,   307,  1,   -999,     20,2,19890924,0808,-39.0228, 152.6625, 4702,   2000.4,   2.3340,  34.6700,2,  34.6700,2,    167.5,2,    167.1,2,    88.55,3,    33.37,3,     2.39,3
    09FA1089_2,      ,   307,  1,   -999,      6,2,19890924,0808,-39.0228, 152.6625, 4702,   2499.4,   1.9850,  34.7210,2,  34.7210,2,    179.7,2,    181.2,2,    90.12,3,    32.26,3,     2.31,3
    09FA1089_2,      ,   307,  1,   -999,     18,2,19890924,0808,-39.0228, 152.6625, 4702,   2581.0,   1.9300,  34.7260,2,  34.7260,2,    180.6,2,    182.7,2,    91.78,3,    32.08,3,     2.29,3
    09FA1089_2,      ,   307,  1,   -999,      3,2,19890924,0808,-39.0228, 152.6625, 4702,   2969.6,   1.6890,  34.7310,2,  34.7320,2,    184.9,2,    187.6,2,    96.57,3,    32.08,3,     2.29,3
    09FA1089_2,      ,   307,  1,   -999,     12,2,19890924,0808,-39.0228, 152.6625, 4702,   3528.7,   1.3190,  34.7240,2,  34.7220,2,    190.1,2,    193.5,2,    99.79,3,    32.26,3,     2.31,3
    09FA1089_2,      ,   307,  1,   -999,      9,2,19890924,0808,-39.0228, 152.6625, 4702,   4002.0,   1.1470,  34.7180,2,  34.7170,2,    192.7,2,    194.7,2,   111.03,3,    32.81,3,     2.34,3
    09FA1089_2,      ,   307,  1,   -999,      4,2,19890924,0808,-39.0228, 152.6625, 4702,   4701.5,   1.0960,  34.7140,2,  34.7130,2,    195.7,2,    199.0,2,   114.26,3,    32.81,3,     2.34,3
    09FA1089_2,      ,   309,  1,   -999,     22,2,19890924,1659,-39.4528, 151.4510, 4702,      4.2,  16.0070,  35.5010,2,  -9.9999,5,    245.0,2,    239.9,2,     1.47,3,     1.59,3,     0.30,3
    09FA1089_2,      ,   309,  1,   -999,      5,2,19890924,1659,-39.4528, 151.4510, 4702,     97.4,  15.9060,  35.4930,2,  35.4970,2,    233.5,2,    238.4,2,     1.47,3,     1.59,3,     0.32,3
    09FA1089_2,      ,   309,  1,   -999,     34,2,19890924,1659,-39.4528, 151.4510, 4702,    148.3,  15.5210,  35.4690,2,  35.4690,2,    235.9,2,    232.8,2,     1.95,3,     3.00,3,     0.41,3
    09FA1089_2,      ,   309,  1,   -999,      2,2,19890924,1659,-39.4528, 151.4510, 4702,    198.5,  15.0430,  35.4120,2,  35.4140,2,    216.0,2,    214.7,2,     2.74,3,     4.59,3,     0.56,3
    09FA1089_2,      ,   309,  1,   -999,     58,2,19890924,1659,-39.4528, 151.4510, 4702,    240.6,  14.2060,  35.3280,2,  35.3280,2,    195.2,2,    199.6,2,     3.61,3,     7.59,3,     0.73,3
    09FA1089_2,      ,   309,  1,   -999,     26,2,19890924,1659,-39.4528, 151.4510, 4702,    297.1,  13.3020,  35.2400,2,  35.2340,2,    207.7,2,    200.5,2,     4.20,3,     9.17,3,     0.83,3
    09FA1089_2,      ,   309,  1,   -999,     19,2,19890924,1659,-39.4528, 151.4510, 4702,    399.2,  12.2490,  35.1530,2,  35.1240,2,    198.8,2,    206.6,2,     4.89,3,    10.24,3,     0.92,3
    09FA1089_2,      ,   309,  1,   -999,      1,2,19890924,1659,-39.4528, 151.4510, 4702,    496.6,  10.4220,  34.8690,2,  34.8740,2,    191.2,2,    196.1,2,     7.62,3,    16.07,3,     1.21,3
    09FA1089_2,      ,   309,  1,   -999,     31,2,19890924,1659,-39.4528, 151.4510, 4702,    597.2,   9.0210,  34.6600,2,  34.6690,2,    191.6,2,    205.6,2,     8.89,3,    19.60,3,     1.39,3
    09FA1089_2,      ,   309,  1,   -999,     13,2,19890924,1659,-39.4528, 151.4510, 4702,    799.2,   7.2340,  34.5230,2,  34.5250,2,    187.1,2,    188.1,2,    18.96,3,    25.43,3,     1.80,3
    09FA1089_2,      ,   309,  1,   -999,     27,2,19890924,1659,-39.4528, 151.4510, 4702,    998.1,   5.6720,  34.4610,2,  34.4640,2,    181.7,2,    189.0,2,    32.55,3,    29.84,3,     2.06,3
    09FA1089_2,      ,   309,  1,   -999,     10,2,19890924,1659,-39.4528, 151.4510, 4702,   1261.3,   4.1240,  34.4980,2,  34.4980,2,    169.2,2,    166.5,2,    68.72,3,    32.84,3,     2.22,3
    09FA1089_2,      ,   309,  1,   -999,      8,2,19890924,1659,-39.4528, 151.4510, 4702,   1487.1,   3.2680,  34.5570,2,  34.5590,2,    160.2,2,    156.0,2,  -999.00,5,  -999.00,5,  -999.00,5
    09FA1089_2,      ,   309,  1,   -999,     24,2,19890924,1659,-39.4528, 151.4510, 4702,   1750.3,   2.6590,  34.6200,2,  34.6190,2,    160.1,2,    158.5,2,    99.41,3,    34.60,3,     2.42,3
    09FA1089_2,      ,   309,  1,   -999,     29,2,19890924,1659,-39.4528, 151.4510, 4702,   1999.3,   2.3570,  34.6660,2,  34.6660,2,    167.2,2,    166.5,2,  -999.00,5,  -999.00,5,  -999.00,5
    09FA1089_2,      ,   309,  1,   -999,     20,2,19890924,1659,-39.4528, 151.4510, 4702,   2216.9,   2.1840,  34.6970,2,  34.6940,2,    173.6,2,    176.0,2,    99.40,3,    32.83,3,     2.29,3
    09FA1089_2,      ,   309,  1,   -999,     17,2,19890924,1659,-39.4528, 151.4510, 4702,   2495.4,   1.9990,  34.7200,2,  34.7180,2,    180.0,2,    179.7,2,   104.78,3,    32.30,3,     2.26,3
    09FA1089_2,      ,   309,  1,   -999,      6,2,19890924,1659,-39.4528, 151.4510, 4702,   2582.5,   1.9520,  34.7260,2,  34.7230,2,    181.3,2,    182.1,2,   104.78,3,    32.48,3,     2.23,3
    09FA1089_2,      ,   309,  1,   -999,     18,2,19890924,1659,-39.4528, 151.4510, 4702,   2972.4,   1.6830,  34.7320,2,  34.7290,2,    185.7,2,    188.3,2,   113.87,3,    32.48,3,     2.29,3
    09FA1089_2,      ,   309,  1,   -999,      3,2,19890924,1659,-39.4528, 151.4510, 4702,   3522.8,   1.3370,  34.7270,2,  34.7230,2,    191.1,2,    192.2,2,   121.10,3,    32.83,3,     2.26,3
    09FA1089_2,      ,   309,  1,   -999,     12,2,19890924,1659,-39.4528, 151.4510, 4702,   3995.3,   1.1480,  34.7190,2,  34.7190,2,    193.9,2,    195.3,2,   128.33,3,    33.01,3,     2.26,3
    09FA1089_2,      ,   309,  1,   -999,      9,2,19890924,1659,-39.4528, 151.4510, 4702,   4501.1,   1.1000,  34.7140,2,  34.7130,2,    195.6,2,    197.8,2,   130.09,3,    33.36,3,     2.28,3
    09FA1089_2,      ,   309,  1,   -999,      4,2,19890924,1659,-39.4528, 151.4510, 4702,   4699.7,   1.0690,  34.7110,2,  34.7150,2,    197.7,2,    199.3,2,   130.09,3,    33.36,3,     2.28,3
    09FA1089_2,      ,   311,  1,   -999,     22,2,19890925,0145,-39.8322, 150.2373, 4318,      5.5,  15.5580,  35.4760,2,  35.4730,2,    242.3,2,    243.0,2,     1.66,3,     1.23,3,     0.35,3
    09FA1089_2,      ,   311,  1,   -999,      5,2,19890925,0145,-39.8322, 150.2373, 4318,     98.8,  14.4020,  35.4230,2,  35.4220,2,    238.5,2,    244.8,2,     1.95,3,     1.59,3,     0.41,3
    09FA1089_2,      ,   311,  1,   -999,     34,2,19890925,0145,-39.8322, 150.2373, 4318,    128.4,  13.9600,  35.3850,2,  35.3840,2,    231.1,2,    246.9,2,     1.95,3,     2.30,3,     0.45,3
    09FA1089_2,      ,   311,  1,   -999,      2,2,19890925,0145,-39.8322, 150.2373, 4318,    199.9,  13.0740,  35.2670,2,  35.2650,2,    204.5,2,    245.7,2,     2.15,3,     3.53,3,     0.54,3
    09FA1089_2,      ,   311,  1,   -999,     26,2,19890925,0145,-39.8322, 150.2373, 4318,    399.9,   9.9150,  34.7610,2,  34.7600,2,    198.9,2,    221.3,2,     5.47,3,    15.18,3,     1.12,3
    09FA1089_2,      ,   311,  1,   -999,     19,2,19890925,0145,-39.8322, 150.2373, 4318,    500.0,   8.8000,  34.5940,2,  34.5980,2,    203.4,2,    239.2,2,     5.57,3,    16.77,3,     1.24,3
    09FA1089_2,      ,   311,  1,   -999,      1,2,19890925,0145,-39.8322, 150.2373, 4318,    603.4,   8.5270,  34.6180,2,  34.6170,2,    193.4,2,    197.0,2,    11.24,3,    21.53,3,     1.49,3
    09FA1089_2,      ,   311,  1,   -999,     31,2,19890925,0145,-39.8322, 150.2373, 4318,    800.0,   6.7840,  34.4910,2,  34.4960,2,    186.4,2,    186.5,2,    21.70,3,    26.66,3,     1.80,3
    09FA1089_2,      ,   311,  1,   -999,     13,2,19890925,0145,-39.8322, 150.2373, 4318,    999.4,   5.3420,  34.4540,2,  34.4570,2,    179.8,2,    178.8,2,    36.66,3,    30.90,3,     2.06,3
    09FA1089_2,      ,   311,  1,   -999,     27,2,19890925,0145,-39.8322, 150.2373, 4318,   1035.0,   5.1690,  34.4570,2,  34.4600,2,    181.2,2,    178.2,2,    37.93,3,    31.43,3,     2.10,3
    09FA1089_2,      ,   311,  1,   -999,     10,2,19890925,0145,-39.8322, 150.2373, 4318,   1230.6,   4.1620,  34.4900,2,  34.4890,2,    168.9,2,    166.8,2,    68.72,3,    33.73,3,     2.22,3
    09FA1089_2,      ,   311,  1,   -999,      8,2,19890925,0145,-39.8322, 150.2373, 4318,   1465.7,   3.2350,  34.5470,2,  34.5530,2,    158.5,2,    159.1,2,    86.80,3,    35.13,3,     2.38,3
    09FA1089_2,      ,   311,  1,   -999,     24,2,19890925,0145,-39.8322, 150.2373, 4318,   1500.6,   3.1350,  34.5570,2,  34.5580,2,    159.2,2,    156.7,2,    90.32,3,    35.66,3,     2.42,3
    09FA1089_2,      ,   311,  1,   -999,     29,2,19890925,0145,-39.8322, 150.2373, 4318,   1751.7,   2.6120,  34.6220,2,  34.6220,2,    161.6,2,    161.9,2,    97.55,3,    35.48,3,     2.38,3
    09FA1089_2,      ,   311,  1,   -999,     20,2,19890925,0145,-39.8322, 150.2373, 4318,   1999.8,   2.3270,  34.6740,2,  34.6740,2,    170.0,2,    168.0,2,    99.40,3,    34.60,3,     2.32,3
    09FA1089_2,      ,   311,  1,   -999,     17,2,19890925,0145,-39.8322, 150.2373, 4318,   2167.6,   2.1910,  34.7010,2,  34.6970,2,    174.9,2,    175.7,2,   101.16,3,    33.90,3,     2.26,3
    09FA1089_2,      ,   311,  1,   -999,      6,2,19890925,0145,-39.8322, 150.2373, 4318,   2510.7,   1.9320,  34.7270,2,  34.7250,2,    180.7,2,    181.8,2,   108.39,3,    33.54,3,     2.23,3
    09FA1089_2,      ,   311,  1,   -999,     18,2,19890925,0145,-39.8322, 150.2373, 4318,   2885.8,   1.6990,  34.7330,2,  34.7320,2,    185.4,2,    186.4,2,   113.87,3,    34.95,3,     2.22,3
    09FA1089_2,      ,   311,  1,   -999,      3,2,19890925,0145,-39.8322, 150.2373, 4318,   3382.1,   1.3150,  34.7260,2,  34.7240,2,    190.4,2,    191.9,2,   124.71,3,    33.54,3,     2.25,3
    09FA1089_2,      ,   311,  1,   -999,     12,2,19890925,0145,-39.8322, 150.2373, 4318,   3498.1,   1.2330,  34.7230,2,  34.7210,2,    191.6,2,    194.1,2,   124.71,3,    33.54,3,     2.23,3
    09FA1089_2,      ,   311,  1,   -999,      9,2,19890925,0145,-39.8322, 150.2373, 4318,   3996.2,   1.0700,  34.7170,2,  34.7150,2,    194.4,2,    196.2,2,   131.95,3,    33.90,3,     2.26,3
    09FA1089_2,      ,   311,  1,   -999,      4,2,19890925,0145,-39.8322, 150.2373, 4318,   4315.0,   0.9870,  34.7130,2,  34.7130,2,    197.6,2,    198.4,2,   131.95,3,    33.90,3,     2.26,3
    09FA1089_2,      ,   313,  1,   -999,     22,2,19890925,1121,-40.1033, 149.4970, 3972,      3.5,  14.6590,  35.4450,2,  35.4430,2,    250.0,2,    258.6,2,     2.44,3,     2.93,3,     0.41,3
    09FA1089_2,      ,   313,  1,   -999,     20,2,19890925,1121,-40.1033, 149.4970, 3972,     49.4,  14.5580,  35.4390,2,  35.4410,2,    248.3,2,    249.1,2,     2.05,3,     2.75,3,     0.40,3
    09FA1089_2,      ,   313,  1,   -999,      8,2,19890925,1121,-40.1033, 149.4970, 3972,     98.4,  14.2370,  35.4250,2,  35.4240,2,    241.4,2,    250.9,2,     1.86,3,     2.93,3,     0.43,3
    09FA1089_2,      ,   313,  1,   -999,     26,2,19890925,1121,-40.1033, 149.4970, 3972,    128.7,  13.9380,  35.3900,2,  35.3850,2,    240.4,2,    239.8,2,     2.44,3,     4.83,3,     0.53,3
    09FA1089_2,      ,   313,  1,   -999,     19,2,19890925,1121,-40.1033, 149.4970, 3972,    198.9,  13.6230,  35.3680,2,  35.3690,2,    242.4,2,    241.1,2,     2.44,3,     4.83,3,     0.55,3
    09FA1089_2,      ,   313,  1,   -999,     34,2,19890925,1121,-40.1033, 149.4970, 3972,    298.3,  12.1480,  35.0970,2,  35.0980,2,    216.9,2,    212.8,2,     4.30,3,    11.03,3,     0.89,3
    09FA1089_2,      ,   313,  1,   -999,      1,2,19890925,1121,-40.1033, 149.4970, 3972,    398.7,  10.1560,  34.8050,2,  34.8040,2,    220.1,2,    214.6,2,     5.96,3,    16.38,3,     1.17,3
    09FA1089_2,      ,   313,  1,   -999,     31,2,19890925,1121,-40.1033, 149.4970, 3972,    499.4,   9.0090,  34.6420,2,  34.6440,2,    235.6,2,    221.9,2,     7.04,3,    18.96,3,     1.33,3
    09FA1089_2,      ,   313,  1,   -999,     13,2,19890925,1121,-40.1033, 149.4970, 3972,    581.7,   8.3190,  34.5530,2,  34.5540,2,    211.3,2,    223.2,2,     8.60,3,    21.55,3,     1.48,3
    09FA1089_2,      ,   313,  1,   -999,     27,2,19890925,1121,-40.1033, 149.4970, 3972,    799.0,   6.7810,  34.4980,2,  34.4980,2,    184.6,2,    186.5,2,    22.19,3,    28.10,3,     1.86,3
    09FA1089_2,      ,   313,  1,   -999,      3,2,19890925,1121,-40.1033, 149.4970, 3972,    999.8,   5.2440,  34.4600,2,  34.4600,2,    178.5,2,    178.5,2,    38.42,3,    32.24,3,     2.13,3
    09FA1089_2,      ,   313,  1,   -999,     10,2,19890925,1121,-40.1033, 149.4970, 3972,   1031.4,   5.0780,  34.4600,2,  34.4620,2,    178.1,2,    175.8,2,    41.16,3,    32.42,3,     2.07,3
    09FA1089_2,      ,   313,  1,   -999,      5,2,19890925,1121,-40.1033, 149.4970, 3972,   1228.1,   3.9780,  34.4910,2,  34.4890,2,    167.3,2,    167.4,2,    65.20,3,    37.59,3,     2.50,3
    09FA1089_2,      ,   313,  1,   -999,      6,2,19890925,1121,-40.1033, 149.4970, 3972,   1468.9,   3.1380,  34.5540,2,  34.5550,2,    160.1,2,    157.3,2,    89.44,3,    36.38,3,     2.46,3
    09FA1089_2,      ,   313,  1,   -999,     12,2,19890925,1121,-40.1033, 149.4970, 3972,   1499.2,   3.0600,  34.5630,2,  34.5690,2,    159.7,2,    158.2,2,    89.44,3,    36.55,3,     2.41,3
    09FA1089_2,      ,   313,  1,   -999,     17,2,19890925,1121,-40.1033, 149.4970, 3972,   1748.8,   2.6060,  34.6240,2,  34.6260,2,    161.6,2,    161.0,2,    95.01,3,    36.21,3,     2.39,3
    09FA1089_2,      ,   313,  1,   -999,     18,2,19890925,1121,-40.1033, 149.4970, 3972,   1998.7,   2.3170,  34.6750,2,  34.6740,2,    168.4,2,    168.6,2,   100.58,3,    35.69,3,     2.36,3
    09FA1089_2,      ,   313,  1,   -999,     29,2,19890925,1121,-40.1033, 149.4970, 3972,   2168.9,   2.2080,  34.6960,2,  34.6900,2,    172.7,2,    172.6,2,    96.86,3,    35.00,3,     2.44,3
    09FA1089_2,      ,   313,  1,   -999,     24,2,19890925,1121,-40.1033, 149.4970, 3972,   2499.1,   2.0040,  34.7220,2,  34.7210,2,    179.3,2,    179.1,2,   104.39,3,    33.79,3,     2.28,3
    09FA1089_2,      ,   313,  1,   -999,     58,2,19890925,1121,-40.1033, 149.4970, 3972,   2889.7,   1.7460,  34.7350,2,  34.7330,2,    184.3,2,    185.8,2,   111.81,3,    33.62,3,     2.31,3
    09FA1089_2,      ,   313,  1,   -999,      4,2,19890925,1121,-40.1033, 149.4970, 3972,   3377.5,   1.4200,  34.7300,2,  34.7340,3,    189.5,2,    192.6,2,   113.67,3,    33.96,3,     2.23,3
    09FA1089_2,      ,   313,  1,   -999,      9,2,19890925,1121,-40.1033, 149.4970, 3972,   3496.3,   1.3180,  34.7280,2,  34.7240,2,    190.8,2,    194.7,2,   122.96,3,    33.79,3,     2.29,3
    09FA1089_2,      ,   313,  1,   -999,     28,2,19890925,1121,-40.1033, 149.4970, 3972,   3970.8,   1.0210,  34.7180,2,  34.7170,2,    195.7,2,    199.6,2,   128.53,3,    33.96,3,     2.32,3