BOTTLE,20010820WHPSIOKJU
EXPOCODE,SECT_ID,STNNBR,CASTNO,SAMPNO,BTLNBR,BTLNBR_FLAG_W,DATE,TIME,LATITUDE,LONGITUDE,DEPTH,CTDPRS,CTDTMP,CTDSAL,CTDSAL_FLAG_W,SALNTY,SALNTY_FLAG_W,CTDOXY,CTDOXY_FLAG_W,OXYGEN,OXYGEN_FLAG_W,SILCAT,SILCAT_FLAG_W,NO2+NO3,NO2+NO3_FLAG_W,PHSPHT,PHSPHT_FLAG_W
,,,,,,,,,,,,DBR,ITS-90,PSS-78,,PSS-78,,UMOL/KG,,UMOL/KG,,UMOL/KG,,UMOL/KG,,UMOL/KG,
    09FA1089_2,      ,   247,  1,   -999,      1,2,19890916,1627,-34.4117, 168.6942, 1890,   1093.4,   5.1230,  34.5050,2,  34.5060,2,    172.3,2,    170.1,2,    45.55,3,    32.32,3,     2.08,3
    09FA1089_2,      ,   247,  1,   -999,      2,2,19890916,1627,-34.4117, 168.6942, 1890,   1093.4,   5.1230,  34.5050,2,  34.5070,2,    172.3,2,    173.7,2,    47.22,3,    31.53,3,     2.05,3
    09FA1089_2,      ,   247,  1,   -999,      3,2,19890916,1627,-34.4117, 168.6942, 1890,   1093.4,   5.1230,  34.5050,2,  34.5060,2,    172.3,2,    173.4,2,    50.44,3,    34.06,3,     2.29,3
    09FA1089_2,      ,   247,  1,   -999,      5,2,19890916,1627,-34.4117, 168.6942, 1890,   1093.4,   5.1230,  34.5050,2,  34.5060,2,    172.3,2,    174.0,2,    45.55,3,    32.47,3,     2.06,3
    09FA1089_2,      ,   247,  1,   -999,      6,2,19890916,1627,-34.4117, 168.6942, 1890,   1093.4,   5.1230,  34.5050,2,  34.5060,2,    172.3,2,    175.5,2,    47.22,3,    30.89,3,     2.00,3
    09FA1089_2,      ,   247,  1,   -999,      8,2,19890916,1627,-34.4117, 168.6942, 1890,   1093.4,   5.1230,  34.5050,2,  34.5070,2,    172.3,2,    171.6,2,    45.55,3,    32.63,3,     2.03,3
    09FA1089_2,      ,   247,  1,   -999,      9,2,19890916,1627,-34.4117, 168.6942, 1890,   1093.4,   5.1230,  34.5050,2,  34.5040,2,    172.3,2,    174.6,2,    47.22,3,    33.11,3,     2.08,3
    09FA1089_2,      ,   247,  1,   -999,     10,2,19890916,1627,-34.4117, 168.6942, 1890,   1093.4,   5.1230,  34.5050,2,  34.5060,2,    172.3,2,    174.6,2,    47.22,3,    33.58,3,     2.06,3
    09FA1089_2,      ,   247,  1,   -999,     12,2,19890916,1627,-34.4117, 168.6942, 1890,   1093.4,   5.1230,  34.5050,2,  34.5050,2,    172.3,2,    173.4,2,    45.55,3,    31.37,3,     2.00,3
    09FA1089_2,      ,   247,  1,   -999,     13,2,19890916,1627,-34.4117, 168.6942, 1890,   1093.4,   5.1230,  34.5050,2,  34.5060,2,    172.3,2,    172.8,2,    46.34,3,    33.42,3,     2.05,3
    09FA1089_2,      ,   247,  1,   -999,     18,2,19890916,1627,-34.4117, 168.6942, 1890,   1093.4,   5.1230,  34.5050,2,  34.5060,2,    172.3,2,    173.7,2,    45.55,3,    32.95,3,     2.02,3
    09FA1089_2,      ,   247,  1,   -999,     19,2,19890916,1627,-34.4117, 168.6942, 1890,   1093.4,   5.1230,  34.5050,2,  34.5060,2,    172.3,2,    172.8,2,    46.34,3,    32.95,3,     2.10,3
    09FA1089_2,      ,   247,  1,   -999,     20,2,19890916,1627,-34.4117, 168.6942, 1890,   1093.4,   5.1230,  34.5050,2,  34.5060,2,    172.3,2,    172.8,2,  -999.00,5,  -999.00,5,  -999.00,5
    09FA1089_2,      ,   247,  1,   -999,     22,2,19890916,1627,-34.4117, 168.6942, 1890,   1093.4,   5.1230,  34.5050,2,  34.5040,2,    172.3,2,    174.9,2,    47.22,3,    31.84,3,     2.26,3
    09FA1089_2,      ,   247,  1,   -999,     24,2,19890916,1627,-34.4117, 168.6942, 1890,   1093.4,   5.1230,  34.5050,2,  34.5060,2,    172.3,2,   -999.0,5,    48.78,3,    31.18,3,     2.06,3
    09FA1089_2,      ,   247,  1,   -999,     25,2,19890916,1627,-34.4117, 168.6942, 1890,   1093.4,   5.1230,  34.5050,2,  -9.9999,5,    172.3,2,    180.4,2,    45.55,3,    30.40,3,     2.08,3
    09FA1089_2,      ,   247,  1,   -999,     26,2,19890916,1627,-34.4117, 168.6942, 1890,   1093.4,   5.1230,  34.5050,2,  34.5060,2,    172.3,2,    172.8,2,    45.55,3,    32.16,3,     2.03,3
    09FA1089_2,      ,   247,  1,   -999,     27,2,19890916,1627,-34.4117, 168.6942, 1890,   1093.4,   5.1230,  34.5050,2,  34.5060,2,    172.3,2,    172.8,2,    48.78,3,    32.47,3,     2.19,3
    09FA1089_2,      ,   247,  1,   -999,     28,2,19890916,1627,-34.4117, 168.6942, 1890,   1093.4,   5.1230,  34.5050,2,  -9.9999,5,    172.3,2,    173.1,2,    46.34,3,    31.38,3,     2.05,3
    09FA1089_2,      ,   247,  1,   -999,     29,2,19890916,1627,-34.4117, 168.6942, 1890,   1093.4,   5.1230,  34.5050,2,  34.5060,2,    172.3,2,    174.3,2,    45.55,3,    32.63,3,     2.08,3
    09FA1089_2,      ,   247,  1,   -999,     31,2,19890916,1627,-34.4117, 168.6942, 1890,   1093.4,   5.1230,  34.5050,2,  34.5050,2,    172.3,2,    173.1,2,    49.66,3,    34.54,3,     2.22,3
    09FA1089_2,      ,   249,  1,   -999,     11,2,19890916,1941,-34.4183, 169.0898, 1936,      5.6,  16.0900,  35.4630,2,  35.4640,2,    246.6,2,    244.3,2,     1.27,3,     1.84,3,     0.33,3
    09FA1089_2,      ,   249,  1,   -999,      3,2,19890916,1941,-34.4183, 169.0898, 1936,     47.3,  15.6090,  35.4590,2,  35.4580,2,    233.5,2,    232.2,2,     1.47,3,     3.52,3,     0.40,3
    09FA1089_2,      ,   249,  1,   -999,      1,2,19890916,1941,-34.4183, 169.0898, 1936,     98.0,  14.9990,  35.4270,2,  35.4260,2,    228.3,2,    219.3,2,     1.76,3,     5.35,3,     0.47,3
    09FA1089_2,      ,   249,  1,   -999,     28,2,19890916,1941,-34.4183, 169.0898, 1936,    149.2,  13.9370,  35.2790,2,  35.2810,2,    202.6,2,    198.6,2,     3.52,3,     9.79,3,     0.70,3
    09FA1089_2,      ,   249,  1,   -999,     12,2,19890916,1941,-34.4183, 169.0898, 1936,    197.5,  13.5000,  35.2330,2,  35.2290,2,    196.2,2,    195.3,2,     4.30,3,    11.63,3,     0.84,3
    09FA1089_2,      ,   249,  1,   -999,     29,2,19890916,1941,-34.4183, 169.0898, 1936,    297.8,  12.0840,  35.0860,2,  35.0810,2,    190.4,2,    195.2,2,     6.06,3,    15.00,3,     1.05,3
    09FA1089_2,      ,   249,  1,   -999,      5,2,19890916,1941,-34.4183, 169.0898, 1936,    398.2,  10.6400,  34.9030,2,  34.9040,2,    189.5,2,    190.4,2,     8.89,3,    19.12,3,     1.29,3
    09FA1089_2,      ,   249,  1,   -999,     26,2,19890916,1941,-34.4183, 169.0898, 1936,    499.8,   9.4830,  34.7650,2,  34.7640,2,    186.9,2,    186.5,2,    11.73,3,    22.50,3,     1.48,3
    09FA1089_2,      ,   249,  1,   -999,     19,2,19890916,1941,-34.4183, 169.0898, 1936,    599.8,   8.6470,  34.6870,2,  34.6860,2,    185.1,2,    185.3,2,    15.83,3,    25.10,3,     1.65,3
    09FA1089_2,      ,   249,  1,   -999,      8,2,19890916,1941,-34.4183, 169.0898, 1936,    802.2,   7.2180,  34.5750,2,  34.5790,2,    181.7,2,    177.8,2,    23.95,3,    28.92,3,     1.85,3
    09FA1089_2,      ,   249,  1,   -999,      2,2,19890916,1941,-34.4183, 169.0898, 1936,    995.2,   5.7370,  34.5270,2,  34.5330,2,    174.4,2,    172.7,2,    44.28,3,    32.45,3,     2.09,3
    09FA1089_2,      ,   249,  1,   -999,     31,2,19890916,1941,-34.4183, 169.0898, 1936,   1105.4,   5.0320,  34.4990,2,  34.5020,2,    171.0,2,    171.4,2,    52.20,3,    34.44,3,     2.22,3
    09FA1089_2,      ,   249,  1,   -999,     18,2,19890916,1941,-34.4183, 169.0898, 1936,   1289.1,   4.2020,  34.5310,2,  34.5310,2,    165.8,2,    164.5,2,    71.16,3,    36.28,3,     2.35,3
    09FA1089_2,      ,   249,  1,   -999,     10,2,19890916,1941,-34.4183, 169.0898, 1936,   1489.2,   3.3020,  34.5710,2,  34.5720,2,    158.3,2,    157.0,2,    91.79,3,    37.04,3,     2.46,3
    09FA1089_2,      ,   249,  1,   -999,     13,2,19890916,1941,-34.4183, 169.0898, 1936,   1752.0,   2.7250,  34.6130,2,  34.6110,2,    153.1,2,    151.9,2,   109.97,3,  -999.00,5,     2.55,3
    09FA1089_2,      ,   249,  1,   -999,      4,2,19890916,1941,-34.4183, 169.0898, 1936,   1935.4,   2.4160,  34.6400,2,  34.6370,2,    150.9,2,    151.3,2,   118.66,3,  -999.00,5,     2.58,3
    09FA1089_2,      ,   251,  1,   -999,     11,2,19890916,2315,-34.4155, 169.4958, 2140,      4.4,  15.8030,  35.4610,2,  35.4610,2,    210.7,2,    245.7,2,     1.47,3,     2.14,3,     0.39,3
    09FA1089_2,      ,   251,  1,   -999,      3,2,19890916,2315,-34.4155, 169.4958, 2140,     98.9,  15.2350,  35.4700,2,  35.4670,2,    233.1,2,    235.2,2,     1.27,3,     3.52,3,     0.42,3
    09FA1089_2,      ,   251,  1,   -999,      1,2,19890916,2315,-34.4155, 169.4958, 2140,    166.2,  14.3340,  35.3520,2,  35.3510,2,    208.2,2,    213.9,2,     2.54,3,     8.72,3,     0.50,3
    09FA1089_2,      ,   251,  1,   -999,     28,2,19890916,2315,-34.4155, 169.4958, 2140,    299.0,  12.1550,  35.0990,2,  35.0950,2,    192.6,2,    194.0,2,     6.16,3,    16.68,3,     1.02,3
    09FA1089_2,      ,   251,  1,   -999,     12,2,19890916,2315,-34.4155, 169.4958, 2140,    399.0,  10.8210,  34.9230,2,  34.9260,2,    188.3,2,    189.5,2,     8.11,3,    20.50,3,     1.23,3
    09FA1089_2,      ,   251,  1,   -999,     29,2,19890916,2315,-34.4155, 169.4958, 2140,    499.4,   9.3850,  34.7500,2,  34.7510,2,    186.5,2,    189.2,2,    11.44,3,    24.80,3,     1.48,3
    09FA1089_2,      ,   251,  1,   -999,      5,2,19890916,2315,-34.4155, 169.4958, 2140,    599.7,   8.6010,  34.6790,2,  34.6760,2,    184.2,2,    185.6,2,    15.54,3,    26.94,3,     1.59,3
    09FA1089_2,      ,   251,  1,   -999,     26,2,19890916,2315,-34.4155, 169.4958, 2140,    799.0,   7.2660,  34.5720,2,  34.5760,2,    178.5,2,    179.9,2,    22.58,3,    30.30,3,     1.79,3
    09FA1089_2,      ,   251,  1,   -999,     19,2,19890916,2315,-34.4155, 169.4958, 2140,    968.5,   5.6760,  34.5060,2,  34.5080,2,    173.3,2,    175.7,2,  -999.00,5,    34.60,3,     2.06,3
    09FA1089_2,      ,   251,  1,   -999,      8,2,19890916,2315,-34.4155, 169.4958, 2140,   1168.4,   4.4390,  34.5060,2,  34.5140,2,    165.6,2,    168.4,2,  -999.00,5,    36.89,3,     2.27,3
    09FA1089_2,      ,   251,  1,   -999,      2,2,19890916,2315,-34.4155, 169.4958, 2140,   1248.3,   4.1140,  34.5170,2,  34.5230,2,    161.5,2,    165.7,2,    69.60,3,  -999.00,5,     2.35,3
    09FA1089_2,      ,   251,  1,   -999,     31,2,19890916,2315,-34.4155, 169.4958, 2140,   1398.0,   3.3470,  34.5650,2,  34.5640,2,    156.8,2,    157.3,2,    85.43,3,  -999.00,5,     2.38,3
    09FA1089_2,      ,   251,  1,   -999,     18,2,19890916,2315,-34.4155, 169.4958, 2140,   1497.9,   3.1780,  34.5770,2,  34.5790,2,    155.7,2,    155.8,2,    86.22,3,  -999.00,5,     2.28,3
    09FA1089_2,      ,   251,  1,   -999,     10,2,19890916,2315,-34.4155, 169.4958, 2140,   1748.4,   2.6830,  34.6160,2,  34.6110,2,    152.2,2,    152.2,2,    99.70,3,  -999.00,5,     2.31,3
    09FA1089_2,      ,   251,  1,   -999,     13,2,19890916,2315,-34.4155, 169.4958, 2140,   1996.3,   2.5070,  34.6340,2,  34.6270,2,    150.2,2,    151.6,2,   104.39,3,  -999.00,5,     2.30,3
    09FA1089_2,      ,   251,  1,   -999,      4,2,19890916,2315,-34.4155, 169.4958, 2140,   2138.0,   2.3960,  34.6430,2,  34.6420,2,    149.8,2,    152.2,2,  -999.00,5,  -999.00,5,  -999.00,5
    09FA1089_2,      ,   253,  1,   -999,     11,2,19890917,0335,-34.4080, 170.1065, 2000,      3.8,  16.1390,  35.4770,2,  35.4770,2,    246.1,2,    245.2,2,     1.56,3,     2.45,3,  -999.00,5
    09FA1089_2,      ,   253,  1,   -999,      3,2,19890917,0335,-34.4080, 170.1065, 2000,     49.3,  15.7190,  35.4610,2,  35.4600,2,    240.2,2,    240.0,2,     1.56,3,     3.36,3,  -999.00,5
    09FA1089_2,      ,   253,  1,   -999,      1,2,19890917,0335,-34.4080, 170.1065, 2000,     99.3,  15.6380,  35.4560,2,  35.4570,2,    239.0,2,    237.3,2,     1.76,3,     4.28,3,     0.52,3
    09FA1089_2,      ,   253,  1,   -999,     28,2,19890917,0335,-34.4080, 170.1065, 2000,    148.2,  14.8020,  35.3950,2,  35.3940,2,    233.2,2,    222.6,2,     2.25,3,     7.03,3,     0.55,3
    09FA1089_2,      ,   253,  1,   -999,     12,2,19890917,0335,-34.4080, 170.1065, 2000,    188.7,  13.7860,  35.2720,2,  35.2690,2,    205.9,2,    202.5,2,     4.10,3,    12.70,3,     0.80,3
    09FA1089_2,      ,   253,  1,   -999,      5,2,19890917,0335,-34.4080, 170.1065, 2000,    397.7,   9.7910,  34.8040,2,  34.8040,2,    188.8,2,    188.3,2,    11.04,3,    24.79,3,     1.41,3
    09FA1089_2,      ,   253,  1,   -999,     26,2,19890917,0335,-34.4080, 170.1065, 2000,    497.3,   8.7900,  34.7080,2,  34.7110,2,    186.3,2,    185.9,2,    15.83,3,    27.70,3,     1.57,3
    09FA1089_2,      ,   253,  1,   -999,     19,2,19890917,0335,-34.4080, 170.1065, 2000,    598.6,   8.1380,  34.6520,2,  34.6530,2,    185.5,2,    186.2,2,    19.35,3,    29.54,3,     1.69,3
    09FA1089_2,      ,   253,  1,   -999,      8,2,19890917,0335,-34.4080, 170.1065, 2000,    798.5,   6.4260,  34.5340,2,  34.5290,2,    180.1,2,    179.9,2,    30.60,3,    34.14,3,     1.97,3
    09FA1089_2,      ,   253,  1,   -999,      2,2,19890917,0335,-34.4080, 170.1065, 2000,    997.8,   5.2790,  34.5060,2,  34.5100,2,    173.3,2,    173.6,2,    49.85,3,    36.74,3,     2.18,3
    09FA1089_2,      ,   253,  1,   -999,     31,2,19890917,0335,-34.4080, 170.1065, 2000,   1078.4,   4.8390,  34.5030,2,  34.5050,2,    170.4,2,    170.3,2,    55.43,3,  -999.00,5,     2.25,3
    09FA1089_2,      ,   253,  1,   -999,     18,2,19890917,0335,-34.4080, 170.1065, 2000,   1208.5,   4.2410,  34.5110,2,  34.5120,2,    166.0,2,    166.3,2,    65.69,3,  -999.00,5,     2.35,3
    09FA1089_2,      ,   253,  1,   -999,     10,2,19890917,0335,-34.4080, 170.1065, 2000,   1438.9,   3.3320,  34.5620,2,  34.5610,2,    158.5,2,    156.7,2,    90.22,3,  -999.00,5,     2.48,3
    09FA1089_2,      ,   253,  1,   -999,     13,2,19890917,0335,-34.4080, 170.1065, 2000,   1749.6,   2.6000,  34.6240,2,  34.6230,2,    151.7,2,    150.7,2,   112.31,3,  -999.00,5,     2.56,3
    09FA1089_2,      ,   255,  1,   -999,     11,2,19890917,0740,-34.4148, 170.6190, 1742,     48.9,  15.9420,  35.4870,2,  35.4830,2,    226.7,2,    238.8,2,     1.27,3,     2.30,3,     0.39,3
    09FA1089_2,      ,   255,  1,   -999,      3,2,19890917,0740,-34.4148, 170.6190, 1742,     98.0,  15.6450,  35.4630,2,  35.4630,2,    208.9,2,    232.5,2,     1.56,3,     4.59,3,     0.46,3
    09FA1089_2,      ,   255,  1,   -999,      1,2,19890917,0740,-34.4148, 170.6190, 1742,    148.8,  14.8020,  35.3690,2,  35.3680,2,    203.3,2,    203.4,2,     2.83,3,     9.49,3,     0.65,3
    09FA1089_2,      ,   255,  1,   -999,     28,2,19890917,0740,-34.4148, 170.6190, 1742,    172.9,  14.1980,  35.3020,2,  35.3030,2,    202.5,2,    201.0,2,     3.61,3,    11.63,3,     0.74,3
    09FA1089_2,      ,   255,  1,   -999,     12,2,19890917,0740,-34.4148, 170.6190, 1742,    199.4,  13.5980,  35.2500,2,  35.2500,2,    192.3,2,    194.1,2,     4.30,3,    13.31,3,     0.82,3
    09FA1089_2,      ,   255,  1,   -999,     29,2,19890917,0740,-34.4148, 170.6190, 1742,    298.4,  12.2500,  35.0960,2,  35.0980,2,    188.5,2,    198.0,2,     3.62,3,    17.74,3,     1.02,3
    09FA1089_2,      ,   255,  1,   -999,      5,2,19890917,0740,-34.4148, 170.6190, 1742,    398.6,  10.9610,  34.9430,2,  34.9520,2,    185.9,2,    193.1,2,     8.89,3,    21.58,3,     1.26,3
    09FA1089_2,      ,   255,  1,   -999,     26,2,19890917,0740,-34.4148, 170.6190, 1742,    497.6,   9.7520,  34.8080,2,  34.8080,2,    186.7,2,    190.1,2,    12.61,3,    25.10,3,     1.42,3
    09FA1089_2,      ,   255,  1,   -999,     20,2,19890917,0740,-34.4148, 170.6190, 1742,    597.0,   8.9190,  34.7250,2,  34.7270,2,    182.2,2,    188.9,2,    16.03,3,    27.40,3,     1.54,3
    09FA1089_2,      ,   255,  1,   -999,      8,2,19890917,0740,-34.4148, 170.6190, 1742,    798.3,   7.1120,  34.5720,2,  34.5750,2,    177.5,2,    183.5,2,    26.10,3,    32.45,3,     1.87,3
    09FA1089_2,      ,   255,  1,   -999,      2,2,19890917,0740,-34.4148, 170.6190, 1742,    999.2,   5.6900,  34.5100,2,  34.5230,2,    169.9,2,    180.8,2,    41.15,3,    35.82,3,     2.06,3
    09FA1089_2,      ,   255,  1,   -999,     31,2,19890917,0740,-34.4148, 170.6190, 1742,   1173.3,   4.4780,  34.4990,2,  34.5000,2,    164.5,2,    169.6,2,    60.12,3,  -999.00,5,     2.31,3
    09FA1089_2,      ,   255,  1,   -999,     18,2,19890917,0740,-34.4148, 170.6190, 1742,   1248.9,   3.9800,  34.5140,2,  34.5110,2,    158.3,2,    163.9,2,    70.48,3,  -999.00,5,     2.39,3
    09FA1089_2,      ,   255,  1,   -999,     10,2,19890917,0740,-34.4148, 170.6190, 1742,   1457.5,   3.3320,  34.5660,2,  34.5640,2,    152.2,2,    156.1,2,    87.78,3,  -999.00,5,     2.48,3
    09FA1089_2,      ,   255,  1,   -999,      4,2,19890917,0740,-34.4148, 170.6190, 1742,   1742.6,   2.7610,  34.6100,2,  34.6110,2,    152.2,2,    151.9,2,   105.27,3,  -999.00,5,     2.53,3
    09FA1089_2,      ,   255,  1,   -999,     13,2,19890917,0740,-34.4148, 170.6190, 1742,   1742.6,   2.7610,  34.6100,2,  34.6120,2,    152.2,2,    155.8,2,   106.06,3,  -999.00,5,     2.55,3
    09FA1089_2,      ,   257,  1,   -999,     11,2,19890917,1053,-34.4127, 170.9978, 1724,      4.9,  16.1460,  35.4720,2,  35.4700,2,    247.7,2,    242.4,2,     1.56,3,     1.96,3,     0.36,3
    09FA1089_2,      ,   257,  1,   -999,      3,2,19890917,1053,-34.4127, 170.9978, 1724,     48.4,  15.6700,  35.4590,2,  35.4580,2,    247.5,2,    234.9,2,     1.76,3,     3.57,3,     0.42,3
    09FA1089_2,      ,   257,  1,   -999,      1,2,19890917,1053,-34.4127, 170.9978, 1724,     98.1,  15.3700,  35.4310,2,  35.4310,2,    233.2,2,    221.2,2,     2.05,3,     5.35,3,     0.50,3
    09FA1089_2,      ,   257,  1,   -999,     28,2,19890917,1053,-34.4127, 170.9978, 1724,    148.1,  14.3120,  35.3140,2,  35.3100,2,    213.8,2,    201.6,2,     3.42,3,     9.82,3,     0.75,3
    09FA1089_2,      ,   257,  1,   -999,     12,2,19890917,1053,-34.4127, 170.9978, 1724,    204.6,  13.2070,  35.2030,2,  35.2020,2,    200.4,2,    193.8,2,     4.89,3,    12.50,3,     0.89,3
    09FA1089_2,      ,   257,  1,   -999,     29,2,19890917,1053,-34.4127, 170.9978, 1724,    298.7,  11.8140,  35.0400,2,  35.0400,2,    193.7,2,    187.8,2,     7.72,3,    16.60,3,     1.12,3
    09FA1089_2,      ,   257,  1,   -999,      5,2,19890917,1053,-34.4127, 170.9978, 1724,    398.0,  10.7160,  34.9120,2,  34.9120,2,    189.7,2,    191.8,2,     9.48,3,    19.82,3,     1.29,3
    09FA1089_2,      ,   257,  1,   -999,     26,2,19890917,1053,-34.4127, 170.9978, 1724,    498.5,   9.4520,  34.7690,2,  34.7710,2,    186.5,2,    187.2,2,    12.61,3,    23.39,3,     1.50,3
    09FA1089_2,      ,   257,  1,   -999,     20,2,19890917,1053,-34.4127, 170.9978, 1724,    599.2,   8.3980,  34.6630,2,  34.6650,2,    184.5,2,    189.9,2,    16.52,3,    26.61,3,     1.65,3
    09FA1089_2,      ,   257,  1,   -999,      8,2,19890917,1053,-34.4127, 170.9978, 1724,    798.0,   6.6610,  34.5430,2,  34.5490,2,    180.3,2,    180.0,2,    27.57,3,    30.89,3,     1.96,3
    09FA1089_2,      ,   257,  1,   -999,     27,2,19890917,1053,-34.4127, 170.9978, 1724,    998.1,   5.4880,  34.5120,2,  34.5140,2,    174.0,2,    172.8,2,    45.75,3,    34.28,3,     2.16,3
    09FA1089_2,      ,   257,  1,   -999,     31,2,19890917,1053,-34.4127, 170.9978, 1724,   1177.6,   4.5780,  34.5040,2,  34.5050,2,    169.3,2,    167.8,2,    58.36,3,    36.61,3,     2.30,3
    09FA1089_2,      ,   257,  1,   -999,     18,2,19890917,1053,-34.4127, 170.9978, 1724,   1273.0,   4.1790,  34.5080,2,  34.5090,2,    165.5,2,    164.7,2,    64.62,3,    37.86,3,     2.36,3
    09FA1089_2,      ,   257,  1,   -999,     10,2,19890917,1053,-34.4127, 170.9978, 1724,   1484.6,   3.3270,  34.5620,2,  34.5630,2,    157.2,2,    156.3,2,    86.70,3,    39.46,3,     2.50,3
    09FA1089_2,      ,   257,  1,   -999,     13,2,19890917,1053,-34.4127, 170.9978, 1724,   1499.3,   3.2950,  34.5650,2,  34.5640,2,    156.6,2,    157.5,2,    86.70,3,    39.64,3,     2.50,3
    09FA1089_2,      ,   257,  1,   -999,      4,2,19890917,1053,-34.4127, 170.9978, 1724,   1723.8,   2.6110,  34.6230,2,  34.6190,2,    150.6,2,    150.4,2,   107.23,3,    40.89,3,     2.59,3