BOTTLE,20010820WHPSIOKJU
EXPOCODE,SECT_ID,STNNBR,CASTNO,SAMPNO,BTLNBR,BTLNBR_FLAG_W,DATE,TIME,LATITUDE,LONGITUDE,DEPTH,CTDPRS,CTDTMP,CTDSAL,CTDSAL_FLAG_W,SALNTY,SALNTY_FLAG_W,CTDOXY,CTDOXY_FLAG_W,OXYGEN,OXYGEN_FLAG_W,SILCAT,SILCAT_FLAG_W,NO2+NO3,NO2+NO3_FLAG_W,PHSPHT,PHSPHT_FLAG_W
,,,,,,,,,,,,DBR,ITS-90,PSS-78,,PSS-78,,UMOL/KG,,UMOL/KG,,UMOL/KG,,UMOL/KG,,UMOL/KG,
    09FA1089_2,      ,   299,  1,   -999,     22,2,19890922,1136,-37.9938, 157.2853, 4836,      5.7,  14.7510,  35.4410,2,  35.4400,2,    255.1,2,    249.1,2,     1.86,3,     0.93,3,     0.40,3
    09FA1089_2,      ,   299,  1,   -999,      5,2,19890922,1136,-37.9938, 157.2853, 4836,     25.8,  14.7550,  35.4410,2,  35.4400,2,    250.4,2,    248.8,2,     1.86,3,     1.11,3,     0.40,3
    09FA1089_2,      ,   299,  1,   -999,      2,2,19890922,1136,-37.9938, 157.2853, 4836,     99.6,  14.4870,  35.4200,2,  35.4170,2,    238.6,2,    236.7,2,     2.25,3,     2.60,3,     0.49,3
    09FA1089_2,      ,   299,  1,   -999,     23,2,19890922,1136,-37.9938, 157.2853, 4836,    124.2,  14.1530,  35.3640,2,  35.3750,2,    227.6,2,    224.6,2,     2.93,3,     3.90,3,     0.61,3
    09FA1089_2,      ,   299,  1,   -999,     58,2,19890922,1136,-37.9938, 157.2853, 4836,    198.6,  13.0060,  35.2180,2,  35.2180,2,    205.6,2,    205.4,2,     4.10,3,     9.28,3,     0.92,3
    09FA1089_2,      ,   299,  1,   -999,     26,2,19890922,1136,-37.9938, 157.2853, 4836,    299.2,  11.6040,  35.0260,2,  35.0250,2,    201.2,2,    198.2,2,     5.47,3,    13.17,3,     1.07,3
    09FA1089_2,      ,   299,  1,   -999,     19,2,19890922,1136,-37.9938, 157.2853, 4836,    399.1,  10.3200,  34.8420,2,  34.8420,2,    200.3,2,    200.1,2,     7.04,3,    17.26,3,     1.22,3
    09FA1089_2,      ,   299,  1,   -999,      1,2,19890922,1136,-37.9938, 157.2853, 4836,    501.1,   9.1690,  34.6830,2,  34.6820,2,    203.3,2,    203.5,2,     9.48,3,    23.58,3,     1.61,3
    09FA1089_2,      ,   299,  1,   -999,     31,2,19890922,1136,-37.9938, 157.2853, 4836,    599.5,   8.3630,  34.6070,2,  34.6070,2,    192.2,2,    193.3,2,    14.56,3,    28.22,3,  -999.00,5
    09FA1089_2,      ,   299,  1,   -999,     13,2,19890922,1136,-37.9938, 157.2853, 4836,    806.1,   6.9580,  34.5090,2,  34.5110,2,    184.7,2,   -999.0,5,  -999.00,5,  -999.00,5,  -999.00,5
    09FA1089_2,      ,   299,  1,   -999,     27,2,19890922,1136,-37.9938, 157.2853, 4836,    999.0,   5.3930,  34.4480,2,  34.4490,2,    180.1,2,    180.5,2,  -999.00,5,  -999.00,5,  -999.00,5
    09FA1089_2,      ,   299,  1,   -999,     10,2,19890922,1136,-37.9938, 157.2853, 4836,   1145.2,   4.4420,  34.4410,2,  34.4420,2,    178.5,2,    176.8,2,  -999.00,5,  -999.00,5,  -999.00,5
    09FA1089_2,      ,   299,  1,   -999,      8,2,19890922,1136,-37.9938, 157.2853, 4836,   1245.0,   3.9140,  34.4610,2,  34.4630,2,    170.7,2,    172.7,2,    52.10,3,    36.01,3,     2.43,3
    09FA1089_2,      ,   299,  1,   -999,     24,2,19890922,1136,-37.9938, 157.2853, 4836,   1479.6,   3.2360,  34.5550,2,  34.5550,2,    159.6,2,    154.7,2,  -999.00,5,  -999.00,5,  -999.00,5
    09FA1089_2,      ,   299,  1,   -999,     29,2,19890922,1136,-37.9938, 157.2853, 4836,   1751.2,   2.6780,  34.6190,2,  34.6150,2,    158.6,2,    156.9,2,    65.88,3,  -999.00,5,  -999.00,5
    09FA1089_2,      ,   299,  1,   -999,     20,2,19890922,1136,-37.9938, 157.2853, 4836,   2001.3,   2.3700,  34.6640,2,  34.6650,2,    167.9,2,    165.6,2,  -999.00,5,  -999.00,5,  -999.00,5
    09FA1089_2,      ,   299,  1,   -999,     17,2,19890922,1136,-37.9938, 157.2853, 4836,   2199.0,   2.1940,  34.6950,2,  34.6930,2,    173.6,2,    172.7,2,    88.06,3,    37.86,3,     2.57,3
    09FA1089_2,      ,   299,  1,   -999,      6,2,19890922,1136,-37.9938, 157.2853, 4836,   2534.5,   1.9320,  34.7250,2,  34.7230,2,    180.3,2,    181.6,2,    90.41,3,  -999.00,5,  -999.00,5
    09FA1089_2,      ,   299,  1,   -999,     18,2,19890922,1136,-37.9938, 157.2853, 4836,   2847.5,   1.6640,  34.7300,2,  34.7320,2,    184.7,2,    186.6,2,   105.75,3,    33.42,3,     2.24,3
    09FA1089_2,      ,   299,  1,   -999,      3,2,19890922,1136,-37.9938, 157.2853, 4836,   3388.5,   1.2900,  34.7240,2,  34.7220,2,    189.7,2,    199.3,3,   118.75,3,    34.72,3,     2.31,3
    09FA1089_2,      ,   299,  1,   -999,     12,2,19890922,1136,-37.9938, 157.2853, 4836,   3998.2,   1.1330,  34.7180,2,  34.7160,2,    192.6,2,    196.1,2,  -999.00,5,  -999.00,5,  -999.00,5
    09FA1089_2,      ,   299,  1,   -999,      9,2,19890922,1136,-37.9938, 157.2853, 4836,   4498.2,   1.0640,  34.7130,2,  34.7120,2,    195.4,2,    197.7,2,   124.13,3,    35.46,3,     2.39,3
    09FA1089_2,      ,   299,  1,   -999,      4,2,19890922,1136,-37.9938, 157.2853, 4836,   4834.4,   1.0620,  34.7120,2,  34.7130,2,    196.9,2,    198.7,2,   125.60,3,    35.27,3,     2.38,3
    09FA1089_2,      ,   301,  1,   -999,     22,2,19890922,2222,-37.9937, 156.0770, 4352,      4.8,  15.4090,  35.4860,2,  35.4870,2,    230.7,2,   -999.0,5,     2.25,3,     1.83,3,     0.41,3
    09FA1089_2,      ,   301,  1,   -999,      5,2,19890922,2222,-37.9937, 156.0770, 4352,    109.0,  15.4300,  35.4940,2,  35.4950,2,    230.1,2,    239.0,2,     2.15,3,     1.65,3,     0.46,3
    09FA1089_2,      ,   301,  1,   -999,     34,2,19890922,2222,-37.9937, 156.0770, 4352,    197.8,  14.8780,  35.4480,2,  35.4470,2,    235.4,2,    233.4,2,     2.44,3,     2.38,3,     0.52,3
    09FA1089_2,      ,   301,  1,   -999,      2,2,19890922,2222,-37.9937, 156.0770, 4352,    255.1,  14.4630,  35.4200,2,  35.4210,2,    201.4,2,    240.5,2,     2.25,3,     2.38,3,     0.49,3
    09FA1089_2,      ,   301,  1,   -999,     58,2,19890922,2222,-37.9937, 156.0770, 4352,    298.0,  13.6630,  35.2980,2,  35.2980,2,    202.1,2,    203.2,2,     3.71,3,     7.52,3,  -999.00,5
    09FA1089_2,      ,   301,  1,   -999,     26,2,19890922,2222,-37.9937, 156.0770, 4352,    399.0,  11.9000,  35.0640,2,  35.0630,2,    208.3,2,    204.4,2,     5.08,3,    11.34,3,     1.02,3
    09FA1089_2,      ,   301,  1,   -999,     19,2,19890922,2222,-37.9937, 156.0770, 4352,    497.7,  10.3890,  34.8440,2,  34.8450,2,    207.8,2,    207.5,2,     6.16,3,    15.38,3,     1.19,3
    09FA1089_2,      ,   301,  1,   -999,      1,2,19890922,2222,-37.9937, 156.0770, 4352,    597.6,   9.1460,  34.6660,2,  34.6680,2,    183.6,2,    213.3,2,     7.62,3,    18.86,3,     1.37,3
    09FA1089_2,      ,   301,  1,   -999,     13,2,19890922,2222,-37.9937, 156.0770, 4352,    998.2,   5.9140,  34.4570,2,  34.4610,2,    172.4,2,    182.2,2,    29.33,3,    30.76,3,     2.01,3
    09FA1089_2,      ,   301,  1,   -999,     27,2,19890922,2222,-37.9937, 156.0770, 4352,   1049.1,   5.5460,  34.4550,2,  34.4570,2,    162.5,2,    179.2,2,    34.02,3,    32.05,3,     2.10,3
    09FA1089_2,      ,   301,  1,   -999,     10,2,19890922,2222,-37.9937, 156.0770, 4352,   1303.7,   4.0020,  34.4680,2,  34.4680,2,    159.7,2,    170.8,2,    61.39,3,    34.79,3,     2.30,3
    09FA1089_2,      ,   301,  1,   -999,      8,2,19890922,2222,-37.9937, 156.0770, 4352,   1521.5,   3.2150,  34.5410,2,  34.5440,2,    165.8,2,    158.5,2,    83.19,3,    36.80,3,     2.47,3
    09FA1089_2,      ,   301,  1,   -999,     24,2,19890922,2222,-37.9937, 156.0770, 4352,   1749.3,   2.7260,  34.6080,2,  34.6080,2,    172.9,2,    156.7,2,    95.89,3,    37.17,3,     2.49,3
    09FA1089_2,      ,   301,  1,   -999,     29,2,19890922,2222,-37.9937, 156.0770, 4352,   1998.7,   2.4110,  34.6580,2,  34.6570,2,    179.3,2,    164.6,2,    97.35,3,    36.25,3,     2.41,3
    09FA1089_2,      ,   301,  1,   -999,     20,2,19890922,2222,-37.9937, 156.0770, 4352,   2254.1,   2.2100,  34.6940,2,  34.6910,2,    180.3,2,    178.7,2,    97.35,3,    34.99,3,  -999.00,5
    09FA1089_2,      ,   301,  1,   -999,     17,2,19890922,2222,-37.9937, 156.0770, 4352,   2499.2,   2.0230,  34.7190,2,  34.7150,2,    190.3,2,    179.7,2,   100.38,3,    33.88,3,     2.30,3
    09FA1089_2,      ,   301,  1,   -999,      6,2,19890922,2222,-37.9937, 156.0770, 4352,   2588.4,   1.9650,  34.7240,2,  34.7210,2,    193.0,2,    181.5,2,   101.84,3,    34.05,3,     2.30,3
    09FA1089_2,      ,   301,  1,   -999,      3,2,19890922,2222,-37.9937, 156.0770, 4352,   3397.9,   1.3070,  34.7240,2,  34.7230,2,    193.0,2,   -999.0,5,   119.83,3,    34.21,3,     2.25,3
    09FA1089_2,      ,   301,  1,   -999,     12,2,19890922,2222,-37.9937, 156.0770, 4352,   3497.1,   1.2560,  34.7230,2,  34.7220,2,    193.0,2,   -999.0,5,   119.83,3,    34.05,3,     2.33,3
    09FA1089_2,      ,   301,  1,   -999,      4,2,19890922,2222,-37.9937, 156.0770, 4352,   4346.8,   1.0910,  34.7160,2,  34.7140,2,    193.0,2,   -999.0,5,   127.35,3,    35.16,3,     2.32,3
    09FA1089_2,      ,   303,  1,   -999,     22,2,19890923,0825,-38.0082, 154.8888, 4444,      5.4,  15.4620,  35.4640,2,  35.4640,2,    245.5,2,    241.1,2,     1.76,3,     0.92,3,     0.41,3
    09FA1089_2,      ,   303,  1,   -999,      5,2,19890923,0825,-38.0082, 154.8888, 4444,     47.0,  15.4340,  35.4650,2,  35.4620,2,    237.9,2,    240.2,2,     1.66,3,     0.92,3,     0.41,3
    09FA1089_2,      ,   303,  1,   -999,     34,2,19890923,0825,-38.0082, 154.8888, 4444,    112.9,  15.2950,  35.5010,2,  35.4980,2,    231.2,2,    231.3,2,     1.95,3,     1.28,3,     0.47,3
    09FA1089_2,      ,   303,  1,   -999,      2,2,19890923,0825,-38.0082, 154.8888, 4444,    149.3,  15.1410,  35.4800,2,  35.4780,2,    231.3,2,    236.8,2,     1.95,3,     1.47,3,     0.46,3
    09FA1089_2,      ,   303,  1,   -999,     58,2,19890923,0825,-38.0082, 154.8888, 4444,    198.3,  14.8590,  35.4500,2,  35.4480,2,    230.6,2,    227.0,2,     2.25,3,     2.01,3,     0.53,3
    09FA1089_2,      ,   303,  1,   -999,     26,2,19890923,0825,-38.0082, 154.8888, 4444,    268.1,  14.1630,  35.3630,2,  35.3700,2,    217.2,2,    216.8,2,     2.83,3,     3.66,3,     0.64,3
    09FA1089_2,      ,   303,  1,   -999,     19,2,19890923,0825,-38.0082, 154.8888, 4444,    399.5,  12.1890,  35.1140,2,  35.1210,2,    200.6,2,    208.4,2,     4.30,3,     8.97,3,     0.91,3
    09FA1089_2,      ,   303,  1,   -999,      1,2,19890923,0825,-38.0082, 154.8888, 4444,    497.3,  10.3690,  34.8430,2,  34.8570,2,    197.7,2,    198.0,2,     7.33,3,    17.57,3,     1.30,3
    09FA1089_2,      ,   303,  1,   -999,     31,2,19890923,0825,-38.0082, 154.8888, 4444,    598.8,   8.9860,  34.6510,2,  34.6560,2,    200.7,2,    209.9,2,     8.21,3,    18.86,3,     1.37,3
    09FA1089_2,      ,   303,  1,   -999,     13,2,19890923,0825,-38.0082, 154.8888, 4444,    798.4,   7.5490,  34.5450,2,  34.5480,2,    187.2,2,    187.8,2,    17.99,3,    26.92,3,     1.81,3
    09FA1089_2,      ,   303,  1,   -999,     27,2,19890923,0825,-38.0082, 154.8888, 4444,   1000.1,   6.0300,  34.4710,2,  34.4750,2,    181.4,2,    182.0,2,  -999.00,5,  -999.00,5,  -999.00,5
    09FA1089_2,      ,   303,  1,   -999,     10,2,19890923,0825,-38.0082, 154.8888, 4444,   1056.0,   5.5520,  34.4560,2,  34.4590,2,    181.7,2,    178.8,2,    35.19,3,    31.50,3,     2.19,3
    09FA1089_2,      ,   303,  1,   -999,      8,2,19890923,0825,-38.0082, 154.8888, 4444,   1317.0,   4.0670,  34.4870,2,  34.4910,2,    169.4,2,    167.4,2,    61.39,3,    33.15,3,     2.32,3
    09FA1089_2,      ,   303,  1,   -999,     24,2,19890923,0825,-38.0082, 154.8888, 4444,   1546.2,   3.2410,  34.5550,2,  34.5540,2,    159.3,2,    155.4,2,    85.43,3,    35.71,3,     2.44,3
    09FA1089_2,      ,   303,  1,   -999,     29,2,19890923,0825,-38.0082, 154.8888, 4444,   1749.0,   2.7420,  34.6070,2,  34.6070,2,    159.6,2,    156.3,2,    92.18,3,    36.08,3,     2.52,3
    09FA1089_2,      ,   303,  1,   -999,     20,2,19890923,0825,-38.0082, 154.8888, 4444,   1999.0,   2.3990,  34.6590,2,  34.6590,2,    165.4,2,    165.2,2,    92.86,3,    36.08,3,     2.56,3
    09FA1089_2,      ,   303,  1,   -999,     17,2,19890923,0825,-38.0082, 154.8888, 4444,   2248.2,   2.1960,  34.6950,2,  34.6930,2,    173.7,2,    172.0,2,  -999.00,5,  -999.00,5,  -999.00,5
    09FA1089_2,      ,   303,  1,   -999,      6,2,19890923,0825,-38.0082, 154.8888, 4444,   2594.3,   1.9020,  34.7280,2,  34.7240,2,    180.8,2,    181.8,2,   101.84,3,    32.04,3,     2.25,3
    09FA1089_2,      ,   303,  1,   -999,     18,2,19890923,0825,-38.0082, 154.8888, 4444,   2902.9,   1.6970,  34.7340,2,  34.7320,2,    184.5,2,    190.7,2,   108.59,3,    31.86,3,     2.25,3
    09FA1089_2,      ,   303,  1,   -999,      3,2,19890923,0825,-38.0082, 154.8888, 4444,   3197.5,   1.5480,  34.7310,2,  34.7290,2,    187.7,2,    190.7,2,   112.30,3,    32.22,3,     2.29,3
    09FA1089_2,      ,   303,  1,   -999,     12,2,19890923,0825,-38.0082, 154.8888, 4444,   3483.8,   1.2930,  34.7240,2,  34.7220,2,    190.2,2,    191.9,2,   115.33,3,    32.96,3,     2.35,3
    09FA1089_2,      ,   303,  1,   -999,      4,2,19890923,0825,-38.0082, 154.8888, 4444,   4441.3,   1.1020,  34.7160,2,  34.7110,2,    190.2,2,    197.2,2,   125.79,3,    32.77,3,     2.27,3
    09FA1089_2,      ,   305,  1,   -999,     22,2,19890923,2319,-38.5798, 153.5472, 4600,      4.2,  14.7610,  35.4060,2,  35.4060,2,    248.0,2,    251.9,2,     1.47,3,     1.48,3,     0.39,3
    09FA1089_2,      ,   305,  1,   -999,      5,2,19890923,2319,-38.5798, 153.5472, 4600,    110.4,  14.3180,  35.3790,2,  35.3770,2,    225.1,2,    236.5,2,     2.44,3,     3.50,3,     0.53,3
    09FA1089_2,      ,   305,  1,   -999,     34,2,19890923,2319,-38.5798, 153.5472, 4600,    148.5,  13.6260,  35.2890,2,  35.2860,2,    204.0,2,    210.0,2,     3.71,3,     7.00,3,     0.75,3
    09FA1089_2,      ,   305,  1,   -999,      2,2,19890923,2319,-38.5798, 153.5472, 4600,    197.5,  12.1930,  35.1040,2,  35.1020,2,    194.6,2,    200.8,2,     4.98,3,    10.50,3,     0.97,3
    09FA1089_2,      ,   305,  1,   -999,     58,2,19890923,2319,-38.5798, 153.5472, 4600,    300.1,  10.3420,  34.8450,2,  34.8420,2,    194.7,2,    196.7,2,     7.43,3,    15.48,3,     1.27,3
    09FA1089_2,      ,   305,  1,   -999,     26,2,19890923,2319,-38.5798, 153.5472, 4600,    397.4,   9.0840,  34.6780,2,  34.6760,2,    193.2,2,    201.0,2,     9.38,3,    18.62,3,     1.45,3
    09FA1089_2,      ,   305,  1,   -999,     19,2,19890923,2319,-38.5798, 153.5472, 4600,    497.4,   8.2260,  34.6020,2,  34.6020,2,    186.7,2,    190.3,2,    13.39,3,    21.57,3,     1.64,3
    09FA1089_2,      ,   305,  1,   -999,      1,2,19890923,2319,-38.5798, 153.5472, 4600,    597.8,   7.1510,  34.5200,2,  34.5270,2,    185.8,2,    186.2,2,    18.96,3,    24.52,3,     1.90,3
    09FA1089_2,      ,   305,  1,   -999,     31,2,19890923,2319,-38.5798, 153.5472, 4600,    700.7,   6.4290,  34.4820,2,  34.4830,2,    183.5,2,    184.4,2,    24.63,3,    27.27,3,  -999.00,5
    09FA1089_2,      ,   305,  1,   -999,     13,2,19890923,2319,-38.5798, 153.5472, 4600,    801.2,   5.6620,  34.4640,2,  34.4640,2,    181.2,2,    180.7,2,    32.65,3,    28.21,3,     2.12,3
    09FA1089_2,      ,   305,  1,   -999,     27,2,19890923,2319,-38.5798, 153.5472, 4600,    856.7,   5.3210,  34.4610,2,  34.4630,2,    179.0,2,    176.7,2,    37.34,3,    29.69,3,     2.29,3
    09FA1089_2,      ,   305,  1,   -999,     10,2,19890923,2319,-38.5798, 153.5472, 4600,    998.9,   4.4570,  34.4780,2,  34.4820,2,    172.3,2,    169.0,2,    53.08,3,    31.16,3,     2.25,3
    09FA1089_2,      ,   305,  1,   -999,      8,2,19890923,2319,-38.5798, 153.5472, 4600,   1095.7,   4.0890,  34.4960,2,  34.4970,2,    169.2,2,    165.9,2,    59.53,3,    31.71,3,     2.37,3
    09FA1089_2,      ,   305,  1,   -999,     24,2,19890923,2319,-38.5798, 153.5472, 4600,   1345.4,   3.1930,  34.5590,2,  34.5610,2,    158.9,2,    154.8,2,    82.11,3,    33.73,3,     2.52,3
    09FA1089_2,      ,   305,  1,   -999,     29,2,19890923,2319,-38.5798, 153.5472, 4600,   1502.1,   2.8380,  34.5950,2,  34.5940,2,    159.5,2,    155.1,2,    85.33,3,    33.92,3,     2.53,3
    09FA1089_2,      ,   305,  1,   -999,     20,2,19890923,2319,-38.5798, 153.5472, 4600,   1750.6,   2.4700,  34.6480,2,  34.6440,2,    163.2,2,    161.3,2,    88.56,3,    33.18,3,     2.45,3
    09FA1089_2,      ,   305,  1,   -999,     17,2,19890923,2319,-38.5798, 153.5472, 4600,   2119.3,   2.1690,  34.6970,2,  34.6950,2,    173.2,2,    172.9,2,    88.55,3,    32.81,3,     2.37,3
    09FA1089_2,      ,   305,  1,   -999,      6,2,19890923,2319,-38.5798, 153.5472, 4600,   2487.3,   1.9240,  34.7260,2,  34.7270,2,    179.8,2,    181.2,2,    91.78,3,    31.15,3,     2.31,3
    09FA1089_2,      ,   305,  1,   -999,     18,2,19890923,2319,-38.5798, 153.5472, 4600,   2838.7,   1.7210,  34.7320,2,  34.7340,2,    185.3,2,    187.3,2,    98.13,3,    30.97,3,     2.29,3
    09FA1089_2,      ,   305,  1,   -999,      3,2,19890923,2319,-38.5798, 153.5472, 4600,   3387.8,   1.3260,  34.7260,2,  34.7240,2,    190.4,2,    192.6,2,   106.24,3,    31.52,3,     2.32,3
    09FA1089_2,      ,   305,  1,   -999,     12,2,19890923,2319,-38.5798, 153.5472, 4600,   3496.8,   1.2510,  34.7230,2,  34.7210,2,    190.2,2,    194.1,2,   109.47,3,    31.52,3,     2.31,3
    09FA1089_2,      ,   305,  1,   -999,      9,2,19890923,2319,-38.5798, 153.5472, 4600,   3998.1,   1.1160,  34.7160,2,  34.7150,2,    193.1,2,    196.2,2,   112.69,3,    31.89,3,     2.34,3
    09FA1089_2,      ,   305,  1,   -999,      4,2,19890923,2319,-38.5798, 153.5472, 4600,   4597.8,   1.0760,  34.7150,2,  34.7130,2,    195.6,2,    196.5,2,   114.26,3,    31.89,3,     2.34,3