BOTTLE,20010820WHPSIOKJU
EXPOCODE,SECT_ID,STNNBR,CASTNO,SAMPNO,BTLNBR,BTLNBR_FLAG_W,DATE,TIME,LATITUDE,LONGITUDE,DEPTH,CTDPRS,CTDTMP,CTDSAL,CTDSAL_FLAG_W,SALNTY,SALNTY_FLAG_W,CTDOXY,CTDOXY_FLAG_W,OXYGEN,OXYGEN_FLAG_W,SILCAT,SILCAT_FLAG_W,NO2+NO3,NO2+NO3_FLAG_W,PHSPHT,PHSPHT_FLAG_W
,,,,,,,,,,,,DBR,ITS-90,PSS-78,,PSS-78,,UMOL/KG,,UMOL/KG,,UMOL/KG,,UMOL/KG,,UMOL/KG,
    09FA1089_1, PR13N,    37,  1,   -999,     11,2,19890818,1035,-43.2490, 157.2053, 4848,     48.4,  12.6190,  35.1550,2,  35.1550,2,    252.6,2,    250.3,2,     2.05,3,     5.86,3,     0.61,3
    09FA1089_1, PR13N,    37,  1,   -999,     26,2,19890818,1035,-43.2490, 157.2053, 4848,     98.1,  12.6100,  35.1550,2,  35.1560,2,    249.1,2,    250.4,2,     2.05,3,     5.66,3,     0.55,3
    09FA1089_1, PR13N,    37,  1,   -999,     29,2,19890818,1035,-43.2490, 157.2053, 4848,    149.4,  12.6050,  35.1520,2,  35.1560,2,    233.6,2,    251.5,2,     2.05,3,     6.02,3,     0.59,3
    09FA1089_1, PR13N,    37,  1,   -999,     13,2,19890818,1035,-43.2490, 157.2053, 4848,    198.4,  11.8330,  35.0480,2,  35.0510,2,    214.2,2,    218.2,2,     3.62,3,    11.32,3,     0.84,3
    09FA1089_1, PR13N,    37,  1,   -999,      2,2,19890818,1035,-43.2490, 157.2053, 4848,    299.7,  10.2420,  34.8280,2,  34.8330,2,    217.0,2,    210.2,2,     5.77,3,    16.42,3,     1.17,3
    09FA1089_1, PR13N,    37,  1,   -999,     19,2,19890818,1035,-43.2490, 157.2053, 4848,    398.8,   9.1500,  34.6570,2,  34.6610,2,    219.7,2,    229.0,2,     5.47,3,    16.97,3,     1.17,3
    09FA1089_1, PR13N,    37,  1,   -999,     24,2,19890818,1035,-43.2490, 157.2053, 4848,    499.1,   8.6810,  34.6080,2,  34.6170,2,    202.5,2,    220.8,2,     7.82,3,    20.44,3,     1.41,3
    09FA1089_1, PR13N,    37,  1,   -999,     28,2,19890818,1035,-43.2490, 157.2053, 4848,    599.3,   8.1640,  34.5740,2,  34.5840,2,    189.2,2,    202.5,2,    11.73,3,    23.36,3,     1.57,3
    09FA1089_1, PR13N,    37,  1,   -999,     18,2,19890818,1035,-43.2490, 157.2053, 4848,    799.1,   6.7030,  34.4830,2,  34.4980,2,    190.0,2,    188.3,2,    21.12,3,    27.93,3,     1.86,3
    09FA1089_1, PR13N,    37,  1,   -999,     27,2,19890818,1035,-43.2490, 157.2053, 4848,   1000.4,   4.9020,  34.4050,2,  34.4150,2,    176.0,2,    189.4,2,    30.60,3,    29.57,3,     1.92,3
    09FA1089_1, PR13N,    37,  1,   -999,     31,2,19890818,1035,-43.2490, 157.2053, 4848,   1237.3,   3.8360,  34.4570,2,  34.4650,2,    166.4,2,    174.9,2,    51.03,3,    32.67,3,     2.13,3
    09FA1089_1, PR13N,    37,  1,   -999,     22,2,19890818,1035,-43.2490, 157.2053, 4848,   1446.4,   3.1850,  34.5240,2,  34.5270,2,    166.8,2,    164.3,2,    68.04,3,    34.13,3,  -999.00,5
    09FA1089_1, PR13N,    37,  1,   -999,     10,2,19890818,1035,-43.2490, 157.2053, 4848,   1499.2,   2.9850,  34.5450,2,  34.5460,2,    166.4,2,    163.1,2,    73.12,3,    35.95,3,     2.26,3
    09FA1089_1, PR13N,    37,  1,   -999,     20,2,19890818,1035,-43.2490, 157.2053, 4848,   1748.9,   2.6240,  34.6130,2,  34.6110,2,    174.2,2,    163.4,2,    83.28,3,    35.77,3,     2.45,3
    09FA1089_1, PR13N,    37,  1,   -999,     12,2,19890818,1035,-43.2490, 157.2053, 4848,   2181.1,   2.2120,  34.7000,2,  34.6950,2,    180.5,2,    171.9,2,    90.12,3,    34.49,3,     2.45,3
    09FA1089_1, PR13N,    37,  1,   -999,     17,2,19890818,1035,-43.2490, 157.2053, 4848,   2446.8,   2.0380,  34.7280,2,  34.7240,2,    181.8,2,    180.5,2,    91.78,3,    33.57,3,     2.35,3
    09FA1089_1, PR13N,    37,  1,   -999,     30,2,19890818,1035,-43.2490, 157.2053, 4848,   2498.7,   2.0080,  34.7300,2,  34.7260,2,    186.7,2,    182.8,2,    91.78,3,    33.40,3,     2.28,3
    09FA1089_1, PR13N,    37,  1,   -999,      1,2,19890818,1035,-43.2490, 157.2053, 4848,   2856.4,   1.7350,  34.7350,2,  34.7260,2,    190.9,2,    187.8,2,    98.62,3,    33.57,3,     2.26,3
    09FA1089_1, PR13N,    37,  1,   -999,      4,2,19890818,1035,-43.2490, 157.2053, 4848,   2856.4,   1.7350,  34.7350,2,  34.7170,3,    190.9,2,    195.8,3,  -999.00,5,  -999.00,5,  -999.00,5
    09FA1089_1, PR13N,    37,  1,   -999,      6,2,19890818,1035,-43.2490, 157.2053, 4848,   3378.3,   1.3670,  34.7280,2,  34.7250,2,    191.6,2,    200.2,2,   112.20,3,    33.94,3,     2.21,3
    09FA1089_1, PR13N,    37,  1,   -999,      5,2,19890818,1035,-43.2490, 157.2053, 4848,   3498.6,   1.2930,  34.7250,2,  34.7190,2,    193.8,2,    196.7,2,   117.29,3,    34.31,3,     2.31,3
    09FA1089_1, PR13N,    37,  1,   -999,      8,2,19890818,1035,-43.2490, 157.2053, 4848,   3998.0,   1.1330,  34.7190,2,  34.7150,2,    196.0,2,    197.9,2,   115.63,3,    34.12,3,     2.34,3
    09FA1089_1, PR13N,    37,  1,   -999,     21,2,19890818,1035,-43.2490, 157.2053, 4848,   4498.5,   1.0640,  34.7150,2,  34.7120,2,    197.7,2,    200.5,2,   118.95,3,    34.49,3,     2.29,3
    09FA1089_1, PR13N,    37,  1,   -999,      3,2,19890818,1035,-43.2490, 157.2053, 4848,   4849.4,   1.0500,  34.7130,2,  -9.9999,5,    197.7,2,    199.9,2,   120.71,3,    34.49,3,     2.34,3
    09FA1089_1, PR13N,    39,  1,   -999,     11,2,19890818,2041,-43.2525, 158.1320, 4880,      3.6,  11.9480,  35.0040,2,  -9.9999,5,    202.8,2,    256.2,2,  -999.00,5,  -999.00,5,  -999.00,5
    09FA1089_1, PR13N,    39,  1,   -999,     26,2,19890818,2041,-43.2525, 158.1320, 4880,     48.1,  11.8750,  34.9990,2,  34.9980,2,    252.6,2,    254.2,2,     2.05,3,     6.75,3,     0.68,3
    09FA1089_1, PR13N,    39,  1,   -999,     29,2,19890818,2041,-43.2525, 158.1320, 4880,     99.3,  11.8460,  34.9930,2,  34.9910,2,    253.7,2,    252.7,2,     2.05,3,     6.75,3,     0.64,3
    09FA1089_1, PR13N,    39,  1,   -999,     13,2,19890818,2041,-43.2525, 158.1320, 4880,    148.3,  11.7860,  34.9780,2,  34.9780,2,    257.6,2,    246.8,2,     2.05,3,     7.11,3,     0.64,3
    09FA1089_1, PR13N,    39,  1,   -999,      2,2,19890818,2041,-43.2525, 158.1320, 4880,    199.2,  10.8240,  34.8900,2,  34.8910,2,    243.2,2,    219.9,2,     4.40,3,    14.05,3,     1.02,3
    09FA1089_1, PR13N,    39,  1,   -999,     19,2,19890818,2041,-43.2525, 158.1320, 4880,    299.8,   9.6540,  34.7120,2,  34.7120,2,    237.7,2,    231.4,2,     4.89,3,    16.42,3,     1.16,3
    09FA1089_1, PR13N,    39,  1,   -999,     24,2,19890818,2041,-43.2525, 158.1320, 4880,    398.7,   9.0500,  34.6280,2,  34.6290,2,    232.2,2,    238.2,2,     5.08,3,    17.70,3,     1.23,3
    09FA1089_1, PR13N,    39,  1,   -999,     28,2,19890818,2041,-43.2525, 158.1320, 4880,    498.5,   8.6610,  34.5760,2,  34.5780,2,    235.2,2,    237.0,2,     5.96,3,    19.16,3,     1.32,3
    09FA1089_1, PR13N,    39,  1,   -999,     18,2,19890818,2041,-43.2525, 158.1320, 4880,    597.8,   8.4070,  34.5640,2,  34.5610,2,    221.7,2,    220.2,2,     8.50,3,    21.35,3,     1.45,3
    09FA1089_1, PR13N,    39,  1,   -999,     27,2,19890818,2041,-43.2525, 158.1320, 4880,    799.4,   7.0610,  34.4860,2,  34.4890,2,    194.8,2,    193.9,2,  -999.00,5,  -999.00,5,  -999.00,5
    09FA1089_1, PR13N,    39,  1,   -999,     22,2,19890818,2041,-43.2525, 158.1320, 4880,   1268.4,   3.6770,  34.4220,2,  34.4240,2,    171.0,2,    184.5,2,    51.03,3,    34.50,3,     2.31,3
    09FA1089_1, PR13N,    39,  1,   -999,     10,2,19890818,2041,-43.2525, 158.1320, 4880,   1478.2,   3.1150,  34.5150,2,  34.5170,2,    170.0,2,    165.9,2,    68.04,3,    35.77,3,     2.42,3
    09FA1089_1, PR13N,    39,  1,   -999,     20,2,19890818,2041,-43.2525, 158.1320, 4880,   1498.9,   3.0510,  34.5250,2,  34.5270,2,    167.0,2,    164.4,2,    71.46,3,    35.77,3,     2.45,3
    09FA1089_1, PR13N,    39,  1,   -999,     12,2,19890818,2041,-43.2525, 158.1320, 4880,   1748.5,   2.6360,  34.6070,2,  34.6080,2,    177.4,2,    162.0,2,    83.28,3,    35.95,3,     2.45,3
    09FA1089_1, PR13N,    39,  1,   -999,     17,2,19890818,2041,-43.2525, 158.1320, 4880,   2167.7,   2.2410,  34.6950,2,  34.6970,2,    182.6,2,    174.4,2,    86.70,3,    33.95,3,     2.32,3
    09FA1089_1, PR13N,    39,  1,   -999,     30,2,19890818,2041,-43.2525, 158.1320, 4880,   2449.1,   2.0330,  34.7230,2,  34.7240,2,    183.9,2,    180.9,2,  -999.00,5,  -999.00,5,  -999.00,5
    09FA1089_1, PR13N,    39,  1,   -999,      1,2,19890818,2041,-43.2525, 158.1320, 4880,   2498.0,   1.9790,  34.7280,2,  34.7280,2,    186.9,2,    180.8,2,    93.54,3,    33.21,3,     2.28,3
    09FA1089_1, PR13N,    39,  1,   -999,      4,2,19890818,2041,-43.2525, 158.1320, 4880,   2768.2,   1.7700,  34.7350,2,  34.7290,2,    191.2,2,    187.0,2,    95.20,3,    32.48,3,     2.25,3
    09FA1089_1, PR13N,    39,  1,   -999,      6,2,19890818,2041,-43.2525, 158.1320, 4880,   3348.5,   1.3870,  34.7270,2,  34.7250,2,    192.4,2,    192.0,2,   110.54,3,    33.40,3,     2.32,3
    09FA1089_1, PR13N,    39,  1,   -999,      5,2,19890818,2041,-43.2525, 158.1320, 4880,   3498.5,   1.3110,  34.7250,2,  34.7250,2,    195.0,2,    194.1,2,   112.20,3,    33.76,3,     2.31,3
    09FA1089_1, PR13N,    39,  1,   -999,      8,2,19890818,2041,-43.2525, 158.1320, 4880,   3997.7,   1.1540,  34.7180,2,  34.7190,2,    197.7,2,    195.6,2,   115.63,3,    33.94,3,     2.32,3
    09FA1089_1, PR13N,    39,  1,   -999,     21,2,19890818,2041,-43.2525, 158.1320, 4880,   4498.9,   1.0650,  34.7140,2,  34.7120,2,    199.8,2,    198.2,2,   120.71,3,    34.12,3,     2.34,3
    09FA1089_1, PR13N,    39,  1,   -999,      3,2,19890818,2041,-43.2525, 158.1320, 4880,   4880.0,   1.0410,  34.7110,2,  34.7110,2,    199.8,2,    202.0,2,   122.37,3,    34.12,3,     2.34,3
    09FA1089_1, PR13N,    41,  1,   -999,     11,2,19890819,0337,-43.2510, 159.0572, 4850,      6.0,  11.7660,  34.9670,2,  34.9810,3,    234.9,2,    255.6,2,     2.05,3,     6.74,3,     0.69,3
    09FA1089_1, PR13N,    41,  1,   -999,     26,2,19890819,0337,-43.2510, 159.0572, 4850,     51.0,  11.6600,  34.9490,2,  34.9490,2,    255.3,2,    257.1,2,     1.95,3,     6.93,3,     0.67,3
    09FA1089_1, PR13N,    41,  1,   -999,     29,2,19890819,0337,-43.2510, 159.0572, 4850,     98.1,  11.7770,  34.9780,2,  34.9780,2,    253.2,2,    255.4,2,     1.95,3,     6.74,3,     0.64,3
    09FA1089_1, PR13N,    41,  1,   -999,     13,2,19890819,0337,-43.2510, 159.0572, 4850,    149.0,  11.7820,  34.9790,2,  34.9800,2,    254.7,2,    255.1,2,     1.95,3,     6.74,3,     0.64,3
    09FA1089_1, PR13N,    41,  1,   -999,      2,2,19890819,0337,-43.2510, 159.0572, 4850,    199.6,  11.2680,  34.9520,2,  34.9490,2,    238.5,2,    225.9,2,     3.81,3,    12.39,3,     0.95,3
    09FA1089_1, PR13N,    41,  1,   -999,     19,2,19890819,0337,-43.2510, 159.0572, 4850,    298.9,   9.7650,  34.7280,2,  34.7310,2,    224.4,2,    230.8,2,     4.69,3,    15.86,3,     1.15,3
    09FA1089_1, PR13N,    41,  1,   -999,     24,2,19890819,0337,-43.2510, 159.0572, 4850,    398.0,   9.2530,  34.6700,2,  34.6740,2,    231.8,2,    229.1,2,     5.67,3,    17.87,3,     1.28,3
    09FA1089_1, PR13N,    41,  1,   -999,     28,2,19890819,0337,-43.2510, 159.0572, 4850,    499.3,   8.6660,  34.5850,2,  34.5880,2,    236.0,2,    233.8,2,     6.45,3,    19.32,3,     1.37,3
    09FA1089_1, PR13N,    41,  1,   -999,     18,2,19890819,0337,-43.2510, 159.0572, 4850,    596.9,   8.2750,  34.5540,2,  34.5560,2,    218.6,2,    220.2,2,     8.90,3,    21.52,3,     1.51,3
    09FA1089_1, PR13N,    41,  1,   -999,     27,2,19890819,0337,-43.2510, 159.0572, 4850,    798.4,   7.1290,  34.5020,2,  34.5050,2,    192.2,2,    190.4,2,    18.38,3,    26.99,3,     1.83,3
    09FA1089_1, PR13N,    41,  1,   -999,     31,2,19890819,0337,-43.2510, 159.0572, 4850,    998.9,   5.4510,  34.4310,2,  34.4340,2,    187.1,2,    185.1,2,    31.58,3,    31.19,3,     2.12,3
    09FA1089_1, PR13N,    41,  1,   -999,     22,2,19890819,0337,-43.2510, 159.0572, 4850,   1267.6,   3.6790,  34.4240,2,  34.4250,2,    185.8,2,    183.3,2,  -999.00,5,  -999.00,5,  -999.00,5
    09FA1089_1, PR13N,    41,  1,   -999,     10,2,19890819,0337,-43.2510, 159.0572, 4850,   1462.4,   3.1070,  34.4980,2,  34.5010,2,    174.3,2,    171.8,2,    69.41,3,    35.55,3,     2.46,3
    09FA1089_1, PR13N,    41,  1,   -999,     20,2,19890819,0337,-43.2510, 159.0572, 4850,   1497.6,   3.0390,  34.5120,2,  34.5150,2,    172.6,2,    171.5,2,  -999.00,5,  -999.00,5,  -999.00,5
    09FA1089_1, PR13N,    41,  1,   -999,     12,2,19890819,0337,-43.2510, 159.0572, 4850,   1749.7,   2.6020,  34.6090,2,  34.6080,2,    168.3,2,    164.7,2,    84.94,3,    35.37,3,     2.49,3
    09FA1089_1, PR13N,    41,  1,   -999,     17,2,19890819,0337,-43.2510, 159.0572, 4850,   2140.7,   2.2600,  34.6930,2,  34.6910,2,    175.5,2,    175.0,2,    91.88,3,    33.91,3,     2.40,3
    09FA1089_1, PR13N,    41,  1,   -999,     30,2,19890819,0337,-43.2510, 159.0572, 4850,   2442.0,   2.0330,  34.7250,2,  34.7220,2,    181.8,2,    182.3,2,    93.63,3,    33.18,3,     2.34,3
    09FA1089_1, PR13N,    41,  1,   -999,      1,2,19890819,0337,-43.2510, 159.0572, 4850,   2498.6,   1.9770,  34.7270,2,  -9.9999,5,    182.9,2,    181.8,2,    97.05,3,    33.23,3,     2.34,3
    09FA1089_1, PR13N,    41,  1,   -999,      4,2,19890819,0337,-43.2510, 159.0572, 4850,   2781.2,   1.7480,  34.7320,2,  34.7280,2,    185.1,2,    188.2,2,  -999.00,5,  -999.00,5,  -999.00,5
    09FA1089_1, PR13N,    41,  1,   -999,      6,2,19890819,0337,-43.2510, 159.0572, 4850,   3309.2,   1.3860,  34.7280,2,  34.7240,2,    191.0,2,    192.6,2,   112.69,3,    33.73,3,     2.37,3
    09FA1089_1, PR13N,    41,  1,   -999,      5,2,19890819,0337,-43.2510, 159.0572, 4850,   3497.6,   1.3070,  34.7250,2,  34.7230,2,    191.1,2,    192.6,2,   116.21,3,    34.09,3,     2.38,3
    09FA1089_1, PR13N,    41,  1,   -999,      8,2,19890819,0337,-43.2510, 159.0572, 4850,   3998.8,   1.1420,  34.7210,2,  34.7170,2,    194.4,2,    196.1,2,   121.39,3,    34.09,3,     2.39,3
    09FA1089_1, PR13N,    41,  1,   -999,     21,2,19890819,0337,-43.2510, 159.0572, 4850,   4502.5,   1.0410,  34.7160,2,  34.7180,2,    197.1,2,    199.1,2,  -999.00,5,  -999.00,5,  -999.00,5
    09FA1089_1, PR13N,    41,  1,   -999,      3,2,19890819,0337,-43.2510, 159.0572, 4850,   4848.5,   1.0290,  34.7130,2,  34.7110,2,    198.8,2,    200.9,2,   126.57,3,    34.28,3,     2.39,3
    09FA1089_1, PR13N,    43,  1,   -999,     11,2,19890819,1046,-43.2335, 160.0010, 5000,      3.0,  12.2680,  35.0640,2,  35.0670,2,    248.1,2,    255.9,2,     2.05,3,     6.02,3,     0.67,3
    09FA1089_1, PR13N,    43,  1,   -999,     26,2,19890819,1046,-43.2335, 160.0010, 5000,     48.8,  11.7790,  34.9610,2,  34.9620,2,    260.0,2,    255.4,2,     1.95,3,     6.74,3,     0.67,3
    09FA1089_1, PR13N,    43,  1,   -999,     29,2,19890819,1046,-43.2335, 160.0010, 5000,     96.9,  11.7600,  34.9590,2,  34.9610,2,    258.5,2,    255.1,2,     1.95,3,     6.93,3,     0.66,3
    09FA1089_1, PR13N,    43,  1,   -999,     13,2,19890819,1046,-43.2335, 160.0010, 5000,    149.2,  11.4700,  34.9600,2,  34.9610,2,    232.0,2,    228.5,2,     3.32,3,    11.48,3,     0.92,3
    09FA1089_1, PR13N,    43,  1,   -999,      2,2,19890819,1046,-43.2335, 160.0010, 5000,    198.2,  10.5870,  34.8390,2,  34.8420,2,    231.0,2,    229.4,2,     4.01,3,    14.03,3,     1.05,3
    09FA1089_1, PR13N,    43,  1,   -999,     19,2,19890819,1046,-43.2335, 160.0010, 5000,    299.5,   9.8860,  34.7690,2,  34.7690,2,    234.5,2,    217.0,2,     5.67,3,    17.13,3,     1.22,3
    09FA1089_1, PR13N,    43,  1,   -999,     24,2,19890819,1046,-43.2335, 160.0010, 5000,    399.5,   8.9090,  34.6110,2,  34.6100,2,    233.9,2,    238.8,2,     5.18,3,    17.68,3,     1.27,3
    09FA1089_1, PR13N,    43,  1,   -999,     28,2,19890819,1046,-43.2335, 160.0010, 5000,    498.4,   8.5560,  34.5650,2,  34.5670,2,    231.0,2,    238.8,2,     6.06,3,    19.15,3,     1.36,3
    09FA1089_1, PR13N,    43,  1,   -999,     18,2,19890819,1046,-43.2335, 160.0010, 5000,    598.4,   8.1060,  34.5360,2,  34.5420,2,    213.6,2,    216.7,2,     9.68,3,    22.25,3,     1.55,3
    09FA1089_1, PR13N,    43,  1,   -999,     27,2,19890819,1046,-43.2335, 160.0010, 5000,    799.1,   6.5930,  34.4590,2,  34.4640,2,    191.8,2,    193.6,2,    20.43,3,    27.90,3,     1.92,3
    09FA1089_1, PR13N,    43,  1,   -999,     31,2,19890819,1046,-43.2335, 160.0010, 5000,   1000.1,   4.8220,  34.3890,2,  34.3930,2,    193.3,2,    193.3,2,    32.95,3,    31.91,3,     2.18,3
    09FA1089_1, PR13N,    43,  1,   -999,     22,2,19890819,1046,-43.2335, 160.0010, 5000,   1209.6,   3.9170,  34.4420,2,  34.4440,2,    183.8,2,    177.1,2,  -999.00,5,  -999.00,5,  -999.00,5
    09FA1089_1, PR13N,    43,  1,   -999,     10,2,19890819,1046,-43.2335, 160.0010, 5000,   1434.9,   3.1530,  34.5200,2,  34.5190,2,    171.7,2,    163.8,2,    74.59,3,    35.55,3,     2.51,3
    09FA1089_1, PR13N,    43,  1,   -999,     20,2,19890819,1046,-43.2335, 160.0010, 5000,   1498.3,   2.9690,  34.5410,2,  34.5430,2,    166.8,2,    162.3,2,    78.01,3,    35.92,3,     2.52,3
    09FA1089_1, PR13N,    43,  1,   -999,     12,2,19890819,1046,-43.2335, 160.0010, 5000,   1748.1,   2.5770,  34.6180,2,  34.6180,2,    166.1,2,    162.6,2,    84.94,3,    35.00,3,     2.42,3
    09FA1089_1, PR13N,    43,  1,   -999,     17,2,19890819,1046,-43.2335, 160.0010, 5000,   2119.1,   2.2650,  34.6910,2,  34.6900,2,    174.8,2,    176.1,2,    91.88,3,    34.09,3,     2.40,3
    09FA1089_1, PR13N,    43,  1,   -999,     30,2,19890819,1046,-43.2335, 160.0010, 5000,   2439.1,   2.0260,  34.7260,2,  34.7240,2,    180.3,2,    181.7,2,    95.39,3,    33.18,3,     2.35,3
    09FA1089_1, PR13N,    43,  1,   -999,      1,2,19890819,1046,-43.2335, 160.0010, 5000,   2498.5,   1.9690,  34.7280,2,  34.7240,2,    180.7,2,    182.6,2,    97.05,3,    33.54,3,     2.35,3
    09FA1089_1, PR13N,    43,  1,   -999,      4,2,19890819,1046,-43.2335, 160.0010, 5000,   2761.7,   1.7310,  34.7330,2,  34.7240,3,    183.9,2,    189.4,2,    97.05,3,    32.45,3,     2.28,3
    09FA1089_1, PR13N,    43,  1,   -999,      6,2,19890819,1046,-43.2335, 160.0010, 5000,   3287.3,   1.3770,  34.7280,2,  34.7240,2,    187.5,2,    190.3,2,   114.45,3,    33.73,3,     2.37,3
    09FA1089_1, PR13N,    43,  1,   -999,      5,2,19890819,1046,-43.2335, 160.0010, 5000,   3497.5,   1.2790,  34.7250,2,  34.7210,2,    189.2,2,    201.5,3,  -999.00,5,  -999.00,5,  -999.00,5
    09FA1089_1, PR13N,    43,  1,   -999,      8,2,19890819,1046,-43.2335, 160.0010, 5000,   3998.6,   1.1560,  34.7210,2,  34.7160,2,    191.2,2,    196.7,2,   117.87,3,    33.73,3,     2.34,3
    09FA1089_1, PR13N,    43,  1,   -999,     21,2,19890819,1046,-43.2335, 160.0010, 5000,   4498.0,   1.0890,  34.7160,2,  34.7140,2,    194.2,2,    198.2,2,   124.81,3,    34.45,3,     2.39,3
    09FA1089_1, PR13N,    43,  1,   -999,      3,2,19890819,1046,-43.2335, 160.0010, 5000,   4997.0,   1.0500,  34.7130,2,  34.7140,2,    196.1,2,    197.9,2,   123.15,3,    33.54,3,     2.32,3