BOTTLE,20010820WHPSIOKJU
EXPOCODE,SECT_ID,STNNBR,CASTNO,SAMPNO,BTLNBR,BTLNBR_FLAG_W,DATE,TIME,LATITUDE,LONGITUDE,DEPTH,CTDPRS,CTDTMP,CTDSAL,CTDSAL_FLAG_W,SALNTY,SALNTY_FLAG_W,CTDOXY,CTDOXY_FLAG_W,OXYGEN,OXYGEN_FLAG_W,SILCAT,SILCAT_FLAG_W,NO2+NO3,NO2+NO3_FLAG_W,PHSPHT,PHSPHT_FLAG_W
,,,,,,,,,,,,DBR,ITS-90,PSS-78,,PSS-78,,UMOL/KG,,UMOL/KG,,UMOL/KG,,UMOL/KG,,UMOL/KG,
    09FA1089_2,      ,   259,  1,   -999,     22,2,19890917,1419,-34.4113, 171.4723, 1030,      3.8,  16.5370,  35.4930,2,  35.4910,2,    243.5,2,    246.7,2,     1.27,3,     1.25,3,     0.34,3
    09FA1089_2,      ,   259,  1,   -999,      5,2,19890917,1419,-34.4113, 171.4723, 1030,     98.9,  15.8400,  35.4530,2,  35.4530,2,    224.6,2,    223.4,2,     1.76,3,     5.89,3,     0.50,3
    09FA1089_2,      ,   259,  1,   -999,     26,2,19890917,1419,-34.4113, 171.4723, 1030,    148.0,  15.0120,  35.3770,2,  35.3800,2,    214.1,2,    208.7,2,     2.64,3,     9.28,3,     0.66,3
    09FA1089_2,      ,   259,  1,   -999,     20,2,19890917,1419,-34.4113, 171.4723, 1030,    209.2,  13.5150,  35.2270,2,  35.2230,2,    196.8,2,    194.1,2,     4.10,3,    14.46,3,     0.88,3
    09FA1089_2,      ,   259,  1,   -999,      8,2,19890917,1419,-34.4113, 171.4723, 1030,    298.5,  12.4060,  35.1050,2,  35.1070,2,    191.4,2,    191.6,2,     5.57,3,    17.31,3,     1.04,3
    09FA1089_2,      ,   259,  1,   -999,     27,2,19890917,1419,-34.4113, 171.4723, 1030,    398.3,  10.9880,  34.9400,2,  -9.9999,5,    188.3,2,    189.4,2,     8.21,3,    21.42,3,     1.24,3
    09FA1089_2,      ,   259,  1,   -999,     31,2,19890917,1419,-34.4113, 171.4723, 1030,    500.2,   9.3450,  34.7530,2,  -9.9999,5,    187.6,2,    188.1,2,    12.41,3,    26.07,3,     1.49,3
    09FA1089_2,      ,   259,  1,   -999,     18,2,19890917,1419,-34.4113, 171.4723, 1030,    598.0,   8.8120,  34.6960,2,  -9.9999,5,    188.0,2,    188.4,2,    13.88,3,    27.67,3,     1.56,3
    09FA1089_2,      ,   259,  1,   -999,     10,2,19890917,1419,-34.4113, 171.4723, 1030,    800.2,   7.1620,  34.5840,2,  -9.9999,5,    182.4,2,    183.7,2,    25.22,3,    32.14,3,     1.84,3
    09FA1089_2,      ,   259,  1,   -999,      4,2,19890917,1419,-34.4113, 171.4723, 1030,   1031.3,   5.0310,  34.5150,2,  -9.9999,5,    171.7,2,    172.5,2,    53.57,3,    38.04,3,     2.20,3
    09FA1089_2,      ,   261,  1,   -999,     22,2,19890917,1638,-34.4205, 171.7795,  498,      4.0,  16.5140,  35.4640,2,  35.4650,2,    241.1,2,    240.5,2,     1.47,3,     1.79,3,     0.36,3
    09FA1089_2,      ,   261,  1,   -999,      8,2,19890917,1638,-34.4205, 171.7795,  498,     49.0,  16.3780,  35.4710,2,  35.4700,2,    238.3,2,    236.8,2,     1.47,3,     2.50,3,     0.37,3
    09FA1089_2,      ,   261,  1,   -999,     27,2,19890917,1638,-34.4205, 171.7795,  498,     99.6,  15.2260,  35.3910,2,  35.3910,2,    219.4,2,    215.6,2,     3.03,3,     8.21,3,     0.59,3
    09FA1089_2,      ,   261,  1,   -999,     31,2,19890917,1638,-34.4205, 171.7795,  498,    149.3,  14.3960,  35.3110,2,  35.3110,2,    209.8,2,    209.6,2,     4.30,3,    11.60,3,     0.72,3
    09FA1089_2,      ,   261,  1,   -999,     18,2,19890917,1638,-34.4205, 171.7795,  498,    198.7,  13.9240,  35.2600,2,  35.2430,2,    205.2,2,    203.1,2,     5.18,3,    14.10,3,     0.82,3
    09FA1089_2,      ,   261,  1,   -999,     10,2,19890917,1638,-34.4205, 171.7795,  498,    298.2,  12.1390,  35.0720,2,  35.0710,2,    195.2,2,    194.0,2,     7.72,3,    19.28,3,     1.05,3
    09FA1089_2,      ,   261,  1,   -999,      9,2,19890917,1638,-34.4205, 171.7795,  498,    399.1,  10.6130,  34.9040,2,  34.9050,2,    188.7,2,    190.6,2,    11.14,3,    23.92,3,     1.28,3
    09FA1089_2,      ,   261,  1,   -999,      4,2,19890917,1638,-34.4205, 171.7795,  498,    499.5,   8.5230,  34.6950,2,  34.6980,2,    189.4,2,    188.1,2,    18.77,3,    29.64,3,     1.62,3
    09FA1089_2,      ,   263,  1,   -999,     22,2,19890917,1842,-34.4182, 172.0992,  200,      6.2,  16.6420,  35.5070,2,  35.5050,2,    241.3,2,    240.5,2,     1.07,3,     1.60,3,     0.34,3
    09FA1089_2,      ,   263,  1,   -999,     10,2,19890917,1842,-34.4182, 172.0992,  200,     98.5,  15.0470,  35.3650,2,  35.3650,2,    220.9,2,    219.0,2,     3.32,3,     8.74,3,     0.61,3
    09FA1089_2,      ,   263,  1,   -999,     17,2,19890917,1842,-34.4182, 172.0992,  200,    147.2,  14.0160,  35.2640,2,  35.2760,2,    212.0,2,    209.6,2,     4.88,3,    12.67,3,     0.75,3
    09FA1089_2,      ,   263,  1,   -999,      4,2,19890917,1842,-34.4182, 172.0992,  200,    200.3,  12.4770,  35.1070,2,  35.1100,2,    200.2,2,    200.3,2,     8.50,3,    18.57,3,     1.01,3
    09FA1089_2,      ,   265,  1,   -999,     22,2,19890917,2000,-34.4110, 172.2595,  146,      4.6,  16.2680,  35.4630,2,  35.4650,2,    242.9,2,    243.0,2,     1.76,3,     2.56,3,     0.37,3
    09FA1089_2,      ,   265,  1,   -999,     10,2,19890917,2000,-34.4110, 172.2595,  146,     49.0,  15.0420,  35.3560,2,  35.3580,2,    225.9,2,    224.6,2,     3.61,3,     8.37,3,     0.61,3
    09FA1089_2,      ,   265,  1,   -999,     17,2,19890917,2000,-34.4110, 172.2595,  146,     98.5,  14.1550,  35.2750,2,  35.2710,2,    210.5,2,    213.1,2,     5.37,3,    11.79,3,     0.76,3
    09FA1089_2,      ,   265,  1,   -999,      4,2,19890917,2000,-34.4110, 172.2595,  146,    144.3,  13.5530,  35.2150,2,  35.2160,2,    203.7,2,    208.4,2,     6.45,3,    13.33,3,     0.86,3
    09FA1089_2,      ,   267,  1,   -999,     22,2,19890917,2116,-34.4250, 172.4072,   94,      5.1,  15.7360,  35.4140,2,  35.4150,2,    230.0,2,    233.3,2,     2.34,3,     5.13,3,     0.49,3
    09FA1089_2,      ,   267,  1,   -999,     26,2,19890917,2116,-34.4250, 172.4072,   94,     48.6,  15.5980,  35.4070,2,  35.4060,2,    226.9,2,    228.4,2,     2.64,3,     6.15,3,     0.53,3
    09FA1089_2,      ,   267,  1,   -999,      4,2,19890917,2116,-34.4250, 172.4072,   94,     93.7,  14.7070,  35.3320,2,  35.3330,2,    216.9,2,    217.7,2,     4.30,3,     9.74,3,     0.67,3
    09FA1089_2,      ,   269,  1,   -999,     22,2,19890917,2224,-34.4077, 172.5347,   70,      4.4,  15.9070,  35.4290,2,  35.4300,2,    210.1,2,    234.9,2,  -999.00,5,  -999.00,5,  -999.00,5
    09FA1089_2,      ,   269,  1,   -999,      4,2,19890917,2224,-34.4077, 172.5347,   70,     68.7,  15.9450,  35.4330,2,  35.4320,2,    231.3,2,    234.9,2,  -999.00,5,  -999.00,5,  -999.00,5
    09FA1089_2,      ,   271,  1,   -999,     22,2,19890918,1010,-35.1175, 170.5518, 2064,      4.9,  15.9010,  35.4250,2,  35.4260,2,    206.3,2,    247.3,2,     1.56,3,     1.88,3,     0.39,3
    09FA1089_2,      ,   271,  1,   -999,     31,2,19890918,1010,-35.1175, 170.5518, 2064,     48.5,  15.5970,  35.4490,2,  35.4470,2,    237.9,2,    245.5,2,     1.56,3,     2.39,3,     0.39,3
    09FA1089_2,      ,   271,  1,   -999,     24,2,19890918,1010,-35.1175, 170.5518, 2064,     98.2,  15.2690,  35.4510,2,  35.4470,2,    234.4,2,    238.9,2,     1.56,3,     3.24,3,     0.43,3
    09FA1089_2,      ,   271,  1,   -999,      1,2,19890918,1010,-35.1175, 170.5518, 2064,    148.2,  14.9890,  35.4260,2,  35.4240,2,    227.5,2,    230.8,2,     1.86,3,     4.79,3,     0.47,3
    09FA1089_2,      ,   271,  1,   -999,     10,2,19890918,1010,-35.1175, 170.5518, 2064,    189.0,  14.1160,  35.3240,2,  35.3250,2,    208.3,2,    209.3,2,     3.13,3,     9.91,3,     0.68,3
    09FA1089_2,      ,   271,  1,   -999,      8,2,19890918,1010,-35.1175, 170.5518, 2064,    298.3,  12.3230,  35.1270,2,  35.1250,2,    192.8,2,    195.9,2,     5.86,3,    16.91,3,     0.99,3
    09FA1089_2,      ,   271,  1,   -999,     26,2,19890918,1010,-35.1175, 170.5518, 2064,    398.9,  10.9250,  34.9420,2,  34.9420,2,    186.8,2,    186.9,2,     8.99,3,    22.39,3,     1.25,3
    09FA1089_2,      ,   271,  1,   -999,     29,2,19890918,1010,-35.1175, 170.5518, 2064,    498.9,   9.5270,  34.7730,2,  34.7720,2,    187.3,2,    187.5,2,    11.83,3,    26.32,3,     1.47,3
    09FA1089_2,      ,   271,  1,   -999,     20,2,19890918,1010,-35.1175, 170.5518, 2064,    598.4,   8.3910,  34.6540,2,  34.6570,2,    182.7,2,    184.7,2,    15.74,3,    29.40,3,     1.63,3
    09FA1089_2,      ,   271,  1,   -999,      9,2,19890918,1010,-35.1175, 170.5518, 2064,    798.0,   7.1360,  34.5800,2,  34.5830,2,    180.4,2,    183.4,2,    25.51,3,    32.48,3,     1.84,3
    09FA1089_2,      ,   271,  1,   -999,      6,2,19890918,1010,-35.1175, 170.5518, 2064,    998.4,   5.4400,  34.5180,2,  34.5190,2,    172.4,2,    175.3,2,    44.18,3,    36.93,3,     2.14,3
    09FA1089_2,      ,   271,  1,   -999,      2,2,19890918,1010,-35.1175, 170.5518, 2064,   1103.6,   4.8030,  34.5080,2,  34.5110,2,    169.8,2,    171.2,2,    55.23,3,    38.47,3,     2.24,3
    09FA1089_2,      ,   271,  1,   -999,      3,2,19890918,1010,-35.1175, 170.5518, 2064,   1208.6,   4.2710,  34.5090,2,  34.5100,2,    165.4,2,    165.9,2,    63.05,3,    39.83,3,     2.34,3
    09FA1089_2,      ,   271,  1,   -999,     12,2,19890918,1010,-35.1175, 170.5518, 2064,   1428.1,   3.3490,  34.5580,2,  34.5570,2,    157.2,2,    155.7,2,    86.70,3,    41.20,3,     2.46,3
    09FA1089_2,      ,   271,  1,   -999,     13,2,19890918,1010,-35.1175, 170.5518, 2064,   1749.8,   2.5790,  34.6280,2,  34.6240,2,    152.4,2,    151.9,2,   108.79,3,  -999.00,5,     2.54,3
    09FA1089_2,      ,   271,  1,   -999,      4,2,19890918,1010,-35.1175, 170.5518, 2064,   2065.1,   2.1350,  34.6670,2,  34.6670,2,    150.0,2,    149.7,2,   119.83,3,  -999.00,5,     2.55,3
    09FA1089_2,      ,   273,  1,   -999,     22,2,19890918,1625,-35.7475, 169.7832, 1880,      4.0,  15.7000,  35.4680,2,  35.4640,2,    241.8,2,    244.2,2,     1.47,3,     1.19,3,     0.37,3
    09FA1089_2,      ,   273,  1,   -999,     31,2,19890918,1625,-35.7475, 169.7832, 1880,     98.7,  15.2470,  35.4660,2,  35.4640,2,    237.7,2,    237.4,2,     1.47,3,     2.56,3,     0.42,3
    09FA1089_2,      ,   273,  1,   -999,     24,2,19890918,1625,-35.7475, 169.7832, 1880,    148.2,  15.1660,  35.4580,2,  35.4560,2,    236.1,2,    206.2,2,     1.47,3,     3.08,3,     0.43,3
    09FA1089_2,      ,   273,  1,   -999,      1,2,19890918,1625,-35.7475, 169.7832, 1880,    186.6,  13.6110,  35.2720,2,  35.2720,2,    212.7,2,    202.2,2,     3.81,3,    12.30,3,     0.76,3
    09FA1089_2,      ,   273,  1,   -999,     10,2,19890918,1625,-35.7475, 169.7832, 1880,    299.2,  11.8550,  35.0650,2,  35.0640,2,    192.5,2,    191.6,2,     7.62,3,    14.94,3,     1.14,3
    09FA1089_2,      ,   273,  1,   -999,      8,2,19890918,1625,-35.7475, 169.7832, 1880,    399.5,  10.4950,  34.8870,2,  34.8890,2,    188.9,2,    188.4,2,    11.04,3,    18.72,3,     1.42,3
    09FA1089_2,      ,   273,  1,   -999,     26,2,19890918,1625,-35.7475, 169.7832, 1880,    498.2,   9.4660,  34.7540,2,  34.7530,2,    188.5,2,    189.0,2,    11.73,3,    20.89,3,     1.58,3
    09FA1089_2,      ,   273,  1,   -999,     29,2,19890918,1625,-35.7475, 169.7832, 1880,    598.6,   8.5630,  34.6710,2,  34.6720,2,    185.8,2,    184.7,2,    16.13,3,    23.41,3,     1.76,3
    09FA1089_2,      ,   273,  1,   -999,     20,2,19890918,1625,-35.7475, 169.7832, 1880,    797.9,   6.8290,  34.5240,2,  34.5270,2,    182.9,2,    184.0,2,    24.93,3,    27.55,3,     2.04,3
    09FA1089_2,      ,   273,  1,   -999,      9,2,19890918,1625,-35.7475, 169.7832, 1880,    999.3,   5.4820,  34.4910,2,  34.4910,2,    176.7,2,    179.3,2,    43.99,3,    30.11,3,     2.27,3
    09FA1089_2,      ,   273,  1,   -999,      6,2,19890918,1625,-35.7475, 169.7832, 1880,   1063.7,   5.0920,  34.4880,2,  34.4900,2,    172.8,2,    171.9,2,    50.44,3,    31.78,3,     2.36,3
    09FA1089_2,      ,   273,  1,   -999,      2,2,19890918,1625,-35.7475, 169.7832, 1880,   1233.2,   4.1310,  34.5070,2,  34.5080,2,    167.6,2,    166.6,2,    69.99,3,    33.84,3,     2.52,3
    09FA1089_2,      ,   273,  1,   -999,      3,2,19890918,1625,-35.7475, 169.7832, 1880,   1418.3,   3.3650,  34.5590,2,  34.5610,2,    159.8,2,    158.5,2,    87.88,3,    35.34,3,     2.64,3
    09FA1089_2,      ,   273,  1,   -999,     12,2,19890918,1625,-35.7475, 169.7832, 1880,   1498.1,   3.1410,  34.5770,2,  34.5750,2,    157.1,2,    156.3,2,  -999.00,5,  -999.00,5,  -999.00,5
    09FA1089_2,      ,   273,  1,   -999,     13,2,19890918,1625,-35.7475, 169.7832, 1880,   1749.1,   2.5600,  34.6290,2,  34.6290,2,    153.7,2,    151.6,2,   112.31,3,    36.46,3,     2.73,3
    09FA1089_2,      ,   273,  1,   -999,      4,2,19890918,1625,-35.7475, 169.7832, 1880,   1878.4,   2.4200,  34.6400,2,  34.6410,2,    153.5,2,    151.6,2,   113.97,3,    36.46,3,     2.73,3
    09FA1089_2,      ,   275,  1,   -999,     22,2,19890918,2253,-36.4278, 168.9900, 2340,      4.0,  15.3790,  35.4500,2,  35.4470,2,    249.3,2,    246.1,2,     1.95,3,     1.78,3,     0.41,3
    09FA1089_2,      ,   275,  1,   -999,     27,2,19890918,2253,-36.4278, 168.9900, 2340,     98.7,  14.5380,  35.3970,2,  35.3940,2,    230.1,2,    232.0,2,     2.25,3,     4.12,3,     0.54,3
    09FA1089_2,      ,   275,  1,   -999,     31,2,19890918,2253,-36.4278, 168.9900, 2340,    148.4,  14.1020,  35.3480,2,  35.3460,2,    234.2,2,    237.0,2,     2.15,3,     3.73,3,     0.51,3
    09FA1089_2,      ,   275,  1,   -999,     24,2,19890918,2253,-36.4278, 168.9900, 2340,    198.7,  13.3630,  35.2570,2,  35.2570,2,    207.4,2,    213.0,2,     3.71,3,     8.00,3,     0.78,3
    09FA1089_2,      ,   275,  1,   -999,      1,2,19890918,2253,-36.4278, 168.9900, 2340,    299.0,  12.0950,  35.1010,2,  35.1010,2,    198.6,2,    198.1,2,     5.86,3,    12.77,3,     1.06,3
    09FA1089_2,      ,   275,  1,   -999,     10,2,19890918,2253,-36.4278, 168.9900, 2340,    398.8,  10.7030,  34.9030,2,  34.9060,2,    194.7,2,    193.1,2,     7.62,3,    16.93,3,     1.31,3
    09FA1089_2,      ,   275,  1,   -999,      8,2,19890918,2253,-36.4278, 168.9900, 2340,    599.8,   8.7390,  34.6840,2,  34.6860,2,    189.9,2,    185.6,2,    14.95,3,    22.69,3,     1.71,3
    09FA1089_2,      ,   275,  1,   -999,     26,2,19890918,2253,-36.4278, 168.9900, 2340,    799.2,   7.1240,  34.5630,2,  34.5650,2,    178.8,2,    178.4,2,    25.42,3,    27.01,3,     2.01,3
    09FA1089_2,      ,   275,  1,   -999,     29,2,19890918,2253,-36.4278, 168.9900, 2340,    998.8,   5.6490,  34.4930,2,  34.4950,2,    175.4,2,    176.8,2,    37.44,3,    30.29,3,     2.25,3
    09FA1089_2,      ,   275,  1,   -999,     20,2,19890918,2253,-36.4278, 168.9900, 2340,   1078.8,   5.0960,  34.4890,2,  34.4900,2,    173.7,2,    174.0,2,    52.10,3,    31.59,3,     2.36,3
    09FA1089_2,      ,   275,  1,   -999,      9,2,19890918,2253,-36.4278, 168.9900, 2340,   1250.3,   4.1980,  34.5050,2,  34.5090,2,    165.8,2,    163.1,2,    68.33,3,    33.66,3,     2.49,3
    09FA1089_2,      ,   275,  1,   -999,      6,2,19890918,2253,-36.4278, 168.9900, 2340,   1474.7,   3.2970,  34.5620,2,  -9.9999,5,    157.4,2,    154.7,2,    89.54,3,    35.19,3,     2.61,3
    09FA1089_2,      ,   275,  1,   -999,      2,2,19890918,2253,-36.4278, 168.9900, 2340,   1554.4,   3.0450,  34.5830,2,  34.5840,2,    155.1,2,    153.2,2,    97.65,3,    35.52,3,     2.69,3
    09FA1089_2,      ,   275,  1,   -999,      3,2,19890918,2253,-36.4278, 168.9900, 2340,   1748.5,   2.5850,  34.6260,2,  34.6220,2,    151.7,2,    150.1,2,   112.31,3,    36.27,3,     2.73,3
    09FA1089_2,      ,   275,  1,   -999,     12,2,19890918,2253,-36.4278, 168.9900, 2340,   1998.8,   2.2460,  34.6550,2,  34.6530,2,    151.5,2,    150.7,2,   122.08,3,    36.64,3,     2.73,3
    09FA1089_2,      ,   275,  1,   -999,     13,2,19890918,2253,-36.4278, 168.9900, 2340,   2263.1,   2.0480,  34.6740,2,  34.6730,2,    152.0,2,    149.4,2,   125.31,3,    36.64,3,     2.75,3
    09FA1089_2,      ,   275,  1,   -999,      4,2,19890918,2253,-36.4278, 168.9900, 2340,   2337.3,   1.9990,  34.6790,2,  34.6780,2,    151.5,2,    149.1,2,   126.97,3,    36.64,3,     2.75,3
    09FA1089_2,      ,   277,  1,   -999,     22,2,19890919,0521,-37.0918, 168.2157, 1186,      4.5,  15.3840,  35.4530,2,  35.4530,2,    243.0,2,    248.9,2,     1.76,3,     1.78,3,     0.41,3
    09FA1089_2,      ,   277,  1,   -999,     10,2,19890919,0521,-37.0918, 168.2157, 1186,     48.3,  14.4910,  35.4000,2,  35.3980,2,    230.3,2,    232.3,2,     2.15,3,     1.78,3,     0.52,3
    09FA1089_2,      ,   277,  1,   -999,     28,2,19890919,0521,-37.0918, 168.2157, 1186,     93.6,  14.0910,  35.3520,2,  35.3500,2,    226.5,2,    238.6,2,     1.95,3,     3.15,3,     0.48,3
    09FA1089_2,      ,   277,  1,   -999,      8,2,19890919,0521,-37.0918, 168.2157, 1186,    148.1,  13.2720,  35.2520,2,  35.2510,2,    219.2,2,    209.9,2,     3.71,3,     7.42,3,     0.80,3
    09FA1089_2,      ,   277,  1,   -999,     26,2,19890919,0521,-37.0918, 168.2157, 1186,    199.6,  12.5300,  35.1620,2,  35.1580,2,    195.4,2,    201.5,2,     4.89,3,    11.08,3,     0.97,3
    09FA1089_2,      ,   277,  1,   -999,     29,2,19890919,0521,-37.0918, 168.2157, 1186,    299.0,  11.5030,  35.0250,2,  35.0210,2,    194.5,2,    198.4,2,     6.35,3,    13.68,3,     1.11,3
    09FA1089_2,      ,   277,  1,   -999,     20,2,19890919,0521,-37.0918, 168.2157, 1186,    399.4,  10.2410,  34.8500,2,  34.8520,2,    188.2,2,    190.9,2,     9.28,3,    18.19,3,     1.40,3
    09FA1089_2,      ,   277,  1,   -999,      9,2,19890919,0521,-37.0918, 168.2157, 1186,    501.5,   9.3230,  34.7380,2,  34.7420,2,    185.2,2,    186.9,2,    11.92,3,    20.70,3,     1.56,3
    09FA1089_2,      ,   277,  1,   -999,      6,2,19890919,0521,-37.0918, 168.2157, 1186,    598.1,   8.8900,  34.6930,2,  34.6940,2,    186.2,2,    188.7,2,    13.78,3,    21.96,3,     1.65,3
    09FA1089_2,      ,   277,  1,   -999,     18,2,19890919,0521,-37.0918, 168.2157, 1186,    697.5,   8.3200,  34.6440,2,  34.6440,2,    181.7,2,    185.9,2,    17.11,3,    23.59,3,     1.76,3
    09FA1089_2,      ,   277,  1,   -999,      3,2,19890919,0521,-37.0918, 168.2157, 1186,    799.2,   6.9720,  34.5550,2,  34.5560,2,    176.3,2,    178.4,2,    26.98,3,    27.19,3,     2.03,3
    09FA1089_2,      ,   277,  1,   -999,     12,2,19890919,0521,-37.0918, 168.2157, 1186,    898.4,   6.1030,  34.5260,2,  34.5250,2,    172.6,2,    173.1,2,    35.78,3,    29.19,3,     2.18,3
    09FA1089_2,      ,   277,  1,   -999,     13,2,19890919,0521,-37.0918, 168.2157, 1186,    997.5,   5.6240,  34.5130,2,  34.5140,2,    171.9,2,    171.9,2,    52.10,3,    30.29,3,     2.27,3
    09FA1089_2,      ,   277,  1,   -999,      4,2,19890919,0521,-37.0918, 168.2157, 1186,   1185.6,   4.7590,  34.5040,2,  34.5090,2,    167.6,2,    167.5,2,    60.22,3,    32.35,3,     2.40,3