BOTTLE,20010820WHPSIOKJU
#code : jjward hyd_to_exchange.pl 
#original files copied from HTML directory: 20010820
#original HYD file: pr11_ahy.txt   Mon Aug 20 15:04:21 2001
#original SUM file: pr11_asu.txt   Mon Aug 20 14:59:13 2001
EXPOCODE,SECT_ID,STNNBR,CASTNO,SAMPNO,BTLNBR,BTLNBR_FLAG_W,DATE,TIME,LATITUDE,LONGITUDE,DEPTH,CTDPRS,CTDTMP,CTDSAL,CTDSAL_FLAG_W,SALNTY,SALNTY_FLAG_W,CTDOXY,CTDOXY_FLAG_W,OXYGEN,OXYGEN_FLAG_W,SILCAT,SILCAT_FLAG_W,NO2+NO3,NO2+NO3_FLAG_W,PHSPHT,PHSPHT_FLAG_W
,,,,,,,,,,,,DBR,ITS-90,PSS-78,,PSS-78,,UMOL/KG,,UMOL/KG,,UMOL/KG,,UMOL/KG,,UMOL/KG,
    09FA1089_1,      ,     1,  1,   -999,     10,2,19890815,0222,-43.1703, 147.5183,   42,      1.9,  10.2150,  33.8990,2,  33.9030,2,   -999.0,5,    279.2,2,     3.23,3,     0.34,3,     0.32,3
    09FA1089_1,      ,     1,  1,   -999,     21,2,19890815,0222,-43.1703, 147.5183,   42,      8.5,  10.3810,  34.1840,2,  34.0810,2,   -999.0,5,    275.8,2,     2.93,3,     0.51,3,     0.34,3
    09FA1089_1,      ,     1,  1,   -999,     12,2,19890815,0222,-43.1703, 147.5183,   42,     18.6,  11.6700,  34.9920,2,  34.9440,2,   -999.0,5,    261.0,2,     1.37,3,     1.69,3,     0.44,3
    09FA1089_1,      ,     1,  1,   -999,      4,2,19890815,0222,-43.1703, 147.5183,   42,     35.5,  11.9740,  35.1290,2,  35.1290,2,   -999.0,5,    257.2,2,     1.17,3,     2.20,3,     0.41,3
    09FA1089_1,      ,     1,  1,   -999,      3,2,19890815,0222,-43.1703, 147.5183,   42,     41.8,  11.9770,  35.1300,2,  35.1250,2,   -999.0,5,    256.1,2,     1.17,3,     2.36,3,     0.43,3
    09FA1089_1, PR13N,     3,  1,   -999,     21,2,19890815,0528,-43.2103, 148.0632,   94,      2.4,  12.5430,  35.1680,2,  35.1670,2,   -999.0,5,    253.9,2,     0.88,3,     2.53,3,     0.40,3
    09FA1089_1, PR13N,     3,  1,   -999,      4,2,19890815,0528,-43.2103, 148.0632,   94,     49.7,  12.5310,  35.1760,2,  35.1760,2,   -999.0,5,    253.3,2,     0.88,3,     2.53,3,     0.41,3
    09FA1089_1, PR13N,     3,  1,   -999,      3,2,19890815,0528,-43.2103, 148.0632,   94,     92.6,  12.5220,  35.1750,2,  35.1760,2,   -999.0,5,    253.3,2,     0.88,3,     2.70,3,     0.43,3
    09FA1089_1, PR13N,     5,  1,   -999,     21,2,19890815,0621,-43.2153, 148.0758,  140,      4.1,  12.4990,  35.1620,2,  35.1650,2,   -999.0,5,    254.7,2,     0.98,3,     2.70,3,     0.44,3
    09FA1089_1, PR13N,     5,  1,   -999,      4,2,19890815,0621,-43.2153, 148.0758,  140,     98.1,  12.3890,  35.1410,2,  35.1430,2,   -999.0,5,    253.3,2,     0.98,3,     2.70,3,     0.44,3
    09FA1089_1, PR13N,     5,  1,   -999,      3,2,19890815,0621,-43.2153, 148.0758,  140,    139.5,  12.3740,  35.1370,2,  35.1330,2,   -999.0,5,    253.6,2,     0.98,3,     2.70,3,     0.44,3
    09FA1089_1, PR13N,     7,  1,   -999,     21,2,19890815,0718,-43.2202, 148.1048,  188,     48.2,  12.4620,  35.1480,2,  35.1500,2,   -999.0,5,    253.0,2,     1.17,3,     2.87,3,     0.44,3
    09FA1089_1, PR13N,     7,  1,   -999,      5,2,19890815,0718,-43.2202, 148.1048,  188,     94.1,  12.4120,  35.1390,2,  35.1410,2,   -999.0,5,    252.2,2,     1.17,3,     2.87,3,     0.44,3
    09FA1089_1, PR13N,     7,  1,   -999,      3,2,19890815,0718,-43.2202, 148.1048,  188,    186.8,  12.3140,  35.1240,2,  35.1260,2,   -999.0,5,    255.5,2,     0.98,3,     2.36,3,     0.40,3
    09FA1089_1, PR13N,     7,  1,   -999,      4,2,19890815,0718,-43.2202, 148.1048,  188,    186.8,  12.3140,  35.1240,2,  35.1280,2,   -999.0,5,    255.2,2,     0.98,3,     2.53,3,     0.41,3
    09FA1089_1, PR13N,     9,  1,   -999,     11,2,19890815,0828,-43.2523, 148.2133,  502,      4.4,  12.9290,  35.2250,2,  -9.9999,5,   -999.0,5,    247.5,2,     1.86,3,     4.56,3,     0.55,3
    09FA1089_1, PR13N,     9,  1,   -999,      1,2,19890815,0828,-43.2523, 148.2133,  502,     46.8,  12.8480,  35.2100,2,  35.2050,2,   -999.0,5,    247.8,2,     1.37,3,     4.05,3,     0.49,3
    09FA1089_1, PR13N,     9,  1,   -999,      4,2,19890815,0828,-43.2523, 148.2133,  502,    100.7,  12.6880,  35.1830,2,  35.1780,2,   -999.0,5,    251.4,2,     1.37,3,     4.05,3,     0.50,3
    09FA1089_1, PR13N,     9,  1,   -999,      6,2,19890815,0828,-43.2523, 148.2133,  502,    148.0,  12.6840,  35.1820,2,  35.1830,2,   -999.0,5,    251.1,2,     1.37,3,     4.05,3,     0.52,3
    09FA1089_1, PR13N,     9,  1,   -999,      5,2,19890815,0828,-43.2523, 148.2133,  502,    196.7,  12.6610,  35.1750,2,  35.1780,2,   -999.0,5,    250.8,2,     1.37,3,     4.05,3,     0.49,3
    09FA1089_1, PR13N,     9,  1,   -999,      8,2,19890815,0828,-43.2523, 148.2133,  502,    296.7,  12.3730,  35.1270,2,  35.1140,2,   -999.0,5,    251.1,2,     2.05,3,     4.39,3,     0.52,3
    09FA1089_1, PR13N,     9,  1,   -999,     21,2,19890815,0828,-43.2523, 148.2133,  502,    398.0,  11.0300,  34.8970,2,  34.8980,2,   -999.0,5,    240.8,2,     3.13,3,    10.64,3,     0.88,3
    09FA1089_1, PR13N,     9,  1,   -999,      3,2,19890815,0828,-43.2523, 148.2133,  502,    502.0,  10.1700,  34.7920,2,  34.7970,2,   -999.0,5,    226.5,2,     5.18,3,    15.20,3,     1.14,3
    09FA1089_1, PR13N,    11,  1,   -999,     11,2,19890815,0951,-43.2483, 148.2622, 1010,      3.0,  13.2710,  35.2950,2,  35.2940,2,   -999.0,5,    243.9,2,     1.86,3,     5.24,3,     0.56,3
    09FA1089_1, PR13N,    11,  1,   -999,     12,2,19890815,0951,-43.2483, 148.2622, 1010,     48.0,  13.3020,  35.3010,2,  35.3020,2,   -999.0,5,    245.3,2,     2.05,3,     5.24,3,     0.56,3
    09FA1089_1, PR13N,    11,  1,   -999,     30,2,19890815,0951,-43.2483, 148.2622, 1010,    148.1,  12.7430,  35.1860,2,  35.1870,2,   -999.0,5,    250.5,2,     1.37,3,     4.05,3,     0.52,3
    09FA1089_1, PR13N,    11,  1,   -999,      1,2,19890815,0951,-43.2483, 148.2622, 1010,    199.2,  12.8010,  35.2030,2,  35.2000,2,   -999.0,5,    251.1,2,     1.37,3,     4.05,3,     0.52,3
    09FA1089_1, PR13N,    11,  1,   -999,      4,2,19890815,0951,-43.2483, 148.2622, 1010,    299.4,  12.4110,  35.1190,2,  35.1210,2,   -999.0,5,    251.1,2,     1.37,3,     4.90,3,     0.53,3
    09FA1089_1, PR13N,    11,  1,   -999,      6,2,19890815,0951,-43.2483, 148.2622, 1010,    395.7,  11.3750,  34.9750,2,  34.9800,2,   -999.0,5,    226.7,2,     4.10,3,    12.16,3,     0.96,3
    09FA1089_1, PR13N,    11,  1,   -999,      5,2,19890815,0951,-43.2483, 148.2622, 1010,    498.3,  10.2140,  34.8170,2,  34.8160,2,   -999.0,5,    213.5,2,     6.16,3,    17.05,3,     1.24,3
    09FA1089_1, PR13N,    11,  1,   -999,      8,2,19890815,0951,-43.2483, 148.2622, 1010,    596.3,   9.2180,  34.6790,2,  34.6770,2,   -999.0,5,    214.3,2,     7.43,3,    19.93,3,     1.39,3
    09FA1089_1, PR13N,    11,  1,   -999,     21,2,19890815,0951,-43.2483, 148.2622, 1010,    798.0,   7.5170,  34.5480,2,  34.5460,2,   -999.0,5,    190.2,2,    17.69,3,    26.69,3,     1.84,3
    09FA1089_1, PR13N,    11,  1,   -999,      3,2,19890815,0951,-43.2483, 148.2622, 1010,   1009.4,   5.4770,  34.4670,2,  34.4700,2,   -999.0,5,    180.2,2,    36.07,3,    32.09,3,     2.21,3
    09FA1089_1, PR13N,    15,  1,   -999,     11,2,19890815,1309,-43.2642, 148.3303, 2052,      3.8,  13.1060,  35.2570,2,  35.2600,2,   -999.0,5,    244.2,2,     1.86,3,     5.40,3,     0.56,3
    09FA1089_1, PR13N,    15,  1,   -999,     27,2,19890815,1309,-43.2642, 148.3303, 2052,     48.5,  13.1440,  35.2630,2,  35.2620,2,   -999.0,5,    245.6,2,     1.76,3,     4.89,3,     0.53,3
    09FA1089_1, PR13N,    15,  1,   -999,     31,2,19890815,1309,-43.2642, 148.3303, 2052,     98.8,  13.1280,  35.2580,2,  -9.9999,5,   -999.0,5,    244.8,2,     1.86,3,     5.37,3,     0.55,3
    09FA1089_1, PR13N,    15,  1,   -999,     22,2,19890815,1309,-43.2642, 148.3303, 2052,    149.7,  13.0140,  35.2290,2,  35.2490,2,   -999.0,5,    246.1,2,     1.86,3,     5.40,3,     0.56,3
    09FA1089_1, PR13N,    15,  1,   -999,     10,2,19890815,1309,-43.2642, 148.3303, 2052,    198.3,  12.9020,  35.2020,2,  35.1990,2,   -999.0,5,    244.7,2,     1.76,3,     5.75,3,     0.56,3
    09FA1089_1, PR13N,    15,  1,   -999,     20,2,19890815,1309,-43.2642, 148.3303, 2052,    298.6,  12.3540,  35.1270,2,  35.1250,2,   -999.0,5,    215.4,2,     3.81,3,    11.48,3,     0.90,3
    09FA1089_1, PR13N,    15,  1,   -999,     12,2,19890815,1309,-43.2642, 148.3303, 2052,    400.0,  10.2690,  34.7980,2,  34.7990,2,   -999.0,5,    228.7,2,     4.79,3,    15.71,3,     1.14,3
    09FA1089_1, PR13N,    15,  1,   -999,     17,2,19890815,1309,-43.2642, 148.3303, 2052,    498.7,   9.3000,  34.6710,2,  34.6740,2,   -999.0,5,    231.7,2,     5.86,3,    18.58,3,     1.30,3
    09FA1089_1, PR13N,    15,  1,   -999,     30,2,19890815,1309,-43.2642, 148.3303, 2052,    598.3,   8.7620,  34.6120,2,  34.6120,2,   -999.0,5,    220.9,2,     7.53,3,    20.44,3,     1.39,3
    09FA1089_1, PR13N,    15,  1,   -999,      1,2,19890815,1309,-43.2642, 148.3303, 2052,    798.9,   7.4530,  34.5260,2,  34.5280,2,   -999.0,5,    193.8,2,    16.13,3,    26.18,3,     1.74,3
    09FA1089_1, PR13N,    15,  1,   -999,      4,2,19890815,1309,-43.2642, 148.3303, 2052,    999.9,   5.7050,  34.4590,2,  34.4640,2,   -999.0,5,    181.9,2,    32.46,3,    31.76,3,     2.13,3
    09FA1089_1, PR13N,    15,  1,   -999,      6,2,19890815,1309,-43.2642, 148.3303, 2052,   1239.0,   4.1260,  34.4890,2,  34.4940,2,   -999.0,5,    168.8,2,    68.62,3,    35.98,3,     2.46,3
    09FA1089_1, PR13N,    15,  1,   -999,      8,2,19890815,1309,-43.2642, 148.3303, 2052,   1498.7,   3.1490,  34.5580,2,  34.5540,2,   -999.0,5,    157.8,2,    89.25,3,    38.01,3,     2.56,3
    09FA1089_1, PR13N,    15,  1,   -999,     21,2,19890815,1309,-43.2642, 148.3303, 2052,   1748.2,   2.6730,  34.6160,2,  34.6120,2,   -999.0,5,    160.0,2,    97.84,3,    38.00,3,     2.58,3
    09FA1089_1, PR13N,    15,  1,   -999,      3,2,19890815,1309,-43.2642, 148.3303, 2052,   1924.1,   2.2170,  34.6940,2,  34.6940,2,   -999.0,5,    175.4,2,   106.34,3,    36.31,3,     2.43,3
    09FA1089_1, PR13N,    17,  1,   -999,     11,2,19890815,1607,-43.2448, 148.5495, 2950,      4.5,  13.2630,  35.2970,2,  35.2980,2,   -999.0,5,    244.7,2,     2.05,3,     5.42,3,     0.56,3
    09FA1089_1, PR13N,    17,  1,   -999,     19,2,19890815,1607,-43.2448, 148.5495, 2950,     48.2,  13.1030,  35.2690,2,  35.2620,2,   -999.0,5,    248.3,2,     1.86,3,     5.42,3,     0.56,3
    09FA1089_1, PR13N,    17,  1,   -999,     24,2,19890815,1607,-43.2448, 148.5495, 2950,     97.5,  12.6780,  35.1850,2,  35.1860,2,   -999.0,5,    249.4,2,     1.86,3,     5.75,3,     0.57,3
    09FA1089_1, PR13N,    17,  1,   -999,     28,2,19890815,1607,-43.2448, 148.5495, 2950,    147.3,  12.3540,  35.1030,2,  35.1060,2,   -999.0,5,    250.3,2,     1.86,3,     6.24,3,     0.61,3
    09FA1089_1, PR13N,    17,  1,   -999,     18,2,19890815,1607,-43.2448, 148.5495, 2950,    198.6,  11.7920,  34.9780,2,  34.9800,2,   -999.0,5,    250.8,2,     1.86,3,     7.23,3,     0.64,3
    09FA1089_1, PR13N,    17,  1,   -999,     27,2,19890815,1607,-43.2448, 148.5495, 2950,    298.9,  10.6450,  34.8460,2,  34.8460,2,   -999.0,5,    231.4,2,     4.10,3,    14.13,3,     1.05,3
    09FA1089_1, PR13N,    17,  1,   -999,     31,2,19890815,1607,-43.2448, 148.5495, 2950,    398.4,   9.5720,  34.7150,2,  34.7150,2,   -999.0,5,    223.9,2,     4.11,3,    14.13,3,     1.05,3
    09FA1089_1, PR13N,    17,  1,   -999,     22,2,19890815,1607,-43.2448, 148.5495, 2950,    499.2,   8.9130,  34.6320,2,  34.6340,2,   -999.0,5,    219.5,2,     7.23,3,    19.72,3,     1.38,3
    09FA1089_1, PR13N,    17,  1,   -999,     10,2,19890815,1607,-43.2448, 148.5495, 2950,    599.3,   8.4370,  34.5990,2,  34.6010,2,   -999.0,5,    202.9,2,    11.14,3,    23.01,3,     1.57,3
    09FA1089_1, PR13N,    17,  1,   -999,     20,2,19890815,1607,-43.2448, 148.5495, 2950,    799.2,   6.8990,  34.4970,2,  -9.9999,5,   -999.0,5,    187.9,2,  -999.00,5,  -999.00,5,  -999.00,5
    09FA1089_1, PR13N,    17,  1,   -999,     12,2,19890815,1607,-43.2448, 148.5495, 2950,    998.9,   5.4120,  34.4490,2,  34.4540,2,   -999.0,5,    181.5,2,    34.90,3,    31.72,3,     2.15,3
    09FA1089_1, PR13N,    17,  1,   -999,     17,2,19890815,1607,-43.2448, 148.5495, 2950,   1217.0,   4.0870,  34.4780,2,  34.4790,2,   -999.0,5,    169.3,2,    59.24,3,    34.70,3,     2.37,3
    09FA1089_1, PR13N,    17,  1,   -999,     30,2,19890815,1607,-43.2448, 148.5495, 2950,   1439.0,   3.1610,  34.5230,2,  34.5240,2,   -999.0,5,    166.5,2,    76.15,3,    36.48,3,     2.50,3
    09FA1089_1, PR13N,    17,  1,   -999,      1,2,19890815,1607,-43.2448, 148.5495, 2950,   1499.1,   2.9640,  34.5490,2,  34.5480,2,   -999.0,5,    162.6,2,    77.81,3,    36.65,3,     2.50,3
    09FA1089_1, PR13N,    17,  1,   -999,      4,2,19890815,1607,-43.2448, 148.5495, 2950,   1748.9,   2.5410,  34.6320,2,  34.6360,2,   -999.0,5,    161.2,2,    93.05,3,    36.16,3,     2.48,3
    09FA1089_1, PR13N,    17,  1,   -999,      6,2,19890815,1607,-43.2448, 148.5495, 2950,   2057.3,   2.2090,  34.6930,2,  34.6910,2,   -999.0,5,    174.2,2,    96.47,3,    34.83,3,     2.39,3
    09FA1089_1, PR13N,    17,  1,   -999,      5,2,19890815,1607,-43.2448, 148.5495, 2950,   2378.6,   2.0050,  34.7240,2,  34.7210,2,   -999.0,5,    180.3,2,    99.79,3,    34.35,3,     2.33,3
    09FA1089_1, PR13N,    17,  1,   -999,      8,2,19890815,1607,-43.2448, 148.5495, 2950,   2498.9,   1.9550,  34.7340,2,  34.7220,3,   -999.0,5,    180.0,2,    98.13,3,    34.51,3,     2.33,3
    09FA1089_1, PR13N,    17,  1,   -999,     21,2,19890815,1607,-43.2448, 148.5495, 2950,   2789.0,   1.7810,  34.7360,2,  34.7340,2,   -999.0,5,    185.0,2,   111.62,3,    34.18,3,     2.33,3
    09FA1089_1, PR13N,    17,  1,   -999,      3,2,19890815,1607,-43.2448, 148.5495, 2950,   2947.2,   1.6940,  34.7360,2,  34.7320,2,   -999.0,5,    189.4,2,   126.86,3,    34.18,3,     2.33,3
    09FA1089_1, PR13N,    19,  1,   -999,     11,2,19890815,2140,-43.2458, 149.3297, 3100,      3.8,  12.5410,  35.1560,2,  35.1580,2,    269.9,2,    248.3,2,     2.25,3,     6.90,3,     0.74,3
    09FA1089_1, PR13N,    19,  1,   -999,     25,2,19890815,2140,-43.2458, 149.3297, 3100,     48.9,  12.5080,  35.1530,2,  35.1500,2,    248.3,2,    251.1,2,     2.05,3,     6.90,3,     0.65,3
    09FA1089_1, PR13N,    19,  1,   -999,     19,2,19890815,2140,-43.2458, 149.3297, 3100,     98.2,  12.4950,  35.1510,2,  35.1490,2,    248.0,2,    246.9,2,     2.25,3,     6.90,3,     0.64,3
    09FA1089_1, PR13N,    19,  1,   -999,     24,2,19890815,2140,-43.2458, 149.3297, 3100,    148.5,  12.0300,  35.0670,2,  35.0630,2,    241.7,2,    233.7,2,  -999.00,5,  -999.00,5,  -999.00,5
    09FA1089_1, PR13N,    19,  1,   -999,     28,2,19890815,2140,-43.2458, 149.3297, 3100,    198.7,  11.3680,  34.9680,2,  -9.9999,5,    213.0,2,   -999.0,5,  -999.00,5,  -999.00,5,  -999.00,5
    09FA1089_1, PR13N,    19,  1,   -999,     18,2,19890815,2140,-43.2458, 149.3297, 3100,    299.5,  10.3710,  34.8300,2,  34.8280,2,    225.3,2,    219.2,2,     5.28,3,    16.11,3,     1.13,3
    09FA1089_1, PR13N,    19,  1,   -999,     27,2,19890815,2140,-43.2458, 149.3297, 3100,    399.0,   9.4040,  34.6860,2,  -9.9999,5,    208.2,2,   -999.0,5,  -999.00,5,  -999.00,5,  -999.00,5
    09FA1089_1, PR13N,    19,  1,   -999,     31,2,19890815,2140,-43.2458, 149.3297, 3100,    499.0,   8.9660,  34.6430,2,  34.6460,2,    193.2,2,    217.6,2,     7.62,3,    20.38,3,     1.38,3
    09FA1089_1, PR13N,    19,  1,   -999,     22,2,19890815,2140,-43.2458, 149.3297, 3100,    597.9,   8.1260,  34.5310,2,  34.5350,2,    187.0,2,    221.1,2,     9.48,3,    22.68,3,     1.52,3
    09FA1089_1, PR13N,    19,  1,   -999,     10,2,19890815,2140,-43.2458, 149.3297, 3100,    699.0,   7.6080,  34.5190,2,  34.5220,2,    182.2,2,    200.9,2,    14.57,3,    25.96,3,     1.80,3
    09FA1089_1, PR13N,    19,  1,   -999,     20,2,19890815,2140,-43.2458, 149.3297, 3100,    799.6,   6.8770,  34.4900,2,  34.4900,2,    184.0,2,    190.1,2,    20.63,3,    28.43,3,     1.89,3
    09FA1089_1, PR13N,    19,  1,   -999,     12,2,19890815,2140,-43.2458, 149.3297, 3100,    998.4,   5.4500,  34.4410,2,  34.4440,2,    182.9,2,    185.1,2,    32.65,3,    31.56,3,     2.08,3
    09FA1089_1, PR13N,    19,  1,   -999,     17,2,19890815,2140,-43.2458, 149.3297, 3100,   1099.2,   4.7730,  34.4450,2,  -9.9999,5,    169.8,2,    179.3,2,    50.74,3,    33.73,3,     2.23,3
    09FA1089_1, PR13N,    19,  1,   -999,     30,2,19890815,2140,-43.2458, 149.3297, 3100,   1249.3,   3.7790,  34.4290,2,  34.4280,2,    170.2,2,    182.6,2,  -999.00,5,  -999.00,5,  -999.00,5
    09FA1089_1, PR13N,    19,  1,   -999,      1,2,19890815,2140,-43.2458, 149.3297, 3100,   1498.9,   3.0520,  34.5310,2,  34.5340,2,    178.6,2,    166.0,2,    76.15,3,    37.15,3,     2.48,3
    09FA1089_1, PR13N,    19,  1,   -999,      4,2,19890815,2140,-43.2458, 149.3297, 3100,   1748.3,   2.6330,  34.6060,2,  34.6060,2,    182.2,2,    165.4,2,    82.89,3,    36.81,3,     2.45,3
    09FA1089_1, PR13N,    19,  1,   -999,      6,2,19890815,2140,-43.2458, 149.3297, 3100,   2148.3,   2.2520,  34.6910,2,  34.6880,2,    183.3,2,    175.9,2,    93.05,3,    35.17,3,     2.36,3
    09FA1089_1, PR13N,    19,  1,   -999,      5,2,19890815,2140,-43.2458, 149.3297, 3100,   2448.3,   2.0310,  34.7260,2,  34.7240,2,    184.6,2,    183.6,2,    96.47,3,    34.35,3,     2.30,3
    09FA1089_1, PR13N,    19,  1,   -999,      8,2,19890815,2140,-43.2458, 149.3297, 3100,   2497.7,   1.9780,  34.7310,2,  34.7300,2,    185.2,2,    183.4,2,    98.13,3,    34.67,3,     2.30,3
    09FA1089_1, PR13N,    19,  1,   -999,     21,2,19890815,2140,-43.2458, 149.3297, 3100,   2896.9,   1.8000,  34.7360,2,  34.7360,2,    185.2,2,    186.9,2,   103.21,3,    34.51,3,     2.30,3
    09FA1089_1, PR13N,    19,  1,   -999,      3,2,19890815,2140,-43.2458, 149.3297, 3100,   3099.1,   1.7310,  34.7370,2,  34.7370,2,    185.2,2,    188.6,2,   106.53,3,    34.51,3,     2.30,3