BOTTLE,20010820WHPSIOKJU
EXPOCODE,SECT_ID,STNNBR,CASTNO,SAMPNO,BTLNBR,BTLNBR_FLAG_W,DATE,TIME,LATITUDE,LONGITUDE,DEPTH,CTDPRS,CTDTMP,CTDSAL,CTDSAL_FLAG_W,SALNTY,SALNTY_FLAG_W,CTDOXY,CTDOXY_FLAG_W,OXYGEN,OXYGEN_FLAG_W,SILCAT,SILCAT_FLAG_W,NO2+NO3,NO2+NO3_FLAG_W,PHSPHT,PHSPHT_FLAG_W
,,,,,,,,,,,,DBR,ITS-90,PSS-78,,PSS-78,,UMOL/KG,,UMOL/KG,,UMOL/KG,,UMOL/KG,,UMOL/KG,
    09FA1089_1,  PR11,    89,  1,   -999,     11,2,19890825,1838,-33.0802, 172.3628, 1832,      3.4,  17.3050,  35.5810,2,  35.5810,2,    191.5,2,    229.7,2,     2.64,3,     2.35,3,     0.44,3
    09FA1089_1,  PR11,    89,  1,   -999,     19,2,19890825,1838,-33.0802, 172.3628, 1832,     47.8,  17.3110,  35.5810,2,  35.5810,2,    228.7,2,    229.4,2,     1.17,3,     2.35,3,     0.37,3
    09FA1089_1,  PR11,    89,  1,   -999,      3,2,19890825,1838,-33.0802, 172.3628, 1832,     99.6,  17.0810,  35.5610,2,  35.5590,2,    227.1,2,    230.1,2,     1.17,3,     2.55,3,     0.37,3
    09FA1089_1,  PR11,    89,  1,   -999,     23,2,19890825,1838,-33.0802, 172.3628, 1832,    147.3,  16.4070,  35.5040,2,  -9.9999,5,    224.9,2,    229.0,2,  -999.00,5,  -999.00,5,  -999.00,5
    09FA1089_1,  PR11,    89,  1,   -999,     20,2,19890825,1838,-33.0802, 172.3628, 1832,    198.5,  15.8050,  35.4470,2,  -9.9999,5,    203.4,2,    216.6,2,     2.34,3,     5.50,3,     0.56,3
    09FA1089_1,  PR11,    89,  1,   -999,      9,2,19890825,1838,-33.0802, 172.3628, 1832,    298.9,  13.4340,  35.2200,2,  -9.9999,5,    190.8,2,    195.1,2,     4.98,3,    11.99,3,     0.93,3
    09FA1089_1,  PR11,    89,  1,   -999,     18,2,19890825,1838,-33.0802, 172.3628, 1832,    399.3,  11.1340,  34.9460,2,  34.9490,2,    185.5,2,    189.6,2,     8.01,3,    17.10,3,     1.26,3
    09FA1089_1,  PR11,    89,  1,   -999,     27,2,19890825,1838,-33.0802, 172.3628, 1832,    498.8,  10.0540,  34.8180,2,  34.8170,2,    189.4,2,    190.2,2,    10.65,3,    20.04,3,     1.43,3
    09FA1089_1,  PR11,    89,  1,   -999,      2,2,19890825,1838,-33.0802, 172.3628, 1832,    598.5,   8.8740,  34.6930,2,  34.6940,2,    191.6,2,    191.3,2,    14.27,3,    22.80,3,     1.61,3
    09FA1089_1,  PR11,    89,  1,   -999,     17,2,19890825,1838,-33.0802, 172.3628, 1832,    797.3,   7.2070,  34.5650,2,  34.5670,2,    188.4,2,    187.1,2,    26.29,3,    27.14,3,     1.90,3
    09FA1089_1,  PR11,    89,  1,   -999,     24,2,19890825,1838,-33.0802, 172.3628, 1832,    997.7,   5.7210,  34.5150,2,  34.5160,2,    180.9,2,    175.0,2,    39.49,3,    31.07,3,     2.21,3
    09FA1089_1,  PR11,    89,  1,   -999,     31,2,19890825,1838,-33.0802, 172.3628, 1832,   1228.1,   4.1670,  34.5080,2,  34.5100,2,    176.5,2,    170.2,2,    73.61,3,    34.21,3,     2.42,3
    09FA1089_1,  PR11,    89,  1,   -999,     10,2,19890825,1838,-33.0802, 172.3628, 1832,   1482.3,   3.3150,  34.5680,2,  34.5640,2,    169.8,2,    161.9,2,    95.31,3,    35.58,3,     2.52,3
    09FA1089_1,  PR11,    89,  1,   -999,     21,2,19890825,1838,-33.0802, 172.3628, 1832,   1496.6,   3.2810,  34.5700,2,  34.5720,2,    169.5,2,    161.9,2,    98.73,3,    35.78,3,     2.54,3
    09FA1089_1,  PR11,    89,  1,   -999,     12,2,19890825,1838,-33.0802, 172.3628, 1832,   1830.5,   2.7110,  34.6160,2,  34.6120,2,    165.9,2,    157.7,2,   117.10,3,    36.57,3,     2.62,3
    09FA1089_1,  PR11,    91,  1,   -999,     11,2,19890825,2214,-32.7362, 172.3848, 1848,      4.5,  17.9660,  35.6260,2,  35.6270,2,    190.8,2,    226.7,2,     1.37,3,     1.96,3,     0.39,3
    09FA1089_1,  PR11,    91,  1,   -999,     16,2,19890825,2214,-32.7362, 172.3848, 1848,     48.8,  17.7350,  35.6060,2,  35.6040,2,    227.2,2,    222.5,2,     1.47,3,     2.75,3,     0.39,3
    09FA1089_1,  PR11,    91,  1,   -999,     19,2,19890825,2214,-32.7362, 172.3848, 1848,     98.7,  16.6740,  35.5230,2,  35.5250,2,    194.9,2,    207.6,2,     1.95,3,     5.11,3,     0.57,3
    09FA1089_1,  PR11,    91,  1,   -999,      3,2,19890825,2214,-32.7362, 172.3848, 1848,    147.6,  16.0520,  35.4760,2,  35.4740,2,    221.6,2,    232.1,2,     1.95,3,     3.73,3,     0.47,3
    09FA1089_1,  PR11,    91,  1,   -999,     30,2,19890825,2214,-32.7362, 172.3848, 1848,    200.1,  14.9810,  35.3590,2,  35.3570,2,    207.4,2,    208.6,2,     3.71,3,     7.66,3,     0.69,3
    09FA1089_1,  PR11,    91,  1,   -999,     20,2,19890825,2214,-32.7362, 172.3848, 1848,    239.2,  14.2660,  35.2990,2,  35.2970,2,    199.4,2,    200.3,2,     4.20,3,     9.63,3,     0.81,3
    09FA1089_1,  PR11,    91,  1,   -999,      9,2,19890825,2214,-32.7362, 172.3848, 1848,    301.0,  12.7430,  35.1310,2,  35.1320,2,    191.0,2,    189.3,2,     6.06,3,    13.95,3,     1.06,3
    09FA1089_1,  PR11,    91,  1,   -999,     18,2,19890825,2214,-32.7362, 172.3848, 1848,    399.9,  11.0010,  34.9320,2,  34.9260,2,    190.6,2,    190.3,2,     8.89,3,    17.88,3,     1.29,3
    09FA1089_1,  PR11,    91,  1,   -999,     27,2,19890825,2214,-32.7362, 172.3848, 1848,    499.6,   9.2750,  34.7310,2,  34.7330,2,    191.6,2,    190.6,2,    12.51,3,    21.62,3,     1.54,3
    09FA1089_1,  PR11,    91,  1,   -999,      2,2,19890825,2214,-32.7362, 172.3848, 1848,    601.4,   8.1570,  34.6220,2,  34.6240,2,    191.4,2,    190.6,2,    17.20,3,    24.57,3,     1.71,3
    09FA1089_1,  PR11,    91,  1,   -999,      5,2,19890825,2214,-32.7362, 172.3848, 1848,    799.9,   6.8330,  34.5470,2,  -9.9999,5,    188.2,2,    184.3,2,    28.64,3,    28.35,3,     1.97,3
    09FA1089_1,  PR11,    91,  1,   -999,     31,2,19890825,2214,-32.7362, 172.3848, 1848,   1070.4,   5.4110,  34.4980,2,  34.5000,2,    181.4,2,    177.4,2,    39.79,3,    31.46,3,     2.18,3
    09FA1089_1,  PR11,    91,  1,   -999,     10,2,19890825,2214,-32.7362, 172.3848, 1848,   1230.4,   4.4620,  34.5110,2,  34.5140,2,    174.7,2,    170.5,2,    68.62,3,    33.81,3,     2.37,3
    09FA1089_1,  PR11,    91,  1,   -999,     21,2,19890825,2214,-32.7362, 172.3848, 1848,   1497.6,   3.4160,  34.5630,2,  34.5630,2,    166.7,2,    161.9,2,    95.31,3,    35.78,3,     2.51,3
    09FA1089_1,  PR11,    91,  1,   -999,     12,2,19890825,2214,-32.7362, 172.3848, 1848,   1847.8,   2.7560,  34.6080,2,  34.6070,2,    159.4,2,    157.4,2,   113.78,3,    36.96,3,     2.60,3
    09FA1089_1,  PR11,    93,  1,   -999,     11,2,19890826,0147,-32.3807, 172.4212, 1450,      2.9,  18.1900,  35.6100,2,  35.5970,2,    155.5,2,    227.4,2,     1.07,3,     1.70,3,     0.35,3
    09FA1089_1,  PR11,    93,  1,   -999,      4,2,19890826,0147,-32.3807, 172.4212, 1450,     48.7,  18.0000,  35.6310,2,  35.6290,2,    234.9,2,    228.4,2,     0.88,3,     1.91,3,     0.32,3
    09FA1089_1,  PR11,    93,  1,   -999,     16,2,19890826,0147,-32.3807, 172.4212, 1450,     97.9,  17.9790,  35.6280,2,  35.6250,2,    235.5,2,    231.5,2,     0.88,3,     1.91,3,     0.31,3
    09FA1089_1,  PR11,    93,  1,   -999,     19,2,19890826,0147,-32.3807, 172.4212, 1450,    148.8,  17.9750,  35.6250,2,  35.6230,2,    229.4,2,    225.6,2,     0.88,3,     1.91,3,     0.34,3
    09FA1089_1,  PR11,    93,  1,   -999,      3,2,19890826,0147,-32.3807, 172.4212, 1450,    198.2,  17.4560,  35.5760,2,  35.5770,2,    206.6,2,    209.7,2,     1.37,3,     4.25,3,     0.43,3
    09FA1089_1,  PR11,    93,  1,   -999,     30,2,19890826,0147,-32.3807, 172.4212, 1450,    297.7,  15.3420,  35.3990,2,  35.3990,2,    191.9,2,    191.4,2,     2.93,3,     9.56,3,     0.72,3
    09FA1089_1,  PR11,    93,  1,   -999,     20,2,19890826,0147,-32.3807, 172.4212, 1450,    354.0,  14.0730,  35.2730,2,  35.2710,2,    189.5,2,    188.9,2,     4.10,3,    12.12,3,     0.89,3
    09FA1089_1,  PR11,    93,  1,   -999,      9,2,19890826,0147,-32.3807, 172.4212, 1450,    398.7,  12.8440,  35.1410,2,  35.1370,2,    190.0,2,    188.9,2,     5.37,3,    14.25,3,     1.00,3
    09FA1089_1,  PR11,    93,  1,   -999,     18,2,19890826,0147,-32.3807, 172.4212, 1450,    498.7,  10.8090,  34.9060,2,  34.9200,2,    190.4,2,    188.9,2,     8.21,3,    18.71,3,     1.25,3
    09FA1089_1,  PR11,    93,  1,   -999,     27,2,19890826,0147,-32.3807, 172.4212, 1450,    598.1,   9.1340,  34.7140,2,  34.7130,2,    189.7,2,    190.2,2,    12.41,3,    23.18,3,     1.51,3
    09FA1089_1,  PR11,    93,  1,   -999,      2,2,19890826,0147,-32.3807, 172.4212, 1450,    698.1,   7.7150,  34.5810,2,  34.5830,2,    193.5,2,    193.7,2,    17.69,3,    26.38,3,     1.71,3
    09FA1089_1,  PR11,    93,  1,   -999,      5,2,19890826,0147,-32.3807, 172.4212, 1450,    799.4,   7.0110,  34.5310,2,  34.5300,2,    192.9,2,    192.3,2,    21.99,3,    28.50,3,     1.86,3
    09FA1089_1,  PR11,    93,  1,   -999,     24,2,19890826,0147,-32.3807, 172.4212, 1450,    898.8,   6.3270,  34.5040,2,  34.5040,2,    189.9,2,    186.4,2,    28.54,3,    30.42,3,     1.97,3
    09FA1089_1,  PR11,    93,  1,   -999,     31,2,19890826,0147,-32.3807, 172.4212, 1450,    997.7,   5.6950,  34.5000,2,  34.5000,2,    182.8,2,    180.9,2,    36.95,3,    32.34,3,     2.09,3
    09FA1089_1,  PR11,    93,  1,   -999,     10,2,19890826,0147,-32.3807, 172.4212, 1450,   1197.4,   4.7470,  34.5020,2,  34.5010,2,    176.8,2,    174.6,2,    56.80,3,    34.89,3,     2.24,3
    09FA1089_1,  PR11,    93,  1,   -999,     21,2,19890826,0147,-32.3807, 172.4212, 1450,   1298.8,   4.3570,  34.5150,2,  34.5150,2,    172.8,2,    169.5,2,    65.40,3,    35.53,3,     2.32,3
    09FA1089_1,  PR11,    93,  1,   -999,     12,2,19890826,0147,-32.3807, 172.4212, 1450,   1448.3,   3.6450,  34.5510,2,  34.5500,2,    167.2,2,    166.0,2,    82.60,3,    36.80,3,     2.46,3
    09FA1089_1,  PR11,    95,  1,   -999,     11,2,19890826,0501,-32.0283, 172.4473, 1320,      4.5,  18.2380,  35.6410,2,  35.6430,2,    194.1,2,    229.1,2,     1.37,3,     1.92,3,     0.32,3
    09FA1089_1,  PR11,    95,  1,   -999,     16,2,19890826,0501,-32.0283, 172.4473, 1320,     48.7,  18.0240,  35.6340,2,  35.6340,2,    232.4,2,    228.4,2,     1.17,3,     1.92,3,     0.32,3
    09FA1089_1,  PR11,    95,  1,   -999,      4,2,19890826,0501,-32.0283, 172.4473, 1320,     98.6,  17.9840,  35.6300,2,  35.6280,2,    232.0,2,    227.3,2,     0.98,3,     1.92,3,     0.26,3
    09FA1089_1,  PR11,    95,  1,   -999,      3,2,19890826,0501,-32.0283, 172.4473, 1320,    148.3,  17.9000,  35.6170,2,  35.6100,2,    229.5,2,    227.3,2,     0.98,3,     1.92,3,     0.36,3
    09FA1089_1,  PR11,    95,  1,   -999,     30,2,19890826,0501,-32.0283, 172.4473, 1320,    200.8,  17.7520,  35.6080,2,  35.6070,2,    222.4,2,    224.9,2,     0.98,3,     2.31,3,     0.30,3
    09FA1089_1,  PR11,    95,  1,   -999,      9,2,19890826,0501,-32.0283, 172.4473, 1320,    298.4,  15.5190,  35.4160,2,  35.4150,2,    192.6,2,    190.4,2,     3.03,3,     8.66,3,     0.71,3
    09FA1089_1,  PR11,    95,  1,   -999,     18,2,19890826,0501,-32.0283, 172.4473, 1320,    368.8,  13.7840,  35.2400,2,  35.2380,2,    191.2,2,    187.9,2,     4.49,3,    11.73,3,     0.92,3
    09FA1089_1,  PR11,    95,  1,   -999,     27,2,19890826,0501,-32.0283, 172.4473, 1320,    400.1,  13.0400,  35.1640,2,  35.1570,2,    189.6,2,    188.6,2,     4.89,3,    12.69,3,     0.97,3
    09FA1089_1,  PR11,    95,  1,   -999,      2,2,19890826,0501,-32.0283, 172.4473, 1320,    497.9,  11.1470,  34.9460,2,  34.9440,2,    191.2,2,    188.9,2,     7.92,3,    17.12,3,     1.24,3
    09FA1089_1,  PR11,    95,  1,   -999,      5,2,19890826,0501,-32.0283, 172.4473, 1320,    599.7,   9.2170,  34.7250,2,  34.7250,2,    191.9,2,    192.0,2,    11.44,3,    20.58,3,     1.43,3
    09FA1089_1,  PR11,    95,  1,   -999,     24,2,19890826,0501,-32.0283, 172.4473, 1320,    798.7,   7.0900,  34.5430,2,  34.5550,2,    190.2,2,    190.2,2,    19.45,3,    24.44,3,     1.63,3
    09FA1089_1,  PR11,    95,  1,   -999,     31,2,19890826,0501,-32.0283, 172.4473, 1320,    997.4,   5.6340,  34.4930,2,  34.4990,2,    184.7,2,    182.2,2,    33.53,3,    28.67,3,     1.97,3
    09FA1089_1,  PR11,    95,  1,   -999,     10,2,19890826,0501,-32.0283, 172.4473, 1320,   1049.2,   5.5500,  34.4940,2,  34.4940,2,    182.8,2,    180.9,2,    35.19,3,    28.86,3,     2.00,3
    09FA1089_1,  PR11,    95,  1,   -999,     21,2,19890826,0501,-32.0283, 172.4473, 1320,   1287.1,   4.3700,  34.5270,2,  34.5280,2,    173.9,2,    171.2,2,    60.31,3,    30.60,3,     2.09,3
    09FA1089_1,  PR11,    95,  1,   -999,     12,2,19890826,0501,-32.0283, 172.4473, 1320,   1320.2,   4.0980,  34.5340,2,  34.5350,2,    171.4,2,    169.8,2,    63.64,3,    30.98,3,     2.13,3
    09FA1089_1,  PR11,    97,  1,   -999,     11,2,19890826,0938,-31.3780, 172.5262, 1248,      3.5,  18.0350,  35.6370,2,  35.6320,2,    160.9,2,    226.3,2,     0.98,3,     1.92,3,     0.35,3
    09FA1089_1,  PR11,    97,  1,   -999,      3,2,19890826,0938,-31.3780, 172.5262, 1248,     48.6,  18.0130,  35.6320,2,  35.6260,2,    233.9,2,    227.0,2,     0.98,3,     1.92,3,     0.32,3
    09FA1089_1,  PR11,    97,  1,   -999,     30,2,19890826,0938,-31.3780, 172.5262, 1248,     98.8,  17.9990,  35.6300,2,  35.6260,2,    231.3,2,    224.9,2,     0.98,3,     2.31,3,     0.32,3
    09FA1089_1,  PR11,    97,  1,   -999,      9,2,19890826,0938,-31.3780, 172.5262, 1248,    149.1,  17.6090,  35.5970,2,  35.5930,2,    217.2,2,    222.8,2,     1.37,3,     3.65,3,     0.41,3
    09FA1089_1,  PR11,    97,  1,   -999,     18,2,19890826,0938,-31.3780, 172.5262, 1248,    199.1,  16.6340,  35.5160,2,  35.5120,2,    214.1,2,    220.7,2,     1.66,3,     4.03,3,     0.44,3
    09FA1089_1,  PR11,    97,  1,   -999,     27,2,19890826,0938,-31.3780, 172.5262, 1248,    299.2,  14.9100,  35.3690,2,  35.3780,2,    195.2,2,    193.1,2,     3.22,3,     9.42,3,     0.76,3
    09FA1089_1,  PR11,    97,  1,   -999,      2,2,19890826,0938,-31.3780, 172.5262, 1248,    327.0,  14.1000,  35.2940,2,  35.2970,2,    197.0,2,    195.5,2,     3.81,3,    10.19,3,     0.83,3
    09FA1089_1,  PR11,    97,  1,   -999,      5,2,19890826,0938,-31.3780, 172.5262, 1248,    400.0,  12.3390,  35.0990,2,  35.0980,2,    194.5,2,    192.0,2,     4.69,3,    10.19,3,     0.80,3
    09FA1089_1,  PR11,    97,  1,   -999,     24,2,19890826,0938,-31.3780, 172.5262, 1248,    499.5,  10.6100,  34.8960,2,  34.8940,2,    191.3,2,    190.2,2,     9.09,3,    18.66,3,     1.30,3
    09FA1089_1,  PR11,    97,  1,   -999,     31,2,19890826,0938,-31.3780, 172.5262, 1248,    599.4,   8.9880,  34.7110,2,  34.7160,2,    192.0,2,    191.6,2,    11.53,3,    20.78,3,     1.40,3
    09FA1089_1,  PR11,    97,  1,   -999,     10,2,19890826,0938,-31.3780, 172.5262, 1248,    798.7,   7.4180,  34.5720,2,  34.5740,2,    191.7,2,    189.8,2,    18.08,3,    24.44,3,     1.60,3
    09FA1089_1,  PR11,    97,  1,   -999,     21,2,19890826,0938,-31.3780, 172.5262, 1248,    999.1,   5.7870,  34.4860,2,  34.4900,2,    188.9,2,    186.7,2,    29.52,3,    28.28,3,     1.89,3
    09FA1089_1,  PR11,    97,  1,   -999,     12,2,19890826,0938,-31.3780, 172.5262, 1248,   1248.6,   4.7230,  34.5060,2,  34.5080,2,    178.4,2,    175.7,2,    51.91,3,    30.98,3,     2.07,3
    09FA1089_1,  PR11,    99,  1,   -999,     11,2,19890826,1401,-30.7312, 172.5977, 1302,      3.4,  17.6490,  35.6510,2,  35.6480,2,    175.0,2,    231.5,2,     1.17,3,     1.73,3,     0.33,3
    09FA1089_1,  PR11,    99,  1,   -999,      3,2,19890826,1401,-30.7312, 172.5977, 1302,     48.1,  17.6630,  35.6520,2,  35.6530,2,    230.8,2,    230.1,2,     0.98,3,     1.73,3,     0.30,3
    09FA1089_1,  PR11,    99,  1,   -999,     30,2,19890826,1401,-30.7312, 172.5977, 1302,     98.3,  17.4730,  35.6250,2,  35.6230,2,    232.8,2,    219.7,2,     1.17,3,     2.88,3,     0.35,3
    09FA1089_1,  PR11,    99,  1,   -999,      9,2,19890826,1401,-30.7312, 172.5977, 1302,    148.3,  17.3540,  35.6300,2,  35.6290,2,    227.3,2,    218.7,2,     1.37,3,     3.27,3,     0.38,3
    09FA1089_1,  PR11,    99,  1,   -999,     18,2,19890826,1401,-30.7312, 172.5977, 1302,    197.7,  16.3510,  35.5240,2,  35.5230,2,    200.1,2,    199.7,2,     1.86,3,     6.15,3,     0.56,3
    09FA1089_1,  PR11,    99,  1,   -999,     27,2,19890826,1401,-30.7312, 172.5977, 1302,    248.7,  15.0800,  35.3980,2,  35.3970,2,    198.1,2,    193.8,2,     2.64,3,     8.46,3,     0.67,3
    09FA1089_1,  PR11,    99,  1,   -999,      2,2,19890826,1401,-30.7312, 172.5977, 1302,    298.4,  13.4850,  35.2200,2,  35.2210,2,    192.2,2,    192.7,2,     3.81,3,    11.16,3,     0.83,3
    09FA1089_1,  PR11,    99,  1,   -999,      5,2,19890826,1401,-30.7312, 172.5977, 1302,    399.3,  11.2550,  34.9410,2,  34.9380,2,    194.2,2,    192.0,2,     7.04,3,    16.73,3,     1.20,3
    09FA1089_1,  PR11,    99,  1,   -999,     24,2,19890826,1401,-30.7312, 172.5977, 1302,    497.5,  10.1670,  34.8210,2,  34.8190,2,    191.6,2,    194.4,2,     8.70,3,    19.62,3,     1.38,3
    09FA1089_1,  PR11,    99,  1,   -999,     31,2,19890826,1401,-30.7312, 172.5977, 1302,    598.6,   8.7990,  34.6590,2,  34.6580,2,    195.9,2,    197.8,2,    10.36,3,    22.31,3,     1.54,3
    09FA1089_1,  PR11,    99,  1,   -999,     10,2,19890826,1401,-30.7312, 172.5977, 1302,    798.9,   6.9570,  34.5040,2,  34.5070,2,    199.0,2,    197.4,2,    18.77,3,    27.13,3,     1.81,3
    09FA1089_1,  PR11,    99,  1,   -999,     21,2,19890826,1401,-30.7312, 172.5977, 1302,    998.8,   5.5990,  34.4670,2,  34.4750,2,    189.8,2,    188.4,2,    32.16,3,    30.98,3,     2.10,3
    09FA1089_1,  PR11,    99,  1,   -999,     12,2,19890826,1401,-30.7312, 172.5977, 1302,   1299.9,   4.1210,  34.5240,2,  34.5240,2,    171.7,2,    170.8,2,    68.72,3,    34.83,3,     2.37,3