BOTTLE,20010820WHPSIOKJU
EXPOCODE,SECT_ID,STNNBR,CASTNO,SAMPNO,BTLNBR,BTLNBR_FLAG_W,DATE,TIME,LATITUDE,LONGITUDE,DEPTH,CTDPRS,CTDTMP,CTDSAL,CTDSAL_FLAG_W,SALNTY,SALNTY_FLAG_W,CTDOXY,CTDOXY_FLAG_W,OXYGEN,OXYGEN_FLAG_W,SILCAT,SILCAT_FLAG_W,NO2+NO3,NO2+NO3_FLAG_W,PHSPHT,PHSPHT_FLAG_W
,,,,,,,,,,,,DBR,ITS-90,PSS-78,,PSS-78,,UMOL/KG,,UMOL/KG,,UMOL/KG,,UMOL/KG,,UMOL/KG,
    09FA1089_2,      ,   209,  1,   -999,     11,2,19890911,2349,-34.4187, 153.6178, 4870,      4.3,  18.8460,  35.5790,2,  35.5800,2,    235.6,2,    232.0,2,     0.88,3,     2.78,3,     0.28,3
    09FA1089_2,      ,   209,  1,   -999,     26,2,19890911,2349,-34.4187, 153.6178, 4870,     99.1,  18.6910,  35.5910,2,  35.5910,2,    224.6,2,    226.3,2,     0.68,3,     4.00,3,     0.31,3
    09FA1089_2,      ,   209,  1,   -999,     29,2,19890911,2349,-34.4187, 153.6178, 4870,    200.7,  18.6920,  35.5910,2,  35.5900,2,    222.6,2,    225.6,2,     0.49,3,     4.18,3,     0.33,3
    09FA1089_2,      ,   209,  1,   -999,     20,2,19890911,2349,-34.4187, 153.6178, 4870,    298.1,  18.7020,  35.5910,2,  35.5900,2,    225.3,2,    225.0,2,     0.49,3,     4.00,3,     0.33,3
    09FA1089_2,      ,   209,  1,   -999,     24,2,19890911,2349,-34.4187, 153.6178, 4870,    400.1,  16.0320,  35.4360,2,  35.4360,2,    186.1,2,    184.6,2,     2.44,3,    11.31,3,     0.73,3
    09FA1089_2,      ,   209,  1,   -999,      8,2,19890911,2349,-34.4187, 153.6178, 4870,    481.4,  13.7770,  35.2430,2,  35.2400,2,    189.1,2,    190.6,2,     3.91,3,    14.79,3,     0.93,3
    09FA1089_2,      ,   209,  1,   -999,     12,2,19890911,2349,-34.4187, 153.6178, 4870,    599.1,  11.8010,  35.0200,2,  35.0180,2,    192.8,2,    194.3,2,     5.86,3,    18.62,3,     1.12,3
    09FA1089_2,      ,   209,  1,   -999,     19,2,19890911,2349,-34.4187, 153.6178, 4870,    799.0,   8.1930,  34.5910,2,  34.5950,2,    192.8,2,    194.9,2,    13.39,3,    27.52,3,     1.65,3
    09FA1089_2,      ,   209,  1,   -999,      1,2,19890911,2349,-34.4187, 153.6178, 4870,    999.5,   6.3430,  34.4720,2,  34.4740,2,    190.8,2,    190.1,2,    25.61,3,    32.57,3,     1.98,3
    09FA1089_2,      ,   209,  1,   -999,      9,2,19890911,2349,-34.4187, 153.6178, 4870,   1087.4,   5.7930,  34.4630,2,  34.4660,2,    188.6,2,    184.4,2,    32.16,3,    34.49,3,     2.08,3
    09FA1089_2,      ,   209,  1,   -999,      3,2,19890911,2349,-34.4187, 153.6178, 4870,   1367.5,   4.1060,  34.5010,2,  34.5040,2,    173.3,2,    167.3,2,    65.30,3,    38.50,3,     2.40,3
    09FA1089_2,      ,   209,  1,   -999,      5,2,19890911,2349,-34.4187, 153.6178, 4870,   1500.3,   3.6440,  34.5350,2,  34.5390,2,    165.0,2,    160.3,2,    77.71,3,    39.01,3,     2.44,3
    09FA1089_2,      ,   209,  1,   -999,     27,2,19890911,2349,-34.4187, 153.6178, 4870,   1576.1,   3.3820,  34.5540,2,  34.5550,2,    163.1,2,    156.2,2,    86.51,3,    39.88,3,     2.52,3
    09FA1089_2,      ,   209,  1,   -999,      4,2,19890911,2349,-34.4187, 153.6178, 4870,   1998.5,   2.5120,  34.6440,2,  34.6450,2,    166.0,2,    162.1,2,    98.82,3,    39.88,3,     2.51,3
    09FA1089_2,      ,   209,  1,   -999,      2,2,19890911,2349,-34.4187, 153.6178, 4870,   2324.0,   2.2230,  34.6890,2,  34.6950,2,    177.2,2,    174.2,2,    94.42,3,    38.14,3,     2.38,3
    09FA1089_2,      ,   209,  1,   -999,     31,2,19890911,2349,-34.4187, 153.6178, 4870,   2500.8,   2.0870,  34.7120,2,  34.7100,2,    181.9,2,    181.4,2,    97.94,3,    37.96,3,     2.38,3
    09FA1089_2,      ,   209,  1,   -999,     28,2,19890911,2349,-34.4187, 153.6178, 4870,   2639.3,   1.9910,  34.7210,2,  34.7180,2,    185.7,2,    182.7,2,    98.81,3,    37.62,3,     2.35,3
    09FA1089_2,      ,   209,  1,   -999,     13,2,19890911,2349,-34.4187, 153.6178, 4870,   2962.7,   1.7270,  34.7310,2,  34.7270,2,    189.9,2,    190.0,2,   107.71,3,    37.62,3,     2.36,3
    09FA1089_2,      ,   209,  1,   -999,     18,2,19890911,2349,-34.4187, 153.6178, 4870,   3460.8,   1.3700,  34.7250,2,  34.7230,2,    194.8,2,    194.4,2,   109.47,3,    37.96,3,     2.36,3
    09FA1089_2,      ,   209,  1,   -999,     10,2,19890911,2349,-34.4187, 153.6178, 4870,   3997.4,   1.1730,  34.7200,2,  34.7170,2,    198.2,2,    198.2,2,   123.54,3,    38.14,3,     2.38,3
    09FA1089_2,      ,   209,  1,   -999,     22,2,19890911,2349,-34.4187, 153.6178, 4870,   4496.9,   1.1560,  34.7170,2,  34.7120,2,    199.4,2,    199.8,2,   125.30,3,    38.31,3,     2.36,3
    09FA1089_2,      ,   209,  1,   -999,      6,2,19890911,2349,-34.4187, 153.6178, 4870,   4868.1,   1.1720,  34.7160,2,  34.7150,2,    200.5,2,    198.2,2,   126.18,3,    38.14,3,     2.38,3
    09FA1089_2,      ,   211,  1,   -999,     11,2,19890912,0510,-34.4118, 154.0282, 4908,      7.0,  19.0150,  35.5680,2,  35.5660,2,    208.9,2,    233.0,2,     0.49,3,     0.69,3,     0.30,3
    09FA1089_2,      ,   211,  1,   -999,     26,2,19890912,0510,-34.4118, 154.0282, 4908,     97.6,  18.8590,  35.5870,2,  35.5850,2,    222.5,2,    224.7,2,     0.49,3,     1.56,3,     0.31,3
    09FA1089_2,      ,   211,  1,   -999,     20,2,19890912,0510,-34.4118, 154.0282, 4908,    298.9,  18.1090,  35.5990,2,  35.6000,2,    212.3,2,    189.7,2,     1.27,3,     6.61,3,     0.56,3
    09FA1089_2,      ,   211,  1,   -999,     24,2,19890912,0510,-34.4118, 154.0282, 4908,    397.8,  15.5430,  35.3980,2,  35.3980,2,    186.2,2,    185.2,2,     2.83,3,    11.49,3,     0.78,3
    09FA1089_2,      ,   211,  1,   -999,      8,2,19890912,0510,-34.4118, 154.0282, 4908,    462.6,  14.0200,  35.2560,2,  35.2570,2,    187.9,2,    188.7,2,     3.91,3,    14.45,3,     0.92,3
    09FA1089_2,      ,   211,  1,   -999,     12,2,19890912,0510,-34.4118, 154.0282, 4908,    498.5,  13.1490,  35.1730,2,  35.1740,2,    189.3,2,    190.9,2,     4.40,3,    15.67,3,     0.99,3
    09FA1089_2,      ,   211,  1,   -999,     19,2,19890912,0510,-34.4118, 154.0282, 4908,    598.2,  11.1680,  34.9320,2,  34.9320,2,    190.3,2,    191.5,2,     6.74,3,    20.38,3,     1.23,3
    09FA1089_2,      ,   211,  1,   -999,      1,2,19890912,0510,-34.4118, 154.0282, 4908,    799.3,   8.2270,  34.5960,2,  34.5980,2,    192.6,2,    192.7,2,    13.59,3,    27.69,3,     1.66,3
    09FA1089_2,      ,   211,  1,   -999,      9,2,19890912,0510,-34.4118, 154.0282, 4908,   1002.8,   6.3520,  34.4770,2,  34.4800,2,    189.7,2,    188.2,2,    26.49,3,    32.55,3,     1.98,3
    09FA1089_2,      ,   211,  1,   -999,      3,2,19890912,0510,-34.4118, 154.0282, 4908,   1342.6,   4.2560,  34.4940,2,  34.4980,2,    172.0,2,    168.5,2,  -999.00,5,    37.79,3,     2.38,3
    09FA1089_2,      ,   211,  1,   -999,      5,2,19890912,0510,-34.4118, 154.0282, 4908,   1563.5,   3.3730,  34.5520,2,  34.5530,2,    162.1,2,    157.1,2,    80.55,3,    37.27,3,     2.46,3
    09FA1089_2,      ,   211,  1,   -999,     27,2,19890912,0510,-34.4118, 154.0282, 4908,   1750.1,   2.8780,  34.5970,2,  34.5990,2,    160.8,2,    155.8,2,    88.46,3,    38.12,3,     2.54,3
    09FA1089_2,      ,   211,  1,   -999,      4,2,19890912,0510,-34.4118, 154.0282, 4908,   2277.5,   2.1790,  34.6940,2,  34.6940,2,    177.0,2,    175.8,2,    90.02,3,    36.59,3,     2.38,3
    09FA1089_2,      ,   211,  1,   -999,      2,2,19890912,0510,-34.4118, 154.0282, 4908,   2572.4,   1.9690,  34.7200,2,  34.7180,2,    184.3,2,    182.7,2,    93.24,3,    36.09,3,     2.36,3
    09FA1089_2,      ,   211,  1,   -999,     28,2,19890912,0510,-34.4118, 154.0282, 4908,   2995.7,   1.6530,  34.7300,2,  34.7310,2,    190.9,2,    191.3,2,   101.06,3,    35.74,3,     2.32,3
    09FA1089_2,      ,   211,  1,   -999,     13,2,19890912,0510,-34.4118, 154.0282, 4908,   3369.3,   1.3660,  34.7250,2,  34.7240,2,    194.0,2,    195.1,2,   108.98,3,    36.09,3,     2.36,3
    09FA1089_2,      ,   211,  1,   -999,     18,2,19890912,0510,-34.4118, 154.0282, 4908,   3499.7,   1.3040,  34.7230,2,  34.7220,2,    195.8,2,    195.1,2,   110.64,3,    36.42,3,     2.36,3
    09FA1089_2,      ,   211,  1,   -999,     10,2,19890912,0510,-34.4118, 154.0282, 4908,   3995.0,   1.1400,  34.7180,2,  34.7150,2,    197.9,2,    198.9,2,   114.55,3,    36.59,3,     2.38,3
    09FA1089_2,      ,   211,  1,   -999,     22,2,19890912,0510,-34.4118, 154.0282, 4908,   4496.4,   1.1430,  34.7160,2,  34.7140,2,    198.9,2,    199.5,2,   115.33,3,    36.76,3,     2.38,3
    09FA1089_2,      ,   211,  1,   -999,      6,2,19890912,0510,-34.4118, 154.0282, 4908,   4905.0,   1.1640,  34.7150,2,  34.7140,2,    200.0,2,    200.8,2,   115.33,3,    36.76,3,     2.38,3
    09FA1089_2,      ,   213,  1,   -999,     11,2,19890912,1116,-34.4197, 154.6165, 4692,     48.6,  18.8280,  35.5820,2,  35.5830,2,    218.2,2,    225.8,2,     0.59,3,     0.67,3,     0.28,3
    09FA1089_2,      ,   213,  1,   -999,     26,2,19890912,1116,-34.4197, 154.6165, 4692,     98.9,  18.7300,  35.5900,2,  35.5890,2,    215.1,2,    217.4,2,     0.59,3,     1.36,3,     0.30,3
    09FA1089_2,      ,   213,  1,   -999,     20,2,19890912,1116,-34.4197, 154.6165, 4692,    299.7,  16.4870,  35.4670,2,  35.4590,2,    183.6,2,    178.8,2,     2.25,3,     9.31,3,     0.69,3
    09FA1089_2,      ,   213,  1,   -999,     24,2,19890912,1116,-34.4197, 154.6165, 4692,    420.7,  14.1370,  35.2820,2,  35.2760,2,    185.5,2,    185.5,2,     3.13,3,    12.87,3,     0.85,3
    09FA1089_2,      ,   213,  1,   -999,      8,2,19890912,1116,-34.4197, 154.6165, 4692,    498.9,  12.1760,  35.0680,2,  35.0700,2,    187.7,2,    189.5,2,     4.59,3,    16.59,3,     1.05,3
    09FA1089_2,      ,   213,  1,   -999,     12,2,19890912,1116,-34.4197, 154.6165, 4692,    599.1,  10.2690,  34.8230,2,  34.8270,2,    186.4,2,    189.2,2,     6.74,3,    21.00,3,     1.28,3
    09FA1089_2,      ,   213,  1,   -999,     19,2,19890912,1116,-34.4197, 154.6165, 4692,    798.2,   7.8960,  34.5690,2,  34.5730,2,    183.5,2,    185.4,2,    12.81,3,    26.60,3,     1.58,3
    09FA1089_2,      ,   213,  1,   -999,      1,2,19890912,1116,-34.4197, 154.6165, 4692,    998.8,   6.0580,  34.4660,2,  34.4720,2,    177.7,2,    182.0,2,    24.83,3,    31.17,3,     1.92,3
    09FA1089_2,      ,   213,  1,   -999,      9,2,19890912,1116,-34.4197, 154.6165, 4692,   1121.2,   5.1960,  34.4590,2,  34.4630,2,    167.6,2,    175.8,2,    34.31,3,    33.55,3,     2.07,3
    09FA1089_2,      ,   213,  1,   -999,      3,2,19890912,1116,-34.4197, 154.6165, 4692,   1539.1,   3.3310,  34.5560,2,  34.5570,2,    158.1,2,    153.4,2,    77.42,3,    38.63,3,     2.52,3
    09FA1089_2,      ,   213,  1,   -999,      5,2,19890912,1116,-34.4197, 154.6165, 4692,   1748.6,   2.7790,  34.6060,2,  34.6080,2,    165.1,2,    154.6,2,    84.55,3,    38.29,3,     2.48,3
    09FA1089_2,      ,   213,  1,   -999,     27,2,19890912,1116,-34.4197, 154.6165, 4692,   1999.2,   2.3830,  34.6600,2,  34.6610,2,    171.7,2,    163.6,2,    88.46,3,    36.93,3,     2.48,3
    09FA1089_2,      ,   213,  1,   -999,      4,2,19890912,1116,-34.4197, 154.6165, 4692,   2498.5,   1.9810,  34.7190,2,  34.7210,2,    183.5,2,    178.2,2,    85.33,3,    34.73,3,     2.24,3
    09FA1089_2,      ,   213,  1,   -999,      2,2,19890912,1116,-34.4197, 154.6165, 4692,   2827.6,   1.7220,  34.7290,2,  34.7270,2,    186.1,2,    184.3,2,    85.33,3,    33.20,3,     2.10,3
    09FA1089_2,      ,   213,  1,   -999,     31,2,19890912,1116,-34.4197, 154.6165, 4692,   2998.9,   1.5760,  34.7290,2,  34.7280,2,    189.2,2,    187.8,2,    93.24,3,    33.88,3,     2.18,3
    09FA1089_2,      ,   213,  1,   -999,     13,2,19890912,1116,-34.4197, 154.6165, 4692,   3499.3,   1.2440,  34.7220,2,  34.7210,2,    192.9,2,    191.2,2,   102.72,3,    34.56,3,     2.25,3
    09FA1089_2,      ,   213,  1,   -999,     18,2,19890912,1116,-34.4197, 154.6165, 4692,   3997.7,   1.1400,  34.7160,2,  34.7170,2,    194.2,2,    193.6,2,   104.29,3,    34.73,3,     2.25,3
    09FA1089_2,      ,   215,  1,   -999,     11,2,19890912,1823,-34.4052, 155.4148, 4900,     50.4,  18.8770,  35.4840,2,  35.4850,2,    230.9,2,    224.8,2,     0.39,3,     0.18,3,     0.24,3
    09FA1089_2,      ,   215,  1,   -999,     26,2,19890912,1823,-34.4052, 155.4148, 4900,     96.6,  17.8750,  35.4810,2,  35.4810,2,    216.0,2,    225.7,2,     0.39,3,     0.54,3,     0.30,3
    09FA1089_2,      ,   215,  1,   -999,     29,2,19890912,1823,-34.4052, 155.4148, 4900,    147.8,  16.0490,  35.4320,2,  35.4330,2,    186.4,2,    205.8,2,     1.95,3,     6.28,3,     0.56,3
    09FA1089_2,      ,   215,  1,   -999,     20,2,19890912,1823,-34.4052, 155.4148, 4900,    234.4,  14.5880,  35.3480,2,  35.3630,2,    185.7,2,    205.7,2,     2.64,3,     7.89,3,     0.67,3
    09FA1089_2,      ,   215,  1,   -999,     24,2,19890912,1823,-34.4052, 155.4148, 4900,    297.7,  13.0460,  35.1730,2,  35.1770,2,    190.4,2,    188.0,2,     4.30,3,    12.92,3,     0.97,3
    09FA1089_2,      ,   215,  1,   -999,      8,2,19890912,1823,-34.4052, 155.4148, 4900,    397.3,  11.2030,  34.9460,2,  34.9590,2,    188.8,2,    190.4,2,     6.06,3,    16.52,3,     1.17,3
    09FA1089_2,      ,   215,  1,   -999,     12,2,19890912,1823,-34.4052, 155.4148, 4900,    499.5,   9.4770,  34.7240,2,  34.7320,2,    185.8,2,    189.8,2,     9.19,3,    21.18,3,     1.44,3
    09FA1089_2,      ,   215,  1,   -999,     19,2,19890912,1823,-34.4052, 155.4148, 4900,    597.9,   8.2530,  34.6020,2,  34.6070,2,    183.8,2,    189.2,2,    13.00,3,    24.77,3,     1.64,3
    09FA1089_2,      ,   215,  1,   -999,      1,2,19890912,1823,-34.4052, 155.4148, 4900,    799.0,   6.5690,  34.4840,2,  34.4870,2,    179.5,2,    184.5,2,    23.66,3,    29.44,3,     1.94,3
    09FA1089_2,      ,   215,  1,   -999,      9,2,19890912,1823,-34.4052, 155.4148, 4900,    943.5,   5.6090,  34.4620,2,  34.4620,2,    177.8,2,    179.2,2,    34.12,3,    31.96,3,     2.08,3
    09FA1089_2,      ,   215,  1,   -999,      3,2,19890912,1823,-34.4052, 155.4148, 4900,   1217.6,   4.1050,  34.5000,2,  34.4980,2,    158.8,2,    163.3,2,    67.84,3,    36.08,3,     2.37,3
    09FA1089_2,      ,   215,  1,   -999,      5,2,19890912,1823,-34.4052, 155.4148, 4900,   1418.2,   3.3400,  34.5480,2,  -9.9999,5,    157.2,2,    155.0,2,    86.90,3,    37.70,3,     2.45,3
    09FA1089_2,      ,   215,  1,   -999,     27,2,19890912,1823,-34.4052, 155.4148, 4900,   1497.3,   3.1300,  34.5670,2,  34.5680,2,    158.8,2,    151.9,2,    92.18,3,    38.05,3,     2.48,3
    09FA1089_2,      ,   215,  1,   -999,     16,2,19890912,1823,-34.4052, 155.4148, 4900,   1748.7,   2.6300,  34.6230,2,  34.6250,2,    171.6,2,    157.1,2,    99.11,3,    37.70,3,     2.45,3
    09FA1089_2,      ,   215,  1,   -999,      4,2,19890912,1823,-34.4052, 155.4148, 4900,   2163.2,   2.2000,  34.6890,2,  34.6890,2,    179.0,2,    171.0,2,   100.87,3,    36.44,3,     2.36,3
    09FA1089_2,      ,   215,  1,   -999,      2,2,19890912,1823,-34.4052, 155.4148, 4900,   2479.0,   1.9540,  34.7190,2,  34.7180,2,    183.7,2,    179.4,2,   104.29,3,    35.54,3,     2.30,3
    09FA1089_2,      ,   215,  1,   -999,     31,2,19890912,1823,-34.4052, 155.4148, 4900,   2817.8,   1.7200,  34.7280,2,  34.7250,2,    189.3,2,    184.7,2,   111.23,3,    35.72,3,     2.30,3
    09FA1089_2,      ,   215,  1,   -999,     28,2,19890912,1823,-34.4052, 155.4148, 4900,   3339.0,   1.3710,  34.7240,2,  34.7200,2,    191.7,2,   -999.0,5,   119.93,3,    35.90,3,     2.30,3
    09FA1089_2,      ,   215,  1,   -999,     13,2,19890912,1823,-34.4052, 155.4148, 4900,   3498.6,   1.2710,  34.7210,2,  34.7200,2,    193.0,2,    191.8,2,   125.20,3,    36.26,3,     2.33,3
    09FA1089_2,      ,   215,  1,   -999,     18,2,19890912,1823,-34.4052, 155.4148, 4900,   3998.9,   1.1700,  34.7180,2,  34.7160,2,    194.2,2,    193.9,2,   126.96,3,    36.44,3,     2.35,3
    09FA1089_2,      ,   215,  1,   -999,     10,2,19890912,1823,-34.4052, 155.4148, 4900,   4499.1,   1.1760,  34.7160,2,  34.7130,2,    194.2,2,    194.9,2,   130.38,3,    36.26,3,     2.35,3
    09FA1089_2,      ,   215,  1,   -999,      6,2,19890912,1823,-34.4052, 155.4148, 4900,   4899.5,   1.1720,  34.7150,2,  34.7130,2,    223.7,2,    195.5,2,   133.90,3,    36.44,3,     2.35,3
    09FA1089_2,      ,   215,  1,   -999,     22,2,19890912,1823,-34.4052, 155.4148, 4900,   4899.5,   1.1720,  34.7150,2,  34.7130,2,    223.7,2,    195.2,2,   132.14,3,    36.26,3,     2.35,3