BOTTLE,20010820WHPSIOKJU
EXPOCODE,SECT_ID,STNNBR,CASTNO,SAMPNO,BTLNBR,BTLNBR_FLAG_W,DATE,TIME,LATITUDE,LONGITUDE,DEPTH,CTDPRS,CTDTMP,CTDSAL,CTDSAL_FLAG_W,SALNTY,SALNTY_FLAG_W,CTDOXY,CTDOXY_FLAG_W,OXYGEN,OXYGEN_FLAG_W,SILCAT,SILCAT_FLAG_W,NO2+NO3,NO2+NO3_FLAG_W,PHSPHT,PHSPHT_FLAG_W
,,,,,,,,,,,,DBR,ITS-90,PSS-78,,PSS-78,,UMOL/KG,,UMOL/KG,,UMOL/KG,,UMOL/KG,,UMOL/KG,
    09FA1089_2,      ,   199,  1,   -999,     11,2,19890909,2312,-34.2212, 151.7800, 1974,      4.0,  20.3660,  35.4060,2,  35.4080,2,    170.3,2,    219.5,2,     0.00,3,     0.00,3,     0.24,3
    09FA1089_2,      ,   199,  1,   -999,     27,2,19890909,2312,-34.2212, 151.7800, 1974,     98.7,  18.5800,  35.4600,2,  35.4580,2,    203.0,2,    210.1,2,     0.78,3,     2.25,3,     0.37,3
    09FA1089_2,      ,   199,  1,   -999,     25,2,19890909,2312,-34.2212, 151.7800, 1974,    148.0,  16.0410,  35.4300,2,  35.4280,2,    182.1,2,    180.8,2,     2.34,3,     9.15,3,     0.76,3
    09FA1089_2,      ,   199,  1,   -999,      3,2,19890909,2312,-34.2212, 151.7800, 1974,    198.3,  14.8210,  35.3100,2,  35.3070,2,    180.3,2,    182.1,2,     3.32,3,    11.22,3,     0.86,3
    09FA1089_2,      ,   199,  1,   -999,      5,2,19890909,2312,-34.2212, 151.7800, 1974,    249.1,  13.9700,  35.2340,2,  35.2320,2,    181.0,2,    183.0,2,     3.61,3,    12.34,3,     0.93,3
    09FA1089_2,      ,   199,  1,   -999,     29,2,19890909,2312,-34.2212, 151.7800, 1974,    399.9,  11.1130,  34.9050,2,  34.9140,2,    183.2,2,    184.9,2,     6.55,3,    17.95,3,     1.24,3
    09FA1089_2,      ,   199,  1,   -999,     17,2,19890909,2312,-34.2212, 151.7800, 1974,    499.8,   9.4910,  34.7330,2,  34.7320,2,    190.8,2,    192.1,2,     8.70,3,    21.69,3,     1.49,3
    09FA1089_2,      ,   199,  1,   -999,      4,2,19890909,2312,-34.2212, 151.7800, 1974,    600.1,   8.3630,  34.6180,2,  34.6230,2,    188.5,2,    190.2,2,    12.41,3,    24.87,3,     1.63,3
    09FA1089_2,      ,   199,  1,   -999,      2,2,19890909,2312,-34.2212, 151.7800, 1974,    798.4,   6.3540,  34.4820,2,  34.5000,2,    187.1,2,    187.2,2,    24.05,3,    29.74,3,     1.96,3
    09FA1089_2,      ,   199,  1,   -999,     31,2,19890909,2312,-34.2212, 151.7800, 1974,    938.7,   5.4070,  34.4660,2,  34.4690,2,    181.4,2,    178.6,2,    35.19,3,    32.91,3,     2.16,3
    09FA1089_2,      ,   199,  1,   -999,     28,2,19890909,2312,-34.2212, 151.7800, 1974,    998.9,   5.0430,  34.4690,2,  34.4700,2,    177.6,2,    177.0,2,    42.92,3,    34.04,3,     2.24,3
    09FA1089_2,      ,   199,  1,   -999,     26,2,19890909,2312,-34.2212, 151.7800, 1974,   1153.3,   4.2070,  34.5020,2,  34.5000,2,    168.8,2,    165.8,2,    58.85,3,    36.28,3,     2.39,3
    09FA1089_2,      ,   199,  1,   -999,     18,2,19890909,2312,-34.2212, 151.7800, 1974,   1382.2,   3.3580,  34.5570,2,  34.5540,2,    159.2,2,    155.3,2,    79.47,3,    37.77,3,     2.50,3
    09FA1089_2,      ,   199,  1,   -999,     10,2,19890909,2312,-34.2212, 151.7800, 1974,   1499.3,   2.9650,  34.5900,2,  34.5890,2,    157.3,2,    153.6,2,    87.48,3,    38.15,3,     2.55,3
    09FA1089_2,      ,   199,  1,   -999,     22,2,19890909,2312,-34.2212, 151.7800, 1974,   1750.6,   2.5060,  34.6440,2,  34.6420,2,    161.8,2,    161.1,2,    92.27,3,    37.95,3,     2.50,3
    09FA1089_2,      ,   199,  1,   -999,      6,2,19890909,2312,-34.2212, 151.7800, 1974,   1971.8,   2.2940,  34.6780,2,  34.6750,2,    169.0,2,    169.3,2,    90.61,3,    37.02,3,     2.44,3
    09FA1089_2,      ,   201,  1,   -999,     11,2,19890910,0139,-34.2750, 151.9357, 3152,      3.8,  20.7160,  35.4560,2,  35.4570,2,    155.4,2,    226.7,2,     0.20,3,     0.19,3,     0.24,3
    09FA1089_2,      ,   201,  1,   -999,      8,2,19890910,0139,-34.2750, 151.9357, 3152,     48.7,  20.4850,  35.5390,2,  35.5340,2,    214.3,2,    217.8,2,     0.68,3,     1.31,3,     0.27,3
    09FA1089_2,      ,   201,  1,   -999,     12,2,19890910,0139,-34.2750, 151.9357, 3152,     98.1,  20.1820,  35.6500,2,  35.6520,2,    215.3,2,    203.3,2,     0.88,3,     2.63,3,     0.34,3
    09FA1089_2,      ,   201,  1,   -999,     19,2,19890910,0139,-34.2750, 151.9357, 3152,    138.0,  19.2180,  35.6590,2,  35.6580,2,    194.1,2,    190.7,2,     0.98,3,     4.69,3,     0.47,3
    09FA1089_2,      ,   201,  1,   -999,      1,2,19890910,0139,-34.2750, 151.9357, 3152,    199.4,  16.0870,  35.4270,2,  35.4290,2,    183.4,2,    187.3,2,     2.74,3,     9.18,3,     0.73,3
    09FA1089_2,      ,   201,  1,   -999,     27,2,19890910,0139,-34.2750, 151.9357, 3152,    311.5,  13.1050,  35.1310,2,  35.1230,2,    180.7,2,    186.6,2,     4.59,3,    14.06,3,     1.02,3
    09FA1089_2,      ,   201,  1,   -999,     25,2,19890910,0139,-34.2750, 151.9357, 3152,    399.2,  11.4160,  34.9370,2,  34.9570,2,    181.7,2,    187.9,2,     6.25,3,    17.05,3,     1.23,3
    09FA1089_2,      ,   201,  1,   -999,      3,2,19890910,0139,-34.2750, 151.9357, 3152,    499.2,   9.8250,  34.7580,2,  34.7590,2,    185.7,2,    189.8,2,     9.09,3,    20.81,3,     1.44,3
    09FA1089_2,      ,   201,  1,   -999,      5,2,19890910,0139,-34.2750, 151.9357, 3152,    599.9,   8.5180,  34.6260,2,  34.6240,2,    187.4,2,    193.4,2,    12.12,3,    24.00,3,     1.63,3
    09FA1089_2,      ,   201,  1,   -999,     29,2,19890910,0139,-34.2750, 151.9357, 3152,    799.5,   6.7620,  34.4960,2,  34.5140,2,    187.3,2,    188.8,2,    21.80,3,    28.31,3,     1.91,3
    09FA1089_2,      ,   201,  1,   -999,     17,2,19890910,0139,-34.2750, 151.9357, 3152,   1006.2,   5.1710,  34.4620,2,  34.4660,2,    179.7,2,    177.0,2,    39.30,3,    32.62,3,     2.22,3
    09FA1089_2,      ,   201,  1,   -999,      4,2,19890910,0139,-34.2750, 151.9357, 3152,   1187.9,   4.2710,  34.4930,2,  34.4960,2,    169.5,2,    166.4,2,    62.37,3,    35.06,3,     2.36,3
    09FA1089_2,      ,   201,  1,   -999,      2,2,19890910,0139,-34.2750, 151.9357, 3152,   1381.4,   3.3830,  34.5520,2,  34.5530,2,    158.6,2,    155.3,2,    87.68,3,    37.31,3,     2.50,3
    09FA1089_2,      ,   201,  1,   -999,     31,2,19890910,0139,-34.2750, 151.9357, 3152,   1500.0,   3.0630,  34.5770,2,  34.5800,2,    157.5,2,    153.6,2,    94.43,3,    37.88,3,     2.53,3
    09FA1089_2,      ,   201,  1,   -999,     26,2,19890910,0139,-34.2750, 151.9357, 3152,   2048.1,   2.1910,  34.6910,2,  34.6890,2,    173.3,2,    173.3,2,    92.76,3,    34.87,3,     2.25,3
    09FA1089_2,      ,   201,  1,   -999,     18,2,19890910,0139,-34.2750, 151.9357, 3152,   2497.6,   1.9670,  34.7190,2,  34.7170,2,    180.8,2,    180.2,2,    99.50,3,    35.62,3,     2.34,3
    09FA1089_2,      ,   201,  1,   -999,     10,2,19890910,0139,-34.2750, 151.9357, 3152,   2519.4,   1.9640,  34.7190,2,  34.7170,2,    181.2,2,    181.1,2,    99.50,3,    35.62,3,     2.34,3
    09FA1089_2,      ,   201,  1,   -999,     22,2,19890910,0139,-34.2750, 151.9357, 3152,   3000.8,   1.7090,  34.7300,2,  34.7280,2,    185.7,2,    188.7,2,   107.90,3,    35.62,3,     2.34,3
    09FA1089_2,      ,   203,  1,   -999,     11,2,19890910,0510,-34.3343, 152.0192, 4002,      5.3,  20.6310,  35.4970,2,  35.4960,2,    215.2,2,    223.7,2,     0.49,3,     0.37,3,     0.22,3
    09FA1089_2,      ,   203,  1,   -999,     20,2,19890910,0510,-34.3343, 152.0192, 4002,     49.7,  20.4070,  35.5580,2,  35.5550,2,    226.7,2,    223.7,2,     0.49,3,     0.37,3,     0.21,3
    09FA1089_2,      ,   203,  1,   -999,     24,2,19890910,0510,-34.3343, 152.0192, 4002,     96.9,  20.2810,  35.6140,2,  35.6090,2,    215.8,2,    218.8,2,     0.49,3,     1.12,3,     0.24,3
    09FA1089_2,      ,   203,  1,   -999,      8,2,19890910,0510,-34.3343, 152.0192, 4002,    132.1,  19.9650,  35.6460,2,  35.6460,2,    197.5,2,    199.3,2,     0.88,3,     3.18,3,     0.37,3
    09FA1089_2,      ,   203,  1,   -999,     12,2,19890910,0510,-34.3343, 152.0192, 4002,    198.0,  18.2290,  35.6130,2,  35.6190,2,    181.7,2,    184.5,2,     1.47,3,     6.18,3,     0.53,3
    09FA1089_2,      ,   203,  1,   -999,     19,2,19890910,0510,-34.3343, 152.0192, 4002,    320.0,  13.5280,  35.1790,2,  35.1850,2,    180.1,2,    184.0,2,     4.59,3,    13.86,3,     0.96,3
    09FA1089_2,      ,   203,  1,   -999,      1,2,19890910,0510,-34.3343, 152.0192, 4002,    398.9,  11.7460,  34.9790,2,  34.9800,2,    182.9,2,    186.6,2,     6.25,3,    17.62,3,     1.17,3
    09FA1089_2,      ,   203,  1,   -999,     27,2,19890910,0510,-34.3343, 152.0192, 4002,    498.3,  10.1560,  34.7960,2,  34.8050,2,    184.6,2,    187.9,2,     8.41,3,    20.81,3,     1.38,3
    09FA1089_2,      ,   203,  1,   -999,     25,2,19890910,0510,-34.3343, 152.0192, 4002,    597.2,   8.7670,  34.6500,2,  -9.9999,5,    190.8,2,    194.5,2,    10.75,3,    23.26,3,     1.52,3
    09FA1089_2,      ,   203,  1,   -999,      3,2,19890910,0510,-34.3343, 152.0192, 4002,    802.5,   6.7900,  34.4970,2,  34.4990,2,    189.5,2,    189.5,2,    21.80,3,    29.82,3,     1.89,3
    09FA1089_2,      ,   203,  1,   -999,      5,2,19890910,0510,-34.3343, 152.0192, 4002,   1017.2,   5.2620,  34.4600,2,  34.4640,2,    181.3,2,    180.6,2,    38.81,3,    34.13,3,     2.16,3
    09FA1089_2,      ,   203,  1,   -999,     17,2,19890910,0510,-34.3343, 152.0192, 4002,   1417.0,   3.3090,  34.5560,2,  34.5570,2,    159.8,2,    156.2,2,    84.36,3,    39.19,3,     2.53,3
    09FA1089_2,      ,   203,  1,   -999,      4,2,19890910,0510,-34.3343, 152.0192, 4002,   1503.6,   3.0530,  34.5780,2,  -9.9999,5,    158.8,2,    157.6,2,  -999.00,5,  -999.00,5,  -999.00,5
    09FA1089_2,      ,   203,  1,   -999,      2,2,19890910,0510,-34.3343, 152.0192, 4002,   1746.9,   2.5530,  34.6350,2,  34.6360,2,    162.3,2,    161.1,2,    96.18,3,    39.00,3,     2.50,3
    09FA1089_2,      ,   203,  1,   -999,     31,2,19890910,0510,-34.3343, 152.0192, 4002,   1997.5,   2.2750,  34.6800,2,  34.6770,2,    170.6,2,    169.7,2,    94.42,3,    38.25,3,     2.42,3
    09FA1089_2,      ,   203,  1,   -999,     28,2,19890910,0510,-34.3343, 152.0192, 4002,   2108.5,   2.1990,  34.6920,2,  34.6890,2,    174.0,2,    173.9,2,    96.18,3,    37.68,3,     2.39,3
    09FA1089_2,      ,   203,  1,   -999,     26,2,19890910,0510,-34.3343, 152.0192, 4002,   2545.4,   1.9600,  34.7220,2,  34.7200,2,    182.1,2,    182.1,2,    97.84,3,    36.74,3,     2.34,3
    09FA1089_2,      ,   203,  1,   -999,     18,2,19890910,0510,-34.3343, 152.0192, 4002,   2909.9,   1.7330,  34.7310,2,  34.7270,2,    185.9,2,    187.7,2,   104.58,3,    36.55,3,     2.33,3
    09FA1089_2,      ,   203,  1,   -999,     10,2,19890910,0510,-34.3343, 152.0192, 4002,   3195.0,   1.5390,  34.7310,2,  34.7270,2,    188.2,2,    190.3,2,   109.66,3,    36.94,3,     2.34,3
    09FA1089_2,      ,   203,  1,   -999,     22,2,19890910,0510,-34.3343, 152.0192, 4002,   3419.0,   1.3660,  34.7260,2,  34.7210,2,    191.0,2,    194.2,2,   114.65,3,    37.12,3,     2.36,3
    09FA1089_2,      ,   203,  1,   -999,      6,2,19890910,0510,-34.3343, 152.0192, 4002,   4485.7,   1.1540,  34.7170,2,  34.7140,2,    191.0,2,    195.9,2,   123.15,3,    37.49,3,     2.38,3
    09FA1089_2,      ,   205,  1,   -999,     11,2,19890911,1211,-34.4420, 152.7583, 4830,      5.9,  20.2060,  35.5520,2,  35.5540,2,    220.4,2,    222.2,2,  -999.00,5,  -999.00,5,  -999.00,5
    09FA1089_2,      ,   205,  1,   -999,     26,2,19890911,1211,-34.4420, 152.7583, 4830,     49.0,  19.2810,  35.6220,2,  35.6210,2,    214.2,2,    206.9,2,     0.88,3,     2.87,3,     0.35,3
    09FA1089_2,      ,   205,  1,   -999,     20,2,19890911,1211,-34.4420, 152.7583, 4830,    147.5,  18.7070,  35.5940,2,  35.5920,2,    220.0,2,   -999.0,5,     0.68,3,     1.80,3,     0.28,3
    09FA1089_2,      ,   205,  1,   -999,     24,2,19890911,1211,-34.4420, 152.7583, 4830,    198.2,  18.6920,  35.5940,2,  35.5930,2,    184.5,2,    186.0,2,     0.68,3,     1.97,3,     0.29,3
    09FA1089_2,      ,   205,  1,   -999,      8,2,19890911,1211,-34.4420, 152.7583, 4830,    300.1,  17.6170,  35.5510,2,  35.5510,2,    187.5,2,    185.6,2,     1.66,3,     7.37,3,     0.58,3
    09FA1089_2,      ,   205,  1,   -999,     12,2,19890911,1211,-34.4420, 152.7583, 4830,    437.7,  14.1480,  35.2780,2,  35.2830,2,    187.1,2,    190.9,2,     3.42,3,    11.85,3,     0.82,3
    09FA1089_2,      ,   205,  1,   -999,     19,2,19890911,1211,-34.4420, 152.7583, 4830,    497.4,  12.8360,  35.1350,2,  35.1400,2,    190.8,2,    192.4,2,     4.20,3,    14.01,3,     0.94,3
    09FA1089_2,      ,   205,  1,   -999,      1,2,19890911,1211,-34.4420, 152.7583, 4830,    602.8,  10.7540,  34.8850,2,  34.8790,2,    189.8,2,    197.2,2,     6.65,3,    18.86,3,     1.23,3
    09FA1089_2,      ,   205,  1,   -999,     27,2,19890911,1211,-34.4420, 152.7583, 4830,    800.5,   8.0770,  34.5830,2,  34.5860,2,    183.9,2,    193.6,2,    13.29,3,    24.98,3,     1.63,3
    09FA1089_2,      ,   205,  1,   -999,      3,2,19890911,1211,-34.4420, 152.7583, 4830,   1250.3,   4.6600,  34.4760,2,  34.4790,2,    170.0,2,    172.3,2,    49.37,3,    32.17,3,     2.11,3
    09FA1089_2,      ,   205,  1,   -999,      5,2,19890911,1211,-34.4420, 152.7583, 4830,   1349.5,   4.2180,  34.4940,2,  34.4970,2,    160.8,2,    169.8,2,    57.87,3,    33.43,3,     2.18,3
    09FA1089_2,      ,   205,  1,   -999,      9,2,19890911,1211,-34.4420, 152.7583, 4830,   1558.6,   3.4020,  34.5490,2,  34.5510,2,    158.0,2,    159.0,2,    79.96,3,    35.94,3,     2.42,3
    09FA1089_2,      ,   205,  1,   -999,      4,2,19890911,1211,-34.4420, 152.7583, 4830,   1998.4,   2.4780,  34.6470,2,  34.6460,2,    175.8,2,    167.5,2,    86.80,3,    34.33,3,     2.24,3
    09FA1089_2,      ,   205,  1,   -999,      2,2,19890911,1211,-34.4420, 152.7583, 4830,   2278.9,   2.1910,  34.6930,2,  34.6890,2,    182.3,2,    177.3,2,    91.88,3,    34.50,3,     2.32,3
    09FA1089_2,      ,   205,  1,   -999,     31,2,19890911,1211,-34.4420, 152.7583, 4830,   2578.7,   1.9610,  34.7170,2,  34.7170,2,    186.9,2,    179.5,2,    98.72,3,    34.33,3,     2.32,3
    09FA1089_2,      ,   205,  1,   -999,     28,2,19890911,1211,-34.4420, 152.7583, 4830,   2887.1,   1.7400,  34.7280,2,  34.7240,2,    188.5,2,    184.6,2,   102.04,3,    33.60,3,     2.26,3
    09FA1089_2,      ,   205,  1,   -999,     13,2,19890911,1211,-34.4420, 152.7583, 4830,   2998.9,   1.6670,  34.7290,2,  34.7280,2,    192.3,2,    194.4,2,    98.72,3,    32.53,3,     2.15,3
    09FA1089_2,      ,   205,  1,   -999,     18,2,19890911,1211,-34.4420, 152.7583, 4830,   3398.7,   1.3690,  34.7250,2,  34.7250,2,    194.3,2,    196.6,2,   110.64,3,    33.60,3,     2.26,3
    09FA1089_2,      ,   205,  1,   -999,     10,2,19890911,1211,-34.4420, 152.7583, 4830,   3997.8,   1.1670,  34.7170,2,  34.7160,2,    195.6,2,    200.1,2,   113.96,3,    33.43,3,     2.23,3
    09FA1089_2,      ,   205,  1,   -999,      6,2,19890911,1211,-34.4420, 152.7583, 4830,   4826.5,   1.1450,  34.7130,2,  34.7140,2,    195.6,2,    202.3,2,   113.96,3,    33.07,3,     2.21,3
    09FA1089_2,      ,   207,  1,   -999,     11,2,19890911,1808,-34.4147, 153.1572, 4902,      6.4,  19.6980,  35.5790,2,  35.5780,2,    228.4,2,    229.5,2,     0.29,3,     0.36,3,     0.22,3
    09FA1089_2,      ,   207,  1,   -999,     26,2,19890911,1808,-34.4147, 153.1572, 4902,     73.0,  19.0470,  35.5870,2,  35.5870,2,    224.4,2,    227.9,2,     0.29,3,     1.26,3,     0.25,3
    09FA1089_2,      ,   207,  1,   -999,     29,2,19890911,1808,-34.4147, 153.1572, 4902,     97.1,  19.0320,  35.5860,2,  35.5850,2,    225.0,2,    226.9,2,     0.29,3,     1.26,3,     0.25,3
    09FA1089_2,      ,   207,  1,   -999,     20,2,19890911,1808,-34.4147, 153.1572, 4902,    148.0,  18.9800,  35.5860,2,  35.5860,2,    232.9,2,    227.2,2,     0.49,3,     1.44,3,     0.26,3
    09FA1089_2,      ,   207,  1,   -999,     24,2,19890911,1808,-34.4147, 153.1572, 4902,    198.5,  18.9210,  35.5870,2,  35.5870,2,    221.6,2,    228.8,2,     0.29,3,     1.44,3,     0.25,3
    09FA1089_2,      ,   207,  1,   -999,      8,2,19890911,1808,-34.4147, 153.1572, 4902,    297.6,  17.9070,  35.5640,2,  35.5580,2,    192.6,2,    199.3,2,     1.17,3,     5.39,3,     0.46,3
    09FA1089_2,      ,   207,  1,   -999,     12,2,19890911,1808,-34.4147, 153.1572, 4902,    398.2,  15.4260,  35.3860,2,  35.3850,2,    183.9,2,    186.8,2,     2.54,3,    10.95,3,     0.75,3
    09FA1089_2,      ,   207,  1,   -999,     19,2,19890911,1808,-34.4147, 153.1572, 4902,    464.1,  13.8470,  35.2490,2,  35.2500,2,    187.2,2,    191.5,2,     3.71,3,    13.29,3,     0.89,3
    09FA1089_2,      ,   207,  1,   -999,      1,2,19890911,1808,-34.4147, 153.1572, 4902,    598.8,  10.8250,  34.8940,2,  34.8980,2,    191.9,2,    194.9,2,     6.65,3,    19.22,3,     1.22,3
    09FA1089_2,      ,   207,  1,   -999,      9,2,19890911,1808,-34.4147, 153.1572, 4902,    802.1,   8.1120,  34.5870,2,  34.5920,2,    191.5,2,    193.3,2,    13.29,3,    25.90,3,     1.62,3
    09FA1089_2,      ,   207,  1,   -999,     25,2,19890911,1808,-34.4147, 153.1572, 4902,   1021.4,   6.1000,  34.4690,2,  -9.9999,5,    188.8,2,    190.7,2,    23.46,3,    28.06,3,     1.81,3
    09FA1089_2,      ,   207,  1,   -999,      3,2,19890911,1808,-34.4147, 153.1572, 4902,   1248.5,   4.5790,  34.4790,2,  34.4810,2,    177.7,2,    173.7,2,  -999.00,5,  -999.00,5,  -999.00,5
    09FA1089_2,      ,   207,  1,   -999,      5,2,19890911,1808,-34.4147, 153.1572, 4902,   1366.9,   4.1880,  34.4960,2,  34.5000,2,    172.2,2,    169.5,2,    61.29,3,    35.58,3,     2.31,3
    09FA1089_2,      ,   207,  1,   -999,     27,2,19890911,1808,-34.4147, 153.1572, 4902,   1495.2,   3.6830,  34.5300,2,  34.5290,2,    166.5,2,    161.5,2,    74.88,3,    36.67,3,     2.42,3
    09FA1089_2,      ,   207,  1,   -999,      4,2,19890911,1808,-34.4147, 153.1572, 4902,   1748.0,   2.9810,  34.5870,2,  34.5890,2,    159.8,2,    156.8,2,    90.22,3,    38.28,3,     2.49,3
    09FA1089_2,      ,   207,  1,   -999,      2,2,19890911,1808,-34.4147, 153.1572, 4902,   1998.5,   2.5050,  34.6420,2,  34.6440,2,    165.9,2,    163.1,2,    93.54,3,    37.74,3,     2.45,3
    09FA1089_2,      ,   207,  1,   -999,     31,2,19890911,1808,-34.4147, 153.1572, 4902,   2271.5,   2.2280,  34.6850,2,  34.6840,2,    175.8,2,    173.9,2,    93.54,3,    36.66,3,     2.39,3
    09FA1089_2,      ,   207,  1,   -999,     28,2,19890911,1808,-34.4147, 153.1572, 4902,   2577.4,   1.9870,  34.7160,2,  34.7150,2,    183.3,2,    183.0,2,    93.54,3,    35.76,3,     2.31,3
    09FA1089_2,      ,   207,  1,   -999,     13,2,19890911,1808,-34.4147, 153.1572, 4902,   2870.6,   1.7510,  34.7280,2,  34.7260,2,    187.7,2,    191.6,2,   100.38,3,    35.76,3,     2.29,3
    09FA1089_2,      ,   207,  1,   -999,     18,2,19890911,1808,-34.4147, 153.1572, 4902,   3472.0,   1.3410,  34.7240,2,  34.7220,2,    193.5,2,    196.3,2,   110.64,3,    35.94,3,     2.29,3
    09FA1089_2,      ,   207,  1,   -999,     10,2,19890911,1808,-34.4147, 153.1572, 4902,   3998.6,   1.1480,  34.7180,2,  34.7160,2,    196.8,2,    199.8,2,   117.38,3,    35.94,3,     2.34,3
    09FA1089_2,      ,   207,  1,   -999,     22,2,19890911,1808,-34.4147, 153.1572, 4902,   4497.4,   1.1450,  34.7150,2,  34.7130,2,    197.6,2,    200.8,2,   119.14,3,    36.30,3,     2.34,3
    09FA1089_2,      ,   207,  1,   -999,      6,2,19890911,1808,-34.4147, 153.1572, 4902,   4901.6,   1.1690,  34.7150,2,  34.7120,2,    199.3,2,    200.8,2,   119.14,3,    36.48,3,     2.32,3