BOTTLE,20010820WHPSIOKJU
EXPOCODE,SECT_ID,STNNBR,CASTNO,SAMPNO,BTLNBR,BTLNBR_FLAG_W,DATE,TIME,LATITUDE,LONGITUDE,DEPTH,CTDPRS,CTDTMP,CTDSAL,CTDSAL_FLAG_W,SALNTY,SALNTY_FLAG_W,CTDOXY,CTDOXY_FLAG_W,OXYGEN,OXYGEN_FLAG_W,SILCAT,SILCAT_FLAG_W,NO2+NO3,NO2+NO3_FLAG_W,PHSPHT,PHSPHT_FLAG_W
,,,,,,,,,,,,DBR,ITS-90,PSS-78,,PSS-78,,UMOL/KG,,UMOL/KG,,UMOL/KG,,UMOL/KG,,UMOL/KG,
    09FA1089_2,      ,   279,  1,   -999,     22,2,19890919,1139,-37.8020, 167.3597,  824,      4.2,  15.3250,  35.4730,2,  35.4720,2,    252.4,2,    245.8,2,     2.05,3,     2.21,3,     0.36,3
    09FA1089_2,      ,   279,  1,   -999,      8,2,19890919,1139,-37.8020, 167.3597,  824,     48.8,  14.8580,  35.4360,2,  35.4330,2,    242.6,2,    241.7,2,     2.25,3,     4.50,3,     0.47,3
    09FA1089_2,      ,   279,  1,   -999,     26,2,19890919,1139,-37.8020, 167.3597,  824,     69.0,  14.6220,  35.4220,2,  35.4210,2,    241.4,2,    238.9,2,     2.05,3,     4.20,3,     0.45,3
    09FA1089_2,      ,   279,  1,   -999,     29,2,19890919,1139,-37.8020, 167.3597,  824,     98.5,  14.4240,  35.4030,2,  35.3980,2,    240.0,2,    241.7,2,     2.05,3,     3.89,3,     0.44,3
    09FA1089_2,      ,   279,  1,   -999,     20,2,19890919,1139,-37.8020, 167.3597,  824,    133.3,  14.1970,  35.3730,2,  35.3730,2,    236.5,2,    231.4,2,     2.25,3,     4.81,3,     0.50,3
    09FA1089_2,      ,   279,  1,   -999,      1,2,19890919,1139,-37.8020, 167.3597,  824,    199.1,  13.2730,  35.2640,2,  35.2640,2,    214.9,2,    213.6,2,     3.42,3,     9.48,3,     0.74,3
    09FA1089_2,      ,   279,  1,   -999,      6,2,19890919,1139,-37.8020, 167.3597,  824,    299.7,  11.6010,  35.0350,2,  35.0360,2,    204.4,2,    195.8,2,     6.45,3,    15.27,3,     1.08,3
    09FA1089_2,      ,   279,  1,   -999,     18,2,19890919,1139,-37.8020, 167.3597,  824,    398.0,  10.5460,  34.8830,2,  34.8820,2,    197.2,2,    196.4,2,     7.43,3,    19.48,3,     1.26,3
    09FA1089_2,      ,   279,  1,   -999,      3,2,19890919,1139,-37.8020, 167.3597,  824,    498.1,   9.2330,  34.7040,2,  34.7050,2,    199.5,2,    198.5,2,     9.58,3,    23.26,3,     1.48,3
    09FA1089_2,      ,   279,  1,   -999,     12,2,19890919,1139,-37.8020, 167.3597,  824,    598.5,   8.2910,  34.6140,2,  34.6170,2,    192.5,2,    192.6,2,    14.17,3,    26.37,3,     1.68,3
    09FA1089_2,      ,   279,  1,   -999,     13,2,19890919,1139,-37.8020, 167.3597,  824,    699.7,   7.4610,  34.5560,2,  34.5600,2,    185.3,2,    183.6,2,    19.55,3,    28.97,3,     1.88,3
    09FA1089_2,      ,   279,  1,   -999,      4,2,19890919,1139,-37.8020, 167.3597,  824,    823.6,   6.5810,  34.5200,2,  34.5210,2,    179.7,2,    178.4,2,    27.57,3,    31.58,3,     2.03,3
    09FA1089_2,      ,   281,  1,   -999,     22,2,19890919,1718,-37.9935, 166.2065, 2140,      3.9,  15.1460,  35.4690,2,  35.4680,2,    250.5,2,    242.6,2,     1.86,3,     2.55,3,     0.38,3
    09FA1089_2,      ,   281,  1,   -999,      1,2,19890919,1718,-37.9935, 166.2065, 2140,     99.3,  14.7280,  35.4390,2,  35.4350,2,    244.4,2,    242.6,2,     1.76,3,     3.23,3,     0.41,3
    09FA1089_2,      ,   281,  1,   -999,     24,2,19890919,1718,-37.9935, 166.2065, 2140,    173.1,  13.8960,  35.3240,2,  35.3270,2,    226.0,2,    221.5,2,     2.54,3,     7.04,3,     0.62,3
    09FA1089_2,      ,   281,  1,   -999,      5,2,19890919,1718,-37.9935, 166.2065, 2140,    197.5,  13.3480,  35.2620,2,  35.2640,2,    211.3,2,    207.3,2,     3.61,3,    10.38,3,     0.79,3
    09FA1089_2,      ,   281,  1,   -999,     19,2,19890919,1718,-37.9935, 166.2065, 2140,    299.3,  11.9520,  35.0840,2,  35.0800,2,    204.1,2,    202.9,2,     5.37,3,    14.12,3,     0.98,3
    09FA1089_2,      ,   281,  1,   -999,     26,2,19890919,1718,-37.9935, 166.2065, 2140,    499.1,   9.4190,  34.7250,2,  34.7240,2,    197.4,2,    200.7,2,     8.70,3,    22.68,3,     1.38,3
    09FA1089_2,      ,   281,  1,   -999,     29,2,19890919,1718,-37.9935, 166.2065, 2140,    600.0,   8.4020,  34.6260,2,  34.6270,2,    192.3,2,    190.8,2,    13.88,3,    26.97,3,     1.65,3
    09FA1089_2,      ,   281,  1,   -999,     20,2,19890919,1718,-37.9935, 166.2065, 2140,    797.9,   7.2620,  34.5660,2,  34.5680,2,    177.6,2,    176.2,2,    23.95,3,    30.58,3,     1.91,3
    09FA1089_2,      ,   281,  1,   -999,     13,2,19890919,1718,-37.9935, 166.2065, 2140,    998.5,   6.0030,  34.4950,2,  34.4970,2,    177.4,2,    176.2,2,    32.55,3,    33.80,3,     2.11,3
    09FA1089_2,      ,   281,  1,   -999,      6,2,19890919,1718,-37.9935, 166.2065, 2140,   1178.9,   4.6670,  34.4650,2,  34.4680,2,    173.4,2,    173.4,2,    50.35,3,    36.69,3,     2.32,3
    09FA1089_2,      ,   281,  1,   -999,     18,2,19890919,1718,-37.9935, 166.2065, 2140,   1277.7,   4.0400,  34.4760,2,  34.4770,2,    169.9,2,    168.7,2,    59.83,3,    38.15,3,     2.40,3
    09FA1089_2,      ,   281,  1,   -999,      3,2,19890919,1718,-37.9935, 166.2065, 2140,   1473.2,   3.2680,  34.5460,2,  34.5460,2,    158.8,2,    155.7,2,    81.82,3,    39.86,3,     2.56,3
    09FA1089_2,      ,   281,  1,   -999,     12,2,19890919,1718,-37.9935, 166.2065, 2140,   1748.1,   2.6710,  34.6200,2,  34.6190,2,    158.5,2,    156.9,2,    94.42,3,    39.43,3,     2.52,3
    09FA1089_2,      ,   281,  1,   -999,     17,2,19890919,1718,-37.9935, 166.2065, 2140,   1999.9,   2.3700,  34.6620,2,  34.6610,2,    163.6,2,    164.3,2,    95.98,3,    39.00,3,     2.49,3
    09FA1089_2,      ,   281,  1,   -999,      4,2,19890919,1718,-37.9935, 166.2065, 2140,   2137.8,   2.1670,  34.6880,2,  34.6860,2,    169.2,2,    169.3,2,    97.55,3,    38.15,3,     2.46,3
    09FA1089_2,      ,   283,  1,   -999,      8,2,19890920,0002,-38.0035, 164.9958, 1428,      2.3,  15.3310,  35.4500,2,  35.4120,3,    253.0,2,    241.1,2,     1.76,3,     3.57,3,     0.41,3
    09FA1089_2,      ,   283,  1,   -999,     22,2,19890920,0002,-38.0035, 164.9958, 1428,      2.3,  15.3310,  35.4500,2,  35.4480,2,    253.0,2,    248.5,3,     1.56,3,     1.48,3,     0.32,3
    09FA1089_2,      ,   283,  1,   -999,     26,2,19890920,0002,-38.0035, 164.9958, 1428,     98.5,  14.6000,  35.4150,2,  35.4120,2,    241.6,2,    240.1,2,     1.76,3,     3.57,3,     0.41,3
    09FA1089_2,      ,   283,  1,   -999,     29,2,19890920,0002,-38.0035, 164.9958, 1428,    168.8,  14.2740,  35.3870,2,  35.3850,2,    237.5,2,    237.6,2,     1.86,3,     4.20,3,     0.47,3
    09FA1089_2,      ,   283,  1,   -999,     20,2,19890920,0002,-38.0035, 164.9958, 1428,    199.4,  14.0670,  35.3720,2,  35.3700,2,    235.9,2,    237.0,2,     2.05,3,     4.50,3,     0.48,3
    09FA1089_2,      ,   283,  1,   -999,     27,2,19890920,0002,-38.0035, 164.9958, 1428,    299.1,  12.2590,  35.1250,2,  35.1210,2,    196.5,2,    200.1,2,     4.89,3,    14.12,3,     0.94,3
    09FA1089_2,      ,   283,  1,   -999,      6,2,19890920,0002,-38.0035, 164.9958, 1428,    398.3,  10.7240,  34.9090,2,  34.9100,2,    194.4,2,    193.6,2,  -999.00,5,  -999.00,5,  -999.00,5
    09FA1089_2,      ,   283,  1,   -999,     18,2,19890920,0002,-38.0035, 164.9958, 1428,    498.6,   9.3240,  34.7100,2,  34.7100,2,    197.2,2,    201.6,2,     8.50,3,    23.84,3,     1.42,3
    09FA1089_2,      ,   283,  1,   -999,      3,2,19890920,0002,-38.0035, 164.9958, 1428,    798.6,   6.7890,  34.5020,2,  34.5030,2,    178.1,2,    182.1,2,    21.99,3,    31.99,3,     1.95,3
    09FA1089_2,      ,   283,  1,   -999,     12,2,19890920,0002,-38.0035, 164.9958, 1428,    999.1,   5.2070,  34.4570,2,  34.4540,2,    164.2,2,    176.5,2,    37.25,3,    36.06,3,     2.21,3
    09FA1089_2,      ,   283,  1,   -999,      9,2,19890920,0002,-38.0035, 164.9958, 1428,   1260.9,   3.9550,  34.5100,2,  34.5080,2,    156.1,2,    162.2,2,    70.77,3,    39.22,3,     2.43,3
    09FA1089_2,      ,   283,  1,   -999,      4,2,19890920,0002,-38.0035, 164.9958, 1428,   1430.0,   3.4380,  34.5490,2,  34.5580,2,    156.1,2,    154.1,2,    83.38,3,    40.52,3,     2.55,3
    09FA1089_2,      ,   285,  1,   -999,     22,2,19890920,0548,-37.9955, 163.9250, 2040,      4.8,  15.6080,  35.4800,2,  35.4800,2,    246.9,2,    241.7,2,     1.95,3,     1.68,3,     0.38,3
    09FA1089_2,      ,   285,  1,   -999,     31,2,19890920,0548,-37.9955, 163.9250, 2040,     48.7,  15.2940,  35.4530,2,  35.4520,2,    237.5,2,    238.0,2,     2.05,3,     2.50,3,     0.42,3
    09FA1089_2,      ,   285,  1,   -999,     24,2,19890920,0548,-37.9955, 163.9250, 2040,     98.2,  14.7470,  35.4030,2,  35.4000,2,    229.9,2,    214.4,2,     3.03,3,     6.84,3,     0.60,3
    09FA1089_2,      ,   285,  1,   -999,     27,2,19890920,0548,-37.9955, 163.9250, 2040,    148.4,  14.1110,  35.3680,2,  35.3720,2,    216.4,2,    228.7,2,     2.54,3,     5.07,3,     0.54,3
    09FA1089_2,      ,   285,  1,   -999,     10,2,19890920,0548,-37.9955, 163.9250, 2040,    198.3,  13.6190,  35.3040,2,  35.2990,2,    229.7,2,    224.9,2,     2.83,3,     6.63,3,     0.63,3
    09FA1089_2,      ,   285,  1,   -999,      8,2,19890920,0548,-37.9955, 163.9250, 2040,    298.1,  11.9830,  35.0760,2,  35.0770,2,    204.1,2,    200.7,2,     5.37,3,    15.01,3,     1.00,3
    09FA1089_2,      ,   285,  1,   -999,     26,2,19890920,0548,-37.9955, 163.9250, 2040,    398.6,  10.7820,  34.9090,2,  34.9100,2,    199.1,2,    200.1,2,     6.55,3,    17.83,3,     1.15,3
    09FA1089_2,      ,   285,  1,   -999,     20,2,19890920,0548,-37.9955, 163.9250, 2040,    599.3,   8.8070,  34.6520,2,  34.6510,2,    184.2,2,    197.3,2,    10.95,3,    24.44,3,     1.51,3
    09FA1089_2,      ,   285,  1,   -999,     17,2,19890920,0548,-37.9955, 163.9250, 2040,    805.2,   7.0820,  34.5210,2,  34.5220,2,    181.6,2,    183.3,2,    21.31,3,    30.11,3,     1.87,3
    09FA1089_2,      ,   285,  1,   -999,      6,2,19890920,0548,-37.9955, 163.9250, 2040,    998.6,   5.3600,  34.4430,2,  34.4430,2,    181.1,2,    180.8,2,    35.00,3,    34.22,3,     2.16,3
    09FA1089_2,      ,   285,  1,   -999,     18,2,19890920,0548,-37.9955, 163.9250, 2040,   1051.3,   5.0760,  34.4440,2,  34.4460,2,    168.8,2,    182.7,2,    44.58,3,    35.39,3,     2.19,3
    09FA1089_2,      ,   285,  1,   -999,      3,2,19890920,0548,-37.9955, 163.9250, 2040,   1254.3,   4.0380,  34.4980,2,  34.5000,2,    157.3,2,    164.7,2,    70.09,3,    37.73,3,     2.38,3
    09FA1089_2,      ,   285,  1,   -999,     12,2,19890920,0548,-37.9955, 163.9250, 2040,   1504.3,   3.2640,  34.5620,2,  34.5610,2,    163.9,2,    154.5,2,    93.94,3,    39.10,3,     2.50,3
    09FA1089_2,      ,   285,  1,   -999,      4,2,19890920,0548,-37.9955, 163.9250, 2040,   2037.6,   2.3770,  34.6620,2,  34.6600,2,    163.9,2,    162.8,2,   106.74,3,    38.71,3,     2.44,3
    09FA1089_2,      ,   287,  1,   -999,     22,2,19890920,0855,-38.0118, 163.6598, 2956,      6.2,  15.5360,  35.4760,2,  35.4760,2,    244.3,2,    241.7,2,     1.56,3,     1.12,3,     0.35,3
    09FA1089_2,      ,   287,  1,   -999,      5,2,19890920,0855,-38.0118, 163.6598, 2956,     28.5,  15.5330,  35.4750,2,  35.4740,2,    245.6,2,    242.3,2,     1.56,3,     1.12,3,     0.33,3
    09FA1089_2,      ,   287,  1,   -999,     21,2,19890920,0855,-38.0118, 163.6598, 2956,     98.4,  14.4630,  35.3910,2,  35.3900,2,    251.1,2,    248.5,2,     1.95,3,     1.68,3,     0.40,3
    09FA1089_2,      ,   287,  1,   -999,     19,2,19890920,0855,-38.0118, 163.6598, 2956,    119.6,  14.3140,  35.3840,2,  35.3820,2,    243.9,2,    244.8,2,     2.05,3,     2.50,3,     0.43,3
    09FA1089_2,      ,   287,  1,   -999,      1,2,19890920,0855,-38.0118, 163.6598, 2956,    200.7,  13.7780,  35.3360,2,  35.3380,2,    229.7,2,    239.5,2,     2.25,3,     4.34,3,     0.51,3
    09FA1089_2,      ,   287,  1,   -999,     31,2,19890920,0855,-38.0118, 163.6598, 2956,    299.4,  11.9970,  35.0770,2,  35.0750,2,    193.9,2,    197.6,2,     5.57,3,    16.13,3,     1.00,3
    09FA1089_2,      ,   287,  1,   -999,     24,2,19890920,0855,-38.0118, 163.6598, 2956,    401.6,  10.4690,  34.8670,2,  34.8730,2,    191.0,2,    189.3,2,     8.60,3,    21.70,3,     1.29,3
    09FA1089_2,      ,   287,  1,   -999,     27,2,19890920,0855,-38.0118, 163.6598, 2956,    520.8,   8.9230,  34.6520,2,  34.6520,2,    204.1,2,    203.5,2,     9.19,3,    24.63,3,     1.44,3
    09FA1089_2,      ,   287,  1,   -999,     10,2,19890920,0855,-38.0118, 163.6598, 2956,    599.8,   8.5190,  34.6390,2,  34.6390,2,    190.3,2,    187.1,2,    13.98,3,    27.56,3,     1.59,3
    09FA1089_2,      ,   287,  1,   -999,      8,2,19890920,0855,-38.0118, 163.6598, 2956,    799.6,   6.8200,  34.5060,2,  34.5050,2,    185.0,2,    182.7,2,    23.56,3,    32.65,3,     1.91,3
    09FA1089_2,      ,   287,  1,   -999,     13,2,19890920,0855,-38.0118, 163.6598, 2956,    960.0,   5.5480,  34.4450,2,  34.4460,2,    181.7,2,    177.1,2,    33.73,3,    35.78,3,     2.10,3
    09FA1089_2,      ,   287,  1,   -999,     29,2,19890920,0855,-38.0118, 163.6598, 2956,   1000.8,   5.2630,  34.4420,2,  34.4500,2,    179.1,2,    179.6,2,    36.37,3,    36.17,3,     2.14,3
    09FA1089_2,      ,   287,  1,   -999,     20,2,19890920,0855,-38.0118, 163.6598, 2956,   1240.9,   4.0150,  34.5010,2,  34.5030,2,    166.8,2,    164.1,2,    73.22,3,    39.30,3,     2.38,3
    09FA1089_2,      ,   287,  1,   -999,     17,2,19890920,0855,-38.0118, 163.6598, 2956,   1454.0,   3.2730,  34.5620,2,  34.5630,2,    156.7,2,    153.2,2,    93.94,3,    40.86,3,     2.47,3
    09FA1089_2,      ,   287,  1,   -999,      6,2,19890920,0855,-38.0118, 163.6598, 2956,   1751.6,   2.7680,  34.6100,2,  34.6080,2,    155.2,2,    153.8,2,   105.08,3,    41.05,3,     2.50,3
    09FA1089_2,      ,   287,  1,   -999,     18,2,19890920,0855,-38.0118, 163.6598, 2956,   1997.8,   2.4590,  34.6520,2,  34.6480,2,    159.7,2,    160.9,2,   105.07,3,    40.47,3,     2.44,3
    09FA1089_2,      ,   287,  1,   -999,      3,2,19890920,0855,-38.0118, 163.6598, 2956,   2321.5,   2.1750,  34.6940,2,  34.6920,2,    169.6,2,    173.3,2,  -999.00,5,  -999.00,5,  -999.00,5
    09FA1089_2,      ,   287,  1,   -999,     12,2,19890920,0855,-38.0118, 163.6598, 2956,   2497.0,   2.0270,  34.7110,2,  34.7070,2,    174.2,2,    180.7,2,   106.73,3,    38.90,3,     2.38,3
    09FA1089_2,      ,   287,  1,   -999,      9,2,19890920,0855,-38.0118, 163.6598, 2956,   2621.1,   1.8920,  34.7200,2,  34.7180,2,    177.0,2,    178.9,2,   106.73,3,    39.68,3,     2.47,3
    09FA1089_2,      ,   287,  1,   -999,      4,2,19890920,0855,-38.0118, 163.6598, 2956,   2949.4,   1.5660,  34.7270,2,  34.7290,2,    181.5,2,    185.0,2,   117.87,3,    37.92,3,     2.30,3
    09FA1089_2,      ,   289,  1,   -999,     21,2,19890920,1419,-38.0045, 163.1923, 4082,      5.4,  15.2880,  35.4630,2,  35.4610,2,    244.1,2,    245.4,2,     1.95,3,     1.40,3,     0.38,3
    09FA1089_2,      ,   289,  1,   -999,     23,2,19890920,1419,-38.0045, 163.1923, 4082,     50.7,  14.9220,  35.4320,2,  35.4330,2,    252.9,2,    252.6,2,     1.95,3,     1.12,3,     0.38,3
    09FA1089_2,      ,   289,  1,   -999,     58,2,19890920,1419,-38.0045, 163.1923, 4082,    118.8,  14.3620,  35.3980,2,  35.3940,2,    243.6,2,    244.5,2,     1.95,3,     2.48,3,     0.44,3
    09FA1089_2,      ,   289,  1,   -999,      2,2,19890920,1419,-38.0045, 163.1923, 4082,    148.7,  14.0660,  35.3740,2,  35.3810,2,    239.1,2,    241.7,2,     2.05,3,     3.54,3,     0.50,3
    09FA1089_2,      ,   289,  1,   -999,     22,2,19890920,1419,-38.0045, 163.1923, 4082,    198.6,  13.4960,  35.2660,2,  35.2650,2,    202.8,2,    201.4,2,     4.01,3,    12.04,3,     0.85,3
    09FA1089_2,      ,   289,  1,   -999,      5,2,19890920,1419,-38.0045, 163.1923, 4082,    298.7,  12.1860,  35.1090,2,  35.1070,2,    202.1,2,    201.4,2,     4.30,3,    14.91,3,     1.00,3
    09FA1089_2,      ,   289,  1,   -999,     26,2,19890920,1419,-38.0045, 163.1923, 4082,    399.3,  10.8540,  34.9190,2,  34.9250,2,    198.1,2,    200.7,2,     6.55,3,    18.75,3,     1.19,3
    09FA1089_2,      ,   289,  1,   -999,     19,2,19890920,1419,-38.0045, 163.1923, 4082,    498.2,   9.3550,  34.7030,2,  34.7060,2,    204.5,2,    206.6,2,  -999.00,5,  -999.00,5,  -999.00,5
    09FA1089_2,      ,   289,  1,   -999,      1,2,19890920,1419,-38.0045, 163.1923, 4082,    598.9,   8.6380,  34.6350,2,  34.6360,2,    193.0,2,    193.0,2,    11.53,3,    25.19,3,     1.52,3
    09FA1089_2,      ,   289,  1,   -999,     31,2,19890920,1419,-38.0045, 163.1923, 4082,    799.7,   7.0890,  34.5180,2,  34.5200,2,    183.7,2,    184.3,2,    20.72,3,    30.55,3,     1.81,3
    09FA1089_2,      ,   289,  1,   -999,     13,2,19890920,1419,-38.0045, 163.1923, 4082,   1003.4,   5.5950,  34.4620,2,  34.4610,2,    177.6,2,    179.9,2,    34.90,3,    34.80,3,     2.22,3
    09FA1089_2,      ,   289,  1,   -999,     27,2,19890920,1419,-38.0045, 163.1923, 4082,   1149.6,   4.7400,  34.4660,2,  34.4680,2,    172.6,2,    172.7,2,    52.20,3,    36.77,3,     2.30,3
    09FA1089_2,      ,   289,  1,   -999,     10,2,19890920,1419,-38.0045, 163.1923, 4082,   1289.5,   4.0480,  34.4990,2,  34.5010,2,    165.3,2,    163.4,2,    70.09,3,    35.19,3,     2.37,3
    09FA1089_2,      ,   289,  1,   -999,      8,2,19890920,1419,-38.0045, 163.1923, 4082,   1500.1,   3.3180,  34.5550,2,  34.5600,2,    156.9,2,    154.8,2,    80.55,3,    38.73,3,     2.50,3
    09FA1089_2,      ,   289,  1,   -999,     24,2,19890920,1419,-38.0045, 163.1923, 4082,   1750.0,   2.7520,  34.6090,2,  34.6080,2,    155.3,2,    155.1,2,    99.90,3,    39.71,3,     2.56,3
    09FA1089_2,      ,   289,  1,   -999,     29,2,19890920,1419,-38.0045, 163.1923, 4082,   1999.9,   2.3930,  34.6580,2,  34.6590,2,    162.6,2,    163.7,2,   101.46,3,    38.73,3,     2.50,3
    09FA1089_2,      ,   289,  1,   -999,     20,2,19890920,1419,-38.0045, 163.1923, 4082,   2244.2,   2.1830,  34.6910,2,  34.6890,2,    169.4,2,    170.8,2,   101.46,3,    38.14,3,     2.42,3
    09FA1089_2,      ,   289,  1,   -999,     17,2,19890920,1419,-38.0045, 163.1923, 4082,   2502.3,   1.9430,  34.7170,2,  34.7150,2,    176.5,2,    179.5,2,   105.85,3,    37.15,3,     2.37,3
    09FA1089_2,      ,   289,  1,   -999,      6,2,19890920,1419,-38.0045, 163.1923, 4082,   2550.4,   1.8970,  34.7200,2,  34.7190,2,    177.3,2,    181.0,2,   105.85,3,    36.76,3,     2.37,3
    09FA1089_2,      ,   289,  1,   -999,     18,2,19890920,1419,-38.0045, 163.1923, 4082,   2812.7,   1.6570,  34.7270,2,  34.7250,2,    181.4,2,   -999.0,5,   111.81,3,    36.16,3,     2.33,3
    09FA1089_2,      ,   289,  1,   -999,      3,2,19890920,1419,-38.0045, 163.1923, 4082,   2997.8,   1.5030,  34.7270,2,  34.7250,2,    183.2,2,    186.6,2,   116.31,3,    36.36,3,     2.36,3
    09FA1089_2,      ,   289,  1,   -999,     12,2,19890920,1419,-38.0045, 163.1923, 4082,   3348.4,   1.2940,  34.7220,2,  34.7200,2,    186.4,2,    190.9,2,   120.81,3,    36.36,3,     2.37,3
    09FA1089_2,      ,   289,  1,   -999,      9,2,19890920,1419,-38.0045, 163.1923, 4082,   3498.8,   1.2350,  34.7210,2,  34.7190,2,    187.2,2,    192.2,2,   123.84,3,    36.36,3,     2.37,3
    09FA1089_2,      ,   289,  1,   -999,      4,2,19890920,1419,-38.0045, 163.1923, 4082,   4080.2,   1.1320,  34.7180,2,  34.7130,2,    188.2,2,    193.1,2,   126.77,3,    36.56,3,     2.39,3