BOTTLE,20010820WHPSIOKJU
EXPOCODE,SECT_ID,STNNBR,CASTNO,SAMPNO,BTLNBR,BTLNBR_FLAG_W,DATE,TIME,LATITUDE,LONGITUDE,DEPTH,CTDPRS,CTDTMP,CTDSAL,CTDSAL_FLAG_W,SALNTY,SALNTY_FLAG_W,CTDOXY,CTDOXY_FLAG_W,OXYGEN,OXYGEN_FLAG_W,SILCAT,SILCAT_FLAG_W,NO2+NO3,NO2+NO3_FLAG_W,PHSPHT,PHSPHT_FLAG_W
,,,,,,,,,,,,DBR,ITS-90,PSS-78,,PSS-78,,UMOL/KG,,UMOL/KG,,UMOL/KG,,UMOL/KG,,UMOL/KG,
    09FA1089_1,  PR11,   145,  1,   -999,     11,2,19890831,2256,-28.2397, 160.6478, 1970,      4.6,  19.5290,  35.6810,2,  35.6800,2,    166.0,2,    224.4,2,     2.05,3,     0.66,3,     0.27,3
    09FA1089_1,  PR11,   145,  1,   -999,     27,2,19890831,2256,-28.2397, 160.6478, 1970,     48.2,  19.4890,  35.6820,2,  35.6770,2,    214.7,2,    225.5,2,     0.88,3,     0.66,3,     0.24,3
    09FA1089_1,  PR11,   145,  1,   -999,     16,2,19890831,2256,-28.2397, 160.6478, 1970,     98.0,  19.4960,  35.6820,2,  35.6790,2,    215.4,2,    226.2,2,     0.88,3,     0.66,3,     0.26,3
    09FA1089_1,  PR11,   145,  1,   -999,      6,2,19890831,2256,-28.2397, 160.6478, 1970,    148.3,  19.1160,  35.6650,2,  35.6630,2,    206.6,2,    218.7,2,     0.88,3,     1.67,3,     0.27,3
    09FA1089_1,  PR11,   145,  1,   -999,     28,2,19890831,2256,-28.2397, 160.6478, 1970,    198.9,  18.8540,  35.6510,2,  35.6540,2,    197.8,2,    208.4,2,     1.27,3,     3.00,3,     0.35,3
    09FA1089_1,  PR11,   145,  1,   -999,      3,2,19890831,2256,-28.2397, 160.6478, 1970,    299.0,  16.2280,  35.4690,2,  35.4710,2,    180.8,2,    184.9,2,     2.93,3,     8.67,3,     0.68,3
    09FA1089_1,  PR11,   145,  1,   -999,      9,2,19890831,2256,-28.2397, 160.6478, 1970,    398.6,  13.6350,  35.2320,2,  35.2230,2,    183.3,2,    188.0,2,     4.59,3,    12.68,3,     0.99,3
    09FA1089_1,  PR11,   145,  1,   -999,     17,2,19890831,2256,-28.2397, 160.6478, 1970,    498.5,  11.5070,  34.9840,2,  34.9830,2,    185.2,2,    188.0,2,     6.84,3,    16.52,3,     1.13,3
    09FA1089_1,  PR11,   145,  1,   -999,      2,2,19890831,2256,-28.2397, 160.6478, 1970,    800.1,   6.9810,  34.5200,2,  34.5270,2,    185.3,2,    189.7,2,    20.33,3,    26.38,3,     1.65,3
    09FA1089_1,  PR11,   145,  1,   -999,      5,2,19890831,2256,-28.2397, 160.6478, 1970,    999.2,   5.2420,  34.4720,2,  34.4730,2,    178.1,2,    181.8,2,    40.18,3,    32.40,3,     2.10,3
    09FA1089_1,  PR11,   145,  1,   -999,     24,2,19890831,2256,-28.2397, 160.6478, 1970,   1188.1,   4.2030,  34.5020,2,  34.5060,2,    168.9,2,    169.1,2,    66.57,3,    35.40,3,     2.32,3
    09FA1089_1,  PR11,   145,  1,   -999,     31,2,19890831,2256,-28.2397, 160.6478, 1970,   1388.1,   3.3860,  34.5630,2,  34.5610,2,    156.8,2,    157.3,2,    92.47,3,    37.40,3,     2.52,3
    09FA1089_1,  PR11,   145,  1,   -999,     10,2,19890831,2256,-28.2397, 160.6478, 1970,   1498.4,   3.1160,  34.5840,2,  34.5810,2,    152.9,2,    154.2,2,    99.90,3,    38.23,3,     2.55,3
    09FA1089_1,  PR11,   145,  1,   -999,     21,2,19890831,2256,-28.2397, 160.6478, 1970,   1748.8,   2.6080,  34.6320,2,  34.6320,2,    152.7,2,    152.0,2,   110.94,3,    38.06,3,     2.58,3
    09FA1089_1,  PR11,   145,  1,   -999,     12,2,19890831,2256,-28.2397, 160.6478, 1970,   1968.2,   2.3750,  34.6610,2,  34.6600,2,    158.4,2,    159.8,2,   110.94,3,    37.23,3,     2.52,3
    09FA1089_1,  PR11,   147,  1,   -999,      4,2,19890901,0330,-28.2508, 159.9733, 2930,      3.7,  19.1360,  35.6440,2,  35.6420,2,    144.7,2,    227.6,2,     0.88,3,     1.13,3,     0.26,3
    09FA1089_1,  PR11,   147,  1,   -999,      8,2,19890901,0330,-28.2508, 159.9733, 2930,     48.0,  18.9780,  35.6410,2,  35.6390,2,    227.5,2,    226.5,2,     0.88,3,     1.30,3,     0.29,3
    09FA1089_1,  PR11,   147,  1,   -999,     19,2,19890901,0330,-28.2508, 159.9733, 2930,    148.5,  18.9520,  35.6400,2,  35.6370,2,    223.7,2,    224.8,2,     0.88,3,     1.47,3,     0.27,3
    09FA1089_1,  PR11,   147,  1,   -999,     27,2,19890901,0330,-28.2508, 159.9733, 2930,    212.9,  18.5940,  35.6650,2,  35.6630,2,    220.6,2,    220.8,2,     0.88,3,     1.79,3,     0.32,3
    09FA1089_1,  PR11,   147,  1,   -999,     16,2,19890901,0330,-28.2508, 159.9733, 2930,    298.2,  16.1760,  35.4680,2,  35.4680,2,    181.6,2,    187.4,2,     2.83,3,     8.28,3,     0.71,3
    09FA1089_1,  PR11,   147,  1,   -999,      6,2,19890901,0330,-28.2508, 159.9733, 2930,    398.9,  13.8140,  35.2430,2,  35.2400,2,    184.2,2,    187.3,2,     4.40,3,    12.18,3,     0.92,3
    09FA1089_1,  PR11,   147,  1,   -999,     28,2,19890901,0330,-28.2508, 159.9733, 2930,    500.3,  11.3220,  34.9610,2,  34.9600,2,    186.5,2,    189.7,2,     6.94,3,    17.05,3,     1.20,3
    09FA1089_1,  PR11,   147,  1,   -999,      3,2,19890901,0330,-28.2508, 159.9733, 2930,    601.9,   9.2400,  34.7000,2,  34.6960,2,    187.6,2,    192.2,2,    10.26,3,    21.93,3,     1.51,3
    09FA1089_1,  PR11,   147,  1,   -999,      9,2,19890901,0330,-28.2508, 159.9733, 2930,    795.9,   7.0800,  34.5200,2,  34.5260,2,    188.6,2,    192.5,2,    19.45,3,    26.81,3,     1.80,3
    09FA1089_1,  PR11,   147,  1,   -999,     18,2,19890901,0330,-28.2508, 159.9733, 2930,    997.1,   5.3990,  34.4600,2,  34.4660,2,    181.3,2,    184.3,2,    36.46,3,    31.20,3,     2.13,3
    09FA1089_1,  PR11,   147,  1,   -999,     17,2,19890901,0330,-28.2508, 159.9733, 2930,   1218.9,   4.1870,  34.5060,2,  34.5100,2,    168.5,2,    168.4,2,    63.64,3,    33.64,3,     2.30,3
    09FA1089_1,  PR11,   147,  1,   -999,      2,2,19890901,0330,-28.2508, 159.9733, 2930,   1421.6,   3.4330,  34.5570,2,  34.5600,2,    158.2,2,    158.4,2,    84.85,3,    35.42,3,     2.47,3
    09FA1089_1,  PR11,   147,  1,   -999,      5,2,19890901,0330,-28.2508, 159.9733, 2930,   1499.0,   3.1560,  34.5760,2,  34.5770,2,    155.1,2,    152.7,2,    84.85,3,    35.10,3,     2.37,3
    09FA1089_1,  PR11,   147,  1,   -999,     24,2,19890901,0330,-28.2508, 159.9733, 2930,   1750.2,   2.6200,  34.6270,2,  34.6260,2,    153.9,2,    152.4,2,    97.26,3,    35.75,3,     2.41,3
    09FA1089_1,  PR11,   147,  1,   -999,     31,2,19890901,0330,-28.2508, 159.9733, 2930,   2233.5,   2.1750,  34.6880,2,  34.6840,2,    168.6,2,    169.4,2,    93.64,3,    33.31,3,     2.27,3
    09FA1089_1,  PR11,   147,  1,   -999,     10,2,19890901,0330,-28.2508, 159.9733, 2930,   2519.6,   1.9180,  34.7150,2,  34.7110,2,    177.5,2,    181.0,2,    99.01,3,    33.80,3,     2.31,3
    09FA1089_1,  PR11,   147,  1,   -999,     21,2,19890901,0330,-28.2508, 159.9733, 2930,   2809.2,   1.5830,  34.7250,2,  34.7230,2,    184.8,2,    188.1,2,   106.05,3,    33.95,3,     2.27,3
    09FA1089_1,  PR11,   147,  1,   -999,     12,2,19890901,0330,-28.2508, 159.9733, 2930,   2928.4,   1.4870,  34.7250,2,  34.7240,2,    186.4,2,    190.3,2,   106.05,3,    33.47,3,     2.18,3
    09FA1089_1,  PR11,   149,  1,   -999,     11,2,19890901,0846,-28.2625, 159.2728, 3418,      3.3,  19.6090,  35.6400,2,  35.6420,2,    181.7,2,    223.1,2,     1.07,3,     0.64,3,     0.29,3
    09FA1089_1,  PR11,   149,  1,   -999,     26,2,19890901,0846,-28.2625, 159.2728, 3418,     48.8,  19.6010,  35.6400,2,  35.6470,2,    220.0,2,    223.1,2,     0.88,3,     0.64,3,     0.24,3
    09FA1089_1,  PR11,   149,  1,   -999,      4,2,19890901,0846,-28.2625, 159.2728, 3418,     98.5,  19.2260,  35.6150,2,  35.6160,2,    212.2,2,    213.2,2,     0.88,3,     1.94,3,     0.30,3
    09FA1089_1,  PR11,   149,  1,   -999,      8,2,19890901,0846,-28.2625, 159.2728, 3418,    147.9,  19.0830,  35.6480,2,  35.6460,2,    221.6,2,    222.1,2,     0.88,3,     1.30,3,     0.26,3
    09FA1089_1,  PR11,   149,  1,   -999,     19,2,19890901,0846,-28.2625, 159.2728, 3418,    198.1,  19.0670,  35.6500,2,  35.6500,2,    218.9,2,    221.4,2,     0.88,3,     1.30,3,     0.26,3
    09FA1089_1,  PR11,   149,  1,   -999,     29,2,19890901,0846,-28.2625, 159.2728, 3418,    263.6,  18.8090,  35.6580,2,  35.6580,2,    219.6,2,    215.2,2,     1.07,3,     1.94,3,     0.29,3
    09FA1089_1,  PR11,   149,  1,   -999,     27,2,19890901,0846,-28.2625, 159.2728, 3418,    297.7,  17.3960,  35.5480,2,  35.5490,2,    181.6,2,    180.7,2,     2.15,3,     7.14,3,     0.61,3
    09FA1089_1,  PR11,   149,  1,   -999,     16,2,19890901,0846,-28.2625, 159.2728, 3418,    409.7,  14.1650,  35.2830,2,  35.2970,2,    182.9,2,    184.3,2,     4.10,3,    11.53,3,     0.83,3
    09FA1089_1,  PR11,   149,  1,   -999,      6,2,19890901,0846,-28.2625, 159.2728, 3418,    498.9,  12.0870,  35.0610,2,  35.0640,2,    186.1,2,    188.8,2,     5.67,3,    15.27,3,     1.08,3
    09FA1089_1,  PR11,   149,  1,   -999,     28,2,19890901,0846,-28.2625, 159.2728, 3418,    598.9,   9.8810,  34.7830,2,  34.7750,2,    186.1,2,    187.1,2,     9.38,3,    20.95,3,     1.41,3
    09FA1089_1,  PR11,   149,  1,   -999,      3,2,19890901,0846,-28.2625, 159.2728, 3418,    799.3,   7.2450,  34.5350,2,  34.5370,2,    186.5,2,    187.1,2,    19.26,3,    26.97,3,     1.76,3
    09FA1089_1,  PR11,   149,  1,   -999,      9,2,19890901,0846,-28.2625, 159.2728, 3418,    993.4,   5.6430,  34.4680,2,  34.4700,2,    182.1,2,    181.5,2,    31.77,3,    29.90,3,     1.85,3
    09FA1089_1,  PR11,   149,  1,   -999,     18,2,19890901,0846,-28.2625, 159.2728, 3418,   1234.9,   4.1850,  34.5060,2,  34.5100,2,    168.1,2,    165.1,2,    63.64,3,    33.31,3,     2.22,3
    09FA1089_1,  PR11,   149,  1,   -999,     17,2,19890901,0846,-28.2625, 159.2728, 3418,   1435.5,   3.3260,  34.5640,2,  34.5640,2,    157.6,2,    153.6,2,    84.85,3,    35.10,3,     2.37,3
    09FA1089_1,  PR11,   149,  1,   -999,      2,2,19890901,0846,-28.2625, 159.2728, 3418,   1499.7,   3.1490,  34.5770,2,  34.5800,2,    154.9,2,    153.0,2,    86.61,3,    34.77,3,     2.36,3
    09FA1089_1,  PR11,   149,  1,   -999,      5,2,19890901,0846,-28.2625, 159.2728, 3418,   1748.9,   2.6410,  34.6260,2,  34.6240,2,    153.1,2,    151.0,2,   100.78,3,    36.56,3,     2.42,3
    09FA1089_1,  PR11,   149,  1,   -999,     24,2,19890901,0846,-28.2625, 159.2728, 3418,   2234.6,   2.1820,  34.6860,2,  34.6830,2,    167.5,2,    168.6,2,   100.77,3,    35.74,3,     2.42,3
    09FA1089_1,  PR11,   149,  1,   -999,     31,2,19890901,0846,-28.2625, 159.2728, 3418,   2507.7,   1.9230,  34.7130,2,  34.7100,2,    176.9,2,    177.1,2,   100.77,3,    34.44,3,     2.27,3
    09FA1089_1,  PR11,   149,  1,   -999,     10,2,19890901,0846,-28.2625, 159.2728, 3418,   2797.9,   1.6240,  34.7250,2,  34.7200,2,    183.0,2,    184.0,2,   104.29,3,    33.95,3,     2.22,3
    09FA1089_1,  PR11,   149,  1,   -999,     21,2,19890901,0846,-28.2625, 159.2728, 3418,   3134.6,   1.3410,  34.7250,2,  34.7250,2,    187.3,2,    188.9,2,   106.05,3,    33.14,3,     2.16,3
    09FA1089_1,  PR11,   149,  1,   -999,     12,2,19890901,0846,-28.2625, 159.2728, 3418,   3417.9,   1.1490,  34.7220,2,  34.7200,2,    190.0,2,    192.5,2,   113.08,3,    33.47,3,     2.18,3
    09FA1089_1,  PR11,   151,  1,   -999,     11,2,19890901,1455,-28.2510, 158.6027, 2950,      4.8,  19.0700,  35.6260,2,  35.6250,2,    209.5,2,    224.0,2,     1.27,3,     1.10,3,     0.27,3
    09FA1089_1,  PR11,   151,  1,   -999,      4,2,19890901,1455,-28.2510, 158.6027, 2950,     48.6,  19.0870,  35.6490,2,  35.6480,2,    226.1,2,    224.7,2,     1.07,3,     1.29,3,     0.25,3
    09FA1089_1,  PR11,   151,  1,   -999,      8,2,19890901,1455,-28.2510, 158.6027, 2950,     98.9,  19.0040,  35.6410,2,  35.6400,2,    222.3,2,    222.4,2,     1.07,3,     1.85,3,     0.27,3
    09FA1089_1,  PR11,   151,  1,   -999,     19,2,19890901,1455,-28.2510, 158.6027, 2950,    148.4,  18.9930,  35.6390,2,  35.6370,2,    220.8,2,    219.1,2,     1.07,3,     2.03,3,     0.27,3
    09FA1089_1,  PR11,   151,  1,   -999,     29,2,19890901,1455,-28.2510, 158.6027, 2950,    198.5,  18.9790,  35.6360,2,  35.6350,2,    219.1,2,    219.5,2,     0.88,3,     2.21,3,     0.27,3
    09FA1089_1,  PR11,   151,  1,   -999,     27,2,19890901,1455,-28.2510, 158.6027, 2950,    299.6,  17.0840,  35.5290,2,  35.5290,2,    187.1,2,    180.1,2,     2.34,3,     7.56,3,     0.64,3
    09FA1089_1,  PR11,   151,  1,   -999,     16,2,19890901,1455,-28.2510, 158.6027, 2950,    399.2,  14.4770,  35.3110,2,  35.3150,2,    183.2,2,    183.6,2,     3.81,3,    11.24,3,     0.84,3
    09FA1089_1,  PR11,   151,  1,   -999,      6,2,19890901,1455,-28.2510, 158.6027, 2950,    438.6,  13.3860,  35.2050,2,  35.2030,2,    185.7,2,    186.5,2,     4.40,3,    12.91,3,     0.96,3
    09FA1089_1,  PR11,   151,  1,   -999,     28,2,19890901,1455,-28.2510, 158.6027, 2950,    498.9,  12.1160,  35.0630,2,  35.0630,2,    185.3,2,    187.1,2,     6.16,3,    15.49,3,     1.09,3
    09FA1089_1,  PR11,   151,  1,   -999,      3,2,19890901,1455,-28.2510, 158.6027, 2950,    599.0,  10.0440,  34.8060,2,  34.8070,2,    185.5,2,    186.8,2,     8.89,3,    20.47,3,     1.39,3
    09FA1089_1,  PR11,   151,  1,   -999,      9,2,19890901,1455,-28.2510, 158.6027, 2950,    798.8,   7.3230,  34.5350,2,  34.5370,2,    186.9,2,    187.7,2,    18.57,3,    27.12,3,     1.80,3
    09FA1089_1,  PR11,   151,  1,   -999,     18,2,19890901,1455,-28.2510, 158.6027, 2950,    998.6,   5.5840,  34.4620,2,  34.4660,2,    180.3,2,    179.2,2,    34.22,3,    31.72,3,     2.11,3
    09FA1089_1,  PR11,   151,  1,   -999,     17,2,19890901,1455,-28.2510, 158.6027, 2950,   1251.6,   4.1020,  34.5080,2,  34.5090,2,    165.8,2,    163.5,2,    69.70,3,    35.60,3,     2.45,3
    09FA1089_1,  PR11,   151,  1,   -999,      2,2,19890901,1455,-28.2510, 158.6027, 2950,   1484.7,   3.3420,  34.5610,2,  34.5640,2,    155.4,2,    151.0,2,    86.61,3,    37.08,3,     2.50,3
    09FA1089_1,  PR11,   151,  1,   -999,      5,2,19890901,1455,-28.2510, 158.6027, 2950,   1749.2,   2.6640,  34.6230,2,  34.6200,2,    154.3,2,    152.0,2,   101.36,3,    37.81,3,     2.59,3
    09FA1089_1,  PR11,   151,  1,   -999,     24,2,19890901,1455,-28.2510, 158.6027, 2950,   1998.2,   2.3850,  34.6590,2,  34.6570,2,    159.8,2,    160.2,2,   105.56,3,    37.62,3,     2.50,3
    09FA1089_1,  PR11,   151,  1,   -999,     31,2,19890901,1455,-28.2510, 158.6027, 2950,   2219.8,   2.1770,  34.6900,2,  34.6870,2,    167.9,2,    168.0,2,   101.36,3,    36.89,3,     2.44,3
    09FA1089_1,  PR11,   151,  1,   -999,     10,2,19890901,1455,-28.2510, 158.6027, 2950,   2499.0,   1.9380,  34.7180,2,  34.7140,2,    177.2,2,    177.5,2,   103.51,3,    36.14,3,     2.38,3
    09FA1089_1,  PR11,   151,  1,   -999,     21,2,19890901,1455,-28.2510, 158.6027, 2950,   2737.3,   1.7100,  34.7260,2,  34.7280,2,    182.0,2,    182.7,2,   107.71,3,    35.96,3,     2.36,3
    09FA1089_1,  PR11,   151,  1,   -999,     12,2,19890901,1455,-28.2510, 158.6027, 2950,   2946.9,   1.4780,  34.7260,2,  34.7260,2,    185.5,2,    186.6,2,   111.91,3,    36.14,3,     2.36,3
    09FA1089_1,  PR11,   153,  1,   -999,     11,2,19890901,2023,-28.2382, 157.9022, 2520,      4.7,  19.9470,  35.6350,2,  35.6360,2,    188.5,2,    221.1,2,     0.88,3,     0.37,3,     0.24,3
    09FA1089_1,  PR11,   153,  1,   -999,      4,2,19890901,2023,-28.2382, 157.9022, 2520,     49.3,  19.9620,  35.6350,2,  35.6360,2,    222.9,2,    221.8,2,     0.59,3,     0.37,3,     0.21,3
    09FA1089_1,  PR11,   153,  1,   -999,      8,2,19890901,2023,-28.2382, 157.9022, 2520,     98.8,  19.9020,  35.6350,2,  35.6340,2,    223.0,2,    217.5,2,     0.59,3,     0.73,3,     0.23,3
    09FA1089_1,  PR11,   153,  1,   -999,     19,2,19890901,2023,-28.2382, 157.9022, 2520,    148.1,  19.5250,  35.6350,2,  35.6340,2,    202.9,2,    201.5,2,     0.88,3,     2.76,3,     0.30,3
    09FA1089_1,  PR11,   153,  1,   -999,     29,2,19890901,2023,-28.2382, 157.9022, 2520,    198.6,  19.3380,  35.6350,2,  35.6340,2,    213.6,2,    209.3,2,     0.88,3,     2.21,3,     0.32,3
    09FA1089_1,  PR11,   153,  1,   -999,     27,2,19890901,2023,-28.2382, 157.9022, 2520,    298.1,  17.5030,  35.5640,2,  35.5640,2,    180.8,2,    178.1,2,     1.86,3,     7.56,3,     0.59,3
    09FA1089_1,  PR11,   153,  1,   -999,     16,2,19890901,2023,-28.2382, 157.9022, 2520,    399.0,  14.8930,  35.3370,2,  35.3400,2,    180.1,2,    183.0,2,     3.61,3,    11.43,3,     0.82,3
    09FA1089_1,  PR11,   153,  1,   -999,      6,2,19890901,2023,-28.2382, 157.9022, 2520,    458.5,  13.7250,  35.2190,2,  35.2210,2,    180.6,2,    181.0,2,     4.40,3,    13.82,3,     0.94,3
    09FA1089_1,  PR11,   153,  1,   -999,     28,2,19890901,2023,-28.2382, 157.9022, 2520,    499.9,  13.1290,  35.1550,2,  -9.9999,5,    180.2,2,    182.3,2,     4.89,3,    14.75,3,     1.01,3
    09FA1089_1,  PR11,   153,  1,   -999,      3,2,19890901,2023,-28.2382, 157.9022, 2520,    598.7,  10.2710,  34.8120,2,  34.8040,2,    182.9,2,    186.8,2,     8.40,3,    21.21,3,     1.36,3
    09FA1089_1,  PR11,   153,  1,   -999,      9,2,19890901,2023,-28.2382, 157.9022, 2520,    799.2,   7.1830,  34.5080,2,  34.5120,2,    188.8,2,    192.3,2,    17.69,3,    28.59,3,     1.80,3
    09FA1089_1,  PR11,   153,  1,   -999,     18,2,19890901,2023,-28.2382, 157.9022, 2520,    968.7,   5.6890,  34.4600,2,  -9.9999,5,    181.9,2,    182.5,2,    31.87,3,    32.84,3,     2.08,3
    09FA1089_1,  PR11,   153,  1,   -999,     17,2,19890901,2023,-28.2382, 157.9022, 2520,   1099.4,   4.9270,  34.4710,2,  34.4730,2,    174.8,2,    174.0,2,    43.50,3,    35.05,3,     2.24,3
    09FA1089_1,  PR11,   153,  1,   -999,      2,2,19890901,2023,-28.2382, 157.9022, 2520,   1228.7,   4.2170,  34.5000,2,  34.5060,2,    167.1,2,    165.4,2,    65.50,3,    37.08,3,     2.38,3
    09FA1089_1,  PR11,   153,  1,   -999,      5,2,19890901,2023,-28.2382, 157.9022, 2520,   1465.0,   3.3970,  34.5550,2,  34.5570,2,    155.4,2,    152.7,2,    88.76,3,    39.10,3,     2.50,3
    09FA1089_1,  PR11,   153,  1,   -999,     24,2,19890901,2023,-28.2382, 157.9022, 2520,   1599.0,   3.0990,  34.5810,2,  34.5830,2,    152.6,2,    148.1,2,    97.16,3,    39.84,3,     2.55,3
    09FA1089_1,  PR11,   153,  1,   -999,     31,2,19890901,2023,-28.2382, 157.9022, 2520,   1748.5,   2.8030,  34.6090,2,  34.6080,2,    152.4,2,    150.0,2,   103.51,3,    40.39,3,     2.57,3
    09FA1089_1,  PR11,   153,  1,   -999,     10,2,19890901,2023,-28.2382, 157.9022, 2520,   1996.5,   2.4390,  34.6520,2,  34.6490,2,    159.1,2,    158.5,2,   103.51,3,    39.47,3,     2.52,3
    09FA1089_1,  PR11,   153,  1,   -999,     21,2,19890901,2023,-28.2382, 157.9022, 2520,   2249.7,   2.1900,  34.6870,2,  34.6850,2,    168.5,2,    168.0,2,   103.51,3,    38.91,3,     2.44,3
    09FA1089_1,  PR11,   153,  1,   -999,     12,2,19890901,2023,-28.2382, 157.9022, 2520,   2518.9,   1.9230,  34.7150,2,  34.7130,2,    177.4,2,    177.8,2,   105.56,3,    37.81,3,     2.38,3