BOTTLE,20010820WHPSIOKJU
EXPOCODE,SECT_ID,STNNBR,CASTNO,SAMPNO,BTLNBR,BTLNBR_FLAG_W,DATE,TIME,LATITUDE,LONGITUDE,DEPTH,CTDPRS,CTDTMP,CTDSAL,CTDSAL_FLAG_W,SALNTY,SALNTY_FLAG_W,CTDOXY,CTDOXY_FLAG_W,OXYGEN,OXYGEN_FLAG_W,SILCAT,SILCAT_FLAG_W,NO2+NO3,NO2+NO3_FLAG_W,PHSPHT,PHSPHT_FLAG_W
,,,,,,,,,,,,DBR,ITS-90,PSS-78,,PSS-78,,UMOL/KG,,UMOL/KG,,UMOL/KG,,UMOL/KG,,UMOL/KG,
    09FA1089_1, PR13N,    45,  1,   -999,     11,2,19890819,1803,-43.2487, 160.9003, 4924,      3.0,  12.1680,  35.0240,2,  35.0210,2,    254.5,2,    253.9,2,     1.86,3,     5.19,3,     0.60,3
    09FA1089_1, PR13N,    45,  1,   -999,     26,2,19890819,1803,-43.2487, 160.9003, 4924,     48.2,  12.1690,  35.0230,2,  35.0230,2,    253.5,2,    255.9,2,     1.66,3,     5.19,3,     0.57,3
    09FA1089_1, PR13N,    45,  1,   -999,     29,2,19890819,1803,-43.2487, 160.9003, 4924,     97.8,  12.0790,  35.0030,2,  35.0020,2,    255.1,2,    255.9,2,     1.66,3,     5.19,3,     0.56,3
    09FA1089_1, PR13N,    45,  1,   -999,     13,2,19890819,1803,-43.2487, 160.9003, 4924,    149.2,  11.7070,  35.0330,2,  35.0320,2,    225.6,2,    223.8,2,     3.32,3,    11.10,3,     0.86,3
    09FA1089_1, PR13N,    45,  1,   -999,      2,2,19890819,1803,-43.2487, 160.9003, 4924,    199.6,  10.9640,  34.9290,2,  34.9310,2,    224.5,2,    223.2,2,     3.81,3,    12.70,3,     0.96,3
    09FA1089_1, PR13N,    45,  1,   -999,     19,2,19890819,1803,-43.2487, 160.9003, 4924,    299.9,   9.8730,  34.7700,2,  34.7740,2,    221.4,2,    222.3,2,     4.98,3,    16.11,3,     1.15,3
    09FA1089_1, PR13N,    45,  1,   -999,     24,2,19890819,1803,-43.2487, 160.9003, 4924,    398.3,   9.0930,  34.6520,2,  34.6470,2,    218.2,2,    229.9,2,     5.67,3,    17.91,3,     1.26,3
    09FA1089_1, PR13N,    45,  1,   -999,     28,2,19890819,1803,-43.2487, 160.9003, 4924,    497.3,   8.5930,  34.5910,2,  34.5960,2,    218.9,2,    224.9,2,     7.14,3,    19.87,3,     1.38,3
    09FA1089_1, PR13N,    45,  1,   -999,     18,2,19890819,1803,-43.2487, 160.9003, 4924,    599.1,   8.1130,  34.5630,2,  34.5700,2,    212.3,2,    206.0,2,    11.05,3,    22.91,3,     1.55,3
    09FA1089_1, PR13N,    45,  1,   -999,     27,2,19890819,1803,-43.2487, 160.9003, 4924,    798.7,   6.8080,  34.4890,2,  34.4940,2,    189.5,2,    188.3,2,    20.14,3,    27.58,3,     1.86,3
    09FA1089_1, PR13N,    45,  1,   -999,     31,2,19890819,1803,-43.2487, 160.9003, 4924,   1027.5,   5.0630,  34.4290,2,  34.4390,2,    185.0,2,    183.3,2,    34.51,3,    31.69,3,     2.15,3
    09FA1089_1, PR13N,    45,  1,   -999,     22,2,19890819,1803,-43.2487, 160.9003, 4924,   1243.5,   3.9780,  34.4630,2,  34.4650,2,    174.0,2,    173.2,2,    61.69,3,    33.66,3,     2.29,3
    09FA1089_1, PR13N,    45,  1,   -999,     10,2,19890819,1803,-43.2487, 160.9003, 4924,   1468.8,   3.2090,  34.5390,2,  34.5360,2,    164.5,2,    160.6,2,    85.04,3,    35.27,3,     2.45,3
    09FA1089_1, PR13N,    45,  1,   -999,     20,2,19890819,1803,-43.2487, 160.9003, 4924,   1498.6,   3.1540,  34.5470,2,  34.5480,2,    163.1,2,    158.5,2,    85.04,3,    35.45,3,     2.48,3
    09FA1089_1, PR13N,    45,  1,   -999,     12,2,19890819,1803,-43.2487, 160.9003, 4924,   1749.2,   2.6770,  34.6160,2,  34.6170,2,    161.9,2,    158.2,2,    95.11,3,    35.45,3,     2.48,3
    09FA1089_1, PR13N,    45,  1,   -999,     17,2,19890819,1803,-43.2487, 160.9003, 4924,   2211.0,   2.2040,  34.7010,2,  34.7020,2,    172.5,2,    173.8,2,   100.09,3,    34.01,3,     2.38,3
    09FA1089_1, PR13N,    45,  1,   -999,     30,2,19890819,1803,-43.2487, 160.9003, 4924,   2458.1,   1.9880,  34.7250,2,  34.7250,2,    179.0,2,    179.7,2,   103.41,3,    33.30,3,     2.32,3
    09FA1089_1, PR13N,    45,  1,   -999,      1,2,19890819,1803,-43.2487, 160.9003, 4924,   2498.3,   1.9600,  34.7270,2,  34.7230,2,    180.1,2,    180.5,2,   103.41,3,    33.11,3,     2.38,3
    09FA1089_1, PR13N,    45,  1,   -999,      4,2,19890819,1803,-43.2487, 160.9003, 4924,   2768.1,   1.7410,  34.7360,2,  34.7230,3,    183.4,2,    185.6,2,   108.39,3,    32.94,3,     2.29,3
    09FA1089_1, PR13N,    45,  1,   -999,      6,2,19890819,1803,-43.2487, 160.9003, 4924,   3311.3,   1.3670,  34.7320,2,  34.7250,2,    187.9,2,    190.3,2,   113.38,3,    32.05,3,     2.23,3
    09FA1089_1, PR13N,    45,  1,   -999,      5,2,19890819,1803,-43.2487, 160.9003, 4924,   3499.8,   1.2790,  34.7300,2,  34.7320,3,    189.0,2,    192.0,2,   113.38,3,    31.51,3,     2.15,3
    09FA1089_1, PR13N,    45,  1,   -999,      8,2,19890819,1803,-43.2487, 160.9003, 4924,   3997.2,   1.1630,  34.7260,2,  34.7210,3,    190.9,2,    194.1,2,   125.11,3,    33.11,3,     2.32,3
    09FA1089_1, PR13N,    45,  1,   -999,     21,2,19890819,1803,-43.2487, 160.9003, 4924,   4499.7,   1.1190,  34.7220,2,  34.7210,3,    193.2,2,    196.1,2,   130.09,3,    33.65,3,     2.36,3
    09FA1089_1, PR13N,    45,  1,   -999,      3,2,19890819,1803,-43.2487, 160.9003, 4924,   4922.6,   1.0670,  34.7180,2,  34.7200,3,    195.1,2,    195.3,2,   130.09,3,    33.65,3,     2.35,3
    09FA1089_1, PR13N,    47,  1,   -999,     11,2,19890820,0118,-43.2423, 161.8422, 4998,      5.0,  11.6960,  34.9020,2,  34.8890,2,    254.3,2,    258.9,2,     1.66,3,     6.09,3,     0.65,3
    09FA1089_1, PR13N,    47,  1,   -999,     26,2,19890820,0118,-43.2423, 161.8422, 4998,     49.7,  11.3580,  34.8460,2,  34.8470,2,    259.0,2,    261.8,2,     1.66,3,     6.44,3,     0.65,3
    09FA1089_1, PR13N,    47,  1,   -999,     29,2,19890820,0118,-43.2423, 161.8422, 4998,     98.6,  11.2390,  34.8260,2,  34.8230,2,    257.2,2,    261.5,2,     1.66,3,     6.98,3,     0.65,3
    09FA1089_1, PR13N,    47,  1,   -999,     13,2,19890820,0118,-43.2423, 161.8422, 4998,    147.6,  10.9900,  34.7730,2,  34.7660,2,    259.2,2,    262.7,2,     1.66,3,     7.52,3,     0.68,3
    09FA1089_1, PR13N,    47,  1,   -999,      2,2,19890820,0118,-43.2423, 161.8422, 4998,    198.6,  10.5380,  34.8370,2,  34.8330,2,    231.7,2,    230.6,2,     3.81,3,    13.60,3,     1.01,3
    09FA1089_1, PR13N,    47,  1,   -999,     19,2,19890820,0118,-43.2423, 161.8422, 4998,    298.0,   9.5540,  34.7100,2,  34.7240,2,    231.3,2,    230.5,2,     4.79,3,    16.11,3,     1.15,3
    09FA1089_1, PR13N,    47,  1,   -999,     24,2,19890820,0118,-43.2423, 161.8422, 4998,    399.0,   8.8780,  34.6080,2,  34.6030,2,    234.8,2,    240.3,2,     5.18,3,    17.91,3,     1.25,3
    09FA1089_1, PR13N,    47,  1,   -999,     28,2,19890820,0118,-43.2423, 161.8422, 4998,    499.0,   8.4970,  34.5580,2,  34.5610,2,    237.1,2,    240.8,2,     5.96,3,    18.97,3,     1.32,3
    09FA1089_1, PR13N,    47,  1,   -999,     18,2,19890820,0118,-43.2423, 161.8422, 4998,    597.3,   8.1260,  34.5460,2,  34.5510,2,    220.0,2,    214.9,2,     9.97,3,    22.38,3,     1.52,3
    09FA1089_1, PR13N,    47,  1,   -999,     27,2,19890820,0118,-43.2423, 161.8422, 4998,    799.2,   6.7420,  34.4750,2,  34.4810,2,    192.6,2,    193.9,2,    20.33,3,    27.75,3,     1.86,3
    09FA1089_1, PR13N,    47,  1,   -999,     31,2,19890820,0118,-43.2423, 161.8422, 4998,    999.2,   5.1730,  34.4230,2,  34.4270,2,    186.4,2,    186.0,2,    33.34,3,    31.33,3,     2.12,3
    09FA1089_1, PR13N,    47,  1,   -999,     22,2,19890820,0118,-43.2423, 161.8422, 4998,   1268.7,   3.8390,  34.4640,2,  34.4650,2,    173.1,2,    171.8,2,    63.35,3,    34.38,3,     2.36,3
    09FA1089_1, PR13N,    47,  1,   -999,     10,2,19890820,0118,-43.2423, 161.8422, 4998,   1465.4,   3.1910,  34.5270,2,  34.5280,2,    166.5,2,    163.5,2,  -999.00,5,  -999.00,5,  -999.00,5
    09FA1089_1, PR13N,    47,  1,   -999,     20,2,19890820,0118,-43.2423, 161.8422, 4998,   1497.2,   3.1210,  34.5370,2,  34.5390,2,    164.3,2,    162.6,2,    81.72,3,    35.98,3,     2.47,3
    09FA1089_1, PR13N,    47,  1,   -999,     12,2,19890820,0118,-43.2423, 161.8422, 4998,   1746.5,   2.6530,  34.6140,2,  34.6180,2,    162.6,2,    159.7,2,    93.45,3,    35.80,3,     2.48,3
    09FA1089_1, PR13N,    47,  1,   -999,     17,2,19890820,0118,-43.2423, 161.8422, 4998,   2184.5,   2.2470,  34.6940,2,  34.7010,2,    173.2,2,    181.4,2,    95.10,3,    34.01,3,     2.35,3
    09FA1089_1, PR13N,    47,  1,   -999,     30,2,19890820,0118,-43.2423, 161.8422, 4998,   2448.0,   1.9990,  34.7200,2,  34.7190,2,    178.5,2,    180.0,2,  -999.00,5,  -999.00,5,  -999.00,5
    09FA1089_1, PR13N,    47,  1,   -999,      1,2,19890820,0118,-43.2423, 161.8422, 4998,   2497.3,   1.9420,  34.7230,2,  34.7210,2,    179.3,2,    174.7,2,   101.75,3,    33.65,3,     2.33,3
    09FA1089_1, PR13N,    47,  1,   -999,      4,2,19890820,0118,-43.2423, 161.8422, 4998,   2759.1,   1.7370,  34.7320,2,  -9.9999,5,    183.2,2,    192.4,3,  -999.00,5,  -999.00,5,  -999.00,5
    09FA1089_1, PR13N,    47,  1,   -999,      6,2,19890820,0118,-43.2423, 161.8422, 4998,   3284.3,   1.3780,  34.7300,2,  34.7280,2,    188.0,2,    192.0,2,   113.38,3,    32.76,3,     2.21,3
    09FA1089_1, PR13N,    47,  1,   -999,      5,2,19890820,0118,-43.2423, 161.8422, 4998,   3499.8,   1.2750,  34.7270,2,  34.7240,2,    189.5,2,    192.0,2,   115.04,3,    32.22,3,     2.21,3
    09FA1089_1, PR13N,    47,  1,   -999,      8,2,19890820,0118,-43.2423, 161.8422, 4998,   3997.9,   1.1690,  34.7230,2,  34.7050,3,    191.0,2,    194.1,2,  -999.00,5,  -999.00,5,  -999.00,5
    09FA1089_1, PR13N,    47,  1,   -999,     21,2,19890820,0118,-43.2423, 161.8422, 4998,   4501.6,   1.1210,  34.7210,2,  34.7200,2,    193.1,2,    195.0,2,   120.12,3,    32.58,3,     2.17,3
    09FA1089_1, PR13N,    47,  1,   -999,      3,2,19890820,0118,-43.2423, 161.8422, 4998,   4988.5,   1.0910,  34.7160,2,  34.7160,2,    195.0,2,    196.4,2,   123.44,3,    32.94,3,     2.24,3
    09FA1089_1, PR13N,    49,  1,   -999,     11,2,19890820,0835,-43.2437, 162.7537, 4950,      4.0,  11.1440,  34.8060,2,  34.8080,2,    229.8,2,    258.9,2,     1.95,3,     6.69,3,     0.72,3
    09FA1089_1, PR13N,    49,  1,   -999,     26,2,19890820,0835,-43.2437, 162.7537, 4950,     48.7,  11.2120,  34.8250,2,  34.8290,2,    261.0,2,    259.9,2,     1.76,3,     6.51,3,     0.68,3
    09FA1089_1, PR13N,    49,  1,   -999,     29,2,19890820,0835,-43.2437, 162.7537, 4950,     98.5,  11.0660,  34.7900,2,  34.7900,2,    258.3,2,    260.6,2,     1.76,3,     6.69,3,     0.68,3
    09FA1089_1, PR13N,    49,  1,   -999,     13,2,19890820,0835,-43.2437, 162.7537, 4950,    147.8,  10.9070,  34.8470,2,  34.8300,2,    241.8,2,    237.1,2,     3.03,3,    11.21,3,     0.93,3
    09FA1089_1, PR13N,    49,  1,   -999,      2,2,19890820,0835,-43.2437, 162.7537, 4950,    197.9,  10.1090,  34.7640,2,  34.7650,2,    232.5,2,    229.2,2,     4.20,3,    14.29,3,     1.09,3
    09FA1089_1, PR13N,    49,  1,   -999,     19,2,19890820,0835,-43.2437, 162.7537, 4950,    298.9,   9.1250,  34.6370,2,  34.6370,2,    235.6,2,    238.8,2,     4.79,3,    16.64,3,     1.23,3
    09FA1089_1, PR13N,    49,  1,   -999,     24,2,19890820,0835,-43.2437, 162.7537, 4950,    398.4,   8.6750,  34.5730,2,  34.5770,2,    242.0,2,    241.6,2,     5.28,3,    17.72,3,     1.30,3
    09FA1089_1, PR13N,    49,  1,   -999,     28,2,19890820,0835,-43.2437, 162.7537, 4950,    498.8,   8.3820,  34.5390,2,  34.5400,2,    244.8,2,    241.2,2,     6.26,3,    18.81,3,     1.38,3
    09FA1089_1, PR13N,    49,  1,   -999,     18,2,19890820,0835,-43.2437, 162.7537, 4950,    598.4,   8.0520,  34.5330,2,  34.5330,2,    222.7,2,    215.3,2,     8.70,3,    20.08,3,     1.38,3
    09FA1089_1, PR13N,    49,  1,   -999,     27,2,19890820,0835,-43.2437, 162.7537, 4950,    798.0,   6.5870,  34.4560,2,  34.4590,2,    194.4,2,    192.9,2,    18.48,3,    25.51,3,     1.69,3
    09FA1089_1, PR13N,    49,  1,   -999,     31,2,19890820,0835,-43.2437, 162.7537, 4950,    998.5,   5.0830,  34.4000,2,  34.4040,2,    192.9,2,    191.8,2,    31.09,3,    30.57,3,     2.22,3
    09FA1089_1, PR13N,    49,  1,   -999,     22,2,19890820,0835,-43.2437, 162.7537, 4950,   1228.1,   3.7680,  34.4360,2,  34.4380,2,    181.3,2,    184.2,2,    53.08,3,    31.29,3,     2.20,3
    09FA1089_1, PR13N,    49,  1,   -999,     10,2,19890820,0835,-43.2437, 162.7537, 4950,   1425.2,   3.1310,  34.5070,2,  34.5070,2,    168.8,2,    167.3,2,    65.98,3,    31.83,3,     2.22,3
    09FA1089_1, PR13N,    49,  1,   -999,     20,2,19890820,0835,-43.2437, 162.7537, 4950,   1499.4,   2.9560,  34.5370,2,  34.5370,2,    167.2,2,    164.5,2,    70.77,3,    32.19,3,     2.22,3
    09FA1089_1, PR13N,    49,  1,   -999,     12,2,19890820,0835,-43.2437, 162.7537, 4950,   1748.5,   2.6250,  34.6140,2,  34.6140,2,    162.6,2,    160.0,2,    83.67,3,    32.74,3,     2.31,3
    09FA1089_1, PR13N,    49,  1,   -999,     30,2,19890820,0835,-43.2437, 162.7537, 4950,   2443.0,   1.9890,  34.7160,2,  34.7130,2,    178.7,2,    178.9,2,  -999.00,5,  -999.00,5,  -999.00,5
    09FA1089_1, PR13N,    49,  1,   -999,      1,2,19890820,0835,-43.2437, 162.7537, 4950,   2498.3,   1.9620,  34.7220,2,  34.7180,2,    179.7,2,    177.9,2,    93.34,3,    31.46,3,     2.20,3
    09FA1089_1, PR13N,    49,  1,   -999,      4,2,19890820,0835,-43.2437, 162.7537, 4950,   2758.3,   1.7320,  34.7270,2,  34.7150,3,    183.0,2,    183.8,2,   103.02,3,    32.73,3,     2.36,3
    09FA1089_1, PR13N,    49,  1,   -999,      6,2,19890820,0835,-43.2437, 162.7537, 4950,   3319.4,   1.3660,  34.7250,2,  34.7210,2,    187.5,2,    189.6,2,   109.47,3,    31.46,3,     2.17,3
    09FA1089_1, PR13N,    49,  1,   -999,      5,2,19890820,0835,-43.2437, 162.7537, 4950,   3499.0,   1.2960,  34.7240,2,  34.7210,2,    188.7,2,    189.6,2,   109.47,3,    31.29,3,     2.16,3
    09FA1089_1, PR13N,    49,  1,   -999,      8,2,19890820,0835,-43.2437, 162.7537, 4950,   3999.3,   1.1600,  34.7200,2,  34.7150,2,    190.9,2,    193.1,2,   117.48,3,    32.19,3,     2.25,3
    09FA1089_1, PR13N,    49,  1,   -999,     21,2,19890820,0835,-43.2437, 162.7537, 4950,   4500.6,   1.1210,  34.7170,2,  34.7130,2,    192.6,2,    196.5,2,   117.48,3,    31.65,3,     2.23,3
    09FA1089_1, PR13N,    49,  1,   -999,      3,2,19890820,0835,-43.2437, 162.7537, 4950,   4948.8,   1.0800,  34.7130,2,  34.7140,2,    194.7,2,    193.1,2,   120.71,3,    32.55,3,     2.28,3
    09FA1089_1, PR13N,    51,  1,   -999,     11,2,19890820,1556,-43.2495, 163.6775, 4570,      5.2,  11.5790,  34.9650,2,  34.9650,2,    197.3,2,    255.8,2,     1.76,3,     5.79,3,     0.59,3
    09FA1089_1, PR13N,    51,  1,   -999,     26,2,19890820,1556,-43.2495, 163.6775, 4570,     48.5,  11.5940,  34.9640,2,  34.9630,2,    257.0,2,    256.5,2,     1.76,3,     5.79,3,     0.59,3
    09FA1089_1, PR13N,    51,  1,   -999,     29,2,19890820,1556,-43.2495, 163.6775, 4570,     98.7,  11.6000,  34.9650,2,  34.9640,2,    257.8,2,    256.5,2,     1.76,3,     5.79,3,     0.59,3
    09FA1089_1, PR13N,    51,  1,   -999,     13,2,19890820,1556,-43.2495, 163.6775, 4570,    148.8,  11.5950,  34.9660,2,  34.9660,2,    252.0,2,    250.3,2,     2.05,3,     6.51,3,     0.63,3
    09FA1089_1, PR13N,    51,  1,   -999,      2,2,19890820,1556,-43.2495, 163.6775, 4570,    198.0,  10.9890,  34.9190,2,  34.9190,2,    217.5,2,    222.3,2,     3.91,3,    12.48,3,     0.95,3
    09FA1089_1, PR13N,    51,  1,   -999,     19,2,19890820,1556,-43.2495, 163.6775, 4570,    297.5,  10.0420,  34.7890,2,  34.7870,2,    219.6,2,    220.5,2,     4.98,3,    15.74,3,     1.13,3
    09FA1089_1, PR13N,    51,  1,   -999,     24,2,19890820,1556,-43.2495, 163.6775, 4570,    397.8,   9.1960,  34.6670,2,  34.6700,2,    216.2,2,    220.5,2,     5.96,3,    18.27,3,     1.29,3
    09FA1089_1, PR13N,    51,  1,   -999,     28,2,19890820,1556,-43.2495, 163.6775, 4570,    498.6,   8.6180,  34.5900,2,  34.5920,2,    219.3,2,    224.0,2,     7.23,3,    20.08,3,     1.41,3
    09FA1089_1, PR13N,    51,  1,   -999,     18,2,19890820,1556,-43.2495, 163.6775, 4570,    597.7,   8.1350,  34.5610,2,  34.5640,2,    205.3,2,    204.3,2,    11.24,3,    23.15,3,     1.60,3
    09FA1089_1, PR13N,    51,  1,   -999,     27,2,19890820,1556,-43.2495, 163.6775, 4570,    798.0,   6.8410,  34.4930,2,  34.4950,2,    184.4,2,    184.9,2,    20.92,3,    27.67,3,     1.91,3
    09FA1089_1, PR13N,    51,  1,   -999,     31,2,19890820,1556,-43.2495, 163.6775, 4570,    997.2,   5.2210,  34.4260,2,  34.4300,2,    182.4,2,    181.5,2,    33.34,3,    31.47,3,     2.17,3
    09FA1089_1, PR13N,    51,  1,   -999,     22,2,19890820,1556,-43.2495, 163.6775, 4570,   1226.9,   3.9100,  34.4470,2,  34.4460,2,    174.3,2,    174.2,2,    57.97,3,    34.00,3,     2.39,3
    09FA1089_1, PR13N,    51,  1,   -999,     10,2,19890820,1556,-43.2495, 163.6775, 4570,   1447.6,   3.1560,  34.5350,2,  34.5390,2,    164.2,2,    159.7,2,    82.11,3,    35.63,3,     2.54,3
    09FA1089_1, PR13N,    51,  1,   -999,     20,2,19890820,1556,-43.2495, 163.6775, 4570,   1499.2,   3.0330,  34.5530,2,  34.5550,2,    161.9,2,    156.9,2,    86.90,3,    35.63,3,     2.54,3
    09FA1089_1, PR13N,    51,  1,   -999,     12,2,19890820,1556,-43.2495, 163.6775, 4570,   1746.2,   2.6080,  34.6200,2,  34.6210,2,    161.2,2,    161.0,2,    93.35,3,    35.63,3,     2.54,3
    09FA1089_1, PR13N,    51,  1,   -999,     17,2,19890820,1556,-43.2495, 163.6775, 4570,   2181.3,   2.1880,  34.6920,2,  34.6920,2,    171.0,2,    170.3,2,    98.13,3,    34.18,3,     2.42,3
    09FA1089_1, PR13N,    51,  1,   -999,     30,2,19890820,1556,-43.2495, 163.6775, 4570,   2439.9,   1.9830,  34.7140,2,  34.7130,2,    177.2,2,    177.2,2,   101.36,3,    33.63,3,     2.38,3
    09FA1089_1, PR13N,    51,  1,   -999,      1,2,19890820,1556,-43.2495, 163.6775, 4570,   2497.7,   1.9320,  34.7170,2,  34.7150,2,    179.0,2,    177.9,2,   103.02,3,    33.63,3,     2.39,3
    09FA1089_1, PR13N,    51,  1,   -999,      4,2,19890820,1556,-43.2495, 163.6775, 4570,   2738.9,   1.7210,  34.7240,2,  34.7210,2,    182.8,2,    183.1,2,   107.81,3,    33.46,3,     2.38,3
    09FA1089_1, PR13N,    51,  1,   -999,      6,2,19890820,1556,-43.2495, 163.6775, 4570,   3258.6,   1.3560,  34.7250,2,  34.7210,2,    186.3,2,    189.3,2,   119.05,3,    33.63,3,     2.39,3
    09FA1089_1, PR13N,    51,  1,   -999,      5,2,19890820,1556,-43.2495, 163.6775, 4570,   3498.0,   1.2570,  34.7230,2,  34.7200,2,    188.1,2,    190.3,2,   122.27,3,    33.82,3,     2.39,3
    09FA1089_1, PR13N,    51,  1,   -999,      8,2,19890820,1556,-43.2495, 163.6775, 4570,   3998.1,   1.1630,  34.7180,2,  34.7170,2,    190.4,2,    191.0,2,   125.50,3,    33.99,3,     2.39,3
    09FA1089_1, PR13N,    51,  1,   -999,     21,2,19890820,1556,-43.2495, 163.6775, 4570,   4495.6,   1.1180,  34.7160,2,  34.7160,2,    191.8,2,    194.5,2,   128.72,3,    33.99,3,     2.41,3
    09FA1089_1, PR13N,    51,  1,   -999,      3,2,19890820,1556,-43.2495, 163.6775, 4570,   4568.8,   1.1040,  34.7160,2,  34.7130,2,    192.3,2,    194.1,2,   128.72,3,    33.99,3,     2.42,3