BOTTLE,20010820WHPSIOKJU
EXPOCODE,SECT_ID,STNNBR,CASTNO,SAMPNO,BTLNBR,BTLNBR_FLAG_W,DATE,TIME,LATITUDE,LONGITUDE,DEPTH,CTDPRS,CTDTMP,CTDSAL,CTDSAL_FLAG_W,SALNTY,SALNTY_FLAG_W,CTDOXY,CTDOXY_FLAG_W,OXYGEN,OXYGEN_FLAG_W,SILCAT,SILCAT_FLAG_W,NO2+NO3,NO2+NO3_FLAG_W,PHSPHT,PHSPHT_FLAG_W
,,,,,,,,,,,,DBR,ITS-90,PSS-78,,PSS-78,,UMOL/KG,,UMOL/KG,,UMOL/KG,,UMOL/KG,,UMOL/KG,
    09FA1089_2,      ,   217,  1,   -999,     11,2,19890913,0243,-34.4282, 156.5812, 4716,     48.3,  15.9910,  35.4270,2,  35.4270,2,    229.5,2,    239.3,2,     1.07,3,     3.05,3,     0.39,3
    09FA1089_2,      ,   217,  1,   -999,     26,2,19890913,0243,-34.4282, 156.5812, 4716,     99.2,  15.8040,  35.4150,2,  35.4140,2,    178.2,2,    247.7,2,     1.07,3,     4.85,3,     0.42,3
    09FA1089_2,      ,   217,  1,   -999,     29,2,19890913,0243,-34.4282, 156.5812, 4716,    179.7,  13.4080,  35.1730,2,  35.1720,2,    187.9,2,    179.0,2,     4.89,3,    14.54,3,     1.03,3
    09FA1089_2,      ,   217,  1,   -999,     20,2,19890913,0243,-34.4282, 156.5812, 4716,    298.1,   9.8540,  34.7760,2,  34.7900,2,    186.0,2,    191.7,2,     8.01,3,    20.64,3,     1.36,3
    09FA1089_2,      ,   217,  1,   -999,     24,2,19890913,0243,-34.4282, 156.5812, 4716,    398.8,   8.4020,  34.6180,2,  34.6210,2,    185.3,2,    189.5,2,    12.32,3,    25.31,3,     1.61,3
    09FA1089_2,      ,   217,  1,   -999,      8,2,19890913,0243,-34.4282, 156.5812, 4716,    498.5,   7.4510,  34.5400,2,  34.5440,2,    184.2,2,    188.2,2,    17.01,3,    27.83,3,     1.77,3
    09FA1089_2,      ,   217,  1,   -999,     12,2,19890913,0243,-34.4282, 156.5812, 4716,    597.7,   6.6560,  34.4920,2,  34.4920,2,    179.8,2,    185.4,2,    22.58,3,    29.98,3,     1.92,3
    09FA1089_2,      ,   217,  1,   -999,     19,2,19890913,0243,-34.4282, 156.5812, 4716,    707.9,   5.8080,  34.4630,2,  34.4660,2,    175.7,2,    181.4,2,    31.67,3,    32.49,3,     2.06,3
    09FA1089_2,      ,   217,  1,   -999,      1,2,19890913,0243,-34.4282, 156.5812, 4716,    797.8,   5.2170,  34.4630,2,  34.4660,2,    166.1,2,    176.1,2,    39.69,3,    34.47,3,     2.17,3
    09FA1089_2,      ,   217,  1,   -999,      9,2,19890913,0243,-34.4282, 156.5812, 4716,    988.4,   4.2000,  34.4940,2,  34.4960,2,    157.7,2,    164.9,2,  -999.00,5,    36.98,3,     2.35,3
    09FA1089_2,      ,   217,  1,   -999,      3,2,19890913,0243,-34.4282, 156.5812, 4716,   1499.8,   2.7460,  34.6080,2,  34.6080,2,    163.5,2,    153.7,2,  -999.00,5,    39.68,3,     2.50,3
    09FA1089_2,      ,   217,  1,   -999,      5,2,19890913,0243,-34.4282, 156.5812, 4716,   1748.7,   2.3470,  34.6620,2,  34.6650,2,    170.5,2,    160.5,2,    92.56,3,    36.86,3,     2.58,3
    09FA1089_2,      ,   217,  1,   -999,     27,2,19890913,0243,-34.4282, 156.5812, 4716,   1978.4,   2.1680,  34.6930,2,  34.6910,2,    177.9,2,    169.2,2,    98.82,3,    35.90,3,     2.54,3
    09FA1089_2,      ,   217,  1,   -999,     16,2,19890913,0243,-34.4282, 156.5812, 4716,   2349.2,   1.9310,  34.7220,2,  34.7220,2,    181.1,2,    178.8,2,   101.84,3,    34.21,3,     2.48,3
    09FA1089_2,      ,   217,  1,   -999,      4,2,19890913,0243,-34.4282, 156.5812, 4716,   2497.0,   1.7760,  34.7290,2,  34.7270,2,    182.9,2,    183.4,2,   108.00,3,    34.21,3,     2.45,3
    09FA1089_2,      ,   217,  1,   -999,      2,2,19890913,0243,-34.4282, 156.5812, 4716,   2598.5,   1.7070,  34.7300,2,  34.7320,2,    184.9,2,    185.0,2,   108.00,3,    33.84,3,     2.42,3
    09FA1089_2,      ,   217,  1,   -999,     31,2,19890913,0243,-34.4282, 156.5812, 4716,   2898.9,   1.5160,  34.7300,2,  34.7270,2,    187.8,2,    186.8,2,   115.72,3,    34.21,3,     2.47,3
    09FA1089_2,      ,   217,  1,   -999,     28,2,19890913,0243,-34.4282, 156.5812, 4716,   3185.3,   1.2920,  34.7250,2,  34.7200,2,    189.4,2,    189.0,2,   115.72,3,    34.21,3,     2.44,3
    09FA1089_2,      ,   217,  1,   -999,     13,2,19890913,0243,-34.4282, 156.5812, 4716,   3497.7,   1.1800,  34.7210,2,  34.7200,2,    190.9,2,    193.3,2,   125.01,3,    35.15,3,     2.48,3
    09FA1089_2,      ,   217,  1,   -999,     18,2,19890913,0243,-34.4282, 156.5812, 4716,   3997.2,   1.1320,  34.7190,2,  34.7180,2,    192.5,2,    195.2,2,   126.57,3,    35.15,3,     2.48,3
    09FA1089_2,      ,   217,  1,   -999,     10,2,19890913,0243,-34.4282, 156.5812, 4716,   4497.3,   1.1440,  34.7180,2,  34.7180,2,    193.2,2,    195.2,2,   129.60,3,    35.33,3,     2.49,3
    09FA1089_2,      ,   217,  1,   -999,      6,2,19890913,0243,-34.4282, 156.5812, 4716,   4714.9,   1.1350,  34.7160,2,  34.7140,2,    193.2,2,    194.6,2,   129.60,3,    35.53,3,     2.49,3
    09FA1089_2,      ,   217,  1,   -999,     22,2,19890913,0243,-34.4282, 156.5812, 4716,   4714.9,   1.1350,  34.7160,2,  34.7130,2,    193.2,2,    195.2,2,   129.60,3,    35.33,3,     2.49,3
    09FA1089_2,      ,   219,  1,   -999,     11,2,19890913,1055,-34.4225, 157.7208, 4794,      4.6,  16.1450,  35.4580,2,  35.4570,2,    200.3,2,    238.1,2,     1.07,3,     2.35,3,     0.36,3
    09FA1089_2,      ,   219,  1,   -999,     26,2,19890913,1055,-34.4225, 157.7208, 4794,     48.3,  16.0190,  35.4680,2,  35.4680,2,    234.4,2,    233.7,2,     0.88,3,     4.32,3,     0.39,3
    09FA1089_2,      ,   219,  1,   -999,     29,2,19890913,1055,-34.4225, 157.7208, 4794,     98.0,  15.9460,  35.4600,2,  35.4590,2,    228.5,2,    186.5,2,     0.88,3,     4.54,3,     0.39,3
    09FA1089_2,      ,   219,  1,   -999,     20,2,19890913,1055,-34.4225, 157.7208, 4794,    183.4,  14.2070,  35.2990,2,  35.3010,2,    187.8,2,    191.4,2,     3.42,3,    11.98,3,     0.89,3
    09FA1089_2,      ,   219,  1,   -999,     24,2,19890913,1055,-34.4225, 157.7208, 4794,    298.5,  11.3980,  34.9780,2,  34.9800,2,    186.6,2,    202.7,2,     5.86,3,    16.82,3,     1.20,3
    09FA1089_2,      ,   219,  1,   -999,      9,2,19890913,1055,-34.4225, 157.7208, 4794,    398.5,   9.6520,  34.7440,2,  34.7450,2,    196.8,2,    181.1,2,     7.13,3,    20.01,3,     1.40,3
    09FA1089_2,      ,   219,  1,   -999,     12,2,19890913,1055,-34.4225, 157.7208, 4794,    498.6,   8.6470,  34.6370,2,  34.6400,2,    191.1,2,    188.2,2,    11.24,3,    23.73,3,     1.64,3
    09FA1089_2,      ,   219,  1,   -999,     19,2,19890913,1055,-34.4225, 157.7208, 4794,    599.1,   7.7000,  34.5560,2,  34.5600,2,    184.6,2,   -999.0,5,    15.44,3,    26.78,3,     1.83,3
    09FA1089_2,      ,   219,  1,   -999,      1,2,19890913,1055,-34.4225, 157.7208, 4794,    878.8,   5.5070,  34.4610,2,  34.4630,2,    180.2,2,    178.6,2,    34.41,3,    32.72,3,     2.21,3
    09FA1089_2,      ,   219,  1,   -999,      8,2,19890913,1055,-34.4225, 157.7208, 4794,   1126.1,   4.1160,  34.5010,2,  34.5050,2,    165.9,2,    163.8,2,    67.94,3,    36.86,3,     2.48,3
    09FA1089_2,      ,   219,  1,   -999,      3,2,19890913,1055,-34.4225, 157.7208, 4794,   1339.4,   3.3080,  34.5580,2,  34.5570,2,    156.3,2,    153.6,2,    87.98,3,    38.78,3,     2.62,3
    09FA1089_2,      ,   219,  1,   -999,      5,2,19890913,1055,-34.4225, 157.7208, 4794,   1499.8,   2.9140,  34.5940,2,  34.5940,2,    155.9,2,    151.7,2,    97.26,3,    39.35,3,     2.61,3
    09FA1089_2,      ,   219,  1,   -999,     27,2,19890913,1055,-34.4225, 157.7208, 4794,   1749.4,   2.4910,  34.6460,2,  34.6430,2,    160.6,2,    155.1,2,   101.85,3,    39.16,3,     2.59,3
    09FA1089_2,      ,   219,  1,   -999,     16,2,19890913,1055,-34.4225, 157.7208, 4794,   2078.5,   2.1910,  34.6910,2,  34.6910,2,    170.3,2,    168.9,2,   100.28,3,    37.43,3,     2.48,3
    09FA1089_2,      ,   219,  1,   -999,      4,2,19890913,1055,-34.4225, 157.7208, 4794,   2404.8,   1.9500,  34.7180,2,  34.7160,2,    177.9,2,    177.9,2,   103.41,3,    36.86,3,     2.44,3
    09FA1089_2,      ,   219,  1,   -999,      2,2,19890913,1055,-34.4225, 157.7208, 4794,   2497.0,   1.8840,  34.7200,2,  34.7210,2,    179.3,2,    179.4,2,   101.84,3,    36.28,3,     2.39,3
    09FA1089_2,      ,   219,  1,   -999,     31,2,19890913,1055,-34.4225, 157.7208, 4794,   2717.5,   1.7220,  34.7310,2,  34.7290,2,    183.1,2,    184.3,2,   109.56,3,    36.28,3,     2.41,3
    09FA1089_2,      ,   219,  1,   -999,     28,2,19890913,1055,-34.4225, 157.7208, 4794,   2998.7,   1.4910,  34.7290,2,  34.7280,2,    186.2,2,    186.5,2,   114.16,3,    36.66,3,     2.41,3
    09FA1089_2,      ,   219,  1,   -999,     13,2,19890913,1055,-34.4225, 157.7208, 4794,   3208.8,   1.3280,  34.7270,2,  34.7250,2,    188.1,2,    191.4,2,   120.41,3,    37.04,3,     2.44,3
    09FA1089_2,      ,   219,  1,   -999,     18,2,19890913,1055,-34.4225, 157.7208, 4794,   3498.3,   1.2010,  34.7240,2,  34.7200,2,    189.7,2,    190.8,2,   125.01,3,    37.42,3,     2.44,3
    09FA1089_2,      ,   219,  1,   -999,     10,2,19890913,1055,-34.4225, 157.7208, 4794,   3998.4,   1.1350,  34.7200,2,  34.7170,2,    191.7,2,    192.0,2,   128.14,3,    37.42,3,     2.47,3
    09FA1089_2,      ,   219,  1,   -999,     22,2,19890913,1055,-34.4225, 157.7208, 4794,   4497.9,   1.1160,  34.7170,2,  34.7160,2,    193.4,2,    194.8,2,   131.17,3,    37.62,3,     2.49,3
    09FA1089_2,      ,   219,  1,   -999,      6,2,19890913,1055,-34.4225, 157.7208, 4794,   4793.5,   1.1120,  34.7150,2,  34.7140,2,    193.9,2,    194.2,2,   131.17,3,    37.62,3,     2.47,3
    09FA1089_2,      ,   221,  1,   -999,     11,2,19890913,2101,-34.4122, 158.8940, 4492,      4.2,  18.2710,  35.5630,2,  35.5600,2,    198.6,2,    223.3,2,     0.78,3,     2.48,3,     0.31,3
    09FA1089_2,      ,   221,  1,   -999,     26,2,19890913,2101,-34.4122, 158.8940, 4492,     49.0,  18.2830,  35.5630,2,  35.5610,2,    222.4,2,    223.0,2,     0.59,3,     2.48,3,     0.30,3
    09FA1089_2,      ,   221,  1,   -999,     20,2,19890913,2101,-34.4122, 158.8940, 4492,    148.9,  16.3540,  35.4970,2,  35.5100,2,    220.1,2,    220.2,2,     1.07,3,     4.28,3,     0.44,3
    09FA1089_2,      ,   221,  1,   -999,     24,2,19890913,2101,-34.4122, 158.8940, 4492,    198.3,  15.8850,  35.4930,2,  35.4890,2,    190.4,2,   -999.0,5,     1.27,3,     5.41,3,     0.46,3
    09FA1089_2,      ,   221,  1,   -999,      9,2,19890913,2101,-34.4122, 158.8940, 4492,    288.4,  14.0980,  35.2990,2,  35.3030,2,    199.7,2,    188.3,2,     3.13,3,    10.50,3,     0.77,3
    09FA1089_2,      ,   221,  1,   -999,     12,2,19890913,2101,-34.4122, 158.8940, 4492,    398.3,  12.1850,  35.1110,2,  35.1270,2,    191.2,2,    201.8,2,     3.71,3,    12.33,3,     0.93,3
    09FA1089_2,      ,   221,  1,   -999,     19,2,19890913,2101,-34.4122, 158.8940, 4492,    497.6,  10.4230,  34.8520,2,  34.8510,2,    192.5,2,    192.2,2,     6.55,3,    18.14,3,     1.25,3
    09FA1089_2,      ,   221,  1,   -999,      1,2,19890913,2101,-34.4122, 158.8940, 4492,    597.7,   9.0490,  34.6770,2,  34.6770,2,    184.2,2,    197.8,2,     8.70,3,    21.70,3,     1.50,3
    09FA1089_2,      ,   221,  1,   -999,      8,2,19890913,2101,-34.4122, 158.8940, 4492,    984.0,   5.7410,  34.4700,2,  34.4760,2,    166.3,2,    179.5,2,    31.48,3,    30.26,3,     2.04,3
    09FA1089_2,      ,   221,  1,   -999,      3,2,19890913,2101,-34.4122, 158.8940, 4492,   1250.1,   4.2680,  34.4950,2,  34.4960,2,    161.6,2,    164.4,2,    43.70,3,    34.73,3,     2.44,3
    09FA1089_2,      ,   221,  1,   -999,      5,2,19890913,2101,-34.4122, 158.8940, 4492,   1374.5,   3.7120,  34.5270,2,  34.5280,2,    156.9,2,    158.2,2,  -999.00,5,  -999.00,5,  -999.00,5
    09FA1089_2,      ,   221,  1,   -999,     27,2,19890913,2101,-34.4122, 158.8940, 4492,   1489.2,   3.3690,  34.5550,2,  34.5550,2,    156.5,2,    153.6,2,    65.49,3,    35.60,3,     2.57,3
    09FA1089_2,      ,   221,  1,   -999,      4,2,19890913,2101,-34.4122, 158.8940, 4492,   2001.2,   2.4260,  34.6540,2,  34.6520,2,    169.8,2,    159.4,2,  -999.00,5,  -999.00,5,  -999.00,5
    09FA1089_2,      ,   221,  1,   -999,      2,2,19890913,2101,-34.4122, 158.8940, 4492,   2225.1,   2.2240,  34.6860,2,  34.6900,2,    177.0,2,    169.6,2,    98.23,3,    32.83,3,     2.34,3
    09FA1089_2,      ,   221,  1,   -999,     31,2,19890913,2101,-34.4122, 158.8940, 4492,   2499.7,   2.0030,  34.7150,2,  34.7120,2,    178.1,2,    177.6,2,  -999.00,5,  -999.00,5,  -999.00,5
    09FA1089_2,      ,   221,  1,   -999,     13,2,19890913,2101,-34.4122, 158.8940, 4492,   2860.4,   1.7100,  34.7290,2,  34.7260,2,    188.6,2,    183.7,2,   115.33,3,    31.97,3,     2.16,3
    09FA1089_2,      ,   221,  1,   -999,     18,2,19890913,2101,-34.4122, 158.8940, 4492,   3340.9,   1.3430,  34.7250,2,  34.7230,2,    189.8,2,    189.9,2,   126.28,3,    33.00,3,     2.25,3
    09FA1089_2,      ,   221,  1,   -999,     10,2,19890913,2101,-34.4122, 158.8940, 4492,   3499.4,   1.2710,  34.7220,2,  34.7200,2,    191.6,2,    192.1,2,  -999.00,5,  -999.00,5,  -999.00,5
    09FA1089_2,      ,   221,  1,   -999,     22,2,19890913,2101,-34.4122, 158.8940, 4492,   3999.6,   1.1710,  34.7190,2,  34.7160,2,    193.5,2,    193.3,2,   124.72,3,    32.83,3,     2.18,3
    09FA1089_2,      ,   221,  1,   -999,      6,2,19890913,2101,-34.4122, 158.8940, 4492,   4500.1,   1.1060,  34.7160,2,  34.7120,2,    193.5,2,    194.5,2,  -999.00,5,    33.92,3,     2.29,3
    09FA1089_2,      ,   223,  1,   -999,     11,2,19890914,0412,-34.4080, 159.6333, 3602,      5.9,  18.5560,  35.5590,2,  35.5740,2,    218.4,2,    222.9,2,     0.49,3,     2.48,3,     0.32,3
    09FA1089_2,      ,   223,  1,   -999,     26,2,19890914,0412,-34.4080, 159.6333, 3602,     49.7,  18.5750,  35.5590,2,  35.5790,2,    220.9,2,    222.6,2,     0.49,3,     2.48,3,     0.31,3
    09FA1089_2,      ,   223,  1,   -999,     29,2,19890914,0412,-34.4080, 159.6333, 3602,     97.5,  18.5860,  35.5610,2,  35.5790,2,    222.3,2,    218.2,2,     0.49,3,     2.48,3,     0.31,3
    09FA1089_2,      ,   223,  1,   -999,     20,2,19890914,0412,-34.4080, 159.6333, 3602,    149.9,  18.4750,  35.5600,2,  35.5770,2,    224.4,2,    214.8,2,     0.59,3,     3.49,3,     0.34,3
    09FA1089_2,      ,   223,  1,   -999,     24,2,19890914,0412,-34.4080, 159.6333, 3602,    200.2,  17.5550,  35.5090,2,  35.5310,2,    217.3,2,    212.3,2,     0.78,3,     4.08,3,     0.41,3
    09FA1089_2,      ,   223,  1,   -999,     17,2,19890914,0412,-34.4080, 159.6333, 3602,    296.5,  15.9580,  35.4300,2,  35.4510,2,    220.0,2,    204.4,2,     1.86,3,     7.35,3,     0.57,3
    09FA1089_2,      ,   223,  1,   -999,     12,2,19890914,0412,-34.4080, 159.6333, 3602,    374.5,  14.6540,  35.3240,2,  35.3430,2,    188.0,2,    192.2,2,     2.93,3,    10.34,3,     0.79,3
    09FA1089_2,      ,   223,  1,   -999,     19,2,19890914,0412,-34.4080, 159.6333, 3602,    497.4,  11.8300,  35.0090,2,  35.0310,2,    188.9,2,    191.9,2,     5.47,3,    16.07,3,     1.13,3
    09FA1089_2,      ,   223,  1,   -999,      1,2,19890914,0412,-34.4080, 159.6333, 3602,    597.0,   9.7520,  34.7370,2,  34.7600,2,    191.5,2,    194.9,2,     8.11,3,    21.20,3,     1.41,3
    09FA1089_2,      ,   223,  1,   -999,      8,2,19890914,0412,-34.4080, 159.6333, 3602,   1063.3,   5.4700,  34.4410,2,  34.4710,2,    179.7,2,    176.8,2,    36.17,3,    33.52,3,     2.25,3
    09FA1089_2,      ,   223,  1,   -999,      3,2,19890914,0412,-34.4080, 159.6333, 3602,   1249.0,   4.4370,  34.4660,2,  34.4880,2,    171.3,2,    165.6,2,  -999.00,5,  -999.00,5,  -999.00,5
    09FA1089_2,      ,   223,  1,   -999,      5,2,19890914,0412,-34.4080, 159.6333, 3602,   1319.1,   4.1870,  34.4820,2,  34.5010,2,    168.4,2,    164.1,2,    64.03,3,    32.58,3,     2.31,3
    09FA1089_2,      ,   223,  1,   -999,     27,2,19890914,0412,-34.4080, 159.6333, 3602,   1542.5,   3.3810,  34.5520,2,  34.5520,2,    159.7,2,    151.6,2,    84.95,3,    34.38,3,     2.48,3
    09FA1089_2,      ,   223,  1,   -999,      4,2,19890914,0412,-34.4080, 159.6333, 3602,   1997.6,   2.4670,  34.6460,2,  34.6470,2,    162.8,2,    158.8,2,    99.80,3,    34.53,3,     2.47,3
    09FA1089_2,      ,   223,  1,   -999,      2,2,19890914,0412,-34.4080, 159.6333, 3602,   2313.5,   2.2080,  34.6860,2,  34.6910,2,    172.1,2,    169.0,2,    96.86,3,    33.55,3,     2.39,3
    09FA1089_2,      ,   223,  1,   -999,     31,2,19890914,0412,-34.4080, 159.6333, 3602,   2499.9,   2.0220,  34.7070,2,  34.7070,2,    177.6,2,    176.4,2,    99.79,3,    33.23,3,     2.35,3
    09FA1089_2,      ,   223,  1,   -999,     28,2,19890914,0412,-34.4080, 159.6333, 3602,   2629.3,   1.9490,  34.7140,2,  34.7130,2,    179.8,2,    178.6,2,   101.26,3,    33.07,3,     2.34,3
    09FA1089_2,      ,   223,  1,   -999,     13,2,19890914,0412,-34.4080, 159.6333, 3602,   2922.0,   1.7040,  34.7220,2,  34.7210,2,    183.8,2,    186.7,2,   107.22,3,    33.23,3,     2.34,3
    09FA1089_2,      ,   223,  1,   -999,     18,2,19890914,0412,-34.4080, 159.6333, 3602,   2996.6,   1.6620,  34.7240,2,  34.7220,2,    185.6,2,    183.9,2,   107.22,3,    33.23,3,     2.34,3
    09FA1089_2,      ,   223,  1,   -999,     10,2,19890914,0412,-34.4080, 159.6333, 3602,   3190.3,   1.3260,  34.7220,2,  34.7210,2,    189.4,2,    190.4,2,   120.71,3,    33.40,3,     2.34,3
    09FA1089_2,      ,   223,  1,   -999,      6,2,19890914,0412,-34.4080, 159.6333, 3602,   3598.2,   1.1260,  34.7180,2,  34.7170,2,    192.8,2,    195.4,2,  -999.00,5,  -999.00,5,  -999.00,5