BOTTLE,20010820WHPSIOKJU
EXPOCODE,SECT_ID,STNNBR,CASTNO,SAMPNO,BTLNBR,BTLNBR_FLAG_W,DATE,TIME,LATITUDE,LONGITUDE,DEPTH,CTDPRS,CTDTMP,CTDSAL,CTDSAL_FLAG_W,SALNTY,SALNTY_FLAG_W,CTDOXY,CTDOXY_FLAG_W,OXYGEN,OXYGEN_FLAG_W,SILCAT,SILCAT_FLAG_W,NO2+NO3,NO2+NO3_FLAG_W,PHSPHT,PHSPHT_FLAG_W
,,,,,,,,,,,,DBR,ITS-90,PSS-78,,PSS-78,,UMOL/KG,,UMOL/KG,,UMOL/KG,,UMOL/KG,,UMOL/KG,
    09FA1089_2,      ,   225,  1,   -999,      1,2,19890914,1159,-34.4183, 160.7857, 1800,      5.1,  18.4440,  35.5750,2,  35.5750,2,    231.1,2,    225.7,2,     0.49,3,     1.89,3,     0.30,3
    09FA1089_2,      ,   225,  1,   -999,     17,2,19890914,1159,-34.4183, 160.7857, 1800,      5.1,  18.4440,  35.5750,2,  35.5730,2,    231.1,2,    227.9,2,     0.49,3,     1.89,3,     0.30,3
    09FA1089_2,      ,   225,  1,   -999,     19,2,19890914,1159,-34.4183, 160.7857, 1800,      5.1,  18.4440,  35.5750,2,  35.5750,2,    231.1,2,    225.4,2,     0.49,3,     1.89,3,     0.30,3
    09FA1089_2,      ,   225,  1,   -999,     25,2,19890914,1159,-34.4183, 160.7857, 1800,      5.1,  18.4440,  35.5750,2,  35.5750,2,    231.1,2,    227.2,2,     0.49,3,     1.89,3,     0.30,3
    09FA1089_2,      ,   225,  1,   -999,      8,2,19890914,1159,-34.4183, 160.7857, 1800,     48.4,  18.4620,  35.5750,2,  35.5750,2,    223.2,2,    227.2,2,     0.59,3,     1.89,3,     0.30,3
    09FA1089_2,      ,   225,  1,   -999,      3,2,19890914,1159,-34.4183, 160.7857, 1800,     98.2,  18.2130,  35.5650,2,  35.5640,2,    222.2,2,    225.4,2,     0.59,3,     2.90,3,     0.31,3
    09FA1089_2,      ,   225,  1,   -999,      5,2,19890914,1159,-34.4183, 160.7857, 1800,    149.1,  17.8450,  35.5480,2,  35.5450,2,    216.3,2,    213.2,2,     0.78,3,     3.70,3,     0.38,3
    09FA1089_2,      ,   225,  1,   -999,     27,2,19890914,1159,-34.4183, 160.7857, 1800,    197.1,  16.9550,  35.5050,2,  35.5010,2,    186.0,2,    181.1,2,     1.95,3,     8.17,3,     0.64,3
    09FA1089_2,      ,   225,  1,   -999,     16,2,19890914,1159,-34.4183, 160.7857, 1800,    298.1,  15.0400,  35.3560,2,  35.3630,2,    189.9,2,    183.9,2,     2.93,3,    10.41,3,     0.79,3
    09FA1089_2,      ,   225,  1,   -999,      4,2,19890914,1159,-34.4183, 160.7857, 1800,    353.5,  13.6910,  35.2350,2,  35.2360,2,    187.3,2,    187.2,2,     3.91,3,    12.52,3,     0.92,3
    09FA1089_2,      ,   225,  1,   -999,      2,2,19890914,1159,-34.4183, 160.7857, 1800,    498.7,  10.8750,  34.9080,2,  34.9060,2,    192.3,2,    194.3,2,     6.25,3,    17.83,3,     1.21,3
    09FA1089_2,      ,   225,  1,   -999,      9,2,19890914,1159,-34.4183, 160.7857, 1800,    800.1,   7.3600,  34.5330,2,  34.5370,2,    179.9,2,    188.4,2,    17.40,3,    27.05,3,     1.82,3
    09FA1089_2,      ,   225,  1,   -999,     28,2,19890914,1159,-34.4183, 160.7857, 1800,    997.3,   5.7010,  34.4680,2,  34.4700,2,    178.1,2,    180.9,2,    32.36,3,    29.49,3,     2.05,3
    09FA1089_2,      ,   225,  1,   -999,     31,2,19890914,1159,-34.4183, 160.7857, 1800,   1043.6,   5.4330,  34.4650,2,  34.4660,2,    163.0,2,    177.8,2,    40.28,3,    30.79,3,     2.13,3
    09FA1089_2,      ,   225,  1,   -999,     18,2,19890914,1159,-34.4183, 160.7857, 1800,   1283.9,   4.1140,  34.5060,2,  34.5080,2,    153.9,2,    163.1,2,    67.06,3,    34.05,3,     2.37,3
    09FA1089_2,      ,   225,  1,   -999,     10,2,19890914,1159,-34.4183, 160.7857, 1800,   1519.0,   3.3190,  34.5610,2,  34.5620,2,    152.3,2,    155.0,2,    86.41,3,    35.85,3,     2.50,3
    09FA1089_2,      ,   225,  1,   -999,     22,2,19890914,1159,-34.4183, 160.7857, 1800,   1749.1,   2.7210,  34.6190,2,  34.6170,2,    154.3,2,    152.9,2,    98.33,3,    36.33,3,     2.53,3
    09FA1089_2,      ,   225,  1,   -999,      6,2,19890914,1159,-34.4183, 160.7857, 1800,   1798.0,   2.5950,  34.6310,2,  34.6310,2,    154.3,2,    157.5,2,   101.26,3,    36.17,3,     2.51,3
    09FA1089_2,      ,   227,  1,   -999,     11,2,19890914,1829,-34.4300, 161.9978, 1874,      5.3,  17.8320,  35.5770,2,  35.5780,2,    239.4,2,    226.5,2,  -999.00,5,  -999.00,5,  -999.00,5
    09FA1089_2,      ,   227,  1,   -999,      8,2,19890914,1829,-34.4300, 161.9978, 1874,     48.5,  17.8300,  35.5780,2,  35.5770,2,    228.3,2,    226.5,2,     0.78,3,     1.89,3,     0.33,3
    09FA1089_2,      ,   227,  1,   -999,      3,2,19890914,1829,-34.4300, 161.9978, 1874,     99.9,  17.4710,  35.5440,2,  35.5410,2,    215.6,2,    204.5,2,     1.17,3,     5.24,3,     0.49,3
    09FA1089_2,      ,   227,  1,   -999,      5,2,19890914,1829,-34.4300, 161.9978, 1874,    147.5,  16.4890,  35.4960,2,  35.4920,2,    215.7,2,    220.4,2,     1.37,3,     4.43,3,     0.47,3
    09FA1089_2,      ,   227,  1,   -999,     27,2,19890914,1829,-34.4300, 161.9978, 1874,    198.3,  15.4960,  35.4100,2,  35.4060,2,    186.4,2,    185.7,2,     2.64,3,     9.70,3,     0.79,3
    09FA1089_2,      ,   227,  1,   -999,     29,2,19890914,1829,-34.4300, 161.9978, 1874,    273.7,  14.1350,  35.3200,2,  35.3180,2,    194.8,2,    195.6,2,     2.93,3,    10.53,3,     0.83,3
    09FA1089_2,      ,   227,  1,   -999,     26,2,19890914,1829,-34.4300, 161.9978, 1874,    398.3,  12.2810,  35.1260,2,  35.1270,2,    201.3,2,    204.9,2,     3.91,3,    12.53,3,     1.05,3
    09FA1089_2,      ,   227,  1,   -999,      2,2,19890914,1829,-34.4300, 161.9978, 1874,    498.2,  10.7650,  34.9060,2,  34.9100,2,    198.6,2,    202.2,2,     5.67,3,    16.64,3,     1.19,3
    09FA1089_2,      ,   227,  1,   -999,      9,2,19890914,1829,-34.4300, 161.9978, 1874,    599.3,   9.2710,  34.7030,2,  34.7020,2,    197.8,2,    200.9,2,     8.31,3,    20.84,3,     1.47,3
    09FA1089_2,      ,   227,  1,   -999,     28,2,19890914,1829,-34.4300, 161.9978, 1874,    797.4,   7.3270,  34.5360,2,  34.5430,2,    185.9,2,    187.6,2,    18.18,3,    24.32,3,     1.85,3
    09FA1089_2,      ,   227,  1,   -999,     31,2,19890914,1829,-34.4300, 161.9978, 1874,    997.9,   5.7060,  34.4740,2,  34.4790,2,    178.6,2,    179.8,2,    33.34,3,    26.51,3,     2.15,3
    09FA1089_2,      ,   227,  1,   -999,     18,2,19890914,1829,-34.4300, 161.9978, 1874,   1284.1,   4.0460,  34.5100,2,  34.5110,2,    164.4,2,    164.3,2,    66.86,3,    29.98,3,     2.45,3
    09FA1089_2,      ,   227,  1,   -999,     10,2,19890914,1829,-34.4300, 161.9978, 1874,   1519.0,   3.3090,  34.5650,2,  34.5660,2,    153.4,2,    154.4,2,    89.25,3,    31.41,3,     2.58,3
    09FA1089_2,      ,   227,  1,   -999,     22,2,19890914,1829,-34.4300, 161.9978, 1874,   1751.2,   2.6700,  34.6230,2,  34.6210,2,    153.9,2,    156.8,2,    98.14,3,    31.79,3,     2.59,3
    09FA1089_2,      ,   227,  1,   -999,      6,2,19890914,1829,-34.4300, 161.9978, 1874,   1874.3,   2.4980,  34.6450,2,  34.6420,2,    153.9,2,   -999.0,5,    99.60,3,    31.03,3,     2.58,3
    09FA1089_2,      ,   229,  1,   -999,     11,2,19890915,0053,-34.4330, 163.1662, 1130,      4.1,  16.5350,  35.5000,2,  35.4970,2,    251.0,2,    241.6,2,     0.29,3,     1.30,3,     0.35,3
    09FA1089_2,      ,   229,  1,   -999,     29,2,19890915,0053,-34.4330, 163.1662, 1130,     99.2,  15.6160,  35.4600,2,  35.4570,2,    210.6,2,    208.0,2,     1.66,3,     6.32,3,     0.61,3
    09FA1089_2,      ,   229,  1,   -999,     26,2,19890915,0053,-34.4330, 163.1662, 1130,    148.8,  14.9750,  35.4040,2,  35.4000,2,    204.6,2,    202.6,2,     2.05,3,     7.69,3,     0.64,3
    09FA1089_2,      ,   229,  1,   -999,      2,2,19890915,0053,-34.4330, 163.1662, 1130,    216.6,  13.6280,  35.2820,2,  35.2840,2,    202.7,2,    203.4,2,     2.54,3,     9.87,3,     0.76,3
    09FA1089_2,      ,   229,  1,   -999,     28,2,19890915,0053,-34.4330, 163.1662, 1130,    398.4,  11.0010,  34.9350,2,  34.9410,2,    194.6,2,    195.8,2,     5.08,3,    15.82,3,     1.11,3
    09FA1089_2,      ,   229,  1,   -999,     31,2,19890915,0053,-34.4330, 163.1662, 1130,    498.1,   9.4560,  34.7180,2,  34.7190,2,    206.0,2,    207.6,2,     6.06,3,    18.76,3,     1.28,3
    09FA1089_2,      ,   229,  1,   -999,     18,2,19890915,0053,-34.4330, 163.1662, 1130,    601.0,   8.5290,  34.6260,2,  34.6260,2,    194.2,2,    196.4,2,    10.26,3,    21.92,3,     1.51,3
    09FA1089_2,      ,   229,  1,   -999,     10,2,19890915,0053,-34.4330, 163.1662, 1130,    799.0,   6.7910,  34.5060,2,  34.5030,2,    184.3,2,    183.7,2,    20.33,3,    24.55,3,     1.82,3
    09FA1089_2,      ,   229,  1,   -999,      9,2,19890915,0053,-34.4330, 163.1662, 1130,    969.1,   5.6190,  34.4710,2,  34.4720,2,    178.1,2,    180.7,2,    31.38,3,    26.09,3,     2.01,3
    09FA1089_2,      ,   229,  1,   -999,      6,2,19890915,0053,-34.4330, 163.1662, 1130,   1126.4,   4.8390,  34.4810,2,  34.4820,2,    172.1,2,    172.5,2,    46.14,3,    26.63,3,     2.13,3
    09FA1089_2,      ,   231,  1,   -999,     11,2,19890915,0524,-34.4375, 164.0217, 1200,      5.7,  17.4620,  35.5500,2,  35.5420,2,    226.3,2,    225.0,2,     0.78,3,     3.21,3,     0.44,3
    09FA1089_2,      ,   231,  1,   -999,     29,2,19890915,0524,-34.4375, 164.0217, 1200,     48.5,  17.0250,  35.5300,2,  35.5250,2,    221.3,2,    236.4,2,     0.49,3,     1.73,3,     0.36,3
    09FA1089_2,      ,   231,  1,   -999,     26,2,19890915,0524,-34.4375, 164.0217, 1200,     98.2,  16.0400,  35.5050,2,  35.5060,2,    233.1,2,    231.0,2,     0.59,3,     3.21,3,     0.42,3
    09FA1089_2,      ,   231,  1,   -999,      2,2,19890915,0524,-34.4375, 164.0217, 1200,    149.2,  15.4900,  35.4860,2,  35.4850,2,    233.1,2,    228.8,2,     1.07,3,     4.83,3,     0.47,3
    09FA1089_2,      ,   231,  1,   -999,      8,2,19890915,0524,-34.4375, 164.0217, 1200,    235.1,  13.8750,  35.2990,2,  35.3040,2,    198.7,2,    201.6,2,     2.83,3,    11.03,3,     0.82,3
    09FA1089_2,      ,   231,  1,   -999,     28,2,19890915,0524,-34.4375, 164.0217, 1200,    400.1,  11.3280,  34.9820,2,  34.9730,2,    197.2,2,    201.6,2,     5.47,3,    16.96,3,     1.17,3
    09FA1089_2,      ,   231,  1,   -999,     31,2,19890915,0524,-34.4375, 164.0217, 1200,    498.3,   9.7900,  34.7820,2,  34.7820,2,    191.2,2,    190.1,2,     8.89,3,    21.27,3,     1.44,3
    09FA1089_2,      ,   231,  1,   -999,     18,2,19890915,0524,-34.4375, 164.0217, 1200,    600.9,   8.5470,  34.6440,2,  34.6450,2,    189.6,2,    189.8,2,    12.61,3,    23.44,3,     1.66,3
    09FA1089_2,      ,   231,  1,   -999,     10,2,19890915,0524,-34.4375, 164.0217, 1200,    799.2,   6.7560,  34.5120,2,  34.5170,2,    184.7,2,    181.9,2,    23.07,3,    25.90,3,     2.01,3
    09FA1089_2,      ,   231,  1,   -999,      9,2,19890915,0524,-34.4375, 164.0217, 1200,    969.5,   5.6530,  34.4800,2,  34.4810,2,    179.3,2,    179.8,2,    38.61,3,    28.22,3,     2.21,3
    09FA1089_2,      ,   233,  1,   -999,     11,2,19890915,1029,-34.4158, 165.0012, 1698,      4.2,  16.2300,  35.5000,2,  35.5000,2,    252.6,2,    235.5,2,     0.98,3,     2.49,3,     0.35,3
    09FA1089_2,      ,   233,  1,   -999,      3,2,19890915,1029,-34.4158, 165.0012, 1698,     29.0,  16.1910,  35.5020,2,  35.5030,2,    244.2,2,    240.9,2,     0.98,3,     2.69,3,     0.36,3
    09FA1089_2,      ,   233,  1,   -999,     24,2,19890915,1029,-34.4158, 165.0012, 1698,     98.4,  15.5520,  35.4700,2,  35.4680,2,    220.0,2,    214.9,2,     1.76,3,     6.32,3,     0.58,3
    09FA1089_2,      ,   233,  1,   -999,     20,2,19890915,1029,-34.4158, 165.0012, 1698,    183.9,  13.9950,  35.3040,2,  35.3110,2,    196.7,2,    194.4,2,     3.22,3,    10.71,3,     0.83,3
    09FA1089_2,      ,   233,  1,   -999,     12,2,19890915,1029,-34.4158, 165.0012, 1698,    199.0,  13.8960,  35.3050,2,  35.3030,2,    198.7,2,    198.0,2,     3.22,3,    10.71,3,     0.84,3
    09FA1089_2,      ,   233,  1,   -999,     29,2,19890915,1029,-34.4158, 165.0012, 1698,    298.0,  12.1060,  35.0940,2,  35.0920,2,    202.5,2,    200.1,2,     5.18,3,    15.15,3,     1.16,3
    09FA1089_2,      ,   233,  1,   -999,      9,2,19890915,1029,-34.4158, 165.0012, 1698,    398.8,  10.5820,  34.8800,2,  34.8800,2,    195.0,2,    192.2,2,     8.99,3,    20.85,3,     1.68,3
    09FA1089_2,      ,   233,  1,   -999,     26,2,19890915,1029,-34.4158, 165.0012, 1698,    499.3,   9.3650,  34.7360,2,  34.7360,2,    192.1,2,    188.9,2,    12.22,3,    24.43,3,     1.83,3
    09FA1089_2,      ,   233,  1,   -999,      2,2,19890915,1029,-34.4158, 165.0012, 1698,    599.4,   8.2750,  34.6210,2,  34.6220,2,    191.6,2,    188.9,2,    15.25,3,    26.23,3,     1.88,3
    09FA1089_2,      ,   233,  1,   -999,      8,2,19890915,1029,-34.4158, 165.0012, 1698,    798.3,   6.4790,  34.4980,2,  34.4990,2,    183.2,2,    181.0,2,    27.18,3,    31.18,3,     2.16,3
    09FA1089_2,      ,   233,  1,   -999,     28,2,19890915,1029,-34.4158, 165.0012, 1698,    917.7,   5.3960,  34.4710,2,  34.4740,2,    179.2,2,    175.5,2,    42.62,3,    33.54,3,     2.29,3
    09FA1089_2,      ,   233,  1,   -999,     31,2,19890915,1029,-34.4158, 165.0012, 1698,    998.2,   4.9120,  34.4720,2,  34.4740,2,    175.3,2,    171.0,2,    50.05,3,    34.38,3,     2.35,3
    09FA1089_2,      ,   233,  1,   -999,     18,2,19890915,1029,-34.4158, 165.0012, 1698,   1184.5,   4.1270,  34.4980,2,  34.4970,2,    166.8,2,    163.4,2,    64.71,3,    36.58,3,     2.48,3
    09FA1089_2,      ,   233,  1,   -999,     10,2,19890915,1029,-34.4158, 165.0012, 1698,   1452.5,   3.3050,  34.5530,2,  34.5510,2,    158.0,2,    155.9,2,    85.34,3,    38.25,3,     2.61,3
    09FA1089_2,      ,   233,  1,   -999,     13,2,19890915,1029,-34.4158, 165.0012, 1698,   1695.9,   2.7140,  34.6130,2,  34.6100,2,    154.3,2,    152.5,2,   101.46,3,    38.41,3,     2.61,3
    09FA1089_2,      ,   233,  1,   -999,      6,2,19890915,1029,-34.4158, 165.0012, 1698,   1695.9,   2.7140,  34.6130,2,  34.6070,2,    154.3,2,    153.8,2,   101.46,3,    37.92,3,     2.58,3
    09FA1089_2,      ,   235,  1,   -999,     11,2,19890915,1531,-34.4158, 165.3530, 2892,      3.5,  16.1400,  35.4950,2,  35.4880,2,    234.9,2,    240.9,2,     0.88,3,     1.35,3,     0.33,3
    09FA1089_2,      ,   235,  1,   -999,      5,2,19890915,1531,-34.4158, 165.3530, 2892,     28.6,  16.0370,  35.4890,2,  35.4900,2,    242.3,2,    243.3,2,     0.78,3,     1.35,3,     0.32,3
    09FA1089_2,      ,   235,  1,   -999,     19,2,19890915,1531,-34.4158, 165.3530, 2892,     98.2,  15.3820,  35.4770,2,  35.4800,2,    235.9,2,    227.6,2,     1.17,3,     4.36,3,     0.45,3
    09FA1089_2,      ,   235,  1,   -999,      1,2,19890915,1531,-34.4158, 165.3530, 2892,    148.0,  14.7380,  35.4030,2,  35.3990,2,    218.0,2,    213.1,2,     2.05,3,     7.52,3,     0.61,3
    09FA1089_2,      ,   235,  1,   -999,     27,2,19890915,1531,-34.4158, 165.3530, 2892,    189.2,  13.8000,  35.2910,2,  35.2910,2,    207.9,2,    200.4,2,     3.13,3,    11.22,3,     0.76,3
    09FA1089_2,      ,   235,  1,   -999,      3,2,19890915,1531,-34.4158, 165.3530, 2892,    297.7,  12.1330,  35.0810,2,  35.0790,2,    196.8,2,    193.7,2,     4.89,3,    15.96,3,     1.15,3
    09FA1089_2,      ,   235,  1,   -999,     24,2,19890915,1531,-34.4158, 165.3530, 2892,    399.3,  10.5380,  34.8820,2,  34.8770,2,    192.1,2,    190.4,2,     7.92,3,    19.87,3,     1.33,3
    09FA1089_2,      ,   235,  1,   -999,     20,2,19890915,1531,-34.4158, 165.3530, 2892,    498.6,   9.4150,  34.7380,2,  34.7370,2,    193.7,2,    197.0,2,    11.44,3,    24.60,3,     1.74,3
    09FA1089_2,      ,   235,  1,   -999,     12,2,19890915,1531,-34.4158, 165.3530, 2892,    598.8,   8.4820,  34.6410,2,  34.6440,2,    192.8,2,    199.1,2,    14.66,3,    27.16,3,     1.88,3
    09FA1089_2,      ,   235,  1,   -999,     29,2,19890915,1531,-34.4158, 165.3530, 2892,    798.8,   6.7250,  34.5120,2,  34.5140,2,    185.8,2,    189.4,2,    27.96,3,    34.63,3,     2.42,3
    09FA1089_2,      ,   235,  1,   -999,      9,2,19890915,1531,-34.4158, 165.3530, 2892,    965.5,   5.5900,  34.4830,2,  34.4870,2,    182.1,2,    186.1,2,    27.27,3,    38.38,3,  -999.00,5
    09FA1089_2,      ,   235,  1,   -999,     26,2,19890915,1531,-34.4158, 165.3530, 2892,   1000.2,   5.4210,  34.4810,2,  34.4830,2,    179.6,2,    181.3,2,    28.64,3,    37.86,3,  -999.00,5
    09FA1089_2,      ,   235,  1,   -999,      2,2,19890915,1531,-34.4158, 165.3530, 2892,   1245.2,   4.0690,  34.4940,2,  34.4980,2,    169.3,2,    176.4,2,  -999.00,5,  -999.00,5,  -999.00,5
    09FA1089_2,      ,   235,  1,   -999,      8,2,19890915,1531,-34.4158, 165.3530, 2892,   1454.0,   3.2810,  34.5600,2,  34.5610,2,    160.7,2,    167.7,2,  -999.00,5,  -999.00,5,  -999.00,5
    09FA1089_2,      ,   235,  1,   -999,     28,2,19890915,1531,-34.4158, 165.3530, 2892,   1499.3,   3.1450,  34.5710,2,  34.5780,2,    159.6,2,    158.6,2,  -999.00,5,  -999.00,5,  -999.00,5
    09FA1089_2,      ,   235,  1,   -999,     31,2,19890915,1531,-34.4158, 165.3530, 2892,   1749.1,   2.5490,  34.6280,2,  34.6270,2,    156.1,2,    152.3,2,  -999.00,5,  -999.00,5,  -999.00,5
    09FA1089_2,      ,   235,  1,   -999,     18,2,19890915,1531,-34.4158, 165.3530, 2892,   1998.8,   2.2530,  34.6540,2,  34.6520,2,    155.4,2,    156.2,2,  -999.00,5,  -999.00,5,  -999.00,5
    09FA1089_2,      ,   235,  1,   -999,     10,2,19890915,1531,-34.4158, 165.3530, 2892,   2303.4,   2.0630,  34.6720,2,  34.6700,2,    156.1,2,    154.0,2,  -999.00,5,  -999.00,5,  -999.00,5
    09FA1089_2,      ,   235,  1,   -999,     13,2,19890915,1531,-34.4158, 165.3530, 2892,   2497.3,   1.9800,  34.6800,2,  34.6790,2,    155.9,2,    153.4,2,  -999.00,5,  -999.00,5,  -999.00,5
    09FA1089_2,      ,   235,  1,   -999,      4,2,19890915,1531,-34.4158, 165.3530, 2892,   2887.4,   1.9350,  34.6880,2,  34.6860,2,    156.9,2,    157.0,2,  -999.00,5,  -999.00,5,  -999.00,5