BOTTLE,20010820WHPSIOKJU
EXPOCODE,SECT_ID,STNNBR,CASTNO,SAMPNO,BTLNBR,BTLNBR_FLAG_W,DATE,TIME,LATITUDE,LONGITUDE,DEPTH,CTDPRS,CTDTMP,CTDSAL,CTDSAL_FLAG_W,SALNTY,SALNTY_FLAG_W,CTDOXY,CTDOXY_FLAG_W,OXYGEN,OXYGEN_FLAG_W,SILCAT,SILCAT_FLAG_W,NO2+NO3,NO2+NO3_FLAG_W,PHSPHT,PHSPHT_FLAG_W
,,,,,,,,,,,,DBR,ITS-90,PSS-78,,PSS-78,,UMOL/KG,,UMOL/KG,,UMOL/KG,,UMOL/KG,,UMOL/KG,
    09FA1089_1, PR13N,    29,  1,   -999,     26,2,19890817,0706,-43.2508, 153.5172, 4698,      3.7,  11.6610,  34.9450,2,  34.9440,2,    273.2,2,    256.5,2,     1.95,3,     6.52,3,     0.66,3
    09FA1089_1, PR13N,    29,  1,   -999,     11,2,19890817,0706,-43.2508, 153.5172, 4698,     48.1,  11.5980,  34.9380,2,  34.9390,2,    255.2,2,    256.0,2,     1.95,3,     6.52,3,     0.64,3
    09FA1089_1, PR13N,    29,  1,   -999,     29,2,19890817,0706,-43.2508, 153.5172, 4698,     98.2,  11.6400,  34.9500,2,  34.9510,2,    255.1,2,    257.7,2,     1.86,3,     6.68,3,     0.64,3
    09FA1089_1, PR13N,    29,  1,   -999,     13,2,19890817,0706,-43.2508, 153.5172, 4698,    148.7,  11.5480,  34.9300,2,  34.9310,2,    252.2,2,    257.4,2,     1.86,3,     6.68,3,     0.62,3
    09FA1089_1, PR13N,    29,  1,   -999,      2,2,19890817,0706,-43.2508, 153.5172, 4698,    198.9,  10.6490,  34.8370,2,  34.8120,2,    234.1,2,    234.1,2,     3.62,3,    13.37,3,     1.00,3
    09FA1089_1, PR13N,    29,  1,   -999,     19,2,19890817,0706,-43.2508, 153.5172, 4698,    298.1,   9.7680,  34.7290,2,  34.7300,2,    235.2,2,    230.2,2,     4.50,3,    15.04,3,     1.06,3
    09FA1089_1, PR13N,    29,  1,   -999,     24,2,19890817,0706,-43.2508, 153.5172, 4698,    398.7,   9.0480,  34.6260,2,  34.6290,2,    239.0,2,    240.3,2,     4.50,3,    16.05,3,     1.13,3
    09FA1089_1, PR13N,    29,  1,   -999,     28,2,19890817,0706,-43.2508, 153.5172, 4698,    498.9,   8.7320,  34.5880,2,  34.5900,2,    234.0,2,    237.0,2,     5.28,3,    17.39,3,     1.21,3
    09FA1089_1, PR13N,    29,  1,   -999,     18,2,19890817,0706,-43.2508, 153.5172, 4698,    599.1,   8.4240,  34.5690,2,  34.5690,2,    219.2,2,    219.9,2,     7.62,3,    19.73,3,     1.36,3
    09FA1089_1, PR13N,    29,  1,   -999,     37,2,19890817,0706,-43.2508, 153.5172, 4698,    797.5,   7.0090,  34.4840,2,  34.4900,2,    194.6,2,    194.5,2,    15.64,3,    24.08,3,     1.65,3
    09FA1089_1, PR13N,    29,  1,   -999,     31,2,19890817,0706,-43.2508, 153.5172, 4698,    997.9,   5.2300,  34.3890,2,  34.3960,2,    199.7,2,    196.2,2,    26.40,3,    28.93,3,     1.92,3
    09FA1089_1, PR13N,    29,  1,   -999,     22,2,19890817,0706,-43.2508, 153.5172, 4698,   1232.8,   3.8240,  34.4190,2,  34.4180,2,    187.1,2,    183.8,2,    46.53,3,    32.77,3,     2.27,3
    09FA1089_1, PR13N,    29,  1,   -999,     10,2,19890817,0706,-43.2508, 153.5172, 4698,   1474.1,   3.2270,  34.5130,2,  34.5150,2,    166.7,2,    164.0,2,    69.70,3,    35.61,3,     2.46,3
    09FA1089_1, PR13N,    29,  1,   -999,     20,2,19890817,0706,-43.2508, 153.5172, 4698,   1498.4,   3.2430,  34.5340,2,  34.5340,2,    165.8,2,    159.9,2,    74.68,3,    35.45,3,     2.52,3
    09FA1089_1, PR13N,    29,  1,   -999,     12,2,19890817,0706,-43.2508, 153.5172, 4698,   1748.8,   2.6860,  34.6030,2,  34.6030,2,    166.5,2,    161.0,2,    82.99,3,    35.61,3,     2.52,3
    09FA1089_1, PR13N,    29,  1,   -999,     17,2,19890817,0706,-43.2508, 153.5172, 4698,   2180.8,   2.2650,  34.6900,2,  34.6900,2,    177.2,2,    174.0,2,  -999.00,5,  -999.00,5,  -999.00,5
    09FA1089_1, PR13N,    29,  1,   -999,     30,2,19890817,0706,-43.2508, 153.5172, 4698,   2441.1,   2.0780,  34.7250,2,  34.7260,2,    182.8,2,    180.2,2,    89.63,3,    33.09,3,     2.33,3
    09FA1089_1, PR13N,    29,  1,   -999,      1,2,19890817,0706,-43.2508, 153.5172, 4698,   2498.7,   2.0350,  34.7300,2,  34.7260,2,    183.8,2,    182.0,2,  -999.00,5,  -999.00,5,  -999.00,5
    09FA1089_1, PR13N,    29,  1,   -999,      4,2,19890817,0706,-43.2508, 153.5172, 4698,   2832.8,   1.7770,  34.7370,2,  34.7340,2,    188.1,2,    186.0,2,  -999.00,5,  -999.00,5,  -999.00,5
    09FA1089_1, PR13N,    29,  1,   -999,      6,2,19890817,0706,-43.2508, 153.5172, 4698,   3384.4,   1.4400,  34.7320,2,  34.7280,2,    194.7,2,    194.0,2,   101.26,3,    33.44,3,     2.33,3
    09FA1089_1, PR13N,    29,  1,   -999,      5,2,19890817,0706,-43.2508, 153.5172, 4698,   3497.2,   1.3530,  34.7290,2,  34.7290,2,    195.7,2,    194.3,2,   101.26,3,    31.77,3,     2.15,3
    09FA1089_1, PR13N,    29,  1,   -999,      8,2,19890817,0706,-43.2508, 153.5172, 4698,   3998.5,   1.1090,  34.7190,2,  34.7180,2,    198.9,2,    198.5,2,   104.58,3,    31.77,3,     2.15,3
    09FA1089_1, PR13N,    29,  1,   -999,     21,2,19890817,0706,-43.2508, 153.5172, 4698,   4499.8,   0.9880,  34.7140,2,  34.7090,2,    204.1,2,    204.6,2,   121.20,3,    33.94,3,     2.36,3
    09FA1089_1, PR13N,    29,  1,   -999,      3,2,19890817,0706,-43.2508, 153.5172, 4698,   4697.7,   0.9630,  34.7120,2,  34.7080,2,    204.5,2,    203.8,2,   114.55,3,    33.09,3,     2.27,3
    09FA1089_1, PR13N,    31,  1,   -999,     11,2,19890817,1358,-43.2512, 154.4322, 4652,      3.6,  10.9710,  34.8000,2,  34.8000,2,    358.6,2,    262.7,2,     1.95,3,     8.52,3,     0.78,3
    09FA1089_1, PR13N,    31,  1,   -999,     26,2,19890817,1358,-43.2512, 154.4322, 4652,     49.4,  10.9750,  34.8000,2,  34.8020,2,    402.9,2,    261.9,2,     1.95,3,     8.69,3,     0.77,3
    09FA1089_1, PR13N,    31,  1,   -999,     29,2,19890817,1358,-43.2512, 154.4322, 4652,     98.8,  10.9860,  34.8020,2,  34.8030,2,    269.7,2,    260.4,2,     1.95,3,     8.69,3,     0.75,3
    09FA1089_1, PR13N,    31,  1,   -999,     13,2,19890817,1358,-43.2512, 154.4322, 4652,    149.0,  10.9950,  34.8100,2,  34.8100,2,    242.1,2,    259.8,2,     1.95,3,     8.69,3,     0.75,3
    09FA1089_1, PR13N,    31,  1,   -999,      2,2,19890817,1358,-43.2512, 154.4322, 4652,    198.7,   9.9130,  34.6990,2,  34.7040,2,    247.0,2,    242.0,2,     4.01,3,    15.04,3,     1.08,3
    09FA1089_1, PR13N,    31,  1,   -999,     19,2,19890817,1358,-43.2512, 154.4322, 4652,    297.9,   9.2950,  34.6220,2,  34.6250,2,    245.8,2,    247.4,2,     4.30,3,    16.05,3,     1.11,3
    09FA1089_1, PR13N,    31,  1,   -999,     24,2,19890817,1358,-43.2512, 154.4322, 4652,    399.4,   9.0220,  34.6130,2,  34.6170,2,    240.3,2,    245.0,2,     4.79,3,    17.22,3,     1.22,3
    09FA1089_1, PR13N,    31,  1,   -999,     28,2,19890817,1358,-43.2512, 154.4322, 4652,    498.1,   8.6370,  34.5690,2,  34.5710,2,    224.2,2,    242.0,2,     5.28,3,    17.72,3,     1.22,3
    09FA1089_1, PR13N,    31,  1,   -999,     18,2,19890817,1358,-43.2512, 154.4322, 4652,    598.8,   8.2930,  34.5410,2,  34.5420,2,    197.8,2,    225.8,2,     8.31,3,    21.40,3,     1.47,3
    09FA1089_1, PR13N,    31,  1,   -999,     27,2,19890817,1358,-43.2512, 154.4322, 4652,    797.3,   6.8890,  34.4730,2,  34.4740,2,    191.0,2,    194.8,2,    18.48,3,    27.59,3,     1.85,3
    09FA1089_1, PR13N,    31,  1,   -999,     31,2,19890817,1358,-43.2512, 154.4322, 4652,    999.2,   5.3480,  34.4220,2,  34.4230,2,    188.6,2,    188.2,2,    31.38,3,    31.26,3,     2.10,3
    09FA1089_1, PR13N,    31,  1,   -999,     22,2,19890817,1358,-43.2512, 154.4322, 4652,   1258.8,   3.6650,  34.4060,2,  34.4080,2,    172.1,2,    186.1,2,    46.53,3,    34.78,3,     2.38,3
    09FA1089_1, PR13N,    31,  1,   -999,     10,2,19890817,1358,-43.2512, 154.4322, 4652,   1468.6,   3.0830,  34.5020,2,  34.5070,2,    171.6,2,    169.3,2,    66.38,3,    36.11,3,     2.46,3
    09FA1089_1, PR13N,    31,  1,   -999,     20,2,19890817,1358,-43.2512, 154.4322, 4652,   1498.7,   3.0060,  34.5180,2,  34.5180,2,    168.0,2,    166.7,2,    68.13,3,    36.45,3,     2.49,3
    09FA1089_1, PR13N,    31,  1,   -999,     12,2,19890817,1358,-43.2512, 154.4322, 4652,   1748.2,   2.6360,  34.6040,2,  34.6050,2,    178.5,2,    162.8,2,    79.66,3,    36.27,3,     2.49,3
    09FA1089_1, PR13N,    31,  1,   -999,     17,2,19890817,1358,-43.2512, 154.4322, 4652,   2160.2,   2.2480,  34.6980,2,  34.6970,2,    184.0,2,    175.8,2,    84.64,3,    34.27,3,     2.38,3
    09FA1089_1, PR13N,    31,  1,   -999,     30,2,19890817,1358,-43.2512, 154.4322, 4652,   2443.4,   2.0650,  34.7250,2,  34.7220,2,    187.9,2,   -999.0,5,    89.63,3,    33.93,3,     2.33,3
    09FA1089_1, PR13N,    31,  1,   -999,      1,2,19890817,1358,-43.2512, 154.4322, 4652,   2498.1,   2.0190,  34.7290,2,  34.7270,2,    194.4,2,    182.0,2,    91.29,3,    33.93,3,     2.33,3
    09FA1089_1, PR13N,    31,  1,   -999,      4,2,19890817,1358,-43.2512, 154.4322, 4652,   2823.5,   1.7810,  34.7340,2,  34.7250,3,    195.6,2,    187.8,2,    92.95,3,    33.27,3,     2.28,3
    09FA1089_1, PR13N,    31,  1,   -999,      6,2,19890817,1358,-43.2512, 154.4322, 4652,   3383.4,   1.4050,  34.7300,2,  34.7270,2,    197.5,2,    193.1,2,   107.90,3,    33.77,3,     2.35,3
    09FA1089_1, PR13N,    31,  1,   -999,      5,2,19890817,1358,-43.2512, 154.4322, 4652,   3498.7,   1.3050,  34.7270,2,  34.7220,2,    201.8,2,    194.9,2,   109.57,3,    34.10,3,     2.35,3
    09FA1089_1, PR13N,    31,  1,   -999,      8,2,19890817,1358,-43.2512, 154.4322, 4652,   3998.1,   1.1080,  34.7180,2,  34.7160,2,    204.0,2,    196.1,2,   114.55,3,    34.78,3,     2.38,3
    09FA1089_1, PR13N,    31,  1,   -999,     21,2,19890817,1358,-43.2512, 154.4322, 4652,   4499.3,   1.0360,  34.7140,2,  34.7110,2,    204.0,2,    201.7,2,   121.20,3,    34.60,3,     2.38,3
    09FA1089_1, PR13N,    31,  1,   -999,      3,2,19890817,1358,-43.2512, 154.4322, 4652,   4649.7,   0.9860,  34.7120,2,  34.7120,2,    204.0,2,    201.1,2,   122.86,3,    34.60,3,     2.38,3
    09FA1089_1, PR13N,    33,  1,   -999,     11,2,19890817,2052,-43.2508, 155.3685, 4566,      3.2,  11.1960,  34.8380,2,  34.8390,2,    231.0,2,    261.6,2,     2.05,3,     8.23,3,     0.78,3
    09FA1089_1, PR13N,    33,  1,   -999,     26,2,19890817,2052,-43.2508, 155.3685, 4566,     49.5,  11.2480,  34.8580,2,  34.8510,2,    260.4,2,    259.2,2,     2.05,3,     8.23,3,     0.76,3
    09FA1089_1, PR13N,    33,  1,   -999,     29,2,19890817,2052,-43.2508, 155.3685, 4566,     98.9,  11.1450,  34.8330,2,  34.8320,2,    260.5,2,    259.2,2,     1.86,3,     8.23,3,     0.75,3
    09FA1089_1, PR13N,    33,  1,   -999,     13,2,19890817,2052,-43.2508, 155.3685, 4566,    148.3,  11.3460,  34.8800,2,  34.8810,2,    259.1,2,    258.0,2,     1.86,3,     8.03,3,     0.72,3
    09FA1089_1, PR13N,    33,  1,   -999,      2,2,19890817,2052,-43.2508, 155.3685, 4566,    198.4,  11.2940,  34.8650,2,  34.8670,2,    253.5,2,    257.1,2,     1.86,3,     8.03,3,     0.72,3
    09FA1089_1, PR13N,    33,  1,   -999,     19,2,19890817,2052,-43.2508, 155.3685, 4566,    299.2,   9.5080,  34.6790,2,  34.6700,2,    236.5,2,    240.0,2,     4.30,3,    16.08,3,     1.17,3
    09FA1089_1, PR13N,    33,  1,   -999,     24,2,19890817,2052,-43.2508, 155.3685, 4566,    400.4,   9.0600,  34.6300,2,  34.6300,2,    233.9,2,    238.8,2,     5.18,3,    17.80,3,     1.27,3
    09FA1089_1, PR13N,    33,  1,   -999,     18,2,19890817,2052,-43.2508, 155.3685, 4566,    599.4,   8.2040,  34.5170,2,  34.5230,2,    191.7,2,    235.2,2,     7.33,3,    20.87,3,     1.46,3
    09FA1089_1, PR13N,    33,  1,   -999,     27,2,19890817,2052,-43.2508, 155.3685, 4566,    798.6,   7.0350,  34.4880,2,  34.4930,2,    189.0,2,    191.5,2,    17.89,3,    27.37,3,     1.86,3
    09FA1089_1, PR13N,    33,  1,   -999,     31,2,19890817,2052,-43.2508, 155.3685, 4566,    998.9,   5.3020,  34.4150,2,  34.4190,2,    189.6,2,    188.2,2,    30.11,3,    31.40,3,     2.11,3
    09FA1089_1, PR13N,    33,  1,   -999,     22,2,19890817,2052,-43.2508, 155.3685, 4566,   1099.5,   4.6440,  34.4040,2,  34.4070,2,    185.8,2,    187.1,2,    37.05,3,    33.50,3,     2.28,3
    09FA1089_1, PR13N,    33,  1,   -999,     20,2,19890817,2052,-43.2508, 155.3685, 4566,   1468.3,   3.0390,  34.5070,2,  34.5090,2,    169.9,2,    169.6,2,  -999.00,5,  -999.00,5,  -999.00,5
    09FA1089_1, PR13N,    33,  1,   -999,     12,2,19890817,2052,-43.2508, 155.3685, 4566,   1499.2,   3.0030,  34.5250,2,  34.5270,2,    167.5,2,    166.1,2,    72.04,3,    36.76,3,     2.55,3
    09FA1089_1, PR13N,    33,  1,   -999,     17,2,19890817,2052,-43.2508, 155.3685, 4566,   1749.1,   2.5750,  34.6160,2,  -9.9999,5,    177.0,2,    163.4,2,    77.02,3,    35.60,3,     2.44,3
    09FA1089_1, PR13N,    33,  1,   -999,     30,2,19890817,2052,-43.2508, 155.3685, 4566,   2119.3,   2.2540,  34.6930,2,  34.6910,2,    183.5,2,    174.6,2,    83.76,3,    35.22,3,     2.41,3
    09FA1089_1, PR13N,    33,  1,   -999,      1,2,19890817,2052,-43.2508, 155.3685, 4566,   2448.3,   2.0250,  34.7270,2,  34.7250,2,    184.3,2,    181.4,2,    90.41,3,    34.64,3,     2.37,3
    09FA1089_1, PR13N,    33,  1,   -999,      4,2,19890817,2052,-43.2508, 155.3685, 4566,   2498.7,   1.9840,  34.7300,2,  34.7140,3,    187.2,2,    183.7,2,  -999.00,5,  -999.00,5,  -999.00,5
    09FA1089_1, PR13N,    33,  1,   -999,      6,2,19890817,2052,-43.2508, 155.3685, 4566,   2798.3,   1.7360,  34.7360,2,  34.7320,2,    192.5,2,    187.2,2,    97.15,3,    34.83,3,     2.38,3
    09FA1089_1, PR13N,    33,  1,   -999,      5,2,19890817,2052,-43.2508, 155.3685, 4566,   3327.8,   1.3670,  34.7300,2,  34.7250,2,    194.4,2,    193.4,2,   107.12,3,    35.03,3,     2.40,3
    09FA1089_1, PR13N,    33,  1,   -999,      8,2,19890817,2052,-43.2508, 155.3685, 4566,   3498.0,   1.2570,  34.7240,2,  34.7220,2,    196.3,2,    194.0,2,   112.20,3,    35.41,3,     2.40,3
    09FA1089_1, PR13N,    33,  1,   -999,     21,2,19890817,2052,-43.2508, 155.3685, 4566,   3998.9,   1.0800,  34.7170,2,  34.7150,2,    201.0,2,    197.3,2,   115.53,3,    35.79,3,     2.43,3
    09FA1089_1, PR13N,    33,  1,   -999,      3,2,19890817,2052,-43.2508, 155.3685, 4566,   4564.0,   0.9770,  34.7110,2,  34.7090,2,    201.0,2,    202.3,2,   122.27,3,    35.79,3,     2.43,3
    09FA1089_1, PR13N,    35,  1,   -999,     11,2,19890818,0328,-43.2473, 156.2907, 4720,      4.6,  12.6430,  35.1420,2,  35.1510,2,    262.1,2,    246.5,2,     2.15,3,     6.55,3,     0.67,3
    09FA1089_1, PR13N,    35,  1,   -999,     26,2,19890818,0328,-43.2473, 156.2907, 4720,     47.7,  12.6140,  35.1410,2,  35.1480,2,    247.3,2,    248.6,2,     2.05,3,     6.55,3,     0.64,3
    09FA1089_1, PR13N,    35,  1,   -999,     29,2,19890818,0328,-43.2473, 156.2907, 4720,     98.7,  12.6210,  35.1400,2,  35.1480,2,    249.5,2,    248.6,2,     2.05,3,     6.55,3,     0.63,3
    09FA1089_1, PR13N,    35,  1,   -999,     13,2,19890818,0328,-43.2473, 156.2907, 4720,    149.3,  12.6040,  35.1350,2,  35.1450,2,    250.8,2,    247.4,2,     2.05,3,     6.55,3,     0.63,3
    09FA1089_1, PR13N,    35,  1,   -999,      2,2,19890818,0328,-43.2473, 156.2907, 4720,    197.9,  11.7030,  35.0200,2,  35.0380,2,    217.5,2,    215.8,2,     3.81,3,    12.61,3,     0.93,3
    09FA1089_1, PR13N,    35,  1,   -999,     19,2,19890818,0328,-43.2473, 156.2907, 4720,    298.6,  10.3360,  34.8140,2,  34.8240,2,    226.5,2,    215.8,2,     5.18,3,    16.81,3,     1.18,3
    09FA1089_1, PR13N,    35,  1,   -999,     24,2,19890818,0328,-43.2473, 156.2907, 4720,    397.8,   9.2540,  34.6500,2,  34.6600,2,    232.7,2,    235.3,2,     5.18,3,    18.18,3,     1.27,3
    09FA1089_1, PR13N,    35,  1,   -999,     28,2,19890818,0328,-43.2473, 156.2907, 4720,    496.9,   8.6540,  34.5690,2,  34.5820,2,    229.9,2,    237.0,2,     6.16,3,    20.33,3,     1.40,3
    09FA1089_1, PR13N,    35,  1,   -999,     18,2,19890818,0328,-43.2473, 156.2907, 4720,    597.9,   8.1670,  34.5350,2,  34.5470,2,    209.0,2,    215.8,2,     9.19,3,    22.58,3,     1.50,3
    09FA1089_1, PR13N,    35,  1,   -999,     27,2,19890818,0328,-43.2473, 156.2907, 4720,    796.6,   6.7610,  34.4640,2,  34.4800,2,    195.2,2,    192.1,2,    19.75,3,    29.13,3,     1.92,3
    09FA1089_1, PR13N,    35,  1,   -999,     31,2,19890818,0328,-43.2473, 156.2907, 4720,    997.0,   5.1160,  34.4150,2,  34.4210,2,    187.1,2,    187.1,2,    32.65,3,    33.14,3,     2.21,3
    09FA1089_1, PR13N,    35,  1,   -999,     22,2,19890818,0328,-43.2473, 156.2907, 4720,   1214.8,   3.9780,  34.4530,2,  34.4560,2,    176.5,2,    173.7,2,    51.91,3,    36.37,3,     2.43,3
    09FA1089_1, PR13N,    35,  1,   -999,     20,2,19890818,0328,-43.2473, 156.2907, 4720,   1496.6,   3.0370,  34.5400,2,  34.5410,2,    166.9,2,    162.8,2,    70.28,3,    37.73,3,     2.52,3
    09FA1089_1, PR13N,    35,  1,   -999,     12,2,19890818,0328,-43.2473, 156.2907, 4720,   1749.4,   2.6200,  34.6140,2,  34.6130,2,    165.6,2,    161.6,2,    82.01,3,    37.93,3,     2.55,3
    09FA1089_1, PR13N,    35,  1,   -999,     17,2,19890818,0328,-43.2473, 156.2907, 4720,   2149.0,   2.2510,  34.6940,2,  34.6950,2,    176.1,2,    174.6,2,    83.76,3,    35.97,3,     2.44,3
    09FA1089_1, PR13N,    35,  1,   -999,     30,2,19890818,0328,-43.2473, 156.2907, 4720,   2444.2,   2.0330,  34.7230,2,  34.7240,2,    182.7,2,    182.2,2,    88.75,3,    35.19,3,     2.38,3
    09FA1089_1, PR13N,    35,  1,   -999,      1,2,19890818,0328,-43.2473, 156.2907, 4720,   2498.5,   1.9950,  34.7270,2,  34.7280,2,    183.2,2,    183.1,2,  -999.00,5,    35.38,3,     2.38,3
    09FA1089_1, PR13N,    35,  1,   -999,      4,2,19890818,0328,-43.2473, 156.2907, 4720,   2801.9,   1.7590,  34.7340,2,  34.7300,2,    187.0,2,    189.3,2,  -999.00,5,    34.11,3,     2.31,3
    09FA1089_1, PR13N,    35,  1,   -999,      6,2,19890818,0328,-43.2473, 156.2907, 4720,   3353.9,   1.3910,  34.7280,2,  34.7250,2,    192.3,2,    192.8,2,   102.14,3,    34.60,3,     2.33,3
    09FA1089_1, PR13N,    35,  1,   -999,      5,2,19890818,0328,-43.2473, 156.2907, 4720,   3500.5,   1.2790,  34.7240,2,  34.7220,2,    194.2,2,    194.6,2,   110.54,3,    35.77,3,     2.41,3
    09FA1089_1, PR13N,    35,  1,   -999,      8,2,19890818,0328,-43.2473, 156.2907, 4720,   3997.5,   1.0950,  34.7180,2,  34.7160,2,    196.9,2,    198.8,2,   115.53,3,    35.97,3,     2.43,3
    09FA1089_1, PR13N,    35,  1,   -999,     21,2,19890818,0328,-43.2473, 156.2907, 4720,   4500.7,   0.9980,  34.7120,2,  34.7110,2,    201.8,2,    203.1,2,   118.85,3,    36.16,3,     2.43,3
    09FA1089_1, PR13N,    35,  1,   -999,      3,2,19890818,0328,-43.2473, 156.2907, 4720,   4720.5,   0.9780,  34.7090,2,  34.7110,2,    201.5,2,    202.6,2,   113.87,3,    34.80,3,     2.33,3