BOTTLE,20010820WHPSIOKJU
EXPOCODE,SECT_ID,STNNBR,CASTNO,SAMPNO,BTLNBR,BTLNBR_FLAG_W,DATE,TIME,LATITUDE,LONGITUDE,DEPTH,CTDPRS,CTDTMP,CTDSAL,CTDSAL_FLAG_W,SALNTY,SALNTY_FLAG_W,CTDOXY,CTDOXY_FLAG_W,OXYGEN,OXYGEN_FLAG_W,SILCAT,SILCAT_FLAG_W,NO2+NO3,NO2+NO3_FLAG_W,PHSPHT,PHSPHT_FLAG_W
,,,,,,,,,,,,DBR,ITS-90,PSS-78,,PSS-78,,UMOL/KG,,UMOL/KG,,UMOL/KG,,UMOL/KG,,UMOL/KG,
    09FA1089_2,      ,   315,  1,   -999,     22,2,19890925,1547,-40.1628, 149.3475, 2970,      5.7,  14.5670,  35.4300,2,  35.4240,2,    246.4,2,    247.9,2,     1.66,3,     1.55,3,     0.41,3
    09FA1089_2,      ,   315,  1,   -999,     19,2,19890925,1547,-40.1628, 149.3475, 2970,     49.6,  14.5990,  35.4370,2,  35.4340,2,    244.1,2,    246.6,2,     1.47,3,     1.20,3,     0.40,3
    09FA1089_2,      ,   315,  1,   -999,     34,2,19890925,1547,-40.1628, 149.3475, 2970,    100.1,  14.4850,  35.4230,2,  35.4190,2,    242.2,2,    241.4,2,     1.66,3,     2.07,3,     0.44,3
    09FA1089_2,      ,   315,  1,   -999,      1,2,19890925,1547,-40.1628, 149.3475, 2970,    155.3,  13.7280,  35.3290,2,  35.3270,2,    223.4,2,    223.2,2,     2.93,3,     5.17,3,     0.65,3
    09FA1089_2,      ,   315,  1,   -999,     31,2,19890925,1547,-40.1628, 149.3475, 2970,    200.8,  13.1170,  35.2350,2,  35.2390,2,    209.4,2,    206.3,2,     3.71,3,     7.76,3,     0.78,3
    09FA1089_2,      ,   315,  1,   -999,     13,2,19890925,1547,-40.1628, 149.3475, 2970,    295.8,  11.5780,  35.0180,2,  35.0220,2,    197.8,2,    199.8,2,     5.37,3,    12.41,3,     1.03,3
    09FA1089_2,      ,   315,  1,   -999,     27,2,19890925,1547,-40.1628, 149.3475, 2970,    396.3,  10.1000,  34.8060,2,  34.8080,2,    194.8,2,    195.2,2,     7.82,3,    17.06,3,     1.26,3
    09FA1089_2,      ,   315,  1,   -999,      3,2,19890925,1547,-40.1628, 149.3475, 2970,    497.5,   9.0050,  34.6680,2,  34.6670,2,    201.5,2,    205.3,2,     8.89,3,    19.14,3,     1.37,3
    09FA1089_2,      ,   315,  1,   -999,     10,2,19890925,1547,-40.1628, 149.3475, 2970,    597.7,   8.3110,  34.6080,2,  34.6080,2,    190.0,2,    191.2,2,    13.78,3,    22.24,3,     1.53,3
    09FA1089_2,      ,   315,  1,   -999,      5,2,19890925,1547,-40.1628, 149.3475, 2970,    798.8,   6.6030,  34.4910,2,  34.4940,2,    183.7,2,    185.3,2,    24.24,3,    26.90,3,     1.88,3
    09FA1089_2,      ,   315,  1,   -999,      6,2,19890925,1547,-40.1628, 149.3475, 2970,    948.1,   5.4860,  34.4630,2,  34.4640,2,    178.3,2,    178.8,2,    35.97,3,    29.83,3,     2.07,3
    09FA1089_2,      ,   315,  1,   -999,     12,2,19890925,1547,-40.1628, 149.3475, 2970,    998.2,   5.1290,  34.4600,2,  34.4700,2,    177.2,2,    177.6,2,    40.86,3,    30.52,3,     2.10,3
    09FA1089_2,      ,   315,  1,   -999,     17,2,19890925,1547,-40.1628, 149.3475, 2970,   1172.9,   4.1990,  34.4910,2,  34.4940,2,    168.6,2,    167.8,2,    70.78,3,    33.11,3,     2.28,3
    09FA1089_2,      ,   315,  1,   -999,     18,2,19890925,1547,-40.1628, 149.3475, 2970,   1443.4,   3.1720,  34.5590,2,  34.5560,2,    159.7,2,    157.0,2,    91.30,3,    35.17,3,     2.44,3
    09FA1089_2,      ,   315,  1,   -999,     29,2,19890925,1547,-40.1628, 149.3475, 2970,   1748.5,   2.5930,  34.6300,2,  34.6480,3,    160.8,2,    161.6,2,    96.87,3,    33.97,3,     2.35,3
    09FA1089_2,      ,   315,  1,   -999,     24,2,19890925,1547,-40.1628, 149.3475, 2970,   1997.7,   2.3050,  34.6780,2,  34.6760,2,    169.2,2,    168.9,2,   100.58,3,    33.62,3,     2.34,3
    09FA1089_2,      ,   315,  1,   -999,     58,2,19890925,1547,-40.1628, 149.3475, 2970,   2097.0,   2.2110,  34.6950,2,  34.6920,2,    171.9,2,    169.2,2,   100.58,3,    33.27,3,     2.29,3
    09FA1089_2,      ,   315,  1,   -999,      4,2,19890925,1547,-40.1628, 149.3475, 2970,   2498.7,   1.9470,  34.7270,2,  34.7360,3,    180.2,2,    171.3,3,  -999.00,5,  -999.00,5,  -999.00,5
    09FA1089_2,      ,   315,  1,   -999,      9,2,19890925,1547,-40.1628, 149.3475, 2970,   2879.4,   1.7170,  34.7380,2,  34.7330,2,    185.1,2,    187.0,2,   113.67,3,    31.76,3,  -999.00,5
    09FA1089_2,      ,   315,  1,   -999,     28,2,19890925,1547,-40.1628, 149.3475, 2970,   2968.4,   1.6400,  34.7360,2,  34.7320,2,    186.4,2,    189.2,2,   113.67,3,    31.55,3,     2.23,3
    09FA1089_2,      ,   317,  1,   -999,     22,2,19890925,1926,-40.1847, 149.1058, 1940,      4.4,  14.5190,  35.4270,2,  35.4250,2,    246.7,2,    256.2,3,     1.66,3,     1.72,3,     0.44,3
    09FA1089_2,      ,   317,  1,   -999,      1,2,19890925,1926,-40.1847, 149.1058, 1940,     47.3,  14.5280,  35.4290,2,  35.4260,2,    242.9,2,    243.6,2,     1.47,3,     1.90,3,     0.43,3
    09FA1089_2,      ,   317,  1,   -999,     27,2,19890925,1926,-40.1847, 149.1058, 1940,    109.3,  14.4570,  35.4250,2,  35.4250,2,    241.1,2,    240.8,2,     2.05,3,     2.24,3,     0.47,3
    09FA1089_2,      ,   317,  1,   -999,      3,2,19890925,1926,-40.1847, 149.1058, 1940,    148.1,  13.9410,  35.3660,2,  35.3650,2,    222.3,2,    223.2,2,     2.93,3,     3.61,3,     0.60,3
    09FA1089_2,      ,   317,  1,   -999,     10,2,19890925,1926,-40.1847, 149.1058, 1940,    298.4,  11.3050,  34.9660,2,  34.9670,2,    190.6,2,    192.8,2,     6.74,3,    13.27,3,     1.10,3
    09FA1089_2,      ,   317,  1,   -999,      5,2,19890925,1926,-40.1847, 149.1058, 1940,    397.5,   9.7890,  34.7700,2,  34.7650,2,    195.5,2,    196.4,2,     6.74,3,    13.11,3,     1.14,3
    09FA1089_2,      ,   317,  1,   -999,      6,2,19890925,1926,-40.1847, 149.1058, 1940,    497.3,   8.8100,  34.6550,2,  34.6530,2,    193.3,2,    194.9,2,    10.65,3,    19.14,3,     1.46,3
    09FA1089_2,      ,   317,  1,   -999,     12,2,19890925,1926,-40.1847, 149.1058, 1940,    597.7,   8.0260,  34.5830,2,  34.5870,2,    188.7,2,    190.0,2,    14.17,3,    21.55,3,     1.60,3
    09FA1089_2,      ,   317,  1,   -999,     17,2,19890925,1926,-40.1847, 149.1058, 1940,    801.5,   6.3260,  34.4830,2,  34.4850,2,    183.3,2,    185.0,2,    26.10,3,    26.55,3,     1.91,3
    09FA1089_2,      ,   317,  1,   -999,     18,2,19890925,1926,-40.1847, 149.1058, 1940,    910.0,   5.5960,  34.4650,2,  34.4660,2,    180.5,2,    181.6,2,    33.73,3,    28.62,3,     2.01,3
    09FA1089_2,      ,   317,  1,   -999,     29,2,19890925,1926,-40.1847, 149.1058, 1940,    998.3,   5.1760,  34.4680,2,  34.4700,2,    176.4,2,    177.9,2,    40.08,3,    29.83,3,     2.09,3
    09FA1089_2,      ,   317,  1,   -999,     24,2,19890925,1926,-40.1847, 149.1058, 1940,   1188.5,   4.1930,  34.4930,2,  34.4970,2,    168.0,2,    166.8,2,    68.92,3,    32.76,3,     2.26,3
    09FA1089_2,      ,   317,  1,   -999,     58,2,19890925,1926,-40.1847, 149.1058, 1940,   1411.6,   3.2340,  34.5580,2,  34.5590,2,    159.6,2,    154.5,2,    91.30,3,    34.83,3,     2.38,3
    09FA1089_2,      ,   317,  1,   -999,      4,2,19890925,1926,-40.1847, 149.1058, 1940,   1497.9,   2.9400,  34.5890,2,  34.5910,2,    158.1,2,    156.4,2,    96.87,3,    34.83,3,     2.41,3
    09FA1089_2,      ,   317,  1,   -999,      9,2,19890925,1926,-40.1847, 149.1058, 1940,   1747.1,   2.4960,  34.6470,2,  34.6460,2,    164.1,2,    161.9,2,   100.58,3,    33.97,3,     2.34,3
    09FA1089_2,      ,   317,  1,   -999,     28,2,19890925,1926,-40.1847, 149.1058, 1940,   1939.2,   2.2320,  34.6890,2,  34.6870,2,    171.0,2,    170.5,2,   102.43,3,    33.11,3,     2.28,3
    09FA1089_2,      ,   319,  1,   -999,     22,2,19890925,2214,-40.3020, 148.9407,  970,      5.0,  14.4920,  35.4210,2,  35.4180,2,    250.0,2,    246.6,2,     1.66,3,     1.79,3,     0.43,3
    09FA1089_2,      ,   319,  1,   -999,      3,2,19890925,2214,-40.3020, 148.9407,  970,     48.2,  14.4910,  35.4220,2,  35.4160,2,    246.6,2,    245.1,2,     1.47,3,     1.79,3,     0.43,3
    09FA1089_2,      ,   319,  1,   -999,      6,2,19890925,2214,-40.3020, 148.9407,  970,     73.5,  14.4320,  35.4160,2,  35.4160,2,    237.2,2,    242.3,2,     1.66,3,     1.79,3,     0.45,3
    09FA1089_2,      ,   319,  1,   -999,     12,2,19890925,2214,-40.3020, 148.9407,  970,    100.7,  14.1490,  35.3860,2,  35.3880,2,    232.7,2,    231.6,2,     2.64,3,     3.40,3,     0.62,3
    09FA1089_2,      ,   319,  1,   -999,     27,2,19890925,2214,-40.3020, 148.9407,  970,    148.8,  13.5500,  35.2940,2,  35.3030,2,    222.0,2,    212.8,2,     3.61,3,     6.26,3,     0.75,3
    09FA1089_2,      ,   319,  1,   -999,     18,2,19890925,2214,-40.3020, 148.9407,  970,    198.1,  13.0320,  35.2580,2,  35.2480,2,    241.4,2,    231.5,2,     3.22,3,     5.19,3,     0.68,3
    09FA1089_2,      ,   319,  1,   -999,     29,2,19890925,2214,-40.3020, 148.9407,  970,    299.0,  11.8760,  35.0550,2,  35.0530,2,    200.1,2,    198.3,2,     5.47,3,    12.18,3,     1.05,3
    09FA1089_2,      ,   319,  1,   -999,     24,2,19890925,2214,-40.3020, 148.9407,  970,    398.5,  10.6100,  34.8750,2,  34.8710,2,    205.0,2,    207.2,2,     6.06,3,    14.33,3,     1.18,3
    09FA1089_2,      ,   319,  1,   -999,     58,2,19890925,2214,-40.3020, 148.9407,  970,    499.0,   9.1950,  34.6760,2,  34.6740,2,    214.8,2,    218.6,2,     6.94,3,    17.37,3,     1.35,3
    09FA1089_2,      ,   319,  1,   -999,      4,2,19890925,2214,-40.3020, 148.9407,  970,    599.6,   8.4820,  34.5970,2,  34.6000,2,    206.2,2,    209.6,2,     9.77,3,    20.41,3,     1.52,3
    09FA1089_2,      ,   319,  1,   -999,      9,2,19890925,2214,-40.3020, 148.9407,  970,    798.5,   7.3260,  34.5330,2,  34.5350,2,    185.8,2,    188.1,2,    18.08,3,    25.25,3,     1.81,3
    09FA1089_2,      ,   319,  1,   -999,     28,2,19890925,2214,-40.3020, 148.9407,  970,    969.6,   5.6960,  34.4780,2,  34.4800,2,    180.1,2,    182.5,2,    32.94,3,    29.73,3,     2.09,3
    09FA1089_2,      ,   321,  1,   -999,     22,2,19890925,2341,-40.3158, 148.8718,  220,      5.8,  14.3980,  35.4190,2,  35.4010,2,    250.3,2,    246.0,2,     2.05,3,     1.79,3,     0.50,3
    09FA1089_2,      ,   321,  1,   -999,      8,2,19890925,2341,-40.3158, 148.8718,  220,     48.8,  14.2850,  35.4130,2,  35.4080,2,    246.2,2,    241.4,2,     2.05,3,     2.69,3,     0.51,3
    09FA1089_2,      ,   321,  1,   -999,      4,2,19890925,2341,-40.3158, 148.8718,  220,     98.6,  13.4620,  35.3150,2,  35.3160,2,    236.3,2,    234.3,2,     2.44,3,     3.76,3,     0.63,3
    09FA1089_2,      ,   321,  1,   -999,     17,2,19890925,2341,-40.3158, 148.8718,  220,    147.4,  12.9730,  35.2590,2,  35.2630,2,    233.7,2,    235.5,2,     2.64,3,     4.11,3,     0.63,3
    09FA1089_2,      ,   321,  1,   -999,     28,2,19890925,2341,-40.3158, 148.8718,  220,    218.0,  12.9760,  35.2580,2,  35.2580,2,    233.8,2,    236.7,2,     2.64,3,     4.11,3,     0.65,3
    09FA1089_2,      ,   323,  1,   -999,      4,2,19890926,0043,-40.3458, 148.7703,   84,      4.3,  13.5680,  35.3330,2,  35.3360,2,    248.6,2,    250.6,2,     1.86,3,     1.79,3,     0.50,3
    09FA1089_2,      ,   323,  1,   -999,     17,2,19890926,0043,-40.3458, 148.7703,   84,     44.0,  13.2810,  35.3040,2,  35.3060,2,    245.5,2,    243.5,2,     2.05,3,     2.69,3,     0.56,3
    09FA1089_2,      ,   323,  1,   -999,     28,2,19890926,0043,-40.3458, 148.7703,   84,     83.8,  12.8180,  35.2620,2,  35.2560,2,    238.0,2,    238.0,2,     2.44,3,     3.40,3,     0.63,3
    09FA1089_2,      ,   325,  1,   -999,     17,2,19890926,0121,-40.3660, 148.6977,   44,      5.3,  13.1600,  35.3060,2,  35.3070,2,    255.2,2,    254.9,2,     1.47,3,     1.25,3,     0.48,3