BOTTLE,20020117WHPSIOKJU
EXPOCODE,SECT_ID,STNNBR,CASTNO,SAMPNO,BTLNBR,BTLNBR_FLAG_W,DATE,TIME,LATITUDE,LONGITUDE,DEPTH,CTDPRS,CTDTMP,CTDSAL,CTDSAL_FLAG_W,SALNTY,SALNTY_FLAG_W,CTDOXY,CTDOXY_FLAG_W,OXYGEN,OXYGEN_FLAG_W,SILCAT,SILCAT_FLAG_W,NITRAT,NITRAT_FLAG_W,NITRIT,NITRIT_FLAG_W,PHSPHT,PHSPHT_FLAG_W,REVPRS,THETA,REVTMP
,,,,,,,,,,,,DBAR,ITS-90,PSS-78,,PSS-78,,UMOL/KG,,UMOL/KG,,UMOL/KG,,UMOL/KG,,UMOL/KG,,UMOL/KG,,DBAR,ITS-90,ITS-90
     64PE95N_1,  AR12,   103,  1,     24,   X024,2,19950807,1316, 44.6147,  -4.9067, 4455,     10.0,  20.1838,  35.5428,2,  35.5425,2,    230.2,2,    230.0,6,     0.48,2,     0.00,2,     0.03,2,     0.03,2,  -999.0, 20.1819,-999.000
     64PE95N_1,  AR12,   103,  1,     23,   X023,2,19950807,1316, 44.6147,  -4.9067, 4455,    101.0,  12.3197,  35.5723,2,  35.5722,2,    246.6,2,    245.6,2,     1.41,2,     5.13,2,     0.05,2,     0.33,2,  -999.0, 12.3063,-999.000
     64PE95N_1,  AR12,   103,  1,     22,   X022,2,19950807,1316, 44.6147,  -4.9067, 4455,    201.0,  11.8789,  35.5965,2,-999.0000,9,    243.7,2,   -999.0,9,     2.22,2,     7.37,2,     0.02,2,     0.47,2,  -999.0, 11.8526,-999.000
     64PE95N_1,  AR12,   103,  1,     21,   X021,2,19950807,1316, 44.6147,  -4.9067, 4455,    303.0,  11.5610,  35.6021,2,  35.6028,2,    236.4,2,    236.7,2,     3.04,2,     9.44,2,     0.03,2,     0.59,2,  -999.0, 11.5220,-999.000
     64PE95N_1,  AR12,   103,  1,     20,   X027,2,19950807,1316, 44.6147,  -4.9067, 4455,    403.0,  11.1921,  35.5594,2,-999.0000,9,    232.7,2,   -999.0,9,     3.87,2,    11.06,2,     0.01,2,     0.68,2,  -999.0, 11.1410,-999.000
     64PE95N_1,  AR12,   103,  1,     19,   X019,2,19950807,1316, 44.6147,  -4.9067, 4455,    504.0,  11.0173,  35.5675,2,  35.5674,2,    223.2,2,    224.1,2,     4.51,2,    12.21,2,     0.01,2,     0.74,2,  -999.0, 10.9538,-999.000
     64PE95N_1,  AR12,   103,  1,     18,   X018,2,19950807,1316, 44.6147,  -4.9067, 4455,    606.0,  10.6849,  35.5486,2,-999.0000,9,    215.9,2,   -999.0,9,     5.54,2,    13.47,2,     0.01,2,     0.82,2,  -999.0, 10.6096,-999.000
     64PE95N_1,  AR12,   103,  1,     17,   X017,2,19950807,1316, 44.6147,  -4.9067, 4455,    808.0,  10.2100,  35.6434,2,  35.6443,2,    194.4,2,    193.1,2,     8.26,2,    16.14,2,     0.03,2,     1.00,2,  -999.0, 10.1115,-999.000
     64PE95N_1,  AR12,   103,  1,     16,   X016,2,19950807,1316, 44.6147,  -4.9067, 4455,   1011.0,   9.9462,  35.7913,2,-999.0000,9,    187.7,2,   -999.0,9,     9.48,2,    16.79,2,     0.01,2,     1.05,2,  -999.0,  9.8233,-999.000
     64PE95N_1,  AR12,   103,  1,     15,   X015,4,19950807,1316, 44.6147,  -4.9067, 4455,   1265.0,   8.3469,  35.6100,2,  35.6043,4,    199.6,2,    201.8,4,    11.34,4,    17.66,4,     0.02,4,     1.11,4,  -999.0,  8.2059,-999.000
     64PE95N_1,  AR12,   103,  1,     14,   X014,2,19950807,1316, 44.6147,  -4.9067, 4455,   1519.0,   6.2315,  35.3093,2,-999.0000,9,    221.9,2,   -999.0,9,    13.44,2,    18.26,2,     0.02,2,     1.18,2,  -999.0,  6.0836,-999.000
     64PE95N_1,  AR12,   103,  1,     13,   X026,2,19950807,1316, 44.6147,  -4.9067, 4455,   1772.0,   4.8126,  35.1286,2,  35.1273,2,    237.4,2,    240.0,6,    16.60,2,    18.58,2,     0.01,2,     1.23,2,  -999.0,  4.6559,-999.000
     64PE95N_1,  AR12,   103,  1,     12,   X029,2,19950807,1316, 44.6147,  -4.9067, 4455,   2027.0,   4.0196,  35.0440,2,-999.0000,9,    244.1,2,   -999.0,9,    20.64,2,    19.13,2,     0.02,2,     1.26,2,  -999.0,  3.8489,-999.000
     64PE95N_1,  AR12,   103,  1,     11,   X011,4,19950807,1316, 44.6147,  -4.9067, 4455,   2282.0,   3.5288,  35.0021,2,  35.5490,4,    245.1,2,    225.6,4,     6.51,4,    12.47,4,     0.02,4,     0.78,4,  -999.0,  3.3408,-999.000
     64PE95N_1,  AR12,   103,  1,     10,   X025,2,19950807,1316, 44.6147,  -4.9067, 4455,   2536.0,   3.1694,  34.9732,2,-999.0000,9,    244.8,2,   -999.0,9,    28.72,2,    20.22,2,     0.04,2,     1.36,2,  -999.0,  2.9626,-999.000
     64PE95N_1,  AR12,   103,  1,      9,   X009,2,19950807,1316, 44.6147,  -4.9067, 4455,   2791.0,   2.9177,  34.9527,2,  34.9509,2,    242.9,2,    245.8,2,    32.41,2,    20.67,2,     0.02,2,     1.41,2,  -999.0,  2.6902,-999.000
     64PE95N_1,  AR12,   103,  1,      8,   X008,2,19950807,1316, 44.6147,  -4.9067, 4455,   3047.0,   2.7474,  34.9382,2,-999.0000,9,    242.4,2,   -999.0,9,    35.27,2,    21.12,2,     0.04,2,     1.44,2,  3048.0,  2.4972,   2.747
     64PE95N_1,  AR12,   103,  1,      7,   X007,2,19950807,1316, 44.6147,  -4.9067, 4455,   3303.0,   2.6336,  34.9272,2,  34.9276,2,    241.2,2,    242.9,2,    37.87,2,    21.54,2,     0.01,2,     1.47,2,  -999.0,  2.3590,-999.000
     64PE95N_1,  AR12,   103,  1,      6,   X006,2,19950807,1316, 44.6147,  -4.9067, 4455,   3560.0,   2.5561,  34.9186,2,-999.0000,9,    240.4,2,   -999.0,9,    40.08,2,    21.87,2,     0.00,2,     1.49,2,  3559.0,  2.2557,   2.555
     64PE95N_1,  AR12,   103,  1,      5,   X005,2,19950807,1316, 44.6147,  -4.9067, 4455,   3815.0,   2.5202,  34.9130,2,  34.9115,2,    239.6,2,    240.9,2,    41.53,2,    22.01,2,     0.00,2,     1.50,2,  -999.0,  2.1924,-999.000
     64PE95N_1,  AR12,   103,  1,      4,   X004,4,19950807,1316, 44.6147,  -4.9067, 4455,   4073.0,   2.4896,  34.9072,2,-999.0000,9,    239.1,2,   -999.0,9,     8.08,4,    12.46,4,     0.02,4,     0.79,4,  4076.0,  2.1332,   2.490
     64PE95N_1,  AR12,   103,  1,      2,   X030,2,19950807,1316, 44.6147,  -4.9067, 4455,   4328.0,   2.4870,  34.9036,2,  34.9019,2,    237.4,2,    238.7,2,    43.85,2,    22.42,2,     0.02,2,     1.52,2,  4321.0,  2.1007,   2.484
     64PE95N_1,  AR12,   103,  1,      3,   X028,2,19950807,1316, 44.6147,  -4.9067, 4455,   4328.0,   2.4873,  34.9037,2,  34.9022,2,    237.4,2,    238.6,2,    43.97,2,    22.43,2,     0.00,2,     1.53,2,  -999.0,  2.1010,-999.000
     64PE95N_1,  AR12,   103,  1,      1,   X001,2,19950807,1316, 44.6147,  -4.9067, 4455,   4567.0,   2.5039,  34.9019,2,  34.9010,6,    237.2,2,    237.2,6,    44.44,6,    22.48,6,     0.04,6,     1.54,6,  -999.0,  2.0883,-999.000
     64PE95N_1,  AR12,   104,  1,     24,   X024,2,19950807,1833, 44.3335,  -5.3335, 4568,     10.0,  20.3580,  35.6067,3,  35.6117,2,    230.1,2,    229.8,6,     0.40,2,     0.03,2,     0.03,2,     0.04,2,  -999.0, 20.3560,-999.000
     64PE95N_1,  AR12,   104,  1,     23,   X023,2,19950807,1833, 44.3335,  -5.3335, 4568,    101.0,  12.2193,  35.5851,2,  35.5853,2,    246.0,2,    245.3,2,     1.60,2,     5.76,2,     0.06,2,     0.37,2,  -999.0, 12.2059,-999.000
     64PE95N_1,  AR12,   104,  1,     22,   X022,2,19950807,1833, 44.3335,  -5.3335, 4568,    201.0,  11.7150,  35.5843,2,-999.0000,9,    245.9,2,   -999.0,9,     2.29,2,     7.61,2,     0.05,2,     0.48,2,  -999.0, 11.6889,-999.000
     64PE95N_1,  AR12,   104,  1,     21,   X021,2,19950807,1833, 44.3335,  -5.3335, 4568,    303.0,  11.4516,  35.5759,2,  35.5764,2,    242.6,2,   -999.0,9,     3.13,2,     9.43,2,     0.04,2,     0.59,2,  -999.0, 11.4129,-999.000
     64PE95N_1,  AR12,   104,  1,     20,   X027,2,19950807,1833, 44.3335,  -5.3335, 4568,    405.0,  11.2944,  35.5844,2,-999.0000,9,    233.2,2,   -999.0,9,     3.65,2,    10.60,2,     0.02,2,     0.65,2,  -999.0, 11.2428,-999.000
     64PE95N_1,  AR12,   104,  1,     19,   X019,2,19950807,1833, 44.3335,  -5.3335, 4568,    453.0,  11.1644,  35.5733,2,  35.5728,2,    230.2,2,    229.9,2,     4.00,2,    11.37,2,     0.02,2,     0.70,2,  -999.0, 11.1070,-999.000
     64PE95N_1,  AR12,   104,  1,     18,   X018,2,19950807,1833, 44.3335,  -5.3335, 4568,    604.0,  10.7599,  35.5562,2,-999.0000,9,    218.6,2,   -999.0,9,     5.38,2,    13.31,2,     0.03,2,     0.82,2,  -999.0, 10.6846,-999.000
     64PE95N_1,  AR12,   104,  1,     17,   X017,2,19950807,1833, 44.3335,  -5.3335, 4568,    807.0,  10.2342,  35.6817,2,  35.6834,2,    195.4,2,    192.7,2,     8.12,2,    16.07,2,     0.04,2,     1.00,2,  -999.0, 10.1355,-999.000
     64PE95N_1,  AR12,   104,  1,     16,   X016,2,19950807,1833, 44.3335,  -5.3335, 4568,   1010.0,   9.7907,  35.7621,2,-999.0000,9,    192.1,2,   -999.0,9,     9.44,2,    16.75,2,     0.01,2,     1.03,2,  -999.0,  9.6691,-999.000
     64PE95N_1,  AR12,   104,  1,     15,   X015,2,19950807,1833, 44.3335,  -5.3335, 4568,   1265.0,   8.6291,  35.6683,2,  35.6649,2,    198.9,2,    199.9,2,    11.02,2,    17.33,2,     0.02,2,     1.09,2,  -999.0,  8.4854,-999.000
     64PE95N_1,  AR12,   104,  1,     14,   X014,4,19950807,1833, 44.3335,  -5.3335, 4568,   1517.0,   6.7668,  35.3958,2,-999.0000,9,    217.1,2,   -999.0,9,     5.52,4,    11.67,4,     0.04,4,     0.74,4,  -999.0,  6.6130,-999.000
     64PE95N_1,  AR12,   104,  1,     13,   X026,2,19950807,1833, 44.3335,  -5.3335, 4568,   1771.0,   5.0795,  35.1549,2,  35.1527,2,    237.3,2,    240.9,2,    14.98,2,    18.41,2,     0.04,2,     1.21,2,  -999.0,  4.9194,-999.000
     64PE95N_1,  AR12,   104,  1,     12,   X029,2,19950807,1833, 44.3335,  -5.3335, 4568,   2028.0,   4.0195,  35.0397,2,-999.0000,9,    246.0,2,   -999.0,9,    19.66,2,    18.97,2,     0.01,2,     1.26,2,  -999.0,  3.8487,-999.000
     64PE95N_1,  AR12,   104,  1,     11,   X011,4,19950807,1833, 44.3335,  -5.3335, 4568,   2281.0,   3.4842,  34.9951,2,  35.5633,4,    248.3,2,    230.0,4,     5.39,4,    10.93,4,     0.03,4,     0.69,4,  -999.0,  3.2970,-999.000
     64PE95N_1,  AR12,   104,  1,     10,   X025,2,19950807,1833, 44.3335,  -5.3335, 4568,   2535.0,   3.1741,  34.9719,2,-999.0000,9,    247.5,2,   -999.0,9,    27.62,2,    19.99,2,     0.04,2,     1.35,2,  -999.0,  2.9674,-999.000
     64PE95N_1,  AR12,   104,  1,      9,   X009,2,19950807,1833, 44.3335,  -5.3335, 4568,   2791.0,   2.9230,  34.9527,2,  34.9517,2,    246.2,2,    248.6,2,    31.61,2,    20.56,2,     0.04,2,     1.39,2,  -999.0,  2.6954,-999.000
     64PE95N_1,  AR12,   104,  1,      8,   X008,2,19950807,1833, 44.3335,  -5.3335, 4568,   3046.0,   2.7491,  34.9385,2,-999.0000,9,    244.7,2,   -999.0,9,    34.79,2,    21.11,2,     0.02,2,     1.44,2,  3047.0,  2.4989,   2.749
     64PE95N_1,  AR12,   104,  1,      7,   X007,2,19950807,1833, 44.3335,  -5.3335, 4568,   3304.0,   2.6400,  34.9278,2,  34.9302,2,    242.5,2,    245.9,2,    36.96,2,    21.27,2,     0.03,2,     1.45,2,  -999.0,  2.3651,-999.000
     64PE95N_1,  AR12,   104,  1,      6,   X006,2,19950807,1833, 44.3335,  -5.3335, 4568,   3558.0,   2.5674,  34.9196,2,-999.0000,9,    241.7,2,   -999.0,9,    39.59,2,    21.71,2,     0.05,2,     1.49,2,  3562.0,  2.2669,   2.569
     64PE95N_1,  AR12,   104,  1,      5,   X005,4,19950807,1833, 44.3335,  -5.3335, 4568,   3815.0,   2.5172,  34.9124,2,  35.5465,4,    240.7,2,    228.9,4,     6.66,4,    11.44,4,     0.08,4,     0.74,4,  -999.0,  2.1894,-999.000
     64PE95N_1,  AR12,   104,  1,      4,   X004,2,19950807,1833, 44.3335,  -5.3335, 4568,   4072.0,   2.4878,  34.9066,2,-999.0000,9,    239.9,2,   -999.0,9,    42.71,2,    22.08,2,     0.08,2,     1.52,2,  4076.0,  2.1316,   2.489
     64PE95N_1,  AR12,   104,  1,      2,   X030,2,19950807,1833, 44.3335,  -5.3335, 4568,   4326.0,   2.4818,  34.9028,2,  34.9025,2,    239.2,2,    240.2,2,    43.50,2,    22.23,2,     0.04,2,     1.53,2,  4323.0,  2.0958,   2.479
     64PE95N_1,  AR12,   104,  1,      3,   X028,2,19950807,1833, 44.3335,  -5.3335, 4568,   4326.0,   2.4822,  34.9027,2,  34.9016,2,    239.1,2,    239.9,2,    43.79,2,    22.20,2,     0.02,2,     1.52,2,  -999.0,  2.0962,-999.000
     64PE95N_1,  AR12,   104,  1,      1,   X001,2,19950807,1833, 44.3335,  -5.3335, 4568,   4679.0,   2.5184,  34.9021,2,  34.9009,6,    238.8,2,    238.9,6,    44.09,6,    22.35,6,     0.04,6,     1.53,6,  -999.0,  2.0886,-999.000
     64PE95N_1,  AR12,   105,  1,     24,   X024,2,19950807,2252, 44.1995,  -5.3325, 4315,     10.0,  20.3795,  35.5953,2,  35.5935,2,    228.7,2,    228.4,6,     0.39,2,     0.01,2,     0.00,2,     0.05,2,  -999.0, 20.3776,-999.000
     64PE95N_1,  AR12,   105,  1,     23,   X023,2,19950807,2252, 44.1995,  -5.3325, 4315,    101.0,  12.2189,  35.6016,2,  35.6004,2,    245.8,2,    244.7,2,     1.60,2,     5.95,2,     0.03,2,     0.39,2,  -999.0, 12.2055,-999.000
     64PE95N_1,  AR12,   105,  1,     22,   X022,2,19950807,2252, 44.1995,  -5.3325, 4315,    202.0,  11.6948,  35.5921,2,-999.0000,9,    242.2,2,   -999.0,9,     2.56,2,     8.25,2,     0.01,2,     0.52,2,  -999.0, 11.6687,-999.000
     64PE95N_1,  AR12,   105,  1,     21,   X021,2,19950807,2252, 44.1995,  -5.3325, 4315,    310.0,  11.4270,  35.5906,2,  35.5904,2,    235.0,2,    236.3,2,     3.24,2,     9.92,2,     0.00,2,     0.61,2,  -999.0, 11.3874,-999.000
     64PE95N_1,  AR12,   105,  1,     20,   X027,2,19950807,2252, 44.1995,  -5.3325, 4315,    402.0,  11.1494,  35.5640,2,-999.0000,9,    231.8,2,   -999.0,9,     4.15,2,    11.21,2,     0.02,2,     0.69,2,  -999.0, 11.0986,-999.000
     64PE95N_1,  AR12,   105,  1,     19,   X019,2,19950807,2252, 44.1995,  -5.3325, 4315,    506.0,  10.9697,  35.5739,2,  35.5724,2,    221.6,2,    220.6,2,     4.99,2,    12.56,2,     0.02,2,     0.77,2,  -999.0, 10.9061,-999.000
     64PE95N_1,  AR12,   105,  1,     18,   X018,2,19950807,2252, 44.1995,  -5.3325, 4315,    605.0,  10.6765,  35.5693,2,-999.0000,9,    214.3,2,   -999.0,9,     6.01,2,    13.88,2,     0.02,2,     0.86,2,  -999.0, 10.6014,-999.000
     64PE95N_1,  AR12,   105,  1,     17,   X017,4,19950807,2252, 44.1995,  -5.3325, 4315,    809.0,  10.3817,  35.7306,2,  35.7216,4,    194.1,2,    190.0,4,     8.45,4,    16.12,4,     0.00,4,     1.00,4,  -999.0, 10.2819,-999.000
     64PE95N_1,  AR12,   105,  1,     16,   X016,2,19950807,2252, 44.1995,  -5.3325, 4315,   1013.0,   9.7670,  35.7739,2,-999.0000,9,    191.4,2,   -999.0,9,     9.90,2,    16.78,2,     0.01,2,     1.06,2,  -999.0,  9.6452,-999.000
     64PE95N_1,  AR12,   105,  1,     15,   X015,2,19950807,2252, 44.1995,  -5.3325, 4315,   1263.0,   8.4856,  35.6608,2,  35.6579,2,    201.1,2,    200.0,2,    11.24,2,    17.27,2,     0.00,2,     1.10,2,  -999.0,  8.3435,-999.000
     64PE95N_1,  AR12,   105,  1,     14,   X014,2,19950807,2252, 44.1995,  -5.3325, 4315,   1519.0,   6.1746,  35.3094,2,-999.0000,9,    223.4,2,   -999.0,9,    13.79,2,    18.30,2,     0.00,2,     1.17,2,  -999.0,  6.0274,-999.000
     64PE95N_1,  AR12,   105,  1,     13,   X026,2,19950807,2252, 44.1995,  -5.3325, 4315,   1771.0,   4.7012,  35.1115,2,  35.1115,2,    239.2,2,    242.4,6,    16.55,2,    18.67,2,     0.00,2,     1.22,2,  -999.0,  4.5461,-999.000
     64PE95N_1,  AR12,   105,  1,     12,   X029,2,19950807,2252, 44.1995,  -5.3325, 4315,   2028.0,   3.8591,  35.0263,2,-999.0000,9,    246.0,2,   -999.0,9,    20.95,2,    19.04,2,     0.00,2,     1.27,2,  -999.0,  3.6907,-999.000
     64PE95N_1,  AR12,   105,  1,     11,   X011,4,19950807,2252, 44.1995,  -5.3325, 4315,   2282.0,   3.4382,  34.9911,2,  35.5733,4,    246.8,2,    235.1,4,     4.56,4,     9.10,4,     0.00,4,     0.59,4,  -999.0,  3.2517,-999.000
     64PE95N_1,  AR12,   105,  1,     10,   X025,2,19950807,2252, 44.1995,  -5.3325, 4315,   2537.0,   3.1961,  34.9732,2,-999.0000,9,    246.4,2,   -999.0,9,    27.11,2,    19.86,2,     0.02,2,     1.33,2,  -999.0,  2.9888,-999.000
     64PE95N_1,  AR12,   105,  1,      9,   X009,2,19950807,2252, 44.1995,  -5.3325, 4315,   2792.0,   2.9173,  34.9521,2,  34.9512,2,    244.1,2,    246.2,2,    31.88,2,    20.64,2,     0.00,2,     1.39,2,  -999.0,  2.6897,-999.000
     64PE95N_1,  AR12,   105,  1,      8,   X008,2,19950807,2252, 44.1995,  -5.3325, 4315,   3047.0,   2.7738,  34.9400,2,-999.0000,9,    243.2,2,   -999.0,9,    34.77,2,    20.97,2,     0.03,2,     1.42,2,  3050.0,  2.5230,   2.776
     64PE95N_1,  AR12,   105,  1,      7,   X007,2,19950807,2252, 44.1995,  -5.3325, 4315,   3303.0,   2.6581,  34.9289,2,  34.9315,2,    241.6,2,    243.3,2,    37.08,2,    21.32,2,     0.01,2,     1.44,2,  -999.0,  2.3829,-999.000
     64PE95N_1,  AR12,   105,  1,      6,   X006,2,19950807,2252, 44.1995,  -5.3325, 4315,   3560.0,   2.5764,  34.9201,2,-999.0000,9,    240.1,2,   -999.0,9,    39.60,2,    21.66,2,     0.01,2,     1.47,2,  3561.0,  2.2755,   2.575
     64PE95N_1,  AR12,   105,  1,      5,   X005,2,19950807,2252, 44.1995,  -5.3325, 4315,   3815.0,   2.5120,  34.9117,2,  34.9109,2,    239.4,2,    240.7,2,    41.60,2,    21.96,2,     0.02,2,     1.50,2,  -999.0,  2.1844,-999.000
     64PE95N_1,  AR12,   105,  1,      4,   X004,2,19950807,2252, 44.1995,  -5.3325, 4315,   4006.0,   2.4961,  34.9082,2,-999.0000,9,    239.1,2,   -999.0,9,    42.26,2,    21.98,2,     0.01,2,     1.50,2,  4008.0,  2.1472,   2.498
     64PE95N_1,  AR12,   105,  1,      2,   X030,2,19950807,2252, 44.1995,  -5.3325, 4315,   4330.0,   2.4868,  34.9033,2,  34.9028,2,    238.7,2,    239.2,2,    43.26,2,    22.04,2,     0.06,2,     1.49,2,  4325.0,  2.1002,   2.485
     64PE95N_1,  AR12,   105,  1,      3,   X028,2,19950807,2252, 44.1995,  -5.3325, 4315,   4330.0,   2.4871,  34.9034,2,  34.9026,2,    238.4,2,    240.4,2,    43.49,2,    22.29,2,     0.02,2,     1.51,2,  -999.0,  2.1005,-999.000
     64PE95N_1,  AR12,   105,  1,      1,   X001,2,19950807,2252, 44.1995,  -5.3325, 4315,   4506.0,   2.4961,  34.9020,2,  34.9010,6,    238.1,2,    238.1,6,    44.06,6,    22.13,6,     0.01,6,     1.52,6,  -999.0,  2.0881,-999.000