BOTTLE,20020117WHPSIOKJU
EXPOCODE,SECT_ID,STNNBR,CASTNO,SAMPNO,BTLNBR,BTLNBR_FLAG_W,DATE,TIME,LATITUDE,LONGITUDE,DEPTH,CTDPRS,CTDTMP,CTDSAL,CTDSAL_FLAG_W,SALNTY,SALNTY_FLAG_W,CTDOXY,CTDOXY_FLAG_W,OXYGEN,OXYGEN_FLAG_W,SILCAT,SILCAT_FLAG_W,NITRAT,NITRAT_FLAG_W,NITRIT,NITRIT_FLAG_W,PHSPHT,PHSPHT_FLAG_W,REVPRS,THETA,REVTMP
,,,,,,,,,,,,DBAR,ITS-90,PSS-78,,PSS-78,,UMOL/KG,,UMOL/KG,,UMOL/KG,,UMOL/KG,,UMOL/KG,,UMOL/KG,,DBAR,ITS-90,ITS-90
     64PE95N_1,  AR12,    97,  1,     24,   X024,2,19950806,1142, 45.5003,  -3.5830, 2250,     11.0,  21.2459,  35.1674,3,  35.2198,2,    227.6,2,    229.5,6,     0.52,2,     0.05,2,     0.02,2,     0.04,2,  -999.0, 21.2439,-999.000
     64PE95N_1,  AR12,    97,  1,     23,   X023,2,19950806,1142, 45.5003,  -3.5830, 2250,     50.0,  13.0096,  35.4944,3,  35.5024,2,    244.2,2,    240.7,2,     0.98,2,     2.75,2,     0.12,2,     0.19,2,  -999.0, 13.0027,-999.000
     64PE95N_1,  AR12,    97,  1,     22,   X022,2,19950806,1142, 45.5003,  -3.5830, 2250,    101.0,  12.2796,  35.5683,2,-999.0000,9,    243.4,2,   -999.0,9,     1.51,2,     5.41,2,     0.04,2,     0.35,2,  -999.0, 12.2662,-999.000
     64PE95N_1,  AR12,    97,  1,     21,   X021,2,19950806,1142, 45.5003,  -3.5830, 2250,    203.0,  11.7950,  35.5874,2,  35.5882,2,    242.6,2,    244.8,2,     2.28,2,     7.37,2,     0.03,2,     0.46,2,  -999.0, 11.7687,-999.000
     64PE95N_1,  AR12,    97,  1,     20,   X027,2,19950806,1142, 45.5003,  -3.5830, 2250,    302.0,  11.5056,  35.5985,2,-999.0000,9,    232.6,2,   -999.0,9,     3.24,2,     9.78,2,     0.03,2,     0.59,2,  -999.0, 11.4669,-999.000
     64PE95N_1,  AR12,    97,  1,     19,   X019,4,19950806,1142, 45.5003,  -3.5830, 2250,    403.0,  11.1876,  35.5793,2,  35.5843,4,    226.4,2,    235.8,4,     3.23,4,     9.65,4,     0.02,4,     0.59,4,  -999.0, 11.1366,-999.000
     64PE95N_1,  AR12,    97,  1,     18,   X018,2,19950806,1142, 45.5003,  -3.5830, 2250,    505.0,  10.8747,  35.5686,2,-999.0000,9,    218.0,2,   -999.0,9,     5.06,2,    12.89,2,     0.02,2,     0.78,2,  -999.0, 10.8116,-999.000
     64PE95N_1,  AR12,    97,  1,     17,   X017,2,19950806,1142, 45.5003,  -3.5830, 2250,    605.0,  10.6144,  35.5867,2,  35.5835,2,    208.7,2,    208.4,2,     6.25,2,    14.32,2,     0.02,2,     0.88,2,  -999.0, 10.5396,-999.000
     64PE95N_1,  AR12,    97,  1,     16,   X016,4,19950806,1142, 45.5003,  -3.5830, 2250,    707.0,  10.3500,  35.6395,2,-999.0000,9,    199.6,2,   -999.0,9,     3.70,4,     9.43,4,     0.03,4,     0.60,4,  -999.0, 10.2634,-999.000
     64PE95N_1,  AR12,    97,  1,     15,   X015,2,19950806,1142, 45.5003,  -3.5830, 2250,    809.0,  10.2145,  35.6897,2,  35.6944,2,    193.9,2,    192.5,2,     8.33,2,    16.24,2,     0.04,2,     1.00,2,  -999.0, 10.1158,-999.000
     64PE95N_1,  AR12,    97,  1,     14,   X014,4,19950806,1142, 45.5003,  -3.5830, 2250,    910.0,   9.9203,  35.7465,2,-999.0000,9,    191.3,2,   -999.0,9,     4.48,4,    10.50,4,     0.01,4,     0.66,4,  -999.0,  9.8105,-999.000
     64PE95N_1,  AR12,    97,  1,     13,   X026,2,19950806,1142, 45.5003,  -3.5830, 2250,   1011.0,   9.6256,  35.7552,2,  35.7563,2,    191.6,2,    189.1,6,     9.85,2,    16.96,2,     0.00,2,     1.06,2,  -999.0,  9.5050,-999.000
     64PE95N_1,  AR12,    97,  1,     12,   X029,2,19950806,1142, 45.5003,  -3.5830, 2250,   1113.0,   9.2339,  35.7330,2,-999.0000,9,    193.3,2,   -999.0,9,    10.44,2,    17.30,2,     0.00,2,     1.07,2,  -999.0,  9.1036,-999.000
     64PE95N_1,  AR12,    97,  1,     11,   X011,2,19950806,1142, 45.5003,  -3.5830, 2250,   1214.0,   8.5393,  35.6490,2,  35.6505,2,    198.9,2,    198.7,2,    11.14,2,    17.57,2,     0.00,2,     1.10,2,  -999.0,  8.4026,-999.000
     64PE95N_1,  AR12,    97,  1,     10,   X025,2,19950806,1142, 45.5003,  -3.5830, 2250,   1315.0,   7.7260,  35.5363,2,-999.0000,9,    205.2,2,   -999.0,9,    12.17,2,    17.85,2,     0.00,2,     1.13,2,  -999.0,  7.5851,-999.000
     64PE95N_1,  AR12,    97,  1,      9,   X009,2,19950806,1142, 45.5003,  -3.5830, 2250,   1416.0,   6.8399,  35.4104,2,  35.4088,2,    214.6,2,    217.4,2,    13.35,2,    18.13,2,     0.01,2,     1.17,2,  -999.0,  6.6966,-999.000
     64PE95N_1,  AR12,    97,  1,      8,   X008,2,19950806,1142, 45.5003,  -3.5830, 2250,   1518.0,   5.8857,  35.2769,2,-999.0000,9,    224.2,2,   -999.0,9,    14.83,2,    18.49,2,     0.01,2,     1.21,2,  1519.0,  5.7419,   5.885
     64PE95N_1,  AR12,    97,  1,      7,   X007,4,19950806,1142, 45.5003,  -3.5830, 2250,   1620.0,   5.3127,  35.2001,2,  35.2058,4,    231.2,2,    233.2,4,    15.95,4,    18.55,4,     0.02,4,     1.22,4,  -999.0,  5.1651,-999.000
     64PE95N_1,  AR12,    97,  1,      6,   X006,4,19950806,1142, 45.5003,  -3.5830, 2250,   1823.0,   4.4366,  35.0937,2,-999.0000,9,    240.1,2,   -999.0,9,     6.91,4,    13.42,4,     0.01,4,     0.84,4,  1821.0,  4.2799,   4.431
     64PE95N_1,  AR12,    97,  1,      5,   X005,2,19950806,1142, 45.5003,  -3.5830, 2250,   2027.0,   3.8426,  35.0335,2,  35.0348,2,    245.3,2,    244.4,2,    22.71,2,    19.37,2,     0.00,2,     1.29,2,  -999.0,  3.6746,-999.000
     64PE95N_1,  AR12,    97,  1,      4,   X004,2,19950806,1142, 45.5003,  -3.5830, 2250,   2231.0,   3.5289,  35.0050,2,-999.0000,9,    247.2,2,   -999.0,9,    25.59,2,    19.83,2,     0.03,2,     1.31,2,  2230.0,  3.3459,   3.536
     64PE95N_1,  AR12,    97,  1,      2,   X030,4,19950806,1142, 45.5003,  -3.5830, 2250,   2436.0,   3.2841,  34.9830,2,-999.0000,9,    250.0,2,   -999.0,9,  -999.00,9,  -999.00,9,  -999.00,9,  -999.00,9,  -999.0,  3.0852,-999.000
     64PE95N_1,  AR12,    97,  1,      3,   X028,2,19950806,1142, 45.5003,  -3.5830, 2250,   2436.0,   3.2881,  34.9835,2,  34.9838,2,    249.6,2,    245.6,2,    28.17,2,    20.19,2,     0.03,2,     1.36,2,  -999.0,  3.0891,-999.000
     64PE95N_1,  AR12,    97,  1,      1,   X001,2,19950806,1142, 45.5003,  -3.5830, 2250,   2478.0,   3.2066,  34.9767,2,  34.9781,6,    251.8,3,    244.8,6,    29.01,6,    20.12,6,     0.02,6,     1.36,6,  -999.0,  3.0050,-999.000
     64PE95N_1,  AR12,    98,  1,     24,   X024,2,19950806,1502, 45.4497,  -3.6658, -999,     10.0,  21.7534,  35.1196,2,  35.1242,2,    223.0,2,    224.1,6,     0.52,2,     0.00,2,     0.04,2,     0.04,2,  -999.0, 21.7515,-999.000
     64PE95N_1,  AR12,    98,  1,     23,   X023,2,19950806,1502, 45.4497,  -3.6658, -999,     51.0,  13.3037,  35.4495,3,  35.4647,2,    239.4,2,    240.9,2,     0.88,2,     2.02,2,     0.19,2,     0.13,2,  -999.0, 13.2966,-999.000
     64PE95N_1,  AR12,    98,  1,     22,   X022,2,19950806,1502, 45.4497,  -3.6658, -999,    101.0,  12.2778,  35.5721,2,-999.0000,9,    243.7,2,   -999.0,9,     1.51,2,     5.26,2,     0.05,2,     0.34,2,  -999.0, 12.2644,-999.000
     64PE95N_1,  AR12,    98,  1,     21,   X021,2,19950806,1502, 45.4497,  -3.6658, -999,    200.0,  11.7884,  35.5850,2,  35.5846,2,    243.6,2,    244.6,2,     2.33,2,     7.51,2,     0.02,2,     0.46,2,  -999.0, 11.7625,-999.000
     64PE95N_1,  AR12,    98,  1,     20,   X027,2,19950806,1502, 45.4497,  -3.6658, -999,    300.0,  11.4702,  35.6019,2,-999.0000,9,    235.5,2,   -999.0,9,     3.22,2,     9.82,2,     0.02,2,     0.59,2,  -999.0, 11.4318,-999.000
     64PE95N_1,  AR12,    98,  1,     19,   X019,2,19950806,1502, 45.4497,  -3.6658, -999,    404.0,  11.2280,  35.5799,2,  35.5807,2,    231.0,2,    229.7,2,     3.93,2,    11.07,2,     0.02,2,     0.67,2,  -999.0, 11.1768,-999.000
     64PE95N_1,  AR12,    98,  1,     18,   X018,2,19950806,1502, 45.4497,  -3.6658, -999,    505.0,  11.0127,  35.5806,2,-999.0000,9,    221.4,2,   -999.0,9,     4.74,2,    12.43,2,     0.03,2,     0.76,2,  -999.0, 10.9491,-999.000
     64PE95N_1,  AR12,    98,  1,     17,   X017,2,19950806,1502, 45.4497,  -3.6658, -999,    605.0,  10.6746,  35.5718,2,  35.5730,2,    213.0,2,    211.6,2,     5.95,2,    13.92,2,     0.04,2,     0.86,2,  -999.0, 10.5995,-999.000
     64PE95N_1,  AR12,    98,  1,     16,   X016,2,19950806,1502, 45.4497,  -3.6658, -999,    703.0,  10.3793,  35.5929,2,-999.0000,9,    202.9,2,   -999.0,9,     7.22,2,    15.31,2,     0.03,2,     0.95,2,  -999.0, 10.2931,-999.000
     64PE95N_1,  AR12,    98,  1,     15,   X015,2,19950806,1502, 45.4497,  -3.6658, -999,    809.0,  10.2683,  35.6804,2,  35.6808,2,    193.4,2,    191.7,2,     8.22,2,    16.08,2,     0.01,2,     0.99,2,  -999.0, 10.1693,-999.000
     64PE95N_1,  AR12,    98,  1,     14,   X014,2,19950806,1502, 45.4497,  -3.6658, -999,    909.0,  10.0268,  35.7488,2,-999.0000,9,    187.8,2,   -999.0,9,     9.16,2,    16.71,2,     0.02,2,     1.03,2,  -999.0,  9.9164,-999.000
     64PE95N_1,  AR12,    98,  1,     13,   X026,2,19950806,1502, 45.4497,  -3.6658, -999,   1009.0,   9.7786,  35.7730,2,  35.7732,2,    186.6,2,    187.2,6,     9.71,2,    16.97,2,     0.03,2,     1.05,2,  -999.0,  9.6572,-999.000
     64PE95N_1,  AR12,    98,  1,     12,   X029,2,19950806,1502, 45.4497,  -3.6658, -999,   1214.0,   8.6844,  35.6743,2,-999.0000,9,    195.1,2,   -999.0,9,    11.12,2,    17.59,2,     0.03,2,     1.10,2,  -999.0,  8.5465,-999.000
     64PE95N_1,  AR12,    98,  1,     11,   X011,2,19950806,1502, 45.4497,  -3.6658, -999,   1417.0,   7.0570,  35.4399,2,  35.4393,2,    212.3,2,    213.5,2,    12.83,2,    18.05,2,     0.02,2,     1.16,2,  -999.0,  6.9113,-999.000
     64PE95N_1,  AR12,    98,  1,     10,   X025,2,19950806,1502, 45.4497,  -3.6658, -999,   1619.0,   5.6397,  35.2395,2,-999.0000,9,    228.2,2,   -999.0,9,    15.08,2,    18.42,2,     0.02,2,     1.21,2,  -999.0,  5.4882,-999.000
     64PE95N_1,  AR12,    98,  1,      9,   X009,2,19950806,1502, 45.4497,  -3.6658, -999,   1825.0,   4.5529,  35.1037,2,  35.1027,2,    240.2,2,    241.5,2,    18.37,2,    18.90,2,     0.04,2,     1.25,2,  -999.0,  4.3944,-999.000
     64PE95N_1,  AR12,    98,  1,      8,   X008,2,19950806,1502, 45.4497,  -3.6658, -999,   2027.0,   3.9128,  35.0376,2,-999.0000,9,    244.3,2,   -999.0,9,    21.92,2,    19.34,2,     0.02,2,     1.27,2,  2027.0,  3.7437,   3.917
     64PE95N_1,  AR12,    98,  1,      7,   X007,2,19950806,1502, 45.4497,  -3.6658, -999,   2230.0,   3.5106,  35.0020,2,  35.0025,2,    246.1,2,    259.4,4,    25.30,2,    19.70,2,     0.03,2,     1.33,2,  -999.0,  3.3280,-999.000
     64PE95N_1,  AR12,    98,  1,      6,   X006,2,19950806,1502, 45.4497,  -3.6658, -999,   2433.0,   3.2402,  34.9793,2,-999.0000,9,    246.1,2,   -999.0,9,    27.92,2,    20.06,2,     0.02,2,     1.36,2,  2435.0,  3.0424,   3.241
     64PE95N_1,  AR12,    98,  1,      5,   X005,2,19950806,1502, 45.4497,  -3.6658, -999,   2637.0,   3.0528,  34.9638,2,  34.9639,2,    246.5,2,    246.0,2,    30.31,2,    20.51,2,     0.03,2,     1.35,2,  -999.0,  2.8382,-999.000
     64PE95N_1,  AR12,    98,  1,      4,   X004,2,19950806,1502, 45.4497,  -3.6658, -999,   2842.0,   2.9066,  34.9514,2,-999.0000,9,    245.6,2,   -999.0,9,    32.91,2,    20.71,2,     0.02,2,     1.41,2,  2845.0,  2.6740,   2.907
     64PE95N_1,  AR12,    98,  1,      2,   X030,2,19950806,1502, 45.4497,  -3.6658, -999,   3147.0,   2.6810,  34.9318,2,  34.9320,2,    244.9,2,    243.4,2,    37.39,2,    21.39,2,     0.03,2,     1.48,2,  3142.0,  2.4218,   2.678
     64PE95N_1,  AR12,    98,  1,      3,   X028,2,19950806,1502, 45.4497,  -3.6658, -999,   3147.0,   2.6819,  34.9317,2,  34.9313,2,    244.5,2,   -999.0,9,    37.40,2,    21.39,2,     0.05,2,     1.47,2,  -999.0,  2.4227,-999.000
     64PE95N_1,  AR12,    98,  1,      1,   X001,2,19950806,1502, 45.4497,  -3.6658, -999,   3446.0,   2.6003,  34.9223,2,  34.9223,6,    244.8,2,    240.3,6,    39.37,6,    21.65,6,     0.03,6,     1.49,6,  -999.0,  2.3111,-999.000
     64PE95N_1,  AR12,    99,  1,     24,   X024,2,19950806,1833, 45.3493,  -3.8142, 3624,      9.0,  21.9965,  34.9419,3,  34.9554,2,    223.1,2,    223.6,6,     0.48,2,     0.02,2,     0.02,2,     0.03,2,  -999.0, 21.9946,-999.000
     64PE95N_1,  AR12,    99,  1,     23,   X023,2,19950806,1833, 45.3493,  -3.8142, 3624,    100.0,  12.2136,  35.5715,2,  35.5717,2,    246.4,2,    244.6,2,     1.66,2,     5.47,2,     0.03,2,     0.35,2,  -999.0, 12.2003,-999.000
     64PE95N_1,  AR12,    99,  1,     22,   X022,2,19950806,1833, 45.3493,  -3.8142, 3624,    202.0,  11.7748,  35.5887,2,-999.0000,9,    244.9,2,   -999.0,9,     2.43,2,     7.65,2,     0.00,2,     0.48,2,  -999.0, 11.7486,-999.000
     64PE95N_1,  AR12,    99,  1,     21,   X021,2,19950806,1833, 45.3493,  -3.8142, 3624,    303.0,  11.5117,  35.6031,2,  35.6033,2,    234.4,2,    234.3,2,     3.24,2,     9.77,2,     0.01,2,     0.60,2,  -999.0, 11.4728,-999.000
     64PE95N_1,  AR12,    99,  1,     20,   X027,2,19950806,1833, 45.3493,  -3.8142, 3624,    404.0,  11.2593,  35.5864,2,-999.0000,9,    231.0,2,   -999.0,9,     3.80,2,    10.94,2,     0.01,2,     0.67,2,  -999.0, 11.2080,-999.000
     64PE95N_1,  AR12,    99,  1,     19,   X019,2,19950806,1833, 45.3493,  -3.8142, 3624,    505.0,  11.0203,  35.5754,2,  35.5747,2,    222.0,2,    221.9,2,     4.67,2,    12.34,2,     0.01,2,     0.75,2,  -999.0, 10.9567,-999.000
     64PE95N_1,  AR12,    99,  1,     18,   X018,2,19950806,1833, 45.3493,  -3.8142, 3624,    605.0,  10.7071,  35.5785,2,-999.0000,9,    212.6,2,   -999.0,9,     5.84,2,    13.82,2,     0.01,2,     0.85,2,  -999.0, 10.6319,-999.000
     64PE95N_1,  AR12,    99,  1,     17,   X017,2,19950806,1833, 45.3493,  -3.8142, 3624,    704.0,  10.4434,  35.6091,2,  35.6106,2,    202.5,2,    200.8,2,     7.24,2,    15.11,2,     0.03,2,     0.95,2,  -999.0, 10.3567,-999.000
     64PE95N_1,  AR12,    99,  1,     16,   X016,2,19950806,1833, 45.3493,  -3.8142, 3624,    809.0,  10.1562,  35.6616,2,-999.0000,9,    194.0,2,   -999.0,9,     8.54,2,    16.17,2,     0.04,2,     1.02,2,  -999.0, 10.0579,-999.000
     64PE95N_1,  AR12,    99,  1,     15,   X015,2,19950806,1833, 45.3493,  -3.8142, 3624,    908.0,  10.0716,  35.7504,2,  35.7507,2,    189.2,2,    187.0,2,     9.16,2,    16.60,2,     0.04,2,     1.04,2,  -999.0,  9.9610,-999.000
     64PE95N_1,  AR12,    99,  1,     14,   X014,2,19950806,1833, 45.3493,  -3.8142, 3624,   1008.0,   9.7972,  35.7751,2,-999.0000,9,    187.2,2,   -999.0,9,     9.72,2,    16.88,2,     0.02,2,     1.06,2,  -999.0,  9.6757,-999.000
     64PE95N_1,  AR12,    99,  1,     13,   X026,2,19950806,1833, 45.3493,  -3.8142, 3624,   1213.0,   8.5461,  35.6531,2,  35.6511,2,    196.6,2,    197.4,2,    11.31,2,    17.48,2,     0.00,2,     1.11,2,  -999.0,  8.4095,-999.000
     64PE95N_1,  AR12,    99,  1,     12,   X029,2,19950806,1833, 45.3493,  -3.8142, 3624,   1414.0,   6.8333,  35.4078,2,-999.0000,9,    213.5,2,   -999.0,9,    13.23,2,    18.11,2,     0.00,2,     1.17,2,  -999.0,  6.6902,-999.000
     64PE95N_1,  AR12,    99,  1,     11,   X011,2,19950806,1833, 45.3493,  -3.8142, 3624,   1619.0,   5.5186,  35.2260,2,  35.2248,2,    228.2,2,    230.7,2,    15.60,2,    18.64,2,     0.00,2,     1.20,2,  -999.0,  5.3685,-999.000
     64PE95N_1,  AR12,    99,  1,     10,   X025,2,19950806,1833, 45.3493,  -3.8142, 3624,   1824.0,   4.6848,  35.1203,2,-999.0000,9,    236.7,2,   -999.0,9,    17.97,2,    18.88,2,     0.01,2,     1.24,2,  -999.0,  4.5246,-999.000
     64PE95N_1,  AR12,    99,  1,      9,   X009,2,19950806,1833, 45.3493,  -3.8142, 3624,   2028.0,   4.0611,  35.0535,2,  35.0537,2,    241.3,2,    243.7,2,    21.35,2,    19.21,2,     0.01,2,     1.28,2,  -999.0,  3.8896,-999.000
     64PE95N_1,  AR12,    99,  1,      8,   X008,2,19950806,1833, 45.3493,  -3.8142, 3624,   2283.0,   3.5075,  35.0015,2,-999.0000,9,    244.0,2,   -999.0,9,    25.55,2,    19.68,2,     0.03,2,     1.33,2,  2285.0,  3.3198,   3.510
     64PE95N_1,  AR12,    99,  1,      7,   X007,2,19950806,1833, 45.3493,  -3.8142, 3624,   2538.0,   3.1549,  34.9723,2,  34.9727,2,    244.7,2,    246.3,2,    29.30,2,    20.30,2,     0.01,2,     1.37,2,  -999.0,  2.9482,-999.000
     64PE95N_1,  AR12,    99,  1,      6,   X006,2,19950806,1833, 45.3493,  -3.8142, 3624,   2792.0,   2.9306,  34.9538,2,-999.0000,9,    244.3,2,   -999.0,9,    32.31,2,    20.70,2,     0.03,2,     1.41,2,  2792.0,  2.7027,   2.930
     64PE95N_1,  AR12,    99,  1,      5,   X005,2,19950806,1833, 45.3493,  -3.8142, 3624,   3047.0,   2.7378,  34.9371,2,  34.9363,2,    243.7,2,    242.4,2,    35.93,2,    21.27,2,     0.00,2,     1.44,2,  -999.0,  2.4878,-999.000
     64PE95N_1,  AR12,    99,  1,      4,   X004,2,19950806,1833, 45.3493,  -3.8142, 3624,   3304.0,   2.6284,  34.9263,2,-999.0000,9,    243.0,2,   -999.0,9,    38.27,2,    21.63,2,     0.00,2,     1.47,2,  3306.0,  2.3538,   2.631
     64PE95N_1,  AR12,    99,  1,      2,   X030,2,19950806,1833, 45.3493,  -3.8142, 3624,   3560.0,   2.5410,  34.9170,2,  34.9158,2,    242.5,2,    240.6,2,    40.46,2,    21.35,2,     0.07,2,     1.46,2,  3554.0,  2.2410,   2.538
     64PE95N_1,  AR12,    99,  1,      3,   X028,2,19950806,1833, 45.3493,  -3.8142, 3624,   3560.0,   2.5405,  34.9168,2,  34.9162,2,    242.5,2,    241.0,2,    40.44,2,    21.82,2,     0.00,2,     1.48,2,  -999.0,  2.2405,-999.000
     64PE95N_1,  AR12,    99,  1,      1,   X001,2,19950806,1833, 45.3493,  -3.8142, 3624,   3694.0,   2.5096,  34.9125,2,  34.9118,6,    242.7,2,    238.2,6,    41.54,6,    21.99,6,     0.03,6,     1.50,6,  -999.0,  2.1956,-999.000