BOTTLE,20020117WHPSIOKJU
EXPOCODE,SECT_ID,STNNBR,CASTNO,SAMPNO,BTLNBR,BTLNBR_FLAG_W,DATE,TIME,LATITUDE,LONGITUDE,DEPTH,CTDPRS,CTDTMP,CTDSAL,CTDSAL_FLAG_W,SALNTY,SALNTY_FLAG_W,CTDOXY,CTDOXY_FLAG_W,OXYGEN,OXYGEN_FLAG_W,SILCAT,SILCAT_FLAG_W,NITRAT,NITRAT_FLAG_W,NITRIT,NITRIT_FLAG_W,PHSPHT,PHSPHT_FLAG_W,REVPRS,THETA,REVTMP
,,,,,,,,,,,,DBAR,ITS-90,PSS-78,,PSS-78,,UMOL/KG,,UMOL/KG,,UMOL/KG,,UMOL/KG,,UMOL/KG,,UMOL/KG,,DBAR,ITS-90,ITS-90
     64PE95N_1,  AR12,    50,  1,     24,   X024,2,19950728,0430, 43.8330, -11.3330, 4960,      9.0,  18.9321,  35.7125,2,  35.7138,2,    236.4,2,    236.4,6,     0.52,2,     0.03,2,     0.03,2,     0.05,2,  -999.0, 18.9305,-999.000
     64PE95N_1,  AR12,    50,  1,     23,   X023,2,19950728,0430, 43.8330, -11.3330, 4960,    100.0,  12.7015,  35.6719,2,  35.6704,2,    245.5,2,    244.0,2,     1.30,2,     5.47,2,     0.05,2,     0.37,2,  -999.0, 12.6879,-999.000
     64PE95N_1,  AR12,    50,  1,     22,   X022,2,19950728,0430, 43.8330, -11.3330, 4960,    199.0,  11.8714,  35.6113,2,-999.0000,9,    242.7,2,   -999.0,9,     2.99,2,     8.96,2,     0.02,2,     0.56,2,  -999.0, 11.8454,-999.000
     64PE95N_1,  AR12,    50,  1,     21,   X021,2,19950728,0430, 43.8330, -11.3330, 4960,    404.0,  11.1651,  35.5564,2,  35.5562,2,    234.5,2,    232.7,2,     3.93,2,    11.21,2,     0.01,2,     0.69,2,  -999.0, 11.1141,-999.000
     64PE95N_1,  AR12,    50,  1,     20,   X020,2,19950728,0430, 43.8330, -11.3330, 4960,    602.0,  10.7700,  35.5666,2,-999.0000,9,    214.7,2,   -999.0,9,     5.66,2,    13.75,2,     0.01,2,     0.85,2,  -999.0, 10.6948,-999.000
     64PE95N_1,  AR12,    50,  1,     19,   X019,2,19950728,0430, 43.8330, -11.3330, 4960,    808.0,  10.6563,  35.7633,3,  35.7692,2,    191.1,2,    189.2,2,     7.90,2,    15.58,2,     0.02,2,     0.97,2,  -999.0, 10.5550,-999.000
     64PE95N_1,  AR12,    50,  1,     18,   X018,2,19950728,0430, 43.8330, -11.3330, 4960,   1010.0,  10.4635,  35.9368,2,-999.0000,9,    183.6,2,    183.8,2,     8.93,2,    16.14,2,     0.00,2,     0.98,2,  -999.0, 10.3368,-999.000
     64PE95N_1,  AR12,    50,  1,     17,   X017,2,19950728,0430, 43.8330, -11.3330, 4960,   1261.0,   8.7840,  35.7369,2,  35.7416,2,    195.7,2,    198.0,2,    10.41,2,    17.05,2,     0.00,2,     1.07,2,  -999.0,  8.6393,-999.000
     64PE95N_1,  AR12,    50,  1,     16,   X016,2,19950728,0430, 43.8330, -11.3330, 4960,   1517.0,   5.5757,  35.2007,2,-999.0000,9,    233.1,2,   -999.0,9,    11.70,2,    17.96,2,     0.00,2,     1.16,2,  -999.0,  5.4356,-999.000
     64PE95N_1,  AR12,    50,  1,     15,   X015,2,19950728,0430, 43.8330, -11.3330, 4960,   1772.0,   4.1733,  35.0018,2,  35.0021,2,    256.6,2,    259.2,2,    12.10,2,    17.87,2,     0.02,2,     1.16,2,  -999.0,  4.0253,-999.000
     64PE95N_1,  AR12,    50,  1,     14,   X014,2,19950728,0430, 43.8330, -11.3330, 4960,   2026.0,   3.8699,  35.0012,2,-999.0000,9,    254.0,2,   -999.0,9,    15.57,2,    18.13,2,     0.00,2,     1.19,2,  -999.0,  3.7017,-999.000
     64PE95N_1,  AR12,    50,  1,     13,   X013,2,19950728,0430, 43.8330, -11.3330, 4960,   2280.0,   3.4931,  34.9861,2,  34.9868,2,    250.2,2,    253.2,2,    20.31,2,    18.69,2,     0.00,2,     1.25,2,  -999.0,  3.3060,-999.000
     64PE95N_1,  AR12,    50,  1,     12,   X012,2,19950728,0430, 43.8330, -11.3330, 4960,   2537.0,   3.1706,  34.9687,2,-999.0000,9,    247.6,2,   -999.0,9,    24.59,2,    19.32,2,     0.00,2,     1.30,2,  -999.0,  2.9638,-999.000
     64PE95N_1,  AR12,    50,  1,     11,   X011,2,19950728,0430, 43.8330, -11.3330, 4960,   2790.0,   2.9206,  34.9538,2,  34.9538,2,    244.5,2,    247.4,2,    29.15,2,    20.06,2,     0.00,2,     1.35,2,  -999.0,  2.6930,-999.000
     64PE95N_1,  AR12,    50,  1,     10,   X010,2,19950728,0430, 43.8330, -11.3330, 4960,   3048.0,   2.7620,  34.9412,2,-999.0000,9,    241.9,2,   -999.0,9,    33.04,2,    20.61,2,     0.01,2,     1.41,2,  -999.0,  2.5113,-999.000
     64PE95N_1,  AR12,    50,  1,      9,   X009,2,19950728,0430, 43.8330, -11.3330, 4960,   3302.0,   2.6421,  34.9294,2,  34.9291,2,    238.8,2,   -999.0,9,    36.50,2,    21.28,2,     0.00,2,     1.44,2,  -999.0,  2.3674,-999.000
     64PE95N_1,  AR12,    50,  1,      8,   X008,2,19950728,0430, 43.8330, -11.3330, 4960,   3559.0,   2.5708,  34.9204,2,-999.0000,9,    237.6,2,   -999.0,9,    38.86,2,    21.68,2,     0.02,2,     1.47,2,  3560.0,  2.2701,   2.575
     64PE95N_1,  AR12,    50,  1,      7,   X007,4,19950728,0430, 43.8330, -11.3330, 4960,   3814.0,   2.5258,  34.9133,2,  34.9192,4,    236.7,2,    240.1,4,    39.18,4,    21.76,4,     0.00,4,     1.47,4,  -999.0,  2.1979,-999.000
     64PE95N_1,  AR12,    50,  1,      6,   X006,2,19950728,0430, 43.8330, -11.3330, 4960,   4072.0,   2.4978,  34.9074,2,-999.0000,9,    236.7,2,   -999.0,9,    42.01,2,    21.99,2,     0.00,2,     1.50,2,  4075.0,  2.1412,   2.497
     64PE95N_1,  AR12,    50,  1,      5,   X005,2,19950728,0430, 43.8330, -11.3330, 4960,   4328.0,   2.4854,  34.9030,2,  34.9026,2,    236.7,2,    239.0,2,    42.93,2,    22.21,2,     0.01,2,     1.51,2,  -999.0,  2.0991,-999.000
     64PE95N_1,  AR12,    50,  1,      4,   X004,2,19950728,0430, 43.8330, -11.3330, 4960,   4585.0,   2.4929,  34.9006,2,-999.0000,9,    236.3,2,   -999.0,9,    43.53,2,    22.16,2,     0.01,2,     1.51,2,  4589.0,  2.0754,   2.493
     64PE95N_1,  AR12,    50,  1,      3,   X003,2,19950728,0430, 43.8330, -11.3330, 4960,   4844.0,   2.5131,  34.8994,2,  34.8996,2,    236.6,2,    238.6,2,    43.79,2,    22.32,2,     0.00,2,     1.52,2,  -999.0,  2.0629,-999.000
     64PE95N_1,  AR12,    50,  1,      2,   X002,2,19950728,0430, 43.8330, -11.3330, 4960,   5051.0,   2.5317,  34.8982,2,-999.0000,9,    236.2,2,   -999.0,9,    44.03,2,    22.31,2,     0.01,2,     1.52,2,  5045.0,  2.0545,   2.530
     64PE95N_1,  AR12,    50,  1,      1,   X001,2,19950728,0430, 43.8330, -11.3330, 4960,   5101.0,   2.5387,  34.8980,2,  34.8989,6,    236.7,2,    238.7,6,    43.91,6,    22.21,6,     0.02,6,     1.52,6,  -999.0,  2.0550,-999.000
     64PE95N_1,  AR12,    51,  1,     24,   X024,2,19950728,1026, 43.8345, -12.0000, 4987,     10.0,  19.2434,  35.7520,2,  35.7509,2,    234.5,2,    233.6,6,     0.53,2,     0.03,2,     0.01,2,     0.05,2,  -999.0, 19.2415,-999.000
     64PE95N_1,  AR12,    51,  1,     23,   X023,2,19950728,1026, 43.8345, -12.0000, 4987,    100.0,  12.6997,  35.6769,2,  35.6727,2,    243.8,2,    243.3,2,     1.32,2,     5.27,2,     0.05,2,     0.36,2,  -999.0, 12.6861,-999.000
     64PE95N_1,  AR12,    51,  1,     22,   X022,2,19950728,1026, 43.8345, -12.0000, 4987,    201.0,  11.9658,  35.6223,2,-999.0000,9,    241.0,2,   -999.0,9,     2.28,2,     7.70,2,     0.03,2,     0.48,2,  -999.0, 11.9394,-999.000
     64PE95N_1,  AR12,    51,  1,     21,   X021,2,19950728,1026, 43.8345, -12.0000, 4987,    404.0,  11.3232,  35.5814,2,  35.5801,2,    232.1,2,    234.0,2,     3.67,2,    10.62,2,     0.02,2,     0.66,2,  -999.0, 11.2717,-999.000
     64PE95N_1,  AR12,    51,  1,     20,   X020,2,19950728,1026, 43.8345, -12.0000, 4987,    605.0,  10.7994,  35.5574,2,-999.0000,9,    217.9,2,   -999.0,9,     5.31,2,    13.25,2,     0.02,2,     0.82,2,  -999.0, 10.7237,-999.000
     64PE95N_1,  AR12,    51,  1,     19,   X019,2,19950728,1026, 43.8345, -12.0000, 4987,    809.0,  10.7160,  35.7239,2,  35.7249,2,    194.9,2,    192.0,2,     7.42,2,    15.34,2,     0.03,2,     0.95,2,  -999.0, 10.6144,-999.000
     64PE95N_1,  AR12,    51,  1,     18,   X018,2,19950728,1026, 43.8345, -12.0000, 4987,   1010.0,  10.7651,  35.9511,2,-999.0000,9,    184.2,2,   -999.0,9,     8.52,2,    15.82,2,     0.02,2,     0.97,2,  -999.0, 10.6363,-999.000
     64PE95N_1,  AR12,    51,  1,     17,   X017,2,19950728,1026, 43.8345, -12.0000, 4987,   1264.0,   9.4851,  35.8387,2,  35.8398,2,    189.7,2,    191.4,2,     9.92,2,    16.79,2,     0.02,2,     1.06,2,  -999.0,  9.3336,-999.000
     64PE95N_1,  AR12,    51,  1,     16,   X016,2,19950728,1026, 43.8345, -12.0000, 4987,   1521.0,   6.5804,  35.3622,2,-999.0000,9,    217.7,2,   -999.0,9,    11.99,2,    17.97,2,     0.03,2,     1.15,2,  -999.0,  6.4283,-999.000
     64PE95N_1,  AR12,    51,  1,     15,   X015,2,19950728,1026, 43.8345, -12.0000, 4987,   1770.0,   4.7176,  35.0903,2,  35.0930,2,    242.6,2,    245.9,4,    13.60,2,    18.07,2,     0.02,2,     1.18,2,  -999.0,  4.5625,-999.000
     64PE95N_1,  AR12,    51,  1,     14,   X014,2,19950728,1026, 43.8345, -12.0000, 4987,   2028.0,   3.9075,  35.0119,2,-999.0000,9,    249.0,2,   -999.0,9,    17.11,2,    18.40,2,     0.03,2,     1.25,2,  -999.0,  3.7385,-999.000
     64PE95N_1,  AR12,    51,  1,     13,   X013,2,19950728,1026, 43.8345, -12.0000, 4987,   2282.0,   3.5210,  34.9923,2,  34.9923,2,    247.5,2,    250.4,2,    21.41,2,    18.98,2,     0.01,2,     1.27,2,  -999.0,  3.3332,-999.000
     64PE95N_1,  AR12,    51,  1,     12,   X012,2,19950728,1026, 43.8345, -12.0000, 4987,   2534.0,   3.1493,  34.9671,2,-999.0000,9,    247.3,2,   -999.0,9,    25.17,2,    19.38,2,     0.03,2,     1.30,2,  -999.0,  2.9431,-999.000
     64PE95N_1,  AR12,    51,  1,     11,   X011,2,19950728,1026, 43.8345, -12.0000, 4987,   2791.0,   2.9197,  34.9533,2,  34.9532,2,    243.9,2,    246.2,2,    29.95,2,    20.10,2,     0.02,2,     1.36,2,  -999.0,  2.6921,-999.000
     64PE95N_1,  AR12,    51,  1,     10,   X010,2,19950728,1026, 43.8345, -12.0000, 4987,   3047.0,   2.7611,  34.9412,2,-999.0000,9,    242.1,2,   -999.0,9,    33.34,2,    20.81,2,     0.01,2,     1.39,2,  -999.0,  2.5106,-999.000
     64PE95N_1,  AR12,    51,  1,      9,   X009,2,19950728,1026, 43.8345, -12.0000, 4987,   3303.0,   2.6538,  34.9305,2,  34.9297,2,    240.0,2,    241.9,2,    36.27,2,    21.26,2,     0.02,2,     1.44,2,  -999.0,  2.3788,-999.000
     64PE95N_1,  AR12,    51,  1,      8,   X008,2,19950728,1026, 43.8345, -12.0000, 4987,   3557.0,   2.5831,  34.9221,2,-999.0000,9,    238.0,2,   -999.0,9,    38.53,2,    21.77,2,     0.03,2,     1.46,2,  3560.0,  2.2823,   2.586
     64PE95N_1,  AR12,    51,  1,      7,   X007,4,19950728,1026, 43.8345, -12.0000, 4987,   3814.0,   2.5415,  34.9153,2,  34.9211,4,    237.6,2,    240.0,4,    38.95,4,    21.46,4,     0.04,4,     1.46,4,  -999.0,  2.2131,-999.000
     64PE95N_1,  AR12,    51,  1,      6,   X006,2,19950728,1026, 43.8345, -12.0000, 4987,   4072.0,   2.5161,  34.9096,2,-999.0000,9,    237.0,2,   -999.0,9,    41.36,2,    21.96,2,     0.02,2,     1.49,2,  4074.0,  2.1590,   2.514
     64PE95N_1,  AR12,    51,  1,      5,   X005,2,19950728,1026, 43.8345, -12.0000, 4987,   4294.0,   2.4985,  34.9051,2,  34.9047,2,    236.6,2,    239.3,2,    42.29,2,    22.10,2,     0.02,2,     1.51,2,  -999.0,  2.1159,-999.000
     64PE95N_1,  AR12,    51,  1,      4,   X004,2,19950728,1026, 43.8345, -12.0000, 4987,   4585.0,   2.4977,  34.9013,2,-999.0000,9,    236.1,2,   -999.0,9,    43.18,2,    22.25,2,     0.02,2,     1.50,2,  4590.0,  2.0801,   2.497
     64PE95N_1,  AR12,    51,  1,      3,   X003,2,19950728,1026, 43.8345, -12.0000, 4987,   4841.0,   2.5167,  34.9001,2,  34.8996,2,    235.8,2,    238.1,2,    43.53,2,    22.51,2,     0.01,2,     1.51,2,  -999.0,  2.0667,-999.000
     64PE95N_1,  AR12,    51,  1,      2,   X002,2,19950728,1026, 43.8345, -12.0000, 4987,   5048.0,   2.5350,  34.8989,2,-999.0000,9,    235.2,2,   -999.0,9,    43.82,2,    22.41,2,     0.01,2,     1.52,2,  5043.0,  2.0581,   2.534
     64PE95N_1,  AR12,    51,  1,      1,   X001,2,19950728,1026, 43.8345, -12.0000, 4987,   5130.0,   2.5441,  34.8985,2,  34.8983,6,    235.7,2,    238.4,6,    43.79,6,    22.39,6,     0.03,6,     1.52,6,  -999.0,  2.0564,-999.000
     64PE95N_1,  AR12,    52,  1,     24,   X024,2,19950728,1545, 44.2503, -11.9993, 4955,     10.0,  19.3582,  35.7615,2,  35.7604,2,    233.8,2,    233.2,6,     0.61,2,     0.02,2,     0.02,2,     0.05,2,  -999.0, 19.3564,-999.000
     64PE95N_1,  AR12,    52,  1,     23,   X023,2,19950728,1545, 44.2503, -11.9993, 4955,    103.0,  13.0800,  35.6944,2,  35.6929,2,    242.8,2,    242.7,2,     1.19,2,     4.33,2,     0.05,2,     0.30,2,  -999.0, 13.0657,-999.000
     64PE95N_1,  AR12,    52,  1,     22,   X022,2,19950728,1545, 44.2503, -11.9993, 4955,    203.0,  12.0317,  35.6381,2,-999.0000,9,    239.8,2,   -999.0,9,     2.62,2,     8.28,2,     0.03,2,     0.52,2,  -999.0, 12.0050,-999.000
     64PE95N_1,  AR12,    52,  1,     21,   X021,2,19950728,1545, 44.2503, -11.9993, 4955,    301.0,  11.5333,  35.5949,2,  35.5936,2,    234.0,2,    233.3,2,     3.56,2,    10.38,2,     0.01,2,     0.65,2,  -999.0, 11.4946,-999.000
     64PE95N_1,  AR12,    52,  1,     20,   X020,2,19950728,1545, 44.2503, -11.9993, 4955,    404.0,  11.1600,  35.5535,2,-999.0000,9,    231.3,2,   -999.0,9,     4.14,2,    11.49,2,     0.03,2,     0.71,2,  -999.0, 11.1089,-999.000
     64PE95N_1,  AR12,    52,  1,     19,   X019,2,19950728,1545, 44.2503, -11.9993, 4955,    606.0,  10.7512,  35.5890,2,  35.5882,2,    210.7,2,    209.2,2,     5.93,2,    14.01,2,     0.03,2,     0.87,2,  -999.0, 10.6757,-999.000
     64PE95N_1,  AR12,    52,  1,     18,   X018,2,19950728,1545, 44.2503, -11.9993, 4955,    807.0,  10.7263,  35.7801,2,-999.0000,9,    190.1,2,   -999.0,9,     7.81,2,    15.59,2,     0.01,2,     0.96,2,  -999.0, 10.6247,-999.000
     64PE95N_1,  AR12,    52,  1,     17,   X017,2,19950728,1545, 44.2503, -11.9993, 4955,   1010.0,  10.1697,  35.8522,2,  35.8475,2,    184.8,2,    185.0,2,     9.10,2,    16.45,2,     0.02,2,     1.03,2,  -999.0, 10.0452,-999.000
     64PE95N_1,  AR12,    52,  1,     16,   X016,2,19950728,1545, 44.2503, -11.9993, 4955,   1264.0,   7.9683,  35.5488,2,-999.0000,9,    202.9,2,   -999.0,9,    10.68,2,    17.59,2,     0.02,2,     1.11,2,  -999.0,  7.8309,-999.000
     64PE95N_1,  AR12,    52,  1,     15,   X015,2,19950728,1545, 44.2503, -11.9993, 4955,   1517.0,   5.8106,  35.2469,2,  35.2451,2,    229.5,2,    231.2,2,    12.41,2,    18.02,2,     0.01,2,     1.15,2,  -999.0,  5.6677,-999.000
     64PE95N_1,  AR12,    52,  1,     14,   X014,2,19950728,1545, 44.2503, -11.9993, 4955,   1771.0,   4.4173,  35.0520,2,-999.0000,9,    249.6,2,   -999.0,9,    13.88,2,    17.99,2,     0.02,2,     1.19,2,  -999.0,  4.2661,-999.000
     64PE95N_1,  AR12,    52,  1,     13,   X013,2,19950728,1545, 44.2503, -11.9993, 4955,   2026.0,   3.8756,  35.0107,2,  35.0099,2,    251.0,2,    253.0,2,    17.21,2,    18.39,2,     0.01,2,     1.23,2,  -999.0,  3.7073,-999.000
     64PE95N_1,  AR12,    52,  1,     12,   X012,2,19950728,1545, 44.2503, -11.9993, 4955,   2281.0,   3.4781,  34.9859,2,-999.0000,9,    251.3,2,   -999.0,9,    20.20,2,    18.64,2,     0.02,2,     1.26,2,  -999.0,  3.2911,-999.000
     64PE95N_1,  AR12,    52,  1,     11,   X011,2,19950728,1545, 44.2503, -11.9993, 4955,   2538.0,   3.1631,  34.9681,2,  34.9675,2,    247.8,2,    249.9,6,    25.31,2,    19.45,2,     0.00,2,     1.31,2,  -999.0,  2.9562,-999.000
     64PE95N_1,  AR12,    52,  1,     10,   X010,2,19950728,1545, 44.2503, -11.9993, 4955,   2789.0,   2.9545,  34.9554,2,-999.0000,9,    246.5,2,   -999.0,9,    28.69,2,    19.98,2,     0.01,2,     1.37,2,  -999.0,  2.7264,-999.000
     64PE95N_1,  AR12,    52,  1,      9,   X009,2,19950728,1545, 44.2503, -11.9993, 4955,   3045.0,   2.8085,  34.9452,2,  34.9444,2,    243.8,2,    245.3,2,    31.71,2,    20.45,2,     0.03,2,     1.38,2,  -999.0,  2.5571,-999.000
     64PE95N_1,  AR12,    52,  1,      8,   X008,2,19950728,1545, 44.2503, -11.9993, 4955,   3304.0,   2.6894,  34.9336,2,-999.0000,9,    241.3,2,   -999.0,9,    34.81,2,    20.92,2,     0.01,2,     1.42,2,  3307.0,  2.4134,   2.693
     64PE95N_1,  AR12,    52,  1,      7,   X007,4,19950728,1545, 44.2503, -11.9993, 4955,   3557.0,   2.6107,  34.9244,2,  34.9295,4,    238.5,2,    241.8,4,    36.16,4,    21.09,4,     0.01,4,     1.45,4,  -999.0,  2.3092,-999.000
     64PE95N_1,  AR12,    52,  1,      6,   X006,2,19950728,1545, 44.2503, -11.9993, 4955,   3811.0,   2.5621,  34.9175,2,-999.0000,9,    237.8,2,   -999.0,9,    39.26,2,    21.67,2,     0.02,2,     1.47,2,  3814.0,  2.2336,   2.561
     64PE95N_1,  AR12,    52,  1,      5,   X005,2,19950728,1545, 44.2503, -11.9993, 4955,   4069.0,   2.5275,  34.9108,2,  34.9099,2,    237.0,2,    239.3,2,    40.80,2,    21.92,2,     0.03,2,     1.49,2,  -999.0,  2.1704,-999.000
     64PE95N_1,  AR12,    52,  1,      4,   X004,2,19950728,1545, 44.2503, -11.9993, 4955,   4327.0,   2.5085,  34.9060,2,-999.0000,9,    237.2,2,   -999.0,9,    41.85,2,    21.99,2,     0.01,2,     1.50,2,  4332.0,  2.1216,   2.509
     64PE95N_1,  AR12,    52,  1,      3,   X003,2,19950728,1545, 44.2503, -11.9993, 4955,   4587.0,   2.5100,  34.9025,2,  34.9022,2,    237.4,2,    238.8,2,    42.51,2,    22.09,2,     0.01,2,     1.51,2,  -999.0,  2.0918,-999.000
     64PE95N_1,  AR12,    52,  1,      2,   X002,2,19950728,1545, 44.2503, -11.9993, 4955,   4843.0,   2.5201,  34.9003,2,-999.0000,9,    237.0,2,   -999.0,9,    43.51,2,    22.12,2,     0.03,2,     1.51,2,  4838.0,  2.0698,   2.520
     64PE95N_1,  AR12,    52,  1,      1,   X001,2,19950728,1545, 44.2503, -11.9993, 4955,   5096.0,   2.5373,  34.8983,2,  34.8977,6,    237.4,2,    238.5,6,    43.99,6,    22.21,6,     0.04,6,     1.52,6,  -999.0,  2.0542,-999.000