BOTTLE,20020117WHPSIOKJU
EXPOCODE,SECT_ID,STNNBR,CASTNO,SAMPNO,BTLNBR,BTLNBR_FLAG_W,DATE,TIME,LATITUDE,LONGITUDE,DEPTH,CTDPRS,CTDTMP,CTDSAL,CTDSAL_FLAG_W,SALNTY,SALNTY_FLAG_W,CTDOXY,CTDOXY_FLAG_W,OXYGEN,OXYGEN_FLAG_W,SILCAT,SILCAT_FLAG_W,NITRAT,NITRAT_FLAG_W,NITRIT,NITRIT_FLAG_W,PHSPHT,PHSPHT_FLAG_W,REVPRS,THETA,REVTMP
,,,,,,,,,,,,DBAR,ITS-90,PSS-78,,PSS-78,,UMOL/KG,,UMOL/KG,,UMOL/KG,,UMOL/KG,,UMOL/KG,,UMOL/KG,,DBAR,ITS-90,ITS-90
     64PE95N_1,  AR12,   121,  1,     19,   X019,2,19950810,0959, 45.0163,  -2.8160, 1350,      9.0,  22.4569,  34.3937,4,  34.9145,2,    222.1,2,    221.5,6,     0.51,2,     0.05,2,     0.00,2,     0.03,2,  -999.0, 22.4550,-999.000
     64PE95N_1,  AR12,   121,  1,     18,   X018,2,19950810,0959, 45.0163,  -2.8160, 1350,     51.0,  14.4357,  35.4684,2,-999.0000,9,    255.8,2,   -999.0,9,     0.69,2,     0.40,2,     0.06,2,     0.05,2,  -999.0, 14.4282,-999.000
     64PE95N_1,  AR12,   121,  1,     17,   X017,2,19950810,0959, 45.0163,  -2.8160, 1350,    102.0,  12.3247,  35.5692,2,  35.5698,2,    244.7,2,    244.4,2,     1.46,2,     5.21,2,     0.02,2,     0.33,2,  -999.0, 12.3111,-999.000
     64PE95N_1,  AR12,   121,  1,     16,   X016,2,19950810,0959, 45.0163,  -2.8160, 1350,    151.0,  12.0798,  35.5897,2,-999.0000,9,    246.2,2,   -999.0,9,     1.92,2,     6.44,2,     0.01,2,     0.40,2,  -999.0, 12.0598,-999.000
     64PE95N_1,  AR12,   121,  1,     15,   X015,2,19950810,0959, 45.0163,  -2.8160, 1350,    208.0,  11.7763,  35.5903,2,  35.5901,2,    243.6,2,    244.8,2,     2.39,2,     7.77,2,     0.03,2,     0.48,2,  -999.0, 11.7493,-999.000
     64PE95N_1,  AR12,   121,  1,     14,   X014,4,19950810,0959, 45.0163,  -2.8160, 1350,    304.0,  11.4805,  35.6023,2,-999.0000,9,    234.1,2,   -999.0,9,     2.68,4,     8.21,4,     0.04,4,     0.51,4,  -999.0, 11.4416,-999.000
     64PE95N_1,  AR12,   121,  1,     13,   X026,2,19950810,0959, 45.0163,  -2.8160, 1350,    403.0,  11.1980,  35.5852,2,  35.5842,2,    228.5,2,    229.7,2,     4.00,2,    11.30,2,     0.04,2,     0.68,2,  -999.0, 11.1470,-999.000
     64PE95N_1,  AR12,   121,  1,     12,   X029,2,19950810,0959, 45.0163,  -2.8160, 1350,    507.0,  10.8777,  35.5777,2,-999.0000,9,    218.2,2,   -999.0,9,     5.12,2,    13.02,2,     0.02,2,     0.79,2,  -999.0, 10.8143,-999.000
     64PE95N_1,  AR12,   121,  1,     11,   X007,2,19950810,0959, 45.0163,  -2.8160, 1350,    605.0,  10.5396,  35.5705,2,  35.5712,2,    210.0,2,    210.1,2,     6.28,2,    14.41,2,     0.02,2,     0.89,2,  -999.0, 10.4650,-999.000
     64PE95N_1,  AR12,   121,  1,     10,   X010,4,19950810,0959, 45.0163,  -2.8160, 1350,    705.0,  10.3513,  35.6372,2,-999.0000,9,    199.6,2,   -999.0,9,     5.12,4,    12.34,4,     0.06,4,     0.78,4,  -999.0, 10.2649,-999.000
     64PE95N_1,  AR12,   121,  1,      9,   X009,2,19950810,0959, 45.0163,  -2.8160, 1350,    806.0,  10.1444,  35.7004,2,  35.7000,2,    192.3,2,    187.0,2,     8.40,2,    16.22,2,     0.03,2,     1.01,2,  -999.0, 10.0464,-999.000
     64PE95N_1,  AR12,   121,  1,      8,   X008,2,19950810,0959, 45.0163,  -2.8160, 1350,    909.0,   9.9714,  35.7360,2,-999.0000,9,    190.0,2,   -999.0,9,     8.98,2,    16.56,2,     0.04,2,     1.03,2,   908.0,  9.8614,   9.974
     64PE95N_1,  AR12,   121,  1,      6,   X035,2,19950810,0959, 45.0163,  -2.8160, 1350,   1011.0,   9.6707,  35.7609,2,  35.7613,2,    189.2,2,    191.4,3,     9.66,2,    16.92,2,     0.00,2,     1.05,2,  1011.0,  9.5498,   9.669
     64PE95N_1,  AR12,   121,  1,      7,   X032,2,19950810,0959, 45.0163,  -2.8160, 1350,   1011.0,   9.6730,  35.7610,2,  35.7619,2,    189.3,2,    187.6,2,     9.67,2,    17.02,2,     0.00,2,     1.05,2,  -999.0,  9.5521,-999.000
     64PE95N_1,  AR12,   121,  1,      4,   X033,2,19950810,0959, 45.0163,  -2.8160, 1350,   1112.0,   9.2346,  35.7335,2,-999.0000,9,    191.5,2,   -999.0,9,    10.27,2,    17.19,2,     0.00,2,     1.07,2,  1111.0,  9.1044,   9.236
     64PE95N_1,  AR12,   121,  1,      5,   X034,2,19950810,0959, 45.0163,  -2.8160, 1350,   1112.0,   9.2328,  35.7333,2,  35.7305,2,    192.3,2,    193.3,2,    10.29,2,    17.21,2,     0.01,2,     1.05,2,  -999.0,  9.1026,-999.000
     64PE95N_1,  AR12,   121,  1,      2,   X030,2,19950810,0959, 45.0163,  -2.8160, 1350,   1213.0,   8.7176,  35.6715,2,  35.6682,2,    196.6,2,    198.7,3,    10.91,2,    17.52,2,     0.00,2,     1.09,2,  1209.0,  8.5794,   8.710
     64PE95N_1,  AR12,   121,  1,      3,   X028,2,19950810,0959, 45.0163,  -2.8160, 1350,   1213.0,   8.7231,  35.6720,2,  35.6680,2,    196.4,2,    195.8,2,    10.95,2,    17.51,2,     0.02,2,     1.08,2,  -999.0,  8.5849,-999.000
     64PE95N_1,  AR12,   121,  1,      1,   X001,2,19950810,0959, 45.0163,  -2.8160, 1350,   1373.0,   7.0048,  35.4313,3,  35.4232,6,    217.4,2,    216.1,6,    12.72,6,    17.96,6,     0.02,6,     1.13,6,  -999.0,  6.8645,-999.000
     64PE95N_1,  AR12,   122,  1,     15,   X015,2,19950810,1232, 45.0840,  -2.7170, 1127,     10.0,  22.2776,  34.3705,3,  34.4485,2,    223.8,2,    222.5,6,     0.51,2,     0.12,2,     0.00,2,     0.04,2,  -999.0, 22.2756,-999.000
     64PE95N_1,  AR12,   122,  1,     14,   X014,2,19950810,1232, 45.0840,  -2.7170, 1127,     51.0,  12.6798,  35.4175,2,-999.0000,9,    227.2,2,   -999.0,9,     1.94,2,     5.16,2,     0.04,2,     0.29,2,  -999.0, 12.6729,-999.000
     64PE95N_1,  AR12,   122,  1,     13,   X026,2,19950810,1232, 45.0840,  -2.7170, 1127,    101.0,  12.0516,  35.5591,2,  35.5580,2,    237.2,2,    238.2,2,     2.28,2,     6.72,2,     0.01,2,     0.42,2,  -999.0, 12.0383,-999.000
     64PE95N_1,  AR12,   122,  1,     12,   X029,2,19950810,1232, 45.0840,  -2.7170, 1127,    202.0,  11.7072,  35.5813,2,-999.0000,9,    239.3,2,   -999.0,9,     2.60,2,     8.08,2,     0.00,2,     0.50,2,  -999.0, 11.6811,-999.000
     64PE95N_1,  AR12,   122,  1,     11,   X007,2,19950810,1232, 45.0840,  -2.7170, 1127,    304.0,  11.2586,  35.5845,2,  35.5842,2,    228.2,2,    228.9,2,     3.84,2,    10.99,2,     0.00,2,     0.67,2,  -999.0, 11.2201,-999.000
     64PE95N_1,  AR12,   122,  1,     10,   X010,2,19950810,1232, 45.0840,  -2.7170, 1127,    403.0,  10.9912,  35.5828,2,-999.0000,9,    221.1,2,   -999.0,9,     4.74,2,    12.33,2,     0.01,2,     0.75,2,  -999.0, 10.9407,-999.000
     64PE95N_1,  AR12,   122,  1,      9,   X009,2,19950810,1232, 45.0840,  -2.7170, 1127,    504.0,  10.7804,  35.5860,2,  35.5852,2,    213.9,2,    213.9,2,     5.56,2,    13.39,2,     0.00,2,     0.82,2,  -999.0, 10.7178,-999.000
     64PE95N_1,  AR12,   122,  1,      8,   X008,2,19950810,1232, 45.0840,  -2.7170, 1127,    609.0,  10.5332,  35.6021,2,-999.0000,9,    205.0,2,   -999.0,9,     6.55,2,    14.59,2,     0.02,2,     0.90,2,   611.0, 10.4582,  10.531
     64PE95N_1,  AR12,   122,  1,      7,   X032,2,19950810,1232, 45.0840,  -2.7170, 1127,    704.0,  10.3204,  35.6473,2,  35.6474,2,    196.8,2,    196.1,2,     7.59,2,    15.62,2,     0.00,2,     0.97,2,  -999.0, 10.2343,-999.000
     64PE95N_1,  AR12,   122,  1,      6,   X035,2,19950810,1232, 45.0840,  -2.7170, 1127,    706.0,  10.3166,  35.6482,2,  35.6482,2,    196.3,2,    197.4,2,     7.56,2,    15.58,2,     0.00,2,     0.97,2,   703.0, 10.2302,  10.318
     64PE95N_1,  AR12,   122,  1,      5,   X034,2,19950810,1232, 45.0840,  -2.7170, 1127,    810.0,  10.1795,  35.6878,2,  35.6879,2,    191.3,2,    191.8,2,     8.22,2,    16.13,2,     0.01,2,     1.01,2,  -999.0, 10.0808,-999.000
     64PE95N_1,  AR12,   122,  1,      4,   X033,2,19950810,1232, 45.0840,  -2.7170, 1127,    900.0,   9.9976,  35.7233,2,-999.0000,9,    189.3,2,   -999.0,9,     8.87,2,    16.47,2,     0.01,2,     1.03,2,  -999.0,  9.8886,  10.002
     64PE95N_1,  AR12,   122,  1,      2,   X030,2,19950810,1232, 45.0840,  -2.7170, 1127,   1011.0,   9.5894,  35.7366,2,  35.7371,2,    188.8,2,    189.2,2,     9.73,2,    17.01,2,     0.02,2,     1.05,2,  1008.0,  9.4692,   9.583
     64PE95N_1,  AR12,   122,  1,      3,   X028,2,19950810,1232, 45.0840,  -2.7170, 1127,   1012.0,   9.5934,  35.7365,2,  35.7366,2,    189.4,2,    188.5,2,     9.78,2,    16.96,2,     0.00,2,     1.05,2,  -999.0,  9.4730,-999.000
     64PE95N_1,  AR12,   122,  1,      1,   X001,2,19950810,1232, 45.0840,  -2.7170, 1127,   1086.0,   9.4302,  35.7371,2,  35.7343,6,    190.5,2,    189.0,6,     9.98,6,    17.00,6,     0.02,6,     1.06,6,  -999.0,  9.3018,-999.000
     64PE95N_1,  AR12,   123,  1,      6,   X035,2,19950810,1356, 45.1337,  -2.6502,  134,     10.0,  22.3093,  34.3952,2,-999.0000,9,    223.4,2,    221.4,2,     0.44,2,     0.04,2,     0.03,2,     0.03,2,  -999.0, 22.3073,-999.000
     64PE95N_1,  AR12,   123,  1,      7,   X032,2,19950810,1356, 45.1337,  -2.6502,  134,     10.0,  22.4189,  34.3947,3,  34.4513,2,    223.5,2,    221.3,6,     0.45,2,     0.04,2,     0.02,2,     0.04,2,  -999.0, 22.4169,-999.000
     64PE95N_1,  AR12,   123,  1,      4,   X033,2,19950810,1356, 45.1337,  -2.6502,  134,     50.0,  12.3854,  35.4904,2,-999.0000,9,    229.1,2,   -999.0,9,     2.10,2,     6.05,2,     0.04,2,     0.36,2,  -999.0, 12.3787,-999.000
     64PE95N_1,  AR12,   123,  1,      5,   X034,2,19950810,1356, 45.1337,  -2.6502,  134,     50.0,  12.3798,  35.4918,3,  35.5015,2,    229.1,2,    232.1,2,     2.13,2,     6.09,2,     0.04,2,     0.36,2,  -999.0, 12.3731,-999.000
     64PE95N_1,  AR12,   123,  1,      2,   X030,2,19950810,1356, 45.1337,  -2.6502,  134,    102.0,  11.9880,  35.5606,2,  35.5648,2,    234.5,2,    236.1,2,     2.57,2,     7.77,2,     0.06,2,     0.42,3,  -999.0, 11.9747,-999.000
     64PE95N_1,  AR12,   123,  1,      3,   X028,2,19950810,1356, 45.1337,  -2.6502,  134,    102.0,  11.9934,  35.5606,2,  35.5624,2,    234.6,2,    236.1,2,     2.54,2,     7.75,2,     0.04,2,     0.47,2,  -999.0, 11.9801,-999.000
     64PE95N_1,  AR12,   123,  1,      1,   X001,2,19950810,1356, 45.1337,  -2.6502,  134,    132.0,  11.4891,  35.5845,2,  35.5797,6,    235.2,2,    233.1,6,     3.23,6,     9.51,6,     0.03,6,     0.56,6,  -999.0, 11.4723,-999.000
     64PE95N_1,  AR12,   125,  1,     12,   X037,2,19950811,1230, 46.6673,  -5.8340, 4224,   2433.0,   3.2607,  34.9803,2,  34.9813,2,    243.9,2,    246.4,2,    27.46,2,    20.02,2,     0.00,2,     1.34,2,  -999.0,  3.0625,-999.000
     64PE95N_1,  AR12,   125,  1,     13,   X026,2,19950811,1230, 46.6673,  -5.8340, 4224,   2434.0,   3.2608,  34.9801,2,  34.9799,2,    243.9,2,    246.1,2,    27.40,2,    20.02,2,     0.02,2,     1.33,2,  -999.0,  3.0625,-999.000
     64PE95N_1,  AR12,   125,  1,     11,   X007,2,19950811,1230, 46.6673,  -5.8340, 4224,   2841.0,   2.8900,  34.9499,2,  34.9498,2,    243.0,2,    244.1,2,    33.33,2,    20.98,2,     0.02,2,     1.40,2,  -999.0,  2.6579,-999.000
     64PE95N_1,  AR12,   125,  1,     10,   X036,2,19950811,1230, 46.6673,  -5.8340, 4224,   2842.0,   2.8901,  34.9494,2,  34.9494,2,    243.0,2,    244.1,2,    33.32,2,    21.08,2,     0.03,2,     1.42,2,  -999.0,  2.6579,-999.000
     64PE95N_1,  AR12,   125,  1,      9,   X009,2,19950811,1230, 46.6673,  -5.8340, 4224,   3250.0,   2.6690,  34.9291,2,  34.9293,2,    242.0,2,    240.9,2,    37.61,2,    21.55,2,     0.02,2,     1.45,2,  -999.0,  2.3992,-999.000
     64PE95N_1,  AR12,   125,  1,      7,   X032,2,19950811,1230, 46.6673,  -5.8340, 4224,   3251.0,   2.6689,  34.9290,2,  34.9296,2,    242.0,2,    242.0,2,    37.54,2,    21.50,2,     0.02,2,     1.46,2,  -999.0,  2.3990,-999.000
     64PE95N_1,  AR12,   125,  1,      8,   K003,2,19950811,1230, 46.6673,  -5.8340, 4224,   3251.0,   2.6688,  34.9292,2,  34.9314,2,    242.0,2,    240.9,2,    37.54,2,    21.45,2,     0.01,2,     1.45,2,  -999.0,  2.3989,-999.000
     64PE95N_1,  AR12,   125,  1,      4,   K002,2,19950811,1230, 46.6673,  -5.8340, 4224,   3660.0,   2.5383,  34.9149,2,  34.9154,2,    241.0,2,    237.6,2,    40.53,2,    21.95,2,     0.01,2,     1.49,2,  -999.0,  2.2273,-999.000
     64PE95N_1,  AR12,   125,  1,      5,   X034,2,19950811,1230, 46.6673,  -5.8340, 4224,   3660.0,   2.5380,  34.9152,2,  34.9172,2,    241.0,2,    239.0,2,    40.31,2,    21.92,2,     0.02,2,     1.48,2,  -999.0,  2.2270,-999.000
     64PE95N_1,  AR12,   125,  1,      6,   X035,2,19950811,1230, 46.6673,  -5.8340, 4224,   3660.0,   2.5382,  34.9149,2,  34.9178,2,    241.0,2,    240.6,2,    40.38,2,    21.96,2,     0.01,2,     1.48,2,  -999.0,  2.2272,-999.000
     64PE95N_1,  AR12,   125,  1,      1,   K001,2,19950811,1230, 46.6673,  -5.8340, 4224,   4331.0,   2.4985,  34.9042,2,  34.9043,2,    239.2,2,    235.4,2,    43.58,6,    22.33,6,     0.02,6,     1.51,6,  -999.0,  2.1114,-999.000
     64PE95N_1,  AR12,   125,  1,      2,   X030,2,19950811,1230, 46.6673,  -5.8340, 4224,   4331.0,   2.4988,  34.9040,2,  34.9038,2,    239.2,2,    237.7,2,    43.67,2,    22.43,2,     0.04,2,     1.53,2,  -999.0,  2.1118,-999.000
     64PE95N_1,  AR12,   125,  1,      3,   X028,2,19950811,1230, 46.6673,  -5.8340, 4224,   4332.0,   2.4988,  34.9039,2,  34.9038,2,    239.2,2,    238.8,2,    43.47,2,    22.42,2,     0.03,2,     1.52,2,  -999.0,  2.1116,-999.000
     64PE95N_1,  AR12,   125,  2,     12,   X037,2,19950811,1514, 46.6667,  -5.8330, 4235,      3.0,  20.5027,  35.3305,2,  35.3300,2,    230.3,2,    229.6,6,     0.60,2,     0.03,2,     0.00,2,     0.02,2,  -999.0, 20.5021,-999.000
     64PE95N_1,  AR12,   125,  2,     13,   X026,2,19950811,1514, 46.6667,  -5.8330, 4235,      3.0,  20.5164,  35.3322,2,  35.3317,2,    229.4,2,    230.3,6,     0.62,2,     0.05,2,     0.03,2,     0.02,2,  -999.0, 20.5164,-999.000
     64PE95N_1,  AR12,   125,  2,     10,   X036,2,19950811,1514, 46.6667,  -5.8330, 4235,    504.0,  10.7668,  35.5174,2,  35.5169,2,    227.8,2,    227.4,6,     4.87,2,    12.45,2,     0.03,2,     0.76,2,  -999.0, 10.7041,-999.000
     64PE95N_1,  AR12,   125,  2,     11,   X007,2,19950811,1514, 46.6667,  -5.8330, 4235,    505.0,  10.7675,  35.5174,2,  35.5168,2,    227.8,2,    227.6,6,     4.89,2,    12.50,2,     0.01,2,     0.76,2,  -999.0, 10.7671,-999.000
     64PE95N_1,  AR12,   125,  2,      7,   X032,2,19950811,1514, 46.6667,  -5.8330, 4235,   1011.0,   9.5726,  35.7287,2,  35.7323,2,    192.1,2,    190.3,6,     9.75,2,    16.91,2,     0.01,2,     1.04,2,  -999.0,  9.4523,-999.000
     64PE95N_1,  AR12,   125,  2,      8,   K003,2,19950811,1514, 46.6667,  -5.8330, 4235,   1012.0,   9.5710,  35.7289,2,  35.7296,2,    191.8,2,    193.8,6,     9.73,2,    16.86,2,     0.00,2,     1.05,2,  -999.0,  9.4508,-999.000
     64PE95N_1,  AR12,   125,  2,      9,   X009,2,19950811,1514, 46.6667,  -5.8330, 4235,   1012.0,   9.5712,  35.7292,2,  35.7304,2,    192.5,2,    190.1,6,     9.76,2,    16.80,2,     0.03,2,     1.04,2,  -999.0,  9.5128,-999.000
     64PE95N_1,  AR12,   125,  2,      4,   K002,2,19950811,1514, 46.6667,  -5.8330, 4235,   1543.0,   5.7177,  35.2347,2,  35.2354,2,    227.0,2,    229.4,6,    14.44,2,    18.28,2,     0.00,2,     1.18,2,  -999.0,  5.5732,-999.000
     64PE95N_1,  AR12,   125,  2,      5,   X034,2,19950811,1514, 46.6667,  -5.8330, 4235,   1543.0,   5.7206,  35.2352,2,  35.2344,2,    226.4,2,    230.4,6,    14.50,2,    18.29,2,     0.01,2,     1.18,2,  -999.0,  5.5761,-999.000
     64PE95N_1,  AR12,   125,  2,      6,   X035,2,19950811,1514, 46.6667,  -5.8330, 4235,   1543.0,   5.7204,  35.2352,2,  35.2343,2,    227.4,2,    230.9,6,    14.53,2,    18.27,2,     0.00,2,     1.18,2,  -999.0,  5.6294,-999.000
     64PE95N_1,  AR12,   125,  2,      2,   X030,2,19950811,1514, 46.6667,  -5.8330, 4235,   2016.0,   3.9326,  35.0376,2,  35.0376,2,    245.6,2,    244.9,6,    21.50,2,    19.23,2,     0.03,2,     1.26,2,  -999.0,  3.7642,-999.000
     64PE95N_1,  AR12,   125,  2,      3,   X028,2,19950811,1514, 46.6667,  -5.8330, 4235,   2016.0,   3.9285,  35.0369,2,  35.0374,2,    246.4,2,    245.6,6,    21.53,2,    19.16,2,     0.00,2,     1.27,2,  -999.0,  3.8050,-999.000
     64PE95N_1,  AR12,   125,  2,      1,   K001,2,19950811,1514, 46.6667,  -5.8330, 4235,   2017.0,   3.9239,  35.0371,2,  35.0379,2,    246.3,2,    244.2,6,    21.52,6,    19.09,6,     0.01,6,     1.27,6,  -999.0,  3.7558,-999.000