BOTTLE,20020117WHPSIOKJU
#code : jjward hyd_to_exchange.pl 
#original files copied from HTML directory: 20020117
#original HYD file: ar12_dhy.txt   Thu Feb 10 16:15:17 2000
#original SUM file: ar12_dsu.txt   Thu Feb 10 15:52:41 2000
EXPOCODE,SECT_ID,STNNBR,CASTNO,SAMPNO,BTLNBR,BTLNBR_FLAG_W,DATE,TIME,LATITUDE,LONGITUDE,DEPTH,CTDPRS,CTDTMP,CTDSAL,CTDSAL_FLAG_W,SALNTY,SALNTY_FLAG_W,CTDOXY,CTDOXY_FLAG_W,OXYGEN,OXYGEN_FLAG_W,SILCAT,SILCAT_FLAG_W,NITRAT,NITRAT_FLAG_W,NITRIT,NITRIT_FLAG_W,PHSPHT,PHSPHT_FLAG_W,REVPRS,THETA,REVTMP
,,,,,,,,,,,,DBAR,ITS-90,PSS-78,,PSS-78,,UMOL/KG,,UMOL/KG,,UMOL/KG,,UMOL/KG,,UMOL/KG,,UMOL/KG,,DBAR,ITS-90,ITS-90
     64PE95N_1,  AR12,    13,  1,      4,   X004,2,19950723,0419, 47.0003,  -5.0043,  143,      9.0,  17.7664,  35.3549,3,  35.3750,2,    249.1,2,    250.7,6,     0.66,6,     0.08,6,     0.02,6,     0.04,6,     6.0, 17.7648,-999.000
     64PE95N_1,  AR12,    13,  1,      3,   X003,2,19950723,0419, 47.0003,  -5.0043,  143,     50.0,  11.7296,  35.4914,2,  35.4924,2,    226.0,2,    228.1,2,     3.03,6,     7.86,6,     0.05,6,     0.51,6,  -999.0, 11.7232,-999.000
     64PE95N_1,  AR12,    13,  1,      2,   X002,2,19950723,0419, 47.0003,  -5.0043,  143,    101.0,  11.7255,  35.4940,2,-999.0000,9,    231.4,2,   -999.0,9,     3.08,6,     7.88,6,     0.03,6,     0.50,6,  -999.0, 11.7124,-999.000
     64PE95N_1,  AR12,    13,  1,      1,   X001,2,19950723,0419, 47.0003,  -5.0043,  143,    147.0,  11.5446,  35.5054,3,  35.4994,6,    229.2,2,    229.1,6,     3.23,6,     8.26,6,     0.06,6,     0.53,6,  -999.0, 11.5258,-999.000
     64PE95N_1,  AR12,    14,  1,      4,   X004,2,19950723,0511, 46.9342,  -5.0982,  145,     10.0,  17.6368,  35.3780,2,  35.3797,2,    243.9,2,    246.7,6,     0.66,6,     0.15,6,     0.00,6,     0.06,6,     8.0, 17.6351,-999.000
     64PE95N_1,  AR12,    14,  1,      3,   X003,2,19950723,0511, 46.9342,  -5.0982,  145,     50.0,  12.8716,  35.4595,2,  35.4597,2,    238.1,2,    236.8,2,     1.70,6,     5.03,6,     0.10,6,     0.35,6,  -999.0, 12.8648,-999.000
     64PE95N_1,  AR12,    14,  1,      2,   X002,2,19950723,0511, 46.9342,  -5.0982,  145,    101.0,  11.6711,  35.4778,2,-999.0000,9,    225.5,2,   -999.0,9,     2.90,6,     7.69,6,     0.06,6,     0.50,6,    99.0, 11.6582,-999.000
     64PE95N_1,  AR12,    14,  1,      1,   X001,2,19950723,0511, 46.9342,  -5.0982,  145,    142.0,  11.6411,  35.4695,2,  35.4662,6,    227.3,2,    227.8,2,     2.77,6,     7.54,6,     0.06,6,     0.51,6,  -999.0, 11.6228,-999.000
     64PE95N_1,  AR12,    15,  1,      5,   X005,2,19950723,0608, 46.8623,  -5.2010,  185,     10.0,  17.9384,  35.2787,3,  35.2833,2,    248.9,2,    245.1,6,     0.71,6,     0.01,6,     0.01,6,     0.05,6,  -999.0, 17.9366,-999.000
     64PE95N_1,  AR12,    15,  1,      4,   X004,2,19950723,0608, 46.8623,  -5.2010,  185,     51.0,  13.0294,  35.4541,2,-999.0000,9,    238.0,2,   -999.0,9,     1.80,6,     4.96,6,     0.10,6,     0.34,6,    50.0, 13.0224,-999.000
     64PE95N_1,  AR12,    15,  1,      3,   X003,2,19950723,0608, 46.8623,  -5.2010,  185,    101.0,  12.1840,  35.4684,2,  35.4689,2,    234.9,2,    235.5,2,     2.23,6,     6.43,6,     0.07,6,     0.43,6,  -999.0, 12.1706,-999.000
     64PE95N_1,  AR12,    15,  1,      2,   X002,2,19950723,0608, 46.8623,  -5.2010,  185,    152.0,  11.6264,  35.4674,2,-999.0000,9,    233.4,2,   -999.0,9,     2.63,6,     7.61,6,     0.08,6,     0.50,6,   151.0, 11.6069,-999.000
     64PE95N_1,  AR12,    15,  1,      1,   X001,2,19950723,0608, 46.8623,  -5.2010,  185,    181.0,  11.4939,  35.5398,2,  35.5393,6,    232.9,2,    230.8,6,     3.37,6,     9.14,6,     0.05,6,     0.59,6,  -999.0, 11.4708,-999.000
     64PE95N_1,  AR12,    16,  1,     13,   X013,2,19950723,0725, 46.8003,  -5.3008,  959,      9.0,  18.0363,  35.2720,3,  35.2799,2,    244.5,2,    244.7,6,     0.71,2,     0.00,2,     0.02,2,     0.01,2,  -999.0, 18.0347,-999.000
     64PE95N_1,  AR12,    16,  1,     12,   X012,2,19950723,0725, 46.8003,  -5.3008,  959,     51.0,  14.2938,  35.3834,2,-999.0000,9,    242.3,2,   -999.0,9,     1.19,2,     2.26,2,     0.21,2,     0.16,2,  -999.0, 14.2863,-999.000
     64PE95N_1,  AR12,    16,  1,     11,   X011,2,19950723,0725, 46.8003,  -5.3008,  959,    101.0,  12.1319,  35.5580,2,  35.5602,2,    239.7,2,    243.9,2,     1.89,2,     6.05,2,     0.03,2,     0.38,2,  -999.0, 12.1186,-999.000
     64PE95N_1,  AR12,    16,  1,     10,   X010,2,19950723,0725, 46.8003,  -5.3008,  959,    150.0,  11.7326,  35.5731,2,-999.0000,9,    242.0,2,   -999.0,9,     2.25,2,     7.55,2,     0.00,2,     0.45,2,  -999.0, 11.7132,-999.000
     64PE95N_1,  AR12,    16,  1,      9,   X009,2,19950723,0725, 46.8003,  -5.3008,  959,    202.0,  11.5758,  35.5714,2,  35.5724,2,    243.2,2,    245.3,2,     2.59,2,     8.07,2,     0.02,2,     0.49,2,  -999.0, 11.5499,-999.000
     64PE95N_1,  AR12,    16,  1,      8,   X008,2,19950723,0725, 46.8003,  -5.3008,  959,    304.0,  11.3310,  35.5810,2,-999.0000,9,    230.2,2,   -999.0,9,     3.66,2,    10.55,2,     0.02,2,     0.65,2,   302.0, 11.2924,  11.341
     64PE95N_1,  AR12,    16,  1,      7,   X007,2,19950723,0725, 46.8003,  -5.3008,  959,    404.0,  11.0638,  35.5710,2,  35.5715,2,    224.7,2,    225.9,2,     4.42,2,    11.88,2,     0.01,2,     0.73,2,  -999.0, 11.0130,-999.000
     64PE95N_1,  AR12,    16,  1,      6,   X006,2,19950723,0725, 46.8003,  -5.3008,  959,    506.0,  10.7923,  35.5795,2,-999.0000,9,    216.9,2,   -999.0,9,     4.28,2,    10.89,2,     0.00,2,     0.67,2,  -999.0, 10.7294,  10.795
     64PE95N_1,  AR12,    16,  1,      5,   X005,4,19950723,0725, 46.8003,  -5.3008,  959,    607.0,  10.5406,  35.5951,2,  35.5868,4,    211.4,2,    223.1,4,     4.98,4,    12.10,4,     0.00,4,     0.74,4,  -999.0, 10.4658,-999.000
     64PE95N_1,  AR12,    16,  1,      4,   X004,2,19950723,0725, 46.8003,  -5.3008,  959,    708.0,  10.2192,  35.6480,2,-999.0000,9,    196.8,2,   -999.0,9,     7.72,2,    15.76,2,     0.01,2,     0.98,2,   707.0, 10.1331,  10.217
     64PE95N_1,  AR12,    16,  1,      3,   X003,2,19950723,0725, 46.8003,  -5.3008,  959,    808.0,  10.0974,  35.6623,2,  35.6603,2,    196.1,2,    196.8,2,     8.02,2,    15.90,2,     0.01,2,     0.99,2,  -999.0,  9.9995,-999.000
     64PE95N_1,  AR12,    16,  1,      2,   X002,2,19950723,0725, 46.8003,  -5.3008,  959,    912.0,   9.7924,  35.6693,2,-999.0000,9,    195.2,2,   -999.0,9,     9.53,2,    16.72,2,     0.00,2,     1.05,2,   906.0,  9.6832,   9.768
     64PE95N_1,  AR12,    16,  1,      1,   X001,2,19950723,0725, 46.8003,  -5.3008,  959,    953.0,   9.4366,  35.6686,2,  35.6690,6,    196.0,2,    195.1,6,     9.25,6,    16.57,6,     0.02,6,     1.05,6,  -999.0,  9.3247,-999.000
     64PE95N_1,  AR12,    17,  1,     19,   X019,2,19950723,0850, 46.7343,  -5.3998, 1535,     10.0,  17.0634,  35.3086,2,  35.3114,2,    253.9,2,    253.7,2,     0.75,2,     0.00,2,     0.01,2,     0.02,2,  -999.0, 17.0617,-999.000
     64PE95N_1,  AR12,    17,  1,     18,   X018,2,19950723,0850, 46.7343,  -5.3998, 1535,     51.0,  14.9351,  35.3533,2,-999.0000,9,    248.4,2,   -999.0,9,     0.89,2,     0.53,2,     0.16,2,     0.06,2,  -999.0, 14.9274,-999.000
     64PE95N_1,  AR12,    17,  1,     17,   X017,2,19950723,0850, 46.7343,  -5.3998, 1535,    102.0,  12.4904,  35.5524,2,  35.5526,2,    244.1,2,    245.6,2,     1.54,2,     4.81,2,     0.04,2,     0.31,2,  -999.0, 12.4767,-999.000
     64PE95N_1,  AR12,    17,  1,     16,   X016,2,19950723,0850, 46.7343,  -5.3998, 1535,    150.0,  11.7484,  35.5761,2,-999.0000,9,    243.4,2,   -999.0,9,     2.31,2,     7.50,2,     0.01,2,     0.44,2,  -999.0, 11.7289,-999.000
     64PE95N_1,  AR12,    17,  1,     15,   X015,2,19950723,0850, 46.7343,  -5.3998, 1535,    202.0,  11.5994,  35.5769,2,  35.5779,2,    241.1,2,    244.0,2,     2.76,2,     8.42,2,     0.01,2,     0.51,2,  -999.0, 11.5734,-999.000
     64PE95N_1,  AR12,    17,  1,     14,   X014,2,19950723,0850, 46.7343,  -5.3998, 1535,    303.0,  11.3761,  35.5844,2,-999.0000,9,    234.4,2,   -999.0,9,     2.83,2,     8.41,2,     0.01,2,     0.51,2,  -999.0, 11.3376,-999.000
     64PE95N_1,  AR12,    17,  1,     13,   X013,2,19950723,0850, 46.7343,  -5.3998, 1535,    405.0,  11.0668,  35.5712,2,  35.5722,2,    227.6,2,    226.8,2,     4.40,2,    12.05,2,     0.01,2,     0.71,2,  -999.0, 11.0159,-999.000
     64PE95N_1,  AR12,    17,  1,     12,   X012,2,19950723,0850, 46.7343,  -5.3998, 1535,    505.0,  10.8227,  35.5694,2,-999.0000,9,    219.6,2,   -999.0,9,     5.22,2,    13.09,2,     0.01,2,     0.79,2,  -999.0, 10.7598,-999.000
     64PE95N_1,  AR12,    17,  1,     11,   X011,2,19950723,0850, 46.7343,  -5.3998, 1535,    606.0,  10.5180,  35.5937,2,  35.5954,2,    209.4,2,    207.5,2,     6.47,2,    14.41,2,     0.00,2,     0.88,2,  -999.0, 10.4435,-999.000
     64PE95N_1,  AR12,    17,  1,     10,   X010,2,19950723,0850, 46.7343,  -5.3998, 1535,    708.0,  10.3152,  35.6230,2,-999.0000,9,    205.5,2,   -999.0,9,     7.21,2,    15.14,2,     0.00,2,     0.92,2,  -999.0, 10.2287,-999.000
     64PE95N_1,  AR12,    17,  1,      9,   X009,2,19950723,0850, 46.7343,  -5.3998, 1535,    808.0,  10.1131,  35.6475,2,  35.6488,2,    200.0,2,    199.0,2,     7.96,2,    15.69,2,     0.01,2,     0.97,2,  -999.0, 10.0150,-999.000
     64PE95N_1,  AR12,    17,  1,      8,   X008,2,19950723,0850, 46.7343,  -5.3998, 1535,    908.0,   9.8598,  35.6934,2,-999.0000,9,    194.1,2,   -999.0,9,     8.88,2,    16.51,2,     0.01,2,     1.02,2,   906.0,  9.7507,   9.857
     64PE95N_1,  AR12,    17,  1,      7,   X007,2,19950723,0850, 46.7343,  -5.3998, 1535,   1011.0,   9.7353,  35.7701,2,  35.7711,2,    188.1,2,    188.1,2,     9.51,2,    16.99,2,     0.00,2,     1.05,2,  -999.0,  9.6140,-999.000
     64PE95N_1,  AR12,    17,  1,      6,   X006,2,19950723,0850, 46.7343,  -5.3998, 1535,   1113.0,   9.5114,  35.7607,2,-999.0000,9,    189.8,2,   -999.0,9,     9.89,2,    17.11,2,     0.00,2,     1.06,2,  -999.0,  9.3790,   9.509
     64PE95N_1,  AR12,    17,  1,      5,   X005,2,19950723,0850, 46.7343,  -5.3998, 1535,   1214.0,   8.5326,  35.6371,2,  35.6334,2,    198.3,2,    200.5,2,    10.97,2,    17.58,2,     0.01,2,     1.12,2,  -999.0,  8.3960,-999.000
     64PE95N_1,  AR12,    17,  1,      4,   X004,2,19950723,0850, 46.7343,  -5.3998, 1535,   1315.0,   7.6531,  35.5164,2,-999.0000,9,    207.4,2,   -999.0,9,    12.25,2,    17.91,2,     0.01,2,     1.16,2,  1313.0,  7.5130,   7.648
     64PE95N_1,  AR12,    17,  1,      3,   X003,2,19950723,0850, 46.7343,  -5.3998, 1535,   1415.0,   7.0309,  35.4871,2,  35.4423,4,    215.9,2,    213.8,2,    13.09,2,    18.28,2,     0.00,2,     1.16,2,  -999.0,  6.8856,-999.000
     64PE95N_1,  AR12,    17,  1,      2,   X002,2,19950723,0850, 46.7343,  -5.3998, 1535,   1522.0,   6.5004,  35.3598,2,-999.0000,9,    222.4,2,   -999.0,9,    14.14,2,    18.46,2,     0.00,2,     1.17,2,  1516.0,  6.3491,   6.505
     64PE95N_1,  AR12,    17,  1,      1,   X001,2,19950723,0850, 46.7343,  -5.3998, 1535,   1552.0,   6.3598,  35.3413,2,  35.3440,6,    224.2,2,    222.1,2,    14.56,6,    18.39,6,     0.02,6,     1.17,6,  -999.0,  6.2069,-999.000
     64PE95N_1,  AR12,    18,  1,     24,   X024,2,19950723,1120, 46.6665,  -5.5398, 3544,      9.0,  19.1932,  35.1514,3,  35.1667,2,    240.5,2,    241.4,6,     0.63,2,     0.06,2,     0.00,2,     0.00,2,  -999.0, 19.1915,-999.000
     64PE95N_1,  AR12,    18,  1,     23,   X023,2,19950723,1120, 46.6665,  -5.5398, 3544,     99.0,  12.0312,  35.5813,2,  35.5785,2,    248.0,2,    246.2,2,     1.97,2,     5.97,2,     0.03,2,     0.36,2,  -999.0, 12.0182,-999.000
     64PE95N_1,  AR12,    18,  1,     22,   X022,2,19950723,1120, 46.6665,  -5.5398, 3544,    201.0,  11.5430,  35.5748,2,-999.0000,9,    243.5,2,   -999.0,9,     3.43,2,     8.10,2,     0.02,2,     0.48,2,  -999.0, 11.5172,-999.000
     64PE95N_1,  AR12,    18,  1,     21,   X021,2,19950723,1120, 46.6665,  -5.5398, 3544,    303.0,  11.3334,  35.5786,2,  35.5783,2,    233.3,2,    234.3,2,     3.53,2,    10.42,2,     0.00,2,     0.61,2,  -999.0, 11.2949,-999.000
     64PE95N_1,  AR12,    18,  1,     20,   X020,2,19950723,1120, 46.6665,  -5.5398, 3544,    402.0,  11.0707,  35.5678,2,-999.0000,9,    229.0,2,   -999.0,9,     3.60,2,    10.04,2,     0.00,2,     0.59,2,  -999.0, 11.0201,-999.000
     64PE95N_1,  AR12,    18,  1,     19,   X019,2,19950723,1120, 46.6665,  -5.5398, 3544,    505.0,  10.8560,  35.5727,2,  35.5691,2,    220.3,2,    220.7,2,     5.15,2,    12.72,2,     0.01,2,     0.76,2,  -999.0, 10.7930,-999.000
     64PE95N_1,  AR12,    18,  1,     18,   X018,2,19950723,1120, 46.6665,  -5.5398, 3544,    605.0,  10.5835,  35.5843,2,-999.0000,9,    212.6,2,   -999.0,9,     6.17,2,    14.16,2,     0.00,2,     0.85,2,  -999.0, 10.5088,-999.000
     64PE95N_1,  AR12,    18,  1,     17,   X017,2,19950723,1120, 46.6665,  -5.5398, 3544,    706.0,  10.3679,  35.6180,2,  35.6186,2,    203.6,2,    202.4,2,     7.23,2,    15.24,2,     0.00,2,     0.91,2,  -999.0, 10.2813,-999.000
     64PE95N_1,  AR12,    18,  1,     16,   X016,2,19950723,1120, 46.6665,  -5.5398, 3544,    807.0,  10.1325,  35.6602,2,-999.0000,9,    198.4,2,   -999.0,9,     7.97,2,    15.71,2,     0.00,2,     0.97,2,  -999.0, 10.0345,-999.000
     64PE95N_1,  AR12,    18,  1,     15,   X015,2,19950723,1120, 46.6665,  -5.5398, 3544,    908.0,   9.9714,  35.7150,2,  35.7149,2,    192.0,2,    191.7,2,     8.87,2,    16.47,2,     0.02,2,     1.01,2,  -999.0,  9.8615,-999.000
     64PE95N_1,  AR12,    18,  1,     14,   X014,2,19950723,1120, 46.6665,  -5.5398, 3544,   1010.0,   9.7576,  35.7430,2,-999.0000,9,    190.1,2,   -999.0,9,     9.40,2,    16.84,2,     0.02,2,     1.04,2,  -999.0,  9.6363,-999.000
     64PE95N_1,  AR12,    18,  1,     13,   X013,2,19950723,1120, 46.6665,  -5.5398, 3544,   1212.0,   8.5148,  35.6373,2,  35.6345,2,    199.3,2,    198.6,2,    10.89,2,    17.27,2,     0.00,2,     1.07,2,  -999.0,  8.3785,-999.000
     64PE95N_1,  AR12,    18,  1,     12,   X012,2,19950723,1120, 46.6665,  -5.5398, 3544,   1417.0,   6.6277,  35.3709,2,-999.0000,9,    218.3,2,   -999.0,9,    13.26,2,    18.21,2,     0.00,2,     1.17,2,  -999.0,  6.4865,-999.000
     64PE95N_1,  AR12,    18,  1,     11,   X011,2,19950723,1120, 46.6665,  -5.5398, 3544,   1621.0,   5.0726,  35.1682,2,  35.1706,2,    235.2,2,    235.4,2,    16.61,2,    18.63,2,     0.01,2,     1.21,2,  -999.0,  4.9278,-999.000
     64PE95N_1,  AR12,    18,  1,     10,   X010,2,19950723,1120, 46.6665,  -5.5398, 3544,   1822.0,   4.5517,  35.1111,2,-999.0000,9,    238.9,2,   -999.0,9,    19.30,2,    19.16,2,     0.01,2,     1.26,2,  -999.0,  4.3935,-999.000
     64PE95N_1,  AR12,    18,  1,      9,   X009,2,19950723,1120, 46.6665,  -5.5398, 3544,   2026.0,   4.0694,  35.0562,2,  35.0571,2,    242.2,2,    243.7,2,    21.49,2,    19.37,2,     0.00,2,     1.26,2,  -999.0,  3.8980,-999.000
     64PE95N_1,  AR12,    18,  1,      8,   X008,2,19950723,1120, 46.6665,  -5.5398, 3544,   2230.0,   3.6746,  35.0168,2,-999.0000,9,    244.2,2,   -999.0,9,    24.05,2,    19.65,2,     0.00,2,     1.29,2,  2231.0,  3.4893,   3.675
     64PE95N_1,  AR12,    18,  1,      7,   X007,4,19950723,1120, 46.6665,  -5.5398, 3544,   2435.0,   3.2145,  34.9768,2,  35.0301,4,    245.0,2,   -999.0,9,    26.51,4,    19.88,4,     0.02,4,     1.33,4,  -999.0,  3.0170,-999.000
     64PE95N_1,  AR12,    18,  1,      6,   X006,2,19950723,1120, 46.6665,  -5.5398, 3544,   2633.0,   2.9769,  34.9570,2,-999.0000,9,    244.3,2,   -999.0,9,    31.82,2,    20.71,2,     0.00,2,     1.40,2,  -999.0,  2.7641,   2.983
     64PE95N_1,  AR12,    18,  1,      5,   X005,2,19950723,1120, 46.6665,  -5.5398, 3544,   2843.0,   2.8418,  34.9450,2,  34.9456,2,    243.7,2,    242.0,2,    34.50,2,    21.13,2,     0.00,2,     1.42,2,  -999.0,  2.6105,-999.000
     64PE95N_1,  AR12,    18,  1,      4,   X004,2,19950723,1120, 46.6665,  -5.5398, 3544,   3047.0,   2.7127,  34.9334,2,-999.0000,9,    243.2,2,   -999.0,9,    36.42,2,    21.40,2,     0.00,2,     1.45,2,  3049.0,  2.4633,   2.712
     64PE95N_1,  AR12,    18,  1,      3,   X003,2,19950723,1120, 46.6665,  -5.5398, 3544,   3252.0,   2.6509,  34.9265,2,  34.9275,2,    242.8,2,    241.4,2,    38.07,2,    21.59,2,     0.02,2,     1.47,2,  -999.0,  2.3814,-999.000
     64PE95N_1,  AR12,    18,  1,      2,   X002,2,19950723,1120, 46.6665,  -5.5398, 3544,   3457.0,   2.5926,  34.9200,2,-999.0000,9,    243.4,2,   -999.0,9,    39.28,2,    21.85,2,     0.01,2,     1.49,2,  3452.0,  2.3024,   2.594
     64PE95N_1,  AR12,    18,  1,      1,   X001,2,19950723,1120, 46.6665,  -5.5398, 3544,   3588.0,   2.5882,  34.9183,2,  34.9196,6,    243.7,2,    240.8,2,    39.81,6,    21.91,6,     0.01,6,     1.49,6,  -999.0,  2.2838,-999.000