BOTTLE,20020117WHPSIOKJU
EXPOCODE,SECT_ID,STNNBR,CASTNO,SAMPNO,BTLNBR,BTLNBR_FLAG_W,DATE,TIME,LATITUDE,LONGITUDE,DEPTH,CTDPRS,CTDTMP,CTDSAL,CTDSAL_FLAG_W,SALNTY,SALNTY_FLAG_W,CTDOXY,CTDOXY_FLAG_W,OXYGEN,OXYGEN_FLAG_W,SILCAT,SILCAT_FLAG_W,NITRAT,NITRAT_FLAG_W,NITRIT,NITRIT_FLAG_W,PHSPHT,PHSPHT_FLAG_W,REVPRS,THETA,REVTMP
,,,,,,,,,,,,DBAR,ITS-90,PSS-78,,PSS-78,,UMOL/KG,,UMOL/KG,,UMOL/KG,,UMOL/KG,,UMOL/KG,,UMOL/KG,,DBAR,ITS-90,ITS-90
     64PE95N_1,  AR12,   100,  1,     24,   X024,2,19950806,2205, 45.2815,  -3.9148, 3937,     10.0,  21.7207,  34.9788,2,  34.9806,2,    224.6,2,    224.2,6,     0.49,2,     0.00,2,     0.05,2,     0.04,2,  -999.0, 21.7187,-999.000
     64PE95N_1,  AR12,   100,  1,     23,   X023,2,19950806,2205, 45.2815,  -3.9148, 3937,    101.0,  12.3473,  35.6097,2,  35.6085,2,    245.9,2,    245.7,2,     1.53,2,     5.59,2,     0.07,2,     0.37,2,  -999.0, 12.3338,-999.000
     64PE95N_1,  AR12,   100,  1,     22,   X022,2,19950806,2205, 45.2815,  -3.9148, 3937,    202.0,  11.6801,  35.6002,2,-999.0000,9,    241.5,2,   -999.0,9,     2.79,2,     8.65,2,     0.05,2,     0.53,2,  -999.0, 11.6541,-999.000
     64PE95N_1,  AR12,   100,  1,     21,   X021,2,19950806,2205, 45.2815,  -3.9148, 3937,    303.0,  11.4145,  35.5950,2,  35.5956,2,    235.8,2,    234.9,2,     3.33,2,    10.09,2,     0.03,2,     0.61,2,  -999.0, 11.3759,-999.000
     64PE95N_1,  AR12,   100,  1,     20,   X027,2,19950806,2205, 45.2815,  -3.9148, 3937,    404.0,  11.1604,  35.5767,2,-999.0000,9,    229.4,2,   -999.0,9,     4.07,2,    11.40,2,     0.03,2,     0.68,2,  -999.0, 11.1093,-999.000
     64PE95N_1,  AR12,   100,  1,     19,   X019,2,19950806,2205, 45.2815,  -3.9148, 3937,    505.0,  10.9781,  35.5679,2,  35.5674,2,    222.8,2,    223.4,2,     4.65,2,    12.34,2,     0.03,2,     0.75,2,  -999.0, 10.9147,-999.000
     64PE95N_1,  AR12,   100,  1,     18,   X018,2,19950806,2205, 45.2815,  -3.9148, 3937,    608.0,  10.5733,  35.5457,2,-999.0000,9,    214.8,2,   -999.0,9,     5.89,2,    13.96,2,     0.01,2,     0.86,2,  -999.0, 10.4983,-999.000
     64PE95N_1,  AR12,   100,  1,     17,   X017,2,19950806,2205, 45.2815,  -3.9148, 3937,    714.0,  10.4074,  35.6225,2,  35.6213,2,    201.2,2,    200.1,2,     7.31,2,    15.37,2,     0.02,2,     0.95,2,  -999.0, 10.3196,-999.000
     64PE95N_1,  AR12,   100,  1,     16,   X016,2,19950806,2205, 45.2815,  -3.9148, 3937,    805.0,  10.1615,  35.6717,2,-999.0000,9,    194.8,2,   -999.0,9,     8.31,2,    16.06,2,     0.03,2,     1.00,2,  -999.0, 10.0635,-999.000
     64PE95N_1,  AR12,   100,  1,     15,   X015,2,19950806,2205, 45.2815,  -3.9148, 3937,    904.0,   9.9811,  35.7319,2,  35.7355,2,    189.6,2,    203.4,4,     9.07,2,    16.65,2,     0.01,2,     1.03,2,  -999.0,  9.8716,-999.000
     64PE95N_1,  AR12,   100,  1,     14,   X014,4,19950806,2205, 45.2815,  -3.9148, 3937,   1014.0,   9.7431,  35.7726,2,-999.0000,9,    187.9,2,   -999.0,9,     5.42,4,    12.43,4,     0.01,4,     0.77,4,  -999.0,  9.6213,-999.000
     64PE95N_1,  AR12,   100,  1,     13,   X026,4,19950806,2205, 45.2815,  -3.9148, 3937,   1263.0,   8.1400,  35.5974,2,  35.5923,4,    200.2,2,    204.3,4,    11.45,4,    17.61,4,     0.03,4,     1.09,4,  -999.0,  8.0011,-999.000
     64PE95N_1,  AR12,   100,  1,     12,   X029,2,19950806,2205, 45.2815,  -3.9148, 3937,   1519.0,   6.0130,  35.2893,2,-999.0000,9,    223.2,2,   -999.0,9,    14.10,2,    18.30,2,     0.01,2,     1.17,2,  -999.0,  5.8676,-999.000
     64PE95N_1,  AR12,   100,  1,     11,   X011,2,19950806,2205, 45.2815,  -3.9148, 3937,   1771.0,   4.6205,  35.1123,2,  35.1127,2,    238.6,2,    242.1,2,    17.92,2,    18.90,2,     0.01,2,     1.23,2,  -999.0,  4.4665,-999.000
     64PE95N_1,  AR12,   100,  1,     10,   X025,2,19950806,2205, 45.2815,  -3.9148, 3937,   2028.0,   3.8422,  35.0300,2,-999.0000,9,    244.2,2,   -999.0,9,    22.11,2,    19.39,2,     0.02,2,     1.28,2,  -999.0,  3.6741,-999.000
     64PE95N_1,  AR12,   100,  1,      9,   X009,4,19950806,2205, 45.2815,  -3.9148, 3937,   2282.0,   3.3965,  34.9914,2,  35.5701,4,    245.6,2,    226.1,4,     5.73,4,    11.82,4,     0.04,4,     0.75,4,  -999.0,  3.2107,-999.000
     64PE95N_1,  AR12,   100,  1,      8,   X008,2,19950806,2205, 45.2815,  -3.9148, 3937,   2533.0,   3.1006,  34.9681,2,-999.0000,9,    245.0,2,   -999.0,9,    29.61,2,    20.25,2,     0.02,2,     1.36,2,  2534.0,  2.8954,   3.101
     64PE95N_1,  AR12,   100,  1,      7,   X007,2,19950806,2205, 45.2815,  -3.9148, 3937,   2790.0,   2.8514,  34.9477,2,  34.9488,2,    244.3,2,    247.6,2,    33.20,2,    20.94,2,     0.00,2,     1.40,2,  -999.0,  2.6253,-999.000
     64PE95N_1,  AR12,   100,  1,      6,   X006,2,19950806,2205, 45.2815,  -3.9148, 3937,   3048.0,   2.7304,  34.9365,2,-999.0000,9,    243.3,2,   -999.0,9,    35.71,2,    21.24,2,     0.01,2,     1.44,2,  3050.0,  2.4805,   2.728
     64PE95N_1,  AR12,   100,  1,      5,   X005,4,19950806,2205, 45.2815,  -3.9148, 3937,   3303.0,   2.6287,  34.9268,2,  35.5368,4,    242.3,2,    209.8,4,     9.88,4,    15.58,4,     0.02,4,     0.97,4,  -999.0,  2.3542,-999.000
     64PE95N_1,  AR12,   100,  1,      4,   X004,2,19950806,2205, 45.2815,  -3.9148, 3937,   3560.0,   2.5521,  34.9184,2,-999.0000,9,    242.1,2,   -999.0,9,    39.99,2,    21.83,2,     0.02,2,     1.47,2,  3563.0,  2.2518,   2.554
     64PE95N_1,  AR12,   100,  1,      2,   X030,2,19950806,2205, 45.2815,  -3.9148, 3937,   3816.0,   2.5052,  34.9112,2,  34.9107,2,    241.3,2,    240.9,2,    41.64,2,    22.05,2,     0.05,2,     1.50,2,  3810.0,  2.1776,   2.502
     64PE95N_1,  AR12,   100,  1,      3,   X028,2,19950806,2205, 45.2815,  -3.9148, 3937,   3816.0,   2.5063,  34.9113,2,  34.9107,2,    241.7,2,    240.2,2,    41.49,2,    22.10,2,     0.01,2,     1.50,2,  -999.0,  2.1787,-999.000
     64PE95N_1,  AR12,   100,  1,      1,   X001,2,19950806,2205, 45.2815,  -3.9148, 3937,   4030.0,   2.4800,  34.9061,2,  34.9052,6,    240.3,2,    238.1,6,    43.38,6,    22.17,6,     0.04,6,     1.53,6,  -999.0,  2.1288,-999.000
     64PE95N_1,  AR12,   101,  1,     24,   X024,2,19950807,0300, 45.0833,  -4.2130, 4332,      9.0,  20.9076,  35.3466,2,  35.3477,2,    226.2,2,    226.0,6,     0.58,2,     0.07,2,     0.03,2,     0.04,2,  -999.0, 20.9058,-999.000
     64PE95N_1,  AR12,   101,  1,     23,   X023,2,19950807,0300, 45.0833,  -4.2130, 4332,    101.0,  12.0668,  35.5901,2,  35.5894,2,    245.8,2,    244.8,2,     1.82,2,     6.42,2,     0.04,2,     0.41,2,  -999.0, 12.0535,-999.000
     64PE95N_1,  AR12,   101,  1,     22,   X022,2,19950807,0300, 45.0833,  -4.2130, 4332,    203.0,  11.5789,  35.5717,2,-999.0000,9,    244.9,2,   -999.0,9,     2.59,2,     8.14,2,     0.02,2,     0.50,2,  -999.0, 11.5529,-999.000
     64PE95N_1,  AR12,   101,  1,     21,   X021,2,19950807,0300, 45.0833,  -4.2130, 4332,    302.0,  11.3814,  35.5844,2,  35.5844,2,    233.4,2,    233.8,2,     3.46,2,    10.24,2,     0.02,2,     0.62,2,  -999.0, 11.3429,-999.000
     64PE95N_1,  AR12,   101,  1,     20,   X027,2,19950807,0300, 45.0833,  -4.2130, 4332,    407.0,  11.1328,  35.5712,2,-999.0000,9,    227.3,2,   -999.0,9,     4.19,2,    11.48,2,     0.01,2,     0.70,2,  -999.0, 11.0815,-999.000
     64PE95N_1,  AR12,   101,  1,     19,   X019,2,19950807,0300, 45.0833,  -4.2130, 4332,    506.0,  10.8726,  35.5619,2,  35.5614,2,    219.8,2,    220.2,2,     5.09,2,    12.84,2,     0.00,2,     0.79,2,  -999.0, 10.8093,-999.000
     64PE95N_1,  AR12,   101,  1,     18,   X018,2,19950807,0300, 45.0833,  -4.2130, 4332,    608.0,  10.5721,  35.5715,2,-999.0000,9,    209.9,2,   -999.0,9,     5.16,2,    12.87,2,     0.00,2,     0.78,2,  -999.0, 10.4970,-999.000
     64PE95N_1,  AR12,   101,  1,     17,   X017,2,19950807,0300, 45.0833,  -4.2130, 4332,    810.0,  10.1821,  35.6994,2,  35.7005,2,    193.4,2,    190.6,2,     8.61,2,    16.40,2,     0.00,2,     1.01,2,  -999.0, 10.0834,-999.000
     64PE95N_1,  AR12,   101,  1,     16,   X016,4,19950807,0300, 45.0833,  -4.2130, 4332,   1006.0,   9.6900,  35.7643,2,-999.0000,9,    189.2,2,   -999.0,9,     4.92,4,    11.32,4,     0.00,4,     0.71,4,  -999.0,  9.5696,-999.000
     64PE95N_1,  AR12,   101,  1,     15,   X015,2,19950807,0300, 45.0833,  -4.2130, 4332,   1262.0,   8.3063,  35.6211,2,  35.6179,2,    198.8,2,    200.2,2,    11.52,2,    17.67,2,     0.00,2,     1.11,2,  -999.0,  8.1659,-999.000
     64PE95N_1,  AR12,   101,  1,     14,   X014,2,19950807,0300, 45.0833,  -4.2130, 4332,   1519.0,   5.9363,  35.2773,2,-999.0000,9,    224.6,2,   -999.0,9,    14.24,2,    18.44,2,     0.00,2,     1.18,2,  -999.0,  5.7918,-999.000
     64PE95N_1,  AR12,   101,  1,     13,   X026,2,19950807,0300, 45.0833,  -4.2130, 4332,   1772.0,   4.6307,  35.1086,2,  35.1076,2,    238.2,2,    241.1,6,    17.45,2,    18.80,2,     0.00,2,     1.24,2,  -999.0,  4.4765,-999.000
     64PE95N_1,  AR12,   101,  1,     12,   X029,2,19950807,0300, 45.0833,  -4.2130, 4332,   2023.0,   3.8583,  35.0316,2,-999.0000,9,    243.1,2,   -999.0,9,    22.24,2,    19.39,2,     0.00,2,     1.28,2,  -999.0,  3.6904,-999.000
     64PE95N_1,  AR12,   101,  1,     11,   X011,2,19950807,0300, 45.0833,  -4.2130, 4332,   2281.0,   3.4202,  34.9940,2,  34.9931,2,    244.0,2,   -999.0,9,    26.23,2,    19.91,2,     0.02,2,     1.32,2,  -999.0,  3.2341,-999.000
     64PE95N_1,  AR12,   101,  1,     10,   X025,2,19950807,0300, 45.0833,  -4.2130, 4332,   2535.0,   3.1080,  34.9684,2,-999.0000,9,    243.4,2,   -999.0,9,    30.02,2,    20.47,2,     0.02,2,     1.37,2,  -999.0,  2.9025,-999.000
     64PE95N_1,  AR12,   101,  1,      9,   X009,2,19950807,0300, 45.0833,  -4.2130, 4332,   2794.0,   2.8860,  34.9502,2,  34.9493,2,    242.7,2,    243.4,2,    33.38,2,    20.96,2,     0.02,2,     1.41,2,  -999.0,  2.6588,-999.000
     64PE95N_1,  AR12,   101,  1,      8,   X008,2,19950807,0300, 45.0833,  -4.2130, 4332,   3048.0,   2.7177,  34.9359,2,-999.0000,9,    241.6,2,   -999.0,9,    36.31,2,    21.37,2,     0.01,2,     1.43,2,  3050.0,  2.4681,   2.720
     64PE95N_1,  AR12,   101,  1,      7,   X007,2,19950807,0300, 45.0833,  -4.2130, 4332,   3300.0,   2.6144,  34.9255,2,  34.9289,2,    240.5,2,    243.6,2,    38.04,2,    21.70,2,     0.01,2,     1.46,2,  -999.0,  2.3405,-999.000
     64PE95N_1,  AR12,   101,  1,      6,   X006,2,19950807,0300, 45.0833,  -4.2130, 4332,   3559.0,   2.5474,  34.9178,2,-999.0000,9,    239.5,2,   -999.0,9,    40.45,2,    22.03,2,     0.00,2,     1.49,2,  3560.0,  2.2473,   2.547
     64PE95N_1,  AR12,   101,  1,      5,   X005,2,19950807,0300, 45.0833,  -4.2130, 4332,   3816.0,   2.4980,  34.9107,2,  34.9099,2,    239.2,2,    239.4,2,    42.16,2,    22.25,2,     0.02,2,     1.50,2,  -999.0,  2.1706,-999.000
     64PE95N_1,  AR12,   101,  1,      4,   X004,2,19950807,0300, 45.0833,  -4.2130, 4332,   4073.0,   2.4751,  34.9056,2,-999.0000,9,    238.6,2,   -999.0,9,    43.44,2,    22.36,2,     0.01,2,     1.51,2,  4075.0,  2.1191,   2.476
     64PE95N_1,  AR12,   101,  1,      2,   X030,2,19950807,0300, 45.0833,  -4.2130, 4332,   4329.0,   2.4814,  34.9026,2,  34.9019,2,    236.6,2,    238.7,2,    44.47,2,    22.50,2,     0.01,2,     1.55,2,  4325.0,  2.0951,   2.478
     64PE95N_1,  AR12,   101,  1,      3,   X028,2,19950807,0300, 45.0833,  -4.2130, 4332,   4330.0,   2.4811,  34.9026,2,  34.9011,2,    236.6,2,    237.6,2,    44.44,2,    22.65,2,     0.00,2,     1.54,2,  -999.0,  2.0947,-999.000
     64PE95N_1,  AR12,   101,  1,      1,   X001,2,19950807,0300, 45.0833,  -4.2130, 4332,   4434.0,   2.4913,  34.9021,2,  34.9014,6,    236.7,2,    236.2,6,    44.66,6,    22.39,6,     0.03,6,     1.55,6,  -999.0,  2.0921,-999.000
     64PE95N_1,  AR12,   102,  1,     24,   X024,2,19950807,0808, 44.8662,  -4.5305, 4425,      9.0,  20.5980,  35.4372,3,  35.4980,2,    230.3,2,    230.8,6,     0.45,2,     0.06,2,     0.00,2,     0.04,2,  -999.0, 20.5962,-999.000
     64PE95N_1,  AR12,   102,  1,     23,   X023,2,19950807,0808, 44.8662,  -4.5305, 4425,    101.0,  12.2109,  35.5850,2,  35.5866,2,    249.4,2,    246.8,2,     1.70,2,     5.73,2,     0.01,2,     0.35,2,  -999.0, 12.1975,-999.000
     64PE95N_1,  AR12,   102,  1,     22,   X022,2,19950807,0808, 44.8662,  -4.5305, 4425,    202.0,  11.6778,  35.5901,2,-999.0000,9,    244.8,2,   -999.0,9,     2.67,2,     8.36,2,     0.02,2,     0.51,2,  -999.0, 11.6517,-999.000
     64PE95N_1,  AR12,   102,  1,     21,   X021,2,19950807,0808, 44.8662,  -4.5305, 4425,    303.0,  11.4090,  35.5840,3,  35.5899,2,    237.5,2,    235.7,2,     3.44,2,    10.15,2,     0.00,2,     0.61,2,  -999.0, 11.3704,-999.000
     64PE95N_1,  AR12,   102,  1,     20,   X027,2,19950807,0808, 44.8662,  -4.5305, 4425,    401.0,  11.2125,  35.5764,2,-999.0000,9,    231.2,2,   -999.0,9,     3.98,2,    11.22,2,     0.01,2,     0.67,2,  -999.0, 11.1616,-999.000
     64PE95N_1,  AR12,   102,  1,     19,   X019,2,19950807,0808, 44.8662,  -4.5305, 4425,    505.0,  10.9004,  35.5408,3,  35.5579,2,    226.8,2,    231.4,2,     4.21,2,    11.26,2,     0.01,2,     0.69,2,  -999.0, 10.8372,-999.000
     64PE95N_1,  AR12,   102,  1,     18,   X018,2,19950807,0808, 44.8662,  -4.5305, 4425,    607.0,  10.6379,  35.5285,2,-999.0000,9,    219.5,2,   -999.0,9,     5.64,2,    13.55,2,     0.02,2,     0.83,2,  -999.0, 10.5628,-999.000
     64PE95N_1,  AR12,   102,  1,     17,   X017,2,19950807,0808, 44.8662,  -4.5305, 4425,    807.0,  10.1977,  35.6473,2,  35.6499,2,    196.8,2,    194.1,2,     8.24,2,    16.18,2,     0.00,2,     1.00,2,  -999.0, 10.0993,-999.000
     64PE95N_1,  AR12,   102,  1,     16,   X016,2,19950807,0808, 44.8662,  -4.5305, 4425,   1013.0,   9.7595,  35.7593,2,-999.0000,9,    190.2,2,   -999.0,9,     9.71,2,    16.96,2,     0.00,2,     1.04,2,  -999.0,  9.6377,-999.000
     64PE95N_1,  AR12,   102,  1,     15,   X015,2,19950807,0808, 44.8662,  -4.5305, 4425,   1265.0,   8.0946,  35.5871,2,  35.5862,2,    201.1,2,    200.6,2,    11.72,2,    17.81,2,     0.00,2,     1.12,2,  -999.0,  7.9560,-999.000
     64PE95N_1,  AR12,   102,  1,     14,   X014,2,19950807,0808, 44.8662,  -4.5305, 4425,   1518.0,   5.8431,  35.2559,2,-999.0000,9,    227.1,2,   -999.0,9,    14.01,2,    18.34,2,     0.00,2,     1.18,2,  -999.0,  5.6998,-999.000
     64PE95N_1,  AR12,   102,  1,     13,   X026,2,19950807,0808, 44.8662,  -4.5305, 4425,   1772.0,   4.4935,  35.0964,2,  35.0963,2,    239.6,2,    241.8,2,    18.50,2,    18.95,2,     0.00,2,     1.24,2,  -999.0,  4.3411,-999.000
     64PE95N_1,  AR12,   102,  1,     12,   X029,2,19950807,0808, 44.8662,  -4.5305, 4425,   2027.0,   3.8608,  35.0328,2,-999.0000,9,    244.1,2,   -999.0,9,    22.35,2,    19.47,2,     0.00,2,     1.29,2,  -999.0,  3.6925,-999.000
     64PE95N_1,  AR12,   102,  1,     11,   X011,2,19950807,0808, 44.8662,  -4.5305, 4425,   2282.0,   3.4753,  34.9990,2,  35.0005,2,    244.9,2,    245.3,2,    26.07,2,    19.92,2,     0.01,2,     1.33,2,  -999.0,  3.2882,-999.000
     64PE95N_1,  AR12,   102,  1,     10,   X025,2,19950807,0808, 44.8662,  -4.5305, 4425,   2537.0,   3.2157,  34.9768,2,-999.0000,9,    244.6,2,   -999.0,9,    28.95,2,    20.27,2,     0.02,2,     1.37,2,  -999.0,  3.0080,-999.000
     64PE95N_1,  AR12,   102,  1,      9,   X009,2,19950807,0808, 44.8662,  -4.5305, 4425,   2790.0,   2.9757,  34.9569,2,  34.9580,2,    244.1,2,    244.2,2,    32.17,2,    20.66,2,     0.00,2,     1.39,2,  -999.0,  2.7470,-999.000
     64PE95N_1,  AR12,   102,  1,      8,   X008,2,19950807,0808, 44.8662,  -4.5305, 4425,   3047.0,   2.7932,  34.9415,2,-999.0000,9,    243.4,2,   -999.0,9,    34.99,2,    21.21,2,     0.01,2,     1.42,2,  3050.0,  2.5420,   2.797
     64PE95N_1,  AR12,   102,  1,      7,   X007,2,19950807,0808, 44.8662,  -4.5305, 4425,   3303.0,   2.6593,  34.9292,2,  34.9331,2,    242.0,2,    243.1,2,    37.10,2,    21.56,2,     0.01,2,     1.45,2,  -999.0,  2.3841,-999.000
     64PE95N_1,  AR12,   102,  1,      6,   X006,2,19950807,0808, 44.8662,  -4.5305, 4425,   3559.0,   2.5717,  34.9199,2,-999.0000,9,    241.1,2,   -999.0,9,    39.56,2,    21.75,2,     0.02,2,     1.47,2,  3561.0,  2.2709,   2.574
     64PE95N_1,  AR12,   102,  1,      5,   X005,2,19950807,0808, 44.8662,  -4.5305, 4425,   3815.0,   2.5240,  34.9134,2,  34.9127,2,    240.1,2,    241.6,2,    41.25,2,    21.99,2,     0.01,2,     1.50,2,  -999.0,  2.1960,-999.000
     64PE95N_1,  AR12,   102,  1,      4,   X004,4,19950807,0808, 44.8662,  -4.5305, 4425,   4073.0,   2.5005,  34.9083,2,-999.0000,9,    239.1,2,   -999.0,9,     7.14,4,    11.38,4,     0.02,4,     0.72,4,  4076.0,  2.1438,   2.501
     64PE95N_1,  AR12,   102,  1,      2,   X030,2,19950807,0808, 44.8662,  -4.5305, 4425,   4327.0,   2.4936,  34.9043,2,  34.9044,2,    237.4,2,    238.9,2,    43.64,2,    22.40,2,     0.00,2,     1.53,2,  4323.0,  2.1071,   2.491
     64PE95N_1,  AR12,   102,  1,      3,   X028,2,19950807,0808, 44.8662,  -4.5305, 4425,   4327.0,   2.4941,  34.9042,2,  34.9043,2,    237.3,2,    238.6,2,    43.60,2,    22.39,2,     0.02,2,     1.53,2,  -999.0,  2.1076,-999.000
     64PE95N_1,  AR12,   102,  1,      1,   X001,2,19950807,0808, 44.8662,  -4.5305, 4425,   4533.0,   2.5066,  34.9026,2,  34.9029,6,    236.7,2,    237.3,6,    44.42,6,    22.41,6,     0.03,6,     1.54,6,  -999.0,  2.0949,-999.000