BOTTLE,20020117WHPSIOKJU
EXPOCODE,SECT_ID,STNNBR,CASTNO,SAMPNO,BTLNBR,BTLNBR_FLAG_W,DATE,TIME,LATITUDE,LONGITUDE,DEPTH,CTDPRS,CTDTMP,CTDSAL,CTDSAL_FLAG_W,SALNTY,SALNTY_FLAG_W,CTDOXY,CTDOXY_FLAG_W,OXYGEN,OXYGEN_FLAG_W,SILCAT,SILCAT_FLAG_W,NITRAT,NITRAT_FLAG_W,NITRIT,NITRIT_FLAG_W,PHSPHT,PHSPHT_FLAG_W,REVPRS,THETA,REVTMP
,,,,,,,,,,,,DBAR,ITS-90,PSS-78,,PSS-78,,UMOL/KG,,UMOL/KG,,UMOL/KG,,UMOL/KG,,UMOL/KG,,UMOL/KG,,DBAR,ITS-90,ITS-90
     64PE95N_1,  AR12,    37,  1,     24,   X024,2,19950726,1250, 44.1655,  -7.9993, 2334,     12.0,  18.6057,  35.5700,2,  35.5686,2,    237.1,2,    237.3,6,     0.58,2,     0.11,2,     0.03,2,     0.03,2,  -999.0, 18.6037,-999.000
     64PE95N_1,  AR12,    37,  1,     23,   X023,2,19950726,1250, 44.1655,  -7.9993, 2334,     51.0,  15.6687,  35.5673,3,  35.5578,2,    262.1,2,    262.6,2,     0.61,2,     0.02,2,     0.03,2,     0.04,2,  -999.0, 15.6607,-999.000
     64PE95N_1,  AR12,    37,  1,     22,   X022,2,19950726,1250, 44.1655,  -7.9993, 2334,    100.0,  12.3459,  35.6053,2,-999.0000,9,    234.8,2,   -999.0,9,     1.98,2,     6.77,2,     0.04,2,     0.42,2,  -999.0, 12.3325,-999.000
     64PE95N_1,  AR12,    37,  1,     21,   X021,2,19950726,1250, 44.1655,  -7.9993, 2334,    200.0,  11.7536,  35.6143,2,  35.6142,2,    227.1,2,    229.6,2,     3.61,2,     9.76,2,     0.04,2,     0.62,2,  -999.0, 11.7276,-999.000
     64PE95N_1,  AR12,    37,  1,     20,   X020,2,19950726,1250, 44.1655,  -7.9993, 2334,    302.0,  11.3128,  35.5819,2,-999.0000,9,    236.0,2,   -999.0,9,     3.74,2,    10.41,2,     0.03,2,     0.64,2,  -999.0, 11.2745,-999.000
     64PE95N_1,  AR12,    37,  1,     19,   X019,2,19950726,1250, 44.1655,  -7.9993, 2334,    404.0,  11.0054,  35.5559,2,  35.5546,2,    229.1,2,    227.6,2,     4.62,2,    11.85,2,     0.02,2,     0.74,2,  -999.0, 10.9548,-999.000
     64PE95N_1,  AR12,    37,  1,     18,   X018,2,19950726,1250, 44.1655,  -7.9993, 2334,    505.0,  10.5561,  35.5104,2,-999.0000,9,    223.9,2,   -999.0,9,     5.70,2,    13.29,2,     0.01,2,     0.83,2,  -999.0, 10.4942,-999.000
     64PE95N_1,  AR12,    37,  1,     17,   X017,2,19950726,1250, 44.1655,  -7.9993, 2334,    606.0,  10.2304,  35.5229,2,  35.5245,2,    208.7,2,    206.6,2,     7.20,2,    15.05,2,     0.03,2,     0.95,2,  -999.0, 10.1571,-999.000
     64PE95N_1,  AR12,    37,  1,     16,   X016,2,19950726,1250, 44.1655,  -7.9993, 2334,    708.0,  10.3687,  35.6902,2,-999.0000,9,    194.7,2,   -999.0,9,     8.14,2,    15.95,2,     0.03,2,     0.99,2,  -999.0, 10.2818,-999.000
     64PE95N_1,  AR12,    37,  1,     15,   X015,2,19950726,1250, 44.1655,  -7.9993, 2334,    808.0,  10.4026,  35.7884,2,  35.7890,2,    189.9,2,    187.6,2,     8.66,2,    16.15,2,     0.00,2,     0.99,2,  -999.0, 10.3028,-999.000
     64PE95N_1,  AR12,    37,  1,     14,   X014,2,19950726,1250, 44.1655,  -7.9993, 2334,    907.0,  10.2376,  35.8385,2,-999.0000,9,    187.7,2,   -999.0,9,     9.17,2,    16.28,2,     0.02,2,     1.02,2,  -999.0, 10.1260,-999.000
     64PE95N_1,  AR12,    37,  1,     13,   X013,2,19950726,1250, 44.1655,  -7.9993, 2334,   1011.0,  10.0625,  35.8692,2,  35.8663,2,    187.7,2,    187.4,2,     9.51,2,    16.43,2,     0.02,2,     1.02,2,  -999.0,  9.9386,-999.000
     64PE95N_1,  AR12,    37,  1,     12,   X012,2,19950726,1250, 44.1655,  -7.9993, 2334,   1114.0,   9.5722,  35.8207,2,-999.0000,9,    190.4,2,   -999.0,9,    10.06,2,    16.74,2,     0.03,2,     1.06,2,  -999.0,  9.4390,-999.000
     64PE95N_1,  AR12,    37,  1,     11,   X011,2,19950726,1250, 44.1655,  -7.9993, 2334,   1211.0,   8.6806,  35.6978,2,  35.6959,2,    197.8,2,    199.3,6,    10.90,2,    17.14,2,     0.00,2,     1.08,2,  -999.0,  8.5429,-999.000
     64PE95N_1,  AR12,    37,  1,     10,   X010,2,19950726,1250, 44.1655,  -7.9993, 2334,   1314.0,   7.9207,  35.5742,2,-999.0000,9,    204.9,2,   -999.0,9,    11.40,2,    17.46,2,     0.02,2,     1.13,2,  -999.0,  7.7780,-999.000
     64PE95N_1,  AR12,    37,  1,      9,   X009,2,19950726,1250, 44.1655,  -7.9993, 2334,   1415.0,   7.2630,  35.4787,2,  35.4787,2,    213.8,2,    214.9,2,    11.92,2,    17.61,2,     0.03,2,     1.13,2,  -999.0,  7.1153,-999.000
     64PE95N_1,  AR12,    37,  1,      8,   X008,2,19950726,1250, 44.1655,  -7.9993, 2334,   1518.0,   6.3644,  35.3331,2,-999.0000,9,    224.3,2,   -999.0,9,    12.59,2,    17.97,2,     0.01,2,     1.17,2,  1519.5,  6.2151,   6.358
     64PE95N_1,  AR12,    37,  1,      7,   X007,2,19950726,1250, 44.1655,  -7.9993, 2334,   1618.0,   5.6067,  35.2257,2,  35.2238,2,    233.7,2,    234.8,2,    13.50,2,    18.06,2,     0.01,2,     1.19,2,  -999.0,  5.4557,-999.000
     64PE95N_1,  AR12,    37,  1,      6,   X006,2,19950726,1250, 44.1655,  -7.9993, 2334,   1720.0,   4.9165,  35.1354,2,-999.0000,9,    242.2,2,   -999.0,9,    14.85,2,    18.19,2,     0.02,2,     1.20,2,  -999.0,  4.7637,   4.942
     64PE95N_1,  AR12,    37,  1,      5,   X005,4,19950726,1250, 44.1655,  -7.9993, 2334,   1820.0,   4.5023,  35.0830,2,  35.5686,4,    247.1,2,    227.9,4,     5.26,4,    10.26,4,     0.06,4,     0.65,4,  -999.0,  4.3451,-999.000
     64PE95N_1,  AR12,    37,  1,      4,   X004,2,19950726,1250, 44.1655,  -7.9993, 2334,   2026.0,   4.0221,  35.0336,2,-999.0000,9,    250.9,2,   -999.0,9,    18.33,2,    18.52,2,     0.01,2,     1.25,2,  2026.0,  3.8514,   4.028
     64PE95N_1,  AR12,    37,  1,      3,   X003,2,19950726,1250, 44.1655,  -7.9993, 2334,   2231.0,   3.5821,  35.0030,2,  35.0036,2,    252.0,2,    249.9,2,    22.55,2,    19.09,2,     0.03,2,     1.30,2,  -999.0,  3.3982,-999.000
     64PE95N_1,  AR12,    37,  1,      2,   X002,2,19950726,1250, 44.1655,  -7.9993, 2334,   2435.0,   3.2755,  34.9803,2,-999.0000,9,    252.3,2,   -999.0,9,    25.88,2,    19.69,2,     0.03,2,     1.37,2,  2429.0,  3.0769,   3.268
     64PE95N_1,  AR12,    37,  1,      1,   X001,2,19950726,1250, 44.1655,  -7.9993, 2334,   2481.0,   3.2508,  34.9781,2,  34.9786,6,    252.8,2,    248.3,6,    26.45,6,    19.72,6,     0.03,6,     1.33,6,  -999.0,  3.0480,-999.000
     64PE95N_1,  AR12,    38,  1,     15,   X015,2,19950726,1523, 44.1335,  -7.9995, 1222,     10.0,  18.5637,  35.6158,2,  35.6150,2,    237.4,2,    237.6,6,     0.49,2,     0.00,2,     0.02,2,     0.04,2,  -999.0, 18.5620,-999.000
     64PE95N_1,  AR12,    38,  1,     14,   X014,2,19950726,1523, 44.1335,  -7.9995, 1222,     47.0,  16.3045,  35.6135,2,-999.0000,9,    269.6,2,   -999.0,9,     0.60,2,     0.00,2,     0.02,2,     0.04,2,  -999.0, 16.2969,-999.000
     64PE95N_1,  AR12,    38,  1,     13,   X013,2,19950726,1523, 44.1335,  -7.9995, 1222,    101.0,  12.4539,  35.6030,2,  35.6010,2,    241.6,2,    242.0,2,     1.73,2,     5.68,2,     0.05,2,     0.38,2,  -999.0, 12.4403,-999.000
     64PE95N_1,  AR12,    38,  1,     12,   X012,2,19950726,1523, 44.1335,  -7.9995, 1222,    206.0,  11.8925,  35.6383,2,-999.0000,9,    222.8,2,   -999.0,9,     3.40,2,    10.00,2,     0.03,2,     0.63,2,  -999.0, 11.8657,-999.000
     64PE95N_1,  AR12,    38,  1,     11,   X011,2,19950726,1523, 44.1335,  -7.9995, 1222,    304.0,  11.4033,  35.5994,2,  35.5977,2,    221.6,2,    221.9,2,     4.35,2,    11.44,2,     0.02,2,     0.72,2,  -999.0, 11.3645,-999.000
     64PE95N_1,  AR12,    38,  1,     10,   X010,2,19950726,1523, 44.1335,  -7.9995, 1222,    408.0,  10.9323,  35.5426,2,-999.0000,9,    227.0,2,   -999.0,9,     4.67,2,    12.07,2,     0.03,2,     0.76,2,  -999.0, 10.8814,-999.000
     64PE95N_1,  AR12,    38,  1,      9,   X009,2,19950726,1523, 44.1335,  -7.9995, 1222,    505.0,  10.6253,  35.5347,2,  35.5341,2,    219.2,2,    219.8,2,     5.62,2,    13.37,2,     0.01,2,     0.84,2,  -999.0, 10.5631,-999.000
     64PE95N_1,  AR12,    38,  1,      8,   X008,2,19950726,1523, 44.1335,  -7.9995, 1222,    605.0,  10.4249,  35.5410,2,-999.0000,9,    211.4,2,   -999.0,9,     6.41,2,    14.44,2,     0.03,2,     0.91,2,  -999.0, 10.3509,-999.000
     64PE95N_1,  AR12,    38,  1,      7,   X007,2,19950726,1523, 44.1335,  -7.9995, 1222,    707.0,  10.3771,  35.6256,2,  35.6257,2,    197.4,2,    198.5,2,     7.34,2,    15.57,2,     0.02,2,     0.99,2,  -999.0, 10.2903,-999.000
     64PE95N_1,  AR12,    38,  1,      6,   X006,2,19950726,1523, 44.1335,  -7.9995, 1222,    808.0,  10.3896,  35.7408,2,-999.0000,9,    188.9,2,   -999.0,9,     8.09,2,    16.03,2,     0.03,2,     1.02,2,  -999.0, 10.2898,-999.000
     64PE95N_1,  AR12,    38,  1,      5,   X005,2,19950726,1523, 44.1335,  -7.9995, 1222,    909.0,  10.3135,  35.8406,2,  35.8386,2,    184.9,2,    183.4,2,     8.71,2,    16.18,2,     0.01,2,     1.02,2,  -999.0, 10.2011,-999.000
     64PE95N_1,  AR12,    38,  1,      4,   X004,2,19950726,1523, 44.1335,  -7.9995, 1222,   1012.0,  10.0678,  35.8648,2,-999.0000,9,    185.8,2,   -999.0,9,     9.16,2,    16.37,2,     0.02,2,     1.03,2,  -999.0,  9.9438,-999.000
     64PE95N_1,  AR12,    38,  1,      3,   X003,2,19950726,1523, 44.1335,  -7.9995, 1222,   1112.0,   9.4192,  35.7953,2,  35.7926,2,    191.0,2,    191.3,2,     9.88,2,    16.98,2,     0.01,2,     1.06,2,  -999.0,  9.2874,-999.000
     64PE95N_1,  AR12,    38,  1,      2,   X002,2,19950726,1523, 44.1335,  -7.9995, 1222,   1166.0,   9.0968,  35.7527,2,-999.0000,9,    193.9,2,   -999.0,9,    10.17,2,    16.95,2,     0.03,2,     1.08,2,  -999.0,  8.9611,-999.000
     64PE95N_1,  AR12,    38,  1,      1,   X001,2,19950726,1523, 44.1335,  -7.9995, 1222,   1226.0,   8.8325,  35.7160,2,  35.7149,6,    197.7,2,    197.0,6,    10.31,6,    17.02,6,     0.01,6,     1.08,6,  -999.0,  8.6918,-999.000
     64PE95N_1,  AR12,    39,  1,      8,   X008,2,19950726,1709, 44.1002,  -7.9990,  336,      9.0,  18.5138,  35.6241,2,-999.0000,9,    235.1,2,   -999.0,9,     0.49,2,     0.18,2,     0.02,2,     0.03,2,    10.5, 18.5122,  18.506
     64PE95N_1,  AR12,    39,  1,      7,   X007,2,19950726,1709, 44.1002,  -7.9990,  336,     10.0,  18.5162,  35.6229,2,  35.6209,2,    235.7,2,    237.9,6,     0.47,2,     0.21,2,     0.00,2,     0.03,2,  -999.0, 18.5145,-999.000
     64PE95N_1,  AR12,    39,  1,      6,   X006,2,19950726,1709, 44.1002,  -7.9990,  336,     51.0,  15.7513,  35.6152,2,-999.0000,9,    273.5,2,   -999.0,9,     0.61,2,     0.15,2,     0.01,2,     0.05,2,  -999.0, 15.7432,  15.762
     64PE95N_1,  AR12,    39,  1,      5,   X005,2,19950726,1709, 44.1002,  -7.9990,  336,    103.0,  12.6507,  35.6113,2,  35.6098,2,    240.6,2,    243.9,2,     1.64,2,     5.46,2,     0.08,2,     0.37,2,  -999.0, 12.6368,-999.000
     64PE95N_1,  AR12,    39,  1,      4,   X004,2,19950726,1709, 44.1002,  -7.9990,  336,    151.0,  11.8764,  35.6153,2,-999.0000,9,    233.7,2,   -999.0,9,     2.86,2,     8.82,2,     0.04,2,     0.56,2,   150.0, 11.8567,  11.879
     64PE95N_1,  AR12,    39,  1,      3,   X003,2,19950726,1709, 44.1002,  -7.9990,  336,    201.0,  11.5614,  35.5967,2,  35.5944,2,    234.6,2,    235.2,2,     3.47,2,     9.85,2,     0.01,2,     0.64,2,  -999.0, 11.5355,-999.000
     64PE95N_1,  AR12,    39,  1,      2,   X002,2,19950726,1709, 44.1002,  -7.9990,  336,    303.0,  11.5335,  35.6349,2,-999.0000,9,    213.5,2,   -999.0,9,     4.87,2,    12.53,2,     0.05,2,     0.78,2,   299.0, 11.4946,  11.538
     64PE95N_1,  AR12,    39,  1,      1,   X001,4,19950726,1709, 44.1002,  -7.9990,  336,    349.0,  11.3866,  35.6115,2,  35.6063,4,    223.3,2,    216.6,4,     4.70,4,    12.00,4,     0.04,4,     0.76,4,  -999.0, 11.3421,-999.000
     64PE95N_1,  AR12,    40,  1,      6,   X006,2,19950726,1816, 44.0003,  -7.9987,  206,     12.0,  18.4369,  35.3499,2,  35.3494,2,    243.4,2,    241.2,2,     0.46,2,     0.15,2,     0.02,2,     0.04,2,  -999.0, 18.4348,  18.425
     64PE95N_1,  AR12,    40,  1,      5,   X005,2,19950726,1816, 44.0003,  -7.9987,  206,     50.0,  13.6461,  35.5084,2,-999.0000,9,    250.1,2,    251.1,2,     0.72,2,     1.71,2,     0.39,2,     0.16,2,  -999.0, 13.6389,-999.000
     64PE95N_1,  AR12,    40,  1,      4,   X004,2,19950726,1816, 44.0003,  -7.9987,  206,    101.0,  12.2097,  35.5928,2,  35.5971,2,    218.0,2,   -999.0,9,     2.71,2,     8.70,2,     0.03,2,     0.55,2,   100.0, 12.1963,  12.202
     64PE95N_1,  AR12,    40,  1,      3,   X003,2,19950726,1816, 44.0003,  -7.9987,  206,    154.0,  11.9141,  35.6241,2,-999.0000,9,    207.6,2,    210.1,2,     4.26,2,    10.66,2,     0.02,2,     0.68,2,  -999.0, 11.8940,-999.000
     64PE95N_1,  AR12,    40,  1,      1,   X001,2,19950726,1816, 44.0003,  -7.9987,  206,    198.0,  11.5260,  35.6051,2,-999.0000,9,    215.1,2,    213.4,6,     4.79,6,    11.40,6,     0.05,6,     0.74,6,  -999.0, 11.5007,-999.000
     64PE95N_1,  AR12,    40,  1,      2,   X002,2,19950726,1816, 44.0003,  -7.9987,  206,    198.0,  11.5267,  35.6053,2,  35.6029,2,    213.9,2,   -999.0,9,     4.81,2,    11.56,2,     0.06,2,     0.76,2,   199.0, 11.5013,  11.528
     64PE95N_1,  AR12,    41,  1,      3,   X003,2,19950726,1940, 43.8340,  -8.0032,   93,     12.0,  16.6759,  35.3679,3,  35.4001,2,    253.1,2,    252.8,2,     0.62,2,     0.55,2,     0.09,2,     0.07,2,  -999.0, 16.6739,-999.000
     64PE95N_1,  AR12,    41,  1,      2,   X002,2,19950726,1940, 43.8340,  -8.0032,   93,     51.0,  13.0550,  35.5530,2,-999.0000,9,    232.7,2,   -999.0,9,     1.79,2,     5.46,2,     0.30,2,     0.38,2,    50.0, 13.0479,-999.000
     64PE95N_1,  AR12,    41,  1,      1,   X001,2,19950726,1940, 43.8340,  -8.0032,   93,     83.0,  12.3183,  35.5859,2,  35.5843,2,    227.8,2,    227.9,6,     2.25,6,     7.13,6,     0.12,6,     0.46,6,  -999.0, 12.3072,-999.000
     64PE95N_1,  AR12,    42,  1,      5,   X005,2,19950726,2135, 43.8308,  -8.3345,  175,     10.0,  18.0621,  35.3580,3,  35.4222,2,    250.9,2,    254.0,2,     0.57,2,     0.16,2,     0.01,2,     0.05,2,  -999.0, 18.0604,-999.000
     64PE95N_1,  AR12,    42,  1,      4,   X004,2,19950726,2135, 43.8308,  -8.3345,  175,     50.0,  13.3037,  35.5743,2,-999.0000,9,    233.6,2,   -999.0,9,     1.66,2,     5.57,2,     0.25,2,     0.39,2,  -999.0, 13.2967,-999.000
     64PE95N_1,  AR12,    42,  1,      3,   X003,2,19950726,2135, 43.8308,  -8.3345,  175,    100.0,  12.1521,  35.6328,2,  35.6307,2,    200.0,2,    203.1,2,     3.72,2,    10.55,2,     0.01,2,     0.70,2,  -999.0, 12.1389,-999.000
     64PE95N_1,  AR12,    42,  1,      2,   X002,2,19950726,2135, 43.8308,  -8.3345,  175,    151.0,  11.8512,  35.6331,2,-999.0000,9,    208.4,2,   -999.0,9,     4.64,2,    11.11,2,     0.00,2,     0.72,2,   150.0, 11.8315,  11.867
     64PE95N_1,  AR12,    42,  1,      1,   X001,2,19950726,2135, 43.8308,  -8.3345,  175,    170.0,  11.8304,  35.6323,2,  35.6295,2,    209.2,2,    205.5,6,     4.76,6,    11.17,6,     0.02,6,     0.72,6,  -999.0, 11.8083,-999.000
     64PE95N_1,  AR12,    43,  1,      9,   X009,2,19950727,0033, 43.8348,  -8.8343,  522,     10.0,  16.9074,  35.5524,2,  35.5506,2,    250.7,2,    251.5,6,     0.65,2,     0.17,2,     0.00,2,     0.06,2,  -999.0, 16.9058,-999.000
     64PE95N_1,  AR12,    43,  1,      8,   X008,2,19950727,0033, 43.8348,  -8.8343,  522,     52.0,  15.0278,  35.5953,2,-999.0000,9,    256.7,2,   -999.0,9,     0.77,2,     1.90,2,     0.08,2,     0.11,2,    51.0, 15.0200,  15.396
     64PE95N_1,  AR12,    43,  1,      7,   X007,2,19950727,0033, 43.8348,  -8.8343,  522,    102.0,  12.8867,  35.6205,2,  35.6194,2,    235.3,2,    235.8,2,     1.81,2,     5.74,2,     0.03,2,     0.39,2,  -999.0, 12.8727,-999.000
     64PE95N_1,  AR12,    43,  1,      6,   X006,2,19950727,0033, 43.8348,  -8.8343,  522,    152.0,  12.3255,  35.6965,2,-999.0000,9,    222.2,2,   -999.0,9,     2.82,2,     8.96,2,     0.01,2,     0.57,2,  -999.0, 12.3052,  12.306
     64PE95N_1,  AR12,    43,  1,      5,   X005,2,19950727,0033, 43.8348,  -8.8343,  522,    200.0,  11.6182,  35.6118,2,  35.6104,2,    230.2,2,    231.4,2,     3.46,2,     9.93,2,     0.04,2,     0.64,2,  -999.0, 11.5924,-999.000
     64PE95N_1,  AR12,    43,  1,      4,   X004,2,19950727,0033, 43.8348,  -8.8343,  522,    301.0,  11.4176,  35.6158,2,-999.0000,9,    220.4,2,   -999.0,9,     4.26,2,    11.55,2,     0.01,2,     0.73,2,   296.0, 11.3792,  11.416
     64PE95N_1,  AR12,    43,  1,      3,   X003,2,19950727,0033, 43.8348,  -8.8343,  522,    404.0,  11.0814,  35.5918,2,  35.5908,2,    220.8,2,    219.5,2,     4.79,2,    12.50,2,     0.02,2,     0.78,2,  -999.0, 11.0305,-999.000
     64PE95N_1,  AR12,    43,  1,      2,   X002,2,19950727,0033, 43.8348,  -8.8343,  522,    508.0,  11.0808,  35.6771,2,-999.0000,9,    208.3,2,   -999.0,9,     5.92,2,    13.55,2,     0.02,2,     0.86,2,   505.0, 11.0165,  11.082
     64PE95N_1,  AR12,    43,  1,      1,   X001,2,19950727,0033, 43.8348,  -8.8343,  522,    526.0,  11.0838,  35.6777,2,  35.6773,6,    207.9,2,    205.6,6,     5.98,6,    13.62,6,     0.03,6,     0.86,6,  -999.0, 11.0171,-999.000