BOTTLE,20020117WHPSIOKJU
EXPOCODE,SECT_ID,STNNBR,CASTNO,SAMPNO,BTLNBR,BTLNBR_FLAG_W,DATE,TIME,LATITUDE,LONGITUDE,DEPTH,CTDPRS,CTDTMP,CTDSAL,CTDSAL_FLAG_W,SALNTY,SALNTY_FLAG_W,CTDOXY,CTDOXY_FLAG_W,OXYGEN,OXYGEN_FLAG_W,SILCAT,SILCAT_FLAG_W,NITRAT,NITRAT_FLAG_W,NITRIT,NITRIT_FLAG_W,PHSPHT,PHSPHT_FLAG_W,REVPRS,THETA,REVTMP
,,,,,,,,,,,,DBAR,ITS-90,PSS-78,,PSS-78,,UMOL/KG,,UMOL/KG,,UMOL/KG,,UMOL/KG,,UMOL/KG,,UMOL/KG,,DBAR,ITS-90,ITS-90
     64PE95N_1,  AR12,    53,  1,     24,   X024,2,19950728,2015, 44.5000, -11.9993, 4929,      9.0,  19.5482,  35.7367,3,  35.7441,2,    241.0,2,    237.0,6,     0.38,2,     0.00,2,     0.02,2,     0.08,2,  -999.0, 19.5465,-999.000
     64PE95N_1,  AR12,    53,  1,     23,   X023,2,19950728,2015, 44.5000, -11.9993, 4929,     98.0,  12.7660,  35.6869,3,  35.6809,2,    236.3,3,    242.7,2,     1.35,2,     5.45,2,     0.03,2,     0.37,2,  -999.0, 12.7526,-999.000
     64PE95N_1,  AR12,    53,  1,     22,   X022,2,19950728,2015, 44.5000, -11.9993, 4929,    203.0,  11.9509,  35.6310,2,-999.0000,9,    238.1,2,   -999.0,9,     2.63,2,     8.51,2,     0.03,2,     0.54,2,  -999.0, 11.9244,-999.000
     64PE95N_1,  AR12,    53,  1,     21,   X021,2,19950728,2015, 44.5000, -11.9993, 4929,    301.0,  11.5197,  35.5988,2,  35.5969,2,    232.6,2,    232.3,2,     3.48,2,    10.41,2,     0.01,2,     0.66,2,  -999.0, 11.4810,-999.000
     64PE95N_1,  AR12,    53,  1,     20,   X020,2,19950728,2015, 44.5000, -11.9993, 4929,    403.0,  11.2797,  35.5882,2,-999.0000,9,    227.0,2,   -999.0,9,     4.07,2,    11.68,2,     0.02,2,     0.73,2,  -999.0, 11.2284,-999.000
     64PE95N_1,  AR12,    53,  1,     19,   X019,2,19950728,2015, 44.5000, -11.9993, 4929,    605.0,  10.6334,  35.5411,3,  35.5476,2,    215.0,2,    212.4,2,     5.81,2,    14.05,2,     0.01,2,     0.87,2,  -999.0, 10.5585,-999.000
     64PE95N_1,  AR12,    53,  1,     18,   X018,2,19950728,2015, 44.5000, -11.9993, 4929,    807.0,  10.3132,  35.6981,2,-999.0000,9,    189.2,2,   -999.0,9,     8.34,2,    16.28,2,     0.02,2,     1.03,2,  -999.0, 10.2141,-999.000
     64PE95N_1,  AR12,    53,  1,     17,   X017,2,19950728,2015, 44.5000, -11.9993, 4929,   1011.0,   9.4235,  35.7093,3,  35.7180,2,    189.2,2,    189.5,2,     9.69,2,    17.05,2,     0.01,2,     1.08,2,  -999.0,  9.3045,-999.000
     64PE95N_1,  AR12,    53,  1,     16,   X016,2,19950728,2015, 44.5000, -11.9993, 4929,   1262.0,   7.8467,  35.5644,2,-999.0000,9,    207.0,2,   -999.0,9,    11.24,2,    17.48,2,     0.03,2,     1.11,2,  -999.0,  7.7106,-999.000
     64PE95N_1,  AR12,    53,  1,     15,   X015,2,19950728,2015, 44.5000, -11.9993, 4929,   1519.0,   5.8215,  35.2608,2,  35.2626,2,    232.3,2,    231.0,2,    12.85,2,    17.94,2,     0.02,2,     1.17,2,  -999.0,  5.6783,-999.000
     64PE95N_1,  AR12,    53,  1,     14,   X014,2,19950728,2015, 44.5000, -11.9993, 4929,   1765.0,   4.6389,  35.0972,2,-999.0000,9,    246.9,2,   -999.0,9,    14.40,2,    18.06,2,     0.00,2,     1.20,2,  -999.0,  4.4853,-999.000
     64PE95N_1,  AR12,    53,  1,     13,   X013,2,19950728,2015, 44.5000, -11.9993, 4929,   2026.0,   3.8970,  35.0145,2,  35.0146,2,    251.9,2,    252.6,2,    17.34,2,    18.33,2,     0.00,2,     1.24,2,  -999.0,  3.7283,-999.000
     64PE95N_1,  AR12,    53,  1,     12,   X012,2,19950728,2015, 44.5000, -11.9993, 4929,   2281.0,   3.5336,  34.9943,2,-999.0000,9,    248.9,2,   -999.0,9,    21.90,2,    19.06,2,     0.00,2,     1.28,2,  -999.0,  3.3457,-999.000
     64PE95N_1,  AR12,    53,  1,     11,   X011,2,19950728,2015, 44.5000, -11.9993, 4929,   2535.0,   3.1907,  34.9716,2,  34.9713,2,    246.8,2,    249.1,6,    25.74,2,    19.54,2,     0.01,2,     1.33,2,  -999.0,  2.9837,-999.000
     64PE95N_1,  AR12,    53,  1,     10,   X010,2,19950728,2015, 44.5000, -11.9993, 4929,   2789.0,   2.9384,  34.9551,2,-999.0000,9,    243.7,2,   -999.0,9,    29.90,2,    20.09,2,     0.01,2,     1.38,2,  -999.0,  2.7106,-999.000
     64PE95N_1,  AR12,    53,  1,      9,   X009,2,19950728,2015, 44.5000, -11.9993, 4929,   3046.0,   2.7728,  34.9420,2,  34.9421,2,    240.6,2,    244.3,2,    33.18,2,    20.68,2,     0.01,2,     1.41,2,  -999.0,  2.5221,-999.000
     64PE95N_1,  AR12,    53,  1,      8,   X008,2,19950728,2015, 44.5000, -11.9993, 4929,   3302.0,   2.6494,  34.9304,2,-999.0000,9,    238.2,2,   -999.0,9,    36.26,2,    21.04,2,     0.03,2,     1.45,2,  3305.0,  2.3745,   2.653
     64PE95N_1,  AR12,    53,  1,      7,   X007,4,19950728,2015, 44.5000, -11.9993, 4929,   3557.0,   2.5805,  34.9217,2,  34.9307,4,    236.3,2,    240.9,4,    36.81,4,    21.17,4,     0.01,4,     1.45,4,  -999.0,  2.2797,-999.000
     64PE95N_1,  AR12,    53,  1,      6,   X006,2,19950728,2015, 44.5000, -11.9993, 4929,   3812.0,   2.5343,  34.9144,2,-999.0000,9,    235.7,2,   -999.0,9,    40.54,2,    21.89,2,     0.03,2,     1.49,2,  3815.0,  2.2063,   2.535
     64PE95N_1,  AR12,    53,  1,      5,   X005,2,19950728,2015, 44.5000, -11.9993, 4929,   4071.0,   2.5101,  34.9093,2,  34.9087,2,    235.2,2,    238.3,2,    42.01,2,    22.04,2,     0.03,2,     1.50,2,  -999.0,  2.1533,-999.000
     64PE95N_1,  AR12,    53,  1,      4,   X004,2,19950728,2015, 44.5000, -11.9993, 4929,   4327.0,   2.4877,  34.9038,2,-999.0000,9,    235.9,2,   -999.0,9,    42.80,2,    22.03,2,     0.02,2,     1.51,2,  4332.0,  2.1014,   2.487
     64PE95N_1,  AR12,    53,  1,      3,   X003,2,19950728,2015, 44.5000, -11.9993, 4929,   4636.0,   2.5003,  34.9013,2,  34.9017,2,    237.1,2,    238.5,2,    43.35,2,    22.05,2,     0.02,2,     1.51,2,  -999.0,  2.0764,-999.000
     64PE95N_1,  AR12,    53,  1,      2,   X002,2,19950728,2015, 44.5000, -11.9993, 4929,   4841.0,   2.5179,  34.9002,2,-999.0000,9,    237.6,2,   -999.0,9,    43.41,2,    21.71,2,     0.05,2,     1.47,2,  4837.0,  2.0678,   2.517
     64PE95N_1,  AR12,    53,  1,      1,   X001,2,19950728,2015, 44.5000, -11.9993, 4929,   5057.0,   2.5398,  34.8993,2,  34.9000,6,    238.0,2,    237.6,6,    43.63,6,    22.15,6,     0.02,6,     1.51,6,  -999.0,  2.0616,-999.000
     64PE95N_1,  AR12,    54,  1,     24,   X024,2,19950729,0012, 44.7502, -12.0005, 3666,     10.0,  19.2758,  35.7365,2,  35.7378,2,    235.3,2,    237.1,2,     0.54,2,     0.00,2,     0.02,2,     0.06,2,  -999.0, 19.2739,-999.000
     64PE95N_1,  AR12,    54,  1,     23,   X023,2,19950729,0012, 44.7502, -12.0005, 3666,     99.0,  12.3829,  35.6471,2,  35.6469,2,    246.4,2,    244.0,2,     1.83,2,     6.55,2,     0.03,2,     0.44,2,  -999.0, 12.3696,-999.000
     64PE95N_1,  AR12,    54,  1,     22,   X022,2,19950729,0012, 44.7502, -12.0005, 3666,    202.0,  11.7191,  35.5908,2,-999.0000,9,    244.7,2,   -999.0,9,     3.18,2,     9.23,2,     0.02,2,     0.59,2,  -999.0, 11.6930,-999.000
     64PE95N_1,  AR12,    54,  1,     21,   X021,2,19950729,0012, 44.7502, -12.0005, 3666,    302.0,  11.4063,  35.5734,2,  35.5722,2,    233.1,2,    230.8,2,     3.94,2,    11.01,2,     0.02,2,     0.69,2,  -999.0, 11.3678,-999.000
     64PE95N_1,  AR12,    54,  1,     20,   X020,2,19950729,0012, 44.7502, -12.0005, 3666,    404.0,  10.9907,  35.5239,2,-999.0000,9,    237.1,2,   -999.0,9,     4.20,2,    11.41,2,     0.02,2,     0.72,2,  -999.0, 10.9402,-999.000
     64PE95N_1,  AR12,    54,  1,     19,   X019,2,19950729,0012, 44.7502, -12.0005, 3666,    504.0,  10.6737,  35.4858,2,  35.4857,2,    244.7,2,    244.9,2,     4.29,2,    11.33,2,     0.02,2,     0.71,2,  -999.0, 10.6115,-999.000
     64PE95N_1,  AR12,    54,  1,     18,   X018,2,19950729,0012, 44.7502, -12.0005, 3666,    606.0,  10.3295,  35.4595,2,-999.0000,9,    229.5,2,   -999.0,9,     5.55,2,    13.29,2,     0.05,2,     0.84,2,  -999.0, 10.2559,-999.000
     64PE95N_1,  AR12,    54,  1,     17,   X017,4,19950729,0012, 44.7502, -12.0005, 3666,    707.0,  10.1526,  35.5326,2,  35.7427,4,    202.6,2,    234.8,4,     0.34,4,     0.02,4,     0.01,4,     0.06,4,  -999.0, 10.0671,-999.000
     64PE95N_1,  AR12,    54,  1,     16,   X016,2,19950729,0012, 44.7502, -12.0005, 3666,    808.0,   9.6931,  35.5802,2,-999.0000,9,    193.2,2,   -999.0,9,     8.86,2,    16.82,2,     0.01,2,     1.07,2,  -999.0,  9.5976,-999.000
     64PE95N_1,  AR12,    54,  1,     15,   X015,2,19950729,0012, 44.7502, -12.0005, 3666,    910.0,   9.6652,  35.6744,3,  35.6822,2,    189.2,2,    188.1,2,     9.29,2,    16.93,2,     0.02,2,     1.06,2,  -999.0,  9.5571,-999.000
     64PE95N_1,  AR12,    54,  1,     14,   X014,2,19950729,0012, 44.7502, -12.0005, 3666,   1011.0,   9.2542,  35.6748,2,-999.0000,9,    191.5,2,   -999.0,9,     9.73,2,    17.10,2,     0.02,2,     1.08,2,  -999.0,  9.1365,-999.000
     64PE95N_1,  AR12,    54,  1,     13,   X013,2,19950729,0012, 44.7502, -12.0005, 3666,   1214.0,   7.5722,  35.4917,2,  35.4869,2,    209.5,2,    212.3,2,    10.86,2,    17.63,2,     0.02,2,     1.13,2,  -999.0,  7.4443,-999.000
     64PE95N_1,  AR12,    54,  1,     12,   X012,2,19950729,0012, 44.7502, -12.0005, 3666,   1417.0,   5.5785,  35.1855,2,-999.0000,9,    235.4,2,   -999.0,9,    11.47,2,    17.87,2,     0.01,2,     1.17,2,  -999.0,  5.4486,-999.000
     64PE95N_1,  AR12,    54,  1,     11,   X011,2,19950729,0012, 44.7502, -12.0005, 3666,   1619.0,   4.5347,  35.0428,2,  35.0434,2,    252.8,2,    252.5,6,    11.86,2,    17.74,2,     0.03,2,     1.17,2,  -999.0,  4.3969,-999.000
     64PE95N_1,  AR12,    54,  1,     10,   X010,2,19950729,0012, 44.7502, -12.0005, 3666,   1823.0,   3.9542,  34.9755,2,-999.0000,9,    262.5,2,   -999.0,9,    12.41,2,    17.55,2,     0.03,2,     1.17,2,  -999.0,  3.8043,-999.000
     64PE95N_1,  AR12,    54,  1,      9,   X009,2,19950729,0012, 44.7502, -12.0005, 3666,   2025.0,   3.6521,  34.9597,2,  34.9603,2,    263.1,2,    263.5,2,    14.17,2,    17.66,2,     0.01,2,     1.18,2,  -999.0,  3.4874,-999.000
     64PE95N_1,  AR12,    54,  1,      8,   X008,2,19950729,0012, 44.7502, -12.0005, 3666,   2230.0,   3.4970,  34.9732,2,-999.0000,9,    257.2,2,   -999.0,9,    18.09,2,    18.25,2,     0.03,2,     1.22,2,  2230.0,  3.3148,   3.497
     64PE95N_1,  AR12,    54,  1,      7,   X007,2,19950729,0012, 44.7502, -12.0005, 3666,   2433.0,   3.2670,  34.9706,2,  34.9711,2,    253.5,2,    253.0,2,    22.30,2,    18.84,2,     0.03,2,     1.28,2,  -999.0,  3.0687,-999.000
     64PE95N_1,  AR12,    54,  1,      6,   X006,2,19950729,0012, 44.7502, -12.0005, 3666,   2637.0,   3.0318,  34.9603,2,-999.0000,9,    249.8,2,   -999.0,9,    27.12,2,    19.66,2,     0.02,2,     1.33,2,  2640.0,  2.8175,   3.030
     64PE95N_1,  AR12,    54,  1,      5,   X005,2,19950729,0012, 44.7502, -12.0005, 3666,   2842.0,   2.8860,  34.9509,2,  34.9504,2,    248.0,2,    247.1,2,    29.93,2,    20.08,2,     0.02,2,     1.37,2,  -999.0,  2.6539,-999.000
     64PE95N_1,  AR12,    54,  1,      4,   X004,2,19950729,0012, 44.7502, -12.0005, 3666,   3046.0,   2.7531,  34.9402,2,-999.0000,9,    246.4,2,   -999.0,9,    33.12,2,    20.48,2,     0.02,2,     1.39,2,  3050.0,  2.5029,   2.752
     64PE95N_1,  AR12,    54,  1,      3,   X003,2,19950729,0012, 44.7502, -12.0005, 3666,   3303.0,   2.6475,  34.9299,2,  34.9300,2,    244.6,2,    242.0,2,    36.22,2,    21.08,2,     0.03,2,     1.45,2,  -999.0,  2.3726,-999.000
     64PE95N_1,  AR12,    54,  1,      2,   X002,2,19950729,0012, 44.7502, -12.0005, 3666,   3557.0,   2.5560,  34.9193,2,-999.0000,9,    242.8,2,   -999.0,9,    39.45,2,    21.68,2,     0.03,2,     1.47,2,  3553.0,  2.2559,   2.556
     64PE95N_1,  AR12,    54,  1,      1,   X001,2,19950729,0012, 44.7502, -12.0005, 3666,   3738.0,   2.5471,  34.9163,2,  34.9169,6,    243.0,2,    239.1,6,    40.23,6,    21.70,6,     0.03,6,     1.48,6,  -999.0,  2.2271,-999.000
     64PE95N_1,  AR12,    55,  1,     24,   X024,2,19950729,0420, 44.9998, -12.0000, 4095,      9.0,  19.3497,  35.7594,3,  35.7644,2,    236.1,2,    237.6,6,     0.46,2,     0.01,2,     0.02,2,     0.04,2,  -999.0, 19.3480,-999.000
     64PE95N_1,  AR12,    55,  1,     23,   X023,2,19950729,0420, 44.9998, -12.0000, 4095,    100.0,  12.2411,  35.6418,2,  35.6396,2,    247.3,2,    244.3,2,     2.25,2,     7.48,2,     0.02,2,     0.49,2,  -999.0, 12.2278,-999.000
     64PE95N_1,  AR12,    55,  1,     22,   X022,2,19950729,0420, 44.9998, -12.0000, 4095,    203.0,  11.6876,  35.5944,2,-999.0000,9,    246.3,2,   -999.0,9,     3.07,2,     9.22,2,     0.02,2,     0.60,2,  -999.0, 11.6615,-999.000
     64PE95N_1,  AR12,    55,  1,     21,   X021,2,19950729,0420, 44.9998, -12.0000, 4095,    303.0,  11.3532,  35.5614,2,  35.5614,2,    238.7,2,    236.7,2,     3.73,2,    10.59,2,     0.03,2,     0.67,2,  -999.0, 11.3146,-999.000
     64PE95N_1,  AR12,    55,  1,     20,   X020,2,19950729,0420, 44.9998, -12.0000, 4095,    401.0,  11.0319,  35.5326,2,-999.0000,9,    234.7,2,   -999.0,9,     4.20,2,    11.58,2,     0.02,2,     0.73,2,  -999.0, 10.9816,-999.000
     64PE95N_1,  AR12,    55,  1,     19,   X019,2,19950729,0420, 44.9998, -12.0000, 4095,    504.0,  10.6938,  35.4932,2,  35.4951,2,    238.7,2,    241.9,2,     4.62,2,    11.95,2,     0.02,2,     0.75,2,  -999.0, 10.6315,-999.000
     64PE95N_1,  AR12,    55,  1,     18,   X018,2,19950729,0420, 44.9998, -12.0000, 4095,    605.0,  10.3155,  35.4764,2,-999.0000,9,    218.3,2,   -999.0,9,     6.28,2,    14.39,2,     0.02,2,     0.91,2,  -999.0, 10.2420,-999.000
     64PE95N_1,  AR12,    55,  1,     17,   X017,2,19950729,0420, 44.9998, -12.0000, 4095,    707.0,  10.0777,  35.5021,3,  35.5102,2,    204.8,2,    203.4,2,     7.29,2,    15.58,2,     0.02,2,     0.99,2,  -999.0,  9.9926,-999.000
     64PE95N_1,  AR12,    55,  1,     16,   X016,2,19950729,0420, 44.9998, -12.0000, 4095,    807.0,   9.7084,  35.5401,2,-999.0000,9,    195.1,2,   -999.0,9,     8.50,2,    16.64,2,     0.02,2,     1.06,2,  -999.0,  9.6130,-999.000
     64PE95N_1,  AR12,    55,  1,     15,   X015,2,19950729,0420, 44.9998, -12.0000, 4095,    909.0,   9.5006,  35.6306,2,  35.6324,2,    189.2,2,    189.4,2,     9.26,2,    17.13,2,     0.02,2,     1.08,2,  -999.0,  9.3937,-999.000
     64PE95N_1,  AR12,    55,  1,     14,   X014,2,19950729,0420, 44.9998, -12.0000, 4095,   1012.0,   9.1378,  35.6766,2,-999.0000,9,    190.7,2,   -999.0,9,     9.85,2,    17.11,2,     0.03,2,     1.09,2,  -999.0,  9.0207,-999.000
     64PE95N_1,  AR12,    55,  1,     13,   X013,2,19950729,0420, 44.9998, -12.0000, 4095,   1264.0,   6.8278,  35.3578,2,  35.3601,2,    216.5,2,    217.6,2,    11.06,2,    17.93,2,     0.01,2,     1.16,2,  -999.0,  6.7013,-999.000
     64PE95N_1,  AR12,    55,  1,     12,   X012,2,19950729,0420, 44.9998, -12.0000, 4095,   1517.0,   4.9722,  35.0985,2,-999.0000,9,    244.5,2,   -999.0,9,    11.75,2,    17.97,2,     0.02,2,     1.18,2,  -999.0,  4.8391,-999.000
     64PE95N_1,  AR12,    55,  1,     11,   X011,2,19950729,0420, 44.9998, -12.0000, 4095,   1771.0,   3.9847,  34.9706,2,  34.9729,2,    263.9,2,    262.5,6,    11.97,2,    17.63,2,     0.00,2,     1.18,2,  -999.0,  3.8394,-999.000
     64PE95N_1,  AR12,    55,  1,     10,   X010,2,19950729,0420, 44.9998, -12.0000, 4095,   2026.0,   3.6755,  34.9645,2,-999.0000,9,    262.7,2,   -999.0,9,    14.54,2,    17.69,2,     0.02,2,     1.21,2,  -999.0,  3.5103,-999.000
     64PE95N_1,  AR12,    55,  1,      9,   X009,2,19950729,0420, 44.9998, -12.0000, 4095,   2280.0,   3.3576,  34.9669,2,  34.9690,2,    257.9,2,    257.8,2,    18.71,2,    18.21,2,     0.01,2,     1.24,2,  -999.0,  3.1728,-999.000
     64PE95N_1,  AR12,    55,  1,      8,   X008,2,19950729,0420, 44.9998, -12.0000, 4095,   2534.0,   3.0929,  34.9635,2,-999.0000,9,    251.0,2,   -999.0,9,    25.00,2,    19.29,2,     0.02,2,     1.31,2,  2537.0,  2.8878,   3.095
     64PE95N_1,  AR12,    55,  1,      7,   X007,2,19950729,0420, 44.9998, -12.0000, 4095,   2791.0,   2.9305,  34.9539,2,  34.9561,2,    248.2,2,    248.3,2,    28.40,2,    19.85,2,     0.01,2,     1.35,2,  -999.0,  2.7026,-999.000
     64PE95N_1,  AR12,    55,  1,      6,   X006,2,19950729,0420, 44.9998, -12.0000, 4095,   3046.0,   2.7628,  34.9410,2,-999.0000,9,    245.5,2,   -999.0,9,    31.97,2,    20.23,2,     0.01,2,     1.39,2,  3046.0,  2.5124,   2.762
     64PE95N_1,  AR12,    55,  1,      5,   X005,2,19950729,0420, 44.9998, -12.0000, 4095,   3302.0,   2.6603,  34.9308,2,  34.9322,2,    242.0,2,    242.9,2,    35.65,2,    20.93,2,     0.01,2,     1.44,2,  -999.0,  2.3852,-999.000
     64PE95N_1,  AR12,    55,  1,      4,   X004,2,19950729,0420, 44.9998, -12.0000, 4095,   3559.0,   2.5920,  34.9226,2,-999.0000,9,    240.1,2,   -999.0,9,    38.43,2,    21.46,2,     0.01,2,     1.47,2,  3561.0,  2.2908,   2.593
     64PE95N_1,  AR12,    55,  1,      3,   X003,2,19950729,0420, 44.9998, -12.0000, 4095,   3814.0,   2.5628,  34.9172,2,  34.9191,2,    239.3,2,    238.9,2,    39.98,2,    21.78,2,     0.00,2,     1.49,2,  -999.0,  2.2338,-999.000
     64PE95N_1,  AR12,    55,  1,      2,   X002,2,19950729,0420, 44.9998, -12.0000, 4095,   4072.0,   2.5558,  34.9133,2,-999.0000,9,    239.1,2,   -999.0,9,    41.24,2,    21.90,2,     0.01,2,     1.51,2,  4069.0,  2.1975,   2.558
     64PE95N_1,  AR12,    55,  1,      1,   X001,2,19950729,0420, 44.9998, -12.0000, 4095,   4256.0,   2.5547,  34.9108,2,  34.9137,2,    239.9,2,    238.0,6,    41.64,6,    21.92,6,     0.02,6,     1.50,6,  -999.0,  2.1748,-999.000