BOTTLE,20020117WHPSIOKJU
EXPOCODE,SECT_ID,STNNBR,CASTNO,SAMPNO,BTLNBR,BTLNBR_FLAG_W,DATE,TIME,LATITUDE,LONGITUDE,DEPTH,CTDPRS,CTDTMP,CTDSAL,CTDSAL_FLAG_W,SALNTY,SALNTY_FLAG_W,CTDOXY,CTDOXY_FLAG_W,OXYGEN,OXYGEN_FLAG_W,SILCAT,SILCAT_FLAG_W,NITRAT,NITRAT_FLAG_W,NITRIT,NITRIT_FLAG_W,PHSPHT,PHSPHT_FLAG_W,REVPRS,THETA,REVTMP
,,,,,,,,,,,,DBAR,ITS-90,PSS-78,,PSS-78,,UMOL/KG,,UMOL/KG,,UMOL/KG,,UMOL/KG,,UMOL/KG,,UMOL/KG,,DBAR,ITS-90,ITS-90
     64PE95N_1,  AR12,    62,  1,     24,   X024,2,19950730,2228, 46.9982,  -9.3348, 4269,     10.0,  18.1642,  35.5867,2,  35.5870,2,    239.9,2,    241.1,6,     0.17,2,     0.05,2,     0.01,2,     0.05,2,  -999.0, 18.1624,-999.000
     64PE95N_1,  AR12,    62,  1,     23,   X023,2,19950730,2228, 46.9982,  -9.3348, 4269,    100.0,  11.8107,  35.5938,2,  35.5916,2,    248.4,2,   -999.0,9,     2.90,2,     8.59,2,     0.02,2,     0.55,2,  -999.0, 11.7977,-999.000
     64PE95N_1,  AR12,    62,  1,     22,   X022,2,19950730,2228, 46.9982,  -9.3348, 4269,    202.0,  11.4151,  35.5610,2,-999.0000,9,    245.9,2,   -999.0,9,     3.41,2,     9.70,2,     0.01,2,     0.62,2,  -999.0, 11.3894,-999.000
     64PE95N_1,  AR12,    62,  1,     21,   X021,2,19950730,2228, 46.9982,  -9.3348, 4269,    303.0,  11.0988,  35.5264,2,  35.5252,2,    241.8,2,    240.5,2,     4.10,2,    10.75,2,     0.01,2,     0.69,2,  -999.0, 11.0609,-999.000
     64PE95N_1,  AR12,    62,  1,     20,   X020,2,19950730,2228, 46.9982,  -9.3348, 4269,    404.0,  10.8136,  35.5037,2,-999.0000,9,    238.7,2,   -999.0,9,     4.26,2,    11.50,2,     0.03,2,     0.74,2,  -999.0, 10.7636,-999.000
     64PE95N_1,  AR12,    62,  1,     19,   X019,2,19950730,2228, 46.9982,  -9.3348, 4269,    505.0,  10.5290,  35.4686,2,  35.4684,2,    239.2,2,    240.1,2,     4.78,2,    12.05,2,     0.00,2,     0.78,2,  -999.0, 10.4672,-999.000
     64PE95N_1,  AR12,    62,  1,     18,   X018,2,19950730,2228, 46.9982,  -9.3348, 4269,    606.0,  10.2432,  35.4417,2,-999.0000,9,    236.3,2,   -999.0,9,     5.30,2,    12.62,2,     0.01,2,     0.82,2,  -999.0, 10.1700,-999.000
     64PE95N_1,  AR12,    62,  1,     17,   X017,2,19950730,2228, 46.9982,  -9.3348, 4269,    706.0,  10.0155,  35.4563,2,  35.4571,2,    215.2,2,    214.8,2,     7.00,2,    14.68,2,     0.00,2,     0.94,2,  -999.0,  9.9309,-999.000
     64PE95N_1,  AR12,    62,  1,     16,   X016,2,19950730,2228, 46.9982,  -9.3348, 4269,    808.0,   9.5946,  35.4844,2,-999.0000,9,    198.1,2,   -999.0,9,     8.71,2,    16.49,2,     0.02,2,     1.07,2,  -999.0,  9.4997,-999.000
     64PE95N_1,  AR12,    62,  1,     15,   X015,2,19950730,2228, 46.9982,  -9.3348, 4269,   1012.0,   8.9471,  35.6013,2,  35.6005,2,    192.0,2,    193.0,2,    10.08,2,    17.31,2,     0.01,2,     1.12,2,  -999.0,  8.8315,-999.000
     64PE95N_1,  AR12,    62,  1,     14,   X014,2,19950730,2228, 46.9982,  -9.3348, 4269,   1264.0,   6.7599,  35.3324,2,-999.0000,9,    214.8,2,   -999.0,9,    11.44,2,    17.88,2,     0.00,2,     1.18,2,  -999.0,  6.6340,-999.000
     64PE95N_1,  AR12,    62,  1,     13,   X013,4,19950730,2228, 46.9982,  -9.3348, 4269,   1515.0,   4.7350,  35.0439,2,-999.0000,9,    246.1,2,   -999.0,9,  -999.00,9,  -999.00,9,  -999.00,9,  -999.00,9,  -999.0,  4.6049,-999.000
     64PE95N_1,  AR12,    62,  1,     12,   X012,2,19950730,2228, 46.9982,  -9.3348, 4269,   1773.0,   3.8809,  34.9444,2,-999.0000,9,    264.0,2,   -999.0,9,    11.62,2,    17.54,2,     0.01,2,     1.18,2,  -999.0,  3.7369,-999.000
     64PE95N_1,  AR12,    62,  1,     11,   X011,2,19950730,2228, 46.9982,  -9.3348, 4269,   2026.0,   3.5910,  34.9415,2,  34.9424,2,    264.1,2,    266.3,6,    13.50,2,    17.56,2,     0.00,2,     1.18,2,  -999.0,  3.4271,-999.000
     64PE95N_1,  AR12,    62,  1,     10,   X025,4,19950730,2228, 46.9982,  -9.3348, 4269,   2281.0,   3.4705,  34.9719,2,-999.0000,9,    252.9,2,   -999.0,9,     3.58,4,     7.32,4,     0.01,4,     0.51,4,  -999.0,  3.2837,-999.000
     64PE95N_1,  AR12,    62,  1,      9,   X009,2,19950730,2228, 46.9982,  -9.3348, 4269,   2535.0,   3.2039,  34.9690,2,  34.9686,2,    246.3,2,    247.8,2,    26.66,2,    19.54,2,     0.01,2,     1.34,2,  -999.0,  2.9966,-999.000
     64PE95N_1,  AR12,    62,  1,      8,   X008,2,19950730,2228, 46.9982,  -9.3348, 4269,   2790.0,   2.9572,  34.9544,2,-999.0000,9,    243.0,2,   -999.0,9,    31.96,2,    20.24,2,     0.04,2,     1.39,2,  2791.0,  2.7289,   2.955
     64PE95N_1,  AR12,    62,  1,      7,   X007,2,19950730,2228, 46.9982,  -9.3348, 4269,   3047.0,   2.7973,  34.9416,2,  34.9432,2,    240.9,2,    243.6,2,    35.03,2,    20.84,2,     0.00,2,     1.43,2,  -999.0,  2.5460,-999.000
     64PE95N_1,  AR12,    62,  1,      6,   X006,2,19950730,2228, 46.9982,  -9.3348, 4269,   3301.0,   2.6879,  34.9314,2,-999.0000,9,    239.9,2,   -999.0,9,    37.78,2,    21.09,2,     0.01,2,     1.44,2,  3303.0,  2.4122,   2.685
     64PE95N_1,  AR12,    62,  1,      5,   X005,2,19950730,2228, 46.9982,  -9.3348, 4269,   3558.0,   2.6013,  34.9225,2,  34.9217,2,    239.1,2,    239.2,2,    39.65,2,    21.48,2,     0.02,2,     1.48,2,  -999.0,  2.2999,-999.000
     64PE95N_1,  AR12,    62,  1,      4,   X004,2,19950730,2228, 46.9982,  -9.3348, 4269,   3815.0,   2.5490,  34.9156,2,-999.0000,9,    238.9,2,   -999.0,9,    41.37,2,    21.73,2,     0.03,2,     1.50,2,  3817.0,  2.2203,   2.551
     64PE95N_1,  AR12,    62,  1,      3,   X003,2,19950730,2228, 46.9982,  -9.3348, 4269,   4070.0,   2.5075,  34.9090,2,  34.9087,2,    239.1,2,    237.5,2,    42.73,2,    21.91,2,     0.01,2,     1.51,2,  -999.0,  2.1509,-999.000
     64PE95N_1,  AR12,    62,  1,      2,   X002,2,19950730,2228, 46.9982,  -9.3348, 4269,   4328.0,   2.4886,  34.9038,2,-999.0000,9,    238.9,2,   -999.0,9,    43.93,2,    21.92,2,     0.07,2,     1.52,2,  4326.0,  2.1022,   2.490
     64PE95N_1,  AR12,    62,  1,      1,   X001,2,19950730,2228, 46.9982,  -9.3348, 4269,   4362.0,   2.4928,  34.9039,2,  34.9038,6,    239.1,2,    236.1,6,    44.03,6,    22.16,6,     0.02,6,     1.51,6,  -999.0,  2.1022,-999.000
     64PE95N_1,  AR12,    63,  1,     24,   X024,2,19950731,0245, 47.1668,  -9.0832, 4450,      9.0,  18.5694,  35.5845,2,  35.5881,2,    239.0,2,    240.0,6,     0.17,2,     0.04,2,     0.02,2,     0.05,2,  -999.0, 18.5678,-999.000
     64PE95N_1,  AR12,    63,  1,     23,   X023,2,19950731,0245, 47.1668,  -9.0832, 4450,    101.0,  11.8223,  35.5906,2,  35.5898,2,    247.6,2,    245.4,2,     2.73,2,     8.51,2,     0.03,2,     0.55,2,  -999.0, 11.8092,-999.000
     64PE95N_1,  AR12,    63,  1,     22,   X022,2,19950731,0245, 47.1668,  -9.0832, 4450,    201.0,  11.4276,  35.5607,2,-999.0000,9,    245.8,2,   -999.0,9,     3.41,2,     9.51,2,     0.03,2,     0.63,2,  -999.0, 11.4020,-999.000
     64PE95N_1,  AR12,    63,  1,     21,   X021,2,19950731,0245, 47.1668,  -9.0832, 4450,    303.0,  11.1004,  35.5273,2,  35.5274,2,    242.1,2,    239.2,2,     3.92,2,    10.54,2,     0.04,2,     0.67,2,  -999.0, 11.0624,-999.000
     64PE95N_1,  AR12,    63,  1,     20,   X020,2,19950731,0245, 47.1668,  -9.0832, 4450,    403.0,  10.7846,  35.4941,2,-999.0000,9,    241.4,2,   -999.0,9,     4.44,2,    11.19,2,     0.02,2,     0.71,2,  -999.0, 10.7347,-999.000
     64PE95N_1,  AR12,    63,  1,     19,   X019,2,19950731,0245, 47.1668,  -9.0832, 4450,    504.0,  10.4713,  35.4682,2,  35.4687,2,    237.4,2,    237.9,2,     5.12,2,    12.06,2,     0.02,2,     0.78,2,  -999.0, 10.4098,-999.000
     64PE95N_1,  AR12,    63,  1,     18,   X018,2,19950731,0245, 47.1668,  -9.0832, 4450,    605.0,  10.1661,  35.4482,2,-999.0000,9,    222.7,2,   -999.0,9,     6.32,2,    13.78,2,     0.02,2,     0.88,2,  -999.0, 10.0933,-999.000
     64PE95N_1,  AR12,    63,  1,     17,   X017,2,19950731,0245, 47.1668,  -9.0832, 4450,    707.0,   9.9905,  35.4714,2,  35.4712,2,    208.9,2,    209.0,2,     7.35,2,    15.19,2,     0.04,2,     0.95,2,  -999.0,  9.9059,-999.000
     64PE95N_1,  AR12,    63,  1,     16,   X016,2,19950731,0245, 47.1668,  -9.0832, 4450,    808.0,   9.7099,  35.5238,2,-999.0000,9,    195.6,2,   -999.0,9,     8.54,2,    16.34,2,     0.02,2,     1.04,2,  -999.0,  9.6143,-999.000
     64PE95N_1,  AR12,    63,  1,     15,   X015,2,19950731,0245, 47.1668,  -9.0832, 4450,   1010.0,   8.6526,  35.5217,2,  35.5227,2,    194.7,2,    195.3,2,    10.42,2,    17.56,2,     0.02,2,     1.12,2,  -999.0,  8.5396,-999.000
     64PE95N_1,  AR12,    63,  1,     14,   X014,2,19950731,0245, 47.1668,  -9.0832, 4450,   1264.0,   6.9596,  35.3787,2,-999.0000,9,    212.3,2,   -999.0,9,    11.78,2,    17.78,2,     0.02,2,     1.16,2,  -999.0,  6.8318,-999.000
     64PE95N_1,  AR12,    63,  1,     13,   X026,2,19950731,0245, 47.1668,  -9.0832, 4450,   1518.0,   4.7307,  35.0626,2,  35.0609,2,    246.2,2,    249.2,2,    12.65,2,    17.88,2,     0.03,2,     1.19,2,  -999.0,  4.6003,-999.000
     64PE95N_1,  AR12,    63,  1,     12,   X012,2,19950731,0245, 47.1668,  -9.0832, 4450,   1773.0,   3.7219,  34.9286,2,-999.0000,9,    267.4,2,   -999.0,9,    11.96,2,    17.37,2,     0.02,2,     1.16,2,  -999.0,  3.5801,-999.000
     64PE95N_1,  AR12,    63,  1,     11,   X011,2,19950731,0245, 47.1668,  -9.0832, 4450,   2027.0,   3.5956,  34.9512,2,  34.9511,2,    262.4,2,    264.3,6,    14.86,2,    17.56,2,     0.02,2,     1.18,2,  -999.0,  3.4316,-999.000
     64PE95N_1,  AR12,    63,  1,     10,   X025,2,19950731,0245, 47.1668,  -9.0832, 4450,   2281.0,   3.4354,  34.9774,2,-999.0000,9,    251.0,2,   -999.0,9,    22.04,2,    18.76,2,     0.03,2,     1.28,2,  -999.0,  3.2492,-999.000
     64PE95N_1,  AR12,    63,  1,      9,   X009,2,19950731,0245, 47.1668,  -9.0832, 4450,   2532.0,   3.2110,  34.9700,2,  34.9699,2,    246.9,2,    247.6,2,    27.00,2,    19.64,2,     0.01,2,     1.33,2,  -999.0,  3.0039,-999.000
     64PE95N_1,  AR12,    63,  1,      8,   X008,2,19950731,0245, 47.1668,  -9.0832, 4450,   2791.0,   2.9670,  34.9552,2,-999.0000,9,    242.8,2,   -999.0,9,    31.62,2,    20.41,2,     0.01,2,     1.39,2,  2792.0,  2.7384,   2.968
     64PE95N_1,  AR12,    63,  1,      7,   X007,2,19950731,0245, 47.1668,  -9.0832, 4450,   3047.0,   2.8259,  34.9438,2,  34.9444,2,    241.3,2,    243.7,2,    34.01,2,    20.66,2,     0.01,2,     1.43,2,  -999.0,  2.5739,-999.000
     64PE95N_1,  AR12,    63,  1,      6,   X006,2,19950731,0245, 47.1668,  -9.0832, 4450,   3302.0,   2.7121,  34.9336,2,-999.0000,9,    240.6,2,   -999.0,9,    37.26,2,    21.19,2,     0.02,2,     1.46,2,  3304.0,  2.4358,   2.710
     64PE95N_1,  AR12,    63,  1,      5,   X005,2,19950731,0245, 47.1668,  -9.0832, 4450,   3558.0,   2.6392,  34.9257,2,  34.9249,2,    239.9,2,    240.1,2,    38.80,2,    21.40,2,     0.00,2,     1.47,2,  -999.0,  2.3369,-999.000
     64PE95N_1,  AR12,    63,  1,      4,   X004,2,19950731,0245, 47.1668,  -9.0832, 4450,   3814.0,   2.5596,  34.9165,2,-999.0000,9,    239.8,2,   -999.0,9,    41.02,2,    21.67,2,     0.01,2,     1.50,2,  3817.0,  2.2307,   2.560
     64PE95N_1,  AR12,    63,  1,      3,   X003,2,19950731,0245, 47.1668,  -9.0832, 4450,   4072.0,   2.5241,  34.9106,2,  34.9100,2,    239.8,2,    238.1,2,    42.39,2,    21.95,2,     0.00,2,     1.52,2,  -999.0,  2.1668,-999.000
     64PE95N_1,  AR12,    63,  1,      2,   X002,2,19950731,0245, 47.1668,  -9.0832, 4450,   4328.0,   2.5037,  34.9056,2,-999.0000,9,    240.0,2,   -999.0,9,    43.42,2,    22.10,2,     0.01,2,     1.53,2,  4323.0,  2.1169,   2.505
     64PE95N_1,  AR12,    63,  1,      1,   X001,2,19950731,0245, 47.1668,  -9.0832, 4450,   4555.0,   2.5056,  34.9024,2,  34.9020,6,    238.7,2,    235.2,2,    44.45,6,    22.33,6,     0.02,6,     1.52,6,  -999.0,  2.0913,-999.000
     64PE95N_1,  AR12,    64,  1,     24,   X024,2,19950731,0704, 47.3342,  -8.8338, 3764,     10.0,  18.2203,  35.6125,2,  35.6124,2,    241.7,2,    243.3,6,     0.32,2,     0.05,2,     0.03,2,     0.10,2,  -999.0, 18.2185,-999.000
     64PE95N_1,  AR12,    64,  1,     23,   X023,2,19950731,0704, 47.3342,  -8.8338, 3764,    101.0,  11.8500,  35.5953,2,  35.5954,2,    248.6,2,    246.4,2,     2.85,2,     8.69,2,     0.04,2,     0.55,2,  -999.0, 11.8368,-999.000
     64PE95N_1,  AR12,    64,  1,     22,   X022,2,19950731,0704, 47.3342,  -8.8338, 3764,    201.0,  11.4604,  35.5671,2,-999.0000,9,    252.0,2,   -999.0,9,     3.06,2,     9.06,2,     0.02,2,     0.58,2,  -999.0, 11.4347,-999.000
     64PE95N_1,  AR12,    64,  1,     21,   X021,2,19950731,0704, 47.3342,  -8.8338, 3764,    301.0,  11.2916,  35.5485,2,  35.5483,2,    246.1,2,    244.6,2,     3.49,2,     9.93,2,     0.03,2,     0.63,2,  -999.0, 11.2535,-999.000
     64PE95N_1,  AR12,    64,  1,     20,   X020,2,19950731,0704, 47.3342,  -8.8338, 3764,    404.0,  10.9027,  35.5086,2,-999.0000,9,    242.2,2,   -999.0,9,     4.16,2,    11.19,2,     0.02,2,     0.71,2,  -999.0, 10.8525,-999.000
     64PE95N_1,  AR12,    64,  1,     19,   X019,2,19950731,0704, 47.3342,  -8.8338, 3764,    505.0,  10.6540,  35.4839,2,  35.4844,2,    241.7,2,    241.8,2,     4.49,2,    11.58,2,     0.02,2,     0.74,2,  -999.0, 10.5918,-999.000
     64PE95N_1,  AR12,    64,  1,     18,   X018,2,19950731,0704, 47.3342,  -8.8338, 3764,    607.0,  10.4551,  35.4674,2,-999.0000,9,    237.6,2,   -999.0,9,     4.99,2,    12.35,2,     0.02,2,     0.79,2,  -999.0, 10.3808,-999.000
     64PE95N_1,  AR12,    64,  1,     17,   X017,2,19950731,0704, 47.3342,  -8.8338, 3764,    706.0,  10.0948,  35.4412,2,  35.4399,2,    221.4,2,    221.9,2,     6.38,2,    14.25,2,     0.01,2,     0.91,2,  -999.0, 10.0098,-999.000
     64PE95N_1,  AR12,    64,  1,     16,   X016,2,19950731,0704, 47.3342,  -8.8338, 3764,    809.0,   9.5550,  35.4412,2,-999.0000,9,    203.6,2,   -999.0,9,     8.41,2,    16.45,2,     0.03,2,     1.05,2,  -999.0,  9.4603,-999.000
     64PE95N_1,  AR12,    64,  1,     15,   X015,2,19950731,0704, 47.3342,  -8.8338, 3764,    910.0,   9.3055,  35.4918,2,  35.4955,2,    196.1,2,    194.7,2,     9.38,2,    17.10,2,     0.01,2,     1.09,2,  -999.0,  9.1999,-999.000
     64PE95N_1,  AR12,    64,  1,     14,   X014,2,19950731,0704, 47.3342,  -8.8338, 3764,   1010.0,   9.1119,  35.5725,2,-999.0000,9,    192.6,2,   -999.0,9,     9.83,2,    17.36,2,     0.04,2,     1.10,2,  -999.0,  8.9954,-999.000
     64PE95N_1,  AR12,    64,  1,     13,   X026,2,19950731,0704, 47.3342,  -8.8338, 3764,   1213.0,   7.8345,  35.4882,2,  35.4861,2,    204.1,2,    205.7,2,    10.96,2,    17.76,2,     0.02,2,     1.13,2,  -999.0,  7.7044,-999.000
     64PE95N_1,  AR12,    64,  1,     12,   X012,2,19950731,0704, 47.3342,  -8.8338, 3764,   1417.0,   5.1835,  35.1037,2,-999.0000,9,    240.1,2,   -999.0,9,    11.71,2,    18.06,2,     0.01,2,     1.19,2,  -999.0,  5.0579,-999.000
     64PE95N_1,  AR12,    64,  1,     11,   X011,2,19950731,0704, 47.3342,  -8.8338, 3764,   1620.0,   4.1605,  34.9758,2,  34.9753,2,    261.0,2,    260.8,2,    11.62,2,    17.71,2,     0.02,2,     1.18,2,  -999.0,  4.0273,-999.000
     64PE95N_1,  AR12,    64,  1,     10,   X025,2,19950731,0704, 47.3342,  -8.8338, 3764,   1822.0,   3.7199,  34.9331,2,-999.0000,9,    269.5,2,   -999.0,9,    12.03,2,    17.46,2,     0.02,2,     1.15,2,  -999.0,  3.5735,-999.000
     64PE95N_1,  AR12,    64,  1,      9,   X009,2,19950731,0704, 47.3342,  -8.8338, 3764,   2026.0,   3.6253,  34.9648,2,  34.9662,2,    260.7,2,    261.3,2,    16.24,2,    17.86,2,     0.03,2,     1.20,2,  -999.0,  3.4608,-999.000
     64PE95N_1,  AR12,    64,  1,      8,   X008,2,19950731,0704, 47.3342,  -8.8338, 3764,   2280.0,   3.3746,  34.9723,2,-999.0000,9,    253.1,2,   -999.0,9,    22.57,2,    18.88,2,     0.02,2,     1.27,2,  2279.0,  3.1894,   3.374
     64PE95N_1,  AR12,    64,  1,      7,   X007,2,19950731,0704, 47.3342,  -8.8338, 3764,   2534.0,   3.1079,  34.9629,2,  34.9629,2,    247.4,2,    248.6,2,    29.33,2,    20.00,2,     0.03,2,     1.36,2,  -999.0,  2.9025,-999.000
     64PE95N_1,  AR12,    64,  1,      6,   X006,2,19950731,0704, 47.3342,  -8.8338, 3764,   2790.0,   2.9176,  34.9512,2,-999.0000,9,    245.4,2,   -999.0,9,    32.51,2,    20.52,2,     0.03,2,     1.39,2,  2791.0,  2.6902,   2.919
     64PE95N_1,  AR12,    64,  1,      5,   X005,2,19950731,0704, 47.3342,  -8.8338, 3764,   3041.0,   2.8092,  34.9418,2,  34.9418,2,    243.4,2,    243.1,2,    35.34,2,    20.98,2,     0.01,2,     1.44,2,  -999.0,  2.5583,-999.000
     64PE95N_1,  AR12,    64,  1,      4,   X004,4,19950731,0704, 47.3342,  -8.8338, 3764,   3300.0,   2.6929,  34.9311,2,-999.0000,9,    243.4,2,   -999.0,9,     5.96,4,    11.82,4,     0.03,4,     0.76,4,  3303.0,  2.4172,   2.693
     64PE95N_1,  AR12,    64,  1,      3,   X003,2,19950731,0704, 47.3342,  -8.8338, 3764,   3557.0,   2.5977,  34.9215,2,  34.9218,2,    242.9,2,    241.6,2,    39.44,2,    21.61,2,     0.03,2,     1.48,2,  -999.0,  2.2965,-999.000
     64PE95N_1,  AR12,    64,  1,      2,   X002,2,19950731,0704, 47.3342,  -8.8338, 3764,   3816.0,   2.5215,  34.9121,2,-999.0000,9,    243.3,2,   -999.0,9,    41.76,2,    21.91,2,     0.04,2,     1.50,2,  3811.0,  2.1935,   2.523
     64PE95N_1,  AR12,    64,  1,      1,   X001,2,19950731,0704, 47.3342,  -8.8338, 3764,   3824.0,   2.5022,  34.9101,2,  34.9115,6,    243.6,2,    237.7,6,    42.04,6,    21.96,6,     0.02,6,     1.50,6,  -999.0,  2.1738,-999.000