BOTTLE,20020117WHPSIOKJU
EXPOCODE,SECT_ID,STNNBR,CASTNO,SAMPNO,BTLNBR,BTLNBR_FLAG_W,DATE,TIME,LATITUDE,LONGITUDE,DEPTH,CTDPRS,CTDTMP,CTDSAL,CTDSAL_FLAG_W,SALNTY,SALNTY_FLAG_W,CTDOXY,CTDOXY_FLAG_W,OXYGEN,OXYGEN_FLAG_W,SILCAT,SILCAT_FLAG_W,NITRAT,NITRAT_FLAG_W,NITRIT,NITRIT_FLAG_W,PHSPHT,PHSPHT_FLAG_W,REVPRS,THETA,REVTMP
,,,,,,,,,,,,DBAR,ITS-90,PSS-78,,PSS-78,,UMOL/KG,,UMOL/KG,,UMOL/KG,,UMOL/KG,,UMOL/KG,,UMOL/KG,,DBAR,ITS-90,ITS-90
     64PE95N_1,  AR12,   106,  1,     24,   X024,2,19950808,0316, 44.1332,  -5.3332, 2395,     10.0,  20.4025,  35.5899,2,  35.5912,2,    230.0,2,    229.5,6,     0.44,2,     0.01,2,     0.02,2,     0.04,2,  -999.0, 20.4006,-999.000
     64PE95N_1,  AR12,   106,  1,     23,   X023,2,19950808,0316, 44.1332,  -5.3332, 2395,     52.0,  14.8953,  35.5652,2,  35.5676,2,    268.7,2,    271.8,2,     0.53,2,     0.00,2,     0.00,2,     0.05,2,  -999.0, 14.8875,-999.000
     64PE95N_1,  AR12,   106,  1,     22,   X022,2,19950808,0316, 44.1332,  -5.3332, 2395,    102.0,  12.2821,  35.6001,2,-999.0000,9,    247.3,2,   -999.0,9,     1.58,2,     5.41,2,     0.05,2,     0.36,2,  -999.0, 12.2685,-999.000
     64PE95N_1,  AR12,   106,  1,     21,   X031,2,19950808,0316, 44.1332,  -5.3332, 2395,    202.0,  11.5931,  35.5748,2,  35.5792,2,    249.6,2,    246.6,2,     2.73,2,     8.32,2,     0.04,2,     0.53,2,  -999.0, 11.5671,-999.000
     64PE95N_1,  AR12,   106,  1,     20,   X027,2,19950808,0316, 44.1332,  -5.3332, 2395,    302.0,  11.5005,  35.6044,2,-999.0000,9,    237.3,2,   -999.0,9,     3.30,2,     9.71,2,     0.00,2,     0.60,2,  -999.0, 11.4618,-999.000
     64PE95N_1,  AR12,   106,  1,     19,   X019,2,19950808,0316, 44.1332,  -5.3332, 2395,    403.0,  11.2634,  35.5840,2,  35.5836,2,    233.2,2,    232.6,2,     3.78,2,    10.81,2,     0.00,2,     0.67,2,  -999.0, 11.2121,-999.000
     64PE95N_1,  AR12,   106,  1,     18,   X018,2,19950808,0316, 44.1332,  -5.3332, 2395,    504.0,  11.0278,  35.5755,2,-999.0000,9,    225.5,2,   -999.0,9,     4.62,2,    12.22,2,     0.00,2,     0.75,2,  -999.0, 10.9642,-999.000
     64PE95N_1,  AR12,   106,  1,     17,   X017,4,19950808,0316, 44.1332,  -5.3332, 2395,    606.0,  10.5235,  35.5193,2,  35.5481,4,    221.0,2,    224.1,4,     4.98,4,    12.50,4,     0.00,4,     0.77,4,  -999.0, 10.4490,-999.000
     64PE95N_1,  AR12,   106,  1,     16,   X016,2,19950808,0316, 44.1332,  -5.3332, 2395,    707.0,  10.4509,  35.6060,2,-999.0000,9,    205.6,2,   -999.0,9,     7.05,2,    15.02,2,     0.00,2,     0.93,2,  -999.0, 10.3638,-999.000
     64PE95N_1,  AR12,   106,  1,     15,   X015,4,19950808,0316, 44.1332,  -5.3332, 2395,    808.0,  10.2337,  35.6861,2,  35.6215,4,    195.5,2,    223.5,4,     4.79,4,    11.16,4,     0.01,4,     0.70,4,  -999.0, 10.1349,-999.000
     64PE95N_1,  AR12,   106,  1,     14,   X014,2,19950808,0316, 44.1332,  -5.3332, 2395,    909.0,  10.0773,  35.7515,2,-999.0000,9,    191.9,2,   -999.0,9,     5.64,2,    12.48,2,     0.02,2,     0.78,3,  -999.0,  9.9666,-999.000
     64PE95N_1,  AR12,   106,  1,     13,   X026,2,19950808,0316, 44.1332,  -5.3332, 2395,   1010.0,   9.6684,  35.7552,2,  35.7558,2,    193.2,2,    191.4,6,     9.70,2,    16.75,2,     0.02,2,     1.05,2,  -999.0,  9.5477,-999.000
     64PE95N_1,  AR12,   106,  1,     12,   X029,2,19950808,0316, 44.1332,  -5.3332, 2395,   1111.0,   9.2108,  35.7315,2,-999.0000,9,    194.3,2,   -999.0,9,    10.47,2,    17.10,2,     0.00,2,     1.08,2,  -999.0,  9.0809,-999.000
     64PE95N_1,  AR12,   106,  1,     11,   X007,2,19950808,0316, 44.1332,  -5.3332, 2395,   1214.0,   8.7146,  35.6771,2,  35.6752,2,    198.7,2,   -999.0,9,    11.00,2,    17.26,2,     0.00,2,     1.10,2,  -999.0,  8.5764,-999.000
     64PE95N_1,  AR12,   106,  1,     10,   X025,2,19950808,0316, 44.1332,  -5.3332, 2395,   1315.0,   8.2282,  35.6088,2,-999.0000,9,    202.1,2,   -999.0,9,    11.50,2,    17.57,2,     0.01,2,     1.11,2,  -999.0,  8.0824,-999.000
     64PE95N_1,  AR12,   106,  1,      9,   X009,2,19950808,0316, 44.1332,  -5.3332, 2395,   1417.0,   7.0785,  35.4418,2,  35.4381,2,    215.0,2,    216.2,2,    12.74,2,    17.98,2,     0.01,2,     1.16,2,  -999.0,  6.9326,-999.000
     64PE95N_1,  AR12,   106,  1,      8,   X008,2,19950808,0316, 44.1332,  -5.3332, 2395,   1518.0,   6.0596,  35.3003,2,-999.0000,9,    227.4,2,   -999.0,9,    13.98,2,    18.10,2,     0.00,2,     1.18,2,  1517.0,  5.9137,   6.080
     64PE95N_1,  AR12,   106,  1,      6,   X006,2,19950808,0316, 44.1332,  -5.3332, 2395,   1670.0,   5.1622,  35.1766,2,  35.1728,2,    236.9,2,    237.3,2,    15.69,2,    18.38,2,     0.02,2,     1.21,2,  1671.0,  5.0113,   5.167
     64PE95N_1,  AR12,   106,  1,      7,   X032,2,19950808,0316, 44.1332,  -5.3332, 2395,   1670.0,   5.1628,  35.1766,2,  35.1726,2,    236.5,2,    237.6,2,    15.75,2,    18.37,2,     0.00,2,     1.21,2,  -999.0,  5.0119,-999.000
     64PE95N_1,  AR12,   106,  1,      5,   X005,4,19950808,0316, 44.1332,  -5.3332, 2395,   1823.0,   4.3665,  35.0760,2,  35.5441,4,    245.7,2,    230.7,4,     6.13,4,    11.44,4,     0.04,4,     0.74,4,  -999.0,  4.2108,-999.000
     64PE95N_1,  AR12,   106,  1,      4,   X004,4,19950808,0316, 44.1332,  -5.3332, 2395,   2028.0,   3.8554,  35.0240,2,-999.0000,9,    250.1,2,   -999.0,9,     6.05,4,    10.07,4,     0.02,4,     0.67,4,  2026.0,  3.6871,   3.858
     64PE95N_1,  AR12,   106,  1,      2,   X030,2,19950808,0316, 44.1332,  -5.3332, 2395,   2231.0,   3.4215,  34.9903,2,  34.9897,2,    252.2,2,    249.5,2,    24.46,2,    19.38,2,     0.02,2,     1.31,2,  2226.0,  3.2403,   3.431
     64PE95N_1,  AR12,   106,  1,      3,   X028,2,19950808,0316, 44.1332,  -5.3332, 2395,   2231.0,   3.4212,  34.9899,2,  34.9896,2,    252.3,2,    249.8,2,    24.40,2,    19.46,2,     0.01,2,     1.31,2,  -999.0,  3.2400,-999.000
     64PE95N_1,  AR12,   106,  1,      1,   X001,2,19950808,0316, 44.1332,  -5.3332, 2395,   2478.0,   3.1376,  34.9692,2,  34.9700,6,    253.7,2,    248.2,6,    28.15,6,    19.90,6,     0.02,6,     1.36,6,  -999.0,  2.9372,-999.000
     64PE95N_1,  AR12,   107,  1,     17,   X017,2,19950808,0544, 44.0333,  -5.3332, 1049,      9.0,  20.6958,  35.2640,2,  35.2664,2,    227.2,2,    227.0,6,     0.55,2,     0.02,2,     0.03,2,     0.03,2,  -999.0, 20.6941,-999.000
     64PE95N_1,  AR12,   107,  1,     16,   X016,2,19950808,0544, 44.0333,  -5.3332, 1049,     50.0,  13.6690,  35.5215,2,-999.0000,9,    259.0,2,   -999.0,9,     0.81,2,     0.44,2,     0.08,2,     0.08,2,  -999.0, 13.6619,-999.000
     64PE95N_1,  AR12,   107,  1,     15,   X015,2,19950808,0544, 44.0333,  -5.3332, 1049,    101.0,  12.3583,  35.5793,2,  35.5796,2,    244.5,2,    244.8,2,     1.50,2,     5.14,2,     0.06,2,     0.33,2,  -999.0, 12.3448,-999.000
     64PE95N_1,  AR12,   107,  1,     14,   X014,2,19950808,0544, 44.0333,  -5.3332, 1049,    152.0,  12.0943,  35.5922,2,-999.0000,9,    245.4,2,   -999.0,9,     1.88,2,     6.31,2,     0.05,2,     0.40,2,  -999.0, 12.0743,-999.000
     64PE95N_1,  AR12,   107,  1,     13,   X026,2,19950808,0544, 44.0333,  -5.3332, 1049,    202.0,  11.8772,  35.5963,2,  35.5963,2,    242.2,2,    243.1,2,     2.31,2,     7.43,2,     0.06,2,     0.47,2,  -999.0, 11.8509,-999.000
     64PE95N_1,  AR12,   107,  1,     12,   X029,2,19950808,0544, 44.0333,  -5.3332, 1049,    302.0,  11.5437,  35.6026,2,-999.0000,9,    234.3,2,   -999.0,9,     3.19,2,     9.55,2,     0.02,2,     0.60,2,  -999.0, 11.5049,-999.000
     64PE95N_1,  AR12,   107,  1,     11,   X007,2,19950808,0544, 44.0333,  -5.3332, 1049,    404.0,  11.3488,  35.5913,2,  35.5898,2,    232.0,2,    233.2,2,     3.59,2,    10.49,2,     0.03,2,     0.64,2,  -999.0, 11.2972,-999.000
     64PE95N_1,  AR12,   107,  1,     10,   X025,2,19950808,0544, 44.0333,  -5.3332, 1049,    503.0,  11.0906,  35.5795,2,-999.0000,9,    222.1,2,   -999.0,9,     4.42,2,    11.92,2,     0.01,2,     0.74,2,  -999.0, 11.0269,-999.000
     64PE95N_1,  AR12,   107,  1,      8,   X008,2,19950808,0544, 44.0333,  -5.3332, 1049,    606.0,  10.7412,  35.5674,2,-999.0000,9,    212.7,2,   -999.0,9,     5.51,2,    13.39,2,     0.04,2,     0.82,2,   605.0, 10.6657,  10.745
     64PE95N_1,  AR12,   107,  1,      9,   X009,2,19950808,0544, 44.0333,  -5.3332, 1049,    606.0,  10.7485,  35.5698,2,  35.5729,2,    213.9,2,    215.6,2,     5.49,2,    13.35,2,     0.03,2,     0.82,2,  -999.0, 10.6730,-999.000
     64PE95N_1,  AR12,   107,  1,      6,   X006,4,19950808,0544, 44.0333,  -5.3332, 1049,    706.0,  10.4317,  35.6170,2,  35.6033,4,    200.0,2,    216.0,4,     5.36,4,    12.55,4,     0.05,4,     0.79,4,   704.0, 10.3449,  10.431
     64PE95N_1,  AR12,   107,  1,      7,   X032,2,19950808,0544, 44.0333,  -5.3332, 1049,    706.0,  10.4321,  35.6169,2,  35.6199,2,    198.5,3,    192.3,2,     7.00,2,    14.97,2,     0.03,2,     0.93,2,  -999.0, 10.3453,-999.000
     64PE95N_1,  AR12,   107,  1,      5,   X005,4,19950808,0544, 44.0333,  -5.3332, 1049,    808.0,  10.1056,  35.6987,2,  35.6296,4,    190.0,2,    218.1,4,     5.18,4,    11.76,4,     0.03,4,     0.71,4,  -999.0, 10.0076,-999.000
     64PE95N_1,  AR12,   107,  1,      4,   X004,4,19950808,0544, 44.0333,  -5.3332, 1049,    910.0,   9.9408,  35.7570,2,-999.0000,9,    187.1,2,   -999.0,9,     6.43,4,    13.60,4,     0.03,4,     0.84,4,   908.0,  9.8308,   9.941
     64PE95N_1,  AR12,   107,  1,      2,   X030,2,19950808,0544, 44.0333,  -5.3332, 1049,   1010.0,   9.6930,  35.7749,2,  35.7755,2,    188.4,2,    189.5,2,     9.44,2,    16.64,2,     0.04,2,     1.01,2,  1005.0,  9.5721,   9.702
     64PE95N_1,  AR12,   107,  1,      3,   X028,2,19950808,0544, 44.0333,  -5.3332, 1049,   1010.0,   9.6888,  35.7752,2,  35.7759,2,    187.7,2,    189.1,2,     9.41,2,    16.79,2,     0.02,2,     1.02,2,  -999.0,  9.5680,-999.000
     64PE95N_1,  AR12,   107,  1,      1,   X001,2,19950808,0544, 44.0333,  -5.3332, 1049,   1088.0,   9.4299,  35.7580,2,  35.7586,6,    191.1,2,    191.5,6,     9.83,6,    16.84,6,     0.03,6,     1.03,6,  -999.0,  9.3011,-999.000
     64PE95N_1,  AR12,   108,  1,     16,   X016,2,19950808,0735, 43.9498,  -5.3335, 1103,     10.0,  20.8807,  35.2705,3,  35.2794,2,    227.1,2,    226.3,6,     0.49,2,     0.03,2,     0.01,2,     0.04,2,  -999.0, 20.8787,-999.000
     64PE95N_1,  AR12,   108,  1,     15,   X015,2,19950808,0735, 43.9498,  -5.3335, 1103,     50.0,  13.4269,  35.5057,2,  35.5096,2,    249.6,2,    250.9,2,     0.84,2,     0.89,2,     0.18,2,     0.09,2,  -999.0, 13.4198,-999.000
     64PE95N_1,  AR12,   108,  1,     14,   X014,2,19950808,0735, 43.9498,  -5.3335, 1103,    102.0,  12.3977,  35.5625,2,-999.0000,9,    242.6,2,   -999.0,9,     1.38,2,     4.80,2,     0.08,2,     0.30,2,  -999.0, 12.3841,-999.000
     64PE95N_1,  AR12,   108,  1,     13,   X026,2,19950808,0735, 43.9498,  -5.3335, 1103,    152.0,  12.1657,  35.5795,2,  35.5791,2,    245.0,2,    245.3,2,     1.83,2,     5.84,2,     0.04,2,     0.37,2,  -999.0, 12.1456,-999.000
     64PE95N_1,  AR12,   108,  1,     12,   X029,2,19950808,0735, 43.9498,  -5.3335, 1103,    201.0,  11.9701,  35.5930,2,-999.0000,9,    244.8,2,   -999.0,9,     2.14,2,     6.78,2,     0.04,2,     0.43,2,  -999.0, 11.9437,-999.000
     64PE95N_1,  AR12,   108,  1,     11,   X007,2,19950808,0735, 43.9498,  -5.3335, 1103,    303.0,  11.6762,  35.6062,2,  35.6069,2,    234.7,2,    234.8,2,     2.96,2,     9.02,2,     0.06,2,     0.55,2,  -999.0, 11.6370,-999.000
     64PE95N_1,  AR12,   108,  1,     10,   X010,2,19950808,0735, 43.9498,  -5.3335, 1103,    403.0,  11.3156,  35.5954,2,-999.0000,9,    229.9,2,   -999.0,9,     3.80,2,    10.68,2,     0.04,2,     0.66,2,  -999.0, 11.2642,-999.000
     64PE95N_1,  AR12,   108,  1,      9,   X009,2,19950808,0735, 43.9498,  -5.3335, 1103,    506.0,  11.0251,  35.5810,2,  35.5805,2,    221.1,2,    222.4,2,     4.61,2,    12.25,2,     0.02,2,     0.75,2,  -999.0, 10.9614,-999.000
     64PE95N_1,  AR12,   108,  1,      8,   X008,2,19950808,0735, 43.9498,  -5.3335, 1103,    602.0,  10.7830,  35.5776,2,-999.0000,9,    213.9,2,   -999.0,9,     5.45,2,    13.37,2,     0.02,2,     0.81,2,   601.0, 10.7079,  10.783
     64PE95N_1,  AR12,   108,  1,      6,   X006,2,19950808,0735, 43.9498,  -5.3335, 1103,    707.0,  10.4198,  35.6241,2,  35.6254,2,    198.3,2,    199.5,3,     7.22,2,    15.10,2,     0.03,2,     0.94,2,   707.0, 10.3329,  10.417
     64PE95N_1,  AR12,   108,  1,      7,   X032,2,19950808,0735, 43.9498,  -5.3335, 1103,    707.0,  10.4186,  35.6244,2,  35.6264,2,    199.7,2,    199.4,2,     7.12,2,    15.09,2,     0.04,2,     0.94,2,  -999.0, 10.3317,-999.000
     64PE95N_1,  AR12,   108,  1,      5,   X005,4,19950808,0735, 43.9498,  -5.3335, 1103,    809.0,  10.0990,  35.6992,2,  35.6556,4,    189.9,2,    200.9,4,     7.25,4,    14.96,4,     0.04,4,     0.93,4,  -999.0, 10.0009,-999.000
     64PE95N_1,  AR12,   108,  1,      4,   X004,2,19950808,0735, 43.9498,  -5.3335, 1103,    910.0,   9.9817,  35.7595,2,-999.0000,9,    187.3,2,   -999.0,9,     9.06,2,    16.54,2,     0.03,2,     1.04,2,   906.0,  9.8714,   9.982
     64PE95N_1,  AR12,   108,  1,      2,   X030,2,19950808,0735, 43.9498,  -5.3335, 1103,   1011.0,   9.6776,  35.7671,2,  35.7657,2,    189.4,2,    189.5,2,     9.52,2,    16.70,2,     0.02,2,     1.04,2,  1007.0,  9.5567,   9.677
     64PE95N_1,  AR12,   108,  1,      3,   X028,2,19950808,0735, 43.9498,  -5.3335, 1103,   1011.0,   9.6725,  35.7666,2,-999.0000,9,    189.0,2,    189.1,2,     9.54,2,    16.72,2,     0.05,2,     1.05,2,  -999.0,  9.5516,-999.000
     64PE95N_1,  AR12,   108,  1,      1,   X001,2,19950808,0735, 43.9498,  -5.3335, 1103,   1115.0,   9.3183,  35.7428,2,  35.7405,6,    193.8,2,    192.5,6,    10.02,6,    16.92,6,     0.02,6,     1.05,6,  -999.0,  9.1872,-999.000
     64PE95N_1,  AR12,   109,  1,     10,   X010,2,19950808,0912, 43.8827,  -5.3343,  410,      9.0,  20.9217,  35.2737,2,  35.2770,2,    227.4,2,    227.0,6,     0.58,2,     0.02,2,     0.02,2,     0.04,2,  -999.0, 20.9200,-999.000
     64PE95N_1,  AR12,   109,  1,      9,   X009,2,19950808,0912, 43.8827,  -5.3343,  410,     50.0,  13.8421,  35.4768,3,  35.4826,2,    252.2,2,    253.1,2,     0.78,2,     0.61,2,     0.08,2,     0.07,2,  -999.0, 13.8349,-999.000
     64PE95N_1,  AR12,   109,  1,      8,   X008,2,19950808,0912, 43.8827,  -5.3343,  410,    102.0,  12.2719,  35.5699,2,-999.0000,9,    239.5,2,   -999.0,9,     1.72,2,     5.73,2,     0.02,2,     0.36,2,   101.0, 12.2584,  12.274
     64PE95N_1,  AR12,   109,  1,      6,   X006,2,19950808,0912, 43.8827,  -5.3343,  410,    151.0,  11.9018,  35.5862,2,  35.5860,2,    230.0,2,    230.9,2,     2.62,2,     8.16,2,     0.00,2,     0.51,2,   150.0, 11.8820,  11.902
     64PE95N_1,  AR12,   109,  1,      7,   X032,2,19950808,0912, 43.8827,  -5.3343,  410,    151.0,  11.9016,  35.5862,2,  35.5862,2,    229.9,2,    230.6,2,     2.69,2,     8.12,2,     0.02,2,     0.51,2,  -999.0, 11.8818,-999.000
     64PE95N_1,  AR12,   109,  1,      5,   X005,2,19950808,0912, 43.8827,  -5.3343,  410,    202.0,  11.7373,  35.5942,2,  35.5942,2,    222.8,2,    223.4,2,     3.49,2,     9.39,2,     0.05,2,     0.60,2,  -999.0, 11.7111,-999.000
     64PE95N_1,  AR12,   109,  1,      4,   X004,2,19950808,0912, 43.8827,  -5.3343,  410,    303.0,  11.4621,  35.5999,2,-999.0000,9,    229.5,2,   -999.0,9,     3.52,2,    10.02,2,     0.01,2,     0.63,2,   302.0, 11.4234,  11.458
     64PE95N_1,  AR12,   109,  1,      2,   X030,2,19950808,0912, 43.8827,  -5.3343,  410,    404.0,  11.0975,  35.5903,2,  35.5889,2,    221.7,2,    222.7,2,     4.58,2,    11.73,2,     0.05,2,     0.73,2,   402.0, 11.0466,  11.098
     64PE95N_1,  AR12,   109,  1,      3,   X028,2,19950808,0912, 43.8827,  -5.3343,  410,    404.0,  11.0973,  35.5903,2,  35.5888,2,    221.7,2,    222.4,2,     4.55,2,    11.81,2,     0.03,2,     0.73,2,  -999.0, 11.0464,-999.000
     64PE95N_1,  AR12,   109,  1,      1,   X001,2,19950808,0912, 43.8827,  -5.3343,  410,    408.0,  11.0917,  35.5903,2,  35.5886,6,    222.6,2,    222.2,6,     4.62,6,    11.79,6,     0.04,6,     0.74,6,  -999.0, 11.0403,-999.000
     64PE95N_1,  AR12,   110,  1,      5,   X005,2,19950808,1028, 43.8168,  -5.3333,  152,     10.0,  21.2939,  34.8430,3,  34.8522,2,    228.7,2,    230.3,2,     0.61,2,     0.05,2,     0.01,2,     0.04,2,  -999.0, 21.2919,-999.000
     64PE95N_1,  AR12,   110,  1,      4,   X004,2,19950808,1028, 43.8168,  -5.3333,  152,     38.0,  14.4817,  35.3900,2,-999.0000,9,    243.7,2,   -999.0,9,     0.86,2,     0.92,2,     0.25,2,     0.06,2,    38.0, 14.4761,  14.462
     64PE95N_1,  AR12,   110,  1,      2,   X030,2,19950808,1028, 43.8168,  -5.3333,  152,    100.0,  11.9055,  35.5909,2,  35.5899,2,    216.4,2,    217.6,2,     3.19,2,     9.44,2,     0.01,2,     0.58,2,  -999.0, 11.8925,  11.906
     64PE95N_1,  AR12,   110,  1,      3,   X028,2,19950808,1028, 43.8168,  -5.3333,  152,    100.0,  11.9060,  35.5909,2,  35.5890,2,    215.8,2,    216.8,2,     3.21,2,     9.35,2,     0.04,2,     0.52,2,  -999.0, 11.8930,-999.000
     64PE95N_1,  AR12,   110,  1,      1,   X001,2,19950808,1028, 43.8168,  -5.3333,  152,    153.0,  11.6248,  35.5998,2,  35.5973,6,    211.5,2,    211.5,6,     4.85,6,    10.62,6,     0.05,6,     0.69,6,  -999.0, 11.6052,-999.000
     64PE95N_1,  AR12,   111,  1,      8,   X008,2,19950808,1812, 43.6670,  -3.7510,  279,      4.0,  22.4461,  34.6380,2,  34.6424,2,    230.2,2,    226.6,2,     0.60,2,     0.20,2,     0.04,2,     0.06,2,     6.0, 22.4452,  22.475
     64PE95N_1,  AR12,   111,  1,      6,   X006,2,19950808,1812, 43.6670,  -3.7510,  279,     50.0,  12.4962,  35.5027,3,  35.5195,2,    222.5,2,   -999.0,9,     2.30,2,     6.05,2,     0.04,2,     0.36,2,    49.0, 12.4895,  12.517
     64PE95N_1,  AR12,   111,  1,      7,   X032,2,19950808,1812, 43.6670,  -3.7510,  279,     50.0,  12.4990,  35.5022,3,  35.5217,2,    223.9,2,    226.0,2,     2.32,2,     6.02,2,     0.06,2,     0.36,2,  -999.0, 12.4923,-999.000
     64PE95N_1,  AR12,   111,  1,      5,   X005,2,19950808,1812, 43.6670,  -3.7510,  279,    101.0,  12.1339,  35.5686,3,  35.5580,2,    236.8,2,    237.3,2,     2.00,2,     6.16,2,     0.05,2,     0.36,2,  -999.0, 12.1206,-999.000
     64PE95N_1,  AR12,   111,  1,      4,   X004,2,19950808,1812, 43.6670,  -3.7510,  279,    151.0,  11.9310,  35.5855,2,-999.0000,9,    235.3,2,   -999.0,9,     2.39,2,     7.25,2,     0.06,2,     0.42,2,   151.0, 11.9112,  11.933
     64PE95N_1,  AR12,   111,  1,      2,   X030,2,19950808,1812, 43.6670,  -3.7510,  279,    202.0,  11.8060,  35.5934,2,  35.5921,2,    235.1,2,    236.3,2,     2.73,2,     8.11,2,     0.03,2,     0.50,2,   203.0, 11.7797,  11.807
     64PE95N_1,  AR12,   111,  1,      3,   X028,2,19950808,1812, 43.6670,  -3.7510,  279,    202.0,  11.8068,  35.5935,2,  35.5901,2,    233.8,2,    236.4,2,     2.70,2,     8.13,2,     0.03,2,     0.50,2,  -999.0, 11.7805,-999.000
     64PE95N_1,  AR12,   111,  1,      1,   X001,2,19950808,1812, 43.6670,  -3.7510,  279,    267.0,  11.6633,  35.5998,2,  35.5965,6,    232.8,2,    230.8,6,     3.25,6,     9.22,6,     0.05,6,     0.58,6,  -999.0, 11.6289,-999.000