BOTTLE,20020117WHPSIOKJU
EXPOCODE,SECT_ID,STNNBR,CASTNO,SAMPNO,BTLNBR,BTLNBR_FLAG_W,DATE,TIME,LATITUDE,LONGITUDE,DEPTH,CTDPRS,CTDTMP,CTDSAL,CTDSAL_FLAG_W,SALNTY,SALNTY_FLAG_W,CTDOXY,CTDOXY_FLAG_W,OXYGEN,OXYGEN_FLAG_W,SILCAT,SILCAT_FLAG_W,NITRAT,NITRAT_FLAG_W,NITRIT,NITRIT_FLAG_W,PHSPHT,PHSPHT_FLAG_W,REVPRS,THETA,REVTMP
,,,,,,,,,,,,DBAR,ITS-90,PSS-78,,PSS-78,,UMOL/KG,,UMOL/KG,,UMOL/KG,,UMOL/KG,,UMOL/KG,,UMOL/KG,,DBAR,ITS-90,ITS-90
     64PE95N_1,  AR12,    44,  1,     15,   X015,2,19950727,0242, 43.8335,  -8.9995, 1170,     10.0,  17.8866,  35.5610,2,  35.5597,2,    245.2,2,    241.9,6,     0.51,2,     0.03,2,     0.01,2,     0.04,2,  -999.0, 17.8848,-999.000
     64PE95N_1,  AR12,    44,  1,     14,   X014,2,19950727,0242, 43.8335,  -8.9995, 1170,     51.0,  15.1366,  35.5705,2,-999.0000,9,    264.0,2,   -999.0,9,     0.55,2,     0.06,2,     0.10,2,     0.07,2,  -999.0, 15.1289,-999.000
     64PE95N_1,  AR12,    44,  1,     13,   X013,2,19950727,0242, 43.8335,  -8.9995, 1170,    102.0,  12.8988,  35.6371,2,  35.6399,2,    238.1,2,    239.4,2,     1.37,2,     4.88,2,     0.05,2,     0.35,2,  -999.0, 12.8848,-999.000
     64PE95N_1,  AR12,    44,  1,     12,   X012,2,19950727,0242, 43.8335,  -8.9995, 1170,    149.0,  12.0967,  35.6257,2,-999.0000,9,    234.5,2,   -999.0,9,     2.47,2,     7.75,2,     0.03,2,     0.51,2,  -999.0, 12.0770,-999.000
     64PE95N_1,  AR12,    44,  1,     11,   X011,2,19950727,0242, 43.8335,  -8.9995, 1170,    202.0,  11.8796,  35.6229,2,  35.6191,2,    234.5,2,    237.0,2,     2.90,2,     8.82,2,     0.02,2,     0.56,2,  -999.0, 11.8532,-999.000
     64PE95N_1,  AR12,    44,  1,     10,   X010,2,19950727,0242, 43.8335,  -8.9995, 1170,    303.0,  11.4082,  35.5844,2,-999.0000,9,    232.1,2,   -999.0,9,     3.73,2,    10.60,2,     0.01,2,     0.67,2,  -999.0, 11.3696,-999.000
     64PE95N_1,  AR12,    44,  1,      9,   X009,2,19950727,0242, 43.8335,  -8.9995, 1170,    406.0,  11.0769,  35.5623,2,  35.5596,2,    224.4,2,    226.0,2,     4.39,2,    11.88,2,     0.05,2,     0.75,2,  -999.0, 11.0258,-999.000
     64PE95N_1,  AR12,    44,  1,      8,   X008,2,19950727,0242, 43.8335,  -8.9995, 1170,    506.0,  10.8663,  35.5920,2,-999.0000,9,    210.2,2,   -999.0,9,     5.62,2,    13.48,2,     0.00,2,     0.85,2,   504.0, 10.8031,  10.879
     64PE95N_1,  AR12,    44,  1,      7,   X007,2,19950727,0242, 43.8335,  -8.9995, 1170,    607.0,  10.7103,  35.6704,3,  35.6801,2,    194.5,2,    197.4,2,     6.90,2,    14.88,2,     0.01,2,     0.94,2,  -999.0, 10.6348,-999.000
     64PE95N_1,  AR12,    44,  1,      6,   X006,2,19950727,0242, 43.8335,  -8.9995, 1170,    707.0,  11.0505,  35.8724,2,-999.0000,9,    184.8,2,   -999.0,9,     7.48,2,    15.17,2,     0.03,2,     0.96,2,   706.0, 10.9602,  11.052
     64PE95N_1,  AR12,    44,  1,      5,   X005,2,19950727,0242, 43.8335,  -8.9995, 1170,    805.0,  11.3986,  36.0725,2,  36.0717,2,    182.2,2,    182.9,2,     7.71,2,    14.65,2,     0.01,2,     0.92,2,  -999.0, 11.2931,-999.000
     64PE95N_1,  AR12,    44,  1,      4,   X004,2,19950727,0242, 43.8335,  -8.9995, 1170,    911.0,  11.2291,  36.1169,2,-999.0000,9,    182.3,2,   -999.0,9,     8.21,2,    14.81,2,     0.04,2,     0.94,2,   906.0, 11.1103,  11.231
     64PE95N_1,  AR12,    44,  1,      3,   X003,2,19950727,0242, 43.8335,  -8.9995, 1170,   1009.0,  10.9760,  36.1400,2,  36.1381,2,    182.3,2,    181.9,2,     8.67,2,    15.33,2,     0.00,2,     0.96,2,  -999.0, 10.8457,-999.000
     64PE95N_1,  AR12,    44,  1,      2,   X002,2,19950727,0242, 43.8335,  -8.9995, 1170,   1113.0,  10.7267,  36.1172,2,-999.0000,9,    184.0,2,   -999.0,9,     8.95,2,    15.43,2,     0.00,2,     0.96,2,  1107.0, 10.5841,  10.732
     64PE95N_1,  AR12,    44,  1,      1,   X001,2,19950727,0242, 43.8335,  -8.9995, 1170,   1178.0,  10.4253,  36.0682,2,  36.0662,6,    186.2,2,    185.8,6,     9.42,6,    15.73,6,     0.02,6,     0.98,6,  -999.0, 10.2766,-999.000
     64PE95N_1,  AR12,    45,  1,     24,   X024,2,19950727,0600, 43.8337,  -9.3315, 2572,      9.0,  18.1091,  35.5577,2,  35.5562,2,    241.0,2,    241.4,6,     0.56,2,     0.05,2,     0.00,2,     0.04,2,  -999.0, 18.1076,-999.000
     64PE95N_1,  AR12,    45,  1,     23,   X023,2,19950727,0600, 43.8337,  -9.3315, 2572,     49.0,  15.3586,  35.5716,2,  35.5761,2,    253.2,2,    256.1,2,     0.51,2,     0.29,2,     0.12,2,     0.07,2,  -999.0, 15.3510,-999.000
     64PE95N_1,  AR12,    45,  1,     22,   X022,2,19950727,0600, 43.8337,  -9.3315, 2572,    103.0,  12.8870,  35.6386,2,-999.0000,9,    229.6,2,   -999.0,9,     1.85,2,     7.19,2,     0.03,2,     0.46,2,  -999.0, 12.8729,-999.000
     64PE95N_1,  AR12,    45,  1,     21,   X021,2,19950727,0600, 43.8337,  -9.3315, 2572,    202.0,  12.0721,  35.6422,2,  35.6405,2,    229.1,2,    227.4,2,     2.90,2,     8.97,2,     0.01,2,     0.56,2,  -999.0, 12.0455,-999.000
     64PE95N_1,  AR12,    45,  1,     20,   X020,2,19950727,0600, 43.8337,  -9.3315, 2572,    302.0,  11.5090,  35.6007,2,-999.0000,9,    232.2,2,   -999.0,9,     3.66,2,    10.34,2,     0.03,2,     0.64,2,  -999.0, 11.4702,-999.000
     64PE95N_1,  AR12,    45,  1,     19,   X019,2,19950727,0600, 43.8337,  -9.3315, 2572,    406.0,  11.1641,  35.5864,2,  35.5852,2,    225.1,2,    222.4,2,     4.64,2,    11.89,2,     0.01,2,     0.73,2,  -999.0, 11.1128,-999.000
     64PE95N_1,  AR12,    45,  1,     18,   X018,2,19950727,0600, 43.8337,  -9.3315, 2572,    507.0,  10.8103,  35.5675,2,-999.0000,9,    220.1,2,   -999.0,9,     5.50,2,    13.04,2,     0.01,2,     0.80,2,  -999.0, 10.7472,-999.000
     64PE95N_1,  AR12,    45,  1,     17,   X017,2,19950727,0600, 43.8337,  -9.3315, 2572,    607.0,  10.9995,  35.7146,3,  35.7198,2,    199.3,2,    197.3,2,     6.72,2,    14.50,2,     0.00,2,     0.90,2,  -999.0, 10.9226,-999.000
     64PE95N_1,  AR12,    45,  1,     16,   X016,2,19950727,0600, 43.8337,  -9.3315, 2572,    707.0,  11.1060,  35.8641,2,-999.0000,9,    189.7,2,   -999.0,9,     7.52,2,    14.32,2,     0.03,2,     0.88,2,  -999.0, 11.0154,-999.000
     64PE95N_1,  AR12,    45,  1,     15,   X015,2,19950727,0600, 43.8337,  -9.3315, 2572,    808.0,  11.1773,  35.9831,3,  35.9920,2,    183.7,2,    182.2,2,     8.00,2,    15.18,2,     0.01,2,     0.93,2,  -999.0, 11.0729,-999.000
     64PE95N_1,  AR12,    45,  1,     14,   X014,2,19950727,0600, 43.8337,  -9.3315, 2572,    911.0,  11.0177,  36.0446,2,-999.0000,9,    181.4,2,   -999.0,9,     8.55,2,    15.46,2,     0.01,2,     0.94,2,  -999.0, 10.9004,-999.000
     64PE95N_1,  AR12,    45,  1,     13,   X013,2,19950727,0600, 43.8337,  -9.3315, 2572,   1010.0,  10.7483,  36.0422,2,  36.0410,2,    182.1,2,    182.5,2,     8.95,2,    15.66,2,     0.01,2,     0.96,2,  -999.0, 10.6195,-999.000
     64PE95N_1,  AR12,    45,  1,     12,   X012,2,19950727,0600, 43.8337,  -9.3315, 2572,   1113.0,   9.9030,  35.8977,2,-999.0000,9,    187.2,2,   -999.0,9,     9.74,2,    16.25,2,     0.04,2,     1.02,2,  -999.0,  9.7672,-999.000
     64PE95N_1,  AR12,    45,  1,     11,   X011,2,19950727,0600, 43.8337,  -9.3315, 2572,   1213.0,   9.7174,  35.9227,2,  35.9257,2,    189.4,2,    191.0,2,     9.95,2,    16.24,2,     0.00,2,     1.01,2,  -999.0,  9.5703,-999.000
     64PE95N_1,  AR12,    45,  1,     10,   X010,2,19950727,0600, 43.8337,  -9.3315, 2572,   1315.0,   9.0219,  35.8191,2,-999.0000,9,    195.6,2,   -999.0,9,    10.56,2,    16.45,2,     0.01,2,     1.04,2,  -999.0,  8.8683,-999.000
     64PE95N_1,  AR12,    45,  1,      9,   X009,2,19950727,0600, 43.8337,  -9.3315, 2572,   1416.0,   7.7417,  35.5938,2,  35.5932,2,    208.5,2,    210.2,2,    11.51,2,    17.04,2,     0.01,2,     1.09,2,  -999.0,  7.5888,-999.000
     64PE95N_1,  AR12,    45,  1,      8,   X008,2,19950727,0600, 43.8337,  -9.3315, 2572,   1519.0,   6.8583,  35.4499,2,-999.0000,9,    218.0,2,   -999.0,9,    12.24,2,    17.13,2,     0.07,2,     1.11,2,  1515.0,  6.7033,   6.853
     64PE95N_1,  AR12,    45,  1,      7,   X007,2,19950727,0600, 43.8337,  -9.3315, 2572,   1617.0,   5.8966,  35.2948,2,  35.2922,2,    230.4,2,    231.6,2,    13.26,2,    17.66,2,     0.01,2,     1.15,2,  -999.0,  5.7421,-999.000
     64PE95N_1,  AR12,    45,  1,      6,   X006,2,19950727,0600, 43.8337,  -9.3315, 2572,   1824.0,   4.4167,  35.0794,2,-999.0000,9,    248.1,2,   -999.0,9,    15.67,2,    17.98,2,     0.02,2,     1.19,2,  1822.0,  4.2602,   4.410
     64PE95N_1,  AR12,    45,  1,      5,   X005,2,19950727,0600, 43.8337,  -9.3315, 2572,   2025.0,   3.7629,  35.0117,2,  35.0116,2,    252.8,2,    252.4,2,    19.02,2,    18.35,2,     0.01,2,     1.24,2,  -999.0,  3.5963,-999.000
     64PE95N_1,  AR12,    45,  1,      4,   X004,2,19950727,0600, 43.8337,  -9.3315, 2572,   2228.0,   3.5169,  34.9950,2,-999.0000,9,    252.5,2,   -999.0,9,    21.70,2,    18.69,2,     0.02,2,     1.26,2,  2224.0,  3.3345,   3.516
     64PE95N_1,  AR12,    45,  1,      3,   X003,2,19950727,0600, 43.8337,  -9.3315, 2572,   2433.0,   3.3562,  34.9858,2,  34.9852,2,    251.8,2,    249.2,2,    24.17,2,    18.99,2,     0.04,2,     1.28,2,  -999.0,  3.1562,-999.000
     64PE95N_1,  AR12,    45,  1,      2,   X002,2,19950727,0600, 43.8337,  -9.3315, 2572,   2586.0,   3.1325,  34.9704,2,-999.0000,9,    252.1,2,   -999.0,9,    27.52,2,    19.24,2,     0.06,2,     1.30,2,  2581.0,  2.9214,   3.137
     64PE95N_1,  AR12,    45,  1,      1,   X001,2,19950727,0600, 43.8337,  -9.3315, 2572,   2643.0,   3.1252,  34.9692,2,  34.9693,6,    252.5,2,    247.3,6,    27.68,6,    19.53,6,     0.02,6,     1.32,6,  -999.0,  2.9085,-999.000
     64PE95N_1,  AR12,    46,  1,     24,   X024,2,19950727,1000, 43.8320,  -9.8368, 2992,     10.0,  18.2667,  35.5986,3,  35.5835,2,    241.0,2,    241.3,6,     0.43,2,     0.08,2,     0.01,2,     0.05,2,  -999.0, 18.2650,-999.000
     64PE95N_1,  AR12,    46,  1,     23,   X023,2,19950727,1000, 43.8320,  -9.8368, 2992,     51.0,  14.7625,  35.5767,2,  35.5785,2,    252.0,2,    253.6,2,     0.61,2,     0.88,2,     0.22,2,     0.11,2,  -999.0, 14.7548,-999.000
     64PE95N_1,  AR12,    46,  1,     22,   X022,2,19950727,1000, 43.8320,  -9.8368, 2992,    100.0,  12.4968,  35.6214,2,-999.0000,9,    244.2,2,   -999.0,9,     1.69,2,     5.76,2,     0.02,2,     0.38,2,  -999.0, 12.4833,-999.000
     64PE95N_1,  AR12,    46,  1,     21,   X021,2,19950727,1000, 43.8320,  -9.8368, 2992,    202.0,  11.5497,  35.5838,2,  35.5826,2,    244.7,2,   -999.0,9,     3.13,2,     9.11,2,     0.01,2,     0.57,2,  -999.0, 11.5238,-999.000
     64PE95N_1,  AR12,    46,  1,     20,   X020,2,19950727,1000, 43.8320,  -9.8368, 2992,    300.0,  11.2838,  35.5662,2,-999.0000,9,    239.1,2,   -999.0,9,     3.71,2,    10.34,2,     0.01,2,     0.64,2,  -999.0, 11.2458,-999.000
     64PE95N_1,  AR12,    46,  1,     19,   X019,2,19950727,1000, 43.8320,  -9.8368, 2992,    404.0,  10.9752,  35.5509,2,  35.5486,2,    230.6,2,    228.0,2,     4.59,2,    11.84,2,     0.01,2,     0.72,2,  -999.0, 10.9247,-999.000
     64PE95N_1,  AR12,    46,  1,     18,   X018,2,19950727,1000, 43.8320,  -9.8368, 2992,    503.0,  10.7623,  35.5666,2,-999.0000,9,    221.1,2,   -999.0,9,     5.51,2,    13.04,2,     0.00,2,     0.81,2,  -999.0, 10.6998,-999.000
     64PE95N_1,  AR12,    46,  1,     17,   X017,2,19950727,1000, 43.8320,  -9.8368, 2992,    603.0,  10.6696,  35.6431,2,  35.6420,2,    204.7,2,    203.0,2,     6.77,2,    14.49,2,     0.00,2,     0.90,2,  -999.0, 10.5947,-999.000
     64PE95N_1,  AR12,    46,  1,     16,   X016,2,19950727,1000, 43.8320,  -9.8368, 2992,    706.0,  10.5651,  35.7234,2,-999.0000,9,    193.7,2,   -999.0,9,     7.81,2,    15.50,2,     0.01,2,     0.97,2,  -999.0, 10.4774,-999.000
     64PE95N_1,  AR12,    46,  1,     15,   X015,2,19950727,1000, 43.8320,  -9.8368, 2992,    810.0,  10.4132,  35.7700,2,  35.7707,2,    190.7,2,    189.1,2,     8.33,2,    15.82,2,     0.01,2,     0.98,2,  -999.0, 10.3130,-999.000
     64PE95N_1,  AR12,    46,  1,     14,   X014,2,19950727,1000, 43.8320,  -9.8368, 2992,    911.0,  10.7354,  35.9356,2,-999.0000,9,    183.4,2,   -999.0,9,     8.58,2,    15.66,2,     0.00,2,     0.97,2,  -999.0, 10.6200,-999.000
     64PE95N_1,  AR12,    46,  1,     13,   X013,2,19950727,1000, 43.8320,  -9.8368, 2992,   1008.0,  10.5316,  35.9650,3,  36.0020,2,    182.5,2,    182.6,2,     8.99,2,    15.76,2,     0.02,2,     0.98,2,  -999.0, 10.4047,-999.000
     64PE95N_1,  AR12,    46,  1,     12,   X012,2,19950727,1000, 43.8320,  -9.8368, 2992,   1111.0,   9.8928,  35.8882,2,-999.0000,9,    185.9,2,   -999.0,9,     9.69,2,    16.43,2,     0.02,2,     1.02,2,  -999.0,  9.7573,-999.000
     64PE95N_1,  AR12,    46,  1,     11,   X011,2,19950727,1000, 43.8320,  -9.8368, 2992,   1213.0,   9.0283,  35.7624,3,  35.7601,2,    193.5,2,    195.3,2,    10.39,2,    16.85,2,     0.01,2,     1.05,2,  -999.0,  8.8873,-999.000
     64PE95N_1,  AR12,    46,  1,     10,   X010,2,19950727,1000, 43.8320,  -9.8368, 2992,   1314.0,   7.8847,  35.5855,2,-999.0000,9,    205.2,2,   -999.0,9,    11.21,2,    17.30,2,     0.00,2,     1.10,2,  -999.0,  7.7423,-999.000
     64PE95N_1,  AR12,    46,  1,      9,   X009,2,19950727,1000, 43.8320,  -9.8368, 2992,   1418.0,   6.8146,  35.4220,2,  35.4211,2,    217.6,2,    219.3,2,    11.98,2,    17.54,2,     0.00,2,     1.12,2,  -999.0,  6.6713,-999.000
     64PE95N_1,  AR12,    46,  1,      8,   X008,2,19950727,1000, 43.8320,  -9.8368, 2992,   1614.0,   5.1457,  35.1612,2,-999.0000,9,    240.3,2,   -999.0,9,    13.13,2,    17.91,2,     0.01,2,     1.17,2,  1614.0,  5.0008,   5.144
     64PE95N_1,  AR12,    46,  1,      7,   X007,2,19950727,1000, 43.8320,  -9.8368, 2992,   1823.0,   4.2712,  35.0420,2,  35.0419,2,    253.4,2,    253.0,2,    14.35,2,    17.93,2,     0.02,2,     1.19,2,  -999.0,  4.1168,-999.000
     64PE95N_1,  AR12,    46,  1,      6,   X006,2,19950727,1000, 43.8320,  -9.8368, 2992,   2024.0,   3.8172,  35.0157,2,-999.0000,9,    252.7,2,   -999.0,9,    18.44,2,    18.44,2,     0.00,2,     1.23,2,  2025.0,  3.6498,   3.822
     64PE95N_1,  AR12,    46,  1,      5,   X005,2,19950727,1000, 43.8320,  -9.8368, 2992,   2229.0,   3.4771,  34.9855,2,  34.9858,2,    253.9,2,    252.5,2,    20.97,2,    18.72,2,     0.00,2,     1.25,2,  -999.0,  3.2952,-999.000
     64PE95N_1,  AR12,    46,  1,      4,   X004,2,19950727,1000, 43.8320,  -9.8368, 2992,   2435.0,   3.2357,  34.9755,2,-999.0000,9,    250.6,2,   -999.0,9,    25.13,2,    19.46,2,     0.00,2,     1.32,2,  2433.0,  3.0378,   3.233
     64PE95N_1,  AR12,    46,  1,      3,   X003,2,19950727,1000, 43.8320,  -9.8368, 2992,   2639.0,   2.9867,  34.9588,2,  34.9597,2,    250.4,2,    250.1,2,    28.17,2,    19.80,2,     0.01,2,     1.34,2,  -999.0,  2.7731,-999.000
     64PE95N_1,  AR12,    46,  1,      2,   X002,2,19950727,1000, 43.8320,  -9.8368, 2992,   2839.0,   2.8378,  34.9478,2,-999.0000,9,    249.5,2,   -999.0,9,    31.49,2,    20.27,2,     0.00,2,     1.41,2,  2835.0,  2.6070,   2.838
     64PE95N_1,  AR12,    46,  1,      1,   X001,2,19950727,1000, 43.8320,  -9.8368, 2992,   3047.0,   2.7477,  34.9390,2,  34.9395,6,    250.2,3,    243.6,6,    34.02,6,    20.60,6,     0.01,6,     1.41,6,  -999.0,  2.4975,-999.000