BOTTLE,20020117WHPSIOKJU
EXPOCODE,SECT_ID,STNNBR,CASTNO,SAMPNO,BTLNBR,BTLNBR_FLAG_W,DATE,TIME,LATITUDE,LONGITUDE,DEPTH,CTDPRS,CTDTMP,CTDSAL,CTDSAL_FLAG_W,SALNTY,SALNTY_FLAG_W,CTDOXY,CTDOXY_FLAG_W,OXYGEN,OXYGEN_FLAG_W,SILCAT,SILCAT_FLAG_W,NITRAT,NITRAT_FLAG_W,NITRIT,NITRIT_FLAG_W,PHSPHT,PHSPHT_FLAG_W,REVPRS,THETA,REVTMP
,,,,,,,,,,,,DBAR,ITS-90,PSS-78,,PSS-78,,UMOL/KG,,UMOL/KG,,UMOL/KG,,UMOL/KG,,UMOL/KG,,UMOL/KG,,DBAR,ITS-90,ITS-90
     64PE95N_1,  AR12,    34,  1,     24,   X024,2,19950725,1917, 44.6668,  -7.9982, 4847,     11.0,  18.7670,  35.6190,2,  35.6189,2,    236.0,2,    235.9,6,     0.29,2,     0.17,2,     0.01,2,     0.03,2,  -999.0, 18.7651,-999.000
     64PE95N_1,  AR12,    34,  1,     23,   X023,2,19950725,1917, 44.6668,  -7.9982, 4847,    101.0,  12.1539,  35.6121,2,  35.6095,2,    245.5,2,    244.8,2,     1.91,2,     6.94,2,     0.04,2,     0.43,2,  -999.0, 12.1406,-999.000
     64PE95N_1,  AR12,    34,  1,     22,   X022,2,19950725,1917, 44.6668,  -7.9982, 4847,    202.0,  11.5898,  35.5866,2,-999.0000,9,    244.7,2,   -999.0,9,     3.02,2,     9.15,2,     0.01,2,     0.58,2,  -999.0, 11.5639,-999.000
     64PE95N_1,  AR12,    34,  1,     21,   X021,2,19950725,1917, 44.6668,  -7.9982, 4847,    302.0,  11.3294,  35.5639,2,  35.5653,2,    239.1,2,    238.2,2,     3.54,2,    10.33,2,     0.01,2,     0.64,2,  -999.0, 11.2911,-999.000
     64PE95N_1,  AR12,    34,  1,     20,   X020,2,19950725,1917, 44.6668,  -7.9982, 4847,    402.0,  11.0938,  35.5461,2,-999.0000,9,    233.5,2,   -999.0,9,     4.05,2,    11.29,2,     0.01,2,     0.70,2,  -999.0, 11.0432,-999.000
     64PE95N_1,  AR12,    34,  1,     19,   X019,2,19950725,1917, 44.6668,  -7.9982, 4847,    606.0,  10.4739,  35.5004,3,  35.5073,2,    220.4,2,    219.8,2,     5.74,2,    13.50,2,     0.01,2,     0.85,2,  -999.0, 10.3996,-999.000
     64PE95N_1,  AR12,    34,  1,     18,   X018,2,19950725,1917, 44.6668,  -7.9982, 4847,    808.0,  10.1713,  35.6539,2,-999.0000,9,    192.1,2,   -999.0,9,     8.16,2,    16.14,2,     0.00,2,     1.02,2,  -999.0, 10.0729,-999.000
     64PE95N_1,  AR12,    34,  1,     17,   X017,2,19950725,1917, 44.6668,  -7.9982, 4847,   1011.0,   9.1686,  35.6428,2,  35.6412,2,    191.7,2,    191.8,2,     9.81,2,    17.33,2,     0.00,2,     1.10,2,  -999.0,  9.0516,-999.000
     64PE95N_1,  AR12,    34,  1,     16,   X016,2,19950725,1917, 44.6668,  -7.9982, 4847,   1264.0,   7.4035,  35.4523,2,-999.0000,9,    209.1,2,   -999.0,9,    11.01,2,    17.77,2,     0.00,2,     1.14,2,  -999.0,  7.2715,-999.000
     64PE95N_1,  AR12,    34,  1,     15,   X015,2,19950725,1917, 44.6668,  -7.9982, 4847,   1517.0,   5.0826,  35.1146,2,  35.1118,2,    240.8,2,    242.4,2,    12.06,2,    18.03,2,     0.00,2,     1.19,2,  -999.0,  4.9482,-999.000
     64PE95N_1,  AR12,    34,  1,     14,   X014,2,19950725,1917, 44.6668,  -7.9982, 4847,   1773.0,   4.2428,  35.0200,2,-999.0000,9,    253.0,2,   -999.0,9,    13.72,2,    17.85,2,     0.01,2,     1.20,2,  -999.0,  4.0938,-999.000
     64PE95N_1,  AR12,    34,  1,     13,   X013,2,19950725,1917, 44.6668,  -7.9982, 4847,   1993.0,   3.8986,  35.0090,2,  35.0080,2,    251.9,2,    254.0,2,    16.82,2,    18.28,2,     0.00,2,     1.23,2,  -999.0,  3.7332,-999.000
     64PE95N_1,  AR12,    34,  1,     12,   X012,2,19950725,1917, 44.6668,  -7.9982, 4847,   2280.0,   3.4521,  34.9868,2,-999.0000,9,    249.6,2,   -999.0,9,    22.07,2,    18.96,2,     0.02,2,     1.29,2,  -999.0,  3.2656,-999.000
     64PE95N_1,  AR12,    34,  1,     11,   X011,2,19950725,1917, 44.6668,  -7.9982, 4847,   2536.0,   3.1308,  34.9679,2,  34.9673,2,    247.4,2,    248.3,2,    26.41,2,    19.62,2,     0.00,2,     1.34,2,  -999.0,  2.9247,-999.000
     64PE95N_1,  AR12,    34,  1,     10,   X010,2,19950725,1917, 44.6668,  -7.9982, 4847,   2792.0,   2.8739,  34.9501,2,-999.0000,9,    244.8,2,   -999.0,9,    31.18,2,    20.38,2,     0.01,2,     1.40,2,  -999.0,  2.6472,-999.000
     64PE95N_1,  AR12,    34,  1,      9,   X009,2,19950725,1917, 44.6668,  -7.9982, 4847,   3048.0,   2.7388,  34.9386,2,  34.9364,2,    242.6,2,    243.6,2,    34.09,2,    20.80,2,     0.01,2,     1.43,2,  -999.0,  2.4887,-999.000
     64PE95N_1,  AR12,    34,  1,      8,   X008,2,19950725,1917, 44.6668,  -7.9982, 4847,   3302.0,   2.6190,  34.9269,2,-999.0000,9,    240.5,2,   -999.0,9,    36.99,2,    21.25,2,     0.01,2,     1.47,2,  3305.0,  2.3449,   2.621
     64PE95N_1,  AR12,    34,  1,      7,   X007,4,19950725,1917, 44.6668,  -7.9982, 4847,   3556.0,   2.5601,  34.9194,2,  34.9218,4,    239.4,2,    240.8,4,    38.20,4,    21.43,4,     0.00,4,     1.53,4,  -999.0,  2.2600,-999.000
     64PE95N_1,  AR12,    34,  1,      6,   X006,2,19950725,1917, 44.6668,  -7.9982, 4847,   3813.0,   2.5155,  34.9124,2,-999.0000,9,    238.2,2,   -999.0,9,    40.98,2,    21.83,2,     0.02,2,     1.53,2,  3816.0,  2.1880,   2.521
     64PE95N_1,  AR12,    34,  1,      5,   X005,2,19950725,1917, 44.6668,  -7.9982, 4847,   4071.0,   2.4941,  34.9071,2,  34.9059,2,    238.0,2,    239.6,2,    42.07,2,    21.98,2,     0.00,2,     1.53,2,  -999.0,  2.1378,-999.000
     64PE95N_1,  AR12,    34,  1,      4,   X004,2,19950725,1917, 44.6668,  -7.9982, 4847,   4327.0,   2.4826,  34.9025,2,-999.0000,9,    237.6,2,   -999.0,9,    42.98,2,    22.11,2,     0.00,2,     1.54,2,  4334.0,  2.0964,   2.483
     64PE95N_1,  AR12,    34,  1,      3,   X003,2,19950725,1917, 44.6668,  -7.9982, 4847,   4586.0,   2.4914,  34.8999,2,  34.8991,2,    236.9,2,    239.1,2,    43.76,2,    22.26,2,     0.01,2,     1.55,2,  -999.0,  2.0738,-999.000
     64PE95N_1,  AR12,    34,  1,      2,   X002,2,19950725,1917, 44.6668,  -7.9982, 4847,   4846.0,   2.5144,  34.8988,2,-999.0000,9,    237.3,2,   -999.0,9,    44.06,2,    22.27,2,     0.01,2,     1.54,2,  4842.0,  2.0639,   2.515
     64PE95N_1,  AR12,    34,  1,      1,   X001,2,19950725,1917, 44.6668,  -7.9982, 4847,   4977.0,   2.5283,  34.8986,2,  34.8975,6,    237.3,2,    238.0,6,    44.17,2,    22.29,6,     0.03,6,     1.56,6,  -999.0,  2.0608,-999.000
     64PE95N_1,  AR12,    35,  1,     24,   X024,2,19950725,2332, 44.4172,  -8.0015, 4799,      9.0,  18.9256,  35.4137,2,  35.4133,2,    234.5,2,    234.2,6,     0.24,2,     0.06,2,     0.01,2,     0.04,2,  -999.0, 18.9241,-999.000
     64PE95N_1,  AR12,    35,  1,     23,   X023,2,19950725,2332, 44.4172,  -8.0015, 4799,    102.0,  12.2187,  35.6201,2,  35.6190,2,    245.3,2,    244.3,2,     1.85,2,     6.50,2,     0.02,2,     0.43,2,  -999.0, 12.2051,-999.000
     64PE95N_1,  AR12,    35,  1,     22,   X022,2,19950725,2332, 44.4172,  -8.0015, 4799,    203.0,  11.6247,  35.5876,2,-999.0000,9,    244.5,2,   -999.0,9,     2.91,2,     8.79,2,     0.02,2,     0.57,2,  -999.0, 11.5987,-999.000
     64PE95N_1,  AR12,    35,  1,     21,   X021,2,19950725,2332, 44.4172,  -8.0015, 4799,    301.0,  11.2813,  35.5491,2,  35.5472,2,    244.8,2,    245.9,2,     3.37,2,     9.71,2,     0.02,2,     0.62,2,  -999.0, 11.2431,-999.000
     64PE95N_1,  AR12,    35,  1,     20,   X020,2,19950725,2332, 44.4172,  -8.0015, 4799,    404.0,  11.1897,  35.5664,2,-999.0000,9,    232.6,2,   -999.0,9,     3.98,2,    11.01,2,     0.01,2,     0.69,2,  -999.0, 11.1386,-999.000
     64PE95N_1,  AR12,    35,  1,     19,   X019,2,19950725,2332, 44.4172,  -8.0015, 4799,    606.0,  10.4311,  35.4819,2,  35.4834,2,    224.9,2,    223.2,2,     5.86,2,    13.43,2,     0.01,2,     0.87,2,  -999.0, 10.3570,-999.000
     64PE95N_1,  AR12,    35,  1,     18,   X018,2,19950725,2332, 44.4172,  -8.0015, 4799,    808.0,  10.5861,  35.7680,2,-999.0000,9,    191.3,2,   -999.0,9,     8.05,2,    15.73,2,     0.01,2,     0.99,2,  -999.0, 10.4852,-999.000
     64PE95N_1,  AR12,    35,  1,     17,   X017,2,19950725,2332, 44.4172,  -8.0015, 4799,   1010.0,  10.1185,  35.8808,2,  35.8789,2,    185.8,2,    185.6,2,     9.34,2,    16.43,2,     0.02,2,     1.03,2,  -999.0,  9.9944,-999.000
     64PE95N_1,  AR12,    35,  1,     16,   X016,2,19950725,2332, 44.4172,  -8.0015, 4799,   1265.0,   8.0870,  35.5996,2,-999.0000,9,    202.8,2,   -999.0,9,    11.17,2,    17.43,2,     0.00,2,     1.12,2,  -999.0,  7.9484,-999.000
     64PE95N_1,  AR12,    35,  1,     15,   X015,2,19950725,2332, 44.4172,  -8.0015, 4799,   1518.0,   5.5635,  35.2148,2,  35.2147,2,    232.9,2,    234.3,2,    13.09,2,    17.95,2,     0.00,2,     1.19,2,  -999.0,  5.4233,-999.000
     64PE95N_1,  AR12,    35,  1,     14,   X014,2,19950725,2332, 44.4172,  -8.0015, 4799,   1772.0,   4.3794,  35.0510,2,-999.0000,9,    248.9,2,   -999.0,9,    14.43,2,    18.09,2,     0.00,2,     1.20,2,  -999.0,  4.2286,-999.000
     64PE95N_1,  AR12,    35,  1,     13,   X013,2,19950725,2332, 44.4172,  -8.0015, 4799,   2027.0,   3.8606,  35.0157,2,  35.0159,2,    248.7,2,    250.8,2,    18.69,2,    18.63,2,     0.01,2,     1.25,2,  -999.0,  3.6923,-999.000
     64PE95N_1,  AR12,    35,  1,     12,   X012,2,19950725,2332, 44.4172,  -8.0015, 4799,   2281.0,   3.4366,  34.9887,2,-999.0000,9,    248.0,2,   -999.0,9,    23.27,2,    19.18,2,     0.00,2,     1.31,2,  -999.0,  3.2503,-999.000
     64PE95N_1,  AR12,    35,  1,     11,   X011,2,19950725,2332, 44.4172,  -8.0015, 4799,   2536.0,   3.0548,  34.9635,2,  34.9627,2,    245.9,2,    247.1,2,    28.18,2,    19.94,2,     0.02,2,     1.37,2,  -999.0,  2.8502,-999.000
     64PE95N_1,  AR12,    35,  1,     10,   X010,2,19950725,2332, 44.4172,  -8.0015, 4799,   2791.0,   2.8356,  34.9475,2,-999.0000,9,    244.0,2,   -999.0,9,    31.82,2,    20.54,2,     0.01,2,     1.41,2,  -999.0,  2.6098,-999.000
     64PE95N_1,  AR12,    35,  1,      9,   X009,2,19950725,2332, 44.4172,  -8.0015, 4799,   3046.0,   2.7068,  34.9361,2,  34.9347,2,    241.9,2,    243.1,2,    34.90,2,    21.23,2,     0.03,2,     1.47,2,  -999.0,  2.4576,-999.000
     64PE95N_1,  AR12,    35,  1,      8,   X008,2,19950725,2332, 44.4172,  -8.0015, 4799,   3302.0,   2.6071,  34.9260,2,-999.0000,9,    240.0,2,   -999.0,9,    37.74,2,    21.36,2,     0.00,2,     1.47,2,  3306.5,  2.3332,   2.607
     64PE95N_1,  AR12,    35,  1,      7,   X007,4,19950725,2332, 44.4172,  -8.0015, 4799,   3558.0,   2.5530,  34.9183,2,  34.9229,4,    238.4,2,    240.4,4,    38.16,4,    21.47,4,     0.02,4,     1.48,4,  -999.0,  2.2529,-999.000
     64PE95N_1,  AR12,    35,  1,      6,   X006,2,19950725,2332, 44.4172,  -8.0015, 4799,   3814.0,   2.5125,  34.9120,2,-999.0000,9,    237.6,2,   -999.0,9,    41.34,2,    22.01,2,     0.03,2,     1.51,2,  -999.0,  2.1849,   2.514
     64PE95N_1,  AR12,    35,  1,      5,   X005,2,19950725,2332, 44.4172,  -8.0015, 4799,   4073.0,   2.4898,  34.9066,2,  34.9054,2,    237.1,2,    238.8,2,    42.37,2,    22.13,2,     0.02,2,     1.52,2,  -999.0,  2.1333,-999.000
     64PE95N_1,  AR12,    35,  1,      4,   X004,2,19950725,2332, 44.4172,  -8.0015, 4799,   4328.0,   2.4793,  34.9021,2,-999.0000,9,    237.1,2,   -999.0,9,    43.42,2,    22.12,2,     0.01,2,     1.54,2,  4332.0,  2.0932,   2.479
     64PE95N_1,  AR12,    35,  1,      3,   X003,2,19950725,2332, 44.4172,  -8.0015, 4799,   4588.0,   2.4907,  34.8997,2,  34.8986,2,    236.5,2,    238.3,2,    44.00,2,    22.32,2,     0.02,2,     1.54,2,  -999.0,  2.0729,-999.000
     64PE95N_1,  AR12,    35,  1,      2,   X002,2,19950725,2332, 44.4172,  -8.0015, 4799,   4846.0,   2.5150,  34.8990,2,-999.0000,9,    236.4,2,   -999.0,9,    44.06,2,    22.40,2,     0.01,2,     1.53,2,  4843.0,  2.0644,   2.515
     64PE95N_1,  AR12,    35,  1,      1,   X001,2,19950725,2332, 44.4172,  -8.0015, 4799,   4927.0,   2.5257,  34.8990,2,  34.8980,6,    236.8,2,    237.5,6,    43.97,6,    22.19,6,     0.02,6,     1.52,6,  -999.0,  2.0646,-999.000
     64PE95N_1,  AR12,    36,  1,     24,   X024,2,19950726,0405, 44.2002,  -7.9992, -999,     10.0,  18.3801,  35.3961,2,  35.3957,2,    237.4,2,    238.3,6,     0.59,2,     0.02,2,     0.02,2,     0.05,2,  -999.0, 18.3783,-999.000
     64PE95N_1,  AR12,    36,  1,     23,   X023,2,19950726,0405, 44.2002,  -7.9992, -999,    100.0,  12.2941,  35.5771,2,  35.5777,2,    243.8,2,    243.6,2,     1.59,2,     5.41,2,     0.07,2,     0.37,2,  -999.0, 12.2808,-999.000
     64PE95N_1,  AR12,    36,  1,     22,   X022,2,19950726,0405, 44.2002,  -7.9992, -999,    202.0,  11.6702,  35.5930,2,-999.0000,9,    243.6,2,   -999.0,9,     2.86,2,     8.57,2,     0.03,2,     0.55,2,  -999.0, 11.6441,-999.000
     64PE95N_1,  AR12,    36,  1,     21,   X021,2,19950726,0405, 44.2002,  -7.9992, -999,    304.0,  11.4516,  35.5927,2,  35.5937,2,    230.5,2,    230.4,2,     4.08,2,    10.61,2,     0.03,2,     0.67,2,  -999.0, 11.4127,-999.000
     64PE95N_1,  AR12,    36,  1,     20,   X020,2,19950726,0405, 44.2002,  -7.9992, -999,    400.0,  11.0505,  35.5425,2,-999.0000,9,    234.3,2,   -999.0,9,     4.27,2,    11.33,2,     0.01,2,     0.71,2,  -999.0, 11.0003,-999.000
     64PE95N_1,  AR12,    36,  1,     19,   X019,2,19950726,0405, 44.2002,  -7.9992, -999,    501.0,  10.8064,  35.5266,2,  35.5240,2,    227.6,2,    226.6,2,     5.10,2,    12.50,2,     0.03,2,     0.79,2,  -999.0, 10.7441,-999.000
     64PE95N_1,  AR12,    36,  1,     18,   X018,2,19950726,0405, 44.2002,  -7.9992, -999,    607.0,  10.4874,  35.5101,2,-999.0000,9,    219.2,2,   -999.0,9,     6.01,2,    13.82,2,     0.03,2,     0.87,2,  -999.0, 10.4129,-999.000
     64PE95N_1,  AR12,    36,  1,     17,   X017,2,19950726,0405, 44.2002,  -7.9992, -999,    707.0,  10.2881,  35.5604,2,  35.5648,2,    204.3,2,    203.0,2,     7.53,2,    15.24,2,     0.03,2,     0.97,2,  -999.0, 10.2019,-999.000
     64PE95N_1,  AR12,    36,  1,     16,   X016,2,19950726,0405, 44.2002,  -7.9992, -999,    807.0,  10.3960,  35.7138,2,-999.0000,9,    191.9,2,   -999.0,9,     8.28,2,    15.93,2,     0.04,2,     1.00,2,  -999.0, 10.2964,-999.000
     64PE95N_1,  AR12,    36,  1,     15,   X015,2,19950726,0405, 44.2002,  -7.9992, -999,    911.0,  10.4144,  35.8164,2,  35.8194,2,    187.3,2,    186.2,2,     8.69,2,    16.21,2,     0.02,2,     1.02,2,  -999.0, 10.3011,-999.000
     64PE95N_1,  AR12,    36,  1,     14,   X014,2,19950726,0405, 44.2002,  -7.9992, -999,   1009.0,  10.1734,  35.8596,2,-999.0000,9,    186.4,2,   -999.0,9,     9.32,2,    16.38,2,     0.03,2,     1.04,2,  -999.0, 10.0491,-999.000
     64PE95N_1,  AR12,    36,  1,     13,   X013,2,19950726,0405, 44.2002,  -7.9992, -999,   1214.0,   9.0766,  35.7672,3,  35.7626,2,    193.3,2,    194.9,2,    10.57,2,    17.02,2,     0.01,2,     1.08,2,  -999.0,  8.9351,-999.000
     64PE95N_1,  AR12,    36,  1,     12,   X012,2,19950726,0405, 44.2002,  -7.9992, -999,   1417.0,   6.6073,  35.3576,2,-999.0000,9,    219.9,2,   -999.0,9,    12.17,2,    17.99,2,     0.02,2,     1.17,2,  -999.0,  6.4664,-999.000
     64PE95N_1,  AR12,    36,  1,     11,   X011,2,19950726,0405, 44.2002,  -7.9992, -999,   1620.0,   5.3283,  35.1888,3,  35.1837,2,    236.5,2,    237.3,2,    14.01,2,    18.39,2,     0.01,2,     1.21,2,  -999.0,  5.1805,-999.000
     64PE95N_1,  AR12,    36,  1,     10,   X010,2,19950726,0405, 44.2002,  -7.9992, -999,   1823.0,   4.3331,  35.0618,2,-999.0000,9,    247.3,2,   -999.0,9,    16.44,2,    18.43,2,     0.03,2,     1.23,2,  -999.0,  4.1779,-999.000
     64PE95N_1,  AR12,    36,  1,      9,   X009,2,19950726,0405, 44.2002,  -7.9992, -999,   2029.0,   3.8346,  35.0174,2,  35.0182,2,    249.5,2,    249.3,2,    19.70,2,    18.75,2,     0.02,2,     1.27,2,  -999.0,  3.6665,-999.000
     64PE95N_1,  AR12,    36,  1,      8,   X008,2,19950726,0405, 44.2002,  -7.9992, -999,   2231.0,   3.4697,  34.9946,2,-999.0000,9,    248.8,2,   -999.0,9,    23.77,2,    19.58,2,     0.05,2,     1.33,2,  2231.5,  3.2877,   3.468
     64PE95N_1,  AR12,    36,  1,      7,   X007,2,19950726,0405, 44.2002,  -7.9992, -999,   2433.0,   3.2267,  34.9768,2,  34.9785,2,    248.3,2,    247.6,2,    26.39,2,    19.78,2,     0.02,2,     1.35,2,  -999.0,  3.0291,-999.000
     64PE95N_1,  AR12,    36,  1,      6,   X006,2,19950726,0405, 44.2002,  -7.9992, -999,   2639.0,   3.0307,  34.9624,2,-999.0000,9,    247.5,2,   -999.0,9,    29.31,2,    20.12,2,     0.02,2,     1.38,2,  -999.0,  2.8163,   3.031
     64PE95N_1,  AR12,    36,  1,      5,   X005,2,19950726,0405, 44.2002,  -7.9992, -999,   2843.0,   2.8558,  34.9485,2,  34.9478,2,    246.0,2,    244.3,2,    32.40,2,    21.08,2,     0.03,2,     1.45,2,  -999.0,  2.6242,-999.000
     64PE95N_1,  AR12,    36,  1,      4,   X004,2,19950726,0405, 44.2002,  -7.9992, -999,   3046.0,   2.7180,  34.9365,2,-999.0000,9,    244.9,2,   -999.0,9,    35.10,2,    20.99,2,     0.02,2,     1.43,2,  3048.0,  2.4685,   2.719
     64PE95N_1,  AR12,    36,  1,      3,   X003,2,19950726,0405, 44.2002,  -7.9992, -999,   3303.0,   2.6061,  34.9249,2,  34.9238,2,    243.9,2,    242.6,2,    37.90,2,    21.47,2,     0.02,2,     1.47,2,  -999.0,  2.3322,-999.000
     64PE95N_1,  AR12,    36,  1,      2,   X002,2,19950726,0405, 44.2002,  -7.9992, -999,   3563.0,   2.5419,  34.9167,2,-999.0000,9,    243.8,2,   -999.0,9,    39.80,2,    21.85,2,     0.03,2,     1.50,2,  3559.0,  2.2414,   2.542
     64PE95N_1,  AR12,    36,  1,      1,   X001,2,19950726,0405, 44.2002,  -7.9992, -999,   3643.0,   2.5456,  34.9162,2,  34.9161,2,    244.1,2,    240.3,6,    40.13,6,    21.84,6,     0.04,6,     1.48,6,  -999.0,  2.2363,-999.000