BOTTLE,20020117WHPSIOKJU
EXPOCODE,SECT_ID,STNNBR,CASTNO,SAMPNO,BTLNBR,BTLNBR_FLAG_W,DATE,TIME,LATITUDE,LONGITUDE,DEPTH,CTDPRS,CTDTMP,CTDSAL,CTDSAL_FLAG_W,SALNTY,SALNTY_FLAG_W,CTDOXY,CTDOXY_FLAG_W,OXYGEN,OXYGEN_FLAG_W,SILCAT,SILCAT_FLAG_W,NITRAT,NITRAT_FLAG_W,NITRIT,NITRIT_FLAG_W,PHSPHT,PHSPHT_FLAG_W,REVPRS,THETA,REVTMP
,,,,,,,,,,,,DBAR,ITS-90,PSS-78,,PSS-78,,UMOL/KG,,UMOL/KG,,UMOL/KG,,UMOL/KG,,UMOL/KG,,UMOL/KG,,DBAR,ITS-90,ITS-90
     64PE95N_1,  AR12,    83,  1,     24,   X024,2,19950804,1704, 46.5413,  -6.7498, 4590,     10.0,  18.9286,  35.6020,2,  35.6043,2,    237.2,2,    237.9,2,     0.41,2,     0.06,2,     0.00,2,     0.04,2,  -999.0, 18.9267,-999.000
     64PE95N_1,  AR12,    83,  1,     23,   X023,2,19950804,1704, 46.5413,  -6.7498, 4590,    100.0,  11.7131,  35.5585,3,  35.5650,2,    245.6,2,    243.4,2,     2.34,2,     7.60,2,     0.02,2,     0.47,2,  -999.0, 11.7001,-999.000
     64PE95N_1,  AR12,    83,  1,     22,   X022,2,19950804,1704, 46.5413,  -6.7498, 4590,    200.0,  11.4189,  35.5624,2,-999.0000,9,    248.8,2,   -999.0,9,     2.88,2,     8.90,2,     0.02,2,     0.57,2,  -999.0, 11.3934,-999.000
     64PE95N_1,  AR12,    83,  1,     21,   X021,2,19950804,1704, 46.5413,  -6.7498, 4590,    301.0,  11.1472,  35.5357,2,  35.5361,2,    242.1,2,    242.0,2,     3.69,2,    10.39,2,     0.00,2,     0.65,2,  -999.0, 11.1093,-999.000
     64PE95N_1,  AR12,    83,  1,     20,   X027,2,19950804,1704, 46.5413,  -6.7498, 4590,    403.0,  10.8602,  35.5133,2,-999.0000,9,    237.9,2,   -999.0,9,     4.17,2,    11.45,2,     0.00,2,     0.71,2,  -999.0, 10.8102,-999.000
     64PE95N_1,  AR12,    83,  1,     19,   X019,2,19950804,1704, 46.5413,  -6.7498, 4590,    511.0,  10.6621,  35.5009,2,  35.5019,2,    232.9,2,    231.5,2,     4.88,2,    12.23,2,     0.01,2,     0.76,2,  -999.0, 10.5991,-999.000
     64PE95N_1,  AR12,    83,  1,     18,   X018,2,19950804,1704, 46.5413,  -6.7498, 4590,    603.0,  10.2550,  35.4552,2,-999.0000,9,    227.3,2,   -999.0,9,     5.70,2,    13.20,2,     0.12,2,     0.84,2,  -999.0, 10.1820,-999.000
     64PE95N_1,  AR12,    83,  1,     17,   X017,2,19950804,1704, 46.5413,  -6.7498, 4590,    806.0,  10.0819,  35.6059,2,  35.6108,2,    196.6,2,    195.9,2,     7.96,2,    15.78,2,     0.00,2,     0.98,2,  -999.0,  9.9843,-999.000
     64PE95N_1,  AR12,    83,  1,     16,   X016,2,19950804,1704, 46.5413,  -6.7498, 4590,   1010.0,   9.3027,  35.6341,2,-999.0000,9,    192.2,2,   -999.0,9,     9.75,2,    17.01,2,     0.01,2,     1.08,2,  -999.0,  9.1848,-999.000
     64PE95N_1,  AR12,    83,  1,     15,   X015,2,19950804,1704, 46.5413,  -6.7498, 4590,   1264.0,   7.4454,  35.4701,2,  35.4713,2,    207.5,2,    209.7,2,    11.54,2,    17.45,2,     0.06,2,     1.13,2,  -999.0,  7.3129,-999.000
     64PE95N_1,  AR12,    83,  1,     14,   X014,4,19950804,1704, 46.5413,  -6.7498, 4590,   1518.0,   4.8127,  35.0753,2,-999.0000,9,    244.6,2,   -999.0,9,    17.76,4,    18.43,4,     0.00,4,     1.21,4,  -999.0,  4.6813,-999.000
     64PE95N_1,  AR12,    83,  1,     13,   X026,2,19950804,1704, 46.5413,  -6.7498, 4590,   1771.0,   3.8842,  34.9593,2,  34.9607,2,    261.7,2,    264.3,2,    12.76,2,    17.56,2,     0.00,2,     1.16,2,  -999.0,  3.7403,-999.000
     64PE95N_1,  AR12,    83,  1,     12,   X012,2,19950804,1704, 46.5413,  -6.7498, 4590,   2026.0,   3.8115,  34.9959,2,-999.0000,9,    252.3,2,   -999.0,9,    17.74,2,    18.24,2,     0.01,2,     1.21,2,  -999.0,  3.6441,-999.000
     64PE95N_1,  AR12,    83,  1,     11,   X011,2,19950804,1704, 46.5413,  -6.7498, 4590,   2281.0,   3.5238,  34.9947,2,  34.9965,2,    246.2,2,    248.0,6,    24.01,2,    19.29,2,     0.00,2,     1.27,2,  -999.0,  3.3360,-999.000
     64PE95N_1,  AR12,    83,  1,     10,   X025,2,19950804,1704, 46.5413,  -6.7498, 4590,   2537.0,   3.2047,  34.9730,2,-999.0000,9,    244.9,2,   -999.0,9,    27.81,2,    19.72,2,     0.00,2,     1.32,2,  -999.0,  2.9972,-999.000
     64PE95N_1,  AR12,    83,  1,      9,   X009,2,19950804,1704, 46.5413,  -6.7498, 4590,   2790.0,   2.9233,  34.9530,2,  34.9545,2,    241.8,2,    242.4,2,    33.42,2,    20.81,2,     0.01,2,     1.40,2,  -999.0,  2.6957,-999.000
     64PE95N_1,  AR12,    83,  1,      8,   X008,2,19950804,1704, 46.5413,  -6.7498, 4590,   3047.0,   2.7600,  34.9388,2,-999.0000,9,    241.0,2,   -999.0,9,    35.81,2,    20.96,2,     0.00,2,     1.42,2,  3049.0,  2.5096,   2.762
     64PE95N_1,  AR12,    83,  1,      7,   X007,2,19950804,1704, 46.5413,  -6.7498, 4590,   3303.0,   2.6459,  34.9281,2,  34.9302,2,    240.1,2,    241.4,2,    37.59,2,    21.18,2,     0.00,2,     1.44,2,  -999.0,  2.3710,-999.000
     64PE95N_1,  AR12,    83,  1,      6,   X006,2,19950804,1704, 46.5413,  -6.7498, 4590,   3560.0,   2.5683,  34.9196,2,-999.0000,9,    238.9,2,   -999.0,9,    39.87,2,    21.49,2,     0.01,2,     1.47,2,  3561.0,  2.2675,   2.567
     64PE95N_1,  AR12,    83,  1,      5,   X005,2,19950804,1704, 46.5413,  -6.7498, 4590,   3815.0,   2.5231,  34.9133,2,  34.9136,2,    238.3,2,    239.1,2,    41.13,2,    21.72,2,     0.01,2,     1.47,2,  -999.0,  2.1951,-999.000
     64PE95N_1,  AR12,    83,  1,      4,   X004,2,19950804,1704, 46.5413,  -6.7498, 4590,   4073.0,   2.4927,  34.9074,2,-999.0000,9,    237.3,2,   -999.0,9,    42.87,2,    21.90,2,     0.00,2,     1.49,2,  4077.0,  2.1361,   2.493
     64PE95N_1,  AR12,    83,  1,      2,   X002,2,19950804,1704, 46.5413,  -6.7498, 4590,   4458.0,   2.4905,  34.9022,2,  34.9032,2,    236.8,2,    237.4,2,    44.15,2,    22.02,2,     0.02,2,     1.50,2,  4455.0,  2.0884,   2.490
     64PE95N_1,  AR12,    83,  1,      3,   X028,2,19950804,1704, 46.5413,  -6.7498, 4590,   4459.0,   2.4910,  34.9023,2,  34.9039,2,    236.9,2,    239.1,2,    44.21,2,    22.16,2,     0.02,2,     1.50,2,  -999.0,  2.0888,-999.000
     64PE95N_1,  AR12,    83,  1,      1,   X001,2,19950804,1704, 46.5413,  -6.7498, 4590,   4705.0,   2.5171,  34.9017,2,  34.9029,6,    236.8,2,    236.8,6,    44.46,6,    22.07,6,     0.01,6,     1.50,6,  -999.0,  2.0841,-999.000
     64PE95N_1,  AR12,    84,  1,     24,   X024,2,19950804,2218, 46.3042,  -6.2497, 4635,     10.0,  19.1985,  35.5536,2,  35.5541,2,    235.8,2,    236.8,6,     0.50,2,     0.08,2,     0.02,2,     0.06,2,  -999.0, 19.1967,-999.000
     64PE95N_1,  AR12,    84,  1,     23,   X023,2,19950804,2218, 46.3042,  -6.2497, 4635,    102.0,  11.9497,  35.5609,2,  35.5606,2,    245.4,2,    242.5,2,     2.04,2,     6.69,2,     0.03,2,     0.44,2,  -999.0, 11.9364,-999.000
     64PE95N_1,  AR12,    84,  1,     22,   X022,2,19950804,2218, 46.3042,  -6.2497, 4635,    202.0,  11.4832,  35.5564,2,-999.0000,9,    248.0,2,   -999.0,9,     2.62,2,     8.28,2,     0.02,2,     0.52,2,  -999.0, 11.4574,-999.000
     64PE95N_1,  AR12,    84,  1,     21,   X021,2,19950804,2218, 46.3042,  -6.2497, 4635,    303.0,  11.3468,  35.5530,2,  35.5541,2,    244.5,2,    244.6,2,     3.17,2,     9.13,2,     0.02,2,     0.57,2,  -999.0, 11.3082,-999.000
     64PE95N_1,  AR12,    84,  1,     20,   X027,2,19950804,2218, 46.3042,  -6.2497, 4635,    404.0,  11.1610,  35.5535,2,-999.0000,9,    233.0,2,   -999.0,9,     3.91,2,    10.84,2,     0.01,2,     0.67,2,  -999.0, 11.1100,-999.000
     64PE95N_1,  AR12,    84,  1,     19,   X019,2,19950804,2218, 46.3042,  -6.2497, 4635,    504.0,  10.8392,  35.5342,2,  35.5354,2,    227.4,2,    227.4,2,     4.87,2,    12.20,2,     0.01,2,     0.77,2,  -999.0, 10.7764,-999.000
     64PE95N_1,  AR12,    84,  1,     18,   X018,2,19950804,2218, 46.3042,  -6.2497, 4635,    607.0,  10.4526,  35.5419,2,-999.0000,9,    214.8,2,   -999.0,9,     6.33,2,    13.91,2,     0.02,2,     0.87,2,  -999.0, 10.3783,-999.000
     64PE95N_1,  AR12,    84,  1,     17,   X017,2,19950804,2218, 46.3042,  -6.2497, 4635,    810.0,   9.9835,  35.6935,2,  35.6970,2,    191.4,2,    189.7,2,     8.94,2,    16.53,2,     0.01,2,     1.04,2,  -999.0,  9.8859,-999.000
     64PE95N_1,  AR12,    84,  1,     16,   X016,2,19950804,2218, 46.3042,  -6.2497, 4635,   1010.0,   9.5252,  35.7730,2,-999.0000,9,    189.3,2,   -999.0,9,     9.97,2,    16.91,2,     0.01,2,     1.06,2,  -999.0,  9.4055,-999.000
     64PE95N_1,  AR12,    84,  1,     15,   X015,2,19950804,2218, 46.3042,  -6.2497, 4635,   1264.0,   7.2412,  35.4360,2,  35.4348,2,    211.4,2,    213.6,2,    11.59,2,    17.78,2,     0.02,2,     1.14,2,  -999.0,  7.1107,-999.000
     64PE95N_1,  AR12,    84,  1,     14,   X014,2,19950804,2218, 46.3042,  -6.2497, 4635,   1517.0,   5.2458,  35.1372,2,-999.0000,9,    237.3,2,   -999.0,9,    12.20,2,    18.11,2,     0.02,2,     1.17,2,  -999.0,  5.1095,-999.000
     64PE95N_1,  AR12,    84,  1,     13,   X026,2,19950804,2218, 46.3042,  -6.2497, 4635,   1772.0,   4.1927,  35.0091,2,  35.0104,2,    254.3,2,    257.3,2,    14.09,2,    17.92,2,     0.01,2,     1.18,2,  -999.0,  4.0445,-999.000
     64PE95N_1,  AR12,    84,  1,     12,   X012,2,19950804,2218, 46.3042,  -6.2497, 4635,   2027.0,   3.8357,  34.9949,2,-999.0000,9,    254.2,2,   -999.0,9,    17.09,2,    18.18,2,     0.02,2,     1.21,2,  -999.0,  3.6679,-999.000
     64PE95N_1,  AR12,    84,  1,     11,   X011,4,19950804,2218, 46.3042,  -6.2497, 4635,   2283.0,   3.5722,  35.0028,2,  35.5311,4,    245.8,2,    233.7,4,     5.09,4,    10.25,4,     0.04,4,     0.66,4,  -999.0,  3.3833,-999.000
     64PE95N_1,  AR12,    84,  1,     10,   X025,2,19950804,2218, 46.3042,  -6.2497, 4635,   2538.0,   3.2145,  34.9765,2,-999.0000,9,    244.0,2,   -999.0,9,    28.74,2,    20.02,2,     0.02,2,     1.36,2,  -999.0,  3.0067,-999.000
     64PE95N_1,  AR12,    84,  1,      9,   X009,2,19950804,2218, 46.3042,  -6.2497, 4635,   2790.0,   2.9490,  34.9548,2,  34.9547,2,    242.1,2,    244.8,2,    33.03,2,    20.68,2,     0.01,2,     1.40,2,  -999.0,  2.7209,-999.000
     64PE95N_1,  AR12,    84,  1,      8,   X008,2,19950804,2218, 46.3042,  -6.2497, 4635,   3048.0,   2.7649,  34.9389,2,-999.0000,9,    240.9,2,   -999.0,9,    35.70,2,    21.08,2,     0.02,2,     1.44,2,  3050.0,  2.5142,   2.761
     64PE95N_1,  AR12,    84,  1,      7,   X007,4,19950804,2218, 46.3042,  -6.2497, 4635,   3303.0,   2.6443,  34.9276,2,  34.9325,4,    240.7,2,    243.7,4,    36.97,4,    21.31,4,     0.01,4,     1.45,4,  -999.0,  2.3695,-999.000
     64PE95N_1,  AR12,    84,  1,      6,   X006,2,19950804,2218, 46.3042,  -6.2497, 4635,   3560.0,   2.5675,  34.9199,2,-999.0000,9,    239.9,2,   -999.0,9,    39.31,2,    21.65,2,     0.02,2,     1.47,2,  3562.0,  2.2668,   2.567
     64PE95N_1,  AR12,    84,  1,      5,   X005,2,19950804,2218, 46.3042,  -6.2497, 4635,   3814.0,   2.5239,  34.9136,2,  34.9134,2,    239.0,2,    241.4,2,    40.68,2,    21.72,2,     0.04,2,     1.47,2,  -999.0,  2.1960,-999.000
     64PE95N_1,  AR12,    84,  1,      4,   X004,4,19950804,2218, 46.3042,  -6.2497, 4635,   4073.0,   2.4979,  34.9083,2,-999.0000,9,    239.0,2,   -999.0,9,     7.36,4,    12.35,4,     0.02,4,     0.79,4,  4082.0,  2.1412,   2.498
     64PE95N_1,  AR12,    84,  1,      2,   X002,2,19950804,2218, 46.3042,  -6.2497, 4635,   4381.0,   2.4874,  34.9031,2,  34.9028,2,    237.6,2,    239.1,2,    43.36,2,    22.18,2,     0.02,2,     1.51,2,  4375.0,  2.0947,   2.488
     64PE95N_1,  AR12,    84,  1,      3,   X028,2,19950804,2218, 46.3042,  -6.2497, 4635,   4382.0,   2.4880,  34.9031,2,  34.9036,2,    237.4,2,    239.8,2,    43.19,2,    22.21,2,     0.01,2,     1.52,2,  -999.0,  2.0952,-999.000
     64PE95N_1,  AR12,    84,  1,      1,   X001,2,19950804,2218, 46.3042,  -6.2497, 4635,   4753.0,   2.5224,  34.9016,2,  34.9019,6,    236.6,2,    237.1,6,    44.07,6,    22.28,6,     0.02,6,     1.51,6,  -999.0,  2.0832,-999.000
     64PE95N_1,  AR12,    85,  1,     24,   X024,2,19950805,0351, 46.0665,  -5.7490, 4639,      9.0,  20.4238,  35.3792,3,  35.3906,2,    227.8,2,    227.3,6,     0.58,2,     0.06,2,     0.01,2,     0.05,2,  -999.0, 20.4221,-999.000
     64PE95N_1,  AR12,    85,  1,     23,   X023,2,19950805,0351, 46.0665,  -5.7490, 4639,    102.0,  12.0465,  35.5870,2,  35.5882,2,    244.3,2,    243.5,2,     1.87,2,     6.41,2,     0.05,2,     0.40,2,  -999.0, 12.0330,-999.000
     64PE95N_1,  AR12,    85,  1,     22,   X022,2,19950805,0351, 46.0665,  -5.7490, 4639,    198.0,  11.5322,  35.5789,2,-999.0000,9,    242.7,2,   -999.0,9,     2.85,2,     8.75,2,     0.02,2,     0.54,2,  -999.0, 11.5068,-999.000
     64PE95N_1,  AR12,    85,  1,     21,   X021,2,19950805,0351, 46.0665,  -5.7490, 4639,    302.0,  11.2552,  35.5689,2,  35.5696,2,    233.3,2,    234.3,2,     3.69,2,    10.55,2,     0.02,2,     0.65,2,  -999.0, 11.2171,-999.000
     64PE95N_1,  AR12,    85,  1,     20,   X027,2,19950805,0351, 46.0665,  -5.7490, 4639,    401.0,  10.9903,  35.5599,2,-999.0000,9,    222.9,2,   -999.0,9,     4.48,2,    11.96,2,     0.03,2,     0.73,2,  -999.0, 10.9401,-999.000
     64PE95N_1,  AR12,    85,  1,     19,   X019,2,19950805,0351, 46.0665,  -5.7490, 4639,    503.0,  10.6811,  35.5433,2,  35.5442,2,    217.2,2,    217.9,2,     5.46,2,    13.22,2,     0.03,2,     0.82,2,  -999.0, 10.6189,-999.000
     64PE95N_1,  AR12,    85,  1,     18,   X018,2,19950805,0351, 46.0665,  -5.7490, 4639,    604.0,  10.4437,  35.5511,2,-999.0000,9,    209.5,2,   -999.0,9,     6.42,2,    14.40,2,     0.02,2,     0.89,2,  -999.0, 10.3697,-999.000
     64PE95N_1,  AR12,    85,  1,     17,   X017,2,19950805,0351, 46.0665,  -5.7490, 4639,    808.0,  10.1378,  35.7025,2,  35.7074,2,    191.7,2,    189.2,2,     8.55,2,    16.23,2,     0.02,2,     1.00,2,  -999.0, 10.0396,-999.000
     64PE95N_1,  AR12,    85,  1,     16,   X016,2,19950805,0351, 46.0665,  -5.7490, 4639,   1012.0,   9.5482,  35.7453,2,-999.0000,9,    189.6,2,   -999.0,9,     9.79,2,    16.77,2,     0.02,2,     1.04,2,  -999.0,  9.4281,-999.000
     64PE95N_1,  AR12,    85,  1,     15,   X015,2,19950805,0351, 46.0665,  -5.7490, 4639,   1265.0,   7.9105,  35.5491,2,  35.5491,2,    203.0,2,    204.6,2,    11.50,2,    17.51,2,     0.02,2,     1.11,2,  -999.0,  7.7736,-999.000
     64PE95N_1,  AR12,    85,  1,     14,   X014,2,19950805,0351, 46.0665,  -5.7490, 4639,   1513.0,   5.9145,  35.2718,2,-999.0000,9,    223.7,2,   -999.0,9,    14.30,2,    18.13,2,     0.02,2,     1.19,2,  -999.0,  5.7709,-999.000
     64PE95N_1,  AR12,    85,  1,     13,   X026,4,19950805,0351, 46.0665,  -5.7490, 4639,   1772.0,   4.2511,  35.0286,2,  35.0367,4,    249.1,2,    252.4,4,    14.90,4,    17.97,4,     0.03,4,     1.20,4,  -999.0,  4.1020,-999.000
     64PE95N_1,  AR12,    85,  1,     12,   X012,2,19950805,0351, 46.0665,  -5.7490, 4639,   2027.0,   3.8352,  35.0105,2,-999.0000,9,    248.0,2,   -999.0,9,    19.27,2,    18.58,2,     0.02,2,     1.24,2,  -999.0,  3.6674,-999.000
     64PE95N_1,  AR12,    85,  1,     11,   X011,2,19950805,0351, 46.0665,  -5.7490, 4639,   2282.0,   3.4849,  34.9992,2,  34.9996,2,    243.3,2,    245.7,6,    25.49,2,    19.65,2,     0.02,2,     1.31,2,  -999.0,  3.2976,-999.000
     64PE95N_1,  AR12,    85,  1,     10,   X025,2,19950805,0351, 46.0665,  -5.7490, 4639,   2536.0,   3.1395,  34.9707,2,-999.0000,9,    243.0,2,   -999.0,9,    28.86,2,    20.13,2,     0.04,2,     1.35,2,  -999.0,  2.9333,-999.000
     64PE95N_1,  AR12,    85,  1,      9,   X009,2,19950805,0351, 46.0665,  -5.7490, 4639,   2793.0,   2.8763,  34.9495,2,  34.9499,2,    241.1,2,    242.3,2,    33.79,2,    20.92,2,     0.03,2,     1.41,2,  -999.0,  2.6494,-999.000
     64PE95N_1,  AR12,    85,  1,      8,   X008,2,19950805,0351, 46.0665,  -5.7490, 4639,   3046.0,   2.6823,  34.9325,2,-999.0000,9,    239.2,2,   -999.0,9,    36.82,2,    21.27,2,     0.03,2,     1.45,2,  3047.0,  2.4337,   2.682
     64PE95N_1,  AR12,    85,  1,      7,   X007,4,19950805,0351, 46.0665,  -5.7490, 4639,   3303.0,   2.6371,  34.9265,2,  34.9318,4,    238.3,2,    241.4,4,    37.14,4,    21.23,4,     0.03,4,     1.45,4,  -999.0,  2.3625,-999.000
     64PE95N_1,  AR12,    85,  1,      6,   X006,2,19950805,0351, 46.0665,  -5.7490, 4639,   3560.0,   2.6031,  34.9220,2,-999.0000,9,    237.8,2,   -999.0,9,    39.01,2,    21.53,2,     0.03,2,     1.47,2,  3563.0,  2.3014,   2.603
     64PE95N_1,  AR12,    85,  1,      5,   X005,2,19950805,0351, 46.0665,  -5.7490, 4639,   3815.0,   2.5255,  34.9134,2,  34.9137,2,    237.4,2,    239.3,2,    40.75,2,    21.88,2,     0.02,2,     1.48,2,  -999.0,  2.1974,-999.000
     64PE95N_1,  AR12,    85,  1,      4,   X004,2,19950805,0351, 46.0665,  -5.7490, 4639,   4073.0,   2.5008,  34.9084,2,-999.0000,9,    237.3,2,   -999.0,9,    41.59,2,    21.89,2,     0.03,2,     1.49,2,  4076.0,  2.1441,   2.502
     64PE95N_1,  AR12,    85,  1,      3,   X028,2,19950805,0351, 46.0665,  -5.7490, 4639,   4456.0,   2.4900,  34.9022,2,  34.9031,2,    235.7,2,    239.2,2,    43.54,2,    22.25,2,     0.02,2,     1.52,2,  -999.0,  2.0883,-999.000
     64PE95N_1,  AR12,    85,  1,      2,   X002,2,19950805,0351, 46.0665,  -5.7490, 4639,   4457.0,   2.4899,  34.9022,2,  34.9030,2,    235.4,2,    237.4,2,    43.63,2,    22.03,2,     0.06,2,     1.48,2,  4452.0,  2.0880,   2.492
     64PE95N_1,  AR12,    85,  1,      1,   X001,2,19950805,0351, 46.0665,  -5.7490, 4639,   4755.0,   2.5224,  34.9015,2,  34.9023,6,    235.0,2,    236.3,6,    44.11,6,    22.22,6,     0.03,6,     1.51,6,  -999.0,  2.0829,-999.000