BOTTLE,20020117WHPSIOKJU
EXPOCODE,SECT_ID,STNNBR,CASTNO,SAMPNO,BTLNBR,BTLNBR_FLAG_W,DATE,TIME,LATITUDE,LONGITUDE,DEPTH,CTDPRS,CTDTMP,CTDSAL,CTDSAL_FLAG_W,SALNTY,SALNTY_FLAG_W,CTDOXY,CTDOXY_FLAG_W,OXYGEN,OXYGEN_FLAG_W,SILCAT,SILCAT_FLAG_W,NITRAT,NITRAT_FLAG_W,NITRIT,NITRIT_FLAG_W,PHSPHT,PHSPHT_FLAG_W,REVPRS,THETA,REVTMP
,,,,,,,,,,,,DBAR,ITS-90,PSS-78,,PSS-78,,UMOL/KG,,UMOL/KG,,UMOL/KG,,UMOL/KG,,UMOL/KG,,UMOL/KG,,DBAR,ITS-90,ITS-90
     64PE95N_1,  AR12,    47,  1,     24,   X024,2,19950727,1325, 43.8337, -10.0835, 3783,     10.0,  18.1304,  35.5730,3,  35.5823,2,    243.5,2,    244.7,2,     0.52,2,     0.07,2,     0.03,2,     0.03,2,  -999.0, 18.1287,-999.000
     64PE95N_1,  AR12,    47,  1,     23,   X023,2,19950727,1325, 43.8337, -10.0835, 3783,     99.0,  12.5988,  35.6175,2,  35.6174,2,    242.1,2,    244.2,2,     1.46,2,     5.25,2,     0.05,2,     0.35,2,  -999.0, 12.5853,-999.000
     64PE95N_1,  AR12,    47,  1,     22,   X022,2,19950727,1325, 43.8337, -10.0835, 3783,    202.0,  11.7307,  35.5953,2,-999.0000,9,    242.8,2,   -999.0,9,     2.82,2,     8.61,2,     0.04,2,     0.53,2,  -999.0, 11.7045,-999.000
     64PE95N_1,  AR12,    47,  1,     21,   X021,2,19950727,1325, 43.8337, -10.0835, 3783,    301.0,  11.3945,  35.5722,2,  35.5711,2,    242.8,2,    240.7,2,     3.40,2,     9.84,2,     0.00,2,     0.61,2,  -999.0, 11.3561,-999.000
     64PE95N_1,  AR12,    47,  1,     20,   X020,2,19950727,1325, 43.8337, -10.0835, 3783,    404.0,  11.1843,  35.5784,2,-999.0000,9,    227.6,2,   -999.0,9,     4.42,2,    11.65,2,     0.03,2,     0.72,2,  -999.0, 11.1332,-999.000
     64PE95N_1,  AR12,    47,  1,     19,   X019,2,19950727,1325, 43.8337, -10.0835, 3783,    505.0,  10.9614,  35.5870,2,  35.5885,2,    218.2,2,    216.8,2,     5.30,2,    12.93,2,     0.01,2,     0.80,2,  -999.0, 10.8979,-999.000
     64PE95N_1,  AR12,    47,  1,     18,   X018,2,19950727,1325, 43.8337, -10.0835, 3783,    606.0,  10.8974,  35.6652,2,-999.0000,9,    203.9,2,   -999.0,9,     6.45,2,    14.24,2,     0.01,2,     0.87,2,  -999.0, 10.8211,-999.000
     64PE95N_1,  AR12,    47,  1,     17,   X017,2,19950727,1325, 43.8337, -10.0835, 3783,    706.0,  10.5712,  35.7008,2,  35.7015,2,    195.4,2,    194.7,2,     7.57,2,    15.27,2,     0.00,2,     0.95,2,  -999.0, 10.4836,-999.000
     64PE95N_1,  AR12,    47,  1,     16,   X016,2,19950727,1325, 43.8337, -10.0835, 3783,    809.0,  10.6396,  35.8430,2,-999.0000,9,    187.1,2,   -999.0,9,     8.29,2,    15.80,2,     0.02,2,     0.98,2,  -999.0, 10.5382,-999.000
     64PE95N_1,  AR12,    47,  1,     15,   X015,2,19950727,1325, 43.8337, -10.0835, 3783,    911.0,  10.6329,  35.9665,2,  35.9670,2,    181.8,2,    182.6,2,     8.80,2,    15.82,2,     0.01,2,     0.98,2,  -999.0, 10.5181,-999.000
     64PE95N_1,  AR12,    47,  1,     14,   X014,2,19950727,1325, 43.8337, -10.0835, 3783,   1009.0,  10.6702,  36.0493,2,-999.0000,9,    181.0,2,   -999.0,9,     9.02,2,    15.70,2,     0.00,2,     0.95,2,  -999.0, 10.5421,-999.000
     64PE95N_1,  AR12,    47,  1,     13,   X013,4,19950727,1325, 43.8337, -10.0835, 3783,   1214.0,   9.9924,  35.9850,2,  35.9784,4,    184.7,2,    188.8,4,     9.82,4,    16.10,4,     0.01,4,     1.00,4,  -999.0,  9.8427,-999.000
     64PE95N_1,  AR12,    47,  1,     12,   X012,2,19950727,1325, 43.8337, -10.0835, 3783,   1415.0,   7.7847,  35.6010,2,-999.0000,9,    207.4,2,   -999.0,9,    11.39,2,    17.25,2,     0.00,2,     1.10,2,  -999.0,  7.6314,-999.000
     64PE95N_1,  AR12,    47,  1,     11,   X011,2,19950727,1325, 43.8337, -10.0835, 3783,   1620.0,   5.6171,  35.2263,3,  35.2201,2,    233.3,2,    234.6,2,    12.78,2,    17.89,2,     0.02,2,     1.16,2,  -999.0,  5.4657,-999.000
     64PE95N_1,  AR12,    47,  1,     10,   X010,2,19950727,1325, 43.8337, -10.0835, 3783,   1823.0,   4.4797,  35.0615,2,-999.0000,9,    251.1,2,   -999.0,9,    13.76,2,    17.89,2,     0.01,2,     1.18,2,  -999.0,  4.3225,-999.000
     64PE95N_1,  AR12,    47,  1,      9,   X009,2,19950727,1325, 43.8337, -10.0835, 3783,   2027.0,   4.0293,  35.0326,2,  35.0313,2,    251.6,2,    251.9,2,    16.86,2,    18.43,2,     0.02,2,     1.22,2,  -999.0,  3.8584,-999.000
     64PE95N_1,  AR12,    47,  1,      8,   X008,2,19950727,1325, 43.8337, -10.0835, 3783,   2281.0,   3.4522,  34.9843,2,-999.0000,9,    252.3,2,   -999.0,9,    21.43,2,    18.89,2,     0.01,2,     1.26,2,  2283.0,  3.2656,   3.451
     64PE95N_1,  AR12,    47,  1,      7,   X007,2,19950727,1325, 43.8337, -10.0835, 3783,   2535.0,   3.1293,  34.9675,2,  34.9688,2,    249.2,2,    249.3,2,    25.95,2,    19.53,2,     0.03,2,     1.31,2,  -999.0,  2.9234,-999.000
     64PE95N_1,  AR12,    47,  1,      6,   X006,2,19950727,1325, 43.8337, -10.0835, 3783,   2792.0,   2.9181,  34.9535,2,-999.0000,9,    247.5,2,   -999.0,9,    29.69,2,    20.03,2,     0.01,2,     1.37,2,  2791.0,  2.6904,   2.919
     64PE95N_1,  AR12,    47,  1,      5,   X005,2,19950727,1325, 43.8337, -10.0835, 3783,   3048.0,   2.7786,  34.9424,2,  34.9406,2,    245.1,2,    245.5,2,    32.99,2,    20.88,2,     0.02,2,     1.40,2,  -999.0,  2.5276,-999.000
     64PE95N_1,  AR12,    47,  1,      4,   X004,2,19950727,1325, 43.8337, -10.0835, 3783,   3303.0,   2.6549,  34.9298,2,-999.0000,9,    243.1,2,   -999.0,9,    36.49,2,    21.46,2,     0.01,2,     1.44,2,  3305.0,  2.3797,   2.655
     64PE95N_1,  AR12,    47,  1,      3,   X003,2,19950727,1325, 43.8337, -10.0835, 3783,   3560.0,   2.5711,  34.9201,2,  34.9193,2,    241.9,2,    240.5,2,    39.08,2,    21.48,2,     0.01,2,     1.46,2,  -999.0,  2.2702,-999.000
     64PE95N_1,  AR12,    47,  1,      2,   X002,2,19950727,1325, 43.8337, -10.0835, 3783,   3816.0,   2.5299,  34.9135,2,-999.0000,9,    242.3,2,   -999.0,9,    40.75,2,    22.11,2,     0.01,2,     1.48,2,  3810.0,  2.2017,   2.529
     64PE95N_1,  AR12,    47,  1,      1,   X001,2,19950727,1325, 43.8337, -10.0835, 3783,   3905.0,   2.5225,  34.9116,2,  34.9104,6,    243.3,2,    239.2,6,    41.14,6,    21.68,2,     0.02,6,     1.48,2,  -999.0,  2.1844,-999.000
     64PE95N_1,  AR12,    48,  1,     24,   X024,2,19950727,1802, 43.8342, -10.4993, 4927,     12.0,  18.0837,  35.5825,2,  35.5834,2,    244.6,2,    245.1,6,     0.47,2,     0.04,2,     0.02,2,     0.04,2,  -999.0, 18.0817,-999.000
     64PE95N_1,  AR12,    48,  1,     23,   X023,2,19950727,1802, 43.8342, -10.4993, 4927,    102.0,  12.6725,  35.6245,2,  35.6255,2,    233.8,2,    232.6,2,     1.71,2,     6.32,2,     0.03,2,     0.41,2,  -999.0, 12.6586,-999.000
     64PE95N_1,  AR12,    48,  1,     22,   X022,2,19950727,1802, 43.8342, -10.4993, 4927,    200.0,  12.0716,  35.6419,2,-999.0000,9,    228.4,2,   -999.0,9,     2.89,2,     8.87,2,     0.02,2,     0.55,2,  -999.0, 12.0451,-999.000
     64PE95N_1,  AR12,    48,  1,     21,   X021,2,19950727,1802, 43.8342, -10.4993, 4927,    303.0,  11.6283,  35.6180,2,  35.6197,2,    225.7,2,    224.3,2,     3.70,2,    10.63,2,     0.04,2,     0.66,2,  -999.0, 11.5892,-999.000
     64PE95N_1,  AR12,    48,  1,     20,   X020,2,19950727,1802, 43.8342, -10.4993, 4927,    403.0,  11.2083,  35.5841,2,-999.0000,9,    224.6,2,   -999.0,9,     4.35,2,    11.71,2,     0.01,2,     0.72,2,  -999.0, 11.1573,-999.000
     64PE95N_1,  AR12,    48,  1,     19,   X019,2,19950727,1802, 43.8342, -10.4993, 4927,    606.0,  10.6612,  35.6056,3,  35.6326,2,    205.4,2,    203.4,2,     6.50,2,    14.25,2,     0.03,2,     0.90,2,  -999.0, 10.5859,-999.000
     64PE95N_1,  AR12,    48,  1,     18,   X018,2,19950727,1802, 43.8342, -10.4993, 4927,    807.0,  10.4170,  35.7712,2,-999.0000,9,    187.0,2,   -999.0,9,     8.52,2,    16.03,2,     0.02,2,     1.01,2,  -999.0, 10.3172,-999.000
     64PE95N_1,  AR12,    48,  1,     17,   X017,2,19950727,1802, 43.8342, -10.4993, 4927,   1010.0,  10.0645,  35.8595,2,  35.8574,2,    183.6,2,    185.6,2,     9.42,2,    16.30,2,     0.03,2,     1.03,2,  -999.0,  9.9408,-999.000
     64PE95N_1,  AR12,    48,  1,     16,   X016,2,19950727,1802, 43.8342, -10.4993, 4927,   1265.0,   8.1996,  35.6205,2,-999.0000,9,    200.2,2,   -999.0,9,    11.07,2,    17.12,2,     0.00,2,     1.10,2,  -999.0,  8.0599,-999.000
     64PE95N_1,  AR12,    48,  1,     15,   X015,2,19950727,1802, 43.8342, -10.4993, 4927,   1519.0,   5.5292,  35.1930,2,  35.1908,2,    233.9,2,    235.4,2,    12.41,2,    17.96,2,     0.01,2,     1.18,2,  -999.0,  5.3894,-999.000
     64PE95N_1,  AR12,    48,  1,     14,   X014,2,19950727,1802, 43.8342, -10.4993, 4927,   1773.0,   4.3237,  35.0315,2,-999.0000,9,    252.9,2,   -999.0,9,    12.75,2,    17.66,2,     0.01,2,     1.19,2,  -999.0,  4.1736,-999.000
     64PE95N_1,  AR12,    48,  1,     13,   X013,2,19950727,1802, 43.8342, -10.4993, 4927,   2025.0,   3.8439,  34.9988,2,  34.9988,2,    255.3,2,    257.5,2,    15.30,2,    17.79,2,     0.01,2,     1.20,2,  -999.0,  3.6761,-999.000
     64PE95N_1,  AR12,    48,  1,     12,   X012,2,19950727,1802, 43.8342, -10.4993, 4927,   2280.0,   3.4501,  34.9813,2,-999.0000,9,    251.7,2,   -999.0,9,    20.46,2,    18.47,2,     0.01,2,     1.26,2,  -999.0,  3.2636,-999.000
     64PE95N_1,  AR12,    48,  1,     11,   X011,2,19950727,1802, 43.8342, -10.4993, 4927,   2536.0,   3.1563,  34.9681,2,  34.9684,2,    248.5,2,    250.1,2,    25.45,2,    19.30,2,     0.00,2,     1.33,2,  -999.0,  2.9497,-999.000
     64PE95N_1,  AR12,    48,  1,     10,   X010,2,19950727,1802, 43.8342, -10.4993, 4927,   2791.0,   2.9187,  34.9534,2,-999.0000,9,    245.8,2,   -999.0,9,    29.36,2,    19.85,2,     0.01,2,     1.38,2,  -999.0,  2.6911,-999.000
     64PE95N_1,  AR12,    48,  1,      9,   X009,2,19950727,1802, 43.8342, -10.4993, 4927,   3048.0,   2.7704,  34.9416,2,  34.9412,2,    243.0,2,    244.7,2,    33.05,2,    20.45,2,     0.00,2,     1.39,2,  -999.0,  2.5196,-999.000
     64PE95N_1,  AR12,    48,  1,      8,   X008,2,19950727,1802, 43.8342, -10.4993, 4927,   3302.0,   2.6468,  34.9296,2,-999.0000,9,    239.9,2,   -999.0,9,    36.46,2,    20.97,2,     0.01,2,     1.46,2,  3304.0,  2.3720,   2.651
     64PE95N_1,  AR12,    48,  1,      7,   X007,4,19950727,1802, 43.8342, -10.4993, 4927,   3610.0,   2.5696,  34.9196,2,  34.9281,4,    238.5,2,    241.5,4,    37.14,4,    21.08,4,     0.00,4,     1.45,4,  -999.0,  2.2633,-999.000
     64PE95N_1,  AR12,    48,  1,      6,   X006,2,19950727,1802, 43.8342, -10.4993, 4927,   3815.0,   2.5359,  34.9145,2,-999.0000,9,    237.6,2,   -999.0,9,    40.49,2,    21.59,2,     0.01,2,     1.48,2,  3820.0,  2.2076,   2.536
     64PE95N_1,  AR12,    48,  1,      5,   X005,2,19950727,1802, 43.8342, -10.4993, 4927,   4070.0,   2.5081,  34.9084,2,  34.9076,2,    237.2,2,    239.4,2,    41.93,2,    21.75,2,     0.00,2,     1.50,2,  -999.0,  2.1515,-999.000
     64PE95N_1,  AR12,    48,  1,      4,   X004,2,19950727,1802, 43.8342, -10.4993, 4927,   4317.0,   2.4955,  34.9041,2,-999.0000,9,    237.0,2,   -999.0,9,    42.97,2,    21.91,2,     0.02,2,     1.52,2,  4323.0,  2.1102,   2.496
     64PE95N_1,  AR12,    48,  1,      3,   X003,2,19950727,1802, 43.8342, -10.4993, 4927,   4585.0,   2.4998,  34.9013,2,  34.9011,2,    237.4,2,    238.8,2,    43.38,2,    22.00,2,     0.00,2,     1.52,2,  -999.0,  2.0821,-999.000
     64PE95N_1,  AR12,    48,  1,      2,   X002,2,19950727,1802, 43.8342, -10.4993, 4927,   4842.0,   2.5160,  34.8995,2,-999.0000,9,    237.6,2,   -999.0,9,    44.00,2,    21.93,2,     0.03,2,     1.51,2,  4837.0,  2.0659,   2.516
     64PE95N_1,  AR12,    48,  1,      1,   X001,2,19950727,1802, 43.8342, -10.4993, 4927,   5061.0,   2.5367,  34.8983,2,  34.8988,6,    237.4,2,    238.3,6,    44.21,6,    22.07,6,     0.01,6,     1.51,6,  -999.0,  2.0581,-999.000
     64PE95N_1,  AR12,    49,  1,     24,   X024,2,19950727,2312, 43.8335, -10.9167, 4943,      9.0,  18.6818,  35.6669,2,  35.6680,2,    236.1,2,    236.6,6,     0.40,2,     0.03,2,     0.00,2,     0.04,2,  -999.0, 18.6802,-999.000
     64PE95N_1,  AR12,    49,  1,     23,   X023,2,19950727,2312, 43.8335, -10.9167, 4943,    101.0,  12.3155,  35.6256,2,  35.6249,2,    244.7,2,    243.4,2,     1.68,2,     6.23,2,     0.02,2,     0.40,2,  -999.0, 12.3020,-999.000
     64PE95N_1,  AR12,    49,  1,     22,   X022,2,19950727,2312, 43.8335, -10.9167, 4943,    201.0,  11.7275,  35.6006,2,-999.0000,9,    243.6,2,   -999.0,9,     2.73,2,     8.58,2,     0.02,2,     0.54,2,  -999.0, 11.7015,-999.000
     64PE95N_1,  AR12,    49,  1,     21,   X021,2,19950727,2312, 43.8335, -10.9167, 4943,    301.0,  11.4303,  35.5803,2,  35.5798,2,    239.4,2,    238.4,2,     3.21,2,     9.79,2,     0.02,2,     0.62,2,  -999.0, 11.3919,-999.000
     64PE95N_1,  AR12,    49,  1,     20,   X020,2,19950727,2312, 43.8335, -10.9167, 4943,    403.0,  11.0794,  35.5422,2,-999.0000,9,    231.4,2,   -999.0,9,     4.19,2,    11.67,2,     0.01,2,     0.73,2,  -999.0, 11.0287,-999.000
     64PE95N_1,  AR12,    49,  1,     19,   X019,2,19950727,2312, 43.8335, -10.9167, 4943,    605.0,  10.3390,  35.4921,2,-999.0000,9,    214.0,2,    212.5,2,     6.48,2,    14.53,2,     0.02,2,     0.91,2,  -999.0, 10.2654,-999.000
     64PE95N_1,  AR12,    49,  1,     18,   X018,2,19950727,2312, 43.8335, -10.9167, 4943,    806.0,  10.3546,  35.7155,2,-999.0000,9,    190.0,2,   -999.0,9,     8.18,2,    16.02,2,     0.03,2,     0.99,2,  -999.0, 10.2554,-999.000
     64PE95N_1,  AR12,    49,  1,     17,   X017,2,19950727,2312, 43.8335, -10.9167, 4943,   1011.0,   9.7383,  35.7732,2,  35.7735,2,    186.8,2,    186.9,2,     9.51,2,    16.72,2,     0.03,2,     1.05,2,  -999.0,  9.6170,-999.000
     64PE95N_1,  AR12,    49,  1,     16,   X016,2,19950727,2312, 43.8335, -10.9167, 4943,   1262.0,   8.4163,  35.6709,2,-999.0000,9,    197.6,2,   -999.0,9,    10.54,2,    17.13,2,     0.00,2,     1.09,2,  -999.0,  8.2749,-999.000
     64PE95N_1,  AR12,    49,  1,     15,   X015,2,19950727,2312, 43.8335, -10.9167, 4943,   1517.0,   5.7013,  35.2303,2,  35.2262,2,    231.2,2,    234.8,2,    11.68,2,    17.90,2,     0.02,2,     1.16,2,  -999.0,  5.5597,-999.000
     64PE95N_1,  AR12,    49,  1,     14,   X014,2,19950727,2312, 43.8335, -10.9167, 4943,   1771.0,   4.1822,  34.9996,2,-999.0000,9,    256.9,2,   -999.0,9,    11.86,2,    17.52,2,     0.03,2,     1.16,2,  -999.0,  4.0342,-999.000
     64PE95N_1,  AR12,    49,  1,     13,   X013,2,19950727,2312, 43.8335, -10.9167, 4943,   2026.0,   3.8266,  34.9790,2,  34.9791,2,    258.3,2,    261.1,2,    13.69,2,    17.61,2,     0.00,2,     1.17,2,  -999.0,  3.6591,-999.000
     64PE95N_1,  AR12,    49,  1,     12,   X012,2,19950727,2312, 43.8335, -10.9167, 4943,   2281.0,   3.5867,  34.9834,2,-999.0000,9,    252.5,2,   -999.0,9,    18.01,2,    18.29,2,     0.00,2,     1.22,2,  -999.0,  3.3978,-999.000
     64PE95N_1,  AR12,    49,  1,     11,   X011,2,19950727,2312, 43.8335, -10.9167, 4943,   2533.0,   3.2809,  34.9726,2,  34.9725,2,    247.9,2,    250.9,3,    23.52,2,    19.07,2,     0.03,2,     1.28,2,  -999.0,  3.0724,-999.000
     64PE95N_1,  AR12,    49,  1,     10,   X010,2,19950727,2312, 43.8335, -10.9167, 4943,   2790.0,   3.0157,  34.9596,2,-999.0000,9,    245.5,2,   -999.0,9,    27.31,2,    19.55,2,     0.02,2,     1.33,2,  -999.0,  2.7862,-999.000
     64PE95N_1,  AR12,    49,  1,      9,   X009,2,19950727,2312, 43.8335, -10.9167, 4943,   3046.0,   2.8212,  34.9453,2,  34.9454,2,    242.3,2,    245.2,2,    31.72,2,    20.44,2,     0.00,2,     1.38,2,  -999.0,  2.5695,-999.000
     64PE95N_1,  AR12,    49,  1,      8,   X008,2,19950727,2312, 43.8335, -10.9167, 4943,   3295.0,   2.7093,  34.9349,2,-999.0000,9,    239.5,2,   -999.0,9,    34.81,2,    21.00,2,     0.01,2,     1.42,2,  3298.0,  2.4337,   2.713
     64PE95N_1,  AR12,    49,  1,      7,   X007,4,19950727,2312, 43.8335, -10.9167, 4943,   3557.0,   2.6339,  34.9261,2,  34.9317,4,    237.7,2,    242.0,4,    35.95,4,    21.11,4,     0.03,4,     1.42,4,  -999.0,  2.3318,-999.000
     64PE95N_1,  AR12,    49,  1,      6,   X006,2,19950727,2312, 43.8335, -10.9167, 4943,   3815.0,   2.5643,  34.9174,2,-999.0000,9,    236.4,2,   -999.0,9,    39.66,2,    21.82,2,     0.02,2,     1.48,2,  3818.0,  2.2353,   2.563
     64PE95N_1,  AR12,    49,  1,      5,   X005,2,19950727,2312, 43.8335, -10.9167, 4943,   4070.0,   2.5184,  34.9095,2,  34.9089,2,    236.1,2,   -999.0,9,    41.44,2,    21.97,2,     0.01,2,     1.50,2,  -999.0,  2.1614,-999.000
     64PE95N_1,  AR12,    49,  1,      4,   X004,2,19950727,2312, 43.8335, -10.9167, 4943,   4327.0,   2.4994,  34.9044,2,-999.0000,9,    235.8,2,   -999.0,9,    42.41,2,    21.98,2,     0.02,2,     1.50,2,  4332.0,  2.1128,   2.499
     64PE95N_1,  AR12,    49,  1,      3,   X003,2,19950727,2312, 43.8335, -10.9167, 4943,   4586.0,   2.4972,  34.9008,2,  34.9008,2,    236.6,2,    238.3,2,    43.06,2,    22.09,2,     0.02,2,     1.51,2,  -999.0,  2.0794,-999.000
     64PE95N_1,  AR12,    49,  1,      2,   X002,2,19950727,2312, 43.8335, -10.9167, 4943,   4840.0,   2.5131,  34.8992,2,-999.0000,9,    237.0,2,   -999.0,9,    43.43,2,    22.17,2,     0.00,2,     1.51,2,  4835.0,  2.0633,   2.512
     64PE95N_1,  AR12,    49,  1,      1,   X001,2,19950727,2312, 43.8335, -10.9167, 4943,   5080.0,   2.5365,  34.8981,2,  34.8994,6,    237.1,2,    239.1,6,    43.71,6,    22.23,6,     0.03,6,     1.51,6,  -999.0,  2.0554,-999.000