BOTTLE,20020117WHPSIOKJU
EXPOCODE,SECT_ID,STNNBR,CASTNO,SAMPNO,BTLNBR,BTLNBR_FLAG_W,DATE,TIME,LATITUDE,LONGITUDE,DEPTH,CTDPRS,CTDTMP,CTDSAL,CTDSAL_FLAG_W,SALNTY,SALNTY_FLAG_W,CTDOXY,CTDOXY_FLAG_W,OXYGEN,OXYGEN_FLAG_W,SILCAT,SILCAT_FLAG_W,NITRAT,NITRAT_FLAG_W,NITRIT,NITRIT_FLAG_W,PHSPHT,PHSPHT_FLAG_W,REVPRS,THETA,REVTMP
,,,,,,,,,,,,DBAR,ITS-90,PSS-78,,PSS-78,,UMOL/KG,,UMOL/KG,,UMOL/KG,,UMOL/KG,,UMOL/KG,,UMOL/KG,,DBAR,ITS-90,ITS-90
     64PE95N_1,  AR12,    80,  1,     24,   X024,2,19950804,0255, 47.1503,  -6.9633, 4079,      9.0,  18.5234,  35.5156,3,  35.5053,2,    247.4,2,    247.7,6,     0.52,2,     0.03,2,     0.02,2,     0.04,2,  -999.0, 18.5219,-999.000
     64PE95N_1,  AR12,    80,  1,     23,   X023,2,19950804,0255, 47.1503,  -6.9633, 4079,     98.0,  11.8286,  35.5881,2,  35.5883,2,    249.9,2,   -999.0,9,     2.07,2,     7.28,2,     0.03,2,     0.46,2,  -999.0, 11.8159,-999.000
     64PE95N_1,  AR12,    80,  1,     22,   X022,2,19950804,0255, 47.1503,  -6.9633, 4079,    201.0,  11.4187,  35.5592,2,-999.0000,9,    248.5,2,    248.1,2,     2.88,2,     8.73,2,     0.01,2,     0.55,2,  -999.0, 11.3931,-999.000
     64PE95N_1,  AR12,    80,  1,     21,   X021,2,19950804,0255, 47.1503,  -6.9633, 4079,    302.0,  11.2499,  35.5548,2,  35.5547,2,    239.9,2,   -999.0,9,     3.52,2,    10.14,2,     0.02,2,     0.62,2,  -999.0, 11.2117,-999.000
     64PE95N_1,  AR12,    80,  1,     20,   X027,2,19950804,0255, 47.1503,  -6.9633, 4079,    402.0,  11.0155,  35.5436,2,-999.0000,9,    232.6,2,   -999.0,9,     4.28,2,    11.56,2,     0.01,2,     0.71,2,  -999.0, 10.9651,-999.000
     64PE95N_1,  AR12,    80,  1,     19,   X019,2,19950804,0255, 47.1503,  -6.9633, 4079,    504.0,  10.7475,  35.5274,2,  35.5283,2,    225.6,2,    224.8,2,     5.02,2,    12.50,2,     0.01,2,     0.77,2,  -999.0, 10.6850,-999.000
     64PE95N_1,  AR12,    80,  1,     18,   X018,2,19950804,0255, 47.1503,  -6.9633, 4079,    603.0,  10.5177,  35.5367,2,-999.0000,9,    218.3,2,   -999.0,9,     6.05,2,    13.69,2,     0.01,2,     0.86,2,  -999.0, 10.4435,-999.000
     64PE95N_1,  AR12,    80,  1,     17,   X017,2,19950804,0255, 47.1503,  -6.9633, 4079,    707.0,  10.4224,  35.5942,2,  35.5946,2,    205.1,2,   -999.0,9,     6.92,2,    14.68,2,     0.01,2,     0.92,2,  -999.0, 10.3355,-999.000
     64PE95N_1,  AR12,    80,  1,     16,   X016,2,19950804,0255, 47.1503,  -6.9633, 4079,    807.0,  10.1071,  35.6358,2,-999.0000,9,    196.4,2,    194.6,2,     8.24,2,    15.74,2,     0.02,2,     0.98,2,  -999.0, 10.0092,-999.000
     64PE95N_1,  AR12,    80,  1,     15,   X015,2,19950804,0255, 47.1503,  -6.9633, 4079,    905.0,   9.6968,  35.6427,2,  35.6441,2,    192.1,2,   -999.0,9,     9.14,2,    16.67,2,     0.02,2,     1.05,2,  -999.0,  9.5892,-999.000
     64PE95N_1,  AR12,    80,  1,     14,   X014,2,19950804,0255, 47.1503,  -6.9633, 4079,   1010.0,   9.5109,  35.6969,2,-999.0000,9,    190.5,2,   -999.0,9,     9.63,2,    16.87,2,     0.00,2,     1.06,2,  -999.0,  9.3914,-999.000
     64PE95N_1,  AR12,    80,  1,     13,   X026,2,19950804,0255, 47.1503,  -6.9633, 4079,   1264.0,   8.0497,  35.5656,2,  35.5635,2,    201.9,2,    203.8,2,    11.81,2,    17.50,2,     0.01,2,     1.11,2,  -999.0,  7.9116,-999.000
     64PE95N_1,  AR12,    80,  1,     12,   X012,2,19950804,0255, 47.1503,  -6.9633, 4079,   1519.0,   6.0603,  35.2664,2,-999.0000,9,    225.5,2,   -999.0,9,    13.22,2,    18.00,2,     0.01,2,     1.17,2,  -999.0,  5.9145,-999.000
     64PE95N_1,  AR12,    80,  1,     11,   X011,2,19950804,0255, 47.1503,  -6.9633, 4079,   1772.0,   4.7924,  35.1159,2,  35.1167,2,    239.8,2,   -999.0,9,    16.28,2,    18.33,2,     0.01,2,     1.21,2,  -999.0,  4.6360,-999.000
     64PE95N_1,  AR12,    80,  1,     10,   X025,2,19950804,0255, 47.1503,  -6.9633, 4079,   2025.0,   4.0370,  35.0326,2,-999.0000,9,    248.1,2,    249.6,2,    18.96,2,    18.52,2,     0.02,2,     1.24,2,  -999.0,  3.8663,-999.000
     64PE95N_1,  AR12,    80,  1,      9,   X009,2,19950804,0255, 47.1503,  -6.9633, 4079,   2282.0,   3.6042,  35.0084,2,  35.0090,2,    244.7,2,   -999.0,9,    24.66,2,    19.34,2,     0.02,2,     1.30,2,  -999.0,  3.4149,-999.000
     64PE95N_1,  AR12,    80,  1,      8,   X008,2,19950804,0255, 47.1503,  -6.9633, 4079,   2536.0,   3.1209,  34.9707,2,-999.0000,9,    244.0,2,   -999.0,9,    30.61,2,    20.30,2,     0.04,2,     1.39,2,  -999.0,  2.9150,-999.000
     64PE95N_1,  AR12,    80,  1,      7,   X007,2,19950804,0255, 47.1503,  -6.9633, 4079,   2792.0,   2.9323,  34.9539,2,  34.9572,2,    243.1,2,    243.8,2,    32.78,2,    20.65,2,     0.01,2,     1.40,2,  -999.0,  2.7044,-999.000
     64PE95N_1,  AR12,    80,  1,      6,   X006,2,19950804,0255, 47.1503,  -6.9633, 4079,   3045.0,   2.7380,  34.9369,2,-999.0000,9,    242.0,2,   -999.0,9,    36.34,2,    21.11,2,     0.01,2,     1.43,2,  -999.0,  2.4883,-999.000
     64PE95N_1,  AR12,    80,  1,      5,   X005,2,19950804,0255, 47.1503,  -6.9633, 4079,   3302.0,   2.6331,  34.9264,2,  34.9268,2,    241.2,2,   -999.0,9,    38.54,2,    21.52,2,     0.02,2,     1.47,2,  -999.0,  2.3586,-999.000
     64PE95N_1,  AR12,    80,  1,      4,   X004,2,19950804,0255, 47.1503,  -6.9633, 4079,   3559.0,   2.5776,  34.9196,2,-999.0000,9,    240.4,2,    239.8,2,    39.74,2,    21.61,2,     0.01,2,     1.47,2,  -999.0,  2.2768,-999.000
     64PE95N_1,  AR12,    80,  1,      3,   X003,2,19950804,0255, 47.1503,  -6.9633, 4079,   3815.0,   2.5427,  34.9146,2,  34.9146,2,    239.9,2,   -999.0,9,    41.00,2,    21.70,2,     0.02,2,     1.48,2,  -999.0,  2.2142,-999.000
     64PE95N_1,  AR12,    80,  1,      2,   X002,2,19950804,0255, 47.1503,  -6.9633, 4079,   4072.0,   2.4950,  34.9075,2,-999.0000,9,    239.5,2,   -999.0,9,    42.50,2,    21.82,2,     0.06,2,     1.34,3,  -999.0,  2.1385,-999.000
     64PE95N_1,  AR12,    80,  1,      1,   X001,2,19950804,0255, 47.1503,  -6.9633, 4079,   4192.0,   2.4906,  34.9057,2,  34.9058,6,    239.3,2,    237.4,6,    43.18,6,    22.03,6,     0.01,6,     1.50,6,  -999.0,  2.1202,-999.000
     64PE95N_1,  AR12,    81,  1,     24,   X024,2,19950804,0720, 46.9828,  -7.1328, 4365,      9.0,  18.6822,  35.6324,2,  35.6343,2,    236.6,2,    236.9,6,     0.46,2,     0.08,2,     0.02,2,     0.08,2,  -999.0, 18.6806,-999.000
     64PE95N_1,  AR12,    81,  1,     23,   X023,2,19950804,0720, 46.9828,  -7.1328, 4365,    100.0,  12.4814,  35.5913,2,  35.5923,2,    247.1,2,    246.4,2,     1.57,2,     5.99,2,     0.08,2,     0.41,2,  -999.0, 12.4680,-999.000
     64PE95N_1,  AR12,    81,  1,     22,   X022,2,19950804,0720, 46.9828,  -7.1328, 4365,    202.0,  11.3530,  35.5526,2,-999.0000,9,    247.3,2,   -999.0,9,     3.27,2,     9.52,2,     0.03,2,     0.63,2,  -999.0, 11.3274,-999.000
     64PE95N_1,  AR12,    81,  1,     21,   X021,2,19950804,0720, 46.9828,  -7.1328, 4365,    304.0,  11.0175,  35.5213,2,  35.5215,2,    241.0,2,    241.7,2,     3.93,2,    10.66,2,     0.03,2,     0.67,2,  -999.0, 10.9796,-999.000
     64PE95N_1,  AR12,    81,  1,     20,   X027,2,19950804,0720, 46.9828,  -7.1328, 4365,    403.0,  10.7868,  35.4998,2,-999.0000,9,    242.2,2,   -999.0,9,     4.25,2,    11.12,2,     0.03,2,     0.70,2,  -999.0, 10.7370,-999.000
     64PE95N_1,  AR12,    81,  1,     19,   X019,2,19950804,0720, 46.9828,  -7.1328, 4365,    504.0,  10.4367,  35.4609,2,  35.4621,2,    242.8,2,    242.3,2,     4.82,2,    11.91,2,     0.02,2,     0.76,2,  -999.0, 10.3754,-999.000
     64PE95N_1,  AR12,    81,  1,     18,   X018,2,19950804,0720, 46.9828,  -7.1328, 4365,    607.0,  10.2480,  35.4713,2,-999.0000,9,    222.5,2,   -999.0,9,     6.18,2,    13.87,2,     0.02,2,     0.86,2,  -999.0, 10.1746,-999.000
     64PE95N_1,  AR12,    81,  1,     17,   X017,2,19950804,0720, 46.9828,  -7.1328, 4365,    705.0,   9.8708,  35.4853,3,  35.4932,2,    207.7,2,    206.8,2,     7.68,2,    15.38,2,     0.03,2,     0.96,2,  -999.0,  9.7871,-999.000
     64PE95N_1,  AR12,    81,  1,     16,   X016,2,19950804,0720, 46.9828,  -7.1328, 4365,    806.0,   9.6700,  35.5519,2,-999.0000,9,    195.9,2,   -999.0,9,     8.83,2,    16.58,2,     0.01,2,     1.04,2,  -999.0,  9.5749,-999.000
     64PE95N_1,  AR12,    81,  1,     15,   X015,2,19950804,0720, 46.9828,  -7.1328, 4365,   1012.0,   9.1713,  35.6241,2,  35.6226,2,    191.3,2,    192.1,2,     9.93,2,    17.19,2,     0.03,2,     1.07,2,  -999.0,  9.0541,-999.000
     64PE95N_1,  AR12,    81,  1,     14,   X014,2,19950804,0720, 46.9828,  -7.1328, 4365,   1262.0,   6.9430,  35.3579,2,-999.0000,9,    212.6,2,   -999.0,9,    11.40,2,    17.86,2,     0.03,2,     1.15,2,  -999.0,  6.8156,-999.000
     64PE95N_1,  AR12,    81,  1,     13,   X026,2,19950804,0720, 46.9828,  -7.1328, 4365,   1518.0,   4.9607,  35.0860,2,  35.0875,2,    242.3,2,    244.4,3,    12.23,2,    18.06,2,     0.01,2,     1.17,2,  -999.0,  4.8276,-999.000
     64PE95N_1,  AR12,    81,  1,     12,   X012,2,19950804,0720, 46.9828,  -7.1328, 4365,   1773.0,   3.8573,  34.9473,2,-999.0000,9,    265.0,2,   -999.0,9,    12.23,2,    17.63,2,     0.03,2,     1.15,2,  -999.0,  3.7136,-999.000
     64PE95N_1,  AR12,    81,  1,     11,   X011,2,19950804,0720, 46.9828,  -7.1328, 4365,   2027.0,   3.7362,  34.9815,2,  34.9818,2,    256.9,2,    258.2,2,    16.91,2,    18.09,2,     0.02,2,     1.19,2,  -999.0,  3.5699,-999.000
     64PE95N_1,  AR12,    81,  1,     10,   X025,2,19950804,0720, 46.9828,  -7.1328, 4365,   2281.0,   3.3866,  34.9730,2,-999.0000,9,    252.1,2,   -999.0,9,    22.14,2,    18.82,2,     0.02,2,     1.25,2,  -999.0,  3.2011,-999.000
     64PE95N_1,  AR12,    81,  1,      9,   X009,2,19950804,0720, 46.9828,  -7.1328, 4365,   2535.0,   3.1264,  34.9683,2,  34.9691,2,    244.4,2,    245.0,2,    29.64,2,    20.08,2,     0.02,2,     1.34,2,  -999.0,  2.9205,-999.000
     64PE95N_1,  AR12,    81,  1,      8,   X008,2,19950804,0720, 46.9828,  -7.1328, 4365,   2781.0,   2.8976,  34.9513,2,-999.0000,9,    241.4,2,   -999.0,9,    34.26,2,    20.76,2,     0.02,2,     1.40,2,  2781.0,  2.6714,   2.899
     64PE95N_1,  AR12,    81,  1,      7,   X007,2,19950804,0720, 46.9828,  -7.1328, 4365,   3047.0,   2.7464,  34.9373,2,  34.9397,2,    240.7,2,    241.2,2,    35.72,2,    21.22,2,     0.02,2,     1.45,2,  -999.0,  2.4963,-999.000
     64PE95N_1,  AR12,    81,  1,      6,   X006,2,19950804,0720, 46.9828,  -7.1328, 4365,   3304.0,   2.6428,  34.9271,2,-999.0000,9,    240.2,2,   -999.0,9,    38.46,2,    21.57,2,     0.01,2,     1.46,2,  3307.0,  2.3679,   2.640
     64PE95N_1,  AR12,    81,  1,      5,   X005,2,19950804,0720, 46.9828,  -7.1328, 4365,   3559.0,   2.5632,  34.9188,2,  34.9186,2,    239.3,2,    239.2,2,    40.40,2,    21.72,2,     0.03,2,     1.46,2,  -999.0,  2.2627,-999.000
     64PE95N_1,  AR12,    81,  1,      4,   X004,2,19950804,0720, 46.9828,  -7.1328, 4365,   3816.0,   2.5137,  34.9125,2,-999.0000,9,    239.0,2,   -999.0,9,    41.51,2,    22.03,2,     0.02,2,     1.50,2,  3819.0,  2.1859,   2.515
     64PE95N_1,  AR12,    81,  1,      3,   X003,2,19950804,0720, 46.9828,  -7.1328, 4365,   4070.0,   2.4896,  34.9071,2,  34.9078,2,    238.9,2,    237.9,2,    42.67,2,    22.10,2,     0.01,2,     1.50,2,  -999.0,  2.1335,-999.000
     64PE95N_1,  AR12,    81,  1,      2,   X002,2,19950804,0720, 46.9828,  -7.1328, 4365,   4330.0,   2.4843,  34.9034,2,-999.0000,9,    237.4,2,   -999.0,9,    43.99,2,    22.22,2,     0.03,2,     1.51,2,  4324.0,  2.0978,   2.485
     64PE95N_1,  AR12,    81,  1,      1,   X001,2,19950804,0720, 46.9828,  -7.1328, 4365,   4464.0,   2.4985,  34.9029,2,  34.9033,6,    238.0,2,    238.3,6,    44.24,6,    22.22,6,     0.02,6,     1.51,6,  -999.0,  2.0955,-999.000
     64PE95N_1,  AR12,    82,  1,     24,   X024,2,19950804,1115, 46.8165,  -7.3162, 4472,      8.0,  19.0698,  35.6203,2,  35.6218,2,    235.4,2,    235.9,6,     0.36,2,     0.03,2,     0.02,2,     0.05,2,  -999.0, 19.0683,-999.000
     64PE95N_1,  AR12,    82,  1,     23,   X023,2,19950804,1115, 46.8165,  -7.3162, 4472,     99.0,  11.9264,  35.5972,2,  35.5990,2,    247.3,2,    246.3,2,     1.73,2,     7.13,2,     0.03,2,     0.47,2,  -999.0, 11.9135,-999.000
     64PE95N_1,  AR12,    82,  1,     22,   X022,2,19950804,1115, 46.8165,  -7.3162, 4472,    201.0,  11.6542,  35.5885,2,-999.0000,9,    242.8,2,   -999.0,9,     2.58,2,     8.67,2,     0.02,2,     0.54,2,  -999.0, 11.6282,-999.000
     64PE95N_1,  AR12,    82,  1,     21,   X021,2,19950804,1115, 46.8165,  -7.3162, 4472,    302.0,  11.4035,  35.6026,2,  35.6046,2,    227.0,2,    226.3,2,     3.71,2,    11.12,2,     0.01,2,     0.67,2,  -999.0, 11.3650,-999.000
     64PE95N_1,  AR12,    82,  1,     20,   X027,2,19950804,1115, 46.8165,  -7.3162, 4472,    403.0,  11.0858,  35.5827,2,-999.0000,9,    219.8,2,   -999.0,9,     4.55,2,    12.50,2,     0.02,2,     0.75,2,  -999.0, 11.0351,-999.000
     64PE95N_1,  AR12,    82,  1,     19,   X019,2,19950804,1115, 46.8165,  -7.3162, 4472,    506.0,  10.6619,  35.5392,2,  35.5400,2,    218.6,2,    218.0,2,     5.53,2,    13.55,2,     0.02,2,     0.83,2,  -999.0, 10.5995,-999.000
     64PE95N_1,  AR12,    82,  1,     18,   X018,2,19950804,1115, 46.8165,  -7.3162, 4472,    605.0,  10.2724,  35.5119,2,-999.0000,9,    212.4,2,   -999.0,9,     6.67,2,    14.79,2,     0.01,2,     0.92,2,  -999.0, 10.1991,-999.000
     64PE95N_1,  AR12,    82,  1,     17,   X017,2,19950804,1115, 46.8165,  -7.3162, 4472,    705.0,  10.0661,  35.5315,2,  35.5326,2,    203.2,2,    201.9,2,     7.58,2,    15.78,2,     0.02,2,     0.99,2,  -999.0,  9.9813,-999.000
     64PE95N_1,  AR12,    82,  1,     16,   X016,2,19950804,1115, 46.8165,  -7.3162, 4472,    809.0,   9.7168,  35.5275,2,-999.0000,9,    200.1,2,   -999.0,9,     8.52,2,    16.57,2,     0.02,2,     1.04,2,  -999.0,  9.6210,-999.000
     64PE95N_1,  AR12,    82,  1,     15,   X015,2,19950804,1115, 46.8165,  -7.3162, 4472,   1010.0,   9.7921,  35.7852,2,  35.7868,2,    187.8,2,    188.4,2,     9.43,2,    16.92,2,     0.01,2,     1.04,2,  -999.0,  9.6705,-999.000
     64PE95N_1,  AR12,    82,  1,     14,   X014,2,19950804,1115, 46.8165,  -7.3162, 4472,   1265.0,   6.9606,  35.3654,2,-999.0000,9,    214.3,2,   -999.0,9,    11.22,2,    17.98,2,     0.01,2,     1.14,2,  -999.0,  6.8327,-999.000
     64PE95N_1,  AR12,    82,  1,     13,   X026,2,19950804,1115, 46.8165,  -7.3162, 4472,   1517.0,   5.0508,  35.1024,2,  35.0982,2,    241.2,2,    245.1,2,    12.03,2,    18.12,2,     0.02,2,     1.18,2,  -999.0,  4.9168,-999.000
     64PE95N_1,  AR12,    82,  1,     12,   X012,2,19950804,1115, 46.8165,  -7.3162, 4472,   1771.0,   4.0804,  34.9878,2,-999.0000,9,    256.5,2,   -999.0,9,    13.29,2,    17.88,2,     0.04,2,     1.18,2,  -999.0,  3.9338,-999.000
     64PE95N_1,  AR12,    82,  1,     11,   X011,4,19950804,1115, 46.8165,  -7.3162, 4472,   2030.0,   3.7610,  34.9847,2,  35.5387,4,    255.4,2,    231.2,4,     5.02,4,    10.96,4,     0.02,4,     0.70,4,  -999.0,  3.5941,-999.000
     64PE95N_1,  AR12,    82,  1,     10,   X025,2,19950804,1115, 46.8165,  -7.3162, 4472,   2280.0,   3.4535,  34.9832,2,-999.0000,9,    249.8,2,   -999.0,9,    23.06,2,    19.20,2,     0.02,2,     1.28,2,  -999.0,  3.2670,-999.000
     64PE95N_1,  AR12,    82,  1,      9,   X009,2,19950804,1115, 46.8165,  -7.3162, 4472,   2535.0,   3.1606,  34.9700,2,  34.9708,2,    246.4,2,    249.0,2,    28.15,2,    20.17,2,     0.01,2,     1.35,2,  -999.0,  2.9541,-999.000
     64PE95N_1,  AR12,    82,  1,      8,   X008,2,19950804,1115, 46.8165,  -7.3162, 4472,   2792.0,   2.9067,  34.9514,2,-999.0000,9,    245.0,2,   -999.0,9,    32.53,2,    20.62,2,     0.01,2,     1.39,2,  2794.0,  2.6792,   2.906
     64PE95N_1,  AR12,    82,  1,      7,   X007,2,19950804,1115, 46.8165,  -7.3162, 4472,   3045.0,   2.7716,  34.9395,2,  34.9426,2,    243.7,2,    244.3,2,    34.62,2,    21.05,2,     0.01,2,     1.42,2,  -999.0,  2.5210,-999.000
     64PE95N_1,  AR12,    82,  1,      6,   X006,2,19950804,1115, 46.8165,  -7.3162, 4472,   3300.0,   2.6722,  34.9308,2,-999.0000,9,    242.9,2,   -999.0,9,    36.70,2,    21.47,2,     0.01,2,     1.44,2,  3303.0,  2.3970,   2.661
     64PE95N_1,  AR12,    82,  1,      5,   X005,2,19950804,1115, 46.8165,  -7.3162, 4472,   3559.0,   2.5903,  34.9212,2,  34.9218,2,    241.6,2,    240.5,2,    38.99,2,    21.90,2,     0.02,2,     1.47,2,  -999.0,  2.2891,-999.000
     64PE95N_1,  AR12,    82,  1,      4,   X004,2,19950804,1115, 46.8165,  -7.3162, 4472,   3817.0,   2.5382,  34.9143,2,-999.0000,9,    241.0,2,   -999.0,9,    40.75,2,    21.95,2,     0.02,2,     1.48,2,  -999.0,  2.2096,   2.537
     64PE95N_1,  AR12,    82,  1,      3,   X003,2,19950804,1115, 46.8165,  -7.3162, 4472,   4074.0,   2.4987,  34.9081,2,  34.9088,2,    240.5,2,    241.0,2,    42.32,2,    22.38,2,     0.02,2,     1.50,2,  -999.0,  2.1419,-999.000
     64PE95N_1,  AR12,    82,  1,      2,   X002,2,19950804,1115, 46.8165,  -7.3162, 4472,   4326.0,   2.4852,  34.9036,2,-999.0000,9,    239.6,2,   -999.0,9,    43.52,2,    22.33,2,     0.01,2,     1.51,2,  4321.0,  2.0991,   2.485
     64PE95N_1,  AR12,    82,  1,      1,   X001,2,19950804,1115, 46.8165,  -7.3162, 4472,   4581.0,   2.4985,  34.9015,2,  34.9023,6,    239.2,2,    238.0,6,    44.37,6,    22.26,6,     0.02,6,     1.51,6,  -999.0,  2.0813,-999.000