BOTTLE,20020117WHPSIOKJU
EXPOCODE,SECT_ID,STNNBR,CASTNO,SAMPNO,BTLNBR,BTLNBR_FLAG_W,DATE,TIME,LATITUDE,LONGITUDE,DEPTH,CTDPRS,CTDTMP,CTDSAL,CTDSAL_FLAG_W,SALNTY,SALNTY_FLAG_W,CTDOXY,CTDOXY_FLAG_W,OXYGEN,OXYGEN_FLAG_W,SILCAT,SILCAT_FLAG_W,NITRAT,NITRAT_FLAG_W,NITRIT,NITRIT_FLAG_W,PHSPHT,PHSPHT_FLAG_W,REVPRS,THETA,REVTMP
,,,,,,,,,,,,DBAR,ITS-90,PSS-78,,PSS-78,,UMOL/KG,,UMOL/KG,,UMOL/KG,,UMOL/KG,,UMOL/KG,,UMOL/KG,,DBAR,ITS-90,ITS-90
     64PE95N_1,  AR12,    89,  1,     19,   X019,2,19950805,1926, 46.2337,  -4.6528, 1435,      9.0,  19.8233,  35.0862,2,  35.0877,2,    238.2,2,    238.1,6,     0.72,2,     0.00,2,     0.01,2,     0.04,2,  -999.0, 19.8216,-999.000
     64PE95N_1,  AR12,    89,  1,     18,   X018,2,19950805,1926, 46.2337,  -4.6528, 1435,     50.0,  13.8201,  35.3466,2,-999.0000,9,    242.0,2,   -999.0,9,     1.09,2,     2.65,2,     0.19,2,     0.16,2,  -999.0, 13.8129,-999.000
     64PE95N_1,  AR12,    89,  1,     17,   X017,2,19950805,1926, 46.2337,  -4.6528, 1435,    102.0,  12.1307,  35.5697,2,  35.5702,2,    243.4,2,    243.3,2,     1.87,2,     6.26,2,     0.03,2,     0.40,2,  -999.0, 12.1172,-999.000
     64PE95N_1,  AR12,    89,  1,     16,   X016,2,19950805,1926, 46.2337,  -4.6528, 1435,    150.0,  11.7561,  35.5776,2,-999.0000,9,    245.4,2,   -999.0,9,     2.30,2,     7.31,2,     0.03,2,     0.46,2,  -999.0, 11.7367,-999.000
     64PE95N_1,  AR12,    89,  1,     15,   X015,2,19950805,1926, 46.2337,  -4.6528, 1435,    202.0,  11.6279,  35.5711,2,  35.5702,2,    246.9,2,    248.4,2,     2.36,2,     7.60,2,     0.03,2,     0.49,2,  -999.0, 11.6019,-999.000
     64PE95N_1,  AR12,    89,  1,     14,   X014,2,19950805,1926, 46.2337,  -4.6528, 1435,    302.0,  11.3620,  35.5851,2,-999.0000,9,    231.5,2,   -999.0,9,     3.48,2,    10.28,2,     0.01,2,     0.64,2,  -999.0, 11.3235,-999.000
     64PE95N_1,  AR12,    89,  1,     13,   X026,2,19950805,1926, 46.2337,  -4.6528, 1435,    404.0,  11.1814,  35.5756,2,  35.5754,2,    227.2,2,    227.8,2,     4.00,2,    11.31,2,     0.02,2,     0.71,2,  -999.0, 11.1303,-999.000
     64PE95N_1,  AR12,    89,  1,     12,   X029,2,19950805,1926, 46.2337,  -4.6528, 1435,    506.0,  10.9107,  35.5715,2,-999.0000,9,    218.8,2,   -999.0,9,     4.95,2,    12.65,2,     0.03,2,     0.79,2,  -999.0, 10.8474,-999.000
     64PE95N_1,  AR12,    89,  1,     11,   X011,2,19950805,1926, 46.2337,  -4.6528, 1435,    595.0,  10.6471,  35.5832,2,  35.5846,2,    211.0,2,    210.9,2,     5.96,2,    13.82,2,     0.02,2,     0.87,2,  -999.0, 10.5734,-999.000
     64PE95N_1,  AR12,    89,  1,     10,   X025,2,19950805,1926, 46.2337,  -4.6528, 1435,    707.0,  10.3575,  35.6253,2,-999.0000,9,    201.7,2,   -999.0,9,     7.20,2,    15.03,2,     0.03,2,     0.97,2,  -999.0, 10.2709,-999.000
     64PE95N_1,  AR12,    89,  1,      9,   X009,2,19950805,1926, 46.2337,  -4.6528, 1435,    808.0,  10.0837,  35.6745,2,  35.6741,2,    195.3,2,    194.2,2,     8.14,2,    15.96,2,     0.02,2,     1.00,2,  -999.0,  9.9858,-999.000
     64PE95N_1,  AR12,    89,  1,      8,   X008,2,19950805,1926, 46.2337,  -4.6528, 1435,    909.0,   9.8381,  35.7083,2,-999.0000,9,    192.1,2,   -999.0,9,     9.01,2,    16.44,2,     0.03,2,     1.04,2,   908.0,  9.7290,   9.843
     64PE95N_1,  AR12,    89,  1,      7,   X007,2,19950805,1926, 46.2337,  -4.6528, 1435,   1010.0,   9.5407,  35.7512,2,  35.7500,2,    189.2,2,    188.5,2,     9.77,2,    17.01,2,     0.01,2,     1.07,2,  -999.0,  9.4209,-999.000
     64PE95N_1,  AR12,    89,  1,      6,   X006,2,19950805,1926, 46.2337,  -4.6528, 1435,   1112.0,   9.2891,  35.7299,2,-999.0000,9,    190.4,2,   -999.0,9,    10.14,2,    17.04,2,     0.04,2,     1.08,2,  1112.0,  9.1586,   9.273
     64PE95N_1,  AR12,    89,  1,      5,   X005,2,19950805,1926, 46.2337,  -4.6528, 1435,   1212.0,   8.3487,  35.6226,2,  35.6215,2,    198.2,2,    199.1,2,    11.19,2,    17.56,2,     0.03,2,     1.12,2,  -999.0,  8.2139,-999.000
     64PE95N_1,  AR12,    89,  1,      4,   X004,2,19950805,1926, 46.2337,  -4.6528, 1435,   1314.0,   7.1461,  35.4510,2,-999.0000,9,    212.0,2,   -999.0,9,    12.73,2,    17.92,2,     0.02,2,     1.17,2,  1312.0,  7.0110,   7.142
     64PE95N_1,  AR12,    89,  1,      2,   X002,2,19950805,1926, 46.2337,  -4.6528, 1435,   1415.0,   6.2866,  35.3355,2,  35.3351,2,    222.2,2,   -999.0,9,    14.42,2,    17.87,2,     0.07,2,     1.16,2,  1410.0,  6.1492,   6.284
     64PE95N_1,  AR12,    89,  1,      3,   X028,2,19950805,1926, 46.2337,  -4.6528, 1435,   1416.0,   6.2865,  35.3354,2,  35.3347,2,    222.0,2,    222.2,2,    14.41,2,    18.29,2,     0.02,2,     1.19,2,  -999.0,  6.1491,-999.000
     64PE95N_1,  AR12,    89,  1,      1,   X001,2,19950805,1926, 46.2337,  -4.6528, 1435,   1454.0,   6.1229,  35.3124,2,  35.3132,6,    225.6,2,    222.9,2,    14.73,6,    18.25,6,     0.04,6,     1.19,6,  -999.0,  5.9832,-999.000
     64PE95N_1,  AR12,    90,  1,     16,   X016,2,19950805,2114, 46.2838,  -4.5775, 1167,     10.0,  18.3026,  35.1607,3,  35.1682,2,    245.0,2,    244.9,6,     0.77,2,     0.03,2,     0.03,2,     0.05,2,  -999.0, 18.3008,-999.000
     64PE95N_1,  AR12,    90,  1,     15,   X015,2,19950805,2114, 46.2838,  -4.5775, 1167,     52.0,  14.4588,  35.3044,2,  35.3050,2,    240.9,2,    241.7,2,     1.01,2,     1.55,2,     0.25,2,     0.12,2,  -999.0, 14.4511,-999.000
     64PE95N_1,  AR12,    90,  1,     14,   X014,2,19950805,2114, 46.2838,  -4.5775, 1167,    100.0,  12.1903,  35.5297,2,-999.0000,9,    233.7,2,   -999.0,9,     2.13,2,     6.35,2,     0.06,2,     0.41,2,  -999.0, 12.1771,-999.000
     64PE95N_1,  AR12,    90,  1,     13,   X026,2,19950805,2114, 46.2838,  -4.5775, 1167,    152.0,  11.8122,  35.5788,2,  35.5782,2,    245.0,2,    245.9,2,     2.20,2,     7.09,2,     0.04,2,     0.45,2,  -999.0, 11.7924,-999.000
     64PE95N_1,  AR12,    90,  1,     12,   X029,2,19950805,2114, 46.2838,  -4.5775, 1167,    203.0,  11.6636,  35.5755,2,-999.0000,9,    244.7,2,   -999.0,9,     2.48,2,     7.72,2,     0.05,2,     0.49,2,  -999.0, 11.6375,-999.000
     64PE95N_1,  AR12,    90,  1,     11,   X011,2,19950805,2114, 46.2838,  -4.5775, 1167,    303.0,  11.4437,  35.5879,2,  35.5871,2,    233.6,2,    233.8,2,     3.36,2,     9.84,2,     0.04,2,     0.61,2,  -999.0, 11.4050,-999.000
     64PE95N_1,  AR12,    90,  1,     10,   X025,2,19950805,2114, 46.2838,  -4.5775, 1167,    404.0,  11.1976,  35.5809,2,-999.0000,9,    226.0,2,   -999.0,9,     4.16,2,    11.14,2,     0.04,2,     0.71,2,  -999.0, 11.1465,-999.000
     64PE95N_1,  AR12,    90,  1,      9,   X009,2,19950805,2114, 46.2838,  -4.5775, 1167,    504.0,  10.8999,  35.5740,2,  35.5728,2,    218.9,2,    219.7,2,     5.04,2,    12.62,2,     0.05,2,     0.79,2,  -999.0, 10.8368,-999.000
     64PE95N_1,  AR12,    90,  1,      8,   X008,2,19950805,2114, 46.2838,  -4.5775, 1167,    605.0,  10.5991,  35.5844,2,-999.0000,9,    210.2,2,   -999.0,9,     6.18,2,    14.04,2,     0.03,2,     0.88,2,   604.0, 10.5243,  10.601
     64PE95N_1,  AR12,    90,  1,      7,   X007,2,19950805,2114, 46.2838,  -4.5775, 1167,    700.0,  10.3708,  35.6202,2,  35.6202,2,    200.4,2,    200.1,2,     7.19,2,    15.21,2,     0.04,2,     0.94,2,  -999.0, 10.2850,-999.000
     64PE95N_1,  AR12,    90,  1,      6,   X006,2,19950805,2114, 46.2838,  -4.5775, 1167,    809.0,  10.1517,  35.6750,2,-999.0000,9,    193.6,2,   -999.0,9,     8.16,2,    16.00,2,     0.05,2,     1.00,2,   810.0, 10.0533,  10.150
     64PE95N_1,  AR12,    90,  1,      5,   X005,2,19950805,2114, 46.2838,  -4.5775, 1167,    910.0,   9.8975,  35.7119,2,  35.7120,2,    190.5,2,    190.9,2,     8.92,2,    16.51,2,     0.04,2,     1.04,2,  -999.0,  9.7879,-999.000
     64PE95N_1,  AR12,    90,  1,      4,   X004,2,19950805,2114, 46.2838,  -4.5775, 1167,   1009.0,   9.7027,  35.7549,2,-999.0000,9,    188.0,2,   -999.0,9,     9.55,2,    16.84,2,     0.04,2,     1.07,2,  1005.0,  9.5819,   9.702
     64PE95N_1,  AR12,    90,  1,      2,   X002,2,19950805,2114, 46.2838,  -4.5775, 1167,   1112.0,   9.2530,  35.7262,2,  35.7264,2,    191.6,2,    191.0,2,    10.21,2,    17.17,2,     0.04,2,     1.08,2,  1107.0,  9.1227,   9.254
     64PE95N_1,  AR12,    90,  1,      3,   X028,2,19950805,2114, 46.2838,  -4.5775, 1167,   1112.0,   9.2503,  35.7257,2,  35.7258,2,    192.4,2,    191.3,2,    10.20,2,    17.16,2,     0.05,2,     1.08,2,  -999.0,  9.1201,-999.000
     64PE95N_1,  AR12,    90,  1,      1,   X001,2,19950805,2114, 46.2838,  -4.5775, 1167,   1185.0,   8.6831,  35.6596,2,  35.6606,6,    196.3,2,    196.3,6,    10.99,6,    17.33,6,     0.04,6,     1.10,6,  -999.0,  8.5487,-999.000
     64PE95N_1,  AR12,    91,  1,      9,   X009,2,19950805,2245, 46.3325,  -4.5037,  695,      8.0,  19.8285,  35.0808,3,  35.0915,2,    237.6,2,    236.2,2,     0.68,2,     0.04,2,     0.01,2,     0.03,2,  -999.0, 19.8270,-999.000
     64PE95N_1,  AR12,    91,  1,      8,   X008,2,19950805,2245, 46.3325,  -4.5037,  695,     49.0,  14.5480,  35.3250,2,-999.0000,9,    232.5,2,   -999.0,9,     1.02,2,     1.78,2,     0.25,2,     0.13,2,    50.0, 14.5407,  14.716
     64PE95N_1,  AR12,    91,  1,      7,   X007,2,19950805,2245, 46.3325,  -4.5037,  695,    100.0,  12.1318,  35.5150,2,  35.5179,2,    231.2,2,    233.4,2,     2.27,2,     6.70,2,     0.05,2,     0.41,2,  -999.0, 12.1187,-999.000
     64PE95N_1,  AR12,    91,  1,      6,   X006,2,19950805,2245, 46.3325,  -4.5037,  695,    147.0,  11.7167,  35.5580,2,-999.0000,9,    230.1,2,   -999.0,9,     2.80,2,     8.21,2,     0.02,2,     0.50,2,   144.0, 11.6978,  11.715
     64PE95N_1,  AR12,    91,  1,      5,   X005,4,19950805,2245, 46.3325,  -4.5037,  695,    200.0,  11.6380,  35.5758,2,  35.5613,4,    229.2,2,    237.7,4,     2.64,4,     8.07,4,     0.02,4,     0.50,4,  -999.0, 11.6122,-999.000
     64PE95N_1,  AR12,    91,  1,      4,   X004,2,19950805,2245, 46.3325,  -4.5037,  695,    303.0,  11.4080,  35.5811,2,-999.0000,9,    227.8,2,   -999.0,9,     3.25,2,     9.41,2,     0.03,2,     0.58,2,   302.0, 11.3693,  11.409
     64PE95N_1,  AR12,    91,  1,      2,   X002,2,19950805,2245, 46.3325,  -4.5037,  695,    406.0,  11.2897,  35.5809,2,  35.5796,2,    226.8,2,    228.3,2,     3.99,2,    10.91,2,     0.01,2,     0.67,2,   403.0, 11.2380,  11.267
     64PE95N_1,  AR12,    91,  1,      3,   X028,2,19950805,2245, 46.3325,  -4.5037,  695,    406.0,  11.3030,  35.5809,2,  35.5795,2,    226.8,2,    227.6,2,     4.01,2,    10.90,2,     0.03,2,     0.68,2,  -999.0, 11.2513,-999.000
     64PE95N_1,  AR12,    91,  1,      1,   X001,2,19950805,2245, 46.3325,  -4.5037,  695,    457.0,  11.1654,  35.5822,2,  35.5803,6,    226.5,2,    225.7,6,     4.35,6,    11.32,6,     0.03,6,     0.70,6,  -999.0, 11.1074,-999.000
     64PE95N_1,  AR12,    92,  1,      5,   X005,2,19950806,0007, 46.4323,  -4.3535,  152,      9.0,  19.3819,  35.0636,3,  35.0826,2,    237.5,2,    238.3,2,     0.68,2,     0.04,2,     0.00,2,     0.02,2,  -999.0, 19.3802,-999.000
     64PE95N_1,  AR12,    92,  1,      4,   X004,2,19950806,0007, 46.4323,  -4.3535,  152,     51.0,  13.6236,  35.4104,2,-999.0000,9,    233.0,2,   -999.0,9,     1.33,2,     3.82,2,     0.17,2,     0.24,2,    49.0, 13.6163,  14.013
     64PE95N_1,  AR12,    92,  1,      2,   X002,2,19950806,0007, 46.4323,  -4.3535,  152,    100.0,  12.1095,  35.5157,2,  35.5176,2,    231.4,2,    231.9,2,     2.33,2,     6.90,2,     0.06,2,     0.43,2,    98.0, 12.0963,  12.105
     64PE95N_1,  AR12,    92,  1,      3,   X028,2,19950806,0007, 46.4323,  -4.3535,  152,    100.0,  12.1100,  35.5159,2,  35.5180,2,    231.4,2,    231.9,2,     2.36,2,     6.95,2,     0.06,2,     0.43,2,  -999.0, 12.0968,-999.000
     64PE95N_1,  AR12,    92,  1,      1,   X001,2,19950806,0007, 46.4323,  -4.3535,  152,    152.0,  11.9094,  35.5428,2,  35.5401,6,    230.0,2,    230.2,6,     2.84,6,     7.56,6,     0.08,6,     0.48,6,  -999.0, 11.8895,-999.000
     64PE95N_1,  AR12,    93,  1,      7,   X007,2,19950806,0108, 46.4998,  -4.2473,  148,      8.0,  19.3567,  35.0877,3,  35.1001,2,    238.9,2,    238.9,2,     0.69,2,     0.00,2,     0.02,2,     0.03,2,  -999.0, 19.3552,-999.000
     64PE95N_1,  AR12,    93,  1,      6,   X006,2,19950806,0108, 46.4998,  -4.2473,  148,     49.0,  13.8583,  35.3833,2,-999.0000,9,    239.3,2,   -999.0,9,     1.18,2,     2.80,2,     0.17,2,     0.18,2,  -999.0, 13.8512,  13.918
     64PE95N_1,  AR12,    93,  1,      5,   X005,2,19950806,0108, 46.4998,  -4.2473,  148,    100.0,  11.9701,  35.5157,2,  35.5149,2,    227.0,2,    228.1,2,     2.73,2,     7.34,2,     0.04,2,     0.46,2,  -999.0, 11.9571,-999.000
     64PE95N_1,  AR12,    93,  1,      2,   X002,2,19950806,0108, 46.4998,  -4.2473,  148,    112.0,  11.9092,  35.5176,2,-999.0000,9,    227.4,2,   -999.0,9,  -999.00,9,  -999.00,9,  -999.00,9,  -999.00,9,   112.0, 11.8946,  11.909
     64PE95N_1,  AR12,    93,  1,      3,   X028,2,19950806,0108, 46.4998,  -4.2473,  148,    112.0,  11.9104,  35.5175,2,  35.5157,2,    227.8,2,    226.6,2,     2.88,2,     7.52,2,     0.04,2,     0.47,2,  -999.0, 11.8958,-999.000
     64PE95N_1,  AR12,    93,  1,      4,   X004,2,19950806,0108, 46.4998,  -4.2473,  148,    112.0,  11.9116,  35.5174,2,  35.5154,2,    227.3,2,    227.0,2,     2.86,2,     7.47,2,     0.05,2,     0.47,2,   110.0, 11.8970,  11.910
     64PE95N_1,  AR12,    93,  1,      1,   X001,2,19950806,0108, 46.4998,  -4.2473,  148,    149.0,  11.9148,  35.5242,2,  35.5218,6,    227.9,2,    227.5,6,     2.92,6,     7.48,6,     0.07,6,     0.48,6,  -999.0, 11.8953,-999.000
     64PE95N_1,  AR12,    94,  1,      5,   X005,2,19950806,0741, 45.6663,  -3.3317,  134,     12.0,  21.9466,  34.4028,2,  34.4055,2,    224.2,2,    221.0,2,     0.45,2,     0.06,2,     0.01,2,     0.03,2,  -999.0, 21.9443,-999.000
     64PE95N_1,  AR12,    94,  1,      4,   X030,2,19950806,0741, 45.6663,  -3.3317,  134,     51.0,  13.5094,  35.3682,2,-999.0000,9,    234.6,2,   -999.0,9,     1.03,2,     3.29,2,     0.16,2,     0.14,2,    50.0, 13.5022,  13.512
     64PE95N_1,  AR12,    94,  1,      2,   X002,2,19950806,0741, 45.6663,  -3.3317,  134,    102.0,  12.1173,  35.5511,2,  35.5485,2,    230.1,2,    230.6,2,     2.47,2,     6.82,2,     0.03,2,     0.42,2,   103.0, 12.1038,  12.118
     64PE95N_1,  AR12,    94,  1,      3,   X028,2,19950806,0741, 45.6663,  -3.3317,  134,    102.0,  12.1168,  35.5506,2,  35.5473,2,    229.4,2,    230.9,2,     2.43,2,     6.77,2,     0.04,2,     0.41,2,  -999.0, 12.1033,-999.000
     64PE95N_1,  AR12,    94,  1,      1,   X001,2,19950806,0741, 45.6663,  -3.3317,  134,    134.0,  12.0243,  35.5598,2,  35.5568,6,    225.9,2,    231.1,6,     2.63,6,     7.19,6,     0.04,6,     0.45,6,  -999.0, 12.0067,-999.000
     64PE95N_1,  AR12,    95,  1,      6,   X006,2,19950806,0855, 45.5990,  -3.4398,  205,     11.0,  21.5094,  35.3644,3,  35.3783,2,    228.4,2,    226.9,2,     0.47,2,     0.03,2,     0.15,2,     0.03,2,  -999.0, 21.5073,-999.000
     64PE95N_1,  AR12,    95,  1,      5,   X005,2,19950806,0855, 45.5990,  -3.4398,  205,     50.0,  13.4246,  35.3688,2,-999.0000,9,    238.3,2,    237.4,6,     1.03,2,     3.28,2,     0.04,2,     0.15,2,  -999.0, 13.4175,-999.000
     64PE95N_1,  AR12,    95,  1,      4,   X004,2,19950806,0855, 45.5990,  -3.4398,  205,    102.0,  11.9786,  35.5738,2,  35.5785,2,    239.6,2,   -999.0,9,     2.32,2,     7.10,2,     0.02,2,     0.45,2,   100.0, 11.9652,  11.981
     64PE95N_1,  AR12,    95,  1,      2,   X030,2,19950806,0855, 45.5990,  -3.4398,  205,    152.0,  11.7416,  35.5803,2,  35.5783,2,    241.5,2,    237.0,2,     2.69,2,     8.13,2,     0.03,2,     0.50,2,   150.0, 11.7219,  11.741
     64PE95N_1,  AR12,    95,  1,      3,   X028,2,19950806,0855, 45.5990,  -3.4398,  205,    152.0,  11.7416,  35.5803,2,  35.5788,2,    240.9,2,    237.2,2,     2.68,2,     8.11,2,     0.01,2,     0.50,2,  -999.0, 11.7219,-999.000
     64PE95N_1,  AR12,    95,  1,      1,   X001,2,19950806,0855, 45.5990,  -3.4398,  205,    205.0,  11.6419,  35.5813,2,  35.5788,6,    239.8,2,    236.0,6,     2.97,6,     8.65,6,     0.03,6,     0.54,6,  -999.0, 11.6156,-999.000
     64PE95N_1,  AR12,    96,  1,     11,   X011,4,19950806,0953, 45.5495,  -3.5150,  700,     11.0,  21.4021,  35.0605,2,  35.5757,4,    260.0,2,   -999.0,9,     3.92,4,     9.59,4,     0.08,4,     0.59,4,  -999.0, 21.3999,-999.000
     64PE95N_1,  AR12,    96,  1,     10,   X025,2,19950806,0953, 45.5495,  -3.5150,  700,     51.0,  13.2125,  35.5648,2,-999.0000,9,    245.6,2,   -999.0,9,     0.92,2,     1.21,2,     0.19,2,     0.15,2,  -999.0, 13.2054,-999.000
     64PE95N_1,  AR12,    96,  1,      9,   X009,2,19950806,0953, 45.5495,  -3.5150,  700,    100.0,  12.1508,  35.5751,2,  35.5758,2,    244.0,2,    243.5,2,     1.77,2,     5.81,2,     0.05,2,     0.37,2,  -999.0, 12.1375,-999.000
     64PE95N_1,  AR12,    96,  1,      8,   X008,2,19950806,0953, 45.5495,  -3.5150,  700,    150.0,  11.9338,  35.5936,2,-999.0000,9,    237.3,2,   -999.0,9,     2.10,2,     6.87,2,     0.07,2,     0.43,2,   148.0, 11.9142,  11.942
     64PE95N_1,  AR12,    96,  1,      7,   X007,2,19950806,0953, 45.5495,  -3.5150,  700,    203.0,  11.7172,  35.5864,2,  35.5866,2,    236.6,3,    244.1,2,     2.58,2,     7.78,2,     0.08,2,     0.49,2,  -999.0, 11.6910,-999.000
     64PE95N_1,  AR12,    96,  1,      6,   X006,2,19950806,0953, 45.5495,  -3.5150,  700,    302.0,  11.4474,  35.5862,2,-999.0000,9,    230.1,2,   -999.0,9,     3.45,2,     9.81,2,     0.06,2,     0.60,2,   302.0, 11.4088,  11.452
     64PE95N_1,  AR12,    96,  1,      5,   X005,2,19950806,0953, 45.5495,  -3.5150,  700,    404.0,  11.1621,  35.5795,2,  35.5800,2,    223.6,2,    226.9,2,     4.22,2,    11.40,2,     0.05,2,     0.70,2,  -999.0, 11.1110,-999.000
     64PE95N_1,  AR12,    96,  1,      4,   X004,2,19950806,0953, 45.5495,  -3.5150,  700,    505.0,  10.8034,  35.5731,2,-999.0000,9,    214.5,2,   -999.0,9,     5.39,2,    12.98,2,     0.05,2,     0.80,2,   504.0, 10.7406,  10.805
     64PE95N_1,  AR12,    96,  1,      2,   X030,2,19950806,0953, 45.5495,  -3.5150,  700,    604.0,  10.5244,  35.5897,2,  35.5903,2,    205.8,2,    205.9,2,     6.59,2,    14.16,2,     0.08,2,     0.88,2,   601.0, 10.4500,  10.520
     64PE95N_1,  AR12,    96,  1,      3,   X028,2,19950806,0953, 45.5495,  -3.5150,  700,    604.0,  10.5273,  35.5899,2,  35.5905,2,    206.0,2,    205.8,2,     6.64,2,    14.35,2,     0.06,2,     0.89,2,  -999.0, 10.4529,-999.000
     64PE95N_1,  AR12,    96,  1,      1,   X001,2,19950806,0953, 45.5495,  -3.5150,  700,    724.0,  10.2115,  35.6881,3,  35.6825,6,    194.3,2,    191.6,6,     8.20,6,    15.94,6,     0.04,6,     1.00,6,  -999.0, 10.1234,-999.000