BOTTLE,20020117WHPSIOKJU
EXPOCODE,SECT_ID,STNNBR,CASTNO,SAMPNO,BTLNBR,BTLNBR_FLAG_W,DATE,TIME,LATITUDE,LONGITUDE,DEPTH,CTDPRS,CTDTMP,CTDSAL,CTDSAL_FLAG_W,SALNTY,SALNTY_FLAG_W,CTDOXY,CTDOXY_FLAG_W,OXYGEN,OXYGEN_FLAG_W,SILCAT,SILCAT_FLAG_W,NITRAT,NITRAT_FLAG_W,NITRIT,NITRIT_FLAG_W,PHSPHT,PHSPHT_FLAG_W,REVPRS,THETA,REVTMP
,,,,,,,,,,,,DBAR,ITS-90,PSS-78,,PSS-78,,UMOL/KG,,UMOL/KG,,UMOL/KG,,UMOL/KG,,UMOL/KG,,UMOL/KG,,DBAR,ITS-90,ITS-90
     64PE95N_1,  AR12,    26,  1,     24,   X024,2,19950724,1125, 46.0663,  -6.5198, 4719,     10.0,  19.0647,  35.5869,2,  35.5903,2,    237.7,2,    238.4,6,     0.41,2,     0.01,2,     0.04,2,     0.00,2,  -999.0, 19.0629,-999.000
     64PE95N_1,  AR12,    26,  1,     23,   X023,2,19950724,1125, 46.0663,  -6.5198, 4719,    101.0,  11.7961,  35.5783,2,  35.5760,2,    248.0,2,    246.1,2,     2.18,2,     7.31,2,     0.05,2,     0.43,2,  -999.0, 11.7830,-999.000
     64PE95N_1,  AR12,    26,  1,     22,   X022,2,19950724,1125, 46.0663,  -6.5198, 4719,    203.0,  11.4261,  35.5554,2,-999.0000,9,    251.7,2,   -999.0,9,     2.81,2,     8.59,2,     0.01,2,     0.50,2,  -999.0, 11.4003,-999.000
     64PE95N_1,  AR12,    26,  1,     21,   X021,2,19950724,1125, 46.0663,  -6.5198, 4719,    305.0,  11.2785,  35.5535,2,  35.5534,2,    242.1,2,    242.0,2,     3.45,2,     9.86,2,     0.03,2,     0.58,2,  -999.0, 11.2400,-999.000
     64PE95N_1,  AR12,    26,  1,     20,   X020,2,19950724,1125, 46.0663,  -6.5198, 4719,    405.0,  11.1757,  35.5666,2,-999.0000,9,    233.3,2,   -999.0,9,     3.97,2,    11.13,2,     0.03,2,     0.65,2,  -999.0, 11.1245,-999.000
     64PE95N_1,  AR12,    26,  1,     19,   X019,2,19950724,1125, 46.0663,  -6.5198, 4719,    503.0,  10.8730,  35.5471,2,  35.5485,2,    225.8,2,    224.4,2,     4.90,2,    12.51,2,     0.03,2,     0.75,2,  -999.0, 10.8102,-999.000
     64PE95N_1,  AR12,    26,  1,     18,   X018,2,19950724,1125, 46.0663,  -6.5198, 4719,    602.0,  10.5235,  35.5547,2,-999.0000,9,    211.9,2,   -999.0,9,     6.24,2,    14.28,2,     0.02,2,     0.86,2,  -999.0, 10.4494,-999.000
     64PE95N_1,  AR12,    26,  1,     17,   X017,2,19950724,1125, 46.0663,  -6.5198, 4719,    810.0,  10.0543,  35.6486,2,  35.6504,2,    194.2,2,    193.2,2,     8.54,2,    16.36,2,     0.03,2,     1.02,2,  -999.0,  9.9564,-999.000
     64PE95N_1,  AR12,    26,  1,     16,   X016,2,19950724,1125, 46.0663,  -6.5198, 4719,   1005.0,   9.5421,  35.7323,2,-999.0000,9,    189.5,2,   -999.0,9,     9.78,2,    16.95,2,     0.03,2,     1.05,2,  -999.0,  9.4230,-999.000
     64PE95N_1,  AR12,    26,  1,     15,   X015,2,19950724,1125, 46.0663,  -6.5198, 4719,   1264.0,   7.9484,  35.5652,2,  35.5633,2,    202.2,2,    204.8,2,    11.57,2,    17.71,2,     0.04,2,     1.11,2,  -999.0,  7.8113,-999.000
     64PE95N_1,  AR12,    26,  1,     14,   X014,2,19950724,1125, 46.0663,  -6.5198, 4719,   1523.0,   5.3311,  35.1591,2,-999.0000,9,    235.2,2,   -999.0,9,    12.82,2,    18.20,2,     0.00,2,     1.17,2,  -999.0,  5.1932,-999.000
     64PE95N_1,  AR12,    26,  1,     13,   X013,2,19950724,1125, 46.0663,  -6.5198, 4719,   1771.0,   3.8015,  34.9360,2,  34.9381,2,    266.1,2,    267.8,2,    11.89,2,    17.63,2,     0.02,2,     1.17,2,  -999.0,  3.6587,-999.000
     64PE95N_1,  AR12,    26,  1,     12,   X012,2,19950724,1125, 46.0663,  -6.5198, 4719,   2027.0,   3.8476,  34.9978,2,-999.0000,9,    253.3,2,   -999.0,9,    17.48,2,    18.46,2,     0.02,2,     1.23,2,  -999.0,  3.6796,-999.000
     64PE95N_1,  AR12,    26,  1,     11,   X011,2,19950724,1125, 46.0663,  -6.5198, 4719,   2282.0,   3.6124,  35.0022,2,  35.0035,2,    245.9,2,    246.9,2,    23.41,2,    19.28,2,     0.02,2,     1.29,2,  -999.0,  3.4230,-999.000
     64PE95N_1,  AR12,    26,  1,     10,   X010,2,19950724,1125, 46.0663,  -6.5198, 4719,   2537.0,   3.2582,  34.9778,2,-999.0000,9,    243.1,2,   -999.0,9,    28.50,2,    20.22,2,     0.02,2,     1.35,2,  -999.0,  3.0497,-999.000
     64PE95N_1,  AR12,    26,  1,      9,   X009,2,19950724,1125, 46.0663,  -6.5198, 4719,   2792.0,   2.9846,  34.9568,2,  34.9576,2,    241.3,2,    242.5,2,    32.38,2,    20.84,2,     0.02,2,     1.41,2,  -999.0,  2.7555,-999.000
     64PE95N_1,  AR12,    26,  1,      8,   X008,2,19950724,1125, 46.0663,  -6.5198, 4719,   3049.0,   2.7885,  34.9402,2,-999.0000,9,    239.7,2,   -999.0,9,    35.55,2,    21.16,2,     0.02,2,     1.44,2,  3050.0,  2.5372,   2.787
     64PE95N_1,  AR12,    26,  1,      7,   X007,4,19950724,1125, 46.0663,  -6.5198, 4719,   3300.0,   2.6846,  34.9301,2,  34.9332,4,    238.9,2,    240.6,4,    36.69,4,    21.26,4,     0.03,4,     1.45,4,  -999.0,  2.4091,-999.000
     64PE95N_1,  AR12,    26,  1,      6,   X006,2,19950724,1125, 46.0663,  -6.5198, 4719,   3559.0,   2.6177,  34.9227,2,-999.0000,9,    238.2,2,   -999.0,9,    38.89,2,    21.67,2,     0.04,2,     1.48,2,  -999.0,  2.3158,   2.618
     64PE95N_1,  AR12,    26,  1,      5,   X005,2,19950724,1125, 46.0663,  -6.5198, 4719,   3814.0,   2.5581,  34.9159,2,  34.9159,2,    237.8,2,    238.7,2,    40.74,2,    22.04,2,     0.02,2,     1.52,2,  -999.0,  2.2292,-999.000
     64PE95N_1,  AR12,    26,  1,      4,   X004,2,19950724,1125, 46.0663,  -6.5198, 4719,   4073.0,   2.5216,  34.9096,2,-999.0000,9,    237.3,2,   -999.0,9,    41.67,2,    22.05,2,     0.02,2,     1.56,2,  4077.0,  2.1643,   2.523
     64PE95N_1,  AR12,    26,  1,      3,   X003,2,19950724,1125, 46.0663,  -6.5198, 4719,   4327.0,   2.5063,  34.9049,2,  34.9049,2,    237.1,2,    238.6,2,    42.52,2,    22.15,2,     0.03,2,     1.51,2,  -999.0,  2.1194,-999.000
     64PE95N_1,  AR12,    26,  1,      2,   X002,2,19950724,1125, 46.0663,  -6.5198, 4719,   4585.0,   2.5051,  34.9014,2,-999.0000,9,    235.8,2,   -999.0,9,    44.02,2,    22.49,2,     0.03,2,     1.55,2,  4581.0,  2.0872,-999.000
     64PE95N_1,  AR12,    26,  1,      1,   X001,2,19950724,1125, 46.0663,  -6.5198, 4719,   4844.0,   2.5316,  34.9004,2,  34.9009,6,    235.6,2,    235.8,6,    44.42,6,    22.49,6,     0.03,6,     1.55,6,  -999.0,  2.0807,-999.000
     64PE95N_1,  AR12,    29,  1,     24,   X024,2,19950724,1945, 45.8668,  -6.8238, 4764,      9.0,  19.2170,  35.5514,2,  35.5487,2,    239.2,2,    238.9,6,     0.49,2,     0.05,2,     0.01,2,     0.04,2,  -999.0, 19.2154,-999.000
     64PE95N_1,  AR12,    29,  1,     23,   X023,2,19950724,1945, 45.8668,  -6.8238, 4764,    101.0,  11.8564,  35.5847,2,  35.5848,2,    247.6,2,    246.8,2,     2.18,2,     7.20,2,     0.15,2,     0.52,3,  -999.0, 11.8433,-999.000
     64PE95N_1,  AR12,    29,  1,     22,   X022,2,19950724,1945, 45.8668,  -6.8238, 4764,    201.0,  11.4395,  35.5556,2,-999.0000,9,    249.6,2,   -999.0,9,     2.94,2,     8.80,2,     0.05,2,     0.60,2,  -999.0, 11.4139,-999.000
     64PE95N_1,  AR12,    29,  1,     21,   X021,2,19950724,1945, 45.8668,  -6.8238, 4764,    304.0,  11.2872,  35.5587,2,  35.5581,2,    239.3,2,    239.2,2,     3.49,2,     9.99,2,     0.02,2,     0.62,2,  -999.0, 11.2487,-999.000
     64PE95N_1,  AR12,    29,  1,     20,   X020,2,19950724,1945, 45.8668,  -6.8238, 4764,    400.0,  11.1541,  35.5642,2,-999.0000,9,    231.5,2,   -999.0,9,     4.03,2,    11.16,2,     0.02,2,     0.69,2,  -999.0, 11.1035,-999.000
     64PE95N_1,  AR12,    29,  1,     19,   X019,2,19950724,1945, 45.8668,  -6.8238, 4764,    605.0,  10.5298,  35.5261,2,  35.5234,2,    219.8,2,    219.0,2,     5.96,2,    13.65,2,     0.02,2,     0.85,2,  -999.0, 10.4553,-999.000
     64PE95N_1,  AR12,    29,  1,     18,   X018,2,19950724,1945, 45.8668,  -6.8238, 4764,    808.0,  10.0375,  35.6109,2,-999.0000,9,    197.3,2,   -999.0,9,     8.29,2,    16.33,2,     0.02,2,     1.02,2,  -999.0,  9.9399,-999.000
     64PE95N_1,  AR12,    29,  1,     17,   X017,2,19950724,1945, 45.8668,  -6.8238, 4764,   1011.0,   9.6364,  35.7424,2,  35.7413,2,    190.2,2,    189.2,2,     9.72,2,    17.06,2,     0.02,2,     1.08,2,  -999.0,  9.5158,-999.000
     64PE95N_1,  AR12,    29,  1,     16,   X016,2,19950724,1945, 45.8668,  -6.8238, 4764,   1263.0,   8.1436,  35.5973,2,-999.0000,9,    201.3,2,   -999.0,9,    11.33,2,    17.66,2,     0.02,2,     1.12,2,  -999.0,  8.0047,-999.000
     64PE95N_1,  AR12,    29,  1,     15,   X015,2,19950724,1945, 45.8668,  -6.8238, 4764,   1518.0,   5.5925,  35.1933,2,  35.1914,2,    232.1,2,    234.2,2,    12.84,2,    18.34,2,     0.03,2,     1.20,2,  -999.0,  5.4522,-999.000
     64PE95N_1,  AR12,    29,  1,     14,   X014,2,19950724,1945, 45.8668,  -6.8238, 4764,   1772.0,   4.5394,  35.0726,2,-999.0000,9,    244.1,2,   -999.0,9,    15.06,2,    18.62,2,     0.01,2,     1.21,2,  -999.0,  4.3864,-999.000
     64PE95N_1,  AR12,    29,  1,     13,   X013,2,19950724,1945, 45.8668,  -6.8238, 4764,   2027.0,   4.0031,  35.0351,2,  35.0359,2,    245.2,2,    247.1,2,    19.48,2,    19.14,2,     0.01,2,     1.29,2,  -999.0,  3.8327,-999.000
     64PE95N_1,  AR12,    29,  1,     12,   X012,2,19950724,1945, 45.8668,  -6.8238, 4764,   2283.0,   3.5221,  34.9968,2,-999.0000,9,    245.4,2,   -999.0,9,    24.03,2,    19.64,2,     0.02,2,     1.32,2,  -999.0,  3.3341,-999.000
     64PE95N_1,  AR12,    29,  1,     11,   X011,2,19950724,1945, 45.8668,  -6.8238, 4764,   2536.0,   3.1581,  34.9711,2,  34.9702,2,    244.2,2,    246.3,2,    28.27,2,    20.33,2,     0.02,2,     1.36,2,  -999.0,  2.9516,-999.000
     64PE95N_1,  AR12,    29,  1,     10,   X010,2,19950724,1945, 45.8668,  -6.8238, 4764,   2792.0,   2.9246,  34.9532,2,-999.0000,9,    243.4,2,   -999.0,9,    31.74,2,    20.82,2,     0.01,2,     1.40,2,  -999.0,  2.6968,-999.000
     64PE95N_1,  AR12,    29,  1,      9,   X009,2,19950724,1945, 45.8668,  -6.8238, 4764,   3047.0,   2.7744,  34.9404,2,  34.9397,2,    241.3,2,    243.9,2,    34.48,2,    21.12,2,     0.02,2,     1.45,2,  -999.0,  2.5236,-999.000
     64PE95N_1,  AR12,    29,  1,      8,   X008,2,19950724,1945, 45.8668,  -6.8238, 4764,   3303.0,   2.6601,  34.9295,2,-999.0000,9,    240.3,2,   -999.0,9,    36.25,2,    21.48,2,     0.02,2,     1.46,2,  3306.0,  2.3848,   2.656
     64PE95N_1,  AR12,    29,  1,      7,   X007,4,19950724,1945, 45.8668,  -6.8238, 4764,   3559.0,   2.5843,  34.9209,2,  34.9240,4,    239.2,2,    240.2,4,    38.18,4,    21.96,4,     0.02,4,     1.49,4,  -999.0,  2.2833,-999.000
     64PE95N_1,  AR12,    29,  1,      6,   X006,2,19950724,1945, 45.8668,  -6.8238, 4764,   3815.0,   2.5369,  34.9140,2,-999.0000,9,    238.1,2,   -999.0,9,    40.80,2,    22.29,2,     0.06,2,     1.54,2,  3816.0,  2.2085,   2.538
     64PE95N_1,  AR12,    29,  1,      5,   X005,2,19950724,1945, 45.8668,  -6.8238, 4764,   4072.0,   2.5052,  34.9079,2,  34.9068,2,    237.6,2,    238.6,2,    42.16,2,    22.27,2,     0.02,2,     1.52,2,  -999.0,  2.1485,-999.000
     64PE95N_1,  AR12,    29,  1,      4,   X004,2,19950724,1945, 45.8668,  -6.8238, 4764,   4329.0,   2.4915,  34.9033,2,-999.0000,9,    237.1,2,   -999.0,9,    42.88,2,    22.62,2,     0.02,2,     1.53,2,  4333.0,  2.1048,   2.492
     64PE95N_1,  AR12,    29,  1,      3,   X003,2,19950724,1945, 45.8668,  -6.8238, 4764,   4585.0,   2.5018,  34.9008,2,  34.9001,2,    236.3,2,    237.4,2,    43.68,2,    22.74,2,     0.03,2,     1.55,2,  -999.0,  2.0840,-999.000
     64PE95N_1,  AR12,    29,  1,      2,   X002,2,19950724,1945, 45.8668,  -6.8238, 4764,   4793.0,   2.5213,  34.8999,2,-999.0000,9,    236.0,2,   -999.0,9,    44.35,2,    22.69,2,     0.02,2,     1.54,2,  4789.0,  2.0772,   2.521
     64PE95N_1,  AR12,    29,  1,      1,   X001,2,19950724,1945, 45.8668,  -6.8238, 4764,   4888.0,   2.5339,  34.8999,2,  34.8993,6,    235.7,2,    235.9,6,    44.48,6,    22.52,6,     0.06,6,     1.54,6,  -999.0,  2.0774,-999.000
     64PE95N_1,  AR12,    30,  1,     24,   X024,2,19950725,0006, 45.6680,  -7.1470, 4793,     10.0,  18.6877,  35.6487,2,  35.6518,2,    238.3,2,    238.5,6,     0.52,2,     0.11,2,     0.01,2,     0.04,2,  -999.0, 18.6860,-999.000
     64PE95N_1,  AR12,    30,  1,     23,   X023,2,19950725,0006, 45.6680,  -7.1470, 4793,    102.0,  12.1063,  35.6056,2,  35.6059,2,    245.7,2,    243.8,2,     1.97,2,     6.74,2,     0.05,2,     0.45,2,  -999.0, 12.0929,-999.000
     64PE95N_1,  AR12,    30,  1,     22,   X022,2,19950725,0006, 45.6680,  -7.1470, 4793,    200.0,  11.5530,  35.5661,2,-999.0000,9,    251.4,2,   -999.0,9,     2.55,2,     8.01,2,     0.04,2,     0.51,2,  -999.0, 11.5273,-999.000
     64PE95N_1,  AR12,    30,  1,     21,   X021,2,19950725,0006, 45.6680,  -7.1470, 4793,    303.0,  11.4248,  35.5783,2,  35.5781,2,    239.4,2,    239.1,2,     3.39,2,     9.89,2,     0.04,2,     0.62,2,  -999.0, 11.3861,-999.000
     64PE95N_1,  AR12,    30,  1,     20,   X020,2,19950725,0006, 45.6680,  -7.1470, 4793,    405.0,  11.1497,  35.5527,2,-999.0000,9,    233.7,2,   -999.0,9,     4.08,2,    11.25,2,     0.03,2,     0.69,2,  -999.0, 11.0986,-999.000
     64PE95N_1,  AR12,    30,  1,     19,   X019,2,19950725,0006, 45.6680,  -7.1470, 4793,    604.0,  10.5873,  35.5119,2,  35.5154,2,    222.2,2,    222.5,2,     5.54,2,    13.26,2,     0.02,2,     0.83,2,  -999.0, 10.5128,-999.000
     64PE95N_1,  AR12,    30,  1,     18,   X018,2,19950725,0006, 45.6680,  -7.1470, 4793,    806.0,  10.1836,  35.6061,2,-999.0000,9,    198.3,2,   -999.0,9,     7.92,2,    16.10,2,     0.03,2,     0.99,2,  -999.0, 10.0854,-999.000
     64PE95N_1,  AR12,    30,  1,     17,   X017,2,19950725,0006, 45.6680,  -7.1470, 4793,   1009.0,   9.5722,  35.6857,2,  35.6857,2,    191.4,2,    189.3,2,     9.60,2,    17.25,2,     0.02,2,     1.06,2,  -999.0,  9.4524,-999.000
     64PE95N_1,  AR12,    30,  1,     16,   X016,2,19950725,0006, 45.6680,  -7.1470, 4793,   1263.0,   8.2566,  35.6072,2,-999.0000,9,    200.0,2,   -999.0,9,    11.14,2,    17.43,2,     0.03,2,     1.10,2,  -999.0,  8.1166,-999.000
     64PE95N_1,  AR12,    30,  1,     15,   X015,2,19950725,0006, 45.6680,  -7.1470, 4793,   1516.0,   5.8058,  35.2291,2,  35.2252,2,    227.7,2,    230.8,2,    12.91,2,    18.35,2,     0.05,2,     1.18,2,  -999.0,  5.6631,-999.000
     64PE95N_1,  AR12,    30,  1,     14,   X014,2,19950725,0006, 45.6680,  -7.1470, 4793,   1772.0,   4.4630,  35.0514,2,-999.0000,9,    246.5,2,   -999.0,9,    14.55,2,    18.45,2,     0.05,2,     1.21,2,  -999.0,  4.3111,-999.000
     64PE95N_1,  AR12,    30,  1,     13,   X013,2,19950725,0006, 45.6680,  -7.1470, 4793,   2027.0,   3.9368,  35.0233,2,  35.0248,2,    246.4,2,    248.7,2,    19.67,2,    19.00,2,     0.02,2,     1.26,2,  -999.0,  3.7674,-999.000
     64PE95N_1,  AR12,    30,  1,     12,   X012,2,19950725,0006, 45.6680,  -7.1470, 4793,   2278.0,   3.5097,  34.9951,2,-999.0000,9,    245.1,2,   -999.0,9,    24.06,2,    19.59,2,     0.02,2,     1.31,2,  -999.0,  3.3224,-999.000
     64PE95N_1,  AR12,    30,  1,     11,   X011,2,19950725,0006, 45.6680,  -7.1470, 4793,   2536.0,   3.1786,  34.9713,2,  34.9722,2,    243.7,2,    245.9,2,    28.05,2,    20.33,2,     0.03,2,     1.36,2,  -999.0,  2.9716,-999.000
     64PE95N_1,  AR12,    30,  1,     10,   X010,2,19950725,0006, 45.6680,  -7.1470, 4793,   2792.0,   2.9209,  34.9522,2,-999.0000,9,    242.2,2,   -999.0,9,    32.28,2,    20.91,2,     0.05,2,     1.42,2,  -999.0,  2.6931,-999.000
     64PE95N_1,  AR12,    30,  1,      9,   X009,2,19950725,0006, 45.6680,  -7.1470, 4793,   3047.0,   2.7786,  34.9402,2,  34.9402,2,    240.7,2,    242.8,2,    34.84,2,    21.20,2,     0.03,2,     1.44,2,  -999.0,  2.5277,-999.000
     64PE95N_1,  AR12,    30,  1,      8,   X008,2,19950725,0006, 45.6680,  -7.1470, 4793,   3301.0,   2.6713,  34.9302,2,-999.0000,9,    239.8,2,   -999.0,9,    36.27,2,    21.40,2,     0.04,2,     1.47,2,  3302.0,  2.3960,   2.669
     64PE95N_1,  AR12,    30,  1,      7,   X007,4,19950725,0006, 45.6680,  -7.1470, 4793,   3560.0,   2.5957,  34.9218,2,  34.9279,4,    238.6,2,    240.1,4,    37.42,4,    21.71,4,     0.07,4,     1.48,4,  -999.0,  2.2943,-999.000
     64PE95N_1,  AR12,    30,  1,      6,   X006,2,19950725,0006, 45.6680,  -7.1470, 4793,   3814.0,   2.5448,  34.9147,2,-999.0000,9,    237.8,2,   -999.0,9,    40.41,2,    22.00,2,     0.03,2,     1.49,2,  3818.0,  2.2163,   2.546
     64PE95N_1,  AR12,    30,  1,      5,   X005,2,19950725,0006, 45.6680,  -7.1470, 4793,   4071.0,   2.5164,  34.9088,2,  34.9090,2,    237.4,2,    238.5,2,    41.59,2,    22.14,2,     0.02,2,     1.52,2,  -999.0,  2.1594,-999.000
     64PE95N_1,  AR12,    30,  1,      4,   X004,2,19950725,0006, 45.6680,  -7.1470, 4793,   4330.0,   2.4995,  34.9040,2,-999.0000,9,    236.6,2,   -999.0,9,    42.75,2,    22.42,2,     0.07,2,     1.54,2,  4335.0,  2.1126,   2.500
     64PE95N_1,  AR12,    30,  1,      3,   X003,2,19950725,0006, 45.6680,  -7.1470, 4793,   4588.0,   2.5024,  34.9008,2,  34.9005,2,    236.1,2,    237.3,2,    43.39,2,    22.59,2,     0.05,2,     1.53,2,  -999.0,  2.0843,-999.000
     64PE95N_1,  AR12,    30,  1,      2,   X002,2,19950725,0006, 45.6680,  -7.1470, 4793,   4792.0,   2.5178,  34.8994,2,-999.0000,9,    235.5,2,   -999.0,9,    43.84,2,    22.62,2,     0.03,2,     1.55,2,  4788.0,  2.0739,   2.518
     64PE95N_1,  AR12,    30,  1,      1,   X001,2,19950725,0006, 45.6680,  -7.1470, 4793,   4925.0,   2.5339,  34.8994,2,  34.8995,6,    236.0,2,    236.3,2,    44.21,6,    22.47,6,     0.04,6,     1.52,6,  -999.0,  2.0727,-999.000