BOTTLE,20020117WHPSIOKJU
EXPOCODE,SECT_ID,STNNBR,CASTNO,SAMPNO,BTLNBR,BTLNBR_FLAG_W,DATE,TIME,LATITUDE,LONGITUDE,DEPTH,CTDPRS,CTDTMP,CTDSAL,CTDSAL_FLAG_W,SALNTY,SALNTY_FLAG_W,CTDOXY,CTDOXY_FLAG_W,OXYGEN,OXYGEN_FLAG_W,SILCAT,SILCAT_FLAG_W,NITRAT,NITRAT_FLAG_W,NITRIT,NITRIT_FLAG_W,PHSPHT,PHSPHT_FLAG_W,REVPRS,THETA,REVTMP
,,,,,,,,,,,,DBAR,ITS-90,PSS-78,,PSS-78,,UMOL/KG,,UMOL/KG,,UMOL/KG,,UMOL/KG,,UMOL/KG,,UMOL/KG,,DBAR,ITS-90,ITS-90
     64PE95N_1,  AR12,    65,  1,     24,   X024,2,19950731,0955, 47.4008,  -8.7330, 2718,     10.0,  17.5708,  35.6119,3,  35.6186,2,    249.9,2,    253.6,6,     0.47,2,     0.04,2,     0.02,2,     0.06,2,  -999.0, 17.5691,-999.000
     64PE95N_1,  AR12,    65,  1,     23,   X023,2,19950731,0955, 47.4008,  -8.7330, 2718,     49.0,  12.2678,  35.6129,2,  35.6114,2,    251.7,2,    248.4,2,     2.17,2,     6.96,2,     0.10,2,     0.46,2,  -999.0, 12.2613,-999.000
     64PE95N_1,  AR12,    65,  1,     22,   X022,2,19950731,0955, 47.4008,  -8.7330, 2718,     98.0,  11.7939,  35.5961,2,-999.0000,9,    249.8,2,   -999.0,9,     2.88,2,     8.68,2,     0.03,2,     0.56,2,  -999.0, 11.7812,-999.000
     64PE95N_1,  AR12,    65,  1,     21,   X021,2,19950731,0955, 47.4008,  -8.7330, 2718,    201.0,  11.4787,  35.5689,2,  35.5684,2,    250.9,2,    249.3,2,     3.14,2,     9.06,2,     0.03,2,     0.58,2,  -999.0, 11.4530,-999.000
     64PE95N_1,  AR12,    65,  1,     20,   X020,2,19950731,0955, 47.4008,  -8.7330, 2718,    302.0,  11.2501,  35.5436,2,-999.0000,9,    243.6,2,   -999.0,9,     4.35,2,    11.19,2,     0.02,2,     0.70,2,  -999.0, 11.2119,-999.000
     64PE95N_1,  AR12,    65,  1,     19,   X019,2,19950731,0955, 47.4008,  -8.7330, 2718,    402.0,  10.9702,  35.5162,2,  35.5150,2,    239.6,2,    240.6,2,     4.16,2,    11.06,2,     0.02,2,     0.69,2,  -999.0, 10.9199,-999.000
     64PE95N_1,  AR12,    65,  1,     18,   X018,2,19950731,0955, 47.4008,  -8.7330, 2718,    504.0,  10.6413,  35.4814,2,-999.0000,9,    241.3,2,   -999.0,9,     4.48,2,    11.52,2,     0.02,2,     0.73,2,  -999.0, 10.5793,-999.000
     64PE95N_1,  AR12,    65,  1,     17,   X017,2,19950731,0955, 47.4008,  -8.7330, 2718,    607.0,  10.4223,  35.4725,2,  35.4682,2,    228.6,2,    228.8,2,     5.59,2,    13.18,2,     0.02,2,     0.82,2,  -999.0, 10.3481,-999.000
     64PE95N_1,  AR12,    65,  1,     16,   X016,2,19950731,0955, 47.4008,  -8.7330, 2718,    707.0,  10.0533,  35.4682,2,-999.0000,9,    212.9,2,   -999.0,9,     6.95,2,    14.85,2,     0.03,2,     0.93,2,  -999.0,  9.9683,-999.000
     64PE95N_1,  AR12,    65,  1,     15,   X015,2,19950731,0955, 47.4008,  -8.7330, 2718,    810.0,   9.3753,  35.4415,2,  35.4425,2,    201.6,2,    199.8,2,     8.83,2,    16.71,2,     0.01,2,     1.06,2,  -999.0,  9.2816,-999.000
     64PE95N_1,  AR12,    65,  1,     14,   X014,2,19950731,0955, 47.4008,  -8.7330, 2718,    908.0,   9.1814,  35.5500,2,-999.0000,9,    195.0,2,   -999.0,9,     9.63,2,    17.28,2,     0.02,2,     1.09,2,  -999.0,  9.0768,-999.000
     64PE95N_1,  AR12,    65,  1,     13,   X026,2,19950731,0955, 47.4008,  -8.7330, 2718,   1010.0,   8.7364,  35.5547,3,  35.5494,2,    196.1,2,    195.7,2,    10.22,2,    17.53,2,     0.01,2,     1.11,2,  -999.0,  8.6227,-999.000
     64PE95N_1,  AR12,    65,  1,     12,   X012,2,19950731,0955, 47.4008,  -8.7330, 2718,   1112.0,   8.1005,  35.5163,2,-999.0000,9,    202.1,2,   -999.0,9,    10.88,2,    17.65,2,     0.01,2,     1.11,2,  -999.0,  7.9797,-999.000
     64PE95N_1,  AR12,    65,  1,     11,   X011,4,19950731,0955, 47.4008,  -8.7330, 2718,   1213.0,   7.2373,  35.4083,2,  35.5065,4,    213.1,2,    232.0,4,     5.90,4,    12.52,4,     0.02,4,     0.80,4,  -999.0,  7.1125,-999.000
     64PE95N_1,  AR12,    65,  1,     10,   X025,2,19950731,0955, 47.4008,  -8.7330, 2718,   1315.0,   6.4994,  35.3038,2,-999.0000,9,    221.5,2,   -999.0,9,    12.21,2,    17.95,2,     0.02,2,     1.16,2,  -999.0,  6.3706,-999.000
     64PE95N_1,  AR12,    65,  1,      9,   X009,2,19950731,0955, 47.4008,  -8.7330, 2718,   1416.0,   5.6816,  35.1832,2,  35.1822,2,    232.0,2,    233.8,2,    12.25,2,    18.04,2,     0.03,2,     1.17,2,  -999.0,  5.5507,-999.000
     64PE95N_1,  AR12,    65,  1,      8,   X008,2,19950731,0955, 47.4008,  -8.7330, 2718,   1515.0,   4.9661,  35.0792,2,-999.0000,9,    243.9,2,   -999.0,9,    12.10,2,    18.02,2,     0.01,2,     1.17,2,  1516.0,  4.8333,   4.983
     64PE95N_1,  AR12,    65,  1,      7,   X007,2,19950731,0955, 47.4008,  -8.7330, 2718,   1596.0,   4.5448,  35.0248,2,  35.0249,2,    251.4,2,    253.6,2,    12.21,2,    17.92,2,     0.01,2,     1.17,2,  -999.0,  4.4091,-999.000
     64PE95N_1,  AR12,    65,  1,      6,   X006,2,19950731,0955, 47.4008,  -8.7330, 2718,   1822.0,   4.0061,  34.9932,2,-999.0000,9,    256.8,2,   -999.0,9,    14.88,2,    17.94,2,     0.02,2,     1.18,2,  1821.0,  3.8556,   4.005
     64PE95N_1,  AR12,    65,  1,      5,   X005,4,19950731,0955, 47.4008,  -8.7330, 2718,   2025.0,   3.6045,  34.9736,2,  35.4464,4,    258.3,2,    236.1,4,     6.86,4,    12.86,4,     0.02,4,     0.82,4,  -999.0,  3.4404,-999.000
     64PE95N_1,  AR12,    65,  1,      4,   X004,4,19950731,0955, 47.4008,  -8.7330, 2718,   2229.0,   3.4106,  34.9747,2,-999.0000,9,    254.7,2,   -999.0,9,     6.35,4,    12.15,4,     0.02,4,     0.77,4,  2229.0,  3.2298,   3.409
     64PE95N_1,  AR12,    65,  1,      3,   X003,4,19950731,0955, 47.4008,  -8.7330, 2718,   2434.0,   3.1955,  34.9708,2,  35.4697,4,    249.4,2,    235.6,4,     6.90,4,    12.53,4,     0.02,4,     0.80,4,  -999.0,  2.9984,-999.000
     64PE95N_1,  AR12,    65,  1,      2,   X002,2,19950731,0955, 47.4008,  -8.7330, 2718,   2638.0,   2.9364,  34.9546,2,-999.0000,9,    247.1,2,   -999.0,9,    33.56,2,    20.70,2,     0.01,2,     1.40,2,  2631.0,  2.7239,   2.940
     64PE95N_1,  AR12,    65,  1,      1,   X001,2,19950731,0955, 47.4008,  -8.7330, 2718,   2782.0,   2.9005,  34.9509,2,  34.9514,6,    247.9,2,    242.4,6,    34.40,6,    20.77,6,     0.01,6,     1.42,6,  -999.0,  2.6742,-999.000
     64PE95N_1,  AR12,    66,  1,     24,   X024,2,19950731,1225, 47.4995,  -8.5837, 2134,      9.0,  18.3663,  35.6001,2,  35.6003,2,    240.7,2,    241.5,6,     0.53,2,     0.06,2,     0.01,2,     0.08,2,  -999.0, 18.3647,-999.000
     64PE95N_1,  AR12,    66,  1,     23,   X023,2,19950731,1225, 47.4995,  -8.5837, 2134,     51.0,  13.8929,  35.6116,2,  35.6122,2,    261.9,2,    262.1,2,     0.84,2,     1.08,2,     0.12,2,     0.18,2,  -999.0, 13.8856,-999.000
     64PE95N_1,  AR12,    66,  1,     22,   X022,2,19950731,1225, 47.4995,  -8.5837, 2134,    100.0,  11.9205,  35.5952,2,-999.0000,9,    248.7,2,   -999.0,9,     2.56,2,     8.33,2,     0.03,2,     0.54,2,  -999.0, 11.9075,-999.000
     64PE95N_1,  AR12,    66,  1,     21,   X021,2,19950731,1225, 47.4995,  -8.5837, 2134,    152.0,  11.6590,  35.5811,2,  35.5802,2,    246.7,2,    246.6,2,     2.99,2,     9.04,2,     0.02,2,     0.58,2,  -999.0, 11.6394,-999.000
     64PE95N_1,  AR12,    66,  1,     20,   X020,4,19950731,1225, 47.4995,  -8.5837, 2134,    202.0,  11.4139,  35.5608,2,-999.0000,9,    248.0,2,   -999.0,9,     4.18,4,    11.13,4,     0.00,4,     0.71,4,  -999.0, 11.3883,-999.000
     64PE95N_1,  AR12,    66,  1,     19,   X019,2,19950731,1225, 47.4995,  -8.5837, 2134,    301.0,  11.0397,  35.5209,2,  35.5221,2,    242.0,2,    243.0,2,     3.97,2,    10.79,2,     0.00,2,     0.69,2,  -999.0, 11.0021,-999.000
     64PE95N_1,  AR12,    66,  1,     18,   X018,2,19950731,1225, 47.4995,  -8.5837, 2134,    404.0,  10.7509,  35.4954,2,-999.0000,9,    241.7,2,   -999.0,9,     4.16,2,    10.98,2,     0.02,2,     0.70,2,  -999.0, 10.7011,-999.000
     64PE95N_1,  AR12,    66,  1,     17,   X017,2,19950731,1225, 47.4995,  -8.5837, 2134,    508.0,  10.4698,  35.4713,2,  35.4722,2,    238.5,2,    238.5,2,     5.01,2,    12.16,2,     0.01,2,     0.77,2,  -999.0, 10.4079,-999.000
     64PE95N_1,  AR12,    66,  1,     16,   X016,2,19950731,1225, 47.4995,  -8.5837, 2134,    602.0,  10.1603,  35.4677,2,-999.0000,9,    219.8,2,   -999.0,9,     6.01,2,    13.65,2,     0.03,2,     0.87,2,  -999.0, 10.0878,-999.000
     64PE95N_1,  AR12,    66,  1,     15,   X015,4,19950731,1225, 47.4995,  -8.5837, 2134,    709.0,   9.9315,  35.4835,2,  35.5213,4,    207.7,2,    230.7,4,     5.05,4,    12.00,4,     0.04,4,     0.77,4,  -999.0,  9.8469,-999.000
     64PE95N_1,  AR12,    66,  1,     14,   X014,4,19950731,1225, 47.4995,  -8.5837, 2134,    808.0,   9.6251,  35.5007,2,-999.0000,9,    201.6,2,   -999.0,9,     6.08,4,    13.39,4,     0.01,4,     0.85,4,  -999.0,  9.5301,-999.000
     64PE95N_1,  AR12,    66,  1,     13,   X026,2,19950731,1225, 47.4995,  -8.5837, 2134,    909.0,   9.2950,  35.5461,2,  35.5466,2,    198.5,2,    196.7,2,     9.43,2,    17.01,2,     0.00,2,     1.09,2,  -999.0,  9.1896,-999.000
     64PE95N_1,  AR12,    66,  1,     12,   X012,2,19950731,1225, 47.4995,  -8.5837, 2134,   1010.0,   8.7893,  35.5166,2,-999.0000,9,    197.6,2,   -999.0,9,    10.03,2,    17.61,2,     0.00,2,     1.13,2,  -999.0,  8.6752,-999.000
     64PE95N_1,  AR12,    66,  1,     11,   X011,4,19950731,1225, 47.4995,  -8.5837, 2134,   1113.0,   8.3736,  35.5382,2,  35.5439,4,    199.9,2,    232.6,4,     4.95,4,    11.39,4,     0.03,4,     0.74,4,  -999.0,  8.2505,-999.000
     64PE95N_1,  AR12,    66,  1,     10,   X025,2,19950731,1225, 47.4995,  -8.5837, 2134,   1215.0,   7.8022,  35.4836,2,-999.0000,9,    206.6,2,   -999.0,9,    11.08,2,    17.74,2,     0.01,2,     1.15,2,  -999.0,  7.6721,-999.000
     64PE95N_1,  AR12,    66,  1,      9,   X009,4,19950731,1225, 47.4995,  -8.5837, 2134,   1313.0,   6.8576,  35.3695,2,  35.5223,4,    217.0,2,    233.0,4,     5.37,4,    12.09,4,     0.00,4,     0.77,4,  -999.0,  6.7255,-999.000
     64PE95N_1,  AR12,    66,  1,      8,   X008,2,19950731,1225, 47.4995,  -8.5837, 2134,   1418.0,   6.2509,  35.2842,2,-999.0000,9,    223.8,2,   -999.0,9,    12.66,2,    18.11,2,     0.01,2,     1.18,2,  -999.0,  6.1137,-999.000
     64PE95N_1,  AR12,    66,  1,      7,   X007,2,19950731,1225, 47.4995,  -8.5837, 2134,   1517.0,   5.5259,  35.1811,2,  35.1793,2,    234.4,2,    237.0,2,    12.96,2,    18.11,2,     0.01,2,     1.18,2,  -999.0,  5.3864,-999.000
     64PE95N_1,  AR12,    66,  1,      6,   X006,4,19950731,1225, 47.4995,  -8.5837, 2134,   1619.0,   5.0701,  35.1361,2,-999.0000,9,    239.2,2,   -999.0,9,     6.39,4,    12.97,4,     0.00,4,     0.83,4,  -999.0,  4.9256,-999.000
     64PE95N_1,  AR12,    66,  1,      5,   X005,4,19950731,1225, 47.4995,  -8.5837, 2134,   1722.0,   4.3987,  35.0453,2,  35.4927,4,    251.1,2,    235.0,4,     5.73,4,    12.08,4,     0.01,4,     0.78,4,  -999.0,  4.2526,-999.000
     64PE95N_1,  AR12,    66,  1,      4,   X004,4,19950731,1225, 47.4995,  -8.5837, 2134,   1822.0,   4.0920,  35.0146,2,-999.0000,9,    255.2,2,   -999.0,9,     5.75,4,    12.08,4,     0.03,4,     0.78,4,  -999.0,  3.9403,-999.000
     64PE95N_1,  AR12,    66,  1,      3,   X003,2,19950731,1225, 47.4995,  -8.5837, 2134,   1925.0,   3.9139,  35.0041,2,  35.0051,2,    255.0,2,    254.6,2,    17.87,2,    18.47,2,     0.01,2,     1.22,2,  -999.0,  3.7548,-999.000
     64PE95N_1,  AR12,    66,  1,      2,   X002,2,19950731,1225, 47.4995,  -8.5837, 2134,   2028.0,   3.8440,  35.0127,2,-999.0000,9,    253.7,2,   -999.0,9,    20.44,2,    18.82,2,     0.02,2,     1.25,2,  -999.0,  3.6759,-999.000
     64PE95N_1,  AR12,    66,  1,      1,   X001,2,19950731,1225, 47.4995,  -8.5837, 2134,   2159.0,   3.5112,  34.9971,2,  34.9984,6,    253.0,3,    246.5,6,    25.75,6,    19.67,6,     0.01,6,     1.29,6,  -999.0,  3.3355,-999.000
     64PE95N_1,  AR12,    67,  1,     19,   X019,2,19950731,1500, 47.6168,  -8.4168, 1597,      9.0,  17.5658,  35.6084,2,  35.6068,2,    248.6,2,    249.7,6,     0.46,2,     0.06,2,     0.00,2,     0.05,2,  -999.0, 17.5643,-999.000
     64PE95N_1,  AR12,    67,  1,     18,   X018,2,19950731,1500, 47.6168,  -8.4168, 1597,     51.0,  12.5756,  35.5561,2,-999.0000,9,    242.5,2,   -999.0,9,     1.82,2,     6.00,2,     0.02,2,     0.39,2,  -999.0, 12.5688,-999.000
     64PE95N_1,  AR12,    67,  1,     17,   X017,2,19950731,1500, 47.6168,  -8.4168, 1597,    101.0,  11.7162,  35.5528,2,  35.5516,2,    243.6,2,    241.8,2,     2.55,2,     7.98,2,     0.02,2,     0.50,2,  -999.0, 11.7032,-999.000
     64PE95N_1,  AR12,    67,  1,     16,   X016,2,19950731,1500, 47.6168,  -8.4168, 1597,    151.0,  11.5339,  35.5553,2,-999.0000,9,    243.4,2,   -999.0,9,     2.82,2,     8.51,2,     0.00,2,     0.55,2,  -999.0, 11.5146,-999.000
     64PE95N_1,  AR12,    67,  1,     15,   X015,2,19950731,1500, 47.6168,  -8.4168, 1597,    201.0,  11.4435,  35.5592,2,  35.5580,2,    246.1,2,    248.5,2,     2.87,2,     8.72,2,     0.11,2,     0.55,2,  -999.0, 11.4178,-999.000
     64PE95N_1,  AR12,    67,  1,     14,   X014,2,19950731,1500, 47.6168,  -8.4168, 1597,    302.0,  11.2381,  35.5550,2,-999.0000,9,    235.9,2,   -999.0,9,     3.59,2,    10.31,2,     0.02,2,     0.64,2,  -999.0, 11.2000,-999.000
     64PE95N_1,  AR12,    67,  1,     13,   X026,2,19950731,1500, 47.6168,  -8.4168, 1597,    403.0,  11.0485,  35.5485,2,  35.5474,2,    230.9,2,    231.3,2,     4.26,2,    11.28,2,     0.02,2,     0.70,2,  -999.0, 10.9979,-999.000
     64PE95N_1,  AR12,    67,  1,     12,   X012,2,19950731,1500, 47.6168,  -8.4168, 1597,    503.0,  10.8013,  35.5326,2,-999.0000,9,    225.2,2,   -999.0,9,     4.89,2,    12.43,2,     0.00,2,     0.78,2,  -999.0, 10.7388,-999.000
     64PE95N_1,  AR12,    67,  1,     11,   X011,2,19950731,1500, 47.6168,  -8.4168, 1597,    606.0,  10.5407,  35.5441,2,  35.5442,2,    216.7,2,    216.7,2,     5.91,2,    13.64,2,     0.00,2,     0.85,2,  -999.0, 10.4660,-999.000
     64PE95N_1,  AR12,    67,  1,     10,   X025,2,19950731,1500, 47.6168,  -8.4168, 1597,    707.0,  10.2283,  35.5399,2,-999.0000,9,    209.8,2,   -999.0,9,     6.96,2,    14.87,2,     0.01,2,     0.94,2,  -999.0, 10.1424,-999.000
     64PE95N_1,  AR12,    67,  1,      9,   X009,2,19950731,1500, 47.6168,  -8.4168, 1597,    808.0,  10.0104,  35.5934,2,  35.5948,2,    201.0,2,    200.0,2,     7.96,2,    15.78,2,     0.00,2,     0.99,2,  -999.0,  9.9130,-999.000
     64PE95N_1,  AR12,    67,  1,      8,   X008,2,19950731,1500, 47.6168,  -8.4168, 1597,    908.0,   9.5709,  35.6290,2,-999.0000,9,    199.0,2,   -999.0,9,     9.13,2,    16.48,2,     0.00,2,     1.03,2,   907.0,  9.4637,   9.571
     64PE95N_1,  AR12,    67,  1,      7,   X007,2,19950731,1500, 47.6168,  -8.4168, 1597,   1010.0,   9.4658,  35.6637,2,  35.6631,2,    196.2,2,    195.1,2,     9.56,2,    16.70,2,     0.00,2,     1.05,2,  -999.0,  9.3466,-999.000
     64PE95N_1,  AR12,    67,  1,      6,   X006,2,19950731,1500, 47.6168,  -8.4168, 1597,   1112.0,   9.1939,  35.6694,2,-999.0000,9,    193.8,2,   -999.0,9,     9.95,2,    17.21,2,     0.00,2,     1.10,2,  1111.0,  9.0642,   9.202
     64PE95N_1,  AR12,    67,  1,      5,   X005,2,19950731,1500, 47.6168,  -8.4168, 1597,   1215.0,   8.1222,  35.5442,2,  35.5459,2,    202.6,2,    203.3,2,    10.77,2,    17.72,2,     0.00,2,     1.13,2,  -999.0,  7.9892,-999.000
     64PE95N_1,  AR12,    67,  1,      4,   X004,2,19950731,1500, 47.6168,  -8.4168, 1597,   1316.0,   7.5921,  35.4884,2,-999.0000,9,    208.4,2,   -999.0,9,    11.56,2,    17.86,2,     0.00,2,     1.15,2,  1312.0,  7.4525,   7.594
     64PE95N_1,  AR12,    67,  1,      3,   X003,2,19950731,1500, 47.6168,  -8.4168, 1597,   1417.0,   6.7540,  35.3644,2,  35.3669,2,    217.9,2,    218.1,2,    12.26,2,    18.04,2,     0.09,2,     1.17,2,  -999.0,  6.6116,-999.000
     64PE95N_1,  AR12,    67,  1,      2,   X002,2,19950731,1500, 47.6168,  -8.4168, 1597,   1517.0,   6.0577,  35.2679,2,-999.0000,9,    227.7,2,   -999.0,9,    13.20,2,    18.19,2,     0.00,2,     1.19,2,  1513.0,  5.9120,   6.050
     64PE95N_1,  AR12,    67,  1,      1,   X001,2,19950731,1500, 47.6168,  -8.4168, 1597,   1622.0,   4.6659,  35.0939,2,  35.0961,6,    246.7,2,    244.2,6,    15.97,6,    18.34,6,     0.00,6,     1.22,6,  -999.0,  4.5260,-999.000