BOTTLE,20020117WHPSIOKJU
EXPOCODE,SECT_ID,STNNBR,CASTNO,SAMPNO,BTLNBR,BTLNBR_FLAG_W,DATE,TIME,LATITUDE,LONGITUDE,DEPTH,CTDPRS,CTDTMP,CTDSAL,CTDSAL_FLAG_W,SALNTY,SALNTY_FLAG_W,CTDOXY,CTDOXY_FLAG_W,OXYGEN,OXYGEN_FLAG_W,SILCAT,SILCAT_FLAG_W,NITRAT,NITRAT_FLAG_W,NITRIT,NITRIT_FLAG_W,PHSPHT,PHSPHT_FLAG_W,REVPRS,THETA,REVTMP
,,,,,,,,,,,,DBAR,ITS-90,PSS-78,,PSS-78,,UMOL/KG,,UMOL/KG,,UMOL/KG,,UMOL/KG,,UMOL/KG,,UMOL/KG,,DBAR,ITS-90,ITS-90
     64PE95N_1,  AR12,   118,  1,     24,   X024,2,19950810,0028, 44.6995,  -3.2502, 3737,     10.0,-999.0000,-999.0000,9,  34.4302,2,   -999.0,9,    221.6,6,     0.41,2,     0.02,2,     0.02,2,     0.04,2,  -999.0,-999.0000,-999.000
     64PE95N_1,  AR12,   118,  1,     23,   X023,2,19950810,0028, 44.6995,  -3.2502, 3737,    100.0,  12.3876,  35.5592,2,  35.5592,2,    239.9,2,    241.7,2,     1.36,2,     5.07,2,     0.04,2,     0.32,2,  -999.0, 12.3742,-999.000
     64PE95N_1,  AR12,   118,  1,     22,   X022,2,19950810,0028, 44.6995,  -3.2502, 3737,    203.0,  11.8147,  35.5924,2,-999.0000,9,    239.6,2,   -999.0,9,     2.37,2,     7.88,2,     0.00,2,     0.49,2,  -999.0, 11.7884,-999.000
     64PE95N_1,  AR12,   118,  1,     21,   X031,2,19950810,0028, 44.6995,  -3.2502, 3737,    303.0,  11.5070,  35.6052,2,  35.6030,2,    233.7,2,    232.3,2,     3.11,2,     9.86,2,     0.01,2,     0.61,2,  -999.0, 11.4681,-999.000
     64PE95N_1,  AR12,   118,  1,     20,   X027,2,19950810,0028, 44.6995,  -3.2502, 3737,    404.0,  11.1668,  35.5905,2,-999.0000,9,    226.7,2,   -999.0,9,     4.02,2,    11.53,2,     0.01,2,     0.70,2,  -999.0, 11.1158,-999.000
     64PE95N_1,  AR12,   118,  1,     19,   X019,2,19950810,0028, 44.6995,  -3.2502, 3737,    505.0,  10.9437,  35.5821,2,  35.5810,2,    220.6,2,    218.4,2,     4.75,2,    12.65,2,     0.01,2,     0.78,2,  -999.0, 10.8804,-999.000
     64PE95N_1,  AR12,   118,  1,     18,   X018,2,19950810,0028, 44.6995,  -3.2502, 3737,    605.0,  10.6551,  35.5859,2,-999.0000,9,    211.7,2,   -999.0,9,     5.90,2,    13.94,2,     0.01,2,     0.86,2,  -999.0, 10.5800,-999.000
     64PE95N_1,  AR12,   118,  1,     17,   X017,2,19950810,0028, 44.6995,  -3.2502, 3737,    707.0,  10.4047,  35.6220,2,  35.6233,2,    200.8,2,    199.9,2,     7.10,2,    15.17,2,     0.01,2,     0.94,2,  -999.0, 10.3179,-999.000
     64PE95N_1,  AR12,   118,  1,     16,   X016,2,19950810,0028, 44.6995,  -3.2502, 3737,    808.0,  10.1990,  35.6935,2,-999.0000,9,    191.7,2,   -999.0,9,     8.27,2,    16.06,2,     0.02,2,     1.00,2,  -999.0, 10.1004,-999.000
     64PE95N_1,  AR12,   118,  1,     15,   X015,2,19950810,0028, 44.6995,  -3.2502, 3737,    909.0,  10.0073,  35.7410,2,  35.7390,2,    189.2,2,    189.2,2,     8.88,2,    16.47,2,     0.00,2,     1.02,2,  -999.0,  9.8970,-999.000
     64PE95N_1,  AR12,   118,  1,     14,   X014,2,19950810,0028, 44.6995,  -3.2502, 3737,   1010.0,   9.7903,  35.7664,2,-999.0000,9,    186.8,2,   -999.0,9,     9.44,2,    16.55,2,     0.02,2,     1.04,2,  -999.0,  9.6686,-999.000
     64PE95N_1,  AR12,   118,  1,     13,   X026,2,19950810,0028, 44.6995,  -3.2502, 3737,   1264.0,   8.2803,  35.6096,2,  35.6077,2,    200.7,2,    201.7,6,    11.32,2,    17.43,2,     0.00,2,     1.10,2,  -999.0,  8.1400,-999.000
     64PE95N_1,  AR12,   118,  1,     12,   X029,2,19950810,0028, 44.6995,  -3.2502, 3737,   1518.0,   6.2336,  35.3177,2,-999.0000,9,    222.3,2,   -999.0,9,    13.62,2,    18.00,2,     0.01,2,     1.16,2,  -999.0,  6.0858,-999.000
     64PE95N_1,  AR12,   118,  1,     11,   X007,2,19950810,0028, 44.6995,  -3.2502, 3737,   1772.0,   4.6757,  35.1112,2,  35.1086,2,    241.8,2,    244.0,2,    16.76,2,    18.42,2,     0.00,2,     1.20,2,  -999.0,  4.5209,-999.000
     64PE95N_1,  AR12,   118,  1,     10,   X010,2,19950810,0028, 44.6995,  -3.2502, 3737,   2026.0,   4.0097,  35.0457,2,-999.0000,9,    245.3,2,   -999.0,9,    21.05,2,    18.98,2,     0.03,2,     1.25,2,  -999.0,  3.8392,-999.000
     64PE95N_1,  AR12,   118,  1,      9,   X009,2,19950810,0028, 44.6995,  -3.2502, 3737,   2281.0,   3.4316,  34.9939,2,  34.9935,2,    247.8,2,    247.6,2,    25.64,2,    19.51,2,     0.01,2,     1.31,2,  -999.0,  3.2453,-999.000
     64PE95N_1,  AR12,   118,  1,      8,   X008,2,19950810,0028, 44.6995,  -3.2502, 3737,   2536.0,   3.1136,  34.9686,2,-999.0000,9,    246.9,2,   -999.0,9,    29.53,2,    20.10,2,     0.01,2,     1.35,2,  2537.0,  2.9078,   3.113
     64PE95N_1,  AR12,   118,  1,      6,   X035,2,19950810,0028, 44.6995,  -3.2502, 3737,   2792.0,   2.8920,  34.9505,2,  34.9499,2,    246.3,2,    248.8,2,    32.71,2,    20.53,2,     0.03,2,     1.38,2,  2792.0,  2.6648,   2.890
     64PE95N_1,  AR12,   118,  1,      7,   X032,2,19950810,0028, 44.6995,  -3.2502, 3737,   2792.0,   2.8921,  34.9505,2,  34.9491,2,    246.2,2,    245.4,2,    32.66,2,    20.53,2,     0.01,2,     1.39,2,  -999.0,  2.6650,-999.000
     64PE95N_1,  AR12,   118,  1,      5,   X034,2,19950810,0028, 44.6995,  -3.2502, 3737,   3047.0,   2.7507,  34.9379,2,  34.9380,2,    245.3,2,    244.9,2,    35.47,2,    20.88,2,     0.03,2,     1.40,2,  -999.0,  2.5005,-999.000
     64PE95N_1,  AR12,   118,  1,      4,   X033,2,19950810,0028, 44.6995,  -3.2502, 3737,   3303.0,   2.6319,  34.9266,2,-999.0000,9,    244.5,2,   -999.0,9,    37.91,2,    21.22,2,     0.03,2,     1.44,2,  3304.0,  2.3574,   2.633
     64PE95N_1,  AR12,   118,  1,      2,   X030,2,19950810,0028, 44.6995,  -3.2502, 3737,   3559.0,   2.5481,  34.9174,2,  34.9167,2,    244.8,2,    242.1,2,    40.08,2,    21.57,2,     0.03,2,     1.47,2,  3555.0,  2.2480,   2.547
     64PE95N_1,  AR12,   118,  1,      3,   X028,2,19950810,0028, 44.6995,  -3.2502, 3737,   3559.0,   2.5484,  34.9174,2,  34.9167,2,    244.8,2,    242.1,2,    40.12,2,    21.69,2,     0.01,2,     1.46,2,  -999.0,  2.2483,-999.000
     64PE95N_1,  AR12,   118,  1,      1,   X001,2,19950810,0028, 44.6995,  -3.2502, 3737,   3812.0,   2.5026,  34.9104,2,  34.9095,6,    244.4,2,    239.7,6,    42.02,6,    21.77,6,     0.03,6,     1.50,6,  -999.0,  2.1756,-999.000
     64PE95N_1,  AR12,   119,  1,     24,   X024,2,19950810,0424, 44.8828,  -3.0002, 3367,     11.0,  22.3375,  34.5079,2,  34.5109,2,    221.2,2,    221.4,6,     0.42,2,     0.04,2,     0.00,2,     0.03,2,  -999.0, 22.3354,-999.000
     64PE95N_1,  AR12,   119,  1,     23,   X023,2,19950810,0424, 44.8828,  -3.0002, 3367,    102.0,  12.3715,  35.5798,2,  35.5799,2,    244.5,2,    242.9,2,     1.41,2,     5.12,2,     0.05,2,     0.34,2,  -999.0, 12.3578,-999.000
     64PE95N_1,  AR12,   119,  1,     22,   X022,2,19950810,0424, 44.8828,  -3.0002, 3367,    202.0,  11.7204,  35.5823,2,-999.0000,9,    242.1,2,   -999.0,9,     2.49,2,     7.87,2,     0.03,2,     0.49,2,  -999.0, 11.6943,-999.000
     64PE95N_1,  AR12,   119,  1,     21,   X031,2,19950810,0424, 44.8828,  -3.0002, 3367,    303.0,  11.4573,  35.5846,2,  35.5838,2,    234.3,2,    234.9,2,     3.24,2,     9.73,2,     0.02,2,     0.59,2,  -999.0, 11.4185,-999.000
     64PE95N_1,  AR12,   119,  1,     20,   X027,2,19950810,0424, 44.8828,  -3.0002, 3367,    404.0,  11.1970,  35.5828,2,-999.0000,9,    227.9,2,   -999.0,9,     3.92,2,    11.27,2,     0.05,2,     0.68,2,  -999.0, 11.1458,-999.000
     64PE95N_1,  AR12,   119,  1,     19,   X019,2,19950810,0424, 44.8828,  -3.0002, 3367,    504.0,  10.9411,  35.5750,2,  35.5742,2,    220.5,2,    219.8,2,     4.82,2,    12.51,2,     0.02,2,     0.78,2,  -999.0, 10.8778,-999.000
     64PE95N_1,  AR12,   119,  1,     18,   X018,2,19950810,0424, 44.8828,  -3.0002, 3367,    606.0,  10.6455,  35.5791,2,-999.0000,9,    210.9,2,   -999.0,9,     5.96,2,    13.95,2,     0.02,2,     0.86,2,  -999.0, 10.5704,-999.000
     64PE95N_1,  AR12,   119,  1,     17,   X017,2,19950810,0424, 44.8828,  -3.0002, 3367,    708.0,  10.4036,  35.6191,2,  35.6215,2,    202.0,2,    199.6,2,     7.16,2,    15.22,2,     0.01,2,     0.93,2,  -999.0, 10.3167,-999.000
     64PE95N_1,  AR12,   119,  1,     16,   X016,2,19950810,0424, 44.8828,  -3.0002, 3367,    810.0,  10.1496,  35.7013,2,-999.0000,9,    193.6,2,   -999.0,9,     8.43,2,    16.20,2,     0.02,2,     1.00,2,  -999.0, 10.0511,-999.000
     64PE95N_1,  AR12,   119,  1,     15,   X015,2,19950810,0424, 44.8828,  -3.0002, 3367,    909.0,   9.8973,  35.7623,2,  35.7617,2,    188.9,2,    187.0,2,     9.30,2,    16.66,2,     0.03,2,     1.05,2,  -999.0,  9.7877,-999.000
     64PE95N_1,  AR12,   119,  1,     14,   X014,4,19950810,0424, 44.8828,  -3.0002, 3367,   1011.0,   9.6444,  35.7644,2,-999.0000,9,    189.9,2,   -999.0,9,     5.38,4,    11.79,4,     0.02,4,     0.74,4,  -999.0,  9.5237,-999.000
     64PE95N_1,  AR12,   119,  1,     13,   X026,2,19950810,0424, 44.8828,  -3.0002, 3367,   1213.0,   8.6460,  35.6666,2,  35.6646,2,    195.7,2,    197.1,2,    10.90,2,    17.43,2,     0.01,2,     1.09,2,  -999.0,  8.5085,-999.000
     64PE95N_1,  AR12,   119,  1,     12,   X029,2,19950810,0424, 44.8828,  -3.0002, 3367,   1417.0,   6.7416,  35.3931,2,-999.0000,9,    215.7,2,   -999.0,9,    12.99,2,    18.08,2,     0.00,2,     1.16,2,  -999.0,  6.5992,-999.000
     64PE95N_1,  AR12,   119,  1,     11,   X007,2,19950810,0424, 44.8828,  -3.0002, 3367,   1619.0,   5.4549,  35.2118,2,  35.2093,2,    230.6,2,    233.3,2,    15.04,2,    18.39,2,     0.05,2,     1.21,2,  -999.0,  5.3056,-999.000
     64PE95N_1,  AR12,   119,  1,     10,   X010,2,19950810,0424, 44.8828,  -3.0002, 3367,   1823.0,   4.4723,  35.0922,2,-999.0000,9,    241.0,2,   -999.0,9,    18.14,2,    18.64,2,     0.03,2,     1.25,2,  -999.0,  4.3151,-999.000
     64PE95N_1,  AR12,   119,  1,      9,   X009,2,19950810,0424, 44.8828,  -3.0002, 3367,   2026.0,   3.8752,  35.0349,2,  35.0347,2,    244.2,2,    245.8,2,    22.04,2,    19.27,2,     0.01,2,     1.28,2,  -999.0,  3.7067,-999.000
     64PE95N_1,  AR12,   119,  1,      8,   X008,2,19950810,0424, 44.8828,  -3.0002, 3367,   2281.0,   3.4620,  34.9978,2,-999.0000,9,    245.8,2,   -999.0,9,    25.63,2,    19.71,2,     0.00,2,     1.31,2,  2280.0,  3.2752,   3.462
     64PE95N_1,  AR12,   119,  1,      6,   X035,2,19950810,0424, 44.8828,  -3.0002, 3367,   2536.0,   3.1670,  34.9727,2,  34.9722,2,    246.3,2,    247.9,2,    28.89,2,    20.05,2,     0.03,2,     1.36,2,  2537.0,  2.9603,   3.167
     64PE95N_1,  AR12,   119,  1,      7,   X032,2,19950810,0424, 44.8828,  -3.0002, 3367,   2536.0,   3.1694,  34.9730,2,  34.9719,2,    246.4,2,    245.8,2,    28.81,2,    20.10,2,     0.02,2,     1.36,2,  -999.0,  2.9626,-999.000
     64PE95N_1,  AR12,   119,  1,      5,   X034,2,19950810,0424, 44.8828,  -3.0002, 3367,   2791.0,   2.8928,  34.9505,2,  34.9503,2,    246.5,2,    245.0,2,    32.64,2,    20.65,2,     0.03,2,     1.41,2,  -999.0,  2.6657,-999.000
     64PE95N_1,  AR12,   119,  1,      4,   X033,2,19950810,0424, 44.8828,  -3.0002, 3367,   3046.0,   2.7574,  34.9382,2,-999.0000,9,    246.6,2,   -999.0,9,    35.12,2,    20.95,2,     0.01,2,     1.41,2,  3048.0,  2.5070,   2.758
     64PE95N_1,  AR12,   119,  1,      2,   X030,2,19950810,0424, 44.8828,  -3.0002, 3367,   3303.0,   2.6588,  34.9282,2,  34.9275,2,    246.0,2,    242.4,2,    37.47,2,    21.08,2,     0.03,2,     1.44,2,  3297.0,  2.3836,   2.658
     64PE95N_1,  AR12,   119,  1,      3,   X028,2,19950810,0424, 44.8828,  -3.0002, 3367,   3303.0,   2.6588,  34.9283,2,  34.9276,2,    246.4,2,    242.3,2,    37.40,2,    21.30,2,     0.02,2,     1.40,2,  -999.0,  2.3836,-999.000
     64PE95N_1,  AR12,   119,  1,      1,   X001,2,19950810,0424, 44.8828,  -3.0002, 3367,   3425.0,   2.6625,  34.9274,2,  34.9257,6,    246.5,2,    241.9,6,    37.65,6,    21.21,6,     0.02,6,     1.44,6,  -999.0,  2.3741,-999.000
     64PE95N_1,  AR12,   120,  1,     24,   X024,2,19950810,0722, 44.9503,  -2.9178, 2945,     10.0,  22.2710,  34.5246,3,  34.9751,2,    230.1,2,    230.9,6,     0.54,2,     0.01,2,     0.02,2,     0.03,2,  -999.0, 22.2690,-999.000
     64PE95N_1,  AR12,   120,  1,     23,   X023,2,19950810,0722, 44.9503,  -2.9178, 2945,     50.0,  14.3127,  35.5227,3,  35.5306,2,    260.9,2,    259.4,2,     0.60,2,     0.06,2,     0.04,2,     0.05,2,  -999.0, 14.3053,-999.000
     64PE95N_1,  AR12,   120,  1,     22,   X022,2,19950810,0722, 44.9503,  -2.9178, 2945,    100.0,  12.3779,  35.5704,2,-999.0000,9,    246.8,2,   -999.0,9,     1.43,2,     4.97,2,     0.04,2,     0.32,2,  -999.0, 12.3645,-999.000
     64PE95N_1,  AR12,   120,  1,     21,   X031,2,19950810,0722, 44.9503,  -2.9178, 2945,    195.0,  11.9162,  35.5886,2,  35.5869,2,    244.0,2,    244.0,2,     2.15,2,     6.96,2,     0.05,2,     0.44,2,  -999.0, 11.8907,-999.000
     64PE95N_1,  AR12,   120,  1,     20,   X027,2,19950810,0722, 44.9503,  -2.9178, 2945,    303.0,  11.5385,  35.5806,2,-999.0000,9,    240.9,2,   -999.0,9,     2.96,2,     8.72,2,     0.06,2,     0.53,2,  -999.0, 11.4996,-999.000
     64PE95N_1,  AR12,   120,  1,     19,   X019,2,19950810,0722, 44.9503,  -2.9178, 2945,    404.0,  11.2884,  35.5820,2,  35.5804,2,    230.6,2,    231.3,2,     3.75,2,    10.70,2,     0.06,2,     0.65,2,  -999.0, 11.2369,-999.000
     64PE95N_1,  AR12,   120,  1,     18,   X018,2,19950810,0722, 44.9503,  -2.9178, 2945,    505.0,  10.9439,  35.5696,2,-999.0000,9,    221.3,2,   -999.0,9,     4.82,2,    12.43,2,     0.03,2,     0.75,2,  -999.0, 10.8806,-999.000
     64PE95N_1,  AR12,   120,  1,     17,   X017,2,19950810,0722, 44.9503,  -2.9178, 2945,    606.0,  10.6309,  35.5796,2,  35.5811,2,    211.1,2,    209.9,2,     6.01,2,    13.99,2,     0.03,2,     0.86,2,  -999.0, 10.5558,-999.000
     64PE95N_1,  AR12,   120,  1,     16,   X016,2,19950810,0722, 44.9503,  -2.9178, 2945,    707.0,  10.3919,  35.6247,2,-999.0000,9,    202.0,2,   -999.0,9,     7.27,2,    15.19,2,     0.04,2,     0.94,2,  -999.0, 10.3050,-999.000
     64PE95N_1,  AR12,   120,  1,     15,   X015,2,19950810,0722, 44.9503,  -2.9178, 2945,    809.0,  10.0878,  35.7123,2,  35.7149,2,    193.3,2,    190.2,2,     8.66,2,    16.27,2,     0.03,2,     1.00,2,  -999.0,  9.9897,-999.000
     64PE95N_1,  AR12,   120,  1,     14,   X014,4,19950810,0722, 44.9503,  -2.9178, 2945,    907.0,   9.9329,  35.7513,2,-999.0000,9,    190.6,2,   -999.0,9,     5.47,4,    12.13,4,     0.02,4,     0.75,4,  -999.0,  9.8234,-999.000
     64PE95N_1,  AR12,   120,  1,     13,   X026,2,19950810,0722, 44.9503,  -2.9178, 2945,   1012.0,   9.6001,  35.7536,2,  35.7536,2,    190.5,2,    189.3,2,     9.69,2,    16.91,2,     0.02,2,     1.06,2,  -999.0,  9.4796,-999.000
     64PE95N_1,  AR12,   120,  1,     12,   X029,2,19950810,0722, 44.9503,  -2.9178, 2945,   1214.0,   8.5714,  35.6573,2,-999.0000,9,    197.4,2,   -999.0,9,    10.95,2,    17.32,2,     0.04,2,     1.09,2,  -999.0,  8.4344,-999.000
     64PE95N_1,  AR12,   120,  1,     11,   X007,2,19950810,0722, 44.9503,  -2.9178, 2945,   1417.0,   6.7978,  35.4018,2,  35.4009,2,    215.0,2,    217.9,2,    12.90,2,    17.98,2,     0.04,2,     1.14,2,  -999.0,  6.6549,-999.000
     64PE95N_1,  AR12,   120,  1,     10,   X010,2,19950810,0722, 44.9503,  -2.9178, 2945,   1619.0,   5.5141,  35.2212,2,-999.0000,9,    229.2,2,   -999.0,9,    15.07,2,    18.34,2,     0.03,2,     1.18,2,  -999.0,  5.3641,-999.000
     64PE95N_1,  AR12,   120,  1,      9,   X009,2,19950810,0722, 44.9503,  -2.9178, 2945,   1819.0,   4.4691,  35.0911,2,  35.0899,2,    241.2,2,    243.6,2,    18.10,2,    18.75,2,     0.03,2,     1.22,2,  -999.0,  4.3124,-999.000
     64PE95N_1,  AR12,   120,  1,      8,   X008,2,19950810,0722, 44.9503,  -2.9178, 2945,   2027.0,   3.8368,  35.0312,2,-999.0000,9,    245.4,2,   -999.0,9,    22.39,2,    19.23,2,     0.03,2,     1.29,2,  2028.0,  3.6689,   3.840
     64PE95N_1,  AR12,   120,  1,      6,   X035,2,19950810,0722, 44.9503,  -2.9178, 2945,   2229.0,   3.5036,  35.0005,2,  35.0006,2,    247.3,2,    249.3,2,    25.06,2,    19.54,2,     0.03,2,     1.31,2,  2231.0,  3.3212,   3.501
     64PE95N_1,  AR12,   120,  1,      7,   X032,2,19950810,0722, 44.9503,  -2.9178, 2945,   2229.0,   3.5064,  35.0008,2,  34.9994,2,    247.6,2,    246.3,2,    24.98,2,    19.55,2,     0.03,2,     1.30,2,  -999.0,  3.3240,-999.000
     64PE95N_1,  AR12,   120,  1,      5,   X034,2,19950810,0722, 44.9503,  -2.9178, 2945,   2434.0,   3.2507,  34.9796,2,  34.9798,2,    247.6,2,    246.9,2,    27.76,2,    19.85,2,     0.06,2,     1.33,2,  -999.0,  3.0526,-999.000
     64PE95N_1,  AR12,   120,  1,      4,   X033,2,19950810,0722, 44.9503,  -2.9178, 2945,   2638.0,   3.0123,  34.9601,2,-999.0000,9,    248.8,2,   -999.0,9,    30.81,2,    20.27,2,     0.03,2,     1.38,2,  2638.0,  2.7984,   3.021
     64PE95N_1,  AR12,   120,  1,      2,   X030,2,19950810,0722, 44.9503,  -2.9178, 2945,   2843.0,   2.8614,  34.9473,2,  34.9475,2,    249.3,2,    245.8,2,    33.52,2,    20.95,2,     0.01,2,     1.41,2,  2838.0,  2.6297,   2.857
     64PE95N_1,  AR12,   120,  1,      3,   X028,2,19950810,0722, 44.9503,  -2.9178, 2945,   2843.0,   2.8617,  34.9475,2,  34.9472,2,    249.1,2,    244.0,2,    33.45,2,    20.68,2,     0.04,2,     1.40,2,  -999.0,  2.6300,-999.000
     64PE95N_1,  AR12,   120,  1,      1,   X001,2,19950810,0722, 44.9503,  -2.9178, 2945,   2973.0,   2.7243,  34.9355,2,  34.9357,6,    250.3,3,    243.2,6,    35.80,6,    20.94,6,     0.02,6,     1.43,6,  -999.0,  2.4823,-999.000