BOTTLE,20020117WHPSIOKJU
EXPOCODE,SECT_ID,STNNBR,CASTNO,SAMPNO,BTLNBR,BTLNBR_FLAG_W,DATE,TIME,LATITUDE,LONGITUDE,DEPTH,CTDPRS,CTDTMP,CTDSAL,CTDSAL_FLAG_W,SALNTY,SALNTY_FLAG_W,CTDOXY,CTDOXY_FLAG_W,OXYGEN,OXYGEN_FLAG_W,SILCAT,SILCAT_FLAG_W,NITRAT,NITRAT_FLAG_W,NITRIT,NITRIT_FLAG_W,PHSPHT,PHSPHT_FLAG_W,REVPRS,THETA,REVTMP
,,,,,,,,,,,,DBAR,ITS-90,PSS-78,,PSS-78,,UMOL/KG,,UMOL/KG,,UMOL/KG,,UMOL/KG,,UMOL/KG,,UMOL/KG,,DBAR,ITS-90,ITS-90
     64PE95N_1,  AR12,   112,  1,     21,   X031,2,19950808,1924, 43.7342,  -3.7505, 1600,      7.0,  22.0914,  34.7278,3,  34.7904,2,    233.4,2,    233.8,6,     0.47,2,     0.00,2,     0.04,2,     0.04,2,  -999.0, 22.0900,-999.000
     64PE95N_1,  AR12,   112,  1,     20,   X027,2,19950808,1924, 43.7342,  -3.7505, 1600,     50.0,  12.6676,  35.4799,2,-999.0000,9,    237.1,2,   -999.0,9,     1.56,2,     4.99,2,     0.06,2,     0.31,2,  -999.0, 12.6608,-999.000
     64PE95N_1,  AR12,   112,  1,     19,   X019,2,19950808,1924, 43.7342,  -3.7505, 1600,    101.0,  12.1108,  35.5682,2,  35.5715,2,    244.2,2,    241.1,2,     1.89,2,     6.20,2,     0.01,2,     0.39,2,  -999.0, 12.0974,-999.000
     64PE95N_1,  AR12,   112,  1,     18,   X018,2,19950808,1924, 43.7342,  -3.7505, 1600,    151.0,  11.9446,  35.5858,2,-999.0000,9,    239.2,2,   -999.0,9,     2.26,2,     7.16,2,     0.04,2,     0.45,2,  -999.0, 11.9248,-999.000
     64PE95N_1,  AR12,   112,  1,     17,   X017,2,19950808,1924, 43.7342,  -3.7505, 1600,    202.0,  11.7524,  35.5868,2,  35.5866,2,    237.1,2,    237.7,2,     2.65,2,     8.17,2,     0.02,2,     0.51,2,  -999.0, 11.7263,-999.000
     64PE95N_1,  AR12,   112,  1,     16,   X016,2,19950808,1924, 43.7342,  -3.7505, 1600,    302.0,  11.4925,  35.6010,2,-999.0000,9,    228.6,2,   -999.0,9,     3.29,2,    10.06,2,     0.01,2,     0.60,2,  -999.0, 11.4538,-999.000
     64PE95N_1,  AR12,   112,  1,     15,   X015,2,19950808,1924, 43.7342,  -3.7505, 1600,    406.0,  11.2029,  35.5867,2,  35.5867,2,    224.5,2,    227.6,2,     4.11,2,    11.60,2,     0.00,2,     0.69,2,  -999.0, 11.1515,-999.000
     64PE95N_1,  AR12,   112,  1,     14,   X014,2,19950808,1924, 43.7342,  -3.7505, 1600,    503.0,  10.9347,  35.5795,2,-999.0000,9,    217.3,2,   -999.0,9,     5.09,2,    12.72,2,     0.00,2,     0.78,2,  -999.0, 10.8716,-999.000
     64PE95N_1,  AR12,   112,  1,     13,   X026,2,19950808,1924, 43.7342,  -3.7505, 1600,    605.0,  10.6717,  35.5844,2,  35.5842,2,    209.0,2,    210.5,2,     6.08,2,    13.96,2,     0.00,2,     0.86,2,  -999.0, 10.5966,-999.000
     64PE95N_1,  AR12,   112,  1,     12,   X029,2,19950808,1924, 43.7342,  -3.7505, 1600,    707.0,  10.4251,  35.6255,2,-999.0000,9,    199.8,2,   -999.0,9,     7.30,2,    15.24,2,     0.01,2,     0.94,2,  -999.0, 10.3381,-999.000
     64PE95N_1,  AR12,   112,  1,     11,   X007,2,19950808,1924, 43.7342,  -3.7505, 1600,    808.0,  10.2082,  35.6891,2,  35.6912,2,    193.2,2,    190.6,2,     8.42,2,    16.27,2,     0.00,2,     1.00,2,  -999.0, 10.1095,-999.000
     64PE95N_1,  AR12,   112,  1,     10,   X010,2,19950808,1924, 43.7342,  -3.7505, 1600,    910.0,  10.0396,  35.7433,2,-999.0000,9,    189.3,2,   -999.0,9,     9.05,2,    16.70,2,     0.02,2,     1.04,2,  -999.0,  9.9290,-999.000
     64PE95N_1,  AR12,   112,  1,      9,   X009,2,19950808,1924, 43.7342,  -3.7505, 1600,   1011.0,   9.7005,  35.7624,2,  35.7622,2,    189.1,2,    187.9,2,     9.74,2,    16.89,2,     0.00,2,     1.06,2,  -999.0,  9.5794,-999.000
     64PE95N_1,  AR12,   112,  1,      8,   X008,4,19950808,1924, 43.7342,  -3.7505, 1600,   1111.0,   9.0516,  35.7096,2,-999.0000,9,    193.5,2,   -999.0,9,     8.91,4,    15.56,4,     0.01,4,     0.97,4,  1110.0,  8.9230,   9.066
     64PE95N_1,  AR12,   112,  1,      6,   X006,4,19950808,1924, 43.7342,  -3.7505, 1600,   1213.0,   8.5198,  35.6457,2,  35.6069,4,    197.9,2,    220.3,4,     5.34,4,    11.68,4,     0.00,4,     0.73,4,  1207.0,  8.3834,   8.521
     64PE95N_1,  AR12,   112,  1,      7,   X032,4,19950808,1924, 43.7342,  -3.7505, 1600,   1213.0,   8.5193,  35.6456,2,  35.6155,4,    197.9,2,    202.6,4,     9.28,4,    15.70,4,     0.00,4,     0.99,4,  -999.0,  8.3829,-999.000
     64PE95N_1,  AR12,   112,  1,      5,   X005,4,19950808,1924, 43.7342,  -3.7505, 1600,   1314.0,   7.7458,  35.5387,2,  35.5879,4,    205.3,2,    222.1,4,     5.29,4,    11.38,4,     0.00,4,     0.71,4,  -999.0,  7.6048,-999.000
     64PE95N_1,  AR12,   112,  1,      4,   X004,4,19950808,1924, 43.7342,  -3.7505, 1600,   1416.0,   6.7139,  35.3912,2,-999.0000,9,    217.0,2,   -999.0,9,     5.05,4,    11.11,4,     0.00,4,     0.69,4,  1409.0,  6.5719,   6.677
     64PE95N_1,  AR12,   112,  1,      2,   X030,2,19950808,1924, 43.7342,  -3.7505, 1600,   1525.0,   5.8586,  35.2700,2,  35.2731,2,    227.5,2,    228.6,2,    14.40,2,    18.36,2,     0.00,2,     1.16,2,  1519.0,  5.7144,   5.808
     64PE95N_1,  AR12,   112,  1,      3,   X028,2,19950808,1924, 43.7342,  -3.7505, 1600,   1525.0,   5.8484,  35.2682,2,  35.2708,2,    227.6,2,    227.6,2,    14.48,2,    18.42,2,     0.00,2,     1.18,2,  -999.0,  5.7042,-999.000
     64PE95N_1,  AR12,   112,  1,      1,   X001,2,19950808,1924, 43.7342,  -3.7505, 1600,   1601.0,   5.1356,  35.1730,2,  35.1750,6,    239.2,2,    235.8,6,    15.84,6,    18.56,6,     0.01,6,     1.21,6,  -999.0,  4.9921,-999.000
     64PE95N_1,  AR12,   113,  1,     24,   X024,2,19950809,0543, 43.8337,  -3.8327, 2959,      9.0,  22.1557,  34.6779,3,  34.9144,2,    233.5,2,    237.7,2,     0.59,2,     0.04,2,     0.03,2,     0.03,2,  -999.0, 22.1538,-999.000
     64PE95N_1,  AR12,   113,  1,     23,   X023,2,19950809,0543, 43.8337,  -3.8327, 2959,     51.0,  12.6546,  35.4885,3,  35.5072,2,    238.8,3,    232.5,2,     1.56,2,     5.00,2,     0.06,2,     0.30,2,  -999.0, 12.6477,-999.000
     64PE95N_1,  AR12,   113,  1,     22,   X022,2,19950809,0543, 43.8337,  -3.8327, 2959,    101.0,  12.1743,  35.5754,2,-999.0000,9,    246.4,2,   -999.0,9,     1.66,2,     5.81,2,     0.01,2,     0.36,2,  -999.0, 12.1609,-999.000
     64PE95N_1,  AR12,   113,  1,     21,   X031,2,19950809,0543, 43.8337,  -3.8327, 2959,    202.0,  11.6294,  35.5794,2,  35.5838,2,    243.4,2,    243.3,2,     2.64,2,     8.25,2,     0.01,2,     0.51,2,  -999.0, 11.6034,-999.000
     64PE95N_1,  AR12,   113,  1,     20,   X027,2,19950809,0543, 43.8337,  -3.8327, 2959,    303.0,  11.4227,  35.5974,2,-999.0000,9,    230.0,2,   -999.0,9,     3.53,2,    10.26,2,     0.05,2,     0.61,2,  -999.0, 11.3841,-999.000
     64PE95N_1,  AR12,   113,  1,     19,   X019,2,19950809,0543, 43.8337,  -3.8327, 2959,    404.0,  11.1962,  35.5861,2,  35.5850,2,    225.9,2,    228.0,2,     4.03,2,    11.35,2,     0.01,2,     0.69,2,  -999.0, 11.1450,-999.000
     64PE95N_1,  AR12,   113,  1,     18,   X018,2,19950809,0543, 43.8337,  -3.8327, 2959,    505.0,  10.9921,  35.5795,2,-999.0000,9,    219.4,2,   -999.0,9,     4.73,2,    12.47,2,     0.01,2,     0.75,2,  -999.0, 10.9285,-999.000
     64PE95N_1,  AR12,   113,  1,     17,   X017,2,19950809,0543, 43.8337,  -3.8327, 2959,    605.0,  10.6414,  35.5867,2,  35.5882,2,    210.3,2,   -999.0,9,     6.13,2,    14.17,2,     0.00,2,     0.87,2,  -999.0, 10.5665,-999.000
     64PE95N_1,  AR12,   113,  1,     16,   X016,2,19950809,0543, 43.8337,  -3.8327, 2959,    707.0,  10.3740,  35.6305,2,-999.0000,9,    200.8,2,   -999.0,9,     7.05,2,    15.03,2,     0.01,2,     0.93,2,  -999.0, 10.2873,-999.000
     64PE95N_1,  AR12,   113,  1,     15,   X015,2,19950809,0543, 43.8337,  -3.8327, 2959,    808.0,  10.1957,  35.6939,2,  35.6967,2,    193.5,2,    190.5,2,     8.35,2,    16.24,2,     0.01,2,     1.00,2,  -999.0, 10.0971,-999.000
     64PE95N_1,  AR12,   113,  1,     14,   X014,4,19950809,0543, 43.8337,  -3.8327, 2959,    909.0,   9.9937,  35.7511,2,-999.0000,9,    189.9,2,   -999.0,9,     6.03,4,    13.11,4,     0.02,4,     0.80,4,  -999.0,  9.8835,-999.000
     64PE95N_1,  AR12,   113,  1,     13,   X026,2,19950809,0543, 43.8337,  -3.8327, 2959,   1012.0,   9.7073,  35.7659,2,  35.7647,2,    189.7,2,    188.7,2,     9.78,2,    16.82,2,     0.02,2,     1.05,2,  -999.0,  9.5861,-999.000
     64PE95N_1,  AR12,   113,  1,     12,   X029,2,19950809,0543, 43.8337,  -3.8327, 2959,   1214.0,   8.6507,  35.6679,2,-999.0000,9,    196.5,2,   -999.0,9,    11.06,2,    17.35,2,     0.02,2,     1.09,2,  -999.0,  8.5131,-999.000
     64PE95N_1,  AR12,   113,  1,     11,   X007,2,19950809,0543, 43.8337,  -3.8327, 2959,   1416.0,   6.8971,  35.4160,2,  35.4152,2,    212.5,2,    216.5,2,    12.89,2,    18.09,2,     0.00,2,     1.15,2,  -999.0,  6.7531,-999.000
     64PE95N_1,  AR12,   113,  1,     10,   X010,4,19950809,0543, 43.8337,  -3.8327, 2959,   1620.0,   5.4159,  35.2073,2,-999.0000,9,    229.5,2,   -999.0,9,     7.12,4,    13.81,4,     0.02,4,     0.85,4,  -999.0,  5.2670,-999.000
     64PE95N_1,  AR12,   113,  1,      9,   X009,4,19950809,0543, 43.8337,  -3.8327, 2959,   1823.0,   4.4996,  35.0932,2,  35.5389,4,    239.4,2,    223.5,4,     7.31,4,    13.03,4,     0.02,4,     0.81,4,  -999.0,  4.3421,-999.000
     64PE95N_1,  AR12,   113,  1,      8,   X008,2,19950809,0543, 43.8337,  -3.8327, 2959,   2027.0,   3.9088,  35.0334,2,-999.0000,9,    243.4,2,   -999.0,9,    20.96,2,    19.05,2,     0.01,2,     1.26,2,  2028.0,  3.7398,   3.912
     64PE95N_1,  AR12,   113,  1,      6,   X006,4,19950809,0543, 43.8337,  -3.8327, 2959,   2230.0,   3.4686,  34.9964,2,  35.5325,4,    245.5,2,    226.1,4,     6.59,4,    11.43,4,     0.04,4,     0.73,4,  2232.0,  3.2867,   3.467
     64PE95N_1,  AR12,   113,  1,      7,   X032,2,19950809,0543, 43.8337,  -3.8327, 2959,   2230.0,   3.4690,  34.9965,2,  34.9966,2,    245.9,2,    247.6,2,    24.68,2,    19.58,2,     0.01,2,     1.30,2,  -999.0,  3.2871,-999.000
     64PE95N_1,  AR12,   113,  1,      5,   X005,4,19950809,0543, 43.8337,  -3.8327, 2959,   2434.0,   3.2128,  34.9763,2,  35.5361,4,    246.5,2,    223.2,4,     7.72,4,    12.71,4,     0.04,4,     0.80,4,  -999.0,  3.0154,-999.000
     64PE95N_1,  AR12,   113,  1,      4,   X004,4,19950809,0543, 43.8337,  -3.8327, 2959,   2636.0,   3.0292,  34.9620,2,-999.0000,9,    247.0,2,   -999.0,9,     8.39,4,    13.25,4,     0.01,4,     0.83,4,  2636.0,  2.8151,   3.035
     64PE95N_1,  AR12,   113,  1,      2,   X030,2,19950809,0543, 43.8337,  -3.8327, 2959,   2841.0,   2.8550,  34.9473,2,  34.9477,2,    247.1,2,    245.1,2,    33.18,2,    20.63,2,     0.05,2,     1.39,2,  2837.0,  2.6236,   2.859
     64PE95N_1,  AR12,   113,  1,      3,   X028,2,19950809,0543, 43.8337,  -3.8327, 2959,   2842.0,   2.8552,  34.9473,2,  34.9473,2,    247.2,2,    244.6,2,    33.13,2,    20.82,2,     0.00,2,     1.40,2,  -999.0,  2.6238,-999.000
     64PE95N_1,  AR12,   113,  1,      1,   X001,2,19950809,0543, 43.8337,  -3.8327, 2959,   3010.0,   2.7503,  34.9380,2,  34.9372,6,    248.1,2,    244.0,6,    34.96,6,    21.02,6,     0.01,6,     1.41,6,  -999.0,  2.5039,-999.000
     64PE95N_1,  AR12,   114,  1,     24,   X024,2,19950809,0900, 43.9995,  -3.7467, 2906,     10.0,  22.4076,  34.6246,3,  34.6343,2,    220.1,2,    221.8,6,     0.49,2,     0.05,2,     0.02,2,     0.05,2,  -999.0, 22.4056,-999.000
     64PE95N_1,  AR12,   114,  1,     23,   X023,2,19950809,0900, 43.9995,  -3.7467, 2906,     50.0,  12.9100,  35.5068,2,  35.5055,2,    240.1,2,    237.4,2,     1.04,2,     3.43,2,     0.07,2,     0.22,2,  -999.0, 12.9031,-999.000
     64PE95N_1,  AR12,   114,  1,     22,   X022,2,19950809,0900, 43.9995,  -3.7467, 2906,    102.0,  12.1271,  35.5705,2,-999.0000,9,    241.4,2,   -999.0,9,     1.88,2,     6.15,2,     0.03,2,     0.38,2,  -999.0, 12.1137,-999.000
     64PE95N_1,  AR12,   114,  1,     21,   X031,2,19950809,0900, 43.9995,  -3.7467, 2906,    201.0,  11.7325,  35.5883,2,  35.5882,2,    243.5,2,    243.9,2,     2.47,2,     7.93,2,     0.03,2,     0.49,2,  -999.0, 11.7064,-999.000
     64PE95N_1,  AR12,   114,  1,     20,   X027,2,19950809,0900, 43.9995,  -3.7467, 2906,    301.0,  11.4666,  35.6020,2,-999.0000,9,    233.6,2,   -999.0,9,     3.39,2,     9.94,2,     0.02,2,     0.60,2,  -999.0, 11.4281,-999.000
     64PE95N_1,  AR12,   114,  1,     19,   X019,2,19950809,0900, 43.9995,  -3.7467, 2906,    403.0,  11.2118,  35.5865,2,  35.5860,2,    228.7,2,    228.4,2,     4.02,2,    11.23,2,     0.01,2,     0.68,2,  -999.0, 11.1607,-999.000
     64PE95N_1,  AR12,   114,  1,     18,   X018,2,19950809,0900, 43.9995,  -3.7467, 2906,    505.0,  10.9189,  35.5753,2,-999.0000,9,    219.8,2,   -999.0,9,     5.06,2,    12.77,2,     0.03,2,     0.78,2,  -999.0, 10.8556,-999.000
     64PE95N_1,  AR12,   114,  1,     17,   X017,4,19950809,0900, 43.9995,  -3.7467, 2906,    605.0,  10.6435,  35.5875,2,  35.5845,4,    210.7,2,    225.3,4,     4.17,4,    10.73,4,     0.03,4,     0.66,4,  -999.0, 10.5686,-999.000
     64PE95N_1,  AR12,   114,  1,     16,   X016,2,19950809,0900, 43.9995,  -3.7467, 2906,    706.0,  10.3972,  35.6229,2,-999.0000,9,    200.8,2,   -999.0,9,     7.38,2,    15.34,2,     0.00,2,     0.93,2,  -999.0, 10.3105,-999.000
     64PE95N_1,  AR12,   114,  1,     15,   X015,2,19950809,0900, 43.9995,  -3.7467, 2906,    809.0,  10.1862,  35.6963,2,  35.6971,2,    193.5,2,    190.4,2,     8.49,2,    16.19,2,     0.00,2,     1.00,2,  -999.0, 10.0875,-999.000
     64PE95N_1,  AR12,   114,  1,     14,   X014,4,19950809,0900, 43.9995,  -3.7467, 2906,    909.0,  10.0403,  35.7460,2,-999.0000,9,    189.6,2,   -999.0,9,     4.57,4,    10.62,4,     0.02,4,     0.64,4,  -999.0,  9.9298,-999.000
     64PE95N_1,  AR12,   114,  1,     13,   X026,2,19950809,0900, 43.9995,  -3.7467, 2906,   1011.0,   9.8010,  35.7685,2,  35.7684,2,    188.5,2,    188.3,2,     9.59,2,    16.88,2,     0.02,2,     1.04,2,  -999.0,  9.6792,-999.000
     64PE95N_1,  AR12,   114,  1,     12,   X029,2,19950809,0900, 43.9995,  -3.7467, 2906,   1214.0,   8.6607,  35.6689,2,-999.0000,9,    196.5,2,   -999.0,9,    11.11,2,    17.38,2,     0.03,2,     1.09,2,  -999.0,  8.5229,-999.000
     64PE95N_1,  AR12,   114,  1,     11,   X007,2,19950809,0900, 43.9995,  -3.7467, 2906,   1415.0,   7.0872,  35.4425,2,  35.4402,2,    212.7,2,    213.4,2,    12.82,2,    17.92,2,     0.02,2,     1.13,2,  -999.0,  6.9413,-999.000
     64PE95N_1,  AR12,   114,  1,     10,   X010,2,19950809,0900, 43.9995,  -3.7467, 2906,   1623.0,   5.6034,  35.2317,2,-999.0000,9,    229.2,2,   -999.0,9,    14.86,2,    18.38,2,     0.02,2,     1.19,2,  -999.0,  5.4519,-999.000
     64PE95N_1,  AR12,   114,  1,      9,   X009,2,19950809,0900, 43.9995,  -3.7467, 2906,   1819.0,   4.6607,  35.1112,2,  35.1109,2,    239.8,2,    242.3,2,    17.18,2,    18.65,2,     0.01,2,     1.21,2,  -999.0,  4.5013,-999.000
     64PE95N_1,  AR12,   114,  1,      8,   X008,2,19950809,0900, 43.9995,  -3.7467, 2906,   2027.0,   3.9646,  35.0377,2,-999.0000,9,    245.9,2,   -999.0,9,    20.44,2,    18.99,2,     0.02,2,     1.23,2,  2027.0,  3.7947,   3.961
     64PE95N_1,  AR12,   114,  1,      6,   X006,2,19950809,0900, 43.9995,  -3.7467, 2906,   2230.0,   3.5529,  35.0028,2,  35.0025,2,    248.1,2,    247.5,2,    23.82,2,    19.53,2,     0.01,2,     1.28,2,  2229.0,  3.3696,   3.551
     64PE95N_1,  AR12,   114,  1,      7,   X032,2,19950809,0900, 43.9995,  -3.7467, 2906,   2230.0,   3.5531,  35.0028,2,  35.0027,2,    247.8,2,    247.5,2,    23.82,2,    19.40,2,     0.00,2,     1.28,2,  -999.0,  3.3698,-999.000
     64PE95N_1,  AR12,   114,  1,      5,   X005,4,19950809,0900, 43.9995,  -3.7467, 2906,   2433.0,   3.2371,  34.9777,2,  35.5319,4,    248.5,2,    226.4,4,     6.13,4,    11.03,4,     0.03,4,     0.67,4,  -999.0,  3.0394,-999.000
     64PE95N_1,  AR12,   114,  1,      4,   X004,4,19950809,0900, 43.9995,  -3.7467, 2906,   2640.0,   3.0118,  34.9603,2,-999.0000,9,    248.1,2,   -999.0,9,     6.07,4,    11.01,4,     0.03,4,     0.69,4,  2642.0,  2.7976,   3.012
     64PE95N_1,  AR12,   114,  1,      2,   X030,2,19950809,0900, 43.9995,  -3.7467, 2906,   2843.0,   2.8468,  34.9468,2,  34.9462,2,    248.4,2,    245.5,2,    33.36,2,    20.84,2,     0.02,2,     1.40,2,  2837.0,  2.6154,   2.844
     64PE95N_1,  AR12,   114,  1,      3,   X028,2,19950809,0900, 43.9995,  -3.7467, 2906,   2843.0,   2.8470,  34.9467,2,  34.9460,2,    248.6,2,    244.8,2,    33.24,2,    20.73,2,     0.00,2,     1.39,2,  -999.0,  2.6156,-999.000
     64PE95N_1,  AR12,   114,  1,      1,   X001,2,19950809,0900, 43.9995,  -3.7467, 2906,   2958.0,   2.7847,  34.9410,2,  34.9409,6,    249.3,2,    244.7,2,    34.31,6,    20.92,6,     0.02,6,     1.40,6,  -999.0,  2.5429,-999.000