BOTTLE,20020117WHPSIOKJU
EXPOCODE,SECT_ID,STNNBR,CASTNO,SAMPNO,BTLNBR,BTLNBR_FLAG_W,DATE,TIME,LATITUDE,LONGITUDE,DEPTH,CTDPRS,CTDTMP,CTDSAL,CTDSAL_FLAG_W,SALNTY,SALNTY_FLAG_W,CTDOXY,CTDOXY_FLAG_W,OXYGEN,OXYGEN_FLAG_W,SILCAT,SILCAT_FLAG_W,NITRAT,NITRAT_FLAG_W,NITRIT,NITRIT_FLAG_W,PHSPHT,PHSPHT_FLAG_W,REVPRS,THETA,REVTMP
,,,,,,,,,,,,DBAR,ITS-90,PSS-78,,PSS-78,,UMOL/KG,,UMOL/KG,,UMOL/KG,,UMOL/KG,,UMOL/KG,,UMOL/KG,,DBAR,ITS-90,ITS-90
     64PE95N_1,  AR12,   115,  1,     24,   X024,2,19950809,1213, 44.1673,  -3.7498, 2496,     10.0,  21.7950,  34.8912,3,  34.9476,2,    227.1,2,    229.1,6,     0.37,2,     0.01,2,     0.02,2,     0.03,2,  -999.0, 21.7930,-999.000
     64PE95N_1,  AR12,   115,  1,     23,   X023,2,19950809,1213, 44.1673,  -3.7498, 2496,     50.0,  13.1642,  35.4456,3,  35.4594,2,    240.1,2,    236.8,2,     1.18,2,     3.21,2,     0.13,2,     0.20,2,  -999.0, 13.1572,-999.000
     64PE95N_1,  AR12,   115,  1,     22,   X022,2,19950809,1213, 44.1673,  -3.7498, 2496,    101.0,  12.2355,  35.5655,2,-999.0000,9,    245.1,2,   -999.0,9,     1.54,2,     5.51,2,     0.04,2,     0.36,2,  -999.0, 12.2221,-999.000
     64PE95N_1,  AR12,   115,  1,     21,   X031,2,19950809,1213, 44.1673,  -3.7498, 2496,    202.0,  11.7358,  35.5869,2,  35.5869,2,    245.2,2,    246.1,2,     2.23,2,     7.81,2,     0.03,2,     0.49,2,  -999.0, 11.7096,-999.000
     64PE95N_1,  AR12,   115,  1,     20,   X027,2,19950809,1213, 44.1673,  -3.7498, 2496,    303.0,  11.4835,  35.6048,2,-999.0000,9,    234.4,2,   -999.0,9,     3.07,2,     9.84,2,     0.02,2,     0.60,2,  -999.0, 11.4447,-999.000
     64PE95N_1,  AR12,   115,  1,     19,   X019,2,19950809,1213, 44.1673,  -3.7498, 2496,    403.0,  11.1764,  35.5883,2,  35.5886,2,    224.8,2,    226.4,2,     3.92,2,    11.53,2,     0.00,2,     0.70,2,  -999.0, 11.1253,-999.000
     64PE95N_1,  AR12,   115,  1,     18,   X018,2,19950809,1213, 44.1673,  -3.7498, 2496,    505.0,  10.8743,  35.5806,2,-999.0000,9,    217.3,2,   -999.0,9,     5.11,2,    13.03,2,     0.00,2,     0.80,2,  -999.0, 10.8112,-999.000
     64PE95N_1,  AR12,   115,  1,     17,   X017,2,19950809,1213, 44.1673,  -3.7498, 2496,    607.0,  10.5927,  35.5889,2,  35.5903,2,    208.7,2,    207.0,2,     6.23,2,    14.37,2,     0.02,2,     0.88,2,  -999.0, 10.5177,-999.000
     64PE95N_1,  AR12,   115,  1,     16,   X016,2,19950809,1213, 44.1673,  -3.7498, 2496,    709.0,  10.3797,  35.6312,2,-999.0000,9,    200.4,2,   -999.0,9,     7.40,2,    15.41,2,     0.02,2,     0.95,2,  -999.0, 10.2927,-999.000
     64PE95N_1,  AR12,   115,  1,     15,   X015,2,19950809,1213, 44.1673,  -3.7498, 2496,    807.0,  10.2057,  35.6901,2,  35.6930,2,    193.3,2,    190.4,2,     8.38,2,    16.19,2,     0.03,2,     1.01,2,  -999.0, 10.1072,-999.000
     64PE95N_1,  AR12,   115,  1,     14,   X014,2,19950809,1213, 44.1673,  -3.7498, 2496,    909.0,  10.0458,  35.7393,2,-999.0000,9,    189.6,2,   -999.0,9,     9.10,2,    16.57,2,     0.02,2,     1.02,2,  -999.0,  9.9353,-999.000
     64PE95N_1,  AR12,   115,  1,     13,   X026,2,19950809,1213, 44.1673,  -3.7498, 2496,   1011.0,   9.8132,  35.7651,2,  35.7663,2,    188.5,2,    187.2,2,     9.58,2,    16.88,2,     0.02,2,     1.05,2,  -999.0,  9.6913,-999.000
     64PE95N_1,  AR12,   115,  1,     12,   X029,2,19950809,1213, 44.1673,  -3.7498, 2496,   1113.0,   9.3572,  35.7460,2,-999.0000,9,    191.4,2,   -999.0,9,    10.22,2,    17.09,2,     0.01,2,     1.06,2,  -999.0,  9.2260,-999.000
     64PE95N_1,  AR12,   115,  1,     11,   X007,2,19950809,1213, 44.1673,  -3.7498, 2496,   1214.0,   8.8211,  35.6879,2,  35.6848,2,    194.8,2,    195.4,6,    10.87,2,    17.34,2,     0.03,2,     1.09,2,  -999.0,  8.6819,-999.000
     64PE95N_1,  AR12,   115,  1,     10,   X025,2,19950809,1213, 44.1673,  -3.7498, 2496,   1316.0,   8.1656,  35.5990,2,-999.0000,9,    200.3,2,   -999.0,9,    11.57,2,    17.58,2,     0.01,2,     1.09,2,  -999.0,  8.0204,-999.000
     64PE95N_1,  AR12,   115,  1,      9,   X009,2,19950809,1213, 44.1673,  -3.7498, 2496,   1417.0,   7.4789,  35.4995,2,  35.4977,2,    207.0,2,    209.2,2,    12.26,2,    17.88,2,     0.02,2,     1.13,2,  -999.0,  7.3288,-999.000
     64PE95N_1,  AR12,   115,  1,      8,   X008,2,19950809,1213, 44.1673,  -3.7498, 2496,   1620.0,   5.7010,  35.2438,2,-999.0000,9,    227.3,2,   -999.0,9,    14.42,2,    18.39,2,     0.02,2,     1.18,2,  1618.0,  5.5487,   5.701
     64PE95N_1,  AR12,   115,  1,      7,   X032,2,19950809,1213, 44.1673,  -3.7498, 2496,   1822.0,   4.6479,  35.1076,2,  35.1068,2,    240.5,2,    242.2,2,    16.99,2,    18.69,2,     0.03,2,     1.23,2,  -999.0,  4.4884,-999.000
     64PE95N_1,  AR12,   115,  1,      6,   X035,4,19950809,1213, 44.1673,  -3.7498, 2496,   1823.0,   4.6272,  35.1055,2,  34.9582,4,    240.0,2,   -999.0,9,     0.43,4,     0.02,4,     0.04,4,     0.06,4,  1822.0,  4.4679,-999.000
     64PE95N_1,  AR12,   115,  1,      5,   X034,4,19950809,1213, 44.1673,  -3.7498, 2496,   2026.0,   3.9543,  35.0375,2,  34.9523,4,    244.9,2,   -999.0,9,     0.37,4,     0.01,4,     0.05,4,     0.05,4,  -999.0,  3.7847,-999.000
     64PE95N_1,  AR12,   115,  1,      4,   X033,4,19950809,1213, 44.1673,  -3.7498, 2496,   2231.0,   3.4740,  34.9963,2,-999.0000,9,    248.2,2,   -999.0,9,     0.42,4,     0.10,4,     0.01,4,     0.03,4,  -999.0,  3.2919,-999.000
     64PE95N_1,  AR12,   115,  1,      2,   X030,2,19950809,1213, 44.1673,  -3.7498, 2496,   2434.0,   3.3443,  34.9857,2,  34.9866,2,    249.5,2,    247.5,2,    26.28,2,    19.81,2,     0.02,2,     1.30,2,  2429.0,  3.1445,   3.342
     64PE95N_1,  AR12,   115,  1,      3,   X028,2,19950809,1213, 44.1673,  -3.7498, 2496,   2435.0,   3.3445,  34.9855,2,  34.9854,2,    249.5,2,    247.5,2,    26.22,2,    19.77,2,     0.02,2,     1.30,2,  -999.0,  3.1446,-999.000
     64PE95N_1,  AR12,   115,  1,      1,   X001,2,19950809,1213, 44.1673,  -3.7498, 2496,   2535.0,   3.2239,  34.9757,2,  34.9760,6,    251.1,2,    246.0,6,    27.68,6,    19.91,6,     0.01,6,     1.33,6,  -999.0,  3.0162,-999.000
     64PE95N_1,  AR12,   116,  2,     23,   X023,2,19950809,1552, 44.3332,  -3.7497, 3465,    101.0,  12.1590,  35.5735,2,  35.5751,2,    243.9,2,    245.8,6,     1.77,2,     5.73,2,     0.02,2,     0.36,2,  -999.0, 12.1456,-999.000
     64PE95N_1,  AR12,   116,  2,     22,   X022,2,19950809,1552, 44.3332,  -3.7497, 3465,    201.0,  11.7793,  35.5930,2,-999.0000,9,    245.7,2,   -999.0,9,     2.23,2,     7.15,2,     0.03,2,     0.44,2,  -999.0, 11.7531,-999.000
     64PE95N_1,  AR12,   116,  2,     21,   X031,2,19950809,1552, 44.3332,  -3.7497, 3465,    295.0,  11.4744,  35.6051,2,  35.6048,2,    235.7,2,    233.7,2,     3.35,2,     9.90,2,     0.01,2,     0.60,2,  -999.0, 11.4367,-999.000
     64PE95N_1,  AR12,   116,  2,     20,   X027,2,19950809,1552, 44.3332,  -3.7497, 3465,    404.0,  11.0701,  35.5815,2,-999.0000,9,    226.3,2,   -999.0,9,     4.49,2,    12.01,2,     0.02,2,     0.73,2,  -999.0, 11.0193,-999.000
     64PE95N_1,  AR12,   116,  2,     19,   X019,2,19950809,1552, 44.3332,  -3.7497, 3465,    504.0,  10.7555,  35.5820,2,  35.5816,2,    215.1,2,    212.6,2,     5.73,2,    13.56,2,     0.02,2,     0.83,2,  -999.0, 10.6929,-999.000
     64PE95N_1,  AR12,   116,  2,     18,   X018,2,19950809,1552, 44.3332,  -3.7497, 3465,    604.0,  10.4835,  35.6085,2,-999.0000,9,    204.3,2,   -999.0,9,     6.89,2,    14.80,2,     0.04,2,     0.92,2,  -999.0, 10.4093,-999.000
     64PE95N_1,  AR12,   116,  2,     17,   X017,2,19950809,1552, 44.3332,  -3.7497, 3465,    708.0,  10.3590,  35.6395,2,  35.6401,2,    198.3,2,    196.9,2,     7.50,2,    15.46,2,     0.02,2,     0.96,2,  -999.0, 10.2722,-999.000
     64PE95N_1,  AR12,   116,  2,     16,   X016,2,19950809,1552, 44.3332,  -3.7497, 3465,    808.0,  10.1980,  35.6921,2,-999.0000,9,    191.1,2,   -999.0,9,     8.34,2,    16.13,2,     0.03,2,     0.99,2,  -999.0, 10.0995,-999.000
     64PE95N_1,  AR12,   116,  2,     15,   X015,2,19950809,1552, 44.3332,  -3.7497, 3465,    908.0,  10.0472,  35.7338,2,  35.7345,2,    187.2,2,    188.1,2,     8.91,2,    16.54,2,     0.02,2,     1.02,2,  -999.0,  9.9368,-999.000
     64PE95N_1,  AR12,   116,  2,     14,   X014,2,19950809,1552, 44.3332,  -3.7497, 3465,   1012.0,   9.8587,  35.7578,2,-999.0000,9,    185.9,2,   -999.0,9,     9.54,2,    16.73,2,     0.03,2,     1.04,2,  -999.0,  9.7364,-999.000
     64PE95N_1,  AR12,   116,  2,     13,   X026,2,19950809,1552, 44.3332,  -3.7497, 3465,   1214.0,   9.1694,  35.7285,2,  35.7273,2,    190.8,2,    192.1,2,    10.55,2,    17.13,2,     0.03,2,     1.07,2,  -999.0,  9.0272,-999.000
     64PE95N_1,  AR12,   116,  2,     12,   X029,2,19950809,1552, 44.3332,  -3.7497, 3465,   1411.0,   7.9521,  35.5680,2,-999.0000,9,    203.3,2,   -999.0,9,    11.82,2,    17.71,2,     0.00,2,     1.12,2,  -999.0,  7.7977,-999.000
     64PE95N_1,  AR12,   116,  2,     11,   X007,2,19950809,1552, 44.3332,  -3.7497, 3465,   1620.0,   6.2553,  35.3225,2,  35.3205,2,    222.3,2,    224.1,2,    13.84,2,    18.24,2,     0.00,2,     1.18,2,  -999.0,  6.0962,-999.000
     64PE95N_1,  AR12,   116,  2,     10,   X025,2,19950809,1552, 44.3332,  -3.7497, 3465,   1820.0,   4.9758,  35.1497,2,-999.0000,9,    237.8,2,   -999.0,9,    16.34,2,    18.56,2,     0.02,2,     1.22,2,  -999.0,  4.8120,-999.000
     64PE95N_1,  AR12,   116,  2,      9,   X009,2,19950809,1552, 44.3332,  -3.7497, 3465,   2027.0,   4.1498,  35.0562,2,  35.0562,2,    243.8,2,    245.8,2,    19.48,2,    18.92,2,     0.00,2,     1.25,2,  -999.0,  3.9771,-999.000
     64PE95N_1,  AR12,   116,  2,      8,   X008,2,19950809,1552, 44.3332,  -3.7497, 3465,   2280.0,   3.5628,  35.0039,2,-999.0000,9,    245.6,2,   -999.0,9,    23.97,2,    19.57,2,     0.01,2,     1.29,2,  2280.0,  3.3744,   3.563
     64PE95N_1,  AR12,   116,  2,      7,   X032,2,19950809,1552, 44.3332,  -3.7497, 3465,   2534.0,   3.1865,  34.9741,2,  34.9739,2,    243.9,2,    247.1,2,    27.95,2,    20.07,2,     0.01,2,     1.33,2,  -999.0,  2.9796,-999.000
     64PE95N_1,  AR12,   116,  2,      6,   X035,4,19950809,1552, 44.3332,  -3.7497, 3465,   2535.0,   3.1851,  34.9740,2,  35.5537,4,    244.2,2,    224.2,4,     6.14,4,    11.31,4,     0.02,4,     0.71,4,  2536.0,  2.9782,   3.184
     64PE95N_1,  AR12,   116,  2,      5,   X034,4,19950809,1552, 44.3332,  -3.7497, 3465,   2792.0,   2.9238,  34.9531,2,  35.1668,4,    243.3,2,    233.1,4,    20.44,4,    19.02,4,     0.02,4,     1.25,4,  -999.0,  2.6960,-999.000
     64PE95N_1,  AR12,   116,  2,      4,   X033,2,19950809,1552, 44.3332,  -3.7497, 3465,   3044.0,   2.7550,  34.9387,2,-999.0000,9,    242.1,2,   -999.0,9,    34.12,2,    21.02,2,     0.03,2,     1.41,2,  3046.0,  2.5049,   2.756
     64PE95N_1,  AR12,   116,  2,      2,   X030,2,19950809,1552, 44.3332,  -3.7497, 3465,   3306.0,   2.6359,  34.9274,2,  34.9279,2,    242.0,2,    243.1,2,    37.53,2,    21.26,2,     0.06,2,     1.43,2,  3300.0,  2.3609,   2.634
     64PE95N_1,  AR12,   116,  2,      3,   X028,2,19950809,1552, 44.3332,  -3.7497, 3465,   3307.0,   2.6349,  34.9273,2,  34.9273,2,    242.0,2,    243.2,2,    37.48,2,    21.44,2,     0.02,2,     1.45,2,  -999.0,  2.3598,-999.000
     64PE95N_1,  AR12,   116,  2,      1,   X001,2,19950809,1552, 44.3332,  -3.7497, 3465,   3558.0,   2.5317,  34.9160,2,  34.9166,6,    243.6,2,    240.6,6,    40.15,6,    21.77,6,     0.01,6,     1.47,6,  -999.0,  2.2321,-999.000
     64PE95N_1,  AR12,   117,  1,     24,   X024,2,19950809,2002, 44.5158,  -3.4995, 3892,     10.0,  21.9514,  34.8940,3,  34.9259,2,    226.1,2,    226.3,2,     0.36,2,     0.03,2,     0.01,2,     0.03,2,  -999.0, 21.9494,-999.000
     64PE95N_1,  AR12,   117,  1,     23,   X023,2,19950809,2002, 44.5158,  -3.4995, 3892,    100.0,  12.2484,  35.5697,2,  35.5709,2,    249.1,2,    247.2,2,     1.39,2,     5.17,2,     0.06,2,     0.34,2,  -999.0, 12.2351,-999.000
     64PE95N_1,  AR12,   117,  1,     22,   X022,2,19950809,2002, 44.5158,  -3.4995, 3892,    201.0,  11.7763,  35.5989,2,-999.0000,9,    241.5,2,   -999.0,9,     2.37,2,     8.01,2,     0.03,2,     0.50,2,  -999.0, 11.7501,-999.000
     64PE95N_1,  AR12,   117,  1,     21,   X031,2,19950809,2002, 44.5158,  -3.4995, 3892,    301.0,  11.4909,  35.6037,2,  35.6031,2,    234.8,2,    235.2,2,     3.05,2,     9.79,2,     0.00,2,     0.60,2,  -999.0, 11.4523,-999.000
     64PE95N_1,  AR12,   117,  1,     20,   X027,2,19950809,2002, 44.5158,  -3.4995, 3892,    405.0,  11.2359,  35.5879,2,-999.0000,9,    230.8,2,   -999.0,9,     5.86,2,    13.91,2,     0.01,2,     0.86,2,  -999.0, 11.1844,-999.000
     64PE95N_1,  AR12,   117,  1,     18,   X018,2,19950809,2002, 44.5158,  -3.4995, 3892,    607.0,  10.6466,  35.5840,2,-999.0000,9,    211.2,2,   -999.0,9,     5.95,2,    13.95,2,     0.02,2,     0.87,2,  -999.0, 10.5714,-999.000
     64PE95N_1,  AR12,   117,  1,     19,   X019,2,19950809,2002, 44.5158,  -3.4995, 3892,    607.0,  10.6465,  35.5840,2,  35.5852,2,    210.5,2,    209.2,2,     5.87,2,    13.95,2,     0.01,2,     0.86,2,  -999.0, 10.5713,-999.000
     64PE95N_1,  AR12,   117,  1,     17,   X017,2,19950809,2002, 44.5158,  -3.4995, 3892,    707.0,  10.3763,  35.6285,2,  35.6306,2,    201.2,2,    198.7,2,     7.21,2,    15.25,2,     0.02,2,     0.95,2,  -999.0, 10.2896,-999.000
     64PE95N_1,  AR12,   117,  1,     16,   X016,2,19950809,2002, 44.5158,  -3.4995, 3892,    810.0,  10.1961,  35.6928,2,-999.0000,9,    193.8,2,   -999.0,9,     8.22,2,    16.03,2,     0.00,2,     1.00,2,  -999.0, 10.0974,-999.000
     64PE95N_1,  AR12,   117,  1,     15,   X015,2,19950809,2002, 44.5158,  -3.4995, 3892,   1010.0,   9.7674,  35.7647,2,  35.7645,2,    188.2,2,    187.6,2,     9.47,2,    16.74,2,     0.02,2,     1.05,2,  -999.0,  9.6460,-999.000
     64PE95N_1,  AR12,   117,  1,     14,   X014,2,19950809,2002, 44.5158,  -3.4995, 3892,   1263.0,   8.7052,  35.6727,2,-999.0000,9,    195.7,2,   -999.0,9,    10.77,2,    17.26,2,     0.00,2,     1.09,2,  -999.0,  8.5611,-999.000
     64PE95N_1,  AR12,   117,  1,     13,   X026,2,19950809,2002, 44.5158,  -3.4995, 3892,   1518.0,   6.7122,  35.3880,2,  35.3885,2,    215.9,2,    218.7,2,    12.99,2,    17.95,2,     0.01,2,     1.16,2,  -999.0,  6.5590,-999.000
     64PE95N_1,  AR12,   117,  1,     12,   X029,2,19950809,2002, 44.5158,  -3.4995, 3892,   1770.0,   4.9718,  35.1462,2,-999.0000,9,    236.6,2,   -999.0,9,    15.81,2,    18.36,2,     0.00,2,     1.21,2,  -999.0,  4.8132,-999.000
     64PE95N_1,  AR12,   117,  1,     11,   X007,2,19950809,2002, 44.5158,  -3.4995, 3892,   2025.0,   4.0265,  35.0398,2,  35.0408,2,    246.1,2,    249.5,2,    19.44,2,    18.72,2,     0.02,2,     1.24,2,  -999.0,  3.8559,-999.000
     64PE95N_1,  AR12,   117,  1,     10,   X010,2,19950809,2002, 44.5158,  -3.4995, 3892,   2280.0,   3.5257,  35.0006,2,-999.0000,9,    246.5,2,   -999.0,9,    24.17,2,    19.40,2,     0.02,2,     1.31,2,  -999.0,  3.3379,-999.000
     64PE95N_1,  AR12,   117,  1,      9,   X009,2,19950809,2002, 44.5158,  -3.4995, 3892,   2535.0,   3.1968,  34.9742,2,  34.9743,2,    246.7,2,    249.1,2,    27.85,2,    19.85,2,     0.03,2,     1.33,2,  -999.0,  2.9896,-999.000
     64PE95N_1,  AR12,   117,  1,      8,   X008,2,19950809,2002, 44.5158,  -3.4995, 3892,   2790.0,   2.9618,  34.9558,2,-999.0000,9,    245.6,2,   -999.0,9,    31.52,2,    20.35,2,     0.01,2,     1.39,2,  2790.0,  2.7334,   2.965
     64PE95N_1,  AR12,   117,  1,      6,   X035,2,19950809,2002, 44.5158,  -3.4995, 3892,   3046.0,   2.7241,  34.9361,2,  34.9364,2,    244.6,2,    246.9,2,    35.34,2,    20.96,2,     0.02,2,     1.42,2,  3047.0,  2.4745,   2.725
     64PE95N_1,  AR12,   117,  1,      7,   X032,2,19950809,2002, 44.5158,  -3.4995, 3892,   3046.0,   2.7230,  34.9361,2,  34.9360,2,    244.9,2,    244.0,2,    35.42,2,    20.87,2,     0.03,2,     1.42,2,  -999.0,  2.4735,-999.000
     64PE95N_1,  AR12,   117,  1,      5,   X034,4,19950809,2002, 44.5158,  -3.4995, 3892,   3302.0,   2.6229,  34.9258,2,  34.9576,4,    244.2,2,    243.7,4,    33.00,4,    20.24,4,     0.03,4,     1.37,4,  -999.0,  2.3486,-999.000
     64PE95N_1,  AR12,   117,  1,      4,   X033,2,19950809,2002, 44.5158,  -3.4995, 3892,   3557.0,   2.5605,  34.9184,2,-999.0000,9,    243.6,2,   -999.0,9,    39.56,2,    21.49,2,     0.01,2,     1.47,2,  3559.0,  2.2603,   2.561
     64PE95N_1,  AR12,   117,  1,      2,   X030,2,19950809,2002, 44.5158,  -3.4995, 3892,   3813.0,   2.5234,  34.9125,2,  34.9113,2,    243.7,2,    241.8,2,    41.20,2,    21.47,2,     0.02,2,     1.47,2,  3807.0,  2.1957,   2.522
     64PE95N_1,  AR12,   117,  1,      3,   X028,2,19950809,2002, 44.5158,  -3.4995, 3892,   3813.0,   2.5235,  34.9124,2,  34.9125,2,    243.8,2,    240.8,2,    41.14,2,    21.67,2,     0.03,2,     1.49,2,  -999.0,  2.1958,-999.000
     64PE95N_1,  AR12,   117,  1,      1,   X001,2,19950809,2002, 44.5158,  -3.4995, 3892,   3929.0,   2.5103,  34.9098,2,  34.9092,6,    244.0,2,    239.5,6,    41.85,6,    21.68,6,     0.05,6,     1.48,6,  -999.0,  2.1697,-999.000