BOTTLE,20020117WHPSIOKJU
EXPOCODE,SECT_ID,STNNBR,CASTNO,SAMPNO,BTLNBR,BTLNBR_FLAG_W,DATE,TIME,LATITUDE,LONGITUDE,DEPTH,CTDPRS,CTDTMP,CTDSAL,CTDSAL_FLAG_W,SALNTY,SALNTY_FLAG_W,CTDOXY,CTDOXY_FLAG_W,OXYGEN,OXYGEN_FLAG_W,SILCAT,SILCAT_FLAG_W,NITRAT,NITRAT_FLAG_W,NITRIT,NITRIT_FLAG_W,PHSPHT,PHSPHT_FLAG_W,REVPRS,THETA,REVTMP
,,,,,,,,,,,,DBAR,ITS-90,PSS-78,,PSS-78,,UMOL/KG,,UMOL/KG,,UMOL/KG,,UMOL/KG,,UMOL/KG,,UMOL/KG,,DBAR,ITS-90,ITS-90
     64PE95N_1,  AR12,    31,  1,     24,   X024,2,19950725,0525, 45.4162,  -7.5842, 4823,      9.0,  19.5481,  35.4459,3,  35.4714,2,    233.1,2,    233.1,6,     0.55,2,     0.00,2,     0.00,2,     0.03,2,  -999.0, 19.5465,-999.000
     64PE95N_1,  AR12,    31,  1,     23,   X023,2,19950725,0525, 45.4162,  -7.5842, 4823,     99.0,  12.3524,  35.5689,2,  35.5702,2,    246.2,2,    244.6,2,     1.47,2,     5.04,2,     0.05,2,     0.33,2,  -999.0, 12.3392,-999.000
     64PE95N_1,  AR12,    31,  1,     22,   X022,2,19950725,0525, 45.4162,  -7.5842, 4823,    206.0,  11.8233,  35.5885,2,-999.0000,9,    245.6,2,   -999.0,9,     2.34,2,     7.25,2,     0.03,2,     0.46,2,  -999.0, 11.7966,-999.000
     64PE95N_1,  AR12,    31,  1,     21,   X021,2,19950725,0525, 45.4162,  -7.5842, 4823,    299.0,  11.5574,  35.5826,2,  35.5834,2,    242.9,2,    242.8,2,     2.96,2,     8.68,2,     0.02,2,     0.54,2,  -999.0, 11.5189,-999.000
     64PE95N_1,  AR12,    31,  1,     20,   X020,2,19950725,0525, 45.4162,  -7.5842, 4823,    398.0,  11.3873,  35.5955,2,-999.0000,9,    233.3,2,   -999.0,9,     3.57,2,    10.08,2,     0.00,2,     0.61,2,  -999.0, 11.3364,-999.000
     64PE95N_1,  AR12,    31,  1,     19,   X019,2,19950725,0525, 45.4162,  -7.5842, 4823,    599.0,  10.8194,  35.5609,2,  35.5594,2,    218.2,2,    218.2,2,     5.39,2,    12.83,2,     0.00,2,     0.80,2,  -999.0, 10.7445,-999.000
     64PE95N_1,  AR12,    31,  1,     18,   X018,2,19950725,0525, 45.4162,  -7.5842, 4823,    800.0,  10.2424,  35.6194,2,-999.0000,9,    196.6,2,   -999.0,9,     8.01,2,    15.85,2,     0.03,2,     0.98,2,  -999.0, 10.1447,-999.000
     64PE95N_1,  AR12,    31,  1,     17,   X017,2,19950725,0525, 45.4162,  -7.5842, 4823,   1009.0,   9.7964,  35.7700,2,  35.7706,2,    188.2,2,    187.2,2,     9.56,2,    16.68,2,     0.03,2,     1.06,2,  -999.0,  9.6749,-999.000
     64PE95N_1,  AR12,    31,  1,     16,   X016,2,19950725,0525, 45.4162,  -7.5842, 4823,   1260.0,   8.2526,  35.6171,2,-999.0000,9,    200.4,2,   -999.0,9,    11.23,2,    17.39,2,     0.02,2,     1.10,2,  -999.0,  8.1130,-999.000
     64PE95N_1,  AR12,    31,  1,     15,   X015,2,19950725,0525, 45.4162,  -7.5842, 4823,   1517.0,   6.0757,  35.2849,2,  35.2873,2,    224.0,2,    225.5,2,    13.18,2,    18.03,2,     0.01,2,     1.17,2,  -999.0,  5.9299,-999.000
     64PE95N_1,  AR12,    31,  1,     14,   X014,2,19950725,0525, 45.4162,  -7.5842, 4823,   1774.0,   4.3241,  35.0286,2,-999.0000,9,    250.9,2,   -999.0,9,    13.86,2,    17.93,2,     0.01,2,     1.19,2,  -999.0,  4.1739,-999.000
     64PE95N_1,  AR12,    31,  1,     13,   X013,2,19950725,0525, 45.4162,  -7.5842, 4823,   2023.0,   3.8277,  34.9942,2,  34.9958,2,    252.9,2,    255.0,2,    17.09,2,    18.13,2,     0.03,2,     1.21,2,  -999.0,  3.6604,-999.000
     64PE95N_1,  AR12,    31,  1,     12,   X012,2,19950725,0525, 45.4162,  -7.5842, 4823,   2279.0,   3.4947,  34.9938,2,-999.0000,9,    246.0,2,   -999.0,9,    23.39,2,    19.14,2,     0.01,2,     1.30,2,  -999.0,  3.3075,-999.000
     64PE95N_1,  AR12,    31,  1,     11,   X011,2,19950725,0525, 45.4162,  -7.5842, 4823,   2535.0,   3.1645,  34.9709,2,  34.9702,2,    244.4,2,    246.4,2,    27.69,2,    19.84,2,     0.01,2,     1.34,2,  -999.0,  2.9579,-999.000
     64PE95N_1,  AR12,    31,  1,     10,   X010,2,19950725,0525, 45.4162,  -7.5842, 4823,   2792.0,   2.9197,  34.9526,2,-999.0000,9,    243.3,2,   -999.0,9,    31.22,2,    20.34,2,     0.01,2,     1.37,2,  -999.0,  2.6920,-999.000
     64PE95N_1,  AR12,    31,  1,      9,   X009,2,19950725,0525, 45.4162,  -7.5842, 4823,   3048.0,   2.7497,  34.9389,2,  34.9382,2,    241.4,2,    243.0,2,    34.59,2,    20.76,2,     0.01,2,     1.41,2,  -999.0,  2.4994,-999.000
     64PE95N_1,  AR12,    31,  1,      8,   X008,2,19950725,0525, 45.4162,  -7.5842, 4823,   3302.0,   2.6346,  34.9278,2,-999.0000,9,    240.0,2,   -999.0,9,    36.99,2,    21.10,2,     0.00,2,     1.45,2,  3306.0,  2.3600,   2.634
     64PE95N_1,  AR12,    31,  1,      7,   X007,4,19950725,0525, 45.4162,  -7.5842, 4823,   3560.0,   2.5717,  34.9199,2,  34.9322,4,    238.6,2,    240.6,4,    36.72,4,    21.09,4,     0.02,4,     1.43,4,  -999.0,  2.2709,-999.000
     64PE95N_1,  AR12,    31,  1,      6,   X006,2,19950725,0525, 45.4162,  -7.5842, 4823,   3815.0,   2.5293,  34.9134,2,-999.0000,9,    237.7,2,   -999.0,9,    40.86,2,    21.70,2,     0.02,2,     1.48,2,  3820.0,  2.2011,   2.530
     64PE95N_1,  AR12,    31,  1,      5,   X005,2,19950725,0525, 45.4162,  -7.5842, 4823,   4073.0,   2.5045,  34.9079,2,  34.9074,2,    237.2,2,    238.6,2,    42.08,2,    21.81,2,     0.00,2,     1.50,2,  -999.0,  2.1476,-999.000
     64PE95N_1,  AR12,    31,  1,      4,   X004,2,19950725,0525, 45.4162,  -7.5842, 4823,   4329.0,   2.4917,  34.9033,2,-999.0000,9,    237.2,2,   -999.0,9,    43.35,2,    22.05,2,     0.01,2,     1.52,2,  4334.0,  2.1051,   2.491
     64PE95N_1,  AR12,    31,  1,      3,   X003,2,19950725,0525, 45.4162,  -7.5842, 4823,   4586.0,   2.4971,  34.9007,2,  34.9005,2,    236.0,2,    237.5,2,    43.85,2,    22.23,2,     0.02,2,     1.51,2,  -999.0,  2.0793,-999.000
     64PE95N_1,  AR12,    31,  1,      2,   X002,2,19950725,0525, 45.4162,  -7.5842, 4823,   4842.0,   2.5208,  34.8995,2,-999.0000,9,    235.7,2,   -999.0,9,    44.41,2,    22.15,2,     0.01,2,     1.53,2,  4839.0,  2.0705,   2.521
     64PE95N_1,  AR12,    31,  1,      1,   X001,2,19950725,0525, 45.4162,  -7.5842, 4823,   4944.0,   2.5345,  34.8994,2,  34.8993,6,    235.6,2,    236.5,6,    44.30,6,    22.16,6,     0.02,6,     1.52,6,  -999.0,  2.0709,-999.000
     64PE95N_1,  AR12,    32,  1,     24,   X024,2,19950725,0955, 45.1655,  -7.9993, 4841,     10.0,  19.6742,  35.3865,2,  35.3862,2,    231.1,2,    230.7,2,     0.62,2,     0.00,2,     0.04,2,     0.04,2,  -999.0, 19.6724,-999.000
     64PE95N_1,  AR12,    32,  1,     23,   X023,2,19950725,0955, 45.1655,  -7.9993, 4841,    101.0,  12.3199,  35.5885,2,  35.5892,2,    245.2,2,    244.5,2,     1.62,2,     5.16,2,     0.08,2,     0.35,2,  -999.0, 12.3064,-999.000
     64PE95N_1,  AR12,    32,  1,     22,   X022,2,19950725,0955, 45.1655,  -7.9993, 4841,    202.0,  11.7263,  35.5835,2,-999.0000,9,    243.0,2,   -999.0,9,     2.63,2,     7.55,2,     0.02,2,     0.49,2,  -999.0, 11.7002,-999.000
     64PE95N_1,  AR12,    32,  1,     21,   X021,2,19950725,0955, 45.1655,  -7.9993, 4841,    304.0,  11.4829,  35.6017,2,  35.6019,2,    233.3,2,    233.8,2,     3.45,2,     9.76,2,     0.05,2,     0.61,2,  -999.0, 11.4440,-999.000
     64PE95N_1,  AR12,    32,  1,     20,   X020,2,19950725,0955, 45.1655,  -7.9993, 4841,    403.0,  11.2405,  35.5840,2,-999.0000,9,    228.1,2,   -999.0,9,     4.05,2,    10.89,2,     0.04,2,     0.67,2,  -999.0, 11.1894,-999.000
     64PE95N_1,  AR12,    32,  1,     19,   X019,2,19950725,0955, 45.1655,  -7.9993, 4841,    606.0,  10.7109,  35.5706,2,  35.5703,2,    213.5,2,    212.1,2,     6.22,2,    13.44,2,     0.01,2,     0.84,2,  -999.0, 10.6355,-999.000
     64PE95N_1,  AR12,    32,  1,     18,   X018,2,19950725,0955, 45.1655,  -7.9993, 4841,    808.0,  10.1767,  35.6943,2,-999.0000,9,    191.9,2,   -999.0,9,     8.66,2,    16.18,2,     0.02,2,     1.01,2,  -999.0, 10.0783,-999.000
     64PE95N_1,  AR12,    32,  1,     17,   X017,2,19950725,0955, 45.1655,  -7.9993, 4841,   1011.0,   9.7416,  35.7713,2,  35.7712,2,    187.8,2,    186.8,2,     9.88,2,    16.88,2,     0.04,2,     1.05,2,  -999.0,  9.6203,-999.000
     64PE95N_1,  AR12,    32,  1,     16,   X016,2,19950725,0955, 45.1655,  -7.9993, 4841,   1264.0,   8.3117,  35.6188,2,-999.0000,9,    198.5,2,   -999.0,9,    11.44,2,    17.48,2,     0.03,2,     1.10,2,  -999.0,  8.1711,-999.000
     64PE95N_1,  AR12,    32,  1,     15,   X015,2,19950725,0955, 45.1655,  -7.9993, 4841,   1518.0,   6.1128,  35.2865,2,  35.2822,2,    224.1,2,    226.4,2,    12.76,2,    18.01,2,     0.02,2,     1.16,2,  -999.0,  5.9664,-999.000
     64PE95N_1,  AR12,    32,  1,     14,   X014,2,19950725,0955, 45.1655,  -7.9993, 4841,   1773.0,   4.5689,  35.0802,2,-999.0000,9,    244.2,2,   -999.0,9,    15.22,2,    18.19,2,     0.01,2,     1.20,2,  -999.0,  4.4155,-999.000
     64PE95N_1,  AR12,    32,  1,     13,   X013,2,19950725,0955, 45.1655,  -7.9993, 4841,   2027.0,   3.9394,  35.0255,2,  35.0263,2,    247.2,2,    248.5,2,    19.12,2,    18.69,2,     0.02,2,     1.24,2,  -999.0,  3.7700,-999.000
     64PE95N_1,  AR12,    32,  1,     12,   X012,2,19950725,0955, 45.1655,  -7.9993, 4841,   2282.0,   3.4942,  34.9947,2,-999.0000,9,    246.6,2,   -999.0,9,    23.54,2,    19.23,2,     0.02,2,     1.29,2,  -999.0,  3.3068,-999.000
     64PE95N_1,  AR12,    32,  1,     11,   X011,2,19950725,0955, 45.1655,  -7.9993, 4841,   2533.0,   3.1696,  34.9716,2,-999.0000,9,    245.5,2,    246.4,2,    27.67,2,    19.81,2,     0.02,2,     1.35,2,  -999.0,  2.9632,-999.000
     64PE95N_1,  AR12,    32,  1,     10,   X010,2,19950725,0955, 45.1655,  -7.9993, 4841,   2791.0,   2.9354,  34.9539,2,-999.0000,9,    244.4,2,   -999.0,9,    31.22,2,    20.37,2,     0.03,2,     1.39,2,  -999.0,  2.7075,-999.000
     64PE95N_1,  AR12,    32,  1,      9,   X009,2,19950725,0955, 45.1655,  -7.9993, 4841,   3046.0,   2.7577,  34.9394,2,  34.9397,2,    242.2,2,    243.0,2,    34.66,2,    20.88,2,     0.03,2,     1.45,2,  -999.0,  2.5073,-999.000
     64PE95N_1,  AR12,    32,  1,      8,   X008,2,19950725,0955, 45.1655,  -7.9993, 4841,   3302.0,   2.6445,  34.9285,2,-999.0000,9,    240.6,2,   -999.0,9,    37.10,2,    21.13,2,     0.01,2,     1.44,2,  3304.0,  2.3697,   2.644
     64PE95N_1,  AR12,    32,  1,      7,   X007,4,19950725,0955, 45.1655,  -7.9993, 4841,   3559.0,   2.5729,  34.9200,2,  34.9266,4,    239.3,2,    240.5,4,    38.06,4,    21.22,4,     0.01,4,     1.46,4,  -999.0,  2.2722,-999.000
     64PE95N_1,  AR12,    32,  1,      6,   X006,2,19950725,0955, 45.1655,  -7.9993, 4841,   3815.0,   2.5314,  34.9134,2,-999.0000,9,    238.5,2,   -999.0,9,    41.13,2,    21.76,2,     0.03,2,     1.49,2,  3817.0,  2.2032,   2.533
     64PE95N_1,  AR12,    32,  1,      5,   X005,2,19950725,0955, 45.1655,  -7.9993, 4841,   4074.0,   2.5029,  34.9077,2,  34.9071,2,    238.1,2,    240.3,2,    42.44,2,    22.08,2,     0.05,2,     1.52,2,  -999.0,  2.1459,-999.000
     64PE95N_1,  AR12,    32,  1,      4,   X004,2,19950725,0955, 45.1655,  -7.9993, 4841,   4330.0,   2.4912,  34.9032,2,-999.0000,9,    237.9,2,   -999.0,9,    43.23,2,    22.02,2,     0.02,2,     1.53,2,  4336.0,  2.1045,   2.492
     64PE95N_1,  AR12,    32,  1,      3,   X003,2,19950725,0955, 45.1655,  -7.9993, 4841,   4585.0,   2.4976,  34.9006,2,  34.9005,2,    237.2,2,    239.9,2,    43.81,2,    22.08,2,     0.02,2,     1.51,2,  -999.0,  2.0799,-999.000
     64PE95N_1,  AR12,    32,  1,      2,   X002,2,19950725,0955, 45.1655,  -7.9993, 4841,   4853.0,   2.5188,  34.8990,2,-999.0000,9,    236.6,2,   -999.0,9,    44.62,2,    22.34,2,     0.06,2,     1.53,2,  4848.0,  2.0673,   2.519
     64PE95N_1,  AR12,    32,  1,      1,   X001,2,19950725,0955, 45.1655,  -7.9993, 4841,   4972.0,   2.5334,  34.8990,2,  34.8979,6,    236.8,2,    238.1,6,    44.24,6,    22.14,6,     0.04,6,     1.53,6,  -999.0,  2.0663,-999.000
     64PE95N_1,  AR12,    33,  1,     24,   X024,2,19950725,1445, 44.9147,  -8.0008, 4831,      9.0,  19.0490,  35.5860,2,  35.5901,2,    234.5,2,    234.4,2,     0.44,2,     0.07,2,     0.03,2,     0.03,2,  -999.0, 19.0473,-999.000
     64PE95N_1,  AR12,    33,  1,     23,   X023,2,19950725,1445, 44.9147,  -8.0008, 4831,    101.0,  12.0217,  35.5977,2,  35.5964,2,    247.2,2,    246.6,2,     1.89,2,     6.61,2,     0.03,2,     0.42,2,  -999.0, 12.0085,-999.000
     64PE95N_1,  AR12,    33,  1,     22,   X022,2,19950725,1445, 44.9147,  -8.0008, 4831,    203.0,  11.5746,  35.5791,2,-999.0000,9,    246.7,2,   -999.0,9,     2.87,2,     8.60,2,     0.02,2,     0.56,2,  -999.0, 11.5487,-999.000
     64PE95N_1,  AR12,    33,  1,     21,   X021,2,19950725,1445, 44.9147,  -8.0008, 4831,    306.0,  11.3231,  35.5630,2,  35.5623,2,    242.4,2,    241.5,2,     3.48,2,     9.93,2,     0.03,2,     0.64,2,  -999.0, 11.2842,-999.000
     64PE95N_1,  AR12,    33,  1,     20,   X020,2,19950725,1445, 44.9147,  -8.0008, 4831,    404.0,  11.0473,  35.5404,2,-999.0000,9,    233.3,2,   -999.0,9,     4.17,2,    11.34,2,     0.01,2,     0.71,2,  -999.0, 10.9966,-999.000
     64PE95N_1,  AR12,    33,  1,     19,   X019,2,19950725,1445, 44.9147,  -8.0008, 4831,    607.0,  10.3859,  35.4820,2,  35.4800,2,    222.7,2,    222.5,2,     5.91,2,    13.57,2,     0.03,2,     0.84,2,  -999.0, 10.3119,-999.000
     64PE95N_1,  AR12,    33,  1,     18,   X018,2,19950725,1445, 44.9147,  -8.0008, 4831,    807.0,   9.7252,  35.5334,2,-999.0000,9,    195.9,2,   -999.0,9,     8.69,2,    16.58,2,     0.01,2,     1.05,2,  -999.0,  9.6296,-999.000
     64PE95N_1,  AR12,    33,  1,     17,   X017,2,19950725,1445, 44.9147,  -8.0008, 4831,   1011.0,   9.2447,  35.6676,3,  35.6802,2,    191.7,2,    190.6,2,     9.96,2,    17.13,2,     0.02,2,     1.07,2,  -999.0,  9.1270,-999.000
     64PE95N_1,  AR12,    33,  1,     16,   X016,2,19950725,1445, 44.9147,  -8.0008, 4831,   1263.0,   7.5054,  35.4676,2,-999.0000,9,    207.9,2,   -999.0,9,    11.19,2,    17.76,2,     0.02,2,     1.13,2,  -999.0,  7.3725,-999.000
     64PE95N_1,  AR12,    33,  1,     15,   X015,2,19950725,1445, 44.9147,  -8.0008, 4831,   1517.0,   5.5118,  35.1837,3,  35.1690,2,    233.4,2,    236.3,2,    12.33,2,    18.04,2,     0.03,2,     1.17,2,  -999.0,  5.3724,-999.000
     64PE95N_1,  AR12,    33,  1,     14,   X014,2,19950725,1445, 44.9147,  -8.0008, 4831,   1772.0,   4.1711,  35.0055,2,-999.0000,9,    254.9,2,   -999.0,9,    13.32,2,    17.74,2,     0.02,2,     1.19,2,  -999.0,  4.0231,-999.000
     64PE95N_1,  AR12,    33,  1,     13,   X013,2,19950725,1445, 44.9147,  -8.0008, 4831,   2026.0,   3.8533,  35.0107,2,  35.0123,2,    250.2,2,    251.2,2,    18.29,2,    18.43,2,     0.00,2,     1.24,2,  -999.0,  3.6852,-999.000
     64PE95N_1,  AR12,    33,  1,     12,   X012,2,19950725,1445, 44.9147,  -8.0008, 4831,   2280.0,   3.4292,  34.9875,2,-999.0000,9,    247.9,2,   -999.0,9,    23.27,2,    19.30,2,     0.02,2,     1.32,2,  -999.0,  3.2431,-999.000
     64PE95N_1,  AR12,    33,  1,     11,   X011,2,19950725,1445, 44.9147,  -8.0008, 4831,   2536.0,   3.0730,  34.9649,2,  34.9653,2,    245.4,2,    246.1,2,    28.42,2,    19.97,2,     0.02,2,     1.37,2,  -999.0,  2.8680,-999.000
     64PE95N_1,  AR12,    33,  1,     10,   X010,2,19950725,1445, 44.9147,  -8.0008, 4831,   2791.0,   2.8759,  34.9502,2,-999.0000,9,    244.5,2,   -999.0,9,    31.65,2,    20.36,2,     0.01,2,     1.39,2,  -999.0,  2.6492,-999.000
     64PE95N_1,  AR12,    33,  1,      9,   X009,2,19950725,1445, 44.9147,  -8.0008, 4831,   3047.0,   2.7350,  34.9385,2,  34.9377,2,    242.4,2,    242.5,2,    34.36,2,    20.82,2,     0.01,2,     1.42,2,  -999.0,  2.4850,-999.000
     64PE95N_1,  AR12,    33,  1,      8,   X008,2,19950725,1445, 44.9147,  -8.0008, 4831,   3303.0,   2.6422,  34.9289,2,-999.0000,9,    240.6,2,   -999.0,9,    36.48,2,    21.11,2,     0.03,2,     1.45,2,  3308.0,  2.3673,   2.640
     64PE95N_1,  AR12,    33,  1,      7,   X007,4,19950725,1445, 44.9147,  -8.0008, 4831,   3559.0,   2.5674,  34.9198,2,  34.9238,4,    239.2,2,    240.0,4,    38.35,4,    21.34,4,     0.02,4,     1.47,4,  -999.0,  2.2668,-999.000
     64PE95N_1,  AR12,    33,  1,      6,   X006,2,19950725,1445, 44.9147,  -8.0008, 4831,   3813.0,   2.5264,  34.9134,2,-999.0000,9,    238.3,2,   -999.0,9,    40.79,2,    21.84,2,     0.00,2,     1.50,2,  3818.0,  2.1985,   2.528
     64PE95N_1,  AR12,    33,  1,      5,   X005,2,19950725,1445, 44.9147,  -8.0008, 4831,   4072.0,   2.5042,  34.9081,2,  34.9074,2,    237.5,2,    239.2,2,    41.95,2,    21.93,2,     0.00,2,     1.50,2,  -999.0,  2.1474,-999.000
     64PE95N_1,  AR12,    33,  1,      4,   X004,2,19950725,1445, 44.9147,  -8.0008, 4831,   4330.0,   2.4883,  34.9034,2,-999.0000,9,    236.8,2,   -999.0,9,    43.01,2,    22.03,2,     0.01,2,     1.52,2,  -999.0,  2.1017,   2.488
     64PE95N_1,  AR12,    33,  1,      3,   X003,2,19950725,1445, 44.9147,  -8.0008, 4831,   4587.0,   2.4961,  34.9004,2,  34.9009,2,    236.1,2,    238.7,2,    43.96,2,    22.14,2,     0.01,2,     1.52,2,  -999.0,  2.0783,-999.000
     64PE95N_1,  AR12,    33,  1,      2,   X002,2,19950725,1445, 44.9147,  -8.0008, 4831,   4844.0,   2.5208,  34.8996,2,-999.0000,9,    235.9,2,   -999.0,9,    44.31,2,    22.19,2,     0.01,2,     1.53,2,  -999.0,  2.0703,-999.000
     64PE95N_1,  AR12,    33,  1,      1,   X001,2,19950725,1445, 44.9147,  -8.0008, 4831,   4970.0,   2.5339,  34.8990,2,  34.8990,6,    235.8,2,    237.7,6,    44.18,6,    22.13,6,     0.02,6,     1.52,6,  -999.0,  2.0671,-999.000