BOTTLE,20020117WHPSIOKJU
EXPOCODE,SECT_ID,STNNBR,CASTNO,SAMPNO,BTLNBR,BTLNBR_FLAG_W,DATE,TIME,LATITUDE,LONGITUDE,DEPTH,CTDPRS,CTDTMP,CTDSAL,CTDSAL_FLAG_W,SALNTY,SALNTY_FLAG_W,CTDOXY,CTDOXY_FLAG_W,OXYGEN,OXYGEN_FLAG_W,SILCAT,SILCAT_FLAG_W,NITRAT,NITRAT_FLAG_W,NITRIT,NITRIT_FLAG_W,PHSPHT,PHSPHT_FLAG_W,REVPRS,THETA,REVTMP
,,,,,,,,,,,,DBAR,ITS-90,PSS-78,,PSS-78,,UMOL/KG,,UMOL/KG,,UMOL/KG,,UMOL/KG,,UMOL/KG,,UMOL/KG,,DBAR,ITS-90,ITS-90
     64PE95N_1,  AR12,    56,  1,     24,   X024,2,19950729,0955, 45.5003, -11.9988, 4776,      9.0,  19.0612,  35.7323,2,  35.7299,2,    238.7,2,    239.3,6,     0.38,2,     0.07,2,     0.04,2,     0.08,2,  -999.0, 19.0596,-999.000
     64PE95N_1,  AR12,    56,  1,     23,   X023,2,19950729,0955, 45.5003, -11.9988, 4776,    100.0,  12.2032,  35.6252,2,  35.6234,2,    246.6,2,    244.9,2,     2.64,2,     8.06,2,     0.03,2,     0.52,2,  -999.0, 12.1899,-999.000
     64PE95N_1,  AR12,    56,  1,     22,   X022,2,19950729,0955, 45.5003, -11.9988, 4776,    202.0,  11.6301,  35.5912,2,-999.0000,9,    244.0,2,   -999.0,9,     3.26,2,     9.42,2,     0.03,2,     0.60,2,  -999.0, 11.6040,-999.000
     64PE95N_1,  AR12,    56,  1,     21,   X021,2,19950729,0955, 45.5003, -11.9988, 4776,    302.0,  11.2665,  35.5603,2,  35.5569,2,    236.3,2,    235.5,2,     3.90,2,    10.82,2,     0.03,2,     0.68,2,  -999.0, 11.2283,-999.000
     64PE95N_1,  AR12,    56,  1,     20,   X020,2,19950729,0955, 45.5003, -11.9988, 4776,    403.0,  10.9447,  35.5274,2,-999.0000,9,    235.3,2,   -999.0,9,     4.34,2,    11.60,2,     0.03,2,     0.73,2,  -999.0, 10.8944,-999.000
     64PE95N_1,  AR12,    56,  1,     19,   X019,2,19950729,0955, 45.5003, -11.9988, 4776,    605.0,  10.2643,  35.4677,2,  35.4692,2,    222.7,2,    221.3,2,     6.18,2,    14.00,2,     0.02,2,     0.89,2,  -999.0, 10.1911,-999.000
     64PE95N_1,  AR12,    56,  1,     18,   X018,2,19950729,0955, 45.5003, -11.9988, 4776,    808.0,   9.8842,  35.6029,2,-999.0000,9,    193.6,2,   -999.0,9,     8.70,2,    16.64,2,     0.02,2,     1.06,2,  -999.0,  9.7875,-999.000
     64PE95N_1,  AR12,    56,  1,     17,   X017,2,19950729,0955, 45.5003, -11.9988, 4776,   1011.0,  10.0140,  35.8475,2,  35.8469,2,    186.1,2,    186.8,2,     9.40,2,    16.53,2,     0.02,2,     1.04,2,  -999.0,  9.8905,-999.000
     64PE95N_1,  AR12,    56,  1,     16,   X016,2,19950729,0955, 45.5003, -11.9988, 4776,   1264.0,   7.9202,  35.5501,2,-999.0000,9,    203.2,2,   -999.0,9,    10.92,2,    17.56,2,     0.02,2,     1.12,2,  -999.0,  7.7833,-999.000
     64PE95N_1,  AR12,    56,  1,     15,   X015,2,19950729,0955, 45.5003, -11.9988, 4776,   1516.0,   5.1141,  35.1069,2,  35.1050,2,    240.7,2,    243.5,2,    11.77,2,    18.04,2,     0.01,2,     1.19,2,  -999.0,  4.9794,-999.000
     64PE95N_1,  AR12,    56,  1,     14,   X014,2,19950729,0955, 45.5003, -11.9988, 4776,   1773.0,   4.2359,  35.0054,2,-999.0000,9,    256.1,2,   -999.0,9,    12.63,2,    17.77,2,     0.03,2,     1.18,2,  -999.0,  4.0870,-999.000
     64PE95N_1,  AR12,    56,  1,     13,   X013,2,19950729,0955, 45.5003, -11.9988, 4776,   2022.0,   3.7600,  34.9690,2,  34.9691,2,    260.6,2,    263.1,2,    14.39,2,    17.79,2,     0.02,2,     1.19,2,  -999.0,  3.5939,-999.000
     64PE95N_1,  AR12,    56,  1,     12,   X012,2,19950729,0955, 45.5003, -11.9988, 4776,   2281.0,   3.4664,  34.9714,2,-999.0000,9,    256.3,2,   -999.0,9,    18.73,2,    18.35,2,     0.02,2,     1.24,2,  -999.0,  3.2796,-999.000
     64PE95N_1,  AR12,    56,  1,     11,   X011,2,19950729,0955, 45.5003, -11.9988, 4776,   2537.0,   3.2220,  34.9695,2,  34.9682,2,    250.6,2,    262.0,3,    24.54,2,    19.33,2,     0.02,2,     1.32,2,  -999.0,  3.0142,-999.000
     64PE95N_1,  AR12,    56,  1,     10,   X010,2,19950729,0955, 45.5003, -11.9988, 4776,   2790.0,   2.9835,  34.9568,2,-999.0000,9,    247.2,2,   -999.0,9,    28.78,2,    19.85,2,     0.02,2,     1.37,2,  -999.0,  2.7547,-999.000
     64PE95N_1,  AR12,    56,  1,      9,   X009,4,19950729,0955, 45.5003, -11.9988, 4776,   3046.0,   2.8401,  34.9463,2,  35.4889,4,    245.5,2,    228.7,4,     7.51,4,    13.36,4,     0.03,4,     0.87,4,  -999.0,  2.5880,-999.000
     64PE95N_1,  AR12,    56,  1,      8,   X008,2,19950729,0955, 45.5003, -11.9988, 4776,   3303.0,   2.7016,  34.9343,2,-999.0000,9,    242.8,2,   -999.0,9,    35.25,2,    21.04,2,     0.03,2,     1.44,2,  -999.0,  2.4254,-999.000
     64PE95N_1,  AR12,    56,  1,      7,   X007,2,19950729,0955, 45.5003, -11.9988, 4776,   3558.0,   2.6129,  34.9246,2,  34.9259,2,    240.5,2,    244.3,2,    37.12,2,    21.24,2,     0.02,2,     1.47,2,  -999.0,  2.3112,-999.000
     64PE95N_1,  AR12,    56,  1,      6,   X006,2,19950729,0955, 45.5003, -11.9988, 4776,   3814.0,   2.5624,  34.9173,2,-999.0000,9,    238.9,2,   -999.0,9,    40.12,2,    21.67,2,     0.02,2,     1.50,2,  -999.0,  2.2334,-999.000
     64PE95N_1,  AR12,    56,  1,      5,   X005,4,19950729,0955, 45.5003, -11.9988, 4776,   4072.0,   2.5325,  34.9113,2,  35.5099,4,    238.0,2,    229.5,4,     7.28,4,    12.81,4,     0.04,4,     0.83,4,  -999.0,  2.1749,-999.000
     64PE95N_1,  AR12,    56,  1,      4,   X004,2,19950729,0955, 45.5003, -11.9988, 4776,   4327.0,   2.5174,  34.9065,2,-999.0000,9,    238.1,2,   -999.0,9,    42.57,2,    22.13,2,     0.03,2,     1.53,2,  -999.0,  2.1303,-999.000
     64PE95N_1,  AR12,    56,  1,      3,   X003,2,19950729,0955, 45.5003, -11.9988, 4776,   4586.0,   2.5154,  34.9032,2,  34.9021,2,    238.1,2,    240.1,2,    43.15,2,    22.21,2,     0.02,2,     1.53,2,  -999.0,  2.0971,-999.000
     64PE95N_1,  AR12,    56,  1,      2,   X002,2,19950729,0955, 45.5003, -11.9988, 4776,   4842.0,   2.5263,  34.9008,2,-999.0000,9,    237.6,2,   -999.0,9,    43.99,2,    22.31,2,     0.03,2,     1.55,2,  -999.0,  2.0758,-999.000
     64PE95N_1,  AR12,    56,  1,      1,   X001,2,19950729,0955, 45.5003, -11.9988, 4776,   4900.0,   2.5338,  34.9008,2,  34.9003,6,    237.7,2,    238.5,6,    43.96,6,    22.45,6,     0.03,6,     1.54,6,  -999.0,  2.0758,-999.000
     64PE95N_1,  AR12,    57,  1,     24,   X024,2,19950729,1555, 46.0003, -11.9995, 4777,     11.0,  18.9911,  35.6301,2,  35.6288,2,    242.5,2,    242.6,6,     0.32,2,     0.00,2,     0.03,2,     0.06,2,  -999.0, 18.9891,-999.000
     64PE95N_1,  AR12,    57,  1,     23,   X023,2,19950729,1555, 46.0003, -11.9995, 4777,    102.0,  11.9044,  35.5559,2,  35.5532,2,    246.1,2,    245.9,2,     2.06,2,     8.27,2,     0.02,2,     0.53,2,  -999.0, 11.8910,-999.000
     64PE95N_1,  AR12,    57,  1,     22,   X022,2,19950729,1555, 46.0003, -11.9995, 4777,    201.0,  11.0656,  35.5088,2,-999.0000,9,    245.4,2,   -999.0,9,     3.63,2,    10.62,2,     0.02,2,     0.68,2,  -999.0, 11.0406,-999.000
     64PE95N_1,  AR12,    57,  1,     21,   X021,2,19950729,1555, 46.0003, -11.9995, 4777,    303.0,  10.8482,  35.5089,3,  35.5140,2,    235.6,2,    233.2,2,     4.47,2,    11.97,2,     0.02,2,     0.76,2,  -999.0, 10.8108,-999.000
     64PE95N_1,  AR12,    57,  1,     20,   X020,2,19950729,1555, 46.0003, -11.9995, 4777,    404.0,  10.5144,  35.4687,2,-999.0000,9,    241.1,2,   -999.0,9,     4.64,2,    11.92,2,     0.01,2,     0.76,2,  -999.0, 10.4652,-999.000
     64PE95N_1,  AR12,    57,  1,     19,   X019,2,19950729,1555, 46.0003, -11.9995, 4777,    606.0,   9.8460,  35.4167,2,  35.4196,2,    217.8,2,    217.8,2,     6.93,2,    14.76,2,     0.01,2,     0.95,2,  -999.0,  9.7745,-999.000
     64PE95N_1,  AR12,    57,  1,     18,   X018,2,19950729,1555, 46.0003, -11.9995, 4777,    806.0,   9.6087,  35.5983,2,-999.0000,9,    190.9,2,   -999.0,9,     9.09,2,    17.04,2,     0.02,2,     1.08,2,  -999.0,  9.5139,-999.000
     64PE95N_1,  AR12,    57,  1,     17,   X017,2,19950729,1555, 46.0003, -11.9995, 4777,   1010.0,   8.4835,  35.5412,2,  35.5399,2,    197.3,2,    198.4,2,    10.34,2,    17.66,2,     0.01,2,     1.12,2,  -999.0,  8.3717,-999.000
     64PE95N_1,  AR12,    57,  1,     16,   X016,2,19950729,1555, 46.0003, -11.9995, 4777,   1265.0,   6.5491,  35.3093,2,-999.0000,9,    218.6,2,   -999.0,9,    11.13,2,    18.12,2,     0.01,2,     1.18,2,  -999.0,  6.4251,-999.000
     64PE95N_1,  AR12,    57,  1,     15,   X015,2,19950729,1555, 46.0003, -11.9995, 4777,   1519.0,   4.8450,  35.0845,3,  35.0768,2,    246.6,2,    248.3,2,    11.71,2,    17.95,2,     0.01,2,     1.17,2,  -999.0,  4.7132,-999.000
     64PE95N_1,  AR12,    57,  1,     14,   X014,2,19950729,1555, 46.0003, -11.9995, 4777,   1773.0,   3.7646,  34.9308,2,-999.0000,9,    269.7,2,   -999.0,9,    11.30,2,    17.37,2,     0.01,2,     1.16,2,  -999.0,  3.6221,-999.000
     64PE95N_1,  AR12,    57,  1,     13,   X013,2,19950729,1555, 46.0003, -11.9995, 4777,   2025.0,   3.5618,  34.9373,2,  34.9379,2,    268.9,2,    268.2,2,    12.85,2,    17.43,2,     0.01,2,     1.16,2,  -999.0,  3.3985,-999.000
     64PE95N_1,  AR12,    57,  1,     12,   X012,2,19950729,1555, 46.0003, -11.9995, 4777,   2280.0,   3.4849,  34.9797,2,-999.0000,9,    254.8,2,   -999.0,9,    20.24,2,    18.66,2,     0.00,2,     1.25,2,  -999.0,  3.2979,-999.000
     64PE95N_1,  AR12,    57,  1,     11,   X011,2,19950729,1555, 46.0003, -11.9995, 4777,   2535.0,   3.1811,  34.9674,2,  34.9666,2,    251.5,2,    251.9,6,    24.59,2,    19.29,2,     0.01,2,     1.31,2,  -999.0,  2.9742,-999.000
     64PE95N_1,  AR12,    57,  1,     10,   X010,2,19950729,1555, 46.0003, -11.9995, 4777,   2791.0,   2.9712,  34.9555,2,-999.0000,9,    250.0,2,   -999.0,9,    27.76,2,    19.79,2,     0.01,2,     1.35,2,  -999.0,  2.7426,-999.000
     64PE95N_1,  AR12,    57,  1,      9,   X009,2,19950729,1555, 46.0003, -11.9995, 4777,   3046.0,   2.7903,  34.9432,2,  34.9426,2,    247.6,2,    247.7,2,    31.12,2,    20.26,2,     0.02,2,     1.39,2,  -999.0,  2.5393,-999.000
     64PE95N_1,  AR12,    57,  1,      8,   X008,2,19950729,1555, 46.0003, -11.9995, 4777,   3302.0,   2.6617,  34.9312,2,-999.0000,9,    242.9,2,   -999.0,9,    35.91,2,    21.07,2,     0.00,2,     1.43,2,  3304.0,  2.3865,   2.660
     64PE95N_1,  AR12,    57,  1,      7,   X007,2,19950729,1555, 46.0003, -11.9995, 4777,   3558.0,   2.5797,  34.9219,2,  34.9234,2,    241.0,2,    243.4,2,    37.89,2,    21.45,2,     0.02,2,     1.46,2,  -999.0,  2.2788,-999.000
     64PE95N_1,  AR12,    57,  1,      6,   X006,2,19950729,1555, 46.0003, -11.9995, 4777,   3814.0,   2.5453,  34.9156,2,-999.0000,9,    238.8,2,   -999.0,9,    40.46,2,    21.90,2,     0.02,2,     1.50,2,  3816.0,  2.2168,   2.544
     64PE95N_1,  AR12,    57,  1,      5,   X005,2,19950729,1555, 46.0003, -11.9995, 4777,   4070.0,   2.5308,  34.9112,2,  34.9104,2,    238.2,2,    239.4,2,    41.55,2,    21.98,2,     0.02,2,     1.51,2,  -999.0,  2.1735,-999.000
     64PE95N_1,  AR12,    57,  1,      4,   X004,2,19950729,1555, 46.0003, -11.9995, 4777,   4327.0,   2.5216,  34.9070,2,-999.0000,9,    238.6,2,   -999.0,9,    42.20,2,    22.12,2,     0.01,2,     1.51,2,  4331.0,  2.1343,   2.520
     64PE95N_1,  AR12,    57,  1,      3,   X003,2,19950729,1555, 46.0003, -11.9995, 4777,   4584.0,   2.5221,  34.9037,2,  34.9032,2,    238.4,2,    241.2,2,    43.08,2,    22.22,2,     0.01,2,     1.51,2,  -999.0,  2.1039,-999.000
     64PE95N_1,  AR12,    57,  1,      2,   X002,2,19950729,1555, 46.0003, -11.9995, 4777,   4843.0,   2.5311,  34.9014,2,-999.0000,9,    238.6,2,   -999.0,9,    43.53,2,    22.34,2,     0.02,2,     1.52,2,  4840.0,  2.0804,   2.532
     64PE95N_1,  AR12,    57,  1,      1,   X001,2,19950729,1555, 46.0003, -11.9995, 4777,   4902.0,   2.5358,  34.9008,2,  34.9001,6,    238.2,2,    239.0,6,    43.94,6,    22.27,6,     0.02,6,     1.51,6,  -999.0,  2.0775,-999.000
     64PE95N_1,  AR12,    58,  1,     24,   X024,2,19950729,2143, 46.5003, -12.0000, 4761,     11.0,  18.7134,  35.6397,2,  35.6405,2,    242.0,2,    242.3,2,     0.20,2,     0.01,2,     0.03,2,     0.06,2,  -999.0, 18.7114,-999.000
     64PE95N_1,  AR12,    58,  1,     23,   X023,2,19950729,2143, 46.5003, -12.0000, 4761,    102.0,  12.1920,  35.6013,2,  35.5993,2,    247.1,2,    244.3,2,     2.30,2,     8.05,2,     0.04,2,     0.51,2,  -999.0, 12.1785,-999.000
     64PE95N_1,  AR12,    58,  1,     22,   X022,2,19950729,2143, 46.5003, -12.0000, 4761,    188.0,  11.2167,  35.5297,2,-999.0000,9,    240.6,2,   -999.0,9,     4.05,2,    10.92,2,     0.02,2,     0.69,2,  -999.0, 11.1930,-999.000
     64PE95N_1,  AR12,    58,  1,     21,   X021,2,19950729,2143, 46.5003, -12.0000, 4761,    304.0,  10.8638,  35.5011,2,  35.5012,2,    242.3,2,    241.2,2,     4.21,2,    11.34,2,     0.03,2,     0.72,2,  -999.0, 10.8262,-999.000
     64PE95N_1,  AR12,    58,  1,     20,   X020,2,19950729,2143, 46.5003, -12.0000, 4761,    406.0,  10.5988,  35.4750,2,-999.0000,9,    244.6,2,   -999.0,9,     4.36,2,    11.38,2,     0.03,2,     0.71,2,  -999.0, 10.5492,-999.000
     64PE95N_1,  AR12,    58,  1,     19,   X019,2,19950729,2143, 46.5003, -12.0000, 4761,    605.0,   9.8119,  35.4225,2,  35.4218,2,    216.0,2,    216.6,2,     7.23,2,    14.98,2,     0.01,2,     0.94,2,  -999.0,  9.7406,-999.000
     64PE95N_1,  AR12,    58,  1,     18,   X018,2,19950729,2143, 46.5003, -12.0000, 4761,    805.0,   8.8984,  35.4246,2,-999.0000,9,    197.2,2,   -999.0,9,     9.77,2,    17.59,2,     0.02,2,     1.11,2,  -999.0,  8.8080,-999.000
     64PE95N_1,  AR12,    58,  1,     17,   X017,2,19950729,2143, 46.5003, -12.0000, 4761,   1009.0,   7.9033,  35.4286,3,  35.4207,2,    201.8,2,    202.6,2,    10.91,2,    18.18,2,     0.02,2,     1.15,2,  -999.0,  7.7959,-999.000
     64PE95N_1,  AR12,    58,  1,     16,   X016,2,19950729,2143, 46.5003, -12.0000, 4761,   1263.0,   5.8917,  35.1919,2,-999.0000,9,    227.5,2,   -999.0,9,    11.84,2,    18.27,2,     0.04,2,     1.19,2,  -999.0,  5.7742,-999.000
     64PE95N_1,  AR12,    58,  1,     15,   X015,2,19950729,2143, 46.5003, -12.0000, 4761,   1516.0,   4.4877,  35.0145,2,  35.0159,2,    251.5,2,    253.0,2,    11.96,2,    18.04,2,     0.02,2,     1.17,2,  -999.0,  4.3604,-999.000
     64PE95N_1,  AR12,    58,  1,     14,   X014,2,19950729,2143, 46.5003, -12.0000, 4761,   1769.0,   3.7252,  34.9334,2,-999.0000,9,    266.6,2,   -999.0,9,    12.50,2,    17.58,2,     0.01,2,     1.16,2,  -999.0,  3.5836,-999.000
     64PE95N_1,  AR12,    58,  1,     13,   X013,2,19950729,2143, 46.5003, -12.0000, 4761,   2024.0,   3.5281,  34.9448,2,  34.9449,2,    263.5,2,    265.6,6,    14.58,2,    17.70,2,     0.02,2,     1.18,2,  -999.0,  3.3653,-999.000
     64PE95N_1,  AR12,    58,  1,     12,   X012,2,19950729,2143, 46.5003, -12.0000, 4761,   2280.0,   3.3498,  34.9615,2,-999.0000,9,    256.5,2,   -999.0,9,    19.00,2,    18.29,2,     0.03,2,     1.23,2,  -999.0,  3.1651,-999.000
     64PE95N_1,  AR12,    58,  1,     11,   X011,2,19950729,2143, 46.5003, -12.0000, 4761,   2536.0,   3.1461,  34.9656,2,  34.9659,2,    247.5,2,    249.1,2,    26.92,2,    19.75,2,     0.02,2,     1.32,2,  -999.0,  2.9397,-999.000
     64PE95N_1,  AR12,    58,  1,     10,   X010,2,19950729,2143, 46.5003, -12.0000, 4761,   2791.0,   2.9467,  34.9532,2,-999.0000,9,    244.1,2,   -999.0,9,    31.26,2,    20.29,2,     0.03,2,     1.39,2,  -999.0,  2.7185,-999.000
     64PE95N_1,  AR12,    58,  1,      9,   X009,2,19950729,2143, 46.5003, -12.0000, 4761,   3045.0,   2.7936,  34.9418,2,  34.9406,2,    241.0,2,    242.9,2,    34.91,2,    21.10,2,     0.03,2,     1.42,2,  -999.0,  2.5426,-999.000
     64PE95N_1,  AR12,    58,  1,      8,   X008,2,19950729,2143, 46.5003, -12.0000, 4761,   3301.0,   2.6817,  34.9319,2,-999.0000,9,    240.5,2,   -999.0,9,    36.72,2,    21.29,2,     0.04,2,     1.44,2,  3304.0,  2.4062,   2.681
     64PE95N_1,  AR12,    58,  1,      7,   X007,2,19950729,2143, 46.5003, -12.0000, 4761,   3558.0,   2.6079,  34.9236,2,  34.9268,2,    239.0,2,    241.3,2,    37.91,2,    21.46,2,     0.02,2,     1.45,2,  -999.0,  2.3064,-999.000
     64PE95N_1,  AR12,    58,  1,      6,   X006,2,19950729,2143, 46.5003, -12.0000, 4761,   3815.0,   2.5546,  34.9163,2,-999.0000,9,    238.3,2,   -999.0,9,    40.91,2,    21.91,2,     0.02,2,     1.48,2,  3818.0,  2.2258,   2.554
     64PE95N_1,  AR12,    58,  1,      5,   X005,2,19950729,2143, 46.5003, -12.0000, 4761,   4071.0,   2.5263,  34.9108,2,  34.9102,2,    237.8,2,    238.5,2,    42.33,2,    22.24,2,     0.03,2,     1.50,2,  -999.0,  2.1691,-999.000
     64PE95N_1,  AR12,    58,  1,      4,   X004,2,19950729,2143, 46.5003, -12.0000, 4761,   4328.0,   2.5104,  34.9059,2,-999.0000,9,    237.4,2,   -999.0,9,    43.43,2,    22.36,2,     0.04,2,     1.52,2,  4332.0,  2.1233,   2.510
     64PE95N_1,  AR12,    58,  1,      3,   X003,2,19950729,2143, 46.5003, -12.0000, 4761,   4586.0,   2.5148,  34.9028,2,  34.9026,2,    237.4,2,    237.3,2,    43.97,2,    22.38,2,     0.02,2,     1.51,2,  -999.0,  2.0965,-999.000
     64PE95N_1,  AR12,    58,  1,      2,   X002,2,19950729,2143, 46.5003, -12.0000, 4761,   4844.0,   2.5318,  34.9009,2,-999.0000,9,    237.4,2,   -999.0,9,    44.58,2,    22.37,2,     0.05,2,     1.52,2,  4840.0,  2.0809,   2.533
     64PE95N_1,  AR12,    58,  1,      1,   X001,2,19950729,2143, 46.5003, -12.0000, 4761,   4881.0,   2.5364,  34.9011,2,  34.9014,6,    237.7,2,    236.3,6,    44.72,6,    22.47,6,     0.04,6,     1.51,6,  -999.0,  2.0808,-999.000