BOTTLE,20020117WHPSIOKJU
EXPOCODE,SECT_ID,STNNBR,CASTNO,SAMPNO,BTLNBR,BTLNBR_FLAG_W,DATE,TIME,LATITUDE,LONGITUDE,DEPTH,CTDPRS,CTDTMP,CTDSAL,CTDSAL_FLAG_W,SALNTY,SALNTY_FLAG_W,CTDOXY,CTDOXY_FLAG_W,OXYGEN,OXYGEN_FLAG_W,SILCAT,SILCAT_FLAG_W,NITRAT,NITRAT_FLAG_W,NITRIT,NITRIT_FLAG_W,PHSPHT,PHSPHT_FLAG_W,REVPRS,THETA,REVTMP
,,,,,,,,,,,,DBAR,ITS-90,PSS-78,,PSS-78,,UMOL/KG,,UMOL/KG,,UMOL/KG,,UMOL/KG,,UMOL/KG,,UMOL/KG,,DBAR,ITS-90,ITS-90
     64PE95N_1,  AR12,    20,  1,     24,   X024,2,19950723,1700, 46.5478,  -5.7535, 3746,     10.0,  19.5744,  35.3030,2,  35.3050,2,    239.2,2,    239.2,6,     0.65,6,     0.04,6,     0.00,6,     0.01,6,  -999.0, 19.5726,-999.000
     64PE95N_1,  AR12,    20,  1,     23,   X023,2,19950723,1700, 46.5478,  -5.7535, 3746,    103.0,  11.8322,  35.5781,2,  35.5775,2,    249.1,2,    249.7,2,     2.13,6,     7.03,6,     0.02,6,     0.41,6,  -999.0, 11.8189,-999.000
     64PE95N_1,  AR12,    20,  1,     22,   X022,2,19950723,1700, 46.5478,  -5.7535, 3746,    201.0,  11.4430,  35.5640,2,-999.0000,9,    248.8,2,   -999.0,9,     2.95,6,     8.99,6,     0.01,6,     0.52,6,  -999.0, 11.4173,-999.000
     64PE95N_1,  AR12,    20,  1,     21,   X021,2,19950723,1700, 46.5478,  -5.7535, 3746,    303.0,  11.2241,  35.5589,2,  35.5582,2,    236.8,2,    237.5,2,     3.76,6,    10.85,6,     0.03,6,     0.63,6,  -999.0, 11.1858,-999.000
     64PE95N_1,  AR12,    20,  1,     20,   X020,2,19950723,1700, 46.5478,  -5.7535, 3746,    405.0,  10.9768,  35.5411,2,-999.0000,9,    231.2,2,   -999.0,9,     4.41,6,    11.81,6,     0.01,6,     0.69,6,  -999.0, 10.9262,-999.000
     64PE95N_1,  AR12,    20,  1,     19,   X019,2,19950723,1700, 46.5478,  -5.7535, 3746,    505.0,  10.6026,  35.5183,2,  35.5163,2,    225.0,2,    223.0,2,     5.46,6,    13.34,6,     0.02,6,     0.80,6,  -999.0, 10.5405,-999.000
     64PE95N_1,  AR12,    20,  1,     18,   X018,2,19950723,1700, 46.5478,  -5.7535, 3746,    604.0,  10.3724,  35.5350,2,-999.0000,9,    213.9,2,   -999.0,9,     6.57,6,    14.52,6,     0.01,6,     0.87,6,  -999.0, 10.2988,-999.000
     64PE95N_1,  AR12,    20,  1,     17,   X017,2,19950723,1700, 46.5478,  -5.7535, 3746,    708.0,  10.2780,  35.6173,2,  35.6164,2,    202.6,2,    200.5,3,     7.60,6,    15.62,6,     0.02,6,     0.94,6,  -999.0, 10.1916,-999.000
     64PE95N_1,  AR12,    20,  1,     16,   X016,2,19950723,1700, 46.5478,  -5.7535, 3746,    808.0,  10.0804,  35.6668,2,-999.0000,9,    197.4,2,   -999.0,9,     8.34,6,    16.21,6,     0.01,6,     0.98,6,  -999.0,  9.9826,-999.000
     64PE95N_1,  AR12,    20,  1,     15,   X015,2,19950723,1700, 46.5478,  -5.7535, 3746,    906.0,  10.0051,  35.7340,2,  35.7357,2,    192.9,2,    191.3,3,     8.89,6,    16.67,6,     0.02,6,     1.01,6,  -999.0,  9.8952,-999.000
     64PE95N_1,  AR12,    20,  1,     14,   X014,2,19950723,1700, 46.5478,  -5.7535, 3746,   1011.0,   9.6720,  35.7498,2,-999.0000,9,    192.9,2,   -999.0,9,     9.57,6,    16.92,6,     0.02,6,     1.02,6,  -999.0,  9.5511,-999.000
     64PE95N_1,  AR12,    20,  1,     13,   X013,2,19950723,1700, 46.5478,  -5.7535, 3746,   1217.0,   8.2419,  35.5993,2,  35.5987,2,    203.4,2,    203.5,2,    11.32,6,    17.68,6,     0.02,6,     1.08,6,  -999.0,  8.1075,-999.000
     64PE95N_1,  AR12,    20,  1,     12,   X012,2,19950723,1700, 46.5478,  -5.7535, 3746,   1416.0,   6.4395,  35.3319,2,-999.0000,9,    222.9,2,   -999.0,9,    13.01,6,    18.23,6,     0.01,6,     1.14,6,  -999.0,  6.3005,-999.000
     64PE95N_1,  AR12,    20,  1,     11,   X011,2,19950723,1700, 46.5478,  -5.7535, 3746,   1624.0,   5.2054,  35.1688,2,  35.1693,2,    237.6,2,    237.6,2,    15.19,6,    18.51,6,     0.02,6,     1.18,6,  -999.0,  5.0587,-999.000
     64PE95N_1,  AR12,    20,  1,     10,   X010,2,19950723,1700, 46.5478,  -5.7535, 3746,   1824.0,   4.4499,  35.0729,2,-999.0000,9,    247.0,2,   -999.0,9,    16.68,6,    18.60,6,     0.02,6,     1.20,6,  -999.0,  4.2930,-999.000
     64PE95N_1,  AR12,    20,  1,      9,   X009,2,19950723,1700, 46.5478,  -5.7535, 3746,   2028.0,   3.9217,  35.0335,2,  35.0322,2,    247.9,2,    247.4,2,    21.01,6,    19.21,6,     0.02,6,     1.26,6,  -999.0,  3.7524,-999.000
     64PE95N_1,  AR12,    20,  1,      8,   X008,2,19950723,1700, 46.5478,  -5.7535, 3746,   2228.0,   3.5850,  35.0062,2,-999.0000,9,    247.6,2,   -999.0,9,    24.04,6,    19.67,6,     0.02,6,     1.29,6,  2227.0,  3.4014,   3.585
     64PE95N_1,  AR12,    20,  1,      7,   X007,2,19950723,1700, 46.5478,  -5.7535, 3746,   2431.0,   3.2690,  34.9806,2,  34.9810,2,    247.7,2,    245.1,2,    27.54,6,    20.18,6,     0.02,6,     1.34,6,  -999.0,  3.0708,-999.000
     64PE95N_1,  AR12,    20,  1,      6,   X006,2,19950723,1700, 46.5478,  -5.7535, 3746,   2633.0,   3.0639,  34.9639,2,-999.0000,9,    246.9,2,   -999.0,9,    30.47,6,    20.61,6,     0.01,6,     1.36,6,  -999.0,  2.8494,   3.064
     64PE95N_1,  AR12,    20,  1,      5,   X005,2,19950723,1700, 46.5478,  -5.7535, 3746,   2841.0,   2.9111,  34.9508,2,  34.9511,2,    246.1,2,    246.3,2,    32.94,6,    20.97,6,     0.02,6,     1.40,6,  -999.0,  2.6786,-999.000
     64PE95N_1,  AR12,    20,  1,      4,   X004,2,19950723,1700, 46.5478,  -5.7535, 3746,   3040.0,   2.8244,  34.9425,2,-999.0000,9,    245.7,2,   -999.0,9,    34.33,6,    21.09,6,     0.01,6,     1.41,6,  3039.0,  2.5732,   2.824
     64PE95N_1,  AR12,    20,  1,      3,   X003,2,19950723,1700, 46.5478,  -5.7535, 3746,   3303.0,   2.6326,  34.9250,2,  34.9240,2,    244.3,2,    242.4,2,    38.10,6,    21.74,6,     0.02,6,     1.48,6,  -999.0,  2.3580,-999.000
     64PE95N_1,  AR12,    20,  1,      2,   X002,2,19950723,1700, 46.5478,  -5.7535, 3746,   3558.0,   2.5966,  34.9197,2,-999.0000,9,    243.8,2,   -999.0,9,    39.38,6,    21.88,6,     0.02,6,     1.45,6,  3550.0,  2.2954,   2.597
     64PE95N_1,  AR12,    20,  1,      1,   X001,2,19950723,1700, 46.5478,  -5.7535, 3746,   3802.0,   2.5182,  34.9108,2,  34.9116,6,    243.4,2,    241.3,2,    41.43,6,    22.10,6,     0.03,6,     1.48,6,  -999.0,  2.1919,-999.000
     64PE95N_1,  AR12,    21,  1,     24,   X024,2,19950723,2015, 46.4668,  -5.8722, 4199,     10.0,  19.5644,  35.3226,3,  35.3343,2,    235.5,2,    236.2,6,     0.61,2,     0.03,2,     0.00,2,     0.01,2,  -999.0, 19.5626,-999.000
     64PE95N_1,  AR12,    21,  1,     23,   X023,2,19950723,2015, 46.4668,  -5.8722, 4199,    102.0,  11.6253,  35.5756,2,  35.5750,2,    248.8,2,    247.9,2,     2.62,2,     8.11,2,     0.01,2,     0.49,2,  -999.0, 11.6121,-999.000
     64PE95N_1,  AR12,    21,  1,     22,   X022,2,19950723,2015, 46.4668,  -5.8722, 4199,    200.0,  11.3910,  35.5596,2,-999.0000,9,    247.2,2,   -999.0,9,     3.23,2,     9.21,2,     0.02,2,     0.56,2,  -999.0, 11.3656,-999.000
     64PE95N_1,  AR12,    21,  1,     21,   X021,2,19950723,2015, 46.4668,  -5.8722, 4199,    303.0,  11.1976,  35.5577,2,  35.5570,2,    234.2,2,    234.3,2,     3.93,2,    10.97,2,     0.01,2,     0.66,2,  -999.0, 11.1595,-999.000
     64PE95N_1,  AR12,    21,  1,     20,   X020,2,19950723,2015, 46.4668,  -5.8722, 4199,    403.0,  10.9400,  35.5337,2,-999.0000,9,    230.6,2,   -999.0,9,     4.51,2,    11.82,2,     0.02,2,     0.71,2,  -999.0, 10.8897,-999.000
     64PE95N_1,  AR12,    21,  1,     19,   X019,2,19950723,2015, 46.4668,  -5.8722, 4199,    505.0,  10.7545,  35.5331,2,  35.5323,2,    224.5,2,    224.1,2,     5.13,2,    12.73,2,     0.00,2,     0.77,2,  -999.0, 10.6919,-999.000
     64PE95N_1,  AR12,    21,  1,     18,   X018,2,19950723,2015, 46.4668,  -5.8722, 4199,    605.0,  10.4163,  35.5330,2,-999.0000,9,    212.8,2,   -999.0,9,     6.38,2,    14.34,2,     0.02,2,     0.88,2,  -999.0, 10.3423,-999.000
     64PE95N_1,  AR12,    21,  1,     17,   X017,2,19950723,2015, 46.4668,  -5.8722, 4199,    706.0,  10.1275,  35.5685,2,  35.5701,2,    202.5,2,    200.6,2,     7.74,2,    15.68,2,     0.01,2,     0.96,2,  -999.0, 10.0422,-999.000
     64PE95N_1,  AR12,    21,  1,     16,   X016,2,19950723,2015, 46.4668,  -5.8722, 4199,    807.0,   9.9974,  35.6381,2,-999.0000,9,    194.3,2,   -999.0,9,     8.49,2,    16.37,2,     0.00,2,     1.01,2,  -999.0,  9.9002,-999.000
     64PE95N_1,  AR12,    21,  1,     15,   X015,2,19950723,2015, 46.4668,  -5.8722, 4199,    908.0,   9.7643,  35.7072,2,  35.7087,2,    190.8,2,    189.8,2,     9.37,2,    16.77,2,     0.02,2,     1.04,2,  -999.0,  9.6557,-999.000
     64PE95N_1,  AR12,    21,  1,     14,   X014,2,19950723,2015, 46.4668,  -5.8722, 4199,   1010.0,   9.5158,  35.7355,2,-999.0000,9,    189.7,2,   -999.0,9,     9.87,2,    16.98,2,     0.02,2,     1.04,2,  -999.0,  9.3962,-999.000
     64PE95N_1,  AR12,    21,  1,     13,   X013,2,19950723,2015, 46.4668,  -5.8722, 4199,   1264.0,   8.1589,  35.5859,3,  35.5790,2,    200.6,2,    202.1,2,    11.56,2,    17.67,2,     0.01,2,     1.10,2,  -999.0,  8.0197,-999.000
     64PE95N_1,  AR12,    21,  1,     12,   X012,2,19950723,2015, 46.4668,  -5.8722, 4199,   1517.0,   6.2702,  35.3236,2,-999.0000,9,    220.0,2,   -999.0,9,    13.97,2,    18.30,2,     0.00,2,     1.16,2,  -999.0,  6.1220,-999.000
     64PE95N_1,  AR12,    21,  1,     11,   X011,2,19950723,2015, 46.4668,  -5.8722, 4199,   1772.0,   4.8316,  35.1304,2,  35.1283,2,    237.6,2,    239.6,2,    16.67,2,    18.66,2,     0.01,2,     1.20,2,  -999.0,  4.6747,-999.000
     64PE95N_1,  AR12,    21,  1,     10,   X010,2,19950723,2015, 46.4668,  -5.8722, 4199,   2026.0,   4.0130,  35.0396,2,-999.0000,9,    244.9,2,   -999.0,9,    20.42,2,    19.13,2,     0.01,2,     1.24,2,  -999.0,  3.8425,-999.000
     64PE95N_1,  AR12,    21,  1,      9,   X009,2,19950723,2015, 46.4668,  -5.8722, 4199,   2282.0,   3.5049,  34.9982,2,  34.9966,2,    245.3,2,    246.0,2,    24.79,2,    19.69,2,     0.00,2,     1.30,2,  -999.0,  3.3173,-999.000
     64PE95N_1,  AR12,    21,  1,      8,   X008,2,19950723,2015, 46.4668,  -5.8722, 4199,   2535.0,   3.1445,  34.9702,2,-999.0000,9,    244.4,2,   -999.0,9,    29.58,2,    20.32,2,     0.00,2,     1.35,2,  2539.0,  2.9383,   3.143
     64PE95N_1,  AR12,    21,  1,      7,   X007,2,19950723,2015, 46.4668,  -5.8722, 4199,   2791.0,   2.9626,  34.9547,2,  34.9549,2,    242.9,2,    242.6,2,    32.73,2,    20.85,2,     0.01,2,     1.40,2,  -999.0,  2.7341,-999.000
     64PE95N_1,  AR12,    21,  1,      6,   X006,2,19950723,2015, 46.4668,  -5.8722, 4199,   3047.0,   2.7476,  34.9364,2,-999.0000,9,    242.4,2,   -999.0,9,    35.62,2,    21.23,2,     0.01,2,     1.41,2,  -999.0,  2.4974,   2.750
     64PE95N_1,  AR12,    21,  1,      5,   X005,2,19950723,2015, 46.4668,  -5.8722, 4199,   3302.0,   2.6348,  34.9256,2,  34.9254,2,    240.8,2,    240.2,2,    38.17,2,    21.58,2,     0.00,2,     1.45,2,  -999.0,  2.3602,-999.000
     64PE95N_1,  AR12,    21,  1,      4,   X004,2,19950723,2015, 46.4668,  -5.8722, 4199,   3558.0,   2.5582,  34.9170,2,-999.0000,9,    240.1,2,   -999.0,9,    40.14,2,    21.83,2,     0.00,2,     1.47,2,  3560.0,  2.2579,   2.558
     64PE95N_1,  AR12,    21,  1,      3,   X003,2,19950723,2015, 46.4668,  -5.8722, 4199,   3814.0,   2.5177,  34.9110,2,  34.9112,2,    239.5,2,    238.6,2,    41.51,2,    21.89,2,     0.25,3,     1.49,2,  -999.0,  2.1900,-999.000
     64PE95N_1,  AR12,    21,  1,      2,   X002,2,19950723,2015, 46.4668,  -5.8722, 4199,   4072.0,   2.4920,  34.9055,2,-999.0000,9,    239.1,2,   -999.0,9,    42.52,2,    22.29,2,     0.01,2,     1.50,2,  4065.0,  2.1355,   2.492
     64PE95N_1,  AR12,    21,  1,      1,   X001,2,19950723,2015, 46.4668,  -5.8722, 4199,   4299.0,   2.4824,  34.9017,2,  34.9017,6,    238.6,2,    237.9,2,    43.90,6,    22.49,6,     0.02,6,     1.53,6,  -999.0,  2.0996,-999.000
     64PE95N_1,  AR12,    22,  1,     24,   X024,2,19950724,0445, 46.2658,  -6.1698, 4608,     10.0,  18.5717,  35.5983,3,  35.6059,2,    241.7,2,    242.4,6,     0.44,2,     0.03,2,     0.03,2,     0.03,2,  -999.0, 18.5699,-999.000
     64PE95N_1,  AR12,    22,  1,     23,   X023,2,19950724,0445, 46.2658,  -6.1698, 4608,    101.0,  11.5722,  35.5595,2,  35.5594,2,    248.7,2,    247.3,2,     2.40,2,     7.86,2,     0.04,2,     0.48,2,  -999.0, 11.5593,-999.000
     64PE95N_1,  AR12,    22,  1,     22,   X022,2,19950724,0445, 46.2658,  -6.1698, 4608,    201.0,  11.4204,  35.5533,2,-999.0000,9,    249.0,2,   -999.0,9,     2.86,2,     8.59,2,     0.02,2,     0.52,2,  -999.0, 11.3947,-999.000
     64PE95N_1,  AR12,    22,  1,     21,   X021,2,19950724,0445, 46.2658,  -6.1698, 4608,    304.0,  11.2888,  35.5582,2,  35.5604,2,    239.8,2,    238.8,2,     3.72,2,    10.07,2,     0.02,2,     0.62,2,  -999.0, 11.2503,-999.000
     64PE95N_1,  AR12,    22,  1,     20,   X020,2,19950724,0445, 46.2658,  -6.1698, 4608,    403.0,  11.0654,  35.5432,2,-999.0000,9,    232.1,2,   -999.0,9,     4.17,2,    11.35,2,     0.03,2,     0.69,2,  -999.0, 11.0147,-999.000
     64PE95N_1,  AR12,    22,  1,     19,   X019,2,19950724,0445, 46.2658,  -6.1698, 4608,    503.0,  10.7984,  35.5246,2,  35.5243,2,    227.5,2,    228.1,2,     4.94,2,    12.34,2,     0.02,2,     0.76,2,  -999.0, 10.7358,-999.000
     64PE95N_1,  AR12,    22,  1,     18,   X018,2,19950724,0445, 46.2658,  -6.1698, 4608,    605.0,  10.5842,  35.5416,2,-999.0000,9,    214.8,2,   -999.0,9,     5.92,2,    13.80,2,     0.01,2,     0.89,2,  -999.0, 10.5095,-999.000
     64PE95N_1,  AR12,    22,  1,     17,   X017,2,19950724,0445, 46.2658,  -6.1698, 4608,    806.0,  10.1245,  35.6672,2,  35.6667,2,    192.7,2,    190.4,2,     8.49,2,    16.39,2,     0.01,2,     1.01,2,  -999.0, 10.0267,-999.000
     64PE95N_1,  AR12,    22,  1,     16,   X016,2,19950724,0445, 46.2658,  -6.1698, 4608,   1009.0,   9.2846,  35.6855,2,-999.0000,9,    193.4,2,   -999.0,9,    10.07,2,    17.06,2,     0.07,2,     1.07,2,  -999.0,  9.1669,-999.000
     64PE95N_1,  AR12,    22,  1,     15,   X015,2,19950724,0445, 46.2658,  -6.1698, 4608,   1263.0,   7.4810,  35.4750,2,  35.4734,2,    207.6,2,    209.1,2,    11.59,2,    17.90,2,     0.02,2,     1.13,2,  -999.0,  7.3483,-999.000
     64PE95N_1,  AR12,    22,  1,     14,   X014,2,19950724,0445, 46.2658,  -6.1698, 4608,   1517.0,   5.2409,  35.1482,2,-999.0000,9,    236.1,2,   -999.0,9,    13.01,2,    18.20,2,     0.01,2,     1.18,2,  -999.0,  5.1047,-999.000
     64PE95N_1,  AR12,    22,  1,     13,   X013,2,19950724,0445, 46.2658,  -6.1698, 4608,   1771.0,   4.4552,  35.0730,2,  35.0743,2,    242.8,2,    245.6,2,    15.95,2,    18.46,2,     0.01,2,     1.20,2,  -999.0,  4.3034,-999.000
     64PE95N_1,  AR12,    22,  1,     12,   X012,2,19950724,0445, 46.2658,  -6.1698, 4608,   2025.0,   3.7944,  35.0014,2,-999.0000,9,    250.0,2,   -999.0,9,    18.76,2,    18.61,2,     0.02,2,     1.22,2,  -999.0,  3.6274,-999.000
     64PE95N_1,  AR12,    22,  1,     11,   X011,2,19950724,0445, 46.2658,  -6.1698, 4608,   2280.0,   3.4890,  34.9944,2,  34.9950,2,    244.6,2,    246.4,2,    24.63,2,    19.55,2,     0.03,2,     1.30,2,  -999.0,  3.3018,-999.000
     64PE95N_1,  AR12,    22,  1,     10,   X010,2,19950724,0445, 46.2658,  -6.1698, 4608,   2536.0,   3.1394,  34.9695,2,-999.0000,9,    242.9,2,   -999.0,9,    29.93,2,    20.34,2,     0.00,2,     1.36,2,  -999.0,  2.9332,-999.000
     64PE95N_1,  AR12,    22,  1,      9,   X009,2,19950724,0445, 46.2658,  -6.1698, 4608,   2789.0,   2.9280,  34.9523,2,  34.9532,2,    241.1,2,    242.3,2,    33.16,2,    20.78,2,     0.01,2,     1.40,2,  -999.0,  2.7004,-999.000
     64PE95N_1,  AR12,    22,  1,      8,   X008,2,19950724,0445, 46.2658,  -6.1698, 4608,   3046.0,   2.7527,  34.9367,2,-999.0000,9,    240.2,2,   -999.0,9,    36.03,2,    21.32,2,     0.03,2,     1.44,2,  -999.0,  2.5025,-999.000
     64PE95N_1,  AR12,    22,  1,      7,   X007,4,19950724,0445, 46.2658,  -6.1698, 4608,   3301.0,   2.6514,  34.9267,2,  34.9338,4,    239.1,2,    240.6,4,    37.06,4,    21.42,4,     0.03,4,     1.45,4,  -999.0,  2.3766,-999.000
     64PE95N_1,  AR12,    22,  1,      6,   X006,2,19950724,0445, 46.2658,  -6.1698, 4608,   3556.0,   2.5837,  34.9194,2,-999.0000,9,    238.4,2,   -999.0,9,    39.33,2,    21.68,2,     0.00,2,     1.47,2,  -999.0,  2.2830,-999.000
     64PE95N_1,  AR12,    22,  1,      5,   X005,2,19950724,0445, 46.2658,  -6.1698, 4608,   3815.0,   2.5383,  34.9131,2,  34.9133,2,    238.1,2,    238.7,2,    40.91,2,    21.92,2,     0.02,2,     1.48,2,  -999.0,  2.2099,-999.000
     64PE95N_1,  AR12,    22,  1,      4,   X004,2,19950724,0445, 46.2658,  -6.1698, 4608,   4073.0,   2.5013,  34.9075,2,-999.0000,9,    237.5,2,   -999.0,9,    42.11,2,    22.17,2,     0.02,2,     1.50,2,  -999.0,  2.1445,-999.000
     64PE95N_1,  AR12,    22,  1,      3,   X003,2,19950724,0445, 46.2658,  -6.1698, 4608,   4328.0,   2.4877,  34.9030,2,  34.9027,2,    237.0,2,    237.7,2,    43.32,2,    22.34,2,     0.02,2,     1.51,2,  -999.0,  2.1013,-999.000
     64PE95N_1,  AR12,    22,  1,      2,   X002,2,19950724,0445, 46.2658,  -6.1698, 4608,   4587.0,   2.5017,  34.9004,2,-999.0000,9,    235.4,2,   -999.0,9,    44.15,2,    22.41,2,     0.01,2,     1.53,2,  -999.0,  2.0837,-999.000
     64PE95N_1,  AR12,    22,  1,      1,   X001,2,19950724,0445, 46.2658,  -6.1698, 4608,   4727.0,   2.5170,  34.9001,2,  34.9001,6,    235.8,2,    235.7,6,    44.19,6,    22.44,6,     0.02,6,     1.55,6,  -999.0,  2.0812,-999.000