BOTTLE,20020117WHPSIOKJU
EXPOCODE,SECT_ID,STNNBR,CASTNO,SAMPNO,BTLNBR,BTLNBR_FLAG_W,DATE,TIME,LATITUDE,LONGITUDE,DEPTH,CTDPRS,CTDTMP,CTDSAL,CTDSAL_FLAG_W,SALNTY,SALNTY_FLAG_W,CTDOXY,CTDOXY_FLAG_W,OXYGEN,OXYGEN_FLAG_W,SILCAT,SILCAT_FLAG_W,NITRAT,NITRAT_FLAG_W,NITRIT,NITRIT_FLAG_W,PHSPHT,PHSPHT_FLAG_W,REVPRS,THETA,REVTMP
,,,,,,,,,,,,DBAR,ITS-90,PSS-78,,PSS-78,,UMOL/KG,,UMOL/KG,,UMOL/KG,,UMOL/KG,,UMOL/KG,,UMOL/KG,,DBAR,ITS-90,ITS-90
     64PE95N_1,  AR12,    86,  1,     24,   X024,2,19950805,0910, 45.8337,  -5.2495, 4544,     10.0,  19.9315,  35.3140,3,  35.3314,2,    233.4,2,    233.2,6,     0.49,2,     0.04,2,     0.01,2,     0.04,2,  -999.0, 19.9297,-999.000
     64PE95N_1,  AR12,    86,  1,     23,   X023,2,19950805,0910, 45.8337,  -5.2495, 4544,    100.0,  12.2045,  35.5790,2,  35.5810,2,    245.9,2,    245.1,2,     1.50,2,     5.69,2,     0.03,2,     0.36,2,  -999.0, 12.1912,-999.000
     64PE95N_1,  AR12,    86,  1,     22,   X022,2,19950805,0910, 45.8337,  -5.2495, 4544,    202.0,  11.5420,  35.5726,2,-999.0000,9,    245.3,2,   -999.0,9,     2.58,2,     8.31,2,     0.01,2,     0.52,2,  -999.0, 11.5161,-999.000
     64PE95N_1,  AR12,    86,  1,     21,   X021,2,19950805,0910, 45.8337,  -5.2495, 4544,    301.0,  11.3270,  35.5870,2,  35.5883,2,    231.3,2,    231.3,2,     3.60,2,    10.47,2,     0.02,2,     0.64,2,  -999.0, 11.2887,-999.000
     64PE95N_1,  AR12,    86,  1,     20,   X027,2,19950805,0910, 45.8337,  -5.2495, 4544,    405.0,  11.0017,  35.5607,2,-999.0000,9,    226.1,2,   -999.0,9,     4.43,2,    11.90,2,     0.01,2,     0.74,2,  -999.0, 10.9510,-999.000
     64PE95N_1,  AR12,    86,  1,     19,   X019,2,19950805,0910, 45.8337,  -5.2495, 4544,    505.0,  10.7338,  35.5534,2,  35.5546,2,    218.1,2,    218.7,2,     5.37,2,    13.18,2,     0.02,2,     0.82,2,  -999.0, 10.6712,-999.000
     64PE95N_1,  AR12,    86,  1,     18,   X018,2,19950805,0910, 45.8337,  -5.2495, 4544,    600.0,  10.5028,  35.5746,2,-999.0000,9,    208.9,2,   -999.0,9,     6.58,2,    14.45,2,     0.01,2,     0.90,2,  -999.0, 10.4290,-999.000
     64PE95N_1,  AR12,    86,  1,     17,   X017,2,19950805,0910, 45.8337,  -5.2495, 4544,    810.0,  10.1326,  35.7014,2,  35.7035,2,    192.4,2,    191.2,2,     8.46,2,    16.22,2,     0.01,2,     1.00,2,  -999.0, 10.0341,-999.000
     64PE95N_1,  AR12,    86,  1,     16,   X016,4,19950805,0910, 45.8337,  -5.2495, 4544,   1011.0,   9.5412,  35.7544,2,-999.0000,9,    189.8,2,   -999.0,9,     7.51,4,    15.08,4,     0.02,4,     0.93,4,  -999.0,  9.4212,-999.000
     64PE95N_1,  AR12,    86,  1,     15,   X015,4,19950805,0910, 45.8337,  -5.2495, 4544,   1265.0,   7.7603,  35.5416,2,  35.5903,4,    203.7,2,    223.0,4,     5.66,4,    12.42,4,     0.01,4,     0.77,4,  -999.0,  7.6248,-999.000
     64PE95N_1,  AR12,    86,  1,     14,   X014,4,19950805,0910, 45.8337,  -5.2495, 4544,   1519.0,   5.7393,  35.2495,2,-999.0000,9,    226.5,2,   -999.0,9,     4.77,4,    10.23,4,     0.02,4,     0.66,4,  -999.0,  5.5970,-999.000
     64PE95N_1,  AR12,    86,  1,     13,   X026,2,19950805,0910, 45.8337,  -5.2495, 4544,   1769.0,   4.5839,  35.1041,2,  35.1080,2,    239.2,2,    242.9,2,    17.49,2,    18.61,2,     0.02,2,     1.23,2,  -999.0,  4.4306,-999.000
     64PE95N_1,  AR12,    86,  1,     12,   X012,2,19950805,0910, 45.8337,  -5.2495, 4544,   2026.0,   3.8754,  35.0294,2,-999.0000,9,    245.2,2,   -999.0,9,    20.77,2,    18.85,2,     0.01,2,     1.25,2,  -999.0,  3.7070,-999.000
     64PE95N_1,  AR12,    86,  1,     11,   X011,4,19950805,0910, 45.8337,  -5.2495, 4544,   2282.0,   3.4365,  34.9954,2,  35.5592,4,    245.7,2,    230.1,4,     4.92,4,     9.93,4,     0.02,4,     0.64,4,  -999.0,  3.2500,-999.000
     64PE95N_1,  AR12,    86,  1,     10,   X025,2,19950805,0910, 45.8337,  -5.2495, 4544,   2536.0,   3.1480,  34.9719,2,-999.0000,9,    245.4,2,   -999.0,9,    29.22,2,    20.22,2,     0.01,2,     1.36,2,  -999.0,  2.9416,-999.000
     64PE95N_1,  AR12,    86,  1,      9,   X009,2,19950805,0910, 45.8337,  -5.2495, 4544,   2792.0,   2.9242,  34.9533,2,  34.9551,2,    244.2,2,    245.5,2,    32.70,2,    20.75,2,     0.02,2,     1.39,2,  -999.0,  2.6964,-999.000
     64PE95N_1,  AR12,    86,  1,      8,   X008,2,19950805,0910, 45.8337,  -5.2495, 4544,   3047.0,   2.7496,  34.9379,2,-999.0000,9,    242.9,2,   -999.0,9,    35.85,2,    21.10,2,     0.02,2,     1.42,2,  3050.0,  2.4994,   2.749
     64PE95N_1,  AR12,    86,  1,      7,   X007,2,19950805,0910, 45.8337,  -5.2495, 4544,   3304.0,   2.6463,  34.9278,3,  34.9344,2,    241.8,2,    244.8,2,    37.04,2,    21.30,2,     0.01,2,     1.43,2,  -999.0,  2.3713,-999.000
     64PE95N_1,  AR12,    86,  1,      6,   X006,2,19950805,0910, 45.8337,  -5.2495, 4544,   3557.0,   2.5817,  34.9208,2,-999.0000,9,    240.9,2,   -999.0,9,    39.38,2,    21.70,2,     0.01,2,     1.47,2,  3559.0,  2.2810,   2.580
     64PE95N_1,  AR12,    86,  1,      5,   X005,2,19950805,0910, 45.8337,  -5.2495, 4544,   3817.0,   2.5350,  34.9143,2,  34.9151,2,    240.5,2,    240.4,2,    40.77,2,    21.97,2,     0.02,2,     1.48,2,  -999.0,  2.2065,-999.000
     64PE95N_1,  AR12,    86,  1,      4,   X004,4,19950805,0910, 45.8337,  -5.2495, 4544,   4071.0,   2.5047,  34.9089,2,-999.0000,9,    239.6,2,   -999.0,9,     6.38,4,    11.18,4,     0.02,4,     0.72,4,  4074.0,  2.1480,   2.505
     64PE95N_1,  AR12,    86,  1,      2,   X002,2,19950805,0910, 45.8337,  -5.2495, 4544,   4381.0,   2.4958,  34.9039,2,  34.9053,2,    238.8,2,    241.1,2,    43.22,2,    22.16,2,     0.04,2,     1.49,2,  4377.0,  2.1029,   2.496
     64PE95N_1,  AR12,    86,  1,      3,   X028,2,19950805,0910, 45.8337,  -5.2495, 4544,   4381.0,   2.4956,  34.9040,2,  34.9051,2,    238.5,2,    239.9,2,    43.26,2,    22.23,2,     0.02,2,     1.51,2,  -999.0,  2.1027,-999.000
     64PE95N_1,  AR12,    86,  1,      1,   X001,2,19950805,0910, 45.8337,  -5.2495, 4544,   4655.0,   2.5143,  34.9020,2,  34.9034,6,    237.8,2,    238.2,6,    44.21,6,    22.27,6,     0.02,6,     1.51,6,  -999.0,  2.0876,-999.000
     64PE95N_1,  AR12,    87,  1,     24,   X024,2,19950805,1347, 46.0503,  -4.9318, 4165,      9.0,  20.4957,  35.0939,3,  35.1055,2,    229.7,2,    230.2,6,     0.56,2,     0.06,2,     0.01,2,     0.04,2,  -999.0, 20.4939,-999.000
     64PE95N_1,  AR12,    87,  1,     23,   X023,2,19950805,1347, 46.0503,  -4.9318, 4165,    102.0,  11.9123,  35.6011,2,  35.6003,2,    243.8,2,    242.3,2,     2.24,2,     7.45,2,     0.03,2,     0.47,2,  -999.0, 11.8990,-999.000
     64PE95N_1,  AR12,    87,  1,     22,   X022,2,19950805,1347, 46.0503,  -4.9318, 4165,    201.0,  11.4136,  35.5562,2,-999.0000,9,    248.8,2,   -999.0,9,     2.90,2,     8.69,2,     0.04,2,     0.54,2,  -999.0, 11.3880,-999.000
     64PE95N_1,  AR12,    87,  1,     21,   X021,2,19950805,1347, 46.0503,  -4.9318, 4165,    305.0,  11.2938,  35.5691,2,  35.5682,2,    236.8,2,    236.5,2,     3.58,2,    10.21,2,     0.03,2,     0.63,2,  -999.0, 11.2552,-999.000
     64PE95N_1,  AR12,    87,  1,     20,   X027,2,19950805,1347, 46.0503,  -4.9318, 4165,    405.0,  11.0471,  35.5524,2,-999.0000,9,    230.1,2,   -999.0,9,     4.28,2,    11.56,2,     0.02,2,     0.71,2,  -999.0, 10.9963,-999.000
     64PE95N_1,  AR12,    87,  1,     19,   X019,2,19950805,1347, 46.0503,  -4.9318, 4165,    503.0,  10.8143,  35.5414,2,  35.5399,2,    222.9,2,    223.0,2,     5.04,2,    12.77,2,     0.03,2,     0.78,2,  -999.0, 10.7516,-999.000
     64PE95N_1,  AR12,    87,  1,     18,   X018,2,19950805,1347, 46.0503,  -4.9318, 4165,    606.0,  10.4601,  35.5390,2,-999.0000,9,    213.3,2,   -999.0,9,     6.24,2,    14.20,2,     0.02,2,     0.87,2,  -999.0, 10.3858,-999.000
     64PE95N_1,  AR12,    87,  1,     17,   X017,2,19950805,1347, 46.0503,  -4.9318, 4165,    706.0,  10.2407,  35.5967,2,  35.5975,2,    199.9,2,    197.3,2,     7.64,2,    15.66,2,     0.01,2,     0.97,2,  -999.0, 10.1548,-999.000
     64PE95N_1,  AR12,    87,  1,     16,   X016,2,19950805,1347, 46.0503,  -4.9318, 4165,    808.0,  10.1499,  35.6798,2,-999.0000,9,    194.0,2,   -999.0,9,     8.44,2,    16.07,2,     0.03,2,     1.00,2,  -999.0, 10.0516,-999.000
     64PE95N_1,  AR12,    87,  1,     15,   X015,2,19950805,1347, 46.0503,  -4.9318, 4165,    909.0,   9.8558,  35.7158,2,  35.7147,2,    191.9,2,    191.3,2,     9.20,2,    16.41,2,     0.01,2,     1.03,2,  -999.0,  9.7466,-999.000
     64PE95N_1,  AR12,    87,  1,     14,   X014,2,19950805,1347, 46.0503,  -4.9318, 4165,   1010.0,   9.7373,  35.7880,2,-999.0000,9,    187.8,2,   -999.0,9,     9.75,2,    16.75,2,     0.03,2,     1.03,2,  -999.0,  9.6161,-999.000
     64PE95N_1,  AR12,    87,  1,     13,   X026,2,19950805,1347, 46.0503,  -4.9318, 4165,   1264.0,   7.8903,  35.5591,3,  35.5508,2,    202.9,2,    204.9,2,    11.92,2,    17.60,2,     0.02,2,     1.12,2,  -999.0,  7.7536,-999.000
     64PE95N_1,  AR12,    87,  1,     12,   X012,2,19950805,1347, 46.0503,  -4.9318, 4165,   1518.0,   5.9010,  35.2735,2,-999.0000,9,    224.0,2,   -999.0,9,    14.20,2,    18.10,2,     0.03,2,     1.18,2,  -999.0,  5.7570,-999.000
     64PE95N_1,  AR12,    87,  1,     11,   X011,2,19950805,1347, 46.0503,  -4.9318, 4165,   1772.0,   4.4368,  35.0780,2,  35.0775,2,    243.3,2,    245.5,2,    17.17,2,    18.45,2,     0.02,2,     1.21,2,  -999.0,  4.2852,-999.000
     64PE95N_1,  AR12,    87,  1,     10,   X025,2,19950805,1347, 46.0503,  -4.9318, 4165,   2027.0,   3.9634,  35.0370,2,-999.0000,9,    243.5,2,   -999.0,9,    20.79,2,    18.96,2,     0.01,2,     1.26,2,  -999.0,  3.7936,-999.000
     64PE95N_1,  AR12,    87,  1,      9,   X009,2,19950805,1347, 46.0503,  -4.9318, 4165,   2282.0,   3.4685,  34.9975,2,  34.9965,2,    244.0,2,    245.5,2,    25.43,2,    19.61,2,     0.02,2,     1.31,2,  -999.0,  3.2815,-999.000
     64PE95N_1,  AR12,    87,  1,      8,   X008,2,19950805,1347, 46.0503,  -4.9318, 4165,   2536.0,   3.1855,  34.9747,2,-999.0000,9,    243.6,2,   -999.0,9,    28.42,2,    19.99,2,     0.02,2,     1.35,2,  2535.0,  2.9784,   3.196
     64PE95N_1,  AR12,    87,  1,      7,   X007,2,19950805,1347, 46.0503,  -4.9318, 4165,   2792.0,   2.9232,  34.9535,2,  34.9539,2,    242.9,2,    244.4,2,    32.57,2,    20.54,2,     0.02,2,     1.40,2,  -999.0,  2.6955,-999.000
     64PE95N_1,  AR12,    87,  1,      6,   X006,2,19950805,1347, 46.0503,  -4.9318, 4165,   3045.0,   2.7429,  34.9375,2,-999.0000,9,    241.1,2,   -999.0,9,    35.73,2,    21.01,2,     0.02,2,     1.44,2,  3046.0,  2.4930,   2.742
     64PE95N_1,  AR12,    87,  1,      5,   X005,2,19950805,1347, 46.0503,  -4.9318, 4165,   3303.0,   2.6367,  34.9271,2,  34.9266,2,    240.7,2,    240.5,2,    38.20,2,    21.46,2,     0.02,2,     1.46,2,  -999.0,  2.3621,-999.000
     64PE95N_1,  AR12,    87,  1,      4,   X004,2,19950805,1347, 46.0503,  -4.9318, 4165,   3558.0,   2.5603,  34.9186,2,-999.0000,9,    240.2,2,   -999.0,9,    39.95,2,    21.61,2,     0.03,2,     1.47,2,  3559.0,  2.2600,   2.561
     64PE95N_1,  AR12,    87,  1,      2,   X002,2,19950805,1347, 46.0503,  -4.9318, 4165,   3945.0,   2.4987,  34.9092,2,  34.9084,2,    239.4,2,    238.1,6,    42.18,2,    21.94,2,     0.03,2,     1.49,2,  3940.0,  2.1567,   2.498
     64PE95N_1,  AR12,    87,  1,      3,   X028,2,19950805,1347, 46.0503,  -4.9318, 4165,   3946.0,   2.4998,  34.9091,2,  34.9088,2,    239.4,2,    239.6,6,    42.26,2,    21.93,2,     0.02,2,     1.50,2,  -999.0,  2.1577,-999.000
     64PE95N_1,  AR12,    87,  1,      1,   X001,2,19950805,1347, 46.0503,  -4.9318, 4165,   4256.0,   2.4955,  34.9053,2,  34.9051,6,    239.2,2,    236.9,6,    43.40,6,    22.15,6,     0.01,6,     1.51,6,  -999.0,  2.1175,-999.000
     64PE95N_1,  AR12,    88,  1,     24,   X024,2,19950805,1709, 46.1332,  -4.8035, 2369,      9.0,  20.2719,  34.9417,3,  34.9682,2,    230.9,2,    233.8,6,     0.47,2,     0.05,2,     0.02,2,     0.04,2,  -999.0, 20.2702,-999.000
     64PE95N_1,  AR12,    88,  1,     23,   X023,2,19950805,1709, 46.1332,  -4.8035, 2369,     49.0,  12.8601,  35.5124,2,  35.5131,2,    244.3,2,    240.5,2,     1.36,2,     4.50,2,     0.04,2,     0.28,2,  -999.0, 12.8534,-999.000
     64PE95N_1,  AR12,    88,  1,     22,   X022,2,19950805,1709, 46.1332,  -4.8035, 2369,    101.0,  11.9283,  35.5765,2,-999.0000,9,    244.0,2,   -999.0,9,     1.94,2,     6.66,2,     0.02,2,     0.42,2,  -999.0, 11.9151,-999.000
     64PE95N_1,  AR12,    88,  1,     21,   X021,2,19950805,1709, 46.1332,  -4.8035, 2369,    200.0,  11.5514,  35.5630,2,  35.5627,2,    248.7,2,    249.9,2,     2.38,2,     7.67,2,     0.02,2,     0.48,2,  -999.0, 11.5258,-999.000
     64PE95N_1,  AR12,    88,  1,     20,   X027,2,19950805,1709, 46.1332,  -4.8035, 2369,    303.0,  11.4429,  35.5877,2,-999.0000,9,    234.0,2,   -999.0,9,     3.21,2,     9.87,2,     0.01,2,     0.59,2,  -999.0, 11.4042,-999.000
     64PE95N_1,  AR12,    88,  1,     19,   X019,2,19950805,1709, 46.1332,  -4.8035, 2369,    403.0,  11.1994,  35.5728,2,  35.5715,2,    229.5,2,    229.8,2,     3.86,2,    11.12,2,     0.02,2,     0.67,2,  -999.0, 11.1484,-999.000
     64PE95N_1,  AR12,    88,  1,     18,   X018,2,19950805,1709, 46.1332,  -4.8035, 2369,    504.0,  10.9697,  35.5561,2,-999.0000,9,    224.7,2,   -999.0,9,     4.60,2,    12.20,2,     0.02,2,     0.74,2,  -999.0, 10.9063,-999.000
     64PE95N_1,  AR12,    88,  1,     17,   X017,2,19950805,1709, 46.1332,  -4.8035, 2369,    606.0,  10.6482,  35.5638,3,  35.5635,2,    212.8,2,    211.9,2,     5.93,2,    13.88,2,     0.01,2,     0.85,2,  -999.0, 10.5731,-999.000
     64PE95N_1,  AR12,    88,  1,     16,   X016,2,19950805,1709, 46.1332,  -4.8035, 2369,    705.0,  10.2452,  35.6068,2,-999.0000,9,    199.9,2,   -999.0,9,     7.72,2,    15.60,2,     0.01,2,     0.96,2,  -999.0, 10.1594,-999.000
     64PE95N_1,  AR12,    88,  1,     15,   X015,2,19950805,1709, 46.1332,  -4.8035, 2369,    808.0,  10.1343,  35.6964,2,  35.6971,2,    192.8,2,    190.2,2,     8.55,2,    16.25,2,     0.02,2,     1.00,2,  -999.0, 10.0362,-999.000
     64PE95N_1,  AR12,    88,  1,     14,   X014,2,19950805,1709, 46.1332,  -4.8035, 2369,    906.0,  10.0636,  35.7678,2,-999.0000,9,    188.7,2,   -999.0,9,     9.15,2,    16.54,2,     0.02,2,     1.02,2,  -999.0,  9.9533,-999.000
     64PE95N_1,  AR12,    88,  1,     13,   X026,2,19950805,1709, 46.1332,  -4.8035, 2369,   1011.0,   9.6884,  35.7687,2,  35.7684,2,    188.8,2,    187.4,2,     9.75,2,    16.86,2,     0.00,2,     1.05,2,  -999.0,  9.5675,-999.000
     64PE95N_1,  AR12,    88,  1,     12,   X029,2,19950805,1709, 46.1332,  -4.8035, 2369,   1113.0,   9.1554,  35.7258,2,-999.0000,9,    192.4,2,   -999.0,9,    10.46,2,    17.15,2,     0.01,2,     1.06,2,  -999.0,  9.0258,-999.000
     64PE95N_1,  AR12,    88,  1,     11,   X011,2,19950805,1709, 46.1332,  -4.8035, 2369,   1213.0,   8.4188,  35.6290,2,  35.6276,2,    198.8,2,    198.6,2,    11.37,2,    17.50,2,     0.01,2,     1.09,2,  -999.0,  8.2833,-999.000
     64PE95N_1,  AR12,    88,  1,     10,   X025,2,19950805,1709, 46.1332,  -4.8035, 2369,   1316.0,   7.6021,  35.5131,2,-999.0000,9,    206.5,2,   -999.0,9,    12.48,2,    17.83,2,     0.01,2,     1.12,2,  -999.0,  7.4623,-999.000
     64PE95N_1,  AR12,    88,  1,      9,   X009,2,19950805,1709, 46.1332,  -4.8035, 2369,   1417.0,   6.5620,  35.3701,2,  35.3679,2,    217.6,2,    219.0,2,    13.84,2,    18.15,2,     0.01,2,     1.15,2,  -999.0,  6.4215,-999.000
     64PE95N_1,  AR12,    88,  1,      8,   X008,2,19950805,1709, 46.1332,  -4.8035, 2369,   1518.0,   5.9852,  35.2872,2,-999.0000,9,    224.4,2,   -999.0,9,    14.63,2,    18.25,2,     0.02,2,     1.18,2,  1516.0,  5.8403,   5.983
     64PE95N_1,  AR12,    88,  1,      7,   X007,2,19950805,1709, 46.1332,  -4.8035, 2369,   1620.0,   5.5961,  35.2347,2,  35.2338,2,    228.5,2,    230.2,2,    15.31,2,    18.45,2,     0.02,2,     1.19,2,  -999.0,  5.4450,-999.000
     64PE95N_1,  AR12,    88,  1,      6,   X006,2,19950805,1709, 46.1332,  -4.8035, 2369,   1722.0,   4.9416,  35.1496,2,-999.0000,9,    235.7,2,   -999.0,9,    16.79,2,    18.65,2,     0.00,2,     1.21,2,  1723.0,  4.7883,   4.937
     64PE95N_1,  AR12,    88,  1,      5,   X005,2,19950805,1709, 46.1332,  -4.8035, 2369,   1822.0,   4.4482,  35.0946,2,  35.0941,2,    239.9,2,    241.2,2,    19.10,2,    18.85,2,     0.02,2,     1.23,2,  -999.0,  4.2914,-999.000
     64PE95N_1,  AR12,    88,  1,      4,   X004,2,19950805,1709, 46.1332,  -4.8035, 2369,   2027.0,   3.7490,  35.0257,2,-999.0000,9,    245.3,2,   -999.0,9,    23.45,2,    19.42,2,     0.02,2,     1.29,2,  2025.0,  3.5824,   3.748
     64PE95N_1,  AR12,    88,  1,      2,   X002,2,19950805,1709, 46.1332,  -4.8035, 2369,   2229.0,   3.3415,  34.9891,2,  34.9892,2,    247.7,2,    244.8,2,    26.96,2,    19.94,2,     0.04,2,     1.31,2,  2222.0,  3.1618,   3.339
     64PE95N_1,  AR12,    88,  1,      3,   X028,2,19950805,1709, 46.1332,  -4.8035, 2369,   2229.0,   3.3438,  34.9893,2,  34.9896,2,    248.1,2,    245.9,2,    26.88,2,    19.95,2,     0.00,2,     1.32,2,  -999.0,  3.1641,-999.000
     64PE95N_1,  AR12,    88,  1,      1,   X001,2,19950805,1709, 46.1332,  -4.8035, 2369,   2423.0,   2.9802,  34.9601,2,  34.9605,6,    250.1,3,    243.3,6,    31.78,6,    20.54,6,     0.02,6,     1.37,6,  -999.0,  2.7881,-999.000