BOTTLE,20020117WHPSIOKJU
EXPOCODE,SECT_ID,STNNBR,CASTNO,SAMPNO,BTLNBR,BTLNBR_FLAG_W,DATE,TIME,LATITUDE,LONGITUDE,DEPTH,CTDPRS,CTDTMP,CTDSAL,CTDSAL_FLAG_W,SALNTY,SALNTY_FLAG_W,CTDOXY,CTDOXY_FLAG_W,OXYGEN,OXYGEN_FLAG_W,SILCAT,SILCAT_FLAG_W,NITRAT,NITRAT_FLAG_W,NITRIT,NITRIT_FLAG_W,PHSPHT,PHSPHT_FLAG_W,REVPRS,THETA,REVTMP
,,,,,,,,,,,,DBAR,ITS-90,PSS-78,,PSS-78,,UMOL/KG,,UMOL/KG,,UMOL/KG,,UMOL/KG,,UMOL/KG,,UMOL/KG,,DBAR,ITS-90,ITS-90
     64PE95N_1,  AR12,    77,  1,     16,   X016,2,19950803,1800, 47.3405,  -6.7713, 1263,     10.0,  16.9157,  35.4882,3,  35.4994,2,    256.7,2,    256.6,6,     0.73,2,     0.03,2,     0.03,2,     0.06,2,  -999.0, 16.9141,-999.000
     64PE95N_1,  AR12,    77,  1,     15,   X015,2,19950803,1800, 47.3405,  -6.7713, 1263,     49.0,  13.6340,  35.5498,3,  35.5612,2,    244.2,2,    246.0,2,     1.10,2,     3.27,2,     0.12,2,     0.25,2,  -999.0, 13.6270,-999.000
     64PE95N_1,  AR12,    77,  1,     14,   X014,2,19950803,1800, 47.3405,  -6.7713, 1263,    101.0,  11.8083,  35.5853,2,-999.0000,9,    246.2,2,   -999.0,9,     2.16,2,     7.63,2,     0.04,2,     0.49,2,  -999.0, 11.7952,-999.000
     64PE95N_1,  AR12,    77,  1,     13,   X026,2,19950803,1800, 47.3405,  -6.7713, 1263,    151.0,  11.5126,  35.5710,2,  35.5703,2,    248.4,2,    248.9,2,     2.74,2,     8.51,2,     0.04,2,     0.55,2,  -999.0, 11.4933,-999.000
     64PE95N_1,  AR12,    77,  1,     12,   X012,2,19950803,1800, 47.3405,  -6.7713, 1263,    201.0,  11.4251,  35.5695,2,-999.0000,9,    243.8,2,   -999.0,9,     3.06,2,     9.20,2,     0.03,2,     0.59,2,  -999.0, 11.3995,-999.000
     64PE95N_1,  AR12,    77,  1,     11,   X011,2,19950803,1800, 47.3405,  -6.7713, 1263,    303.0,  11.0920,  35.5388,2,  35.5375,2,    240.0,2,    240.5,2,     3.77,2,    10.59,2,     0.02,2,     0.67,2,  -999.0, 11.0541,-999.000
     64PE95N_1,  AR12,    77,  1,     10,   X025,2,19950803,1800, 47.3405,  -6.7713, 1263,    403.0,  10.8145,  35.5072,2,-999.0000,9,    234.5,2,   -999.0,9,     4.47,2,    11.63,2,     0.04,2,     0.74,2,  -999.0, 10.7646,-999.000
     64PE95N_1,  AR12,    77,  1,      9,   X009,2,19950803,1800, 47.3405,  -6.7713, 1263,    504.0,  10.5740,  35.5015,2,  35.5028,2,    225.3,2,    225.9,2,     5.22,2,    12.83,2,     0.03,2,     0.81,2,  -999.0, 10.5121,-999.000
     64PE95N_1,  AR12,    77,  1,      8,   X008,2,19950803,1800, 47.3405,  -6.7713, 1263,    607.0,  10.3728,  35.5403,2,-999.0000,9,    211.9,2,   -999.0,9,     6.43,2,    14.21,2,     0.02,2,     0.90,2,   605.0, 10.2988,  10.373
     64PE95N_1,  AR12,    77,  1,      7,   X007,2,19950803,1800, 47.3405,  -6.7713, 1263,    706.0,  10.1270,  35.5938,2,  35.5925,2,    199.1,2,    199.1,2,     7.67,2,    15.54,2,     0.03,2,     0.98,2,  -999.0, 10.0417,-999.000
     64PE95N_1,  AR12,    77,  1,      6,   X006,2,19950803,1800, 47.3405,  -6.7713, 1263,    804.0,  10.0942,  35.6711,2,-999.0000,9,    193.9,2,   -999.0,9,     8.24,2,    15.97,2,     0.03,2,     1.00,2,   804.0,  9.9967,  10.092
     64PE95N_1,  AR12,    77,  1,      5,   X005,2,19950803,1800, 47.3405,  -6.7713, 1263,    908.0,   9.7196,  35.6941,2,  35.6947,2,    194.1,2,    192.9,2,     9.03,2,    16.39,2,     0.02,2,     1.04,2,  -999.0,  9.6113,-999.000
     64PE95N_1,  AR12,    77,  1,      4,   X004,2,19950803,1800, 47.3405,  -6.7713, 1263,   1007.0,   9.1788,  35.6731,2,-999.0000,9,    194.8,2,   -999.0,9,    10.15,2,    16.77,2,     0.02,2,     1.06,2,  1006.0,  9.0620,   9.181
     64PE95N_1,  AR12,    77,  1,      3,   X003,2,19950803,1800, 47.3405,  -6.7713, 1263,   1110.0,   8.9680,  35.6768,2,  35.6770,2,    195.0,2,    195.3,2,    10.47,2,    17.07,2,     0.04,2,     1.09,2,  -999.0,  8.8403,-999.000
     64PE95N_1,  AR12,    77,  1,      2,   X002,2,19950803,1800, 47.3405,  -6.7713, 1263,   1210.0,   8.4906,  35.6138,2,-999.0000,9,    200.0,2,   -999.0,9,    11.01,2,    17.23,2,     0.03,2,     1.10,2,  1205.0,  8.3548,   8.482
     64PE95N_1,  AR12,    77,  1,      1,   X001,2,19950803,1800, 47.3405,  -6.7713, 1263,   1312.0,   7.9156,  35.5376,2,  35.5346,6,    206.9,2,    206.1,6,    11.83,6,    17.45,6,     0.02,6,     1.12,6,  -999.0,  7.7733,-999.000
     64PE95N_1,  AR12,    78,  1,     24,   X024,2,19950803,1953, 47.2833,  -6.8285, 2652,     10.0,  17.2511,  35.5821,3,  35.5880,2,    248.5,2,    250.1,6,     0.37,2,     0.05,2,     0.02,2,     0.07,2,  -999.0, 17.2494,-999.000
     64PE95N_1,  AR12,    78,  1,     23,   X023,2,19950803,1953, 47.2833,  -6.8285, 2652,     49.0,  13.6985,  35.6046,2,  35.6042,2,    255.6,2,   -999.0,9,     0.86,2,     1.48,2,     0.16,2,     0.16,2,  -999.0, 13.6915,-999.000
     64PE95N_1,  AR12,    78,  1,     22,   X022,2,19950803,1953, 47.2833,  -6.8285, 2652,    101.0,  11.8119,  35.5890,2,-999.0000,9,    247.3,2,    246.1,2,     2.22,2,     7.70,2,     0.02,2,     0.47,2,  -999.0, 11.7988,-999.000
     64PE95N_1,  AR12,    78,  1,     21,   X021,2,19950803,1953, 47.2833,  -6.8285, 2652,    201.0,  11.4297,  35.5658,2,  35.5654,2,    246.9,2,   -999.0,9,     2.95,2,     8.99,2,     0.02,2,     0.56,2,  -999.0, 11.4041,-999.000
     64PE95N_1,  AR12,    78,  1,     20,   X027,4,19950803,1953, 47.2833,  -6.8285, 2652,    302.0,  11.1576,  35.5429,2,-999.0000,9,    242.3,2,   -999.0,9,     2.57,4,     7.10,4,     0.05,4,     0.46,4,  -999.0, 11.1196,-999.000
     64PE95N_1,  AR12,    78,  1,     19,   X019,2,19950803,1953, 47.2833,  -6.8285, 2652,    403.0,  10.8836,  35.5187,2,  35.5179,2,    235.1,2,    235.4,2,     4.34,2,    11.44,2,     0.02,2,     0.71,2,  -999.0, 10.8335,-999.000
     64PE95N_1,  AR12,    78,  1,     18,   X018,2,19950803,1953, 47.2833,  -6.8285, 2652,    504.0,  10.5465,  35.4860,2,-999.0000,9,    230.0,2,   -999.0,9,     5.18,2,    12.72,2,     0.02,2,     0.78,2,  -999.0, 10.4848,-999.000
     64PE95N_1,  AR12,    78,  1,     17,   X017,2,19950803,1953, 47.2833,  -6.8285, 2652,    606.0,  10.4210,  35.5216,3,  35.5258,2,    215.3,2,   -999.0,9,     6.15,2,    14.06,2,     0.03,2,     0.88,2,  -999.0, 10.3470,-999.000
     64PE95N_1,  AR12,    78,  1,     16,   X016,2,19950803,1953, 47.2833,  -6.8285, 2652,    704.0,  10.2785,  35.6038,2,-999.0000,9,    202.9,2,    200.8,2,     7.29,2,    15.17,2,     0.01,2,     0.94,2,  -999.0, 10.1926,-999.000
     64PE95N_1,  AR12,    78,  1,     15,   X015,2,19950803,1953, 47.2833,  -6.8285, 2652,    806.0,  10.0963,  35.6925,3,  35.6968,2,    193.8,2,   -999.0,9,     8.57,2,    16.11,2,     0.01,2,     1.00,2,  -999.0,  9.9986,-999.000
     64PE95N_1,  AR12,    78,  1,     14,   X014,2,19950803,1953, 47.2833,  -6.8285, 2652,    907.0,   9.6607,  35.7108,2,-999.0000,9,    193.2,2,   -999.0,9,     9.39,2,    16.57,2,     0.02,2,     1.03,2,  -999.0,  9.5530,-999.000
     64PE95N_1,  AR12,    78,  1,     13,   X026,2,19950803,1953, 47.2833,  -6.8285, 2652,   1009.0,   9.2746,  35.7142,2,  35.7117,2,    193.1,2,    192.2,2,    10.31,2,    16.99,2,     0.04,2,     1.05,2,  -999.0,  9.1569,-999.000
     64PE95N_1,  AR12,    78,  1,     12,   X012,2,19950803,1953, 47.2833,  -6.8285, 2652,   1111.0,   8.4799,  35.6134,2,-999.0000,9,    200.7,2,   -999.0,9,    11.51,2,    17.27,2,     0.02,2,     1.08,2,  -999.0,  8.3561,-999.000
     64PE95N_1,  AR12,    78,  1,     11,   X011,2,19950803,1953, 47.2833,  -6.8285, 2652,   1209.0,   7.7791,  35.5256,2,  35.5256,2,    207.4,2,   -999.0,9,    12.46,2,    17.65,2,     0.03,2,     1.11,2,  -999.0,  7.6498,-999.000
     64PE95N_1,  AR12,    78,  1,     10,   X025,2,19950803,1953, 47.2833,  -6.8285, 2652,   1312.0,   7.3792,  35.4727,2,-999.0000,9,    210.7,2,    211.1,2,    13.20,2,    17.68,2,     0.03,2,     1.13,2,  -999.0,  7.2420,-999.000
     64PE95N_1,  AR12,    78,  1,      9,   X009,2,19950803,1953, 47.2833,  -6.8285, 2652,   1415.0,   7.0063,  35.4221,2,  35.4217,2,    213.9,2,   -999.0,9,    13.73,2,    17.78,2,     0.02,2,     1.14,2,  -999.0,  6.8614,-999.000
     64PE95N_1,  AR12,    78,  1,      8,   X008,2,19950803,1953, 47.2833,  -6.8285, 2652,   1515.0,   6.6566,  35.3732,2,-999.0000,9,    215.9,2,   -999.0,9,    14.14,2,    18.05,2,     0.02,2,     1.15,2,  1515.0,  6.5044,   6.658
     64PE95N_1,  AR12,    78,  1,      7,   X007,2,19950803,1953, 47.2833,  -6.8285, 2652,   1617.0,   5.4332,  35.2098,2,  35.2117,2,    230.8,2,    233.1,2,    16.43,2,    18.28,2,     0.02,2,     1.20,2,  -999.0,  5.2844,-999.000
     64PE95N_1,  AR12,    78,  1,      6,   X006,2,19950803,1953, 47.2833,  -6.8285, 2652,   1819.0,   4.3086,  35.0760,2,-999.0000,9,    242.7,2,   -999.0,9,    20.29,2,    18.69,2,     0.02,2,     1.24,2,  1819.0,  4.1540,   4.302
     64PE95N_1,  AR12,    78,  1,      5,   X005,2,19950803,1953, 47.2833,  -6.8285, 2652,   2022.0,   3.9625,  35.0479,2,  35.0480,2,    242.8,2,   -999.0,9,    23.43,2,    19.19,2,     0.02,2,     1.28,2,  -999.0,  3.7931,-999.000
     64PE95N_1,  AR12,    78,  1,      4,   X004,2,19950803,1953, 47.2833,  -6.8285, 2652,   2225.0,   3.7654,  35.0298,2,-999.0000,9,    242.8,2,    242.9,2,    25.08,2,    19.49,2,     0.02,2,     1.30,2,  -999.0,  3.5790,   3.767
     64PE95N_1,  AR12,    78,  1,      3,   X003,2,19950803,1953, 47.2833,  -6.8285, 2652,   2428.0,   3.3062,  34.9878,2,  34.9876,2,    244.7,2,   -999.0,9,    29.40,2,    20.09,2,     0.01,2,     1.35,2,  -999.0,  3.1077,-999.000
     64PE95N_1,  AR12,    78,  1,      2,   X002,2,19950803,1953, 47.2833,  -6.8285, 2652,   2633.0,   2.9762,  34.9589,2,-999.0000,9,    247.3,2,   -999.0,9,    33.00,2,    20.74,2,     0.02,2,     1.39,2,  2628.0,  2.7634,   2.987
     64PE95N_1,  AR12,    78,  1,      1,   X001,2,19950803,1953, 47.2833,  -6.8285, 2652,   2700.0,   2.8727,  34.9498,2,  34.9507,6,    249.5,2,    243.5,6,    34.35,6,    20.76,6,     0.03,6,     1.40,6,  -999.0,  2.6552,-999.000
     64PE95N_1,  AR12,    79,  1,     24,   X024,2,19950803,2303, 47.2382,  -6.8727, 3460,      9.0,  17.9347,  35.5096,2,  35.5083,2,    248.5,2,    250.2,6,     0.34,2,     0.03,2,     0.02,2,     0.06,2,  -999.0, 17.9331,-999.000
     64PE95N_1,  AR12,    79,  1,     23,   X023,2,19950803,2303, 47.2382,  -6.8727, 3460,     99.0,  11.7659,  35.5677,2,  35.5674,2,    238.1,2,   -999.0,9,     2.09,2,     7.41,2,     0.04,2,     0.47,2,  -999.0, 11.7531,-999.000
     64PE95N_1,  AR12,    79,  1,     22,   X022,2,19950803,2303, 47.2382,  -6.8727, 3460,    200.0,  11.3970,  35.5623,2,-999.0000,9,    245.6,2,    246.8,2,     2.93,2,     9.12,2,     0.03,2,     0.58,2,  -999.0, 11.3715,-999.000
     64PE95N_1,  AR12,    79,  1,     21,   X021,2,19950803,2303, 47.2382,  -6.8727, 3460,    300.0,  11.2035,  35.5557,2,  35.5543,2,    236.9,2,   -999.0,9,     3.63,2,    10.66,2,     0.02,2,     0.66,2,  -999.0, 11.1657,-999.000
     64PE95N_1,  AR12,    79,  1,     20,   X027,2,19950803,2303, 47.2382,  -6.8727, 3460,    403.0,  10.9717,  35.5378,2,-999.0000,9,    232.9,2,   -999.0,9,     4.16,2,    11.60,2,     0.03,2,     0.71,2,  -999.0, 10.9214,-999.000
     64PE95N_1,  AR12,    79,  1,     19,   X019,2,19950803,2303, 47.2382,  -6.8727, 3460,    504.0,  10.7389,  35.5397,2,  35.5395,2,    226.2,2,    223.8,2,     4.98,2,    12.44,2,     0.03,2,     0.78,2,  -999.0, 10.6764,-999.000
     64PE95N_1,  AR12,    79,  1,     18,   X018,2,19950803,2303, 47.2382,  -6.8727, 3460,    604.0,  10.4376,  35.5248,2,-999.0000,9,    218.0,2,   -999.0,9,     6.00,2,    13.92,2,     0.02,2,     0.87,2,  -999.0, 10.3637,-999.000
     64PE95N_1,  AR12,    79,  1,     17,   X017,2,19950803,2303, 47.2382,  -6.8727, 3460,    705.0,  10.2460,  35.5957,2,  35.5953,2,    205.2,2,   -999.0,9,     7.21,2,    15.02,2,     0.03,2,     0.93,2,  -999.0, 10.1603,-999.000
     64PE95N_1,  AR12,    79,  1,     16,   X016,2,19950803,2303, 47.2382,  -6.8727, 3460,    807.0,  10.1649,  35.6767,2,-999.0000,9,    193.3,2,    193.1,2,     8.13,2,    15.95,2,     0.03,2,     1.00,2,  -999.0, 10.0667,-999.000
     64PE95N_1,  AR12,    79,  1,     15,   X015,2,19950803,2303, 47.2382,  -6.8727, 3460,    908.0,  10.0068,  35.7290,2,  35.7289,2,    190.2,2,   -999.0,9,     8.88,2,    16.37,2,     0.02,2,     1.03,2,  -999.0,  9.8967,-999.000
     64PE95N_1,  AR12,    79,  1,     14,   X014,2,19950803,2303, 47.2382,  -6.8727, 3460,   1008.0,   9.5560,  35.7348,2,-999.0000,9,    190.4,2,   -999.0,9,     9.76,2,    16.80,2,     0.03,2,     1.05,2,  -999.0,  9.4364,-999.000
     64PE95N_1,  AR12,    79,  1,     13,   X026,2,19950803,2303, 47.2382,  -6.8727, 3460,   1212.0,   8.2902,  35.5908,2,  35.5869,2,    202.5,2,    203.1,2,    11.64,2,    17.26,2,     0.03,2,     1.10,2,  -999.0,  8.1560,-999.000
     64PE95N_1,  AR12,    79,  1,     12,   X012,2,19950803,2303, 47.2382,  -6.8727, 3460,   1413.0,   7.0501,  35.4251,2,-999.0000,9,    215.1,2,   -999.0,9,    13.59,2,    17.92,2,     0.02,2,     1.14,2,  -999.0,  6.9049,-999.000
     64PE95N_1,  AR12,    79,  1,     11,   X011,2,19950803,2303, 47.2382,  -6.8727, 3460,   1616.0,   5.9692,  35.2771,2,  35.2756,2,    227.4,2,   -999.0,9,    14.81,2,    18.31,2,     0.03,2,     1.18,2,  -999.0,  5.8140,-999.000
     64PE95N_1,  AR12,    79,  1,     10,   X025,2,19950803,2303, 47.2382,  -6.8727, 3460,   1819.0,   4.4209,  35.0688,2,-999.0000,9,    249.0,2,    249.1,2,    17.13,2,    18.43,2,     0.04,2,     1.23,2,  -999.0,  4.2649,-999.000
     64PE95N_1,  AR12,    79,  1,      9,   X009,2,19950803,2303, 47.2382,  -6.8727, 3460,   2023.0,   3.9629,  35.0417,2,  35.0418,2,    246.8,2,   -999.0,9,    22.16,2,    19.24,2,     0.02,2,     1.28,2,  -999.0,  3.7935,-999.000
     64PE95N_1,  AR12,    79,  1,      8,   X008,2,19950803,2303, 47.2382,  -6.8727, 3460,   2225.0,   3.4462,  34.9982,2,-999.0000,9,    247.0,2,   -999.0,9,    26.15,2,    19.92,2,     0.03,2,     1.31,2,  2225.0,  3.2651,   3.445
     64PE95N_1,  AR12,    79,  1,      7,   X007,2,19950803,2303, 47.2382,  -6.8727, 3460,   2429.0,   3.2146,  34.9788,2,  34.9792,2,    246.1,2,    247.3,2,    28.79,2,    20.26,2,     0.03,2,     1.37,2,  -999.0,  3.0177,-999.000
     64PE95N_1,  AR12,    79,  1,      6,   X006,2,19950803,2303, 47.2382,  -6.8727, 3460,   2631.0,   3.0198,  34.9622,2,-999.0000,9,    244.7,2,   -999.0,9,    31.69,2,    20.50,2,     0.03,2,     1.38,2,  2634.0,  2.8063,   3.019
     64PE95N_1,  AR12,    79,  1,      5,   X005,2,19950803,2303, 47.2382,  -6.8727, 3460,   2836.0,   2.8878,  34.9506,2,  34.9504,2,    244.2,2,   -999.0,9,    33.80,2,    21.01,2,     0.02,2,     1.42,2,  -999.0,  2.6563,-999.000
     64PE95N_1,  AR12,    79,  1,      4,   X004,2,19950803,2303, 47.2382,  -6.8727, 3460,   3043.0,   2.6851,  34.9327,2,-999.0000,9,    242.9,2,    241.7,2,    37.14,2,    21.38,2,     0.03,2,     1.45,2,  3046.0,  2.4367,   2.685
     64PE95N_1,  AR12,    79,  1,      3,   X003,2,19950803,2303, 47.2382,  -6.8727, 3460,   3244.0,   2.6382,  34.9272,2,  34.9275,2,    243.2,2,   -999.0,9,    38.40,2,    21.61,2,     0.02,2,     1.45,2,  -999.0,  2.3698,-999.000
     64PE95N_1,  AR12,    79,  1,      2,   X002,2,19950803,2303, 47.2382,  -6.8727, 3460,   3448.0,   2.5907,  34.9219,2,-999.0000,9,    244.0,2,   -999.0,9,    39.64,2,    21.53,2,     0.07,2,     1.42,2,  3442.0,  2.3016,   2.593
     64PE95N_1,  AR12,    79,  1,      1,   X001,2,19950803,2303, 47.2382,  -6.8727, 3460,   3668.0,   2.5407,  34.9157,2,  34.9152,6,    244.9,2,    240.2,6,    41.06,6,    21.75,6,     0.02,6,     1.48,6,  -999.0,  2.2287,-999.000