BOTTLE,20020117WHPSIOKJU
EXPOCODE,SECT_ID,STNNBR,CASTNO,SAMPNO,BTLNBR,BTLNBR_FLAG_W,DATE,TIME,LATITUDE,LONGITUDE,DEPTH,CTDPRS,CTDTMP,CTDSAL,CTDSAL_FLAG_W,SALNTY,SALNTY_FLAG_W,CTDOXY,CTDOXY_FLAG_W,OXYGEN,OXYGEN_FLAG_W,SILCAT,SILCAT_FLAG_W,NITRAT,NITRAT_FLAG_W,NITRIT,NITRIT_FLAG_W,PHSPHT,PHSPHT_FLAG_W,REVPRS,THETA,REVTMP
,,,,,,,,,,,,DBAR,ITS-90,PSS-78,,PSS-78,,UMOL/KG,,UMOL/KG,,UMOL/KG,,UMOL/KG,,UMOL/KG,,UMOL/KG,,DBAR,ITS-90,ITS-90
     64PE95N_1,  AR12,    68,  1,     17,   X017,2,19950731,1725, 47.7333,  -8.2498, 1351,      9.0,  17.7060,  35.5315,2,  35.5323,2,    254.3,2,    254.8,6,     0.59,2,     0.04,2,     0.02,2,     0.05,2,  -999.0, 17.7044,-999.000
     64PE95N_1,  AR12,    68,  1,     16,   X016,2,19950731,1725, 47.7333,  -8.2498, 1351,     50.0,  13.9733,  35.5503,2,-999.0000,9,    245.1,2,   -999.0,9,     1.18,2,     3.28,2,     0.19,2,     0.26,2,  -999.0, 13.9660,-999.000
     64PE95N_1,  AR12,    68,  1,     15,   X015,2,19950731,1725, 47.7333,  -8.2498, 1351,    101.0,  12.1065,  35.5787,2,  35.5781,2,    244.5,2,    244.8,2,     2.16,2,     6.95,2,     0.00,2,     0.45,2,  -999.0, 12.0932,-999.000
     64PE95N_1,  AR12,    68,  1,     14,   X014,2,19950731,1725, 47.7333,  -8.2498, 1351,    151.0,  11.5804,  35.5723,2,-999.0000,9,    247.2,2,   -999.0,9,     2.73,2,     8.39,2,     0.02,2,     0.54,2,  -999.0, 11.5610,-999.000
     64PE95N_1,  AR12,    68,  1,     13,   X026,2,19950731,1725, 47.7333,  -8.2498, 1351,    199.0,  11.4348,  35.5611,2,  35.5595,2,    246.6,2,    247.2,2,     3.19,2,     9.26,2,     0.02,2,     0.59,2,  -999.0, 11.4094,-999.000
     64PE95N_1,  AR12,    68,  1,     12,   X012,2,19950731,1725, 47.7333,  -8.2498, 1351,    304.0,  11.2190,  35.5460,2,-999.0000,9,    242.7,2,   -999.0,9,     3.55,2,    10.06,2,     0.03,2,     0.63,2,  -999.0, 11.1806,-999.000
     64PE95N_1,  AR12,    68,  1,     11,   X011,2,19950731,1725, 47.7333,  -8.2498, 1351,    403.0,  10.9974,  35.5359,2,  35.5331,2,    233.5,2,    234.2,2,     4.27,2,    11.29,2,     0.06,2,     0.72,2,  -999.0, 10.9470,-999.000
     64PE95N_1,  AR12,    68,  1,     10,   X025,2,19950731,1725, 47.7333,  -8.2498, 1351,    505.0,  10.7042,  35.5166,2,-999.0000,9,    228.4,2,   -999.0,9,     5.02,2,    12.27,2,     0.03,2,     0.78,2,  -999.0, 10.6417,-999.000
     64PE95N_1,  AR12,    68,  1,      9,   X009,2,19950731,1725, 47.7333,  -8.2498, 1351,    605.0,  10.4783,  35.5251,2,  35.5228,2,    218.7,2,    219.4,2,     5.98,2,    13.41,2,     0.03,2,     0.86,2,  -999.0, 10.4040,-999.000
     64PE95N_1,  AR12,    68,  1,      8,   X008,2,19950731,1725, 47.7333,  -8.2498, 1351,    706.0,  10.1749,  35.5336,2,-999.0000,9,    206.4,2,   -999.0,9,     7.15,2,    15.06,2,     0.02,2,     0.95,2,   705.0, 10.0895,  10.173
     64PE95N_1,  AR12,    68,  1,      7,   X007,2,19950731,1725, 47.7333,  -8.2498, 1351,    808.0,   9.9175,  35.5761,2,  35.5775,2,    195.7,2,    194.5,2,     8.41,2,    16.31,2,     0.00,2,     1.04,2,  -999.0,  9.8207,-999.000
     64PE95N_1,  AR12,    68,  1,      6,   X006,2,19950731,1725, 47.7333,  -8.2498, 1351,    909.0,   9.6893,  35.6710,2,-999.0000,9,    190.5,2,   -999.0,9,     9.25,2,    16.81,2,     0.00,2,     1.07,2,   907.0,  9.5812,   9.685
     64PE95N_1,  AR12,    68,  1,      5,   X005,2,19950731,1725, 47.7333,  -8.2498, 1351,   1008.0,   9.0521,  35.6592,2,  35.6571,2,    192.4,2,    193.2,2,    10.19,2,    17.35,2,     0.01,2,     1.11,2,  -999.0,  8.9362,-999.000
     64PE95N_1,  AR12,    68,  1,      4,   X004,2,19950731,1725, 47.7333,  -8.2498, 1351,   1112.0,   8.6733,  35.6396,2,-999.0000,9,    196.3,2,   -999.0,9,    10.66,2,    17.27,2,     0.04,2,     1.12,2,  1110.0,  8.5477,   8.676
     64PE95N_1,  AR12,    68,  1,      3,   X003,2,19950731,1725, 47.7333,  -8.2498, 1351,   1213.0,   7.8433,  35.5297,2,  35.5299,2,    204.6,2,    202.9,2,    11.87,2,    17.56,2,     0.00,2,     1.14,2,  -999.0,  7.7130,-999.000
     64PE95N_1,  AR12,    68,  1,      2,   X002,2,19950731,1725, 47.7333,  -8.2498, 1351,   1314.0,   7.2565,  35.4461,2,-999.0000,9,    211.6,2,   -999.0,9,    12.52,2,    17.79,2,     0.02,2,     1.16,2,  1310.0,  7.1203,   7.256
     64PE95N_1,  AR12,    68,  1,      1,   X001,2,19950731,1725, 47.7333,  -8.2498, 1351,   1364.0,   7.0021,  35.4104,2,  35.4071,6,    215.4,2,    215.3,6,    12.82,6,    17.89,6,     0.02,6,     1.16,6,  -999.0,  6.8629,-999.000
     64PE95N_1,  AR12,    69,  1,     13,   X026,2,19950731,1905, 47.8347,  -8.0827, 1002,      9.0,  17.4241,  35.5272,2,  35.5269,2,    254.6,2,    254.9,6,     0.57,2,     0.02,2,     0.02,2,     0.03,2,  -999.0, 17.4225,-999.000
     64PE95N_1,  AR12,    69,  1,     12,   X012,2,19950731,1905, 47.8347,  -8.0827, 1002,     50.0,  14.8838,  35.5295,2,-999.0000,9,    248.3,2,   -999.0,9,     1.15,2,     2.25,2,     0.26,2,     0.17,2,  -999.0, 14.8762,-999.000
     64PE95N_1,  AR12,    69,  1,     11,   X011,2,19950731,1905, 47.8347,  -8.0827, 1002,    101.0,  12.0010,  35.5561,2,  35.5550,2,    240.1,2,    240.7,2,     2.34,2,     7.23,2,     0.03,2,     0.46,2,  -999.0, 11.9877,-999.000
     64PE95N_1,  AR12,    69,  1,     10,   X025,2,19950731,1905, 47.8347,  -8.0827, 1002,    151.0,  11.5609,  35.5518,2,-999.0000,9,    238.6,2,   -999.0,9,     2.93,2,     8.43,2,     0.03,2,     0.53,2,  -999.0, 11.5415,-999.000
     64PE95N_1,  AR12,    69,  1,      9,   X009,2,19950731,1905, 47.8347,  -8.0827, 1002,    201.0,  11.4481,  35.5511,2,  35.5502,2,    238.5,2,    239.6,2,     3.15,2,     8.91,2,     0.03,2,     0.56,2,  -999.0, 11.4224,-999.000
     64PE95N_1,  AR12,    69,  1,      8,   X008,2,19950731,1905, 47.8347,  -8.0827, 1002,    301.0,  11.2077,  35.5528,2,-999.0000,9,    233.7,2,   -999.0,9,     3.90,2,    10.22,2,     0.03,2,     0.64,2,   300.0, 11.1697,  11.214
     64PE95N_1,  AR12,    69,  1,      7,   X007,2,19950731,1905, 47.8347,  -8.0827, 1002,    403.0,  10.8738,  35.5460,2,  35.5448,2,    227.4,2,    227.4,2,     4.80,2,    11.87,2,     0.01,2,     0.74,2,  -999.0, 10.8237,-999.000
     64PE95N_1,  AR12,    69,  1,      6,   X006,2,19950731,1905, 47.8347,  -8.0827, 1002,    504.0,  10.4707,  35.5253,2,-999.0000,9,    217.6,2,   -999.0,9,     6.08,2,    13.71,2,     0.02,2,     0.87,2,   503.0, 10.4091,  10.469
     64PE95N_1,  AR12,    69,  1,      5,   X005,2,19950731,1905, 47.8347,  -8.0827, 1002,    606.0,  10.2738,  35.5527,2,  35.5524,2,    207.5,2,    208.1,2,     6.91,2,    14.65,2,     0.02,2,     0.92,2,  -999.0, 10.2003,-999.000
     64PE95N_1,  AR12,    69,  1,      4,   X004,2,19950731,1905, 47.8347,  -8.0827, 1002,    707.0,  10.0397,  35.6022,2,-999.0000,9,    197.7,2,   -999.0,9,     8.04,2,    15.68,2,     0.02,2,     0.99,2,   704.0,  9.9546,  10.039
     64PE95N_1,  AR12,    69,  1,      3,   X003,2,19950731,1905, 47.8347,  -8.0827, 1002,    808.0,   9.9548,  35.6390,2,  35.6382,2,    196.0,2,    195.4,2,     8.43,2,    16.09,2,     0.01,2,     1.02,2,  -999.0,  9.8577,-999.000
     64PE95N_1,  AR12,    69,  1,      2,   X002,2,19950731,1905, 47.8347,  -8.0827, 1002,    909.0,   9.6791,  35.6705,2,-999.0000,9,    195.1,2,   -999.0,9,     9.33,2,    16.51,2,     0.03,2,     1.04,2,   903.0,  9.5711,   9.678
     64PE95N_1,  AR12,    69,  1,      1,   X001,2,19950731,1905, 47.8347,  -8.0827, 1002,   1020.0,   9.2342,  35.6610,2,  35.6598,6,    195.7,2,    195.6,6,    10.03,6,    16.75,6,     0.02,6,     1.07,6,  -999.0,  9.1155,-999.000
     64PE95N_1,  AR12,    70,  1,      5,   X005,2,19950731,2112, 47.9973,  -7.8340,  195,     11.0,  17.1150,  35.5318,2,  35.5317,2,    251.2,2,    254.3,2,     0.61,2,     0.02,2,     0.03,2,     0.05,2,  -999.0, 17.1131,-999.000
     64PE95N_1,  AR12,    70,  1,      4,   X004,2,19950731,2112, 47.9973,  -7.8340,  195,     50.0,  13.5763,  35.5324,2,-999.0000,9,    242.2,2,   -999.0,9,     1.74,2,     4.69,2,     0.11,2,     0.33,2,    49.0, 13.5692,-999.000
     64PE95N_1,  AR12,    70,  1,      3,   X003,2,19950731,2112, 47.9973,  -7.8340,  195,    102.0,  11.7426,  35.5421,2,  35.5402,2,    234.6,2,    236.2,2,     2.97,2,     8.27,2,     0.02,2,     0.53,2,  -999.0, 11.7294,-999.000
     64PE95N_1,  AR12,    70,  1,      2,   X002,2,19950731,2112, 47.9973,  -7.8340,  195,    153.0,  11.3596,  35.5492,2,-999.0000,9,    232.1,2,   -999.0,9,     3.64,2,     9.63,2,     0.03,2,     0.62,2,   153.0, 11.3403,-999.000
     64PE95N_1,  AR12,    70,  1,      1,   X001,2,19950731,2112, 47.9973,  -7.8340,  195,    197.0,  11.3549,  35.5496,2,  35.5470,6,    230.2,2,    233.9,6,     3.73,6,     9.76,6,     0.01,6,     0.62,6,  -999.0, 11.3300,-999.000
     64PE95N_1,  AR12,    72,  1,      4,   X004,2,19950803,0837, 47.7487,  -6.3283,  154,     11.0,  17.3283,  35.4954,2,  35.4979,2,    250.4,2,    251.1,2,     0.66,2,     0.04,2,     0.03,2,     0.06,2,  -999.0, 17.3265,-999.000
     64PE95N_1,  AR12,    72,  1,      3,   X003,2,19950803,0837, 47.7487,  -6.3283,  154,     53.0,  13.5014,  35.5143,2,-999.0000,9,    238.8,2,    237.4,2,     1.70,2,     4.13,2,     0.21,2,     0.31,2,  -999.0, 13.4939,-999.000
     64PE95N_1,  AR12,    72,  1,      2,   X002,2,19950803,0837, 47.7487,  -6.3283,  154,    101.0,  12.1373,  35.5093,2,  35.5142,2,    233.6,2,   -999.0,9,     2.72,2,     7.16,2,     0.05,2,     0.47,2,  -999.0, 12.1240,-999.000
     64PE95N_1,  AR12,    72,  1,      1,   X001,2,19950803,0837, 47.7487,  -6.3283,  154,    153.0,  12.1377,  35.5113,2,  35.5099,6,    231.9,2,    232.9,6,     2.73,6,     7.20,6,     0.05,6,     0.47,6,  -999.0, 12.1175,-999.000
     64PE95N_1,  AR12,    73,  1,      4,   X004,2,19950803,0946, 47.6405,  -6.4465,  147,     11.0,  17.0824,  35.4996,2,  35.5017,2,    251.8,2,    250.4,2,     0.63,2,     0.19,2,     0.03,2,     0.07,2,  -999.0, 17.0806,-999.000
     64PE95N_1,  AR12,    73,  1,      3,   X003,2,19950803,0946, 47.6405,  -6.4465,  147,     52.0,  13.1892,  35.5066,2,-999.0000,9,    236.2,2,    236.3,2,     2.04,2,     5.37,2,     0.09,2,     0.36,2,  -999.0, 13.1820,-999.000
     64PE95N_1,  AR12,    73,  1,      2,   X002,2,19950803,0946, 47.6405,  -6.4465,  147,    101.0,  12.1173,  35.5070,2,  35.5037,2,    234.4,2,   -999.0,9,     2.67,2,     7.08,2,     0.05,2,     0.44,2,  -999.0, 12.1040,-999.000
     64PE95N_1,  AR12,    73,  1,      1,   X001,2,19950803,0946, 47.6405,  -6.4465,  147,    148.0,  12.1252,  35.5055,2,  35.5033,6,    233.8,2,    232.7,6,     2.68,6,     7.11,6,     0.05,6,     0.48,6,  -999.0, 12.1056,-999.000
     64PE95N_1,  AR12,    74,  1,      2,   X002,2,19950803,1405, 47.5333,  -6.5637,  205,    151.0,  11.9964,  35.5208,2,  35.5199,2,    239.5,2,    234.5,2,     2.84,2,     7.58,2,     0.04,2,     0.49,2,  -999.0, 11.9766,-999.000
     64PE95N_1,  AR12,    74,  1,      1,   X001,2,19950803,1405, 47.5333,  -6.5637,  205,    205.0,  11.6068,  35.5457,2,  35.5436,6,    240.1,2,    234.7,2,     3.33,6,     8.91,6,     0.04,6,     0.62,6,  -999.0, 11.5805,-999.000
     64PE95N_1,  AR12,    75,  1,     11,   X011,2,19950803,1534, 47.4468,  -6.6498,  712,     10.0,  17.0498,  35.4877,2,  35.4863,2,    259.1,2,    261.3,6,     0.91,2,     0.00,2,     0.03,2,     0.06,2,  -999.0, 17.0481,-999.000
     64PE95N_1,  AR12,    75,  1,     10,   X025,2,19950803,1534, 47.4468,  -6.6498,  712,     50.0,  14.2710,  35.4830,2,-999.0000,9,    241.0,2,   -999.0,9,     1.70,2,     3.46,2,     0.11,2,     0.24,2,  -999.0, 14.2636,-999.000
     64PE95N_1,  AR12,    75,  1,      9,   X009,2,19950803,1534, 47.4468,  -6.6498,  712,    100.0,  12.3524,  35.5131,2,  35.5162,2,    231.8,2,    236.5,2,     2.36,2,     6.75,2,     0.06,2,     0.43,2,  -999.0, 12.3391,-999.000
     64PE95N_1,  AR12,    75,  1,      8,   X008,2,19950803,1534, 47.4468,  -6.6498,  712,    150.0,  11.7390,  35.5627,2,-999.0000,9,    233.8,2,   -999.0,9,     2.55,2,     7.70,2,     0.04,2,     0.48,2,  -999.0, 11.7196,-999.000
     64PE95N_1,  AR12,    75,  1,      7,   X007,2,19950803,1534, 47.4468,  -6.6498,  712,    202.0,  11.5430,  35.5615,2,  35.5605,2,    233.1,3,    240.9,2,     2.97,2,     8.60,2,     0.04,2,     0.54,2,  -999.0, 11.5172,-999.000
     64PE95N_1,  AR12,    75,  1,      6,   X006,2,19950803,1534, 47.4468,  -6.6498,  712,    302.0,  11.2803,  35.5578,2,-999.0000,9,    226.6,2,   -999.0,9,     3.81,2,     9.99,2,     0.04,2,     0.63,2,  -999.0, 11.2421,-999.000
     64PE95N_1,  AR12,    75,  1,      5,   X005,2,19950803,1534, 47.4468,  -6.6498,  712,    402.0,  11.1300,  35.5596,2,  35.5582,2,    223.3,2,    229.0,2,     4.25,2,    10.75,2,     0.04,2,     0.68,2,  -999.0, 11.0792,-999.000
     64PE95N_1,  AR12,    75,  1,      4,   X004,2,19950803,1534, 47.4468,  -6.6498,  712,    503.0,  10.6537,  35.5666,2,-999.0000,9,    215.1,2,   -999.0,9,     4.46,2,    10.75,2,     0.04,2,     0.68,2,  -999.0, 10.5916,-999.000
     64PE95N_1,  AR12,    75,  1,      3,   X003,2,19950803,1534, 47.4468,  -6.6498,  712,    604.0,  10.2267,  35.5996,2,  35.6006,2,    205.7,2,    204.9,2,     7.28,2,    14.94,2,     0.04,2,     0.95,2,  -999.0, 10.1536,-999.000
     64PE95N_1,  AR12,    75,  1,      2,   X002,2,19950803,1534, 47.4468,  -6.6498,  712,    706.0,  10.0153,  35.6301,2,-999.0000,9,    201.6,2,   -999.0,9,     8.01,2,    15.47,2,     0.03,2,     0.98,2,  -999.0,  9.9304,-999.000
     64PE95N_1,  AR12,    75,  1,      1,   X001,2,19950803,1534, 47.4468,  -6.6498,  712,    737.0,   9.9964,  35.6305,2,  35.6297,6,    202.2,2,    200.0,6,     7.98,6,    15.52,6,     0.03,6,     0.98,6,  -999.0,  9.9078,-999.000
     64PE95N_1,  AR12,    76,  1,     12,   X012,2,19950803,1642, 47.3957,  -6.7107,  902,     10.0,  16.7614,  35.4364,2,  35.4408,2,    259.1,2,    255.9,6,     0.88,2,     0.06,2,     0.03,2,     0.08,2,  -999.0, 16.7597,-999.000
     64PE95N_1,  AR12,    76,  1,     11,   X011,2,19950803,1642, 47.3957,  -6.7107,  902,     50.0,  13.4073,  35.4880,2,  35.4913,2,    238.4,2,    239.0,2,     1.66,2,     4.58,2,     0.08,2,     0.31,2,  -999.0, 13.4003,-999.000
     64PE95N_1,  AR12,    76,  1,     10,   X025,2,19950803,1642, 47.3957,  -6.7107,  902,    101.0,  11.7944,  35.5458,2,-999.0000,9,    232.5,2,   -999.0,9,     2.70,2,     7.89,2,     0.05,2,     0.51,2,  -999.0, 11.7813,-999.000
     64PE95N_1,  AR12,    76,  1,      9,   X009,2,19950803,1642, 47.3957,  -6.7107,  902,    151.0,  11.5536,  35.5507,2,  35.5500,2,    230.0,3,    236.6,2,     3.14,2,     8.70,2,     0.04,2,     0.55,2,  -999.0, 11.5343,-999.000
     64PE95N_1,  AR12,    76,  1,      8,   X008,2,19950803,1642, 47.3957,  -6.7107,  902,    201.0,  11.4277,  35.5541,2,-999.0000,9,    230.2,2,   -999.0,9,     3.35,2,     9.21,2,     0.04,2,     0.58,2,  -999.0, 11.4021,-999.000
     64PE95N_1,  AR12,    76,  1,      7,   X007,2,19950803,1642, 47.3957,  -6.7107,  902,    302.0,  11.1803,  35.5606,2,  35.5600,2,    227.6,2,    233.0,2,     3.93,2,    10.59,2,     0.03,2,     0.67,2,  -999.0, 11.1423,-999.000
     64PE95N_1,  AR12,    76,  1,      6,   X006,2,19950803,1642, 47.3957,  -6.7107,  902,    402.0,  10.9345,  35.5570,2,-999.0000,9,    222.2,2,   -999.0,9,     4.71,2,    11.71,2,     0.03,2,     0.73,2,  -999.0, 10.8844,-999.000
     64PE95N_1,  AR12,    76,  1,      5,   X005,2,19950803,1642, 47.3957,  -6.7107,  902,    504.0,  10.6519,  35.5585,2,  35.5582,2,    216.1,2,    219.1,2,     5.60,2,    12.93,2,     0.02,2,     0.81,2,  -999.0, 10.5898,-999.000
     64PE95N_1,  AR12,    76,  1,      4,   X004,2,19950803,1642, 47.3957,  -6.7107,  902,    603.0,  10.4042,  35.5762,2,-999.0000,9,    210.8,2,   -999.0,9,     6.53,2,    13.95,2,     0.03,2,     0.89,2,  -999.0, 10.3305,-999.000
     64PE95N_1,  AR12,    76,  1,      3,   X003,2,19950803,1642, 47.3957,  -6.7107,  902,    706.0,  10.1408,  35.6351,2,  35.6343,2,    201.3,2,    199.4,2,     7.72,2,    15.40,2,     0.03,2,     0.97,2,  -999.0, 10.0554,-999.000
     64PE95N_1,  AR12,    76,  1,      2,   X002,2,19950803,1642, 47.3957,  -6.7107,  902,    806.0,   9.9855,  35.6583,2,-999.0000,9,    199.3,2,   -999.0,9,     8.14,2,    15.81,2,     0.03,2,     0.99,2,  -999.0,  9.8884,-999.000
     64PE95N_1,  AR12,    76,  1,      1,   X001,2,19950803,1642, 47.3957,  -6.7107,  902,    888.0,   9.7557,  35.6833,2,  35.6839,6,    197.5,2,    193.9,6,     9.06,6,    16.22,6,     0.04,6,     1.03,6,  -999.0,  9.6497,-999.000