BOTTLE,20020117WHPSIOKJU
EXPOCODE,SECT_ID,STNNBR,CASTNO,SAMPNO,BTLNBR,BTLNBR_FLAG_W,DATE,TIME,LATITUDE,LONGITUDE,DEPTH,CTDPRS,CTDTMP,CTDSAL,CTDSAL_FLAG_W,SALNTY,SALNTY_FLAG_W,CTDOXY,CTDOXY_FLAG_W,OXYGEN,OXYGEN_FLAG_W,SILCAT,SILCAT_FLAG_W,NITRAT,NITRAT_FLAG_W,NITRIT,NITRIT_FLAG_W,PHSPHT,PHSPHT_FLAG_W,REVPRS,THETA,REVTMP
,,,,,,,,,,,,DBAR,ITS-90,PSS-78,,PSS-78,,UMOL/KG,,UMOL/KG,,UMOL/KG,,UMOL/KG,,UMOL/KG,,UMOL/KG,,DBAR,ITS-90,ITS-90
     64PE95N_1,  AR12,    59,  1,     24,   X024,2,19950730,0328, 47.0003, -12.0008, 4738,      9.0,  18.9514,  35.6556,2,  35.6552,2,    233.9,2,    234.6,6,     0.28,2,     0.02,2,     0.03,2,     0.04,2,  -999.0, 18.9498,-999.000
     64PE95N_1,  AR12,    59,  1,     23,   X023,2,19950730,0328, 47.0003, -12.0008, 4738,    100.0,  12.2519,  35.6405,2,  35.6436,2,    246.5,2,    243.4,2,     2.02,2,     7.11,2,     0.05,2,     0.46,2,  -999.0, 12.2386,-999.000
     64PE95N_1,  AR12,    59,  1,     22,   X022,2,19950730,0328, 47.0003, -12.0008, 4738,    200.0,  11.5021,  35.5773,2,-999.0000,9,    242.5,2,   -999.0,9,     3.46,2,    10.08,2,     0.03,2,     0.62,2,  -999.0, 11.4766,-999.000
     64PE95N_1,  AR12,    59,  1,     21,   X021,2,19950730,0328, 47.0003, -12.0008, 4738,    302.0,  11.1205,  35.5377,2,  35.5374,2,    235.4,2,    233.7,2,     4.12,2,    11.37,2,     0.03,2,     0.71,2,  -999.0, 11.0826,-999.000
     64PE95N_1,  AR12,    59,  1,     20,   X020,2,19950730,0328, 47.0003, -12.0008, 4738,    407.0,  10.9866,  35.5537,2,-999.0000,9,    227.4,2,   -999.0,9,     4.56,2,    12.15,2,     0.04,2,     0.74,2,  -999.0, 10.9357,-999.000
     64PE95N_1,  AR12,    59,  1,     19,   X019,2,19950730,0328, 47.0003, -12.0008, 4738,    605.0,  10.4876,  35.5583,3,  35.5676,2,    208.1,2,    207.4,2,     6.48,2,    14.55,2,     0.04,2,     0.90,2,  -999.0, 10.4134,-999.000
     64PE95N_1,  AR12,    59,  1,     18,   X018,2,19950730,0328, 47.0003, -12.0008, 4738,    806.0,   9.7113,  35.6162,2,-999.0000,9,    189.8,2,   -999.0,9,     9.19,2,    17.02,2,     0.05,2,     1.06,2,  -999.0,  9.6159,-999.000
     64PE95N_1,  AR12,    59,  1,     17,   X017,2,19950730,0328, 47.0003, -12.0008, 4738,   1011.0,   8.9308,  35.6557,3,  35.6505,2,    191.7,2,    193.8,2,    10.27,2,    17.47,2,     0.01,2,     1.08,2,  -999.0,  8.8154,-999.000
     64PE95N_1,  AR12,    59,  1,     16,   X016,2,19950730,0328, 47.0003, -12.0008, 4738,   1267.0,   6.6225,  35.3243,2,-999.0000,9,    216.7,2,   -999.0,9,    11.40,2,    18.15,2,     0.03,2,     1.15,2,  -999.0,  6.4976,-999.000
     64PE95N_1,  AR12,    59,  1,     15,   X015,2,19950730,0328, 47.0003, -12.0008, 4738,   1517.0,   4.6598,  35.0379,2,  35.0354,2,    248.7,2,    250.5,2,    11.48,2,    18.04,2,     0.03,2,     1.17,2,  -999.0,  4.5304,-999.000
     64PE95N_1,  AR12,    59,  1,     14,   X014,2,19950730,0328, 47.0003, -12.0008, 4738,   1772.0,   4.0730,  34.9809,2,-999.0000,9,    259.0,2,   -999.0,9,    11.98,2,    17.63,2,     0.03,2,     1.15,2,  -999.0,  3.9264,-999.000
     64PE95N_1,  AR12,    59,  1,     13,   X013,2,19950730,0328, 47.0003, -12.0008, 4738,   2025.0,   3.5849,  34.9379,2,  34.9367,2,    264.7,2,    267.5,2,    13.53,2,    17.56,2,     0.01,2,     1.16,2,  -999.0,  3.4212,-999.000
     64PE95N_1,  AR12,    59,  1,     12,   X012,2,19950730,0328, 47.0003, -12.0008, 4738,   2280.0,   3.3836,  34.9591,2,-999.0000,9,    257.5,2,   -999.0,9,    17.82,2,    18.21,2,     0.03,2,     1.19,2,  -999.0,  3.1983,-999.000
     64PE95N_1,  AR12,    59,  1,     11,   X011,2,19950730,0328, 47.0003, -12.0008, 4738,   2535.0,   3.1805,  34.9663,2,  34.9654,2,    248.0,2,    250.2,6,    25.62,2,    19.52,2,     0.03,2,     1.31,2,  -999.0,  2.9736,-999.000
     64PE95N_1,  AR12,    59,  1,     10,   X010,2,19950730,0328, 47.0003, -12.0008, 4738,   2791.0,   2.9868,  34.9573,2,-999.0000,9,    243.1,2,   -999.0,9,    30.54,2,    20.30,2,     0.04,2,     1.37,2,  -999.0,  2.7578,-999.000
     64PE95N_1,  AR12,    59,  1,      9,   X009,2,19950730,0328, 47.0003, -12.0008, 4738,   3044.0,   2.8032,  34.9430,2,  34.9421,2,    241.8,2,    243.6,2,    33.96,2,    20.79,2,     0.02,2,     1.40,2,  -999.0,  2.5520,-999.000
     64PE95N_1,  AR12,    59,  1,      8,   X008,2,19950730,0328, 47.0003, -12.0008, 4738,   3303.0,   2.6919,  34.9330,2,-999.0000,9,    239.4,2,   -999.0,9,    36.34,2,    21.27,2,     0.04,2,     1.43,2,  3306.0,  2.4159,   2.691
     64PE95N_1,  AR12,    59,  1,      7,   X007,2,19950730,0328, 47.0003, -12.0008, 4738,   3558.0,   2.6086,  34.9242,2,  34.9266,2,    239.0,2,    241.2,2,    37.83,2,    21.44,2,     0.03,2,     1.45,2,  -999.0,  2.3071,-999.000
     64PE95N_1,  AR12,    59,  1,      6,   X006,2,19950730,0328, 47.0003, -12.0008, 4738,   3814.0,   2.5552,  34.9168,2,-999.0000,9,    237.2,2,   -999.0,9,    41.19,2,    21.91,2,     0.04,2,     1.48,2,  3815.0,  2.2265,   2.553
     64PE95N_1,  AR12,    59,  1,      5,   X005,2,19950730,0328, 47.0003, -12.0008, 4738,   4070.0,   2.5243,  34.9105,2,  34.9091,2,    237.4,2,    238.6,2,    42.58,2,    22.11,2,     0.03,2,     1.49,2,  -999.0,  2.1672,-999.000
     64PE95N_1,  AR12,    59,  1,      4,   X004,2,19950730,0328, 47.0003, -12.0008, 4738,   4327.0,   2.5107,  34.9061,2,-999.0000,9,    237.1,2,   -999.0,9,    43.50,2,    22.24,2,     0.03,2,     1.51,2,  4332.0,  2.1238,   2.510
     64PE95N_1,  AR12,    59,  1,      3,   X003,2,19950730,0328, 47.0003, -12.0008, 4738,   4584.0,   2.5115,  34.9027,2,  34.9023,2,    237.4,2,    235.4,2,    44.03,2,    22.33,2,     0.02,2,     1.52,2,  -999.0,  2.0935,-999.000
     64PE95N_1,  AR12,    59,  1,      2,   X002,2,19950730,0328, 47.0003, -12.0008, 4738,   4843.0,   2.5290,  34.9011,2,-999.0000,9,    236.8,2,   -999.0,9,    44.80,2,    22.35,2,     0.03,2,     1.53,2,  4839.0,  2.0784,   2.531
     64PE95N_1,  AR12,    59,  1,      1,   X001,2,19950730,0328, 47.0003, -12.0008, 4738,   4860.0,   2.5279,  34.9005,2,  34.9002,6,    237.3,2,    236.6,6,    44.30,6,    22.24,6,     0.04,6,     1.51,6,  -999.0,  2.0752,-999.000
     64PE95N_1,  AR12,    60,  1,     24,   X024,2,19950730,1023, 46.9997, -10.9992, 4700,      9.0,  18.5559,  35.5870,2,  35.5885,2,    239.3,2,    240.3,6,     0.39,2,     0.09,2,     0.01,2,     0.06,2,  -999.0, 18.5543,-999.000
     64PE95N_1,  AR12,    60,  1,     23,   X023,2,19950730,1023, 46.9997, -10.9992, 4700,    101.0,  12.2131,  35.6398,2,  35.6372,2,    248.3,2,    245.7,2,     2.42,2,     7.58,2,     0.04,2,     0.48,2,  -999.0, 12.1997,-999.000
     64PE95N_1,  AR12,    60,  1,     22,   X022,4,19950730,1023, 46.9997, -10.9992, 4700,    201.0,  11.6116,  35.5866,2,-999.0000,9,    245.2,2,   -999.0,9,  -999.00,9,  -999.00,9,  -999.00,9,  -999.00,9,  -999.0, 11.5858,-999.000
     64PE95N_1,  AR12,    60,  1,     21,   X021,2,19950730,1023, 46.9997, -10.9992, 4700,    299.0,  11.1478,  35.5305,2,  35.5289,2,    240.4,2,    238.8,2,     4.01,2,    11.02,2,     0.02,2,     0.69,2,  -999.0, 11.1102,-999.000
     64PE95N_1,  AR12,    60,  1,     20,   X020,2,19950730,1023, 46.9997, -10.9992, 4700,    403.0,  10.9053,  35.5151,2,-999.0000,9,    239.7,2,   -999.0,9,     4.08,2,    11.13,2,     0.02,2,     0.70,2,  -999.0, 10.8551,-999.000
     64PE95N_1,  AR12,    60,  1,     19,   X019,2,19950730,1023, 46.9997, -10.9992, 4700,    504.0,  10.5801,  35.4808,2,  35.4792,2,    238.1,2,    239.4,2,     4.71,2,    11.83,2,     0.02,2,     0.75,2,  -999.0, 10.5182,-999.000
     64PE95N_1,  AR12,    60,  1,     18,   X018,2,19950730,1023, 46.9997, -10.9992, 4700,    605.0,  10.4685,  35.5071,2,-999.0000,9,    223.5,2,   -999.0,9,     5.74,2,    13.03,2,     0.03,2,     0.83,2,  -999.0, 10.3943,-999.000
     64PE95N_1,  AR12,    60,  1,     17,   X017,2,19950730,1023, 46.9997, -10.9992, 4700,    809.0,   9.4323,  35.4729,2,  35.4747,2,    197.4,2,    196.8,2,     8.88,2,    16.91,2,     0.01,2,     1.07,2,  -999.0,  9.3383,-999.000
     64PE95N_1,  AR12,    60,  1,     16,   X016,2,19950730,1023, 46.9997, -10.9992, 4700,   1010.0,   9.0170,  35.6043,2,-999.0000,9,    191.7,2,   -999.0,9,     9.96,2,    17.48,2,     0.01,2,     1.11,2,  -999.0,  8.9012,-999.000
     64PE95N_1,  AR12,    60,  1,     15,   X015,2,19950730,1023, 46.9997, -10.9992, 4700,   1263.0,   7.0965,  35.3735,2,  35.3743,2,    211.7,2,    212.7,2,    11.19,2,    17.98,2,     0.01,2,     1.16,2,  -999.0,  6.9676,-999.000
     64PE95N_1,  AR12,    60,  1,     14,   X014,2,19950730,1023, 46.9997, -10.9992, 4700,   1517.0,   5.3193,  35.1498,2,-999.0000,9,    236.5,2,   -999.0,9,    12.30,2,    18.04,2,     0.03,2,     1.18,2,  -999.0,  5.1822,-999.000
     64PE95N_1,  AR12,    60,  1,     13,   X013,2,19950730,1023, 46.9997, -10.9992, 4700,   1773.0,   4.1208,  34.9927,2,  34.9912,2,    257.7,2,    258.9,6,    12.82,2,    17.84,2,     0.01,2,     1.18,2,  -999.0,  3.9735,-999.000
     64PE95N_1,  AR12,    60,  1,     12,   X012,2,19950730,1023, 46.9997, -10.9992, 4700,   2027.0,   3.6567,  34.9557,2,-999.0000,9,    262.1,2,   -999.0,9,    14.37,2,    17.76,2,     0.01,2,     1.18,2,  -999.0,  3.4917,-999.000
     64PE95N_1,  AR12,    60,  1,     11,   X011,2,19950730,1023, 46.9997, -10.9992, 4700,   2279.0,   3.4515,  34.9767,2,  34.9771,2,    251.7,2,    253.7,2,    20.83,2,    18.72,2,     0.01,2,     1.25,2,  -999.0,  3.2651,-999.000
     64PE95N_1,  AR12,    60,  1,     10,   X010,2,19950730,1023, 46.9997, -10.9992, 4700,   2535.0,   3.1717,  34.9688,2,-999.0000,9,    246.9,2,   -999.0,9,    26.44,2,    19.65,2,     0.02,2,     1.34,2,  -999.0,  2.9650,-999.000
     64PE95N_1,  AR12,    60,  1,      9,   X009,2,19950730,1023, 46.9997, -10.9992, 4700,   2791.0,   2.9629,  34.9558,2,-999.0000,9,    243.9,2,    246.3,2,    30.01,2,    20.24,2,     0.02,2,     1.37,2,  -999.0,  2.7344,-999.000
     64PE95N_1,  AR12,    60,  1,      8,   X008,2,19950730,1023, 46.9997, -10.9992, 4700,   3047.0,   2.7883,  34.9424,2,-999.0000,9,    241.8,2,   -999.0,9,    33.31,2,    20.72,2,     0.01,2,     1.39,2,  3049.0,  2.5372,   2.788
     64PE95N_1,  AR12,    60,  1,      7,   X007,4,19950730,1023, 46.9997, -10.9992, 4700,   3301.0,   2.6772,  34.9326,2,  34.9370,4,    240.1,2,    243.4,4,    35.20,4,    20.85,4,     0.02,4,     1.41,4,  -999.0,  2.4018,-999.000
     64PE95N_1,  AR12,    60,  1,      6,   X006,2,19950730,1023, 46.9997, -10.9992, 4700,   3557.0,   2.5943,  34.9228,2,-999.0000,9,    238.2,2,   -999.0,9,    39.12,2,    21.57,2,     0.01,2,     1.47,2,  3557.0,  2.2932,   2.594
     64PE95N_1,  AR12,    60,  1,      5,   X005,2,19950730,1023, 46.9997, -10.9992, 4700,   3814.0,   2.5457,  34.9159,2,  34.9152,2,    238.0,2,    239.0,2,    40.66,2,    21.84,2,     0.01,2,     1.49,2,  -999.0,  2.2172,-999.000
     64PE95N_1,  AR12,    60,  1,      4,   X004,2,19950730,1023, 46.9997, -10.9992, 4700,   4072.0,   2.5144,  34.9097,2,-999.0000,9,    237.5,2,   -999.0,9,    42.02,2,    21.94,2,     0.01,2,     1.49,2,  4076.0,  2.1574,   2.513
     64PE95N_1,  AR12,    60,  1,      3,   X003,2,19950730,1023, 46.9997, -10.9992, 4700,   4327.0,   2.5015,  34.9051,2,  34.9050,2,    237.4,2,    238.2,2,    43.03,2,    22.11,2,     0.03,2,     1.51,2,  -999.0,  2.1148,-999.000
     64PE95N_1,  AR12,    60,  1,      2,   X002,2,19950730,1023, 46.9997, -10.9992, 4700,   4585.0,   2.5054,  34.9022,2,-999.0000,9,    238.0,2,   -999.0,9,    43.59,2,    22.25,2,     0.02,2,     1.52,2,  4581.0,  2.0875,   2.506
     64PE95N_1,  AR12,    60,  1,      1,   X001,2,19950730,1023, 46.9997, -10.9992, 4700,   4822.0,   2.5196,  34.9005,2,  34.9005,6,    237.7,2,    237.0,6,    44.18,6,    22.31,6,     0.03,6,     1.52,6,  -999.0,  2.0719,-999.000
     64PE95N_1,  AR12,    61,  1,     24,   X024,2,19950730,1629, 47.0000, -10.1665, 4533,      9.0,  18.4962,  35.5854,2,  35.5873,2,    237.9,2,    239.3,6,     0.45,2,     0.04,2,     0.03,2,     0.06,2,  -999.0, 18.4946,-999.000
     64PE95N_1,  AR12,    61,  1,     23,   X023,2,19950730,1629, 47.0000, -10.1665, 4533,    102.0,  11.7094,  35.5796,2,  35.5786,2,    249.3,2,    245.6,2,     2.92,2,     8.84,2,     0.04,2,     0.57,2,  -999.0, 11.6963,-999.000
     64PE95N_1,  AR12,    61,  1,     22,   X022,2,19950730,1629, 47.0000, -10.1665, 4533,    201.0,  11.3426,  35.5513,2,  35.5509,2,    250.9,2,   -999.0,9,     3.16,2,     9.15,2,     0.03,2,     0.58,2,  -999.0, 11.3171,-999.000
     64PE95N_1,  AR12,    61,  1,     21,   X021,2,19950730,1629, 47.0000, -10.1665, 4533,    301.0,  11.1692,  35.5415,2,  35.5406,2,    244.5,2,    243.7,2,     3.70,2,    10.21,2,     0.03,2,     0.64,2,  -999.0, 11.1313,-999.000
     64PE95N_1,  AR12,    61,  1,     20,   X020,2,19950730,1629, 47.0000, -10.1665, 4533,    403.0,  10.9527,  35.5228,2,  35.5214,2,    236.4,2,   -999.0,9,     4.26,2,    11.36,2,     0.03,2,     0.71,2,  -999.0, 10.9025,-999.000
     64PE95N_1,  AR12,    61,  1,     19,   X019,2,19950730,1629, 47.0000, -10.1665, 4533,    507.0,  10.6264,  35.4959,2,  35.4959,2,    229.3,2,    229.4,2,     5.18,2,    12.66,2,     0.02,2,     0.79,2,  -999.0, 10.5640,-999.000
     64PE95N_1,  AR12,    61,  1,     18,   X018,2,19950730,1629, 47.0000, -10.1665, 4533,    604.0,  10.3013,  35.4737,2,  35.4738,2,    221.4,2,   -999.0,9,     6.17,2,    13.79,2,     0.02,2,     0.87,2,  -999.0, 10.2281,-999.000
     64PE95N_1,  AR12,    61,  1,     17,   X017,2,19950730,1629, 47.0000, -10.1665, 4533,    806.0,   9.5963,  35.5259,2,  35.5262,2,    196.1,2,    195.9,2,     8.95,2,    16.67,2,     0.03,2,     1.05,2,  -999.0,  9.5016,-999.000
     64PE95N_1,  AR12,    61,  1,     16,   X016,2,19950730,1629, 47.0000, -10.1665, 4533,   1009.0,   8.5314,  35.5023,2,  35.5004,2,    195.2,2,   -999.0,9,    10.43,2,    17.81,2,     0.02,2,     1.13,2,  -999.0,  8.4193,-999.000
     64PE95N_1,  AR12,    61,  1,     15,   X015,2,19950730,1629, 47.0000, -10.1665, 4533,   1264.0,   6.3194,  35.2688,3,  35.2588,2,    221.3,2,    223.6,2,    11.57,2,    18.23,2,     0.02,2,     1.17,2,  -999.0,  6.1977,-999.000
     64PE95N_1,  AR12,    61,  1,     14,   X014,2,19950730,1629, 47.0000, -10.1665, 4533,   1516.0,   4.4277,  35.0030,2,  35.0037,2,    254.0,2,   -999.0,9,    11.58,2,    17.83,2,     0.02,2,     1.18,2,  -999.0,  4.3011,-999.000
     64PE95N_1,  AR12,    61,  1,     13,   X013,2,19950730,1629, 47.0000, -10.1665, 4533,   1771.0,   3.6889,  34.9191,2,  34.9200,2,    269.4,2,    270.2,2,    11.60,2,    17.37,2,     0.03,2,     1.16,2,  -999.0,  3.5477,-999.000
     64PE95N_1,  AR12,    61,  1,     12,   X012,2,19950730,1629, 47.0000, -10.1665, 4533,   2027.0,   3.5328,  34.9357,2,  34.9360,2,    265.6,2,   -999.0,9,    13.50,2,    17.50,2,     0.02,2,     1.15,2,  -999.0,  3.3697,-999.000
     64PE95N_1,  AR12,    61,  1,     11,   X011,2,19950730,1629, 47.0000, -10.1665, 4533,   2282.0,   3.4154,  34.9732,2,  34.9732,2,    251.1,2,    253.4,6,    21.73,2,    18.86,2,     0.02,2,     1.26,2,  -999.0,  3.2294,-999.000
     64PE95N_1,  AR12,    61,  1,     10,   X010,4,19950730,1629, 47.0000, -10.1665, 4533,   2536.0,   3.0975,  34.9616,2,  34.9232,4,    247.1,2,   -999.0,9,    38.71,4,    21.49,4,     0.02,4,     1.45,4,  -999.0,  2.8921,-999.000
     64PE95N_1,  AR12,    61,  1,      9,   X009,2,19950730,1629, 47.0000, -10.1665, 4533,   2792.0,   2.9032,  34.9502,2,  34.9499,2,    242.6,2,    244.5,2,    32.41,2,    20.45,2,     0.04,2,     1.39,2,  -999.0,  2.6758,-999.000
     64PE95N_1,  AR12,    61,  1,      8,   X008,2,19950730,1629, 47.0000, -10.1665, 4533,   3047.0,   2.7546,  34.9390,2,  34.9389,2,    240.2,2,   -999.0,9,    35.22,2,    21.00,2,     0.03,2,     1.42,2,  3050.0,  2.5043,   2.753
     64PE95N_1,  AR12,    61,  1,      7,   X007,4,19950730,1629, 47.0000, -10.1665, 4533,   3303.0,   2.6550,  34.9295,2,  34.9403,4,    239.5,2,    244.4,4,    34.74,4,    21.04,4,     0.02,4,     1.47,4,  -999.0,  2.3799,-999.000
     64PE95N_1,  AR12,    61,  1,      6,   X006,2,19950730,1629, 47.0000, -10.1665, 4533,   3550.0,   2.5830,  34.9212,2,  34.9206,2,    238.2,2,   -999.0,9,    39.59,2,    21.67,2,     0.02,2,     1.47,2,  3551.0,  2.2830,   2.586
     64PE95N_1,  AR12,    61,  1,      5,   X005,2,19950730,1629, 47.0000, -10.1665, 4533,   3814.0,   2.5344,  34.9144,2,  34.9142,2,    237.5,2,    238.4,2,    41.33,2,    21.94,2,     0.03,2,     1.51,2,  -999.0,  2.2063,-999.000
     64PE95N_1,  AR12,    61,  1,      4,   X004,2,19950730,1629, 47.0000, -10.1665, 4533,   4072.0,   2.5021,  34.9083,2,  34.9080,2,    237.0,2,   -999.0,9,    42.60,2,    22.10,2,     0.02,2,     1.51,2,  4073.0,  2.1455,   2.503
     64PE95N_1,  AR12,    61,  1,      3,   X003,2,19950730,1629, 47.0000, -10.1665, 4533,   4326.0,   2.4923,  34.9043,2,  34.9041,2,    237.4,2,    237.1,2,    43.41,2,    22.28,2,     0.02,2,     1.53,2,  -999.0,  2.1060,-999.000
     64PE95N_1,  AR12,    61,  1,      2,   X002,2,19950730,1629, 47.0000, -10.1665, 4533,   4583.0,   2.5007,  34.9016,2,  34.9013,2,    236.5,2,   -999.0,9,    44.64,2,    22.37,2,     0.03,2,     1.53,2,  4578.0,  2.0833,   2.502
     64PE95N_1,  AR12,    61,  1,      1,   X001,2,19950730,1629, 47.0000, -10.1665, 4533,   4645.0,   2.5077,  34.9016,2,  34.9015,2,    236.8,2,    235.3,6,    44.79,6,    22.32,2,     0.09,6,     1.52,2,  -999.0,  2.0824,-999.000