BOTTLE,20010427WHPSIOKJU
#code : jjward hyd_to_exchange.pl 
#original files copied from HTML directory: 20010428
#original HYD file: pr16_ghy.txt   Fri Dec 10 12:51:52 1999
#original SUM file: pr16_gsu.txt   Mon Nov 15 15:43:51 1999
EXPOCODE,SECT_ID,STNNBR,CASTNO,SAMPNO,BTLNBR,BTLNBR_FLAG_W,DATE,TIME,LATITUDE,LONGITUDE,DEPTH,CTDPRS,CTDTMP,CTDSAL,CTDSAL_FLAG_W,SALNTY,SALNTY_FLAG_W,CTDOXY,CTDOXY_FLAG_W,OXYGEN,OXYGEN_FLAG_W
,,,,,,,,,,,,DBAR,ITS-90,PSS-78,,PSS-78,,UMOL/KG,,UMOL/KG,
   3175EP293_2,  PR16,    13,  1,     12,     12,2,19930508,1115,  0.0050,-109.9700, -999,      0.0,  26.6107,  35.0096,2,  34.9863,2,   -999.0,9,   -999.0,9
   3175EP293_2,  PR16,    13,  1,     11,     11,2,19930508,1115,  0.0050,-109.9700, -999,      0.0,  26.5617,  34.9921,2,  34.9856,2,   -999.0,9,   -999.0,9
   3175EP293_2,  PR16,    13,  1,     10,     10,2,19930508,1115,  0.0050,-109.9700, -999,    100.2,  14.3335,  34.8632,2,  34.8466,2,   -999.0,9,   -999.0,9
   3175EP293_2,  PR16,    13,  1,      9,      9,2,19930508,1115,  0.0050,-109.9700, -999,    249.3,  12.5149,  34.8965,2,  34.8786,2,   -999.0,9,   -999.0,9
   3175EP293_2,  PR16,    13,  1,      8,      8,2,19930508,1115,  0.0050,-109.9700, -999,    398.7,   9.3476,  34.7119,2,  34.6937,2,   -999.0,9,   -999.0,9
   3175EP293_2,  PR16,    13,  1,      7,      7,2,19930508,1115,  0.0050,-109.9700, -999,    498.3,   8.1249,  34.6461,2,  34.6274,2,   -999.0,9,   -999.0,9
   3175EP293_2,  PR16,    13,  1,      6,      6,2,19930508,1115,  0.0050,-109.9700, -999,    597.7,   7.1931,  34.6080,2,  34.5917,2,   -999.0,9,   -999.0,9
   3175EP293_2,  PR16,    13,  1,      5,      5,2,19930508,1115,  0.0050,-109.9700, -999,    697.1,   6.2003,  34.5807,2,  34.5673,2,   -999.0,9,   -999.0,9
   3175EP293_2,  PR16,    13,  1,      4,      4,2,19930508,1115,  0.0050,-109.9700, -999,    797.6,   5.6095,  34.5695,2,  34.5534,2,   -999.0,9,   -999.0,9
   3175EP293_2,  PR16,    13,  1,      3,      3,2,19930508,1115,  0.0050,-109.9700, -999,    897.2,   4.9536,  34.5660,2,  34.5498,2,   -999.0,9,   -999.0,9
   3175EP293_2,  PR16,    13,  1,      2,      2,2,19930508,1115,  0.0050,-109.9700, -999,    982.9,   4.4717,  34.5721,2,  34.5552,2,   -999.0,9,   -999.0,9
   3175EP293_2,  PR16,    13,  1,      1,      1,2,19930508,1115,  0.0050,-109.9700, -999,    984.2,   4.4717,  34.5714,2,  34.5558,2,   -999.0,9,   -999.0,9