BOTTLE,20020809WHPSIObren
EXPOCODE,SECT_ID,STNNBR,CASTNO,SAMPNO,BTLNBR,BTLNBR_FLAG_W,DATE,TIME,LATITUDE,LONGITUDE,DEPTH,CTDPRS,CTDTMP,CTDSAL,CTDSAL_FLAG_W,SALNTY,SALNTY_FLAG_W,CTDOXY,CTDOXY_FLAG_W,OXYGEN,OXYGEN_FLAG_W,SILCAT,SILCAT_FLAG_W,NO2+NO3,NO2+NO3_FLAG_W,PHSPHT,PHSPHT_FLAG_W,CTDRAW,REVTMP,REVPRS,THETA
,,,,,,,,,,,,DBAR,ITS-90,PSS-78,,PSS-78,,UMOL/KG,,UMOL/KG,,UMOL/KG,,UMOL/KG,,UMOL/KG,,,DEG C,DBAR,ITS-90
     32MW030_1,  PRS2,     2, 18,     23,     23,2,19910919,2218, 22.6867,-158.0483, 4750,      9.5,  26.4089,  35.0088,2,-999.0000,5,    241.0,1,   -999.0,9,  -999.00,9,  -999.00,9,  -999.00,9,      5,-999.000,  -999.0, 26.4068
     32MW030_1,  PRS2,     2, 18,     22,     22,2,19910919,2218, 22.6867,-158.0483, 4750,      9.5,  26.4387,  35.0097,2,  35.0096,2,    238.0,1,   -999.0,9,  -999.00,9,  -999.00,9,  -999.00,9,      5,-999.000,  -999.0, 26.4365
     32MW030_1,  PRS2,     2, 18,     21,     21,2,19910919,2218, 22.6867,-158.0483, 4750,      9.5,  26.4301,  35.0093,2,-999.0000,5,    234.0,1,   -999.0,9,  -999.00,9,  -999.00,9,  -999.00,9,      4,-999.000,  -999.0, 26.4279
     32MW030_1,  PRS2,     2, 18,     20,     20,2,19910919,2218, 22.6867,-158.0483, 4750,      9.5,  26.4393,  35.0096,2,-999.0000,5,    229.5,1,   -999.0,9,  -999.00,9,  -999.00,9,  -999.00,9,      5,-999.000,  -999.0, 26.4371
     32MW030_1,  PRS2,     2, 18,     19,     19,2,19910919,2218, 22.6867,-158.0483, 4750,     14.4,  26.3717,  35.0065,2,  35.0070,2,    209.2,1,   -999.0,9,  -999.00,9,  -999.00,9,  -999.00,9,     10,-999.000,  -999.0, 26.3685
     32MW030_1,  PRS2,     2, 18,     18,     18,2,19910919,2218, 22.6867,-158.0483, 4750,     44.2,  26.3251,  35.0027,2,  35.0029,2,    210.1,1,   -999.0,9,  -999.00,9,  -999.00,9,  -999.00,9,     40,-999.000,  -999.0, 26.3151
     32MW030_1,  PRS2,     2, 18,     17,     17,2,19910919,2218, 22.6867,-158.0483, 4750,     84.1,  23.3927,  35.0704,2,-999.0000,5,    224.1,1,   -999.0,9,  -999.00,9,  -999.00,9,  -999.00,9,     79,-999.000,  -999.0, 23.3753
     32MW030_1,  PRS2,     2, 18,     16,     16,2,19910919,2218, 22.6867,-158.0483, 4750,     84.1,  23.3942,  35.0709,2,-999.0000,5,    223.6,1,   -999.0,9,  -999.00,9,  -999.00,9,  -999.00,9,     79,-999.000,  -999.0, 23.3768
     32MW030_1,  PRS2,     2, 18,     15,     15,2,19910919,2218, 22.6867,-158.0483, 4750,    103.8,  22.8907,  35.0966,2,-999.0000,5,    218.9,1,   -999.0,9,  -999.00,9,  -999.00,9,  -999.00,9,     99,-999.000,  -999.0, 22.8696
     32MW030_1,  PRS2,     2, 18,     14,     14,2,19910919,2218, 22.6867,-158.0483, 4750,    103.8,  22.8786,  35.0971,2,-999.0000,5,    218.7,1,   -999.0,9,  -999.00,9,  -999.00,9,  -999.00,9,    100,-999.000,  -999.0, 22.8575
     32MW030_1,  PRS2,     2, 18,     12,     12,2,19910919,2218, 22.6867,-158.0483, 4750,    125.6,  22.3587,  35.1714,2,-999.0000,5,    208.8,1,   -999.0,9,  -999.00,9,  -999.00,9,  -999.00,9,    122,-999.000,  -999.0, 22.3335
     32MW030_1,  PRS2,     2, 18,     13,     13,2,19910919,2218, 22.6867,-158.0483, 4750,    125.7,  22.3660,  35.1699,2,-999.0000,5,    209.2,1,   -999.0,9,  -999.00,9,  -999.00,9,  -999.00,9,    121,-999.000,  -999.0, 22.3408
     32MW030_1,  PRS2,     2, 18,     11,     11,4,19910919,2218, 22.6867,-158.0483, 4750,    153.4,  21.5902,  35.2337,2,-999.0000,5,    198.8,1,   -999.0,9,  -999.00,9,  -999.00,9,  -999.00,9,    150,-999.000,  -999.0, 21.5603
     32MW030_1,  PRS2,     2, 18,      9,      9,2,19910919,2218, 22.6867,-158.0483, 4750,    163.3,  21.3267,  35.2404,2,-999.0000,5,    194.3,1,   -999.0,9,  -999.00,9,  -999.00,9,  -999.00,9,    161,-999.000,  -999.0, 21.2951
     32MW030_1,  PRS2,     2, 18,     10,     10,2,19910919,2218, 22.6867,-158.0483, 4750,    163.4,  21.3311,  35.2398,2,-999.0000,5,    193.9,1,   -999.0,9,  -999.00,9,  -999.00,9,  -999.00,9,    160,-999.000,  -999.0, 21.2994
     32MW030_1,  PRS2,     2, 18,      8,      8,2,19910919,2218, 22.6867,-158.0483, 4750,    183.0,  20.5598,  35.2155,2,-999.0000,5,    195.6,1,   -999.0,9,  -999.00,9,  -999.00,9,  -999.00,9,    179,-999.000,  -999.0, 20.5252
     32MW030_1,  PRS2,     2, 18,      7,      7,2,19910919,2218, 22.6867,-158.0483, 4750,    183.0,  20.5637,  35.2165,2,-999.0000,5,    195.5,1,   -999.0,9,  -999.00,9,  -999.00,9,  -999.00,9,    179,-999.000,  -999.0, 20.5291
     32MW030_1,  PRS2,     2, 18,      6,      6,2,19910919,2218, 22.6867,-158.0483, 4750,    203.4,  19.6595,  35.1376,2,  35.1385,2,    190.3,1,   -999.0,9,  -999.00,9,  -999.00,9,  -999.00,9,    201,-999.000,  -999.0, 19.6223
     32MW030_1,  PRS2,     2, 18,      5,     26,2,19910919,2218, 22.6867,-158.0483, 4750,    255.6,  17.0284,  34.8326,2,  34.8410,2,    189.3,1,   -999.0,9,  -999.00,9,  -999.00,9,  -999.00,9,    252,-999.000,  -999.0, 16.9862
     32MW030_1,  PRS2,     2, 18,      4,     25,2,19910919,2218, 22.6867,-158.0483, 4750,    408.1,   9.8912,  34.1288,2,  34.1275,2,    174.1,1,   -999.0,9,  -999.00,9,  -999.00,9,  -999.00,9,    406,-999.000,  -999.0,  9.8442
     32MW030_1,  PRS2,     2, 18,      3,      3,2,19910919,2218, 22.6867,-158.0483, 4750,    508.8,   7.4792,  34.0637,2,  34.0642,2,    116.7,1,   -999.0,9,  -999.00,9,  -999.00,9,  -999.00,9,    507,-999.000,  -999.0,  7.4293
     32MW030_1,  PRS2,     2, 18,      1,      1,2,19910919,2218, 22.6867,-158.0483, 4750,   1004.2,   4.1287,  34.4621,2,  34.4633,2,     41.1,1,   -999.0,9,  -999.00,9,  -999.00,9,  -999.00,9,   1002,-999.000,  -999.0,  4.0517
     32MW030_1,  PRS2,     2, 18,      2,      2,2,19910919,2218, 22.6867,-158.0483, 4750,   1005.0,   4.1252,  34.4620,2,-999.0000,5,     41.0,1,   -999.0,9,  -999.00,9,  -999.00,9,  -999.00,9,   1003,-999.000,  -999.0,  4.0483
     32MW030_1,  PRS2,     2, 19,     16,     16,2,19910920,0134, 22.6750,-158.0033, 4750,     12.6,  26.4546,  35.0114,2,  35.0106,2,    214.3,1,   -999.0,9,  -999.00,9,  -999.00,9,  -999.00,9,      7,-999.000,  -999.0, 26.4517
     32MW030_1,  PRS2,     2, 19,     15,     15,2,19910920,0134, 22.6750,-158.0033, 4750,     30.7,  26.3659,  35.0052,2,-999.0000,5,    212.7,1,   -999.0,9,  -999.00,9,  -999.00,9,  -999.00,9,     26,-999.000,  -999.0, 26.3590
     32MW030_1,  PRS2,     2, 19,     14,     14,2,19910920,0134, 22.6750,-158.0033, 4750,     45.6,  26.3520,  35.0027,2,  35.0084,2,    213.1,1,   -999.0,9,  -999.00,9,  -999.00,9,  -999.00,9,     40,-999.000,  -999.0, 26.3417
     32MW030_1,  PRS2,     2, 19,     13,     13,2,19910920,0134, 22.6750,-158.0033, 4750,     50.4,  26.3451,  35.0030,2,  35.0033,2,    216.4,1,   -999.0,9,  -999.00,9,  -999.00,9,  -999.00,9,     45,-999.000,  -999.0, 26.3337
     32MW030_1,  PRS2,     2, 19,     12,     12,2,19910920,0134, 22.6750,-158.0033, 4750,     65.3,  25.4543,  35.0226,2,  35.0194,2,    230.1,1,   -999.0,9,  -999.00,9,  -999.00,9,  -999.00,9,     61,-999.000,  -999.0, 25.4400
     32MW030_1,  PRS2,     2, 19,     11,     11,2,19910920,0134, 22.6750,-158.0033, 4750,     88.8,  23.3694,  35.0829,2,  35.0806,2,    225.2,1,   -999.0,9,  -999.00,9,  -999.00,9,  -999.00,9,     84,-999.000,  -999.0, 23.3511
     32MW030_1,  PRS2,     2, 19,     10,     10,2,19910920,0134, 22.6750,-158.0033, 4750,    103.3,  22.8832,  35.0987,2,  35.0976,2,    221.9,1,   -999.0,9,  -999.00,9,  -999.00,9,  -999.00,9,     99,-999.000,  -999.0, 22.8622
     32MW030_1,  PRS2,     2, 19,      9,      9,2,19910920,0134, 22.6750,-158.0033, 4750,    108.2,  22.6984,  35.1197,2,  35.1184,2,    215.6,1,   -999.0,9,  -999.00,9,  -999.00,9,  -999.00,9,    104,-999.000,  -999.0, 22.6765
     32MW030_1,  PRS2,     2, 19,      8,      8,2,19910920,0134, 22.6750,-158.0033, 4750,    128.2,  22.3869,  35.1694,2,  35.1671,2,    215.5,1,   -999.0,9,  -999.00,9,  -999.00,9,  -999.00,9,    124,-999.000,  -999.0, 22.3613
     32MW030_1,  PRS2,     2, 19,      7,      7,2,19910920,0134, 22.6750,-158.0033, 4750,    155.9,  21.6485,  35.2332,2,  35.2331,2,    202.4,1,   -999.0,9,  -999.00,9,  -999.00,9,  -999.00,9,    152,-999.000,  -999.0, 21.6179
     32MW030_1,  PRS2,     2, 19,      6,      6,2,19910920,0134, 22.6750,-158.0033, 4750,    165.7,  21.2712,  35.2382,2,-999.0000,5,    202.1,1,   -999.0,9,  -999.00,9,  -999.00,9,  -999.00,9,    167,-999.000,  -999.0, 21.2391
     32MW030_1,  PRS2,     2, 19,      5,     26,2,19910920,0134, 22.6750,-158.0033, 4750,    205.4,  19.4523,  35.1276,2,  35.1279,2,    195.1,1,   -999.0,9,  -999.00,9,  -999.00,9,  -999.00,9,    202,-999.000,  -999.0, 19.4151
     32MW030_1,  PRS2,     2, 19,      4,     25,2,19910920,0134, 22.6750,-158.0033, 4750,    303.3,  14.4989,  34.5086,2,  34.5089,2,    196.9,1,   -999.0,9,  -999.00,9,  -999.00,9,  -999.00,9,    300,-999.000,  -999.0, 14.4541
     32MW030_1,  PRS2,     2, 19,      3,      3,2,19910920,0134, 22.6750,-158.0033, 4750,    403.0,   9.4575,  34.1126,2,  34.1124,2,    173.7,1,   -999.0,9,  -999.00,9,  -999.00,9,  -999.00,9,    400,-999.000,  -999.0,  9.4123
     32MW030_1,  PRS2,     2, 19,      2,      2,2,19910920,0134, 22.6750,-158.0033, 4750,    503.0,   7.5040,  34.0646,2,  34.0638,2,    119.9,1,   -999.0,9,  -999.00,9,  -999.00,9,  -999.00,9,    501,-999.000,  -999.0,  7.4546
     32MW030_1,  PRS2,     2, 19,      1,      1,2,19910920,0134, 22.6750,-158.0033, 4750,   1024.0,   4.1346,  34.4773,2,  34.4773,2,     41.9,1,   -999.0,9,  -999.00,9,  -999.00,9,  -999.00,9,   1022,-999.000,  -999.0,  4.0559
     32MW030_1,  PRS2,     2, 20,      6,      6,2,19910920,0417, 22.6683,-158.0433, 4750,     13.6,  26.3922,  35.0041,2,  35.0078,2,    221.9,2,   -999.0,5,  -999.00,9,  -999.00,9,  -999.00,9,      8,-999.000,  -999.0, 26.3891
     32MW030_1,  PRS2,     2, 20,      4,     25,2,19910920,0417, 22.6683,-158.0433, 4750,     32.9,  26.3572,  35.0008,2,  35.0033,2,    219.4,2,   -999.0,5,  -999.00,9,  -999.00,9,  -999.00,9,     27,-999.000,  -999.0, 26.3498
     32MW030_1,  PRS2,     2, 20,      5,     26,2,19910920,0417, 22.6683,-158.0433, 4750,     33.2,  26.3754,  35.0020,2,-999.0000,5,    221.2,2,    205.7,2,  -999.00,9,  -999.00,9,  -999.00,9,     28,-999.000,  -999.0, 26.3679
     32MW030_1,  PRS2,     2, 20,      3,      3,2,19910920,0417, 22.6683,-158.0433, 4750,    170.1,  20.7728,  35.2022,2,  35.2067,2,    201.0,2,   -999.0,5,  -999.00,9,  -999.00,9,  -999.00,9,    166,-999.000,  -999.0, 20.7405
     32MW030_1,  PRS2,     2, 20,      2,      2,2,19910920,0417, 22.6683,-158.0433, 4750,    512.2,   7.2382,  34.0678,2,  34.0646,2,    111.8,2,   -999.0,5,  -999.00,9,  -999.00,9,  -999.00,9,    509,-999.000,  -999.0,  7.1889
     32MW030_1,  PRS2,     2, 20,      1,      1,2,19910920,0417, 22.6683,-158.0433, 4750,   1022.5,   4.0512,  34.4701,2,  34.4669,2,     42.4,2,   -999.0,5,  -999.00,9,  -999.00,9,  -999.00,9,   1020,-999.000,  -999.0,  3.9733