BOTTLE,20020809WHPSIObren
#code : jjward hyd_to_exchange.pl 
#original files copied from HTML directory: 20020809
#original HYD file: /whpo/11/HOTS/BOTTLE/hot30/hot30.sea   Fri Aug  9 09:51:31 2002
#original SUM file: /whpo/11/HOTS/BOTTLE/hot30/hot30.sum   Fri Aug  9 13:30:35 2002
EXPOCODE,SECT_ID,STNNBR,CASTNO,SAMPNO,BTLNBR,BTLNBR_FLAG_W,DATE,TIME,LATITUDE,LONGITUDE,DEPTH,CTDPRS,CTDTMP,CTDSAL,CTDSAL_FLAG_W,SALNTY,SALNTY_FLAG_W,CTDOXY,CTDOXY_FLAG_W,OXYGEN,OXYGEN_FLAG_W,SILCAT,SILCAT_FLAG_W,NO2+NO3,NO2+NO3_FLAG_W,PHSPHT,PHSPHT_FLAG_W,CTDRAW,REVTMP,REVPRS,THETA
,,,,,,,,,,,,DBAR,ITS-90,PSS-78,,PSS-78,,UMOL/KG,,UMOL/KG,,UMOL/KG,,UMOL/KG,,UMOL/KG,,,DEG C,DBAR,ITS-90
     32MW030_1,  PRS2,     1,  1,     22,     22,2,19910916,2312, 21.3600,-158.2833, 1800,     10.6,  26.4444,  34.9156,2,  34.9151,2,    207.1,2,    204.5,2,     1.29,2,     0.00,2,     0.06,2,      4,-999.000,  -999.0, 26.4420
     32MW030_1,  PRS2,     1,  1,     21,     21,2,19910916,2312, 21.3600,-158.2833, 1800,     30.7,  26.3464,  34.9193,2,  34.9203,2,    203.3,2,    205.3,2,     0.86,2,     0.00,2,     0.06,2,     25,-999.000,  -999.0, 26.3395
     32MW030_1,  PRS2,     1,  1,     20,     20,3,19910916,2312, 21.3600,-158.2833, 1800,     50.6,  25.0263,  34.9692,2,  34.9700,2,    217.2,2,    215.4,2,     0.97,2,     0.00,2,     0.06,2,     45,-999.000,  -999.0, 25.0154
     32MW030_1,  PRS2,     1,  1,     19,     19,2,19910916,2312, 21.3600,-158.2833, 1800,     65.5,  23.7235,  35.0441,2,  35.0436,2,    218.2,2,    215.3,2,     1.07,2,     0.00,2,     0.07,2,     60,-999.000,  -999.0, 23.7098
     32MW030_1,  PRS2,     1,  1,     18,     18,2,19910916,2312, 21.3600,-158.2833, 1800,     80.4,  22.9650,  35.0881,2,  35.0899,2,    213.6,2,    212.6,2,     1.07,2,     0.00,2,     0.07,2,     75,-999.000,  -999.0, 22.9486
     32MW030_1,  PRS2,     1,  1,     17,     17,2,19910916,2312, 21.3600,-158.2833, 1800,    100.2,  22.2570,  35.1400,2,  35.1407,2,    207.2,2,    208.2,2,     1.22,2,     0.05,2,     0.09,2,     94,-999.000,  -999.0, 22.2370
     32MW030_1,  PRS2,     1,  1,     16,     16,3,19910916,2312, 21.3600,-158.2833, 1800,    110.3,  21.9264,  35.1459,2,  35.1450,2,    202.6,2,    206.3,2,     1.50,2,     0.14,2,     0.10,2,    106,-999.000,  -999.0, 21.9046
     32MW030_1,  PRS2,     1,  1,     15,     15,2,19910916,2312, 21.3600,-158.2833, 1800,    120.3,  21.5768,  35.1504,2,  35.1458,2,    200.9,2,    202.1,2,     1.29,2,     0.37,2,     0.12,2,    115,-999.000,  -999.0, 21.5533
     32MW030_1,  PRS2,     1,  1,     14,     14,2,19910916,2312, 21.3600,-158.2833, 1800,    129.7,  20.9419,  35.1595,2,  35.1551,2,    194.8,2,    196.1,2,     1.72,2,     0.94,2,     0.16,2,    126,-999.000,  -999.0, 20.9171
     32MW030_1,  PRS2,     1,  1,     13,     13,2,19910916,2312, 21.3600,-158.2833, 1800,    155.0,  19.2293,  35.0680,2,  35.0708,2,    186.7,2,    188.5,2,     2.36,2,     2.65,2,     0.25,2,    150,-999.000,  -999.0, 19.2014
     32MW030_1,  PRS2,     1,  1,     12,     12,2,19910916,2312, 21.3600,-158.2833, 1800,    179.6,  18.2764,  34.9652,2,  34.9641,2,    185.6,2,    188.3,2,     3.23,2,     3.54,2,     0.31,2,    175,-999.000,  -999.0, 18.2452
     32MW030_1,  PRS2,     1,  1,     10,     10,2,19910916,2312, 21.3600,-158.2833, 1800,    204.7,  16.9194,  34.7787,2,-999.0000,5,    185.6,2,    183.6,2,     4.74,2,     5.50,2,     0.45,2,    200,-999.000,  -999.0, 16.8858
     32MW030_1,  PRS2,     1,  1,     11,     11,2,19910916,2312, 21.3600,-158.2833, 1800,    205.1,  16.9479,  34.7786,2,  34.7814,2,    186.2,2,   -999.0,5,  -999.00,5,  -999.00,5,  -999.00,5,    201,-999.000,  -999.0, 16.9142
     32MW030_1,  PRS2,     1,  1,      9,      9,2,19910916,2312, 21.3600,-158.2833, 1800,    226.6,  15.9974,  34.6656,2,  34.6647,2,    182.7,2,    182.1,2,     5.60,2,     6.67,2,     0.54,2,    222,-999.000,  -999.0, 15.9616
     32MW030_1,  PRS2,     1,  1,      8,      8,2,19910916,2312, 21.3600,-158.2833, 1800,    252.7,  14.3703,  34.4853,2,  34.4747,2,    182.2,2,    182.9,2,     8.26,2,     9.03,2,     0.69,2,    249,-999.000,  -999.0, 14.3332
     32MW030_1,  PRS2,     1,  1,      7,      7,2,19910916,2312, 21.3600,-158.2833, 1800,    295.3,  11.7174,  34.2735,2,  34.2651,2,    183.2,2,    180.9,2,    15.94,2,    14.06,2,     1.05,2,    289,-999.000,  -999.0, 11.6796
     32MW030_1,  PRS2,     1,  1,      5,     26,4,19910916,2312, 21.3600,-158.2833, 1800,    398.9,   9.1779,  34.1517,2,-999.0000,5,    148.7,2,   -999.0,5,  -999.00,5,  -999.00,5,  -999.00,5,    395,-999.000,  -999.0,  9.1340
     32MW030_1,  PRS2,     1,  1,      6,      6,2,19910916,2312, 21.3600,-158.2833, 1800,    399.2,   9.1783,  34.1503,2,-999.0000,5,    149.3,2,   -999.0,5,  -999.00,5,  -999.00,5,  -999.00,5,    396,-999.000,  -999.0,  9.1343
     32MW030_1,  PRS2,     1,  1,      4,     25,2,19910916,2312, 21.3600,-158.2833, 1800,    500.8,   7.3754,  34.1438,2,  34.1420,2,     97.3,2,     95.9,2,  -999.00,5,  -999.00,5,  -999.00,5,    498,-999.000,  -999.0,  7.3267
     32MW030_1,  PRS2,     1,  1,      3,      3,2,19910916,2312, 21.3600,-158.2833, 1800,    752.1,   4.9321,  34.3970,2,  34.3976,2,     35.3,2,     34.6,2,    92.19,2,    40.65,2,     2.97,2,    750,-999.000,  -999.0,  4.8713
     32MW030_1,  PRS2,     1,  1,      1,      1,2,19910916,2312, 21.3600,-158.2833, 1800,   1028.8,   3.9425,  34.5006,2,  34.5008,2,     44.5,2,     45.8,2,   112.21,2,    41.76,2,     3.03,2,   1028,-999.000,  -999.0,  3.8649
     32MW030_1,  PRS2,     1,  1,      2,      2,2,19910916,2312, 21.3600,-158.2833, 1800,   1028.9,   3.9425,  34.5006,2,-999.0000,5,     44.6,2,   -999.0,5,  -999.00,5,  -999.00,5,  -999.00,5,   1027,-999.000,  -999.0,  3.8648
     32MW030_1,  PRS2,     2,  1,     24,     27,2,19910917,1101, 22.7483,-157.9983, 4750,     54.2,  26.2119,  35.0291,2,-999.0000,5,    228.1,2,    208.2,2,     0.86,2,     0.00,2,     0.07,2,     50,-999.000,  -999.0, 26.1997
     32MW030_1,  PRS2,     2,  1,     23,     23,2,19910917,1101, 22.7483,-157.9983, 4750,    201.8,  19.9683,  35.1764,2,  35.1712,2,    195.9,2,    194.3,2,     1.93,2,     1.71,2,     0.19,2,    198,-999.000,  -999.0, 19.9310
     32MW030_1,  PRS2,     2,  1,     22,     22,2,19910917,1101, 22.7483,-157.9983, 4750,    502.2,   7.3291,  34.0638,2,  34.0656,2,    125.6,2,    118.7,2,    44.81,2,    28.59,2,     2.05,2,    501,-999.000,  -999.0,  7.2805
     32MW030_1,  PRS2,     2,  1,     21,     21,2,19910917,1101, 22.7483,-157.9983, 4750,    904.7,   4.4788,  34.4423,2,  34.4415,2,     38.7,2,     36.8,2,    99.73,2,    41.35,2,     3.00,2,    903,-999.000,  -999.0,  4.4077
     32MW030_1,  PRS2,     2,  1,     20,     20,3,19910917,1101, 22.7483,-157.9983, 4750,   1141.5,   3.7676,  34.5017,2,  34.5004,2,     46.4,2,     46.1,2,   115.44,2,    41.81,2,     3.03,2,   1140,-999.000,  -999.0,  3.6821
     32MW030_1,  PRS2,     2,  1,     19,     19,2,19910917,1101, 22.7483,-157.9983, 4750,   1295.2,   3.2739,  34.5395,2,  34.5421,2,     56.5,2,     55.9,2,   126.20,2,    41.58,2,     3.00,2,   1294,-999.000,  -999.0,  3.1802
     32MW030_1,  PRS2,     2,  1,     18,     18,2,19910917,1101, 22.7483,-157.9983, 4750,   1542.6,   2.7857,  34.5712,2,  34.5760,4,     68.6,3,     69.5,2,   131.58,4,    39.70,4,     2.83,4,   1542,-999.000,  -999.0,  2.6769
     32MW030_1,  PRS2,     2,  1,     17,     17,2,19910917,1101, 22.7483,-157.9983, 4750,   1691.9,   2.5004,  34.5896,2,  34.5902,2,     74.7,2,     74.7,2,   142.79,2,    40.52,2,     2.84,4,   1691,-999.000,  -999.0,  2.3827
     32MW030_1,  PRS2,     2,  1,     16,     16,2,19910917,1101, 22.7483,-157.9983, 4750,   1843.2,   2.3011,  34.6018,2,  34.6018,2,     79.7,2,     79.8,2,   147.74,2,    40.41,2,     2.87,4,   1842,-999.000,  -999.0,  2.1735
     32MW030_1,  PRS2,     2,  1,     15,     15,3,19910917,1101, 22.7483,-157.9983, 4750,   1997.6,   2.0733,  34.6171,2,  34.6167,2,     85.7,2,     85.7,2,   154.62,2,    40.17,2,     2.87,2,   1997,-999.000,  -999.0,  1.9360
     32MW030_1,  PRS2,     2,  1,     14,     14,2,19910917,1101, 22.7483,-157.9983, 4750,   2193.8,   1.9096,  34.6301,2,  34.6303,2,     93.9,2,     93.6,2,   157.64,2,    39.53,2,     2.81,2,   2193,-999.000,  -999.0,  1.7582
     32MW030_1,  PRS2,     2,  1,     13,     13,2,19910917,1101, 22.7483,-157.9983, 4750,   2395.8,   1.7699,  34.6430,2,  34.6454,2,    101.1,2,    102.0,2,   161.09,2,    39.11,2,     2.77,2,   2394,-999.000,  -999.0,  1.6033
     32MW030_1,  PRS2,     2,  1,     12,     12,2,19910917,1101, 22.7483,-157.9983, 4750,   2593.6,   1.6611,  34.6536,2,  34.6591,4,    110.6,3,    110.2,2,   161.09,2,    38.53,2,     2.74,2,   2592,-999.000,  -999.0,  1.4788
     32MW030_1,  PRS2,     2,  1,     11,     11,2,19910917,1101, 22.7483,-157.9983, 4750,   2787.1,   1.6062,  34.6590,2,  34.6609,2,    115.7,2,    116.4,2,   160.00,2,    38.06,2,     2.68,2,   2787,-999.000,  -999.0,  1.4072
     32MW030_1,  PRS2,     2,  1,     10,     10,2,19910917,1101, 22.7483,-157.9983, 4750,   2993.5,   1.5407,  34.6662,2,  34.6664,2,    151.3,2,    124.6,2,   159.57,2,    37.59,2,     2.64,2,   2992,-999.000,  -999.0,  1.3237
     32MW030_1,  PRS2,     2,  1,      9,      9,2,19910917,1101, 22.7483,-157.9983, 4750,   3191.9,   1.5030,  34.6713,2,  34.6705,2,    113.8,2,    130.4,2,   157.31,2,    37.24,2,     2.61,2,   3189,-999.000,  -999.0,  1.2676
     32MW030_1,  PRS2,     2,  1,      8,      8,2,19910917,1101, 22.7483,-157.9983, 4750,   3370.9,   1.4806,  34.6753,2,  34.6759,2,    135.7,2,    135.9,2,   155.70,2,    36.77,2,     2.58,2,   3369,-999.000,  -999.0,  1.2281
     32MW030_1,  PRS2,     2,  1,      7,      7,3,19910917,1101, 22.7483,-157.9983, 4750,   3601.5,   1.4627,  34.6795,2,  34.6796,2,    140.3,2,    141.3,2,   154.62,2,    36.53,2,     2.55,2,   3598,-999.000,  -999.0,  1.1871
     32MW030_1,  PRS2,     2,  1,      6,      6,2,19910917,1101, 22.7483,-157.9983, 4750,   3804.3,   1.4532,  34.6824,2,  34.6827,2,    144.7,2,    145.1,2,   152.47,2,    36.18,2,     2.52,2,   3802,-999.000,  -999.0,  1.1566
     32MW030_1,  PRS2,     2,  1,      5,     26,2,19910917,1101, 22.7483,-157.9983, 4750,   4004.9,   1.4557,  34.6844,2,  34.6845,2,    147.3,2,    148.5,2,   150.96,2,    36.07,2,     2.53,2,   4000,-999.000,  -999.0,  1.1375
     32MW030_1,  PRS2,     2,  1,      4,     25,2,19910917,1101, 22.7483,-157.9983, 4750,   4212.1,   1.4656,  34.6859,2,  34.6857,2,    150.5,2,    149.7,2,   150.09,2,    35.95,2,     2.49,2,   4207,-999.000,  -999.0,  1.1243
     32MW030_1,  PRS2,     2,  1,      3,      3,2,19910917,1101, 22.7483,-157.9983, 4750,   4407.4,   1.4787,  34.6869,2,  34.6863,2,    151.3,2,    151.3,2,   149.88,2,    35.83,2,     2.48,2,   4400,-999.000,  -999.0,  1.1150
     32MW030_1,  PRS2,     2,  1,      2,      2,2,19910917,1101, 22.7483,-157.9983, 4750,   4727.0,   1.5012,  34.6884,2,  34.6876,2,    154.4,2,    153.6,2,   148.80,2,    35.66,2,     2.48,2,   4720,-999.000,  -999.0,  1.0997
     32MW030_1,  PRS2,     2,  1,      1,      1,2,19910917,1101, 22.7483,-157.9983, 4750,   4727.0,   1.5012,  34.6884,2,  34.6882,2,    154.4,2,    157.3,3,   148.16,2,    35.61,2,     2.48,2,   4720,-999.000,  -999.0,  1.0997
     32MW030_1,  PRS2,     2,  2,     24,     27,2,19910917,1824, 22.7567,-157.9950, 4750,      2.3,  26.3385,  35.0488,2,  34.4830,4,    231.1,3,     44.1,4,   108.29,4,    41.45,4,     3.00,4,     -4,-999.000,  -999.0, 26.3380
     32MW030_1,  PRS2,     2,  2,     23,     23,2,19910917,1824, 22.7567,-157.9950, 4750,     12.7,  26.3139,  35.0453,2,  35.0446,2,    230.5,2,    204.6,2,     1.29,2,     0.00,2,     0.06,2,      5,-999.000,  -999.0, 26.3110
     32MW030_1,  PRS2,     2,  2,     22,     22,2,19910917,1824, 22.7567,-157.9950, 4750,     17.4,  26.3099,  35.0448,2,  35.0444,2,    230.1,2,    204.5,2,     1.50,2,     0.00,2,     0.07,2,      9,-999.000,  -999.0, 26.3060
     32MW030_1,  PRS2,     2,  2,     21,     21,2,19910917,1824, 22.7567,-157.9950, 4750,     32.3,  26.3039,  35.0435,2,  35.0456,2,    229.7,2,    204.7,2,     1.29,2,     0.00,2,     0.06,2,     24,-999.000,  -999.0, 26.2966
     32MW030_1,  PRS2,     2,  2,     20,     20,2,19910917,1824, 22.7567,-157.9950, 4750,     58.4,  26.2441,  35.0323,2,  35.0322,2,    218.5,2,    205.6,2,     1.29,2,     0.00,2,     0.06,2,     50,-999.000,  -999.0, 26.2310
     32MW030_1,  PRS2,     2,  2,     19,     19,2,19910917,1824, 22.7567,-157.9950, 4750,     76.8,  24.2369,  35.0717,2,  35.0714,2,    235.1,2,    225.6,2,     1.29,2,     0.00,2,     0.04,2,     69,-999.000,  -999.0, 24.2206
     32MW030_1,  PRS2,     2,  2,     18,     18,2,19910917,1824, 22.7567,-157.9950, 4750,     85.7,  23.7517,  35.0740,2,  35.0740,2,    229.6,2,    225.0,2,     1.07,2,     0.00,2,     0.07,2,     77,-999.000,  -999.0, 23.7338
     32MW030_1,  PRS2,     2,  2,     17,     17,2,19910917,1824, 22.7567,-157.9950, 4750,    144.6,  22.0040,  35.2188,2,  35.2165,2,    201.0,2,    207.2,2,     1.50,2,     0.33,2,     0.09,2,    136,-999.000,  -999.0, 21.9753
     32MW030_1,  PRS2,     2,  2,     16,     16,2,19910917,1824, 22.7567,-157.9950, 4750,    202.3,  19.6866,  35.1484,2,  35.1395,2,    189.3,2,    193.9,2,     2.04,2,     2.03,2,     0.20,2,    194,-999.000,  -999.0, 19.6495
     32MW030_1,  PRS2,     2,  2,     15,     15,2,19910917,1824, 22.7567,-157.9950, 4750,    264.5,  16.0955,  34.7135,2,  34.7079,2,    192.6,2,    194.9,2,     4.74,2,     5.15,2,     0.42,2,    256,-999.000,  -999.0, 16.0535
     32MW030_1,  PRS2,     2,  2,     14,     14,2,19910917,1824, 22.7567,-157.9950, 4750,    341.1,  11.9863,  34.2653,2,  34.2596,2,    202.6,2,    201.4,2,    11.41,2,    11.55,2,     0.84,2,    331,-999.000,  -999.0, 11.9419
     32MW030_1,  PRS2,     2,  2,     13,     13,2,19910917,1824, 22.7567,-157.9950, 4750,    380.1,  10.1908,  34.1419,2,  34.1422,2,    191.4,2,    187.3,2,    18.96,2,    16.55,2,     1.19,2,    372,-999.000,  -999.0, 10.1462
     32MW030_1,  PRS2,     2,  2,     12,     12,2,19910917,1824, 22.7567,-157.9950, 4750,    385.9,   9.9984,  34.1338,2,  34.1318,2,    188.3,2,    184.8,2,    20.03,2,    17.34,2,     1.26,2,    376,-999.000,  -999.0,  9.9537
     32MW030_1,  PRS2,     2,  2,     11,     11,2,19910917,1824, 22.7567,-157.9950, 4750,    434.1,   8.7769,  34.0859,2,  34.0848,2,    175.5,2,    171.1,2,    28.22,2,    21.32,2,     1.51,2,    426,-999.000,  -999.0,  8.7304
     32MW030_1,  PRS2,     2,  2,     10,     10,2,19910917,1824, 22.7567,-157.9950, 4750,    505.9,   7.3716,  34.0653,2,  34.0646,2,    122.9,2,    120.3,2,    44.59,2,    28.64,2,     2.08,2,    498,-999.000,  -999.0,  7.3224
     32MW030_1,  PRS2,     2,  2,      9,      9,2,19910917,1824, 22.7567,-157.9950, 4750,    550.9,   6.7144,  34.0891,2,  34.0869,2,     85.1,2,     87.8,2,    55.59,2,    32.69,2,     2.40,2,    543,-999.000,  -999.0,  6.6634
     32MW030_1,  PRS2,     2,  2,      8,      8,2,19910917,1824, 22.7567,-157.9950, 4750,    601.2,   5.9168,  34.1130,2,  34.1165,2,     64.1,2,     62.5,2,    67.43,2,    36.32,2,     2.65,2,    592,-999.000,  -999.0,  5.8646
     32MW030_1,  PRS2,     2,  2,      7,      7,2,19910917,1824, 22.7567,-157.9950, 4750,    651.2,   5.5869,  34.1812,2,  34.1791,2,     43.5,2,     41.8,2,    77.12,2,    38.66,2,     2.84,2,    643,-999.000,  -999.0,  5.5317
     32MW030_1,  PRS2,     2,  2,      6,      6,2,19910917,1824, 22.7567,-157.9950, 4750,    721.8,   5.2662,  34.2756,2,  34.2775,2,     30.0,2,     29.2,2,    86.38,2,    40.41,2,     2.97,2,    714,-999.000,  -999.0,  5.2063
     32MW030_1,  PRS2,     2,  2,      5,     26,2,19910917,1824, 22.7567,-157.9950, 4750,    784.6,   4.8851,  34.3602,2,  34.3577,2,     30.8,2,     30.1,2,    85.73,2,    40.65,3,     2.99,2,    777,-999.000,  -999.0,  4.8218
     32MW030_1,  PRS2,     2,  2,      4,     25,2,19910917,1824, 22.7567,-157.9950, 4750,    876.9,   4.5529,  34.4202,2,  34.4198,2,     34.9,2,     34.2,2,   100.37,2,    41.70,2,     3.03,2,    870,-999.000,  -999.0,  4.4838
     32MW030_1,  PRS2,     2,  2,      3,      3,2,19910917,1824, 22.7567,-157.9950, 4750,    927.4,   4.4371,  34.4493,2,  34.4492,2,     37.6,2,     37.7,2,   102.52,2,    41.82,2,     3.03,2,    922,-999.000,  -999.0,  4.3644
     32MW030_1,  PRS2,     2,  2,      2,      2,2,19910917,1824, 22.7567,-157.9950, 4750,    977.2,   4.2533,  34.4645,2,  34.4631,2,     39.4,2,     40.2,2,   106.18,2,    41.93,2,     3.05,2,    972,-999.000,  -999.0,  4.1777
     32MW030_1,  PRS2,     2,  2,      1,      1,2,19910917,1824, 22.7567,-157.9950, 4750,   1047.6,   4.0783,  34.4797,2,  34.4796,2,     42.5,2,     42.6,2,   109.74,2,    41.82,2,     3.03,2,   1042,-999.000,  -999.0,  3.9981