BOTTLE,20020809WHPSIObren
EXPOCODE,SECT_ID,STNNBR,CASTNO,SAMPNO,BTLNBR,BTLNBR_FLAG_W,DATE,TIME,LATITUDE,LONGITUDE,DEPTH,CTDPRS,CTDTMP,CTDSAL,CTDSAL_FLAG_W,SALNTY,SALNTY_FLAG_W,CTDOXY,CTDOXY_FLAG_W,OXYGEN,OXYGEN_FLAG_W,SILCAT,SILCAT_FLAG_W,NO2+NO3,NO2+NO3_FLAG_W,PHSPHT,PHSPHT_FLAG_W,CTDRAW,REVTMP,REVPRS,THETA
,,,,,,,,,,,,DBAR,ITS-90,PSS-78,,PSS-78,,UMOL/KG,,UMOL/KG,,UMOL/KG,,UMOL/KG,,UMOL/KG,,,DEG C,DBAR,ITS-90
     32MW030_1,  PRS2,     2,  9,     20,     20,2,19910918,1556, 22.7517,-158.0017, 4750,      2.1,  26.2853,  35.0238,2,  35.0214,2,    213.4,1,   -999.0,9,  -999.00,9,  -999.00,9,  -999.00,9,     -2,-999.000,  -999.0, 26.2848
     32MW030_1,  PRS2,     2,  9,     19,     19,2,19910918,1556, 22.7517,-158.0017, 4750,     14.3,  26.2880,  35.0222,2,  35.0212,2,    213.2,1,   -999.0,9,  -999.00,9,  -999.00,9,  -999.00,9,      8,-999.000,  -999.0, 26.2848
     32MW030_1,  PRS2,     2,  9,     18,     18,2,19910918,1556, 22.7517,-158.0017, 4750,     34.1,  26.2843,  35.0188,2,  35.0186,2,    213.2,1,   -999.0,9,  -999.00,9,  -999.00,9,  -999.00,9,     27,-999.000,  -999.0, 26.2766
     32MW030_1,  PRS2,     2,  9,     17,     17,2,19910918,1556, 22.7517,-158.0017, 4750,     53.1,  25.9987,  35.0040,2,  35.0031,2,    218.9,1,   -999.0,9,  -999.00,9,  -999.00,9,  -999.00,9,     47,-999.000,  -999.0, 25.9868
     32MW030_1,  PRS2,     2,  9,     16,     16,3,19910918,1556, 22.7517,-158.0017, 4750,     83.4,  23.7037,  35.0647,2,-999.0000,5,    230.4,1,   -999.0,9,  -999.00,9,  -999.00,9,  -999.00,9,     76,-999.000,  -999.0, 23.6863
     32MW030_1,  PRS2,     2,  9,     15,     15,2,19910918,1556, 22.7517,-158.0017, 4750,    108.3,  22.6954,  35.1201,2,  35.1204,2,    213.9,1,   -999.0,9,  -999.00,9,  -999.00,9,  -999.00,9,    101,-999.000,  -999.0, 22.6735
     32MW030_1,  PRS2,     2,  9,     14,     14,2,19910918,1556, 22.7517,-158.0017, 4750,    133.5,  22.0345,  35.2248,2,  35.2254,2,    203.5,1,   -999.0,9,  -999.00,9,  -999.00,9,  -999.00,9,    125,-999.000,  -999.0, 22.0081
     32MW030_1,  PRS2,     2,  9,     13,     13,2,19910918,1556, 22.7517,-158.0017, 4750,    147.7,  21.6563,  35.2423,2,  35.2416,2,    206.0,1,   -999.0,9,  -999.00,9,  -999.00,9,  -999.00,9,    140,-999.000,  -999.0, 21.6274
     32MW030_1,  PRS2,     2,  9,     12,     12,2,19910918,1556, 22.7517,-158.0017, 4750,    157.1,  21.2373,  35.2343,2,  35.2349,2,    197.4,1,   -999.0,9,  -999.00,9,  -999.00,9,  -999.00,9,    149,-999.000,  -999.0, 21.2069
     32MW030_1,  PRS2,     2,  9,     11,     11,2,19910918,1556, 22.7517,-158.0017, 4750,    181.8,  20.4702,  35.2074,2,  35.2067,2,    197.6,1,   -999.0,9,  -999.00,9,  -999.00,9,  -999.00,9,    175,-999.000,  -999.0, 20.4360
     32MW030_1,  PRS2,     2,  9,     10,     10,2,19910918,1556, 22.7517,-158.0017, 4750,    257.6,  16.6587,  34.7849,2,  34.7824,2,    191.5,1,   -999.0,9,  -999.00,9,  -999.00,9,  -999.00,9,    250,-999.000,  -999.0, 16.6168
     32MW030_1,  PRS2,     2,  9,      9,      9,2,19910918,1556, 22.7517,-158.0017, 4750,    307.5,  13.5452,  34.3973,2,  34.4033,2,    193.7,1,   -999.0,9,  -999.00,9,  -999.00,9,  -999.00,9,    301,-999.000,  -999.0, 13.5018
     32MW030_1,  PRS2,     2,  9,      8,      8,2,19910918,1556, 22.7517,-158.0017, 4750,    405.1,   9.5122,  34.1156,2,  34.1179,2,    176.4,1,   -999.0,9,  -999.00,9,  -999.00,9,  -999.00,9,    401,-999.000,  -999.0,  9.4666
     32MW030_1,  PRS2,     2,  9,      7,      7,2,19910918,1556, 22.7517,-158.0017, 4750,    504.6,   7.2053,  34.0649,2,-999.0000,5,    106.7,1,   -999.0,9,  -999.00,9,  -999.00,9,  -999.00,9,    499,-999.000,  -999.0,  7.1569
     32MW030_1,  PRS2,     2,  9,      6,      6,2,19910918,1556, 22.7517,-158.0017, 4750,    606.2,   5.7162,  34.1292,2,  34.1253,2,     54.3,1,   -999.0,9,  -999.00,9,  -999.00,9,  -999.00,9,    602,-999.000,  -999.0,  5.6645
     32MW030_1,  PRS2,     2,  9,      5,     26,2,19910918,1556, 22.7517,-158.0017, 4750,    707.3,   5.2144,  34.2754,2,  34.2777,2,     29.9,1,   -999.0,9,  -999.00,9,  -999.00,9,  -999.00,9,    704,-999.000,  -999.0,  5.1561
     32MW030_1,  PRS2,     2,  9,      4,     25,2,19910918,1556, 22.7517,-158.0017, 4750,    756.4,   5.0305,  34.3382,2,  34.3391,2,     28.8,1,   -999.0,9,  -999.00,9,  -999.00,9,  -999.00,9,    754,-999.000,  -999.0,  4.9688
     32MW030_1,  PRS2,     2,  9,      3,      3,3,19910918,1556, 22.7517,-158.0017, 4750,    805.8,   4.6823,  34.3688,2,  34.3693,2,     31.1,1,   -999.0,9,  -999.00,9,  -999.00,9,  -999.00,9,    803,-999.000,  -999.0,  4.6185
     32MW030_1,  PRS2,     2,  9,      2,      2,2,19910918,1556, 22.7517,-158.0017, 4750,    904.6,   4.3871,  34.4320,2,  34.4311,2,     35.1,1,   -999.0,9,  -999.00,9,  -999.00,9,  -999.00,9,    901,-999.000,  -999.0,  4.3167
     32MW030_1,  PRS2,     2,  9,      1,      1,3,19910918,1556, 22.7517,-158.0017, 4750,   1002.6,   4.1411,  34.4728,2,  34.4769,2,     41.8,1,   -999.0,9,  -999.00,9,  -999.00,9,  -999.00,9,   1001,-999.000,  -999.0,  4.0641
     32MW030_1,  PRS2,     2, 10,     23,     23,2,19910918,1910, 22.7200,-158.0183, 4750,     12.3,  26.3031,  35.0272,2,  35.0247,2,    213.3,1,   -999.0,9,  -999.00,9,  -999.00,9,  -999.00,9,      7,-999.000,  -999.0, 26.3003
     32MW030_1,  PRS2,     2, 10,     19,     19,2,19910918,1910, 22.7200,-158.0183, 4750,     17.3,  26.2962,  35.0259,2,-999.0000,5,    211.4,1,   -999.0,9,  -999.00,9,  -999.00,9,  -999.00,9,     12,-999.000,  -999.0, 26.2923
     32MW030_1,  PRS2,     2, 10,     16,     16,2,19910918,1910, 22.7200,-158.0183, 4750,     17.3,  26.2938,  35.0245,2,-999.0000,5,    211.4,1,   -999.0,9,  -999.00,9,  -999.00,9,  -999.00,9,     12,-999.000,  -999.0, 26.2899
     32MW030_1,  PRS2,     2, 10,     15,     15,2,19910918,1910, 22.7200,-158.0183, 4750,     17.3,  26.2939,  35.0246,2,-999.0000,5,    211.4,1,   -999.0,9,  -999.00,9,  -999.00,9,  -999.00,9,     12,-999.000,  -999.0, 26.2900
     32MW030_1,  PRS2,     2, 10,     22,     22,2,19910918,1910, 22.7200,-158.0183, 4750,     17.4,  26.2974,  35.0263,2,-999.0000,5,    211.5,1,   -999.0,9,  -999.00,9,  -999.00,9,  -999.00,9,     12,-999.000,  -999.0, 26.2935
     32MW030_1,  PRS2,     2, 10,     21,     21,2,19910918,1910, 22.7200,-158.0183, 4750,     17.4,  26.2966,  35.0260,2,-999.0000,5,    211.3,1,   -999.0,9,  -999.00,9,  -999.00,9,  -999.00,9,     13,-999.000,  -999.0, 26.2927
     32MW030_1,  PRS2,     2, 10,     18,     18,2,19910918,1910, 22.7200,-158.0183, 4750,     17.4,  26.2957,  35.0252,2,-999.0000,5,    211.4,1,   -999.0,9,  -999.00,9,  -999.00,9,  -999.00,9,     11,-999.000,  -999.0, 26.2918
     32MW030_1,  PRS2,     2, 10,     17,     17,2,19910918,1910, 22.7200,-158.0183, 4750,     17.4,  26.2943,  35.0249,2,-999.0000,5,    211.5,1,   -999.0,9,  -999.00,9,  -999.00,9,  -999.00,9,     12,-999.000,  -999.0, 26.2904
     32MW030_1,  PRS2,     2, 10,     13,     13,2,19910918,1910, 22.7200,-158.0183, 4750,     17.4,  26.2937,  35.0243,2,-999.0000,5,    211.5,1,   -999.0,9,  -999.00,9,  -999.00,9,  -999.00,9,     11,-999.000,  -999.0, 26.2898
     32MW030_1,  PRS2,     2, 10,     12,     12,2,19910918,1910, 22.7200,-158.0183, 4750,     17.4,  26.2945,  35.0244,2,-999.0000,5,    211.6,1,   -999.0,9,  -999.00,9,  -999.00,9,  -999.00,9,     11,-999.000,  -999.0, 26.2905
     32MW030_1,  PRS2,     2, 10,     20,     20,2,19910918,1910, 22.7200,-158.0183, 4750,     17.5,  26.2958,  35.0259,2,-999.0000,5,    211.5,1,   -999.0,9,  -999.00,9,  -999.00,9,  -999.00,9,     12,-999.000,  -999.0, 26.2919
     32MW030_1,  PRS2,     2, 10,     14,     14,2,19910918,1910, 22.7200,-158.0183, 4750,     17.5,  26.2937,  35.0243,2,-999.0000,5,    211.4,1,   -999.0,9,  -999.00,9,  -999.00,9,  -999.00,9,     12,-999.000,  -999.0, 26.2898
     32MW030_1,  PRS2,     2, 10,     11,     11,2,19910918,1910, 22.7200,-158.0183, 4750,     32.1,  26.2887,  35.0228,2,-999.0000,5,    211.5,1,   -999.0,9,  -999.00,9,  -999.00,9,  -999.00,9,     27,-999.000,  -999.0, 26.2815
     32MW030_1,  PRS2,     2, 10,     10,     10,2,19910918,1910, 22.7200,-158.0183, 4750,     51.9,  26.2800,  35.0207,2,  35.0212,2,    210.7,1,   -999.0,9,  -999.00,9,  -999.00,9,  -999.00,9,     46,-999.000,  -999.0, 26.2683
     32MW030_1,  PRS2,     2, 10,      9,      9,2,19910918,1910, 22.7200,-158.0183, 4750,     81.7,  23.7516,  35.0583,2,  35.0588,2,    227.3,1,   -999.0,9,  -999.00,9,  -999.00,9,  -999.00,9,     75,-999.000,  -999.0, 23.7345
     32MW030_1,  PRS2,     2, 10,      8,      8,2,19910918,1910, 22.7200,-158.0183, 4750,    106.6,  22.6726,  35.1229,2,  35.1135,2,    213.9,1,   -999.0,9,  -999.00,9,  -999.00,9,  -999.00,9,    102,-999.000,  -999.0, 22.6511
     32MW030_1,  PRS2,     2, 10,      7,      7,2,19910918,1910, 22.7200,-158.0183, 4750,    131.2,  22.1459,  35.2181,2,  35.2175,2,    201.4,1,   -999.0,9,  -999.00,9,  -999.00,9,  -999.00,9,    125,-999.000,  -999.0, 22.1198
     32MW030_1,  PRS2,     2, 10,      6,      6,2,19910918,1910, 22.7200,-158.0183, 4750,    161.2,  21.1748,  35.2212,2,  35.2232,2,    191.4,1,   -999.0,9,  -999.00,9,  -999.00,9,  -999.00,9,    155,-999.000,  -999.0, 21.1438
     32MW030_1,  PRS2,     2, 10,      5,     26,2,19910918,1910, 22.7200,-158.0183, 4750,    183.0,  20.2762,  35.1985,2,  35.1990,2,    192.0,1,   -999.0,9,  -999.00,9,  -999.00,9,  -999.00,9,    179,-999.000,  -999.0, 20.2420
     32MW030_1,  PRS2,     2, 10,      4,     25,2,19910918,1910, 22.7200,-158.0183, 4750,    258.6,  15.5292,  34.6490,2,  34.6558,2,    189.8,1,   -999.0,9,  -999.00,9,  -999.00,9,  -999.00,9,    253,-999.000,  -999.0, 15.4892
     32MW030_1,  PRS2,     2, 10,      3,      3,2,19910918,1910, 22.7200,-158.0183, 4750,    507.0,   7.1805,  34.0685,2,  34.0679,2,    101.5,1,   -999.0,9,  -999.00,9,  -999.00,9,  -999.00,9,    503,-999.000,  -999.0,  7.1320
     32MW030_1,  PRS2,     2, 10,      2,      2,2,19910918,1910, 22.7200,-158.0183, 4750,    755.7,   4.9153,  34.3015,2,  34.3067,2,     31.1,1,   -999.0,9,  -999.00,9,  -999.00,9,  -999.00,9,    753,-999.000,  -999.0,  4.8545
     32MW030_1,  PRS2,     2, 10,      1,      1,2,19910918,1910, 22.7200,-158.0183, 4750,   1002.3,   4.1262,  34.4757,2,  34.4783,2,     41.5,1,   -999.0,9,  -999.00,9,  -999.00,9,  -999.00,9,   1002,-999.000,  -999.0,  4.0494
     32MW030_1,  PRS2,     2, 11,     23,     23,2,19910918,2203, 22.6933,-158.0417, 4750,      1.7,  26.6424,  35.0366,2,  35.0334,2,    210.8,1,   -999.0,9,  -999.00,9,  -999.00,9,  -999.00,9,      0,-999.000,  -999.0, 26.6421
     32MW030_1,  PRS2,     2, 11,     22,     22,2,19910918,2203, 22.6933,-158.0417, 4750,     10.4,  26.3280,  35.0297,2,  35.0269,2,    210.1,1,   -999.0,9,  -999.00,9,  -999.00,9,  -999.00,9,      6,-999.000,  -999.0, 26.3256
     32MW030_1,  PRS2,     2, 11,     18,     18,2,19910918,2203, 22.6933,-158.0417, 4750,     15.5,  26.3124,  35.0288,2,-999.0000,5,    210.6,1,   -999.0,9,  -999.00,9,  -999.00,9,  -999.00,9,     11,-999.000,  -999.0, 26.3089
     32MW030_1,  PRS2,     2, 11,     15,     15,2,19910918,2203, 22.6933,-158.0417, 4750,     15.5,  26.3121,  35.0282,2,-999.0000,5,    210.3,1,   -999.0,9,  -999.00,9,  -999.00,9,  -999.00,9,     11,-999.000,  -999.0, 26.3086
     32MW030_1,  PRS2,     2, 11,     20,     20,2,19910918,2203, 22.6933,-158.0417, 4750,     15.6,  26.3128,  35.0294,2,-999.0000,5,    211.4,1,   -999.0,9,  -999.00,9,  -999.00,9,  -999.00,9,     11,-999.000,  -999.0, 26.3093
     32MW030_1,  PRS2,     2, 11,     19,     19,2,19910918,2203, 22.6933,-158.0417, 4750,     15.6,  26.3127,  35.0292,2,-999.0000,5,    211.0,1,   -999.0,9,  -999.00,9,  -999.00,9,  -999.00,9,     10,-999.000,  -999.0, 26.3091
     32MW030_1,  PRS2,     2, 11,     17,     17,2,19910918,2203, 22.6933,-158.0417, 4750,     15.6,  26.3125,  35.0286,2,-999.0000,5,    210.4,1,   -999.0,9,  -999.00,9,  -999.00,9,  -999.00,9,     11,-999.000,  -999.0, 26.3090
     32MW030_1,  PRS2,     2, 11,     21,     21,2,19910918,2203, 22.6933,-158.0417, 4750,     15.7,  26.3130,  35.0294,2,-999.0000,5,    211.8,1,   -999.0,9,  -999.00,9,  -999.00,9,  -999.00,9,     11,-999.000,  -999.0, 26.3095
     32MW030_1,  PRS2,     2, 11,     16,     16,2,19910918,2203, 22.6933,-158.0417, 4750,     15.7,  26.3121,  35.0285,2,-999.0000,5,    210.3,1,   -999.0,9,  -999.00,9,  -999.00,9,  -999.00,9,     10,-999.000,  -999.0, 26.3086
     32MW030_1,  PRS2,     2, 11,     14,     14,2,19910918,2203, 22.6933,-158.0417, 4750,     15.7,  26.3124,  35.0279,2,  35.0279,2,    210.2,1,   -999.0,9,  -999.00,9,  -999.00,9,  -999.00,9,     11,-999.000,  -999.0, 26.3089
     32MW030_1,  PRS2,     2, 11,     13,     13,2,19910918,2203, 22.6933,-158.0417, 4750,     20.7,  26.3069,  35.0275,2,  35.0279,2,    210.2,1,   -999.0,9,  -999.00,9,  -999.00,9,  -999.00,9,     16,-999.000,  -999.0, 26.3023
     32MW030_1,  PRS2,     2, 11,     12,     12,2,19910918,2203, 22.6933,-158.0417, 4750,     25.4,  26.3027,  35.0267,2,  35.0269,2,    210.3,1,   -999.0,9,  -999.00,9,  -999.00,9,  -999.00,9,     20,-999.000,  -999.0, 26.2970
     32MW030_1,  PRS2,     2, 11,     11,     11,2,19910918,2203, 22.6933,-158.0417, 4750,     30.4,  26.2998,  35.0259,2,  35.0277,2,    210.4,1,   -999.0,9,  -999.00,9,  -999.00,9,  -999.00,9,     25,-999.000,  -999.0, 26.2930
     32MW030_1,  PRS2,     2, 11,     10,     10,2,19910918,2203, 22.6933,-158.0417, 4750,     56.1,  26.1268,  35.0224,2,  35.0240,2,    211.9,1,   -999.0,9,  -999.00,9,  -999.00,9,  -999.00,9,     52,-999.000,  -999.0, 26.1142
     32MW030_1,  PRS2,     2, 11,      9,      9,2,19910918,2203, 22.6933,-158.0417, 4750,     80.9,  23.6179,  35.0622,2,  35.0625,2,    227.9,1,   -999.0,9,  -999.00,9,  -999.00,9,  -999.00,9,     76,-999.000,  -999.0, 23.6011
     32MW030_1,  PRS2,     2, 11,      8,      8,2,19910918,2203, 22.6933,-158.0417, 4750,    103.6,  22.7438,  35.1120,2,  35.1119,2,    214.3,1,   -999.0,9,  -999.00,9,  -999.00,9,  -999.00,9,     99,-999.000,  -999.0, 22.7228
     32MW030_1,  PRS2,     2, 11,      7,      7,2,19910918,2203, 22.6933,-158.0417, 4750,    142.8,  22.0142,  35.2203,2,  35.2195,2,    203.7,1,   -999.0,9,  -999.00,9,  -999.00,9,  -999.00,9,    138,-999.000,  -999.0, 21.9860
     32MW030_1,  PRS2,     2, 11,      6,      6,2,19910918,2203, 22.6933,-158.0417, 4750,    154.3,  21.7321,  35.2452,2,-999.0000,5,    203.2,1,   -999.0,9,  -999.00,9,  -999.00,9,  -999.00,9,    149,-999.000,  -999.0, 21.7018
     32MW030_1,  PRS2,     2, 11,      5,     26,2,19910918,2203, 22.6933,-158.0417, 4750,    204.3,  19.9558,  35.1769,2,  35.1767,2,    192.4,1,   -999.0,9,  -999.00,9,  -999.00,9,  -999.00,9,    199,-999.000,  -999.0, 19.9180
     32MW030_1,  PRS2,     2, 11,      4,     25,2,19910918,2203, 22.6933,-158.0417, 4750,    257.9,  17.2845,  34.8629,2,  34.8634,2,    188.8,1,   -999.0,9,  -999.00,9,  -999.00,9,  -999.00,9,    255,-999.000,  -999.0, 17.2414
     32MW030_1,  PRS2,     2, 11,      3,      3,2,19910918,2203, 22.6933,-158.0417, 4750,    504.2,   7.7001,  34.0635,2,  34.0616,2,    124.6,1,   -999.0,9,  -999.00,9,  -999.00,9,  -999.00,9,    502,-999.000,  -999.0,  7.6499
     32MW030_1,  PRS2,     2, 11,      2,      2,2,19910918,2203, 22.6933,-158.0417, 4750,    760.3,   4.9189,  34.2971,2,  34.3010,2,     29.6,1,   -999.0,9,  -999.00,9,  -999.00,9,  -999.00,9,    757,-999.000,  -999.0,  4.8576
     32MW030_1,  PRS2,     2, 11,      1,      1,2,19910918,2203, 22.6933,-158.0417, 4750,   1001.0,   4.1201,  34.4771,2,  34.4777,2,     41.9,1,   -999.0,9,  -999.00,9,  -999.00,9,  -999.00,9,    999,-999.000,  -999.0,  4.0435
     32MW030_1,  PRS2,     2, 12,      6,      6,2,19910919,0048, 22.6767,-158.0517, 4750,     10.5,  26.4063,  35.0242,2,-999.0000,5,    210.5,1,   -999.0,9,  -999.00,9,  -999.00,9,  -999.00,9,      6,-999.000,  -999.0, 26.4039
     32MW030_1,  PRS2,     2, 12,      5,     26,2,19910919,0048, 22.6767,-158.0517, 4750,     32.2,  26.3192,  35.0236,2,  35.0279,2,    210.2,1,   -999.0,9,  -999.00,9,  -999.00,9,  -999.00,9,     28,-999.000,  -999.0, 26.3120
     32MW030_1,  PRS2,     2, 12,      4,     25,2,19910919,0048, 22.6767,-158.0517, 4750,     32.2,  26.3194,  35.0238,2,  35.0269,2,    210.3,1,   -999.0,9,  -999.00,9,  -999.00,9,  -999.00,9,     28,-999.000,  -999.0, 26.3121
     32MW030_1,  PRS2,     2, 12,      3,      3,2,19910919,0048, 22.6767,-158.0517, 4750,    145.9,  22.1210,  35.2241,2,  35.2270,2,    205.2,1,   -999.0,9,  -999.00,9,  -999.00,9,  -999.00,9,    142,-999.000,  -999.0, 22.0920
     32MW030_1,  PRS2,     2, 12,      2,      2,2,19910919,0048, 22.6767,-158.0517, 4750,    505.0,   7.5437,  34.0626,2,  34.0642,2,    121.5,1,   -999.0,9,  -999.00,9,  -999.00,9,  -999.00,9,    502,-999.000,  -999.0,  7.4940
     32MW030_1,  PRS2,     2, 12,      1,      1,2,19910919,0048, 22.6767,-158.0517, 4750,   1019.6,   4.0600,  34.4682,2,  34.4678,2,     41.6,1,   -999.0,9,  -999.00,9,  -999.00,9,  -999.00,9,   1017,-999.000,  -999.0,  3.9823