BOTTLE,20020809WHPSIObren
EXPOCODE,SECT_ID,STNNBR,CASTNO,SAMPNO,BTLNBR,BTLNBR_FLAG_W,DATE,TIME,LATITUDE,LONGITUDE,DEPTH,CTDPRS,CTDTMP,CTDSAL,CTDSAL_FLAG_W,SALNTY,SALNTY_FLAG_W,CTDOXY,CTDOXY_FLAG_W,OXYGEN,OXYGEN_FLAG_W,SILCAT,SILCAT_FLAG_W,NO2+NO3,NO2+NO3_FLAG_W,PHSPHT,PHSPHT_FLAG_W,CTDRAW,REVTMP,REVPRS,THETA
,,,,,,,,,,,,DBAR,ITS-90,PSS-78,,PSS-78,,UMOL/KG,,UMOL/KG,,UMOL/KG,,UMOL/KG,,UMOL/KG,,,DEG C,DBAR,ITS-90
     32MW030_1,  PRS2,     2,  3,     23,     23,2,19910917,2216, 22.7683,-157.9817, 4750,      1.6,  26.4936,  35.0456,2,  35.0444,2,    214.0,1,   -999.0,9,  -999.00,9,  -999.00,9,  -999.00,9,     -1,-999.000,  -999.0, 26.4932
     32MW030_1,  PRS2,     2,  3,     21,     21,2,19910917,2216, 22.7683,-157.9817, 4750,      7.4,  26.3726,  35.0424,2,  35.0411,2,    203.6,1,   -999.0,9,  -999.00,9,  -999.00,9,  -999.00,9,      3,-999.000,  -999.0, 26.3709
     32MW030_1,  PRS2,     2,  3,     22,     22,2,19910917,2216, 22.7683,-157.9817, 4750,      7.5,  26.3790,  35.0424,2,-999.0000,5,    203.9,1,   -999.0,9,  -999.00,9,  -999.00,9,  -999.00,9,      2,-999.000,  -999.0, 26.3773
     32MW030_1,  PRS2,     2,  3,     20,     20,2,19910917,2216, 22.7683,-157.9817, 4750,     27.0,  26.3039,  35.0416,2,-999.0000,5,    203.9,1,   -999.0,9,  -999.00,9,  -999.00,9,  -999.00,9,     21,-999.000,  -999.0, 26.2979
     32MW030_1,  PRS2,     2,  3,     19,     19,2,19910917,2216, 22.7683,-157.9817, 4750,     27.0,  26.3034,  35.0417,2,  35.0411,2,    204.7,1,   -999.0,9,  -999.00,9,  -999.00,9,  -999.00,9,     21,-999.000,  -999.0, 26.2973
     32MW030_1,  PRS2,     2,  3,     18,     18,2,19910917,2216, 22.7683,-157.9817, 4750,     33.0,  26.3016,  35.0412,2,-999.0000,5,    205.8,1,   -999.0,9,  -999.00,9,  -999.00,9,  -999.00,9,     27,-999.000,  -999.0, 26.2941
     32MW030_1,  PRS2,     2,  3,     17,     17,2,19910917,2216, 22.7683,-157.9817, 4750,     48.3,  26.2736,  35.0370,2,-999.0000,5,    205.0,1,   -999.0,9,  -999.00,9,  -999.00,9,  -999.00,9,     42,-999.000,  -999.0, 26.2628
     32MW030_1,  PRS2,     2,  3,     16,     16,2,19910917,2216, 22.7683,-157.9817, 4750,     48.3,  26.2763,  35.0371,2,  35.0369,2,    205.1,1,   -999.0,9,  -999.00,9,  -999.00,9,  -999.00,9,     43,-999.000,  -999.0, 26.2654
     32MW030_1,  PRS2,     2,  3,     15,     15,2,19910917,2216, 22.7683,-157.9817, 4750,     58.4,  26.2252,  35.0335,2,  35.0328,2,    203.7,1,   -999.0,9,  -999.00,9,  -999.00,9,  -999.00,9,     53,-999.000,  -999.0, 26.2121
     32MW030_1,  PRS2,     2,  3,     13,     13,2,19910917,2216, 22.7683,-157.9817, 4750,     78.1,  23.8478,  35.0741,2,  35.0779,2,    227.9,1,   -999.0,9,  -999.00,9,  -999.00,9,  -999.00,9,     73,-999.000,  -999.0, 23.8315
     32MW030_1,  PRS2,     2,  3,     14,     14,2,19910917,2216, 22.7683,-157.9817, 4750,     78.2,  24.0092,  35.0819,2,-999.0000,5,    227.2,1,   -999.0,9,  -999.00,9,  -999.00,9,  -999.00,9,     72,-999.000,  -999.0, 23.9927
     32MW030_1,  PRS2,     2,  3,     12,     12,2,19910917,2216, 22.7683,-157.9817, 4750,     88.2,  23.5942,  35.0738,2,  35.0763,2,    219.0,1,   -999.0,9,  -999.00,9,  -999.00,9,  -999.00,9,     82,-999.000,  -999.0, 23.5759
     32MW030_1,  PRS2,     2,  3,     11,     11,2,19910917,2216, 22.7683,-157.9817, 4750,    104.8,  23.1325,  35.1194,2,  35.1249,2,    216.6,1,   -999.0,9,  -999.00,9,  -999.00,9,  -999.00,9,    100,-999.000,  -999.0, 23.1110
     32MW030_1,  PRS2,     2,  3,      8,      8,2,19910917,2216, 22.7683,-157.9817, 4750,    108.9,  23.0535,  35.1356,2,  35.1316,2,    213.9,1,   -999.0,9,  -999.00,9,  -999.00,9,  -999.00,9,    103,-999.000,  -999.0, 23.0312
     32MW030_1,  PRS2,     2,  3,      9,      9,2,19910917,2216, 22.7683,-157.9817, 4750,    109.5,  23.0352,  35.1339,2,-999.0000,5,    214.0,1,   -999.0,9,  -999.00,9,  -999.00,9,  -999.00,9,    104,-999.000,  -999.0, 23.0128
     32MW030_1,  PRS2,     2,  3,     10,     10,2,19910917,2216, 22.7683,-157.9817, 4750,    109.7,  23.0173,  35.1332,2,-999.0000,5,    213.8,1,   -999.0,9,  -999.00,9,  -999.00,9,  -999.00,9,    104,-999.000,  -999.0, 22.9949
     32MW030_1,  PRS2,     2,  3,      7,      7,2,19910917,2216, 22.7683,-157.9817, 4750,    132.0,  22.4137,  35.1945,2,  35.1962,2,    207.5,1,   -999.0,9,  -999.00,9,  -999.00,9,  -999.00,9,    126,-999.000,  -999.0, 22.3872
     32MW030_1,  PRS2,     2,  3,      6,      6,2,19910917,2216, 22.7683,-157.9817, 4750,    158.7,  21.8266,  35.2416,2,  35.2417,2,    198.1,1,   -999.0,9,  -999.00,9,  -999.00,9,  -999.00,9,    155,-999.000,  -999.0, 21.7953
     32MW030_1,  PRS2,     2,  3,      5,     26,2,19910917,2216, 22.7683,-157.9817, 4750,    183.4,  20.7997,  35.2225,2,  35.2252,2,    188.3,1,   -999.0,9,  -999.00,9,  -999.00,9,  -999.00,9,    178,-999.000,  -999.0, 20.7648
     32MW030_1,  PRS2,     2,  3,      4,     25,2,19910917,2216, 22.7683,-157.9817, 4750,    257.8,  16.4476,  34.7574,2,  34.7696,2,    186.2,1,   -999.0,9,  -999.00,9,  -999.00,9,  -999.00,9,    254,-999.000,  -999.0, 16.4061
     32MW030_1,  PRS2,     2,  3,      3,      3,2,19910917,2216, 22.7683,-157.9817, 4750,    506.5,   7.4658,  34.0630,2,  34.0642,2,    117.0,1,   -999.0,9,  -999.00,9,  -999.00,9,  -999.00,9,    505,-999.000,  -999.0,  7.4163
     32MW030_1,  PRS2,     2,  3,      2,      2,2,19910917,2216, 22.7683,-157.9817, 4750,    767.0,   4.9151,  34.3521,2,  34.3524,2,     30.2,1,   -999.0,9,  -999.00,9,  -999.00,9,  -999.00,9,    765,-999.000,  -999.0,  4.8532
     32MW030_1,  PRS2,     2,  3,      1,      1,2,19910917,2216, 22.7683,-157.9817, 4750,   1009.2,   4.0312,  34.4753,2,  34.4783,2,     41.9,1,   -999.0,9,  -999.00,9,  -999.00,9,  -999.00,9,   1008,-999.000,  -999.0,  3.9546
     32MW030_1,  PRS2,     2,  4,     16,     16,2,19910918,0144, 22.7500,-158.0100, 4750,     12.4,  26.3365,  35.0420,2,  35.0436,2,    207.3,2,   -999.0,5,  -999.00,5,  -999.00,5,  -999.00,5,      7,-999.000,  -999.0, 26.3337
     32MW030_1,  PRS2,     2,  4,     15,     15,2,19910918,0144, 22.7500,-158.0100, 4750,    213.9,  19.2221,  35.1043,2,  35.1033,2,    189.2,2,    193.0,2,  -999.00,5,  -999.00,5,  -999.00,5,    209,-999.000,  -999.0, 19.1836
     32MW030_1,  PRS2,     2,  4,     14,     14,2,19910918,0144, 22.7500,-158.0100, 4750,    230.6,  18.6181,  35.0348,2,  35.0385,2,    187.7,2,    191.5,2,     3.02,2,     2.93,2,     0.29,2,    225,-999.000,  -999.0, 18.5775
     32MW030_1,  PRS2,     2,  4,     13,     13,2,19910918,0144, 22.7500,-158.0100, 4750,    240.9,  18.2938,  35.0009,2,  34.9999,2,    187.8,2,    192.6,2,  -999.00,5,  -999.00,5,  -999.00,5,    236,-999.000,  -999.0, 18.2520
     32MW030_1,  PRS2,     2,  4,     12,     12,2,19910918,0144, 22.7500,-158.0100, 4750,    256.5,  17.3226,  34.8791,2,  34.8725,2,    190.4,2,    194.1,2,     3.88,2,     3.94,2,     0.34,2,    252,-999.000,  -999.0, 17.2797
     32MW030_1,  PRS2,     2,  4,     11,     11,2,19910918,0144, 22.7500,-158.0100, 4750,    276.1,  15.7513,  34.6640,2,  34.6680,2,    193.8,2,    195.0,2,     6.67,2,     5.50,2,     0.44,2,    272,-999.000,  -999.0, 15.7080
     32MW030_1,  PRS2,     2,  4,     10,     10,2,19910918,0144, 22.7500,-158.0100, 4750,    305.7,  14.0810,  34.4606,2,  34.4600,2,    192.0,2,    195.6,2,     8.19,2,     7.85,2,     0.61,2,    301,-999.000,  -999.0, 14.0366
     32MW030_1,  PRS2,     2,  4,      9,      9,3,19910918,0144, 22.7500,-158.0100, 4750,    329.3,  12.3488,  34.2923,2,  34.2950,2,    196.5,2,    200.2,2,    10.34,2,    10.66,2,     0.79,2,    325,-999.000,  -999.0, 12.3051
     32MW030_1,  PRS2,     2,  4,      8,      8,2,19910918,0144, 22.7500,-158.0100, 4750,    353.4,  11.6316,  34.2353,2,  34.2328,2,    198.8,2,    199.5,2,    12.50,2,    12.37,2,     0.94,2,    348,-999.000,  -999.0, 11.5865
     32MW030_1,  PRS2,     2,  4,      7,      7,2,19910918,0144, 22.7500,-158.0100, 4750,    409.7,  10.0410,  34.1366,2,  34.1359,2,    187.2,2,    186.2,2,    20.03,2,    16.95,2,     1.22,2,    405,-999.000,  -999.0,  9.9934
     32MW030_1,  PRS2,     2,  4,      6,      6,2,19910918,0144, 22.7500,-158.0100, 4750,    505.8,   7.4907,  34.0645,2,  34.0630,2,    117.7,2,    126.8,2,    42.66,2,    27.60,2,     2.01,2,    503,-999.000,  -999.0,  7.4411
     32MW030_1,  PRS2,     2,  4,      5,     26,2,19910918,0144, 22.7500,-158.0100, 4750,    604.1,   6.2187,  34.1412,2,  34.1438,2,     61.2,2,     62.5,2,    65.07,2,    35.71,2,     2.63,2,    602,-999.000,  -999.0,  6.1649
     32MW030_1,  PRS2,     2,  4,      4,     25,2,19910918,0144, 22.7500,-158.0100, 4750,    703.8,   5.2662,  34.2758,2,  34.2740,2,     28.8,2,     29.9,2,    84.66,2,    40.41,2,     2.94,2,    704,-999.000,  -999.0,  5.2079
     32MW030_1,  PRS2,     2,  4,      3,      3,2,19910918,0144, 22.7500,-158.0100, 4750,    802.3,   4.7684,  34.3564,2,  34.3546,2,     30.6,2,     30.3,2,    95.75,2,    41.58,2,     3.03,2,    800,-999.000,  -999.0,  4.7043
     32MW030_1,  PRS2,     2,  4,      2,      2,3,19910918,0144, 22.7500,-158.0100, 4750,    904.4,   4.4675,  34.4452,2,  34.4443,2,     37.6,2,     36.6,2,   110.06,4,    41.82,2,     3.03,2,    903,-999.000,  -999.0,  4.3966
     32MW030_1,  PRS2,     2,  4,      1,      1,2,19910918,0144, 22.7500,-158.0100, 4750,    996.8,   4.0724,  34.4777,2,-999.0000,5,     42.5,2,     42.2,2,   110.27,2,    41.82,2,     3.04,2,    995,-999.000,  -999.0,  3.9964
     32MW030_1,  PRS2,     2,  5,     17,     17,2,19910918,0443, 22.7517,-157.9917, 4750,     18.2,  26.3102,  35.0363,2,-999.0000,5,    216.2,2,   -999.0,5,  -999.00,5,  -999.00,5,  -999.00,5,     11,-999.000,  -999.0, 26.3061
     32MW030_1,  PRS2,     2,  5,     16,     16,2,19910918,0443, 22.7517,-157.9917, 4750,     18.2,  26.3115,  35.0363,2,-999.0000,5,    216.3,2,   -999.0,5,  -999.00,5,  -999.00,5,  -999.00,5,     11,-999.000,  -999.0, 26.3074
     32MW030_1,  PRS2,     2,  5,     15,     15,2,19910918,0443, 22.7517,-157.9917, 4750,     18.2,  26.3123,  35.0360,2,  35.0354,2,    216.4,2,   -999.0,5,  -999.00,5,  -999.00,5,  -999.00,5,     12,-999.000,  -999.0, 26.3082
     32MW030_1,  PRS2,     2,  5,     14,     14,2,19910918,0443, 22.7517,-157.9917, 4750,    111.4,  22.5959,  35.1320,2,  35.1311,2,    216.5,2,    214.8,2,     1.07,2,     0.00,2,     0.09,2,    104,-999.000,  -999.0, 22.5734
     32MW030_1,  PRS2,     2,  5,     13,     13,2,19910918,0443, 22.7517,-157.9917, 4750,    121.8,  22.4260,  35.1625,2,  35.1624,2,    213.3,2,    212.2,2,     1.07,2,     0.02,2,     0.09,2,    115,-999.000,  -999.0, 22.4016
     32MW030_1,  PRS2,     2,  5,     12,     12,2,19910918,0443, 22.7517,-157.9917, 4750,    131.5,  22.0826,  35.2283,2,  35.2254,2,    208.1,2,    208.0,2,     0.86,2,     0.25,2,     0.09,2,    125,-999.000,  -999.0, 22.0565
     32MW030_1,  PRS2,     2,  5,     11,     11,2,19910918,0443, 22.7517,-157.9917, 4750,    141.7,  21.8382,  35.2454,2,  35.2477,2,    209.1,2,    205.7,2,     0.86,2,     0.37,2,     0.09,2,    135,-999.000,  -999.0, 21.8103
     32MW030_1,  PRS2,     2,  5,     10,     10,2,19910918,0443, 22.7517,-157.9917, 4750,    147.7,  21.7489,  35.2413,2,  35.2404,2,    205.7,2,   -999.0,5,  -999.00,5,  -999.00,5,  -999.00,5,    141,-999.000,  -999.0, 21.7199
     32MW030_1,  PRS2,     2,  5,      8,      8,2,19910918,0443, 22.7517,-157.9917, 4750,    158.7,  21.4090,  35.2390,2,  35.2392,2,    200.7,2,    200.5,2,     1.07,2,     0.75,2,     0.12,2,    152,-999.000,  -999.0, 21.3782
     32MW030_1,  PRS2,     2,  5,      9,      9,2,19910918,0443, 22.7517,-157.9917, 4750,    159.0,  21.4092,  35.2383,2,-999.0000,5,    200.6,2,   -999.0,5,  -999.00,5,  -999.00,5,  -999.00,5,    153,-999.000,  -999.0, 21.3783
     32MW030_1,  PRS2,     2,  5,      7,      7,2,19910918,0443, 22.7517,-157.9917, 4750,    165.2,  21.1427,  35.2345,2,  35.2358,2,    198.5,2,    198.9,2,  -999.00,5,  -999.00,5,  -999.00,5,    158,-999.000,  -999.0, 21.1109
     32MW030_1,  PRS2,     2,  5,      6,      6,2,19910918,0443, 22.7517,-157.9917, 4750,    176.2,  20.5815,  35.2166,2,  35.2161,2,    201.0,2,    198.2,2,     1.50,2,     1.14,2,     0.14,2,    170,-999.000,  -999.0, 20.5482
     32MW030_1,  PRS2,     2,  5,      5,     26,2,19910918,0443, 22.7517,-157.9917, 4750,    194.1,  19.9841,  35.1767,2,  35.1760,2,    194.3,2,    195.6,2,  -999.00,5,  -999.00,5,  -999.00,5,    188,-999.000,  -999.0, 19.9482
     32MW030_1,  PRS2,     2,  5,      4,     25,2,19910918,0443, 22.7517,-157.9917, 4750,    199.9,  19.7179,  35.1527,2,  35.1588,2,    196.5,2,    194.7,2,     1.93,2,     1.89,2,     0.20,2,    194,-999.000,  -999.0, 19.6813
     32MW030_1,  PRS2,     2,  5,      3,      3,2,19910918,0443, 22.7517,-157.9917, 4750,    503.7,   7.4316,  34.0608,2,  34.0630,2,    120.8,2,   -999.0,5,  -999.00,5,  -999.00,5,  -999.00,5,    499,-999.000,  -999.0,  7.3825
     32MW030_1,  PRS2,     2,  5,      2,      2,2,19910918,0443, 22.7517,-157.9917, 4750,   1022.2,   4.1006,  34.4772,2,-999.0000,5,     41.5,2,   -999.0,5,  -999.00,5,  -999.00,5,  -999.00,5,   1019,-999.000,  -999.0,  4.0223
     32MW030_1,  PRS2,     2,  5,      1,      1,2,19910918,0443, 22.7517,-157.9917, 4750,   1023.0,   4.0960,  34.4767,2,  34.4769,2,     41.5,2,   -999.0,5,  -999.00,5,  -999.00,5,  -999.00,5,   1019,-999.000,  -999.0,  4.0177
     32MW030_1,  PRS2,     2,  6,     15,     15,2,19910918,0705, 22.7500,-158.0083, 4750,     11.3,  26.3251,  35.0333,2,-999.0000,5,    214.9,2,    204.4,2,     1.29,2,     0.00,2,     0.06,2,      4,-999.000,  -999.0, 26.3226
     32MW030_1,  PRS2,     2,  6,     14,     14,3,19910918,0705, 22.7500,-158.0083, 4750,     11.3,  26.3287,  35.0331,2,  35.0336,2,    215.0,2,    202.9,2,  -999.00,5,  -999.00,5,  -999.00,5,      4,-999.000,  -999.0, 26.3262
     32MW030_1,  PRS2,     2,  6,     13,     13,2,19910918,0705, 22.7500,-158.0083, 4750,     31.0,  26.2800,  35.0279,2,  35.0281,2,    216.5,2,   -999.0,5,  -999.00,5,  -999.00,5,  -999.00,5,     23,-999.000,  -999.0, 26.2731
     32MW030_1,  PRS2,     2,  6,     12,     12,2,19910918,0705, 22.7500,-158.0083, 4750,     31.1,  26.2804,  35.0278,2,  35.0377,2,    216.6,2,    203.1,2,     1.29,2,     0.00,2,     0.06,2,     24,-999.000,  -999.0, 26.2735
     32MW030_1,  PRS2,     2,  6,     11,     11,2,19910918,0705, 22.7500,-158.0083, 4750,     41.1,  26.2750,  35.0265,2,  35.0259,2,    213.5,2,    205.2,2,     2.36,2,     0.00,2,     0.07,2,     33,-999.000,  -999.0, 26.2657
     32MW030_1,  PRS2,     2,  6,     10,     10,2,19910918,0705, 22.7500,-158.0083, 4750,     50.8,  26.2673,  35.0252,2,  35.0265,2,    214.9,2,    205.5,2,     2.15,2,     0.00,2,     0.06,2,     44,-999.000,  -999.0, 26.2559
     32MW030_1,  PRS2,     2,  6,      8,      8,2,19910918,0705, 22.7500,-158.0083, 4750,     67.7,  24.9140,  35.0249,2,  35.0285,2,    226.9,2,    224.7,2,     1.50,2,     0.00,2,     0.06,2,     60,-999.000,  -999.0, 24.8994
     32MW030_1,  PRS2,     2,  6,      9,      9,2,19910918,0705, 22.7500,-158.0083, 4750,     67.8,  24.9276,  35.0204,2,-999.0000,5,    226.6,2,   -999.0,5,  -999.00,5,  -999.00,5,  -999.00,5,     61,-999.000,  -999.0, 24.9130
     32MW030_1,  PRS2,     2,  6,      7,      7,2,19910918,0705, 22.7500,-158.0083, 4750,     83.3,  23.5934,  35.0768,2,  35.0759,2,    227.4,2,    223.7,2,     1.29,2,     0.00,2,     0.06,2,     76,-999.000,  -999.0, 23.5761
     32MW030_1,  PRS2,     2,  6,      6,      6,2,19910918,0705, 22.7500,-158.0083, 4750,     95.6,  23.0145,  35.0839,2,  35.0820,2,    220.0,2,    220.4,2,     1.29,2,     0.00,2,     0.10,2,     87,-999.000,  -999.0, 22.9949
     32MW030_1,  PRS2,     2,  6,      5,     26,2,19910918,0705, 22.7500,-158.0083, 4750,    105.4,  22.6988,  35.1168,2,  35.1200,2,    216.5,2,    216.6,2,     1.18,2,     0.00,2,     0.09,2,     97,-999.000,  -999.0, 22.6775
     32MW030_1,  PRS2,     2,  6,      4,     25,2,19910918,0705, 22.7500,-158.0083, 4750,    141.3,  21.8075,  35.2474,2,  35.2512,2,    205.9,2,   -999.0,5,  -999.00,5,  -999.00,5,  -999.00,5,    132,-999.000,  -999.0, 21.7797
     32MW030_1,  PRS2,     2,  6,      3,      3,2,19910918,0705, 22.7500,-158.0083, 4750,    499.8,   7.3803,  34.0645,2,  34.0648,2,    122.1,2,   -999.0,5,  -999.00,5,  -999.00,5,  -999.00,5,    494,-999.000,  -999.0,  7.3318
     32MW030_1,  PRS2,     2,  6,      1,      1,2,19910918,0705, 22.7500,-158.0083, 4750,   1024.5,   4.0605,  34.4770,2,  34.4773,2,     41.7,2,   -999.0,5,  -999.00,5,  -999.00,5,  -999.00,5,   1022,-999.000,  -999.0,  3.9824
     32MW030_1,  PRS2,     2,  6,      2,      2,2,19910918,0705, 22.7500,-158.0083, 4750,   1024.8,   4.0553,  34.4774,2,-999.0000,5,     41.7,2,   -999.0,5,  -999.00,5,  -999.00,5,  -999.00,5,   1022,-999.000,  -999.0,  3.9772
     32MW030_1,  PRS2,     2,  7,     19,     19,2,19910918,0937, 22.7450,-158.0050, 4750,     20.9,  26.3124,  35.0257,2,-999.0000,9,    220.3,1,   -999.0,9,  -999.00,9,  -999.00,9,  -999.00,9,     16,-999.000,  -999.0, 26.3077
     32MW030_1,  PRS2,     2,  7,     18,     18,2,19910918,0937, 22.7450,-158.0050, 4750,    148.7,  21.6514,  35.2442,2,-999.0000,9,    205.9,1,   -999.0,9,  -999.00,9,  -999.00,9,  -999.00,9,    144,-999.000,  -999.0, 21.6223
     32MW030_1,  PRS2,     2,  7,     17,     17,2,19910918,0937, 22.7450,-158.0050, 4750,    505.8,   7.6328,  34.0632,2,-999.0000,9,    130.2,1,   -999.0,9,  -999.00,9,  -999.00,9,  -999.00,9,    502,-999.000,  -999.0,  7.5827
     32MW030_1,  PRS2,     2,  7,     16,     16,2,19910918,0937, 22.7450,-158.0050, 4750,   1025.5,   4.0808,  34.4762,2,-999.0000,9,     42.0,1,   -999.0,9,  -999.00,9,  -999.00,9,  -999.00,9,   1024,-999.000,  -999.0,  4.0024
     32MW030_1,  PRS2,     2,  8,      4,     25,2,19910918,1159, 22.7550,-158.0083, 4750,     13.8,  26.3098,  35.0280,2,  35.0304,2,    225.3,1,   -999.0,9,  -999.00,9,  -999.00,9,  -999.00,9,     11,-999.000,  -999.0, 26.3067
     32MW030_1,  PRS2,     2,  8,      3,      3,2,19910918,1159, 22.7550,-158.0083, 4750,    146.7,  21.6299,  35.2440,2,  35.2429,2,    204.1,1,   -999.0,9,  -999.00,9,  -999.00,9,  -999.00,9,    145,-999.000,  -999.0, 21.6012
     32MW030_1,  PRS2,     2,  8,      2,      2,2,19910918,1159, 22.7550,-158.0083, 4750,    501.1,   7.4937,  34.0642,2,  34.0609,2,    120.0,1,   -999.0,9,  -999.00,9,  -999.00,9,  -999.00,9,    499,-999.000,  -999.0,  7.4446
     32MW030_1,  PRS2,     2,  8,      1,      1,2,19910918,1159, 22.7550,-158.0083, 4750,   1023.9,   4.1649,  34.4737,2,  34.4730,2,     41.5,1,   -999.0,9,  -999.00,9,  -999.00,9,  -999.00,9,   1025,-999.000,  -999.0,  4.0860