BOTTLE,20020809WHPSIObren
EXPOCODE,SECT_ID,STNNBR,CASTNO,SAMPNO,BTLNBR,BTLNBR_FLAG_W,DATE,TIME,LATITUDE,LONGITUDE,DEPTH,CTDPRS,CTDTMP,CTDSAL,CTDSAL_FLAG_W,SALNTY,SALNTY_FLAG_W,CTDOXY,CTDOXY_FLAG_W,OXYGEN,OXYGEN_FLAG_W,SILCAT,SILCAT_FLAG_W,NO2+NO3,NO2+NO3_FLAG_W,PHSPHT,PHSPHT_FLAG_W,CTDRAW,REVTMP,REVPRS,THETA
,,,,,,,,,,,,DBAR,ITS-90,PSS-78,,PSS-78,,UMOL/KG,,UMOL/KG,,UMOL/KG,,UMOL/KG,,UMOL/KG,,,DEG C,DBAR,ITS-90
     32MW030_1,  PRS2,     2, 13,     20,     20,2,19910919,0236, 22.6467,-158.0300, 4750,     16.8,  26.3406,  35.0267,2,-999.0000,5,    212.1,1,   -999.0,9,  -999.00,9,  -999.00,9,  -999.00,9,     11,-999.000,  -999.0, 26.3368
     32MW030_1,  PRS2,     2, 13,     19,     19,2,19910919,0236, 22.6467,-158.0300, 4750,     16.9,  26.3400,  35.0264,2,-999.0000,5,    211.9,1,   -999.0,9,  -999.00,9,  -999.00,9,  -999.00,9,     11,-999.000,  -999.0, 26.3362
     32MW030_1,  PRS2,     2, 13,     17,     17,2,19910919,0236, 22.6467,-158.0300, 4750,     16.9,  26.3351,  35.0260,2,-999.0000,5,    211.8,1,   -999.0,9,  -999.00,9,  -999.00,9,  -999.00,9,     12,-999.000,  -999.0, 26.3313
     32MW030_1,  PRS2,     2, 13,     18,     18,2,19910919,0236, 22.6467,-158.0300, 4750,     17.0,  26.3368,  35.0258,2,-999.0000,5,    211.8,1,   -999.0,9,  -999.00,9,  -999.00,9,  -999.00,9,     11,-999.000,  -999.0, 26.3329
     32MW030_1,  PRS2,     2, 13,     16,     16,2,19910919,0236, 22.6467,-158.0300, 4750,     17.0,  26.3350,  35.0257,2,-999.0000,5,    211.9,1,   -999.0,9,  -999.00,9,  -999.00,9,  -999.00,9,     10,-999.000,  -999.0, 26.3311
     32MW030_1,  PRS2,     2, 13,     15,     15,2,19910919,0236, 22.6467,-158.0300, 4750,     17.0,  26.3358,  35.0254,2,  35.0283,2,    212.1,1,   -999.0,9,  -999.00,9,  -999.00,9,  -999.00,9,     11,-999.000,  -999.0, 26.3320
     32MW030_1,  PRS2,     2, 13,     14,     14,2,19910919,0236, 22.6467,-158.0300, 4750,    147.8,  22.0525,  35.2259,2,  35.2289,2,    208.5,1,   -999.0,9,  -999.00,9,  -999.00,9,  -999.00,9,    142,-999.000,  -999.0, 22.0232
     32MW030_1,  PRS2,     2, 13,     13,     13,2,19910919,0236, 22.6467,-158.0300, 4750,    503.2,   7.2942,  34.0829,2,  34.0808,2,    103.9,1,   -999.0,9,  -999.00,9,  -999.00,9,  -999.00,9,    499,-999.000,  -999.0,  7.2456
     32MW030_1,  PRS2,     2, 13,     10,     10,2,19910919,0236, 22.6467,-158.0300, 4750,   1015.2,   4.0304,  34.4609,2,-999.0000,5,     41.6,1,   -999.0,9,  -999.00,9,  -999.00,9,  -999.00,9,   1013,-999.000,  -999.0,  3.9533
     32MW030_1,  PRS2,     2, 13,     11,     11,2,19910919,0236, 22.6467,-158.0300, 4750,   1015.3,   4.0328,  34.4607,2,-999.0000,5,     41.7,1,   -999.0,9,  -999.00,9,  -999.00,9,  -999.00,9,   1014,-999.000,  -999.0,  3.9556
     32MW030_1,  PRS2,     2, 13,      9,      9,2,19910919,0236, 22.6467,-158.0300, 4750,   1015.3,   4.0282,  34.4617,2,-999.0000,5,     41.6,1,   -999.0,9,  -999.00,9,  -999.00,9,  -999.00,9,   1013,-999.000,  -999.0,  3.9511
     32MW030_1,  PRS2,     2, 13,     12,     12,2,19910919,0236, 22.6467,-158.0300, 4750,   1015.5,   4.0325,  34.4606,2,-999.0000,5,     41.6,1,   -999.0,9,  -999.00,9,  -999.00,9,  -999.00,9,   1013,-999.000,  -999.0,  3.9553
     32MW030_1,  PRS2,     2, 13,      8,      8,2,19910919,0236, 22.6467,-158.0300, 4750,   1016.0,   4.0230,  34.4634,2,-999.0000,5,     42.0,1,   -999.0,9,  -999.00,9,  -999.00,9,  -999.00,9,   1015,-999.000,  -999.0,  3.9459
     32MW030_1,  PRS2,     2, 13,      7,      7,2,19910919,0236, 22.6467,-158.0300, 4750,   1017.2,   4.0183,  34.4635,2,-999.0000,5,     42.0,1,   -999.0,9,  -999.00,9,  -999.00,9,  -999.00,9,   1015,-999.000,  -999.0,  3.9411
     32MW030_1,  PRS2,     2, 13,      6,      6,2,19910919,0236, 22.6467,-158.0300, 4750,   1017.8,   4.0165,  34.4639,2,-999.0000,5,     42.1,1,   -999.0,9,  -999.00,9,  -999.00,9,  -999.00,9,   1015,-999.000,  -999.0,  3.9393
     32MW030_1,  PRS2,     2, 13,      5,     26,2,19910919,0236, 22.6467,-158.0300, 4750,   1018.6,   4.0154,  34.4638,2,-999.0000,5,     42.1,1,   -999.0,9,  -999.00,9,  -999.00,9,  -999.00,9,   1017,-999.000,  -999.0,  3.9381
     32MW030_1,  PRS2,     2, 13,      4,     25,2,19910919,0236, 22.6467,-158.0300, 4750,   1019.2,   4.0137,  34.4640,2,-999.0000,5,     42.2,1,   -999.0,9,  -999.00,9,  -999.00,9,  -999.00,9,   1018,-999.000,  -999.0,  3.9364
     32MW030_1,  PRS2,     2, 13,      3,      3,2,19910919,0236, 22.6467,-158.0300, 4750,   1019.4,   4.0087,  34.4649,2,-999.0000,5,     43.0,1,   -999.0,9,  -999.00,9,  -999.00,9,  -999.00,9,   1018,-999.000,  -999.0,  3.9314
     32MW030_1,  PRS2,     2, 13,      2,      2,2,19910919,0236, 22.6467,-158.0300, 4750,   1019.8,   4.0065,  34.4652,2,-999.0000,5,     42.5,1,   -999.0,9,  -999.00,9,  -999.00,9,  -999.00,9,   1018,-999.000,  -999.0,  3.9292
     32MW030_1,  PRS2,     2, 13,      1,      1,2,19910919,0236, 22.6467,-158.0300, 4750,   1019.8,   4.0069,  34.4652,2,  34.4657,2,     42.5,1,   -999.0,9,  -999.00,9,  -999.00,9,  -999.00,9,   1018,-999.000,  -999.0,  3.9296
     32MW030_1,  PRS2,     2, 14,      4,     25,2,19910919,0609, 22.7500,-157.9983, 4750,     18.5,  26.3330,  35.0090,2,  35.0102,2,    219.2,1,   -999.0,9,  -999.00,9,  -999.00,9,  -999.00,9,     11,-999.000,  -999.0, 26.3288
     32MW030_1,  PRS2,     2, 14,      3,      3,2,19910919,0609, 22.7500,-157.9983, 4750,    174.2,  21.1181,  35.2177,2,  35.2299,2,    203.7,1,   -999.0,9,  -999.00,9,  -999.00,9,  -999.00,9,    168,-999.000,  -999.0, 21.0846
     32MW030_1,  PRS2,     2, 14,      2,      2,2,19910919,0609, 22.7500,-157.9983, 4750,    492.9,   7.3079,  34.0678,2,  34.0697,2,    116.4,1,   -999.0,9,  -999.00,9,  -999.00,9,  -999.00,9,    488,-999.000,  -999.0,  7.2603
     32MW030_1,  PRS2,     2, 14,      1,      1,2,19910919,0609, 22.7500,-157.9983, 4750,   1017.7,   4.0941,  34.4766,2,  34.4759,2,     42.2,1,   -999.0,9,  -999.00,9,  -999.00,9,  -999.00,9,   1016,-999.000,  -999.0,  4.0163
     32MW030_1,  PRS2,     2, 15,     15,     15,3,19910919,0846, 22.7383,-158.0050, 4750,     13.5,  26.4159,  35.0093,2,  35.0076,2,    221.4,1,   -999.0,9,  -999.00,9,  -999.00,9,  -999.00,9,      6,-999.000,  -999.0, 26.4129
     32MW030_1,  PRS2,     2, 15,     16,     16,2,19910919,0846, 22.7383,-158.0050, 4750,     13.6,  26.4248,  35.0094,2,-999.0000,5,    221.9,1,   -999.0,9,  -999.00,9,  -999.00,9,  -999.00,9,      6,-999.000,  -999.0, 26.4217
     32MW030_1,  PRS2,     2, 15,     11,     11,2,19910919,0846, 22.7383,-158.0050, 4750,     32.8,  26.2948,  35.0062,2,  35.0056,2,    220.4,1,   -999.0,9,  -999.00,9,  -999.00,9,  -999.00,9,     26,-999.000,  -999.0, 26.2874
     32MW030_1,  PRS2,     2, 15,     13,     13,2,19910919,0846, 22.7383,-158.0050, 4750,     33.0,  26.2949,  35.0060,2,-999.0000,5,    220.3,1,   -999.0,9,  -999.00,9,  -999.00,9,  -999.00,9,     25,-999.000,  -999.0, 26.2874
     32MW030_1,  PRS2,     2, 15,     14,     14,2,19910919,0846, 22.7383,-158.0050, 4750,     33.1,  26.2956,  35.0061,2,-999.0000,5,    220.4,1,   -999.0,9,  -999.00,9,  -999.00,9,  -999.00,9,     26,-999.000,  -999.0, 26.2881
     32MW030_1,  PRS2,     2, 15,     12,     12,2,19910919,0846, 22.7383,-158.0050, 4750,     33.1,  26.2947,  35.0058,2,-999.0000,5,    220.4,1,   -999.0,9,  -999.00,9,  -999.00,9,  -999.00,9,     26,-999.000,  -999.0, 26.2873
     32MW030_1,  PRS2,     2, 15,     10,     10,2,19910919,0846, 22.7383,-158.0050, 4750,     52.2,  25.3589,  35.0213,2,  35.0131,2,    224.1,1,   -999.0,9,  -999.00,9,  -999.00,9,  -999.00,9,     46,-999.000,  -999.0, 25.3475
     32MW030_1,  PRS2,     2, 15,      9,      9,2,19910919,0846, 22.7383,-158.0050, 4750,     81.6,  23.3462,  35.0713,2,  35.0688,2,    229.0,1,   -999.0,9,  -999.00,9,  -999.00,9,  -999.00,9,     74,-999.000,  -999.0, 23.3293
     32MW030_1,  PRS2,     2, 15,      8,      8,2,19910919,0846, 22.7383,-158.0050, 4750,    107.2,  22.3169,  35.1663,2,-999.0000,5,    213.0,1,   -999.0,9,  -999.00,9,  -999.00,9,  -999.00,9,    100,-999.000,  -999.0, 22.2955
     32MW030_1,  PRS2,     2, 15,      7,      7,2,19910919,0846, 22.7383,-158.0050, 4750,    107.3,  22.3071,  35.1678,2,  35.1649,2,    212.4,1,   -999.0,9,  -999.00,9,  -999.00,9,  -999.00,9,    100,-999.000,  -999.0, 22.2856
     32MW030_1,  PRS2,     2, 15,      6,      6,2,19910919,0846, 22.7383,-158.0050, 4750,    132.5,  21.8380,  35.2326,2,  35.2309,2,    207.8,1,   -999.0,9,  -999.00,9,  -999.00,9,  -999.00,9,    125,-999.000,  -999.0, 21.8119
     32MW030_1,  PRS2,     2, 15,      5,     26,2,19910919,0846, 22.7383,-158.0050, 4750,    157.6,  21.2562,  35.2341,2,-999.0000,5,    201.0,1,   -999.0,9,  -999.00,9,  -999.00,9,  -999.00,9,    150,-999.000,  -999.0, 21.2258
     32MW030_1,  PRS2,     2, 15,      4,     25,2,19910919,0846, 22.7383,-158.0050, 4750,    157.6,  21.2636,  35.2352,2,  35.2315,2,    201.1,1,   -999.0,9,  -999.00,9,  -999.00,9,  -999.00,9,    151,-999.000,  -999.0, 21.2332
     32MW030_1,  PRS2,     2, 15,      3,      3,2,19910919,0846, 22.7383,-158.0050, 4750,    186.2,  20.0458,  35.1737,2,  35.1799,2,    196.3,1,   -999.0,9,  -999.00,9,  -999.00,9,  -999.00,9,    180,-999.000,  -999.0, 20.0113
     32MW030_1,  PRS2,     2, 15,      2,      2,2,19910919,0846, 22.7383,-158.0050, 4750,    505.8,   7.4588,  34.0626,2,  34.0620,2,    122.4,1,   -999.0,9,  -999.00,9,  -999.00,9,  -999.00,9,    501,-999.000,  -999.0,  7.4094
     32MW030_1,  PRS2,     2, 15,      1,      1,2,19910919,0846, 22.7383,-158.0050, 4750,   1015.3,   4.0883,  34.4756,2,  34.4767,2,     42.4,1,   -999.0,9,  -999.00,9,  -999.00,9,  -999.00,9,   1013,-999.000,  -999.0,  4.0107
     32MW030_1,  PRS2,     2, 16,     12,     12,2,19910919,1155, 22.7517,-157.9983, 4750,      9.5,  26.3814,  35.0111,2,  35.0102,2,    218.0,1,   -999.0,9,  -999.00,9,  -999.00,9,  -999.00,9,      4,-999.000,  -999.0, 26.3792
     32MW030_1,  PRS2,     2, 16,     11,     11,2,19910919,1155, 22.7517,-157.9983, 4750,     39.6,  26.3127,  35.0029,2,  35.0035,2,    216.9,1,   -999.0,9,  -999.00,9,  -999.00,9,  -999.00,9,     34,-999.000,  -999.0, 26.3038
     32MW030_1,  PRS2,     2, 16,     10,     10,2,19910919,1155, 22.7517,-157.9983, 4750,     64.6,  24.3367,  35.0395,2,  35.0399,2,    241.6,1,   -999.0,9,  -999.00,9,  -999.00,9,  -999.00,9,     59,-999.000,  -999.0, 24.3229
     32MW030_1,  PRS2,     2, 16,      9,      9,2,19910919,1155, 22.7517,-157.9983, 4750,     79.4,  23.5685,  35.0678,2,  35.0675,2,    229.8,1,   -999.0,9,  -999.00,9,  -999.00,9,  -999.00,9,     74,-999.000,  -999.0, 23.5520
     32MW030_1,  PRS2,     2, 16,      8,      8,2,19910919,1155, 22.7517,-157.9983, 4750,     99.6,  22.6538,  35.1250,2,  35.1210,2,    220.0,1,   -999.0,9,  -999.00,9,  -999.00,9,  -999.00,9,     95,-999.000,  -999.0, 22.6336
     32MW030_1,  PRS2,     2, 16,      7,      7,2,19910919,1155, 22.7517,-157.9983, 4750,    108.2,  22.4202,  35.1598,2,-999.0000,5,    215.6,1,   -999.0,9,  -999.00,9,  -999.00,9,  -999.00,9,    103,-999.000,  -999.0, 22.3985
     32MW030_1,  PRS2,     2, 16,      6,      6,2,19910919,1155, 22.7517,-157.9983, 4750,    128.3,  21.9168,  35.2268,2,  35.2260,2,    205.7,1,   -999.0,9,  -999.00,9,  -999.00,9,  -999.00,9,    123,-999.000,  -999.0, 21.8915
     32MW030_1,  PRS2,     2, 16,      5,     26,2,19910919,1155, 22.7517,-157.9983, 4750,    153.5,  21.2320,  35.2361,2,  35.1964,4,    201.6,1,   -999.0,9,  -999.00,9,  -999.00,9,  -999.00,9,    149,-999.000,  -999.0, 21.2024
     32MW030_1,  PRS2,     2, 16,      4,     25,2,19910919,1155, 22.7517,-157.9983, 4750,    178.4,  20.3058,  35.1962,2,  35.1962,2,    195.9,1,   -999.0,9,  -999.00,9,  -999.00,9,  -999.00,9,    173,-999.000,  -999.0, 20.2724
     32MW030_1,  PRS2,     2, 16,      3,      3,2,19910919,1155, 22.7517,-157.9983, 4750,    207.9,  19.5236,  35.1325,2,  35.1348,2,    194.6,1,   -999.0,9,  -999.00,9,  -999.00,9,  -999.00,9,    204,-999.000,  -999.0, 19.4858
     32MW030_1,  PRS2,     2, 16,      2,      2,2,19910919,1155, 22.7517,-157.9983, 4750,    505.8,   7.7092,  34.0651,2,  34.0663,2,    127.3,1,   -999.0,9,  -999.00,9,  -999.00,9,  -999.00,9,    503,-999.000,  -999.0,  7.6588
     32MW030_1,  PRS2,     2, 16,      1,      1,2,19910919,1155, 22.7517,-157.9983, 4750,   1024.9,   4.0944,  34.4754,2,  34.4761,2,     42.5,1,   -999.0,9,  -999.00,9,  -999.00,9,  -999.00,9,   1023,-999.000,  -999.0,  4.0160
     32MW030_1,  PRS2,     2, 17,     21,     21,2,19910919,1505, 22.7417,-158.0067, 4750,      5.6,  26.3335,  35.0076,2,-999.0000,5,    216.3,1,   -999.0,9,  -999.00,9,  -999.00,9,  -999.00,9,      0,-999.000,  -999.0, 26.3322
     32MW030_1,  PRS2,     2, 17,     22,     22,2,19910919,1505, 22.7417,-158.0067, 4750,      6.0,  26.3369,  35.0076,2,  35.0053,2,    215.1,1,   -999.0,9,  -999.00,9,  -999.00,9,  -999.00,9,      0,-999.000,  -999.0, 26.3355
     32MW030_1,  PRS2,     2, 17,     20,     20,2,19910919,1505, 22.7417,-158.0067, 4750,     15.4,  26.3407,  35.0059,2,-999.0000,5,    216.2,1,   -999.0,9,  -999.00,9,  -999.00,9,  -999.00,9,      8,-999.000,  -999.0, 26.3373
     32MW030_1,  PRS2,     2, 17,     19,     19,2,19910919,1505, 22.7417,-158.0067, 4750,     15.6,  26.3443,  35.0053,2,  35.0035,2,    216.1,1,   -999.0,9,  -999.00,9,  -999.00,9,  -999.00,9,      9,-999.000,  -999.0, 26.3408
     32MW030_1,  PRS2,     2, 17,     17,     17,2,19910919,1505, 22.7417,-158.0067, 4750,     25.6,  26.3419,  35.0049,2,  35.0049,2,    216.0,1,   -999.0,9,  -999.00,9,  -999.00,9,  -999.00,9,     20,-999.000,  -999.0, 26.3362
     32MW030_1,  PRS2,     2, 17,     18,     18,2,19910919,1505, 22.7417,-158.0067, 4750,     25.7,  26.3423,  35.0052,2,-999.0000,5,    216.1,1,   -999.0,9,  -999.00,9,  -999.00,9,  -999.00,9,     20,-999.000,  -999.0, 26.3365
     32MW030_1,  PRS2,     2, 17,     15,     15,2,19910919,1505, 22.7417,-158.0067, 4750,     34.7,  26.3445,  35.0047,2,  35.0045,2,    215.6,1,   -999.0,9,  -999.00,9,  -999.00,9,  -999.00,9,     28,-999.000,  -999.0, 26.3367
     32MW030_1,  PRS2,     2, 17,     16,     16,2,19910919,1505, 22.7417,-158.0067, 4750,     34.8,  26.3454,  35.0049,2,-999.0000,5,    215.9,1,   -999.0,9,  -999.00,9,  -999.00,9,  -999.00,9,     27,-999.000,  -999.0, 26.3375
     32MW030_1,  PRS2,     2, 17,     14,     14,2,19910919,1505, 22.7417,-158.0067, 4750,     49.6,  26.3054,  34.9995,2,-999.0000,5,    213.8,1,   -999.0,9,  -999.00,9,  -999.00,9,  -999.00,9,     43,-999.000,  -999.0, 26.2942
     32MW030_1,  PRS2,     2, 17,     13,     13,2,19910919,1505, 22.7417,-158.0067, 4750,     49.7,  26.3080,  35.0004,2,  35.0003,2,    213.6,1,   -999.0,9,  -999.00,9,  -999.00,9,  -999.00,9,     43,-999.000,  -999.0, 26.2968
     32MW030_1,  PRS2,     2, 17,     12,     12,2,19910919,1505, 22.7417,-158.0067, 4750,     76.9,  23.7332,  35.0627,2,  35.0610,2,    230.9,1,   -999.0,9,  -999.00,9,  -999.00,9,  -999.00,9,     71,-999.000,  -999.0, 23.7171
     32MW030_1,  PRS2,     2, 17,     10,     10,2,19910919,1505, 22.7417,-158.0067, 4750,    103.0,  23.0421,  35.0834,2,  35.0828,2,    221.9,1,   -999.0,9,  -999.00,9,  -999.00,9,  -999.00,9,     96,-999.000,  -999.0, 23.0210
     32MW030_1,  PRS2,     2, 17,     11,     11,2,19910919,1505, 22.7417,-158.0067, 4750,    103.5,  22.9926,  35.0854,2,-999.0000,5,    221.6,1,   -999.0,9,  -999.00,9,  -999.00,9,  -999.00,9,     97,-999.000,  -999.0, 22.9714
     32MW030_1,  PRS2,     2, 17,      9,      9,2,19910919,1505, 22.7417,-158.0067, 4750,    153.6,  21.5718,  35.2329,2,-999.0000,5,    205.4,1,   -999.0,9,  -999.00,9,  -999.00,9,  -999.00,9,    146,-999.000,  -999.0, 21.5418
     32MW030_1,  PRS2,     2, 17,      8,      8,2,19910919,1505, 22.7417,-158.0067, 4750,    153.7,  21.6051,  35.2296,2,  35.2323,2,    204.9,1,   -999.0,9,  -999.00,9,  -999.00,9,  -999.00,9,    147,-999.000,  -999.0, 21.5751
     32MW030_1,  PRS2,     2, 17,      7,      7,2,19910919,1505, 22.7417,-158.0067, 4750,    205.7,  19.8635,  35.1603,2,-999.0000,5,    200.2,1,   -999.0,9,  -999.00,9,  -999.00,9,  -999.00,9,    198,-999.000,  -999.0, 19.8256
     32MW030_1,  PRS2,     2, 17,      6,      6,2,19910919,1505, 22.7417,-158.0067, 4750,    205.7,  19.8615,  35.1607,2,  35.1584,2,    200.1,1,   -999.0,9,  -999.00,9,  -999.00,9,  -999.00,9,    199,-999.000,  -999.0, 19.8236
     32MW030_1,  PRS2,     2, 17,      5,     26,2,19910919,1505, 22.7417,-158.0067, 4750,    257.1,  16.9425,  34.8179,2,  34.8223,2,    196.3,1,   -999.0,9,  -999.00,9,  -999.00,9,  -999.00,9,    250,-999.000,  -999.0, 16.9001
     32MW030_1,  PRS2,     2, 17,      3,      3,2,19910919,1505, 22.7417,-158.0067, 4750,    310.8,  13.9166,  34.4350,2,  34.4347,2,    192.6,1,   -999.0,9,  -999.00,9,  -999.00,9,  -999.00,9,    305,-999.000,  -999.0, 13.8719
     32MW030_1,  PRS2,     2, 17,      4,     25,2,19910919,1505, 22.7417,-158.0067, 4750,    311.4,  13.9064,  34.4338,2,-999.0000,5,    192.2,1,   -999.0,9,  -999.00,9,  -999.00,9,  -999.00,9,    305,-999.000,  -999.0, 13.8617
     32MW030_1,  PRS2,     2, 17,      2,      2,2,19910919,1505, 22.7417,-158.0067, 4750,    512.6,   6.9550,  34.0681,2,  34.0685,2,     98.0,1,   -999.0,9,  -999.00,9,  -999.00,9,  -999.00,9,    508,-999.000,  -999.0,  6.9068
     32MW030_1,  PRS2,     2, 17,      1,      1,2,19910919,1505, 22.7417,-158.0067, 4750,    996.1,   4.1506,  34.4734,2,  34.4745,2,     41.6,1,   -999.0,9,  -999.00,9,  -999.00,9,  -999.00,9,    994,-999.000,  -999.0,  4.0741