BOTTLE,20100423CCHDOSIODBK
EXPOCODE,SECT_ID,STNNBR,CASTNO,SAMPNO,BTLNBR,BTLNBR_FLAG_W,DATE,TIME,LATITUDE,LONGITUDE,DEPTH,CTDPRS,CTDTMP,CTDSAL,CTDSAL_FLAG_W,SALNTY,SALNTY_FLAG_W,CTDOXY,CTDOXY_FLAG_W,OXYGEN,OXYGEN_FLAG_W,SILCAT,SILCAT_FLAG_W,NITRAT,NITRAT_FLAG_W,NITRIT,NITRIT_FLAG_W,PHSPHT,PHSPHT_FLAG_W,DOC,DOC_FLAG_W,THETA,NH4,NH4_FLAG_W,UREA,UREA_FLAG_W,CHLORA,CHLORA_FLAG_W,PPHYTN,PPHYTN_FLAG_W,FLUOR,FLUOR_FLAG_W,HAARDT,HAARDT_FLAG_W,PAR,PAR_FLAG_W,SPAR,SPAR_FLAG_W
,,,,,,,,,,,METERS,DBAR,ITS-90,PSS-78,,PSS-78,,UMOL/KG,,UMOL/KG,,UMOL/KG,,UMOL/KG,,UMOL/KG,,UMOL/KG,,UMOL/KG,,DEG C,UMOL/KG,,UMOL/KG,,UG/KG,,UG/KG,,MG/M^3,,VOLTS,,VOLTS,,VOLTS,
320620030705, SBI, 273, 1, 106, 6, 2, 20030810, 2044, 71.8605, -156.3513, 70,      1.4,  -0.9032,  28.3160, 2,  28.3694, 2,    339.5, 2,    378.9, 2,     6.10, 2,     0.07, 2,     0.00, 2,     0.71, 2,  -999.00, 9,  -0.9032,     0.13, 2, 0, 2,  -999.00, 9,  -999.00, 9,   0.8300, 2, 0.164, 2, 4.017, 2, 4.465, 2
320620030705, SBI, 273, 1, 105, 5, 2, 20030810, 2043, 71.8605, -156.3513, 70,     12.4,  -0.9179,  28.4341, 2, -999.0000, 9,    340.6, 2,    388.2, 2,    10.28, 2,     0.11, 2,     0.01, 2,     0.80, 2,  -999.00, 9,  -0.9181,     0.25, 2, 0.03, 2,  -999.00, 9,  -999.00, 9,   0.7880, 2, 0.165, 2, 3.286, 2, 4.591, 2
320620030705, SBI, 273, 1, 104, 4, 2, 20030810, 2041, 71.8605, -156.3513, 70,     27.4,  -0.5572,  31.3520, 2, -999.0000, 9,    369.1, 2,    403.2, 2,    13.84, 2,     0.26, 2,     0.02, 2,     0.96, 2,  -999.00, 9,  -0.5579,     0.18, 2, 0.06, 2,  -999.00, 9,  -999.00, 9,   1.3680, 2, 0.229, 2, 2.845, 2, 4.377, 2
320620030705, SBI, 273, 1, 103, 3, 2, 20030810, 2040, 71.8605, -156.3513, 70,     37.5,  -0.9356,  31.7681, 2, -999.0000, 9,    327.7, 2,    354.3, 2,    21.03, 2,     4.54, 2,     0.17, 2,     1.34, 2,  -999.00, 9,  -0.9364,     1.64, 2, 0.12, 2,  -999.00, 9,  -999.00, 9,   1.5980, 2, 0.442, 2, 2.086, 2, 4.471, 2
320620030705, SBI, 273, 1, 102, 2, 2, 20030810, 2038, 71.8605, -156.3513, 70,     52.6,  -1.3466,  32.0571, 2, -999.0000, 9,    312.0, 2,    339.0, 2,    24.52, 2,     6.17, 2,     0.19, 2,     1.45, 2,  -999.00, 9,  -1.3476,     1.33, 2, 0.07, 2,  -999.00, 9,  -999.00, 9,   1.0950, 2, 0.201, 2, 1.295, 2, 4.484, 2
320620030705, SBI, 273, 1, 101, 1, 2, 20030810, 2036, 71.8605, -156.3513, 70,     64.9,  -1.4051,  32.1640, 2,  32.1543, 2,    301.1, 2,    333.2, 2,    26.22, 2,     6.75, 2,     0.19, 2,     1.51, 2,    74.10, 2,  -1.4063,     1.25, 2, 0.06, 2,  -999.00, 9,  -999.00, 9,   0.9480, 2, 0.192, 2, 0.696, 2, 4.657, 2
320620030705, SBI, 274, 1, 106, 6, 2, 20030810, 2219, 71.8819, -156.0933, 78,      1.4,  -0.8611,  28.2248, 2,  28.2167, 2,    339.3, 2,    378.9, 2,     5.12, 2,     0.10, 2,     0.00, 2,     0.70, 2,  -999.00, 9,  -0.8611,     0.12, 2, 0, 2,     0.15, 2,     0.03, 2,   0.5920, 2, 0.163, 2, 4.074, 2, 4.315, 2
320620030705, SBI, 274, 1, 105, 5, 2, 20030810, 2217, 71.8819, -156.0933, 78,     12.3,  -0.8787,  28.2341, 2, -999.0000, 9,    336.1, 2,    382.7, 2,     6.61, 2,     0.09, 2,     0.00, 2,     0.74, 2,  -999.00, 9,  -0.8789,     0.20, 2, 0.02, 2,     0.11, 2,     0.02, 2,   0.5980, 2, 0.169, 2, 3.504, 2, 4.300, 2
320620030705, SBI, 274, 1, 104, 4, 2, 20030810, 2215, 71.8819, -156.0933, 78,     22.3,  -0.3602,  29.9698, 2, -999.0000, 9,    349.1, 2,    392.5, 2,     9.90, 2,     0.13, 2,     0.01, 2,     0.81, 2,  -999.00, 9,  -0.3607,     0.31, 2, 0.05, 2,     0.23, 2,     0.01, 2,   0.8320, 2, 0.183, 2, 3.225, 2, 4.281, 2
320620030705, SBI, 274, 1, 103, 3, 2, 20030810, 2212, 71.8819, -156.0933, 78,     32.3,  -0.4437,  31.5722, 2, -999.0000, 9,    338.0, 2,    366.8, 2,    18.98, 2,     3.22, 2,     0.14, 2,     1.23, 2,  -999.00, 9,  -0.4445,     1.13, 2, 0.14, 2,     2.57, 2,     0.06, 2,   1.8720, 2, 0.470, 2, 2.681, 2, 4.358, 2
320620030705, SBI, 274, 1, 102, 2, 2, 20030810, 2209, 71.8819, -156.0933, 78,     57.3,  -1.3660,  32.1482, 2, -999.0000, 9,    295.9, 2,    333.6, 2,    25.39, 2,     6.68, 2,     0.19, 2,     1.49, 2,  -999.00, 9,  -1.3671,     1.25, 2, 0.06, 2,     0.38, 2,     0.10, 2,   1.1490, 2, 0.191, 2, 1.367, 2, 4.286, 2
320620030705, SBI, 274, 1, 101, 1, 2, 20030810, 2207, 71.8819, -156.0933, 78,     72.6,  -1.3975,  32.1903, 2,  32.1822, 2,    292.8, 2,    330.1, 2,    26.29, 2,     7.00, 2,     0.20, 2,     1.52, 2,    72.50, 2,  -1.3989,     1.27, 2, 0.07, 2,     0.46, 2,     0.09, 2,   0.9900, 2, 0.192, 2, 0.717, 2, 4.364, 2
320620030705, SBI, 275, 1, 108, 8, 2, 20030811, 23, 71.8998, -155.8064, 109,      1.5,  -0.8841,  28.1715, 2,  28.1944, 2,    338.8, 2,    379.1, 2,     5.30, 2,     0.09, 2,     0.00, 2,     0.70, 2,  -999.00, 9,  -0.8841,     0.17, 2, 0.01, 2,     0.08, 2,     0.02, 2,   0.5790, 2, 0.164, 2, 3.830, 2, 4.527, 2
320620030705, SBI, 275, 1, 107, 7, 2, 20030811, 21, 71.8998, -155.8064, 109,     11.8,  -0.9128,  28.1751, 2, -999.0000, 9,    339.7, 2,    385.7, 2,     6.90, 2,     0.08, 2,     0.01, 2,     0.76, 2,  -999.00, 9,  -0.9130,     0.23, 2, 0.01, 2,     0.07, 2,     0.02, 2,   0.7110, 2, 0.165, 2, 3.296, 2, 4.470, 2
320620030705, SBI, 275, 1, 106, 6, 2, 20030811, 19, 71.8998, -155.8064, 109,     21.8,  -0.6740,  29.8016, 2, -999.0000, 9,    352.8, 2,    398.8, 2,     9.39, 2,     0.12, 2,     0.02, 2,     0.84, 2,  -999.00, 9,  -0.6744,     0.26, 2, 0.04, 2,     0.23, 2,     0.04, 2,   0.8950, 2, 0.176, 2, 2.919, 2, 4.488, 2
320620030705, SBI, 275, 1, 105, 5, 2, 20030811, 18, 71.8998, -155.8064, 109,     36.0,  -0.5755,  31.6955, 2, -999.0000, 9,    345.4, 2,    364.4, 2,    18.38, 2,     3.59, 2,     0.13, 2,     1.23, 2,  -999.00, 9,  -0.5764,     1.19, 2, 0.12, 2,     1.55, 2,     0.07, 2,   2.1400, 2, 0.684, 2, 2.399, 2, 4.415, 2
320620030705, SBI, 275, 1, 104, 4, 2, 20030811, 16, 71.8998, -155.8064, 109,     51.9,  -1.5076,  31.9058, 2, -999.0000, 9,    318.2, 2,    350.0, 2,    23.09, 2,     5.61, 2,     0.19, 2,     1.38, 2,  -999.00, 9,  -1.5085,     1.33, 2, 0.07, 2,     0.13, 2,     0.06, 2,   1.1310, 2, 0.193, 2, 1.464, 2, 4.461, 2
320620030705, SBI, 275, 1, 103, 3, 2, 20030811, 14, 71.8998, -155.8064, 109,     66.9,  -1.2973,  32.0567, 2, -999.0000, 9,    315.7, 2,    332.2, 2,    25.39, 2,     6.89, 2,     0.19, 2,     1.51, 2,  -999.00, 9,  -1.2986,     1.63, 2, 0.08, 2,  -999.00, 9,  -999.00, 9,   0.8510, 2, 0.183, 2, 0.939, 2, 4.520, 2
320620030705, SBI, 275, 1, 102, 2, 2, 20030811, 12, 71.8998, -155.8064, 109,     87.0,  -1.4013,  32.3167, 2, -999.0000, 9,    293.7, 2,    316.1, 2,    28.61, 2,     8.10, 2,     0.22, 2,     1.64, 2,  -999.00, 9,  -1.4030,     1.85, 2, 0.08, 2,  -999.00, 9,  -999.00, 9,   0.7720, 2, 0.182, 2, 0.460, 2, 4.424, 2
320620030705, SBI, 275, 1, 101, 1, 2, 20030811, 10, 71.8998, -155.8064, 109,    104.1,  -1.4305,  32.4060, 2,  32.3888, 2,    284.0, 2,    312.9, 2,    29.12, 2,     8.24, 2,     0.22, 2,     1.65, 2,    71.70, 2,  -1.4325,     1.86, 2, 0.08, 2,     0.08, 2,     0.08, 2,   0.9680, 2, 0.188, 2, 0.210, 2, 4.420, 2
320620030705, SBI, 276, 1, 110, 10, 2, 20030811, 150, 71.9355, -155.6678, 138,      1.6,  -0.7965,  27.9875, 2,  28.0287, 2,    342.2, 2,    376.5, 2,     4.19, 2,     0.08, 2,     0.00, 2,     0.66, 2,  -999.00, 9,  -0.7965,     0.09, 2, 0.02, 2,     0.19, 2,     0.08, 2,   0.6940, 2, 0.165, 2, 3.780, 2, 4.595, 2
320620030705, SBI, 276, 1, 108, 8, 2, 20030811, 148, 71.9355, -155.6678, 138,     16.9,  -0.7215,  28.6291, 2, -999.0000, 9,    346.6, 2,    383.0, 2,     5.78, 2,     0.07, 2,     0.00, 2,     0.72, 2,  -999.00, 9,  -0.7218,     0.16, 2, 0.02, 2,     0.10, 2,     0.06, 2,   0.8200, 2, 0.169, 2, 3.214, 2, 4.418, 2
320620030705, SBI, 276, 1, 109, 9, 2, 20030811, 148, 71.9355, -155.6678, 138,     16.9,  -0.8006,  28.1496, 2, -999.0000, 9,    346.5, 2,   -999.0, 9,  -999.00, 9,  -999.00, 9,  -999.00, 9,  -999.00, 9,  -999.00, 9,  -0.8009,  -999.00, 9, -999, 9,  -999.00, 9,  -999.00, 9,   0.8180, 2, 0.167, 2, 3.185, 2, 4.451, 2
320620030705, SBI, 276, 1, 107, 7, 2, 20030811, 146, 71.9355, -155.6678, 138,     32.0,  -0.4173,  31.4605, 2, -999.0000, 9,    358.7, 2,    380.0, 2,    15.07, 2,     1.86, 2,     0.09, 2,     1.10, 2,  -999.00, 9,  -0.4181,     0.82, 2, 0.09, 2,     0.25, 2,     0.17, 2,   1.1900, 2, 0.199, 2, 2.579, 2, 4.447, 2
320620030705, SBI, 276, 1, 106, 6, 2, 20030811, 144, 71.9355, -155.6678, 138,     47.1,  -0.9137,  31.9321, 2, -999.0000, 9,    325.1, 2,    358.5, 2,    17.07, 2,     4.27, 2,     0.14, 2,     1.28, 2,  -999.00, 9,  -0.9148,     1.58, 2, 0.13, 2,     0.26, 2,     0.17, 2,   1.1740, 2, 0.192, 2, 1.969, 2, 4.466, 2
320620030705, SBI, 276, 1, 105, 5, 2, 20030811, 142, 71.9355, -155.6678, 138,     62.1,  -1.0598,  32.0664, 2, -999.0000, 9,    322.3, 2,    348.0, 2,    21.28, 2,     5.57, 2,     0.17, 2,     1.37, 2,  -999.00, 9,  -1.0611,     1.69, 2, 0.1, 2,     0.14, 2,     0.25, 2,   1.1340, 2, 0.201, 2, 1.330, 2, 4.588, 2
320620030705, SBI, 276, 1, 104, 4, 2, 20030811, 140, 71.9355, -155.6678, 138,     82.1,  -1.2290,  32.3281, 2, -999.0000, 9,    298.5, 2,    325.3, 2,    25.91, 2,     7.58, 2,     0.19, 2,     1.55, 2,  -999.00, 9,  -1.2307,     1.94, 2, 0.08, 2,  -999.00, 9,  -999.00, 9,   0.9280, 2, 0.176, 2, 0.707, 2, 4.574, 2
320620030705, SBI, 276, 1, 103, 3, 2, 20030811, 138, 71.9355, -155.6678, 138,    102.1,  -1.3300,  32.4316, 2, -999.0000, 9,    290.4, 2,    315.7, 2,    27.91, 2,     8.92, 2,     0.18, 2,     1.63, 2,  -999.00, 9,  -1.3321,     1.78, 2, 0.07, 2,  -999.00, 9,  -999.00, 9,   0.8170, 2, 0.175, 2, 0.281, 2, 4.498, 2
320620030705, SBI, 276, 1, 102, 2, 2, 20030811, 136, 71.9355, -155.6678, 138,    124.2,  -1.4531,  32.5889, 2, -999.0000, 9,    277.3, 2,    301.0, 2,    30.03, 2,    10.88, 2,     0.14, 2,     1.69, 2,  -999.00, 9,  -1.4556,     1.03, 2, 0.05, 2,  -999.00, 9,  -999.00, 9,   0.8450, 2, 0.176, 2, 0.154, 2, 4.559, 2
320620030705, SBI, 276, 1, 101, 1, 2, 20030811, 134, 71.9355, -155.6678, 138,    133.2,  -1.4184,  33.0240, 2,  32.8606, 2,    268.1, 2,    299.3, 2,    30.33, 2,    11.14, 2,     0.14, 2,     1.70, 2,    71.30, 2,  -1.4212,     1.03, 2, 0.12, 2,  -999.00, 9,  -999.00, 9,   0.7600, 2, 0.176, 2, 0.144, 2, 4.540, 2
320620030705, SBI, 277, 1, 112, 12, 2, 20030811, 335, 71.9627, -155.5285, 179,      1.5,  -0.7944,  27.9602, 2,  27.9607, 2,    337.5, 2,    375.3, 2,     3.80, 2,     0.15, 2,     0.00, 2,     0.65, 2,  -999.00, 9,  -0.7944,     0.04, 2, 0, 2,     0.17, 2,     0.06, 2,   0.7430, 2, 0.166, 2, 3.625, 2, 4.755, 2
320620030705, SBI, 277, 1, 111, 11, 2, 20030811, 333, 71.9627, -155.5285, 179,     16.4,  -0.7990,  28.5584, 2, -999.0000, 9,    345.4, 2,    387.3, 2,     6.66, 2,     0.19, 2,     0.01, 2,     0.75, 2,  -999.00, 9,  -0.7993,     0.16, 2, 0, 2,     0.14, 2,     0.04, 2,   0.7690, 2, 0.168, 2, 2.962, 2, 4.732, 2
320620030705, SBI, 277, 1, 110, 10, 2, 20030811, 330, 71.9627, -155.5285, 179,     31.5,  -0.8904,  31.5896, 2, -999.0000, 9,    336.3, 2,    357.7, 2,    18.99, 2,     3.83, 2,     0.16, 2,     1.26, 2,  -999.00, 9,  -0.8911,     1.18, 2, 0.08, 2,     0.29, 2,     0.14, 2,   0.9800, 2, 0.183, 2, 2.400, 2, 4.714, 2
320620030705, SBI, 277, 1, 109, 9, 2, 20030811, 328, 71.9627, -155.5285, 179,     46.5,  -1.2594,  31.8902, 2, -999.0000, 9,    317.3, 2,    342.5, 2,    23.93, 2,     5.97, 2,     0.20, 2,     1.43, 2,  -999.00, 9,  -1.2603,     1.56, 2, 0.05, 2,  -999.00, 9,  -999.00, 9,   1.2570, 2, 0.184, 2, 1.803, 2, 4.714, 2
320620030705, SBI, 277, 1, 108, 8, 2, 20030811, 326, 71.9627, -155.5285, 179,     61.6,  -1.4193,  32.1797, 2, -999.0000, 9,    300.3, 2,    328.8, 2,    25.81, 2,     7.20, 2,     0.20, 2,     1.54, 2,  -999.00, 9,  -1.4204,     1.96, 2, 0.07, 2,  -999.00, 9,  -999.00, 9,   0.8370, 2, 0.175, 2, 1.187, 2, 4.720, 2
320620030705, SBI, 277, 1, 107, 7, 2, 20030811, 325, 71.9627, -155.5285, 179,     76.7,  -1.3152,  32.3518, 2, -999.0000, 9,    295.0, 2,    320.0, 2,    26.99, 2,     7.72, 2,     0.21, 2,     1.59, 2,  -999.00, 9,  -1.3167,     1.90, 2, 0.05, 2,  -999.00, 9,  -999.00, 9,   0.8180, 2, 0.176, 2, 0.569, 2, 4.726, 2
320620030705, SBI, 277, 1, 106, 6, 2, 20030811, 323, 71.9627, -155.5285, 179,     91.8,  -1.4015,  32.3942, 2, -999.0000, 9,    286.4, 2,    315.2, 2,    28.18, 2,     8.29, 2,     0.22, 2,     1.64, 2,  -999.00, 9,  -1.4033,     1.88, 2, 0.06, 2,  -999.00, 9,  -999.00, 9,   0.8840, 2, 0.176, 2, 0.254, 2, 4.722, 2
320620030705, SBI, 277, 1, 105, 5, 2, 20030811, 321, 71.9627, -155.5285, 179,    106.7,  -1.4142,  32.4436, 2, -999.0000, 9,    284.2, 2,    310.8, 2,    28.58, 2,     8.95, 2,     0.20, 2,     1.65, 2,  -999.00, 9,  -1.4163,     1.89, 2, 0.06, 2,  -999.00, 9,  -999.00, 9,   0.8830, 2, 0.177, 2, 0.160, 2, 4.701, 2
320620030705, SBI, 277, 1, 104, 4, 2, 20030811, 320, 71.9627, -155.5285, 179,    121.7,  -1.4401,  32.5606, 2, -999.0000, 9,    279.1, 2,    304.2, 2,    29.16, 2,    10.43, 2,     0.14, 2,     1.67, 2,  -999.00, 9,  -1.4425,     1.19, 2, 0.02, 2,  -999.00, 9,  -999.00, 9,   0.8530, 2, 0.176, 2, 0.143, 2, 4.613, 2
320620030705, SBI, 277, 1, 103, 3, 2, 20030811, 318, 71.9627, -155.5285, 179,    136.4,  -1.4833,  32.8316, 2, -999.0000, 9,    272.5, 2,    295.7, 2,    29.95, 2,    12.16, 2,     0.10, 2,     1.68, 2,  -999.00, 9,  -1.4860,     0.47, 2, 0.01, 2,  -999.00, 9,  -999.00, 9,   0.7120, 2, 0.173, 2, 0.139, 2, 4.635, 2
320620030705, SBI, 277, 1, 102, 2, 2, 20030811, 316, 71.9627, -155.5285, 179,    151.4,  -1.4172,  33.2772, 2, -999.0000, 9,    263.5, 2,    289.1, 2,    30.14, 2,    13.12, 2,     0.09, 2,     1.66, 2,  -999.00, 9,  -1.4205,     0.23, 2, 0.04, 2,  -999.00, 9,  -999.00, 9,   0.8210, 2, 0.173, 2, 0.139, 2, 4.659, 2
320620030705, SBI, 277, 1, 101, 1, 2, 20030811, 315, 71.9627, -155.5285, 179,    172.7,  -0.4023,  34.4175, 2,  34.4095, 2,    246.1, 2,    268.3, 2,    24.84, 2,    13.56, 2,     0.06, 2,     1.51, 2,    57.70, 2,  -0.4080,     0.06, 2, 0.13, 2,  -999.00, 9,  -999.00, 9,   0.7620, 2, 0.173, 2, 0.139, 2, 4.694, 2
320620030705, SBI, 278, 1, 112, 12, 2, 20030811, 535, 71.9999, -155.4387, 211,      1.5,  -0.6550,  28.0298, 2,  28.0562, 2,    339.0, 2,    375.0, 2,     4.10, 2,     0.13, 2,     0.00, 2,     0.65, 2,  -999.00, 9,  -0.6550,     0.03, 2, 0, 2,     0.14, 2,     0.08, 2,   0.9800, 2, 0.176, 2, 3.050, 2, 4.937, 2
320620030705, SBI, 278, 1, 111, 11, 2, 20030811, 533, 71.9999, -155.4387, 211,     21.8,  -0.7579,  29.8696, 2, -999.0000, 9,    362.4, 2,    400.4, 2,    13.18, 2,     0.17, 2,     0.02, 2,     0.86, 2,  -999.00, 9,  -0.7583,     0.31, 2, 0.02, 2,     0.16, 2,     0.04, 2,   0.9230, 2, 0.176, 2, 2.144, 2, 4.937, 2
320620030705, SBI, 278, 1, 110, 10, 2, 20030811, 531, 71.9999, -155.4387, 211,     39.8,  -0.4121,  31.6668, 2, -999.0000, 9,    343.6, 2,    369.6, 2,    14.05, 2,     2.55, 2,     0.15, 2,     1.12, 2,  -999.00, 9,  -0.4131,     0.67, 2, 0.06, 2,     3.57, 2,     0.31, 2,   2.0830, 2, 0.723, 2, 1.393, 2, 4.937, 2
320620030705, SBI, 278, 1, 109, 9, 2, 20030811, 529, 71.9999, -155.4387, 211,     46.9,  -1.4197,  31.8092, 2, -999.0000, 9,    318.4, 2,    352.9, 2,    23.87, 2,     5.25, 2,     0.22, 2,     1.37, 2,  -999.00, 9,  -1.4205,     1.44, 2, 0.05, 2,     0.33, 2,     0.23, 2,   1.0020, 2, 0.280, 2, 1.010, 2, 4.937, 2
320620030705, SBI, 278, 1, 108, 8, 2, 20030811, 527, 71.9999, -155.4387, 211,     61.8,  -1.1321,  31.9942, 2, -999.0000, 9,    315.5, 2,    351.3, 2,    21.17, 2,     5.52, 2,     0.20, 2,     1.34, 2,  -999.00, 9,  -1.1334,     1.19, 2, 0.04, 2,  -999.00, 9,  -999.00, 9,   0.9440, 2, 0.182, 2, 0.612, 2, 4.934, 2
320620030705, SBI, 278, 1, 107, 7, 2, 20030811, 525, 71.9999, -155.4387, 211,     87.0,  -1.2914,  32.3522, 2, -999.0000, 9,    293.9, 2,    324.0, 2,    25.84, 2,     7.71, 2,     0.20, 2,     1.56, 2,  -999.00, 9,  -1.2932,     2.11, 2, 0.06, 2,  -999.00, 9,  -999.00, 9,   0.8780, 2, 0.176, 2, 0.232, 2, 4.932, 2
320620030705, SBI, 278, 1, 106, 6, 2, 20030811, 522, 71.9999, -155.4387, 211,    107.0,  -1.4808,  32.5161, 2, -999.0000, 9,    281.1, 2,    310.5, 2,    27.23, 2,     9.84, 2,     0.13, 2,     1.63, 2,  -999.00, 9,  -1.4829,     0.96, 2, 0.01, 2,  -999.00, 9,  -999.00, 9,   0.7800, 2, 0.171, 2, 0.156, 2, 4.921, 2
320620030705, SBI, 278, 1, 105, 5, 2, 20030811, 520, 71.9999, -155.4387, 211,    127.1,  -1.5512,  32.7548, 2, -999.0000, 9,    272.4, 2,    299.4, 2,    28.91, 2,    12.23, 2,     0.07, 2,     1.67, 2,  -999.00, 9,  -1.5536,     0.21, 2, 0, 2,  -999.00, 9,  -999.00, 9,   0.6760, 2, 0.171, 2, 0.143, 2, 4.922, 2
320620030705, SBI, 278, 1, 104, 4, 2, 20030811, 518, 71.9999, -155.4387, 211,    152.2,  -1.2831,  33.5426, 2, -999.0000, 9,    260.5, 2,    286.5, 2,    28.59, 2,    13.35, 2,     0.10, 2,     1.60, 2,  -999.00, 9,  -1.2867,     0.08, 2, 0, 2,  -999.00, 9,  -999.00, 9,   0.7580, 2, 0.173, 2, 0.140, 2, 4.924, 2
320620030705, SBI, 278, 1, 103, 3, 2, 20030811, 517, 71.9999, -155.4387, 211,    177.2,  -0.9190,  34.1449, 2, -999.0000, 9,    257.9, 2,    281.7, 2,    24.09, 2,    13.40, 2,     0.05, 2,     1.44, 2,  -999.00, 9,  -0.9240,     0.00, 2, 0, 2,  -999.00, 9,  -999.00, 9,   0.7180, 2, 0.172, 2, 0.139, 2, 4.920, 2
320620030705, SBI, 278, 1, 102, 2, 2, 20030811, 515, 71.9999, -155.4387, 211,    192.3,  -0.3356,  34.4434, 2, -999.0000, 9,    242.9, 2,    267.9, 2,    21.11, 2,    13.55, 2,     0.05, 2,     1.35, 2,  -999.00, 9,  -0.3421,     0.02, 2, 0.01, 2,  -999.00, 9,  -999.00, 9,   0.8030, 2, 0.173, 2, 0.139, 2, 4.920, 2
320620030705, SBI, 278, 1, 101, 1, 2, 20030811, 513, 71.9999, -155.4387, 211,    207.4,  -0.0578,  34.5459, 2,  34.5318, 2,    243.2, 2,    267.1, 2,    20.21, 2,    13.49, 2,     0.05, 2,     1.31, 2,    58.20, 2,  -0.0653,     0.01, 2, 0.01, 2,  -999.00, 9,  -999.00, 9,   0.8010, 2, 0.174, 2, 0.139, 2, 4.919, 2