BOTTLE,20100423CCHDOSIODBK
EXPOCODE,SECT_ID,STNNBR,CASTNO,SAMPNO,BTLNBR,BTLNBR_FLAG_W,DATE,TIME,LATITUDE,LONGITUDE,DEPTH,CTDPRS,CTDTMP,CTDSAL,CTDSAL_FLAG_W,SALNTY,SALNTY_FLAG_W,CTDOXY,CTDOXY_FLAG_W,OXYGEN,OXYGEN_FLAG_W,SILCAT,SILCAT_FLAG_W,NITRAT,NITRAT_FLAG_W,NITRIT,NITRIT_FLAG_W,PHSPHT,PHSPHT_FLAG_W,DOC,DOC_FLAG_W,THETA,NH4,NH4_FLAG_W,UREA,UREA_FLAG_W,CHLORA,CHLORA_FLAG_W,PPHYTN,PPHYTN_FLAG_W,FLUOR,FLUOR_FLAG_W,HAARDT,HAARDT_FLAG_W,PAR,PAR_FLAG_W,SPAR,SPAR_FLAG_W
,,,,,,,,,,,METERS,DBAR,ITS-90,PSS-78,,PSS-78,,UMOL/KG,,UMOL/KG,,UMOL/KG,,UMOL/KG,,UMOL/KG,,UMOL/KG,,UMOL/KG,,DEG C,UMOL/KG,,UMOL/KG,,UG/KG,,UG/KG,,MG/M^3,,VOLTS,,VOLTS,,VOLTS,
320620030705, SBI, 183, 1, 105, 5, 2, 20030803, 626, 72.4984, -165.9878, 50,      1.5,  -0.4994,  30.5160, 2,  30.5159, 2,    381.9, 2,    417.0, 2,    15.72, 2,     0.05, 2,     0.00, 2,     0.82, 2,  -999.00, 9,  -0.4994,     0.00, 2, 0.01, 2,     1.06, 2,     0.16, 2,   1.7050, 2, 0.321, 2, 3.084, 2, 4.923, 2
320620030705, SBI, 183, 1, 104, 4, 2, 20030803, 625, 72.4984, -165.9878, 50,     11.1,  -0.5105,  30.5185, 2, -999.0000, 9,    381.7, 2,    414.6, 2,    16.12, 2,     0.04, 2,     0.01, 2,     0.85, 2,  -999.00, 9,  -0.5108,     0.00, 2, 0.01, 2,     1.38, 2,     0.03, 2,   1.6860, 2, 0.316, 2, 2.293, 2, 4.923, 2
320620030705, SBI, 183, 1, 103, 3, 2, 20030803, 623, 72.4984, -165.9878, 50,     21.1,  -1.4724,  31.7018, 2, -999.0000, 9,    350.5, 2,    370.5, 2,    29.61, 2,     8.32, 2,     0.14, 2,     1.42, 2,  -999.00, 9,  -1.4728,     0.74, 2, 0.05, 2,     1.87, 2,     1.66, 2,   1.9890, 2, 0.519, 2, 1.440, 2, 4.924, 2
320620030705, SBI, 183, 1, 102, 2, 2, 20030803, 621, 72.4984, -165.9878, 50,     34.4,  -1.7239,  32.7244, 2, -999.0000, 9,    273.1, 2,    296.9, 2,    45.36, 2,    16.00, 2,     0.18, 2,     2.03, 2,  -999.00, 9,  -1.7245,     2.45, 2, 0.06, 2,     2.83, 2,     0.18, 2,   1.2280, 2, 0.206, 2, 0.549, 2, 4.917, 2
320620030705, SBI, 183, 1, 101, 1, 2, 20030803, 619, 72.4984, -165.9878, 50,     44.5,  -1.7238,  32.7457, 2,  32.7385, 2,    270.0, 2,    296.2, 2,    45.56, 2,    16.05, 2,     0.18, 2,     2.04, 2,    68.90, 2,  -1.7246,     2.48, 2, 0.06, 2,     1.15, 2,     0.85, 2,   1.2540, 2, 0.228, 2, 0.267, 2, 4.912, 2
320620030705, SBI, 184, 1, 105, 5, 2, 20030803, 816, 72.6655, -165.9953, 53,      2.2,  -0.9083,  29.8646, 2,  29.8697, 2,    371.4, 2,    400.5, 2,    19.37, 2,     0.03, 2,     0.00, 2,     0.90, 2,  -999.00, 9,  -0.9083,     0.00, 2, 0, 2,     1.38, 2,     0.07, 2,   1.6990, 2, 0.326, 2, 2.765, 2, 4.959, 2
320620030705, SBI, 184, 1, 104, 4, 2, 20030803, 813, 72.6655, -165.9953, 53,     13.9,  -1.3581,  30.8775, 2, -999.0000, 9,    329.0, 2,    352.7, 2,    29.62, 2,     5.50, 2,     0.10, 2,     1.44, 2,  -999.00, 9,  -1.3583,     0.83, 2, 0.04, 2,     4.56, 2,     0.05, 2,   1.7560, 2, 0.379, 2, 1.666, 2, 4.965, 2
320620030705, SBI, 184, 1, 103, 3, 2, 20030803, 810, 72.6655, -165.9953, 53,     27.9,  -1.6723,  32.1266, 2, -999.0000, 9,    297.5, 2,    322.8, 2,    35.87, 2,    10.45, 2,     0.20, 2,     1.84, 2,  -999.00, 9,  -1.6727,     2.18, 2, 0.09, 2,     1.39, 2,     0.85, 2,   1.3000, 2, 0.228, 2, 0.743, 2, 4.961, 2
320620030705, SBI, 184, 1, 102, 2, 2, 20030803, 807, 72.6655, -165.9953, 53,     33.0,  -1.6727,  32.1587, 2, -999.0000, 9,    297.0, 2,    319.5, 2,    37.42, 2,    11.00, 2,     0.18, 2,     1.87, 2,  -999.00, 9,  -1.6732,     2.17, 2, 0.09, 2,     1.31, 2,     0.67, 2,   1.3580, 2, 0.218, 2, 0.568, 2, 4.957, 2
320620030705, SBI, 184, 1, 101, 1, 2, 20030803, 805, 72.6655, -165.9953, 53,     47.2,  -1.7021,  32.6581, 2,  32.5438, 2,    266.2, 2,    293.5, 2,    45.79, 2,    14.14, 2,     0.14, 2,     2.09, 2,    69.30, 2,  -1.7029,     2.23, 2, 0.08, 2,     0.82, 2,     0.53, 2,   1.1380, 2, 0.227, 2, 0.232, 2, 4.961, 2
320620030705, SBI, 185, 1, 105, 5, 2, 20030803, 1045, 72.8301, -165.9942, 56,      2.0,  -1.0179,  29.5510, 2,  29.5737, 2,    365.9, 2,    394.1, 2,    14.57, 2,     0.10, 2,     0.00, 2,     0.81, 2,  -999.00, 9,  -1.0179,     0.00, 2, 0, 2,     1.24, 2,     0.10, 2,   1.6150, 2, 0.301, 2, 2.030, 2, 4.996, 2
320620030705, SBI, 185, 1, 104, 4, 2, 20030803, 1042, 72.8301, -165.9942, 56,     17.7,  -1.2791,  30.4877, 2, -999.0000, 9,    352.9, 2,    360.1, 2,    26.13, 2,     3.43, 2,     0.07, 2,     1.26, 2,  -999.00, 9,  -1.2794,     0.31, 2, 0.03, 2,     5.54, 2,     0.10, 2,   2.0350, 2, 0.496, 2, 0.621, 2, 4.996, 2
320620030705, SBI, 185, 1, 103, 3, 2, 20030803, 1040, 72.8301, -165.9942, 56,     27.7,  -1.5650,  31.7689, 2, -999.0000, 9,    299.3, 2,    316.1, 2,    39.48, 2,     9.86, 2,     0.15, 2,     1.81, 2,  -999.00, 9,  -1.5654,     1.30, 2, 0.07, 2,     3.37, 2,     0.75, 2,   1.7470, 2, 0.350, 2, 0.255, 2, 4.996, 2
320620030705, SBI, 185, 1, 102, 2, 2, 20030803, 1038, 72.8301, -165.9942, 56,     36.9,  -1.5478,  32.2367, 2, -999.0000, 9,    288.2, 2,    305.6, 2,    43.70, 2,    11.51, 2,     0.14, 2,     1.92, 2,  -999.00, 9,  -1.5484,     1.44, 2, 0.07, 2,     1.44, 2,     0.75, 2,   1.1440, 2, 0.213, 2, 0.170, 2, 4.996, 2
320620030705, SBI, 185, 1, 101, 1, 2, 20030803, 1035, 72.8301, -165.9942, 56,     51.2,  -1.6801,  32.6748, 2,  32.6613, 2,    253.9, 2,    275.4, 2,    51.45, 2,    14.97, 2,     0.11, 2,     2.29, 2,    69.80, 2,  -1.6810,     2.10, 2, 0.08, 2,     0.79, 2,     0.43, 2,   1.1690, 2, 0.207, 2, 0.142, 2, 4.996, 2
320620030705, SBI, 186, 1, 108, 8, 2, 20030803, 1320, 72.9981, -166.0041, 57,      1.9,  -1.0085,  29.3070, 2,  29.3322, 2,    365.8, 2,    391.1, 2,    14.64, 2,     0.09, 2,     0.00, 2,     0.81, 2,  -999.00, 9,  -1.0085,     0.00, 2, 0.01, 2,     0.51, 2,     0.05, 2,   1.2920, 2, 0.214, 2, 2.312, 2, 4.989, 2
320620030705, SBI, 186, 1, 106, 6, 2, 20030803, 1317, 72.9981, -166.0041, 57,     19.9,  -1.2303,  30.1509, 2, -999.0000, 9,    364.7, 2,   -999.0, 9,  -999.00, 9,  -999.00, 9,  -999.00, 9,  -999.00, 9,  -999.00, 9,  -1.2306,  -999.00, 9, -999, 9,  -999.00, 9,  -999.00, 9,   2.0160, 2, 0.586, 2, 1.176, 2, 4.989, 2
320620030705, SBI, 186, 1, 105, 5, 2, 20030803, 1317, 72.9981, -166.0041, 57,     19.9,  -1.2391,  30.1802, 2, -999.0000, 9,    366.3, 2,    360.4, 2,    28.88, 2,     3.69, 2,     0.08, 2,     1.36, 2,  -999.00, 9,  -1.2394,     0.39, 2, 0.06, 2,     4.29, 2,     0.25, 2,   2.0290, 2, 0.572, 2, 1.169, 2, 4.989, 2
320620030705, SBI, 186, 1, 107, 7, 2, 20030803, 1317, 72.9981, -166.0041, 57,     19.9,  -1.2461,  30.2224, 2, -999.0000, 9,    363.4, 2,   -999.0, 9,  -999.00, 9,  -999.00, 9,  -999.00, 9,  -999.00, 9,  -999.00, 9,  -1.2464,  -999.00, 9, -999, 9,  -999.00, 9,  -999.00, 9,   2.0670, 2, 0.604, 2, 1.184, 2, 4.989, 2
320620030705, SBI, 186, 1, 104, 4, 2, 20030803, 1314, 72.9981, -166.0041, 57,     26.9,  -1.5051,  31.8626, 2, -999.0000, 9,    267.8, 2,    290.3, 2,    45.35, 2,    11.12, 2,     0.16, 2,     1.92, 2,  -999.00, 9,  -1.5056,     1.48, 2, 0.07, 2,     1.32, 2,     0.73, 2,   1.4750, 2, 0.237, 2, 0.540, 2, 4.989, 2
320620030705, SBI, 186, 1, 103, 3, 2, 20030803, 1312, 72.9981, -166.0041, 57,     36.9,  -1.5473,  32.2989, 2, -999.0000, 9,    265.2, 2,    283.1, 2,    49.37, 2,    13.33, 2,     0.17, 2,     2.08, 2,  -999.00, 9,  -1.5479,     1.67, 2, 0.09, 2,     0.40, 2,     0.62, 2,   1.1000, 2, 0.190, 2, 0.299, 2, 4.989, 2
320620030705, SBI, 186, 1, 102, 2, 2, 20030803, 1310, 72.9981, -166.0041, 57,     45.0,  -1.6024,  32.5371, 2,  32.5729, 2,    257.1, 2,    277.3, 2,    52.16, 2,    14.18, 2,     0.16, 2,     2.19, 2,  -999.00, 9,  -1.6032,     1.86, 2, 0.06, 2,     0.27, 2,     0.34, 2,   0.9960, 2, 0.190, 2, 0.223, 2, 4.989, 2
320620030705, SBI, 186, 1, 101, 1, 2, 20030803, 1308, 72.9981, -166.0041, 57,     52.0,  -1.6616,  32.6440, 2,  32.6353, 2,    258.2, 2,    278.0, 2,    52.57, 2,    14.61, 2,     0.15, 2,     2.21, 2,    69.00, 2,  -1.6625,     2.03, 2, 0.07, 2,     0.24, 2,     0.38, 2,   1.0270, 2, 0.189, 2, 0.172, 2, 4.989, 2
320620030705, SBI, 187, 1, 106, 6, 2, 20030803, 1501, 73.0805, -165.9753, 60,      2.0,  -0.9561,  29.5449, 2,  29.5407, 2,    366.7, 2,    392.8, 2,    20.96, 2,     0.08, 2,     0.00, 2,     0.89, 2,  -999.00, 9,  -0.9561,    -0.01, 2, 0, 2,  -999.00, 9,  -999.00, 9,   1.5990, 2, 0.284, 2, 2.748, 2, 4.961, 2
320620030705, SBI, 187, 1, 105, 5, 2, 20030803, 1459, 73.0805, -165.9753, 60,     14.0,  -0.9818,  29.5892, 2,  30.0429, 2,    367.8, 2,    389.5, 2,    23.40, 2,     0.84, 2,     0.03, 2,     1.02, 2,  -999.00, 9,  -0.9821,     0.13, 2, 0.03, 2,  -999.00, 9,  -999.00, 9,   1.6640, 2, 0.308, 2, 1.812, 2, 4.963, 2
320620030705, SBI, 187, 1, 104, 4, 2, 20030803, 1457, 73.0805, -165.9753, 60,     20.0,  -1.3348,  30.1201, 2, -999.0000, 9,    363.9, 2,    377.8, 2,    26.48, 2,     2.26, 2,     0.06, 2,     1.16, 2,  -999.00, 9,  -1.3351,     0.37, 2, 0.04, 2,  -999.00, 9,  -999.00, 9,   1.9190, 2, 0.475, 2, 1.222, 2, 4.964, 2
320620030705, SBI, 187, 1, 103, 3, 2, 20030803, 1454, 73.0805, -165.9753, 60,     30.1,  -1.6042,  31.9837, 2, -999.0000, 9,    288.8, 2,    315.1, 2,    42.51, 2,    11.33, 2,     0.21, 2,     1.87, 2,  -999.00, 9,  -1.6047,     1.56, 2, 0.06, 2,  -999.00, 9,  -999.00, 9,   1.1550, 2, 0.203, 2, 0.563, 2, 4.969, 2
320620030705, SBI, 187, 1, 102, 2, 2, 20030803, 1452, 73.0805, -165.9753, 60,     42.2,  -1.7099,  32.5621, 2, -999.0000, 9,    298.2, 2,    321.7, 2,    43.11, 2,    13.17, 2,     0.23, 2,     1.91, 2,  -999.00, 9,  -1.7106,     1.76, 2, 0.06, 2,  -999.00, 9,  -999.00, 9,   1.0450, 2, 0.190, 2, 0.326, 2, 4.969, 2
320620030705, SBI, 187, 1, 101, 1, 2, 20030803, 1449, 73.0805, -165.9753, 60,     55.2,  -1.6960,  32.6727, 2,  32.6571, 2,    271.0, 2,    295.9, 2,    48.70, 2,    13.88, 2,     0.20, 2,     2.12, 2,    68.20, 2,  -1.6969,     2.16, 2, 0.06, 2,  -999.00, 9,  -999.00, 9,   0.9660, 2, 0.187, 2, 0.189, 2, 4.970, 2
320620030705, SBI, 188, 1, 107, 7, 2, 20030803, 1637, 73.1723, -166.0113, 62,      2.0,  -1.1843,  29.6242, 2,  29.5146, 2,    367.1, 2,    394.4, 2,    17.12, 2,     0.07, 2,     0.00, 2,     0.84, 2,  -999.00, 9,  -1.1843,     0.00, 2, 0, 2,     1.90, 2,     0.14, 2,   1.8520, 2, 0.437, 2, 3.073, 2, 4.917, 2
320620030705, SBI, 188, 1, 106, 6, 2, 20030803, 1635, 73.1723, -166.0113, 62,     13.0,  -1.1927,  29.7162, 2, -999.0000, 9,    368.5, 2,    395.5, 2,    20.40, 2,     0.06, 2,     0.01, 2,     0.90, 2,  -999.00, 9,  -1.1929,     0.01, 2, 0.01, 2,     3.55, 2,     0.03, 2,   1.9030, 2, 0.431, 2, 2.123, 2, 4.923, 2
320620030705, SBI, 188, 1, 105, 5, 2, 20030803, 1632, 73.1723, -166.0113, 62,     20.0,  -1.3185,  30.0602, 2, -999.0000, 9,    362.4, 2,    363.4, 2,    29.74, 2,     3.73, 2,     0.08, 2,     1.27, 2,  -999.00, 9,  -1.3188,     0.38, 2, 0.03, 2,     4.25, 2,     0.20, 2,   2.0380, 2, 0.514, 2, 1.607, 2, 4.938, 2
320620030705, SBI, 188, 1, 104, 4, 2, 20030803, 1629, 73.1723, -166.0113, 62,     32.0,  -1.5599,  32.2440, 2, -999.0000, 9,    290.9, 2,    303.4, 2,    43.62, 2,    11.63, 2,     0.17, 2,     1.86, 2,  -999.00, 9,  -1.5605,     0.96, 2, 0.05, 2,  -999.00, 9,  -999.00, 9,   1.2200, 2, 0.218, 2, 0.664, 2, 4.938, 2
320620030705, SBI, 188, 1, 103, 3, 2, 20030803, 1626, 73.1723, -166.0113, 62,     37.7,  -1.5451,  32.4311, 2, -999.0000, 9,    262.7, 2,    297.1, 2,    47.35, 2,    13.31, 2,     0.19, 2,     1.98, 2,  -999.00, 9,  -1.5458,     1.26, 2, 0.03, 2,     0.34, 2,     0.50, 2,   1.1230, 2, 0.189, 2, 0.454, 2, 4.933, 2
320620030705, SBI, 188, 1, 102, 2, 2, 20030803, 1624, 73.1723, -166.0113, 62,     45.1,  -1.6982,  32.6002, 2, -999.0000, 9,    284.4, 2,    311.8, 2,    45.05, 2,    13.35, 2,     0.20, 2,     2.00, 2,  -999.00, 9,  -1.6990,     1.79, 2, 0.05, 2,     0.43, 2,     0.65, 2,   1.1290, 2, 0.198, 2, 0.330, 2, 4.929, 2
320620030705, SBI, 188, 1, 101, 1, 2, 20030803, 1621, 73.1723, -166.0113, 62,     56.4,  -1.6913,  32.6763, 2,  32.6615, 2,    265.1, 2,    289.2, 2,    50.44, 2,    14.11, 2,     0.19, 2,     2.15, 2,    68.10, 2,  -1.6923,     2.13, 2, 0.05, 2,     0.20, 2,     0.35, 2,   0.9900, 2, 0.185, 2, 0.173, 2, 4.938, 2
320620030705, SBI, 189, 1, 107, 7, 2, 20030803, 1756, 73.2503, -165.9985, 65,      2.1,  -1.1057,  29.3443, 2,  29.3387, 2,    366.2, 2,    417.6, 0,    15.38, 2,     0.15, 2,     0.00, 2,     0.80, 2,  -999.00, 9,  -1.1057,     0.00, 2, 0, 2,  -999.00, 9,  -999.00, 9,   1.4760, 2, 0.237, 2, 3.230, 2, 4.877, 2
320620030705, SBI, 189, 1, 106, 6, 2, 20030803, 1754, 73.2503, -165.9985, 65,     12.2,  -1.1531,  29.4435, 2, -999.0000, 9,    367.8, 2,    395.0, 2,    16.60, 2,     0.15, 2,     0.00, 2,     0.85, 2,  -999.00, 9,  -1.1533,     0.00, 2, 0, 2,  -999.00, 9,  -999.00, 9,   1.4020, 2, 0.230, 2, 2.516, 2, 4.880, 2
320620030705, SBI, 189, 1, 105, 5, 2, 20030803, 1752, 73.2503, -165.9985, 65,     20.4,  -1.4368,  30.9608, 2, -999.0000, 9,    340.9, 2,    346.4, 2,    32.17, 2,     5.10, 2,     0.11, 2,     1.44, 2,  -999.00, 9,  -1.4371,     0.54, 2, 0.06, 2,  -999.00, 9,  -999.00, 9,   2.0040, 2, 0.484, 2, 1.899, 2, 4.885, 2
320620030705, SBI, 189, 1, 104, 4, 2, 20030803, 1749, 73.2503, -165.9985, 65,     30.4,  -1.5802,  32.0401, 2, -999.0000, 9,    287.0, 2,    318.9, 2,    42.23, 2,    11.14, 2,     0.20, 2,     1.84, 2,  -999.00, 9,  -1.5807,     1.31, 2, 0.06, 2,  -999.00, 9,  -999.00, 9,   1.2270, 2, 0.211, 2, 1.076, 2, 4.884, 2
320620030705, SBI, 189, 1, 103, 3, 4, 20030803, 1747, 73.2503, -165.9985, 65,     40.3,  -1.5915,  32.4213, 2, -999.0000, 9,    268.6, 2,    360.7, 0,    27.50, 3,     4.90, 3,     0.09, 3,     1.28, 3,  -999.00, 9,  -1.5922,     0.52, 3, 0.03, 3,  -999.00, 9,  -999.00, 9,   1.0050, 2, 0.198, 2, 0.628, 2, 4.883, 2
320620030705, SBI, 189, 1, 102, 2, 2, 20030803, 1744, 73.2503, -165.9985, 65,     50.4,  -1.6939,  32.6415, 2,  32.6404, 2,    275.7, 2,    296.3, 2,    48.83, 2,    13.90, 2,     0.19, 2,     2.11, 2,  -999.00, 9,  -1.6948,     1.98, 2, 0.05, 2,  -999.00, 9,  -999.00, 9,   1.0070, 2, 0.182, 2, 0.334, 2, 4.886, 2
320620030705, SBI, 189, 1, 101, 1, 2, 20030803, 1742, 73.2503, -165.9985, 65,     60.6,  -1.6886,  32.6540, 2,  32.6449, 2,    270.3, 2,    292.6, 2,    49.45, 2,    14.01, 2,     0.19, 2,     2.13, 2,    68.50, 2,  -1.6896,     2.03, 2, 0.04, 2,  -999.00, 9,  -999.00, 9,   1.0680, 2, 0.185, 2, 0.176, 2, 4.882, 2
320620030705, SBI, 190, 1, 106, 6, 2, 20030803, 1911, 73.3314, -166.0051, 69,      2.3,  -1.1137,  29.3265, 2,  29.4084, 2,    365.4, 2,    395.5, 2,    16.57, 2,     0.09, 2,     0.00, 2,     0.83, 2,  -999.00, 9,  -1.1137,    -0.01, 2, 0.01, 2,     0.87, 2,     0.13, 2,   1.2560, 2, 0.200, 2, 3.711, 2, 4.662, 2
320620030705, SBI, 190, 1, 105, 5, 2, 20030803, 1910, 73.3314, -166.0051, 69,     12.0,  -1.2153,  29.7750, 2, -999.0000, 9,    369.2, 2,    396.2, 2,    18.10, 2,     0.08, 2,     0.01, 2,     0.87, 2,  -999.00, 9,  -1.2155,     0.00, 2, 0.03, 2,     1.50, 2,     0.23, 2,   1.6410, 2, 0.314, 2, 2.959, 2, 4.666, 2
320620030705, SBI, 190, 1, 104, 4, 2, 20030803, 1906, 73.3314, -166.0051, 69,     21.5,  -1.3940,  30.5755, 2, -999.0000, 9,    362.4, 2,    363.1, 2,    28.55, 2,     3.52, 2,     0.08, 2,     1.32, 2,  -999.00, 9,  -1.3943,     0.33, 2, 0.06, 2,     8.09, 2,     1.15, 2,   2.4530, 2, 0.860, 2, 2.178, 2, 4.658, 2
320620030705, SBI, 190, 1, 103, 3, 2, 20030803, 1904, 73.3314, -166.0051, 69,     34.9,  -1.5568,  32.1275, 2, -999.0000, 9,    280.4, 2,    301.3, 2,    44.60, 2,    11.66, 2,     0.21, 2,     1.92, 2,  -999.00, 9,  -1.5574,     1.38, 2, 0.06, 2,     0.90, 2,     0.81, 2,   1.3400, 2, 0.222, 2, 0.929, 2, 4.675, 2
320620030705, SBI, 190, 1, 102, 2, 2, 20030803, 1901, 73.3314, -166.0051, 69,     52.6,  -1.6101,  32.6372, 2, -999.0000, 9,    257.0, 2,    285.5, 2,    51.93, 2,    14.34, 2,     0.18, 2,     2.14, 2,  -999.00, 9,  -1.6110,     1.83, 2, 0.05, 2,     0.23, 2,     0.37, 2,   0.9330, 2, 0.180, 2, 0.311, 2, 4.719, 2
320620030705, SBI, 190, 1, 101, 1, 2, 20030803, 1859, 73.3314, -166.0051, 69,     62.6,  -1.6738,  32.6769, 2,  32.6518, 2,    270.3, 2,    289.3, 2,    51.21, 2,    14.28, 2,     0.18, 2,     2.13, 2,    68.10, 2,  -1.6749,     1.87, 2, 0.05, 2,     0.23, 2,     0.35, 2,   1.0360, 2, 0.182, 2, 0.181, 2, 4.745, 2
320620030705, SBI, 191, 1, 106, 6, 2, 20030803, 2035, 73.4198, -165.9797, 77,      1.5,  -1.3207,  29.2335, 2,  29.2466, 2,    370.0, 2,    398.6, 2,     9.38, 2,     0.13, 2,     0.01, 2,     0.75, 2,  -999.00, 9,  -1.3207,    -0.01, 2, 0, 2,  -999.00, 9,  -999.00, 9,   1.7060, 2, 0.311, 2, 3.774, 2, 4.625, 2
320620030705, SBI, 191, 1, 105, 5, 2, 20030803, 2033, 73.4198, -165.9797, 77,     12.3,  -1.3644,  29.6159, 2, -999.0000, 9,    361.8, 2,    393.2, 2,    11.63, 2,     0.44, 2,     0.01, 2,     0.83, 2,  -999.00, 9,  -1.3646,     0.02, 2, 0.01, 2,  -999.00, 9,  -999.00, 9,   1.9660, 2, 0.471, 2, 2.838, 2, 4.640, 2
320620030705, SBI, 191, 1, 104, 4, 2, 20030803, 2032, 73.4198, -165.9797, 77,     21.3,  -1.6125,  31.2598, 2, -999.0000, 9,    287.4, 2,    309.1, 2,    37.69, 2,     8.83, 2,     0.14, 2,     1.71, 2,  -999.00, 9,  -1.6128,     1.35, 2, 0.09, 2,  -999.00, 9,  -999.00, 9,   2.1060, 2, 0.662, 2, 1.798, 2, 4.641, 2
320620030705, SBI, 191, 1, 103, 3, 2, 20030803, 2030, 73.4198, -165.9797, 77,     43.5,  -1.6312,  31.6238, 2, -999.0000, 9,    277.9, 2,    289.0, 2,    43.36, 2,    10.89, 2,     0.14, 2,     1.88, 2,  -999.00, 9,  -1.6319,     1.42, 2, 0.06, 2,  -999.00, 9,  -999.00, 9,   1.1750, 2, 0.202, 2, 0.582, 2, 4.615, 2
320620030705, SBI, 191, 1, 102, 2, 2, 20030803, 2028, 73.4198, -165.9797, 77,     58.4,  -1.5000,  32.3914, 2, -999.0000, 9,    247.4, 2,    260.6, 2,    53.81, 2,    13.71, 2,     0.13, 2,     2.14, 2,  -999.00, 9,  -1.5011,     0.86, 2, 0.04, 2,  -999.00, 9,  -999.00, 9,   0.9270, 2, 0.180, 2, 0.278, 2, 4.594, 2
320620030705, SBI, 191, 1, 101, 1, 2, 20030803, 2025, 73.4198, -165.9797, 77,     72.3,  -1.5014,  32.5472, 2,  32.5328, 2,    231.3, 2,    249.2, 2,    58.69, 2,    14.44, 2,     0.14, 2,     2.29, 2,    67.20, 2,  -1.5028,     1.08, 2, 0.04, 2,  -999.00, 9,  -999.00, 9,   0.9690, 2, 0.185, 2, 0.168, 2, 4.606, 2