BOTTLE,20100423CCHDOSIODBK
EXPOCODE,SECT_ID,STNNBR,CASTNO,SAMPNO,BTLNBR,BTLNBR_FLAG_W,DATE,TIME,LATITUDE,LONGITUDE,DEPTH,CTDPRS,CTDTMP,CTDSAL,CTDSAL_FLAG_W,SALNTY,SALNTY_FLAG_W,CTDOXY,CTDOXY_FLAG_W,OXYGEN,OXYGEN_FLAG_W,SILCAT,SILCAT_FLAG_W,NITRAT,NITRAT_FLAG_W,NITRIT,NITRIT_FLAG_W,PHSPHT,PHSPHT_FLAG_W,DOC,DOC_FLAG_W,THETA,NH4,NH4_FLAG_W,UREA,UREA_FLAG_W,CHLORA,CHLORA_FLAG_W,PPHYTN,PPHYTN_FLAG_W,FLUOR,FLUOR_FLAG_W,HAARDT,HAARDT_FLAG_W,PAR,PAR_FLAG_W,SPAR,SPAR_FLAG_W
,,,,,,,,,,,METERS,DBAR,ITS-90,PSS-78,,PSS-78,,UMOL/KG,,UMOL/KG,,UMOL/KG,,UMOL/KG,,UMOL/KG,,UMOL/KG,,UMOL/KG,,DEG C,UMOL/KG,,UMOL/KG,,UG/KG,,UG/KG,,MG/M^3,,VOLTS,,VOLTS,,VOLTS,
320620030705, SBI, 47, 1, 124, 24, 2, 20030718, 623, 71.8130, -151.8695, 1463,      1.8,  -0.5388,  29.6596, 2,  29.5532, 2,    365.5, 2,    394.6, 2,     8.00, 2,     0.14, 2,     0.00, 2,     0.78, 2,    70.70, 2,  -0.5388,     0.23, 2, 0.01, 2,     0.15, 2,     0.08, 2,   0.9150, 2, -999.000, 2, -999.000, 9, 4.946, 2
320620030705, SBI, 47, 1, 123, 23, 2, 20030718, 622, 71.8130, -151.8695, 1463,     19.9,   2.0348,  30.8086, 2, -999.0000, 9,    360.9, 2,    400.2, 2,     8.39, 2,     0.64, 2,     0.05, 2,     0.87, 2,    71.30, 2,   2.0339,     0.20, 2, 0.03, 2,     0.38, 2,     0.20, 2,   0.8130, 2, -999.000, 2, -999.000, 9, 4.942, 2
320620030705, SBI, 47, 1, 122, 22, 2, 20030718, 620, 71.8130, -151.8695, 1463,     37.9,   0.1013,  31.4043, 2, -999.0000, 9,    361.3, 2,    380.2, 2,    13.79, 2,     1.81, 2,     0.07, 2,     1.05, 2,    72.00, 2,   0.1002,     0.80, 2, 0.08, 2,     0.71, 2,     0.34, 2,   1.2270, 2, -999.000, 2, -999.000, 9, 4.939, 2
320620030705, SBI, 47, 1, 121, 21, 2, 20030718, 619, 71.8130, -151.8695, 1463,     50.0,  -0.0556,  31.7018, 2, -999.0000, 9,    343.1, 2,    363.6, 2,    16.43, 2,     3.76, 2,     0.12, 2,     1.17, 2,    72.30, 2,  -0.0571,     0.96, 2, 0.08, 2,     0.17, 2,     0.25, 2,   1.0070, 2, -999.000, 2, -999.000, 9, 4.932, 2
320620030705, SBI, 47, 1, 120, 20, 2, 20030718, 617, 71.8130, -151.8695, 1463,     65.1,  -0.7951,  31.9356, 2, -999.0000, 9,    331.8, 2,    347.6, 2,    20.30, 2,     6.50, 2,     0.16, 2,     1.33, 2,  -999.00, 9,  -0.7966,     0.50, 2, 0.03, 2,  -999.00, 9,  -999.00, 9,   0.8920, 2, -999.000, 2, -999.000, 9, 4.932, 2
320620030705, SBI, 47, 1, 119, 19, 2, 20030718, 616, 71.8130, -151.8695, 1463,     80.3,  -1.2211,  32.0863, 2, -999.0000, 9,    318.8, 2,    343.4, 2,    21.10, 2,     6.91, 2,     0.12, 2,     1.37, 2,    68.10, 2,  -1.2227,     0.65, 2, 0.04, 2,     0.11, 2,     0.16, 2,   0.9880, 2, -999.000, 2, -999.000, 9, 4.933, 2
320620030705, SBI, 47, 1, 118, 18, 2, 20030718, 615, 71.8130, -151.8695, 1463,     95.2,  -1.0166,  32.2408, 2, -999.0000, 9,    312.7, 2,    336.3, 2,    21.82, 2,     6.65, 2,     0.11, 2,     1.40, 2,    67.70, 2,  -1.0188,     1.23, 2, 0.07, 2,  -999.00, 9,  -999.00, 9,   0.8930, 2, -999.000, 2, -999.000, 9, 4.930, 2
320620030705, SBI, 47, 1, 117, 17, 2, 20030718, 613, 71.8130, -151.8695, 1463,    110.3,  -1.1641,  32.3856, 2, -999.0000, 9,    305.5, 2,    324.7, 2,    23.84, 2,     8.31, 2,     0.09, 2,     1.48, 2,  -999.00, 9,  -1.1665,     0.79, 2, 0.05, 2,     0.07, 2,     0.17, 2,   0.8100, 2, -999.000, 2, -999.000, 9, 4.925, 2
320620030705, SBI, 47, 1, 116, 16, 2, 20030718, 612, 71.8130, -151.8695, 1463,    125.4,  -1.4529,  32.5415, 2, -999.0000, 9,    294.1, 2,    316.6, 2,    25.47, 2,     9.70, 2,     0.07, 2,     1.55, 2,    67.70, 2,  -1.4554,     0.53, 2, 0.03, 2,  -999.00, 9,  -999.00, 9,   0.9470, 2, -999.000, 2, -999.000, 9, 4.917, 2
320620030705, SBI, 47, 1, 115, 15, 2, 20030718, 610, 71.8130, -151.8695, 1463,    140.2,  -1.5459,  32.7617, 2, -999.0000, 9,    275.7, 2,    301.9, 2,    29.14, 2,    12.39, 2,     0.05, 2,     1.65, 2,    64.00, 2,  -1.5486,     0.11, 2, 0.01, 2,  -999.00, 9,  -999.00, 9,   0.6620, 2, -999.000, 2, -999.000, 9, 4.904, 2
320620030705, SBI, 47, 1, 114, 14, 2, 20030718, 609, 71.8130, -151.8695, 1463,    155.4,  -1.4633,  33.2644, 2, -999.0000, 9,    270.3, 2,    294.6, 2,    29.83, 2,    13.28, 2,     0.04, 2,     1.62, 2,    60.60, 2,  -1.4666,     0.02, 2, 0.01, 2,  -999.00, 9,  -999.00, 9,   0.7000, 2, -999.000, 2, -999.000, 9, 4.898, 2
320620030705, SBI, 47, 1, 113, 13, 2, 20030718, 607, 71.8130, -151.8695, 1463,    170.4,  -0.8972,  34.2231, 2, -999.0000, 9,    260.5, 2,    284.6, 2,    22.97, 2,    13.36, 2,     0.01, 2,     1.37, 2,  -999.00, 9,  -0.9020,     0.01, 2, 0.02, 2,  -999.00, 9,  -999.00, 9,   0.6470, 2, -999.000, 2, -999.000, 9, 4.889, 2
320620030705, SBI, 47, 1, 112, 12, 2, 20030718, 606, 71.8130, -151.8695, 1463,    185.5,  -0.5946,  34.4189, 2, -999.0000, 9,    262.6, 2,    282.9, 2,    18.78, 2,    13.25, 2,     0.01, 2,     1.22, 2,    59.70, 2,  -0.6004,     0.01, 2, 0.01, 2,  -999.00, 9,  -999.00, 9,   0.6280, 2, -999.000, 2, -999.000, 9, 4.864, 2
320620030705, SBI, 47, 1, 111, 11, 2, 20030718, 604, 71.8130, -151.8695, 1463,    200.5,  -0.3354,  34.5444, 2,  34.5669, 2,    263.4, 2,    285.4, 2,    15.82, 2,    13.09, 2,     0.01, 2,     1.13, 2,    59.80, 2,  -0.3422,     0.01, 2, 0.02, 2,  -999.00, 9,  -999.00, 9,   0.7230, 2, -999.000, 2, -999.000, 9, 4.845, 2
320620030705, SBI, 47, 1, 110, 10, 2, 20030718, 603, 71.8130, -151.8695, 1463,    215.3,  -0.0362,  34.6331, 2,  34.6431, 2,    264.5, 2,    285.9, 2,    14.58, 2,    13.09, 2,     0.01, 2,     1.10, 2,  -999.00, 9,  -0.0441,     0.01, 2, 0.02, 2,  -999.00, 9,  -999.00, 9,   0.9130, 2, -999.000, 2, -999.000, 9, 4.829, 2
320620030705, SBI, 47, 1, 109, 9, 2, 20030718, 602, 71.8130, -151.8695, 1463,    240.5,   0.2616,  34.7218, 2,  34.7248, 2,    266.0, 2,    287.1, 2,    12.13, 2,    13.03, 2,     0.01, 2,     1.04, 2,    54.40, 2,   0.2521,     0.01, 2, 0.01, 2,  -999.00, 9,  -999.00, 9,   0.6690, 2, -999.000, 2, -999.000, 9, 4.834, 2
320620030705, SBI, 47, 1, 108, 8, 2, 20030718, 559, 71.8130, -151.8695, 1463,    301.4,   0.5166,  34.7969, 2,  34.7959, 2,    268.8, 2,    289.4, 2,     9.27, 2,    12.94, 2,     0.00, 2,     0.95, 2,  -999.00, 9,   0.5038,     0.00, 2, 0.01, 2,  -999.00, 9,  -999.00, 9,   0.5960, 2, -999.000, 2, -999.000, 9, 4.850, 2
320620030705, SBI, 47, 1, 107, 7, 2, 20030718, 556, 71.8130, -151.8695, 1463,    341.1,   0.5147,  34.8134, 2,  34.8135, 2,    269.5, 2,    290.9, 2,     8.96, 2,    12.83, 2,     0.00, 2,     0.94, 2,  -999.00, 9,   0.5001,     0.00, 2, 0, 2,  -999.00, 9,  -999.00, 9,   0.8040, 2, -999.000, 2, -999.000, 9, 4.847, 2
320620030705, SBI, 47, 1, 106, 6, 2, 20030718, 553, 71.8130, -151.8695, 1463,    405.8,   0.5108,  34.8367, 2,  34.8363, 2,    271.9, 2,    293.4, 2,     8.03, 2,    12.83, 2,     0.00, 2,     0.91, 2,  -999.00, 9,   0.4932,     0.00, 2, 0.01, 2,  -999.00, 9,  -999.00, 9,   0.5410, 2, -999.000, 2, -999.000, 9, 4.856, 2
320620030705, SBI, 47, 1, 105, 5, 2, 20030718, 548, 71.8130, -151.8695, 1463,    607.7,   0.3239,  34.8582, 2,  34.8561, 2,    273.1, 2,    297.1, 2,     7.72, 2,    12.88, 2,     0.00, 2,     0.91, 2,  -999.00, 9,   0.2973,     0.00, 2, 0.01, 2,  -999.00, 9,  -999.00, 9,   0.7910, 2, -999.000, 2, -999.000, 9, 4.846, 2
320620030705, SBI, 47, 1, 104, 4, 2, 20030718, 542, 71.8130, -151.8695, 1463,    808.1,   0.0940,  34.8728, 2,  34.8702, 2,    274.3, 2,    298.1, 2,     7.82, 2,    12.83, 2,     0.00, 2,     0.92, 2,  -999.00, 9,   0.0587,     0.00, 2, 0, 2,  -999.00, 9,  -999.00, 9,   0.4720, 2, -999.000, 2, -999.000, 9, 4.829, 2
320620030705, SBI, 47, 1, 103, 3, 2, 20030718, 535, 71.8130, -151.8695, 1463,   1104.2,  -0.1329,  34.8914, 2,  34.8908, 2,    273.0, 2,    299.2, 2,     8.63, 2,    12.94, 2,     0.00, 2,     0.95, 2,  -999.00, 9,  -0.1820,     0.00, 2, 0, 2,  -999.00, 9,  -999.00, 9,   0.5620, 2, -999.000, 2, -999.000, 9, 4.810, 2
320620030705, SBI, 47, 1, 102, 2, 2, 20030718, 527, 71.8130, -151.8695, 1463,   1368.8,  -0.3189,  34.9145, 2,  34.9118, 2,    270.6, 2,    296.0, 2,     9.84, 2,    13.61, 2,     0.00, 2,     0.98, 2,  -999.00, 9,  -0.3809,     0.00, 2, 0, 2,  -999.00, 9,  -999.00, 9,   0.6140, 2, -999.000, 2, -999.000, 9, 4.834, 2
320620030705, SBI, 47, 1, 101, 1, 2, 20030718, 524, 71.8130, -151.8695, 1463,   1469.1,  -0.3664,  34.9243, 2,  34.9206, 2,    267.6, 2,    292.9, 2,    11.16, 2,    13.92, 2,     0.01, 2,     1.02, 2,  -999.00, 9,  -0.4337,     0.00, 2, 0, 2,  -999.00, 9,  -999.00, 9,   0.7120, 2, -999.000, 2, -999.000, 9, 4.835, 2
320620030705, SBI, 48, 1, 124, 24, 2, 20030718, 1015, 71.7623, -151.9521, 1247,      2.3,  -0.9604,  29.3070, 2,  29.4811, 2,    367.7, 2,    403.7, 2,     7.55, 2,     0.09, 2,     0.00, 2,     0.76, 2,  -999.00, 9,  -0.9604,     0.14, 2, 0.01, 2,     0.22, 2,     0.09, 2,   0.9700, 2, -999.000, 2, -999.000, 9, 4.983, 2
320620030705, SBI, 48, 1, 123, 23, 2, 20030718, 1013, 71.7623, -151.9521, 1247,     25.0,   0.0601,  30.9931, 2, -999.0000, 9,    371.8, 2,    391.0, 2,    13.27, 2,     0.28, 2,     0.01, 2,     0.89, 2,    73.00, 2,   0.0594,     0.60, 2, 0.07, 2,     0.16, 2,     0.04, 2,   1.0220, 2, -999.000, 2, -999.000, 9, 4.982, 2
320620030705, SBI, 48, 1, 122, 22, 2, 20030718, 1011, 71.7623, -151.9521, 1247,     44.2,  -0.9794,  31.5611, 2, -999.0000, 9,    342.5, 2,    371.6, 2,    14.40, 2,     2.91, 2,     0.10, 2,     1.12, 2,    73.50, 2,  -0.9803,     0.92, 2, 0.07, 2,     1.70, 2,     0.49, 2,   1.4850, 2, -999.000, 2, -999.000, 9, 4.983, 2
320620030705, SBI, 48, 1, 121, 21, 2, 20030718, 1011, 71.7623, -151.9521, 1247,     44.2,  -1.0680,  31.5613, 2, -999.0000, 9,    342.3, 2,   -999.0, 9,  -999.00, 9,  -999.00, 9,  -999.00, 9,  -999.00, 9,  -999.00, 9,  -1.0689,  -999.00, 9, -999, 9,  -999.00, 9,  -999.00, 9,   1.4970, 2, -999.000, 2, -999.000, 9, 4.983, 2
320620030705, SBI, 48, 1, 120, 20, 2, 20030718, 1007, 71.7623, -151.9521, 1247,     67.1,  -1.4937,  31.9882, 2, -999.0000, 9,    311.6, 2,    343.7, 2,    19.82, 2,     7.11, 2,     0.11, 2,     1.34, 2,    71.40, 2,  -1.4949,     0.24, 2, 0.03, 2,     0.17, 2,     0.16, 2,   0.8740, 2, -999.000, 2, -999.000, 9, 4.983, 2
320620030705, SBI, 48, 1, 119, 19, 2, 20030718, 1005, 71.7623, -151.9521, 1247,     82.0,  -1.1352,  32.1655, 2, -999.0000, 9,    323.8, 2,    344.1, 2,    22.18, 2,     6.39, 2,     0.15, 2,     1.37, 2,    68.90, 2,  -1.1369,     1.10, 2, 0.06, 2,  -999.00, 9,  -999.00, 9,   1.0670, 2, -999.000, 2, -999.000, 9, 4.982, 2
320620030705, SBI, 48, 1, 118, 18, 2, 20030718, 1004, 71.7623, -151.9521, 1247,     97.4,  -0.6901,  32.3164, 2, -999.0000, 9,    312.2, 2,    337.6, 2,    20.23, 2,     5.89, 2,     0.11, 2,     1.32, 2,    69.70, 2,  -0.6926,     1.18, 2, 0.08, 2,  -999.00, 9,  -999.00, 9,   0.8640, 2, -999.000, 2, -999.000, 9, 4.982, 2
320620030705, SBI, 48, 1, 117, 17, 2, 20030718, 1002, 71.7623, -151.9521, 1247,    112.4,  -1.1995,  32.4013, 2,  32.3946, 2,    309.7, 2,    336.9, 2,    22.18, 2,     6.56, 2,     0.13, 2,     1.38, 2,    70.60, 2,  -1.2019,     1.21, 2, 0.06, 2,     0.07, 2,     0.14, 2,   0.8530, 2, -999.000, 2, -999.000, 9, 4.979, 2
320620030705, SBI, 48, 1, 116, 16, 2, 20030718, 1000, 71.7623, -151.9521, 1247,    127.5,  -1.4340,  32.5309, 2, -999.0000, 9,    294.4, 2,    313.3, 2,    26.70, 2,    10.29, 2,     0.08, 2,     1.57, 2,    64.90, 2,  -1.4365,     0.43, 2, 0.03, 2,  -999.00, 9,  -999.00, 9,   0.8660, 2, -999.000, 2, -999.000, 9, 4.978, 2
320620030705, SBI, 48, 1, 115, 15, 2, 20030718, 957, 71.7623, -151.9521, 1247,    142.3,  -1.5102,  32.7360, 2, -999.0000, 9,    281.1, 2,    305.6, 2,    28.64, 2,    11.71, 2,     0.07, 2,     1.62, 2,    64.30, 2,  -1.5130,     0.20, 2, 0.05, 2,  -999.00, 9,  -999.00, 9,   0.7630, 2, -999.000, 2, -999.000, 9, 4.976, 2
320620030705, SBI, 48, 1, 114, 14, 2, 20030718, 955, 71.7623, -151.9521, 1247,    157.3,  -1.5130,  33.0470, 2,  33.0657, 2,    272.8, 2,    299.3, 2,    30.59, 2,    12.91, 2,     0.06, 2,     1.66, 2,    62.60, 2,  -1.5162,     0.08, 2, 0.02, 2,  -999.00, 9,  -999.00, 9,   0.8380, 2, -999.000, 2, -999.000, 9, 4.975, 2
320620030705, SBI, 48, 1, 113, 13, 2, 20030718, 953, 71.7623, -151.9521, 1247,    177.5,  -1.0870,  34.1155, 2, -999.0000, 9,    266.9, 2,    292.0, 2,    25.03, 2,    13.42, 2,     0.01, 2,     1.43, 2,    60.50, 2,  -1.0917,     0.02, 2, 0.02, 2,  -999.00, 9,  -999.00, 9,   0.9490, 2, -999.000, 2, -999.000, 9, 4.976, 2
320620030705, SBI, 48, 1, 112, 12, 2, 20030718, 951, 71.7623, -151.9521, 1247,    197.0,  -0.1775,  34.5689, 2, -999.0000, 9,    264.6, 2,    287.3, 2,    16.94, 2,    13.13, 2,     0.04, 2,     1.17, 2,    56.60, 2,  -0.1845,     0.02, 2, 0.03, 2,  -999.00, 9,  -999.00, 9,   0.8750, 2, -999.000, 2, -999.000, 9, 4.978, 2
320620030705, SBI, 48, 1, 111, 11, 2, 20030718, 949, 71.7623, -151.9521, 1247,    212.5,   0.0818,  34.6571, 2, -999.0000, 9,    265.6, 2,    287.1, 2,    14.38, 2,    12.99, 2,     0.06, 2,     1.08, 2,    55.30, 2,   0.0738,     0.01, 2, 0.04, 2,     0.04, 2,     0.05, 2,   0.7380, 2, -999.000, 2, -999.000, 9, 4.978, 2
320620030705, SBI, 48, 1, 110, 10, 2, 20030718, 946, 71.7623, -151.9521, 1247,    232.4,   0.2627,  34.7148, 2, -999.0000, 9,    264.1, 2,    285.3, 2,    12.02, 2,    13.04, 2,     0.01, 2,     1.02, 2,  -999.00, 9,   0.2535,     0.01, 2, 0.01, 2,  -999.00, 9,  -999.00, 9,   0.5340, 2, -999.000, 2, -999.000, 9, 4.978, 2
320620030705, SBI, 48, 1, 109, 9, 2, 20030718, 944, 71.7623, -151.9521, 1247,    268.0,   0.4628,  34.7722, 2,  34.7757, 2,    265.3, 2,    287.2, 2,    10.28, 2,    12.99, 2,     0.01, 2,     0.97, 2,  -999.00, 9,   0.4516,     0.00, 2, 0.02, 2,  -999.00, 9,  -999.00, 9,   0.5670, 2, -999.000, 2, -999.000, 9, 4.976, 2
320620030705, SBI, 48, 1, 108, 8, 2, 20030718, 941, 71.7623, -151.9521, 1247,    297.5,   0.5072,  34.7941, 2,  34.7957, 2,    268.3, 2,    289.9, 2,     9.56, 2,    12.73, 2,     0.00, 2,     0.95, 2,  -999.00, 9,   0.4946,     0.00, 2, 0.02, 2,  -999.00, 9,  -999.00, 9,   0.8460, 2, -999.000, 2, -999.000, 9, 4.976, 2
320620030705, SBI, 48, 1, 107, 7, 2, 20030718, 939, 71.7623, -151.9521, 1247,    327.3,   0.5427,  34.8102, 2,  34.8108, 2,    269.7, 2,    292.6, 2,     8.95, 2,    12.83, 2,     0.00, 2,     0.93, 2,  -999.00, 9,   0.5286,     0.00, 2, 0.01, 2,  -999.00, 9,  -999.00, 9,   0.5690, 2, -999.000, 2, -999.000, 9, 4.975, 2
320620030705, SBI, 48, 1, 106, 6, 2, 20030718, 937, 71.7623, -151.9521, 1247,    357.2,   0.5098,  34.8180, 2,  34.8184, 2,    269.7, 2,    291.4, 2,     9.05, 2,    12.83, 2,     0.00, 2,     0.93, 2,  -999.00, 9,   0.4944,     0.01, 2, 0.01, 2,  -999.00, 9,  -999.00, 9,   0.6060, 2, -999.000, 2, -999.000, 9, 4.976, 2
320620030705, SBI, 48, 1, 105, 5, 2, 20030718, 933, 71.7623, -151.9521, 1247,    457.8,   0.4653,  34.8425, 2,  34.8412, 2,    272.1, 2,    294.9, 2,     8.13, 2,    12.78, 2,     0.00, 2,     0.91, 2,  -999.00, 9,   0.4454,     0.00, 2, 0.02, 2,  -999.00, 9,  -999.00, 9,   0.6260, 2, -999.000, 2, -999.000, 9, 4.978, 2
320620030705, SBI, 48, 1, 104, 4, 2, 20030718, 928, 71.7623, -151.9521, 1247,    606.9,   0.3102,  34.8598, 2,  34.8592, 2,    273.8, 2,    297.5, 2,     7.82, 2,    12.78, 2,     0.00, 2,     0.91, 2,  -999.00, 9,   0.2837,     0.00, 2, 0.01, 2,  -999.00, 9,  -999.00, 9,   0.5650, 2, -999.000, 2, -999.000, 9, 4.974, 2
320620030705, SBI, 48, 1, 103, 3, 2, 20030718, 921, 71.7623, -151.9521, 1247,    800.4,   0.0682,  34.8741, 2,  34.8743, 2,    274.1, 2,    299.0, 2,     8.02, 2,    12.78, 2,     0.00, 2,     0.91, 2,  -999.00, 9,   0.0335,     0.00, 2, 0.01, 2,  -999.00, 9,  -999.00, 9,   0.5700, 2, -999.000, 2, -999.000, 9, 4.971, 2
320620030705, SBI, 48, 1, 102, 2, 2, 20030718, 912, 71.7623, -151.9521, 1247,   1148.3,  -0.2500,  34.9037, 2,  34.9010, 2,    272.4, 2,    298.3, 2,     9.57, 2,    13.29, 2,     0.01, 2,     0.96, 2,  -999.00, 9,  -0.3004,     0.00, 2, 0.01, 2,  -999.00, 9,  -999.00, 9,   0.6220, 2, -999.000, 2, -999.000, 9, 4.967, 2
320620030705, SBI, 48, 1, 101, 1, 2, 20030718, 908, 71.7623, -151.9521, 1247,   1252.0,  -0.2825,  34.9088, 2,  34.9061, 2,    271.7, 2,    297.5, 2,     9.98, 2,    13.39, 2,     0.01, 2,     0.97, 2,  -999.00, 9,  -0.3383,     0.01, 2, 0, 2,  -999.00, 9,  -999.00, 9,   0.4810, 2, -999.000, 2, -999.000, 9, 4.965, 2