BOTTLE,20100423CCHDOSIODBK
EXPOCODE,SECT_ID,STNNBR,CASTNO,SAMPNO,BTLNBR,BTLNBR_FLAG_W,DATE,TIME,LATITUDE,LONGITUDE,DEPTH,CTDPRS,CTDTMP,CTDSAL,CTDSAL_FLAG_W,SALNTY,SALNTY_FLAG_W,CTDOXY,CTDOXY_FLAG_W,OXYGEN,OXYGEN_FLAG_W,SILCAT,SILCAT_FLAG_W,NITRAT,NITRAT_FLAG_W,NITRIT,NITRIT_FLAG_W,PHSPHT,PHSPHT_FLAG_W,DOC,DOC_FLAG_W,THETA,NH4,NH4_FLAG_W,UREA,UREA_FLAG_W,CHLORA,CHLORA_FLAG_W,PPHYTN,PPHYTN_FLAG_W,FLUOR,FLUOR_FLAG_W,HAARDT,HAARDT_FLAG_W,PAR,PAR_FLAG_W,SPAR,SPAR_FLAG_W
,,,,,,,,,,,METERS,DBAR,ITS-90,PSS-78,,PSS-78,,UMOL/KG,,UMOL/KG,,UMOL/KG,,UMOL/KG,,UMOL/KG,,UMOL/KG,,UMOL/KG,,DEG C,UMOL/KG,,UMOL/KG,,UG/KG,,UG/KG,,MG/M^3,,VOLTS,,VOLTS,,VOLTS,
320620030705, SBI, 299, 1, 112, 12, 2, 20030813, 1708, 71.7166, -151.9320, 1111,      1.9,   0.2588,  28.1878, 2, -999.0000, 9,    341.2, 2,    363.7, 2,     6.58, 2,     0.09, 2,     0.00, 2,     0.66, 2,  -999.00, 9,   0.2588,     0.01, 2, 0, 2,  -999.00, 9,  -999.00, 9,   0.7960, 2, 0.175, 2, 3.406, 2, 4.806, 2
320620030705, SBI, 299, 1, 111, 11, 2, 20030813, 1706, 71.7166, -151.9320, 1111,     29.3,   2.4194,  30.2811, 2, -999.0000, 9,    328.4, 2,    366.2, 2,     9.37, 2,     0.38, 2,     0.01, 2,     0.80, 2,  -999.00, 9,   2.4180,     0.51, 2, 0.04, 2,  -999.00, 9,  -999.00, 9,   0.9240, 2, 0.195, 2, 2.300, 2, 4.814, 2
320620030705, SBI, 299, 1, 110, 10, 2, 20030813, 1704, 71.7166, -151.9320, 1111,     42.4,   1.6545,  31.6495, 2, -999.0000, 9,    326.1, 2,    362.2, 2,     7.44, 2,     1.08, 2,     0.04, 2,     0.94, 2,  -999.00, 9,   1.6526,     1.20, 2, 0.1, 2,  -999.00, 9,  -999.00, 9,   0.9590, 2, 0.188, 2, 1.800, 2, 4.824, 2
320620030705, SBI, 299, 1, 109, 9, 2, 20030813, 1702, 71.7166, -151.9320, 1111,     62.4,  -0.6813,  31.9683, 2, -999.0000, 9,    328.2, 2,    359.9, 2,    16.19, 2,     3.85, 2,     0.11, 2,     1.24, 2,  -999.00, 9,  -0.6828,     1.90, 2, 0.13, 2,  -999.00, 9,  -999.00, 9,   0.9640, 2, 0.197, 2, 1.150, 2, 4.818, 2
320620030705, SBI, 299, 1, 108, 8, 2, 20030813, 1700, 71.7166, -151.9320, 1111,     82.5,  -1.0890,  32.2486, 2, -999.0000, 9,    311.1, 2,    344.1, 2,    18.59, 2,     5.97, 2,     0.14, 2,     1.35, 2,  -999.00, 9,  -1.0908,     1.40, 2, 0.07, 2,  -999.00, 9,  -999.00, 9,   0.9190, 2, 0.188, 2, 0.591, 2, 4.819, 2
320620030705, SBI, 299, 1, 107, 7, 2, 20030813, 1658, 71.7166, -151.9320, 1111,    102.6,  -1.3303,  32.4253, 2, -999.0000, 9,    299.1, 2,    330.8, 2,    22.73, 2,     7.56, 2,     0.16, 2,     1.56, 2,  -999.00, 9,  -1.3324,     2.28, 2, 0.11, 2,  -999.00, 9,  -999.00, 9,   0.8890, 2, 0.192, 2, 0.272, 2, 4.821, 2
320620030705, SBI, 299, 1, 106, 6, 2, 20030813, 1657, 71.7166, -151.9320, 1111,    122.5,  -1.4871,  32.6965, 2, -999.0000, 9,    269.0, 2,    295.5, 2,    29.62, 2,    12.65, 2,     0.06, 2,     1.72, 2,  -999.00, 9,  -1.4895,     0.55, 2, 0.04, 2,  -999.00, 9,  -999.00, 9,   0.8640, 2, 0.185, 2, 0.166, 2, 4.823, 2
320620030705, SBI, 299, 1, 105, 5, 2, 20030813, 1655, 71.7166, -151.9320, 1111,    142.8,  -1.5580,  33.0882, 2, -999.0000, 9,    261.8, 2,    288.3, 2,    31.23, 2,    13.97, 2,     0.02, 2,     1.74, 2,  -999.00, 9,  -1.5609,     0.00, 2, 0, 2,  -999.00, 9,  -999.00, 9,   0.6270, 2, 0.178, 2, 0.145, 2, 4.822, 2
320620030705, SBI, 299, 1, 104, 4, 2, 20030813, 1652, 71.7166, -151.9320, 1111,    162.8,  -1.4458,  33.3389, 2, -999.0000, 9,    254.3, 2,    284.2, 2,    29.99, 2,    14.12, 2,     0.03, 2,     1.65, 2,  -999.00, 9,  -1.4493,     0.05, 2, 0, 2,  -999.00, 9,  -999.00, 9,   0.6620, 2, 0.176, 2, 0.140, 2, 4.834, 2
320620030705, SBI, 299, 1, 103, 3, 2, 20030813, 1650, 71.7166, -151.9320, 1111,    182.8,  -1.2365,  33.8176, 2, -999.0000, 9,    260.6, 2,    290.2, 2,    26.30, 2,    13.26, 2,     0.05, 2,     1.52, 2,  -999.00, 9,  -1.2410,     0.01, 2, 0.01, 2,  -999.00, 9,  -999.00, 9,   0.6530, 2, 0.177, 2, 0.140, 2, 4.838, 2
320620030705, SBI, 299, 1, 102, 2, 2, 20030813, 1648, 71.7166, -151.9320, 1111,    203.0,  -1.0457,  34.1071, 2,  34.2039, 2,    261.9, 2,    287.8, 2,    21.10, 2,    13.18, 2,     0.03, 2,     1.34, 2,  -999.00, 9,  -1.0512,     0.00, 2, 0.01, 2,  -999.00, 9,  -999.00, 9,   0.6130, 2, 0.177, 2, 0.140, 2, 4.844, 2
320620030705, SBI, 299, 1, 101, 1, 2, 20030813, 1639, 71.7166, -151.9320, 1111,    504.7,   0.4787,  34.8486, 2,  34.8454, 2,    269.8, 2,    295.5, 2,     6.75, 2,    12.47, 2,     0.01, 2,     0.89, 2,  -999.00, 9,   0.4564,     0.00, 2, 0.04, 2,  -999.00, 9,  -999.00, 9,   0.4980, 2, 0.172, 2, 0.140, 2, 4.838, 2
320620030705, SBI, 300, 1, 112, 12, 2, 20030813, 2341, 71.6600, -151.9993, 896,      0.9,   0.2722,  28.0714, 2,  28.1094, 2,    341.7, 2,    373.1, 2,     3.24, 2,     0.10, 2,     0.00, 2,     0.65, 2,  -999.00, 9,   0.2722,     0.00, 2, 0, 2,  -999.00, 9,  -999.00, 9,   0.6320, 2, 0.178, 2, 3.648, 2, 4.776, 2
320620030705, SBI, 300, 1, 111, 11, 2, 20030813, 2339, 71.6600, -151.9993, 896,     23.3,   1.4549,  29.4929, 2, -999.0000, 9,    335.1, 2,    384.1, 2,    11.88, 2,     0.15, 2,     0.01, 2,     0.84, 2,  -999.00, 9,   1.4540,     0.27, 2, 0.01, 2,  -999.00, 9,  -999.00, 9,   1.0150, 2, 0.195, 2, 2.686, 2, 4.770, 2
320620030705, SBI, 300, 1, 110, 10, 2, 20030813, 2337, 71.6600, -151.9993, 896,     42.9,   0.5400,  31.5179, 2, -999.0000, 9,    349.8, 2,    381.1, 2,    14.10, 2,     1.01, 2,     0.04, 2,     1.13, 2,  -999.00, 9,   0.5385,     1.08, 2, 0.13, 2,  -999.00, 9,  -999.00, 9,   0.9490, 2, 0.214, 2, 2.009, 2, 4.766, 2
320620030705, SBI, 300, 1, 109, 9, 2, 20030813, 2336, 71.6600, -151.9993, 896,     63.3,  -0.8066,  31.9313, 2, -999.0000, 9,    323.8, 2,    349.9, 2,    15.73, 2,     4.97, 2,     0.12, 2,     1.30, 2,  -999.00, 9,  -0.8081,     1.26, 2, 0.08, 2,  -999.00, 9,  -999.00, 9,   0.8900, 2, 0.195, 2, 1.239, 2, 4.756, 2
320620030705, SBI, 300, 1, 108, 8, 2, 20030813, 2335, 71.6600, -151.9993, 896,     83.4,  -1.2552,  32.3144, 2, -999.0000, 9,    294.3, 2,    329.5, 2,    21.81, 2,     7.82, 2,     0.13, 2,     1.54, 2,  -999.00, 9,  -1.2569,     1.72, 2, 0.11, 2,  -999.00, 9,  -999.00, 9,   0.8160, 2, 0.193, 2, 0.712, 2, 4.747, 2
320620030705, SBI, 300, 1, 107, 7, 2, 20030813, 2334, 71.6600, -151.9993, 896,    103.5,  -1.4508,  32.5846, 2, -999.0000, 9,    269.5, 2,    300.1, 2,    26.19, 2,    12.04, 2,     0.04, 2,     1.69, 2,  -999.00, 9,  -1.4528,     0.17, 2, 0, 2,  -999.00, 9,  -999.00, 9,   0.8460, 2, 0.185, 2, 0.340, 2, 4.740, 2
320620030705, SBI, 300, 1, 106, 6, 2, 20030813, 2333, 71.6600, -151.9993, 896,    123.4,  -1.5447,  32.7624, 2, -999.0000, 9,    268.1, 2,    299.7, 2,    28.85, 2,    12.83, 2,     0.03, 2,     1.70, 2,  -999.00, 9,  -1.5471,     0.02, 2, 0, 2,  -999.00, 9,  -999.00, 9,   0.7580, 2, 0.185, 2, 0.203, 2, 4.728, 2
320620030705, SBI, 300, 1, 105, 5, 2, 20030813, 2331, 71.6600, -151.9993, 896,    143.6,  -1.5394,  33.0120, 2, -999.0000, 9,    258.5, 2,    287.1, 2,    32.32, 2,    14.61, 2,     0.03, 2,     1.81, 2,  -999.00, 9,  -1.5423,     0.04, 2, 0, 2,  -999.00, 9,  -999.00, 9,   0.7150, 2, 0.184, 2, 0.157, 2, 4.723, 2
320620030705, SBI, 300, 1, 104, 4, 2, 20030813, 2330, 71.6600, -151.9993, 896,    163.7,  -1.4870,  33.1747, 2, -999.0000, 9,    257.2, 2,    287.8, 2,    29.20, 2,    13.74, 2,     0.06, 2,     1.66, 2,  -999.00, 9,  -1.4904,     0.23, 2, 0, 2,  -999.00, 9,  -999.00, 9,   0.5590, 2, 0.185, 2, 0.145, 2, 4.717, 2
320620030705, SBI, 300, 1, 103, 3, 2, 20030813, 2329, 71.6600, -151.9993, 896,    183.4,  -1.0981,  34.0324, 2, -999.0000, 9,    259.7, 2,    289.1, 2,    24.44, 2,    13.24, 2,     0.03, 2,     1.46, 2,  -999.00, 9,  -1.1029,     0.00, 2, 0, 2,  -999.00, 9,  -999.00, 9,   0.6820, 2, 0.183, 2, 0.142, 2, 4.701, 2
320620030705, SBI, 300, 1, 102, 2, 2, 20030813, 2327, 71.6600, -151.9993, 896,    203.8,  -0.8109,  34.3111, 2,  34.3815, 2,    259.1, 2,    285.9, 2,    19.49, 2,    12.97, 2,     0.02, 2,     1.29, 2,  -999.00, 9,  -0.8169,     0.00, 2, 0, 2,  -999.00, 9,  -999.00, 9,   0.7130, 2, 0.182, 2, 0.140, 2, 4.700, 2
320620030705, SBI, 300, 1, 101, 1, 2, 20030813, 2320, 71.6600, -151.9993, 896,    504.2,   0.5010,  34.8256, 2,  34.8239, 2,    265.3, 2,    291.4, 2,     8.83, 2,    12.56, 2,     0.07, 2,     0.96, 2,  -999.00, 9,   0.4787,     0.01, 2, 0.01, 2,  -999.00, 9,  -999.00, 9,   0.5190, 2, 0.180, 2, 0.140, 2, 4.704, 2
320620030705, SBI, 301, 1, 113, 13, 2, 20030814, 111, 71.6176, -152.0841, 586,      1.3,   0.2553,  28.1376, 2,  28.3715, 2,    340.9, 2,    372.9, 2,     4.36, 2,     0.09, 2,     0.00, 2,     0.66, 2,  -999.00, 9,   0.2553,     0.02, 2, 0, 2,  -999.00, 9,  -999.00, 9,   0.7220, 2, 0.188, 2, 3.738, 2, 4.687, 2
320620030705, SBI, 301, 1, 112, 12, 2, 20030814, 109, 71.6176, -152.0841, 586,     23.0,   1.4092,  29.4980, 2, -999.0000, 9,    334.1, 2,    371.6, 2,    10.62, 2,     0.08, 2,     0.01, 2,     0.74, 2,  -999.00, 9,   1.4083,     0.06, 2, 0, 2,  -999.00, 9,  -999.00, 9,   1.1220, 2, 0.213, 2, 2.814, 2, 4.687, 2
320620030705, SBI, 301, 1, 111, 11, 2, 20030814, 108, 71.6176, -152.0841, 586,     42.9,  -0.5076,  31.5143, 2, -999.0000, 9,    340.7, 2,    357.9, 2,    13.35, 2,     4.27, 2,     0.17, 2,     1.20, 2,  -999.00, 9,  -0.5087,     0.73, 2, 0.04, 2,  -999.00, 9,  -999.00, 9,   1.0420, 2, 0.226, 2, 2.070, 2, 4.690, 2
320620030705, SBI, 301, 1, 110, 10, 2, 20030814, 107, 71.6176, -152.0841, 586,     63.0,  -0.8749,  32.1362, 2, -999.0000, 9,    316.5, 2,    351.6, 2,    13.88, 2,     4.44, 2,     0.10, 2,     1.32, 2,  -999.00, 9,  -0.8764,     1.87, 2, 0.15, 2,  -999.00, 9,  -999.00, 9,   0.9920, 2, 0.215, 2, 1.411, 2, 4.696, 2
320620030705, SBI, 301, 1, 109, 9, 2, 20030814, 105, 71.6176, -152.0841, 586,     82.9,  -0.9101,  32.3228, 2, -999.0000, 9,    311.8, 2,    346.1, 2,    14.80, 2,     5.15, 2,     0.12, 2,     1.40, 2,  -999.00, 9,  -0.9121,     2.09, 2, 0.13, 2,  -999.00, 9,  -999.00, 9,   1.0860, 2, 0.216, 2, 0.515, 2, 4.699, 2
320620030705, SBI, 301, 1, 108, 8, 2, 20030814, 104, 71.6176, -152.0841, 586,    103.0,  -1.1053,  32.4065, 2, -999.0000, 9,    308.7, 2,    340.5, 2,    16.34, 2,     6.29, 2,     0.13, 2,     1.48, 2,  -999.00, 9,  -1.1076,     2.23, 2, 0.13, 2,  -999.00, 9,  -999.00, 9,   1.0860, 2, 0.215, 2, 0.167, 2, 4.691, 2
320620030705, SBI, 301, 1, 107, 7, 2, 20030814, 102, 71.6176, -152.0841, 586,    123.2,  -1.5369,  32.5747, 2, -999.0000, 9,    271.4, 2,    301.1, 2,    28.87, 2,    11.43, 2,     0.11, 2,     1.73, 2,  -999.00, 9,  -1.5392,     1.23, 2, 0.03, 2,  -999.00, 9,  -999.00, 9,   0.8410, 2, 0.197, 2, 0.141, 2, 4.685, 2
320620030705, SBI, 301, 1, 106, 6, 2, 20030814, 101, 71.6176, -152.0841, 586,    143.2,  -1.5110,  32.9648, 2, -999.0000, 9,    262.2, 2,    292.5, 2,    30.52, 2,    13.17, 2,     0.09, 2,     1.75, 2,  -999.00, 9,  -1.5139,     0.54, 2, 0.01, 2,  -999.00, 9,  -999.00, 9,   0.7730, 2, 0.196, 2, 0.139, 2, 4.689, 2
320620030705, SBI, 301, 1, 104, 4, 2, 20030814, 59, 71.6176, -152.0841, 586,    163.3,  -1.3913,  33.3947, 2, -999.0000, 9,    259.3, 2,    288.8, 2,    28.09, 2,    13.49, 2,     0.08, 2,     1.60, 2,  -999.00, 9,  -1.3949,     0.15, 2, 0.01, 2,  -999.00, 9,  -999.00, 9,   0.9250, 2, 0.191, 2, 0.139, 2, 4.695, 2
320620030705, SBI, 301, 1, 105, 5, 9, 20030814, 59, 71.6176, -152.0841, 586,    163.3,  -1.3916,  33.3979, 2, -999.0000, 9,    258.9, 2,   -999.0, 9,  -999.00, 9,  -999.00, 9,  -999.00, 9,  -999.00, 9,  -999.00, 9,  -1.3952,  -999.00, 9, -999, 9,  -999.00, 9,  -999.00, 9,   0.8660, 2, 0.191, 2, 0.139, 2, 4.694, 2
320620030705, SBI, 301, 1, 103, 3, 2, 20030814, 58, 71.6176, -152.0841, 586,    183.4,  -0.9571,  34.0766, 2, -999.0000, 9,    257.9, 2,    286.2, 2,    23.52, 2,    13.19, 2,     0.06, 2,     1.43, 2,  -999.00, 9,  -0.9622,     0.00, 2, 0.01, 2,  -999.00, 9,  -999.00, 9,   0.6480, 2, 0.186, 2, 0.139, 2, 4.708, 2
320620030705, SBI, 301, 1, 102, 2, 2, 20030814, 56, 71.6176, -152.0841, 586,    203.4,  -0.6596,  34.3340, 2,  34.4357, 2,    253.6, 2,    284.5, 2,    18.55, 2,    13.09, 2,     0.05, 2,     1.25, 2,  -999.00, 9,  -0.6659,     0.00, 2, 0, 2,  -999.00, 9,  -999.00, 9,   0.9230, 2, 0.184, 2, 0.140, 2, 4.711, 2
320620030705, SBI, 301, 1, 101, 1, 2, 20030814, 48, 71.6176, -152.0841, 586,    505.4,   0.4986,  34.8187, 2,  34.8171, 2,    264.7, 2,    290.9, 2,     9.27, 2,    12.60, 2,     0.07, 2,     0.96, 2,  -999.00, 9,   0.4763,     0.00, 2, 0, 2,  -999.00, 9,  -999.00, 9,   0.5800, 2, 0.178, 2, 0.140, 2, 4.695, 2
320620030705, SBI, 302, 1, 112, 12, 2, 20030814, 313, 71.5754, -152.1248, 497,      1.3,   0.3119,  28.1848, 2,  28.4232, 2,    341.9, 2,    371.2, 2,     4.55, 2,     0.10, 2,     0.00, 2,     0.66, 2,  -999.00, 9,   0.3119,     0.00, 2, 0, 2,  -999.00, 9,  -999.00, 9,   0.6710, 2, 0.180, 2, 3.607, 2, 4.789, 2
320620030705, SBI, 302, 1, 111, 11, 2, 20030814, 311, 71.5754, -152.1248, 497,     23.1,   1.7503,  29.5442, 2, -999.0000, 9,    330.6, 2,    375.0, 2,     9.08, 2,     0.60, 2,     0.02, 2,     0.85, 2,    72.40, 2,   1.7494,     0.40, 2, 0.01, 2,  -999.00, 9,  -999.00, 9,   1.0130, 2, 0.202, 2, 2.578, 2, 4.789, 2
320620030705, SBI, 302, 1, 110, 10, 2, 20030814, 309, 71.5754, -152.1248, 497,     43.1,   0.9028,  31.7629, 2, -999.0000, 9,    329.7, 2,    363.8, 2,    12.10, 2,     3.11, 2,     0.08, 2,     1.18, 2,  -999.00, 9,   0.9012,     1.33, 2, 0.09, 2,  -999.00, 9,  -999.00, 9,   1.5260, 2, 0.302, 2, 1.629, 2, 4.789, 2
320620030705, SBI, 302, 1, 109, 9, 2, 20030814, 308, 71.5754, -152.1248, 497,     63.2,  -0.5076,  32.2022, 2, -999.0000, 9,    321.7, 2,    355.4, 2,    11.62, 2,     3.62, 2,     0.09, 2,     1.25, 2,  -999.00, 9,  -0.5093,     1.70, 2, 0.19, 2,  -999.00, 9,  -999.00, 9,   1.0390, 2, 0.216, 2, 0.862, 2, 4.788, 2
320620030705, SBI, 302, 1, 108, 8, 2, 20030814, 306, 71.5754, -152.1248, 497,     83.2,  -0.7581,  32.2750, 2, -999.0000, 9,    315.7, 2,    347.1, 2,    14.57, 2,     4.91, 2,     0.11, 2,     1.37, 2,  -999.00, 9,  -0.7602,     1.95, 2, 0.11, 2,  -999.00, 9,  -999.00, 9,   1.0870, 2, 0.217, 2, 0.234, 2, 4.790, 2
320620030705, SBI, 302, 1, 107, 7, 2, 20030814, 304, 71.5754, -152.1248, 497,    103.2,  -1.3848,  32.4783, 2, -999.0000, 9,    302.0, 2,    330.8, 2,    20.35, 2,     7.78, 2,     0.15, 2,     1.59, 2,  -999.00, 9,  -1.3869,     2.19, 2, 0.19, 2,  -999.00, 9,  -999.00, 9,   0.9660, 2, 0.204, 2, 0.145, 2, 4.791, 2
320620030705, SBI, 302, 1, 106, 6, 2, 20030814, 303, 71.5754, -152.1248, 497,    123.4,  -1.5118,  32.5975, 2, -999.0000, 9,    290.7, 2,    312.2, 2,    20.68, 2,     9.64, 2,     0.17, 2,     1.76, 2,  -999.00, 9,  -1.5142,     2.72, 2, 0.15, 2,  -999.00, 9,  -999.00, 9,   1.0660, 2, 0.214, 2, 0.139, 2, 4.789, 2
320620030705, SBI, 302, 1, 105, 5, 2, 20030814, 301, 71.5754, -152.1248, 497,    143.4,  -1.5035,  32.8175, 2, -999.0000, 9,    264.1, 2,    291.9, 2,    28.94, 2,    12.85, 2,     0.09, 2,     1.78, 2,  -999.00, 9,  -1.5064,     1.12, 2, 0.04, 2,  -999.00, 9,  -999.00, 9,   1.0160, 2, 0.207, 2, 0.139, 2, 4.788, 2
320620030705, SBI, 302, 1, 104, 4, 2, 20030814, 300, 71.5754, -152.1248, 497,    163.3,  -1.5387,  33.0089, 2, -999.0000, 9,    259.0, 2,    289.5, 2,    30.41, 2,    13.49, 2,     0.08, 2,     1.74, 2,  -999.00, 9,  -1.5420,     0.57, 2, 0.01, 2,  -999.00, 9,  -999.00, 9,   0.6610, 2, 0.188, 2, 0.139, 2, 4.786, 2
320620030705, SBI, 302, 1, 103, 3, 2, 20030814, 258, 71.5754, -152.1248, 497,    183.5,  -0.8321,  34.1142, 2, -999.0000, 9,    255.8, 2,    282.6, 2,    20.45, 2,    13.15, 2,     0.09, 2,     1.34, 2,  -999.00, 9,  -0.8374,     0.21, 2, 0, 2,  -999.00, 9,  -999.00, 9,   0.8470, 2, 0.194, 2, 0.139, 2, 4.787, 2
320620030705, SBI, 302, 1, 102, 2, 2, 20030814, 257, 71.5754, -152.1248, 497,    203.7,  -0.1910,  34.5438, 2,  34.5665, 2,    255.5, 2,    281.9, 2,    16.73, 2,    13.01, 2,     0.07, 2,     1.19, 2,  -999.00, 9,  -0.1982,     0.06, 2, 0.03, 2,  -999.00, 9,  -999.00, 9,   0.8280, 2, 0.188, 2, 0.140, 2, 4.788, 2
320620030705, SBI, 302, 1, 101, 1, 2, 20030814, 250, 71.5754, -152.1248, 497,    498.1,   0.4856,  34.7959, 2,  34.7939, 2,    261.7, 2,    288.1, 2,     9.27, 2,    12.59, 2,     0.07, 2,     1.01, 2,  -999.00, 9,   0.4637,     0.08, 2, 0, 2,  -999.00, 9,  -999.00, 9,   0.6850, 2, 0.180, 2, 0.140, 2, 4.791, 2
320620030705, SBI, 303, 1, 111, 11, 2, 20030814, 417, 71.5264, -152.1657, 210,      1.4,   0.2948,  28.7051, 2,  28.8305, 2,    336.3, 2,    372.1, 2,     6.00, 2,     0.09, 2,     0.00, 2,     0.62, 2,  -999.00, 9,   0.2948,     0.00, 2, 0, 2,  -999.00, 9,  -999.00, 9,   0.8680, 2, 0.191, 2, 3.432, 2, 4.841, 2
320620030705, SBI, 303, 1, 110, 10, 2, 20030814, 416, 71.5264, -152.1657, 210,     23.3,   0.7327,  30.1932, 2, -999.0000, 9,    341.9, 2,    369.8, 2,     9.25, 2,     1.51, 2,     0.04, 2,     0.99, 2,    73.70, 2,   0.7319,     0.86, 2, 0.04, 2,  -999.00, 9,  -999.00, 9,   1.4170, 2, 0.240, 2, 2.160, 2, 4.839, 2
320620030705, SBI, 303, 1, 109, 9, 2, 20030814, 414, 71.5264, -152.1657, 210,     43.2,  -0.9291,  31.7775, 2, -999.0000, 9,    323.1, 2,    365.8, 2,     8.45, 2,     2.07, 2,     0.06, 2,     1.08, 2,  -999.00, 9,  -0.9301,     1.23, 2, 0.07, 2,  -999.00, 9,  -999.00, 9,   1.4890, 2, 0.278, 2, 1.161, 2, 4.834, 2
320620030705, SBI, 303, 1, 108, 8, 2, 20030814, 413, 71.5264, -152.1657, 210,     63.3,  -0.0082,  32.0179, 2, -999.0000, 9,    334.5, 2,    364.8, 2,     9.59, 2,     2.58, 2,     0.07, 2,     1.11, 2,  -999.00, 9,  -0.0101,     1.28, 2, 0.07, 2,  -999.00, 9,  -999.00, 9,   1.0320, 2, 0.207, 2, 0.401, 2, 4.829, 2
320620030705, SBI, 303, 1, 107, 7, 2, 20030814, 411, 71.5264, -152.1657, 210,     83.5,  -0.6427,  32.2418, 2, -999.0000, 9,    338.8, 2,    347.5, 2,    17.42, 2,     5.76, 2,     0.13, 2,     1.37, 2,  -999.00, 9,  -0.6449,     1.58, 2, 0.06, 2,  -999.00, 9,  -999.00, 9,   1.0330, 2, 0.212, 2, 0.165, 2, 4.823, 2
320620030705, SBI, 303, 1, 106, 6, 2, 20030814, 410, 71.5264, -152.1657, 210,    103.6,  -1.4821,  32.5748, 2, -999.0000, 9,    294.3, 2,    315.2, 2,    19.49, 2,     9.06, 2,     0.17, 2,     1.73, 2,  -999.00, 9,  -1.4841,     2.83, 2, 0.15, 2,  -999.00, 9,  -999.00, 9,   1.0970, 2, 0.210, 2, 0.142, 2, 4.819, 2
320620030705, SBI, 303, 1, 105, 5, 2, 20030814, 408, 71.5264, -152.1657, 210,    123.6,  -1.5729,  32.6622, 2, -999.0000, 9,    271.2, 2,    298.0, 2,    20.23, 2,    10.72, 2,     0.18, 2,     1.87, 2,  -999.00, 9,  -1.5752,     3.18, 2, 0.17, 2,  -999.00, 9,  -999.00, 9,   1.1220, 2, 0.211, 2, 0.139, 2, 4.814, 2
320620030705, SBI, 303, 1, 104, 4, 2, 20030814, 406, 71.5264, -152.1657, 210,    143.6,  -1.5600,  32.7483, 2, -999.0000, 9,    263.3, 2,    293.9, 2,    26.91, 2,    12.35, 2,     0.11, 2,     1.78, 2,  -999.00, 9,  -1.5628,     1.28, 2, 0.05, 2,  -999.00, 9,  -999.00, 9,   1.1120, 2, 0.208, 2, 0.139, 2, 4.809, 2
320620030705, SBI, 303, 1, 103, 3, 2, 20030814, 405, 71.5264, -152.1657, 210,    163.6,  -1.4069,  33.2923, 2, -999.0000, 9,    261.2, 2,    288.8, 2,    29.70, 2,    13.31, 2,     0.09, 2,     1.72, 2,  -999.00, 9,  -1.4105,     0.50, 2, 0, 2,  -999.00, 9,  -999.00, 9,   0.9160, 2, 0.193, 2, 0.139, 2, 4.806, 2
320620030705, SBI, 303, 1, 102, 2, 2, 20030814, 403, 71.5264, -152.1657, 210,    183.6,  -0.8717,  34.0600, 2,  34.1498, 2,    255.4, 2,    282.5, 2,    24.39, 2,    13.24, 2,     0.10, 2,     1.49, 2,  -999.00, 9,  -0.8769,     0.38, 2, 0, 2,  -999.00, 9,  -999.00, 9,   0.9630, 2, 0.193, 2, 0.140, 2, 4.800, 2
320620030705, SBI, 303, 1, 101, 1, 2, 20030814, 402, 71.5264, -152.1657, 210,    203.9,  -0.5022,  34.3740, 2,  34.2671, 2,    255.3, 2,    281.3, 2,    22.78, 2,    13.19, 2,     0.09, 2,     1.43, 2,  -999.00, 9,  -0.5087,     0.31, 2, 0, 2,  -999.00, 9,  -999.00, 9,   0.9530, 2, 0.194, 2, 0.139, 2, 4.796, 2