BOTTLE,20100423CCHDOSIODBK
EXPOCODE,SECT_ID,STNNBR,CASTNO,SAMPNO,BTLNBR,BTLNBR_FLAG_W,DATE,TIME,LATITUDE,LONGITUDE,DEPTH,CTDPRS,CTDTMP,CTDSAL,CTDSAL_FLAG_W,SALNTY,SALNTY_FLAG_W,CTDOXY,CTDOXY_FLAG_W,OXYGEN,OXYGEN_FLAG_W,SILCAT,SILCAT_FLAG_W,NITRAT,NITRAT_FLAG_W,NITRIT,NITRIT_FLAG_W,PHSPHT,PHSPHT_FLAG_W,DOC,DOC_FLAG_W,THETA,NH4,NH4_FLAG_W,UREA,UREA_FLAG_W,CHLORA,CHLORA_FLAG_W,PPHYTN,PPHYTN_FLAG_W,FLUOR,FLUOR_FLAG_W,HAARDT,HAARDT_FLAG_W,PAR,PAR_FLAG_W,SPAR,SPAR_FLAG_W
,,,,,,,,,,,METERS,DBAR,ITS-90,PSS-78,,PSS-78,,UMOL/KG,,UMOL/KG,,UMOL/KG,,UMOL/KG,,UMOL/KG,,UMOL/KG,,UMOL/KG,,DEG C,UMOL/KG,,UMOL/KG,,UG/KG,,UG/KG,,MG/M^3,,VOLTS,,VOLTS,,VOLTS,
320620030705, SBI, 128, 1, 124, 24, 2, 20030728, 617, 73.5070, -159.7291, 2062,      1.7,  -1.2087,  28.6322, 2,  28.6300, 2,    351.1, 2,    384.6, 2,     6.06, 2,     0.09, 2,     0.00, 2,     0.69, 2,  -999.00, 9,  -1.2087,     0.04, 2, 0, 2,     0.28, 2,     0.06, 2,   0.9550, 2, -999.000, 2, -999.000, 9, 4.886, 2
320620030705, SBI, 128, 1, 123, 23, 2, 20030728, 615, 73.5070, -159.7291, 2062,     22.7,  -1.5145,  31.3111, 2, -999.0000, 9,    361.0, 2,    378.3, 2,    14.20, 2,     1.61, 2,     0.07, 2,     1.05, 2,  -999.00, 9,  -1.5149,     0.25, 2, 0.06, 2,     4.93, 2,     0.75, 2,   2.3170, 2, -999.000, 2, -999.000, 9, 4.842, 2
320620030705, SBI, 128, 1, 122, 22, 2, 20030728, 614, 73.5070, -159.7291, 2062,     25.8,  -1.5408,  31.3543, 2, -999.0000, 9,    341.4, 2,    366.9, 2,    19.20, 2,     4.45, 2,     0.18, 2,     1.20, 2,  -999.00, 9,  -1.5412,     0.61, 2, 0.07, 2,     1.52, 2,     0.16, 2,   2.2240, 2, -999.000, 2, -999.000, 9, 4.839, 2
320620030705, SBI, 128, 1, 121, 21, 2, 20030728, 611, 73.5070, -159.7291, 2062,     48.2,  -1.6165,  31.7943, 2, -999.0000, 9,    312.7, 2,    344.4, 2,    26.48, 2,     7.11, 2,     0.20, 2,     1.42, 2,  -999.00, 9,  -1.6173,     0.59, 2, 0.04, 2,     0.07, 2,     0.06, 2,   0.8790, 2, -999.000, 2, -999.000, 9, 4.867, 2
320620030705, SBI, 128, 1, 120, 20, 2, 20030728, 610, 73.5070, -159.7291, 2062,     62.9,  -1.6668,  31.9750, 2, -999.0000, 9,    315.3, 2,    343.7, 2,    25.66, 2,     7.22, 2,     0.14, 2,     1.42, 2,  -999.00, 9,  -1.6678,     0.77, 2, 0.05, 2,     0.05, 2,     0.05, 2,   0.9430, 2, -999.000, 2, -999.000, 9, 4.870, 2
320620030705, SBI, 128, 1, 119, 19, 2, 20030728, 609, 73.5070, -159.7291, 2062,     77.9,  -1.2645,  32.1858, 2, -999.0000, 9,    295.6, 2,    321.8, 2,    21.10, 2,     9.46, 2,     0.03, 2,     1.46, 2,  -999.00, 9,  -1.2661,     0.02, 2, 0.02, 2,     0.05, 2,     0.06, 2,   0.7320, 2, -999.000, 2, -999.000, 9, 4.873, 2
320620030705, SBI, 128, 1, 118, 18, 2, 20030728, 607, 73.5070, -159.7291, 2062,     92.9,  -1.5924,  32.3539, 2, -999.0000, 9,    294.6, 2,    322.7, 2,    25.42, 2,     9.73, 2,     0.08, 2,     1.51, 2,  -999.00, 9,  -1.5941,     0.13, 2, 0.02, 2,  -999.00, 9,  -999.00, 9,   0.8890, 2, -999.000, 2, -999.000, 9, 4.854, 2
320620030705, SBI, 128, 1, 117, 17, 2, 20030728, 606, 73.5070, -159.7291, 2062,    108.1,  -1.5789,  32.5048, 2, -999.0000, 9,    288.8, 2,    316.9, 2,    27.36, 2,    10.46, 2,     0.04, 2,     1.55, 2,  -999.00, 9,  -1.5809,     0.02, 2, 0.04, 2,  -999.00, 9,  -999.00, 9,   0.6660, 2, -999.000, 2, -999.000, 9, 4.857, 2
320620030705, SBI, 128, 1, 116, 16, 2, 20030728, 605, 73.5070, -159.7291, 2062,    123.2,  -1.5944,  32.6632, 2, -999.0000, 9,    280.6, 2,    304.0, 2,    29.89, 2,    12.33, 2,     0.01, 2,     1.63, 2,  -999.00, 9,  -1.5967,     0.00, 2, 0.02, 2,  -999.00, 9,  -999.00, 9,   0.6110, 2, -999.000, 2, -999.000, 9, 4.855, 2
320620030705, SBI, 128, 1, 115, 15, 2, 20030728, 604, 73.5070, -159.7291, 2062,    138.2,  -1.5932,  32.9130, 2, -999.0000, 9,    274.9, 2,    300.6, 2,    31.25, 2,    12.96, 2,     0.01, 2,     1.67, 2,  -999.00, 9,  -1.5959,     0.00, 2, 0.02, 2,  -999.00, 9,  -999.00, 9,   0.6480, 2, -999.000, 2, -999.000, 9, 4.822, 2
320620030705, SBI, 128, 1, 114, 14, 2, 20030728, 602, 73.5070, -159.7291, 2062,    158.4,  -1.5109,  33.3659, 2, -999.0000, 9,    266.8, 2,    293.9, 2,    31.32, 2,    13.75, 2,     0.01, 2,     1.65, 2,  -999.00, 9,  -1.5142,     0.00, 2, 0.02, 2,  -999.00, 9,  -999.00, 9,   0.7270, 2, -999.000, 2, -999.000, 9, 4.654, 2
320620030705, SBI, 128, 1, 113, 13, 2, 20030728, 601, 73.5070, -159.7291, 2062,    178.7,  -1.2708,  33.9171, 2, -999.0000, 9,    260.4, 2,    286.4, 2,    27.64, 2,    14.16, 2,     0.01, 2,     1.51, 2,  -999.00, 9,  -1.2752,     0.00, 2, 0.02, 2,  -999.00, 9,  -999.00, 9,   0.7210, 2, -999.000, 2, -999.000, 9, 4.775, 2
320620030705, SBI, 128, 1, 112, 12, 2, 20030728, 559, 73.5070, -159.7291, 2062,    198.6,  -0.8664,  34.2520, 2, -999.0000, 9,    252.8, 2,    277.1, 2,    17.98, 2,    13.11, 2,     0.01, 2,     1.16, 2,  -999.00, 9,  -0.8721,     0.00, 2, 0.02, 2,  -999.00, 9,  -999.00, 9,   0.6440, 2, -999.000, 2, -999.000, 9, 4.790, 2
320620030705, SBI, 128, 1, 111, 11, 2, 20030728, 557, 73.5070, -159.7291, 2062,    218.6,  -0.3203,  34.4654, 2,  34.4675, 2,    254.7, 2,    277.2, 2,    13.25, 2,    12.52, 2,     0.01, 2,     1.02, 2,  -999.00, 9,  -0.3278,     0.00, 2, 0.01, 2,  -999.00, 9,  -999.00, 9,   0.5790, 2, -999.000, 2, -999.000, 9, 4.818, 2
320620030705, SBI, 128, 1, 110, 10, 2, 20030728, 556, 73.5070, -159.7291, 2062,    243.9,   0.0304,  34.5873, 2,  34.6072, 2,    255.2, 2,    279.3, 2,    10.68, 2,    12.63, 2,     0.01, 2,     0.94, 2,  -999.00, 9,   0.0212,     0.00, 2, 0.01, 2,  -999.00, 9,  -999.00, 9,   0.5970, 2, -999.000, 2, -999.000, 9, 4.835, 2
320620030705, SBI, 128, 1, 109, 9, 2, 20030728, 554, 73.5070, -159.7291, 2062,    279.5,   0.5573,  34.7299, 2,  34.7397, 2,    264.2, 2,    287.0, 2,     8.31, 2,    12.63, 2,     0.01, 2,     0.88, 2,  -999.00, 9,   0.5454,     0.00, 2, 0, 2,  -999.00, 9,  -999.00, 9,   0.7400, 2, -999.000, 2, -999.000, 9, 4.849, 2
320620030705, SBI, 128, 1, 108, 8, 2, 20030728, 552, 73.5070, -159.7291, 2062,    329.7,   0.8274,  34.8072, 2,  34.8163, 2,    270.5, 2,    293.6, 2,     6.92, 2,    12.53, 2,     0.00, 2,     0.86, 2,  -999.00, 9,   0.8124,     0.00, 2, 0.01, 2,  -999.00, 9,  -999.00, 9,   0.5230, 2, -999.000, 2, -999.000, 9, 4.855, 2
320620030705, SBI, 128, 1, 107, 7, 2, 20030728, 547, 73.5070, -159.7291, 2062,    510.2,   0.5288,  34.8465, 2,  34.8504, 2,    272.4, 2,    297.4, 2,     7.00, 2,    12.64, 2,     0.00, 2,     0.86, 2,  -999.00, 9,   0.5061,     0.00, 2, 0.01, 2,  -999.00, 9,  -999.00, 9,   0.5430, 2, -999.000, 2, -999.000, 9, 4.714, 2
320620030705, SBI, 128, 1, 106, 6, 2, 20030728, 541, 73.5070, -159.7291, 2062,    709.5,   0.1870,  34.8649, 2,  34.8672, 2,    275.1, 2,    300.6, 2,     6.68, 2,    12.64, 2,     0.00, 2,     0.87, 2,  -999.00, 9,   0.1561,     0.00, 2, 0.01, 2,  -999.00, 9,  -999.00, 9,   0.7470, 2, -999.000, 2, -999.000, 9, 4.817, 2
320620030705, SBI, 128, 1, 105, 5, 2, 20030728, 536, 73.5070, -159.7291, 2062,    910.5,  -0.0856,  34.8787, 2,  34.8779, 2,    274.5, 2,    301.2, 2,     7.15, 2,    12.80, 2,     0.00, 2,     0.89, 2,  -999.00, 9,  -0.1248,     0.00, 2, 0.01, 2,  -999.00, 9,  -999.00, 9,   0.6730, 2, -999.000, 2, -999.000, 9, 4.722, 2
320620030705, SBI, 128, 1, 104, 4, 2, 20030728, 526, 73.5070, -159.7291, 2062,   1319.5,  -0.2251,  34.8908, 2,  34.8907, 2,    273.0, 2,    300.7, 2,     7.82, 2,    13.06, 2,     0.00, 2,     0.90, 2,  -999.00, 9,  -0.2853,     0.00, 2, 0, 2,  -999.00, 9,  -999.00, 9,   0.5150, 2, -999.000, 2, -999.000, 9, 4.748, 2
320620030705, SBI, 128, 1, 103, 3, 2, 20030728, 516, 73.5070, -159.7291, 2062,   1722.9,  -0.3814,  34.9272, 2,  34.9288, 2,    267.0, 2,    295.0, 2,     9.86, 2,    13.95, 2,     0.00, 2,     0.98, 2,  -999.00, 9,  -0.4640,     0.00, 2, 0, 2,  -999.00, 9,  -999.00, 9,   0.7200, 2, -999.000, 2, -999.000, 9, 4.782, 2
320620030705, SBI, 128, 1, 102, 2, 2, 20030728, 509, 73.5070, -159.7291, 2062,   2023.3,  -0.4026,  34.9424, 2,  34.9422, 2,    261.6, 2,    289.3, 2,    11.80, 2,    14.48, 2,     0.00, 2,     1.01, 2,  -999.00, 9,  -0.5045,     0.00, 2, 0, 2,  -999.00, 9,  -999.00, 9,   0.4810, 2, -999.000, 2, -999.000, 9, 4.796, 2
320620030705, SBI, 128, 1, 101, 1, 2, 20030728, 506, 73.5070, -159.7291, 2062,   2086.4,  -0.4013,  34.9462, 2,  34.9458, 2,    259.8, 2,    286.6, 2,    12.57, 2,    14.48, 2,     0.00, 2,     1.02, 2,  -999.00, 9,  -0.5076,     0.00, 2, 0, 2,  -999.00, 9,  -999.00, 9,   0.5200, 2, -999.000, 2, -999.000, 9, 4.779, 2
320620030705, SBI, 129, 1, 124, 24, 2, 20030728, 1040, 73.4760, -159.8368, 1899,      2.1,  -1.2523,  29.0095, 2,  29.0663, 2,    351.6, 2,    391.1, 2,     7.47, 2,     0.20, 2,     0.00, 2,     0.72, 2,  -999.00, 9,  -1.2523,     0.07, 2, 0, 2,     0.42, 2,     0.08, 2,   1.1030, 2, -999.000, 2, -999.000, 9, 4.966, 2
320620030705, SBI, 129, 1, 123, 23, 2, 20030728, 1038, 73.4760, -159.8368, 1899,     21.2,  -1.5018,  31.2958, 2, -999.0000, 9,    376.6, 2,    388.3, 2,    14.45, 2,     2.29, 2,     0.09, 2,     1.04, 2,  -999.00, 9,  -1.5021,     0.26, 2, 0.02, 2,     4.34, 2,     0.40, 2,   2.1820, 2, -999.000, 2, -999.000, 9, 4.968, 2
320620030705, SBI, 129, 1, 122, 22, 2, 20030728, 1036, 73.4760, -159.8368, 1899,     34.1,  -1.6286,  31.7058, 2, -999.0000, 9,    317.3, 2,    348.2, 2,    25.98, 2,     6.52, 2,     0.24, 2,     1.38, 2,  -999.00, 9,  -1.6291,     0.72, 2, 0.02, 2,     0.16, 2,     0.13, 2,   0.9770, 2, -999.000, 2, -999.000, 9, 4.966, 2
320620030705, SBI, 129, 1, 121, 21, 2, 20030728, 1033, 73.4760, -159.8368, 1899,     49.3,  -1.6223,  31.9140, 2, -999.0000, 9,    313.1, 2,    346.3, 2,    26.38, 2,     7.01, 2,     0.17, 2,     1.42, 2,  -999.00, 9,  -1.6231,     0.80, 2, 0.02, 2,     0.08, 2,     0.07, 2,   0.9310, 2, -999.000, 2, -999.000, 9, 4.966, 2
320620030705, SBI, 129, 1, 120, 20, 2, 20030728, 1032, 73.4760, -159.8368, 1899,     64.2,  -1.6573,  32.1062, 2, -999.0000, 9,    326.1, 2,    360.8, 2,    27.75, 2,     5.50, 2,     0.19, 2,     1.42, 2,  -999.00, 9,  -1.6584,     1.86, 2, 0.07, 2,     0.04, 2,     0.07, 2,   0.8100, 2, -999.000, 2, -999.000, 9, 4.967, 2
320620030705, SBI, 129, 1, 119, 19, 2, 20030728, 1030, 73.4760, -159.8368, 1899,     79.4,  -1.6555,  32.2099, 2, -999.0000, 9,    326.7, 2,    358.9, 2,    27.95, 2,     5.81, 2,     0.20, 2,     1.43, 2,  -999.00, 9,  -1.6568,     2.21, 2, 0.07, 2,  -999.00, 9,  -999.00, 9,   0.7750, 2, -999.000, 2, -999.000, 9, 4.966, 2
320620030705, SBI, 129, 1, 118, 18, 2, 20030728, 1028, 73.4760, -159.8368, 1899,     94.3,  -1.6539,  32.2772, 2, -999.0000, 9,    321.7, 2,    353.5, 2,    28.93, 2,     6.55, 2,     0.20, 2,     1.47, 2,  -999.00, 9,  -1.6555,     2.11, 2, 0.02, 2,  -999.00, 9,  -999.00, 9,   0.9930, 2, -999.000, 2, -999.000, 9, 4.969, 2
320620030705, SBI, 129, 1, 117, 17, 2, 20030728, 1026, 73.4760, -159.8368, 1899,    109.2,  -1.6057,  32.3792, 2, -999.0000, 9,    313.3, 2,    346.1, 2,    26.95, 2,     6.86, 2,     0.16, 2,     1.45, 2,  -999.00, 9,  -1.6077,     1.54, 2, 0.01, 2,  -999.00, 9,  -999.00, 9,   0.7680, 2, -999.000, 2, -999.000, 9, 4.972, 2
320620030705, SBI, 129, 1, 116, 16, 2, 20030728, 1024, 73.4760, -159.8368, 1899,    124.4,  -1.6005,  32.5553, 2, -999.0000, 9,    285.8, 2,    313.2, 2,    28.63, 2,    11.02, 2,     0.03, 2,     1.59, 2,  -999.00, 9,  -1.6028,     0.01, 2, 0, 2,  -999.00, 9,  -999.00, 9,   0.6830, 2, -999.000, 2, -999.000, 9, 4.970, 2
320620030705, SBI, 129, 1, 115, 15, 2, 20030728, 1022, 73.4760, -159.8368, 1899,    144.5,  -1.5839,  32.9671, 2, -999.0000, 9,    269.3, 2,    297.4, 2,    31.59, 2,    13.40, 2,     0.01, 2,     1.69, 2,  -999.00, 9,  -1.5867,     0.00, 2, 0, 2,  -999.00, 9,  -999.00, 9,   0.8900, 2, -999.000, 2, -999.000, 9, 4.974, 2
320620030705, SBI, 129, 1, 114, 14, 2, 20030728, 1020, 73.4760, -159.8368, 1899,    164.5,  -1.5065,  33.3918, 2, -999.0000, 9,    267.9, 2,    294.4, 2,    31.18, 2,    13.67, 2,     0.01, 2,     1.64, 2,  -999.00, 9,  -1.5100,     0.00, 2, 0, 2,  -999.00, 9,  -999.00, 9,   0.6410, 2, -999.000, 2, -999.000, 9, 4.976, 2
320620030705, SBI, 129, 1, 113, 13, 2, 20030728, 1018, 73.4760, -159.8368, 1899,    184.5,  -1.2511,  33.9533, 2, -999.0000, 9,    261.7, 2,    287.6, 2,    25.94, 2,    13.97, 2,     0.01, 2,     1.45, 2,  -999.00, 9,  -1.2557,     0.00, 2, 0, 2,  -999.00, 9,  -999.00, 9,   0.7320, 2, -999.000, 2, -999.000, 9, 4.976, 2
320620030705, SBI, 129, 1, 112, 12, 2, 20030728, 1015, 73.4760, -159.8368, 1899,    214.6,  -0.5174,  34.4015, 2, -999.0000, 9,    253.8, 2,    276.8, 2,    14.51, 2,    12.77, 2,     0.01, 2,     1.05, 2,  -999.00, 9,  -0.5243,     0.00, 2, 0.01, 2,  -999.00, 9,  -999.00, 9,   0.8680, 2, -999.000, 2, -999.000, 9, 4.975, 2
320620030705, SBI, 129, 1, 111, 11, 2, 20030728, 1013, 73.4760, -159.8368, 1899,    244.7,   0.0785,  34.5934, 2,  34.6089, 2,    256.6, 2,    279.6, 2,    10.86, 2,    12.61, 2,     0.01, 2,     0.94, 2,  -999.00, 9,   0.0692,     0.00, 2, 0.01, 2,  -999.00, 9,  -999.00, 9,   0.5630, 2, -999.000, 2, -999.000, 9, 4.973, 2
320620030705, SBI, 129, 1, 110, 10, 2, 20030728, 1011, 73.4760, -159.8368, 1899,    295.1,   0.7405,  34.7804, 2,  34.7807, 2,    269.1, 2,    291.0, 2,     7.52, 2,    12.45, 2,     0.00, 2,     0.87, 2,  -999.00, 9,   0.7274,     0.00, 2, 0, 2,  -999.00, 9,  -999.00, 9,   0.5950, 2, -999.000, 2, -999.000, 9, 4.975, 2
320620030705, SBI, 129, 1, 109, 9, 2, 20030728, 1008, 73.4760, -159.8368, 1899,    345.6,   0.8206,  34.8151, 2,  34.8158, 2,    271.4, 2,    293.5, 2,     7.21, 2,    12.50, 2,     0.00, 2,     0.86, 2,  -999.00, 9,   0.8049,     0.00, 2, 0, 2,  -999.00, 9,  -999.00, 9,   0.5770, 2, -999.000, 2, -999.000, 9, 4.975, 2
320620030705, SBI, 129, 1, 108, 8, 2, 20030728, 1006, 73.4760, -159.8368, 1899,    395.8,   0.6996,  34.8236, 2,  34.8257, 2,    271.5, 2,    293.9, 2,     7.31, 2,    12.61, 2,     0.00, 2,     0.86, 2,  -999.00, 9,   0.6818,     0.00, 2, 0, 2,  -999.00, 9,  -999.00, 9,   0.5110, 2, -999.000, 2, -999.000, 9, 4.975, 2
320620030705, SBI, 129, 1, 107, 7, 2, 20030728, 1003, 73.4760, -159.8368, 1899,    455.8,   0.6592,  34.8424, 2,  34.8442, 2,    273.4, 2,    296.5, 2,     7.02, 2,    12.56, 2,     0.00, 2,     0.86, 2,  -999.00, 9,   0.6386,     0.00, 2, 0, 2,  -999.00, 9,  -999.00, 9,   0.7850, 2, -999.000, 2, -999.000, 9, 4.968, 2
320620030705, SBI, 129, 1, 106, 6, 2, 20030728, 959, 73.4760, -159.8368, 1899,    606.7,   0.4101,  34.8565, 2,  34.8581, 2,    273.4, 2,    297.1, 2,     7.21, 2,    12.71, 2,     0.00, 2,     0.87, 2,  -999.00, 9,   0.3831,     0.00, 2, 0, 2,  -999.00, 9,  -999.00, 9,   0.5400, 2, -999.000, 2, -999.000, 9, 4.967, 2
320620030705, SBI, 129, 1, 105, 5, 2, 20030728, 951, 73.4760, -159.8368, 1899,    909.1,   0.0198,  34.8750, 2,  34.8762, 2,    273.9, 2,    301.0, 2,     7.41, 2,    12.82, 2,     0.00, 2,     0.89, 2,  -999.00, 9,  -0.0202,     0.00, 2, 0, 2,  -999.00, 9,  -999.00, 9,   0.6740, 2, -999.000, 2, -999.000, 9, 4.969, 2
320620030705, SBI, 129, 1, 104, 4, 2, 20030728, 944, 73.4760, -159.8368, 1899,   1212.3,  -0.1793,  34.8930, 2,  34.8930, 2,    272.8, 2,    299.6, 2,     8.09, 2,    13.09, 2,     0.00, 2,     0.91, 2,  -999.00, 9,  -0.2339,     0.01, 2, 0, 2,  -999.00, 9,  -999.00, 9,   0.7150, 2, -999.000, 2, -999.000, 9, 4.965, 2
320620030705, SBI, 129, 1, 103, 3, 2, 20030728, 937, 73.4760, -159.8368, 1899,   1515.8,  -0.3394,  34.9158, 2,  34.9173, 2,    270.1, 2,    297.4, 2,     9.18, 2,    13.60, 2,     0.00, 2,     0.95, 2,  -999.00, 9,  -0.4098,     0.01, 2, 0, 2,  -999.00, 9,  -999.00, 9,   0.5240, 2, -999.000, 2, -999.000, 9, 4.967, 2
320620030705, SBI, 129, 1, 102, 2, 2, 20030728, 929, 73.4760, -159.8368, 1899,   1814.0,  -0.3994,  34.9347, 2,  34.9349, 2,    264.7, 2,    291.1, 2,    11.24, 2,    14.13, 2,     0.00, 2,     0.99, 2,  -999.00, 9,  -0.4876,     0.01, 2, 0, 2,  -999.00, 9,  -999.00, 9,   0.8410, 2, -999.000, 2, -999.000, 9, 4.960, 2
320620030705, SBI, 129, 1, 101, 1, 2, 20030728, 926, 73.4760, -159.8368, 1899,   1913.7,  -0.4047,  34.9406, 2,  34.9395, 2,    261.8, 2,    289.0, 2,    12.23, 2,    14.39, 2,     0.00, 2,     1.02, 2,  -999.00, 9,  -0.4993,     0.00, 2, 0, 2,  -999.00, 9,  -999.00, 9,   0.5630, 2, -999.000, 2, -999.000, 9, 4.958, 2