BOTTLE,20100423CCHDOSIODBK
EXPOCODE,SECT_ID,STNNBR,CASTNO,SAMPNO,BTLNBR,BTLNBR_FLAG_W,DATE,TIME,LATITUDE,LONGITUDE,DEPTH,CTDPRS,CTDTMP,CTDSAL,CTDSAL_FLAG_W,SALNTY,SALNTY_FLAG_W,CTDOXY,CTDOXY_FLAG_W,OXYGEN,OXYGEN_FLAG_W,SILCAT,SILCAT_FLAG_W,NITRAT,NITRAT_FLAG_W,NITRIT,NITRIT_FLAG_W,PHSPHT,PHSPHT_FLAG_W,DOC,DOC_FLAG_W,THETA,NH4,NH4_FLAG_W,UREA,UREA_FLAG_W,CHLORA,CHLORA_FLAG_W,PPHYTN,PPHYTN_FLAG_W,FLUOR,FLUOR_FLAG_W,HAARDT,HAARDT_FLAG_W,PAR,PAR_FLAG_W,SPAR,SPAR_FLAG_W
,,,,,,,,,,,METERS,DBAR,ITS-90,PSS-78,,PSS-78,,UMOL/KG,,UMOL/KG,,UMOL/KG,,UMOL/KG,,UMOL/KG,,UMOL/KG,,UMOL/KG,,DEG C,UMOL/KG,,UMOL/KG,,UG/KG,,UG/KG,,MG/M^3,,VOLTS,,VOLTS,,VOLTS,
320620030705, SBI, 132, 4, 424, 24, 2, 20030729, 1309, 73.3448, -160.0355, 1381,      1.4,  -1.4439,  28.6076, 2,  28.7041, 2,    350.2, 2,    388.7, 0,     6.27, 2,     0.30, 2,     0.00, 2,     0.71, 2,  -999.00, 9,  -1.4439,     0.11, 2, 0, 2,     0.34, 2,     0.06, 2,   1.0160, 2, -999.000, 2, -999.000, 9, 4.965, 2
320620030705, SBI, 132, 4, 423, 23, 2, 20030729, 1307, 73.3448, -160.0355, 1381,     19.4,  -1.5132,  31.4026, 2, -999.0000, 9,    331.8, 2,    362.1, 2,    22.52, 2,     4.59, 2,     0.19, 2,     1.27, 2,  -999.00, 9,  -1.5135,     0.78, 2, 0.06, 2,     1.90, 2,     0.17, 2,   1.6870, 2, -999.000, 2, -999.000, 9, 4.968, 2
320620030705, SBI, 132, 4, 422, 22, 2, 20030729, 1307, 73.3448, -160.0355, 1381,     19.4,  -1.5166,  31.4077, 2, -999.0000, 9,    331.1, 2,   -999.0, 9,  -999.00, 9,  -999.00, 9,  -999.00, 9,  -999.00, 9,  -999.00, 9,  -1.5169,  -999.00, 9, -999, 9,  -999.00, 9,  -999.00, 9,   1.4070, 2, -999.000, 2, -999.000, 9, 4.968, 2
320620030705, SBI, 132, 4, 421, 21, 2, 20030729, 1307, 73.3448, -160.0355, 1381,     19.4,  -1.5269,  31.4177, 2, -999.0000, 9,    330.7, 2,   -999.0, 9,  -999.00, 9,  -999.00, 9,  -999.00, 9,  -999.00, 9,  -999.00, 9,  -1.5272,  -999.00, 9, -999, 9,  -999.00, 9,  -999.00, 9,   1.4570, 2, -999.000, 2, -999.000, 9, 4.968, 2
320620030705, SBI, 132, 4, 420, 20, 2, 20030729, 1305, 73.3448, -160.0355, 1381,     41.4,  -1.6240,  31.8247, 2, -999.0000, 9,    314.7, 2,    346.1, 2,    27.06, 2,     6.98, 2,     0.25, 2,     1.42, 2,  -999.00, 9,  -1.6247,     0.74, 2, 0.02, 2,     0.14, 2,     0.11, 2,   0.8920, 2, -999.000, 2, -999.000, 9, 4.971, 2
320620030705, SBI, 132, 4, 419, 19, 2, 20030729, 1303, 73.3448, -160.0355, 1381,     56.6,  -1.6084,  32.0055, 2, -999.0000, 9,    312.9, 2,    345.6, 2,    27.75, 2,     7.36, 2,     0.19, 2,     1.45, 2,  -999.00, 9,  -1.6093,     0.88, 2, 0.03, 2,     0.06, 2,     0.07, 2,   0.7440, 2, -999.000, 2, -999.000, 9, 4.972, 2
320620030705, SBI, 132, 4, 418, 18, 2, 20030729, 1301, 73.3448, -160.0355, 1381,     71.6,  -1.6224,  32.1518, 2, -999.0000, 9,    318.2, 2,    350.4, 2,    27.84, 2,     7.06, 2,     0.18, 2,     1.45, 2,  -999.00, 9,  -1.6236,     1.24, 2, 0.03, 2,     0.06, 2,     0.07, 2,   0.7460, 2, -999.000, 2, -999.000, 9, 4.970, 2
320620030705, SBI, 132, 4, 417, 17, 2, 20030729, 1259, 73.3448, -160.0355, 1381,     86.7,  -1.5324,  32.2923, 2, -999.0000, 9,    302.4, 2,    332.6, 2,    26.44, 2,     8.81, 2,     0.12, 2,     1.49, 2,  -999.00, 9,  -1.5340,     0.51, 2, 0.03, 2,  -999.00, 9,  -999.00, 9,   0.7520, 2, -999.000, 2, -999.000, 9, 4.966, 2
320620030705, SBI, 132, 4, 416, 16, 2, 20030729, 1257, 73.3448, -160.0355, 1381,    101.5,  -1.5708,  32.4421, 2, -999.0000, 9,    300.1, 2,    330.4, 2,    26.13, 2,     8.81, 2,     0.12, 2,     1.49, 2,  -999.00, 9,  -1.5727,     0.43, 2, 0.02, 2,  -999.00, 9,  -999.00, 9,   0.6560, 2, -999.000, 2, -999.000, 9, 4.970, 2
320620030705, SBI, 132, 4, 415, 15, 2, 20030729, 1256, 73.3448, -160.0355, 1381,    116.6,  -1.5729,  32.6399, 2, -999.0000, 9,    281.4, 2,    309.4, 2,    28.31, 2,    11.66, 2,     0.02, 2,     1.61, 2,  -999.00, 9,  -1.5751,     0.01, 2, 0.02, 2,  -999.00, 9,  -999.00, 9,   0.7160, 2, -999.000, 2, -999.000, 9, 4.968, 2
320620030705, SBI, 132, 4, 414, 14, 2, 20030729, 1254, 73.3448, -160.0355, 1381,    131.5,  -1.5804,  32.9049, 2, -999.0000, 9,    273.5, 2,    301.7, 2,    30.88, 2,    12.98, 2,     0.01, 2,     1.66, 2,  -999.00, 9,  -1.5829,     0.01, 2, 0.02, 2,  -999.00, 9,  -999.00, 9,   0.7230, 2, -999.000, 2, -999.000, 9, 4.973, 2
320620030705, SBI, 132, 4, 413, 13, 2, 20030729, 1252, 73.3448, -160.0355, 1381,    146.6,  -1.5499,  33.2305, 2, -999.0000, 9,    273.6, 2,    300.0, 2,    31.57, 2,    13.14, 2,     0.01, 2,     1.65, 2,  -999.00, 9,  -1.5529,     0.00, 2, 0.02, 2,  -999.00, 9,  -999.00, 9,   0.6720, 2, -999.000, 2, -999.000, 9, 4.974, 2
320620030705, SBI, 132, 4, 412, 12, 2, 20030729, 1251, 73.3448, -160.0355, 1381,    161.8,  -1.3893,  33.7669, 2, -999.0000, 9,    268.1, 2,    293.5, 2,    29.75, 2,    13.76, 2,     0.01, 2,     1.57, 2,  -999.00, 9,  -1.3930,     0.01, 2, 0.02, 2,  -999.00, 9,  -999.00, 9,   0.6560, 2, -999.000, 2, -999.000, 9, 4.972, 2
320620030705, SBI, 132, 4, 411, 11, 2, 20030729, 1249, 73.3448, -160.0355, 1381,    176.5,  -1.2654,  33.9919, 2, -999.0000, 9,    265.8, 2,    288.7, 2,    25.68, 2,    13.96, 2,     0.01, 2,     1.44, 2,  -999.00, 9,  -1.2698,     0.00, 2, 0.02, 2,  -999.00, 9,  -999.00, 9,   0.5840, 2, -999.000, 2, -999.000, 9, 4.970, 2
320620030705, SBI, 132, 4, 410, 10, 2, 20030729, 1247, 73.3448, -160.0355, 1381,    191.8,  -0.7119,  34.3060, 2, -999.0000, 9,    255.1, 2,    279.4, 2,    18.83, 2,    13.49, 2,     0.01, 2,     1.19, 2,  -999.00, 9,  -0.7177,     0.00, 2, 0.02, 2,  -999.00, 9,  -999.00, 9,   0.6030, 2, -999.000, 2, -999.000, 9, 4.965, 2
320620030705, SBI, 132, 4, 409, 9, 2, 20030729, 1246, 73.3448, -160.0355, 1381,    211.7,  -0.2429,  34.4941, 2, -999.0000, 9,    255.1, 2,    278.4, 2,    13.68, 2,    12.86, 2,     0.01, 2,     1.03, 2,  -999.00, 9,  -0.2503,     0.00, 2, 0.01, 2,  -999.00, 9,  -999.00, 9,   0.5700, 2, -999.000, 2, -999.000, 9, 4.962, 2
320620030705, SBI, 132, 4, 408, 8, 2, 20030729, 1244, 73.3448, -160.0355, 1381,    242.1,   0.2681,  34.6558, 2,  34.6663, 2,    259.1, 2,    282.1, 2,    10.70, 2,    12.86, 2,     0.00, 2,     0.94, 2,  -999.00, 9,   0.2585,     0.00, 2, 0.02, 2,  -999.00, 9,  -999.00, 9,   0.6200, 2, -999.000, 2, -999.000, 9, 4.965, 2
320620030705, SBI, 132, 4, 407, 7, 2, 20030729, 1241, 73.3448, -160.0355, 1381,    292.5,   0.7337,  34.7802, 2,  34.7826, 2,    269.4, 2,    291.7, 2,     7.82, 2,    12.60, 2,     0.00, 2,     0.87, 2,  -999.00, 9,   0.7208,     0.00, 2, 0.01, 2,  -999.00, 9,  -999.00, 9,   0.6050, 2, -999.000, 2, -999.000, 9, 4.967, 2
320620030705, SBI, 132, 4, 406, 6, 2, 20030729, 1238, 73.3448, -160.0355, 1381,    342.7,   0.7639,  34.8123, 2,  34.8192, 2,    271.2, 2,    294.5, 2,     7.42, 2,    12.65, 2,     0.00, 2,     0.87, 2,  -999.00, 9,   0.7485,     0.00, 2, 0.01, 2,  -999.00, 9,  -999.00, 9,   0.5000, 2, -999.000, 2, -999.000, 9, 4.968, 2
320620030705, SBI, 132, 4, 405, 5, 2, 20030729, 1234, 73.3448, -160.0355, 1381,    453.1,   0.6266,  34.8418, 2,  34.8412, 2,    273.5, 2,    297.2, 2,     7.11, 2,    12.65, 2,     0.00, 2,     0.86, 2,  -999.00, 9,   0.6063,     0.00, 2, 0.01, 2,  -999.00, 9,  -999.00, 9,   0.5040, 2, -999.000, 2, -999.000, 9, 4.968, 2
320620030705, SBI, 132, 4, 401, 1, 2, 20030729, 1227, 73.3448, -160.0355, 1381,    702.1,   0.2639,  34.8623, 2, -999.0000, 9,    275.2, 2,   -999.0, 9,  -999.00, 9,  -999.00, 9,  -999.00, 9,  -999.00, 9,  -999.00, 9,   0.2329,  -999.00, 9, -999, 9,  -999.00, 9,  -999.00, 9,   0.4400, 2, -999.000, 2, -999.000, 9, 4.959, 2
320620030705, SBI, 132, 4, 402, 2, 2, 20030729, 1227, 73.3448, -160.0355, 1381,    702.1,   0.2642,  34.8623, 2, -999.0000, 9,    275.3, 2,   -999.0, 9,  -999.00, 9,  -999.00, 9,  -999.00, 9,  -999.00, 9,  -999.00, 9,   0.2332,  -999.00, 9, -999, 9,  -999.00, 9,  -999.00, 9,   0.5680, 2, -999.000, 2, -999.000, 9, 4.958, 2
320620030705, SBI, 132, 4, 403, 3, 2, 20030729, 1227, 73.3448, -160.0355, 1381,    702.3,   0.2631,  34.8625, 2, -999.0000, 9,    275.1, 2,   -999.0, 9,  -999.00, 9,  -999.00, 9,  -999.00, 9,  -999.00, 9,  -999.00, 9,   0.2321,  -999.00, 9, -999, 9,  -999.00, 9,  -999.00, 9,   0.7180, 2, -999.000, 2, -999.000, 9, 4.958, 2
320620030705, SBI, 132, 4, 404, 4, 2, 20030729, 1227, 73.3448, -160.0355, 1381,    702.4,   0.2625,  34.8625, 2,  34.8598, 2,    275.2, 2,    298.1, 2,     7.30, 2,    12.75, 2,     0.00, 2,     0.87, 2,  -999.00, 9,   0.2315,     0.00, 2, 0, 2,  -999.00, 9,  -999.00, 9,   0.5950, 2, -999.000, 2, -999.000, 9, 4.957, 2
320620030705, SBI, 133, 1, 122, 22, 2, 20030729, 1553, 73.3082, -160.1473, 1191,      1.7,  -1.4491,  28.5817, 2,  28.7069, 2,    346.2, 2,    388.0, 2,     6.37, 2,     0.25, 2,     0.00, 2,     0.71, 2,  -999.00, 9,  -1.4491,     0.11, 2, 0, 2,  -999.00, 9,  -999.00, 9,   0.9270, 2, -999.000, 2, -999.000, 9, 4.826, 2
320620030705, SBI, 133, 1, 121, 21, 2, 20030729, 1551, 73.3082, -160.1473, 1191,     17.6,  -1.3528,  30.5800, 2, -999.0000, 9,    353.2, 2,    394.4, 2,    12.56, 2,     0.76, 2,     0.04, 2,     0.86, 2,  -999.00, 9,  -1.3531,     0.19, 2, 0.02, 2,     0.42, 2,     0.07, 2,   1.3930, 2, -999.000, 2, -999.000, 9, 4.815, 2
320620030705, SBI, 133, 1, 120, 20, 2, 20030729, 1548, 73.3082, -160.1473, 1191,     32.6,  -1.6031,  31.6683, 2, -999.0000, 9,    318.3, 2,    351.7, 2,    25.73, 2,     6.09, 2,     0.27, 2,     1.36, 2,  -999.00, 9,  -1.6036,     0.94, 2, 0.04, 2,     1.20, 2,     0.09, 2,   1.0280, 2, -999.000, 2, -999.000, 9, 4.809, 2
320620030705, SBI, 133, 1, 119, 19, 2, 20030729, 1547, 73.3082, -160.1473, 1191,     47.5,  -1.6323,  31.8886, 2, -999.0000, 9,    311.2, 2,    344.9, 2,    27.61, 2,     7.39, 2,     0.24, 2,     1.43, 2,  -999.00, 9,  -1.6331,     0.60, 2, 0.02, 2,     0.23, 2,     0.17, 2,   0.8000, 2, -999.000, 2, -999.000, 9, 4.776, 2
320620030705, SBI, 133, 1, 118, 18, 2, 20030729, 1545, 73.3082, -160.1473, 1191,     62.7,  -1.0088,  32.0570, 2, -999.0000, 9,    318.7, 2,    349.9, 2,    22.97, 2,     5.92, 2,     0.17, 2,     1.34, 2,  -999.00, 9,  -1.0102,     1.02, 2, 0.05, 2,     0.13, 2,     0.09, 2,   0.7860, 2, -999.000, 2, -999.000, 9, 4.764, 2
320620030705, SBI, 133, 1, 117, 17, 2, 20030729, 1543, 73.3082, -160.1473, 1191,     77.8,  -1.0223,  32.2324, 2, -999.0000, 9,    313.0, 2,    345.8, 2,    23.57, 2,     6.19, 2,     0.17, 2,     1.37, 2,  -999.00, 9,  -1.0240,     1.37, 2, 0.05, 2,     0.07, 2,     0.09, 2,   0.8730, 2, -999.000, 2, -999.000, 9, 4.794, 2
320620030705, SBI, 133, 1, 116, 16, 2, 20030729, 1541, 73.3082, -160.1473, 1191,     92.7,  -1.4758,  32.3346, 2, -999.0000, 9,    301.7, 2,    334.4, 2,    27.01, 2,     8.41, 2,     0.13, 2,     1.49, 2,  -999.00, 9,  -1.4775,     0.81, 2, 0.02, 2,  -999.00, 9,  -999.00, 9,   0.7470, 2, -999.000, 2, -999.000, 9, 4.818, 2
320620030705, SBI, 133, 1, 115, 15, 2, 20030729, 1539, 73.3082, -160.1473, 1191,    107.4,  -1.5917,  32.4919, 2, -999.0000, 9,    289.7, 2,    321.7, 2,    27.51, 2,    10.03, 2,     0.09, 2,     1.55, 2,  -999.00, 9,  -1.5937,     0.03, 2, 0.02, 2,  -999.00, 9,  -999.00, 9,   0.7670, 2, -999.000, 2, -999.000, 9, 4.813, 2
320620030705, SBI, 133, 1, 114, 14, 2, 20030729, 1537, 73.3082, -160.1473, 1191,    122.6,  -1.6106,  32.6843, 2, -999.0000, 9,    280.0, 2,    310.9, 2,    29.58, 2,    11.48, 2,     0.00, 2,     1.62, 2,  -999.00, 9,  -1.6129,     0.02, 2, 0.02, 2,  -999.00, 9,  -999.00, 9,   0.6740, 2, -999.000, 2, -999.000, 9, 4.793, 2
320620030705, SBI, 133, 1, 113, 13, 2, 20030729, 1535, 73.3082, -160.1473, 1191,    142.5,  -1.5471,  33.2362, 2, -999.0000, 9,    273.4, 2,    302.8, 2,    31.15, 2,    12.68, 2,     0.00, 2,     1.63, 2,  -999.00, 9,  -1.5500,     0.01, 2, 0.02, 2,  -999.00, 9,  -999.00, 9,   0.7230, 2, -999.000, 2, -999.000, 9, 4.761, 2
320620030705, SBI, 133, 1, 112, 12, 2, 20030729, 1533, 73.3082, -160.1473, 1191,    162.5,  -1.3042,  33.8634, 2, -999.0000, 9,    260.2, 2,    290.7, 2,    28.87, 2,    14.13, 2,     0.00, 2,     1.55, 2,  -999.00, 9,  -1.3081,     0.01, 2, 0.02, 2,  -999.00, 9,  -999.00, 9,   0.6850, 2, -999.000, 2, -999.000, 9, 4.762, 2
320620030705, SBI, 133, 1, 111, 11, 2, 20030729, 1531, 73.3082, -160.1473, 1191,    182.5,  -0.7988,  34.2736, 2, -999.0000, 9,    253.4, 2,    278.5, 2,    19.11, 2,    13.39, 2,     0.01, 2,     1.20, 2,  -999.00, 9,  -0.8041,     0.00, 2, 0.02, 2,  -999.00, 9,  -999.00, 9,   0.6790, 2, -999.000, 2, -999.000, 9, 4.811, 2
320620030705, SBI, 133, 1, 110, 10, 2, 20030729, 1528, 73.3082, -160.1473, 1191,    202.4,  -0.3383,  34.4619, 2, -999.0000, 9,    252.8, 2,    277.6, 2,    14.30, 2,    12.72, 2,     0.01, 2,     1.05, 2,  -999.00, 9,  -0.3451,     0.00, 2, 0.02, 2,  -999.00, 9,  -999.00, 9,   0.7130, 2, -999.000, 2, -999.000, 9, 4.832, 2
320620030705, SBI, 133, 1, 109, 9, 2, 20030729, 1526, 73.3082, -160.1473, 1191,    222.4,   0.1025,  34.6041, 2, -999.0000, 9,    256.3, 2,    280.9, 2,    11.64, 2,    12.77, 2,     0.00, 2,     0.97, 2,  -999.00, 9,   0.0941,     0.00, 2, 0.02, 2,  -999.00, 9,  -999.00, 9,   0.6610, 2, -999.000, 2, -999.000, 9, 4.833, 2
320620030705, SBI, 133, 1, 108, 8, 2, 20030729, 1524, 73.3082, -160.1473, 1191,    242.4,   0.3139,  34.6714, 2, -999.0000, 9,    258.5, 2,    283.7, 2,    10.36, 2,    12.77, 2,     0.00, 2,     0.93, 2,  -999.00, 9,   0.3042,     0.00, 2, 0.01, 2,  -999.00, 9,  -999.00, 9,   0.6360, 2, -999.000, 2, -999.000, 9, 4.856, 2
320620030705, SBI, 133, 1, 107, 7, 2, 20030729, 1521, 73.3082, -160.1473, 1191,    272.3,   0.6575,  34.7580, 2,  34.7631, 2,    265.6, 2,    289.5, 2,     8.09, 2,    12.61, 2,     0.00, 2,     0.88, 2,  -999.00, 9,   0.6457,     0.00, 2, 0.01, 2,  -999.00, 9,  -999.00, 9,   0.5670, 2, -999.000, 2, -999.000, 9, 4.872, 2
320620030705, SBI, 133, 1, 106, 6, 2, 20030729, 1518, 73.3082, -160.1473, 1191,    321.5,   0.8465,  34.8162, 2,  34.8175, 2,    271.0, 2,    294.8, 2,     7.11, 2,    12.50, 2,     0.00, 2,     0.86, 2,  -999.00, 9,   0.8319,     0.00, 2, 0.01, 2,  -999.00, 9,  -999.00, 9,   0.5430, 2, -999.000, 2, -999.000, 9, 4.863, 2
320620030705, SBI, 133, 1, 105, 5, 2, 20030729, 1515, 73.3082, -160.1473, 1191,    391.3,   0.6979,  34.8288, 2,  34.8303, 2,    270.6, 2,    295.3, 2,     7.31, 2,    12.66, 2,     0.00, 2,     0.86, 2,  -999.00, 9,   0.6803,     0.00, 2, 0.01, 2,  -999.00, 9,  -999.00, 9,   0.6050, 2, -999.000, 2, -999.000, 9, 4.860, 2
320620030705, SBI, 133, 1, 104, 4, 2, 20030729, 1511, 73.3082, -160.1473, 1191,    500.5,   0.5473,  34.8472, 2,  34.8471, 2,    271.8, 2,    297.1, 2,     7.51, 2,    12.71, 2,     0.00, 2,     0.87, 2,  -999.00, 9,   0.5250,     0.00, 2, 0, 2,  -999.00, 9,  -999.00, 9,   0.6720, 2, -999.000, 2, -999.000, 9, 4.893, 2
320620030705, SBI, 133, 1, 103, 3, 2, 20030729, 1503, 73.3082, -160.1473, 1191,    800.7,   0.1095,  34.8703, 2,  34.8715, 2,    273.2, 2,    300.1, 2,     7.51, 2,    12.76, 2,     0.00, 2,     0.88, 2,  -999.00, 9,   0.0745,     0.00, 2, 0.01, 2,  -999.00, 9,  -999.00, 9,   0.6220, 2, -999.000, 2, -999.000, 9, 4.896, 2
320620030705, SBI, 133, 1, 102, 2, 2, 20030729, 1455, 73.3082, -160.1473, 1191,   1103.2,  -0.0679,  34.8830, 2,  34.8827, 2,    272.7, 2,    302.2, 2,     7.80, 2,    12.87, 2,     0.00, 2,     0.90, 2,  -999.00, 9,  -0.1175,     0.00, 2, 0, 2,  -999.00, 9,  -999.00, 9,   0.5140, 2, -999.000, 2, -999.000, 9, 4.918, 2
320620030705, SBI, 133, 1, 101, 1, 2, 20030729, 1451, 73.3082, -160.1473, 1191,   1198.6,  -0.2225,  34.8991, 2,  34.8980, 2,    271.3, 2,    298.7, 2,     8.48, 2,    13.23, 2,     0.00, 2,     0.92, 2,  -999.00, 9,  -0.2759,     0.00, 2, 0, 2,  -999.00, 9,  -999.00, 9,   0.7180, 2, -999.000, 2, -999.000, 9, 4.922, 2