BOTTLE,20100423CCHDOSIODBK
EXPOCODE,SECT_ID,STNNBR,CASTNO,SAMPNO,BTLNBR,BTLNBR_FLAG_W,DATE,TIME,LATITUDE,LONGITUDE,DEPTH,CTDPRS,CTDTMP,CTDSAL,CTDSAL_FLAG_W,SALNTY,SALNTY_FLAG_W,CTDOXY,CTDOXY_FLAG_W,OXYGEN,OXYGEN_FLAG_W,SILCAT,SILCAT_FLAG_W,NITRAT,NITRAT_FLAG_W,NITRIT,NITRIT_FLAG_W,PHSPHT,PHSPHT_FLAG_W,DOC,DOC_FLAG_W,THETA,NH4,NH4_FLAG_W,UREA,UREA_FLAG_W,CHLORA,CHLORA_FLAG_W,PPHYTN,PPHYTN_FLAG_W,FLUOR,FLUOR_FLAG_W,HAARDT,HAARDT_FLAG_W,PAR,PAR_FLAG_W,SPAR,SPAR_FLAG_W
,,,,,,,,,,,METERS,DBAR,ITS-90,PSS-78,,PSS-78,,UMOL/KG,,UMOL/KG,,UMOL/KG,,UMOL/KG,,UMOL/KG,,UMOL/KG,,UMOL/KG,,DEG C,UMOL/KG,,UMOL/KG,,UG/KG,,UG/KG,,MG/M^3,,VOLTS,,VOLTS,,VOLTS,
320620030705, SBI, 27, 2, 224, 24, 2, 20030714, 108, 72.0822, -153.9918, 1303,      1.8,   1.9613,  28.8862, 2,  29.0284, 2,    337.2, 2,    374.7, 2,    15.56, 2,     0.14, 2,     0.00, 2,     0.80, 2,  -999.00, 9,   1.9612,     0.17, 2, 0, 2,  -999.00, 9,  -999.00, 9,   1.0800, 2, 0.000, 2, -999.000, 9, 4.752, 2
320620030705, SBI, 27, 2, 223, 23, 2, 20030714, 107, 72.0822, -153.9918, 1303,     13.6,   0.3440,  31.2946, 2, -999.0000, 9,    404.1, 2,    389.0, 2,    22.63, 2,     1.63, 2,     0.06, 2,     1.24, 2,  -999.00, 9,   0.3436,     0.87, 2, 0.09, 2,  -999.00, 9,  -999.00, 9,   1.1150, 2, 0.000, 2, -999.000, 9, 4.769, 2
320620030705, SBI, 27, 2, 222, 22, 2, 20030714, 105, 72.0822, -153.9918, 1303,     25.7,  -0.2062,  31.6127, 2, -999.0000, 9,    350.6, 2,    361.1, 2,    23.33, 2,     2.76, 2,     0.09, 2,     1.31, 2,  -999.00, 9,  -0.2069,     1.50, 2, 0.16, 2,  -999.00, 9,  -999.00, 9,   1.4140, 2, 0.000, 2, -999.000, 9, 4.767, 2
320620030705, SBI, 27, 2, 221, 21, 2, 20030714, 103, 72.0822, -153.9918, 1303,     38.6,   0.0428,  31.8555, 2, -999.0000, 9,    327.5, 2,    347.5, 2,    21.76, 2,     3.72, 2,     0.14, 2,     1.35, 2,  -999.00, 9,   0.0416,     2.17, 2, 0.19, 2,  -999.00, 9,  -999.00, 9,   1.3210, 2, 0.000, 2, -999.000, 9, 4.757, 2
320620030705, SBI, 27, 2, 220, 20, 2, 20030714, 101, 72.0822, -153.9918, 1303,     53.7,  -0.7990,  32.1418, 2, -999.0000, 9,    322.6, 2,    345.7, 2,    24.95, 2,     5.35, 2,     0.14, 2,     1.36, 2,  -999.00, 9,  -0.8003,     1.81, 2, 0.1, 2,  -999.00, 9,  -999.00, 9,   0.9670, 2, 0.000, 2, -999.000, 9, 4.740, 2
320620030705, SBI, 27, 2, 219, 19, 2, 20030714, 59, 72.0822, -153.9918, 1303,     73.7,  -1.1579,  32.3545, 2, -999.0000, 9,    317.0, 2,    340.6, 2,    24.83, 2,     5.68, 2,     0.12, 2,     1.46, 2,  -999.00, 9,  -1.1595,     2.78, 2, 0.2, 2,  -999.00, 9,  -999.00, 9,   1.0320, 2, 0.000, 2, -999.000, 9, 4.724, 2
320620030705, SBI, 27, 2, 218, 18, 2, 20030714, 56, 72.0822, -153.9918, 1303,     93.9,  -1.2880,  32.4814, 2, -999.0000, 9,    306.9, 2,    329.7, 2,    25.43, 2,     6.40, 2,     0.12, 2,     1.48, 2,  -999.00, 9,  -1.2899,     2.14, 2, 0.14, 2,  -999.00, 9,  -999.00, 9,   0.8990, 2, 0.000, 2, -999.000, 9, 4.691, 2
320620030705, SBI, 27, 2, 217, 17, 2, 20030714, 54, 72.0822, -153.9918, 1303,    113.9,  -1.1464,  33.0233, 2,  32.9340, 2,    289.1, 2,    312.8, 2,    25.93, 2,     8.72, 2,     0.12, 2,     1.50, 2,  -999.00, 9,  -1.1490,     1.19, 2, 0.08, 2,  -999.00, 9,  -999.00, 9,   0.7890, 2, 0.000, 2, -999.000, 9, 4.713, 2
320620030705, SBI, 27, 2, 216, 16, 2, 20030714, 52, 72.0822, -153.9918, 1303,    128.9,  -0.5313,  34.1139, 2, -999.0000, 9,    271.7, 2,    291.4, 2,    21.37, 2,    12.31, 2,     0.12, 2,     1.33, 2,  -999.00, 9,  -0.5353,     0.31, 2, 0.06, 2,  -999.00, 9,  -999.00, 9,   0.8700, 2, 0.000, 2, -999.000, 9, 4.708, 2
320620030705, SBI, 27, 2, 215, 15, 2, 20030714, 50, 72.0822, -153.9918, 1303,    144.1,  -0.5114,  34.4583, 2, -999.0000, 9,    269.4, 2,    287.9, 2,    18.57, 2,    13.12, 2,     0.02, 2,     1.23, 2,  -999.00, 9,  -0.5160,     0.00, 2, 0.02, 2,  -999.00, 9,  -999.00, 9,   0.8440, 2, 0.000, 2, -999.000, 9, 4.675, 2
320620030705, SBI, 27, 2, 214, 14, 2, 20030714, 48, 72.0822, -153.9918, 1303,    159.1,  -0.1299,  34.6049, 2, -999.0000, 9,    267.5, 2,    285.1, 2,    13.72, 2,    12.92, 2,     0.01, 2,     1.08, 2,  -999.00, 9,  -0.1355,     0.00, 2, 0.01, 2,  -999.00, 9,  -999.00, 9,   0.6600, 2, 0.000, 2, -999.000, 9, 4.695, 2
320620030705, SBI, 27, 2, 213, 13, 2, 20030714, 46, 72.0822, -153.9918, 1303,    174.2,   0.1067,  34.6589, 2, -999.0000, 9,    265.1, 2,    282.3, 2,    12.28, 2,    13.03, 2,     0.01, 2,     1.02, 2,  -999.00, 9,   0.1001,     0.01, 2, 0.02, 2,  -999.00, 9,  -999.00, 9,   0.7220, 2, 0.000, 2, -999.000, 9, 4.693, 2
320620030705, SBI, 27, 2, 212, 12, 2, 20030714, 44, 72.0822, -153.9918, 1303,    189.2,   0.3183,  34.7082, 2, -999.0000, 9,    265.1, 2,    282.9, 2,    11.13, 2,    13.13, 2,     0.00, 2,     0.99, 2,  -999.00, 9,   0.3108,     0.00, 2, 0.02, 2,  -999.00, 9,  -999.00, 9,   0.7280, 2, 0.000, 2, -999.000, 9, 4.686, 2
320620030705, SBI, 27, 2, 211, 11, 2, 20030714, 42, 72.0822, -153.9918, 1303,    204.3,   0.4698,  34.7407, 2,  34.7378, 2,    269.7, 2,    287.6, 2,     9.27, 2,    12.87, 2,     0.00, 2,     0.94, 2,  -999.00, 9,   0.4614,     0.01, 2, 0.02, 2,  -999.00, 9,  -999.00, 9,   0.7270, 2, 0.000, 2, -999.000, 9, 4.701, 2
320620030705, SBI, 27, 2, 210, 10, 2, 20030714, 40, 72.0822, -153.9918, 1303,    219.5,   0.5811,  34.7695, 2, -999.0000, 9,    271.2, 2,    288.6, 2,     8.23, 2,    12.77, 2,     0.00, 2,     0.90, 2,  -999.00, 9,   0.5718,     0.00, 2, 0.01, 2,  -999.00, 9,  -999.00, 9,   0.7470, 2, 0.000, 2, -999.000, 9, 4.696, 2
320620030705, SBI, 27, 2, 209, 9, 2, 20030714, 37, 72.0822, -153.9918, 1303,    234.5,   0.5165,  34.7734, 2,  34.7756, 2,    273.0, 2,    291.4, 2,     9.45, 2,    12.82, 2,     0.00, 2,     0.95, 2,  -999.00, 9,   0.5067,     0.00, 2, 0, 2,  -999.00, 9,  -999.00, 9,   0.6690, 2, 0.000, 2, -999.000, 9, 4.682, 2
320620030705, SBI, 27, 2, 208, 8, 2, 20030714, 35, 72.0822, -153.9918, 1303,    254.6,   0.5524,  34.7948, 2,  34.7972, 2,    275.0, 2,    293.4, 2,     8.51, 2,    12.77, 2,     0.00, 2,     0.92, 2,  -999.00, 9,   0.5416,     0.00, 2, 0.01, 2,  -999.00, 9,  -999.00, 9,   0.5750, 2, 0.000, 2, -999.000, 9, 4.688, 2
320620030705, SBI, 27, 2, 207, 7, 2, 20030714, 33, 72.0822, -153.9918, 1303,    284.6,   0.4740,  34.8007, 2,  34.8082, 2,    276.1, 2,    293.3, 2,     8.60, 2,    12.77, 2,     0.00, 2,     0.92, 2,  -999.00, 9,   0.4620,     0.01, 2, 0.02, 2,  -999.00, 9,  -999.00, 9,   0.8790, 2, 0.000, 2, -999.000, 9, 4.680, 2
320620030705, SBI, 27, 2, 206, 6, 2, 20030714, 28, 72.0822, -153.9918, 1303,    405.1,   0.5508,  34.8428, 2,  34.8436, 2,    277.4, 2,    295.7, 2,     7.15, 2,    12.77, 2,     0.00, 2,     0.88, 2,  -999.00, 9,   0.5331,     0.00, 2, 0.01, 2,  -999.00, 9,  -999.00, 9,   0.5500, 2, 0.000, 2, -999.000, 9, 4.645, 2
320620030705, SBI, 27, 2, 205, 5, 2, 20030714, 22, 72.0822, -153.9918, 1303,    606.3,   0.2685,  34.8626, 2,  34.8609, 2,    278.9, 2,    299.2, 2,     7.14, 2,    12.77, 2,     0.00, 2,     0.89, 2,  -999.00, 9,   0.2423,     0.00, 2, 0, 2,  -999.00, 9,  -999.00, 9,   0.6850, 2, 0.000, 2, -999.000, 9, 4.621, 2
320620030705, SBI, 27, 2, 204, 4, 2, 20030714, 16, 72.0822, -153.9918, 1303,    807.5,   0.0446,  34.8757, 2,  34.8747, 2,    278.7, 2,    299.3, 2,     7.44, 2,    12.92, 2,     0.00, 2,     0.91, 2,  -999.00, 9,   0.0097,     0.00, 2, 0, 2,  -999.00, 9,  -999.00, 9,   0.6360, 2, 0.000, 2, -999.000, 9, 4.582, 2
320620030705, SBI, 27, 2, 203, 3, 2, 20030714, 9, 72.0822, -153.9918, 1303,   1034.9,  -0.1257,  34.8909, 2,  34.8908, 2,    277.4, 2,    298.8, 2,     8.25, 2,    13.12, 2,     0.01, 2,     0.93, 2,  -999.00, 9,  -0.1711,     0.00, 2, 0.01, 2,  -999.00, 9,  -999.00, 9,   0.5830, 2, 0.000, 2, -999.000, 9, 4.549, 2
320620030705, SBI, 27, 2, 202, 2, 2, 20030714, 3, 72.0822, -153.9918, 1303,   1262.3,  -0.1722,  34.8965, 2,  34.8949, 2,    276.8, 2,    299.7, 2,     8.65, 2,    13.17, 2,     0.01, 2,     0.95, 2,  -999.00, 9,  -0.2297,     0.01, 2, 0, 2,  -999.00, 9,  -999.00, 9,   0.5750, 2, 0.000, 2, -999.000, 9, 4.551, 2
320620030705, SBI, 27, 2, 201, 1, 2, 20030714, 0, 72.0822, -153.9918, 1303,   1312.0,  -0.2203,  34.9019, 2,  34.8993, 2,    276.2, 2,    292.8, 2,     8.83, 2,    13.32, 2,     0.01, 2,     0.96, 2,  -999.00, 9,  -0.2801,     0.02, 2, 0.02, 2,  -999.00, 9,  -999.00, 9,   0.6300, 2, 0.000, 2, -999.000, 9, 4.533, 2
320620030705, SBI, 28, 1, 124, 24, 2, 20030714, 440, 72.1327, -153.9678, 1640,      1.7,   2.2166,  29.6244, 2,  29.1796, 2,    335.1, 2,    362.8, 2,    16.31, 2,     0.09, 2,     0.00, 2,     0.79, 2,  -999.00, 9,   2.2165,     0.25, 2, 0.02, 2,     0.33, 2,     0.05, 2,   1.1070, 2, 0.000, 2, 0.000, 2, 4.904, 2
320620030705, SBI, 28, 1, 123, 23, 2, 20030714, 438, 72.1327, -153.9678, 1640,     15.9,   1.4083,  31.2653, 2, -999.0000, 9,    397.4, 2,    391.3, 2,    22.17, 2,     1.06, 2,     0.04, 2,     1.15, 2,  -999.00, 9,   1.4076,     0.83, 2, 0.1, 2,     1.45, 2,     0.21, 2,   1.3060, 2, 0.000, 2, 0.000, 2, 4.904, 2
320620030705, SBI, 28, 1, 122, 22, 2, 20030714, 436, 72.1327, -153.9678, 1640,     30.9,   0.0979,  31.6859, 2, -999.0000, 9,    345.2, 2,    358.8, 2,    23.59, 2,     2.64, 2,     0.11, 2,     1.30, 2,  -999.00, 9,   0.0970,     1.65, 2, 0.17, 2,     0.71, 2,     0.19, 2,   1.2720, 2, 0.000, 2, 0.000, 2, 4.902, 2
320620030705, SBI, 28, 1, 121, 21, 2, 20030714, 435, 72.1327, -153.9678, 1640,     46.2,  -0.4281,  31.9121, 2, -999.0000, 9,    324.2, 2,    346.0, 2,    21.81, 2,     4.60, 2,     0.14, 2,     1.35, 2,  -999.00, 9,  -0.4293,     2.05, 2, 0.14, 2,     0.48, 2,     0.27, 2,   1.1720, 2, 0.000, 2, 0.000, 2, 4.899, 2
320620030705, SBI, 28, 1, 120, 20, 2, 20030714, 433, 72.1327, -153.9678, 1640,     64.2,  -1.0990,  32.2136, 2, -999.0000, 9,    317.9, 2,    339.7, 2,    25.41, 2,     6.01, 2,     0.14, 2,     1.43, 2,  -999.00, 9,  -1.1004,     1.93, 2, 0.1, 2,  -999.00, 9,  -999.00, 9,   1.0120, 2, 0.000, 2, 0.000, 2, 4.904, 2
320620030705, SBI, 28, 1, 119, 19, 2, 20030714, 431, 72.1327, -153.9678, 1640,     79.1,  -1.2313,  32.3590, 2, -999.0000, 9,    308.2, 2,    329.3, 2,    26.11, 2,     6.84, 2,     0.14, 2,     1.54, 2,  -999.00, 9,  -1.2329,     2.49, 2, 0.16, 2,  -999.00, 9,  -999.00, 9,   1.0040, 2, 0.000, 2, 0.000, 2, 4.907, 2
320620030705, SBI, 28, 1, 118, 18, 2, 20030714, 430, 72.1327, -153.9678, 1640,     98.8,  -1.2902,  32.4803, 2, -999.0000, 9,    306.1, 2,    329.4, 2,    25.16, 2,     6.32, 2,     0.13, 2,     1.48, 2,  -999.00, 9,  -1.2923,     2.10, 2, 0.11, 2,  -999.00, 9,  -999.00, 9,   0.9500, 2, 0.000, 2, 0.000, 2, 4.905, 2
320620030705, SBI, 28, 1, 117, 17, 2, 20030714, 428, 72.1327, -153.9678, 1640,    114.1,  -1.2957,  32.7023, 2,  33.3935, 0,    293.8, 2,    302.7, 2,    26.99, 2,    11.10, 2,     0.08, 2,     1.52, 2,  -999.00, 9,  -1.2981,     0.63, 2, 0.05, 2,     0.10, 2,     0.13, 2,   0.9330, 2, 0.000, 2, 0.000, 2, 4.906, 2
320620030705, SBI, 28, 1, 116, 16, 2, 20030714, 427, 72.1327, -153.9678, 1640,    129.3,  -1.2602,  33.8008, 2, -999.0000, 9,    274.0, 2,    295.3, 2,    26.35, 2,    13.07, 2,     0.05, 2,     1.49, 2,  -999.00, 9,  -1.2633,     0.06, 2, 0.02, 2,  -999.00, 9,  -999.00, 9,   0.8090, 2, 0.000, 2, 0.000, 2, 4.913, 2
320620030705, SBI, 28, 1, 115, 15, 2, 20030714, 425, 72.1327, -153.9678, 1640,    144.4,  -0.3002,  34.4285, 2, -999.0000, 9,    271.2, 2,    288.5, 2,    17.45, 2,    12.86, 2,     0.05, 2,     1.21, 2,  -999.00, 9,  -0.3050,     0.07, 2, 0.03, 2,  -999.00, 9,  -999.00, 9,   0.8480, 2, 0.000, 2, 0.000, 2, 4.920, 2
320620030705, SBI, 28, 1, 114, 14, 2, 20030714, 424, 72.1327, -153.9678, 1640,    159.2,  -0.1939,  34.5830, 2, -999.0000, 9,    269.0, 2,    288.5, 2,    15.57, 2,    12.95, 2,     0.01, 2,     1.12, 2,  -999.00, 9,  -0.1994,     0.01, 2, 0.02, 2,  -999.00, 9,  -999.00, 9,   0.7020, 2, 0.000, 2, 0.000, 2, 4.921, 2
320620030705, SBI, 28, 1, 113, 13, 2, 20030714, 422, 72.1327, -153.9678, 1640,    174.4,  -0.2513,  34.6174, 2, -999.0000, 9,    275.0, 2,    289.7, 2,    14.32, 2,    12.70, 2,     0.01, 2,     1.09, 2,  -999.00, 9,  -0.2573,     0.01, 2, 0.02, 2,  -999.00, 9,  -999.00, 9,   0.7480, 2, 0.000, 2, 0.000, 2, 4.915, 2
320620030705, SBI, 28, 1, 112, 12, 2, 20030714, 420, 72.1327, -153.9678, 1640,    189.3,   0.3098,  34.6900, 2, -999.0000, 9,    262.7, 2,    280.0, 2,    11.01, 2,    12.95, 2,     0.00, 2,     0.98, 2,  -999.00, 9,   0.3023,     0.00, 2, 0.01, 2,  -999.00, 9,  -999.00, 9,   0.6050, 2, 0.000, 2, 0.000, 2, 4.907, 2
320620030705, SBI, 28, 1, 111, 11, 2, 20030714, 419, 72.1327, -153.9678, 1640,    204.5,   0.2946,  34.7095, 2,  34.7081, 2,    269.7, 2,    292.4, 2,    11.82, 2,    12.85, 2,     0.00, 2,     1.02, 2,  -999.00, 9,   0.2865,     0.01, 2, 0.02, 2,     0.04, 2,     0.04, 2,   0.6850, 2, 0.000, 2, 0.000, 2, 4.898, 2
320620030705, SBI, 28, 1, 110, 10, 2, 20030714, 417, 72.1327, -153.9678, 1640,    224.5,   0.0415,  34.7132, 2, -999.0000, 9,    276.5, 2,    295.7, 2,    13.04, 2,    12.71, 2,     0.00, 2,     1.07, 2,  -999.00, 9,   0.0330,     0.00, 2, 0.01, 2,  -999.00, 9,  -999.00, 9,   0.6550, 2, 0.000, 2, 0.000, 2, 4.874, 2
320620030705, SBI, 28, 1, 109, 9, 2, 20030714, 415, 72.1327, -153.9678, 1640,    244.8,   0.1653,  34.7432, 2,  34.7431, 2,    276.4, 2,    295.3, 2,    11.99, 2,    12.70, 2,     0.00, 2,     1.03, 2,  -999.00, 9,   0.1558,     0.00, 2, 0, 2,  -999.00, 9,  -999.00, 9,   0.6530, 2, 0.000, 2, 0.000, 2, 4.860, 2
320620030705, SBI, 28, 1, 108, 8, 2, 20030714, 413, 72.1327, -153.9678, 1640,    304.8,   0.3108,  34.7938, 2,  34.7956, 2,    277.0, 2,    295.7, 2,    10.32, 2,    12.74, 2,     0.00, 2,     0.99, 2,  -999.00, 9,   0.2984,     0.01, 2, 0.01, 2,  -999.00, 9,  -999.00, 9,   0.6370, 2, 0.000, 2, 0.000, 2, 4.837, 2
320620030705, SBI, 28, 1, 107, 7, 2, 20030714, 408, 72.1327, -153.9678, 1640,    456.0,   0.3638,  34.8537, 2,  34.8550, 2,    277.5, 2,    297.8, 2,     7.53, 2,    12.80, 2,     0.00, 2,     0.91, 2,  -999.00, 9,   0.3443,     0.01, 2, 0.02, 2,  -999.00, 9,  -999.00, 9,   0.6850, 2, 0.000, 2, 0.000, 2, 4.838, 2
320620030705, SBI, 28, 1, 106, 6, 2, 20030714, 404, 72.1327, -153.9678, 1640,    607.1,   0.1921,  34.8669, 2,  34.8674, 2,    278.5, 2,    298.9, 2,     7.30, 2,    12.69, 2,     0.00, 2,     0.90, 2,  -999.00, 9,   0.1662,     0.00, 2, 0.01, 2,  -999.00, 9,  -999.00, 9,   0.6490, 2, 0.000, 2, 0.000, 2, 4.872, 2
320620030705, SBI, 28, 1, 105, 5, 2, 20030714, 358, 72.1327, -153.9678, 1640,    809.4,   0.0225,  34.8775, 2,  34.8776, 2,    278.3, 2,    299.6, 2,     7.59, 2,    12.90, 2,     0.00, 2,     0.91, 2,  -999.00, 9,  -0.0124,     0.00, 2, 0, 2,  -999.00, 9,  -999.00, 9,   0.6320, 2, 0.000, 2, 0.000, 2, 4.854, 2
320620030705, SBI, 28, 1, 104, 4, 2, 20030714, 351, 72.1327, -153.9678, 1640,   1061.5,  -0.1495,  34.8930, 2,  34.8920, 2,    276.9, 2,    299.4, 2,     8.20, 2,    13.10, 2,     0.00, 2,     0.94, 2,  -999.00, 9,  -0.1961,     0.00, 2, 0, 2,  -999.00, 9,  -999.00, 9,   0.5600, 2, 0.000, 2, 0.000, 2, 4.876, 2
320620030705, SBI, 28, 1, 103, 3, 2, 20030714, 343, 72.1327, -153.9678, 1640,   1314.4,  -0.3184,  34.9143, 2,  34.9146, 2,    274.3, 2,    297.4, 2,     9.42, 2,    13.51, 2,     0.01, 2,     0.97, 2,  -999.00, 9,  -0.3773,     0.00, 2, 0, 2,  -999.00, 9,  -999.00, 9,   0.6290, 2, 0.000, 2, 0.000, 2, 4.843, 2
320620030705, SBI, 28, 1, 102, 2, 2, 20030714, 336, 72.1327, -153.9678, 1640,   1566.8,  -0.3855,  34.9291, 2,  34.9276, 2,    270.5, 2,    293.0, 2,    11.05, 2,    14.01, 2,     0.00, 2,     1.01, 2,  -999.00, 9,  -0.4584,     0.01, 2, 0, 2,  -999.00, 9,  -999.00, 9,   0.6130, 2, 0.000, 2, 0.000, 2, 4.845, 2
320620030705, SBI, 28, 1, 101, 1, 2, 20030714, 332, 72.1327, -153.9678, 1640,   1650.0,  -0.3966,  34.9325, 2,  34.9300, 2,    270.1, 2,    292.8, 2,    11.14, 2,    14.06, 2,     0.00, 2,     1.01, 2,  -999.00, 9,  -0.4745,     0.00, 2, 0, 2,  -999.00, 9,  -999.00, 9,   0.6540, 2, 0.000, 2, 0.000, 2, 4.851, 2