BOTTLE,20100423CCHDOSIODBK
EXPOCODE,SECT_ID,STNNBR,CASTNO,SAMPNO,BTLNBR,BTLNBR_FLAG_W,DATE,TIME,LATITUDE,LONGITUDE,DEPTH,CTDPRS,CTDTMP,CTDSAL,CTDSAL_FLAG_W,SALNTY,SALNTY_FLAG_W,CTDOXY,CTDOXY_FLAG_W,OXYGEN,OXYGEN_FLAG_W,SILCAT,SILCAT_FLAG_W,NITRAT,NITRAT_FLAG_W,NITRIT,NITRIT_FLAG_W,PHSPHT,PHSPHT_FLAG_W,DOC,DOC_FLAG_W,THETA,NH4,NH4_FLAG_W,UREA,UREA_FLAG_W,CHLORA,CHLORA_FLAG_W,PPHYTN,PPHYTN_FLAG_W,FLUOR,FLUOR_FLAG_W,HAARDT,HAARDT_FLAG_W,PAR,PAR_FLAG_W,SPAR,SPAR_FLAG_W
,,,,,,,,,,,METERS,DBAR,ITS-90,PSS-78,,PSS-78,,UMOL/KG,,UMOL/KG,,UMOL/KG,,UMOL/KG,,UMOL/KG,,UMOL/KG,,UMOL/KG,,DEG C,UMOL/KG,,UMOL/KG,,UG/KG,,UG/KG,,MG/M^3,,VOLTS,,VOLTS,,VOLTS,
320620030705, SBI, 29, 1, 124, 24, 2, 20030714, 841, 72.1767, -153.9242, 1898,      2.3,   1.7523,  29.4749, 2,  29.6707, 2,    345.1, 2,    366.0, 2,    18.18, 2,     0.14, 2,     0.00, 2,     0.82, 2,  -999.00, 9,   1.7522,     0.20, 2, 0.02, 2,     0.33, 2,     0.05, 2,   1.0690, 2, 0.000, 2, 0.000, 9, 4.948, 2
320620030705, SBI, 29, 1, 123, 23, 2, 20030714, 838, 72.1767, -153.9242, 1898,     18.6,   1.3657,  31.3687, 2,  31.3531, 2,    376.4, 2,    395.3, 2,    20.17, 2,     0.24, 2,     0.01, 2,     1.00, 2,  -999.00, 9,   1.3649,     0.46, 2, 0.07, 2,     0.50, 2,     0.16, 2,   1.0630, 2, 0.000, 2, 0.000, 9, 4.944, 2
320620030705, SBI, 29, 1, 122, 22, 2, 20030714, 836, 72.1767, -153.9242, 1898,     32.6,  -0.5745,  31.6885, 2, -999.0000, 9,    334.4, 2,    358.0, 2,    25.51, 2,     3.39, 2,     0.10, 2,     1.35, 2,  -999.00, 9,  -0.5753,     1.56, 2, 0.12, 2,     1.78, 2,     0.31, 2,   1.5450, 2, 0.000, 2, 0.000, 9, 4.939, 2
320620030705, SBI, 29, 1, 121, 21, 2, 20030714, 832, 72.1767, -153.9242, 1898,     50.7,  -0.5857,  32.0544, 2, -999.0000, 9,    325.8, 2,    350.3, 2,    22.87, 2,     4.41, 2,     0.13, 2,     1.31, 2,  -999.00, 9,  -0.5870,     1.74, 2, 0.12, 2,     0.27, 2,     0.25, 2,   0.9930, 2, 0.000, 2, 0.000, 9, 4.933, 2
320620030705, SBI, 29, 1, 120, 20, 2, 20030714, 829, 72.1767, -153.9242, 1898,     70.7,  -1.1550,  32.2826, 2, -999.0000, 9,    316.9, 2,    342.5, 2,    24.06, 2,     6.01, 2,     0.14, 2,     1.43, 2,  -999.00, 9,  -1.1565,     1.86, 2, 0.13, 2,     0.23, 2,     0.29, 2,   1.0520, 2, 0.000, 2, 0.000, 9, 4.930, 2
320620030705, SBI, 29, 1, 119, 19, 2, 20030714, 826, 72.1767, -153.9242, 1898,     85.7,  -1.5600,  32.3720, 2, -999.0000, 9,    303.1, 2,    316.5, 2,    29.19, 2,     8.85, 2,     0.16, 2,     1.67, 2,  -999.00, 9,  -1.5615,     2.34, 2, 0.12, 2,  -999.00, 9,  -999.00, 9,   1.2420, 2, 0.000, 2, 0.000, 9, 4.927, 2
320620030705, SBI, 29, 1, 118, 18, 2, 20030714, 824, 72.1767, -153.9242, 1898,    100.8,  -1.6287,  32.4768, 2,  32.5758, 2,    282.5, 2,    311.3, 2,    29.24, 2,     9.07, 2,     0.14, 2,     1.66, 2,  -999.00, 9,  -1.6305,     1.91, 2, 0.12, 2,  -999.00, 9,  -999.00, 9,   1.1080, 2, 0.000, 2, 0.000, 9, 4.927, 2
320620030705, SBI, 29, 1, 117, 17, 2, 20030714, 822, 72.1767, -153.9242, 1898,    115.6,  -1.4218,  32.6278, 2, -999.0000, 9,    293.5, 2,    309.1, 2,    27.14, 2,     9.04, 2,     0.12, 2,     1.53, 2,  -999.00, 9,  -1.4241,     1.10, 2, 0.05, 2,     0.16, 2,     0.20, 2,   0.9270, 2, 0.000, 2, 0.000, 9, 4.927, 2
320620030705, SBI, 29, 1, 116, 16, 2, 20030714, 820, 72.1767, -153.9242, 1898,    130.6,  -1.1197,  33.5285, 2, -999.0000, 9,    279.1, 2,    297.1, 2,    25.63, 2,    12.40, 2,     0.08, 2,     1.48, 2,  -999.00, 9,  -1.1229,     0.23, 2, 0.01, 2,  -999.00, 9,  -999.00, 9,   0.7700, 2, 0.000, 2, 0.000, 9, 4.922, 2
320620030705, SBI, 29, 1, 115, 15, 2, 20030714, 817, 72.1767, -153.9242, 1898,    145.9,  -0.8321,  34.3284, 2, -999.0000, 9,    271.5, 2,    291.1, 2,    21.32, 2,    13.12, 2,     0.02, 2,     1.35, 2,  -999.00, 9,  -0.8363,     0.00, 2, 0, 2,  -999.00, 9,  -999.00, 9,   0.6820, 2, 0.000, 2, 0.000, 9, 4.916, 2
320620030705, SBI, 29, 1, 114, 14, 2, 20030714, 815, 72.1767, -153.9242, 1898,    160.7,  -0.4110,  34.5295, 2, -999.0000, 9,    270.9, 2,    296.9, 2,    17.84, 2,    12.72, 2,     0.01, 2,     1.21, 2,  -999.00, 9,  -0.4163,     0.00, 2, 0.02, 2,  -999.00, 9,  -999.00, 9,   0.7250, 2, 0.000, 2, 0.000, 9, 4.910, 2
320620030705, SBI, 29, 1, 113, 13, 2, 20030714, 813, 72.1767, -153.9242, 1898,    175.9,  -0.3706,  34.6073, 2, -999.0000, 9,    278.5, 2,    298.7, 2,    16.55, 2,    12.57, 2,     0.00, 2,     1.18, 2,  -999.00, 9,  -0.3765,     0.00, 2, 0.02, 2,  -999.00, 9,  -999.00, 9,   1.0680, 2, 0.000, 2, 0.000, 9, 4.910, 2
320620030705, SBI, 29, 1, 112, 12, 2, 20030714, 811, 72.1767, -153.9242, 1898,    191.0,  -0.2641,  34.6483, 2, -999.0000, 9,    278.6, 2,    298.4, 2,    15.47, 2,    12.67, 2,     0.00, 2,     1.14, 2,  -999.00, 9,  -0.2707,     0.00, 2, 0.02, 2,  -999.00, 9,  -999.00, 9,   0.7630, 2, 0.000, 2, 0.000, 9, 4.917, 2
320620030705, SBI, 29, 1, 111, 11, 2, 20030714, 808, 72.1767, -153.9242, 1898,    206.1,  -0.0878,  34.6888, 2, -999.0000, 9,    277.5, 2,    296.9, 2,    14.07, 2,    12.72, 2,     0.00, 2,     1.09, 2,  -999.00, 9,  -0.0953,     0.00, 2, 0.02, 2,  -999.00, 9,  -999.00, 9,   0.6110, 2, 0.000, 2, 0.000, 9, 4.920, 2
320620030705, SBI, 29, 1, 110, 10, 2, 20030714, 806, 72.1767, -153.9242, 1898,    228.2,   0.1820,  34.7390, 2, -999.0000, 9,    275.8, 2,    294.7, 2,    11.86, 2,    12.73, 2,     0.00, 2,     1.03, 2,  -999.00, 9,   0.1731,     0.00, 2, 0.02, 2,  -999.00, 9,  -999.00, 9,   0.8360, 2, 0.000, 2, 0.000, 9, 4.929, 2
320620030705, SBI, 29, 1, 109, 9, 2, 20030714, 804, 72.1767, -153.9242, 1898,    245.8,   0.2306,  34.7604, 2,  34.7644, 2,    276.7, 2,    295.0, 2,    11.29, 2,    12.73, 2,     0.00, 2,     1.01, 2,  -999.00, 9,   0.2209,     0.00, 2, 0.01, 2,  -999.00, 9,  -999.00, 9,   0.6160, 2, 0.000, 2, 0.000, 9, 4.936, 2
320620030705, SBI, 29, 1, 108, 8, 2, 20030714, 800, 72.1767, -153.9242, 1898,    306.0,   0.3581,  34.8033, 2,  34.8047, 2,    276.3, 2,    295.3, 2,     9.90, 2,    12.77, 2,     0.00, 2,     0.97, 2,  -999.00, 9,   0.3455,     0.00, 2, 0.02, 2,  -999.00, 9,  -999.00, 9,   0.6190, 2, 0.000, 2, 0.000, 9, 4.942, 2
320620030705, SBI, 29, 1, 107, 7, 2, 20030714, 754, 72.1767, -153.9242, 1898,    457.0,   0.3813,  34.8518, 2,  34.8517, 2,    276.9, 2,    297.6, 2,     7.67, 2,    12.82, 2,     0.00, 2,     0.91, 2,  -999.00, 9,   0.3617,     0.00, 2, 0.01, 2,  -999.00, 9,  -999.00, 9,   0.6530, 2, 0.000, 2, 0.000, 9, 4.942, 2
320620030705, SBI, 29, 1, 106, 6, 2, 20030714, 749, 72.1767, -153.9242, 1898,    658.5,   0.1640,  34.8681, 2,  34.8680, 2,    278.3, 2,    299.7, 2,     7.31, 2,    12.82, 2,     0.00, 2,     0.90, 2,  -999.00, 9,   0.1358,     0.00, 2, 0.01, 2,  -999.00, 9,  -999.00, 9,   0.6550, 2, 0.000, 2, 0.000, 9, 4.930, 2
320620030705, SBI, 29, 1, 105, 5, 2, 20030714, 742, 72.1767, -153.9242, 1898,    910.7,  -0.0583,  34.8834, 2,  34.8810, 2,    277.8, 2,    300.0, 2,     7.57, 2,    12.93, 2,     0.00, 2,     0.91, 2,  -999.00, 9,  -0.0978,     0.00, 2, 0.01, 2,  -999.00, 9,  -999.00, 9,   0.7130, 2, 0.000, 2, 0.000, 9, 4.923, 2
320620030705, SBI, 29, 1, 104, 4, 2, 20030714, 734, 72.1767, -153.9242, 1898,   1213.6,  -0.2370,  34.9029, 2,  34.9006, 2,    275.4, 2,    299.0, 2,     8.56, 2,    13.28, 2,     0.00, 2,     0.94, 2,  -999.00, 9,  -0.2911,     0.00, 2, 0.01, 2,  -999.00, 9,  -999.00, 9,   0.6370, 2, 0.000, 2, 0.000, 9, 4.924, 2
320620030705, SBI, 29, 1, 103, 3, 2, 20030714, 726, 72.1767, -153.9242, 1898,   1517.1,  -0.3674,  34.9244, 2,  34.9237, 2,    271.5, 2,    295.3, 2,    10.27, 2,    13.84, 2,     0.00, 2,     0.99, 2,  -999.00, 9,  -0.4376,     0.00, 2, 0, 2,  -999.00, 9,  -999.00, 9,   0.4840, 2, 0.000, 2, 0.000, 9, 4.943, 2
320620030705, SBI, 29, 1, 102, 2, 2, 20030714, 718, 72.1767, -153.9242, 1898,   1820.8,  -0.4134,  34.9416, 2,  34.9404, 2,    266.3, 2,    290.0, 2,    12.08, 2,    14.45, 2,     0.00, 2,     1.03, 2,  -999.00, 9,  -0.5018,     0.00, 2, 0, 2,  -999.00, 9,  -999.00, 9,   0.6770, 2, 0.000, 2, 0.000, 9, 4.956, 2
320620030705, SBI, 29, 1, 101, 1, 2, 20030714, 715, 72.1767, -153.9242, 1898,   1914.9,  -0.4116,  34.9457, 2,  34.9437, 2,    263.6, 2,    287.3, 2,    13.27, 2,    14.60, 2,     0.00, 2,     1.05, 2,  -999.00, 9,  -0.5062,     0.00, 2, 0, 2,  -999.00, 9,  -999.00, 9,   0.5830, 2, 0.000, 2, 0.000, 9, 4.957, 2
320620030705, SBI, 30, 1, 124, 24, 2, 20030714, 1340, 72.2280, -153.8939, 2172,      2.1,   0.6804,  28.7220, 2,  28.7298, 2,    341.5, 2,    362.8, 2,    14.51, 2,     0.13, 2,     0.00, 2,     0.81, 2,  -999.00, 9,   0.6803,     0.31, 2, 0.02, 2,     0.33, 2,     0.06, 2,   1.0070, 2, 0.000, 2, -999.000, 9, 4.833, 2
320620030705, SBI, 30, 1, 123, 23, 2, 20030714, 1337, 72.2280, -153.8939, 2172,     19.5,   0.7686,  31.2690, 2, -999.0000, 9,    354.0, 2,    375.6, 2,    14.73, 2,     0.68, 2,     0.04, 2,     0.93, 2,  -999.00, 9,   0.7679,     0.47, 2, 0.09, 2,     0.97, 2,     0.29, 2,   1.4220, 2, 0.000, 2, -999.000, 9, 4.834, 2
320620030705, SBI, 30, 1, 122, 22, 2, 20030714, 1335, 72.2280, -153.8939, 2172,     31.6,   0.2469,  31.6171, 2, -999.0000, 9,    349.2, 2,    368.3, 2,    18.57, 2,     2.00, 2,     0.09, 2,     1.15, 2,  -999.00, 9,   0.2459,     1.23, 2, 0.15, 2,     0.67, 2,     0.17, 2,   1.2650, 2, 0.000, 2, -999.000, 9, 4.846, 2
320620030705, SBI, 30, 1, 121, 21, 2, 20030714, 1332, 72.2280, -153.8939, 2172,     51.6,  -0.7919,  31.9831, 2, -999.0000, 9,    321.6, 2,    345.8, 2,    23.67, 2,     5.24, 2,     0.15, 2,     1.41, 2,  -999.00, 9,  -0.7931,     1.96, 2, 0.15, 2,     0.92, 2,     0.33, 2,   1.1230, 2, 0.000, 2, -999.000, 9, 4.859, 2
320620030705, SBI, 30, 1, 120, 20, 2, 20030714, 1329, 72.2280, -153.8939, 2172,     70.7,  -0.9297,  32.2697, 2, -999.0000, 9,    320.8, 2,    344.3, 2,    22.26, 2,     5.51, 2,     0.14, 2,     1.38, 2,  -999.00, 9,  -0.9313,     1.94, 2, 0.14, 2,  -999.00, 9,  -999.00, 9,   1.1590, 2, 0.000, 2, -999.000, 9, 4.908, 2
320620030705, SBI, 30, 1, 119, 19, 2, 20030714, 1327, 72.2280, -153.8939, 2172,     86.2,  -1.2107,  32.3506, 2,  32.3465, 2,    312.0, 2,    338.4, 2,    23.64, 2,     5.88, 2,     0.13, 2,     1.45, 2,  -999.00, 9,  -1.2125,     2.46, 2, 0.18, 2,  -999.00, 9,  -999.00, 9,   0.9420, 2, 0.000, 2, -999.000, 9, 4.912, 2
320620030705, SBI, 30, 1, 118, 18, 2, 20030714, 1325, 72.2280, -153.8939, 2172,    101.2,  -1.1105,  32.4342, 2, -999.0000, 9,    310.6, 2,    333.8, 2,    24.40, 2,     6.08, 2,     0.13, 2,     1.45, 2,  -999.00, 9,  -1.1128,     2.34, 2, 0.16, 2,  -999.00, 9,  -999.00, 9,   0.8930, 2, 0.000, 2, -999.000, 9, 4.906, 2
320620030705, SBI, 30, 1, 117, 17, 2, 20030714, 1323, 72.2280, -153.8939, 2172,    116.5,  -1.3812,  32.5380, 2, -999.0000, 9,    301.6, 2,    325.9, 2,    25.17, 2,     6.49, 2,     0.14, 2,     1.50, 2,  -999.00, 9,  -1.3836,     2.05, 2, 0.13, 2,     0.12, 2,     0.25, 2,   0.9520, 2, 0.000, 2, -999.000, 9, 4.888, 2
320620030705, SBI, 30, 1, 116, 16, 2, 20030714, 1320, 72.2280, -153.8939, 2172,    131.3,  -1.2104,  32.8537, 2, -999.0000, 9,    291.6, 2,    315.9, 2,    25.30, 2,     7.78, 2,     0.13, 2,     1.48, 2,  -999.00, 9,  -1.2134,     1.49, 2, 0.09, 2,  -999.00, 9,  -999.00, 9,   0.8510, 2, 0.000, 2, -999.000, 9, 4.865, 2
320620030705, SBI, 30, 1, 115, 15, 2, 20030714, 1317, 72.2280, -153.8939, 2172,    146.9,  -0.9879,  33.9106, 2,  32.3469, 0,    274.8, 2,    294.8, 2,    22.35, 2,    12.78, 2,     0.09, 2,     1.37, 2,  -999.00, 9,  -0.9918,     0.07, 2, 0.04, 2,  -999.00, 9,  -999.00, 9,   0.8140, 2, 0.000, 2, -999.000, 9, 4.844, 2
320620030705, SBI, 30, 1, 114, 14, 2, 20030714, 1314, 72.2280, -153.8939, 2172,    161.7,  -0.3706,  34.4776, 2, -999.0000, 9,    270.3, 2,    289.8, 2,    17.41, 2,    12.93, 2,     0.07, 2,     1.21, 2,  -999.00, 9,  -0.3760,     0.02, 2, 0.04, 2,  -999.00, 9,  -999.00, 9,   0.7270, 2, 0.000, 2, -999.000, 9, 4.899, 2
320620030705, SBI, 30, 1, 113, 13, 2, 20030714, 1312, 72.2280, -153.8939, 2172,    177.0,   0.1263,  34.6766, 2, -999.0000, 9,    270.1, 2,    288.5, 2,    13.11, 2,    12.87, 2,     0.07, 2,     1.08, 2,  -999.00, 9,   0.1196,     0.02, 2, 0.04, 2,  -999.00, 9,  -999.00, 9,   0.8960, 2, 0.000, 2, -999.000, 9, 4.910, 2
320620030705, SBI, 30, 1, 112, 12, 2, 20030714, 1310, 72.2280, -153.8939, 2172,    191.8,   0.2617,  34.7173, 2, -999.0000, 9,    268.7, 2,    286.7, 2,    11.28, 2,    13.03, 2,     0.01, 2,     1.02, 2,  -999.00, 9,   0.2542,     0.02, 2, 0.05, 2,  -999.00, 9,  -999.00, 9,   0.7520, 2, 0.000, 2, -999.000, 9, 4.919, 2
320620030705, SBI, 30, 1, 111, 11, 2, 20030714, 1307, 72.2280, -153.8939, 2172,    207.2,   0.3597,  34.7424, 2, -999.0000, 9,    269.0, 2,    287.4, 2,    10.50, 2,    12.98, 2,     0.01, 2,     0.99, 2,  -999.00, 9,   0.3514,     0.02, 2, 0.03, 2,     0.05, 2,     0.04, 2,   0.5490, 2, 0.000, 2, -999.000, 9, 4.923, 2
320620030705, SBI, 30, 1, 110, 10, 2, 20030714, 1305, 72.2280, -153.8939, 2172,    226.9,   0.4144,  34.7631, 2, -999.0000, 9,    270.0, 2,    288.4, 2,     9.64, 2,    12.96, 2,     0.01, 2,     0.97, 2,  -999.00, 9,   0.4051,     0.00, 2, 0, 2,  -999.00, 9,  -999.00, 9,   0.8840, 2, 0.000, 2, -999.000, 9, 4.913, 2
320620030705, SBI, 30, 1, 109, 9, 2, 20030714, 1302, 72.2280, -153.8939, 2172,    247.2,   0.7157,  34.8086, 2,  34.8078, 2,    274.2, 2,    291.7, 2,     7.08, 2,    12.70, 2,     0.01, 2,     0.88, 2,  -999.00, 9,   0.7049,     0.01, 2, 0, 2,  -999.00, 9,  -999.00, 9,   0.5170, 2, 0.000, 2, -999.000, 9, 4.877, 2
320620030705, SBI, 30, 1, 108, 8, 2, 20030714, 1258, 72.2280, -153.8939, 2172,    306.6,   0.6416,  34.8206, 2,  34.8204, 2,    275.1, 2,    294.3, 2,     6.80, 2,    12.65, 2,     0.00, 2,     0.88, 2,  -999.00, 9,   0.6282,     0.00, 2, 0, 2,  -999.00, 9,  -999.00, 9,   0.6610, 2, 0.000, 2, -999.000, 9, 4.906, 2
320620030705, SBI, 30, 1, 107, 7, 2, 20030714, 1253, 72.2280, -153.8939, 2172,    458.7,   0.4237,  34.8439, 2,  34.8469, 2,    275.4, 2,    295.3, 2,     7.43, 2,    12.82, 2,     0.01, 2,     0.91, 2,  -999.00, 9,   0.4039,     0.01, 2, 0.03, 2,  -999.00, 9,  -999.00, 9,   0.6750, 2, 0.000, 2, -999.000, 9, 4.910, 2
320620030705, SBI, 30, 1, 106, 6, 2, 20030714, 1247, 72.2280, -153.8939, 2172,    660.2,   0.2057,  34.8670, 2,  34.8666, 2,    277.6, 2,    298.7, 2,     6.84, 2,    12.77, 2,     0.00, 2,     0.89, 2,  -999.00, 9,   0.1771,     0.01, 2, 0.02, 2,  -999.00, 9,  -999.00, 9,   0.4940, 2, 0.000, 2, -999.000, 9, 4.933, 2
320620030705, SBI, 30, 1, 105, 5, 2, 20030714, 1240, 72.2280, -153.8939, 2172,    912.3,  -0.0322,  34.8811, 2,  34.8798, 2,    277.2, 2,    300.4, 2,     7.18, 2,    12.87, 2,     0.00, 2,     0.91, 2,  -999.00, 9,  -0.0719,     0.01, 2, 0.02, 2,  -999.00, 9,  -999.00, 9,   0.7240, 2, 0.000, 2, -999.000, 9, 4.890, 2
320620030705, SBI, 30, 1, 104, 4, 2, 20030714, 1231, 72.2280, -153.8939, 2172,   1215.3,  -0.2246,  34.9007, 2,  34.8993, 2,    275.6, 2,    299.3, 2,     7.95, 2,    13.17, 2,     0.00, 2,     0.93, 2,  -999.00, 9,  -0.2789,     0.00, 2, 0.01, 2,  -999.00, 9,  -999.00, 9,   0.5510, 2, 0.000, 2, -999.000, 9, 4.911, 2
320620030705, SBI, 30, 1, 103, 3, 2, 20030714, 1220, 72.2280, -153.8939, 2172,   1619.9,  -0.3839,  34.9285, 2,  34.9282, 2,    269.8, 2,    294.0, 2,    10.26, 2,    13.97, 2,     0.00, 2,     1.00, 2,  -999.00, 9,  -0.4601,     0.00, 2, 0, 2,  -999.00, 9,  -999.00, 9,   0.6030, 2, 0.000, 2, -999.000, 9, 4.944, 2
320620030705, SBI, 30, 1, 102, 2, 2, 20030714, 1207, 72.2280, -153.8939, 2172,   2090.9,  -0.4043,  34.9483, 2,  34.9461, 2,    262.7, 2,    286.9, 2,    12.68, 2,    14.48, 2,     0.00, 2,     1.04, 2,  -999.00, 9,  -0.5108,     0.00, 2, 0, 2,  -999.00, 9,  -999.00, 9,   0.5100, 2, 0.000, 2, -999.000, 9, 4.914, 2
320620030705, SBI, 30, 1, 101, 1, 2, 20030714, 1204, 72.2280, -153.8939, 2172,   2192.1,  -0.3971,  34.9536, 2,  34.9504, 2,    260.1, 2,    283.8, 2,    13.86, 2,    14.79, 2,     0.00, 2,     1.06, 2,  -999.00, 9,  -0.5108,     0.00, 2, 0, 2,  -999.00, 9,  -999.00, 9,   0.6520, 2, 0.000, 2, -999.000, 9, 4.903, 2