BOTTLE,20100423CCHDOSIODBK
EXPOCODE,SECT_ID,STNNBR,CASTNO,SAMPNO,BTLNBR,BTLNBR_FLAG_W,DATE,TIME,LATITUDE,LONGITUDE,DEPTH,CTDPRS,CTDTMP,CTDSAL,CTDSAL_FLAG_W,SALNTY,SALNTY_FLAG_W,CTDOXY,CTDOXY_FLAG_W,OXYGEN,OXYGEN_FLAG_W,SILCAT,SILCAT_FLAG_W,NITRAT,NITRAT_FLAG_W,NITRIT,NITRIT_FLAG_W,PHSPHT,PHSPHT_FLAG_W,DOC,DOC_FLAG_W,THETA,NH4,NH4_FLAG_W,UREA,UREA_FLAG_W,CHLORA,CHLORA_FLAG_W,PPHYTN,PPHYTN_FLAG_W,FLUOR,FLUOR_FLAG_W,HAARDT,HAARDT_FLAG_W,PAR,PAR_FLAG_W,SPAR,SPAR_FLAG_W
,,,,,,,,,,,METERS,DBAR,ITS-90,PSS-78,,PSS-78,,UMOL/KG,,UMOL/KG,,UMOL/KG,,UMOL/KG,,UMOL/KG,,UMOL/KG,,UMOL/KG,,DEG C,UMOL/KG,,UMOL/KG,,UG/KG,,UG/KG,,MG/M^3,,VOLTS,,VOLTS,,VOLTS,
320620030705, SBI, 255, 1, 113, 13, 2, 20030809, 1037, 72.8036, -158.8379, 240,      2.2,  -1.0106,  28.9254, 2,  28.9178, 2,    355.6, 2,    385.4, 2,     7.00, 2,     0.10, 2,     0.00, 2,     0.70, 2,  -999.00, 9,  -1.0106,     0.00, 2, 0, 2,     0.35, 2,     0.05, 2,   1.0810, 2, 0.211, 2, 1.748, 2, 4.999, 2
320620030705, SBI, 255, 1, 112, 12, 2, 20030809, 1034, 72.8036, -158.8379, 240,     17.1,  -1.0039,  28.9530, 2,  29.0647, 2,    355.3, 2,    389.6, 2,     7.08, 2,     0.05, 2,     0.00, 2,     0.71, 2,  -999.00, 9,  -1.0042,     0.00, 2, 0.01, 2,     0.38, 2,     0.08, 2,   1.1270, 2, 0.210, 2, 0.998, 2, 5.000, 2
320620030705, SBI, 255, 1, 111, 11, 2, 20030809, 1032, 72.8036, -158.8379, 240,     29.8,  -1.5430,  31.1647, 2, -999.0000, 9,    361.3, 2,    376.0, 2,    18.47, 2,     3.03, 2,     0.09, 2,     1.22, 2,  -999.00, 9,  -1.5435,     0.65, 2, 0.08, 2,     3.81, 2,     0.10, 2,   2.3670, 2, 0.842, 2, 0.572, 2, 4.999, 2
320620030705, SBI, 255, 1, 110, 10, 2, 20030809, 1029, 72.8036, -158.8379, 240,     52.1,  -1.6382,  31.5894, 2, -999.0000, 9,    326.7, 2,    333.8, 2,    31.64, 2,     6.73, 2,     0.16, 2,     1.55, 2,  -999.00, 9,  -1.6390,     1.64, 2, 0.09, 2,     0.39, 2,     0.19, 2,   1.2530, 2, 0.229, 2, 0.169, 2, 4.999, 2
320620030705, SBI, 255, 1, 109, 9, 2, 20030809, 1027, 72.8036, -158.8379, 240,     72.3,  -1.5935,  32.0818, 2, -999.0000, 9,    278.1, 2,    303.8, 2,    39.92, 2,    10.30, 2,     0.14, 2,     1.76, 2,  -999.00, 9,  -1.5947,     1.35, 2, 0.06, 2,     0.19, 2,     0.16, 2,   1.0710, 2, 0.200, 2, 0.143, 2, 4.999, 2
320620030705, SBI, 255, 1, 108, 8, 2, 20030809, 1025, 72.8036, -158.8379, 240,     92.2,  -1.6065,  32.6812, 2, -999.0000, 9,    268.2, 2,    284.1, 2,    39.37, 2,    13.12, 2,     0.12, 2,     1.82, 2,  -999.00, 9,  -1.6082,     0.69, 2, 0.03, 2,  -999.00, 9,  -999.00, 9,   0.9380, 2, 0.190, 2, 0.139, 2, 4.999, 2
320620030705, SBI, 255, 1, 107, 7, 2, 20030809, 1023, 72.8036, -158.8379, 240,    112.2,  -1.2770,  33.1289, 2, -999.0000, 9,    256.6, 2,    277.7, 2,    36.50, 2,    13.16, 2,     0.13, 2,     1.74, 2,  -999.00, 9,  -1.2795,     0.25, 2, 0.04, 2,  -999.00, 9,  -999.00, 9,   0.8820, 2, 0.190, 2, 0.139, 2, 5.000, 2
320620030705, SBI, 255, 1, 106, 6, 2, 20030809, 1021, 72.8036, -158.8379, 240,    132.2,  -1.0895,  33.4024, 2, -999.0000, 9,    256.2, 2,    279.9, 2,    32.62, 2,    13.18, 2,     0.12, 2,     1.65, 2,  -999.00, 9,  -1.0928,     0.05, 2, 0.04, 2,  -999.00, 9,  -999.00, 9,   0.9030, 2, 0.185, 2, 0.139, 2, 4.999, 2
320620030705, SBI, 255, 1, 105, 5, 2, 20030809, 1019, 72.8036, -158.8379, 240,    152.6,  -1.1805,  33.8537, 2, -999.0000, 9,    267.1, 2,    283.2, 2,    24.22, 2,    13.30, 2,     0.05, 2,     1.42, 2,  -999.00, 9,  -1.1843,     0.00, 2, 0.03, 2,  -999.00, 9,  -999.00, 9,   0.7380, 2, 0.180, 2, 0.139, 2, 4.999, 2
320620030705, SBI, 255, 1, 104, 4, 2, 20030809, 1017, 72.8036, -158.8379, 240,    172.7,  -0.7610,  34.2734, 2, -999.0000, 9,    258.5, 2,    277.4, 2,    18.76, 2,    13.25, 2,     0.05, 2,     1.23, 2,  -999.00, 9,  -0.7661,     0.00, 2, 0.03, 2,  -999.00, 9,  -999.00, 9,   0.7890, 2, 0.176, 2, 0.140, 2, 4.999, 2
320620030705, SBI, 255, 1, 103, 3, 2, 20030809, 1015, 72.8036, -158.8379, 240,    192.8,  -0.1241,  34.4866, 2, -999.0000, 9,    258.5, 2,    277.1, 2,    16.23, 2,    12.94, 2,     0.06, 2,     1.14, 2,  -999.00, 9,  -0.1310,     0.00, 2, 0.03, 2,  -999.00, 9,  -999.00, 9,   0.8590, 2, 0.177, 2, 0.140, 2, 4.999, 2
320620030705, SBI, 255, 1, 102, 2, 2, 20030809, 1013, 72.8036, -158.8379, 240,    212.9,   0.0766,  34.5836, 2, -999.0000, 9,    258.9, 2,    276.1, 2,    14.40, 2,    12.90, 2,     0.06, 2,     1.09, 2,  -999.00, 9,   0.0686,     0.00, 2, 0.04, 2,  -999.00, 9,  -999.00, 9,   0.6000, 2, 0.174, 2, 0.140, 2, 4.999, 2
320620030705, SBI, 255, 1, 101, 1, 2, 20030809, 1010, 72.8036, -158.8379, 240,    237.2,   0.5516,  34.7625, 2, -999.0000, 9,    265.3, 2,    278.1, 2,    12.87, 2,    12.87, 2,     0.05, 2,     1.03, 2,    52.70, 2,   0.5416,     0.00, 2, 0.04, 2,  -999.00, 9,  -999.00, 9,   0.8430, 2, 0.174, 2, 0.139, 2, 4.999, 2
320620030705, SBI, 256, 1, 112, 12, 2, 20030809, 1211, 72.8476, -158.7636, 308,      2.1,  -1.1176,  28.8905, 2,  28.9051, 2,    355.8, 2,    387.6, 2,     6.75, 2,     0.07, 2,     0.00, 2,     0.72, 2,  -999.00, 9,  -1.1176,     0.01, 2, 0, 2,     0.35, 2,     0.06, 2,   1.0720, 2, 0.204, 2, 1.919, 2, 4.998, 2
320620030705, SBI, 256, 1, 111, 11, 2, 20030809, 1208, 72.8476, -158.7636, 308,     16.7,  -1.2897,  28.9731, 2,  28.9994, 2,    358.2, 2,    391.1, 2,     6.94, 2,     0.07, 2,     0.00, 2,     0.73, 2,  -999.00, 9,  -1.2899,     0.01, 2, 0.01, 2,     0.45, 2,     0.05, 2,   1.2300, 2, 0.209, 2, 1.199, 2, 4.998, 2
320620030705, SBI, 256, 1, 110, 10, 2, 20030809, 1205, 72.8476, -158.7636, 308,     31.3,  -1.4933,  31.0437, 2, -999.0000, 9,    369.1, 2,    355.7, 2,    23.92, 2,     4.35, 2,     0.11, 2,     1.35, 2,  -999.00, 9,  -1.4938,     1.09, 2, 0.09, 2,     2.33, 2,     0.20, 2,   2.1870, 2, 1.121, 2, 0.692, 2, 4.998, 2
320620030705, SBI, 256, 1, 109, 9, 2, 20030809, 1202, 72.8476, -158.7636, 308,     57.8,  -1.6074,  31.6705, 2, -999.0000, 9,    321.2, 2,    342.8, 2,    28.58, 2,     6.21, 2,     0.18, 2,     1.48, 2,  -999.00, 9,  -1.6083,     1.46, 2, 0.08, 2,     0.35, 2,     0.19, 2,   1.1990, 2, 0.235, 2, 0.165, 2, 4.999, 2
320620030705, SBI, 256, 1, 108, 8, 2, 20030809, 1159, 72.8476, -158.7636, 308,     80.6,  -1.5662,  32.2247, 2, -999.0000, 9,    289.1, 2,    315.6, 2,    34.58, 2,     9.82, 2,     0.12, 2,     1.69, 2,  -999.00, 9,  -1.5676,     1.24, 2, 0.07, 2,     0.15, 2,     0.18, 2,   0.9510, 2, 0.198, 2, 0.142, 2, 4.999, 2
320620030705, SBI, 256, 1, 107, 7, 2, 20030809, 1156, 72.8476, -158.7636, 308,    102.7,  -1.6067,  32.6450, 2, -999.0000, 9,    253.9, 2,    279.5, 2,    45.51, 2,    13.68, 2,     0.11, 2,     2.00, 2,  -999.00, 9,  -1.6086,     1.46, 2, 0.04, 2,  -999.00, 9,  -999.00, 9,   0.8970, 2, 0.196, 2, 0.139, 2, 4.999, 2
320620030705, SBI, 256, 1, 106, 6, 2, 20030809, 1154, 72.8476, -158.7636, 308,    124.8,  -1.4347,  33.2596, 2, -999.0000, 9,    268.2, 2,    287.8, 2,    31.99, 2,    13.28, 2,     0.09, 2,     1.66, 2,  -999.00, 9,  -1.4374,     0.12, 2, 0.03, 2,  -999.00, 9,  -999.00, 9,   0.8190, 2, 0.185, 2, 0.139, 2, 4.999, 2
320620030705, SBI, 256, 1, 105, 5, 2, 20030809, 1152, 72.8476, -158.7636, 308,    146.9,  -1.1288,  34.0121, 2, -999.0000, 9,    269.5, 2,    279.9, 2,    23.62, 2,    13.28, 2,     0.03, 2,     1.40, 2,  -999.00, 9,  -1.1326,     0.01, 2, 0.03, 2,  -999.00, 9,  -999.00, 9,   0.7390, 2, 0.182, 2, 0.139, 2, 4.999, 2
320620030705, SBI, 256, 1, 104, 4, 2, 20030809, 1150, 72.8476, -158.7636, 308,    159.0,  -0.5926,  34.2160, 2, -999.0000, 9,    258.0, 2,    278.5, 2,    20.35, 2,    13.39, 2,     0.03, 2,     1.29, 2,  -999.00, 9,  -0.5975,     0.00, 2, 0.03, 2,  -999.00, 9,  -999.00, 9,   0.7050, 2, 0.182, 2, 0.140, 2, 4.999, 2
320620030705, SBI, 256, 1, 103, 3, 2, 20030809, 1148, 72.8476, -158.7636, 308,    180.7,  -0.1137,  34.5397, 2, -999.0000, 9,    256.6, 2,   -999.0, 9,    13.04, 2,    12.83, 2,     0.02, 2,     1.03, 2,  -999.00, 9,  -0.1201,    -0.01, 2, 0.03, 2,  -999.00, 9,  -999.00, 9,   0.6540, 2, 0.178, 2, 0.140, 2, 4.999, 2
320620030705, SBI, 256, 1, 102, 2, 2, 20030809, 1145, 72.8476, -158.7636, 308,    213.1,   0.3929,  34.6951, 2, -999.0000, 9,    263.0, 2,    283.3, 2,     9.90, 2,    12.48, 2,     0.02, 2,     0.94, 2,  -999.00, 9,   0.3843,     0.00, 2, 0.04, 2,  -999.00, 9,  -999.00, 9,   0.6350, 2, 0.176, 2, 0.140, 2, 4.999, 2
320620030705, SBI, 256, 1, 101, 1, 2, 20030809, 1139, 72.8476, -158.7636, 308,    292.9,   0.6276,  34.7976, 2,  34.7928, 2,    265.4, 2,    284.4, 2,    11.19, 2,    12.77, 2,     0.03, 2,     0.98, 2,  -999.00, 9,   0.6149,     0.02, 2, 0.03, 2,  -999.00, 9,  -999.00, 9,   0.6810, 2, 0.176, 2, 0.139, 2, 4.999, 2
320620030705, SBI, 257, 1, 112, 12, 2, 20030809, 1349, 72.8934, -158.6846, 433,      2.0,  -1.0823,  28.8227, 2,  28.8129, 2,    352.0, 2,    384.4, 2,     6.78, 2,     0.10, 2,     0.00, 2,     0.70, 2,  -999.00, 9,  -1.0823,     0.00, 2, 0.01, 2,     0.38, 2,     0.06, 2,   1.0370, 2, 0.200, 2, 2.475, 2, 4.982, 2
320620030705, SBI, 257, 1, 111, 11, 2, 20030809, 1346, 72.8934, -158.6846, 433,     31.7,  -1.2095,  31.0261, 2, -999.0000, 9,    366.7, 2,    375.2, 2,    15.57, 2,     1.34, 2,     0.05, 2,     1.06, 2,  -999.00, 9,  -1.2101,     0.22, 2, 0.06, 2,     2.58, 2,     0.14, 2,   1.7180, 2, 0.548, 2, 1.149, 2, 4.982, 2
320620030705, SBI, 257, 1, 110, 10, 2, 20030809, 1344, 72.8934, -158.6846, 433,     46.9,  -1.4915,  31.7872, 2, -999.0000, 9,    323.3, 2,    349.0, 2,    22.99, 2,     5.99, 2,     0.22, 2,     1.34, 2,  -999.00, 9,  -1.4923,     0.79, 2, 0.09, 2,  -999.00, 9,  -999.00, 9,   0.9590, 2, 0.218, 2, 0.414, 2, 4.984, 2
320620030705, SBI, 257, 1, 109, 9, 2, 20030809, 1342, 72.8934, -158.6846, 433,     61.8,  -1.1450,  32.0687, 2, -999.0000, 9,    312.5, 2,    347.2, 2,    20.64, 2,     5.52, 2,     0.18, 2,     1.32, 2,  -999.00, 9,  -1.1463,     1.10, 2, 0.09, 2,     0.13, 2,     0.12, 2,   0.8990, 2, 0.189, 2, 0.222, 2, 4.987, 2
320620030705, SBI, 257, 1, 108, 8, 2, 20030809, 1340, 72.8934, -158.6846, 433,     81.8,  -0.7147,  32.3127, 2, -999.0000, 9,    313.1, 2,    340.3, 2,    20.91, 2,     4.72, 2,     0.22, 2,     1.34, 2,  -999.00, 9,  -0.7168,     2.22, 2, 0.14, 2,  -999.00, 9,  -999.00, 9,   0.7800, 2, 0.184, 2, 0.153, 2, 4.987, 2
320620030705, SBI, 257, 1, 107, 7, 2, 20030809, 1338, 72.8934, -158.6846, 433,    102.0,  -1.4284,  32.4833, 2, -999.0000, 9,    288.3, 2,    309.0, 2,    29.97, 2,    10.52, 2,     0.10, 2,     1.64, 2,  -999.00, 9,  -1.4304,     0.71, 2, 0.04, 2,  -999.00, 9,  -999.00, 9,   0.7720, 2, 0.184, 2, 0.140, 2, 4.985, 2
320620030705, SBI, 257, 1, 106, 6, 2, 20030809, 1336, 72.8934, -158.6846, 433,    122.1,  -1.6585,  32.7721, 2, -999.0000, 9,    262.4, 2,    296.7, 2,    34.49, 2,    13.17, 2,     0.07, 2,     1.75, 2,  -999.00, 9,  -1.6607,     0.50, 2, 0.03, 2,  -999.00, 9,  -999.00, 9,   0.8340, 2, 0.188, 2, 0.139, 2, 4.985, 2
320620030705, SBI, 257, 1, 105, 5, 2, 20030809, 1334, 72.8934, -158.6846, 433,    141.9,  -1.3850,  33.5152, 2, -999.0000, 9,    267.8, 2,    283.5, 2,    25.05, 2,    13.30, 2,     0.04, 2,     1.42, 2,  -999.00, 9,  -1.3882,     1.21, 2, 0.02, 2,  -999.00, 9,  -999.00, 9,   0.8180, 2, 0.184, 2, 0.139, 2, 4.985, 2
320620030705, SBI, 257, 1, 104, 4, 2, 20030809, 1332, 72.8934, -158.6846, 433,    162.2,  -0.6969,  34.1868, 2, -999.0000, 9,    259.1, 2,    279.1, 2,    21.90, 2,    13.27, 2,     0.03, 2,     1.32, 2,  -999.00, 9,  -0.7017,     0.04, 2, 0.02, 2,  -999.00, 9,  -999.00, 9,   0.7410, 2, 0.185, 2, 0.140, 2, 4.985, 2
320620030705, SBI, 257, 1, 103, 3, 2, 20030809, 1330, 72.8934, -158.6846, 433,    182.3,  -0.1784,  34.4851, 2, -999.0000, 9,    256.1, 2,    277.8, 2,    14.23, 2,    12.77, 2,     0.02, 2,     1.06, 2,  -999.00, 9,  -0.1848,     0.04, 2, 0.01, 2,  -999.00, 9,  -999.00, 9,   0.7300, 2, 0.187, 2, 0.140, 2, 4.987, 2
320620030705, SBI, 257, 1, 102, 2, 2, 20030809, 1328, 72.8934, -158.6846, 433,    202.4,   0.2523,  34.6463, 2, -999.0000, 9,    261.9, 2,    281.6, 2,    10.90, 2,    12.58, 2,     0.01, 2,     0.95, 2,  -999.00, 9,   0.2444,     0.04, 2, 0, 2,  -999.00, 9,  -999.00, 9,   0.6620, 2, 0.184, 2, 0.140, 2, 4.987, 2
320620030705, SBI, 257, 1, 101, 1, 2, 20030809, 1324, 72.8934, -158.6846, 433,    303.0,   0.7103,  34.8160, 2,  34.8168, 2,    272.0, 2,    290.9, 2,     8.87, 2,    12.53, 2,     0.01, 2,     0.89, 2,  -999.00, 9,   0.6969,     0.04, 2, 0, 2,  -999.00, 9,  -999.00, 9,   0.5930, 2, 0.188, 2, 0.140, 2, 4.984, 2
320620030705, SBI, 258, 1, 106, 6, 2, 20030809, 2354, 72.2090, -159.6125, 46,      1.5,  -0.1105,  30.0453, 2,  30.0521, 2,    352.8, 2,    383.1, 2,    16.79, 2,     0.15, 2,     0.00, 2,     0.85, 2,  -999.00, 9,  -0.1105,     0.00, 2, 0, 2,     0.62, 2,     0.12, 2,   1.4170, 2, 0.246, 2, 2.865, 2, 4.961, 2
320620030705, SBI, 258, 1, 105, 5, 9, 20030809, 2353, 72.2090, -159.6125, 46,      6.3,  -0.1109,  30.0490, 2, -999.0000, 9,    344.7, 2,   -999.0, 9,  -999.00, 9,  -999.00, 9,  -999.00, 9,  -999.00, 9,  -999.00, 9,  -0.1111,  -999.00, 9, -999, 9,  -999.00, 9,  -999.00, 9,   1.4190, 2, 0.243, 2, 2.478, 2, 4.957, 2
320620030705, SBI, 258, 1, 104, 4, 2, 20030809, 2352, 72.2090, -159.6125, 46,     17.2,  -0.2761,  30.1748, 2, -999.0000, 9,    347.3, 2,    351.0, 2,    23.05, 2,     2.96, 2,     0.05, 2,     1.10, 2,  -999.00, 9,  -0.2765,     0.19, 2, 0.02, 2,     8.10, 2,     0.54, 2,   1.4170, 2, 0.236, 2, 1.801, 2, 4.955, 2
320620030705, SBI, 258, 1, 103, 3, 2, 20030809, 2350, 72.2090, -159.6125, 46,     24.3,  -1.3838,  31.6689, 2, -999.0000, 9,    326.4, 2,    315.4, 2,    35.22, 2,    10.76, 2,     0.18, 2,     1.69, 2,  -999.00, 9,  -1.3842,     1.30, 2, 0.08, 2,     6.10, 2,     0.65, 2,   2.3810, 2, 1.546, 2, 1.137, 2, 4.960, 2
320620030705, SBI, 258, 1, 102, 2, 2, 20030809, 2348, 72.2090, -159.6125, 46,     32.3,  -1.7003,  32.7247, 2, -999.0000, 9,    259.1, 2,    287.8, 2,    43.61, 2,    14.61, 2,     0.21, 2,     2.06, 2,  -999.00, 9,  -1.7008,     2.63, 2, 0.12, 2,     0.83, 2,     0.40, 2,   1.1580, 2, 0.247, 2, 0.464, 2, 4.968, 2
320620030705, SBI, 258, 1, 101, 1, 2, 20030809, 2346, 72.2090, -159.6125, 46,     40.6,  -1.6970,  32.7271, 2,  32.6925, 0,    259.6, 2,    288.6, 2,    43.57, 2,    14.66, 2,     0.22, 2,     2.06, 2,    70.90, 2,  -1.6977,     2.62, 2, 0.11, 2,     0.92, 2,     0.35, 2,   1.1920, 2, 0.259, 2, 0.178, 2, 4.979, 2
320620030705, SBI, 259, 1, 105, 5, 2, 20030810, 107, 72.1042, -159.5574, 45,      1.3,  -0.6941,  29.4593, 2,  29.4532, 2,    355.9, 2,    391.8, 2,     7.70, 2,     0.09, 2,     0.00, 2,     0.76, 2,  -999.00, 9,  -0.6941,     0.00, 2, 0, 2,     0.74, 2,     0.04, 2,   1.5050, 2, 0.247, 2, 3.000, 2, 4.945, 2
320620030705, SBI, 259, 1, 104, 4, 2, 20030810, 105, 72.1042, -159.5574, 45,     11.9,  -0.7127,  29.4701, 2, -999.0000, 9,    350.0, 2,    391.7, 2,     8.35, 2,     0.03, 2,     0.00, 2,     0.77, 2,  -999.00, 9,  -0.7129,     0.00, 2, 0, 2,     0.93, 2,     0.06, 2,   1.5270, 2, 0.283, 2, 2.170, 2, 4.950, 2
320620030705, SBI, 259, 1, 103, 3, 2, 20030810, 103, 72.1042, -159.5574, 45,     21.9,  -1.3581,  30.5683, 2, -999.0000, 9,    352.2, 2,    357.5, 2,    20.97, 2,     1.06, 2,     0.03, 2,     1.12, 2,  -999.00, 9,  -1.3584,     0.19, 2, 0.04, 2,     5.10, 2,     0.07, 2,   1.8660, 2, 0.591, 2, 1.379, 2, 4.958, 2
320620030705, SBI, 259, 1, 102, 2, 2, 20030810, 101, 72.1042, -159.5574, 45,     31.9,  -1.5447,  31.7066, 2, -999.0000, 9,    280.9, 2,    298.6, 2,    41.42, 2,     9.36, 2,     0.15, 2,     1.79, 2,  -999.00, 9,  -1.5452,     2.08, 2, 0.1, 2,     0.90, 2,     0.26, 2,   1.3340, 2, 0.300, 2, 0.534, 2, 4.962, 2
320620030705, SBI, 259, 1, 101, 1, 2, 20030810, 59, 72.1042, -159.5574, 45,     40.0,  -1.6941,  32.7024, 2,  32.3424, 2,    260.6, 2,    295.6, 2,    43.28, 2,    12.39, 2,     0.18, 2,     1.94, 2,    71.40, 2,  -1.6948,     2.28, 2, 0.1, 2,     0.85, 2,     0.34, 2,   1.2600, 2, 0.224, 2, 0.325, 2, 4.968, 2
320620030705, SBI, 260, 1, 106, 6, 2, 20030810, 226, 71.9998, -159.5019, 45,      1.5,  -0.4247,  29.6213, 2,  29.6155, 2,    350.3, 2,    389.0, 2,    10.16, 2,     0.08, 2,     0.00, 2,     0.78, 2,  -999.00, 9,  -0.4247,     0.06, 2, 0.02, 2,     0.75, 2,     0.06, 2,   1.5380, 2, 0.260, 2, 2.755, 2, 4.972, 2
320620030705, SBI, 260, 1, 105, 5, 2, 20030810, 224, 71.9998, -159.5019, 45,     11.5,  -0.3758,  29.8287, 2, -999.0000, 9,    347.1, 2,    392.1, 2,    12.70, 2,     0.02, 2,     0.00, 2,     0.79, 2,  -999.00, 9,  -0.3761,    -0.01, 2, 0.01, 2,     0.77, 2,     0.10, 2,   1.5000, 2, 0.315, 2, 2.114, 2, 4.958, 2
320620030705, SBI, 260, 1, 103, 3, 2, 20030810, 222, 71.9998, -159.5019, 45,     21.5,  -1.2388,  31.1984, 2, -999.0000, 9,    325.5, 2,    342.6, 2,    24.16, 2,     2.57, 2,     0.06, 2,     1.18, 2,  -999.00, 9,  -1.2392,     0.33, 2, 0.05, 2,     6.21, 2,     0.17, 2,   2.3630, 2, 1.444, 2, 1.553, 2, 4.948, 2
320620030705, SBI, 260, 1, 104, 4, 2, 20030810, 223, 71.9998, -159.5019, 45,     21.6,  -1.1286,  30.8574, 2, -999.0000, 9,    342.0, 2,   -999.0, 9,  -999.00, 9,  -999.00, 9,  -999.00, 9,  -999.00, 9,  -999.00, 9,  -1.1290,  -999.00, 9, -999, 9,  -999.00, 9,  -999.00, 9,   2.4040, 2, 1.467, 2, 1.567, 2, 4.948, 2
320620030705, SBI, 260, 1, 102, 2, 2, 20030810, 220, 71.9998, -159.5019, 45,     31.6,  -1.6789,  32.6505, 2, -999.0000, 9,    259.8, 2,    288.7, 2,    43.81, 2,    14.19, 2,     0.17, 2,     2.13, 2,  -999.00, 9,  -1.6794,     2.52, 2, 0.19, 2,     0.95, 2,     0.49, 2,   1.2020, 2, 0.259, 2, 0.652, 2, 4.949, 2
320620030705, SBI, 260, 1, 101, 1, 2, 20030810, 219, 71.9998, -159.5019, 45,     38.6,  -1.6816,  32.6595, 2,  32.6241, 0,    260.6, 2,    289.3, 2,    43.57, 2,    14.27, 2,     0.20, 2,     2.01, 2,    69.50, 2,  -1.6823,     2.62, 2, 0.23, 2,     0.71, 2,     0.42, 2,   1.2290, 2, 0.239, 2, 0.298, 2, 4.949, 2
320620030705, SBI, 261, 1, 105, 5, 2, 20030810, 401, 71.9580, -159.2651, 46,      2.1,  -0.4124,  29.6235, 2,  29.8798, 2,    354.3, 2,    388.8, 2,    11.23, 2,     0.07, 2,     0.00, 2,     0.77, 2,  -999.00, 9,  -0.4124,     0.00, 2, 0.01, 2,  -999.00, 9,  -999.00, 9,   1.4970, 2, 0.235, 2, 3.093, 2, 4.916, 2
320620030705, SBI, 261, 1, 104, 4, 2, 20030810, 400, 71.9580, -159.2651, 46,     11.7,  -0.3063,  29.8256, 2, -999.0000, 9,    351.3, 2,    389.3, 2,    13.18, 2,     0.01, 2,     0.01, 2,     0.81, 2,  -999.00, 9,  -0.3066,     0.00, 2, 0.02, 2,  -999.00, 9,  -999.00, 9,   1.6220, 2, 0.260, 2, 2.329, 2, 4.923, 2
320620030705, SBI, 261, 1, 103, 3, 2, 20030810, 357, 71.9580, -159.2651, 46,     21.8,  -1.3707,  31.1916, 2, -999.0000, 9,    304.1, 2,    346.2, 2,    30.97, 2,     4.86, 2,     0.10, 2,     1.47, 2,  -999.00, 9,  -1.3711,     0.88, 2, 0.09, 2,  -999.00, 9,  -999.00, 9,   2.3630, 2, 1.620, 2, 1.734, 2, 4.918, 2
320620030705, SBI, 261, 1, 102, 2, 2, 20030810, 356, 71.9580, -159.2651, 46,     30.7,  -1.4901,  32.2901, 2, -999.0000, 9,    330.9, 2,    327.7, 2,    37.15, 2,    10.40, 2,     0.16, 2,     1.76, 2,  -999.00, 9,  -1.4907,     1.91, 2, 0.11, 2,  -999.00, 9,  -999.00, 9,   1.7040, 2, 0.350, 2, 0.865, 2, 4.914, 2
320620030705, SBI, 261, 1, 101, 1, 2, 20030810, 354, 71.9580, -159.2651, 46,     40.9,  -1.6833,  32.6904, 2,  32.6129, 0,    258.9, 2,    290.2, 2,    42.55, 2,    13.93, 2,     0.17, 2,     2.02, 2,    71.00, 2,  -1.6840,     2.52, 2, 0.12, 2,  -999.00, 9,  -999.00, 9,   1.1880, 2, 0.227, 2, 0.444, 2, 4.916, 2