BOTTLE,20100423CCHDOSIODBK
EXPOCODE,SECT_ID,STNNBR,CASTNO,SAMPNO,BTLNBR,BTLNBR_FLAG_W,DATE,TIME,LATITUDE,LONGITUDE,DEPTH,CTDPRS,CTDTMP,CTDSAL,CTDSAL_FLAG_W,SALNTY,SALNTY_FLAG_W,CTDOXY,CTDOXY_FLAG_W,OXYGEN,OXYGEN_FLAG_W,SILCAT,SILCAT_FLAG_W,NITRAT,NITRAT_FLAG_W,NITRIT,NITRIT_FLAG_W,PHSPHT,PHSPHT_FLAG_W,DOC,DOC_FLAG_W,THETA,NH4,NH4_FLAG_W,UREA,UREA_FLAG_W,CHLORA,CHLORA_FLAG_W,PPHYTN,PPHYTN_FLAG_W,FLUOR,FLUOR_FLAG_W,HAARDT,HAARDT_FLAG_W,PAR,PAR_FLAG_W,SPAR,SPAR_FLAG_W
,,,,,,,,,,,METERS,DBAR,ITS-90,PSS-78,,PSS-78,,UMOL/KG,,UMOL/KG,,UMOL/KG,,UMOL/KG,,UMOL/KG,,UMOL/KG,,UMOL/KG,,DEG C,UMOL/KG,,UMOL/KG,,UG/KG,,UG/KG,,MG/M^3,,VOLTS,,VOLTS,,VOLTS,
320620030705, SBI, 15, 1, 108, 8, 2, 20030712, 1904, 71.4987, -154.4992, 34,      2.7,   5.7439,  30.3392, 2,  30.3436, 2,    328.3, 2,    335.3, 2,     7.16, 2,     0.15, 2,     0.00, 2,     0.66, 2,  -999.00, 9,   5.7437,     0.11, 2, 0.04, 2,     0.76, 2,     0.08, 2,   1.2600, 2, 0.007, 2, 3.655, 2, 4.625, 2
320620030705, SBI, 15, 1, 107, 7, 2, 20030712, 1902, 71.4987, -154.4992, 34,     11.9,   5.8043,  30.5105, 2,  30.5980, 2,    327.8, 2,    334.9, 2,     7.24, 2,     0.10, 2,     0.00, 2,     0.68, 2,  -999.00, 9,   5.8034,     0.10, 2, 0.04, 2,     0.77, 2,     0.09, 2,   1.3260, 2, 0.007, 2, 2.836, 2, 4.600, 2
320620030705, SBI, 15, 1, 104, 4, 2, 20030712, 1859, 71.4987, -154.4992, 34,     16.8,   4.3570,  31.2618, 2, -999.0000, 9,    326.5, 2,   -999.0, 9,  -999.00, 9,  -999.00, 9,  -999.00, 9,  -999.00, 9,  -999.00, 9,   4.3559,  -999.00, 9, -999, 9,  -999.00, 9,  -999.00, 9,   1.3680, 2, 0.007, 2, 2.550, 2, 4.491, 2
320620030705, SBI, 15, 1, 105, 5, 2, 20030712, 1859, 71.4987, -154.4992, 34,     16.8,   4.4298,  31.2666, 2, -999.0000, 9,    326.2, 2,   -999.0, 9,  -999.00, 9,  -999.00, 9,  -999.00, 9,  -999.00, 9,  -999.00, 9,   4.4287,  -999.00, 9, -999, 9,  -999.00, 9,  -999.00, 9,   1.3890, 2, 0.007, 2, 2.541, 2, 4.504, 2
320620030705, SBI, 15, 1, 106, 6, 2, 20030712, 1900, 71.4987, -154.4992, 34,     16.8,   4.6088,  31.2600, 2,  31.2603, 2,    329.8, 2,    337.4, 2,     7.33, 2,     0.09, 2,     0.01, 2,     0.73, 2,  -999.00, 9,   4.6077,     0.22, 2, 0.05, 2,     1.06, 2,     0.19, 2,   1.5060, 2, 0.007, 2, 2.610, 2, 4.413, 2
320620030705, SBI, 15, 1, 103, 3, 2, 20030712, 1856, 71.4987, -154.4992, 34,     21.8,   4.0843,  31.2966, 2,  31.2602, 2,    326.9, 2,    336.7, 2,     7.73, 2,     0.14, 2,     0.01, 2,     0.78, 2,  -999.00, 9,   4.0829,     0.50, 2, 0.08, 2,     0.87, 2,     0.14, 2,   1.2590, 2, 0.007, 2, 2.176, 2, 4.454, 2
320620030705, SBI, 15, 1, 101, 1, 2, 20030712, 1853, 71.4987, -154.4992, 34,     26.9,   4.1421,  31.2845, 2, -999.0000, 9,    327.0, 2,   -999.0, 9,  -999.00, 9,  -999.00, 9,  -999.00, 9,  -999.00, 9,  -999.00, 9,   4.1404,  -999.00, 9, -999, 9,  -999.00, 9,  -999.00, 9,   1.3240, 2, 0.007, 2, 1.734, 2, 4.620, 2
320620030705, SBI, 15, 1, 102, 2, 2, 20030712, 1854, 71.4987, -154.4992, 34,     26.9,   4.1932,  31.2753, 2,  31.2831, 2,    326.6, 2,    335.9, 2,     8.13, 2,     0.19, 2,     0.01, 2,     0.82, 2,    82.10, 2,   4.1915,     0.79, 2, 0.11, 2,     0.68, 2,     0.09, 2,   1.3190, 2, 0.007, 2, 1.697, 2, 4.670, 2
320620030705, SBI, 16, 1, 106, 6, 2, 20030712, 2004, 71.5482, -154.4595, 38,      2.6,   3.7852,  29.8693, 2,  29.8650, 2,    351.9, 2,    362.3, 2,     7.30, 2,     0.04, 2,     0.00, 2,     0.61, 2,  -999.00, 9,   3.7850,     0.28, 2, 0.1, 2,     0.48, 2,     0.05, 2,   1.0710, 2, 0.007, 2, 3.728, 2, 4.592, 2
320620030705, SBI, 16, 1, 105, 5, 2, 20030712, 2002, 71.5482, -154.4595, 38,     10.7,   3.7914,  29.8830, 2,  30.0227, 2,    351.9, 2,    360.3, 2,     7.29, 2,     0.04, 2,     0.00, 2,     0.63, 2,  -999.00, 9,   3.7908,     0.29, 2, 0.05, 2,     0.42, 2,     0.02, 2,   1.1930, 2, 0.007, 2, 3.051, 2, 4.614, 2
320620030705, SBI, 16, 1, 104, 4, 2, 20030712, 2000, 71.5482, -154.4595, 38,     17.6,   4.3551,  30.9580, 2,  30.9630, 2,    333.0, 2,    341.5, 2,     6.12, 2,     0.14, 2,     0.01, 2,     0.70, 2,  -999.00, 9,   4.3540,     0.54, 2, 0.09, 2,     0.29, 2,     0.10, 2,   1.1140, 2, 0.007, 2, 2.686, 2, 4.569, 2
320620030705, SBI, 16, 1, 103, 3, 2, 20030712, 1958, 71.5482, -154.4595, 38,     27.4,   4.2976,  30.9932, 2,  31.0562, 2,    331.4, 2,    337.4, 2,     7.05, 2,     0.14, 2,     0.02, 2,     0.76, 2,  -999.00, 9,   4.2958,     0.74, 2, 0.13, 2,     0.27, 2,     0.10, 2,   0.9950, 2, 0.007, 2, 1.729, 2, 4.590, 2
320620030705, SBI, 16, 1, 101, 1, 2, 20030712, 1956, 71.5482, -154.4595, 38,     31.9,   4.3632,  31.1430, 2,  31.0742, 2,    323.0, 2,    335.2, 2,     7.34, 2,     0.19, 2,     0.02, 2,     0.78, 2,    75.50, 2,   4.3611,     0.79, 2, 0.13, 2,     0.27, 2,     0.09, 2,   1.0660, 2, 0.007, 2, 1.232, 2, 4.615, 2
320620030705, SBI, 16, 1, 102, 2, 2, 20030712, 1957, 71.5482, -154.4595, 38,     31.9,   4.3748,  31.1416, 2, -999.0000, 9,    323.0, 2,   -999.0, 9,  -999.00, 9,  -999.00, 9,  -999.00, 9,  -999.00, 9,  -999.00, 9,   4.3727,  -999.00, 9, -999, 9,  -999.00, 9,  -999.00, 9,   1.0640, 2, 0.007, 2, 1.246, 2, 4.620, 2
320620030705, SBI, 17, 1, 106, 6, 2, 20030712, 2100, 71.5960, -154.4202, 40,      1.6,   4.1821,  29.6923, 2,  29.6898, 2,    343.1, 2,    353.3, 2,     6.40, 2,     0.04, 2,     0.00, 2,     0.58, 2,  -999.00, 9,   4.1820,     0.20, 2, 0.05, 2,     0.53, 2,     0.05, 2,   1.0940, 2, 0.007, 2, 3.997, 2, 4.436, 2
320620030705, SBI, 17, 1, 105, 5, 2, 20030712, 2059, 71.5960, -154.4202, 40,     10.8,   4.1669,  29.7348, 2,  30.0858, 2,    344.1, 2,    354.8, 2,     6.48, 2,     0.04, 2,     0.00, 2,     0.61, 2,  -999.00, 9,   4.1662,     0.26, 2, 0.18, 2,     0.53, 2,     0.03, 2,   1.2500, 2, 0.007, 2, 2.999, 2, 4.503, 2
320620030705, SBI, 17, 1, 104, 4, 2, 20030712, 2057, 71.5960, -154.4202, 40,     20.7,   3.9340,  30.6400, 2,  30.6098, 2,    345.7, 2,    355.9, 2,     6.47, 2,     0.04, 2,     0.00, 2,     0.65, 2,  -999.00, 9,   3.9327,     0.36, 2, 0.03, 2,     0.49, 2,     0.02, 2,   1.2050, 2, 0.007, 2, 2.269, 2, 4.474, 2
320620030705, SBI, 17, 1, 103, 3, 2, 20030712, 2056, 71.5960, -154.4202, 40,     29.7,   3.7974,  30.8010, 2,  30.8325, 2,    343.1, 2,    349.9, 2,     6.24, 2,     0.15, 2,     0.00, 2,     0.67, 2,  -999.00, 9,   3.7956,     0.61, 2, 0.05, 2,     0.25, 2,     0.03, 2,   1.0460, 2, 0.007, 2, 1.732, 2, 4.455, 2
320620030705, SBI, 17, 1, 102, 2, 2, 20030712, 2054, 71.5960, -154.4202, 40,     34.0,   3.8790,  30.9726, 2, -999.0000, 9,    335.0, 2,   -999.0, 9,  -999.00, 9,  -999.00, 9,  -999.00, 9,  -999.00, 9,  -999.00, 9,   3.8769,  -999.00, 9, -999, 9,  -999.00, 9,  -999.00, 9,   0.9890, 2, 0.007, 2, 1.584, 2, 4.426, 2
320620030705, SBI, 17, 1, 101, 1, 2, 20030712, 2054, 71.5960, -154.4202, 40,     34.0,   3.8820,  30.9626, 2,  30.9177, 2,    335.0, 2,    347.4, 2,     6.33, 2,     0.15, 2,     0.01, 2,     0.70, 2,    74.70, 2,   3.8799,     0.68, 2, 0.07, 2,     0.22, 2,     0.05, 2,   1.0270, 2, 0.007, 2, 1.588, 2, 4.414, 2
320620030705, SBI, 18, 1, 108, 8, 2, 20030712, 2201, 71.6423, -154.3679, 44,      1.9,   2.9111,  30.4186, 2,  30.4242, 2,    355.1, 2,    369.3, 2,     6.22, 2,     0.04, 2,     0.00, 2,     0.58, 2,  -999.00, 9,   2.9110,     0.36, 2, 0.03, 2,     0.24, 2,     0.02, 2,   0.9100, 2, 0.007, 2, 3.813, 2, 4.322, 2
320620030705, SBI, 18, 1, 105, 5, 2, 20030712, 2157, 71.6423, -154.3679, 44,     12.4,   3.4553,  30.5699, 2,  30.5701, 2,    350.1, 2,    358.3, 2,     6.31, 2,     0.09, 2,     0.01, 2,     0.63, 2,  -999.00, 9,   3.4546,     0.36, 2, 0.05, 2,     0.23, 2,     0.11, 2,   1.1150, 2, 0.007, 2, 3.039, 2, 4.077, 2
320620030705, SBI, 18, 1, 106, 6, 2, 20030712, 2157, 71.6423, -154.3679, 44,     12.4,   3.5154,  30.5845, 2, -999.0000, 9,    348.9, 2,   -999.0, 9,  -999.00, 9,  -999.00, 9,  -999.00, 9,  -999.00, 9,  -999.00, 9,   3.5147,  -999.00, 9, -999, 9,  -999.00, 9,  -999.00, 9,   1.0530, 2, 0.007, 2, 2.958, 2, 4.011, 2
320620030705, SBI, 18, 1, 107, 7, 2, 20030712, 2157, 71.6423, -154.3679, 44,     12.4,   3.6593,  30.6241, 2, -999.0000, 9,    348.0, 2,   -999.0, 9,  -999.00, 9,  -999.00, 9,  -999.00, 9,  -999.00, 9,  -999.00, 9,   3.6586,  -999.00, 9, -999, 9,  -999.00, 9,  -999.00, 9,   1.1040, 2, 0.007, 2, 2.943, 2, 3.593, 2
320620030705, SBI, 18, 1, 104, 4, 2, 20030712, 2154, 71.6423, -154.3679, 44,     21.0,   4.0416,  30.7265, 2,  30.7181, 2,    340.3, 2,    350.3, 2,     6.40, 2,     0.13, 2,     0.02, 2,     0.71, 2,  -999.00, 9,   4.0403,     0.46, 2, 0.08, 2,     0.32, 2,     0.16, 2,   1.1910, 2, 0.007, 2, 1.810, 2, 4.194, 2
320620030705, SBI, 18, 1, 103, 3, 2, 20030712, 2152, 71.6423, -154.3679, 44,     30.9,   4.1961,  30.7974, 2,  30.7824, 2,    336.2, 2,    346.2, 2,     6.49, 2,     0.12, 2,     0.03, 2,     0.76, 2,  -999.00, 9,   4.1941,     0.55, 2, 0.09, 2,     0.32, 2,     0.20, 2,   1.1560, 2, 0.007, 2, 0.208, 2, 4.151, 2
320620030705, SBI, 18, 1, 101, 1, 2, 20030712, 2150, 71.6423, -154.3679, 44,     35.2,   4.2895,  30.8357, 2,  30.8266, 2,    333.0, 2,    343.1, 2,     6.58, 2,     0.11, 2,     0.04, 2,     0.78, 2,    73.30, 2,   4.2872,     0.60, 2, 0.12, 2,     0.31, 2,     0.24, 2,   1.1030, 2, 0.007, 2, 0.160, 2, 4.149, 2
320620030705, SBI, 18, 1, 102, 2, 2, 20030712, 2150, 71.6423, -154.3679, 44,     35.3,   4.2959,  30.8394, 2, -999.0000, 9,    332.9, 2,   -999.0, 9,  -999.00, 9,  -999.00, 9,  -999.00, 9,  -999.00, 9,  -999.00, 9,   4.2936,  -999.00, 9, -999, 9,  -999.00, 9,  -999.00, 9,   1.1520, 2, 0.007, 2, 0.177, 2, 4.152, 2
320620030705, SBI, 19, 1, 107, 7, 2, 20030712, 2334, 71.6916, -154.3325, 50,      2.0,   3.1013,  30.2869, 2,  30.2842, 2,    360.0, 2,    373.3, 2,    22.66, 2,     0.10, 2,     0.00, 2,     0.84, 2,  -999.00, 9,   3.1012,     0.36, 2, 0.01, 2,     0.22, 2,     0.04, 2,   0.9550, 2, 0.007, 2, 3.807, 2, 4.324, 2
320620030705, SBI, 19, 1, 106, 6, 2, 20030712, 2332, 71.6916, -154.3325, 50,     10.6,   3.0253,  31.1475, 2,  31.0814, 2,    352.0, 2,    366.7, 2,     6.68, 2,     0.19, 2,     0.01, 2,     0.67, 2,  -999.00, 9,   3.0247,     0.58, 2, 0.06, 2,     0.29, 2,     0.09, 2,   1.0720, 2, 0.007, 2, 3.126, 2, 4.366, 2
320620030705, SBI, 19, 1, 105, 5, 2, 20030712, 2330, 71.6916, -154.3325, 50,     20.6,   2.9630,  31.2677, 2,  31.2640, 2,    351.1, 2,    364.2, 2,     5.01, 2,     0.19, 2,     0.02, 2,     0.65, 2,  -999.00, 9,   2.9619,     0.64, 2, 0.07, 2,     0.25, 2,     0.12, 2,   1.0720, 2, 0.007, 2, 2.073, 2, 4.339, 2
320620030705, SBI, 19, 1, 104, 4, 2, 20030712, 2329, 71.6916, -154.3325, 50,     29.5,   2.9554,  31.2732, 2,  31.2697, 2,    350.9, 2,    364.4, 2,     5.11, 2,     0.19, 2,     0.02, 2,     0.65, 2,  -999.00, 9,   2.9538,     0.66, 2, 0.07, 2,     0.27, 2,     0.15, 2,   1.0500, 2, 0.007, 2, 0.814, 2, 4.379, 2
320620030705, SBI, 19, 1, 103, 3, 2, 20030712, 2327, 71.6916, -154.3325, 50,     39.2,   2.9429,  31.2740, 2,  31.2702, 2,    351.2, 2,    365.8, 2,     5.10, 2,     0.18, 2,     0.02, 2,     0.67, 2,  -999.00, 9,   2.9408,     0.66, 2, 0.1, 2,     0.32, 2,     0.15, 2,   1.0400, 2, 0.007, 2, 0.185, 2, 4.343, 2
320620030705, SBI, 19, 1, 102, 2, 2, 20030712, 2326, 71.6916, -154.3325, 50,     43.2,   2.9650,  31.2737, 2, -999.0000, 9,    350.9, 2,   -999.0, 9,  -999.00, 9,  -999.00, 9,  -999.00, 9,  -999.00, 9,  -999.00, 9,   2.9627,  -999.00, 9, -999, 9,  -999.00, 9,  -999.00, 9,   1.0370, 2, 0.007, 2, 0.155, 2, 4.330, 2
320620030705, SBI, 19, 1, 101, 1, 2, 20030712, 2326, 71.6916, -154.3325, 50,     43.3,   2.9676,  31.2737, 2,  31.2701, 2,    351.1, 2,    365.6, 2,     4.99, 2,     0.18, 2,     0.02, 2,     0.66, 2,    70.40, 2,   2.9652,     0.66, 2, 0.09, 2,     0.28, 2,     0.16, 2,   1.0420, 2, 0.007, 2, 0.155, 2, 4.323, 2
320620030705, SBI, 20, 1, 108, 8, 2, 20030713, 40, 71.7425, -154.2800, 60,      2.1,   3.2335,  30.5830, 2,  30.5812, 2,    359.7, 2,    373.7, 2,    27.65, 2,     0.04, 2,     0.00, 2,     0.96, 2,  -999.00, 9,   3.2334,     0.35, 2, 0.05, 2,     0.14, 2,     0.02, 2,   0.6060, 2, 0.000, 2, 3.844, 2, 4.247, 2
320620030705, SBI, 20, 1, 107, 7, 2, 20030713, 38, 71.7425, -154.2800, 60,     12.6,   2.0708,  31.0576, 2,  31.2892, 2,    371.5, 2,    389.1, 2,    12.59, 2,     0.19, 2,     0.02, 2,     0.80, 2,  -999.00, 9,   2.0702,     0.59, 2, 0.06, 2,     0.23, 2,     0.05, 2,   0.9320, 2, 0.000, 2, 3.175, 2, 4.289, 2
320620030705, SBI, 20, 1, 106, 6, 2, 20030713, 36, 71.7425, -154.2800, 60,     22.4,   1.7473,  31.4389, 2,  31.4348, 2,    366.7, 2,    385.6, 2,     6.53, 2,     0.24, 2,     0.03, 2,     0.72, 2,  -999.00, 9,   1.7463,     0.69, 2, 0.09, 2,     0.22, 2,     0.12, 2,   1.0380, 2, 0.000, 2, 2.527, 2, 4.348, 2
320620030705, SBI, 20, 1, 105, 5, 2, 20030713, 34, 71.7425, -154.2800, 60,     32.6,   1.5792,  31.4696, 2,  31.4791, 2,    368.7, 2,    387.3, 2,     6.53, 2,     0.28, 2,     0.03, 2,     0.73, 2,  -999.00, 9,   1.5778,     0.73, 2, 0.09, 2,     0.26, 2,     0.16, 2,   1.0300, 2, 0.000, 2, 1.332, 2, 4.299, 2
320620030705, SBI, 20, 1, 104, 4, 2, 20030713, 31, 71.7425, -154.2800, 60,     42.7,   1.3249,  31.5204, 2,  31.5249, 2,    370.9, 2,    389.6, 2,     6.41, 2,     0.38, 2,     0.03, 2,     0.76, 2,  -999.00, 9,   1.3232,     0.76, 2, 0.09, 2,     0.33, 2,     0.21, 2,   1.0570, 2, 0.000, 2, 0.476, 2, 4.248, 2
320620030705, SBI, 20, 1, 103, 3, 2, 20030713, 29, 71.7425, -154.2800, 60,     52.7,   1.1166,  31.5571, 2,  31.5548, 2,    372.9, 2,    393.5, 2,     6.61, 2,     0.39, 2,     0.03, 2,     0.77, 2,  -999.00, 9,   1.1145,     0.78, 2, 0.09, 2,  -999.00, 9,  -999.00, 9,   1.0980, 2, 0.000, 2, 0.169, 2, 4.376, 2
320620030705, SBI, 20, 1, 101, 1, 2, 20030713, 28, 71.7425, -154.2800, 60,     56.9,   0.9430,  31.5860, 2,  31.5797, 2,    374.1, 2,    393.7, 2,     6.71, 2,     0.44, 2,     0.03, 2,     0.79, 2,    72.10, 2,   0.9408,     0.80, 2, 0.11, 2,     0.49, 2,     0.12, 2,   1.1410, 2, 0.000, 2, 0.151, 2, 4.367, 2
320620030705, SBI, 20, 1, 102, 2, 2, 20030713, 28, 71.7425, -154.2800, 60,     56.9,   0.9934,  31.5763, 2, -999.0000, 9,    374.1, 2,   -999.0, 9,  -999.00, 9,  -999.00, 9,  -999.00, 9,  -999.00, 9,  -999.00, 9,   0.9912,  -999.00, 9, -999, 9,  -999.00, 9,  -999.00, 9,   1.2020, 2, 0.000, 2, 0.151, 2, 4.371, 2
320620030705, SBI, 21, 1, 112, 12, 2, 20030713, 153, 71.7922, -154.2488, 128,      2.0,   2.7495,  30.4821, 2,  30.5023, 2,    364.2, 2,    379.4, 2,    23.18, 2,     0.09, 2,     0.00, 2,     0.91, 2,  -999.00, 9,   2.7494,     0.40, 2, 0.05, 2,     0.15, 2,     0.03, 2,   0.8240, 2, 0.000, 2, 3.744, 2, 4.194, 2
320620030705, SBI, 21, 1, 111, 11, 2, 20030713, 151, 71.7922, -154.2488, 128,     17.7,  -0.3176,  31.7078, 2, -999.0000, 9,    408.4, 2,   -999.0, 9,  -999.00, 9,  -999.00, 9,  -999.00, 9,  -999.00, 9,  -999.00, 9,  -0.3181,  -999.00, 9, -999, 9,  -999.00, 9,  -999.00, 9,   1.1670, 2, 0.000, 2, 2.711, 2, 4.314, 2
320620030705, SBI, 21, 1, 109, 9, 2, 20030713, 150, 71.7922, -154.2488, 128,     17.8,  -0.3053,  31.6960, 2,  31.7184, 2,    408.6, 2,    431.6, 2,     8.89, 2,     0.20, 2,     0.01, 2,     0.77, 2,  -999.00, 9,  -0.3058,     0.35, 2, 0.06, 2,     0.43, 2,     0.07, 2,   1.1890, 2, 0.000, 2, 2.715, 2, 4.308, 2
320620030705, SBI, 21, 1, 110, 10, 2, 20030713, 151, 71.7922, -154.2488, 128,     17.8,  -0.3173,  31.7077, 2, -999.0000, 9,    408.5, 2,   -999.0, 9,  -999.00, 9,  -999.00, 9,  -999.00, 9,  -999.00, 9,  -999.00, 9,  -0.3178,  -999.00, 9, -999, 9,  -999.00, 9,  -999.00, 9,   1.1290, 2, 0.000, 2, 2.714, 2, 4.313, 2
320620030705, SBI, 21, 1, 108, 8, 2, 20030713, 148, 71.7922, -154.2488, 128,     32.9,  -0.5902,  31.8726, 2,  31.8838, 2,    393.5, 2,    420.9, 2,     6.48, 2,     0.56, 2,     0.02, 2,     0.85, 2,  -999.00, 9,  -0.5910,     0.60, 2, 0.11, 2,     0.51, 2,     0.07, 2,   1.3600, 2, 0.000, 2, 2.026, 2, 4.338, 2
320620030705, SBI, 21, 1, 107, 7, 2, 20030713, 142, 71.7922, -154.2488, 128,     50.7,  -0.8457,  31.9383, 2,  31.9408, 2,    391.1, 2,    417.9, 2,     7.52, 2,     0.76, 2,     0.03, 2,     0.91, 2,  -999.00, 9,  -0.8469,     0.63, 2, 0.09, 2,     0.62, 2,     0.05, 2,   1.2790, 2, 0.000, 2, 0.955, 2, 4.368, 2
320620030705, SBI, 21, 1, 106, 6, 2, 20030713, 139, 71.7922, -154.2488, 128,     63.0,  -1.0023,  31.9995, 2,  32.0010, 2,    386.2, 2,    411.6, 2,     9.39, 2,     1.28, 2,     0.05, 2,     0.97, 2,  -999.00, 9,  -1.0037,     0.76, 2, 0.11, 2,  -999.00, 9,  -999.00, 9,   1.2810, 2, 0.000, 2, 0.543, 2, 4.426, 2
320620030705, SBI, 21, 1, 105, 5, 2, 20030713, 137, 71.7922, -154.2488, 128,     78.0,  -1.0523,  32.0227, 2,  32.0213, 2,    380.3, 2,    404.7, 2,    11.26, 2,     1.80, 2,     0.06, 2,     1.03, 2,  -999.00, 9,  -1.0540,     0.94, 2, 0.13, 2,     0.80, 2,     0.06, 2,   1.3820, 2, 0.000, 2, 0.221, 2, 4.419, 2
320620030705, SBI, 21, 1, 104, 4, 2, 20030713, 135, 71.7922, -154.2488, 128,     92.8,  -1.1834,  32.0952, 2,  32.0898, 2,    361.8, 2,    387.3, 2,    15.75, 2,     3.20, 2,     0.09, 2,     1.19, 2,  -999.00, 9,  -1.1853,     1.31, 2, 0.13, 2,  -999.00, 9,  -999.00, 9,   1.3140, 2, 0.000, 2, 0.148, 2, 4.400, 2
320620030705, SBI, 21, 1, 103, 3, 2, 20030713, 133, 71.7922, -154.2488, 128,    107.8,  -1.2125,  32.1119, 2,  32.1107, 2,    357.5, 2,    382.9, 2,    16.69, 2,     3.52, 2,     0.10, 2,     1.23, 2,  -999.00, 9,  -1.2147,     1.42, 2, 0.14, 2,     0.92, 2,     0.22, 2,   1.3830, 2, 0.000, 2, 0.138, 2, 4.424, 2
320620030705, SBI, 21, 1, 102, 2, 2, 20030713, 130, 71.7922, -154.2488, 128,    115.4,  -1.2381,  32.1262, 2, -999.0000, 9,    354.2, 2,   -999.0, 9,  -999.00, 9,  -999.00, 9,  -999.00, 9,  -999.00, 9,  -999.00, 9,  -1.2405,  -999.00, 9, -999, 9,  -999.00, 9,  -999.00, 9,   1.3610, 2, 0.000, 2, 0.138, 2, 4.360, 2
320620030705, SBI, 21, 1, 101, 1, 2, 20030713, 130, 71.7922, -154.2488, 128,    115.4,  -1.2505,  32.1334, 2,  32.1228, 2,    353.1, 2,    380.9, 2,    17.72, 2,     3.77, 2,     0.11, 2,     1.25, 2,    75.00, 2,  -1.2529,     1.51, 2, 0.16, 2,  -999.00, 9,  -999.00, 9,   1.3280, 2, 0.000, 2, 0.138, 2, 4.367, 2