BOTTLE,20100423CCHDOSIODBK
EXPOCODE,SECT_ID,STNNBR,CASTNO,SAMPNO,BTLNBR,BTLNBR_FLAG_W,DATE,TIME,LATITUDE,LONGITUDE,DEPTH,CTDPRS,CTDTMP,CTDSAL,CTDSAL_FLAG_W,SALNTY,SALNTY_FLAG_W,CTDOXY,CTDOXY_FLAG_W,OXYGEN,OXYGEN_FLAG_W,SILCAT,SILCAT_FLAG_W,NITRAT,NITRAT_FLAG_W,NITRIT,NITRIT_FLAG_W,PHSPHT,PHSPHT_FLAG_W,DOC,DOC_FLAG_W,THETA,NH4,NH4_FLAG_W,UREA,UREA_FLAG_W,CHLORA,CHLORA_FLAG_W,PPHYTN,PPHYTN_FLAG_W,FLUOR,FLUOR_FLAG_W,HAARDT,HAARDT_FLAG_W,PAR,PAR_FLAG_W,SPAR,SPAR_FLAG_W
,,,,,,,,,,,METERS,DBAR,ITS-90,PSS-78,,PSS-78,,UMOL/KG,,UMOL/KG,,UMOL/KG,,UMOL/KG,,UMOL/KG,,UMOL/KG,,UMOL/KG,,DEG C,UMOL/KG,,UMOL/KG,,UG/KG,,UG/KG,,MG/M^3,,VOLTS,,VOLTS,,VOLTS,
320620030705, SBI, 327, 1, 112, 12, 2, 20030817, 316, 71.9223, -148.8712, 3264,      2.1,  -0.5038,  27.7498, 2,  27.7456, 2,    339.3, 2,    376.5, 2,     2.25, 2,     0.10, 2,     0.00, 2,     0.63, 2,  -999.00, 9,  -0.5038,     0.01, 2, 0, 2,  -999.00, 9,  -999.00, 9,   0.6780, 2, -999.000, 2, -999.000, 9, 4.937, 2
320620030705, SBI, 327, 1, 111, 11, 2, 20030817, 314, 71.9223, -148.8712, 3264,     26.5,   2.3566,  30.4069, 2, -999.0000, 9,    338.0, 2,    344.3, 2,     6.25, 2,     0.14, 2,     0.01, 2,     0.69, 2,  -999.00, 9,   2.3553,     0.31, 2, 0.04, 2,  -999.00, 9,  -999.00, 9,   1.0780, 2, -999.000, 2, -999.000, 9, 4.935, 2
320620030705, SBI, 327, 1, 110, 10, 2, 20030817, 312, 71.9223, -148.8712, 3264,     46.2,   3.7951,  31.2266, 2, -999.0000, 9,    314.1, 2,    327.0, 2,     4.04, 2,     0.19, 2,     0.01, 2,     0.70, 2,  -999.00, 9,   3.7923,     0.76, 2, 0.09, 2,  -999.00, 9,  -999.00, 9,   0.7600, 2, -999.000, 2, -999.000, 9, 4.934, 2
320620030705, SBI, 327, 1, 109, 9, 2, 20030817, 311, 71.9223, -148.8712, 3264,     66.1,   3.2583,  31.3928, 2, -999.0000, 9,    319.4, 2,    343.1, 2,     5.84, 2,     0.38, 2,     0.03, 2,     0.80, 2,  -999.00, 9,   3.2545,     0.98, 2, 0.1, 2,  -999.00, 9,  -999.00, 9,   0.6720, 2, -999.000, 2, -999.000, 9, 4.935, 2
320620030705, SBI, 327, 1, 108, 8, 2, 20030817, 310, 71.9223, -148.8712, 3264,     85.9,   1.3660,  31.6674, 2, -999.0000, 9,    335.7, 2,    360.4, 2,     8.65, 2,     1.07, 2,     0.06, 2,     0.94, 2,  -999.00, 9,   1.3624,     1.33, 2, 0.13, 2,  -999.00, 9,  -999.00, 9,   0.7140, 2, -999.000, 2, -999.000, 9, 4.938, 2
320620030705, SBI, 327, 1, 107, 7, 2, 20030817, 308, 71.9223, -148.8712, 3264,    105.9,   0.4557,  31.8445, 2, -999.0000, 9,    339.9, 2,    364.4, 2,    11.16, 2,     2.33, 2,     0.10, 2,     1.07, 2,  -999.00, 9,   0.4520,     1.43, 2, 0.12, 2,  -999.00, 9,  -999.00, 9,   0.8470, 2, -999.000, 2, -999.000, 9, 4.940, 2
320620030705, SBI, 327, 1, 106, 6, 2, 20030817, 307, 71.9223, -148.8712, 3264,    125.9,  -0.4984,  32.0617, 2, -999.0000, 9,    342.6, 2,    359.6, 2,    15.59, 2,     3.66, 2,     0.18, 2,     1.20, 2,  -999.00, 9,  -0.5018,     1.46, 2, 0.08, 2,  -999.00, 9,  -999.00, 9,   0.7900, 2, -999.000, 2, -999.000, 9, 4.939, 2
320620030705, SBI, 327, 1, 105, 5, 2, 20030817, 305, 71.9223, -148.8712, 3264,    145.7,  -1.0306,  32.2585, 2, -999.0000, 9,    320.3, 2,    344.8, 2,    18.53, 2,     5.98, 2,     0.14, 2,     1.38, 2,  -999.00, 9,  -1.0340,     1.45, 2, 0.08, 2,  -999.00, 9,  -999.00, 9,   0.7390, 2, -999.000, 2, -999.000, 9, 4.943, 2
320620030705, SBI, 327, 1, 104, 4, 2, 20030817, 303, 71.9223, -148.8712, 3264,    166.1,  -1.4521,  32.5077, 2, -999.0000, 9,    287.2, 2,    308.8, 2,    25.82, 2,    10.61, 2,     0.09, 2,     1.66, 2,  -999.00, 9,  -1.4554,     0.84, 2, 0.04, 2,  -999.00, 9,  -999.00, 9,   0.7250, 2, -999.000, 2, -999.000, 9, 4.940, 2
320620030705, SBI, 327, 1, 103, 3, 2, 20030817, 302, 71.9223, -148.8712, 3264,    186.4,  -1.5271,  32.7847, 2, -999.0000, 9,    272.1, 2,    295.4, 2,    29.37, 2,    13.10, 2,     0.05, 2,     1.75, 2,  -999.00, 9,  -1.5309,     0.22, 2, 0.01, 2,  -999.00, 9,  -999.00, 9,   0.6930, 2, -999.000, 2, -999.000, 9, 4.940, 2
320620030705, SBI, 327, 1, 102, 2, 2, 20030817, 301, 71.9223, -148.8712, 3264,    206.5,  -1.5499,  33.1097, 2,  33.1666, 2,    269.8, 2,    290.9, 2,    30.79, 2,    14.00, 2,     0.03, 2,     1.74, 2,  -999.00, 9,  -1.5542,     0.03, 2, 0.02, 2,  -999.00, 9,  -999.00, 9,   0.6450, 2, -999.000, 2, -999.000, 9, 4.939, 2
320620030705, SBI, 327, 1, 101, 1, 2, 20030817, 253, 71.9223, -148.8712, 3264,    508.6,   0.5050,  34.8269, 2,  34.8256, 2,    273.6, 2,    293.3, 2,     8.11, 2,    12.65, 2,     0.01, 2,     0.95, 2,  -999.00, 9,   0.4825,     0.00, 2, 0.02, 2,  -999.00, 9,  -999.00, 9,   0.4920, 2, -999.000, 2, -999.000, 9, 4.940, 2
320620030705, SBI, 328, 1, 124, 24, 2, 20030817, 1144, 71.9724, -148.8497, 3313,      2.0,  -0.4403,  27.8500, 2, -999.0000, 9,    310.1, 4,    373.4, 2,     2.75, 2,     0.09, 2,     0.00, 2,     0.63, 2,  -999.00, 9,  -0.4403,     0.01, 2, 0, 2,  -999.00, 9,  -999.00, 9,   0.6670, 2, -999.000, 2, -999.000, 9, 5.000, 2
320620030705, SBI, 328, 1, 123, 23, 2, 20030817, 1143, 71.9724, -148.8497, 3313,     19.2,   1.7164,  29.3628, 2, -999.0000, 9,    284.8, 4,    353.7, 2,     7.58, 2,     0.09, 2,     0.00, 2,     0.69, 2,  -999.00, 9,   1.7156,     0.01, 2, 0, 2,  -999.00, 9,  -999.00, 9,   1.1640, 2, -999.000, 2, -999.000, 9, 5.000, 2
320620030705, SBI, 328, 1, 122, 22, 2, 20030817, 1140, 71.9724, -148.8497, 3313,     28.8,   2.7276,  30.3197, 2, -999.0000, 9,    278.9, 4,    374.8, 2,     5.25, 2,     0.03, 2,     0.00, 2,     0.70, 2,  -999.00, 9,   2.7261,     0.04, 2, 0.01, 2,  -999.00, 9,  -999.00, 9,   1.1430, 2, -999.000, 2, -999.000, 9, 5.000, 2
320620030705, SBI, 328, 1, 121, 21, 2, 20030817, 1138, 71.9724, -148.8497, 3313,     39.8,   3.8739,  30.9876, 2, -999.0000, 9,    289.1, 4,   -999.0, 9,     4.73, 2,     0.17, 2,     0.01, 2,     0.71, 2,  -999.00, 9,   3.8715,     1.11, 2, 0.07, 2,  -999.00, 9,  -999.00, 9,   1.2940, 2, -999.000, 2, -999.000, 9, 5.000, 2
320620030705, SBI, 328, 1, 120, 20, 2, 20030817, 1136, 71.9724, -148.8497, 3313,     51.5,   3.6270,  31.2092, 2, -999.0000, 9,    295.9, 4,    333.8, 2,     6.04, 2,     0.17, 2,     0.01, 2,     0.73, 2,  -999.00, 9,   3.6239,     0.97, 2, 0.1, 2,  -999.00, 9,  -999.00, 9,   1.1000, 2, -999.000, 2, -999.000, 9, 5.000, 2
320620030705, SBI, 328, 1, 119, 19, 2, 20030817, 1134, 71.9724, -148.8497, 3313,     63.6,   3.3563,  31.3333, 2, -999.0000, 9,    299.0, 4,    341.6, 2,     6.74, 2,     0.26, 2,     0.02, 2,     0.77, 2,  -999.00, 9,   3.3526,     1.06, 2, 0.11, 2,  -999.00, 9,  -999.00, 9,   0.7800, 2, -999.000, 2, -999.000, 9, 5.000, 2
320620030705, SBI, 328, 1, 118, 18, 2, 20030817, 1132, 71.9724, -148.8497, 3313,     83.8,   1.5267,  31.5856, 2, -999.0000, 9,    311.5, 2,    354.5, 2,     7.85, 2,     0.56, 2,     0.04, 2,     0.84, 2,  -999.00, 9,   1.5231,     1.36, 2, 0.13, 2,  -999.00, 9,  -999.00, 9,   0.6910, 2, -999.000, 2, -999.000, 9, 5.000, 2
320620030705, SBI, 328, 1, 117, 17, 2, 20030817, 1130, 71.9724, -148.8497, 3313,    103.5,   0.8358,  31.7485, 2, -999.0000, 9,    317.3, 2,    364.1, 2,     9.76, 2,     1.14, 2,     0.07, 2,     0.97, 2,  -999.00, 9,   0.8319,     1.48, 2, 0.13, 2,  -999.00, 9,  -999.00, 9,   0.8150, 2, -999.000, 2, -999.000, 9, 5.000, 2
320620030705, SBI, 328, 1, 116, 16, 2, 20030817, 1128, 71.9724, -148.8497, 3313,    123.7,   0.1375,  31.9370, 2, -999.0000, 9,    309.4, 2,    360.1, 2,    14.50, 2,     2.81, 2,     0.16, 2,     1.17, 2,  -999.00, 9,   0.1335,     1.62, 2, 0.12, 2,  -999.00, 9,  -999.00, 9,   0.7420, 2, -999.000, 2, -999.000, 9, 5.000, 2
320620030705, SBI, 328, 1, 115, 15, 2, 20030817, 1127, 71.9724, -148.8497, 3313,    143.5,  -0.2315,  32.1718, 2, -999.0000, 9,    322.5, 2,    362.8, 2,    11.98, 2,     3.81, 2,     0.09, 2,     1.18, 2,  -999.00, 9,  -0.2358,     1.25, 2, 0.09, 2,  -999.00, 9,  -999.00, 9,   0.8820, 2, -999.000, 2, -999.000, 9, 5.000, 2
320620030705, SBI, 328, 1, 114, 14, 2, 20030817, 1125, 71.9724, -148.8497, 3313,    163.6,  -1.2672,  32.4127, 2, -999.0000, 9,    283.0, 2,    331.4, 2,    22.21, 2,     7.25, 2,     0.16, 2,     1.51, 2,  -999.00, 9,  -1.2707,     1.77, 2, 0.05, 2,  -999.00, 9,  -999.00, 9,   0.8490, 2, -999.000, 2, -999.000, 9, 5.000, 2
320620030705, SBI, 328, 1, 113, 13, 2, 20030817, 1123, 71.9724, -148.8497, 3313,    183.6,  -1.5094,  32.5581, 2, -999.0000, 9,    261.3, 2,    304.3, 2,    28.03, 2,    10.93, 2,     0.10, 2,     1.74, 2,  -999.00, 9,  -1.5130,     1.25, 2, 0.05, 2,  -999.00, 9,  -999.00, 9,   0.7800, 2, -999.000, 2, -999.000, 9, 5.000, 2
320620030705, SBI, 328, 1, 112, 12, 2, 20030817, 1122, 71.9724, -148.8497, 3313,    203.9,  -1.5413,  32.8922, 2, -999.0000, 9,    249.7, 2,    290.3, 2,    31.29, 2,    14.00, 2,     0.03, 2,     1.80, 2,  -999.00, 9,  -1.5455,     0.04, 2, 0.01, 2,  -999.00, 9,  -999.00, 9,   0.6340, 2, -999.000, 2, -999.000, 9, 5.000, 2
320620030705, SBI, 328, 1, 111, 11, 2, 20030817, 1119, 71.9724, -148.8497, 3313,    234.5,  -1.3863,  33.4994, 2, -999.0000, 9,    245.6, 2,    283.9, 2,    29.03, 2,    14.14, 2,     0.03, 2,     1.62, 2,  -999.00, 9,  -1.3917,     0.01, 2, 0.01, 2,  -999.00, 9,  -999.00, 9,   0.6490, 2, -999.000, 2, -999.000, 9, 5.000, 2
320620030705, SBI, 328, 1, 110, 10, 2, 20030817, 1117, 71.9724, -148.8497, 3313,    264.6,  -0.9802,  34.0809, 2, -999.0000, 9,    238.7, 2,    276.5, 2,    24.21, 2,    14.19, 2,     0.01, 2,     1.43, 2,  -999.00, 9,  -0.9876,     0.00, 2, 0.01, 2,  -999.00, 9,  -999.00, 9,   0.7590, 2, -999.000, 2, -999.000, 9, 5.000, 2
320620030705, SBI, 328, 1, 109, 9, 2, 20030817, 1114, 71.9724, -148.8497, 3313,    305.1,  -0.3961,  34.5134, 2, -999.0000, 9,    246.0, 2,    281.4, 2,    16.18, 2,    13.10, 2,     0.01, 2,     1.18, 2,  -999.00, 9,  -0.4066,     0.01, 2, 0.01, 2,  -999.00, 9,  -999.00, 9,   0.5790, 2, -999.000, 2, -999.000, 9, 5.000, 2
320620030705, SBI, 328, 1, 108, 8, 2, 20030817, 1111, 71.9724, -148.8497, 3313,    405.4,   0.5423,  34.7818, 2, -999.0000, 9,    248.0, 2,    289.0, 2,     9.40, 2,    12.78, 2,     0.01, 2,     0.98, 2,  -999.00, 9,   0.5246,     0.00, 2, 0.01, 2,  -999.00, 9,  -999.00, 9,   0.6780, 2, -999.000, 2, -999.000, 9, 5.000, 2
320620030705, SBI, 328, 1, 107, 7, 2, 20030817, 1105, 71.9724, -148.8497, 3313,    606.8,   0.4453,  34.8414, 2,  34.8475, 2,    255.0, 2,    295.4, 2,     7.48, 2,    12.58, 2,     0.00, 2,     0.94, 2,  -999.00, 9,   0.4182,     0.01, 2, 0.01, 2,  -999.00, 9,  -999.00, 9,   0.5190, 2, -999.000, 2, -999.000, 9, 5.000, 2
320620030705, SBI, 328, 1, 106, 6, 2, 20030817, 1055, 71.9724, -148.8497, 3313,   1010.2,  -0.0302,  34.8777, 2,  34.8820, 2,    257.2, 2,    300.0, 2,     7.38, 2,    12.68, 2,     0.00, 2,     0.93, 2,  -999.00, 9,  -0.0751,     0.00, 2, 0.01, 2,  -999.00, 9,  -999.00, 9,   0.5480, 2, -999.000, 2, -999.000, 9, 5.000, 2
320620030705, SBI, 328, 1, 105, 5, 2, 20030817, 1043, 71.9724, -148.8497, 3313,   1515.7,  -0.3279,  34.9124, 2,  34.9158, 2,    254.2, 2,    298.7, 2,     9.09, 2,    13.29, 2,     0.00, 2,     0.99, 2,  -999.00, 9,  -0.3984,     0.00, 2, 0, 2,  -999.00, 9,  -999.00, 9,   0.6520, 2, -999.000, 2, -999.000, 9, 5.000, 2
320620030705, SBI, 328, 1, 104, 4, 2, 20030817, 1029, 71.9724, -148.8497, 3313,   2123.5,  -0.4053,  34.9433, 2,  34.9456, 2,    246.7, 2,    289.9, 2,    11.90, 2,    14.27, 2,     0.00, 2,     1.05, 2,  -999.00, 9,  -0.5141,     0.00, 2, 0, 2,  -999.00, 9,  -999.00, 9,   0.4850, 2, -999.000, 2, -999.000, 9, 5.000, 2
320620030705, SBI, 328, 1, 103, 3, 2, 20030817, 1015, 71.9724, -148.8497, 3313,   2732.8,  -0.3602,  34.9519, 2,  34.9556, 2,    244.3, 2,    285.6, 2,    12.91, 2,    14.47, 2,     0.00, 2,     1.06, 2,  -999.00, 9,  -0.5152,     0.00, 2, 0, 2,  -999.00, 9,  -999.00, 9,   0.4460, 2, -999.000, 2, -999.000, 9, 5.000, 2
320620030705, SBI, 328, 1, 102, 2, 2, 20030817, 1002, 71.9724, -148.8497, 3313,   3293.2,  -0.3086,  34.9533, 2,  34.9555, 2,    244.6, 2,    284.0, 2,    13.62, 2,    14.41, 2,     0.00, 2,     1.05, 2,  -999.00, 9,  -0.5117,     0.01, 2, 0, 2,  -999.00, 9,  -999.00, 9,   0.3350, 2, -999.000, 2, -999.000, 9, 5.000, 2
320620030705, SBI, 328, 1, 101, 1, 2, 20030817, 958, 71.9724, -148.8497, 3313,   3367.8,  -0.3017,  34.9533, 2,  34.9548, 2,    245.2, 2,    283.4, 2,    13.51, 2,    14.51, 2,     0.00, 2,     1.07, 2,  -999.00, 9,  -0.5116,     0.01, 2, 0.01, 2,  -999.00, 9,  -999.00, 9,   0.5080, 2, -999.000, 2, -999.000, 9, 5.000, 2