BOTTLE,20100423CCHDOSIODBK
EXPOCODE,SECT_ID,STNNBR,CASTNO,SAMPNO,BTLNBR,BTLNBR_FLAG_W,DATE,TIME,LATITUDE,LONGITUDE,DEPTH,CTDPRS,CTDTMP,CTDSAL,CTDSAL_FLAG_W,SALNTY,SALNTY_FLAG_W,CTDOXY,CTDOXY_FLAG_W,OXYGEN,OXYGEN_FLAG_W,SILCAT,SILCAT_FLAG_W,NITRAT,NITRAT_FLAG_W,NITRIT,NITRIT_FLAG_W,PHSPHT,PHSPHT_FLAG_W,DOC,DOC_FLAG_W,THETA,NH4,NH4_FLAG_W,UREA,UREA_FLAG_W,CHLORA,CHLORA_FLAG_W,PPHYTN,PPHYTN_FLAG_W,FLUOR,FLUOR_FLAG_W,HAARDT,HAARDT_FLAG_W,PAR,PAR_FLAG_W,SPAR,SPAR_FLAG_W
,,,,,,,,,,,METERS,DBAR,ITS-90,PSS-78,,PSS-78,,UMOL/KG,,UMOL/KG,,UMOL/KG,,UMOL/KG,,UMOL/KG,,UMOL/KG,,UMOL/KG,,DEG C,UMOL/KG,,UMOL/KG,,UG/KG,,UG/KG,,MG/M^3,,VOLTS,,VOLTS,,VOLTS,
320620030705, SBI, 39, 1, 124, 24, 2, 20030716, 927, 72.5906, -151.5228, 3800,      2.3,  -1.0807,  27.7698, 2,  28.0566, 2,    362.4, 2,    396.3, 2,     2.53, 2,     0.09, 2,     0.00, 2,     0.65, 2,    71.40, 2,  -1.0807,     0.00, 2, 0, 2,     0.03, 2,     0.01, 2,   0.8040, 2, -999.000, 2, -999.000, 9, 4.955, 2
320620030705, SBI, 39, 1, 123, 23, 2, 20030716, 926, 72.5906, -151.5228, 3800,     13.7,  -1.0785,  28.5250, 2, -999.0000, 9,    364.8, 2,    399.5, 2,     2.62, 2,     0.03, 2,     0.00, 2,     0.67, 2,  -999.00, 9,  -1.0787,     0.01, 2, 0.02, 2,     0.04, 2,     0.01, 2,   0.7600, 2, -999.000, 2, -999.000, 9, 4.952, 2
320620030705, SBI, 39, 1, 122, 22, 2, 20030716, 924, 72.5906, -151.5228, 3800,     28.6,  -1.2611,  29.8917, 2, -999.0000, 9,    368.5, 2,    404.3, 2,     3.02, 2,     0.03, 2,     0.00, 2,     0.71, 2,    69.50, 2,  -1.2615,     0.00, 2, 0.01, 2,     0.06, 2,     0.04, 2,   0.6740, 2, -999.000, 2, -999.000, 9, 4.948, 2
320620030705, SBI, 39, 1, 120, 20, 2, 20030716, 922, 72.5906, -151.5228, 3800,     45.8,  -1.0280,  31.0904, 2, -999.0000, 9,    352.5, 2,    378.0, 2,     7.72, 2,     1.80, 2,     0.14, 2,     0.96, 2,  -999.00, 9,  -1.0289,     0.02, 2, 0.01, 2,     0.47, 2,     0.46, 2,   1.3660, 2, -999.000, 2, -999.000, 9, 4.945, 2
320620030705, SBI, 39, 1, 121, 21, 2, 20030716, 922, 72.5906, -151.5228, 3800,     45.8,  -1.0352,  31.1114, 2, -999.0000, 9,    351.3, 2,   -999.0, 9,  -999.00, 9,  -999.00, 9,  -999.00, 9,  -999.00, 9,  -999.00, 9,  -1.0361,  -999.00, 9, -999, 9,  -999.00, 9,  -999.00, 9,   1.3330, 2, -999.000, 2, -999.000, 9, 4.945, 2
320620030705, SBI, 39, 1, 119, 19, 2, 20030716, 919, 72.5906, -151.5228, 3800,     63.7,  -1.2338,  32.0870, 2,  32.1149, 2,    302.6, 2,    328.9, 2,    17.73, 2,     8.34, 2,     0.02, 2,     1.41, 2,    65.20, 2,  -1.2351,     0.00, 2, 0.02, 2,  -999.00, 9,  -999.00, 9,   1.1100, 2, -999.000, 2, -999.000, 9, 4.945, 2
320620030705, SBI, 39, 1, 118, 18, 2, 20030716, 917, 72.5906, -151.5228, 3800,     78.9,  -1.3364,  32.3481, 2, -999.0000, 9,    284.0, 2,    308.4, 2,    22.74, 2,    11.00, 2,     0.01, 2,     1.58, 2,    61.10, 2,  -1.3380,     0.00, 2, 0.02, 2,     0.06, 2,     0.02, 2,   0.7780, 2, -999.000, 2, -999.000, 9, 4.948, 2
320620030705, SBI, 39, 1, 117, 17, 2, 20030716, 915, 72.5906, -151.5228, 3800,     93.9,  -1.4582,  32.5611, 2, -999.0000, 9,    274.8, 2,    301.4, 2,    25.81, 2,    12.15, 2,     0.01, 2,     1.64, 2,    60.60, 2,  -1.4600,     0.00, 2, 0.02, 2,  -999.00, 9,  -999.00, 9,   0.7990, 2, -999.000, 2, -999.000, 9, 4.944, 2
320620030705, SBI, 39, 1, 116, 16, 2, 20030716, 912, 72.5906, -151.5228, 3800,    108.9,  -1.4981,  32.6879, 2, -999.0000, 9,    269.8, 2,    296.5, 2,    28.46, 2,    13.03, 2,     0.00, 2,     1.69, 2,    63.70, 2,  -1.5002,     0.00, 2, 0.01, 2,  -999.00, 9,  -999.00, 9,   0.8130, 2, -999.000, 2, -999.000, 9, 4.934, 2
320620030705, SBI, 39, 1, 115, 15, 2, 20030716, 910, 72.5906, -151.5228, 3800,    123.9,  -1.5455,  32.8333, 2, -999.0000, 9,    268.1, 2,    294.0, 2,    30.60, 2,    13.71, 2,     0.01, 2,     1.72, 2,    62.90, 2,  -1.5479,     0.00, 2, 0.02, 2,  -999.00, 9,  -999.00, 9,   0.6040, 2, -999.000, 2, -999.000, 9, 4.927, 2
320620030705, SBI, 39, 1, 114, 14, 2, 20030716, 908, 72.5906, -151.5228, 3800,    139.1,  -1.5440,  32.9792, 2, -999.0000, 9,    264.8, 2,    290.8, 2,    32.23, 2,    14.44, 2,     0.00, 2,     1.76, 2,    62.40, 2,  -1.5468,     0.00, 2, 0.05, 2,  -999.00, 9,  -999.00, 9,   0.5940, 2, -999.000, 2, -999.000, 9, 4.927, 2
320620030705, SBI, 39, 1, 113, 13, 2, 20030716, 906, 72.5906, -151.5228, 3800,    154.0,  -1.5215,  33.1350, 2, -999.0000, 9,    262.2, 2,    287.6, 2,    32.83, 2,    14.59, 2,     0.00, 2,     1.76, 2,  -999.00, 9,  -1.5247,     0.00, 2, 0.01, 2,  -999.00, 9,  -999.00, 9,   0.6220, 2, -999.000, 2, -999.000, 9, 4.929, 2
320620030705, SBI, 39, 1, 112, 12, 2, 20030716, 904, 72.5906, -151.5228, 3800,    169.1,  -1.4378,  33.3359, 2,  33.3537, 2,    257.4, 2,    282.2, 2,    32.81, 2,    15.01, 2,     0.00, 2,     1.73, 2,    63.10, 2,  -1.4415,     0.00, 2, 0.02, 2,     0.00, 2,     0.01, 2,   0.6670, 2, -999.000, 2, -999.000, 9, 4.928, 2
320620030705, SBI, 39, 1, 111, 11, 2, 20030716, 902, 72.5906, -151.5228, 3800,    183.9,  -1.3082,  33.5805, 2, -999.0000, 9,    255.7, 2,    280.0, 2,  -999.00, 5,  -999.00, 5,  -999.00, 5,  -999.00, 5,    59.50, 2,  -1.3125,  -999.00, 5, -999, 5,  -999.00, 9,  -999.00, 9,   0.6180, 2, -999.000, 2, -999.000, 9, 4.928, 2
320620030705, SBI, 39, 1, 110, 10, 2, 20030716, 900, 72.5906, -151.5228, 3800,    203.9,  -1.1887,  33.9621, 2,  33.9822, 2,    262.8, 2,    284.2, 2,    27.45, 2,    14.22, 2,     0.00, 2,     1.52, 2,    58.80, 2,  -1.1939,     0.00, 2, 0.01, 2,  -999.00, 9,  -999.00, 9,   0.5950, 2, -999.000, 2, -999.000, 9, 4.924, 2
320620030705, SBI, 39, 1, 109, 9, 2, 20030716, 857, 72.5906, -151.5228, 3800,    223.9,  -0.7062,  34.2756, 2, -999.0000, 9,    252.7, 2,    275.7, 2,    21.80, 2,    14.26, 2,     0.00, 2,     1.32, 2,  -999.00, 9,  -0.7130,     0.00, 2, 0.01, 2,  -999.00, 9,  -999.00, 9,   0.5920, 2, -999.000, 2, -999.000, 9, 4.933, 2
320620030705, SBI, 39, 1, 108, 8, 2, 20030716, 855, 72.5906, -151.5228, 3800,    254.0,  -0.1420,  34.5522, 2,  34.5690, 2,    253.5, 2,    276.0, 2,    14.93, 2,    13.54, 2,     0.00, 2,     1.09, 2,    55.10, 2,  -0.1512,     0.00, 2, 0.01, 2,  -999.00, 9,  -999.00, 9,   0.5350, 2, -999.000, 2, -999.000, 9, 4.929, 2
320620030705, SBI, 39, 1, 107, 7, 2, 20030716, 852, 72.5906, -151.5228, 3800,    293.9,   0.2941,  34.6926, 2,  34.7022, 2,    257.8, 2,    280.5, 2,    11.54, 2,    13.21, 2,     0.00, 2,     1.00, 2,  -999.00, 9,   0.2822,     0.00, 2, 0.01, 2,  -999.00, 9,  -999.00, 9,   0.5370, 2, -999.000, 2, -999.000, 9, 4.932, 2
320620030705, SBI, 39, 1, 106, 6, 2, 20030716, 850, 72.5906, -151.5228, 3800,    324.5,   0.5213,  34.7552, 2,  34.7528, 2,    262.8, 2,    284.2, 2,     9.78, 2,    12.96, 2,     0.00, 2,     0.95, 2,  -999.00, 9,   0.5075,     0.00, 2, 0.01, 2,  -999.00, 9,  -999.00, 9,   0.8290, 2, -999.000, 2, -999.000, 9, 4.925, 2
320620030705, SBI, 39, 1, 105, 5, 2, 20030716, 842, 72.5906, -151.5228, 3800,    354.1,   0.6006,  34.7841, 2,  34.7887, 2,    265.8, 2,    287.6, 2,     8.85, 2,    12.96, 2,     0.00, 2,     0.92, 2,  -999.00, 9,   0.5851,     0.00, 2, 0.01, 2,  -999.00, 9,  -999.00, 9,   0.8280, 2, -999.000, 2, -999.000, 9, 4.912, 2
320620030705, SBI, 39, 1, 104, 4, 2, 20030716, 838, 72.5906, -151.5228, 3800,    455.0,   0.6064,  34.8307, 2,  34.8300, 2,    271.1, 2,    293.4, 2,     7.61, 2,    12.80, 2,     0.00, 2,     0.89, 2,  -999.00, 9,   0.5861,     0.00, 2, 0, 2,  -999.00, 9,  -999.00, 9,   0.5030, 2, -999.000, 2, -999.000, 9, 4.906, 2
320620030705, SBI, 39, 1, 103, 3, 2, 20030716, 834, 72.5906, -151.5228, 3800,    604.4,   0.4260,  34.8516, 2,  34.8542, 2,    272.4, 2,    295.9, 2,     7.40, 2,    12.85, 2,     0.00, 2,     0.89, 2,  -999.00, 9,   0.3991,     0.00, 2, 0.01, 2,  -999.00, 9,  -999.00, 9,   0.7330, 2, -999.000, 2, -999.000, 9, 4.912, 2
320620030705, SBI, 39, 1, 102, 2, 2, 20030716, 828, 72.5906, -151.5228, 3800,    804.8,   0.1723,  34.8685, 2,  34.8674, 2,    274.9, 2,    299.3, 2,     7.08, 2,    12.69, 2,     0.00, 2,     0.89, 2,  -999.00, 9,   0.1367,     0.00, 2, 0.01, 2,  -999.00, 9,  -999.00, 9,   0.5000, 2, -999.000, 2, -999.000, 9, 4.915, 2
320620030705, SBI, 39, 1, 101, 1, 2, 20030716, 822, 72.5906, -151.5228, 3800,   1005.2,  -0.0301,  34.8820, 2,  34.8818, 2,    274.8, 2,    299.7, 2,     7.48, 2,    12.90, 2,     0.00, 2,     0.92, 2,  -999.00, 9,  -0.0747,     0.00, 2, 0, 2,  -999.00, 9,  -999.00, 9,   0.7860, 2, -999.000, 2, -999.000, 9, 4.930, 2
320620030705, SBI, 40, 1, 124, 24, 2, 20030716, 1406, 72.4229, -151.4931, 3539,      2.4,  -1.0730,  27.9262, 2,  28.0625, 2,    362.5, 2,    397.6, 2,     2.64, 2,     0.10, 2,     0.00, 2,     0.64, 2,  -999.00, 9,  -1.0730,     0.00, 2, 0, 2,     0.03, 2,     0.01, 2,   0.4790, 2, -999.000, 2, -999.000, 9, 4.849, 2
320620030705, SBI, 40, 1, 123, 23, 2, 20030716, 1404, 72.4229, -151.4931, 3539,     14.2,  -1.2419,  29.4248, 2, -999.0000, 9,    366.8, 2,    402.9, 2,     2.93, 2,     0.04, 2,     0.00, 2,     0.69, 2,    72.50, 2,  -1.2421,     0.00, 2, 0.01, 2,  -999.00, 9,  -999.00, 9,   0.6200, 2, -999.000, 2, -999.000, 9, 4.880, 2
320620030705, SBI, 40, 1, 122, 22, 2, 20030716, 1402, 72.4229, -151.4931, 3539,     24.1,  -1.2343,  29.8513, 2, -999.0000, 9,    368.4, 2,    398.0, 2,     3.53, 2,     0.09, 2,     0.01, 2,     0.73, 2,    72.10, 2,  -1.2347,     0.00, 2, 0, 2,     0.14, 2,     0.12, 2,   0.9410, 2, -999.000, 2, -999.000, 9, 4.884, 2
320620030705, SBI, 40, 1, 121, 21, 2, 20030716, 1400, 72.4229, -151.4931, 3539,     36.2,  -1.1333,  30.4523, 2, -999.0000, 9,    363.3, 2,    395.3, 2,     4.65, 2,     0.08, 2,     0.02, 2,     0.78, 2,  -999.00, 9,  -1.1339,     0.01, 2, 0.02, 2,     0.29, 2,     0.25, 2,   1.1210, 2, -999.000, 2, -999.000, 9, 4.879, 2
320620030705, SBI, 40, 1, 120, 20, 2, 20030716, 1357, 72.4229, -151.4931, 3539,     49.2,  -0.8689,  31.7428, 2, -999.0000, 9,    327.4, 2,    351.6, 2,    11.89, 2,     4.89, 2,     0.08, 2,     1.18, 2,    64.00, 2,  -0.8700,     0.01, 2, 0.02, 2,     0.45, 2,     0.51, 2,   1.3700, 2, -999.000, 2, -999.000, 9, 4.899, 2
320620030705, SBI, 40, 1, 119, 19, 2, 20030716, 1355, 72.4229, -151.4931, 3539,     64.3,  -1.2408,  32.1297, 2, -999.0000, 9,    297.4, 2,    324.4, 2,    18.02, 2,     8.50, 2,     0.02, 2,     1.42, 2,    66.40, 2,  -1.2421,     0.00, 2, 0.02, 2,     0.14, 2,     0.05, 2,   0.8800, 2, -999.000, 2, -999.000, 9, 4.894, 2
320620030705, SBI, 40, 1, 118, 18, 2, 20030716, 1353, 72.4229, -151.4931, 3539,     79.3,  -1.4117,  32.3853, 2, -999.0000, 9,    284.3, 2,    311.1, 2,    22.61, 2,    10.66, 2,     0.01, 2,     1.55, 2,  -999.00, 9,  -1.4132,     0.00, 2, 0.02, 2,  -999.00, 9,  -999.00, 9,   0.9360, 2, -999.000, 2, -999.000, 9, 4.905, 2
320620030705, SBI, 40, 1, 117, 17, 2, 20030716, 1350, 72.4229, -151.4931, 3539,     94.2,  -1.4577,  32.5905, 2, -999.0000, 9,    272.7, 2,    299.4, 2,    26.58, 2,    12.33, 2,     0.00, 2,     1.64, 2,    61.20, 2,  -1.4595,     0.01, 2, 0.02, 2,  -999.00, 9,  -999.00, 9,   0.6230, 2, -999.000, 2, -999.000, 9, 4.894, 2
320620030705, SBI, 40, 1, 116, 16, 2, 20030716, 1348, 72.4229, -151.4931, 3539,    109.4,  -1.5270,  32.7469, 2,  32.7355, 2,    269.8, 2,    301.8, 0,    27.49, 2,    12.44, 2,     0.00, 2,     1.63, 2,    61.20, 2,  -1.5291,     0.01, 2, 0.01, 2,     0.01, 2,     0.01, 2,   0.6310, 2, -999.000, 2, -999.000, 9, 4.890, 2
320620030705, SBI, 40, 1, 115, 15, 2, 20030716, 1345, 72.4229, -151.4931, 3539,    124.4,  -1.5424,  32.8680, 2, -999.0000, 9,    264.9, 2,    294.1, 2,    30.65, 2,    13.85, 2,     0.00, 2,     1.73, 2,    61.00, 2,  -1.5448,     0.01, 2, 0.01, 2,  -999.00, 9,  -999.00, 9,   0.7260, 2, -999.000, 2, -999.000, 9, 4.895, 2
320620030705, SBI, 40, 1, 114, 14, 2, 20030716, 1343, 72.4229, -151.4931, 3539,    139.3,  -1.5447,  32.9996, 2, -999.0000, 9,    263.4, 2,    289.2, 2,    32.59, 2,    14.63, 2,     0.00, 2,     1.77, 2,    60.90, 2,  -1.5475,     0.01, 2, 0.01, 2,  -999.00, 9,  -999.00, 9,   0.6540, 2, -999.000, 2, -999.000, 9, 4.873, 2
320620030705, SBI, 40, 1, 113, 13, 2, 20030716, 1341, 72.4229, -151.4931, 3539,    154.4,  -1.5084,  33.1633, 2, -999.0000, 9,    260.1, 2,    286.0, 2,    33.19, 2,    14.94, 2,     0.00, 2,     1.77, 2,    60.50, 2,  -1.5116,     0.00, 2, 0.02, 2,  -999.00, 9,  -999.00, 9,   0.6750, 2, -999.000, 2, -999.000, 9, 4.891, 2
320620030705, SBI, 40, 1, 112, 12, 2, 20030716, 1339, 72.4229, -151.4931, 3539,    164.6,  -1.4490,  33.3056, 2,  33.3562, 2,    256.1, 2,    284.0, 2,    32.25, 2,    14.69, 2,     0.00, 2,     1.72, 2,    60.30, 2,  -1.4526,     0.00, 2, 0.01, 2,  -999.00, 9,  -999.00, 9,   0.8330, 2, -999.000, 2, -999.000, 9, 4.878, 2
320620030705, SBI, 40, 1, 111, 11, 2, 20030716, 1336, 72.4229, -151.4931, 3539,    179.4,  -1.3379,  33.5878, 2, -999.0000, 9,    257.0, 2,    282.6, 2,    30.49, 2,    14.58, 2,     0.01, 2,     1.63, 2,    61.90, 2,  -1.3421,     0.01, 2, 0.01, 2,  -999.00, 9,  -999.00, 9,   0.5800, 2, -999.000, 2, -999.000, 9, 4.900, 2
320620030705, SBI, 40, 1, 110, 10, 2, 20030716, 1334, 72.4229, -151.4931, 3539,    204.6,  -0.9685,  34.0531, 2, -999.0000, 9,    252.1, 2,    275.7, 2,    25.25, 2,    14.52, 2,     0.00, 2,     1.42, 2,  -999.00, 9,  -0.9741,     0.01, 2, 0.01, 2,  -999.00, 9,  -999.00, 9,   0.6170, 2, -999.000, 2, -999.000, 9, 4.909, 2
320620030705, SBI, 40, 1, 109, 9, 2, 20030716, 1331, 72.4229, -151.4931, 3539,    234.6,  -0.4647,  34.4084, 2,  34.4198, 2,    251.6, 2,    274.9, 2,    18.38, 2,    13.79, 2,     0.00, 2,     1.21, 2,    52.30, 2,  -0.4724,     0.00, 2, 0.01, 2,  -999.00, 9,  -999.00, 9,   0.7100, 2, -999.000, 2, -999.000, 9, 4.899, 2
320620030705, SBI, 40, 1, 108, 8, 2, 20030716, 1328, 72.4229, -151.4931, 3539,    264.8,  -0.0501,  34.5873, 2,  34.6077, 2,    255.4, 2,    278.8, 2,    14.08, 2,    13.32, 2,     0.00, 2,     1.08, 2,  -999.00, 9,  -0.0599,     0.00, 2, 0.01, 2,  -999.00, 9,  -999.00, 9,   0.6720, 2, -999.000, 2, -999.000, 9, 4.886, 2
320620030705, SBI, 40, 1, 107, 7, 2, 20030716, 1325, 72.4229, -151.4931, 3539,    294.1,   0.2671,  34.6860, 2,  34.6932, 2,    258.8, 2,    281.4, 2,    11.20, 2,    13.07, 2,     0.00, 2,     0.99, 2,  -999.00, 9,   0.2553,     0.00, 2, 0.01, 2,  -999.00, 9,  -999.00, 9,   0.7110, 2, -999.000, 2, -999.000, 9, 4.860, 2
320620030705, SBI, 40, 1, 106, 6, 2, 20030716, 1322, 72.4229, -151.4931, 3539,    324.1,   0.5573,  34.7577, 2,  34.7632, 2,    263.6, 2,    285.8, 2,     8.94, 2,    12.80, 2,     0.00, 2,     0.92, 2,  -999.00, 9,   0.5434,     0.00, 2, 0, 2,  -999.00, 9,  -999.00, 9,   0.6990, 2, -999.000, 2, -999.000, 9, 4.880, 2
320620030705, SBI, 40, 1, 105, 5, 2, 20030716, 1319, 72.4229, -151.4931, 3539,    374.8,   0.6803,  34.8068, 2,  34.8060, 2,    269.4, 2,    291.8, 2,     7.60, 2,    12.71, 2,     0.00, 2,     0.89, 2,  -999.00, 9,   0.6636,     0.00, 2, 0.01, 2,  -999.00, 9,  -999.00, 9,   0.4880, 2, -999.000, 2, -999.000, 9, 4.856, 2
320620030705, SBI, 40, 1, 104, 4, 2, 20030716, 1316, 72.4229, -151.4931, 3539,    453.5,   0.6005,  34.8289, 2,  34.8292, 2,    270.5, 2,    293.1, 2,     7.59, 2,    12.75, 2,     0.00, 2,     0.88, 2,  -999.00, 9,   0.5803,     0.00, 2, 0, 2,  -999.00, 9,  -999.00, 9,   0.8340, 2, -999.000, 2, -999.000, 9, 4.882, 2
320620030705, SBI, 40, 1, 103, 3, 2, 20030716, 1311, 72.4229, -151.4931, 3539,    602.9,   0.4412,  34.8539, 2,  34.8550, 2,    273.4, 2,    297.1, 2,     7.07, 2,    12.70, 2,     0.00, 2,     0.88, 2,  -999.00, 9,   0.4143,     0.00, 2, 0.01, 2,  -999.00, 9,  -999.00, 9,   0.4560, 2, -999.000, 2, -999.000, 9, 4.846, 2
320620030705, SBI, 40, 1, 102, 2, 2, 20030716, 1305, 72.4229, -151.4931, 3539,    807.6,   0.1621,  34.8685, 2,  34.8664, 2,    275.2, 2,    299.8, 2,     7.06, 2,    12.70, 2,     0.00, 2,     0.88, 2,  -999.00, 9,   0.1264,     0.00, 2, 0, 2,  -999.00, 9,  -999.00, 9,   0.6220, 2, -999.000, 2, -999.000, 9, 4.852, 2
320620030705, SBI, 40, 1, 101, 1, 2, 20030716, 1300, 72.4229, -151.4931, 3539,   1010.4,  -0.0380,  34.8825, 2,  34.8825, 2,    274.8, 2,    299.6, 2,     7.25, 2,    12.87, 2,     0.00, 2,     0.90, 2,  -999.00, 9,  -0.0828,     0.00, 2, 0, 2,  -999.00, 9,  -999.00, 9,   0.4570, 2, -999.000, 2, -999.000, 9, 4.866, 2