BOTTLE,20100423CCHDOSIODBK
EXPOCODE,SECT_ID,STNNBR,CASTNO,SAMPNO,BTLNBR,BTLNBR_FLAG_W,DATE,TIME,LATITUDE,LONGITUDE,DEPTH,CTDPRS,CTDTMP,CTDSAL,CTDSAL_FLAG_W,SALNTY,SALNTY_FLAG_W,CTDOXY,CTDOXY_FLAG_W,OXYGEN,OXYGEN_FLAG_W,SILCAT,SILCAT_FLAG_W,NITRAT,NITRAT_FLAG_W,NITRIT,NITRIT_FLAG_W,PHSPHT,PHSPHT_FLAG_W,DOC,DOC_FLAG_W,THETA,NH4,NH4_FLAG_W,UREA,UREA_FLAG_W,CHLORA,CHLORA_FLAG_W,PPHYTN,PPHYTN_FLAG_W,FLUOR,FLUOR_FLAG_W,HAARDT,HAARDT_FLAG_W,PAR,PAR_FLAG_W,SPAR,SPAR_FLAG_W
,,,,,,,,,,,METERS,DBAR,ITS-90,PSS-78,,PSS-78,,UMOL/KG,,UMOL/KG,,UMOL/KG,,UMOL/KG,,UMOL/KG,,UMOL/KG,,UMOL/KG,,DEG C,UMOL/KG,,UMOL/KG,,UG/KG,,UG/KG,,MG/M^3,,VOLTS,,VOLTS,,VOLTS,
320620030705, SBI, 134, 1, 119, 19, 2, 20030730, 16, 73.2356, -160.2548, 535,      1.0,  -1.4324,  28.7111, 2,  28.7174, 2,    353.1, 2,    388.6, 2,     5.95, 2,     0.26, 2,     0.00, 2,     0.69, 2,  -999.00, 9,  -1.4324,     0.12, 2, 0, 2,     0.37, 2,     0.04, 2,   0.8710, 2, -999.000, 2, -999.000, 9, 4.424, 2
320620030705, SBI, 134, 1, 118, 18, 2, 20030730, 14, 73.2356, -160.2548, 535,     20.4,  -1.3907,  31.1187, 2, -999.0000, 9,    353.6, 2,    391.5, 2,    16.49, 2,     1.64, 2,     0.05, 2,     0.97, 2,  -999.00, 9,  -1.3910,     0.44, 2, 0.04, 2,     0.78, 2,     0.06, 2,   1.2610, 2, -999.000, 2, -999.000, 9, 4.470, 2
320620030705, SBI, 134, 1, 117, 17, 2, 20030730, 13, 73.2356, -160.2548, 535,     32.4,  -1.5937,  31.6364, 2, -999.0000, 9,    321.7, 2,    355.9, 2,    22.54, 2,     5.48, 2,     0.24, 2,     1.30, 2,  -999.00, 9,  -1.5942,     1.09, 2, 0.09, 2,     1.25, 2,     0.26, 2,   1.2220, 2, -999.000, 2, -999.000, 9, 4.401, 2
320620030705, SBI, 134, 1, 116, 16, 2, 20030730, 11, 73.2356, -160.2548, 535,     47.1,  -1.6223,  31.8860, 2, -999.0000, 9,    316.0, 2,    348.3, 2,    25.94, 2,     6.64, 2,     0.23, 2,     1.38, 2,  -999.00, 9,  -1.6231,     0.82, 2, 0.15, 2,     0.07, 2,     0.08, 2,   0.7820, 2, -999.000, 2, -999.000, 9, 4.356, 2
320620030705, SBI, 134, 1, 115, 15, 2, 20030730, 10, 73.2356, -160.2548, 535,     61.6,  -1.6044,  32.0577, 2, -999.0000, 9,    314.2, 2,    347.2, 2,    26.44, 2,     7.20, 2,     0.17, 2,     1.42, 2,  -999.00, 9,  -1.6054,     0.73, 2, 0.02, 2,     0.05, 2,     0.08, 2,   0.7800, 2, -999.000, 2, -999.000, 9, 4.286, 2
320620030705, SBI, 134, 1, 114, 14, 2, 20030730, 9, 73.2356, -160.2548, 535,     76.3,  -1.5600,  32.2306, 2, -999.0000, 9,    305.3, 2,    336.7, 2,    25.71, 2,     8.57, 2,     0.11, 2,     1.46, 2,  -999.00, 9,  -1.5613,     0.41, 2, 0, 2,  -999.00, 9,  -999.00, 9,   0.7840, 2, -999.000, 2, -999.000, 9, 4.270, 2
320620030705, SBI, 134, 1, 113, 13, 2, 20030730, 8, 73.2356, -160.2548, 535,     90.7,  -1.5672,  32.3842, 2, -999.0000, 9,    295.8, 2,    326.4, 2,    26.22, 2,     9.62, 2,     0.10, 2,     1.50, 2,  -999.00, 9,  -1.5688,     0.08, 2, 0.01, 2,  -999.00, 9,  -999.00, 9,   0.7600, 2, -999.000, 2, -999.000, 9, 4.243, 2
320620030705, SBI, 134, 1, 112, 12, 2, 20030730, 6, 73.2356, -160.2548, 535,    104.9,  -1.5944,  32.5864, 2, -999.0000, 9,    283.5, 2,    312.8, 2,    28.07, 2,    10.97, 2,     0.01, 2,     1.58, 2,  -999.00, 9,  -1.5963,     0.00, 2, 0, 2,  -999.00, 9,  -999.00, 9,   0.8010, 2, -999.000, 2, -999.000, 9, 4.240, 2
320620030705, SBI, 134, 1, 111, 11, 2, 20030730, 5, 73.2356, -160.2548, 535,    119.6,  -1.5897,  32.8927, 2, -999.0000, 9,    274.3, 2,    302.6, 2,    30.43, 2,    12.67, 2,     0.00, 2,     1.64, 2,  -999.00, 9,  -1.5920,     0.00, 2, 0, 2,  -999.00, 9,  -999.00, 9,   0.7770, 2, -999.000, 2, -999.000, 9, 4.309, 2
320620030705, SBI, 134, 1, 110, 10, 2, 20030730, 4, 73.2356, -160.2548, 535,    134.3,  -1.5246,  33.3216, 2, -999.0000, 9,    268.7, 2,    295.6, 2,    30.72, 2,    13.54, 2,     0.00, 2,     1.61, 2,  -999.00, 9,  -1.5274,     0.00, 2, 0.04, 2,  -999.00, 9,  -999.00, 9,   0.7430, 2, -999.000, 2, -999.000, 9, 4.288, 2
320620030705, SBI, 134, 1, 109, 9, 2, 20030730, 3, 73.2356, -160.2548, 535,    149.4,  -1.2341,  34.0133, 2, -999.0000, 9,    270.7, 2,    292.6, 2,    24.73, 2,    13.30, 2,     0.01, 2,     1.40, 2,  -999.00, 9,  -1.2378,     0.00, 2, 0.01, 2,  -999.00, 9,  -999.00, 9,   0.6940, 2, -999.000, 2, -999.000, 9, 4.256, 2
320620030705, SBI, 134, 1, 108, 8, 2, 20030730, 1, 73.2356, -160.2548, 535,    163.0,  -0.8030,  34.2551, 2, -999.0000, 9,    261.2, 2,    282.9, 2,    21.23, 2,    13.46, 2,     0.00, 2,     1.29, 2,  -999.00, 9,  -0.8077,     0.00, 2, 0.01, 2,  -999.00, 9,  -999.00, 9,   0.6850, 2, -999.000, 2, -999.000, 9, 4.206, 2
320620030705, SBI, 134, 1, 107, 7, 2, 20030730, 0, 73.2356, -160.2548, 535,    176.5,  -0.4195,  34.4111, 2, -999.0000, 9,    254.0, 2,    277.9, 2,    17.22, 2,    13.30, 2,     0.00, 2,     1.14, 2,  -999.00, 9,  -0.4253,     0.00, 2, 0.01, 2,  -999.00, 9,  -999.00, 9,   0.6390, 2, -999.000, 2, -999.000, 9, 4.159, 2
320620030705, SBI, 134, 1, 106, 6, 2, 20030730, 2359, 73.2356, -160.2548, 535,    194.2,  -0.1581,  34.5239, 2,  34.5164, 2,    254.5, 2,    277.4, 2,    14.03, 2,    12.96, 2,     0.01, 2,     1.04, 2,  -999.00, 9,  -0.1650,     0.00, 2, 0.08, 3,  -999.00, 9,  -999.00, 9,   0.6520, 2, -999.000, 2, -999.000, 9, 4.138, 2
320620030705, SBI, 134, 1, 105, 5, 2, 20030730, 2356, 73.2356, -160.2548, 535,    239.1,   0.6879,  34.7679, 2,  34.7730, 2,    267.8, 2,    290.7, 2,     7.38, 2,    12.46, 2,     0.00, 2,     0.86, 2,  -999.00, 9,   0.6775,     0.00, 2, 0.01, 2,  -999.00, 9,  -999.00, 9,   0.6260, 2, -999.000, 2, -999.000, 9, 4.176, 2
320620030705, SBI, 134, 1, 104, 4, 2, 20030730, 2354, 73.2356, -160.2548, 535,    284.0,   0.7902,  34.8252, 2,  34.8247, 2,    272.6, 2,    295.4, 2,     6.76, 2,    12.46, 2,     0.00, 2,     0.84, 2,  -999.00, 9,   0.7775,     0.00, 2, 0.01, 2,  -999.00, 9,  -999.00, 9,   0.5590, 2, -999.000, 2, -999.000, 9, 4.205, 2
320620030705, SBI, 134, 1, 103, 3, 2, 20030730, 2350, 73.2356, -160.2548, 535,    374.7,   0.5083,  34.8470, 2,  34.8491, 2,    271.5, 2,    295.1, 2,     8.19, 2,    12.67, 2,     0.00, 2,     0.86, 2,  -999.00, 9,   0.4921,     0.00, 2, 0.03, 2,  -999.00, 9,  -999.00, 9,   0.6190, 2, -999.000, 2, -999.000, 9, 4.233, 2
320620030705, SBI, 134, 1, 102, 2, 2, 20030730, 2345, 73.2356, -160.2548, 535,    496.0,   0.3612,  34.8567, 2,  34.8578, 2,    273.6, 2,    298.1, 2,     7.47, 2,    12.61, 2,     0.00, 2,     0.86, 2,  -999.00, 9,   0.3398,     0.00, 2, 0.01, 2,  -999.00, 9,  -999.00, 9,   0.4440, 2, -999.000, 2, -999.000, 9, 4.170, 2
320620030705, SBI, 134, 1, 101, 1, 2, 20030730, 2342, 73.2356, -160.2548, 535,    535.1,   0.2792,  34.8625, 2,  34.8599, 2,    273.6, 2,    297.9, 2,     7.47, 2,    12.67, 2,     0.00, 2,     0.86, 2,  -999.00, 9,   0.2563,     0.00, 2, 0, 2,  -999.00, 9,  -999.00, 9,   0.6180, 2, -999.000, 2, -999.000, 9, 4.265, 2
320620030705, SBI, 135, 1, 117, 17, 2, 20030730, 203, 73.2007, -160.3298, 355,      1.3,  -1.4577,  28.9369, 2,  28.9326, 2,    346.8, 2,    390.3, 2,     6.83, 2,     0.21, 2,     0.00, 2,     0.70, 2,  -999.00, 9,  -1.4577,     0.11, 2, 0.03, 2,     0.54, 2,     0.07, 2,   1.1950, 2, -999.000, 2, -999.000, 9, 4.130, 2
320620030705, SBI, 135, 1, 116, 16, 2, 20030730, 201, 73.2007, -160.3298, 355,     13.3,  -1.4649,  29.1231, 2, -999.0000, 9,    349.4, 2,    393.4, 2,     7.84, 2,     0.26, 2,     0.00, 2,     0.74, 2,  -999.00, 9,  -1.4651,     0.13, 2, 0.02, 2,     0.71, 2,     0.08, 2,   1.2450, 2, -999.000, 2, -999.000, 9, 3.874, 2
320620030705, SBI, 135, 1, 115, 15, 2, 20030730, 159, 73.2007, -160.3298, 355,     21.2,  -1.5412,  31.0642, 2, -999.0000, 9,    354.9, 2,   -999.0, 9,  -999.00, 9,  -999.00, 9,  -999.00, 9,  -999.00, 9,  -999.00, 9,  -1.5415,  -999.00, 9, -999, 9,  -999.00, 9,  -999.00, 9,   1.8830, 2, -999.000, 2, -999.000, 9, 4.086, 2
320620030705, SBI, 135, 1, 114, 14, 2, 20030730, 159, 73.2007, -160.3298, 355,     21.2,  -1.5427,  31.0791, 2, -999.0000, 9,    356.4, 2,    402.6, 2,    12.75, 2,     0.73, 2,     0.03, 2,     0.91, 2,  -999.00, 9,  -1.5430,     0.20, 2, 0.07, 2,     4.09, 2,     0.85, 2,   1.8470, 2, -999.000, 2, -999.000, 9, 4.095, 2
320620030705, SBI, 135, 1, 113, 13, 2, 20030730, 157, 73.2007, -160.3298, 355,     43.3,  -1.6507,  31.7302, 2, -999.0000, 9,    317.9, 2,    348.6, 2,    24.06, 2,     5.03, 2,     0.14, 2,     1.36, 2,  -999.00, 9,  -1.6514,     1.29, 2, 0.08, 2,     0.33, 2,     0.25, 2,   1.1040, 2, -999.000, 2, -999.000, 9, 4.094, 2
320620030705, SBI, 135, 1, 112, 12, 2, 20030730, 155, 73.2007, -160.3298, 355,     63.3,  -1.5370,  31.9704, 2, -999.0000, 9,    317.6, 2,    351.8, 2,    26.21, 2,     6.02, 2,     0.24, 2,     1.37, 2,  -999.00, 9,  -1.5381,     1.16, 2, 0.04, 2,     0.09, 2,     0.16, 2,   0.9470, 2, -999.000, 2, -999.000, 9, 4.041, 2
320620030705, SBI, 135, 1, 111, 11, 2, 20030730, 153, 73.2007, -160.3298, 355,     83.2,  -1.1463,  32.2687, 2, -999.0000, 9,    306.8, 2,    337.7, 2,    23.10, 2,     6.49, 2,     0.16, 2,     1.38, 2,  -999.00, 9,  -1.1481,     1.19, 2, 0.05, 2,  -999.00, 9,  -999.00, 9,   0.9090, 2, -999.000, 2, -999.000, 9, 4.053, 2
320620030705, SBI, 135, 1, 110, 10, 2, 20030730, 152, 73.2007, -160.3298, 355,    103.0,  -1.6485,  32.5650, 2, -999.0000, 9,    267.9, 2,    292.8, 2,    45.78, 2,    12.87, 2,     0.14, 2,     1.97, 2,  -999.00, 9,  -1.6503,     2.30, 2, 0.05, 2,  -999.00, 9,  -999.00, 9,   0.8420, 2, -999.000, 2, -999.000, 9, 4.416, 2
320620030705, SBI, 135, 1, 109, 9, 2, 20030730, 150, 73.2007, -160.3298, 355,    118.1,  -1.5850,  32.7507, 2, -999.0000, 9,    269.5, 2,    300.2, 2,    33.09, 2,    12.52, 2,     0.05, 2,     1.71, 2,  -999.00, 9,  -1.5872,     0.46, 2, 0.02, 2,  -999.00, 9,  -999.00, 9,   0.8190, 2, -999.000, 2, -999.000, 9, 4.440, 2
320620030705, SBI, 135, 1, 108, 8, 2, 20030730, 148, 73.2007, -160.3298, 355,    133.1,  -1.4583,  33.4443, 2, -999.0000, 9,    271.4, 2,    299.7, 2,    28.63, 2,    13.05, 2,     0.00, 2,     1.56, 2,  -999.00, 9,  -1.4612,    -0.01, 2, 0.01, 2,  -999.00, 9,  -999.00, 9,   0.6960, 2, -999.000, 2, -999.000, 9, 4.441, 2
320620030705, SBI, 135, 1, 107, 7, 2, 20030730, 147, 73.2007, -160.3298, 355,    153.2,  -1.0253,  34.1139, 2, -999.0000, 9,    264.7, 2,    284.4, 2,    20.05, 2,    13.26, 2,     0.01, 2,     1.25, 2,  -999.00, 9,  -1.0294,     0.00, 2, 0.01, 2,  -999.00, 9,  -999.00, 9,   0.7100, 2, -999.000, 2, -999.000, 9, 4.442, 2
320620030705, SBI, 135, 1, 106, 6, 2, 20030730, 145, 73.2007, -160.3298, 355,    173.0,  -0.2298,  34.4787, 2, -999.0000, 9,    253.4, 2,    278.1, 2,    15.00, 2,    13.09, 2,     0.01, 2,     1.09, 2,  -999.00, 9,  -0.2358,     0.00, 2, 0.01, 2,  -999.00, 9,  -999.00, 9,   0.6040, 2, -999.000, 2, -999.000, 9, 4.497, 2
320620030705, SBI, 135, 1, 105, 5, 2, 20030730, 143, 73.2007, -160.3298, 355,    192.8,   0.0895,  34.5984, 2, -999.0000, 9,    256.3, 2,    280.6, 2,    11.40, 2,    12.82, 2,     0.00, 2,     0.96, 2,  -999.00, 9,   0.0823,     0.00, 2, 0, 2,  -999.00, 9,  -999.00, 9,   0.6310, 2, -999.000, 2, -999.000, 9, 4.512, 2
320620030705, SBI, 135, 1, 104, 4, 2, 20030730, 142, 73.2007, -160.3298, 355,    212.2,   0.3868,  34.6889, 2,  34.6936, 2,    260.3, 2,    283.8, 2,     9.65, 2,    12.66, 2,     0.00, 2,     0.91, 2,  -999.00, 9,   0.3782,     0.00, 2, 0, 2,  -999.00, 9,  -999.00, 9,   0.6730, 2, -999.000, 2, -999.000, 9, 4.510, 2
320620030705, SBI, 135, 1, 103, 3, 2, 20030730, 139, 73.2007, -160.3298, 355,    262.0,   0.7358,  34.8128, 2,  34.8163, 2,    267.2, 2,    290.1, 2,     8.61, 2,    12.61, 2,     0.00, 2,     0.88, 2,  -999.00, 9,   0.7243,     0.00, 2, 0, 2,  -999.00, 9,  -999.00, 9,   0.6850, 2, -999.000, 2, -999.000, 9, 4.497, 2
320620030705, SBI, 135, 1, 102, 2, 2, 20030730, 136, 73.2007, -160.3298, 355,    321.7,   0.5702,  34.8406, 2,  34.8420, 2,    266.6, 2,    290.2, 2,     9.83, 2,    12.81, 2,     0.01, 2,     0.90, 2,  -999.00, 9,   0.5563,     0.00, 2, 0, 2,  -999.00, 9,  -999.00, 9,   0.7160, 2, -999.000, 2, -999.000, 9, 4.326, 2
320620030705, SBI, 135, 1, 101, 1, 2, 20030730, 134, 73.2007, -160.3298, 355,    353.0,   0.5452,  34.8443, 2,  34.8454, 2,    268.5, 2,    292.9, 2,     9.11, 2,    12.76, 2,     0.01, 2,     0.88, 2,  -999.00, 9,   0.5299,     0.00, 2, 0.01, 2,  -999.00, 9,  -999.00, 9,   0.6050, 2, -999.000, 2, -999.000, 9, 4.420, 2
320620030705, SBI, 136, 1, 115, 15, 2, 20030730, 347, 73.1635, -160.3616, 293,      1.3,  -1.4622,  29.0484, 2,  29.0464, 2,    351.4, 2,    391.7, 2,     7.93, 2,     0.20, 2,     0.01, 2,     0.72, 2,  -999.00, 9,  -1.4622,     0.15, 2, 0, 2,     0.79, 2,     0.03, 2,   1.2290, 2, -999.000, 2, -999.000, 9, 4.719, 2
320620030705, SBI, 136, 1, 114, 14, 2, 20030730, 345, 73.1635, -160.3616, 293,     20.7,  -1.5062,  30.2259, 2, -999.0000, 9,    364.2, 2,    410.7, 2,     9.26, 2,     0.35, 2,     0.01, 2,     0.81, 2,  -999.00, 9,  -1.5065,     0.16, 2, 0.01, 2,     2.71, 2,     0.02, 2,   1.8220, 2, -999.000, 2, -999.000, 9, 4.693, 2
320620030705, SBI, 136, 1, 113, 13, 2, 20030730, 344, 73.1635, -160.3616, 293,     33.6,  -1.6210,  31.4094, 2, -999.0000, 9,    342.9, 2,    377.5, 2,    15.80, 2,     2.96, 2,     0.09, 2,     1.15, 2,  -999.00, 9,  -1.6215,     1.05, 2, 0.07, 2,     0.99, 2,     0.23, 2,   1.4380, 2, -999.000, 2, -999.000, 9, 4.692, 2
320620030705, SBI, 136, 1, 112, 12, 2, 20030730, 342, 73.1635, -160.3616, 293,     53.7,  -1.5811,  31.7585, 2, -999.0000, 9,    319.7, 2,    356.0, 2,    22.06, 2,     4.91, 2,     0.16, 2,     1.30, 2,  -999.00, 9,  -1.5820,     1.22, 2, 0.06, 2,     0.13, 2,     0.22, 2,   0.9130, 2, -999.000, 2, -999.000, 9, 4.695, 2
320620030705, SBI, 136, 1, 111, 11, 2, 20030730, 341, 73.1635, -160.3616, 293,     73.7,  -1.4371,  32.0515, 2, -999.0000, 9,    308.3, 2,    344.8, 2,    24.74, 2,     6.63, 2,     0.18, 2,     1.39, 2,  -999.00, 9,  -1.4385,     0.96, 2, 0.02, 2,     0.06, 2,     0.13, 2,   0.8330, 2, -999.000, 2, -999.000, 9, 4.679, 2
320620030705, SBI, 136, 1, 110, 10, 2, 20030730, 339, 73.1635, -160.3616, 293,     93.8,  -1.1500,  32.3580, 2, -999.0000, 9,    297.5, 2,    324.1, 2,    28.02, 2,     8.07, 2,     0.15, 2,     1.51, 2,  -999.00, 9,  -1.1520,     1.55, 2, 0.05, 2,  -999.00, 9,  -999.00, 9,   0.9240, 2, -999.000, 2, -999.000, 9, 4.701, 2
320620030705, SBI, 136, 1, 109, 9, 2, 20030730, 338, 73.1635, -160.3616, 293,    108.9,  -1.6984,  32.6813, 2, -999.0000, 9,    252.9, 2,    285.8, 2,    45.61, 2,    14.00, 2,     0.15, 2,     2.00, 2,  -999.00, 9,  -1.7003,     1.93, 2, 0.04, 2,  -999.00, 9,  -999.00, 9,   0.9330, 2, -999.000, 2, -999.000, 9, 4.670, 2
320620030705, SBI, 136, 1, 108, 8, 2, 20030730, 336, 73.1635, -160.3616, 293,    123.8,  -1.5830,  32.9247, 2, -999.0000, 9,    254.5, 2,    287.4, 2,    38.85, 2,    13.64, 2,     0.12, 2,     1.81, 2,  -999.00, 9,  -1.5854,     0.94, 2, 0.03, 2,  -999.00, 9,  -999.00, 9,   0.9800, 2, -999.000, 2, -999.000, 9, 4.669, 2
320620030705, SBI, 136, 1, 107, 7, 2, 20030730, 335, 73.1635, -160.3616, 293,    139.0,  -1.3114,  33.6794, 2, -999.0000, 9,    263.8, 2,    288.9, 2,    26.35, 2,    13.39, 2,     0.04, 2,     1.46, 2,  -999.00, 9,  -1.3146,     0.00, 2, 0.01, 2,  -999.00, 9,  -999.00, 9,   0.8120, 2, -999.000, 2, -999.000, 9, 4.723, 2
320620030705, SBI, 136, 1, 106, 6, 2, 20030730, 333, 73.1635, -160.3616, 293,    154.0,  -0.8602,  34.1912, 2, -999.0000, 9,    256.3, 2,    281.0, 2,    21.10, 2,    13.56, 2,     0.03, 2,     1.28, 2,  -999.00, 9,  -0.8646,     0.00, 2, 0.02, 2,  -999.00, 9,  -999.00, 9,   0.7280, 2, -999.000, 2, -999.000, 9, 4.756, 2
320620030705, SBI, 136, 1, 105, 5, 2, 20030730, 332, 73.1635, -160.3616, 293,    174.1,  -0.1681,  34.5120, 2, -999.0000, 9,    249.4, 2,    277.5, 2,    13.93, 2,    12.92, 2,     0.01, 2,     1.04, 2,  -999.00, 9,  -0.1742,    -0.01, 2, 0.01, 2,  -999.00, 9,  -999.00, 9,   0.7610, 2, -999.000, 2, -999.000, 9, 4.757, 2
320620030705, SBI, 136, 1, 104, 4, 2, 20030730, 330, 73.1635, -160.3616, 293,    194.1,   0.1848,  34.6300, 2, -999.0000, 9,    254.4, 2,    280.8, 2,    10.76, 2,    12.71, 2,     0.01, 2,     0.94, 2,  -999.00, 9,   0.1773,     0.00, 2, 0.01, 2,  -999.00, 9,  -999.00, 9,   0.6850, 2, -999.000, 2, -999.000, 9, 4.728, 2
320620030705, SBI, 136, 1, 103, 3, 2, 20030730, 328, 73.1635, -160.3616, 293,    224.3,   0.5141,  34.7242, 2,  34.7345, 2,    259.8, 2,    285.8, 2,     9.02, 2,    12.60, 2,     0.01, 2,     0.89, 2,  -999.00, 9,   0.5047,     0.00, 2, 0.03, 2,  -999.00, 9,  -999.00, 9,   0.6880, 2, -999.000, 2, -999.000, 9, 4.712, 2
320620030705, SBI, 136, 1, 102, 2, 2, 20030730, 326, 73.1635, -160.3616, 293,    264.3,   0.6659,  34.7974, 2,  34.8015, 2,    260.1, 2,    285.6, 2,    10.65, 2,    12.74, 2,     0.03, 2,     0.92, 2,  -999.00, 9,   0.6544,     0.00, 2, 0.02, 2,  -999.00, 9,  -999.00, 9,   0.7130, 2, -999.000, 2, -999.000, 9, 4.701, 2
320620030705, SBI, 136, 1, 101, 1, 2, 20030730, 324, 73.1635, -160.3616, 293,    288.1,   0.6673,  34.8085, 2,  34.8094, 2,    260.9, 2,    286.1, 2,    10.76, 2,    12.74, 2,     0.03, 2,     0.93, 2,  -999.00, 9,   0.6547,     0.01, 2, 0.03, 2,  -999.00, 9,  -999.00, 9,   0.7600, 2, -999.000, 2, -999.000, 9, 4.688, 2