BOTTLE,20100423CCHDOSIODBK
EXPOCODE,SECT_ID,STNNBR,CASTNO,SAMPNO,BTLNBR,BTLNBR_FLAG_W,DATE,TIME,LATITUDE,LONGITUDE,DEPTH,CTDPRS,CTDTMP,CTDSAL,CTDSAL_FLAG_W,SALNTY,SALNTY_FLAG_W,CTDOXY,CTDOXY_FLAG_W,OXYGEN,OXYGEN_FLAG_W,SILCAT,SILCAT_FLAG_W,NITRAT,NITRAT_FLAG_W,NITRIT,NITRIT_FLAG_W,PHSPHT,PHSPHT_FLAG_W,DOC,DOC_FLAG_W,THETA,NH4,NH4_FLAG_W,UREA,UREA_FLAG_W,CHLORA,CHLORA_FLAG_W,PPHYTN,PPHYTN_FLAG_W,FLUOR,FLUOR_FLAG_W,HAARDT,HAARDT_FLAG_W,PAR,PAR_FLAG_W,SPAR,SPAR_FLAG_W
,,,,,,,,,,,METERS,DBAR,ITS-90,PSS-78,,PSS-78,,UMOL/KG,,UMOL/KG,,UMOL/KG,,UMOL/KG,,UMOL/KG,,UMOL/KG,,UMOL/KG,,DEG C,UMOL/KG,,UMOL/KG,,UG/KG,,UG/KG,,MG/M^3,,VOLTS,,VOLTS,,VOLTS,
320620030705, SBI, 124, 1, 124, 24, 2, 20030727, 1246, 73.8970, -159.0711, 3240,      2.2,  -1.2985,  28.6192, 2,  28.8903, 2,    354.0, 2,    391.2, 2,     4.59, 2,     0.09, 2,     0.00, 2,     0.69, 2,  -999.00, 9,  -1.2985,     0.08, 2, 0, 2,     0.19, 2,     0.05, 2,   0.8910, 2, -999.000, 2, -999.000, 9, 4.965, 2
320620030705, SBI, 124, 1, 123, 23, 2, 20030727, 1244, 73.8970, -159.0711, 3240,     21.4,  -1.2024,  30.5318, 2, -999.0000, 9,    377.0, 2,    402.5, 2,     8.17, 2,     0.65, 2,     0.04, 2,     0.82, 2,  -999.00, 9,  -1.2028,     0.09, 2, 0.01, 2,     0.63, 2,     0.05, 2,   1.3490, 2, -999.000, 2, -999.000, 9, 4.971, 2
320620030705, SBI, 124, 1, 122, 22, 2, 20030727, 1240, 73.8970, -159.0711, 3240,     31.6,  -1.5326,  31.3544, 2, -999.0000, 9,    346.0, 2,    378.2, 2,    14.31, 2,     3.46, 2,     0.17, 2,     1.08, 2,  -999.00, 9,  -1.5331,     0.26, 2, 0.03, 2,     0.46, 2,     0.27, 2,   1.2510, 2, -999.000, 2, -999.000, 9, 4.972, 2
320620030705, SBI, 124, 1, 121, 21, 2, 20030727, 1237, 73.8970, -159.0711, 3240,     49.3,  -1.5693,  31.7530, 2, -999.0000, 9,    317.3, 2,    346.7, 2,    25.22, 2,     6.56, 2,     0.24, 2,     1.37, 2,  -999.00, 9,  -1.5701,     0.67, 2, 0.03, 2,     0.20, 2,     0.14, 2,   1.0640, 2, -999.000, 2, -999.000, 9, 4.971, 2
320620030705, SBI, 124, 1, 120, 20, 2, 20030727, 1234, 73.8970, -159.0711, 3240,     69.3,  -1.6216,  32.0398, 2, -999.0000, 9,    317.5, 2,    347.2, 2,    26.60, 2,     6.95, 2,     0.17, 2,     1.43, 2,  -999.00, 9,  -1.6228,     0.94, 2, 0.03, 2,     0.07, 2,     0.06, 2,   0.7770, 2, -999.000, 2, -999.000, 9, 4.967, 2
320620030705, SBI, 124, 1, 119, 19, 2, 20030727, 1232, 73.8970, -159.0711, 3240,     84.6,  -1.5970,  32.2161, 2, -999.0000, 9,    310.7, 2,    342.9, 2,    26.69, 2,     7.67, 2,     0.14, 2,     1.46, 2,  -999.00, 9,  -1.5985,     1.04, 2, 0.02, 2,  -999.00, 9,  -999.00, 9,   0.7780, 2, -999.000, 2, -999.000, 9, 4.968, 2
320620030705, SBI, 124, 1, 118, 18, 2, 20030727, 1230, 73.8970, -159.0711, 3240,     99.5,  -1.4974,  32.3761, 2, -999.0000, 9,    290.0, 2,    327.6, 2,    25.79, 2,     9.13, 2,     0.10, 2,     1.50, 2,  -999.00, 9,  -1.4993,     0.44, 2, 0.02, 2,  -999.00, 9,  -999.00, 9,   0.8230, 2, -999.000, 2, -999.000, 9, 4.966, 2
320620030705, SBI, 124, 1, 117, 17, 2, 20030727, 1228, 73.8970, -159.0711, 3240,    114.4,  -1.4852,  32.5234, 2, -999.0000, 9,    278.2, 2,    304.2, 2,    26.78, 2,    11.86, 2,     0.01, 2,     1.63, 2,  -999.00, 9,  -1.4874,     0.03, 2, 0.03, 2,  -999.00, 9,  -999.00, 9,   0.7690, 2, -999.000, 2, -999.000, 9, 4.960, 2
320620030705, SBI, 124, 1, 116, 16, 2, 20030727, 1226, 73.8970, -159.0711, 3240,    128.9,  -1.4984,  32.7079, 2, -999.0000, 9,    268.3, 2,    294.8, 2,    30.04, 2,    13.33, 2,     0.01, 2,     1.72, 2,  -999.00, 9,  -1.5009,     0.02, 2, 0.01, 2,  -999.00, 9,  -999.00, 9,   0.6820, 2, -999.000, 2, -999.000, 9, 4.962, 2
320620030705, SBI, 124, 1, 115, 15, 2, 20030727, 1224, 73.8970, -159.0711, 3240,    144.8,  -1.5891,  32.9108, 2, -999.0000, 9,    272.3, 2,    299.5, 2,    30.83, 2,    13.17, 2,     0.01, 2,     1.68, 2,  -999.00, 9,  -1.5919,     0.01, 2, 0.01, 2,  -999.00, 9,  -999.00, 9,   0.8720, 2, -999.000, 2, -999.000, 9, 4.964, 2
320620030705, SBI, 124, 1, 114, 14, 2, 20030727, 1222, 73.8970, -159.0711, 3240,    164.5,  -1.5411,  33.2333, 2, -999.0000, 9,    265.4, 2,    291.2, 2,    32.60, 2,    14.22, 2,     0.01, 2,     1.70, 2,  -999.00, 9,  -1.5445,     0.01, 2, 0.01, 2,  -999.00, 9,  -999.00, 9,   0.6450, 2, -999.000, 2, -999.000, 9, 4.965, 2
320620030705, SBI, 124, 1, 113, 13, 2, 20030727, 1220, 73.8970, -159.0711, 3240,    184.8,  -1.4057,  33.6193, 2, -999.0000, 9,    260.5, 2,    286.6, 2,    31.10, 2,    14.43, 2,     0.01, 2,     1.63, 2,  -999.00, 9,  -1.4099,     0.01, 2, 0.02, 2,  -999.00, 9,  -999.00, 9,   0.6340, 2, -999.000, 2, -999.000, 9, 4.965, 2
320620030705, SBI, 124, 1, 112, 12, 2, 20030727, 1218, 73.8970, -159.0711, 3240,    204.8,  -1.1344,  34.0061, 2, -999.0000, 9,    251.8, 2,    277.6, 2,    25.72, 2,    14.16, 2,     0.01, 2,     1.43, 2,  -999.00, 9,  -1.1397,     0.01, 2, 0.02, 2,  -999.00, 9,  -999.00, 9,   0.7040, 2, -999.000, 2, -999.000, 9, 4.963, 2
320620030705, SBI, 124, 1, 111, 11, 2, 20030727, 1216, 73.8970, -159.0711, 3240,    224.8,  -0.7730,  34.3033, 2, -999.0000, 9,    256.8, 2,    278.6, 2,    19.55, 2,    13.53, 2,     0.01, 2,     1.23, 2,  -999.00, 9,  -0.7797,     0.00, 2, 0.02, 2,  -999.00, 9,  -999.00, 9,   0.6510, 2, -999.000, 2, -999.000, 9, 4.965, 2
320620030705, SBI, 124, 1, 110, 10, 2, 20030727, 1213, 73.8970, -159.0711, 3240,    255.1,   0.0706,  34.5991, 2,  34.6352, 2,    254.8, 2,    279.3, 2,    11.51, 2,    12.79, 2,     0.01, 2,     0.97, 2,  -999.00, 9,   0.0609,     0.00, 2, 0.02, 2,  -999.00, 9,  -999.00, 9,   0.5770, 2, -999.000, 2, -999.000, 9, 4.967, 2
320620030705, SBI, 124, 1, 109, 9, 2, 20030727, 1209, 73.8970, -159.0711, 3240,    355.8,   0.8673,  34.8179, 2,  34.8187, 2,    272.2, 2,    293.7, 2,     7.05, 2,    12.48, 2,     0.00, 2,     0.86, 2,  -999.00, 9,   0.8509,     0.00, 2, 0.01, 2,  -999.00, 9,  -999.00, 9,   0.5320, 2, -999.000, 2, -999.000, 9, 4.965, 2
320620030705, SBI, 124, 1, 108, 8, 2, 20030727, 1205, 73.8970, -159.0711, 3240,    506.6,   0.5889,  34.8467, 2,  34.8478, 2,    273.4, 2,    296.8, 2,     7.04, 2,    12.59, 2,     0.00, 2,     0.87, 2,  -999.00, 9,   0.5661,     0.00, 2, 0.01, 2,  -999.00, 9,  -999.00, 9,   0.5730, 2, -999.000, 2, -999.000, 9, 4.969, 2
320620030705, SBI, 124, 1, 107, 7, 2, 20030727, 1158, 73.8970, -159.0711, 3240,    758.3,   0.1939,  34.8657, 2,  34.8670, 2,    273.7, 2,    300.4, 2,     7.13, 2,    12.69, 2,     0.00, 2,     0.88, 2,  -999.00, 9,   0.1605,     0.00, 2, 0, 2,  -999.00, 9,  -999.00, 9,   0.6250, 2, -999.000, 2, -999.000, 9, 4.972, 2
320620030705, SBI, 124, 1, 106, 6, 2, 20030727, 1151, 73.8970, -159.0711, 3240,   1010.5,  -0.0438,  34.8814, 2,  34.8825, 2,    272.4, 2,    299.4, 2,     7.82, 2,    12.90, 2,     0.00, 2,     0.90, 2,  -999.00, 9,  -0.0886,     0.00, 2, 0, 2,  -999.00, 9,  -999.00, 9,   0.5550, 2, -999.000, 2, -999.000, 9, 4.975, 2
320620030705, SBI, 124, 1, 105, 5, 2, 20030727, 1140, 73.8970, -159.0711, 3240,   1515.3,  -0.3128,  34.9119, 2,  34.9123, 2,    269.2, 2,    298.5, 2,     8.90, 2,    13.49, 2,     0.00, 2,     0.94, 2,  -999.00, 9,  -0.3835,     0.00, 2, 0.01, 2,  -999.00, 9,  -999.00, 9,   0.7660, 2, -999.000, 2, -999.000, 9, 4.979, 2
320620030705, SBI, 124, 1, 104, 4, 2, 20030727, 1128, 73.8970, -159.0711, 3240,   2022.1,  -0.4024,  34.9404, 2,  34.9398, 2,    260.6, 2,    290.1, 2,    11.86, 2,    14.27, 2,     0.00, 2,     1.01, 2,  -999.00, 9,  -0.5043,     0.00, 2, 0.01, 2,  -999.00, 9,  -999.00, 9,   0.7430, 2, -999.000, 2, -999.000, 9, 4.977, 2
320620030705, SBI, 124, 1, 103, 3, 2, 20030727, 1114, 73.8970, -159.0711, 3240,   2632.0,  -0.3658,  34.9518, 2,  34.9523, 2,    256.2, 2,    285.8, 2,    13.05, 2,    14.69, 2,     0.00, 2,     1.03, 2,  -999.00, 9,  -0.5127,     0.00, 2, 0, 2,  -999.00, 9,  -999.00, 9,   0.5140, 2, -999.000, 2, -999.000, 9, 4.981, 2
320620030705, SBI, 124, 1, 102, 2, 2, 20030727, 1101, 73.8970, -159.0711, 3240,   3191.9,  -0.3182,  34.9555, 2,  34.9547, 2,    255.0, 2,    284.2, 2,    13.63, 2,    14.75, 2,     0.00, 2,     1.03, 2,  -999.00, 9,  -0.5122,     0.00, 2, 0, 2,  -999.00, 9,  -999.00, 9,   0.4970, 2, -999.000, 2, -999.000, 9, 4.986, 2
320620030705, SBI, 124, 1, 101, 1, 2, 20030727, 1057, 73.8970, -159.0711, 3240,   3291.9,  -0.3083,  34.9558, 2,  34.9550, 2,    255.1, 2,    283.6, 2,    13.73, 2,    14.69, 2,     0.00, 2,     1.03, 2,  -999.00, 9,  -0.5113,     0.00, 2, 0, 2,  -999.00, 9,  -999.00, 9,   0.4880, 2, -999.000, 2, -999.000, 9, 4.984, 2
320620030705, SBI, 125, 1, 124, 24, 2, 20030727, 1706, 73.7818, -159.2878, 2988,      2.2,  -1.1982,  28.9487, 2,  28.9289, 2,    354.0, 2,    387.1, 2,     6.42, 2,     0.14, 2,     0.00, 2,     0.70, 2,  -999.00, 9,  -1.1982,     0.12, 2, 0, 2,     0.36, 2,     0.08, 2,   0.9490, 2, -999.000, 2, -999.000, 9, 4.763, 2
320620030705, SBI, 125, 1, 123, 23, 2, 20030727, 1704, 73.7818, -159.2878, 2988,     20.8,  -1.2016,  30.5669, 2,  30.5638, 2,    371.8, 2,    409.0, 2,     5.02, 2,     0.08, 2,     0.00, 2,     0.76, 2,  -999.00, 9,  -1.2020,     0.08, 2, 0, 2,     0.18, 2,     0.05, 2,   1.0370, 2, -999.000, 2, -999.000, 9, 4.805, 2
320620030705, SBI, 125, 1, 122, 22, 2, 20030727, 1702, 73.7818, -159.2878, 2988,     33.9,  -1.1697,  31.4256, 2, -999.0000, 9,    342.1, 2,    369.0, 2,    15.15, 2,     3.83, 2,     0.19, 2,     1.11, 2,  -999.00, 9,  -1.1703,     0.22, 2, 0, 2,     0.39, 2,     0.34, 2,   1.2840, 2, -999.000, 2, -999.000, 9, 4.810, 2
320620030705, SBI, 125, 1, 121, 21, 2, 20030727, 1701, 73.7818, -159.2878, 2988,     48.8,  -1.1260,  31.8222, 2, -999.0000, 9,    319.9, 2,    348.4, 2,    19.91, 2,     6.10, 2,     0.11, 2,     1.29, 2,  -999.00, 9,  -1.1270,     0.40, 2, 0, 2,     0.17, 2,     0.14, 2,   0.9920, 2, -999.000, 2, -999.000, 9, 4.779, 2
320620030705, SBI, 125, 1, 120, 20, 2, 20030727, 1659, 73.7818, -159.2878, 2988,     63.6,  -1.6270,  32.0209, 2, -999.0000, 9,    315.2, 2,    347.3, 2,    27.97, 2,     7.10, 2,     0.19, 2,     1.44, 2,  -999.00, 9,  -1.6281,     1.00, 2, 0.01, 2,     0.07, 2,     0.06, 2,   0.7800, 2, -999.000, 2, -999.000, 9, 4.828, 2
320620030705, SBI, 125, 1, 119, 19, 2, 20030727, 1657, 73.7818, -159.2878, 2988,     78.4,  -1.6310,  32.1840, 2, -999.0000, 9,    317.9, 2,    352.3, 2,    28.16, 2,     6.67, 2,     0.19, 2,     1.45, 2,  -999.00, 9,  -1.6323,     1.59, 2, 0.01, 2,  -999.00, 9,  -999.00, 9,   0.7850, 2, -999.000, 2, -999.000, 9, 4.818, 2
320620030705, SBI, 125, 1, 118, 18, 2, 20030727, 1656, 73.7818, -159.2878, 2988,     93.4,  -1.5916,  32.3080, 2, -999.0000, 9,    306.4, 2,    336.2, 2,    27.66, 2,     8.71, 2,     0.12, 2,     1.50, 2,  -999.00, 9,  -1.5933,     0.75, 2, 0, 2,  -999.00, 9,  -999.00, 9,   0.7040, 2, -999.000, 2, -999.000, 9, 4.834, 2
320620030705, SBI, 125, 1, 117, 17, 2, 20030727, 1654, 73.7818, -159.2878, 2988,    108.3,  -1.5735,  32.4540, 2, -999.0000, 9,    295.1, 2,    324.6, 2,    26.45, 2,     9.41, 2,     0.11, 2,     1.51, 2,  -999.00, 9,  -1.5755,     0.24, 2, 0, 2,  -999.00, 9,  -999.00, 9,   0.7310, 2, -999.000, 2, -999.000, 9, 4.797, 2
320620030705, SBI, 125, 1, 116, 16, 2, 20030727, 1652, 73.7818, -159.2878, 2988,    123.9,  -1.6013,  32.5366, 2, -999.0000, 9,    285.1, 2,    311.0, 2,    28.15, 2,    11.07, 2,     0.03, 2,     1.59, 2,  -999.00, 9,  -1.6036,     0.04, 2, 0, 2,  -999.00, 9,  -999.00, 9,   0.7010, 2, -999.000, 2, -999.000, 9, 4.791, 2
320620030705, SBI, 125, 1, 115, 15, 2, 20030727, 1650, 73.7818, -159.2878, 2988,    143.4,  -1.5772,  32.8230, 2, -999.0000, 9,    273.1, 2,    299.5, 2,    30.72, 2,    13.14, 2,     0.00, 2,     1.68, 2,  -999.00, 9,  -1.5800,     0.03, 2, 0.01, 2,  -999.00, 9,  -999.00, 9,   0.9530, 2, -999.000, 2, -999.000, 9, 4.821, 2
320620030705, SBI, 125, 1, 114, 14, 2, 20030727, 1648, 73.7818, -159.2878, 2988,    165.5,  -1.5278,  33.2839, 2, -999.0000, 9,    271.1, 2,    298.8, 2,    31.21, 2,    13.25, 2,     0.00, 2,     1.63, 2,  -999.00, 9,  -1.5313,     0.02, 2, 0.02, 2,  -999.00, 9,  -999.00, 9,   0.7340, 2, -999.000, 2, -999.000, 9, 4.837, 2
320620030705, SBI, 125, 1, 113, 13, 2, 20030727, 1647, 73.7818, -159.2878, 2988,    185.6,  -1.3728,  33.8291, 2, -999.0000, 9,    270.1, 2,    293.0, 2,    27.61, 2,    13.76, 2,     0.01, 2,     1.51, 2,  -999.00, 9,  -1.3772,     0.01, 2, 0.02, 2,  -999.00, 9,  -999.00, 9,   0.6140, 2, -999.000, 2, -999.000, 9, 4.825, 2
320620030705, SBI, 125, 1, 112, 12, 2, 20030727, 1645, 73.7818, -159.2878, 2988,    205.4,  -0.9499,  34.2114, 2, -999.0000, 9,    259.8, 2,    281.1, 2,    21.03, 2,    13.71, 2,     0.01, 2,     1.28, 2,  -999.00, 9,  -0.9557,     0.01, 2, 0.02, 2,  -999.00, 9,  -999.00, 9,   0.7360, 2, -999.000, 2, -999.000, 9, 4.831, 2
320620030705, SBI, 125, 1, 111, 11, 2, 20030727, 1643, 73.7818, -159.2878, 2988,    242.2,   0.1052,  34.6084, 2,  34.6027, 2,    255.6, 2,    277.0, 2,    12.79, 2,    13.03, 2,     0.01, 2,     1.00, 2,  -999.00, 9,   0.0960,     0.00, 2, 0.02, 2,  -999.00, 9,  -999.00, 9,   0.7760, 2, -999.000, 2, -999.000, 9, 4.866, 2
320620030705, SBI, 125, 1, 110, 10, 2, 20030727, 1640, 73.7818, -159.2878, 2988,    291.7,   0.6037,  34.7549, 2,  34.7634, 2,    264.8, 2,    287.0, 2,     8.61, 2,    12.72, 2,     0.00, 2,     0.90, 2,  -999.00, 9,   0.5911,     0.00, 2, 0.01, 2,  -999.00, 9,  -999.00, 9,   0.5640, 2, -999.000, 2, -999.000, 9, 4.878, 2
320620030705, SBI, 125, 1, 109, 9, 2, 20030727, 1637, 73.7818, -159.2878, 2988,    343.2,   0.8050,  34.8136, 2,  34.8162, 2,    270.9, 2,    292.7, 2,     7.32, 2,    12.50, 2,     0.00, 2,     0.86, 2,  -999.00, 9,   0.7894,     0.00, 2, 0.01, 2,  -999.00, 9,  -999.00, 9,   0.7660, 2, -999.000, 2, -999.000, 9, 4.884, 2
320620030705, SBI, 125, 1, 108, 8, 2, 20030727, 1633, 73.7818, -159.2878, 2988,    449.2,   0.6421,  34.8420, 2,  34.8439, 2,    272.9, 2,    296.9, 2,     7.21, 2,    12.67, 2,     0.00, 2,     0.87, 2,  -999.00, 9,   0.6219,     0.00, 2, 0.01, 2,  -999.00, 9,  -999.00, 9,   0.5810, 2, -999.000, 2, -999.000, 9, 4.877, 2
320620030705, SBI, 125, 1, 107, 7, 2, 20030727, 1624, 73.7818, -159.2878, 2988,    803.7,   0.1181,  34.8685, 2,  34.8702, 2,    273.7, 2,    299.7, 2,     7.41, 2,    12.67, 2,     0.00, 2,     0.88, 2,  -999.00, 9,   0.0829,     0.01, 2, 0.01, 2,  -999.00, 9,  -999.00, 9,   0.8530, 2, -999.000, 2, -999.000, 9, 4.878, 2
320620030705, SBI, 125, 1, 106, 6, 2, 20030727, 1615, 73.7818, -159.2878, 2988,   1206.5,  -0.2094,  34.8966, 2,  34.8974, 2,    271.7, 2,    300.3, 2,     8.30, 2,    13.13, 2,     0.00, 2,     0.91, 2,  -999.00, 9,  -0.2634,     0.00, 2, 0.01, 2,  -999.00, 9,  -999.00, 9,   0.5240, 2, -999.000, 2, -999.000, 9, 4.885, 2
320620030705, SBI, 125, 1, 105, 5, 2, 20030727, 1605, 73.7818, -159.2878, 2988,   1598.2,  -0.3733,  34.9233, 2,  34.9243, 2,    267.1, 2,    295.9, 2,     9.98, 2,    13.82, 2,     0.00, 2,     0.96, 2,  -999.00, 9,  -0.4483,     0.00, 2, 0.01, 2,  -999.00, 9,  -999.00, 9,   0.6640, 2, -999.000, 2, -999.000, 9, 4.879, 2
320620030705, SBI, 125, 1, 104, 4, 2, 20030727, 1554, 73.7818, -159.2878, 2988,   2002.2,  -0.4054,  34.9412, 2,  34.9396, 2,    260.7, 2,    290.3, 2,    11.95, 2,    14.39, 2,     0.00, 2,     1.01, 2,  -999.00, 9,  -0.5059,     0.00, 2, 0.01, 2,  -999.00, 9,  -999.00, 9,   0.8030, 2, -999.000, 2, -999.000, 9, 4.891, 2
320620030705, SBI, 125, 1, 103, 3, 2, 20030727, 1544, 73.7818, -159.2878, 2988,   2430.1,  -0.3822,  34.9493, 2,  34.9500, 2,    257.6, 2,    286.5, 2,    12.95, 2,    14.61, 2,     0.00, 2,     1.02, 2,  -999.00, 9,  -0.5135,     0.00, 2, 0, 2,  -999.00, 9,  -999.00, 9,   0.4230, 2, -999.000, 2, -999.000, 9, 4.890, 2
320620030705, SBI, 125, 1, 102, 2, 2, 20030727, 1532, 73.7818, -159.2878, 2988,   2917.7,  -0.3433,  34.9540, 2,  34.9527, 2,    256.3, 2,    285.0, 2,    13.53, 2,    14.72, 2,     0.00, 2,     1.03, 2,  -999.00, 9,  -0.5136,     0.00, 2, 0, 2,  -999.00, 9,  -999.00, 9,   0.4630, 2, -999.000, 2, -999.000, 9, 4.886, 2
320620030705, SBI, 125, 1, 101, 1, 2, 20030727, 1529, 73.7818, -159.2878, 2988,   3024.8,  -0.3303,  34.9555, 2,  34.9544, 2,    255.1, 2,    284.9, 2,    14.02, 2,    14.77, 2,     0.00, 2,     1.03, 2,  -999.00, 9,  -0.5098,     0.00, 2, 0, 2,  -999.00, 9,  -999.00, 9,   0.4070, 2, -999.000, 2, -999.000, 9, 4.879, 2