BOTTLE,20100423CCHDOSIODBK
EXPOCODE,SECT_ID,STNNBR,CASTNO,SAMPNO,BTLNBR,BTLNBR_FLAG_W,DATE,TIME,LATITUDE,LONGITUDE,DEPTH,CTDPRS,CTDTMP,CTDSAL,CTDSAL_FLAG_W,SALNTY,SALNTY_FLAG_W,CTDOXY,CTDOXY_FLAG_W,OXYGEN,OXYGEN_FLAG_W,SILCAT,SILCAT_FLAG_W,NITRAT,NITRAT_FLAG_W,NITRIT,NITRIT_FLAG_W,PHSPHT,PHSPHT_FLAG_W,DOC,DOC_FLAG_W,THETA,NH4,NH4_FLAG_W,UREA,UREA_FLAG_W,CHLORA,CHLORA_FLAG_W,PPHYTN,PPHYTN_FLAG_W,FLUOR,FLUOR_FLAG_W,HAARDT,HAARDT_FLAG_W,PAR,PAR_FLAG_W,SPAR,SPAR_FLAG_W
,,,,,,,,,,,METERS,DBAR,ITS-90,PSS-78,,PSS-78,,UMOL/KG,,UMOL/KG,,UMOL/KG,,UMOL/KG,,UMOL/KG,,UMOL/KG,,UMOL/KG,,DEG C,UMOL/KG,,UMOL/KG,,UG/KG,,UG/KG,,MG/M^3,,VOLTS,,VOLTS,,VOLTS,
320620030705, SBI, 122, 1, 124, 24, 2, 20030727, 209, 73.9731, -158.2414, 3634,      1.6,  -1.1867,  28.2848, 2,  28.3434, 2,    353.3, 2,    386.3, 2,     3.42, 2,     0.14, 2,     0.00, 2,     0.65, 2,  -999.00, 9,  -1.1867,     0.06, 2, 0, 2,     0.09, 2,     0.02, 2,   0.5930, 2, -999.000, 2, -999.000, 9, 4.630, 2
320620030705, SBI, 122, 1, 123, 23, 2, 20030727, 208, 73.9731, -158.2414, 3634,     19.2,  -1.1451,  30.3597, 2, -999.0000, 9,    373.4, 2,    408.4, 2,     4.90, 2,     0.14, 2,     0.00, 2,     0.76, 2,  -999.00, 9,  -1.1454,     0.03, 2, 0.02, 2,     0.31, 2,     0.09, 2,   0.8490, 2, -999.000, 2, -999.000, 9, 4.562, 2
320620030705, SBI, 122, 1, 122, 22, 2, 20030727, 206, 73.9731, -158.2414, 3634,     39.1,  -1.5144,  31.4175, 2, -999.0000, 9,    354.8, 2,    382.9, 2,    13.16, 2,     2.97, 2,     0.14, 2,     1.04, 2,  -999.00, 9,  -1.5150,     0.21, 2, 0.02, 2,     5.74, 2,     0.19, 2,   2.2070, 2, -999.000, 2, -999.000, 9, 4.573, 2
320620030705, SBI, 122, 1, 121, 21, 2, 20030727, 206, 73.9731, -158.2414, 3634,     39.1,  -1.5204,  31.4256, 2, -999.0000, 9,    356.9, 2,   -999.0, 9,  -999.00, 9,  -999.00, 9,  -999.00, 9,  -999.00, 9,  -999.00, 9,  -1.5210,  -999.00, 9, -999, 9,  -999.00, 9,  -999.00, 9,   2.3970, 2, -999.000, 2, -999.000, 9, 4.579, 2
320620030705, SBI, 122, 1, 120, 20, 2, 20030727, 204, 73.9731, -158.2414, 3634,     49.3,  -1.3906,  31.5555, 2, -999.0000, 9,    332.7, 2,    355.7, 2,    19.32, 2,     5.56, 2,     0.17, 2,     1.24, 2,  -999.00, 9,  -1.3915,     0.25, 2, 0.01, 2,     0.32, 2,     0.25, 2,   1.2750, 2, -999.000, 2, -999.000, 9, 4.555, 2
320620030705, SBI, 122, 1, 119, 19, 2, 20030727, 202, 73.9731, -158.2414, 3634,     64.2,  -1.3155,  31.9029, 2, -999.0000, 9,    312.0, 2,    340.7, 2,    17.60, 2,     7.20, 2,     0.01, 2,     1.31, 2,  -999.00, 9,  -1.3167,     0.02, 2, 0.02, 2,     0.12, 2,     0.06, 2,   0.8690, 2, -999.000, 2, -999.000, 9, 4.580, 2
320620030705, SBI, 122, 1, 118, 18, 2, 20030727, 201, 73.9731, -158.2414, 3634,     79.3,  -1.3224,  32.1609, 2, -999.0000, 9,    301.0, 2,    333.2, 2,    23.56, 2,     8.73, 2,     0.07, 2,     1.45, 2,  -999.00, 9,  -1.3240,     0.25, 2, 0, 2,  -999.00, 9,  -999.00, 9,   0.8000, 2, -999.000, 2, -999.000, 9, 4.473, 2
320620030705, SBI, 122, 1, 117, 17, 2, 20030727, 200, 73.9731, -158.2414, 3634,     94.3,  -1.5155,  32.3839, 2, -999.0000, 9,    290.9, 2,    315.2, 2,    26.23, 2,    10.80, 2,     0.03, 2,     1.57, 2,  -999.00, 9,  -1.5172,     0.00, 2, 0, 2,  -999.00, 9,  -999.00, 9,   0.6610, 2, -999.000, 2, -999.000, 9, 4.511, 2
320620030705, SBI, 122, 1, 116, 16, 2, 20030727, 158, 73.9731, -158.2414, 3634,    109.4,  -1.5691,  32.5822, 2, -999.0000, 9,    281.5, 2,    307.2, 2,    28.40, 2,    11.72, 2,     0.00, 2,     1.63, 2,  -999.00, 9,  -1.5711,     0.00, 2, 0, 2,  -999.00, 9,  -999.00, 9,   0.6530, 2, -999.000, 2, -999.000, 9, 4.548, 2
320620030705, SBI, 122, 1, 115, 15, 2, 20030727, 157, 73.9731, -158.2414, 3634,    124.6,  -1.5461,  32.7624, 2, -999.0000, 9,    270.4, 2,    292.1, 2,    31.96, 2,    14.10, 2,     0.00, 2,     1.76, 2,  -999.00, 9,  -1.5485,     0.01, 2, 0.01, 2,  -999.00, 9,  -999.00, 9,   0.8520, 2, -999.000, 2, -999.000, 9, 4.377, 2
320620030705, SBI, 122, 1, 114, 14, 2, 20030727, 155, 73.9731, -158.2414, 3634,    139.6,  -1.5581,  32.9388, 2, -999.0000, 9,    261.9, 2,    287.5, 2,    34.43, 2,    14.99, 2,     0.00, 2,     1.81, 2,  -999.00, 9,  -1.5608,     0.00, 2, 0, 2,  -999.00, 9,  -999.00, 9,   0.6570, 2, -999.000, 2, -999.000, 9, 4.560, 2
320620030705, SBI, 122, 1, 113, 13, 2, 20030727, 154, 73.9731, -158.2414, 3634,    154.6,  -1.5593,  33.0767, 2, -999.0000, 9,    259.8, 2,    284.2, 2,    35.40, 2,    15.35, 2,     0.00, 2,     1.83, 2,  -999.00, 9,  -1.5624,     0.00, 2, 0, 2,  -999.00, 9,  -999.00, 9,   0.8160, 2, -999.000, 2, -999.000, 9, 4.586, 2
320620030705, SBI, 122, 1, 112, 12, 2, 20030727, 153, 73.9731, -158.2414, 3634,    169.6,  -1.5417,  33.2544, 2, -999.0000, 9,    259.5, 2,    284.2, 2,    35.67, 2,    15.25, 2,     0.00, 2,     1.80, 2,  -999.00, 9,  -1.5452,     0.00, 2, 0, 2,  -999.00, 9,  -999.00, 9,   0.6800, 2, -999.000, 2, -999.000, 9, 4.620, 2
320620030705, SBI, 122, 1, 111, 11, 2, 20030727, 151, 73.9731, -158.2414, 3634,    184.7,  -1.4282,  33.5197, 2, -999.0000, 9,    256.3, 2,    280.1, 2,    32.57, 2,    15.14, 2,     0.00, 2,     1.69, 2,  -999.00, 9,  -1.4323,     0.00, 2, 0, 2,  -999.00, 9,  -999.00, 9,   0.6670, 2, -999.000, 2, -999.000, 9, 4.641, 2
320620030705, SBI, 122, 1, 110, 10, 2, 20030727, 150, 73.9731, -158.2414, 3634,    199.8,  -1.2883,  33.8157, 2, -999.0000, 9,    255.6, 2,    279.1, 2,    27.08, 2,    14.26, 2,     0.00, 2,     1.49, 2,  -999.00, 9,  -1.2932,     0.00, 2, 0, 2,  -999.00, 9,  -999.00, 9,   0.6140, 2, -999.000, 2, -999.000, 9, 4.581, 2
320620030705, SBI, 122, 1, 109, 9, 2, 20030727, 148, 73.9731, -158.2414, 3634,    214.9,  -1.0970,  34.1416, 2,  34.1411, 2,    257.3, 2,    281.3, 2,    22.00, 2,    13.44, 2,     0.00, 2,     1.29, 2,  -999.00, 9,  -1.1028,     0.01, 2, 0, 2,  -999.00, 9,  -999.00, 9,   0.7050, 2, -999.000, 2, -999.000, 9, 4.470, 2
320620030705, SBI, 122, 1, 108, 8, 2, 20030727, 147, 73.9731, -158.2414, 3634,    234.8,  -0.7402,  34.3183, 2,  34.3265, 2,    257.0, 2,    280.4, 2,    14.85, 2,    12.34, 2,     0.00, 2,     1.07, 2,  -999.00, 9,  -0.7473,     0.00, 2, 0.01, 2,  -999.00, 9,  -999.00, 9,   0.7210, 2, -999.000, 2, -999.000, 9, 4.470, 2
320620030705, SBI, 122, 1, 107, 7, 2, 20030727, 145, 73.9731, -158.2414, 3634,    254.9,  -0.2905,  34.4691, 2,  34.4868, 2,    258.6, 2,    281.6, 2,    11.48, 2,    12.24, 2,     0.00, 2,     0.96, 2,  -999.00, 9,  -0.2993,     0.00, 2, 0, 2,  -999.00, 9,  -999.00, 9,   0.7330, 2, -999.000, 2, -999.000, 9, 4.398, 2
320620030705, SBI, 122, 1, 106, 6, 2, 20030727, 143, 73.9731, -158.2414, 3634,    275.1,   0.0417,  34.5734, 2,  34.6159, 2,    260.8, 2,    283.1, 2,     9.68, 2,    12.35, 2,     0.00, 2,     0.92, 2,  -999.00, 9,   0.0313,     0.00, 2, 0, 2,  -999.00, 9,  -999.00, 9,   0.5720, 2, -999.000, 2, -999.000, 9, 4.456, 2
320620030705, SBI, 122, 1, 105, 5, 2, 20030727, 142, 73.9731, -158.2414, 3634,    305.3,   0.5077,  34.7097, 2,  34.7111, 2,    265.2, 2,    286.5, 2,     8.58, 2,    12.50, 2,     0.00, 2,     0.90, 2,  -999.00, 9,   0.4948,     0.00, 2, 0, 2,  -999.00, 9,  -999.00, 9,   0.8380, 2, -999.000, 2, -999.000, 9, 4.527, 2
320620030705, SBI, 122, 1, 104, 4, 2, 20030727, 139, 73.9731, -158.2414, 3634,    405.8,   0.8206,  34.8260, 2,  34.8247, 2,    273.7, 2,    295.4, 2,     6.69, 2,    12.50, 2,     0.00, 2,     0.87, 2,  -999.00, 9,   0.8019,     0.00, 2, 0, 2,  -999.00, 9,  -999.00, 9,   0.7110, 2, -999.000, 2, -999.000, 9, 4.527, 2
320620030705, SBI, 122, 1, 103, 3, 2, 20030727, 134, 73.9731, -158.2414, 3634,    557.0,   0.5396,  34.8455, 2,  34.8466, 2,    274.1, 2,    296.7, 2,     6.88, 2,    12.71, 2,     0.00, 2,     0.88, 2,  -999.00, 9,   0.5145,     0.00, 2, 0.02, 2,  -999.00, 9,  -999.00, 9,   0.7300, 2, -999.000, 2, -999.000, 9, 4.497, 2
320620030705, SBI, 122, 1, 102, 2, 2, 20030727, 129, 73.9731, -158.2414, 3634,    758.6,   0.2405,  34.8629, 2,  34.8634, 2,    276.1, 2,    300.2, 2,     6.67, 2,    12.66, 2,     0.00, 2,     0.89, 2,  -999.00, 9,   0.2068,     0.00, 2, 0.03, 2,  -999.00, 9,  -999.00, 9,   0.6100, 2, -999.000, 2, -999.000, 9, 4.416, 2
320620030705, SBI, 122, 1, 101, 1, 2, 20030727, 122, 73.9731, -158.2414, 3634,   1010.3,  -0.0269,  34.8802, 2,  34.8795, 2,    275.3, 2,    300.1, 2,     7.46, 2,    12.76, 2,     0.00, 2,     0.91, 2,  -999.00, 9,  -0.0718,     0.01, 2, 0, 2,  -999.00, 9,  -999.00, 9,   0.6090, 2, -999.000, 2, -999.000, 9, 4.286, 2
320620030705, SBI, 123, 1, 124, 24, 2, 20030727, 644, 74.0310, -158.8054, 3486,      1.8,  -1.3248,  28.6630, 2,  28.6560, 2,    354.0, 2,    388.1, 2,     4.05, 2,     0.14, 2,     0.00, 2,     0.68, 2,  -999.00, 9,  -1.3248,     0.08, 2, 0, 2,     0.14, 2,     0.05, 2,   0.8140, 2, -999.000, 2, -999.000, 9, 4.965, 2
320620030705, SBI, 123, 1, 123, 23, 2, 20030727, 643, 74.0310, -158.8054, 3486,     16.5,  -1.3506,  31.1077, 2, -999.0000, 9,    368.7, 2,    397.5, 2,     8.81, 2,     1.55, 2,     0.11, 2,     0.92, 2,  -999.00, 9,  -1.3509,     0.17, 2, 0.05, 2,     0.35, 2,     0.15, 2,   1.2540, 2, -999.000, 2, -999.000, 9, 4.968, 2
320620030705, SBI, 123, 1, 122, 22, 2, 20030727, 641, 74.0310, -158.8054, 3486,     28.7,  -1.5557,  31.3296, 2, -999.0000, 9,    347.9, 2,    376.4, 2,    13.78, 2,     3.63, 2,     0.20, 2,     1.08, 2,  -999.00, 9,  -1.5561,     0.19, 2, 0.03, 2,     0.37, 2,     0.31, 2,   1.1160, 2, -999.000, 2, -999.000, 9, 4.972, 2
320620030705, SBI, 123, 1, 121, 21, 2, 20030727, 639, 74.0310, -158.8054, 3486,     55.9,  -1.6811,  31.8293, 2, -999.0000, 9,    310.5, 2,    341.5, 2,    28.79, 2,     7.37, 2,     0.19, 2,     1.45, 2,  -999.00, 9,  -1.6820,     0.80, 2, 0.03, 2,     0.09, 2,     0.07, 2,   0.7810, 2, -999.000, 2, -999.000, 9, 4.973, 2
320620030705, SBI, 123, 1, 120, 20, 2, 20030727, 637, 74.0310, -158.8054, 3486,     70.8,  -1.6777,  31.9761, 2, -999.0000, 9,    314.8, 2,    347.7, 2,    28.48, 2,     7.01, 2,     0.18, 2,     1.45, 2,  -999.00, 9,  -1.6788,     1.08, 2, 0.01, 2,     0.05, 2,     0.06, 2,   0.7290, 2, -999.000, 2, -999.000, 9, 4.973, 2
320620030705, SBI, 123, 1, 119, 19, 2, 20030727, 636, 74.0310, -158.8054, 3486,     85.7,  -1.6409,  32.1547, 2, -999.0000, 9,    319.7, 2,    352.7, 2,    27.78, 2,     6.62, 2,     0.19, 2,     1.45, 2,  -999.00, 9,  -1.6423,     1.48, 2, 0.01, 2,  -999.00, 9,  -999.00, 9,   0.7920, 2, -999.000, 2, -999.000, 9, 4.971, 2
320620030705, SBI, 123, 1, 118, 18, 2, 20030727, 634, 74.0310, -158.8054, 3486,    100.5,  -1.5470,  32.3317, 2, -999.0000, 9,    293.5, 2,    321.7, 2,    23.89, 2,     9.81, 2,     0.06, 2,     1.50, 2,  -999.00, 9,  -1.5488,     0.07, 2, 0, 2,  -999.00, 9,  -999.00, 9,   0.6940, 2, -999.000, 2, -999.000, 9, 4.969, 2
320620030705, SBI, 123, 1, 117, 17, 2, 20030727, 633, 74.0310, -158.8054, 3486,    115.8,  -1.5388,  32.5539, 2, -999.0000, 9,    277.8, 2,    303.4, 2,    27.57, 2,    12.17, 2,     0.01, 2,     1.63, 2,  -999.00, 9,  -1.5410,     0.00, 2, 0, 2,  -999.00, 9,  -999.00, 9,   0.7180, 2, -999.000, 2, -999.000, 9, 4.964, 2
320620030705, SBI, 123, 1, 116, 16, 2, 20030727, 632, 74.0310, -158.8054, 3486,    130.8,  -1.4845,  32.7390, 2, -999.0000, 9,    263.5, 2,    290.7, 2,    31.65, 2,    14.05, 2,     0.01, 2,     1.76, 2,  -999.00, 9,  -1.4871,     0.00, 2, 0, 2,  -999.00, 9,  -999.00, 9,   0.6110, 2, -999.000, 2, -999.000, 9, 4.962, 2
320620030705, SBI, 123, 1, 115, 15, 2, 20030727, 630, 74.0310, -158.8054, 3486,    146.0,  -1.5531,  32.8958, 2, -999.0000, 9,    261.7, 2,    288.1, 2,    34.03, 2,    14.93, 2,     0.01, 2,     1.80, 2,  -999.00, 9,  -1.5560,     0.00, 2, 0, 2,  -999.00, 9,  -999.00, 9,   0.8890, 2, -999.000, 2, -999.000, 9, 4.960, 2
320620030705, SBI, 123, 1, 114, 14, 2, 20030727, 629, 74.0310, -158.8054, 3486,    160.8,  -1.5595,  33.0599, 2, -999.0000, 9,    259.4, 2,    284.9, 2,    35.02, 2,    15.25, 2,     0.01, 2,     1.81, 2,  -999.00, 9,  -1.5627,     0.00, 2, 0.01, 2,  -999.00, 9,  -999.00, 9,   0.6780, 2, -999.000, 2, -999.000, 9, 4.960, 2
320620030705, SBI, 123, 1, 113, 13, 2, 20030727, 627, 74.0310, -158.8054, 3486,    176.0,  -1.5142,  33.3518, 2, -999.0000, 9,    265.6, 2,    289.4, 2,    32.52, 2,    14.46, 2,     0.01, 2,     1.70, 2,  -999.00, 9,  -1.5179,     0.00, 2, 0.02, 2,  -999.00, 9,  -999.00, 9,   0.6410, 2, -999.000, 2, -999.000, 9, 4.961, 2
320620030705, SBI, 123, 1, 112, 12, 2, 20030727, 626, 74.0310, -158.8054, 3486,    196.2,  -1.3964,  33.7297, 2, -999.0000, 9,    265.6, 2,    287.6, 2,    29.32, 2,    14.19, 2,     0.01, 2,     1.56, 2,  -999.00, 9,  -1.4010,     0.00, 2, 0, 2,  -999.00, 9,  -999.00, 9,   0.6520, 2, -999.000, 2, -999.000, 9, 4.960, 2
320620030705, SBI, 123, 1, 111, 11, 2, 20030727, 624, 74.0310, -158.8054, 3486,    216.1,  -1.1087,  34.0427, 2,  34.1590, 2,    250.8, 2,    276.3, 2,    22.06, 2,    13.73, 2,     0.01, 2,     1.30, 2,  -999.00, 9,  -1.1145,     0.00, 2, 0.01, 2,  -999.00, 9,  -999.00, 9,   0.6320, 2, -999.000, 2, -999.000, 9, 4.962, 2
320620030705, SBI, 123, 1, 110, 10, 2, 20030727, 622, 74.0310, -158.8054, 3486,    246.5,  -0.5111,  34.4015, 2,  34.4123, 2,    255.6, 2,    278.8, 2,    13.42, 2,    12.37, 2,     0.01, 2,     1.01, 2,  -999.00, 9,  -0.5191,     0.00, 2, 0.01, 2,  -999.00, 9,  -999.00, 9,   0.8740, 2, -999.000, 2, -999.000, 9, 4.926, 2
320620030705, SBI, 123, 1, 109, 9, 2, 20030727, 618, 74.0310, -158.8054, 3486,    382.4,   0.8536,  34.8172, 2,  34.8183, 2,    271.9, 2,    294.3, 2,     7.08, 2,    12.48, 2,     0.00, 2,     0.86, 2,  -999.00, 9,   0.8360,     0.00, 2, 0.01, 2,  -999.00, 9,  -999.00, 9,   0.5630, 2, -999.000, 2, -999.000, 9, 4.904, 2
320620030705, SBI, 123, 1, 108, 8, 2, 20030727, 614, 74.0310, -158.8054, 3486,    508.0,   0.6349,  34.8421, 2,  34.8444, 2,    273.1, 2,    296.9, 2,     6.87, 2,    12.64, 2,     0.00, 2,     0.86, 2,  -999.00, 9,   0.6118,     0.00, 2, 0.01, 2,  -999.00, 9,  -999.00, 9,   0.4940, 2, -999.000, 2, -999.000, 9, 4.898, 2
320620030705, SBI, 123, 1, 107, 7, 2, 20030727, 608, 74.0310, -158.8054, 3486,    759.9,   0.2528,  34.8634, 2,  34.8659, 2,    273.5, 2,    299.8, 2,     7.07, 2,    12.74, 2,     0.00, 2,     0.88, 2,  -999.00, 9,   0.2190,     0.00, 2, 0, 2,  -999.00, 9,  -999.00, 9,   0.5960, 2, -999.000, 2, -999.000, 9, 4.896, 2
320620030705, SBI, 123, 1, 106, 6, 2, 20030727, 601, 74.0310, -158.8054, 3486,   1012.1,  -0.0481,  34.8802, 2,  34.8823, 2,    273.0, 2,    300.4, 2,     7.36, 2,    12.90, 2,     0.00, 2,     0.89, 2,  -999.00, 9,  -0.0930,     0.00, 2, 0.01, 2,  -999.00, 9,  -999.00, 9,   0.5680, 2, -999.000, 2, -999.000, 9, 4.906, 2
320620030705, SBI, 123, 1, 105, 5, 2, 20030727, 550, 74.0310, -158.8054, 3486,   1519.0,  -0.3390,  34.9166, 2,  34.9163, 2,    268.5, 2,    299.0, 2,     9.15, 2,    13.63, 2,     0.00, 2,     0.95, 2,  -999.00, 9,  -0.4096,     0.00, 2, 0.05, 2,  -999.00, 9,  -999.00, 9,   0.7790, 2, -999.000, 2, -999.000, 9, 4.833, 2
320620030705, SBI, 123, 1, 104, 4, 2, 20030727, 536, 74.0310, -158.8054, 3486,   2127.0,  -0.4006,  34.9447, 2,  34.9439, 2,    258.5, 2,    288.6, 2,    12.31, 2,    14.52, 2,     0.00, 2,     1.01, 2,  -999.00, 9,  -0.5097,     0.00, 2, 0, 2,  -999.00, 9,  -999.00, 9,   0.5350, 2, -999.000, 2, -999.000, 9, 4.855, 2
320620030705, SBI, 123, 1, 103, 3, 2, 20030727, 522, 74.0310, -158.8054, 3486,   2736.7,  -0.3583,  34.9530, 2,  34.9531, 2,    255.2, 2,    285.6, 2,    13.30, 2,    14.68, 2,     0.00, 2,     1.03, 2,  -999.00, 9,  -0.5136,     0.00, 2, 0, 2,  -999.00, 9,  -999.00, 9,   0.6320, 2, -999.000, 2, -999.000, 9, 4.745, 2
320620030705, SBI, 123, 1, 102, 2, 2, 20030727, 509, 74.0310, -158.8054, 3486,   3347.8,  -0.3038,  34.9557, 2,  34.9550, 2,    254.1, 2,    283.9, 2,    13.70, 2,    14.74, 2,     0.00, 2,     1.03, 2,  -999.00, 9,  -0.5119,     0.04, 2, 0.07, 2,  -999.00, 9,  -999.00, 9,   0.5390, 2, -999.000, 2, -999.000, 9, 4.792, 2
320620030705, SBI, 123, 1, 101, 1, 2, 20030727, 503, 74.0310, -158.8054, 3486,   3543.2,  -0.2848,  34.9558, 2,  34.9545, 2,    254.7, 2,    284.0, 2,    13.70, 2,    14.69, 2,     0.00, 2,     1.03, 2,  -999.00, 9,  -0.5111,     0.01, 2, 0, 2,  -999.00, 9,  -999.00, 9,   0.5620, 2, -999.000, 2, -999.000, 9, 4.784, 2