BOTTLE,20100423CCHDOSIODBK
EXPOCODE,SECT_ID,STNNBR,CASTNO,SAMPNO,BTLNBR,BTLNBR_FLAG_W,DATE,TIME,LATITUDE,LONGITUDE,DEPTH,CTDPRS,CTDTMP,CTDSAL,CTDSAL_FLAG_W,SALNTY,SALNTY_FLAG_W,CTDOXY,CTDOXY_FLAG_W,OXYGEN,OXYGEN_FLAG_W,SILCAT,SILCAT_FLAG_W,NITRAT,NITRAT_FLAG_W,NITRIT,NITRIT_FLAG_W,PHSPHT,PHSPHT_FLAG_W,DOC,DOC_FLAG_W,THETA,NH4,NH4_FLAG_W,UREA,UREA_FLAG_W,CHLORA,CHLORA_FLAG_W,PPHYTN,PPHYTN_FLAG_W,FLUOR,FLUOR_FLAG_W,HAARDT,HAARDT_FLAG_W,PAR,PAR_FLAG_W,SPAR,SPAR_FLAG_W
,,,,,,,,,,,METERS,DBAR,ITS-90,PSS-78,,PSS-78,,UMOL/KG,,UMOL/KG,,UMOL/KG,,UMOL/KG,,UMOL/KG,,UMOL/KG,,UMOL/KG,,DEG C,UMOL/KG,,UMOL/KG,,UG/KG,,UG/KG,,MG/M^3,,VOLTS,,VOLTS,,VOLTS,
320620030705, SBI, 312, 1, 117, 17, 2, 20030815, 409, 71.2322, -149.2016, 592,      6.1,   2.7767,  29.5099, 2,  29.5119, 2,    328.1, 2,    344.3, 2,     7.42, 2,     0.04, 2,     0.00, 2,     0.65, 2,  -999.00, 9,   2.7764,     0.02, 2, 0, 2,     0.27, 2,     0.08, 2,   1.2240, 2, -999.000, 2, -999.000, 9, 4.951, 2
320620030705, SBI, 312, 1, 116, 16, 2, 20030815, 407, 71.2322, -149.2016, 592,     20.1,   2.8231,  29.8110, 2, -999.0000, 9,    328.1, 2,    342.4, 2,     6.79, 2,     0.04, 2,     0.00, 2,     0.63, 2,    72.20, 2,   2.8221,     0.05, 2, 0, 2,     0.34, 2,     0.10, 2,   1.1500, 2, -999.000, 2, -999.000, 9, 4.952, 2
320620030705, SBI, 312, 1, 115, 15, 2, 20030815, 406, 71.2322, -149.2016, 592,     30.4,   3.2891,  30.3220, 2, -999.0000, 9,    320.7, 2,    333.7, 2,     5.76, 2,     0.03, 2,     0.01, 2,     0.64, 2,  -999.00, 9,   3.2874,     0.30, 2, 0, 2,     0.40, 2,     0.13, 2,   1.2120, 2, -999.000, 2, -999.000, 9, 4.954, 2
320620030705, SBI, 312, 1, 114, 14, 2, 20030815, 404, 71.2322, -149.2016, 592,     43.9,   3.6793,  30.9633, 2, -999.0000, 9,    312.0, 2,    326.9, 2,     5.53, 2,     0.23, 2,     0.02, 2,     0.74, 2,  -999.00, 9,   3.6767,     0.82, 2, 0.07, 2,     0.10, 2,     0.10, 2,   0.7440, 2, -999.000, 2, -999.000, 9, 4.951, 2
320620030705, SBI, 312, 1, 113, 13, 2, 20030815, 401, 71.2322, -149.2016, 592,     64.0,   2.2474,  31.4930, 2, -999.0000, 9,    326.7, 2,    347.7, 2,     6.41, 2,     0.72, 2,     0.04, 2,     0.87, 2,  -999.00, 9,   2.2443,     0.97, 2, 0.05, 2,     0.13, 2,     0.14, 2,   0.8700, 2, -999.000, 2, -999.000, 9, 4.950, 2
320620030705, SBI, 312, 1, 112, 12, 2, 20030815, 400, 71.2322, -149.2016, 592,     83.9,   1.1536,  31.7844, 2, -999.0000, 9,    332.4, 2,    354.3, 2,     7.48, 2,     1.55, 2,     0.05, 2,     0.99, 2,  -999.00, 9,   1.1502,     1.12, 2, 0.06, 2,     0.17, 2,     0.17, 2,   1.1100, 2, -999.000, 2, -999.000, 9, 4.948, 2
320620030705, SBI, 312, 1, 111, 11, 2, 20030815, 358, 71.2322, -149.2016, 592,    103.7,  -0.0961,  32.0689, 2, -999.0000, 9,    330.2, 2,    355.4, 2,    11.38, 2,     3.38, 2,     0.08, 2,     1.16, 2,  -999.00, 9,  -0.0993,     1.24, 2, 0.06, 2,  -999.00, 9,  -999.00, 9,   0.8840, 2, -999.000, 2, -999.000, 9, 4.946, 2
320620030705, SBI, 312, 1, 110, 10, 2, 20030815, 357, 71.2322, -149.2016, 592,    124.0,  -1.0401,  32.3510, 2, -999.0000, 9,    313.2, 2,    337.9, 2,    19.24, 2,     6.66, 2,     0.12, 2,     1.44, 2,  -999.00, 9,  -1.0429,     1.62, 2, 0.05, 2,  -999.00, 9,  -999.00, 9,   0.9090, 2, -999.000, 2, -999.000, 9, 4.945, 2
320620030705, SBI, 312, 1, 109, 9, 2, 20030815, 355, 71.2322, -149.2016, 592,    144.0,  -1.4283,  32.6594, 2, -999.0000, 9,    281.7, 2,    300.3, 2,    27.84, 2,    11.73, 2,     0.08, 2,     1.72, 2,  -999.00, 9,  -1.4312,     0.96, 2, 0.02, 2,  -999.00, 9,  -999.00, 9,   0.8590, 2, -999.000, 2, -999.000, 9, 4.946, 2
320620030705, SBI, 312, 1, 108, 8, 2, 20030815, 353, 71.2322, -149.2016, 592,    164.2,  -1.3380,  33.3469, 2, -999.0000, 9,    267.7, 2,    290.9, 2,    28.72, 2,    13.00, 2,     0.09, 2,     1.67, 2,  -999.00, 9,  -1.3417,     0.61, 2, 0, 2,  -999.00, 9,  -999.00, 9,   0.9000, 2, -999.000, 2, -999.000, 9, 4.946, 2
320620030705, SBI, 312, 1, 107, 7, 2, 20030815, 351, 71.2322, -149.2016, 592,    184.3,  -0.9647,  34.0289, 2, -999.0000, 9,    264.4, 2,    285.9, 2,    23.20, 2,    13.21, 2,     0.09, 2,     1.45, 2,  -999.00, 9,  -0.9698,     0.22, 2, 0, 2,  -999.00, 9,  -999.00, 9,   0.8250, 2, -999.000, 2, -999.000, 9, 4.949, 2
320620030705, SBI, 312, 1, 106, 6, 2, 20030815, 348, 71.2322, -149.2016, 592,    204.5,  -0.4730,  34.4144, 2, -999.0000, 9,    263.5, 2,    286.2, 2,    17.50, 2,    12.86, 2,     0.08, 2,     1.25, 2,  -999.00, 9,  -0.4797,     0.13, 2, 0, 2,  -999.00, 9,  -999.00, 9,   0.6890, 2, -999.000, 2, -999.000, 9, 4.948, 2
320620030705, SBI, 312, 1, 105, 5, 2, 20030815, 346, 71.2322, -149.2016, 592,    234.7,  -0.0786,  34.6086, 2,  34.6105, 2,    264.2, 2,    284.9, 2,    14.25, 2,    12.81, 2,     0.06, 2,     1.14, 2,  -999.00, 9,  -0.0872,     0.07, 2, 0, 2,  -999.00, 9,  -999.00, 9,   0.6900, 2, -999.000, 2, -999.000, 9, 4.946, 2
320620030705, SBI, 312, 1, 104, 4, 2, 20030815, 343, 71.2322, -149.2016, 592,    304.6,   0.2848,  34.7264, 2,  34.7253, 2,    268.0, 2,    288.1, 2,    10.90, 2,    12.69, 2,     0.03, 2,     1.04, 2,  -999.00, 9,   0.2725,     0.00, 2, 0, 2,  -999.00, 9,  -999.00, 9,   0.7640, 2, -999.000, 2, -999.000, 9, 4.944, 2
320620030705, SBI, 312, 1, 103, 3, 2, 20030815, 339, 71.2322, -149.2016, 592,    405.6,   0.4364,  34.7820, 2,  34.7825, 2,    268.3, 2,    288.2, 2,    10.07, 2,    12.74, 2,     0.08, 2,     1.02, 2,  -999.00, 9,   0.4191,     0.01, 2, 0, 2,  -999.00, 9,  -999.00, 9,   0.8340, 2, -999.000, 2, -999.000, 9, 4.950, 2
320620030705, SBI, 312, 1, 102, 2, 2, 20030815, 335, 71.2322, -149.2016, 592,    536.7,   0.4786,  34.8112, 2,  34.8116, 2,    270.4, 2,    290.7, 2,     8.94, 2,    12.72, 2,     0.04, 2,     0.98, 2,  -999.00, 9,   0.4548,     0.00, 2, 0.01, 2,  -999.00, 9,  -999.00, 9,   0.5800, 2, -999.000, 2, -999.000, 9, 4.940, 2
320620030705, SBI, 312, 1, 101, 1, 2, 20030815, 332, 71.2322, -149.2016, 592,    586.8,   0.4791,  34.8194, 2,  34.8196, 2,    271.1, 2,    291.2, 2,     8.72, 2,    12.73, 2,     0.03, 2,     0.98, 2,  -999.00, 9,   0.4528,     0.00, 2, 0, 2,  -999.00, 9,  -999.00, 9,   0.6030, 2, -999.000, 2, -999.000, 9, 4.929, 2
320620030705, SBI, 313, 2, 213, 13, 2, 20030815, 634, 71.2098, -149.2136, 201,      8.4,   2.6259,  29.2651, 2,  29.4162, 2,    329.3, 2,    346.0, 2,     7.62, 2,     0.10, 2,     0.00, 2,     0.66, 2,  -999.00, 9,   2.6255,     0.00, 2, 0, 2,  -999.00, 9,  -999.00, 9,   1.0830, 2, -999.000, 2, -999.000, 9, 4.995, 2
320620030705, SBI, 313, 2, 212, 12, 2, 20030815, 633, 71.2098, -149.2136, 201,     19.1,   3.1239,  29.8760, 2, -999.0000, 9,    321.0, 2,    332.0, 2,     7.61, 2,     0.14, 2,     0.01, 2,     0.70, 2,    74.20, 2,   3.1229,     0.54, 2, 0.05, 2,  -999.00, 9,  -999.00, 9,   0.9870, 2, -999.000, 2, -999.000, 9, 4.995, 2
320620030705, SBI, 313, 2, 211, 11, 2, 20030815, 631, 71.2098, -149.2136, 201,     34.2,   3.9125,  30.3466, 2, -999.0000, 9,    310.8, 2,    323.8, 2,     7.20, 2,     0.19, 2,     0.01, 2,     0.73, 2,  -999.00, 9,   3.9104,     0.78, 2, 0.04, 2,  -999.00, 9,  -999.00, 9,   0.8500, 2, -999.000, 2, -999.000, 9, 4.994, 2
320620030705, SBI, 313, 2, 210, 10, 2, 20030815, 629, 71.2098, -149.2136, 201,     49.2,   3.6327,  30.9550, 2, -999.0000, 9,    302.2, 2,    336.7, 2,     5.77, 2,     0.48, 2,     0.03, 2,     0.79, 2,  -999.00, 9,   3.6298,     0.87, 2, 0.05, 2,  -999.00, 9,  -999.00, 9,   0.7810, 2, -999.000, 2, -999.000, 9, 4.994, 2
320620030705, SBI, 313, 2, 209, 9, 2, 20030815, 628, 71.2098, -149.2136, 201,     63.9,   1.4865,  31.5236, 2, -999.0000, 9,    315.6, 2,    352.6, 2,     6.77, 2,     1.14, 2,     0.04, 2,     0.94, 2,  -999.00, 9,   1.4838,     1.07, 2, 0.06, 2,  -999.00, 9,  -999.00, 9,   0.8940, 2, -999.000, 2, -999.000, 9, 4.994, 2
320620030705, SBI, 313, 2, 208, 8, 2, 20030815, 627, 71.2098, -149.2136, 201,     79.1,   0.6660,  31.6735, 2, -999.0000, 9,    316.1, 2,    355.5, 2,     9.48, 2,     2.35, 2,     0.06, 2,     1.07, 2,  -999.00, 9,   0.6632,     1.20, 2, 0.06, 2,  -999.00, 9,  -999.00, 9,   0.9430, 2, -999.000, 2, -999.000, 9, 4.994, 2
320620030705, SBI, 313, 2, 207, 7, 2, 20030815, 625, 71.2098, -149.2136, 201,     94.0,  -0.5764,  31.9551, 2, -999.0000, 9,    312.6, 2,    354.6, 2,    13.81, 2,     4.32, 2,     0.10, 2,     1.24, 2,  -999.00, 9,  -0.5788,     1.32, 2, 0.06, 2,  -999.00, 9,  -999.00, 9,   0.8770, 2, -999.000, 2, -999.000, 9, 4.993, 2
320620030705, SBI, 313, 2, 206, 6, 2, 20030815, 623, 71.2098, -149.2136, 201,    109.1,  -0.8955,  32.0637, 2, -999.0000, 9,    304.7, 2,    344.5, 2,    17.34, 2,     5.85, 2,     0.12, 2,     1.38, 2,  -999.00, 9,  -0.8981,     1.55, 2, 0.05, 2,  -999.00, 9,  -999.00, 9,   0.8710, 2, -999.000, 2, -999.000, 9, 4.993, 2
320620030705, SBI, 313, 2, 205, 5, 2, 20030815, 622, 71.2098, -149.2136, 201,    124.6,  -1.2187,  32.1918, 2, -999.0000, 9,    291.9, 2,    330.8, 2,    21.39, 2,     7.53, 2,     0.13, 2,     1.52, 2,  -999.00, 9,  -1.2213,     1.72, 2, 0.07, 2,  -999.00, 9,  -999.00, 9,   1.0360, 2, -999.000, 2, -999.000, 9, 4.992, 2
320620030705, SBI, 313, 2, 204, 4, 2, 20030815, 620, 71.2098, -149.2136, 201,    139.1,  -1.4193,  32.6510, 2, -999.0000, 9,    266.5, 2,    300.5, 2,    27.58, 2,    11.92, 2,     0.05, 2,     1.72, 2,  -999.00, 9,  -1.4221,     0.58, 2, 0, 2,  -999.00, 9,  -999.00, 9,   0.7540, 2, -999.000, 2, -999.000, 9, 4.991, 2
320620030705, SBI, 313, 2, 203, 3, 2, 20030815, 618, 71.2098, -149.2136, 201,    154.4,  -1.4340,  33.1945, 2, -999.0000, 9,    256.3, 2,    289.7, 2,    30.21, 2,    13.50, 2,     0.06, 2,     1.73, 2,  -999.00, 9,  -1.4373,     0.35, 2, 0, 2,  -999.00, 9,  -999.00, 9,   0.9170, 2, -999.000, 2, -999.000, 9, 4.989, 2
320620030705, SBI, 313, 2, 202, 2, 2, 20030815, 616, 71.2098, -149.2136, 201,    174.1,  -1.1692,  33.7535, 2, -999.0000, 9,    250.7, 2,    286.3, 2,    27.44, 2,    13.48, 2,     0.08, 2,     1.59, 2,  -999.00, 9,  -1.1736,     0.35, 2, 0.01, 2,  -999.00, 9,  -999.00, 9,   0.7380, 2, -999.000, 2, -999.000, 9, 4.988, 2
320620030705, SBI, 313, 2, 201, 1, 2, 20030815, 615, 71.2098, -149.2136, 201,    194.5,  -0.9595,  33.9948, 2,  33.9278, 2,    250.4, 2,    286.2, 2,    25.58, 2,    13.31, 2,     0.09, 2,     1.54, 2,    62.30, 2,  -0.9648,     0.32, 2, 0.01, 2,  -999.00, 9,  -999.00, 9,   0.7760, 2, -999.000, 2, -999.000, 9, 4.987, 2
320620030705, SBI, 314, 1, 118, 18, 2, 20030815, 1005, 71.2814, -149.1815, 1317,     10.5,   2.6802,  29.5328, 2,  29.5235, 2,    327.9, 2,    344.1, 2,     7.49, 2,     0.11, 2,     0.00, 2,     0.65, 2,  -999.00, 9,   2.6797,     0.03, 2, 0, 2,     0.32, 2,     0.07, 2,   1.1120, 2, -999.000, 2, -999.000, 9, 5.000, 2
320620030705, SBI, 314, 1, 117, 17, 2, 20030815, 1004, 71.2814, -149.1815, 1317,     20.6,   2.7706,  29.6444, 2,  29.7489, 2,    326.7, 2,    340.6, 2,     7.57, 2,     0.06, 2,     0.00, 2,     0.66, 2,    73.80, 2,   2.7696,     0.09, 2, 0, 2,     0.47, 2,     0.07, 2,   1.1250, 2, -999.000, 2, -999.000, 9, 5.000, 2
320620030705, SBI, 314, 1, 116, 16, 2, 20030815, 1002, 71.2814, -149.1815, 1317,     30.4,   3.5873,  30.2833, 2, -999.0000, 9,    314.6, 2,    328.4, 2,     7.86, 2,     0.10, 2,     0.01, 2,     0.71, 2,  -999.00, 9,   3.5855,     0.48, 2, 0.03, 2,     0.80, 2,     0.09, 2,   1.2870, 2, -999.000, 2, -999.000, 9, 5.000, 2
320620030705, SBI, 314, 1, 115, 15, 2, 20030815, 1000, 71.2814, -149.1815, 1317,     45.3,   3.7314,  30.5774, 2, -999.0000, 9,    313.9, 2,    327.6, 2,     5.64, 2,     0.10, 2,     0.01, 2,     0.69, 2,  -999.00, 9,   3.7287,     0.63, 2, 0.04, 2,     0.23, 2,     0.06, 2,   0.8360, 2, -999.000, 2, -999.000, 9, 5.000, 2
320620030705, SBI, 314, 1, 114, 14, 2, 20030815, 957, 71.2814, -149.1815, 1317,     65.9,   2.9591,  31.2592, 2, -999.0000, 9,    322.2, 2,    338.5, 2,     5.43, 2,     0.29, 2,     0.02, 2,     0.77, 2,  -999.00, 9,   2.9555,     0.77, 2, 0.06, 2,  -999.00, 9,  -999.00, 9,   0.8270, 2, -999.000, 2, -999.000, 9, 5.000, 2
320620030705, SBI, 314, 1, 113, 13, 2, 20030815, 955, 71.2814, -149.1815, 1317,     80.7,   1.2240,  31.6026, 2, -999.0000, 9,    338.7, 2,    362.8, 2,     7.93, 2,     0.74, 2,     0.03, 2,     0.94, 2,  -999.00, 9,   1.2207,     0.96, 2, 0.09, 2,     0.21, 2,     0.10, 2,   0.9870, 2, -999.000, 2, -999.000, 9, 5.000, 2
320620030705, SBI, 314, 1, 112, 12, 2, 20030815, 951, 71.2814, -149.1815, 1317,     87.2,   0.1663,  31.8386, 2, -999.0000, 9,    336.3, 2,    360.6, 2,    10.32, 2,     1.95, 2,     0.06, 2,     1.07, 2,  -999.00, 9,   0.1635,     1.35, 2, 0.1, 2,     0.20, 2,     0.15, 2,   0.9650, 2, -999.000, 2, -999.000, 9, 5.000, 2
320620030705, SBI, 314, 1, 111, 11, 2, 20030815, 948, 71.2814, -149.1815, 1317,    115.4,  -1.3141,  32.4084, 2, -999.0000, 9,    297.0, 2,    321.6, 2,    22.73, 2,     8.56, 2,     0.12, 2,     1.56, 2,  -999.00, 9,  -1.3165,     1.30, 2, 0.04, 2,  -999.00, 9,  -999.00, 9,   0.8630, 2, -999.000, 2, -999.000, 9, 5.000, 2
320620030705, SBI, 314, 1, 110, 10, 2, 20030815, 946, 71.2814, -149.1815, 1317,    135.5,  -1.4747,  32.9263, 2, -999.0000, 9,    269.5, 2,    294.8, 2,    29.62, 2,    12.64, 2,     0.06, 2,     1.74, 2,  -999.00, 9,  -1.4775,     0.66, 2, 0.02, 2,  -999.00, 9,  -999.00, 9,   0.6970, 2, -999.000, 2, -999.000, 9, 5.000, 2
320620030705, SBI, 314, 1, 109, 9, 2, 20030815, 945, 71.2814, -149.1815, 1317,    155.7,  -1.2653,  33.5665, 2, -999.0000, 9,    266.2, 2,    289.4, 2,    28.28, 2,    13.12, 2,     0.09, 2,     1.63, 2,  -999.00, 9,  -1.2690,     0.48, 2, 0.02, 2,  -999.00, 9,  -999.00, 9,   0.8520, 2, -999.000, 2, -999.000, 9, 5.000, 2
320620030705, SBI, 314, 1, 108, 8, 2, 20030815, 942, 71.2814, -149.1815, 1317,    175.9,  -1.0096,  33.9575, 2, -999.0000, 9,    263.9, 2,    287.9, 2,    25.22, 2,    13.27, 2,     0.09, 2,     1.51, 2,  -999.00, 9,  -1.0143,     0.28, 2, 0.02, 2,  -999.00, 9,  -999.00, 9,   0.7760, 2, -999.000, 2, -999.000, 9, 5.000, 2
320620030705, SBI, 314, 1, 107, 7, 2, 20030815, 940, 71.2814, -149.1815, 1317,    195.7,  -0.4449,  34.4113, 2, -999.0000, 9,    262.4, 2,    283.5, 2,    17.81, 2,    12.96, 2,     0.09, 2,     1.25, 2,  -999.00, 9,  -0.4513,     0.16, 2, 0.01, 2,  -999.00, 9,  -999.00, 9,   0.7400, 2, -999.000, 2, -999.000, 9, 5.000, 2
320620030705, SBI, 314, 1, 106, 6, 2, 20030815, 938, 71.2814, -149.1815, 1317,    216.0,  -0.1673,  34.5579, 2, -999.0000, 9,    262.9, 2,    283.7, 2,    15.28, 2,    12.86, 2,     0.08, 2,     1.16, 2,  -999.00, 9,  -0.1750,     0.06, 2, 0.01, 2,  -999.00, 9,  -999.00, 9,   0.7430, 2, -999.000, 2, -999.000, 9, 5.000, 2
320620030705, SBI, 314, 1, 105, 5, 2, 20030815, 934, 71.2814, -149.1815, 1317,    306.7,   0.4057,  34.7688, 2,  34.7698, 2,    268.9, 2,    289.6, 2,    10.33, 2,    12.64, 2,     0.05, 2,     1.01, 2,  -999.00, 9,   0.3929,     0.00, 2, 0, 2,  -999.00, 9,  -999.00, 9,   0.6110, 2, -999.000, 2, -999.000, 9, 5.000, 2
320620030705, SBI, 314, 1, 104, 4, 2, 20030815, 926, 71.2814, -149.1815, 1317,    608.5,   0.4273,  34.8464, 2,  34.8455, 2,    273.8, 2,    295.9, 2,     7.61, 2,    12.52, 2,     0.01, 2,     0.92, 2,  -999.00, 9,   0.4002,     0.00, 2, 0, 2,  -999.00, 9,  -999.00, 9,   0.5500, 2, -999.000, 2, -999.000, 9, 5.000, 2
320620030705, SBI, 314, 1, 103, 3, 2, 20030815, 917, 71.2814, -149.1815, 1317,    911.1,   0.1573,  34.8691, 2,  34.8698, 2,    275.5, 2,    298.5, 2,     7.30, 2,    12.53, 2,     0.00, 2,     0.92, 2,  -999.00, 9,   0.1162,     0.00, 2, 0, 2,  -999.00, 9,  -999.00, 9,   0.6840, 2, -999.000, 2, -999.000, 9, 5.000, 2
320620030705, SBI, 314, 1, 102, 2, 2, 20030815, 909, 71.2814, -149.1815, 1317,   1274.5,  -0.1114,  34.8901, 2,  34.8893, 2,    274.5, 2,    298.7, 2,     8.19, 2,    12.84, 2,     0.00, 2,     0.95, 2,  -999.00, 9,  -0.1702,     0.00, 2, 0, 2,  -999.00, 9,  -999.00, 9,   0.6520, 2, -999.000, 2, -999.000, 9, 5.000, 2
320620030705, SBI, 314, 1, 101, 1, 2, 20030815, 906, 71.2814, -149.1815, 1317,   1323.7,  -0.2020,  34.8994, 2,  34.8987, 2,    273.8, 2,    299.0, 2,     8.79, 2,    12.94, 2,     0.00, 2,     0.97, 2,  -999.00, 9,  -0.2627,     0.00, 2, 0, 2,  -999.00, 9,  -999.00, 9,   0.5350, 2, -999.000, 2, -999.000, 9, 5.000, 2