BOTTLE,20100423CCHDOSIODBK
EXPOCODE,SECT_ID,STNNBR,CASTNO,SAMPNO,BTLNBR,BTLNBR_FLAG_W,DATE,TIME,LATITUDE,LONGITUDE,DEPTH,CTDPRS,CTDTMP,CTDSAL,CTDSAL_FLAG_W,SALNTY,SALNTY_FLAG_W,CTDOXY,CTDOXY_FLAG_W,OXYGEN,OXYGEN_FLAG_W,SILCAT,SILCAT_FLAG_W,NITRAT,NITRAT_FLAG_W,NITRIT,NITRIT_FLAG_W,PHSPHT,PHSPHT_FLAG_W,DOC,DOC_FLAG_W,THETA,NH4,NH4_FLAG_W,UREA,UREA_FLAG_W,CHLORA,CHLORA_FLAG_W,PPHYTN,PPHYTN_FLAG_W,FLUOR,FLUOR_FLAG_W,HAARDT,HAARDT_FLAG_W,PAR,PAR_FLAG_W,SPAR,SPAR_FLAG_W
,,,,,,,,,,,METERS,DBAR,ITS-90,PSS-78,,PSS-78,,UMOL/KG,,UMOL/KG,,UMOL/KG,,UMOL/KG,,UMOL/KG,,UMOL/KG,,UMOL/KG,,DEG C,UMOL/KG,,UMOL/KG,,UG/KG,,UG/KG,,MG/M^3,,VOLTS,,VOLTS,,VOLTS,
320620030705, SBI, 49, 1, 124, 24, 2, 20030718, 1301, 71.7155, -151.9315, 1063,      2.4,   0.1256,  29.2657, 2,  29.1757, 2,    357.1, 2,    387.5, 2,     8.87, 2,     0.14, 2,     0.00, 2,     0.78, 2,    71.70, 2,   0.1255,     0.35, 2, 0.01, 2,     0.18, 2,     0.06, 2,   1.1700, 2, -999.000, 2, 0.000, 9, 4.934, 2
320620030705, SBI, 49, 1, 123, 23, 2, 20030718, 1259, 71.7155, -151.9315, 1063,     13.4,   0.4167,  30.5237, 2, -999.0000, 9,    361.6, 2,    388.7, 2,    11.51, 2,     0.28, 2,     0.02, 2,     0.86, 2,  -999.00, 9,   0.4163,     0.45, 2, 0.04, 2,  -999.00, 9,  -999.00, 9,   1.0560, 2, -999.000, 2, 0.000, 9, 4.934, 2
320620030705, SBI, 49, 1, 122, 22, 2, 20030718, 1257, 71.7155, -151.9315, 1063,     23.4,   0.5641,  30.5027, 2, -999.0000, 9,    362.5, 2,    385.8, 2,    13.05, 2,     0.40, 2,     0.01, 2,     0.89, 2,    74.50, 2,   0.5633,     0.68, 2, 0.07, 2,     0.28, 2,     0.10, 2,   1.0940, 2, -999.000, 2, 0.000, 9, 4.942, 2
320620030705, SBI, 49, 1, 121, 21, 2, 20030718, 1256, 71.7155, -151.9315, 1063,     35.2,   0.3516,  31.5514, 2, -999.0000, 9,    367.3, 2,    398.1, 2,    11.71, 2,     0.66, 2,     0.02, 2,     0.89, 2,    74.10, 2,   0.3505,     0.75, 2, 0.09, 2,     2.43, 2,     0.44, 2,   1.7760, 2, -999.000, 2, 0.000, 9, 4.948, 2
320620030705, SBI, 49, 1, 120, 20, 2, 20030718, 1254, 71.7155, -151.9315, 1063,     47.9,  -0.0821,  31.7321, 2, -999.0000, 9,    374.4, 2,    407.1, 2,     8.65, 2,     0.72, 2,     0.03, 2,     0.89, 2,    73.10, 2,  -0.0835,     0.95, 2, 0.09, 2,     0.28, 2,     0.08, 2,   0.9180, 2, -999.000, 2, 0.000, 9, 4.947, 2
320620030705, SBI, 49, 1, 119, 19, 2, 20030718, 1252, 71.7155, -151.9315, 1063,     62.9,  -0.4167,  31.8341, 2, -999.0000, 9,    372.4, 2,   -999.0, 9,     8.66, 2,     0.98, 2,     0.03, 2,     0.88, 2,  -999.00, 9,  -0.4184,     0.86, 2, 0.08, 2,  -999.00, 9,  -999.00, 9,   1.1310, 2, -999.000, 2, 0.000, 9, 4.947, 2
320620030705, SBI, 49, 1, 118, 18, 2, 20030718, 1251, 71.7155, -151.9315, 1063,     77.9,  -1.0173,  31.9272, 2, -999.0000, 9,    327.4, 2,    367.5, 2,    14.87, 2,     4.36, 2,     0.07, 2,     1.19, 2,    69.30, 2,  -1.0190,     0.78, 2, 0.06, 2,     0.23, 2,     0.18, 2,   1.0270, 2, -999.000, 2, 0.000, 9, 4.946, 2
320620030705, SBI, 49, 1, 117, 17, 2, 20030718, 1249, 71.7155, -151.9315, 1063,     92.4,  -1.3727,  32.1259, 2, -999.0000, 9,    303.4, 2,    333.6, 2,    20.07, 2,     8.14, 2,     0.07, 2,     1.42, 2,    68.80, 2,  -1.3745,     0.15, 2, 0, 2,  -999.00, 9,  -999.00, 9,   0.9760, 2, -999.000, 2, 0.000, 9, 4.952, 2
320620030705, SBI, 49, 1, 116, 16, 2, 20030718, 1247, 71.7155, -151.9315, 1063,    107.1,  -1.3776,  32.2874, 2, -999.0000, 9,    290.4, 2,    318.8, 2,    21.09, 2,     9.82, 2,     0.01, 2,     1.52, 2,  -999.00, 9,  -1.3797,     0.04, 2, 0.02, 2,     0.07, 2,     0.03, 2,   0.7460, 2, -999.000, 2, 0.000, 9, 4.952, 2
320620030705, SBI, 49, 1, 115, 15, 2, 20030718, 1246, 71.7155, -151.9315, 1063,    121.8,  -1.3577,  32.4155, 2, -999.0000, 9,    290.2, 2,    323.4, 2,    23.23, 2,     8.65, 2,     0.08, 2,     1.49, 2,    65.70, 2,  -1.3602,     0.74, 2, 0.03, 2,  -999.00, 9,  -999.00, 9,   0.8850, 2, -999.000, 2, 0.000, 9, 4.954, 2
320620030705, SBI, 49, 1, 114, 14, 2, 20030718, 1244, 71.7155, -151.9315, 1063,    136.2,  -1.5377,  32.5168, 2, -999.0000, 9,    293.6, 2,    323.4, 2,    24.76, 2,     9.23, 2,     0.08, 2,     1.51, 2,  -999.00, 9,  -1.5403,     0.41, 2, 0.02, 2,  -999.00, 9,  -999.00, 9,   0.7390, 2, -999.000, 2, 0.000, 9, 4.951, 2
320620030705, SBI, 49, 1, 113, 13, 2, 20030718, 1242, 71.7155, -151.9315, 1063,    150.4,  -1.5329,  32.7051, 2, -999.0000, 9,    280.9, 2,    309.0, 2,    27.42, 2,    11.14, 2,     0.06, 2,     1.61, 2,    65.30, 2,  -1.5358,     0.23, 2, 0.01, 2,  -999.00, 9,  -999.00, 9,   0.7090, 2, -999.000, 2, 0.000, 9, 4.950, 2
320620030705, SBI, 49, 1, 112, 12, 2, 20030718, 1241, 71.7155, -151.9315, 1063,    164.6,  -1.5557,  33.0072, 2, -999.0000, 9,    270.6, 2,    298.3, 2,    30.78, 2,    13.43, 2,     0.02, 2,     1.70, 2,    65.40, 2,  -1.5590,     0.03, 2, 0.01, 2,  -999.00, 9,  -999.00, 9,   0.8880, 2, -999.000, 2, 0.000, 9, 4.949, 2
320620030705, SBI, 49, 1, 111, 11, 2, 20030718, 1239, 71.7155, -151.9315, 1063,    179.2,  -1.1036,  34.0664, 2,  34.1253, 2,    267.4, 2,    291.5, 2,    25.05, 2,    13.53, 2,     0.01, 2,     1.44, 2,  -999.00, 9,  -1.1083,     0.01, 2, 0.01, 2,  -999.00, 9,  -999.00, 9,   0.9130, 2, -999.000, 2, 0.000, 9, 4.949, 2
320620030705, SBI, 49, 1, 110, 10, 2, 20030718, 1237, 71.7155, -151.9315, 1063,    203.9,  -0.4666,  34.4589, 2,  34.4804, 2,    260.9, 2,    285.8, 2,    18.32, 2,    13.20, 2,     0.03, 2,     1.20, 2,    62.20, 2,  -0.4733,     0.01, 2, 0.02, 2,  -999.00, 9,  -999.00, 9,   0.8650, 2, -999.000, 2, 0.000, 9, 4.952, 2
320620030705, SBI, 49, 1, 109, 9, 2, 20030718, 1235, 71.7155, -151.9315, 1063,    216.9,  -0.1228,  34.5967, 2,  34.5878, 2,    263.3, 2,    286.5, 2,    16.08, 2,    13.15, 2,     0.03, 2,     1.14, 2,    59.90, 2,  -0.1306,     0.00, 2, 0.01, 2,  -999.00, 9,  -999.00, 9,   0.7460, 2, -999.000, 2, 0.000, 9, 4.952, 2
320620030705, SBI, 49, 1, 108, 8, 2, 20030718, 1232, 71.7155, -151.9315, 1063,    241.2,   0.1856,  34.6943, 2,  34.6921, 2,    262.6, 2,    285.1, 2,    12.82, 2,    13.17, 2,     0.00, 2,     1.05, 2,    57.40, 2,   0.1762,     0.00, 2, 0.01, 2,  -999.00, 9,  -999.00, 9,   0.5910, 2, -999.000, 2, 0.000, 9, 4.954, 2
320620030705, SBI, 49, 1, 107, 7, 2, 20030718, 1230, 71.7155, -151.9315, 1063,    266.6,   0.4286,  34.7569, 2,  34.7587, 2,    265.8, 2,    288.0, 2,    10.48, 2,    12.96, 2,     0.00, 2,     0.98, 2,  -999.00, 9,   0.4176,     0.00, 2, 0.01, 2,  -999.00, 9,  -999.00, 9,   0.6340, 2, -999.000, 2, 0.000, 9, 4.952, 2
320620030705, SBI, 49, 1, 106, 6, 2, 20030718, 1227, 71.7155, -151.9315, 1063,    305.3,   0.5079,  34.7922, 2,  34.7935, 2,    267.8, 2,    290.0, 2,     9.57, 2,    12.86, 2,     0.00, 2,     0.95, 2,  -999.00, 9,   0.4949,     0.00, 2, 0.01, 2,  -999.00, 9,  -999.00, 9,   0.5580, 2, -999.000, 2, 0.000, 9, 4.952, 2
320620030705, SBI, 49, 1, 105, 5, 2, 20030718, 1225, 71.7155, -151.9315, 1063,    332.0,   0.5634,  34.8123, 2,  34.8106, 2,    269.9, 2,    292.4, 2,     8.85, 2,    12.86, 2,     0.00, 2,     0.93, 2,  -999.00, 9,   0.5491,     0.00, 2, 0.01, 2,  -999.00, 9,  -999.00, 9,   0.6530, 2, -999.000, 2, 0.000, 9, 4.949, 2
320620030705, SBI, 49, 1, 104, 4, 2, 20030718, 1220, 71.7155, -151.9315, 1063,    463.4,   0.4483,  34.8432, 2,  34.8428, 2,    271.3, 2,    294.2, 2,     8.44, 2,    12.91, 2,     0.00, 2,     0.92, 2,  -999.00, 9,   0.4282,     0.00, 2, 0, 2,  -999.00, 9,  -999.00, 9,   0.5510, 2, -999.000, 2, 0.000, 9, 4.956, 2
320620030705, SBI, 49, 1, 103, 3, 2, 20030718, 1213, 71.7155, -151.9315, 1063,    691.3,   0.1951,  34.8664, 2,  34.8670, 2,    274.0, 2,    298.6, 2,     7.73, 2,    12.86, 2,     0.00, 2,     0.91, 2,  -999.00, 9,   0.1651,     0.00, 2, 0.01, 2,  -999.00, 9,  -999.00, 9,   0.5510, 2, -999.000, 2, 0.000, 9, 4.958, 2
320620030705, SBI, 49, 1, 102, 2, 2, 20030718, 1207, 71.7155, -151.9315, 1063,    938.9,  -0.0632,  34.8844, 2,  34.8829, 2,    273.6, 2,    300.5, 2,     8.35, 2,    12.97, 2,     0.00, 2,     0.93, 2,  -999.00, 9,  -0.1041,     0.00, 2, 0, 2,  -999.00, 9,  -999.00, 9,   0.5580, 2, -999.000, 2, 0.000, 9, 4.958, 2
320620030705, SBI, 49, 1, 101, 1, 2, 20030718, 1203, 71.7155, -151.9315, 1063,   1051.6,  -0.1186,  34.8899, 2,  34.8896, 2,    273.0, 2,    298.2, 2,     8.85, 2,    13.11, 2,     0.01, 2,     0.95, 2,  -999.00, 9,  -0.1650,     0.00, 2, 0.01, 2,  -999.00, 9,  -999.00, 9,   0.5880, 2, -999.000, 2, 0.000, 9, 4.963, 2
320620030705, SBI, 50, 1, 124, 24, 2, 20030718, 2218, 71.6594, -151.9890, 922,      1.8,  -0.2611,  29.4147, 2,  29.6262, 2,    364.5, 2,    394.5, 2,    11.90, 2,     0.14, 2,     0.00, 2,     0.80, 2,    72.90, 2,  -0.2611,     0.22, 2, 0, 2,     0.21, 2,     0.06, 2,   0.7590, 2, -999.000, 2, -999.000, 9, 4.166, 2
320620030705, SBI, 50, 1, 123, 23, 2, 20030718, 2217, 71.6594, -151.9890, 922,     19.2,   0.1384,  31.2943, 2, -999.0000, 9,    381.2, 2,    407.9, 2,    21.06, 2,     0.14, 2,     0.01, 2,     0.98, 2,    73.60, 2,   0.1378,     0.24, 2, 0.04, 2,     2.16, 2,     0.16, 2,   1.7930, 2, -999.000, 2, -999.000, 9, 4.090, 2
320620030705, SBI, 50, 1, 122, 22, 2, 20030718, 2216, 71.6594, -151.9890, 922,     26.2,   0.3290,  31.5357, 2, -999.0000, 9,    368.8, 2,    388.1, 2,    13.72, 2,     1.78, 2,     0.05, 2,     0.96, 2,    74.50, 2,   0.3282,     0.85, 2, 0.06, 2,     1.38, 2,     0.17, 2,   1.8720, 2, -999.000, 2, -999.000, 9, 3.799, 2
320620030705, SBI, 50, 1, 121, 21, 2, 20030718, 2214, 71.6594, -151.9890, 922,     43.8,  -0.4819,  31.8604, 2, -999.0000, 9,    372.5, 2,    402.9, 2,     8.32, 2,     1.04, 2,     0.03, 2,     0.82, 2,  -999.00, 9,  -0.4830,     0.69, 2, 0.07, 2,     0.20, 2,     0.12, 2,   1.0720, 2, -999.000, 2, -999.000, 9, 3.950, 2
320620030705, SBI, 50, 1, 120, 20, 2, 20030718, 2213, 71.6594, -151.9890, 922,     59.1,  -0.6267,  31.8859, 2, -999.0000, 9,    363.9, 2,    394.7, 2,    10.75, 2,     1.89, 2,     0.05, 2,     0.95, 2,    73.60, 2,  -0.6282,     0.93, 2, 0.07, 2,     0.28, 2,     0.21, 2,   1.0030, 2, -999.000, 2, -999.000, 9, 4.096, 2
320620030705, SBI, 50, 1, 119, 19, 2, 20030718, 2212, 71.6594, -151.9890, 922,     74.2,  -0.8869,  31.9822, 2, -999.0000, 9,    355.9, 2,    388.3, 2,    13.19, 2,     2.72, 2,     0.08, 2,     1.07, 2,  -999.00, 9,  -0.8886,     1.19, 2, 0.09, 2,  -999.00, 9,  -999.00, 9,   1.0520, 2, -999.000, 2, -999.000, 9, 3.872, 2
320620030705, SBI, 50, 1, 118, 18, 2, 20030718, 2210, 71.6594, -151.9890, 922,     89.4,  -1.1954,  32.1179, 2, -999.0000, 9,    342.3, 2,    372.3, 2,    18.59, 2,     4.08, 2,     0.12, 2,     1.26, 2,    75.80, 2,  -1.1973,     1.73, 2, 0.11, 2,  -999.00, 9,  -999.00, 9,   1.0380, 2, -999.000, 2, -999.000, 9, 3.879, 2
320620030705, SBI, 50, 1, 117, 17, 2, 20030718, 2208, 71.6594, -151.9890, 922,    105.5,  -0.9159,  32.2420, 2, -999.0000, 9,    325.1, 2,    353.6, 2,    21.43, 2,     5.00, 2,     0.16, 2,     1.34, 2,    76.10, 2,  -0.9184,     1.95, 2, 0.11, 2,     0.14, 2,     0.25, 2,   1.0230, 2, -999.000, 2, -999.000, 9, 4.110, 2
320620030705, SBI, 50, 1, 116, 16, 2, 20030718, 2207, 71.6594, -151.9890, 922,    121.0,  -0.4239,  32.3637, 2, -999.0000, 9,    319.4, 2,    346.5, 2,    18.49, 2,     3.86, 2,     0.13, 2,     1.23, 2,  -999.00, 9,  -0.4273,     1.85, 2, 0.1, 2,  -999.00, 9,  -999.00, 9,   0.8600, 2, -999.000, 2, -999.000, 9, 3.853, 2
320620030705, SBI, 50, 1, 115, 15, 2, 20030718, 2206, 71.6594, -151.9890, 922,    136.0,  -1.0001,  32.4120, 2, -999.0000, 9,    311.1, 2,    340.3, 2,    21.43, 2,     5.34, 2,     0.14, 2,     1.35, 2,    73.40, 2,  -1.0033,     1.92, 2, 0.08, 2,  -999.00, 9,  -999.00, 9,   0.8900, 2, -999.000, 2, -999.000, 9, 3.832, 2
320620030705, SBI, 50, 1, 114, 14, 2, 20030718, 2204, 71.6594, -151.9890, 922,    151.2,  -1.4022,  32.4706, 2, -999.0000, 9,    295.0, 2,    323.0, 2,    27.03, 2,     8.22, 2,     0.17, 2,     1.58, 2,    72.50, 2,  -1.4053,     2.42, 2, 0.11, 2,  -999.00, 9,  -999.00, 9,   1.1280, 2, -999.000, 2, -999.000, 9, 3.860, 2
320620030705, SBI, 50, 1, 113, 13, 2, 20030718, 2203, 71.6594, -151.9890, 922,    166.1,  -1.4824,  32.6418, 2, -999.0000, 9,    275.1, 2,    302.3, 2,    27.44, 2,    12.09, 2,     0.03, 2,     1.66, 2,    64.10, 2,  -1.4857,     0.19, 2, 0.01, 2,  -999.00, 9,  -999.00, 9,   0.7270, 2, -999.000, 2, -999.000, 9, 3.873, 2
320620030705, SBI, 50, 1, 112, 12, 2, 20030718, 2202, 71.6594, -151.9890, 922,    185.5,  -1.5437,  33.1716, 2, -999.0000, 9,    269.3, 2,    293.6, 2,    30.48, 2,    13.66, 2,     0.02, 2,     1.66, 2,    60.50, 2,  -1.5475,     0.04, 2, 0.02, 2,  -999.00, 9,  -999.00, 9,   0.6950, 2, -999.000, 2, -999.000, 9, 3.995, 2
320620030705, SBI, 50, 1, 111, 11, 2, 20030718, 2201, 71.6594, -151.9890, 922,    200.6,  -0.7895,  34.2235, 2,  34.2571, 2,    265.4, 2,    288.9, 2,    22.61, 2,    13.34, 2,     0.01, 2,     1.37, 2,  -999.00, 9,  -0.7954,     0.03, 2, 0.01, 2,  -999.00, 9,  -999.00, 9,   0.6690, 2, -999.000, 2, -999.000, 9, 3.999, 2
320620030705, SBI, 50, 1, 110, 10, 2, 20030718, 2159, 71.6594, -151.9890, 922,    216.6,  -0.6394,  34.4604, 2,  34.4746, 2,    268.1, 2,    290.1, 2,    19.05, 2,    13.03, 2,     0.00, 2,     1.24, 2,    57.30, 2,  -0.6462,     0.03, 2, 0.01, 2,     0.02, 2,     0.04, 2,   0.6520, 2, -999.000, 2, -999.000, 9, 4.114, 2
320620030705, SBI, 50, 1, 109, 9, 2, 20030718, 2158, 71.6594, -151.9890, 922,    230.4,  -0.1487,  34.5829, 2,  34.5859, 2,    261.1, 2,    283.1, 2,    15.48, 2,    13.19, 2,     0.00, 2,     1.11, 2,  -999.00, 9,  -0.1570,     0.02, 2, 0.01, 2,  -999.00, 9,  -999.00, 9,   0.7540, 2, -999.000, 2, -999.000, 9, 4.139, 2
320620030705, SBI, 50, 1, 108, 8, 2, 20030718, 2157, 71.6594, -151.9890, 922,    249.3,   0.0351,  34.6547, 2,  34.6594, 2,    265.0, 2,    286.0, 2,    13.65, 2,    12.92, 2,     0.00, 2,     1.07, 2,    57.00, 2,   0.0257,     0.03, 2, 0.04, 2,  -999.00, 9,  -999.00, 9,   0.7980, 2, -999.000, 2, -999.000, 9, 4.041, 2
320620030705, SBI, 50, 1, 107, 7, 2, 20030718, 2156, 71.6594, -151.9890, 922,    266.4,   0.2044,  34.7097, 2,  34.7146, 2,    267.7, 2,    288.6, 2,    12.53, 2,    13.03, 2,     0.00, 2,     1.04, 2,  -999.00, 9,   0.1939,     0.01, 2, 0, 2,  -999.00, 9,  -999.00, 9,   0.7650, 2, -999.000, 2, -999.000, 9, 3.990, 2
320620030705, SBI, 50, 1, 106, 6, 2, 20030718, 2153, 71.6594, -151.9890, 922,    319.3,   0.6753,  34.8061, 2,  34.8070, 2,    271.8, 2,    291.9, 2,     7.96, 2,    12.72, 2,     0.00, 2,     0.89, 2,  -999.00, 9,   0.6612,     0.02, 2, 0, 2,  -999.00, 9,  -999.00, 9,   0.5950, 2, -999.000, 2, -999.000, 9, 3.895, 2
320620030705, SBI, 50, 1, 105, 5, 2, 20030718, 2149, 71.6594, -151.9890, 922,    447.0,   0.5035,  34.8335, 2,  34.8325, 2,    273.1, 2,    295.2, 2,     8.36, 2,    12.76, 2,     0.00, 2,     0.92, 2,  -999.00, 9,   0.4839,     0.01, 2, 0, 2,  -999.00, 9,  -999.00, 9,   0.7110, 2, -999.000, 2, -999.000, 9, 3.908, 2
320620030705, SBI, 50, 1, 104, 4, 2, 20030718, 2144, 71.6594, -151.9890, 922,    595.5,   0.3524,  34.8561, 2,  34.8557, 2,    274.6, 2,    296.5, 2,     8.05, 2,    12.81, 2,     0.00, 2,     0.92, 2,  -999.00, 9,   0.3263,     0.01, 2, 0, 2,  -999.00, 9,  -999.00, 9,   0.5300, 2, -999.000, 2, -999.000, 9, 4.194, 2
320620030705, SBI, 50, 1, 103, 3, 2, 20030718, 2140, 71.6594, -151.9890, 922,    749.2,   0.1438,  34.8694, 2,  34.8577, 2,    275.4, 2,    296.4, 2,     8.04, 2,    12.81, 2,     0.00, 2,     0.92, 2,  -999.00, 9,   0.1112,     0.00, 2, 0, 2,  -999.00, 9,  -999.00, 9,   0.7320, 2, -999.000, 2, -999.000, 9, 3.955, 2
320620030705, SBI, 50, 1, 102, 2, 2, 20030718, 2136, 71.6594, -151.9890, 922,    878.5,   0.0357,  34.8769, 2,  34.8762, 2,    275.0, 2,    298.1, 2,     8.55, 2,    12.91, 2,     0.01, 2,     0.94, 2,  -999.00, 9,  -0.0028,     0.02, 2, 0, 2,  -999.00, 9,  -999.00, 9,   0.7230, 2, -999.000, 2, -999.000, 9, 3.903, 2
320620030705, SBI, 50, 1, 101, 1, 2, 20030718, 2133, 71.6594, -151.9890, 922,    926.1,  -0.0169,  34.8817, 2,  34.8789, 2,    274.8, 2,    298.3, 2,     8.65, 2,    12.91, 2,     0.01, 2,     0.95, 2,  -999.00, 9,  -0.0575,     0.04, 2, 0, 2,  -999.00, 9,  -999.00, 9,   0.5520, 2, -999.000, 2, -999.000, 9, 4.252, 2