BOTTLE,20100423CCHDOSIODBK
EXPOCODE,SECT_ID,STNNBR,CASTNO,SAMPNO,BTLNBR,BTLNBR_FLAG_W,DATE,TIME,LATITUDE,LONGITUDE,DEPTH,CTDPRS,CTDTMP,CTDSAL,CTDSAL_FLAG_W,SALNTY,SALNTY_FLAG_W,CTDOXY,CTDOXY_FLAG_W,OXYGEN,OXYGEN_FLAG_W,SILCAT,SILCAT_FLAG_W,NITRAT,NITRAT_FLAG_W,NITRIT,NITRIT_FLAG_W,PHSPHT,PHSPHT_FLAG_W,DOC,DOC_FLAG_W,THETA,NH4,NH4_FLAG_W,UREA,UREA_FLAG_W,CHLORA,CHLORA_FLAG_W,PPHYTN,PPHYTN_FLAG_W,FLUOR,FLUOR_FLAG_W,HAARDT,HAARDT_FLAG_W,PAR,PAR_FLAG_W,SPAR,SPAR_FLAG_W
,,,,,,,,,,,METERS,DBAR,ITS-90,PSS-78,,PSS-78,,UMOL/KG,,UMOL/KG,,UMOL/KG,,UMOL/KG,,UMOL/KG,,UMOL/KG,,UMOL/KG,,DEG C,UMOL/KG,,UMOL/KG,,UG/KG,,UG/KG,,MG/M^3,,VOLTS,,VOLTS,,VOLTS,
320620030705, SBI, 323, 1, 112, 12, 2, 20030816, 1356, 71.7248, -148.9673, 2858,      7.4,  -0.5020,  27.8668, 2,  27.8646, 2,    345.4, 2,    378.1, 2,     2.58, 2,     0.16, 2,     0.00, 2,     0.64, 2,  -999.00, 9,  -0.5021,     0.00, 2, 0, 2,  -999.00, 9,  -999.00, 9,   0.6870, 2, -999.000, 2, -999.000, 9, 4.997, 2
320620030705, SBI, 323, 1, 111, 11, 2, 20030816, 1354, 71.7248, -148.9673, 2858,     25.9,   0.3075,  28.5890, 2,  28.8922, 2,    348.8, 2,    373.6, 2,     6.07, 2,     0.10, 2,     0.00, 2,     0.69, 2,  -999.00, 9,   0.3068,     0.02, 2, 0, 2,  -999.00, 9,  -999.00, 9,   0.7870, 2, -999.000, 2, -999.000, 9, 4.998, 2
320620030705, SBI, 323, 1, 110, 10, 2, 20030816, 1352, 71.7248, -148.9673, 2858,     45.8,   2.1226,  30.7643, 2, -999.0000, 9,    339.3, 2,    364.9, 2,     9.74, 2,     0.20, 2,     0.01, 2,     0.79, 2,  -999.00, 9,   2.1205,     0.50, 2, 0.05, 2,  -999.00, 9,  -999.00, 9,   1.0350, 2, -999.000, 2, -999.000, 9, 4.997, 2
320620030705, SBI, 323, 1, 109, 9, 2, 20030816, 1349, 71.7248, -148.9673, 2858,     65.8,  -0.8993,  31.7411, 2, -999.0000, 9,    329.3, 2,    348.0, 2,    11.92, 2,     4.92, 2,     0.17, 2,     1.20, 2,  -999.00, 9,  -0.9008,     0.01, 2, 0, 2,  -999.00, 9,  -999.00, 9,   1.2100, 2, -999.000, 2, -999.000, 9, 4.997, 2
320620030705, SBI, 323, 1, 108, 8, 2, 20030816, 1347, 71.7248, -148.9673, 2858,     86.0,  -1.1859,  32.1607, 2, -999.0000, 9,    296.4, 2,    318.2, 2,    19.35, 2,     9.30, 2,     0.03, 2,     1.50, 2,  -999.00, 9,  -1.1877,     0.02, 2, 0.01, 2,  -999.00, 9,  -999.00, 9,   1.0080, 2, -999.000, 2, -999.000, 9, 4.997, 2
320620030705, SBI, 323, 1, 107, 7, 2, 20030816, 1345, 71.7248, -148.9673, 2858,    106.2,  -1.3748,  32.4742, 2, -999.0000, 9,    279.7, 2,    303.1, 2,    24.99, 2,    11.61, 2,     0.02, 2,     1.66, 2,  -999.00, 9,  -1.3769,     0.02, 2, 0, 2,  -999.00, 9,  -999.00, 9,   0.8580, 2, -999.000, 2, -999.000, 9, 4.997, 2
320620030705, SBI, 323, 1, 106, 6, 2, 20030816, 1343, 71.7248, -148.9673, 2858,    126.1,  -1.4607,  32.6845, 2, -999.0000, 9,    268.6, 2,    289.5, 2,    29.73, 2,    13.62, 2,     0.00, 2,     1.78, 2,  -999.00, 9,  -1.4632,     0.00, 2, 0, 2,  -999.00, 9,  -999.00, 9,   0.6150, 2, -999.000, 2, -999.000, 9, 4.997, 2
320620030705, SBI, 323, 1, 105, 5, 2, 20030816, 1342, 71.7248, -148.9673, 2858,    146.1,  -1.5308,  32.8842, 2, -999.0000, 9,    264.6, 2,    287.2, 2,    32.45, 2,    14.50, 2,     0.00, 2,     1.83, 2,  -999.00, 9,  -1.5337,     0.00, 2, 0, 2,  -999.00, 9,  -999.00, 9,   0.7850, 2, -999.000, 2, -999.000, 9, 4.997, 2
320620030705, SBI, 323, 1, 104, 4, 2, 20030816, 1340, 71.7248, -148.9673, 2858,    166.3,  -1.5281,  33.0879, 2, -999.0000, 9,    260.0, 2,    281.7, 2,    35.18, 2,    15.55, 2,     0.00, 2,     1.90, 2,  -999.00, 9,  -1.5315,     0.00, 2, 0, 2,  -999.00, 9,  -999.00, 9,   0.6190, 2, -999.000, 2, -999.000, 9, 4.997, 2
320620030705, SBI, 323, 1, 103, 3, 2, 20030816, 1337, 71.7248, -148.9673, 2858,    186.4,  -1.3910,  33.3973, 2, -999.0000, 9,    256.2, 2,    277.9, 2,    32.41, 2,    14.87, 2,     0.00, 2,     1.75, 2,  -999.00, 9,  -1.3952,     0.00, 2, 0, 2,  -999.00, 9,  -999.00, 9,   0.6180, 2, -999.000, 2, -999.000, 9, 4.998, 2
320620030705, SBI, 323, 1, 102, 2, 2, 20030816, 1335, 71.7248, -148.9673, 2858,    206.3,  -1.2184,  33.7915, 2, -999.0000, 9,    257.8, 2,    279.6, 2,    29.24, 2,    14.59, 2,     0.00, 2,     1.60, 2,  -999.00, 9,  -1.2236,     0.00, 2, 0.01, 2,  -999.00, 9,  -999.00, 9,   0.7850, 2, -999.000, 2, -999.000, 9, 4.998, 2
320620030705, SBI, 323, 1, 101, 1, 2, 20030816, 1327, 71.7248, -148.9673, 2858,    508.2,   0.5130,  34.8317, 2,  34.8326, 2,    272.3, 2,    291.9, 2,     8.25, 2,    12.71, 2,     0.00, 2,     0.93, 2,  -999.00, 9,   0.4904,     0.00, 2, 0.01, 2,  -999.00, 9,  -999.00, 9,   0.5190, 2, -999.000, 2, -999.000, 9, 4.999, 2
320620030705, SBI, 324, 1, 112, 12, 2, 20030816, 1525, 71.7742, -148.9427, 2957,      6.5,  -0.6724,  27.7305, 2,  27.7429, 2,    345.5, 2,    378.8, 2,     2.66, 2,     0.09, 2,     0.00, 2,     0.63, 2,  -999.00, 9,  -0.6725,     0.01, 2, 0, 2,  -999.00, 9,  -999.00, 9,   0.7050, 2, -999.000, 2, -999.000, 9, 4.970, 2
320620030705, SBI, 324, 1, 111, 11, 2, 20030816, 1523, 71.7742, -148.9427, 2957,     20.9,   0.5412,  28.6213, 2, -999.0000, 9,    340.9, 2,    373.2, 2,     4.94, 2,     0.09, 2,     0.00, 2,     0.67, 2,  -999.00, 9,   0.5406,     0.01, 2, 0, 2,  -999.00, 9,  -999.00, 9,   0.8900, 2, -999.000, 2, -999.000, 9, 4.973, 2
320620030705, SBI, 324, 1, 110, 10, 2, 20030816, 1521, 71.7742, -148.9427, 2957,     40.8,  -0.1630,  30.4193, 2, -999.0000, 9,    357.4, 2,    386.8, 2,     5.31, 2,     0.09, 2,     0.00, 2,     0.74, 2,  -999.00, 9,  -0.1641,     0.02, 2, 0, 2,  -999.00, 9,  -999.00, 9,   1.0410, 2, -999.000, 2, -999.000, 9, 4.975, 2
320620030705, SBI, 324, 1, 109, 9, 2, 20030816, 1519, 71.7742, -148.9427, 2957,     57.0,  -0.5552,  31.5322, 2, -999.0000, 9,    345.2, 2,    376.2, 2,     9.31, 2,     1.66, 2,     0.22, 2,     0.99, 2,  -999.00, 9,  -0.5566,     0.16, 2, 0.01, 2,  -999.00, 9,  -999.00, 9,   1.3080, 2, -999.000, 2, -999.000, 9, 4.977, 2
320620030705, SBI, 324, 1, 108, 8, 2, 20030816, 1515, 71.7742, -148.9427, 2957,     80.9,  -1.1175,  32.0320, 2, -999.0000, 9,    308.5, 2,    340.7, 2,    16.53, 2,     6.69, 2,     0.06, 2,     1.35, 2,  -999.00, 9,  -1.1192,     0.38, 2, 0.02, 2,  -999.00, 9,  -999.00, 9,   0.9980, 2, -999.000, 2, -999.000, 9, 4.981, 2
320620030705, SBI, 324, 1, 107, 7, 2, 20030816, 1513, 71.7742, -148.9427, 2957,    101.0,  -0.9613,  32.2481, 2, -999.0000, 9,    329.2, 2,    348.8, 2,    18.33, 2,     5.68, 2,     0.13, 2,     1.34, 2,  -999.00, 9,  -0.9636,     1.48, 2, 0.08, 2,  -999.00, 9,  -999.00, 9,   0.7890, 2, -999.000, 2, -999.000, 9, 4.982, 2
320620030705, SBI, 324, 1, 106, 6, 2, 20030816, 1511, 71.7742, -148.9427, 2957,    121.1,  -1.4406,  32.4981, 2, -999.0000, 9,    286.1, 2,    311.7, 2,    25.19, 2,    10.23, 2,     0.09, 2,     1.63, 2,  -999.00, 9,  -1.4430,     0.66, 2, 0.02, 2,  -999.00, 9,  -999.00, 9,   0.7970, 2, -999.000, 2, -999.000, 9, 4.982, 2
320620030705, SBI, 324, 1, 105, 5, 2, 20030816, 1509, 71.7742, -148.9427, 2957,    141.1,  -1.5048,  32.7271, 2, -999.0000, 9,    272.5, 2,    294.2, 2,    29.43, 2,    13.29, 2,     0.00, 2,     1.75, 2,  -999.00, 9,  -1.5076,     0.00, 2, 0, 2,  -999.00, 9,  -999.00, 9,   0.8020, 2, -999.000, 2, -999.000, 9, 4.983, 2
320620030705, SBI, 324, 1, 104, 4, 2, 20030816, 1508, 71.7742, -148.9427, 2957,    161.4,  -1.5409,  32.9447, 2, -999.0000, 9,    266.0, 2,    288.0, 2,    33.28, 2,    14.55, 2,     0.00, 2,     1.83, 2,  -999.00, 9,  -1.5441,     0.00, 2, 0, 2,  -999.00, 9,  -999.00, 9,   0.8130, 2, -999.000, 2, -999.000, 9, 4.983, 2
320620030705, SBI, 324, 1, 103, 3, 2, 20030816, 1506, 71.7742, -148.9427, 2957,    181.4,  -1.5138,  33.1539, 2, -999.0000, 9,    261.9, 2,    283.0, 2,    33.26, 2,    14.86, 2,     0.00, 2,     1.82, 2,  -999.00, 9,  -1.5176,     0.00, 2, 0, 2,  -999.00, 9,  -999.00, 9,   0.6920, 2, -999.000, 2, -999.000, 9, 4.984, 2
320620030705, SBI, 324, 1, 102, 2, 2, 20030816, 1504, 71.7742, -148.9427, 2957,    201.3,  -1.3192,  33.5447, 2, -999.0000, 9,    257.1, 2,    277.8, 2,    31.30, 2,    14.76, 2,     0.00, 2,     1.69, 2,  -999.00, 9,  -1.3239,     0.00, 2, 0.01, 2,  -999.00, 9,  -999.00, 9,   0.7660, 2, -999.000, 2, -999.000, 9, 4.984, 2
320620030705, SBI, 324, 1, 101, 1, 2, 20030816, 1456, 71.7742, -148.9427, 2957,    508.6,   0.5280,  34.8314, 2,  34.8296, 2,    273.4, 2,    292.5, 2,     8.04, 2,    12.65, 2,     0.00, 2,     0.93, 2,  -999.00, 9,   0.5054,     0.00, 2, 0.01, 2,  -999.00, 9,  -999.00, 9,   0.7420, 2, -999.000, 2, -999.000, 9, 4.984, 2
320620030705, SBI, 325, 1, 114, 14, 2, 20030816, 2346, 71.8232, -148.9203, 3066,      1.9,  -0.7060,  27.7035, 2,  27.7001, 2,    349.9, 2,    379.5, 2,     2.05, 2,     0.10, 2,     0.00, 2,     0.63, 2,  -999.00, 9,  -0.7060,     0.02, 2, 0, 2,  -999.00, 9,  -999.00, 9,   0.8360, 2, -999.000, 2, -999.000, 9, 4.816, 2
320620030705, SBI, 325, 1, 113, 13, 2, 20030816, 2343, 71.8232, -148.9203, 3066,     26.4,  -1.0641,  29.7608, 2, -999.0000, 9,    373.0, 2,    402.4, 2,     2.64, 2,     0.05, 2,     0.00, 2,     0.71, 2,  -999.00, 9,  -1.0645,     0.03, 2, 0, 2,  -999.00, 9,  -999.00, 9,   0.7780, 2, -999.000, 2, -999.000, 9, 4.812, 2
320620030705, SBI, 325, 1, 112, 12, 2, 20030816, 2342, 71.8232, -148.9203, 3066,     45.9,  -0.9560,  30.7929, 2, -999.0000, 9,    365.3, 2,    393.4, 2,     4.81, 2,     0.12, 2,     0.04, 2,     0.83, 2,  -999.00, 9,  -0.9569,     0.08, 2, 0.03, 2,  -999.00, 9,  -999.00, 9,   1.2190, 2, -999.000, 2, -999.000, 9, 4.814, 2
320620030705, SBI, 325, 1, 109, 9, 2, 20030816, 2340, 71.8232, -148.9203, 3066,     66.1,  -0.8548,  31.7868, 2, -999.0000, 9,    332.8, 2,    357.0, 2,    11.60, 2,     4.40, 2,     0.21, 2,     1.19, 2,  -999.00, 9,  -0.8563,     0.08, 2, 0.01, 2,  -999.00, 9,  -999.00, 9,   1.2210, 2, -999.000, 2, -999.000, 9, 4.819, 2
320620030705, SBI, 325, 1, 111, 11, 2, 20030816, 2341, 71.8232, -148.9203, 3066,     66.2,  -0.8668,  31.7968, 2, -999.0000, 9,    332.5, 2,   -999.0, 9,  -999.00, 9,  -999.00, 9,  -999.00, 9,  -999.00, 9,  -999.00, 9,  -0.8683,  -999.00, 9, -999, 9,  -999.00, 9,  -999.00, 9,   1.2680, 2, -999.000, 2, -999.000, 9, 4.818, 2
320620030705, SBI, 325, 1, 110, 10, 2, 20030816, 2340, 71.8232, -148.9203, 3066,     66.3,  -0.8597,  31.7910, 2, -999.0000, 9,    332.7, 2,   -999.0, 9,  -999.00, 9,  -999.00, 9,  -999.00, 9,  -999.00, 9,  -999.00, 9,  -0.8612,  -999.00, 9, -999, 9,  -999.00, 9,  -999.00, 9,   1.2370, 2, -999.000, 2, -999.000, 9, 4.818, 2
320620030705, SBI, 325, 1, 108, 8, 2, 20030816, 2339, 71.8232, -148.9203, 3066,     86.2,  -0.7358,  32.0876, 2, -999.0000, 9,    335.6, 2,    359.5, 2,    14.20, 2,     4.03, 2,     0.09, 2,     1.21, 2,  -999.00, 9,  -0.7379,     1.42, 2, 0.1, 2,  -999.00, 9,  -999.00, 9,   0.8000, 2, -999.000, 2, -999.000, 9, 4.822, 2
320620030705, SBI, 325, 1, 107, 7, 2, 20030816, 2338, 71.8232, -148.9203, 3066,    106.1,  -1.1507,  32.2864, 2, -999.0000, 9,    312.3, 2,    338.3, 2,    19.72, 2,     6.73, 2,     0.12, 2,     1.43, 2,  -999.00, 9,  -1.1530,     1.42, 2, 0.07, 2,  -999.00, 9,  -999.00, 9,   0.9340, 2, -999.000, 2, -999.000, 9, 4.818, 2
320620030705, SBI, 325, 1, 106, 6, 2, 20030816, 2336, 71.8232, -148.9203, 3066,    126.4,  -1.4023,  32.5162, 2, -999.0000, 9,    276.7, 2,    300.2, 2,    25.77, 2,    11.96, 2,     0.00, 2,     1.68, 2,  -999.00, 9,  -1.4048,     0.06, 2, 0.06, 2,  -999.00, 9,  -999.00, 9,   0.5840, 2, -999.000, 2, -999.000, 9, 4.817, 2
320620030705, SBI, 325, 1, 105, 5, 2, 20030816, 2335, 71.8232, -148.9203, 3066,    146.5,  -1.4937,  32.7225, 2, -999.0000, 9,    270.2, 2,    292.6, 2,    29.60, 2,    13.31, 2,     0.01, 2,     1.77, 2,  -999.00, 9,  -1.4966,     0.17, 2, 0.05, 2,  -999.00, 9,  -999.00, 9,   0.6310, 2, -999.000, 2, -999.000, 9, 4.817, 2
320620030705, SBI, 325, 1, 104, 4, 2, 20030816, 2334, 71.8232, -148.9203, 3066,    166.6,  -1.5424,  32.9538, 2, -999.0000, 9,    266.0, 2,    287.8, 2,    33.14, 2,    14.67, 2,     0.00, 2,     1.83, 2,  -999.00, 9,  -1.5458,     0.06, 2, 0.02, 2,  -999.00, 9,  -999.00, 9,   0.7560, 2, -999.000, 2, -999.000, 9, 4.818, 2
320620030705, SBI, 325, 1, 103, 3, 2, 20030816, 2333, 71.8232, -148.9203, 3066,    187.0,  -1.5032,  33.1768, 2, -999.0000, 9,    260.6, 2,    282.4, 2,    32.92, 2,    14.88, 2,     0.00, 2,     1.80, 2,  -999.00, 9,  -1.5071,     0.03, 2, 0.01, 2,  -999.00, 9,  -999.00, 9,   0.7000, 2, -999.000, 2, -999.000, 9, 4.817, 2
320620030705, SBI, 325, 1, 102, 2, 2, 20030816, 2332, 71.8232, -148.9203, 3066,    207.0,  -1.3513,  33.4701, 2,  33.5571, 2,    255.0, 2,    277.3, 2,    31.08, 2,    14.66, 2,     0.00, 2,     1.69, 2,  -999.00, 9,  -1.3561,     0.04, 2, 0.04, 2,  -999.00, 9,  -999.00, 9,   0.5380, 2, -999.000, 2, -999.000, 9, 4.812, 2
320620030705, SBI, 325, 1, 101, 1, 2, 20030816, 2324, 71.8232, -148.9203, 3066,    508.1,   0.5402,  34.8327, 2,  34.8334, 2,    273.7, 2,    292.6, 2,     7.50, 2,    12.51, 2,     0.00, 2,     0.92, 2,  -999.00, 9,   0.5175,     0.03, 2, 0.02, 2,  -999.00, 9,  -999.00, 9,   0.3930, 2, -999.000, 2, -999.000, 9, 4.810, 2
320620030705, SBI, 326, 1, 112, 12, 2, 20030817, 114, 71.8731, -148.8964, 3176,      3.1,  -0.5646,  27.7322, 2,  27.7286, 2,    347.2, 2,    378.1, 2,     2.01, 2,     0.09, 2,     0.00, 2,     0.62, 2,  -999.00, 9,  -0.5647,     0.07, 2, 0, 2,  -999.00, 9,  -999.00, 9,   0.6470, 2, -999.000, 2, -999.000, 9, 4.912, 2
320620030705, SBI, 326, 1, 111, 11, 2, 20030817, 112, 71.8731, -148.8964, 3176,     25.8,   2.4253,  29.8509, 2, -999.0000, 9,    331.9, 2,    349.1, 2,     7.40, 2,     0.03, 2,     0.00, 2,     0.68, 2,  -999.00, 9,   2.4241,     0.14, 2, 0, 2,  -999.00, 9,  -999.00, 9,   1.2090, 2, -999.000, 2, -999.000, 9, 4.919, 2
320620030705, SBI, 326, 1, 110, 10, 2, 20030817, 111, 71.8731, -148.8964, 3176,     45.3,   3.6571,  31.0590, 2, -999.0000, 9,    313.8, 2,    331.6, 2,     5.08, 2,     0.13, 2,     0.01, 2,     0.71, 2,  -999.00, 9,   3.6544,     0.79, 2, 0.06, 2,  -999.00, 9,  -999.00, 9,   0.7040, 2, -999.000, 2, -999.000, 9, 4.921, 2
320620030705, SBI, 326, 1, 109, 9, 2, 20030817, 109, 71.8731, -148.8964, 3176,     65.1,   1.9780,  31.4694, 2, -999.0000, 9,    334.7, 2,    355.2, 2,     8.17, 2,     0.42, 2,     0.03, 2,     0.85, 2,  -999.00, 9,   1.9750,     1.21, 2, 0.11, 2,  -999.00, 9,  -999.00, 9,   0.7620, 2, -999.000, 2, -999.000, 9, 4.923, 2
320620030705, SBI, 326, 1, 108, 8, 2, 20030817, 108, 71.8731, -148.8964, 3176,     85.0,   1.1565,  31.7670, 2, -999.0000, 9,    338.8, 2,    364.8, 2,     9.76, 2,     1.73, 2,     0.07, 2,     1.01, 2,  -999.00, 9,   1.1531,     1.32, 2, 0.1, 2,  -999.00, 9,  -999.00, 9,   0.8070, 2, -999.000, 2, -999.000, 9, 4.925, 2
320620030705, SBI, 326, 1, 107, 7, 2, 20030817, 106, 71.8731, -148.8964, 3176,    105.0,  -0.4072,  32.0122, 2, -999.0000, 9,    342.4, 2,    366.0, 2,    13.26, 2,     3.11, 2,     0.12, 2,     1.15, 2,  -999.00, 9,  -0.4101,     1.47, 2, 0.09, 2,  -999.00, 9,  -999.00, 9,   0.7700, 2, -999.000, 2, -999.000, 9, 4.927, 2
320620030705, SBI, 326, 1, 106, 6, 2, 20030817, 105, 71.8731, -148.8964, 3176,    125.3,  -1.0238,  32.2077, 2, -999.0000, 9,    319.4, 2,    343.9, 2,    18.39, 2,     6.03, 2,     0.12, 2,     1.38, 2,  -999.00, 9,  -1.0267,     1.35, 2, 0.08, 2,  -999.00, 9,  -999.00, 9,   0.7690, 2, -999.000, 2, -999.000, 9, 4.929, 2
320620030705, SBI, 326, 1, 105, 5, 2, 20030817, 104, 71.8731, -148.8964, 3176,    145.6,  -1.2745,  32.4495, 2, -999.0000, 9,    316.2, 2,    322.2, 2,    24.64, 2,     8.41, 2,     0.14, 2,     1.63, 2,  -999.00, 9,  -1.2776,     2.23, 2, 0.09, 2,  -999.00, 9,  -999.00, 9,   0.8800, 2, -999.000, 2, -999.000, 9, 4.931, 2
320620030705, SBI, 326, 1, 104, 4, 2, 20030817, 102, 71.8731, -148.8964, 3176,    165.7,  -1.5275,  32.6996, 2, -999.0000, 9,    276.7, 2,    298.0, 2,    28.79, 2,    12.15, 2,     0.06, 2,     1.73, 2,  -999.00, 9,  -1.5308,     0.57, 2, 0.01, 2,  -999.00, 9,  -999.00, 9,   0.8130, 2, -999.000, 2, -999.000, 9, 4.933, 2
320620030705, SBI, 326, 1, 103, 3, 2, 20030817, 101, 71.8731, -148.8964, 3176,    186.1,  -1.5111,  33.0181, 2, -999.0000, 9,    268.2, 2,    291.0, 2,    31.31, 2,    13.68, 2,     0.04, 2,     1.78, 2,  -999.00, 9,  -1.5150,     0.36, 2, 0.01, 2,  -999.00, 9,  -999.00, 9,   0.7140, 2, -999.000, 2, -999.000, 9, 4.934, 2
320620030705, SBI, 326, 1, 102, 2, 2, 20030817, 59, 71.8731, -148.8964, 3176,    206.3,  -1.4074,  33.3850, 2,  33.4359, 2,    259.1, 2,    282.0, 2,    31.60, 2,    14.75, 2,     0.00, 2,     1.73, 2,  -999.00, 9,  -1.4121,     0.00, 2, 0, 2,  -999.00, 9,  -999.00, 9,   0.6950, 2, -999.000, 2, -999.000, 9, 4.937, 2
320620030705, SBI, 326, 1, 101, 1, 2, 20030817, 52, 71.8731, -148.8964, 3176,    508.3,   0.5265,  34.8321, 2,  34.8309, 2,    273.2, 2,    291.9, 2,     7.56, 2,    12.55, 2,     0.00, 2,     0.93, 2,  -999.00, 9,   0.5039,     0.00, 2, 0.02, 2,  -999.00, 9,  -999.00, 9,   0.7990, 2, -999.000, 2, -999.000, 9, 4.934, 2