BOTTLE,20100423CCHDOSIODBK
EXPOCODE,SECT_ID,STNNBR,CASTNO,SAMPNO,BTLNBR,BTLNBR_FLAG_W,DATE,TIME,LATITUDE,LONGITUDE,DEPTH,CTDPRS,CTDTMP,CTDSAL,CTDSAL_FLAG_W,SALNTY,SALNTY_FLAG_W,CTDOXY,CTDOXY_FLAG_W,OXYGEN,OXYGEN_FLAG_W,SILCAT,SILCAT_FLAG_W,NITRAT,NITRAT_FLAG_W,NITRIT,NITRIT_FLAG_W,PHSPHT,PHSPHT_FLAG_W,DOC,DOC_FLAG_W,THETA,NH4,NH4_FLAG_W,UREA,UREA_FLAG_W,CHLORA,CHLORA_FLAG_W,PPHYTN,PPHYTN_FLAG_W,FLUOR,FLUOR_FLAG_W,HAARDT,HAARDT_FLAG_W,PAR,PAR_FLAG_W,SPAR,SPAR_FLAG_W
,,,,,,,,,,,METERS,DBAR,ITS-90,PSS-78,,PSS-78,,UMOL/KG,,UMOL/KG,,UMOL/KG,,UMOL/KG,,UMOL/KG,,UMOL/KG,,UMOL/KG,,DEG C,UMOL/KG,,UMOL/KG,,UG/KG,,UG/KG,,MG/M^3,,VOLTS,,VOLTS,,VOLTS,
320620030705, SBI, 172, 1, 105, 5, 2, 20030802, 842, 70.9294, -168.1036, 50,      2.9,   4.0519,  30.7638, 2,  30.7668, 2,    321.6, 2,    334.7, 2,     1.64, 2,     0.02, 2,     0.00, 2,     0.32, 2,  -999.00, 9,   4.0517,     0.00, 2, 0.01, 2,     0.09, 2,     0.05, 2,   0.9890, 2, 0.180, 2, 2.072, 2, 4.994, 2
320620030705, SBI, 172, 1, 104, 4, 2, 20030802, 840, 70.9294, -168.1036, 50,     17.9,   3.8247,  31.2303, 2, -999.0000, 9,    333.8, 2,    359.1, 2,     1.61, 2,     0.02, 2,     0.00, 2,     0.31, 2,  -999.00, 9,   3.8236,     0.00, 2, 0.01, 2,     0.18, 2,     0.05, 2,   0.9820, 2, 0.185, 2, 1.473, 2, 4.994, 2
320620030705, SBI, 172, 1, 103, 3, 2, 20030802, 837, 70.9294, -168.1036, 50,     31.1,   1.8113,  31.9357, 2, -999.0000, 9,    379.3, 2,    400.5, 2,     0.35, 2,     0.01, 2,     0.00, 2,     0.37, 3,  -999.00, 9,   1.8099,     0.00, 2, 0.01, 2,     0.35, 2,     0.11, 2,   1.2430, 2, 0.215, 2, 1.068, 2, 4.994, 2
320620030705, SBI, 172, 1, 102, 2, 2, 20030802, 833, 70.9294, -168.1036, 50,     38.1,   0.8790,  32.3218, 2, -999.0000, 9,    399.1, 2,    409.7, 2,     1.04, 2,     1.08, 2,     0.03, 2,     0.61, 2,  -999.00, 9,   0.8775,     0.47, 2, 0.06, 2,     0.48, 2,     0.16, 2,   0.7890, 2, 0.181, 2, 0.910, 2, 4.994, 2
320620030705, SBI, 172, 1, 101, 1, 2, 20030802, 831, 70.9294, -168.1036, 50,     44.5,  -1.3538,  32.5757, 2,  32.5352, 2,    298.2, 2,    330.1, 2,     7.33, 2,     7.12, 2,     0.19, 2,     1.35, 2,    68.30, 2,  -1.3547,     1.62, 2, 0.19, 2,     2.66, 2,     0.87, 2,   1.7780, 2, 0.356, 2, 0.765, 2, 4.990, 2
320620030705, SBI, 173, 1, 105, 5, 2, 20030802, 1018, 71.0528, -167.7578, 46,      2.9,   2.9924,  31.1625, 2,  31.1619, 2,    332.3, 2,    355.2, 2,     4.46, 2,     0.06, 2,     0.00, 2,     0.33, 2,  -999.00, 9,   2.9922,     0.00, 2, 0.01, 2,     0.14, 2,     0.03, 2,   1.0340, 2, 0.188, 2, 1.642, 2, 4.999, 2
320620030705, SBI, 173, 1, 104, 4, 2, 20030802, 1015, 71.0528, -167.7578, 46,     18.9,   2.7769,  31.2272, 2, -999.0000, 9,    336.5, 2,    369.8, 2,     4.32, 2,     0.05, 2,     0.00, 2,     0.37, 2,  -999.00, 9,   2.7759,     0.01, 2, 0.02, 2,     0.31, 2,     0.08, 2,   1.1260, 2, 0.195, 2, 1.033, 2, 5.000, 2
320620030705, SBI, 173, 1, 103, 3, 2, 20030802, 1013, 71.0528, -167.7578, 46,     24.9,   1.0925,  31.7618, 2, -999.0000, 9,    375.7, 2,    420.8, 2,     3.78, 2,     0.35, 2,     0.02, 2,     0.55, 2,  -999.00, 9,   1.0915,     0.22, 2, 0.04, 2,     0.89, 2,     0.25, 2,   1.4180, 2, 0.236, 2, 0.809, 2, 5.000, 2
320620030705, SBI, 173, 1, 102, 2, 2, 20030802, 1010, 71.0528, -167.7578, 46,     34.1,  -0.9568,  32.4170, 2, -999.0000, 9,    394.8, 2,    419.1, 2,     2.84, 2,     1.41, 2,     0.05, 2,     0.87, 2,  -999.00, 9,  -0.9576,     0.67, 2, 0.12, 2,     2.97, 2,     0.79, 2,   1.8750, 2, 0.445, 2, 0.414, 2, 5.000, 2
320620030705, SBI, 173, 1, 101, 1, 2, 20030802, 1007, 71.0528, -167.7578, 46,     40.3,  -1.1196,  32.4654, 2,  32.4579, 2,    387.1, 2,    417.9, 2,     2.19, 2,     1.87, 2,     0.06, 2,     0.94, 2,    69.50, 2,  -1.1205,     0.66, 2, 0.15, 2,     4.86, 2,     0.62, 2,   2.0130, 2, 0.513, 2, 0.190, 2, 5.000, 2
320620030705, SBI, 174, 1, 107, 7, 2, 20030802, 1157, 71.1756, -167.4091, 46,      3.0,   2.7702,  31.1969, 2,  31.1973, 2,    336.2, 2,    360.4, 2,     4.42, 2,     0.00, 2,     0.00, 2,     0.35, 2,  -999.00, 9,   2.7700,     0.00, 2, 0.01, 2,     0.18, 2,     0.04, 2,   1.2040, 2, 0.195, 2, 1.830, 2, 4.998, 2
320620030705, SBI, 174, 1, 106, 6, 2, 20030802, 1155, 71.1756, -167.4091, 46,     13.3,   2.3928,  31.2739, 2, -999.0000, 9,    342.1, 2,    364.4, 2,     4.09, 2,     0.03, 2,     0.01, 2,     0.37, 2,  -999.00, 9,   2.3921,     0.00, 2, 0.01, 2,     0.93, 2,     0.17, 2,   1.1440, 2, 0.213, 2, 1.335, 2, 4.998, 2
320620030705, SBI, 174, 1, 103, 3, 2, 20030802, 1152, 71.1756, -167.4091, 46,     28.3,  -0.8597,  32.3939, 2, -999.0000, 9,    378.2, 2,   -999.0, 9,  -999.00, 9,  -999.00, 9,  -999.00, 9,  -999.00, 9,  -999.00, 9,  -0.8604,  -999.00, 9, -999, 9,  -999.00, 9,  -999.00, 9,   1.8030, 2, 0.346, 2, 0.652, 2, 4.998, 2
320620030705, SBI, 174, 1, 105, 5, 2, 20030802, 1152, 71.1756, -167.4091, 46,     28.4,  -0.8497,  32.3897, 2, -999.0000, 9,    379.1, 2,    408.7, 2,     3.34, 2,     1.61, 2,     0.06, 2,     0.89, 2,  -999.00, 9,  -0.8504,     0.73, 2, 0.13, 2,     0.90, 2,     0.21, 2,   1.7740, 2, 0.320, 2, 0.646, 2, 4.998, 2
320620030705, SBI, 174, 1, 104, 4, 2, 20030802, 1152, 71.1756, -167.4091, 46,     28.5,  -0.8509,  32.3913, 2, -999.0000, 9,    378.6, 2,   -999.0, 9,  -999.00, 9,  -999.00, 9,  -999.00, 9,  -999.00, 9,  -999.00, 9,  -0.8516,  -999.00, 9, -999, 9,  -999.00, 9,  -999.00, 9,   1.7610, 2, 0.322, 2, 0.644, 2, 4.998, 2
320620030705, SBI, 174, 1, 102, 2, 2, 20030802, 1150, 71.1756, -167.4091, 46,     33.5,  -1.0940,  32.4672, 2, -999.0000, 9,    364.6, 2,    400.4, 2,     3.72, 2,     2.83, 2,     0.08, 2,     1.05, 2,  -999.00, 9,  -1.0947,     1.00, 2, 0.16, 2,     3.49, 2,     0.63, 2,   1.5900, 2, 0.309, 2, 0.461, 2, 4.999, 2
320620030705, SBI, 174, 1, 101, 1, 2, 20030802, 1148, 71.1756, -167.4091, 46,     39.7,  -1.3132,  32.5670, 2,  32.5227, 2,    349.0, 2,    391.0, 2,     4.72, 2,     3.70, 2,     0.10, 2,     1.14, 2,    68.00, 2,  -1.3140,     1.24, 2, 0.17, 2,     4.13, 2,     0.76, 2,   1.9020, 2, 0.458, 2, 0.238, 2, 4.999, 2
320620030705, SBI, 175, 2, 205, 5, 2, 20030802, 1412, 71.2977, -167.0615, 46,      2.4,   2.3273,  30.7532, 2,  30.7490, 2,    341.8, 2,    358.5, 2,     2.44, 2,     0.03, 2,     0.00, 2,     0.35, 2,  -999.00, 9,   2.3272,     0.00, 2, 0.01, 2,     0.20, 2,     0.07, 2,   1.1920, 2, 0.199, 2, 2.262, 2, 4.990, 2
320620030705, SBI, 175, 2, 204, 4, 2, 20030802, 1411, 71.2977, -167.0615, 46,      9.4,   2.2704,  30.8528, 2, -999.0000, 9,    345.6, 2,    361.5, 2,     2.41, 2,     0.03, 2,     0.00, 2,     0.37, 2,  -999.00, 9,   2.2700,    -0.01, 2, 0, 2,     0.22, 2,     0.08, 2,   1.2200, 2, 0.204, 2, 1.879, 2, 4.990, 2
320620030705, SBI, 175, 2, 203, 3, 2, 20030802, 1409, 71.2977, -167.0615, 46,     17.4,   2.0814,  31.1512, 2, -999.0000, 9,    349.2, 2,    372.2, 2,     2.90, 2,     0.18, 2,     0.01, 2,     0.46, 2,  -999.00, 9,   2.0806,     0.04, 2, 0.01, 2,     0.53, 2,     0.23, 2,   1.3250, 2, 0.233, 2, 1.540, 2, 4.990, 2
320620030705, SBI, 175, 2, 202, 2, 2, 20030802, 1406, 71.2977, -167.0615, 46,     27.5,   1.0296,  31.8182, 2, -999.0000, 9,    357.3, 2,    377.2, 2,     4.20, 2,     0.93, 2,     0.04, 2,     0.74, 2,  -999.00, 9,   1.0285,     0.80, 2, 0.07, 2,     0.92, 2,     0.29, 2,   1.3370, 2, 0.226, 2, 1.032, 2, 4.993, 2
320620030705, SBI, 175, 2, 201, 1, 2, 20030802, 1401, 71.2977, -167.0615, 46,     40.6,  -0.3969,  32.3600, 2,  32.3443, 2,    345.2, 2,    371.3, 2,     6.52, 2,     2.29, 2,     0.08, 2,     1.12, 2,    71.10, 2,  -0.3980,     1.83, 2, 0.17, 2,     0.88, 2,     0.87, 2,   1.4180, 2, 0.260, 2, 0.242, 2, 4.994, 2
320620030705, SBI, 176, 1, 105, 5, 2, 20030802, 1554, 71.4209, -166.7125, 45,      2.7,   1.0002,  29.8782, 2,  29.9174, 2,    341.0, 2,    370.2, 2,     4.43, 2,     0.15, 2,     0.00, 2,     0.40, 2,  -999.00, 9,   1.0001,     0.00, 2, 0.01, 2,     0.15, 2,     0.04, 2,   1.1020, 2, 0.183, 2, 2.641, 2, 4.969, 2
320620030705, SBI, 176, 1, 104, 4, 2, 20030802, 1553, 71.4209, -166.7125, 45,     10.5,   2.3337,  30.5559, 2, -999.0000, 9,    337.5, 2,    364.8, 2,     3.68, 2,     0.09, 2,     0.00, 2,     0.39, 2,  -999.00, 9,   2.3332,     0.00, 2, 0.01, 2,     0.26, 2,     0.07, 2,   1.1360, 2, 0.189, 2, 2.249, 2, 4.968, 2
320620030705, SBI, 176, 1, 103, 3, 2, 20030802, 1550, 71.4209, -166.7125, 45,     21.4,   1.7623,  31.3322, 2, -999.0000, 9,    353.5, 2,    376.2, 2,     4.15, 2,     0.49, 2,     0.02, 2,     0.59, 2,  -999.00, 9,   1.7614,     0.41, 2, 0.05, 2,     0.62, 2,     0.22, 2,   1.5740, 2, 0.298, 2, 1.827, 2, 4.965, 2
320620030705, SBI, 176, 1, 102, 2, 2, 20030802, 1549, 71.4209, -166.7125, 45,     26.5,   0.5137,  32.0433, 2, -999.0000, 9,    351.7, 2,    385.1, 2,     5.03, 2,     1.19, 2,     0.04, 2,     0.87, 2,  -999.00, 9,   0.5128,     1.17, 2, 0.1, 2,     0.40, 2,     0.13, 2,   1.0360, 2, 0.203, 2, 1.595, 2, 4.965, 2
320620030705, SBI, 176, 1, 101, 1, 2, 20030802, 1546, 71.4209, -166.7125, 45,     38.5,  -1.0854,  32.5103, 2,  32.3740, 2,    356.3, 2,    387.3, 2,     6.23, 2,     2.66, 2,     0.08, 2,     1.07, 2,    71.20, 2,  -1.0862,     1.41, 2, 0.17, 2,     0.98, 2,     0.64, 2,   1.5330, 2, 0.280, 2, 0.836, 2, 4.968, 2
320620030705, SBI, 177, 2, 205, 5, 2, 20030802, 1832, 71.5443, -166.3546, 44,      2.1,   0.9197,  29.2749, 2,  29.3437, 2,    341.4, 2,    362.3, 2,     2.92, 2,     0.03, 2,     0.00, 2,     0.32, 2,  -999.00, 9,   0.9196,     0.00, 2, 0.01, 2,     0.16, 2,     0.05, 2,   1.0630, 2, 0.180, 2, 3.389, 2, 4.826, 2
320620030705, SBI, 177, 2, 204, 4, 2, 20030802, 1830, 71.5443, -166.3546, 44,     11.3,   1.5693,  29.6853, 2, -999.0000, 9,    342.0, 2,    369.2, 2,     2.79, 2,     0.08, 2,     0.00, 2,     0.38, 2,  -999.00, 9,   1.5689,     0.04, 2, 0.03, 2,     0.32, 2,     0.09, 2,   1.0280, 2, 0.183, 2, 2.745, 2, 4.880, 2
320620030705, SBI, 177, 2, 203, 3, 2, 20030802, 1828, 71.5443, -166.3546, 44,     18.6,   0.7700,  30.7672, 2, -999.0000, 9,    358.5, 2,    382.0, 2,     3.97, 2,     0.58, 2,     0.03, 2,     0.68, 2,  -999.00, 9,   0.7694,     0.57, 2, 0.13, 2,     0.73, 2,     0.28, 2,   1.5120, 2, 0.262, 2, 2.483, 2, 4.865, 2
320620030705, SBI, 177, 2, 202, 2, 2, 20030802, 1826, 71.5443, -166.3546, 44,     27.4,  -0.5498,  32.3612, 2,  32.3724, 2,    357.6, 2,    384.4, 2,     6.08, 2,     1.73, 2,     0.07, 2,     1.08, 2,  -999.00, 9,  -0.5505,     1.49, 2, 0.17, 2,     0.80, 2,     0.49, 2,   1.3250, 2, 0.236, 2, 1.809, 2, 4.886, 2
320620030705, SBI, 177, 2, 201, 1, 2, 20030802, 1824, 71.5443, -166.3546, 44,     38.5,  -1.0786,  32.5043, 2, -999.0000, 9,    358.5, 2,    385.8, 2,     6.66, 2,     2.86, 2,     0.09, 2,     1.14, 2,    71.20, 2,  -1.0794,     1.56, 2, 0.18, 2,     1.26, 2,     0.62, 2,   1.5030, 2, 0.278, 2, 0.765, 2, 4.863, 2
320620030705, SBI, 178, 1, 106, 6, 2, 20030802, 2019, 71.6672, -165.9991, 43,      1.1,   0.9687,  29.6528, 2,  29.6294, 2,    343.2, 2,    367.9, 2,     2.74, 2,     0.02, 2,     0.00, 2,     0.34, 2,  -999.00, 9,   0.9687,     0.00, 2, 0.01, 2,     0.18, 2,     0.04, 2,   0.9300, 2, 0.178, 2, 3.520, 2, 4.802, 2
320620030705, SBI, 178, 1, 105, 5, 2, 20030802, 2017, 71.6672, -165.9991, 43,     11.4,   1.1002,  29.8183, 2, -999.0000, 9,    345.6, 2,    376.9, 2,     2.90, 2,     0.23, 2,     0.01, 2,     0.45, 2,  -999.00, 9,   1.0998,     0.12, 2, 0.02, 2,     0.40, 2,     0.16, 2,   1.0510, 2, 0.190, 2, 3.016, 2, 4.799, 2
320620030705, SBI, 178, 1, 104, 4, 2, 20030802, 2015, 71.6672, -165.9991, 43,     17.4,   0.5594,  31.1699, 2, -999.0000, 9,    355.7, 2,   -999.0, 9,  -999.00, 9,  -999.00, 9,  -999.00, 9,  -999.00, 9,  -999.00, 9,   0.5588,  -999.00, 9, -999, 9,  -999.00, 9,  -999.00, 9,   1.5690, 2, 0.320, 2, 2.747, 2, 4.795, 2
320620030705, SBI, 178, 1, 103, 3, 2, 20030802, 2015, 71.6672, -165.9991, 43,     17.4,   0.5935,  30.9443, 2, -999.0000, 9,    356.0, 2,    383.9, 2,     3.48, 2,     0.63, 2,     0.02, 2,     0.64, 2,  -999.00, 9,   0.5929,     0.43, 2, 0.06, 2,     0.75, 2,     0.27, 2,   1.5740, 2, 0.263, 2, 2.749, 2, 4.792, 2
320620030705, SBI, 178, 1, 102, 2, 2, 20030802, 2013, 71.6672, -165.9991, 43,     28.6,  -0.6789,  32.4004, 2, -999.0000, 9,    354.6, 2,    383.3, 2,     6.21, 2,     3.27, 2,     0.09, 2,     1.16, 2,  -999.00, 9,  -0.6796,     1.56, 2, 0.18, 2,     1.33, 2,     0.73, 2,   1.4050, 2, 0.241, 2, 2.076, 2, 4.796, 2
320620030705, SBI, 178, 1, 101, 1, 2, 20030802, 2011, 71.6672, -165.9991, 43,     37.8,  -1.2009,  32.5658, 2,  32.5247, 2,    339.4, 2,    375.7, 2,     7.30, 2,     4.35, 2,     0.11, 2,     1.24, 2,    72.50, 2,  -1.2017,     1.71, 2, 0.19, 2,     1.90, 2,     0.86, 2,   1.5980, 2, 0.338, 2, 0.961, 2, 4.789, 2
320620030705, SBI, 179, 1, 105, 5, 2, 20030802, 2220, 71.8313, -165.9997, 44,      1.3,   0.0318,  29.8357, 2,  29.8315, 2,    362.7, 2,    396.8, 2,     4.50, 2,     0.07, 2,     0.00, 2,     0.37, 2,  -999.00, 9,   0.0318,     0.00, 2, 0, 2,     0.15, 2,     0.05, 2,   1.0510, 2, 0.175, 2, 3.724, 2, 4.676, 2
320620030705, SBI, 179, 1, 104, 4, 2, 20030802, 2218, 71.8313, -165.9997, 44,     11.3,  -0.5228,  30.5018, 2, -999.0000, 9,    388.6, 2,    426.9, 2,     4.57, 2,     0.22, 2,     0.01, 2,     0.47, 2,  -999.00, 9,  -0.5231,     0.03, 2, 0.01, 2,  -999.00, 9,  -999.00, 9,   1.1020, 2, 0.195, 2, 3.123, 2, 4.673, 2
320620030705, SBI, 179, 1, 103, 3, 2, 20030802, 2216, 71.8313, -165.9997, 44,     19.4,  -0.5365,  30.9296, 2, -999.0000, 9,    396.2, 2,    398.6, 2,     4.12, 2,     0.98, 2,     0.03, 2,     0.58, 2,  -999.00, 9,  -0.5370,     0.20, 2, 0.03, 2,     1.00, 2,     0.33, 2,   1.4670, 2, 0.246, 2, 2.796, 2, 4.662, 2
320620030705, SBI, 179, 1, 102, 2, 2, 20030802, 2214, 71.8313, -165.9997, 44,     29.4,  -1.4169,  32.5820, 2, -999.0000, 9,    328.2, 2,    344.0, 2,     2.03, 2,     7.55, 2,     0.18, 2,     1.46, 2,  -999.00, 9,  -1.4175,     1.81, 2, 0.22, 2,     4.68, 2,     1.03, 2,   1.8780, 2, 0.424, 2, 2.151, 2, 4.675, 2
320620030705, SBI, 179, 1, 101, 1, 2, 20030802, 2212, 71.8313, -165.9997, 44,     38.8,  -1.5264,  32.6473, 2, -999.0000, 9,    304.9, 2,    343.8, 2,     1.89, 2,     7.44, 2,     0.18, 2,     1.44, 2,    71.30, 2,  -1.5271,     1.85, 2, 0.23, 2,     5.81, 2,     0.27, 2,   2.0670, 2, 0.727, 2, 1.098, 2, 4.678, 2
320620030705, SBI, 180, 1, 104, 4, 2, 20030803, 21, 71.9964, -166.0050, 45,      1.1,  -0.8221,  30.5297, 2,  30.4225, 2,    385.1, 2,    423.5, 2,     8.58, 2,     0.08, 2,     0.00, 2,     0.57, 2,  -999.00, 9,  -0.8221,     0.00, 2, 0, 2,     0.24, 2,     0.05, 2,   1.0770, 2, 0.187, 2, 4.153, 2, 4.712, 2
320620030705, SBI, 180, 1, 103, 3, 2, 20030803, 19, 71.9964, -166.0050, 45,     13.1,  -0.8186,  30.6260, 2, -999.0000, 9,    390.6, 2,    431.5, 2,     7.66, 2,     0.08, 2,     0.00, 2,     0.60, 2,  -999.00, 9,  -0.8189,     0.00, 2, 0, 2,     0.34, 2,     0.08, 2,   1.1760, 2, 0.210, 2, 3.029, 2, 4.664, 2
320620030705, SBI, 180, 1, 102, 2, 2, 20030803, 16, 71.9964, -166.0050, 45,     28.2,  -1.0057,  32.4493, 2, -999.0000, 9,    388.7, 2,    359.9, 2,    10.27, 2,     5.72, 2,     0.12, 2,     1.21, 2,  -999.00, 9,  -1.0063,     1.22, 2, 0.13, 2,     2.20, 2,     0.69, 2,   1.5430, 2, 0.269, 2, 2.418, 2, 4.604, 2
320620030705, SBI, 180, 1, 101, 1, 2, 20030803, 14, 71.9964, -166.0050, 45,     39.9,  -1.6111,  32.6933, 2,  32.6895, 2,    262.3, 2,    288.3, 2,    14.22, 2,    11.77, 2,     0.23, 2,     1.81, 2,    70.50, 2,  -1.6118,     2.65, 2, 0.23, 2,     4.01, 2,     1.42, 2,   1.9450, 2, 0.447, 2, 1.485, 2, 4.524, 2
320620030705, SBI, 181, 1, 104, 4, 2, 20030803, 258, 72.1666, -166.0012, 46,      1.5,  -0.7715,  30.6125, 2,  30.9897, 2,    389.7, 2,    435.2, 2,     7.43, 2,     0.07, 2,     0.00, 2,     0.57, 2,  -999.00, 9,  -0.7715,     0.00, 2, 0, 2,     0.33, 2,     0.08, 2,   1.2760, 2, 0.190, 2, 3.768, 2, 4.572, 2
320620030705, SBI, 181, 1, 103, 3, 2, 20030803, 256, 72.1666, -166.0012, 46,     19.5,  -0.8491,  31.1824, 2, -999.0000, 9,    398.9, 2,    437.1, 2,     6.00, 2,     0.12, 2,     0.01, 2,     0.60, 2,  -999.00, 9,  -0.8495,     0.01, 2, 0.01, 2,     0.55, 2,     0.11, 2,   1.2260, 2, 0.219, 2, 2.648, 2, 4.542, 2
320620030705, SBI, 181, 1, 102, 2, 2, 20030803, 254, 72.1666, -166.0012, 46,     28.6,  -1.0328,  32.4333, 2, -999.0000, 9,    362.1, 2,    354.0, 2,     5.87, 2,     2.53, 2,     0.09, 2,     1.06, 2,  -999.00, 9,  -1.0334,     0.42, 2, 0.09, 2,     7.22, 2,     0.09, 2,   1.7500, 2, 0.245, 2, 2.309, 2, 4.510, 2
320620030705, SBI, 181, 1, 101, 1, 2, 20030803, 251, 72.1666, -166.0012, 46,     39.2,  -1.6279,  32.7540, 2,  32.7267, 2,    252.7, 2,    281.7, 2,    22.77, 2,    12.43, 2,     0.23, 2,     1.86, 2,    69.80, 2,  -1.6286,     2.57, 2, 0.23, 2,     5.26, 2,     1.08, 2,   1.8710, 2, 0.379, 2, 1.464, 2, 4.657, 2
320620030705, SBI, 182, 1, 106, 6, 2, 20030803, 439, 72.3326, -165.9911, 48,      1.4,  -0.8550,  30.5768, 2,  30.5571, 2,    376.4, 2,    416.0, 2,    17.48, 2,     0.10, 2,     0.01, 2,     0.87, 2,  -999.00, 9,  -0.8550,     0.02, 2, 0.02, 2,     3.23, 2,     0.01, 2,   1.9730, 2, 0.419, 2, 3.412, 2, 4.841, 2
320620030705, SBI, 182, 1, 104, 4, 2, 20030803, 437, 72.3326, -165.9911, 48,     14.5,  -1.3303,  30.9512, 2, -999.0000, 9,    380.2, 2,    396.0, 2,    19.61, 2,     1.51, 2,     0.04, 2,     0.98, 2,  -999.00, 9,  -1.3305,     0.16, 2, 0.02, 2,     5.51, 2,     0.31, 2,   2.1300, 2, -999.000, 9, 2.166, 2, 0.804, 2
320620030705, SBI, 182, 1, 105, 5, 2, 20030803, 438, 72.3326, -165.9911, 48,     14.5,  -1.3516,  30.9901, 2, -999.0000, 9,    379.3, 2,   -999.0, 9,  -999.00, 9,  -999.00, 9,  -999.00, 9,  -999.00, 9,  -999.00, 9,  -1.3518,  -999.00, 9, -999, 9,  -999.00, 9,  -999.00, 9,   2.1640, 2, 0.929, 2, 2.132, 2, 4.841, 2
320620030705, SBI, 182, 1, 103, 3, 2, 20030803, 435, 72.3326, -165.9911, 48,     23.6,  -1.5494,  31.7406, 2, -999.0000, 9,    340.6, 2,    359.4, 2,    29.12, 2,     9.74, 2,     0.15, 2,     1.48, 2,  -999.00, 9,  -1.5498,     0.90, 2, 0.05, 2,     5.11, 2,     0.42, 2,   1.9660, 2, 0.581, 2, 1.264, 2, 4.845, 2
320620030705, SBI, 182, 1, 102, 2, 2, 20030803, 433, 72.3326, -165.9911, 48,     33.4,  -1.7126,  32.6753, 2, -999.0000, 9,    271.2, 2,    301.0, 2,    40.82, 2,    15.10, 2,     0.20, 2,     1.92, 2,  -999.00, 9,  -1.7132,     2.42, 2, 0.05, 2,     1.18, 2,     0.64, 2,   1.3420, 2, 0.230, 2, 0.707, 2, 4.839, 2
320620030705, SBI, 182, 1, 101, 1, 4, 20030803, 431, 72.3326, -165.9911, 48,     43.7,  -1.7127,  32.6861, 2,  32.6051, 0,    269.3, 2,    304.0, 0,    39.89, 3,    14.58, 3,     0.19, 3,     1.92, 3,    72.50, 2,  -1.7134,     2.34, 3, 0.07, 3,     1.70, 2,     0.79, 2,   1.4080, 2, 0.257, 2, 0.348, 2, 4.828, 2