BOTTLE,20100423CCHDOSIODBK
EXPOCODE,SECT_ID,STNNBR,CASTNO,SAMPNO,BTLNBR,BTLNBR_FLAG_W,DATE,TIME,LATITUDE,LONGITUDE,DEPTH,CTDPRS,CTDTMP,CTDSAL,CTDSAL_FLAG_W,SALNTY,SALNTY_FLAG_W,CTDOXY,CTDOXY_FLAG_W,OXYGEN,OXYGEN_FLAG_W,SILCAT,SILCAT_FLAG_W,NITRAT,NITRAT_FLAG_W,NITRIT,NITRIT_FLAG_W,PHSPHT,PHSPHT_FLAG_W,DOC,DOC_FLAG_W,THETA,NH4,NH4_FLAG_W,UREA,UREA_FLAG_W,CHLORA,CHLORA_FLAG_W,PPHYTN,PPHYTN_FLAG_W,FLUOR,FLUOR_FLAG_W,HAARDT,HAARDT_FLAG_W,PAR,PAR_FLAG_W,SPAR,SPAR_FLAG_W
,,,,,,,,,,,METERS,DBAR,ITS-90,PSS-78,,PSS-78,,UMOL/KG,,UMOL/KG,,UMOL/KG,,UMOL/KG,,UMOL/KG,,UMOL/KG,,UMOL/KG,,DEG C,UMOL/KG,,UMOL/KG,,UG/KG,,UG/KG,,MG/M^3,,VOLTS,,VOLTS,,VOLTS,
320620030705, SBI, 76, 1, 107, 7, 2, 20030721, 707, 71.6315, -156.9168, 86,      1.5,  -0.7801,  29.9978, 2,  29.9663, 2,    390.2, 2,    422.0, 2,    21.34, 2,     0.14, 2,     0.00, 2,     0.88, 2,  -999.00, 9,  -0.7801,     0.07, 2, 0.04, 2,     0.60, 2,     0.09, 2,   1.3540, 2, 0.000, 2, 3.068, 2, 4.611, 2
320620030705, SBI, 76, 1, 106, 6, 2, 20030721, 705, 71.6315, -156.9168, 86,     17.1,  -1.1008,  30.4138, 2, -999.0000, 9,    390.3, 2,    415.3, 2,    21.77, 2,     0.33, 2,     0.01, 2,     0.98, 2,  -999.00, 9,  -1.1011,     0.20, 2, 0.05, 2,     2.15, 2,     0.19, 2,   1.7220, 2, 0.000, 2, 1.992, 2, 4.606, 2
320620030705, SBI, 76, 1, 105, 5, 2, 20030721, 704, 71.6315, -156.9168, 86,     28.1,  -1.0933,  30.6444, 2, -999.0000, 9,    388.8, 2,    390.9, 2,    22.09, 2,     1.48, 2,     0.05, 2,     1.16, 2,  -999.00, 9,  -1.0938,     0.61, 2, 0.09, 2,     3.84, 2,     0.35, 2,   1.4680, 2, 0.000, 2, 1.329, 2, 4.602, 2
320620030705, SBI, 76, 1, 104, 4, 2, 20030721, 702, 71.6315, -156.9168, 86,     38.3,  -1.0096,  31.4615, 2, -999.0000, 9,    365.6, 2,    369.6, 2,    22.71, 2,     2.95, 2,     0.09, 2,     1.26, 2,  -999.00, 9,  -1.0104,     1.09, 2, 0.12, 2,     3.94, 2,     0.38, 2,   1.9890, 2, 0.000, 2, 0.702, 2, 4.599, 2
320620030705, SBI, 76, 1, 103, 3, 2, 20030721, 701, 71.6315, -156.9168, 86,     50.0,  -1.5247,  31.8640, 2, -999.0000, 9,    325.5, 2,    349.4, 2,    22.43, 2,     5.87, 2,     0.13, 2,     1.35, 2,  -999.00, 9,  -1.5256,     1.09, 2, 0.07, 2,     1.09, 2,     0.21, 2,   1.3010, 2, 0.000, 2, 0.248, 2, 4.595, 2
320620030705, SBI, 76, 1, 102, 2, 2, 20030721, 659, 71.6315, -156.9168, 86,     63.2,  -1.6657,  32.1539, 2, -999.0000, 9,    305.2, 2,    291.9, 0,    40.66, 2,    11.24, 2,     0.18, 2,     1.90, 2,  -999.00, 9,  -1.6667,     2.99, 2, 0.13, 2,  -999.00, 9,  -999.00, 9,   1.0030, 2, 0.000, 2, 0.169, 2, 4.589, 2
320620030705, SBI, 76, 1, 101, 1, 2, 20030721, 658, 71.6315, -156.9168, 86,     77.9,  -1.6914,  32.4502, 2,  32.4548, 2,    265.9, 2,    286.9, 2,  -999.00, 9,  -999.00, 9,  -999.00, 9,  -999.00, 9,    71.70, 2,  -1.6927,  -999.00, 9, -999, 9,     0.96, 2,     0.68, 2,   1.1880, 2, 0.000, 2, 0.145, 2, 4.582, 2
320620030705, SBI, 77, 1, 107, 7, 2, 20030721, 940, 71.7260, -157.0737, 64,      2.2,  -1.3431,  29.2314, 2, -999.0000, 9,    372.1, 2,    409.8, 0,    11.76, 2,     0.43, 2,     0.01, 2,     0.49, 2,  -999.00, 9,  -1.3431,     0.15, 2, 0, 2,     2.05, 2,     0.03, 2,   1.8610, 2, 0.000, 2, 2.868, 2, 4.910, 2
320620030705, SBI, 77, 1, 106, 6, 2, 20030721, 937, 71.7260, -157.0737, 64,     17.7,  -1.4833,  30.8262, 2,  30.8388, 2,    362.8, 2,    392.4, 2,    24.18, 2,     1.82, 2,     0.08, 2,     1.09, 2,  -999.00, 9,  -1.4836,     0.65, 2, 0.06, 2,     3.63, 2,     0.05, 2,   1.7910, 2, 0.000, 2, 0.870, 2, 4.921, 2
320620030705, SBI, 77, 1, 103, 3, 2, 20030721, 934, 71.7260, -157.0737, 64,     31.1,  -1.4058,  31.6552, 2, -999.0000, 9,    322.2, 2,    350.2, 2,    24.21, 2,     5.43, 2,     0.15, 2,     1.46, 2,  -999.00, 9,  -1.4063,     1.66, 2, 0.14, 2,     8.48, 2,     0.06, 2,   2.1460, 2, 0.000, 2, 0.278, 2, 4.907, 2
320620030705, SBI, 77, 1, 104, 4, 2, 20030721, 934, 71.7260, -157.0737, 64,     31.1,  -1.4096,  31.6588, 2, -999.0000, 9,    322.4, 2,   -999.0, 9,  -999.00, 9,  -999.00, 9,  -999.00, 9,  -999.00, 9,  -999.00, 9,  -1.4101,  -999.00, 9, -999, 9,  -999.00, 9,  -999.00, 9,   2.0750, 2, 0.000, 2, 0.281, 2, 4.907, 2
320620030705, SBI, 77, 1, 105, 5, 2, 20030721, 934, 71.7260, -157.0737, 64,     31.1,  -1.4111,  31.6596, 2, -999.0000, 9,    322.1, 2,   -999.0, 9,  -999.00, 9,  -999.00, 9,  -999.00, 9,  -999.00, 9,  -999.00, 9,  -1.4116,  -999.00, 9, -999, 9,  -999.00, 9,  -999.00, 9,   2.1020, 2, 0.000, 2, 0.278, 2, 4.907, 2
320620030705, SBI, 77, 1, 102, 2, 2, 20030721, 930, 71.7260, -157.0737, 64,     50.9,  -1.6117,  32.1030, 2, -999.0000, 9,    317.7, 2,    330.9, 2,    26.16, 2,     7.01, 2,     0.14, 2,     1.46, 2,  -999.00, 9,  -1.6126,     0.86, 2, 0.04, 2,     0.43, 2,     0.19, 2,   1.0600, 2, 0.000, 2, 0.148, 2, 4.924, 2
320620030705, SBI, 77, 1, 101, 1, 2, 20030721, 928, 71.7260, -157.0737, 64,     59.6,  -1.5824,  32.2887, 2,  32.2554, 2,    283.3, 2,    311.6, 2,    32.05, 2,     8.35, 2,     0.16, 2,     1.61, 2,    67.80, 2,  -1.5834,     0.89, 2, 0.04, 2,     0.87, 2,     0.29, 2,   1.0590, 2, 0.000, 2, 0.147, 2, 4.908, 2
320620030705, SBI, 78, 1, 105, 5, 2, 20030721, 1135, 71.8032, -157.1303, 64,      2.2,  -1.4618,  30.3395, 2, -999.0000, 9,    369.6, 2,    403.2, 2,    20.02, 2,     0.89, 2,     0.04, 2,     0.85, 2,  -999.00, 9,  -1.4618,     0.22, 2, 0, 2,     4.59, 2,     0.08, 2,   2.1020, 2, 0.000, 2, 2.800, 2, 4.903, 2
320620030705, SBI, 78, 1, 104, 4, 2, 20030721, 1132, 71.8032, -157.1303, 64,     13.2,  -1.4914,  30.9174, 2,  30.9798, 2,    361.2, 2,    389.9, 2,    24.56, 2,     2.15, 2,     0.08, 2,     1.16, 2,  -999.00, 9,  -1.4916,     0.64, 2, 0.07, 2,     4.46, 2,     0.26, 2,   1.9210, 2, 0.000, 2, 1.438, 2, 4.905, 2
320620030705, SBI, 78, 1, 103, 3, 2, 20030721, 1130, 71.8032, -157.1303, 64,     28.0,  -1.4506,  31.2282, 2, -999.0000, 9,    347.2, 2,    372.2, 2,    24.89, 2,     3.51, 2,     0.11, 2,     1.24, 2,  -999.00, 9,  -1.4511,     1.13, 2, 0.09, 2,     2.69, 2,     0.18, 2,   1.5410, 2, 0.000, 2, 0.444, 2, 4.907, 2
320620030705, SBI, 78, 1, 102, 2, 2, 20030721, 1127, 71.8032, -157.1303, 64,     43.1,  -1.6669,  31.9099, 2,  31.9149, 2,    330.7, 2,    351.2, 2,    21.59, 2,     5.76, 2,     0.13, 2,     1.34, 2,  -999.00, 9,  -1.6676,     0.99, 2, 0.06, 2,     0.99, 2,     0.14, 2,   1.2650, 2, 0.000, 2, 0.189, 2, 4.909, 2
320620030705, SBI, 78, 1, 101, 1, 2, 20030721, 1125, 71.8032, -157.1303, 64,     57.4,  -1.6937,  32.4599, 2, -999.0000, 9,    269.2, 2,    325.3, 2,    25.23, 2,     6.84, 2,     0.16, 2,     1.44, 2,    71.00, 2,  -1.6947,     0.74, 2, 0.06, 2,     0.34, 2,     0.17, 2,   0.9340, 2, 0.000, 2, 0.156, 2, 4.910, 2
320620030705, SBI, 79, 1, 105, 5, 2, 20030721, 2236, 70.9542, -159.2689, 38,      1.7,   6.1928,  31.2260, 2,  31.2232, 2,    304.1, 2,    312.7, 2,     4.65, 2,     0.11, 2,     0.01, 2,     0.70, 2,  -999.00, 9,   6.1927,     0.16, 2, 0.04, 2,     0.23, 2,     0.16, 2,   1.0130, 2, 0.000, 2, 3.490, 2, 4.809, 2
320620030705, SBI, 79, 1, 104, 4, 2, 20030721, 2233, 70.9542, -159.2689, 38,     16.9,   6.1947,  31.2206, 2, -999.0000, 9,    304.0, 2,   -999.0, 9,  -999.00, 9,  -999.00, 9,  -999.00, 9,  -999.00, 9,  -999.00, 9,   6.1933,  -999.00, 9, -999, 9,  -999.00, 9,  -999.00, 9,   1.1040, 2, 0.000, 2, 2.263, 2, 4.788, 2
320620030705, SBI, 79, 1, 103, 3, 2, 20030721, 2233, 70.9542, -159.2689, 38,     16.9,   6.1949,  31.2186, 2, -999.0000, 9,    304.0, 2,   -999.0, 9,  -999.00, 9,  -999.00, 9,  -999.00, 9,  -999.00, 9,  -999.00, 9,   6.1935,  -999.00, 9, -999, 9,  -999.00, 9,  -999.00, 9,   1.0120, 2, 0.000, 2, 2.221, 2, 4.787, 2
320620030705, SBI, 79, 1, 102, 2, 2, 20030721, 2233, 70.9542, -159.2689, 38,     16.9,   6.1950,  31.2163, 2, -999.0000, 9,    304.1, 2,    312.8, 2,     4.67, 2,     0.11, 2,     0.01, 2,     0.70, 2,  -999.00, 9,   6.1936,     0.16, 2, 0.04, 2,     0.24, 2,     0.16, 2,   0.9620, 2, 0.000, 2, 2.225, 2, 4.783, 2
320620030705, SBI, 79, 1, 101, 1, 2, 20030721, 2231, 70.9542, -159.2689, 38,     29.9,   6.1969,  31.2149, 2,  31.2130, 2,    303.9, 2,    313.8, 2,     4.69, 2,     0.05, 2,     0.01, 2,     0.71, 2,    82.30, 2,   6.1945,     0.17, 2, 0.05, 2,     0.26, 2,     0.16, 2,   0.9380, 2, 0.000, 2, 1.336, 2, 4.802, 2
320620030705, SBI, 80, 1, 103, 3, 2, 20030721, 2333, 71.0004, -159.3333, 52,      1.3,   5.7721,  31.3006, 2, -999.0000, 9,    312.8, 2,    325.5, 2,     2.30, 2,     0.06, 2,     0.00, 2,     0.41, 2,  -999.00, 9,   5.7720,     0.00, 2, 0.02, 2,     0.20, 2,     0.06, 2,   1.0620, 2, 0.000, 2, 3.393, 2, 4.834, 2
320620030705, SBI, 80, 1, 102, 2, 2, 20030721, 2331, 71.0004, -159.3333, 52,     22.4,   5.3472,  31.3027, 2, -999.0000, 9,    311.7, 2,    321.9, 2,     3.33, 2,     0.05, 2,     0.01, 2,     0.54, 2,  -999.00, 9,   5.3456,     0.09, 2, 0.03, 2,     1.08, 2,     0.18, 2,   1.4410, 2, 0.000, 2, 2.185, 2, 4.810, 2
320620030705, SBI, 80, 1, 101, 1, 2, 20030721, 2328, 71.0004, -159.3333, 52,     44.6,   5.4395,  31.2921, 2,  31.2901, 2,    310.1, 2,    321.5, 2,     3.45, 2,     0.04, 2,     0.01, 2,     0.56, 2,    73.30, 2,   5.4362,     0.09, 2, 0.03, 2,     1.15, 2,     0.18, 2,   1.4220, 2, 0.000, 2, 0.727, 2, 4.805, 2
320620030705, SBI, 81, 1, 105, 5, 2, 20030722, 32, 71.0460, -159.3787, 79,      1.8,   4.0476,  31.0628, 2,  31.0517, 2,    330.9, 2,    345.4, 2,     7.59, 2,     0.06, 2,     0.00, 2,     0.50, 2,  -999.00, 9,   4.0475,     0.08, 2, 0.01, 2,     0.08, 2,     0.02, 2,   0.7040, 2, 0.000, 2, 3.326, 2, 4.857, 2
320620030705, SBI, 81, 1, 104, 4, 2, 20030722, 30, 71.0460, -159.3787, 79,     17.9,   4.2467,  31.2901, 2, -999.0000, 9,    327.3, 2,    341.3, 2,     4.99, 2,     0.11, 2,     0.00, 2,     0.46, 2,  -999.00, 9,   4.2455,     0.09, 2, 0.02, 2,     0.34, 2,     0.04, 2,   0.8200, 2, 0.000, 2, 2.672, 2, 4.843, 2
320620030705, SBI, 81, 1, 103, 3, 2, 20030722, 28, 71.0460, -159.3787, 79,     30.8,   1.5069,  31.7791, 2, -999.0000, 9,    330.1, 2,    349.9, 2,     5.58, 2,     0.45, 2,     0.03, 2,     0.75, 2,  -999.00, 9,   1.5056,     0.64, 2, 0.11, 2,     2.01, 2,     0.29, 2,   1.5560, 2, 0.000, 2, 2.026, 2, 4.858, 2
320620030705, SBI, 81, 1, 102, 2, 2, 20030722, 26, 71.0460, -159.3787, 79,     53.0,   1.4259,  31.8601, 2, -999.0000, 9,    332.9, 2,    353.8, 2,     5.18, 2,     0.39, 2,     0.03, 2,     0.76, 2,  -999.00, 9,   1.4236,     0.68, 2, 0.15, 2,     2.01, 2,     0.32, 2,   1.5450, 2, 0.000, 2, 0.356, 2, 4.846, 2
320620030705, SBI, 81, 1, 101, 1, 2, 20030722, 23, 71.0460, -159.3787, 79,     74.1,   1.4009,  31.8604, 2,  31.8580, 2,    332.8, 2,    352.8, 2,     4.99, 2,     0.34, 2,     0.03, 2,     0.77, 2,    67.60, 2,   1.3977,     0.65, 2, 0.13, 2,     1.99, 2,     0.34, 2,   1.5760, 2, 0.000, 2, 0.153, 2, 4.858, 2
320620030705, SBI, 82, 1, 106, 6, 2, 20030722, 130, 71.0920, -159.4446, 80,      1.9,   0.7428,  28.1991, 2,  28.2952, 2,    373.7, 2,    403.9, 2,    19.82, 2,     0.00, 2,     0.00, 2,     0.76, 2,  -999.00, 9,   0.7427,     0.02, 2, 0, 2,     0.37, 2,     0.05, 2,   1.0220, 2, 0.000, 2, 3.350, 2, 4.847, 2
320620030705, SBI, 82, 1, 105, 5, 2, 20030722, 128, 71.0920, -159.4446, 80,     14.9,   3.7102,  31.1621, 2, -999.0000, 9,    329.3, 2,    362.8, 2,     7.39, 2,     0.00, 2,     0.00, 2,     0.54, 2,  -999.00, 9,   3.7093,     0.06, 2, 0.01, 2,     0.14, 2,     0.05, 2,   0.8790, 2, 0.000, 2, 2.573, 2, 4.856, 2
320620030705, SBI, 82, 1, 104, 4, 2, 20030722, 127, 71.0920, -159.4446, 80,     23.0,  -0.2387,  32.0412, 2, -999.0000, 9,    358.8, 2,    392.8, 2,     0.89, 2,    -0.01, 2,     0.01, 2,     0.60, 2,  -999.00, 9,  -0.2394,     0.08, 2, 0.03, 2,     0.19, 2,     0.19, 2,   1.0420, 2, 0.000, 2, 2.238, 2, 4.858, 2
320620030705, SBI, 82, 1, 103, 3, 2, 20030722, 126, 71.0920, -159.4446, 80,     34.0,  -0.2236,  32.0470, 2, -999.0000, 9,    358.1, 2,    392.6, 2,     0.89, 2,    -0.01, 2,     0.01, 2,     0.60, 2,  -999.00, 9,  -0.2246,     0.11, 2, 0.04, 2,  -999.00, 9,  -999.00, 9,   1.0040, 2, 0.000, 2, 1.614, 2, 4.866, 2
320620030705, SBI, 82, 1, 102, 2, 2, 20030722, 124, 71.0920, -159.4446, 80,     54.1,  -0.1344,  32.0536, 2, -999.0000, 9,    357.0, 2,    390.9, 2,     1.09, 2,     0.02, 2,     0.01, 2,     0.60, 2,  -999.00, 9,  -0.1360,     0.15, 2, 0.04, 2,  -999.00, 9,  -999.00, 9,   1.1330, 2, 0.000, 2, 0.504, 2, 4.872, 2
320620030705, SBI, 82, 1, 101, 1, 2, 20030722, 122, 71.0920, -159.4446, 80,     73.5,  -0.1344,  32.0535, 2,  32.0498, 2,    355.8, 2,    392.1, 2,     0.99, 2,     0.01, 2,     0.01, 2,     0.60, 2,    73.20, 2,  -0.1366,     0.10, 2, 0.03, 2,     0.25, 2,     0.33, 2,   1.2050, 2, 0.000, 2, 0.172, 2, 4.856, 2
320620030705, SBI, 83, 1, 107, 7, 2, 20030722, 257, 71.1368, -159.5236, 71,      1.7,   0.3856,  28.6951, 2,  28.6655, 2,    389.4, 2,    415.5, 2,    18.92, 2,     0.00, 2,     0.00, 2,     0.76, 2,  -999.00, 9,   0.3856,     0.04, 2, 0, 2,     0.25, 2,     0.05, 2,   1.1060, 2, 0.000, 2, 3.353, 2, 4.856, 2
320620030705, SBI, 83, 1, 106, 6, 2, 20030722, 255, 71.1368, -159.5236, 71,     14.9,  -0.1301,  30.7979, 2, -999.0000, 9,    408.9, 2,    446.4, 2,    15.49, 2,     0.00, 2,     0.00, 2,     0.73, 2,  -999.00, 9,  -0.1305,     0.11, 2, 0.01, 2,     0.27, 2,     0.06, 2,   1.0290, 2, 0.000, 2, 2.497, 2, 4.858, 2
320620030705, SBI, 83, 1, 105, 5, 2, 20030722, 253, 71.1368, -159.5236, 71,     24.7,  -1.2556,  32.2231, 2, -999.0000, 9,    421.6, 2,    458.3, 2,    21.37, 2,     0.04, 2,     0.02, 2,     0.89, 2,  -999.00, 9,  -1.2561,     0.26, 2, 0.39, 2,     0.66, 2,     0.31, 2,   1.3660, 2, 0.000, 2, 2.035, 2, 4.861, 2
320620030705, SBI, 83, 1, 104, 4, 2, 20030722, 251, 71.1368, -159.5236, 71,     35.4,  -1.3052,  32.3969, 2, -999.0000, 9,    391.6, 2,    426.4, 2,    13.47, 2,     1.93, 2,     0.09, 2,     0.98, 2,  -999.00, 9,  -1.3059,     0.51, 2, 0.07, 2,     1.90, 2,     0.58, 2,   1.6930, 2, 0.000, 2, 1.431, 2, 4.858, 2
320620030705, SBI, 83, 1, 103, 3, 2, 20030722, 250, 71.1368, -159.5236, 71,     45.3,  -1.2706,  32.4127, 2, -999.0000, 9,    387.9, 2,    422.1, 2,     9.18, 2,     1.99, 2,     0.09, 2,     0.96, 2,  -999.00, 9,  -1.2715,     0.49, 2, 0.07, 2,     2.28, 2,     0.67, 2,   1.7530, 2, 0.000, 2, 0.639, 2, 4.860, 2
320620030705, SBI, 83, 1, 102, 2, 2, 20030722, 248, 71.1368, -159.5236, 71,     55.6,  -1.4286,  32.5048, 2, -999.0000, 9,    360.9, 2,    391.9, 2,    10.48, 2,     4.76, 2,     0.16, 2,     1.19, 2,  -999.00, 9,  -1.4297,     1.02, 2, 0.13, 2,  -999.00, 9,  -999.00, 9,   1.8320, 2, 0.000, 2, 0.214, 2, 4.850, 2
320620030705, SBI, 83, 1, 101, 1, 2, 20030722, 246, 71.1368, -159.5236, 71,     65.2,  -1.4965,  32.5335, 2,  32.5277, 2,    348.4, 2,    379.2, 2,    12.48, 2,     6.01, 2,     0.19, 2,     1.30, 2,    71.00, 2,  -1.4977,     1.30, 2, 0.14, 2,     3.36, 2,     1.07, 2,   1.8620, 2, 0.000, 2, 0.149, 2, 4.837, 2
320620030705, SBI, 84, 1, 105, 5, 2, 20030722, 350, 71.1830, -159.5856, 71,      1.8,  -0.3525,  28.4543, 2,  28.8620, 2,    394.9, 2,    432.5, 2,    18.73, 2,    -0.01, 2,     0.01, 2,     0.80, 2,  -999.00, 9,  -0.3525,     0.01, 2, 0, 2,     0.35, 2,     0.06, 2,   0.9740, 2, 0.000, 2, 3.156, 2, 4.901, 2
320620030705, SBI, 84, 1, 104, 4, 2, 20030722, 348, 71.1830, -159.5856, 71,     21.3,  -1.5485,  32.1385, 2, -999.0000, 9,    343.4, 2,    358.2, 2,    33.90, 2,     7.51, 2,     0.16, 2,     1.55, 2,  -999.00, 9,  -1.5489,     0.89, 2, 0.12, 2,    10.49, 2,     0.34, 2,   2.0200, 2, 0.000, 2, 1.349, 2, 4.907, 2
320620030705, SBI, 84, 1, 103, 3, 2, 20030722, 347, 71.1830, -159.5856, 71,     35.3,  -1.7052,  32.6866, 2, -999.0000, 9,    271.9, 2,    295.7, 2,    38.30, 2,    13.38, 2,     0.22, 2,     2.08, 2,  -999.00, 9,  -1.7058,     4.01, 2, 0.21, 2,     6.78, 2,     3.40, 2,   1.9560, 2, 0.000, 2, 0.333, 2, 4.910, 2
320620030705, SBI, 84, 1, 102, 2, 2, 20030722, 345, 71.1830, -159.5856, 71,     51.3,  -1.7053,  32.6903, 2, -999.0000, 9,    272.1, 2,    296.0, 2,    37.80, 2,    13.53, 2,     0.22, 2,     2.08, 2,  -999.00, 9,  -1.7062,     4.17, 2, 0.22, 2,    11.82, 2,     1.06, 2,   2.0240, 2, 0.000, 2, 0.143, 2, 4.910, 2
320620030705, SBI, 84, 1, 101, 1, 2, 20030722, 343, 71.1830, -159.5856, 71,     64.7,  -1.7072,  32.6987, 2,  32.6903, 0,    270.5, 2,    294.7, 2,    38.51, 2,    13.59, 2,     0.22, 2,     2.09, 2,    71.20, 2,  -1.7083,     4.12, 2, 0.21, 2,    11.54, 2,     1.87, 2,   2.0400, 2, 0.000, 2, 0.142, 2, 4.910, 2
320620030705, SBI, 85, 1, 105, 5, 2, 20030722, 438, 71.2278, -159.6488, 59,      2.2,   0.2477,  27.7442, 2,  27.7967, 2,    379.4, 2,    407.3, 2,    21.90, 2,     0.09, 2,     0.00, 2,     0.81, 2,  -999.00, 9,   0.2476,     0.09, 2, 0, 2,     0.51, 2,     0.10, 2,   1.0300, 2, 0.000, 2, 3.142, 2, 4.904, 2
320620030705, SBI, 85, 1, 104, 4, 2, 20030722, 437, 71.2278, -159.6488, 59,     14.8,  -0.6628,  30.6063, 2, -999.0000, 9,    395.3, 2,    411.2, 2,    30.07, 2,     0.81, 2,     0.03, 2,     1.11, 2,  -999.00, 9,  -0.6631,     0.19, 2, 0.04, 2,     3.79, 2,     0.14, 2,   1.5790, 2, 0.000, 2, 2.335, 2, 4.900, 2
320620030705, SBI, 85, 1, 103, 3, 2, 20030722, 435, 71.2278, -159.6488, 59,     21.7,  -1.3069,  31.5613, 2, -999.0000, 9,    375.0, 2,    390.0, 2,    29.54, 2,     2.90, 2,     0.06, 2,     1.28, 2,  -999.00, 9,  -1.3073,     0.69, 2, 0.07, 2,     4.12, 2,     0.35, 2,   1.8470, 2, 0.000, 2, 1.630, 2, 4.895, 2
320620030705, SBI, 85, 1, 102, 2, 2, 20030722, 434, 71.2278, -159.6488, 59,     34.9,  -1.7052,  32.5741, 2, -999.0000, 9,    263.5, 2,    287.7, 2,    46.28, 2,    12.51, 2,     0.17, 2,     2.02, 2,  -999.00, 9,  -1.7058,     3.50, 2, 0.17, 2,     1.22, 2,     0.87, 2,   1.1370, 2, 0.000, 2, 0.774, 2, 4.886, 2
320620030705, SBI, 85, 1, 101, 1, 2, 20030722, 432, 71.2278, -159.6488, 59,     51.7,  -1.7139,  32.6822, 2,  32.6749, 2,    262.2, 2,    286.2, 2,    44.96, 2,    13.55, 2,     0.18, 2,     2.09, 2,    70.70, 2,  -1.7148,     4.10, 2, 0.18, 2,     2.80, 2,     1.43, 2,   1.4700, 2, 0.000, 2, 0.150, 2, 4.880, 2
320620030705, SBI, 86, 1, 104, 4, 2, 20030722, 602, 71.3191, -159.7800, 50,      1.9,   0.2082,  28.6879, 2,  28.9642, 2,    372.1, 2,    405.8, 2,    24.54, 2,     0.08, 2,     0.00, 2,     0.83, 2,  -999.00, 9,   0.2082,     0.00, 2, 0, 2,     0.80, 2,     0.04, 2,   1.4230, 2, 0.000, 2, 3.147, 2, 4.915, 2
320620030705, SBI, 86, 1, 103, 3, 2, 20030722, 600, 71.3191, -159.7800, 50,     21.5,  -1.3213,  31.2630, 2, -999.0000, 9,    371.2, 2,    401.7, 2,    34.62, 2,     0.59, 2,     0.03, 2,     1.15, 2,  -999.00, 9,  -1.3217,     0.26, 2, 0.06, 2,     4.85, 2,     0.22, 2,   2.5220, 2, 0.000, 2, 1.750, 2, 4.913, 2
320620030705, SBI, 86, 1, 102, 2, 2, 20030722, 558, 71.3191, -159.7800, 50,     31.6,  -1.4461,  31.7920, 2, -999.0000, 9,    372.1, 3,    341.4, 2,    37.21, 2,     7.11, 2,     0.12, 2,     1.61, 2,  -999.00, 9,  -1.4466,     1.91, 2, 0.13, 2,     2.12, 2,     0.57, 2,   1.4700, 2, 0.000, 2, 0.495, 2, 4.916, 2
320620030705, SBI, 86, 1, 101, 1, 2, 20030722, 557, 71.3191, -159.7800, 50,     42.4,  -1.7036,  32.5693, 2,  32.1150, 2,    261.8, 3,    331.0, 2,    39.50, 2,     7.90, 2,     0.12, 2,     1.66, 2,    70.80, 2,  -1.7043,     2.12, 2, 0.12, 2,     2.61, 2,     0.60, 2,   1.2410, 2, 0.000, 2, 0.242, 2, 4.916, 2