BOTTLE,20100423CCHDOSIODBK
EXPOCODE,SECT_ID,STNNBR,CASTNO,SAMPNO,BTLNBR,BTLNBR_FLAG_W,DATE,TIME,LATITUDE,LONGITUDE,DEPTH,CTDPRS,CTDTMP,CTDSAL,CTDSAL_FLAG_W,SALNTY,SALNTY_FLAG_W,CTDOXY,CTDOXY_FLAG_W,OXYGEN,OXYGEN_FLAG_W,SILCAT,SILCAT_FLAG_W,NITRAT,NITRAT_FLAG_W,NITRIT,NITRIT_FLAG_W,PHSPHT,PHSPHT_FLAG_W,DOC,DOC_FLAG_W,THETA,NH4,NH4_FLAG_W,UREA,UREA_FLAG_W,CHLORA,CHLORA_FLAG_W,PPHYTN,PPHYTN_FLAG_W,FLUOR,FLUOR_FLAG_W,HAARDT,HAARDT_FLAG_W,PAR,PAR_FLAG_W,SPAR,SPAR_FLAG_W
,,,,,,,,,,,METERS,DBAR,ITS-90,PSS-78,,PSS-78,,UMOL/KG,,UMOL/KG,,UMOL/KG,,UMOL/KG,,UMOL/KG,,UMOL/KG,,UMOL/KG,,DEG C,UMOL/KG,,UMOL/KG,,UG/KG,,UG/KG,,MG/M^3,,VOLTS,,VOLTS,,VOLTS,
320620030705, SBI, 211, 1, 108, 8, 2, 20030805, 1920, 72.7606, -163.7151, 63,      2.1,  -0.9245,  29.7593, 2,  29.7527, 2,    366.1, 2,    389.8, 2,    20.97, 2,     0.12, 2,     0.00, 2,     0.90, 2,  -999.00, 9,  -0.9245,     0.00, 2, 0, 2,     1.85, 2,     0.20, 2,   1.6890, 2, 0.289, 2, 3.557, 2, 4.756, 2
320620030705, SBI, 211, 1, 107, 7, 2, 20030805, 1917, 72.7606, -163.7151, 63,     10.7,  -0.9255,  29.7603, 2,  29.7728, 2,    366.2, 2,    388.0, 2,    21.07, 2,     0.12, 2,     0.00, 2,     0.90, 2,  -999.00, 9,  -0.9257,     0.00, 2, 0, 2,     1.88, 2,     0.20, 2,   1.8160, 2, 0.370, 2, 2.668, 2, 4.777, 2
320620030705, SBI, 211, 1, 106, 6, 2, 20030805, 1915, 72.7606, -163.7151, 63,     19.8,  -1.0100,  29.9625, 2,  30.2556, 2,    362.0, 2,    372.8, 2,    25.05, 2,     1.76, 2,     0.03, 2,     1.11, 2,  -999.00, 9,  -1.0104,     0.14, 2, 0.01, 2,     3.27, 2,     0.33, 2,   1.9170, 2, 0.503, 2, 1.836, 2, 4.803, 2
320620030705, SBI, 211, 1, 105, 5, 2, 20030805, 1912, 72.7606, -163.7151, 63,     27.8,  -1.5063,  31.5491, 2, -999.0000, 9,    321.3, 2,    328.4, 2,    39.91, 2,     9.24, 2,     0.15, 2,     1.75, 2,  -999.00, 9,  -1.5068,     1.09, 2, 0.06, 2,  -999.00, 9,  -999.00, 9,   1.8700, 2, 0.467, 2, 1.154, 2, 4.816, 2
320620030705, SBI, 211, 1, 104, 4, 2, 20030805, 1910, 72.7606, -163.7151, 63,     31.9,  -1.5850,  32.3393, 2, -999.0000, 9,    286.1, 2,    312.3, 2,    44.42, 2,    11.61, 2,     0.18, 2,     1.90, 2,  -999.00, 9,  -1.5855,     1.31, 2, 0.05, 2,     2.63, 2,     0.80, 2,   1.5460, 2, 0.307, 2, 0.903, 2, 4.795, 2
320620030705, SBI, 211, 1, 103, 3, 2, 20030805, 1908, 72.7606, -163.7151, 63,     34.9,  -1.5258,  32.4085, 2, -999.0000, 9,    262.0, 2,    300.4, 2,    47.09, 2,    12.20, 2,     0.17, 2,     1.96, 2,  -999.00, 9,  -1.5264,     1.35, 2, 0.05, 2,  -999.00, 9,  -999.00, 9,   1.5150, 2, 0.290, 2, 0.786, 2, 4.760, 2
320620030705, SBI, 211, 1, 102, 2, 2, 20030805, 1903, 72.7606, -163.7151, 63,     37.9,  -1.6410,  32.5569, 2, -999.0000, 9,    269.9, 2,    282.4, 2,    51.33, 2,    14.13, 2,     0.17, 2,     2.13, 2,  -999.00, 9,  -1.6417,     1.77, 2, 0.03, 2,     0.58, 2,     0.39, 2,   1.1610, 2, 0.230, 2, 0.718, 2, 4.722, 2
320620030705, SBI, 211, 1, 101, 1, 2, 20030805, 1900, 72.7606, -163.7151, 63,     58.1,  -1.6775,  32.6440, 2,  32.6323, 2,    267.9, 2,    285.4, 2,    51.53, 2,    14.95, 2,     0.14, 2,     2.19, 2,    67.00, 2,  -1.6785,     2.01, 2, 0.06, 2,     0.64, 2,     0.55, 2,   1.2330, 2, 0.208, 2, 0.154, 2, 4.732, 2
320620030705, SBI, 212, 1, 106, 6, 2, 20030805, 2107, 72.6003, -163.8822, 53,      1.5,  -0.9176,  29.7377, 2,  29.7703, 2,    370.4, 2,    394.0, 2,    20.72, 2,     0.16, 2,     0.00, 2,     0.91, 2,  -999.00, 9,  -0.9176,     0.00, 2, 0, 2,     1.05, 2,     0.15, 2,   1.3000, 2, 0.204, 2, 3.713, 2, 4.670, 2
320620030705, SBI, 212, 1, 105, 5, 2, 20030805, 2105, 72.6003, -163.8822, 53,     13.3,  -0.9175,  29.7484, 2, -999.0000, 9,    370.3, 2,    394.1, 2,    20.82, 2,     0.15, 2,     0.00, 2,     0.92, 2,  -999.00, 9,  -0.9177,     0.00, 2, 0, 2,     1.59, 2,     0.02, 2,   1.4560, 2, 0.251, 2, 2.743, 2, 4.673, 2
320620030705, SBI, 212, 1, 104, 4, 2, 20030805, 2103, 72.6003, -163.8822, 53,     19.3,  -1.2722,  31.0082, 2, -999.0000, 9,    352.6, 2,    366.5, 2,    27.65, 2,     4.70, 2,     0.08, 2,     1.37, 2,  -999.00, 9,  -1.2725,     0.67, 2, 0.04, 2,     5.26, 2,     0.12, 2,   2.0600, 2, 0.545, 2, 2.269, 2, 4.651, 2
320620030705, SBI, 212, 1, 103, 3, 2, 20030805, 2101, 72.6003, -163.8822, 53,     28.2,  -1.6781,  32.3759, 2, -999.0000, 9,    298.8, 2,    305.9, 2,    43.15, 2,    14.14, 2,     0.16, 2,     2.02, 2,  -999.00, 9,  -1.6786,     2.42, 2, 0.08, 2,     1.25, 2,     0.54, 2,   1.3590, 2, 0.235, 2, 1.525, 2, 4.643, 2
320620030705, SBI, 212, 1, 102, 2, 2, 20030805, 2100, 72.6003, -163.8822, 53,     33.0,  -1.7174,  32.7177, 2, -999.0000, 9,    276.9, 2,    296.7, 2,    46.34, 2,    16.03, 2,     0.18, 2,     2.08, 2,  -999.00, 9,  -1.7180,     2.55, 2, 0.06, 2,     0.96, 2,     0.68, 2,   1.2090, 2, 0.213, 2, 1.311, 2, 4.628, 2
320620030705, SBI, 212, 1, 101, 1, 2, 20030805, 2056, 72.6003, -163.8822, 53,     47.6,  -1.7180,  32.7302, 2,  32.7216, 2,    276.0, 2,    295.5, 2,    46.34, 2,    16.20, 2,     0.18, 2,     2.08, 2,    66.50, 2,  -1.7188,     2.57, 2, 0.06, 2,     1.35, 2,     0.98, 2,   1.3220, 2, 0.226, 2, 0.333, 2, 4.615, 2
320620030705, SBI, 213, 1, 106, 6, 2, 20030805, 2255, 72.4421, -164.0546, 46,      1.6,  -0.7124,  30.2630, 2,  30.2607, 2,    372.9, 2,    396.9, 2,    18.42, 2,     0.08, 2,     0.00, 2,     0.91, 2,  -999.00, 9,  -0.7124,     0.00, 2, 0, 2,     2.07, 2,     0.06, 2,   1.3750, 2, 0.228, 2, 3.916, 2, 4.397, 2
320620030705, SBI, 213, 1, 105, 5, 2, 20030805, 2253, 72.4421, -164.0546, 46,     13.4,  -0.6998,  30.3443, 2, -999.0000, 9,    373.2, 2,    387.8, 2,    20.97, 2,     1.88, 2,     0.04, 2,     1.05, 2,  -999.00, 9,  -0.7001,     0.22, 2, 0, 2,     3.01, 2,     0.19, 2,   1.9480, 2, 0.457, 2, 2.794, 2, 4.414, 2
320620030705, SBI, 213, 1, 104, 4, 2, 20030805, 2252, 72.4421, -164.0546, 46,     22.5,  -1.1000,  31.1173, 2, -999.0000, 9,    353.8, 2,   -999.0, 9,  -999.00, 9,  -999.00, 9,  -999.00, 9,  -999.00, 9,  -999.00, 9,  -1.1004,  -999.00, 9, -999, 9,  -999.00, 9,  -999.00, 9,   1.8870, 2, 0.476, 2, 1.965, 2, 4.378, 2
320620030705, SBI, 213, 1, 103, 3, 2, 20030805, 2251, 72.4421, -164.0546, 46,     22.6,  -1.2451,  31.3389, 2, -999.0000, 9,    351.7, 2,    353.8, 2,    25.55, 2,     5.43, 2,     0.09, 2,     1.28, 2,  -999.00, 9,  -1.2455,     0.68, 2, 0.01, 2,     4.04, 2,     0.31, 2,   1.8870, 2, 0.419, 2, 1.924, 2, 4.390, 2
320620030705, SBI, 213, 1, 102, 2, 2, 20030805, 2249, 72.4421, -164.0546, 46,     33.3,  -1.7001,  32.6921, 2, -999.0000, 9,    261.2, 2,    280.8, 2,    40.12, 2,    14.65, 2,     0.23, 2,     2.03, 2,  -999.00, 9,  -1.7007,     2.77, 2, 0.08, 2,     1.21, 2,     0.55, 2,   1.3310, 2, 0.226, 2, 1.120, 2, 4.325, 2
320620030705, SBI, 213, 1, 101, 1, 2, 20030805, 2247, 72.4421, -164.0546, 46,     42.9,  -1.7000,  32.6920, 2,  32.6767, 0,    261.3, 2,    281.3, 2,    39.92, 2,    14.55, 2,     0.23, 2,     2.03, 2,    65.60, 2,  -1.7007,     2.76, 2, 0.05, 2,     1.23, 2,     0.52, 2,   1.3880, 2, 0.230, 2, 0.414, 2, 4.245, 2
320620030705, SBI, 214, 1, 108, 8, 2, 20030806, 1231, 73.0053, -168.9088, 67,      1.6,  -1.1215,  29.4666, 2,  29.4584, 2,    368.2, 2,    392.9, 2,    19.22, 2,     0.15, 2,     0.00, 2,     0.92, 2,  -999.00, 9,  -1.1215,     0.00, 2, 0, 2,     1.32, 2,     0.15, 2,   1.7490, 2, 0.308, 2, 1.858, 2, 4.999, 2
320620030705, SBI, 214, 1, 105, 5, 2, 20030806, 1228, 73.0053, -168.9088, 67,     14.5,  -1.1319,  29.4813, 2,  29.5264, 2,    365.7, 2,    389.0, 2,    20.02, 2,     0.25, 2,     0.00, 2,     0.96, 2,  -999.00, 9,  -1.1321,     0.02, 2, 0, 2,     1.71, 2,     0.18, 2,   1.7200, 2, 0.379, 2, 0.758, 2, 4.999, 2
320620030705, SBI, 214, 1, 107, 7, 2, 20030806, 1228, 73.0053, -168.9088, 67,     14.5,  -1.1448,  29.4982, 2, -999.0000, 9,    365.5, 2,   -999.0, 9,  -999.00, 9,  -999.00, 9,  -999.00, 9,  -999.00, 9,  -999.00, 9,  -1.1450,  -999.00, 9, -999, 9,  -999.00, 9,  -999.00, 9,   1.7510, 2, 0.391, 2, 0.765, 2, 5.000, 2
320620030705, SBI, 214, 1, 106, 6, 2, 20030806, 1228, 73.0053, -168.9088, 67,     14.5,  -1.1462,  29.4986, 2, -999.0000, 9,    365.8, 2,   -999.0, 9,  -999.00, 9,  -999.00, 9,  -999.00, 9,  -999.00, 9,  -999.00, 9,  -1.1464,  -999.00, 9, -999, 9,  -999.00, 9,  -999.00, 9,   1.7520, 2, 0.393, 2, 0.760, 2, 4.999, 2
320620030705, SBI, 214, 1, 104, 4, 2, 20030806, 1225, 73.0053, -168.9088, 67,     27.5,  -1.6173,  31.5782, 2, -999.0000, 9,    297.9, 2,    318.8, 2,    34.36, 2,     8.97, 2,     0.13, 2,     1.82, 2,  -999.00, 9,  -1.6177,     2.17, 2, 0.1, 2,     1.77, 2,     0.75, 2,   1.4320, 2, 0.270, 2, 0.250, 2, 4.999, 2
320620030705, SBI, 214, 1, 103, 3, 2, 20030806, 1222, 73.0053, -168.9088, 67,     37.6,  -1.5862,  31.8571, 2, -999.0000, 9,    281.8, 2,    276.9, 2,    43.99, 2,    12.05, 2,     0.13, 2,     2.10, 2,  -999.00, 9,  -1.5868,     1.92, 2, 0.09, 2,     0.84, 2,     0.63, 2,   1.2530, 2, 0.232, 2, 0.180, 2, 4.999, 2
320620030705, SBI, 214, 1, 102, 2, 2, 20030806, 1220, 73.0053, -168.9088, 67,     49.7,  -1.3547,  32.4733, 2, -999.0000, 9,    195.9, 2,    225.2, 2,    61.09, 2,    15.28, 2,     0.10, 2,     2.51, 2,  -999.00, 9,  -1.3557,     1.10, 2, 0.07, 2,     0.40, 2,     0.35, 2,   1.0440, 2, 0.198, 2, 0.149, 2, 4.998, 2
320620030705, SBI, 214, 1, 101, 1, 2, 20030806, 1216, 73.0053, -168.9088, 67,     61.8,  -1.3878,  32.5286, 2,  32.5031, 2,    251.0, 2,    266.2, 2,    40.33, 2,    12.53, 2,     0.11, 2,     2.16, 2,    68.10, 2,  -1.3890,     2.16, 2, 0.13, 2,     0.52, 2,     0.29, 2,   1.1150, 2, 0.208, 2, 0.142, 2, 4.998, 2
320620030705, SBI, 215, 1, 105, 5, 2, 20030806, 1437, 73.0429, -168.3870, 61,      1.9,  -1.1698,  29.5489, 2,  29.5415, 2,    368.3, 2,    395.0, 2,    17.67, 2,     0.08, 2,     0.00, 2,     0.92, 2,  -999.00, 9,  -1.1698,     0.03, 2, 0.01, 2,  -999.00, 9,  -999.00, 9,   1.9460, 2, 0.435, 2, 2.349, 2, 4.985, 2
320620030705, SBI, 215, 1, 104, 4, 2, 20030806, 1434, 73.0429, -168.3870, 61,     17.3,  -1.1909,  29.5773, 2,  29.8339, 2,    365.1, 2,    383.1, 2,    21.01, 2,     1.13, 2,     0.03, 2,     1.06, 2,  -999.00, 9,  -1.1912,     0.19, 2, 0.03, 2,  -999.00, 9,  -999.00, 9,   2.0130, 2, 0.546, 2, 0.918, 2, 4.985, 2
320620030705, SBI, 215, 1, 103, 3, 2, 20030806, 1431, 73.0429, -168.3870, 61,     32.3,  -1.6309,  31.6557, 2, -999.0000, 9,    290.3, 2,    295.8, 2,    40.92, 2,    10.82, 2,     0.14, 2,     1.94, 2,  -999.00, 9,  -1.6314,     1.86, 2, 0.09, 2,  -999.00, 9,  -999.00, 9,   1.2630, 2, 0.224, 2, 0.276, 2, 4.985, 2
320620030705, SBI, 215, 1, 102, 2, 2, 20030806, 1429, 73.0429, -168.3870, 61,     46.4,  -1.3705,  32.4238, 2, -999.0000, 9,    207.4, 2,    237.9, 2,    56.86, 2,    15.13, 2,     0.12, 2,     2.40, 2,  -999.00, 9,  -1.3714,     1.47, 2, 0.11, 2,  -999.00, 9,  -999.00, 9,   1.0910, 2, 0.199, 2, 0.171, 2, 4.985, 2
320620030705, SBI, 215, 1, 101, 1, 2, 20030806, 1425, 73.0429, -168.3870, 61,     55.5,  -1.5331,  32.5704, 2,  32.4139, 2,    231.2, 2,    251.6, 2,    53.64, 2,    14.70, 2,     0.18, 2,     2.35, 2,    68.60, 2,  -1.5341,     1.77, 2, 0.07, 2,  -999.00, 9,  -999.00, 9,   1.0600, 2, 0.208, 2, 0.149, 2, 4.987, 2
320620030705, SBI, 216, 1, 107, 7, 2, 20030806, 1642, 73.0802, -167.8047, 69,      2.0,  -1.2854,  29.3902, 2,  29.3875, 2,    368.4, 2,    394.4, 2,    13.71, 2,     0.14, 2,     0.00, 2,     0.85, 2,  -999.00, 9,  -1.2854,     0.00, 2, 0, 2,     1.89, 2,     0.14, 2,   1.8780, 2, 0.389, 2, 3.115, 2, 4.909, 2
320620030705, SBI, 216, 1, 106, 6, 2, 20030806, 1640, 73.0802, -167.8047, 69,     12.2,  -1.2918,  29.3938, 2,  29.4950, 2,    366.3, 2,    393.0, 2,    14.70, 2,     0.24, 2,     0.00, 2,     0.87, 2,  -999.00, 9,  -1.2920,     0.02, 2, 0, 2,  -999.00, 9,  -999.00, 9,   1.8960, 2, 0.450, 2, 2.122, 2, 4.912, 2
320620030705, SBI, 216, 1, 105, 5, 2, 20030806, 1638, 73.0802, -167.8047, 69,     20.4,  -1.3486,  29.7144, 2, -999.0000, 9,    359.8, 2,    381.0, 2,    17.12, 2,     0.97, 2,     0.02, 2,     1.01, 2,  -999.00, 9,  -1.3489,     0.11, 2, 0.02, 2,     1.67, 2,     0.07, 2,   2.0880, 2, 0.616, 2, 1.398, 2, 4.921, 2
320620030705, SBI, 216, 1, 104, 4, 2, 20030806, 1636, 73.0802, -167.8047, 69,     30.4,  -1.6318,  31.5512, 2, -999.0000, 9,    297.8, 2,    317.9, 2,    34.96, 2,     8.56, 2,     0.14, 2,     1.76, 2,  -999.00, 9,  -1.6323,     1.59, 2, 0.08, 2,     2.00, 2,     0.18, 2,   1.5730, 2, 0.339, 2, 0.671, 2, 4.926, 2
320620030705, SBI, 216, 1, 103, 3, 2, 20030806, 1634, 73.0802, -167.8047, 69,     40.5,  -1.5649,  31.8517, 2, -999.0000, 9,    278.1, 2,    296.3, 2,    41.41, 2,    10.88, 2,     0.15, 2,     1.90, 2,  -999.00, 9,  -1.5656,     1.51, 2, 0.06, 2,     0.35, 2,     0.45, 2,   1.0850, 2, 0.200, 2, 0.360, 2, 4.926, 2
320620030705, SBI, 216, 1, 102, 2, 2, 20030806, 1630, 73.0802, -167.8047, 69,     52.4,  -1.4380,  32.4204, 2, -999.0000, 9,    224.7, 2,    235.9, 2,    60.59, 2,    14.94, 2,     0.11, 2,     2.39, 2,  -999.00, 9,  -1.4390,     1.42, 2, 0.06, 2,  -999.00, 9,  -999.00, 9,   1.0050, 2, 0.203, 2, 0.204, 2, 4.929, 2
320620030705, SBI, 216, 1, 101, 1, 2, 20030806, 1628, 73.0802, -167.8047, 69,     63.6,  -1.4327,  32.4996, 2,  32.4493, 2,    217.1, 2,    234.4, 2,    60.78, 2,    15.00, 2,     0.11, 2,     2.40, 2,    69.40, 2,  -1.4339,     1.42, 2, 0.06, 2,     0.26, 2,     0.37, 2,   1.0250, 2, 0.193, 2, 0.154, 2, 4.927, 2
320620030705, SBI, 217, 1, 106, 6, 2, 20030806, 1843, 73.1190, -167.2473, 61,      2.0,  -1.3563,  29.3751, 2,  29.3696, 2,    371.7, 2,    398.9, 2,    11.83, 2,     0.13, 2,     0.00, 2,     0.81, 2,  -999.00, 9,  -1.3563,     0.01, 2, 0.01, 2,  -999.00, 9,  -999.00, 9,   1.7050, 2, 0.306, 2, 3.425, 2, 4.785, 2
320620030705, SBI, 217, 1, 105, 5, 2, 20030806, 1841, 73.1190, -167.2473, 61,     11.9,  -1.3670,  29.3764, 2,  29.4216, 2,    370.2, 2,    398.6, 2,    12.42, 2,     0.12, 2,     0.00, 2,     0.82, 2,  -999.00, 9,  -1.3672,     0.03, 2, 0, 2,  -999.00, 9,  -999.00, 9,   1.9310, 2, 0.403, 2, 2.537, 2, 4.781, 2
320620030705, SBI, 217, 1, 104, 4, 2, 20030806, 1839, 73.1190, -167.2473, 61,     21.8,  -1.5510,  30.9733, 2, -999.0000, 9,    329.6, 2,    363.1, 2,    24.32, 2,     3.32, 2,     0.06, 2,     1.28, 2,  -999.00, 9,  -1.5513,     0.56, 2, 0.04, 2,  -999.00, 9,  -999.00, 9,   1.9010, 2, 0.428, 2, 1.802, 2, 4.761, 2
320620030705, SBI, 217, 1, 103, 3, 2, 20030806, 1836, 73.1190, -167.2473, 61,     35.0,  -1.5222,  32.0490, 2, -999.0000, 9,    272.9, 2,    267.2, 2,    52.76, 2,    13.12, 2,     0.14, 2,     2.16, 2,  -999.00, 9,  -1.5228,     1.44, 2, 0.06, 2,  -999.00, 9,  -999.00, 9,   1.1370, 2, 0.202, 2, 0.774, 2, 4.855, 2
320620030705, SBI, 217, 1, 102, 2, 2, 20030806, 1833, 73.1190, -167.2473, 61,     46.0,  -1.4663,  32.5729, 2, -999.0000, 9,    217.4, 2,    240.2, 2,    59.86, 2,    15.34, 2,     0.10, 2,     2.43, 2,  -999.00, 9,  -1.4672,     1.59, 2, 0.06, 2,  -999.00, 9,  -999.00, 9,   1.0540, 2, 0.195, 2, 0.355, 2, 4.905, 2
320620030705, SBI, 217, 1, 101, 1, 2, 20030806, 1831, 73.1190, -167.2473, 61,     55.2,  -1.5956,  32.6133, 2,  32.2565, 0,    238.9, 2,    271.1, 2,    50.85, 2,    13.42, 2,     0.11, 2,     2.19, 2,    68.60, 2,  -1.5966,     1.64, 2, 0.07, 2,  -999.00, 9,  -999.00, 9,   1.0940, 2, 0.202, 2, 0.220, 2, 4.893, 2
320620030705, SBI, 218, 1, 106, 6, 2, 20030806, 2113, 73.1592, -166.6845, 61,      1.2,  -1.3031,  29.2599, 2,  29.2521, 2,    361.4, 2,    391.5, 2,     9.21, 2,     0.15, 2,     0.00, 2,     0.77, 2,  -999.00, 9,  -1.3031,     0.01, 2, 0, 2,     0.97, 2,     0.06, 2,   1.3680, 2, 0.210, 2, 3.970, 2, 4.465, 2
320620030705, SBI, 218, 1, 105, 5, 2, 20030806, 2112, 73.1592, -166.6845, 61,     10.7,  -1.2992,  29.2946, 2, -999.0000, 9,    360.4, 2,    389.5, 2,    11.03, 2,     0.25, 2,     0.00, 2,     0.82, 2,  -999.00, 9,  -1.2993,     0.03, 2, 0.03, 2,     1.30, 2,     0.09, 2,   1.6220, 2, 0.276, 2, 3.089, 2, 4.494, 2
320620030705, SBI, 218, 1, 104, 4, 2, 20030806, 2109, 73.1592, -166.6845, 61,     22.1,  -1.4177,  30.4750, 2, -999.0000, 9,    338.9, 2,    347.0, 2,    24.85, 2,     3.93, 2,     0.07, 2,     1.29, 2,  -999.00, 9,  -1.4180,     0.57, 2, 0.05, 2,     3.66, 2,     0.28, 2,   1.9830, 2, 0.573, 2, 2.267, 2, 4.531, 2
320620030705, SBI, 218, 1, 103, 3, 2, 20030806, 2106, 73.1592, -166.6845, 61,     33.2,  -1.5678,  32.1262, 2, -999.0000, 9,    278.8, 2,    292.8, 2,    45.40, 2,    12.49, 2,     0.14, 2,     2.09, 2,  -999.00, 9,  -1.5684,     1.80, 2, 0.09, 2,     0.89, 2,     0.52, 2,   1.1820, 2, 0.226, 2, 1.501, 2, 4.503, 2
320620030705, SBI, 218, 1, 102, 2, 2, 20030806, 2105, 73.1592, -166.6845, 61,     43.2,  -1.6494,  32.6180, 2, -999.0000, 9,    247.8, 2,    270.1, 2,    51.26, 2,    14.59, 2,     0.11, 2,     2.30, 2,  -999.00, 9,  -1.6501,     1.99, 2, 0.08, 2,     0.59, 2,     0.50, 2,   1.1190, 2, 0.202, 2, 1.118, 2, 4.438, 2
320620030705, SBI, 218, 1, 101, 1, 2, 20030806, 2102, 73.1592, -166.6845, 61,     55.4,  -1.6587,  32.6290, 2,  32.6148, 2,    249.4, 2,    270.8, 2,    50.84, 2,    14.79, 2,     0.12, 2,     2.31, 2,    68.50, 2,  -1.6597,     2.09, 2, 0.08, 2,     0.46, 2,     0.50, 2,   1.1390, 2, 0.202, 2, 0.511, 2, 4.404, 2
320620030705, SBI, 219, 1, 106, 6, 2, 20030807, 8, 73.2351, -165.5668, 66,      1.4,  -1.2116,  29.3314, 2,  29.3444, 2,    365.7, 2,    391.6, 2,    12.06, 2,     0.13, 2,     0.00, 2,     0.80, 2,  -999.00, 9,  -1.2116,     0.02, 2, 0.01, 2,     1.57, 2,     0.10, 2,   1.3450, 2, 0.222, 2, 4.077, 2, 4.274, 2
320620030705, SBI, 219, 1, 105, 5, 2, 20030807, 6, 73.2351, -165.5668, 66,     11.8,  -1.2709,  29.3725, 2, -999.0000, 9,    364.6, 2,    388.6, 2,    12.87, 2,     0.19, 2,     0.00, 2,     0.82, 2,  -999.00, 9,  -1.2711,     0.02, 2, 0.01, 2,     1.73, 2,     0.13, 2,   1.6870, 2, 0.295, 2, 3.095, 2, 4.349, 2
320620030705, SBI, 219, 1, 104, 4, 2, 20030807, 4, 73.2351, -165.5668, 66,     19.9,  -1.4888,  31.0747, 2, -999.0000, 9,    325.3, 2,    335.6, 2,    33.23, 2,     6.39, 2,     0.12, 2,     1.57, 2,  -999.00, 9,  -1.4891,     0.96, 2, 0.09, 2,     3.64, 2,     0.12, 2,   1.9710, 2, 0.466, 2, 2.446, 2, 4.381, 2
320620030705, SBI, 219, 1, 103, 3, 2, 20030807, 2, 73.2351, -165.5668, 66,     31.7,  -1.4986,  32.0716, 2, -999.0000, 9,    265.8, 2,    280.0, 2,    45.72, 2,    12.28, 2,     0.15, 2,     1.99, 2,  -999.00, 9,  -1.4992,     1.29, 2, 0.06, 2,     0.68, 2,     0.50, 2,   1.3220, 2, 0.222, 2, 1.532, 2, 4.411, 2
320620030705, SBI, 219, 1, 102, 2, 2, 20030807, 0, 73.2351, -165.5668, 66,     46.9,  -1.5744,  32.5911, 2, -999.0000, 9,    249.4, 2,    266.3, 2,    54.99, 2,    14.63, 2,     0.14, 2,     2.30, 2,  -999.00, 9,  -1.5752,     1.74, 2, 0.05, 2,     0.19, 2,     0.32, 2,   0.9790, 2, 0.189, 2, 0.797, 2, 4.441, 2
320620030705, SBI, 219, 1, 101, 1, 2, 20030807, 2357, 73.2351, -165.5668, 66,     60.0,  -1.5974,  32.6240, 2,  32.5610, 0,    246.8, 2,    267.5, 2,    54.67, 2,    14.40, 2,     0.16, 2,     2.32, 2,    69.00, 2,  -1.5985,     1.79, 2, 0.05, 2,     0.25, 2,     0.33, 2,   0.9760, 2, 0.192, 2, 0.258, 2, 4.460, 2