BOTTLE,20100423CCHDOSIODBK
EXPOCODE,SECT_ID,STNNBR,CASTNO,SAMPNO,BTLNBR,BTLNBR_FLAG_W,DATE,TIME,LATITUDE,LONGITUDE,DEPTH,CTDPRS,CTDTMP,CTDSAL,CTDSAL_FLAG_W,SALNTY,SALNTY_FLAG_W,CTDOXY,CTDOXY_FLAG_W,OXYGEN,OXYGEN_FLAG_W,SILCAT,SILCAT_FLAG_W,NITRAT,NITRAT_FLAG_W,NITRIT,NITRIT_FLAG_W,PHSPHT,PHSPHT_FLAG_W,DOC,DOC_FLAG_W,THETA,NH4,NH4_FLAG_W,UREA,UREA_FLAG_W,CHLORA,CHLORA_FLAG_W,PPHYTN,PPHYTN_FLAG_W,FLUOR,FLUOR_FLAG_W,HAARDT,HAARDT_FLAG_W,PAR,PAR_FLAG_W,SPAR,SPAR_FLAG_W
,,,,,,,,,,,METERS,DBAR,ITS-90,PSS-78,,PSS-78,,UMOL/KG,,UMOL/KG,,UMOL/KG,,UMOL/KG,,UMOL/KG,,UMOL/KG,,UMOL/KG,,DEG C,UMOL/KG,,UMOL/KG,,UG/KG,,UG/KG,,MG/M^3,,VOLTS,,VOLTS,,VOLTS,
320620030705, SBI, 116, 1, 124, 24, 2, 20030725, 2357, 73.3107, -156.7564, 3361,      1.5,  -1.1835,  28.3548, 2,  28.3553, 2,    355.1, 2,    388.5, 2,     4.09, 2,     0.13, 2,     0.00, 2,     0.67, 2,  -999.00, 9,  -1.1835,     0.10, 2, 0.17, 2,     0.13, 2,     0.01, 2,   0.5560, 2, -999.000, 2, -999.000, 9, 3.778, 2
320620030705, SBI, 116, 1, 123, 23, 2, 20030725, 2356, 73.3107, -156.7564, 3361,     22.7,  -1.1938,  30.8374, 2, -999.0000, 9,    369.3, 2,    402.3, 2,     7.53, 2,     0.43, 2,     0.07, 2,     0.82, 2,  -999.00, 9,  -1.1942,     0.05, 2, 0.08, 2,     1.44, 2,     0.28, 2,   1.3200, 2, -999.000, 2, -999.000, 9, 4.063, 2
320620030705, SBI, 116, 1, 122, 22, 2, 20030725, 2355, 73.3107, -156.7564, 3361,     28.5,  -1.2607,  31.1642, 2, -999.0000, 9,    359.1, 2,    373.5, 2,    12.56, 2,     2.71, 2,     0.17, 2,     1.02, 2,  -999.00, 9,  -1.2612,     0.06, 2, 0.07, 2,     0.74, 2,     0.41, 2,   1.5360, 2, -999.000, 2, -999.000, 9, 3.995, 2
320620030705, SBI, 116, 1, 121, 21, 2, 20030725, 2353, 73.3107, -156.7564, 3361,     47.8,  -1.4929,  31.8901, 2, -999.0000, 9,    312.6, 2,    341.4, 2,    22.06, 2,     7.41, 2,     0.14, 2,     1.37, 2,  -999.00, 9,  -1.4937,     0.11, 2, 0.03, 2,     0.18, 2,     0.10, 2,   1.1130, 2, -999.000, 2, -999.000, 9, 3.835, 2
320620030705, SBI, 116, 1, 120, 20, 2, 20030725, 2351, 73.3107, -156.7564, 3361,     62.9,  -1.5419,  32.1485, 2, -999.0000, 9,    312.2, 2,    342.1, 2,    25.01, 2,     7.74, 2,     0.14, 2,     1.43, 2,  -999.00, 9,  -1.5430,     0.59, 2, 0.04, 2,     0.13, 2,     0.07, 2,   0.8700, 2, -999.000, 2, -999.000, 9, 3.814, 2
320620030705, SBI, 116, 1, 119, 19, 2, 20030725, 2350, 73.3107, -156.7564, 3361,     77.9,  -1.5825,  32.3228, 2, -999.0000, 9,    304.1, 2,    328.5, 2,    26.58, 2,     9.29, 2,     0.10, 2,     1.50, 2,  -999.00, 9,  -1.5839,     0.33, 2, 0.03, 2,     0.02, 2,     0.06, 2,   0.7560, 2, -999.000, 2, -999.000, 9, 4.259, 2
320620030705, SBI, 116, 1, 118, 18, 2, 20030725, 2348, 73.3107, -156.7564, 3361,     92.9,  -1.5385,  32.5139, 2, -999.0000, 9,    284.0, 2,    313.7, 2,    26.46, 2,    10.95, 2,     0.00, 2,     1.57, 2,  -999.00, 9,  -1.5402,     0.00, 2, 0.04, 2,  -999.00, 9,  -999.00, 9,   0.8120, 2, -999.000, 2, -999.000, 9, 4.190, 2
320620030705, SBI, 116, 1, 117, 17, 2, 20030725, 2347, 73.3107, -156.7564, 3361,    107.6,  -1.5492,  32.6671, 2, -999.0000, 9,    276.7, 2,    304.6, 2,    28.43, 2,    12.14, 2,     0.00, 2,     1.62, 2,  -999.00, 9,  -1.5512,     0.00, 2, 0.05, 2,  -999.00, 9,  -999.00, 9,   0.6860, 2, -999.000, 2, -999.000, 9, 3.838, 2
320620030705, SBI, 116, 1, 116, 16, 2, 20030725, 2346, 73.3107, -156.7564, 3361,    122.9,  -1.6089,  32.7848, 2, -999.0000, 9,    280.1, 2,    309.4, 2,    29.50, 2,    12.03, 2,     0.00, 2,     1.62, 2,  -999.00, 9,  -1.6112,     0.01, 2, 0.04, 2,  -999.00, 9,  -999.00, 9,   0.6280, 2, -999.000, 2, -999.000, 9, 4.021, 2
320620030705, SBI, 116, 1, 115, 15, 2, 20030725, 2344, 73.3107, -156.7564, 3361,    137.8,  -1.6129,  32.8721, 2, -999.0000, 9,    278.1, 2,    305.6, 2,    30.77, 2,    12.65, 2,     0.00, 2,     1.66, 2,  -999.00, 9,  -1.6155,     0.00, 2, 0.04, 2,  -999.00, 9,  -999.00, 9,   0.8690, 2, -999.000, 2, -999.000, 9, 3.817, 2
320620030705, SBI, 116, 1, 114, 14, 2, 20030725, 2343, 73.3107, -156.7564, 3361,    152.7,  -1.5909,  32.9660, 2, -999.0000, 9,    272.0, 2,    299.7, 2,    31.94, 2,    13.52, 2,     0.00, 2,     1.70, 2,  -999.00, 9,  -1.5939,     0.01, 2, 0.06, 2,  -999.00, 9,  -999.00, 9,   0.6550, 2, -999.000, 2, -999.000, 9, 4.150, 2
320620030705, SBI, 116, 1, 113, 13, 2, 20030725, 2342, 73.3107, -156.7564, 3361,    166.7,  -1.5641,  33.0701, 2, -999.0000, 9,    266.5, 2,    293.5, 2,    32.82, 2,    14.08, 2,     0.00, 2,     1.73, 2,  -999.00, 9,  -1.5675,     0.01, 2, 0.02, 2,  -999.00, 9,  -999.00, 9,   0.6620, 2, -999.000, 2, -999.000, 9, 4.078, 2
320620030705, SBI, 116, 1, 112, 12, 2, 20030725, 2341, 73.3107, -156.7564, 3361,    183.1,  -1.5413,  33.2439, 2, -999.0000, 9,    267.7, 2,    292.1, 2,    32.10, 2,    14.08, 2,     0.00, 2,     1.69, 2,  -999.00, 9,  -1.5451,     0.00, 2, 0.02, 2,  -999.00, 9,  -999.00, 9,   0.6490, 2, -999.000, 2, -999.000, 9, 3.980, 2
320620030705, SBI, 116, 1, 111, 11, 2, 20030725, 2339, 73.3107, -156.7564, 3361,    198.3,  -1.4705,  33.4378, 2,  33.5489, 2,    265.0, 3,    293.3, 2,    30.49, 2,    13.71, 2,     0.00, 2,     1.61, 2,  -999.00, 9,  -1.4749,     0.00, 2, 0.02, 2,  -999.00, 9,  -999.00, 9,   0.6190, 2, -999.000, 2, -999.000, 9, 3.908, 2
320620030705, SBI, 116, 1, 110, 10, 2, 20030725, 2338, 73.3107, -156.7564, 3361,    213.1,  -1.3949,  33.7642, 2,  33.9532, 2,    267.2, 2,    290.9, 2,    26.99, 2,    13.59, 2,     0.00, 2,     1.48, 2,  -999.00, 9,  -1.4000,     0.00, 2, 0.03, 2,  -999.00, 9,  -999.00, 9,   0.6520, 2, -999.000, 2, -999.000, 9, 3.796, 2
320620030705, SBI, 116, 1, 109, 9, 2, 20030725, 2336, 73.3107, -156.7564, 3361,    273.1,   0.1022,  34.6138, 2,  34.6358, 2,    257.2, 2,    280.8, 2,    10.91, 2,    12.66, 2,     0.00, 2,     0.95, 2,  -999.00, 9,   0.0917,     0.00, 2, 0.02, 2,  -999.00, 9,  -999.00, 9,   0.8410, 2, -999.000, 2, -999.000, 9, 3.867, 2
320620030705, SBI, 116, 1, 108, 8, 2, 20030725, 2334, 73.3107, -156.7564, 3361,    334.0,   0.6902,  34.7738, 2,  34.7756, 2,    268.0, 2,    290.2, 2,     7.82, 2,    12.49, 2,     0.00, 2,     0.87, 2,  -999.00, 9,   0.6754,     0.00, 2, 0.04, 2,  -999.00, 9,  -999.00, 9,   0.5600, 2, -999.000, 2, -999.000, 9, 3.874, 2
320620030705, SBI, 116, 1, 107, 7, 2, 20030725, 2329, 73.3107, -156.7564, 3361,    510.3,   0.5509,  34.8371, 2,  34.8404, 2,    271.4, 2,    296.3, 2,     7.30, 2,    12.60, 2,     0.00, 2,     0.87, 2,  -999.00, 9,   0.5281,     0.00, 2, 0.05, 2,  -999.00, 9,  -999.00, 9,   0.6160, 2, -999.000, 2, -999.000, 9, 4.008, 2
320620030705, SBI, 116, 1, 106, 6, 2, 20030725, 2323, 73.3107, -156.7564, 3361,    761.6,   0.2407,  34.8632, 2,  34.8652, 2,    274.4, 2,    300.2, 2,     6.99, 2,    12.59, 2,     0.00, 2,     0.87, 2,  -999.00, 9,   0.2069,     0.00, 2, 0.06, 2,  -999.00, 9,  -999.00, 9,   0.5760, 2, -999.000, 2, -999.000, 9, 4.031, 2
320620030705, SBI, 116, 1, 105, 5, 2, 20030725, 2312, 73.3107, -156.7564, 3361,   1216.2,  -0.1895,  34.8944, 2,  34.8947, 2,    271.8, 2,    300.5, 2,     8.05, 2,    12.89, 2,     0.00, 2,     0.90, 2,  -999.00, 9,  -0.2442,     0.00, 2, 0.04, 2,  -999.00, 9,  -999.00, 9,   0.6830, 2, -999.000, 2, -999.000, 9, 4.071, 2
320620030705, SBI, 116, 1, 104, 4, 2, 20030725, 2257, 73.3107, -156.7564, 3361,   1924.8,  -0.4067,  34.9382, 2,  34.9378, 2,    261.7, 2,    291.8, 2,    11.40, 2,    14.18, 2,     0.00, 2,     0.99, 2,  -999.00, 9,  -0.5020,     0.00, 2, 0, 2,  -999.00, 9,  -999.00, 9,   0.6550, 2, -999.000, 2, -999.000, 9, 4.240, 2
320620030705, SBI, 116, 1, 103, 3, 2, 20030725, 2241, 73.3107, -156.7564, 3361,   2635.2,  -0.3680,  34.9522, 2,  34.9528, 2,    256.2, 2,    286.4, 2,    12.97, 2,    14.54, 2,     0.00, 2,     1.02, 2,  -999.00, 9,  -0.5152,     0.00, 2, 0, 2,  -999.00, 9,  -999.00, 9,   0.5010, 2, -999.000, 2, -999.000, 9, 4.068, 2
320620030705, SBI, 116, 1, 102, 2, 2, 20030725, 2228, 73.3107, -156.7564, 3361,   3245.9,  -0.3122,  34.9558, 2,  34.9545, 2,    254.5, 2,    284.3, 2,    13.64, 2,    14.58, 2,     0.00, 2,     1.02, 2,  -999.00, 9,  -0.5111,     0.00, 2, 0, 2,  -999.00, 9,  -999.00, 9,   0.6510, 2, -999.000, 2, -999.000, 9, 4.480, 2
320620030705, SBI, 116, 1, 101, 1, 2, 20030725, 2222, 73.3107, -156.7564, 3361,   3414.1,  -0.2973,  34.9557, 2,  34.9549, 2,    255.0, 2,    284.5, 2,    13.73, 2,    14.58, 2,     0.00, 2,     1.03, 2,  -999.00, 9,  -0.5115,     0.01, 2, 0.01, 2,  -999.00, 9,  -999.00, 9,   0.4420, 2, -999.000, 2, -999.000, 9, 4.271, 2
320620030705, SBI, 117, 1, 124, 24, 2, 20030726, 544, 73.4631, -156.5516, 3612,      1.6,  -1.2345,  28.6652, 2,  28.8607, 2,    357.6, 2,    394.2, 2,     3.79, 2,     0.07, 2,     0.00, 2,     0.68, 2,  -999.00, 9,  -1.2345,     0.09, 2, 0, 2,     0.10, 2,     0.05, 2,   0.7600, 2, -999.000, 2, -999.000, 9, 4.932, 2
320620030705, SBI, 117, 1, 123, 23, 2, 20030726, 542, 73.4631, -156.5516, 3612,     23.1,  -1.3123,  30.2638, 2, -999.0000, 9,    369.7, 2,    405.9, 2,     4.86, 2,     0.26, 2,     0.02, 2,     0.76, 2,  -999.00, 9,  -1.3127,     0.07, 2, 0.02, 2,     0.29, 2,     0.14, 2,   1.0170, 2, -999.000, 2, -999.000, 9, 4.932, 2
320620030705, SBI, 117, 1, 122, 22, 2, 20030726, 541, 73.4631, -156.5516, 3612,     38.0,  -1.2359,  31.1597, 2, -999.0000, 9,    357.0, 2,    384.4, 2,     9.04, 2,     1.63, 2,     0.13, 2,     0.92, 2,  -999.00, 9,  -1.2366,     0.06, 2, 0.01, 2,     0.79, 2,     0.32, 2,   1.3950, 2, -999.000, 2, -999.000, 9, 4.932, 2
320620030705, SBI, 117, 1, 121, 21, 2, 20030726, 538, 73.4631, -156.5516, 3612,     53.0,  -1.0070,  31.8192, 2, -999.0000, 9,    321.9, 2,    350.3, 2,    13.40, 2,     5.34, 2,     0.05, 2,     1.19, 2,  -999.00, 9,  -1.0081,     0.03, 2, 0.01, 2,     0.28, 2,     0.28, 2,   1.2070, 2, -999.000, 2, -999.000, 9, 4.937, 2
320620030705, SBI, 117, 1, 120, 20, 2, 20030726, 537, 73.4631, -156.5516, 3612,     68.4,  -1.2683,  32.2049, 2, -999.0000, 9,    292.9, 2,    321.8, 2,    19.55, 2,     9.32, 2,     0.01, 2,     1.46, 2,  -999.00, 9,  -1.2697,     0.02, 2, 0.03, 2,     0.12, 2,     0.05, 2,   0.9200, 2, -999.000, 2, -999.000, 9, 4.937, 2
320620030705, SBI, 117, 1, 119, 19, 2, 20030726, 535, 73.4631, -156.5516, 3612,     83.6,  -1.3861,  32.4242, 2, -999.0000, 9,    279.7, 2,    308.4, 2,    23.53, 2,    11.10, 2,     0.00, 2,     1.57, 2,  -999.00, 9,  -1.3877,     0.02, 2, 0.02, 2,     0.04, 2,     0.02, 2,   0.6740, 2, -999.000, 2, -999.000, 9, 4.937, 2
320620030705, SBI, 117, 1, 118, 18, 2, 20030726, 534, 73.4631, -156.5516, 3612,     98.1,  -1.4488,  32.5699, 2, -999.0000, 9,    271.9, 2,    298.9, 2,    27.11, 2,    12.55, 2,     0.00, 2,     1.65, 2,  -999.00, 9,  -1.4507,     0.03, 2, 0.01, 2,  -999.00, 9,  -999.00, 9,   0.8830, 2, -999.000, 2, -999.000, 9, 4.937, 2
320620030705, SBI, 117, 1, 117, 17, 2, 20030726, 531, 73.4631, -156.5516, 3612,    113.4,  -1.5257,  32.6993, 2, -999.0000, 9,    271.8, 2,    299.8, 2,    28.79, 2,    12.80, 2,     0.00, 2,     1.66, 2,  -999.00, 9,  -1.5279,     0.05, 2, 0.05, 2,  -999.00, 9,  -999.00, 9,   0.6610, 2, -999.000, 2, -999.000, 9, 4.932, 2
320620030705, SBI, 117, 1, 116, 16, 2, 20030726, 530, 73.4631, -156.5516, 3612,    133.2,  -1.5579,  32.8812, 2, -999.0000, 9,    267.1, 2,    296.2, 2,    31.48, 2,    13.89, 2,     0.00, 2,     1.72, 2,  -999.00, 9,  -1.5605,     0.02, 2, 0.01, 2,  -999.00, 9,  -999.00, 9,   0.8670, 2, -999.000, 2, -999.000, 9, 4.930, 2
320620030705, SBI, 117, 1, 115, 15, 2, 20030726, 529, 73.4631, -156.5516, 3612,    153.2,  -1.5632,  33.0935, 2, -999.0000, 9,    264.4, 2,    291.6, 2,    33.56, 2,    14.60, 2,     0.00, 2,     1.76, 2,  -999.00, 9,  -1.5663,     0.02, 2, 0.02, 2,  -999.00, 9,  -999.00, 9,   0.6610, 2, -999.000, 2, -999.000, 9, 4.930, 2
320620030705, SBI, 117, 1, 114, 14, 2, 20030726, 527, 73.4631, -156.5516, 3612,    173.3,  -1.5022,  33.3328, 2, -999.0000, 9,    260.9, 2,    287.1, 2,    33.15, 2,    14.75, 2,     0.00, 2,     1.72, 2,  -999.00, 9,  -1.5059,     0.01, 2, 0.01, 2,  -999.00, 9,  -999.00, 9,   0.5970, 2, -999.000, 2, -999.000, 9, 4.932, 2
320620030705, SBI, 117, 1, 113, 13, 2, 20030726, 526, 73.4631, -156.5516, 3612,    195.5,  -1.3448,  33.7378, 2, -999.0000, 9,    259.5, 2,    286.6, 2,    29.84, 2,    14.28, 2,     0.00, 2,     1.57, 2,  -999.00, 9,  -1.3494,     0.01, 2, 0.03, 2,  -999.00, 9,  -999.00, 9,   0.6130, 2, -999.000, 2, -999.000, 9, 4.932, 2
320620030705, SBI, 117, 1, 112, 12, 2, 20030726, 524, 73.4631, -156.5516, 3612,    215.5,  -1.0523,  34.0955, 2, -999.0000, 9,    248.5, 2,    272.8, 2,    22.46, 2,    13.81, 2,     0.00, 2,     1.31, 2,  -999.00, 9,  -1.0581,     0.00, 2, 0.01, 2,  -999.00, 9,  -999.00, 9,   0.6180, 2, -999.000, 2, -999.000, 9, 4.934, 2
320620030705, SBI, 117, 1, 111, 11, 2, 20030726, 523, 73.4631, -156.5516, 3612,    235.8,  -0.6544,  34.3412, 2,  34.3645, 2,    251.0, 2,    275.0, 2,    16.68, 2,    13.13, 2,     0.00, 2,     1.12, 2,  -999.00, 9,  -0.6618,     0.00, 2, 0.01, 2,  -999.00, 9,  -999.00, 9,   0.6540, 2, -999.000, 2, -999.000, 9, 4.932, 2
320620030705, SBI, 117, 1, 110, 10, 2, 20030726, 521, 73.4631, -156.5516, 3612,    260.5,  -0.1683,  34.5291, 2,  34.5457, 2,    255.5, 2,    279.1, 2,    12.29, 2,    12.66, 2,     0.00, 2,     0.97, 2,  -999.00, 9,  -0.1777,     0.00, 2, 0, 2,  -999.00, 9,  -999.00, 9,   0.7330, 2, -999.000, 2, -999.000, 9, 4.931, 2
320620030705, SBI, 117, 1, 109, 9, 2, 20030726, 518, 73.4631, -156.5516, 3612,    360.9,   0.7319,  34.7934, 2,  34.8009, 2,    267.8, 2,    291.7, 2,     7.60, 2,    12.61, 2,     0.00, 2,     0.87, 2,  -999.00, 9,   0.7157,     0.00, 2, 0, 2,  -999.00, 9,  -999.00, 9,   0.5290, 2, -999.000, 2, -999.000, 9, 4.925, 2
320620030705, SBI, 117, 1, 108, 8, 2, 20030726, 513, 73.4631, -156.5516, 3612,    511.5,   0.6111,  34.8414, 2,  34.8440, 2,    272.3, 2,    297.8, 2,     7.00, 2,    12.55, 2,     0.00, 2,     0.87, 2,  -999.00, 9,   0.5880,     0.00, 2, 0.01, 2,  -999.00, 9,  -999.00, 9,   0.5860, 2, -999.000, 2, -999.000, 9, 4.917, 2
320620030705, SBI, 117, 1, 107, 7, 2, 20030726, 506, 73.4631, -156.5516, 3612,    812.5,   0.1783,  34.8660, 2,  34.8672, 2,    273.5, 2,    300.3, 2,     7.10, 2,    12.65, 2,     0.00, 2,     0.87, 2,  -999.00, 9,   0.1422,     0.00, 2, 0, 2,  -999.00, 9,  -999.00, 9,   0.5660, 2, -999.000, 2, -999.000, 9, 4.896, 2
320620030705, SBI, 117, 1, 106, 6, 2, 20030726, 454, 73.4631, -156.5516, 3612,   1312.2,  -0.2359,  34.9010, 2,  34.9020, 2,    270.8, 2,    300.3, 2,     8.08, 2,    13.16, 2,     0.00, 2,     0.92, 2,  -999.00, 9,  -0.2956,     0.00, 2, 0, 2,  -999.00, 9,  -999.00, 9,   0.7050, 2, -999.000, 2, -999.000, 9, 4.878, 2
320620030705, SBI, 117, 1, 105, 5, 2, 20030726, 443, 73.4631, -156.5516, 3612,   1816.9,  -0.4013,  34.9338, 2,  34.9323, 2,    263.4, 2,    294.1, 2,    10.65, 2,    14.09, 2,     0.00, 2,     0.99, 2,  -999.00, 9,  -0.4896,     0.00, 2, 0, 2,  -999.00, 9,  -999.00, 9,   0.4700, 2, -999.000, 2, -999.000, 9, 4.841, 2
320620030705, SBI, 117, 1, 104, 4, 2, 20030726, 431, 73.4631, -156.5516, 3612,   2315.8,  -0.3928,  34.9487, 2,  34.9477, 2,    257.1, 2,    289.0, 2,    12.44, 2,    14.55, 2,     0.00, 2,     1.02, 2,  -999.00, 9,  -0.5154,     0.00, 2, 0, 2,  -999.00, 9,  -999.00, 9,   0.5950, 2, -999.000, 2, -999.000, 9, 4.879, 2
320620030705, SBI, 117, 1, 103, 3, 2, 20030726, 419, 73.4631, -156.5516, 3612,   2824.5,  -0.3521,  34.9546, 2,  34.9545, 2,    254.3, 2,    285.4, 2,    13.33, 2,    14.65, 2,     0.00, 2,     1.03, 2,  -999.00, 9,  -0.5146,     0.00, 2, 0, 2,  -999.00, 9,  -999.00, 9,   0.5650, 2, -999.000, 2, -999.000, 9, 4.883, 2
320620030705, SBI, 117, 1, 102, 2, 2, 20030726, 406, 73.4631, -156.5516, 3612,   3449.3,  -0.2945,  34.9559, 2,  34.9538, 2,    253.8, 2,    284.3, 2,    13.61, 2,    14.70, 2,     0.00, 2,     1.03, 2,  -999.00, 9,  -0.5119,     0.00, 2, 0, 2,  -999.00, 9,  -999.00, 9,   0.5540, 2, -999.000, 2, -999.000, 9, 4.863, 2
320620030705, SBI, 117, 1, 101, 1, 2, 20030726, 400, 73.4631, -156.5516, 3612,   3673.3,  -0.2720,  34.9557, 2,  34.9536, 2,    254.5, 2,    283.7, 2,    13.71, 2,    14.70, 2,     0.00, 2,     1.03, 2,  -999.00, 9,  -0.5107,     0.01, 2, 0, 2,  -999.00, 9,  -999.00, 9,   0.5830, 2, -999.000, 2, -999.000, 9, 4.858, 2