BOTTLE,20100423CCHDOSIODBK
EXPOCODE,SECT_ID,STNNBR,CASTNO,SAMPNO,BTLNBR,BTLNBR_FLAG_W,DATE,TIME,LATITUDE,LONGITUDE,DEPTH,CTDPRS,CTDTMP,CTDSAL,CTDSAL_FLAG_W,SALNTY,SALNTY_FLAG_W,CTDOXY,CTDOXY_FLAG_W,OXYGEN,OXYGEN_FLAG_W,SILCAT,SILCAT_FLAG_W,NITRAT,NITRAT_FLAG_W,NITRIT,NITRIT_FLAG_W,PHSPHT,PHSPHT_FLAG_W,DOC,DOC_FLAG_W,THETA,NH4,NH4_FLAG_W,UREA,UREA_FLAG_W,CHLORA,CHLORA_FLAG_W,PPHYTN,PPHYTN_FLAG_W,FLUOR,FLUOR_FLAG_W,HAARDT,HAARDT_FLAG_W,PAR,PAR_FLAG_W,SPAR,SPAR_FLAG_W
,,,,,,,,,,,METERS,DBAR,ITS-90,PSS-78,,PSS-78,,UMOL/KG,,UMOL/KG,,UMOL/KG,,UMOL/KG,,UMOL/KG,,UMOL/KG,,UMOL/KG,,DEG C,UMOL/KG,,UMOL/KG,,UG/KG,,UG/KG,,MG/M^3,,VOLTS,,VOLTS,,VOLTS,
320620030705, SBI, 143, 1, 104, 4, 2, 20030730, 1840, 72.6977, -161.1571, 47,      1.9,  -0.9521,  29.9659, 2, -999.0000, 9,    360.1, 2,    387.1, 2,    22.39, 2,     0.13, 2,     0.02, 2,     0.91, 2,  -999.00, 9,  -0.9521,     0.04, 2, 0, 2,     1.60, 2,     0.02, 2,   1.4770, 2, 0.233, 2, 3.521, 2, 4.744, 2
320620030705, SBI, 143, 1, 103, 3, 2, 20030730, 1838, 72.6977, -161.1571, 47,     21.7,  -1.1492,  30.6784, 2, -999.0000, 9,    340.3, 2,    356.7, 2,    32.44, 2,     4.16, 2,     0.09, 2,     1.33, 2,  -999.00, 9,  -1.1496,     0.59, 2, 0.04, 2,     3.17, 2,     0.28, 2,   1.7550, 2, 0.367, 2, 1.921, 2, 4.762, 2
320620030705, SBI, 143, 1, 102, 2, 2, 20030730, 1835, 72.6977, -161.1571, 47,     35.7,  -1.6820,  32.5880, 2, -999.0000, 9,    295.8, 2,    326.2, 2,    39.66, 2,     9.95, 2,     0.15, 2,     1.67, 2,  -999.00, 9,  -1.6826,     1.07, 2, 0.07, 2,     5.99, 2,     0.42, 2,   2.0420, 2, 0.589, 2, 0.869, 2, 4.777, 2
320620030705, SBI, 143, 1, 101, 1, 2, 20030730, 1831, 72.6977, -161.1571, 47,     42.0,  -1.7161,  32.8288, 2,  32.7641, 2,    262.2, 2,    291.9, 2,    42.35, 2,    14.76, 2,     0.20, 2,     2.00, 2,    69.80, 2,  -1.7168,     2.06, 2, 0.09, 2,     1.97, 2,     0.48, 2,   1.3810, 2, 0.233, 2, 0.394, 2, 4.816, 2
320620030705, SBI, 144, 1, 107, 7, 2, 20030730, 2042, 72.5458, -161.4324, 46,      1.7,  -0.9491,  29.9742, 2,  30.0013, 2,    361.6, 2,    389.4, 2,    24.17, 2,     0.33, 2,     0.02, 2,     0.94, 2,  -999.00, 9,  -0.9491,     0.12, 2, 0, 2,     1.80, 2,     0.07, 2,   1.4300, 2, 0.232, 2, 3.632, 2, 4.717, 2
320620030705, SBI, 144, 1, 106, 6, 2, 20030730, 2041, 72.5458, -161.4324, 46,     11.8,  -0.9464,  30.0102, 2, -999.0000, 9,    360.8, 2,    386.3, 2,    24.88, 2,     0.71, 2,     0.02, 2,     0.97, 2,  -999.00, 9,  -0.9466,     0.18, 2, 0, 2,     1.80, 2,     0.04, 2,   1.6980, 2, 0.315, 2, 2.743, 2, 4.698, 2
320620030705, SBI, 144, 1, 104, 4, 2, 20030730, 2040, 72.5458, -161.4324, 46,     20.9,  -1.3078,  31.3430, 2, -999.0000, 9,    318.6, 2,   -999.0, 9,  -999.00, 9,  -999.00, 9,  -999.00, 9,  -999.00, 9,  -999.00, 9,  -1.3082,  -999.00, 9, -999, 9,  -999.00, 9,  -999.00, 9,   1.6510, 2, 0.315, 2, 2.101, 2, 4.680, 2
320620030705, SBI, 144, 1, 103, 3, 2, 20030730, 2039, 72.5458, -161.4324, 46,     21.0,  -1.3294,  31.4273, 2, -999.0000, 9,    315.3, 2,    318.4, 2,    38.30, 2,    10.47, 2,     0.15, 2,     1.70, 2,  -999.00, 9,  -1.3298,     1.43, 2, 0.08, 2,     1.72, 2,     0.31, 2,   1.7280, 2, 0.318, 2, 2.114, 2, 4.676, 2
320620030705, SBI, 144, 1, 105, 5, 2, 20030730, 2040, 72.5458, -161.4324, 46,     21.0,  -1.3484,  31.4996, 2, -999.0000, 9,    320.1, 2,   -999.0, 9,  -999.00, 9,  -999.00, 9,  -999.00, 9,  -999.00, 9,  -999.00, 9,  -1.3488,  -999.00, 9, -999, 9,  -999.00, 9,  -999.00, 9,   1.6870, 2, 0.322, 2, 2.104, 2, 4.682, 2
320620030705, SBI, 144, 1, 102, 2, 2, 20030730, 2038, 72.5458, -161.4324, 46,     30.0,  -1.7078,  32.7831, 2, -999.0000, 9,    266.9, 2,    288.9, 2,    43.03, 2,    15.36, 2,     0.22, 2,     2.04, 2,  -999.00, 9,  -1.7083,     2.08, 2, 0.07, 2,     1.14, 2,     0.45, 2,   1.2020, 2, 0.236, 2, 1.336, 2, 4.673, 2
320620030705, SBI, 144, 1, 101, 1, 2, 20030730, 2036, 72.5458, -161.4324, 46,     39.5,  -1.7041,  32.7789, 2,  32.7733, 2,    267.2, 2,    288.5, 2,    43.14, 2,    15.42, 2,     0.22, 2,     2.04, 2,    67.80, 2,  -1.7048,     2.08, 2, 0.1, 2,     1.13, 2,     0.41, 2,   1.2520, 2, 0.227, 2, 0.351, 2, 4.655, 2
320620030705, SBI, 145, 1, 105, 5, 2, 20030730, 2343, 72.4044, -161.6941, 43,      1.5,  -0.8143,  30.5065, 2,  30.5091, 2,    352.6, 2,    377.4, 2,    27.92, 2,     1.39, 2,     0.05, 2,     1.09, 2,  -999.00, 9,  -0.8143,     0.21, 2, 0.08, 2,     2.11, 2,     0.24, 2,   1.3530, 2, 0.222, 2, 3.791, 2, 4.578, 2
320620030705, SBI, 145, 1, 104, 4, 2, 20030730, 2342, 72.4044, -161.6941, 43,     10.8,  -0.8628,  30.5576, 2, -999.0000, 9,    351.3, 2,    375.3, 2,    28.32, 2,     1.97, 2,     0.05, 2,     1.11, 2,  -999.00, 9,  -0.8630,     0.19, 2, 0.05, 2,     2.79, 2,     0.31, 2,   1.7960, 2, 0.336, 2, 2.958, 2, 4.543, 2
320620030705, SBI, 145, 1, 103, 3, 2, 20030730, 2340, 72.4044, -161.6941, 43,     19.3,  -1.0192,  30.8728, 2, -999.0000, 9,    348.1, 2,    363.4, 2,    30.15, 2,     4.86, 2,     0.09, 2,     1.30, 2,    73.50, 2,  -1.0196,     0.56, 2, 0.08, 2,     4.11, 2,     0.52, 2,   1.9140, 2, 0.447, 2, 2.241, 2, 4.521, 2
320620030705, SBI, 145, 1, 102, 2, 2, 20030730, 2339, 72.4044, -161.6941, 43,     26.9,  -1.6167,  32.4670, 2, -999.0000, 9,    286.9, 2,    296.7, 2,    39.86, 2,    15.26, 2,     0.22, 2,     1.95, 2,  -999.00, 9,  -1.6172,     2.30, 2, 0.12, 2,     2.81, 2,     0.68, 2,   1.6310, 2, 0.350, 2, 1.543, 2, 4.563, 2
320620030705, SBI, 145, 1, 101, 1, 2, 20030730, 2337, 72.4044, -161.6941, 43,     36.3,  -1.7074,  32.7863, 2,  32.7087, 2,    271.0, 2,    297.0, 2,    39.73, 2,    15.20, 2,     0.22, 2,     1.94, 2,    68.70, 2,  -1.7080,     2.28, 2, 0.17, 2,     2.56, 2,     0.71, 2,   1.5120, 2, 0.277, 2, 0.669, 2, 4.581, 2
320620030705, SBI, 146, 1, 104, 4, 2, 20030731, 143, 72.2622, -161.9876, 35,      1.6,  -0.9524,  30.8254, 2,  30.8671, 2,    380.7, 2,    405.7, 2,    21.53, 2,     0.80, 2,     0.03, 2,     0.89, 2,  -999.00, 9,  -0.9524,     0.12, 2, 0.06, 2,     6.76, 2,     0.16, 2,   1.7690, 2, 0.325, 2, 3.824, 2, 4.400, 2
320620030705, SBI, 146, 1, 103, 3, 2, 20030731, 141, 72.2622, -161.9876, 35,     12.6,  -1.0419,  30.8817, 2, -999.0000, 9,    376.4, 2,    381.8, 2,    24.48, 2,     4.33, 2,     0.09, 2,     1.13, 2,    69.90, 2,  -1.0421,     0.45, 2, 0.05, 2,     6.29, 2,     0.11, 2,   2.1460, 2, 0.647, 2, 2.460, 2, 4.356, 2
320620030705, SBI, 146, 1, 102, 2, 2, 20030731, 139, 72.2622, -161.9876, 35,     22.8,  -1.3902,  31.8002, 2, -999.0000, 9,    333.4, 2,    296.6, 2,    31.42, 2,    13.83, 2,     0.23, 2,     1.89, 2,  -999.00, 9,  -1.3906,     2.34, 2, 0.14, 2,     3.03, 2,     0.66, 2,   1.9410, 2, 0.372, 2, 1.431, 2, 4.302, 2
320620030705, SBI, 146, 1, 101, 1, 2, 20030731, 138, 72.2622, -161.9876, 35,     30.0,  -1.6921,  32.7998, 2,  32.5647, 2,    268.2, 2,    303.0, 2,    31.08, 2,    13.35, 2,     0.22, 2,     1.85, 2,    67.30, 2,  -1.6926,     2.16, 2, 0.14, 2,     3.51, 2,     0.44, 2,   1.5450, 2, 0.304, 2, 0.791, 2, 4.297, 2
320620030705, SBI, 147, 1, 103, 3, 2, 20030731, 327, 72.1107, -162.2917, 31,      1.6,  -0.9455,  30.7864, 2,  30.7942, 2,    388.0, 2,    417.4, 2,    16.39, 2,     0.18, 2,     0.02, 2,     0.74, 2,  -999.00, 9,  -0.9455,     0.08, 2, 0.1, 2,     3.45, 2,     0.12, 2,   1.5760, 2, 0.269, 2, 3.622, 2, 4.703, 2
320620030705, SBI, 147, 1, 102, 2, 2, 20030731, 325, 72.1107, -162.2917, 31,     15.5,  -0.9618,  30.8234, 2, -999.0000, 9,    387.8, 2,    410.9, 2,    15.87, 2,     0.95, 2,     0.04, 2,     0.82, 2,  -999.00, 9,  -0.9621,     0.18, 2, 0.08, 2,     3.74, 2,     0.08, 2,   1.9800, 2, 0.453, 2, 2.185, 2, 4.715, 2
320620030705, SBI, 147, 1, 101, 1, 2, 20030731, 324, 72.1107, -162.2917, 31,     25.1,  -1.4757,  32.4960, 2,  31.5949, 2,    332.4, 2,    389.2, 2,    14.32, 2,     3.46, 2,     0.10, 2,     1.00, 2,    67.50, 2,  -1.4761,     0.58, 2, 0.13, 2,     3.92, 2,     0.20, 2,   1.9360, 2, 0.446, 2, 1.366, 2, 4.729, 2
320620030705, SBI, 148, 1, 103, 3, 2, 20030731, 526, 71.9797, -162.5494, 32,      1.5,  -0.7950,  30.5705, 2,  30.5794, 2,    377.8, 2,    405.0, 2,    16.97, 2,     0.32, 2,     0.02, 2,     0.75, 2,  -999.00, 9,  -0.7950,     0.05, 2, 0.04, 2,     1.37, 2,     0.18, 2,   1.5430, 2, 0.242, 2, 3.625, 2, 4.741, 2
320620030705, SBI, 148, 1, 102, 2, 2, 20030731, 525, 71.9797, -162.5494, 32,     13.8,  -0.8167,  30.5936, 2, -999.0000, 9,    377.4, 2,    404.2, 2,    17.26, 2,     0.48, 2,     0.03, 2,     0.76, 2,  -999.00, 9,  -0.8170,     0.07, 2, 0.05, 2,     1.61, 2,     0.02, 2,   1.5860, 2, 0.285, 2, 2.531, 2, 4.739, 2
320620030705, SBI, 148, 1, 101, 1, 2, 20030731, 523, 71.9797, -162.5494, 32,     26.8,  -1.5789,  32.5666, 2,  31.1894, 2,    305.9, 2,    368.4, 2,    18.88, 2,     3.00, 2,     0.08, 2,     1.04, 2,    68.40, 2,  -1.5793,     0.64, 2, 0.3, 2,     2.35, 2,     0.22, 2,   1.8690, 2, 0.397, 2, 1.592, 2, 4.732, 2
320620030705, SBI, 149, 1, 103, 3, 2, 20030731, 739, 71.8354, -162.8266, 34,      1.7,  -1.2079,  30.4188, 2,  30.4193, 2,    388.5, 2,    419.8, 2,    16.85, 2,     0.26, 2,     0.02, 2,     0.75, 2,  -999.00, 9,  -1.2079,     0.05, 2, 0.05, 2,     4.07, 2,     0.38, 2,   1.9760, 2, 0.501, 2, 2.716, 2, 4.968, 2
320620030705, SBI, 149, 1, 102, 2, 2, 20030731, 738, 71.8354, -162.8266, 34,     17.0,  -1.2427,  30.5766, 2, -999.0000, 9,    385.3, 2,    404.2, 2,    18.16, 2,     1.48, 2,     0.05, 2,     0.90, 2,  -999.00, 9,  -1.2430,     0.25, 2, 0.09, 2,     4.14, 2,     0.08, 2,   1.9650, 2, 0.458, 2, 1.153, 2, 4.966, 2
320620030705, SBI, 149, 1, 101, 1, 2, 20030731, 737, 71.8354, -162.8266, 34,     29.1,  -1.6272,  32.7697, 2,  32.4763, 2,    293.9, 2,    332.9, 2,    19.14, 2,    10.16, 2,     0.22, 2,     1.63, 2,    70.50, 2,  -1.6277,     1.98, 2, 0.18, 2,     5.38, 2,     1.88, 2,   2.0240, 2, 0.508, 2, 0.359, 2, 4.965, 2
320620030705, SBI, 150, 1, 104, 4, 2, 20030731, 1020, 71.6896, -163.1177, 40,      2.1,  -1.3575,  30.4823, 2,  30.4332, 2,    386.4, 2,    421.8, 2,    14.46, 2,     0.69, 2,     0.03, 2,     0.75, 2,  -999.00, 9,  -1.3575,     0.16, 2, 0.05, 2,  -999.00, 9,  -999.00, 9,   1.8840, 2, 0.427, 2, 1.823, 2, 4.996, 2
320620030705, SBI, 150, 1, 103, 3, 2, 20030731, 1015, 71.6896, -163.1177, 40,      2.2,  -1.3670,  30.5555, 2, -999.0000, 9,    388.0, 2,   -999.0, 9,  -999.00, 9,  -999.00, 9,  -999.00, 9,  -999.00, 9,  -999.00, 9,  -1.3670,  -999.00, 9, -999, 9,     3.67, 3,     0.31, 3,   1.9380, 2, 0.446, 2, 1.853, 2, 4.996, 2
320620030705, SBI, 150, 1, 102, 2, 2, 20030731, 1013, 71.6896, -163.1177, 40,     17.7,  -1.4172,  31.0568, 2, -999.0000, 9,    369.0, 2,    381.5, 2,    14.65, 2,     4.20, 2,     0.09, 2,     1.04, 2,  -999.00, 9,  -1.4175,     0.54, 2, 0.09, 2,     6.55, 2,     0.36, 2,   1.9430, 2, 0.571, 2, 0.521, 2, 4.996, 2
320620030705, SBI, 150, 1, 101, 1, 2, 20030731, 1010, 71.6896, -163.1177, 40,     31.8,  -1.6601,  32.7470, 2,  32.6990, 2,    279.0, 2,    303.9, 2,    15.34, 2,    12.77, 2,     0.26, 2,     1.83, 2,    66.00, 2,  -1.6606,     2.37, 2, 0.26, 2,    11.69, 2,     2.98, 2,   2.1190, 2, 0.584, 2, 0.149, 2, 4.996, 2
320620030705, SBI, 151, 1, 105, 5, 2, 20030731, 1239, 71.5551, -163.3970, 43,      2.1,  -1.2849,  30.2176, 2, -999.0000, 9,    397.9, 2,    430.4, 2,     8.92, 2,     2.51, 2,     0.08, 2,     0.87, 2,  -999.00, 9,  -1.2849,     0.48, 2, 0.09, 2,     0.63, 2,     0.15, 2,   1.3980, 2, 0.236, 2, 1.925, 2, 4.994, 2
320620030705, SBI, 151, 1, 104, 4, 2, 20030731, 1236, 71.5551, -163.3970, 43,     22.5,  -1.3824,  30.8860, 2, -999.0000, 9,    393.1, 2,    395.4, 2,     8.70, 2,     2.67, 2,     0.08, 2,     0.89, 2,  -999.00, 9,  -1.3828,     0.49, 2, 0.09, 2,     1.43, 2,     0.73, 2,   1.5370, 2, 0.315, 2, 0.649, 2, 4.994, 2
320620030705, SBI, 151, 1, 103, 3, 2, 20030731, 1234, 71.5551, -163.3970, 43,     36.1,  -1.5294,  32.7106, 2,  32.6721, 2,    311.6, 2,    338.5, 2,     0.77, 2,     7.49, 2,     0.22, 2,     1.45, 2,    69.10, 2,  -1.5301,     1.65, 2, 0.33, 2,     3.57, 2,     3.68, 2,   1.7950, 2, 0.408, 2, 0.165, 2, 4.994, 2
320620030705, SBI, 151, 1, 101, 1, 2, 20030731, 1233, 71.5551, -163.3970, 43,     36.1,  -1.5294,  32.7108, 2, -999.0000, 9,    311.7, 2,   -999.0, 9,  -999.00, 9,  -999.00, 9,  -999.00, 9,  -999.00, 9,  -999.00, 9,  -1.5301,  -999.00, 9, -999, 9,  -999.00, 9,  -999.00, 9,   1.9160, 2, 0.463, 2, 0.162, 2, 4.994, 2
320620030705, SBI, 151, 1, 102, 2, 2, 20030731, 1233, 71.5551, -163.3970, 43,     36.1,  -1.5295,  32.7106, 2, -999.0000, 9,    311.6, 2,   -999.0, 9,  -999.00, 9,  -999.00, 9,  -999.00, 9,  -999.00, 9,  -999.00, 9,  -1.5302,  -999.00, 9, -999, 9,  -999.00, 9,  -999.00, 9,   1.8610, 2, 0.462, 2, 0.162, 2, 4.994, 2
320620030705, SBI, 152, 1, 103, 3, 2, 20030731, 1544, 71.3910, -163.2217, 42,      2.0,  -1.1780,  30.3320, 2,  30.3573, 2,    395.9, 2,    426.4, 2,     9.56, 2,     0.24, 2,     0.01, 2,     0.53, 2,  -999.00, 9,  -1.1780,     0.01, 2, 0, 2,     1.38, 2,     0.24, 2,   1.5800, 2, 0.238, 2, 3.201, 2, 4.844, 2
320620030705, SBI, 152, 1, 102, 2, 2, 20030731, 1541, 71.3910, -163.2217, 42,     17.3,  -1.0718,  30.5880, 2, -999.0000, 9,    400.1, 2,    402.0, 2,     6.02, 2,     2.03, 2,     0.06, 2,     0.76, 2,  -999.00, 9,  -1.0721,     0.43, 2, 0.04, 2,     2.27, 2,     1.21, 2,   1.3660, 2, 0.246, 2, 2.125, 2, 4.850, 2
320620030705, SBI, 152, 1, 101, 1, 2, 20030731, 1538, 71.3910, -163.2217, 42,     37.0,  -1.5014,  32.6902, 2,  32.6785, 2,    312.4, 2,    338.7, 2,     0.48, 2,     6.94, 2,     0.21, 2,     1.49, 2,    71.70, 2,  -1.5021,     1.80, 2, 0.25, 2,     4.04, 2,     3.53, 2,   1.9790, 2, 0.572, 2, 0.302, 2, 4.857, 2
320620030705, SBI, 153, 1, 103, 3, 2, 20030731, 1744, 71.2790, -162.8684, 45,      2.2,  -0.8406,  29.9238, 2,  29.9262, 2,    377.7, 2,    405.5, 2,     3.79, 2,     0.07, 2,     0.00, 2,     0.41, 2,  -999.00, 9,  -0.8406,     0.00, 2, 0, 2,     0.19, 2,     0.12, 2,   0.9230, 2, 0.176, 2, 3.524, 2, 4.631, 2
320620030705, SBI, 153, 1, 102, 2, 2, 20030731, 1742, 71.2790, -162.8684, 45,     21.5,  -0.7237,  30.8462, 2, -999.0000, 9,    389.9, 2,    420.2, 2,     1.95, 2,     0.12, 2,     0.01, 2,     0.49, 2,  -999.00, 9,  -0.7242,     0.00, 2, 0, 2,     0.35, 2,     0.19, 2,   1.2720, 2, 0.212, 2, 2.333, 2, 4.654, 2
320620030705, SBI, 153, 1, 101, 1, 2, 20030731, 1738, 71.2790, -162.8684, 45,     41.0,  -1.1605,  32.4467, 2,  32.4260, 2,    373.3, 2,    403.6, 2,     0.53, 2,     2.09, 2,     0.10, 2,     1.06, 2,    70.50, 2,  -1.1614,     0.60, 2, 0.19, 2,     2.01, 2,     1.92, 2,   1.7210, 2, 0.343, 2, 0.213, 2, 4.660, 2
320620030705, SBI, 154, 1, 104, 4, 2, 20030731, 1924, 71.1480, -162.5130, 45,      2.1,   1.0997,  29.5572, 2,  29.5692, 2,    356.6, 2,    377.4, 2,     1.73, 2,     0.05, 2,     0.01, 2,     0.32, 2,  -999.00, 9,   1.0996,     0.00, 2, 0, 2,     0.15, 2,     0.12, 2,   0.8730, 2, 0.170, 2, 3.629, 2, 4.398, 2
320620030705, SBI, 154, 1, 103, 3, 2, 20030731, 1922, 71.1480, -162.5130, 45,      9.6,   0.7921,  29.6605, 2, -999.0000, 9,    362.4, 2,    383.1, 2,     1.81, 2,     0.00, 2,     0.01, 2,     0.33, 2,  -999.00, 9,   0.7918,     0.00, 2, 0, 2,     0.21, 2,     0.10, 2,   1.0630, 2, 0.177, 2, 3.193, 2, 4.325, 2
320620030705, SBI, 154, 1, 102, 2, 2, 20030731, 1920, 71.1480, -162.5130, 45,     19.8,   0.3515,  32.1838, 2, -999.0000, 9,    368.5, 2,    393.1, 2,     2.50, 2,     0.07, 2,     0.04, 2,     0.80, 2,  -999.00, 9,   0.3508,     0.06, 2, 0.11, 2,     1.42, 2,     0.58, 2,   1.6120, 2, 0.275, 2, 2.729, 2, 4.341, 2
320620030705, SBI, 154, 1, 101, 1, 2, 20030731, 1916, 71.1480, -162.5130, 45,     37.0,   0.4128,  32.2020, 2,  32.1980, 2,    367.8, 2,    391.6, 2,     2.48, 2,     0.05, 2,     0.06, 2,     0.89, 2,    68.10, 2,   0.4115,     0.08, 2, 0.15, 2,     1.96, 2,     0.90, 2,   1.6750, 2, 0.303, 2, 0.144, 2, 4.420, 2
320620030705, SBI, 155, 1, 105, 5, 2, 20030731, 2051, 71.0239, -162.1735, 45,      1.9,   3.2079,  30.0061, 2,  30.0324, 2,    333.2, 2,    347.7, 2,     1.26, 2,    -0.01, 2,     0.01, 2,     0.31, 2,  -999.00, 9,   3.2078,     0.00, 2, 0.04, 2,     0.09, 2,     0.05, 2,   0.6230, 2, 0.167, 2, 3.732, 2, 3.781, 2
320620030705, SBI, 155, 1, 104, 4, 2, 20030731, 2049, 71.0239, -162.1735, 45,     17.9,   3.1798,  30.4398, 2, -999.0000, 9,    332.2, 2,    359.2, 2,     1.14, 2,    -0.01, 2,     0.01, 2,     0.40, 2,  -999.00, 9,   3.1788,     0.01, 2, 0.09, 2,     0.44, 2,     0.13, 2,   0.8610, 2, 0.174, 2, 2.960, 2, 3.778, 2
320620030705, SBI, 155, 1, 102, 2, 2, 20030731, 2047, 71.0239, -162.1735, 45,     27.8,   1.0501,  32.0806, 2, -999.0000, 9,    375.9, 2,    398.3, 2,     1.22, 2,     0.02, 2,     0.03, 2,     0.80, 2,  -999.00, 9,   1.0490,     0.02, 2, 0.08, 2,     2.08, 2,     0.58, 2,   1.7210, 2, 0.318, 2, 2.435, 2, 3.792, 2
320620030705, SBI, 155, 1, 103, 3, 2, 20030731, 2047, 71.0239, -162.1735, 45,     27.9,   1.0534,  32.0788, 2, -999.0000, 9,    376.1, 2,   -999.0, 9,  -999.00, 9,  -999.00, 9,  -999.00, 9,  -999.00, 9,  -999.00, 9,   1.0523,  -999.00, 9, -999, 9,  -999.00, 9,  -999.00, 9,   1.6850, 2, 0.311, 2, 2.433, 2, 3.789, 2
320620030705, SBI, 155, 1, 101, 1, 2, 20030731, 2045, 71.0239, -162.1735, 45,     39.2,   1.0490,  32.0819, 2,  32.0775, 2,    375.6, 2,    397.9, 2,     1.31, 2,     0.02, 2,     0.03, 2,     0.81, 2,    69.20, 2,   1.0474,     0.02, 2, 0.07, 2,     2.08, 2,     0.65, 2,   1.7380, 2, 0.356, 2, 0.605, 2, 3.803, 2
320620030705, SBI, 156, 1, 104, 4, 2, 20030731, 2316, 70.9001, -161.8337, 44,      2.3,   3.6147,  30.3761, 2,  30.3806, 2,    329.3, 2,    342.4, 2,     1.20, 2,     0.00, 2,     0.00, 2,     0.34, 2,  -999.00, 9,   3.6146,     0.00, 2, 0.01, 2,     0.10, 2,     0.04, 2,   0.7010, 2, 0.170, 2, 4.019, 2, 4.419, 2
320620030705, SBI, 156, 1, 103, 3, 2, 20030731, 2315, 70.9001, -161.8337, 44,     12.9,   3.2608,  30.4425, 2, -999.0000, 9,    330.9, 2,    344.3, 2,     1.48, 2,     0.03, 2,     0.01, 2,     0.38, 2,  -999.00, 9,   3.2601,     0.01, 2, 0.02, 2,  -999.00, 9,  -999.00, 9,   0.9430, 2, 0.173, 2, 3.575, 2, 4.167, 2
320620030705, SBI, 156, 1, 102, 2, 2, 20030731, 2313, 70.9001, -161.8337, 44,     22.9,   4.1093,  31.8498, 2, -999.0000, 9,    316.6, 2,    331.5, 2,     5.79, 2,     0.20, 2,     0.05, 2,     0.86, 2,  -999.00, 9,   4.1078,     0.79, 2, 0.17, 2,     0.49, 2,     0.48, 2,   1.3610, 2, 0.221, 2, 3.024, 2, 4.375, 2
320620030705, SBI, 156, 1, 101, 1, 2, 20030731, 2311, 70.9001, -161.8337, 44,     38.2,   3.6174,  31.8762, 2,  31.7832, 2,    321.7, 2,    334.9, 2,     5.78, 2,     0.24, 2,     0.05, 2,     0.86, 2,    69.40, 2,   3.6151,     0.79, 2, 0.15, 2,     0.49, 2,     0.55, 2,   1.2810, 2, 0.217, 2, 0.885, 2, 4.374, 2
320620030705, SBI, 157, 1, 103, 3, 2, 20030801, 50, 70.7754, -161.4887, 43,      1.7,   4.6782,  30.9768, 2,  30.9715, 2,    317.9, 2,    328.7, 2,     1.03, 2,    -0.01, 2,     0.01, 2,     0.38, 2,  -999.00, 9,   4.6781,     0.00, 2, 0.04, 2,     0.12, 2,     0.03, 2,   0.7120, 2, 0.173, 2, 3.809, 2, 4.471, 2
320620030705, SBI, 157, 1, 102, 2, 2, 20030801, 47, 70.7754, -161.4887, 43,     23.8,   4.9779,  31.1831, 2, -999.0000, 9,    312.0, 2,    319.9, 2,     1.81, 2,     0.00, 2,     0.03, 2,     0.52, 2,  -999.00, 9,   4.9762,     0.12, 2, 0.06, 2,     0.41, 2,     0.35, 2,   1.2830, 2, 0.220, 2, 2.843, 2, 4.370, 2
320620030705, SBI, 157, 1, 101, 1, 2, 20030801, 45, 70.7754, -161.4887, 43,     37.2,   5.2563,  31.3619, 2,  31.3621, 2,    304.4, 2,    313.8, 2,     2.51, 2,     0.03, 2,     0.04, 2,     0.64, 2,    67.50, 2,   5.2536,     0.31, 2, 0.1, 2,     0.56, 2,     0.89, 2,   1.2590, 2, 0.209, 2, 1.324, 2, 4.401, 2