BOTTLE,20100423CCHDOSIODBK
EXPOCODE,SECT_ID,STNNBR,CASTNO,SAMPNO,BTLNBR,BTLNBR_FLAG_W,DATE,TIME,LATITUDE,LONGITUDE,DEPTH,CTDPRS,CTDTMP,CTDSAL,CTDSAL_FLAG_W,SALNTY,SALNTY_FLAG_W,CTDOXY,CTDOXY_FLAG_W,OXYGEN,OXYGEN_FLAG_W,SILCAT,SILCAT_FLAG_W,NITRAT,NITRAT_FLAG_W,NITRIT,NITRIT_FLAG_W,PHSPHT,PHSPHT_FLAG_W,DOC,DOC_FLAG_W,THETA,NH4,NH4_FLAG_W,UREA,UREA_FLAG_W,CHLORA,CHLORA_FLAG_W,PPHYTN,PPHYTN_FLAG_W,FLUOR,FLUOR_FLAG_W,HAARDT,HAARDT_FLAG_W,PAR,PAR_FLAG_W,SPAR,SPAR_FLAG_W
,,,,,,,,,,,METERS,DBAR,ITS-90,PSS-78,,PSS-78,,UMOL/KG,,UMOL/KG,,UMOL/KG,,UMOL/KG,,UMOL/KG,,UMOL/KG,,UMOL/KG,,DEG C,UMOL/KG,,UMOL/KG,,UG/KG,,UG/KG,,MG/M^3,,VOLTS,,VOLTS,,VOLTS,
320620030705, SBI, 192, 1, 108, 8, 2, 20030803, 2207, 73.4979, -165.9792, 88,      1.5,  -1.2912,  29.0101, 2,  29.0762, 2,    369.3, 2,    400.3, 2,     6.28, 2,     0.13, 2,     0.00, 2,     0.71, 2,  -999.00, 9,  -1.2912,    -0.01, 2, 0, 2,     1.52, 2,     0.01, 2,   1.3740, 2, 0.223, 2, 3.681, 2, 4.692, 2
320620030705, SBI, 192, 1, 107, 7, 2, 20030803, 2205, 73.4979, -165.9792, 88,     12.9,  -1.3341,  29.3205, 2, -999.0000, 9,    370.2, 2,    399.8, 2,     7.09, 2,     0.18, 2,     0.00, 2,     0.74, 2,  -999.00, 9,  -1.3343,    -0.01, 2, 0.01, 2,     2.72, 2,     0.01, 2,   2.0400, 2, 0.325, 2, 2.829, 2, 4.678, 2
320620030705, SBI, 192, 1, 106, 6, 2, 20030803, 2203, 73.4979, -165.9792, 88,     22.2,  -1.5662,  31.1292, 2, -999.0000, 9,    336.4, 2,    361.4, 2,    18.93, 2,     3.93, 2,     0.09, 2,     1.22, 2,  -999.00, 9,  -1.5665,     0.07, 2, 0.04, 2,    13.22, 2,     0.11, 2,   2.4070, 2, 1.313, 2, 1.432, 2, 4.670, 2
320620030705, SBI, 192, 1, 105, 5, 2, 20030803, 2200, 73.4979, -165.9792, 88,     28.6,  -1.6337,  31.3845, 2, -999.0000, 9,    314.9, 2,    332.1, 2,    27.66, 2,     8.02, 2,     0.15, 2,     1.51, 2,  -999.00, 9,  -1.6341,     0.32, 2, 0.03, 2,     1.89, 2,     0.19, 2,   1.7730, 2, 0.388, 2, 1.031, 2, 4.675, 2
320620030705, SBI, 192, 1, 104, 4, 2, 20030803, 2159, 73.4979, -165.9792, 88,     38.5,  -1.6683,  31.4943, 2, -999.0000, 9,    302.8, 2,    322.9, 2,    30.54, 2,     9.16, 2,     0.13, 2,     1.59, 2,  -999.00, 9,  -1.6689,     0.32, 2, 0.03, 2,     0.32, 2,     0.18, 2,   1.1590, 2, 0.221, 2, 0.686, 2, 4.681, 2
320620030705, SBI, 192, 1, 103, 3, 2, 20030803, 2156, 73.4979, -165.9792, 88,     53.4,  -1.6728,  31.6573, 2, -999.0000, 9,    302.9, 2,    306.0, 2,    35.28, 2,    10.21, 2,     0.14, 2,     1.68, 2,  -999.00, 9,  -1.6736,     0.55, 2, 0.03, 2,     0.25, 2,     0.31, 2,   0.9250, 2, 0.178, 2, 0.341, 2, 4.662, 2
320620030705, SBI, 192, 1, 102, 2, 2, 20030803, 2154, 73.4979, -165.9792, 88,     68.0,  -1.5221,  32.3249, 2, -999.0000, 9,    256.3, 2,    274.4, 2,    51.73, 2,    13.41, 2,     0.16, 2,     2.09, 2,  -999.00, 9,  -1.5233,     1.26, 2, 0.06, 2,  -999.00, 9,  -999.00, 9,   1.0670, 2, 0.185, 2, 0.194, 2, 4.660, 2
320620030705, SBI, 192, 1, 101, 1, 2, 20030803, 2152, 73.4979, -165.9792, 88,     84.0,  -1.6267,  32.6549, 2,  32.6145, 2,    255.0, 2,    271.7, 2,    54.94, 2,    14.43, 2,     0.16, 2,     2.25, 2,    65.90, 2,  -1.6282,     1.72, 2, 0.06, 2,  -999.00, 9,  -999.00, 9,   0.9010, 2, 0.181, 2, 0.147, 2, 4.644, 2
320620030705, SBI, 193, 1, 108, 8, 2, 20030804, 0, 73.5833, -166.0053, 102,      1.6,  -1.2644,  29.0728, 2,  29.0717, 2,    370.1, 2,    399.7, 2,     5.90, 2,     0.16, 2,     0.00, 2,     0.70, 2,  -999.00, 9,  -1.2644,     0.00, 2, 0, 2,  -999.00, 9,  -999.00, 9,   1.4770, 2, 0.250, 2, 3.717, 2, 4.681, 2
320620030705, SBI, 193, 1, 107, 7, 2, 20030804, 2359, 73.5833, -166.0053, 102,     13.7,  -1.3510,  29.5944, 2, -999.0000, 9,    370.4, 2,    401.4, 2,     8.75, 2,     0.68, 2,     0.02, 2,     0.81, 2,  -999.00, 9,  -1.3512,     0.03, 2, 0, 2,  -999.00, 9,  -999.00, 9,   1.9440, 2, 0.445, 2, 2.784, 2, 4.686, 2
320620030705, SBI, 193, 1, 106, 6, 2, 20030804, 2358, 73.5833, -166.0053, 102,     23.9,  -1.5748,  31.2052, 2, -999.0000, 9,    320.1, 2,    342.3, 2,    28.55, 2,     6.64, 2,     0.18, 2,     1.48, 2,  -999.00, 9,  -1.5752,     1.00, 2, 0.1, 2,  -999.00, 9,  -999.00, 9,   1.7500, 2, 0.368, 2, 1.784, 2, 4.676, 2
320620030705, SBI, 193, 1, 105, 5, 2, 20030804, 2356, 73.5833, -166.0053, 102,     38.7,  -1.6669,  31.5080, 2,  31.5747, 2,    305.9, 2,    319.0, 2,    33.90, 2,     9.18, 2,     0.13, 2,     1.68, 2,  -999.00, 9,  -1.6675,     1.02, 2, 0.04, 2,  -999.00, 9,  -999.00, 9,   1.1000, 2, 0.192, 2, 0.960, 2, 4.660, 2
320620030705, SBI, 193, 1, 104, 4, 2, 20030804, 2354, 73.5833, -166.0053, 102,     53.3,  -1.6123,  31.6647, 2, -999.0000, 9,    276.5, 2,    280.7, 2,    45.90, 2,    11.37, 2,     0.12, 2,     1.91, 2,  -999.00, 9,  -1.6131,     1.31, 2, 0.05, 2,  -999.00, 9,  -999.00, 9,   0.9410, 2, 0.182, 2, 0.475, 2, 4.641, 2
320620030705, SBI, 193, 1, 103, 3, 2, 20030804, 2353, 73.5833, -166.0053, 102,     69.1,  -1.5519,  32.3245, 2, -999.0000, 9,    269.6, 2,    279.1, 2,    48.37, 2,    13.21, 2,     0.14, 2,     2.07, 2,  -999.00, 9,  -1.5531,     0.86, 2, 0.04, 2,  -999.00, 9,  -999.00, 9,   0.9050, 2, 0.182, 2, 0.224, 2, 4.657, 2
320620030705, SBI, 193, 1, 102, 2, 2, 20030804, 2350, 73.5833, -166.0053, 102,     84.1,  -1.5834,  32.6180, 2, -999.0000, 9,    243.9, 2,    258.5, 2,    57.21, 2,    14.59, 2,     0.14, 2,     2.32, 2,  -999.00, 9,  -1.5849,     1.31, 2, 0.08, 2,  -999.00, 9,  -999.00, 9,   0.9620, 2, 0.178, 2, 0.157, 2, 4.674, 2
320620030705, SBI, 193, 1, 101, 1, 2, 20030804, 2348, 73.5833, -166.0053, 102,     97.2,  -1.5600,  32.6841, 2,  32.6744, 2,    234.7, 2,    252.4, 2,    59.71, 2,    14.75, 2,     0.13, 2,     2.38, 2,    67.80, 2,  -1.5618,     1.31, 2, 0.04, 2,  -999.00, 9,  -999.00, 9,   0.8960, 2, 0.181, 2, 0.141, 2, 4.681, 2
320620030705, SBI, 194, 1, 109, 9, 2, 20030804, 119, 73.6672, -165.9947, 112,      1.7,  -1.2684,  29.2187, 2,  29.2284, 2,    372.9, 2,    403.5, 2,     6.75, 2,     0.16, 2,     0.00, 2,     0.72, 2,  -999.00, 9,  -1.2684,     0.00, 2, 0, 2,     1.37, 2,     0.16, 2,   1.4470, 2, 0.250, 2, 3.699, 2, 4.652, 2
320620030705, SBI, 194, 1, 108, 8, 2, 20030804, 118, 73.6672, -165.9947, 112,     11.1,  -1.2805,  29.3444, 2, -999.0000, 9,    373.9, 2,    395.3, 2,     9.51, 2,     0.58, 2,     0.01, 2,     0.80, 2,  -999.00, 9,  -1.2807,     0.06, 2, 0.01, 2,     2.10, 2,     0.23, 2,   1.9010, 2, 0.404, 2, 2.974, 2, 4.651, 2
320620030705, SBI, 194, 1, 107, 7, 2, 20030804, 116, 73.6672, -165.9947, 112,     19.8,  -1.5911,  31.1891, 2, -999.0000, 9,    310.0, 2,    323.1, 2,    32.94, 2,     8.13, 2,     0.14, 2,     1.64, 2,  -999.00, 9,  -1.5914,     1.29, 2, 0.08, 2,     2.70, 2,     0.33, 2,   1.8690, 2, 0.372, 2, 2.085, 2, 4.661, 2
320620030705, SBI, 194, 1, 106, 6, 2, 20030804, 115, 73.6672, -165.9947, 112,     29.9,  -1.6284,  31.3029, 2, -999.0000, 9,    281.7, 2,    308.0, 2,    38.93, 2,     9.32, 2,     0.13, 2,     1.75, 2,  -999.00, 9,  -1.6288,     1.63, 2, 0.08, 2,     1.29, 2,     0.67, 2,   1.3520, 2, 0.224, 2, 1.354, 2, 4.676, 2
320620030705, SBI, 194, 1, 105, 5, 2, 20030804, 113, 73.6672, -165.9947, 112,     42.9,  -1.6643,  31.4928, 2, -999.0000, 9,    297.7, 2,    328.0, 2,    30.65, 2,     8.63, 2,     0.12, 2,     1.60, 2,  -999.00, 9,  -1.6649,     0.84, 2, 0.04, 2,     0.95, 2,     0.58, 2,   1.1590, 2, 0.186, 2, 0.716, 2, 4.671, 2
320620030705, SBI, 194, 1, 104, 4, 2, 20030804, 112, 73.6672, -165.9947, 112,     58.1,  -1.6348,  31.7999, 2, -999.0000, 9,    304.9, 4,    308.3, 2,    34.15, 2,     9.97, 2,     0.11, 2,     1.65, 2,  -999.00, 9,  -1.6357,     0.31, 2, 0.03, 2,  -999.00, 9,  -999.00, 9,   1.0970, 2, 0.178, 2, 0.396, 2, 4.680, 2
320620030705, SBI, 194, 1, 103, 3, 2, 20030804, 110, 73.6672, -165.9947, 112,     77.8,  -1.4511,  32.2929, 2, -999.0000, 9,    238.1, 2,    273.7, 2,    50.62, 2,    13.35, 2,     0.14, 2,     2.05, 2,  -999.00, 9,  -1.4526,     0.88, 2, 0.04, 2,  -999.00, 9,  -999.00, 9,   0.9280, 2, 0.178, 2, 0.197, 2, 4.677, 2
320620030705, SBI, 194, 1, 102, 2, 2, 20030804, 107, 73.6672, -165.9947, 112,     98.2,  -1.6443,  32.7938, 2, -999.0000, 9,    283.8, 2,    304.0, 2,    31.42, 2,    11.71, 2,     0.02, 2,     1.67, 2,  -999.00, 9,  -1.6461,    -0.01, 2, 0.03, 2,  -999.00, 9,  -999.00, 9,   0.8380, 2, 0.171, 2, 0.147, 2, 4.695, 2
320620030705, SBI, 194, 1, 101, 1, 2, 20030804, 105, 73.6672, -165.9947, 112,    107.3,  -1.4698,  33.1172, 2,  32.9225, 2,    255.4, 2,    293.1, 2,    35.23, 2,    12.17, 2,     0.03, 2,     1.79, 2,    65.30, 2,  -1.4720,     0.02, 2, 0.02, 2,  -999.00, 9,  -999.00, 9,   0.8300, 2, 0.174, 2, 0.143, 2, 4.695, 2
320620030705, SBI, 195, 1, 108, 8, 2, 20030804, 313, 73.7489, -165.9945, 119,      1.4,  -1.1660,  29.1499, 2,  29.1852, 2,    367.3, 2,    395.8, 2,     7.28, 2,     0.14, 2,     0.00, 2,     0.72, 2,  -999.00, 9,  -1.1660,     0.02, 2, 0, 2,  -999.00, 9,  -999.00, 9,   1.4510, 2, 0.249, 2, 3.637, 2, 4.743, 2
320620030705, SBI, 195, 1, 107, 7, 2, 20030804, 310, 73.7489, -165.9945, 119,     24.9,  -1.5936,  31.2560, 2, -999.0000, 9,    298.3, 2,    318.9, 2,    34.39, 2,     8.03, 2,     0.13, 2,     1.66, 2,  -999.00, 9,  -1.5940,     1.31, 2, 0.09, 2,  -999.00, 9,  -999.00, 9,   1.9380, 2, 0.697, 2, 1.477, 2, 4.756, 2
320620030705, SBI, 195, 1, 106, 6, 2, 20030804, 307, 73.7489, -165.9945, 119,     37.0,  -1.6468,  31.4501, 2, -999.0000, 9,    291.7, 2,    315.2, 2,    35.51, 2,     8.95, 2,     0.15, 2,     1.73, 2,  -999.00, 9,  -1.6474,     1.70, 2, 0.07, 2,  -999.00, 9,  -999.00, 9,   1.2930, 2, 0.227, 2, 0.684, 2, 4.749, 2
320620030705, SBI, 195, 1, 105, 5, 2, 20030804, 305, 73.7489, -165.9945, 119,     53.0,  -1.6491,  31.5891, 2, -999.0000, 9,    284.9, 2,    295.9, 2,    39.52, 2,    10.63, 2,     0.12, 2,     1.78, 2,  -999.00, 9,  -1.6499,     0.99, 2, 0.05, 2,  -999.00, 9,  -999.00, 9,   1.0560, 2, 0.193, 2, 0.289, 2, 4.729, 2
320620030705, SBI, 195, 1, 104, 4, 2, 20030804, 302, 73.7489, -165.9945, 119,     73.1,  -1.5459,  32.2055, 2, -999.0000, 9,    274.7, 2,    283.1, 2,    41.03, 2,    11.97, 2,     0.05, 2,     1.84, 2,  -999.00, 9,  -1.5472,     0.02, 2, 0.03, 2,  -999.00, 9,  -999.00, 9,   0.9630, 2, 0.180, 2, 0.160, 2, 4.738, 2
320620030705, SBI, 195, 1, 103, 3, 2, 20030804, 300, 73.7489, -165.9945, 119,     88.1,  -1.5393,  32.5404, 2, -999.0000, 9,    245.9, 2,    269.6, 2,    38.01, 2,    13.37, 2,     0.02, 2,     1.81, 2,  -999.00, 9,  -1.5409,    -0.01, 2, 0.03, 2,  -999.00, 9,  -999.00, 9,   0.9990, 2, 0.179, 2, 0.144, 2, 4.739, 2
320620030705, SBI, 195, 1, 102, 2, 2, 20030804, 258, 73.7489, -165.9945, 119,    103.2,  -1.1789,  33.5960, 2, -999.0000, 9,    250.8, 2,    263.9, 2,    32.32, 2,    13.99, 2,     0.03, 2,     1.62, 2,  -999.00, 9,  -1.1814,    -0.01, 2, 0.03, 2,  -999.00, 9,  -999.00, 9,   0.8640, 2, 0.172, 2, 0.140, 2, 4.730, 2
320620030705, SBI, 195, 1, 101, 1, 2, 20030804, 256, 73.7489, -165.9945, 119,    113.2,  -0.1045,  34.4486, 2,  34.3416, 2,    230.7, 2,    249.3, 2,    28.90, 2,    14.08, 2,     0.04, 2,     1.48, 2,    58.90, 2,  -0.1084,    -0.01, 2, 0.04, 2,  -999.00, 9,  -999.00, 9,   0.7970, 2, 0.171, 2, 0.139, 2, 4.726, 2
320620030705, SBI, 196, 1, 109, 9, 2, 20030804, 443, 73.8307, -166.0144, 132,      1.6,  -1.1567,  28.9999, 2,  28.9856, 2,    366.0, 2,    394.8, 2,     5.56, 2,     0.12, 2,     0.00, 2,     0.68, 2,  -999.00, 9,  -1.1567,     0.01, 2, 0.01, 2,     0.66, 2,     0.01, 2,   1.1910, 2, 0.212, 2, 3.592, 2, 4.720, 2
320620030705, SBI, 196, 1, 108, 8, 2, 20030804, 442, 73.8307, -166.0144, 132,     17.9,  -1.2089,  29.5391, 2, -999.0000, 9,    374.7, 2,    374.2, 2,    11.56, 2,     0.65, 2,     0.01, 2,     0.85, 2,  -999.00, 9,  -1.2092,     0.02, 2, 0.02, 2,     7.16, 2,     0.17, 2,   2.0610, 2, 0.538, 2, 2.496, 2, 4.736, 2
320620030705, SBI, 196, 1, 107, 7, 2, 20030804, 440, 73.8307, -166.0144, 132,     24.8,  -1.4686,  30.5554, 2, -999.0000, 9,    332.9, 2,    331.0, 2,    25.55, 2,     4.29, 2,     0.10, 2,     1.32, 2,  -999.00, 9,  -1.4690,     0.31, 2, 0.06, 2,     8.44, 2,     0.10, 2,   2.3630, 2, 1.384, 2, 1.697, 2, 4.733, 2
320620030705, SBI, 196, 1, 106, 6, 2, 20030804, 438, 73.8307, -166.0144, 132,     37.0,  -1.6541,  31.4514, 2, -999.0000, 9,    297.1, 2,    321.3, 2,    33.74, 2,     8.62, 2,     0.15, 2,     1.65, 2,  -999.00, 9,  -1.6547,     1.19, 2, 0.06, 2,     0.83, 2,     0.35, 2,   1.2180, 2, 0.228, 2, 0.719, 2, 4.718, 2
320620030705, SBI, 196, 1, 105, 5, 2, 20030804, 436, 73.8307, -166.0144, 132,     53.2,  -1.6906,  31.5862, 2, -999.0000, 9,    302.3, 2,    331.6, 2,    26.73, 2,     8.48, 2,     0.11, 2,     1.50, 2,  -999.00, 9,  -1.6914,     0.26, 2, 0.03, 2,     0.24, 2,     0.09, 2,   0.7960, 2, 0.177, 2, 0.326, 2, 4.723, 2
320620030705, SBI, 196, 1, 104, 4, 2, 20030804, 435, 73.8307, -166.0144, 132,     72.0,  -1.5846,  31.9012, 2, -999.0000, 9,    295.1, 2,    302.7, 2,    31.44, 2,     9.89, 2,     0.09, 2,     1.60, 2,  -999.00, 9,  -1.5858,     0.09, 2, 0.03, 2,     0.15, 2,     0.05, 2,   0.8570, 2, 0.180, 2, 0.188, 2, 4.711, 2
320620030705, SBI, 196, 1, 103, 3, 2, 20030804, 432, 73.8307, -166.0144, 132,     93.1,  -1.5423,  32.6112, 2, -999.0000, 9,    251.2, 2,    285.6, 2,    36.96, 2,    12.72, 2,     0.02, 2,     1.78, 2,  -999.00, 9,  -1.5440,    -0.01, 2, 0.03, 2,  -999.00, 9,  -999.00, 9,   0.8350, 2, 0.173, 2, 0.149, 2, 4.664, 2
320620030705, SBI, 196, 1, 102, 2, 2, 20030804, 431, 73.8307, -166.0144, 132,    113.3,  -1.3233,  33.7085, 2, -999.0000, 9,    267.0, 2,    257.6, 2,    27.68, 2,    14.08, 2,     0.02, 2,     1.43, 2,  -999.00, 9,  -1.3259,    -0.01, 2, 0.03, 2,  -999.00, 9,  -999.00, 9,   0.7250, 2, 0.170, 2, 0.141, 2, 4.645, 2
320620030705, SBI, 196, 1, 101, 1, 2, 20030804, 428, 73.8307, -166.0144, 132,    127.3,   0.0365,  34.5285, 2,  34.4845, 2,    230.6, 2,    247.5, 2,    26.63, 2,    14.06, 2,     0.03, 2,     1.38, 2,    52.50, 2,   0.0319,    -0.01, 2, 0.04, 2,  -999.00, 9,  -999.00, 9,   0.7570, 2, 0.169, 2, 0.139, 2, 4.690, 2
320620030705, SBI, 197, 1, 110, 10, 2, 20030804, 606, 73.9180, -165.9840, 148,      1.3,  -1.0451,  28.9549, 2,  28.9404, 2,    361.9, 2,    390.1, 2,     4.73, 2,     0.10, 2,     0.00, 2,     0.67, 2,  -999.00, 9,  -1.0451,     0.00, 2, 0, 2,  -999.00, 9,  -999.00, 9,   1.0950, 2, 0.180, 2, 3.352, 2, 4.863, 2
320620030705, SBI, 197, 1, 109, 9, 2, 20030804, 604, 73.9180, -165.9840, 148,     13.2,  -1.1980,  29.3117, 2, -999.0000, 9,    372.7, 2,    404.3, 2,     6.76, 2,     0.04, 2,     0.00, 2,     0.72, 2,  -999.00, 9,  -1.1982,     0.00, 2, 0.01, 2,  -999.00, 9,  -999.00, 9,   1.6480, 2, 0.327, 2, 2.613, 2, 4.854, 2
320620030705, SBI, 197, 1, 108, 8, 2, 20030804, 603, 73.9180, -165.9840, 148,     21.8,  -1.4400,  30.4875, 2, -999.0000, 9,    346.7, 2,    349.0, 2,    27.80, 2,     5.51, 2,     0.15, 2,     1.39, 2,  -999.00, 9,  -1.4403,     0.59, 2, 0.06, 2,  -999.00, 9,  -999.00, 9,   2.3780, 2, 1.036, 2, 1.910, 2, 4.850, 2
320620030705, SBI, 197, 1, 107, 7, 2, 20030804, 600, 73.9180, -165.9840, 148,     43.3,  -1.6283,  31.3886, 2, -999.0000, 9,    325.6, 2,    349.2, 2,    23.47, 2,     6.34, 2,     0.16, 2,     1.37, 2,  -999.00, 9,  -1.6290,     0.68, 2, 0.05, 2,  -999.00, 9,  -999.00, 9,   0.9230, 2, 0.177, 2, 0.558, 2, 4.845, 2
320620030705, SBI, 197, 1, 106, 6, 2, 20030804, 559, 73.9180, -165.9840, 148,     59.7,  -1.6837,  31.5864, 2, -999.0000, 9,    310.1, 2,    336.1, 2,    26.22, 2,     7.98, 2,     0.12, 2,     1.47, 2,  -999.00, 9,  -1.6846,     0.45, 2, 0.04, 2,  -999.00, 9,  -999.00, 9,   0.8320, 2, 0.176, 2, 0.302, 2, 4.837, 2
320620030705, SBI, 197, 1, 105, 5, 2, 20030804, 556, 73.9180, -165.9840, 148,     83.3,  -1.4791,  32.1064, 2, -999.0000, 9,    256.7, 2,    298.3, 2,    36.98, 2,    10.90, 2,     0.06, 2,     1.71, 2,  -999.00, 9,  -1.4806,     0.07, 2, 0.03, 2,  -999.00, 9,  -999.00, 9,   0.8680, 2, 0.174, 2, 0.169, 2, 4.842, 2
320620030705, SBI, 197, 1, 104, 4, 2, 20030804, 555, 73.9180, -165.9840, 148,     97.3,  -1.6207,  32.7582, 2, -999.0000, 9,    281.4, 2,    304.5, 2,    31.29, 2,    11.84, 2,     0.01, 2,     1.65, 2,  -999.00, 9,  -1.6225,     0.01, 2, 0.05, 2,  -999.00, 9,  -999.00, 9,   0.8200, 2, 0.172, 2, 0.148, 2, 4.843, 2
320620030705, SBI, 197, 1, 103, 3, 2, 20030804, 553, 73.9180, -165.9840, 148,    113.4,  -1.3521,  33.6504, 2, -999.0000, 9,    267.9, 2,    279.4, 2,    27.47, 2,    13.91, 2,     0.01, 2,     1.50, 2,  -999.00, 9,  -1.3547,    -0.01, 2, 0.03, 2,  -999.00, 9,  -999.00, 9,   0.7210, 2, 0.170, 2, 0.142, 2, 4.841, 2
320620030705, SBI, 197, 1, 102, 2, 2, 20030804, 551, 73.9180, -165.9840, 148,    132.5,  -0.1766,  34.4548, 2, -999.0000, 9,    245.3, 2,    261.6, 2,    19.67, 2,    13.46, 2,     0.02, 2,     1.15, 2,  -999.00, 9,  -0.1812,    -0.01, 2, 0.04, 2,  -999.00, 9,  -999.00, 9,   0.8180, 2, 0.167, 2, 0.139, 2, 4.843, 2
320620030705, SBI, 197, 1, 101, 1, 2, 20030804, 550, 73.9180, -165.9840, 148,    142.6,   0.1756,  34.5999, 2,  34.5092, 2,    243.6, 2,    261.9, 2,    19.86, 2,    13.41, 2,     0.02, 2,     1.16, 2,    53.20, 2,   0.1702,    -0.01, 2, 0.04, 2,  -999.00, 9,  -999.00, 9,   0.8000, 2, 0.167, 2, 0.139, 2, 4.849, 2