BOTTLE,20100423CCHDOSIODBK
EXPOCODE,SECT_ID,STNNBR,CASTNO,SAMPNO,BTLNBR,BTLNBR_FLAG_W,DATE,TIME,LATITUDE,LONGITUDE,DEPTH,CTDPRS,CTDTMP,CTDSAL,CTDSAL_FLAG_W,SALNTY,SALNTY_FLAG_W,CTDOXY,CTDOXY_FLAG_W,OXYGEN,OXYGEN_FLAG_W,SILCAT,SILCAT_FLAG_W,NITRAT,NITRAT_FLAG_W,NITRIT,NITRIT_FLAG_W,PHSPHT,PHSPHT_FLAG_W,DOC,DOC_FLAG_W,THETA,NH4,NH4_FLAG_W,UREA,UREA_FLAG_W,CHLORA,CHLORA_FLAG_W,PPHYTN,PPHYTN_FLAG_W,FLUOR,FLUOR_FLAG_W,HAARDT,HAARDT_FLAG_W,PAR,PAR_FLAG_W,SPAR,SPAR_FLAG_W
,,,,,,,,,,,METERS,DBAR,ITS-90,PSS-78,,PSS-78,,UMOL/KG,,UMOL/KG,,UMOL/KG,,UMOL/KG,,UMOL/KG,,UMOL/KG,,UMOL/KG,,DEG C,UMOL/KG,,UMOL/KG,,UG/KG,,UG/KG,,MG/M^3,,VOLTS,,VOLTS,,VOLTS,
320620030705, SBI, 198, 1, 113, 13, 2, 20030804, 747, 74.0077, -165.9869, 171,      1.6,  -1.0911,  28.8261, 2,  28.8184, 2,    361.3, 2,    386.3, 2,     4.58, 2,     0.14, 2,     0.00, 2,     0.68, 2,  -999.00, 9,  -1.0911,     0.01, 2, 0, 2,     0.19, 2,     0.02, 2,   0.9370, 2, 0.172, 2, 3.122, 2, 4.918, 2
320620030705, SBI, 198, 1, 112, 12, 2, 20030804, 745, 74.0077, -165.9869, 171,     13.1,  -1.1085,  29.0752, 2, -999.0000, 9,    368.1, 2,    408.1, 2,     5.59, 2,     0.14, 2,     0.00, 2,     0.72, 2,  -999.00, 9,  -1.1087,     0.01, 2, 0, 2,     1.81, 2,     0.10, 2,   1.2930, 2, 0.220, 2, 2.465, 2, 4.907, 2
320620030705, SBI, 198, 1, 111, 11, 2, 20030804, 743, 74.0077, -165.9869, 171,     23.1,  -1.5212,  31.0802, 2, -999.0000, 9,    321.9, 2,   -999.0, 9,  -999.00, 9,  -999.00, 9,  -999.00, 9,  -999.00, 9,  -999.00, 9,  -1.5216,  -999.00, 9, -999, 9,  -999.00, 9,  -999.00, 9,   2.1620, 2, 0.655, 2, 1.276, 2, 4.907, 2
320620030705, SBI, 198, 1, 110, 10, 2, 20030804, 743, 74.0077, -165.9869, 171,     23.1,  -1.5305,  31.0969, 2, -999.0000, 9,    321.6, 2,    333.3, 2,    33.60, 2,     6.40, 2,     0.17, 2,     1.48, 2,  -999.00, 9,  -1.5309,     0.77, 2, 0.07, 2,     5.38, 2,     0.03, 2,   2.1390, 2, 0.551, 2, 1.249, 2, 4.908, 2
320620030705, SBI, 198, 1, 109, 9, 2, 20030804, 741, 74.0077, -165.9869, 171,     38.4,  -1.6201,  31.3328, 2, -999.0000, 9,    303.8, 2,    324.7, 2,    35.66, 2,     7.38, 2,     0.13, 2,     1.57, 2,  -999.00, 9,  -1.6207,     1.70, 2, 0.09, 2,     0.34, 2,     0.27, 2,   1.1200, 2, 0.192, 2, 0.488, 2, 4.910, 2
320620030705, SBI, 198, 1, 108, 8, 2, 20030804, 739, 74.0077, -165.9869, 171,     53.2,  -1.6076,  31.5853, 2, -999.0000, 9,    295.5, 2,    317.6, 2,    33.27, 2,     8.32, 2,     0.09, 2,     1.54, 2,  -999.00, 9,  -1.6084,     0.82, 2, 0.03, 2,     0.14, 2,     0.14, 2,   1.0180, 2, 0.176, 2, 0.254, 2, 4.913, 2
320620030705, SBI, 198, 1, 107, 7, 2, 20030804, 737, 74.0077, -165.9869, 171,     68.0,  -1.6416,  31.9115, 2, -999.0000, 9,    302.8, 2,    322.5, 2,    28.62, 2,     8.83, 2,     0.10, 2,     1.50, 2,  -999.00, 9,  -1.6427,     0.22, 2, 0.01, 2,  -999.00, 9,  -999.00, 9,   0.8810, 2, 0.174, 2, 0.173, 2, 4.915, 2
320620030705, SBI, 198, 1, 106, 6, 2, 20030804, 735, 74.0077, -165.9869, 171,     83.3,  -1.6094,  32.2587, 2, -999.0000, 9,    296.7, 2,    313.4, 2,    29.63, 2,    10.38, 2,     0.04, 2,     1.60, 2,  -999.00, 9,  -1.6108,     0.02, 2, 0.01, 2,  -999.00, 9,  -999.00, 9,   0.8570, 2, 0.172, 2, 0.149, 2, 4.910, 2
320620030705, SBI, 198, 1, 105, 5, 2, 20030804, 733, 74.0077, -165.9869, 171,     98.3,  -1.6129,  32.6318, 2, -999.0000, 9,    278.2, 2,    305.1, 2,    32.30, 2,    11.24, 2,     0.01, 2,     1.66, 2,  -999.00, 9,  -1.6147,     0.00, 2, 0.02, 2,  -999.00, 9,  -999.00, 9,   0.8130, 2, 0.173, 2, 0.141, 2, 4.914, 2
320620030705, SBI, 198, 1, 104, 4, 2, 20030804, 731, 74.0077, -165.9869, 171,    112.6,  -1.6211,  32.9852, 2, -999.0000, 9,    282.9, 2,    303.8, 2,    29.92, 2,    12.29, 2,     0.01, 2,     1.62, 2,  -999.00, 9,  -1.6232,     0.00, 2, 0.02, 2,  -999.00, 9,  -999.00, 9,   0.7200, 2, 0.171, 2, 0.139, 2, 4.919, 2
320620030705, SBI, 198, 1, 103, 3, 2, 20030804, 729, 74.0077, -165.9869, 171,    128.5,  -1.2074,  33.7297, 2, -999.0000, 9,    266.4, 2,    277.5, 2,    27.02, 2,    13.71, 2,     0.01, 2,     1.46, 2,  -999.00, 9,  -1.2105,     0.00, 2, 0.01, 2,  -999.00, 9,  -999.00, 9,   0.7290, 2, 0.170, 2, 0.139, 2, 4.916, 2
320620030705, SBI, 198, 1, 102, 2, 2, 20030804, 727, 74.0077, -165.9869, 171,    148.1,  -0.1478,  34.4717, 2, -999.0000, 9,    247.5, 2,    263.8, 2,    19.91, 2,    13.44, 2,     0.01, 2,     1.17, 2,  -999.00, 9,  -0.1530,    -0.01, 2, 0.01, 2,  -999.00, 9,  -999.00, 9,   0.6780, 2, 0.168, 2, 0.139, 2, 4.921, 2
320620030705, SBI, 198, 1, 101, 1, 2, 20030804, 725, 74.0077, -165.9869, 171,    168.3,   0.3148,  34.6500, 2,  34.6282, 2,    251.1, 2,    265.1, 2,    16.52, 2,    13.17, 2,     0.02, 2,     1.06, 2,    54.70, 2,   0.3082,    -0.01, 2, 0.01, 2,  -999.00, 9,  -999.00, 9,   0.7530, 2, 0.168, 2, 0.138, 2, 4.916, 2
320620030705, SBI, 199, 1, 113, 13, 2, 20030804, 941, 74.0479, -165.7581, 185,      2.1,  -1.1127,  29.4095, 2,  29.3206, 2,    369.7, 2,    397.8, 2,     5.61, 2,     0.11, 2,     0.00, 2,     0.70, 2,  -999.00, 9,  -1.1127,     0.00, 2, 0, 2,  -999.00, 9,  -999.00, 9,   1.4550, 2, 0.232, 2, 2.262, 2, 4.989, 2
320620030705, SBI, 199, 1, 112, 12, 2, 20030804, 939, 74.0479, -165.7581, 185,     16.0,  -1.1807,  29.6618, 2, -999.0000, 9,    378.7, 2,    420.7, 2,     9.50, 2,     0.26, 2,     0.01, 2,     0.85, 2,  -999.00, 9,  -1.1809,     0.01, 2, 0, 2,  -999.00, 9,  -999.00, 9,   1.5870, 2, 0.269, 2, 1.527, 2, 4.988, 2
320620030705, SBI, 199, 1, 111, 11, 2, 20030804, 936, 74.0479, -165.7581, 185,     26.5,  -1.5687,  31.2052, 2, -999.0000, 9,    311.4, 2,    335.3, 2,    31.26, 2,     6.71, 2,     0.15, 2,     1.49, 2,  -999.00, 9,  -1.5691,     0.45, 2, 0.04, 2,  -999.00, 9,  -999.00, 9,   2.3470, 2, 1.062, 2, 0.707, 2, 4.988, 2
320620030705, SBI, 199, 1, 110, 10, 2, 20030804, 934, 74.0479, -165.7581, 185,     31.0,  -1.6025,  31.2613, 2, -999.0000, 9,    292.0, 2,   -999.0, 9,  -999.00, 9,  -999.00, 9,  -999.00, 9,  -999.00, 9,  -999.00, 9,  -1.6030,  -999.00, 9, -999, 9,  -999.00, 9,  -999.00, 9,   1.3310, 2, 0.217, 2, 0.265, 2, 4.985, 2
320620030705, SBI, 199, 1, 109, 9, 2, 20030804, 931, 74.0479, -165.7581, 185,     49.2,  -1.6221,  31.6181, 2, -999.0000, 9,    305.1, 2,    343.7, 2,    25.47, 2,     6.49, 2,     0.14, 2,     1.38, 2,  -999.00, 9,  -1.6229,     0.82, 2, 0.03, 2,  -999.00, 9,  -999.00, 9,   0.9150, 2, 0.177, 2, 0.158, 2, 4.985, 2
320620030705, SBI, 199, 1, 108, 8, 2, 20030804, 929, 74.0479, -165.7581, 185,     64.1,  -1.6734,  31.8573, 2, -999.0000, 9,    319.1, 2,    345.9, 2,    28.04, 2,     6.62, 2,     0.17, 2,     1.43, 2,  -999.00, 9,  -1.6744,     1.24, 2, 0.01, 2,  -999.00, 9,  -999.00, 9,   0.8180, 2, 0.174, 2, 0.142, 2, 4.985, 2
320620030705, SBI, 199, 1, 107, 7, 2, 20030804, 927, 74.0479, -165.7581, 185,     81.8,  -1.5934,  32.1550, 2, -999.0000, 9,    305.2, 2,    329.3, 2,    26.27, 2,     8.51, 2,     0.08, 2,     1.48, 2,  -999.00, 9,  -1.5948,     0.38, 2, 0, 2,  -999.00, 9,  -999.00, 9,   0.7680, 2, 0.170, 2, 0.139, 2, 4.985, 2
320620030705, SBI, 199, 1, 106, 6, 2, 20030804, 925, 74.0479, -165.7581, 185,     95.0,  -1.6475,  32.4687, 2, -999.0000, 9,    288.4, 2,    309.8, 2,    33.07, 2,    10.87, 2,     0.05, 2,     1.65, 2,  -999.00, 9,  -1.6492,     0.27, 2, 0, 2,  -999.00, 9,  -999.00, 9,   0.8770, 2, 0.171, 2, 0.139, 2, 4.985, 2
320620030705, SBI, 199, 1, 105, 5, 2, 20030804, 923, 74.0479, -165.7581, 185,    111.2,  -1.6199,  32.9536, 2, -999.0000, 9,    282.3, 2,    305.5, 2,    30.05, 2,    11.85, 2,     0.01, 2,     1.62, 2,  -999.00, 9,  -1.6220,     0.00, 2, 0, 2,  -999.00, 9,  -999.00, 9,   0.7280, 2, 0.169, 2, 0.139, 2, 4.985, 2
320620030705, SBI, 199, 1, 104, 4, 2, 20030804, 921, 74.0479, -165.7581, 185,    123.9,  -1.5053,  33.3854, 2, -999.0000, 9,    276.1, 2,    293.3, 2,    29.73, 2,    13.12, 2,     0.01, 2,     1.58, 2,  -999.00, 9,  -1.5079,    -0.01, 2, 0.01, 2,  -999.00, 9,  -999.00, 9,   0.9480, 2, 0.169, 2, 0.139, 2, 4.985, 2
320620030705, SBI, 199, 1, 103, 3, 2, 20030804, 919, 74.0479, -165.7581, 185,    144.5,  -0.6617,  34.2511, 2, -999.0000, 9,    254.4, 2,    269.5, 2,    22.10, 2,    13.64, 2,     0.01, 2,     1.26, 2,  -999.00, 9,  -0.6660,     0.00, 2, 0, 2,  -999.00, 9,  -999.00, 9,   0.6360, 2, 0.168, 2, 0.139, 2, 4.984, 2
320620030705, SBI, 199, 1, 102, 2, 2, 20030804, 917, 74.0479, -165.7581, 185,    164.5,   0.1975,  34.6079, 2,  34.6086, 2,    248.5, 2,    263.7, 2,    17.16, 2,    13.10, 2,     0.02, 2,     1.07, 2,  -999.00, 9,   0.1912,    -0.01, 2, 0.01, 2,  -999.00, 9,  -999.00, 9,   0.6700, 2, 0.167, 2, 0.139, 2, 4.984, 2
320620030705, SBI, 199, 1, 101, 1, 2, 20030804, 915, 74.0479, -165.7581, 185,    181.5,   0.2776,  34.6366, 2,  34.6313, 2,    248.5, 2,    264.0, 2,    16.85, 2,    13.20, 2,     0.03, 2,     1.06, 2,    54.20, 2,   0.2705,     0.00, 2, 0.01, 2,  -999.00, 9,  -999.00, 9,   0.6800, 2, 0.167, 2, 0.139, 2, 4.983, 2
320620030705, SBI, 200, 1, 114, 14, 2, 20030804, 1128, 74.0886, -165.4929, 208,      2.3,  -1.1197,  29.0815, 2,  29.0756, 2,    362.7, 2,    392.3, 2,     5.41, 2,     0.15, 2,     0.00, 2,     0.68, 2,  -999.00, 9,  -1.1197,     0.00, 2, 0, 2,  -999.00, 9,  -999.00, 9,   1.3040, 2, 0.208, 2, 2.266, 2, 4.989, 2
320620030705, SBI, 200, 1, 113, 13, 2, 20030804, 1126, 74.0886, -165.4929, 208,     13.8,  -1.2115,  29.2276, 2, -999.0000, 9,    367.6, 2,    407.6, 2,     7.34, 2,     0.20, 2,     0.01, 2,     0.79, 2,  -999.00, 9,  -1.2117,     0.00, 2, 0, 2,  -999.00, 9,  -999.00, 9,   1.3540, 2, 0.228, 2, 1.645, 2, 4.989, 2
320620030705, SBI, 200, 1, 112, 12, 2, 20030804, 1124, 74.0886, -165.4929, 208,     25.0,  -1.5365,  31.2177, 2, -999.0000, 9,    347.0, 2,    381.2, 2,    16.23, 2,     2.62, 2,     0.05, 2,     1.17, 2,  -999.00, 9,  -1.5369,     0.04, 2, 0.03, 2,  -999.00, 9,  -999.00, 9,   2.5960, 2, 2.162, 2, 1.060, 2, 4.989, 2
320620030705, SBI, 200, 1, 111, 11, 2, 20030804, 1119, 74.0886, -165.4929, 208,     42.0,  -1.6254,  31.4178, 2, -999.0000, 9,    316.3, 2,    342.1, 2,    24.33, 2,     6.45, 2,     0.10, 2,     1.35, 2,  -999.00, 9,  -1.6260,     0.70, 2, 0.03, 2,  -999.00, 9,  -999.00, 9,   1.0350, 2, 0.188, 2, 0.200, 2, 4.989, 2
320620030705, SBI, 200, 1, 110, 10, 2, 20030804, 1117, 74.0886, -165.4929, 208,     59.0,  -1.6455,  31.7184, 2, -999.0000, 9,    314.2, 2,    337.1, 2,    22.88, 2,     7.67, 2,     0.10, 2,     1.38, 2,  -999.00, 9,  -1.6464,     0.16, 2, 0.02, 2,  -999.00, 9,  -999.00, 9,   0.8590, 2, 0.177, 2, 0.152, 2, 4.989, 2
320620030705, SBI, 200, 1, 109, 9, 2, 20030804, 1116, 74.0886, -165.4929, 208,     73.8,  -1.6199,  31.9243, 2, -999.0000, 9,    303.3, 2,    330.7, 2,    26.37, 2,     8.09, 2,     0.10, 2,     1.44, 2,  -999.00, 9,  -1.6211,     0.38, 2, 0.01, 2,  -999.00, 9,  -999.00, 9,   0.8200, 2, 0.173, 2, 0.143, 2, 4.989, 2
320620030705, SBI, 200, 1, 108, 8, 2, 20030804, 1114, 74.0886, -165.4929, 208,     89.2,  -1.6041,  32.1433, 2, -999.0000, 9,    297.3, 2,    318.1, 2,    28.83, 2,     9.63, 2,     0.06, 2,     1.54, 2,  -999.00, 9,  -1.6056,     0.12, 2, 0, 2,  -999.00, 9,  -999.00, 9,   0.8390, 2, 0.172, 2, 0.140, 2, 4.989, 2
320620030705, SBI, 200, 1, 107, 7, 2, 20030804, 1112, 74.0886, -165.4929, 208,    103.9,  -1.6270,  32.4054, 2, -999.0000, 9,    285.6, 2,    302.0, 2,    33.46, 2,    11.30, 2,     0.02, 2,     1.66, 2,  -999.00, 9,  -1.6288,     0.01, 2, 0, 2,  -999.00, 9,  -999.00, 9,   0.8700, 2, 0.172, 2, 0.139, 2, 4.989, 2
320620030705, SBI, 200, 1, 106, 6, 2, 20030804, 1110, 74.0886, -165.4929, 208,    118.8,  -1.4773,  33.3104, 2, -999.0000, 9,    273.1, 2,    291.8, 2,    30.86, 2,    13.27, 2,     0.01, 2,     1.60, 2,  -999.00, 9,  -1.4798,     0.00, 2, 0.01, 2,  -999.00, 9,  -999.00, 9,   0.7500, 2, 0.172, 2, 0.140, 2, 4.989, 2
320620030705, SBI, 200, 1, 105, 5, 2, 20030804, 1108, 74.0886, -165.4929, 208,    133.9,  -1.1190,  33.8993, 2, -999.0000, 9,    263.7, 2,    280.3, 2,    25.99, 2,    13.85, 2,     0.01, 2,     1.42, 2,  -999.00, 9,  -1.1224,     0.00, 2, 0.01, 2,  -999.00, 9,  -999.00, 9,   0.7920, 2, 0.168, 2, 0.140, 2, 4.988, 2
320620030705, SBI, 200, 1, 104, 4, 2, 20030804, 1106, 74.0886, -165.4929, 208,    153.9,  -0.4966,  34.3599, 2, -999.0000, 9,    252.4, 2,    266.7, 2,    19.62, 2,    13.36, 2,     0.01, 2,     1.16, 2,  -999.00, 9,  -0.5015,     0.00, 2, 0.01, 2,  -999.00, 9,  -999.00, 9,   0.8170, 2, 0.166, 2, 0.140, 2, 4.988, 2
320620030705, SBI, 200, 1, 103, 3, 2, 20030804, 1105, 74.0886, -165.4929, 208,    174.4,   0.2383,  34.6237, 2, -999.0000, 9,    248.9, 2,    265.3, 2,    16.24, 2,    13.20, 2,     0.01, 2,     1.03, 2,  -999.00, 9,   0.2315,     0.00, 2, 0.01, 2,  -999.00, 9,  -999.00, 9,   0.7060, 2, 0.167, 2, 0.140, 2, 4.988, 2
320620030705, SBI, 200, 1, 102, 2, 3, 20030804, 1102, 74.0886, -165.4929, 208,    194.5,   0.4216,  34.6851, 2,  34.6134, 0,    250.1, 2,    266.0, 0,    16.95, 4,    13.24, 4,     0.02, 4,     1.06, 4,  -999.00, 9,   0.4137,     0.00, 4, 0.02, 4,  -999.00, 9,  -999.00, 9,   0.7410, 2, 0.166, 2, 0.139, 2, 4.987, 2
320620030705, SBI, 200, 1, 101, 1, 2, 20030804, 1059, 74.0886, -165.4929, 208,    204.1,   0.4223,  34.6850, 2,  34.6788, 2,    250.0, 2,    265.7, 2,    16.12, 2,    13.20, 2,     0.02, 2,     1.02, 2,    53.60, 2,   0.4140,     0.00, 2, 0.02, 2,  -999.00, 9,  -999.00, 9,   0.7670, 2, 0.167, 2, 0.139, 2, 4.987, 2
320620030705, SBI, 201, 1, 115, 15, 2, 20030804, 1407, 74.1975, -165.0181, 258,      2.0,  -1.1547,  28.7452, 2,  28.7426, 2,    359.2, 2,    388.6, 2,     5.01, 2,     0.14, 2,     0.00, 2,     0.66, 2,  -999.00, 9,  -1.1547,     0.00, 2, 0, 2,     0.20, 2,     0.04, 2,   1.1570, 2, 0.191, 2, 2.233, 2, 4.992, 2
320620030705, SBI, 201, 1, 114, 14, 2, 20030804, 1404, 74.1975, -165.0181, 258,     15.3,  -1.2680,  29.5550, 2, -999.0000, 9,    378.5, 2,    409.4, 2,     5.10, 2,     0.08, 2,     0.00, 2,     0.70, 2,  -999.00, 9,  -1.2682,     0.00, 2, 0, 2,     0.31, 2,     0.03, 2,   1.3950, 2, 0.230, 2, 1.552, 2, 4.990, 2
320620030705, SBI, 201, 1, 113, 13, 2, 20030804, 1402, 74.1975, -165.0181, 258,     28.3,  -1.5534,  31.2558, 2, -999.0000, 9,    366.7, 2,    376.4, 2,    16.55, 2,     2.69, 2,     0.05, 2,     1.14, 2,  -999.00, 9,  -1.5538,     0.13, 2, 0.01, 2,     6.42, 2,     0.48, 2,   2.2950, 2, 0.772, 2, 0.614, 2, 4.987, 2
320620030705, SBI, 201, 1, 112, 12, 2, 20030804, 1359, 74.1975, -165.0181, 258,     38.4,  -1.6247,  31.3858, 2, -999.0000, 9,    303.6, 2,    334.4, 2,    31.57, 2,     6.79, 2,     0.12, 2,     1.48, 2,  -999.00, 9,  -1.6253,     1.29, 2, 0.03, 2,     0.37, 2,     0.19, 2,   0.8900, 2, 0.192, 2, 0.264, 2, 4.987, 2
320620030705, SBI, 201, 1, 111, 11, 9, 20030804, 1356, 74.1975, -165.0181, 258,     50.3,  -1.6171,  31.5542, 2, -999.0000, 9,    329.4, 2,   -999.0, 9,  -999.00, 9,  -999.00, 9,  -999.00, 9,  -999.00, 9,  -999.00, 9,  -1.6179,  -999.00, 9, -999, 9,  -999.00, 9,  -999.00, 9,   1.4530, 2, 0.240, 2, 0.173, 2, 4.987, 2
320620030705, SBI, 201, 1, 110, 10, 2, 20030804, 1350, 74.1975, -165.0181, 258,     68.4,  -1.6453,  31.9528, 2, -999.0000, 9,    314.9, 2,    338.7, 2,    23.72, 2,     7.73, 2,     0.09, 2,     1.40, 2,  -999.00, 9,  -1.6464,     0.36, 2, 0, 2,  -999.00, 9,  -999.00, 9,   0.8060, 2, 0.174, 2, 0.147, 2, 4.983, 2
320620030705, SBI, 201, 1, 109, 9, 2, 20030804, 1348, 74.1975, -165.0181, 258,     88.4,  -1.6409,  32.2351, 2, -999.0000, 9,    313.1, 2,    322.6, 2,    33.10, 2,     9.34, 2,     0.12, 2,     1.61, 2,  -999.00, 9,  -1.6424,     1.03, 2, 0, 2,  -999.00, 9,  -999.00, 9,   0.8270, 2, 0.173, 2, 0.139, 2, 4.984, 2
320620030705, SBI, 201, 1, 108, 8, 2, 20030804, 1343, 74.1975, -165.0181, 258,    113.5,  -1.6895,  32.6234, 2, -999.0000, 9,    275.9, 2,    298.4, 2,    36.18, 2,    12.80, 2,     0.05, 2,     1.72, 2,  -999.00, 9,  -1.6915,     0.61, 2, 0.01, 2,  -999.00, 9,  -999.00, 9,   0.8540, 2, 0.174, 2, 0.138, 2, 4.987, 2
320620030705, SBI, 201, 1, 107, 7, 2, 20030804, 1340, 74.1975, -165.0181, 258,    133.4,  -1.4822,  33.1726, 2, -999.0000, 9,    273.2, 2,    295.1, 2,    30.79, 2,    13.05, 2,     0.02, 2,     1.59, 2,  -999.00, 9,  -1.4850,     0.00, 2, 0.01, 2,  -999.00, 9,  -999.00, 9,   0.8080, 2, 0.173, 2, 0.139, 2, 4.987, 2
320620030705, SBI, 201, 1, 106, 6, 2, 20030804, 1338, 74.1975, -165.0181, 258,    153.7,  -1.2185,  33.9118, 2, -999.0000, 9,    268.4, 2,    281.9, 2,    25.93, 2,    13.90, 2,     0.01, 2,     1.41, 2,  -999.00, 9,  -1.2223,     0.00, 2, 0, 2,  -999.00, 9,  -999.00, 9,   0.6840, 2, 0.172, 2, 0.139, 2, 4.989, 2
320620030705, SBI, 201, 1, 105, 5, 2, 20030804, 1335, 74.1975, -165.0181, 258,    175.9,  -0.0987,  34.5237, 2, -999.0000, 9,    250.3, 2,    269.2, 2,    16.27, 2,    13.10, 2,     0.01, 2,     1.05, 2,  -999.00, 9,  -0.1050,     0.00, 2, 0, 2,  -999.00, 9,  -999.00, 9,   0.8680, 2, 0.168, 2, 0.139, 2, 4.993, 2
320620030705, SBI, 201, 1, 104, 4, 2, 20030804, 1333, 74.1975, -165.0181, 258,    193.8,   0.2143,  34.6292, 2, -999.0000, 9,    253.3, 2,    270.3, 2,    15.44, 2,    13.10, 2,     0.01, 2,     1.01, 2,  -999.00, 9,   0.2068,     0.00, 2, 0, 2,  -999.00, 9,  -999.00, 9,   0.7790, 2, 0.167, 2, 0.140, 2, 4.993, 2
320620030705, SBI, 201, 1, 103, 3, 2, 20030804, 1331, 74.1975, -165.0181, 258,    214.0,   0.5048,  34.7105, 2,  34.7277, 2,    252.5, 2,    270.1, 2,    14.82, 2,    13.20, 2,     0.01, 2,     0.98, 2,  -999.00, 9,   0.4959,     0.00, 2, 0.01, 2,  -999.00, 9,  -999.00, 9,   0.5650, 2, 0.167, 2, 0.140, 2, 4.990, 2
320620030705, SBI, 201, 1, 102, 2, 2, 20030804, 1328, 74.1975, -165.0181, 258,    234.1,   0.7580,  34.8021, 2,  34.8083, 2,    257.5, 2,    274.5, 2,    14.91, 2,    13.30, 2,     0.01, 2,     0.95, 2,  -999.00, 9,   0.7477,     0.00, 2, 0.01, 2,  -999.00, 9,  -999.00, 9,   0.6080, 2, 0.166, 2, 0.140, 2, 4.993, 2
320620030705, SBI, 201, 1, 101, 1, 2, 20030804, 1326, 74.1975, -165.0181, 258,    255.3,   0.7724,  34.8210, 2,  34.8156, 2,    259.2, 2,    275.2, 2,    14.90, 2,    13.30, 2,     0.02, 2,     0.96, 2,    51.00, 2,   0.7611,     0.00, 2, 0.01, 2,  -999.00, 9,  -999.00, 9,   0.7650, 2, 0.167, 2, 0.140, 2, 4.994, 2