BOTTLE,20100423CCHDOSIODBK
EXPOCODE,SECT_ID,STNNBR,CASTNO,SAMPNO,BTLNBR,BTLNBR_FLAG_W,DATE,TIME,LATITUDE,LONGITUDE,DEPTH,CTDPRS,CTDTMP,CTDSAL,CTDSAL_FLAG_W,SALNTY,SALNTY_FLAG_W,CTDOXY,CTDOXY_FLAG_W,OXYGEN,OXYGEN_FLAG_W,SILCAT,SILCAT_FLAG_W,NITRAT,NITRAT_FLAG_W,NITRIT,NITRIT_FLAG_W,PHSPHT,PHSPHT_FLAG_W,DOC,DOC_FLAG_W,THETA,NH4,NH4_FLAG_W,UREA,UREA_FLAG_W,CHLORA,CHLORA_FLAG_W,PPHYTN,PPHYTN_FLAG_W,FLUOR,FLUOR_FLAG_W,HAARDT,HAARDT_FLAG_W,PAR,PAR_FLAG_W,SPAR,SPAR_FLAG_W
,,,,,,,,,,,METERS,DBAR,ITS-90,PSS-78,,PSS-78,,UMOL/KG,,UMOL/KG,,UMOL/KG,,UMOL/KG,,UMOL/KG,,UMOL/KG,,UMOL/KG,,DEG C,UMOL/KG,,UMOL/KG,,UG/KG,,UG/KG,,MG/M^3,,VOLTS,,VOLTS,,VOLTS,
320620030705, SBI, 51, 1, 120, 20, 2, 20030719, 37, 71.6177, -152.0885, 551,      2.1,  -0.1040,  29.1683, 2,  29.0200, 2,    355.7, 2,    382.5, 2,    11.03, 2,     0.18, 2,     0.00, 2,     0.74, 2,  -999.00, 9,  -0.1040,     0.15, 2, 0.01, 2,     0.22, 2,     0.11, 2,   0.9300, 2, 0.000, 2, 3.720, 2, 3.974, 2
320620030705, SBI, 51, 1, 119, 19, 2, 20030719, 35, 71.6177, -152.0885, 551,     19.5,  -0.0460,  29.6528, 2, -999.0000, 9,    360.7, 2,    389.3, 2,    13.11, 2,     0.28, 2,     0.00, 2,     0.79, 2,    72.90, 2,  -0.0465,     0.17, 2, 0.01, 2,     0.48, 2,     0.09, 2,   1.1590, 2, 0.000, 2, 2.521, 2, 4.014, 2
320620030705, SBI, 51, 1, 118, 18, 2, 20030719, 33, 71.6177, -152.0885, 551,     29.5,  -0.2430,  31.6280, 2, -999.0000, 9,    353.3, 2,    389.8, 2,    12.36, 2,     1.55, 2,     0.04, 2,     0.89, 2,  -999.00, 9,  -0.2438,     0.82, 2, 0.08, 2,     0.43, 2,     0.15, 2,   1.2590, 2, 0.000, 2, 1.845, 2, 4.125, 2
320620030705, SBI, 51, 1, 117, 17, 2, 20030719, 31, 71.6177, -152.0885, 551,     44.6,  -0.0979,  31.7218, 2, -999.0000, 9,    366.5, 2,    398.5, 2,     8.64, 2,     0.96, 2,     0.03, 2,     0.80, 2,    74.50, 2,  -0.0992,     0.70, 2, 0.07, 2,     0.21, 2,     0.17, 2,   0.9730, 2, 0.000, 2, 1.298, 2, 4.036, 2
320620030705, SBI, 51, 1, 116, 16, 2, 20030719, 30, 71.6177, -152.0885, 551,     59.5,  -0.3575,  31.8172, 2, -999.0000, 9,    371.2, 2,    401.3, 2,     8.52, 2,     1.07, 2,     0.03, 2,     0.82, 2,    71.60, 2,  -0.3591,     0.75, 2, 0.08, 2,     0.25, 2,     0.15, 2,   0.9470, 2, 0.000, 2, 0.647, 2, 4.213, 2
320620030705, SBI, 51, 1, 115, 15, 2, 20030719, 28, 71.6177, -152.0885, 551,     74.6,  -0.7368,  31.8572, 2, -999.0000, 9,    354.3, 2,    387.2, 2,    13.09, 2,     2.33, 2,     0.06, 2,     1.00, 2,    73.30, 2,  -0.7386,     1.09, 2, 0.1, 2,  -999.00, 9,  -999.00, 9,   1.1500, 2, 0.000, 2, 0.302, 2, 4.115, 2
320620030705, SBI, 51, 1, 114, 14, 2, 20030719, 26, 71.6177, -152.0885, 551,     89.5,  -0.6963,  31.9608, 2, -999.0000, 9,    371.6, 2,    405.3, 2,     8.06, 2,     1.48, 2,     0.04, 2,     0.90, 2,  -999.00, 9,  -0.6985,     0.92, 2, 0.09, 2,  -999.00, 9,  -999.00, 9,   0.9360, 2, 0.000, 2, 0.175, 2, 4.165, 2
320620030705, SBI, 51, 1, 113, 13, 2, 20030719, 25, 71.6177, -152.0885, 551,    104.0,  -0.9456,  32.0463, 2, -999.0000, 9,    359.9, 2,    392.9, 2,    11.63, 2,     2.53, 2,     0.07, 2,     1.02, 2,    71.30, 2,  -0.9480,     1.20, 2, 0.09, 2,     0.15, 2,     0.16, 2,   1.0460, 2, 0.000, 2, 0.148, 2, 4.029, 2
320620030705, SBI, 51, 1, 112, 12, 2, 20030719, 23, 71.6177, -152.0885, 551,    117.3,  -1.2444,  32.1881, 2,  32.2208, 2,    334.5, 2,    361.4, 2,    19.40, 2,     4.59, 2,     0.14, 2,     1.28, 2,    72.20, 2,  -1.2468,     1.96, 2, 0.12, 2,  -999.00, 9,  -999.00, 9,   1.0460, 2, 0.000, 2, 0.143, 2, 3.998, 2
320620030705, SBI, 51, 1, 111, 11, 2, 20030719, 21, 71.6177, -152.0885, 551,    139.5,  -0.5586,  32.3908, 2, -999.0000, 9,    319.0, 2,    346.6, 2,    18.97, 2,     3.84, 2,     0.15, 2,     1.23, 2,    70.40, 2,  -0.5624,     2.01, 2, 0.1, 2,  -999.00, 9,  -999.00, 9,   0.8720, 2, 0.000, 2, 0.140, 2, 3.939, 2
320620030705, SBI, 51, 1, 110, 10, 2, 20030719, 20, 71.6177, -152.0885, 551,    154.8,  -1.5093,  32.4181, 2, -999.0000, 9,    290.0, 2,    317.5, 2,    29.46, 2,     8.92, 2,     0.19, 2,     1.66, 2,  -999.00, 9,  -1.5123,     3.04, 2, 0.15, 2,  -999.00, 9,  -999.00, 9,   1.0530, 2, 0.000, 2, 0.140, 2, 3.973, 2
320620030705, SBI, 51, 1, 109, 9, 2, 20030719, 18, 71.6177, -152.0885, 551,    167.5,  -1.4571,  32.5623, 2, -999.0000, 9,    290.1, 2,    310.5, 2,    25.73, 2,    10.14, 2,     0.06, 2,     1.57, 2,    64.90, 2,  -1.4605,     0.67, 2, 0.03, 2,  -999.00, 9,  -999.00, 9,   0.7950, 2, 0.000, 2, 0.140, 2, 4.167, 2
320620030705, SBI, 51, 1, 108, 8, 2, 20030719, 17, 71.6177, -152.0885, 551,    184.1,  -1.5479,  33.1328, 2, -999.0000, 9,    270.1, 2,    295.5, 2,    29.20, 2,    13.61, 2,     0.01, 2,     1.60, 2,    63.60, 2,  -1.5517,     0.00, 2, 0.01, 2,  -999.00, 9,  -999.00, 9,   0.7010, 2, 0.000, 2, 0.142, 2, 3.904, 2
320620030705, SBI, 51, 1, 107, 7, 2, 20030719, 15, 71.6177, -152.0885, 551,    199.3,  -1.1245,  34.0481, 2, -999.0000, 9,    266.7, 2,    288.1, 2,    24.06, 2,    13.65, 2,     0.00, 2,     1.39, 2,    60.30, 2,  -1.1297,     0.00, 2, 0.01, 2,  -999.00, 9,  -999.00, 9,   0.6560, 2, 0.000, 2, 0.142, 2, 4.004, 2
320620030705, SBI, 51, 1, 106, 6, 2, 20030719, 14, 71.6177, -152.0885, 551,    214.8,  -0.5808,  34.3844, 2,  34.4308, 2,    255.3, 2,    279.7, 2,    18.54, 2,    13.55, 2,     0.00, 2,     1.19, 2,    57.50, 2,  -0.5876,     0.00, 2, 0, 2,  -999.00, 9,  -999.00, 9,   0.5900, 2, 0.000, 2, 0.140, 2, 4.092, 2
320620030705, SBI, 51, 1, 105, 5, 2, 20030719, 12, 71.6177, -152.0885, 551,    228.9,  -0.3262,  34.5187, 2,  34.5329, 2,    262.4, 2,    282.8, 2,    15.81, 2,    13.03, 2,     0.00, 2,     1.11, 2,    56.60, 2,  -0.3340,     0.01, 2, 0, 2,  -999.00, 9,  -999.00, 9,   0.6810, 2, 0.000, 2, 0.141, 2, 3.915, 2
320620030705, SBI, 51, 1, 104, 4, 2, 20030719, 9, 71.6177, -152.0885, 551,    316.6,   0.4752,  34.8039, 2,  34.8027, 2,    271.0, 2,    292.5, 2,     9.28, 2,    12.86, 2,     0.00, 2,     0.94, 2,  -999.00, 9,   0.4618,     0.00, 2, 0.01, 2,  -999.00, 9,  -999.00, 9,   0.5100, 2, 0.000, 2, 0.143, 2, 4.003, 2
320620030705, SBI, 51, 1, 103, 3, 2, 20030719, 6, 71.6177, -152.0885, 551,    398.7,   0.4362,  34.8185, 2,  34.8208, 2,    271.4, 2,    292.9, 2,     9.46, 2,    12.86, 2,     0.06, 2,     0.95, 2,  -999.00, 9,   0.4192,     0.00, 2, 0.01, 2,  -999.00, 9,  -999.00, 9,   0.8360, 2, 0.000, 2, 0.154, 2, 3.926, 2
320620030705, SBI, 51, 1, 102, 2, 2, 20030719, 3, 71.6177, -152.0885, 551,    502.7,   0.4536,  34.8373, 2,  34.8363, 2,    272.9, 2,    294.6, 2,     8.53, 2,    12.79, 2,     0.02, 2,     0.92, 2,  -999.00, 9,   0.4316,     0.01, 2, 0.01, 2,  -999.00, 9,  -999.00, 9,   0.6990, 2, 0.000, 2, 0.181, 2, 3.930, 2
320620030705, SBI, 51, 1, 101, 1, 2, 20030719, 0, 71.6177, -152.0885, 551,    550.0,   0.3686,  34.8537, 2,  34.8513, 2,    274.2, 2,    297.6, 2,     8.01, 2,    12.85, 2,     0.01, 2,     0.91, 2,  -999.00, 9,   0.3446,     0.00, 2, 0.01, 2,  -999.00, 9,  -999.00, 9,   0.4910, 2, 0.000, 2, 0.185, 2, 4.023, 2
320620030705, SBI, 52, 1, 120, 20, 2, 20030719, 245, 71.5765, -152.1225, 520,      2.3,   0.2334,  29.3286, 2,  29.3257, 2,    359.0, 2,    385.1, 2,    11.80, 2,     0.14, 2,     0.00, 2,     0.77, 2,    72.70, 2,   0.2333,     0.17, 2, 0, 2,     0.18, 2,     0.22, 2,   0.8210, 2, 0.000, 2, 4.193, 2, 4.101, 2
320620030705, SBI, 52, 1, 119, 19, 2, 20030719, 243, 71.5765, -152.1225, 520,     14.6,   0.3430,  29.5399, 2, -999.0000, 9,    358.8, 2,    386.1, 2,    13.07, 2,     0.08, 2,     0.00, 2,     0.78, 2,  -999.00, 9,   0.3426,     0.20, 2, 0.01, 2,     0.28, 2,     0.07, 2,   0.9850, 2, 0.000, 2, 3.356, 2, 4.103, 2
320620030705, SBI, 52, 1, 118, 18, 2, 20030719, 241, 71.5765, -152.1225, 520,     24.8,   1.2770,  30.5105, 2, -999.0000, 9,    375.7, 2,    402.3, 2,    24.06, 2,     0.03, 2,     0.00, 2,     0.88, 2,    73.90, 2,   1.2760,     0.08, 2, 0, 2,     0.60, 2,     0.05, 2,   1.5670, 2, 0.000, 2, 2.785, 2, 4.114, 2
320620030705, SBI, 52, 1, 117, 17, 2, 20030719, 240, 71.5765, -152.1225, 520,     41.8,  -1.4144,  31.2145, 2, -999.0000, 9,    295.3, 2,    322.2, 2,    41.31, 2,     6.78, 2,     0.17, 2,     1.59, 2,    73.50, 2,  -1.4151,     1.05, 2, 0.07, 2,     4.30, 2,     0.14, 2,   1.7770, 2, 0.000, 2, 0.887, 2, 4.116, 2
320620030705, SBI, 52, 1, 116, 16, 2, 20030719, 237, 71.5765, -152.1225, 520,     64.9,  -0.5129,  31.8045, 2, -999.0000, 9,    364.5, 2,    394.5, 2,    11.74, 2,     1.56, 2,     0.04, 2,     0.93, 2,  -999.00, 9,  -0.5146,     0.88, 2, 0.08, 2,     0.66, 2,     0.25, 2,   1.0940, 2, 0.000, 2, 0.204, 2, 4.103, 2
320620030705, SBI, 52, 1, 115, 15, 2, 20030719, 236, 71.5765, -152.1225, 520,     80.2,  -0.5708,  31.8963, 2, -999.0000, 9,    366.7, 2,    396.5, 2,     9.80, 2,     1.61, 2,     0.05, 2,     0.90, 2,    74.90, 2,  -0.5729,     0.86, 2, 0.09, 2,     0.24, 2,     0.15, 2,   1.1110, 2, 0.000, 2, 0.160, 2, 4.098, 2
320620030705, SBI, 52, 1, 114, 14, 2, 20030719, 234, 71.5765, -152.1225, 520,     95.0,  -0.8499,  31.9712, 2, -999.0000, 9,    356.6, 2,    383.5, 2,    13.68, 2,     2.87, 2,     0.07, 2,     1.06, 2,    73.30, 2,  -0.8521,     1.16, 2, 0.09, 2,  -999.00, 9,  -999.00, 9,   1.1130, 2, 0.000, 2, 0.151, 2, 4.095, 2
320620030705, SBI, 52, 1, 113, 13, 2, 20030719, 232, 71.5765, -152.1225, 520,    110.1,  -0.8447,  32.0067, 2,  32.0134, 2,    364.4, 2,    394.3, 2,    11.14, 2,     2.23, 2,     0.07, 2,     1.00, 2,    73.50, 2,  -0.8473,     1.14, 2, 0.09, 2,     0.15, 2,     0.12, 2,   1.0260, 2, 0.000, 2, 0.149, 2, 4.099, 2
320620030705, SBI, 52, 1, 112, 12, 2, 20030719, 230, 71.5765, -152.1225, 520,    125.0,  -1.1402,  32.1216, 2, -999.0000, 9,    343.9, 2,    371.0, 2,    17.63, 2,     4.06, 2,     0.12, 2,     1.23, 2,  -999.00, 9,  -1.1429,     1.62, 2, 0.1, 2,  -999.00, 9,  -999.00, 9,   1.0030, 2, 0.000, 2, 0.150, 2, 4.094, 2
320620030705, SBI, 52, 1, 111, 11, 2, 20030719, 229, 71.5765, -152.1225, 520,    139.9,  -0.5874,  32.3080, 2, -999.0000, 9,    318.8, 2,    345.6, 2,    19.50, 2,     4.43, 2,     0.13, 2,     1.27, 2,    72.70, 2,  -0.5912,     1.87, 2, 0.11, 2,  -999.00, 9,  -999.00, 9,   0.8820, 2, 0.000, 2, 0.151, 2, 4.093, 2
320620030705, SBI, 52, 1, 110, 10, 2, 20030719, 227, 71.5765, -152.1225, 520,    154.8,  -1.1929,  32.3864, 2, -999.0000, 9,    304.5, 2,    331.0, 2,    23.59, 2,     7.07, 2,     0.14, 2,     1.46, 2,    73.30, 2,  -1.1963,     1.85, 2, 0.08, 2,  -999.00, 9,  -999.00, 9,   0.9730, 2, 0.000, 2, 0.149, 2, 4.092, 2
320620030705, SBI, 52, 1, 109, 9, 2, 20030719, 225, 71.5765, -152.1225, 520,    169.7,  -1.4670,  32.6191, 2, -999.0000, 9,    287.4, 2,    303.1, 2,    27.27, 2,    11.78, 2,     0.04, 2,     1.58, 2,    71.70, 2,  -1.4704,     0.27, 2, 0.01, 2,  -999.00, 9,  -999.00, 9,   0.9360, 2, 0.000, 2, 0.148, 2, 4.094, 2
320620030705, SBI, 52, 1, 108, 8, 2, 20030719, 224, 71.5765, -152.1225, 520,    185.0,  -1.4807,  33.3989, 2, -999.0000, 9,    270.8, 2,    294.5, 2,    29.04, 2,    13.45, 2,     0.02, 2,     1.58, 2,    64.50, 2,  -1.4847,     0.00, 2, 0, 2,  -999.00, 9,  -999.00, 9,   0.8800, 2, 0.000, 2, 0.149, 2, 4.093, 2
320620030705, SBI, 52, 1, 107, 7, 2, 20030719, 222, 71.5765, -152.1225, 520,    205.4,  -0.7637,  34.3891, 2, -999.0000, 9,    268.4, 2,    289.8, 2,    18.95, 2,    13.04, 2,     0.00, 2,     1.23, 2,  -999.00, 9,  -0.7699,     0.00, 2, 0.01, 2,  -999.00, 9,  -999.00, 9,   0.8690, 2, 0.000, 2, 0.150, 2, 4.088, 2
320620030705, SBI, 52, 1, 106, 6, 2, 20030719, 220, 71.5765, -152.1225, 520,    225.5,  -0.0557,  34.6049, 2,  34.6236, 2,    261.6, 2,    283.7, 2,    14.20, 2,    12.96, 2,     0.03, 2,     1.08, 2,    60.10, 2,  -0.0640,     0.00, 2, 0.01, 2,  -999.00, 9,  -999.00, 9,   0.6150, 2, 0.000, 2, 0.151, 2, 4.080, 2
320620030705, SBI, 52, 1, 105, 5, 2, 20030719, 218, 71.5765, -152.1225, 520,    245.7,   0.2668,  34.7330, 2,  34.7419, 2,    268.1, 2,    290.0, 2,    11.45, 2,    12.92, 2,     0.02, 2,     1.01, 2,    52.70, 2,   0.2570,     0.00, 2, 0, 2,  -999.00, 9,  -999.00, 9,   0.6590, 2, 0.000, 2, 0.151, 2, 4.079, 2
320620030705, SBI, 52, 1, 104, 4, 2, 20030719, 216, 71.5765, -152.1225, 520,    275.7,   0.3236,  34.7622, 2,  34.7608, 2,    266.4, 2,    286.5, 2,    12.83, 2,    12.94, 2,     0.11, 2,     1.07, 2,  -999.00, 9,   0.3124,     0.12, 2, 0.04, 2,  -999.00, 9,  -999.00, 9,   0.6210, 2, 0.000, 2, 0.156, 2, 4.081, 2
320620030705, SBI, 52, 1, 103, 3, 2, 20030719, 212, 71.5765, -152.1225, 520,    366.1,   0.4308,  34.8129, 2,  34.8149, 2,    271.4, 2,    292.2, 2,     9.48, 2,    12.88, 2,     0.06, 2,     0.96, 2,  -999.00, 9,   0.4153,     0.00, 2, 0, 2,  -999.00, 9,  -999.00, 9,   0.5970, 2, 0.000, 2, 0.164, 2, 4.072, 2
320620030705, SBI, 52, 1, 102, 2, 2, 20030719, 209, 71.5765, -152.1225, 520,    466.6,   0.4224,  34.8373, 2,  34.8371, 2,    273.0, 2,    293.5, 2,     8.65, 2,    12.81, 2,     0.03, 2,     0.94, 2,  -999.00, 9,   0.4022,     0.05, 2, 0, 2,  -999.00, 9,  -999.00, 9,   0.8140, 2, 0.000, 2, 0.157, 2, 4.063, 2
320620030705, SBI, 52, 1, 101, 1, 2, 20030719, 206, 71.5765, -152.1225, 520,    515.1,   0.4185,  34.8433, 2,  34.8434, 2,    272.9, 2,    294.4, 2,     8.51, 2,    12.82, 2,     0.02, 2,     0.94, 2,  -999.00, 9,   0.3960,     0.05, 2, 0.01, 2,  -999.00, 9,  -999.00, 9,   0.5970, 2, 0.000, 2, 0.153, 2, 4.052, 2
320620030705, SBI, 53, 1, 116, 16, 2, 20030719, 420, 71.5266, -152.1599, 213,      3.2,   2.3808,  29.5631, 2,  29.5619, 2,    348.4, 2,    368.8, 2,    16.95, 2,     0.10, 2,     0.00, 2,     0.76, 2,    74.80, 2,   2.3807,     0.25, 2, 0.02, 2,     0.28, 2,     0.03, 2,   0.9300, 2, 0.000, 2, 3.851, 2, 4.393, 2
320620030705, SBI, 53, 1, 113, 13, 2, 20030719, 419, 71.5266, -152.1599, 213,     14.3,   2.3764,  29.5820, 2, -999.0000, 9,    349.1, 2,    369.4, 2,    16.92, 2,     0.04, 2,     0.00, 2,     0.76, 2,    74.10, 2,   2.3757,     0.25, 2, 0.02, 2,     0.29, 2,     0.02, 2,   1.1170, 2, 0.000, 2, 3.079, 2, 4.406, 2
320620030705, SBI, 53, 1, 114, 14, 2, 20030719, 419, 71.5266, -152.1599, 213,     14.3,   2.3804,  29.5673, 2, -999.0000, 9,    348.6, 2,   -999.0, 9,  -999.00, 9,  -999.00, 9,  -999.00, 9,  -999.00, 9,  -999.00, 9,   2.3797,  -999.00, 9, -999, 9,  -999.00, 9,  -999.00, 9,   1.0630, 2, 0.000, 2, 3.072, 2, 4.398, 2
320620030705, SBI, 53, 1, 115, 15, 2, 20030719, 419, 71.5266, -152.1599, 213,     14.3,   2.3813,  29.5819, 2, -999.0000, 9,    348.4, 2,   -999.0, 9,  -999.00, 9,  -999.00, 9,  -999.00, 9,  -999.00, 9,  -999.00, 9,   2.3806,  -999.00, 9, -999, 9,  -999.00, 9,  -999.00, 9,   1.0180, 2, 0.000, 2, 3.102, 2, 4.395, 2
320620030705, SBI, 53, 1, 112, 12, 2, 20030719, 418, 71.5266, -152.1599, 213,     29.5,   3.0673,  31.0062, 2, -999.0000, 9,    344.0, 2,    361.7, 2,    10.05, 2,     0.25, 2,     0.01, 2,     0.73, 2,    71.20, 2,   3.0657,     0.69, 2, 0.07, 2,     0.12, 2,     0.03, 2,   0.9470, 2, 0.000, 2, 2.352, 2, 4.403, 2
320620030705, SBI, 53, 1, 111, 11, 2, 20030719, 416, 71.5266, -152.1599, 213,     44.4,   1.9742,  31.3733, 2, -999.0000, 9,    350.0, 2,    368.8, 2,     9.05, 2,     0.68, 2,     0.02, 2,     0.75, 2,  -999.00, 9,   1.9721,     0.78, 2, 0.09, 2,     0.14, 2,     0.08, 2,   0.8580, 2, 0.000, 2, 1.611, 2, 4.389, 2
320620030705, SBI, 53, 1, 110, 10, 2, 20030719, 415, 71.5266, -152.1599, 213,     59.5,   0.4960,  31.6107, 2, -999.0000, 9,    361.9, 2,    388.3, 2,     9.98, 2,     0.99, 2,     0.04, 2,     0.85, 2,    71.40, 2,   0.4940,     0.87, 2, 0.09, 2,  -999.00, 9,  -999.00, 9,   0.8900, 2, 0.000, 2, 0.886, 2, 4.340, 2
320620030705, SBI, 53, 1, 109, 9, 2, 20030719, 414, 71.5266, -152.1599, 213,     74.4,   0.1445,  31.7914, 2, -999.0000, 9,    357.3, 2,    388.1, 2,    12.75, 2,     1.46, 2,     0.05, 2,     1.00, 2,    71.00, 2,   0.1421,     1.39, 2, 0.13, 2,  -999.00, 9,  -999.00, 9,   0.9880, 2, 0.000, 2, 0.401, 2, 4.352, 2
320620030705, SBI, 53, 1, 108, 8, 2, 20030719, 412, 71.5266, -152.1599, 213,     89.6,  -0.6443,  31.8936, 2, -999.0000, 9,    371.8, 2,    401.4, 2,    10.62, 2,     1.52, 2,     0.05, 2,     0.99, 2,  -999.00, 9,  -0.6466,     1.14, 2, 0.11, 2,  -999.00, 9,  -999.00, 9,   1.0230, 2, 0.000, 2, 0.220, 2, 4.345, 2
320620030705, SBI, 53, 1, 107, 7, 2, 20030719, 411, 71.5266, -152.1599, 213,    104.6,  -0.8728,  31.9754, 2,  31.9994, 2,    348.6, 2,    385.2, 2,    14.99, 2,     3.24, 2,     0.11, 2,     1.13, 2,    70.60, 2,  -0.8753,     1.18, 2, 0.09, 2,     0.16, 2,     0.17, 2,   0.9850, 2, 0.000, 2, 0.172, 2, 4.326, 2
320620030705, SBI, 53, 1, 106, 6, 2, 20030719, 409, 71.5266, -152.1599, 213,    124.5,  -1.0549,  32.0662, 2, -999.0000, 9,    365.3, 2,    393.4, 2,    12.76, 2,     2.61, 2,     0.09, 2,     1.08, 2,    71.70, 2,  -1.0577,     1.37, 2, 0.1, 2,  -999.00, 9,  -999.00, 9,   1.0250, 2, 0.000, 2, 0.158, 2, 4.313, 2
320620030705, SBI, 53, 1, 105, 5, 2, 20030719, 408, 71.5266, -152.1599, 213,    144.3,  -1.2536,  32.2308, 2, -999.0000, 9,    324.3, 2,    350.1, 2,    21.95, 2,     5.61, 2,     0.15, 2,     1.37, 2,    72.80, 2,  -1.2566,     2.02, 2, 0.12, 2,     0.18, 2,     0.24, 2,   1.1480, 2, 0.000, 2, 0.156, 2, 4.302, 2
320620030705, SBI, 53, 1, 104, 4, 2, 20030719, 407, 71.5266, -152.1599, 213,    164.4,  -1.4271,  32.4657, 2, -999.0000, 9,    284.2, 2,    310.1, 2,    25.24, 2,    10.73, 2,     0.05, 2,     1.57, 2,    66.40, 2,  -1.4304,     0.32, 2, 0.02, 2,  -999.00, 9,  -999.00, 9,   0.7490, 2, 0.000, 2, 0.158, 2, 4.333, 2
320620030705, SBI, 53, 1, 103, 3, 2, 20030719, 405, 71.5266, -152.1599, 213,    179.4,  -1.3911,  33.1463, 2, -999.0000, 9,    272.8, 2,    297.1, 2,    28.71, 2,    12.80, 2,     0.06, 2,     1.59, 2,    62.90, 2,  -1.3950,     0.20, 2, 0.03, 2,  -999.00, 9,  -999.00, 9,   0.7890, 2, 0.000, 2, 0.157, 2, 4.339, 2
320620030705, SBI, 53, 1, 102, 2, 2, 20030719, 404, 71.5266, -152.1599, 213,    194.3,  -0.4404,  34.4541, 2,  34.4414, 2,    264.5, 2,    285.6, 2,    18.72, 2,    13.22, 2,     0.05, 2,     1.22, 2,    55.50, 2,  -0.4468,     0.04, 2, 0.02, 2,  -999.00, 9,  -999.00, 9,   0.6340, 2, 0.000, 2, 0.154, 2, 4.357, 2
320620030705, SBI, 53, 1, 101, 1, 2, 20030719, 402, 71.5266, -152.1599, 213,    208.3,  -0.0051,  34.6300, 2,  34.6069, 2,    265.4, 2,    285.6, 2,    15.78, 2,    13.06, 2,     0.10, 2,     1.13, 2,    54.10, 2,  -0.0128,     0.08, 2, 0.04, 2,  -999.00, 9,  -999.00, 9,   0.8580, 2, 0.000, 2, 0.155, 2, 4.348, 2