BOTTLE,20100423CCHDOSIODBK
EXPOCODE,SECT_ID,STNNBR,CASTNO,SAMPNO,BTLNBR,BTLNBR_FLAG_W,DATE,TIME,LATITUDE,LONGITUDE,DEPTH,CTDPRS,CTDTMP,CTDSAL,CTDSAL_FLAG_W,SALNTY,SALNTY_FLAG_W,CTDOXY,CTDOXY_FLAG_W,OXYGEN,OXYGEN_FLAG_W,SILCAT,SILCAT_FLAG_W,NITRAT,NITRAT_FLAG_W,NITRIT,NITRIT_FLAG_W,PHSPHT,PHSPHT_FLAG_W,DOC,DOC_FLAG_W,THETA,NH4,NH4_FLAG_W,UREA,UREA_FLAG_W,CHLORA,CHLORA_FLAG_W,PPHYTN,PPHYTN_FLAG_W,FLUOR,FLUOR_FLAG_W,HAARDT,HAARDT_FLAG_W,PAR,PAR_FLAG_W,SPAR,SPAR_FLAG_W
,,,,,,,,,,,METERS,DBAR,ITS-90,PSS-78,,PSS-78,,UMOL/KG,,UMOL/KG,,UMOL/KG,,UMOL/KG,,UMOL/KG,,UMOL/KG,,UMOL/KG,,DEG C,UMOL/KG,,UMOL/KG,,UG/KG,,UG/KG,,MG/M^3,,VOLTS,,VOLTS,,VOLTS,
320620030705, SBI, 45, 1, 124, 24, 2, 20030718, 7, 71.9202, -151.8292, 2021,      1.8,   0.5401,  28.7614, 2,  29.0494, 2,    343.2, 2,    379.1, 2,    11.36, 2,     0.13, 2,     0.00, 2,     0.79, 2,    72.90, 2,   0.5400,     0.46, 2, 0.03, 2,     0.17, 2,     0.06, 2,   0.6830, 2, -999.000, 2, -999.000, 9, 4.606, 2
320620030705, SBI, 45, 1, 123, 23, 2, 20030718, 5, 71.9202, -151.8292, 2021,     19.4,  -1.3424,  31.0711, 2, -999.0000, 9,    362.6, 2,    396.8, 2,    10.76, 2,     0.84, 2,     0.06, 2,     0.92, 2,    71.40, 2,  -1.3427,     0.26, 2, 0.04, 2,     1.14, 2,     0.14, 2,   1.1460, 2, -999.000, 2, -999.000, 9, 4.547, 2
320620030705, SBI, 45, 1, 122, 22, 2, 20030718, 3, 71.9202, -151.8292, 2021,     32.3,   0.0222,  31.6281, 2, -999.0000, 9,    359.8, 2,    395.0, 2,    14.44, 2,     1.29, 2,     0.04, 2,     1.01, 2,    71.90, 2,   0.0212,     0.96, 2, 0.11, 2,     0.40, 2,     0.18, 2,   1.5840, 2, -999.000, 2, -999.000, 9, 4.499, 2
320620030705, SBI, 45, 1, 121, 21, 2, 20030718, 2, 71.9202, -151.8292, 2021,     51.5,  -0.4882,  31.8481, 2, -999.0000, 9,    366.9, 2,    394.5, 2,    12.34, 2,     1.66, 2,     0.06, 2,     1.02, 2,  -999.00, 9,  -0.4895,     1.19, 2, 0.13, 2,     0.16, 2,     0.14, 2,   0.9970, 2, -999.000, 2, -999.000, 9, 4.522, 2
320620030705, SBI, 45, 1, 120, 20, 2, 20030718, 0, 71.9202, -151.8292, 2021,     67.0,  -1.1899,  32.0552, 2, -999.0000, 9,    324.0, 2,    349.3, 2,    22.12, 2,     5.93, 2,     0.16, 2,     1.34, 2,    68.80, 2,  -1.1913,     1.05, 2, 0.07, 2,     0.10, 2,     0.19, 2,   0.9490, 2, -999.000, 2, -999.000, 9, 4.514, 2
320620030705, SBI, 45, 1, 119, 19, 2, 20030718, 2358, 71.9202, -151.8292, 2021,     92.0,  -0.9583,  32.3077, 2, -999.0000, 9,    317.5, 2,    338.6, 2,    21.64, 2,     6.08, 2,     0.13, 2,     1.35, 2,    69.50, 2,  -0.9604,     1.23, 2, 0.08, 2,     0.07, 2,     0.15, 2,   0.9500, 2, -999.000, 2, -999.000, 9, 4.481, 2
320620030705, SBI, 45, 1, 118, 18, 2, 20030718, 2356, 71.9202, -151.8292, 2021,    107.2,  -1.3036,  32.4041, 2, -999.0000, 9,    303.4, 2,    330.7, 2,    23.40, 2,     7.65, 2,     0.10, 2,     1.44, 2,    67.60, 2,  -1.3058,     0.96, 2, 0.05, 2,     0.05, 2,     0.11, 2,   0.7630, 2, -999.000, 2, -999.000, 9, 4.490, 2
320620030705, SBI, 45, 1, 117, 17, 2, 20030718, 2355, 71.9202, -151.8292, 2021,    122.1,  -1.5533,  32.5251, 2, -999.0000, 9,    296.3, 2,    326.1, 2,    24.76, 2,     8.53, 2,     0.07, 2,     1.50, 2,  -999.00, 9,  -1.5556,     0.59, 2, 0.02, 2,  -999.00, 9,  -999.00, 9,   0.9670, 2, -999.000, 2, -999.000, 9, 4.474, 2
320620030705, SBI, 45, 1, 116, 16, 2, 20030718, 2354, 71.9202, -151.8292, 2021,    136.7,  -1.5579,  32.7521, 2, -999.0000, 9,    273.7, 2,    302.1, 2,    29.97, 2,    12.60, 2,     0.02, 2,     1.66, 2,    62.50, 2,  -1.5605,     0.01, 2, 0.02, 2,  -999.00, 9,  -999.00, 9,   0.6810, 2, -999.000, 2, -999.000, 9, 4.468, 2
320620030705, SBI, 45, 1, 115, 15, 2, 20030718, 2352, 71.9202, -151.8292, 2021,    152.4,  -1.5925,  33.0506, 2, -999.0000, 9,    275.4, 2,    301.4, 2,    31.23, 2,    13.02, 2,     0.01, 2,     1.66, 2,    64.50, 2,  -1.5955,     0.01, 2, 0.02, 2,  -999.00, 9,  -999.00, 9,   0.6790, 2, -999.000, 2, -999.000, 9, 4.465, 2
320620030705, SBI, 45, 1, 114, 14, 2, 20030718, 2350, 71.9202, -151.8292, 2021,    172.1,  -1.4483,  33.5688, 2, -999.0000, 9,    272.0, 2,    298.1, 2,    29.92, 2,    13.17, 2,     0.01, 2,     1.58, 2,    62.50, 2,  -1.4521,     0.01, 2, 0.02, 2,  -999.00, 9,  -999.00, 9,   0.8790, 2, -999.000, 2, -999.000, 9, 4.502, 2
320620030705, SBI, 45, 1, 113, 13, 2, 20030718, 2349, 71.9202, -151.8292, 2021,    177.4,  -1.4461,  33.7480, 2, -999.0000, 9,    278.3, 2,    299.6, 2,    28.33, 2,    13.01, 2,     0.01, 2,     1.53, 2,  -999.00, 9,  -1.4501,     0.01, 2, 0.03, 2,  -999.00, 9,  -999.00, 9,   0.9260, 2, -999.000, 2, -999.000, 9, 4.489, 2
320620030705, SBI, 45, 1, 112, 12, 2, 20030718, 2348, 71.9202, -151.8292, 2021,    192.4,  -1.0896,  34.0975, 2, -999.0000, 9,    265.1, 2,    294.3, 2,    25.10, 2,    13.26, 2,     0.01, 2,     1.43, 2,    61.20, 2,  -1.0947,     0.00, 2, 0.03, 2,  -999.00, 9,  -999.00, 9,   0.7990, 2, -999.000, 2, -999.000, 9, 4.441, 2
320620030705, SBI, 45, 1, 111, 11, 2, 20030718, 2346, 71.9202, -151.8292, 2021,    207.4,  -0.9122,  34.3020, 2,  34.3144, 2,    272.0, 2,    291.1, 2,    21.07, 2,    13.16, 2,     0.01, 2,     1.33, 2,    57.00, 2,  -0.9181,     0.00, 2, 0.03, 2,     0.00, 2,     0.06, 2,   0.9150, 2, -999.000, 2, -999.000, 9, 4.381, 2
320620030705, SBI, 45, 1, 110, 10, 2, 20030718, 2345, 71.9202, -151.8292, 2021,    227.5,  -0.2857,  34.5305, 2,  34.5537, 2,    257.9, 2,    281.1, 2,    15.00, 2,    13.26, 2,     0.01, 2,     1.12, 2,  -999.00, 9,  -0.2936,     0.02, 2, 0.09, 2,  -999.00, 9,  -999.00, 9,   0.8010, 2, -999.000, 2, -999.000, 9, 4.253, 2
320620030705, SBI, 45, 1, 109, 9, 2, 20030718, 2343, 71.9202, -151.8292, 2021,    252.2,   0.0690,  34.6559, 2,  34.6674, 2,    262.8, 2,    284.6, 2,    12.50, 2,    13.10, 2,     0.01, 2,     1.06, 2,    55.90, 2,   0.0594,     0.00, 2, 0.04, 2,  -999.00, 9,  -999.00, 9,   0.5670, 2, -999.000, 2, -999.000, 9, 4.026, 2
320620030705, SBI, 45, 1, 108, 8, 2, 20030718, 2341, 71.9202, -151.8292, 2021,    277.3,   0.3166,  34.7210, 2,  34.7208, 2,    262.1, 2,    283.9, 2,    10.80, 2,    13.15, 2,     0.00, 2,     1.01, 2,  -999.00, 9,   0.3054,     0.00, 2, 0.02, 2,  -999.00, 9,  -999.00, 9,   0.5270, 2, -999.000, 2, -999.000, 9, 4.079, 2
320620030705, SBI, 45, 1, 107, 7, 2, 20030718, 2338, 71.9202, -151.8292, 2021,    358.1,   0.5782,  34.8083, 2,  34.8120, 2,    270.2, 2,    292.4, 2,     7.69, 2,    12.82, 2,     0.00, 2,     0.91, 2,  -999.00, 9,   0.5626,     0.00, 2, 0.01, 2,  -999.00, 9,  -999.00, 9,   0.8420, 2, -999.000, 2, -999.000, 9, 3.960, 2
320620030705, SBI, 45, 1, 106, 6, 2, 20030718, 2334, 71.9202, -151.8292, 2021,    479.3,   0.4907,  34.8349, 2,  34.8368, 2,    271.4, 2,    293.1, 2,     7.42, 2,    12.82, 2,     0.00, 2,     0.92, 2,  -999.00, 9,   0.4696,     0.01, 2, 0.06, 2,  -999.00, 9,  -999.00, 9,   0.5190, 2, -999.000, 2, -999.000, 9, 3.901, 2
320620030705, SBI, 45, 1, 105, 5, 2, 20030718, 2330, 71.9202, -151.8292, 2021,    610.2,   0.3886,  34.8556, 2,  34.8545, 2,    273.7, 2,    296.2, 2,     6.84, 2,    12.82, 2,     0.00, 2,     0.90, 2,  -999.00, 9,   0.3616,     0.00, 2, 0.03, 2,  -999.00, 9,  -999.00, 9,   0.7960, 2, -999.000, 2, -999.000, 9, 3.771, 2
320620030705, SBI, 45, 1, 104, 4, 2, 20030718, 2323, 71.9202, -151.8292, 2021,    912.4,   0.0332,  34.8766, 2,  34.8761, 2,    274.4, 2,    298.8, 2,     7.17, 2,    12.87, 2,     0.00, 2,     0.91, 2,  -999.00, 9,  -0.0070,     0.00, 2, 0.01, 2,  -999.00, 9,  -999.00, 9,   0.5400, 2, -999.000, 2, -999.000, 9, 4.061, 2
320620030705, SBI, 45, 1, 103, 3, 2, 20030718, 2311, 71.9202, -151.8292, 2021,   1416.2,  -0.3112,  34.9130, 2,  34.9133, 2,    270.7, 2,    297.1, 2,     8.83, 2,    13.60, 2,     0.00, 2,     0.97, 2,  -999.00, 9,  -0.3761,     0.00, 2, 0, 2,  -999.00, 9,  -999.00, 9,   0.5220, 2, -999.000, 2, -999.000, 9, 3.772, 2
320620030705, SBI, 45, 1, 102, 2, 2, 20030718, 2258, 71.9202, -151.8292, 2021,   1921.5,  -0.4147,  34.9466, 2,  34.9432, 2,    261.0, 2,    287.1, 2,    12.52, 2,    14.60, 2,     0.00, 2,     1.04, 2,  -999.00, 9,  -0.5097,     0.00, 2, 0, 2,  -999.00, 9,  -999.00, 9,   0.8070, 2, -999.000, 2, -999.000, 9, 4.019, 2
320620030705, SBI, 45, 1, 101, 1, 2, 20030718, 2255, 71.9202, -151.8292, 2021,   2038.1,  -0.4078,  34.9531, 2,  34.9510, 2,    257.6, 2,    283.1, 2,    14.28, 2,    14.80, 2,     0.01, 2,     1.06, 2,  -999.00, 9,  -0.5107,     0.00, 2, 0, 2,  -999.00, 9,  -999.00, 9,   0.8280, 2, -999.000, 2, -999.000, 9, 3.975, 2
320620030705, SBI, 46, 1, 124, 24, 2, 20030718, 317, 71.8693, -151.8538, 1579,      1.9,  -0.4212,  29.5142, 2,  29.5101, 2,    362.8, 2,    392.0, 2,     9.36, 2,     0.10, 2,     0.00, 2,     0.78, 2,    71.70, 2,  -0.4212,     0.21, 2, 0, 2,     0.16, 2,     0.08, 2,   0.7330, 2, -999.000, 2, -999.000, 9, 4.736, 2
320620030705, SBI, 46, 1, 123, 23, 2, 20030718, 312, 71.8693, -151.8538, 1579,     20.2,  -0.5841,  30.9157, 2, -999.0000, 9,    376.5, 2,    392.5, 2,    12.42, 2,     0.78, 2,     0.03, 2,     0.91, 2,  -999.00, 9,  -0.5846,     0.26, 2, 0.03, 2,     0.41, 2,     0.22, 2,   1.1050, 2, -999.000, 2, -999.000, 9, 4.750, 2
320620030705, SBI, 46, 1, 122, 22, 2, 20030718, 311, 71.8693, -151.8538, 1579,     35.2,  -1.0381,  31.4596, 2, -999.0000, 9,    354.1, 2,    379.0, 2,    13.63, 2,     2.11, 2,     0.08, 2,     1.07, 2,    71.90, 2,  -1.0388,     0.84, 2, 0.08, 2,     1.13, 2,     0.34, 2,   1.2160, 2, -999.000, 2, -999.000, 9, 4.751, 2
320620030705, SBI, 46, 1, 121, 21, 2, 20030718, 309, 71.8693, -151.8538, 1579,     45.1,   0.6614,  31.7027, 2, -999.0000, 9,    349.2, 2,    372.8, 2,    15.57, 2,     1.79, 2,     0.06, 2,     1.09, 2,    72.80, 2,   0.6598,     1.36, 2, 0.11, 2,     0.52, 2,     0.24, 2,   1.2540, 2, -999.000, 2, -999.000, 9, 4.751, 2
320620030705, SBI, 46, 1, 120, 20, 2, 20030718, 307, 71.8693, -151.8538, 1579,     60.2,  -0.3533,  31.9225, 2, -999.0000, 9,    338.7, 2,    363.0, 2,    18.11, 2,     3.37, 2,     0.12, 2,     1.19, 2,    72.50, 2,  -0.3550,     1.58, 2, 0.11, 2,     0.12, 2,     0.21, 2,   0.9140, 2, -999.000, 2, -999.000, 9, 4.744, 2
320620030705, SBI, 46, 1, 119, 19, 2, 20030718, 305, 71.8693, -151.8538, 1579,     77.4,  -0.8577,  32.0990, 2, -999.0000, 9,    331.1, 2,    358.2, 2,    20.46, 2,     4.68, 2,     0.15, 2,     1.27, 2,  -999.00, 9,  -0.8595,     1.54, 2, 0.08, 2,  -999.00, 9,  -999.00, 9,   0.9600, 2, -999.000, 2, -999.000, 9, 4.719, 2
320620030705, SBI, 46, 1, 118, 18, 2, 20030718, 304, 71.8693, -151.8538, 1579,     92.4,  -1.0838,  32.2027, 2, -999.0000, 9,    321.2, 2,    349.3, 2,    21.37, 2,     5.64, 2,     0.16, 2,     1.34, 2,    71.70, 2,  -1.0858,     1.52, 2, 0.07, 2,  -999.00, 9,  -999.00, 9,   0.9020, 2, -999.000, 2, -999.000, 9, 4.713, 2
320620030705, SBI, 46, 1, 117, 17, 2, 20030718, 302, 71.8693, -151.8538, 1579,    107.3,  -1.1778,  32.3823, 2, -999.0000, 9,    299.3, 2,    330.0, 2,    21.46, 2,     7.25, 2,     0.09, 2,     1.41, 2,    71.00, 2,  -1.1801,     1.02, 2, 0.07, 2,     0.06, 2,     0.13, 2,   0.7960, 2, -999.000, 2, -999.000, 9, 4.703, 2
320620030705, SBI, 46, 1, 116, 16, 2, 20030718, 301, 71.8693, -151.8538, 1579,    122.4,  -1.4751,  32.5459, 2, -999.0000, 9,    295.3, 2,    323.5, 2,    23.80, 2,     8.04, 2,     0.10, 2,     1.48, 2,    69.00, 2,  -1.4775,     0.98, 2, 0.04, 2,  -999.00, 9,  -999.00, 9,   0.7660, 2, -999.000, 2, -999.000, 9, 4.700, 2
320620030705, SBI, 46, 1, 115, 15, 2, 20030718, 259, 71.8693, -151.8538, 1579,    138.1,  -1.5822,  32.7410, 2, -999.0000, 9,    278.4, 2,    304.4, 2,    28.40, 2,    12.13, 2,     0.03, 2,     1.65, 2,  -999.00, 9,  -1.5848,     0.06, 2, 0, 2,  -999.00, 9,  -999.00, 9,   0.9110, 2, -999.000, 2, -999.000, 9, 4.695, 2
320620030705, SBI, 46, 1, 114, 14, 2, 20030718, 257, 71.8693, -151.8538, 1579,    153.1,  -1.4772,  33.2109, 2, -999.0000, 9,    269.7, 2,    293.9, 2,    31.04, 2,    13.70, 2,     0.02, 2,     1.67, 2,    63.10, 2,  -1.4804,     0.03, 2, 0.01, 2,  -999.00, 9,  -999.00, 9,   0.7270, 2, -999.000, 2, -999.000, 9, 4.698, 2
320620030705, SBI, 46, 1, 113, 13, 2, 20030718, 255, 71.8693, -151.8538, 1579,    173.1,  -1.0807,  34.1406, 2, -999.0000, 9,    267.8, 2,    290.9, 2,    24.57, 2,    13.50, 2,     0.01, 2,     1.42, 2,    60.50, 2,  -1.0853,     0.02, 2, 0.01, 2,  -999.00, 9,  -999.00, 9,   0.6720, 2, -999.000, 2, -999.000, 9, 4.695, 2
320620030705, SBI, 46, 1, 112, 12, 2, 20030718, 253, 71.8693, -151.8538, 1579,    192.9,  -0.5793,  34.4113, 2,  34.4174, 2,    260.1, 2,    283.5, 2,    19.46, 2,    13.50, 2,     0.01, 2,     1.25, 2,    59.80, 2,  -0.5854,     0.03, 2, 0.09, 2,  -999.00, 9,  -999.00, 9,   0.6530, 2, -999.000, 2, -999.000, 9, 4.685, 2
320620030705, SBI, 46, 1, 111, 11, 2, 20030718, 251, 71.8693, -151.8538, 1579,    212.3,  -0.3968,  34.5478, 2,  34.5547, 2,    267.0, 2,    288.5, 2,    17.01, 2,    13.08, 2,     0.00, 2,     1.18, 2,    58.40, 2,  -0.4039,     0.01, 2, 0.04, 2,     0.03, 2,     0.04, 2,   0.6430, 2, -999.000, 2, -999.000, 9, 4.680, 2
320620030705, SBI, 46, 1, 110, 10, 2, 20030718, 249, 71.8693, -151.8538, 1579,    232.7,  -0.0814,  34.6425, 2,  34.6501, 2,    267.1, 2,    288.6, 2,    14.55, 2,    13.03, 2,     0.00, 2,     1.10, 2,    57.70, 2,  -0.0899,     0.01, 2, 0.01, 2,  -999.00, 9,  -999.00, 9,   0.8300, 2, -999.000, 2, -999.000, 9, 4.675, 2
320620030705, SBI, 46, 1, 109, 9, 2, 20030718, 247, 71.8693, -151.8538, 1579,    268.0,   0.4629,  34.7531, 2,  34.7566, 2,    262.8, 2,    283.1, 2,    10.47, 2,    13.09, 2,     0.00, 2,     0.97, 2,  -999.00, 9,   0.4517,     0.01, 2, 0, 2,  -999.00, 9,  -999.00, 9,   0.6010, 2, -999.000, 2, -999.000, 9, 4.665, 2
320620030705, SBI, 46, 1, 108, 8, 2, 20030718, 245, 71.8693, -151.8538, 1579,    313.2,   0.5585,  34.7908, 2,  34.7938, 2,    269.8, 2,    290.9, 2,     8.93, 2,    12.91, 2,     0.03, 2,     0.94, 2,  -999.00, 9,   0.5450,     0.01, 2, 0.01, 2,  -999.00, 9,  -999.00, 9,   0.6070, 2, -999.000, 2, -999.000, 9, 4.663, 2
320620030705, SBI, 46, 1, 107, 7, 2, 20030718, 240, 71.8693, -151.8538, 1579,    459.3,   0.5139,  34.8370, 2,  34.8390, 2,    272.6, 2,    293.8, 2,     7.91, 2,    12.88, 2,     0.00, 2,     0.91, 2,  -999.00, 9,   0.4937,     0.00, 2, 0, 2,  -999.00, 9,  -999.00, 9,   0.5330, 2, -999.000, 2, -999.000, 9, 4.640, 2
320620030705, SBI, 46, 1, 106, 6, 2, 20030718, 236, 71.8693, -151.8538, 1579,    608.0,   0.3828,  34.8577, 2,  34.8582, 2,    274.6, 2,    296.7, 2,     7.29, 2,    12.83, 2,     0.00, 2,     0.89, 2,  -999.00, 9,   0.3559,     0.00, 2, 0, 2,  -999.00, 9,  -999.00, 9,   0.5900, 2, -999.000, 2, -999.000, 9, 4.599, 2
320620030705, SBI, 46, 1, 105, 5, 2, 20030718, 228, 71.8693, -151.8538, 1579,    909.5,   0.0234,  34.8774, 2,  34.8783, 2,    275.1, 2,    299.5, 2,     7.69, 2,    12.83, 2,     0.00, 2,     0.91, 2,  -999.00, 9,  -0.0166,     0.02, 2, 0, 2,  -999.00, 9,  -999.00, 9,   0.6150, 2, -999.000, 2, -999.000, 9, 4.531, 2
320620030705, SBI, 46, 1, 104, 4, 2, 20030718, 220, 71.8693, -151.8538, 1579,   1211.2,  -0.2071,  34.8988, 2,  34.8973, 2,    273.2, 2,    298.3, 2,     8.81, 2,    13.25, 2,     0.00, 2,     0.95, 2,  -999.00, 9,  -0.2614,     0.01, 2, 0, 2,  -999.00, 9,  -999.00, 9,   0.8100, 2, -999.000, 2, -999.000, 9, 4.686, 2
320620030705, SBI, 46, 1, 103, 3, 2, 20030718, 213, 71.8693, -151.8538, 1579,   1488.1,  -0.3562,  34.9214, 2,  34.9223, 2,    269.7, 2,    294.6, 2,    10.53, 2,    13.88, 2,     0.01, 2,     1.00, 2,  -999.00, 9,  -0.4248,     0.00, 2, 0, 2,  -999.00, 9,  -999.00, 9,   0.6030, 2, -999.000, 2, -999.000, 9, 4.673, 2
320620030705, SBI, 46, 1, 101, 1, 2, 20030718, 209, 71.8693, -151.8538, 1579,   1591.4,  -0.3902,  34.9303, 2,  34.9288, 2,    267.0, 2,    293.2, 2,    11.44, 2,    14.04, 2,     0.01, 2,     1.02, 2,  -999.00, 9,  -0.4646,     0.00, 2, 0, 2,  -999.00, 9,  -999.00, 9,   0.5330, 2, -999.000, 2, -999.000, 9, 4.695, 2
320620030705, SBI, 46, 1, 102, 2, 2, 20030718, 209, 71.8693, -151.8538, 1579,   1591.4,  -0.3906,  34.9306, 2, -999.0000, 9,    267.0, 2,   -999.0, 9,  -999.00, 9,  -999.00, 9,  -999.00, 9,  -999.00, 9,  -999.00, 9,  -0.4650,  -999.00, 9, -999, 9,  -999.00, 9,  -999.00, 9,   0.5390, 2, -999.000, 2, -999.000, 9, 4.695, 2