BOTTLE,20100423CCHDOSIODBK
EXPOCODE,SECT_ID,STNNBR,CASTNO,SAMPNO,BTLNBR,BTLNBR_FLAG_W,DATE,TIME,LATITUDE,LONGITUDE,DEPTH,CTDPRS,CTDTMP,CTDSAL,CTDSAL_FLAG_W,SALNTY,SALNTY_FLAG_W,CTDOXY,CTDOXY_FLAG_W,OXYGEN,OXYGEN_FLAG_W,SILCAT,SILCAT_FLAG_W,NITRAT,NITRAT_FLAG_W,NITRIT,NITRIT_FLAG_W,PHSPHT,PHSPHT_FLAG_W,DOC,DOC_FLAG_W,THETA,NH4,NH4_FLAG_W,UREA,UREA_FLAG_W,CHLORA,CHLORA_FLAG_W,PPHYTN,PPHYTN_FLAG_W,FLUOR,FLUOR_FLAG_W,HAARDT,HAARDT_FLAG_W,PAR,PAR_FLAG_W,SPAR,SPAR_FLAG_W
,,,,,,,,,,,METERS,DBAR,ITS-90,PSS-78,,PSS-78,,UMOL/KG,,UMOL/KG,,UMOL/KG,,UMOL/KG,,UMOL/KG,,UMOL/KG,,UMOL/KG,,DEG C,UMOL/KG,,UMOL/KG,,UG/KG,,UG/KG,,MG/M^3,,VOLTS,,VOLTS,,VOLTS,
320620030705, SBI, 108, 1, 121, 21, 2, 20030724, 533, 72.7990, -157.4517, 1016,      1.9,  -0.9513,  28.5409, 2,  28.6397, 2,    355.8, 2,    387.0, 2,     6.49, 2,     0.14, 2,     0.00, 2,     0.71, 2,  -999.00, 9,  -0.9513,     0.06, 2, 0, 2,     0.35, 2,     0.09, 2,   0.8890, 2, -999.000, 2, -999.000, 9, 4.707, 2
320620030705, SBI, 108, 1, 120, 20, 2, 20030724, 531, 72.7990, -157.4517, 1016,     12.9,  -0.9700,  28.7798, 2, -999.0000, 9,    358.0, 2,    396.6, 2,     6.85, 2,     0.08, 2,     0.00, 2,     0.73, 2,  -999.00, 9,  -0.9702,     0.05, 2, 0, 2,     0.62, 2,     0.12, 2,   0.9940, 2, -999.000, 2, -999.000, 9, 4.626, 2
320620030705, SBI, 108, 1, 119, 19, 2, 20030724, 529, 72.7990, -157.4517, 1016,     40.8,  -1.0964,  31.6844, 2, -999.0000, 9,    329.7, 2,    355.3, 2,    21.93, 2,     5.23, 2,     0.23, 2,     1.29, 2,  -999.00, 9,  -1.0972,     0.82, 2, 0.06, 2,     0.95, 2,     0.46, 2,   2.0300, 2, -999.000, 2, -999.000, 9, 4.611, 2
320620030705, SBI, 108, 1, 118, 18, 2, 20030724, 528, 72.7990, -157.4517, 1016,     52.9,  -1.5361,  31.8735, 2, -999.0000, 9,    317.4, 2,    347.4, 2,    25.97, 2,     6.54, 2,     0.24, 2,     1.40, 2,  -999.00, 9,  -1.5370,     0.83, 2, 0.03, 2,     0.14, 2,     0.13, 2,   0.9440, 2, -999.000, 2, -999.000, 9, 4.698, 2
320620030705, SBI, 108, 1, 117, 17, 2, 20030724, 526, 72.7990, -157.4517, 1016,     78.0,  -1.5336,  32.1636, 2, -999.0000, 9,    317.3, 2,    347.7, 2,    26.13, 2,     6.76, 2,     0.17, 2,     1.41, 2,  -999.00, 9,  -1.5350,     1.14, 2, 0.03, 2,  -999.00, 9,  -999.00, 9,   0.8590, 2, -999.000, 2, -999.000, 9, 4.694, 2
320620030705, SBI, 108, 1, 116, 16, 2, 20030724, 525, 72.7990, -157.4517, 1016,     90.9,  -1.1609,  32.3140, 2, -999.0000, 9,    310.1, 2,    338.9, 2,    24.49, 2,     6.99, 2,     0.14, 2,     1.41, 2,  -999.00, 9,  -1.1629,     1.15, 2, 0.04, 2,  -999.00, 9,  -999.00, 9,   0.8600, 2, -999.000, 2, -999.000, 9, 4.666, 2
320620030705, SBI, 108, 1, 115, 15, 2, 20030724, 524, 72.7990, -157.4517, 1016,    103.2,  -1.0519,  32.3696, 2, -999.0000, 9,    308.7, 2,    334.2, 2,    23.55, 2,     6.22, 2,     0.13, 2,     1.44, 2,  -999.00, 9,  -1.0542,     2.03, 2, 0.13, 2,  -999.00, 9,  -999.00, 9,   0.9020, 2, -999.000, 2, -999.000, 9, 4.648, 2
320620030705, SBI, 108, 1, 114, 14, 2, 20030724, 522, 72.7990, -157.4517, 1016,    118.0,  -1.4335,  32.4660, 2, -999.0000, 9,    290.7, 2,    315.8, 2,    27.69, 2,     8.81, 2,     0.16, 2,     1.62, 2,  -999.00, 9,  -1.4358,     1.99, 2, 0.1, 2,  -999.00, 9,  -999.00, 9,   0.9050, 2, -999.000, 2, -999.000, 9, 4.707, 2
320620030705, SBI, 108, 1, 113, 13, 2, 20030724, 521, 72.7990, -157.4517, 1016,    133.1,  -1.4765,  32.7049, 2, -999.0000, 9,    277.4, 2,    302.3, 2,    29.33, 2,    11.88, 2,     0.06, 2,     1.65, 2,  -999.00, 9,  -1.4791,     0.43, 2, 0.02, 2,  -999.00, 9,  -999.00, 9,   0.8690, 2, -999.000, 2, -999.000, 9, 4.706, 2
320620030705, SBI, 108, 1, 112, 12, 2, 20030724, 519, 72.7990, -157.4517, 1016,    153.2,  -1.5388,  33.0192, 2, -999.0000, 9,    267.4, 2,    292.6, 2,    32.35, 2,    14.03, 2,     0.03, 2,     1.73, 2,  -999.00, 9,  -1.5419,     0.03, 2, 0.01, 2,  -999.00, 9,  -999.00, 9,   0.7570, 2, -999.000, 2, -999.000, 9, 4.694, 2
320620030705, SBI, 108, 1, 111, 11, 2, 20030724, 518, 72.7990, -157.4517, 1016,    168.3,  -1.4504,  33.4186, 2, -999.0000, 9,    267.9, 2,    291.9, 2,    30.02, 2,    13.67, 2,     0.02, 2,     1.60, 2,  -999.00, 9,  -1.4541,     0.00, 2, 0.01, 2,  -999.00, 9,  -999.00, 9,   0.7690, 2, -999.000, 2, -999.000, 9, 4.704, 2
320620030705, SBI, 108, 1, 110, 10, 2, 20030724, 517, 72.7990, -157.4517, 1016,    183.2,  -1.1220,  34.0616, 2, -999.0000, 9,    273.7, 2,    298.1, 2,    24.90, 2,    13.01, 2,     0.01, 2,     1.43, 2,  -999.00, 9,  -1.1268,     0.00, 2, 0.01, 2,  -999.00, 9,  -999.00, 9,   0.6560, 2, -999.000, 2, -999.000, 9, 4.706, 2
320620030705, SBI, 108, 1, 109, 9, 2, 20030724, 515, 72.7990, -157.4517, 1016,    202.4,  -0.6294,  34.4217, 2,  34.4403, 2,    265.1, 2,    287.3, 2,    18.41, 2,    12.94, 2,     0.01, 2,     1.19, 2,  -999.00, 9,  -0.6357,     0.00, 2, 0.01, 2,  -999.00, 9,  -999.00, 9,   0.6610, 2, -999.000, 2, -999.000, 9, 4.691, 2
320620030705, SBI, 108, 1, 108, 8, 2, 20030724, 514, 72.7990, -157.4517, 1016,    221.7,  -0.2010,  34.5917, 2,  34.6286, 2,    266.6, 2,    286.0, 2,    14.42, 2,    12.95, 2,     0.00, 2,     1.08, 2,  -999.00, 9,  -0.2089,     0.00, 2, 0.01, 2,  -999.00, 9,  -999.00, 9,   0.6970, 2, -999.000, 2, -999.000, 9, 4.696, 2
320620030705, SBI, 108, 1, 107, 7, 2, 20030724, 513, 72.7990, -157.4517, 1016,    251.6,   0.3947,  34.7120, 2,  34.7168, 2,    262.8, 2,    283.4, 2,    11.02, 2,    13.00, 2,     0.00, 2,     0.96, 2,  -999.00, 9,   0.3844,     0.00, 2, 0.01, 2,  -999.00, 9,  -999.00, 9,   0.6830, 2, -999.000, 2, -999.000, 9, 4.619, 2
320620030705, SBI, 108, 1, 106, 6, 2, 20030724, 511, 72.7990, -157.4517, 1016,    301.1,   0.7113,  34.7987, 2,  34.8059, 2,    270.6, 2,    291.6, 2,     8.21, 2,    12.69, 2,     0.00, 2,     0.89, 2,  -999.00, 9,   0.6980,     0.00, 2, 0.01, 2,  -999.00, 9,  -999.00, 9,   0.6530, 2, -999.000, 2, -999.000, 9, 4.669, 2
320620030705, SBI, 108, 1, 105, 5, 2, 20030724, 508, 72.7990, -157.4517, 1016,    402.9,   0.6199,  34.8409, 2,  34.8409, 2,    273.9, 2,    296.0, 2,     8.07, 2,    12.69, 2,     0.00, 2,     0.88, 2,  -999.00, 9,   0.6020,     0.00, 2, 0, 2,  -999.00, 9,  -999.00, 9,   0.6950, 2, -999.000, 2, -999.000, 9, 4.660, 2
320620030705, SBI, 108, 1, 104, 4, 2, 20030724, 504, 72.7990, -157.4517, 1016,    554.1,   0.4195,  34.8544, 2,  34.8533, 2,    274.4, 2,    296.5, 2,     8.24, 2,    12.69, 2,     0.00, 2,     0.88, 2,  -999.00, 9,   0.3951,     0.00, 2, 0, 2,  -999.00, 9,  -999.00, 9,   0.5790, 2, -999.000, 2, -999.000, 9, 4.669, 2
320620030705, SBI, 108, 1, 103, 3, 2, 20030724, 459, 72.7990, -157.4517, 1016,    755.0,   0.2273,  34.8639, 2,  34.8641, 2,    276.3, 2,    299.3, 2,     7.81, 2,    12.73, 2,     0.00, 2,     0.88, 2,  -999.00, 9,   0.1939,     0.00, 2, 0, 2,  -999.00, 9,  -999.00, 9,   0.7250, 2, -999.000, 2, -999.000, 9, 4.654, 2
320620030705, SBI, 108, 1, 102, 2, 2, 20030724, 453, 72.7990, -157.4517, 1016,    955.2,   0.0009,  34.8768, 2,  34.8765, 2,    276.3, 2,    299.8, 2,     8.07, 2,    12.79, 2,     0.00, 2,     0.90, 2,  -999.00, 9,  -0.0413,     0.00, 2, 0, 2,  -999.00, 9,  -999.00, 9,   0.8840, 2, -999.000, 2, -999.000, 9, 4.700, 2
320620030705, SBI, 108, 1, 101, 1, 2, 20030724, 450, 72.7990, -157.4517, 1016,   1020.3,  -0.0860,  34.8841, 2,  34.8818, 2,    275.8, 2,    299.8, 2,     8.33, 2,    12.89, 2,     0.00, 2,     0.90, 2,  -999.00, 9,  -0.1310,     0.01, 2, 0.01, 2,  -999.00, 9,  -999.00, 9,   0.5870, 2, -999.000, 2, -999.000, 9, 4.648, 2
320620030705, SBI, 109, 1, 124, 24, 2, 20030724, 1049, 72.8408, -157.3993, 1211,      2.2,  -0.8010,  28.3396, 2, -999.0000, 9,    354.8, 2,    385.3, 2,     6.36, 2,     0.13, 2,     0.00, 2,     0.70, 2,  -999.00, 9,  -0.8010,     0.12, 2, 0, 2,  -999.00, 9,  -999.00, 9,   0.9170, 2, -999.000, 2, -999.000, 9, 4.985, 2
320620030705, SBI, 109, 1, 123, 23, 2, 20030724, 1048, 72.8408, -157.3993, 1211,     14.3,  -0.8796,  28.8297, 2, -999.0000, 9,    359.7, 2,    392.4, 2,     7.33, 2,     0.23, 2,     0.01, 2,     0.77, 2,  -999.00, 9,  -0.8798,     0.14, 2, 0, 2,  -999.00, 9,  -999.00, 9,   0.9560, 2, -999.000, 2, -999.000, 9, 4.985, 2
320620030705, SBI, 109, 1, 122, 22, 2, 20030724, 1046, 72.8408, -157.3993, 1211,     29.1,  -0.7159,  31.4785, 2, -999.0000, 9,    371.3, 2,   -999.0, 9,  -999.00, 9,  -999.00, 9,  -999.00, 9,  -999.00, 9,  -999.00, 9,  -0.7166,  -999.00, 9, -999, 9,  -999.00, 9,  -999.00, 9,   1.6390, 2, -999.000, 2, -999.000, 9, 4.984, 2
320620030705, SBI, 109, 1, 121, 21, 2, 20030724, 1046, 72.8408, -157.3993, 1211,     29.2,  -0.6860,  31.4796, 2,  31.5157, 2,    370.3, 2,    394.3, 2,    11.98, 2,     1.09, 2,     0.07, 2,     0.98, 2,  -999.00, 9,  -0.6867,     0.33, 2, 0.04, 2,  -999.00, 9,  -999.00, 9,   1.6710, 2, -999.000, 2, -999.000, 9, 4.984, 2
320620030705, SBI, 109, 1, 120, 20, 2, 20030724, 1042, 72.8408, -157.3993, 1211,     39.3,   0.1031,  31.7790, 2,  31.8056, 2,    345.4, 2,    376.2, 2,    15.85, 2,     2.40, 2,     0.10, 2,     1.10, 2,  -999.00, 9,   0.1019,     1.36, 2, 0.12, 2,  -999.00, 9,  -999.00, 9,   1.3990, 2, -999.000, 2, -999.000, 9, 4.984, 2
320620030705, SBI, 109, 1, 119, 19, 2, 20030724, 1040, 72.8408, -157.3993, 1211,     54.3,  -1.2114,  31.9132, 2, -999.0000, 9,    323.4, 2,    351.1, 2,    22.61, 2,     5.76, 2,     0.21, 2,     1.32, 2,  -999.00, 9,  -1.2125,     0.91, 2, 0.06, 2,  -999.00, 9,  -999.00, 9,   0.9010, 2, -999.000, 2, -999.000, 9, 4.983, 2
320620030705, SBI, 109, 1, 118, 18, 2, 20030724, 1038, 72.8408, -157.3993, 1211,     69.3,  -1.2542,  32.0624, 2, -999.0000, 9,    320.7, 2,    348.6, 2,    23.68, 2,     6.14, 2,     0.20, 2,     1.35, 2,  -999.00, 9,  -1.2556,     1.01, 2, 0.05, 2,  -999.00, 9,  -999.00, 9,   0.8220, 2, -999.000, 2, -999.000, 9, 4.984, 2
320620030705, SBI, 109, 1, 117, 17, 2, 20030724, 1036, 72.8408, -157.3993, 1211,     84.4,  -0.9170,  32.2366, 2, -999.0000, 9,    316.6, 2,    335.1, 2,    24.35, 2,     6.47, 2,     0.18, 2,     1.46, 2,  -999.00, 9,  -0.9190,     2.05, 2, 0.12, 2,  -999.00, 9,  -999.00, 9,   0.8920, 2, -999.000, 2, -999.000, 9, 4.984, 2
320620030705, SBI, 109, 1, 116, 16, 2, 20030724, 1034, 72.8408, -157.3993, 1211,     99.3,  -1.3792,  32.3462, 2, -999.0000, 9,    301.2, 2,    327.0, 2,    26.33, 2,     7.40, 2,     0.20, 2,     1.58, 2,  -999.00, 9,  -1.3812,     2.61, 2, 0.16, 2,  -999.00, 9,  -999.00, 9,   0.9580, 2, -999.000, 2, -999.000, 9, 4.984, 2
320620030705, SBI, 109, 1, 115, 15, 2, 20030724, 1032, 72.8408, -157.3993, 1211,    114.4,  -1.4272,  32.4046, 2, -999.0000, 9,    295.4, 2,    321.3, 2,    27.90, 2,     8.24, 2,     0.19, 2,     1.63, 2,  -999.00, 9,  -1.4294,     2.65, 2, 0.13, 2,  -999.00, 9,  -999.00, 9,   0.9760, 2, -999.000, 2, -999.000, 9, 4.983, 2
320620030705, SBI, 109, 1, 114, 14, 2, 20030724, 1030, 72.8408, -157.3993, 1211,    134.6,  -1.5343,  32.5861, 2, -999.0000, 9,    280.0, 2,    306.7, 2,    27.37, 2,    11.84, 2,     0.04, 2,     1.62, 2,  -999.00, 9,  -1.5369,     0.05, 2, 0.01, 2,  -999.00, 9,  -999.00, 9,   0.7370, 2, -999.000, 2, -999.000, 9, 4.983, 2
320620030705, SBI, 109, 1, 113, 13, 2, 20030724, 1028, 72.8408, -157.3993, 1211,    154.6,  -1.5389,  32.8725, 2, -999.0000, 9,    273.1, 2,    296.2, 2,    30.45, 2,    13.28, 2,     0.05, 2,     1.67, 2,  -999.00, 9,  -1.5420,     0.14, 2, 0.01, 2,  -999.00, 9,  -999.00, 9,   0.7300, 2, -999.000, 2, -999.000, 9, 4.983, 2
320620030705, SBI, 109, 1, 112, 12, 2, 20030724, 1026, 72.8408, -157.3993, 1211,    174.6,  -1.3553,  33.4413, 2, -999.0000, 9,    270.0, 2,    294.1, 2,    28.61, 2,    13.37, 2,     0.05, 2,     1.57, 2,  -999.00, 9,  -1.3593,     0.03, 2, 0.02, 2,  -999.00, 9,  -999.00, 9,   0.7570, 2, -999.000, 2, -999.000, 9, 4.983, 2
320620030705, SBI, 109, 1, 111, 11, 2, 20030724, 1024, 72.8408, -157.3993, 1211,    194.7,  -0.9333,  34.2648, 2, -999.0000, 9,    271.6, 2,    291.6, 2,    20.39, 2,    12.99, 2,     0.01, 2,     1.27, 2,  -999.00, 9,  -0.9388,     0.00, 2, 0.04, 2,  -999.00, 9,  -999.00, 9,   0.7530, 2, -999.000, 2, -999.000, 9, 4.983, 2
320620030705, SBI, 109, 1, 110, 10, 2, 20030724, 1022, 72.8408, -157.3993, 1211,    224.9,  -0.2290,  34.5723, 2, -999.0000, 9,    265.8, 2,    283.1, 2,    13.78, 2,    13.04, 2,     0.01, 2,     1.05, 2,  -999.00, 9,  -0.2369,     0.00, 2, 0.03, 2,  -999.00, 9,  -999.00, 9,   0.6100, 2, -999.000, 2, -999.000, 9, 4.982, 2
320620030705, SBI, 109, 1, 109, 9, 2, 20030724, 1020, 72.8408, -157.3993, 1211,    255.0,   0.2238,  34.6913, 2, -999.0000, 9,    265.6, 2,    284.9, 2,    11.06, 2,    12.94, 2,     0.01, 2,     0.97, 2,  -999.00, 9,   0.2137,     0.00, 2, 0.01, 2,  -999.00, 9,  -999.00, 9,   0.6590, 2, -999.000, 2, -999.000, 9, 4.979, 2
320620030705, SBI, 109, 1, 108, 8, 2, 20030724, 1018, 72.8408, -157.3993, 1211,    295.4,   0.6342,  34.7754, 2, -999.0000, 9,    268.5, 2,    289.9, 2,     8.44, 2,    12.78, 2,     0.00, 2,     0.90, 2,  -999.00, 9,   0.6214,     0.00, 2, 0.01, 2,  -999.00, 9,  -999.00, 9,   0.7270, 2, -999.000, 2, -999.000, 9, 4.982, 2
320620030705, SBI, 109, 1, 107, 7, 2, 20030724, 1016, 72.8408, -157.3993, 1211,    325.5,   0.7357,  34.8074, 2, -999.0000, 9,    271.3, 2,    291.4, 2,     7.83, 2,    12.73, 2,     0.00, 2,     0.88, 2,  -999.00, 9,   0.7212,     0.00, 2, 0.01, 2,  -999.00, 9,  -999.00, 9,   0.6200, 2, -999.000, 2, -999.000, 9, 4.981, 2
320620030705, SBI, 109, 1, 106, 6, 2, 20030724, 1014, 72.8408, -157.3993, 1211,    355.6,   0.7095,  34.8220, 2, -999.0000, 9,    272.4, 2,    293.5, 2,     7.70, 2,    12.73, 2,     0.00, 2,     0.88, 2,  -999.00, 9,   0.6936,     0.00, 2, 0.01, 2,  -999.00, 9,  -999.00, 9,   0.6130, 2, -999.000, 2, -999.000, 9, 4.981, 2
320620030705, SBI, 109, 1, 105, 5, 2, 20030724, 1010, 72.8408, -157.3993, 1211,    456.4,   0.5319,  34.8460, 2, -999.0000, 9,    274.5, 2,    296.1, 2,     7.48, 2,    12.73, 2,     0.00, 2,     0.87, 2,  -999.00, 9,   0.5118,     0.00, 2, 0.01, 2,  -999.00, 9,  -999.00, 9,   0.6500, 2, -999.000, 2, -999.000, 9, 4.982, 2
320620030705, SBI, 109, 1, 104, 4, 2, 20030724, 1006, 72.8408, -157.3993, 1211,    607.3,   0.3779,  34.8573, 2,  34.8560, 2,    275.3, 2,    298.2, 2,     7.35, 2,    12.73, 2,     0.00, 2,     0.87, 2,  -999.00, 9,   0.3511,     0.00, 2, 0, 2,  -999.00, 9,  -999.00, 9,   0.5830, 2, -999.000, 2, -999.000, 9, 4.982, 2
320620030705, SBI, 109, 1, 103, 3, 2, 20030724, 1000, 72.8408, -157.3993, 1211,    808.7,   0.1258,  34.8686, 2,  34.8686, 2,    276.5, 2,    300.0, 2,     7.22, 2,    12.78, 2,     0.00, 2,     0.88, 2,  -999.00, 9,   0.0903,     0.00, 2, 0, 2,  -999.00, 9,  -999.00, 9,   0.6250, 2, -999.000, 2, -999.000, 9, 4.982, 2
320620030705, SBI, 109, 1, 102, 2, 2, 20030724, 951, 72.8408, -157.3993, 1211,   1116.7,  -0.1600,  34.8912, 2,  34.8897, 2,    275.0, 2,    299.6, 2,     8.20, 2,    13.10, 2,     0.00, 2,     0.91, 2,  -999.00, 9,  -0.2095,     0.00, 2, 0, 2,  -999.00, 9,  -999.00, 9,   0.7350, 2, -999.000, 2, -999.000, 9, 4.979, 2
320620030705, SBI, 109, 1, 101, 1, 2, 20030724, 946, 72.8408, -157.3993, 1211,   1217.4,  -0.2047,  34.8969, 2,  34.8948, 2,    274.8, 2,    300.8, 2,     8.28, 2,    13.10, 2,     0.00, 2,     0.92, 2,  -999.00, 9,  -0.2593,     0.00, 2, 0, 2,  -999.00, 9,  -999.00, 9,   0.5700, 2, -999.000, 2, -999.000, 9, 4.978, 2