BOTTLE,20100423CCHDOSIODBK
EXPOCODE,SECT_ID,STNNBR,CASTNO,SAMPNO,BTLNBR,BTLNBR_FLAG_W,DATE,TIME,LATITUDE,LONGITUDE,DEPTH,CTDPRS,CTDTMP,CTDSAL,CTDSAL_FLAG_W,SALNTY,SALNTY_FLAG_W,CTDOXY,CTDOXY_FLAG_W,OXYGEN,OXYGEN_FLAG_W,SILCAT,SILCAT_FLAG_W,NITRAT,NITRAT_FLAG_W,NITRIT,NITRIT_FLAG_W,PHSPHT,PHSPHT_FLAG_W,DOC,DOC_FLAG_W,THETA,NH4,NH4_FLAG_W,UREA,UREA_FLAG_W,CHLORA,CHLORA_FLAG_W,PPHYTN,PPHYTN_FLAG_W,FLUOR,FLUOR_FLAG_W,HAARDT,HAARDT_FLAG_W,PAR,PAR_FLAG_W,SPAR,SPAR_FLAG_W
,,,,,,,,,,,METERS,DBAR,ITS-90,PSS-78,,PSS-78,,UMOL/KG,,UMOL/KG,,UMOL/KG,,UMOL/KG,,UMOL/KG,,UMOL/KG,,UMOL/KG,,DEG C,UMOL/KG,,UMOL/KG,,UG/KG,,UG/KG,,MG/M^3,,VOLTS,,VOLTS,,VOLTS,
320620030705, SBI, 102, 1, 114, 14, 2, 20030723, 1408, 72.5176, -157.8159, 183,      2.3,  -1.0838,  28.7250, 2, -999.0000, 9,    363.1, 2,    394.0, 2,     7.50, 2,     0.08, 2,     0.00, 2,     0.72, 2,  -999.00, 9,  -1.0838,     0.08, 2, 0, 2,     0.54, 2,     0.11, 2,   1.2840, 2, 0.000, 2, 2.843, 2, 4.939, 2
320620030705, SBI, 102, 1, 113, 13, 2, 20030723, 1406, 72.5176, -157.8159, 183,     13.7,  -0.7608,  29.2687, 2,  30.3073, 2,    362.9, 2,    401.8, 2,     6.10, 2,     0.06, 2,     0.02, 2,     0.76, 2,  -999.00, 9,  -0.7611,     0.07, 2, 0.01, 2,  -999.00, 9,  -999.00, 9,   1.0620, 2, 0.000, 2, 2.156, 2, 4.943, 2
320620030705, SBI, 102, 1, 112, 12, 2, 20030723, 1405, 72.5176, -157.8159, 183,     23.6,  -1.0276,  30.6898, 2, -999.0000, 9,    375.7, 2,    404.2, 2,     8.50, 2,     0.22, 2,     0.03, 2,     0.83, 2,  -999.00, 9,  -1.0280,     0.09, 2, 0.01, 2,  -999.00, 9,  -999.00, 9,   1.3400, 2, 0.000, 2, 1.742, 2, 4.944, 2
320620030705, SBI, 102, 1, 111, 11, 2, 20030723, 1403, 72.5176, -157.8159, 183,     35.6,  -0.4598,  31.4623, 2, -999.0000, 9,    357.6, 2,    370.6, 2,    18.28, 2,     2.44, 2,     0.11, 2,     1.16, 2,  -999.00, 9,  -0.4607,     0.84, 2, 0.08, 2,     0.80, 2,     0.16, 2,   1.5270, 2, 0.000, 2, 1.137, 2, 4.944, 2
320620030705, SBI, 102, 1, 110, 10, 2, 20030723, 1401, 72.5176, -157.8159, 183,     38.6,  -0.8044,  31.6156, 2, -999.0000, 9,    336.1, 2,   -999.0, 9,  -999.00, 9,  -999.00, 9,  -999.00, 9,  -999.00, 9,  -999.00, 9,  -0.8053,  -999.00, 9, -999, 9,  -999.00, 9,  -999.00, 9,   1.2600, 2, 0.000, 2, 0.851, 2, 4.938, 2
320620030705, SBI, 102, 1, 109, 9, 2, 20030723, 1358, 72.5176, -157.8159, 183,     48.4,  -0.6119,  31.8964, 2, -999.0000, 9,    323.0, 2,    349.7, 2,    22.28, 2,     5.24, 2,     0.17, 2,     1.36, 2,  -999.00, 9,  -0.6131,     1.51, 2, 0.1, 2,  -999.00, 9,  -999.00, 9,   1.0580, 2, 0.000, 2, 0.264, 2, 4.950, 2
320620030705, SBI, 102, 1, 108, 8, 2, 20030723, 1356, 72.5176, -157.8159, 183,     63.4,  -1.2391,  32.0892, 2, -999.0000, 9,    318.1, 2,    339.3, 2,    21.79, 2,     7.06, 2,     0.13, 2,     1.40, 2,  -999.00, 9,  -1.2404,     0.91, 2, 0.05, 2,  -999.00, 9,  -999.00, 9,   1.0020, 2, 0.000, 2, 0.194, 2, 4.955, 2
320620030705, SBI, 102, 1, 107, 7, 2, 20030723, 1354, 72.5176, -157.8159, 183,     78.4,  -1.2119,  32.2551, 2, -999.0000, 9,    305.9, 2,    330.6, 2,    24.40, 2,     7.26, 2,     0.14, 2,     1.48, 2,  -999.00, 9,  -1.2135,     1.80, 2, 0.11, 2,  -999.00, 9,  -999.00, 9,   0.9230, 2, 0.000, 2, 0.159, 2, 4.944, 2
320620030705, SBI, 102, 1, 106, 6, 2, 20030723, 1353, 72.5176, -157.8159, 183,     93.4,  -1.2187,  32.3971, 2, -999.0000, 9,    301.6, 2,    322.2, 2,    26.42, 2,     7.85, 2,     0.16, 2,     1.56, 2,  -999.00, 9,  -1.2207,     2.10, 2, 0.11, 2,  -999.00, 9,  -999.00, 9,   0.8610, 2, 0.000, 2, 0.144, 2, 4.942, 2
320620030705, SBI, 102, 1, 105, 5, 2, 20030723, 1351, 72.5176, -157.8159, 183,    108.5,  -1.4801,  32.5324, 2, -999.0000, 9,    283.7, 2,    307.6, 2,    28.84, 2,     9.91, 2,     0.13, 2,     1.63, 2,  -999.00, 9,  -1.4822,     1.40, 2, 0.07, 2,     0.07, 2,     0.19, 2,   0.9670, 2, 0.000, 2, 0.142, 2, 4.949, 2
320620030705, SBI, 102, 1, 104, 4, 2, 20030723, 1349, 72.5176, -157.8159, 183,    123.4,  -1.4159,  32.9364, 2, -999.0000, 9,    279.8, 2,    298.4, 2,    29.64, 2,    12.32, 2,     0.09, 2,     1.63, 2,  -999.00, 9,  -1.4185,     0.24, 2, 0.02, 2,  -999.00, 9,  -999.00, 9,   0.8510, 2, 0.000, 2, 0.143, 2, 4.958, 2
320620030705, SBI, 102, 1, 103, 3, 2, 20030723, 1347, 72.5176, -157.8159, 183,    138.4,  -1.1804,  33.9020, 2, -999.0000, 9,    274.2, 2,    295.3, 2,    25.94, 2,    13.10, 2,     0.02, 2,     1.46, 2,  -999.00, 9,  -1.1838,     0.00, 2, 0.02, 2,  -999.00, 9,  -999.00, 9,   0.7450, 2, 0.000, 2, 0.143, 2, 4.955, 2
320620030705, SBI, 102, 1, 102, 2, 2, 20030723, 1345, 72.5176, -157.8159, 183,    153.6,  -0.7286,  34.3476, 2, -999.0000, 9,    262.1, 2,    273.3, 2,    24.15, 2,    13.60, 2,     0.03, 2,     1.42, 2,  -999.00, 9,  -0.7332,     0.00, 2, 0.02, 2,  -999.00, 9,  -999.00, 9,   0.9640, 2, 0.000, 2, 0.144, 2, 4.952, 2
320620030705, SBI, 102, 1, 101, 1, 2, 20030723, 1343, 72.5176, -157.8159, 183,    179.5,   0.1080,  34.6009, 2,  34.5979, 2,    245.6, 2,    264.3, 2,    21.05, 2,    13.66, 2,     0.08, 2,     1.31, 2,    58.80, 2,   0.1012,     0.00, 2, 0.03, 2,  -999.00, 9,  -999.00, 9,   0.6850, 2, 0.000, 2, 0.145, 2, 4.949, 2
320620030705, SBI, 103, 1, 117, 17, 2, 20030723, 1608, 72.5617, -157.7666, 215,      2.4,  -1.0565,  28.7956, 2,  28.8045, 2,    359.0, 2,    390.0, 2,     6.98, 2,     0.07, 2,     0.00, 2,     0.71, 2,  -999.00, 9,  -1.0565,     0.04, 2, 0, 2,  -999.00, 9,  -999.00, 9,   1.0340, 2, 0.000, 2, 3.391, 2, 4.805, 2
320620030705, SBI, 103, 1, 116, 16, 2, 20030723, 1606, 72.5617, -157.7666, 215,     12.0,  -1.0396,  28.8336, 2, -999.0000, 9,    358.5, 2,    390.0, 2,     6.78, 2,     0.01, 2,     0.00, 2,     0.72, 2,  -999.00, 9,  -1.0398,     0.04, 2, 0, 2,  -999.00, 9,  -999.00, 9,   1.0500, 2, 0.000, 2, 2.820, 2, 4.812, 2
320620030705, SBI, 103, 1, 115, 15, 2, 20030723, 1604, 72.5617, -157.7666, 215,     26.7,  -0.3061,  31.1061, 2, -999.0000, 9,    368.1, 2,    394.3, 2,    12.60, 2,     0.62, 2,     0.05, 2,     0.95, 2,  -999.00, 9,  -0.3068,     0.32, 2, 0.04, 2,  -999.00, 9,  -999.00, 9,   1.4710, 2, 0.000, 2, 2.085, 2, 4.818, 2
320620030705, SBI, 103, 1, 112, 12, 2, 20030723, 1602, 72.5617, -157.7666, 215,     45.0,  -0.2256,  31.7954, 2, -999.0000, 9,    328.7, 2,    356.9, 2,    22.66, 2,     3.18, 2,     0.10, 2,     1.33, 2,  -999.00, 9,  -0.2269,     1.97, 2, 0.19, 2,  -999.00, 9,  -999.00, 9,   1.5970, 2, 0.000, 2, 0.918, 2, 4.799, 2
320620030705, SBI, 103, 1, 114, 14, 2, 20030723, 1602, 72.5617, -157.7666, 215,     45.0,  -0.2463,  31.7779, 2, -999.0000, 9,    328.6, 2,   -999.0, 9,  -999.00, 9,  -999.00, 9,  -999.00, 9,  -999.00, 9,  -999.00, 9,  -0.2476,  -999.00, 9, -999, 9,  -999.00, 9,  -999.00, 9,   1.5690, 2, 0.000, 2, 0.930, 2, 4.804, 2
320620030705, SBI, 103, 1, 113, 13, 2, 20030723, 1602, 72.5617, -157.7666, 215,     45.0,  -0.2582,  31.7830, 2, -999.0000, 9,    328.6, 2,   -999.0, 9,  -999.00, 9,  -999.00, 9,  -999.00, 9,  -999.00, 9,  -999.00, 9,  -0.2595,  -999.00, 9, -999, 9,  -999.00, 9,  -999.00, 9,   1.5860, 2, 0.000, 2, 0.916, 2, 4.802, 2
320620030705, SBI, 103, 1, 111, 11, 2, 20030723, 1559, 72.5617, -157.7666, 215,     57.3,  -0.7214,  32.0636, 2, -999.0000, 9,    322.0, 2,    347.1, 2,    22.57, 2,     5.05, 2,     0.13, 2,     1.35, 2,  -999.00, 9,  -0.7228,     1.90, 2, 0.12, 2,  -999.00, 9,  -999.00, 9,   0.9400, 2, 0.000, 2, 0.440, 2, 4.833, 2
320620030705, SBI, 103, 1, 110, 10, 2, 20030723, 1557, 72.5617, -157.7666, 215,     72.2,  -1.2132,  32.2230, 2, -999.0000, 9,    314.6, 2,    330.7, 2,    23.89, 2,     7.89, 2,     0.13, 2,     1.47, 2,  -999.00, 9,  -1.2147,     1.14, 2, 0.06, 2,  -999.00, 9,  -999.00, 9,   0.9470, 2, 0.000, 2, 0.222, 2, 4.834, 2
320620030705, SBI, 103, 1, 109, 9, 2, 20030723, 1556, 72.5617, -157.7666, 215,     87.3,  -1.3343,  32.3600, 2, -999.0000, 9,    300.8, 2,    320.5, 2,    26.72, 2,     8.45, 2,     0.15, 2,     1.57, 2,  -999.00, 9,  -1.3360,     1.83, 2, 0.09, 2,  -999.00, 9,  -999.00, 9,   0.9490, 2, 0.000, 2, 0.157, 2, 4.832, 2
320620030705, SBI, 103, 1, 108, 8, 2, 20030723, 1554, 72.5617, -157.7666, 215,    102.3,  -1.4664,  32.4681, 2, -999.0000, 9,    291.0, 2,    313.7, 2,    26.74, 2,     9.84, 2,     0.10, 2,     1.57, 2,  -999.00, 9,  -1.4684,     0.89, 2, 0.05, 2,  -999.00, 9,  -999.00, 9,   0.9030, 2, 0.000, 2, 0.143, 2, 4.834, 2
320620030705, SBI, 103, 1, 107, 7, 2, 20030723, 1552, 72.5617, -157.7666, 215,    117.1,  -1.5044,  32.6151, 2, -999.0000, 9,    280.3, 2,    305.8, 2,    28.67, 2,    10.99, 2,     0.09, 2,     1.62, 2,  -999.00, 9,  -1.5067,     0.60, 2, 0.03, 2,  -999.00, 9,  -999.00, 9,   0.7030, 2, 0.000, 2, 0.142, 2, 4.848, 2
320620030705, SBI, 103, 1, 106, 6, 2, 20030723, 1550, 72.5617, -157.7666, 215,    132.1,  -1.4190,  33.3288, 2, -999.0000, 9,    269.6, 2,    293.6, 2,    29.27, 2,    13.29, 2,     0.06, 2,     1.57, 2,  -999.00, 9,  -1.4219,  -999.00, 5, 0.01, 2,  -999.00, 9,  -999.00, 9,   0.8730, 2, 0.000, 2, 0.142, 2, 4.839, 2
320620030705, SBI, 103, 1, 105, 5, 2, 20030723, 1548, 72.5617, -157.7666, 215,    152.3,  -1.0852,  34.2397, 2, -999.0000, 9,    273.9, 2,    288.0, 2,    22.32, 2,    13.22, 2,     0.01, 2,     1.32, 2,  -999.00, 9,  -1.0892,  -999.00, 5, 0.01, 2,  -999.00, 9,  -999.00, 9,   0.8860, 2, 0.000, 2, 0.143, 2, 4.820, 2
320620030705, SBI, 103, 1, 104, 4, 2, 20030723, 1546, 72.5617, -157.7666, 215,    172.4,   0.0831,  34.5944, 2, -999.0000, 9,    250.8, 2,    268.2, 2,    18.49, 2,    13.52, 2,     0.02, 2,     1.19, 2,  -999.00, 9,   0.0767,  -999.00, 5, 0.01, 2,  -999.00, 9,  -999.00, 9,   0.6760, 2, 0.000, 2, 0.143, 2, 4.856, 2
320620030705, SBI, 103, 1, 103, 3, 2, 20030723, 1544, 72.5617, -157.7666, 215,    187.5,   0.2102,  34.6383, 2, -999.0000, 9,    247.8, 2,    268.5, 2,    18.41, 2,    13.46, 2,     0.03, 2,     1.18, 2,  -999.00, 9,   0.2030,  -999.00, 5, 0.02, 2,  -999.00, 9,  -999.00, 9,   0.6920, 2, 0.000, 2, 0.144, 2, 4.855, 2
320620030705, SBI, 103, 1, 102, 2, 2, 20030723, 1541, 72.5617, -157.7666, 215,    202.6,   0.3882,  34.7017, 2, -999.0000, 9,    250.2, 2,    269.2, 2,    18.52, 2,    13.44, 2,     0.05, 2,     1.18, 2,  -999.00, 9,   0.3800,  -999.00, 5, 0.02, 2,  -999.00, 9,  -999.00, 9,   0.8420, 2, 0.000, 2, 0.145, 2, 4.828, 2
320620030705, SBI, 103, 1, 101, 1, 2, 20030723, 1539, 72.5617, -157.7666, 215,    212.3,   0.4052,  34.7079, 2,  34.6950, 2,    249.6, 2,    268.6, 2,    18.93, 2,    13.43, 2,     0.06, 2,     1.18, 2,    55.40, 2,   0.3966,  -999.00, 5, 0.03, 2,  -999.00, 9,  -999.00, 9,   0.6200, 2, 0.000, 2, 0.145, 2, 4.862, 2
320620030705, SBI, 104, 1, 117, 17, 2, 20030723, 1753, 72.6120, -157.7171, 271,      2.4,  -1.0121,  28.9384, 2, -999.0000, 9,    359.8, 2,    390.2, 2,     6.41, 2,     0.14, 2,     0.00, 2,     0.71, 2,  -999.00, 9,  -1.0121,     0.06, 2, 0, 2,     0.32, 2,     0.06, 2,   0.9830, 2, 0.000, 2, 3.677, 2, 4.544, 2
320620030705, SBI, 104, 1, 116, 16, 2, 20030723, 1752, 72.6120, -157.7171, 271,     12.0,  -1.0223,  28.8473, 2, -999.0000, 9,    359.8, 2,    389.7, 2,     6.47, 2,     0.08, 2,     0.00, 2,     0.71, 2,  -999.00, 9,  -1.0225,     0.05, 2, 0, 2,  -999.00, 9,  -999.00, 9,   0.9390, 2, 0.000, 2, 3.153, 2, 4.531, 2
320620030705, SBI, 104, 1, 115, 15, 2, 20030723, 1750, 72.6120, -157.7171, 271,     22.1,  -0.6928,  30.5873, 2, -999.0000, 9,    376.7, 2,    404.7, 2,     7.22, 2,     0.25, 2,     0.04, 2,     0.80, 2,  -999.00, 9,  -0.6933,     0.07, 2, 0.01, 2,     0.88, 2,     0.18, 2,   1.2370, 2, 0.000, 2, 2.610, 2, 4.639, 2
320620030705, SBI, 104, 1, 114, 14, 2, 20030723, 1749, 72.6120, -157.7171, 271,     32.2,   0.7550,  31.4640, 2, -999.0000, 9,    364.5, 2,    390.2, 2,    18.17, 2,     0.48, 2,     0.03, 2,     1.03, 2,  -999.00, 9,   0.7538,     0.69, 2, 0.09, 2,  -999.00, 9,  -999.00, 9,   1.3090, 2, 0.000, 2, 2.094, 2, 4.703, 2
320620030705, SBI, 104, 1, 113, 13, 2, 20030723, 1747, 72.6120, -157.7171, 271,     44.4,  -0.2680,  31.7173, 2, -999.0000, 9,    347.9, 2,    363.9, 2,    20.03, 2,     2.61, 2,     0.09, 2,     1.26, 2,  -999.00, 9,  -0.2692,     1.62, 2, 0.16, 2,     4.55, 2,     0.50, 2,   2.3520, 2, 0.000, 2, 1.415, 2, 4.623, 2
320620030705, SBI, 104, 1, 112, 12, 2, 20030723, 1745, 72.6120, -157.7171, 271,     61.8,  -0.7148,  32.0301, 2,  32.0454, 2,    318.6, 2,    344.9, 2,    22.58, 2,     5.16, 2,     0.13, 2,     1.37, 2,  -999.00, 9,  -0.7163,     1.90, 2, 0.12, 2,  -999.00, 9,  -999.00, 9,   1.0200, 2, 0.000, 2, 0.480, 2, 4.628, 2
320620030705, SBI, 104, 1, 111, 11, 2, 20030723, 1743, 72.6120, -157.7171, 271,     77.1,  -0.9379,  32.2025, 2, -999.0000, 9,    320.2, 2,    341.2, 2,    22.86, 2,     6.14, 2,     0.15, 2,     1.39, 2,  -999.00, 9,  -0.9397,     1.71, 2, 0.09, 2,  -999.00, 9,  -999.00, 9,   1.0280, 2, 0.000, 2, 0.243, 2, 4.620, 2
320620030705, SBI, 104, 1, 110, 10, 2, 20030723, 1742, 72.6120, -157.7171, 271,     92.1,  -1.3519,  32.3408, 2, -999.0000, 9,    307.8, 2,    324.7, 2,    24.33, 2,     8.78, 2,     0.11, 2,     1.47, 2,  -999.00, 9,  -1.3537,     0.57, 2, 0.02, 2,  -999.00, 9,  -999.00, 9,   0.7760, 2, 0.000, 2, 0.165, 2, 4.683, 2
320620030705, SBI, 104, 1, 109, 9, 2, 20030723, 1740, 72.6120, -157.7171, 271,    107.1,  -1.4462,  32.4649, 2, -999.0000, 9,    285.1, 2,    310.6, 2,    25.71, 2,    10.52, 2,     0.07, 2,     1.59, 2,  -999.00, 9,  -1.4483,     0.60, 2, 0.02, 2,     0.09, 2,     0.14, 2,   0.7230, 2, 0.000, 2, 0.148, 2, 4.584, 2
320620030705, SBI, 104, 1, 108, 8, 2, 20030723, 1739, 72.6120, -157.7171, 271,    122.2,  -1.4768,  32.6429, 2, -999.0000, 9,    282.3, 2,    302.4, 2,    28.98, 2,    12.23, 2,     0.07, 2,     1.62, 2,  -999.00, 9,  -1.4792,     0.17, 2, 0.01, 2,  -999.00, 9,  -999.00, 9,   0.7890, 2, 0.000, 2, 0.143, 2, 4.638, 2
320620030705, SBI, 104, 1, 107, 7, 2, 20030723, 1737, 72.6120, -157.7171, 271,    137.2,  -1.4186,  33.2358, 2, -999.0000, 9,    271.5, 2,    295.6, 2,    29.45, 2,    13.08, 2,     0.07, 2,     1.59, 2,  -999.00, 9,  -1.4215,     0.04, 2, 0, 2,  -999.00, 9,  -999.00, 9,   0.9560, 2, 0.000, 2, 0.142, 2, 4.705, 2
320620030705, SBI, 104, 1, 106, 6, 2, 20030723, 1736, 72.6120, -157.7171, 271,    152.1,  -1.1383,  33.9404, 2, -999.0000, 9,    273.7, 2,    292.4, 2,    24.13, 2,    13.03, 2,     0.01, 2,     1.39, 2,  -999.00, 9,  -1.1422,     0.00, 2, 0.02, 2,  -999.00, 9,  -999.00, 9,   0.8700, 2, 0.000, 2, 0.143, 2, 4.705, 2
320620030705, SBI, 104, 1, 105, 5, 2, 20030723, 1734, 72.6120, -157.7171, 271,    172.5,  -0.2646,  34.4751, 2, -999.0000, 9,    252.8, 2,    272.3, 2,    17.70, 2,    13.43, 2,     0.01, 2,     1.16, 2,  -999.00, 9,  -0.2705,     0.00, 2, 0, 2,  -999.00, 9,  -999.00, 9,   0.8790, 2, 0.000, 2, 0.143, 2, 4.638, 2
320620030705, SBI, 104, 1, 104, 4, 2, 20030723, 1733, 72.6120, -157.7171, 271,    191.6,   0.0952,  34.6025, 2, -999.0000, 9,    255.0, 2,    275.1, 2,    14.88, 2,    13.23, 2,     0.01, 2,     1.07, 2,  -999.00, 9,   0.0880,     0.00, 2, 0, 2,  -999.00, 9,  -999.00, 9,   0.6310, 2, 0.000, 2, 0.143, 2, 4.633, 2
320620030705, SBI, 104, 1, 103, 3, 2, 20030723, 1731, 72.6120, -157.7171, 271,    213.4,   0.4044,  34.7036, 2, -999.0000, 9,    253.3, 2,    272.1, 2,    16.35, 2,    13.27, 2,     0.02, 2,     1.11, 2,  -999.00, 9,   0.3957,     0.00, 2, 0, 2,  -999.00, 9,  -999.00, 9,   0.7760, 2, 0.000, 2, 0.144, 2, 4.656, 2
320620030705, SBI, 104, 1, 102, 2, 2, 20030723, 1729, 72.6120, -157.7171, 271,    230.6,   0.5465,  34.7601, 2, -999.0000, 9,    260.5, 2,    279.9, 2,    13.42, 2,    13.00, 2,     0.03, 2,     1.01, 2,  -999.00, 9,   0.5368,     0.00, 2, 0.01, 2,  -999.00, 9,  -999.00, 9,   0.8680, 2, 0.000, 2, 0.144, 2, 4.667, 2
320620030705, SBI, 104, 1, 101, 1, 2, 20030723, 1727, 72.6120, -157.7171, 271,    267.7,   0.6304,  34.8079, 2,  34.8039, 2,    265.2, 2,    284.9, 2,    12.08, 2,    12.83, 2,     0.04, 2,     0.97, 2,    54.10, 2,   0.6188,     0.01, 2, 0.01, 2,  -999.00, 9,  -999.00, 9,   0.6880, 2, 0.000, 2, 0.145, 2, 4.703, 2