BOTTLE,20100423CCHDOSIODBK
EXPOCODE,SECT_ID,STNNBR,CASTNO,SAMPNO,BTLNBR,BTLNBR_FLAG_W,DATE,TIME,LATITUDE,LONGITUDE,DEPTH,CTDPRS,CTDTMP,CTDSAL,CTDSAL_FLAG_W,SALNTY,SALNTY_FLAG_W,CTDOXY,CTDOXY_FLAG_W,OXYGEN,OXYGEN_FLAG_W,SILCAT,SILCAT_FLAG_W,NITRAT,NITRAT_FLAG_W,NITRIT,NITRIT_FLAG_W,PHSPHT,PHSPHT_FLAG_W,DOC,DOC_FLAG_W,THETA,NH4,NH4_FLAG_W,UREA,UREA_FLAG_W,CHLORA,CHLORA_FLAG_W,PPHYTN,PPHYTN_FLAG_W,FLUOR,FLUOR_FLAG_W,HAARDT,HAARDT_FLAG_W,PAR,PAR_FLAG_W,SPAR,SPAR_FLAG_W
,,,,,,,,,,,METERS,DBAR,ITS-90,PSS-78,,PSS-78,,UMOL/KG,,UMOL/KG,,UMOL/KG,,UMOL/KG,,UMOL/KG,,UMOL/KG,,UMOL/KG,,DEG C,UMOL/KG,,UMOL/KG,,UG/KG,,UG/KG,,MG/M^3,,VOLTS,,VOLTS,,VOLTS,
320620030705, SBI, 317, 1, 124, 24, 2, 20030815, 2358, 71.4292, -149.1098, 2038,      8.5,   0.2781,  28.5571, 2,  28.5402, 2,    323.3, 2,    372.1, 2,     4.00, 2,     0.10, 2,     0.00, 2,     0.66, 2,  -999.00, 9,   0.2779,     0.02, 2, 0, 2,     0.10, 2,     0.04, 2,   0.8160, 2, -999.000, 2, -999.000, 9, 4.695, 2
320620030705, SBI, 317, 1, 123, 23, 2, 20030815, 2357, 71.4292, -149.1098, 2038,     24.7,   0.0192,  29.8159, 2, -999.0000, 9,    333.6, 2,    383.1, 2,     6.57, 2,     0.10, 2,     0.00, 2,     0.72, 2,  -999.00, 9,   0.0185,     0.02, 2, 0, 2,     0.25, 2,     0.04, 2,   0.8360, 2, -999.000, 2, -999.000, 9, 4.695, 2
320620030705, SBI, 317, 1, 122, 22, 2, 20030815, 2356, 71.4292, -149.1098, 2038,     34.6,   2.4724,  31.1621, 2, -999.0000, 9,    304.5, 2,    357.7, 2,     7.44, 2,     0.20, 2,     0.01, 2,     0.76, 2,  -999.00, 9,   2.4707,     0.52, 2, 0.05, 2,     0.53, 2,     0.08, 2,   1.0910, 2, -999.000, 2, -999.000, 9, 4.712, 2
320620030705, SBI, 317, 1, 121, 21, 2, 20030815, 2355, 71.4292, -149.1098, 2038,     44.6,   2.1860,  31.4264, 2, -999.0000, 9,    307.4, 2,    353.6, 2,     7.11, 2,     0.39, 2,     0.03, 2,     0.81, 2,  -999.00, 9,   2.1839,     0.95, 2, 0.09, 2,     1.06, 2,     0.14, 2,   1.3240, 2, -999.000, 2, -999.000, 9, 4.719, 2
320620030705, SBI, 317, 1, 120, 20, 2, 20030815, 2354, 71.4292, -149.1098, 2038,     57.5,   0.8269,  31.6773, 2, -999.0000, 9,    310.5, 2,    366.9, 2,     9.09, 2,     0.79, 2,     0.05, 2,     0.92, 2,  -999.00, 9,   0.8248,     1.37, 2, 0.15, 2,  -999.00, 9,  -999.00, 9,   0.8310, 2, -999.000, 2, -999.000, 9, 4.722, 2
320620030705, SBI, 317, 1, 119, 19, 2, 20030815, 2352, 71.4292, -149.1098, 2038,     74.5,  -0.4888,  31.8919, 2, -999.0000, 9,    278.5, 2,    356.3, 2,    13.19, 2,     4.07, 2,     0.10, 2,     1.19, 2,  -999.00, 9,  -0.4908,     0.96, 2, 0.07, 2,     0.08, 2,     0.19, 2,   0.8510, 2, -999.000, 2, -999.000, 9, 4.758, 2
320620030705, SBI, 317, 1, 118, 18, 2, 20030815, 2350, 71.4292, -149.1098, 2038,     89.7,  -1.3146,  32.1921, 2, -999.0000, 9,    269.7, 2,    319.0, 2,    18.12, 2,     8.67, 2,     0.03, 2,     1.46, 2,  -999.00, 9,  -1.3164,     0.02, 2, 0.01, 2,     0.11, 2,     0.17, 2,   1.0560, 2, -999.000, 2, -999.000, 9, 4.756, 2
320620030705, SBI, 317, 1, 117, 17, 2, 20030815, 2349, 71.4292, -149.1098, 2038,    104.6,  -1.3654,  32.4400, 2, -999.0000, 9,    255.1, 2,    298.1, 2,    25.80, 2,    12.17, 2,     0.01, 2,     1.69, 2,  -999.00, 9,  -1.3675,     0.04, 2, 0.01, 2,  -999.00, 9,  -999.00, 9,   0.6790, 2, -999.000, 2, -999.000, 9, 4.754, 2
320620030705, SBI, 317, 1, 116, 16, 2, 20030815, 2348, 71.4292, -149.1098, 2038,    119.4,  -1.5084,  32.7716, 2, -999.0000, 9,    248.8, 2,    291.2, 2,    29.53, 2,    13.54, 2,     0.01, 2,     1.76, 2,  -999.00, 9,  -1.5107,     0.02, 2, 0, 2,  -999.00, 9,  -999.00, 9,   0.5980, 2, -999.000, 2, -999.000, 9, 4.757, 2
320620030705, SBI, 317, 1, 115, 15, 2, 20030815, 2347, 71.4292, -149.1098, 2038,    134.9,  -1.5401,  32.9035, 2, -999.0000, 9,    247.3, 2,    289.5, 2,    31.95, 2,    14.32, 2,     0.02, 2,     1.81, 2,  -999.00, 9,  -1.5428,     0.02, 2, 0.01, 2,  -999.00, 9,  -999.00, 9,   0.6860, 2, -999.000, 2, -999.000, 9, 4.756, 2
320620030705, SBI, 317, 1, 114, 14, 2, 20030815, 2346, 71.4292, -149.1098, 2038,    149.9,  -1.5284,  33.0801, 2, -999.0000, 9,    243.1, 2,    286.2, 2,    33.76, 2,    15.11, 2,     0.01, 2,     1.85, 2,  -999.00, 9,  -1.5314,     0.01, 2, 0, 2,  -999.00, 9,  -999.00, 9,   0.7760, 2, -999.000, 2, -999.000, 9, 4.743, 2
320620030705, SBI, 317, 1, 113, 13, 2, 20030815, 2345, 71.4292, -149.1098, 2038,    164.5,  -1.4066,  33.3667, 2, -999.0000, 9,    239.5, 2,    278.6, 2,    33.02, 2,    15.11, 2,     0.01, 2,     1.80, 2,  -999.00, 9,  -1.4102,     0.01, 2, 0, 2,  -999.00, 9,  -999.00, 9,   0.8820, 2, -999.000, 2, -999.000, 9, 4.736, 2
320620030705, SBI, 317, 1, 112, 12, 2, 20030815, 2344, 71.4292, -149.1098, 2038,    179.9,  -1.2868,  33.7099, 2, -999.0000, 9,    243.4, 2,    281.2, 2,    29.22, 2,    14.36, 2,     0.01, 2,     1.62, 2,  -999.00, 9,  -1.2911,     0.01, 2, 0.01, 2,  -999.00, 9,  -999.00, 9,   0.8170, 2, -999.000, 2, -999.000, 9, 4.742, 2
320620030705, SBI, 317, 1, 111, 11, 2, 20030815, 2343, 71.4292, -149.1098, 2038,    195.1,  -1.0432,  34.0674, 2, -999.0000, 9,    242.6, 2,    282.0, 2,    24.82, 2,    13.88, 2,     0.01, 2,     1.48, 2,  -999.00, 9,  -1.0484,     0.00, 2, 0.02, 2,  -999.00, 9,  -999.00, 9,   0.8730, 2, -999.000, 2, -999.000, 9, 4.746, 2
320620030705, SBI, 317, 1, 110, 10, 2, 20030815, 2342, 71.4292, -149.1098, 2038,    210.2,  -0.8719,  34.2357, 2,  34.2558, 2,    240.7, 2,    279.9, 2,    21.44, 2,    13.55, 2,     0.01, 2,     1.36, 2,  -999.00, 9,  -0.8780,     0.00, 2, 0.01, 2,  -999.00, 9,  -999.00, 9,   0.8070, 2, -999.000, 2, -999.000, 9, 4.741, 2
320620030705, SBI, 317, 1, 109, 9, 2, 20030815, 2340, 71.4292, -149.1098, 2038,    229.7,  -0.4646,  34.4468, 2,  34.4595, 2,    238.8, 2,    274.9, 2,    16.95, 2,    13.39, 2,     0.01, 2,     1.20, 2,  -999.00, 9,  -0.4722,     0.00, 2, 0.02, 2,  -999.00, 9,  -999.00, 9,   0.7040, 2, -999.000, 2, -999.000, 9, 4.733, 2
320620030705, SBI, 317, 1, 108, 8, 2, 20030815, 2339, 71.4292, -149.1098, 2038,    255.3,  -0.0604,  34.5958, 2,  34.6101, 2,    240.0, 2,    276.9, 2,    13.69, 2,    13.18, 2,     0.01, 2,     1.09, 2,  -999.00, 9,  -0.0698,     0.00, 2, 0.01, 2,  -999.00, 9,  -999.00, 9,   0.6260, 2, -999.000, 2, -999.000, 9, 4.719, 2
320620030705, SBI, 317, 1, 107, 7, 2, 20030815, 2337, 71.4292, -149.1098, 2038,    305.2,   0.4090,  34.7399, 2,  34.7430, 2,    245.7, 2,    282.3, 2,    10.24, 2,    12.97, 2,     0.01, 2,     0.99, 2,  -999.00, 9,   0.3963,     0.00, 2, 0.01, 2,  -999.00, 9,  -999.00, 9,   0.4660, 2, -999.000, 2, -999.000, 9, 4.721, 2
320620030705, SBI, 317, 1, 106, 6, 2, 20030815, 2332, 71.4292, -149.1098, 2038,    506.4,   0.5030,  34.8341, 2,  34.8356, 2,    253.9, 2,    292.9, 2,     7.50, 2,    12.65, 2,     0.00, 2,     0.92, 2,  -999.00, 9,   0.4806,     0.00, 2, 0.01, 2,  -999.00, 9,  -999.00, 9,   0.5240, 2, -999.000, 2, -999.000, 9, 4.723, 2
320620030705, SBI, 317, 1, 105, 5, 2, 20030815, 2325, 71.4292, -149.1098, 2038,    809.1,   0.1818,  34.8657, 2,  34.8678, 2,    257.5, 2,    299.7, 2,     6.76, 2,    12.60, 2,     0.00, 2,     0.91, 2,  -999.00, 9,   0.1459,     0.00, 2, 0, 2,  -999.00, 9,  -999.00, 9,   0.5400, 2, -999.000, 2, -999.000, 9, 4.664, 2
320620030705, SBI, 317, 1, 104, 4, 2, 20030815, 2317, 71.4292, -149.1098, 2038,   1111.3,  -0.0940,  34.8857, 2,  34.8859, 2,    257.6, 2,    300.1, 2,     7.34, 2,    12.80, 2,     0.00, 2,     0.93, 2,  -999.00, 9,  -0.1438,     0.00, 2, 0.01, 2,  -999.00, 9,  -999.00, 9,   0.5860, 2, -999.000, 2, -999.000, 9, 4.743, 2
320620030705, SBI, 317, 1, 103, 3, 2, 20030815, 2310, 71.4292, -149.1098, 2038,   1414.9,  -0.2880,  34.9084, 2,  34.9103, 2,    256.0, 2,    297.7, 2,     8.72, 2,    13.27, 2,     0.00, 2,     0.97, 2,  -999.00, 9,  -0.3530,     0.00, 2, 0, 2,  -999.00, 9,  -999.00, 9,   0.5730, 2, -999.000, 2, -999.000, 9, 4.771, 2
320620030705, SBI, 317, 1, 102, 2, 2, 20030815, 2303, 71.4292, -149.1098, 2038,   1718.6,  -0.3882,  34.9302, 2,  34.9302, 2,    251.5, 2,    292.5, 2,    10.81, 2,    13.90, 2,     0.00, 2,     1.04, 2,  -999.00, 9,  -0.4704,     0.00, 2, 0, 2,  -999.00, 9,  -999.00, 9,   0.4950, 2, -999.000, 2, -999.000, 9, 4.685, 2
320620030705, SBI, 317, 1, 101, 1, 2, 20030815, 2255, 71.4292, -149.1098, 2038,   2064.0,  -0.4007,  34.9453, 2,  34.9469, 2,    246.6, 2,    286.8, 2,    13.41, 2,    14.37, 2,     0.01, 2,     1.08, 2,  -999.00, 9,  -0.5055,     0.01, 2, 0.01, 2,  -999.00, 9,  -999.00, 9,   0.4270, 2, -999.000, 2, -999.000, 9, 4.772, 2
320620030705, SBI, 318, 1, 124, 24, 2, 20030816, 324, 71.4782, -149.0856, 2224,      7.8,   0.4146,  28.3981, 2,  28.3978, 2,    317.7, 2,    369.0, 2,     3.81, 2,     0.10, 2,     0.00, 2,     0.66, 2,  -999.00, 9,   0.4144,     0.00, 2, 0, 2,     0.13, 2,     0.04, 2,   0.9420, 2, -999.000, 2, -999.000, 9, 4.914, 2
320620030705, SBI, 318, 1, 123, 23, 2, 20030816, 323, 71.4782, -149.0856, 2224,     14.8,   0.4127,  28.3628, 2, -999.0000, 9,    318.2, 2,    377.9, 2,     3.39, 2,     0.10, 2,     0.00, 2,     0.67, 2,  -999.00, 9,   0.4123,     0.01, 2, 0, 2,  -999.00, 9,  -999.00, 9,   0.9230, 2, -999.000, 2, -999.000, 9, 4.917, 2
320620030705, SBI, 318, 1, 122, 22, 2, 20030816, 322, 71.4782, -149.0856, 2224,     25.3,  -1.1555,  29.9631, 2, -999.0000, 9,    343.1, 2,    404.2, 2,     2.76, 2,     0.05, 2,     0.00, 2,     0.73, 2,  -999.00, 9,  -1.1559,     0.01, 2, 0, 2,  -999.00, 9,  -999.00, 9,   0.8570, 2, -999.000, 2, -999.000, 9, 4.918, 2
320620030705, SBI, 318, 1, 121, 21, 2, 20030816, 320, 71.4782, -149.0856, 2224,     39.8,   0.3437,  31.2888, 2, -999.0000, 9,    313.7, 2,    372.9, 2,     6.93, 2,     0.36, 2,     0.11, 2,     0.85, 2,  -999.00, 9,   0.3424,     0.31, 2, 0.03, 2,     0.45, 2,     0.24, 2,   1.2800, 2, -999.000, 2, -999.000, 9, 4.918, 2
320620030705, SBI, 318, 1, 120, 20, 2, 20030816, 317, 71.4782, -149.0856, 2224,     60.0,   0.0456,  31.8254, 2, -999.0000, 9,    310.8, 2,    371.4, 2,    10.40, 2,     1.65, 2,     0.09, 2,     1.02, 2,  -999.00, 9,   0.0438,     1.42, 2, 0.12, 2,  -999.00, 9,  -999.00, 9,   0.7780, 2, -999.000, 2, -999.000, 9, 4.924, 2
320620030705, SBI, 318, 1, 119, 19, 2, 20030816, 315, 71.4782, -149.0856, 2224,     74.9,  -0.7950,  32.0217, 2, -999.0000, 9,    283.4, 2,    353.4, 2,    15.71, 2,     4.93, 2,     0.13, 2,     1.26, 2,  -999.00, 9,  -0.7968,     1.02, 2, 0.06, 2,  -999.00, 9,  -999.00, 9,   0.8870, 2, -999.000, 2, -999.000, 9, 4.924, 2
320620030705, SBI, 318, 1, 118, 18, 2, 20030816, 314, 71.4782, -149.0856, 2224,     90.2,  -1.3220,  32.3568, 2, -999.0000, 9,    256.3, 2,    310.2, 2,    21.33, 2,    10.41, 2,     0.02, 2,     1.59, 2,  -999.00, 9,  -1.3238,     0.00, 2, 0, 2,  -999.00, 9,  -999.00, 9,   0.6720, 2, -999.000, 2, -999.000, 9, 4.919, 2
320620030705, SBI, 318, 1, 117, 17, 2, 20030816, 313, 71.4782, -149.0856, 2224,    105.3,  -1.3989,  32.5337, 2, -999.0000, 9,    248.9, 2,    295.3, 2,    26.77, 2,    12.73, 2,     0.01, 2,     1.74, 2,  -999.00, 9,  -1.4010,     0.00, 2, 0.06, 2,  -999.00, 9,  -999.00, 9,   0.6700, 2, -999.000, 2, -999.000, 9, 4.917, 2
320620030705, SBI, 318, 1, 116, 16, 2, 20030816, 312, 71.4782, -149.0856, 2224,    120.2,  -1.4959,  32.7227, 2, -999.0000, 9,    245.7, 2,    291.6, 2,    29.18, 2,    13.57, 2,     0.01, 2,     1.79, 2,  -999.00, 9,  -1.4983,     0.01, 2, 0, 2,  -999.00, 9,  -999.00, 9,   0.6380, 2, -999.000, 2, -999.000, 9, 4.907, 2
320620030705, SBI, 318, 1, 115, 15, 2, 20030816, 310, 71.4782, -149.0856, 2224,    135.3,  -1.5396,  32.8932, 2, -999.0000, 9,    244.5, 2,    288.3, 2,    31.59, 2,    14.36, 2,     0.01, 2,     1.82, 2,  -999.00, 9,  -1.5423,     0.01, 2, 0, 2,  -999.00, 9,  -999.00, 9,   0.6560, 2, -999.000, 2, -999.000, 9, 4.900, 2
320620030705, SBI, 318, 1, 114, 14, 2, 20030816, 309, 71.4782, -149.0856, 2224,    150.5,  -1.5391,  33.0771, 2, -999.0000, 9,    241.8, 2,    286.3, 2,    32.99, 2,    14.86, 2,     0.02, 2,     1.85, 2,  -999.00, 9,  -1.5421,     0.02, 2, 0, 2,  -999.00, 9,  -999.00, 9,   0.6990, 2, -999.000, 2, -999.000, 9, 4.895, 2
320620030705, SBI, 318, 1, 113, 13, 2, 20030816, 308, 71.4782, -149.0856, 2224,    165.6,  -1.4644,  33.3086, 2, -999.0000, 9,    237.8, 2,    282.7, 2,    32.95, 2,    14.93, 2,     0.01, 2,     1.79, 2,  -999.00, 9,  -1.4680,     0.00, 2, 0, 2,  -999.00, 9,  -999.00, 9,   0.8550, 2, -999.000, 2, -999.000, 9, 4.888, 2
320620030705, SBI, 318, 1, 112, 12, 2, 20030816, 306, 71.4782, -149.0856, 2224,    180.6,  -1.3600,  33.5078, 2, -999.0000, 9,    237.6, 2,    280.8, 2,    30.19, 2,    14.56, 2,     0.01, 2,     1.68, 2,  -999.00, 9,  -1.3641,     0.00, 2, 0, 2,  -999.00, 9,  -999.00, 9,   0.7390, 2, -999.000, 2, -999.000, 9, 4.878, 2
320620030705, SBI, 318, 1, 111, 11, 2, 20030816, 305, 71.4782, -149.0856, 2224,    195.6,  -1.1842,  33.9112, 2, -999.0000, 9,    241.9, 2,    285.2, 2,    26.60, 2,    13.81, 2,     0.02, 2,     1.55, 2,  -999.00, 9,  -1.1892,     0.00, 2, 0.01, 2,  -999.00, 9,  -999.00, 9,   0.7750, 2, -999.000, 2, -999.000, 9, 4.877, 2
320620030705, SBI, 318, 1, 110, 10, 2, 20030816, 303, 71.4782, -149.0856, 2224,    210.6,  -0.8733,  34.2728, 2,  34.2865, 2,    240.3, 2,    287.0, 2,    21.41, 2,    13.29, 2,     0.01, 2,     1.37, 2,  -999.00, 9,  -0.8794,     0.00, 2, 0.01, 2,  -999.00, 9,  -999.00, 9,   0.7980, 2, -999.000, 2, -999.000, 9, 4.862, 2
320620030705, SBI, 318, 1, 109, 9, 2, 20030816, 302, 71.4782, -149.0856, 2224,    230.8,  -0.4467,  34.4627, 2,  34.4751, 2,    233.5, 2,    278.9, 2,    16.94, 2,    13.33, 2,     0.01, 2,     1.22, 2,  -999.00, 9,  -0.4543,     0.00, 2, 0, 2,  -999.00, 9,  -999.00, 9,   0.7170, 2, -999.000, 2, -999.000, 9, 4.840, 2
320620030705, SBI, 318, 1, 108, 8, 2, 20030816, 300, 71.4782, -149.0856, 2224,    255.9,  -0.0472,  34.6062, 2,  34.6261, 2,    233.6, 2,    277.9, 2,    13.40, 2,    13.13, 2,     0.01, 2,     1.09, 2,  -999.00, 9,  -0.0567,     0.00, 2, 0, 2,  -999.00, 9,  -999.00, 9,   0.4910, 2, -999.000, 2, -999.000, 9, 4.830, 2
320620030705, SBI, 318, 1, 107, 7, 2, 20030816, 258, 71.4782, -149.0856, 2224,    306.3,   0.3782,  34.7328, 2,  34.7401, 2,    235.6, 2,    282.0, 2,    10.26, 2,    12.91, 2,     0.01, 2,     1.00, 2,  -999.00, 9,   0.3656,     0.00, 2, 0, 2,  -999.00, 9,  -999.00, 9,   0.5960, 2, -999.000, 2, -999.000, 9, 4.821, 2
320620030705, SBI, 318, 1, 106, 6, 2, 20030816, 252, 71.4782, -149.0856, 2224,    507.4,   0.5094,  34.8336, 2,  34.8362, 2,    245.6, 2,    294.5, 2,     7.53, 2,    12.66, 2,     0.00, 2,     0.93, 2,  -999.00, 9,   0.4869,     0.00, 2, 0, 2,  -999.00, 9,  -999.00, 9,   0.5420, 2, -999.000, 2, -999.000, 9, 4.824, 2
320620030705, SBI, 318, 1, 105, 5, 2, 20030816, 244, 71.4782, -149.0856, 2224,    860.0,   0.1456,  34.8672, 2,  34.8689, 2,    248.9, 2,    298.5, 2,     7.10, 2,    12.66, 2,     0.00, 2,     0.91, 2,  -999.00, 9,   0.1073,     0.00, 2, 0, 2,  -999.00, 9,  -999.00, 9,   0.4960, 2, -999.000, 2, -999.000, 9, 4.775, 2
320620030705, SBI, 318, 1, 104, 4, 2, 20030816, 236, 71.4782, -149.0856, 2224,   1213.4,  -0.1423,  34.8905, 2,  34.8913, 2,    249.6, 2,    298.8, 2,     7.97, 2,    12.81, 2,     0.00, 2,     0.96, 2,  -999.00, 9,  -0.1973,     0.01, 2, 0.01, 2,  -999.00, 9,  -999.00, 9,   0.5880, 2, -999.000, 2, -999.000, 9, 4.765, 2
320620030705, SBI, 318, 1, 103, 3, 2, 20030816, 228, 71.4782, -149.0856, 2224,   1567.3,  -0.3538,  34.9208, 2,  34.9227, 2,    250.9, 2,    294.9, 2,     9.96, 2,    13.60, 2,     0.00, 2,     1.02, 2,  -999.00, 9,  -0.4271,     0.00, 2, 0, 2,  -999.00, 9,  -999.00, 9,   0.5110, 2, -999.000, 2, -999.000, 9, 4.764, 2
320620030705, SBI, 318, 1, 102, 2, 2, 20030816, 219, 71.4782, -149.0856, 2224,   1922.0,  -0.4032,  34.9397, 2,  34.9404, 2,    243.0, 2,    289.0, 2,    12.24, 2,    14.13, 2,     0.00, 2,     1.06, 2,  -999.00, 9,  -0.4984,     0.01, 2, 0.02, 2,  -999.00, 9,  -999.00, 9,   0.6390, 2, -999.000, 2, -999.000, 9, 4.761, 2
320620030705, SBI, 318, 1, 101, 1, 2, 20030816, 211, 71.4782, -149.0856, 2224,   2248.4,  -0.3930,  34.9497, 2,  34.9503, 2,    240.3, 2,    284.4, 2,    14.02, 2,    14.49, 2,     0.01, 2,     1.08, 2,  -999.00, 9,  -0.5108,     0.01, 2, 0, 2,  -999.00, 9,  -999.00, 9,   0.5660, 2, -999.000, 2, -999.000, 9, 4.778, 2