BOTTLE,20100423CCHDOSIODBK
#BOTTLE,20081204PRINUNIVRMKPRINUNIVRMK
# 10/7/08 Initialized README file  
# Data source: http://www.eol.ucar.edu/projects/sbi 
# SHIP: N.B. Palmer 
# Cruise: NBP03-04a - part of Shelf Basin Interchange experiment 
# DATES: 7/5-8/20/2003 
# EXPOCODE: 320620030705 
# Region: North Alaska Shelf 
# Chief Scientist -J. Swift & L. Codispoti 
# 326 stations with 24 place 10L Rosette 
# Hydro: Who - J.Swift; Status - final 
# 	Notes: 	SBE 911 CTD 
# Nuts/O2: Who - L.Codispoti; Status - final 
# 	Notes: includes ammonium 
# TCO2: Who - ; Status - ; S Plus -  
# 	Notes:  
# Other: DOC, D.Hansell converted to umol/kg with assumed T of 22C 
# 	urea, fluorometer, chloroa, phaeophytin par,spar,haardt are uncalibrated 
# 	data from Hansell  
# References: 
EXPOCODE,SECT_ID,STNNBR,CASTNO,SAMPNO,BTLNBR,BTLNBR_FLAG_W,DATE,TIME,LATITUDE,LONGITUDE,DEPTH,CTDPRS,CTDTMP,CTDSAL,CTDSAL_FLAG_W,SALNTY,SALNTY_FLAG_W,CTDOXY,CTDOXY_FLAG_W,OXYGEN,OXYGEN_FLAG_W,SILCAT,SILCAT_FLAG_W,NITRAT,NITRAT_FLAG_W,NITRIT,NITRIT_FLAG_W,PHSPHT,PHSPHT_FLAG_W,DOC,DOC_FLAG_W,THETA,NH4,NH4_FLAG_W,UREA,UREA_FLAG_W,CHLORA,CHLORA_FLAG_W,PPHYTN,PPHYTN_FLAG_W,FLUOR,FLUOR_FLAG_W,HAARDT,HAARDT_FLAG_W,PAR,PAR_FLAG_W,SPAR,SPAR_FLAG_W
,,,,,,,,,,,METERS,DBAR,ITS-90,PSS-78,,PSS-78,,UMOL/KG,,UMOL/KG,,UMOL/KG,,UMOL/KG,,UMOL/KG,,UMOL/KG,,UMOL/KG,,DEG C,UMOL/KG,,UMOL/KG,,UG/KG,,UG/KG,,MG/M^3,,VOLTS,,VOLTS,,VOLTS,
320620030705, SBI, 1, 1, 106, 6, 2, 20030709, 1340, 65.6207, -168.3021, 45,      2.0,   7.8260,  30.7607, 2,  30.8317, 2,    299.1, 2,    303.7, 2,     3.80, 2,     0.22, 2,     0.03, 2,     0.74, 2,  -999.00, 9,   7.8258,     0.43, 2, 0.09, 2,     1.00, 2,     0.23, 2,   1.3860, 2, 0.007, 2, 2.109, 2, 4.988, 2
320620030705, SBI, 1, 1, 105, 5, 2, 20030709, 1336, 65.6207, -168.3021, 45,     16.6,   6.9279,  30.9726, 2,  31.0020, 2,    304.0, 2,    310.1, 2,     3.60, 2,     0.22, 2,     0.03, 2,     0.74, 2,  -999.00, 9,   6.9265,  -999.00, 5, 0.09, 2,     0.80, 2,     0.19, 2,   1.2950, 2, 0.007, 2, 0.612, 2, 4.988, 2
320620030705, SBI, 1, 1, 104, 4, 2, 20030709, 1334, 65.6207, -168.3021, 45,     26.3,   6.2575,  31.0468, 2,  31.1478, 2,    308.4, 2,    318.2, 2,     4.01, 2,     0.22, 2,     0.03, 2,     0.79, 2,  -999.00, 9,   6.2554,  -999.00, 5, 0.13, 2,     0.71, 2,     0.17, 2,   1.3010, 2, 0.007, 2, 0.225, 2, 4.988, 2
320620030705, SBI, 1, 1, 103, 3, 2, 20030709, 1330, 65.6207, -168.3021, 45,     36.0,   4.6446,  31.2577, 2,  31.2491, 2,    317.2, 2,    325.0, 2,     4.42, 2,     0.28, 2,     0.02, 2,     0.81, 2,  -999.00, 9,   4.6422,  -999.00, 5, 0.16, 2,     0.60, 2,     0.19, 2,   1.2700, 2, 0.007, 2, 0.162, 2, 4.988, 2
320620030705, SBI, 1, 1, 102, 2, 2, 20030709, 1327, 65.6207, -168.3021, 45,     40.6,   4.3960,  31.2897, 2, -999.0000, 9,    319.8, 2,   -999.0, 9,  -999.00, 9,  -999.00, 9,  -999.00, 9,  -999.00, 9,  -999.00, 9,   4.3933,  -999.00, 9, -999, 9,  -999.00, 9,  -999.00, 9,   1.2510, 2, 0.007, 2, 0.153, 2, 4.988, 2
320620030705, SBI, 1, 1, 101, 1, 2, 20030709, 1326, 65.6207, -168.3021, 45,     40.7,   4.5217,  31.2712, 2,  31.2723, 2,    319.2, 2,    325.9, 2,     4.52, 2,     0.28, 2,     0.02, 2,     0.81, 2,    73.80, 2,   4.5190,  -999.00, 5, 0.13, 2,     0.54, 2,     0.20, 2,   1.2470, 2, 0.007, 2, 0.153, 2, 4.988, 2
320620030705, SBI, 2, 1, 109, 9, 2, 20030709, 1511, 65.6395, -168.4665, 52,      2.3,   6.0596,  31.6662, 2,  31.6898, 2,    338.2, 2,    344.7, 2,     0.70, 2,     0.22, 2,     0.01, 2,     0.43, 2,  -999.00, 9,   6.0594,     0.06, 2, 0.1, 2,     0.40, 2,     0.12, 2,   1.2300, 2, 0.007, 2, 2.426, 2, 4.972, 2
320620030705, SBI, 2, 1, 108, 8, 2, 20030709, 1509, 65.6395, -168.4665, 52,     13.5,   6.7578,  32.2007, 2, -999.0000, 9,    346.9, 2,   -999.0, 9,  -999.00, 9,  -999.00, 9,  -999.00, 9,  -999.00, 9,  -999.00, 9,   6.7566,  -999.00, 9, -999, 9,  -999.00, 9,  -999.00, 9,   1.2840, 2, 0.007, 2, 1.799, 2, 4.970, 2
320620030705, SBI, 2, 1, 106, 6, 2, 20030709, 1507, 65.6395, -168.4665, 52,     13.6,   6.5532,  32.1238, 2,  32.1084, 2,    347.6, 2,    357.8, 2,     0.48, 2,     0.21, 2,     0.01, 2,     0.27, 2,  -999.00, 9,   6.5521,     0.21, 2, 0.11, 2,     0.50, 2,     0.07, 2,   1.1860, 2, 0.007, 2, 1.804, 2, 4.970, 2
320620030705, SBI, 2, 1, 107, 7, 2, 20030709, 1508, 65.6395, -168.4665, 52,     13.6,   6.7953,  32.2023, 2, -999.0000, 9,    347.2, 2,   -999.0, 9,  -999.00, 9,  -999.00, 9,  -999.00, 9,  -999.00, 9,  -999.00, 9,   6.7941,  -999.00, 9, -999, 9,  -999.00, 9,  -999.00, 9,   1.2450, 2, 0.007, 2, 1.803, 2, 4.970, 2
320620030705, SBI, 2, 1, 105, 5, 2, 20030709, 1504, 65.6395, -168.4665, 52,     23.7,   2.8892,  31.9301, 2,  31.9008, 2,    357.0, 2,    371.4, 2,     2.67, 2,     0.31, 2,     0.02, 2,     0.78, 2,  -999.00, 9,   2.8879,     0.76, 2, 0.13, 2,     0.35, 2,     0.30, 2,   1.1430, 2, 0.007, 2, 1.392, 2, 4.970, 2
320620030705, SBI, 2, 1, 104, 4, 2, 20030709, 1501, 65.6395, -168.4665, 52,     33.6,   2.3066,  31.8906, 2,  31.8870, 2,    357.1, 2,    371.7, 2,     2.88, 2,     0.26, 2,     0.02, 2,     0.81, 2,  -999.00, 9,   2.3049,     0.84, 2, 0.14, 2,     0.36, 2,     0.31, 2,   1.2100, 2, 0.007, 2, 0.859, 2, 4.968, 2
320620030705, SBI, 2, 1, 103, 3, 2, 20030709, 1459, 65.6395, -168.4665, 52,     43.7,   2.2089,  31.8870, 2,  31.8845, 2,    357.1, 2,    371.1, 2,     2.98, 2,     0.26, 2,     0.02, 2,     0.82, 2,  -999.00, 9,   2.2068,     0.89, 2, 0.21, 2,  -999.00, 9,  -999.00, 9,   1.1600, 2, 0.007, 2, 0.330, 2, 4.968, 2
320620030705, SBI, 2, 1, 101, 1, 2, 20030709, 1454, 65.6395, -168.4665, 52,     47.6,   2.1905,  31.8852, 2, -999.0000, 9,    357.3, 2,   -999.0, 9,  -999.00, 9,  -999.00, 9,  -999.00, 9,  -999.00, 9,  -999.00, 9,   2.1882,  -999.00, 9, -999, 9,  -999.00, 9,  -999.00, 9,   1.1880, 2, 0.007, 2, 0.229, 2, 4.973, 2
320620030705, SBI, 2, 1, 102, 2, 2, 20030709, 1455, 65.6395, -168.4665, 52,     47.6,   2.1988,  31.8850, 2,  31.8820, 2,    357.1, 2,    370.7, 2,     2.98, 2,     0.26, 2,     0.02, 2,     0.83, 2,    67.40, 2,   2.1965,     0.92, 2, 0.26, 2,     0.38, 2,     0.35, 2,   1.2380, 2, 0.007, 2, 0.228, 2, 4.972, 2
320620030705, SBI, 3, 1, 108, 8, 2, 20030709, 1628, 65.6579, -168.6132, 50,      2.2,   5.8390,  32.3911, 2,  32.3917, 2,    421.9, 2,    430.7, 2,     0.21, 2,     0.15, 2,     0.01, 2,     0.12, 2,  -999.00, 9,   5.8388,     0.04, 2, 0.1, 2,     0.36, 2,     0.13, 2,   1.3030, 2, 0.007, 2, 3.230, 2, 4.867, 2
320620030705, SBI, 3, 1, 106, 6, 2, 20030709, 1624, 65.6579, -168.6132, 50,     13.1,   3.1162,  32.2558, 2, -999.0000, 9,    375.6, 2,   -999.0, 9,  -999.00, 9,  -999.00, 9,  -999.00, 9,  -999.00, 9,  -999.00, 9,   3.1155,  -999.00, 9, -999, 9,  -999.00, 9,  -999.00, 9,   1.9200, 2, 0.007, 2, 2.324, 2, 4.890, 2
320620030705, SBI, 3, 1, 107, 7, 2, 20030709, 1625, 65.6579, -168.6132, 50,     13.2,   3.3594,  32.2649, 2, -999.0000, 9,    375.0, 2,   -999.0, 9,  -999.00, 9,  -999.00, 9,  -999.00, 9,  -999.00, 9,  -999.00, 9,   3.3586,  -999.00, 9, -999, 9,  -999.00, 9,  -999.00, 9,   1.8850, 2, 0.007, 2, 2.409, 2, 4.886, 2
320620030705, SBI, 3, 1, 105, 5, 2, 20030709, 1623, 65.6579, -168.6132, 50,     13.2,   3.3798,  32.2640, 2,  32.2362, 2,    375.5, 2,    380.3, 2,     1.04, 2,     0.20, 2,     0.02, 2,     0.61, 2,  -999.00, 9,   3.3790,     0.09, 2, 0.12, 2,     2.46, 2,     0.92, 2,   1.8600, 2, 0.007, 2, 2.385, 2, 4.893, 2
320620030705, SBI, 3, 1, 104, 4, 2, 20030709, 1621, 65.6579, -168.6132, 50,     19.3,   2.5701,  32.2143, 2,  32.2109, 2,    362.2, 2,    374.7, 2,     1.23, 2,     0.19, 2,     0.02, 2,     0.68, 2,  -999.00, 9,   2.5691,     0.18, 2, 0.14, 2,     2.75, 2,     1.13, 2,   1.9450, 2, 0.007, 2, 1.594, 2, 4.900, 2
320620030705, SBI, 3, 1, 103, 3, 2, 20030709, 1618, 65.6579, -168.6132, 50,     29.4,   2.2095,  32.1914, 2,  32.1911, 2,    352.6, 2,    366.0, 2,     1.13, 2,     0.20, 2,     0.02, 2,     0.74, 2,  -999.00, 9,   2.2080,     0.20, 2, 0.14, 2,     3.12, 2,     1.19, 2,   1.9850, 2, 0.007, 2, 0.444, 2, 4.908, 2
320620030705, SBI, 3, 1, 102, 2, 2, 20030709, 1615, 65.6579, -168.6132, 50,     39.8,   2.0544,  32.1923, 2,  32.1896, 2,    345.3, 2,    360.6, 2,     1.23, 2,     0.20, 2,     0.02, 2,     0.77, 2,  -999.00, 9,   2.0525,     0.27, 2, 0.16, 2,     3.50, 2,     1.34, 2,   1.9910, 2, 0.007, 2, 0.164, 2, 4.918, 2
320620030705, SBI, 3, 1, 101, 1, 2, 20030709, 1613, 65.6579, -168.6132, 50,     44.5,   2.0478,  32.1927, 2,  32.1968, 2,    344.9, 2,    361.8, 2,     1.22, 2,     0.20, 2,     0.02, 2,     0.77, 2,    75.10, 2,   2.0457,     0.24, 2, 0.16, 2,     3.27, 2,     1.26, 2,   1.9990, 2, 0.007, 2, 0.148, 2, 4.916, 2
320620030705, SBI, 4, 1, 107, 7, 2, 20030709, 1755, 65.6725, -168.7512, 50,      2.2,   5.1048,  32.5099, 2,  32.4896, 2,    432.1, 2,    432.7, 2,     0.86, 2,     1.04, 2,     0.03, 2,     0.35, 2,  -999.00, 9,   5.1046,     0.23, 2, 0.08, 2,     5.57, 2,     1.06, 2,   2.1240, 2, 0.007, 2, 3.235, 2, 4.851, 2
320620030705, SBI, 4, 1, 106, 6, 2, 20030709, 1753, 65.6725, -168.7512, 50,     12.0,   3.7829,  32.4579, 2,  32.4607, 2,    353.5, 2,    369.4, 2,     0.54, 2,     2.05, 2,     0.07, 2,     0.64, 2,  -999.00, 9,   3.7821,     0.65, 2, 0.16, 2,     7.58, 2,     1.88, 2,   2.3050, 2, 0.007, 2, 1.575, 2, 4.846, 2
320620030705, SBI, 4, 1, 105, 5, 2, 20030709, 1751, 65.6725, -168.7512, 50,     19.1,   3.4419,  32.4363, 2,  32.4385, 2,    330.3, 2,    345.6, 2,     0.43, 2,     2.65, 2,     0.08, 2,     0.78, 2,  -999.00, 9,   3.4408,     0.88, 2, 0.18, 2,     8.06, 2,     2.50, 2,   2.2930, 2, 0.007, 2, 0.516, 2, 4.866, 2
320620030705, SBI, 4, 1, 104, 4, 2, 20030709, 1747, 65.6725, -168.7512, 50,     29.1,   3.3032,  32.4295, 2,  32.4272, 2,    314.9, 2,    329.4, 2,     0.43, 2,     3.35, 2,     0.09, 2,     0.88, 2,  -999.00, 9,   3.3015,     1.08, 2, 0.2, 2,     9.13, 2,     3.19, 2,   2.3430, 2, 0.007, 2, 0.148, 2, 4.847, 2
320620030705, SBI, 4, 1, 103, 3, 2, 20030709, 1744, 65.6725, -168.7512, 50,     39.1,   3.2854,  32.4313, 2,  32.4272, 2,    316.4, 2,    325.2, 2,     0.63, 2,     3.61, 2,     0.10, 2,     0.86, 2,  -999.00, 9,   3.2831,     1.09, 2, 0.21, 2,     9.11, 2,     3.23, 2,   2.3440, 2, 0.007, 2, 0.143, 2, 4.850, 2
320620030705, SBI, 4, 1, 101, 1, 2, 20030709, 1740, 65.6725, -168.7512, 50,     44.1,   3.2226,  32.4330, 2, -999.0000, 9,    309.6, 2,   -999.0, 9,  -999.00, 9,  -999.00, 9,  -999.00, 9,  -999.00, 9,  -999.00, 9,   3.2200,  -999.00, 9, -999, 9,  -999.00, 9,  -999.00, 9,   2.3160, 2, 0.007, 2, 0.143, 2, 4.872, 2
320620030705, SBI, 4, 1, 102, 2, 2, 20030709, 1741, 65.6725, -168.7512, 50,     44.1,   3.2508,  32.4321, 2,  32.4307, 2,    312.7, 2,    323.1, 2,     0.63, 2,     3.51, 2,     0.10, 2,     0.91, 2,    65.30, 2,   3.2482,     1.18, 2, 0.21, 2,     9.75, 2,     3.16, 2,   2.3450, 2, 0.007, 2, 0.143, 2, 4.864, 2
320620030705, SBI, 5, 1, 109, 9, 2, 20030709, 1907, 65.6851, -168.8673, 48,      2.2,   5.0620,  32.5782, 2,  32.5854, 2,    432.2, 2,    453.3, 2,     1.62, 2,     0.12, 2,     0.01, 2,     0.20, 2,  -999.00, 9,   5.0618,     0.03, 2, 0.06, 2,    10.93, 2,     2.56, 2,   2.6510, 2, 0.007, 2, 3.448, 2, 4.752, 2
320620030705, SBI, 5, 1, 107, 7, 2, 20030709, 1905, 65.6851, -168.8673, 48,     12.2,   4.5854,  32.6833, 2, -999.0000, 9,    437.3, 2,   -999.0, 9,  -999.00, 9,  -999.00, 9,  -999.00, 9,  -999.00, 9,  -999.00, 9,   4.5845,  -999.00, 9, -999, 9,  -999.00, 9,  -999.00, 9,   2.7550, 2, 0.007, 2, 1.242, 2, 4.750, 2
320620030705, SBI, 5, 1, 108, 8, 2, 20030709, 1905, 65.6851, -168.8673, 48,     12.2,   4.5956,  32.6826, 2,  32.6800, 2,    437.2, 2,    457.1, 2,     1.92, 2,     0.12, 2,     0.01, 2,     0.27, 2,  -999.00, 9,   4.5947,     0.04, 2, 0.22, 2,    17.26, 2,     2.61, 2,   2.7840, 2, 0.007, 2, 1.233, 2, 4.749, 2
320620030705, SBI, 5, 1, 106, 6, 2, 20030709, 1904, 65.6851, -168.8673, 48,     12.2,   4.6107,  32.6825, 2, -999.0000, 9,    437.0, 2,   -999.0, 9,  -999.00, 9,  -999.00, 9,  -999.00, 9,  -999.00, 9,  -999.00, 9,   4.6098,  -999.00, 9, -999, 9,  -999.00, 9,  -999.00, 9,   2.7810, 2, 0.007, 2, 1.239, 2, 4.751, 2
320620030705, SBI, 5, 1, 105, 5, 2, 20030709, 1902, 65.6851, -168.8673, 48,     17.2,   4.0224,  32.7113, 2,  32.7035, 2,    420.0, 2,    408.0, 2,     7.86, 2,     2.05, 2,     0.06, 2,     0.58, 2,  -999.00, 9,   4.0213,     0.18, 2, 0.23, 2,    20.76, 2,     0.69, 2,   2.7140, 2, 0.007, 2, 0.366, 2, 4.777, 2
320620030705, SBI, 5, 1, 104, 4, 2, 20030709, 1859, 65.6851, -168.8673, 48,     27.2,   2.4755,  32.7167, 2,  32.7138, 2,    313.2, 2,    327.1, 2,    23.27, 2,    13.86, 2,     0.20, 2,     1.53, 2,  -999.00, 9,   2.4741,     2.06, 2, 0.22, 2,     5.55, 2,     0.41, 2,   1.9210, 2, 0.007, 2, 0.153, 2, 4.783, 2
320620030705, SBI, 5, 1, 103, 3, 2, 20030709, 1857, 65.6851, -168.8673, 48,     36.9,   2.1467,  32.7461, 2,  32.7421, 2,    306.6, 2,    319.9, 2,    25.15, 2,    14.13, 2,     0.19, 2,     1.65, 2,  -999.00, 9,   2.1449,     2.74, 2, 0.24, 2,     6.03, 2,     0.66, 2,   1.9010, 2, 0.007, 2, 0.143, 2, 4.792, 2
320620030705, SBI, 5, 1, 102, 2, 2, 20030709, 1855, 65.6851, -168.8673, 48,     41.9,   2.1356,  32.7457, 2,  32.7374, 2,    305.9, 2,    323.2, 2,    24.30, 2,    13.72, 2,     0.19, 2,     1.62, 2,    59.50, 2,   2.1335,     2.63, 2, 0.22, 2,     6.03, 2,     1.62, 2,   1.9780, 2, 0.007, 2, 0.143, 2, 4.808, 2
320620030705, SBI, 5, 1, 101, 1, 2, 20030709, 1854, 65.6851, -168.8673, 48,     41.9,   2.1430,  32.7455, 2, -999.0000, 9,    306.1, 2,   -999.0, 9,  -999.00, 9,  -999.00, 9,  -999.00, 9,  -999.00, 9,  -999.00, 9,   2.1409,  -999.00, 9, -999, 9,  -999.00, 9,  -999.00, 9,   1.9610, 2, 0.007, 2, 0.144, 2, 4.814, 2
320620030705, SBI, 6, 1, 109, 9, 2, 20030710, 1009, 67.5011, -168.9111, 49,      2.5,   5.9852,  32.4815, 2,  32.4820, 2,    408.5, 2,    417.1, 2,     0.30, 2,     0.00, 2,     0.00, 2,     0.20, 2,  -999.00, 9,   5.9850,     0.10, 2, 0.09, 2,     0.24, 2,     0.05, 2,   1.1700, 2, -999.000, 9, 2.121, 2, 4.987, 2
320620030705, SBI, 6, 1, 108, 8, 2, 20030710, 1006, 67.5011, -168.9111, 49,     13.6,   5.3302,  32.5157, 2, -999.0000, 9,    430.3, 2,   -999.0, 9,  -999.00, 9,  -999.00, 9,  -999.00, 9,  -999.00, 9,  -999.00, 9,   5.3292,  -999.00, 9, -999, 9,  -999.00, 9,  -999.00, 9,   1.2370, 2, -999.000, 9, 1.500, 2, 4.986, 2
320620030705, SBI, 6, 1, 105, 5, 4, 20030710, 1003, 67.5011, -168.9111, 49,     18.7,   2.3671,  32.6821, 2,  32.6817, 0,    344.2, 2,    359.0, 0,     0.08, 3,     5.71, 3,     0.11, 3,     1.04, 3,  -999.00, 9,   2.3661,     0.93, 3, 0.14, 3,     9.02, 2,     1.51, 2,   2.3240, 2, -999.000, 9, 1.137, 2, 4.984, 2
320620030705, SBI, 6, 1, 106, 6, 2, 20030710, 1003, 67.5011, -168.9111, 49,     18.7,   2.3715,  32.6807, 2,  32.6784, 2,    344.6, 2,    364.6, 2,     0.09, 2,     5.19, 2,     0.11, 2,     0.99, 2,  -999.00, 9,   2.3705,     0.68, 2, 0.11, 2,     8.95, 2,     1.40, 2,   2.3120, 2, -999.000, 9, 1.138, 2, 4.984, 2
320620030705, SBI, 6, 1, 107, 7, 2, 20030710, 1003, 67.5011, -168.9111, 49,     18.7,   2.3725,  32.6807, 2, -999.0000, 9,    344.9, 2,   -999.0, 9,  -999.00, 9,  -999.00, 9,  -999.00, 9,  -999.00, 9,  -999.00, 9,   2.3715,  -999.00, 9, -999, 9,  -999.00, 9,  -999.00, 9,   2.3780, 2, -999.000, 9, 1.140, 2, 4.984, 2
320620030705, SBI, 6, 1, 104, 4, 2, 20030710, 1000, 67.5011, -168.9111, 49,     28.6,   2.2701,  32.6823, 2,  32.6809, 2,    298.0, 2,    308.7, 2,     0.69, 2,    10.36, 2,     0.10, 2,     1.43, 2,  -999.00, 9,   2.2686,     2.61, 2, 0.26, 2,     6.71, 2,     0.76, 2,   2.1020, 2, -999.000, 9, 0.336, 2, 4.983, 2
320620030705, SBI, 6, 1, 103, 3, 2, 20030710, 956, 67.5011, -168.9111, 49,     38.5,   2.2733,  32.6904, 2,  32.6973, 2,    292.2, 2,    300.6, 2,     1.30, 2,    10.36, 2,     0.14, 2,     1.54, 2,  -999.00, 9,   2.2713,     3.38, 2, 0.34, 2,  -999.00, 9,  -999.00, 9,   2.2020, 2, -999.000, 9, 0.167, 2, 4.984, 2
320620030705, SBI, 6, 1, 102, 2, 2, 20030710, 954, 67.5011, -168.9111, 49,     42.9,   2.3223,  32.7090, 2,  32.7076, 2,    287.6, 2,    299.6, 2,     1.81, 2,    10.39, 2,     0.16, 2,     1.60, 2,    72.50, 2,   2.3201,     3.58, 2, 0.37, 2,    13.50, 2,     1.74, 2,   2.2750, 2, -999.000, 9, 0.148, 2, 4.984, 2
320620030705, SBI, 6, 1, 101, 1, 2, 20030710, 954, 67.5011, -168.9111, 49,     42.9,   2.3289,  32.7110, 2, -999.0000, 9,    287.8, 2,   -999.0, 9,  -999.00, 9,  -999.00, 9,  -999.00, 9,  -999.00, 9,  -999.00, 9,   2.3267,  -999.00, 9, -999, 9,  -999.00, 9,  -999.00, 9,   2.3030, 2, -999.000, 9, 0.148, 2, 4.984, 2
320620030705, SBI, 7, 1, 111, 11, 2, 20030710, 1620, 68.2185, -167.6431, 49,      2.4,   5.8637,  31.6599, 2,  31.6585, 2,    323.6, 2,    331.4, 2,     0.66, 2,     0.00, 2,     0.00, 2,     0.48, 2,  -999.00, 9,   5.8635,     0.01, 2, 0.05, 2,     0.23, 2,     0.03, 2,   0.9570, 2, 0.007, 2, 3.260, 2, 4.835, 2
320620030705, SBI, 7, 1, 108, 8, 2, 20030710, 1618, 68.2185, -167.6431, 49,     12.1,   5.5954,  31.6599, 2, -999.0000, 9,    325.2, 2,   -999.0, 9,  -999.00, 9,  -999.00, 9,  -999.00, 9,  -999.00, 9,  -999.00, 9,   5.5945,  -999.00, 9, -999, 9,  -999.00, 9,  -999.00, 9,   1.1060, 2, 0.007, 2, 2.691, 2, 4.854, 2
320620030705, SBI, 7, 1, 109, 9, 2, 20030710, 1618, 68.2185, -167.6431, 49,     12.2,   5.6026,  31.6589, 2, -999.0000, 9,    325.2, 2,   -999.0, 9,  -999.00, 9,  -999.00, 9,  -999.00, 9,  -999.00, 9,  -999.00, 9,   5.6017,  -999.00, 9, -999, 9,  -999.00, 9,  -999.00, 9,   1.1300, 2, 0.007, 2, 2.689, 2, 4.854, 2
320620030705, SBI, 7, 1, 110, 10, 2, 20030710, 1618, 68.2185, -167.6431, 49,     12.2,   5.7051,  31.6570, 2,  31.6610, 2,    324.5, 2,    335.1, 2,     0.85, 2,     0.00, 2,     0.00, 2,     0.49, 2,  -999.00, 9,   5.7042,     0.01, 2, 0.07, 2,     0.30, 2,     0.04, 2,   1.1090, 2, 0.007, 2, 2.689, 2, 4.853, 2
320620030705, SBI, 7, 1, 107, 7, 2, 20030710, 1616, 68.2185, -167.6431, 49,     17.3,   5.5390,  31.6615, 2,  31.6943, 0,    324.4, 2,    353.8, 2,     1.16, 2,     0.00, 2,     0.00, 2,     0.54, 2,  -999.00, 9,   5.5377,     0.05, 2, 0.06, 2,     0.40, 2,     0.06, 2,   1.0620, 2, 0.007, 2, 2.478, 2, 4.861, 2
320620030705, SBI, 7, 1, 106, 6, 2, 20030710, 1614, 68.2185, -167.6431, 49,     27.2,   2.6344,  31.8116, 2,  31.8056, 2,    373.9, 2,    387.4, 2,     1.87, 2,    -0.01, 2,     0.01, 2,     0.65, 2,  -999.00, 9,   2.6330,     0.26, 2, 0.07, 2,     0.49, 2,     0.14, 2,   1.3280, 2, 0.007, 2, 2.052, 2, 4.870, 2
320620030705, SBI, 7, 1, 105, 5, 2, 20030710, 1614, 68.2185, -167.6431, 49,     27.2,   2.6349,  31.8115, 2, -999.0000, 9,    374.4, 2,   -999.0, 9,  -999.00, 9,  -999.00, 9,  -999.00, 9,  -999.00, 9,  -999.00, 9,   2.6335,  -999.00, 9, -999, 9,  -999.00, 9,  -999.00, 9,   1.2710, 2, 0.007, 2, 2.048, 2, 4.872, 2
320620030705, SBI, 7, 1, 104, 4, 2, 20030710, 1614, 68.2185, -167.6431, 49,     27.2,   2.6397,  31.8117, 2, -999.0000, 9,    374.3, 2,   -999.0, 9,  -999.00, 9,  -999.00, 9,  -999.00, 9,  -999.00, 9,  -999.00, 9,   2.6383,  -999.00, 9, -999, 9,  -999.00, 9,  -999.00, 9,   1.2860, 2, 0.007, 2, 2.043, 2, 4.873, 2
320620030705, SBI, 7, 1, 103, 3, 2, 20030710, 1612, 68.2185, -167.6431, 49,     37.3,   2.4488,  31.8203, 2,  31.8170, 2,    376.3, 2,    390.6, 2,     1.97, 2,     0.20, 2,     0.01, 2,     0.68, 2,  -999.00, 9,   2.4469,     0.35, 2, 0.09, 2,     0.42, 2,     0.18, 2,   1.1850, 2, 0.007, 2, 1.347, 2, 4.883, 2
320620030705, SBI, 7, 1, 101, 1, 2, 20030710, 1610, 68.2185, -167.6431, 49,     42.1,   2.4188,  31.8231, 2, -999.0000, 9,    376.5, 2,   -999.0, 9,  -999.00, 9,  -999.00, 9,  -999.00, 9,  -999.00, 9,  -999.00, 9,   2.4167,  -999.00, 9, -999, 9,  -999.00, 9,  -999.00, 9,   1.1660, 2, 0.007, 2, 1.045, 2, 4.880, 2
320620030705, SBI, 7, 1, 102, 2, 2, 20030710, 1610, 68.2185, -167.6431, 49,     42.1,   2.4285,  31.8219, 2,  31.8184, 2,    376.5, 2,    390.3, 2,     1.96, 2,     0.18, 2,     0.01, 2,     0.68, 2,    66.10, 2,   2.4264,     0.35, 2, 0.09, 2,     0.39, 2,     0.18, 2,   1.1830, 2, 0.007, 2, 1.050, 2, 4.880, 2