BOTTLE,20100423CCHDOSIODBK
EXPOCODE,SECT_ID,STNNBR,CASTNO,SAMPNO,BTLNBR,BTLNBR_FLAG_W,DATE,TIME,LATITUDE,LONGITUDE,DEPTH,CTDPRS,CTDTMP,CTDSAL,CTDSAL_FLAG_W,SALNTY,SALNTY_FLAG_W,CTDOXY,CTDOXY_FLAG_W,OXYGEN,OXYGEN_FLAG_W,SILCAT,SILCAT_FLAG_W,NITRAT,NITRAT_FLAG_W,NITRIT,NITRIT_FLAG_W,PHSPHT,PHSPHT_FLAG_W,DOC,DOC_FLAG_W,THETA,NH4,NH4_FLAG_W,UREA,UREA_FLAG_W,CHLORA,CHLORA_FLAG_W,PPHYTN,PPHYTN_FLAG_W,FLUOR,FLUOR_FLAG_W,HAARDT,HAARDT_FLAG_W,PAR,PAR_FLAG_W,SPAR,SPAR_FLAG_W
,,,,,,,,,,,METERS,DBAR,ITS-90,PSS-78,,PSS-78,,UMOL/KG,,UMOL/KG,,UMOL/KG,,UMOL/KG,,UMOL/KG,,UMOL/KG,,UMOL/KG,,DEG C,UMOL/KG,,UMOL/KG,,UG/KG,,UG/KG,,MG/M^3,,VOLTS,,VOLTS,,VOLTS,
320620030705, SBI, 110, 1, 124, 24, 2, 20030724, 2034, 72.8896, -157.3345, 1618,      1.5,  -0.7871,  28.3930, 2,  28.3997, 2,    353.2, 2,    382.6, 2,     5.63, 2,     0.14, 2,     0.00, 2,     0.70, 2,  -999.00, 9,  -0.7871,     0.07, 2, 0.04, 2,     0.18, 2,     0.06, 2,   0.8910, 2, -999.000, 2, -999.000, 2, 4.801, 2
320620030705, SBI, 110, 1, 123, 23, 2, 20030724, 2032, 72.8896, -157.3345, 1618,     13.9,  -0.8119,  29.3394, 2, -999.0000, 9,    365.3, 2,    396.1, 2,     6.62, 2,     0.14, 2,     0.00, 2,     0.74, 2,  -999.00, 9,  -0.8122,     0.03, 2, 0.03, 2,     0.30, 2,     0.08, 2,   1.0090, 2, -999.000, 2, -999.000, 9, 4.801, 2
320620030705, SBI, 110, 1, 122, 22, 2, 20030724, 2031, 72.8896, -157.3345, 1618,     23.9,   0.1872,  31.1925, 2, -999.0000, 9,    371.6, 2,    387.8, 2,    13.60, 2,     1.90, 2,     0.13, 2,     0.99, 2,  -999.00, 9,   0.1865,     0.03, 2, 0, 2,     0.79, 2,     0.33, 2,   1.4060, 2, -999.000, 2, -999.000, 9, 4.805, 2
320620030705, SBI, 110, 1, 121, 21, 2, 20030724, 2029, 72.8896, -157.3345, 1618,     33.9,  -1.0795,  31.6309, 2,  31.6247, 2,    345.9, 2,    373.2, 2,    17.08, 2,     3.08, 2,     0.14, 2,     1.14, 2,  -999.00, 9,  -1.0802,     0.32, 2, 0.06, 2,     2.81, 2,     0.40, 2,   1.4190, 2, -999.000, 2, -999.000, 9, 4.801, 2
320620030705, SBI, 110, 1, 120, 20, 2, 20030724, 2028, 72.8896, -157.3345, 1618,     48.9,  -0.9011,  31.9175, 2, -999.0000, 9,    330.1, 2,    355.4, 2,    22.58, 2,     5.37, 2,     0.20, 2,     1.31, 2,  -999.00, 9,  -0.9022,     1.05, 2, 0.08, 2,     0.13, 2,     0.17, 2,   0.9240, 2, -999.000, 2, -999.000, 9, 4.823, 2
320620030705, SBI, 110, 1, 119, 19, 2, 20030724, 2027, 72.8896, -157.3345, 1618,     64.1,  -1.1034,  32.0618, 2, -999.0000, 9,    324.2, 2,    355.9, 2,    21.97, 2,     5.16, 2,     0.19, 2,     1.31, 2,  -999.00, 9,  -1.1048,     1.32, 2, 0.08, 2,  -999.00, 9,  -999.00, 9,   0.8960, 2, -999.000, 2, -999.000, 9, 4.855, 2
320620030705, SBI, 110, 1, 118, 18, 2, 20030724, 2026, 72.8896, -157.3345, 1618,     74.0,  -0.4151,  32.1698, 2, -999.0000, 9,    325.0, 2,    351.6, 2,    16.96, 2,     3.29, 2,     0.14, 2,     1.19, 2,  -999.00, 9,  -0.4171,     1.67, 2, 0.15, 2,  -999.00, 9,  -999.00, 9,   0.8620, 2, -999.000, 2, -999.000, 9, 4.868, 2
320620030705, SBI, 110, 1, 117, 17, 2, 20030724, 2025, 72.8896, -157.3345, 1618,     88.4,  -0.5645,  32.2790, 2, -999.0000, 9,    318.8, 2,    345.6, 2,    17.75, 2,     3.53, 2,     0.16, 2,     1.24, 2,  -999.00, 9,  -0.5669,     1.94, 2, 0.19, 2,  -999.00, 9,  -999.00, 9,   1.1120, 2, -999.000, 2, -999.000, 9, 4.867, 2
320620030705, SBI, 110, 1, 116, 16, 2, 20030724, 2024, 72.8896, -157.3345, 1618,    103.9,  -0.8719,  32.3446, 2,  32.3448, 2,    314.6, 2,    342.2, 2,    20.74, 2,     4.46, 2,     0.14, 2,     1.34, 2,  -999.00, 9,  -0.8744,     2.35, 2, 0.18, 2,  -999.00, 9,  -999.00, 9,   0.9350, 2, -999.000, 2, -999.000, 9, 4.863, 2
320620030705, SBI, 110, 1, 115, 15, 2, 20030724, 2023, 72.8896, -157.3345, 1618,    119.2,  -1.1878,  32.3963, 2, -999.0000, 9,    308.0, 2,    337.0, 2,    23.03, 2,     6.45, 2,     0.21, 2,     1.39, 2,  -999.00, 9,  -1.1904,     1.35, 2, 0.07, 2,  -999.00, 9,  -999.00, 9,   0.8360, 2, -999.000, 2, -999.000, 9, 4.863, 2
320620030705, SBI, 110, 1, 114, 14, 2, 20030724, 2021, 72.8896, -157.3345, 1618,    134.3,  -1.5057,  32.5095, 2, -999.0000, 9,    293.7, 2,    317.6, 2,    26.32, 2,     9.45, 2,     0.11, 2,     1.54, 2,  -999.00, 9,  -1.5083,     0.60, 2, 0.03, 2,  -999.00, 9,  -999.00, 9,   0.8030, 2, -999.000, 2, -999.000, 9, 4.878, 2
320620030705, SBI, 110, 1, 113, 13, 2, 20030724, 2020, 72.8896, -157.3345, 1618,    154.0,  -1.5717,  32.7719, 2, -999.0000, 9,    277.1, 2,    299.5, 2,    30.11, 2,    13.01, 2,     0.04, 2,     1.67, 2,  -999.00, 9,  -1.5747,     0.01, 2, 0.01, 2,  -999.00, 9,  -999.00, 9,   0.7010, 2, -999.000, 2, -999.000, 9, 4.878, 2
320620030705, SBI, 110, 1, 112, 12, 2, 20030724, 2019, 72.8896, -157.3345, 1618,    174.2,  -1.5159,  33.1618, 2, -999.0000, 9,    268.8, 2,    293.2, 2,    30.29, 2,    13.61, 2,     0.04, 2,     1.63, 2,  -999.00, 9,  -1.5195,     0.04, 2, 0.01, 2,  -999.00, 9,  -999.00, 9,   0.7160, 2, -999.000, 2, -999.000, 9, 4.871, 2
320620030705, SBI, 110, 1, 111, 11, 2, 20030724, 2018, 72.8896, -157.3345, 1618,    194.4,  -1.0983,  34.0329, 2, -999.0000, 9,    272.8, 2,    295.7, 2,    23.87, 2,    13.02, 2,     0.01, 2,     1.40, 2,  -999.00, 9,  -1.1034,     0.00, 2, 0.01, 2,  -999.00, 9,  -999.00, 9,   0.7000, 2, -999.000, 2, -999.000, 9, 4.857, 2
320620030705, SBI, 110, 1, 110, 10, 2, 20030724, 2016, 72.8896, -157.3345, 1618,    225.1,  -0.3610,  34.5256, 2,  34.5353, 2,    266.1, 2,    287.7, 2,    15.97, 2,    12.85, 2,     0.01, 2,     1.13, 2,  -999.00, 9,  -0.3686,     0.00, 2, 0, 2,  -999.00, 9,  -999.00, 9,   0.6880, 2, -999.000, 2, -999.000, 9, 4.853, 2
320620030705, SBI, 110, 1, 109, 9, 2, 20030724, 2014, 72.8896, -157.3345, 1618,    255.2,   0.1429,  34.6711, 2,  34.6974, 2,    265.9, 2,    285.1, 2,    11.27, 2,    12.90, 2,     0.01, 2,     0.99, 2,  -999.00, 9,   0.1330,     0.00, 2, 0.01, 2,  -999.00, 9,  -999.00, 9,   0.6140, 2, -999.000, 2, -999.000, 9, 4.845, 2
320620030705, SBI, 110, 1, 108, 8, 2, 20030724, 2012, 72.8896, -157.3345, 1618,    314.3,   0.7848,  34.8060, 2,  34.8122, 2,    271.8, 2,    293.0, 2,     7.17, 2,    12.60, 2,     0.00, 2,     0.87, 2,  -999.00, 9,   0.7707,     0.00, 2, 0.01, 2,  -999.00, 9,  -999.00, 9,   0.6290, 2, -999.000, 2, -999.000, 9, 4.811, 2
320620030705, SBI, 110, 1, 107, 7, 2, 20030724, 2010, 72.8896, -157.3345, 1618,    405.2,   0.6506,  34.8305, 2,  34.8358, 2,    273.3, 2,    295.5, 2,     7.17, 2,    12.70, 2,     0.00, 2,     0.87, 2,  -999.00, 9,   0.6325,     0.00, 2, 0.01, 2,  -999.00, 9,  -999.00, 9,   0.6250, 2, -999.000, 2, -999.000, 9, 4.788, 2
320620030705, SBI, 110, 1, 106, 6, 2, 20030724, 2005, 72.8896, -157.3345, 1618,    606.2,   0.3938,  34.8568, 2,  34.8590, 2,    275.2, 2,    297.8, 2,     7.07, 2,    12.80, 2,     0.00, 2,     0.87, 2,  -999.00, 9,   0.3669,     0.00, 2, 0.01, 2,  -999.00, 9,  -999.00, 9,   0.5270, 2, -999.000, 2, -999.000, 9, 4.744, 2
320620030705, SBI, 110, 1, 105, 5, 2, 20030724, 1957, 72.8896, -157.3345, 1618,    908.4,   0.0098,  34.8766, 2,  34.8767, 2,    276.0, 2,    300.7, 2,     7.15, 2,    12.80, 2,     0.00, 2,     0.89, 2,  -999.00, 9,  -0.0300,     0.00, 2, 0, 2,  -999.00, 9,  -999.00, 9,   0.6170, 2, -999.000, 2, -999.000, 9, 4.607, 2
320620030705, SBI, 110, 1, 104, 4, 2, 20030724, 1950, 72.8896, -157.3345, 1618,   1210.9,  -0.2088,  34.8967, 2,  34.8957, 2,    274.4, 2,    299.8, 2,     8.14, 2,    13.16, 2,     0.00, 2,     0.92, 2,  -999.00, 9,  -0.2630,     0.00, 2, 0.01, 2,  -999.00, 9,  -999.00, 9,   0.6490, 2, -999.000, 2, -999.000, 9, 4.728, 2
320620030705, SBI, 110, 1, 103, 3, 4, 20030724, 1941, 72.8896, -157.3345, 1618,   1529.6,  -0.3511,  34.9193, 2,  34.8979, 0,    271.0, 2,    299.9, 0,     8.14, 4,    13.21, 4,     0.00, 4,     0.92, 4,  -999.00, 9,  -0.4222,     0.00, 4, 0, 4,  -999.00, 9,  -999.00, 9,   0.6370, 2, -999.000, 2, -999.000, 9, 4.829, 2
320620030705, SBI, 110, 1, 102, 2, 2, 20030724, 1938, 72.8896, -157.3345, 1618,   1630.3,  -0.3774,  34.9262, 2,  34.9260, 2,    269.1, 2,    296.0, 2,    10.42, 2,    13.94, 2,     0.00, 2,     0.97, 2,  -999.00, 9,  -0.4543,     0.00, 2, 0, 2,  -999.00, 9,  -999.00, 9,   0.6150, 2, -999.000, 2, -999.000, 9, 4.820, 2
320620030705, SBI, 111, 1, 124, 24, 2, 20030725, 2, 72.9367, -157.2709, 1726,      1.8,  -0.8202,  28.7701, 2,  28.7768, 2,    356.8, 2,    387.4, 2,     5.68, 2,     0.09, 2,     0.00, 2,     0.70, 2,  -999.00, 9,  -0.8202,     0.01, 2, 0, 2,  -999.00, 9,  -999.00, 9,   0.8910, 2, -999.000, 2, -999.000, 9, 4.616, 2
320620030705, SBI, 111, 1, 123, 23, 2, 20030725, 1, 72.9367, -157.2709, 1726,     14.5,  -1.1078,  30.7878, 2, -999.0000, 9,    376.1, 2,    389.5, 2,    11.86, 2,     1.89, 2,     0.10, 2,     0.96, 2,  -999.00, 9,  -1.1081,     0.18, 2, 0.01, 2,  -999.00, 9,  -999.00, 9,   1.0320, 2, -999.000, 2, -999.000, 9, 4.619, 2
320620030705, SBI, 111, 1, 122, 22, 2, 20030725, 2359, 72.9367, -157.2709, 1726,     29.5,  -1.2244,  31.5291, 2, -999.0000, 9,    339.6, 2,    357.2, 2,    21.24, 2,     5.13, 2,     0.24, 2,     1.27, 2,  -999.00, 9,  -1.2250,     0.66, 2, 0.04, 2,  -999.00, 9,  -999.00, 9,   1.2900, 2, -999.000, 2, -999.000, 9, 4.619, 2
320620030705, SBI, 111, 1, 121, 21, 2, 20030725, 2358, 72.9367, -157.2709, 1726,     39.8,  -1.2165,  31.9111, 2, -999.0000, 9,    322.5, 2,    354.5, 2,    21.32, 2,     4.50, 2,     0.19, 2,     1.27, 2,  -999.00, 9,  -1.2173,     1.43, 2, 0.09, 2,  -999.00, 9,  -999.00, 9,   1.1310, 2, -999.000, 2, -999.000, 9, 4.618, 2
320620030705, SBI, 111, 1, 120, 20, 2, 20030725, 2357, 72.9367, -157.2709, 1726,     54.6,  -0.1211,  32.1224, 2, -999.0000, 9,    330.7, 2,    357.6, 2,    15.01, 2,     2.61, 2,     0.13, 2,     1.15, 2,  -999.00, 9,  -0.1227,     1.74, 2, 0.16, 2,  -999.00, 9,  -999.00, 9,   0.9440, 2, -999.000, 2, -999.000, 9, 4.640, 2
320620030705, SBI, 111, 1, 119, 19, 2, 20030725, 2356, 72.9367, -157.2709, 1726,     69.9,  -0.3673,  32.1961, 2, -999.0000, 9,    322.6, 2,    349.3, 2,    18.10, 2,     3.36, 2,     0.14, 2,     1.21, 2,  -999.00, 9,  -0.3693,     1.84, 2, 0.15, 2,  -999.00, 9,  -999.00, 9,   0.9260, 2, -999.000, 2, -999.000, 9, 4.663, 2
320620030705, SBI, 111, 1, 118, 18, 2, 20030725, 2354, 72.9367, -157.2709, 1726,     86.0,  -0.5080,  32.2799, 2, -999.0000, 9,    318.8, 2,    346.5, 2,    18.19, 2,     3.46, 2,     0.15, 2,     1.23, 2,  -999.00, 9,  -0.5103,     2.04, 2, 0.17, 2,  -999.00, 9,  -999.00, 9,   0.9020, 2, -999.000, 2, -999.000, 9, 4.669, 2
320620030705, SBI, 111, 1, 117, 17, 2, 20030725, 2353, 72.9367, -157.2709, 1726,    101.1,  -0.6420,  32.3299, 2,  32.3340, 2,    317.1, 2,    343.8, 2,    19.57, 2,     4.03, 2,     0.16, 2,     1.29, 2,  -999.00, 9,  -0.6446,     2.28, 2, 0.16, 2,  -999.00, 9,  -999.00, 9,   0.8970, 2, -999.000, 2, -999.000, 9, 4.673, 2
320620030705, SBI, 111, 1, 116, 16, 2, 20030725, 2352, 72.9367, -157.2709, 1726,    116.2,  -0.7630,  32.3694, 2, -999.0000, 9,    313.9, 2,    340.9, 2,    22.86, 2,     5.06, 2,     0.14, 2,     1.39, 2,  -999.00, 9,  -0.7659,     2.48, 2, 0.17, 2,  -999.00, 9,  -999.00, 9,   0.8500, 2, -999.000, 2, -999.000, 9, 4.679, 2
320620030705, SBI, 111, 1, 115, 15, 2, 20030725, 2350, 72.9367, -157.2709, 1726,    130.6,  -1.0203,  32.4200, 2, -999.0000, 9,    304.6, 2,    335.2, 2,    23.25, 2,     6.06, 2,     0.16, 2,     1.40, 2,  -999.00, 9,  -1.0233,     1.86, 2, 0.1, 2,  -999.00, 9,  -999.00, 9,   0.8060, 2, -999.000, 2, -999.000, 9, 4.679, 2
320620030705, SBI, 111, 1, 114, 14, 2, 20030725, 2349, 72.9367, -157.2709, 1726,    146.3,  -1.5754,  32.6428, 2, -999.0000, 9,    288.9, 2,    317.2, 2,    29.24, 2,    10.53, 2,     0.04, 2,     1.58, 2,  -999.00, 9,  -1.5782,     0.00, 2, 0.04, 2,  -999.00, 9,  -999.00, 9,   0.7220, 2, -999.000, 2, -999.000, 9, 4.683, 2
320620030705, SBI, 111, 1, 113, 13, 2, 20030725, 2348, 72.9367, -157.2709, 1726,    161.3,  -1.7102,  32.7300, 2, -999.0000, 9,    289.1, 2,    308.6, 2,    30.13, 2,    11.79, 2,     0.04, 2,     1.62, 2,  -999.00, 9,  -1.7131,     0.00, 2, 0.02, 2,  -999.00, 9,  -999.00, 9,   0.8460, 2, -999.000, 2, -999.000, 9, 4.683, 2
320620030705, SBI, 111, 1, 112, 12, 2, 20030725, 2347, 72.9367, -157.2709, 1726,    176.1,  -1.5503,  33.0896, 2, -999.0000, 9,    269.3, 2,    294.0, 2,    31.52, 2,    13.73, 2,     0.02, 2,     1.67, 2,  -999.00, 9,  -1.5539,     0.00, 2, 0.02, 2,  -999.00, 9,  -999.00, 9,   0.8770, 2, -999.000, 2, -999.000, 9, 4.684, 2
320620030705, SBI, 111, 1, 111, 11, 2, 20030725, 2345, 72.9367, -157.2709, 1726,    196.6,  -1.3733,  33.7599, 2, -999.0000, 9,    271.6, 2,    298.4, 2,    26.58, 2,    13.11, 2,     0.01, 2,     1.48, 2,  -999.00, 9,  -1.3779,     0.00, 2, 0.02, 2,  -999.00, 9,  -999.00, 9,   0.7590, 2, -999.000, 2, -999.000, 9, 4.689, 2
320620030705, SBI, 111, 1, 110, 10, 2, 20030725, 2344, 72.9367, -157.2709, 1726,    216.5,  -0.6156,  34.4352, 2,  34.4749, 2,    266.8, 2,    289.1, 2,    17.77, 2,    12.89, 2,     0.01, 2,     1.18, 2,  -999.00, 9,  -0.6224,     0.00, 2, 0.02, 2,  -999.00, 9,  -999.00, 9,   0.7070, 2, -999.000, 2, -999.000, 9, 4.701, 2
320620030705, SBI, 111, 1, 109, 9, 2, 20030725, 2342, 72.9367, -157.2709, 1726,    256.6,   0.2508,  34.6775, 2,  34.6775, 2,    263.2, 2,    283.2, 2,    11.67, 2,    12.95, 2,     0.00, 2,     0.99, 2,  -999.00, 9,   0.2406,     0.00, 2, 0.02, 2,  -999.00, 9,  -999.00, 9,   0.6100, 2, -999.000, 2, -999.000, 9, 4.700, 2
320620030705, SBI, 111, 1, 108, 8, 2, 20030725, 2340, 72.9367, -157.2709, 1726,    332.0,   0.7720,  34.8120, 2,  34.8135, 2,    272.3, 2,    292.9, 2,     7.47, 2,    12.64, 2,     0.00, 2,     0.87, 2,  -999.00, 9,   0.7571,     0.00, 2, 0.01, 2,  -999.00, 9,  -999.00, 9,   0.7680, 2, -999.000, 2, -999.000, 9, 4.693, 2
320620030705, SBI, 111, 1, 107, 7, 2, 20030725, 2337, 72.9367, -157.2709, 1726,    432.9,   0.6282,  34.8401, 2,  34.8416, 2,    274.4, 2,    296.2, 2,     7.25, 2,    12.64, 2,     0.00, 2,     0.87, 2,  -999.00, 9,   0.6089,     0.00, 2, 0.01, 2,  -999.00, 9,  -999.00, 9,   0.6280, 2, -999.000, 2, -999.000, 9, 4.716, 2
320620030705, SBI, 111, 1, 106, 6, 2, 20030725, 2332, 72.9367, -157.2709, 1726,    634.4,   0.3584,  34.8582, 2,  34.8597, 2,    275.2, 2,    298.1, 2,     7.34, 2,    12.59, 2,     0.00, 2,     0.87, 2,  -999.00, 9,   0.3303,     0.00, 2, 0.01, 2,  -999.00, 9,  -999.00, 9,   0.5880, 2, -999.000, 2, -999.000, 9, 4.732, 2
320620030705, SBI, 111, 1, 105, 5, 2, 20030725, 2325, 72.9367, -157.2709, 1726,    936.7,  -0.0054,  34.8770, 2,  34.8781, 2,    275.7, 2,    301.3, 2,     7.63, 2,    12.74, 2,     0.00, 2,     0.89, 2,  -999.00, 9,  -0.0466,     0.00, 2, 0, 2,  -999.00, 9,  -999.00, 9,   0.6040, 2, -999.000, 2, -999.000, 9, 4.724, 2
320620030705, SBI, 111, 1, 104, 4, 2, 20030725, 2318, 72.9367, -157.2709, 1726,   1239.8,  -0.2377,  34.9004, 2,  34.8996, 2,    273.6, 2,    299.5, 2,     8.51, 2,    13.16, 2,     0.00, 2,     0.92, 2,  -999.00, 9,  -0.2933,     0.00, 2, 0.01, 2,  -999.00, 9,  -999.00, 9,   0.6350, 2, -999.000, 2, -999.000, 9, 4.693, 2
320620030705, SBI, 111, 1, 103, 3, 2, 20030725, 2311, 72.9367, -157.2709, 1726,   1543.2,  -0.3699,  34.9229, 2,  34.9240, 2,    269.7, 2,    295.6, 2,    10.20, 2,    13.78, 2,     0.00, 2,     0.98, 2,  -999.00, 9,  -0.4416,     0.00, 2, 0, 2,  -999.00, 9,  -999.00, 9,   0.5810, 2, -999.000, 2, -999.000, 9, 4.648, 2
320620030705, SBI, 111, 1, 102, 2, 2, 20030725, 2307, 72.9367, -157.2709, 1726,   1644.4,  -0.4056,  34.9332, 2,  34.9332, 2,    266.9, 2,    292.1, 2,    11.29, 2,    13.99, 2,     0.00, 2,     0.99, 2,  -999.00, 9,  -0.4830,     0.00, 2, 0, 2,  -999.00, 9,  -999.00, 9,   0.5340, 2, -999.000, 2, -999.000, 9, 4.653, 2
320620030705, SBI, 111, 1, 101, 1, 2, 20030725, 2304, 72.9367, -157.2709, 1726,   1743.1,  -0.4080,  34.9366, 2,  34.9354, 2,    265.6, 2,    290.9, 2,    11.78, 2,    14.25, 2,     0.00, 2,     1.00, 2,  -999.00, 9,  -0.4915,     0.00, 2, 0, 2,  -999.00, 9,  -999.00, 9,   0.5030, 2, -999.000, 2, -999.000, 9, 4.645, 2