BOTTLE,20100423CCHDOSIODBK
EXPOCODE,SECT_ID,STNNBR,CASTNO,SAMPNO,BTLNBR,BTLNBR_FLAG_W,DATE,TIME,LATITUDE,LONGITUDE,DEPTH,CTDPRS,CTDTMP,CTDSAL,CTDSAL_FLAG_W,SALNTY,SALNTY_FLAG_W,CTDOXY,CTDOXY_FLAG_W,OXYGEN,OXYGEN_FLAG_W,SILCAT,SILCAT_FLAG_W,NITRAT,NITRAT_FLAG_W,NITRIT,NITRIT_FLAG_W,PHSPHT,PHSPHT_FLAG_W,DOC,DOC_FLAG_W,THETA,NH4,NH4_FLAG_W,UREA,UREA_FLAG_W,CHLORA,CHLORA_FLAG_W,PPHYTN,PPHYTN_FLAG_W,FLUOR,FLUOR_FLAG_W,HAARDT,HAARDT_FLAG_W,PAR,PAR_FLAG_W,SPAR,SPAR_FLAG_W
,,,,,,,,,,,METERS,DBAR,ITS-90,PSS-78,,PSS-78,,UMOL/KG,,UMOL/KG,,UMOL/KG,,UMOL/KG,,UMOL/KG,,UMOL/KG,,UMOL/KG,,DEG C,UMOL/KG,,UMOL/KG,,UG/KG,,UG/KG,,MG/M^3,,VOLTS,,VOLTS,,VOLTS,
320620030705, SBI, 22, 1, 114, 14, 2, 20030713, 348, 71.8395, -154.1991, 165,      2.1,   1.0320,  28.8976, 2,  28.9615, 2,    347.1, 2,    367.3, 2,    14.71, 2,     0.09, 2,     0.00, 2,     0.78, 2,  -999.00, 9,   1.0319,     0.21, 2, 0.02, 2,     0.33, 2,     0.06, 2,   0.8630, 2, 0.000, 2, 3.636, 2, 4.666, 2
320620030705, SBI, 22, 1, 113, 13, 2, 20030713, 346, 71.8395, -154.1991, 165,     13.0,   1.5688,  31.1635, 2,  31.1974, 2,    384.9, 2,    405.7, 2,    20.27, 2,     0.24, 2,     0.01, 2,     0.91, 2,  -999.00, 9,   1.5683,     0.35, 2, 0.05, 2,     0.55, 2,     0.12, 2,   1.0480, 2, 0.000, 2, 2.931, 2, 4.636, 2
320620030705, SBI, 22, 1, 112, 12, 2, 20030713, 345, 71.8395, -154.1991, 165,     22.8,  -0.2217,  31.3884, 2,  31.4241, 2,    363.9, 2,    388.9, 2,    23.88, 2,     1.70, 2,     0.06, 2,     1.07, 2,  -999.00, 9,  -0.2223,     0.50, 2, 0.07, 2,     3.37, 2,     0.70, 2,   1.8750, 2, 0.000, 2, 2.287, 2, 4.607, 2
320620030705, SBI, 22, 1, 111, 11, 2, 20030713, 340, 71.8395, -154.1991, 165,     32.9,  -0.6318,  31.6670, 2,  31.7241, 2,    343.5, 2,    362.8, 2,    24.69, 2,     3.81, 2,     0.10, 2,     1.29, 2,  -999.00, 9,  -0.6326,     1.28, 2, 0.12, 2,     2.54, 2,     0.46, 2,   1.5190, 2, 0.000, 2, 1.534, 2, 4.563, 2
320620030705, SBI, 22, 1, 110, 10, 2, 20030713, 338, 71.8395, -154.1991, 165,     42.9,  -1.2903,  32.0008, 2,  32.0821, 2,    305.8, 2,    328.5, 2,    34.00, 2,     7.55, 2,     0.14, 2,     1.69, 2,  -999.00, 9,  -1.2911,     2.44, 2, 0.19, 2,     1.44, 2,     0.38, 2,   1.5310, 2, 0.000, 2, 0.976, 2, 4.501, 2
320620030705, SBI, 22, 1, 109, 9, 2, 20030713, 336, 71.8395, -154.1991, 165,     57.9,  -1.4027,  32.1980, 2,  32.2340, 2,    325.0, 2,    344.2, 2,    26.63, 2,     6.75, 2,     0.16, 2,     1.52, 2,  -999.00, 9,  -1.4038,     2.10, 2, 0.13, 2,     1.14, 2,     0.51, 2,   1.3540, 2, 0.000, 2, 0.271, 2, 4.519, 2
320620030705, SBI, 22, 1, 108, 8, 2, 20030713, 333, 71.8395, -154.1991, 165,     72.9,  -1.5086,  32.2770, 2,  32.2909, 2,    309.6, 2,    331.7, 2,    28.07, 2,     7.57, 2,     0.17, 2,     1.59, 2,  -999.00, 9,  -1.5099,     2.14, 2, 0.14, 2,     1.05, 2,     0.45, 2,   1.2790, 2, 0.000, 2, 0.150, 2, 4.487, 2
320620030705, SBI, 22, 1, 107, 7, 2, 20030713, 331, 71.8395, -154.1991, 165,     87.8,  -1.4258,  32.3351, 2,  32.3364, 2,    308.3, 2,    329.1, 2,    27.54, 2,     7.73, 2,     0.18, 2,     1.61, 2,  -999.00, 9,  -1.4275,     2.33, 2, 0.15, 2,     1.19, 2,     0.58, 2,   1.2650, 2, 0.000, 2, 0.139, 2, 4.420, 2
320620030705, SBI, 22, 1, 106, 6, 2, 20030713, 329, 71.8395, -154.1991, 165,    102.6,  -1.5381,  32.3511, 2,  32.3530, 2,    303.0, 2,    325.0, 2,    28.27, 2,     8.19, 2,     0.19, 2,     1.65, 2,  -999.00, 9,  -1.5400,     2.48, 2, 0.17, 2,     1.42, 2,     0.35, 2,   1.3310, 2, 0.000, 2, 0.138, 2, 4.458, 2
320620030705, SBI, 22, 1, 105, 5, 2, 20030713, 326, 71.8395, -154.1991, 165,    122.8,  -1.5292,  32.3782, 2,  32.3773, 2,    298.9, 2,    321.2, 2,    28.35, 2,     8.51, 2,     0.18, 2,     1.67, 2,  -999.00, 9,  -1.5315,     2.50, 2, 0.19, 2,     1.08, 2,     0.65, 2,   1.3210, 2, 0.000, 2, 0.138, 2, 4.582, 2
320620030705, SBI, 22, 1, 104, 4, 2, 20030713, 322, 71.8395, -154.1991, 165,    138.9,  -1.4436,  32.4279, 2,  32.4318, 2,    297.0, 2,    317.5, 2,    28.14, 2,     8.46, 2,     0.17, 2,     1.67, 2,  -999.00, 9,  -1.4463,     2.40, 2, 0.15, 2,  -999.00, 9,  -999.00, 9,   1.3870, 2, 0.000, 2, 0.138, 2, 4.685, 2
320620030705, SBI, 22, 1, 103, 3, 2, 20030713, 319, 71.8395, -154.1991, 165,    149.0,  -1.5355,  32.5066, 2,  32.5042, 2,    287.1, 2,    308.7, 2,    29.68, 2,     9.45, 2,     0.17, 2,     1.74, 2,  -999.00, 9,  -1.5384,     2.35, 2, 0.17, 2,     1.23, 2,     0.62, 2,   1.3180, 2, 0.000, 2, 0.138, 2, 4.746, 2
320620030705, SBI, 22, 1, 101, 1, 2, 20030713, 314, 71.8395, -154.1991, 165,    157.3,  -1.4465,  32.6843, 2,  32.6535, 2,    284.3, 2,    305.6, 2,    30.30, 2,     9.46, 2,     0.17, 2,     1.70, 2,    72.80, 2,  -1.4497,     1.88, 2, 0.15, 2,     1.25, 2,     0.45, 2,   1.2710, 2, 0.000, 2, 0.138, 2, 4.733, 2
320620030705, SBI, 22, 1, 102, 2, 2, 20030713, 314, 71.8395, -154.1991, 165,    157.3,  -1.4465,  32.6844, 2, -999.0000, 9,    284.3, 2,   -999.0, 9,  -999.00, 9,  -999.00, 9,  -999.00, 9,  -999.00, 9,  -999.00, 9,  -1.4497,  -999.00, 9, -999, 9,  -999.00, 9,  -999.00, 9,   1.2350, 2, 0.000, 2, 0.138, 2, 4.735, 2
320620030705, SBI, 23, 1, 116, 16, 2, 20030713, 537, 71.8945, -154.1926, 202,      2.1,   1.6218,  28.9007, 2,  29.3616, 2,    337.9, 2,    361.0, 2,    14.40, 2,     0.09, 2,     0.01, 2,     0.79, 2,  -999.00, 9,   1.6217,     0.20, 2, 0.01, 2,     0.33, 2,     0.10, 2,   1.1180, 2, 0.000, 2, 3.394, 2, 4.822, 2
320620030705, SBI, 23, 1, 115, 15, 2, 20030713, 536, 71.8945, -154.1926, 202,     12.4,   3.4555,  31.2986, 2,  31.3685, 2,    361.8, 2,    382.7, 2,    18.09, 2,     0.19, 2,     0.02, 2,     0.92, 2,  -999.00, 9,   3.4548,     0.25, 2, 0.05, 2,     0.58, 2,     0.13, 2,   1.1860, 2, 0.000, 2, 2.634, 2, 4.827, 2
320620030705, SBI, 23, 1, 114, 14, 2, 20030713, 534, 71.8945, -154.1926, 202,     24.4,   0.3288,  31.4181, 2, -999.0000, 9,    402.2, 2,    385.0, 2,    20.87, 2,     1.12, 2,     0.06, 2,     1.17, 2,  -999.00, 9,   0.3280,     0.68, 2, 0.08, 2,     4.55, 2,     0.57, 2,   1.2820, 2, 0.000, 2, 1.962, 2, 4.823, 2
320620030705, SBI, 23, 1, 113, 13, 2, 20030713, 532, 71.8945, -154.1926, 202,     40.5,  -0.3867,  31.8672, 2,  31.8832, 2,    328.1, 2,    348.8, 2,    22.82, 2,     4.45, 2,     0.15, 2,     1.39, 2,  -999.00, 9,  -0.3878,     2.09, 2, 0.14, 2,     0.96, 2,     0.30, 2,   1.2640, 2, 0.000, 2, 0.639, 2, 4.850, 2
320620030705, SBI, 23, 1, 112, 12, 2, 20030713, 531, 71.8945, -154.1926, 202,     52.6,  -0.7822,  32.0685, 2, -999.0000, 9,    328.0, 2,    347.5, 2,    22.71, 2,     4.71, 2,     0.14, 2,     1.33, 2,  -999.00, 9,  -0.7835,     1.74, 2, 0.11, 2,     0.47, 2,     0.20, 2,   1.0600, 2, 0.000, 2, 0.350, 2, 4.854, 2
320620030705, SBI, 23, 1, 111, 11, 2, 20030713, 529, 71.8945, -154.1926, 202,     64.6,  -0.8411,  32.1870, 2,  32.1966, 2,    322.7, 2,    343.1, 2,    24.87, 2,     5.50, 2,     0.14, 2,     1.36, 2,  -999.00, 9,  -0.8426,     1.79, 2, 0.08, 2,  -999.00, 9,  -999.00, 9,   1.0550, 2, 0.000, 2, 0.221, 2, 4.849, 2
320620030705, SBI, 23, 1, 110, 10, 2, 20030713, 528, 71.8945, -154.1926, 202,     77.5,  -1.0562,  32.3303, 2, -999.0000, 9,    317.5, 2,    340.1, 2,    21.85, 2,     5.05, 2,     0.12, 2,     1.40, 2,  -999.00, 9,  -1.0579,     2.33, 2, 0.16, 2,     0.14, 2,     0.32, 2,   1.0580, 2, 0.000, 2, 0.160, 2, 4.846, 2
320620030705, SBI, 23, 1, 109, 9, 2, 20030713, 526, 71.8945, -154.1926, 202,     92.2,  -1.1428,  32.3651, 2,  32.3585, 2,    317.0, 2,    340.6, 2,    25.37, 2,     5.68, 2,     0.12, 2,     1.48, 2,  -999.00, 9,  -1.1448,     2.91, 2, 0.21, 2,     0.12, 2,     0.36, 2,   1.0590, 2, 0.000, 2, 0.142, 2, 4.839, 2
320620030705, SBI, 23, 1, 108, 8, 2, 20030713, 524, 71.8945, -154.1926, 202,    107.5,  -1.0871,  32.4224, 2, -999.0000, 9,    313.0, 2,    336.3, 2,    25.36, 2,     6.10, 2,     0.13, 2,     1.47, 2,  -999.00, 9,  -1.0895,     2.44, 2, 0.15, 2,     0.11, 2,     0.27, 2,   1.0270, 2, 0.000, 2, 0.138, 2, 4.810, 2
320620030705, SBI, 23, 1, 107, 7, 2, 20030713, 523, 71.8945, -154.1926, 202,    122.4,  -1.4761,  32.5745, 2,  32.5851, 2,    292.4, 2,    312.7, 2,    30.84, 2,     8.32, 2,     0.15, 2,     1.63, 2,  -999.00, 9,  -1.4785,     1.42, 2, 0.08, 2,     0.12, 2,     0.22, 2,   0.9900, 2, 0.000, 2, 0.138, 2, 4.784, 2
320620030705, SBI, 23, 1, 106, 6, 2, 20030713, 521, 71.8945, -154.1926, 202,    137.6,  -0.9126,  33.3906, 2,  33.5956, 2,    283.2, 2,    299.5, 2,    25.32, 2,    11.75, 2,     0.09, 2,     1.48, 2,  -999.00, 9,  -0.9163,     0.46, 2, 0.07, 2,     0.08, 2,     0.11, 2,   0.9320, 2, 0.000, 2, 0.139, 2, 4.814, 2
320620030705, SBI, 23, 1, 105, 5, 2, 20030713, 520, 71.8945, -154.1926, 202,    152.7,  -1.0820,  34.1348, 2,  34.2581, 2,    276.4, 2,    294.8, 2,    22.40, 2,    13.09, 2,     0.02, 2,     1.37, 2,  -999.00, 9,  -1.0861,     0.00, 2, 0.02, 2,     0.07, 2,     0.05, 2,   0.8770, 2, 0.000, 2, 0.139, 2, 4.813, 2
320620030705, SBI, 23, 1, 104, 4, 2, 20030713, 518, 71.8945, -154.1926, 202,    168.8,  -0.0513,  34.6449, 2,  34.6333, 2,    274.0, 2,    291.5, 2,    14.64, 2,    12.93, 2,     0.03, 2,     1.11, 2,  -999.00, 9,  -0.0574,     0.01, 2, 0.06, 2,  -999.00, 9,  -999.00, 9,   0.7970, 2, 0.000, 2, 0.139, 2, 4.790, 2
320620030705, SBI, 23, 1, 103, 3, 2, 20030713, 516, 71.8945, -154.1926, 202,    185.7,   0.1393,  34.7029, 2,  34.7058, 2,    272.8, 2,    287.2, 2,    13.81, 2,    12.92, 2,     0.04, 2,     1.08, 2,  -999.00, 9,   0.1322,     0.05, 2, 0.02, 2,  -999.00, 9,  -999.00, 9,   0.7520, 2, 0.000, 2, 0.139, 2, 4.787, 2
320620030705, SBI, 23, 1, 101, 1, 2, 20030713, 512, 71.8945, -154.1926, 202,    196.5,   0.2317,  34.7238, 2,  34.7174, 2,    266.7, 2,    283.6, 2,    15.25, 2,    13.01, 2,     0.06, 2,     1.12, 2,    52.20, 2,   0.2240,     0.15, 2, 0.03, 2,     0.14, 2,     0.17, 2,   0.9140, 2, 0.000, 2, 0.139, 2, 4.841, 2
320620030705, SBI, 23, 1, 102, 2, 2, 20030713, 512, 71.8945, -154.1926, 202,    196.6,   0.2323,  34.7238, 2, -999.0000, 9,    266.5, 2,   -999.0, 9,  -999.00, 9,  -999.00, 9,  -999.00, 9,  -999.00, 9,  -999.00, 9,   0.2246,  -999.00, 9, -999, 9,  -999.00, 9,  -999.00, 9,   0.7930, 2, 0.000, 2, 0.139, 2, 4.841, 2
320620030705, SBI, 24, 1, 120, 20, 2, 20030713, 815, 71.9309, -154.1307, 269,      2.5,   2.3090,  29.4326, 2,  29.4676, 2,    341.8, 2,    357.2, 2,    15.40, 2,     0.08, 2,     0.00, 2,     0.81, 2,  -999.00, 9,   2.3089,     0.34, 2, 0.01, 2,     0.24, 2,     0.04, 2,   0.8970, 2, 0.000, 2, 2.796, 2, 4.950, 2
320620030705, SBI, 24, 1, 119, 19, 2, 20030713, 813, 71.9309, -154.1307, 269,     12.9,   3.0895,  30.6493, 2, -999.0000, 9,    350.7, 2,    369.1, 2,    16.42, 2,     0.08, 2,     0.00, 2,     0.85, 2,  -999.00, 9,   3.0888,     0.20, 2, 0.01, 2,     0.25, 2,     0.08, 2,   0.9930, 2, 0.000, 2, 2.141, 2, 4.949, 2
320620030705, SBI, 24, 1, 118, 18, 2, 20030713, 812, 71.9309, -154.1307, 269,     23.0,   1.7475,  31.4787, 2,  31.4731, 2,    377.8, 2,    392.5, 2,    17.76, 2,     0.08, 2,     0.00, 2,     0.98, 2,  -999.00, 9,   1.7465,     0.53, 2, 0.04, 2,     0.32, 2,     0.08, 2,   1.1040, 2, 0.000, 2, 1.564, 2, 4.951, 2
320620030705, SBI, 24, 1, 115, 15, 2, 20030713, 808, 71.9309, -154.1307, 269,     38.3,  -0.1655,  31.6299, 2, -999.0000, 9,    337.9, 2,    362.1, 2,    22.52, 2,     2.63, 2,     0.09, 2,     1.28, 2,  -999.00, 9,  -0.1666,     1.58, 2, 0.14, 2,     1.84, 2,     0.19, 2,   1.6410, 2, 0.000, 2, 0.772, 2, 4.948, 2
320620030705, SBI, 24, 1, 116, 16, 2, 20030713, 809, 71.9309, -154.1307, 269,     38.3,  -0.1697,  31.6298, 2, -999.0000, 9,    338.0, 2,   -999.0, 9,  -999.00, 9,  -999.00, 9,  -999.00, 9,  -999.00, 9,  -999.00, 9,  -0.1708,  -999.00, 9, -999, 9,  -999.00, 9,  -999.00, 9,   1.6540, 2, 0.000, 2, 0.758, 2, 4.949, 2
320620030705, SBI, 24, 1, 117, 17, 2, 20030713, 809, 71.9309, -154.1307, 269,     38.4,  -0.1710,  31.6322, 2, -999.0000, 9,    337.8, 2,   -999.0, 9,  -999.00, 9,  -999.00, 9,  -999.00, 9,  -999.00, 9,  -999.00, 9,  -0.1721,  -999.00, 9, -999, 9,  -999.00, 9,  -999.00, 9,   1.6360, 2, 0.000, 2, 0.749, 2, 4.949, 2
320620030705, SBI, 24, 1, 114, 14, 2, 20030713, 806, 71.9309, -154.1307, 269,     53.1,  -0.8627,  31.8748, 2,  31.8738, 2,    322.1, 2,    347.1, 2,    23.35, 2,     5.43, 2,     0.16, 2,     1.42, 2,  -999.00, 9,  -0.8639,     1.67, 2, 0.11, 2,     0.88, 2,     0.24, 2,   1.3120, 2, 0.000, 2, 0.314, 2, 4.949, 2
320620030705, SBI, 24, 1, 113, 13, 2, 20030713, 804, 71.9309, -154.1307, 269,     68.4,  -1.0686,  32.2267, 2, -999.0000, 9,    318.9, 2,    342.9, 2,    24.38, 2,     5.87, 2,     0.14, 2,     1.43, 2,  -999.00, 9,  -1.0701,     1.90, 2, 0.11, 2,  -999.00, 9,  -999.00, 9,   1.0550, 2, 0.000, 2, 0.172, 2, 4.948, 2
320620030705, SBI, 24, 1, 112, 12, 2, 20030713, 802, 71.9309, -154.1307, 269,     83.3,  -1.2187,  32.3718, 2,  32.3799, 2,    311.3, 2,    334.1, 2,    25.51, 2,     6.51, 2,     0.12, 2,     1.50, 2,  -999.00, 9,  -1.2205,     2.40, 2, 0.14, 2,  -999.00, 9,  -999.00, 9,   1.0820, 2, 0.000, 2, 0.143, 2, 4.944, 2
320620030705, SBI, 24, 1, 111, 11, 2, 20030713, 800, 71.9309, -154.1307, 269,    103.1,  -1.3590,  32.5036, 2, -999.0000, 9,    303.7, 2,    321.2, 2,    26.65, 2,     7.66, 2,     0.13, 2,     1.55, 2,  -999.00, 9,  -1.3611,     1.82, 2, 0.08, 2,     0.14, 2,     0.25, 2,   0.9420, 2, 0.000, 2, 0.138, 2, 4.940, 2
320620030705, SBI, 24, 1, 110, 10, 2, 20030713, 757, 71.9309, -154.1307, 269,    122.7,  -1.0718,  33.0606, 2,  33.3294, 2,    286.8, 2,    306.1, 2,    24.56, 2,    10.15, 2,     0.13, 2,     1.47, 2,  -999.00, 9,  -1.0748,     1.07, 2, 0.06, 2,  -999.00, 9,  -999.00, 9,   0.9280, 2, 0.000, 2, 0.138, 2, 4.942, 2
320620030705, SBI, 24, 1, 109, 9, 2, 20030713, 755, 71.9309, -154.1307, 269,    143.0,  -0.7778,  34.2419, 2, -999.0000, 9,    272.2, 2,    289.8, 2,    19.56, 2,    12.82, 2,     0.03, 2,     1.27, 2,  -999.00, 9,  -0.7820,     0.06, 2, 0, 2,  -999.00, 9,  -999.00, 9,   0.6500, 2, 0.000, 2, 0.139, 2, 4.939, 2
320620030705, SBI, 24, 1, 108, 8, 2, 20030713, 753, 71.9309, -154.1307, 269,    162.9,  -0.2044,  34.5823, 2,  34.5925, 2,    268.5, 2,    287.7, 2,    15.10, 2,    13.05, 2,     0.01, 2,     1.11, 2,  -999.00, 9,  -0.2101,     0.01, 2, 0, 2,  -999.00, 9,  -999.00, 9,   0.9330, 2, 0.000, 2, 0.139, 2, 4.935, 2
320620030705, SBI, 24, 1, 107, 7, 2, 20030713, 750, 71.9309, -154.1307, 269,    177.2,   0.0499,  34.6760, 2,  34.6784, 2,    272.2, 2,    290.0, 2,    13.54, 2,    12.94, 2,     0.01, 2,     1.08, 2,  -999.00, 9,   0.0433,     0.02, 2, 0, 2,  -999.00, 9,  -999.00, 9,   0.6870, 2, 0.000, 2, 0.139, 2, 4.935, 2
320620030705, SBI, 24, 1, 106, 6, 2, 20030713, 748, 71.9309, -154.1307, 269,    193.0,   0.2694,  34.7409, 2,  34.7506, 2,    273.3, 2,    286.3, 2,    12.81, 2,    13.03, 2,     0.03, 2,     1.06, 2,  -999.00, 9,   0.2618,     0.03, 2, 0.01, 2,  -999.00, 9,  -999.00, 9,   0.7550, 2, 0.000, 2, 0.139, 2, 4.929, 2
320620030705, SBI, 24, 1, 105, 5, 2, 20030713, 746, 71.9309, -154.1307, 269,    213.2,   0.4523,  34.7694, 2,  34.7673, 2,    265.5, 2,    282.2, 2,    13.43, 2,    13.12, 2,     0.05, 2,     1.07, 2,  -999.00, 9,   0.4435,     0.07, 2, 0.01, 2,  -999.00, 9,  -999.00, 9,   0.6820, 2, 0.000, 2, 0.139, 2, 4.933, 2
320620030705, SBI, 24, 1, 104, 4, 2, 20030713, 744, 71.9309, -154.1307, 269,    231.5,   0.4522,  34.7708, 2,  34.7720, 2,    265.8, 2,    282.3, 2,    13.32, 2,    13.07, 2,     0.04, 2,     1.06, 2,  -999.00, 9,   0.4426,     0.06, 2, 0.01, 2,  -999.00, 9,  -999.00, 9,   0.7200, 2, 0.000, 2, 0.139, 2, 4.929, 2
320620030705, SBI, 24, 1, 103, 3, 2, 20030713, 741, 71.9309, -154.1307, 269,    252.9,   0.4394,  34.7720, 2,  34.7706, 2,    266.4, 2,    283.5, 2,    13.11, 2,    13.01, 2,     0.05, 2,     1.08, 2,  -999.00, 9,   0.4289,     0.10, 2, 0.01, 2,  -999.00, 9,  -999.00, 9,   0.7760, 2, 0.000, 2, 0.139, 2, 4.927, 2
320620030705, SBI, 24, 1, 101, 1, 2, 20030713, 739, 71.9309, -154.1307, 269,    265.3,   0.4498,  34.7790, 2,  34.7746, 2,    267.0, 2,    283.7, 2,    13.00, 2,    13.06, 2,     0.05, 2,     1.08, 2,  -999.00, 9,   0.4388,     0.10, 2, 0.02, 2,  -999.00, 9,  -999.00, 9,   0.7880, 2, 0.000, 2, 0.139, 2, 4.933, 2
320620030705, SBI, 24, 1, 102, 2, 2, 20030713, 739, 71.9309, -154.1307, 269,    265.3,   0.4508,  34.7794, 2, -999.0000, 9,    267.2, 2,   -999.0, 9,  -999.00, 9,  -999.00, 9,  -999.00, 9,  -999.00, 9,  -999.00, 9,   0.4398,  -999.00, 9, -999, 9,  -999.00, 9,  -999.00, 9,   0.8320, 2, 0.000, 2, 0.139, 2, 4.932, 2