BOTTLE,20100423CCHDOSIODBK
EXPOCODE,SECT_ID,STNNBR,CASTNO,SAMPNO,BTLNBR,BTLNBR_FLAG_W,DATE,TIME,LATITUDE,LONGITUDE,DEPTH,CTDPRS,CTDTMP,CTDSAL,CTDSAL_FLAG_W,SALNTY,SALNTY_FLAG_W,CTDOXY,CTDOXY_FLAG_W,OXYGEN,OXYGEN_FLAG_W,SILCAT,SILCAT_FLAG_W,NITRAT,NITRAT_FLAG_W,NITRIT,NITRIT_FLAG_W,PHSPHT,PHSPHT_FLAG_W,DOC,DOC_FLAG_W,THETA,NH4,NH4_FLAG_W,UREA,UREA_FLAG_W,CHLORA,CHLORA_FLAG_W,PPHYTN,PPHYTN_FLAG_W,FLUOR,FLUOR_FLAG_W,HAARDT,HAARDT_FLAG_W,PAR,PAR_FLAG_W,SPAR,SPAR_FLAG_W
,,,,,,,,,,,METERS,DBAR,ITS-90,PSS-78,,PSS-78,,UMOL/KG,,UMOL/KG,,UMOL/KG,,UMOL/KG,,UMOL/KG,,UMOL/KG,,UMOL/KG,,DEG C,UMOL/KG,,UMOL/KG,,UG/KG,,UG/KG,,MG/M^3,,VOLTS,,VOLTS,,VOLTS,
320620030705, SBI, 231, 1, 115, 15, 2, 20030808, 16, 73.1505, -161.7414, 278,      1.4,  -1.0484,  29.5208, 2,  29.5153, 2,    355.2, 2,    392.7, 2,     6.14, 2,     0.09, 2,     0.00, 2,     0.73, 2,  -999.00, 9,  -1.0484,     0.00, 2, 0, 2,     0.62, 2,     0.07, 2,   1.1250, 2, 0.188, 2, 3.853, 2, 4.424, 2
320620030705, SBI, 231, 1, 114, 14, 2, 20030808, 14, 73.1505, -161.7414, 278,     15.1,  -1.0534,  29.6855, 2, -999.0000, 9,    359.5, 2,    394.4, 2,     6.74, 2,     0.04, 2,     0.00, 2,     0.75, 2,  -999.00, 9,  -1.0537,     0.00, 2, 0, 2,     0.88, 2,     0.10, 2,   1.5690, 2, 0.274, 2, 2.892, 2, 4.384, 2
320620030705, SBI, 231, 1, 112, 12, 2, 20030808, 12, 73.1505, -161.7414, 278,     27.0,  -1.5589,  30.9353, 2, -999.0000, 9,    345.5, 2,   -999.0, 9,  -999.00, 9,  -999.00, 9,  -999.00, 9,  -999.00, 9,  -999.00, 9,  -1.5593,  -999.00, 9, -999, 9,  -999.00, 9,  -999.00, 9,   1.9360, 2, 0.398, 2, 2.039, 2, 4.296, 2
320620030705, SBI, 231, 1, 113, 13, 2, 20030808, 13, 73.1505, -161.7414, 278,     27.0,  -1.5592,  30.9390, 2, -999.0000, 9,    345.4, 2,    366.1, 2,    21.09, 2,     3.62, 2,     0.08, 2,     1.24, 2,  -999.00, 9,  -1.5596,     0.97, 2, 0.07, 2,     2.41, 2,     0.01, 2,   1.8460, 2, 0.412, 2, 2.043, 2, 4.333, 2
320620030705, SBI, 231, 1, 111, 11, 2, 20030808, 10, 73.1505, -161.7414, 278,     43.0,  -1.6309,  31.5083, 2, -999.0000, 9,    308.1, 2,    341.0, 2,    28.50, 2,     6.33, 2,     0.14, 2,     1.47, 2,  -999.00, 9,  -1.6316,     1.47, 2, 0.06, 2,     0.39, 2,     0.23, 2,   1.3510, 2, 0.241, 2, 1.228, 2, 4.322, 2
320620030705, SBI, 231, 1, 110, 10, 2, 20030808, 8, 73.1505, -161.7414, 278,     58.1,  -1.6343,  31.7094, 2, -999.0000, 9,    306.0, 2,    337.1, 2,    29.69, 2,     7.01, 2,     0.16, 2,     1.50, 2,  -999.00, 9,  -1.6352,     1.30, 2, 0.19, 2,     0.27, 2,     0.20, 2,   1.1080, 2, 0.212, 2, 0.736, 2, 4.332, 2
320620030705, SBI, 231, 1, 109, 9, 2, 20030808, 6, 73.1505, -161.7414, 278,     73.1,  -1.6199,  31.9943, 2, -999.0000, 9,    312.1, 2,    340.3, 2,    25.97, 2,     7.48, 2,     0.15, 2,     1.46, 2,  -999.00, 9,  -1.6211,     0.77, 2, 0.03, 2,  -999.00, 9,  -999.00, 9,   0.9280, 2, 0.192, 2, 0.381, 2, 4.378, 2
320620030705, SBI, 231, 1, 108, 8, 2, 20030808, 5, 73.1505, -161.7414, 278,     88.2,  -1.5394,  32.2397, 2, -999.0000, 9,    300.5, 2,    323.4, 2,    30.37, 2,     8.79, 2,     0.13, 2,     1.58, 2,  -999.00, 9,  -1.5410,     1.15, 2, 0.04, 2,  -999.00, 9,  -999.00, 9,   0.8840, 2, 0.180, 2, 0.223, 2, 4.359, 2
320620030705, SBI, 231, 1, 107, 7, 2, 20030808, 3, 73.1505, -161.7414, 278,    103.4,  -1.5762,  32.4624, 2, -999.0000, 9,    283.6, 2,    299.9, 2,    36.40, 2,    11.47, 2,     0.10, 2,     1.75, 2,  -999.00, 9,  -1.5781,     0.90, 2, 0.02, 2,     0.03, 2,     0.12, 2,   0.8100, 2, 0.179, 2, 0.164, 2, 4.370, 2
320620030705, SBI, 231, 1, 106, 6, 2, 20030808, 1, 73.1505, -161.7414, 278,    123.2,  -1.5514,  32.7820, 2, -999.0000, 9,    266.1, 2,    295.0, 2,    34.68, 2,    12.91, 2,     0.08, 2,     1.74, 2,  -999.00, 9,  -1.5538,     0.52, 2, 0.02, 2,  -999.00, 9,  -999.00, 9,   0.7980, 2, 0.179, 2, 0.143, 2, 4.338, 2
320620030705, SBI, 231, 1, 105, 5, 2, 20030808, 0, 73.1505, -161.7414, 278,    144.2,  -1.5200,  33.3742, 2, -999.0000, 9,    269.4, 2,    289.1, 2,    29.73, 2,    13.45, 2,     0.05, 2,     1.60, 2,  -999.00, 9,  -1.5230,     0.02, 2, 0.03, 3,  -999.00, 9,  -999.00, 9,   0.7020, 2, 0.176, 2, 0.139, 2, 4.302, 2
320620030705, SBI, 231, 1, 104, 4, 2, 20030808, 2358, 73.1505, -161.7414, 278,    164.3,  -0.9241,  33.8923, 2, -999.0000, 9,    252.5, 2,    274.5, 2,    26.30, 2,    13.44, 2,     0.05, 2,     1.48, 2,  -999.00, 9,  -0.9286,     0.00, 2, 0.01, 2,  -999.00, 9,  -999.00, 9,   0.7580, 2, 0.177, 2, 0.139, 2, 4.372, 2
320620030705, SBI, 231, 1, 103, 3, 2, 20030808, 2356, 73.1505, -161.7414, 278,    194.4,  -0.3518,  34.4507, 2, -999.0000, 9,    253.0, 2,    274.1, 2,    15.49, 2,    13.11, 2,     0.02, 2,     1.10, 2,  -999.00, 9,  -0.3583,     0.00, 2, 0.01, 2,  -999.00, 9,  -999.00, 9,   0.7230, 2, 0.173, 2, 0.140, 2, 4.508, 2
320620030705, SBI, 231, 1, 102, 2, 2, 20030808, 2353, 73.1505, -161.7414, 278,    234.6,   0.1700,  34.6276, 2,  34.6280, 2,    248.7, 2,    269.7, 2,    15.88, 2,    12.99, 2,     0.04, 2,     1.07, 2,  -999.00, 9,   0.1609,     0.00, 2, 0.02, 2,  -999.00, 9,  -999.00, 9,   0.6630, 2, 0.174, 2, 0.140, 2, 4.426, 2
320620030705, SBI, 231, 1, 101, 1, 2, 20030808, 2350, 73.1505, -161.7414, 278,    274.2,   0.2482,  34.6531, 2,  34.6471, 2,    247.9, 2,    270.9, 2,    16.18, 2,    13.04, 2,     0.03, 2,     1.07, 2,  -999.00, 9,   0.2373,     0.00, 2, 0.02, 2,  -999.00, 9,  -999.00, 9,   0.7160, 2, 0.174, 2, 0.139, 2, 4.304, 2
320620030705, SBI, 232, 1, 112, 12, 2, 20030808, 145, 73.1010, -161.7153, 194,      1.6,  -0.8475,  29.6213, 2,  29.6339, 2,    355.6, 2,    392.3, 2,     6.51, 2,     0.13, 2,     0.00, 2,     0.75, 2,  -999.00, 9,  -0.8475,     0.00, 2, 0, 2,     0.70, 2,     0.09, 2,   1.0390, 2, 0.193, 2, 4.159, 2, 4.360, 2
320620030705, SBI, 232, 1, 111, 11, 2, 20030808, 143, 73.1010, -161.7153, 194,     13.1,  -1.1015,  29.6999, 2, -999.0000, 9,    358.4, 2,    393.3, 2,     7.51, 2,     0.07, 2,     0.00, 2,     0.78, 2,  -999.00, 9,  -1.1017,     0.00, 2, 0, 2,     0.97, 2,     0.28, 2,   1.4680, 2, 0.250, 2, 3.171, 2, 4.398, 2
320620030705, SBI, 232, 1, 110, 10, 2, 20030808, 141, 73.1010, -161.7153, 194,     25.1,  -1.4364,  30.5077, 2, -999.0000, 9,    354.2, 2,    364.8, 2,    22.44, 2,     3.39, 2,     0.07, 2,     1.25, 2,  -999.00, 9,  -1.4368,     0.88, 2, 0.06, 2,     2.36, 2,     0.38, 2,   2.1350, 2, 0.636, 2, 2.384, 2, 4.354, 2
320620030705, SBI, 232, 1, 109, 9, 2, 20030808, 139, 73.1010, -161.7153, 194,     41.3,  -1.6084,  31.3405, 2, -999.0000, 9,    315.3, 2,    344.9, 2,    27.96, 2,     5.79, 2,     0.13, 2,     1.49, 2,  -999.00, 9,  -1.6090,     1.61, 2, 0.08, 2,     0.93, 2,     0.22, 2,   1.5110, 2, 0.296, 2, 1.272, 2, 4.357, 2
320620030705, SBI, 232, 1, 108, 8, 2, 20030808, 137, 73.1010, -161.7153, 194,     58.2,  -1.6129,  31.6224, 2, -999.0000, 9,    317.4, 2,    346.8, 2,    25.73, 2,     6.28, 2,     0.20, 2,     1.41, 2,  -999.00, 9,  -1.6138,     1.02, 2, 0.04, 2,     0.47, 2,     0.20, 2,   1.2930, 2, 0.250, 2, 0.584, 2, 4.389, 2
320620030705, SBI, 232, 1, 107, 7, 2, 20030808, 135, 73.1010, -161.7153, 194,     73.2,  -1.6207,  31.9733, 2, -999.0000, 9,    315.0, 2,    333.6, 2,    29.45, 2,     7.80, 2,     0.15, 2,     1.53, 2,  -999.00, 9,  -1.6219,     1.10, 2, 0.04, 2,  -999.00, 9,  -999.00, 9,   0.9460, 2, 0.189, 2, 0.303, 2, 4.359, 2
320620030705, SBI, 232, 1, 106, 6, 2, 20030808, 133, 73.1010, -161.7153, 194,     88.2,  -1.3818,  32.2261, 2, -999.0000, 9,    306.7, 2,    320.1, 2,    32.06, 2,     9.20, 2,     0.13, 2,     1.63, 2,  -999.00, 9,  -1.3835,     1.13, 2, 0.07, 2,  -999.00, 9,  -999.00, 9,   0.9150, 2, 0.180, 2, 0.184, 2, 4.365, 2
320620030705, SBI, 232, 1, 105, 5, 2, 20030808, 132, 73.1010, -161.7153, 194,    103.4,  -1.5835,  32.5181, 2, -999.0000, 9,    275.9, 2,    295.2, 2,    37.00, 2,    12.46, 2,     0.08, 2,     1.80, 2,  -999.00, 9,  -1.5854,     0.87, 2, 0.03, 2,     0.07, 2,     0.18, 2,   0.9350, 2, 0.185, 2, 0.149, 2, 4.326, 2
320620030705, SBI, 232, 1, 104, 4, 2, 20030808, 130, 73.1010, -161.7153, 194,    123.4,  -1.5168,  32.9896, 2, -999.0000, 9,    268.3, 2,    294.4, 2,    32.65, 2,    13.14, 2,     0.05, 2,     1.70, 2,  -999.00, 9,  -1.5193,     0.20, 2, 0.02, 2,  -999.00, 9,  -999.00, 9,   0.8290, 2, 0.184, 2, 0.140, 2, 4.361, 2
320620030705, SBI, 232, 1, 103, 3, 2, 20030808, 128, 73.1010, -161.7153, 194,    143.5,  -1.4721,  33.4888, 2, -999.0000, 9,    266.1, 2,    288.8, 2,    28.70, 2,    13.88, 2,     0.02, 2,     1.58, 2,  -999.00, 9,  -1.4752,     0.00, 2, 0.02, 2,  -999.00, 9,  -999.00, 9,   0.7310, 2, 0.177, 2, 0.139, 2, 4.134, 2
320620030705, SBI, 232, 1, 102, 2, 2, 20030808, 126, 73.1010, -161.7153, 194,    163.6,  -0.8558,  33.9578, 2,  34.1472, 2,    259.2, 2,    280.2, 2,    23.46, 2,    13.33, 2,     0.05, 2,     1.39, 2,  -999.00, 9,  -0.8604,     0.01, 2, 0.04, 2,  -999.00, 9,  -999.00, 9,   0.7480, 2, 0.178, 2, 0.139, 2, 4.386, 2
320620030705, SBI, 232, 1, 101, 1, 2, 20030808, 125, 73.1010, -161.7153, 194,    189.7,  -0.3869,  34.3749, 2,  34.3620, 2,    255.9, 2,    276.3, 2,    20.65, 2,    13.33, 2,     0.05, 2,     1.27, 2,    57.00, 2,  -0.3932,     0.01, 2, 0.04, 2,  -999.00, 9,  -999.00, 9,   0.7990, 2, 0.178, 2, 0.139, 2, 4.375, 2
320620030705, SBI, 233, 1, 110, 10, 2, 20030808, 257, 73.0494, -161.6867, 151,      1.6,  -1.0426,  29.6542, 2,  29.6804, 2,    360.1, 2,    394.7, 2,     6.29, 2,     0.10, 2,     0.00, 2,     0.74, 2,  -999.00, 9,  -1.0426,     0.01, 2, 0, 2,     1.06, 2,     0.00, 2,   1.3220, 2, 0.221, 2, 3.959, 2, 4.521, 2
320620030705, SBI, 233, 1, 109, 9, 2, 20030808, 255, 73.0494, -161.6867, 151,     13.0,  -1.0979,  29.7698, 2, -999.0000, 9,    361.2, 2,    396.7, 2,     7.48, 2,     0.04, 2,     0.00, 2,     0.77, 2,  -999.00, 9,  -1.0981,     0.00, 2, 0.01, 2,     1.71, 2,     0.05, 2,   1.6640, 2, 0.304, 2, 3.002, 2, 4.484, 2
320620030705, SBI, 233, 1, 108, 8, 2, 20030808, 254, 73.0494, -161.6867, 151,     26.0,  -1.4043,  30.5294, 2, -999.0000, 9,    330.6, 2,    335.3, 2,    31.87, 2,     6.10, 2,     0.11, 2,     1.49, 2,  -999.00, 9,  -1.4047,     1.23, 2, 0.08, 2,     2.11, 2,     0.30, 2,   2.0520, 2, 0.598, 2, 1.931, 2, 4.508, 2
320620030705, SBI, 233, 1, 107, 7, 2, 20030808, 252, 73.0494, -161.6867, 151,     36.0,  -1.5958,  31.2221, 2, -999.0000, 9,    301.9, 2,    330.0, 2,    32.56, 2,     6.95, 2,     0.12, 2,     1.56, 2,  -999.00, 9,  -1.5963,     1.56, 2, 0.08, 2,     0.83, 2,     0.31, 2,   1.4400, 2, 0.258, 2, 1.241, 2, 4.530, 2
320620030705, SBI, 233, 1, 106, 6, 2, 20030808, 250, 73.0494, -161.6867, 151,     51.0,  -1.6095,  31.4068, 2, -999.0000, 9,    302.5, 2,    317.5, 2,    35.59, 2,     8.17, 2,     0.12, 2,     1.67, 2,  -999.00, 9,  -1.6103,     1.53, 2, 0.08, 2,     0.53, 2,     0.40, 2,   1.2280, 2, 0.217, 2, 0.652, 2, 4.523, 2
320620030705, SBI, 233, 1, 105, 5, 2, 20030808, 248, 73.0494, -161.6867, 151,     68.1,  -1.5781,  31.7725, 2, -999.0000, 9,    264.0, 2,    285.9, 2,    43.97, 2,    10.69, 2,     0.11, 2,     1.82, 2,  -999.00, 9,  -1.5792,     0.92, 2, 0.04, 2,  -999.00, 9,  -999.00, 9,   0.9280, 2, 0.186, 2, 0.280, 2, 4.520, 2
320620030705, SBI, 233, 1, 104, 4, 2, 20030808, 246, 73.0494, -161.6867, 151,     83.1,  -1.5205,  32.4082, 2, -999.0000, 9,    237.2, 2,    260.3, 2,    52.49, 2,    13.32, 2,     0.13, 2,     2.09, 2,  -999.00, 9,  -1.5220,     1.29, 2, 0.04, 2,  -999.00, 9,  -999.00, 9,   0.9400, 2, 0.190, 2, 0.171, 2, 4.525, 2
320620030705, SBI, 233, 1, 103, 3, 2, 20030808, 244, 73.0494, -161.6867, 151,    103.2,  -1.5826,  32.4816, 2, -999.0000, 9,    237.8, 2,    268.6, 2,    49.02, 2,    13.27, 2,     0.12, 2,     2.03, 2,  -999.00, 9,  -1.5845,     1.16, 2, 0.04, 2,     0.35, 2,     0.60, 2,   1.0570, 2, 0.198, 2, 0.139, 2, 4.542, 2
320620030705, SBI, 233, 1, 102, 2, 2, 20030808, 242, 73.0494, -161.6867, 151,    123.2,  -1.3963,  32.8449, 2, -999.0000, 9,    255.7, 2,    278.8, 2,    39.37, 2,    12.62, 2,     0.10, 2,     1.81, 2,  -999.00, 9,  -1.3989,     0.41, 2, 0.04, 2,  -999.00, 9,  -999.00, 9,   0.9550, 2, 0.187, 2, 0.139, 2, 4.546, 2
320620030705, SBI, 233, 1, 101, 1, 2, 20030808, 240, 73.0494, -161.6867, 151,    147.4,  -1.3282,  32.9704, 2,  32.9614, 2,    254.7, 2,    280.3, 2,    38.35, 2,    12.67, 2,     0.10, 2,     1.79, 2,    67.20, 2,  -1.3314,     0.37, 2, 0.04, 2,  -999.00, 9,  -999.00, 9,   0.8510, 2, 0.187, 2, 0.139, 2, 4.537, 2
320620030705, SBI, 234, 1, 108, 8, 2, 20030808, 402, 73.0020, -161.6628, 121,      1.7,  -0.7627,  29.7782, 2,  29.8590, 2,    359.8, 2,    390.7, 2,     8.53, 2,     0.12, 2,     0.00, 2,     0.77, 2,  -999.00, 9,  -0.7627,     0.01, 2, 0.01, 2,     1.35, 2,     0.13, 2,   1.3840, 2, 0.223, 2, 3.619, 2, 4.761, 2
320620030705, SBI, 234, 1, 107, 7, 2, 20030808, 401, 73.0020, -161.6628, 121,     13.1,  -1.0989,  29.8102, 2, -999.0000, 9,    350.6, 2,    389.4, 2,    10.03, 2,     0.17, 2,     0.01, 2,     0.81, 2,  -999.00, 9,  -1.0991,     0.02, 2, 0, 2,     1.76, 2,     0.07, 2,   1.9000, 2, 0.422, 2, 2.618, 2, 4.752, 2
320620030705, SBI, 234, 1, 106, 6, 2, 20030808, 359, 73.0020, -161.6628, 121,     25.0,  -1.4458,  30.6305, 2, -999.0000, 9,    314.0, 2,    336.7, 2,    30.16, 2,     5.74, 2,     0.09, 2,     1.45, 2,  -999.00, 9,  -1.4462,     1.21, 2, 0.08, 2,     2.21, 2,     0.22, 2,   1.9240, 2, 0.486, 2, 1.588, 2, 4.750, 2
320620030705, SBI, 234, 1, 105, 5, 2, 20030808, 357, 73.0020, -161.6628, 121,     48.2,  -1.6258,  31.4572, 2, -999.0000, 9,    278.8, 2,    285.3, 2,    43.04, 2,    10.35, 2,     0.14, 2,     1.83, 2,  -999.00, 9,  -1.6265,     1.26, 2, 0.05, 2,     0.31, 2,     0.40, 2,   1.2150, 2, 0.231, 2, 0.373, 2, 4.727, 2
320620030705, SBI, 234, 1, 104, 4, 2, 20030808, 355, 73.0020, -161.6628, 121,     68.1,  -1.5374,  32.0774, 2, -999.0000, 9,    240.5, 2,    253.8, 2,    52.85, 2,    12.74, 2,     0.14, 2,     2.03, 2,  -999.00, 9,  -1.5386,     0.71, 2, 0.04, 2,     0.17, 2,     0.18, 2,   0.9160, 2, 0.187, 2, 0.171, 2, 4.714, 2
320620030705, SBI, 234, 1, 103, 3, 2, 20030808, 353, 73.0020, -161.6628, 121,     86.2,  -1.5370,  32.4037, 2, -999.0000, 9,    223.8, 2,    270.4, 2,    52.73, 2,    13.99, 2,     0.16, 2,     2.14, 2,  -999.00, 9,  -1.5386,     1.74, 2, 0.06, 2,  -999.00, 9,  -999.00, 9,   0.9880, 2, 0.192, 2, 0.140, 2, 4.703, 2
320620030705, SBI, 234, 1, 102, 2, 2, 20030808, 351, 73.0020, -161.6628, 121,    103.1,  -1.6582,  32.5653, 2, -999.0000, 9,    256.9, 2,    283.1, 2,    50.39, 2,    13.98, 2,     0.17, 2,     2.13, 2,  -999.00, 9,  -1.6600,     1.93, 2, 0.05, 2,     0.38, 2,     0.76, 2,   1.1090, 2, 0.201, 2, 0.138, 2, 4.684, 2
320620030705, SBI, 234, 1, 101, 1, 2, 20030808, 350, 73.0020, -161.6628, 121,    115.3,  -1.6585,  32.5659, 2,  32.5588, 2,    257.2, 2,    282.2, 2,    50.39, 2,    14.14, 2,     0.17, 2,     2.12, 2,    67.50, 2,  -1.6606,     1.93, 2, 0.06, 2,     0.38, 2,     0.89, 2,   1.1630, 2, 0.210, 2, 0.138, 2, 4.674, 2
320620030705, SBI, 235, 1, 107, 7, 2, 20030808, 513, 72.9527, -161.6163, 84,      1.6,  -0.8798,  29.7765, 2,  29.7735, 2,    354.5, 2,    394.8, 2,     9.86, 2,     0.14, 2,     0.00, 2,     0.77, 2,  -999.00, 9,  -0.8798,     0.00, 2, 0, 2,     1.68, 2,     0.06, 2,   1.8890, 2, 0.414, 2, 3.247, 2, 4.889, 2
320620030705, SBI, 235, 1, 106, 6, 2, 20030808, 511, 72.9527, -161.6163, 84,     13.1,  -0.9840,  29.7832, 2, -999.0000, 9,    354.4, 2,    394.2, 2,     9.95, 2,     0.09, 2,     0.00, 2,     0.78, 2,  -999.00, 9,  -0.9842,     0.00, 2, 0, 2,     3.88, 2,     0.03, 2,   1.9700, 2, 0.481, 2, 2.139, 2, 4.890, 2
320620030705, SBI, 235, 1, 105, 5, 2, 20030808, 509, 72.9527, -161.6163, 84,     28.3,  -1.4318,  30.8700, 2, -999.0000, 9,    305.9, 2,    335.3, 2,    30.40, 2,     5.62, 2,     0.09, 2,     1.45, 2,  -999.00, 9,  -1.4322,     1.08, 2, 0.08, 2,     1.69, 2,     0.11, 2,   1.9060, 2, 0.807, 2, 0.888, 2, 4.885, 2
320620030705, SBI, 235, 1, 104, 4, 2, 20030808, 508, 72.9527, -161.6163, 84,     42.1,  -1.5739,  31.2451, 2, -999.0000, 9,    287.1, 2,    312.7, 2,    36.14, 2,     8.47, 2,     0.13, 2,     1.71, 2,  -999.00, 9,  -1.5745,     1.81, 2, 0.08, 2,     1.91, 2,     0.30, 2,   1.6580, 2, 0.318, 2, 0.272, 2, 4.888, 2
320620030705, SBI, 235, 1, 103, 3, 2, 20030808, 506, 72.9527, -161.6163, 84,     52.1,  -1.6166,  31.5701, 2, -999.0000, 9,    277.2, 2,    294.6, 2,    41.79, 2,    10.55, 2,     0.14, 2,     1.87, 2,  -999.00, 9,  -1.6174,     1.71, 2, 0.06, 2,     0.51, 2,     0.50, 2,   1.0880, 2, 0.194, 2, 0.176, 2, 4.893, 2
320620030705, SBI, 235, 1, 102, 2, 2, 20030808, 503, 72.9527, -161.6163, 84,     62.0,  -1.6652,  32.5582, 2, -999.0000, 9,    264.3, 2,    289.4, 2,    48.76, 2,    14.13, 2,     0.16, 2,     2.16, 2,  -999.00, 9,  -1.6663,     2.04, 2, 0.07, 2,  -999.00, 9,  -999.00, 9,   1.1480, 2, 0.198, 2, 0.150, 2, 4.893, 2
320620030705, SBI, 235, 1, 101, 1, 2, 20030808, 459, 72.9527, -161.6163, 84,     79.3,  -1.6704,  32.5803, 2,  32.5654, 2,    264.0, 2,    290.4, 2,    48.86, 2,    14.38, 2,     0.16, 2,     2.14, 2,    70.30, 2,  -1.6718,     2.00, 2, 0.07, 2,     0.49, 2,     0.86, 2,   1.1490, 2, 0.205, 2, 0.139, 2, 4.904, 2
320620030705, SBI, 236, 1, 106, 6, 2, 20030808, 618, 72.8992, -161.6390, 68,      1.9,  -0.8706,  29.8377, 2,  29.8409, 2,    349.3, 2,    394.8, 2,    12.21, 2,     0.08, 2,     0.00, 2,     0.79, 2,  -999.00, 9,  -0.8706,     0.01, 2, 0.01, 2,  -999.00, 9,  -999.00, 9,   1.9770, 2, 0.379, 2, 3.223, 2, 4.909, 2
320620030705, SBI, 236, 1, 105, 5, 2, 20030808, 616, 72.8992, -161.6390, 68,     14.3,  -0.9458,  29.8646, 2, -999.0000, 9,    356.3, 2,    393.0, 2,    12.70, 2,     0.03, 2,     0.00, 2,     0.82, 2,  -999.00, 9,  -0.9461,     0.00, 2, 0.01, 2,  -999.00, 9,  -999.00, 9,   2.0960, 2, 0.597, 2, 2.020, 2, 4.900, 2
320620030705, SBI, 236, 1, 104, 4, 2, 20030808, 614, 72.8992, -161.6390, 68,     25.1,  -0.9919,  30.0184, 2, -999.0000, 9,    353.7, 2,    373.8, 2,    22.83, 2,     2.19, 2,     0.05, 2,     1.17, 2,  -999.00, 9,  -0.9923,     0.25, 2, 0.03, 2,  -999.00, 9,  -999.00, 9,   2.1720, 2, 0.706, 2, 1.113, 2, 4.896, 2
320620030705, SBI, 236, 1, 103, 3, 2, 20030808, 612, 72.8992, -161.6390, 68,     41.3,  -1.6315,  32.3267, 2, -999.0000, 9,    282.7, 2,    302.6, 2,    44.79, 2,    12.69, 2,     0.17, 2,     2.02, 2,  -999.00, 9,  -1.6322,     1.88, 2, 0.09, 2,  -999.00, 9,  -999.00, 9,   1.1830, 2, 0.206, 2, 0.276, 2, 4.907, 2
320620030705, SBI, 236, 1, 102, 2, 2, 20030808, 610, 72.8992, -161.6390, 68,     53.8,  -1.6773,  32.6005, 2, -999.0000, 9,    264.0, 2,    289.7, 2,    48.13, 2,    14.54, 2,     0.15, 2,     2.16, 2,  -999.00, 9,  -1.6782,     2.22, 2, 0.09, 2,  -999.00, 9,  -999.00, 9,   1.2480, 2, 0.204, 2, 0.150, 2, 4.910, 2
320620030705, SBI, 236, 1, 101, 1, 2, 20030808, 608, 72.8992, -161.6390, 68,     63.3,  -1.6774,  32.6016, 2,  32.5923, 2,    264.5, 2,    289.5, 2,    48.13, 2,    14.59, 2,     0.15, 2,     2.15, 2,    70.10, 2,  -1.6785,     2.18, 2, 0.08, 2,  -999.00, 9,  -999.00, 9,   1.2610, 2, 0.211, 2, 0.139, 2, 4.913, 2