BOTTLE,20100423CCHDOSIODBK
EXPOCODE,SECT_ID,STNNBR,CASTNO,SAMPNO,BTLNBR,BTLNBR_FLAG_W,DATE,TIME,LATITUDE,LONGITUDE,DEPTH,CTDPRS,CTDTMP,CTDSAL,CTDSAL_FLAG_W,SALNTY,SALNTY_FLAG_W,CTDOXY,CTDOXY_FLAG_W,OXYGEN,OXYGEN_FLAG_W,SILCAT,SILCAT_FLAG_W,NITRAT,NITRAT_FLAG_W,NITRIT,NITRIT_FLAG_W,PHSPHT,PHSPHT_FLAG_W,DOC,DOC_FLAG_W,THETA,NH4,NH4_FLAG_W,UREA,UREA_FLAG_W,CHLORA,CHLORA_FLAG_W,PPHYTN,PPHYTN_FLAG_W,FLUOR,FLUOR_FLAG_W,HAARDT,HAARDT_FLAG_W,PAR,PAR_FLAG_W,SPAR,SPAR_FLAG_W
,,,,,,,,,,,METERS,DBAR,ITS-90,PSS-78,,PSS-78,,UMOL/KG,,UMOL/KG,,UMOL/KG,,UMOL/KG,,UMOL/KG,,UMOL/KG,,UMOL/KG,,DEG C,UMOL/KG,,UMOL/KG,,UG/KG,,UG/KG,,MG/M^3,,VOLTS,,VOLTS,,VOLTS,
320620030705, SBI, 284, 1, 108, 8, 2, 20030811, 1904, 71.8160, -155.5615, 123,      2.1,  -0.9016,  28.2255, 2,  28.2425, 2,    330.2, 2,    378.9, 2,     6.75, 2,     0.05, 2,     0.00, 2,     0.71, 2,  -999.00, 9,  -0.9016,     0.12, 2, 0, 2,  -999.00, 9,  -999.00, 9,   0.5530, 2, 0.174, 2, 4.166, 2, 3.960, 2
320620030705, SBI, 284, 1, 107, 7, 2, 20030811, 1902, 71.8160, -155.5615, 123,     16.9,  -0.8882,  28.2885, 2, -999.0000, 9,    346.0, 2,    392.2, 2,    10.81, 2,     0.04, 2,     0.01, 2,     0.79, 2,  -999.00, 9,  -0.8885,     0.17, 2, 0.02, 2,  -999.00, 9,  -999.00, 9,   0.7080, 2, 0.175, 2, 3.441, 2, 3.931, 2
320620030705, SBI, 284, 1, 106, 6, 2, 20030811, 1900, 71.8160, -155.5615, 123,     21.8,  -0.7549,  30.5563, 2, -999.0000, 9,    373.5, 2,    410.0, 2,    15.36, 2,     0.04, 2,     0.01, 2,     0.88, 2,  -999.00, 9,  -0.7554,     0.19, 2, 0.03, 2,  -999.00, 9,  -999.00, 9,   0.8420, 2, 0.189, 2, 2.904, 2, 4.440, 2
320620030705, SBI, 284, 1, 105, 5, 2, 20030811, 1857, 71.8160, -155.5615, 123,     32.6,  -1.2381,  31.4831, 2, -999.0000, 9,    327.7, 2,    361.7, 2,    17.23, 2,     1.51, 2,     0.08, 2,     1.26, 2,  -999.00, 9,  -1.2387,     0.71, 2, 0.17, 2,  -999.00, 9,  -999.00, 9,   2.2780, 2, 2.828, 2, 2.546, 2, 4.242, 2
320620030705, SBI, 284, 1, 104, 4, 2, 20030811, 1852, 71.8160, -155.5615, 123,     57.1,  -0.9941,  32.0456, 2, -999.0000, 9,    337.4, 2,    360.8, 2,    18.31, 2,     4.33, 2,     0.14, 2,     1.27, 2,  -999.00, 9,  -0.9954,     1.73, 2, 0.13, 2,  -999.00, 9,  -999.00, 9,   0.9830, 2, 0.200, 2, 0.423, 2, 4.109, 2
320620030705, SBI, 284, 1, 103, 3, 2, 20030811, 1849, 71.8160, -155.5615, 123,     77.1,  -1.3411,  32.2785, 2, -999.0000, 9,    305.1, 2,    324.3, 2,    26.79, 2,     7.38, 2,     0.21, 2,     1.57, 2,  -999.00, 9,  -1.3426,     1.78, 2, 0.08, 2,  -999.00, 9,  -999.00, 9,   0.8590, 2, 0.188, 2, 0.189, 2, 4.375, 2
320620030705, SBI, 284, 1, 102, 2, 2, 20030811, 1847, 71.8160, -155.5615, 123,     97.1,  -1.4177,  32.4162, 2, -999.0000, 9,    288.6, 2,    312.2, 2,    29.08, 2,     8.32, 2,     0.23, 2,     1.65, 2,  -999.00, 9,  -1.4196,     1.91, 2, 0.08, 2,  -999.00, 9,  -999.00, 9,   0.8790, 2, 0.185, 2, 0.146, 2, 4.246, 2
320620030705, SBI, 284, 1, 101, 1, 2, 20030811, 1844, 71.8160, -155.5615, 123,    118.2,  -1.4229,  32.4945, 2,  32.4797, 2,    281.3, 2,    307.4, 2,    30.08, 2,     8.80, 2,     0.22, 2,     1.69, 2,  -999.00, 9,  -1.4252,     1.98, 2, 0.08, 2,  -999.00, 9,  -999.00, 9,   0.9330, 2, 0.193, 2, 0.138, 2, 4.215, 2
320620030705, SBI, 285, 1, 110, 10, 2, 20030811, 2050, 71.7810, -155.4639, 139,      1.5,  -0.8197,  28.4271, 2,  28.4381, 2,    343.0, 2,    379.6, 2,     8.99, 2,     0.15, 2,     0.00, 2,     0.71, 2,  -999.00, 9,  -0.8197,     0.09, 2, 0.03, 2,     0.16, 2,     0.04, 2,   0.7450, 2, 0.175, 2, 3.587, 2, 4.020, 2
320620030705, SBI, 285, 1, 109, 9, 2, 20030811, 2047, 71.7810, -155.4639, 139,     22.8,  -0.7389,  29.8657, 2, -999.0000, 9,    364.6, 2,    391.2, 2,    14.59, 2,     0.45, 2,     0.01, 2,     0.89, 2,  -999.00, 9,  -0.7394,     0.30, 2, 0.05, 2,     0.60, 2,     0.10, 2,   0.8210, 2, 0.179, 2, 2.563, 2, 4.203, 2
320620030705, SBI, 285, 1, 108, 8, 2, 20030811, 2045, 71.7810, -155.4639, 139,     31.8,   0.3425,  31.2528, 2, -999.0000, 9,    354.3, 2,    367.0, 2,    14.27, 2,     1.99, 2,     0.08, 2,     1.08, 2,  -999.00, 9,   0.3415,     1.03, 2, 0.11, 2,     1.59, 2,     0.17, 2,   1.2300, 2, 0.221, 2, 2.205, 2, 4.050, 2
320620030705, SBI, 285, 1, 107, 7, 2, 20030811, 2042, 71.7810, -155.4639, 139,     42.6,  -0.9565,  31.7487, 2, -999.0000, 9,    323.5, 2,    360.6, 2,    19.68, 2,     3.93, 2,     0.16, 2,     1.28, 2,  -999.00, 9,  -0.9574,     1.79, 2, 0.15, 2,     0.36, 2,     0.17, 2,   1.1180, 2, 0.212, 2, 1.538, 2, 3.974, 2
320620030705, SBI, 285, 1, 106, 6, 2, 20030811, 2040, 71.7810, -155.4639, 139,     60.8,  -1.0151,  32.0369, 2, -999.0000, 9,    326.3, 2,    358.7, 2,    19.06, 2,     4.58, 2,     0.14, 2,     1.29, 2,  -999.00, 9,  -1.0164,     1.66, 2, 0.12, 2,     0.14, 2,     0.12, 2,   0.9530, 2, 0.199, 2, 0.942, 2, 4.212, 2
320620030705, SBI, 285, 1, 105, 5, 2, 20030811, 2036, 71.7810, -155.4639, 139,     77.5,  -1.3139,  32.2618, 2, -999.0000, 9,    302.1, 2,    326.6, 2,    25.79, 2,     7.51, 2,     0.19, 2,     1.58, 2,  -999.00, 9,  -1.3154,     2.41, 2, 0.13, 2,  -999.00, 9,  -999.00, 9,   0.9670, 2, 0.192, 2, 0.455, 2, 4.343, 2
320620030705, SBI, 285, 1, 104, 4, 2, 20030811, 2033, 71.7810, -155.4639, 139,     90.8,  -1.4868,  32.4007, 2, -999.0000, 9,    289.3, 2,    311.1, 2,    29.30, 2,     8.93, 2,     0.20, 2,     1.69, 2,  -999.00, 9,  -1.4885,     2.49, 2, 0.11, 2,  -999.00, 9,  -999.00, 9,   0.9730, 2, 0.189, 2, 0.282, 2, 4.169, 2
320620030705, SBI, 285, 1, 103, 3, 2, 20030811, 2032, 71.7810, -155.4639, 139,    102.7,  -1.4333,  32.4731, 2, -999.0000, 9,    283.5, 2,    307.5, 2,    29.80, 2,     9.13, 2,     0.21, 2,     1.69, 2,  -999.00, 9,  -1.4353,     1.93, 2, 0.07, 2,  -999.00, 9,  -999.00, 9,   0.7980, 2, 0.184, 2, 0.184, 2, 4.276, 2
320620030705, SBI, 285, 1, 102, 2, 2, 20030811, 2029, 71.7810, -155.4639, 139,    125.1,  -1.4714,  32.6623, 2, -999.0000, 9,    277.2, 2,    300.3, 2,    29.59, 2,    11.29, 2,     0.12, 2,     1.68, 2,  -999.00, 9,  -1.4739,     0.74, 2, 0.04, 2,  -999.00, 9,  -999.00, 9,   0.9880, 2, 0.183, 2, 0.141, 2, 4.200, 2
320620030705, SBI, 285, 1, 101, 1, 2, 20030811, 2028, 71.7810, -155.4639, 139,    134.3,  -1.4779,  32.8688, 2,  32.8143, 2,    273.8, 2,    298.7, 2,    29.78, 2,    11.77, 2,     0.10, 2,     1.69, 2,  -999.00, 9,  -1.4806,     0.52, 2, 0.04, 2,  -999.00, 9,  -999.00, 9,   0.9100, 2, 0.181, 2, 0.139, 2, 4.166, 2
320620030705, SBI, 286, 1, 114, 14, 2, 20030811, 2242, 71.7428, -155.3758, 176,      1.4,   0.4545,  29.5374, 2,  29.5725, 2,    354.5, 2,    377.3, 2,    13.92, 2,     0.08, 2,     0.00, 2,     0.71, 2,    85.30, 2,   0.4545,     0.12, 2, 0.19, 2,     0.27, 2,     0.10, 2,   0.9930, 2, 0.185, 2, 3.882, 2, 4.343, 2
320620030705, SBI, 286, 1, 113, 13, 2, 20030811, 2241, 71.7428, -155.3758, 176,      7.9,   0.3965,  29.5160, 2, -999.0000, 9,    355.1, 2,   -999.0, 9,  -999.00, 9,  -999.00, 9,  -999.00, 9,  -999.00, 9,    77.00, 2,   0.3963,  -999.00, 9, -999, 9,  -999.00, 9,  -999.00, 9,   0.9980, 2, 0.193, 2, 3.409, 2, 4.387, 2
320620030705, SBI, 286, 1, 112, 12, 2, 20030811, 2239, 71.7428, -155.3758, 176,     12.9,   0.3803,  29.5142, 2,  29.5356, 2,    354.7, 2,    377.4, 2,    13.72, 2,     0.03, 2,     0.00, 2,     0.70, 2,    75.50, 2,   0.3799,     0.02, 2, 0.01, 2,     0.27, 2,     0.07, 2,   1.0750, 2, 0.197, 2, 3.139, 2, 4.352, 2
320620030705, SBI, 286, 1, 111, 11, 2, 20030811, 2236, 71.7428, -155.3758, 176,     28.7,   0.1576,  30.2011, 2, -999.0000, 9,    361.7, 2,    374.0, 2,    18.62, 2,     1.13, 2,     0.02, 2,     1.07, 2,  -999.00, 9,   0.1568,     0.28, 2, 0.05, 2,     3.49, 2,     0.13, 2,   1.2540, 2, 0.222, 2, 2.342, 2, 4.096, 2
320620030705, SBI, 286, 1, 110, 10, 2, 20030811, 2234, 71.7428, -155.3758, 176,     35.5,  -1.3913,  31.3397, 2, -999.0000, 9,    327.0, 2,    360.1, 2,    17.90, 2,     2.90, 2,     0.06, 2,     1.29, 2,  -999.00, 9,  -1.3919,     0.77, 2, 0.09, 2,     4.49, 2,     0.08, 2,   2.0300, 2, 0.566, 2, 2.045, 2, 4.003, 2
320620030705, SBI, 286, 1, 109, 9, 2, 20030811, 2230, 71.7428, -155.3758, 176,     53.5,  -0.5372,  32.0601, 2, -999.0000, 9,    333.2, 2,    349.9, 2,    14.57, 2,     3.52, 2,     0.09, 2,     1.28, 2,  -999.00, 9,  -0.5386,     1.40, 2, 0.12, 2,     0.96, 2,     0.35, 2,   1.3810, 2, 0.237, 2, 0.657, 2, 4.332, 2
320620030705, SBI, 286, 1, 108, 8, 2, 20030811, 2229, 71.7428, -155.3758, 176,     62.3,  -0.6343,  32.1204, 2, -999.0000, 9,    320.3, 2,    348.4, 2,    15.16, 2,     3.72, 2,     0.09, 2,     1.30, 2,  -999.00, 9,  -0.6359,     1.45, 2, 0.12, 2,  -999.00, 9,  -999.00, 9,   1.2940, 2, 0.225, 2, 0.313, 2, 4.265, 2
320620030705, SBI, 286, 1, 107, 7, 2, 20030811, 2228, 71.7428, -155.3758, 176,     72.8,  -1.0373,  32.1573, 2, -999.0000, 9,    307.7, 2,    322.1, 2,    23.59, 2,     6.02, 2,     0.13, 2,     1.56, 2,  -999.00, 9,  -1.0389,     2.04, 2, 0.15, 2,  -999.00, 9,  -999.00, 9,   1.2530, 2, 0.227, 2, 0.168, 2, 4.317, 2
320620030705, SBI, 286, 1, 106, 6, 2, 20030811, 2226, 71.7428, -155.3758, 176,     87.5,  -1.5399,  32.3439, 2, -999.0000, 9,    278.1, 2,    321.0, 2,    24.99, 2,     7.28, 2,     0.14, 2,     1.67, 2,  -999.00, 9,  -1.5415,     2.63, 2, 0.18, 2,  -999.00, 9,  -999.00, 9,   1.2100, 2, 0.213, 2, 0.140, 2, 4.252, 2
320620030705, SBI, 286, 1, 105, 5, 2, 20030811, 2224, 71.7428, -155.3758, 176,    101.7,  -1.3495,  32.4600, 2, -999.0000, 9,    319.4, 2,    342.9, 2,    16.74, 2,     6.39, 2,     0.13, 2,     1.52, 2,  -999.00, 9,  -1.3516,     2.23, 2, 0.17, 2,     0.63, 2,     0.45, 2,   1.2210, 2, 0.213, 2, 0.139, 2, 4.243, 2
320620030705, SBI, 286, 1, 104, 4, 2, 20030811, 2222, 71.7428, -155.3758, 176,    122.7,  -1.4697,  32.5526, 2, -999.0000, 9,    302.8, 2,    315.9, 2,    22.06, 2,     8.86, 2,     0.16, 2,     1.73, 2,  -999.00, 9,  -1.4721,     2.69, 2, 0.18, 2,  -999.00, 9,  -999.00, 9,   1.2090, 2, 0.217, 2, 0.139, 2, 4.245, 2
320620030705, SBI, 286, 1, 103, 3, 2, 20030811, 2221, 71.7428, -155.3758, 176,    143.1,  -1.5051,  32.7559, 2, -999.0000, 9,    275.0, 2,    294.4, 2,    30.80, 2,    12.05, 2,     0.10, 2,     1.73, 2,  -999.00, 9,  -1.5079,     0.83, 2, 0.05, 2,  -999.00, 9,  -999.00, 9,   0.9810, 2, 0.182, 2, 0.139, 2, 4.193, 2
320620030705, SBI, 286, 1, 102, 2, 2, 20030811, 2219, 71.7428, -155.3758, 176,    157.8,  -1.3943,  33.1060, 2, -999.0000, 9,    262.1, 2,    283.4, 2,    33.62, 2,    12.11, 2,     0.14, 2,     1.80, 2,  -999.00, 9,  -1.3977,     2.05, 2, 0.11, 2,     0.25, 2,     0.45, 2,   1.0610, 2, 0.194, 2, 0.139, 2, 3.853, 2
320620030705, SBI, 286, 1, 101, 1, 2, 20030811, 2217, 71.7428, -155.3758, 176,    171.9,  -1.1090,  33.9216, 2,  33.8983, 2,    265.7, 2,    287.1, 2,    27.75, 2,    13.27, 2,     0.09, 2,     1.56, 2,  -999.00, 9,  -1.1134,     0.24, 2, 0.05, 2,  -999.00, 9,  -999.00, 9,   0.8410, 2, 0.180, 2, 0.139, 2, 4.201, 2
320620030705, SBI, 287, 1, 115, 15, 2, 20030812, 36, 71.7050, -155.2758, 271,      1.4,   0.5463,  29.7094, 2,  29.7008, 2,    349.4, 2,    381.1, 2,    14.08, 2,     0.05, 2,     0.00, 2,     0.60, 2,    85.30, 2,   0.5463,     0.03, 2, 0, 2,     0.30, 2,     0.08, 2,   1.0400, 2, 0.191, 2, 3.669, 2, 4.383, 2
320620030705, SBI, 287, 1, 114, 14, 2, 20030812, 35, 71.7050, -155.2758, 271,      8.7,   0.5808,  29.6670, 2, -999.0000, 9,    352.8, 2,   -999.0, 9,  -999.00, 9,  -999.00, 9,  -999.00, 9,  -999.00, 9,    77.80, 2,   0.5805,  -999.00, 9, -999, 9,  -999.00, 9,  -999.00, 9,   1.0380, 2, 0.195, 2, 3.227, 2, 4.412, 2
320620030705, SBI, 287, 1, 113, 13, 2, 20030812, 34, 71.7050, -155.2758, 271,     14.0,   0.5906,  29.6560, 2, -999.0000, 9,    351.2, 2,    383.1, 2,    15.21, 2,     0.05, 2,     0.00, 2,     0.67, 2,    75.70, 2,   0.5902,     0.04, 2, 0, 2,     0.76, 2,     0.19, 2,   1.0160, 2, 0.196, 2, 2.923, 2, 4.301, 2
320620030705, SBI, 287, 1, 112, 12, 2, 20030812, 32, 71.7050, -155.2758, 271,     26.8,  -0.1599,  30.3180, 2, -999.0000, 9,    357.9, 2,    382.2, 2,    17.23, 2,     0.63, 2,     0.01, 2,     0.98, 2,  -999.00, 9,  -0.1606,     0.46, 2, 0.04, 2,     2.35, 2,     0.19, 2,   1.6060, 2, 0.281, 2, 2.216, 2, 4.401, 2
320620030705, SBI, 287, 1, 111, 11, 2, 20030812, 30, 71.7050, -155.2758, 271,     37.9,   0.1404,  31.4673, 2, -999.0000, 9,    336.0, 2,    365.1, 2,    12.14, 2,     1.81, 2,     0.04, 2,     1.10, 2,  -999.00, 9,   0.1392,     0.92, 2, 0.08, 2,     2.71, 2,     0.08, 2,   1.7580, 2, 0.355, 2, 1.456, 2, 4.355, 2
320620030705, SBI, 287, 1, 110, 10, 2, 20030812, 28, 71.7050, -155.2758, 271,     52.1,   0.8251,  31.9531, 2, -999.0000, 9,    344.2, 2,    370.1, 2,     5.63, 2,     1.55, 2,     0.04, 2,     1.00, 2,  -999.00, 9,   0.8231,     0.98, 2, 0.09, 2,  -999.00, 9,  -999.00, 9,   1.2110, 2, 0.214, 2, 0.639, 2, 4.537, 2
320620030705, SBI, 287, 1, 109, 9, 2, 20030812, 26, 71.7050, -155.2758, 271,     67.1,  -0.1887,  32.1567, 2, -999.0000, 9,    342.0, 2,    373.4, 2,     5.90, 2,     2.07, 2,     0.05, 2,     1.07, 2,  -999.00, 9,  -0.1907,     1.08, 2, 0.1, 2,  -999.00, 9,  -999.00, 9,   1.2660, 2, 0.230, 2, 0.216, 2, 4.532, 2
320620030705, SBI, 287, 1, 108, 8, 2, 20030812, 25, 71.7050, -155.2758, 271,     77.2,  -0.2958,  32.1908, 2, -999.0000, 9,    343.1, 2,    372.5, 2,     6.27, 2,     2.22, 2,     0.06, 2,     1.09, 2,  -999.00, 9,  -0.2980,     1.14, 2, 0.11, 2,     0.71, 2,     0.37, 2,   1.2400, 2, 0.232, 2, 0.151, 2, 4.554, 2
320620030705, SBI, 287, 1, 107, 7, 2, 20030812, 23, 71.7050, -155.2758, 271,     92.1,  -0.5059,  32.2356, 2, -999.0000, 9,    342.9, 2,    369.3, 2,     7.74, 2,     3.06, 2,     0.07, 2,     1.17, 2,  -999.00, 9,  -0.5084,     1.36, 2, 0.12, 2,  -999.00, 9,  -999.00, 9,   1.2310, 2, 0.236, 2, 0.139, 2, 4.429, 2
320620030705, SBI, 287, 1, 106, 6, 2, 20030812, 21, 71.7050, -155.2758, 271,    122.4,  -1.5716,  32.5765, 2, -999.0000, 9,    288.8, 2,    299.0, 2,    30.17, 2,     9.82, 2,     0.17, 2,     1.84, 2,  -999.00, 9,  -1.5739,     3.16, 2, 0.16, 2,  -999.00, 9,  -999.00, 9,   1.2010, 2, 0.224, 2, 0.139, 2, 4.326, 2
320620030705, SBI, 287, 1, 105, 5, 2, 20030812, 19, 71.7050, -155.2758, 271,    152.4,  -1.4801,  32.8452, 2, -999.0000, 9,    262.9, 2,    285.9, 2,    28.63, 2,    12.31, 2,     0.11, 2,     1.66, 2,  -999.00, 9,  -1.4832,     1.47, 2, 0.11, 2,     0.45, 2,     0.38, 2,   1.0740, 2, 0.205, 2, 0.139, 2, 4.404, 2
320620030705, SBI, 287, 1, 104, 4, 2, 20030812, 17, 71.7050, -155.2758, 271,    182.6,  -0.4182,  34.4873, 2, -999.0000, 9,    264.6, 2,    276.7, 2,    15.62, 2,    13.02, 2,     0.01, 2,     1.15, 2,  -999.00, 9,  -0.4242,     0.01, 2, 0.02, 2,  -999.00, 9,  -999.00, 9,   0.7130, 2, 0.185, 2, 0.140, 2, 4.384, 2
320620030705, SBI, 287, 1, 103, 3, 2, 20030812, 16, 71.7050, -155.2758, 271,    202.7,   0.2592,  34.6587, 2, -999.0000, 9,    257.1, 2,    276.6, 2,    12.89, 2,    12.90, 2,     0.02, 2,     1.06, 2,  -999.00, 9,   0.2513,     0.01, 2, 0.02, 2,  -999.00, 9,  -999.00, 9,   0.6870, 2, 0.179, 2, 0.140, 2, 4.148, 2
320620030705, SBI, 287, 1, 102, 2, 2, 20030812, 13, 71.7050, -155.2758, 271,    242.9,   0.5055,  34.7401, 2, -999.0000, 9,    260.4, 2,    281.4, 2,    11.46, 2,    12.78, 2,     0.04, 2,     1.02, 2,  -999.00, 9,   0.4953,     0.05, 2, 0.03, 2,  -999.00, 9,  -999.00, 9,   0.8760, 2, 0.183, 2, 0.140, 2, 4.398, 2
320620030705, SBI, 287, 1, 101, 1, 2, 20030812, 10, 71.7050, -155.2758, 271,    268.2,   0.6468,  34.8179, 2,  34.8139, 2,    268.1, 2,    287.2, 2,     9.65, 2,    12.53, 2,     0.03, 2,     0.96, 2,  -999.00, 9,   0.6352,     0.24, 2, 0.04, 2,  -999.00, 9,  -999.00, 9,   0.8720, 2, 0.187, 2, 0.140, 2, 4.265, 2
320620030705, SBI, 288, 1, 112, 12, 2, 20030812, 236, 71.6674, -155.1785, 156,      1.7,   3.4888,  30.1194, 2,  30.1439, 2,    321.1, 2,    337.4, 2,     3.36, 2,     0.15, 2,     0.00, 2,     0.52, 2,    74.20, 2,   3.4887,     0.00, 2, 0, 2,     0.53, 2,     0.11, 2,   1.1360, 2, 0.199, 2, 3.663, 2, 4.662, 2
320620030705, SBI, 288, 1, 111, 11, 2, 20030812, 235, 71.6674, -155.1785, 156,      8.9,   3.6395,  30.2090, 2, -999.0000, 9,    319.1, 2,   -999.0, 9,  -999.00, 9,  -999.00, 9,  -999.00, 9,  -999.00, 9,    71.00, 2,   3.6390,  -999.00, 9, -999, 9,  -999.00, 9,  -999.00, 9,   1.2320, 2, 0.213, 2, 2.889, 2, 4.647, 2
320620030705, SBI, 288, 1, 110, 10, 2, 20030812, 233, 71.6674, -155.1785, 156,     17.1,   3.9154,  30.5239, 2, -999.0000, 9,    314.3, 2,    330.3, 2,     2.33, 2,     0.14, 2,     0.01, 2,     0.54, 2,    73.70, 2,   3.9144,     0.14, 2, 0.01, 2,     0.54, 2,     0.14, 2,   1.2000, 2, 0.218, 2, 2.002, 2, 4.640, 2
320620030705, SBI, 288, 1, 109, 9, 2, 20030812, 232, 71.6674, -155.1785, 156,     27.0,   4.1660,  30.6727, 2, -999.0000, 9,    311.0, 2,    327.6, 2,     1.40, 2,     0.09, 2,     0.00, 2,     0.51, 2,  -999.00, 9,   4.1643,     0.12, 2, 0.01, 2,     0.46, 2,     0.14, 2,   1.2050, 2, 0.216, 2, 1.084, 2, 4.627, 2
320620030705, SBI, 288, 1, 108, 8, 2, 20030812, 231, 71.6674, -155.1785, 156,     41.9,   4.1178,  30.8272, 2, -999.0000, 9,    311.3, 2,    329.0, 2,     1.17, 2,     0.09, 2,     0.00, 2,     0.51, 2,  -999.00, 9,   4.1152,     0.17, 2, 0.02, 2,     0.29, 2,     0.11, 2,   1.0550, 2, 0.204, 2, 0.367, 2, 4.625, 2
320620030705, SBI, 288, 1, 107, 7, 2, 20030812, 229, 71.6674, -155.1785, 156,     57.0,   3.5695,  31.1250, 2, -999.0000, 9,    315.9, 2,    339.4, 2,     2.32, 2,     0.19, 2,     0.01, 2,     0.66, 2,  -999.00, 9,   3.5661,     0.48, 2, 0.05, 2,  -999.00, 9,  -999.00, 9,   1.0300, 2, 0.204, 2, 0.178, 2, 4.635, 2
320620030705, SBI, 288, 1, 106, 6, 2, 20030812, 228, 71.6674, -155.1785, 156,     72.0,   2.0039,  31.7872, 2, -999.0000, 9,    332.3, 2,    357.5, 2,     3.57, 2,     0.43, 2,     0.03, 2,     0.84, 2,  -999.00, 9,   2.0005,     0.70, 2, 0.07, 2,  -999.00, 9,  -999.00, 9,   1.1050, 2, 0.213, 2, 0.144, 2, 4.637, 2
320620030705, SBI, 288, 1, 105, 5, 2, 20030812, 226, 71.6674, -155.1785, 156,     87.1,   0.8372,  31.9750, 2, -999.0000, 9,    339.8, 2,    369.7, 2,     5.51, 2,     1.48, 2,     0.05, 2,     1.01, 2,  -999.00, 9,   0.8339,     1.05, 2, 0.11, 2,  -999.00, 9,  -999.00, 9,   1.1460, 2, 0.216, 2, 0.139, 2, 4.636, 2
320620030705, SBI, 288, 1, 104, 4, 2, 20030812, 225, 71.6674, -155.1785, 156,    107.2,  -0.6173,  32.2475, 2, -999.0000, 9,    328.7, 2,    339.9, 2,    16.43, 2,     5.40, 2,     0.11, 2,     1.43, 2,  -999.00, 9,  -0.6201,     2.12, 2, 0.16, 2,  -999.00, 9,  -999.00, 9,   1.2530, 2, 0.230, 2, 0.139, 2, 4.631, 2
320620030705, SBI, 288, 1, 103, 3, 2, 20030812, 223, 71.6674, -155.1785, 156,    126.9,  -1.2170,  32.4654, 2, -999.0000, 9,    296.9, 2,    312.4, 2,    24.01, 2,     8.17, 2,     0.15, 2,     1.67, 2,  -999.00, 9,  -1.2197,     2.67, 2, 0.17, 2,     0.66, 2,     0.52, 2,   1.2910, 2, 0.220, 2, 0.139, 2, 4.631, 2
320620030705, SBI, 288, 1, 102, 2, 2, 20030812, 221, 71.6674, -155.1785, 156,    137.3,  -1.4577,  32.6008, 2, -999.0000, 9,    272.6, 2,    295.2, 2,    25.78, 2,    10.01, 2,     0.16, 2,     1.79, 2,  -999.00, 9,  -1.4604,     3.00, 2, 0.18, 2,  -999.00, 9,  -999.00, 9,   1.1590, 2, 0.213, 2, 0.139, 2, 4.631, 2
320620030705, SBI, 288, 1, 101, 1, 2, 20030812, 220, 71.6674, -155.1785, 156,    151.2,  -1.3497,  32.8701, 2,  32.8574, 2,    268.5, 2,    293.9, 2,    25.04, 2,    10.17, 2,     0.16, 2,     1.79, 2,  -999.00, 9,  -1.3529,     3.08, 2, 0.2, 2,     0.93, 2,     0.91, 2,   1.3410, 2, 0.239, 2, 0.140, 2, 4.629, 2