BOTTLE,20100423CCHDOSIODBK
EXPOCODE,SECT_ID,STNNBR,CASTNO,SAMPNO,BTLNBR,BTLNBR_FLAG_W,DATE,TIME,LATITUDE,LONGITUDE,DEPTH,CTDPRS,CTDTMP,CTDSAL,CTDSAL_FLAG_W,SALNTY,SALNTY_FLAG_W,CTDOXY,CTDOXY_FLAG_W,OXYGEN,OXYGEN_FLAG_W,SILCAT,SILCAT_FLAG_W,NITRAT,NITRAT_FLAG_W,NITRIT,NITRIT_FLAG_W,PHSPHT,PHSPHT_FLAG_W,DOC,DOC_FLAG_W,THETA,NH4,NH4_FLAG_W,UREA,UREA_FLAG_W,CHLORA,CHLORA_FLAG_W,PPHYTN,PPHYTN_FLAG_W,FLUOR,FLUOR_FLAG_W,HAARDT,HAARDT_FLAG_W,PAR,PAR_FLAG_W,SPAR,SPAR_FLAG_W
,,,,,,,,,,,METERS,DBAR,ITS-90,PSS-78,,PSS-78,,UMOL/KG,,UMOL/KG,,UMOL/KG,,UMOL/KG,,UMOL/KG,,UMOL/KG,,UMOL/KG,,DEG C,UMOL/KG,,UMOL/KG,,UG/KG,,UG/KG,,MG/M^3,,VOLTS,,VOLTS,,VOLTS,
320620030705, SBI, 294, 1, 112, 12, 2, 20030813, 626, 71.9599, -151.8305, 2268,      1.4,  -0.1486,  28.1362, 2,  28.1154, 2,    338.3, 2,    374.7, 2,     3.07, 2,     0.16, 2,     0.00, 2,     0.64, 2,  -999.00, 9,  -0.1486,     0.01, 2, 0, 2,  -999.00, 9,  -999.00, 9,   0.7210, 2, 0.175, 2, 2.821, 2, 4.968, 2
320620030705, SBI, 294, 1, 111, 11, 2, 20030813, 625, 71.9599, -151.8305, 2268,     24.5,   0.5616,  30.0382, 2, -999.0000, 9,    352.8, 2,    389.0, 2,     9.87, 2,     0.77, 2,     0.06, 2,     0.90, 2,  -999.00, 9,   0.5608,     0.36, 2, 0.02, 2,  -999.00, 9,  -999.00, 9,   1.1100, 2, 0.200, 2, 1.860, 2, 4.966, 2
320620030705, SBI, 294, 1, 110, 10, 2, 20030813, 623, 71.9599, -151.8305, 2268,     44.4,  -0.2983,  31.7503, 2, -999.0000, 9,    328.6, 2,    364.0, 2,    12.56, 2,     2.70, 2,     0.09, 2,     1.15, 2,  -999.00, 9,  -0.2995,     1.78, 2, 0.13, 2,  -999.00, 9,  -999.00, 9,   1.1380, 2, 0.215, 2, 1.104, 2, 4.966, 2
320620030705, SBI, 294, 1, 109, 9, 2, 20030813, 622, 71.9599, -151.8305, 2268,     64.4,  -0.5044,  32.0589, 2, -999.0000, 9,    328.6, 2,    350.9, 2,    18.48, 2,     5.03, 2,     0.12, 2,     1.33, 2,  -999.00, 9,  -0.5061,     1.88, 2, 0.1, 2,  -999.00, 9,  -999.00, 9,   0.8930, 2, 0.186, 2, 0.547, 2, 4.966, 2
320620030705, SBI, 294, 1, 108, 8, 2, 20030813, 620, 71.9599, -151.8305, 2268,     84.4,  -1.0102,  32.3361, 2, -999.0000, 9,    302.3, 2,    326.2, 2,    22.60, 2,     8.07, 2,     0.13, 2,     1.53, 2,  -999.00, 9,  -1.0121,     1.60, 2, 0.06, 2,  -999.00, 9,  -999.00, 9,   0.8230, 2, 0.181, 2, 0.256, 2, 4.966, 2
320620030705, SBI, 294, 1, 107, 7, 2, 20030813, 618, 71.9599, -151.8305, 2268,    104.5,  -1.4543,  32.6106, 2, -999.0000, 9,    264.2, 2,    299.5, 2,    28.15, 2,    11.84, 2,     0.07, 2,     1.71, 2,  -999.00, 9,  -1.4564,     0.72, 2, 0.02, 2,  -999.00, 9,  -999.00, 9,   0.6970, 2, 0.178, 2, 0.168, 2, 4.966, 2
320620030705, SBI, 294, 1, 106, 6, 2, 20030813, 617, 71.9599, -151.8305, 2268,    124.7,  -1.5667,  32.8728, 2, -999.0000, 9,    262.9, 2,    290.6, 2,    30.88, 2,    13.95, 2,     0.02, 2,     1.76, 2,  -999.00, 9,  -1.5691,     0.02, 2, 0, 2,  -999.00, 9,  -999.00, 9,   0.6570, 2, 0.177, 2, 0.146, 2, 4.966, 2
320620030705, SBI, 294, 1, 105, 5, 2, 20030813, 615, 71.9599, -151.8305, 2268,    144.8,  -1.4353,  33.1030, 2, -999.0000, 9,    261.4, 2,    291.0, 2,    29.75, 2,    13.55, 2,     0.05, 2,     1.68, 2,  -999.00, 9,  -1.4384,     0.25, 2, 0, 2,  -999.00, 9,  -999.00, 9,   0.8230, 2, 0.179, 2, 0.141, 2, 4.966, 2
320620030705, SBI, 294, 1, 104, 4, 2, 20030813, 613, 71.9599, -151.8305, 2268,    165.0,  -1.3517,  33.5257, 2, -999.0000, 9,    254.0, 2,    282.1, 2,    29.73, 2,    14.39, 2,     0.03, 2,     1.64, 2,  -999.00, 9,  -1.3555,     0.00, 2, 0, 2,  -999.00, 9,  -999.00, 9,   0.7030, 2, 0.177, 2, 0.139, 2, 4.966, 2
320620030705, SBI, 294, 1, 103, 3, 2, 20030813, 611, 71.9599, -151.8305, 2268,    184.9,  -1.1908,  33.8648, 2, -999.0000, 9,    251.2, 2,    277.8, 2,    24.56, 2,    14.14, 2,     0.01, 2,     1.45, 2,  -999.00, 9,  -1.1954,     0.02, 2, 0.01, 2,  -999.00, 9,  -999.00, 9,   0.6910, 2, 0.176, 2, 0.140, 2, 4.965, 2
320620030705, SBI, 294, 1, 102, 2, 2, 20030813, 610, 71.9599, -151.8305, 2268,    204.9,  -0.7738,  34.2333, 2,  34.3453, 2,    249.2, 2,    275.2, 2,    18.99, 2,    13.63, 2,     0.01, 2,     1.25, 2,  -999.00, 9,  -0.7799,     0.00, 2, 0, 2,  -999.00, 9,  -999.00, 9,   0.6510, 2, 0.174, 2, 0.140, 2, 4.964, 2
320620030705, SBI, 294, 1, 101, 1, 2, 20030813, 602, 71.9599, -151.8305, 2268,    506.8,   0.4788,  34.8435, 2,  34.8398, 2,    267.9, 2,    295.8, 2,     7.34, 2,    12.54, 2,     0.01, 2,     0.91, 2,  -999.00, 9,   0.4564,     0.00, 2, 0, 2,  -999.00, 9,  -999.00, 9,   0.6710, 2, 0.172, 2, 0.140, 2, 4.957, 2
320620030705, SBI, 295, 1, 112, 12, 2, 20030813, 906, 71.9110, -151.8697, 2086,      1.7,  -0.3375,  27.9100, 2, -999.0000, 9,    352.0, 2,    377.4, 2,     2.56, 2,     0.14, 2,     0.00, 2,     0.63, 2,  -999.00, 9,  -0.3375,     0.00, 2, 0, 2,  -999.00, 9,  -999.00, 9,   0.7050, 2, 0.175, 2, 1.263, 2, 5.000, 2
320620030705, SBI, 295, 1, 111, 11, 2, 20030813, 904, 71.9110, -151.8697, 2086,     22.9,   0.6208,  29.3269, 2, -999.0000, 9,    353.0, 2,    386.6, 2,     9.36, 2,     0.97, 2,     0.10, 2,     0.87, 2,  -999.00, 9,   0.6201,     0.14, 2, 0.01, 2,  -999.00, 9,  -999.00, 9,   0.9770, 2, 0.191, 2, 0.651, 2, 5.000, 2
320620030705, SBI, 295, 1, 110, 10, 2, 20030813, 902, 71.9110, -151.8697, 2086,     40.0,  -0.9150,  31.5316, 2, -999.0000, 9,    346.6, 2,    368.6, 2,    10.24, 2,     2.76, 2,     0.16, 2,     1.07, 2,  -999.00, 9,  -0.9159,     0.59, 2, 0.04, 2,  -999.00, 9,  -999.00, 9,   1.2980, 2, 0.236, 2, 0.325, 2, 5.000, 2
320620030705, SBI, 295, 1, 109, 9, 2, 20030813, 900, 71.9110, -151.8697, 2086,     63.1,  -1.0128,  32.0699, 2, -999.0000, 9,    335.5, 2,    350.6, 2,    16.86, 2,     5.44, 2,     0.11, 2,     1.30, 2,  -999.00, 9,  -1.0142,     1.18, 2, 0.06, 2,  -999.00, 9,  -999.00, 9,   0.8610, 2, 0.187, 2, 0.172, 2, 5.000, 2
320620030705, SBI, 295, 1, 108, 8, 2, 20030813, 858, 71.9110, -151.8697, 2086,     85.2,  -1.1895,  32.3688, 2, -999.0000, 9,    316.0, 2,    336.4, 2,    20.58, 2,     6.91, 2,     0.15, 2,     1.51, 2,  -999.00, 9,  -1.1913,     2.24, 2, 0.12, 2,  -999.00, 9,  -999.00, 9,   0.8780, 2, 0.194, 2, 0.144, 2, 5.000, 2
320620030705, SBI, 295, 1, 107, 7, 2, 20030813, 856, 71.9110, -151.8697, 2086,    105.2,  -1.4182,  32.5510, 2, -999.0000, 9,    276.3, 2,    301.5, 2,    26.43, 2,    11.86, 2,     0.04, 2,     1.68, 2,  -999.00, 9,  -1.4203,     0.34, 2, 0.01, 2,  -999.00, 9,  -999.00, 9,   0.7060, 2, 0.176, 2, 0.139, 2, 5.000, 2
320620030705, SBI, 295, 1, 106, 6, 2, 20030813, 854, 71.9110, -151.8697, 2086,    125.3,  -1.5573,  32.8582, 2, -999.0000, 9,    273.5, 2,    291.0, 2,    30.98, 2,    13.89, 2,     0.02, 2,     1.76, 2,  -999.00, 9,  -1.5597,     0.01, 2, 0, 2,  -999.00, 9,  -999.00, 9,   0.9040, 2, 0.176, 2, 0.139, 2, 5.000, 2
320620030705, SBI, 295, 1, 105, 5, 2, 20030813, 852, 71.9110, -151.8697, 2086,    145.1,  -1.5484,  33.0714, 2, -999.0000, 9,    266.0, 2,    287.8, 2,    31.17, 2,    14.07, 2,     0.04, 2,     1.74, 2,  -999.00, 9,  -1.5513,     0.23, 2, 0, 2,  -999.00, 9,  -999.00, 9,   0.6340, 2, 0.177, 2, 0.139, 2, 5.000, 2
320620030705, SBI, 295, 1, 104, 4, 2, 20030813, 850, 71.9110, -151.8697, 2086,    165.1,  -1.3813,  33.4519, 2, -999.0000, 9,    257.8, 2,    278.7, 2,    30.85, 2,    14.71, 2,     0.01, 2,     1.67, 2,  -999.00, 9,  -1.3850,     0.01, 2, 0, 2,  -999.00, 9,  -999.00, 9,   0.6770, 2, 0.177, 2, 0.139, 2, 5.000, 2
320620030705, SBI, 295, 1, 103, 3, 2, 20030813, 848, 71.9110, -151.8697, 2086,    185.5,  -1.2143,  33.7716, 2, -999.0000, 9,    258.2, 2,    280.3, 2,    27.39, 2,    14.40, 2,     0.02, 2,     1.54, 2,  -999.00, 9,  -1.2189,     0.01, 2, 0, 2,  -999.00, 9,  -999.00, 9,   0.6130, 2, 0.177, 2, 0.139, 2, 5.000, 2
320620030705, SBI, 295, 1, 102, 2, 2, 20030813, 847, 71.9110, -151.8697, 2086,    205.5,  -0.8793,  34.1890, 2, -999.0000, 9,    258.4, 2,    284.8, 2,    21.72, 2,    13.46, 2,     0.02, 2,     1.36, 2,  -999.00, 9,  -0.8852,     0.01, 2, 0.01, 2,  -999.00, 9,  -999.00, 9,   0.8150, 2, 0.177, 2, 0.140, 2, 5.000, 2
320620030705, SBI, 295, 1, 101, 1, 2, 20030813, 839, 71.9110, -151.8697, 2086,    506.9,   0.4715,  34.8464, 2,  34.8428, 2,    276.3, 2,    295.0, 2,     7.13, 2,    12.54, 2,     0.01, 2,     0.91, 2,  -999.00, 9,   0.4492,     0.00, 2, 0.01, 2,  -999.00, 9,  -999.00, 9,   0.5460, 2, 0.174, 2, 0.140, 2, 5.000, 2
320620030705, SBI, 296, 1, 112, 12, 2, 20030813, 1120, 71.8676, -151.8541, 1619,      1.5,  -0.3313,  27.9033, 2, -999.0000, 9,    353.5, 2,    377.2, 2,     2.76, 2,     0.10, 2,     0.00, 2,     0.64, 2,  -999.00, 9,  -0.3313,     0.00, 2, 0, 2,  -999.00, 9,  -999.00, 9,   0.7670, 2, 0.175, 2, 1.175, 2, 5.000, 2
320620030705, SBI, 296, 1, 111, 11, 2, 20030813, 1117, 71.8676, -151.8541, 1619,     25.1,  -1.0624,  30.0146, 2, -999.0000, 9,    378.6, 2,    398.9, 2,     6.35, 2,     0.23, 2,     0.03, 2,     0.79, 2,  -999.00, 9,  -1.0628,     0.08, 2, 0, 2,  -999.00, 9,  -999.00, 9,   0.6400, 2, 0.179, 2, 0.511, 2, 5.000, 2
320620030705, SBI, 296, 1, 110, 10, 2, 20030813, 1116, 71.8676, -151.8541, 1619,     45.2,   0.0023,  31.6315, 2, -999.0000, 9,    354.9, 2,    373.0, 2,    11.35, 2,     2.17, 2,     0.10, 2,     1.05, 2,  -999.00, 9,   0.0009,     1.19, 2, 0.09, 2,  -999.00, 9,  -999.00, 9,   1.1560, 2, 0.239, 2, 0.238, 2, 5.000, 2
320620030705, SBI, 296, 1, 109, 9, 2, 20030813, 1113, 71.8676, -151.8541, 1619,     65.3,  -1.0483,  32.0305, 2, -999.0000, 9,    324.4, 2,    338.5, 2,    17.08, 2,     6.88, 2,     0.08, 2,     1.36, 2,  -999.00, 9,  -1.0497,     0.58, 2, 0.06, 2,  -999.00, 9,  -999.00, 9,   0.9020, 2, 0.194, 2, 0.160, 2, 5.000, 2
320620030705, SBI, 296, 1, 108, 8, 2, 20030813, 1111, 71.8676, -151.8541, 1619,     85.3,  -1.3163,  32.3827, 2, -999.0000, 9,    283.8, 2,    306.3, 2,    23.13, 2,    11.01, 2,     0.03, 2,     1.63, 2,  -999.00, 9,  -1.3180,     0.16, 2, 0, 2,  -999.00, 9,  -999.00, 9,   0.8230, 2, 0.183, 2, 0.144, 2, 5.000, 2
320620030705, SBI, 296, 1, 107, 7, 2, 20030813, 1109, 71.8676, -151.8541, 1619,    105.2,  -1.4982,  32.5888, 2, -999.0000, 9,    286.2, 2,    299.6, 2,    28.09, 2,    11.74, 2,     0.07, 2,     1.72, 2,  -999.00, 9,  -1.5002,     0.90, 2, 0.03, 2,  -999.00, 9,  -999.00, 9,   0.8270, 2, 0.184, 2, 0.139, 2, 5.000, 2
320620030705, SBI, 296, 1, 106, 6, 2, 20030813, 1107, 71.8676, -151.8541, 1619,    125.3,  -1.4371,  32.8509, 2, -999.0000, 9,    274.7, 2,    293.3, 2,    30.70, 2,    13.04, 2,     0.06, 2,     1.76, 2,  -999.00, 9,  -1.4397,     0.69, 2, 0.02, 2,  -999.00, 9,  -999.00, 9,   0.7930, 2, 0.187, 2, 0.139, 2, 5.000, 2
320620030705, SBI, 296, 1, 105, 5, 2, 20030813, 1106, 71.8676, -151.8541, 1619,    145.5,  -1.5337,  33.0964, 2, -999.0000, 9,    263.7, 2,    284.3, 2,    32.21, 2,    14.68, 2,     0.02, 2,     1.78, 2,  -999.00, 9,  -1.5367,     0.01, 2, 0, 2,  -999.00, 9,  -999.00, 9,   0.6340, 2, 0.179, 2, 0.139, 2, 5.000, 2
320620030705, SBI, 296, 1, 104, 4, 2, 20030813, 1104, 71.8676, -151.8541, 1619,    165.3,  -1.3507,  33.3867, 2, -999.0000, 9,    265.5, 2,    284.5, 2,    29.65, 2,    13.98, 2,     0.04, 2,     1.65, 2,  -999.00, 9,  -1.3544,     0.13, 2, 0, 2,  -999.00, 9,  -999.00, 9,   0.6890, 2, 0.181, 2, 0.139, 2, 5.000, 2
320620030705, SBI, 296, 1, 103, 3, 2, 20030813, 1102, 71.8676, -151.8541, 1619,    185.4,  -1.2393,  33.8080, 2, -999.0000, 9,    263.2, 2,    285.1, 2,    25.58, 2,    13.79, 2,     0.02, 2,     1.49, 2,  -999.00, 9,  -1.2439,     0.02, 2, 0.02, 2,  -999.00, 9,  -999.00, 9,   0.6650, 2, 0.179, 2, 0.140, 2, 5.000, 2
320620030705, SBI, 296, 1, 102, 2, 2, 20030813, 1100, 71.8676, -151.8541, 1619,    205.4,  -0.8733,  34.2549, 2, -999.0000, 9,    267.2, 2,    287.0, 2,    21.72, 2,    13.32, 2,     0.02, 2,     1.36, 2,  -999.00, 9,  -0.8792,     0.01, 2, 0.01, 2,  -999.00, 9,  -999.00, 9,   0.7470, 2, 0.178, 2, 0.140, 2, 5.000, 2
320620030705, SBI, 296, 1, 101, 1, 2, 20030813, 1053, 71.8676, -151.8541, 1619,    506.8,   0.4373,  34.8492, 2,  34.8456, 2,    276.0, 2,    294.5, 2,     7.31, 2,    12.55, 2,     0.01, 2,     0.92, 2,  -999.00, 9,   0.4151,     0.12, 2, 0.88, 3,  -999.00, 9,  -999.00, 9,   0.5910, 2, 0.176, 2, 0.140, 2, 5.000, 2
320620030705, SBI, 297, 1, 112, 12, 2, 20030813, 1307, 71.8137, -151.8675, 1512,      1.7,  -0.0324,  28.1322, 2,  28.1267, 2,    344.5, 2,    374.0, 2,     3.42, 2,     0.09, 2,     0.00, 2,     0.65, 2,  -999.00, 9,  -0.0324,     0.00, 2, 0, 2,  -999.00, 9,  -999.00, 9,   0.8200, 2, 0.178, 2, 2.201, 2, 4.994, 2
320620030705, SBI, 297, 1, 111, 11, 2, 20030813, 1305, 71.8137, -151.8675, 1512,     22.0,   0.3795,  29.3620, 2, -999.0000, 9,    353.9, 2,    382.6, 2,     7.42, 2,     0.09, 2,     0.00, 2,     0.73, 2,  -999.00, 9,   0.3789,     0.08, 2, 0.15, 2,  -999.00, 9,  -999.00, 9,   0.8700, 2, 0.194, 2, 1.453, 2, 4.994, 2
320620030705, SBI, 297, 1, 110, 10, 2, 20030813, 1303, 71.8137, -151.8675, 1512,     42.0,   0.7503,  31.6185, 2, -999.0000, 9,    347.8, 2,    369.5, 2,     9.60, 2,     1.31, 2,     0.06, 2,     0.96, 2,  -999.00, 9,   0.7488,     1.29, 2, 0.12, 2,  -999.00, 9,  -999.00, 9,   1.1630, 2, 0.224, 2, 0.822, 2, 4.995, 2
320620030705, SBI, 297, 1, 109, 9, 2, 20030813, 1301, 71.8137, -151.8675, 1512,     61.9,  -0.2872,  31.9682, 2, -999.0000, 9,    343.4, 2,    368.7, 2,    12.60, 2,     3.04, 2,     0.10, 2,     1.12, 2,  -999.00, 9,  -0.2889,     1.45, 2, 0.19, 2,  -999.00, 9,  -999.00, 9,   0.7710, 2, 0.188, 2, 0.377, 2, 4.995, 2
320620030705, SBI, 297, 1, 108, 8, 2, 20030813, 1259, 71.8137, -151.8675, 1512,     82.1,  -1.1799,  32.2147, 2, -999.0000, 9,    322.7, 2,    344.3, 2,    20.77, 2,     5.83, 2,     0.15, 2,     1.42, 2,  -999.00, 9,  -1.1816,     2.12, 2, 0.12, 2,  -999.00, 9,  -999.00, 9,   0.8000, 2, 0.190, 2, 0.194, 2, 4.995, 2
320620030705, SBI, 297, 1, 107, 7, 2, 20030813, 1257, 71.8137, -151.8675, 1512,    102.1,  -1.3580,  32.4433, 2, -999.0000, 9,    299.8, 2,    317.9, 2,    24.30, 2,     8.95, 2,     0.12, 2,     1.61, 2,  -999.00, 9,  -1.3601,     1.60, 2, 0.08, 2,  -999.00, 9,  -999.00, 9,   0.8150, 2, 0.191, 2, 0.149, 2, 4.996, 2
320620030705, SBI, 297, 1, 106, 6, 2, 20030813, 1255, 71.8137, -151.8675, 1512,    122.2,  -1.5369,  32.7263, 2, -999.0000, 9,    274.6, 2,    299.6, 2,    28.54, 2,    12.54, 2,     0.04, 2,     1.69, 2,  -999.00, 9,  -1.5393,     0.14, 2, 0, 2,  -999.00, 9,  -999.00, 9,   0.7380, 2, 0.187, 2, 0.140, 2, 4.997, 2
320620030705, SBI, 297, 1, 105, 5, 2, 20030813, 1253, 71.8137, -151.8675, 1512,    142.3,  -1.5633,  33.0530, 2, -999.0000, 9,    270.9, 2,    290.7, 2,    30.96, 2,    13.99, 2,     0.02, 2,     1.72, 2,  -999.00, 9,  -1.5661,     0.01, 2, 0, 2,  -999.00, 9,  -999.00, 9,   0.7610, 2, 0.181, 2, 0.139, 2, 4.997, 2
320620030705, SBI, 297, 1, 104, 4, 2, 20030813, 1251, 71.8137, -151.8675, 1512,    162.4,  -1.4492,  33.3396, 2, -999.0000, 9,    259.8, 2,    284.8, 2,    29.63, 2,    13.92, 2,     0.04, 2,     1.65, 2,  -999.00, 9,  -1.4527,     0.16, 2, 0.01, 2,  -999.00, 9,  -999.00, 9,   0.5480, 2, 0.180, 2, 0.139, 2, 4.998, 2
320620030705, SBI, 297, 1, 103, 3, 2, 20030813, 1249, 71.8137, -151.8675, 1512,    182.4,  -1.1463,  33.6548, 2, -999.0000, 9,    263.2, 2,    285.8, 2,    25.85, 2,    13.61, 2,     0.04, 2,     1.51, 2,  -999.00, 9,  -1.1509,     0.19, 2, 0.01, 2,  -999.00, 9,  -999.00, 9,   0.8270, 2, 0.183, 2, 0.139, 2, 4.998, 2
320620030705, SBI, 297, 1, 102, 2, 2, 20030813, 1247, 71.8137, -151.8675, 1512,    202.6,  -0.9087,  34.2063, 2, -999.0000, 9,    262.7, 2,    285.5, 2,    22.08, 2,    13.41, 2,     0.02, 2,     1.37, 2,  -999.00, 9,  -0.9145,     0.01, 2, 0.03, 2,  -999.00, 9,  -999.00, 9,   0.4940, 2, 0.179, 2, 0.140, 2, 4.998, 2
320620030705, SBI, 297, 1, 101, 1, 2, 20030813, 1239, 71.8137, -151.8675, 1512,    504.4,   0.4880,  34.8398, 2,  34.8368, 2,    275.4, 2,    294.0, 2,     7.77, 2,    12.53, 2,     0.02, 2,     0.92, 2,  -999.00, 9,   0.4657,     0.00, 2, 0.02, 2,  -999.00, 9,  -999.00, 9,   0.4890, 2, 0.176, 2, 0.140, 2, 4.999, 2
320620030705, SBI, 298, 1, 112, 12, 2, 20030813, 1508, 71.7637, -151.9457, 1163,      1.9,   0.1478,  28.1735, 2,  28.1871, 2,    341.9, 2,    373.3, 2,     3.50, 2,     0.10, 2,     0.00, 2,     0.64, 2,  -999.00, 9,   0.1478,     0.00, 2, 0, 2,  -999.00, 9,  -999.00, 9,   0.8420, 2, 0.175, 2, 2.939, 2, 4.942, 2
320620030705, SBI, 298, 1, 111, 11, 2, 20030813, 1505, 71.7637, -151.9457, 1163,     22.2,   0.1593,  30.5374, 2, -999.0000, 9,    359.8, 2,    397.4, 2,     7.88, 2,     0.25, 2,     0.01, 2,     0.83, 2,  -999.00, 9,   0.1587,     0.21, 2, 0.02, 2,  -999.00, 9,  -999.00, 9,   0.9570, 2, 0.187, 2, 2.137, 2, 4.938, 2
320620030705, SBI, 298, 1, 110, 10, 2, 20030813, 1503, 71.7637, -151.9457, 1163,     42.2,  -0.2713,  31.5774, 2, -999.0000, 9,    346.1, 2,    372.2, 2,    12.88, 2,     1.50, 2,     0.05, 2,     1.09, 2,  -999.00, 9,  -0.2725,     1.56, 2, 0.15, 2,  -999.00, 9,  -999.00, 9,   1.2660, 2, 0.235, 2, 1.465, 2, 4.938, 2
320620030705, SBI, 298, 1, 109, 9, 2, 20030813, 1501, 71.7637, -151.9457, 1163,     62.3,  -0.7008,  31.9639, 2, -999.0000, 9,    328.7, 2,    359.9, 2,    16.09, 2,     3.92, 2,     0.11, 2,     1.23, 2,  -999.00, 9,  -0.7023,     1.87, 2, 0.11, 2,  -999.00, 9,  -999.00, 9,   1.0260, 2, 0.197, 2, 0.786, 2, 4.938, 2
320620030705, SBI, 298, 1, 108, 8, 2, 20030813, 1459, 71.7637, -151.9457, 1163,     82.4,  -1.0506,  32.2586, 2, -999.0000, 9,    315.6, 2,    341.1, 2,    19.71, 2,     6.46, 2,     0.14, 2,     1.40, 2,  -999.00, 9,  -1.0524,     1.53, 2, 0.06, 2,  -999.00, 9,  -999.00, 9,   0.9360, 2, 0.185, 2, 0.368, 2, 4.939, 2
320620030705, SBI, 298, 1, 107, 7, 2, 20030813, 1457, 71.7637, -151.9457, 1163,    102.4,  -1.3635,  32.4309, 2, -999.0000, 9,    295.9, 2,    322.4, 2,    25.16, 2,     8.24, 2,     0.16, 2,     1.61, 2,  -999.00, 9,  -1.3656,     2.27, 2, 0.11, 2,  -999.00, 9,  -999.00, 9,   0.8380, 2, 0.187, 2, 0.195, 2, 4.942, 2
320620030705, SBI, 298, 1, 106, 6, 2, 20030813, 1455, 71.7637, -151.9457, 1163,    122.5,  -1.4215,  32.7315, 2, -999.0000, 9,    273.7, 2,    298.1, 2,    29.21, 2,    12.57, 2,     0.05, 2,     1.70, 2,  -999.00, 9,  -1.4240,     0.27, 2, 0.01, 2,  -999.00, 9,  -999.00, 9,   0.8980, 2, 0.183, 2, 0.148, 2, 4.945, 2
320620030705, SBI, 298, 1, 105, 5, 2, 20030813, 1453, 71.7637, -151.9457, 1163,    142.6,  -1.5659,  33.0747, 2, -999.0000, 9,    265.6, 2,    288.0, 2,    31.11, 2,    14.19, 2,     0.02, 2,     1.73, 2,  -999.00, 9,  -1.5687,     0.02, 2, 0, 2,  -999.00, 9,  -999.00, 9,   0.6340, 2, 0.178, 2, 0.141, 2, 4.945, 2
320620030705, SBI, 298, 1, 104, 4, 2, 20030813, 1451, 71.7637, -151.9457, 1163,    162.7,  -1.4104,  33.3999, 2, -999.0000, 9,    253.3, 2,    282.9, 2,    30.07, 2,    14.40, 2,     0.01, 2,     1.64, 2,  -999.00, 9,  -1.4140,     0.00, 2, 0, 2,  -999.00, 9,  -999.00, 9,   0.6320, 2, 0.179, 2, 0.139, 2, 4.947, 2
320620030705, SBI, 298, 1, 103, 3, 2, 20030813, 1449, 71.7637, -151.9457, 1163,    182.8,  -1.2658,  33.7851, 2, -999.0000, 9,    256.5, 2,    284.0, 2,    26.69, 2,    13.78, 2,     0.01, 2,     1.52, 2,  -999.00, 9,  -1.2702,     0.00, 2, 0.01, 2,  -999.00, 9,  -999.00, 9,   0.7570, 2, 0.175, 2, 0.139, 2, 4.949, 2
320620030705, SBI, 298, 1, 102, 2, 2, 20030813, 1447, 71.7637, -151.9457, 1163,    202.9,  -0.9545,  34.1766, 2, -999.0000, 9,    258.8, 2,    284.2, 2,    20.80, 2,    13.36, 2,     0.02, 2,     1.32, 2,  -999.00, 9,  -0.9602,     0.06, 2, 0.25, 2,  -999.00, 9,  -999.00, 9,   0.6850, 2, 0.175, 2, 0.140, 2, 4.950, 2
320620030705, SBI, 298, 1, 101, 1, 2, 20030813, 1438, 71.7637, -151.9457, 1163,    504.7,   0.4601,  34.8452, 2,  34.8429, 2,    272.8, 2,    295.9, 2,     7.37, 2,    12.48, 2,     0.01, 2,     0.91, 2,  -999.00, 9,   0.4379,     0.00, 2, 0.01, 2,  -999.00, 9,  -999.00, 9,   0.5280, 2, 0.172, 2, 0.140, 2, 4.955, 2