BOTTLE,20100423CCHDOSIODBK
EXPOCODE,SECT_ID,STNNBR,CASTNO,SAMPNO,BTLNBR,BTLNBR_FLAG_W,DATE,TIME,LATITUDE,LONGITUDE,DEPTH,CTDPRS,CTDTMP,CTDSAL,CTDSAL_FLAG_W,SALNTY,SALNTY_FLAG_W,CTDOXY,CTDOXY_FLAG_W,OXYGEN,OXYGEN_FLAG_W,SILCAT,SILCAT_FLAG_W,NITRAT,NITRAT_FLAG_W,NITRIT,NITRIT_FLAG_W,PHSPHT,PHSPHT_FLAG_W,DOC,DOC_FLAG_W,THETA,NH4,NH4_FLAG_W,UREA,UREA_FLAG_W,CHLORA,CHLORA_FLAG_W,PPHYTN,PPHYTN_FLAG_W,FLUOR,FLUOR_FLAG_W,HAARDT,HAARDT_FLAG_W,PAR,PAR_FLAG_W,SPAR,SPAR_FLAG_W
,,,,,,,,,,,METERS,DBAR,ITS-90,PSS-78,,PSS-78,,UMOL/KG,,UMOL/KG,,UMOL/KG,,UMOL/KG,,UMOL/KG,,UMOL/KG,,UMOL/KG,,DEG C,UMOL/KG,,UMOL/KG,,UG/KG,,UG/KG,,MG/M^3,,VOLTS,,VOLTS,,VOLTS,
320620030705, SBI, 94, 1, 108, 8, 2, 20030722, 2002, 71.4843, -158.1515, 68,      1.8,  -0.8574,  28.9932, 2,  29.0542, 2,    396.8, 2,    430.1, 2,    16.81, 2,     0.06, 2,     0.00, 2,     0.78, 2,  -999.00, 9,  -0.8574,     0.03, 2, 0, 2,     0.43, 2,     0.08, 2,   1.1150, 2, 0.000, 2, 3.507, 2, 4.773, 2
320620030705, SBI, 94, 1, 107, 7, 2, 20030722, 2000, 71.4843, -158.1515, 68,     12.9,  -0.8695,  29.8848, 2, -999.0000, 9,    397.8, 2,    431.1, 2,    18.21, 2,     0.06, 2,     0.00, 2,     0.81, 2,  -999.00, 9,  -0.8697,     0.01, 2, 0.01, 2,  -999.00, 9,  -999.00, 9,   1.3030, 2, 0.000, 2, 2.717, 2, 4.786, 2
320620030705, SBI, 94, 1, 106, 6, 2, 20030722, 1959, 71.4843, -158.1515, 68,     27.9,  -1.1483,  31.4975, 2, -999.0000, 9,    367.0, 2,    383.0, 2,    18.48, 2,     1.10, 2,     0.03, 2,     1.15, 2,  -999.00, 9,  -1.1488,     0.57, 2, 0.09, 2,     6.01, 2,     1.35, 2,   1.3010, 2, 0.000, 2, 1.805, 2, 4.795, 2
320620030705, SBI, 94, 1, 104, 4, 2, 20030722, 1958, 71.4843, -158.1515, 68,     35.1,  -1.5286,  31.7723, 2, -999.0000, 9,    330.2, 2,   -999.0, 9,  -999.00, 9,  -999.00, 9,  -999.00, 9,  -999.00, 9,  -999.00, 9,  -1.5292,  -999.00, 9, -999, 9,  -999.00, 9,  -999.00, 9,   2.4390, 2, 0.000, 2, 1.053, 2, 4.798, 2
320620030705, SBI, 94, 1, 105, 5, 2, 20030722, 1958, 71.4843, -158.1515, 68,     35.2,  -1.5251,  31.7734, 2, -999.0000, 9,    329.7, 2,   -999.0, 9,  -999.00, 9,  -999.00, 9,  -999.00, 9,  -999.00, 9,  -999.00, 9,  -1.5257,  -999.00, 9, -999, 9,  -999.00, 9,  -999.00, 9,   2.3790, 2, 0.000, 2, 1.019, 2, 4.798, 2
320620030705, SBI, 94, 1, 103, 3, 2, 20030722, 1955, 71.4843, -158.1515, 68,     35.3,  -1.4374,  31.7524, 2, -999.0000, 9,    327.8, 2,    359.4, 2,    15.66, 2,     3.75, 2,     0.10, 2,     1.31, 2,  -999.00, 9,  -1.4380,     1.25, 2, 0.18, 2,    16.08, 2,     2.76, 2,   2.5570, 2, 0.000, 2, 1.433, 2, 4.793, 2
320620030705, SBI, 94, 1, 102, 2, 2, 20030722, 1954, 71.4843, -158.1515, 68,     47.5,  -1.6882,  32.0687, 2, -999.0000, 9,    317.9, 2,    329.7, 2,    22.06, 2,     6.86, 2,     0.14, 2,     1.51, 2,  -999.00, 9,  -1.6890,     1.27, 2, 0.12, 2,  -999.00, 9,  -999.00, 9,   1.5270, 2, 0.000, 2, 0.257, 2, 4.795, 2
320620030705, SBI, 94, 1, 101, 1, 2, 20030722, 1951, 71.4843, -158.1515, 68,     63.1,  -1.7110,  32.5628, 2,  32.4973, 2,    255.7, 2,    288.6, 2,    36.18, 2,     9.09, 2,     0.19, 2,     1.83, 2,    67.70, 2,  -1.7121,     1.29, 2, 0.12, 2,     1.97, 2,     0.44, 2,   1.4550, 2, 0.000, 2, 0.152, 2, 4.802, 2
320620030705, SBI, 95, 1, 105, 5, 2, 20030722, 2234, 71.6465, -158.2754, 57,      1.8,  -1.0975,  29.6807, 2,  29.7569, 2,    413.9, 2,    451.6, 2,    14.21, 2,     0.08, 2,     0.00, 2,     0.76, 2,  -999.00, 9,  -1.0975,     0.01, 2, 0, 2,     1.11, 2,     0.07, 2,   1.3840, 2, 0.000, 2, 3.659, 2, 4.673, 2
320620030705, SBI, 95, 1, 104, 4, 2, 20030722, 2232, 71.6465, -158.2754, 57,     13.4,  -1.2169,  30.0068, 2, -999.0000, 9,    420.1, 2,    436.8, 2,    16.69, 2,     0.18, 2,     0.01, 2,     0.85, 2,  -999.00, 9,  -1.2171,     0.02, 2, 0.01, 2,     2.58, 2,     0.35, 2,   1.9130, 2, 0.000, 2, 2.620, 2, 4.674, 2
320620030705, SBI, 95, 1, 103, 3, 2, 20030722, 2229, 71.6465, -158.2754, 57,     24.9,  -1.2293,  30.8398, 2, -999.0000, 9,    400.8, 2,    384.4, 2,    21.38, 2,     1.11, 2,     0.04, 2,     1.13, 2,  -999.00, 9,  -1.2297,     0.25, 2, 0.06, 2,     6.62, 2,     0.73, 2,   2.0590, 2, 0.000, 2, 1.718, 2, 4.705, 2
320620030705, SBI, 95, 1, 102, 2, 2, 20030722, 2227, 71.6465, -158.2754, 57,     37.6,  -1.6428,  31.7957, 2, -999.0000, 9,    327.6, 2,    358.4, 2,    18.83, 2,     5.11, 2,     0.10, 2,     1.28, 2,  -999.00, 9,  -1.6434,     0.88, 2, 0.08, 2,  -999.00, 9,  -999.00, 9,   1.6750, 2, 0.000, 2, 0.444, 2, 4.729, 2
320620030705, SBI, 95, 1, 101, 1, 2, 20030722, 2225, 71.6465, -158.2754, 57,     50.8,  -1.6963,  32.0395, 2,  31.7094, 2,    316.0, 2,    368.4, 2,    19.00, 2,     4.55, 2,     0.08, 2,     1.22, 2,    72.20, 2,  -1.6971,     0.56, 2, 0.06, 2,     1.38, 2,     0.21, 2,   1.1310, 2, 0.000, 2, 0.215, 2, 4.738, 2
320620030705, SBI, 96, 1, 105, 5, 2, 20030723, 102, 71.8067, -158.3744, 58,      1.9,  -1.3186,  30.0434, 2,  30.0736, 2,    427.6, 2,    467.1, 2,    14.38, 2,     0.02, 2,     0.00, 2,     0.78, 2,  -999.00, 9,  -1.3186,     0.01, 2, 0.02, 2,     4.24, 2,     0.52, 2,   2.2360, 2, 0.000, 2, 3.116, 2, 4.891, 2
320620030705, SBI, 96, 1, 104, 4, 2, 20030723, 100, 71.8067, -158.3744, 58,     13.0,  -1.4953,  30.5630, 2, -999.0000, 9,    398.8, 2,    400.9, 2,    19.68, 2,     1.33, 2,     0.02, 2,     1.10, 2,  -999.00, 9,  -1.4955,     0.25, 2, 0.04, 2,     6.64, 2,     0.93, 2,   2.3460, 2, 0.000, 2, 1.642, 2, 4.906, 2
320620030705, SBI, 96, 1, 103, 3, 2, 20030723, 58, 71.8067, -158.3744, 58,     24.9,  -1.5819,  31.1289, 2, -999.0000, 9,    346.3, 2,    363.6, 2,    24.26, 2,     4.43, 2,     0.11, 2,     1.29, 2,  -999.00, 9,  -1.5823,     1.12, 2, 0.08, 2,     5.55, 2,     0.77, 2,   2.1870, 2, 0.000, 2, 0.555, 2, 4.896, 2
320620030705, SBI, 96, 1, 102, 2, 2, 20030723, 55, 71.8067, -158.3744, 58,     41.1,  -1.6847,  31.8583, 2, -999.0000, 9,    334.9, 2,    349.3, 2,    21.01, 2,     5.52, 2,     0.10, 2,     1.32, 2,  -999.00, 9,  -1.6853,     0.71, 2, 0.07, 2,     0.33, 2,     0.16, 2,   1.0000, 2, 0.000, 2, 0.214, 2, 4.846, 2
320620030705, SBI, 96, 1, 101, 1, 2, 20030723, 53, 71.8067, -158.3744, 58,     51.6,  -1.6893,  32.3306, 2,  32.0749, 2,    273.2, 2,    310.7, 2,    27.41, 2,     6.99, 2,     0.14, 2,     1.51, 2,    69.00, 2,  -1.6901,     0.77, 2, 0.06, 2,     0.47, 2,     0.19, 2,   1.0140, 2, 0.000, 2, 0.183, 2, 4.827, 2
320620030705, SBI, 97, 1, 107, 7, 2, 20030723, 311, 71.9734, -158.4806, 57,      1.9,  -1.2695,  29.8605, 2,  29.8387, 2,    411.5, 2,    451.6, 2,    17.26, 2,     0.01, 2,     0.00, 2,     0.81, 2,  -999.00, 9,  -1.2695,  -999.00, 5, 0.02, 2,     2.34, 2,     0.46, 2,   2.0250, 2, 0.000, 2, 3.469, 2, 4.776, 2
320620030705, SBI, 97, 1, 106, 6, 2, 20030723, 308, 71.9734, -158.4806, 57,     15.9,  -1.3453,  30.1066, 2, -999.0000, 9,    402.1, 2,   -999.0, 9,  -999.00, 9,  -999.00, 9,  -999.00, 9,  -999.00, 9,  -999.00, 9,  -1.3455,  -999.00, 9, -999, 9,  -999.00, 9,  -999.00, 9,   2.1450, 2, 0.000, 2, 1.625, 2, 4.846, 2
320620030705, SBI, 97, 1, 104, 4, 2, 20030723, 307, 71.9734, -158.4806, 57,     16.0,  -1.3570,  30.1579, 2, -999.0000, 9,    394.0, 2,    416.9, 2,    19.55, 2,     0.95, 2,     0.03, 2,     0.96, 2,  -999.00, 9,  -1.3572,  -999.00, 5, 0.02, 2,     4.72, 2,     0.50, 2,   2.2010, 2, 0.000, 2, 1.624, 2, 4.852, 2
320620030705, SBI, 97, 1, 105, 5, 2, 20030723, 308, 71.9734, -158.4806, 57,     16.0,  -1.4325,  30.4413, 2, -999.0000, 9,    397.0, 2,   -999.0, 9,  -999.00, 9,  -999.00, 9,  -999.00, 9,  -999.00, 9,  -999.00, 9,  -1.4327,  -999.00, 9, -999, 9,  -999.00, 9,  -999.00, 9,   2.2720, 2, 0.000, 2, 1.620, 2, 4.850, 2
320620030705, SBI, 97, 1, 103, 3, 2, 20030723, 306, 71.9734, -158.4806, 57,     30.1,  -1.6699,  31.6368, 2, -999.0000, 9,    321.4, 2,    356.5, 2,    20.81, 2,     5.45, 2,     0.13, 2,     1.28, 2,  -999.00, 9,  -1.6704,  -999.00, 5, 0.06, 2,     0.54, 2,     0.20, 2,   1.0500, 2, 0.000, 2, 0.584, 2, 4.857, 2
320620030705, SBI, 97, 1, 102, 2, 2, 20030723, 303, 71.9734, -158.4806, 57,     42.3,  -1.6897,  31.8656, 2, -999.0000, 9,    329.4, 2,    359.3, 2,    18.46, 2,     5.11, 2,     0.09, 2,     1.24, 2,  -999.00, 9,  -1.6904,     0.78, 2, 0.06, 2,  -999.00, 9,  -999.00, 9,   1.0040, 2, 0.000, 2, 0.270, 2, 4.893, 2
320620030705, SBI, 97, 1, 101, 1, 2, 20030723, 301, 71.9734, -158.4806, 57,     49.5,  -1.6850,  31.9861, 2,  31.8499, 2,    309.0, 2,    354.0, 2,    19.95, 2,     5.38, 2,     0.09, 2,     1.30, 2,    72.10, 2,  -1.6858,  -999.00, 5, 0.1, 2,     0.93, 2,     0.16, 2,   1.0440, 2, 0.000, 2, 0.216, 2, 4.930, 2
320620030705, SBI, 98, 1, 105, 5, 2, 20030723, 550, 72.1344, -158.3272, 60,      1.6,  -0.7755,  29.8023, 2,  29.8476, 2,    406.8, 2,    439.8, 2,    18.64, 2,     0.00, 2,     0.00, 2,     0.81, 2,  -999.00, 9,  -0.7755,  -999.00, 5, 0.01, 2,     2.91, 2,     0.42, 2,   2.1390, 2, 0.000, 2, 2.633, 2, 4.973, 2
320620030705, SBI, 98, 1, 104, 4, 2, 20030723, 549, 72.1344, -158.3272, 60,     15.6,  -0.9589,  29.9359, 2, -999.0000, 9,    407.4, 2,    386.7, 2,    17.81, 2,     0.52, 2,     0.02, 2,     0.87, 2,  -999.00, 9,  -0.9592,  -999.00, 5, 0.01, 2,     2.62, 2,     0.45, 2,   2.1540, 2, 0.000, 2, 1.166, 2, 4.973, 2
320620030705, SBI, 98, 1, 103, 3, 2, 20030723, 547, 72.1344, -158.3272, 60,     31.8,  -1.6353,  31.5809, 2, -999.0000, 9,    317.8, 2,    352.1, 2,    23.80, 2,     5.74, 2,     0.14, 2,     1.34, 2,  -999.00, 9,  -1.6358,  -999.00, 5, 0.05, 2,     0.25, 2,     0.09, 2,   0.9880, 2, 0.000, 2, 0.291, 2, 4.972, 2
320620030705, SBI, 98, 1, 102, 2, 2, 20030723, 546, 72.1344, -158.3272, 60,     48.9,  -1.6912,  31.8675, 2, -999.0000, 9,    331.1, 2,    344.6, 2,    23.16, 2,     5.83, 2,     0.10, 2,     1.36, 2,  -999.00, 9,  -1.6920,  -999.00, 5, 0.06, 2,  -999.00, 9,  -999.00, 9,   0.7980, 2, 0.000, 2, 0.161, 2, 4.976, 2
320620030705, SBI, 98, 1, 101, 1, 2, 20030723, 544, 72.1344, -158.3272, 60,     53.8,  -1.6826,  31.9769, 2,  31.9577, 2,    309.2, 2,    340.8, 2,    24.34, 2,     6.03, 2,     0.11, 2,     1.40, 2,    71.50, 2,  -1.6835,  -999.00, 5, 0.07, 2,     0.17, 2,     0.10, 2,   0.7890, 2, 0.000, 2, 0.170, 2, 4.975, 2
320620030705, SBI, 99, 1, 105, 5, 2, 20030723, 810, 72.2895, -158.1337, 63,      2.0,  -1.3880,  30.2951, 2,  30.3067, 2,    374.8, 2,    406.9, 2,    21.98, 2,     0.38, 2,     0.02, 2,     0.98, 2,  -999.00, 9,  -1.3880,     0.23, 2, 0.04, 2,     7.47, 2,     1.01, 2,   2.2100, 2, 0.000, 2, 2.721, 2, 4.961, 2
320620030705, SBI, 99, 1, 104, 4, 2, 20030723, 807, 72.2895, -158.1337, 63,     14.3,  -0.7828,  30.9831, 2, -999.0000, 9,    352.7, 2,    387.2, 2,    18.54, 2,     1.41, 2,     0.06, 2,     1.05, 2,  -999.00, 9,  -0.7831,     0.53, 2, 0.06, 2,     3.21, 2,     0.52, 2,   1.7630, 2, 0.000, 2, 1.274, 2, 4.960, 2
320620030705, SBI, 99, 1, 103, 3, 2, 20030723, 806, 72.2895, -158.1337, 63,     20.3,  -1.6184,  31.4988, 2, -999.0000, 9,    315.7, 2,    347.7, 2,    28.83, 2,     5.99, 2,     0.20, 2,     1.41, 2,  -999.00, 9,  -1.6187,     1.34, 2, 0.07, 2,  -999.00, 9,  -999.00, 9,   1.0890, 2, 0.000, 2, 0.800, 2, 4.959, 2
320620030705, SBI, 99, 1, 102, 2, 2, 20030723, 804, 72.2895, -158.1337, 63,     30.3,  -1.6501,  31.5938, 2, -999.0000, 9,    320.3, 2,    353.7, 2,    24.31, 2,     5.40, 2,     0.17, 2,     1.33, 2,  -999.00, 9,  -1.6506,     1.15, 2, 0.07, 2,  -999.00, 9,  -999.00, 9,   0.8500, 2, 0.000, 2, 0.419, 2, 4.950, 2
320620030705, SBI, 99, 1, 101, 1, 2, 20030723, 759, 72.2895, -158.1337, 63,     56.5,  -1.6806,  31.8809, 2,  31.8495, 2,    315.1, 2,    347.3, 2,    23.25, 2,     5.45, 2,     0.11, 2,     1.36, 2,    69.60, 2,  -1.6815,     1.09, 2, 0.08, 2,     0.14, 2,     0.16, 2,   0.8660, 2, 0.000, 2, 0.184, 2, 4.936, 2
320620030705, SBI, 100, 1, 109, 9, 2, 20030723, 959, 72.3839, -157.9858, 85,      2.4,  -1.4109,  30.2953, 2,  30.4320, 2,    373.3, 2,    402.6, 2,    15.67, 2,     0.94, 2,     0.04, 2,     0.95, 2,  -999.00, 9,  -1.4109,     0.16, 2, 0.04, 2,     4.15, 2,     0.68, 2,   1.8550, 2, 0.000, 2, 2.053, 2, 4.994, 2
320620030705, SBI, 100, 1, 108, 8, 2, 20030723, 957, 72.3839, -157.9858, 85,     12.3,  -1.3823,  30.0803, 2, -999.0000, 9,    379.3, 2,    412.2, 2,    13.02, 2,     0.32, 2,     0.02, 2,     0.86, 2,  -999.00, 9,  -1.3825,     0.08, 2, 0.01, 2,  -999.00, 9,  -999.00, 9,   1.8500, 2, 0.000, 2, 1.132, 2, 4.994, 2
320620030705, SBI, 100, 1, 107, 7, 2, 20030723, 957, 72.3839, -157.9858, 85,     12.3,  -1.3892,  30.1259, 2, -999.0000, 9,    379.0, 2,   -999.0, 9,  -999.00, 9,  -999.00, 9,  -999.00, 9,  -999.00, 9,  -999.00, 9,  -1.3894,  -999.00, 9, -999, 9,  -999.00, 9,  -999.00, 9,   1.8810, 2, 0.000, 2, 1.138, 2, 4.994, 2
320620030705, SBI, 100, 1, 106, 6, 2, 20030723, 957, 72.3839, -157.9858, 85,     12.3,  -1.3919,  30.1483, 2, -999.0000, 9,    379.2, 2,   -999.0, 9,  -999.00, 9,  -999.00, 9,  -999.00, 9,  -999.00, 9,  -999.00, 9,  -1.3921,  -999.00, 9, -999, 9,  -999.00, 9,  -999.00, 9,   1.8390, 2, 0.000, 2, 1.142, 2, 4.994, 2
320620030705, SBI, 100, 1, 105, 5, 2, 20030723, 955, 72.3839, -157.9858, 85,     22.4,  -1.4987,  30.8688, 2, -999.0000, 9,    356.8, 2,    381.7, 2,    21.63, 2,     2.64, 2,     0.10, 2,     1.14, 2,  -999.00, 9,  -1.4990,     0.69, 2, 0.02, 2,     3.54, 2,     0.56, 2,   1.7180, 2, 0.000, 2, 0.567, 2, 4.993, 2
320620030705, SBI, 100, 1, 104, 4, 2, 20030723, 952, 72.3839, -157.9858, 85,     34.8,  -1.6415,  31.5437, 2, -999.0000, 9,    320.7, 2,    354.6, 2,    24.77, 2,     5.44, 2,     0.18, 2,     1.34, 2,  -999.00, 9,  -1.6420,     1.09, 2, 0.06, 2,  -999.00, 9,  -999.00, 9,   0.8070, 2, 0.000, 2, 0.240, 2, 4.994, 2
320620030705, SBI, 100, 1, 103, 3, 2, 20030723, 949, 72.3839, -157.9858, 85,     49.8,  -1.6774,  31.7348, 2, -999.0000, 9,    331.7, 2,    357.0, 2,    21.13, 2,     5.11, 2,     0.13, 2,     1.28, 2,  -999.00, 9,  -1.6782,     0.94, 2, 0.05, 2,  -999.00, 9,  -999.00, 9,   0.7990, 2, 0.000, 2, 0.172, 2, 4.993, 2
320620030705, SBI, 100, 1, 102, 2, 2, 20030723, 946, 72.3839, -157.9858, 85,     64.7,  -1.6711,  31.9817, 2, -999.0000, 9,    312.4, 2,    338.2, 2,    26.45, 2,     6.50, 2,     0.14, 2,     1.47, 2,  -999.00, 9,  -1.6721,     1.29, 2, 0.06, 2,  -999.00, 9,  -999.00, 9,   0.9710, 2, 0.000, 2, 0.150, 2, 4.993, 2
320620030705, SBI, 100, 1, 101, 1, 2, 20030723, 943, 72.3839, -157.9858, 85,     79.0,  -1.3332,  32.2793, 2,  32.2448, 2,    305.9, 2,    333.4, 2,    25.70, 2,     6.91, 2,     0.15, 2,     1.47, 2,    69.60, 2,  -1.3348,     1.25, 2, 0.07, 2,     0.14, 2,     0.17, 2,   0.8770, 2, 0.000, 2, 0.143, 2, 4.994, 2
320620030705, SBI, 101, 1, 111, 11, 2, 20030723, 1221, 72.4741, -157.8931, 148,      2.3,  -1.3451,  29.5438, 2, -999.0000, 9,    373.1, 2,    407.6, 2,     7.84, 2,     0.06, 2,     0.01, 2,     0.75, 2,  -999.00, 9,  -1.3451,     0.06, 2, 0, 2,     0.22, 2,     0.03, 2,   1.3310, 2, 0.000, 2, 2.138, 2, 4.993, 2
320620030705, SBI, 101, 1, 110, 10, 2, 20030723, 1219, 72.4741, -157.8931, 148,     12.6,  -1.3776,  29.5357, 2, -999.0000, 9,    373.2, 2,    406.1, 2,     8.49, 2,     0.11, 2,     0.01, 2,     0.78, 2,  -999.00, 9,  -1.3778,     0.10, 2, 0.01, 2,  -999.00, 9,  -999.00, 9,   1.2920, 2, 0.000, 2, 1.463, 2, 4.994, 2
320620030705, SBI, 101, 1, 109, 9, 2, 20030723, 1217, 72.4741, -157.8931, 148,     26.2,  -1.1978,  31.2959, 2, -999.0000, 9,    334.5, 2,    372.6, 2,    23.59, 2,     3.18, 2,     0.12, 2,     1.20, 2,  -999.00, 9,  -1.1983,     0.78, 2, 0.06, 2,     0.44, 2,     0.06, 2,   1.4800, 2, 0.000, 2, 0.736, 2, 4.994, 2
320620030705, SBI, 101, 1, 108, 8, 2, 20030723, 1215, 72.4741, -157.8931, 148,     29.3,  -0.1335,  31.5077, 2, -999.0000, 9,    354.5, 2,    378.2, 2,    20.44, 2,     2.06, 2,     0.09, 2,     1.14, 2,  -999.00, 9,  -0.1343,     0.81, 2, 0.07, 2,  -999.00, 9,  -999.00, 9,   1.2140, 2, 0.000, 2, 0.628, 2, 4.994, 2
320620030705, SBI, 101, 1, 107, 7, 2, 20030723, 1211, 72.4741, -157.8931, 148,     50.3,  -1.6172,  31.8855, 2, -999.0000, 9,    321.8, 2,    351.4, 2,    23.88, 2,     5.79, 2,     0.18, 2,     1.34, 2,  -999.00, 9,  -1.6180,     1.01, 2, 0.03, 2,  -999.00, 9,  -999.00, 9,   0.7050, 2, 0.000, 2, 0.217, 2, 4.993, 2
320620030705, SBI, 101, 1, 106, 6, 2, 20030723, 1209, 72.4741, -157.8931, 148,     65.3,  -1.3145,  32.0903, 2,  32.0916, 2,    316.7, 2,    344.4, 2,    24.42, 2,     6.26, 2,     0.18, 2,     1.38, 2,  -999.00, 9,  -1.3158,     1.13, 2, 0.04, 2,  -999.00, 9,  -999.00, 9,   0.8260, 2, 0.000, 2, 0.158, 2, 4.994, 2
320620030705, SBI, 101, 1, 105, 5, 2, 20030723, 1207, 72.4741, -157.8931, 148,     80.2,  -1.4196,  32.2187, 2, -999.0000, 9,    307.7, 2,    334.8, 2,    26.47, 2,     6.89, 2,     0.16, 2,     1.47, 2,  -999.00, 9,  -1.4211,     1.26, 2, 0.04, 2,  -999.00, 9,  -999.00, 9,   0.9560, 2, 0.000, 2, 0.145, 2, 4.995, 2
320620030705, SBI, 101, 1, 104, 4, 2, 20030723, 1205, 72.4741, -157.8931, 148,     95.3,  -1.1313,  32.3373, 2,  32.3438, 2,    307.6, 2,    333.8, 2,    23.72, 2,     6.23, 2,     0.15, 2,     1.45, 2,  -999.00, 9,  -1.1334,     2.13, 2, 0.14, 2,  -999.00, 9,  -999.00, 9,   0.9210, 2, 0.000, 2, 0.142, 2, 4.996, 2
320620030705, SBI, 101, 1, 103, 3, 2, 20030723, 1203, 72.4741, -157.8931, 148,    114.0,  -1.4154,  32.5818, 2, -999.0000, 9,    291.4, 2,    316.2, 2,    26.87, 2,     8.51, 2,     0.14, 2,     1.54, 2,  -999.00, 9,  -1.4177,     1.13, 2, 0.05, 2,     0.03, 2,     0.09, 2,   0.7820, 2, 0.000, 2, 0.142, 2, 4.996, 2
320620030705, SBI, 101, 1, 102, 2, 2, 20030723, 1201, 72.4741, -157.8931, 148,    129.6,  -1.3445,  33.5463, 2, -999.0000, 9,    268.2, 2,    290.4, 2,    29.10, 2,    13.18, 2,     0.06, 2,     1.57, 2,  -999.00, 9,  -1.3474,     0.00, 2, 0.02, 2,  -999.00, 9,  -999.00, 9,   0.7380, 2, 0.000, 2, 0.142, 2, 4.995, 2
320620030705, SBI, 101, 1, 101, 1, 2, 20030723, 1159, 72.4741, -157.8931, 148,    144.3,  -0.8234,  34.1951, 2, -999.0000, 9,    255.8, 2,    277.7, 2,    28.64, 2,    13.44, 2,     0.09, 2,     1.56, 2,    60.60, 2,  -0.8275,     0.00, 2, 0, 2,  -999.00, 9,  -999.00, 9,   0.7020, 2, 0.000, 2, 0.142, 2, 4.994, 2