BOTTLE,20100423CCHDOSIODBK
EXPOCODE,SECT_ID,STNNBR,CASTNO,SAMPNO,BTLNBR,BTLNBR_FLAG_W,DATE,TIME,LATITUDE,LONGITUDE,DEPTH,CTDPRS,CTDTMP,CTDSAL,CTDSAL_FLAG_W,SALNTY,SALNTY_FLAG_W,CTDOXY,CTDOXY_FLAG_W,OXYGEN,OXYGEN_FLAG_W,SILCAT,SILCAT_FLAG_W,NITRAT,NITRAT_FLAG_W,NITRIT,NITRIT_FLAG_W,PHSPHT,PHSPHT_FLAG_W,DOC,DOC_FLAG_W,THETA,NH4,NH4_FLAG_W,UREA,UREA_FLAG_W,CHLORA,CHLORA_FLAG_W,PPHYTN,PPHYTN_FLAG_W,FLUOR,FLUOR_FLAG_W,HAARDT,HAARDT_FLAG_W,PAR,PAR_FLAG_W,SPAR,SPAR_FLAG_W
,,,,,,,,,,,METERS,DBAR,ITS-90,PSS-78,,PSS-78,,UMOL/KG,,UMOL/KG,,UMOL/KG,,UMOL/KG,,UMOL/KG,,UMOL/KG,,UMOL/KG,,DEG C,UMOL/KG,,UMOL/KG,,UG/KG,,UG/KG,,MG/M^3,,VOLTS,,VOLTS,,VOLTS,
320620030705, SBI, 237, 1, 105, 5, 2, 20030808, 715, 72.8526, -161.6131, 53,      1.7,  -0.7578,  29.8767, 2,  29.8771, 2,    361.7, 2,    391.7, 2,    16.18, 2,     0.07, 2,     0.00, 2,     0.85, 2,  -999.00, 9,  -0.7578,     0.00, 2, 0, 2,     1.84, 2,     0.21, 2,   1.9530, 2, 0.457, 2, 2.889, 2, 4.961, 2
320620030705, SBI, 237, 1, 104, 4, 2, 20030808, 714, 72.8526, -161.6131, 53,     13.2,  -0.7807,  29.8778, 2, -999.0000, 9,    352.7, 2,    389.5, 2,    16.28, 2,     0.07, 2,     0.00, 2,     0.86, 2,  -999.00, 9,  -0.7810,     0.00, 2, 0, 2,     1.87, 2,     0.22, 2,   1.9120, 2, 0.423, 2, 1.759, 2, 4.960, 2
320620030705, SBI, 237, 1, 103, 3, 2, 20030808, 712, 72.8526, -161.6131, 53,     21.3,  -0.8977,  29.8946, 2, -999.0000, 9,    350.6, 2,    361.7, 2,    21.10, 2,     1.07, 2,     0.03, 2,     1.03, 2,  -999.00, 9,  -0.8981,     0.10, 2, 0.02, 2,     4.47, 2,     0.37, 2,   2.0150, 2, 0.489, 2, 1.154, 2, 4.959, 2
320620030705, SBI, 237, 1, 102, 2, 2, 20030808, 710, 72.8526, -161.6131, 53,     38.1,  -1.6746,  32.5891, 2, -999.0000, 9,    261.1, 2,    291.0, 2,    47.52, 2,    14.28, 2,     0.15, 2,     2.13, 2,  -999.00, 9,  -1.6752,     2.21, 2, 0.09, 2,     0.65, 2,     0.85, 2,   1.1650, 2, 0.202, 2, 0.267, 2, 4.956, 2
320620030705, SBI, 237, 1, 101, 1, 4, 20030808, 708, 72.8526, -161.6131, 53,     48.2,  -1.6742,  32.5915, 2,  32.3140, 0,    262.0, 2,    300.4, 0,    44.48, 3,    12.93, 3,     0.14, 3,     2.02, 3,    70.70, 2,  -1.6750,     1.91, 3, 0.08, 3,     2.14, 2,     1.21, 2,   1.1750, 2, 0.209, 2, 0.144, 2, 4.958, 2
320620030705, SBI, 238, 1, 105, 5, 2, 20030808, 825, 72.8058, -161.5740, 48,      2.3,  -0.7615,  29.8493, 2,  30.0926, 0,    348.7, 2,    384.2, 2,    19.98, 2,     0.86, 2,     0.02, 2,     0.99, 2,  -999.00, 9,  -0.7615,     0.21, 2, 0.01, 2,  -999.00, 9,  -999.00, 9,   1.8920, 2, 0.406, 2, 2.434, 2, 4.985, 2
320620030705, SBI, 238, 1, 104, 4, 2, 20030808, 823, 72.8058, -161.5740, 48,     13.8,  -0.7831,  29.8711, 2, -999.0000, 9,    349.7, 2,    362.5, 2,    28.74, 2,     4.04, 2,     0.08, 2,     1.33, 2,  -999.00, 9,  -0.7834,     0.46, 2, 0.05, 2,  -999.00, 9,  -999.00, 9,   1.8980, 2, 0.449, 2, 1.420, 2, 4.985, 2
320620030705, SBI, 238, 1, 103, 3, 2, 20030808, 821, 72.8058, -161.5740, 48,     21.8,  -1.4114,  31.2238, 2, -999.0000, 9,    313.2, 2,    334.8, 2,    36.09, 2,     7.52, 2,     0.12, 2,     1.63, 2,  -999.00, 9,  -1.4118,     0.90, 2, 0.06, 2,  -999.00, 9,  -999.00, 9,   1.8760, 2, 0.460, 2, 0.746, 2, 4.985, 2
320620030705, SBI, 238, 1, 102, 2, 2, 20030808, 819, 72.8058, -161.5740, 48,     32.9,  -1.6780,  32.5921, 2, -999.0000, 9,    261.2, 2,    290.0, 2,    47.51, 2,    14.24, 2,     0.15, 2,     2.14, 2,  -999.00, 9,  -1.6786,     2.20, 2, 0.09, 2,  -999.00, 9,  -999.00, 9,   1.1840, 2, 0.205, 2, 0.313, 2, 4.984, 2
320620030705, SBI, 238, 1, 101, 1, 2, 20030808, 816, 72.8058, -161.5740, 48,     43.2,  -1.6810,  32.6037, 2,  32.1423, 2,    259.7, 2,    306.8, 2,    42.74, 2,    11.72, 2,     0.13, 2,     1.95, 2,    72.10, 2,  -1.6817,     1.71, 2, 0.08, 2,  -999.00, 9,  -999.00, 9,   1.2080, 2, 0.206, 2, 0.149, 2, 4.983, 2
320620030705, SBI, 239, 1, 105, 5, 2, 20030808, 946, 72.7057, -161.5113, 47,      2.5,  -0.6437,  29.7881, 2,  29.7847, 2,    358.9, 2,    389.8, 2,    19.70, 2,     0.09, 2,     0.00, 2,     0.90, 2,  -999.00, 9,  -0.6438,    -0.01, 2, 0, 2,     1.03, 2,     0.20, 2,   1.6560, 2, 0.305, 2, 1.833, 2, 4.999, 2
320620030705, SBI, 239, 1, 104, 4, 2, 20030808, 944, 72.7057, -161.5113, 47,     11.8,  -0.6613,  29.7908, 2, -999.0000, 9,    351.0, 2,    363.7, 2,    24.34, 2,     2.21, 2,     0.04, 2,     1.12, 2,  -999.00, 9,  -0.6615,     0.15, 2, 0.02, 2,     3.24, 2,     0.05, 2,   1.6710, 2, 0.345, 2, 1.145, 2, 4.998, 2
320620030705, SBI, 239, 1, 103, 3, 2, 20030808, 942, 72.7057, -161.5113, 47,     22.0,  -1.3837,  31.1910, 2, -999.0000, 9,    315.6, 2,    335.9, 2,    32.81, 2,     6.69, 2,     0.11, 2,     1.56, 2,  -999.00, 9,  -1.3841,     0.92, 2, 0.09, 2,     4.53, 2,     0.21, 2,   1.8730, 2, 0.452, 2, 0.551, 2, 4.997, 2
320620030705, SBI, 239, 1, 102, 2, 2, 20030808, 939, 72.7057, -161.5113, 47,     30.9,  -1.6831,  32.6083, 2, -999.0000, 9,    258.3, 2,    290.8, 2,    45.46, 2,    13.99, 2,     0.14, 2,     2.10, 2,  -999.00, 9,  -1.6836,     2.45, 2, 0.1, 2,     1.04, 2,     0.57, 2,   1.2430, 2, 0.213, 2, 0.245, 2, 4.998, 2
320620030705, SBI, 239, 1, 101, 1, 2, 20030808, 937, 72.7057, -161.5113, 47,     41.2,  -1.6900,  32.6363, 2,  32.4433, 0,    259.1, 2,    295.7, 2,    44.74, 2,    13.53, 2,     0.14, 2,     2.06, 2,    71.10, 2,  -1.6907,     2.30, 2, 0.1, 2,     1.42, 2,     0.60, 2,   1.2580, 2, 0.217, 2, 0.144, 2, 4.998, 2
320620030705, SBI, 240, 1, 107, 7, 2, 20030808, 1130, 72.5498, -161.4269, 46,      2.3,  -0.8721,  29.6332, 2,  29.6682, 2,    355.6, 2,    390.3, 2,    20.07, 2,     0.08, 2,     0.00, 2,     0.89, 2,  -999.00, 9,  -0.8721,    -0.01, 2, 0, 2,     1.04, 2,     0.23, 2,   1.4270, 2, 0.248, 2, 1.694, 2, 5.000, 2
320620030705, SBI, 240, 1, 106, 6, 2, 20030808, 1128, 72.5498, -161.4269, 46,     11.9,  -0.8628,  29.7390, 2,  29.8589, 2,    354.9, 2,    389.1, 2,    20.46, 2,     0.13, 2,     0.00, 2,     0.95, 2,  -999.00, 9,  -0.8630,     0.00, 2, 0.01, 2,     2.60, 2,     0.05, 2,   1.6590, 2, 0.282, 2, 0.980, 2, 5.000, 2
320620030705, SBI, 240, 1, 103, 3, 2, 20030808, 1126, 72.5498, -161.4269, 46,     21.8,  -1.3014,  30.8760, 2, -999.0000, 9,    339.0, 2,    369.0, 2,    25.59, 2,     2.85, 2,     0.06, 2,     1.01, 2,  -999.00, 9,  -1.3018,     0.32, 2, 0.04, 2,     7.71, 2,     0.01, 2,   2.0130, 2, 0.436, 2, 0.273, 2, 5.000, 2
320620030705, SBI, 240, 1, 104, 4, 9, 20030808, 1126, 72.5498, -161.4269, 46,     21.8,  -1.3295,  30.9462, 2, -999.0000, 9,    339.2, 2,   -999.0, 9,  -999.00, 9,  -999.00, 9,  -999.00, 9,  -999.00, 9,  -999.00, 9,  -1.3299,  -999.00, 9, -999, 9,  -999.00, 9,  -999.00, 9,   2.0510, 2, 0.452, 2, 0.274, 2, 5.000, 2
320620030705, SBI, 240, 1, 105, 5, 9, 20030808, 1126, 72.5498, -161.4269, 46,     21.8,  -1.3568,  31.0185, 2, -999.0000, 9,    339.2, 2,   -999.0, 9,  -999.00, 9,  -999.00, 9,  -999.00, 9,  -999.00, 9,  -999.00, 9,  -1.3572,  -999.00, 9, -999, 9,  -999.00, 9,  -999.00, 9,   1.9900, 2, 0.479, 2, 0.275, 2, 5.000, 2
320620030705, SBI, 240, 1, 102, 2, 2, 20030808, 1123, 72.5498, -161.4269, 46,     32.0,  -1.6734,  32.5043, 2, -999.0000, 9,    278.1, 2,    304.2, 2,    42.27, 2,    12.46, 2,     0.15, 2,     2.00, 2,  -999.00, 9,  -1.6739,     1.98, 2, 0.1, 2,     1.01, 2,     0.54, 2,   1.2000, 2, 0.208, 2, 0.191, 2, 5.000, 2
320620030705, SBI, 240, 1, 101, 1, 2, 20030808, 1120, 72.5498, -161.4269, 46,     38.6,  -1.6979,  32.6663, 2,  32.5470, 2,    259.9, 2,    289.8, 2,    44.20, 2,    13.99, 2,     0.16, 2,     2.07, 2,    70.30, 2,  -1.6985,     2.57, 2, 0.1, 2,     0.75, 2,     0.57, 2,   1.1110, 2, 0.208, 2, 0.155, 2, 5.000, 2
320620030705, SBI, 241, 1, 105, 5, 2, 20030808, 1330, 72.4834, -160.9252, 45,      2.4,  -0.5941,  29.8320, 2,  29.8295, 2,    356.4, 2,    383.4, 2,    20.75, 2,     0.08, 2,     0.00, 2,     0.91, 2,  -999.00, 9,  -0.5941,    -0.01, 2, 0, 2,     1.00, 2,     0.20, 2,   1.5770, 2, 0.273, 2, 2.514, 2, 4.977, 2
320620030705, SBI, 241, 1, 104, 4, 2, 20030808, 1328, 72.4834, -160.9252, 45,     13.4,  -0.5947,  29.8350, 2, -999.0000, 9,    358.5, 2,    381.1, 2,    21.14, 2,     0.13, 2,     0.00, 2,     0.91, 2,  -999.00, 9,  -0.5950,    -0.01, 2, 0, 2,     1.18, 2,     0.28, 2,   1.5250, 2, 0.271, 2, 1.586, 2, 4.979, 2
320620030705, SBI, 241, 1, 103, 3, 2, 20030808, 1326, 72.4834, -160.9252, 45,     23.4,  -1.3955,  31.2178, 2, -999.0000, 9,    334.5, 2,    332.8, 2,    33.14, 2,     7.60, 2,     0.13, 2,     1.61, 2,  -999.00, 9,  -1.3959,     1.03, 2, 0.06, 2,     3.89, 2,     0.55, 2,   1.9820, 2, 0.514, 2, 0.905, 2, 4.981, 2
320620030705, SBI, 241, 1, 102, 2, 2, 20030808, 1324, 72.4834, -160.9252, 45,     31.4,  -1.6970,  32.6597, 2, -999.0000, 9,    274.3, 2,    293.9, 2,    44.98, 2,    15.05, 2,     0.19, 2,     2.07, 2,  -999.00, 9,  -1.6975,     2.62, 2, 0.09, 2,     0.82, 2,     0.57, 2,   1.2740, 2, 0.211, 2, 0.443, 2, 4.981, 2
320620030705, SBI, 241, 1, 101, 1, 2, 20030808, 1322, 72.4834, -160.9252, 45,     39.5,  -1.6970,  32.6648, 2,  32.6412, 0,    273.6, 2,    294.4, 2,    44.77, 2,    15.10, 2,     0.19, 2,     2.08, 2,    69.80, 2,  -1.6977,     2.61, 2, 0.1, 2,     0.83, 2,     0.59, 2,   1.1940, 2, 0.212, 2, 0.181, 2, 4.981, 2
320620030705, SBI, 242, 1, 105, 5, 2, 20030808, 1524, 72.4156, -160.4202, 46,      2.3,  -0.5572,  29.7745, 2,  29.7721, 2,    362.8, 2,    385.0, 2,    20.91, 2,     0.07, 2,     0.00, 2,     0.90, 2,  -999.00, 9,  -0.5572,    -0.01, 2, 0.01, 2,     0.81, 2,     0.19, 2,   1.3960, 2, 0.231, 2, 2.943, 2, 4.602, 2
320620030705, SBI, 242, 1, 104, 4, 2, 20030808, 1523, 72.4156, -160.4202, 46,     10.1,  -0.5440,  29.7845, 2,  29.7848, 2,    350.6, 2,    383.4, 2,    21.01, 2,     0.01, 2,     0.00, 2,     0.92, 2,  -999.00, 9,  -0.5442,    -0.01, 2, 0.01, 2,     0.86, 2,     0.18, 2,   1.4670, 2, 0.256, 2, 2.274, 2, 4.551, 2
320620030705, SBI, 242, 1, 103, 3, 2, 20030808, 1520, 72.4156, -160.4202, 46,     20.8,  -1.0588,  30.5736, 2, -999.0000, 9,    338.7, 2,    323.9, 2,    28.77, 2,     3.19, 2,     0.08, 2,     1.28, 2,  -999.00, 9,  -1.0592,     0.52, 2, 0.07, 2,     5.09, 2,     0.12, 2,   2.3030, 2, 0.933, 2, 1.586, 2, 4.558, 2
320620030705, SBI, 242, 1, 102, 2, 2, 20030808, 1518, 72.4156, -160.4202, 46,     29.2,  -1.4988,  32.0665, 2, -999.0000, 9,    262.1, 2,    286.3, 2,    46.60, 2,    11.43, 2,     0.14, 2,     1.94, 2,  -999.00, 9,  -1.4993,     1.77, 2, 0.1, 2,     1.34, 2,     0.44, 2,   1.4910, 2, 0.258, 2, 0.958, 2, 4.554, 2
320620030705, SBI, 242, 1, 101, 1, 2, 20030808, 1516, 72.4156, -160.4202, 46,     39.2,  -1.6861,  32.6243, 2,  32.5294, 2,    278.3, 2,    298.1, 2,    45.25, 2,    13.78, 2,     0.19, 2,     2.04, 2,    71.70, 2,  -1.6868,     2.27, 2, 0.12, 2,     0.69, 2,     0.49, 2,   1.1740, 2, 0.209, 2, 0.343, 2, 4.608, 2
320620030705, SBI, 243, 1, 105, 5, 2, 20030808, 1659, 72.3484, -159.9168, 47,      2.4,  -0.5508,  30.0325, 2,  30.0375, 2,    359.1, 2,    385.7, 2,    17.51, 2,     0.13, 2,     0.00, 2,     0.86, 2,  -999.00, 9,  -0.5509,     0.00, 2, 0, 2,     1.35, 2,     0.21, 2,   1.6460, 2, 0.291, 2, 3.106, 2, 4.431, 2
320620030705, SBI, 243, 1, 104, 4, 2, 20030808, 1657, 72.3484, -159.9168, 47,     10.0,  -0.5522,  30.0314, 2,  30.3998, 0,    357.8, 2,    367.9, 2,    23.43, 2,     2.11, 2,     0.03, 2,     1.07, 2,  -999.00, 9,  -0.5524,     0.07, 2, 0.01, 2,     2.96, 2,     0.13, 2,   1.7030, 2, 0.322, 2, 2.393, 2, 4.481, 2
320620030705, SBI, 243, 1, 103, 3, 2, 20030808, 1654, 72.3484, -159.9168, 47,     24.9,  -1.3997,  32.0969, 2, -999.0000, 9,    239.0, 2,    284.2, 2,    47.60, 2,    13.03, 2,     0.16, 2,     1.99, 2,  -999.00, 9,  -1.4002,     1.55, 2, 0.07, 2,     3.62, 2,     0.33, 2,   1.9880, 2, 0.509, 2, 1.207, 2, 4.502, 2
320620030705, SBI, 243, 1, 102, 2, 2, 20030808, 1652, 72.3484, -159.9168, 47,     30.2,  -1.6806,  32.6383, 2,  32.6397, 2,    268.1, 2,    286.4, 2,    45.85, 2,    14.67, 2,     0.19, 2,     2.08, 2,  -999.00, 9,  -1.6811,     2.45, 2, 0.09, 2,     0.66, 2,     0.39, 2,   1.1600, 2, 0.210, 2, 0.847, 2, 4.439, 2
320620030705, SBI, 243, 1, 101, 1, 2, 20030808, 1649, 72.3484, -159.9168, 47,     41.4,  -1.6893,  32.6676, 2,  32.6187, 0,    265.3, 2,    287.6, 2,    45.74, 2,    14.53, 2,     0.19, 2,     2.08, 2,    67.60, 2,  -1.6900,     2.45, 2, 0.1, 2,     0.71, 2,     0.40, 2,   1.1450, 2, 0.208, 2, 0.244, 2, 4.587, 2
320620030705, SBI, 244, 1, 107, 7, 2, 20030808, 1811, 72.3152, -159.6658, 49,      2.4,  -0.9147,  29.5574, 2,  29.5511, 2,    359.6, 2,    392.5, 2,     9.14, 2,     0.06, 2,     0.00, 2,     0.78, 2,  -999.00, 9,  -0.9147,     0.00, 2, 0, 2,     0.94, 2,     0.11, 2,   1.4170, 2, 0.222, 2, 3.176, 2, 4.221, 2
320620030705, SBI, 244, 1, 106, 6, 2, 20030808, 1808, 72.3152, -159.6658, 49,     11.9,  -0.9173,  29.5615, 2,  29.7366, 2,    363.6, 2,    390.2, 2,    11.74, 2,     0.06, 2,     0.00, 2,     0.80, 2,  -999.00, 9,  -0.9175,     0.00, 2, 0, 2,     1.16, 2,     0.17, 2,   1.6000, 2, 0.281, 2, 2.428, 2, 4.216, 2
320620030705, SBI, 244, 1, 105, 5, 2, 20030808, 1806, 72.3152, -159.6658, 49,     23.0,  -0.9641,  30.4218, 2, -999.0000, 9,    360.9, 2,   -999.0, 9,  -999.00, 9,  -999.00, 9,  -999.00, 9,  -999.00, 9,  -999.00, 9,  -0.9645,  -999.00, 9, -999, 9,  -999.00, 9,  -999.00, 9,   1.9800, 2, 0.488, 2, 1.779, 2, 4.214, 2
320620030705, SBI, 244, 1, 103, 3, 2, 20030808, 1804, 72.3152, -159.6658, 49,     23.0,  -1.1149,  30.8514, 2, -999.0000, 9,    350.2, 2,    363.3, 2,    22.49, 2,     1.58, 2,     0.03, 2,     1.08, 2,  -999.00, 9,  -1.1153,     0.21, 2, 0.02, 2,     4.20, 2,     0.43, 2,   2.3170, 2, 0.922, 2, 1.780, 2, 4.216, 2
320620030705, SBI, 244, 1, 104, 4, 2, 20030808, 1806, 72.3152, -159.6658, 49,     23.1,  -0.9505,  30.3972, 2, -999.0000, 9,    361.4, 2,   -999.0, 9,  -999.00, 9,  -999.00, 9,  -999.00, 9,  -999.00, 9,  -999.00, 9,  -0.9509,  -999.00, 9, -999, 9,  -999.00, 9,  -999.00, 9,   2.0150, 2, 0.468, 2, 1.777, 2, 4.214, 2
320620030705, SBI, 244, 1, 102, 2, 2, 20030808, 1802, 72.3152, -159.6658, 49,     32.1,  -1.6185,  32.4235, 2, -999.0000, 9,    282.0, 2,    290.7, 2,    42.48, 2,    13.72, 2,     0.20, 2,     1.98, 2,  -999.00, 9,  -1.6190,     2.36, 2, 0.1, 2,     1.94, 2,     0.41, 2,   1.7630, 2, 0.373, 2, 0.938, 2, 4.217, 2
320620030705, SBI, 244, 1, 101, 1, 2, 20030808, 1759, 72.3152, -159.6658, 49,     42.2,  -1.7008,  32.7377, 2,  32.6509, 2,    266.5, 2,    288.8, 2,    43.48, 2,    14.42, 2,     0.21, 2,     2.03, 2,    69.10, 2,  -1.7015,     2.51, 2, 0.11, 2,     1.21, 2,     0.41, 2,   1.3270, 2, 0.221, 2, 0.397, 2, 4.256, 2
320620030705, SBI, 245, 1, 105, 5, 2, 20030808, 1918, 72.3578, -159.5899, 48,      2.2,  -0.8675,  29.5698, 2,  29.5638, 2,    366.0, 2,    392.5, 2,     9.21, 2,     0.10, 2,     0.00, 2,     0.78, 2,  -999.00, 9,  -0.8675,     0.00, 2, 0, 2,  -999.00, 9,  -999.00, 9,   1.1600, 2, 0.198, 2, 4.131, 2, 4.166, 2
320620030705, SBI, 245, 1, 104, 4, 2, 20030808, 1916, 72.3578, -159.5899, 48,     14.0,  -0.8898,  29.5743, 2,  29.9022, 2,    365.7, 2,    389.1, 2,    13.82, 2,     0.20, 2,     0.01, 2,     0.87, 2,  -999.00, 9,  -0.8901,     0.01, 2, 0.02, 2,  -999.00, 9,  -999.00, 9,   1.5410, 2, 0.257, 2, 3.155, 2, 4.168, 2
320620030705, SBI, 245, 1, 103, 3, 2, 20030808, 1914, 72.3578, -159.5899, 48,     24.2,  -1.0960,  30.6830, 2, -999.0000, 9,    347.8, 2,    355.9, 2,    29.63, 2,     3.28, 2,     0.07, 2,     1.34, 2,  -999.00, 9,  -1.0964,     0.53, 2, 0.06, 2,  -999.00, 9,  -999.00, 9,   2.2600, 2, 0.934, 2, 2.350, 2, 4.173, 2
320620030705, SBI, 245, 1, 102, 2, 2, 20030808, 1911, 72.3578, -159.5899, 48,     34.2,  -1.6163,  32.3940, 2, -999.0000, 9,    284.9, 2,    291.8, 2,    43.07, 2,    14.13, 2,     0.21, 2,     2.04, 2,  -999.00, 9,  -1.6169,     2.51, 2, 0.11, 2,  -999.00, 9,  -999.00, 9,   1.4820, 2, 0.241, 2, 1.288, 2, 4.187, 2
320620030705, SBI, 245, 1, 101, 1, 2, 20030808, 1909, 72.3578, -159.5899, 48,     43.3,  -1.7011,  32.7212, 2,  32.6672, 2,    266.8, 2,    290.1, 2,    43.36, 2,    14.38, 2,     0.22, 2,     2.05, 2,    70.10, 2,  -1.7018,     2.56, 2, 0.11, 2,  -999.00, 9,  -999.00, 9,   1.2240, 2, 0.219, 2, 0.688, 2, 4.194, 2
320620030705, SBI, 246, 1, 106, 6, 2, 20030808, 2015, 72.4029, -159.5166, 49,      1.9,  -0.5824,  29.6693, 2,  29.6676, 2,    357.6, 2,    389.0, 2,    10.38, 2,     0.09, 2,     0.00, 2,     0.78, 2,  -999.00, 9,  -0.5824,     0.00, 2, 0, 2,     0.74, 2,     0.11, 2,   1.0560, 2, 0.186, 2, 3.362, 2, 4.096, 2
320620030705, SBI, 246, 1, 105, 5, 2, 20030808, 2013, 72.4029, -159.5166, 49,     13.0,  -0.5839,  29.7303, 2, -999.0000, 9,    358.5, 2,    387.5, 2,    13.49, 2,     0.28, 2,     0.01, 2,     0.84, 2,  -999.00, 9,  -0.5842,     0.01, 2, 0.01, 2,     1.16, 2,     0.18, 2,   1.4680, 2, 0.245, 2, 2.478, 2, 4.106, 2
320620030705, SBI, 246, 1, 104, 4, 2, 20030808, 2011, 72.4029, -159.5166, 49,     22.0,  -0.8010,  29.9682, 2, -999.0000, 9,    360.3, 2,    357.2, 2,    27.09, 2,     3.64, 2,     0.07, 2,     1.27, 2,  -999.00, 9,  -0.8014,     0.62, 2, 0.05, 2,     4.27, 2,     0.07, 2,   1.8570, 2, 0.422, 2, 1.942, 2, 4.110, 2
320620030705, SBI, 246, 1, 103, 3, 2, 20030808, 2010, 72.4029, -159.5166, 49,     26.0,  -1.2032,  31.0628, 2, -999.0000, 9,    330.4, 2,    327.3, 2,    32.73, 2,     5.35, 2,     0.10, 2,     1.45, 2,  -999.00, 9,  -1.2037,     0.92, 2, 0.09, 2,     4.64, 2,     0.56, 2,   2.1020, 2, 0.716, 2, 1.607, 2, 4.104, 2
320620030705, SBI, 246, 1, 102, 2, 2, 20030808, 2007, 72.4029, -159.5166, 49,     35.0,  -1.6483,  32.4581, 2, -999.0000, 9,    289.1, 2,    294.0, 2,    43.34, 2,    14.29, 2,     0.22, 2,     2.03, 2,  -999.00, 9,  -1.6489,     2.49, 2, 0.1, 2,     1.04, 2,     0.51, 2,   1.4950, 2, 0.240, 2, 1.001, 2, 4.101, 2
320620030705, SBI, 246, 1, 101, 1, 2, 20030808, 2005, 72.4029, -159.5166, 49,     44.4,  -1.7013,  32.7080, 2,  32.6521, 2,    268.8, 2,    291.5, 2,    43.64, 2,    14.34, 2,     0.22, 2,     2.04, 2,    72.30, 2,  -1.7021,     2.52, 2, 0.11, 2,     0.89, 2,     0.47, 2,   1.2260, 2, 0.224, 2, 0.454, 2, 4.095, 2
320620030705, SBI, 247, 1, 105, 5, 2, 20030808, 2356, 72.4480, -159.4408, 49,      1.5,  -0.5354,  29.8325, 2,  29.8294, 2,    363.0, 2,    390.3, 2,    11.54, 2,     0.09, 2,     0.00, 2,     0.80, 2,  -999.00, 9,  -0.5354,     0.00, 2, 0, 2,  -999.00, 9,  -999.00, 9,   1.0730, 2, 0.196, 2, 3.600, 2, 4.078, 2
320620030705, SBI, 247, 1, 104, 4, 2, 20030808, 2354, 72.4480, -159.4408, 49,     14.4,  -0.6131,  29.9461, 2, -999.0000, 9,    360.1, 2,    382.5, 2,    17.54, 2,     0.88, 2,     0.02, 2,     0.96, 2,  -999.00, 9,  -0.6134,     0.05, 2, 0.01, 2,  -999.00, 9,  -999.00, 9,   1.7050, 2, 0.322, 2, 2.949, 2, 4.066, 2
320620030705, SBI, 247, 1, 103, 3, 2, 20030808, 2352, 72.4480, -159.4408, 49,     24.5,  -1.3153,  30.8085, 2, -999.0000, 9,    337.7, 2,    366.5, 2,    24.46, 2,     2.97, 2,     0.06, 2,     1.23, 2,  -999.00, 9,  -1.3157,     0.52, 2, 0.06, 2,  -999.00, 9,  -999.00, 9,   2.0010, 2, 0.655, 2, 2.080, 2, 4.064, 2
320620030705, SBI, 247, 1, 102, 2, 2, 20030808, 2349, 72.4480, -159.4408, 49,     34.5,  -1.6280,  32.3880, 2, -999.0000, 9,    275.7, 2,    297.3, 2,    42.93, 2,    13.36, 2,     0.18, 2,     2.00, 2,  -999.00, 9,  -1.6286,     2.03, 2, 0.09, 2,  -999.00, 9,  -999.00, 9,   1.7860, 2, 0.401, 2, 1.261, 2, 4.054, 2
320620030705, SBI, 247, 1, 101, 1, 2, 20030808, 2346, 72.4480, -159.4408, 49,     43.9,  -1.6931,  32.6751, 2,  32.6546, 2,    264.2, 2,    286.4, 2,    45.24, 2,    14.61, 2,     0.20, 2,     2.08, 2,    70.10, 2,  -1.6938,     2.40, 2, 0.09, 2,  -999.00, 9,  -999.00, 9,   1.3140, 2, 0.232, 2, 0.618, 2, 4.056, 2