BOTTLE,20100423CCHDOSIODBK
EXPOCODE,SECT_ID,STNNBR,CASTNO,SAMPNO,BTLNBR,BTLNBR_FLAG_W,DATE,TIME,LATITUDE,LONGITUDE,DEPTH,CTDPRS,CTDTMP,CTDSAL,CTDSAL_FLAG_W,SALNTY,SALNTY_FLAG_W,CTDOXY,CTDOXY_FLAG_W,OXYGEN,OXYGEN_FLAG_W,SILCAT,SILCAT_FLAG_W,NITRAT,NITRAT_FLAG_W,NITRIT,NITRIT_FLAG_W,PHSPHT,PHSPHT_FLAG_W,DOC,DOC_FLAG_W,THETA,NH4,NH4_FLAG_W,UREA,UREA_FLAG_W,CHLORA,CHLORA_FLAG_W,PPHYTN,PPHYTN_FLAG_W,FLUOR,FLUOR_FLAG_W,HAARDT,HAARDT_FLAG_W,PAR,PAR_FLAG_W,SPAR,SPAR_FLAG_W
,,,,,,,,,,,METERS,DBAR,ITS-90,PSS-78,,PSS-78,,UMOL/KG,,UMOL/KG,,UMOL/KG,,UMOL/KG,,UMOL/KG,,UMOL/KG,,UMOL/KG,,DEG C,UMOL/KG,,UMOL/KG,,UG/KG,,UG/KG,,MG/M^3,,VOLTS,,VOLTS,,VOLTS,
320620030705, SBI, 126, 1, 124, 24, 2, 20030727, 2319, 73.6885, -159.4451, 2676,      1.6,  -1.2237,  28.6663, 2,  28.8499, 2,    350.8, 2,    391.2, 2,     6.00, 2,     0.19, 2,     0.00, 2,     0.70, 2,  -999.00, 9,  -1.2237,     0.05, 2, 0, 2,     0.51, 2,     0.05, 2,   0.7860, 2, -999.000, 2, -999.000, 9, 4.459, 2
320620030705, SBI, 126, 1, 123, 23, 2, 20030727, 2318, 73.6885, -159.4451, 2676,     20.8,  -1.2257,  30.3777, 2, -999.0000, 9,    370.6, 2,    402.5, 2,    11.64, 2,     0.60, 2,     0.03, 2,     0.87, 2,  -999.00, 9,  -1.2260,     0.13, 2, 0.01, 2,     1.21, 2,     0.15, 2,   1.4060, 2, -999.000, 2, -999.000, 9, 4.469, 2
320620030705, SBI, 126, 1, 122, 22, 2, 20030727, 2317, 73.6885, -159.4451, 2676,     32.0,  -1.5151,  31.3350, 2, -999.0000, 9,    352.6, 2,   -999.0, 9,  -999.00, 9,  -999.00, 9,  -999.00, 9,  -999.00, 9,  -999.00, 9,  -1.5156,  -999.00, 9, -999, 9,  -999.00, 9,  -999.00, 9,   1.9770, 2, -999.000, 2, -999.000, 9, 4.479, 2
320620030705, SBI, 126, 1, 121, 21, 2, 20030727, 2316, 73.6885, -159.4451, 2676,     32.0,  -1.5301,  31.3418, 2, -999.0000, 9,    351.0, 2,    373.8, 2,    12.82, 2,     1.61, 2,     0.07, 2,     1.02, 2,  -999.00, 9,  -1.5306,     0.19, 2, 0.03, 2,     2.94, 2,     0.36, 2,   2.0290, 2, -999.000, 2, -999.000, 9, 4.498, 2
320620030705, SBI, 126, 1, 120, 20, 2, 20030727, 2314, 73.6885, -159.4451, 2676,     51.1,  -1.6199,  31.7510, 2, -999.0000, 9,    318.0, 2,    347.2, 2,    21.23, 2,     6.70, 2,     0.12, 2,     1.33, 2,  -999.00, 9,  -1.6207,     0.30, 2, 0.01, 2,     0.13, 2,     0.08, 2,   0.8420, 2, -999.000, 2, -999.000, 9, 4.518, 2
320620030705, SBI, 126, 1, 119, 19, 2, 20030727, 2312, 73.6885, -159.4451, 2676,     65.8,  -1.6394,  32.0272, 2, -999.0000, 9,    317.2, 2,    351.8, 2,    27.76, 2,     6.63, 2,     0.19, 2,     1.42, 2,  -999.00, 9,  -1.6405,     1.15, 2, 0.02, 2,     0.06, 2,     0.06, 2,   0.8540, 2, -999.000, 2, -999.000, 9, 4.513, 2
320620030705, SBI, 126, 1, 118, 18, 2, 20030727, 2311, 73.6885, -159.4451, 2676,     81.0,  -1.6356,  32.1737, 2, -999.0000, 9,    318.0, 2,    349.3, 2,    27.96, 2,     7.06, 2,     0.19, 2,     1.45, 2,  -999.00, 9,  -1.6370,     1.30, 2, 0.01, 2,  -999.00, 9,  -999.00, 9,   0.7860, 2, -999.000, 2, -999.000, 9, 4.515, 2
320620030705, SBI, 126, 1, 117, 17, 2, 20030727, 2310, 73.6885, -159.4451, 2676,     96.2,  -1.6055,  32.2993, 2, -999.0000, 9,    309.6, 2,    342.4, 2,    27.95, 2,     7.85, 2,     0.15, 2,     1.49, 2,  -999.00, 9,  -1.6072,     1.18, 2, 0.01, 2,  -999.00, 9,  -999.00, 9,   0.7790, 2, -999.000, 2, -999.000, 9, 4.535, 2
320620030705, SBI, 126, 1, 116, 16, 2, 20030727, 2309, 73.6885, -159.4451, 2676,    111.1,  -1.6040,  32.4263, 2, -999.0000, 9,    298.4, 2,    327.4, 2,    26.95, 2,     9.34, 2,     0.11, 2,     1.52, 2,  -999.00, 9,  -1.6060,     0.23, 2, 0.01, 2,  -999.00, 9,  -999.00, 9,   0.7990, 2, -999.000, 2, -999.000, 9, 4.535, 2
320620030705, SBI, 126, 1, 115, 15, 2, 20030727, 2308, 73.6885, -159.4451, 2676,    126.3,  -1.5939,  32.6359, 2, -999.0000, 9,    281.2, 2,    309.3, 2,    29.13, 2,    11.68, 2,     0.01, 2,     1.62, 2,  -999.00, 9,  -1.5963,     0.00, 2, 0, 2,  -999.00, 9,  -999.00, 9,   0.7670, 2, -999.000, 2, -999.000, 9, 4.534, 2
320620030705, SBI, 126, 1, 114, 14, 2, 20030727, 2307, 73.6885, -159.4451, 2676,    141.4,  -1.6002,  32.8198, 2, -999.0000, 9,    276.1, 2,    302.3, 2,    30.81, 2,    12.68, 2,     0.01, 2,     1.66, 2,  -999.00, 9,  -1.6029,     0.00, 2, 0.01, 2,  -999.00, 9,  -999.00, 9,   0.8330, 2, -999.000, 2, -999.000, 9, 4.531, 2
320620030705, SBI, 126, 1, 113, 13, 2, 20030727, 2306, 73.6885, -159.4451, 2676,    156.2,  -1.5625,  33.1374, 2, -999.0000, 9,    270.5, 2,    296.2, 2,    32.09, 2,    13.58, 2,     0.01, 2,     1.69, 2,  -999.00, 9,  -1.5657,     0.00, 2, 0.01, 2,  -999.00, 9,  -999.00, 9,   0.7640, 2, -999.000, 2, -999.000, 9, 4.528, 2
320620030705, SBI, 126, 1, 112, 12, 2, 20030727, 2305, 73.6885, -159.4451, 2676,    171.5,  -1.3904,  33.7005, 2, -999.0000, 9,    269.2, 2,    296.0, 2,    29.78, 2,    13.53, 2,     0.01, 2,     1.58, 2,  -999.00, 9,  -1.3943,     0.00, 2, 0.01, 2,  -999.00, 9,  -999.00, 9,   0.7560, 2, -999.000, 2, -999.000, 9, 4.517, 2
320620030705, SBI, 126, 1, 111, 11, 2, 20030727, 2303, 73.6885, -159.4451, 2676,    186.5,  -1.2609,  33.9890, 2, -999.0000, 9,    265.7, 2,    288.9, 2,    25.22, 2,    13.90, 2,     0.01, 2,     1.43, 2,  -999.00, 9,  -1.2655,     0.00, 2, 0, 2,  -999.00, 9,  -999.00, 9,   0.7770, 2, -999.000, 2, -999.000, 9, 4.504, 2
320620030705, SBI, 126, 1, 110, 10, 2, 20030727, 2302, 73.6885, -159.4451, 2676,    206.7,  -0.7750,  34.2921, 2,  34.3695, 2,    256.8, 2,    278.5, 2,    18.77, 2,    13.57, 2,     0.01, 2,     1.19, 2,  -999.00, 9,  -0.7812,     0.00, 2, 0.01, 2,  -999.00, 9,  -999.00, 9,   0.8840, 2, -999.000, 2, -999.000, 9, 4.506, 2
320620030705, SBI, 126, 1, 109, 9, 2, 20030727, 2301, 73.6885, -159.4451, 2676,    236.8,  -0.0274,  34.5733, 2,  34.6064, 2,    255.2, 2,    277.4, 2,    12.83, 2,    13.09, 2,     0.01, 2,     1.01, 2,  -999.00, 9,  -0.0362,     0.00, 2, 0.01, 2,  -999.00, 9,  -999.00, 9,   0.6260, 2, -999.000, 2, -999.000, 9, 4.481, 2
320620030705, SBI, 126, 1, 108, 8, 2, 20030727, 2300, 73.6885, -159.4451, 2676,    256.7,   0.2977,  34.6706, 2,  34.6822, 2,    259.0, 2,    281.9, 2,    10.85, 2,    12.98, 2,     0.01, 2,     0.95, 2,  -999.00, 9,   0.2874,     0.00, 2, 0, 2,  -999.00, 9,  -999.00, 9,   0.6400, 2, -999.000, 2, -999.000, 9, 4.476, 2
320620030705, SBI, 126, 1, 107, 7, 2, 20030727, 2257, 73.6885, -159.4451, 2676,    357.3,   0.8142,  34.8201, 2,  34.8290, 2,    272.0, 2,    294.9, 2,     6.99, 2,    12.55, 2,     0.00, 2,     0.86, 2,  -999.00, 9,   0.7979,     0.00, 2, 0.01, 2,  -999.00, 9,  -999.00, 9,   0.7800, 2, -999.000, 2, -999.000, 9, 4.520, 2
320620030705, SBI, 126, 1, 106, 6, 2, 20030727, 2251, 73.6885, -159.4451, 2676,    609.0,   0.4096,  34.8574, 2,  34.8596, 2,    273.5, 2,    298.0, 2,     7.17, 2,    12.71, 2,     0.00, 2,     0.87, 2,  -999.00, 9,   0.3825,     0.00, 2, 0, 2,  -999.00, 9,  -999.00, 9,   0.5300, 2, -999.000, 2, -999.000, 9, 4.529, 2
320620030705, SBI, 126, 1, 105, 5, 2, 20030727, 2244, 73.6885, -159.4451, 2676,    911.5,   0.0380,  34.8733, 2,  34.8737, 2,    274.1, 2,    300.5, 2,     7.37, 2,    12.76, 2,     0.00, 2,     0.89, 2,  -999.00, 9,  -0.0022,     0.00, 2, 0, 2,  -999.00, 9,  -999.00, 9,   0.6200, 2, -999.000, 2, -999.000, 9, 4.576, 2
320620030705, SBI, 126, 1, 104, 4, 2, 20030727, 2233, 73.6885, -159.4451, 2676,   1416.3,  -0.3453,  34.9162, 2,  34.9168, 2,    269.4, 2,    298.7, 2,     9.34, 2,    13.61, 2,     0.00, 2,     0.95, 2,  -999.00, 9,  -0.4098,     0.00, 2, 0, 2,  -999.00, 9,  -999.00, 9,   0.7240, 2, -999.000, 2, -999.000, 9, 4.545, 2
320620030705, SBI, 126, 1, 103, 3, 2, 20030727, 2219, 73.6885, -159.4451, 2676,   2024.2,  -0.4045,  34.9425, 2,  34.9435, 2,    260.9, 2,    289.3, 2,    12.11, 2,    14.46, 2,     0.00, 2,     1.02, 2,  -999.00, 9,  -0.5065,     0.00, 2, 0, 2,  -999.00, 9,  -999.00, 9,   0.5850, 2, -999.000, 2, -999.000, 9, 4.538, 2
320620030705, SBI, 126, 1, 102, 2, 2, 20030727, 2207, 73.6885, -159.4451, 2676,   2612.9,  -0.3685,  34.9520, 2,  34.9511, 2,    257.7, 2,    286.0, 2,    13.19, 2,    14.73, 2,     0.00, 2,     1.03, 2,  -999.00, 9,  -0.5139,     0.00, 2, 0, 2,  -999.00, 9,  -999.00, 9,   0.4610, 2, -999.000, 2, -999.000, 9, 4.491, 2
320620030705, SBI, 126, 1, 101, 1, 2, 20030727, 2204, 73.6885, -159.4451, 2676,   2714.6,  -0.3550,  34.9548, 2,  34.9546, 2,    255.8, 2,    283.3, 2,    14.18, 2,    14.82, 2,     0.00, 2,     1.04, 2,  -999.00, 9,  -0.5087,     0.00, 2, 0, 2,  -999.00, 9,  -999.00, 9,   0.7650, 2, -999.000, 2, -999.000, 9, 4.462, 2
320620030705, SBI, 127, 1, 124, 24, 2, 20030728, 300, 73.5861, -159.5828, 2364,      1.9,  -1.2057,  28.5803, 2,  28.5814, 2,    351.8, 2,    385.3, 2,     5.70, 2,     0.15, 2,     0.00, 2,     0.68, 2,  -999.00, 9,  -1.2057,     0.07, 2, 0, 2,     0.29, 2,     0.06, 2,   0.7080, 2, -999.000, 2, -999.000, 9, 4.675, 2
320620030705, SBI, 127, 1, 123, 23, 2, 20030728, 258, 73.5861, -159.5828, 2364,     22.6,  -1.3996,  31.0706, 2, -999.0000, 9,    372.2, 2,    396.2, 2,    11.62, 2,     1.57, 2,     0.06, 2,     0.98, 2,  -999.00, 9,  -1.4000,     0.18, 2, 0.03, 2,     0.37, 2,     0.02, 2,   1.2960, 2, -999.000, 2, -999.000, 9, 4.659, 2
320620030705, SBI, 127, 1, 122, 22, 2, 20030728, 257, 73.5861, -159.5828, 2364,     32.4,  -1.5897,  31.5323, 2, -999.0000, 9,    327.5, 2,    353.1, 2,    23.46, 2,     5.85, 2,     0.20, 2,     1.31, 2,  -999.00, 9,  -1.5902,     0.67, 2, 0.04, 2,     0.20, 2,     0.14, 2,   1.0920, 2, -999.000, 2, -999.000, 9, 4.652, 2
320620030705, SBI, 127, 1, 121, 21, 2, 20030728, 256, 73.5861, -159.5828, 2364,     47.5,  -1.5343,  31.8263, 2, -999.0000, 9,    313.8, 2,    345.0, 2,    25.83, 2,     7.10, 2,     0.18, 2,     1.40, 2,  -999.00, 9,  -1.5351,     0.55, 2, 0.01, 2,     0.09, 2,     0.07, 2,   0.9210, 2, -999.000, 2, -999.000, 9, 4.613, 2
320620030705, SBI, 127, 1, 120, 20, 2, 20030728, 254, 73.5861, -159.5828, 2364,     62.5,  -1.6251,  31.9664, 2, -999.0000, 9,    313.6, 2,    351.3, 2,    28.29, 2,     6.83, 2,     0.19, 2,     1.44, 2,  -999.00, 9,  -1.6261,     1.18, 2, 0.02, 2,     0.05, 2,     0.06, 2,   0.7820, 2, -999.000, 2, -999.000, 9, 4.592, 2
320620030705, SBI, 127, 1, 119, 19, 2, 20030728, 253, 73.5861, -159.5828, 2364,     77.3,  -1.6432,  32.1432, 2, -999.0000, 9,    317.5, 2,    350.9, 2,    27.69, 2,     6.67, 2,     0.18, 2,     1.44, 2,  -999.00, 9,  -1.6445,     1.41, 2, 0.02, 2,     0.03, 2,     0.07, 2,   0.7870, 2, -999.000, 2, -999.000, 9, 4.611, 2
320620030705, SBI, 127, 1, 118, 18, 2, 20030728, 252, 73.5861, -159.5828, 2364,     92.5,  -1.6027,  32.3103, 2, -999.0000, 9,    309.2, 2,    339.7, 2,    27.98, 2,     8.12, 2,     0.13, 2,     1.49, 2,  -999.00, 9,  -1.6043,     1.06, 2, 0.01, 2,  -999.00, 9,  -999.00, 9,   0.7290, 2, -999.000, 2, -999.000, 9, 4.556, 2
320620030705, SBI, 127, 1, 117, 17, 2, 20030728, 251, 73.5861, -159.5828, 2364,    107.3,  -1.5734,  32.4445, 2, -999.0000, 9,    297.3, 2,    327.1, 2,    26.00, 2,     9.30, 2,     0.11, 2,     1.50, 2,  -999.00, 9,  -1.5754,     0.22, 2, 0.03, 2,  -999.00, 9,  -999.00, 9,   0.6940, 2, -999.000, 2, -999.000, 9, 4.552, 2
320620030705, SBI, 127, 1, 116, 16, 2, 20030728, 250, 73.5861, -159.5828, 2364,    122.5,  -1.5885,  32.6248, 2, -999.0000, 9,    280.4, 2,    308.4, 2,    28.47, 2,    11.47, 2,     0.01, 2,     1.62, 2,  -999.00, 9,  -1.5908,     0.01, 2, 0.01, 2,  -999.00, 9,  -999.00, 9,   0.8880, 2, -999.000, 2, -999.000, 9, 4.549, 2
320620030705, SBI, 127, 1, 115, 15, 2, 20030728, 248, 73.5861, -159.5828, 2364,    137.4,  -1.5938,  32.8560, 2, -999.0000, 9,    274.3, 2,    302.8, 2,    30.54, 2,    12.68, 2,     0.01, 2,     1.65, 2,  -999.00, 9,  -1.5964,     0.02, 2, 0.05, 2,  -999.00, 9,  -999.00, 9,   0.8880, 2, -999.000, 2, -999.000, 9, 4.534, 2
320620030705, SBI, 127, 1, 114, 14, 2, 20030728, 247, 73.5861, -159.5828, 2364,    159.2,  -1.5235,  33.3474, 2, -999.0000, 9,    270.5, 2,    298.8, 2,    31.22, 2,    13.32, 2,     0.01, 2,     1.63, 2,  -999.00, 9,  -1.5268,     0.00, 2, 0.01, 2,  -999.00, 9,  -999.00, 9,   0.7250, 2, -999.000, 2, -999.000, 9, 4.503, 2
320620030705, SBI, 127, 1, 113, 13, 2, 20030728, 245, 73.5861, -159.5828, 2364,    179.7,  -1.3523,  33.9026, 2, -999.0000, 9,    269.8, 2,    296.8, 2,    27.75, 2,    13.57, 2,     0.01, 2,     1.52, 2,  -999.00, 9,  -1.3566,     0.00, 2, 0.02, 2,  -999.00, 9,  -999.00, 9,   0.7310, 2, -999.000, 2, -999.000, 9, 4.478, 2
320620030705, SBI, 127, 1, 112, 12, 2, 20030728, 244, 73.5861, -159.5828, 2364,    200.3,  -0.7600,  34.2833, 2, -999.0000, 9,    254.4, 2,    277.8, 2,    20.04, 2,    13.57, 2,     0.01, 2,     1.24, 2,  -999.00, 9,  -0.7660,     0.00, 2, 0.01, 2,  -999.00, 9,  -999.00, 9,   0.7150, 2, -999.000, 2, -999.000, 9, 4.540, 2
320620030705, SBI, 127, 1, 111, 11, 2, 20030728, 242, 73.5861, -159.5828, 2364,    220.1,  -0.2029,  34.5097, 2,  34.5501, 2,    255.0, 2,    278.4, 2,    12.64, 2,    12.78, 2,     0.01, 2,     1.00, 2,  -999.00, 9,  -0.2107,     0.00, 2, 0.01, 2,  -999.00, 9,  -999.00, 9,   0.8230, 2, -999.000, 2, -999.000, 9, 4.604, 2
320620030705, SBI, 127, 1, 110, 10, 2, 20030728, 240, 73.5861, -159.5828, 2364,    240.7,   0.1940,  34.6278, 2,  34.6396, 2,    258.3, 2,    280.7, 2,    10.67, 2,    12.73, 2,     0.01, 2,     0.94, 2,  -999.00, 9,   0.1846,     0.00, 2, 0.01, 2,  -999.00, 9,  -999.00, 9,   0.5440, 2, -999.000, 2, -999.000, 9, 4.601, 2
320620030705, SBI, 127, 1, 109, 9, 2, 20030728, 239, 73.5861, -159.5828, 2364,    260.7,   0.4081,  34.6906, 2,  34.7032, 2,    261.6, 2,    283.3, 2,     9.59, 2,    12.73, 2,     0.00, 2,     0.91, 2,  -999.00, 9,   0.3974,     0.00, 2, 0.01, 2,  -999.00, 9,  -999.00, 9,   0.5960, 2, -999.000, 2, -999.000, 9, 4.624, 2
320620030705, SBI, 127, 1, 108, 8, 2, 20030728, 236, 73.5861, -159.5828, 2364,    310.6,   0.7383,  34.7813, 2,  34.7879, 2,    269.0, 2,    292.1, 2,     7.52, 2,    12.57, 2,     0.00, 2,     0.87, 2,  -999.00, 9,   0.7245,     0.00, 2, 0, 2,  -999.00, 9,  -999.00, 9,   0.6620, 2, -999.000, 2, -999.000, 9, 4.648, 2
320620030705, SBI, 127, 1, 107, 7, 2, 20030728, 234, 73.5861, -159.5828, 2364,    361.3,   0.8547,  34.8286, 2,  34.8313, 2,    273.0, 2,    295.5, 2,     6.92, 2,    12.51, 2,     0.00, 2,     0.86, 2,  -999.00, 9,   0.8381,     0.00, 2, 0.01, 2,  -999.00, 9,  -999.00, 9,   0.6450, 2, -999.000, 2, -999.000, 9, 4.649, 2
320620030705, SBI, 127, 1, 106, 6, 2, 20030728, 225, 73.5861, -159.5828, 2364,    763.9,   0.1833,  34.8661, 2,  34.8682, 2,    274.3, 2,    300.9, 2,     7.11, 2,    12.62, 2,     0.00, 2,     0.88, 2,  -999.00, 9,   0.1497,     0.00, 2, 0, 2,  -999.00, 9,  -999.00, 9,   0.6600, 2, -999.000, 2, -999.000, 9, 4.505, 2
320620030705, SBI, 127, 1, 105, 5, 2, 20030728, 215, 73.5861, -159.5828, 2364,   1149.5,  -0.1700,  34.8921, 2,  34.8932, 2,    272.7, 2,    300.2, 2,     7.99, 2,    13.04, 2,     0.00, 2,     0.91, 2,  -999.00, 9,  -0.2212,     0.00, 2, 0.01, 2,  -999.00, 9,  -999.00, 9,   0.6490, 2, -999.000, 2, -999.000, 9, 4.385, 2
320620030705, SBI, 127, 1, 104, 4, 2, 20030728, 206, 73.5861, -159.5828, 2364,   1517.7,  -0.3459,  34.9179, 2,  34.9173, 2,    268.9, 2,    297.6, 2,     9.47, 2,    13.67, 2,     0.00, 2,     0.95, 2,  -999.00, 9,  -0.4163,     0.00, 2, 0, 2,  -999.00, 9,  -999.00, 9,   0.7420, 2, -999.000, 2, -999.000, 9, 4.337, 2
320620030705, SBI, 127, 1, 103, 3, 2, 20030728, 155, 73.5861, -159.5828, 2364,   1891.9,  -0.4055,  34.9385, 2,  34.9399, 2,    262.7, 2,    290.9, 2,    11.64, 2,    14.25, 2,     0.00, 2,     1.00, 2,  -999.00, 9,  -0.4986,     0.00, 2, 0, 2,  -999.00, 9,  -999.00, 9,   0.7480, 2, -999.000, 2, -999.000, 9, 4.434, 2
320620030705, SBI, 127, 1, 102, 2, 2, 20030728, 144, 73.5861, -159.5828, 2364,   2289.7,  -0.3913,  34.9487, 2,  34.9489, 2,    259.3, 2,    287.0, 2,    12.81, 2,    14.62, 2,     0.00, 2,     1.03, 2,  -999.00, 9,  -0.5121,     0.00, 2, 0.02, 2,  -999.00, 9,  -999.00, 9,   0.6550, 2, -999.000, 2, -999.000, 9, 4.418, 2
320620030705, SBI, 127, 1, 101, 1, 2, 20030728, 140, 73.5861, -159.5828, 2364,   2397.1,  -0.3809,  34.9533, 2,  34.9524, 2,    257.4, 2,    284.6, 2,    13.80, 2,    14.72, 2,     0.00, 2,     1.03, 2,  -999.00, 9,  -0.5097,     0.01, 2, 0, 2,  -999.00, 9,  -999.00, 9,   0.4850, 2, -999.000, 2, -999.000, 9, 4.543, 2