BOTTLE,20100423CCHDOSIODBK
EXPOCODE,SECT_ID,STNNBR,CASTNO,SAMPNO,BTLNBR,BTLNBR_FLAG_W,DATE,TIME,LATITUDE,LONGITUDE,DEPTH,CTDPRS,CTDTMP,CTDSAL,CTDSAL_FLAG_W,SALNTY,SALNTY_FLAG_W,CTDOXY,CTDOXY_FLAG_W,OXYGEN,OXYGEN_FLAG_W,SILCAT,SILCAT_FLAG_W,NITRAT,NITRAT_FLAG_W,NITRIT,NITRIT_FLAG_W,PHSPHT,PHSPHT_FLAG_W,DOC,DOC_FLAG_W,THETA,NH4,NH4_FLAG_W,UREA,UREA_FLAG_W,CHLORA,CHLORA_FLAG_W,PPHYTN,PPHYTN_FLAG_W,FLUOR,FLUOR_FLAG_W,HAARDT,HAARDT_FLAG_W,PAR,PAR_FLAG_W,SPAR,SPAR_FLAG_W
,,,,,,,,,,,METERS,DBAR,ITS-90,PSS-78,,PSS-78,,UMOL/KG,,UMOL/KG,,UMOL/KG,,UMOL/KG,,UMOL/KG,,UMOL/KG,,UMOL/KG,,DEG C,UMOL/KG,,UMOL/KG,,UG/KG,,UG/KG,,MG/M^3,,VOLTS,,VOLTS,,VOLTS,
320620030705, SBI, 120, 1, 124, 24, 2, 20030726, 1613, 73.8779, -157.1219, 3434,      2.3,  -1.3375,  28.5789, 2,  28.5338, 2,    356.9, 2,    390.5, 2,     4.19, 2,     0.09, 2,     0.00, 2,     0.66, 2,  -999.00, 9,  -1.3375,     0.04, 2, 0, 2,     0.11, 2,     0.04, 2,   0.7640, 2, -999.000, 2, -999.000, 9, 4.906, 2
320620030705, SBI, 120, 1, 123, 23, 2, 20030726, 1611, 73.8779, -157.1219, 3434,     12.9,  -1.3172,  28.7619, 2, -999.0000, 9,    358.2, 2,    397.2, 2,     4.29, 2,     0.03, 2,     0.00, 2,     0.68, 2,  -999.00, 9,  -1.3174,     0.03, 2, 0, 2,     0.11, 2,     0.05, 2,   0.8140, 2, -999.000, 2, -999.000, 9, 4.907, 2
320620030705, SBI, 120, 1, 122, 22, 2, 20030726, 1610, 73.8779, -157.1219, 3434,     24.8,  -1.2039,  30.0744, 2, -999.0000, 9,    371.7, 2,    407.4, 2,     4.79, 2,     0.03, 2,     0.00, 2,     0.73, 2,  -999.00, 9,  -1.2043,     0.01, 2, 0, 2,     0.19, 2,     0.09, 2,   0.8920, 2, -999.000, 2, -999.000, 9, 4.910, 2
320620030705, SBI, 120, 1, 121, 21, 2, 20030726, 1608, 73.8779, -157.1219, 3434,     37.9,  -1.2390,  30.8487, 2, -999.0000, 9,    375.5, 2,    403.8, 2,     8.26, 2,     0.21, 2,     0.03, 2,     0.81, 2,  -999.00, 9,  -1.2397,     0.02, 2, 0.01, 2,     1.59, 2,     0.09, 2,   1.5750, 2, -999.000, 2, -999.000, 9, 4.912, 2
320620030705, SBI, 120, 1, 120, 20, 2, 20030726, 1607, 73.8779, -157.1219, 3434,     48.1,  -1.4360,  31.3981, 2, -999.0000, 9,    345.5, 2,    377.8, 2,    13.72, 2,     3.45, 2,     0.21, 2,     1.06, 2,  -999.00, 9,  -1.4368,     0.05, 2, 0.01, 2,     0.38, 2,     0.37, 2,   1.3270, 2, -999.000, 2, -999.000, 9, 4.911, 2
320620030705, SBI, 120, 1, 119, 19, 2, 20030726, 1605, 73.8779, -157.1219, 3434,     63.1,  -0.8921,  31.8101, 2, -999.0000, 9,    324.1, 2,    348.8, 2,    14.51, 2,     5.74, 2,     0.02, 2,     1.21, 2,  -999.00, 9,  -0.8935,     0.00, 2, 0.01, 2,     0.16, 2,     0.10, 2,   0.9900, 2, -999.000, 2, -999.000, 9, 4.912, 2
320620030705, SBI, 120, 1, 118, 18, 2, 20030726, 1603, 73.8779, -157.1219, 3434,     78.0,  -1.3222,  32.0701, 2, -999.0000, 9,    307.0, 2,    333.3, 2,    19.26, 2,     8.03, 2,     0.03, 2,     1.37, 2,  -999.00, 9,  -1.3237,     0.03, 2, 0.01, 2,  -999.00, 9,  -999.00, 9,   0.9120, 2, -999.000, 2, -999.000, 9, 4.911, 2
320620030705, SBI, 120, 1, 117, 17, 2, 20030726, 1601, 73.8779, -157.1219, 3434,     93.0,  -1.3008,  32.3338, 2, -999.0000, 9,    284.6, 2,    307.2, 2,    25.51, 2,    11.40, 2,     0.01, 2,     1.59, 2,  -999.00, 9,  -1.3027,     0.00, 2, 0.01, 2,  -999.00, 9,  -999.00, 9,   0.7250, 2, -999.000, 2, -999.000, 9, 4.916, 2
320620030705, SBI, 120, 1, 116, 16, 2, 20030726, 1600, 73.8779, -157.1219, 3434,    108.2,  -1.4887,  32.5509, 2, -999.0000, 9,    278.1, 2,    299.6, 2,    28.08, 2,    12.43, 2,     0.01, 2,     1.65, 2,  -999.00, 9,  -1.4908,     0.00, 2, 0.02, 2,  -999.00, 9,  -999.00, 9,   0.6940, 2, -999.000, 2, -999.000, 9, 4.913, 2
320620030705, SBI, 120, 1, 115, 15, 2, 20030726, 1558, 73.8779, -157.1219, 3434,    123.6,  -1.5084,  32.7182, 2, -999.0000, 9,    269.1, 2,    294.3, 2,    31.74, 2,    13.81, 2,     0.00, 2,     1.73, 2,  -999.00, 9,  -1.5108,     0.00, 2, 0.01, 2,  -999.00, 9,  -999.00, 9,   0.8440, 2, -999.000, 2, -999.000, 9, 4.918, 2
320620030705, SBI, 120, 1, 114, 14, 2, 20030726, 1556, 73.8779, -157.1219, 3434,    138.5,  -1.5494,  32.8736, 2, -999.0000, 9,    263.8, 2,    290.0, 2,    33.92, 2,    14.68, 2,     0.01, 2,     1.79, 2,  -999.00, 9,  -1.5521,     0.00, 2, 0.01, 2,  -999.00, 9,  -999.00, 9,   0.6290, 2, -999.000, 2, -999.000, 9, 4.916, 2
320620030705, SBI, 120, 1, 113, 13, 2, 20030726, 1555, 73.8779, -157.1219, 3434,    153.8,  -1.5553,  33.0713, 2, -999.0000, 9,    259.4, 2,    284.0, 2,    35.50, 2,    15.25, 2,     0.01, 2,     1.81, 2,  -999.00, 9,  -1.5584,     0.00, 2, 0.01, 2,  -999.00, 9,  -999.00, 9,   0.8450, 2, -999.000, 2, -999.000, 9, 4.916, 2
320620030705, SBI, 120, 1, 112, 12, 2, 20030726, 1553, 73.8779, -157.1219, 3434,    168.8,  -1.5407,  33.2208, 2, -999.0000, 9,    258.4, 2,    283.7, 2,    35.49, 2,    15.29, 2,     0.00, 2,     1.80, 2,  -999.00, 9,  -1.5442,     0.00, 2, 0.01, 2,  -999.00, 9,  -999.00, 9,   0.6710, 2, -999.000, 2, -999.000, 9, 4.915, 2
320620030705, SBI, 120, 1, 111, 11, 2, 20030726, 1552, 73.8779, -157.1219, 3434,    183.8,  -1.4586,  33.4691, 2, -999.0000, 9,    257.1, 2,    279.9, 2,    33.29, 2,    15.14, 2,     0.00, 2,     1.69, 2,  -999.00, 9,  -1.4626,     0.00, 2, 0, 2,  -999.00, 9,  -999.00, 9,   0.5860, 2, -999.000, 2, -999.000, 9, 4.918, 2
320620030705, SBI, 120, 1, 110, 10, 2, 20030726, 1550, 73.8779, -157.1219, 3434,    203.8,  -1.1851,  33.9221, 2, -999.0000, 9,    253.5, 2,    276.3, 2,    28.52, 2,    14.63, 2,     0.00, 2,     1.52, 2,  -999.00, 9,  -1.1903,     0.00, 2, 0.02, 2,  -999.00, 9,  -999.00, 9,   0.6250, 2, -999.000, 2, -999.000, 9, 4.918, 2
320620030705, SBI, 120, 1, 109, 9, 2, 20030726, 1548, 73.8779, -157.1219, 3434,    223.9,  -1.0020,  34.1857, 2,  34.2451, 2,    254.2, 2,    278.3, 2,    17.73, 2,    12.73, 2,     0.00, 2,     1.12, 2,  -999.00, 9,  -1.0082,     0.00, 2, 0.03, 2,  -999.00, 9,  -999.00, 9,   0.6560, 2, -999.000, 2, -999.000, 9, 4.907, 2
320620030705, SBI, 120, 1, 108, 8, 2, 20030726, 1546, 73.8779, -157.1219, 3434,    254.2,  -0.3607,  34.4501, 2,  34.4710, 2,    257.3, 2,    281.4, 2,    12.10, 2,    12.22, 2,     0.00, 2,     0.95, 2,  -999.00, 9,  -0.3694,     0.00, 2, 0.01, 2,  -999.00, 9,  -999.00, 9,   0.5860, 2, -999.000, 2, -999.000, 9, 4.910, 2
320620030705, SBI, 120, 1, 107, 7, 2, 20030726, 1544, 73.8779, -157.1219, 3434,    283.7,   0.0966,  34.5934, 2,  34.6002, 2,    261.4, 2,    283.0, 2,    10.42, 2,    12.32, 2,     0.00, 2,     0.91, 2,  -999.00, 9,   0.0857,     0.00, 2, 0, 2,  -999.00, 9,  -999.00, 9,   0.6570, 2, -999.000, 2, -999.000, 9, 4.908, 2
320620030705, SBI, 120, 1, 106, 6, 2, 20030726, 1542, 73.8779, -157.1219, 3434,    323.8,   0.5798,  34.7386, 2,  34.7401, 2,    266.7, 2,    289.0, 2,     8.84, 2,    12.47, 2,     0.00, 2,     0.88, 2,  -999.00, 9,   0.5658,     0.00, 2, 0, 2,  -999.00, 9,  -999.00, 9,   0.7020, 2, -999.000, 2, -999.000, 9, 4.913, 2
320620030705, SBI, 120, 1, 105, 5, 2, 20030726, 1539, 73.8779, -157.1219, 3434,    384.5,   0.8260,  34.8156, 2,  34.8138, 2,    273.0, 2,    294.2, 2,     7.55, 2,    12.47, 2,     0.00, 2,     0.86, 2,  -999.00, 9,   0.8084,     0.00, 2, 0, 2,  -999.00, 9,  -999.00, 9,   0.6140, 2, -999.000, 2, -999.000, 9, 4.915, 2
320620030705, SBI, 120, 1, 104, 4, 2, 20030726, 1536, 73.8779, -157.1219, 3434,    475.1,   0.6196,  34.8229, 2,  34.8217, 2,    271.2, 2,    294.1, 2,     7.96, 2,    12.63, 2,     0.00, 2,     0.87, 2,  -999.00, 9,   0.5982,     0.00, 2, 0, 2,  -999.00, 9,  -999.00, 9,   0.6630, 2, -999.000, 2, -999.000, 9, 4.919, 2
320620030705, SBI, 120, 1, 103, 3, 2, 20030726, 1531, 73.8779, -157.1219, 3434,    604.2,   0.4681,  34.8499, 2,  34.8496, 2,    274.2, 2,    296.8, 2,     7.65, 2,    12.63, 2,     0.00, 2,     0.87, 2,  -999.00, 9,   0.4410,     0.00, 2, 0, 2,  -999.00, 9,  -999.00, 9,   0.5930, 2, -999.000, 2, -999.000, 9, 4.915, 2
320620030705, SBI, 120, 1, 102, 2, 2, 20030726, 1526, 73.8779, -157.1219, 3434,    808.2,   0.2117,  34.8669, 2,  34.8649, 2,    274.9, 2,    298.9, 2,     7.76, 2,    12.68, 2,     0.00, 2,     0.88, 2,  -999.00, 9,   0.1756,     0.00, 2, 0, 2,  -999.00, 9,  -999.00, 9,   0.5640, 2, -999.000, 2, -999.000, 9, 4.912, 2
320620030705, SBI, 120, 1, 101, 1, 2, 20030726, 1520, 73.8779, -157.1219, 3434,   1008.6,  -0.0046,  34.8806, 2,  34.8795, 2,    275.1, 2,    300.6, 2,     7.96, 2,    12.83, 2,     0.00, 2,     0.89, 2,  -999.00, 9,  -0.0496,     0.00, 2, 0, 2,  -999.00, 9,  -999.00, 9,   0.5680, 2, -999.000, 2, -999.000, 9, 4.926, 2
320620030705, SBI, 121, 1, 124, 24, 2, 20030726, 2342, 73.9177, -157.6751, 3863,      1.6,  -1.2957,  28.3088, 2,  28.2798, 2,    353.5, 2,    386.3, 2,     3.56, 2,     0.08, 2,     0.00, 2,     0.65, 2,  -999.00, 9,  -1.2957,     0.07, 2, 0, 2,     0.08, 2,     0.03, 2,   0.5960, 2, 0.000, 2, 0.000, 2, 4.400, 2
320620030705, SBI, 121, 1, 123, 23, 2, 20030726, 2341, 73.9177, -157.6751, 3863,     19.1,  -1.1096,  29.8968, 2, -999.0000, 9,    371.3, 2,    407.1, 2,     4.05, 2,     0.07, 2,     0.00, 2,     0.71, 2,  -999.00, 9,  -1.1099,     0.05, 2, 0, 2,     0.13, 2,     0.05, 2,   0.7860, 2, 0.000, 2, 0.000, 2, 4.319, 2
320620030705, SBI, 121, 1, 122, 22, 2, 20030726, 2340, 73.9177, -157.6751, 3863,     33.2,  -1.4134,  31.1157, 2, -999.0000, 9,    360.8, 2,    387.5, 2,     9.12, 2,     1.86, 2,     0.17, 2,     0.92, 2,  -999.00, 9,  -1.4139,     0.05, 2, 0.03, 2,     0.44, 2,     0.37, 2,   1.2810, 2, 0.000, 2, 0.000, 2, 4.423, 2
320620030705, SBI, 121, 1, 121, 21, 2, 20030726, 2338, 73.9177, -157.6751, 3863,     49.2,  -1.5606,  31.7208, 2, -999.0000, 9,    318.8, 2,    350.9, 2,    21.16, 2,     6.36, 2,     0.22, 2,     1.28, 2,  -999.00, 9,  -1.5614,     0.03, 2, 0.03, 2,     0.18, 2,     0.17, 2,   1.1260, 2, 0.000, 2, 0.000, 2, 4.482, 2
320620030705, SBI, 121, 1, 120, 20, 2, 20030726, 2337, 73.9177, -157.6751, 3863,     64.2,  -1.5367,  31.8858, 2, -999.0000, 9,    313.7, 2,    337.7, 2,    21.36, 2,     8.05, 2,     0.06, 2,     1.37, 2,  -999.00, 9,  -1.5378,     0.02, 2, 0.03, 2,     0.06, 2,     0.05, 2,   0.8380, 2, 0.000, 2, 0.000, 2, 4.500, 2
320620030705, SBI, 121, 1, 119, 19, 2, 20030726, 2335, 73.9177, -157.6751, 3863,     79.4,  -1.4358,  32.2013, 2, -999.0000, 9,    300.0, 2,    321.9, 2,    21.85, 2,     9.66, 2,     0.02, 2,     1.46, 2,  -999.00, 9,  -1.4373,     0.02, 2, 0, 2,  -999.00, 9,  -999.00, 9,   0.8370, 2, 0.000, 2, 0.000, 2, 4.518, 2
320620030705, SBI, 121, 1, 118, 18, 2, 20030726, 2334, 73.9177, -157.6751, 3863,     94.1,  -1.3976,  32.4043, 2, -999.0000, 9,    279.3, 2,    300.8, 2,    26.53, 2,    12.29, 2,     0.01, 2,     1.64, 2,  -999.00, 9,  -1.3994,     0.01, 2, 0, 2,  -999.00, 9,  -999.00, 9,   0.7270, 2, 0.000, 2, 0.000, 2, 4.523, 2
320620030705, SBI, 121, 1, 117, 17, 2, 20030726, 2333, 73.9177, -157.6751, 3863,    109.3,  -1.4330,  32.6108, 2, -999.0000, 9,    268.9, 2,    293.3, 2,    30.21, 2,    13.65, 2,     0.00, 2,     1.72, 2,  -999.00, 9,  -1.4352,     0.02, 2, 0.02, 2,  -999.00, 9,  -999.00, 9,   0.6820, 2, 0.000, 2, 0.000, 2, 4.537, 2
320620030705, SBI, 121, 1, 116, 16, 2, 20030726, 2332, 73.9177, -157.6751, 3863,    124.4,  -1.4897,  32.7586, 2, -999.0000, 9,    263.6, 2,    289.4, 2,    32.91, 2,    14.53, 2,     0.01, 2,     1.77, 2,  -999.00, 9,  -1.4922,     0.02, 2, 0, 2,  -999.00, 9,  -999.00, 9,   0.8690, 2, 0.000, 2, 0.000, 2, 4.567, 2
320620030705, SBI, 121, 1, 115, 15, 2, 20030726, 2331, 73.9177, -157.6751, 3863,    139.3,  -1.5631,  32.9170, 2, -999.0000, 9,    263.2, 2,    287.8, 2,    34.60, 2,    15.09, 2,     0.01, 2,     1.80, 2,  -999.00, 9,  -1.5658,     0.02, 2, 0, 2,  -999.00, 9,  -999.00, 9,   0.6160, 2, 0.000, 2, 0.000, 2, 4.633, 2
320620030705, SBI, 121, 1, 114, 14, 2, 20030726, 2330, 73.9177, -157.6751, 3863,    154.4,  -1.5565,  33.0897, 2, -999.0000, 9,    260.6, 2,    288.2, 2,    34.80, 2,    14.99, 2,     0.01, 2,     1.78, 2,  -999.00, 9,  -1.5596,     0.01, 2, 0, 2,  -999.00, 9,  -999.00, 9,   0.7220, 2, 0.000, 2, 0.000, 2, 4.664, 2
320620030705, SBI, 121, 1, 113, 13, 2, 20030726, 2328, 73.9177, -157.6751, 3863,    169.5,  -1.5307,  33.2857, 2, -999.0000, 9,    260.8, 2,    285.2, 2,    35.79, 2,    15.35, 2,     0.01, 2,     1.78, 2,  -999.00, 9,  -1.5342,     0.01, 2, 0.02, 2,  -999.00, 9,  -999.00, 9,   0.8910, 2, 0.000, 2, 0.000, 2, 4.629, 2
320620030705, SBI, 121, 1, 112, 12, 2, 20030726, 2327, 73.9177, -157.6751, 3863,    184.6,  -1.4678,  33.4564, 2, -999.0000, 9,    257.1, 2,    280.8, 2,    34.49, 2,    15.41, 2,     0.01, 2,     1.73, 2,  -999.00, 9,  -1.4718,     0.01, 2, 0.01, 2,  -999.00, 9,  -999.00, 9,   0.7020, 2, 0.000, 2, 0.000, 2, 4.599, 2
320620030705, SBI, 121, 1, 111, 11, 2, 20030726, 2326, 73.9177, -157.6751, 3863,    199.1,  -1.2966,  33.8162, 2,  33.7961, 2,    256.2, 2,    280.2, 2,    29.79, 2,    14.52, 2,     0.01, 2,     1.56, 2,  -999.00, 9,  -1.3014,     0.01, 2, 0.02, 2,  -999.00, 9,  -999.00, 9,   0.5610, 2, 0.000, 2, 0.000, 2, 4.572, 2
320620030705, SBI, 121, 1, 110, 10, 2, 20030726, 2325, 73.9177, -157.6751, 3863,    214.6,  -1.2902,  33.9553, 2,  34.0540, 2,    258.6, 2,    277.1, 2,    23.70, 2,    13.82, 2,     0.00, 2,     1.33, 2,  -999.00, 9,  -1.2956,     0.01, 2, 0.02, 2,  -999.00, 9,  -999.00, 9,   0.6290, 2, 0.000, 2, 0.000, 2, 4.534, 2
320620030705, SBI, 121, 1, 109, 9, 2, 20030726, 2324, 73.9177, -157.6751, 3863,    229.7,  -0.8324,  34.2715, 2,  34.2550, 2,    254.3, 2,    276.6, 2,    16.84, 2,    12.76, 2,     0.01, 2,     1.10, 2,  -999.00, 9,  -0.8392,     0.01, 2, 0.01, 2,  -999.00, 9,  -999.00, 9,   0.6230, 2, 0.000, 2, 0.000, 2, 4.504, 2
320620030705, SBI, 121, 1, 108, 8, 2, 20030726, 2323, 73.9177, -157.6751, 3863,    244.9,  -0.6286,  34.3616, 2,  34.4165, 2,    257.2, 2,    281.0, 2,    12.66, 2,    12.23, 2,     0.00, 2,     0.97, 2,  -999.00, 9,  -0.6363,     0.00, 2, 0.01, 2,  -999.00, 9,  -999.00, 9,   0.6570, 2, 0.000, 2, 0.000, 2, 4.479, 2
320620030705, SBI, 121, 1, 107, 7, 2, 20030726, 2322, 73.9177, -157.6751, 3863,    270.1,  -0.1052,  34.5263, 2,  34.5468, 2,    260.1, 2,    281.8, 2,    10.87, 2,    12.34, 2,     0.01, 2,     0.92, 2,  -999.00, 9,  -0.1151,     0.01, 2, 0.01, 2,  -999.00, 9,  -999.00, 9,   0.5500, 2, 0.000, 2, 0.000, 2, 4.484, 2
320620030705, SBI, 121, 1, 106, 6, 2, 20030726, 2321, 73.9177, -157.6751, 3863,    285.0,   0.1558,  34.6085, 2,  34.6183, 2,    261.6, 2,    283.6, 2,    10.07, 2,    12.43, 2,     0.00, 2,     0.90, 2,  -999.00, 9,   0.1447,     0.02, 2, 0.17, 2,  -999.00, 9,  -999.00, 9,   0.5560, 2, 0.000, 2, 0.000, 2, 4.502, 2
320620030705, SBI, 121, 1, 105, 5, 2, 20030726, 2319, 73.9177, -157.6751, 3863,    305.1,   0.3393,  34.6699, 2,  34.7067, 2,    263.0, 2,    285.3, 2,     9.18, 2,    12.70, 2,     0.00, 2,     0.90, 2,  -999.00, 9,   0.3268,     0.01, 2, 0.01, 2,  -999.00, 9,  -999.00, 9,   0.5450, 2, 0.000, 2, 0.000, 2, 4.514, 2
320620030705, SBI, 121, 1, 104, 4, 2, 20030726, 2317, 73.9177, -157.6751, 3863,    405.6,   0.7845,  34.8131, 2,  34.8135, 2,    272.5, 2,    294.4, 2,     7.38, 2,    12.64, 2,     0.02, 2,     0.86, 2,  -999.00, 9,   0.7660,     0.00, 2, 0.01, 2,  -999.00, 9,  -999.00, 9,   0.5560, 2, 0.000, 2, 0.000, 2, 4.492, 2
320620030705, SBI, 121, 1, 103, 3, 2, 20030726, 2313, 73.9177, -157.6751, 3863,    556.3,   0.5702,  34.8450, 2,  34.8441, 2,    274.4, 2,    296.6, 2,     7.18, 2,    12.75, 2,     0.00, 2,     0.87, 2,  -999.00, 9,   0.5450,     0.00, 2, 0, 2,  -999.00, 9,  -999.00, 9,   0.6180, 2, 0.000, 2, 0.000, 2, 4.496, 2
320620030705, SBI, 121, 1, 102, 2, 2, 20030726, 2308, 73.9177, -157.6751, 3863,    758.4,   0.2975,  34.8603, 2,  34.8585, 2,    276.5, 2,    300.3, 2,     7.08, 2,    12.70, 2,     0.00, 2,     0.87, 2,  -999.00, 9,   0.2635,     0.00, 2, 0, 2,  -999.00, 9,  -999.00, 9,   0.5460, 2, 0.000, 2, 0.000, 2, 4.582, 2
320620030705, SBI, 121, 1, 101, 1, 2, 20030726, 2301, 73.9177, -157.6751, 3863,   1009.5,   0.0267,  34.8754, 2,  34.8719, 2,    276.0, 2,   -999.0, 9,     7.48, 2,    12.86, 2,     0.00, 2,     0.89, 2,  -999.00, 9,  -0.0186,     0.00, 2, 0.01, 2,  -999.00, 9,  -999.00, 9,   0.8010, 2, 0.000, 2, 0.000, 2, 4.563, 2