BOTTLE,20100423CCHDOSIODBK
EXPOCODE,SECT_ID,STNNBR,CASTNO,SAMPNO,BTLNBR,BTLNBR_FLAG_W,DATE,TIME,LATITUDE,LONGITUDE,DEPTH,CTDPRS,CTDTMP,CTDSAL,CTDSAL_FLAG_W,SALNTY,SALNTY_FLAG_W,CTDOXY,CTDOXY_FLAG_W,OXYGEN,OXYGEN_FLAG_W,SILCAT,SILCAT_FLAG_W,NITRAT,NITRAT_FLAG_W,NITRIT,NITRIT_FLAG_W,PHSPHT,PHSPHT_FLAG_W,DOC,DOC_FLAG_W,THETA,NH4,NH4_FLAG_W,UREA,UREA_FLAG_W,CHLORA,CHLORA_FLAG_W,PPHYTN,PPHYTN_FLAG_W,FLUOR,FLUOR_FLAG_W,HAARDT,HAARDT_FLAG_W,PAR,PAR_FLAG_W,SPAR,SPAR_FLAG_W
,,,,,,,,,,,METERS,DBAR,ITS-90,PSS-78,,PSS-78,,UMOL/KG,,UMOL/KG,,UMOL/KG,,UMOL/KG,,UMOL/KG,,UMOL/KG,,UMOL/KG,,DEG C,UMOL/KG,,UMOL/KG,,UG/KG,,UG/KG,,MG/M^3,,VOLTS,,VOLTS,,VOLTS,
320620030705, SBI, 31, 1, 124, 24, 2, 20030714, 1929, 72.2850, -153.8643, 2312,      2.3,   1.6261,  30.2133, 2,  30.0066, 2,    355.8, 2,    373.4, 2,    20.68, 2,     0.14, 2,     0.00, 2,     0.88, 2,  -999.00, 9,   1.6260,     0.30, 2, 0.01, 2,     0.28, 2,     0.05, 2,   0.8250, 2, 0.000, 2, 0.000, 2, 4.524, 2
320620030705, SBI, 31, 1, 123, 23, 2, 20030714, 1927, 72.2850, -153.8643, 2312,     16.6,   1.0937,  31.0689, 2, -999.0000, 9,    356.9, 2,    383.2, 2,    17.52, 2,     0.64, 2,     0.03, 2,     1.02, 2,  -999.00, 9,   1.0931,     0.68, 2, 0.08, 2,     0.74, 2,     0.21, 2,   1.1920, 2, 0.000, 2, 0.000, 2, 4.515, 2
320620030705, SBI, 31, 1, 122, 22, 2, 20030714, 1925, 72.2850, -153.8643, 2312,     30.7,  -0.5569,  31.6916, 2, -999.0000, 9,    331.7, 2,    359.7, 2,    21.38, 2,     3.40, 2,     0.11, 2,     1.30, 2,  -999.00, 9,  -0.5577,     1.64, 2, 0.13, 2,     1.77, 2,     0.30, 2,   1.5910, 2, 0.000, 2, 0.000, 2, 4.508, 2
320620030705, SBI, 31, 1, 121, 21, 2, 20030714, 1923, 72.2850, -153.8643, 2312,     48.7,  -0.8985,  32.0306, 2,  32.0363, 2,    358.9, 2,    386.2, 2,    13.03, 2,     2.63, 2,     0.08, 2,     1.12, 2,  -999.00, 9,  -0.8996,     1.26, 2, 0.09, 2,     0.48, 2,     0.29, 2,   1.1260, 2, 0.000, 2, 0.000, 2, 4.512, 2
320620030705, SBI, 31, 1, 120, 20, 2, 20030714, 1920, 72.2850, -153.8643, 2312,     68.9,  -1.2439,  32.1747, 2, -999.0000, 9,    330.7, 2,    359.1, 2,    19.92, 2,     5.08, 2,     0.14, 2,     1.36, 2,  -999.00, 9,  -1.2453,     1.86, 2, 0.12, 2,  -999.00, 9,  -999.00, 9,   1.1330, 2, 0.000, 2, 0.000, 2, 4.519, 2
320620030705, SBI, 31, 1, 119, 19, 2, 20030714, 1919, 72.2850, -153.8643, 2312,     83.8,  -1.3402,  32.2152, 2, -999.0000, 9,    324.7, 2,    352.6, 2,    21.38, 2,     5.68, 2,     0.15, 2,     1.42, 2,  -999.00, 9,  -1.3418,     2.03, 2, 0.13, 2,     0.49, 2,     0.36, 2,   1.1470, 2, 0.000, 2, 0.000, 2, 4.493, 2
320620030705, SBI, 31, 1, 118, 18, 2, 20030714, 1917, 72.2850, -153.8643, 2312,     98.9,  -1.4077,  32.2669, 2, -999.0000, 9,    315.8, 2,    342.2, 2,    23.58, 2,     6.59, 2,     0.17, 2,     1.50, 2,  -999.00, 9,  -1.4096,     2.19, 2, 0.13, 2,  -999.00, 9,  -999.00, 9,   1.1290, 2, 0.000, 2, 0.000, 2, 4.489, 2
320620030705, SBI, 31, 1, 117, 17, 2, 20030714, 1915, 72.2850, -153.8643, 2312,    114.0,  -1.3827,  32.3237, 2, -999.0000, 9,    310.1, 2,    336.4, 2,    24.62, 2,     6.90, 2,     0.16, 2,     1.53, 2,  -999.00, 9,  -1.3850,     2.28, 2, 0.14, 2,     0.49, 2,     0.35, 2,   1.2000, 2, 0.000, 2, 0.000, 2, 4.488, 2
320620030705, SBI, 31, 1, 116, 16, 2, 20030714, 1913, 72.2850, -153.8643, 2312,    128.9,  -1.5622,  32.4732, 2,  32.4791, 2,    285.3, 2,    311.3, 2,    29.14, 2,     9.46, 2,     0.17, 2,     1.72, 2,  -999.00, 9,  -1.5646,     2.45, 2, 0.14, 2,  -999.00, 9,  -999.00, 9,   1.0430, 2, 0.000, 2, 0.000, 2, 4.425, 2
320620030705, SBI, 31, 1, 115, 15, 2, 20030714, 1911, 72.2850, -153.8643, 2312,    143.9,  -1.5304,  32.8710, 2, -999.0000, 9,    278.0, 2,    300.9, 2,    28.61, 2,    12.55, 2,     0.06, 2,     1.64, 2,  -999.00, 9,  -1.5333,     0.14, 2, 0.02, 2,  -999.00, 9,  -999.00, 9,   0.9630, 2, 0.000, 2, 0.000, 2, 4.358, 2
320620030705, SBI, 31, 1, 114, 14, 2, 20030714, 1908, 72.2850, -153.8643, 2312,    159.1,  -1.3237,  33.7233, 2, -999.0000, 9,    268.2, 2,    293.1, 2,    28.07, 2,    13.62, 2,     0.04, 2,     1.57, 2,  -999.00, 9,  -1.3274,     0.02, 2, 0.01, 2,  -999.00, 9,  -999.00, 9,   0.8130, 2, 0.000, 2, 0.000, 2, 4.199, 2
320620030705, SBI, 31, 1, 113, 13, 2, 20030714, 1906, 72.2850, -153.8643, 2312,    174.0,  -0.9464,  34.1849, 2, -999.0000, 9,    270.1, 2,    291.9, 2,    22.20, 2,    13.21, 2,     0.04, 2,     1.37, 2,  -999.00, 9,  -0.9512,     0.01, 2, 0.01, 2,  -999.00, 9,  -999.00, 9,   0.8920, 2, 0.000, 2, 0.000, 2, 4.267, 2
320620030705, SBI, 31, 1, 112, 12, 2, 20030714, 1904, 72.2850, -153.8643, 2312,    189.2,  -0.2228,  34.5242, 2, -999.0000, 9,    268.7, 2,    289.5, 2,    15.17, 2,    12.93, 2,     0.05, 2,     1.15, 2,  -999.00, 9,  -0.2294,     0.01, 2, 0.01, 2,  -999.00, 9,  -999.00, 9,   0.7420, 2, 0.000, 2, 0.000, 2, 4.337, 2
320620030705, SBI, 31, 1, 111, 11, 2, 20030714, 1902, 72.2850, -153.8643, 2312,    204.3,  -0.0180,  34.6454, 2, -999.0000, 9,    265.9, 2,    286.1, 2,    12.76, 2,    12.98, 2,     0.01, 2,     1.06, 2,  -999.00, 9,  -0.0255,     0.01, 2, 0.01, 2,  -999.00, 9,  -999.00, 9,   0.6610, 2, 0.000, 2, 0.000, 2, 4.368, 2
320620030705, SBI, 31, 1, 110, 10, 2, 20030714, 1900, 72.2850, -153.8643, 2312,    224.4,   0.2365,  34.7089, 2, -999.0000, 9,    267.3, 2,    287.0, 2,    10.97, 2,    12.83, 2,     0.00, 2,     1.01, 2,  -999.00, 9,   0.2277,     0.00, 2, 0, 2,  -999.00, 9,  -999.00, 9,   0.6410, 2, 0.000, 2, 0.000, 2, 4.410, 2
320620030705, SBI, 31, 1, 109, 9, 2, 20030714, 1857, 72.2850, -153.8643, 2312,    244.5,   0.4273,  34.7516, 2,  34.7555, 2,    269.2, 2,    288.7, 2,     9.28, 2,    12.83, 2,     0.00, 2,     0.96, 2,  -999.00, 9,   0.4172,     0.00, 2, 0.01, 2,  -999.00, 9,  -999.00, 9,   0.6090, 2, 0.000, 2, 0.000, 2, 4.394, 2
320620030705, SBI, 31, 1, 108, 8, 2, 20030714, 1854, 72.2850, -153.8643, 2312,    304.8,   0.5984,  34.8027, 2,  34.8071, 2,    272.6, 2,    292.1, 2,     7.60, 2,    12.72, 2,     0.00, 2,     0.90, 2,  -999.00, 9,   0.5852,     0.00, 2, 0.01, 2,  -999.00, 9,  -999.00, 9,   0.5170, 2, 0.000, 2, 0.000, 2, 4.398, 2
320620030705, SBI, 31, 1, 107, 7, 2, 20030714, 1848, 72.2850, -153.8643, 2312,    454.4,   0.4815,  34.8382, 2,  34.8396, 2,    274.2, 2,    295.9, 2,     7.39, 2,    12.77, 2,     0.01, 2,     0.91, 2,  -999.00, 9,   0.4617,     0.00, 2, 0.01, 2,  -999.00, 9,  -999.00, 9,   0.8510, 2, 0.000, 2, 0.000, 2, 4.502, 2
320620030705, SBI, 31, 1, 106, 6, 2, 20030714, 1843, 72.2850, -153.8643, 2312,    649.1,   0.2897,  34.8613, 2,  34.8630, 2,    276.1, 2,    298.2, 2,     6.75, 2,    12.78, 2,     0.00, 2,     0.89, 2,  -999.00, 9,   0.2612,     0.00, 2, 0, 2,  -999.00, 9,  -999.00, 9,   0.6760, 2, 0.000, 2, 0.000, 2, 4.485, 2
320620030705, SBI, 31, 1, 105, 5, 2, 20030714, 1833, 72.2850, -153.8643, 2312,   1056.3,  -0.1188,  34.8885, 2,  34.8893, 2,    275.7, 2,    300.2, 2,     7.27, 2,    12.98, 2,     0.00, 2,     0.91, 2,  -999.00, 9,  -0.1654,     0.00, 2, 0.01, 2,  -999.00, 9,  -999.00, 9,   0.5030, 2, 0.000, 2, 0.000, 2, 4.324, 2
320620030705, SBI, 31, 1, 104, 4, 2, 20030714, 1823, 72.2850, -153.8643, 2312,   1462.1,  -0.3261,  34.9156, 2,  34.9151, 2,    272.2, 2,    298.1, 2,     8.74, 2,    13.58, 2,     0.00, 2,     0.96, 2,  -999.00, 9,  -0.3935,     0.00, 2, 0.01, 2,  -999.00, 9,  -999.00, 9,   0.4810, 2, 0.000, 2, 0.000, 2, 4.069, 2
320620030705, SBI, 31, 1, 103, 3, 2, 20030714, 1812, 72.2850, -153.8643, 2312,   1863.3,  -0.4080,  34.9387, 2,  34.9383, 2,    265.9, 2,    291.9, 2,    10.94, 2,    14.29, 2,     0.00, 2,     1.01, 2,  -999.00, 9,  -0.4992,     0.00, 2, 0, 2,  -999.00, 9,  -999.00, 9,   0.7540, 2, 0.000, 2, 0.000, 2, 4.306, 2
320620030705, SBI, 31, 1, 102, 2, 2, 20030714, 1802, 72.2850, -153.8643, 2312,   2241.6,  -0.3937,  34.9504, 2,  34.9475, 2,    260.5, 2,    286.0, 2,    13.36, 2,    14.69, 2,     0.00, 2,     1.04, 2,  -999.00, 9,  -0.5110,     0.00, 2, 0, 2,  -999.00, 9,  -999.00, 9,   0.7380, 2, 0.000, 2, 0.000, 2, 4.512, 2
320620030705, SBI, 31, 1, 101, 1, 2, 20030714, 1757, 72.2850, -153.8643, 2312,   2341.8,  -0.3851,  34.9553, 2,  34.9532, 2,    257.2, 2,    282.1, 2,    15.04, 2,    14.89, 2,     0.00, 2,     1.06, 2,  -999.00, 9,  -0.5098,     0.01, 2, 0.01, 2,  -999.00, 9,  -999.00, 9,   0.5670, 2, 0.000, 2, 0.000, 2, 4.517, 2
320620030705, SBI, 32, 2, 224, 24, 2, 20030715, 25, 72.3931, -153.7758, 2762,      1.8,  -0.2289,  29.6188, 2,  29.6478, 2,    361.9, 2,    391.7, 2,     6.88, 2,     0.18, 2,     0.00, 2,     0.78, 2,  -999.00, 9,  -0.2289,     0.13, 2, 0, 2,  -999.00, 9,  -999.00, 9,   0.7150, 2, -999.000, 2, -999.000, 9, 4.012, 2
320620030705, SBI, 32, 2, 223, 23, 2, 20030715, 24, 72.3931, -153.7758, 2762,     16.1,   0.7246,  31.3010, 2, -999.0000, 9,    375.6, 2,    387.8, 2,    19.81, 2,     2.24, 2,     0.06, 2,     1.17, 2,  -999.00, 9,   0.7240,     1.01, 2, 0.09, 2,  -999.00, 9,  -999.00, 9,   1.1590, 2, -999.000, 2, -999.000, 9, 4.170, 2
320620030705, SBI, 32, 2, 222, 22, 2, 20030715, 22, 72.3931, -153.7758, 2762,     30.9,  -0.6285,  31.9270, 2, -999.0000, 9,    342.0, 2,    378.1, 2,    15.99, 2,     2.92, 2,     0.09, 2,     1.17, 2,  -999.00, 9,  -0.6293,     1.55, 2, 0.11, 2,  -999.00, 9,  -999.00, 9,   1.2150, 2, -999.000, 2, -999.000, 9, 4.245, 2
320620030705, SBI, 32, 2, 221, 21, 2, 20030715, 20, 72.3931, -153.7758, 2762,     51.0,  -0.8461,  32.0732, 2,  32.1036, 2,    341.0, 2,    368.3, 2,    17.53, 2,     3.81, 2,     0.12, 2,     1.22, 2,  -999.00, 9,  -0.8473,     1.72, 2, 0.15, 2,  -999.00, 9,  -999.00, 9,   1.0020, 2, -999.000, 2, -999.000, 9, 4.298, 2
320620030705, SBI, 32, 2, 220, 20, 2, 20030715, 18, 72.3931, -153.7758, 2762,     71.1,  -0.7140,  32.2019, 2, -999.0000, 9,    331.0, 2,    349.9, 2,    21.13, 2,     5.28, 2,     0.15, 2,     1.37, 2,  -999.00, 9,  -0.7158,     2.11, 2, 0.13, 2,  -999.00, 9,  -999.00, 9,   1.0610, 2, -999.000, 2, -999.000, 9, 4.184, 2
320620030705, SBI, 32, 2, 219, 19, 2, 20030715, 17, 72.3931, -153.7758, 2762,     91.2,  -1.4486,  32.3255, 2, -999.0000, 9,    311.5, 2,    338.8, 2,    26.38, 2,     7.12, 2,     0.18, 2,     1.54, 2,  -999.00, 9,  -1.4503,     2.51, 2, 0.14, 2,  -999.00, 9,  -999.00, 9,   1.0680, 2, -999.000, 2, -999.000, 9, 4.184, 2
320620030705, SBI, 32, 2, 218, 18, 2, 20030715, 16, 72.3931, -153.7758, 2762,    106.3,  -1.4732,  32.3373, 2, -999.0000, 9,    308.3, 2,    336.3, 2,    26.90, 2,     7.37, 2,     0.18, 2,     1.56, 2,  -999.00, 9,  -1.4752,     2.55, 2, 0.14, 2,  -999.00, 9,  -999.00, 9,   1.1140, 2, -999.000, 2, -999.000, 9, 4.164, 2
320620030705, SBI, 32, 2, 217, 17, 2, 20030715, 14, 72.3931, -153.7758, 2762,    121.3,  -1.4963,  32.3994, 2, -999.0000, 9,    290.5, 2,    318.2, 2,    27.31, 2,     8.84, 2,     0.15, 2,     1.64, 2,  -999.00, 9,  -1.4986,     2.26, 2, 0.12, 2,  -999.00, 9,  -999.00, 9,   1.0380, 2, -999.000, 2, -999.000, 9, 4.063, 2
320620030705, SBI, 32, 2, 216, 16, 2, 20030715, 13, 72.3931, -153.7758, 2762,    136.3,  -1.5018,  32.4403, 2, -999.0000, 9,    291.4, 2,    319.0, 2,    26.69, 2,     8.64, 2,     0.14, 2,     1.61, 2,  -999.00, 9,  -1.5044,     2.09, 2, 0.11, 2,  -999.00, 9,  -999.00, 9,   0.9960, 2, -999.000, 2, -999.000, 9, 4.129, 2
320620030705, SBI, 32, 2, 215, 15, 2, 20030715, 11, 72.3931, -153.7758, 2762,    151.3,  -1.5704,  32.6833, 2, -999.0000, 9,    282.4, 2,    306.6, 2,    26.99, 2,    11.67, 2,     0.04, 2,     1.62, 2,  -999.00, 9,  -1.5733,     0.19, 2, 0.01, 2,  -999.00, 9,  -999.00, 9,   0.8850, 2, -999.000, 2, -999.000, 9, 4.162, 2
320620030705, SBI, 32, 2, 214, 14, 2, 20030715, 9, 72.3931, -153.7758, 2762,    166.5,  -1.5213,  32.9959, 2, -999.0000, 9,    272.6, 2,    291.7, 2,    30.91, 2,    13.93, 2,     0.03, 2,     1.71, 2,  -999.00, 9,  -1.5247,     0.12, 2, 0.01, 2,  -999.00, 9,  -999.00, 9,   0.7240, 2, -999.000, 2, -999.000, 9, 4.159, 2
320620030705, SBI, 32, 2, 213, 13, 2, 20030715, 8, 72.3931, -153.7758, 2762,    181.4,  -1.4839,  33.3574, 2, -999.0000, 9,    267.1, 2,    288.4, 2,    30.39, 2,    14.30, 2,     0.01, 2,     1.67, 2,  -999.00, 9,  -1.4878,     0.05, 2, 0.02, 2,  -999.00, 9,  -999.00, 9,   0.7030, 2, -999.000, 2, -999.000, 9, 4.162, 2
320620030705, SBI, 32, 2, 212, 12, 2, 20030715, 6, 72.3931, -153.7758, 2762,    196.4,  -1.2559,  33.8106, 2, -999.0000, 9,    266.0, 2,    291.2, 2,    27.17, 2,    13.77, 2,     0.01, 2,     1.55, 2,  -999.00, 9,  -1.2607,     0.02, 2, 0.02, 2,  -999.00, 9,  -999.00, 9,   0.6950, 2, -999.000, 2, -999.000, 9, 4.293, 2
320620030705, SBI, 32, 2, 211, 11, 2, 20030715, 5, 72.3931, -153.7758, 2762,    211.5,  -1.2277,  34.0699, 2,  34.2536, 0,    273.5, 2,    289.5, 2,    21.90, 2,    13.40, 2,     0.01, 2,     1.37, 2,  -999.00, 9,  -1.2331,     0.01, 2, 0.05, 2,  -999.00, 9,  -999.00, 9,   0.6480, 2, -999.000, 2, -999.000, 9, 4.269, 2
320620030705, SBI, 32, 2, 210, 10, 2, 20030715, 3, 72.3931, -153.7758, 2762,    231.9,  -0.4756,  34.4763, 2, -999.0000, 9,    265.7, 2,    282.8, 2,    15.69, 2,    13.15, 2,     0.00, 2,     1.15, 2,  -999.00, 9,  -0.4832,     0.00, 2, 0.01, 2,  -999.00, 9,  -999.00, 9,   0.6730, 2, -999.000, 2, -999.000, 9, 4.032, 2
320620030705, SBI, 32, 2, 209, 9, 2, 20030715, 1, 72.3931, -153.7758, 2762,    256.6,   0.0515,  34.6392, 2,  34.6395, 2,    261.9, 2,    283.4, 2,    12.07, 2,    12.73, 2,     0.00, 2,     1.03, 2,  -999.00, 9,   0.0418,     0.01, 2, 0.01, 2,  -999.00, 9,  -999.00, 9,   0.5400, 2, -999.000, 2, -999.000, 9, 3.932, 2
320620030705, SBI, 32, 2, 208, 8, 2, 20030715, 2359, 72.3931, -153.7758, 2762,    306.9,   0.4599,  34.7591, 2,  34.7603, 2,    269.0, 2,    291.6, 2,     8.86, 2,    12.73, 2,     0.00, 2,     0.95, 2,  -999.00, 9,   0.4470,     0.00, 2, 0.01, 2,  -999.00, 9,  -999.00, 9,   0.8460, 2, -999.000, 2, -999.000, 9, 3.999, 2
320620030705, SBI, 32, 2, 207, 7, 2, 20030715, 2354, 72.3931, -153.7758, 2762,    507.9,   0.5081,  34.8455, 2,  34.8462, 2,    273.9, 2,    296.1, 2,     6.68, 2,    12.72, 2,     0.00, 2,     0.89, 2,  -999.00, 9,   0.4856,     0.00, 2, 0.01, 2,  -999.00, 9,  -999.00, 9,   0.7140, 2, -999.000, 2, -999.000, 9, 4.146, 2
320620030705, SBI, 32, 2, 206, 6, 2, 20030715, 2346, 72.3931, -153.7758, 2762,    808.7,   0.1391,  34.8697, 2,  34.8708, 2,    275.0, 2,    299.3, 2,     6.67, 2,    12.72, 2,     0.00, 2,     0.90, 2,  -999.00, 9,   0.1035,     0.00, 2, 0.01, 2,  -999.00, 9,  -999.00, 9,   0.5260, 2, -999.000, 2, -999.000, 9, 4.049, 2
320620030705, SBI, 32, 2, 205, 5, 2, 20030715, 2337, 72.3931, -153.7758, 2762,   1208.3,  -0.1478,  34.8924, 2,  34.8917, 2,    273.6, 2,    300.5, 2,     7.18, 2,    13.03, 2,     0.00, 2,     0.93, 2,  -999.00, 9,  -0.2025,     0.00, 2, 0, 2,  -999.00, 9,  -999.00, 9,   0.5900, 2, -999.000, 2, -999.000, 9, 3.841, 2
320620030705, SBI, 32, 2, 204, 4, 2, 20030715, 2327, 72.3931, -153.7758, 2762,   1605.8,  -0.3465,  34.9202, 2,  34.9196, 2,    269.8, 2,    297.4, 2,     8.73, 2,    13.71, 2,     0.00, 2,     0.97, 2,  -999.00, 9,  -0.4223,     0.00, 2, 0, 2,  -999.00, 9,  -999.00, 9,   0.4380, 2, -999.000, 2, -999.000, 9, 4.338, 2
320620030705, SBI, 32, 2, 203, 3, 2, 20030715, 2316, 72.3931, -153.7758, 2762,   2103.6,  -0.4007,  34.9446, 2,  34.9443, 2,    261.4, 2,    289.3, 2,    11.61, 2,    14.43, 2,     0.00, 2,     1.03, 2,  -999.00, 9,  -0.5082,     0.00, 2, 0, 2,  -999.00, 9,  -999.00, 9,   0.4460, 2, -999.000, 2, -999.000, 9, 4.298, 2
320620030705, SBI, 32, 2, 202, 2, 2, 20030715, 2301, 72.3931, -153.7758, 2762,   2692.9,  -0.3609,  34.9552, 2,  34.9536, 2,    257.5, 2,    284.4, 2,    13.06, 2,    14.75, 2,     0.00, 2,     1.05, 2,  -999.00, 9,  -0.5127,     0.00, 2, 0, 2,  -999.00, 9,  -999.00, 9,   0.8230, 2, -999.000, 2, -999.000, 9, 4.538, 2
320620030705, SBI, 32, 2, 201, 1, 2, 20030715, 2257, 72.3931, -153.7758, 2762,   2794.0,  -0.3496,  34.9566, 2,  34.9555, 2,    255.8, 2,    282.0, 2,    14.39, 2,    14.84, 2,     0.00, 2,     1.06, 2,  -999.00, 9,  -0.5097,     0.00, 2, 0, 2,  -999.00, 9,  -999.00, 9,   0.5920, 2, -999.000, 2, -999.000, 9, 4.495, 2