BOTTLE,20100423CCHDOSIODBK
EXPOCODE,SECT_ID,STNNBR,CASTNO,SAMPNO,BTLNBR,BTLNBR_FLAG_W,DATE,TIME,LATITUDE,LONGITUDE,DEPTH,CTDPRS,CTDTMP,CTDSAL,CTDSAL_FLAG_W,SALNTY,SALNTY_FLAG_W,CTDOXY,CTDOXY_FLAG_W,OXYGEN,OXYGEN_FLAG_W,SILCAT,SILCAT_FLAG_W,NITRAT,NITRAT_FLAG_W,NITRIT,NITRIT_FLAG_W,PHSPHT,PHSPHT_FLAG_W,DOC,DOC_FLAG_W,THETA,NH4,NH4_FLAG_W,UREA,UREA_FLAG_W,CHLORA,CHLORA_FLAG_W,PPHYTN,PPHYTN_FLAG_W,FLUOR,FLUOR_FLAG_W,HAARDT,HAARDT_FLAG_W,PAR,PAR_FLAG_W,SPAR,SPAR_FLAG_W
,,,,,,,,,,,METERS,DBAR,ITS-90,PSS-78,,PSS-78,,UMOL/KG,,UMOL/KG,,UMOL/KG,,UMOL/KG,,UMOL/KG,,UMOL/KG,,UMOL/KG,,DEG C,UMOL/KG,,UMOL/KG,,UG/KG,,UG/KG,,MG/M^3,,VOLTS,,VOLTS,,VOLTS,
320620030705, SBI, 315, 1, 120, 20, 2, 20030815, 1322, 71.3303, -149.1576, 1734,      5.0,   2.5643,  29.7287, 2,  29.7269, 2,    330.7, 2,    345.5, 2,     7.19, 2,     0.11, 2,     0.00, 2,     0.62, 2,  -999.00, 9,   2.5641,     0.05, 2, 0, 2,     0.30, 2,     0.05, 2,   1.0570, 2, -999.000, 2, -999.000, 9, 4.997, 2
320620030705, SBI, 315, 1, 119, 19, 2, 20030815, 1321, 71.3303, -149.1576, 1734,     15.7,   2.5671,  29.7292, 2,  29.7263, 2,    330.7, 2,    346.8, 2,     7.17, 2,     0.06, 2,     0.00, 2,     0.62, 2,  -999.00, 9,   2.5663,     0.04, 2, 0, 2,     0.31, 2,     0.05, 2,   1.0440, 2, -999.000, 2, -999.000, 9, 4.997, 2
320620030705, SBI, 315, 1, 118, 18, 2, 20030815, 1319, 71.3303, -149.1576, 1734,     30.7,   2.9848,  30.1704, 2, -999.0000, 9,    327.0, 2,   -999.0, 9,  -999.00, 9,  -999.00, 9,  -999.00, 9,  -999.00, 9,  -999.00, 9,   2.9832,  -999.00, 9, -999, 9,  -999.00, 9,  -999.00, 9,   1.1340, 2, -999.000, 2, -999.000, 9, 4.997, 2
320620030705, SBI, 315, 1, 117, 17, 2, 20030815, 1319, 71.3303, -149.1576, 1734,     30.8,   3.0121,  30.1781, 2, -999.0000, 9,    326.6, 2,   -999.0, 9,  -999.00, 9,  -999.00, 9,  -999.00, 9,  -999.00, 9,  -999.00, 9,   3.0105,  -999.00, 9, -999, 9,  -999.00, 9,  -999.00, 9,   1.1080, 2, -999.000, 2, -999.000, 9, 4.997, 2
320620030705, SBI, 315, 1, 116, 16, 2, 20030815, 1318, 71.3303, -149.1576, 1734,     30.8,   3.0432,  30.1850, 2, -999.0000, 9,    326.3, 2,    340.1, 2,     6.66, 2,     0.11, 2,     0.00, 2,     0.63, 2,  -999.00, 9,   3.0416,     0.19, 2, 0.01, 2,     0.49, 2,     0.08, 2,   1.1050, 2, -999.000, 2, -999.000, 9, 4.997, 2
320620030705, SBI, 315, 1, 115, 15, 2, 20030815, 1316, 71.3303, -149.1576, 1734,     45.9,   3.7884,  30.6894, 2, -999.0000, 9,    314.0, 2,    324.5, 2,     6.03, 2,     0.16, 2,     0.01, 2,     0.71, 2,    71.10, 2,   3.7856,     0.72, 2, 0.06, 2,  -999.00, 9,  -999.00, 9,   0.7710, 2, -999.000, 2, -999.000, 9, 4.998, 2
320620030705, SBI, 315, 1, 114, 14, 2, 20030815, 1314, 71.3303, -149.1576, 1734,     70.9,   1.8500,  31.4621, 2, -999.0000, 9,    338.9, 2,    357.3, 2,     8.44, 2,     0.49, 2,     0.03, 2,     0.85, 2,  -999.00, 9,   1.8468,     0.98, 2, 0.12, 2,     0.09, 2,     0.07, 2,   0.7490, 2, -999.000, 2, -999.000, 9, 4.998, 2
320620030705, SBI, 315, 1, 113, 13, 2, 20030815, 1311, 71.3303, -149.1576, 1734,     85.7,  -0.3246,  31.8939, 2, -999.0000, 9,    332.6, 2,    356.4, 2,    10.85, 2,     3.64, 2,     0.09, 2,     1.13, 2,  -999.00, 9,  -0.3270,     0.71, 2, 0.05, 2,  -999.00, 9,  -999.00, 9,   0.8680, 2, -999.000, 2, -999.000, 9, 4.998, 2
320620030705, SBI, 315, 1, 112, 12, 2, 20030815, 1308, 71.3303, -149.1576, 1734,    106.0,  -0.7312,  32.1780, 2, -999.0000, 9,    326.7, 2,    350.1, 2,    16.81, 2,     4.96, 2,     0.11, 2,     1.30, 2,  -999.00, 9,  -0.7339,     1.56, 2, 0.08, 2,  -999.00, 9,  -999.00, 9,   0.9330, 2, -999.000, 2, -999.000, 9, 4.999, 2
320620030705, SBI, 315, 1, 111, 11, 2, 20030815, 1306, 71.3303, -149.1576, 1734,    126.1,  -1.1206,  32.5507, 2, -999.0000, 9,    294.0, 2,    316.8, 2,    24.53, 2,     8.88, 2,     0.12, 2,     1.59, 2,  -999.00, 9,  -1.1235,     1.69, 2, 0.06, 2,  -999.00, 9,  -999.00, 9,   0.8210, 2, -999.000, 2, -999.000, 9, 4.999, 2
320620030705, SBI, 315, 1, 110, 10, 2, 20030815, 1304, 71.3303, -149.1576, 1734,    146.0,  -1.2398,  33.3200, 2, -999.0000, 9,    268.5, 2,    290.5, 2,    29.40, 2,    12.90, 2,     0.07, 2,     1.69, 2,  -999.00, 9,  -1.2432,     0.78, 2, 0.03, 2,  -999.00, 9,  -999.00, 9,   0.7600, 2, -999.000, 2, -999.000, 9, 4.999, 2
320620030705, SBI, 315, 1, 109, 9, 2, 20030815, 1302, 71.3303, -149.1576, 1734,    166.2,  -0.9661,  33.8291, 2, -999.0000, 9,    265.6, 2,    287.2, 2,    25.60, 2,    12.99, 2,     0.08, 2,     1.54, 2,  -999.00, 9,  -0.9706,     0.58, 2, 0.03, 2,  -999.00, 9,  -999.00, 9,   0.8510, 2, -999.000, 2, -999.000, 9, 4.999, 2
320620030705, SBI, 315, 1, 108, 8, 2, 20030815, 1300, 71.3303, -149.1576, 1734,    186.4,  -0.7458,  34.2011, 2, -999.0000, 9,    266.0, 2,    288.2, 2,    22.22, 2,    12.98, 2,     0.09, 2,     1.42, 2,  -999.00, 9,  -0.7513,     0.35, 2, 0.02, 2,  -999.00, 9,  -999.00, 9,   0.8690, 2, -999.000, 2, -999.000, 9, 5.000, 2
320620030705, SBI, 315, 1, 107, 7, 2, 20030815, 1258, 71.3303, -149.1576, 1734,    206.1,  -0.4661,  34.4430, 2, -999.0000, 9,    264.7, 2,    283.9, 2,    18.14, 2,    13.05, 2,     0.07, 2,     1.26, 2,  -999.00, 9,  -0.4728,     0.09, 2, 0.02, 2,  -999.00, 9,  -999.00, 9,   0.7540, 2, -999.000, 2, -999.000, 9, 5.000, 2
320620030705, SBI, 315, 1, 106, 6, 2, 20030815, 1256, 71.3303, -149.1576, 1734,    256.5,   0.2481,  34.6959, 2,  34.7030, 2,    262.4, 2,    281.8, 2,    11.85, 2,    13.02, 2,     0.01, 2,     1.04, 2,  -999.00, 9,   0.2379,     0.00, 2, 0, 2,  -999.00, 9,  -999.00, 9,   0.5410, 2, -999.000, 2, -999.000, 9, 5.000, 2
320620030705, SBI, 315, 1, 105, 5, 2, 20030815, 1251, 71.3303, -149.1576, 1734,    407.4,   0.4933,  34.8177, 2,  34.8158, 2,    271.5, 2,    291.0, 2,     8.81, 2,    12.81, 2,     0.01, 2,     0.97, 2,  -999.00, 9,   0.4757,     0.02, 2, 0, 2,  -999.00, 9,  -999.00, 9,   0.5430, 2, -999.000, 2, -999.000, 9, 5.000, 2
320620030705, SBI, 315, 1, 104, 4, 2, 20030815, 1243, 71.3303, -149.1576, 1734,    709.3,   0.2972,  34.8603, 2,  34.8593, 2,    275.6, 2,    297.5, 2,     7.28, 2,    12.62, 2,     0.00, 2,     0.93, 2,  -999.00, 9,   0.2657,     0.01, 2, 0, 2,  -999.00, 9,  -999.00, 9,   0.4910, 2, -999.000, 2, -999.000, 9, 5.000, 2
320620030705, SBI, 315, 1, 103, 3, 2, 20030815, 1233, 71.3303, -149.1576, 1734,   1112.7,  -0.0888,  34.8873, 2,  34.8878, 2,    275.0, 2,    299.2, 2,     7.97, 2,    12.62, 2,     0.00, 2,     0.95, 2,  -999.00, 9,  -0.1387,     0.01, 2, 0, 2,  -999.00, 9,  -999.00, 9,   0.4950, 2, -999.000, 2, -999.000, 9, 5.000, 2
320620030705, SBI, 315, 1, 102, 2, 2, 20030815, 1221, 71.3303, -149.1576, 1734,   1648.9,  -0.3432,  34.9221, 2,  34.9212, 2,    269.6, 2,    295.2, 2,    10.38, 2,    13.55, 2,     0.00, 2,     1.02, 2,  -999.00, 9,  -0.4217,     0.00, 2, 0.01, 2,  -999.00, 9,  -999.00, 9,   0.6140, 2, -999.000, 2, -999.000, 9, 5.000, 2
320620030705, SBI, 315, 1, 101, 1, 2, 20030815, 1217, 71.3303, -149.1576, 1734,   1750.0,  -0.3622,  34.9270, 2,  34.9259, 2,    268.5, 2,    293.6, 2,    10.97, 2,    13.71, 2,     0.00, 2,     1.03, 2,  -999.00, 9,  -0.4468,     0.00, 2, 0, 2,  -999.00, 9,  -999.00, 9,   0.4370, 2, -999.000, 2, -999.000, 9, 5.000, 2
320620030705, SBI, 316, 1, 121, 21, 2, 20030815, 1643, 71.3797, -149.1327, 1889,      7.1,   1.6688,  29.2174, 2,  29.2110, 2,    334.5, 2,    356.0, 2,     6.37, 2,     0.10, 2,     0.00, 2,     0.62, 2,  -999.00, 9,   1.6685,     0.04, 2, 0, 2,     0.22, 2,     0.04, 2,   1.0660, 2, -999.000, 2, -999.000, 9, 4.876, 2
320620030705, SBI, 316, 1, 120, 20, 2, 20030815, 1641, 71.3797, -149.1327, 1889,     12.7,   1.7095,  29.2380, 2, -999.0000, 9,    334.2, 2,    354.6, 2,     6.45, 2,     0.05, 2,     0.00, 2,     0.63, 2,  -999.00, 9,   1.7090,     0.03, 2, 0, 2,     0.23, 2,     0.05, 2,   0.9720, 2, -999.000, 2, -999.000, 9, 4.874, 2
320620030705, SBI, 316, 1, 119, 19, 2, 20030815, 1640, 71.3797, -149.1327, 1889,     25.6,   3.1791,  30.0821, 2, -999.0000, 9,    321.1, 2,    341.0, 2,     7.93, 2,     0.04, 2,     0.00, 2,     0.66, 2,    73.70, 2,   3.1777,     0.17, 2, 0.02, 2,     0.48, 2,     0.06, 2,   1.1030, 2, -999.000, 2, -999.000, 9, 4.876, 2
320620030705, SBI, 316, 1, 118, 18, 2, 20030815, 1637, 71.3797, -149.1327, 1889,     45.0,   2.4159,  31.0393, 2, -999.0000, 9,    342.0, 2,    359.8, 2,     7.61, 2,     0.04, 2,     0.00, 2,     0.74, 2,  -999.00, 9,   2.4137,     0.24, 2, 0.01, 2,     1.14, 2,     0.04, 2,   1.3900, 2, -999.000, 2, -999.000, 9, 4.872, 2
320620030705, SBI, 316, 1, 117, 17, 2, 20030815, 1634, 71.3797, -149.1327, 1889,     57.9,   2.5471,  31.4018, 2, -999.0000, 9,    330.2, 2,    344.6, 2,     6.28, 2,     0.28, 2,     0.02, 2,     0.78, 2,  -999.00, 9,   2.5441,     0.82, 2, 0.07, 2,  -999.00, 9,  -999.00, 9,   0.7810, 2, -999.000, 2, -999.000, 9, 4.854, 2
320620030705, SBI, 316, 1, 116, 16, 2, 20030815, 1632, 71.3797, -149.1327, 1889,     73.1,   0.5036,  31.7940, 2, -999.0000, 9,    347.6, 2,    369.9, 2,     9.37, 2,     1.18, 2,     0.06, 2,     0.94, 2,  -999.00, 9,   0.5011,     1.40, 2, 0.12, 2,  -999.00, 9,  -999.00, 9,   0.8120, 2, -999.000, 2, -999.000, 9, 4.857, 2
320620030705, SBI, 316, 1, 115, 15, 2, 20030815, 1630, 71.3797, -149.1327, 1889,     87.7,  -0.4433,  31.9736, 2, -999.0000, 9,    340.9, 2,    367.3, 2,    13.59, 2,     3.47, 2,     0.10, 2,     1.16, 2,  -999.00, 9,  -0.4457,     1.19, 2, 0.08, 2,     0.07, 2,     0.07, 2,   0.9400, 2, -999.000, 2, -999.000, 9, 4.893, 2
320620030705, SBI, 316, 1, 114, 14, 2, 20030815, 1628, 71.3797, -149.1327, 1889,    102.8,  -1.3452,  32.4208, 2, -999.0000, 9,    280.9, 2,    306.2, 2,    23.31, 2,    10.98, 2,     0.01, 2,     1.63, 2,  -999.00, 9,  -1.3473,     0.07, 2, 0, 2,  -999.00, 9,  -999.00, 9,   0.7490, 2, -999.000, 2, -999.000, 9, 4.900, 2
320620030705, SBI, 316, 1, 113, 13, 2, 20030815, 1626, 71.3797, -149.1327, 1889,    123.0,  -1.5360,  32.6991, 2, -999.0000, 9,    276.3, 2,    299.0, 2,    29.61, 2,    11.90, 2,     0.07, 2,     1.76, 2,  -999.00, 9,  -1.5384,     1.15, 2, 0.04, 2,  -999.00, 9,  -999.00, 9,   0.8200, 2, -999.000, 2, -999.000, 9, 4.904, 2
320620030705, SBI, 316, 1, 112, 12, 2, 20030815, 1623, 71.3797, -149.1327, 1889,    142.9,  -1.5414,  32.9723, 2, -999.0000, 9,    263.7, 2,    285.9, 2,    33.47, 2,    14.71, 2,     0.01, 2,     1.86, 2,  -999.00, 9,  -1.5442,     0.00, 2, 0, 2,  -999.00, 9,  -999.00, 9,   0.5720, 2, -999.000, 2, -999.000, 9, 4.911, 2
320620030705, SBI, 316, 1, 111, 11, 2, 20030815, 1621, 71.3797, -149.1327, 1889,    163.1,  -1.4333,  33.3210, 2, -999.0000, 9,    256.7, 2,    279.8, 2,    31.92, 2,    14.59, 2,     0.01, 2,     1.75, 2,  -999.00, 9,  -1.4368,     0.00, 2, 0, 2,  -999.00, 9,  -999.00, 9,   0.7850, 2, -999.000, 2, -999.000, 9, 4.919, 2
320620030705, SBI, 316, 1, 110, 10, 2, 20030815, 1619, 71.3797, -149.1327, 1889,    183.3,  -1.1931,  33.9393, 2, -999.0000, 9,    266.2, 2,    286.4, 2,    26.47, 2,    13.50, 2,     0.01, 2,     1.51, 2,  -999.00, 9,  -1.1977,     0.00, 2, 0, 2,  -999.00, 9,  -999.00, 9,   0.6630, 2, -999.000, 2, -999.000, 9, 4.920, 2
320620030705, SBI, 316, 1, 109, 9, 2, 20030815, 1617, 71.3797, -149.1327, 1889,    203.4,  -0.9548,  34.2280, 2, -999.0000, 9,    266.3, 2,    285.8, 2,    21.97, 2,    13.19, 2,     0.01, 2,     1.37, 2,  -999.00, 9,  -0.9605,     0.01, 2, 0, 2,  -999.00, 9,  -999.00, 9,   0.7080, 2, -999.000, 2, -999.000, 9, 4.924, 2
320620030705, SBI, 316, 1, 108, 8, 2, 20030815, 1614, 71.3797, -149.1327, 1889,    253.2,   0.0641,  34.6388, 2,  34.6425, 2,    260.4, 2,    279.5, 2,    13.43, 2,    13.02, 2,     0.02, 2,     1.07, 2,  -999.00, 9,   0.0545,     0.00, 2, 0, 2,  -999.00, 9,  -999.00, 9,   0.8270, 2, -999.000, 2, -999.000, 9, 4.927, 2
320620030705, SBI, 316, 1, 107, 7, 2, 20030815, 1610, 71.3797, -149.1327, 1889,    303.9,   0.4516,  34.7525, 2,  34.7569, 2,    264.5, 2,    283.2, 2,    10.17, 2,    12.83, 2,     0.01, 2,     0.97, 2,  -999.00, 9,   0.4389,     0.00, 2, 0, 2,  -999.00, 9,  -999.00, 9,   0.4880, 2, -999.000, 2, -999.000, 9, 4.927, 2
320620030705, SBI, 316, 1, 106, 6, 2, 20030815, 1606, 71.3797, -149.1327, 1889,    404.5,   0.5111,  34.8143, 2,  34.8145, 2,    271.8, 2,    291.0, 2,     8.75, 2,    12.57, 2,     0.01, 2,     0.96, 2,  -999.00, 9,   0.4935,     0.00, 2, 0, 2,  -999.00, 9,  -999.00, 9,   0.7850, 2, -999.000, 2, -999.000, 9, 4.927, 2
320620030705, SBI, 316, 1, 105, 5, 2, 20030815, 1559, 71.3797, -149.1327, 1889,    605.5,   0.4029,  34.8510, 2,  34.8489, 2,    275.0, 2,    296.7, 2,     7.61, 2,    12.36, 2,     0.00, 2,     0.92, 2,  -999.00, 9,   0.3760,     0.00, 2, 0, 2,  -999.00, 9,  -999.00, 9,   0.4940, 2, -999.000, 2, -999.000, 9, 4.932, 2
320620030705, SBI, 316, 1, 104, 4, 2, 20030815, 1548, 71.3797, -149.1327, 1889,   1009.0,   0.0028,  34.8793, 2,  34.8784, 2,    275.6, 2,    300.0, 2,     7.50, 2,    12.63, 2,     0.00, 2,     0.91, 2,  -999.00, 9,  -0.0423,     0.01, 2, 0.03, 2,  -999.00, 9,  -999.00, 9,   0.5090, 2, -999.000, 2, -999.000, 9, 4.934, 2
320620030705, SBI, 316, 1, 103, 3, 2, 20030815, 1538, 71.3797, -149.1327, 1889,   1413.2,  -0.2829,  34.9100, 2,  34.9106, 2,    271.9, 2,    297.4, 2,     9.28, 2,    13.14, 2,     0.00, 2,     0.98, 2,  -999.00, 9,  -0.3479,     0.00, 2, 0, 2,  -999.00, 9,  -999.00, 9,   0.8130, 2, -999.000, 2, -999.000, 9, 4.938, 2
320620030705, SBI, 316, 1, 102, 2, 2, 20030815, 1527, 71.3797, -149.1327, 1889,   1817.4,  -0.3830,  34.9332, 2,  34.9297, 2,    266.0, 2,    291.6, 2,    11.69, 2,    13.86, 2,     0.00, 2,     1.02, 2,  -999.00, 9,  -0.4716,     0.01, 2, 0, 2,  -999.00, 9,  -999.00, 9,   0.5090, 2, -999.000, 2, -999.000, 9, 4.947, 2
320620030705, SBI, 316, 1, 101, 1, 2, 20030815, 1524, 71.3797, -149.1327, 1889,   1904.0,  -0.3951,  34.9390, 2,  34.9382, 2,    264.4, 2,    289.8, 2,    12.48, 2,    13.96, 2,     0.00, 2,     1.05, 2,  -999.00, 9,  -0.4892,     0.01, 2, 0, 2,  -999.00, 9,  -999.00, 9,   0.5300, 2, -999.000, 2, -999.000, 9, 4.952, 2