BOTTLE,20100423CCHDOSIODBK
EXPOCODE,SECT_ID,STNNBR,CASTNO,SAMPNO,BTLNBR,BTLNBR_FLAG_W,DATE,TIME,LATITUDE,LONGITUDE,DEPTH,CTDPRS,CTDTMP,CTDSAL,CTDSAL_FLAG_W,SALNTY,SALNTY_FLAG_W,CTDOXY,CTDOXY_FLAG_W,OXYGEN,OXYGEN_FLAG_W,SILCAT,SILCAT_FLAG_W,NITRAT,NITRAT_FLAG_W,NITRIT,NITRIT_FLAG_W,PHSPHT,PHSPHT_FLAG_W,DOC,DOC_FLAG_W,THETA,NH4,NH4_FLAG_W,UREA,UREA_FLAG_W,CHLORA,CHLORA_FLAG_W,PPHYTN,PPHYTN_FLAG_W,FLUOR,FLUOR_FLAG_W,HAARDT,HAARDT_FLAG_W,PAR,PAR_FLAG_W,SPAR,SPAR_FLAG_W
,,,,,,,,,,,METERS,DBAR,ITS-90,PSS-78,,PSS-78,,UMOL/KG,,UMOL/KG,,UMOL/KG,,UMOL/KG,,UMOL/KG,,UMOL/KG,,UMOL/KG,,DEG C,UMOL/KG,,UMOL/KG,,UG/KG,,UG/KG,,MG/M^3,,VOLTS,,VOLTS,,VOLTS,
320620030705, SBI, 8, 1, 106, 6, 2, 20030710, 2220, 68.9506, -166.2999, 25,      1.7,   6.5767,  30.7429, 2,  30.7347, 2,    319.6, 2,    325.7, 2,     5.26, 2,     0.07, 2,     0.00, 2,     0.69, 2,  -999.00, 9,   6.5766,     0.07, 2, 0.03, 2,     0.61, 2,     0.11, 2,   1.2270, 2, 0.007, 2, 3.791, 2, 4.631, 2
320620030705, SBI, 8, 1, 103, 3, 2, 20030710, 2218, 68.9506, -166.2999, 25,     14.6,   6.4855,  30.7582, 2,  30.7579, 2,    319.8, 2,    327.5, 2,     5.36, 2,     0.06, 2,     0.00, 2,     0.69, 2,  -999.00, 9,   6.4843,     0.18, 2, 0.12, 2,     0.64, 2,     0.16, 2,   1.3240, 2, 0.007, 2, 2.789, 2, 4.564, 2
320620030705, SBI, 8, 1, 104, 4, 2, 20030710, 2218, 68.9506, -166.2999, 25,     14.6,   6.4899,  30.7575, 2, -999.0000, 9,    320.4, 2,   -999.0, 9,  -999.00, 9,  -999.00, 9,  -999.00, 9,  -999.00, 9,  -999.00, 9,   6.4887,  -999.00, 9, -999, 9,  -999.00, 9,  -999.00, 9,   1.3580, 2, 0.007, 2, 2.784, 2, 4.567, 2
320620030705, SBI, 8, 1, 105, 5, 2, 20030710, 2219, 68.9506, -166.2999, 25,     14.6,   6.4923,  30.7576, 2, -999.0000, 9,    320.6, 2,   -999.0, 9,  -999.00, 9,  -999.00, 9,  -999.00, 9,  -999.00, 9,  -999.00, 9,   6.4911,  -999.00, 9, -999, 9,  -999.00, 9,  -999.00, 9,   1.3450, 2, 0.007, 2, 2.780, 2, 4.570, 2
320620030705, SBI, 8, 1, 102, 2, 2, 20030710, 2216, 68.9506, -166.2999, 25,     18.8,   6.3946,  30.7766, 2, -999.0000, 9,    319.9, 2,   -999.0, 9,  -999.00, 9,  -999.00, 9,  -999.00, 9,  -999.00, 9,  -999.00, 9,   6.3931,  -999.00, 9, -999, 9,  -999.00, 9,  -999.00, 9,   1.3190, 2, 0.007, 2, 2.549, 2, 4.556, 2
320620030705, SBI, 8, 1, 101, 1, 2, 20030710, 2216, 68.9506, -166.2999, 25,     18.9,   6.4275,  30.7694, 2,  30.7614, 2,    319.8, 2,    326.1, 2,     5.37, 2,     0.06, 2,     0.00, 2,     0.70, 2,    80.10, 2,   6.4260,     0.16, 2, 0.17, 2,     0.62, 2,     0.12, 2,   1.3090, 2, 0.007, 2, 2.534, 2, 4.557, 2
320620030705, SBI, 9, 1, 106, 6, 2, 20030711, 26, 69.0719, -166.7357, 40,      1.9,   7.5465,  30.7156, 2,  30.7934, 2,    310.2, 2,    319.4, 2,     4.56, 2,     0.00, 2,     0.00, 2,     0.63, 2,  -999.00, 9,   7.5463,     0.10, 2, 0.07, 2,     0.36, 2,     0.07, 2,   1.0290, 2, 0.007, 2, 3.830, 2, 4.539, 2
320620030705, SBI, 9, 1, 105, 5, 2, 20030711, 24, 69.0719, -166.7357, 40,     11.4,   6.0525,  30.9378, 2,  31.0653, 2,    320.0, 2,    332.4, 2,     5.37, 2,     0.10, 2,     0.01, 2,     0.73, 2,  -999.00, 9,   6.0516,     0.28, 2, 0.08, 2,     0.72, 2,     0.17, 2,   1.3400, 2, 0.007, 2, 3.064, 2, 4.543, 2
320620030705, SBI, 9, 1, 104, 4, 2, 20030711, 23, 69.0719, -166.7357, 40,     20.6,   4.8450,  31.1613, 2,  31.1632, 2,    327.4, 2,    336.9, 2,     5.48, 2,     0.09, 2,     0.01, 2,     0.76, 2,  -999.00, 9,   4.8436,     0.42, 2, 0.09, 2,     0.73, 2,     0.23, 2,   1.2660, 2, 0.007, 2, 2.079, 2, 4.565, 2
320620030705, SBI, 9, 1, 103, 3, 2, 20030711, 20, 69.0719, -166.7357, 40,     30.5,   4.6605,  31.1874, 2,  31.1882, 2,    331.5, 2,    341.1, 2,     5.17, 2,     0.09, 2,     0.01, 2,     0.76, 2,  -999.00, 9,   4.6584,     0.34, 2, 0.1, 2,     0.68, 2,     0.24, 2,   1.2490, 2, 0.007, 2, 0.781, 2, 4.586, 2
320620030705, SBI, 9, 1, 102, 2, 2, 20030711, 18, 69.0719, -166.7357, 40,     35.1,   4.5720,  31.1931, 2, -999.0000, 9,    332.9, 2,   -999.0, 9,  -999.00, 9,  -999.00, 9,  -999.00, 9,  -999.00, 9,  -999.00, 9,   4.5696,  -999.00, 9, -999, 9,  -999.00, 9,  -999.00, 9,   1.2700, 2, 0.007, 2, 0.401, 2, 4.587, 2
320620030705, SBI, 9, 1, 101, 1, 2, 20030711, 18, 69.0719, -166.7357, 40,     35.2,   4.5660,  31.1931, 2,  31.1868, 2,    332.3, 2,    341.2, 2,     5.17, 2,     0.08, 2,     0.01, 2,     0.76, 2,    79.70, 2,   4.5636,  -999.00, 5, 0.09, 2,     0.67, 2,     0.22, 2,   1.2530, 2, 0.007, 2, 0.477, 2, 4.587, 2
320620030705, SBI, 10, 1, 107, 7, 2, 20030711, 218, 69.1898, -167.1647, 45,      1.9,   6.9230,  31.5018, 2,  31.5014, 2,    318.6, 2,    324.2, 2,     2.53, 2,     0.00, 2,     0.00, 2,     0.55, 2,  -999.00, 9,   6.9228,  -999.00, 5, 0.05, 2,     0.21, 2,     0.03, 2,   0.7860, 2, 0.007, 2, 4.188, 2, 4.008, 2
320620030705, SBI, 10, 1, 106, 6, 2, 20030711, 216, 69.1898, -167.1647, 45,     11.6,   6.6116,  31.4874, 2,  31.4366, 2,    321.5, 2,    338.7, 2,     3.45, 2,     0.03, 2,     0.00, 2,     0.63, 2,  -999.00, 9,   6.6106,  -999.00, 5, 0.07, 2,     0.97, 2,     0.12, 2,   0.9290, 2, 0.007, 2, 3.405, 2, 4.294, 2
320620030705, SBI, 10, 1, 105, 5, 2, 20030711, 213, 69.1898, -167.1647, 45,     19.2,   4.7833,  31.5695, 2,  31.5798, 2,    332.9, 2,    341.7, 2,     3.35, 2,     0.08, 2,     0.01, 2,     0.65, 2,  -999.00, 9,   4.7820,  -999.00, 5, 0.07, 2,     1.01, 2,     0.13, 2,   1.4680, 2, 0.007, 2, 2.835, 2, 4.345, 2
320620030705, SBI, 10, 1, 104, 4, 2, 20030711, 209, 69.1898, -167.1647, 45,     27.5,   4.5450,  31.7003, 2,  31.7118, 2,    344.6, 2,    354.1, 2,     2.23, 2,     0.02, 2,     0.00, 2,     0.57, 2,  -999.00, 9,   4.5431,  -999.00, 5, 0.05, 2,     0.43, 2,     0.09, 2,   1.1430, 2, 0.007, 2, 2.228, 2, 4.314, 2
320620030705, SBI, 10, 1, 103, 3, 2, 20030711, 206, 69.1898, -167.1647, 45,     35.3,   4.7127,  31.7627, 2,  31.7432, 2,    343.8, 2,    350.1, 2,     2.74, 2,     0.07, 2,     0.01, 2,     0.63, 2,  -999.00, 9,   4.7103,  -999.00, 5, 0.07, 2,     0.47, 2,     0.11, 2,   1.2760, 2, 0.007, 2, 2.006, 2, 4.251, 2
320620030705, SBI, 10, 1, 101, 1, 2, 20030711, 203, 69.1898, -167.1647, 45,     40.1,   4.3746,  31.7536, 2,  31.7294, 0,    333.4, 2,    347.3, 2,     3.05, 2,     0.06, 2,     0.02, 2,     0.66, 2,    68.50, 2,   4.3719,  -999.00, 5, 0.08, 2,     0.60, 2,     0.13, 2,   1.2040, 2, 0.007, 2, 1.879, 2, 4.180, 2
320620030705, SBI, 10, 1, 102, 2, 2, 20030711, 204, 69.1898, -167.1647, 45,     40.1,   4.3871,  31.7533, 2, -999.0000, 9,    332.1, 2,   -999.0, 9,  -999.00, 9,  -999.00, 9,  -999.00, 9,  -999.00, 9,  -999.00, 9,   4.3844,  -999.00, 9, -999, 9,  -999.00, 9,  -999.00, 9,   1.1960, 2, 0.007, 2, 1.820, 2, 4.309, 2
320620030705, SBI, 11, 1, 111, 11, 2, 20030711, 410, 69.3136, -167.6140, 49,      1.5,   6.2958,  31.8091, 2,  31.8120, 2,    326.2, 2,    332.7, 2,     0.96, 2,     0.09, 2,     0.00, 2,     0.53, 2,  -999.00, 9,   6.2957,     0.01, 2, 0.05, 2,     0.15, 2,     0.01, 2,   0.9050, 2, 0.007, 2, 3.615, 2, 4.759, 2
320620030705, SBI, 11, 1, 110, 10, 2, 20030711, 408, 69.3136, -167.6140, 49,     11.1,   5.6303,  31.8150, 2, -999.0000, 9,    329.4, 2,   -999.0, 9,  -999.00, 9,  -999.00, 9,  -999.00, 9,  -999.00, 9,  -999.00, 9,   5.6295,  -999.00, 9, -999, 9,  -999.00, 9,  -999.00, 9,   0.9460, 2, 0.007, 2, 3.060, 2, 4.749, 2
320620030705, SBI, 11, 1, 108, 8, 2, 20030711, 407, 69.3136, -167.6140, 49,     11.1,   5.6333,  31.8160, 2,  31.8326, 2,    329.0, 2,    348.1, 2,     1.17, 2,     0.09, 2,     0.00, 2,     0.57, 2,  -999.00, 9,   5.6324,     0.03, 2, 0.05, 2,     0.23, 2,     0.02, 2,   0.9750, 2, 0.007, 2, 3.072, 2, 4.739, 2
320620030705, SBI, 11, 1, 109, 9, 2, 20030711, 407, 69.3136, -167.6140, 49,     11.1,   5.6343,  31.8160, 2, -999.0000, 9,    329.4, 2,   -999.0, 9,  -999.00, 9,  -999.00, 9,  -999.00, 9,  -999.00, 9,  -999.00, 9,   5.6334,  -999.00, 9, -999, 9,  -999.00, 9,  -999.00, 9,   0.9520, 2, 0.007, 2, 3.071, 2, 4.741, 2
320620030705, SBI, 11, 1, 107, 7, 2, 20030711, 405, 69.3136, -167.6140, 49,     19.1,   4.5907,  31.8664, 2,  31.9173, 2,    347.6, 2,    365.3, 2,     1.78, 2,     0.03, 2,     0.00, 2,     0.65, 2,  -999.00, 9,   4.5894,     0.04, 2, 0.06, 2,     0.29, 2,     0.03, 2,   1.1430, 2, 0.007, 2, 2.695, 2, 4.793, 2
320620030705, SBI, 11, 1, 106, 6, 2, 20030711, 403, 69.3136, -167.6140, 49,     28.1,   3.7053,  31.9615, 2,  31.9520, 2,    355.3, 2,    366.5, 2,     1.87, 2,     0.03, 2,     0.00, 2,     0.69, 2,  -999.00, 9,   3.7036,     0.01, 2, 0.05, 2,     0.35, 2,     0.06, 2,   1.2020, 2, 0.007, 2, 2.331, 2, 4.804, 2
320620030705, SBI, 11, 1, 105, 5, 2, 20030711, 401, 69.3136, -167.6140, 49,     38.2,   2.9240,  31.9373, 2,  31.9292, 2,    352.6, 2,    365.8, 2,     2.80, 2,     0.03, 2,     0.00, 2,     0.72, 2,  -999.00, 9,   2.9219,     0.00, 2, 0.06, 2,     0.86, 2,     0.17, 2,   1.3650, 2, 0.007, 2, 1.996, 2, 4.779, 2
320620030705, SBI, 11, 1, 102, 2, 2, 20030711, 358, 69.3136, -167.6140, 49,     43.2,   2.5228,  31.9418, 2, -999.0000, 9,    346.6, 2,   -999.0, 9,  -999.00, 9,  -999.00, 9,  -999.00, 9,  -999.00, 9,  -999.00, 9,   2.5206,  -999.00, 9, -999, 9,  -999.00, 9,  -999.00, 9,   1.6920, 2, 0.007, 2, 1.661, 2, 4.799, 2
320620030705, SBI, 11, 1, 103, 3, 2, 20030711, 358, 69.3136, -167.6140, 49,     43.2,   2.5771,  31.9378, 2, -999.0000, 9,    346.1, 2,   -999.0, 9,  -999.00, 9,  -999.00, 9,  -999.00, 9,  -999.00, 9,  -999.00, 9,   2.5748,  -999.00, 9, -999, 9,  -999.00, 9,  -999.00, 9,   1.6760, 2, 0.007, 2, 1.670, 2, 4.796, 2
320620030705, SBI, 11, 1, 104, 4, 2, 20030711, 359, 69.3136, -167.6140, 49,     43.2,   2.5962,  31.9368, 2, -999.0000, 9,    344.0, 2,   -999.0, 9,  -999.00, 9,  -999.00, 9,  -999.00, 9,  -999.00, 9,  -999.00, 9,   2.5939,  -999.00, 9, -999, 9,  -999.00, 9,  -999.00, 9,   1.6650, 2, 0.007, 2, 1.682, 2, 4.793, 2
320620030705, SBI, 11, 1, 101, 1, 2, 20030711, 357, 69.3136, -167.6140, 49,     43.2,   2.6381,  31.9321, 2,  31.9350, 2,    347.3, 2,    364.8, 2,     2.38, 2,     0.02, 2,     0.00, 2,     0.71, 2,    70.00, 2,   2.6358,     0.02, 2, 0.07, 2,     0.81, 2,     0.17, 2,   1.6570, 2, 0.007, 2, 1.662, 2, 4.801, 2
320620030705, SBI, 12, 1, 107, 7, 2, 20030711, 611, 69.4326, -168.0506, 50,      1.9,   5.9569,  31.8198, 2,  31.8200, 2,    327.1, 2,    339.9, 2,     0.08, 2,     0.02, 2,     0.00, 2,     0.47, 2,  -999.00, 9,   5.9567,     0.02, 2, 0.04, 2,     0.11, 2,     0.01, 2,   0.7990, 2, 0.007, 2, 3.028, 2, 4.921, 2
320620030705, SBI, 12, 1, 106, 6, 2, 20030711, 610, 69.4326, -168.0506, 50,     10.0,   5.4334,  31.8269, 2,  31.8463, 2,    331.3, 2,    351.5, 2,     0.07, 2,     0.02, 2,     0.00, 2,     0.50, 2,  -999.00, 9,   5.4326,     0.06, 2, 0.04, 2,     0.17, 2,     0.02, 2,   0.9980, 2, 0.007, 2, 2.567, 2, 4.925, 2
320620030705, SBI, 12, 1, 105, 5, 2, 20030711, 607, 69.4326, -168.0506, 50,     17.0,   4.7666,  31.8705, 2,  31.9460, 2,    342.6, 2,    381.4, 2,     1.00, 2,     0.02, 2,     0.00, 2,     0.63, 2,  -999.00, 9,   4.7654,     0.06, 2, 0.06, 2,     0.19, 2,     0.02, 2,   1.0240, 2, 0.007, 2, 2.346, 2, 4.919, 2
320620030705, SBI, 12, 1, 104, 4, 2, 20030711, 605, 69.4326, -168.0506, 50,     27.0,   1.1199,  32.0380, 2,  32.0361, 2,    372.7, 2,    396.5, 2,     2.24, 2,     0.02, 2,     0.00, 2,     0.78, 2,  -999.00, 9,   1.1188,     0.13, 2, 0.05, 2,     0.15, 2,     0.01, 2,   0.8960, 2, 0.007, 2, 2.026, 2, 4.915, 2
320620030705, SBI, 12, 1, 103, 3, 2, 20030711, 602, 69.4326, -168.0506, 50,     37.9,   1.0119,  32.0405, 2,  32.0373, 2,    369.9, 2,    392.2, 2,     2.97, 2,     0.01, 2,     0.00, 2,     0.81, 2,  -999.00, 9,   1.0104,     0.25, 2, 0.08, 2,     0.23, 2,     0.04, 2,   1.0360, 2, 0.007, 2, 1.656, 2, 4.915, 2
320620030705, SBI, 12, 1, 102, 2, 2, 20030711, 600, 69.4326, -168.0506, 50,     44.0,   1.0026,  32.0409, 2, -999.0000, 9,    371.2, 2,   -999.0, 9,  -999.00, 9,  -999.00, 9,  -999.00, 9,  -999.00, 9,  -999.00, 9,   1.0009,  -999.00, 9, -999, 9,  -999.00, 9,  -999.00, 9,   1.1700, 2, 0.007, 2, 1.426, 2, 4.907, 2
320620030705, SBI, 12, 1, 101, 1, 2, 20030711, 600, 69.4326, -168.0506, 50,     44.0,   1.0038,  32.0415, 2,  32.0367, 2,    371.6, 2,    390.6, 2,     3.07, 2,     0.07, 2,     0.01, 2,     0.81, 2,    84.60, 2,   1.0021,     0.29, 2, 0.06, 2,     0.26, 2,     0.05, 2,   1.1150, 2, 0.007, 2, 1.435, 2, 4.905, 2
320620030705, SBI, 13, 1, 107, 7, 2, 20030711, 754, 69.5502, -168.4834, 50,      2.1,   5.7058,  31.9192, 2,  31.9177, 2,    338.4, 2,    346.8, 2,     0.00, 2,     0.01, 2,     0.00, 2,     0.52, 2,  -999.00, 9,   5.7056,     0.02, 2, 0.04, 2,     0.08, 2,     0.01, 2,   0.7170, 2, 0.007, 2, 3.035, 2, 4.919, 2
320620030705, SBI, 13, 1, 106, 6, 2, 20030711, 753, 69.5502, -168.4834, 50,     10.3,   5.7406,  31.9170, 2,  31.9251, 2,    338.4, 2,    362.2, 2,     0.03, 2,     0.01, 2,     0.00, 2,     0.56, 2,  -999.00, 9,   5.7398,     0.04, 2, 0.04, 2,     0.11, 2,     0.01, 2,   0.7010, 2, 0.007, 2, 2.627, 2, 4.911, 2
320620030705, SBI, 13, 1, 105, 5, 2, 20030711, 752, 69.5502, -168.4834, 50,     14.9,   4.9108,  31.9264, 2,  31.9691, 2,    346.3, 2,    391.8, 2,     0.54, 2,     0.01, 2,     0.00, 2,     0.69, 2,  -999.00, 9,   4.9097,     0.05, 2, 0.04, 2,     0.17, 2,     0.01, 2,   0.9610, 2, 0.007, 2, 2.528, 2, 4.899, 2
320620030705, SBI, 13, 1, 104, 4, 2, 20030711, 749, 69.5502, -168.4834, 50,     22.1,   0.5241,  31.9978, 2,  32.0161, 2,    392.5, 2,    404.4, 2,     0.84, 2,     0.01, 2,     0.00, 2,     0.76, 2,  -999.00, 9,   0.5233,     0.08, 2, 0.05, 2,     0.14, 2,     0.04, 2,   0.8590, 2, 0.007, 2, 2.380, 2, 4.859, 2
320620030705, SBI, 13, 1, 103, 3, 2, 20030711, 747, 69.5502, -168.4834, 50,     39.2,   0.4952,  32.0588, 2,  32.0549, 2,    367.8, 2,    389.7, 2,     2.60, 2,     0.01, 2,     0.00, 2,     0.88, 2,  -999.00, 9,   0.4938,     0.19, 2, 0.05, 2,     0.19, 2,     0.04, 2,   1.1610, 2, 0.007, 2, 1.668, 2, 4.861, 2
320620030705, SBI, 13, 1, 102, 2, 2, 20030711, 743, 69.5502, -168.4834, 50,     43.9,   0.4976,  32.0599, 2, -999.0000, 9,    367.8, 2,   -999.0, 9,  -999.00, 9,  -999.00, 9,  -999.00, 9,  -999.00, 9,  -999.00, 9,   0.4961,  -999.00, 9, -999, 9,  -999.00, 9,  -999.00, 9,   1.0830, 2, 0.007, 2, 1.462, 2, 4.872, 2
320620030705, SBI, 13, 1, 101, 1, 2, 20030711, 743, 69.5502, -168.4834, 50,     44.0,   0.4988,  32.0604, 2,  32.0557, 2,    367.7, 2,    389.6, 2,     2.50, 2,     0.01, 2,     0.00, 2,     0.87, 2,    82.40, 2,   0.4973,     0.13, 2, 0.05, 2,     0.17, 2,     0.03, 2,   1.0610, 2, 0.007, 2, 1.461, 2, 4.872, 2
320620030705, SBI, 14, 1, 111, 11, 2, 20030711, 954, 69.6688, -168.9157, 52,      2.5,   7.2089,  31.6546, 2,  31.6546, 2,    308.0, 2,    315.3, 2,     1.66, 2,     0.01, 2,     0.00, 2,     0.68, 2,  -999.00, 9,   7.2087,     0.07, 2, 0.03, 2,     0.12, 2,     0.01, 2,   0.7960, 2, 0.007, 2, 2.384, 2, 4.978, 2
320620030705, SBI, 14, 1, 110, 10, 2, 20030711, 952, 69.6688, -168.9157, 52,     13.3,   7.1169,  31.6582, 2, -999.0000, 9,    310.0, 2,   -999.0, 9,  -999.00, 9,  -999.00, 9,  -999.00, 9,  -999.00, 9,  -999.00, 9,   7.1157,  -999.00, 9, -999, 9,  -999.00, 9,  -999.00, 9,   0.9790, 2, 0.007, 2, 1.901, 2, 4.975, 2
320620030705, SBI, 14, 1, 108, 8, 2, 20030711, 952, 69.6688, -168.9157, 52,     13.4,   7.1075,  31.6624, 2,  31.6938, 2,    310.4, 2,    333.4, 2,     1.75, 2,     0.00, 2,     0.00, 2,     0.67, 2,  -999.00, 9,   7.1063,     0.03, 2, 0.03, 2,     0.15, 2,     0.03, 2,   0.9470, 2, 0.007, 2, 1.905, 2, 4.975, 2
320620030705, SBI, 14, 1, 109, 9, 2, 20030711, 952, 69.6688, -168.9157, 52,     13.4,   7.1350,  31.6600, 2, -999.0000, 9,    310.0, 2,   -999.0, 9,  -999.00, 9,  -999.00, 9,  -999.00, 9,  -999.00, 9,  -999.00, 9,   7.1338,  -999.00, 9, -999, 9,  -999.00, 9,  -999.00, 9,   0.9750, 2, 0.007, 2, 1.904, 2, 4.975, 2
320620030705, SBI, 14, 1, 107, 7, 2, 20030711, 949, 69.6688, -168.9157, 52,     23.4,   0.8800,  32.1666, 2,  32.1671, 2,    397.9, 2,    417.1, 2,     0.38, 2,     0.00, 2,     0.00, 2,     0.67, 2,  -999.00, 9,   0.8791,     0.17, 2, 0.05, 2,     0.18, 2,     0.08, 2,   0.9480, 2, 0.007, 2, 1.534, 2, 4.974, 2
320620030705, SBI, 14, 1, 106, 6, 2, 20030711, 946, 69.6688, -168.9157, 52,     33.4,   0.2312,  32.1632, 2,  32.1588, 2,    382.2, 2,    404.5, 2,     0.48, 2,     0.11, 2,     0.01, 2,     0.78, 2,  -999.00, 9,   0.2301,     0.37, 2, 0.07, 2,     0.52, 2,     0.22, 2,   1.5200, 2, 0.007, 2, 1.217, 2, 4.971, 2
320620030705, SBI, 14, 1, 105, 5, 2, 20030711, 943, 69.6688, -168.9157, 52,     43.3,   0.0184,  32.2047, 2,  32.2009, 2,    347.8, 2,    370.9, 2,     1.72, 2,     1.27, 2,     0.04, 2,     1.11, 2,  -999.00, 9,   0.0171,     2.37, 2, 0.18, 2,     1.55, 2,     0.13, 2,   1.6940, 2, 0.007, 2, 0.840, 2, 4.973, 2
320620030705, SBI, 14, 1, 104, 4, 2, 20030711, 941, 69.6688, -168.9157, 52,     47.7,   0.0113,  32.2110, 2,  32.2015, 2,    345.0, 2,    369.0, 2,     1.51, 2,     1.32, 2,     0.04, 2,     1.12, 2,    65.40, 2,   0.0098,     2.41, 2, 0.19, 2,     1.61, 2,     0.17, 2,   1.8220, 2, 0.007, 2, 0.568, 2, 4.975, 2
320620030705, SBI, 14, 1, 103, 3, 2, 20030711, 940, 69.6688, -168.9157, 52,     47.7,   0.0150,  32.2109, 2, -999.0000, 9,    345.3, 2,   -999.0, 9,  -999.00, 9,  -999.00, 9,  -999.00, 9,  -999.00, 9,  -999.00, 9,   0.0135,  -999.00, 9, -999, 9,  -999.00, 9,  -999.00, 9,   1.8170, 2, 0.007, 2, 0.565, 2, 4.975, 2
320620030705, SBI, 14, 1, 102, 2, 2, 20030711, 940, 69.6688, -168.9157, 52,     47.7,   0.0223,  32.2095, 2, -999.0000, 9,    345.6, 2,   -999.0, 9,  -999.00, 9,  -999.00, 9,  -999.00, 9,  -999.00, 9,  -999.00, 9,   0.0208,  -999.00, 9, -999, 9,  -999.00, 9,  -999.00, 9,   1.7080, 2, 0.007, 2, 0.567, 2, 4.975, 2
320620030705, SBI, 14, 1, 101, 1, 2, 20030711, 940, 69.6688, -168.9157, 52,     47.7,   0.0266,  32.2091, 2, -999.0000, 9,    345.4, 2,   -999.0, 9,  -999.00, 9,  -999.00, 9,  -999.00, 9,  -999.00, 9,  -999.00, 9,   0.0251,  -999.00, 9, -999, 9,  -999.00, 9,  -999.00, 9,   1.7720, 2, 0.007, 2, 0.566, 2, 4.975, 2