BOTTLE,20100423CCHDOSIODBK
EXPOCODE,SECT_ID,STNNBR,CASTNO,SAMPNO,BTLNBR,BTLNBR_FLAG_W,DATE,TIME,LATITUDE,LONGITUDE,DEPTH,CTDPRS,CTDTMP,CTDSAL,CTDSAL_FLAG_W,SALNTY,SALNTY_FLAG_W,CTDOXY,CTDOXY_FLAG_W,OXYGEN,OXYGEN_FLAG_W,SILCAT,SILCAT_FLAG_W,NITRAT,NITRAT_FLAG_W,NITRIT,NITRIT_FLAG_W,PHSPHT,PHSPHT_FLAG_W,DOC,DOC_FLAG_W,THETA,NH4,NH4_FLAG_W,UREA,UREA_FLAG_W,CHLORA,CHLORA_FLAG_W,PPHYTN,PPHYTN_FLAG_W,FLUOR,FLUOR_FLAG_W,HAARDT,HAARDT_FLAG_W,PAR,PAR_FLAG_W,SPAR,SPAR_FLAG_W
,,,,,,,,,,,METERS,DBAR,ITS-90,PSS-78,,PSS-78,,UMOL/KG,,UMOL/KG,,UMOL/KG,,UMOL/KG,,UMOL/KG,,UMOL/KG,,UMOL/KG,,DEG C,UMOL/KG,,UMOL/KG,,UG/KG,,UG/KG,,MG/M^3,,VOLTS,,VOLTS,,VOLTS,
320620030705, SBI, 43, 1, 124, 24, 2, 20030717, 423, 72.0554, -151.6596, 2495,      2.1,  -1.1119,  28.8553, 2,  28.3737, 2,    369.9, 2,    406.7, 2,     3.93, 2,     0.09, 2,     0.00, 2,     0.68, 2,    72.70, 2,  -1.1119,     0.01, 2, 0, 2,     0.12, 2,     0.06, 2,   0.7710, 2, -999.000, 2, -999.000, 9, 4.723, 2
320620030705, SBI, 43, 1, 123, 23, 2, 20030717, 422, 72.0554, -151.6596, 2495,     17.4,  -1.4232,  30.5206, 2, -999.0000, 9,    370.5, 2,    406.4, 2,     5.33, 2,     0.41, 2,     0.05, 2,     0.79, 2,    72.50, 2,  -1.4235,     0.05, 2, 0.01, 2,     0.27, 2,     0.36, 2,   1.0690, 2, -999.000, 2, -999.000, 9, 4.719, 2
320620030705, SBI, 43, 1, 122, 22, 2, 20030717, 420, 72.0554, -151.6596, 2495,     34.1,  -1.5398,  30.8182, 2, -999.0000, 9,    364.8, 2,    401.3, 2,     5.93, 2,     0.80, 2,     0.10, 2,     0.84, 2,  -999.00, 9,  -1.5403,     0.10, 2, 0.02, 2,     0.34, 2,     0.48, 2,   1.2880, 2, -999.000, 2, -999.000, 9, 4.709, 2
320620030705, SBI, 43, 1, 121, 21, 2, 20030717, 419, 72.0554, -151.6596, 2495,     45.1,  -1.5332,  31.0053, 2, -999.0000, 9,    358.6, 2,    395.8, 2,     6.52, 2,     1.08, 2,     0.10, 2,     0.89, 2,    72.10, 2,  -1.5339,     0.32, 2, 0.04, 2,     0.32, 2,     0.39, 2,   1.2090, 2, -999.000, 2, -999.000, 9, 4.701, 2
320620030705, SBI, 43, 1, 120, 20, 2, 20030717, 418, 72.0554, -151.6596, 2495,     62.4,  -0.9336,  31.8003, 2, -999.0000, 9,    323.5, 2,    351.3, 2,    16.67, 2,     5.62, 2,     0.12, 2,     1.24, 2,    67.10, 2,  -0.9350,     0.31, 2, 0.03, 2,     0.15, 2,     0.16, 2,   0.9580, 2, -999.000, 2, -999.000, 9, 4.686, 2
320620030705, SBI, 43, 1, 119, 19, 2, 20030717, 416, 72.0554, -151.6596, 2495,     77.2,  -1.2284,  32.1312, 2, -999.0000, 9,    300.3, 2,    331.4, 2,    18.89, 2,     8.01, 2,     0.05, 2,     1.39, 2,    65.90, 2,  -1.2300,     0.19, 2, 0.02, 2,  -999.00, 9,  -999.00, 9,   0.9510, 2, -999.000, 2, -999.000, 9, 4.670, 2
320620030705, SBI, 43, 1, 118, 18, 2, 20030717, 415, 72.0554, -151.6596, 2495,     92.1,  -0.7339,  32.3985, 2, -999.0000, 9,    304.2, 2,    333.5, 2,    21.01, 2,     5.89, 2,     0.10, 2,     1.34, 2,    65.40, 2,  -0.7362,     1.55, 2, 0.11, 2,  -999.00, 9,  -999.00, 9,   0.8560, 2, -999.000, 2, -999.000, 9, 4.652, 2
320620030705, SBI, 43, 1, 117, 17, 2, 20030717, 414, 72.0554, -151.6596, 2495,    107.4,  -1.5115,  32.5673, 2, -999.0000, 9,    277.1, 2,    305.0, 2,    26.08, 2,    11.77, 2,     0.01, 2,     1.62, 2,    64.70, 2,  -1.5135,     0.00, 2, 0.01, 2,     0.01, 2,     0.02, 2,   0.6250, 2, -999.000, 2, -999.000, 9, 4.635, 2
320620030705, SBI, 43, 1, 116, 16, 2, 20030717, 413, 72.0554, -151.6596, 2495,    122.4,  -1.5384,  32.7458, 2, -999.0000, 9,    270.8, 2,    299.3, 2,    28.91, 2,    12.74, 2,     0.02, 2,     1.67, 2,    63.90, 2,  -1.5408,     0.02, 2, 0.01, 2,  -999.00, 9,  -999.00, 9,   0.8950, 2, -999.000, 2, -999.000, 9, 4.625, 2
320620030705, SBI, 43, 1, 115, 15, 2, 20030717, 412, 72.0554, -151.6596, 2495,    137.5,  -1.5585,  32.9363, 2, -999.0000, 9,    267.2, 2,    295.1, 2,    31.35, 2,    13.63, 2,     0.01, 2,     1.71, 2,  -999.00, 9,  -1.5612,     0.00, 2, 0.01, 2,  -999.00, 9,  -999.00, 9,   0.6690, 2, -999.000, 2, -999.000, 9, 4.624, 2
320620030705, SBI, 43, 1, 114, 14, 2, 20030717, 410, 72.0554, -151.6596, 2495,    152.5,  -1.5096,  33.1896, 2, -999.0000, 9,    262.7, 2,    290.4, 2,    31.94, 2,    14.15, 2,     0.01, 2,     1.69, 2,    62.50, 2,  -1.5128,     0.00, 2, 0.01, 2,  -999.00, 9,  -999.00, 9,   0.6640, 2, -999.000, 2, -999.000, 9, 4.621, 2
320620030705, SBI, 43, 1, 113, 13, 2, 20030717, 409, 72.0554, -151.6596, 2495,    167.7,  -1.3980,  33.5032, 2, -999.0000, 9,    265.4, 2,    293.2, 2,    29.48, 2,    13.58, 2,     0.01, 2,     1.58, 2,    62.10, 2,  -1.4018,     0.00, 2, 0.02, 2,  -999.00, 9,  -999.00, 9,   0.6690, 2, -999.000, 2, -999.000, 9, 4.612, 2
320620030705, SBI, 43, 1, 112, 12, 2, 20030717, 407, 72.0554, -151.6596, 2495,    190.1,  -1.2690,  33.9757, 2, -999.0000, 9,    267.3, 2,    300.9, 2,    26.60, 2,    13.01, 2,     0.01, 2,     1.49, 2,  -999.00, 9,  -1.2737,     0.00, 2, 0.02, 2,  -999.00, 9,  -999.00, 9,   0.5910, 2, -999.000, 2, -999.000, 9, 4.593, 2
320620030705, SBI, 43, 1, 111, 11, 2, 20030717, 406, 72.0554, -151.6596, 2495,    210.1,  -1.0422,  34.2711, 2,  34.2634, 2,    268.0, 2,    296.6, 2,    23.12, 2,    13.21, 2,     0.01, 2,     1.37, 2,    59.30, 2,  -1.0480,     0.00, 2, 0.02, 2,     0.01, 2,     0.03, 2,   0.5960, 2, -999.000, 2, -999.000, 9, 4.580, 2
320620030705, SBI, 43, 1, 110, 10, 2, 20030717, 405, 72.0554, -151.6596, 2495,    229.2,  -0.6714,  34.4325, 2,  34.4428, 2,    263.9, 2,    289.5, 2,    19.35, 2,    12.89, 2,     0.01, 2,     1.22, 2,    56.70, 2,  -0.6785,     0.00, 2, 0.02, 2,  -999.00, 9,  -999.00, 9,   0.6330, 2, -999.000, 2, -999.000, 9, 4.553, 2
320620030705, SBI, 43, 1, 109, 9, 2, 20030717, 403, 72.0554, -151.6596, 2495,    274.4,   0.0937,  34.6725, 2,  34.6899, 2,    262.2, 2,    286.1, 2,    12.93, 2,    13.10, 2,     0.01, 2,     1.04, 2,  -999.00, 9,   0.0831,     0.00, 2, 0.02, 2,  -999.00, 9,  -999.00, 9,   0.8570, 2, -999.000, 2, -999.000, 9, 4.581, 2
320620030705, SBI, 43, 1, 108, 8, 2, 20030717, 400, 72.0554, -151.6596, 2495,    349.7,   0.5785,  34.8007, 2,  34.8026, 2,    267.1, 2,    290.7, 2,     8.65, 2,    12.84, 2,     0.01, 2,     0.91, 2,  -999.00, 9,   0.5633,     0.00, 2, 0.01, 2,  -999.00, 9,  -999.00, 9,   0.5330, 2, -999.000, 2, -999.000, 9, 4.612, 2
320620030705, SBI, 43, 1, 107, 7, 2, 20030717, 356, 72.0554, -151.6596, 2495,    511.2,   0.5149,  34.8446, 2,  34.8461, 2,    271.2, 2,    296.9, 2,     7.32, 2,    12.74, 2,     0.00, 2,     0.87, 2,  -999.00, 9,   0.4922,     0.00, 2, 0.02, 2,  -999.00, 9,  -999.00, 9,   0.7230, 2, -999.000, 2, -999.000, 9, 4.561, 2
320620030705, SBI, 43, 1, 106, 6, 2, 20030717, 351, 72.0554, -151.6596, 2495,    712.2,   0.2625,  34.8633, 2,  34.8642, 2,    272.4, 2,    298.3, 2,     7.40, 2,    12.79, 2,     0.00, 2,     0.89, 2,  -999.00, 9,   0.2310,     0.00, 2, 0.01, 2,  -999.00, 9,  -999.00, 9,   0.5890, 2, -999.000, 2, -999.000, 9, 4.606, 2
320620030705, SBI, 43, 1, 105, 5, 2, 20030717, 343, 72.0554, -151.6596, 2495,   1014.8,  -0.0510,  34.8834, 2,  34.8841, 2,    271.9, 2,    299.7, 2,     7.90, 2,    12.90, 2,     0.00, 2,     0.90, 2,  -999.00, 9,  -0.0960,     0.00, 2, 0.01, 2,  -999.00, 9,  -999.00, 9,   0.5320, 2, -999.000, 2, -999.000, 9, 4.638, 2
320620030705, SBI, 43, 1, 104, 4, 2, 20030717, 332, 72.0554, -151.6596, 2495,   1517.4,  -0.3338,  34.9176, 2,  34.9107, 2,    268.9, 2,    298.1, 2,     9.21, 2,    13.57, 2,     0.00, 2,     0.95, 2,  -999.00, 9,  -0.4044,     0.00, 2, 0.01, 2,  -999.00, 9,  -999.00, 9,   0.4900, 2, -999.000, 2, -999.000, 9, 4.534, 2
320620030705, SBI, 43, 1, 103, 3, 2, 20030717, 320, 72.0554, -151.6596, 2495,   2023.3,  -0.4048,  34.9427, 2,  34.9422, 2,    261.0, 2,    290.1, 2,    12.03, 2,    14.40, 2,     0.00, 2,     1.02, 2,  -999.00, 9,  -0.5067,     0.00, 2, 0.01, 2,  -999.00, 9,  -999.00, 9,   0.3810, 2, -999.000, 2, -999.000, 9, 4.551, 2
320620030705, SBI, 43, 1, 102, 2, 2, 20030717, 310, 72.0554, -151.6596, 2495,   2429.0,  -0.3796,  34.9537, 2,  34.9486, 2,    254.9, 2,    283.0, 2,    14.96, 2,    14.77, 2,     0.01, 2,     1.06, 2,  -999.00, 9,  -0.5108,     0.00, 2, 0, 2,  -999.00, 9,  -999.00, 9,   0.7690, 2, -999.000, 2, -999.000, 9, 4.679, 2
320620030705, SBI, 43, 1, 101, 1, 2, 20030717, 306, 72.0554, -151.6596, 2495,   2526.4,  -0.3713,  34.9564, 2,  34.9516, 2,    254.3, 2,    282.1, 2,    15.16, 2,    14.77, 2,     0.01, 2,     1.06, 2,  -999.00, 9,  -0.5100,     0.00, 2, 0, 2,  -999.00, 9,  -999.00, 9,   0.6260, 2, -999.000, 2, -999.000, 9, 4.612, 2
320620030705, SBI, 44, 1, 124, 24, 2, 20030717, 823, 71.9523, -151.7351, 2016,      2.3,  -0.4097,  29.3972, 2,  28.9349, 2,    365.4, 2,    399.2, 2,     7.38, 2,     0.13, 2,     0.00, 2,     0.76, 2,  -999.00, 9,  -0.4097,     0.23, 2, 0, 2,     0.14, 2,     0.05, 2,   0.9990, 2, -999.000, 2, -999.000, 9, 4.943, 2
320620030705, SBI, 44, 1, 123, 23, 2, 20030717, 822, 71.9523, -151.7351, 2016,     18.7,  -1.3828,  31.0596, 2, -999.0000, 9,    361.4, 2,    393.9, 2,     7.46, 2,     1.15, 2,     0.07, 2,     0.89, 2,    73.20, 2,  -1.3831,     0.20, 2, 0.02, 2,     0.56, 2,     0.27, 2,   1.1900, 2, -999.000, 2, -999.000, 9, 4.943, 2
320620030705, SBI, 44, 1, 122, 22, 2, 20030717, 819, 71.9523, -151.7351, 2016,     26.3,   1.2528,  31.5168, 2, -999.0000, 9,    359.8, 2,    389.0, 2,    11.70, 2,     0.42, 2,     0.02, 2,     0.88, 2,    72.10, 2,   1.2517,     0.66, 2, 0.07, 2,     1.84, 2,     0.32, 2,   1.4090, 2, -999.000, 2, -999.000, 9, 4.942, 2
320620030705, SBI, 44, 1, 121, 21, 2, 20030717, 817, 71.9523, -151.7351, 2016,     38.7,  -0.7953,  31.7010, 2, -999.0000, 9,    336.5, 2,   -999.0, 9,  -999.00, 9,  -999.00, 9,  -999.00, 9,  -999.00, 9,  -999.00, 9,  -0.7962,  -999.00, 9, -999, 9,  -999.00, 9,  -999.00, 9,   1.2090, 2, -999.000, 2, -999.000, 9, 4.939, 2
320620030705, SBI, 44, 1, 120, 20, 2, 20030717, 816, 71.9523, -151.7351, 2016,     38.7,  -0.8407,  31.6963, 2, -999.0000, 9,    335.2, 2,    369.8, 2,    15.94, 2,     3.35, 2,     0.12, 2,     1.16, 2,    70.80, 2,  -0.8416,     0.94, 2, 0.06, 2,     0.51, 2,     0.27, 2,   1.1940, 2, -999.000, 2, -999.000, 9, 4.939, 2
320620030705, SBI, 44, 1, 119, 19, 2, 20030717, 811, 71.9523, -151.7351, 2016,     58.7,  -0.8085,  32.0045, 2, -999.0000, 9,    332.5, 2,   -999.0, 9,    19.77, 2,     4.50, 2,     0.14, 2,     1.25, 2,    72.80, 2,  -0.8099,     1.29, 2, 0.08, 2,     0.16, 2,     0.19, 2,   0.9080, 2, -999.000, 2, -999.000, 9, 4.940, 2
320620030705, SBI, 44, 1, 118, 18, 2, 20030717, 809, 71.9523, -151.7351, 2016,     78.9,  -1.3660,  32.1536, 2, -999.0000, 9,    305.4, 2,    339.1, 2,    19.96, 2,     7.19, 2,     0.09, 2,     1.37, 2,    66.60, 2,  -1.3675,     0.58, 2, 0.03, 2,     0.10, 2,     0.13, 2,   0.9090, 2, -999.000, 2, -999.000, 9, 4.946, 2
320620030705, SBI, 44, 1, 117, 17, 2, 20030717, 807, 71.9523, -151.7351, 2016,     93.8,  -0.4338,  32.3086, 2, -999.0000, 9,    315.8, 2,    343.2, 2,    18.73, 2,     4.25, 2,     0.12, 2,     1.25, 2,  -999.00, 9,  -0.4364,     1.49, 2, 0.09, 2,     0.09, 2,     0.13, 2,   0.8910, 2, -999.000, 2, -999.000, 9, 4.949, 2
320620030705, SBI, 44, 1, 116, 16, 2, 20030717, 802, 71.9523, -151.7351, 2016,    108.5,  -0.9043,  32.3886, 2, -999.0000, 9,    309.4, 2,    342.5, 2,    19.94, 2,     5.04, 2,     0.12, 2,     1.29, 2,    66.20, 2,  -0.9069,     1.51, 2, 0.07, 2,     0.06, 2,     0.14, 2,   0.7880, 2, -999.000, 2, -999.000, 9, 4.952, 2
320620030705, SBI, 44, 1, 115, 15, 2, 20030717, 800, 71.9523, -151.7351, 2016,    123.7,  -1.4626,  32.5122, 2, -999.0000, 9,    294.2, 2,    323.8, 2,    23.88, 2,     8.50, 2,     0.09, 2,     1.49, 2,    65.60, 2,  -1.4650,     0.77, 2, 0.03, 2,  -999.00, 9,  -999.00, 9,   0.8090, 2, -999.000, 2, -999.000, 9, 4.949, 2
320620030705, SBI, 44, 1, 114, 14, 2, 20030717, 758, 71.9523, -151.7351, 2016,    138.2,  -1.5511,  32.7075, 2, -999.0000, 9,    279.1, 2,    304.7, 2,    27.62, 2,    11.82, 2,     0.04, 2,     1.62, 2,    65.40, 2,  -1.5538,     0.09, 2, 0.01, 2,  -999.00, 9,  -999.00, 9,   0.8760, 2, -999.000, 2, -999.000, 9, 4.948, 2
320620030705, SBI, 44, 1, 113, 13, 2, 20030717, 756, 71.9523, -151.7351, 2016,    153.3,  -1.5809,  32.9492, 2, -999.0000, 9,    272.8, 2,    300.1, 2,    30.35, 2,    13.15, 2,     0.01, 2,     1.68, 2,  -999.00, 9,  -1.5839,     0.01, 2, 0.01, 2,  -999.00, 9,  -999.00, 9,   0.6510, 2, -999.000, 2, -999.000, 9, 4.946, 2
320620030705, SBI, 44, 1, 112, 12, 2, 20030717, 754, 71.9523, -151.7351, 2016,    173.3,  -1.4906,  33.3871, 2, -999.0000, 9,    270.1, 2,    297.1, 2,    29.83, 2,    13.25, 2,     0.01, 2,     1.63, 2,    64.40, 2,  -1.4943,     0.01, 2, 0.01, 2,  -999.00, 9,  -999.00, 9,   0.7360, 2, -999.000, 2, -999.000, 9, 4.945, 2
320620030705, SBI, 44, 1, 111, 11, 2, 20030717, 752, 71.9523, -151.7351, 2016,    194.2,  -1.2810,  33.9141, 2,  33.9670, 2,    270.9, 2,    292.9, 2,    26.45, 2,    13.46, 2,     0.01, 2,     1.49, 2,    63.20, 2,  -1.2858,     0.00, 2, 0.04, 2,  -999.00, 9,  -999.00, 9,   0.8460, 2, -999.000, 2, -999.000, 9, 4.943, 2
320620030705, SBI, 44, 1, 110, 10, 2, 20030717, 750, 71.9523, -151.7351, 2016,    215.6,  -1.0452,  34.2635, 2,  34.2790, 2,    272.3, 2,    295.7, 2,    22.79, 2,    12.93, 2,     0.01, 2,     1.38, 2,    60.70, 2,  -1.0511,     0.00, 2, 0.03, 2,     0.01, 2,     0.03, 2,   0.8730, 2, -999.000, 2, -999.000, 9, 4.941, 2
320620030705, SBI, 44, 1, 109, 9, 2, 20030717, 749, 71.9523, -151.7351, 2016,    234.8,  -0.6060,  34.4715, 2,  34.5103, 2,    266.3, 2,    287.5, 2,    17.52, 2,    12.98, 2,     0.01, 2,     1.19, 2,    56.20, 2,  -0.6135,     0.00, 2, 0.03, 2,  -999.00, 9,  -999.00, 9,   0.7520, 2, -999.000, 2, -999.000, 9, 4.940, 2
320620030705, SBI, 44, 1, 108, 8, 2, 20030717, 747, 71.9523, -151.7351, 2016,    270.1,   0.0512,  34.6607, 2,  34.6625, 2,    263.3, 2,    285.8, 2,    13.15, 2,    13.03, 2,     0.00, 2,     1.06, 2,  -999.00, 9,   0.0409,     0.00, 2, 0, 2,  -999.00, 9,  -999.00, 9,   0.5540, 2, -999.000, 2, -999.000, 9, 4.939, 2
320620030705, SBI, 44, 1, 107, 7, 2, 20030717, 744, 71.9523, -151.7351, 2016,    362.7,   0.5559,  34.7967, 2,  34.7962, 2,    266.2, 2,    288.0, 2,     9.19, 2,    12.92, 2,     0.00, 2,     0.94, 2,  -999.00, 9,   0.5402,     0.00, 2, 0, 2,  -999.00, 9,  -999.00, 9,   0.8070, 2, -999.000, 2, -999.000, 9, 4.940, 2
320620030705, SBI, 44, 1, 106, 6, 2, 20030717, 739, 71.9523, -151.7351, 2016,    483.2,   0.5088,  34.8349, 2,  34.8364, 2,    270.7, 2,    293.8, 2,     7.96, 2,    12.76, 2,     0.00, 2,     0.91, 2,  -999.00, 9,   0.4875,     0.00, 2, 0.02, 2,  -999.00, 9,  -999.00, 9,   0.5250, 2, -999.000, 2, -999.000, 9, 4.942, 2
320620030705, SBI, 44, 1, 105, 5, 2, 20030717, 735, 71.9523, -151.7351, 2016,    614.0,   0.3757,  34.8547, 2,  34.8455, 2,    272.2, 2,    296.7, 2,     7.64, 2,    12.76, 2,     0.00, 2,     0.91, 2,  -999.00, 9,   0.3486,     0.00, 2, 0.01, 2,  -999.00, 9,  -999.00, 9,   0.5610, 2, -999.000, 2, -999.000, 9, 4.938, 2
320620030705, SBI, 44, 1, 104, 4, 2, 20030717, 726, 71.9523, -151.7351, 2016,    913.6,   0.0239,  34.8774, 2,  34.8721, 2,    273.3, 2,    298.8, 2,     7.73, 2,    12.81, 2,     0.00, 2,     0.92, 2,  -999.00, 9,  -0.0163,     0.00, 2, 0.01, 2,  -999.00, 9,  -999.00, 9,   0.7560, 2, -999.000, 2, -999.000, 9, 4.934, 2
320620030705, SBI, 44, 1, 103, 3, 2, 20030717, 712, 71.9523, -151.7351, 2016,   1419.6,  -0.3044,  34.9121, 2,  34.9117, 2,    270.6, 2,    297.8, 2,     9.04, 2,    13.49, 2,     0.00, 2,     0.96, 2,  -999.00, 9,  -0.3695,     0.00, 2, 0, 2,  -999.00, 9,  -999.00, 9,   0.5330, 2, -999.000, 2, -999.000, 9, 4.921, 2
320620030705, SBI, 44, 1, 102, 2, 2, 20030717, 658, 71.9523, -151.7351, 2016,   1918.7,  -0.4103,  34.9433, 2,  34.8720, 0,    261.7, 2,    288.8, 2,    12.27, 2,    14.41, 2,     0.00, 2,     1.02, 2,  -999.00, 9,  -0.5051,     0.00, 2, 0, 2,  -999.00, 9,  -999.00, 9,   0.7160, 2, -999.000, 2, -999.000, 9, 4.915, 2
320620030705, SBI, 44, 1, 101, 1, 2, 20030717, 653, 71.9523, -151.7351, 2016,   2037.2,  -0.4085,  34.9476, 2,  34.9420, 2,    260.6, 2,    288.8, 2,    12.76, 2,    14.52, 2,     0.00, 2,     1.03, 2,  -999.00, 9,  -0.5113,     0.00, 2, 0, 2,  -999.00, 9,  -999.00, 9,   0.6930, 2, -999.000, 2, -999.000, 9, 4.908, 2