BOTTLE,20100423CCHDOSIODBK
EXPOCODE,SECT_ID,STNNBR,CASTNO,SAMPNO,BTLNBR,BTLNBR_FLAG_W,DATE,TIME,LATITUDE,LONGITUDE,DEPTH,CTDPRS,CTDTMP,CTDSAL,CTDSAL_FLAG_W,SALNTY,SALNTY_FLAG_W,CTDOXY,CTDOXY_FLAG_W,OXYGEN,OXYGEN_FLAG_W,SILCAT,SILCAT_FLAG_W,NITRAT,NITRAT_FLAG_W,NITRIT,NITRIT_FLAG_W,PHSPHT,PHSPHT_FLAG_W,DOC,DOC_FLAG_W,THETA,NH4,NH4_FLAG_W,UREA,UREA_FLAG_W,CHLORA,CHLORA_FLAG_W,PPHYTN,PPHYTN_FLAG_W,FLUOR,FLUOR_FLAG_W,HAARDT,HAARDT_FLAG_W,PAR,PAR_FLAG_W,SPAR,SPAR_FLAG_W
,,,,,,,,,,,METERS,DBAR,ITS-90,PSS-78,,PSS-78,,UMOL/KG,,UMOL/KG,,UMOL/KG,,UMOL/KG,,UMOL/KG,,UMOL/KG,,UMOL/KG,,DEG C,UMOL/KG,,UMOL/KG,,UG/KG,,UG/KG,,MG/M^3,,VOLTS,,VOLTS,,VOLTS,
320620030705, SBI, 319, 1, 113, 13, 2, 20030816, 539, 71.5273, -149.0620, 2395,      9.1,  -0.0016,  28.2716, 2,  28.2672, 2,    340.9, 2,    373.3, 2,     3.10, 2,     0.10, 2,     0.00, 2,     0.65, 2,  -999.00, 9,  -0.0018,     0.01, 2, 0, 2,     0.10, 2,     0.03, 2,   0.7960, 2, -999.000, 2, -999.000, 9, 4.965, 2
320620030705, SBI, 319, 1, 112, 12, 2, 20030816, 537, 71.5273, -149.0620, 2395,     25.4,  -0.5822,  29.0671, 2, -999.0000, 9,    350.3, 2,    401.3, 2,     2.97, 2,     0.05, 2,     0.00, 2,     0.71, 2,  -999.00, 9,  -0.5827,     0.01, 2, 0, 2,     0.10, 2,     0.05, 2,   0.8430, 2, -999.000, 2, -999.000, 9, 4.964, 2
320620030705, SBI, 319, 1, 111, 11, 2, 20030816, 534, 71.5273, -149.0620, 2395,     40.1,  -1.1845,  30.4877, 2, -999.0000, 9,    363.7, 2,    398.9, 2,     5.25, 2,     0.21, 2,     0.06, 2,     0.82, 2,  -999.00, 9,  -1.1852,     0.03, 2, 0.01, 2,     0.27, 2,     0.26, 2,   1.0860, 2, -999.000, 2, -999.000, 9, 4.962, 2
320620030705, SBI, 319, 1, 110, 10, 2, 20030816, 532, 71.5273, -149.0620, 2395,     55.4,  -0.9914,  31.7938, 2, -999.0000, 9,    321.9, 2,    342.3, 2,    12.57, 2,     5.64, 2,     0.14, 2,     1.24, 2,  -999.00, 9,  -0.9926,     0.02, 2, 0.01, 2,     0.29, 2,     0.40, 2,   1.2300, 2, -999.000, 2, -999.000, 9, 4.961, 2
320620030705, SBI, 319, 1, 109, 9, 2, 20030816, 530, 71.5273, -149.0620, 2395,     65.4,  -1.1820,  32.0526, 2, -999.0000, 9,    303.2, 2,    327.7, 2,    16.79, 2,     7.99, 2,     0.04, 2,     1.42, 2,  -999.00, 9,  -1.1833,     0.10, 2, 0.01, 2,     0.18, 2,     0.15, 2,   1.1100, 2, -999.000, 2, -999.000, 9, 4.959, 2
320620030705, SBI, 319, 1, 108, 8, 2, 20030816, 528, 71.5273, -149.0620, 2395,     85.6,  -1.1509,  32.3120, 2, -999.0000, 9,    309.4, 2,    334.7, 2,    21.53, 2,     7.12, 2,     0.13, 2,     1.50, 2,  -999.00, 9,  -1.1527,     1.73, 2, 0.1, 2,  -999.00, 9,  -999.00, 9,   0.8370, 2, -999.000, 2, -999.000, 9, 4.957, 2
320620030705, SBI, 319, 1, 107, 7, 2, 20030816, 527, 71.5273, -149.0620, 2395,    105.6,  -1.4618,  32.6572, 2, -999.0000, 9,    272.6, 2,    294.5, 2,    27.71, 2,    12.86, 2,     0.01, 2,     1.74, 2,  -999.00, 9,  -1.4639,     0.01, 2, 0.01, 2,  -999.00, 9,  -999.00, 9,   0.6680, 2, -999.000, 2, -999.000, 9, 4.956, 2
320620030705, SBI, 319, 1, 106, 6, 2, 20030816, 525, 71.5273, -149.0620, 2395,    125.9,  -1.5316,  32.8345, 2, -999.0000, 9,    268.4, 2,    288.9, 2,    31.06, 2,    13.92, 2,     0.01, 2,     1.80, 2,  -999.00, 9,  -1.5341,     0.01, 2, 0.01, 2,  -999.00, 9,  -999.00, 9,   0.7020, 2, -999.000, 2, -999.000, 9, 4.956, 2
320620030705, SBI, 319, 1, 105, 5, 2, 20030816, 523, 71.5273, -149.0620, 2395,    145.7,  -1.5375,  33.0336, 2, -999.0000, 9,    265.7, 2,    285.4, 2,    33.79, 2,    14.97, 2,     0.01, 2,     1.86, 2,  -999.00, 9,  -1.5404,     0.01, 2, 0, 2,  -999.00, 9,  -999.00, 9,   0.7750, 2, -999.000, 2, -999.000, 9, 4.955, 2
320620030705, SBI, 319, 1, 104, 4, 2, 20030816, 521, 71.5273, -149.0620, 2395,    165.9,  -1.4347,  33.3105, 2, -999.0000, 9,    259.2, 2,    279.4, 2,    32.94, 2,    14.91, 2,     0.01, 2,     1.79, 2,  -999.00, 9,  -1.4383,     0.00, 2, 0.02, 2,  -999.00, 9,  -999.00, 9,   0.6660, 2, -999.000, 2, -999.000, 9, 4.954, 2
320620030705, SBI, 319, 1, 103, 3, 2, 20030816, 520, 71.5273, -149.0620, 2395,    186.1,  -1.3886,  33.6134, 2, -999.0000, 9,    270.0, 2,   -999.0, 9,  -999.00, 9,  -999.00, 9,  -999.00, 9,  -999.00, 9,  -999.00, 9,  -1.3929,  -999.00, 9, -999, 9,  -999.00, 9,  -999.00, 9,   0.6860, 2, -999.000, 2, -999.000, 9, 4.952, 2
320620030705, SBI, 319, 1, 102, 2, 2, 20030816, 518, 71.5273, -149.0620, 2395,    205.7,  -1.0958,  34.0826, 2,  34.1547, 2,    268.6, 2,    287.8, 2,    23.94, 2,    13.33, 2,     0.01, 2,     1.45, 2,  -999.00, 9,  -1.1013,     0.00, 2, 0.01, 2,  -999.00, 9,  -999.00, 9,   0.8500, 2, -999.000, 2, -999.000, 9, 4.951, 2
320620030705, SBI, 319, 1, 101, 1, 2, 20030816, 510, 71.5273, -149.0620, 2395,    507.5,   0.4941,  34.8380, 2,  34.8380, 2,    275.3, 2,    293.3, 2,     7.81, 2,    12.70, 2,     0.00, 2,     0.93, 2,  -999.00, 9,   0.4717,     0.00, 2, 0.02, 2,  -999.00, 9,  -999.00, 9,   0.6720, 2, -999.000, 2, -999.000, 9, 4.947, 2
320620030705, SBI, 320, 1, 114, 14, 2, 20030816, 735, 71.5767, -149.0392, 2509,      8.7,  -0.3748,  27.9879, 2,  27.9832, 2,    351.3, 2,    376.8, 2,     2.37, 2,     0.09, 2,     0.00, 2,     0.64, 2,  -999.00, 9,  -0.3750,     0.01, 2, 0, 2,  -999.00, 9,  -999.00, 9,   0.7220, 2, -999.000, 2, -999.000, 9, 5.000, 2
320620030705, SBI, 320, 1, 113, 13, 2, 20030816, 733, 71.5767, -149.0392, 2509,     25.7,  -0.6888,  28.6872, 2, -999.0000, 9,    367.6, 2,    397.0, 2,     2.84, 2,     0.03, 2,     0.00, 2,     0.69, 2,  -999.00, 9,  -0.6893,     0.01, 2, 0, 2,  -999.00, 9,  -999.00, 9,   0.7320, 2, -999.000, 2, -999.000, 9, 5.000, 2
320620030705, SBI, 320, 1, 112, 12, 2, 20030816, 732, 71.5767, -149.0392, 2509,     45.7,  -1.0436,  30.8780, 2, -999.0000, 9,    352.6, 2,    382.4, 2,     7.15, 2,     1.07, 2,     0.19, 2,     0.94, 2,  -999.00, 9,  -1.0445,     0.03, 2, 0.01, 2,  -999.00, 9,  -999.00, 9,   1.2650, 2, -999.000, 2, -999.000, 9, 5.000, 2
320620030705, SBI, 320, 1, 111, 11, 2, 20030816, 730, 71.5767, -149.0392, 2509,     65.4,  -1.2001,  32.0823, 2, -999.0000, 9,    302.9, 2,    328.3, 2,    16.64, 2,     7.96, 2,     0.04, 2,     1.41, 2,  -999.00, 9,  -1.2014,     0.01, 2, 0, 2,  -999.00, 9,  -999.00, 9,   1.0910, 2, -999.000, 2, -999.000, 9, 5.000, 2
320620030705, SBI, 320, 1, 110, 10, 2, 20030816, 730, 71.5767, -149.0392, 2509,     65.5,  -1.2103,  32.0957, 2, -999.0000, 9,    302.0, 2,   -999.0, 9,  -999.00, 9,  -999.00, 9,  -999.00, 9,  -999.00, 9,  -999.00, 9,  -1.2116,  -999.00, 9, -999, 9,  -999.00, 9,  -999.00, 9,   1.0740, 2, -999.000, 2, -999.000, 9, 5.000, 2
320620030705, SBI, 320, 1, 109, 9, 2, 20030816, 729, 71.5767, -149.0392, 2509,     65.5,  -1.2103,  32.1008, 2, -999.0000, 9,    301.0, 2,   -999.0, 9,  -999.00, 9,  -999.00, 9,  -999.00, 9,  -999.00, 9,  -999.00, 9,  -1.2116,  -999.00, 9, -999, 9,  -999.00, 9,  -999.00, 9,   1.0890, 2, -999.000, 2, -999.000, 9, 5.000, 2
320620030705, SBI, 320, 1, 108, 8, 2, 20030816, 728, 71.5767, -149.0392, 2509,     85.7,  -1.3404,  32.4282, 2, -999.0000, 9,    280.3, 2,    302.5, 2,    24.15, 2,    11.42, 2,     0.01, 2,     1.66, 2,  -999.00, 9,  -1.3421,     0.00, 2, 0, 2,  -999.00, 9,  -999.00, 9,   0.6870, 2, -999.000, 2, -999.000, 9, 5.000, 2
320620030705, SBI, 320, 1, 107, 7, 2, 20030816, 726, 71.5767, -149.0392, 2509,    105.6,  -1.4620,  32.6390, 2, -999.0000, 9,    272.2, 2,    295.5, 2,    28.22, 2,    12.90, 2,     0.00, 2,     1.74, 2,  -999.00, 9,  -1.4641,     0.00, 2, 0, 2,  -999.00, 9,  -999.00, 9,   0.6320, 2, -999.000, 2, -999.000, 9, 5.000, 2
320620030705, SBI, 320, 1, 106, 6, 2, 20030816, 724, 71.5767, -149.0392, 2509,    125.6,  -1.5270,  32.8197, 2, -999.0000, 9,    267.7, 2,    288.6, 2,    32.08, 2,    14.38, 2,     0.00, 2,     1.83, 2,  -999.00, 9,  -1.5295,     0.00, 2, 0, 2,  -999.00, 9,  -999.00, 9,   0.7030, 2, -999.000, 2, -999.000, 9, 5.000, 2
320620030705, SBI, 320, 1, 105, 5, 2, 20030816, 723, 71.5767, -149.0392, 2509,    145.8,  -1.5408,  33.0157, 2, -999.0000, 9,    264.0, 2,    286.3, 2,    33.29, 2,    14.86, 2,     0.00, 2,     1.83, 2,  -999.00, 9,  -1.5437,     0.01, 2, 0.02, 2,  -999.00, 9,  -999.00, 9,   0.7430, 2, -999.000, 2, -999.000, 9, 5.000, 2
320620030705, SBI, 320, 1, 104, 4, 2, 20030816, 721, 71.5767, -149.0392, 2509,    166.1,  -1.4777,  33.2354, 2, -999.0000, 9,    258.9, 2,    280.5, 2,    33.48, 2,    15.07, 2,     0.00, 2,     1.81, 2,  -999.00, 9,  -1.4812,     0.01, 2, 0, 2,  -999.00, 9,  -999.00, 9,   0.6690, 2, -999.000, 2, -999.000, 9, 5.000, 2
320620030705, SBI, 320, 1, 103, 3, 2, 20030816, 719, 71.5767, -149.0392, 2509,    186.0,  -1.3241,  33.6194, 2, -999.0000, 9,    263.5, 2,    285.4, 2,    29.36, 2,    14.05, 2,     0.01, 2,     1.63, 2,  -999.00, 9,  -1.3285,     0.01, 2, 0.02, 2,  -999.00, 9,  -999.00, 9,   0.5810, 2, -999.000, 2, -999.000, 9, 5.000, 2
320620030705, SBI, 320, 1, 102, 2, 2, 20030816, 718, 71.5767, -149.0392, 2509,    206.2,  -0.9404,  34.1686, 2,  34.1953, 2,    262.5, 2,    282.9, 2,    23.18, 2,    13.52, 2,     0.02, 2,     1.41, 2,  -999.00, 9,  -0.9462,     0.00, 2, 0.01, 2,  -999.00, 9,  -999.00, 9,   0.6640, 2, -999.000, 2, -999.000, 9, 5.000, 2
320620030705, SBI, 320, 1, 101, 1, 2, 20030816, 710, 71.5767, -149.0392, 2509,    508.0,   0.5072,  34.8359, 2,  34.8353, 2,    273.1, 2,    292.8, 2,     7.90, 2,    12.64, 2,     0.00, 2,     0.93, 2,  -999.00, 9,   0.4847,     0.00, 2, 0.03, 2,  -999.00, 9,  -999.00, 9,   0.4670, 2, -999.000, 2, -999.000, 9, 4.998, 2
320620030705, SBI, 321, 1, 112, 12, 2, 20030816, 958, 71.6261, -149.0160, 2640,      5.6,  -0.4264,  27.9355, 2,  27.9305, 2,    338.4, 2,    377.8, 2,     2.40, 2,     0.09, 2,     0.00, 2,     0.64, 2,  -999.00, 9,  -0.4265,     0.00, 2, 0, 2,  -999.00, 9,  -999.00, 9,   0.6880, 2, -999.000, 2, -999.000, 9, 5.000, 2
320620030705, SBI, 321, 1, 111, 11, 2, 20030816, 957, 71.6261, -149.0160, 2640,     26.2,  -0.4346,  27.9407, 2, -999.0000, 9,    343.7, 2,    380.6, 2,     2.57, 2,     0.09, 2,     0.00, 2,     0.65, 2,  -999.00, 9,  -0.4351,     0.00, 2, 0, 2,  -999.00, 9,  -999.00, 9,   0.8120, 2, -999.000, 2, -999.000, 9, 5.000, 2
320620030705, SBI, 321, 1, 110, 10, 2, 20030816, 955, 71.6261, -149.0160, 2640,     46.2,  -1.1440,  30.5560, 2, -999.0000, 9,    370.3, 2,    396.4, 2,     5.45, 2,     0.45, 2,     0.06, 2,     0.83, 2,  -999.00, 9,  -1.1448,     0.02, 2, 0, 2,  -999.00, 9,  -999.00, 9,   1.0330, 2, -999.000, 2, -999.000, 9, 5.000, 2
320620030705, SBI, 321, 1, 109, 9, 2, 20030816, 953, 71.6261, -149.0160, 2640,     66.3,  -1.1770,  31.9973, 2, -999.0000, 9,    304.9, 2,    326.8, 2,    16.60, 2,     7.99, 2,     0.04, 2,     1.42, 2,  -999.00, 9,  -1.1784,     0.01, 2, 0, 2,  -999.00, 9,  -999.00, 9,   1.2160, 2, -999.000, 2, -999.000, 9, 5.000, 2
320620030705, SBI, 321, 1, 108, 8, 2, 20030816, 951, 71.6261, -149.0160, 2640,     86.4,  -1.2941,  32.3423, 2, -999.0000, 9,    283.5, 2,    305.9, 2,    22.85, 2,    10.97, 2,     0.01, 2,     1.63, 2,  -999.00, 9,  -1.2959,     0.00, 2, 0, 2,  -999.00, 9,  -999.00, 9,   0.7430, 2, -999.000, 2, -999.000, 9, 5.000, 2
320620030705, SBI, 321, 1, 107, 7, 2, 20030816, 949, 71.6261, -149.0160, 2640,    106.6,  -1.4350,  32.5926, 2, -999.0000, 9,    272.6, 2,    295.0, 2,    27.10, 2,    12.65, 2,     0.01, 2,     1.73, 2,  -999.00, 9,  -1.4371,     0.00, 2, 0, 2,  -999.00, 9,  -999.00, 9,   0.7480, 2, -999.000, 2, -999.000, 9, 5.000, 2
320620030705, SBI, 321, 1, 106, 6, 2, 20030816, 947, 71.6261, -149.0160, 2640,    126.5,  -1.5134,  32.7951, 2, -999.0000, 9,    266.4, 2,    289.0, 2,    30.83, 2,    13.96, 2,     0.00, 2,     1.80, 2,  -999.00, 9,  -1.5159,     0.00, 2, 0, 2,  -999.00, 9,  -999.00, 9,   0.6060, 2, -999.000, 2, -999.000, 9, 5.000, 2
320620030705, SBI, 321, 1, 105, 5, 2, 20030816, 945, 71.6261, -149.0160, 2640,    146.3,  -1.5453,  32.9901, 2, -999.0000, 9,    264.4, 2,    285.5, 2,    33.35, 2,    14.90, 2,     0.00, 2,     1.85, 2,  -999.00, 9,  -1.5482,     0.00, 2, 0.01, 2,  -999.00, 9,  -999.00, 9,   0.7350, 2, -999.000, 2, -999.000, 9, 5.000, 2
320620030705, SBI, 321, 1, 104, 4, 2, 20030816, 944, 71.6261, -149.0160, 2640,    166.8,  -1.4822,  33.2102, 2, -999.0000, 9,    258.6, 2,    279.9, 2,    33.42, 2,    15.11, 2,     0.00, 2,     1.82, 2,  -999.00, 9,  -1.4857,     0.00, 2, 0, 2,  -999.00, 9,  -999.00, 9,   0.7770, 2, -999.000, 2, -999.000, 9, 5.000, 2
320620030705, SBI, 321, 1, 103, 3, 2, 20030816, 942, 71.6261, -149.0160, 2640,    186.5,  -1.3595,  33.5322, 2, -999.0000, 9,    258.5, 2,    280.4, 2,    31.55, 2,    14.62, 2,     0.01, 2,     1.69, 2,  -999.00, 9,  -1.3638,     0.00, 2, 0, 2,  -999.00, 9,  -999.00, 9,   0.8110, 2, -999.000, 2, -999.000, 9, 5.000, 2
320620030705, SBI, 321, 1, 102, 2, 2, 20030816, 940, 71.6261, -149.0160, 2640,    206.8,  -1.1475,  33.9589, 2,  33.9862, 2,    263.0, 2,    284.8, 2,    26.42, 2,    13.66, 2,     0.02, 2,     1.49, 2,  -999.00, 9,  -1.1529,     0.00, 2, 0.01, 2,  -999.00, 9,  -999.00, 9,   0.7680, 2, -999.000, 2, -999.000, 9, 5.000, 2
320620030705, SBI, 321, 1, 101, 1, 2, 20030816, 931, 71.6261, -149.0160, 2640,    507.8,   0.5195,  34.8325, 2,  34.8325, 2,    272.6, 2,    292.4, 2,     8.19, 2,    12.62, 2,     0.00, 2,     0.92, 2,  -999.00, 9,   0.4969,     0.00, 2, 0.01, 2,  -999.00, 9,  -999.00, 9,   0.5810, 2, -999.000, 2, -999.000, 9, 5.000, 2
320620030705, SBI, 322, 1, 112, 12, 2, 20030816, 1154, 71.6755, -148.9929, 2688,      6.3,  -0.5293,  27.8136, 2,  27.8088, 2,    339.5, 2,    378.0, 2,     2.46, 2,     0.11, 2,     0.00, 2,     0.63, 2,  -999.00, 9,  -0.5294,     0.00, 2, 0, 2,  -999.00, 9,  -999.00, 9,   0.6410, 2, -999.000, 2, -999.000, 9, 5.000, 2
320620030705, SBI, 322, 1, 111, 11, 2, 20030816, 1153, 71.6755, -148.9929, 2688,     21.5,  -0.5204,  27.8376, 2,  27.8712, 2,    347.4, 2,    378.8, 2,     2.43, 2,     0.06, 2,     0.00, 2,     0.64, 2,  -999.00, 9,  -0.5208,     0.00, 2, 0, 2,  -999.00, 9,  -999.00, 9,   0.6770, 2, -999.000, 2, -999.000, 9, 5.000, 2
320620030705, SBI, 322, 1, 110, 10, 2, 20030816, 1152, 71.6755, -148.9929, 2688,     41.6,  -1.2013,  30.2563, 2, -999.0000, 9,    374.8, 2,    403.7, 2,     3.90, 2,     0.10, 2,     0.01, 2,     0.76, 2,  -999.00, 9,  -1.2020,     0.02, 2, 0, 2,  -999.00, 9,  -999.00, 9,   0.9200, 2, -999.000, 2, -999.000, 9, 5.000, 2
320620030705, SBI, 322, 1, 109, 9, 2, 20030816, 1149, 71.6755, -148.9929, 2688,     59.5,  -0.7426,  31.7625, 2, -999.0000, 9,    330.6, 2,    353.0, 2,    12.63, 2,     4.47, 2,     0.23, 2,     1.18, 2,  -999.00, 9,  -0.7440,     0.16, 2, 0.01, 2,  -999.00, 9,  -999.00, 9,   1.2590, 2, -999.000, 2, -999.000, 9, 5.000, 2
320620030705, SBI, 322, 1, 108, 8, 2, 20030816, 1147, 71.6755, -148.9929, 2688,     81.7,  -1.2290,  32.1747, 2, -999.0000, 9,    292.9, 2,    321.3, 2,    19.99, 2,     8.90, 2,     0.05, 2,     1.49, 2,  -999.00, 9,  -1.2307,     0.18, 2, 0, 2,  -999.00, 9,  -999.00, 9,   0.9060, 2, -999.000, 2, -999.000, 9, 5.000, 2
320620030705, SBI, 322, 1, 107, 7, 2, 20030816, 1145, 71.6755, -148.9929, 2688,    101.5,  -1.3713,  32.5029, 2, -999.0000, 9,    275.6, 2,    298.0, 2,    25.85, 2,    12.10, 2,     0.01, 2,     1.69, 2,  -999.00, 9,  -1.3733,     0.01, 2, 0, 2,  -999.00, 9,  -999.00, 9,   0.7160, 2, -999.000, 2, -999.000, 9, 5.000, 2
320620030705, SBI, 322, 1, 106, 6, 2, 20030816, 1144, 71.6755, -148.9929, 2688,    121.9,  -1.4822,  32.7117, 2, -999.0000, 9,    268.8, 2,    290.8, 2,    29.59, 2,    13.52, 2,     0.00, 2,     1.78, 2,  -999.00, 9,  -1.4846,     0.00, 2, 0, 2,  -999.00, 9,  -999.00, 9,   0.6550, 2, -999.000, 2, -999.000, 9, 5.000, 2
320620030705, SBI, 322, 1, 105, 5, 2, 20030816, 1142, 71.6755, -148.9929, 2688,    142.0,  -1.5406,  32.9102, 2, -999.0000, 9,    267.5, 2,    290.5, 2,    32.41, 2,    14.42, 2,     0.00, 2,     1.81, 2,  -999.00, 9,  -1.5434,     0.00, 2, 0.01, 2,  -999.00, 9,  -999.00, 9,   0.6290, 2, -999.000, 2, -999.000, 9, 5.000, 2
320620030705, SBI, 322, 1, 104, 4, 2, 20030816, 1140, 71.6755, -148.9929, 2688,    161.9,  -1.5270,  33.1114, 2, -999.0000, 9,    262.8, 2,    285.2, 2,    33.09, 2,    14.83, 2,     0.00, 2,     1.83, 2,  -999.00, 9,  -1.5303,     0.00, 2, 0, 2,  -999.00, 9,  -999.00, 9,   0.7110, 2, -999.000, 2, -999.000, 9, 5.000, 2
320620030705, SBI, 322, 1, 103, 3, 2, 20030816, 1139, 71.6755, -148.9929, 2688,    182.0,  -1.3883,  33.4061, 2, -999.0000, 9,    257.5, 2,    278.3, 2,    32.25, 2,    14.77, 2,     0.00, 2,     1.74, 2,  -999.00, 9,  -1.3924,     0.00, 2, 0, 2,  -999.00, 9,  -999.00, 9,   0.6890, 2, -999.000, 2, -999.000, 9, 5.000, 2
320620030705, SBI, 322, 1, 102, 2, 2, 20030816, 1137, 71.6755, -148.9929, 2688,    202.3,  -1.2476,  33.7586, 2, -999.0000, 9,    258.9, 2,    280.4, 2,    29.66, 2,    14.51, 2,     0.00, 2,     1.61, 2,  -999.00, 9,  -1.2526,     0.00, 2, 0.01, 2,  -999.00, 9,  -999.00, 9,   0.7560, 2, -999.000, 2, -999.000, 9, 5.000, 2
320620030705, SBI, 322, 1, 101, 1, 2, 20030816, 1129, 71.6755, -148.9929, 2688,    508.3,   0.5135,  34.8316, 2,  34.8323, 2,    273.0, 2,    293.1, 2,     8.15, 2,    12.71, 2,     0.01, 2,     0.94, 2,  -999.00, 9,   0.4909,     0.00, 2, 0.01, 2,  -999.00, 9,  -999.00, 9,   0.5660, 2, -999.000, 2, -999.000, 9, 5.000, 2