BOTTLE,20100423CCHDOSIODBK
EXPOCODE,SECT_ID,STNNBR,CASTNO,SAMPNO,BTLNBR,BTLNBR_FLAG_W,DATE,TIME,LATITUDE,LONGITUDE,DEPTH,CTDPRS,CTDTMP,CTDSAL,CTDSAL_FLAG_W,SALNTY,SALNTY_FLAG_W,CTDOXY,CTDOXY_FLAG_W,OXYGEN,OXYGEN_FLAG_W,SILCAT,SILCAT_FLAG_W,NITRAT,NITRAT_FLAG_W,NITRIT,NITRIT_FLAG_W,PHSPHT,PHSPHT_FLAG_W,DOC,DOC_FLAG_W,THETA,NH4,NH4_FLAG_W,UREA,UREA_FLAG_W,CHLORA,CHLORA_FLAG_W,PPHYTN,PPHYTN_FLAG_W,FLUOR,FLUOR_FLAG_W,HAARDT,HAARDT_FLAG_W,PAR,PAR_FLAG_W,SPAR,SPAR_FLAG_W
,,,,,,,,,,,METERS,DBAR,ITS-90,PSS-78,,PSS-78,,UMOL/KG,,UMOL/KG,,UMOL/KG,,UMOL/KG,,UMOL/KG,,UMOL/KG,,UMOL/KG,,DEG C,UMOL/KG,,UMOL/KG,,UG/KG,,UG/KG,,MG/M^3,,VOLTS,,VOLTS,,VOLTS,
320620030705, SBI, 67, 1, 109, 9, 2, 20030720, 1027, 71.8627, -155.6664, 120,      2.5,  -0.7325,  28.1869, 2,  28.5670, 2,    356.6, 2,    386.9, 2,     9.74, 2,     0.15, 2,     0.01, 2,     0.74, 2,  -999.00, 9,  -0.7325,     0.12, 2, 0.01, 2,     0.34, 2,     0.13, 2,   1.0160, 2, 0.000, 2, 2.944, 2, 4.894, 2
320620030705, SBI, 67, 1, 108, 8, 2, 20030720, 1025, 71.8627, -155.6664, 120,     18.1,   0.3830,  29.8831, 2, -999.0000, 9,    371.6, 2,    390.8, 2,    15.11, 2,     0.24, 2,     0.02, 2,     0.83, 2,  -999.00, 9,   0.3825,     0.05, 2, 0.01, 2,     0.57, 2,     0.23, 2,   1.1740, 2, 0.000, 2, 1.883, 2, 4.887, 2
320620030705, SBI, 67, 1, 107, 7, 2, 20030720, 1022, 71.8627, -155.6664, 120,     38.3,  -0.6587,  31.6858, 2, -999.0000, 9,    333.1, 2,    355.8, 2,    23.90, 2,     4.10, 2,     0.12, 2,     1.36, 2,  -999.00, 9,  -0.6596,     1.65, 2, 0.15, 2,     1.36, 2,     0.24, 2,   1.5180, 2, 0.000, 2, 0.963, 2, 4.886, 2
320620030705, SBI, 67, 1, 106, 6, 2, 20030720, 1020, 71.8627, -155.6664, 120,     48.1,  -1.0018,  31.9180, 2, -999.0000, 9,    320.0, 2,    345.2, 2,    23.28, 2,     5.70, 2,     0.16, 2,     1.39, 2,  -999.00, 9,  -1.0028,     1.49, 2, 0.11, 2,     0.34, 2,     0.22, 2,   1.0970, 2, 0.000, 2, 0.595, 2, 4.886, 2
320620030705, SBI, 67, 1, 105, 5, 2, 20030720, 1018, 71.8627, -155.6664, 120,     58.2,  -1.0840,  32.1689, 2, -999.0000, 9,    314.1, 2,    340.3, 2,    24.28, 2,     6.19, 2,     0.14, 2,     1.43, 2,  -999.00, 9,  -1.0853,     1.82, 2, 0.13, 2,  -999.00, 9,  -999.00, 9,   0.9860, 2, 0.000, 2, 0.368, 2, 4.885, 2
320620030705, SBI, 67, 1, 104, 4, 2, 20030720, 1016, 71.8627, -155.6664, 120,     74.0,  -1.3064,  32.3781, 2, -999.0000, 9,    302.9, 2,    323.8, 2,    27.21, 2,     8.20, 2,     0.17, 2,     1.60, 2,  -999.00, 9,  -1.3079,     2.42, 2, 0.15, 2,     0.12, 2,     0.31, 2,   0.9310, 2, 0.000, 2, 0.195, 2, 4.884, 2
320620030705, SBI, 67, 1, 103, 3, 2, 20030720, 1014, 71.8627, -155.6664, 120,     88.1,  -1.5660,  32.4424, 2, -999.0000, 9,    290.4, 2,    317.1, 2,    29.43, 2,     9.11, 2,     0.20, 2,     1.71, 2,  -999.00, 9,  -1.5676,     3.10, 2, 0.19, 2,  -999.00, 9,  -999.00, 9,   0.9900, 2, 0.000, 2, 0.151, 2, 4.886, 2
320620030705, SBI, 67, 1, 102, 2, 2, 20030720, 1011, 71.8627, -155.6664, 120,    102.9,  -1.5582,  32.4835, 2, -999.0000, 9,    286.3, 2,    311.5, 2,    29.62, 2,     9.45, 2,     0.19, 2,     1.71, 2,  -999.00, 9,  -1.5601,     2.73, 2, 0.17, 2,     0.14, 2,     0.38, 2,   1.0110, 2, 0.000, 2, 0.143, 2, 4.885, 2
320620030705, SBI, 67, 1, 101, 1, 2, 20030720, 1010, 71.8627, -155.6664, 120,    115.5,  -1.4144,  32.8846, 2,  32.6881, 2,    280.0, 2,    311.0, 2,    28.69, 2,     9.92, 2,     0.13, 2,     1.62, 2,    67.70, 2,  -1.4167,     1.37, 2, 0.09, 2,  -999.00, 9,  -999.00, 9,   0.8740, 2, 0.000, 2, 0.144, 2, 4.886, 2
320620030705, SBI, 68, 1, 110, 10, 2, 20030720, 1143, 71.8973, -155.8029, 108,      2.5,  -0.7071,  28.3978, 2,  28.3988, 2,    357.4, 2,    386.4, 2,     9.23, 2,     0.15, 2,     0.01, 2,     0.74, 2,  -999.00, 9,  -0.7071,     0.16, 2, 0, 2,     0.43, 2,     0.14, 2,   1.0720, 2, 0.000, 2, 2.981, 2, 4.865, 2
320620030705, SBI, 68, 1, 109, 9, 2, 20030720, 1141, 71.8973, -155.8029, 108,     18.2,  -1.1564,  30.5005, 2, -999.0000, 9,    371.8, 2,    399.7, 2,     7.98, 2,     0.63, 2,     0.07, 2,     0.86, 2,  -999.00, 9,  -1.1567,     0.07, 2, 0.01, 2,     0.51, 2,     0.27, 2,   1.0830, 2, 0.000, 2, 1.954, 2, 4.867, 2
320620030705, SBI, 68, 1, 107, 7, 2, 20030720, 1138, 71.8973, -155.8029, 108,     36.4,  -0.1460,  31.5039, 2, -999.0000, 9,    370.7, 2,   -999.0, 9,  -999.00, 9,  -999.00, 9,  -999.00, 9,  -999.00, 9,  -999.00, 9,  -0.1470,  -999.00, 9, -999, 9,  -999.00, 9,  -999.00, 9,   2.0200, 2, 0.000, 2, 0.837, 2, 4.871, 2
320620030705, SBI, 68, 1, 108, 8, 2, 20030720, 1138, 71.8973, -155.8029, 108,     36.4,  -0.1549,  31.4977, 2, -999.0000, 9,    370.6, 2,   -999.0, 9,  -999.00, 9,  -999.00, 9,  -999.00, 9,  -999.00, 9,  -999.00, 9,  -0.1559,  -999.00, 9, -999, 9,  -999.00, 9,  -999.00, 9,   1.9950, 2, 0.000, 2, 0.839, 2, 4.870, 2
320620030705, SBI, 68, 1, 106, 6, 2, 20030720, 1138, 71.8973, -155.8029, 108,     36.4,  -0.1583,  31.5009, 2, -999.0000, 9,    370.5, 2,    377.9, 2,    21.06, 2,     2.18, 2,     0.07, 2,     1.21, 2,  -999.00, 9,  -0.1593,     1.03, 2, 0.11, 2,     4.09, 2,     0.32, 2,   2.0330, 2, 0.000, 2, 0.835, 2, 4.870, 2
320620030705, SBI, 68, 1, 105, 5, 2, 20030720, 1135, 71.8973, -155.8029, 108,     43.5,  -0.6422,  31.7509, 2, -999.0000, 9,    329.8, 2,    354.6, 2,    22.26, 2,     4.17, 2,     0.12, 2,     1.33, 2,  -999.00, 9,  -0.6433,     1.68, 2, 0.14, 2,     0.99, 2,     0.22, 2,   1.3240, 2, 0.000, 2, 0.380, 2, 4.874, 2
320620030705, SBI, 68, 1, 104, 4, 2, 20030720, 1133, 71.8973, -155.8029, 108,     58.4,  -1.0523,  32.1174, 2, -999.0000, 9,    315.1, 2,    341.0, 2,    23.16, 2,     6.42, 2,     0.13, 2,     1.41, 2,  -999.00, 9,  -1.0536,     1.47, 2, 0.07, 2,  -999.00, 9,  -999.00, 9,   0.9240, 2, 0.000, 2, 0.191, 2, 4.879, 2
320620030705, SBI, 68, 1, 103, 3, 2, 20030720, 1131, 71.8973, -155.8029, 108,     73.2,  -1.2232,  32.3361, 2, -999.0000, 9,    307.6, 2,    331.2, 2,    25.17, 2,     6.97, 2,     0.17, 2,     1.50, 2,  -999.00, 9,  -1.2247,     2.31, 2, 0.14, 2,     0.18, 2,     0.33, 2,   0.9630, 2, 0.000, 2, 0.150, 2, 4.880, 2
320620030705, SBI, 68, 1, 102, 2, 2, 20030720, 1129, 71.8973, -155.8029, 108,     88.1,  -1.2943,  32.4098, 2, -999.0000, 9,    297.4, 2,    319.1, 2,    27.39, 2,     8.07, 2,     0.18, 2,     1.59, 2,  -999.00, 9,  -1.2961,     2.62, 2, 0.16, 2,  -999.00, 9,  -999.00, 9,   0.9740, 2, 0.000, 2, 0.143, 2, 4.881, 2
320620030705, SBI, 68, 1, 101, 1, 2, 20030720, 1127, 71.8973, -155.8029, 108,    102.8,  -1.4281,  32.6184, 2,  32.5464, 2,    283.3, 2,    308.9, 2,    29.72, 2,     9.35, 2,     0.15, 2,     1.65, 2,    68.30, 2,  -1.4301,     2.35, 2, 0.14, 2,     0.23, 2,     0.36, 2,   1.0300, 2, 0.000, 2, 0.143, 2, 4.882, 2
320620030705, SBI, 71, 1, 104, 4, 2, 20030721, 23, 71.4137, -156.5997, 49,      1.2,   3.7369,  29.5921, 2,  29.4497, 2,    337.6, 2,    355.6, 2,    11.95, 2,     0.13, 2,     0.00, 2,     0.64, 2,  -999.00, 9,   3.7368,     0.08, 2, 0.09, 2,     0.20, 2,     0.04, 2,   0.9220, 2, 0.000, 2, 3.352, 2, 3.960, 2
320620030705, SBI, 71, 1, 103, 3, 2, 20030721, 20, 71.4137, -156.5997, 49,     11.9,   4.9395,  30.3520, 2, -999.0000, 9,    321.2, 2,    334.2, 2,     7.98, 2,     0.12, 2,     0.01, 2,     0.65, 2,  -999.00, 9,   4.9387,     0.14, 2, 0.07, 2,     0.48, 2,     0.13, 2,   1.1080, 2, 0.000, 2, 2.660, 2, 3.959, 2
320620030705, SBI, 71, 1, 102, 2, 2, 20030721, 19, 71.4137, -156.5997, 49,     26.0,   5.8866,  30.6997, 2, -999.0000, 9,    308.2, 2,    317.8, 2,     7.14, 2,     0.10, 2,     0.02, 2,     0.73, 2,  -999.00, 9,   5.8846,     0.31, 2, 0.09, 2,     0.59, 2,     0.33, 2,   1.2520, 2, 0.000, 2, 0.438, 2, 3.960, 2
320620030705, SBI, 71, 1, 101, 1, 2, 20030721, 16, 71.4137, -156.5997, 49,     42.3,   5.8545,  30.7077, 2,  30.7072, 2,    308.4, 2,    319.8, 2,     7.09, 2,     0.10, 2,     0.02, 2,     0.72, 2,    75.60, 2,   5.8513,     0.29, 2, 0.08, 2,     0.59, 2,     0.34, 2,   1.3140, 2, 0.000, 2, 0.155, 2, 3.956, 2
320620030705, SBI, 72, 1, 108, 8, 2, 20030721, 122, 71.4531, -156.6488, 94,      1.6,   1.3355,  27.6647, 2,  27.4137, 2,    360.6, 2,    384.3, 2,    20.86, 2,     0.00, 2,     0.00, 2,     0.76, 2,  -999.00, 9,   1.3354,     0.01, 2, 0.01, 2,     0.17, 2,     0.02, 2,   0.7450, 2, 0.000, 2, 3.428, 2, 3.995, 2
320620030705, SBI, 72, 1, 106, 6, 2, 20030721, 120, 71.4531, -156.6488, 94,     17.6,   4.8182,  30.8230, 2, -999.0000, 9,    315.4, 2,   -999.0, 9,  -999.00, 9,  -999.00, 9,  -999.00, 9,  -999.00, 9,  -999.00, 9,   4.8170,  -999.00, 9, -999, 9,  -999.00, 9,  -999.00, 9,   1.1980, 2, 0.000, 2, 2.654, 2, 3.991, 2
320620030705, SBI, 72, 1, 107, 7, 2, 20030721, 120, 71.4531, -156.6488, 94,     17.6,   4.8349,  30.8431, 2, -999.0000, 9,    315.6, 2,   -999.0, 9,  -999.00, 9,  -999.00, 9,  -999.00, 9,  -999.00, 9,  -999.00, 9,   4.8337,  -999.00, 9, -999, 9,  -999.00, 9,  -999.00, 9,   1.1950, 2, 0.000, 2, 2.633, 2, 3.992, 2
320620030705, SBI, 72, 1, 105, 5, 2, 20030721, 119, 71.4531, -156.6488, 94,     17.6,   4.8358,  30.8891, 2, -999.0000, 9,    315.0, 2,    327.3, 2,     4.89, 2,     0.05, 2,     0.01, 2,     0.56, 2,  -999.00, 9,   4.8346,     0.17, 2, 0.08, 2,     0.59, 2,     0.06, 2,   1.2160, 2, 0.000, 2, 2.639, 2, 3.990, 2
320620030705, SBI, 72, 1, 104, 4, 2, 20030721, 118, 71.4531, -156.6488, 94,     30.7,   4.3273,  30.9479, 2, -999.0000, 9,    318.2, 2,    332.9, 2,     5.55, 2,     0.04, 2,     0.01, 2,     0.56, 2,  -999.00, 9,   4.3253,     0.21, 2, 0.06, 2,     0.62, 2,     0.12, 2,   1.2700, 2, 0.000, 2, 1.777, 2, 3.991, 2
320620030705, SBI, 72, 1, 103, 3, 2, 20030721, 115, 71.4531, -156.6488, 94,     56.1,   2.6542,  31.3054, 2, -999.0000, 9,    322.2, 2,    339.2, 2,     7.52, 2,     0.19, 2,     0.03, 2,     0.71, 2,  -999.00, 9,   2.6513,     0.71, 2, 0.1, 2,     0.58, 2,     0.19, 2,   1.2390, 2, 0.000, 2, 0.525, 2, 3.986, 2
320620030705, SBI, 72, 1, 102, 2, 2, 20030721, 113, 71.4531, -156.6488, 94,     71.5,   1.1690,  31.6556, 2, -999.0000, 9,    336.5, 2,    362.2, 2,     6.66, 2,     0.29, 2,     0.03, 2,     0.75, 2,  -999.00, 9,   1.1661,     0.82, 2, 0.12, 2,     0.75, 2,     0.27, 2,   1.2510, 2, 0.000, 2, 0.188, 2, 3.982, 2
320620030705, SBI, 72, 1, 101, 1, 2, 20030721, 110, 71.4531, -156.6488, 94,     88.3,   0.8225,  31.7591, 2,  31.7503, 2,    348.0, 2,    370.6, 2,     6.22, 2,     0.29, 2,     0.03, 2,     0.74, 2,    71.30, 2,   0.8192,     0.79, 2, 0.13, 2,     0.79, 2,     0.32, 2,   1.3770, 2, 0.000, 2, 0.154, 2, 3.982, 2
320620030705, SBI, 73, 1, 110, 10, 2, 20030721, 303, 71.4995, -156.7013, 153,      1.8,   0.9443,  27.7817, 2,  27.8006, 2,    358.0, 2,    382.3, 2,    20.20, 2,     0.00, 2,     0.00, 2,     0.77, 2,  -999.00, 9,   0.9442,     0.00, 2, 0, 2,     0.19, 2,     0.08, 2,   0.7630, 2, 0.000, 2, 4.208, 2, 4.082, 2
320620030705, SBI, 73, 1, 109, 9, 2, 20030721, 301, 71.4995, -156.7013, 153,     12.8,   0.9560,  28.6959, 2, -999.0000, 9,    360.3, 2,    372.1, 2,    10.68, 2,     0.09, 2,     0.01, 2,     0.69, 2,  -999.00, 9,   0.9556,     0.39, 2, 0.05, 2,     0.29, 2,     0.09, 2,   0.8000, 2, 0.000, 2, 3.460, 2, 4.085, 2
320620030705, SBI, 73, 1, 108, 8, 2, 20030721, 259, 71.4995, -156.7013, 153,     36.7,   0.9828,  31.7099, 2, -999.0000, 9,    339.7, 2,    363.7, 2,     6.19, 2,     0.28, 2,     0.03, 2,     0.75, 2,  -999.00, 9,   0.9814,     0.87, 2, 0.12, 2,     0.88, 2,     0.33, 2,   1.2480, 2, 0.000, 2, 2.066, 2, 4.082, 2
320620030705, SBI, 73, 1, 107, 7, 2, 20030721, 257, 71.4995, -156.7013, 153,     52.9,   0.5777,  31.8741, 2, -999.0000, 9,    353.1, 2,    382.2, 2,     4.74, 2,     0.28, 2,     0.02, 2,     0.72, 2,  -999.00, 9,   0.5758,     0.70, 2, 0.1, 2,     0.79, 2,     0.29, 2,   1.2460, 2, 0.000, 2, 0.783, 2, 4.082, 2
320620030705, SBI, 73, 1, 106, 6, 2, 20030721, 255, 71.4995, -156.7013, 153,     72.8,  -0.0165,  32.0452, 2, -999.0000, 9,    372.5, 2,    400.7, 2,     6.50, 2,     0.82, 2,     0.03, 2,     0.79, 2,  -999.00, 9,  -0.0187,     0.61, 2, 0.11, 2,     0.91, 2,     0.34, 2,   1.2420, 2, 0.000, 2, 0.191, 2, 4.078, 2
320620030705, SBI, 73, 1, 105, 5, 2, 20030721, 254, 71.4995, -156.7013, 153,     90.8,  -0.6850,  32.1455, 2, -999.0000, 9,    366.2, 2,    398.2, 2,    11.49, 2,     2.41, 2,     0.08, 2,     1.02, 2,  -999.00, 9,  -0.6873,     0.86, 2, 0.11, 2,  -999.00, 9,  -999.00, 9,   1.5960, 2, 0.000, 2, 0.144, 2, 4.078, 2
320620030705, SBI, 73, 1, 104, 4, 2, 20030721, 252, 71.4995, -156.7013, 153,    107.8,  -1.2690,  32.3450, 2, -999.0000, 9,    364.1, 2,    393.4, 2,    11.84, 2,     3.70, 2,     0.14, 2,     1.14, 2,  -999.00, 9,  -1.2712,     1.15, 2, 0.13, 2,     2.98, 2,     0.82, 2,   1.7220, 2, 0.000, 2, 0.142, 2, 4.077, 2
320620030705, SBI, 73, 1, 103, 3, 2, 20030721, 250, 71.4995, -156.7013, 153,    127.8,  -1.4172,  32.4204, 2, -999.0000, 9,    350.6, 2,    381.7, 2,    11.90, 2,     4.53, 2,     0.16, 2,     1.24, 2,  -999.00, 9,  -1.4197,     1.44, 2, 0.15, 2,  -999.00, 9,  -999.00, 9,   1.8460, 2, 0.000, 2, 0.142, 2, 4.077, 2
320620030705, SBI, 73, 1, 102, 2, 2, 20030721, 248, 71.4995, -156.7013, 153,    137.8,  -1.4277,  32.4296, 2, -999.0000, 9,    349.4, 2,    381.9, 2,    11.86, 2,     4.57, 2,     0.17, 2,     1.24, 2,  -999.00, 9,  -1.4304,     1.45, 2, 0.17, 2,  -999.00, 9,  -999.00, 9,   1.9410, 2, 0.000, 2, 0.142, 2, 4.075, 2
320620030705, SBI, 73, 1, 101, 1, 2, 20030721, 247, 71.4995, -156.7013, 153,    147.5,  -1.4288,  32.4318, 2,  32.4261, 2,    349.4, 2,    380.6, 2,    11.81, 2,     4.56, 2,     0.17, 2,     1.25, 2,    70.50, 2,  -1.4317,     1.60, 2, 0.19, 2,     3.92, 2,     1.44, 2,   1.9500, 2, 0.000, 2, 0.143, 2, 4.070, 2
320620030705, SBI, 74, 1, 110, 10, 2, 20030721, 414, 71.5432, -156.7778, 144,      1.7,   0.9501,  28.6381, 2,  28.7982, 2,    362.4, 2,    381.7, 2,    19.52, 2,     0.14, 2,     0.00, 2,     0.80, 2,  -999.00, 9,   0.9500,     0.08, 2, 0.04, 2,     0.18, 2,     0.02, 2,   0.6470, 2, 0.000, 2, 4.128, 2, 4.198, 2
320620030705, SBI, 74, 1, 109, 9, 2, 20030721, 412, 71.5432, -156.7778, 144,     18.3,   1.1854,  29.5438, 2, -999.0000, 9,    362.9, 2,    404.2, 2,    23.97, 2,     0.08, 2,     0.00, 2,     0.89, 2,  -999.00, 9,   1.1847,     0.08, 2, 0.02, 2,     0.36, 2,     0.02, 2,   1.0720, 2, 0.000, 2, 3.061, 2, 4.196, 2
320620030705, SBI, 74, 1, 108, 8, 2, 20030721, 411, 71.5432, -156.7778, 144,     28.4,  -1.0732,  31.0991, 2, -999.0000, 9,    382.3, 2,    417.5, 2,    26.00, 2,     0.60, 2,     0.03, 2,     1.09, 2,  -999.00, 9,  -1.0737,     0.08, 2, 0.04, 2,     3.02, 2,     0.06, 2,   1.4580, 2, 0.000, 2, 2.468, 2, 4.189, 2
320620030705, SBI, 74, 1, 107, 7, 2, 20030721, 409, 71.5432, -156.7778, 144,     41.8,  -1.4973,  31.4268, 2, -999.0000, 9,    351.0, 2,    348.9, 2,    30.86, 2,     4.60, 2,     0.10, 2,     1.45, 2,  -999.00, 9,  -1.4980,     1.36, 2, 0.11, 2,     4.35, 2,     0.14, 2,   1.9540, 2, 0.000, 2, 1.045, 2, 4.183, 2
320620030705, SBI, 74, 1, 106, 6, 2, 20030721, 408, 71.5432, -156.7778, 144,     57.4,  -1.4885,  32.3345, 2, -999.0000, 9,    331.1, 2,    348.9, 2,    23.55, 2,     7.14, 2,     0.20, 2,     1.61, 2,  -999.00, 9,  -1.4896,    14.93, 3, 0.2, 2,     1.29, 2,     0.35, 2,   1.3500, 2, 0.000, 2, 0.266, 2, 4.186, 2
320620030705, SBI, 74, 1, 105, 5, 2, 20030721, 406, 71.5432, -156.7778, 144,     72.4,  -1.6279,  32.4003, 2, -999.0000, 9,    294.2, 2,    322.8, 2,    28.51, 2,     9.21, 2,     0.22, 2,     1.71, 2,  -999.00, 9,  -1.6292,     2.96, 2, 0.16, 2,  -999.00, 9,  -999.00, 9,   1.2960, 2, 0.000, 2, 0.156, 2, 4.183, 2
320620030705, SBI, 74, 1, 104, 4, 2, 20030721, 405, 71.5432, -156.7778, 144,     90.2,  -1.6574,  32.4446, 2, -999.0000, 9,    285.5, 2,    305.0, 2,    33.28, 2,    10.83, 2,     0.22, 2,     1.84, 2,  -999.00, 9,  -1.6590,     3.41, 2, 0.16, 2,  -999.00, 9,  -999.00, 9,   1.2830, 2, 0.000, 2, 0.142, 2, 4.178, 2
320620030705, SBI, 74, 1, 103, 3, 2, 20030721, 403, 71.5432, -156.7778, 144,    107.2,  -1.6942,  32.5596, 2, -999.0000, 9,    269.5, 2,    294.3, 2,    39.97, 2,    12.65, 2,     0.20, 2,     2.01, 2,  -999.00, 9,  -1.6961,     3.98, 2, 0.18, 2,     1.30, 2,     0.81, 2,   1.4790, 2, 0.000, 2, 0.141, 2, 4.174, 2
320620030705, SBI, 74, 1, 102, 2, 2, 20030721, 402, 71.5432, -156.7778, 144,    121.8,  -1.6921,  32.5624, 2,  32.5579, 2,    270.7, 2,    295.4, 2,    39.62, 2,    12.65, 2,     0.20, 2,     2.00, 2,  -999.00, 9,  -1.6942,     3.96, 2, 0.18, 2,  -999.00, 9,  -999.00, 9,   1.5390, 2, 0.000, 2, 0.142, 2, 4.169, 2
320620030705, SBI, 74, 1, 101, 1, 2, 20030721, 401, 71.5432, -156.7778, 144,    137.2,  -1.2882,  33.0293, 2,  32.6310, 2,    268.4, 2,    295.5, 2,    38.14, 2,    12.49, 2,     0.20, 2,     1.96, 2,    69.70, 2,  -1.2911,     3.80, 2, 0.22, 2,     2.82, 2,     1.86, 2,   1.6000, 2, 0.000, 2, 0.142, 2, 4.165, 2
320620030705, SBI, 75, 1, 110, 10, 2, 20030721, 529, 71.5838, -156.8408, 113,      1.6,  -0.1909,  28.5968, 2,  28.7100, 2,    364.5, 2,    394.1, 2,    21.03, 2,     0.12, 2,     0.00, 2,     0.81, 2,  -999.00, 9,  -0.1909,     0.02, 2, 0.01, 2,     0.33, 2,     0.07, 2,   0.9660, 2, 0.000, 2, 3.385, 2, 4.366, 2
320620030705, SBI, 75, 1, 109, 9, 2, 20030721, 527, 71.5838, -156.8408, 113,     14.6,   0.3683,  29.5728, 2, -999.0000, 9,    373.2, 2,    403.1, 2,    23.77, 2,     0.07, 2,     0.00, 2,     0.87, 2,  -999.00, 9,   0.3679,     0.03, 2, 0.01, 2,     0.40, 2,     0.07, 2,   1.0660, 2, 0.000, 2, 2.432, 2, 4.359, 2
320620030705, SBI, 75, 1, 108, 8, 2, 20030721, 526, 71.5838, -156.8408, 113,     23.6,  -0.0825,  30.8670, 2, -999.0000, 9,    388.8, 2,    415.4, 2,    25.91, 2,     0.12, 2,     0.00, 2,     1.01, 2,  -999.00, 9,  -0.0831,     0.01, 2, 0.02, 2,     1.36, 2,     0.12, 2,   1.2030, 2, 0.000, 2, 2.069, 2, 4.356, 2
320620030705, SBI, 75, 1, 107, 7, 2, 20030721, 524, 71.5838, -156.8408, 113,     43.6,  -1.4250,  31.7265, 2, -999.0000, 9,    324.5, 2,   -999.0, 9,  -999.00, 9,  -999.00, 9,  -999.00, 9,  -999.00, 9,  -999.00, 9,  -1.4258,  -999.00, 9, -999, 9,  -999.00, 9,  -999.00, 9,   2.2840, 2, 0.000, 2, 0.590, 2, 4.352, 2
320620030705, SBI, 75, 1, 105, 5, 2, 20030721, 523, 71.5838, -156.8408, 113,     43.6,  -1.4357,  31.7390, 2, -999.0000, 9,    324.9, 2,    342.1, 2,    22.11, 2,     6.30, 2,     0.14, 2,     1.45, 2,  -999.00, 9,  -1.4365,     1.17, 2, 0.11, 2,     4.98, 2,     0.08, 2,   2.3540, 2, 0.000, 2, 0.573, 2, 4.352, 2
320620030705, SBI, 75, 1, 106, 6, 2, 20030721, 523, 71.5838, -156.8408, 113,     43.6,  -1.4474,  31.7497, 2, -999.0000, 9,    324.8, 2,   -999.0, 9,  -999.00, 9,  -999.00, 9,  -999.00, 9,  -999.00, 9,  -999.00, 9,  -1.4482,  -999.00, 9, -999, 9,  -999.00, 9,  -999.00, 9,   2.2180, 2, 0.000, 2, 0.582, 2, 4.352, 2
320620030705, SBI, 75, 1, 104, 4, 2, 20030721, 521, 71.5838, -156.8408, 113,     60.3,  -1.6726,  32.0209, 2, -999.0000, 9,    317.6, 2,    306.0, 2,    27.58, 2,     7.81, 2,     0.15, 2,     1.56, 2,  -999.00, 9,  -1.6736,     1.15, 2, 0.08, 2,     1.86, 2,     0.37, 2,   1.3310, 2, 0.000, 2, 0.155, 2, 4.349, 2
320620030705, SBI, 75, 1, 103, 3, 2, 20030721, 519, 71.5838, -156.8408, 113,     77.2,  -1.7074,  32.5672, 2, -999.0000, 9,    257.1, 2,    277.6, 2,    40.83, 2,    10.76, 2,     0.22, 2,     1.94, 2,  -999.00, 9,  -1.7087,     1.74, 2, 0.12, 2,  -999.00, 9,  -999.00, 9,   1.2290, 2, 0.000, 2, 0.143, 2, 4.343, 2
320620030705, SBI, 75, 1, 102, 2, 2, 20030721, 517, 71.5838, -156.8408, 113,     92.2,  -1.7075,  32.6041, 2, -999.0000, 9,    251.9, 2,    274.9, 2,    41.08, 2,    10.80, 2,     0.22, 2,     1.96, 2,  -999.00, 9,  -1.7091,     1.52, 2, 0.12, 2,  -999.00, 9,  -999.00, 9,   1.4110, 2, 0.000, 2, 0.143, 2, 4.332, 2
320620030705, SBI, 75, 1, 101, 1, 2, 20030721, 516, 71.5838, -156.8408, 113,    105.2,  -1.7043,  32.6188, 2,  32.6025, 0,    251.4, 2,    274.4, 2,    41.02, 2,    10.69, 2,     0.22, 2,     1.96, 2,    71.90, 2,  -1.7061,     1.50, 2, 0.12, 2,     1.54, 2,     1.00, 2,   1.4560, 2, 0.000, 2, 0.143, 2, 4.327, 2