BOTTLE,20100423CCHDOSIODBK
EXPOCODE,SECT_ID,STNNBR,CASTNO,SAMPNO,BTLNBR,BTLNBR_FLAG_W,DATE,TIME,LATITUDE,LONGITUDE,DEPTH,CTDPRS,CTDTMP,CTDSAL,CTDSAL_FLAG_W,SALNTY,SALNTY_FLAG_W,CTDOXY,CTDOXY_FLAG_W,OXYGEN,OXYGEN_FLAG_W,SILCAT,SILCAT_FLAG_W,NITRAT,NITRAT_FLAG_W,NITRIT,NITRIT_FLAG_W,PHSPHT,PHSPHT_FLAG_W,DOC,DOC_FLAG_W,THETA,NH4,NH4_FLAG_W,UREA,UREA_FLAG_W,CHLORA,CHLORA_FLAG_W,PPHYTN,PPHYTN_FLAG_W,FLUOR,FLUOR_FLAG_W,HAARDT,HAARDT_FLAG_W,PAR,PAR_FLAG_W,SPAR,SPAR_FLAG_W
,,,,,,,,,,,METERS,DBAR,ITS-90,PSS-78,,PSS-78,,UMOL/KG,,UMOL/KG,,UMOL/KG,,UMOL/KG,,UMOL/KG,,UMOL/KG,,UMOL/KG,,DEG C,UMOL/KG,,UMOL/KG,,UG/KG,,UG/KG,,MG/M^3,,VOLTS,,VOLTS,,VOLTS,
320620030705, SBI, 158, 1, 103, 3, 2, 20030801, 221, 70.6514, -161.1582, 36,      1.6,   5.5793,  31.3042, 2,  31.3054, 2,    310.0, 2,    318.8, 2,     0.95, 2,     0.10, 2,     0.00, 2,     0.48, 2,  -999.00, 9,   5.5792,     0.00, 2, 0, 2,     0.28, 2,     0.09, 2,   1.0550, 2, 0.181, 2, 3.969, 2, 4.578, 2
320620030705, SBI, 158, 1, 102, 2, 2, 20030801, 218, 70.6514, -161.1582, 36,     22.8,   5.3729,  31.3877, 2, -999.0000, 9,    306.1, 2,    315.6, 2,     1.87, 2,     0.09, 2,     0.00, 2,     0.57, 2,  -999.00, 9,   5.3712,     0.12, 2, 0, 2,     0.59, 2,     0.41, 2,   1.3310, 2, 0.216, 2, 2.042, 2, 4.664, 2
320620030705, SBI, 158, 1, 101, 1, 2, 20030801, 217, 70.6514, -161.1582, 36,     30.3,   5.3819,  31.3954, 2,  31.3839, 2,    305.5, 2,    315.2, 2,     1.76, 2,     0.09, 2,     0.00, 2,     0.57, 2,    73.70, 2,   5.3797,     0.15, 2, 0.06, 2,     0.59, 2,     0.39, 2,   1.3210, 2, 0.211, 2, 1.307, 2, 4.669, 2
320620030705, SBI, 159, 1, 105, 5, 2, 20030801, 1242, 70.3846, -163.2316, 32,      2.1,   5.8513,  31.4568, 2,  31.4857, 2,    301.4, 2,    308.8, 2,     5.68, 2,     0.17, 2,     0.03, 2,     0.75, 2,  -999.00, 9,   5.8511,     0.68, 2, 0.06, 2,     1.05, 2,     0.38, 2,   1.3980, 2, 0.241, 2, 1.764, 2, 4.999, 2
320620030705, SBI, 159, 1, 102, 2, 2, 20030801, 1240, 70.3846, -163.2316, 32,     14.7,   5.5162,  31.6754, 2, -999.0000, 9,    297.3, 2,    305.3, 2,     5.16, 2,     0.22, 2,     0.03, 2,     0.79, 2,  -999.00, 9,   5.5151,     1.03, 2, 0.12, 2,     0.73, 2,     0.44, 2,   1.2400, 2, 0.221, 2, 0.350, 2, 4.999, 2
320620030705, SBI, 159, 1, 104, 4, 2, 20030801, 1240, 70.3846, -163.2316, 32,     14.7,   5.5406,  31.6655, 2, -999.0000, 9,    297.5, 2,   -999.0, 9,  -999.00, 9,  -999.00, 9,  -999.00, 9,  -999.00, 9,  -999.00, 9,   5.5395,  -999.00, 9, -999, 9,  -999.00, 9,  -999.00, 9,   1.2930, 2, 0.220, 2, 0.346, 2, 4.999, 2
320620030705, SBI, 159, 1, 103, 3, 2, 20030801, 1240, 70.3846, -163.2316, 32,     14.8,   5.5347,  31.6686, 2, -999.0000, 9,    297.3, 2,   -999.0, 9,  -999.00, 9,  -999.00, 9,  -999.00, 9,  -999.00, 9,  -999.00, 9,   5.5336,  -999.00, 9, -999, 9,  -999.00, 9,  -999.00, 9,   1.2700, 2, 0.223, 2, 0.343, 2, 4.999, 2
320620030705, SBI, 159, 1, 101, 1, 2, 20030801, 1238, 70.3846, -163.2316, 32,     26.2,   5.4392,  31.7165, 2,  31.6995, 2,    296.5, 2,    305.2, 2,     5.05, 2,     0.17, 2,     0.03, 2,     0.78, 2,    73.10, 2,   5.4372,     1.05, 2, 0.12, 2,     0.64, 2,     0.47, 2,   1.2520, 2, 0.209, 2, 0.154, 2, 4.999, 2
320620030705, SBI, 160, 1, 103, 3, 2, 20030801, 1423, 70.4086, -163.7233, 36,      2.1,   5.2229,  31.7884, 2,  31.7892, 2,    307.8, 2,    317.3, 2,     3.81, 2,     0.13, 2,     0.02, 2,     0.69, 2,  -999.00, 9,   5.2227,     0.25, 2, 0.04, 2,     0.48, 2,     0.22, 2,   1.2610, 2, 0.213, 2, 2.465, 2, 4.983, 2
320620030705, SBI, 160, 1, 102, 2, 2, 20030801, 1420, 70.4086, -163.7233, 36,     17.3,   5.2722,  31.7886, 2, -999.0000, 9,    309.1, 2,    319.1, 2,     3.70, 2,     0.07, 2,     0.02, 2,     0.71, 2,  -999.00, 9,   5.2709,     0.24, 2, 0.11, 2,     0.65, 2,     0.33, 2,   1.2290, 2, 0.215, 2, 0.869, 2, 4.983, 2
320620030705, SBI, 160, 1, 101, 1, 2, 20030801, 1417, 70.4086, -163.7233, 36,     30.2,   5.1872,  31.7879, 2,  31.7892, 2,    307.0, 2,    316.4, 2,     3.91, 2,     0.12, 2,     0.02, 2,     0.72, 2,    68.70, 2,   5.1850,     0.30, 2, 0.05, 2,     0.68, 2,     0.40, 2,   1.2360, 2, 0.215, 2, 0.224, 2, 4.983, 2
320620030705, SBI, 161, 1, 103, 3, 2, 20030801, 1551, 70.4333, -164.2157, 42,      2.2,   5.3532,  31.3658, 2,  31.4149, 2,    311.6, 2,    321.0, 2,     0.39, 2,     0.03, 2,     0.00, 2,     0.50, 2,  -999.00, 9,   5.3530,     0.00, 2, 0.01, 2,     0.24, 2,     0.07, 2,   1.0100, 2, 0.193, 2, 2.986, 2, 4.935, 2
320620030705, SBI, 161, 1, 102, 2, 2, 20030801, 1549, 70.4333, -164.2157, 42,     17.7,   5.1514,  31.6335, 2, -999.0000, 9,    312.9, 2,    321.7, 2,     1.11, 2,     0.02, 2,     0.01, 2,     0.60, 2,  -999.00, 9,   5.1501,     0.09, 2, 0.02, 2,     0.40, 2,     0.20, 2,   1.0390, 2, 0.196, 2, 2.230, 2, 4.939, 2
320620030705, SBI, 161, 1, 101, 1, 2, 20030801, 1547, 70.4333, -164.2157, 42,     35.3,   4.8091,  31.8594, 2,  31.8335, 2,    308.7, 2,    319.6, 2,     2.34, 2,     0.07, 2,     0.02, 2,     0.68, 2,    68.50, 2,   4.8066,     0.34, 2, 0.08, 2,     0.49, 2,     0.31, 2,   1.2200, 2, 0.210, 2, 1.176, 2, 4.939, 2
320620030705, SBI, 162, 1, 104, 4, 2, 20030801, 1721, 70.4591, -164.7063, 45,      2.0,   4.9382,  30.8257, 2,  30.8274, 2,    315.2, 2,    325.5, 2,     0.78, 2,     0.03, 2,     0.00, 2,     0.43, 2,  -999.00, 9,   4.9381,     0.00, 2, 0, 2,     0.12, 2,     0.03, 2,   0.8760, 2, 0.182, 2, 3.266, 2, 4.881, 2
320620030705, SBI, 162, 1, 103, 3, 2, 20030801, 1719, 70.4591, -164.7063, 45,     10.2,   4.9892,  30.8815, 2, -999.0000, 9,    314.9, 2,    324.2, 2,     0.78, 2,     0.03, 2,     0.00, 2,     0.48, 2,  -999.00, 9,   4.9885,    -0.01, 2, 0, 2,     0.14, 2,     0.05, 2,   1.0480, 2, 0.182, 2, 2.804, 2, 4.887, 2
320620030705, SBI, 162, 1, 102, 2, 2, 20030801, 1717, 70.4591, -164.7063, 45,     22.1,   4.9638,  31.4363, 2, -999.0000, 9,    316.5, 2,    332.5, 2,     3.26, 2,     0.16, 2,     0.03, 2,     0.73, 2,  -999.00, 9,   4.9622,     0.47, 2, 0.15, 2,     0.35, 2,     0.24, 2,   1.0800, 2, 0.196, 2, 2.433, 2, 4.873, 2
320620030705, SBI, 162, 1, 101, 1, 2, 20030801, 1714, 70.4591, -164.7063, 45,     39.3,   3.3666,  31.9033, 2,  31.8901, 2,    324.2, 2,    337.8, 2,     6.26, 2,     0.28, 2,     0.05, 2,     0.94, 2,    68.10, 2,   3.3643,     1.05, 2, 0.12, 2,     0.57, 2,     0.44, 2,   1.3000, 2, 0.246, 2, 0.337, 2, 4.867, 2
320620030705, SBI, 163, 1, 104, 4, 2, 20030801, 1850, 70.4841, -165.2075, 43,      1.9,   5.0957,  30.8634, 2,  30.8983, 2,    314.0, 2,    324.5, 2,     0.67, 2,     0.02, 2,     0.00, 2,     0.45, 2,  -999.00, 9,   5.0956,     0.00, 2, 0, 2,  -999.00, 9,  -999.00, 9,   0.8940, 2, 0.181, 2, 3.459, 2, 4.821, 2
320620030705, SBI, 163, 1, 103, 3, 2, 20030801, 1848, 70.4841, -165.2075, 43,     16.1,   5.0493,  31.0925, 2, -999.0000, 9,    316.7, 2,   -999.0, 9,  -999.00, 9,  -999.00, 9,  -999.00, 9,  -999.00, 9,  -999.00, 9,   5.0482,  -999.00, 9, -999, 9,     0.12, 3,     0.04, 3,   1.0270, 2, 0.188, 2, 2.851, 2, 4.794, 2
320620030705, SBI, 163, 1, 102, 2, 2, 20030801, 1847, 70.4841, -165.2075, 43,     26.2,   4.3754,  31.8585, 2, -999.0000, 9,    330.1, 2,    345.3, 2,     3.76, 2,     0.21, 2,     0.03, 2,     0.78, 2,  -999.00, 9,   4.3737,     0.64, 2, 0.15, 2,     0.51, 2,     0.24, 2,   1.3190, 2, 0.229, 2, 2.541, 2, 4.785, 2
320620030705, SBI, 163, 1, 101, 1, 2, 20030801, 1844, 70.4841, -165.2075, 43,     37.3,   2.6654,  31.9408, 2,  31.9370, 2,    333.3, 2,    350.0, 2,     7.07, 2,     0.39, 2,     0.05, 2,     0.98, 2,    71.40, 2,   2.6634,     1.25, 2, 0.26, 2,     0.61, 2,     0.39, 2,   1.2780, 2, 0.236, 2, 0.910, 2, 4.807, 2
320620030705, SBI, 164, 1, 105, 5, 2, 20030801, 2016, 70.5098, -165.7043, 44,      1.8,   5.2250,  31.0704, 2,  31.0984, 2,    312.3, 2,    323.6, 2,     0.44, 2,     0.02, 2,     0.00, 2,     0.49, 2,  -999.00, 9,   5.2249,     0.00, 2, 0.02, 2,     0.12, 2,     0.04, 2,   0.7940, 2, 0.181, 2, 3.595, 2, 4.743, 2
320620030705, SBI, 164, 1, 104, 4, 2, 20030801, 2014, 70.5098, -165.7043, 44,     17.0,   5.0702,  31.3207, 2, -999.0000, 9,    315.0, 2,    337.7, 2,     0.54, 2,     0.07, 2,     0.00, 2,     0.60, 2,  -999.00, 9,   5.0690,     0.12, 2, 0.02, 2,     0.26, 2,     0.12, 2,   0.8910, 2, 0.186, 2, 2.923, 2, 4.730, 2
320620030705, SBI, 164, 1, 102, 2, 2, 20030801, 2012, 70.5098, -165.7043, 44,     26.2,   2.4042,  31.9969, 2, -999.0000, 9,    344.5, 2,    360.8, 2,     4.57, 2,     0.29, 2,     0.04, 2,     0.89, 2,  -999.00, 9,   2.4029,     1.00, 2, 0.12, 2,     0.46, 2,     0.26, 2,   1.3040, 2, 0.232, 2, 2.623, 2, 4.736, 2
320620030705, SBI, 164, 1, 103, 3, 2, 20030801, 2012, 70.5098, -165.7043, 44,     26.2,   2.4948,  31.9931, 2, -999.0000, 9,    343.9, 2,   -999.0, 9,  -999.00, 9,  -999.00, 9,  -999.00, 9,  -999.00, 9,  -999.00, 9,   2.4935,  -999.00, 9, -999, 9,  -999.00, 9,  -999.00, 9,   1.3160, 2, 0.230, 2, 2.621, 2, 4.735, 2
320620030705, SBI, 164, 1, 101, 1, 2, 20030801, 2010, 70.5098, -165.7043, 44,     37.4,   2.0428,  32.0096, 2,  31.9997, 2,    345.0, 2,    361.7, 2,     5.40, 2,     0.33, 2,     0.05, 2,     0.95, 2,    66.00, 2,   2.0410,     1.17, 2, 0.15, 2,     0.46, 2,     0.25, 2,   1.2810, 2, 0.237, 2, 1.666, 2, 4.722, 2
320620030705, SBI, 165, 1, 104, 4, 2, 20030801, 2204, 70.5346, -166.1993, 43,      1.8,   5.1558,  31.3152, 2,  31.3122, 2,    313.7, 2,    325.3, 2,     0.64, 2,     0.01, 2,     0.01, 2,     0.50, 2,  -999.00, 9,   5.1557,     0.00, 2, 0.01, 2,     0.13, 2,     0.04, 2,   0.7920, 2, 0.174, 2, 3.790, 2, 4.612, 2
320620030705, SBI, 165, 1, 103, 3, 2, 20030801, 2201, 70.5346, -166.1993, 43,     21.2,   4.9055,  31.5720, 2, -999.0000, 9,    320.5, 2,    345.0, 2,     0.94, 2,     0.05, 2,     0.01, 2,     0.59, 2,  -999.00, 9,   4.9040,     0.12, 2, 0.04, 2,     0.41, 2,     0.13, 2,   1.1360, 2, 0.198, 2, 2.916, 2, 4.632, 2
320620030705, SBI, 165, 1, 102, 2, 2, 20030801, 2200, 70.5346, -166.1993, 43,     29.4,   3.8661,  32.0631, 2, -999.0000, 9,    339.7, 2,    357.0, 2,     4.87, 2,     0.32, 2,     0.06, 2,     0.96, 2,  -999.00, 9,   3.8642,     1.06, 2, 0.15, 2,     0.54, 2,     0.33, 2,   1.3820, 2, 0.227, 2, 2.593, 2, 4.659, 2
320620030705, SBI, 165, 1, 101, 1, 2, 20030801, 2158, 70.5346, -166.1993, 43,     37.5,   2.1311,  32.0410, 2,  32.0205, 2,    339.9, 2,    356.5, 2,     5.48, 2,     0.31, 2,     0.07, 2,     1.01, 2,    64.40, 2,   2.1293,     1.23, 2, 0.19, 2,     0.57, 2,     0.34, 2,   1.2890, 2, 0.231, 2, 1.548, 2, 4.670, 2
320620030705, SBI, 166, 1, 104, 4, 2, 20030801, 2334, 70.5606, -166.6967, 46,      1.7,   4.0488,  31.3079, 2,  31.3092, 2,    329.6, 2,    342.6, 2,     1.50, 2,     0.15, 2,     0.00, 2,     0.41, 2,  -999.00, 9,   4.0487,     0.00, 2, 0.02, 2,     0.13, 2,     0.04, 2,   0.9180, 2, 0.177, 2, 3.919, 2, 4.485, 2
320620030705, SBI, 166, 1, 103, 3, 2, 20030801, 2331, 70.5606, -166.6967, 46,     21.1,   3.1102,  31.7977, 2, -999.0000, 9,    352.3, 2,    367.1, 2,     3.51, 2,     0.58, 2,     0.04, 2,     0.81, 2,  -999.00, 9,   3.1090,     1.35, 2, 0.09, 2,     0.51, 2,     0.20, 2,   1.4070, 2, 0.231, 2, 2.970, 2, 4.499, 2
320620030705, SBI, 166, 1, 102, 2, 2, 20030801, 2330, 70.5606, -166.6967, 46,     26.2,   1.6254,  32.1713, 2, -999.0000, 9,    344.9, 2,    363.5, 2,     5.10, 2,     0.88, 2,     0.05, 2,     0.99, 2,  -999.00, 9,   1.6242,     2.06, 2, 0.16, 2,     0.22, 2,     0.28, 2,   1.1490, 2, 0.199, 2, 2.651, 2, 4.503, 2
320620030705, SBI, 166, 1, 101, 1, 4, 20030801, 2328, 70.5606, -166.6967, 46,     40.5,   1.5324,  32.1763, 2,  32.1121, 0,    345.2, 2,    362.1, 0,     4.96, 3,     0.83, 3,     0.05, 3,     0.96, 3,    67.80, 2,   1.5306,     1.95, 3, 0.16, 3,     0.24, 2,     0.29, 2,   1.0850, 2, 0.199, 2, 0.764, 2, 4.514, 2
320620030705, SBI, 167, 1, 105, 5, 2, 20030802, 105, 70.5844, -167.1907, 52,      1.9,   3.4621,  31.2228, 2,  31.2131, 2,    335.2, 2,    351.0, 2,     3.31, 2,     0.04, 2,     0.00, 2,     0.30, 2,  -999.00, 9,   3.4620,    -0.01, 2, 0.02, 2,     0.11, 2,     0.03, 2,   0.8330, 2, 0.175, 2, 3.801, 2, 4.593, 2
320620030705, SBI, 167, 1, 104, 4, 2, 20030802, 103, 70.5844, -167.1907, 52,     12.6,   3.1592,  31.3826, 2, -999.0000, 9,    346.7, 2,    365.6, 2,     2.97, 2,     0.09, 2,     0.00, 2,     0.30, 2,  -999.00, 9,   3.1585,     0.00, 2, 0.02, 2,     0.25, 2,     0.05, 2,   1.0870, 2, 0.196, 2, 3.177, 2, 4.632, 2
320620030705, SBI, 167, 1, 103, 3, 2, 20030802, 101, 70.5844, -167.1907, 52,     22.6,   1.7882,  31.9332, 2, -999.0000, 9,    347.2, 2,    362.0, 2,     3.75, 2,     1.40, 2,     0.04, 2,     0.89, 2,  -999.00, 9,   1.7872,     1.82, 2, 0.12, 2,     0.52, 2,     0.19, 2,   1.3340, 2, 0.220, 2, 2.759, 2, 4.653, 2
320620030705, SBI, 167, 1, 102, 2, 2, 20030802, 59, 70.5844, -167.1907, 52,     32.6,   0.6011,  32.2962, 2, -999.0000, 9,    334.4, 2,    363.7, 2,     4.34, 2,     1.61, 2,     0.05, 2,     1.04, 2,  -999.00, 9,   0.5999,     2.11, 2, 0.17, 2,     0.63, 2,     0.31, 2,   1.2230, 2, 0.218, 2, 2.139, 2, 4.703, 2
320620030705, SBI, 167, 1, 101, 1, 2, 20030802, 57, 70.5844, -167.1907, 52,     46.2,  -0.1775,  32.3191, 2,  32.2938, 2,    353.3, 2,    368.5, 2,     4.41, 2,     1.34, 2,     0.05, 2,     0.99, 2,    68.10, 2,  -0.1789,     1.77, 2, 0.15, 2,     0.79, 2,     0.36, 2,   1.3880, 2, 0.252, 2, 0.863, 2, 4.736, 2
320620030705, SBI, 168, 1, 105, 5, 2, 20030802, 236, 70.6091, -167.6866, 50,      1.7,   4.3345,  31.1793, 2,  31.1871, 2,    323.0, 2,    337.5, 2,     1.52, 2,     0.08, 2,     0.00, 2,     0.29, 2,  -999.00, 9,   4.3344,    -0.01, 2, 0.02, 2,     0.11, 2,     0.04, 2,   0.9980, 2, 0.178, 2, 3.468, 2, 4.810, 2
320620030705, SBI, 168, 1, 104, 4, 2, 20030802, 234, 70.6091, -167.6866, 50,     17.3,   3.2565,  31.4084, 2, -999.0000, 9,    340.5, 2,    389.9, 2,     3.12, 2,     1.51, 2,     0.04, 2,     0.58, 2,  -999.00, 9,   3.2555,     0.39, 2, 0.08, 2,     1.60, 2,     0.59, 2,   1.1210, 2, 0.190, 2, 2.734, 2, 4.836, 2
320620030705, SBI, 168, 1, 103, 3, 2, 20030802, 232, 70.6091, -167.6866, 50,     28.3,  -1.1098,  32.4897, 2, -999.0000, 9,    370.4, 2,    380.8, 2,     4.42, 2,     3.96, 2,     0.10, 2,     1.03, 2,  -999.00, 9,  -1.1104,     1.15, 2, 0.17, 2,     3.28, 2,     1.17, 2,   1.7710, 2, 0.312, 2, 2.285, 2, 4.854, 2
320620030705, SBI, 168, 1, 102, 2, 2, 20030802, 231, 70.6091, -167.6866, 50,     33.3,  -1.2771,  32.5337, 2, -999.0000, 9,    337.4, 2,    350.6, 2,     6.63, 2,     6.06, 2,     0.15, 2,     1.29, 2,  -999.00, 9,  -1.2778,     1.43, 2, 0.23, 2,     4.68, 2,     1.91, 2,   1.8820, 2, 0.466, 2, 1.994, 2, 4.862, 2
320620030705, SBI, 168, 1, 101, 1, 2, 20030802, 229, 70.6091, -167.6866, 50,     44.4,  -1.4669,  32.6271, 2,  32.5860, 2,    302.6, 2,    337.7, 2,     6.90, 2,     7.09, 2,     0.16, 2,     1.40, 2,    69.90, 2,  -1.4677,     1.80, 2, 0.25, 2,     5.11, 2,     2.08, 2,   2.0430, 2, 0.579, 2, 0.974, 2, 4.811, 2
320620030705, SBI, 169, 1, 105, 5, 2, 20030802, 404, 70.6347, -168.1841, 45,      1.8,   4.6887,  30.9774, 2,  30.9820, 2,    316.0, 2,    328.8, 2,     1.06, 2,     0.08, 2,     0.00, 2,     0.32, 2,  -999.00, 9,   4.6886,     0.00, 2, 0, 2,     0.09, 2,     0.06, 2,   0.8390, 2, 0.177, 2, 3.371, 2, 4.845, 2
320620030705, SBI, 169, 1, 104, 4, 2, 20030802, 402, 70.6347, -168.1841, 45,     17.0,   4.5523,  31.2373, 2, -999.0000, 9,    318.8, 2,    341.3, 2,     1.02, 2,     0.07, 2,     0.00, 2,     0.36, 2,  -999.00, 9,   4.5512,     0.05, 2, 0.01, 2,     0.10, 2,     0.06, 2,   0.9440, 2, 0.176, 2, 2.726, 2, 4.849, 2
320620030705, SBI, 169, 1, 103, 3, 2, 20030802, 400, 70.6347, -168.1841, 45,     27.0,   1.2550,  32.1827, 2, -999.0000, 9,    388.3, 2,    377.0, 2,     2.42, 2,     3.16, 2,     0.11, 2,     0.88, 2,  -999.00, 9,   1.2539,     0.75, 2, 0.11, 2,     1.27, 2,     0.67, 2,   1.0300, 2, 0.189, 2, 2.471, 2, 4.840, 2
320620030705, SBI, 169, 1, 102, 2, 2, 20030802, 359, 70.6347, -168.1841, 45,     32.0,  -0.3248,  32.4320, 2, -999.0000, 9,    348.7, 2,    345.9, 2,     4.63, 2,     6.31, 2,     0.20, 2,     1.22, 2,  -999.00, 9,  -0.3257,     1.17, 2, 0.18, 2,     1.30, 2,     0.62, 2,   1.7530, 2, 0.371, 2, 2.255, 2, 4.846, 2
320620030705, SBI, 169, 1, 101, 1, 2, 20030802, 357, 70.6347, -168.1841, 45,     39.3,  -1.4386,  32.5633, 2,  32.5014, 2,    307.3, 2,    343.3, 2,     4.40, 2,     6.22, 2,     0.19, 2,     1.21, 2,    71.10, 2,  -1.4393,     1.10, 2, 0.17, 2,     1.25, 2,     0.70, 2,   1.9880, 2, 0.612, 2, 1.333, 2, 4.866, 2
320620030705, SBI, 170, 1, 104, 4, 2, 20030802, 530, 70.6600, -168.6826, 31,      2.2,   4.3244,  30.9998, 2,  31.0004, 2,    317.2, 2,    330.1, 2,     1.40, 2,     0.07, 2,     0.00, 2,     0.32, 2,  -999.00, 9,   4.3243,    -0.01, 2, 0, 2,     0.11, 2,     0.07, 2,   1.0380, 2, 0.182, 2, 3.149, 2, 4.916, 2
320620030705, SBI, 170, 1, 103, 3, 2, 20030802, 529, 70.6600, -168.6826, 31,     20.2,   3.6978,  31.2311, 2, -999.0000, 9,    326.7, 2,    355.9, 2,     1.88, 2,     0.06, 2,     0.01, 2,     0.46, 2,  -999.00, 9,   3.6966,     0.05, 2, 0.02, 2,     0.29, 2,     0.33, 2,   1.1150, 2, 0.198, 2, 2.382, 2, 4.911, 2
320620030705, SBI, 170, 1, 102, 2, 2, 20030802, 527, 70.6600, -168.6826, 31,     26.3,   1.9474,  32.2729, 2, -999.0000, 9,    345.9, 2,   -999.0, 9,  -999.00, 9,  -999.00, 9,  -999.00, 9,  -999.00, 9,  -999.00, 9,   1.9462,  -999.00, 9, -999, 9,  -999.00, 9,  -999.00, 9,   1.4220, 2, 0.243, 2, 1.844, 2, 4.913, 2
320620030705, SBI, 170, 1, 101, 1, 2, 20030802, 527, 70.6600, -168.6826, 31,     26.3,   1.9531,  32.2714, 2,  32.2468, 2,    345.7, 2,    364.2, 2,     3.07, 2,     0.08, 2,     0.04, 2,     0.81, 2,    65.90, 2,   1.9519,     0.38, 2, 0.09, 2,     1.00, 2,     0.33, 2,   1.4580, 2, 0.242, 2, 1.853, 2, 4.912, 2
320620030705, SBI, 171, 1, 104, 4, 2, 20030802, 705, 70.8064, -168.4455, 41,      2.6,   3.4980,  30.8450, 2,  30.8486, 2,    326.3, 2,    340.1, 2,     2.25, 2,     0.14, 2,     0.00, 2,     0.35, 2,  -999.00, 9,   3.4979,    -0.01, 2, 0.01, 2,     0.11, 2,     0.06, 2,   0.9730, 2, 0.182, 2, 2.759, 2, 4.960, 2
320620030705, SBI, 171, 1, 103, 3, 2, 20030802, 703, 70.8064, -168.4455, 41,     17.2,   2.4797,  31.1439, 2, -999.0000, 9,    343.3, 2,    368.2, 2,     2.43, 2,     0.08, 2,     0.00, 2,     0.45, 2,  -999.00, 9,   2.4788,     0.02, 2, 0.02, 2,     0.40, 2,     0.22, 2,   1.1620, 2, 0.205, 2, 2.078, 2, 4.961, 2
320620030705, SBI, 171, 1, 102, 2, 2, 20030802, 702, 70.8064, -168.4455, 41,     27.1,   1.1437,  32.2473, 2, -999.0000, 9,    357.2, 2,    377.1, 2,     3.21, 2,     0.11, 2,     0.02, 2,     0.83, 2,  -999.00, 9,   1.1426,     0.41, 2, 0.11, 2,     0.66, 2,     0.52, 2,   1.4000, 2, 0.230, 2, 1.512, 2, 4.961, 2
320620030705, SBI, 171, 1, 101, 1, 2, 20030802, 701, 70.8064, -168.4455, 41,     36.4,   1.0004,  32.3185, 2,  32.2846, 2,    352.6, 2,    375.0, 2,     4.00, 2,     0.10, 2,     0.03, 2,     0.88, 2,    68.40, 2,   0.9990,     0.51, 2, 0.09, 2,     0.53, 2,     0.53, 2,   1.3210, 2, 0.223, 2, 0.538, 2, 4.962, 2