BOTTLE,20100423CCHDOSIODBK
EXPOCODE,SECT_ID,STNNBR,CASTNO,SAMPNO,BTLNBR,BTLNBR_FLAG_W,DATE,TIME,LATITUDE,LONGITUDE,DEPTH,CTDPRS,CTDTMP,CTDSAL,CTDSAL_FLAG_W,SALNTY,SALNTY_FLAG_W,CTDOXY,CTDOXY_FLAG_W,OXYGEN,OXYGEN_FLAG_W,SILCAT,SILCAT_FLAG_W,NITRAT,NITRAT_FLAG_W,NITRIT,NITRIT_FLAG_W,PHSPHT,PHSPHT_FLAG_W,DOC,DOC_FLAG_W,THETA,NH4,NH4_FLAG_W,UREA,UREA_FLAG_W,CHLORA,CHLORA_FLAG_W,PPHYTN,PPHYTN_FLAG_W,FLUOR,FLUOR_FLAG_W,HAARDT,HAARDT_FLAG_W,PAR,PAR_FLAG_W,SPAR,SPAR_FLAG_W
,,,,,,,,,,,METERS,DBAR,ITS-90,PSS-78,,PSS-78,,UMOL/KG,,UMOL/KG,,UMOL/KG,,UMOL/KG,,UMOL/KG,,UMOL/KG,,UMOL/KG,,DEG C,UMOL/KG,,UMOL/KG,,UG/KG,,UG/KG,,MG/M^3,,VOLTS,,VOLTS,,VOLTS,
320620030705, SBI, 202, 1, 117, 17, 2, 20030804, 1644, 74.2949, -164.5475, 347,      2.0,  -1.2222,  28.8303, 2,  29.2255, 2,    360.4, 2,    393.9, 2,     6.56, 2,     0.41, 2,     0.00, 2,     0.73, 2,  -999.00, 9,  -1.2222,     0.01, 2, 0, 2,  -999.00, 9,  -999.00, 9,   1.0860, 2, 0.176, 2, 2.459, 2, 4.984, 2
320620030705, SBI, 202, 1, 116, 16, 2, 20030804, 1642, 74.2949, -164.5475, 347,     12.1,  -1.3019,  29.4657, 2, -999.0000, 9,    375.4, 2,    428.1, 2,     9.01, 2,     0.14, 2,     0.00, 2,     0.83, 2,  -999.00, 9,  -1.3021,     0.00, 2, 0.01, 2,  -999.00, 9,  -999.00, 9,   1.1330, 2, 0.200, 2, 1.822, 2, 4.987, 2
320620030705, SBI, 202, 1, 115, 15, 2, 20030804, 1641, 74.2949, -164.5475, 347,     28.0,  -1.4981,  31.1917, 2, -999.0000, 9,    371.9, 2,    387.4, 2,    21.93, 2,     2.86, 2,     0.06, 2,     1.19, 2,  -999.00, 9,  -1.4985,     0.27, 2, 0.05, 2,  -999.00, 9,  -999.00, 9,   2.9730, 2, 4.814, 2, 0.577, 2, 4.993, 2
320620030705, SBI, 202, 1, 114, 14, 2, 20030804, 1639, 74.2949, -164.5475, 347,     47.2,  -1.6308,  31.4890, 2, -999.0000, 9,    312.3, 2,    342.3, 2,    22.75, 2,     6.56, 2,     0.09, 2,     1.34, 2,  -999.00, 9,  -1.6315,     0.40, 2, 0.02, 2,  -999.00, 9,  -999.00, 9,   0.9090, 2, 0.188, 2, 0.160, 2, 4.990, 2
320620030705, SBI, 202, 1, 113, 13, 2, 20030804, 1637, 74.2949, -164.5475, 347,     62.4,  -1.5846,  31.8345, 2, -999.0000, 9,    311.3, 2,    330.0, 2,    26.03, 2,     7.83, 2,     0.11, 2,     1.42, 2,  -999.00, 9,  -1.5856,     0.25, 2, 0.02, 2,  -999.00, 9,  -999.00, 9,   0.7780, 2, 0.173, 2, 0.142, 2, 4.996, 2
320620030705, SBI, 202, 1, 112, 12, 2, 20030804, 1635, 74.2949, -164.5475, 347,     77.3,  -1.6489,  32.1233, 2, -999.0000, 9,    316.3, 2,    344.4, 2,    27.58, 2,     7.00, 2,     0.13, 2,     1.45, 2,  -999.00, 9,  -1.6502,     1.27, 2, 0.01, 2,  -999.00, 9,  -999.00, 9,   0.9660, 2, 0.173, 2, 0.139, 2, 4.999, 2
320620030705, SBI, 202, 1, 111, 11, 4, 20030804, 1635, 74.2949, -164.5475, 347,     77.3,  -1.6499,  32.1234, 2, -999.0000, 9,    316.5, 2,   -999.0, 9,  -999.00, 9,  -999.00, 9,  -999.00, 9,  -999.00, 9,  -999.00, 9,  -1.6512,  -999.00, 9, -999, 9,  -999.00, 9,  -999.00, 9,   0.8900, 2, 0.173, 2, 0.139, 2, 4.999, 2
320620030705, SBI, 202, 1, 110, 10, 2, 20030804, 1633, 74.2949, -164.5475, 347,     92.4,  -1.6349,  32.3986, 2, -999.0000, 9,    298.5, 2,    321.2, 2,    27.47, 2,     9.68, 2,     0.06, 2,     1.54, 2,  -999.00, 9,  -1.6365,     0.04, 2, 0.01, 2,  -999.00, 9,  -999.00, 9,   0.8110, 2, 0.172, 2, 0.139, 2, 4.999, 2
320620030705, SBI, 202, 1, 109, 9, 2, 20030804, 1631, 74.2949, -164.5475, 347,    112.4,  -1.6446,  32.6622, 2, -999.0000, 9,    282.6, 2,    307.7, 2,    31.38, 2,    11.72, 2,     0.04, 2,     1.66, 2,  -999.00, 9,  -1.6466,     0.32, 2, 0.01, 2,  -999.00, 9,  -999.00, 9,   0.7500, 2, 0.170, 2, 0.139, 2, 4.999, 2
320620030705, SBI, 202, 1, 108, 8, 2, 20030804, 1629, 74.2949, -164.5475, 347,    142.4,  -1.5767,  33.1771, 2, -999.0000, 9,    277.3, 2,    300.4, 2,    30.75, 2,    12.86, 2,     0.01, 2,     1.62, 2,  -999.00, 9,  -1.5796,    -0.01, 2, 0.01, 2,  -999.00, 9,  -999.00, 9,   0.8180, 2, 0.170, 2, 0.139, 2, 4.998, 2
320620030705, SBI, 202, 1, 107, 7, 2, 20030804, 1627, 74.2949, -164.5475, 347,    172.7,  -0.9422,  34.0871, 2, -999.0000, 9,    259.6, 2,    277.4, 2,    23.82, 2,    13.86, 2,     0.01, 2,     1.35, 2,  -999.00, 9,  -0.9470,    -0.01, 2, 0.01, 2,  -999.00, 9,  -999.00, 9,   0.6920, 2, 0.169, 2, 0.140, 2, 4.998, 2
320620030705, SBI, 202, 1, 106, 6, 2, 20030804, 1624, 74.2949, -164.5475, 347,    202.9,   0.0190,  34.5636, 2, -999.0000, 9,    248.1, 2,    271.7, 2,    15.18, 2,    12.90, 2,     0.00, 2,     1.03, 2,  -999.00, 9,   0.0115,    -0.01, 2, 0, 2,  -999.00, 9,  -999.00, 9,   0.4840, 2, 0.165, 2, 0.139, 2, 4.995, 2
320620030705, SBI, 202, 1, 105, 5, 2, 20030804, 1622, 74.2949, -164.5475, 347,    233.0,   0.5320,  34.7218, 2, -999.0000, 9,    249.0, 2,    270.8, 2,    15.17, 2,    13.17, 2,     0.00, 2,     1.00, 2,  -999.00, 9,   0.5222,    -0.01, 2, 0.01, 2,  -999.00, 9,  -999.00, 9,   0.6390, 2, 0.166, 2, 0.141, 2, 4.993, 2
320620030705, SBI, 202, 1, 104, 4, 2, 20030804, 1619, 74.2949, -164.5475, 347,    263.1,   0.7061,  34.7788, 2,  34.7795, 2,    263.3, 2,    283.0, 2,    10.65, 2,    12.74, 2,     0.00, 2,     0.91, 2,  -999.00, 9,   0.6946,     0.00, 2, 0, 2,  -999.00, 9,  -999.00, 9,   0.8540, 2, 0.165, 2, 0.140, 2, 4.997, 2
320620030705, SBI, 202, 1, 103, 3, 2, 20030804, 1617, 74.2949, -164.5475, 347,    291.7,   0.8084,  34.8196, 2,  34.8289, 2,    269.3, 2,    286.1, 2,    10.75, 2,    12.90, 2,     0.00, 2,     0.90, 2,  -999.00, 9,   0.7953,    -0.01, 2, 0, 2,  -999.00, 9,  -999.00, 9,   0.6190, 2, 0.166, 2, 0.140, 2, 4.996, 2
320620030705, SBI, 202, 1, 102, 2, 2, 20030804, 1614, 74.2949, -164.5475, 347,    328.5,   0.6051,  34.8547, 2,  34.8503, 2,    266.6, 2,    284.5, 2,    13.41, 2,    13.16, 2,     0.01, 2,     0.93, 2,  -999.00, 9,   0.5908,     0.00, 2, 0, 2,  -999.00, 9,  -999.00, 9,   0.8260, 2, 0.166, 2, 0.140, 2, 4.996, 2
320620030705, SBI, 202, 1, 101, 1, 2, 20030804, 1612, 74.2949, -164.5475, 347,    338.5,   0.6062,  34.8547, 2,  34.8500, 2,    266.9, 2,    284.1, 2,    13.20, 2,    13.16, 2,     0.01, 2,     0.93, 2,  -999.00, 9,   0.5914,    -0.01, 2, 0.01, 2,  -999.00, 9,  -999.00, 9,   0.5770, 2, 0.167, 2, 0.140, 2, 4.996, 2
320620030705, SBI, 203, 1, 118, 18, 2, 20030804, 2158, 74.3917, -164.0057, 470,      1.0,  -1.3511,  28.8116, 2,  28.8039, 2,    358.4, 2,    389.6, 2,     4.28, 2,     0.11, 2,     0.00, 2,     0.67, 2,  -999.00, 9,  -1.3511,    -0.01, 2, 0, 2,     0.15, 2,     0.03, 2,   0.6300, 2, 0.164, 2, 3.764, 2, 4.655, 2
320620030705, SBI, 203, 1, 117, 17, 2, 20030804, 2156, 74.3917, -164.0057, 470,     17.7,  -1.2857,  29.3340, 2, -999.0000, 9,    365.1, 2,    396.7, 2,     4.18, 2,     0.05, 2,     0.00, 2,     0.69, 2,  -999.00, 9,  -1.2859,    -0.01, 2, 0, 2,     0.19, 2,     0.02, 2,   0.9800, 2, 0.176, 2, 2.916, 2, 4.657, 2
320620030705, SBI, 203, 1, 116, 16, 2, 20030804, 2155, 74.3917, -164.0057, 470,     29.9,  -1.5461,  31.2642, 2, -999.0000, 9,    360.3, 2,   -999.0, 9,  -999.00, 9,  -999.00, 9,  -999.00, 9,  -999.00, 9,  -999.00, 9,  -1.5466,  -999.00, 9, -999, 9,  -999.00, 9,  -999.00, 9,   2.5010, 2, 1.104, 2, 2.139, 2, 4.661, 2
320620030705, SBI, 203, 1, 115, 15, 2, 20030804, 2154, 74.3917, -164.0057, 470,     30.1,  -1.5296,  31.2471, 2, -999.0000, 9,    361.2, 2,    406.0, 2,     7.34, 2,     0.09, 2,     0.02, 2,     0.95, 2,  -999.00, 9,  -1.5301,     0.02, 2, 0.04, 2,     8.63, 2,     0.28, 2,   2.5580, 2, 1.243, 2, 2.262, 2, 4.654, 2
320620030705, SBI, 203, 1, 114, 14, 2, 20030804, 2153, 74.3917, -164.0057, 470,     46.0,  -1.6140,  31.5754, 2, -999.0000, 9,    315.6, 2,    347.8, 2,    19.95, 2,     5.85, 2,     0.09, 2,     1.26, 2,  -999.00, 9,  -1.6147,     0.33, 2, 0.03, 2,     0.72, 2,     0.16, 2,   1.1920, 2, 0.200, 2, 1.234, 2, 4.641, 2
320620030705, SBI, 203, 1, 113, 13, 2, 20030804, 2151, 74.3917, -164.0057, 470,     62.7,  -1.5911,  31.9219, 2, -999.0000, 9,    310.9, 2,    341.3, 2,    22.82, 2,     7.02, 2,     0.09, 2,     1.37, 2,  -999.00, 9,  -1.5921,     0.49, 2, 0.02, 2,  -999.00, 9,  -999.00, 9,   0.9020, 2, 0.170, 2, 0.659, 2, 4.623, 2
320620030705, SBI, 203, 1, 111, 11, 2, 20030804, 2150, 74.3917, -164.0057, 470,     77.1,  -1.5550,  32.1438, 2, -999.0000, 9,    307.8, 2,    331.9, 2,    26.42, 2,     8.25, 2,     0.09, 2,     1.47, 2,  -999.00, 9,  -1.5564,     0.59, 2, 0.02, 2,  -999.00, 9,  -999.00, 9,   0.8230, 2, 0.170, 2, 0.389, 2, 4.631, 2
320620030705, SBI, 203, 1, 112, 12, 2, 20030804, 2150, 74.3917, -164.0057, 470,     77.6,  -1.6093,  32.1539, 2, -999.0000, 9,    306.6, 2,   -999.0, 9,  -999.00, 9,  -999.00, 9,  -999.00, 9,  -999.00, 9,  -999.00, 9,  -1.6106,  -999.00, 9, -999, 9,  -999.00, 9,  -999.00, 9,   0.7650, 2, 0.168, 2, 0.376, 2, 4.635, 2
320620030705, SBI, 203, 1, 110, 10, 2, 20030804, 2148, 74.3917, -164.0057, 470,     91.2,  -1.6305,  32.3707, 2, -999.0000, 9,    302.0, 2,    323.9, 2,    32.29, 2,     9.56, 2,     0.11, 2,     1.60, 2,  -999.00, 9,  -1.6321,     1.02, 2, 0.02, 2,  -999.00, 9,  -999.00, 9,   0.8130, 2, 0.169, 2, 0.248, 2, 4.606, 2
320620030705, SBI, 203, 1, 109, 9, 2, 20030804, 2147, 74.3917, -164.0057, 470,    106.2,  -1.6083,  32.6150, 2, -999.0000, 9,    286.8, 2,    309.9, 2,    28.26, 2,    11.35, 2,     0.03, 2,     1.61, 2,  -999.00, 9,  -1.6102,     0.04, 2, 0.03, 2,  -999.00, 9,  -999.00, 9,   0.7640, 2, 0.168, 2, 0.171, 2, 4.604, 2
320620030705, SBI, 203, 1, 108, 8, 2, 20030804, 2145, 74.3917, -164.0057, 470,    121.2,  -1.6007,  32.8510, 2, -999.0000, 9,    279.1, 2,    300.5, 2,    30.12, 2,    12.85, 2,     0.01, 2,     1.63, 2,  -999.00, 9,  -1.6030,    -0.01, 2, 0.01, 2,  -999.00, 9,  -999.00, 9,   0.6990, 2, 0.167, 2, 0.149, 2, 4.600, 2
320620030705, SBI, 203, 1, 107, 7, 2, 20030804, 2143, 74.3917, -164.0057, 470,    141.0,  -1.5647,  33.2638, 2, -999.0000, 9,    276.5, 2,    297.2, 2,    30.83, 2,    13.28, 2,     0.01, 2,     1.62, 2,  -999.00, 9,  -1.5676,     0.00, 2, 0.01, 2,  -999.00, 9,  -999.00, 9,   0.7000, 2, 0.168, 2, 0.141, 2, 4.604, 2
320620030705, SBI, 203, 1, 106, 6, 2, 20030804, 2142, 74.3917, -164.0057, 470,    161.0,  -1.3472,  33.7873, 2, -999.0000, 9,    267.1, 2,    286.4, 2,    29.37, 2,    14.29, 2,     0.01, 2,     1.55, 2,  -999.00, 9,  -1.3510,     0.00, 2, 0.01, 2,  -999.00, 9,  -999.00, 9,   0.8220, 2, 0.167, 2, 0.139, 2, 4.622, 2
320620030705, SBI, 203, 1, 105, 5, 2, 20030804, 2140, 74.3917, -164.0057, 470,    181.5,  -0.9127,  34.2013, 2, -999.0000, 9,    259.3, 2,    280.3, 2,    22.79, 2,    13.70, 2,     0.00, 2,     1.31, 2,  -999.00, 9,  -0.9178,     0.00, 2, 0.01, 2,  -999.00, 9,  -999.00, 9,   0.8430, 2, 0.166, 2, 0.139, 2, 4.609, 2
320620030705, SBI, 203, 1, 104, 4, 2, 20030804, 2138, 74.3917, -164.0057, 470,    200.7,  -0.4458,  34.4213, 2,  34.4161, 2,    258.0, 2,    277.1, 2,    15.51, 2,    12.64, 2,     0.00, 2,     1.06, 2,  -999.00, 9,  -0.4524,     0.00, 2, 0.01, 2,  -999.00, 9,  -999.00, 9,   0.7460, 2, 0.164, 2, 0.140, 2, 4.624, 2
320620030705, SBI, 203, 1, 103, 3, 2, 20030804, 2133, 74.3917, -164.0057, 470,    298.8,   0.7394,  34.7909, 2,  34.7922, 2,    270.0, 2,    288.8, 2,     9.08, 2,    12.59, 2,     0.00, 2,     0.87, 2,  -999.00, 9,   0.7262,    -0.01, 2, 0, 2,  -999.00, 9,  -999.00, 9,   0.6190, 2, 0.162, 2, 0.140, 2, 4.623, 2
320620030705, SBI, 203, 1, 102, 2, 2, 20030804, 2128, 74.3917, -164.0057, 470,    421.8,   0.5279,  34.8529, 2,  34.8493, 2,    277.0, 2,    295.8, 2,     8.47, 2,    12.59, 2,     0.00, 2,     0.86, 2,  -999.00, 9,   0.5094,    -0.01, 2, 0, 2,  -999.00, 9,  -999.00, 9,   0.8620, 2, 0.163, 2, 0.139, 2, 4.659, 2
320620030705, SBI, 203, 1, 101, 1, 2, 20030804, 2125, 74.3917, -164.0057, 470,    471.5,   0.4084,  34.8605, 2,  34.8567, 2,    276.6, 2,    295.9, 2,     9.39, 2,    12.74, 2,     0.00, 2,     0.87, 2,  -999.00, 9,   0.3880,     0.00, 2, 0, 2,  -999.00, 9,  -999.00, 9,   0.5530, 2, 0.164, 2, 0.140, 2, 4.664, 2
320620030705, SBI, 204, 1, 117, 17, 2, 20030805, 358, 73.9917, -162.0299, 352,      1.2,  -1.1511,  28.7135, 2,  28.8683, 2,    356.1, 2,    388.6, 2,     4.35, 2,     0.15, 2,     0.00, 2,     0.68, 2,  -999.00, 9,  -1.1511,     0.00, 2, 0, 2,     0.43, 2,     0.03, 2,   0.9240, 2, 0.170, 2, 3.511, 2, 4.809, 2
320620030705, SBI, 204, 1, 116, 16, 2, 20030805, 356, 73.9917, -162.0299, 352,     17.3,  -1.2262,  29.3723, 2, -999.0000, 9,    366.5, 2,    398.7, 2,     7.22, 2,     0.25, 2,     0.01, 2,     0.77, 2,  -999.00, 9,  -1.2265,     0.02, 2, 0, 2,     0.99, 2,     0.03, 2,   1.4180, 2, 0.218, 2, 2.684, 2, 4.770, 2
320620030705, SBI, 204, 1, 114, 14, 2, 20030805, 354, 73.9917, -162.0299, 352,     27.3,  -1.4886,  31.3057, 2, -999.0000, 9,    374.8, 2,    392.4, 2,    14.12, 2,     1.78, 2,     0.08, 2,     1.04, 2,  -999.00, 9,  -1.4890,     0.19, 2, 0.04, 2,     5.81, 2,     0.22, 2,   2.1500, 2, 0.514, 2, 2.164, 2, 4.785, 2
320620030705, SBI, 204, 1, 115, 15, 2, 20030805, 354, 73.9917, -162.0299, 352,     27.3,  -1.4918,  31.3230, 2, -999.0000, 9,    377.7, 2,   -999.0, 9,  -999.00, 9,  -999.00, 9,  -999.00, 9,  -999.00, 9,  -999.00, 9,  -1.4922,  -999.00, 9, -999, 9,  -999.00, 9,  -999.00, 9,   2.1170, 2, 0.536, 2, 2.167, 2, 4.784, 2
320620030705, SBI, 204, 1, 113, 13, 2, 20030805, 352, 73.9917, -162.0299, 352,     42.1,  -1.6539,  31.6779, 2, -999.0000, 9,    320.3, 2,    347.4, 2,    27.59, 2,     6.21, 2,     0.22, 2,     1.41, 2,  -999.00, 9,  -1.6545,     1.17, 2, 0.27, 2,     0.11, 2,     0.11, 2,   0.9860, 2, 0.171, 2, 1.219, 2, 4.803, 2
320620030705, SBI, 204, 1, 112, 12, 2, 20030805, 350, 73.9917, -162.0299, 352,     57.2,  -1.6728,  31.9375, 2, -999.0000, 9,    317.5, 2,    338.0, 2,    29.44, 2,     7.38, 2,     0.16, 2,     1.47, 2,  -999.00, 9,  -1.6737,     1.04, 2, 0.04, 2,     0.07, 2,     0.07, 2,   0.8240, 2, 0.169, 2, 0.809, 2, 4.792, 2
320620030705, SBI, 204, 1, 111, 11, 2, 20030805, 348, 73.9917, -162.0299, 352,     77.3,  -1.6574,  32.1601, 2, -999.0000, 9,    322.5, 2,    349.5, 2,    27.24, 2,     6.63, 2,     0.16, 2,     1.45, 2,  -999.00, 9,  -1.6587,     1.60, 2, 0.04, 2,  -999.00, 9,  -999.00, 9,   0.8910, 2, 0.169, 2, 0.344, 2, 4.803, 2
320620030705, SBI, 204, 1, 110, 10, 2, 20030805, 346, 73.9917, -162.0299, 352,     97.3,  -1.6497,  32.3130, 2, -999.0000, 9,    308.9, 2,    331.9, 2,    29.62, 2,     8.53, 2,     0.13, 2,     1.55, 2,  -999.00, 9,  -1.6514,     1.07, 2, 0.02, 2,  -999.00, 9,  -999.00, 9,   0.7480, 2, 0.170, 2, 0.191, 2, 4.789, 2
320620030705, SBI, 204, 1, 109, 9, 2, 20030805, 344, 73.9917, -162.0299, 352,    117.2,  -1.6761,  32.5919, 2, -999.0000, 9,    285.0, 2,    307.1, 2,    35.74, 2,    12.17, 2,     0.07, 2,     1.75, 2,  -999.00, 9,  -1.6782,     0.94, 2, 0.08, 2,  -999.00, 9,  -999.00, 9,   0.7550, 2, 0.170, 2, 0.147, 2, 4.814, 2
320620030705, SBI, 204, 1, 108, 8, 2, 20030805, 342, 73.9917, -162.0299, 352,    137.3,  -1.5846,  32.9660, 2, -999.0000, 9,    278.0, 2,    300.4, 2,    30.30, 2,    12.80, 2,     0.02, 2,     1.61, 2,  -999.00, 9,  -1.5873,    -0.01, 2, 0.01, 2,  -999.00, 9,  -999.00, 9,   0.7060, 2, 0.167, 2, 0.140, 2, 4.799, 2
320620030705, SBI, 204, 1, 107, 7, 2, 20030805, 339, 73.9917, -162.0299, 352,    157.4,  -1.3391,  33.8657, 2, -999.0000, 9,    271.9, 2,    289.9, 2,    25.49, 2,    13.70, 2,     0.01, 2,     1.44, 2,  -999.00, 9,  -1.3428,    -0.01, 2, 0.02, 2,  -999.00, 9,  -999.00, 9,   0.7310, 2, 0.167, 2, 0.139, 2, 4.774, 2
320620030705, SBI, 204, 1, 106, 6, 2, 20030805, 337, 73.9917, -162.0299, 352,    177.1,  -0.6946,  34.3043, 2, -999.0000, 9,    258.4, 2,    277.8, 2,    18.21, 2,    13.28, 2,     0.01, 2,     1.18, 2,  -999.00, 9,  -0.6999,     0.00, 2, 0.02, 2,  -999.00, 9,  -999.00, 9,   0.6370, 2, 0.165, 2, 0.139, 2, 4.773, 2
320620030705, SBI, 204, 1, 105, 5, 2, 20030805, 335, 73.9917, -162.0299, 352,    196.6,  -0.3506,  34.4577, 2, -999.0000, 9,    258.5, 2,    277.5, 2,    14.68, 2,    12.85, 2,     0.01, 2,     1.05, 2,  -999.00, 9,  -0.3572,     0.00, 2, 0.01, 2,  -999.00, 9,  -999.00, 9,   0.6010, 2, 0.165, 2, 0.139, 2, 4.786, 2
320620030705, SBI, 204, 1, 104, 4, 2, 20030805, 332, 73.9917, -162.0299, 352,    215.9,   0.0798,  34.5992, 2,  34.5951, 2,    260.5, 2,    279.0, 2,    11.89, 2,    12.69, 2,     0.00, 2,     0.98, 2,  -999.00, 9,   0.0717,    -0.01, 2, 0.01, 2,  -999.00, 9,  -999.00, 9,   0.6600, 2, 0.164, 2, 0.140, 2, 4.801, 2
320620030705, SBI, 204, 1, 103, 3, 9, 20030805, 329, 73.9917, -162.0299, 352,    261.9,   0.5942,  34.7476, 2, -999.0000, 9,    262.8, 2,   -999.0, 9,  -999.00, 9,  -999.00, 9,  -999.00, 9,  -999.00, 9,  -999.00, 9,   0.5830,  -999.00, 9, -999, 9,  -999.00, 9,  -999.00, 9,   0.6940, 2, 0.163, 2, 0.140, 2, 4.763, 2
320620030705, SBI, 204, 1, 102, 2, 2, 20030805, 326, 73.9917, -162.0299, 352,    301.4,   0.7629,  34.8142, 2,  34.8115, 2,    264.4, 2,    282.5, 2,    11.25, 2,    13.01, 2,     0.00, 2,     0.92, 2,  -999.00, 9,   0.7495,    -0.01, 2, 0.01, 2,  -999.00, 9,  -999.00, 9,   0.5680, 2, 0.162, 2, 0.140, 2, 4.743, 2
320620030705, SBI, 204, 1, 101, 1, 2, 20030805, 323, 73.9917, -162.0299, 352,    350.6,   0.6327,  34.8493, 2,  34.8463, 2,    266.4, 2,    283.8, 2,    12.37, 2,    13.10, 2,     0.01, 2,     0.93, 2,  -999.00, 9,   0.6173,     0.00, 2, 0.01, 2,  -999.00, 9,  -999.00, 9,   0.6100, 2, 0.164, 2, 0.139, 2, 4.741, 2