BOTTLE,20100423CCHDOSIODBK
EXPOCODE,SECT_ID,STNNBR,CASTNO,SAMPNO,BTLNBR,BTLNBR_FLAG_W,DATE,TIME,LATITUDE,LONGITUDE,DEPTH,CTDPRS,CTDTMP,CTDSAL,CTDSAL_FLAG_W,SALNTY,SALNTY_FLAG_W,CTDOXY,CTDOXY_FLAG_W,OXYGEN,OXYGEN_FLAG_W,SILCAT,SILCAT_FLAG_W,NITRAT,NITRAT_FLAG_W,NITRIT,NITRIT_FLAG_W,PHSPHT,PHSPHT_FLAG_W,DOC,DOC_FLAG_W,THETA,NH4,NH4_FLAG_W,UREA,UREA_FLAG_W,CHLORA,CHLORA_FLAG_W,PPHYTN,PPHYTN_FLAG_W,FLUOR,FLUOR_FLAG_W,HAARDT,HAARDT_FLAG_W,PAR,PAR_FLAG_W,SPAR,SPAR_FLAG_W
,,,,,,,,,,,METERS,DBAR,ITS-90,PSS-78,,PSS-78,,UMOL/KG,,UMOL/KG,,UMOL/KG,,UMOL/KG,,UMOL/KG,,UMOL/KG,,UMOL/KG,,DEG C,UMOL/KG,,UMOL/KG,,UG/KG,,UG/KG,,MG/M^3,,VOLTS,,VOLTS,,VOLTS,
320620030705, SBI, 130, 1, 124, 24, 2, 20030728, 1349, 73.4282, -159.8841, 1760,      2.4,  -1.2800,  28.5571, 2,  28.5640, 2,    349.7, 2,    385.6, 2,     6.14, 2,     0.14, 2,     0.00, 2,     0.68, 2,  -999.00, 9,  -1.2800,     0.08, 2, 0, 2,     0.34, 2,     0.07, 2,   1.0190, 2, -999.000, 2, -999.000, 9, 4.867, 2
320620030705, SBI, 130, 1, 122, 22, 2, 20030728, 1346, 73.4282, -159.8841, 1760,     19.8,  -1.4186,  31.4425, 2, -999.0000, 9,    343.7, 2,   -999.0, 9,  -999.00, 9,  -999.00, 9,  -999.00, 9,  -999.00, 9,  -999.00, 9,  -1.4189,  -999.00, 9, -999, 9,  -999.00, 9,  -999.00, 9,   1.5000, 2, -999.000, 2, -999.000, 9, 4.852, 2
320620030705, SBI, 130, 1, 121, 21, 2, 20030728, 1346, 73.4282, -159.8841, 1760,     19.8,  -1.4192,  31.4433, 2, -999.0000, 9,    343.7, 2,   -999.0, 9,  -999.00, 9,  -999.00, 9,  -999.00, 9,  -999.00, 9,  -999.00, 9,  -1.4195,  -999.00, 9, -999, 9,  -999.00, 9,  -999.00, 9,   1.4410, 2, -999.000, 2, -999.000, 9, 4.851, 2
320620030705, SBI, 130, 1, 123, 23, 2, 20030728, 1346, 73.4282, -159.8841, 1760,     19.8,  -1.4195,  31.4430, 2, -999.0000, 9,    343.6, 2,    363.5, 2,    21.21, 2,     4.02, 2,     0.17, 2,     1.18, 2,  -999.00, 9,  -1.4198,     0.37, 2, 0.05, 2,     1.40, 2,     0.19, 2,   1.5470, 2, -999.000, 2, -999.000, 9, 4.854, 2
320620030705, SBI, 130, 1, 120, 20, 2, 20030728, 1343, 73.4282, -159.8841, 1760,     34.8,  -1.5747,  31.8454, 2, -999.0000, 9,    314.4, 2,    345.5, 2,    20.80, 2,     6.83, 2,     0.10, 2,     1.31, 2,  -999.00, 9,  -1.5753,     0.25, 2, 0.03, 2,     0.10, 2,     0.09, 2,   0.7910, 2, -999.000, 2, -999.000, 9, 4.889, 2
320620030705, SBI, 130, 1, 119, 19, 2, 20030728, 1341, 73.4282, -159.8841, 1760,     49.9,  -1.6747,  32.0436, 2, -999.0000, 9,    323.4, 2,    360.5, 2,    28.35, 2,     5.78, 2,     0.19, 2,     1.40, 2,  -999.00, 9,  -1.6755,     1.69, 2, 0.05, 2,     0.18, 2,     0.05, 2,   0.8060, 2, -999.000, 2, -999.000, 9, 4.896, 2
320620030705, SBI, 130, 1, 118, 18, 2, 20030728, 1339, 73.4282, -159.8841, 1760,     64.9,  -1.6581,  32.1644, 2, -999.0000, 9,    324.9, 2,    359.4, 2,    27.95, 2,     5.72, 2,     0.19, 2,     1.42, 2,  -999.00, 9,  -1.6592,     2.15, 2, 0.08, 2,     0.09, 2,     0.08, 2,   0.9860, 2, -999.000, 2, -999.000, 9, 4.894, 2
320620030705, SBI, 130, 1, 117, 17, 2, 20030728, 1337, 73.4282, -159.8841, 1760,     80.4,  -1.5690,  32.2271, 2, -999.0000, 9,    324.7, 2,    356.9, 2,    26.65, 2,     5.92, 2,     0.20, 2,     1.40, 2,  -999.00, 9,  -1.5704,     1.95, 2, 0.05, 2,  -999.00, 9,  -999.00, 9,   0.7760, 2, -999.000, 2, -999.000, 9, 4.878, 2
320620030705, SBI, 130, 1, 116, 16, 2, 20030728, 1335, 73.4282, -159.8841, 1760,     95.5,  -1.5707,  32.2865, 2, -999.0000, 9,    317.2, 2,    350.8, 2,    27.04, 2,     6.41, 2,     0.19, 2,     1.42, 2,  -999.00, 9,  -1.5724,     1.82, 2, 0.03, 2,  -999.00, 9,  -999.00, 9,   0.7150, 2, -999.000, 2, -999.000, 9, 4.886, 2
320620030705, SBI, 130, 1, 115, 15, 2, 20030728, 1332, 73.4282, -159.8841, 1760,    110.4,  -1.6046,  32.3768, 2, -999.0000, 9,    311.0, 2,    339.6, 2,    27.24, 2,     7.74, 2,     0.14, 2,     1.47, 2,  -999.00, 9,  -1.6066,     1.19, 2, 0.02, 2,  -999.00, 9,  -999.00, 9,   0.7710, 2, -999.000, 2, -999.000, 9, 4.891, 2
320620030705, SBI, 130, 1, 114, 14, 2, 20030728, 1330, 73.4282, -159.8841, 1760,    124.6,  -1.5921,  32.5740, 2, -999.0000, 9,    283.7, 2,    313.7, 2,    28.53, 2,    10.93, 2,     0.02, 2,     1.59, 2,  -999.00, 9,  -1.5944,     0.03, 2, 0.02, 2,  -999.00, 9,  -999.00, 9,   0.9510, 2, -999.000, 2, -999.000, 9, 4.915, 2
320620030705, SBI, 130, 1, 113, 13, 2, 20030728, 1328, 73.4282, -159.8841, 1760,    145.8,  -1.5901,  32.9989, 2, -999.0000, 9,    271.8, 2,    298.3, 2,    31.89, 2,    13.31, 2,     0.01, 2,     1.68, 2,  -999.00, 9,  -1.5930,     0.00, 2, 0.02, 2,  -999.00, 9,  -999.00, 9,   0.6900, 2, -999.000, 2, -999.000, 9, 4.926, 2
320620030705, SBI, 130, 1, 112, 12, 2, 20030728, 1326, 73.4282, -159.8841, 1760,    165.7,  -1.4875,  33.4166, 2, -999.0000, 9,    263.6, 2,    291.3, 2,    31.79, 2,    14.05, 2,     0.01, 2,     1.66, 2,  -999.00, 9,  -1.4911,     0.01, 2, 0.02, 2,  -999.00, 9,  -999.00, 9,   0.7610, 2, -999.000, 2, -999.000, 9, 4.932, 2
320620030705, SBI, 130, 1, 111, 11, 2, 20030728, 1324, 73.4282, -159.8841, 1760,    184.6,  -1.3516,  33.8204, 2, -999.0000, 9,    262.5, 2,    291.1, 2,    29.39, 2,    14.03, 2,     0.01, 2,     1.56, 2,  -999.00, 9,  -1.3560,     0.01, 2, 0.02, 2,  -999.00, 9,  -999.00, 9,   0.6710, 2, -999.000, 2, -999.000, 9, 4.921, 2
320620030705, SBI, 130, 1, 110, 10, 2, 20030728, 1321, 73.4282, -159.8841, 1760,    214.6,  -0.4657,  34.4179, 2, -999.0000, 9,    252.9, 2,    277.3, 2,    15.19, 2,    12.88, 2,     0.01, 2,     1.07, 2,  -999.00, 9,  -0.4727,     0.01, 2, 0.02, 2,  -999.00, 9,  -999.00, 9,   0.6520, 2, -999.000, 2, -999.000, 9, 4.905, 2
320620030705, SBI, 130, 1, 109, 9, 2, 20030728, 1319, 73.4282, -159.8841, 1760,    243.6,   0.0984,  34.6042, 2,  34.6214, 2,    255.9, 2,    279.6, 2,    11.52, 2,    12.77, 2,     0.01, 2,     0.97, 2,  -999.00, 9,   0.0891,     0.00, 2, 0.03, 2,  -999.00, 9,  -999.00, 9,   0.7540, 2, -999.000, 2, -999.000, 9, 4.921, 2
320620030705, SBI, 130, 1, 108, 8, 2, 20030728, 1316, 73.4282, -159.8841, 1760,    274.1,   0.4746,  34.7147, 2,  34.7249, 2,    260.5, 2,    284.2, 2,     9.54, 2,    12.72, 2,     0.00, 2,     0.91, 2,  -999.00, 9,   0.4631,     0.00, 2, 0.02, 2,  -999.00, 9,  -999.00, 9,   0.5720, 2, -999.000, 2, -999.000, 9, 4.936, 2
320620030705, SBI, 130, 1, 107, 7, 2, 20030728, 1314, 73.4282, -159.8841, 1760,    314.7,   0.7078,  34.7784, 2,  34.7801, 2,    267.2, 2,    290.7, 2,     7.75, 2,    12.56, 2,     0.00, 2,     0.87, 2,  -999.00, 9,   0.6939,     0.00, 2, 0.02, 2,  -999.00, 9,  -999.00, 9,   0.7350, 2, -999.000, 2, -999.000, 9, 4.925, 2
320620030705, SBI, 130, 1, 106, 6, 2, 20030728, 1311, 73.4282, -159.8841, 1760,    349.4,   0.8058,  34.8139, 2,  34.8149, 2,    269.8, 2,    293.1, 2,     7.35, 2,    12.56, 2,     0.00, 2,     0.87, 2,  -999.00, 9,   0.7899,     0.00, 2, 0.02, 2,  -999.00, 9,  -999.00, 9,   0.5210, 2, -999.000, 2, -999.000, 9, 4.920, 2
320620030705, SBI, 130, 1, 105, 5, 2, 20030728, 1307, 73.4282, -159.8841, 1760,    455.2,   0.6678,  34.8407, 2,  34.8410, 2,    270.9, 2,    295.6, 2,     7.54, 2,    12.61, 2,     0.00, 2,     0.87, 2,  -999.00, 9,   0.6472,     0.00, 2, 0.01, 2,  -999.00, 9,  -999.00, 9,   0.7060, 2, -999.000, 2, -999.000, 9, 4.930, 2
320620030705, SBI, 130, 1, 104, 4, 2, 20030728, 1301, 73.4282, -159.8841, 1760,    709.2,   0.2695,  34.8618, 2,  34.8601, 2,    272.6, 2,    298.7, 2,     7.45, 2,    12.71, 2,     0.00, 2,     0.87, 2,  -999.00, 9,   0.2381,     0.00, 2, 0.01, 2,  -999.00, 9,  -999.00, 9,   0.8590, 2, -999.000, 2, -999.000, 9, 4.926, 2
320620030705, SBI, 130, 1, 103, 3, 2, 20030728, 1249, 73.4282, -159.8841, 1760,   1213.9,  -0.1784,  34.8936, 2,  34.8943, 2,    271.4, 2,    299.3, 2,     8.34, 2,    13.13, 2,     0.00, 2,     0.91, 2,  -999.00, 9,  -0.2331,     0.00, 2, 0, 2,  -999.00, 9,  -999.00, 9,   0.5430, 2, -999.000, 2, -999.000, 9, 4.924, 2
320620030705, SBI, 130, 1, 102, 2, 2, 20030728, 1238, 73.4282, -159.8841, 1760,   1669.0,  -0.3907,  34.9294, 2,  34.9261, 2,    265.5, 2,    294.8, 2,    10.71, 2,    14.02, 2,     0.00, 2,     0.98, 2,  -999.00, 9,  -0.4698,     0.00, 2, 0, 2,  -999.00, 9,  -999.00, 9,   0.6730, 2, -999.000, 2, -999.000, 9, 4.909, 2
320620030705, SBI, 130, 1, 101, 1, 2, 20030728, 1234, 73.4282, -159.8841, 1760,   1778.7,  -0.4015,  34.9358, 2,  34.9333, 2,    262.8, 2,    290.7, 2,    11.70, 2,    14.29, 2,     0.00, 2,     1.00, 2,  -999.00, 9,  -0.4874,     0.00, 2, 0, 2,  -999.00, 9,  -999.00, 9,   0.8400, 2, -999.000, 2, -999.000, 9, 4.901, 2
320620030705, SBI, 131, 1, 124, 24, 2, 20030729, 19, 73.3795, -159.9701, 1546,      1.3,  -1.2873,  29.0654, 2,  29.2483, 2,    354.4, 2,    391.9, 2,     8.40, 2,     0.56, 2,     0.01, 2,     0.78, 2,  -999.00, 9,  -1.2873,     0.18, 2, 0.08, 2,     0.36, 2,     0.08, 2,   0.9690, 2, -999.000, 2, -999.000, 9, 4.655, 2
320620030705, SBI, 131, 1, 123, 23, 2, 20030729, 13, 73.3795, -159.9701, 1546,     17.9,  -1.2868,  29.8386, 2, -999.0000, 9,    353.8, 2,    392.3, 2,    11.63, 2,     1.09, 2,     0.04, 2,     0.86, 2,  -999.00, 9,  -1.2871,     0.45, 2, 0.2, 2,     0.85, 2,     0.18, 2,   1.4470, 2, -999.000, 2, -999.000, 9, 4.704, 2
320620030705, SBI, 131, 1, 122, 22, 2, 20030729, 11, 73.3795, -159.9701, 1546,     28.7,  -1.3826,  31.5544, 2, -999.0000, 9,    330.3, 2,    362.5, 2,    18.30, 2,     4.93, 2,     0.23, 2,     1.21, 2,  -999.00, 9,  -1.3831,     0.33, 2, 0.04, 2,     0.36, 2,     0.26, 2,   1.1910, 2, -999.000, 2, -999.000, 9, 4.698, 2
320620030705, SBI, 131, 1, 121, 21, 2, 20030729, 10, 73.3795, -159.9701, 1546,     45.8,  -1.6714,  31.8760, 2, -999.0000, 9,    310.8, 2,    344.8, 2,    28.73, 2,     7.41, 2,     0.21, 2,     1.46, 2,  -999.00, 9,  -1.6721,     0.75, 2, 0.06, 2,     0.08, 2,     0.06, 2,   0.8870, 2, -999.000, 2, -999.000, 9, 4.706, 2
320620030705, SBI, 131, 1, 120, 20, 2, 20030729, 8, 73.3795, -159.9701, 1546,     62.3,  -1.6666,  32.0936, 2, -999.0000, 9,    325.6, 2,    357.9, 2,    27.72, 2,     5.88, 2,     0.19, 2,     1.41, 2,  -999.00, 9,  -1.6676,     1.55, 2, 0.09, 2,     0.03, 2,     0.07, 2,   0.7760, 2, -999.000, 2, -999.000, 9, 4.719, 2
320620030705, SBI, 131, 1, 119, 19, 2, 20030729, 7, 73.3795, -159.9701, 1546,     77.1,  -1.6234,  32.1926, 2, -999.0000, 9,    315.8, 2,    350.7, 2,    27.43, 2,     6.96, 2,     0.18, 2,     1.46, 2,  -999.00, 9,  -1.6247,     1.48, 2, 0.04, 2,  -999.00, 9,  -999.00, 9,   0.8550, 2, -999.000, 2, -999.000, 9, 4.718, 2
320620030705, SBI, 131, 1, 118, 18, 2, 20030729, 6, 73.3795, -159.9701, 1546,     92.5,  -1.6177,  32.2915, 2, -999.0000, 9,    314.0, 2,    345.4, 2,    28.00, 2,     7.73, 2,     0.15, 2,     1.48, 2,  -999.00, 9,  -1.6193,     1.33, 2, 0.03, 2,  -999.00, 9,  -999.00, 9,   0.7240, 2, -999.000, 2, -999.000, 9, 4.707, 2
320620030705, SBI, 131, 1, 117, 17, 2, 20030729, 5, 73.3795, -159.9701, 1546,    107.0,  -1.5862,  32.3794, 2, -999.0000, 9,    300.0, 2,    334.9, 2,    27.11, 2,     8.66, 2,     0.12, 2,     1.50, 2,  -999.00, 9,  -1.5881,     0.66, 2, 0.03, 2,  -999.00, 9,  -999.00, 9,   0.7690, 2, -999.000, 2, -999.000, 9, 4.695, 2
320620030705, SBI, 131, 1, 116, 16, 2, 20030729, 3, 73.3795, -159.9701, 1546,    122.6,  -1.5973,  32.5714, 2, -999.0000, 9,    282.6, 2,    309.3, 2,    29.17, 2,    11.58, 2,     0.01, 2,     1.63, 2,  -999.00, 9,  -1.5996,     0.01, 2, 0.03, 2,  -999.00, 9,  -999.00, 9,   0.7740, 2, -999.000, 2, -999.000, 9, 4.696, 2
320620030705, SBI, 131, 1, 115, 15, 2, 20030729, 2, 73.3795, -159.9701, 1546,    137.6,  -1.5912,  32.8374, 2, -999.0000, 9,    272.8, 2,    301.6, 2,    30.54, 2,    12.89, 2,     0.01, 2,     1.67, 2,  -999.00, 9,  -1.5938,     0.01, 2, 0.05, 2,  -999.00, 9,  -999.00, 9,   0.6870, 2, -999.000, 2, -999.000, 9, 4.708, 2
320620030705, SBI, 131, 1, 114, 14, 2, 20030729, 1, 73.3795, -159.9701, 1546,    153.5,  -1.5816,  33.1017, 2, -999.0000, 9,    271.2, 2,    300.6, 2,    31.51, 2,    13.20, 2,     0.01, 2,     1.67, 2,  -999.00, 9,  -1.5847,     0.01, 2, 0.04, 2,  -999.00, 9,  -999.00, 9,   0.7740, 2, -999.000, 2, -999.000, 9, 4.711, 2
320620030705, SBI, 131, 1, 113, 13, 2, 20030729, 2359, 73.3795, -159.9701, 1546,    168.8,  -1.4293,  33.5897, 2, -999.0000, 9,    263.3, 2,    292.4, 2,    30.71, 2,    14.10, 2,     0.01, 2,     1.62, 2,  -999.00, 9,  -1.4331,     0.00, 2, 0.03, 2,  -999.00, 9,  -999.00, 9,   0.7210, 2, -999.000, 2, -999.000, 9, 4.720, 2
320620030705, SBI, 131, 1, 112, 12, 2, 20030729, 2358, 73.3795, -159.9701, 1546,    183.5,  -1.2529,  33.9448, 2, -999.0000, 9,    261.6, 2,    288.0, 2,    27.73, 2,    14.20, 2,     0.01, 2,     1.51, 2,  -999.00, 9,  -1.2574,     0.00, 2, 0.03, 2,  -999.00, 9,  -999.00, 9,   0.7810, 2, -999.000, 2, -999.000, 9, 4.732, 2
320620030705, SBI, 131, 1, 111, 11, 2, 20030729, 2357, 73.3795, -159.9701, 1546,    198.0,  -0.9038,  34.2220, 2, -999.0000, 9,    255.8, 2,    281.2, 2,    21.53, 2,    13.77, 2,     0.01, 2,     1.30, 2,  -999.00, 9,  -0.9094,     0.00, 2, 0.03, 2,  -999.00, 9,  -999.00, 9,   0.8950, 2, -999.000, 2, -999.000, 9, 4.744, 2
320620030705, SBI, 131, 1, 110, 10, 2, 20030729, 2355, 73.3795, -159.9701, 1546,    213.6,  -0.5274,  34.4053, 2, -999.0000, 9,    254.2, 2,    278.5, 2,    15.93, 2,    13.08, 2,     0.01, 2,     1.09, 2,  -999.00, 9,  -0.5343,     0.00, 2, 0.02, 2,  -999.00, 9,  -999.00, 9,   0.8700, 2, -999.000, 2, -999.000, 9, 4.747, 2
320620030705, SBI, 131, 1, 109, 9, 2, 20030729, 2354, 73.3795, -159.9701, 1546,    234.1,  -0.0450,  34.5565, 2, -999.0000, 9,    255.4, 2,    278.7, 2,    12.47, 2,    12.92, 2,     0.01, 2,     1.00, 2,  -999.00, 9,  -0.0536,     0.00, 2, 0.02, 2,  -999.00, 9,  -999.00, 9,   0.7120, 2, -999.000, 2, -999.000, 9, 4.729, 2
320620030705, SBI, 131, 1, 108, 8, 2, 20030729, 2352, 73.3795, -159.9701, 1546,    259.0,   0.3488,  34.6804, 2,  34.6992, 2,    258.9, 2,    282.8, 2,    10.21, 2,    12.87, 2,     0.00, 2,     0.94, 2,  -999.00, 9,   0.3383,     0.00, 2, 0.01, 2,  -999.00, 9,  -999.00, 9,   0.6030, 2, -999.000, 2, -999.000, 9, 4.707, 2
320620030705, SBI, 131, 1, 107, 7, 2, 20030729, 2349, 73.3795, -159.9701, 1546,    354.6,   0.8182,  34.8201, 2,  34.8240, 2,    271.4, 2,    296.2, 2,     6.97, 2,    12.55, 2,     0.00, 2,     0.87, 2,  -999.00, 9,   0.8020,     0.00, 2, 0.01, 2,  -999.00, 9,  -999.00, 9,   0.5600, 2, -999.000, 2, -999.000, 9, 4.692, 2
320620030705, SBI, 131, 1, 106, 6, 2, 20030729, 2344, 73.3795, -159.9701, 1546,    557.8,   0.4709,  34.8519, 2,  34.8519, 2,    272.9, 2,    297.9, 2,     7.35, 2,    12.70, 2,     0.00, 2,     0.88, 2,  -999.00, 9,   0.4461,     0.00, 2, 0.02, 2,  -999.00, 9,  -999.00, 9,   0.6220, 2, -999.000, 2, -999.000, 9, 4.730, 2
320620030705, SBI, 131, 1, 105, 5, 2, 20030729, 2338, 73.3795, -159.9701, 1546,    754.4,   0.2261,  34.8640, 2,  34.8640, 2,    274.2, 2,   -999.0, 9,     7.14, 2,    12.70, 2,     0.00, 2,     0.87, 2,  -999.00, 9,   0.1927,     0.00, 2, 0.02, 2,  -999.00, 9,  -999.00, 9,   0.4950, 2, -999.000, 2, -999.000, 9, 4.683, 2
320620030705, SBI, 131, 1, 104, 4, 2, 20030729, 2333, 73.3795, -159.9701, 1546,    958.0,   0.0017,  34.8767, 2,  34.8746, 2,    273.7, 2,    301.0, 2,     7.53, 2,    12.81, 2,     0.00, 2,     0.89, 2,  -999.00, 9,  -0.0407,     0.00, 2, 0, 2,  -999.00, 9,  -999.00, 9,   0.6650, 2, -999.000, 2, -999.000, 9, 4.657, 2
320620030705, SBI, 131, 1, 103, 3, 2, 20030729, 2328, 73.3795, -159.9701, 1546,   1160.2,  -0.1601,  34.8915, 2,  34.8923, 2,    272.5, 2,    300.6, 2,     8.11, 2,    13.08, 2,     0.00, 2,     0.91, 2,  -999.00, 9,  -0.2120,     0.00, 2, 0, 2,  -999.00, 9,  -999.00, 9,   0.5180, 2, -999.000, 2, -999.000, 9, 4.712, 2
320620030705, SBI, 131, 1, 102, 2, 2, 20030729, 2321, 73.3795, -159.9701, 1546,   1455.0,  -0.3301,  34.9146, 2,  34.9141, 2,    270.2, 2,    298.7, 2,     9.28, 2,    13.59, 2,     0.00, 2,     0.95, 2,  -999.00, 9,  -0.3970,     0.01, 2, 0.01, 2,  -999.00, 9,  -999.00, 9,   0.8090, 2, -999.000, 2, -999.000, 9, 4.697, 2
320620030705, SBI, 131, 1, 101, 1, 2, 20030729, 2318, 73.3795, -159.9701, 1546,   1556.9,  -0.3534,  34.9207, 2,  34.9191, 2,    268.5, 2,    295.8, 2,     9.87, 2,    13.70, 2,     0.00, 2,     0.97, 2,  -999.00, 9,  -0.4261,     0.01, 2, 0.05, 2,  -999.00, 9,  -999.00, 9,   0.5930, 2, -999.000, 2, -999.000, 9, 4.707, 2
320620030705, SBI, 132, 3, 303, 3, 2, 20030729, 544, 73.3448, -160.0355, 1381,    945.3,   0.0166,  34.8762, 2,  34.8767, 2,    274.0, 2,    300.7, 2,     7.69, 2,    12.81, 2,     0.00, 2,     0.89, 2,  -999.00, 9,  -0.0252,     0.00, 2, 0.01, 2,  -999.00, 9,  -999.00, 9,   0.5500, 2, -999.000, 2, -999.000, 9, 4.984, 2
320620030705, SBI, 132, 3, 302, 2, 2, 20030729, 535, 73.3448, -160.0355, 1381,   1274.0,  -0.2201,  34.8991, 2,  34.8955, 2,    272.2, 2,    300.9, 2,     8.68, 2,    13.28, 2,     0.00, 2,     0.93, 2,  -999.00, 9,  -0.2778,     0.00, 2, 0, 2,  -999.00, 9,  -999.00, 9,   0.5040, 2, -999.000, 2, -999.000, 9, 4.960, 2
320620030705, SBI, 132, 3, 301, 1, 2, 20030729, 532, 73.3448, -160.0355, 1381,   1383.8,  -0.3149,  34.9122, 2,  34.9118, 2,    270.7, 2,    298.3, 2,     9.36, 2,    13.54, 2,     0.00, 2,     0.95, 2,  -999.00, 9,  -0.3778,     0.00, 2, 0.01, 2,  -999.00, 9,  -999.00, 9,   0.5440, 2, -999.000, 2, -999.000, 9, 4.970, 2