BOTTLE,20100423CCHDOSIODBK
EXPOCODE,SECT_ID,STNNBR,CASTNO,SAMPNO,BTLNBR,BTLNBR_FLAG_W,DATE,TIME,LATITUDE,LONGITUDE,DEPTH,CTDPRS,CTDTMP,CTDSAL,CTDSAL_FLAG_W,SALNTY,SALNTY_FLAG_W,CTDOXY,CTDOXY_FLAG_W,OXYGEN,OXYGEN_FLAG_W,SILCAT,SILCAT_FLAG_W,NITRAT,NITRAT_FLAG_W,NITRIT,NITRIT_FLAG_W,PHSPHT,PHSPHT_FLAG_W,DOC,DOC_FLAG_W,THETA,NH4,NH4_FLAG_W,UREA,UREA_FLAG_W,CHLORA,CHLORA_FLAG_W,PPHYTN,PPHYTN_FLAG_W,FLUOR,FLUOR_FLAG_W,HAARDT,HAARDT_FLAG_W,PAR,PAR_FLAG_W,SPAR,SPAR_FLAG_W
,,,,,,,,,,,METERS,DBAR,ITS-90,PSS-78,,PSS-78,,UMOL/KG,,UMOL/KG,,UMOL/KG,,UMOL/KG,,UMOL/KG,,UMOL/KG,,UMOL/KG,,DEG C,UMOL/KG,,UMOL/KG,,UG/KG,,UG/KG,,MG/M^3,,VOLTS,,VOLTS,,VOLTS,
320620030705, SBI, 37, 1, 124, 24, 2, 20030716, 44, 72.9565, -152.2174, 3824,      2.0,  -1.1765,  28.7842, 2,  28.8808, 2,    361.7, 2,    399.3, 2,     2.79, 2,     0.09, 2,     0.00, 2,     0.68, 2,  -999.00, 9,  -1.1765,     0.01, 2, 0, 2,     0.04, 2,     0.01, 2,   0.5050, 2, -999.000, 2, -999.000, 9, 3.948, 2
320620030705, SBI, 37, 1, 123, 23, 2, 20030716, 41, 72.9565, -152.2174, 3824,     26.7,  -1.3638,  30.1224, 2, -999.0000, 9,    366.6, 2,    404.7, 2,     4.32, 2,     0.28, 2,     0.03, 2,     0.77, 2,  -999.00, 9,  -1.3642,     0.02, 2, 0, 2,     0.16, 2,     0.17, 2,   1.0190, 2, -999.000, 2, -999.000, 9, 3.898, 2
320620030705, SBI, 37, 1, 122, 22, 2, 20030716, 40, 72.9565, -152.2174, 3824,     41.6,  -1.0679,  31.5817, 2, -999.0000, 9,    330.6, 2,    336.8, 2,    12.89, 2,     5.28, 2,     0.09, 2,     1.20, 2,  -999.00, 9,  -1.0687,     0.02, 2, 0.01, 2,     0.31, 2,     0.38, 2,   1.2040, 2, -999.000, 2, -999.000, 9, 3.898, 2
320620030705, SBI, 37, 1, 121, 21, 2, 20030716, 38, 72.9565, -152.2174, 3824,     56.7,  -1.3300,  32.3447, 2, -999.0000, 9,    283.0, 2,    306.4, 2,    23.10, 2,    10.77, 2,     0.01, 2,     1.55, 2,  -999.00, 9,  -1.3311,     0.00, 2, 0.01, 2,     0.14, 2,     0.06, 2,   1.0620, 2, -999.000, 2, -999.000, 9, 3.936, 2
320620030705, SBI, 37, 1, 120, 20, 2, 20030716, 36, 72.9565, -152.2174, 3824,     81.9,  -1.4103,  32.6531, 2, -999.0000, 9,    272.4, 2,    300.4, 2,    26.76, 2,    12.30, 2,     0.00, 2,     1.62, 2,  -999.00, 9,  -1.4119,     0.00, 2, 0.02, 2,     0.04, 2,     0.01, 2,   0.6710, 2, -999.000, 2, -999.000, 9, 3.922, 2
320620030705, SBI, 37, 1, 119, 19, 2, 20030716, 34, 72.9565, -152.2174, 3824,     96.8,  -1.3919,  32.7443, 2, -999.0000, 9,    269.7, 2,    297.1, 2,    27.89, 2,    12.82, 2,     0.00, 2,     1.65, 2,  -999.00, 9,  -1.3939,     0.01, 2, 0.01, 2,  -999.00, 9,  -999.00, 9,   0.6390, 2, -999.000, 2, -999.000, 9, 3.942, 2
320620030705, SBI, 37, 1, 118, 18, 2, 20030716, 33, 72.9565, -152.2174, 3824,    116.8,  -1.4412,  32.8273, 2, -999.0000, 9,    268.6, 2,    296.2, 2,    28.80, 2,    13.09, 2,     0.00, 2,     1.66, 2,  -999.00, 9,  -1.4436,     0.01, 2, 0.01, 2,  -999.00, 9,  -999.00, 9,   0.5510, 2, -999.000, 2, -999.000, 9, 3.945, 2
320620030705, SBI, 37, 1, 117, 17, 2, 20030716, 31, 72.9565, -152.2174, 3824,    137.0,  -1.4629,  32.8948, 2, -999.0000, 9,    264.0, 2,    291.1, 2,    30.44, 2,    13.77, 2,     0.00, 2,     1.71, 2,  -999.00, 9,  -1.4657,     0.01, 2, 0.01, 2,  -999.00, 9,  -999.00, 9,   0.6400, 2, -999.000, 2, -999.000, 9, 3.820, 2
320620030705, SBI, 37, 1, 116, 16, 2, 20030716, 29, 72.9565, -152.2174, 3824,    156.9,  -1.4656,  32.9568, 2, -999.0000, 9,    261.5, 2,    290.0, 2,    31.56, 2,    14.19, 2,     0.00, 2,     1.73, 2,  -999.00, 9,  -1.4688,     0.01, 2, 0.03, 2,     0.01, 2,     0.01, 2,   0.5780, 2, -999.000, 2, -999.000, 9, 4.036, 2
320620030705, SBI, 37, 1, 115, 15, 2, 20030716, 27, 72.9565, -152.2174, 3824,    177.1,  -1.5558,  33.0363, 2, -999.0000, 9,    266.6, 2,    295.3, 2,    31.15, 2,    14.03, 2,     0.00, 2,     1.72, 2,  -999.00, 9,  -1.5594,     0.01, 2, 0.01, 2,  -999.00, 9,  -999.00, 9,   0.8560, 2, -999.000, 2, -999.000, 9, 4.108, 2
320620030705, SBI, 37, 1, 114, 14, 2, 20030716, 26, 72.9565, -152.2174, 3824,    198.0,  -1.4184,  33.2690, 2, -999.0000, 9,    255.7, 2,    281.9, 2,    32.26, 2,    14.71, 2,     0.00, 2,     1.72, 2,  -999.00, 9,  -1.4228,     0.00, 2, 0.01, 2,  -999.00, 9,  -999.00, 9,   0.5950, 2, -999.000, 2, -999.000, 9, 4.025, 2
320620030705, SBI, 37, 1, 113, 13, 2, 20030716, 24, 72.9565, -152.2174, 3824,    219.1,  -1.2010,  33.8425, 2, -999.0000, 9,    254.1, 2,    280.8, 2,    28.97, 2,    14.75, 2,     0.01, 2,     1.56, 2,  -999.00, 9,  -1.2066,     0.01, 2, 0.01, 2,  -999.00, 9,  -999.00, 9,   0.6240, 2, -999.000, 2, -999.000, 9, 4.085, 2
320620030705, SBI, 37, 1, 112, 12, 2, 20030716, 21, 72.9565, -152.2174, 3824,    249.0,  -0.6674,  34.3461, 2, -999.0000, 9,    250.7, 2,    274.9, 2,    17.40, 2,    13.29, 2,     0.00, 2,     1.16, 2,  -999.00, 9,  -0.6752,     0.00, 2, 0.01, 2,  -999.00, 9,  -999.00, 9,   0.8710, 2, -999.000, 2, -999.000, 9, 4.017, 2
320620030705, SBI, 37, 1, 111, 11, 2, 20030716, 19, 72.9565, -152.2174, 3824,    328.7,   0.1456,  34.6529, 2,  34.6630, 2,    248.7, 2,    272.3, 2,    12.49, 2,    13.38, 2,     0.00, 2,     1.02, 2,  -999.00, 9,   0.1326,     0.00, 2, 0.02, 2,  -999.00, 9,  -999.00, 9,   0.5260, 2, -999.000, 2, -999.000, 9, 4.054, 2
320620030705, SBI, 37, 1, 110, 10, 2, 20030716, 15, 72.9565, -152.2174, 3824,    459.8,   0.7129,  34.8082, 2,  34.8071, 2,    268.0, 2,    291.6, 2,     7.37, 2,    12.71, 2,     0.00, 2,     0.89, 2,  -999.00, 9,   0.6919,     0.00, 2, 0.02, 2,  -999.00, 9,  -999.00, 9,   0.6260, 2, -999.000, 2, -999.000, 9, 3.642, 2
320620030705, SBI, 37, 1, 109, 9, 2, 20030716, 10, 72.9565, -152.2174, 3824,    610.9,   0.5223,  34.8419, 2,  34.8421, 2,    269.7, 2,    295.4, 2,     7.26, 2,    12.75, 2,     0.00, 2,     0.89, 2,  -999.00, 9,   0.4946,     0.00, 2, 0.01, 2,  -999.00, 9,  -999.00, 9,   0.7190, 2, -999.000, 2, -999.000, 9, 3.608, 2
320620030705, SBI, 37, 1, 108, 8, 2, 20030716, 3, 72.9565, -152.2174, 3824,    913.5,   0.1564,  34.8697, 2,  34.8700, 2,    271.2, 2,    300.4, 2,     7.06, 2,    12.80, 2,     0.00, 2,     0.90, 2,  -999.00, 9,   0.1152,     0.00, 2, 0.01, 2,  -999.00, 9,  -999.00, 9,   0.6280, 2, -999.000, 2, -999.000, 9, 3.848, 2
320620030705, SBI, 37, 1, 107, 7, 2, 20030716, 2355, 72.9565, -152.2174, 3824,   1216.4,  -0.1322,  34.8919, 2,  34.8915, 2,    270.0, 2,    299.9, 2,     7.66, 2,    13.02, 2,     0.00, 2,     0.92, 2,  -999.00, 9,  -0.1875,     0.00, 2, 0.01, 2,  -999.00, 9,  -999.00, 9,   0.5450, 2, -999.000, 2, -999.000, 9, 3.920, 2
320620030705, SBI, 37, 1, 106, 6, 2, 20030716, 2348, 72.9565, -152.2174, 3824,   1519.6,  -0.3032,  34.9125, 2,  34.9109, 2,    267.6, 2,    298.8, 2,     8.57, 2,    13.49, 2,     0.00, 2,     0.95, 2,  -999.00, 9,  -0.3743,     0.00, 2, 0, 2,  -999.00, 9,  -999.00, 9,   0.4720, 2, -999.000, 2, -999.000, 9, 4.262, 2
320620030705, SBI, 37, 1, 105, 5, 2, 20030716, 2337, 72.9565, -152.2174, 3824,   2026.0,  -0.4072,  34.9420, 2,  34.9384, 2,    259.5, 2,    292.2, 2,    11.23, 2,    14.33, 2,     0.00, 2,     1.02, 2,  -999.00, 9,  -0.5092,     0.00, 2, 0.01, 2,  -999.00, 9,  -999.00, 9,   0.5850, 2, -999.000, 2, -999.000, 9, 4.050, 2
320620030705, SBI, 37, 1, 104, 4, 2, 20030716, 2325, 72.9565, -152.2174, 3824,   2533.7,  -0.3783,  34.9533, 2,  34.9497, 2,    254.1, 2,    286.5, 2,    12.75, 2,    14.69, 2,     0.00, 2,     1.04, 2,  -999.00, 9,  -0.5174,     0.00, 2, 0.01, 2,  -999.00, 9,  -999.00, 9,   0.7490, 2, -999.000, 2, -999.000, 9, 3.949, 2
320620030705, SBI, 37, 1, 103, 3, 2, 20030716, 2313, 72.9565, -152.2174, 3824,   3042.5,  -0.3321,  34.9569, 2,  34.9555, 2,    251.9, 2,    284.0, 2,    13.46, 2,    14.75, 2,     0.00, 2,     1.05, 2,  -999.00, 9,  -0.5130,     0.00, 2, 0, 2,  -999.00, 9,  -999.00, 9,   0.5210, 2, -999.000, 2, -999.000, 9, 3.943, 2
320620030705, SBI, 37, 1, 102, 2, 2, 20030716, 2302, 72.9565, -152.2174, 3824,   3552.5,  -0.2850,  34.9570, 2,  34.9530, 2,    252.0, 2,    283.9, 2,    13.66, 2,    14.75, 2,     0.00, 2,     1.05, 2,  -999.00, 9,  -0.5121,     0.00, 2, 0, 2,  -999.00, 9,  -999.00, 9,   0.4910, 2, -999.000, 2, -999.000, 9, 4.079, 2
320620030705, SBI, 37, 1, 101, 1, 2, 20030716, 2253, 72.9565, -152.2174, 3824,   3889.4,  -0.2517,  34.9569, 2,  34.9536, 2,    253.1, 2,    283.8, 2,    13.55, 2,    14.75, 2,     0.00, 2,     1.05, 2,  -999.00, 9,  -0.5116,     0.00, 2, 0.01, 2,  -999.00, 9,  -999.00, 9,   0.4620, 2, -999.000, 2, -999.000, 9, 3.956, 2
320620030705, SBI, 38, 1, 124, 24, 2, 20030716, 540, 72.7475, -151.6529, 3858,      2.0,  -1.1646,  28.1859, 2,  28.2875, 2,    362.2, 2,    396.7, 2,     2.61, 2,     0.13, 2,     0.00, 2,     0.65, 2,    71.60, 2,  -1.1646,     0.01, 2, 0, 2,     0.03, 2,     0.01, 2,   0.5350, 2, -999.000, 2, -999.000, 9, 4.726, 2
320620030705, SBI, 38, 1, 123, 23, 2, 20030716, 538, 72.7475, -151.6529, 3858,     21.6,  -1.3665,  29.5478, 2, -999.0000, 9,    366.5, 2,    401.9, 2,     2.91, 2,     0.07, 2,     0.00, 2,     0.70, 2,    68.90, 2,  -1.3668,     0.00, 2, 0, 2,     0.08, 2,     0.05, 2,   0.6800, 2, -999.000, 2, -999.000, 9, 4.728, 2
320620030705, SBI, 38, 1, 122, 22, 2, 20030716, 537, 72.7475, -151.6529, 3858,     36.6,  -1.2774,  29.9816, 2, -999.0000, 9,    370.0, 2,    381.7, 0,     4.55, 2,     0.59, 2,     0.03, 2,     0.78, 2,    69.30, 2,  -1.2780,     0.01, 2, 0, 2,     0.31, 2,     0.27, 2,   0.9750, 2, -999.000, 2, -999.000, 9, 4.731, 2
320620030705, SBI, 38, 1, 120, 20, 2, 20030716, 535, 72.7475, -151.6529, 3858,     56.4,  -0.8849,  31.7088, 2, -999.0000, 9,    331.0, 2,   -999.0, 9,  -999.00, 9,  -999.00, 9,  -999.00, 9,  -999.00, 9,  -999.00, 9,  -0.8862,  -999.00, 9, -999, 9,  -999.00, 9,  -999.00, 9,   1.4290, 2, -999.000, 2, -999.000, 9, 4.720, 2
320620030705, SBI, 38, 1, 121, 21, 2, 20030716, 535, 72.7475, -151.6529, 3858,     56.4,  -0.8864,  31.7125, 2, -999.0000, 9,    331.4, 2,   -999.0, 9,  -999.00, 9,  -999.00, 9,  -999.00, 9,  -999.00, 9,  -999.00, 9,  -0.8877,  -999.00, 9, -999, 9,  -999.00, 9,  -999.00, 9,   1.4280, 2, -999.000, 2, -999.000, 9, 4.723, 2
320620030705, SBI, 38, 1, 119, 19, 2, 20030716, 535, 72.7475, -151.6529, 3858,     56.4,  -0.8930,  31.7185, 2, -999.0000, 9,    329.8, 2,    347.3, 2,    13.76, 2,     5.86, 2,     0.05, 2,     1.24, 2,    66.10, 2,  -0.8943,     0.01, 2, 0.01, 2,     0.39, 2,     0.38, 2,   1.4550, 2, -999.000, 2, -999.000, 9, 4.720, 2
320620030705, SBI, 38, 1, 118, 18, 2, 20030716, 533, 72.7475, -151.6529, 3858,     69.2,  -1.2161,  32.1192, 2, -999.0000, 9,    299.9, 2,    326.1, 2,    18.58, 2,     8.76, 2,     0.01, 2,     1.43, 2,  -999.00, 9,  -1.2175,     0.00, 2, 0, 2,  -999.00, 9,  -999.00, 9,   1.0090, 2, -999.000, 2, -999.000, 9, 4.719, 2
320620030705, SBI, 38, 1, 117, 17, 2, 20030716, 532, 72.7475, -151.6529, 3858,     84.3,  -1.3711,  32.3945, 2, -999.0000, 9,    282.5, 2,    309.3, 2,    22.88, 2,    10.92, 2,     0.00, 2,     1.57, 2,    63.30, 2,  -1.3728,     0.00, 2, 0.01, 2,     0.05, 2,     0.01, 2,   0.9010, 2, -999.000, 2, -999.000, 9, 4.722, 2
320620030705, SBI, 38, 1, 116, 16, 2, 20030716, 531, 72.7475, -151.6529, 3858,     99.3,  -1.4557,  32.5816, 2, -999.0000, 9,    273.8, 2,    299.5, 2,    26.87, 2,    12.54, 2,     0.00, 2,     1.66, 2,    64.20, 2,  -1.4576,     0.00, 2, 0.03, 2,  -999.00, 9,  -999.00, 9,   0.6020, 2, -999.000, 2, -999.000, 9, 4.724, 2
320620030705, SBI, 38, 1, 115, 15, 2, 20030716, 529, 72.7475, -151.6529, 3858,    114.7,  -1.4977,  32.7146, 2, -999.0000, 9,    268.2, 2,    292.9, 2,    29.64, 2,    13.59, 2,     0.00, 2,     1.73, 2,    62.30, 2,  -1.4999,     0.00, 2, 0.01, 2,  -999.00, 9,  -999.00, 9,   0.7090, 2, -999.000, 2, -999.000, 9, 4.713, 2
320620030705, SBI, 38, 1, 114, 14, 2, 20030716, 527, 72.7475, -151.6529, 3858,    129.7,  -1.5438,  32.8462, 2, -999.0000, 9,    267.9, 2,    293.6, 2,    31.28, 2,    14.10, 2,     0.00, 2,     1.74, 2,    59.60, 2,  -1.5463,     0.00, 2, 0.01, 2,  -999.00, 9,  -999.00, 9,   0.6260, 2, -999.000, 2, -999.000, 9, 4.709, 2
320620030705, SBI, 38, 1, 113, 13, 2, 20030716, 526, 72.7475, -151.6529, 3858,    144.9,  -1.5399,  32.9573, 2,  32.9704, 2,    264.4, 2,    289.6, 2,    32.72, 2,    14.62, 2,     0.00, 2,     1.78, 2,    59.80, 2,  -1.5428,     0.00, 2, 0, 2,  -999.00, 9,  -999.00, 9,   0.6180, 2, -999.000, 2, -999.000, 9, 4.726, 2
320620030705, SBI, 38, 1, 112, 12, 2, 20030716, 524, 72.7475, -151.6529, 3858,    159.9,  -1.5101,  33.1243, 2, -999.0000, 9,    260.7, 2,    286.9, 2,    33.43, 2,    14.98, 2,     0.00, 2,     1.78, 2,    56.80, 2,  -1.5134,     0.00, 2, 0.01, 2,     0.00, 2,     0.01, 2,   0.6370, 2, -999.000, 2, -999.000, 9, 4.728, 2
320620030705, SBI, 38, 1, 111, 11, 2, 20030716, 523, 72.7475, -151.6529, 3858,    174.6,  -1.4305,  33.3429, 2,  33.3734, 2,    256.3, 2,    281.7, 2,    32.91, 2,    14.87, 2,     0.00, 2,     1.69, 2,  -999.00, 9,  -1.4343,     0.00, 2, 0.01, 2,  -999.00, 9,  -999.00, 9,   0.9150, 2, -999.000, 2, -999.000, 9, 4.726, 2
320620030705, SBI, 38, 1, 110, 10, 2, 20030716, 521, 72.7475, -151.6529, 3858,    189.9,  -1.3089,  33.5989, 2, -999.0000, 9,    255.3, 2,    280.1, 2,    30.74, 2,    14.98, 2,     0.00, 2,     1.63, 2,  -999.00, 9,  -1.3134,     0.00, 2, 0.02, 2,  -999.00, 9,  -999.00, 9,   0.5750, 2, -999.000, 2, -999.000, 9, 4.743, 2
320620030705, SBI, 38, 1, 109, 9, 2, 20030716, 520, 72.7475, -151.6529, 3858,    210.1,  -1.0311,  33.9866, 2,  34.0293, 2,    253.8, 2,    276.5, 2,    26.11, 2,    14.60, 2,     0.00, 2,     1.48, 2,    57.80, 2,  -1.0368,     0.00, 2, 0.01, 2,  -999.00, 9,  -999.00, 9,   0.6690, 2, -999.000, 2, -999.000, 9, 4.730, 2
320620030705, SBI, 38, 1, 108, 8, 2, 20030716, 517, 72.7475, -151.6529, 3858,    250.1,  -0.2840,  34.4877, 2,  34.5067, 2,    252.3, 2,    275.1, 2,    16.36, 2,    13.71, 2,     0.00, 2,     1.15, 2,    52.90, 2,  -0.2927,     0.00, 2, 0, 2,  -999.00, 9,  -999.00, 9,   0.5400, 2, -999.000, 2, -999.000, 9, 4.740, 2
320620030705, SBI, 38, 1, 107, 7, 2, 20030716, 515, 72.7475, -151.6529, 3858,    289.5,   0.2510,  34.6716, 2,  34.6776, 2,    257.8, 2,    279.3, 2,    11.44, 2,    13.19, 2,     0.00, 2,     1.00, 2,  -999.00, 9,   0.2394,     0.00, 2, 0.01, 2,  -999.00, 9,  -999.00, 9,   0.6220, 2, -999.000, 2, -999.000, 9, 4.741, 2
320620030705, SBI, 38, 1, 106, 6, 2, 20030716, 513, 72.7475, -151.6529, 3858,    330.0,   0.5277,  34.7558, 2,  34.7606, 2,    263.5, 2,    285.7, 2,     9.38, 2,    13.03, 2,     0.00, 2,     0.95, 2,  -999.00, 9,   0.5136,     0.00, 2, 0.01, 2,  -999.00, 9,  -999.00, 9,   0.4330, 2, -999.000, 2, -999.000, 9, 4.738, 2
320620030705, SBI, 38, 1, 105, 5, 2, 20030716, 511, 72.7475, -151.6529, 3858,    359.7,   0.5924,  34.7831, 2,  34.7904, 2,    265.6, 2,    288.9, 2,     8.66, 2,    12.97, 2,     0.00, 2,     0.93, 2,  -999.00, 9,   0.5767,     0.00, 2, 0.01, 2,  -999.00, 9,  -999.00, 9,   0.7960, 2, -999.000, 2, -999.000, 9, 4.735, 2
320620030705, SBI, 38, 1, 104, 4, 2, 20030716, 508, 72.7475, -151.6529, 3858,    459.3,   0.5814,  34.8263, 2,  34.8248, 2,    269.7, 2,    292.1, 2,     7.95, 2,    12.86, 2,     0.00, 2,     0.91, 2,  -999.00, 9,   0.5610,     0.00, 2, 0.01, 2,  -999.00, 9,  -999.00, 9,   0.6580, 2, -999.000, 2, -999.000, 9, 4.739, 2
320620030705, SBI, 38, 1, 103, 3, 2, 20030716, 459, 72.7475, -151.6529, 3858,    610.7,   0.4420,  34.8529, 2,  34.8526, 2,    273.6, 2,    296.8, 2,     7.02, 2,    12.81, 2,     0.00, 2,     0.89, 2,  -999.00, 9,   0.4147,     0.00, 2, 0.01, 2,  -999.00, 9,  -999.00, 9,   0.6280, 2, -999.000, 2, -999.000, 9, 4.738, 2
320620030705, SBI, 38, 1, 102, 2, 2, 20030716, 454, 72.7475, -151.6529, 3858,    810.1,   0.1698,  34.8666, 2,  34.8649, 2,    276.2, 2,    301.8, 2,     6.70, 2,    12.66, 2,     0.00, 2,     0.89, 2,  -999.00, 9,   0.1339,     0.00, 2, 0, 2,  -999.00, 9,  -999.00, 9,   0.5180, 2, -999.000, 2, -999.000, 9, 4.724, 2
320620030705, SBI, 38, 1, 101, 1, 2, 20030716, 447, 72.7475, -151.6529, 3858,   1012.0,  -0.0231,  34.8826, 2,  34.8783, 2,    274.7, 2,    299.0, 2,     7.21, 2,    12.86, 2,     0.00, 2,     0.91, 2,  -999.00, 9,  -0.0681,     0.00, 2, 0, 2,  -999.00, 9,  -999.00, 9,   0.5570, 2, -999.000, 2, -999.000, 9, 4.730, 2