BOTTLE,20100423CCHDOSIODBK
EXPOCODE,SECT_ID,STNNBR,CASTNO,SAMPNO,BTLNBR,BTLNBR_FLAG_W,DATE,TIME,LATITUDE,LONGITUDE,DEPTH,CTDPRS,CTDTMP,CTDSAL,CTDSAL_FLAG_W,SALNTY,SALNTY_FLAG_W,CTDOXY,CTDOXY_FLAG_W,OXYGEN,OXYGEN_FLAG_W,SILCAT,SILCAT_FLAG_W,NITRAT,NITRAT_FLAG_W,NITRIT,NITRIT_FLAG_W,PHSPHT,PHSPHT_FLAG_W,DOC,DOC_FLAG_W,THETA,NH4,NH4_FLAG_W,UREA,UREA_FLAG_W,CHLORA,CHLORA_FLAG_W,PPHYTN,PPHYTN_FLAG_W,FLUOR,FLUOR_FLAG_W,HAARDT,HAARDT_FLAG_W,PAR,PAR_FLAG_W,SPAR,SPAR_FLAG_W
,,,,,,,,,,,METERS,DBAR,ITS-90,PSS-78,,PSS-78,,UMOL/KG,,UMOL/KG,,UMOL/KG,,UMOL/KG,,UMOL/KG,,UMOL/KG,,UMOL/KG,,DEG C,UMOL/KG,,UMOL/KG,,UG/KG,,UG/KG,,MG/M^3,,VOLTS,,VOLTS,,VOLTS,
320620030705, SBI, 279, 1, 112, 12, 2, 20030811, 721, 72.0295, -155.2947, 263,      1.6,  -0.6503,  28.2003, 2,  28.1937, 2,    343.7, 2,    378.3, 2,     3.47, 2,     0.10, 2,     0.00, 2,     0.66, 2,  -999.00, 9,  -0.6503,     0.01, 2, 0, 2,     0.10, 2,     0.05, 2,   0.8140, 2, 0.175, 2, 2.675, 2, 4.962, 2
320620030705, SBI, 279, 1, 111, 11, 2, 20030811, 719, 72.0295, -155.2947, 263,     16.7,  -0.8437,  29.1612, 2, -999.0000, 9,    358.4, 2,    381.0, 2,     3.86, 2,     0.09, 2,     0.00, 2,     0.69, 2,  -999.00, 9,  -0.8440,     0.06, 2, 0, 2,     0.15, 2,     0.04, 2,   0.7730, 2, 0.173, 2, 2.037, 2, 4.957, 2
320620030705, SBI, 279, 1, 110, 10, 2, 20030811, 717, 72.0295, -155.2947, 263,     31.8,   3.0575,  31.3413, 2, -999.0000, 9,    323.8, 2,    352.4, 2,     6.72, 2,     0.33, 2,     0.02, 2,     0.71, 2,  -999.00, 9,   3.0557,     0.49, 2, 0.07, 2,     0.73, 2,     0.10, 2,   1.1740, 2, 0.209, 2, 1.599, 2, 4.946, 2
320620030705, SBI, 279, 1, 109, 9, 2, 20030811, 715, 72.0295, -155.2947, 263,     46.8,   0.4341,  31.4526, 2, -999.0000, 9,    351.0, 2,    378.8, 2,    10.70, 2,     0.90, 2,     0.05, 2,     0.96, 2,  -999.00, 9,   0.4325,     0.83, 2, 0.11, 2,     0.72, 2,     0.10, 2,   1.4380, 2, 0.280, 2, 1.079, 2, 4.955, 2
320620030705, SBI, 279, 1, 108, 8, 2, 20030811, 713, 72.0295, -155.2947, 263,     66.7,  -0.8129,  31.9140, 2, -999.0000, 9,    326.0, 2,    357.7, 2,    16.97, 2,     4.85, 2,     0.15, 2,     1.27, 2,  -999.00, 9,  -0.8145,     0.94, 2, 0.06, 2,     0.12, 2,     0.12, 2,   1.0020, 2, 0.196, 2, 0.484, 2, 4.956, 2
320620030705, SBI, 279, 1, 107, 7, 2, 20030811, 711, 72.0295, -155.2947, 263,     87.0,  -1.2786,  32.3459, 2, -999.0000, 9,    291.9, 2,    321.7, 2,    23.26, 2,     8.38, 2,     0.12, 2,     1.55, 2,  -999.00, 9,  -1.2804,     1.35, 2, 0.06, 2,  -999.00, 9,  -999.00, 9,   0.9010, 2, 0.175, 2, 0.262, 2, 4.940, 2
320620030705, SBI, 279, 1, 106, 6, 2, 20030811, 709, 72.0295, -155.2947, 263,    107.0,  -1.4955,  32.5841, 2, -999.0000, 9,    275.4, 2,    304.5, 2,    27.76, 2,    11.17, 2,     0.09, 2,     1.67, 2,  -999.00, 9,  -1.4976,     0.52, 2, 0.02, 2,  -999.00, 9,  -999.00, 9,   0.7110, 2, 0.173, 2, 0.163, 2, 4.970, 2
320620030705, SBI, 279, 1, 105, 5, 2, 20030811, 707, 72.0295, -155.2947, 263,    127.0,  -1.5536,  32.8550, 2, -999.0000, 9,    267.3, 2,    296.0, 2,    30.67, 2,    13.46, 2,     0.02, 2,     1.73, 2,  -999.00, 9,  -1.5561,    -0.01, 2, 0.01, 2,  -999.00, 9,  -999.00, 9,   0.6390, 2, 0.172, 2, 0.145, 2, 4.974, 2
320620030705, SBI, 279, 1, 104, 4, 2, 20030811, 705, 72.0295, -155.2947, 263,    152.1,  -1.4673,  33.3458, 2, -999.0000, 9,    264.5, 2,    292.0, 2,    27.75, 2,    13.34, 2,     0.03, 2,     1.58, 2,  -999.00, 9,  -1.4706,     0.00, 2, 0.05, 2,  -999.00, 9,  -999.00, 9,   0.9160, 2, 0.171, 2, 0.141, 2, 4.976, 2
320620030705, SBI, 279, 1, 103, 3, 2, 20030811, 703, 72.0295, -155.2947, 263,    177.1,  -0.7517,  34.2862, 2, -999.0000, 9,    256.7, 2,    272.2, 2,    20.61, 2,    13.49, 2,     0.03, 2,     1.33, 2,  -999.00, 9,  -0.7570,     0.00, 2, 0.02, 2,  -999.00, 9,  -999.00, 9,   0.6860, 2, 0.170, 2, 0.140, 2, 4.976, 2
320620030705, SBI, 279, 1, 102, 2, 2, 20030811, 700, 72.0295, -155.2947, 263,    202.1,   0.0408,  34.5793, 2,  34.5820, 2,    244.7, 2,    268.7, 2,    18.41, 2,    13.26, 2,     0.04, 2,     1.24, 2,  -999.00, 9,   0.0333,     0.00, 2, 0.03, 2,  -999.00, 9,  -999.00, 9,   0.7710, 2, 0.171, 2, 0.140, 2, 4.981, 2
320620030705, SBI, 279, 1, 101, 1, 2, 20030811, 657, 72.0295, -155.2947, 263,    257.6,   0.2990,  34.6692, 2,  34.6492, 2,    249.6, 2,    274.1, 2,    14.81, 2,    12.99, 2,     0.05, 2,     1.10, 2,  -999.00, 9,   0.2887,     0.00, 2, 0.04, 2,  -999.00, 9,  -999.00, 9,   0.7600, 2, 0.170, 2, 0.140, 2, 4.978, 2
320620030705, SBI, 280, 1, 112, 12, 2, 20030811, 919, 72.0640, -155.1920, 320,      2.0,  -0.7788,  28.1797, 2,  28.2082, 2,    343.5, 2,    378.7, 2,     3.49, 2,     0.08, 2,     0.00, 2,     0.67, 2,  -999.00, 9,  -0.7788,     0.03, 2, 0, 2,     0.11, 2,     0.06, 2,   0.7970, 2, 0.176, 2, 1.729, 2, 5.000, 2
320620030705, SBI, 280, 1, 111, 11, 2, 20030811, 917, 72.0640, -155.1920, 320,     24.9,  -1.0301,  30.1985, 2, -999.0000, 9,    364.7, 2,    378.3, 2,     5.36, 2,     0.12, 2,     0.01, 2,     0.73, 2,  -999.00, 9,  -1.0305,     0.12, 2, 0.01, 2,     0.46, 2,     0.09, 2,   0.8490, 2, 0.194, 2, 0.906, 2, 5.000, 2
320620030705, SBI, 280, 1, 110, 10, 2, 20030811, 915, 72.0640, -155.1920, 320,     40.9,   2.3418,  31.3924, 2, -999.0000, 9,    328.1, 2,    366.4, 2,     8.74, 2,     0.58, 2,     0.04, 2,     0.83, 2,  -999.00, 9,   2.3398,     0.73, 2, 0.08, 2,     1.03, 2,     0.10, 2,   1.4540, 2, 0.283, 2, 0.518, 2, 5.000, 2
320620030705, SBI, 280, 1, 109, 9, 2, 20030811, 913, 72.0640, -155.1920, 320,     55.0,  -0.6287,  31.8008, 2, -999.0000, 9,    333.5, 2,    366.0, 2,    13.82, 2,     3.32, 2,     0.12, 2,     1.17, 2,  -999.00, 9,  -0.6301,     1.20, 2, 0.1, 2,     0.50, 2,     0.15, 2,   1.2140, 2, 0.215, 2, 0.278, 2, 4.999, 2
320620030705, SBI, 280, 1, 108, 8, 2, 20030811, 911, 72.0640, -155.1920, 320,     76.4,  -1.2529,  32.1184, 2, -999.0000, 9,    311.8, 2,    340.6, 2,    21.43, 2,     6.97, 2,     0.14, 2,     1.42, 2,  -999.00, 9,  -1.2544,     0.80, 2, 0.03, 2,     0.07, 2,     0.11, 2,   0.9300, 2, 0.179, 2, 0.166, 2, 5.000, 2
320620030705, SBI, 280, 1, 107, 7, 2, 20030811, 907, 72.0640, -155.1920, 320,    103.1,  -1.4434,  32.5381, 2, -999.0000, 9,    273.2, 2,    301.5, 2,    27.03, 2,    12.18, 2,     0.03, 2,     1.67, 2,  -999.00, 9,  -1.4454,     0.02, 2, 0.01, 2,  -999.00, 9,  -999.00, 9,   0.7630, 2, 0.172, 2, 0.142, 2, 4.999, 2
320620030705, SBI, 280, 1, 106, 6, 2, 20030811, 902, 72.0640, -155.1920, 320,    124.0,  -1.5519,  32.8234, 2, -999.0000, 9,    266.7, 2,    296.2, 2,    29.74, 2,    13.18, 2,     0.03, 2,     1.72, 2,  -999.00, 9,  -1.5543,    -0.01, 2, 0, 2,  -999.00, 9,  -999.00, 9,   0.7040, 2, 0.171, 2, 0.139, 2, 4.998, 2
320620030705, SBI, 280, 1, 105, 5, 2, 20030811, 900, 72.0640, -155.1920, 320,    144.1,  -1.5573,  33.0940, 2, -999.0000, 9,    265.3, 2,    292.4, 2,    30.94, 2,    13.77, 2,     0.03, 2,     1.72, 2,  -999.00, 9,  -1.5602,    -0.01, 2, 0, 2,  -999.00, 9,  -999.00, 9,   0.7030, 2, 0.172, 2, 0.139, 2, 4.998, 2
320620030705, SBI, 280, 1, 104, 4, 2, 20030811, 858, 72.0640, -155.1920, 320,    164.3,  -1.3062,  33.6340, 2, -999.0000, 9,    265.1, 2,    294.6, 2,    25.60, 2,    13.03, 2,     0.02, 2,     1.49, 2,  -999.00, 9,  -1.3101,    -0.01, 2, 0.01, 2,  -999.00, 9,  -999.00, 9,   0.7140, 2, 0.173, 2, 0.139, 2, 4.997, 2
320620030705, SBI, 280, 1, 103, 3, 2, 20030811, 856, 72.0640, -155.1920, 320,    184.4,  -0.6225,  34.3596, 2, -999.0000, 9,    256.1, 2,    279.4, 2,    18.07, 2,    13.23, 2,     0.02, 2,     1.22, 2,  -999.00, 9,  -0.6282,    -0.01, 2, 0.01, 2,  -999.00, 9,  -999.00, 9,   0.6540, 2, 0.171, 2, 0.139, 2, 4.998, 2
320620030705, SBI, 280, 1, 102, 2, 2, 20030811, 854, 72.0640, -155.1920, 320,    204.6,   0.1771,  34.6308, 2, -999.0000, 9,    251.2, 2,    274.8, 2,    14.66, 2,    12.94, 2,     0.05, 2,     1.10, 2,  -999.00, 9,   0.1692,    -0.01, 2, 0.01, 2,  -999.00, 9,  -999.00, 9,   0.5770, 2, 0.171, 2, 0.140, 2, 4.998, 2
320620030705, SBI, 280, 1, 101, 1, 2, 20030811, 847, 72.0640, -155.1920, 320,    316.4,   0.5539,  34.7555, 2,  34.7487, 2,    256.3, 2,    280.1, 2,    12.06, 2,    12.71, 2,     0.07, 2,     1.02, 2,  -999.00, 9,   0.5403,    -0.01, 2, 0.02, 2,  -999.00, 9,  -999.00, 9,   0.7510, 2, 0.172, 2, 0.140, 2, 4.997, 2
320620030705, SBI, 281, 1, 112, 12, 2, 20030811, 1123, 72.0968, -155.0666, 409,      1.9,  -0.6579,  28.2238, 2,  28.2472, 2,    341.0, 2,    377.0, 2,     3.29, 2,     0.10, 2,     0.00, 2,     0.67, 2,  -999.00, 9,  -0.6579,     0.01, 2, 0, 2,     0.09, 2,     0.05, 2,   0.7850, 2, 0.180, 2, 1.746, 2, 5.000, 2
320620030705, SBI, 281, 1, 111, 11, 2, 20030811, 1121, 72.0968, -155.0666, 409,     28.6,   0.1825,  30.5732, 2, -999.0000, 9,    359.7, 2,    387.4, 2,     9.67, 2,     0.28, 2,     0.03, 2,     0.81, 2,  -999.00, 9,   0.1817,     0.11, 2, 0.02, 2,     1.16, 2,     0.12, 2,   0.9890, 2, 0.200, 2, 0.803, 2, 5.000, 2
320620030705, SBI, 281, 1, 110, 10, 2, 20030811, 1119, 72.0968, -155.0666, 409,     34.8,   1.6527,  31.3041, 2, -999.0000, 9,    343.9, 2,    386.0, 2,    10.09, 2,     1.08, 2,     0.08, 2,     0.95, 2,  -999.00, 9,   1.6512,     0.34, 2, 0.05, 2,     1.18, 2,     0.30, 2,   1.9270, 2, 0.479, 2, 0.611, 2, 5.000, 2
320620030705, SBI, 281, 1, 109, 9, 2, 20030811, 1116, 72.0968, -155.0666, 409,     47.5,  -0.3459,  31.6656, 2, -999.0000, 9,    338.2, 2,    366.3, 2,    11.80, 2,     3.26, 2,     0.14, 2,     1.14, 2,  -999.00, 9,  -0.3472,     0.80, 2, 0.15, 2,     0.27, 2,     0.23, 2,   1.1460, 2, 0.220, 2, 0.293, 2, 5.000, 2
320620030705, SBI, 281, 1, 108, 8, 2, 20030811, 1114, 72.0968, -155.0666, 409,     62.6,  -0.9668,  31.9698, 2, -999.0000, 9,    320.1, 2,    348.1, 2,    16.61, 2,     6.00, 2,     0.11, 2,     1.33, 2,  -999.00, 9,  -0.9682,     0.80, 2, 0.13, 2,     0.11, 2,     0.12, 2,   0.9570, 2, 0.192, 2, 0.187, 2, 5.000, 2
320620030705, SBI, 281, 1, 107, 7, 2, 20030811, 1112, 72.0968, -155.0666, 409,     77.8,  -1.2497,  32.2057, 2, -999.0000, 9,    298.7, 2,    323.6, 2,    20.73, 2,     8.52, 2,     0.09, 2,     1.51, 2,  -999.00, 9,  -1.2513,     0.73, 2, 0.03, 2,  -999.00, 9,  -999.00, 9,   0.9190, 2, 0.181, 2, 0.154, 2, 5.000, 2
320620030705, SBI, 281, 1, 106, 6, 2, 20030811, 1110, 72.0968, -155.0666, 409,     92.8,  -1.4195,  32.4220, 2, -999.0000, 9,    280.4, 2,    309.8, 2,    24.35, 2,    10.34, 2,     0.07, 2,     1.62, 2,  -999.00, 9,  -1.4213,     0.67, 2, 0.03, 2,  -999.00, 9,  -999.00, 9,   0.7160, 2, 0.176, 2, 0.144, 2, 5.000, 2
320620030705, SBI, 281, 1, 105, 5, 2, 20030811, 1108, 72.0968, -155.0666, 409,    122.9,  -1.5428,  32.8588, 2, -999.0000, 9,    263.0, 2,    291.9, 2,    30.18, 2,    13.89, 2,     0.02, 2,     1.75, 2,  -999.00, 9,  -1.5452,     0.00, 2, 0.01, 2,  -999.00, 9,  -999.00, 9,   0.6630, 2, 0.174, 2, 0.139, 2, 5.000, 2
320620030705, SBI, 281, 1, 104, 4, 2, 20030811, 1105, 72.0968, -155.0666, 409,    153.0,  -1.4438,  33.3439, 2, -999.0000, 9,    255.6, 2,    287.3, 2,    29.30, 2,    14.15, 2,     0.02, 2,     1.67, 2,  -999.00, 9,  -1.4471,     0.00, 2, 0.01, 2,  -999.00, 9,  -999.00, 9,   0.6720, 2, 0.174, 2, 0.139, 2, 5.000, 2
320620030705, SBI, 281, 1, 103, 3, 2, 20030811, 1103, 72.0968, -155.0666, 409,    183.2,  -1.0504,  34.0864, 2, -999.0000, 9,    261.3, 2,    290.5, 2,    21.72, 2,    13.03, 2,     0.01, 2,     1.40, 2,  -999.00, 9,  -1.0553,     0.00, 2, 0.01, 2,  -999.00, 9,  -999.00, 9,   0.8130, 2, 0.173, 2, 0.140, 2, 5.000, 2
320620030705, SBI, 281, 1, 102, 2, 2, 20030811, 1101, 72.0968, -155.0666, 409,    213.3,  -0.1450,  34.5476, 2, -999.0000, 9,    253.9, 2,    281.6, 2,    12.97, 2,    12.82, 2,     0.01, 2,     1.09, 2,  -999.00, 9,  -0.1526,     0.00, 2, 0.02, 2,  -999.00, 9,  -999.00, 9,   0.6560, 2, 0.171, 2, 0.140, 2, 5.000, 2
320620030705, SBI, 281, 1, 101, 1, 2, 20030811, 1056, 72.0968, -155.0666, 409,    303.8,   0.6646,  34.8110, 2,  34.8149, 2,    264.2, 2,    290.8, 2,     6.94, 2,    12.38, 2,     0.01, 2,     0.91, 2,  -999.00, 9,   0.6513,     0.00, 2, 0.01, 2,  -999.00, 9,  -999.00, 9,   0.6460, 2, 0.171, 2, 0.140, 2, 5.000, 2
320620030705, SBI, 282, 2, 214, 14, 2, 20030811, 1325, 72.1302, -154.9420, 892,      2.2,   0.1672,  28.4184, 2,  28.4158, 2,    343.2, 2,    370.4, 2,     3.61, 2,     0.08, 2,     0.00, 2,     0.66, 2,  -999.00, 9,   0.1671,     0.00, 2, 0, 2,     0.14, 2,     0.07, 2,   0.9130, 2, 0.186, 2, 2.666, 2, 4.969, 2
320620030705, SBI, 282, 2, 213, 13, 2, 20030811, 1323, 72.1302, -154.9420, 892,     23.0,   0.8710,  30.3907, 2, -999.0000, 9,    359.7, 2,    378.3, 2,     7.22, 2,     0.08, 2,     0.00, 2,     0.74, 2,  -999.00, 9,   0.8702,     0.04, 2, 0, 2,     0.59, 2,     0.08, 2,   1.0520, 2, 0.202, 2, 1.780, 2, 4.973, 2
320620030705, SBI, 282, 2, 212, 12, 2, 20030811, 1321, 72.1302, -154.9420, 892,     33.1,   1.7809,  31.3289, 2, -999.0000, 9,    340.2, 2,   -999.0, 9,  -999.00, 9,  -999.00, 9,  -999.00, 9,  -999.00, 9,  -999.00, 9,   1.7794,  -999.00, 9, -999, 9,     1.01, 2,     0.22, 2,   1.6730, 2, 0.329, 2, 1.334, 2, 4.977, 2
320620030705, SBI, 282, 2, 211, 11, 2, 20030811, 1319, 72.1302, -154.9420, 892,     42.1,  -0.4780,  31.5199, 2, -999.0000, 9,    372.9, 2,    376.2, 2,    10.22, 2,     2.25, 2,     0.07, 2,     1.08, 2,  -999.00, 9,  -0.4791,     0.90, 2, 0.08, 2,  -999.00, 9,  -999.00, 9,   1.2880, 2, 0.243, 2, 0.932, 2, 4.981, 2
320620030705, SBI, 282, 2, 210, 10, 2, 20030811, 1317, 72.1302, -154.9420, 892,     47.1,  -0.3976,  31.7491, 2, -999.0000, 9,    342.2, 2,   -999.0, 9,  -999.00, 9,  -999.00, 9,  -999.00, 9,  -999.00, 9,  -999.00, 9,  -0.3989,  -999.00, 9, -999, 9,     0.36, 2,     0.25, 2,   1.5990, 2, 0.316, 2, 0.763, 2, 4.978, 2
320620030705, SBI, 282, 2, 209, 9, 2, 20030811, 1314, 72.1302, -154.9420, 892,     62.1,  -0.8452,  32.0020, 2, -999.0000, 9,    335.1, 2,    355.8, 2,    15.63, 2,     4.76, 2,     0.11, 2,     1.27, 2,  -999.00, 9,  -0.8467,     1.24, 2, 0.08, 2,     0.44, 2,     0.40, 2,   1.0550, 2, 0.218, 2, 0.401, 2, 4.976, 2
320620030705, SBI, 282, 2, 208, 8, 2, 20030811, 1312, 72.1302, -154.9420, 892,     82.2,  -1.1780,  32.3267, 2, -999.0000, 9,    297.0, 2,    321.6, 2,    22.95, 2,     8.36, 2,     0.13, 2,     1.52, 2,  -999.00, 9,  -1.1797,     1.14, 2, 0.03, 2,  -999.00, 9,  -999.00, 9,   0.7160, 2, 0.188, 2, 0.208, 2, 4.976, 2
320620030705, SBI, 282, 2, 207, 7, 2, 20030811, 1310, 72.1302, -154.9420, 892,    102.2,  -1.4996,  32.6087, 2, -999.0000, 9,    279.1, 2,    301.8, 2,    27.89, 2,    11.86, 2,     0.06, 2,     1.66, 2,  -999.00, 9,  -1.5016,     0.08, 2, 0, 2,  -999.00, 9,  -999.00, 9,   0.6870, 2, 0.185, 2, 0.155, 2, 4.977, 2
320620030705, SBI, 282, 2, 206, 6, 2, 20030811, 1308, 72.1302, -154.9420, 892,    122.4,  -1.5466,  32.8748, 2, -999.0000, 9,    268.6, 2,    294.3, 2,    31.63, 2,    13.65, 2,     0.02, 2,     1.76, 2,  -999.00, 9,  -1.5490,     0.00, 2, 0, 2,  -999.00, 9,  -999.00, 9,   0.8290, 2, 0.182, 2, 0.143, 2, 4.977, 2
320620030705, SBI, 282, 2, 205, 5, 2, 20030811, 1305, 72.1302, -154.9420, 892,    142.4,  -1.5160,  33.1423, 2, -999.0000, 9,    262.5, 2,    286.5, 2,    32.57, 2,    14.24, 2,     0.01, 2,     1.72, 2,  -999.00, 9,  -1.5189,     0.00, 2, 0, 2,  -999.00, 9,  -999.00, 9,   0.7700, 2, 0.181, 2, 0.139, 2, 4.984, 2
320620030705, SBI, 282, 2, 204, 4, 2, 20030811, 1303, 72.1302, -154.9420, 892,    162.5,  -1.3762,  33.6155, 2, -999.0000, 9,    264.4, 2,    286.9, 2,    28.87, 2,    13.92, 2,     0.01, 2,     1.57, 2,  -999.00, 9,  -1.3799,     0.00, 2, 0.02, 2,  -999.00, 9,  -999.00, 9,   0.6460, 2, 0.180, 2, 0.139, 2, 4.985, 2
320620030705, SBI, 282, 2, 203, 3, 2, 20030811, 1301, 72.1302, -154.9420, 892,    182.6,  -1.0573,  34.0964, 2, -999.0000, 9,    265.7, 2,    290.0, 2,    23.77, 2,    13.22, 2,     0.01, 2,     1.40, 2,  -999.00, 9,  -1.0622,     0.00, 2, 0.01, 2,  -999.00, 9,  -999.00, 9,   0.6440, 2, 0.179, 2, 0.139, 2, 4.987, 2
320620030705, SBI, 282, 2, 202, 2, 2, 20030811, 1259, 72.1302, -154.9420, 892,    202.6,  -0.4731,  34.4857, 2, -999.0000, 9,    262.8, 2,    286.1, 2,    16.79, 2,    12.74, 2,     0.01, 2,     1.16, 2,  -999.00, 9,  -0.4797,     0.00, 2, 0.01, 2,  -999.00, 9,  -999.00, 9,   0.5890, 2, 0.177, 2, 0.140, 2, 4.987, 2
320620030705, SBI, 282, 2, 201, 1, 2, 20030811, 1256, 72.1302, -154.9420, 892,    303.4,   0.5347,  34.7812, 2,  34.7805, 2,    270.2, 2,    291.5, 2,     9.15, 2,    12.47, 2,     0.01, 2,     0.93, 2,  -999.00, 9,   0.5218,     0.00, 2, 0.01, 2,  -999.00, 9,  -999.00, 9,   0.5830, 2, 0.173, 2, 0.140, 2, 4.988, 2
320620030705, SBI, 283, 1, 109, 9, 2, 20030811, 1718, 71.8594, -155.6641, 117,      1.8,  -0.9023,  28.1618, 2,  28.1756, 2,    342.5, 2,    377.1, 2,     6.23, 2,     0.13, 2,     0.00, 2,     0.69, 2,  -999.00, 9,  -0.9023,     0.12, 2, 0.02, 2,     0.12, 2,     0.04, 2,   0.6960, 2, 0.184, 2, 3.616, 2, 4.717, 2
320620030705, SBI, 283, 1, 108, 8, 2, 20030811, 1716, 71.8594, -155.6641, 117,     16.8,  -0.9030,  28.5200, 2, -999.0000, 9,    348.6, 2,    383.6, 2,     8.00, 2,     0.13, 2,     0.00, 2,     0.74, 2,  -999.00, 9,  -0.9033,     0.14, 2, 0.01, 2,     0.35, 2,     0.04, 2,   0.8080, 2, 0.182, 2, 2.903, 2, 4.734, 2
320620030705, SBI, 283, 1, 107, 7, 2, 20030811, 1713, 71.8594, -155.6641, 117,     33.4,  -1.1492,  31.5836, 2, -999.0000, 9,    328.2, 2,    364.6, 2,    15.33, 2,     2.87, 2,     0.13, 2,     1.24, 2,  -999.00, 9,  -1.1499,     1.46, 2, 0.17, 2,     4.32, 2,     0.23, 2,   2.1140, 2, 1.350, 2, 1.778, 2, 4.748, 2
320620030705, SBI, 283, 1, 106, 6, 2, 20030811, 1710, 71.8594, -155.6641, 117,     46.9,  -0.7084,  31.8469, 2, -999.0000, 9,    341.1, 2,    366.1, 2,    15.72, 2,     3.41, 2,     0.12, 2,     1.19, 2,  -999.00, 9,  -0.7095,     1.61, 2, 0.14, 2,     0.47, 2,     0.16, 2,   1.5710, 2, 0.384, 2, 0.792, 2, 4.720, 2
320620030705, SBI, 283, 1, 105, 5, 2, 20030811, 1708, 71.8594, -155.6641, 117,     61.9,  -1.1295,  32.0983, 2, -999.0000, 9,    325.9, 2,    339.9, 2,    23.48, 2,     6.22, 2,     0.18, 2,     1.45, 2,  -999.00, 9,  -1.1308,     1.73, 2, 0.09, 2,  -999.00, 9,  -999.00, 9,   1.0570, 2, 0.191, 2, 0.429, 2, 4.713, 2
320620030705, SBI, 283, 1, 104, 4, 2, 20030811, 1705, 71.8594, -155.6641, 117,     72.0,  -1.3067,  32.2002, 2, -999.0000, 9,    310.1, 2,    332.8, 2,    24.97, 2,     6.84, 2,     0.19, 2,     1.51, 2,  -999.00, 9,  -1.3081,     1.87, 2, 0.1, 2,     0.08, 2,     0.11, 2,   0.7610, 2, 0.190, 2, 0.292, 2, 4.714, 2
320620030705, SBI, 283, 1, 103, 3, 2, 20030811, 1703, 71.8594, -155.6641, 117,     87.0,  -1.3897,  32.3577, 2, -999.0000, 9,    294.2, 2,    318.6, 2,    27.56, 2,     7.93, 2,     0.22, 2,     1.63, 2,  -999.00, 9,  -1.3914,     2.07, 2, 0.1, 2,  -999.00, 9,  -999.00, 9,   0.9020, 2, 0.186, 2, 0.183, 2, 4.706, 2
320620030705, SBI, 283, 1, 102, 2, 2, 20030811, 1701, 71.8594, -155.6641, 117,    102.1,  -1.4189,  32.4432, 2, -999.0000, 9,    284.2, 2,    310.7, 2,    29.25, 2,     8.67, 2,     0.22, 2,     1.67, 2,  -999.00, 9,  -1.4209,     1.97, 2, 0.08, 2,  -999.00, 9,  -999.00, 9,   0.8110, 2, 0.185, 2, 0.148, 2, 4.701, 2
320620030705, SBI, 283, 1, 101, 1, 2, 20030811, 1658, 71.8594, -155.6641, 117,    112.1,  -1.4551,  32.5243, 2,  32.4641, 2,    280.0, 2,    309.5, 2,    29.44, 2,     8.88, 2,     0.21, 2,     1.68, 2,  -999.00, 9,  -1.4573,     1.95, 2, 0.07, 2,  -999.00, 9,  -999.00, 9,   0.8750, 2, 0.187, 2, 0.142, 2, 4.655, 2