BOTTLE,20100423CCHDOSIODBK
EXPOCODE,SECT_ID,STNNBR,CASTNO,SAMPNO,BTLNBR,BTLNBR_FLAG_W,DATE,TIME,LATITUDE,LONGITUDE,DEPTH,CTDPRS,CTDTMP,CTDSAL,CTDSAL_FLAG_W,SALNTY,SALNTY_FLAG_W,CTDOXY,CTDOXY_FLAG_W,OXYGEN,OXYGEN_FLAG_W,SILCAT,SILCAT_FLAG_W,NITRAT,NITRAT_FLAG_W,NITRIT,NITRIT_FLAG_W,PHSPHT,PHSPHT_FLAG_W,DOC,DOC_FLAG_W,THETA,NH4,NH4_FLAG_W,UREA,UREA_FLAG_W,CHLORA,CHLORA_FLAG_W,PPHYTN,PPHYTN_FLAG_W,FLUOR,FLUOR_FLAG_W,HAARDT,HAARDT_FLAG_W,PAR,PAR_FLAG_W,SPAR,SPAR_FLAG_W
,,,,,,,,,,,METERS,DBAR,ITS-90,PSS-78,,PSS-78,,UMOL/KG,,UMOL/KG,,UMOL/KG,,UMOL/KG,,UMOL/KG,,UMOL/KG,,UMOL/KG,,DEG C,UMOL/KG,,UMOL/KG,,UG/KG,,UG/KG,,MG/M^3,,VOLTS,,VOLTS,,VOLTS,
320620030705, SBI, 114, 1, 124, 24, 2, 20030725, 1228, 73.1216, -157.0243, 2752,      2.5,  -1.0365,  28.7066, 2,  28.7072, 2,    357.9, 2,    390.0, 2,     5.07, 2,     0.09, 2,     0.00, 2,     0.69, 2,  -999.00, 9,  -1.0365,     0.05, 2, 0, 2,     0.07, 2,     0.03, 2,   0.8520, 2, -999.000, 2, -999.000, 9, 4.971, 2
320620030705, SBI, 114, 1, 123, 23, 2, 20030725, 1226, 73.1216, -157.0243, 2752,     13.0,  -1.0760,  28.8950, 2, -999.0000, 9,    361.8, 2,    398.4, 2,     5.04, 2,     0.03, 2,     0.00, 2,     0.70, 2,  -999.00, 9,  -1.0762,     0.05, 2, 0, 2,     0.09, 2,     0.04, 2,   0.8820, 2, -999.000, 2, -999.000, 9, 4.973, 2
320620030705, SBI, 114, 1, 122, 22, 2, 20030725, 1225, 73.1216, -157.0243, 2752,     21.9,  -1.1926,  30.2120, 2, -999.0000, 9,    372.0, 2,    406.6, 2,     5.12, 2,     0.02, 2,     0.01, 2,     0.75, 2,  -999.00, 9,  -1.1930,     0.05, 2, 0, 2,     0.08, 2,     0.03, 2,   0.9240, 2, -999.000, 2, -999.000, 9, 4.974, 2
320620030705, SBI, 114, 1, 121, 21, 2, 20030725, 1221, 73.1216, -157.0243, 2752,     32.1,  -1.2694,  30.9767, 2, -999.0000, 9,    366.1, 2,    391.9, 2,     8.97, 2,     1.25, 2,     0.14, 2,     0.90, 2,  -999.00, 9,  -1.2700,     0.06, 2, 0.01, 2,     0.22, 2,     0.08, 2,   1.4860, 2, -999.000, 2, -999.000, 9, 4.975, 2
320620030705, SBI, 114, 1, 120, 20, 2, 20030725, 1218, 73.1216, -157.0243, 2752,     49.1,  -1.4408,  31.7346, 2, -999.0000, 9,    320.5, 2,    347.9, 2,    23.36, 2,     6.75, 2,     0.28, 2,     1.35, 2,  -999.00, 9,  -1.4417,     0.13, 2, 0.01, 2,     0.14, 2,     0.13, 2,   1.2190, 2, -999.000, 2, -999.000, 9, 4.978, 2
320620030705, SBI, 114, 1, 119, 19, 2, 20030725, 1215, 73.1216, -157.0243, 2752,     69.0,  -1.5397,  32.1147, 2, -999.0000, 9,    310.3, 2,    337.9, 2,    24.43, 2,     8.16, 2,     0.14, 2,     1.44, 2,  -999.00, 9,  -1.5409,     0.31, 2, 0.01, 2,  -999.00, 9,  -999.00, 9,   0.7830, 2, -999.000, 2, -999.000, 9, 4.977, 2
320620030705, SBI, 114, 1, 118, 18, 2, 20030725, 1213, 73.1216, -157.0243, 2752,     84.1,  -1.5193,  32.2943, 2, -999.0000, 9,    300.0, 2,    319.4, 2,    26.11, 2,    10.32, 2,     0.06, 2,     1.55, 2,  -999.00, 9,  -1.5208,     0.10, 2, 0.01, 2,  -999.00, 9,  -999.00, 9,   0.7100, 2, -999.000, 2, -999.000, 9, 4.976, 2
320620030705, SBI, 114, 1, 117, 17, 2, 20030725, 1211, 73.1216, -157.0243, 2752,     99.1,  -1.5098,  32.4718, 2, -999.0000, 9,    285.5, 2,    309.3, 2,    27.09, 2,    11.51, 2,     0.01, 2,     1.60, 2,  -999.00, 9,  -1.5117,     0.01, 2, 0, 2,  -999.00, 9,  -999.00, 9,   0.7830, 2, -999.000, 2, -999.000, 9, 4.976, 2
320620030705, SBI, 114, 1, 116, 16, 2, 20030725, 1209, 73.1216, -157.0243, 2752,    114.3,  -1.5594,  32.6412, 2, -999.0000, 9,    279.6, 2,    304.7, 2,    28.87, 2,    12.29, 2,     0.01, 2,     1.63, 2,  -999.00, 9,  -1.5616,     0.00, 2, 0.01, 2,  -999.00, 9,  -999.00, 9,   0.8550, 2, -999.000, 2, -999.000, 9, 4.976, 2
320620030705, SBI, 114, 1, 115, 15, 2, 20030725, 1207, 73.1216, -157.0243, 2752,    129.3,  -1.5489,  32.7852, 2, -999.0000, 9,    269.7, 2,    295.5, 2,    31.35, 2,    13.54, 2,     0.00, 2,     1.72, 2,  -999.00, 9,  -1.5514,     0.01, 2, 0, 2,  -999.00, 9,  -999.00, 9,   0.7080, 2, -999.000, 2, -999.000, 9, 4.976, 2
320620030705, SBI, 114, 1, 114, 14, 2, 20030725, 1205, 73.1216, -157.0243, 2752,    149.4,  -1.5648,  32.9775, 2, -999.0000, 9,    267.8, 2,    296.3, 2,    32.53, 2,    13.95, 2,     0.00, 2,     1.72, 2,  -999.00, 9,  -1.5678,     0.01, 2, 0, 2,  -999.00, 9,  -999.00, 9,   0.7310, 2, -999.000, 2, -999.000, 9, 4.976, 2
320620030705, SBI, 114, 1, 113, 13, 2, 20030725, 1203, 73.1216, -157.0243, 2752,    169.4,  -1.5621,  33.1807, 2, -999.0000, 9,    270.9, 2,    294.1, 2,    32.32, 2,    13.84, 2,     0.00, 2,     1.69, 2,  -999.00, 9,  -1.5656,     0.01, 2, 0.01, 2,  -999.00, 9,  -999.00, 9,   0.6250, 2, -999.000, 2, -999.000, 9, 4.976, 2
320620030705, SBI, 114, 1, 112, 12, 2, 20030725, 1201, 73.1216, -157.0243, 2752,    189.3,  -1.4477,  33.5279, 2, -999.0000, 9,    268.4, 2,    294.0, 2,    30.70, 2,    13.78, 2,     0.01, 2,     1.61, 2,  -999.00, 9,  -1.4519,     0.00, 2, 0.01, 2,  -999.00, 9,  -999.00, 9,   0.7230, 2, -999.000, 2, -999.000, 9, 4.977, 2
320620030705, SBI, 114, 1, 111, 11, 2, 20030725, 1159, 73.1216, -157.0243, 2752,    209.7,  -1.2328,  33.9781, 2, -999.0000, 9,    264.7, 2,    291.6, 2,    26.89, 2,    13.51, 2,     0.00, 2,     1.47, 2,  -999.00, 9,  -1.2381,     0.00, 2, 0.02, 2,  -999.00, 9,  -999.00, 9,   0.7700, 2, -999.000, 2, -999.000, 9, 4.978, 2
320620030705, SBI, 114, 1, 110, 10, 2, 20030725, 1157, 73.1216, -157.0243, 2752,    234.9,  -0.6159,  34.3978, 2, -999.0000, 9,    258.1, 2,    280.0, 2,    17.30, 2,    13.10, 2,     0.00, 2,     1.13, 2,  -999.00, 9,  -0.6233,     0.00, 2, 0.01, 2,  -999.00, 9,  -999.00, 9,   0.8420, 2, -999.000, 2, -999.000, 9, 4.977, 2
320620030705, SBI, 114, 1, 109, 9, 2, 20030725, 1155, 73.1216, -157.0243, 2752,    274.8,   0.1661,  34.6371, 2,  34.6413, 2,    257.6, 2,    279.2, 2,    11.70, 2,    12.89, 2,     0.00, 2,     0.97, 2,  -999.00, 9,   0.1554,     0.00, 2, 0.01, 2,  -999.00, 9,  -999.00, 9,   0.6030, 2, -999.000, 2, -999.000, 9, 4.975, 2
320620030705, SBI, 114, 1, 108, 8, 2, 20030725, 1151, 73.1216, -157.0243, 2752,    365.6,   0.7242,  34.8101, 2,  34.8113, 2,    270.6, 2,    292.4, 2,     7.80, 2,    12.63, 2,     0.00, 2,     0.88, 2,  -999.00, 9,   0.7078,     0.00, 2, 0.01, 2,  -999.00, 9,  -999.00, 9,   0.7480, 2, -999.000, 2, -999.000, 9, 4.975, 2
320620030705, SBI, 114, 1, 107, 7, 2, 20030725, 1147, 73.1216, -157.0243, 2752,    506.6,   0.5632,  34.8465, 2,  34.8485, 2,    272.8, 2,    296.1, 2,     7.78, 2,    12.58, 2,     0.00, 2,     0.87, 2,  -999.00, 9,   0.5405,     0.00, 2, 0.01, 2,  -999.00, 9,  -999.00, 9,   0.6220, 2, -999.000, 2, -999.000, 9, 4.978, 2
320620030705, SBI, 114, 1, 106, 6, 2, 20030725, 1140, 73.1216, -157.0243, 2752,    808.9,   0.1689,  34.8665, 2,  34.8684, 2,    274.5, 2,    299.7, 2,     7.56, 2,    12.64, 2,     0.00, 2,     0.88, 2,  -999.00, 9,   0.1331,     0.00, 2, 0.01, 2,  -999.00, 9,  -999.00, 9,   0.7280, 2, -999.000, 2, -999.000, 9, 4.975, 2
320620030705, SBI, 114, 1, 105, 5, 2, 20030725, 1130, 73.1216, -157.0243, 2752,   1212.6,  -0.1855,  34.8943, 2,  34.8959, 2,    272.8, 2,    300.9, 2,     8.34, 2,    13.05, 2,     0.00, 2,     0.91, 2,  -999.00, 9,  -0.2401,     0.00, 2, 0.01, 2,  -999.00, 9,  -999.00, 9,   0.7630, 2, -999.000, 2, -999.000, 9, 4.979, 2
320620030705, SBI, 114, 1, 104, 4, 2, 20030725, 1120, 73.1216, -157.0243, 2752,   1616.3,  -0.3644,  34.9221, 2,  34.9227, 2,    268.0, 2,    296.0, 2,    10.11, 2,    13.82, 2,     0.00, 2,     0.97, 2,  -999.00, 9,  -0.4406,     0.00, 2, 0, 2,  -999.00, 9,  -999.00, 9,   0.5450, 2, -999.000, 2, -999.000, 9, 4.984, 2
320620030705, SBI, 114, 1, 103, 3, 2, 20030725, 1106, 73.1216, -157.0243, 2752,   2225.6,  -0.3951,  34.9456, 2,  34.9469, 2,    260.3, 2,    288.8, 2,    12.59, 2,    14.49, 2,     0.00, 2,     1.02, 2,  -999.00, 9,  -0.5112,     0.00, 2, 0, 2,  -999.00, 9,  -999.00, 9,   0.5830, 2, -999.000, 2, -999.000, 9, 4.990, 2
320620030705, SBI, 114, 1, 102, 2, 2, 20030725, 1056, 73.1216, -157.0243, 2752,   2687.8,  -0.3614,  34.9523, 2,  34.9522, 2,    257.9, 2,    285.5, 2,    13.47, 2,    14.64, 2,     0.00, 2,     1.03, 2,  -999.00, 9,  -0.5128,     0.01, 2, 0, 2,  -999.00, 9,  -999.00, 9,   0.5340, 2, -999.000, 2, -999.000, 9, 4.993, 2
320620030705, SBI, 114, 1, 101, 1, 2, 20030725, 1052, 73.1216, -157.0243, 2752,   2789.2,  -0.3499,  34.9554, 2,  34.9567, 2,    255.6, 2,    283.0, 2,    14.55, 2,    14.75, 2,     0.00, 2,     1.04, 2,  -999.00, 9,  -0.5096,     0.00, 2, 0, 2,  -999.00, 9,  -999.00, 9,   0.5410, 2, -999.000, 2, -999.000, 9, 4.990, 2
320620030705, SBI, 115, 1, 124, 24, 2, 20030725, 1659, 73.2126, -156.9100, 3119,      2.1,  -0.9627,  28.8370, 2,  28.8355, 2,    355.5, 2,    388.1, 2,     5.22, 2,     0.14, 2,     0.00, 2,     0.69, 2,  -999.00, 9,  -0.9627,     0.06, 2, 0, 2,     0.09, 2,     0.03, 2,   0.7640, 2, -999.000, 2, -999.000, 9, 4.392, 2
320620030705, SBI, 115, 1, 123, 23, 2, 20030725, 1658, 73.2126, -156.9100, 3119,     14.1,  -1.0017,  28.9008, 2, -999.0000, 9,    357.5, 2,    398.7, 2,     5.31, 2,     0.08, 2,     0.00, 2,     0.71, 2,  -999.00, 9,  -1.0019,     0.07, 2, 0, 2,     0.12, 2,     0.04, 2,   0.8120, 2, -999.000, 2, -999.000, 9, 4.336, 2
320620030705, SBI, 115, 1, 122, 22, 2, 20030725, 1656, 73.2126, -156.9100, 3119,     26.1,  -1.2605,  31.1508, 2, -999.0000, 9,    358.3, 2,    384.0, 2,     9.97, 2,     1.51, 2,     0.14, 2,     0.91, 2,  -999.00, 9,  -1.2610,     0.07, 2, 0.01, 2,     0.23, 2,     0.08, 2,   1.4570, 2, -999.000, 2, -999.000, 9, 4.433, 2
320620030705, SBI, 115, 1, 121, 21, 2, 20030725, 1654, 73.2126, -156.9100, 3119,     39.1,  -1.5157,  31.9013, 2, -999.0000, 9,    314.3, 2,    346.2, 2,    24.97, 2,     7.05, 2,     0.23, 2,     1.38, 2,  -999.00, 9,  -1.5164,     0.39, 2, 0.01, 2,  -999.00, 9,  -999.00, 9,   1.1150, 2, -999.000, 2, -999.000, 9, 4.472, 2
320620030705, SBI, 115, 1, 120, 20, 2, 20030725, 1652, 73.2126, -156.9100, 3119,     54.2,  -1.5704,  32.1241, 2, -999.0000, 9,    315.0, 2,    347.3, 2,    26.15, 2,     7.32, 2,     0.18, 2,     1.42, 2,  -999.00, 9,  -1.5713,     0.76, 2, 0.01, 2,     0.09, 2,     0.03, 2,   0.9380, 2, -999.000, 2, -999.000, 9, 4.519, 2
320620030705, SBI, 115, 1, 119, 19, 2, 20030725, 1651, 73.2126, -156.9100, 3119,     69.4,  -1.6292,  32.3033, 2, -999.0000, 9,    311.8, 2,    334.9, 2,    28.73, 2,     9.04, 2,     0.07, 2,     1.50, 2,  -999.00, 9,  -1.6304,     0.28, 2, 0.02, 2,  -999.00, 9,  -999.00, 9,   0.7410, 2, -999.000, 2, -999.000, 9, 4.569, 2
320620030705, SBI, 115, 1, 118, 18, 2, 20030725, 1649, 73.2126, -156.9100, 3119,     84.4,  -1.7116,  32.5354, 2, -999.0000, 9,    302.4, 2,    332.6, 2,    28.32, 2,     9.30, 2,     0.01, 2,     1.51, 2,  -999.00, 9,  -1.7130,     0.03, 2, 0.02, 2,  -999.00, 9,  -999.00, 9,   0.7670, 2, -999.000, 2, -999.000, 9, 4.495, 2
320620030705, SBI, 115, 1, 117, 17, 2, 20030725, 1647, 73.2126, -156.9100, 3119,     99.3,  -1.7401,  32.6915, 2, -999.0000, 9,    302.7, 2,    333.4, 2,    30.40, 2,     9.50, 2,     0.01, 2,     1.54, 2,  -999.00, 9,  -1.7418,     0.03, 2, 0.02, 2,  -999.00, 9,  -999.00, 9,   0.7750, 2, -999.000, 2, -999.000, 9, 4.606, 2
320620030705, SBI, 115, 1, 116, 16, 2, 20030725, 1645, 73.2126, -156.9100, 3119,    114.5,  -1.7493,  32.7658, 2, -999.0000, 9,    302.9, 2,    334.7, 2,    30.60, 2,     9.61, 2,     0.01, 2,     1.54, 2,  -999.00, 9,  -1.7513,     0.02, 2, 0.02, 2,  -999.00, 9,  -999.00, 9,   0.7450, 2, -999.000, 2, -999.000, 9, 4.617, 2
320620030705, SBI, 115, 1, 115, 15, 2, 20030725, 1643, 73.2126, -156.9100, 3119,    134.6,  -1.7408,  32.8272, 2, -999.0000, 9,    304.2, 2,    336.4, 2,    30.10, 2,     9.55, 2,     0.01, 2,     1.53, 2,  -999.00, 9,  -1.7432,     0.02, 2, 0.02, 2,  -999.00, 9,  -999.00, 9,   0.7060, 2, -999.000, 2, -999.000, 9, 4.704, 2
320620030705, SBI, 115, 1, 114, 14, 2, 20030725, 1642, 73.2126, -156.9100, 3119,    154.7,  -1.7491,  32.9384, 2, -999.0000, 9,    304.3, 2,    335.3, 2,    29.89, 2,     9.71, 2,     0.01, 2,     1.54, 2,  -999.00, 9,  -1.7519,     0.02, 2, 0.02, 2,  -999.00, 9,  -999.00, 9,   0.7290, 2, -999.000, 2, -999.000, 9, 4.752, 2
320620030705, SBI, 115, 1, 113, 13, 2, 20030725, 1640, 73.2126, -156.9100, 3119,    174.3,  -1.7587,  33.0365, 2, -999.0000, 9,    306.6, 2,    338.0, 2,    29.19, 2,     9.61, 2,     0.01, 2,     1.53, 2,  -999.00, 9,  -1.7619,     0.02, 2, 0.01, 2,  -999.00, 9,  -999.00, 9,   0.7650, 2, -999.000, 2, -999.000, 9, 4.769, 2
320620030705, SBI, 115, 1, 112, 12, 2, 20030725, 1638, 73.2126, -156.9100, 3119,    194.6,  -1.7592,  33.2040, 2, -999.0000, 9,    310.3, 2,    342.3, 2,    27.59, 2,     9.45, 2,     0.01, 2,     1.48, 2,  -999.00, 9,  -1.7629,     0.02, 2, 0.02, 2,  -999.00, 9,  -999.00, 9,   0.7400, 2, -999.000, 2, -999.000, 9, 4.772, 2
320620030705, SBI, 115, 1, 111, 11, 2, 20030725, 1636, 73.2126, -156.9100, 3119,    214.9,  -1.5859,  33.3821, 2, -999.0000, 9,    276.9, 2,    298.8, 2,    29.88, 2,    13.16, 2,     0.01, 2,     1.58, 2,  -999.00, 9,  -1.5904,     0.01, 2, 0.02, 2,  -999.00, 9,  -999.00, 9,   0.7670, 2, -999.000, 2, -999.000, 9, 4.771, 2
320620030705, SBI, 115, 1, 110, 10, 2, 20030725, 1633, 73.2126, -156.9100, 3119,    265.0,  -0.5885,  34.4295, 2,  34.4787, 2,    260.0, 2,    283.2, 2,    16.54, 2,    12.84, 2,     0.01, 2,     1.11, 2,  -999.00, 9,  -0.5970,     0.00, 2, 0.02, 2,  -999.00, 9,  -999.00, 9,   0.6550, 2, -999.000, 2, -999.000, 9, 4.786, 2
320620030705, SBI, 115, 1, 109, 9, 2, 20030725, 1630, 73.2126, -156.9100, 3119,    355.6,   0.6816,  34.7802, 2,  34.7854, 2,    267.4, 2,    289.4, 2,     8.41, 2,    12.58, 2,     0.00, 2,     0.88, 2,  -999.00, 9,   0.6658,     0.00, 2, 0.01, 2,  -999.00, 9,  -999.00, 9,   0.7280, 2, -999.000, 2, -999.000, 9, 4.818, 2
320620030705, SBI, 115, 1, 108, 8, 2, 20030725, 1624, 73.2126, -156.9100, 3119,    506.5,   0.5946,  34.8438, 2,  34.8458, 2,    272.4, 2,    296.8, 2,     7.80, 2,    12.59, 2,     0.00, 2,     0.87, 2,  -999.00, 9,   0.5718,     0.00, 2, 0.01, 2,  -999.00, 9,  -999.00, 9,   0.7470, 2, -999.000, 2, -999.000, 9, 4.833, 2
320620030705, SBI, 115, 1, 107, 7, 2, 20030725, 1616, 73.2126, -156.9100, 3119,    809.3,   0.1616,  34.8663, 2,  34.8686, 2,    274.5, 2,    300.3, 2,     7.40, 2,    12.64, 2,     0.00, 2,     0.87, 2,  -999.00, 9,   0.1258,     0.00, 2, 0, 2,  -999.00, 9,  -999.00, 9,   0.7060, 2, -999.000, 2, -999.000, 9, 4.831, 2
320620030705, SBI, 115, 1, 106, 6, 2, 20030725, 1605, 73.2126, -156.9100, 3119,   1260.4,  -0.2163,  34.8977, 2,  34.8991, 2,    271.8, 2,    300.1, 2,     8.48, 2,    13.05, 2,     0.00, 2,     0.91, 2,  -999.00, 9,  -0.2732,     0.00, 2, 0.01, 2,  -999.00, 9,  -999.00, 9,   0.6200, 2, -999.000, 2, -999.000, 9, 4.849, 2
320620030705, SBI, 115, 1, 105, 5, 2, 20030725, 1554, 73.2126, -156.9100, 3119,   1714.1,  -0.3898,  34.9283, 2,  34.9296, 2,    265.9, 2,    294.9, 2,    10.66, 2,    13.87, 2,     0.00, 2,     0.97, 2,  -999.00, 9,  -0.4717,     0.00, 2, 0.01, 2,  -999.00, 9,  -999.00, 9,   0.5050, 2, -999.000, 2, -999.000, 9, 4.854, 2
320620030705, SBI, 115, 1, 104, 4, 2, 20030725, 1542, 73.2126, -156.9100, 3119,   2168.9,  -0.3993,  34.9452, 2,  34.9433, 2,    259.6, 2,    289.9, 2,    12.55, 2,    14.38, 2,     0.00, 2,     1.02, 2,  -999.00, 9,  -0.5113,     0.00, 2, 0, 2,  -999.00, 9,  -999.00, 9,   0.5100, 2, -999.000, 2, -999.000, 9, 4.873, 2
320620030705, SBI, 115, 1, 103, 3, 2, 20030725, 1530, 73.2126, -156.9100, 3119,   2630.5,  -0.3679,  34.9523, 2,  34.9530, 2,    256.9, 2,    286.2, 2,    13.44, 2,    14.53, 2,     0.00, 2,     1.03, 2,  -999.00, 9,  -0.5147,     0.00, 2, 0, 2,  -999.00, 9,  -999.00, 9,   0.6630, 2, -999.000, 2, -999.000, 9, 4.864, 2
320620030705, SBI, 115, 1, 102, 2, 2, 20030725, 1520, 73.2126, -156.9100, 3119,   3059.8,  -0.3290,  34.9557, 2,  34.9561, 2,    255.2, 2,    283.9, 2,    14.22, 2,    14.59, 2,     0.00, 2,     1.03, 2,  -999.00, 9,  -0.5115,     0.00, 2, 0.01, 2,  -999.00, 9,  -999.00, 9,   0.8200, 2, -999.000, 2, -999.000, 9, 4.884, 2
320620030705, SBI, 115, 1, 101, 1, 2, 20030725, 1516, 73.2126, -156.9100, 3119,   3161.3,  -0.3199,  34.9557, 2,  34.9545, 2,    255.5, 2,    283.6, 2,    14.32, 2,    14.58, 2,     0.00, 2,     1.03, 2,  -999.00, 9,  -0.5113,     0.01, 2, 0, 2,  -999.00, 9,  -999.00, 9,   0.8820, 2, -999.000, 2, -999.000, 9, 4.884, 2