BOTTLE,20100423CCHDOSIODBK
EXPOCODE,SECT_ID,STNNBR,CASTNO,SAMPNO,BTLNBR,BTLNBR_FLAG_W,DATE,TIME,LATITUDE,LONGITUDE,DEPTH,CTDPRS,CTDTMP,CTDSAL,CTDSAL_FLAG_W,SALNTY,SALNTY_FLAG_W,CTDOXY,CTDOXY_FLAG_W,OXYGEN,OXYGEN_FLAG_W,SILCAT,SILCAT_FLAG_W,NITRAT,NITRAT_FLAG_W,NITRIT,NITRIT_FLAG_W,PHSPHT,PHSPHT_FLAG_W,DOC,DOC_FLAG_W,THETA,NH4,NH4_FLAG_W,UREA,UREA_FLAG_W,CHLORA,CHLORA_FLAG_W,PPHYTN,PPHYTN_FLAG_W,FLUOR,FLUOR_FLAG_W,HAARDT,HAARDT_FLAG_W,PAR,PAR_FLAG_W,SPAR,SPAR_FLAG_W
,,,,,,,,,,,METERS,DBAR,ITS-90,PSS-78,,PSS-78,,UMOL/KG,,UMOL/KG,,UMOL/KG,,UMOL/KG,,UMOL/KG,,UMOL/KG,,UMOL/KG,,DEG C,UMOL/KG,,UMOL/KG,,UG/KG,,UG/KG,,MG/M^3,,VOLTS,,VOLTS,,VOLTS,
320620030705, SBI, 262, 1, 105, 5, 2, 20030810, 507, 71.9172, -159.0411, 50,      1.9,  -0.4116,  29.6787, 2,  29.7212, 2,    367.0, 2,    388.5, 2,    10.80, 2,     0.15, 2,     0.00, 2,     0.79, 2,  -999.00, 9,  -0.4116,     0.00, 2, 0, 2,     0.91, 2,     0.05, 2,   1.5630, 2, 0.267, 2, 2.347, 2, 4.987, 2
320620030705, SBI, 262, 1, 104, 4, 2, 20030810, 505, 71.9172, -159.0411, 50,     11.7,  -0.4369,  29.7388, 2, -999.0000, 9,    366.5, 2,    393.3, 2,    15.07, 2,     0.29, 2,     0.01, 2,     0.88, 2,  -999.00, 9,  -0.4372,     0.00, 2, 0.01, 2,     3.42, 2,     0.14, 2,   1.5580, 2, 0.281, 2, 1.608, 2, 4.988, 2
320620030705, SBI, 262, 1, 103, 3, 2, 20030810, 503, 71.9172, -159.0411, 50,     21.8,  -1.3072,  31.5434, 2, -999.0000, 9,    340.1, 2,    319.0, 2,    23.33, 2,     3.14, 2,     0.08, 2,     1.21, 2,  -999.00, 9,  -1.3076,     0.35, 2, 0.04, 2,     5.83, 2,     0.21, 2,   2.3680, 2, 1.238, 2, 0.919, 2, 4.989, 2
320620030705, SBI, 262, 1, 102, 2, 2, 20030810, 501, 71.9172, -159.0411, 50,     34.7,  -1.6877,  32.6859, 2, -999.0000, 9,    275.1, 2,    295.9, 2,    38.03, 2,    13.94, 2,     0.21, 2,     2.03, 2,  -999.00, 9,  -1.6883,     2.42, 2, 0.1, 2,     1.69, 2,     0.41, 2,   1.3450, 2, 0.242, 2, 0.232, 2, 4.993, 2
320620030705, SBI, 262, 1, 101, 1, 2, 20030810, 459, 71.9172, -159.0411, 50,     44.8,  -1.6851,  32.6907, 2,  34.6268, 0,    274.1, 2,    296.8, 2,    37.77, 2,    14.08, 2,     0.20, 2,     2.02, 2,    69.70, 2,  -1.6859,     2.40, 2, 0.1, 2,     2.03, 2,     0.39, 2,   1.5000, 2, 0.254, 2, 0.147, 2, 4.996, 2
320620030705, SBI, 263, 1, 106, 6, 2, 20030810, 613, 71.8763, -158.8084, 52,      1.6,  -0.5061,  29.6938, 2,  29.6879, 2,    367.6, 2,    390.9, 2,    10.16, 2,     0.09, 2,     0.00, 2,     0.78, 2,  -999.00, 9,  -0.5061,    -0.01, 2, 0, 2,  -999.00, 9,  -999.00, 9,   1.5520, 2, 0.265, 2, 2.458, 2, 4.985, 2
320620030705, SBI, 263, 1, 105, 5, 2, 20030810, 612, 71.8763, -158.8084, 52,     13.5,  -0.5002,  29.6928, 2, -999.0000, 9,    366.2, 2,    391.0, 2,    12.15, 2,     0.08, 2,     0.00, 2,     0.81, 2,  -999.00, 9,  -0.5005,    -0.01, 2, 0, 2,  -999.00, 9,  -999.00, 9,   1.4980, 2, 0.273, 2, 1.612, 2, 4.984, 2
320620030705, SBI, 263, 1, 104, 4, 2, 20030810, 610, 71.8763, -158.8084, 52,     25.5,  -1.1993,  30.7347, 2, -999.0000, 9,    346.8, 2,   -999.0, 9,  -999.00, 9,  -999.00, 9,  -999.00, 9,  -999.00, 9,  -999.00, 9,  -1.1997,  -999.00, 9, -999, 9,  -999.00, 9,  -999.00, 9,   2.6390, 2, 2.197, 2, 0.938, 2, 4.984, 2
320620030705, SBI, 263, 1, 103, 3, 2, 20030810, 609, 71.8763, -158.8084, 52,     25.5,  -1.2282,  30.7675, 2, -999.0000, 9,    346.8, 2,    363.2, 2,    26.10, 2,     3.67, 2,     0.08, 2,     1.31, 2,  -999.00, 9,  -1.2286,     0.58, 2, 0.07, 2,  -999.00, 9,  -999.00, 9,   2.6320, 2, 1.848, 2, 0.933, 2, 4.984, 2
320620030705, SBI, 263, 1, 102, 2, 2, 20030810, 607, 71.8763, -158.8084, 52,     36.6,  -1.6734,  32.6512, 2, -999.0000, 9,    275.4, 2,    291.6, 2,    33.98, 2,    13.95, 2,     0.20, 2,     2.03, 2,  -999.00, 9,  -1.6740,     2.65, 2, 0.14, 2,  -999.00, 9,  -999.00, 9,   1.1710, 2, 0.212, 2, 0.306, 2, 4.984, 2
320620030705, SBI, 263, 1, 101, 1, 2, 20030810, 605, 71.8763, -158.8084, 52,     46.7,  -1.6924,  32.7601, 2,  32.7461, 2,    268.5, 2,    291.3, 2,    33.56, 2,    14.01, 2,     0.20, 2,     2.04, 2,    68.90, 2,  -1.6932,     2.68, 2, 0.14, 2,  -999.00, 9,  -999.00, 9,   1.2430, 2, 0.234, 2, 0.176, 2, 4.981, 2
320620030705, SBI, 264, 2, 205, 5, 2, 20030810, 756, 71.8346, -158.5699, 54,      2.1,  -0.2909,  29.8438, 2,  29.8322, 2,    362.9, 2,    387.6, 2,    12.31, 2,     0.13, 2,     0.00, 2,     0.80, 2,  -999.00, 9,  -0.2909,     0.00, 2, 0.02, 2,     0.63, 2,     0.06, 2,   1.5280, 2, 0.260, 2, 1.779, 2, 5.000, 2
320620030705, SBI, 264, 2, 204, 4, 2, 20030810, 754, 71.8346, -158.5699, 54,     21.5,  -1.2475,  30.7520, 2, -999.0000, 9,    336.7, 2,    346.1, 2,    26.48, 2,     3.72, 2,     0.08, 2,     1.35, 2,  -999.00, 9,  -1.2479,     0.67, 2, 0.07, 2,     6.52, 2,     0.14, 2,   2.1520, 2, 0.950, 2, 0.602, 2, 4.999, 2
320620030705, SBI, 264, 2, 203, 3, 2, 20030810, 752, 71.8346, -158.5699, 54,     28.4,  -1.5807,  31.8128, 2, -999.0000, 9,    281.0, 2,    297.2, 2,    42.72, 2,    10.13, 2,     0.13, 2,     1.91, 2,  -999.00, 9,  -1.5812,     2.40, 2, 0.17, 2,     1.12, 2,     0.25, 2,   1.3670, 2, 0.284, 2, 0.276, 2, 4.999, 2
320620030705, SBI, 264, 2, 202, 2, 2, 20030810, 750, 71.8346, -158.5699, 54,     38.5,  -1.6056,  32.0418, 2, -999.0000, 9,    271.5, 2,    290.3, 2,    43.91, 2,    11.09, 2,     0.13, 2,     1.98, 2,  -999.00, 9,  -1.6062,     2.61, 2, 0.13, 2,     0.52, 2,     0.28, 2,   1.1640, 2, 0.197, 2, 0.176, 2, 4.999, 2
320620030705, SBI, 264, 2, 201, 1, 2, 20030810, 749, 71.8346, -158.5699, 54,     48.6,  -1.6193,  32.3310, 2,  32.2091, 2,    273.9, 2,    292.1, 2,    43.50, 2,    11.30, 2,     0.13, 2,     2.00, 2,    69.50, 2,  -1.6201,     2.68, 2, 0.15, 2,     0.52, 2,     0.27, 2,   1.1650, 2, 0.205, 2, 0.148, 2, 4.998, 2
320620030705, SBI, 265, 1, 105, 5, 2, 20030810, 903, 71.7998, -158.3665, 59,      2.0,  -0.3954,  29.4220, 2, -999.0000, 9,    364.9, 2,    387.3, 2,    10.59, 2,     0.07, 2,     0.00, 2,     0.78, 2,  -999.00, 9,  -0.3954,     0.00, 2, 0, 2,  -999.00, 9,  -999.00, 9,   1.3180, 2, 0.222, 2, 1.366, 2, 5.000, 2
320620030705, SBI, 265, 1, 104, 4, 2, 20030810, 900, 71.7998, -158.3665, 59,     15.3,  -0.4026,  29.4294, 2, -999.0000, 9,    364.2, 2,    390.9, 2,    15.56, 2,     0.12, 2,     0.01, 2,     0.94, 2,  -999.00, 9,  -0.4029,     0.02, 2, 0.04, 2,  -999.00, 9,  -999.00, 9,   1.4050, 2, 0.231, 2, 0.666, 2, 5.000, 2
320620030705, SBI, 265, 1, 103, 3, 2, 20030810, 858, 71.7998, -158.3665, 59,     28.0,  -1.2610,  30.7252, 2, -999.0000, 9,    340.4, 2,    353.1, 2,    27.53, 2,     3.90, 2,     0.11, 2,     1.41, 2,  -999.00, 9,  -1.2615,     0.77, 2, 0.09, 2,  -999.00, 9,  -999.00, 9,   2.6800, 2, 3.051, 2, 0.300, 2, 5.000, 2
320620030705, SBI, 265, 1, 102, 2, 2, 20030810, 855, 71.7998, -158.3665, 59,     42.3,  -1.6641,  32.2321, 2, -999.0000, 9,    273.7, 2,    280.2, 2,    44.89, 2,    12.01, 2,     0.11, 2,     2.08, 2,  -999.00, 9,  -1.6648,     2.99, 2, 0.14, 2,  -999.00, 9,  -999.00, 9,   1.3460, 2, 0.259, 2, 0.145, 2, 5.000, 2
320620030705, SBI, 265, 1, 101, 1, 2, 20030810, 852, 71.7998, -158.3665, 59,     51.8,  -1.6642,  32.3899, 2,  32.3501, 2,    257.1, 2,    277.4, 2,    45.27, 2,    12.34, 2,     0.11, 2,     2.10, 2,  -999.00, 9,  -1.6651,     3.04, 2, 0.15, 2,  -999.00, 9,  -999.00, 9,   1.0770, 2, 0.201, 2, 0.141, 2, 5.000, 2
320620030705, SBI, 266, 1, 105, 5, 2, 20030810, 1016, 71.8000, -158.1017, 58,      2.4,  -0.4428,  29.2958, 2,  29.2932, 2,    364.7, 2,    387.5, 2,    10.51, 2,     0.15, 2,     0.00, 2,     0.77, 2,  -999.00, 9,  -0.4429,     0.00, 2, 0, 2,     0.34, 2,     0.03, 2,   1.2240, 2, 0.206, 2, 0.991, 2, 5.000, 2
320620030705, SBI, 266, 1, 104, 4, 2, 20030810, 1013, 71.8000, -158.1017, 58,     22.3,  -0.8618,  30.0038, 2, -999.0000, 9,    375.9, 2,    397.5, 2,    16.07, 2,     0.34, 2,     0.01, 2,     0.94, 2,  -999.00, 9,  -0.8622,     0.02, 2, 0.02, 2,     3.38, 2,     0.06, 2,   1.3710, 2, 0.241, 2, 0.326, 2, 5.000, 2
320620030705, SBI, 266, 1, 103, 3, 2, 20030810, 1011, 71.8000, -158.1017, 58,     28.3,  -1.5185,  31.2125, 2, -999.0000, 9,    332.6, 2,    366.9, 2,    23.73, 2,     2.51, 2,     0.08, 2,     1.31, 2,  -999.00, 9,  -1.5189,     0.29, 2, 0.08, 2,    12.73, 2,     0.21, 2,   2.2390, 2, 0.984, 2, 0.208, 2, 5.000, 2
320620030705, SBI, 266, 1, 102, 2, 2, 20030810, 1008, 71.8000, -158.1017, 58,     38.2,  -1.6662,  31.9777, 2, -999.0000, 9,    306.5, 2,    300.2, 2,    40.56, 2,    10.20, 2,     0.12, 2,     1.90, 2,  -999.00, 9,  -1.6668,     2.79, 2, 0.14, 2,     0.51, 2,     0.25, 2,   1.3670, 2, 0.227, 2, 0.148, 2, 5.000, 2
320620030705, SBI, 266, 1, 101, 1, 2, 20030810, 1005, 71.8000, -158.1017, 58,     52.5,  -1.6664,  32.3235, 2,  32.2909, 2,    264.4, 2,    286.2, 2,    44.18, 2,    11.63, 2,     0.12, 2,     2.03, 2,    71.30, 2,  -1.6673,     2.98, 2, 0.14, 2,     0.50, 2,     0.25, 2,   1.0720, 2, 0.210, 2, 0.140, 2, 5.000, 2
320620030705, SBI, 267, 1, 105, 5, 2, 20030810, 1147, 71.7999, -157.8350, 60,      2.5,  -0.1668,  28.6072, 2,  28.6061, 2,    355.1, 2,    378.1, 2,     7.42, 2,     0.09, 2,     0.00, 2,     0.73, 2,  -999.00, 9,  -0.1669,     0.06, 2, 0, 2,  -999.00, 9,  -999.00, 9,   0.9460, 2, 0.174, 2, 1.298, 2, 5.000, 2
320620030705, SBI, 267, 1, 104, 4, 2, 20030810, 1145, 71.7999, -157.8350, 60,     17.6,  -0.6928,  29.4592, 2, -999.0000, 9,    365.3, 2,    394.7, 2,    13.38, 2,     0.14, 2,     0.00, 2,     0.85, 2,  -999.00, 9,  -0.6931,     0.00, 2, 0, 2,  -999.00, 9,  -999.00, 9,   1.1180, 2, 0.204, 2, 0.712, 2, 5.000, 2
320620030705, SBI, 267, 1, 103, 3, 2, 20030810, 1142, 71.7999, -157.8350, 60,     29.5,  -1.5342,  31.1120, 2, -999.0000, 9,    341.1, 2,    359.1, 2,    21.34, 2,     3.69, 2,     0.12, 2,     1.39, 2,  -999.00, 9,  -1.5346,     0.81, 2, 0.11, 2,  -999.00, 9,  -999.00, 9,   3.0910, 2, 4.748, 2, 0.310, 2, 5.000, 2
320620030705, SBI, 267, 1, 102, 2, 2, 20030810, 1139, 71.7999, -157.8350, 60,     42.8,  -1.6568,  31.7573, 2, -999.0000, 9,    324.1, 2,    333.2, 2,    32.95, 2,     7.38, 2,     0.14, 2,     1.67, 2,  -999.00, 9,  -1.6575,     2.25, 2, 0.11, 2,  -999.00, 9,  -999.00, 9,   1.5610, 2, 0.326, 2, 0.145, 2, 5.000, 2
320620030705, SBI, 267, 1, 101, 1, 2, 20030810, 1136, 71.7999, -157.8350, 60,     53.9,  -1.6761,  32.3483, 2,  32.2210, 2,    272.7, 2,    307.4, 2,    40.39, 2,    10.00, 2,     0.12, 2,     1.90, 2,    72.70, 2,  -1.6770,     2.96, 2, 0.15, 2,  -999.00, 9,  -999.00, 9,   1.2360, 2, 0.212, 2, 0.141, 2, 5.000, 2
320620030705, SBI, 268, 1, 105, 5, 2, 20030810, 1257, 71.7996, -157.5654, 64,      2.3,  -0.5024,  29.1187, 2,  29.1218, 2,    361.5, 2,    386.2, 2,    10.29, 2,     0.08, 2,     0.00, 2,     0.76, 2,  -999.00, 9,  -0.5024,     0.03, 2, 0, 2,     0.25, 2,     0.04, 2,   1.0660, 2, 0.190, 2, 1.939, 2, 4.998, 2
320620030705, SBI, 268, 1, 104, 4, 2, 20030810, 1254, 71.7996, -157.5654, 64,     26.0,  -1.0517,  30.3156, 2, -999.0000, 9,    384.0, 2,    406.3, 2,    15.06, 2,     0.08, 2,     0.00, 2,     0.89, 2,  -999.00, 9,  -1.0522,     0.03, 2, 0.01, 2,     1.10, 2,     0.06, 2,   1.1770, 2, 0.202, 2, 0.811, 2, 4.998, 2
320620030705, SBI, 268, 1, 103, 3, 2, 20030810, 1251, 71.7996, -157.5654, 64,     38.9,  -1.6276,  31.5212, 2, -999.0000, 9,    311.0, 2,    352.8, 2,    11.96, 2,     3.49, 2,     0.11, 2,     1.30, 2,  -999.00, 9,  -1.6282,     0.56, 2, 0.09, 2,     5.34, 2,     0.11, 2,   2.4850, 2, 1.340, 2, 0.251, 2, 4.998, 2
320620030705, SBI, 268, 1, 102, 2, 2, 20030810, 1248, 71.7996, -157.5654, 64,     46.0,  -1.6789,  31.7616, 2, -999.0000, 9,    333.4, 2,    350.9, 2,    20.34, 2,     5.07, 2,     0.12, 2,     1.34, 2,  -999.00, 9,  -1.6796,     1.17, 2, 0.09, 2,     0.95, 2,     0.23, 2,   1.3850, 2, 0.260, 2, 0.150, 2, 4.998, 2
320620030705, SBI, 268, 1, 101, 1, 2, 20030810, 1246, 71.7996, -157.5654, 64,     59.1,  -1.6703,  32.2590, 2,  32.2201, 2,    279.3, 2,    303.9, 2,    41.33, 2,     9.95, 2,     0.13, 2,     1.92, 2,    72.20, 2,  -1.6713,     3.01, 2, 0.15, 2,     0.64, 2,     0.23, 2,   1.2690, 2, 0.222, 2, 0.139, 2, 4.998, 2
320620030705, SBI, 269, 1, 105, 5, 2, 20030810, 1428, 71.7998, -157.3139, 64,      2.1,  -0.4732,  28.5812, 2,  29.0509, 2,    354.2, 2,    384.8, 2,     9.88, 2,     0.07, 2,     0.00, 2,     0.77, 2,  -999.00, 9,  -0.4732,     0.05, 2, 0.02, 2,  -999.00, 9,  -999.00, 9,   0.8400, 2, 0.172, 2, 2.558, 2, 4.978, 2
320620030705, SBI, 269, 1, 104, 4, 2, 20030810, 1426, 71.7998, -157.3139, 64,     16.8,  -0.3895,  29.1441, 2,  30.1155, 2,    360.0, 2,    396.6, 2,    15.86, 2,     0.10, 2,     0.02, 2,     0.96, 2,  -999.00, 9,  -0.3899,     0.08, 2, 0.04, 2,  -999.00, 9,  -999.00, 9,   0.9550, 2, 0.185, 2, 1.807, 2, 4.979, 2
320620030705, SBI, 269, 1, 103, 3, 2, 20030810, 1424, 71.7998, -157.3139, 64,     31.4,  -1.5287,  31.0191, 2, -999.0000, 9,    351.3, 2,    369.1, 2,    19.45, 2,     2.31, 2,     0.11, 2,     1.29, 2,  -999.00, 9,  -1.5292,     0.46, 2, 0.13, 2,  -999.00, 9,  -999.00, 9,   2.5110, 2, 1.593, 2, 1.063, 2, 4.983, 2
320620030705, SBI, 269, 1, 102, 2, 2, 20030810, 1420, 71.7998, -157.3139, 64,     41.9,  -1.6484,  31.7098, 2, -999.0000, 9,    326.2, 2,    352.9, 2,    20.24, 2,     5.07, 2,     0.12, 2,     1.33, 2,  -999.00, 9,  -1.6491,     1.08, 2, 0.08, 2,  -999.00, 9,  -999.00, 9,   1.2430, 2, 0.264, 2, 0.305, 2, 4.984, 2
320620030705, SBI, 269, 1, 101, 1, 2, 20030810, 1417, 71.7998, -157.3139, 64,     56.9,  -1.6768,  32.0715, 2,  31.9926, 2,    292.8, 2,    326.7, 2,    29.07, 2,     6.88, 2,     0.13, 2,     1.60, 2,    73.90, 2,  -1.6777,     1.77, 2, 0.11, 2,  -999.00, 9,  -999.00, 9,   1.0060, 2, 0.200, 2, 0.172, 2, 4.985, 2
320620030705, SBI, 270, 1, 105, 5, 2, 20030810, 1629, 71.7994, -157.1341, 64,      2.3,  -0.9112,  28.4453, 2,  28.5068, 2,    351.6, 2,    382.1, 2,     7.05, 2,     0.15, 2,     0.00, 2,     0.72, 2,  -999.00, 9,  -0.9112,     0.13, 2, 0, 2,     0.19, 2,     0.04, 2,   0.7310, 2, 0.169, 2, 3.237, 2, 4.877, 2
320620030705, SBI, 270, 1, 104, 4, 2, 20030810, 1626, 71.7994, -157.1341, 64,     22.9,  -1.3880,  30.5609, 2, -999.0000, 9,    381.7, 2,    410.7, 2,    13.40, 2,     0.14, 2,     0.00, 2,     0.88, 2,  -999.00, 9,  -1.3884,     0.03, 2, 0.02, 2,     2.18, 2,     0.06, 2,   1.4790, 2, 0.340, 2, 2.262, 2, 4.886, 2
320620030705, SBI, 270, 1, 103, 3, 2, 20030810, 1624, 71.7994, -157.1341, 64,     28.1,  -1.5253,  31.0059, 2, -999.0000, 9,    347.2, 2,    368.3, 2,    17.78, 2,     2.15, 2,     0.09, 2,     1.23, 2,  -999.00, 9,  -1.5257,     0.46, 2, 0.11, 2,    14.13, 2,     0.67, 2,   2.6570, 2, 2.563, 2, 1.961, 2, 4.886, 2
320620030705, SBI, 270, 1, 102, 2, 2, 20030810, 1622, 71.7994, -157.1341, 64,     38.0,  -1.3018,  31.6193, 2, -999.0000, 9,    332.3, 2,    350.2, 2,    22.06, 2,     5.21, 2,     0.16, 2,     1.35, 2,  -999.00, 9,  -1.3025,     1.04, 2, 0.08, 2,     0.55, 2,     0.20, 2,   1.4160, 2, 0.301, 2, 0.661, 2, 4.890, 2
320620030705, SBI, 270, 1, 101, 1, 2, 20030810, 1618, 71.7994, -157.1341, 64,     58.1,  -1.6516,  32.0334, 2,  31.9846, 2,    299.5, 2,    328.0, 2,    27.15, 2,     6.39, 2,     0.15, 2,     1.53, 2,  -999.00, 9,  -1.6525,     1.37, 2, 0.08, 2,     0.26, 2,     0.14, 2,   1.0480, 2, 0.191, 2, 0.254, 2, 4.891, 2
320620030705, SBI, 271, 1, 105, 5, 2, 20030810, 1743, 71.8137, -156.8581, 64,      2.1,  -0.7697,  28.3605, 2,  28.4220, 2,    339.7, 2,    380.0, 2,     6.74, 2,     0.09, 2,     0.00, 2,     0.71, 2,  -999.00, 9,  -0.7697,     0.12, 2, 0, 2,  -999.00, 9,  -999.00, 9,   0.8400, 2, 0.167, 2, 3.787, 2, 4.520, 2
320620030705, SBI, 271, 1, 104, 4, 2, 20030810, 1742, 71.8137, -156.8581, 64,     16.5,  -1.0288,  28.6502, 2, -999.0000, 9,    345.3, 2,    386.9, 2,     8.42, 2,     0.19, 2,     0.00, 2,     0.77, 2,  -999.00, 9,  -1.0290,     0.15, 2, 0.01, 2,  -999.00, 9,  -999.00, 9,   0.7500, 2, 0.176, 2, 3.201, 2, 4.373, 2
320620030705, SBI, 271, 1, 103, 3, 2, 20030810, 1739, 71.8137, -156.8581, 64,     35.2,  -1.0865,  31.8162, 2, -999.0000, 9,    327.1, 2,    348.1, 2,    22.84, 2,     5.55, 2,     0.18, 2,     1.38, 2,  -999.00, 9,  -1.0872,     1.13, 2, 0.07, 2,  -999.00, 9,  -999.00, 9,   2.0650, 2, 0.576, 2, 2.101, 2, 4.696, 2
320620030705, SBI, 271, 1, 102, 2, 2, 20030810, 1735, 71.8137, -156.8581, 64,     46.5,  -1.3247,  31.9963, 2, -999.0000, 9,    310.0, 2,    339.7, 2,    24.85, 2,     6.18, 2,     0.20, 2,     1.45, 2,  -999.00, 9,  -1.3256,     1.21, 2, 0.05, 2,  -999.00, 9,  -999.00, 9,   1.0230, 2, 0.287, 2, 1.431, 2, 4.791, 2
320620030705, SBI, 271, 1, 101, 1, 2, 20030810, 1733, 71.8137, -156.8581, 64,     56.6,  -1.6320,  32.1323, 2,  32.0491, 2,    288.6, 2,    332.8, 2,    26.84, 2,     6.60, 2,     0.20, 2,     1.51, 2,    73.20, 2,  -1.6329,     1.13, 2, 0.06, 2,  -999.00, 9,  -999.00, 9,   0.9400, 2, 0.185, 2, 1.030, 2, 4.792, 2
320620030705, SBI, 272, 1, 105, 5, 2, 20030810, 1913, 71.8382, -156.6143, 65,      2.1,  -0.4380,  28.3376, 2,  29.2764, 2,    343.0, 2,    393.8, 2,    10.59, 2,     0.24, 2,     0.01, 2,     0.79, 2,  -999.00, 9,  -0.4380,     0.10, 2, 0.01, 2,     0.35, 2,     0.03, 2,   0.7470, 2, 0.165, 2, 3.923, 2, 4.421, 2
320620030705, SBI, 272, 1, 104, 4, 2, 20030810, 1911, 71.8382, -156.6143, 65,     20.4,  -1.2250,  30.3667, 2, -999.0000, 9,    378.4, 2,    389.7, 2,    18.76, 2,     2.03, 2,     0.08, 2,     1.08, 2,  -999.00, 9,  -1.2253,     0.43, 2, 0.06, 2,     3.17, 2,     0.00, 2,   0.8990, 2, 0.177, 2, 3.042, 2, 4.454, 2
320620030705, SBI, 272, 1, 103, 3, 2, 20030810, 1909, 71.8382, -156.6143, 65,     26.5,  -1.3862,  31.3918, 2, -999.0000, 9,    331.4, 2,    360.3, 2,    22.85, 2,     4.13, 2,     0.16, 2,     1.29, 2,  -999.00, 9,  -1.3867,     0.91, 2, 0.1, 2,     4.11, 2,     0.08, 2,   2.0750, 2, 0.548, 2, 2.550, 2, 4.482, 2
320620030705, SBI, 272, 1, 102, 2, 2, 20030810, 1907, 71.8382, -156.6143, 65,     39.6,  -1.5385,  31.9044, 2, -999.0000, 9,    312.7, 2,    343.3, 2,    25.53, 2,     5.90, 2,     0.20, 2,     1.42, 2,  -999.00, 9,  -1.5392,     1.36, 2, 0.08, 2,     0.28, 2,     0.13, 2,   0.9830, 2, 0.182, 2, 1.755, 2, 4.484, 2
320620030705, SBI, 272, 1, 101, 1, 2, 20030810, 1904, 71.8382, -156.6143, 65,     59.7,  -1.5443,  32.0461, 2,  32.0246, 2,    303.1, 2,    336.9, 2,    26.54, 2,     6.48, 2,     0.20, 2,     1.49, 2,    73.30, 2,  -1.5453,     1.24, 2, 0.07, 2,     0.35, 2,     0.09, 2,   1.0820, 2, 0.206, 2, 0.864, 2, 4.441, 2