BOTTLE,20100423CCHDOSIODBK
EXPOCODE,SECT_ID,STNNBR,CASTNO,SAMPNO,BTLNBR,BTLNBR_FLAG_W,DATE,TIME,LATITUDE,LONGITUDE,DEPTH,CTDPRS,CTDTMP,CTDSAL,CTDSAL_FLAG_W,SALNTY,SALNTY_FLAG_W,CTDOXY,CTDOXY_FLAG_W,OXYGEN,OXYGEN_FLAG_W,SILCAT,SILCAT_FLAG_W,NITRAT,NITRAT_FLAG_W,NITRIT,NITRIT_FLAG_W,PHSPHT,PHSPHT_FLAG_W,DOC,DOC_FLAG_W,THETA,NH4,NH4_FLAG_W,UREA,UREA_FLAG_W,CHLORA,CHLORA_FLAG_W,PPHYTN,PPHYTN_FLAG_W,FLUOR,FLUOR_FLAG_W,HAARDT,HAARDT_FLAG_W,PAR,PAR_FLAG_W,SPAR,SPAR_FLAG_W
,,,,,,,,,,,METERS,DBAR,ITS-90,PSS-78,,PSS-78,,UMOL/KG,,UMOL/KG,,UMOL/KG,,UMOL/KG,,UMOL/KG,,UMOL/KG,,UMOL/KG,,DEG C,UMOL/KG,,UMOL/KG,,UG/KG,,UG/KG,,MG/M^3,,VOLTS,,VOLTS,,VOLTS,
320620030705, SBI, 227, 2, 211, 11, 2, 20030807, 1538, 73.2746, -162.3051, 133,      2.2,  -1.2209,  29.6475, 2,  29.6307, 2,    365.0, 2,    394.9, 2,     6.87, 2,     0.15, 2,     0.00, 2,     0.76, 2,  -999.00, 9,  -1.2209,    -0.01, 2, 0, 2,     1.46, 2,     0.14, 2,   1.6110, 2, 0.276, 2, 3.202, 2, 4.895, 2
320620030705, SBI, 227, 2, 210, 10, 2, 20030807, 1536, 73.2746, -162.3051, 133,     12.6,  -1.2537,  29.8028, 2,  29.9608, 2,    367.0, 2,    393.1, 2,     9.08, 2,     0.39, 2,     0.01, 2,     0.82, 2,  -999.00, 9,  -1.2539,     0.01, 2, 0, 2,     2.12, 2,     0.14, 2,   1.8190, 2, 0.386, 2, 2.313, 2, 4.898, 2
320620030705, SBI, 227, 2, 209, 9, 2, 20030807, 1535, 73.2746, -162.3051, 133,     20.6,  -1.5218,  31.0849, 2, -999.0000, 9,    351.7, 2,    376.4, 2,    17.06, 2,     2.64, 2,     0.07, 2,     1.15, 2,  -999.00, 9,  -1.5221,     0.45, 2, 0.03, 2,     3.95, 2,     0.04, 2,   2.0460, 2, 0.518, 2, 1.551, 2, 4.911, 2
320620030705, SBI, 227, 2, 208, 8, 2, 20030807, 1532, 73.2746, -162.3051, 133,     32.7,  -1.6085,  31.4408, 2, -999.0000, 9,    344.5, 2,    368.1, 2,    17.57, 2,     3.93, 2,     0.14, 2,     1.25, 2,  -999.00, 9,  -1.6090,     1.00, 2, 0.05, 2,     2.06, 2,     0.26, 2,   1.8230, 2, 0.386, 2, 0.731, 2, 4.916, 2
320620030705, SBI, 227, 2, 207, 7, 2, 20030807, 1530, 73.2746, -162.3051, 133,     42.8,  -1.6249,  31.5633, 2, -999.0000, 9,    334.2, 2,    360.8, 2,    20.81, 2,     4.82, 2,     0.18, 2,     1.30, 2,  -999.00, 9,  -1.6256,     1.14, 2, 0.06, 2,     0.96, 2,     0.08, 2,   1.5030, 2, 0.282, 2, 0.386, 2, 4.915, 2
320620030705, SBI, 227, 2, 206, 6, 2, 20030807, 1527, 73.2746, -162.3051, 133,     57.8,  -1.6373,  31.7080, 2, -999.0000, 9,    329.3, 2,    351.1, 2,    24.36, 2,     5.72, 2,     0.21, 2,     1.37, 2,  -999.00, 9,  -1.6382,     1.14, 2, 0.03, 2,     0.20, 2,     0.18, 2,   1.0280, 2, 0.193, 2, 0.212, 2, 4.909, 2
320620030705, SBI, 227, 2, 205, 5, 2, 20030807, 1525, 73.2746, -162.3051, 133,     72.9,  -1.5924,  31.9725, 2, -999.0000, 9,    315.6, 2,    328.6, 2,    31.17, 2,     7.95, 2,     0.17, 2,     1.56, 2,  -999.00, 9,  -1.5936,     1.12, 2, 0.02, 2,  -999.00, 9,  -999.00, 9,   0.8660, 2, 0.183, 2, 0.156, 2, 4.926, 2
320620030705, SBI, 227, 2, 204, 4, 2, 20030807, 1523, 73.2746, -162.3051, 133,     88.0,  -1.5240,  32.2701, 2, -999.0000, 9,    290.3, 2,    308.1, 2,    34.85, 2,    10.17, 2,     0.13, 2,     1.70, 2,  -999.00, 9,  -1.5256,     1.07, 2, 0.02, 2,  -999.00, 9,  -999.00, 9,   0.9300, 2, 0.183, 2, 0.143, 2, 4.921, 2
320620030705, SBI, 227, 2, 203, 3, 2, 20030807, 1520, 73.2746, -162.3051, 133,    102.9,  -1.5760,  32.5704, 2, -999.0000, 9,    277.8, 2,    292.7, 2,    39.55, 2,    12.63, 2,     0.11, 2,     1.86, 2,  -999.00, 9,  -1.5779,     1.16, 2, 0.02, 2,  -999.00, 9,  -999.00, 9,   0.8910, 2, 0.180, 2, 0.139, 2, 4.915, 2
320620030705, SBI, 227, 2, 202, 2, 2, 20030807, 1519, 73.2746, -162.3051, 133,    117.9,  -1.5112,  32.9382, 2, -999.0000, 9,    267.3, 2,    286.8, 2,    37.70, 2,    13.01, 2,     0.09, 2,     1.83, 2,  -999.00, 9,  -1.5135,     0.62, 2, 0.02, 2,  -999.00, 9,  -999.00, 9,   0.9110, 2, 0.179, 2, 0.139, 2, 4.911, 2
320620030705, SBI, 227, 2, 201, 1, 2, 20030807, 1517, 73.2746, -162.3051, 133,    127.9,  -1.4392,  33.0229, 2, -999.0000, 9,    261.1, 2,    282.9, 2,    38.31, 2,    13.02, 2,     0.09, 2,     1.85, 2,    64.90, 2,  -1.4419,     0.49, 2, 0.01, 2,  -999.00, 9,  -999.00, 9,   0.9780, 2, 0.183, 2, 0.138, 2, 4.916, 2
320620030705, SBI, 228, 1, 113, 13, 2, 20030807, 1700, 73.2455, -162.1333, 151,      2.1,  -1.0461,  29.3662, 2, -999.0000, 9,    358.5, 2,    389.0, 2,     5.51, 2,     0.13, 2,     0.00, 2,     0.73, 2,  -999.00, 9,  -1.0461,    -0.01, 2, 0, 2,  -999.00, 9,  -999.00, 9,   1.0700, 2, 0.198, 2, 3.540, 2, 4.789, 2
320620030705, SBI, 228, 1, 112, 12, 2, 20030807, 1658, 73.2455, -162.1333, 151,     11.8,  -1.1348,  29.5745, 2, -999.0000, 9,    365.2, 2,    392.6, 2,     7.63, 2,     0.23, 2,     0.00, 2,     0.80, 2,  -999.00, 9,  -1.1350,     0.01, 2, 0, 2,  -999.00, 9,  -999.00, 9,   1.4350, 2, 0.246, 2, 2.849, 2, 4.800, 2
320620030705, SBI, 228, 1, 111, 11, 2, 20030807, 1656, 73.2455, -162.1333, 151,     22.9,  -1.5039,  30.9908, 2, -999.0000, 9,    368.5, 2,    385.8, 2,    15.01, 2,     2.12, 2,     0.05, 2,     1.12, 2,  -999.00, 9,  -1.5042,     0.47, 2, 0.03, 2,  -999.00, 9,  -999.00, 9,   2.1530, 2, 0.753, 2, 2.036, 2, 4.816, 2
320620030705, SBI, 228, 1, 110, 10, 2, 20030807, 1653, 73.2455, -162.1333, 151,     34.8,  -1.6161,  31.4304, 2, -999.0000, 9,    352.3, 2,    364.7, 2,    19.07, 2,     4.19, 2,     0.13, 2,     1.28, 2,  -999.00, 9,  -1.6166,     1.14, 2, 0.05, 2,  -999.00, 9,  -999.00, 9,   1.4600, 2, 0.261, 2, 1.101, 2, 4.822, 2
320620030705, SBI, 228, 1, 109, 9, 2, 20030807, 1651, 73.2455, -162.1333, 151,     44.8,  -1.6337,  31.5880, 2, -999.0000, 9,    330.8, 2,    351.9, 2,    23.65, 2,     5.57, 2,     0.20, 2,     1.37, 2,  -999.00, 9,  -1.6344,     1.18, 2, 0.04, 2,  -999.00, 9,  -999.00, 9,   1.1610, 2, 0.215, 2, 0.755, 2, 4.807, 2
320620030705, SBI, 228, 1, 108, 8, 9, 20030807, 1649, 73.2455, -162.1333, 151,     57.9,  -1.6362,  31.7621, 2, -999.0000, 9,    322.7, 2,   -999.0, 9,  -999.00, 9,  -999.00, 9,  -999.00, 9,  -999.00, 9,  -999.00, 9,  -1.6371,  -999.00, 9, -999, 9,  -999.00, 9,  -999.00, 9,   1.0150, 2, 0.195, 2, 0.404, 2, 4.831, 2
320620030705, SBI, 228, 1, 107, 7, 2, 20030807, 1646, 73.2455, -162.1333, 151,     71.0,  -1.6180,  31.9486, 2, -999.0000, 9,    318.5, 2,    342.0, 2,    27.92, 2,     7.02, 2,     0.21, 2,     1.48, 2,  -999.00, 9,  -1.6192,     0.98, 2, 0.01, 2,  -999.00, 9,  -999.00, 9,   0.8990, 2, 0.181, 2, 0.251, 2, 4.828, 2
320620030705, SBI, 228, 1, 106, 6, 2, 20030807, 1644, 73.2455, -162.1333, 151,     82.0,  -1.5770,  32.0929, 2, -999.0000, 9,    301.4, 2,    317.9, 2,    34.46, 2,     8.85, 2,     0.15, 2,     1.65, 2,  -999.00, 9,  -1.5784,     1.12, 2, 0.02, 2,  -999.00, 9,  -999.00, 9,   0.8660, 2, 0.181, 2, 0.187, 2, 4.828, 2
320620030705, SBI, 228, 1, 105, 5, 2, 20030807, 1642, 73.2455, -162.1333, 151,     93.0,  -1.5576,  32.2354, 2, -999.0000, 9,    286.1, 2,    309.7, 2,    34.76, 2,    10.07, 2,     0.14, 2,     1.70, 2,  -999.00, 9,  -1.5593,     1.10, 2, 0.01, 2,  -999.00, 9,  -999.00, 9,   0.8010, 2, 0.186, 2, 0.156, 2, 4.837, 2
320620030705, SBI, 228, 1, 104, 4, 2, 20030807, 1639, 73.2455, -162.1333, 151,    105.1,  -1.5707,  32.5288, 2, -999.0000, 9,    284.6, 2,    291.4, 2,    35.99, 2,    12.33, 2,     0.10, 2,     1.77, 2,  -999.00, 9,  -1.5726,     0.42, 2, 0.01, 2,  -999.00, 9,  -999.00, 9,   0.8840, 2, 0.187, 2, 0.144, 2, 4.841, 2
320620030705, SBI, 228, 1, 103, 3, 2, 20030807, 1637, 73.2455, -162.1333, 151,    118.1,  -1.4580,  32.9383, 2, -999.0000, 9,    267.3, 2,    290.4, 2,    34.14, 2,    12.75, 2,     0.09, 2,     1.73, 2,  -999.00, 9,  -1.4604,     0.18, 2, 0.01, 2,  -999.00, 9,  -999.00, 9,   0.7530, 2, 0.188, 2, 0.140, 2, 4.854, 2
320620030705, SBI, 228, 1, 102, 2, 2, 20030807, 1634, 73.2455, -162.1333, 151,    135.3,  -1.2558,  33.7236, 2, -999.0000, 9,    269.2, 2,    282.4, 2,    29.31, 2,    13.26, 2,     0.05, 2,     1.60, 2,  -999.00, 9,  -1.2590,     0.00, 2, 0.02, 2,  -999.00, 9,  -999.00, 9,   0.8040, 2, 0.188, 2, 0.139, 2, 4.852, 2
320620030705, SBI, 228, 1, 101, 1, 2, 20030807, 1632, 73.2455, -162.1333, 151,    147.3,  -0.9547,  33.9595, 2,  33.9206, 2,    258.1, 2,    278.0, 2,    29.01, 2,    13.52, 2,     0.05, 2,     1.58, 2,    65.90, 2,  -0.9587,    -0.01, 2, 0.02, 2,  -999.00, 9,  -999.00, 9,   0.8040, 2, 0.188, 2, 0.139, 2, 4.850, 2
320620030705, SBI, 229, 1, 114, 14, 2, 20030807, 1836, 73.2160, -161.9889, 178,      2.1,  -1.1226,  29.6856, 2,  29.7331, 2,    363.1, 2,    393.8, 2,     7.25, 2,     0.10, 2,     0.00, 2,     0.76, 2,  -999.00, 9,  -1.1226,     0.00, 2, 0, 2,  -999.00, 9,  -999.00, 9,   1.4800, 2, 0.251, 2, 3.585, 2, 4.752, 2
320620030705, SBI, 229, 1, 113, 13, 2, 20030807, 1834, 73.2160, -161.9889, 178,     13.0,  -1.1605,  29.7644, 2, -999.0000, 9,    363.7, 2,    394.0, 2,     7.25, 2,     0.09, 2,     0.00, 2,     0.77, 2,  -999.00, 9,  -1.1607,     0.00, 2, 0.01, 2,     1.02, 2,     0.08, 2,   1.7860, 2, 0.428, 2, 2.714, 2, 4.761, 2
320620030705, SBI, 229, 1, 112, 12, 2, 20030807, 1833, 73.2160, -161.9889, 178,     24.0,  -1.4682,  30.9351, 2, -999.0000, 9,    362.3, 2,    384.7, 2,    13.89, 2,     0.55, 2,     0.01, 2,     1.01, 2,  -999.00, 9,  -1.4686,     0.06, 2, 0.03, 2,     1.36, 2,     0.10, 2,   2.3970, 2, 1.383, 2, 1.913, 2, 4.771, 2
320620030705, SBI, 229, 1, 111, 11, 2, 20030807, 1831, 73.2160, -161.9889, 178,     30.9,  -1.5992,  31.3042, 2, -999.0000, 9,    312.1, 2,    345.1, 2,    26.93, 2,     5.74, 2,     0.13, 2,     1.40, 2,  -999.00, 9,  -1.5997,     1.21, 2, 0.06, 2,     7.41, 2,     0.05, 2,   1.5780, 2, 0.325, 2, 1.238, 2, 4.769, 2
320620030705, SBI, 229, 1, 110, 10, 2, 20030807, 1829, 73.2160, -161.9889, 178,     45.8,  -1.6336,  31.5864, 2, -999.0000, 9,    327.8, 2,    351.9, 2,    23.68, 2,     5.35, 2,     0.16, 2,     1.37, 2,  -999.00, 9,  -1.6343,     1.28, 2, 0.07, 2,     1.24, 2,     0.14, 2,   1.2780, 2, 0.233, 2, 0.632, 2, 4.771, 2
320620030705, SBI, 229, 1, 109, 9, 2, 20030807, 1826, 73.2160, -161.9889, 178,     62.7,  -1.6371,  31.7574, 2, -999.0000, 9,    320.0, 2,   -999.0, 9,  -999.00, 9,  -999.00, 9,  -999.00, 9,  -999.00, 9,  -999.00, 9,  -1.6381,  -999.00, 9, -999, 9,     0.49, 3,     0.19, 3,   1.0320, 2, 0.199, 2, 0.300, 2, 4.761, 2
320620030705, SBI, 229, 1, 108, 8, 2, 20030807, 1826, 73.2160, -161.9889, 178,     62.7,  -1.6372,  31.7574, 2, -999.0000, 9,    320.0, 2,    340.4, 2,    27.32, 2,     6.79, 2,     0.18, 2,     1.46, 2,  -999.00, 9,  -1.6382,     1.14, 2, 0.04, 2,     0.20, 2,     0.13, 2,   1.1060, 2, 0.205, 2, 0.300, 2, 4.759, 2
320620030705, SBI, 229, 1, 107, 7, 2, 20030807, 1821, 73.2160, -161.9889, 178,     83.0,  -1.4735,  32.0976, 2, -999.0000, 9,    318.7, 2,    339.1, 2,    26.50, 2,     7.27, 2,     0.16, 2,     1.46, 2,  -999.00, 9,  -1.4750,     0.98, 2, 0.03, 2,  -999.00, 9,  -999.00, 9,   0.8420, 2, 0.178, 2, 0.167, 2, 4.749, 2
320620030705, SBI, 229, 1, 106, 6, 2, 20030807, 1819, 73.2160, -161.9889, 178,     98.1,  -1.4042,  32.4146, 2, -999.0000, 9,    304.6, 2,    315.0, 2,    32.17, 2,     9.31, 2,     0.14, 2,     1.64, 2,  -999.00, 9,  -1.4061,     1.26, 2, 0.04, 2,  -999.00, 9,  -999.00, 9,   0.8230, 2, 0.180, 2, 0.145, 2, 4.763, 2
320620030705, SBI, 229, 1, 105, 5, 2, 20030807, 1817, 73.2160, -161.9889, 178,    113.2,  -1.5311,  32.6322, 2, -999.0000, 9,    279.0, 2,    297.3, 2,    35.02, 2,    11.99, 2,     0.10, 2,     1.74, 2,  -999.00, 9,  -1.5333,     0.56, 2, 0.02, 2,  -999.00, 9,  -999.00, 9,   0.9130, 2, 0.177, 2, 0.140, 2, 4.763, 2
320620030705, SBI, 229, 1, 104, 4, 2, 20030807, 1815, 73.2160, -161.9889, 178,    128.1,  -1.4436,  33.1464, 2, -999.0000, 9,    270.8, 2,    289.9, 2,    30.63, 2,    12.90, 2,     0.07, 2,     1.63, 2,  -999.00, 9,  -1.4463,     0.05, 2, 0.02, 2,  -999.00, 9,  -999.00, 9,   0.8640, 2, 0.182, 2, 0.139, 2, 4.763, 2
320620030705, SBI, 229, 1, 103, 3, 2, 20030807, 1812, 73.2160, -161.9889, 178,    148.3,  -1.0347,  34.0372, 2, -999.0000, 9,    265.2, 2,    274.9, 2,    24.32, 2,    13.49, 2,     0.04, 2,     1.42, 2,  -999.00, 9,  -1.0386,     0.00, 2, 0.02, 2,  -999.00, 9,  -999.00, 9,   0.6950, 2, 0.174, 2, 0.139, 2, 4.770, 2
320620030705, SBI, 229, 1, 102, 2, 2, 20030807, 1809, 73.2160, -161.9889, 178,    163.2,  -0.3284,  34.4067, 2, -999.0000, 9,    246.5, 2,    262.0, 2,    23.50, 2,    13.48, 2,     0.04, 2,     1.36, 2,  -999.00, 9,  -0.3338,    -0.01, 2, 0.02, 2,  -999.00, 9,  -999.00, 9,   0.6930, 2, 0.180, 2, 0.139, 2, 4.779, 2
320620030705, SBI, 229, 1, 101, 1, 2, 20030807, 1807, 73.2160, -161.9889, 178,    173.5,  -0.2810,  34.4362, 2,  34.4319, 2,    245.8, 2,    262.9, 2,    23.39, 2,    13.42, 2,     0.05, 2,     1.36, 2,    57.90, 2,  -0.2869,    -0.01, 2, 0.03, 2,  -999.00, 9,  -999.00, 9,   0.7810, 2, 0.178, 2, 0.139, 2, 4.769, 2
320620030705, SBI, 230, 1, 115, 15, 2, 20030807, 2001, 73.1871, -161.8559, 222,      2.4,  -1.0798,  29.4958, 2,  29.5389, 2,    356.5, 2,    390.9, 2,     6.19, 2,     0.08, 2,     0.00, 2,     0.74, 2,  -999.00, 9,  -1.0798,    -0.01, 2, 0, 2,  -999.00, 9,  -999.00, 9,   1.1730, 2, 0.197, 2, 3.700, 2, 4.597, 2
320620030705, SBI, 230, 1, 114, 14, 2, 20030807, 1959, 73.1871, -161.8559, 222,     14.8,  -1.1341,  29.6414, 2, -999.0000, 9,    358.1, 2,    392.0, 2,     8.81, 2,     0.38, 2,     0.01, 2,     0.82, 2,  -999.00, 9,  -1.1343,     0.02, 2, 0.01, 2,  -999.00, 9,  -999.00, 9,   1.6350, 2, 0.304, 2, 2.823, 2, 4.631, 2
320620030705, SBI, 230, 1, 113, 13, 2, 20030807, 1957, 73.1871, -161.8559, 222,     28.0,  -1.5639,  31.0814, 2, -999.0000, 9,    359.0, 2,    362.8, 2,    22.53, 2,     4.16, 2,     0.09, 2,     1.31, 2,  -999.00, 9,  -1.5643,     1.13, 2, 0.07, 2,  -999.00, 9,  -999.00, 9,   1.7170, 2, 0.510, 2, 1.822, 2, 4.641, 2
320620030705, SBI, 230, 1, 112, 12, 2, 20030807, 1955, 73.1871, -161.8559, 222,     34.8,  -1.5955,  31.3307, 2, -999.0000, 9,    326.1, 2,    347.7, 2,    26.89, 2,     5.59, 2,     0.13, 2,     1.46, 2,  -999.00, 9,  -1.5960,     1.57, 2, 0.08, 2,  -999.00, 9,  -999.00, 9,   1.5100, 2, 0.370, 2, 1.359, 2, 4.667, 2
320620030705, SBI, 230, 1, 111, 11, 2, 20030807, 1953, 73.1871, -161.8559, 222,     44.5,  -1.6271,  31.4771, 2, -999.0000, 9,    309.3, 2,    345.5, 2,    26.78, 2,     6.00, 2,     0.18, 2,     1.46, 2,  -999.00, 9,  -1.6278,     1.47, 2, 0.07, 2,  -999.00, 9,  -999.00, 9,   1.6550, 2, 0.308, 2, 0.926, 2, 4.651, 2
320620030705, SBI, 230, 1, 110, 10, 2, 20030807, 1950, 73.1871, -161.8559, 222,     57.9,  -1.6061,  31.6504, 2, -999.0000, 9,    316.3, 2,    344.3, 2,    26.87, 2,     6.10, 2,     0.18, 2,     1.43, 2,  -999.00, 9,  -1.6070,     1.29, 2, 0.06, 2,  -999.00, 9,  -999.00, 9,   1.2920, 2, 0.262, 2, 0.454, 2, 4.660, 2
320620030705, SBI, 230, 1, 109, 9, 2, 20030807, 1949, 73.1871, -161.8559, 222,     74.9,  -1.6095,  31.9797, 2, -999.0000, 9,    284.8, 2,    314.4, 2,    36.32, 2,     8.84, 2,     0.13, 2,     1.66, 2,  -999.00, 9,  -1.6108,     1.21, 2, 0.04, 2,  -999.00, 9,  -999.00, 9,   1.0290, 2, 0.197, 2, 0.217, 2, 4.670, 2
320620030705, SBI, 230, 1, 108, 8, 2, 20030807, 1946, 73.1871, -161.8559, 222,     88.9,  -1.5884,  32.2900, 2, -999.0000, 9,    280.1, 2,    307.0, 2,    37.33, 2,    10.15, 2,     0.12, 2,     1.72, 2,  -999.00, 9,  -1.5900,     1.13, 2, 0.03, 2,  -999.00, 9,  -999.00, 9,   0.9090, 2, 0.186, 2, 0.161, 2, 4.669, 2
320620030705, SBI, 230, 1, 107, 7, 2, 20030807, 1945, 73.1871, -161.8559, 222,    102.9,  -1.5857,  32.5276, 2, -999.0000, 9,    276.0, 2,    302.3, 2,    37.11, 2,    11.26, 2,     0.10, 2,     1.77, 2,  -999.00, 9,  -1.5876,     1.04, 2, 0.03, 2,  -999.00, 9,  -999.00, 9,   0.8080, 2, 0.182, 2, 0.144, 2, 4.673, 2
320620030705, SBI, 230, 1, 106, 6, 2, 20030807, 1942, 73.1871, -161.8559, 222,    123.0,  -1.5798,  32.8740, 2, -999.0000, 9,    266.5, 2,    295.3, 2,    34.15, 2,    12.90, 2,     0.07, 2,     1.75, 2,  -999.00, 9,  -1.5822,     0.40, 2, 0.02, 2,  -999.00, 9,  -999.00, 9,   0.7920, 2, 0.177, 2, 0.139, 2, 4.683, 2
320620030705, SBI, 230, 1, 105, 5, 2, 20030807, 1940, 73.1871, -161.8559, 222,    143.4,  -1.2664,  33.4679, 2, -999.0000, 9,    259.5, 2,    281.3, 2,    30.06, 2,    13.15, 2,     0.07, 2,     1.61, 2,  -999.00, 9,  -1.2697,     0.05, 2, 0.02, 2,  -999.00, 9,  -999.00, 9,   0.7740, 2, 0.177, 2, 0.139, 2, 4.675, 2
320620030705, SBI, 230, 1, 104, 4, 2, 20030807, 1938, 73.1871, -161.8559, 222,    163.2,  -0.7223,  34.0932, 2, -999.0000, 9,    253.7, 2,    278.7, 2,    22.55, 2,    13.22, 2,     0.04, 2,     1.36, 2,  -999.00, 9,  -0.7271,     0.00, 2, 0.02, 2,  -999.00, 9,  -999.00, 9,   0.7840, 2, 0.175, 2, 0.139, 2, 4.660, 2
320620030705, SBI, 230, 1, 103, 3, 2, 20030807, 1936, 73.1871, -161.8559, 222,    183.2,  -0.3333,  34.4539, 2, -999.0000, 9,    252.5, 2,    273.4, 2,    16.38, 2,    13.07, 2,     0.03, 2,     1.13, 2,  -999.00, 9,  -0.3395,     0.00, 2, 0.03, 2,  -999.00, 9,  -999.00, 9,   0.6650, 2, 0.173, 2, 0.139, 2, 4.666, 2
320620030705, SBI, 230, 1, 102, 2, 2, 20030807, 1934, 73.1871, -161.8559, 222,    203.5,   0.0019,  34.5677, 2,  34.5655, 2,    247.4, 2,    269.2, 2,    16.98, 2,    12.99, 2,     0.06, 2,     1.12, 2,  -999.00, 9,  -0.0056,     0.00, 2, 0.03, 2,  -999.00, 9,  -999.00, 9,   0.6520, 2, 0.178, 2, 0.139, 2, 4.679, 2
320620030705, SBI, 230, 1, 101, 1, 2, 20030807, 1933, 73.1871, -161.8559, 222,    218.6,   0.0228,  34.5751, 2,  34.5673, 2,    247.6, 2,    269.4, 2,    16.87, 2,    12.99, 2,     0.06, 2,     1.12, 2,    55.80, 2,   0.0147,    -0.01, 2, 0.03, 2,  -999.00, 9,  -999.00, 9,   0.7950, 2, 0.176, 2, 0.139, 2, 4.670, 2