BOTTLE,20100423CCHDOSIODBK
EXPOCODE,SECT_ID,STNNBR,CASTNO,SAMPNO,BTLNBR,BTLNBR_FLAG_W,DATE,TIME,LATITUDE,LONGITUDE,DEPTH,CTDPRS,CTDTMP,CTDSAL,CTDSAL_FLAG_W,SALNTY,SALNTY_FLAG_W,CTDOXY,CTDOXY_FLAG_W,OXYGEN,OXYGEN_FLAG_W,SILCAT,SILCAT_FLAG_W,NITRAT,NITRAT_FLAG_W,NITRIT,NITRIT_FLAG_W,PHSPHT,PHSPHT_FLAG_W,DOC,DOC_FLAG_W,THETA,NH4,NH4_FLAG_W,UREA,UREA_FLAG_W,CHLORA,CHLORA_FLAG_W,PPHYTN,PPHYTN_FLAG_W,FLUOR,FLUOR_FLAG_W,HAARDT,HAARDT_FLAG_W,PAR,PAR_FLAG_W,SPAR,SPAR_FLAG_W
,,,,,,,,,,,METERS,DBAR,ITS-90,PSS-78,,PSS-78,,UMOL/KG,,UMOL/KG,,UMOL/KG,,UMOL/KG,,UMOL/KG,,UMOL/KG,,UMOL/KG,,DEG C,UMOL/KG,,UMOL/KG,,UG/KG,,UG/KG,,MG/M^3,,VOLTS,,VOLTS,,VOLTS,
320620030705, SBI, 205, 1, 114, 14, 2, 20030805, 627, 73.8547, -162.3064, 270,      1.6,  -1.1361,  28.8233, 2,  28.8224, 2,    359.3, 2,    387.9, 2,     4.71, 2,     0.14, 2,     0.00, 2,     0.67, 2,  -999.00, 9,  -1.1361,    -0.01, 2, 0, 2,     0.25, 2,     0.03, 2,   0.9740, 2, 0.174, 2, 3.065, 2, 4.904, 2
320620030705, SBI, 205, 1, 113, 13, 2, 20030805, 626, 73.8547, -162.3064, 270,     24.5,  -1.4988,  31.2420, 2, -999.0000, 9,    386.2, 2,    389.4, 2,    16.45, 2,     2.26, 2,     0.12, 2,     1.06, 2,  -999.00, 9,  -1.4992,     0.19, 2, 0.06, 2,     0.89, 2,     0.95, 2,   2.4550, 2, 1.584, 2, 1.999, 2, 4.909, 2
320620030705, SBI, 205, 1, 112, 12, 2, 20030805, 623, 73.8547, -162.3064, 270,     42.7,  -1.6469,  31.7906, 2, -999.0000, 9,    322.5, 2,    347.4, 2,    27.32, 2,     6.45, 2,     0.22, 2,     1.42, 2,  -999.00, 9,  -1.6476,     1.06, 2, 0.04, 2,     0.72, 2,     0.01, 2,   0.8730, 2, 0.173, 2, 0.912, 2, 4.905, 2
320620030705, SBI, 205, 1, 111, 11, 2, 20030805, 621, 73.8547, -162.3064, 270,     57.8,  -1.6282,  31.9800, 2, -999.0000, 9,    321.5, 2,    348.3, 2,    26.90, 2,     6.53, 2,     0.19, 2,     1.42, 2,  -999.00, 9,  -1.6291,     1.18, 2, 0.04, 2,     0.06, 2,     0.07, 2,   0.7540, 2, 0.170, 2, 0.534, 2, 4.900, 2
320620030705, SBI, 205, 1, 110, 10, 2, 20030805, 620, 73.8547, -162.3064, 270,     72.9,  -1.4410,  32.1752, 2, -999.0000, 9,    319.2, 2,    343.8, 2,    26.38, 2,     7.04, 2,     0.16, 2,     1.42, 2,  -999.00, 9,  -1.4424,     1.20, 2, 0.04, 2,  -999.00, 9,  -999.00, 9,   0.7710, 2, 0.169, 2, 0.282, 2, 4.899, 2
320620030705, SBI, 205, 1, 109, 9, 2, 20030805, 618, 73.8547, -162.3064, 270,     93.0,  -1.5929,  32.3429, 2, -999.0000, 9,    310.3, 2,    332.9, 2,    27.53, 2,     8.14, 2,     0.13, 2,     1.49, 2,  -999.00, 9,  -1.5946,     1.02, 2, 0.04, 2,  -999.00, 9,  -999.00, 9,   0.8930, 2, 0.170, 2, 0.169, 2, 4.895, 2
320620030705, SBI, 205, 1, 108, 8, 2, 20030805, 616, 73.8547, -162.3064, 270,    112.9,  -1.6153,  32.5352, 2, -999.0000, 9,    292.9, 2,    316.2, 2,    33.09, 2,    10.95, 2,     0.09, 2,     1.66, 2,  -999.00, 9,  -1.6173,     0.67, 2, 0.03, 2,  -999.00, 9,  -999.00, 9,   0.9280, 2, 0.169, 2, 0.142, 2, 4.927, 2
320620030705, SBI, 205, 1, 107, 7, 2, 20030805, 614, 73.8547, -162.3064, 270,    132.8,  -1.5859,  32.8578, 2, -999.0000, 9,    280.2, 2,    300.7, 2,    31.30, 2,    12.76, 2,     0.04, 2,     1.64, 2,  -999.00, 9,  -1.5885,     0.06, 2, 0.02, 2,  -999.00, 9,  -999.00, 9,   0.7070, 2, 0.169, 2, 0.139, 2, 4.925, 2
320620030705, SBI, 205, 1, 106, 6, 2, 20030805, 612, 73.8547, -162.3064, 270,    152.3,  -1.5459,  33.3588, 2, -999.0000, 9,    276.4, 2,    294.8, 2,    29.19, 2,    13.36, 2,     0.01, 2,     1.57, 2,  -999.00, 9,  -1.5491,    -0.01, 2, 0.03, 2,  -999.00, 9,  -999.00, 9,   0.7850, 2, 0.167, 2, 0.139, 2, 4.900, 2
320620030705, SBI, 205, 1, 105, 5, 2, 20030805, 610, 73.8547, -162.3064, 270,    173.2,  -0.8666,  34.1508, 2, -999.0000, 9,    261.8, 2,    276.0, 2,    21.43, 2,    13.57, 2,     0.01, 2,     1.26, 2,  -999.00, 9,  -0.8715,    -0.01, 2, 0.03, 2,  -999.00, 9,  -999.00, 9,   0.7220, 2, 0.167, 2, 0.140, 2, 4.911, 2
320620030705, SBI, 205, 1, 104, 4, 2, 20030805, 608, 73.8547, -162.3064, 270,    193.3,  -0.1500,  34.5135, 2, -999.0000, 9,    252.6, 2,    269.1, 2,    17.57, 2,    13.20, 2,     0.01, 2,     1.09, 2,  -999.00, 9,  -0.1568,     0.00, 2, 0.02, 2,  -999.00, 9,  -999.00, 9,   0.7490, 2, 0.167, 2, 0.140, 2, 4.909, 2
320620030705, SBI, 205, 1, 103, 3, 2, 20030805, 607, 73.8547, -162.3064, 270,    213.5,   0.2517,  34.6511, 2,  34.6690, 2,    250.8, 2,    266.3, 2,    17.78, 2,    13.25, 2,     0.01, 2,     1.07, 2,  -999.00, 9,   0.2433,     0.00, 2, 0.03, 2,  -999.00, 9,  -999.00, 9,   0.7940, 2, 0.165, 2, 0.140, 2, 4.905, 2
320620030705, SBI, 205, 1, 102, 2, 2, 20030805, 605, 73.8547, -162.3064, 270,    243.6,   0.6347,  34.7715, 2,  34.7688, 2,    243.8, 2,    258.7, 2,    21.33, 2,    13.61, 2,     0.02, 2,     1.11, 2,  -999.00, 9,   0.6242,    -0.01, 2, 0, 2,  -999.00, 9,  -999.00, 9,   0.6660, 2, 0.165, 2, 0.140, 2, 4.908, 2
320620030705, SBI, 205, 1, 101, 1, 2, 20030805, 603, 73.8547, -162.3064, 270,    265.5,   0.6383,  34.7735, 2,  34.7690, 2,    243.7, 2,    259.4, 2,    21.54, 2,    13.62, 2,     0.02, 2,     1.11, 2,  -999.00, 9,   0.6268,     0.00, 2, 0, 2,  -999.00, 9,  -999.00, 9,   0.7230, 2, 0.166, 2, 0.139, 2, 4.926, 2
320620030705, SBI, 206, 1, 112, 12, 2, 20030805, 835, 73.6952, -162.5084, 204,      1.8,  -1.2375,  29.5877, 2,  29.5825, 2,    372.6, 2,    398.0, 2,     7.44, 2,     0.15, 2,     0.00, 2,     0.73, 2,  -999.00, 9,  -1.2375,     0.01, 2, 0, 2,     1.33, 2,     0.04, 2,   1.6510, 2, 1.075, 2, 2.760, 2, 4.965, 2
320620030705, SBI, 206, 1, 111, 11, 2, 20030805, 834, 73.6952, -162.5084, 204,     13.5,  -1.2428,  29.5982, 2,  29.7136, 2,    373.1, 2,    398.3, 2,     7.73, 2,     0.15, 2,     0.00, 2,     0.75, 2,  -999.00, 9,  -1.2430,     0.01, 2, 0, 2,     1.62, 2,     0.09, 2,   1.6900, 2, 0.316, 2, 1.803, 2, 4.967, 2
320620030705, SBI, 206, 1, 110, 10, 2, 20030805, 832, 73.6952, -162.5084, 204,     22.9,  -1.5183,  31.3111, 2, -999.0000, 9,    359.6, 2,    381.3, 2,    14.79, 2,     2.82, 2,     0.11, 2,     1.09, 2,  -999.00, 9,  -1.5187,     0.23, 2, 0.03, 2,     4.04, 2,     0.05, 2,   1.8260, 2, 0.376, 2, 1.264, 2, 4.965, 2
320620030705, SBI, 206, 1, 109, 9, 2, 20030805, 827, 73.6952, -162.5084, 204,     38.7,  -1.6068,  31.7879, 2, -999.0000, 9,    325.7, 2,    349.1, 2,    25.52, 2,     6.29, 2,     0.27, 2,     1.37, 2,  -999.00, 9,  -1.6074,     0.75, 2, 0.02, 2,     0.21, 2,     0.15, 2,   1.0710, 2, 0.189, 2, 0.579, 2, 4.958, 2
320620030705, SBI, 206, 1, 108, 8, 2, 20030805, 826, 73.6952, -162.5084, 204,     53.3,  -1.6656,  31.9522, 2, -999.0000, 9,    325.1, 2,    349.5, 2,    28.36, 2,     6.73, 2,     0.21, 2,     1.44, 2,  -999.00, 9,  -1.6665,     1.16, 2, 0.02, 2,     0.10, 2,     0.06, 2,   0.8280, 2, 0.186, 2, 0.304, 2, 4.959, 2
320620030705, SBI, 206, 1, 107, 7, 2, 20030805, 824, 73.6952, -162.5084, 204,     67.7,  -1.4435,  32.1526, 2, -999.0000, 9,    325.7, 2,    350.5, 2,    26.02, 2,     6.43, 2,     0.18, 2,     1.40, 2,  -999.00, 9,  -1.4447,     1.13, 2, 0.01, 2,  -999.00, 9,  -999.00, 9,   0.7420, 2, 0.186, 2, 0.191, 2, 4.959, 2
320620030705, SBI, 206, 1, 106, 6, 2, 20030805, 822, 73.6952, -162.5084, 204,     82.0,  -1.5075,  32.2418, 2, -999.0000, 9,    321.3, 2,    341.2, 2,    26.02, 2,     7.15, 2,     0.16, 2,     1.44, 2,  -999.00, 9,  -1.5090,     1.11, 2, 0.02, 2,  -999.00, 9,  -999.00, 9,   0.7570, 2, 0.182, 2, 0.155, 2, 4.960, 2
320620030705, SBI, 206, 1, 105, 5, 2, 20030805, 820, 73.6952, -162.5084, 204,    102.1,  -1.2606,  32.4003, 2, -999.0000, 9,    313.3, 2,    330.3, 2,    25.60, 2,     7.74, 2,     0.15, 2,     1.46, 2,  -999.00, 9,  -1.2627,     1.04, 2, 0.02, 2,  -999.00, 9,  -999.00, 9,   0.9930, 2, 0.174, 2, 0.141, 2, 4.961, 2
320620030705, SBI, 206, 1, 104, 4, 2, 20030805, 817, 73.6952, -162.5084, 204,    132.8,  -1.6143,  32.8665, 2, -999.0000, 9,    272.3, 2,    293.8, 2,    36.50, 2,    13.29, 2,     0.08, 2,     1.78, 2,  -999.00, 9,  -1.6168,     0.86, 2, 0.02, 2,  -999.00, 9,  -999.00, 9,   0.7990, 2, 0.177, 2, 0.139, 2, 4.963, 2
320620030705, SBI, 206, 1, 103, 3, 2, 20030805, 815, 73.6952, -162.5084, 204,    164.0,  -0.6617,  34.2742, 2, -999.0000, 9,    263.3, 2,    270.3, 2,    22.22, 2,    13.49, 2,     0.03, 2,     1.27, 2,  -999.00, 9,  -0.6667,     0.00, 2, 0.01, 2,  -999.00, 9,  -999.00, 9,   0.6970, 2, 0.169, 2, 0.139, 2, 4.960, 2
320620030705, SBI, 206, 1, 102, 2, 2, 20030805, 812, 73.6952, -162.5084, 204,    189.1,   0.1005,  34.5959, 2,  34.5918, 2,    243.2, 2,    255.7, 2,    23.23, 2,    13.33, 2,     0.03, 2,     1.23, 2,  -999.00, 9,   0.0934,     0.00, 2, 0.02, 2,  -999.00, 9,  -999.00, 9,   0.6840, 2, 0.173, 2, 0.139, 2, 4.958, 2
320620030705, SBI, 206, 1, 101, 1, 2, 20030805, 810, 73.6952, -162.5084, 204,    198.5,   0.1026,  34.5969, 2,  34.5920, 2,    243.4, 2,    255.7, 2,    23.23, 2,    13.44, 2,     0.03, 2,     1.23, 2,    55.60, 2,   0.0951,    -0.01, 2, 0.01, 2,  -999.00, 9,  -999.00, 9,   0.7120, 2, 0.169, 2, 0.139, 2, 4.961, 2
320620030705, SBI, 207, 1, 112, 12, 9, 20030805, 1039, 73.5476, -162.7819, 160,      2.2,  -1.2901,  29.7397, 2, -999.0000, 9,    372.3, 2,   -999.0, 9,  -999.00, 9,  -999.00, 9,  -999.00, 9,  -999.00, 9,  -999.00, 9,  -1.2901,  -999.00, 9, -999, 9,  -999.00, 9,  -999.00, 9,   1.8240, 2, 0.373, 2, 2.182, 2, 4.993, 2
320620030705, SBI, 207, 1, 111, 11, 2, 20030805, 1038, 73.5476, -162.7819, 160,      2.4,  -1.2902,  29.7397, 2,  29.7382, 2,    372.9, 2,    400.6, 2,     8.58, 2,     0.08, 2,     0.00, 2,     0.76, 2,  -999.00, 9,  -1.2902,     0.00, 2, 0, 2,     1.75, 2,     0.11, 2,   1.8500, 2, 0.393, 2, 2.174, 2, 4.993, 2
320620030705, SBI, 207, 1, 110, 10, 2, 20030805, 1036, 73.5476, -162.7819, 160,     15.4,  -1.3013,  29.7761, 2,  30.4476, 2,    373.9, 2,    410.8, 2,     8.68, 2,     0.28, 2,     0.01, 2,     0.87, 2,  -999.00, 9,  -1.3015,     0.02, 2, 0, 2,  -999.00, 9,  -999.00, 9,   1.8230, 2, 0.429, 2, 1.121, 2, 4.990, 2
320620030705, SBI, 207, 1, 109, 9, 2, 20030805, 1034, 73.5476, -162.7819, 160,     24.6,  -1.4797,  30.6680, 2, -999.0000, 9,    388.5, 2,    404.7, 2,    11.00, 2,     0.91, 2,     0.03, 2,     0.95, 2,  -999.00, 9,  -1.4801,     0.21, 2, 0.01, 2,     4.34, 2,     0.09, 2,   2.0590, 2, 0.684, 2, 0.562, 2, 4.993, 2
320620030705, SBI, 207, 1, 108, 8, 2, 20030805, 1029, 73.5476, -162.7819, 160,     48.5,  -1.6298,  31.6127, 2, -999.0000, 9,    330.3, 2,    351.5, 2,    24.39, 2,     5.32, 2,     0.17, 2,     1.34, 2,  -999.00, 9,  -1.6306,     1.27, 2, 0.05, 2,     0.74, 2,     0.29, 2,   1.3280, 2, 0.226, 2, 0.156, 2, 4.992, 2
320620030705, SBI, 207, 1, 107, 7, 2, 20030805, 1027, 73.5476, -162.7819, 160,     63.8,  -1.6112,  31.8662, 2, -999.0000, 9,    313.9, 2,    321.0, 2,    34.29, 2,     8.29, 2,     0.15, 2,     1.60, 2,  -999.00, 9,  -1.6122,     1.17, 2, 0.02, 2,  -999.00, 9,  -999.00, 9,   0.9440, 2, 0.193, 2, 0.143, 2, 4.990, 2
320620030705, SBI, 207, 1, 106, 6, 2, 20030805, 1025, 73.5476, -162.7819, 160,     78.8,  -1.6084,  32.1892, 2, -999.0000, 9,    298.7, 2,    308.1, 2,    36.02, 2,    10.17, 2,     0.13, 2,     1.68, 2,  -999.00, 9,  -1.6098,     0.89, 2, 0.02, 2,     0.11, 2,     0.14, 2,   0.9250, 2, 0.189, 2, 0.139, 2, 4.990, 2
320620030705, SBI, 207, 1, 105, 5, 2, 20030805, 1023, 73.5476, -162.7819, 160,     93.5,  -1.5592,  32.6215, 2, -999.0000, 9,    281.0, 2,    300.4, 2,    36.62, 2,    11.63, 2,     0.11, 2,     1.72, 2,  -999.00, 9,  -1.5609,     0.66, 2, 0.01, 2,  -999.00, 9,  -999.00, 9,   0.8090, 2, 0.186, 2, 0.139, 2, 4.992, 2
320620030705, SBI, 207, 1, 104, 4, 2, 20030805, 1021, 73.5476, -162.7819, 160,    108.9,  -1.4632,  33.2808, 2, -999.0000, 9,    278.2, 2,    297.1, 2,    30.07, 2,    13.12, 2,     0.05, 2,     1.60, 2,  -999.00, 9,  -1.4655,     0.03, 2, 0.01, 2,  -999.00, 9,  -999.00, 9,   0.7960, 2, 0.182, 2, 0.139, 2, 4.990, 2
320620030705, SBI, 207, 1, 103, 3, 2, 20030805, 1019, 73.5476, -162.7819, 160,    124.1,  -1.3181,  33.8594, 2, -999.0000, 9,    276.5, 2,    281.0, 2,    27.30, 2,    13.57, 2,     0.03, 2,     1.47, 2,  -999.00, 9,  -1.3210,     0.00, 2, 0.01, 2,  -999.00, 9,  -999.00, 9,   0.6200, 2, 0.183, 2, 0.139, 2, 4.993, 2
320620030705, SBI, 207, 1, 102, 2, 2, 20030805, 1017, 73.5476, -162.7819, 160,    144.0,  -0.2697,  34.4333, 2,  34.4276, 2,    243.3, 2,    257.2, 2,    25.96, 2,    13.55, 2,     0.03, 2,     1.37, 2,  -999.00, 9,  -0.2746,     0.00, 2, 0.01, 2,  -999.00, 9,  -999.00, 9,   0.7370, 2, 0.181, 2, 0.139, 2, 4.989, 2
320620030705, SBI, 207, 1, 101, 1, 2, 20030805, 1015, 73.5476, -162.7819, 160,    156.2,  -0.2687,  34.4336, 2,  34.4284, 2,    243.4, 2,    257.3, 2,    25.86, 2,    13.76, 2,     0.03, 2,     1.37, 2,    58.80, 2,  -0.2740,    -0.01, 2, 0.01, 2,  -999.00, 9,  -999.00, 9,   0.7860, 2, 0.181, 2, 0.139, 2, 4.989, 2
320620030705, SBI, 208, 1, 108, 8, 2, 20030805, 1345, 73.2237, -163.2092, 95,      2.0,  -1.0527,  29.5650, 2,  29.5570, 2,    366.5, 2,    392.0, 2,     6.56, 2,     0.10, 2,     0.00, 2,     0.72, 2,  -999.00, 9,  -1.0527,     0.01, 2, 0.04, 2,     0.98, 2,     0.02, 2,   1.6690, 2, 0.319, 2, 2.812, 2, 4.955, 2
320620030705, SBI, 208, 1, 107, 7, 2, 20030805, 1343, 73.2237, -163.2092, 95,     12.6,  -1.0491,  29.5810, 2,  29.6025, 2,    366.8, 2,    392.6, 2,     6.66, 2,     0.04, 2,     0.00, 2,     0.73, 2,  -999.00, 9,  -1.0493,     0.00, 2, 0.01, 2,  -999.00, 9,  -999.00, 9,   1.7690, 2, 0.343, 2, 1.998, 2, 4.958, 2
320620030705, SBI, 208, 1, 106, 6, 2, 20030805, 1341, 73.2237, -163.2092, 95,     23.8,  -1.1011,  29.7831, 2, -999.0000, 9,    367.7, 2,    391.5, 2,     7.39, 2,     0.09, 2,     0.00, 2,     0.74, 2,  -999.00, 9,  -1.1015,     0.01, 2, 0.02, 2,     1.44, 2,     0.06, 2,   1.8730, 2, 0.401, 2, 1.325, 2, 4.959, 2
320620030705, SBI, 208, 1, 105, 5, 2, 20030805, 1338, 73.2237, -163.2092, 95,     30.5,  -1.5527,  31.0037, 2, -999.0000, 9,    342.3, 2,    369.3, 2,    20.03, 2,     3.11, 2,     0.06, 2,     1.16, 2,  -999.00, 9,  -1.5532,     0.36, 2, 0.05, 2,  -999.00, 9,  -999.00, 9,   1.8890, 2, 0.400, 2, 0.807, 2, 4.959, 2
320620030705, SBI, 208, 1, 104, 4, 2, 20030805, 1335, 73.2237, -163.2092, 95,     47.6,  -1.6251,  31.4920, 2, -999.0000, 9,    312.2, 2,    339.7, 2,    28.84, 2,     6.26, 2,     0.13, 2,     1.45, 2,  -999.00, 9,  -1.6258,     1.39, 2, 0.08, 2,     0.50, 2,     0.23, 2,   1.2140, 2, 0.206, 2, 0.280, 2, 4.963, 2
320620030705, SBI, 208, 1, 103, 3, 2, 20030805, 1333, 73.2237, -163.2092, 95,     60.3,  -1.6367,  31.6951, 2, -999.0000, 9,    316.6, 2,    339.7, 2,    29.58, 2,     6.67, 2,     0.15, 2,     1.47, 2,  -999.00, 9,  -1.6377,     1.32, 2, 0.05, 2,  -999.00, 9,  -999.00, 9,   1.0230, 2, 0.191, 2, 0.176, 2, 4.965, 2
320620030705, SBI, 208, 1, 102, 2, 2, 20030805, 1330, 73.2237, -163.2092, 95,     76.2,  -1.6241,  32.0520, 2, -999.0000, 9,    293.5, 2,    315.3, 2,    35.69, 2,     9.11, 2,     0.12, 2,     1.64, 2,  -999.00, 9,  -1.6254,     1.03, 2, 0.03, 2,     0.09, 2,     0.12, 2,   0.8470, 2, 0.184, 2, 0.148, 2, 4.967, 2
320620030705, SBI, 208, 1, 101, 1, 2, 20030805, 1328, 73.2237, -163.2092, 95,     88.1,  -1.5694,  32.4146, 2,  32.3614, 2,    278.9, 2,    304.5, 2,    38.11, 2,    10.55, 2,     0.12, 2,     1.73, 2,    69.30, 2,  -1.5710,     0.76, 2, 0.08, 2,  -999.00, 9,  -999.00, 9,   0.8100, 2, 0.182, 2, 0.142, 2, 4.968, 2
320620030705, SBI, 209, 1, 109, 9, 2, 20030805, 1535, 73.0821, -163.3744, 117,      1.9,  -1.0728,  29.6897, 2,  29.6809, 2,    366.7, 2,    393.0, 2,     8.88, 2,     0.13, 2,     0.00, 2,     0.75, 2,  -999.00, 9,  -1.0728,     0.01, 2, 0, 2,     1.50, 2,     0.04, 2,   1.8210, 2, 0.312, 2, 3.165, 2, 4.909, 2
320620030705, SBI, 209, 1, 108, 8, 2, 20030805, 1533, 73.0821, -163.3744, 117,     12.7,  -1.0778,  29.6759, 2,  29.9008, 2,    366.6, 2,    387.6, 2,    11.55, 2,     0.60, 2,     0.01, 2,     0.83, 2,  -999.00, 9,  -1.0780,     0.04, 2, 0, 2,  -999.00, 9,  -999.00, 9,   1.9160, 2, 0.409, 2, 2.193, 2, 4.907, 2
320620030705, SBI, 209, 1, 107, 7, 2, 20030805, 1531, 73.0821, -163.3744, 117,     20.0,  -1.3977,  30.4570, 2, -999.0000, 9,    350.3, 2,    375.1, 2,    17.55, 2,     2.08, 2,     0.04, 2,     1.03, 2,  -999.00, 9,  -1.3980,     0.24, 2, 0, 2,     3.12, 2,     0.10, 2,   1.9260, 2, 0.582, 2, 1.599, 2, 4.910, 2
320620030705, SBI, 209, 1, 106, 6, 2, 20030805, 1528, 73.0821, -163.3744, 117,     28.9,  -1.5579,  31.0233, 2, -999.0000, 9,    329.8, 2,    351.1, 2,    25.22, 2,     4.87, 2,     0.09, 2,     1.31, 2,  -999.00, 9,  -1.5583,     0.89, 2, 0.04, 2,  -999.00, 9,  -999.00, 9,   1.7680, 2, 0.395, 2, 0.956, 2, 4.907, 2
320620030705, SBI, 209, 1, 105, 5, 2, 20030805, 1525, 73.0821, -163.3744, 117,     42.0,  -1.6141,  31.3326, 2, -999.0000, 9,    317.7, 2,    345.4, 2,    27.28, 2,     5.70, 2,     0.11, 2,     1.40, 2,  -999.00, 9,  -1.6147,     1.29, 2, 0.05, 2,     0.80, 2,     0.26, 2,   1.3510, 2, 0.226, 2, 0.394, 2, 4.911, 2
320620030705, SBI, 209, 1, 104, 4, 2, 20030805, 1522, 73.0821, -163.3744, 117,     59.0,  -1.6315,  31.5941, 2, -999.0000, 9,    315.0, 2,    330.4, 2,    31.22, 2,     7.13, 2,     0.13, 2,     1.51, 2,  -999.00, 9,  -1.6324,     1.28, 2, 0.04, 2,     0.25, 2,     0.22, 2,   1.0770, 2, 0.197, 2, 0.202, 2, 4.919, 2
320620030705, SBI, 209, 1, 103, 3, 2, 20030805, 1519, 73.0821, -163.3744, 117,     79.4,  -1.5456,  32.3294, 2, -999.0000, 9,    269.4, 2,    290.8, 2,    40.91, 2,    11.32, 2,     0.11, 2,     1.79, 2,  -999.00, 9,  -1.5470,     0.66, 2, 0.01, 2,  -999.00, 9,  -999.00, 9,   0.9120, 2, 0.178, 2, 0.147, 2, 4.912, 2
320620030705, SBI, 209, 1, 102, 2, 2, 20030805, 1517, 73.0821, -163.3744, 117,     93.4,  -1.5363,  32.6212, 2, -999.0000, 9,    274.8, 2,    294.5, 2,    38.48, 2,    11.80, 2,     0.11, 2,     1.79, 2,  -999.00, 9,  -1.5381,     0.62, 2, 0.01, 2,  -999.00, 9,  -999.00, 9,   0.9310, 2, 0.176, 2, 0.139, 2, 4.922, 2
320620030705, SBI, 209, 1, 101, 1, 2, 20030805, 1514, 73.0821, -163.3744, 117,    110.8,  -1.4613,  32.7822, 2,  32.7599, 2,    269.5, 2,    289.5, 2,    38.57, 2,    12.06, 2,     0.11, 2,     1.80, 2,    67.60, 2,  -1.4635,     0.56, 2, 0.02, 2,  -999.00, 9,  -999.00, 9,   1.0110, 2, 0.178, 2, 0.138, 2, 4.920, 2
320620030705, SBI, 210, 1, 106, 6, 2, 20030805, 1734, 72.9145, -163.5512, 72,      1.9,  -1.0221,  29.9081, 2,  29.9023, 2,    367.1, 2,    392.7, 2,    15.20, 2,     0.19, 2,     0.00, 2,     0.82, 2,  -999.00, 9,  -1.0221,     0.00, 2, 0, 2,     2.37, 2,     0.15, 2,   1.6720, 2, 0.319, 2, 3.745, 2, 4.648, 2
320620030705, SBI, 210, 1, 105, 5, 2, 20030805, 1732, 72.9145, -163.5512, 72,     17.7,  -1.0585,  29.9899, 2,  30.0319, 2,    362.9, 2,    379.1, 2,    17.63, 2,     0.92, 2,     0.01, 2,     0.92, 2,  -999.00, 9,  -1.0588,     0.07, 2, 0, 2,  -999.00, 9,  -999.00, 9,   2.0080, 2, 0.561, 2, 2.205, 2, 4.649, 2
320620030705, SBI, 210, 1, 104, 4, 2, 20030805, 1730, 72.9145, -163.5512, 72,     32.7,  -1.6378,  31.3401, 2, -999.0000, 9,    288.5, 2,    310.0, 2,    37.78, 2,     9.10, 2,     0.13, 2,     1.73, 2,  -999.00, 9,  -1.6383,     1.63, 2, 0.06, 2,     2.60, 2,     0.11, 2,   1.2620, 2, 0.229, 2, 0.913, 2, 4.741, 2
320620030705, SBI, 210, 1, 103, 3, 2, 20030805, 1727, 72.9145, -163.5512, 72,     47.9,  -1.6650,  31.5983, 2, -999.0000, 9,    301.0, 2,    301.9, 2,    39.42, 2,     9.74, 2,     0.13, 2,     1.77, 2,  -999.00, 9,  -1.6657,     1.34, 2, 0.05, 2,     0.71, 2,     0.63, 2,   0.9670, 2, 0.187, 2, 0.323, 2, 4.841, 2
320620030705, SBI, 210, 1, 102, 2, 2, 20030805, 1725, 72.9145, -163.5512, 72,     61.3,  -1.4589,  32.2680, 2, -999.0000, 9,    212.8, 2,    243.9, 2,    59.35, 2,    13.87, 2,     0.15, 2,     2.20, 2,  -999.00, 9,  -1.4600,     1.76, 2, 0.04, 2,     0.48, 2,     0.58, 2,   1.0860, 2, 0.198, 2, 0.199, 2, 4.755, 2
320620030705, SBI, 210, 1, 101, 1, 2, 20030805, 1722, 72.9145, -163.5512, 72,     68.0,  -1.6891,  32.6392, 2, -999.0000, 9,    265.2, 2,    283.0, 2,    50.11, 2,    13.42, 2,     0.17, 2,     2.10, 2,    67.50, 2,  -1.6903,     2.13, 2, 0.05, 2,     0.67, 2,     0.51, 2,   1.1610, 2, 0.215, 2, 0.169, 2, 4.760, 2