BOTTLE,20100423CCHDOSIODBK
EXPOCODE,SECT_ID,STNNBR,CASTNO,SAMPNO,BTLNBR,BTLNBR_FLAG_W,DATE,TIME,LATITUDE,LONGITUDE,DEPTH,CTDPRS,CTDTMP,CTDSAL,CTDSAL_FLAG_W,SALNTY,SALNTY_FLAG_W,CTDOXY,CTDOXY_FLAG_W,OXYGEN,OXYGEN_FLAG_W,SILCAT,SILCAT_FLAG_W,NITRAT,NITRAT_FLAG_W,NITRIT,NITRIT_FLAG_W,PHSPHT,PHSPHT_FLAG_W,DOC,DOC_FLAG_W,THETA,NH4,NH4_FLAG_W,UREA,UREA_FLAG_W,CHLORA,CHLORA_FLAG_W,PPHYTN,PPHYTN_FLAG_W,FLUOR,FLUOR_FLAG_W,HAARDT,HAARDT_FLAG_W,PAR,PAR_FLAG_W,SPAR,SPAR_FLAG_W
,,,,,,,,,,,METERS,DBAR,ITS-90,PSS-78,,PSS-78,,UMOL/KG,,UMOL/KG,,UMOL/KG,,UMOL/KG,,UMOL/KG,,UMOL/KG,,UMOL/KG,,DEG C,UMOL/KG,,UMOL/KG,,UG/KG,,UG/KG,,MG/M^3,,VOLTS,,VOLTS,,VOLTS,
320620030705, SBI, 137, 1, 114, 14, 2, 20030730, 527, 73.1180, -160.4498, 244,      1.2,  -1.4650,  29.1299, 2,  29.1302, 2,    355.6, 2,    394.3, 2,     8.41, 2,     0.09, 2,     0.00, 2,     0.72, 2,  -999.00, 9,  -1.4650,     0.02, 2, 0, 2,     0.93, 2,     0.18, 2,   1.3590, 2, 0.223, 2, 3.278, 2, 4.865, 2
320620030705, SBI, 137, 1, 113, 13, 2, 20030730, 526, 73.1180, -160.4498, 244,     15.0,  -1.4593,  29.2024, 2, -999.0000, 9,    356.7, 2,    400.4, 2,     8.81, 2,     0.09, 2,     0.00, 2,     0.76, 2,  -999.00, 9,  -1.4595,     0.02, 2, 0, 2,     0.87, 2,     0.12, 2,   1.5940, 2, 0.288, 2, 2.288, 2, 4.865, 2
320620030705, SBI, 137, 1, 112, 12, 2, 20030730, 525, 73.1180, -160.4498, 244,     29.2,  -1.5950,  31.2424, 2, -999.0000, 9,    324.2, 2,    352.5, 2,    28.80, 2,     4.51, 2,     0.13, 2,     1.41, 2,  -999.00, 9,  -1.5954,     1.41, 2, 0.08, 2,     2.08, 2,     0.28, 2,   1.7490, 2, 0.392, 2, 1.222, 2, 4.863, 2
320620030705, SBI, 137, 1, 111, 11, 2, 20030730, 523, 73.1180, -160.4498, 244,     53.1,  -1.6452,  31.5825, 2, -999.0000, 9,    319.9, 2,    348.8, 2,    28.06, 2,     5.25, 2,     0.15, 2,     1.43, 2,  -999.00, 9,  -1.6460,     1.56, 2, 0.07, 2,     0.36, 2,     0.37, 2,   1.1150, 2, 0.195, 2, 0.297, 2, 4.862, 2
320620030705, SBI, 137, 1, 110, 10, 2, 20030730, 522, 73.1180, -160.4498, 244,     73.2,  -1.5954,  32.0319, 2, -999.0000, 9,    268.7, 2,    280.2, 2,    49.67, 2,    11.41, 2,     0.13, 2,     1.92, 2,    69.50, 2,  -1.5966,     1.60, 2, 0.03, 2,  -999.00, 9,  -999.00, 9,   0.9440, 2, 0.179, 2, 0.158, 2, 4.862, 2
320620030705, SBI, 137, 1, 109, 9, 2, 20030730, 520, 73.1180, -160.4498, 244,     92.9,  -1.6041,  32.6074, 2, -999.0000, 9,    254.3, 2,    289.3, 2,    44.64, 2,    13.40, 2,     0.15, 2,     1.94, 2,  -999.00, 9,  -1.6058,     1.52, 2, 0.05, 2,     0.28, 2,     0.33, 2,   0.8590, 2, 0.179, 2, 0.140, 2, 4.861, 2
320620030705, SBI, 137, 1, 108, 8, 2, 20030730, 519, 73.1180, -160.4498, 244,    102.8,  -1.6812,  32.8230, 2, -999.0000, 9,    262.5, 2,    292.7, 2,    43.90, 2,    14.69, 2,     0.19, 2,     2.00, 2,  -999.00, 9,  -1.6831,     1.83, 2, 0.05, 2,     0.78, 2,     0.60, 2,   1.1850, 2, 0.201, 2, 0.139, 2, 4.861, 2
320620030705, SBI, 137, 1, 107, 7, 2, 20030730, 518, 73.1180, -160.4498, 244,    117.6,  -1.5395,  32.9195, 2, -999.0000, 9,    255.2, 2,    281.3, 2,    41.50, 2,    13.74, 2,     0.15, 2,     1.86, 2,    56.70, 2,  -1.5418,     1.04, 2, 0.04, 2,     0.64, 2,     0.51, 2,   1.1390, 2, 0.202, 2, 0.139, 2, 4.860, 2
320620030705, SBI, 137, 1, 106, 6, 2, 20030730, 516, 73.1180, -160.4498, 244,    132.8,  -1.2021,  33.3901, 2, -999.0000, 9,    250.3, 2,    278.3, 2,    33.48, 2,    12.88, 2,     0.13, 2,     1.63, 2,  -999.00, 9,  -1.2052,     0.23, 2, 0.03, 2,  -999.00, 9,  -999.00, 9,   0.9240, 2, 0.181, 2, 0.139, 2, 4.858, 2
320620030705, SBI, 137, 1, 105, 5, 2, 20030730, 515, 73.1180, -160.4498, 244,    152.6,  -0.9285,  33.7509, 2, -999.0000, 9,    253.3, 2,    279.6, 2,    28.71, 2,    12.84, 2,     0.10, 2,     1.52, 2,  -999.00, 9,  -0.9326,     0.09, 2, 0.01, 2,  -999.00, 9,  -999.00, 9,   0.7950, 2, 0.174, 2, 0.139, 2, 4.857, 2
320620030705, SBI, 137, 1, 104, 4, 2, 20030730, 513, 73.1180, -160.4498, 244,    172.5,  -0.4142,  34.2483, 2, -999.0000, 9,    251.1, 2,    276.7, 2,    21.05, 2,    12.84, 2,     0.04, 2,     1.27, 2,    57.00, 2,  -0.4198,     0.00, 2, 0.02, 2,  -999.00, 9,  -999.00, 9,   0.7260, 2, 0.172, 2, 0.139, 2, 4.855, 2
320620030705, SBI, 137, 1, 103, 3, 2, 20030730, 512, 73.1180, -160.4498, 244,    193.1,  -0.1448,  34.4551, 2, -999.0000, 9,    248.6, 2,    273.3, 2,    17.74, 2,    12.79, 2,     0.03, 2,     1.15, 2,  -999.00, 9,  -0.1516,     0.00, 2, 0.02, 2,  -999.00, 9,  -999.00, 9,   0.7560, 2, 0.170, 2, 0.139, 2, 4.853, 2
320620030705, SBI, 137, 1, 102, 2, 2, 20030730, 510, 73.1180, -160.4498, 244,    213.2,   0.1101,  34.5850, 2,  34.6121, 2,    250.1, 2,    275.9, 2,    14.86, 2,    12.53, 2,     0.05, 2,     1.08, 2,  -999.00, 9,   0.1020,     0.01, 2, 0.02, 2,  -999.00, 9,  -999.00, 9,   0.7580, 2, 0.172, 2, 0.139, 2, 4.852, 2
320620030705, SBI, 137, 1, 101, 1, 2, 20030730, 508, 73.1180, -160.4498, 244,    233.1,   0.4449,  34.7099, 2,  34.6859, 2,    256.4, 2,    279.8, 2,    13.10, 2,    12.47, 2,     0.05, 2,     1.02, 2,    53.40, 2,   0.4353,     0.01, 2, 0.02, 2,  -999.00, 9,  -999.00, 9,   0.8210, 2, 0.178, 2, 0.139, 2, 4.850, 2
320620030705, SBI, 138, 1, 114, 14, 2, 20030730, 1003, 73.0656, -160.5069, 176,      1.9,  -1.4764,  29.1733, 2,  29.1715, 2,    364.1, 2,    399.7, 2,     7.90, 2,     0.11, 2,     0.00, 2,     0.72, 2,  -999.00, 9,  -1.4764,     0.00, 2, 0, 2,     1.01, 2,     0.18, 2,   1.5630, 2, 0.282, 2, 2.335, 2, 4.985, 2
320620030705, SBI, 138, 1, 113, 13, 2, 20030730, 1001, 73.0656, -160.5069, 176,     13.7,  -1.4394,  29.4019, 2, -999.0000, 9,    364.3, 2,    400.3, 2,    10.24, 2,     0.11, 2,     0.00, 2,     0.77, 2,  -999.00, 9,  -1.4396,     0.03, 2, 0.01, 2,  -999.00, 9,  -999.00, 9,   1.6650, 2, 0.325, 2, 1.522, 2, 4.985, 2
320620030705, SBI, 138, 1, 111, 11, 2, 20030730, 959, 73.0656, -160.5069, 176,     24.7,  -1.5879,  31.2362, 2, -999.0000, 9,    354.1, 2,   -999.0, 9,  -999.00, 9,  -999.00, 9,  -999.00, 9,  -999.00, 9,  -999.00, 9,  -1.5883,  -999.00, 9, -999, 9,  -999.00, 9,  -999.00, 9,   2.0300, 2, 0.463, 2, 0.702, 2, 4.986, 2
320620030705, SBI, 138, 1, 110, 10, 2, 20030730, 959, 73.0656, -160.5069, 176,     24.7,  -1.5880,  31.2363, 2, -999.0000, 9,    354.1, 2,    387.9, 2,    14.64, 2,     1.11, 2,     0.03, 2,     1.04, 2,  -999.00, 9,  -1.5884,     0.17, 2, 0.06, 2,     3.95, 2,     0.47, 2,   2.0160, 2, 0.496, 2, 0.700, 2, 4.987, 2
320620030705, SBI, 138, 1, 112, 12, 2, 20030730, 959, 73.0656, -160.5069, 176,     24.7,  -1.5881,  31.2368, 2, -999.0000, 9,    354.4, 2,   -999.0, 9,  -999.00, 9,  -999.00, 9,  -999.00, 9,  -999.00, 9,  -999.00, 9,  -1.5885,  -999.00, 9, -999, 9,  -999.00, 9,  -999.00, 9,   1.9710, 2, 0.506, 2, 0.705, 2, 4.986, 2
320620030705, SBI, 138, 1, 109, 9, 2, 20030730, 953, 73.0656, -160.5069, 176,     48.5,  -1.6434,  31.5395, 2, -999.0000, 9,    326.2, 2,    344.3, 2,    28.12, 2,     5.64, 2,     0.13, 2,     1.43, 2,    66.30, 2,  -1.6441,     1.38, 2, 0.08, 2,     0.45, 2,     0.22, 2,   1.2990, 2, 0.217, 2, 0.171, 2, 4.987, 2
320620030705, SBI, 138, 1, 108, 8, 2, 20030730, 951, 73.0656, -160.5069, 176,     63.4,  -1.5691,  31.8116, 2, -999.0000, 9,    275.4, 2,    283.3, 2,    48.22, 2,    11.94, 2,     0.14, 2,     1.92, 2,  -999.00, 9,  -1.5702,     1.70, 2, 0.06, 2,  -999.00, 9,  -999.00, 9,   1.0030, 2, 0.181, 2, 0.147, 2, 4.984, 2
320620030705, SBI, 138, 1, 107, 7, 2, 20030730, 949, 73.0656, -160.5069, 176,     78.4,  -1.6326,  32.5346, 2, -999.0000, 9,    247.1, 2,    288.1, 2,    47.87, 2,    14.15, 2,     0.17, 2,     2.03, 2,  -999.00, 9,  -1.6340,     1.98, 2, 0.06, 2,     0.64, 2,     0.51, 2,   1.0180, 2, 0.190, 2, 0.140, 2, 4.984, 2
320620030705, SBI, 138, 1, 106, 6, 2, 20030730, 948, 73.0656, -160.5069, 176,     93.3,  -1.7130,  32.7776, 2, -999.0000, 9,    271.1, 2,    294.8, 2,    43.60, 2,    14.87, 2,     0.18, 2,     2.00, 2,    65.70, 2,  -1.7146,     1.88, 2, 0.07, 2,  -999.00, 9,  -999.00, 9,   1.1970, 2, 0.206, 2, 0.139, 2, 4.984, 2
320620030705, SBI, 138, 1, 105, 5, 2, 20030730, 946, 73.0656, -160.5069, 176,    108.5,  -1.6608,  32.8293, 2,  32.8301, 2,    267.9, 2,    293.7, 2,    44.62, 2,    15.10, 2,     0.16, 2,     2.01, 2,  -999.00, 9,  -1.6628,     1.84, 2, 0.07, 2,  -999.00, 9,  -999.00, 9,   1.1800, 2, 0.203, 2, 0.139, 2, 4.983, 2
320620030705, SBI, 138, 1, 104, 4, 2, 20030730, 944, 73.0656, -160.5069, 176,    122.9,  -1.6664,  32.8790, 2,  32.8960, 2,    268.7, 2,    293.5, 2,    42.23, 2,    15.15, 2,     0.17, 2,     1.97, 2,  -999.00, 9,  -1.6687,     1.82, 2, 0.06, 2,     0.98, 2,     0.66, 2,   1.1710, 2, 0.211, 2, 0.139, 2, 4.983, 2
320620030705, SBI, 138, 1, 103, 3, 2, 20030730, 942, 73.0656, -160.5069, 176,    143.6,  -1.2446,  33.3282, 2, -999.0000, 9,    254.1, 2,    278.4, 2,    34.85, 2,    13.01, 2,     0.10, 2,     1.68, 2,    66.30, 2,  -1.2479,     0.40, 2, 0.05, 2,  -999.00, 9,  -999.00, 9,   0.9390, 2, 0.183, 2, 0.139, 2, 4.984, 2
320620030705, SBI, 138, 1, 102, 2, 2, 20030730, 939, 73.0656, -160.5069, 176,    163.0,  -0.6274,  34.1215, 2, -999.0000, 9,    253.3, 2,    276.2, 2,    25.44, 2,    13.14, 2,     0.07, 2,     1.45, 2,  -999.00, 9,  -0.6323,     0.17, 2, 0.06, 2,  -999.00, 9,  -999.00, 9,   0.7990, 2, 0.175, 2, 0.139, 2, 4.983, 2
320620030705, SBI, 138, 1, 101, 1, 2, 20030730, 937, 73.0656, -160.5069, 176,    171.4,   0.0298,  34.5402, 2, -999.0000, 9,    252.9, 2,    272.8, 2,    17.62, 2,    12.99, 2,     0.05, 2,     1.16, 2,    52.20, 2,   0.0235,     0.03, 2, 0.03, 2,  -999.00, 9,  -999.00, 9,   0.6610, 2, 0.174, 2, 0.138, 2, 4.984, 2
320620030705, SBI, 139, 1, 111, 11, 2, 20030730, 1141, 73.0292, -160.6061, 137,      2.0,  -1.4262,  29.5293, 2,  29.5829, 2,    363.2, 2,    397.4, 2,    11.11, 2,     0.22, 2,     0.01, 2,     0.79, 2,  -999.00, 9,  -1.4262,     0.05, 2, 0.01, 2,     1.76, 2,     0.11, 2,   1.7280, 2, 0.345, 2, 2.213, 2, 4.990, 2
320620030705, SBI, 139, 1, 110, 10, 2, 20030730, 1139, 73.0292, -160.6061, 137,     11.8,  -1.3938,  29.4320, 2, -999.0000, 9,    363.1, 2,    397.5, 2,    10.70, 2,     0.11, 2,     0.01, 2,     0.78, 2,  -999.00, 9,  -1.3940,     0.04, 2, 0, 2,  -999.00, 9,  -999.00, 9,   1.6200, 2, 0.311, 2, 1.418, 2, 4.990, 2
320620030705, SBI, 139, 1, 109, 9, 2, 20030730, 1137, 73.0292, -160.6061, 137,     18.9,  -1.5458,  30.8025, 2, -999.0000, 9,    351.1, 2,    363.8, 2,    24.24, 2,     3.74, 2,     0.10, 2,     1.28, 2,  -999.00, 9,  -1.5461,     0.92, 2, 0.06, 2,     2.81, 2,     0.18, 2,   1.9570, 2, 0.481, 2, 0.892, 2, 4.990, 2
320620030705, SBI, 139, 1, 108, 8, 2, 20030730, 1133, 73.0292, -160.6061, 137,     33.8,  -1.6380,  31.4709, 2, -999.0000, 9,    314.9, 2,    346.1, 2,    27.93, 2,     5.73, 2,     0.14, 2,     1.43, 2,  -999.00, 9,  -1.6385,     1.40, 2, 0.05, 2,  -999.00, 9,  -999.00, 9,   1.2330, 2, 0.203, 2, 0.297, 2, 4.990, 2
320620030705, SBI, 139, 1, 107, 7, 2, 20030730, 1131, 73.0292, -160.6061, 137,     48.8,  -1.6447,  31.6664, 2, -999.0000, 9,    317.8, 2,    328.9, 2,    33.71, 2,     7.30, 2,     0.14, 2,     1.56, 2,  -999.00, 9,  -1.6455,     1.39, 2, 0.05, 2,  -999.00, 9,  -999.00, 9,   1.0500, 2, 0.187, 2, 0.177, 2, 4.990, 2
320620030705, SBI, 139, 1, 106, 6, 2, 20030730, 1129, 73.0292, -160.6061, 137,     66.7,  -1.6188,  32.2988, 2, -999.0000, 9,    280.5, 2,    297.5, 2,    43.33, 2,    10.68, 2,     0.12, 2,     1.79, 2,    70.00, 2,  -1.6199,     1.26, 2, 0.04, 2,     0.09, 2,     0.17, 2,   0.8920, 2, 0.175, 2, 0.145, 2, 4.990, 2
320620030705, SBI, 139, 1, 105, 5, 2, 20030730, 1125, 73.0292, -160.6061, 137,     78.5,  -1.6444,  32.5711, 2,  32.5756, 2,    244.7, 2,    273.2, 2,    51.42, 2,    13.77, 2,     0.16, 2,     2.09, 2,  -999.00, 9,  -1.6458,     2.10, 2, 0.05, 2,  -999.00, 9,  -999.00, 9,   1.0460, 2, 0.192, 2, 0.139, 2, 4.990, 2
320620030705, SBI, 139, 1, 104, 4, 2, 20030730, 1123, 73.0292, -160.6061, 137,     93.4,  -1.6714,  32.6185, 2, -999.0000, 9,    260.5, 2,    287.4, 2,    45.48, 2,    13.98, 2,     0.18, 2,     2.02, 2,    66.50, 2,  -1.6730,     2.05, 2, 0.07, 2,  -999.00, 9,  -999.00, 9,   1.1540, 2, 0.204, 2, 0.138, 2, 4.993, 2
320620030705, SBI, 139, 1, 103, 3, 2, 20030730, 1121, 73.0292, -160.6061, 137,    108.1,  -1.6875,  32.6932, 2, -999.0000, 9,    269.2, 2,    285.4, 2,    46.41, 2,    13.97, 2,     0.18, 2,     2.03, 2,    67.90, 2,  -1.6894,     2.06, 2, 0.06, 2,     0.73, 2,     0.57, 2,   1.1880, 2, 0.207, 2, 0.138, 2, 4.993, 2
320620030705, SBI, 139, 1, 102, 2, 2, 20030730, 1119, 73.0292, -160.6061, 137,    122.9,  -1.6980,  32.8066, 2, -999.0000, 9,    269.4, 2,    295.6, 2,    43.28, 2,    15.14, 2,     0.18, 2,     2.00, 2,  -999.00, 9,  -1.7002,     1.99, 2, 0.08, 2,     1.13, 2,     0.58, 2,   1.2220, 2, 0.204, 2, 0.138, 2, 4.992, 2
320620030705, SBI, 139, 1, 101, 1, 2, 20030730, 1117, 73.0292, -160.6061, 137,    132.8,  -1.6182,  32.8891, 2, -999.0000, 9,    264.9, 2,    290.6, 2,    42.44, 2,    14.64, 2,     0.17, 2,     1.96, 2,    68.50, 2,  -1.6207,     1.80, 2, 0.07, 2,  -999.00, 9,  -999.00, 9,   1.2830, 2, 0.213, 2, 0.138, 2, 4.990, 2
320620030705, SBI, 140, 1, 107, 7, 2, 20030730, 1309, 72.9825, -160.6688, 86,      2.1,  -1.4274,  29.4810, 2,  29.5031, 2,    361.3, 2,    395.5, 2,    10.98, 2,     0.19, 2,     0.00, 2,     0.78, 2,  -999.00, 9,  -1.4274,     0.21, 2, 0, 2,     1.59, 2,     0.20, 2,   1.7440, 2, 0.308, 2, 2.256, 2, 4.988, 2
320620030705, SBI, 140, 1, 106, 6, 2, 20030730, 1307, 72.9825, -160.6688, 86,     12.3,  -1.4452,  29.7841, 2, -999.0000, 9,    359.5, 2,    395.7, 2,    12.00, 2,     0.34, 2,     0.00, 2,     0.81, 2,  -999.00, 9,  -1.4454,     0.21, 2, 0, 2,  -999.00, 9,  -999.00, 9,   1.7720, 2, 0.348, 2, 1.516, 2, 4.984, 2
320620030705, SBI, 140, 1, 105, 5, 2, 20030730, 1305, 72.9825, -160.6688, 86,     27.6,  -1.5370,  30.7948, 2, -999.0000, 9,    335.2, 2,    332.8, 2,    33.67, 2,     6.73, 2,     0.13, 2,     1.54, 2,  -999.00, 9,  -1.5374,     1.49, 2, 0.03, 2,     2.23, 2,     0.47, 2,   1.8110, 2, 0.491, 2, 0.531, 2, 4.988, 2
320620030705, SBI, 140, 1, 104, 4, 2, 20030730, 1302, 72.9825, -160.6688, 86,     42.6,  -1.6065,  31.6621, 2, -999.0000, 9,    300.4, 2,    306.5, 2,    42.69, 2,     9.28, 2,     0.14, 2,     1.74, 2,  -999.00, 9,  -1.6072,     1.64, 2, 0.03, 2,  -999.00, 9,  -999.00, 9,   1.0050, 2, 0.191, 2, 0.200, 2, 4.988, 2
320620030705, SBI, 140, 1, 103, 3, 2, 20030730, 1259, 72.9825, -160.6688, 86,     57.7,  -1.4825,  31.9847, 2, -999.0000, 9,    234.0, 2,    268.5, 2,    53.42, 2,    12.44, 2,     0.14, 2,     1.99, 2,  -999.00, 9,  -1.4835,     1.54, 2, 0.03, 2,     0.63, 2,     0.41, 2,   1.0150, 2, 0.186, 2, 0.155, 2, 4.987, 2
320620030705, SBI, 140, 1, 102, 2, 2, 20030730, 1257, 72.9825, -160.6688, 86,     72.7,  -1.7103,  32.7493, 2, -999.0000, 9,    270.5, 2,    296.6, 2,    43.16, 2,    15.09, 2,     0.20, 2,     2.02, 2,  -999.00, 9,  -1.7116,     1.94, 2, 0.05, 2,  -999.00, 9,  -999.00, 9,   1.3700, 2, 0.246, 2, 0.139, 2, 4.988, 2
320620030705, SBI, 140, 1, 101, 1, 2, 20030730, 1255, 72.9825, -160.6688, 86,     80.1,  -1.7111,  32.7515, 2,  32.7433, 2,    270.5, 2,    297.3, 2,    43.36, 2,    15.09, 2,     0.19, 2,     2.03, 2,    65.90, 2,  -1.7125,     1.93, 2, 0.04, 2,     1.68, 2,     0.71, 2,   1.4260, 2, 0.247, 2, 0.138, 2, 4.987, 2
320620030705, SBI, 141, 1, 110, 10, 2, 20030730, 1431, 72.9394, -160.7676, 68,      2.8,  -1.4327,  29.7004, 2,  29.7246, 2,    361.1, 2,    395.0, 2,    12.94, 2,     0.11, 2,     0.01, 2,     0.81, 2,  -999.00, 9,  -1.4327,     0.06, 2, 0, 2,  -999.00, 9,  -999.00, 9,   1.7450, 2, 0.338, 2, 2.541, 2, 4.968, 2
320620030705, SBI, 141, 1, 107, 7, 2, 20030730, 1428, 72.9394, -160.7676, 68,     12.7,  -1.4362,  29.8092, 2, -999.0000, 9,    360.8, 2,    392.3, 2,    14.58, 2,     0.39, 2,     0.02, 2,     0.88, 2,  -999.00, 9,  -1.4364,     0.14, 2, 0, 2,  -999.00, 9,  -999.00, 9,   1.8150, 2, 0.355, 2, 1.759, 2, 4.964, 2
320620030705, SBI, 141, 1, 108, 8, 2, 20030730, 1428, 72.9394, -160.7676, 68,     12.7,  -1.4423,  29.8550, 2, -999.0000, 9,    360.7, 2,   -999.0, 9,  -999.00, 9,  -999.00, 9,  -999.00, 9,  -999.00, 9,  -999.00, 9,  -1.4425,  -999.00, 9, -999, 9,     1.81, 3,     0.02, 3,   1.7330, 2, 0.364, 2, 1.759, 2, 4.964, 2
320620030705, SBI, 141, 1, 109, 9, 2, 20030730, 1429, 72.9394, -160.7676, 68,     12.7,  -1.4436,  29.8650, 2, -999.0000, 9,    360.7, 2,   -999.0, 9,  -999.00, 9,  -999.00, 9,  -999.00, 9,  -999.00, 9,  -999.00, 9,  -1.4438,  -999.00, 9, -999, 9,  -999.00, 9,  -999.00, 9,   1.7500, 2, 0.366, 2, 1.762, 2, 4.965, 2
320620030705, SBI, 141, 1, 105, 5, 2, 20030730, 1425, 72.9394, -160.7676, 68,     20.6,  -1.5530,  31.0202, 2, -999.0000, 9,    340.1, 2,   -999.0, 9,  -999.00, 9,  -999.00, 9,  -999.00, 9,  -999.00, 9,  -999.00, 9,  -1.5533,  -999.00, 9, -999, 9,  -999.00, 9,  -999.00, 9,   1.7540, 2, 0.366, 2, 1.222, 2, 4.966, 2
320620030705, SBI, 141, 1, 106, 6, 2, 20030730, 1425, 72.9394, -160.7676, 68,     20.6,  -1.5537,  31.0271, 2, -999.0000, 9,    340.9, 2,   -999.0, 9,  -999.00, 9,  -999.00, 9,  -999.00, 9,  -999.00, 9,  -999.00, 9,  -1.5540,  -999.00, 9, -999, 9,  -999.00, 9,  -999.00, 9,   1.8320, 2, 0.360, 2, 1.227, 2, 4.966, 2
320620030705, SBI, 141, 1, 104, 4, 2, 20030730, 1425, 72.9394, -160.7676, 68,     20.6,  -1.5573,  31.0454, 2, -999.0000, 9,    339.7, 2,    365.7, 2,    22.20, 2,     3.05, 2,     0.09, 2,     1.22, 2,  -999.00, 9,  -1.5576,     0.77, 2, 0.04, 2,     2.22, 2,     0.02, 2,   1.6870, 2, 0.370, 2, 1.209, 2, 4.966, 2
320620030705, SBI, 141, 1, 103, 3, 2, 20030730, 1422, 72.9394, -160.7676, 68,     32.6,  -1.6338,  31.4506, 2, -999.0000, 9,    312.0, 2,    327.9, 2,    34.62, 2,     7.21, 2,     0.15, 2,     1.60, 2,  -999.00, 9,  -1.6343,     1.63, 2, 0.05, 2,     0.66, 2,     0.25, 2,   1.3040, 2, 0.237, 2, 0.519, 2, 4.972, 2
320620030705, SBI, 141, 1, 102, 2, 2, 20030730, 1419, 72.9394, -160.7676, 68,     45.8,  -1.6382,  32.5257, 2, -999.0000, 9,    279.5, 2,    303.1, 2,    42.39, 2,    12.04, 2,     0.19, 2,     1.91, 2,  -999.00, 9,  -1.6390,     1.76, 2, 0.08, 2,  -999.00, 9,  -999.00, 9,   1.3790, 2, 0.240, 2, 0.284, 2, 4.970, 2
320620030705, SBI, 141, 1, 101, 1, 2, 20030730, 1416, 72.9394, -160.7676, 68,     62.3,  -1.6581,  32.5814, 2,  32.5681, 2,    272.2, 2,    299.0, 2,    43.53, 2,    12.84, 2,     0.20, 2,     1.96, 2,    64.10, 2,  -1.6592,     1.92, 2, 0.08, 2,     0.34, 2,     0.12, 2,   1.4120, 2, 0.282, 2, 0.140, 2, 4.971, 2
320620030705, SBI, 142, 1, 105, 5, 2, 20030730, 1627, 72.8496, -160.9127, 53,      1.8,  -1.3903,  29.9742, 2,  30.0047, 2,    356.1, 2,    390.1, 2,    16.31, 2,     0.68, 2,     0.02, 2,     0.87, 2,  -999.00, 9,  -1.3903,     0.16, 2, 0, 2,     1.64, 2,     0.50, 2,   1.7930, 2, 0.338, 2, 2.943, 2, 4.933, 2
320620030705, SBI, 142, 1, 104, 4, 2, 20030730, 1625, 72.8496, -160.9127, 53,     17.0,  -1.3438,  30.2608, 2, -999.0000, 9,    350.5, 2,    371.5, 2,    22.48, 2,     2.68, 2,     0.06, 2,     1.11, 2,  -999.00, 9,  -1.3441,     0.58, 2, 0.02, 2,     1.79, 2,     0.31, 2,   1.8590, 2, 0.385, 2, 1.717, 2, 4.935, 2
320620030705, SBI, 142, 1, 103, 3, 2, 20030730, 1622, 72.8496, -160.9127, 53,     27.0,  -1.5950,  31.3871, 2, -999.0000, 9,    300.3, 2,    309.7, 2,    41.58, 2,     8.93, 2,     0.14, 2,     1.72, 2,  -999.00, 9,  -1.5954,     1.88, 2, 0.05, 2,  -999.00, 9,  -999.00, 9,   1.1640, 2, 0.277, 2, 0.999, 2, 4.939, 2
320620030705, SBI, 142, 1, 102, 2, 2, 20030730, 1620, 72.8496, -160.9127, 53,     37.0,  -1.5383,  31.7058, 2, -999.0000, 9,    263.4, 2,    306.5, 2,    44.89, 2,    10.24, 2,     0.14, 2,     1.80, 2,  -999.00, 9,  -1.5389,     1.40, 2, 0.05, 2,     1.63, 2,     0.54, 2,   1.0010, 2, 0.189, 2, 0.593, 2, 4.939, 2
320620030705, SBI, 142, 1, 101, 1, 2, 20030730, 1618, 72.8496, -160.9127, 53,     47.2,  -1.6856,  32.6267, 2,  32.1867, 2,    276.5, 2,    307.0, 2,    43.11, 2,    11.72, 2,     0.18, 2,     1.89, 2,    69.70, 2,  -1.6864,     1.71, 2, 0.08, 2,     1.86, 2,     0.50, 2,   1.4340, 2, 0.272, 2, 0.276, 2, 4.944, 2