BOTTLE,20100423CCHDOSIODBK
EXPOCODE,SECT_ID,STNNBR,CASTNO,SAMPNO,BTLNBR,BTLNBR_FLAG_W,DATE,TIME,LATITUDE,LONGITUDE,DEPTH,CTDPRS,CTDTMP,CTDSAL,CTDSAL_FLAG_W,SALNTY,SALNTY_FLAG_W,CTDOXY,CTDOXY_FLAG_W,OXYGEN,OXYGEN_FLAG_W,SILCAT,SILCAT_FLAG_W,NITRAT,NITRAT_FLAG_W,NITRIT,NITRIT_FLAG_W,PHSPHT,PHSPHT_FLAG_W,DOC,DOC_FLAG_W,THETA,NH4,NH4_FLAG_W,UREA,UREA_FLAG_W,CHLORA,CHLORA_FLAG_W,PPHYTN,PPHYTN_FLAG_W,FLUOR,FLUOR_FLAG_W,HAARDT,HAARDT_FLAG_W,PAR,PAR_FLAG_W,SPAR,SPAR_FLAG_W
,,,,,,,,,,,METERS,DBAR,ITS-90,PSS-78,,PSS-78,,UMOL/KG,,UMOL/KG,,UMOL/KG,,UMOL/KG,,UMOL/KG,,UMOL/KG,,UMOL/KG,,DEG C,UMOL/KG,,UMOL/KG,,UG/KG,,UG/KG,,MG/M^3,,VOLTS,,VOLTS,,VOLTS,
320620030705, SBI, 248, 1, 105, 5, 2, 20030809, 48, 72.4931, -159.3681, 49,      2.0,  -0.6189,  29.8627, 2,  29.8550, 2,    365.8, 2,    388.5, 2,    13.54, 2,     0.08, 2,     0.00, 2,     0.81, 2,  -999.00, 9,  -0.6189,     0.00, 2, 0, 2,     1.00, 2,     0.14, 2,   1.2430, 2, 0.211, 2, 3.833, 2, 4.274, 2
320620030705, SBI, 248, 1, 104, 4, 2, 20030809, 46, 72.4931, -159.3681, 49,     13.8,  -0.6773,  29.9762, 2, -999.0000, 9,    353.3, 2,    384.1, 2,    16.83, 2,     0.08, 2,     0.00, 2,     0.90, 2,  -999.00, 9,  -0.6776,     0.00, 2, 0.01, 2,     2.11, 2,     0.23, 2,   1.6740, 2, 0.327, 2, 3.044, 2, 4.151, 2
320620030705, SBI, 248, 1, 103, 3, 2, 20030809, 44, 72.4931, -159.3681, 49,     25.9,  -1.1644,  30.5283, 2, -999.0000, 9,    347.3, 2,    325.5, 2,    24.57, 2,     2.77, 2,     0.06, 2,     1.20, 2,  -999.00, 9,  -1.1648,     0.28, 2, 0.04, 2,     5.48, 2,     0.23, 2,   2.2630, 2, 0.839, 2, 2.129, 2, 4.113, 2
320620030705, SBI, 248, 1, 102, 2, 2, 20030809, 42, 72.4931, -159.3681, 49,     36.9,  -1.6805,  32.6247, 2, -999.0000, 9,    265.4, 2,    286.3, 2,    46.20, 2,    14.43, 2,     0.19, 2,     2.08, 2,  -999.00, 9,  -1.6811,     2.37, 2, 0.09, 2,     0.73, 2,     0.52, 2,   1.2650, 2, 0.211, 2, 1.128, 2, 4.041, 2
320620030705, SBI, 248, 1, 101, 1, 2, 20030809, 41, 72.4931, -159.3681, 49,     43.9,  -1.6875,  32.6489, 2,  32.6093, 0,    264.1, 2,    286.6, 2,    45.88, 2,    14.48, 2,     0.19, 2,     2.08, 2,    70.30, 2,  -1.6882,     2.41, 2, 0.16, 2,     0.67, 2,     0.48, 2,   1.1190, 2, 0.206, 2, 0.610, 2, 4.046, 2
320620030705, SBI, 249, 1, 105, 5, 2, 20030809, 141, 72.5391, -159.2808, 51,      1.4,  -1.0110,  29.2175, 2,  29.2402, 2,    355.0, 2,    387.6, 2,     9.52, 2,     0.13, 2,     0.00, 2,     0.76, 2,  -999.00, 9,  -1.0110,     0.00, 2, 0, 2,  -999.00, 9,  -999.00, 9,   1.0470, 2, 0.176, 2, 4.351, 2, 4.138, 2
320620030705, SBI, 249, 1, 104, 4, 2, 20030809, 139, 72.5391, -159.2808, 51,     13.6,  -1.0475,  29.3877, 2, -999.0000, 9,    358.4, 2,    386.6, 2,    16.24, 2,     0.07, 2,     0.00, 2,     0.86, 2,  -999.00, 9,  -1.0477,     0.00, 2, 0.01, 2,  -999.00, 9,  -999.00, 9,   1.1840, 2, 0.197, 2, 3.376, 2, 4.120, 2
320620030705, SBI, 249, 1, 103, 3, 2, 20030809, 137, 72.5391, -159.2808, 51,     25.4,  -1.2029,  30.6483, 2, -999.0000, 9,    344.1, 2,    352.0, 2,    30.65, 2,     4.12, 2,     0.09, 2,     1.38, 2,  -999.00, 9,  -1.2033,     0.61, 2, 0.07, 2,  -999.00, 9,  -999.00, 9,   2.4600, 2, 1.026, 2, 2.566, 2, 4.145, 2
320620030705, SBI, 249, 1, 102, 2, 2, 20030809, 135, 72.5391, -159.2808, 51,     35.6,  -1.5408,  32.0003, 2, -999.0000, 9,    271.7, 2,    299.8, 2,    43.49, 2,    11.34, 2,     0.15, 2,     1.95, 2,  -999.00, 9,  -1.5414,     2.16, 2, 0.11, 2,  -999.00, 9,  -999.00, 9,   1.3530, 2, 0.221, 2, 1.513, 2, 4.144, 2
320620030705, SBI, 249, 1, 101, 1, 4, 20030809, 133, 72.5391, -159.2808, 51,     45.8,  -1.6789,  32.6117, 2,  31.7014, 0,    265.7, 2,    320.0, 0,    37.28, 3,     9.49, 3,     0.13, 3,     1.71, 3,    72.90, 2,  -1.6797,     1.56, 3, 0.07, 3,  -999.00, 9,  -999.00, 9,   1.1530, 2, 0.203, 2, 0.685, 2, 4.155, 2
320620030705, SBI, 250, 1, 106, 6, 2, 20030809, 248, 72.5854, -159.2142, 62,      1.5,  -1.1733,  28.9904, 2,  29.0251, 2,    362.7, 2,    388.8, 2,     7.20, 2,     0.07, 2,     0.00, 2,     0.72, 2,  -999.00, 9,  -1.1733,     0.00, 2, 0, 2,     0.46, 2,     0.06, 2,   0.9630, 2, 0.178, 2, 4.007, 2, 4.437, 2
320620030705, SBI, 250, 1, 105, 5, 2, 20030809, 246, 72.5854, -159.2142, 62,     11.5,  -1.1989,  28.9989, 2, -999.0000, 9,    355.5, 2,    389.0, 2,     9.59, 2,     0.06, 2,     0.00, 2,     0.77, 2,  -999.00, 9,  -1.1991,     0.00, 2, 0.01, 2,     0.74, 2,     0.13, 2,   1.0410, 2, 0.180, 2, 3.060, 2, 4.618, 2
320620030705, SBI, 250, 1, 104, 4, 2, 20030809, 244, 72.5854, -159.2142, 62,     21.6,  -1.3364,  30.6853, 2, -999.0000, 9,    368.3, 2,    353.3, 2,    28.53, 2,     4.16, 2,     0.09, 2,     1.35, 2,  -999.00, 9,  -1.3367,     0.89, 2, 0.07, 2,     5.00, 2,     0.17, 2,   2.6370, 2, 1.907, 2, 2.773, 2, 4.276, 2
320620030705, SBI, 250, 1, 103, 3, 2, 20030809, 241, 72.5854, -159.2142, 62,     36.6,  -1.6227,  31.4727, 2, -999.0000, 9,    282.0, 2,    299.2, 2,    41.90, 2,     9.57, 2,     0.15, 2,     1.83, 2,  -999.00, 9,  -1.6233,     2.17, 2, 0.09, 2,     0.72, 2,     0.44, 2,   1.3180, 2, 0.217, 2, 1.276, 2, 4.171, 2
320620030705, SBI, 250, 1, 102, 2, 2, 20030809, 239, 72.5854, -159.2142, 62,     46.6,  -1.5393,  31.9171, 2, -999.0000, 9,    257.6, 2,    287.2, 2,    46.97, 2,    12.11, 2,     0.15, 2,     1.98, 2,  -999.00, 9,  -1.5401,     1.89, 2, 0.09, 2,     0.50, 2,     0.53, 2,   1.0900, 2, 0.189, 2, 0.884, 2, 4.178, 2
320620030705, SBI, 250, 1, 101, 1, 2, 20030809, 237, 72.5854, -159.2142, 62,     56.7,  -1.6752,  32.5762, 2,  32.5569, 2,    266.9, 2,    290.1, 2,    46.93, 2,    14.05, 2,     0.18, 2,     2.09, 2,    73.50, 2,  -1.6762,     2.23, 2, 0.09, 2,     0.69, 2,     0.71, 2,   1.1730, 2, 0.200, 2, 0.399, 2, 4.184, 2
320620030705, SBI, 251, 1, 107, 7, 2, 20030809, 414, 72.6294, -159.1276, 79,      1.4,  -1.1487,  28.9094, 2,  28.9269, 2,    358.9, 2,    389.0, 2,     6.48, 2,     0.09, 2,     0.00, 2,     0.70, 2,  -999.00, 9,  -1.1487,     0.00, 2, 0, 2,  -999.00, 9,  -999.00, 9,   0.9490, 2, 0.169, 2, 3.936, 2, 4.506, 2
320620030705, SBI, 251, 1, 106, 6, 2, 20030809, 413, 72.6294, -159.1276, 79,     11.7,  -1.1574,  28.9085, 2, -999.0000, 9,    360.0, 2,    392.8, 2,     9.39, 2,     0.09, 2,     0.00, 2,     0.77, 2,  -999.00, 9,  -1.1576,     0.00, 2, 0.01, 2,  -999.00, 9,  -999.00, 9,   1.0170, 2, 0.180, 2, 3.155, 2, 4.501, 2
320620030705, SBI, 251, 1, 104, 4, 2, 20030809, 411, 72.6294, -159.1276, 79,     22.8,  -1.4150,  30.8186, 2, -999.0000, 9,    380.7, 2,    399.0, 2,    16.61, 2,     0.27, 2,     0.01, 2,     0.92, 2,  -999.00, 9,  -1.4154,     0.08, 2, 0.02, 2,  -999.00, 9,  -999.00, 9,   2.5350, 2, 3.043, 2, 2.609, 2, 4.488, 2
320620030705, SBI, 251, 1, 105, 5, 2, 20030809, 411, 72.6294, -159.1276, 79,     22.8,  -1.4716,  30.9554, 2, -999.0000, 9,    368.1, 2,   -999.0, 9,  -999.00, 9,  -999.00, 9,  -999.00, 9,  -999.00, 9,  -999.00, 9,  -1.4720,  -999.00, 9, -999, 9,  -999.00, 9,  -999.00, 9,   2.6370, 2, 1.765, 2, 2.603, 2, 4.490, 2
320620030705, SBI, 251, 1, 103, 3, 2, 20030809, 404, 72.6294, -159.1276, 79,     46.7,  -1.5927,  31.5489, 2, -999.0000, 9,    280.8, 2,    295.8, 2,    44.08, 2,     9.99, 2,     0.13, 2,     1.82, 2,  -999.00, 9,  -1.5934,     1.84, 2, 0.09, 2,  -999.00, 9,  -999.00, 9,   1.1520, 2, 0.196, 2, 0.715, 2, 4.484, 2
320620030705, SBI, 251, 1, 102, 2, 2, 20030809, 402, 72.6294, -159.1276, 79,     56.7,  -1.5389,  32.1325, 2, -999.0000, 9,    280.8, 2,    292.6, 2,    45.58, 2,    12.40, 2,     0.15, 2,     2.01, 2,  -999.00, 9,  -1.5399,     1.97, 2, 0.1, 2,  -999.00, 9,  -999.00, 9,   1.2760, 2, 0.227, 2, 0.394, 2, 4.467, 2
320620030705, SBI, 251, 1, 101, 1, 2, 20030809, 400, 72.6294, -159.1276, 79,     72.8,  -1.6640,  32.5514, 2,  32.5416, 2,    266.8, 2,    287.7, 2,    47.61, 2,    13.94, 2,     0.17, 2,     2.09, 2,    72.50, 2,  -1.6653,     2.18, 2, 0.1, 2,  -999.00, 9,  -999.00, 9,   1.1690, 2, 0.210, 2, 0.142, 2, 4.529, 2
320620030705, SBI, 252, 1, 108, 8, 2, 20030809, 550, 72.6690, -159.0555, 119,      1.5,  -1.1730,  28.9186, 2,  28.9167, 2,    360.5, 2,    389.0, 2,     6.43, 2,     0.08, 2,     0.00, 2,     0.70, 2,  -999.00, 9,  -1.1730,     0.00, 2, 0, 2,     0.38, 2,     0.07, 2,   1.1180, 2, 0.185, 2, 3.224, 2, 4.841, 2
320620030705, SBI, 252, 1, 107, 7, 2, 20030809, 547, 72.6690, -159.0555, 119,     13.8,  -1.1656,  28.9180, 2, -999.0000, 9,    360.6, 2,    390.3, 2,     6.53, 2,     0.03, 2,     0.00, 2,     0.71, 2,  -999.00, 9,  -1.1658,     0.00, 2, 0, 2,     0.42, 2,     0.08, 2,   1.1600, 2, 0.190, 2, 2.529, 2, 4.821, 2
320620030705, SBI, 252, 1, 106, 6, 2, 20030809, 545, 72.6690, -159.0555, 119,     28.5,  -1.5986,  31.2756, 2, -999.0000, 9,    310.3, 2,    356.8, 2,    25.25, 2,     4.11, 2,     0.09, 2,     1.31, 2,  -999.00, 9,  -1.5990,     0.71, 2, 0.07, 2,     4.68, 2,     0.07, 2,   1.5910, 2, 0.336, 2, 1.828, 2, 4.798, 2
320620030705, SBI, 252, 1, 105, 5, 2, 20030809, 541, 72.6690, -159.0555, 119,     46.8,  -1.6319,  31.6058, 2, -999.0000, 9,    317.8, 2,    319.6, 2,    34.78, 2,     7.87, 2,     0.14, 2,     1.59, 2,  -999.00, 9,  -1.6326,     1.42, 2, 0.09, 2,     0.35, 2,     0.19, 2,   1.1860, 2, 0.227, 2, 0.964, 2, 4.795, 2
320620030705, SBI, 252, 1, 104, 4, 2, 20030809, 538, 72.6690, -159.0555, 119,     61.9,  -1.5721,  31.9439, 2, -999.0000, 9,    271.1, 2,    285.2, 2,    45.26, 2,    10.90, 2,     0.13, 2,     1.84, 2,  -999.00, 9,  -1.5731,     1.13, 2, 0.06, 2,  -999.00, 9,  -999.00, 9,   0.9980, 2, 0.191, 2, 0.482, 2, 4.793, 2
320620030705, SBI, 252, 1, 103, 3, 2, 20030809, 536, 72.6690, -159.0555, 119,     77.0,  -1.5378,  32.2933, 2, -999.0000, 9,    238.0, 2,    275.3, 2,    50.46, 2,    13.36, 2,     0.14, 2,     2.05, 2,  -999.00, 9,  -1.5392,     1.59, 2, 0.06, 2,     0.26, 2,     0.41, 2,   1.0150, 2, 0.199, 2, 0.228, 2, 4.826, 2
320620030705, SBI, 252, 1, 102, 2, 2, 20030809, 533, 72.6690, -159.0555, 119,     97.0,  -1.6637,  32.5653, 2, -999.0000, 9,    264.5, 2,    285.7, 2,    48.40, 2,    14.04, 2,     0.16, 2,     2.09, 2,  -999.00, 9,  -1.6654,     2.13, 2, 0.08, 2,  -999.00, 9,  -999.00, 9,   1.1460, 2, 0.203, 2, 0.140, 2, 4.838, 2
320620030705, SBI, 252, 1, 101, 1, 2, 20030809, 530, 72.6690, -159.0555, 119,    113.2,  -1.6613,  32.5678, 2,  32.5604, 2,    264.1, 2,    285.4, 2,    48.70, 2,    14.05, 2,     0.16, 2,     2.10, 2,    74.00, 2,  -1.6633,     2.12, 2, 0.09, 2,     0.79, 2,     0.85, 2,   1.1710, 2, 0.211, 2, 0.138, 2, 4.843, 2
320620030705, SBI, 253, 1, 110, 10, 2, 20030809, 713, 72.7145, -158.9895, 155,      1.4,  -0.9363,  29.1102, 2,  29.1061, 2,    360.2, 2,    389.1, 2,     6.86, 2,     0.07, 2,     0.00, 2,     0.72, 2,  -999.00, 9,  -0.9363,     0.00, 2, 0.01, 2,     0.47, 2,     0.05, 2,   1.2850, 2, 0.204, 2, 3.004, 2, 4.951, 2
320620030705, SBI, 253, 1, 109, 9, 2, 20030809, 711, 72.7145, -158.9895, 155,     13.7,  -0.9439,  29.1348, 2, -999.0000, 9,    360.3, 2,    386.8, 2,    14.42, 2,     0.72, 2,     0.02, 2,     0.95, 2,  -999.00, 9,  -0.9441,     0.07, 2, 0.03, 2,  -999.00, 9,  -999.00, 9,   1.3310, 2, 0.210, 2, 2.152, 2, 4.950, 2
320620030705, SBI, 253, 1, 108, 8, 2, 20030809, 709, 72.7145, -158.9895, 155,     26.9,  -1.5360,  30.9957, 2, -999.0000, 9,    326.1, 2,    349.9, 2,    29.17, 2,     5.01, 2,     0.10, 2,     1.41, 2,  -999.00, 9,  -1.5364,     0.83, 2, 0.08, 2,     8.03, 2,     0.23, 2,   2.1370, 2, 1.363, 2, 0.730, 2, 4.947, 2
320620030705, SBI, 253, 1, 107, 7, 2, 20030809, 707, 72.7145, -158.9895, 155,     41.8,  -1.6242,  31.4186, 2, -999.0000, 9,    290.0, 2,    316.0, 2,    37.29, 2,     8.36, 2,     0.14, 2,     1.70, 2,  -999.00, 9,  -1.6248,     1.92, 2, 0.08, 2,  -999.00, 9,  -999.00, 9,   1.3350, 2, 0.209, 2, 0.251, 2, 4.942, 2
320620030705, SBI, 253, 1, 106, 6, 2, 20030809, 705, 72.7145, -158.9895, 155,     57.0,  -1.5876,  31.7457, 2, -999.0000, 9,    278.3, 2,    295.6, 2,    42.47, 2,     9.94, 2,     0.13, 2,     1.78, 2,  -999.00, 9,  -1.5885,     1.20, 2, 0.06, 2,  -999.00, 9,  -999.00, 9,   1.0420, 2, 0.184, 2, 0.170, 2, 4.944, 2
320620030705, SBI, 253, 1, 105, 5, 2, 20030809, 703, 72.7145, -158.9895, 155,     72.0,  -1.5674,  32.1659, 2, -999.0000, 9,    272.9, 2,    280.9, 2,    46.03, 2,    12.10, 2,     0.13, 2,     1.91, 2,  -999.00, 9,  -1.5687,     1.07, 2, 0.04, 2,  -999.00, 9,  -999.00, 9,   0.8660, 2, 0.176, 2, 0.147, 2, 4.946, 2
320620030705, SBI, 253, 1, 104, 4, 2, 20030809, 701, 72.7145, -158.9895, 155,     86.9,  -1.5820,  32.5804, 2, -999.0000, 9,    250.1, 2,    280.3, 2,    49.91, 2,    14.16, 2,     0.15, 2,     2.08, 2,  -999.00, 9,  -1.5836,     1.85, 2, 0.06, 2,  -999.00, 9,  -999.00, 9,   0.9520, 2, 0.180, 2, 0.140, 2, 4.944, 2
320620030705, SBI, 253, 1, 103, 3, 2, 20030809, 658, 72.7145, -158.9895, 155,    107.0,  -1.6786,  32.6182, 2, -999.0000, 9,    265.1, 2,    288.3, 2,    48.67, 2,    14.44, 2,     0.17, 2,     2.10, 2,  -999.00, 9,  -1.6805,     2.20, 2, 0.06, 2,     0.31, 2,     0.56, 2,   1.0430, 2, 0.188, 2, 0.138, 2, 4.939, 2
320620030705, SBI, 253, 1, 102, 2, 2, 20030809, 656, 72.7145, -158.9895, 155,    127.1,  -1.6593,  32.6242, 2, -999.0000, 9,    261.0, 2,    284.3, 2,    49.70, 2,    14.60, 2,     0.16, 2,     2.11, 2,  -999.00, 9,  -1.6616,     2.15, 2, 0.06, 2,  -999.00, 9,  -999.00, 9,   0.9410, 2, 0.188, 2, 0.138, 2, 4.942, 2
320620030705, SBI, 253, 1, 101, 1, 2, 20030809, 653, 72.7145, -158.9895, 155,    150.2,  -1.6010,  32.7401, 2,  32.6691, 2,    262.9, 2,    285.4, 2,    48.36, 2,    14.64, 2,     0.16, 2,     2.09, 2,    66.80, 2,  -1.6038,     2.15, 2, 0.07, 2,  -999.00, 9,  -999.00, 9,   0.9990, 2, 0.187, 2, 0.138, 2, 4.936, 2
320620030705, SBI, 254, 1, 114, 14, 2, 20030809, 859, 72.7581, -158.9111, 196,      2.3,  -0.9876,  28.8389, 2,  28.8332, 2,    356.4, 2,    385.0, 2,     6.13, 2,     0.09, 2,     0.00, 2,     0.70, 2,  -999.00, 9,  -0.9876,     0.00, 2, 0, 2,     0.28, 2,     0.07, 2,   1.1230, 2, 0.205, 2, 2.213, 2, 4.993, 2
320620030705, SBI, 254, 1, 113, 13, 2, 20030809, 856, 72.7581, -158.9111, 196,     12.2,  -1.0088,  29.0409, 2, -999.0000, 9,    358.2, 2,    399.3, 2,     8.93, 2,     0.09, 2,     0.00, 2,     0.79, 2,  -999.00, 9,  -1.0090,     0.01, 2, 0.01, 2,  -999.00, 9,  -999.00, 9,   1.2340, 2, 0.221, 2, 1.665, 2, 4.993, 2
320620030705, SBI, 254, 1, 110, 10, 2, 20030809, 853, 72.7581, -158.9111, 196,     24.3,  -1.4827,  30.9086, 2, -999.0000, 9,    367.9, 2,    386.1, 2,    17.38, 2,     1.81, 2,     0.05, 2,     1.08, 2,  -999.00, 9,  -1.4831,     0.25, 2, 0.04, 2,     3.86, 2,     0.09, 2,   2.5390, 2, 0.943, 2, 1.087, 2, 4.993, 2
320620030705, SBI, 254, 1, 111, 11, 2, 20030809, 853, 72.7581, -158.9111, 196,     24.3,  -1.4843,  30.9098, 2, -999.0000, 9,    366.5, 2,   -999.0, 9,  -999.00, 9,  -999.00, 9,  -999.00, 9,  -999.00, 9,  -999.00, 9,  -1.4847,  -999.00, 9, -999, 9,  -999.00, 9,  -999.00, 9,   2.5140, 2, 0.930, 2, 1.088, 2, 4.993, 2
320620030705, SBI, 254, 1, 112, 12, 2, 20030809, 853, 72.7581, -158.9111, 196,     24.3,  -1.4868,  30.9128, 2, -999.0000, 9,    365.2, 2,   -999.0, 9,  -999.00, 9,  -999.00, 9,  -999.00, 9,  -999.00, 9,  -999.00, 9,  -1.4872,  -999.00, 9, -999, 9,  -999.00, 9,  -999.00, 9,   2.4550, 2, 0.850, 2, 1.088, 2, 4.993, 2
320620030705, SBI, 254, 1, 109, 9, 2, 20030809, 849, 72.7581, -158.9111, 196,     42.2,  -1.6176,  31.5762, 2, -999.0000, 9,    304.2, 2,    329.8, 2,    31.86, 2,     6.98, 2,     0.13, 2,     1.54, 2,  -999.00, 9,  -1.6183,     1.44, 2, 0.07, 2,  -999.00, 9,  -999.00, 9,   1.2050, 2, 0.205, 2, 0.316, 2, 4.993, 2
320620030705, SBI, 254, 1, 108, 8, 2, 20030809, 846, 72.7581, -158.9111, 196,     52.5,  -1.5933,  31.7931, 2, -999.0000, 9,    315.1, 2,    340.7, 2,    28.59, 2,     6.61, 2,     0.19, 2,     1.48, 2,  -999.00, 9,  -1.5942,     1.30, 2, 0.07, 2,     0.29, 2,     0.17, 2,   1.1060, 2, 0.206, 2, 0.211, 2, 4.991, 2
320620030705, SBI, 254, 1, 107, 7, 2, 20030809, 844, 72.7581, -158.9111, 196,     72.4,  -1.5965,  32.5250, 2,  32.5274, 2,    251.0, 2,    272.7, 2,    51.02, 2,    13.95, 2,     0.13, 2,     2.11, 2,  -999.00, 9,  -1.5978,     1.62, 2, 0.06, 2,  -999.00, 9,  -999.00, 9,   0.9760, 2, 0.189, 2, 0.151, 2, 4.989, 2
320620030705, SBI, 254, 1, 106, 6, 2, 20030809, 842, 72.7581, -158.9111, 196,     92.6,  -1.5860,  32.5757, 2,  32.5762, 2,    251.8, 2,    274.1, 2,    50.60, 2,    14.05, 2,     0.14, 2,     2.13, 2,  -999.00, 9,  -1.5877,     1.64, 2, 0.07, 2,     0.24, 2,     0.51, 2,   0.9830, 2, 0.187, 2, 0.138, 2, 4.988, 2
320620030705, SBI, 254, 1, 105, 5, 2, 20030809, 840, 72.7581, -158.9111, 196,    112.7,  -1.5800,  32.6201, 2,  32.7714, 2,    255.5, 2,    277.4, 2,    45.47, 2,    13.64, 2,     0.13, 2,     2.02, 2,  -999.00, 9,  -1.5821,     1.27, 2, 0.05, 2,  -999.00, 9,  -999.00, 9,   0.9650, 2, 0.186, 2, 0.138, 2, 4.986, 2
320620030705, SBI, 254, 1, 104, 4, 2, 20030809, 838, 72.7581, -158.9111, 196,    132.8,  -1.2740,  33.2765, 2, -999.0000, 9,    262.6, 2,    281.0, 2,    34.31, 2,    13.11, 2,     0.11, 2,     1.72, 2,  -999.00, 9,  -1.2770,     0.23, 2, 0.04, 2,  -999.00, 9,  -999.00, 9,   0.8400, 2, 0.178, 2, 0.138, 2, 4.987, 2
320620030705, SBI, 254, 1, 103, 3, 2, 20030809, 836, 72.7581, -158.9111, 196,    153.0,  -1.0507,  33.4871, 2, -999.0000, 9,    257.2, 2,    278.5, 2,    31.86, 2,    13.15, 2,     0.12, 2,     1.66, 2,  -999.00, 9,  -1.0546,     0.17, 2, 0.04, 2,  -999.00, 9,  -999.00, 9,   0.7710, 2, 0.180, 2, 0.137, 2, 4.987, 2
320620030705, SBI, 254, 1, 102, 2, 2, 20030809, 834, 72.7581, -158.9111, 196,    173.0,  -0.7996,  33.9495, 2, -999.0000, 9,    260.4, 2,    280.5, 2,    26.45, 2,    13.28, 2,     0.08, 2,     1.50, 2,  -999.00, 9,  -0.8045,     0.03, 2, 0.04, 2,  -999.00, 9,  -999.00, 9,   0.7380, 2, 0.176, 2, 0.138, 2, 4.985, 2
320620030705, SBI, 254, 1, 101, 1, 2, 20030809, 832, 72.7581, -158.9111, 196,    187.5,  -0.8110,  34.1146, 2, -999.0000, 9,    261.6, 2,    280.9, 2,    25.42, 2,    13.35, 2,     0.07, 2,     1.47, 2,    61.40, 2,  -0.8164,     0.03, 2, 0.04, 2,  -999.00, 9,  -999.00, 9,   0.7660, 2, 0.174, 2, 0.139, 2, 4.984, 2