BOTTLE,20100423CCHDOSIODBK
EXPOCODE,SECT_ID,STNNBR,CASTNO,SAMPNO,BTLNBR,BTLNBR_FLAG_W,DATE,TIME,LATITUDE,LONGITUDE,DEPTH,CTDPRS,CTDTMP,CTDSAL,CTDSAL_FLAG_W,SALNTY,SALNTY_FLAG_W,CTDOXY,CTDOXY_FLAG_W,OXYGEN,OXYGEN_FLAG_W,SILCAT,SILCAT_FLAG_W,NITRAT,NITRAT_FLAG_W,NITRIT,NITRIT_FLAG_W,PHSPHT,PHSPHT_FLAG_W,DOC,DOC_FLAG_W,THETA,NH4,NH4_FLAG_W,UREA,UREA_FLAG_W,CHLORA,CHLORA_FLAG_W,PPHYTN,PPHYTN_FLAG_W,FLUOR,FLUOR_FLAG_W,HAARDT,HAARDT_FLAG_W,PAR,PAR_FLAG_W,SPAR,SPAR_FLAG_W
,,,,,,,,,,,METERS,DBAR,ITS-90,PSS-78,,PSS-78,,UMOL/KG,,UMOL/KG,,UMOL/KG,,UMOL/KG,,UMOL/KG,,UMOL/KG,,UMOL/KG,,DEG C,UMOL/KG,,UMOL/KG,,UG/KG,,UG/KG,,MG/M^3,,VOLTS,,VOLTS,,VOLTS,
320620030705, SBI, 62, 1, 111, 11, 2, 20030720, 238, 71.6660, -155.1737, 151,      1.8,   1.1916,  28.7436, 2,  30.2212, 2,    339.0, 2,    331.8, 2,     8.79, 2,     0.07, 2,     0.00, 2,     0.70, 2,  -999.00, 9,   1.1915,     0.33, 2, 0, 2,     0.28, 2,     0.07, 2,   0.6340, 2, 0.000, 2, 3.959, 2, 4.337, 2
320620030705, SBI, 62, 1, 110, 10, 2, 20030720, 236, 71.6660, -155.1737, 151,     18.2,   4.8518,  31.0050, 2, -999.0000, 9,    311.1, 2,    324.3, 2,     5.82, 2,     0.12, 2,     0.00, 2,     0.68, 2,  -999.00, 9,   4.8505,     0.60, 2, 0.02, 2,     0.24, 2,     0.08, 2,   1.0350, 2, 0.000, 2, 2.750, 2, 4.370, 2
320620030705, SBI, 62, 1, 109, 9, 2, 20030720, 234, 71.6660, -155.1737, 151,     28.1,   4.0421,  31.1486, 2, -999.0000, 9,    314.8, 2,    331.3, 2,     6.38, 2,     0.21, 2,     0.01, 2,     0.70, 2,  -999.00, 9,   4.0403,     0.83, 2, 0.15, 2,     0.23, 2,     0.10, 2,   0.9550, 2, 0.000, 2, 2.428, 2, 4.150, 2
320620030705, SBI, 62, 1, 108, 8, 2, 20030720, 232, 71.6660, -155.1737, 151,     43.2,   1.8344,  31.4369, 2, -999.0000, 9,    327.8, 2,    346.3, 2,     7.83, 2,     0.32, 2,     0.02, 2,     0.79, 2,  -999.00, 9,   1.8325,     1.12, 2, 0.18, 2,     0.33, 2,     0.17, 2,   1.0760, 2, 0.000, 2, 1.655, 2, 4.103, 2
320620030705, SBI, 62, 1, 107, 7, 2, 20030720, 231, 71.6660, -155.1737, 151,     63.2,   1.3072,  31.4925, 2, -999.0000, 9,    331.0, 2,    353.4, 2,     7.81, 2,     0.37, 2,     0.03, 2,     0.79, 2,  -999.00, 9,   1.3046,     1.10, 2, 0.15, 2,  -999.00, 9,  -999.00, 9,   1.1500, 2, 0.000, 2, 0.640, 2, 4.121, 2
320620030705, SBI, 62, 1, 106, 6, 2, 20030720, 229, 71.6660, -155.1737, 151,     83.2,   0.7148,  31.6408, 2, -999.0000, 9,    344.7, 2,    373.9, 2,     5.57, 2,     0.37, 2,     0.02, 2,     0.72, 2,  -999.00, 9,   0.7118,     0.84, 2, 0.19, 2,  -999.00, 9,  -999.00, 9,   1.1410, 2, 0.000, 2, 0.201, 2, 4.191, 2
320620030705, SBI, 62, 1, 105, 5, 2, 20030720, 227, 71.6660, -155.1737, 151,     98.3,   0.3940,  31.7756, 2, -999.0000, 9,    355.7, 2,    384.4, 2,     7.58, 2,     1.07, 2,     0.04, 2,     0.81, 2,  -999.00, 9,   0.3907,  -999.00, 5, -999, 5,  -999.00, 9,  -999.00, 9,   1.1270, 2, 0.000, 2, 0.159, 2, 4.198, 2
320620030705, SBI, 62, 1, 104, 4, 2, 20030720, 225, 71.6660, -155.1737, 151,    113.4,  -1.0513,  32.1341, 2, -999.0000, 9,    365.5, 2,    395.9, 2,    14.26, 2,     2.69, 2,     0.08, 2,     1.06, 2,  -999.00, 9,  -1.0538,     1.08, 2, 0.14, 2,  -999.00, 9,  -999.00, 9,   1.3340, 2, 0.000, 2, 0.149, 2, 4.065, 2
320620030705, SBI, 62, 1, 103, 3, 2, 20030720, 224, 71.6660, -155.1737, 151,    128.2,  -1.4282,  32.2474, 2, -999.0000, 9,    334.2, 2,    353.9, 2,    21.85, 2,     5.94, 2,     0.15, 2,     1.39, 2,  -999.00, 9,  -1.4307,     1.93, 2, 0.16, 2,     0.94, 2,     0.61, 2,   1.2660, 2, 0.000, 2, 0.148, 2, 4.041, 2
320620030705, SBI, 62, 1, 102, 2, 2, 20030720, 222, 71.6660, -155.1737, 151,    136.8,  -1.4885,  32.3349, 2, -999.0000, 9,    309.4, 2,    340.8, 2,    24.67, 2,     7.26, 2,     0.16, 2,     1.50, 2,  -999.00, 9,  -1.4911,     2.22, 2, 0.16, 2,  -999.00, 9,  -999.00, 9,   1.2720, 2, 0.000, 2, 0.149, 2, 4.171, 2
320620030705, SBI, 62, 1, 101, 1, 2, 20030720, 220, 71.6660, -155.1737, 151,    144.0,  -1.3917,  32.4743, 2,  32.4698, 2,    300.0, 2,    329.5, 2,    26.69, 2,     8.36, 2,     0.16, 2,     1.56, 2,    70.10, 2,  -1.3946,     2.37, 2, 0.15, 2,     0.93, 2,     0.81, 2,   1.3500, 2, 0.000, 2, 0.150, 2, 4.161, 2
320620030705, SBI, 63, 1, 113, 13, 2, 20030720, 406, 71.7035, -155.2559, 266,      1.9,   0.6655,  28.8650, 2,  28.8900, 2,    352.8, 2,    374.1, 2,    21.20, 2,     0.23, 2,     0.00, 2,     0.82, 2,  -999.00, 9,   0.6654,     0.20, 2, 0.01, 2,     0.24, 2,     0.05, 2,   0.8430, 2, 0.000, 2, 4.052, 2, 4.334, 2
320620030705, SBI, 63, 1, 112, 12, 2, 20030720, 404, 71.7035, -155.2559, 266,     14.7,   1.1247,  29.7025, 2, -999.0000, 9,    357.4, 2,    391.3, 2,    21.19, 2,     0.27, 2,     0.01, 2,     0.85, 2,  -999.00, 9,   1.1242,     0.23, 2, 0.03, 2,     1.04, 2,     0.09, 2,   0.9780, 2, 0.000, 2, 3.117, 2, 4.332, 2
320620030705, SBI, 63, 1, 111, 11, 2, 20030720, 403, 71.7035, -155.2559, 266,     27.5,  -0.4583,  31.2638, 2, -999.0000, 9,    370.9, 2,    395.9, 2,    16.88, 2,     0.73, 2,     0.03, 2,     0.91, 2,  -999.00, 9,  -0.4590,     0.43, 2, 0.07, 2,     2.00, 2,     0.14, 2,   1.6150, 2, 0.000, 2, 2.424, 2, 4.326, 2
320620030705, SBI, 63, 1, 110, 10, 2, 20030720, 401, 71.7035, -155.2559, 266,     43.3,   0.1188,  31.8358, 2, -999.0000, 9,    363.3, 2,    388.5, 2,     9.96, 2,     1.53, 2,     0.05, 2,     0.87, 2,  -999.00, 9,   0.1174,     0.78, 2, 0.11, 2,     0.76, 2,     0.26, 2,   1.1940, 2, 0.000, 2, 1.371, 2, 4.319, 2
320620030705, SBI, 63, 1, 109, 9, 2, 20030720, 359, 71.7035, -155.2559, 266,     63.3,  -0.6157,  31.9841, 2, -999.0000, 9,    358.6, 2,    387.3, 2,    14.85, 2,     2.77, 2,     0.09, 2,     1.06, 2,  -999.00, 9,  -0.6173,     1.04, 2, 0.11, 2,  -999.00, 9,  -999.00, 9,   1.1860, 2, 0.000, 2, 0.515, 2, 4.311, 2
320620030705, SBI, 63, 1, 108, 8, 2, 20030720, 357, 71.7035, -155.2559, 266,     78.4,  -1.2642,  32.1833, 2, -999.0000, 9,    360.7, 2,    378.2, 2,    17.08, 2,     3.59, 2,     0.12, 2,     1.18, 2,  -999.00, 9,  -1.2658,     1.29, 2, 0.13, 2,     1.09, 2,     0.54, 2,   1.2670, 2, 0.000, 2, 0.206, 2, 4.304, 2
320620030705, SBI, 63, 1, 107, 7, 2, 20030720, 354, 71.7035, -155.2559, 266,    103.3,  -1.4862,  32.2824, 2,  32.3095, 2,    336.5, 2,    353.0, 2,    22.27, 2,     6.48, 2,     0.18, 2,     1.46, 2,  -999.00, 9,  -1.4881,     2.14, 2, 0.15, 2,  -999.00, 9,  -999.00, 9,   1.3390, 2, 0.000, 2, 0.143, 2, 4.303, 2
320620030705, SBI, 63, 1, 106, 6, 2, 20030720, 352, 71.7035, -155.2559, 266,    128.2,  -1.6483,  32.4040, 2, -999.0000, 9,    286.7, 2,    302.5, 2,    33.16, 2,    10.48, 2,     0.20, 2,     1.81, 2,  -999.00, 9,  -1.6506,     2.94, 2, 0.14, 2,  -999.00, 9,  -999.00, 9,   1.2700, 2, 0.000, 2, 0.144, 2, 4.313, 2
320620030705, SBI, 63, 1, 105, 5, 2, 20030720, 350, 71.7035, -155.2559, 266,    152.8,  -1.3717,  33.0801, 2, -999.0000, 9,    270.3, 2,    293.5, 2,    30.80, 2,    11.85, 2,     0.10, 2,     1.63, 2,  -999.00, 9,  -1.3750,     0.93, 2, 0.07, 2,     0.52, 2,     0.30, 2,   1.0570, 2, 0.000, 2, 0.145, 2, 4.391, 2
320620030705, SBI, 63, 1, 104, 4, 2, 20030720, 348, 71.7035, -155.2559, 266,    171.6,  -0.7509,  34.2577, 2, -999.0000, 9,    268.1, 2,    289.1, 2,    22.43, 2,    12.96, 2,     0.07, 2,     1.35, 2,  -999.00, 9,  -0.7560,     0.08, 2, 0.08, 2,  -999.00, 9,  -999.00, 9,   0.9910, 2, 0.000, 2, 0.147, 2, 4.297, 2
320620030705, SBI, 63, 1, 103, 3, 2, 20030720, 346, 71.7035, -155.2559, 266,    191.0,   0.1268,  34.6846, 2, -999.0000, 9,    266.8, 2,    285.4, 2,    14.40, 2,    12.93, 2,     0.04, 2,     1.08, 2,  -999.00, 9,   0.1195,     0.00, 2, 0.05, 2,  -999.00, 9,  -999.00, 9,   0.7360, 2, 0.000, 2, 0.147, 2, 4.297, 2
320620030705, SBI, 63, 1, 102, 2, 2, 20030720, 344, 71.7035, -155.2559, 266,    218.4,   0.4763,  34.8136, 2,  34.8096, 2,    270.2, 2,    289.0, 2,    10.75, 2,    12.77, 2,     0.04, 2,     0.97, 2,  -999.00, 9,   0.4672,     0.06, 2, 0.06, 2,  -999.00, 9,  -999.00, 9,   0.8550, 2, 0.000, 2, 0.147, 2, 4.304, 2
320620030705, SBI, 63, 1, 101, 1, 2, 20030720, 340, 71.7035, -155.2559, 266,    260.6,   0.4063,  34.8453, 2,  34.8580, 2,    272.5, 2,    291.4, 2,     9.73, 2,    12.72, 2,     0.03, 2,     0.94, 2,  -999.00, 9,   0.3955,     0.16, 2, 0.05, 2,  -999.00, 9,  -999.00, 9,   1.0220, 2, 0.000, 2, 0.147, 2, 4.284, 2
320620030705, SBI, 64, 1, 115, 15, 2, 20030720, 602, 71.7460, -155.3380, 193,      1.9,  -0.3390,  27.2360, 2,  27.5898, 2,    357.5, 2,    381.8, 2,    13.49, 2,     0.19, 2,     0.01, 2,     0.77, 2,  -999.00, 9,  -0.3390,     0.21, 2, 0.01, 2,     0.55, 2,     0.14, 2,   1.1110, 2, 0.000, 2, 3.800, 2, 4.537, 2
320620030705, SBI, 64, 1, 114, 14, 2, 20030720, 601, 71.7460, -155.3380, 193,     12.8,  -0.3988,  29.7312, 2, -999.0000, 9,    362.6, 2,    395.6, 2,    22.21, 2,     0.28, 2,     0.01, 2,     0.90, 2,  -999.00, 9,  -0.3991,     0.26, 2, 0.04, 2,     0.72, 2,     0.15, 2,   1.2760, 2, 0.000, 2, 2.760, 2, 4.541, 2
320620030705, SBI, 64, 1, 111, 11, 2, 20030720, 559, 71.7460, -155.3380, 193,     26.8,  -1.3074,  31.1049, 2, -999.0000, 9,    358.8, 2,    376.4, 2,    32.36, 2,     1.85, 2,     0.06, 2,     1.31, 2,  -999.00, 9,  -1.3079,     0.35, 2, 0.08, 2,    12.94, 2,     0.24, 2,   2.3510, 2, 0.000, 2, 1.908, 2, 4.541, 2
320620030705, SBI, 64, 1, 112, 12, 2, 20030720, 559, 71.7460, -155.3380, 193,     27.4,  -1.2336,  31.0608, 2, -999.0000, 9,    357.7, 2,   -999.0, 9,  -999.00, 9,  -999.00, 9,  -999.00, 9,  -999.00, 9,  -999.00, 9,  -1.2341,  -999.00, 9, -999, 9,  -999.00, 9,  -999.00, 9,   2.2550, 2, 0.000, 2, 1.832, 2, 4.542, 2
320620030705, SBI, 64, 1, 113, 13, 2, 20030720, 559, 71.7460, -155.3380, 193,     27.8,  -1.2544,  31.0823, 2, -999.0000, 9,    370.6, 2,   -999.0, 9,  -999.00, 9,  -999.00, 9,  -999.00, 9,  -999.00, 9,  -999.00, 9,  -1.2549,  -999.00, 9, -999, 9,  -999.00, 9,  -999.00, 9,   2.3430, 2, 0.000, 2, 1.734, 2, 4.544, 2
320620030705, SBI, 64, 1, 110, 10, 2, 20030720, 557, 71.7460, -155.3380, 193,     39.4,  -1.5519,  31.4827, 2, -999.0000, 9,    359.2, 2,    387.4, 2,    22.17, 2,     1.91, 2,     0.05, 2,     1.21, 2,  -999.00, 9,  -1.5525,     0.81, 2, 0.09, 2,     4.06, 2,     0.45, 2,   1.7040, 2, 0.000, 2, 0.688, 2, 4.553, 2
320620030705, SBI, 64, 1, 109, 9, 2, 20030720, 555, 71.7460, -155.3380, 193,     53.4,  -1.3176,  31.8961, 2, -999.0000, 9,    348.7, 2,    381.3, 2,    20.64, 2,     3.22, 2,     0.08, 2,     1.22, 2,  -999.00, 9,  -1.3186,     1.12, 2, 0.1, 2,     2.72, 2,     0.52, 2,   1.7380, 2, 0.000, 2, 0.239, 2, 4.547, 2
320620030705, SBI, 64, 1, 108, 8, 2, 20030720, 553, 71.7460, -155.3380, 193,     74.4,  -1.3569,  32.2051, 2, -999.0000, 9,    351.6, 2,    367.9, 2,    20.62, 2,     5.12, 2,     0.14, 2,     1.34, 2,  -999.00, 9,  -1.3583,     1.75, 2, 0.14, 2,  -999.00, 9,  -999.00, 9,   1.3490, 2, 0.000, 2, 0.146, 2, 4.541, 2
320620030705, SBI, 64, 1, 107, 7, 2, 20030720, 551, 71.7460, -155.3380, 193,     89.5,  -1.5450,  32.3067, 2, -999.0000, 9,    313.1, 2,    332.9, 2,    25.40, 2,     7.95, 2,     0.20, 2,     1.60, 2,  -999.00, 9,  -1.5466,     2.51, 2, 0.16, 2,  -999.00, 9,  -999.00, 9,   1.3310, 2, 0.000, 2, 0.143, 2, 4.535, 2
320620030705, SBI, 64, 1, 106, 6, 2, 20030720, 550, 71.7460, -155.3380, 193,    104.4,  -1.6568,  32.4263, 2,  32.4287, 2,    280.8, 2,    303.1, 2,    33.84, 2,    10.38, 2,     0.22, 2,     1.81, 2,  -999.00, 9,  -1.6586,     2.90, 3, 0.15, 2,     0.96, 2,     0.73, 2,   1.3120, 2, 0.000, 2, 0.142, 2, 4.538, 2
320620030705, SBI, 64, 1, 105, 5, 2, 20030720, 548, 71.7460, -155.3380, 193,    119.4,  -1.6582,  32.5108, 2, -999.0000, 9,    265.8, 2,    287.0, 2,    38.51, 2,    10.40, 2,     0.20, 2,     1.85, 2,  -999.00, 9,  -1.6603,     1.93, 2, 0.1, 2,  -999.00, 9,  -999.00, 9,   1.1020, 2, 0.000, 2, 0.143, 2, 4.534, 2
320620030705, SBI, 64, 1, 104, 4, 2, 20030720, 546, 71.7460, -155.3380, 193,    139.5,  -1.5570,  32.7023, 2, -999.0000, 9,    258.6, 2,    288.5, 2,    31.58, 2,    11.91, 2,     0.12, 2,     1.65, 2,  -999.00, 9,  -1.5597,     1.12, 2, 0.09, 2,  -999.00, 9,  -999.00, 9,   1.1870, 2, 0.000, 2, 0.143, 2, 4.528, 2
320620030705, SBI, 64, 1, 103, 3, 2, 20030720, 544, 71.7460, -155.3380, 193,    159.5,  -1.1203,  33.9678, 2, -999.0000, 9,    270.8, 2,    293.2, 2,    26.46, 2,    13.25, 2,     0.06, 2,     1.50, 2,  -999.00, 9,  -1.1244,     0.11, 2, 0.03, 2,     0.20, 2,     0.19, 2,   0.8750, 2, 0.000, 2, 0.142, 2, 4.527, 2
320620030705, SBI, 64, 1, 102, 2, 2, 20030720, 543, 71.7460, -155.3380, 193,    174.6,  -0.7201,  34.3316, 2, -999.0000, 9,    267.3, 2,    288.1, 2,    22.19, 2,    13.16, 2,     0.05, 2,     1.34, 2,  -999.00, 9,  -0.7253,     0.09, 2, 0.06, 2,  -999.00, 9,  -999.00, 9,   0.9270, 2, 0.000, 2, 0.143, 2, 4.538, 2
320620030705, SBI, 64, 1, 101, 1, 2, 20030720, 539, 71.7460, -155.3380, 193,    189.2,  -0.5072,  34.4570, 2,  34.3305, 0,    266.1, 2,    289.0, 0,    21.78, 2,    13.15, 2,     0.05, 2,     1.33, 2,    58.40, 2,  -0.5133,     0.06, 2, 0.04, 2,  -999.00, 9,  -999.00, 9,   0.8960, 2, 0.000, 2, 0.142, 2, 4.584, 2
320620030705, SBI, 65, 1, 110, 10, 2, 20030720, 745, 71.7855, -155.4506, 139,      1.8,  -0.2089,  28.6292, 2,   7.3050, 2,    363.5, 2,    395.3, 2,     2.57, 2,     0.04, 2,     0.00, 2,     0.11, 2,  -999.00, 9,  -0.2089,     0.01, 2, 0, 2,     0.36, 2,     0.11, 2,   0.8360, 2, 0.000, 2, 3.545, 2, 4.860, 2
320620030705, SBI, 65, 1, 109, 9, 2, 20030720, 744, 71.7855, -155.4506, 139,     18.8,  -0.3898,  30.8108, 2, -999.0000, 9,    355.8, 2,    381.3, 2,    20.24, 2,     1.02, 2,     0.05, 2,     1.02, 2,  -999.00, 9,  -0.3903,     0.73, 2, 0.09, 2,     1.24, 2,     0.19, 2,   1.2410, 2, 0.000, 2, 2.345, 2, 4.673, 2
320620030705, SBI, 65, 1, 108, 8, 2, 20030720, 743, 71.7855, -155.4506, 139,     33.0,  -0.3676,  31.6543, 2, -999.0000, 9,    345.1, 2,    358.9, 2,    21.35, 2,     3.60, 2,     0.15, 2,     1.27, 2,  -999.00, 9,  -0.3685,     1.61, 2, 0.18, 2,     2.56, 2,     0.41, 2,   2.3290, 2, 0.000, 2, 1.232, 2, 4.675, 2
320620030705, SBI, 65, 1, 107, 7, 2, 20030720, 741, 71.7855, -155.4506, 139,     42.8,  -1.0019,  31.8112, 2, -999.0000, 9,    329.5, 2,    355.7, 2,    21.85, 2,     4.43, 2,     0.16, 2,     1.29, 2,  -999.00, 9,  -1.0028,     1.63, 2, 0.12, 2,     0.32, 2,     0.26, 2,   1.0960, 2, 0.000, 2, 0.646, 2, 4.668, 2
320620030705, SBI, 65, 1, 106, 6, 2, 20030720, 740, 71.7855, -155.4506, 139,     63.0,  -0.5140,  32.0105, 2, -999.0000, 9,    328.8, 2,    350.1, 2,    21.34, 2,     4.87, 2,     0.14, 2,     1.31, 2,  -999.00, 9,  -0.5157,     1.51, 2, 0.11, 2,     0.12, 2,     0.24, 2,   0.8930, 2, 0.000, 2, 0.239, 2, 4.855, 2
320620030705, SBI, 65, 1, 105, 5, 2, 20030720, 738, 71.7855, -155.4506, 139,     77.7,  -1.0747,  32.1251, 2, -999.0000, 9,    319.3, 2,    341.7, 2,    24.49, 2,     5.95, 2,     0.16, 2,     1.39, 2,  -999.00, 9,  -1.0764,     1.59, 2, 0.07, 2,  -999.00, 9,  -999.00, 9,   0.8620, 2, 0.000, 2, 0.166, 2, 4.653, 2
320620030705, SBI, 65, 1, 104, 4, 2, 20030720, 737, 71.7855, -155.4506, 139,     92.8,  -1.1396,  32.3251, 2, -999.0000, 9,    312.3, 2,    334.9, 2,    24.89, 2,     6.11, 2,     0.15, 2,     1.41, 2,  -999.00, 9,  -1.1416,     1.81, 2, 0.07, 2,     0.08, 2,     0.22, 2,   1.0360, 2, 0.000, 2, 0.148, 2, 4.732, 2
320620030705, SBI, 65, 1, 103, 3, 2, 20030720, 735, 71.7855, -155.4506, 139,    113.0,  -1.0571,  32.4842, 2, -999.0000, 9,    304.6, 2,    321.0, 2,    26.21, 2,     7.23, 2,     0.14, 2,     1.51, 2,  -999.00, 9,  -1.0597,     1.93, 2, 0.09, 2,  -999.00, 9,  -999.00, 9,   0.8350, 2, 0.000, 2, 0.143, 2, 4.693, 2
320620030705, SBI, 65, 1, 102, 2, 2, 20030720, 734, 71.7855, -155.4506, 139,    123.0,  -1.2202,  32.5466, 2, -999.0000, 9,    296.4, 2,    315.1, 2,    27.32, 2,     8.22, 2,     0.13, 2,     1.56, 2,  -999.00, 9,  -1.2229,     1.67, 2, 0.09, 2,  -999.00, 9,  -999.00, 9,   0.9850, 2, 0.000, 2, 0.143, 2, 4.638, 2
320620030705, SBI, 65, 1, 101, 1, 2, 20030720, 733, 71.7855, -155.4506, 139,    132.9,  -1.3441,  32.9200, 2,  32.6367, 2,    281.4, 2,    313.8, 2,    27.53, 2,     8.27, 2,     0.14, 2,     1.56, 2,    75.90, 2,  -1.3469,     1.70, 2, 0.1, 2,  -999.00, 9,  -999.00, 9,   0.8510, 2, 0.000, 2, 0.143, 2, 4.636, 2
320620030705, SBI, 66, 1, 109, 9, 2, 20030720, 914, 71.8217, -155.5779, 124,      2.4,  -0.8737,  28.4249, 2,  28.6563, 2,    356.3, 2,    387.3, 2,     8.53, 2,     0.12, 2,     0.00, 2,     0.74, 2,  -999.00, 9,  -0.8737,     0.09, 2, 0, 2,     0.26, 2,     0.12, 2,   1.0050, 2, 0.000, 2, 3.157, 2, 4.828, 2
320620030705, SBI, 66, 1, 108, 8, 2, 20030720, 912, 71.8217, -155.5779, 124,     17.9,  -0.0370,  30.4491, 2, -999.0000, 9,    368.3, 2,    399.7, 2,    16.84, 2,     0.25, 2,     0.03, 2,     0.92, 2,  -999.00, 9,  -0.0375,     0.16, 2, 0.03, 2,     1.57, 2,     0.26, 2,   0.9940, 2, 0.000, 2, 2.123, 2, 4.823, 2
320620030705, SBI, 66, 1, 107, 7, 2, 20030720, 909, 71.8217, -155.5779, 124,     33.0,  -0.1633,  31.5388, 2, -999.0000, 9,    371.5, 2,    385.7, 2,    20.39, 2,     1.31, 2,     0.05, 2,     1.14, 2,  -999.00, 9,  -0.1642,     0.71, 2, 0.11, 2,     4.76, 2,     0.54, 2,   2.1130, 2, 0.000, 2, 1.092, 2, 4.815, 2
320620030705, SBI, 66, 1, 106, 6, 2, 20030720, 906, 71.8217, -155.5779, 124,     43.0,  -0.7346,  31.8035, 2, -999.0000, 9,    331.2, 2,    356.2, 2,    22.01, 2,     4.25, 2,     0.15, 2,     1.30, 2,  -999.00, 9,  -0.7356,     1.59, 2, 0.14, 2,     0.49, 2,     0.18, 2,   1.1580, 2, 0.000, 2, 0.435, 2, 4.897, 2
320620030705, SBI, 66, 1, 105, 5, 2, 20030720, 905, 71.8217, -155.5779, 124,     58.0,  -1.0087,  31.9821, 2, -999.0000, 9,    327.2, 2,    353.8, 2,    23.42, 2,     5.02, 2,     0.17, 2,     1.33, 2,  -999.00, 9,  -1.0100,     1.55, 2, 0.1, 2,  -999.00, 9,  -999.00, 9,   0.9350, 2, 0.000, 2, 0.228, 2, 4.805, 2
320620030705, SBI, 66, 1, 104, 4, 2, 20030720, 903, 71.8217, -155.5779, 124,     72.8,  -0.7539,  32.1452, 2, -999.0000, 9,    322.4, 2,    346.7, 2,    21.58, 2,     4.95, 2,     0.14, 2,     1.32, 2,  -999.00, 9,  -0.7557,     1.75, 2, 0.13, 2,     0.08, 2,     0.23, 2,   0.8790, 2, 0.000, 2, 0.162, 2, 4.802, 2
320620030705, SBI, 66, 1, 103, 3, 2, 20030720, 901, 71.8217, -155.5779, 124,     88.2,  -1.0220,  32.3551, 2, -999.0000, 9,    311.0, 2,    334.9, 2,    23.91, 2,     6.06, 2,     0.14, 2,     1.40, 2,  -999.00, 9,  -1.0240,     1.94, 2, 0.13, 2,  -999.00, 9,  -999.00, 9,   0.8380, 2, 0.000, 2, 0.147, 2, 4.795, 2
320620030705, SBI, 66, 1, 102, 2, 2, 20030720, 858, 71.8217, -155.5779, 124,    102.8,  -1.0920,  32.4916, 2, -999.0000, 9,    302.3, 2,    322.4, 2,    25.84, 2,     7.31, 2,     0.14, 2,     1.50, 2,  -999.00, 9,  -1.0943,     1.87, 2, 0.11, 2,     0.09, 2,     0.24, 2,   0.8870, 2, 0.000, 2, 0.143, 2, 4.790, 2
320620030705, SBI, 66, 1, 101, 1, 2, 20030720, 856, 71.8217, -155.5779, 124,    120.3,  -1.3769,  32.8382, 2,  32.8058, 2,    282.0, 2,    307.5, 2,    28.68, 2,     9.84, 2,     0.12, 2,     1.60, 2,    67.80, 2,  -1.3794,     1.37, 2, 0.1, 2,  -999.00, 9,  -999.00, 9,   0.9020, 2, 0.000, 2, 0.144, 2, 4.787, 2