BOTTLE,20100423CCHDOSIODBK
EXPOCODE,SECT_ID,STNNBR,CASTNO,SAMPNO,BTLNBR,BTLNBR_FLAG_W,DATE,TIME,LATITUDE,LONGITUDE,DEPTH,CTDPRS,CTDTMP,CTDSAL,CTDSAL_FLAG_W,SALNTY,SALNTY_FLAG_W,CTDOXY,CTDOXY_FLAG_W,OXYGEN,OXYGEN_FLAG_W,SILCAT,SILCAT_FLAG_W,NITRAT,NITRAT_FLAG_W,NITRIT,NITRIT_FLAG_W,PHSPHT,PHSPHT_FLAG_W,DOC,DOC_FLAG_W,THETA,NH4,NH4_FLAG_W,UREA,UREA_FLAG_W,CHLORA,CHLORA_FLAG_W,PPHYTN,PPHYTN_FLAG_W,FLUOR,FLUOR_FLAG_W,HAARDT,HAARDT_FLAG_W,PAR,PAR_FLAG_W,SPAR,SPAR_FLAG_W
,,,,,,,,,,,METERS,DBAR,ITS-90,PSS-78,,PSS-78,,UMOL/KG,,UMOL/KG,,UMOL/KG,,UMOL/KG,,UMOL/KG,,UMOL/KG,,UMOL/KG,,DEG C,UMOL/KG,,UMOL/KG,,UG/KG,,UG/KG,,MG/M^3,,VOLTS,,VOLTS,,VOLTS,
320620030705, SBI, 41, 1, 124, 24, 2, 20030716, 1925, 72.2418, -151.5906, 3080,      2.4,  -1.0893,  28.8019, 2,  28.7281, 2,    367.8, 2,    399.9, 2,     2.97, 2,     0.09, 2,     0.00, 2,     0.68, 2,    70.70, 2,  -1.0893,     0.01, 2, 0, 2,     0.04, 2,     0.02, 2,   0.5150, 2, -999.000, 2, -999.000, 9, 4.345, 2
320620030705, SBI, 41, 1, 123, 23, 2, 20030716, 1923, 72.2418, -151.5906, 3080,     24.2,  -1.3711,  30.2445, 2, -999.0000, 9,    371.9, 2,    405.9, 2,     3.98, 2,     0.13, 2,     0.02, 2,     0.76, 2,    72.90, 2,  -1.3715,     0.01, 2, 0.01, 2,     0.15, 2,     0.16, 2,   0.9190, 2, -999.000, 2, -999.000, 9, 4.376, 2
320620030705, SBI, 41, 1, 122, 22, 2, 20030716, 1921, 72.2418, -151.5906, 3080,     39.2,  -1.4664,  30.8092, 2, -999.0000, 9,    364.6, 2,    396.3, 2,     6.03, 2,     0.86, 2,     0.10, 2,     0.85, 2,    72.00, 2,  -1.4670,     0.03, 2, 0.02, 2,     0.35, 2,     0.37, 2,   1.2070, 2, -999.000, 2, -999.000, 9, 4.403, 2
320620030705, SBI, 41, 1, 121, 21, 2, 20030716, 1918, 72.2418, -151.5906, 3080,     54.3,  -1.0488,  31.7921, 2, -999.0000, 9,    318.3, 2,    346.4, 2,    12.97, 2,     5.71, 2,     0.06, 2,     1.20, 2,    68.30, 2,  -1.0499,     0.00, 2, 0.02, 2,     0.21, 2,     0.16, 2,   1.2450, 2, -999.000, 2, -999.000, 9, 4.354, 2
320620030705, SBI, 41, 1, 120, 20, 2, 20030716, 1916, 72.2418, -151.5906, 3080,     80.2,  -1.4669,  32.3849, 2, -999.0000, 9,    285.4, 2,    309.5, 2,    23.29, 2,    10.83, 2,     0.01, 2,     1.56, 2,    66.30, 2,  -1.4684,     0.00, 2, 0.02, 2,     0.04, 2,     0.08, 2,   0.6760, 2, -999.000, 2, -999.000, 9, 4.437, 2
320620030705, SBI, 41, 1, 119, 19, 2, 20030716, 1913, 72.2418, -151.5906, 3080,     95.9,  -1.4728,  32.5978, 2, -999.0000, 9,    271.5, 2,    299.0, 2,    26.67, 2,    12.40, 2,     0.01, 2,     1.65, 2,    65.50, 2,  -1.4747,     0.00, 2, 0.02, 2,  -999.00, 9,  -999.00, 9,   0.6320, 2, -999.000, 2, -999.000, 9, 4.490, 2
320620030705, SBI, 41, 1, 118, 18, 2, 20030716, 1911, 72.2418, -151.5906, 3080,    116.2,  -1.5468,  32.8058, 2, -999.0000, 9,    268.4, 2,    294.9, 2,    30.04, 2,    13.45, 2,     0.01, 2,     1.70, 2,  -999.00, 9,  -1.5490,     0.00, 2, 0.02, 2,  -999.00, 9,  -999.00, 9,   0.7340, 2, -999.000, 2, -999.000, 9, 4.462, 2
320620030705, SBI, 41, 1, 117, 17, 2, 20030716, 1908, 72.2418, -151.5906, 3080,    131.3,  -1.5556,  32.9561, 2,  33.0229, 2,    265.7, 2,    292.8, 2,    31.67, 2,    14.07, 2,     0.01, 2,     1.72, 2,    60.10, 2,  -1.5582,     0.00, 2, 0.02, 2,  -999.00, 9,  -999.00, 9,   0.7950, 2, -999.000, 2, -999.000, 9, 4.476, 2
320620030705, SBI, 41, 1, 116, 16, 2, 20030716, 1906, 72.2418, -151.5906, 3080,    146.2,  -1.5569,  33.1041, 2, -999.0000, 9,    265.6, 2,    292.7, 2,    31.76, 2,    14.13, 2,     0.01, 2,     1.72, 2,    61.40, 2,  -1.5598,     0.00, 2, 0.03, 2,  -999.00, 9,  -999.00, 9,   0.8560, 2, -999.000, 2, -999.000, 9, 4.429, 2
320620030705, SBI, 41, 1, 115, 15, 2, 20030716, 1903, 72.2418, -151.5906, 3080,    161.2,  -1.4830,  33.3048, 2, -999.0000, 9,    260.8, 2,    288.4, 2,    32.06, 2,    14.28, 2,     0.01, 2,     1.69, 2,    60.60, 2,  -1.4864,     0.00, 2, 0.02, 2,     0.02, 2,     0.05, 2,   0.6140, 2, -999.000, 2, -999.000, 9, 4.332, 2
320620030705, SBI, 41, 1, 114, 14, 2, 20030716, 1901, 72.2418, -151.5906, 3080,    176.4,  -1.3754,  33.5651, 2, -999.0000, 9,    259.3, 2,    285.4, 2,    30.10, 2,    14.33, 2,     0.01, 2,     1.60, 2,  -999.00, 9,  -1.3794,     0.00, 2, 0.03, 2,  -999.00, 9,  -999.00, 9,   0.7080, 2, -999.000, 2, -999.000, 9, 4.308, 2
320620030705, SBI, 41, 1, 113, 13, 2, 20030716, 1858, 72.2418, -151.5906, 3080,    196.5,  -1.2411,  33.9537, 2, -999.0000, 9,    265.8, 2,    287.0, 2,    26.81, 2,    13.91, 2,     0.01, 2,     1.49, 2,    61.60, 2,  -1.2460,     0.00, 2, 0.02, 2,  -999.00, 9,  -999.00, 9,   0.5510, 2, -999.000, 2, -999.000, 9, 4.352, 2
320620030705, SBI, 41, 1, 112, 12, 2, 20030716, 1856, 72.2418, -151.5906, 3080,    216.5,  -0.7433,  34.2743, 2, -999.0000, 9,    255.5, 2,    279.9, 2,    21.98, 2,    13.90, 2,     0.01, 2,     1.33, 2,    55.30, 2,  -0.7498,     0.00, 2, 0.02, 2,  -999.00, 9,  -999.00, 9,   0.5770, 2, -999.000, 2, -999.000, 9, 4.330, 2
320620030705, SBI, 41, 1, 111, 11, 2, 20030716, 1853, 72.2418, -151.5906, 3080,    241.6,  -0.3628,  34.4883, 2, -999.0000, 9,    255.2, 2,    278.5, 2,    16.65, 2,    13.33, 2,     0.00, 2,     1.13, 2,    55.80, 2,  -0.3710,     0.00, 2, 0.02, 2,  -999.00, 9,  -999.00, 9,   0.5910, 2, -999.000, 2, -999.000, 9, 4.311, 2
320620030705, SBI, 41, 1, 110, 10, 2, 20030716, 1849, 72.2418, -151.5906, 3080,    327.1,   0.6206,  34.7744, 2,  34.7742, 2,    266.8, 2,    288.7, 2,     7.84, 2,    12.75, 2,     0.00, 2,     0.90, 2,  -999.00, 9,   0.6063,     0.00, 2, 0.01, 2,  -999.00, 9,  -999.00, 9,   0.4820, 2, -999.000, 2, -999.000, 9, 4.482, 2
320620030705, SBI, 41, 1, 109, 9, 2, 20030716, 1844, 72.2418, -151.5906, 3080,    456.8,   0.6366,  34.8357, 2,  34.8381, 2,    271.6, 2,    294.8, 2,     7.01, 2,    12.75, 2,     0.00, 2,     0.88, 2,  -999.00, 9,   0.6161,     0.00, 2, 0.01, 2,  -999.00, 9,  -999.00, 9,   0.5410, 2, -999.000, 2, -999.000, 9, 4.387, 2
320620030705, SBI, 41, 1, 108, 8, 2, 20030716, 1839, 72.2418, -151.5906, 3080,    607.1,   0.4278,  34.8545, 2,  34.8554, 2,    272.2, 2,    296.5, 2,     7.20, 2,    12.60, 2,     0.00, 2,     0.88, 2,  -999.00, 9,   0.4007,     0.00, 2, 0.01, 2,  -999.00, 9,  -999.00, 9,   0.5740, 2, -999.000, 2, -999.000, 9, 4.313, 2
320620030705, SBI, 41, 1, 107, 7, 2, 20030716, 1831, 72.2418, -151.5906, 3080,    897.9,   0.0656,  34.8744, 2,  34.8749, 2,    273.5, 2,    300.9, 2,     7.19, 2,    12.70, 2,     0.00, 2,     0.89, 2,  -999.00, 9,   0.0259,     0.00, 2, 0.01, 2,  -999.00, 9,  -999.00, 9,   0.6960, 2, -999.000, 2, -999.000, 9, 4.406, 2
320620030705, SBI, 41, 1, 106, 6, 2, 20030716, 1822, 72.2418, -151.5906, 3080,   1198.3,  -0.1808,  34.8962, 2,  34.8971, 2,    271.7, 2,    299.6, 2,     8.00, 2,    13.07, 2,     0.00, 2,     0.91, 2,  -999.00, 9,  -0.2346,     0.00, 2, 0.01, 2,  -999.00, 9,  -999.00, 9,   0.5600, 2, -999.000, 2, -999.000, 9, 4.533, 2
320620030705, SBI, 41, 1, 105, 5, 2, 20030716, 1814, 72.2418, -151.5906, 3080,   1495.5,  -0.3288,  34.9165, 2,  34.9144, 2,    269.1, 2,    298.0, 2,     9.02, 2,    13.58, 2,     0.00, 2,     0.95, 2,  -999.00, 9,  -0.3981,     0.00, 2, 0.02, 2,  -999.00, 9,  -999.00, 9,   0.5950, 2, -999.000, 2, -999.000, 9, 4.537, 2
320620030705, SBI, 41, 1, 104, 4, 2, 20030716, 1801, 72.2418, -151.5906, 3080,   1986.5,  -0.4103,  34.9436, 2,  34.9404, 2,    261.1, 2,    290.4, 2,    11.68, 2,    14.37, 2,     0.00, 2,     1.01, 2,  -999.00, 9,  -0.5096,     0.00, 2, 0.01, 2,  -999.00, 9,  -999.00, 9,   0.4640, 2, -999.000, 2, -999.000, 9, 4.528, 2
320620030705, SBI, 41, 1, 103, 3, 2, 20030716, 1748, 72.2418, -151.5906, 3080,   2495.6,  -0.3790,  34.9531, 2,  34.9524, 2,    256.8, 2,    290.9, 2,    13.00, 2,    14.68, 2,     0.00, 2,     1.04, 2,  -999.00, 9,  -0.5152,     0.00, 2, 0, 2,  -999.00, 9,  -999.00, 9,   0.4170, 2, -999.000, 2, -999.000, 9, 4.468, 2
320620030705, SBI, 41, 1, 102, 2, 2, 20030716, 1737, 72.2418, -151.5906, 3080,   2899.4,  -0.3430,  34.9567, 2,  34.9549, 2,    254.1, 2,   -999.0, 9,    14.01, 2,    14.74, 2,     0.00, 2,     1.05, 2,  -999.00, 9,  -0.5118,     0.00, 2, 0, 2,  -999.00, 9,  -999.00, 9,   0.4360, 2, -999.000, 2, -999.000, 9, 4.347, 2
320620030705, SBI, 41, 1, 101, 1, 2, 20030716, 1731, 72.2418, -151.5906, 3080,   3119.9,  -0.3232,  34.9572, 2,  34.9551, 2,    253.9, 2,    282.9, 2,    14.41, 2,    14.79, 2,     0.00, 2,     1.05, 2,  -999.00, 9,  -0.5109,     0.00, 2, 0, 2,  -999.00, 9,  -999.00, 9,   0.4510, 2, -999.000, 2, -999.000, 9, 4.444, 2
320620030705, SBI, 42, 1, 124, 24, 2, 20030716, 2353, 72.1694, -151.6125, 2989,      1.7,  -1.1489,  28.6402, 2,  10.3432, 2,    374.8, 2,    412.7, 2,     0.83, 2,     0.09, 2,     0.00, 2,     0.17, 2,  -999.00, 9,  -1.1489,     0.02, 2, 0, 2,     0.18, 2,     0.07, 2,   0.7260, 2, -999.000, 2, -999.000, 9, 4.337, 2
320620030705, SBI, 42, 1, 123, 23, 2, 20030716, 2352, 72.1694, -151.6125, 2989,     23.5,  -1.2656,  30.0873, 2, -999.0000, 9,    371.5, 2,    408.5, 2,     3.84, 2,     0.03, 2,     0.00, 2,     0.74, 2,    73.20, 2,  -1.2660,     0.04, 2, 0, 2,     0.18, 2,     0.16, 2,   0.8590, 2, -999.000, 2, -999.000, 9, 4.325, 2
320620030705, SBI, 42, 1, 122, 22, 2, 20030716, 2350, 72.1694, -151.6125, 2989,     41.5,  -1.3726,  30.8004, 2, -999.0000, 9,    365.7, 2,   -999.0, 9,  -999.00, 9,  -999.00, 9,  -999.00, 9,  -999.00, 9,  -999.00, 9,  -1.3733,  -999.00, 9, -999, 9,  -999.00, 9,  -999.00, 9,   1.2940, 2, -999.000, 2, -999.000, 9, 4.309, 2
320620030705, SBI, 42, 1, 121, 21, 2, 20030716, 2350, 72.1694, -151.6125, 2989,     41.5,  -1.3739,  30.8045, 2, -999.0000, 9,    365.3, 2,    386.5, 2,     8.28, 2,     1.84, 2,     0.09, 2,     0.96, 2,    72.10, 2,  -1.3746,     0.27, 2, 0.08, 2,     0.54, 2,     0.60, 2,   1.3090, 2, -999.000, 2, -999.000, 9, 4.304, 2
320620030705, SBI, 42, 1, 120, 20, 2, 20030716, 2348, 72.1694, -151.6125, 2989,     56.6,  -1.2639,  31.5736, 2, -999.0000, 9,    331.6, 2,    362.2, 2,    11.81, 2,     4.16, 2,     0.08, 2,     1.13, 2,    70.30, 2,  -1.2650,     0.20, 2, 0.02, 2,     0.20, 2,     0.22, 2,   1.0780, 2, -999.000, 2, -999.000, 9, 4.276, 2
320620030705, SBI, 42, 1, 119, 19, 2, 20030716, 2347, 72.1694, -151.6125, 2989,     71.7,  -1.3380,  32.1069, 2, -999.0000, 9,    301.3, 2,    330.9, 2,    17.97, 2,     8.13, 2,     0.04, 2,     1.39, 2,    67.00, 2,  -1.3394,     0.03, 2, 0, 2,  -999.00, 9,  -999.00, 9,   0.7080, 2, -999.000, 2, -999.000, 9, 4.194, 2
320620030705, SBI, 42, 1, 118, 18, 2, 20030716, 2345, 72.1694, -151.6125, 2989,     89.3,  -1.4146,  32.3371, 2, -999.0000, 9,    287.2, 2,    313.6, 2,    22.11, 2,    10.29, 2,     0.02, 2,     1.54, 2,  -999.00, 9,  -1.4163,     0.03, 2, 0, 2,  -999.00, 9,  -999.00, 9,   0.7090, 2, -999.000, 2, -999.000, 9, 4.153, 2
320620030705, SBI, 42, 1, 117, 17, 2, 20030716, 2343, 72.1694, -151.6125, 2989,    104.5,  -1.4820,  32.5689, 2, -999.0000, 9,    275.3, 2,    302.5, 2,    26.05, 2,    12.01, 2,     0.01, 2,     1.63, 2,    64.80, 2,  -1.4840,     0.03, 2, 0, 2,  -999.00, 9,  -999.00, 9,   0.6490, 2, -999.000, 2, -999.000, 9, 4.131, 2
320620030705, SBI, 42, 1, 116, 16, 2, 20030716, 2342, 72.1694, -151.6125, 2989,    119.4,  -1.5349,  32.7940, 2, -999.0000, 9,    274.2, 2,    302.5, 2,    28.37, 2,    12.09, 2,     0.04, 2,     1.64, 2,    63.40, 2,  -1.5372,     0.13, 2, 0.01, 2,     0.02, 2,     0.05, 2,   0.6950, 2, -999.000, 2, -999.000, 9, 4.075, 2
320620030705, SBI, 42, 1, 115, 15, 2, 20030716, 2340, 72.1694, -151.6125, 2989,    134.5,  -1.5554,  33.0611, 2, -999.0000, 9,    265.6, 2,    294.8, 2,    31.30, 2,    13.77, 2,     0.01, 2,     1.70, 2,    59.60, 2,  -1.5581,     0.02, 2, 0.02, 2,  -999.00, 9,  -999.00, 9,   0.6510, 2, -999.000, 2, -999.000, 9, 3.903, 2
320620030705, SBI, 42, 1, 114, 14, 2, 20030716, 2338, 72.1694, -151.6125, 2989,    154.6,  -1.3988,  33.4308, 2, -999.0000, 9,    258.7, 2,    286.2, 2,    30.96, 2,    14.34, 2,     0.01, 2,     1.66, 2,    62.20, 2,  -1.4022,     0.01, 2, 0.01, 2,     0.02, 2,     0.03, 2,   0.5850, 2, -999.000, 2, -999.000, 9, 3.554, 2
320620030705, SBI, 42, 1, 113, 13, 2, 20030716, 2337, 72.1694, -151.6125, 2989,    174.6,  -1.3237,  33.8360, 2, -999.0000, 9,    267.3, 2,    288.8, 2,    27.79, 2,    13.77, 2,     0.01, 2,     1.54, 2,    61.40, 2,  -1.3279,     0.01, 2, 0.02, 2,  -999.00, 9,  -999.00, 9,   0.6890, 2, -999.000, 2, -999.000, 9, 3.668, 2
320620030705, SBI, 42, 1, 112, 12, 2, 20030716, 2335, 72.1694, -151.6125, 2989,    194.8,  -0.8862,  34.1642, 2, -999.0000, 9,    254.9, 2,    280.6, 2,    22.69, 2,    13.98, 2,     0.00, 2,     1.36, 2,    55.50, 2,  -0.8917,     0.01, 2, 0.01, 2,  -999.00, 9,  -999.00, 9,   0.7020, 2, -999.000, 2, -999.000, 9, 3.611, 2
320620030705, SBI, 42, 1, 111, 11, 2, 20030716, 2334, 72.1694, -151.6125, 2989,    214.8,  -0.6199,  34.3756, 2,  34.3682, 2,    258.1, 2,    283.6, 2,    20.03, 2,    13.51, 2,     0.00, 2,     1.27, 2,  -999.00, 9,  -0.6266,     0.01, 2, 0.01, 2,  -999.00, 9,  -999.00, 9,   0.5370, 2, -999.000, 2, -999.000, 9, 3.510, 2
320620030705, SBI, 42, 1, 110, 10, 2, 20030716, 2332, 72.1694, -151.6125, 2989,    234.8,  -0.1669,  34.5391, 2,  34.5765, 2,    251.7, 2,    274.6, 2,    14.74, 2,    13.51, 2,     0.00, 2,     1.09, 2,    53.10, 2,  -0.1753,     0.01, 2, 0.01, 2,  -999.00, 9,  -999.00, 9,   0.6260, 2, -999.000, 2, -999.000, 9, 3.545, 2
320620030705, SBI, 42, 1, 109, 9, 2, 20030716, 2329, 72.1694, -151.6125, 2989,    335.3,   0.5298,  34.7757, 2,  34.7762, 2,    262.4, 2,    284.4, 2,     9.75, 2,    13.04, 2,     0.00, 2,     0.96, 2,  -999.00, 9,   0.5154,     0.01, 2, 0.01, 2,  -999.00, 9,  -999.00, 9,   0.6590, 2, -999.000, 2, -999.000, 9, 3.760, 2
320620030705, SBI, 42, 1, 108, 8, 2, 20030716, 2326, 72.1694, -151.6125, 2989,    435.9,   0.5508,  34.8218, 2,  34.8235, 2,    268.0, 2,    291.7, 2,     8.32, 2,    12.88, 2,     0.00, 2,     0.92, 2,  -999.00, 9,   0.5316,     0.01, 2, 0.01, 2,  -999.00, 9,  -999.00, 9,   0.5510, 2, -999.000, 2, -999.000, 9, 3.960, 2
320620030705, SBI, 42, 1, 107, 7, 2, 20030716, 2321, 72.1694, -151.6125, 2989,    612.0,   0.3989,  34.8538, 2,  34.8550, 2,    271.3, 2,    295.2, 2,     7.49, 2,    12.83, 2,     0.00, 2,     0.90, 2,  -999.00, 9,   0.3717,     0.00, 2, 0, 2,  -999.00, 9,  -999.00, 9,   0.4610, 2, -999.000, 2, -999.000, 9, 4.175, 2
320620030705, SBI, 42, 1, 106, 6, 2, 20030716, 2313, 72.1694, -151.6125, 2989,    913.6,   0.0423,  34.8768, 2,  34.8772, 2,    272.2, 2,    298.5, 2,     7.56, 2,    12.88, 2,     0.00, 2,     0.91, 2,  -999.00, 9,   0.0019,     0.00, 2, 0, 2,  -999.00, 9,  -999.00, 9,   0.7330, 2, -999.000, 2, -999.000, 9, 4.197, 2
320620030705, SBI, 42, 1, 105, 5, 2, 20030716, 2306, 72.1694, -151.6125, 2989,   1215.3,  -0.1773,  34.8961, 2,  34.8981, 2,    271.5, 2,    300.1, 2,     7.95, 2,    13.04, 2,     0.00, 2,     0.93, 2,  -999.00, 9,  -0.2321,     0.00, 2, 0, 2,  -999.00, 9,  -999.00, 9,   0.5380, 2, -999.000, 2, -999.000, 9, 4.057, 2
320620030705, SBI, 42, 1, 104, 4, 2, 20030716, 2256, 72.1694, -151.6125, 2989,   1618.9,  -0.3667,  34.9241, 2,  34.9195, 2,    267.4, 2,    296.3, 2,     9.56, 2,    13.76, 2,     0.00, 2,     0.98, 2,  -999.00, 9,  -0.4430,     0.00, 2, 0, 2,  -999.00, 9,  -999.00, 9,   0.5160, 2, -999.000, 2, -999.000, 9, 3.997, 2
320620030705, SBI, 42, 1, 103, 3, 2, 20030716, 2242, 72.1694, -151.6125, 2989,   2221.9,  -0.3990,  34.9488, 2,  34.9482, 2,    258.8, 2,    287.9, 2,    12.38, 2,    14.53, 2,     0.00, 2,     1.04, 2,  -999.00, 9,  -0.5148,     0.00, 2, 0, 2,  -999.00, 9,  -999.00, 9,   0.4450, 2, -999.000, 2, -999.000, 9, 3.942, 2
320620030705, SBI, 42, 1, 102, 2, 2, 20030716, 2228, 72.1694, -151.6125, 2989,   2829.5,  -0.3499,  34.9563, 2,  34.9518, 2,    255.2, 2,    285.2, 2,    13.68, 2,    14.75, 2,     0.00, 2,     1.05, 2,  -999.00, 9,  -0.5128,     0.00, 2, 0, 2,  -999.00, 9,  -999.00, 9,   0.4350, 2, -999.000, 2, -999.000, 9, 4.244, 2
320620030705, SBI, 42, 1, 101, 1, 2, 20030716, 2222, 72.1694, -151.6125, 2989,   3034.7,  -0.3301,  34.9571, 2,  34.9532, 2,    254.2, 2,    282.0, 2,    14.68, 2,    14.74, 2,     0.00, 2,     1.05, 2,  -999.00, 9,  -0.5104,     0.00, 2, 0, 2,  -999.00, 9,  -999.00, 9,   0.7750, 2, -999.000, 2, -999.000, 9, 4.211, 2