BOTTLE,20100423CCHDOSIODBK
EXPOCODE,SECT_ID,STNNBR,CASTNO,SAMPNO,BTLNBR,BTLNBR_FLAG_W,DATE,TIME,LATITUDE,LONGITUDE,DEPTH,CTDPRS,CTDTMP,CTDSAL,CTDSAL_FLAG_W,SALNTY,SALNTY_FLAG_W,CTDOXY,CTDOXY_FLAG_W,OXYGEN,OXYGEN_FLAG_W,SILCAT,SILCAT_FLAG_W,NITRAT,NITRAT_FLAG_W,NITRIT,NITRIT_FLAG_W,PHSPHT,PHSPHT_FLAG_W,DOC,DOC_FLAG_W,THETA,NH4,NH4_FLAG_W,UREA,UREA_FLAG_W,CHLORA,CHLORA_FLAG_W,PPHYTN,PPHYTN_FLAG_W,FLUOR,FLUOR_FLAG_W,HAARDT,HAARDT_FLAG_W,PAR,PAR_FLAG_W,SPAR,SPAR_FLAG_W
,,,,,,,,,,,METERS,DBAR,ITS-90,PSS-78,,PSS-78,,UMOL/KG,,UMOL/KG,,UMOL/KG,,UMOL/KG,,UMOL/KG,,UMOL/KG,,UMOL/KG,,DEG C,UMOL/KG,,UMOL/KG,,UG/KG,,UG/KG,,MG/M^3,,VOLTS,,VOLTS,,VOLTS,
320620030705, SBI, 54, 1, 110, 10, 2, 20030719, 605, 71.4801, -152.2055, 156,      2.4,   2.6292,  29.0872, 2,  29.0854, 2,    345.1, 2,    362.3, 2,    14.47, 2,     0.10, 2,     0.00, 2,     0.71, 2,    76.90, 2,   2.6291,     0.28, 2, 0.02, 2,     0.24, 2,     0.02, 2,   0.9640, 2, 0.000, 2, 3.436, 2, 4.802, 2
320620030705, SBI, 54, 1, 109, 9, 2, 20030719, 604, 71.4801, -152.2055, 156,     19.6,   4.6981,  30.9271, 2, -999.0000, 9,    326.6, 2,    347.6, 2,     7.88, 2,     0.15, 2,     0.01, 2,     0.64, 2,    80.20, 2,   4.6968,     0.52, 2, 0.07, 2,     0.26, 2,     0.07, 2,   1.0500, 2, 0.000, 2, 2.404, 2, 4.787, 2
320620030705, SBI, 54, 1, 108, 8, 2, 20030719, 603, 71.4801, -152.2055, 156,     34.7,   3.5270,  31.1012, 2, -999.0000, 9,    334.4, 2,    350.9, 2,     7.45, 2,     0.25, 2,     0.02, 2,     0.67, 2,    79.60, 2,   3.5250,     0.67, 2, 0.07, 2,     0.18, 2,     0.10, 2,   0.9340, 2, 0.000, 2, 1.156, 2, 4.783, 2
320620030705, SBI, 54, 1, 107, 7, 2, 20030719, 601, 71.4801, -152.2055, 156,     54.4,   2.3156,  31.2758, 2,  31.2680, 2,    347.0, 2,    365.2, 2,     8.92, 2,     0.40, 2,     0.02, 2,     0.73, 2,    79.30, 2,   2.3129,     0.77, 2, 0.08, 2,     0.22, 2,     0.10, 2,   1.0050, 2, 0.000, 2, 0.354, 2, 4.791, 2
320620030705, SBI, 54, 1, 106, 6, 2, 20030719, 600, 71.4801, -152.2055, 156,     74.8,   1.9881,  31.3279, 2, -999.0000, 9,    348.3, 2,    370.2, 2,     8.38, 2,     0.46, 2,     0.02, 2,     0.73, 2,    76.10, 2,   1.9846,     0.75, 2, 0.08, 2,     0.21, 2,     0.08, 2,   0.9620, 2, 0.000, 2, 0.177, 2, 4.806, 2
320620030705, SBI, 54, 1, 105, 5, 2, 20030719, 558, 71.4801, -152.2055, 156,     89.7,   0.3336,  31.5656, 2, -999.0000, 9,    358.7, 2,    386.3, 2,    12.07, 2,     1.20, 2,     0.05, 2,     0.90, 2,    75.90, 2,   0.3306,     0.94, 2, 0.1, 2,  -999.00, 9,  -999.00, 9,   1.2190, 2, 0.000, 2, 0.159, 2, 4.799, 2
320620030705, SBI, 54, 1, 104, 4, 2, 20030719, 557, 71.4801, -152.2055, 156,    104.6,  -0.2892,  31.8841, 2, -999.0000, 9,    357.8, 2,    381.6, 2,    14.85, 2,     2.51, 2,     0.09, 2,     1.10, 2,    72.90, 2,  -0.2922,     1.38, 2, 0.11, 2,     0.16, 2,     0.14, 2,   0.9050, 2, 0.000, 2, 0.160, 2, 4.791, 2
320620030705, SBI, 54, 1, 103, 3, 2, 20030719, 555, 71.4801, -152.2055, 156,    119.8,  -0.9098,  32.0189, 2, -999.0000, 9,    344.0, 2,    376.5, 2,    15.32, 2,     3.31, 2,     0.10, 2,     1.15, 2,    75.20, 2,  -0.9126,     1.33, 2, 0.1, 2,  -999.00, 9,  -999.00, 9,   0.9880, 2, 0.000, 2, 0.161, 2, 4.788, 2
320620030705, SBI, 54, 1, 102, 2, 2, 20030719, 554, 71.4801, -152.2055, 156,    134.7,  -1.2160,  32.1580, 2, -999.0000, 9,    317.9, 2,    342.6, 2,    22.83, 2,     6.68, 2,     0.16, 2,     1.37, 2,    72.70, 2,  -1.2188,     0.93, 2, 0.05, 2,  -999.00, 9,  -999.00, 9,   0.8670, 2, 0.000, 2, 0.154, 2, 4.771, 2
320620030705, SBI, 54, 1, 101, 1, 2, 20030719, 552, 71.4801, -152.2055, 156,    148.6,  -1.3541,  32.4105, 2,  32.3366, 2,    300.6, 2,    329.4, 2,    22.89, 2,     8.21, 2,     0.10, 2,     1.44, 2,    68.90, 2,  -1.3571,     0.65, 2, 0.05, 2,     0.06, 2,     0.12, 2,   0.9840, 2, 0.000, 2, 0.152, 2, 4.690, 2
320620030705, SBI, 55, 1, 108, 8, 2, 20030719, 729, 71.4325, -152.2479, 147,      3.4,   3.7766,  29.7551, 2,  29.7500, 2,    332.0, 2,    346.5, 2,    10.65, 2,     0.16, 2,     0.00, 2,     0.65, 2,    78.70, 2,   3.7764,     0.10, 2, 0.03, 2,     0.47, 2,     0.13, 2,   1.2160, 2, 0.000, 2, 2.808, 2, 4.938, 2
320620030705, SBI, 55, 1, 107, 7, 2, 20030719, 727, 71.4325, -152.2479, 147,     21.6,   4.4258,  30.8494, 2, -999.0000, 9,    327.4, 2,    342.8, 2,     6.69, 2,     0.20, 2,     0.01, 2,     0.63, 2,    74.10, 2,   4.4244,     0.52, 2, 0.07, 2,     0.25, 2,     0.09, 2,   1.1080, 2, 0.000, 2, 1.340, 2, 4.939, 2
320620030705, SBI, 55, 1, 106, 6, 2, 20030719, 726, 71.4325, -152.2479, 147,     39.6,   3.8229,  31.0465, 2, -999.0000, 9,    332.4, 2,    348.1, 2,     6.85, 2,     0.20, 2,     0.01, 2,     0.64, 2,    71.40, 2,   3.8205,     0.59, 2, 0.08, 2,     0.17, 2,     0.13, 2,   0.9310, 2, 0.000, 2, 0.397, 2, 4.938, 2
320620030705, SBI, 55, 1, 105, 5, 2, 20030719, 724, 71.4325, -152.2479, 147,     59.6,   3.1553,  31.1169, 2, -999.0000, 9,    338.8, 2,    356.5, 2,     8.11, 2,     0.24, 2,     0.01, 2,     0.69, 2,    73.60, 2,   3.1520,     0.67, 2, 0.08, 2,     0.17, 2,     0.08, 2,   0.8970, 2, 0.000, 2, 0.181, 2, 4.938, 2
320620030705, SBI, 55, 1, 104, 4, 2, 20030719, 722, 71.4325, -152.2479, 147,     79.2,   2.9592,  31.1596, 2, -999.0000, 9,    339.8, 2,    358.3, 2,     8.48, 2,     0.30, 2,     0.02, 2,     0.72, 2,    72.80, 2,   2.9549,     0.72, 2, 0.09, 2,     0.20, 2,     0.11, 2,   1.0950, 2, 0.000, 2, 0.168, 2, 4.937, 2
320620030705, SBI, 55, 1, 103, 3, 2, 20030719, 721, 71.4325, -152.2479, 147,     98.9,   2.2367,  31.3319, 2, -999.0000, 9,    345.4, 2,    366.9, 2,    10.34, 2,     0.62, 2,     0.03, 2,     0.82, 2,    75.70, 2,   2.2319,     1.04, 2, 0.13, 2,  -999.00, 9,  -999.00, 9,   0.9140, 2, 0.000, 2, 0.165, 2, 4.934, 2
320620030705, SBI, 55, 1, 102, 2, 2, 20030719, 719, 71.4325, -152.2479, 147,    124.1,   1.2606,  31.5462, 2,  31.5337, 2,    346.0, 2,    371.1, 2,    12.50, 2,     1.10, 2,     0.04, 2,     0.94, 2,    72.60, 2,   1.2555,     1.32, 2, 0.13, 2,  -999.00, 9,  -999.00, 9,   0.9180, 2, 0.000, 2, 0.157, 2, 4.933, 2
320620030705, SBI, 55, 1, 101, 1, 2, 20030719, 713, 71.4325, -152.2479, 147,    139.8,  -1.3367,  32.5702, 2,  32.4886, 2,    292.6, 2,    324.4, 2,    24.78, 2,     8.26, 2,     0.11, 2,     1.48, 2,    71.40, 2,  -1.3396,     1.15, 2, 0.08, 2,     0.13, 2,     0.16, 2,   0.8550, 2, 0.000, 2, 0.161, 2, 4.921, 2
320620030705, SBI, 56, 1, 106, 6, 2, 20030719, 900, 71.3830, -152.2905, 81,      4.4,   4.1959,  29.8299, 2,  29.8297, 2,    325.1, 2,    338.9, 2,     8.62, 2,     0.04, 2,     0.00, 2,     0.61, 2,    79.40, 2,   4.1956,     0.05, 2, 0.04, 2,     0.59, 2,     0.14, 2,   1.2870, 2, 0.000, 2, 2.593, 2, 4.950, 2
320620030705, SBI, 56, 1, 105, 5, 2, 20030719, 858, 71.3830, -152.2905, 81,     13.1,   4.0258,  30.0313, 2, -999.0000, 9,    332.1, 2,    345.9, 2,     8.98, 2,     0.04, 2,     0.00, 2,     0.62, 2,    74.20, 2,   4.0250,     0.08, 2, 0.04, 2,     1.00, 2,     0.03, 2,   1.3770, 2, 0.000, 2, 1.804, 2, 4.947, 2
320620030705, SBI, 56, 1, 104, 4, 2, 20030719, 856, 71.3830, -152.2905, 81,     22.8,   3.9681,  30.2996, 2, -999.0000, 9,    333.5, 2,    349.1, 2,     8.84, 2,     0.04, 2,     0.00, 2,     0.61, 2,    75.80, 2,   3.9667,     0.05, 2, 0.03, 2,     1.02, 2,     0.03, 2,   1.5040, 2, 0.000, 2, 1.086, 2, 4.944, 2
320620030705, SBI, 56, 1, 103, 3, 2, 20030719, 854, 71.3830, -152.2905, 81,     43.1,   3.8878,  31.0466, 2, -999.0000, 9,    335.1, 2,    349.6, 2,     5.79, 2,     0.09, 2,     0.01, 2,     0.62, 2,    69.20, 2,   3.8852,     0.59, 2, 0.08, 2,     0.14, 2,     0.06, 2,   0.8400, 2, 0.000, 2, 0.498, 2, 4.940, 2
320620030705, SBI, 56, 1, 102, 2, 2, 20030719, 851, 71.3830, -152.2905, 81,     63.2,   3.1668,  31.1989, 2, -999.0000, 9,    341.8, 2,    357.7, 2,     6.85, 2,     0.24, 2,     0.01, 2,     0.68, 2,    74.00, 2,   3.1633,     0.77, 2, 0.1, 2,     0.12, 2,     0.08, 2,   0.8050, 2, 0.000, 2, 0.176, 2, 4.938, 2
320620030705, SBI, 56, 1, 101, 1, 2, 20030719, 848, 71.3830, -152.2905, 81,     77.3,   2.7711,  31.2829, 2,  31.2789, 2,    338.9, 2,    356.1, 2,     9.01, 2,     0.57, 2,     0.03, 2,     0.77, 2,    70.70, 2,   2.7670,     0.96, 2, 0.12, 2,     0.17, 2,     0.11, 2,   0.9270, 2, 0.000, 2, 0.162, 2, 4.936, 2
320620030705, SBI, 57, 1, 106, 6, 2, 20030719, 1014, 71.3353, -152.3258, 59,      4.6,   3.4232,  29.8579, 2,  29.8679, 2,    331.6, 2,    349.5, 2,    12.30, 2,     0.04, 2,     0.00, 2,     0.66, 2,    73.20, 2,   3.4229,     0.12, 2, 0.03, 2,     0.33, 2,     0.05, 2,   1.1720, 2, 0.000, 2, 2.066, 2, 4.990, 2
320620030705, SBI, 57, 1, 105, 5, 2, 20030719, 1012, 71.3353, -152.3258, 59,     13.3,   4.2238,  30.7709, 2, -999.0000, 9,    330.8, 2,    347.2, 2,     6.54, 2,     0.04, 2,     0.00, 2,     0.60, 2,    70.30, 2,   4.2230,     0.28, 2, 0.05, 2,     0.49, 2,     0.09, 2,   1.2310, 2, 0.000, 2, 1.618, 2, 4.989, 2
320620030705, SBI, 57, 1, 104, 4, 2, 20030719, 1011, 71.3353, -152.3258, 59,     23.4,   4.2403,  30.8907, 2, -999.0000, 9,    329.8, 2,    346.5, 2,     6.19, 2,     0.04, 2,     0.00, 2,     0.61, 2,    72.80, 2,   4.2388,     0.43, 2, 0.06, 2,     0.27, 2,     0.01, 2,   0.9950, 2, 0.000, 2, 1.179, 2, 4.989, 2
320620030705, SBI, 57, 1, 103, 3, 2, 20030719, 1009, 71.3353, -152.3258, 59,     33.5,   4.2219,  30.9585, 2, -999.0000, 9,    328.5, 2,    351.2, 2,     5.65, 2,     0.10, 2,     0.00, 2,     0.61, 2,    68.60, 2,   4.2198,     0.54, 2, 0.06, 2,     0.20, 2,     0.03, 2,   0.8910, 2, 0.000, 2, 0.865, 2, 4.989, 2
320620030705, SBI, 57, 1, 102, 2, 2, 20030719, 1008, 71.3353, -152.3258, 59,     43.2,   3.2151,  30.9750, 2, -999.0000, 9,    341.3, 2,    357.9, 2,     9.53, 2,     0.36, 2,     0.01, 2,     0.75, 2,    71.80, 2,   3.2127,     0.81, 2, 0.08, 2,     0.19, 2,     0.04, 2,   0.8760, 2, 0.000, 2, 0.633, 2, 4.989, 2
320620030705, SBI, 57, 1, 101, 1, 2, 20030719, 1006, 71.3353, -152.3258, 59,     54.1,   1.5168,  31.5048, 2,  31.4989, 2,    330.8, 2,    351.0, 2,    15.50, 2,     2.10, 2,     0.08, 2,     1.02, 2,    74.60, 2,   1.5145,     1.27, 2, 0.14, 2,     0.48, 2,     0.17, 2,   1.1580, 2, 0.000, 2, 0.267, 2, 4.989, 2
320620030705, SBI, 58, 1, 104, 4, 2, 20030719, 1106, 71.2876, -152.3809, 49,      3.8,   4.2734,  30.2780, 2,  30.2780, 2,    329.2, 2,    343.0, 2,    10.36, 2,     0.00, 2,     0.00, 2,     0.63, 2,    70.20, 2,   4.2732,     0.00, 2, 0, 2,     0.41, 2,     0.06, 2,   1.3370, 2, 0.000, 2, 2.089, 2, 4.990, 2
320620030705, SBI, 58, 1, 103, 3, 2, 20030719, 1104, 71.2876, -152.3809, 49,     22.1,   3.7629,  30.8737, 2, -999.0000, 9,    338.8, 2,    352.6, 2,     9.01, 2,     0.04, 2,     0.00, 2,     0.68, 2,    73.80, 2,   3.7616,     0.39, 2, 0.03, 2,     0.43, 2,     0.05, 2,   1.2110, 2, 0.000, 2, 1.251, 2, 4.990, 2
320620030705, SBI, 58, 1, 102, 2, 2, 20030719, 1103, 71.2876, -152.3809, 49,     32.8,   4.0988,  31.1417, 2, -999.0000, 9,    329.9, 2,    342.6, 2,     8.36, 2,     0.15, 2,     0.01, 2,     0.73, 2,    76.30, 2,   4.0967,     0.44, 2, 0.04, 2,     0.44, 2,     0.10, 2,   1.2190, 2, 0.000, 2, 0.880, 2, 4.990, 2
320620030705, SBI, 58, 1, 101, 1, 2, 20030719, 1059, 71.2876, -152.3809, 49,     42.7,   1.1037,  31.5388, 2,  31.5225, 2,    326.2, 2,    347.3, 2,    17.46, 2,     2.62, 2,     0.12, 2,     1.08, 2,    79.20, 2,   1.1020,     1.11, 2, 0.1, 2,     0.59, 2,     0.18, 2,   1.2850, 2, 0.000, 2, 0.449, 2, 4.992, 2
320620030705, SBI, 59, 1, 106, 6, 2, 20030719, 1201, 71.2498, -152.4137, 44,      6.3,   4.1250,  30.4914, 2,  30.3487, 2,    327.6, 2,    344.0, 2,    11.30, 2,     0.00, 2,     0.00, 2,     0.67, 2,    73.00, 2,   4.1246,     0.04, 2, 0.02, 2,     0.44, 2,     0.07, 2,   1.2850, 2, 0.000, 2, 2.225, 2, 4.979, 2
320620030705, SBI, 59, 1, 105, 5, 2, 20030719, 1159, 71.2498, -152.4137, 44,     18.4,   3.6509,  30.8021, 2, -999.0000, 9,    338.0, 2,    358.8, 2,     8.04, 2,     0.09, 2,     0.01, 2,     0.66, 2,    77.20, 2,   3.6498,     0.35, 2, 0.03, 2,     0.53, 2,     0.03, 2,   1.2360, 2, 0.000, 2, 1.570, 2, 4.982, 2
320620030705, SBI, 59, 1, 104, 4, 2, 20030719, 1157, 71.2498, -152.4137, 44,     33.5,   2.9889,  31.3543, 2, -999.0000, 9,    323.2, 2,   -999.0, 9,  -999.00, 9,  -999.00, 9,  -999.00, 9,  -999.00, 9,  -999.00, 9,   2.9871,  -999.00, 9, -999, 9,  -999.00, 9,  -999.00, 9,   1.6030, 2, 0.000, 2, 1.051, 2, 4.981, 2
320620030705, SBI, 59, 1, 103, 3, 2, 20030719, 1156, 71.2498, -152.4137, 44,     33.5,   2.9900,  31.3593, 2, -999.0000, 9,    323.9, 2,   -999.0, 9,  -999.00, 9,  -999.00, 9,  -999.00, 9,  -999.00, 9,  -999.00, 9,   2.9882,  -999.00, 9, -999, 9,  -999.00, 9,  -999.00, 9,   1.6340, 2, 0.000, 2, 1.023, 2, 4.981, 2
320620030705, SBI, 59, 1, 102, 2, 2, 20030719, 1155, 71.2498, -152.4137, 44,     33.6,   2.7084,  31.3791, 2, -999.0000, 9,    323.0, 2,    343.1, 2,    13.42, 2,     1.52, 2,     0.07, 2,     0.90, 2,    76.20, 2,   2.7066,     0.58, 2, 0.04, 2,     1.17, 2,     0.16, 2,   1.5750, 2, 0.000, 2, 1.026, 2, 4.979, 2
320620030705, SBI, 59, 1, 101, 1, 2, 20030719, 1153, 71.2498, -152.4137, 44,     37.8,   1.1360,  31.5273, 2,  31.4896, 2,    325.7, 2,    346.6, 2,    17.10, 2,     2.51, 2,     0.12, 2,     1.05, 2,    67.90, 2,   1.1345,     0.88, 2, 0.08, 2,     0.83, 2,     0.21, 2,   1.3800, 2, 0.000, 2, 0.476, 2, 4.978, 2
320620030705, SBI, 60, 1, 107, 7, 2, 20030719, 2328, 71.5827, -154.9818, 41,      1.8,   4.9644,  30.3546, 2,  30.3742, 2,    313.7, 2,    326.1, 2,     7.78, 2,     0.13, 2,     0.01, 2,     0.68, 2,  -999.00, 9,   4.9643,     0.28, 2, 0.07, 2,     0.41, 2,     0.13, 2,   1.1550, 2, 0.000, 2, 4.279, 2, 3.960, 2
320620030705, SBI, 60, 1, 106, 6, 2, 20030719, 2326, 71.5827, -154.9818, 41,     14.7,   5.0055,  30.4275, 2, -999.0000, 9,    312.1, 2,   -999.0, 9,  -999.00, 9,  -999.00, 9,  -999.00, 9,  -999.00, 9,  -999.00, 9,   5.0045,  -999.00, 9, -999, 9,  -999.00, 9,  -999.00, 9,   1.0870, 2, 0.000, 2, 1.961, 2, 3.955, 2
320620030705, SBI, 60, 1, 104, 4, 2, 20030719, 2326, 71.5827, -154.9818, 41,     14.7,   5.0084,  30.4331, 2, -999.0000, 9,    311.9, 2,    324.9, 2,     7.16, 2,     0.13, 2,     0.01, 2,     0.67, 2,  -999.00, 9,   5.0074,     0.38, 2, 0.15, 2,     0.32, 2,     0.16, 2,   1.1270, 2, 0.000, 2, 2.040, 2, 3.953, 2
320620030705, SBI, 60, 1, 105, 5, 2, 20030719, 2326, 71.5827, -154.9818, 41,     14.7,   5.0116,  30.4309, 2, -999.0000, 9,    312.1, 2,   -999.0, 9,  -999.00, 9,  -999.00, 9,  -999.00, 9,  -999.00, 9,  -999.00, 9,   5.0106,  -999.00, 9, -999, 9,  -999.00, 9,  -999.00, 9,   1.1130, 2, 0.000, 2, 1.983, 2, 3.953, 2
320620030705, SBI, 60, 1, 103, 3, 2, 20030719, 2324, 71.5827, -154.9818, 41,     26.9,   5.0085,  30.4340, 2, -999.0000, 9,    311.7, 2,    324.8, 2,     7.15, 2,     0.07, 2,     0.01, 2,     0.67, 2,  -999.00, 9,   5.0066,     0.30, 2, 0.06, 2,     0.30, 2,     0.18, 2,   1.1160, 2, 0.000, 2, 0.313, 2, 3.944, 2
320620030705, SBI, 60, 1, 101, 1, 2, 20030719, 2321, 71.5827, -154.9818, 41,     36.0,   4.9902,  30.4321, 2,  30.4311, 2,    312.0, 2,    324.8, 2,     7.13, 2,     0.07, 2,     0.01, 2,     0.67, 2,    76.30, 2,   4.9877,     0.31, 2, 0.07, 2,     0.33, 2,     0.17, 2,   1.0930, 2, 0.000, 2, 0.167, 2, 3.952, 2
320620030705, SBI, 60, 1, 102, 2, 2, 20030719, 2321, 71.5827, -154.9818, 41,     36.2,   4.9947,  30.4328, 2, -999.0000, 9,    312.0, 2,   -999.0, 9,  -999.00, 9,  -999.00, 9,  -999.00, 9,  -999.00, 9,  -999.00, 9,   4.9922,  -999.00, 9, -999, 9,  -999.00, 9,  -999.00, 9,   1.1530, 2, 0.000, 2, 0.167, 2, 3.955, 2
320620030705, SBI, 61, 1, 105, 5, 2, 20030720, 50, 71.6245, -155.0709, 61,      1.6,   4.2629,  29.9749, 2,  29.9716, 2,    321.8, 2,    333.9, 2,    10.57, 2,     0.13, 2,     0.00, 2,     0.72, 2,  -999.00, 9,   4.2628,     0.46, 2, 0.56, 2,     0.26, 2,     0.09, 2,   0.8960, 2, 0.000, 2, 3.644, 2, 4.087, 2
320620030705, SBI, 61, 1, 104, 4, 2, 20030720, 48, 71.6245, -155.0709, 61,     17.6,   5.6121,  30.6282, 2, -999.0000, 9,    308.0, 2,    317.2, 2,     6.20, 2,     0.13, 2,     0.01, 2,     0.66, 2,  -999.00, 9,   5.6108,     0.33, 2, 0.07, 2,     0.27, 2,     0.14, 2,   1.1280, 2, 0.000, 2, 1.628, 2, 4.069, 2
320620030705, SBI, 61, 1, 103, 3, 2, 20030720, 46, 71.6245, -155.0709, 61,     27.8,   5.6893,  30.6934, 2, -999.0000, 9,    307.0, 2,    316.3, 2,     6.11, 2,     0.16, 2,     0.01, 2,     0.66, 2,  -999.00, 9,   5.6872,     0.35, 2, 0.09, 2,     0.27, 2,     0.13, 2,   1.0780, 2, 0.000, 2, 0.539, 2, 4.028, 2
320620030705, SBI, 61, 1, 102, 2, 2, 20030720, 44, 71.6245, -155.0709, 61,     42.8,   5.6450,  30.7441, 2, -999.0000, 9,    306.9, 2,    316.7, 2,     5.89, 2,     0.10, 2,     0.01, 2,     0.67, 2,  -999.00, 9,   5.6418,     0.42, 2, 0.07, 2,     0.24, 2,     0.12, 2,   1.1080, 2, 0.000, 2, 0.168, 2, 4.084, 2
320620030705, SBI, 61, 1, 101, 1, 2, 20030720, 41, 71.6245, -155.0709, 61,     53.9,   5.4208,  30.8168, 2,  30.8119, 2,    307.9, 2,    318.6, 2,     5.85, 2,     0.07, 2,     0.01, 2,     0.68, 2,    77.40, 2,   5.4168,     0.47, 2, 0.07, 2,     0.20, 2,     0.16, 2,   1.0420, 2, 0.000, 2, 0.162, 2, 4.055, 2