BOTTLE,20100423CCHDOSIODBK
EXPOCODE,SECT_ID,STNNBR,CASTNO,SAMPNO,BTLNBR,BTLNBR_FLAG_W,DATE,TIME,LATITUDE,LONGITUDE,DEPTH,CTDPRS,CTDTMP,CTDSAL,CTDSAL_FLAG_W,SALNTY,SALNTY_FLAG_W,CTDOXY,CTDOXY_FLAG_W,OXYGEN,OXYGEN_FLAG_W,SILCAT,SILCAT_FLAG_W,NITRAT,NITRAT_FLAG_W,NITRIT,NITRIT_FLAG_W,PHSPHT,PHSPHT_FLAG_W,DOC,DOC_FLAG_W,THETA,NH4,NH4_FLAG_W,UREA,UREA_FLAG_W,CHLORA,CHLORA_FLAG_W,PPHYTN,PPHYTN_FLAG_W,FLUOR,FLUOR_FLAG_W,HAARDT,HAARDT_FLAG_W,PAR,PAR_FLAG_W,SPAR,SPAR_FLAG_W
,,,,,,,,,,,METERS,DBAR,ITS-90,PSS-78,,PSS-78,,UMOL/KG,,UMOL/KG,,UMOL/KG,,UMOL/KG,,UMOL/KG,,UMOL/KG,,UMOL/KG,,DEG C,UMOL/KG,,UMOL/KG,,UG/KG,,UG/KG,,MG/M^3,,VOLTS,,VOLTS,,VOLTS,
320620030705, SBI, 304, 1, 109, 9, 2, 20030814, 547, 71.4801, -152.1994, 159,      1.6,   0.6294,  29.4822, 2,  29.6032, 2,    346.1, 2,    378.3, 2,    10.79, 2,     0.10, 2,     0.00, 2,     0.62, 2,  -999.00, 9,   0.6294,     0.00, 2, 0, 2,  -999.00, 9,  -999.00, 9,   1.1520, 2, 0.218, 2, 2.833, 2, 4.954, 2
320620030705, SBI, 304, 1, 108, 8, 2, 20030814, 545, 71.4801, -152.1994, 159,     23.2,   2.1161,  30.9977, 2, -999.0000, 9,    331.6, 2,    356.1, 2,     7.42, 2,     0.25, 2,     0.01, 2,     0.76, 2,    69.60, 2,   2.1150,     0.52, 2, 0.02, 2,  -999.00, 9,  -999.00, 9,   1.2340, 2, 0.220, 2, 1.709, 2, 4.951, 2
320620030705, SBI, 304, 1, 107, 7, 2, 20030814, 543, 71.4801, -152.1994, 159,     43.5,   2.2793,  31.6694, 2, -999.0000, 9,    323.3, 2,    352.1, 2,     4.56, 2,     0.49, 2,     0.03, 2,     0.84, 2,  -999.00, 9,   2.2772,     0.81, 2, 0.05, 2,  -999.00, 9,  -999.00, 9,   0.9350, 2, 0.215, 2, 0.886, 2, 4.948, 2
320620030705, SBI, 304, 1, 106, 6, 2, 20030814, 540, 71.4801, -152.1994, 159,     63.5,   1.2889,  31.9018, 2, -999.0000, 9,    335.3, 2,    367.6, 2,     4.91, 2,     0.84, 2,     0.03, 2,     0.93, 2,  -999.00, 9,   1.2863,     0.86, 2, 0.06, 2,  -999.00, 9,  -999.00, 9,   1.0040, 2, 0.215, 2, 0.294, 2, 4.945, 2
320620030705, SBI, 304, 1, 105, 5, 2, 20030814, 538, 71.4801, -152.1994, 159,     83.6,   0.5419,  32.0205, 2, -999.0000, 9,    340.2, 2,    367.5, 2,    10.08, 2,     2.78, 2,     0.07, 2,     1.12, 2,  -999.00, 9,   0.5389,     1.19, 2, 0.07, 2,  -999.00, 9,  -999.00, 9,   1.0600, 2, 0.211, 2, 0.151, 2, 4.945, 2
320620030705, SBI, 304, 1, 104, 4, 2, 20030814, 536, 71.4801, -152.1994, 159,    103.8,  -1.1010,  32.3367, 2, -999.0000, 9,    323.6, 2,    329.6, 2,    21.44, 2,     7.80, 2,     0.14, 2,     1.55, 2,  -999.00, 9,  -1.1033,     1.77, 2, 0.06, 2,  -999.00, 9,  -999.00, 9,   1.0670, 2, 0.211, 2, 0.139, 2, 4.940, 2
320620030705, SBI, 304, 1, 103, 3, 2, 20030814, 534, 71.4801, -152.1994, 159,    123.5,  -1.5185,  32.6759, 2, -999.0000, 9,    279.4, 2,    298.9, 2,    23.83, 2,    10.97, 2,     0.14, 2,     1.80, 2,  -999.00, 9,  -1.5209,     2.19, 2, 0.1, 2,  -999.00, 9,  -999.00, 9,   0.9980, 2, 0.200, 2, 0.139, 2, 4.937, 2
320620030705, SBI, 304, 1, 102, 2, 2, 20030814, 532, 71.4801, -152.1994, 159,    143.8,  -1.5105,  32.8867, 2,  32.9357, 2,    261.7, 2,    289.6, 2,    27.75, 2,    12.40, 2,     0.11, 2,     1.83, 2,  -999.00, 9,  -1.5134,     1.53, 2, 0.07, 2,  -999.00, 9,  -999.00, 9,   0.9920, 2, 0.199, 2, 0.139, 2, 4.931, 2
320620030705, SBI, 304, 1, 101, 1, 2, 20030814, 530, 71.4801, -152.1994, 159,    154.9,  -1.4849,  32.9836, 2,  32.9646, 2,    259.8, 2,    289.8, 2,    28.41, 2,    12.51, 2,     0.11, 2,     1.83, 2,  -999.00, 9,  -1.4881,     1.53, 2, 0.07, 2,  -999.00, 9,  -999.00, 9,   1.1130, 2, 0.210, 2, 0.139, 2, 4.926, 2
320620030705, SBI, 305, 1, 108, 8, 2, 20030814, 913, 71.4323, -152.2487, 147,      1.9,   1.5328,  29.3380, 2,  29.6131, 2,    339.4, 2,    366.8, 2,     8.75, 2,     0.09, 2,     0.00, 2,     0.58, 2,  -999.00, 9,   1.5327,     0.00, 2, 0, 2,  -999.00, 9,  -999.00, 9,   0.9430, 2, 0.206, 2, 1.123, 2, 5.000, 2
320620030705, SBI, 305, 1, 107, 7, 2, 20030814, 911, 71.4323, -152.2487, 147,     24.0,   3.4712,  30.9293, 2, -999.0000, 9,    320.4, 2,    333.4, 2,     2.76, 2,     0.18, 2,     0.01, 2,     0.62, 2,    67.40, 2,   3.4698,     0.45, 2, 0, 2,  -999.00, 9,  -999.00, 9,   0.8360, 2, 0.208, 2, 0.328, 2, 5.000, 2
320620030705, SBI, 305, 1, 106, 6, 2, 20030814, 909, 71.4323, -152.2487, 147,     44.0,   3.4194,  31.3100, 2,  31.3224, 2,    316.0, 2,    334.2, 2,     2.91, 2,     0.23, 2,     0.02, 2,     0.67, 2,  -999.00, 9,   3.4168,     0.59, 2, 0.01, 2,  -999.00, 9,  -999.00, 9,   0.8840, 2, 0.204, 2, 0.178, 2, 5.000, 2
320620030705, SBI, 305, 1, 105, 5, 2, 20030814, 907, 71.4323, -152.2487, 147,     64.1,   3.0443,  31.4418, 2, -999.0000, 9,    319.6, 2,    343.0, 2,     3.76, 2,     0.37, 2,     0.02, 2,     0.76, 2,  -999.00, 9,   3.0407,     0.74, 2, 0.03, 2,  -999.00, 9,  -999.00, 9,   0.7970, 2, 0.207, 2, 0.145, 2, 5.000, 2
320620030705, SBI, 305, 1, 104, 4, 2, 20030814, 904, 71.4323, -152.2487, 147,     84.2,   2.1834,  31.6930, 2, -999.0000, 9,    329.4, 2,    353.4, 2,     7.44, 2,     1.66, 2,     0.05, 2,     1.00, 2,  -999.00, 9,   2.1793,     1.17, 2, 0.25, 2,  -999.00, 9,  -999.00, 9,   0.8700, 2, 0.209, 2, 0.139, 2, 5.000, 2
320620030705, SBI, 305, 1, 103, 3, 2, 20030814, 902, 71.4323, -152.2487, 147,    104.2,  -0.7780,  32.2069, 2, -999.0000, 9,    320.8, 2,    346.1, 2,    16.18, 2,     5.79, 2,     0.13, 2,     1.42, 2,  -999.00, 9,  -0.7806,     1.89, 2, 0.1, 2,  -999.00, 9,  -999.00, 9,   1.1860, 2, 0.228, 2, 0.138, 2, 5.000, 2
320620030705, SBI, 305, 1, 102, 2, 2, 20030814, 900, 71.4323, -152.2487, 147,    124.3,  -1.4227,  32.5723, 2, -999.0000, 9,    296.6, 2,    306.5, 2,    22.43, 2,    10.14, 2,     0.14, 2,     1.75, 2,  -999.00, 9,  -1.4252,     2.15, 2, 0.11, 2,  -999.00, 9,  -999.00, 9,   1.0160, 2, 0.220, 2, 0.139, 2, 5.000, 2
320620030705, SBI, 305, 1, 101, 1, 2, 20030814, 857, 71.4323, -152.2487, 147,    142.6,  -1.4961,  32.8219, 2,  32.7655, 2,    269.9, 2,    297.2, 2,    24.42, 2,    11.08, 2,     0.13, 2,     1.79, 2,  -999.00, 9,  -1.4989,     1.99, 2, 0.1, 2,  -999.00, 9,  -999.00, 9,   1.2170, 2, 0.232, 2, 0.140, 2, 5.000, 2
320620030705, SBI, 306, 1, 106, 6, 2, 20030814, 1022, 71.3830, -152.2828, 84,      1.9,   2.3413,  29.7972, 2,  29.9127, 2,    331.7, 2,    349.0, 2,     5.93, 2,     0.13, 2,     0.00, 2,     0.57, 2,  -999.00, 9,   2.3412,     0.02, 2, 0, 2,  -999.00, 9,  -999.00, 9,   0.9610, 2, 0.212, 2, 0.730, 2, 5.000, 2
320620030705, SBI, 306, 1, 105, 5, 2, 20030814, 1020, 71.3830, -152.2828, 84,     19.2,   3.6957,  30.5111, 2, -999.0000, 9,    316.3, 2,    332.4, 2,     3.46, 2,     0.12, 2,     0.01, 2,     0.57, 2,    68.40, 2,   3.6946,     0.27, 2, 0, 2,  -999.00, 9,  -999.00, 9,   1.1500, 2, 0.218, 2, 0.226, 2, 5.000, 2
320620030705, SBI, 306, 1, 104, 4, 2, 20030814, 1018, 71.3830, -152.2828, 84,     34.1,   3.9369,  30.6849, 2,  30.7609, 2,    312.3, 2,    330.3, 2,     3.52, 2,     0.12, 2,     0.01, 2,     0.60, 2,  -999.00, 9,   3.9348,     0.36, 2, 0, 2,  -999.00, 9,  -999.00, 9,   0.9590, 2, 0.223, 2, 0.157, 2, 5.000, 2
320620030705, SBI, 306, 1, 103, 3, 2, 20030814, 1016, 71.3830, -152.2828, 84,     49.3,   3.5495,  30.8386, 2, -999.0000, 9,    316.7, 2,    336.6, 2,     4.58, 2,     0.17, 2,     0.01, 2,     0.66, 2,  -999.00, 9,   3.5466,     0.51, 2, 0.04, 2,  -999.00, 9,  -999.00, 9,   0.8780, 2, 0.208, 2, 0.145, 2, 5.000, 2
320620030705, SBI, 306, 1, 102, 2, 2, 20030814, 1014, 71.3830, -152.2828, 84,     64.3,   2.7212,  31.1002, 2, -999.0000, 9,    325.3, 2,    341.8, 2,     5.64, 2,     0.31, 2,     0.02, 2,     0.77, 2,  -999.00, 9,   2.7178,     0.77, 2, 0.04, 2,  -999.00, 9,  -999.00, 9,   0.9790, 2, 0.202, 2, 0.144, 2, 5.000, 2
320620030705, SBI, 306, 1, 101, 1, 2, 20030814, 1011, 71.3830, -152.2828, 84,     78.3,   2.6394,  31.3384, 2,  31.3181, 2,    323.1, 2,    339.7, 2,     5.89, 2,     0.41, 2,     0.02, 2,     0.80, 2,  -999.00, 9,   2.6353,     0.86, 2, 0.04, 2,  -999.00, 9,  -999.00, 9,   0.9270, 2, 0.204, 2, 0.143, 2, 5.000, 2
320620030705, SBI, 307, 1, 105, 5, 2, 20030814, 1128, 71.3347, -152.3343, 59,      1.9,   3.0736,  25.0964, 4,  29.8361, 2,    241.4, 4,    340.5, 2,     6.48, 2,     0.12, 2,     0.00, 2,     0.57, 2,  -999.00, 9,   3.0735,     0.03, 2, 0, 2,  -999.00, 9,  -999.00, 9,   0.9240, 2, 0.208, 2, 0.868, 2, 5.000, 2
320620030705, SBI, 307, 1, 104, 4, 2, 20030814, 1126, 71.3347, -152.3343, 59,     19.1,   3.9246,  25.7034, 4,  30.3483, 2,    224.0, 4,    322.9, 2,     5.94, 2,     0.16, 2,     0.01, 2,     0.65, 2,    71.40, 2,   3.9234,     0.37, 2, 0.03, 2,  -999.00, 9,  -999.00, 9,   1.1750, 2, 0.236, 2, 0.298, 2, 5.000, 2
320620030705, SBI, 307, 1, 103, 3, 2, 20030814, 1117, 71.3347, -152.3343, 59,     34.2,   3.9826,  30.4353, 4,  30.4515, 2,    219.9, 4,    320.1, 2,     6.01, 2,     0.21, 2,     0.02, 2,     0.69, 2,  -999.00, 9,   3.9805,     0.59, 2, 0.04, 2,  -999.00, 9,  -999.00, 9,   1.0190, 2, 0.213, 2, 0.167, 2, 5.000, 2
320620030705, SBI, 307, 1, 102, 2, 2, 20030814, 1115, 71.3347, -152.3343, 59,     47.1,   4.1656,  30.6256, 2, -999.0000, 9,    301.1, 2,    316.6, 2,     5.58, 2,     0.30, 2,     0.02, 2,     0.74, 2,  -999.00, 9,   4.1626,     0.86, 2, 0.07, 2,  -999.00, 9,  -999.00, 9,   1.1160, 2, 0.204, 2, 0.149, 2, 5.000, 2
320620030705, SBI, 307, 1, 101, 1, 2, 20030814, 1112, 71.3347, -152.3343, 59,     54.5,   2.7884,  31.1630, 2, -999.0000, 9,    324.7, 2,    331.7, 2,     5.95, 2,     0.35, 2,     0.02, 2,     0.74, 2,  -999.00, 9,   2.7855,     0.76, 2, 0.05, 2,  -999.00, 9,  -999.00, 9,   0.8200, 2, 0.195, 2, 0.145, 2, 5.000, 2
320620030705, SBI, 308, 1, 104, 4, 2, 20030814, 1229, 71.2883, -152.3851, 49,      2.4,   3.2793,  29.9414, 2,  29.9447, 2,    325.7, 2,    337.8, 2,     6.33, 2,     0.06, 2,     0.00, 2,     0.57, 2,  -999.00, 9,   3.2792,     0.00, 2, 0, 2,  -999.00, 9,  -999.00, 9,   0.9590, 2, 0.196, 2, 1.691, 2, 5.000, 2
320620030705, SBI, 308, 1, 103, 3, 2, 20030814, 1226, 71.2883, -152.3851, 49,     18.4,   3.7851,  30.2944, 2, -999.0000, 9,    320.7, 2,    328.5, 2,     5.29, 2,     0.05, 2,     0.01, 2,     0.62, 2,    72.50, 2,   3.7840,     0.22, 2, 0.05, 2,  -999.00, 9,  -999.00, 9,   1.1450, 2, 0.221, 2, 0.871, 2, 5.000, 2
320620030705, SBI, 308, 1, 102, 2, 2, 20030814, 1223, 71.2883, -152.3851, 49,     33.6,   3.7909,  30.3934, 2,  30.4036, 2,    314.0, 2,    325.9, 2,     5.26, 2,     0.11, 2,     0.01, 2,     0.64, 2,  -999.00, 9,   3.7889,     0.29, 2, 0.02, 2,  -999.00, 9,  -999.00, 9,   1.2030, 2, 0.229, 2, 0.380, 2, 5.000, 2
320620030705, SBI, 308, 1, 101, 1, 2, 20030814, 1221, 71.2883, -152.3851, 49,     43.7,   3.7872,  30.4123, 2,  30.4048, 2,    314.1, 2,    326.9, 2,     5.13, 2,     0.10, 2,     0.01, 2,     0.64, 2,  -999.00, 9,   3.7846,     0.28, 2, 0.02, 2,  -999.00, 9,  -999.00, 9,   0.9550, 2, 0.211, 2, 0.227, 2, 5.000, 2
320620030705, SBI, 309, 1, 103, 3, 2, 20030814, 1320, 71.2490, -152.4183, 44,      2.6,   2.8722,  29.5894, 2,  29.5882, 2,    328.6, 2,    343.6, 2,     6.81, 2,     0.00, 2,     0.00, 2,     0.58, 2,  -999.00, 9,   2.8721,     0.03, 2, 0.01, 2,  -999.00, 9,  -999.00, 9,   0.8870, 2, 0.189, 2, 2.282, 2, 4.988, 2
320620030705, SBI, 309, 1, 102, 2, 2, 20030814, 1317, 71.2490, -152.4183, 44,     18.6,   3.3461,  30.0192, 2,  30.0434, 2,    321.8, 2,    335.4, 2,     7.48, 2,     0.06, 2,     0.00, 2,     0.60, 2,    71.40, 2,   3.3451,     0.05, 2, 0.04, 2,  -999.00, 9,  -999.00, 9,   1.1280, 2, 0.216, 2, 1.442, 2, 4.989, 2
320620030705, SBI, 309, 1, 101, 1, 2, 20030814, 1314, 71.2490, -152.4183, 44,     38.7,   3.7841,  30.3857, 2,  30.2849, 2,    309.9, 2,    325.6, 2,     6.75, 2,     0.11, 2,     0.01, 2,     0.66, 2,  -999.00, 9,   3.7818,     0.36, 2, 0.01, 2,  -999.00, 9,  -999.00, 9,   1.2260, 2, 0.233, 2, 0.570, 2, 4.989, 2
320620030705, SBI, 310, 2, 206, 6, 2, 20030815, 28, 71.1336, -149.2517, 47,      6.0,   2.7962,  29.4771, 2,  29.4779, 2,    328.6, 2,    344.3, 2,     8.13, 2,     0.06, 2,     0.00, 2,     0.66, 2,  -999.00, 9,   2.7959,     0.00, 2, 0, 2,     0.24, 2,     0.09, 2,   1.0290, 2, 0.196, 2, 3.293, 2, 4.731, 2
320620030705, SBI, 310, 2, 205, 5, 2, 20030815, 26, 71.1336, -149.2517, 47,     18.7,   2.8432,  29.5864, 2, -999.0000, 9,    327.7, 2,   -999.0, 9,  -999.00, 9,  -999.00, 9,  -999.00, 9,  -999.00, 9,  -999.00, 9,   2.8423,  -999.00, 9, -999, 9,  -999.00, 9,  -999.00, 9,   1.2350, 2, 0.206, 2, 2.691, 2, 4.725, 2
320620030705, SBI, 310, 2, 204, 4, 2, 20030815, 26, 71.1336, -149.2517, 47,     18.7,   2.8609,  29.6096, 2, -999.0000, 9,    327.2, 2,   -999.0, 9,  -999.00, 9,  -999.00, 9,  -999.00, 9,  -999.00, 9,  -999.00, 9,   2.8600,  -999.00, 9, -999, 9,  -999.00, 9,  -999.00, 9,   1.1670, 2, 0.207, 2, 2.674, 2, 4.726, 2
320620030705, SBI, 310, 2, 203, 3, 2, 20030815, 26, 71.1336, -149.2517, 47,     18.7,   2.8827,  29.6513, 2, -999.0000, 9,    325.5, 2,    340.6, 2,     8.51, 2,     0.06, 2,     0.00, 2,     0.68, 2,    70.90, 2,   2.8818,     0.12, 2, 0, 2,     0.33, 2,     0.10, 2,   1.1570, 2, 0.207, 2, 2.674, 2, 4.727, 2
320620030705, SBI, 310, 2, 202, 2, 2, 20030815, 24, 71.1336, -149.2517, 47,     28.3,   3.8289,  30.3073, 2, -999.0000, 9,    310.1, 2,    325.0, 2,     8.47, 2,     0.21, 2,     0.01, 2,     0.74, 2,  -999.00, 9,   3.8272,     0.73, 2, 0.06, 2,     0.36, 2,     0.15, 2,   1.0970, 2, 0.212, 2, 2.285, 2, 4.718, 2
320620030705, SBI, 310, 2, 201, 1, 2, 20030815, 22, 71.1336, -149.2517, 47,     38.5,   3.8770,  30.4615, 2,  30.4390, 2,    306.8, 2,    319.7, 2,     9.05, 2,     0.30, 2,     0.02, 2,     0.77, 2,    73.10, 2,   3.8747,     0.95, 2, 0.08, 2,     0.24, 2,     0.12, 2,   0.9220, 2, 0.193, 2, 1.736, 2, 4.723, 2
320620030705, SBI, 311, 1, 105, 5, 2, 20030815, 155, 71.1829, -149.2267, 47,      6.8,   2.7907,  29.2262, 4,  29.5447, 2,    329.0, 4,    344.1, 2,     7.63, 2,     0.10, 2,     0.00, 2,     0.66, 2,  -999.00, 9,   2.7904,     0.04, 2, 0, 2,     0.28, 2,     0.09, 2,   1.2010, 2, 0.204, 2, 3.060, 2, 4.819, 2
320620030705, SBI, 311, 1, 104, 4, 2, 20030815, 153, 71.1829, -149.2267, 47,     16.6,   2.8156,  28.7317, 4,  29.7141, 2,    315.0, 4,    343.1, 2,     7.71, 2,     0.05, 2,     0.00, 2,     0.66, 2,  -999.00, 9,   2.8148,     0.10, 2, 0, 2,     0.29, 2,     0.08, 2,   1.1740, 2, 0.198, 2, 2.574, 2, 4.817, 2
320620030705, SBI, 311, 1, 103, 3, 2, 20030815, 152, 71.1829, -149.2267, 47,     26.6,   3.5206,  29.2613, 4,  30.2467, 2,    314.9, 4,    334.3, 2,     7.18, 2,     0.04, 2,     0.00, 2,     0.66, 2,    70.80, 2,   3.5191,     0.25, 2, 0, 2,     0.51, 2,     0.15, 2,   1.2690, 2, 0.212, 2, 2.173, 2, 4.817, 2
320620030705, SBI, 311, 1, 102, 2, 2, 20030815, 149, 71.1829, -149.2267, 47,     36.6,   3.8780,  30.5801, 2,  30.5936, 2,    309.5, 2,    322.1, 2,     7.66, 2,     0.24, 2,     0.02, 2,     0.75, 2,  -999.00, 9,   3.8758,     0.92, 2, 0.04, 2,     0.13, 2,     0.09, 2,   0.8480, 2, 0.188, 2, 1.755, 2, 4.806, 2
320620030705, SBI, 311, 1, 101, 1, 2, 20030815, 147, 71.1829, -149.2267, 47,     46.8,   3.8229,  30.7761, 2,  30.7506, 2,    315.5, 2,    326.9, 2,     6.13, 2,     0.14, 2,     0.01, 2,     0.71, 2,    73.50, 2,   3.8201,     0.68, 2, 0.02, 2,     0.10, 2,     0.08, 2,   0.7620, 2, 0.188, 2, 1.276, 2, 4.820, 2