BOTTLE,20100423CCHDOSIODBK
EXPOCODE,SECT_ID,STNNBR,CASTNO,SAMPNO,BTLNBR,BTLNBR_FLAG_W,DATE,TIME,LATITUDE,LONGITUDE,DEPTH,CTDPRS,CTDTMP,CTDSAL,CTDSAL_FLAG_W,SALNTY,SALNTY_FLAG_W,CTDOXY,CTDOXY_FLAG_W,OXYGEN,OXYGEN_FLAG_W,SILCAT,SILCAT_FLAG_W,NITRAT,NITRAT_FLAG_W,NITRIT,NITRIT_FLAG_W,PHSPHT,PHSPHT_FLAG_W,DOC,DOC_FLAG_W,THETA,NH4,NH4_FLAG_W,UREA,UREA_FLAG_W,CHLORA,CHLORA_FLAG_W,PPHYTN,PPHYTN_FLAG_W,FLUOR,FLUOR_FLAG_W,HAARDT,HAARDT_FLAG_W,PAR,PAR_FLAG_W,SPAR,SPAR_FLAG_W
,,,,,,,,,,,METERS,DBAR,ITS-90,PSS-78,,PSS-78,,UMOL/KG,,UMOL/KG,,UMOL/KG,,UMOL/KG,,UMOL/KG,,UMOL/KG,,UMOL/KG,,DEG C,UMOL/KG,,UMOL/KG,,UG/KG,,UG/KG,,MG/M^3,,VOLTS,,VOLTS,,VOLTS,
320620030705, SBI, 25, 1, 121, 21, 2, 20030713, 1247, 71.9801, -154.0984, 351,      2.2,   2.3703,  30.0157, 2,  29.8756, 2,    349.1, 2,    366.0, 2,    17.14, 2,     0.14, 2,     0.00, 2,     0.83, 2,  -999.00, 9,   2.3702,     0.20, 2, 0, 2,     0.36, 2,     0.05, 2,   1.0940, 2, 0.000, 2, 3.159, 2, 4.870, 2
320620030705, SBI, 25, 1, 120, 20, 2, 20030713, 1244, 71.9801, -154.0984, 351,     12.3,   2.3856,  31.1238, 2, -999.0000, 9,    372.7, 2,    389.8, 2,    19.50, 2,     0.14, 2,     0.00, 2,     0.90, 2,  -999.00, 9,   2.3850,     0.15, 2, 0.01, 2,  -999.00, 9,  -999.00, 9,   1.2790, 2, 0.000, 2, 2.413, 2, 4.852, 2
320620030705, SBI, 25, 1, 119, 19, 2, 20030713, 1242, 71.9801, -154.0984, 351,     22.4,   1.6171,  31.4320, 2, -999.0000, 9,    387.2, 2,    404.3, 2,    19.80, 2,     0.13, 2,     0.00, 2,     1.03, 2,  -999.00, 9,   1.6161,     0.52, 2, 0.05, 2,     0.59, 2,     0.15, 2,   1.1070, 2, 0.000, 2, 1.854, 2, 4.872, 2
320620030705, SBI, 25, 1, 118, 18, 2, 20030713, 1239, 71.9801, -154.0984, 351,     35.6,   0.5686,  31.5975, 2, -999.0000, 9,    354.9, 2,    373.3, 2,    21.35, 2,     1.53, 2,     0.05, 2,     1.20, 2,  -999.00, 9,   0.5674,     1.24, 2, 0.14, 2,     3.00, 2,     0.41, 2,   1.5630, 2, 0.000, 2, 0.875, 2, 4.848, 2
320620030705, SBI, 25, 1, 117, 17, 2, 20030713, 1234, 71.9801, -154.0984, 351,     42.4,  -0.5593,  31.6884, 2,  31.6732, 2,    330.7, 2,    351.4, 2,    24.44, 2,     4.36, 2,     0.14, 2,     1.37, 2,  -999.00, 9,  -0.5604,     1.80, 2, 0.13, 2,  -999.00, 9,  -999.00, 9,   1.2960, 2, 0.000, 2, 0.611, 2, 4.861, 2
320620030705, SBI, 25, 1, 116, 16, 2, 20030713, 1231, 71.9801, -154.0984, 351,     62.4,  -1.0661,  32.1824, 2, -999.0000, 9,    316.6, 2,    339.1, 2,    24.53, 2,     5.99, 2,     0.13, 2,     1.43, 2,  -999.00, 9,  -1.0675,     1.80, 2, 0.11, 2,     0.79, 2,     0.32, 2,   1.0710, 2, 0.000, 2, 0.209, 2, 4.868, 2
320620030705, SBI, 25, 1, 115, 15, 2, 20030713, 1228, 71.9801, -154.0984, 351,     82.8,  -1.2033,  32.3481, 2,  32.3483, 2,    314.3, 2,    337.4, 2,    25.14, 2,     6.26, 2,     0.13, 2,     1.48, 2,  -999.00, 9,  -1.2050,     2.27, 2, 0.14, 2,  -999.00, 9,  -999.00, 9,   1.0500, 2, 0.000, 2, 0.143, 2, 4.858, 2
320620030705, SBI, 25, 1, 114, 14, 2, 20030713, 1225, 71.9801, -154.0984, 351,    102.3,  -1.3440,  32.5046, 2, -999.0000, 9,    302.5, 2,    323.4, 2,    27.73, 2,     7.23, 2,     0.13, 2,     1.53, 2,  -999.00, 9,  -1.3461,     1.83, 2, 0.09, 2,     0.15, 2,     0.27, 2,   0.9150, 2, 0.000, 2, 0.138, 2, 4.850, 2
320620030705, SBI, 25, 1, 113, 13, 2, 20030713, 1223, 71.9801, -154.0984, 351,    122.7,  -1.0433,  33.5614, 2, -999.0000, 9,    280.8, 2,    299.8, 2,    24.80, 2,    11.39, 2,     0.10, 2,     1.46, 2,  -999.00, 9,  -1.0464,     0.49, 2, 0.05, 2,  -999.00, 9,  -999.00, 9,   0.9120, 2, 0.000, 2, 0.139, 2, 4.846, 2
320620030705, SBI, 25, 1, 112, 12, 2, 20030713, 1220, 71.9801, -154.0984, 351,    142.8,  -0.5027,  34.4447, 2,  34.4302, 2,    271.2, 2,    290.7, 2,    18.48, 2,    12.88, 2,     0.03, 2,     1.23, 2,  -999.00, 9,  -0.5072,     0.01, 2, 0.02, 2,  -999.00, 9,  -999.00, 9,   0.8080, 2, 0.000, 2, 0.139, 2, 4.834, 2
320620030705, SBI, 25, 1, 111, 11, 2, 20030713, 1218, 71.9801, -154.0984, 351,    152.6,  -0.4430,  34.4872, 2, -999.0000, 9,    270.4, 2,    289.7, 2,    17.23, 2,    12.99, 2,     0.02, 2,     1.19, 2,  -999.00, 9,  -0.4480,     0.01, 2, 0.02, 2,  -999.00, 9,  -999.00, 9,   0.9070, 2, 0.000, 2, 0.139, 2, 4.838, 2
320620030705, SBI, 25, 1, 110, 10, 2, 20030713, 1215, 71.9801, -154.0984, 351,    172.8,  -0.0522,  34.6232, 2,  34.6262, 2,    269.9, 2,    287.1, 2,    13.81, 2,    12.89, 2,     0.01, 2,     1.08, 2,  -999.00, 9,  -0.0585,     0.00, 2, 0, 2,  -999.00, 9,  -999.00, 9,   0.7600, 2, 0.000, 2, 0.139, 2, 4.848, 2
320620030705, SBI, 25, 1, 109, 9, 2, 20030713, 1213, 71.9801, -154.0984, 351,    192.9,   0.1395,  34.6866, 2, -999.0000, 9,    271.3, 2,    288.2, 2,    12.05, 2,    12.89, 2,     0.01, 2,     1.04, 2,  -999.00, 9,   0.1321,  -999.00, 5, 0, 2,     0.06, 2,     0.04, 2,   0.7580, 2, 0.000, 2, 0.140, 2, 4.867, 2
320620030705, SBI, 25, 1, 108, 8, 2, 20030713, 1211, 71.9801, -154.0984, 351,    212.9,   0.3882,  34.7514, 2,  34.7607, 2,    272.8, 2,    291.4, 2,     9.88, 2,    12.70, 2,     0.00, 2,     0.98, 2,  -999.00, 9,   0.3796,  -999.00, 5, 0, 2,  -999.00, 9,  -999.00, 9,   0.7150, 2, 0.000, 2, 0.140, 2, 4.877, 2
320620030705, SBI, 25, 1, 107, 7, 2, 20030713, 1209, 71.9801, -154.0984, 351,    232.8,   0.4851,  34.7902, 2,  34.7898, 2,    275.2, 2,    292.0, 2,     9.26, 2,    12.85, 2,     0.00, 2,     0.95, 2,  -999.00, 9,   0.4754,  -999.00, 5, 0, 2,  -999.00, 9,  -999.00, 9,   0.7780, 2, 0.000, 2, 0.139, 2, 4.882, 2
320620030705, SBI, 25, 1, 106, 6, 2, 20030713, 1206, 71.9801, -154.0984, 351,    252.4,   0.5120,  34.8036, 2, -999.0000, 9,    275.3, 2,    292.2, 2,     9.04, 2,    12.84, 2,     0.00, 2,     0.94, 2,  -999.00, 9,   0.5014,  -999.00, 5, 0, 2,  -999.00, 9,  -999.00, 9,   0.6410, 2, 0.000, 2, 0.139, 2, 4.896, 2
320620030705, SBI, 25, 1, 105, 5, 2, 20030713, 1204, 71.9801, -154.0984, 351,    272.6,   0.5356,  34.8110, 2,  34.8043, 2,    274.8, 2,    293.0, 2,     8.93, 2,    12.79, 2,     0.01, 2,     0.94, 2,  -999.00, 9,   0.5240,  -999.00, 5, 0, 2,  -999.00, 9,  -999.00, 9,   0.7210, 2, 0.000, 2, 0.140, 2, 4.900, 2
320620030705, SBI, 25, 1, 104, 4, 2, 20030713, 1201, 71.9801, -154.0984, 351,    292.6,   0.5321,  34.8093, 2,  34.8093, 2,    274.6, 2,    291.4, 2,     9.34, 2,    12.83, 2,     0.01, 2,     0.95, 2,  -999.00, 9,   0.5196,  -999.00, 5, 0, 2,  -999.00, 9,  -999.00, 9,   0.6840, 2, 0.000, 2, 0.140, 2, 4.905, 2
320620030705, SBI, 25, 1, 103, 3, 2, 20030713, 1158, 71.9801, -154.0984, 351,    313.0,   0.5428,  34.8152, 2,  34.8154, 2,    273.9, 2,    290.6, 2,     9.74, 2,    12.87, 2,     0.03, 2,     0.96, 2,  -999.00, 9,   0.5294,  -999.00, 5, 0.01, 2,  -999.00, 9,  -999.00, 9,   0.7130, 2, 0.000, 2, 0.139, 2, 4.902, 2
320620030705, SBI, 25, 1, 102, 2, 2, 20030713, 1156, 71.9801, -154.0984, 351,    332.8,   0.5346,  34.8225, 2,  34.8234, 2,    273.3, 2,    291.3, 2,    10.06, 2,    12.86, 2,     0.04, 2,     0.97, 2,  -999.00, 9,   0.5203,  -999.00, 5, 0.01, 2,  -999.00, 9,  -999.00, 9,   0.7030, 2, 0.000, 2, 0.139, 2, 4.914, 2
320620030705, SBI, 25, 1, 101, 1, 2, 20030713, 1153, 71.9801, -154.0984, 351,    342.4,   0.5194,  34.8321, 2,  34.8297, 2,    273.1, 2,    290.7, 2,    10.05, 2,    12.85, 2,     0.05, 2,     0.98, 2,  -999.00, 9,   0.5047,  -999.00, 5, 0.01, 2,  -999.00, 9,  -999.00, 9,   0.6330, 2, 0.000, 2, 0.139, 2, 4.922, 2
320620030705, SBI, 26, 1, 124, 24, 2, 20030713, 1603, 72.0302, -154.0539, 1005,      2.4,   1.7482,  29.1702, 2,  29.3546, 2,    340.4, 2,    362.5, 2,    16.49, 2,     0.09, 2,     0.00, 2,     0.80, 2,  -999.00, 9,   1.7481,     0.43, 2, 0, 2,     0.29, 2,     0.05, 2,   0.9040, 2, -999.000, 2, -999.000, 9, 4.703, 2
320620030705, SBI, 26, 1, 123, 23, 2, 20030713, 1601, 72.0302, -154.0539, 1005,     12.5,   1.9515,  30.7366, 2,  30.7611, 2,    363.8, 2,    380.5, 2,    18.55, 2,     0.08, 2,     0.00, 2,     0.87, 2,  -999.00, 9,   1.9509,     0.29, 2, 0.01, 2,  -999.00, 9,  -999.00, 9,   1.0430, 2, -999.000, 2, -999.000, 9, 4.778, 2
320620030705, SBI, 26, 1, 122, 22, 2, 20030713, 1558, 72.0302, -154.0539, 1005,     25.2,   0.1741,  31.3459, 2,  31.3745, 2,    403.9, 2,    411.1, 2,    20.71, 2,     0.34, 2,     0.01, 2,     1.10, 2,  -999.00, 9,   0.1733,     0.40, 2, 0.03, 2,     2.53, 2,     0.19, 2,   1.2900, 2, -999.000, 2, -999.000, 9, 4.753, 2
320620030705, SBI, 26, 1, 121, 21, 2, 20030713, 1554, 72.0302, -154.0539, 1005,     35.0,  -0.4485,  31.5588, 2,  31.5598, 2,    356.6, 2,    379.5, 2,    23.40, 2,     1.59, 2,     0.05, 2,     1.26, 2,  -999.00, 9,  -0.4494,     0.97, 2, 0.07, 2,     3.83, 2,     0.27, 2,   1.6200, 2, -999.000, 2, -999.000, 9, 4.760, 2
320620030705, SBI, 26, 1, 120, 20, 2, 20030713, 1551, 72.0302, -154.0539, 1005,     48.0,  -1.2134,  31.9587, 2,  32.0048, 2,    307.6, 2,    331.3, 2,    26.61, 2,     6.80, 2,     0.15, 2,     1.55, 2,  -999.00, 9,  -1.2144,     1.87, 2, 0.11, 2,  -999.00, 9,  -999.00, 9,   1.3160, 2, -999.000, 2, -999.000, 9, 4.787, 2
320620030705, SBI, 26, 1, 119, 19, 2, 20030713, 1549, 72.0302, -154.0539, 1005,     63.1,  -1.4799,  32.2888, 2,  32.2917, 2,    300.5, 2,    323.3, 2,    28.47, 2,     8.04, 2,     0.15, 2,     1.62, 2,  -999.00, 9,  -1.4811,     2.01, 2, 0.11, 2,     1.41, 2,     0.51, 2,   1.3460, 2, -999.000, 2, -999.000, 9, 4.815, 2
320620030705, SBI, 26, 1, 118, 18, 2, 20030713, 1546, 72.0302, -154.0539, 1005,     78.1,  -1.4724,  32.4030, 2,  32.4590, 2,    292.3, 2,    311.6, 2,    29.82, 2,     8.80, 2,     0.16, 2,     1.68, 2,  -999.00, 9,  -1.4739,     2.36, 2, 0.12, 2,  -999.00, 9,  -999.00, 9,   1.1870, 2, -999.000, 2, -999.000, 9, 4.812, 2
320620030705, SBI, 26, 1, 117, 17, 2, 20030713, 1543, 72.0302, -154.0539, 1005,    103.3,  -1.4160,  32.6233, 2,  32.6894, 2,    287.8, 2,    309.9, 2,    28.88, 2,     9.18, 2,     0.14, 2,     1.62, 2,  -999.00, 9,  -1.4181,     1.87, 2, 0.09, 2,     0.29, 2,     0.29, 2,   0.9540, 2, -999.000, 2, -999.000, 9, 4.807, 2
320620030705, SBI, 26, 1, 116, 16, 2, 20030713, 1540, 72.0302, -154.0539, 1005,    123.3,  -1.0636,  33.6847, 2,  33.8267, 2,    278.3, 2,    296.2, 2,    23.97, 2,    11.83, 2,     0.10, 2,     1.42, 2,  -999.00, 9,  -1.0668,     0.43, 2, 0.06, 2,  -999.00, 9,  -999.00, 9,   0.9350, 2, -999.000, 2, -999.000, 9, 4.797, 2
320620030705, SBI, 26, 1, 115, 15, 2, 20030713, 1537, 72.0302, -154.0539, 1005,    153.4,  -0.4744,  34.4654, 2,  34.4656, 2,    271.4, 2,    290.6, 2,    17.96, 2,    12.87, 2,     0.02, 2,     1.21, 2,  -999.00, 9,  -0.4793,     0.04, 2, 0.01, 2,  -999.00, 9,  -999.00, 9,   0.7130, 2, -999.000, 2, -999.000, 9, 4.619, 2
320620030705, SBI, 26, 1, 114, 14, 2, 20030713, 1534, 72.0302, -154.0539, 1005,    183.6,  -0.0287,  34.6467, 2,  34.6476, 2,    271.5, 2,    289.5, 2,    14.02, 2,    12.93, 2,     0.01, 2,     1.08, 2,  -999.00, 9,  -0.0354,     0.04, 2, 0.02, 2,  -999.00, 9,  -999.00, 9,   0.7390, 2, -999.000, 2, -999.000, 9, 4.533, 2
320620030705, SBI, 26, 1, 113, 13, 2, 20030713, 1532, 72.0302, -154.0539, 1005,    193.6,   0.0925,  34.6867, 2,  34.6863, 2,    272.0, 2,    289.8, 2,    12.98, 2,    12.88, 2,     0.01, 2,     1.06, 2,  -999.00, 9,   0.0852,     0.06, 2, 0.02, 2,     0.06, 2,     0.04, 2,   0.7480, 2, -999.000, 2, -999.000, 9, 4.582, 2
320620030705, SBI, 26, 1, 112, 12, 2, 20030713, 1530, 72.0302, -154.0539, 1005,    203.7,   0.1480,  34.7032, 2,  34.7033, 2,    272.3, 2,    289.9, 2,    12.35, 2,    12.83, 2,     0.01, 2,     1.04, 2,  -999.00, 9,   0.1402,     0.09, 2, 0.02, 2,  -999.00, 9,  -999.00, 9,   0.9090, 2, -999.000, 2, -999.000, 9, 4.581, 2
320620030705, SBI, 26, 1, 111, 11, 2, 20030713, 1527, 72.0302, -154.0539, 1005,    213.8,   0.2130,  34.7208, 2,  34.7215, 2,    272.7, 2,    290.4, 2,    11.73, 2,    12.83, 2,     0.01, 2,     1.02, 2,  -999.00, 9,   0.2047,     0.06, 2, 0.01, 2,  -999.00, 9,  -999.00, 9,   0.6470, 2, -999.000, 2, -999.000, 9, 4.611, 2
320620030705, SBI, 26, 1, 110, 10, 2, 20030713, 1524, 72.0302, -154.0539, 1005,    243.8,   0.3570,  34.7627, 2,  34.7634, 2,    273.7, 2,    291.3, 2,    10.49, 2,    12.82, 2,     0.01, 2,     0.99, 2,  -999.00, 9,   0.3471,     0.09, 2, 0.02, 2,  -999.00, 9,  -999.00, 9,   0.6200, 2, -999.000, 2, -999.000, 9, 4.666, 2
320620030705, SBI, 26, 1, 109, 9, 2, 20030713, 1521, 72.0302, -154.0539, 1005,    283.9,   0.4483,  34.8028, 2,  34.8044, 2,    274.9, 2,    292.7, 2,     9.45, 2,    12.78, 2,     0.00, 2,     0.95, 2,  -999.00, 9,   0.4364,     0.01, 2, 0.01, 2,  -999.00, 9,  -999.00, 9,   0.5990, 2, -999.000, 2, -999.000, 9, 4.643, 2
320620030705, SBI, 26, 1, 108, 8, 2, 20030713, 1518, 72.0302, -154.0539, 1005,    334.3,   0.4382,  34.8284, 2,  34.8290, 2,    276.1, 2,    294.1, 2,     8.93, 2,    12.78, 2,     0.00, 2,     0.94, 2,  -999.00, 9,   0.4241,     0.00, 2, 0.01, 2,  -999.00, 9,  -999.00, 9,   0.6530, 2, -999.000, 2, -999.000, 9, 4.714, 2
320620030705, SBI, 26, 1, 107, 7, 2, 20030713, 1515, 72.0302, -154.0539, 1005,    384.7,   0.4420,  34.8427, 2,  34.8431, 2,    276.9, 2,    296.1, 2,     7.99, 2,    12.83, 2,     0.00, 2,     0.91, 2,  -999.00, 9,   0.4256,     0.00, 2, 0, 2,  -999.00, 9,  -999.00, 9,   0.5570, 2, -999.000, 2, -999.000, 9, 4.773, 2
320620030705, SBI, 26, 1, 106, 6, 2, 20030713, 1511, 72.0302, -154.0539, 1005,    455.0,   0.3939,  34.8517, 2,  34.8511, 2,    277.0, 2,    295.5, 2,     8.09, 2,    12.76, 2,     0.01, 2,     0.91, 2,  -999.00, 9,   0.3744,     0.01, 2, 0, 2,  -999.00, 9,  -999.00, 9,   0.5790, 2, -999.000, 2, -999.000, 9, 4.814, 2
320620030705, SBI, 26, 1, 105, 5, 2, 20030713, 1507, 72.0302, -154.0539, 1005,    530.6,   0.3117,  34.8592, 2,  34.8595, 2,    278.2, 2,    297.3, 2,     7.57, 2,    12.72, 2,     0.00, 2,     0.90, 2,  -999.00, 9,   0.2889,     0.01, 2, 0, 2,  -999.00, 9,  -999.00, 9,   0.8230, 2, -999.000, 2, -999.000, 9, 4.795, 2
320620030705, SBI, 26, 1, 104, 4, 2, 20030713, 1503, 72.0302, -154.0539, 1005,    656.5,   0.1893,  34.8678, 2,  34.8668, 2,    279.0, 2,    298.7, 2,     7.47, 2,    12.78, 2,     0.00, 2,     0.90, 2,  -999.00, 9,   0.1610,     0.00, 2, 0, 2,  -999.00, 9,  -999.00, 9,   0.5630, 2, -999.000, 2, -999.000, 9, 4.740, 2
320620030705, SBI, 26, 1, 103, 3, 2, 20030713, 1458, 72.0302, -154.0539, 1005,    817.8,   0.0495,  34.8768, 2,  34.8756, 2,    278.6, 2,    298.8, 2,     7.88, 2,    12.83, 2,     0.00, 2,     0.91, 2,  -999.00, 9,   0.0140,     0.01, 2, 0, 2,  -999.00, 9,  -999.00, 9,   0.5410, 2, -999.000, 2, -999.000, 9, 4.721, 2
320620030705, SBI, 26, 1, 102, 2, 2, 20030713, 1452, 72.0302, -154.0539, 1005,    969.2,  -0.0257,  34.8831, 2,  34.8834, 2,    278.1, 2,    298.7, 2,     8.08, 2,    12.88, 2,     0.00, 2,     0.93, 2,  -999.00, 9,  -0.0685,     0.03, 2, 0.02, 2,  -999.00, 9,  -999.00, 9,   0.5830, 2, -999.000, 2, -999.000, 9, 4.768, 2
320620030705, SBI, 26, 1, 101, 1, 2, 20030713, 1449, 72.0302, -154.0539, 1005,   1009.1,  -0.0618,  34.8862, 2,  34.8843, 2,    277.6, 2,    298.3, 2,     8.39, 2,    12.98, 2,     0.00, 2,     0.94, 2,  -999.00, 9,  -0.1064,     0.03, 2, 0.02, 2,  -999.00, 9,  -999.00, 9,   0.6520, 2, -999.000, 2, -999.000, 9, 4.788, 2