BOTTLE,20100423CCHDOSIODBK
EXPOCODE,SECT_ID,STNNBR,CASTNO,SAMPNO,BTLNBR,BTLNBR_FLAG_W,DATE,TIME,LATITUDE,LONGITUDE,DEPTH,CTDPRS,CTDTMP,CTDSAL,CTDSAL_FLAG_W,SALNTY,SALNTY_FLAG_W,CTDOXY,CTDOXY_FLAG_W,OXYGEN,OXYGEN_FLAG_W,SILCAT,SILCAT_FLAG_W,NITRAT,NITRAT_FLAG_W,NITRIT,NITRIT_FLAG_W,PHSPHT,PHSPHT_FLAG_W,DOC,DOC_FLAG_W,THETA,NH4,NH4_FLAG_W,UREA,UREA_FLAG_W,CHLORA,CHLORA_FLAG_W,PPHYTN,PPHYTN_FLAG_W,FLUOR,FLUOR_FLAG_W,HAARDT,HAARDT_FLAG_W,PAR,PAR_FLAG_W,SPAR,SPAR_FLAG_W
,,,,,,,,,,,METERS,DBAR,ITS-90,PSS-78,,PSS-78,,UMOL/KG,,UMOL/KG,,UMOL/KG,,UMOL/KG,,UMOL/KG,,UMOL/KG,,UMOL/KG,,DEG C,UMOL/KG,,UMOL/KG,,UG/KG,,UG/KG,,MG/M^3,,VOLTS,,VOLTS,,VOLTS,
320620030705, SBI, 35, 1, 124, 24, 2, 20030715, 1319, 72.7084, -152.9387, 3729,      2.3,  -1.2453,  28.9312, 2,  28.9902, 2,    366.6, 2,    399.5, 2,     1.86, 2,     0.09, 2,     0.00, 2,     0.68, 2,  -999.00, 9,  -1.2453,     0.01, 2, 0, 2,     0.05, 2,     0.02, 2,   0.8450, 2, -999.000, 2, -999.000, 9, 4.646, 2
320620030705, SBI, 35, 1, 123, 23, 2, 20030715, 1317, 72.7084, -152.9387, 3729,     15.6,  -1.3339,  29.8970, 2, -999.0000, 9,    370.2, 2,    403.9, 2,     1.92, 2,     0.09, 2,     0.00, 2,     0.72, 2,  -999.00, 9,  -1.3341,     0.01, 2, 0.01, 2,     0.08, 2,     0.05, 2,   0.7280, 2, -999.000, 2, -999.000, 9, 4.646, 2
320620030705, SBI, 35, 1, 122, 22, 2, 20030715, 1314, 72.7084, -152.9387, 3729,     25.5,  -1.3482,  30.1555, 2, -999.0000, 9,    372.4, 2,    404.9, 2,     2.09, 2,     0.03, 2,     0.00, 2,     0.73, 2,  -999.00, 9,  -1.3486,     0.01, 2, 0, 2,  -999.00, 9,  -999.00, 9,   0.7880, 2, -999.000, 2, -999.000, 9, 4.674, 2
320620030705, SBI, 35, 1, 121, 21, 2, 20030715, 1312, 72.7084, -152.9387, 3729,     35.5,  -1.3814,  30.2264, 2, -999.0000, 9,    372.8, 2,    408.2, 2,     2.86, 2,     0.03, 2,     0.00, 2,     0.76, 2,  -999.00, 9,  -1.3819,     0.01, 2, 0.01, 2,     0.15, 2,     0.14, 2,   0.8700, 2, -999.000, 2, -999.000, 9, 4.683, 2
320620030705, SBI, 35, 1, 120, 20, 2, 20030715, 1309, 72.7084, -152.9387, 3729,     50.6,  -1.2333,  31.0121, 2,  31.1032, 2,    352.0, 2,    379.7, 2,     5.51, 2,     1.60, 2,     0.13, 2,     0.94, 2,  -999.00, 9,  -1.2342,     0.01, 2, 0.02, 2,     0.36, 2,     0.40, 2,   1.1670, 2, -999.000, 2, -999.000, 9, 4.667, 2
320620030705, SBI, 35, 1, 119, 19, 2, 20030715, 1306, 72.7084, -152.9387, 3729,     62.5,  -1.0888,  31.9431, 2, -999.0000, 9,    312.7, 2,    339.4, 2,     9.58, 2,     6.93, 2,     0.02, 2,     1.31, 2,  -999.00, 9,  -1.0901,     0.01, 2, 0.01, 2,  -999.00, 9,  -999.00, 9,   1.1910, 2, -999.000, 2, -999.000, 9, 4.695, 2
320620030705, SBI, 35, 1, 118, 18, 2, 20030715, 1303, 72.7084, -152.9387, 3729,     82.8,  -1.3004,  32.2986, 2, -999.0000, 9,    287.8, 2,    313.8, 2,    13.14, 2,    10.24, 2,     0.01, 2,     1.53, 2,  -999.00, 9,  -1.3021,     0.01, 2, 0.01, 2,     0.07, 2,     0.02, 2,   0.7230, 2, -999.000, 2, -999.000, 9, 4.686, 2
320620030705, SBI, 35, 1, 117, 17, 2, 20030715, 1300, 72.7084, -152.9387, 3729,     97.7,  -1.4333,  32.5548, 2, -999.0000, 9,    274.5, 2,    296.5, 2,    28.26, 2,    13.03, 2,     0.00, 2,     1.70, 2,  -999.00, 9,  -1.4352,     0.00, 2, 0.01, 2,  -999.00, 9,  -999.00, 9,   0.6350, 2, -999.000, 2, -999.000, 9, 4.652, 2
320620030705, SBI, 35, 1, 116, 16, 2, 20030715, 1257, 72.7084, -152.9387, 3729,    112.6,  -1.5044,  32.7004, 2, -999.0000, 9,    269.4, 2,    294.9, 2,    29.46, 2,    13.56, 2,     0.00, 2,     1.72, 2,  -999.00, 9,  -1.5066,     0.00, 2, 0, 2,  -999.00, 9,  -999.00, 9,   0.6620, 2, -999.000, 2, -999.000, 9, 4.657, 2
320620030705, SBI, 35, 1, 115, 15, 2, 20030715, 1255, 72.7084, -152.9387, 3729,    128.1,  -1.5415,  32.8369, 2,  32.8555, 2,    268.0, 2,    292.6, 2,    30.97, 2,    14.07, 2,     0.00, 2,     1.75, 2,  -999.00, 9,  -1.5440,     0.00, 2, 0, 2,  -999.00, 9,  -999.00, 9,   0.8350, 2, -999.000, 2, -999.000, 9, 4.709, 2
320620030705, SBI, 35, 1, 114, 14, 2, 20030715, 1252, 72.7084, -152.9387, 3729,    142.6,  -1.5378,  32.9593, 2, -999.0000, 9,    265.2, 2,    289.5, 2,    32.69, 2,    14.65, 2,     0.00, 2,     1.78, 2,  -999.00, 9,  -1.5406,     0.00, 2, 0, 2,     0.01, 2,     0.01, 2,   0.8660, 2, -999.000, 2, -999.000, 9, 4.709, 2
320620030705, SBI, 35, 1, 113, 13, 2, 20030715, 1249, 72.7084, -152.9387, 3729,    157.8,  -1.5002,  33.1273, 2, -999.0000, 9,    261.9, 2,    285.5, 2,    32.75, 2,    14.90, 2,     0.00, 2,     1.77, 2,  -999.00, 9,  -1.5035,     0.00, 2, 0, 2,  -999.00, 9,  -999.00, 9,   0.5910, 2, -999.000, 2, -999.000, 9, 4.674, 2
320620030705, SBI, 35, 1, 112, 12, 2, 20030715, 1247, 72.7084, -152.9387, 3729,    177.8,  -1.3584,  33.4645, 2, -999.0000, 9,    257.1, 2,    280.7, 2,    31.67, 2,    15.01, 2,     0.00, 2,     1.69, 2,  -999.00, 9,  -1.3625,     0.00, 2, 0.01, 2,  -999.00, 9,  -999.00, 9,   0.5930, 2, -999.000, 2, -999.000, 9, 4.465, 2
320620030705, SBI, 35, 1, 111, 11, 2, 20030715, 1244, 72.7084, -152.9387, 3729,    192.9,  -1.2882,  33.7252, 2, -999.0000, 9,    258.8, 2,    284.3, 2,    29.56, 2,    14.64, 2,     0.00, 2,     1.59, 2,  -999.00, 9,  -1.2928,     0.00, 2, 0.01, 2,  -999.00, 9,  -999.00, 9,   0.5610, 2, -999.000, 2, -999.000, 9, 4.694, 2
320620030705, SBI, 35, 1, 110, 10, 2, 20030715, 1242, 72.7084, -152.9387, 3729,    207.9,  -1.1480,  33.9843, 2,  34.0325, 2,    259.5, 2,    283.6, 2,    26.52, 2,    14.33, 2,     0.00, 2,     1.49, 2,  -999.00, 9,  -1.1534,     0.00, 2, 0, 2,  -999.00, 9,  -999.00, 9,   0.6480, 2, -999.000, 2, -999.000, 9, 4.759, 2
320620030705, SBI, 35, 1, 109, 9, 2, 20030715, 1239, 72.7084, -152.9387, 3729,    228.1,  -0.9118,  34.2872, 2, -999.0000, 9,    261.9, 2,    285.3, 2,    19.97, 2,    13.17, 2,     0.00, 2,     1.26, 2,  -999.00, 9,  -0.9184,     0.00, 2, 0.01, 2,  -999.00, 9,  -999.00, 9,   0.6630, 2, -999.000, 2, -999.000, 9, 4.795, 2
320620030705, SBI, 35, 1, 108, 8, 2, 20030715, 1236, 72.7084, -152.9387, 3729,    248.2,  -0.4077,  34.4787, 2,  34.5102, 2,    257.9, 2,    279.7, 2,    14.06, 2,    12.85, 2,     0.00, 2,     1.07, 2,  -999.00, 9,  -0.4161,     0.00, 2, 0, 2,  -999.00, 9,  -999.00, 9,   0.6530, 2, -999.000, 2, -999.000, 9, 4.806, 2
320620030705, SBI, 35, 1, 107, 7, 2, 20030715, 1233, 72.7084, -152.9387, 3729,    278.6,   0.1027,  34.6303, 2,  34.6349, 2,    258.1, 2,    280.4, 2,    11.85, 2,    13.06, 2,     0.00, 2,     1.00, 2,  -999.00, 9,   0.0920,     0.00, 2, 0, 2,  -999.00, 9,  -999.00, 9,   0.7950, 2, -999.000, 2, -999.000, 9, 4.815, 2
320620030705, SBI, 35, 1, 106, 6, 2, 20030715, 1230, 72.7084, -152.9387, 3729,    308.7,   0.3445,  34.7156, 2,  34.7227, 2,    264.5, 2,    286.1, 2,    10.36, 2,    12.90, 2,     0.00, 2,     0.98, 2,  -999.00, 9,   0.3318,     0.00, 2, 0, 2,  -999.00, 9,  -999.00, 9,   0.5110, 2, -999.000, 2, -999.000, 9, 4.818, 2
320620030705, SBI, 35, 1, 105, 5, 2, 20030715, 1228, 72.7084, -152.9387, 3729,    348.9,   0.5578,  34.7738, 2,  34.7769, 2,    268.3, 2,    289.6, 2,     8.56, 2,    12.79, 2,     0.00, 2,     0.93, 2,  -999.00, 9,   0.5427,     0.00, 2, 0, 2,  -999.00, 9,  -999.00, 9,   0.8360, 2, -999.000, 2, -999.000, 9, 4.818, 2
320620030705, SBI, 35, 1, 104, 4, 2, 20030715, 1225, 72.7084, -152.9387, 3729,    398.9,   0.6659,  34.8179, 2,  34.8150, 2,    271.8, 2,    293.0, 2,     7.39, 2,    12.79, 2,     0.00, 2,     0.89, 2,  -999.00, 9,   0.6481,     0.00, 2, 0, 2,  -999.00, 9,  -999.00, 9,   0.5410, 2, -999.000, 2, -999.000, 9, 4.838, 2
320620030705, SBI, 35, 1, 103, 3, 2, 20030715, 1220, 72.7084, -152.9387, 3729,    559.7,   0.4827,  34.8481, 2,  34.8480, 2,    273.8, 2,    296.3, 2,     7.14, 2,    12.79, 2,     0.00, 2,     0.89, 2,  -999.00, 9,   0.4577,     0.00, 2, 0, 2,  -999.00, 9,  -999.00, 9,   0.4770, 2, -999.000, 2, -999.000, 9, 4.840, 2
320620030705, SBI, 35, 1, 102, 2, 2, 20030715, 1214, 72.7084, -152.9387, 3729,    761.1,   0.2236,  34.8657, 2,  34.8637, 2,    275.4, 2,   -999.0, 9,     7.00, 2,    12.74, 2,     0.00, 2,     0.90, 2,  -999.00, 9,   0.1899,     0.00, 2, 0, 2,  -999.00, 9,  -999.00, 9,   0.4630, 2, -999.000, 2, -999.000, 9, 4.854, 2
320620030705, SBI, 35, 1, 101, 1, 2, 20030715, 1208, 72.7084, -152.9387, 3729,   1013.3,  -0.0396,  34.8820, 2,  34.8800, 2,    275.6, 2,    299.8, 2,     7.15, 2,    12.95, 2,     0.00, 2,     0.91, 2,  -999.00, 9,  -0.0846,     0.00, 2, 0, 2,  -999.00, 9,  -999.00, 9,   0.6310, 2, -999.000, 2, -999.000, 9, 4.906, 2
320620030705, SBI, 36, 1, 124, 24, 2, 20030715, 1731, 72.8240, -152.5520, 3881,      2.2,  -1.2144,  28.6645, 2,  28.5925, 2,    364.4, 2,    397.1, 2,     2.83, 2,     0.10, 2,     0.00, 2,     0.67, 2,  -999.00, 9,  -1.2144,     0.02, 2, 0, 2,     0.04, 2,     0.02, 2,   0.6800, 2, -999.000, 2, -999.000, 9, 4.109, 2
320620030705, SBI, 36, 1, 123, 23, 2, 20030715, 1729, 72.8240, -152.5520, 3881,     12.8,  -1.2176,  28.9081, 2, -999.0000, 9,    365.8, 2,    398.4, 2,     2.92, 2,     0.04, 2,     0.00, 2,     0.68, 2,  -999.00, 9,  -1.2178,     0.02, 2, 0, 2,     0.05, 2,     0.02, 2,   0.8460, 2, -999.000, 2, -999.000, 9, 4.217, 2
320620030705, SBI, 36, 1, 122, 22, 2, 20030715, 1727, 72.8240, -152.5520, 3881,     22.9,  -1.1409,  29.7790, 2, -999.0000, 9,    370.4, 2,    404.8, 2,     3.20, 2,    -0.03, 2,     0.07, 2,     0.71, 2,  -999.00, 9,  -1.1413,     0.02, 2, 0, 2,  -999.00, 9,  -999.00, 9,   0.6300, 2, -999.000, 2, -999.000, 9, 4.343, 2
320620030705, SBI, 36, 1, 121, 21, 2, 20030715, 1725, 72.8240, -152.5520, 3881,     32.7,  -1.3215,  30.1650, 2, -999.0000, 9,    371.8, 2,    399.7, 2,     4.22, 2,     0.24, 2,     0.03, 2,     0.76, 2,  -999.00, 9,  -1.3220,     0.02, 2, 0.01, 2,     0.18, 2,     0.18, 2,   0.7800, 2, -999.000, 2, -999.000, 9, 4.386, 2
320620030705, SBI, 36, 1, 120, 20, 2, 20030715, 1723, 72.8240, -152.5520, 3881,     47.7,  -0.9990,  31.7472, 2,  31.9182, 2,    327.2, 2,    344.8, 2,    14.44, 2,     6.27, 2,     0.07, 2,     1.27, 2,  -999.00, 9,  -1.0000,     0.03, 2, 0.02, 2,     0.39, 2,     0.38, 2,   1.2910, 2, -999.000, 2, -999.000, 9, 4.441, 2
320620030705, SBI, 36, 1, 119, 19, 2, 20030715, 1721, 72.8240, -152.5520, 3881,     62.9,  -1.2643,  32.1751, 2, -999.0000, 9,    298.2, 2,    321.2, 2,    19.79, 2,     9.40, 2,     0.02, 2,     1.47, 2,  -999.00, 9,  -1.2656,     0.01, 2, 0.02, 2,  -999.00, 9,  -999.00, 9,   1.1460, 2, -999.000, 2, -999.000, 9, 4.443, 2
320620030705, SBI, 36, 1, 118, 18, 2, 20030715, 1719, 72.8240, -152.5520, 3881,     78.0,  -1.3819,  32.4122, 2, -999.0000, 9,    282.2, 2,    303.8, 2,    24.43, 2,    11.53, 2,     0.01, 2,     1.62, 2,  -999.00, 9,  -1.3834,     0.01, 2, 0.01, 2,     0.03, 2,     0.01, 2,   0.6730, 2, -999.000, 2, -999.000, 9, 4.413, 2
320620030705, SBI, 36, 1, 117, 17, 2, 20030715, 1717, 72.8240, -152.5520, 3881,     93.1,  -1.4689,  32.5980, 2, -999.0000, 9,    274.4, 2,    297.6, 2,    27.63, 2,    12.84, 2,     0.01, 2,     1.68, 2,  -999.00, 9,  -1.4707,     0.01, 2, 0.03, 2,  -999.00, 9,  -999.00, 9,   0.6220, 2, -999.000, 2, -999.000, 9, 4.367, 2
320620030705, SBI, 36, 1, 116, 16, 2, 20030715, 1715, 72.8240, -152.5520, 3881,    108.1,  -1.5097,  32.7369, 2,  32.7314, 2,    271.9, 2,    296.7, 2,    28.64, 2,    13.17, 2,     0.01, 2,     1.69, 2,  -999.00, 9,  -1.5118,     0.01, 2, 0.01, 2,  -999.00, 9,  -999.00, 9,   0.8000, 2, -999.000, 2, -999.000, 9, 4.263, 2
320620030705, SBI, 36, 1, 115, 15, 2, 20030715, 1713, 72.8240, -152.5520, 3881,    123.2,  -1.5375,  32.8265, 2, -999.0000, 9,    268.3, 2,    294.0, 2,    30.28, 2,    13.74, 2,     0.01, 2,     1.73, 2,  -999.00, 9,  -1.5399,     0.01, 2, 0.01, 2,  -999.00, 9,  -999.00, 9,   0.6200, 2, -999.000, 2, -999.000, 9, 4.263, 2
320620030705, SBI, 36, 1, 114, 14, 2, 20030715, 1710, 72.8240, -152.5520, 3881,    138.0,  -1.5528,  32.9071, 2, -999.0000, 9,    267.8, 2,    294.1, 2,    31.00, 2,    14.05, 2,     0.01, 2,     1.74, 2,  -999.00, 9,  -1.5555,     0.01, 2, 0.02, 2,     0.00, 2,     0.01, 2,   0.6200, 2, -999.000, 2, -999.000, 9, 4.281, 2
320620030705, SBI, 36, 1, 113, 13, 2, 20030715, 1709, 72.8240, -152.5520, 3881,    153.2,  -1.5419,  32.9908, 2, -999.0000, 9,    264.6, 2,    290.7, 2,  -999.00, 5,  -999.00, 5,  -999.00, 5,  -999.00, 5,  -999.00, 9,  -1.5450,  -999.00, 5, -999, 5,  -999.00, 9,  -999.00, 9,   0.6480, 2, -999.000, 2, -999.000, 9, 4.249, 2
320620030705, SBI, 36, 1, 112, 12, 2, 20030715, 1706, 72.8240, -152.5520, 3881,    173.1,  -1.5085,  33.1559, 2, -999.0000, 9,    261.7, 2,    285.6, 2,    33.05, 2,    14.89, 2,     0.01, 2,     1.75, 2,  -999.00, 9,  -1.5121,     0.00, 2, 0.02, 2,  -999.00, 9,  -999.00, 9,   0.7460, 2, -999.000, 2, -999.000, 9, 4.076, 2
320620030705, SBI, 36, 1, 111, 11, 2, 20030715, 1704, 72.8240, -152.5520, 3881,    193.4,  -1.3493,  33.4857, 2, -999.0000, 9,    255.6, 2,    281.1, 2,    31.17, 2,    14.95, 2,     0.01, 2,     1.67, 2,  -999.00, 9,  -1.3538,     0.00, 2, 0.01, 2,  -999.00, 9,  -999.00, 9,   0.7030, 2, -999.000, 2, -999.000, 9, 3.973, 2
320620030705, SBI, 36, 1, 110, 10, 2, 20030715, 1702, 72.8240, -152.5520, 3881,    213.5,  -1.1460,  33.8610, 2, -999.0000, 9,    255.9, 2,    278.4, 2,    27.00, 2,    14.69, 2,     0.01, 2,     1.51, 2,  -999.00, 9,  -1.1515,     0.01, 2, 0.01, 2,  -999.00, 9,  -999.00, 9,   0.5250, 2, -999.000, 2, -999.000, 9, 4.086, 2
320620030705, SBI, 36, 1, 109, 9, 2, 20030715, 1700, 72.8240, -152.5520, 3881,    233.3,  -0.7914,  34.2037, 2,  34.3004, 2,    252.7, 2,    274.7, 2,    20.97, 2,    14.16, 2,     0.01, 2,     1.30, 2,  -999.00, 9,  -0.7984,     0.00, 2, 0.02, 2,  -999.00, 9,  -999.00, 9,   0.5910, 2, -999.000, 2, -999.000, 9, 4.092, 2
320620030705, SBI, 36, 1, 108, 8, 2, 20030715, 1657, 72.8240, -152.5520, 3881,    253.7,  -0.4305,  34.4245, 2,  34.4716, 2,    251.9, 2,    274.7, 2,    17.03, 2,    13.74, 2,     0.00, 2,     1.16, 2,  -999.00, 9,  -0.4390,     0.00, 2, 0.01, 2,  -999.00, 9,  -999.00, 9,   0.5270, 2, -999.000, 2, -999.000, 9, 4.082, 2
320620030705, SBI, 36, 1, 107, 7, 2, 20030715, 1655, 72.8240, -152.5520, 3881,    294.1,   0.1954,  34.6556, 2,  34.6596, 2,    257.8, 2,    279.1, 2,    12.15, 2,    13.21, 2,     0.01, 2,     1.03, 2,  -999.00, 9,   0.1838,     0.01, 2, 0.01, 2,  -999.00, 9,  -999.00, 9,   0.5470, 2, -999.000, 2, -999.000, 9, 4.088, 2
320620030705, SBI, 36, 1, 106, 6, 2, 20030715, 1653, 72.8240, -152.5520, 3881,    324.0,   0.4160,  34.7274, 2,  34.7287, 2,    261.0, 2,    281.9, 2,    10.68, 2,    13.27, 2,     0.00, 2,     0.98, 2,  -999.00, 9,   0.4025,     0.00, 2, 0, 2,  -999.00, 9,  -999.00, 9,   0.7930, 2, -999.000, 2, -999.000, 9, 4.255, 2
320620030705, SBI, 36, 1, 105, 5, 2, 20030715, 1650, 72.8240, -152.5520, 3881,    374.6,   0.6564,  34.7981, 2,  34.8042, 2,    268.3, 2,    291.0, 2,     7.98, 2,    12.91, 2,     0.00, 2,     0.91, 2,  -999.00, 9,   0.6398,     0.00, 2, 0, 2,  -999.00, 9,  -999.00, 9,   0.5380, 2, -999.000, 2, -999.000, 9, 4.232, 2
320620030705, SBI, 36, 1, 104, 4, 2, 20030715, 1646, 72.8240, -152.5520, 3881,    454.9,   0.5671,  34.8224, 2,  34.8250, 2,    269.9, 2,    291.8, 2,     8.06, 2,    12.91, 2,     0.00, 2,     0.91, 2,  -999.00, 9,   0.5469,     0.00, 2, 0, 2,  -999.00, 9,  -999.00, 9,   0.7710, 2, -999.000, 2, -999.000, 9, 4.251, 2
320620030705, SBI, 36, 1, 103, 3, 2, 20030715, 1640, 72.8240, -152.5520, 3881,    605.7,   0.4434,  34.8500, 2,  34.8501, 2,    273.3, 2,    295.9, 2,     7.32, 2,    12.92, 2,     0.00, 2,     0.90, 2,  -999.00, 9,   0.4163,     0.00, 2, 0, 2,  -999.00, 9,  -999.00, 9,   0.5260, 2, -999.000, 2, -999.000, 9, 4.307, 2
320620030705, SBI, 36, 1, 102, 2, 2, 20030715, 1635, 72.8240, -152.5520, 3881,    807.5,   0.2017,  34.8671, 2,  34.8636, 2,    275.7, 2,    300.2, 2,     7.10, 2,    12.76, 2,     0.00, 2,     0.90, 2,  -999.00, 9,   0.1657,     0.00, 2, 0, 2,  -999.00, 9,  -999.00, 9,   0.5310, 2, -999.000, 2, -999.000, 9, 4.512, 2
320620030705, SBI, 36, 1, 101, 1, 2, 20030715, 1629, 72.8240, -152.5520, 3881,   1008.8,  -0.0048,  34.8802, 2,  34.8764, 2,    275.7, 2,    299.4, 2,     7.50, 2,    12.98, 2,     0.00, 2,     0.91, 2,  -999.00, 9,  -0.0498,     0.00, 2, 0, 2,  -999.00, 9,  -999.00, 9,   0.5140, 2, -999.000, 2, -999.000, 9, 4.476, 2