BOTTLE,20100423CCHDOSIODBK
EXPOCODE,SECT_ID,STNNBR,CASTNO,SAMPNO,BTLNBR,BTLNBR_FLAG_W,DATE,TIME,LATITUDE,LONGITUDE,DEPTH,CTDPRS,CTDTMP,CTDSAL,CTDSAL_FLAG_W,SALNTY,SALNTY_FLAG_W,CTDOXY,CTDOXY_FLAG_W,OXYGEN,OXYGEN_FLAG_W,SILCAT,SILCAT_FLAG_W,NITRAT,NITRAT_FLAG_W,NITRIT,NITRIT_FLAG_W,PHSPHT,PHSPHT_FLAG_W,DOC,DOC_FLAG_W,THETA,NH4,NH4_FLAG_W,UREA,UREA_FLAG_W,CHLORA,CHLORA_FLAG_W,PPHYTN,PPHYTN_FLAG_W,FLUOR,FLUOR_FLAG_W,HAARDT,HAARDT_FLAG_W,PAR,PAR_FLAG_W,SPAR,SPAR_FLAG_W
,,,,,,,,,,,METERS,DBAR,ITS-90,PSS-78,,PSS-78,,UMOL/KG,,UMOL/KG,,UMOL/KG,,UMOL/KG,,UMOL/KG,,UMOL/KG,,UMOL/KG,,DEG C,UMOL/KG,,UMOL/KG,,UG/KG,,UG/KG,,MG/M^3,,VOLTS,,VOLTS,,VOLTS,
320620030705, SBI, 33, 1, 124, 24, 2, 20030715, 604, 72.4701, -153.6684, 3019,      1.9,   0.9222,  30.9955, 2,  30.8677, 2,    367.1, 2,    394.3, 2,    17.33, 2,     0.57, 2,     0.02, 2,     0.92, 2,  -999.00, 9,   0.9221,     0.17, 2, 0.01, 2,     0.48, 2,     0.12, 2,   1.2160, 2, -999.000, 2, -999.000, 9, 4.732, 2
320620030705, SBI, 33, 1, 123, 23, 2, 20030715, 603, 72.4701, -153.6684, 3019,     19.0,  -0.0864,  31.6654, 2, -999.0000, 9,    362.4, 2,    391.8, 2,    13.03, 2,     1.37, 2,     0.05, 2,     1.00, 2,  -999.00, 9,  -0.0869,     0.96, 2, 0.1, 2,     0.85, 2,     0.20, 2,   1.4280, 2, -999.000, 2, -999.000, 9, 4.773, 2
320620030705, SBI, 33, 1, 122, 22, 2, 20030715, 601, 72.4701, -153.6684, 3019,     37.4,  -0.5240,  31.9566, 2, -999.0000, 9,    361.4, 2,    392.9, 2,    11.60, 2,     1.67, 2,     0.06, 2,     1.02, 2,  -999.00, 9,  -0.5250,     1.19, 2, 0.1, 2,     0.27, 2,     0.20, 2,   1.0260, 2, -999.000, 2, -999.000, 9, 4.767, 2
320620030705, SBI, 33, 1, 121, 21, 2, 20030715, 559, 72.4701, -153.6684, 3019,     52.2,  -1.1054,  32.0219, 2, -999.0000, 9,    320.7, 2,    356.5, 2,    19.05, 2,     4.80, 2,     0.13, 2,     1.26, 2,  -999.00, 9,  -1.1065,     1.21, 2, 0.09, 2,     0.23, 2,     0.18, 2,   0.9370, 2, -999.000, 2, -999.000, 9, 4.666, 2
320620030705, SBI, 33, 1, 120, 20, 2, 20030715, 558, 72.4701, -153.6684, 3019,     67.3,  -0.8845,  32.1291, 2, -999.0000, 9,    334.2, 2,    367.0, 2,    19.25, 2,     4.53, 2,     0.13, 2,     1.27, 2,  -999.00, 9,  -0.8861,     1.51, 2, 0.1, 2,     0.23, 2,     0.23, 2,   0.9320, 2, -999.000, 2, -999.000, 9, 4.777, 2
320620030705, SBI, 33, 1, 119, 19, 2, 20030715, 556, 72.4701, -153.6684, 3019,     82.2,  -0.8589,  32.2160, 2, -999.0000, 9,    321.5, 2,    350.1, 2,    21.09, 2,     5.00, 2,     0.15, 2,     1.32, 2,  -999.00, 9,  -0.8609,     1.85, 2, 0.12, 2,  -999.00, 9,  -999.00, 9,   1.1070, 2, -999.000, 2, -999.000, 9, 4.796, 2
320620030705, SBI, 33, 1, 118, 18, 2, 20030715, 555, 72.4701, -153.6684, 3019,     97.3,  -0.7703,  32.3129, 2, -999.0000, 9,    316.5, 2,    344.1, 2,    16.38, 2,     3.75, 2,     0.10, 2,     1.30, 2,  -999.00, 9,  -0.7727,     2.42, 2, 0.21, 2,  -999.00, 9,  -999.00, 9,   0.9770, 2, -999.000, 2, -999.000, 9, 4.776, 2
320620030705, SBI, 33, 1, 117, 17, 2, 20030715, 554, 72.4701, -153.6684, 3019,    112.1,  -1.0463,  32.3818, 2, -999.0000, 9,    305.8, 2,    327.4, 2,    23.44, 2,     6.75, 2,     0.16, 2,     1.52, 2,  -999.00, 9,  -1.0489,     2.40, 2, 0.15, 2,  -999.00, 9,  -999.00, 9,   0.9860, 2, -999.000, 2, -999.000, 9, 4.766, 2
320620030705, SBI, 33, 1, 116, 16, 2, 20030715, 552, 72.4701, -153.6684, 3019,    127.3,  -1.3553,  32.4083, 2,  32.4051, 2,    296.5, 2,    324.4, 2,    25.70, 2,     7.84, 2,     0.18, 2,     1.60, 2,  -999.00, 9,  -1.3579,     2.62, 2, 0.17, 2,  -999.00, 9,  -999.00, 9,   0.9540, 2, -999.000, 2, -999.000, 9, 4.804, 2
320620030705, SBI, 33, 1, 115, 15, 2, 20030715, 550, 72.4701, -153.6684, 3019,    143.9,  -1.4272,  32.4287, 2, -999.0000, 9,    294.8, 2,    322.5, 2,    27.25, 2,     8.28, 2,     0.17, 2,     1.62, 2,  -999.00, 9,  -1.4301,     2.67, 2, 0.15, 2,  -999.00, 9,  -999.00, 9,   1.0130, 2, -999.000, 2, -999.000, 9, 4.822, 2
320620030705, SBI, 33, 1, 114, 14, 2, 20030715, 549, 72.4701, -153.6684, 3019,    159.9,  -1.4916,  32.5380, 2, -999.0000, 9,    285.9, 2,    313.0, 2,    27.45, 2,     9.22, 2,     0.13, 2,     1.63, 2,  -999.00, 9,  -1.4948,     1.75, 2, 0.1, 2,     0.21, 2,     0.22, 2,   1.1280, 2, -999.000, 2, -999.000, 9, 4.827, 2
320620030705, SBI, 33, 1, 113, 13, 2, 20030715, 547, 72.4701, -153.6684, 3019,    179.9,  -1.5271,  32.9433, 2, -999.0000, 9,    273.4, 2,    296.3, 2,    30.12, 2,    13.29, 2,     0.05, 2,     1.68, 2,  -999.00, 9,  -1.5308,     0.08, 2, 0.02, 2,  -999.00, 9,  -999.00, 9,   0.7810, 2, -999.000, 2, -999.000, 9, 4.784, 2
320620030705, SBI, 33, 1, 112, 12, 2, 20030715, 546, 72.4701, -153.6684, 3019,    199.9,  -1.3432,  33.5945, 2, -999.0000, 9,    264.5, 2,    290.7, 2,    28.67, 2,    13.79, 2,     0.01, 2,     1.58, 2,  -999.00, 9,  -1.3479,     0.02, 2, 0.01, 2,  -999.00, 9,  -999.00, 9,   0.6770, 2, -999.000, 2, -999.000, 9, 4.694, 2
320620030705, SBI, 33, 1, 111, 11, 2, 20030715, 544, 72.4701, -153.6684, 3019,    220.0,  -1.1065,  34.0927, 2, -999.0000, 9,    263.2, 2,    285.3, 2,    23.73, 2,    13.90, 2,     0.01, 2,     1.41, 2,  -999.00, 9,  -1.1124,     0.01, 2, 0.01, 2,  -999.00, 9,  -999.00, 9,   0.7070, 2, -999.000, 2, -999.000, 9, 4.764, 2
320620030705, SBI, 33, 1, 110, 10, 2, 20030715, 542, 72.4701, -153.6684, 3019,    239.9,  -0.6607,  34.3931, 2,  34.4277, 2,    264.5, 2,    284.1, 2,    17.57, 2,    13.17, 2,     0.01, 2,     1.20, 2,  -999.00, 9,  -0.6682,     0.01, 2, 0.01, 2,  -999.00, 9,  -999.00, 9,   0.6460, 2, -999.000, 2, -999.000, 9, 4.761, 2
320620030705, SBI, 33, 1, 109, 9, 2, 20030715, 539, 72.4701, -153.6684, 3019,    330.3,   0.4792,  34.7636, 2,  34.7628, 2,    268.6, 2,    291.2, 2,     9.03, 2,    12.74, 2,     0.00, 2,     0.95, 2,  -999.00, 9,   0.4652,     0.00, 2, 0.01, 2,  -999.00, 9,  -999.00, 9,   0.6750, 2, -999.000, 2, -999.000, 9, 4.812, 2
320620030705, SBI, 33, 1, 108, 8, 2, 20030715, 534, 72.4701, -153.6684, 3019,    511.6,   0.5112,  34.8399, 2,  34.8402, 2,    272.7, 2,    295.7, 2,     6.97, 2,    12.70, 2,     0.00, 2,     0.90, 2,  -999.00, 9,   0.4885,     0.00, 2, 0, 2,  -999.00, 9,  -999.00, 9,   0.7820, 2, -999.000, 2, -999.000, 9, 4.512, 2
320620030705, SBI, 33, 1, 107, 7, 2, 20030715, 528, 72.4701, -153.6684, 3019,    711.2,   0.2991,  34.8613, 2,  34.8605, 2,    274.2, 2,    299.5, 2,     6.45, 2,    12.75, 2,     0.00, 2,     0.89, 2,  -999.00, 9,   0.2675,     0.00, 2, 0, 2,  -999.00, 9,  -999.00, 9,   0.5580, 2, -999.000, 2, -999.000, 9, 4.822, 2
320620030705, SBI, 33, 1, 106, 6, 2, 20030715, 520, 72.4701, -153.6684, 3019,   1015.6,  -0.0279,  34.8809, 2,  34.8803, 2,    273.8, 2,    300.1, 2,     6.74, 2,    12.91, 2,     0.00, 2,     0.90, 2,  -999.00, 9,  -0.0731,     0.00, 2, 0, 2,  -999.00, 9,  -999.00, 9,   0.5120, 2, -999.000, 2, -999.000, 9, 4.770, 2
320620030705, SBI, 33, 1, 105, 5, 2, 20030715, 510, 72.4701, -153.6684, 3019,   1419.6,  -0.2803,  34.9088, 2,  34.9081, 2,    271.1, 2,    298.8, 2,     7.97, 2,    13.44, 2,     0.00, 2,     0.95, 2,  -999.00, 9,  -0.3457,     0.02, 2, 0.05, 2,  -999.00, 9,  -999.00, 9,   0.5330, 2, -999.000, 2, -999.000, 9, 4.689, 2
320620030705, SBI, 33, 1, 104, 4, 2, 20030715, 458, 72.4701, -153.6684, 3019,   1925.8,  -0.4042,  34.9388, 2,  34.9362, 2,    263.0, 2,    291.8, 2,    10.64, 2,    14.27, 2,     0.00, 2,     1.01, 2,  -999.00, 9,  -0.4996,     0.00, 2, 0, 2,  -999.00, 9,  -999.00, 9,   0.4890, 2, -999.000, 2, -999.000, 9, 4.751, 2
320620030705, SBI, 33, 1, 103, 3, 2, 20030715, 446, 72.4701, -153.6684, 3019,   2433.5,  -0.3837,  34.9513, 2,  34.9507, 2,    258.2, 2,    287.0, 2,    12.19, 2,    14.64, 2,     0.00, 2,     1.03, 2,  -999.00, 9,  -0.5152,     0.00, 2, 0, 2,  -999.00, 9,  -999.00, 9,   0.5240, 2, -999.000, 2, -999.000, 9, 4.778, 2
320620030705, SBI, 33, 1, 102, 2, 2, 20030715, 434, 72.4701, -153.6684, 3019,   2938.6,  -0.3391,  34.9566, 2,  34.9544, 2,    255.3, 2,    283.4, 2,    13.52, 2,    14.80, 2,     0.00, 2,     1.04, 2,  -999.00, 9,  -0.5112,     0.00, 2, 0, 2,  -999.00, 9,  -999.00, 9,   0.5010, 2, -999.000, 2, -999.000, 9, 4.740, 2
320620030705, SBI, 33, 1, 101, 1, 2, 20030715, 429, 72.4701, -153.6684, 3019,   3061.5,  -0.3278,  34.9570, 2,  34.9540, 2,    255.3, 2,    282.9, 2,    13.51, 2,    14.84, 2,     0.00, 2,     1.05, 2,  -999.00, 9,  -0.5104,     0.00, 2, 0, 2,  -999.00, 9,  -999.00, 9,   0.4360, 2, -999.000, 2, -999.000, 9, 4.680, 2
320620030705, SBI, 34, 1, 124, 24, 2, 20030715, 935, 72.5961, -153.3204, 3447,      2.3,  -0.7916,  28.9153, 2,  29.0003, 2,    364.7, 2,    397.7, 2,     5.18, 2,     0.19, 2,     0.00, 2,     0.73, 2,  -999.00, 9,  -0.7916,     0.06, 2, 0, 2,     0.17, 2,     0.07, 2,   0.8390, 2, -999.000, 2, -999.000, 9, 4.965, 2
320620030705, SBI, 34, 1, 123, 23, 2, 20030715, 933, 72.5961, -153.3204, 3447,     14.0,  -0.0792,  30.8695, 2, -999.0000, 9,    370.6, 2,    401.1, 2,    11.06, 2,     0.42, 2,     0.04, 2,     0.88, 2,  -999.00, 9,  -0.0796,     0.12, 2, 0.01, 2,     0.46, 2,     0.18, 2,   1.0790, 2, -999.000, 2, -999.000, 9, 4.964, 2
320620030705, SBI, 34, 1, 122, 22, 2, 20030715, 931, 72.5961, -153.3204, 3447,     28.7,   0.0296,  31.3631, 2, -999.0000, 9,    386.2, 2,    405.1, 2,    18.98, 2,     0.43, 2,     0.02, 2,     1.08, 2,  -999.00, 9,   0.0288,     0.30, 2, 0.05, 2,     4.50, 2,     1.01, 2,   2.1790, 2, -999.000, 2, -999.000, 9, 4.963, 2
320620030705, SBI, 34, 1, 121, 21, 2, 20030715, 929, 72.5961, -153.3204, 3447,     39.0,  -0.3557,  31.7809, 2, -999.0000, 9,    358.1, 2,    391.5, 2,    13.05, 2,     1.76, 2,     0.05, 2,     1.07, 2,  -999.00, 9,  -0.3568,     1.28, 2, 0.11, 2,  -999.00, 9,  -999.00, 9,   1.1240, 2, -999.000, 2, -999.000, 9, 4.961, 2
320620030705, SBI, 34, 1, 120, 20, 2, 20030715, 927, 72.5961, -153.3204, 3447,     54.0,  -0.3442,  31.9404, 2, -999.0000, 9,    355.2, 2,    383.9, 2,    13.69, 2,     2.12, 2,     0.08, 2,     1.08, 2,  -999.00, 9,  -0.3457,     1.51, 2, 0.11, 2,     0.26, 2,     0.21, 2,   0.9490, 2, -999.000, 2, -999.000, 9, 4.960, 2
320620030705, SBI, 34, 1, 119, 19, 2, 20030715, 925, 72.5961, -153.3204, 3447,     63.8,  -0.9816,  32.0414, 2, -999.0000, 9,    340.0, 2,    368.0, 2,    17.30, 2,     3.98, 2,     0.12, 2,     1.26, 2,  -999.00, 9,  -0.9830,     1.62, 2, 0.13, 2,  -999.00, 9,  -999.00, 9,   1.2920, 2, -999.000, 2, -999.000, 9, 4.960, 2
320620030705, SBI, 34, 1, 118, 18, 2, 20030715, 922, 72.5961, -153.3204, 3447,     81.3,  -0.7380,  32.2063, 2, -999.0000, 9,    326.8, 2,    349.5, 2,    19.48, 2,     4.77, 2,     0.13, 2,     1.31, 2,  -999.00, 9,  -0.7400,     1.94, 2, 0.13, 2,     0.25, 2,     0.34, 2,   1.0260, 2, -999.000, 2, -999.000, 9, 4.958, 2
320620030705, SBI, 34, 1, 117, 17, 2, 20030715, 919, 72.5961, -153.3204, 3447,     96.9,  -1.1732,  32.3179, 2,  32.3089, 2,    311.7, 2,    341.1, 2,    22.88, 2,     6.40, 2,     0.15, 2,     1.46, 2,  -999.00, 9,  -1.1753,     2.07, 2, 0.11, 2,  -999.00, 9,  -999.00, 9,   0.9760, 2, -999.000, 2, -999.000, 9, 4.957, 2
320620030705, SBI, 34, 1, 116, 16, 2, 20030715, 917, 72.5961, -153.3204, 3447,    112.2,  -1.3340,  32.3960, 2, -999.0000, 9,    299.1, 2,    326.0, 2,    26.49, 2,     8.16, 2,     0.15, 2,     1.61, 2,  -999.00, 9,  -1.3363,     2.24, 2, 0.14, 2,  -999.00, 9,  -999.00, 9,   1.0270, 2, -999.000, 2, -999.000, 9, 4.955, 2
320620030705, SBI, 34, 1, 115, 15, 2, 20030715, 914, 72.5961, -153.3204, 3447,    124.0,  -1.5281,  32.5117, 2, -999.0000, 9,    284.0, 2,    308.4, 2,    25.89, 2,    11.57, 2,     0.00, 2,     1.63, 2,  -999.00, 9,  -1.5305,     0.01, 2, 0, 2,  -999.00, 9,  -999.00, 9,   0.6610, 2, -999.000, 2, -999.000, 9, 4.952, 2
320620030705, SBI, 34, 1, 114, 14, 2, 20030715, 912, 72.5961, -153.3204, 3447,    139.1,  -1.4923,  32.6833, 2, -999.0000, 9,    270.2, 2,    296.7, 2,    28.38, 2,    13.30, 2,     0.00, 2,     1.70, 2,  -999.00, 9,  -1.4951,     0.01, 2, 0, 2,  -999.00, 9,  -999.00, 9,   0.6770, 2, -999.000, 2, -999.000, 9, 4.952, 2
320620030705, SBI, 34, 1, 113, 13, 2, 20030715, 910, 72.5961, -153.3204, 3447,    154.1,  -1.5703,  32.8720, 2,  32.8678, 2,    271.3, 2,    298.8, 2,    30.03, 2,    13.52, 2,     0.00, 2,     1.71, 2,  -999.00, 9,  -1.5733,     0.01, 2, 0, 2,     0.06, 2,     0.03, 2,   0.8490, 2, -999.000, 2, -999.000, 9, 4.951, 2
320620030705, SBI, 34, 1, 112, 12, 2, 20030715, 908, 72.5961, -153.3204, 3447,    174.2,  -1.5530,  33.2329, 2, -999.0000, 9,    274.1, 2,    300.9, 2,    30.15, 2,    12.98, 2,     0.00, 2,     1.65, 2,  -999.00, 9,  -1.5566,     0.00, 2, 0, 2,  -999.00, 9,  -999.00, 9,   0.6610, 2, -999.000, 2, -999.000, 9, 4.949, 2
320620030705, SBI, 34, 1, 111, 11, 2, 20030715, 906, 72.5961, -153.3204, 3447,    194.1,  -1.2944,  33.7624, 2, -999.0000, 9,    262.4, 2,    287.6, 2,    27.59, 2,    14.18, 2,     0.01, 2,     1.56, 2,  -999.00, 9,  -1.2991,     0.02, 2, 0.01, 2,  -999.00, 9,  -999.00, 9,   0.8670, 2, -999.000, 2, -999.000, 9, 4.948, 2
320620030705, SBI, 34, 1, 110, 10, 2, 20030715, 904, 72.5961, -153.3204, 3447,    214.3,  -1.0867,  34.1468, 2, -999.0000, 9,    265.7, 2,    289.0, 2,    23.83, 2,    13.66, 2,     0.00, 2,     1.41, 2,  -999.00, 9,  -1.0925,     0.01, 2, 0.01, 2,  -999.00, 9,  -999.00, 9,   0.6840, 2, -999.000, 2, -999.000, 9, 4.945, 2
320620030705, SBI, 34, 1, 109, 9, 2, 20030715, 902, 72.5961, -153.3204, 3447,    234.8,  -0.5700,  34.4258, 2,  34.4051, 2,    258.1, 2,    281.9, 2,    17.51, 2,    13.24, 2,     0.00, 2,     1.21, 2,  -999.00, 9,  -0.5775,     0.00, 2, 0.01, 2,  -999.00, 9,  -999.00, 9,   0.6460, 2, -999.000, 2, -999.000, 9, 4.945, 2
320620030705, SBI, 34, 1, 108, 8, 2, 20030715, 859, 72.5961, -153.3204, 3447,    254.5,  -0.0472,  34.5847, 2,  34.5945, 2,    257.2, 2,    279.1, 2,    12.74, 2,    13.13, 2,     0.00, 2,     1.05, 2,  -999.00, 9,  -0.0566,     0.00, 2, 0.01, 2,  -999.00, 9,  -999.00, 9,   0.8380, 2, -999.000, 2, -999.000, 9, 4.944, 2
320620030705, SBI, 34, 1, 107, 7, 2, 20030715, 856, 72.5961, -153.3204, 3447,    294.6,   0.4565,  34.7273, 2,  34.7371, 2,    262.6, 2,    284.5, 2,     8.78, 2,    12.92, 2,     0.00, 2,     0.93, 2,  -999.00, 9,   0.4442,     0.00, 2, 0.01, 2,  -999.00, 9,  -999.00, 9,   0.5480, 2, -999.000, 2, -999.000, 9, 4.940, 2
320620030705, SBI, 34, 1, 106, 6, 2, 20030715, 854, 72.5961, -153.3204, 3447,    324.8,   0.6077,  34.7734, 2,  34.7743, 2,    268.3, 2,    288.9, 2,     7.48, 2,    12.71, 2,     0.00, 2,     0.90, 2,  -999.00, 9,   0.5936,     0.00, 2, 0, 2,  -999.00, 9,  -999.00, 9,   0.5150, 2, -999.000, 2, -999.000, 9, 4.942, 2
320620030705, SBI, 34, 1, 105, 5, 2, 20030715, 851, 72.5961, -153.3204, 3447,    364.8,   0.6908,  34.8070, 2,  34.8084, 2,    271.2, 2,    292.6, 2,     7.10, 2,    12.72, 2,     0.00, 2,     0.90, 2,  -999.00, 9,   0.6745,     0.00, 2, 0, 2,  -999.00, 9,  -999.00, 9,   0.7370, 2, -999.000, 2, -999.000, 9, 4.939, 2
320620030705, SBI, 34, 1, 104, 4, 2, 20030715, 848, 72.5961, -153.3204, 3447,    457.7,   0.6000,  34.8368, 2,  34.8365, 2,    273.5, 2,    295.0, 2,     6.82, 2,    12.76, 2,     0.00, 2,     0.89, 2,  -999.00, 9,   0.5796,     0.01, 2, 0, 2,  -999.00, 9,  -999.00, 9,   0.6020, 2, -999.000, 2, -999.000, 9, 4.939, 2
320620030705, SBI, 34, 1, 103, 3, 2, 20030715, 844, 72.5961, -153.3204, 3447,    607.9,   0.4134,  34.8556, 2,  34.8563, 2,    274.6, 2,    296.8, 2,     6.65, 2,    12.76, 2,     0.00, 2,     0.89, 2,  -999.00, 9,   0.3864,     0.00, 2, 0, 2,  -999.00, 9,  -999.00, 9,   0.5440, 2, -999.000, 2, -999.000, 9, 4.938, 2
320620030705, SBI, 34, 1, 102, 2, 2, 20030715, 838, 72.5961, -153.3204, 3447,    808.2,   0.1561,  34.8685, 2,  34.8665, 2,    276.1, 2,    299.5, 2,     6.57, 2,    12.76, 2,     0.00, 2,     0.89, 2,  -999.00, 9,   0.1204,     0.00, 2, 0, 2,  -999.00, 9,  -999.00, 9,   0.5670, 2, -999.000, 2, -999.000, 9, 4.929, 2
320620030705, SBI, 34, 1, 101, 1, 2, 20030715, 831, 72.5961, -153.3204, 3447,   1006.0,  -0.0383,  34.8817, 2,  34.8802, 2,    275.9, 2,    299.9, 2,     6.79, 2,    12.92, 2,     0.00, 2,     0.90, 2,  -999.00, 9,  -0.0829,     0.00, 2, 0, 2,  -999.00, 9,  -999.00, 9,   0.5810, 2, -999.000, 2, -999.000, 9, 4.933, 2