BOTTLE,20100423CCHDOSIODBK
EXPOCODE,SECT_ID,STNNBR,CASTNO,SAMPNO,BTLNBR,BTLNBR_FLAG_W,DATE,TIME,LATITUDE,LONGITUDE,DEPTH,CTDPRS,CTDTMP,CTDSAL,CTDSAL_FLAG_W,SALNTY,SALNTY_FLAG_W,CTDOXY,CTDOXY_FLAG_W,OXYGEN,OXYGEN_FLAG_W,SILCAT,SILCAT_FLAG_W,NITRAT,NITRAT_FLAG_W,NITRIT,NITRIT_FLAG_W,PHSPHT,PHSPHT_FLAG_W,DOC,DOC_FLAG_W,THETA,NH4,NH4_FLAG_W,UREA,UREA_FLAG_W,CHLORA,CHLORA_FLAG_W,PPHYTN,PPHYTN_FLAG_W,FLUOR,FLUOR_FLAG_W,HAARDT,HAARDT_FLAG_W,PAR,PAR_FLAG_W,SPAR,SPAR_FLAG_W
,,,,,,,,,,,METERS,DBAR,ITS-90,PSS-78,,PSS-78,,UMOL/KG,,UMOL/KG,,UMOL/KG,,UMOL/KG,,UMOL/KG,,UMOL/KG,,UMOL/KG,,DEG C,UMOL/KG,,UMOL/KG,,UG/KG,,UG/KG,,MG/M^3,,VOLTS,,VOLTS,,VOLTS,
320620030705, SBI, 112, 1, 124, 24, 2, 20030725, 434, 72.9779, -157.2210, 1887,      1.7,  -0.7868,  28.9551, 2, -999.0000, 9,    357.5, 2,    388.2, 2,     6.60, 2,     0.09, 2,     0.00, 2,     0.71, 2,  -999.00, 9,  -0.7868,     0.05, 2, 0, 2,     0.25, 2,     0.07, 2,   0.9290, 2, -999.000, 2, -999.000, 9, 4.866, 2
320620030705, SBI, 112, 1, 123, 23, 2, 20030725, 433, 72.9779, -157.2210, 1887,     19.6,  -1.0302,  31.0262, 2,  31.1828, 2,    374.4, 2,    397.8, 2,     8.98, 2,     0.78, 2,     0.06, 2,     0.87, 2,  -999.00, 9,  -1.0306,     0.07, 2, 0.02, 2,     1.12, 2,     0.34, 2,   1.4850, 2, -999.000, 2, -999.000, 9, 4.861, 2
320620030705, SBI, 112, 1, 122, 22, 2, 20030725, 431, 72.9779, -157.2210, 1887,     30.8,  -1.1233,  31.5639, 2, -999.0000, 9,    353.7, 2,   -999.0, 9,  -999.00, 9,  -999.00, 9,  -999.00, 9,  -999.00, 9,  -999.00, 9,  -1.1239,  -999.00, 9, -999, 9,  -999.00, 9,  -999.00, 9,   1.8600, 2, -999.000, 2, -999.000, 9, 4.861, 2
320620030705, SBI, 112, 1, 121, 21, 2, 20030725, 431, 72.9779, -157.2210, 1887,     30.8,  -1.1299,  31.5432, 2, -999.0000, 9,    360.8, 2,    384.7, 2,    16.65, 2,     2.07, 2,     0.13, 2,     1.10, 2,  -999.00, 9,  -1.1305,     0.59, 2, 0.84, 2,     0.91, 2,     0.31, 2,   2.0920, 2, -999.000, 2, -999.000, 9, 4.862, 2
320620030705, SBI, 112, 1, 120, 20, 2, 20030725, 429, 72.9779, -157.2210, 1887,     49.7,  -0.3744,  32.0029, 2, -999.0000, 9,    328.1, 2,    354.1, 2,    19.64, 2,     3.65, 2,     0.15, 2,     1.23, 2,  -999.00, 9,  -0.3758,     1.65, 2, 0.13, 2,     0.18, 2,     0.19, 2,   0.9420, 2, -999.000, 2, -999.000, 9, 4.871, 2
320620030705, SBI, 112, 1, 119, 19, 2, 20030725, 427, 72.9779, -157.2210, 1887,     64.5,  -0.4481,  32.1874, 2, -999.0000, 9,    323.0, 2,    349.2, 2,    17.63, 2,     3.40, 2,     0.14, 2,     1.22, 2,  -999.00, 9,  -0.4499,     1.89, 2, 0.15, 2,  -999.00, 9,  -999.00, 9,   0.9690, 2, -999.000, 2, -999.000, 9, 4.870, 2
320620030705, SBI, 112, 1, 118, 18, 2, 20030725, 426, 72.9779, -157.2210, 1887,     79.6,  -0.6608,  32.2820, 2, -999.0000, 9,    317.8, 2,    345.8, 2,    19.02, 2,     3.93, 2,     0.14, 2,     1.27, 2,  -999.00, 9,  -0.6628,     2.04, 2, 0.15, 2,  -999.00, 9,  -999.00, 9,   0.8810, 2, -999.000, 2, -999.000, 9, 4.871, 2
320620030705, SBI, 112, 1, 117, 17, 2, 20030725, 424, 72.9779, -157.2210, 1887,     94.8,  -0.7307,  32.3244, 2, -999.0000, 9,    315.1, 2,    341.5, 2,    21.90, 2,     4.72, 2,     0.14, 2,     1.35, 2,  -999.00, 9,  -0.7331,     2.36, 2, 0.14, 2,  -999.00, 9,  -999.00, 9,   0.8260, 2, -999.000, 2, -999.000, 9, 4.868, 2
320620030705, SBI, 112, 1, 116, 16, 2, 20030725, 423, 72.9779, -157.2210, 1887,    110.2,  -0.8098,  32.3722, 2,  32.3676, 2,    312.9, 2,    340.6, 2,    23.00, 2,     4.99, 2,     0.14, 2,     1.37, 2,  -999.00, 9,  -0.8125,     2.46, 2, 0.15, 2,  -999.00, 9,  -999.00, 9,   0.9020, 2, -999.000, 2, -999.000, 9, 4.860, 2
320620030705, SBI, 112, 1, 115, 15, 2, 20030725, 421, 72.9779, -157.2210, 1887,    124.5,  -0.8720,  32.4209, 2, -999.0000, 9,    309.5, 2,    337.6, 2,    23.18, 2,     5.51, 2,     0.15, 2,     1.38, 2,  -999.00, 9,  -0.8751,     2.17, 2, 0.09, 2,  -999.00, 9,  -999.00, 9,   0.8470, 2, -999.000, 2, -999.000, 9, 4.859, 2
320620030705, SBI, 112, 1, 114, 14, 2, 20030725, 420, 72.9779, -157.2210, 1887,    139.4,  -1.4901,  32.5448, 2, -999.0000, 9,    291.8, 2,    322.0, 2,    25.37, 2,     8.61, 2,     0.11, 2,     1.51, 2,  -999.00, 9,  -1.4928,     0.83, 2, 0.01, 2,  -999.00, 9,  -999.00, 9,   0.7610, 2, -999.000, 2, -999.000, 9, 4.860, 2
320620030705, SBI, 112, 1, 113, 13, 2, 20030725, 418, 72.9779, -157.2210, 1887,    155.2,  -1.5786,  32.8045, 2, -999.0000, 9,    274.5, 2,   -999.0, 9,  -999.00, 9,  -999.00, 9,  -999.00, 9,  -999.00, 9,  -999.00, 9,  -1.5816,  -999.00, 9, -999, 9,  -999.00, 9,  -999.00, 9,   0.8660, 2, -999.000, 2, -999.000, 9, 4.850, 2
320620030705, SBI, 112, 1, 112, 12, 2, 20030725, 417, 72.9779, -157.2210, 1887,    176.7,  -1.5625,  33.1605, 2, -999.0000, 9,    270.6, 2,    296.4, 2,    31.86, 2,    13.53, 2,     0.01, 2,     1.68, 2,  -999.00, 9,  -1.5661,     0.00, 2, 0, 2,  -999.00, 9,  -999.00, 9,   0.6790, 2, -999.000, 2, -999.000, 9, 4.862, 2
320620030705, SBI, 112, 1, 111, 11, 2, 20030725, 415, 72.9779, -157.2210, 1887,    197.0,  -1.3331,  33.7488, 2, -999.0000, 9,    271.0, 2,    297.0, 2,    28.53, 2,    13.32, 2,     0.01, 2,     1.54, 2,  -999.00, 9,  -1.3378,     0.00, 2, 0, 2,  -999.00, 9,  -999.00, 9,   0.7230, 2, -999.000, 2, -999.000, 9, 4.866, 2
320620030705, SBI, 112, 1, 110, 10, 2, 20030725, 413, 72.9779, -157.2210, 1887,    215.5,  -1.0470,  34.2059, 2,  34.2155, 2,    265.3, 2,    292.0, 2,    23.72, 2,    13.21, 2,     0.01, 2,     1.37, 2,  -999.00, 9,  -1.0529,     0.00, 2, 0, 2,  -999.00, 9,  -999.00, 9,   0.7320, 2, -999.000, 2, -999.000, 9, 4.859, 2
320620030705, SBI, 112, 1, 109, 9, 2, 20030725, 411, 72.9779, -157.2210, 1887,    252.0,  -0.2369,  34.5929, 2,  34.6078, 2,    269.3, 2,    290.2, 2,    15.02, 2,    12.75, 2,     0.00, 2,     1.09, 2,  -999.00, 9,  -0.2458,     0.00, 2, 0, 2,  -999.00, 9,  -999.00, 9,   0.7900, 2, -999.000, 2, -999.000, 9, 4.842, 2
320620030705, SBI, 112, 1, 108, 8, 2, 20030725, 409, 72.9779, -157.2210, 1887,    316.8,   0.5853,  34.7712, 2,  34.7791, 2,    268.3, 2,    289.5, 2,     8.63, 2,    12.70, 2,     0.00, 2,     0.90, 2,  -999.00, 9,   0.5716,     0.00, 2, 0, 2,  -999.00, 9,  -999.00, 9,   0.5080, 2, -999.000, 2, -999.000, 9, 4.825, 2
320620030705, SBI, 112, 1, 107, 7, 2, 20030725, 406, 72.9779, -157.2210, 1887,    418.2,   0.6340,  34.8242, 2,  34.8276, 2,    271.5, 2,    293.3, 2,     7.82, 2,    12.59, 2,     0.00, 2,     0.88, 2,  -999.00, 9,   0.6154,     0.00, 2, 0, 2,  -999.00, 9,  -999.00, 9,   0.7800, 2, -999.000, 2, -999.000, 9, 4.783, 2
320620030705, SBI, 112, 1, 106, 6, 2, 20030725, 401, 72.9779, -157.2210, 1887,    600.7,   0.4270,  34.8547, 2,  34.8569, 2,    274.2, 2,    298.4, 2,     7.41, 2,    12.65, 2,     0.00, 2,     0.88, 2,  -999.00, 9,   0.4002,     0.00, 2, 0.01, 2,  -999.00, 9,  -999.00, 9,   0.6510, 2, -999.000, 2, -999.000, 9, 4.764, 2
320620030705, SBI, 112, 1, 105, 5, 2, 20030725, 353, 72.9779, -157.2210, 1887,    906.6,   0.0653,  34.8723, 2,  34.8730, 2,    275.2, 2,    301.3, 2,     7.50, 2,    12.74, 2,     0.00, 2,     0.89, 2,  -999.00, 9,   0.0251,     0.00, 2, 0.01, 2,  -999.00, 9,  -999.00, 9,   0.4970, 2, -999.000, 2, -999.000, 9, 4.771, 2
320620030705, SBI, 112, 1, 104, 4, 2, 20030725, 345, 72.9779, -157.2210, 1887,   1206.8,  -0.2082,  34.8970, 2,  34.8963, 2,    273.4, 2,    299.6, 2,     8.49, 2,    13.11, 2,     0.00, 2,     0.92, 2,  -999.00, 9,  -0.2622,     0.00, 2, 0, 2,  -999.00, 9,  -999.00, 9,   0.7240, 2, -999.000, 2, -999.000, 9, 4.783, 2
320620030705, SBI, 112, 1, 103, 3, 2, 20030725, 337, 72.9779, -157.2210, 1887,   1512.9,  -0.3620,  34.9211, 2,  34.9212, 2,    269.5, 2,    295.8, 2,    10.08, 2,    13.78, 2,     0.00, 2,     0.96, 2,  -999.00, 9,  -0.4320,     0.00, 2, 0, 2,  -999.00, 9,  -999.00, 9,   0.6540, 2, -999.000, 2, -999.000, 9, 4.766, 2
320620030705, SBI, 112, 1, 102, 2, 2, 20030725, 329, 72.9779, -157.2210, 1887,   1803.5,  -0.4137,  34.9406, 2,  34.9395, 2,    263.5, 2,    289.7, 2,    12.26, 2,    14.30, 2,     0.00, 2,     1.01, 2,  -999.00, 9,  -0.5010,     0.00, 2, 0.01, 2,  -999.00, 9,  -999.00, 9,   0.4540, 2, -999.000, 2, -999.000, 9, 4.781, 2
320620030705, SBI, 112, 1, 101, 1, 2, 20030725, 325, 72.9779, -157.2210, 1887,   1902.7,  -0.4105,  34.9428, 2,  34.9416, 2,    262.5, 2,    289.2, 2,    12.65, 2,    14.45, 2,     0.00, 2,     1.01, 2,  -999.00, 9,  -0.5043,     0.00, 2, 0, 2,  -999.00, 9,  -999.00, 9,   0.6250, 2, -999.000, 2, -999.000, 9, 4.764, 2
320620030705, SBI, 113, 1, 124, 24, 2, 20030725, 831, 73.0325, -157.1609, 2410,      2.4,  -0.9794,  28.8333, 2,  28.8773, 2,    359.3, 2,    391.5, 2,     6.11, 2,     0.07, 2,     0.00, 2,     0.70, 2,  -999.00, 9,  -0.9794,     0.04, 2, 0, 2,  -999.00, 9,  -999.00, 9,   0.9520, 2, -999.000, 2, -999.000, 9, 4.990, 2
320620030705, SBI, 113, 1, 123, 23, 2, 20030725, 829, 73.0325, -157.1609, 2410,     16.5,  -0.9608,  30.1043, 2, -999.0000, 9,    374.1, 2,    407.1, 2,     7.29, 2,     0.16, 2,     0.02, 2,     0.77, 2,  -999.00, 9,  -0.9611,     0.03, 2, 0, 2,  -999.00, 9,  -999.00, 9,   1.0980, 2, -999.000, 2, -999.000, 9, 4.989, 2
320620030705, SBI, 113, 1, 122, 22, 2, 20030725, 827, 73.0325, -157.1609, 2410,     28.5,  -1.3098,  31.2403, 2, -999.0000, 9,    369.8, 2,    377.6, 2,    14.46, 2,     3.20, 2,     0.22, 2,     1.07, 2,  -999.00, 9,  -1.3103,     0.07, 2, 0.02, 2,  -999.00, 9,  -999.00, 9,   1.7630, 2, -999.000, 2, -999.000, 9, 4.989, 2
320620030705, SBI, 113, 1, 121, 21, 2, 20030725, 825, 73.0325, -157.1609, 2410,     41.7,  -1.4605,  31.7099, 2, -999.0000, 9,    322.3, 2,    350.7, 2,    23.74, 2,     6.24, 2,     0.25, 2,     1.33, 2,  -999.00, 9,  -1.4612,     0.51, 2, 0.04, 2,  -999.00, 9,  -999.00, 9,   1.2220, 2, -999.000, 2, -999.000, 9, 4.989, 2
320620030705, SBI, 113, 1, 120, 20, 2, 20030725, 823, 73.0325, -157.1609, 2410,     56.6,  -1.5841,  31.9630, 2, -999.0000, 9,    320.1, 2,    348.0, 2,    26.74, 2,     6.76, 2,     0.22, 2,     1.41, 2,  -999.00, 9,  -1.5850,     0.97, 2, 0.03, 2,  -999.00, 9,  -999.00, 9,   0.8410, 2, -999.000, 2, -999.000, 9, 4.989, 2
320620030705, SBI, 113, 1, 119, 19, 2, 20030725, 821, 73.0325, -157.1609, 2410,     71.8,  -1.5333,  32.1597, 2, -999.0000, 9,    318.8, 2,    344.8, 2,    26.72, 2,     7.33, 2,     0.17, 2,     1.44, 2,  -999.00, 9,  -1.5346,     1.10, 2, 0.03, 2,  -999.00, 9,  -999.00, 9,   0.9780, 2, -999.000, 2, -999.000, 9, 4.989, 2
320620030705, SBI, 113, 1, 118, 18, 2, 20030725, 819, 73.0325, -157.1609, 2410,     86.7,  -1.5490,  32.2908, 2, -999.0000, 9,    306.8, 2,    333.9, 2,    26.52, 2,     8.47, 2,     0.13, 2,     1.48, 2,  -999.00, 9,  -1.5506,     0.75, 2, 0.02, 2,  -999.00, 9,  -999.00, 9,   0.7960, 2, -999.000, 2, -999.000, 9, 4.988, 2
320620030705, SBI, 113, 1, 117, 17, 2, 20030725, 815, 73.0325, -157.1609, 2410,    101.8,  -1.2712,  32.4334, 2, -999.0000, 9,    302.6, 2,    322.0, 2,    26.01, 2,     9.23, 2,     0.09, 2,     1.51, 2,  -999.00, 9,  -1.2733,     0.57, 2, 0.02, 2,  -999.00, 9,  -999.00, 9,   0.8290, 2, -999.000, 2, -999.000, 9, 4.988, 2
320620030705, SBI, 113, 1, 116, 16, 2, 20030725, 813, 73.0325, -157.1609, 2410,    116.9,  -1.5780,  32.5590, 2, -999.0000, 9,    284.2, 2,    312.1, 2,    28.20, 2,    10.97, 2,     0.02, 2,     1.59, 2,  -999.00, 9,  -1.5802,     0.00, 2, 0.02, 2,  -999.00, 9,  -999.00, 9,   0.8700, 2, -999.000, 2, -999.000, 9, 4.986, 2
320620030705, SBI, 113, 1, 115, 15, 2, 20030725, 811, 73.0325, -157.1609, 2410,    136.9,  -1.5588,  32.7965, 2, -999.0000, 9,    272.2, 2,    297.9, 2,    30.90, 2,    13.37, 2,     0.00, 2,     1.69, 2,  -999.00, 9,  -1.5615,     0.00, 2, 0, 2,  -999.00, 9,  -999.00, 9,   0.8630, 2, -999.000, 2, -999.000, 9, 4.984, 2
320620030705, SBI, 113, 1, 114, 14, 2, 20030725, 809, 73.0325, -157.1609, 2410,    156.7,  -1.5711,  33.0410, 2, -999.0000, 9,    270.3, 2,    296.1, 2,    32.29, 2,    13.68, 2,     0.01, 2,     1.69, 2,  -999.00, 9,  -1.5742,     0.01, 2, 0.01, 2,  -999.00, 9,  -999.00, 9,   0.8620, 2, -999.000, 2, -999.000, 9, 4.984, 2
320620030705, SBI, 113, 1, 113, 13, 2, 20030725, 807, 73.0325, -157.1609, 2410,    177.1,  -1.4635,  33.4033, 2, -999.0000, 9,    262.9, 2,    286.6, 2,    32.08, 2,    14.34, 2,     0.01, 2,     1.66, 2,  -999.00, 9,  -1.4674,     0.00, 2, 0.01, 2,  -999.00, 9,  -999.00, 9,   0.7590, 2, -999.000, 2, -999.000, 9, 4.983, 2
320620030705, SBI, 113, 1, 112, 12, 2, 20030725, 805, 73.0325, -157.1609, 2410,    196.8,  -1.3750,  33.8540, 2, -999.0000, 9,    270.3, 2,    297.8, 2,    28.66, 2,    13.36, 2,     0.01, 2,     1.53, 2,  -999.00, 9,  -1.3797,     0.00, 2, 0.01, 2,  -999.00, 9,  -999.00, 9,   0.7790, 2, -999.000, 2, -999.000, 9, 4.983, 2
320620030705, SBI, 113, 1, 111, 11, 2, 20030725, 803, 73.0325, -157.1609, 2410,    217.1,  -1.0294,  34.2426, 2, -999.0000, 9,    267.9, 2,    290.8, 2,    21.94, 2,    12.99, 2,     0.01, 2,     1.30, 2,  -999.00, 9,  -1.0354,     0.00, 2, 0.01, 2,  -999.00, 9,  -999.00, 9,   0.6230, 2, -999.000, 2, -999.000, 9, 4.980, 2
320620030705, SBI, 113, 1, 110, 10, 2, 20030725, 800, 73.0325, -157.1609, 2410,    237.3,  -0.3938,  34.4794, 2,  34.4888, 2,    254.6, 2,    277.0, 2,    15.54, 2,    13.09, 2,     0.01, 2,     1.09, 2,  -999.00, 9,  -0.4018,     0.00, 2, 0.01, 2,  -999.00, 9,  -999.00, 9,   0.6600, 2, -999.000, 2, -999.000, 9, 4.978, 2
320620030705, SBI, 113, 1, 109, 9, 2, 20030725, 758, 73.0325, -157.1609, 2410,    256.6,   0.0304,  34.5922, 2,  34.6035, 2,    257.1, 2,    278.6, 2,    12.43, 2,    12.82, 2,     0.01, 2,     0.98, 2,  -999.00, 9,   0.0207,     0.00, 2, 0, 2,  -999.00, 9,  -999.00, 9,   0.7650, 2, -999.000, 2, -999.000, 9, 4.976, 2
320620030705, SBI, 113, 1, 108, 8, 2, 20030725, 755, 73.0325, -157.1609, 2410,    306.9,   0.5782,  34.7599, 2,  34.7602, 2,    266.1, 2,    286.8, 2,     9.13, 2,    12.77, 2,     0.00, 2,     0.90, 2,  -999.00, 9,   0.5650,     0.00, 2, 0.01, 2,  -999.00, 9,  -999.00, 9,   0.4990, 2, -999.000, 2, -999.000, 9, 4.977, 2
320620030705, SBI, 113, 1, 107, 7, 2, 20030725, 751, 73.0325, -157.1609, 2410,    407.8,   0.6246,  34.8204, 2,  34.8215, 2,    271.0, 2,    294.1, 2,     7.72, 2,    12.67, 2,     0.00, 2,     0.87, 2,  -999.00, 9,   0.6065,     0.00, 2, 0, 2,  -999.00, 9,  -999.00, 9,   0.6740, 2, -999.000, 2, -999.000, 9, 4.978, 2
320620030705, SBI, 113, 1, 106, 6, 2, 20030725, 742, 73.0325, -157.1609, 2410,    760.6,   0.2108,  34.8646, 2,  34.8665, 2,    275.0, 2,    299.7, 2,     7.42, 2,    12.72, 2,     0.00, 2,     0.87, 2,  -999.00, 9,   0.1772,     0.00, 2, 0, 2,  -999.00, 9,  -999.00, 9,   0.5430, 2, -999.000, 2, -999.000, 9, 4.976, 2
320620030705, SBI, 113, 1, 105, 5, 2, 20030725, 733, 73.0325, -157.1609, 2410,   1115.3,  -0.1295,  34.8881, 2,  34.8899, 2,    273.7, 2,    300.3, 2,     8.10, 2,    12.93, 2,     0.00, 2,     0.90, 2,  -999.00, 9,  -0.1792,     0.00, 2, 0, 2,  -999.00, 9,  -999.00, 9,   0.6010, 2, -999.000, 2, -999.000, 9, 4.970, 2
320620030705, SBI, 113, 1, 104, 4, 2, 20030725, 723, 73.0325, -157.1609, 2410,   1519.8,  -0.3411,  34.9170, 2,  34.9181, 2,    269.9, 2,    297.4, 2,     9.69, 2,    13.60, 2,     0.00, 2,     0.96, 2,  -999.00, 9,  -0.4117,     0.00, 2, 0, 2,  -999.00, 9,  -999.00, 9,   0.6530, 2, -999.000, 2, -999.000, 9, 4.971, 2
320620030705, SBI, 113, 1, 103, 3, 2, 20030725, 714, 73.0325, -157.1609, 2410,   1925.0,  -0.4045,  34.9397, 2,  34.9407, 2,    262.7, 2,    290.4, 2,    12.19, 2,    14.33, 2,     0.00, 2,     1.00, 2,  -999.00, 9,  -0.4998,     0.00, 2, 0, 2,  -999.00, 9,  -999.00, 9,   0.5100, 2, -999.000, 2, -999.000, 9, 4.969, 2
320620030705, SBI, 113, 1, 102, 2, 2, 20030725, 705, 73.0325, -157.1609, 2410,   2280.3,  -0.3913,  34.9493, 2,  34.9497, 2,    259.2, 2,    286.6, 2,    13.38, 2,    14.58, 2,     0.00, 2,     1.03, 2,  -999.00, 9,  -0.5114,     0.00, 2, 0, 2,  -999.00, 9,  -999.00, 9,   0.5730, 2, -999.000, 2, -999.000, 9, 4.967, 2
320620030705, SBI, 113, 1, 101, 1, 2, 20030725, 700, 73.0325, -157.1609, 2410,   2440.7,  -0.3779,  34.9535, 2,  34.9562, 2,    256.9, 2,    277.0, 2,    14.47, 2,    14.73, 2,     0.00, 2,     1.04, 2,  -999.00, 9,  -0.5101,     0.00, 2, 0, 2,  -999.00, 9,  -999.00, 9,   0.5040, 2, -999.000, 2, -999.000, 9, 4.964, 2