BOTTLE,20100423CCHDOSIODBK
EXPOCODE,SECT_ID,STNNBR,CASTNO,SAMPNO,BTLNBR,BTLNBR_FLAG_W,DATE,TIME,LATITUDE,LONGITUDE,DEPTH,CTDPRS,CTDTMP,CTDSAL,CTDSAL_FLAG_W,SALNTY,SALNTY_FLAG_W,CTDOXY,CTDOXY_FLAG_W,OXYGEN,OXYGEN_FLAG_W,SILCAT,SILCAT_FLAG_W,NITRAT,NITRAT_FLAG_W,NITRIT,NITRIT_FLAG_W,PHSPHT,PHSPHT_FLAG_W,DOC,DOC_FLAG_W,THETA,NH4,NH4_FLAG_W,UREA,UREA_FLAG_W,CHLORA,CHLORA_FLAG_W,PPHYTN,PPHYTN_FLAG_W,FLUOR,FLUOR_FLAG_W,HAARDT,HAARDT_FLAG_W,PAR,PAR_FLAG_W,SPAR,SPAR_FLAG_W
,,,,,,,,,,,METERS,DBAR,ITS-90,PSS-78,,PSS-78,,UMOL/KG,,UMOL/KG,,UMOL/KG,,UMOL/KG,,UMOL/KG,,UMOL/KG,,UMOL/KG,,DEG C,UMOL/KG,,UMOL/KG,,UG/KG,,UG/KG,,MG/M^3,,VOLTS,,VOLTS,,VOLTS,
320620030705, SBI, 220, 1, 106, 6, 2, 20030807, 154, 73.2716, -164.9932, 68,      1.6,  -1.3244,  29.4505, 2,  29.4546, 2,    362.1, 2,    388.7, 2,    15.07, 2,     0.15, 2,     0.00, 2,     0.83, 2,  -999.00, 9,  -1.3244,    -0.01, 2, 0.01, 2,  -999.00, 9,  -999.00, 9,   1.5920, 2, 0.271, 2, 4.068, 2, 4.295, 2
320620030705, SBI, 220, 1, 105, 5, 2, 20030807, 152, 73.2716, -164.9932, 68,     16.9,  -1.2841,  29.6561, 2, -999.0000, 9,    355.6, 2,    354.7, 2,    25.70, 2,     3.13, 2,     0.06, 2,     1.24, 2,  -999.00, 9,  -1.2843,     0.26, 2, 0.06, 2,  -999.00, 9,  -999.00, 9,   1.9200, 2, 0.412, 2, 2.620, 2, 4.289, 2
320620030705, SBI, 220, 1, 104, 4, 2, 20030807, 150, 73.2716, -164.9932, 68,     24.8,  -1.6202,  31.3428, 2, -999.0000, 9,    286.3, 2,    316.3, 2,    34.82, 2,     8.08, 2,     0.13, 2,     1.66, 2,  -999.00, 9,  -1.6206,     1.14, 2, 0.12, 2,  -999.00, 9,  -999.00, 9,   2.0420, 2, 0.429, 2, 1.749, 2, 4.342, 2
320620030705, SBI, 220, 1, 103, 3, 2, 20030807, 146, 73.2716, -164.9932, 68,     40.3,  -1.4488,  31.8071, 2, -999.0000, 9,    239.3, 2,    237.5, 2,    58.90, 2,    13.44, 2,     0.11, 2,     2.16, 2,  -999.00, 9,  -1.4495,     1.25, 2, 0.06, 2,  -999.00, 9,  -999.00, 9,   1.1250, 2, 0.198, 2, 0.760, 2, 4.441, 2
320620030705, SBI, 220, 1, 102, 2, 2, 20030807, 144, 73.2716, -164.9932, 68,     52.1,  -1.2161,  32.2990, 2, -999.0000, 9,    175.7, 2,    194.7, 2,    73.25, 2,    16.19, 2,     0.09, 2,     2.49, 2,  -999.00, 9,  -1.2172,     0.98, 2, 0.14, 2,  -999.00, 9,  -999.00, 9,   1.0480, 2, 0.192, 2, 0.447, 2, 4.392, 2
320620030705, SBI, 220, 1, 101, 1, 2, 20030807, 142, 73.2716, -164.9932, 68,     62.9,  -1.4115,  32.4345, 2,  32.4017, 2,    213.9, 2,    223.2, 2,    65.58, 2,    15.36, 2,     0.12, 2,     2.39, 2,    68.80, 2,  -1.4127,     1.34, 2, 0.26, 2,  -999.00, 9,  -999.00, 9,   1.0090, 2, 0.186, 2, 0.201, 2, 4.380, 2
320620030705, SBI, 221, 1, 106, 6, 2, 20030807, 415, 73.3142, -164.4305, 75,      1.4,  -1.2294,  29.4480, 2,  29.4438, 2,    360.6, 2,    390.9, 2,    15.83, 2,     0.14, 2,     0.00, 2,     0.83, 2,  -999.00, 9,  -1.2294,     0.00, 2, 0.01, 2,     1.58, 2,     0.09, 2,   1.7240, 2, 0.326, 2, 3.556, 2, 4.789, 2
320620030705, SBI, 221, 1, 105, 5, 2, 20030807, 412, 73.3142, -164.4305, 75,     12.0,  -1.2451,  29.5134, 2, -999.0000, 9,    358.9, 2,    363.6, 2,    20.39, 2,     1.47, 2,     0.03, 2,     1.02, 2,  -999.00, 9,  -1.2453,     0.09, 2, 0.02, 2,     3.40, 2,     0.11, 2,   1.9000, 2, 0.427, 2, 2.559, 2, 4.792, 2
320620030705, SBI, 221, 1, 104, 4, 2, 20030807, 410, 73.3142, -164.4305, 75,     22.0,  -1.5727,  31.1755, 2, -999.0000, 9,    287.9, 2,    312.2, 2,    34.59, 2,     8.35, 2,     0.12, 2,     1.70, 2,  -999.00, 9,  -1.5730,     1.49, 2, 0.12, 2,     4.56, 2,     0.10, 2,   2.0370, 2, 0.521, 2, 1.612, 2, 4.782, 2
320620030705, SBI, 221, 1, 103, 3, 2, 20030807, 408, 73.3142, -164.4305, 75,     33.9,  -1.6696,  31.4952, 2, -999.0000, 9,    295.5, 2,    321.0, 2,    31.01, 2,     8.41, 2,     0.12, 2,     1.67, 2,  -999.00, 9,  -1.6701,     1.47, 2, 0.07, 2,     1.05, 2,     0.53, 2,   1.3400, 2, 0.218, 2, 0.831, 2, 4.773, 2
320620030705, SBI, 221, 1, 102, 2, 2, 20030807, 407, 73.3142, -164.4305, 75,     46.8,  -1.5011,  31.7845, 2, -999.0000, 9,    254.6, 2,    260.6, 2,    51.37, 2,    11.90, 2,     0.13, 2,     2.03, 2,  -999.00, 9,  -1.5019,     1.61, 2, 0.12, 2,     0.86, 2,     0.79, 2,   1.2830, 2, 0.209, 2, 0.416, 2, 4.762, 2
320620030705, SBI, 221, 1, 101, 1, 2, 20030807, 405, 73.3142, -164.4305, 75,     68.8,  -1.4719,  32.5078, 2,  32.3334, 2,    221.1, 2,    245.6, 2,    58.35, 2,    14.16, 2,     0.13, 2,     2.25, 2,    71.50, 2,  -1.4732,     1.30, 2, 0.05, 2,     0.48, 2,     0.35, 2,   1.0910, 2, 0.190, 2, 0.159, 2, 4.780, 2
320620030705, SBI, 222, 1, 107, 7, 2, 20030807, 608, 73.3522, -163.8845, 82,      1.5,  -1.2850,  29.4181, 2,  29.4198, 2,    364.0, 2,    392.0, 2,     8.90, 2,     0.13, 2,     0.00, 2,     0.76, 2,  -999.00, 9,  -1.2850,    -0.01, 2, 0.02, 2,  -999.00, 9,  -999.00, 9,   1.7670, 2, 0.363, 2, 3.204, 2, 4.901, 2
320620030705, SBI, 222, 1, 106, 6, 2, 20030807, 607, 73.3522, -163.8845, 82,     12.3,  -1.3016,  29.4201, 2, -999.0000, 9,    361.7, 2,    393.3, 2,     8.99, 2,     0.07, 2,     0.00, 2,     0.77, 2,  -999.00, 9,  -1.3018,     0.00, 2, 0.01, 2,  -999.00, 9,  -999.00, 9,   2.0210, 2, 0.484, 2, 2.172, 2, 4.896, 2
320620030705, SBI, 222, 1, 105, 5, 2, 20030807, 605, 73.3522, -163.8845, 82,     25.2,  -1.5080,  30.8930, 2, -999.0000, 9,    305.2, 2,    320.1, 2,    33.85, 2,     7.65, 2,     0.13, 2,     1.60, 2,  -999.00, 9,  -1.5084,     1.18, 2, 0.1, 2,  -999.00, 9,  -999.00, 9,   2.1400, 2, 0.966, 2, 1.113, 2, 4.891, 2
320620030705, SBI, 222, 1, 104, 4, 2, 20030807, 603, 73.3522, -163.8845, 82,     37.5,  -1.6166,  31.4583, 2, -999.0000, 9,    290.2, 2,    318.7, 2,    34.65, 2,     8.64, 2,     0.15, 2,     1.72, 2,  -999.00, 9,  -1.6172,     1.59, 2, 0.1, 2,  -999.00, 9,  -999.00, 9,   1.2550, 2, 0.238, 2, 0.438, 2, 4.859, 2
320620030705, SBI, 222, 1, 103, 3, 2, 20030807, 601, 73.3522, -163.8845, 82,     52.4,  -1.5930,  31.7285, 2, -999.0000, 9,    276.6, 2,    295.8, 2,    38.11, 2,    10.62, 2,     0.11, 2,     1.76, 2,  -999.00, 9,  -1.5938,     0.54, 2, 0.03, 2,  -999.00, 9,  -999.00, 9,   1.1860, 2, 0.218, 2, 0.205, 2, 4.858, 2
320620030705, SBI, 222, 1, 102, 2, 2, 20030807, 559, 73.3522, -163.8845, 82,     62.4,  -1.5477,  32.1596, 2, -999.0000, 9,    273.7, 2,    277.3, 2,    43.43, 2,    12.10, 2,     0.07, 2,     1.89, 2,  -999.00, 9,  -1.5488,     0.15, 2, 0.03, 2,  -999.00, 9,  -999.00, 9,   0.9110, 2, 0.218, 2, 0.163, 2, 4.862, 2
320620030705, SBI, 222, 1, 101, 1, 2, 20030807, 558, 73.3522, -163.8845, 82,     77.7,  -1.3533,  32.4656, 2,  32.4181, 2,    204.0, 2,    226.4, 2,    60.30, 2,    14.68, 2,     0.09, 2,     2.26, 2,    70.70, 2,  -1.3548,     0.58, 2, 0.05, 2,  -999.00, 9,  -999.00, 9,   0.9630, 2, 0.190, 2, 0.144, 2, 4.818, 2
320620030705, SBI, 223, 1, 107, 7, 2, 20030807, 805, 73.3914, -163.3161, 81,      2.1,  -1.1898,  29.2755, 2,  29.2683, 2,    363.3, 2,    390.2, 2,     6.11, 2,     0.23, 2,     0.00, 2,     0.73, 2,  -999.00, 9,  -1.1898,    -0.01, 2, 0, 2,     0.74, 2,     0.05, 2,   1.5130, 2, 0.251, 2, 2.791, 2, 4.925, 2
320620030705, SBI, 223, 1, 106, 6, 2, 20030807, 802, 73.3914, -163.3161, 81,     11.1,  -1.1965,  29.2779, 2, -999.0000, 9,    361.4, 2,    388.8, 2,     6.02, 2,     0.07, 2,     0.00, 2,     0.73, 2,  -999.00, 9,  -1.1967,    -0.01, 2, 0, 2,     0.77, 2,     0.04, 2,   1.6240, 2, 0.298, 2, 2.140, 2, 4.818, 2
320620030705, SBI, 223, 1, 105, 5, 2, 20030807, 800, 73.3914, -163.3161, 81,     24.0,  -1.5296,  30.9697, 2, -999.0000, 9,    315.1, 2,    336.9, 2,    29.65, 2,     4.65, 2,     0.12, 2,     1.36, 2,  -999.00, 9,  -1.5300,     0.52, 2, 0.06, 2,     2.91, 2,     0.01, 2,   2.0760, 2, 0.735, 2, 1.130, 2, 4.882, 2
320620030705, SBI, 223, 1, 104, 4, 2, 20030807, 758, 73.3914, -163.3161, 81,     36.2,  -1.6163,  31.2806, 2, -999.0000, 9,    324.2, 2,    338.7, 2,    26.79, 2,     6.16, 2,     0.12, 2,     1.44, 2,  -999.00, 9,  -1.6168,     1.15, 2, 0.09, 2,     0.37, 2,     0.21, 2,   1.1410, 2, 0.214, 2, 0.580, 2, 4.862, 2
320620030705, SBI, 223, 1, 103, 3, 2, 20030807, 755, 73.3914, -163.3161, 81,     49.3,  -1.6396,  31.5639, 2, -999.0000, 9,    316.1, 2,    329.8, 2,    28.63, 2,     7.32, 2,     0.11, 2,     1.49, 2,  -999.00, 9,  -1.6404,     0.91, 2, 0.06, 2,     0.14, 2,     0.17, 2,   1.0350, 2, 0.186, 2, 0.315, 2, 4.910, 2
320620030705, SBI, 223, 1, 102, 2, 2, 20030807, 753, 73.3914, -163.3161, 81,     62.3,  -1.6255,  31.8384, 2, -999.0000, 9,    291.2, 2,    308.9, 2,    34.46, 2,     9.31, 2,     0.10, 2,     1.64, 2,  -999.00, 9,  -1.6265,     0.65, 2, 0.04, 2,  -999.00, 9,  -999.00, 9,   0.8280, 2, 0.355, 2, 0.209, 2, 4.931, 2
320620030705, SBI, 223, 1, 101, 1, 2, 20030807, 751, 73.3914, -163.3161, 81,     75.3,  -1.5097,  32.2883, 2,  32.1946, 2,    244.7, 2,    269.4, 2,    46.67, 2,    11.94, 2,     0.09, 2,     1.91, 2,    71.70, 2,  -1.5111,     0.22, 2, 0.04, 2,  -999.00, 9,  -999.00, 9,   0.8590, 2, 0.181, 2, 0.162, 2, 4.955, 2
320620030705, SBI, 224, 1, 112, 12, 2, 20030807, 949, 73.4173, -162.9867, 108,      2.1,  -1.1185,  29.2867, 2,  29.2692, 2,    364.0, 2,    388.4, 2,     4.76, 2,     0.08, 2,     0.00, 2,     0.71, 2,  -999.00, 9,  -1.1185,     0.00, 2, 0.01, 2,  -999.00, 9,  -999.00, 9,   1.6270, 2, 0.306, 2, 2.223, 2, 4.990, 2
320620030705, SBI, 224, 1, 111, 11, 2, 20030807, 946, 73.4173, -162.9867, 108,     15.0,  -1.1225,  29.3025, 2,  29.3900, 2,    360.3, 2,    387.1, 2,     6.69, 2,     0.39, 2,     0.01, 2,     0.79, 2,  -999.00, 9,  -1.1227,     0.05, 2, 0.01, 2,  -999.00, 9,  -999.00, 9,   1.6920, 2, 0.351, 2, 1.422, 2, 4.989, 2
320620030705, SBI, 224, 1, 110, 10, 2, 20030807, 944, 73.4173, -162.9867, 108,     23.0,  -1.5563,  31.0887, 2, -999.0000, 9,    305.6, 2,   -999.0, 9,  -999.00, 9,  -999.00, 9,  -999.00, 9,  -999.00, 9,  -999.00, 9,  -1.5566,  -999.00, 9, -999, 9,  -999.00, 9,  -999.00, 9,   1.8690, 2, 0.460, 2, 0.895, 2, 4.988, 2
320620030705, SBI, 224, 1, 109, 9, 2, 20030807, 944, 73.4173, -162.9867, 108,     23.0,  -1.5679,  31.1226, 2, -999.0000, 9,    304.8, 2,   -999.0, 9,  -999.00, 9,  -999.00, 9,  -999.00, 9,  -999.00, 9,  -999.00, 9,  -1.5682,  -999.00, 9, -999, 9,  -999.00, 9,  -999.00, 9,   1.8510, 2, 0.435, 2, 0.896, 2, 4.988, 2
320620030705, SBI, 224, 1, 108, 8, 2, 20030807, 943, 73.4173, -162.9867, 108,     23.0,  -1.5699,  31.1267, 2, -999.0000, 9,    304.8, 2,    327.4, 2,    32.56, 2,     7.38, 2,     0.17, 2,     1.59, 2,  -999.00, 9,  -1.5702,     1.06, 2, 0.07, 2,  -999.00, 9,  -999.00, 9,   1.7770, 2, 0.395, 2, 0.889, 2, 4.988, 2
320620030705, SBI, 224, 1, 107, 7, 2, 20030807, 940, 73.4173, -162.9867, 108,     35.8,  -1.6552,  31.4282, 2, -999.0000, 9,    304.6, 2,    328.6, 2,    30.29, 2,     7.93, 2,     0.13, 2,     1.60, 2,  -999.00, 9,  -1.6557,     1.11, 2, 0.05, 2,  -999.00, 9,  -999.00, 9,   1.0500, 2, 0.198, 2, 0.363, 2, 4.989, 2
320620030705, SBI, 224, 1, 106, 6, 2, 20030807, 938, 73.4173, -162.9867, 108,     48.0,  -1.6589,  31.6357, 2, -999.0000, 9,    300.9, 2,    312.8, 2,    34.39, 2,     9.52, 2,     0.12, 2,     1.69, 2,  -999.00, 9,  -1.6596,     0.80, 2, 0.04, 2,  -999.00, 9,  -999.00, 9,   0.9290, 2, 0.188, 2, 0.219, 2, 4.990, 2
320620030705, SBI, 224, 1, 105, 5, 2, 20030807, 935, 73.4173, -162.9867, 108,     60.2,  -1.5260,  31.9649, 2, -999.0000, 9,    269.4, 2,    275.3, 2,    44.67, 2,    11.90, 2,     0.09, 2,     1.89, 2,  -999.00, 9,  -1.5270,     0.34, 2, 0.03, 2,  -999.00, 9,  -999.00, 9,   1.0630, 2, 0.182, 2, 0.165, 2, 4.993, 2
320620030705, SBI, 224, 1, 104, 4, 2, 20030807, 932, 73.4173, -162.9867, 108,     73.2,  -1.4557,  32.3133, 2, -999.0000, 9,    240.9, 2,    234.2, 2,    58.41, 2,    14.32, 2,     0.06, 2,     2.19, 2,  -999.00, 9,  -1.4571,     0.14, 2, 0.03, 2,  -999.00, 9,  -999.00, 9,   0.9410, 2, 0.183, 2, 0.147, 2, 4.992, 2
320620030705, SBI, 224, 1, 103, 3, 2, 20030807, 930, 73.4173, -162.9867, 108,     83.0,  -1.2941,  32.4876, 2, -999.0000, 9,    192.2, 2,    202.9, 2,    69.63, 2,    16.11, 2,     0.06, 2,     2.44, 2,  -999.00, 9,  -1.2958,     0.16, 2, 0.04, 2,  -999.00, 9,  -999.00, 9,   0.8920, 2, 0.185, 2, 0.142, 2, 4.990, 2
320620030705, SBI, 224, 1, 102, 2, 2, 20030807, 928, 73.4173, -162.9867, 108,     93.2,  -1.2933,  32.4923, 2,  32.4876, 2,    191.5, 2,    203.0, 2,    69.64, 2,    16.11, 2,     0.05, 2,     2.44, 2,  -999.00, 9,  -1.2952,     0.14, 2, 0.04, 2,  -999.00, 9,  -999.00, 9,   0.8880, 2, 0.207, 2, 0.139, 2, 4.989, 2
320620030705, SBI, 224, 1, 101, 1, 2, 20030807, 926, 73.4173, -162.9867, 108,    104.4,  -1.3100,  32.5232, 2,  32.5126, 2,    194.1, 2,    206.0, 2,    68.81, 2,    16.02, 2,     0.05, 2,     2.44, 2,    66.70, 2,  -1.3122,     0.14, 2, 0.03, 2,  -999.00, 9,  -999.00, 9,   0.9840, 2, 0.185, 2, 0.139, 2, 4.985, 2
320620030705, SBI, 225, 1, 110, 10, 2, 20030807, 1152, 73.3596, -162.6993, 100,      2.2,  -1.1451,  29.1988, 2,  29.2003, 2,    355.4, 2,    389.8, 2,     4.63, 2,     0.09, 2,     0.00, 2,     0.71, 2,  -999.00, 9,  -1.1451,     0.01, 2, 0, 2,     0.66, 2,     0.05, 2,   1.5100, 2, 0.264, 2, 2.311, 2, 4.989, 2
320620030705, SBI, 225, 1, 109, 9, 2, 20030807, 1150, 73.3596, -162.6993, 100,     13.3,  -1.1385,  29.2295, 2,  29.3372, 2,    352.3, 2,    387.4, 2,     6.24, 2,     0.29, 2,     0.01, 2,     0.76, 2,  -999.00, 9,  -1.1387,     0.01, 2, 0, 2,     0.82, 2,     0.08, 2,   1.5230, 2, 0.286, 2, 1.598, 2, 4.988, 2
320620030705, SBI, 225, 1, 108, 8, 2, 20030807, 1147, 73.3596, -162.6993, 100,     23.2,  -1.6007,  31.2615, 2,  31.2686, 2,    301.8, 2,    328.1, 2,    33.67, 2,     6.96, 2,     0.15, 2,     1.55, 2,  -999.00, 9,  -1.6010,     1.21, 2, 0.06, 2,     1.75, 2,     0.03, 2,   1.5260, 2, 0.275, 2, 0.914, 2, 4.989, 2
320620030705, SBI, 225, 1, 107, 7, 2, 20030807, 1145, 73.3596, -162.6993, 100,     35.2,  -1.6139,  31.3132, 2,  31.3310, 2,    294.6, 2,    325.5, 2,    34.78, 2,     7.34, 2,     0.13, 2,     1.59, 2,  -999.00, 9,  -1.6144,     1.56, 2, 0.06, 2,     0.80, 2,     0.10, 2,   1.3610, 2, 0.258, 2, 0.420, 2, 4.992, 2
320620030705, SBI, 225, 1, 106, 6, 2, 20030807, 1143, 73.3596, -162.6993, 100,     43.6,  -1.6196,  31.3758, 2,  31.4916, 2,    329.4, 2,    333.4, 2,    28.36, 2,     7.40, 2,     0.12, 2,     1.52, 2,  -999.00, 9,  -1.6203,     0.94, 2, 0.03, 2,     0.38, 2,     0.20, 2,   1.3650, 2, 0.239, 2, 0.280, 2, 4.993, 2
320620030705, SBI, 225, 1, 105, 5, 2, 20030807, 1138, 73.3596, -162.6993, 100,     63.3,  -1.5437,  31.9180, 2,  31.9975, 2,    267.6, 2,    277.4, 2,    44.87, 2,    11.37, 2,     0.10, 2,     1.85, 2,  -999.00, 9,  -1.5448,     0.45, 2, 0.01, 2,  -999.00, 9,  -999.00, 9,   0.8780, 2, 0.186, 2, 0.171, 2, 4.993, 2
320620030705, SBI, 225, 1, 104, 4, 2, 20030807, 1136, 73.3596, -162.6993, 100,     78.2,  -1.1429,  32.2873, 2,  32.3339, 2,    146.5, 2,    163.2, 2,    81.01, 2,    17.21, 2,     0.04, 2,     2.53, 2,  -999.00, 9,  -1.1446,     0.02, 2, 0.01, 2,  -999.00, 9,  -999.00, 9,   0.8930, 2, 0.189, 2, 0.148, 2, 4.994, 2
320620030705, SBI, 225, 1, 103, 3, 2, 20030807, 1134, 73.3596, -162.6993, 100,     86.7,  -1.1571,  32.3990, 2,  32.4375, 2,    157.1, 2,    180.8, 2,    76.12, 2,    16.84, 2,     0.04, 2,     2.50, 2,  -999.00, 9,  -1.1590,     0.04, 2, 0.01, 2,  -999.00, 9,  -999.00, 9,   0.8610, 2, 0.184, 2, 0.142, 2, 4.994, 2
320620030705, SBI, 225, 1, 102, 2, 2, 20030807, 1131, 73.3596, -162.6993, 100,     92.9,  -1.2886,  32.4977, 2,  32.4608, 2,    191.5, 2,    194.9, 2,    71.65, 2,    16.21, 2,     0.05, 2,     2.42, 2,    68.40, 2,  -1.2905,     0.07, 2, 0.01, 2,  -999.00, 9,  -999.00, 9,   0.9720, 2, 0.187, 2, 0.140, 2, 4.994, 2
320620030705, SBI, 226, 1, 109, 9, 2, 20030807, 1328, 73.2998, -162.4281, 115,      2.2,  -1.1790,  29.3982, 2,  29.4390, 2,    363.7, 2,    391.4, 2,     6.30, 2,     0.13, 2,     0.00, 2,     0.74, 2,  -999.00, 9,  -1.1790,     0.00, 2, 0, 2,  -999.00, 9,  -999.00, 9,   1.5520, 2, 0.318, 2, 2.612, 2, 4.977, 2
320620030705, SBI, 226, 1, 108, 8, 2, 20030807, 1326, 73.2998, -162.4281, 115,     17.6,  -1.1508,  29.5392, 2, -999.0000, 9,    366.0, 2,    385.4, 2,    13.67, 2,     1.30, 2,     0.04, 2,     0.97, 2,  -999.00, 9,  -1.1511,     0.20, 2, 0.01, 2,  -999.00, 9,  -999.00, 9,   1.6810, 2, 0.331, 2, 1.527, 2, 4.978, 2
320620030705, SBI, 226, 1, 107, 7, 2, 20030807, 1324, 73.2998, -162.4281, 115,     25.7,  -1.5369,  31.1868, 2, -999.0000, 9,    347.8, 2,    363.0, 2,    21.85, 2,     4.02, 2,     0.10, 2,     1.28, 2,  -999.00, 9,  -1.5373,     0.78, 2, 0.05, 2,  -999.00, 9,  -999.00, 9,   2.0780, 2, 0.522, 2, 0.918, 2, 4.978, 2
320620030705, SBI, 226, 1, 106, 6, 2, 20030807, 1321, 73.2998, -162.4281, 115,     40.6,  -1.6417,  31.5552, 2, -999.0000, 9,    324.2, 2,    344.5, 2,    26.11, 2,     6.21, 2,     0.15, 2,     1.42, 2,  -999.00, 9,  -1.6423,     1.15, 2, 0.05, 2,  -999.00, 9,  -999.00, 9,   1.1930, 2, 0.217, 2, 0.348, 2, 4.981, 2
320620030705, SBI, 226, 1, 105, 5, 2, 20030807, 1319, 73.2998, -162.4281, 115,     57.8,  -1.6381,  31.8483, 2, -999.0000, 9,    317.2, 2,    345.1, 2,    26.92, 2,     6.52, 2,     0.20, 2,     1.44, 2,  -999.00, 9,  -1.6390,     1.16, 2, 0.03, 2,  -999.00, 9,  -999.00, 9,   1.1000, 2, 0.189, 2, 0.193, 2, 4.981, 2
320620030705, SBI, 226, 1, 104, 4, 2, 20030807, 1316, 73.2998, -162.4281, 115,     72.9,  -1.5351,  32.1029, 2, -999.0000, 9,    318.3, 2,    340.0, 2,    28.13, 2,     7.29, 2,     0.17, 2,     1.49, 2,  -999.00, 9,  -1.5364,     1.21, 2, 0.01, 2,  -999.00, 9,  -999.00, 9,   0.8220, 2, 0.184, 2, 0.155, 2, 4.982, 2
320620030705, SBI, 226, 1, 103, 3, 2, 20030807, 1313, 73.2998, -162.4281, 115,     89.9,  -1.4704,  32.2931, 2, -999.0000, 9,    304.5, 2,    322.5, 2,    31.07, 2,     8.88, 2,     0.14, 2,     1.61, 2,  -999.00, 9,  -1.4721,     1.31, 2, 0.02, 2,  -999.00, 9,  -999.00, 9,   0.8070, 2, 0.186, 2, 0.142, 2, 4.983, 2
320620030705, SBI, 226, 1, 102, 2, 2, 20030807, 1311, 73.2998, -162.4281, 115,    100.0,  -1.5667,  32.5388, 2, -999.0000, 9,    281.0, 2,    293.2, 2,    39.43, 2,    11.68, 2,     0.10, 2,     1.83, 2,  -999.00, 9,  -1.5685,     1.00, 2, 0.02, 2,  -999.00, 9,  -999.00, 9,   0.8070, 2, 0.185, 2, 0.139, 2, 4.982, 2
320620030705, SBI, 226, 1, 101, 1, 2, 20030807, 1308, 73.2998, -162.4281, 115,    111.0,  -1.5427,  32.6390, 2,  32.6107, 2,    260.3, 2,    283.0, 2,    42.91, 2,    12.36, 2,     0.09, 2,     1.91, 2,    70.50, 2,  -1.5448,     0.84, 2, 0.02, 2,  -999.00, 9,  -999.00, 9,   0.8940, 2, 0.186, 2, 0.138, 2, 4.982, 2