BOTTLE,20100423CCHDOSIODBK
EXPOCODE,SECT_ID,STNNBR,CASTNO,SAMPNO,BTLNBR,BTLNBR_FLAG_W,DATE,TIME,LATITUDE,LONGITUDE,DEPTH,CTDPRS,CTDTMP,CTDSAL,CTDSAL_FLAG_W,SALNTY,SALNTY_FLAG_W,CTDOXY,CTDOXY_FLAG_W,OXYGEN,OXYGEN_FLAG_W,SILCAT,SILCAT_FLAG_W,NITRAT,NITRAT_FLAG_W,NITRIT,NITRIT_FLAG_W,PHSPHT,PHSPHT_FLAG_W,DOC,DOC_FLAG_W,THETA,NH4,NH4_FLAG_W,UREA,UREA_FLAG_W,CHLORA,CHLORA_FLAG_W,PPHYTN,PPHYTN_FLAG_W,FLUOR,FLUOR_FLAG_W,HAARDT,HAARDT_FLAG_W,PAR,PAR_FLAG_W,SPAR,SPAR_FLAG_W
,,,,,,,,,,,METERS,DBAR,ITS-90,PSS-78,,PSS-78,,UMOL/KG,,UMOL/KG,,UMOL/KG,,UMOL/KG,,UMOL/KG,,UMOL/KG,,UMOL/KG,,DEG C,UMOL/KG,,UMOL/KG,,UG/KG,,UG/KG,,MG/M^3,,VOLTS,,VOLTS,,VOLTS,
320620030705, SBI, 105, 1, 114, 14, 2, 20030723, 2344, 72.6624, -157.6482, 330,      1.7,  -0.7750,  28.2767, 2,  28.2720, 2,    352.6, 2,    382.4, 2,     6.43, 2,     0.14, 2,     0.00, 2,     0.71, 2,  -999.00, 9,  -0.7750,  -999.00, 5, 0, 2,  -999.00, 9,  -999.00, 9,   0.8520, 2, 0.000, 2, 3.871, 2, 4.511, 2
320620030705, SBI, 105, 1, 113, 13, 2, 20030723, 2342, 72.6624, -157.6482, 330,     25.8,   0.3436,  31.3066, 2, -999.0000, 9,    375.4, 2,    405.0, 2,    19.51, 2,     0.24, 2,     0.02, 2,     0.96, 2,  -999.00, 9,   0.3428,     0.24, 2, 0.06, 2,  -999.00, 9,  -999.00, 9,   1.2420, 2, 0.000, 2, 2.560, 2, 4.520, 2
320620030705, SBI, 105, 1, 112, 12, 2, 20030723, 2340, 72.6624, -157.6482, 330,     37.7,  -0.6255,  31.5789, 2, -999.0000, 9,    352.9, 2,    381.7, 2,    14.55, 2,     1.89, 2,     0.09, 2,     1.09, 2,  -999.00, 9,  -0.6264,     0.31, 2, 0.08, 2,  -999.00, 9,  -999.00, 9,   1.5690, 2, 0.000, 2, 1.688, 2, 4.496, 2
320620030705, SBI, 105, 1, 111, 11, 2, 20030723, 2339, 72.6624, -157.6482, 330,     52.7,  -1.0540,  31.9817, 2, -999.0000, 9,    322.0, 2,    350.4, 2,    22.76, 2,     5.42, 2,     0.20, 2,     1.33, 2,  -999.00, 9,  -1.0551,     1.19, 2, 0.06, 2,  -999.00, 9,  -999.00, 9,   0.9330, 2, 0.000, 2, 0.981, 2, 4.481, 2
320620030705, SBI, 105, 1, 110, 10, 2, 20030723, 2337, 72.6624, -157.6482, 330,     72.7,  -1.0116,  32.1778, 2, -999.0000, 9,    320.1, 2,    346.6, 2,    21.30, 2,     5.19, 2,     0.16, 2,     1.32, 2,  -999.00, 9,  -1.0132,     1.47, 2, 0.12, 2,  -999.00, 9,  -999.00, 9,   0.8020, 2, 0.000, 2, 0.404, 2, 4.507, 2
320620030705, SBI, 105, 1, 109, 9, 2, 20030723, 2336, 72.6624, -157.6482, 330,     92.8,  -1.0000,  32.3568, 2, -999.0000, 9,    310.0, 2,    334.2, 2,    23.82, 2,     6.46, 2,     0.15, 2,     1.44, 2,  -999.00, 9,  -1.0021,     1.89, 2, 0.15, 2,  -999.00, 9,  -999.00, 9,   0.9030, 2, 0.000, 2, 0.170, 2, 4.563, 2
320620030705, SBI, 105, 1, 108, 8, 2, 20030723, 2334, 72.6624, -157.6482, 330,    112.7,  -1.4398,  32.4495, 2, -999.0000, 9,    287.7, 2,    311.8, 2,    27.45, 2,     9.46, 2,     0.14, 2,     1.63, 2,  -999.00, 9,  -1.4420,     1.40, 2, 0.08, 2,  -999.00, 9,  -999.00, 9,   0.8310, 2, 0.000, 2, 0.144, 2, 4.556, 2
320620030705, SBI, 105, 1, 107, 7, 2, 20030723, 2333, 72.6624, -157.6482, 330,    132.8,  -1.4225,  32.7005, 2, -999.0000, 9,    279.0, 2,    301.6, 2,    29.19, 2,    11.52, 2,     0.10, 2,     1.63, 2,  -999.00, 9,  -1.4252,     0.70, 2, 0.06, 2,  -999.00, 9,  -999.00, 9,   0.8570, 2, 0.000, 2, 0.142, 2, 4.575, 2
320620030705, SBI, 105, 1, 106, 6, 2, 20030723, 2331, 72.6624, -157.6482, 330,    153.1,  -1.2339,  33.6958, 2, -999.0000, 9,    270.5, 2,    295.8, 2,    25.80, 2,    13.14, 2,     0.03, 2,     1.46, 2,  -999.00, 9,  -1.2376,     0.00, 2, 0.03, 2,  -999.00, 9,  -999.00, 9,   0.8980, 2, 0.000, 2, 0.142, 2, 4.571, 2
320620030705, SBI, 105, 1, 105, 5, 2, 20030723, 2329, 72.6624, -157.6482, 330,    177.8,  -0.3774,  34.4690, 2, -999.0000, 9,    259.1, 2,    279.2, 2,    15.36, 2,    13.14, 2,     0.01, 2,     1.10, 2,  -999.00, 9,  -0.3833,     0.00, 2, 0.02, 2,  -999.00, 9,  -999.00, 9,   0.6660, 2, 0.000, 2, 0.143, 2, 4.569, 2
320620030705, SBI, 105, 1, 104, 4, 2, 20030723, 2328, 72.6624, -157.6482, 330,    203.4,   0.2369,  34.6517, 2,  34.6922, 2,    256.4, 2,    278.5, 2,    12.39, 2,    13.09, 2,     0.01, 2,     1.01, 2,  -999.00, 9,   0.2289,     0.00, 2, 0.02, 2,  -999.00, 9,  -999.00, 9,   0.6290, 2, 0.000, 2, 0.143, 2, 4.590, 2
320620030705, SBI, 105, 1, 103, 3, 2, 20030723, 2325, 72.6624, -157.6482, 330,    233.4,   0.5367,  34.7417, 2,  34.7561, 2,    262.4, 2,    282.6, 2,    11.02, 2,    12.98, 2,     0.01, 2,     0.96, 2,  -999.00, 9,   0.5269,     0.00, 2, 0.01, 2,  -999.00, 9,  -999.00, 9,   0.5630, 2, 0.000, 2, 0.143, 2, 4.578, 2
320620030705, SBI, 105, 1, 102, 2, 2, 20030723, 2322, 72.6624, -157.6482, 330,    293.5,   0.6747,  34.8218, 2,  34.8261, 2,    270.3, 2,    290.3, 2,     9.26, 2,    12.77, 2,     0.01, 2,     0.91, 2,  -999.00, 9,   0.6618,     0.00, 2, 0.02, 2,  -999.00, 9,  -999.00, 9,   0.6640, 2, 0.000, 2, 0.143, 2, 4.569, 2
320620030705, SBI, 105, 1, 101, 1, 2, 20030723, 2320, 72.6624, -157.6482, 330,    326.2,   0.6331,  34.8319, 2,  34.8306, 2,    269.9, 2,    289.7, 2,     9.69, 2,    12.81, 2,     0.02, 2,     0.91, 2,  -999.00, 9,   0.6188,     0.00, 2, 0.02, 2,  -999.00, 9,  -999.00, 9,   0.8630, 2, 0.000, 2, 0.143, 2, 4.544, 2
320620030705, SBI, 106, 1, 118, 18, 2, 20030724, 120, 72.7037, -157.5816, 381,      1.9,  -0.6923,  28.4452, 2,  28.4310, 2,    351.6, 2,    381.1, 2,     6.77, 2,     0.07, 2,     0.00, 2,     0.72, 2,  -999.00, 9,  -0.6923,     0.13, 2, 0, 2,     0.25, 2,     0.07, 2,   0.8490, 2, 0.000, 2, 3.775, 2, 4.487, 2
320620030705, SBI, 106, 1, 117, 17, 2, 20030724, 118, 72.7037, -157.5816, 381,     19.6,  -0.4809,  30.3241, 2, -999.0000, 9,    371.4, 2,    400.8, 2,     6.98, 2,     0.01, 2,     0.00, 2,     0.76, 2,  -999.00, 9,  -0.4813,     0.08, 2, 0, 2,     0.38, 2,     0.09, 2,   1.1020, 2, 0.000, 2, 2.959, 2, 4.367, 2
320620030705, SBI, 106, 1, 114, 14, 2, 20030724, 115, 72.7037, -157.5816, 381,     34.8,  -0.1889,  31.4953, 2, -999.0000, 9,    363.0, 2,    392.0, 2,    14.32, 2,     1.11, 2,     0.05, 2,     1.01, 2,  -999.00, 9,  -0.1899,     0.36, 2, 0.05, 2,     0.79, 2,     0.16, 2,   1.6610, 2, 0.000, 2, 2.243, 2, 4.368, 2
320620030705, SBI, 106, 1, 116, 16, 2, 20030724, 116, 72.7037, -157.5816, 381,     34.8,  -0.2397,  31.4919, 2, -999.0000, 9,    361.8, 2,   -999.0, 9,  -999.00, 9,  -999.00, 9,  -999.00, 9,  -999.00, 9,  -999.00, 9,  -0.2407,  -999.00, 9, -999, 9,  -999.00, 9,  -999.00, 9,   1.4240, 2, 0.000, 2, 2.245, 2, 4.367, 2
320620030705, SBI, 106, 1, 115, 15, 2, 20030724, 115, 72.7037, -157.5816, 381,     34.8,  -0.3036,  31.4865, 2, -999.0000, 9,    363.0, 2,   -999.0, 9,  -999.00, 9,  -999.00, 9,  -999.00, 9,  -999.00, 9,  -999.00, 9,  -0.3045,  -999.00, 9, -999, 9,  -999.00, 9,  -999.00, 9,   1.6100, 2, 0.000, 2, 2.242, 2, 4.379, 2
320620030705, SBI, 106, 1, 113, 13, 2, 20030724, 111, 72.7037, -157.5816, 381,     50.9,  -0.7119,  31.8986, 2, -999.0000, 9,    321.7, 2,    354.7, 2,    20.07, 2,     4.93, 2,     0.14, 2,     1.30, 2,  -999.00, 9,  -0.7131,     1.31, 2, 0.1, 2,     0.25, 2,     0.15, 2,   1.0340, 2, 0.000, 2, 1.313, 2, 4.403, 2
320620030705, SBI, 106, 1, 112, 12, 2, 20030724, 109, 72.7037, -157.5816, 381,     65.9,  -1.2988,  32.1324, 2, -999.0000, 9,    309.1, 2,    338.9, 2,    21.91, 2,     7.23, 2,     0.11, 2,     1.41, 2,  -999.00, 9,  -1.3001,     0.81, 2, 0.03, 2,  -999.00, 9,  -999.00, 9,   0.9120, 2, 0.000, 2, 0.788, 2, 4.415, 2
320620030705, SBI, 106, 1, 111, 11, 2, 20030724, 108, 72.7037, -157.5816, 381,     85.9,  -1.2108,  32.3032, 2, -999.0000, 9,    305.7, 2,    332.2, 2,    24.34, 2,     7.15, 2,     0.13, 2,     1.48, 2,  -999.00, 9,  -1.2126,     1.64, 2, 0.09, 2,  -999.00, 9,  -999.00, 9,   0.9170, 2, 0.000, 2, 0.326, 2, 4.372, 2
320620030705, SBI, 106, 1, 110, 10, 2, 20030724, 106, 72.7037, -157.5816, 381,    103.0,  -1.3393,  32.3879, 2, -999.0000, 9,    296.7, 2,    319.3, 2,    27.80, 2,     8.25, 2,     0.18, 2,     1.63, 2,  -999.00, 9,  -1.3414,     2.40, 2, 0.14, 2,  -999.00, 9,  -999.00, 9,   0.9330, 2, 0.000, 2, 0.172, 2, 4.461, 2
320620030705, SBI, 106, 1, 109, 9, 2, 20030724, 104, 72.7037, -157.5816, 381,    123.0,  -1.4785,  32.5421, 2, -999.0000, 9,    287.1, 2,    309.6, 2,    28.43, 2,     9.54, 2,     0.14, 2,     1.62, 2,  -999.00, 9,  -1.4809,     1.31, 2, 0.06, 2,  -999.00, 9,  -999.00, 9,   1.0380, 2, 0.000, 2, 0.143, 2, 4.418, 2
320620030705, SBI, 106, 1, 108, 8, 2, 20030724, 103, 72.7037, -157.5816, 381,    143.0,  -1.5523,  32.8518, 2, -999.0000, 9,    272.0, 2,    298.9, 2,    29.57, 2,    12.35, 2,     0.08, 2,     1.64, 2,  -999.00, 9,  -1.5551,     0.41, 2, 0.02, 2,  -999.00, 9,  -999.00, 9,   0.7560, 2, 0.000, 2, 0.142, 2, 4.468, 2
320620030705, SBI, 106, 1, 107, 7, 2, 20030724, 101, 72.7037, -157.5816, 381,    163.2,  -1.1779,  33.9273, 2, -999.0000, 9,    272.2, 2,    296.6, 2,    24.06, 2,    12.97, 2,     0.02, 2,     1.41, 2,  -999.00, 9,  -1.1820,     0.04, 2, 0.03, 2,  -999.00, 9,  -999.00, 9,   0.9120, 2, 0.000, 2, 0.142, 2, 4.453, 2
320620030705, SBI, 106, 1, 106, 6, 2, 20030724, 59, 72.7037, -157.5816, 381,    183.4,  -0.5134,  34.4715, 2, -999.0000, 9,    266.5, 2,    290.0, 2,    17.66, 2,    12.91, 2,     0.01, 2,     1.19, 2,  -999.00, 9,  -0.5193,     0.00, 2, 0.01, 2,  -999.00, 9,  -999.00, 9,   0.8710, 2, 0.000, 2, 0.142, 2, 4.387, 2
320620030705, SBI, 106, 1, 105, 5, 2, 20030724, 57, 72.7037, -157.5816, 381,    203.4,  -0.0837,  34.6152, 2,  34.5819, 2,    264.9, 2,    282.8, 2,    12.99, 2,    13.02, 2,     0.00, 2,     1.04, 2,  -999.00, 9,  -0.0911,     0.00, 2, 0.01, 2,  -999.00, 9,  -999.00, 9,   0.7380, 2, 0.000, 2, 0.142, 2, 4.446, 2
320620030705, SBI, 106, 1, 104, 4, 2, 20030724, 55, 72.7037, -157.5816, 381,    228.3,   0.4896,  34.7329, 2,  34.7592, 2,    263.6, 2,    287.1, 2,     8.90, 2,    12.81, 2,     0.00, 2,     0.91, 2,  -999.00, 9,   0.4801,     0.00, 2, 0.01, 2,  -999.00, 9,  -999.00, 9,   0.7370, 2, 0.000, 2, 0.143, 2, 4.449, 2
320620030705, SBI, 106, 1, 103, 3, 2, 20030724, 52, 72.7037, -157.5816, 381,    278.6,   0.7509,  34.8106, 2,  34.8113, 2,    271.2, 2,    291.0, 2,     8.13, 2,    12.72, 2,     0.00, 2,     0.89, 2,  -999.00, 9,   0.7386,     0.00, 2, 0.01, 2,  -999.00, 9,  -999.00, 9,   0.7020, 2, 0.000, 2, 0.143, 2, 4.429, 2
320620030705, SBI, 106, 1, 102, 2, 2, 20030724, 50, 72.7037, -157.5816, 381,    344.2,   0.6091,  34.8376, 2,  34.8404, 2,    272.1, 2,    293.5, 2,     8.27, 2,    12.76, 2,     0.01, 2,     0.89, 2,  -999.00, 9,   0.5940,     0.00, 2, 0.01, 2,  -999.00, 9,  -999.00, 9,   0.7590, 2, 0.000, 2, 0.143, 2, 4.451, 2
320620030705, SBI, 106, 1, 101, 1, 2, 20030724, 47, 72.7037, -157.5816, 381,    375.9,   0.5393,  34.8448, 2,  34.8435, 2,    271.8, 2,    294.2, 2,     8.40, 2,    12.75, 2,     0.01, 2,     0.90, 2,  -999.00, 9,   0.5230,     0.03, 2, 0.04, 2,  -999.00, 9,  -999.00, 9,   0.6880, 2, 0.000, 2, 0.143, 2, 4.448, 2
320620030705, SBI, 107, 1, 117, 17, 2, 20030724, 326, 72.7519, -157.5281, 438,      1.9,  -0.6971,  28.5131, 2,  29.0292, 0,    352.1, 2,    387.5, 2,     6.58, 2,     0.14, 2,     0.00, 2,     0.73, 2,  -999.00, 9,  -0.6971,     0.11, 2, 0, 2,  -999.00, 9,  -999.00, 9,   0.8360, 2, 0.000, 2, 3.772, 2, 4.601, 2
320620030705, SBI, 107, 1, 116, 16, 2, 20030724, 324, 72.7519, -157.5281, 438,     11.8,  -0.7654,  28.7774, 2, -999.0000, 9,    355.0, 2,    391.7, 2,     6.33, 2,     0.08, 2,     0.00, 2,     0.72, 2,  -999.00, 9,  -0.7656,     0.09, 2, 0, 2,  -999.00, 9,  -999.00, 9,   0.8780, 2, 0.000, 2, 3.179, 2, 4.594, 2
320620030705, SBI, 107, 1, 115, 15, 2, 20030724, 322, 72.7519, -157.5281, 438,     20.7,  -0.8814,  30.8458, 2, -999.0000, 9,    373.6, 2,    406.2, 2,     8.37, 2,     0.27, 2,     0.02, 2,     0.84, 2,  -999.00, 9,  -0.8818,     0.15, 2, 0.04, 2,  -999.00, 9,  -999.00, 9,   1.4270, 2, 0.000, 2, 2.865, 2, 4.561, 2
320620030705, SBI, 107, 1, 114, 14, 2, 20030724, 321, 72.7519, -157.5281, 438,     31.6,  -0.6494,  31.5258, 2, -999.0000, 9,    353.1, 2,    374.1, 2,    17.11, 2,     3.00, 2,     0.11, 2,     1.17, 2,  -999.00, 9,  -0.6502,     0.84, 2, 0.09, 2,  -999.00, 9,  -999.00, 9,   1.5990, 2, 0.000, 2, 2.221, 2, 4.571, 2
320620030705, SBI, 107, 1, 113, 13, 2, 20030724, 319, 72.7519, -157.5281, 438,     50.8,  -0.8990,  31.9011, 2, -999.0000, 9,    335.7, 2,    371.0, 2,    17.57, 2,     3.79, 2,     0.12, 2,     1.21, 2,  -999.00, 9,  -0.9001,     1.38, 2, 0.1, 2,  -999.00, 9,  -999.00, 9,   0.9690, 2, 0.000, 2, 0.980, 2, 4.529, 2
320620030705, SBI, 107, 1, 112, 12, 2, 20030724, 317, 72.7519, -157.5281, 438,     70.5,  -1.2057,  32.1213, 2, -999.0000, 9,    314.6, 2,    347.9, 2,    21.62, 2,     5.68, 2,     0.14, 2,     1.36, 2,  -999.00, 9,  -1.2071,     1.55, 2, 0.09, 2,  -999.00, 9,  -999.00, 9,   0.8300, 2, 0.000, 2, 0.378, 2, 4.536, 2
320620030705, SBI, 107, 1, 111, 11, 2, 20030724, 316, 72.7519, -157.5281, 438,     87.9,  -1.3853,  32.2960, 2, -999.0000, 9,    297.3, 2,    322.4, 2,    23.58, 2,     9.11, 2,     0.08, 2,     1.51, 2,  -999.00, 9,  -1.3870,     0.64, 2, 0.06, 2,  -999.00, 9,  -999.00, 9,   0.8350, 2, 0.000, 2, 0.187, 2, 4.568, 2
320620030705, SBI, 107, 1, 110, 10, 2, 20030724, 314, 72.7519, -157.5281, 438,    102.7,  -1.2789,  32.4018, 2, -999.0000, 9,    304.4, 2,    331.8, 2,    24.74, 2,     7.68, 2,     0.14, 2,     1.49, 2,  -999.00, 9,  -1.2810,     1.06, 2, 0.05, 2,  -999.00, 9,  -999.00, 9,   0.8940, 2, 0.000, 2, 0.153, 2, 4.569, 2
320620030705, SBI, 107, 1, 109, 9, 2, 20030724, 313, 72.7519, -157.5281, 438,    118.0,  -1.3946,  32.4887, 2, -999.0000, 9,    297.2, 2,    321.7, 2,    25.50, 2,     8.77, 2,     0.10, 2,     1.44, 2,  -999.00, 9,  -1.3970,     0.79, 2, 0.03, 2,  -999.00, 9,  -999.00, 9,   0.9490, 2, 0.000, 2, 0.143, 2, 4.609, 2
320620030705, SBI, 107, 1, 108, 8, 2, 20030724, 311, 72.7519, -157.5281, 438,    132.7,  -1.5153,  32.6522, 2, -999.0000, 9,    278.2, 2,    300.3, 2,    29.27, 2,    12.65, 2,     0.03, 2,     1.67, 2,  -999.00, 9,  -1.5179,     0.08, 2, 0, 2,  -999.00, 9,  -999.00, 9,   0.8100, 2, 0.000, 2, 0.141, 2, 4.573, 2
320620030705, SBI, 107, 1, 107, 7, 2, 20030724, 309, 72.7519, -157.5281, 438,    155.0,  -1.3619,  33.3068, 2, -999.0000, 9,    270.6, 2,    292.6, 2,    29.63, 2,    13.56, 2,     0.04, 2,     1.61, 2,  -999.00, 9,  -1.3654,     0.05, 2, 0.01, 2,  -999.00, 9,  -999.00, 9,   0.6950, 2, 0.000, 2, 0.142, 2, 4.502, 2
320620030705, SBI, 107, 1, 106, 6, 2, 20030724, 308, 72.7519, -157.5281, 438,    175.1,  -1.0881,  34.1239, 2, -999.0000, 9,    273.5, 2,    297.9, 2,    23.57, 2,    12.97, 2,     0.01, 2,     1.39, 2,  -999.00, 9,  -1.0927,     0.01, 2, 0.01, 2,  -999.00, 9,  -999.00, 9,   0.9000, 2, 0.000, 2, 0.142, 2, 4.521, 2
320620030705, SBI, 107, 1, 105, 5, 2, 20030724, 306, 72.7519, -157.5281, 438,    195.3,  -0.3872,  34.4859, 2, -999.0000, 9,    261.0, 2,    285.6, 2,    14.13, 2,    12.91, 2,     0.00, 2,     1.08, 2,  -999.00, 9,  -0.3937,     0.00, 2, 0.01, 2,  -999.00, 9,  -999.00, 9,   0.6350, 2, 0.000, 2, 0.143, 2, 4.523, 2
320620030705, SBI, 107, 1, 104, 4, 2, 20030724, 304, 72.7519, -157.5281, 438,    225.2,   0.3395,  34.6917, 2,  34.7086, 2,    260.3, 2,    281.4, 2,    11.19, 2,    13.02, 2,     0.00, 2,     0.98, 2,  -999.00, 9,   0.3305,     0.00, 2, 0.01, 2,  -999.00, 9,  -999.00, 9,   0.6000, 2, 0.000, 2, 0.143, 2, 4.485, 2
320620030705, SBI, 107, 1, 103, 3, 2, 20030724, 301, 72.7519, -157.5281, 438,    300.5,   0.7470,  34.8114, 2,  34.8138, 2,    272.0, 2,    293.0, 2,     7.75, 2,    12.71, 2,     0.00, 2,     0.88, 2,  -999.00, 9,   0.7336,     0.00, 2, 0, 2,  -999.00, 9,  -999.00, 9,   0.5730, 2, 0.000, 2, 0.143, 2, 4.521, 2
320620030705, SBI, 107, 1, 102, 2, 2, 20030724, 258, 72.7519, -157.5281, 438,    380.7,   0.6304,  34.8412, 2,  34.8419, 2,    274.8, 2,    295.5, 2,     7.30, 2,    12.71, 2,     0.00, 2,     0.87, 2,  -999.00, 9,   0.6136,     0.00, 2, 0.01, 2,  -999.00, 9,  -999.00, 9,   0.5930, 2, 0.000, 2, 0.144, 2, 4.522, 2
320620030705, SBI, 107, 1, 101, 1, 2, 20030724, 256, 72.7519, -157.5281, 438,    433.7,   0.5310,  34.8457, 2,  34.8453, 2,    273.0, 2,    293.2, 2,     8.37, 2,    12.75, 2,     0.01, 2,     0.89, 2,  -999.00, 9,   0.5120,     0.00, 2, 0, 2,  -999.00, 9,  -999.00, 9,   0.6330, 2, 0.000, 2, 0.144, 2, 4.441, 2