BOTTLE,20100423CCHDOSIODBK
EXPOCODE,SECT_ID,STNNBR,CASTNO,SAMPNO,BTLNBR,BTLNBR_FLAG_W,DATE,TIME,LATITUDE,LONGITUDE,DEPTH,CTDPRS,CTDTMP,CTDSAL,CTDSAL_FLAG_W,SALNTY,SALNTY_FLAG_W,CTDOXY,CTDOXY_FLAG_W,OXYGEN,OXYGEN_FLAG_W,SILCAT,SILCAT_FLAG_W,NITRAT,NITRAT_FLAG_W,NITRIT,NITRIT_FLAG_W,PHSPHT,PHSPHT_FLAG_W,DOC,DOC_FLAG_W,THETA,NH4,NH4_FLAG_W,UREA,UREA_FLAG_W,CHLORA,CHLORA_FLAG_W,PPHYTN,PPHYTN_FLAG_W,FLUOR,FLUOR_FLAG_W,HAARDT,HAARDT_FLAG_W,PAR,PAR_FLAG_W,SPAR,SPAR_FLAG_W
,,,,,,,,,,,METERS,DBAR,ITS-90,PSS-78,,PSS-78,,UMOL/KG,,UMOL/KG,,UMOL/KG,,UMOL/KG,,UMOL/KG,,UMOL/KG,,UMOL/KG,,DEG C,UMOL/KG,,UMOL/KG,,UG/KG,,UG/KG,,MG/M^3,,VOLTS,,VOLTS,,VOLTS,
320620030705, SBI, 289, 1, 106, 6, 2, 20030812, 335, 71.6244, -155.0843, 66,      1.7,   3.8333,  30.1330, 2,  30.1497, 2,    318.9, 2,    335.1, 2,     3.37, 2,     0.08, 2,     0.00, 2,     0.51, 2,    75.50, 2,   3.8332,     0.04, 2, 0.01, 2,     0.52, 2,     0.10, 2,   1.2400, 2, 0.216, 2, 3.467, 2, 4.844, 2
320620030705, SBI, 289, 1, 105, 5, 2, 20030812, 334, 71.6244, -155.0843, 66,      9.1,   3.7521,  30.2287, 2, -999.0000, 9,    319.3, 2,    336.1, 2,     3.25, 2,     0.08, 2,     0.01, 2,     0.52, 2,    74.90, 2,   3.7516,     0.07, 2, 0.02, 2,  -999.00, 9,  -999.00, 9,   1.2640, 2, 0.228, 2, 2.686, 2, 4.828, 2
320620030705, SBI, 289, 1, 104, 4, 2, 20030812, 333, 71.6244, -155.0843, 66,     17.1,   3.7062,  30.3187, 2, -999.0000, 9,    320.2, 2,    335.5, 2,     3.12, 2,     0.08, 2,     0.01, 2,     0.53, 2,    75.30, 2,   3.7052,     0.12, 2, 0.02, 2,     0.57, 2,     0.13, 2,   1.2480, 2, 0.229, 2, 1.871, 2, 4.828, 2
320620030705, SBI, 289, 1, 103, 3, 2, 20030812, 331, 71.6244, -155.0843, 66,     27.2,   3.6907,  30.4243, 2, -999.0000, 9,    319.5, 2,    334.1, 2,     2.99, 2,     0.07, 2,     0.01, 2,     0.53, 2,  -999.00, 9,   3.6891,     0.16, 2, 0.03, 2,     0.52, 2,     0.13, 2,   1.2350, 2, 0.230, 2, 0.946, 2, 4.816, 2
320620030705, SBI, 289, 1, 102, 2, 2, 20030812, 329, 71.6244, -155.0843, 66,     42.2,   3.7235,  30.4599, 2, -999.0000, 9,    318.5, 2,    331.4, 2,     2.66, 2,     0.07, 2,     0.01, 2,     0.54, 2,  -999.00, 9,   3.7210,     0.22, 2, 0.03, 2,     0.45, 2,     0.12, 2,   1.1640, 2, 0.222, 2, 0.226, 2, 4.795, 2
320620030705, SBI, 289, 1, 101, 1, 2, 20030812, 326, 71.6244, -155.0843, 66,     61.2,   4.0584,  30.8101, 2,  30.7226, 2,    313.0, 2,    328.6, 2,     2.14, 2,     0.07, 2,     0.01, 2,     0.55, 2,  -999.00, 9,   4.0546,     0.32, 2, 0.03, 2,     0.34, 2,     0.14, 2,   0.9790, 2, 0.204, 2, 0.145, 2, 4.786, 2
320620030705, SBI, 290, 1, 105, 5, 2, 20030812, 421, 71.5840, -154.9856, 41,      1.5,   3.8008,  29.9099, 2,  29.9146, 2,    321.5, 2,    334.4, 2,     3.10, 2,     0.02, 2,     0.00, 2,     0.49, 2,    89.60, 2,   3.8007,     0.06, 2, 0.01, 2,     0.41, 2,     0.11, 2,   1.1060, 2, 0.205, 2, 3.551, 2, 4.824, 2
320620030705, SBI, 290, 1, 104, 4, 2, 20030812, 420, 71.5840, -154.9856, 41,      8.0,   3.7939,  29.8878, 2, -999.0000, 9,    319.8, 2,   -999.0, 9,  -999.00, 9,  -999.00, 9,  -999.00, 9,  -999.00, 9,    75.10, 2,   3.7934,  -999.00, 9, -999, 9,  -999.00, 9,  -999.00, 9,   1.1440, 2, 0.209, 2, 2.863, 2, 4.829, 2
320620030705, SBI, 290, 1, 103, 3, 2, 20030812, 419, 71.5840, -154.9856, 41,     14.0,   3.7814,  29.9551, 2, -999.0000, 9,    319.2, 2,    332.9, 2,     3.18, 2,     0.01, 2,     0.01, 2,     0.51, 2,    76.40, 2,   3.7806,     0.12, 2, 0.04, 2,     0.57, 2,     0.13, 2,   1.1760, 2, 0.219, 2, 2.331, 2, 4.829, 2
320620030705, SBI, 290, 1, 102, 2, 2, 20030812, 417, 71.5840, -154.9856, 41,     26.1,   3.6930,  30.0915, 2, -999.0000, 9,    312.1, 2,    326.4, 2,     4.25, 2,     0.11, 2,     0.02, 2,     0.62, 2,  -999.00, 9,   3.6915,     0.42, 2, 0.06, 2,     0.55, 2,     0.15, 2,   1.1710, 2, 0.219, 2, 1.280, 2, 4.835, 2
320620030705, SBI, 290, 1, 101, 1, 2, 20030812, 415, 71.5840, -154.9856, 41,     36.2,   4.0680,  30.6423, 2,  30.2548, 2,    307.1, 2,    324.1, 2,     4.02, 2,     0.11, 2,     0.02, 2,     0.62, 2,  -999.00, 9,   4.0658,     0.41, 2, 0.07, 2,     0.48, 2,     0.17, 2,   1.1170, 2, 0.210, 2, 0.234, 2, 4.831, 2
320620030705, SBI, 291, 1, 124, 24, 2, 20030813, 29, 72.2500, -151.5837, 3083,      1.6,  -0.5371,  27.7746, 2,  27.8971, 2,    311.9, 2,    378.7, 0,     2.17, 2,     0.10, 2,     0.00, 2,     0.63, 2,  -999.00, 9,  -0.5371,     0.00, 2, 0, 2,  -999.00, 9,  -999.00, 9,   0.6470, 2, -999.000, 2, -999.000, 9, 4.695, 2
320620030705, SBI, 291, 1, 123, 23, 2, 20030813, 27, 72.2500, -151.5837, 3083,     23.8,   3.8475,  30.8825, 2, -999.0000, 9,    285.9, 2,    347.4, 2,     6.67, 2,     0.14, 2,     0.02, 2,     0.72, 2,  -999.00, 9,   3.8461,     0.18, 2, 0.01, 2,  -999.00, 9,  -999.00, 9,   1.1950, 2, -999.000, 2, -999.000, 9, 4.693, 2
320620030705, SBI, 291, 1, 122, 22, 2, 20030813, 25, 72.2500, -151.5837, 3083,     43.9,   1.9875,  31.4849, 2, -999.0000, 9,    298.2, 2,    364.3, 2,     8.87, 2,     0.83, 2,     0.05, 2,     0.92, 2,  -999.00, 9,   1.9855,     1.18, 2, 0.1, 2,  -999.00, 9,  -999.00, 9,   1.0840, 2, 0.038, 2, -999.000, 9, 4.684, 2
320620030705, SBI, 291, 1, 121, 21, 2, 20030813, 23, 72.2500, -151.5837, 3083,     64.0,   0.0264,  31.8601, 2, -999.0000, 9,    305.4, 2,    357.2, 2,    14.81, 2,     4.00, 2,     0.11, 2,     1.24, 2,  -999.00, 9,   0.0244,     1.70, 2, 0.11, 2,  -999.00, 9,  -999.00, 9,   0.8490, 2, 0.006, 2, -999.000, 9, 4.626, 2
320620030705, SBI, 291, 1, 120, 20, 2, 20030813, 21, 72.2500, -151.5837, 3083,     84.1,  -1.0034,  32.2488, 2, -999.0000, 9,    288.1, 2,    339.8, 2,    21.88, 2,     6.34, 2,     0.16, 2,     1.47, 2,  -999.00, 9,  -1.0053,     2.26, 2, 0.11, 2,  -999.00, 9,  -999.00, 9,   0.9140, 2, -999.000, 2, -999.000, 9, 4.586, 2
320620030705, SBI, 291, 1, 119, 19, 2, 20030813, 19, 72.2500, -151.5837, 3083,    104.1,  -1.4177,  32.4689, 2, -999.0000, 9,    262.4, 2,    316.0, 2,    25.01, 2,     9.06, 2,     0.13, 2,     1.63, 2,  -999.00, 9,  -1.4197,     1.64, 2, 0.05, 2,  -999.00, 9,  -999.00, 9,   0.9220, 2, -999.000, 2, -999.000, 9, 4.591, 2
320620030705, SBI, 291, 1, 118, 18, 2, 20030813, 16, 72.2500, -151.5837, 3083,    124.0,  -1.5341,  32.7663, 2, -999.0000, 9,    240.9, 2,    295.7, 2,    28.67, 2,    12.99, 2,     0.04, 2,     1.72, 2,  -999.00, 9,  -1.5365,     0.03, 2, 0, 2,  -999.00, 9,  -999.00, 9,   0.7920, 2, -999.000, 2, -999.000, 9, 4.623, 2
320620030705, SBI, 291, 1, 117, 17, 2, 20030813, 14, 72.2500, -151.5837, 3083,    144.2,  -1.5350,  32.9859, 2, -999.0000, 9,    239.5, 2,    292.6, 2,    30.69, 2,    13.66, 2,     0.04, 2,     1.74, 2,  -999.00, 9,  -1.5379,     0.26, 2, 0, 2,  -999.00, 9,  -999.00, 9,   0.7680, 2, -999.000, 2, -999.000, 9, 4.625, 2
320620030705, SBI, 291, 1, 116, 16, 2, 20030813, 12, 72.2500, -151.5837, 3083,    164.2,  -1.2787,  33.7074, 2, -999.0000, 9,    229.7, 2,    278.9, 2,    28.32, 2,    14.51, 2,     0.01, 2,     1.57, 2,  -999.00, 9,  -1.2826,     0.02, 2, 0.03, 2,  -999.00, 9,  -999.00, 9,   0.6900, 2, -999.000, 2, -999.000, 9, 4.643, 2
320620030705, SBI, 291, 1, 115, 15, 2, 20030813, 10, 72.2500, -151.5837, 3083,    184.4,  -1.0024,  34.0252, 2, -999.0000, 9,    227.8, 2,    276.3, 2,    23.12, 2,    14.03, 2,     0.01, 2,     1.40, 2,  -999.00, 9,  -1.0074,     0.00, 2, 0.03, 2,  -999.00, 9,  -999.00, 9,   0.7050, 2, -999.000, 2, -999.000, 9, 4.646, 2
320620030705, SBI, 291, 1, 114, 14, 2, 20030813, 8, 72.2500, -151.5837, 3083,    204.3,  -0.6490,  34.3123, 2,  34.3455, 2,    226.6, 2,    274.5, 2,    18.95, 2,    13.56, 2,     0.01, 2,     1.26, 2,  -999.00, 9,  -0.6553,     0.01, 2, 0, 2,  -999.00, 9,  -999.00, 9,   0.6570, 2, -999.000, 2, -999.000, 9, 4.599, 2
320620030705, SBI, 291, 1, 113, 13, 2, 20030813, 6, 72.2500, -151.5837, 3083,    254.8,   0.1352,  34.6653, 2,  34.6614, 2,    231.5, 2,    277.8, 2,    12.17, 2,    12.93, 2,     0.01, 2,     1.05, 2,  -999.00, 9,   0.1254,     0.01, 2, 0.01, 2,  -999.00, 9,  -999.00, 9,   0.5870, 2, -999.000, 2, -999.000, 9, 4.579, 2
320620030705, SBI, 291, 1, 112, 12, 2, 20030813, 3, 72.2500, -151.5837, 3083,    305.0,   0.4579,  34.7534, 2,  34.7555, 2,    235.8, 2,    284.6, 2,     9.43, 2,    12.83, 2,     0.00, 2,     0.97, 2,  -999.00, 9,   0.4451,     0.00, 2, 0.01, 2,  -999.00, 9,  -999.00, 9,   0.6560, 2, -999.000, 2, -999.000, 9, 4.581, 2
320620030705, SBI, 291, 1, 111, 11, 2, 20030813, 2358, 72.2500, -151.5837, 3083,    406.3,   0.5833,  34.8182, 2,  34.8165, 2,    242.1, 2,    291.9, 2,     7.41, 2,    12.57, 2,     0.00, 2,     0.91, 2,  -999.00, 9,   0.5654,     0.00, 2, 0, 2,  -999.00, 9,  -999.00, 9,   0.6270, 2, -999.000, 2, -999.000, 9, 4.605, 2
320620030705, SBI, 291, 1, 110, 10, 2, 20030813, 2354, 72.2500, -151.5837, 3083,    506.8,   0.5147,  34.8428, 2,  34.8410, 2,    245.0, 2,    294.9, 2,     6.69, 2,    12.52, 2,     0.00, 2,     0.90, 2,  -999.00, 9,   0.4922,     0.00, 2, 0, 2,  -999.00, 9,  -999.00, 9,   0.6040, 2, -999.000, 2, -999.000, 9, 4.584, 2
320620030705, SBI, 291, 1, 109, 9, 2, 20030813, 2348, 72.2500, -151.5837, 3083,    607.5,   0.4057,  34.8570, 2,  34.8555, 2,    245.9, 2,    296.8, 2,     6.38, 2,    12.46, 2,     0.00, 2,     0.89, 2,  -999.00, 9,   0.3787,     0.00, 2, 0, 2,  -999.00, 9,  -999.00, 9,   0.5000, 2, -999.000, 2, -999.000, 9, 4.547, 2
320620030705, SBI, 291, 1, 108, 8, 2, 20030813, 2338, 72.2500, -151.5837, 3083,    910.0,   0.0424,  34.8775, 2,  34.8757, 2,    247.9, 2,    301.0, 2,     6.48, 2,    12.51, 2,     0.00, 2,     0.89, 2,  -999.00, 9,   0.0022,     0.01, 2, 0.01, 2,  -999.00, 9,  -999.00, 9,   0.5760, 2, -999.000, 2, -999.000, 9, 4.416, 2
320620030705, SBI, 291, 1, 107, 7, 2, 20030813, 2328, 72.2500, -151.5837, 3083,   1213.0,  -0.1858,  34.8980, 2,  34.8967, 2,    247.8, 2,    300.4, 2,     7.07, 2,    12.82, 2,     0.00, 2,     0.92, 2,  -999.00, 9,  -0.2404,     0.00, 2, 0, 2,  -999.00, 9,  -999.00, 9,   0.5460, 2, -999.000, 2, -999.000, 9, 4.527, 2
320620030705, SBI, 291, 1, 106, 6, 2, 20030813, 2317, 72.2500, -151.5837, 3083,   1516.4,  -0.3383,  34.9188, 2,  34.9163, 2,    247.0, 2,    299.4, 2,     8.16, 2,    13.34, 2,     0.00, 2,     0.96, 2,  -999.00, 9,  -0.4088,     0.02, 2, 0.18, 2,  -999.00, 9,  -999.00, 9,   0.7750, 2, -999.000, 2, -999.000, 9, 4.294, 2
320620030705, SBI, 291, 1, 105, 5, 2, 20030813, 2307, 72.2500, -151.5837, 3083,   1820.2,  -0.4069,  34.9375, 2,  34.9325, 2,    242.9, 2,    293.5, 2,     9.96, 2,    13.86, 2,     0.00, 2,     1.01, 2,  -999.00, 9,  -0.4953,     0.00, 2, 0, 2,  -999.00, 9,  -999.00, 9,   0.6050, 2, -999.000, 2, -999.000, 9, 4.197, 2
320620030705, SBI, 291, 1, 104, 4, 2, 20030813, 2256, 72.2500, -151.5837, 3083,   2124.5,  -0.4052,  34.9481, 2,  34.9419, 2,    239.3, 2,    289.3, 2,    11.26, 2,    14.22, 2,     0.00, 2,     1.03, 2,  -999.00, 9,  -0.5140,     0.00, 2, 0.01, 2,  -999.00, 9,  -999.00, 9,   0.4800, 2, -999.000, 2, -999.000, 9, 4.422, 2
320620030705, SBI, 291, 1, 103, 3, 2, 20030813, 2246, 72.2500, -151.5837, 3083,   2428.8,  -0.3846,  34.9537, 2,  34.9501, 2,    238.4, 2,    287.0, 2,    11.95, 2,    14.41, 2,     0.00, 2,     1.04, 2,  -999.00, 9,  -0.5157,     0.00, 2, 0, 2,  -999.00, 9,  -999.00, 9,   0.4690, 2, -999.000, 2, -999.000, 9, 3.948, 2
320620030705, SBI, 291, 1, 102, 2, 2, 20030813, 2233, 72.2500, -151.5837, 3083,   2733.8,  -0.3602,  34.9567, 2,  34.9506, 2,    223.7, 2,    285.9, 2,    12.34, 2,    14.41, 2,     0.00, 2,     1.04, 2,  -999.00, 9,  -0.5152,     0.00, 2, 0.04, 2,  -999.00, 9,  -999.00, 9,   0.5760, 2, -999.000, 2, -999.000, 9, 3.998, 2
320620030705, SBI, 291, 1, 101, 1, 2, 20030813, 2222, 72.2500, -151.5837, 3083,   3130.7,  -0.3220,  34.9605, 2,  34.9536, 2,    251.5, 2,    282.9, 2,    13.54, 2,    14.41, 2,     0.00, 2,     1.05, 2,  -999.00, 9,  -0.5107,     0.01, 2, 0, 2,  -999.00, 9,  -999.00, 9,   0.4840, 2, -999.000, 2, -999.000, 9, 4.126, 2
320620030705, SBI, 292, 1, 112, 12, 2, 20030813, 317, 72.1535, -151.6638, 2984,      1.4,  -0.2744,  27.9092, 2,  27.9324, 2,    341.5, 2,    377.1, 2,     2.44, 2,     0.10, 2,     0.00, 2,     0.64, 2,  -999.00, 9,  -0.2744,     0.00, 2, 0, 2,  -999.00, 9,  -999.00, 9,   0.6310, 2, 0.174, 2, 3.462, 2, 4.772, 2
320620030705, SBI, 292, 1, 111, 11, 2, 20030813, 314, 72.1535, -151.6638, 2984,     24.1,  -1.0770,  30.0976, 2, -999.0000, 9,    367.2, 2,    401.0, 2,     4.43, 2,     0.10, 2,     0.00, 2,     0.74, 2,  -999.00, 9,  -1.0774,     0.04, 2, 0, 2,  -999.00, 9,  -999.00, 9,   0.6890, 2, 0.179, 2, 2.540, 2, 4.791, 2
320620030705, SBI, 292, 1, 110, 10, 2, 20030813, 310, 72.1535, -151.6638, 2984,     44.2,   0.5972,  31.5876, 2, -999.0000, 9,    338.3, 2,    369.1, 2,    12.76, 2,     1.30, 2,     0.04, 2,     1.09, 2,  -999.00, 9,   0.5957,     1.43, 2, 0.15, 2,  -999.00, 9,  -999.00, 9,   1.0710, 2, 0.231, 2, 2.005, 2, 4.691, 2
320620030705, SBI, 292, 1, 109, 9, 2, 20030813, 309, 72.1535, -151.6638, 2984,     64.1,  -0.8148,  31.9478, 2, -999.0000, 9,    318.6, 2,    349.5, 2,    18.61, 2,     4.84, 2,     0.12, 2,     1.36, 2,  -999.00, 9,  -0.8163,     2.10, 2, 0.13, 2,  -999.00, 9,  -999.00, 9,   0.8930, 2, 0.196, 2, 1.319, 2, 4.662, 2
320620030705, SBI, 292, 1, 108, 8, 2, 20030813, 307, 72.1535, -151.6638, 2984,     84.1,  -1.1618,  32.3390, 2, -999.0000, 9,    297.2, 2,    317.9, 2,    29.55, 2,    12.48, 2,     0.06, 2,     1.76, 2,  -999.00, 9,  -1.1636,     0.77, 2, 0.02, 2,  -999.00, 9,  -999.00, 9,   0.8930, 2, 0.188, 2, 0.698, 2, 4.745, 2
320620030705, SBI, 292, 1, 107, 7, 2, 20030813, 305, 72.1535, -151.6638, 2984,    104.1,  -1.4913,  32.6546, 2, -999.0000, 9,    266.4, 2,    294.0, 2,    29.64, 2,    12.59, 2,     0.06, 2,     1.77, 2,  -999.00, 9,  -1.4933,     0.76, 2, 0.01, 2,  -999.00, 9,  -999.00, 9,   0.7110, 2, 0.185, 2, 0.345, 2, 4.753, 2
320620030705, SBI, 292, 1, 106, 6, 2, 20030813, 303, 72.1535, -151.6638, 2984,    124.4,  -1.5405,  32.8775, 2, -999.0000, 9,    261.6, 2,    290.7, 2,    31.56, 2,    14.23, 2,     0.01, 2,     1.79, 2,  -999.00, 9,  -1.5429,     0.06, 2, 0.16, 2,  -999.00, 9,  -999.00, 9,   0.7590, 2, 0.185, 2, 0.198, 2, 4.759, 2
320620030705, SBI, 292, 1, 105, 5, 2, 20030813, 302, 72.1535, -151.6638, 2984,    144.3,  -1.5268,  33.1160, 2, -999.0000, 9,    254.4, 2,    282.3, 2,    31.97, 2,    14.85, 2,     0.01, 2,     1.75, 2,  -999.00, 9,  -1.5297,     0.01, 2, 0.01, 2,  -999.00, 9,  -999.00, 9,   0.6690, 2, 0.185, 2, 0.156, 2, 4.773, 2
320620030705, SBI, 292, 1, 104, 4, 2, 20030813, 300, 72.1535, -151.6638, 2984,    164.5,  -1.3562,  33.5257, 2, -999.0000, 9,    251.6, 2,    279.0, 2,    30.43, 2,    14.64, 2,     0.01, 2,     1.66, 2,  -999.00, 9,  -1.3600,     0.01, 2, 0, 2,  -999.00, 9,  -999.00, 9,   0.6320, 2, 0.185, 2, 0.144, 2, 4.778, 2
320620030705, SBI, 292, 1, 103, 3, 2, 20030813, 259, 72.1535, -151.6638, 2984,    184.5,  -1.1418,  33.9442, 2, -999.0000, 9,    251.8, 2,    276.4, 2,    23.82, 2,    14.06, 2,     0.01, 2,     1.42, 2,  -999.00, 9,  -1.1465,     0.01, 2, 0.02, 2,  -999.00, 9,  -999.00, 9,   0.6650, 2, 0.184, 2, 0.142, 2, 4.776, 2
320620030705, SBI, 292, 1, 102, 2, 2, 20030813, 257, 72.1535, -151.6638, 2984,    205.0,  -0.7256,  34.2734, 2,  34.3334, 2,    247.8, 2,    273.7, 2,    19.05, 2,    13.65, 2,     0.01, 2,     1.26, 2,  -999.00, 9,  -0.7318,     0.01, 2, 0.02, 2,  -999.00, 9,  -999.00, 9,   0.8520, 2, 0.184, 2, 0.142, 2, 4.777, 2
320620030705, SBI, 292, 1, 101, 1, 2, 20030813, 247, 72.1535, -151.6638, 2984,    506.5,   0.5337,  34.8462, 2,  34.8415, 2,    269.7, 2,    295.8, 2,     6.57, 2,    12.46, 2,     0.00, 2,     0.89, 2,  -999.00, 9,   0.5111,     0.01, 2, 0.01, 2,  -999.00, 9,  -999.00, 9,   0.5520, 2, 0.179, 2, 0.141, 2, 4.488, 2
320620030705, SBI, 293, 1, 112, 12, 2, 20030813, 453, 72.0569, -151.7481, 2732,      1.4,  -0.3677,  28.0223, 2,  28.0171, 2,    344.0, 2,    377.1, 2,     3.08, 2,     0.09, 2,     0.00, 2,     0.65, 2,  -999.00, 9,  -0.3677,     0.04, 2, 0, 2,  -999.00, 9,  -999.00, 9,   0.7190, 2, 0.176, 2, 3.323, 2, 4.889, 2
320620030705, SBI, 293, 1, 111, 11, 2, 20030813, 452, 72.0569, -151.7481, 2732,     24.4,   1.6592,  29.9221, 2, -999.0000, 9,    339.6, 2,    376.5, 2,    11.93, 2,     0.13, 2,     0.00, 2,     0.78, 2,  -999.00, 9,   1.6582,     0.18, 2, 0.01, 2,  -999.00, 9,  -999.00, 9,   1.0280, 2, 0.199, 2, 2.391, 2, 4.889, 2
320620030705, SBI, 293, 1, 110, 10, 2, 20030813, 450, 72.0569, -151.7481, 2732,     44.3,   1.7826,  31.6326, 2, -999.0000, 9,    329.7, 2,    368.0, 2,    10.30, 2,     0.58, 2,     0.02, 2,     0.94, 2,  -999.00, 9,   1.7806,     1.06, 2, 0.18, 2,  -999.00, 9,  -999.00, 9,   0.8630, 2, 0.184, 2, 1.703, 2, 4.889, 2
320620030705, SBI, 293, 1, 109, 9, 2, 20030813, 448, 72.0569, -151.7481, 2732,     64.5,  -0.8341,  32.0080, 2, -999.0000, 9,    317.1, 2,    356.3, 2,    16.84, 2,     4.15, 2,     0.12, 2,     1.29, 2,  -999.00, 9,  -0.8356,     1.90, 2, 0.11, 2,  -999.00, 9,  -999.00, 9,   0.9040, 2, 0.196, 2, 1.001, 2, 4.891, 2
320620030705, SBI, 293, 1, 108, 8, 2, 20030813, 446, 72.0569, -151.7481, 2732,     84.5,  -1.2952,  32.3378, 2, -999.0000, 9,    278.3, 2,    304.3, 2,    24.84, 2,    11.00, 2,     0.04, 2,     1.64, 2,  -999.00, 9,  -1.2969,     0.50, 2, 0.03, 2,  -999.00, 9,  -999.00, 9,   0.7850, 2, 0.187, 2, 0.514, 2, 4.893, 2
320620030705, SBI, 293, 1, 107, 7, 2, 20030813, 444, 72.0569, -151.7481, 2732,    104.5,  -1.5362,  32.6137, 2, -999.0000, 9,    266.8, 2,    294.3, 2,    29.41, 2,    12.47, 2,     0.06, 2,     1.76, 2,  -999.00, 9,  -1.5382,     0.75, 2, 0.01, 2,  -999.00, 9,  -999.00, 9,   0.8480, 2, 0.190, 2, 0.274, 2, 4.894, 2
320620030705, SBI, 293, 1, 106, 6, 2, 20030813, 442, 72.0569, -151.7481, 2732,    124.5,  -1.5203,  32.8934, 2, -999.0000, 9,    262.3, 2,    289.5, 2,    31.95, 2,    14.21, 2,     0.03, 2,     1.78, 2,  -999.00, 9,  -1.5228,     0.21, 2, 0.21, 2,  -999.00, 9,  -999.00, 9,   0.7680, 2, 0.181, 2, 0.173, 2, 4.894, 2
320620030705, SBI, 293, 1, 105, 5, 2, 20030813, 441, 72.0569, -151.7481, 2732,    144.6,  -1.5127,  33.1549, 2, -999.0000, 9,    257.7, 2,    283.0, 2,    31.73, 2,    14.63, 2,     0.01, 2,     1.73, 2,  -999.00, 9,  -1.5157,     0.00, 2, 0, 2,  -999.00, 9,  -999.00, 9,   0.6790, 2, 0.178, 2, 0.149, 2, 4.891, 2
320620030705, SBI, 293, 1, 104, 4, 2, 20030813, 439, 72.0569, -151.7481, 2732,    164.9,  -1.3480,  33.5483, 2, -999.0000, 9,    253.2, 2,    280.0, 2,    28.56, 2,    14.42, 2,     0.01, 2,     1.58, 2,  -999.00, 9,  -1.3518,     0.01, 2, 0, 2,  -999.00, 9,  -999.00, 9,   0.7870, 2, 0.178, 2, 0.143, 2, 4.886, 2
320620030705, SBI, 293, 1, 103, 3, 2, 20030813, 438, 72.0569, -151.7481, 2732,    184.8,  -1.1352,  33.8935, 2, -999.0000, 9,    252.4, 2,    278.2, 2,    25.82, 2,    14.15, 2,     0.01, 2,     1.49, 2,  -999.00, 9,  -1.1399,     0.00, 2, 0, 2,  -999.00, 9,  -999.00, 9,   0.6660, 2, 0.178, 2, 0.142, 2, 4.882, 2
320620030705, SBI, 293, 1, 102, 2, 2, 20030813, 437, 72.0569, -151.7481, 2732,    204.9,  -0.7965,  34.2337, 2,  34.3303, 2,    249.9, 2,    275.8, 2,    19.52, 2,    13.64, 2,     0.01, 2,     1.27, 2,  -999.00, 9,  -0.8026,     0.00, 2, 0.02, 2,  -999.00, 9,  -999.00, 9,   0.6720, 2, 0.178, 2, 0.141, 2, 4.878, 2
320620030705, SBI, 293, 1, 101, 1, 2, 20030813, 429, 72.0569, -151.7481, 2732,    506.8,   0.5288,  34.8455, 2,  34.8407, 2,    269.2, 2,    295.4, 2,     6.71, 2,    12.40, 2,     0.00, 2,     0.89, 2,  -999.00, 9,   0.5062,     0.00, 2, 0, 2,  -999.00, 9,  -999.00, 9,   0.6680, 2, 0.173, 2, 0.140, 2, 4.885, 2