BOTTLE,20100423CCHDOSIODBK
EXPOCODE,SECT_ID,STNNBR,CASTNO,SAMPNO,BTLNBR,BTLNBR_FLAG_W,DATE,TIME,LATITUDE,LONGITUDE,DEPTH,CTDPRS,CTDTMP,CTDSAL,CTDSAL_FLAG_W,SALNTY,SALNTY_FLAG_W,CTDOXY,CTDOXY_FLAG_W,OXYGEN,OXYGEN_FLAG_W,SILCAT,SILCAT_FLAG_W,NITRAT,NITRAT_FLAG_W,NITRIT,NITRIT_FLAG_W,PHSPHT,PHSPHT_FLAG_W,DOC,DOC_FLAG_W,THETA,NH4,NH4_FLAG_W,UREA,UREA_FLAG_W,CHLORA,CHLORA_FLAG_W,PPHYTN,PPHYTN_FLAG_W,FLUOR,FLUOR_FLAG_W,HAARDT,HAARDT_FLAG_W,PAR,PAR_FLAG_W,SPAR,SPAR_FLAG_W
,,,,,,,,,,,METERS,DBAR,ITS-90,PSS-78,,PSS-78,,UMOL/KG,,UMOL/KG,,UMOL/KG,,UMOL/KG,,UMOL/KG,,UMOL/KG,,UMOL/KG,,DEG C,UMOL/KG,,UMOL/KG,,UG/KG,,UG/KG,,MG/M^3,,VOLTS,,VOLTS,,VOLTS,
320620030705, SBI, 87, 1, 107, 7, 2, 20030722, 725, 71.4110, -159.9050, 47,      1.7,  -0.0996,  28.5203, 2,  28.4788, 2,    376.6, 2,    404.6, 2,    22.31, 2,     0.02, 2,     0.00, 2,     0.81, 2,  -999.00, 9,  -0.0996,     0.01, 2, 0, 2,     0.52, 2,     0.04, 2,   1.2530, 2, 0.000, 2, 2.610, 2, 4.978, 2
320620030705, SBI, 87, 1, 106, 6, 2, 20030722, 724, 71.4110, -159.9050, 47,     16.4,  -1.1647,  30.9930, 2, -999.0000, 9,    383.5, 2,    367.7, 2,    36.29, 2,     2.71, 2,     0.08, 2,     1.31, 2,  -999.00, 9,  -1.1650,     0.26, 2, 0.05, 2,  -999.00, 9,  -999.00, 9,   1.5320, 2, 0.000, 2, 1.696, 2, 4.974, 2
320620030705, SBI, 87, 1, 103, 3, 2, 20030722, 722, 71.4110, -159.9050, 47,     21.4,  -1.5133,  31.1592, 2, -999.0000, 9,    322.2, 2,    329.8, 2,    39.90, 2,     5.30, 2,     0.13, 2,     1.53, 2,  -999.00, 9,  -1.5136,     0.96, 2, 0.08, 2,    10.34, 2,     0.24, 2,   2.7200, 2, 0.000, 2, 1.334, 2, 4.973, 2
320620030705, SBI, 87, 1, 104, 4, 2, 20030722, 722, 71.4110, -159.9050, 47,     21.4,  -1.5243,  31.1640, 2, -999.0000, 9,    306.8, 2,   -999.0, 9,  -999.00, 9,  -999.00, 9,  -999.00, 9,  -999.00, 9,  -999.00, 9,  -1.5246,  -999.00, 9, -999, 9,  -999.00, 9,  -999.00, 9,   2.5800, 2, 0.000, 2, 1.331, 2, 4.973, 2
320620030705, SBI, 87, 1, 105, 5, 2, 20030722, 723, 71.4110, -159.9050, 47,     21.4,  -1.5280,  31.1674, 2, -999.0000, 9,    296.1, 2,   -999.0, 9,  -999.00, 9,  -999.00, 9,  -999.00, 9,  -999.00, 9,  -999.00, 9,  -1.5283,  -999.00, 9, -999, 9,  -999.00, 9,  -999.00, 9,   2.5510, 2, 0.000, 2, 1.330, 2, 4.972, 2
320620030705, SBI, 87, 1, 102, 2, 2, 20030722, 720, 71.4110, -159.9050, 47,     32.3,  -1.6505,  31.7862, 2, -999.0000, 9,    269.5, 2,    287.5, 2,    46.02, 2,    10.73, 2,     0.19, 2,     1.98, 2,  -999.00, 9,  -1.6510,     2.91, 2, 0.14, 2,  -999.00, 9,  -999.00, 9,   1.6680, 2, 0.000, 2, 0.314, 2, 4.973, 2
320620030705, SBI, 87, 1, 101, 1, 3, 20030722, 719, 71.4110, -159.9050, 47,     41.3,  -1.7108,  32.5880, 2,  32.0708, 0,    266.3, 2,    292.7, 0,    43.18, 4,     9.81, 4,     0.16, 4,     1.86, 4,    70.40, 2,  -1.7115,     2.59, 4, 0.13, 4,     2.38, 2,     0.53, 2,   1.1790, 2, 0.000, 2, 0.160, 2, 4.971, 2
320620030705, SBI, 88, 1, 106, 6, 2, 20030722, 1301, 71.2019, -157.8285, 49,      2.2,   4.7883,  31.3048, 2, -999.0000, 9,    312.4, 2,    325.8, 2,     4.51, 2,     0.16, 2,     0.02, 2,     0.54, 2,  -999.00, 9,   4.7881,     0.23, 2, 0.04, 2,     0.98, 2,     0.15, 2,   1.3500, 2, 0.000, 2, 2.574, 2, 4.979, 2
320620030705, SBI, 88, 1, 103, 3, 2, 20030722, 1259, 71.2019, -157.8285, 49,     12.4,   4.7582,  31.3258, 2,  31.3242, 2,    312.8, 2,    325.8, 2,     4.40, 2,     0.10, 2,     0.02, 2,     0.53, 2,  -999.00, 9,   4.7573,     0.24, 2, 0.04, 2,     0.79, 2,     0.23, 2,   1.2840, 2, 0.000, 2, 1.622, 2, 4.981, 2
320620030705, SBI, 88, 1, 104, 4, 2, 20030722, 1259, 71.2019, -157.8285, 49,     12.4,   4.7809,  31.3151, 2, -999.0000, 9,    312.7, 2,   -999.0, 9,  -999.00, 9,  -999.00, 9,  -999.00, 9,  -999.00, 9,  -999.00, 9,   4.7800,  -999.00, 9, -999, 9,  -999.00, 9,  -999.00, 9,   1.3400, 2, 0.000, 2, 1.615, 2, 4.981, 2
320620030705, SBI, 88, 1, 105, 5, 2, 20030722, 1259, 71.2019, -157.8285, 49,     12.4,   4.7836,  31.3140, 2, -999.0000, 9,    312.6, 2,   -999.0, 9,  -999.00, 9,  -999.00, 9,  -999.00, 9,  -999.00, 9,  -999.00, 9,   4.7827,  -999.00, 9, -999, 9,  -999.00, 9,  -999.00, 9,   1.3630, 2, 0.000, 2, 1.615, 2, 4.981, 2
320620030705, SBI, 88, 1, 102, 2, 2, 20030722, 1256, 71.2019, -157.8285, 49,     27.7,   4.6929,  31.3352, 2,  31.3318, 2,    313.9, 2,    327.1, 2,     4.50, 2,     0.10, 2,     0.02, 2,     0.52, 2,  -999.00, 9,   4.6910,     0.24, 2, 0.04, 2,  -999.00, 9,  -999.00, 9,   1.2610, 2, 0.000, 2, 0.733, 2, 4.981, 2
320620030705, SBI, 88, 1, 101, 1, 2, 20030722, 1254, 71.2019, -157.8285, 49,     42.0,   4.6532,  31.3538, 2,  31.3371, 2,    314.0, 2,    328.1, 2,     4.49, 2,     0.10, 2,     0.02, 2,     0.52, 2,    72.30, 2,   4.6503,     0.24, 2, 0.04, 2,     0.68, 2,     0.19, 2,   1.2560, 2, 0.000, 2, 0.294, 2, 4.982, 2
320620030705, SBI, 89, 1, 105, 5, 2, 20030722, 1410, 71.2475, -157.8830, 57,      2.2,   1.1490,  28.9243, 2,  29.0954, 2,    375.3, 2,    401.4, 2,    15.70, 2,     0.00, 2,     0.00, 2,     0.72, 2,  -999.00, 9,   1.1489,     0.16, 2, 0.01, 2,  -999.00, 9,  -999.00, 9,   0.9260, 2, 0.000, 2, 2.389, 2, 4.984, 2
320620030705, SBI, 89, 1, 104, 4, 2, 20030722, 1408, 71.2475, -157.8830, 57,     12.1,   3.2364,  31.2279, 2, -999.0000, 9,    325.3, 2,    341.9, 2,     6.97, 2,     0.15, 2,     0.02, 2,     0.61, 2,  -999.00, 9,   3.2357,     0.43, 2, 0.06, 2,  -999.00, 9,  -999.00, 9,   1.2290, 2, 0.000, 2, 1.682, 2, 4.987, 2
320620030705, SBI, 89, 1, 103, 3, 9, 20030722, 1407, 71.2475, -157.8830, 57,     26.5,   3.3055,  31.3018, 2, -999.0000, 9,    322.3, 2,   -999.0, 9,  -999.00, 9,  -999.00, 9,  -999.00, 9,  -999.00, 9,  -999.00, 9,   3.3040,  -999.00, 9, -999, 9,  -999.00, 9,  -999.00, 9,   1.2710, 2, 0.000, 2, 0.778, 2, 4.987, 2
320620030705, SBI, 89, 1, 102, 2, 2, 20030722, 1405, 71.2475, -157.8830, 57,     42.0,   3.5914,  31.3403, 2,  31.3412, 2,    320.8, 2,    336.9, 2,     6.16, 2,     0.15, 2,     0.02, 2,     0.58, 2,  -999.00, 9,   3.5889,     0.44, 2, 0.06, 2,  -999.00, 9,  -999.00, 9,   1.2640, 2, 0.000, 2, 0.276, 2, 4.985, 2
320620030705, SBI, 89, 1, 101, 1, 2, 20030722, 1403, 71.2475, -157.8830, 57,     51.8,   3.6666,  31.3464, 2,  31.3523, 2,    319.5, 2,    334.0, 2,     6.15, 2,     0.15, 2,     0.02, 2,     0.57, 2,    72.00, 2,   3.6635,     0.43, 2, 0.07, 2,  -999.00, 9,  -999.00, 9,   1.2400, 2, 0.000, 2, 0.194, 2, 4.982, 2
320620030705, SBI, 90, 1, 108, 8, 2, 20030722, 1521, 71.2938, -157.9234, 88,      2.3,   0.1550,  28.1672, 2, -999.0000, 9,    377.3, 2,    414.9, 2,    16.85, 2,     0.08, 2,     0.00, 2,     0.76, 2,  -999.00, 9,   0.1549,     0.29, 2, 0.03, 2,  -999.00, 9,  -999.00, 9,   1.1020, 2, 0.000, 2, 2.803, 2, 4.957, 2
320620030705, SBI, 90, 1, 107, 7, 2, 20030722, 1519, 71.2938, -157.9234, 88,     12.7,  -0.3065,  31.0438, 2, -999.0000, 9,    407.6, 2,    405.6, 2,    10.52, 2,     0.12, 2,     0.01, 2,     0.71, 2,  -999.00, 9,  -0.3068,     0.32, 2, 0.06, 2,  -999.00, 9,  -999.00, 9,   1.1720, 2, 0.000, 2, 2.138, 2, 4.959, 2
320620030705, SBI, 90, 1, 106, 6, 2, 20030722, 1517, 71.2938, -157.9234, 88,     22.9,   1.7385,  31.8230, 2,  31.8273, 2,    334.9, 2,    356.1, 2,     4.60, 2,     0.31, 2,     0.03, 2,     0.70, 2,  -999.00, 9,   1.7375,     0.64, 2, 0.1, 2,  -999.00, 9,  -999.00, 9,   1.3440, 2, 0.000, 2, 1.474, 2, 4.960, 2
320620030705, SBI, 90, 1, 105, 5, 2, 20030722, 1515, 71.2938, -157.9234, 88,     37.9,   1.5523,  31.8373, 2, -999.0000, 9,    335.4, 2,    358.6, 2,     4.60, 2,     0.31, 2,     0.03, 2,     0.70, 2,  -999.00, 9,   1.5507,     0.65, 2, 0.1, 2,  -999.00, 9,  -999.00, 9,   1.3710, 2, 0.000, 2, 0.432, 2, 4.970, 2
320620030705, SBI, 90, 1, 103, 3, 2, 20030722, 1512, 71.2938, -157.9234, 88,     52.8,   0.9159,  31.9568, 2, -999.0000, 9,    347.8, 2,    372.5, 2,     3.50, 2,     0.22, 2,     0.02, 2,     0.68, 2,  -999.00, 9,   0.9139,     0.53, 2, 0.09, 2,  -999.00, 9,  -999.00, 9,   1.2940, 2, 0.000, 2, 0.171, 2, 4.969, 2
320620030705, SBI, 90, 1, 104, 4, 2, 20030722, 1512, 71.2938, -157.9234, 88,     52.8,   0.9574,  31.9493, 2, -999.0000, 9,    348.1, 2,   -999.0, 9,  -999.00, 9,  -999.00, 9,  -999.00, 9,  -999.00, 9,  -999.00, 9,   0.9554,  -999.00, 9, -999, 9,  -999.00, 9,  -999.00, 9,   1.2890, 2, 0.000, 2, 0.170, 2, 4.970, 2
320620030705, SBI, 90, 1, 102, 2, 2, 20030722, 1509, 71.2938, -157.9234, 88,     66.6,   0.6789,  31.9857, 2, -999.0000, 9,    352.9, 2,    379.3, 2,     3.19, 2,     0.22, 2,     0.02, 2,     0.67, 2,  -999.00, 9,   0.6765,     0.48, 2, 0.13, 2,  -999.00, 9,  -999.00, 9,   1.3060, 2, 0.000, 2, 0.148, 2, 4.960, 2
320620030705, SBI, 90, 1, 101, 1, 2, 20030722, 1507, 71.2938, -157.9234, 88,     82.3,   0.5936,  31.9942, 2, -999.0000, 9,    354.9, 2,    381.0, 2,     3.08, 2,     0.16, 2,     0.01, 2,     0.67, 2,    70.50, 2,   0.5906,     0.43, 2, 0.08, 2,  -999.00, 9,  -999.00, 9,   1.3030, 2, 0.000, 2, 0.144, 2, 4.962, 2
320620030705, SBI, 91, 1, 111, 11, 2, 20030722, 1637, 71.3430, -157.9794, 117,      2.4,  -0.2459,  28.2634, 2,  28.5186, 2,    373.7, 2,    406.2, 2,    22.84, 2,     0.01, 2,     0.00, 2,     0.82, 2,  -999.00, 9,  -0.2460,     0.10, 2, 0.01, 2,     0.37, 2,     0.08, 2,   1.1680, 2, 0.000, 2, 3.174, 2, 4.894, 2
320620030705, SBI, 91, 1, 110, 10, 2, 20030722, 1635, 71.3430, -157.9794, 117,     12.1,  -0.1269,  29.4284, 2, -999.0000, 9,    406.8, 2,    407.7, 2,    26.83, 2,     0.53, 2,     0.02, 2,     1.01, 2,  -999.00, 9,  -0.1272,     0.33, 2, 0.05, 2,  -999.00, 9,  -999.00, 9,   1.1720, 2, 0.000, 2, 2.500, 2, 4.898, 2
320620030705, SBI, 91, 1, 107, 7, 2, 20030722, 1632, 71.3430, -157.9794, 117,     27.5,  -1.5008,  31.3783, 2, -999.0000, 9,    335.6, 2,    379.9, 2,    23.38, 2,     2.14, 2,     0.06, 2,     1.16, 2,  -999.00, 9,  -1.5012,     0.63, 2, 0.13, 2,    10.66, 2,     1.42, 2,   1.8470, 2, 0.000, 2, 0.595, 2, 4.913, 2
320620030705, SBI, 91, 1, 108, 8, 2, 20030722, 1632, 71.3430, -157.9794, 117,     27.5,  -1.5008,  31.3784, 2, -999.0000, 9,    335.8, 2,   -999.0, 9,  -999.00, 9,  -999.00, 9,  -999.00, 9,  -999.00, 9,  -999.00, 9,  -1.5012,  -999.00, 9, -999, 9,  -999.00, 9,  -999.00, 9,   1.8630, 2, 0.000, 2, 0.568, 2, 4.913, 2
320620030705, SBI, 91, 1, 109, 9, 2, 20030722, 1632, 71.3430, -157.9794, 117,     27.5,  -1.5011,  31.3788, 2, -999.0000, 9,    336.0, 2,   -999.0, 9,  -999.00, 9,  -999.00, 9,  -999.00, 9,  -999.00, 9,  -999.00, 9,  -1.5015,  -999.00, 9, -999, 9,  -999.00, 9,  -999.00, 9,   1.8280, 2, 0.000, 2, 0.546, 2, 4.913, 2
320620030705, SBI, 91, 1, 106, 6, 2, 20030722, 1630, 71.3430, -157.9794, 117,     41.7,  -0.4511,  31.9534, 2, -999.0000, 9,    377.3, 2,    403.9, 2,     5.16, 2,     0.21, 2,     0.01, 2,     0.69, 2,  -999.00, 9,  -0.4522,     0.24, 2, 0.05, 2,  -999.00, 9,  -999.00, 9,   1.3260, 2, 0.000, 2, 0.278, 2, 4.918, 2
320620030705, SBI, 91, 1, 105, 5, 2, 20030722, 1628, 71.3430, -157.9794, 117,     57.2,  -0.6199,  32.1175, 2, -999.0000, 9,    381.9, 2,    411.3, 2,     4.46, 2,     0.36, 2,     0.02, 2,     0.71, 2,  -999.00, 9,  -0.6214,     0.24, 2, 0.05, 2,     0.40, 2,     0.27, 2,   1.2680, 2, 0.000, 2, 0.162, 2, 4.910, 2
320620030705, SBI, 91, 1, 104, 4, 2, 20030722, 1625, 71.3430, -157.9794, 117,     72.3,  -1.2192,  32.3076, 2, -999.0000, 9,    357.9, 2,    391.8, 2,    14.76, 2,     3.89, 2,     0.11, 2,     1.14, 2,  -999.00, 9,  -1.2207,     1.07, 2, 0.1, 2,  -999.00, 9,  -999.00, 9,   1.6330, 2, 0.000, 2, 0.144, 2, 4.891, 2
320620030705, SBI, 91, 1, 103, 3, 2, 20030722, 1624, 71.3430, -157.9794, 117,     87.3,  -1.3455,  32.3779, 2, -999.0000, 9,    355.7, 2,    387.1, 2,    14.65, 2,     4.59, 2,     0.14, 2,     1.19, 2,  -999.00, 9,  -1.3472,     1.17, 2, 0.12, 2,  -999.00, 9,  -999.00, 9,   1.7680, 2, 0.000, 2, 0.142, 2, 4.881, 2
320620030705, SBI, 91, 1, 102, 2, 2, 20030722, 1621, 71.3430, -157.9794, 117,    102.3,  -1.3593,  32.3881, 2, -999.0000, 9,    355.6, 2,    386.6, 2,    14.25, 2,     4.69, 2,     0.14, 2,     1.20, 2,  -999.00, 9,  -1.3613,     1.19, 2, 0.12, 2,  -999.00, 9,  -999.00, 9,   1.7920, 2, 0.000, 2, 0.143, 2, 4.891, 2
320620030705, SBI, 91, 1, 101, 1, 2, 20030722, 1619, 71.3430, -157.9794, 117,    112.6,  -1.3621,  32.3939, 2,  32.3899, 2,    356.2, 2,    387.5, 2,    14.14, 2,     4.69, 2,     0.14, 2,     1.20, 2,    72.20, 2,  -1.3644,     1.19, 2, 0.13, 2,     3.01, 2,     0.98, 2,   1.8320, 2, 0.000, 2, 0.143, 2, 4.912, 2
320620030705, SBI, 92, 1, 112, 12, 2, 20030722, 1803, 71.3896, -158.0451, 112,      2.3,   0.3574,  28.1818, 2,  28.3789, 2,    355.2, 2,    388.3, 2,    20.24, 2,     0.08, 2,     0.00, 2,     0.79, 2,  -999.00, 9,   0.3573,     0.00, 2, 0, 2,  -999.00, 9,  -999.00, 9,   1.1220, 2, 0.000, 2, 3.140, 2, 4.907, 2
320620030705, SBI, 92, 1, 109, 9, 2, 20030722, 1803, 71.3896, -158.0451, 112,      2.3,   0.3907,  28.3523, 2, -999.0000, 9,    357.1, 2,   -999.0, 9,  -999.00, 9,  -999.00, 9,  -999.00, 9,  -999.00, 9,  -999.00, 9,   0.3906,  -999.00, 9, -999, 9,  -999.00, 9,  -999.00, 9,   1.1060, 2, 0.000, 2, 3.136, 2, 4.907, 2
320620030705, SBI, 92, 1, 110, 10, 2, 20030722, 1803, 71.3896, -158.0451, 112,      2.4,   0.3016,  28.2330, 2, -999.0000, 9,    358.7, 2,   -999.0, 9,  -999.00, 9,  -999.00, 9,  -999.00, 9,  -999.00, 9,  -999.00, 9,   0.3015,  -999.00, 9, -999, 9,  -999.00, 9,  -999.00, 9,   1.1310, 2, 0.000, 2, 3.138, 2, 4.907, 2
320620030705, SBI, 92, 1, 111, 11, 2, 20030722, 1803, 71.3896, -158.0451, 112,      2.4,   0.3071,  28.1464, 2, -999.0000, 9,    357.0, 2,   -999.0, 9,  -999.00, 9,  -999.00, 9,  -999.00, 9,  -999.00, 9,  -999.00, 9,   0.3070,  -999.00, 9, -999, 9,  -999.00, 9,  -999.00, 9,   1.1040, 2, 0.000, 2, 3.135, 2, 4.906, 2
320620030705, SBI, 92, 1, 108, 8, 2, 20030722, 1801, 71.3896, -158.0451, 112,     12.5,   1.0914,  29.7877, 2, -999.0000, 9,    365.7, 2,    411.8, 2,    27.24, 2,     0.19, 2,     0.00, 2,     0.98, 2,  -999.00, 9,   1.0910,     0.06, 2, 0.04, 2,  -999.00, 9,  -999.00, 9,   1.2510, 2, 0.000, 2, 2.466, 2, 4.912, 2
320620030705, SBI, 92, 1, 107, 7, 2, 20030722, 1759, 71.3896, -158.0451, 112,     24.4,  -1.3099,  31.0643, 2, -999.0000, 9,    350.2, 2,    411.0, 2,    27.51, 2,     0.70, 2,     0.03, 2,     1.09, 2,  -999.00, 9,  -1.3103,     0.24, 2, 0.08, 2,  -999.00, 9,  -999.00, 9,   2.4920, 2, 0.000, 2, 1.678, 2, 4.918, 2
320620030705, SBI, 92, 1, 106, 6, 2, 20030722, 1757, 71.3896, -158.0451, 112,     36.4,  -1.1721,  31.5774, 2, -999.0000, 9,    426.7, 2,    394.2, 2,    21.17, 2,     3.42, 2,     0.07, 2,     1.21, 2,  -999.00, 9,  -1.1728,     0.71, 2, 0.08, 2,  -999.00, 9,  -999.00, 9,   1.3810, 2, 0.000, 2, 0.521, 2, 4.925, 2
320620030705, SBI, 92, 1, 105, 5, 2, 20030722, 1755, 71.3896, -158.0451, 112,     47.5,  -1.6866,  32.0881, 2, -999.0000, 9,    304.9, 2,    314.1, 2,    28.78, 2,     8.69, 2,     0.17, 2,     1.66, 2,  -999.00, 9,  -1.6874,     1.75, 2, 0.14, 2,  -999.00, 9,  -999.00, 9,   1.8110, 2, 0.000, 2, 0.199, 2, 4.926, 2
320620030705, SBI, 92, 1, 104, 4, 2, 20030722, 1753, 71.3896, -158.0451, 112,     67.5,  -1.6985,  32.5542, 2, -999.0000, 9,    260.3, 2,    286.9, 2,    40.42, 2,    11.73, 2,     0.21, 2,     1.98, 2,  -999.00, 9,  -1.6996,     2.99, 2, 0.18, 2,  -999.00, 9,  -999.00, 9,   1.4880, 2, 0.000, 2, 0.142, 2, 4.925, 2
320620030705, SBI, 92, 1, 103, 3, 2, 20030722, 1752, 71.3896, -158.0451, 112,     77.7,  -1.6924,  32.5756, 2, -999.0000, 9,    263.7, 2,    290.6, 2,    41.13, 2,    12.31, 2,     0.20, 2,     2.01, 2,  -999.00, 9,  -1.6937,     3.40, 2, 0.18, 2,  -999.00, 9,  -999.00, 9,   1.5820, 2, 0.000, 2, 0.143, 2, 4.922, 2
320620030705, SBI, 92, 1, 102, 2, 2, 20030722, 1750, 71.3896, -158.0451, 112,     92.5,  -1.6910,  32.5788, 2,  32.5767, 2,    263.7, 2,    290.8, 2,    41.12, 2,    12.40, 2,     0.21, 2,     2.04, 2,  -999.00, 9,  -1.6926,     3.47, 2, 0.21, 2,  -999.00, 9,  -999.00, 9,   1.7040, 2, 0.000, 2, 0.143, 2, 4.921, 2
320620030705, SBI, 92, 1, 101, 1, 2, 20030722, 1749, 71.3896, -158.0451, 112,    107.6,  -1.6922,  32.5825, 2,  32.5778, 2,    263.1, 2,    291.4, 2,    41.20, 2,    12.45, 2,     0.21, 2,     2.04, 2,    68.10, 2,  -1.6941,     3.46, 2, 0.2, 2,  -999.00, 9,  -999.00, 9,   1.8090, 2, 0.000, 2, 0.143, 2, 4.921, 2
320620030705, SBI, 93, 1, 106, 6, 2, 20030722, 1855, 71.4360, -158.0953, 83,      2.5,   1.1121,  28.8705, 2,  29.1977, 2,    362.3, 2,    382.1, 2,    17.75, 2,     0.07, 2,     0.00, 2,     0.78, 2,  -999.00, 9,   1.1120,     0.03, 2, 0.02, 2,  -999.00, 9,  -999.00, 9,   0.9990, 2, 0.000, 2, 3.255, 2, 4.870, 2
320620030705, SBI, 93, 1, 105, 5, 2, 20030722, 1854, 71.4360, -158.0953, 83,     18.2,   1.9361,  30.3456, 2, -999.0000, 9,    368.4, 2,    407.9, 2,    22.05, 2,     0.07, 2,     0.00, 2,     0.90, 2,  -999.00, 9,   1.9353,     0.09, 2, 0.03, 2,  -999.00, 9,  -999.00, 9,   1.1870, 2, 0.000, 2, 2.385, 2, 4.876, 2
320620030705, SBI, 93, 1, 104, 4, 2, 20030722, 1852, 71.4360, -158.0953, 83,     30.6,  -0.9697,  31.4424, 2, -999.0000, 9,    401.4, 2,    383.0, 2,    17.01, 2,     1.63, 2,     0.05, 2,     1.15, 2,  -999.00, 9,  -0.9703,     0.49, 2, 0.1, 2,  -999.00, 9,  -999.00, 9,   1.0510, 2, 0.000, 2, 1.803, 2, 4.880, 2
320620030705, SBI, 93, 1, 103, 3, 2, 20030722, 1850, 71.4360, -158.0953, 83,     40.5,  -1.6185,  31.8795, 2, -999.0000, 9,    331.3, 2,    340.9, 2,    23.11, 2,     5.42, 2,     0.12, 2,     1.44, 2,  -999.00, 9,  -1.6192,     1.19, 2, 0.13, 2,  -999.00, 9,  -999.00, 9,   2.7870, 2, 0.000, 2, 0.826, 2, 4.881, 2
320620030705, SBI, 93, 1, 102, 2, 2, 20030722, 1848, 71.4360, -158.0953, 83,     62.3,  -1.7059,  32.6146, 2, -999.0000, 9,    258.9, 2,    281.7, 2,    44.09, 2,    12.82, 2,     0.20, 2,     2.08, 2,  -999.00, 9,  -1.7070,     3.56, 2, 0.16, 2,  -999.00, 9,  -999.00, 9,   1.5060, 2, 0.000, 2, 0.153, 2, 4.879, 2
320620030705, SBI, 93, 1, 101, 1, 2, 20030722, 1846, 71.4360, -158.0953, 83,     77.2,  -1.7052,  32.6195, 2,  32.6137, 2,    259.3, 2,    282.3, 2,    44.58, 2,    13.09, 2,     0.20, 2,     2.09, 2,    68.10, 2,  -1.7065,     3.73, 2, 0.18, 2,  -999.00, 9,  -999.00, 9,   1.6550, 2, 0.000, 2, 0.143, 2, 4.872, 2