BOTTLE,20100423CCHDOSIODBK
EXPOCODE,SECT_ID,STNNBR,CASTNO,SAMPNO,BTLNBR,BTLNBR_FLAG_W,DATE,TIME,LATITUDE,LONGITUDE,DEPTH,CTDPRS,CTDTMP,CTDSAL,CTDSAL_FLAG_W,SALNTY,SALNTY_FLAG_W,CTDOXY,CTDOXY_FLAG_W,OXYGEN,OXYGEN_FLAG_W,SILCAT,SILCAT_FLAG_W,NITRAT,NITRAT_FLAG_W,NITRIT,NITRIT_FLAG_W,PHSPHT,PHSPHT_FLAG_W,DOC,DOC_FLAG_W,THETA,NH4,NH4_FLAG_W,UREA,UREA_FLAG_W,CHLORA,CHLORA_FLAG_W,PPHYTN,PPHYTN_FLAG_W,FLUOR,FLUOR_FLAG_W,HAARDT,HAARDT_FLAG_W,PAR,PAR_FLAG_W,SPAR,SPAR_FLAG_W
,,,,,,,,,,,METERS,DBAR,ITS-90,PSS-78,,PSS-78,,UMOL/KG,,UMOL/KG,,UMOL/KG,,UMOL/KG,,UMOL/KG,,UMOL/KG,,UMOL/KG,,DEG C,UMOL/KG,,UMOL/KG,,UG/KG,,UG/KG,,MG/M^3,,VOLTS,,VOLTS,,VOLTS,
320620030705, SBI, 118, 1, 124, 24, 2, 20030726, 915, 73.6284, -156.4853, 3714,      2.4,  -1.2324,  28.0187, 2,  28.0184, 2,    354.2, 2,    387.1, 2,     3.26, 2,     0.13, 2,     0.00, 2,     0.63, 2,  -999.00, 9,  -1.2324,     0.05, 2, 0, 2,     0.06, 2,     0.03, 2,   0.6690, 2, -999.000, 2, -999.000, 9, 4.968, 2
320620030705, SBI, 118, 1, 123, 23, 2, 20030726, 913, 73.6284, -156.4853, 3714,     12.7,  -1.1231,  29.4794, 2, -999.0000, 9,    367.4, 2,    404.4, 2,     3.84, 2,     0.07, 2,     0.00, 2,     0.70, 2,  -999.00, 9,  -1.1233,     0.04, 2, 0, 2,     0.07, 2,     0.03, 2,   0.7260, 2, -999.000, 2, -999.000, 9, 4.967, 2
320620030705, SBI, 118, 1, 122, 22, 2, 20030726, 911, 73.6284, -156.4853, 3714,     22.8,  -1.2931,  30.2622, 2, -999.0000, 9,    370.5, 2,    406.0, 2,     4.52, 2,     0.06, 2,     0.00, 2,     0.74, 2,  -999.00, 9,  -1.2935,     0.03, 2, 0, 2,     0.12, 2,     0.09, 2,   0.7690, 2, -999.000, 2, -999.000, 9, 4.967, 2
320620030705, SBI, 118, 1, 121, 21, 2, 20030726, 909, 73.6284, -156.4853, 3714,     32.7,  -0.9491,  31.0825, 2,  31.3638, 2,    361.8, 2,    366.3, 2,    10.37, 2,     2.71, 2,     0.09, 2,     1.01, 2,  -999.00, 9,  -0.9498,     0.02, 2, 0.02, 2,     0.47, 2,     0.31, 2,   1.4020, 2, -999.000, 2, -999.000, 9, 4.967, 2
320620030705, SBI, 118, 1, 120, 20, 2, 20030726, 908, 73.6284, -156.4853, 3714,     47.8,  -1.0338,  31.8325, 2, -999.0000, 9,    325.0, 2,    343.8, 2,    16.40, 2,     6.74, 2,     0.02, 2,     1.27, 2,  -999.00, 9,  -1.0348,     0.00, 2, 0.01, 2,     0.25, 2,     0.16, 2,   1.2410, 2, -999.000, 2, -999.000, 9, 4.968, 2
320620030705, SBI, 118, 1, 119, 19, 2, 20030726, 906, 73.6284, -156.4853, 3714,     62.9,  -1.2902,  32.1651, 2, -999.0000, 9,    299.2, 2,    324.9, 2,    20.46, 2,     9.20, 2,     0.00, 2,     1.43, 2,  -999.00, 9,  -1.2914,     0.00, 2, 0, 2,  -999.00, 9,  -999.00, 9,   0.9390, 2, -999.000, 2, -999.000, 9, 4.969, 2
320620030705, SBI, 118, 1, 118, 18, 2, 20030726, 904, 73.6284, -156.4853, 3714,     77.4,  -1.5313,  32.4234, 2, -999.0000, 9,    289.1, 2,    313.2, 2,    25.50, 2,    10.85, 2,     0.00, 2,     1.55, 2,  -999.00, 9,  -1.5327,     0.00, 2, 0, 2,  -999.00, 9,  -999.00, 9,   0.6520, 2, -999.000, 2, -999.000, 9, 4.968, 2
320620030705, SBI, 118, 1, 117, 17, 2, 20030726, 902, 73.6284, -156.4853, 3714,     93.0,  -1.5353,  32.6338, 2, -999.0000, 9,    277.2, 2,    303.0, 2,    27.48, 2,    12.24, 2,     0.00, 2,     1.62, 2,  -999.00, 9,  -1.5371,     0.00, 2, 0, 2,  -999.00, 9,  -999.00, 9,   0.6780, 2, -999.000, 2, -999.000, 9, 4.968, 2
320620030705, SBI, 118, 1, 116, 16, 2, 20030726, 900, 73.6284, -156.4853, 3714,    102.8,  -1.5588,  32.7367, 2, -999.0000, 9,    274.6, 2,    303.3, 2,    28.95, 2,    12.60, 2,     0.00, 2,     1.64, 2,  -999.00, 9,  -1.5607,     0.00, 2, 0, 2,  -999.00, 9,  -999.00, 9,   0.7480, 2, -999.000, 2, -999.000, 9, 4.967, 2
320620030705, SBI, 118, 1, 115, 15, 2, 20030726, 858, 73.6284, -156.4853, 3714,    118.0,  -1.5760,  32.8880, 2, -999.0000, 9,    274.9, 2,    300.9, 2,    30.23, 2,    13.00, 2,     0.00, 2,     1.65, 2,  -999.00, 9,  -1.5783,     0.00, 2, 0, 2,  -999.00, 9,  -999.00, 9,   0.7110, 2, -999.000, 2, -999.000, 9, 4.967, 2
320620030705, SBI, 118, 1, 114, 14, 2, 20030726, 856, 73.6284, -156.4853, 3714,    132.9,  -1.6218,  33.0226, 2, -999.0000, 9,    278.9, 2,    307.6, 2,    28.93, 2,    12.33, 2,     0.00, 2,     1.60, 2,  -999.00, 9,  -1.6244,     0.00, 2, 0, 2,  -999.00, 9,  -999.00, 9,   0.7120, 2, -999.000, 2, -999.000, 9, 4.967, 2
320620030705, SBI, 118, 1, 113, 13, 2, 20030726, 854, 73.6284, -156.4853, 3714,    148.1,  -1.6548,  33.1363, 2, -999.0000, 9,    284.7, 2,    313.6, 2,    28.02, 2,    11.65, 2,     0.00, 2,     1.56, 2,  -999.00, 9,  -1.6577,     0.00, 2, 0, 2,  -999.00, 9,  -999.00, 9,   0.6600, 2, -999.000, 2, -999.000, 9, 4.967, 2
320620030705, SBI, 118, 1, 112, 12, 2, 20030726, 852, 73.6284, -156.4853, 3714,    167.9,  -1.6691,  33.2472, 2, -999.0000, 9,    293.1, 2,    322.8, 2,    27.91, 2,    11.04, 2,     0.00, 2,     1.53, 2,  -999.00, 9,  -1.6724,     0.00, 2, 0, 2,  -999.00, 9,  -999.00, 9,   0.6870, 2, -999.000, 2, -999.000, 9, 4.967, 2
320620030705, SBI, 118, 1, 111, 11, 2, 20030726, 849, 73.6284, -156.4853, 3714,    187.9,  -1.7560,  33.3807, 2, -999.0000, 9,    302.6, 2,    331.1, 2,    28.49, 2,    10.52, 2,     0.00, 2,     1.52, 2,  -999.00, 9,  -1.7596,     0.00, 2, 0.01, 2,  -999.00, 9,  -999.00, 9,   0.8390, 2, -999.000, 2, -999.000, 9, 4.967, 2
320620030705, SBI, 118, 1, 110, 10, 2, 20030726, 847, 73.6284, -156.4853, 3714,    213.0,  -1.6715,  33.6595, 2, -999.0000, 9,    290.6, 2,    318.4, 2,    27.98, 2,    11.65, 2,     0.00, 2,     1.53, 2,  -999.00, 9,  -1.6759,     0.00, 2, 0.02, 2,  -999.00, 9,  -999.00, 9,   0.6580, 2, -999.000, 2, -999.000, 9, 4.967, 2
320620030705, SBI, 118, 1, 109, 9, 2, 20030726, 846, 73.6284, -156.4853, 3714,    233.3,  -1.6667,  33.9317, 2, -999.0000, 9,    292.9, 2,    323.9, 2,    27.75, 2,    11.38, 2,     0.00, 2,     1.52, 2,  -999.00, 9,  -1.6717,     0.00, 2, 0.01, 2,  -999.00, 9,  -999.00, 9,   0.6880, 2, -999.000, 2, -999.000, 9, 4.968, 2
320620030705, SBI, 118, 1, 108, 8, 2, 20030726, 843, 73.6284, -156.4853, 3714,    263.5,  -0.8519,  34.2926, 2,  34.3361, 2,    257.5, 2,    281.8, 2,    18.52, 2,    12.97, 2,     0.00, 2,     1.18, 2,  -999.00, 9,  -0.8597,     0.00, 2, 0.01, 2,  -999.00, 9,  -999.00, 9,   0.7140, 2, -999.000, 2, -999.000, 9, 4.965, 2
320620030705, SBI, 118, 1, 107, 7, 2, 20030726, 841, 73.6284, -156.4853, 3714,    293.8,  -0.0835,  34.5597, 2,  34.5691, 2,    256.9, 2,    279.3, 2,    12.45, 2,    12.71, 2,     0.00, 2,     0.99, 2,  -999.00, 9,  -0.0944,     0.01, 2, 0, 2,  -999.00, 9,  -999.00, 9,   0.6400, 2, -999.000, 2, -999.000, 9, 4.963, 2
320620030705, SBI, 118, 1, 106, 6, 2, 20030726, 839, 73.6284, -156.4853, 3714,    324.1,   0.3469,  34.6867, 2,  34.6976, 2,    260.4, 2,    281.9, 2,    10.36, 2,    12.81, 2,     0.00, 2,     0.93, 2,  -999.00, 9,   0.3336,     0.00, 2, 0, 2,  -999.00, 9,  -999.00, 9,   0.5330, 2, -999.000, 2, -999.000, 9, 4.962, 2
320620030705, SBI, 118, 1, 105, 5, 2, 20030726, 837, 73.6284, -156.4853, 3714,    354.1,   0.5791,  34.7474, 2,  34.7587, 2,    265.6, 2,    289.1, 2,     8.46, 2,    12.60, 2,     0.00, 2,     0.88, 2,  -999.00, 9,   0.5637,     0.00, 2, 0.01, 2,  -999.00, 9,  -999.00, 9,   0.6720, 2, -999.000, 2, -999.000, 9, 4.963, 2
320620030705, SBI, 118, 1, 104, 4, 2, 20030726, 833, 73.6284, -156.4853, 3714,    454.5,   0.6604,  34.8205, 2,  34.8188, 2,    271.5, 2,    293.6, 2,     7.46, 2,    12.60, 2,     0.00, 2,     0.86, 2,  -999.00, 9,   0.6399,     0.00, 2, 0, 2,  -999.00, 9,  -999.00, 9,   0.6230, 2, -999.000, 2, -999.000, 9, 4.957, 2
320620030705, SBI, 118, 1, 103, 3, 2, 20030726, 829, 73.6284, -156.4853, 3714,    605.9,   0.4708,  34.8498, 2,  34.8499, 2,    273.8, 2,    296.9, 2,     7.35, 2,    12.60, 2,     0.00, 2,     0.86, 2,  -999.00, 9,   0.4436,     0.00, 2, 0, 2,  -999.00, 9,  -999.00, 9,   0.4620, 2, -999.000, 2, -999.000, 9, 4.955, 2
320620030705, SBI, 118, 1, 102, 2, 2, 20030726, 823, 73.6284, -156.4853, 3714,    807.2,   0.2108,  34.8664, 2,  34.8652, 2,    275.1, 2,    298.7, 2,     7.24, 2,    12.65, 2,     0.00, 2,     0.87, 2,  -999.00, 9,   0.1748,     0.00, 2, 0.01, 2,  -999.00, 9,  -999.00, 9,   0.4780, 2, -999.000, 2, -999.000, 9, 4.955, 2
320620030705, SBI, 118, 1, 101, 1, 2, 20030726, 817, 73.6284, -156.4853, 3714,   1008.4,  -0.0142,  34.8798, 2,  34.8778, 2,    275.2, 2,    299.9, 2,     7.43, 2,    12.75, 2,     0.00, 2,     0.88, 2,  -999.00, 9,  -0.0591,     0.00, 2, 0, 2,  -999.00, 9,  -999.00, 9,   0.6950, 2, -999.000, 2, -999.000, 9, 4.951, 2
320620030705, SBI, 119, 1, 124, 24, 2, 20030726, 1223, 73.7940, -156.6075, 3658,      2.4,  -1.2973,  27.7853, 2,  27.8433, 2,    353.3, 2,    386.8, 2,     3.00, 2,     0.09, 2,     0.00, 2,     0.62, 2,  -999.00, 9,  -1.2973,     0.06, 2, 0, 2,     0.05, 2,     0.02, 2,   0.7630, 2, -999.000, 2, -999.000, 9, 4.944, 2
320620030705, SBI, 119, 1, 123, 23, 2, 20030726, 1221, 73.7940, -156.6075, 3658,     18.1,  -1.1346,  29.4230, 2, -999.0000, 9,    366.7, 2,    399.5, 2,     3.39, 2,     0.03, 2,     0.00, 2,     0.66, 2,  -999.00, 9,  -1.1349,     0.05, 2, 0, 2,     0.07, 2,     0.03, 2,   0.6870, 2, -999.000, 2, -999.000, 9, 4.946, 2
320620030705, SBI, 119, 1, 121, 21, 2, 20030726, 1218, 73.7940, -156.6075, 3658,     38.9,  -1.2365,  31.1831, 2, -999.0000, 9,    359.1, 2,   -999.0, 9,  -999.00, 9,  -999.00, 9,  -999.00, 9,  -999.00, 9,  -999.00, 9,  -1.2372,  -999.00, 9, -999, 9,  -999.00, 9,  -999.00, 9,   1.4060, 2, -999.000, 2, -999.000, 9, 4.946, 2
320620030705, SBI, 119, 1, 120, 20, 2, 20030726, 1217, 73.7940, -156.6075, 3658,     38.9,  -1.2370,  31.1842, 2, -999.0000, 9,    358.8, 2,   -999.0, 9,  -999.00, 9,  -999.00, 9,  -999.00, 9,  -999.00, 9,  -999.00, 9,  -1.2377,  -999.00, 9, -999, 9,  -999.00, 9,  -999.00, 9,   1.3980, 2, -999.000, 2, -999.000, 9, 4.946, 2
320620030705, SBI, 119, 1, 122, 22, 2, 20030726, 1218, 73.7940, -156.6075, 3658,     38.9,  -1.2481,  31.1727, 2, -999.0000, 9,    359.0, 2,    380.7, 2,    11.87, 2,     2.60, 2,     0.18, 2,     1.00, 2,  -999.00, 9,  -1.2488,     0.05, 2, 0.01, 2,     0.63, 2,     0.32, 2,   1.4420, 2, -999.000, 2, -999.000, 9, 4.945, 2
320620030705, SBI, 119, 1, 119, 19, 2, 20030726, 1215, 73.7940, -156.6075, 3658,     48.5,  -1.4889,  31.5718, 2, -999.0000, 9,    332.6, 2,    354.5, 2,    21.05, 2,     5.93, 2,     0.28, 2,     1.27, 2,  -999.00, 9,  -1.4897,     0.17, 2, 0.01, 2,     0.30, 2,     0.30, 2,   1.3000, 2, -999.000, 2, -999.000, 9, 4.946, 2
320620030705, SBI, 119, 1, 118, 18, 2, 20030726, 1213, 73.7940, -156.6075, 3658,     63.3,  -1.2600,  32.0323, 2, -999.0000, 9,    308.2, 2,    331.8, 2,    21.04, 2,     5.92, 2,     0.28, 2,     1.28, 2,  -999.00, 9,  -1.2613,     0.17, 2, 0.01, 2,     0.16, 2,     0.08, 2,   1.0200, 2, -999.000, 2, -999.000, 9, 4.946, 2
320620030705, SBI, 119, 1, 117, 17, 2, 20030726, 1211, 73.7940, -156.6075, 3658,     78.4,  -1.3371,  32.2979, 2, -999.0000, 9,    289.7, 2,    315.4, 2,    24.03, 2,    10.51, 2,     0.02, 2,     1.53, 2,  -999.00, 9,  -1.3387,     0.03, 2, 0.01, 2,  -999.00, 9,  -999.00, 9,   0.8520, 2, -999.000, 2, -999.000, 9, 4.944, 2
320620030705, SBI, 119, 1, 116, 16, 2, 20030726, 1209, 73.7940, -156.6075, 3658,     93.4,  -1.5373,  32.4837, 2, -999.0000, 9,    286.3, 2,    311.3, 2,    26.62, 2,    11.14, 2,     0.01, 2,     1.59, 2,  -999.00, 9,  -1.5390,     0.00, 2, 0.01, 2,  -999.00, 9,  -999.00, 9,   0.7690, 2, -999.000, 2, -999.000, 9, 4.939, 2
320620030705, SBI, 119, 1, 115, 15, 2, 20030726, 1207, 73.7940, -156.6075, 3658,    108.5,  -1.5102,  32.6351, 2, -999.0000, 9,    273.8, 2,    299.3, 2,    28.81, 2,    12.84, 2,     0.01, 2,     1.66, 2,  -999.00, 9,  -1.5123,     0.01, 2, 0, 2,  -999.00, 9,  -999.00, 9,   0.6400, 2, -999.000, 2, -999.000, 9, 4.932, 2
320620030705, SBI, 119, 1, 114, 14, 2, 20030726, 1205, 73.7940, -156.6075, 3658,    123.5,  -1.5516,  32.7696, 2, -999.0000, 9,    271.4, 2,    296.2, 2,    30.90, 2,    13.57, 2,     0.01, 2,     1.70, 2,  -999.00, 9,  -1.5540,     0.01, 2, 0.01, 2,  -999.00, 9,  -999.00, 9,   0.6890, 2, -999.000, 2, -999.000, 9, 4.925, 2
320620030705, SBI, 119, 1, 113, 13, 2, 20030726, 1203, 73.7940, -156.6075, 3658,    138.4,  -1.5647,  32.9218, 2, -999.0000, 9,    265.7, 2,    290.7, 2,    32.99, 2,    14.48, 2,     0.01, 2,     1.75, 2,  -999.00, 9,  -1.5674,     0.00, 2, 0.01, 2,  -999.00, 9,  -999.00, 9,   0.8050, 2, -999.000, 2, -999.000, 9, 4.920, 2
320620030705, SBI, 119, 1, 112, 12, 2, 20030726, 1201, 73.7940, -156.6075, 3658,    153.6,  -1.5327,  33.0604, 2, -999.0000, 9,    262.8, 2,    288.2, 2,    33.59, 2,    14.74, 2,     0.01, 2,     1.76, 2,  -999.00, 9,  -1.5358,     0.01, 2, 0.01, 2,  -999.00, 9,  -999.00, 9,   0.6640, 2, -999.000, 2, -999.000, 9, 4.912, 2
320620030705, SBI, 119, 1, 111, 11, 2, 20030726, 1159, 73.7940, -156.6075, 3658,    173.8,  -1.4526,  33.3489, 2, -999.0000, 9,    260.0, 2,    287.3, 2,    31.77, 2,    14.38, 2,     0.00, 2,     1.65, 2,  -999.00, 9,  -1.4564,     0.00, 2, 0.01, 2,  -999.00, 9,  -999.00, 9,   0.8290, 2, -999.000, 2, -999.000, 9, 4.907, 2
320620030705, SBI, 119, 1, 110, 10, 2, 20030726, 1157, 73.7940, -156.6075, 3658,    193.8,  -1.3936,  33.7047, 2, -999.0000, 9,    264.2, 2,    285.3, 2,    29.35, 2,    14.38, 2,     0.01, 2,     1.56, 2,  -999.00, 9,  -1.3981,     0.00, 2, 0.01, 2,  -999.00, 9,  -999.00, 9,   0.6570, 2, -999.000, 2, -999.000, 9, 4.910, 2
320620030705, SBI, 119, 1, 109, 9, 2, 20030726, 1155, 73.7940, -156.6075, 3658,    214.0,  -1.0474,  34.1052, 2, -999.0000, 9,    253.9, 2,    277.6, 2,    22.43, 2,    13.81, 2,     0.00, 2,     1.31, 2,  -999.00, 9,  -1.0532,     0.00, 2, 0.01, 2,  -999.00, 9,  -999.00, 9,   0.6720, 2, -999.000, 2, -999.000, 9, 4.907, 2
320620030705, SBI, 119, 1, 108, 8, 2, 20030726, 1153, 73.7940, -156.6075, 3658,    234.0,  -0.6695,  34.3412, 2,  34.3520, 2,    253.9, 2,    278.0, 2,    14.13, 2,    12.47, 2,     0.00, 2,     1.03, 2,  -999.00, 9,  -0.6768,     0.00, 2, 0, 2,  -999.00, 9,  -999.00, 9,   0.6000, 2, -999.000, 2, -999.000, 9, 4.909, 2
320620030705, SBI, 119, 1, 107, 7, 2, 20030726, 1150, 73.7940, -156.6075, 3658,    264.4,  -0.0773,  34.5412, 2,  34.5644, 2,    259.9, 2,    282.6, 2,    10.53, 2,    12.00, 2,     0.00, 2,     0.91, 2,  -999.00, 9,  -0.0870,     0.00, 2, 0, 2,  -999.00, 9,  -999.00, 9,   0.6010, 2, -999.000, 2, -999.000, 9, 4.913, 2
320620030705, SBI, 119, 1, 106, 6, 2, 20030726, 1148, 73.7940, -156.6075, 3658,    294.4,   0.3452,  34.6696, 2,  34.6774, 2,    262.9, 2,    284.3, 2,     9.31, 2,    12.51, 2,     0.00, 2,     0.90, 2,  -999.00, 9,   0.3332,     0.00, 2, 0.01, 2,  -999.00, 9,  -999.00, 9,   0.7530, 2, -999.000, 2, -999.000, 9, 4.916, 2
320620030705, SBI, 119, 1, 105, 5, 2, 20030726, 1146, 73.7940, -156.6075, 3658,    324.5,   0.6225,  34.7516, 2,  34.7585, 2,    267.5, 2,    289.8, 2,     7.91, 2,    12.46, 2,     0.00, 2,     0.87, 2,  -999.00, 9,   0.6084,     0.00, 2, 0, 2,  -999.00, 9,  -999.00, 9,   0.5590, 2, -999.000, 2, -999.000, 9, 4.920, 2
320620030705, SBI, 119, 1, 104, 4, 2, 20030726, 1143, 73.7940, -156.6075, 3658,    374.8,   0.8444,  34.8148, 2,  34.8130, 2,    272.9, 2,    294.0, 2,     7.10, 2,    12.57, 2,     0.00, 2,     0.85, 2,  -999.00, 9,   0.8272,     0.00, 2, 0, 2,  -999.00, 9,  -999.00, 9,   0.6780, 2, -999.000, 2, -999.000, 9, 4.924, 2
320620030705, SBI, 119, 1, 103, 3, 2, 20030726, 1139, 73.7940, -156.6075, 3658,    505.9,   0.6054,  34.8393, 2,  34.8389, 2,    273.7, 2,    296.0, 2,     7.09, 2,    12.67, 2,     0.00, 2,     0.86, 2,  -999.00, 9,   0.5826,     0.00, 2, 0, 2,  -999.00, 9,  -999.00, 9,   0.7660, 2, -999.000, 2, -999.000, 9, 4.934, 2
320620030705, SBI, 119, 1, 102, 2, 2, 20030726, 1133, 73.7940, -156.6075, 3658,    707.3,   0.3383,  34.8600, 2,  34.8600, 2,    275.1, 2,    299.3, 2,     6.98, 2,    12.72, 2,     0.00, 2,     0.87, 2,  -999.00, 9,   0.3066,     0.00, 2, 0, 2,  -999.00, 9,  -999.00, 9,   0.5370, 2, -999.000, 2, -999.000, 9, 4.931, 2
320620030705, SBI, 119, 1, 101, 1, 2, 20030726, 1125, 73.7940, -156.6075, 3658,   1009.2,  -0.0317,  34.8805, 2,  34.8791, 2,    275.3, 2,    300.3, 2,     7.47, 2,    12.87, 2,     0.00, 2,     0.89, 2,  -999.00, 9,  -0.0765,     0.00, 2, 0, 2,  -999.00, 9,  -999.00, 9,   0.7120, 2, -999.000, 2, -999.000, 9, 4.943, 2