BOTTLE,20020809WHPSIObren
EXPOCODE,SECT_ID,STNNBR,CASTNO,SAMPNO,BTLNBR,BTLNBR_FLAG_W,DATE,TIME,LATITUDE,LONGITUDE,DEPTH,CTDPRS,CTDTMP,CTDSAL,CTDSAL_FLAG_W,SALNTY,SALNTY_FLAG_W,CTDOXY,CTDOXY_FLAG_W,OXYGEN,OXYGEN_FLAG_W,SILCAT,SILCAT_FLAG_W,NO2+NO3,NO2+NO3_FLAG_W,PHSPHT,PHSPHT_FLAG_W,CTDRAW,REVTMP,REVPRS,THETA
,,,,,,,,,,,,DBAR,ITS-90,PSS-78,,PSS-78,,UMOL/KG,,UMOL/KG,,UMOL/KG,,UMOL/KG,,UMOL/KG,,,DEG C,DBAR,ITS-90
     32MW093_1,  PRS2,     2,  3,     13,     13,2,19980512,2100, 22.7598,-157.9832, 4715,      5.2,  23.1528,  35.2769,2,  35.2792,2,    214.7,1,   -999.0,9,  -999.00,9,  -999.00,9,  -999.00,9,      6,-999.000,  -999.0, 23.1517
     32MW093_1,  PRS2,     2,  3,     12,     12,2,19980512,2100, 22.7598,-157.9832, 4715,     24.8,  22.6884,  35.3093,2,  35.3078,2,    215.5,1,   -999.0,9,  -999.00,9,  -999.00,9,  -999.00,9,     26,-999.000,  -999.0, 22.6833
     32MW093_1,  PRS2,     2,  3,     11,     11,2,19980512,2100, 22.7598,-157.9832, 4715,     44.9,  22.5188,  35.3204,2,  35.3234,2,    217.6,1,   -999.0,9,  -999.00,9,  -999.00,9,  -999.00,9,     45,-999.000,  -999.0, 22.5098
     32MW093_1,  PRS2,     2,  3,     10,     32,2,19980512,2100, 22.7598,-157.9832, 4715,     74.5,  22.4523,  35.3163,2,  35.3153,2,    217.8,1,   -999.0,9,  -999.00,9,  -999.00,9,  -999.00,9,     75,-999.000,  -999.0, 22.4374
     32MW093_1,  PRS2,     2,  3,      9,      3,2,19980512,2100, 22.7598,-157.9832, 4715,     99.2,  22.0239,  35.2900,2,  35.2900,2,    216.2,1,   -999.0,9,  -999.00,9,  -999.00,9,  -999.00,9,     99,-999.000,  -999.0, 22.0043
     32MW093_1,  PRS2,     2,  3,      8,     29,2,19980512,2100, 22.7598,-157.9832, 4715,    124.8,  21.2679,  35.2244,2,  35.2239,2,    213.6,1,   -999.0,9,  -999.00,9,  -999.00,9,  -999.00,9,    125,-999.000,  -999.0, 21.2437
     32MW093_1,  PRS2,     2,  3,      7,     28,2,19980512,2100, 22.7598,-157.9832, 4715,    150.7,  20.4708,  35.1760,2,  35.1807,2,    212.1,1,   -999.0,9,  -999.00,9,  -999.00,9,  -999.00,9,    151,-999.000,  -999.0, 20.4424
     32MW093_1,  PRS2,     2,  3,      6,      7,2,19980512,2100, 22.7598,-157.9832, 4715,    174.4,  19.4678,  35.1019,2,  35.1055,2,    208.9,1,   -999.0,9,  -999.00,9,  -999.00,9,  -999.00,9,    175,-999.000,  -999.0, 19.4362
     32MW093_1,  PRS2,     2,  3,      5,     38,2,19980512,2100, 22.7598,-157.9832, 4715,    250.8,  15.1205,  34.5224,2,  34.5149,2,    198.7,1,   -999.0,9,  -999.00,9,  -999.00,9,  -999.00,9,    251,-999.000,  -999.0, 15.0824
     32MW093_1,  PRS2,     2,  3,      4,     36,2,19980512,2100, 22.7598,-157.9832, 4715,    400.4,   8.8502,  34.0828,2,  34.0815,2,    171.7,1,   -999.0,9,  -999.00,9,  -999.00,9,  -999.00,9,    401,-999.000,  -999.0,  8.8072
     32MW093_1,  PRS2,     2,  3,      3,     35,2,19980512,2100, 22.7598,-157.9832, 4715,    501.2,   6.7888,  34.0934,2,  34.0924,2,     92.9,1,   -999.0,9,  -999.00,9,  -999.00,9,  -999.00,9,    501,-999.000,  -999.0,  6.7423
     32MW093_1,  PRS2,     2,  3,      2,     34,2,19980512,2100, 22.7598,-157.9832, 4715,    749.8,   4.7039,  34.2885,2,  34.2879,2,     29.3,1,   -999.0,9,  -999.00,9,  -999.00,9,  -999.00,9,    749,-999.000,  -999.0,  4.6448
     32MW093_1,  PRS2,     2,  3,      1,     33,2,19980512,2100, 22.7598,-157.9832, 4715,   1021.3,   3.9270,  34.4788,2,  34.4792,2,     42.4,1,   -999.0,9,  -999.00,9,  -999.00,9,  -999.00,9,   1021,-999.000,  -999.0,  3.8501
     32MW093_1,  PRS2,     2,  4,     13,     13,2,19980513,0000, 22.7575,-157.9802, 4715,      5.3,  23.2191,  35.2785,2,  35.2779,2,    212.8,1,   -999.0,9,  -999.00,9,  -999.00,9,  -999.00,9,      5,-999.000,  -999.0, 23.2180
     32MW093_1,  PRS2,     2,  4,     12,     12,2,19980513,0000, 22.7575,-157.9802, 4715,     25.3,  22.6626,  35.3126,2,  35.3153,2,    215.8,1,   -999.0,9,  -999.00,9,  -999.00,9,  -999.00,9,     26,-999.000,  -999.0, 22.6575
     32MW093_1,  PRS2,     2,  4,     11,     11,2,19980513,0000, 22.7575,-157.9802, 4715,     44.5,  22.5038,  35.3215,2,  35.3210,2,    217.9,1,   -999.0,9,  -999.00,9,  -999.00,9,  -999.00,9,     45,-999.000,  -999.0, 22.4949
     32MW093_1,  PRS2,     2,  4,     10,     32,2,19980513,0000, 22.7575,-157.9802, 4715,     75.4,  22.4804,  35.3210,2,  35.3228,2,    218.4,1,   -999.0,9,  -999.00,9,  -999.00,9,  -999.00,9,     76,-999.000,  -999.0, 22.4652
     32MW093_1,  PRS2,     2,  4,      9,      3,2,19980513,0000, 22.7575,-157.9802, 4715,    100.1,  22.2702,  35.3085,2,  35.3086,2,    216.9,1,   -999.0,9,  -999.00,9,  -999.00,9,  -999.00,9,    100,-999.000,  -999.0, 22.2502
     32MW093_1,  PRS2,     2,  4,      8,     29,2,19980513,0000, 22.7575,-157.9802, 4715,    125.2,  21.7243,  35.2631,2,  35.2744,2,    213.2,1,   -999.0,9,  -999.00,9,  -999.00,9,  -999.00,9,    125,-999.000,  -999.0, 21.6997
     32MW093_1,  PRS2,     2,  4,      7,     28,2,19980513,0000, 22.7575,-157.9802, 4715,    150.8,  20.7643,  35.1890,2,  35.1886,2,    202.7,1,   -999.0,9,  -999.00,9,  -999.00,9,  -999.00,9,    151,-999.000,  -999.0, 20.7357
     32MW093_1,  PRS2,     2,  4,      6,      7,2,19980513,0000, 22.7575,-157.9802, 4715,    175.9,  19.3861,  35.0857,2,  35.1063,3,    202.3,1,   -999.0,9,  -999.00,9,  -999.00,9,  -999.00,9,    176,-999.000,  -999.0, 19.3543
     32MW093_1,  PRS2,     2,  4,      5,     38,2,19980513,0000, 22.7575,-157.9802, 4715,    249.0,  15.5962,  34.5755,2,  34.5730,2,    198.6,1,   -999.0,9,  -999.00,9,  -999.00,9,  -999.00,9,    249,-999.000,  -999.0, 15.5575
     32MW093_1,  PRS2,     2,  4,      4,     36,2,19980513,0000, 22.7575,-157.9802, 4715,    400.6,   9.0961,  34.0885,2,  34.0892,2,    179.1,1,   -999.0,9,  -999.00,9,  -999.00,9,  -999.00,9,    401,-999.000,  -999.0,  9.0523
     32MW093_1,  PRS2,     2,  4,      3,     35,2,19980513,0000, 22.7575,-157.9802, 4715,    501.2,   7.0420,  34.0735,2,  34.0737,2,    113.7,1,   -999.0,9,  -999.00,9,  -999.00,9,  -999.00,9,    501,-999.000,  -999.0,  6.9946
     32MW093_1,  PRS2,     2,  4,      2,     34,2,19980513,0000, 22.7575,-157.9802, 4715,    750.9,   4.7827,  34.2739,2,  34.2834,4,     30.1,1,   -999.0,9,  -999.00,9,  -999.00,9,  -999.00,9,    751,-999.000,  -999.0,  4.7230
     32MW093_1,  PRS2,     2,  4,      1,     33,2,19980513,0000, 22.7575,-157.9802, 4715,   1020.8,   3.9626,  34.4778,2,  34.4761,2,     42.3,1,   -999.0,9,  -999.00,9,  -999.00,9,  -999.00,9,   1021,-999.000,  -999.0,  3.8855
     32MW093_1,  PRS2,     2,  5,     17,     17,2,19980513,0259, 22.7467,-158.0017, 4723,      5.3,  23.2232,  35.2799,2,  35.2807,2,    216.6,2,    214.8,2,  -999.00,5,  -999.00,5,  -999.00,5,      5,-999.000,  -999.0, 23.2221
     32MW093_1,  PRS2,     2,  5,     16,     16,2,19980513,0259, 22.7467,-158.0017, 4723,     99.2,  22.4429,  35.3187,2,  35.3188,2,    217.7,2,    217.2,2,  -999.00,5,  -999.00,5,  -999.00,5,     98,-999.000,  -999.0, 22.4230
     32MW093_1,  PRS2,     2,  5,     15,     15,2,19980513,0259, 22.7467,-158.0017, 4723,    210.4,  18.2164,  34.9521,2,  34.9520,2,    205.8,2,    207.7,2,  -999.00,5,  -999.00,5,  -999.00,5,    210,-999.000,  -999.0, 18.1800
     32MW093_1,  PRS2,     2,  5,     14,     14,2,19980513,0259, 22.7467,-158.0017, 4723,    225.4,  17.8336,  34.9177,2,  34.9198,2,    210.9,2,    210.5,2,     3.28,2,     2.06,2,     0.22,2,    224,-999.000,  -999.0, 17.7951
     32MW093_1,  PRS2,     2,  5,     13,     13,2,19980513,0259, 22.7467,-158.0017, 4723,    236.6,  17.2589,  34.8457,2,  34.8572,2,    208.4,2,    210.4,2,     4.04,2,     2.53,2,     0.26,2,    236,-999.000,  -999.0, 17.2195
     32MW093_1,  PRS2,     2,  5,     12,     12,2,19980513,0259, 22.7467,-158.0017, 4723,    252.8,  16.6577,  34.7242,2,  34.7298,2,    203.8,2,    205.2,2,     4.10,2,     3.34,2,     0.31,2,    252,-999.000,  -999.0, 16.6166
     32MW093_1,  PRS2,     2,  5,     11,     11,2,19980513,0259, 22.7467,-158.0017, 4723,    277.4,  15.1126,  34.5077,2,  34.5216,2,    197.5,2,    199.2,2,     6.15,2,     5.61,2,     0.49,2,    278,-999.000,  -999.0, 15.0704
     32MW093_1,  PRS2,     2,  5,     10,     32,2,19980513,0259, 22.7467,-158.0017, 4723,    298.7,  14.0944,  34.4166,2,  34.4267,2,    201.9,2,    200.2,2,     8.13,2,     7.23,2,     0.57,2,    298,-999.000,  -999.0, 14.0511
     32MW093_1,  PRS2,     2,  5,      9,      3,2,19980513,0259, 22.7467,-158.0017, 4723,    327.3,  12.8732,  34.3039,2,  34.3158,2,    197.6,2,    197.8,2,     9.64,2,     9.51,2,     0.72,2,    328,-999.000,  -999.0, 12.8286
     32MW093_1,  PRS2,     2,  5,      8,     29,2,19980513,0259, 22.7467,-158.0017, 4723,    352.7,  12.1622,  34.2434,2,  34.2435,2,    196.3,2,    194.0,2,    12.27,2,    11.53,2,     0.86,2,    353,-999.000,  -999.0, 12.1158
     32MW093_1,  PRS2,     2,  5,      7,     28,2,19980513,0259, 22.7467,-158.0017, 4723,    404.8,   9.8341,  34.1129,2,  34.1151,2,    180.9,2,    179.1,2,    20.32,2,    17.67,2,     1.29,2,    405,-999.000,  -999.0,  9.7876
     32MW093_1,  PRS2,     2,  5,      6,      7,2,19980513,0259, 22.7467,-158.0017, 4723,    499.3,   7.4505,  34.0774,2,  34.0788,2,    124.9,2,    123.9,2,    43.68,2,    27.57,2,     2.01,2,    500,-999.000,  -999.0,  7.4017
     32MW093_1,  PRS2,     2,  5,      5,     38,2,19980513,0259, 22.7467,-158.0017, 4723,    597.5,   5.9844,  34.1544,2,  34.1557,2,     61.4,2,     59.6,2,    67.89,2,    36.03,2,     2.63,2,    598,-999.000,  -999.0,  5.9322
     32MW093_1,  PRS2,     2,  5,      4,     36,2,19980513,0259, 22.7467,-158.0017, 4723,    701.2,   4.8321,  34.2667,2,  34.2667,2,     31.6,2,     30.9,2,    90.80,2,    40.73,2,     2.96,2,    701,-999.000,  -999.0,  4.7764
     32MW093_1,  PRS2,     2,  5,      3,     35,2,19980513,0259, 22.7467,-158.0017, 4723,    799.9,   4.6693,  34.3769,2,  34.3766,2,     32.3,2,     31.3,2,    95.69,2,    41.27,2,     3.01,2,    800,-999.000,  -999.0,  4.6060
     32MW093_1,  PRS2,     2,  5,      2,     34,2,19980513,0259, 22.7467,-158.0017, 4723,    901.1,   4.2829,  34.4269,2,  34.4278,2,     32.5,2,     32.3,2,   104.82,2,    41.75,2,     3.04,2,    903,-999.000,  -999.0,  4.2136
     32MW093_1,  PRS2,     2,  5,      1,     33,2,19980513,0259, 22.7467,-158.0017, 4723,   1023.2,   3.9181,  34.4805,2,  34.4792,2,     43.6,2,     42.4,2,   110.90,2,    41.63,2,     3.02,2,   1023,-999.000,  -999.0,  3.8412
     32MW093_1,  PRS2,     2,  6,     23,     30,2,19980513,0559, 22.7473,-158.0083, 4723,      4.3,  23.0730,  35.2911,2,  35.2903,2,    214.8,2,   -999.0,5,  -999.00,5,  -999.00,5,  -999.00,5,      4,-999.000,  -999.0, 23.0721
     32MW093_1,  PRS2,     2,  6,     22,     22,2,19980513,0559, 22.7473,-158.0083, 4723,      4.4,  23.0730,  35.2911,2,  35.2946,2,    214.9,2,    215.1,2,     1.22,2,     0.00,2,     0.08,2,      4,-999.000,  -999.0, 23.0721
     32MW093_1,  PRS2,     2,  6,     21,     21,2,19980513,0559, 22.7473,-158.0083, 4723,     14.8,  23.0413,  35.2955,2,  35.2940,2,    215.1,2,    215.4,2,     1.15,2,     0.00,2,     0.07,2,     15,-999.000,  -999.0, 23.0383
     32MW093_1,  PRS2,     2,  6,     20,     20,2,19980513,0559, 22.7473,-158.0083, 4723,     24.9,  22.7977,  35.3093,2,  35.3093,2,    215.5,2,   -999.0,5,  -999.00,5,  -999.00,5,  -999.00,5,     25,-999.000,  -999.0, 22.7926
     32MW093_1,  PRS2,     2,  6,     19,     19,2,19980513,0559, 22.7473,-158.0083, 4723,     24.9,  22.7964,  35.3094,2,  35.3095,2,    215.5,2,    216.3,2,     1.39,2,     0.00,2,     0.07,2,     25,-999.000,  -999.0, 22.7914
     32MW093_1,  PRS2,     2,  6,     18,     18,2,19980513,0559, 22.7473,-158.0083, 4723,     35.1,  22.6891,  35.3110,2,  35.3194,2,    216.6,2,    216.9,2,     1.05,2,     0.01,2,     0.06,2,     36,-999.000,  -999.0, 22.6820
     32MW093_1,  PRS2,     2,  6,     17,     17,2,19980513,0559, 22.7473,-158.0083, 4723,     44.7,  22.6141,  35.3170,2,  35.3156,2,    217.4,2,    216.9,2,     0.99,2,     0.00,2,     0.08,2,     44,-999.000,  -999.0, 22.6051
     32MW093_1,  PRS2,     2,  6,     16,     16,2,19980513,0559, 22.7473,-158.0083, 4723,     59.8,  22.5504,  35.3218,2,  35.3217,2,    217.8,2,    217.2,2,     0.94,2,     0.01,2,     0.05,2,     60,-999.000,  -999.0, 22.5384
     32MW093_1,  PRS2,     2,  6,     15,     15,2,19980513,0559, 22.7473,-158.0083, 4723,     74.6,  22.5487,  35.3218,2,  35.3214,2,    217.6,2,    216.6,2,     1.08,2,     0.01,2,     0.06,2,     75,-999.000,  -999.0, 22.5337
     32MW093_1,  PRS2,     2,  6,     14,     14,2,19980513,0559, 22.7473,-158.0083, 4723,     85.8,  22.4798,  35.3166,2,  35.3492,4,    217.5,3,    216.5,2,     1.10,2,     0.01,2,     0.05,2,     87,-999.000,  -999.0, 22.4626
     32MW093_1,  PRS2,     2,  6,     13,     13,2,19980513,0559, 22.7473,-158.0083, 4723,     94.7,  22.2541,  35.3184,2,  35.3218,2,    217.5,2,    217.4,2,     1.06,2,     0.01,2,     0.05,2,     95,-999.000,  -999.0, 22.2352
     32MW093_1,  PRS2,     2,  6,     12,     12,2,19980513,0559, 22.7473,-158.0083, 4723,    104.8,  22.0716,  35.3128,2,  35.3127,2,    218.4,2,    217.6,2,     1.08,2,     0.02,2,     0.05,2,    105,-999.000,  -999.0, 22.0508
     32MW093_1,  PRS2,     2,  6,     11,     11,2,19980513,0559, 22.7473,-158.0083, 4723,    115.4,  21.7347,  35.2818,2,  35.2813,2,    216.9,2,    217.2,2,     1.27,2,     0.02,2,     0.07,2,    116,-999.000,  -999.0, 21.7121
     32MW093_1,  PRS2,     2,  6,     10,     32,2,19980513,0559, 22.7473,-158.0083, 4723,    125.2,  21.3563,  35.2434,2,  35.2578,3,    215.4,3,    216.3,2,     1.33,2,     0.06,2,     0.07,2,    125,-999.000,  -999.0, 21.3321
     32MW093_1,  PRS2,     2,  6,      9,      3,2,19980513,0559, 22.7473,-158.0083, 4723,    134.1,  20.6632,  35.1827,2,  35.2074,3,    208.1,3,    210.9,2,     1.41,2,     0.40,2,     0.11,2,    134,-999.000,  -999.0, 20.6378
     32MW093_1,  PRS2,     2,  6,      8,     29,2,19980513,0559, 22.7473,-158.0083, 4723,    151.0,  19.8283,  35.1247,2,  35.1324,2,    207.9,2,    208.8,2,     2.20,2,     0.86,2,     0.13,2,    151,-999.000,  -999.0, 19.8006
     32MW093_1,  PRS2,     2,  6,      7,     28,2,19980513,0559, 22.7473,-158.0083, 4723,    160.1,  19.5959,  35.1051,2,  35.1069,2,    206.8,2,    207.8,2,  -999.00,5,  -999.00,5,  -999.00,5,    161,-999.000,  -999.0, 19.5667
     32MW093_1,  PRS2,     2,  6,      6,      7,2,19980513,0559, 22.7473,-158.0083, 4723,    174.8,  19.1619,  35.0611,2,  35.0698,2,    208.6,2,    206.8,2,     2.09,2,     1.41,2,     0.18,2,    175,-999.000,  -999.0, 19.1306
     32MW093_1,  PRS2,     2,  6,      5,     38,2,19980513,0559, 22.7473,-158.0083, 4723,    187.6,  18.8396,  35.0346,2,  35.0359,2,    214.9,2,    214.4,2,  -999.00,5,  -999.00,5,  -999.00,5,    188,-999.000,  -999.0, 18.8063
     32MW093_1,  PRS2,     2,  6,      4,     36,2,19980513,0559, 22.7473,-158.0083, 4723,    201.9,  18.1502,  34.9252,2,  34.9335,2,    208.8,2,    207.4,2,     3.89,2,     2.02,2,     0.22,2,    202,-999.000,  -999.0, 18.1154
     32MW093_1,  PRS2,     2,  6,      3,     35,2,19980513,0559, 22.7473,-158.0083, 4723,    471.4,   7.7483,  34.0776,2,  34.0773,2,    134.0,2,    132.9,2,  -999.00,5,  -999.00,5,  -999.00,5,    471,-999.000,  -999.0,  7.7013
     32MW093_1,  PRS2,     2,  6,      2,     34,2,19980513,0559, 22.7473,-158.0083, 4723,    800.5,   4.6745,  34.3805,2,  34.3799,2,     31.9,2,     31.2,2,  -999.00,5,  -999.00,5,  -999.00,5,    799,-999.000,  -999.0,  4.6111
     32MW093_1,  PRS2,     2,  6,      1,     33,2,19980513,0559, 22.7473,-158.0083, 4723,   1020.1,   3.8949,  34.4869,2,  34.4886,2,     43.8,2,     43.3,2,  -999.00,5,  -999.00,5,  -999.00,5,   1021,-999.000,  -999.0,  3.8184
     32MW093_1,  PRS2,     2,  7,      4,     36,2,19980513,0859, 22.7415,-158.0122, 4724,      7.9,  23.0176,  35.2883,2,  35.2903,2,    215.2,1,   -999.0,9,  -999.00,9,  -999.00,9,  -999.00,9,      8,-999.000,  -999.0, 23.0160
     32MW093_1,  PRS2,     2,  7,      3,     35,2,19980513,0859, 22.7415,-158.0122, 4724,     81.8,  22.4780,  35.3159,2,  35.3183,2,    217.9,1,   -999.0,9,  -999.00,9,  -999.00,9,  -999.00,9,     83,-999.000,  -999.0, 22.4615
     32MW093_1,  PRS2,     2,  7,      2,     34,2,19980513,0859, 22.7415,-158.0122, 4724,    510.6,   6.9097,  34.0752,2,  34.0740,2,    104.7,1,   -999.0,9,  -999.00,9,  -999.00,9,  -999.00,9,    511,-999.000,  -999.0,  6.8619
     32MW093_1,  PRS2,     2,  7,      1,     33,2,19980513,0859, 22.7415,-158.0122, 4724,   1019.8,   3.9334,  34.4901,2,  34.4885,2,     43.6,1,   -999.0,9,  -999.00,9,  -999.00,9,  -999.00,9,   1019,-999.000,  -999.0,  3.8566
     32MW093_1,  PRS2,     2,  8,      4,     36,2,19980513,1157, 22.7558,-157.9760, 4712,      5.0,  22.9009,  35.3017,2,  35.3052,2,    216.1,1,   -999.0,9,  -999.00,9,  -999.00,9,  -999.00,9,      5,-999.000,  -999.0, 22.8999
     32MW093_1,  PRS2,     2,  8,      3,     35,2,19980513,1157, 22.7558,-157.9760, 4712,     69.3,  22.5454,  35.3197,2,  35.3210,2,    217.5,1,   -999.0,9,  -999.00,9,  -999.00,9,  -999.00,9,     70,-999.000,  -999.0, 22.5314
     32MW093_1,  PRS2,     2,  8,      2,     34,2,19980513,1157, 22.7558,-157.9760, 4712,    461.2,   7.4158,  34.0733,2,  34.0728,2,    129.0,1,   -999.0,9,  -999.00,9,  -999.00,9,  -999.00,9,    461,-999.000,  -999.0,  7.3710
     32MW093_1,  PRS2,     2,  8,      1,     33,2,19980513,1157, 22.7558,-157.9760, 4712,   1020.5,   3.9663,  34.4800,2,  34.4813,2,     42.7,1,   -999.0,9,  -999.00,9,  -999.00,9,  -999.00,9,   1020,-999.000,  -999.0,  3.8893