BOTTLE,20020809WHPSIObren
EXPOCODE,SECT_ID,STNNBR,CASTNO,SAMPNO,BTLNBR,BTLNBR_FLAG_W,DATE,TIME,LATITUDE,LONGITUDE,DEPTH,CTDPRS,CTDTMP,CTDSAL,CTDSAL_FLAG_W,SALNTY,SALNTY_FLAG_W,CTDOXY,CTDOXY_FLAG_W,OXYGEN,OXYGEN_FLAG_W,SILCAT,SILCAT_FLAG_W,NO2+NO3,NO2+NO3_FLAG_W,PHSPHT,PHSPHT_FLAG_W,CTDRAW,REVTMP,REVPRS,THETA
,,,,,,,,,,,,DBAR,ITS-90,PSS-78,,PSS-78,,UMOL/KG,,UMOL/KG,,UMOL/KG,,UMOL/KG,,UMOL/KG,,,DEG C,DBAR,ITS-90
     32MW093_1,  PRS2,     2,  9,     24,     31,2,19980513,1500, 22.7625,-157.9883, 4715,      3.3,  22.8970,  35.3029,2,  35.3020,2,    218.5,1,   -999.0,9,  -999.00,9,  -999.00,9,  -999.00,9,      3,-999.000,  -999.0, 22.8964
     32MW093_1,  PRS2,     2,  9,     23,     30,2,19980513,1500, 22.7625,-157.9883, 4715,      4.8,  22.9002,  35.3030,2,  35.2991,2,    218.6,1,   -999.0,9,  -999.00,9,  -999.00,9,  -999.00,9,      5,-999.000,  -999.0, 22.8992
     32MW093_1,  PRS2,     2,  9,     22,     22,2,19980513,1500, 22.7625,-157.9883, 4715,      9.8,  22.9028,  35.3026,2,  35.3004,2,    218.7,1,   -999.0,9,  -999.00,9,  -999.00,9,  -999.00,9,      9,-999.000,  -999.0, 22.9008
     32MW093_1,  PRS2,     2,  9,     21,     21,2,19980513,1500, 22.7625,-157.9883, 4715,     14.7,  22.8987,  35.3025,2,  35.2998,2,    218.7,1,   -999.0,9,  -999.00,9,  -999.00,9,  -999.00,9,     16,-999.000,  -999.0, 22.8957
     32MW093_1,  PRS2,     2,  9,     20,     20,2,19980513,1500, 22.7625,-157.9883, 4715,     20.3,  22.8709,  35.3021,2,  35.3463,4,    217.3,1,   -999.0,9,  -999.00,9,  -999.00,9,  -999.00,9,     21,-999.000,  -999.0, 22.8668
     32MW093_1,  PRS2,     2,  9,     19,     19,2,19980513,1500, 22.7625,-157.9883, 4715,     25.0,  22.8347,  35.3029,2,  35.3458,4,    216.8,1,   -999.0,9,  -999.00,9,  -999.00,9,  -999.00,9,     25,-999.000,  -999.0, 22.8296
     32MW093_1,  PRS2,     2,  9,     18,     18,2,19980513,1500, 22.7625,-157.9883, 4715,     30.1,  22.7803,  35.3056,2,  35.3039,2,    216.4,1,   -999.0,9,  -999.00,9,  -999.00,9,  -999.00,9,     32,-999.000,  -999.0, 22.7742
     32MW093_1,  PRS2,     2,  9,     17,     17,2,19980513,1500, 22.7625,-157.9883, 4715,     34.5,  22.7532,  35.3072,2,  35.3038,2,    216.3,1,   -999.0,9,  -999.00,9,  -999.00,9,  -999.00,9,     35,-999.000,  -999.0, 22.7462
     32MW093_1,  PRS2,     2,  9,     16,     16,2,19980513,1500, 22.7625,-157.9883, 4715,     39.3,  22.7272,  35.3068,2,  35.3043,2,    216.3,1,   -999.0,9,  -999.00,9,  -999.00,9,  -999.00,9,     40,-999.000,  -999.0, 22.7192
     32MW093_1,  PRS2,     2,  9,     15,     15,2,19980513,1500, 22.7625,-157.9883, 4715,     44.8,  22.7202,  35.3064,2,  35.3191,3,    216.2,1,   -999.0,9,  -999.00,9,  -999.00,9,  -999.00,9,     45,-999.000,  -999.0, 22.7111
     32MW093_1,  PRS2,     2,  9,     14,     14,2,19980513,1500, 22.7625,-157.9883, 4715,     48.3,  22.6754,  35.3087,2,  35.3050,2,    216.7,1,   -999.0,9,  -999.00,9,  -999.00,9,  -999.00,9,     49,-999.000,  -999.0, 22.6656
     32MW093_1,  PRS2,     2,  9,     13,     13,2,19980513,1500, 22.7625,-157.9883, 4715,     54.7,  22.6325,  35.3137,2,  35.3115,2,    216.8,1,   -999.0,9,  -999.00,9,  -999.00,9,  -999.00,9,     55,-999.000,  -999.0, 22.6215
     32MW093_1,  PRS2,     2,  9,     12,     12,2,19980513,1500, 22.7625,-157.9883, 4715,     64.5,  22.6256,  35.3144,2,  35.3125,2,    216.7,1,   -999.0,9,  -999.00,9,  -999.00,9,  -999.00,9,     64,-999.000,  -999.0, 22.6126
     32MW093_1,  PRS2,     2,  9,     11,     11,2,19980513,1500, 22.7625,-157.9883, 4715,     74.8,  22.6017,  35.3161,2,  35.3168,2,    216.9,1,   -999.0,9,  -999.00,9,  -999.00,9,  -999.00,9,     74,-999.000,  -999.0, 22.5866
     32MW093_1,  PRS2,     2,  9,     10,     32,2,19980513,1500, 22.7625,-157.9883, 4715,     85.0,  22.5681,  35.3168,2,  35.3155,2,    217.0,1,   -999.0,9,  -999.00,9,  -999.00,9,  -999.00,9,     85,-999.000,  -999.0, 22.5509
     32MW093_1,  PRS2,     2,  9,      9,      3,2,19980513,1500, 22.7625,-157.9883, 4715,     96.0,  22.4841,  35.3120,2,  35.3080,2,    217.6,1,   -999.0,9,  -999.00,9,  -999.00,9,  -999.00,9,     97,-999.000,  -999.0, 22.4648
     32MW093_1,  PRS2,     2,  9,      8,     29,2,19980513,1500, 22.7625,-157.9883, 4715,    104.8,  22.1684,  35.2845,2,  35.2848,2,    214.6,1,   -999.0,9,  -999.00,9,  -999.00,9,  -999.00,9,    105,-999.000,  -999.0, 22.1476
     32MW093_1,  PRS2,     2,  9,      7,     28,2,19980513,1500, 22.7625,-157.9883, 4715,    114.9,  22.0122,  35.2972,2,  35.2929,2,    215.8,1,   -999.0,9,  -999.00,9,  -999.00,9,  -999.00,9,    115,-999.000,  -999.0, 21.9895
     32MW093_1,  PRS2,     2,  9,      6,      7,2,19980513,1500, 22.7625,-157.9883, 4715,    126.7,  21.7254,  35.2783,2,  35.2781,2,    217.2,1,   -999.0,9,  -999.00,9,  -999.00,9,  -999.00,9,    127,-999.000,  -999.0, 21.7006
     32MW093_1,  PRS2,     2,  9,      5,     38,2,19980513,1500, 22.7625,-157.9883, 4715,    151.4,  20.4969,  35.1638,2,  35.1655,2,    207.2,1,   -999.0,9,  -999.00,9,  -999.00,9,  -999.00,9,    152,-999.000,  -999.0, 20.4684
     32MW093_1,  PRS2,     2,  9,      4,     36,2,19980513,1500, 22.7625,-157.9883, 4715,    175.7,  19.6988,  35.1167,2,  35.1162,2,    209.7,1,   -999.0,9,  -999.00,9,  -999.00,9,  -999.00,9,    177,-999.000,  -999.0, 19.6666
     32MW093_1,  PRS2,     2,  9,      3,     35,2,19980513,1500, 22.7625,-157.9883, 4715,    250.6,  15.7699,  34.5902,2,  34.6071,2,    197.3,1,   -999.0,9,  -999.00,9,  -999.00,9,  -999.00,9,    250,-999.000,  -999.0, 15.7307
     32MW093_1,  PRS2,     2,  9,      2,     34,2,19980513,1500, 22.7625,-157.9883, 4715,    450.7,   8.3447,  34.0749,2,  34.0738,2,    157.1,1,   -999.0,9,  -999.00,9,  -999.00,9,  -999.00,9,    449,-999.000,  -999.0,  8.2979
     32MW093_1,  PRS2,     2,  9,      1,     33,2,19980513,1500, 22.7625,-157.9883, 4715,   1021.0,   3.9107,  34.4842,2,  34.4857,2,     43.4,1,   -999.0,9,  -999.00,9,  -999.00,9,  -999.00,9,   1021,-999.000,  -999.0,  3.8340
     32MW093_1,  PRS2,     2, 10,     12,     12,2,19980513,2057, 22.7745,-157.9752, 4700,      5.0,  22.9817,  35.2991,2,  35.2974,2,    214.1,1,   -999.0,9,  -999.00,9,  -999.00,9,  -999.00,9,      5,-999.000,  -999.0, 22.9807
     32MW093_1,  PRS2,     2, 10,     11,     11,2,19980513,2057, 22.7745,-157.9752, 4700,     25.2,  22.9862,  35.2987,2,  35.2991,2,    214.2,1,   -999.0,9,  -999.00,9,  -999.00,9,  -999.00,9,     25,-999.000,  -999.0, 22.9810
     32MW093_1,  PRS2,     2, 10,     10,     32,2,19980513,2057, 22.7745,-157.9752, 4700,     46.1,  22.9555,  35.2987,2,  35.2981,2,    214.4,1,   -999.0,9,  -999.00,9,  -999.00,9,  -999.00,9,     46,-999.000,  -999.0, 22.9461
     32MW093_1,  PRS2,     2, 10,      9,      3,2,19980513,2057, 22.7745,-157.9752, 4700,     75.4,  22.5725,  35.3202,2,  35.3216,2,    216.9,1,   -999.0,9,  -999.00,9,  -999.00,9,  -999.00,9,     76,-999.000,  -999.0, 22.5573
     32MW093_1,  PRS2,     2, 10,      8,     29,2,19980513,2057, 22.7745,-157.9752, 4700,    100.3,  22.0466,  35.3051,2,  35.3489,4,    215.0,1,   -999.0,9,  -999.00,9,  -999.00,9,  -999.00,9,    101,-999.000,  -999.0, 22.0267
     32MW093_1,  PRS2,     2, 10,      7,     28,2,19980513,2057, 22.7745,-157.9752, 4700,    125.6,  20.9707,  35.2111,2,  35.2109,2,    211.8,1,   -999.0,9,  -999.00,9,  -999.00,9,  -999.00,9,    125,-999.000,  -999.0, 20.9467
     32MW093_1,  PRS2,     2, 10,      6,      7,2,19980513,2057, 22.7745,-157.9752, 4700,    151.2,  20.3077,  35.1599,2,  35.1722,2,    209.6,1,   -999.0,9,  -999.00,9,  -999.00,9,  -999.00,9,    151,-999.000,  -999.0, 20.2794
     32MW093_1,  PRS2,     2, 10,      5,     38,2,19980513,2057, 22.7745,-157.9752, 4700,    177.1,  19.5154,  35.1082,2,  35.1091,2,    209.3,1,   -999.0,9,  -999.00,9,  -999.00,9,  -999.00,9,    177,-999.000,  -999.0, 19.4832
     32MW093_1,  PRS2,     2, 10,      4,     36,2,19980513,2057, 22.7745,-157.9752, 4700,    252.3,  14.9488,  34.5000,2,  34.5031,2,    198.1,1,   -999.0,9,  -999.00,9,  -999.00,9,  -999.00,9,    251,-999.000,  -999.0, 14.9108
     32MW093_1,  PRS2,     2, 10,      3,     35,2,19980513,2057, 22.7745,-157.9752, 4700,    500.6,   7.1907,  34.0862,2,  34.0859,2,    109.9,1,   -999.0,9,  -999.00,9,  -999.00,9,  -999.00,9,    501,-999.000,  -999.0,  7.1427
     32MW093_1,  PRS2,     2, 10,      2,     34,2,19980513,2057, 22.7745,-157.9752, 4700,    748.4,   4.7139,  34.2821,2,  34.2821,2,     29.9,1,   -999.0,9,  -999.00,9,  -999.00,9,  -999.00,9,    748,-999.000,  -999.0,  4.6549
     32MW093_1,  PRS2,     2, 10,      1,     33,2,19980513,2057, 22.7745,-157.9752, 4700,   1020.7,   3.8929,  34.4832,2,  34.4842,2,     43.6,1,   -999.0,9,  -999.00,9,  -999.00,9,  -999.00,9,   1022,-999.000,  -999.0,  3.8164
     32MW093_1,  PRS2,     2, 11,     12,     12,2,19980514,0002, 22.7120,-157.9613, 4705,      5.4,  23.1616,  35.2801,2,  35.2801,2,    213.8,1,   -999.0,9,  -999.00,9,  -999.00,9,  -999.00,9,      5,-999.000,  -999.0, 23.1604
     32MW093_1,  PRS2,     2, 11,     11,     11,2,19980514,0002, 22.7120,-157.9613, 4705,     25.7,  22.8530,  35.3039,2,  35.3022,2,    215.6,1,   -999.0,9,  -999.00,9,  -999.00,9,  -999.00,9,     25,-999.000,  -999.0, 22.8477
     32MW093_1,  PRS2,     2, 11,     10,     32,2,19980514,0002, 22.7120,-157.9613, 4705,     44.3,  22.7109,  35.3107,2,  35.3099,2,    216.2,1,   -999.0,9,  -999.00,9,  -999.00,9,  -999.00,9,     44,-999.000,  -999.0, 22.7019
     32MW093_1,  PRS2,     2, 11,      9,      3,2,19980514,0002, 22.7120,-157.9613, 4705,     74.9,  22.2512,  35.3075,2,  35.3046,2,    216.2,1,   -999.0,9,  -999.00,9,  -999.00,9,  -999.00,9,     76,-999.000,  -999.0, 22.2363
     32MW093_1,  PRS2,     2, 11,      8,     29,2,19980514,0002, 22.7120,-157.9613, 4705,    101.9,  21.6591,  35.2603,2,  35.2653,2,    216.9,1,   -999.0,9,  -999.00,9,  -999.00,9,  -999.00,9,    101,-999.000,  -999.0, 21.6391
     32MW093_1,  PRS2,     2, 11,      7,     28,2,19980514,0002, 22.7120,-157.9613, 4705,    123.8,  20.8219,  35.1991,2,  35.2023,2,    210.7,1,   -999.0,9,  -999.00,9,  -999.00,9,  -999.00,9,    124,-999.000,  -999.0, 20.7983
     32MW093_1,  PRS2,     2, 11,      6,      7,2,19980514,0002, 22.7120,-157.9613, 4705,    151.0,  19.8534,  35.1355,2,  35.1430,2,    209.5,1,   -999.0,9,  -999.00,9,  -999.00,9,  -999.00,9,    150,-999.000,  -999.0, 19.8256
     32MW093_1,  PRS2,     2, 11,      5,     38,2,19980514,0002, 22.7120,-157.9613, 4705,    175.5,  18.2714,  34.9295,2,  34.9312,2,    200.6,1,   -999.0,9,  -999.00,9,  -999.00,9,  -999.00,9,    175,-999.000,  -999.0, 18.2409
     32MW093_1,  PRS2,     2, 11,      4,     36,2,19980514,0002, 22.7120,-157.9613, 4705,    249.4,  14.6018,  34.4691,2,  34.4722,2,    199.3,1,   -999.0,9,  -999.00,9,  -999.00,9,  -999.00,9,    250,-999.000,  -999.0, 14.5648
     32MW093_1,  PRS2,     2, 11,      3,     35,2,19980514,0002, 22.7120,-157.9613, 4705,    499.7,   7.0959,  34.0923,2,  34.0922,2,    109.2,1,   -999.0,9,  -999.00,9,  -999.00,9,  -999.00,9,    500,-999.000,  -999.0,  7.0484
     32MW093_1,  PRS2,     2, 11,      2,     34,2,19980514,0002, 22.7120,-157.9613, 4705,    751.1,   4.7446,  34.2780,2,  34.2797,2,     29.3,1,   -999.0,9,  -999.00,9,  -999.00,9,  -999.00,9,    752,-999.000,  -999.0,  4.6851
     32MW093_1,  PRS2,     2, 11,      1,     33,2,19980514,0002, 22.7120,-157.9613, 4705,   1020.3,   3.8303,  34.4865,2,  34.4880,2,     44.6,1,   -999.0,9,  -999.00,9,  -999.00,9,  -999.00,9,   1020,-999.000,  -999.0,  3.7544
     32MW093_1,  PRS2,     2, 12,     24,     31,2,19980514,0259, 22.7667,-157.9587, 4701,      2.0,  23.2730,  35.2791,2,  35.2762,2,    213.7,1,   -999.0,9,  -999.00,9,  -999.00,9,  -999.00,9,      2,-999.000,  -999.0, 23.2726
     32MW093_1,  PRS2,     2, 12,     23,     30,2,19980514,0259, 22.7667,-157.9587, 4701,      5.6,  23.2737,  35.2788,2,  35.2789,2,    213.6,1,   -999.0,9,  -999.00,9,  -999.00,9,  -999.00,9,      6,-999.000,  -999.0, 23.2725
     32MW093_1,  PRS2,     2, 12,     22,     22,2,19980514,0259, 22.7667,-157.9587, 4701,     10.0,  23.2713,  35.2795,2,  35.2785,2,    213.5,1,   -999.0,9,  -999.00,9,  -999.00,9,  -999.00,9,     11,-999.000,  -999.0, 23.2693
     32MW093_1,  PRS2,     2, 12,     21,     21,2,19980514,0259, 22.7667,-157.9587, 4701,     15.3,  22.9698,  35.2983,2,  35.2968,2,    214.4,1,   -999.0,9,  -999.00,9,  -999.00,9,  -999.00,9,     16,-999.000,  -999.0, 22.9667
     32MW093_1,  PRS2,     2, 12,     20,     20,2,19980514,0259, 22.7667,-157.9587, 4701,     20.1,  22.9265,  35.3022,2,  35.3016,2,    214.7,1,   -999.0,9,  -999.00,9,  -999.00,9,  -999.00,9,     20,-999.000,  -999.0, 22.9224
     32MW093_1,  PRS2,     2, 12,     19,     19,2,19980514,0259, 22.7667,-157.9587, 4701,     25.3,  22.8884,  35.3046,2,  35.3014,2,    216.2,1,   -999.0,9,  -999.00,9,  -999.00,9,  -999.00,9,     26,-999.000,  -999.0, 22.8832
     32MW093_1,  PRS2,     2, 12,     18,     18,2,19980514,0259, 22.7667,-157.9587, 4701,     29.9,  22.8211,  35.3058,2,  35.3048,2,    215.9,1,   -999.0,9,  -999.00,9,  -999.00,9,  -999.00,9,     30,-999.000,  -999.0, 22.8150
     32MW093_1,  PRS2,     2, 12,     17,     17,2,19980514,0259, 22.7667,-157.9587, 4701,     33.8,  22.7438,  35.3080,2,  35.3063,2,    215.8,1,   -999.0,9,  -999.00,9,  -999.00,9,  -999.00,9,     34,-999.000,  -999.0, 22.7370
     32MW093_1,  PRS2,     2, 12,     16,     16,2,19980514,0259, 22.7667,-157.9587, 4701,     39.9,  22.7204,  35.3079,2,  35.3071,2,    216.0,1,   -999.0,9,  -999.00,9,  -999.00,9,  -999.00,9,     40,-999.000,  -999.0, 22.7123
     32MW093_1,  PRS2,     2, 12,     15,     15,2,19980514,0259, 22.7667,-157.9587, 4701,     46.1,  22.6801,  35.3114,2,  35.3119,2,    217.2,1,   -999.0,9,  -999.00,9,  -999.00,9,  -999.00,9,     46,-999.000,  -999.0, 22.6708
     32MW093_1,  PRS2,     2, 12,     14,     14,2,19980514,0259, 22.7667,-157.9587, 4701,     50.7,  22.6453,  35.3152,2,  35.3141,2,    217.1,1,   -999.0,9,  -999.00,9,  -999.00,9,  -999.00,9,     50,-999.000,  -999.0, 22.6351
     32MW093_1,  PRS2,     2, 12,     13,     13,2,19980514,0259, 22.7667,-157.9587, 4701,     54.9,  22.6241,  35.3166,2,  35.3320,4,    217.5,1,   -999.0,9,  -999.00,9,  -999.00,9,  -999.00,9,     56,-999.000,  -999.0, 22.6130
     32MW093_1,  PRS2,     2, 12,     12,     12,2,19980514,0259, 22.7667,-157.9587, 4701,     65.0,  22.6029,  35.3189,2,  35.3160,2,    217.5,1,   -999.0,9,  -999.00,9,  -999.00,9,  -999.00,9,     65,-999.000,  -999.0, 22.5898
     32MW093_1,  PRS2,     2, 12,     11,     11,2,19980514,0259, 22.7667,-157.9587, 4701,     74.5,  22.5699,  35.3207,2,  35.3209,2,    217.6,1,   -999.0,9,  -999.00,9,  -999.00,9,  -999.00,9,     75,-999.000,  -999.0, 22.5549
     32MW093_1,  PRS2,     2, 12,     10,     32,2,19980514,0259, 22.7667,-157.9587, 4701,     84.6,  22.3139,  35.3154,2,  35.3152,2,    216.8,1,   -999.0,9,  -999.00,9,  -999.00,9,  -999.00,9,     86,-999.000,  -999.0, 22.2970
     32MW093_1,  PRS2,     2, 12,      9,      3,2,19980514,0259, 22.7667,-157.9587, 4701,     94.4,  22.2072,  35.3179,2,  35.3172,2,    218.2,1,   -999.0,9,  -999.00,9,  -999.00,9,  -999.00,9,     94,-999.000,  -999.0, 22.1884
     32MW093_1,  PRS2,     2, 12,      8,     29,2,19980514,0259, 22.7667,-157.9587, 4701,    106.1,  22.0178,  35.3027,2,  35.3014,2,    217.6,1,   -999.0,9,  -999.00,9,  -999.00,9,  -999.00,9,    106,-999.000,  -999.0, 21.9968
     32MW093_1,  PRS2,     2, 12,      7,     28,2,19980514,0259, 22.7667,-157.9587, 4701,    116.0,  21.7020,  35.2744,2,  35.2757,2,    215.6,1,   -999.0,9,  -999.00,9,  -999.00,9,  -999.00,9,    116,-999.000,  -999.0, 21.6792
     32MW093_1,  PRS2,     2, 12,      6,      7,2,19980514,0259, 22.7667,-157.9587, 4701,    126.9,  21.3805,  35.2431,2,  35.2557,2,    216.2,1,   -999.0,9,  -999.00,9,  -999.00,9,  -999.00,9,    127,-999.000,  -999.0, 21.3559
     32MW093_1,  PRS2,     2, 12,      5,     38,2,19980514,0259, 22.7667,-157.9587, 4701,    150.8,  20.3657,  35.1636,2,  35.1640,2,    204.7,1,   -999.0,9,  -999.00,9,  -999.00,9,  -999.00,9,    151,-999.000,  -999.0, 20.3374
     32MW093_1,  PRS2,     2, 12,      4,     36,2,19980514,0259, 22.7667,-157.9587, 4701,    175.6,  19.7412,  35.1240,2,  35.1236,2,    206.5,1,   -999.0,9,  -999.00,9,  -999.00,9,  -999.00,9,    177,-999.000,  -999.0, 19.7090
     32MW093_1,  PRS2,     2, 12,      3,     35,2,19980514,0259, 22.7667,-157.9587, 4701,    251.3,  16.1574,  34.6416,2,  34.6415,2,    195.9,1,   -999.0,9,  -999.00,9,  -999.00,9,  -999.00,9,    251,-999.000,  -999.0, 16.1174
     32MW093_1,  PRS2,     2, 12,      2,     34,2,19980514,0259, 22.7667,-157.9587, 4701,    486.6,   7.5960,  34.0773,2,  34.0758,2,    129.9,1,   -999.0,9,  -999.00,9,  -999.00,9,  -999.00,9,    486,-999.000,  -999.0,  7.5480
     32MW093_1,  PRS2,     2, 12,      1,     33,2,19980514,0259, 22.7667,-157.9587, 4701,   1020.5,   3.8988,  34.4819,2,  34.4799,2,     43.6,1,   -999.0,9,  -999.00,9,  -999.00,9,  -999.00,9,   1020,-999.000,  -999.0,  3.8223
     32MW093_1,  PRS2,     2, 13,      4,     36,2,19980514,0559, 22.7547,-157.9908, 4716,      5.1,  23.5424,  35.2447,2,  35.2456,2,    213.7,1,   -999.0,9,  -999.00,9,  -999.00,9,  -999.00,9,      5,-999.000,  -999.0, 23.5413
     32MW093_1,  PRS2,     2, 13,      3,     35,2,19980514,0559, 22.7547,-157.9908, 4716,     80.9,  22.5505,  35.3159,2,  35.3167,2,    217.5,1,   -999.0,9,  -999.00,9,  -999.00,9,  -999.00,9,     80,-999.000,  -999.0, 22.5342
     32MW093_1,  PRS2,     2, 13,      2,     34,2,19980514,0559, 22.7547,-157.9908, 4716,    507.1,   7.2842,  34.0749,2,  34.0738,2,    119.1,1,   -999.0,9,  -999.00,9,  -999.00,9,  -999.00,9,    507,-999.000,  -999.0,  7.2353
     32MW093_1,  PRS2,     2, 13,      1,     33,2,19980514,0559, 22.7547,-157.9908, 4716,   1024.7,   3.9434,  34.4761,2,  34.4764,2,     42.7,1,   -999.0,9,  -999.00,9,  -999.00,9,  -999.00,9,   1025,-999.000,  -999.0,  3.8662