BOTTLE,20020809WHPSIObren
EXPOCODE,SECT_ID,STNNBR,CASTNO,SAMPNO,BTLNBR,BTLNBR_FLAG_W,DATE,TIME,LATITUDE,LONGITUDE,DEPTH,CTDPRS,CTDTMP,CTDSAL,CTDSAL_FLAG_W,SALNTY,SALNTY_FLAG_W,CTDOXY,CTDOXY_FLAG_W,OXYGEN,OXYGEN_FLAG_W,SILCAT,SILCAT_FLAG_W,NO2+NO3,NO2+NO3_FLAG_W,PHSPHT,PHSPHT_FLAG_W,CTDRAW,REVTMP,REVPRS,THETA
,,,,,,,,,,,,DBAR,ITS-90,PSS-78,,PSS-78,,UMOL/KG,,UMOL/KG,,UMOL/KG,,UMOL/KG,,UMOL/KG,,,DEG C,DBAR,ITS-90
     32MW093_1,  PRS2,     2, 14,     14,     14,2,19980514,0858, 22.8137,-158.0085, 4697,      4.5,  23.4072,  35.2566,2,  35.2575,2,    213.9,1,   -999.0,9,  -999.00,9,  -999.00,9,  -999.00,9,      5,-999.000,  -999.0, 23.4063
     32MW093_1,  PRS2,     2, 14,     13,     13,2,19980514,0858, 22.8137,-158.0085, 4697,      4.6,  23.4082,  35.2561,2,  35.2694,3,    213.9,1,   -999.0,9,  -999.00,9,  -999.00,9,  -999.00,9,      4,-999.000,  -999.0, 23.4072
     32MW093_1,  PRS2,     2, 14,     12,     12,2,19980514,0858, 22.8137,-158.0085, 4697,     24.6,  22.8161,  35.3054,2,  35.3037,2,    215.4,1,   -999.0,9,  -999.00,9,  -999.00,9,  -999.00,9,     25,-999.000,  -999.0, 22.8111
     32MW093_1,  PRS2,     2, 14,     10,     32,2,19980514,0858, 22.8137,-158.0085, 4697,     24.7,  22.8195,  35.3054,2,  35.3027,2,    215.4,1,   -999.0,9,  -999.00,9,  -999.00,9,  -999.00,9,     25,-999.000,  -999.0, 22.8145
     32MW093_1,  PRS2,     2, 14,     11,     11,2,19980514,0858, 22.8137,-158.0085, 4697,     24.8,  22.8134,  35.3060,2,  35.3043,2,    215.4,1,   -999.0,9,  -999.00,9,  -999.00,9,  -999.00,9,     25,-999.000,  -999.0, 22.8084
     32MW093_1,  PRS2,     2, 14,      9,      3,2,19980514,0858, 22.8137,-158.0085, 4697,     44.2,  22.5769,  35.3226,2,  35.3222,2,    217.8,1,   -999.0,9,  -999.00,9,  -999.00,9,  -999.00,9,     44,-999.000,  -999.0, 22.5680
     32MW093_1,  PRS2,     2, 14,      8,     29,2,19980514,0858, 22.8137,-158.0085, 4697,     74.6,  22.5425,  35.3215,2,  35.3214,2,    217.8,1,   -999.0,9,  -999.00,9,  -999.00,9,  -999.00,9,     75,-999.000,  -999.0, 22.5275
     32MW093_1,  PRS2,     2, 14,      7,     28,2,19980514,0858, 22.8137,-158.0085, 4697,    101.1,  22.3974,  35.3122,2,  35.3159,2,    218.0,1,   -999.0,9,  -999.00,9,  -999.00,9,  -999.00,9,    101,-999.000,  -999.0, 22.3771
     32MW093_1,  PRS2,     2, 14,      6,      7,2,19980514,0858, 22.8137,-158.0085, 4697,    125.9,  21.2737,  35.2341,2,  35.2350,2,    213.7,1,   -999.0,9,  -999.00,9,  -999.00,9,  -999.00,9,    125,-999.000,  -999.0, 21.2494
     32MW093_1,  PRS2,     2, 14,      5,     38,2,19980514,0858, 22.8137,-158.0085, 4697,    149.4,  20.0229,  35.1285,2,  35.1331,2,    201.8,1,   -999.0,9,  -999.00,9,  -999.00,9,  -999.00,9,    149,-999.000,  -999.0, 19.9952
     32MW093_1,  PRS2,     2, 14,      4,     36,2,19980514,0858, 22.8137,-158.0085, 4697,    176.5,  19.3595,  35.0805,2,  35.0795,2,    205.9,1,   -999.0,9,  -999.00,9,  -999.00,9,  -999.00,9,    176,-999.000,  -999.0, 19.3276
     32MW093_1,  PRS2,     2, 14,      3,     35,2,19980514,0858, 22.8137,-158.0085, 4697,    204.8,  18.0896,  34.8716,2,  34.8710,2,    188.7,1,   -999.0,9,  -999.00,9,  -999.00,9,  -999.00,9,    205,-999.000,  -999.0, 18.0543
     32MW093_1,  PRS2,     2, 14,      2,     34,2,19980514,0858, 22.8137,-158.0085, 4697,    522.0,   6.8457,  34.1016,2,  34.0991,2,     95.1,1,   -999.0,9,  -999.00,9,  -999.00,9,  -999.00,9,    523,-999.000,  -999.0,  6.7970
     32MW093_1,  PRS2,     2, 14,      1,     33,2,19980514,0858, 22.8137,-158.0085, 4697,   1023.2,   3.9223,  34.4767,2,  34.4798,2,     43.1,1,   -999.0,9,  -999.00,9,  -999.00,9,  -999.00,9,   1022,-999.000,  -999.0,  3.8454
     32MW093_1,  PRS2,     2, 15,     10,     32,2,19980514,1348, 22.7432,-158.0077, 4730,      4.7,  23.3002,  35.2610,2,-999.0000,5,    214.1,2,   -999.0,5,  -999.00,9,  -999.00,9,  -999.00,9,      4,-999.000,  -999.0, 23.2993
     32MW093_1,  PRS2,     2, 15,      9,      3,2,19980514,1348, 22.7432,-158.0077, 4730,      4.7,  23.2993,  35.2610,2,-999.0000,5,    214.0,2,   -999.0,5,  -999.00,9,  -999.00,9,  -999.00,9,      4,-999.000,  -999.0, 23.2984
     32MW093_1,  PRS2,     2, 15,     12,     12,2,19980514,1348, 22.7432,-158.0077, 4730,      4.8,  23.2997,  35.2609,2,-999.0000,5,    214.4,2,   -999.0,5,  -999.00,9,  -999.00,9,  -999.00,9,      5,-999.000,  -999.0, 23.2987
     32MW093_1,  PRS2,     2, 15,     11,     11,2,19980514,1348, 22.7432,-158.0077, 4730,      4.8,  23.3000,  35.2610,2,-999.0000,5,    214.3,2,   -999.0,5,  -999.00,9,  -999.00,9,  -999.00,9,      5,-999.000,  -999.0, 23.2990
     32MW093_1,  PRS2,     2, 15,      8,     29,2,19980514,1348, 22.7432,-158.0077, 4730,      4.9,  23.2982,  35.2610,2,  35.2627,2,    213.9,2,    213.8,2,  -999.00,9,  -999.00,9,  -999.00,9,      5,-999.000,  -999.0, 23.2972
     32MW093_1,  PRS2,     2, 15,      7,     28,2,19980514,1348, 22.7432,-158.0077, 4730,    100.5,  22.0115,  35.2815,2,  35.2814,2,    216.0,2,    216.6,2,  -999.00,9,  -999.00,9,  -999.00,9,    100,-999.000,  -999.0, 21.9916
     32MW093_1,  PRS2,     2, 15,      6,      7,2,19980514,1348, 22.7432,-158.0077, 4730,    448.3,   8.1930,  34.0805,2,  34.0809,2,    150.2,2,    144.8,2,  -999.00,9,  -999.00,9,  -999.00,9,    449,-999.000,  -999.0,  8.1469
     32MW093_1,  PRS2,     2, 15,      5,     38,2,19980514,1348, 22.7432,-158.0077, 4730,    797.8,   4.6938,  34.3680,2,  34.3680,2,     32.7,2,     31.6,2,  -999.00,9,  -999.00,9,  -999.00,9,    798,-999.000,  -999.0,  4.6306
     32MW093_1,  PRS2,     2, 15,      4,     36,2,19980514,1348, 22.7432,-158.0077, 4730,   2003.3,   2.1191,  34.6202,2,  34.6210,2,     87.3,2,     87.3,2,  -999.00,9,  -999.00,9,  -999.00,9,   2002,-999.000,  -999.0,  1.9806
     32MW093_1,  PRS2,     2, 15,      3,     35,2,19980514,1348, 22.7432,-158.0077, 4730,   3000.6,   1.5702,  34.6682,2,  34.6684,2,    122.1,2,    123.7,2,  -999.00,9,  -999.00,9,  -999.00,9,   3000,-999.000,  -999.0,  1.3519
     32MW093_1,  PRS2,     2, 15,      2,     34,2,19980514,1348, 22.7432,-158.0077, 4730,   4003.3,   1.4541,  34.6872,2,  34.6876,2,    148.5,2,    148.0,2,  -999.00,9,  -999.00,9,  -999.00,9,   4003,-999.000,  -999.0,  1.1361
     32MW093_1,  PRS2,     2, 15,      1,     33,2,19980514,1348, 22.7432,-158.0077, 4730,   4806.0,   1.5149,  34.6902,2,  34.6922,2,    154.1,2,    155.0,2,  -999.00,9,  -999.00,9,  -999.00,9,   4806,-999.000,  -999.0,  1.1035
     32MW093_1,  PRS2,     8,  1,     13,     13,2,19980515,0024, 22.3788,-158.0780, 4843,      5.0,  23.5740,  35.2228,2,  35.2218,2,    212.0,2,    212.7,2,  -999.00,9,  -999.00,9,  -999.00,9,      5,-999.000,  -999.0, 23.5730
     32MW093_1,  PRS2,     8,  1,     12,     12,2,19980515,0024, 22.3788,-158.0780, 4843,     25.2,  23.5455,  35.2213,2,  35.2205,2,    213.0,2,   -999.0,5,  -999.00,9,  -999.00,9,  -999.00,9,     26,-999.000,  -999.0, 23.5403
     32MW093_1,  PRS2,     8,  1,     11,     11,2,19980515,0024, 22.3788,-158.0780, 4843,     45.1,  23.5274,  35.2202,2,  35.2409,4,    212.7,3,    212.7,2,  -999.00,9,  -999.00,9,  -999.00,9,     45,-999.000,  -999.0, 23.5180
     32MW093_1,  PRS2,     8,  1,     10,     32,2,19980515,0024, 22.3788,-158.0780, 4843,     75.3,  23.4961,  35.2192,2,  35.2185,2,    212.1,2,   -999.0,5,  -999.00,9,  -999.00,9,  -999.00,9,     75,-999.000,  -999.0, 23.4805
     32MW093_1,  PRS2,     8,  1,      9,      3,2,19980515,0024, 22.3788,-158.0780, 4843,    101.2,  22.5240,  35.3181,2,  35.3185,2,    217.3,2,   -999.0,5,  -999.00,9,  -999.00,9,  -999.00,9,    101,-999.000,  -999.0, 22.5037
     32MW093_1,  PRS2,     8,  1,      8,     29,2,19980515,0024, 22.3788,-158.0780, 4843,    125.1,  22.4062,  35.3183,2,  35.3201,2,    218.0,2,    217.2,2,  -999.00,9,  -999.00,9,  -999.00,9,    125,-999.000,  -999.0, 22.3811
     32MW093_1,  PRS2,     8,  1,      7,     28,2,19980515,0024, 22.3788,-158.0780, 4843,    149.4,  22.2115,  35.3090,2,  35.3115,2,    216.2,2,   -999.0,5,  -999.00,9,  -999.00,9,  -999.00,9,    150,-999.000,  -999.0, 22.1817
     32MW093_1,  PRS2,     8,  1,      6,      7,2,19980515,0024, 22.3788,-158.0780, 4843,    175.6,  20.7327,  35.1871,2,  35.1865,2,    211.1,2,   -999.0,5,  -999.00,9,  -999.00,9,  -999.00,9,    176,-999.000,  -999.0, 20.6993
     32MW093_1,  PRS2,     8,  1,      5,     38,3,19980515,0024, 22.3788,-158.0780, 4843,    250.9,  16.3937,  34.6391,2,  34.6412,2,    188.1,2,    188.3,2,  -999.00,9,  -999.00,9,  -999.00,9,    251,-999.000,  -999.0, 16.3534
     32MW093_1,  PRS2,     8,  1,      4,     36,2,19980515,0024, 22.3788,-158.0780, 4843,    450.4,   7.5916,  34.0416,2,  34.0426,2,    137.1,2,    136.9,2,  -999.00,9,  -999.00,9,  -999.00,9,    451,-999.000,  -999.0,  7.5473
     32MW093_1,  PRS2,     8,  1,      3,     35,2,19980515,0024, 22.3788,-158.0780, 4843,    601.2,   5.9342,  34.1392,2,  34.1389,2,     52.5,2,     52.7,2,  -999.00,9,  -999.00,9,  -999.00,9,    602,-999.000,  -999.0,  5.8819
     32MW093_1,  PRS2,     8,  1,      2,     34,2,19980515,0024, 22.3788,-158.0780, 4843,    750.0,   4.8653,  34.3375,2,  34.3367,2,     31.1,2,     30.0,2,  -999.00,9,  -999.00,9,  -999.00,9,    750,-999.000,  -999.0,  4.8052
     32MW093_1,  PRS2,     8,  1,      1,     33,2,19980515,0024, 22.3788,-158.0780, 4843,   1024.6,   3.9751,  34.4899,2,  34.4906,2,     42.9,2,     43.8,2,  -999.00,9,  -999.00,9,  -999.00,9,   1024,-999.000,  -999.0,  3.8976