BOTTLE,20020809WHPSIObren
#code : jjward hyd_to_exchange.pl 
#original files copied from HTML directory: 20020809
#original HYD file: /whpo/11/HOTS/BOTTLE/hot93/hot93.sea   Fri Aug  9 09:51:38 2002
#original SUM file: /whpo/11/HOTS/BOTTLE/hot93/hot93.sum   Fri Aug  9 13:30:29 2002
EXPOCODE,SECT_ID,STNNBR,CASTNO,SAMPNO,BTLNBR,BTLNBR_FLAG_W,DATE,TIME,LATITUDE,LONGITUDE,DEPTH,CTDPRS,CTDTMP,CTDSAL,CTDSAL_FLAG_W,SALNTY,SALNTY_FLAG_W,CTDOXY,CTDOXY_FLAG_W,OXYGEN,OXYGEN_FLAG_W,SILCAT,SILCAT_FLAG_W,NO2+NO3,NO2+NO3_FLAG_W,PHSPHT,PHSPHT_FLAG_W,CTDRAW,REVTMP,REVPRS,THETA
,,,,,,,,,,,,DBAR,ITS-90,PSS-78,,PSS-78,,UMOL/KG,,UMOL/KG,,UMOL/KG,,UMOL/KG,,UMOL/KG,,,DEG C,DBAR,ITS-90
     32MW093_1,  PRS2,     1,  1,     24,     31,2,19980511,2343, 21.3420,-158.2735, 1515,      5.2,  23.9333,  35.2107,2,  35.2093,2,    212.2,2,    212.3,2,     1.64,2,     0.00,2,     0.09,2,      5,-999.000,  -999.0, 23.9322
     32MW093_1,  PRS2,     1,  1,     23,     30,2,19980511,2343, 21.3420,-158.2735, 1515,     25.1,  23.7950,  35.2106,2,  35.2100,2,    212.0,2,    212.3,2,  -999.00,5,  -999.00,5,  -999.00,5,     25,-999.000,  -999.0, 23.7897
     32MW093_1,  PRS2,     1,  1,     22,     22,2,19980511,2343, 21.3420,-158.2735, 1515,     25.1,  23.7986,  35.2106,2,  35.2130,2,    211.9,2,    211.8,2,     1.69,2,     0.01,2,     0.11,2,     25,-999.000,  -999.0, 23.7934
     32MW093_1,  PRS2,     1,  1,     21,     21,2,19980511,2343, 21.3420,-158.2735, 1515,     44.5,  23.7539,  35.2072,2,  35.2061,2,    212.0,2,    212.3,2,     1.79,2,     0.00,2,     0.10,2,     44,-999.000,  -999.0, 23.7446
     32MW093_1,  PRS2,     1,  1,     20,     20,2,19980511,2343, 21.3420,-158.2735, 1515,     59.6,  23.7355,  35.2023,2,  35.2018,2,    212.2,2,    212.5,2,     1.64,2,     0.00,2,     0.12,2,     59,-999.000,  -999.0, 23.7230
     32MW093_1,  PRS2,     1,  1,     19,     19,2,19980511,2343, 21.3420,-158.2735, 1515,     74.6,  23.7047,  35.1969,2,  35.1969,2,    212.5,2,    212.9,2,     1.81,2,     0.00,2,     0.09,2,     75,-999.000,  -999.0, 23.6892
     32MW093_1,  PRS2,     1,  1,     18,     18,2,19980511,2343, 21.3420,-158.2735, 1515,     94.6,  23.6050,  35.2011,2,  35.2024,2,    212.1,2,    211.4,2,     1.72,2,     0.00,2,     0.09,2,     94,-999.000,  -999.0, 23.5853
     32MW093_1,  PRS2,     1,  1,     17,     17,2,19980511,2343, 21.3420,-158.2735, 1515,    104.3,  23.3223,  35.1804,2,  35.1815,2,    210.1,2,    209.4,2,     2.32,2,     0.01,2,     0.11,2,    104,-999.000,  -999.0, 23.3008
     32MW093_1,  PRS2,     1,  1,     16,     16,2,19980511,2343, 21.3420,-158.2735, 1515,    114.8,  22.9884,  35.1671,2,  35.1664,2,    207.6,2,    206.8,2,     1.98,2,     0.10,2,     0.10,2,    115,-999.000,  -999.0, 22.9650
     32MW093_1,  PRS2,     1,  1,     15,     15,2,19980511,2343, 21.3420,-158.2735, 1515,    125.1,  22.6330,  35.1599,2,  35.1590,2,    205.5,2,    204.9,2,     2.14,2,     0.28,2,     0.11,2,    125,-999.000,  -999.0, 22.6078
     32MW093_1,  PRS2,     1,  1,     14,     14,2,19980511,2343, 21.3420,-158.2735, 1515,    150.1,  21.3276,  35.1039,2,  35.1054,2,    195.9,2,    197.6,2,     2.90,2,     1.08,2,     0.18,2,    150,-999.000,  -999.0, 21.2985
     32MW093_1,  PRS2,     1,  1,     13,     13,2,19980511,2343, 21.3420,-158.2735, 1515,    175.6,  19.2548,  34.9273,2,  34.9542,4,    186.6,3,    191.0,2,     3.60,2,     2.51,2,     0.27,2,    176,-999.000,  -999.0, 19.2232
     32MW093_1,  PRS2,     1,  1,     12,     12,2,19980511,2343, 21.3420,-158.2735, 1515,    199.8,  18.4848,  34.8501,2,  34.8542,2,    189.2,2,    190.1,2,     4.01,2,     3.15,2,     0.32,2,    200,-999.000,  -999.0, 18.4498
     32MW093_1,  PRS2,     1,  1,     11,     11,2,19980511,2343, 21.3420,-158.2735, 1515,    225.0,  16.7598,  34.6752,2,  34.6737,2,    190.3,2,    188.5,2,     5.20,2,     4.94,2,     0.43,2,    225,-999.000,  -999.0, 16.7231
     32MW093_1,  PRS2,     1,  1,     10,     32,2,19980511,2343, 21.3420,-158.2735, 1515,    250.2,  14.9595,  34.5021,2,  34.5060,2,    188.7,2,    188.9,2,     7.51,2,     7.33,2,     0.60,2,    250,-999.000,  -999.0, 14.9218
     32MW093_1,  PRS2,     1,  1,      9,      3,2,19980511,2343, 21.3420,-158.2735, 1515,    275.2,  14.2651,  34.4376,2,  34.4433,2,    189.2,2,    189.4,2,  -999.00,5,  -999.00,5,  -999.00,5,    274,-999.000,  -999.0, 14.2249
     32MW093_1,  PRS2,     1,  1,      8,     29,2,19980511,2343, 21.3420,-158.2735, 1515,    299.2,  13.1905,  34.3568,2,  34.3549,2,    189.1,2,    189.5,2,    11.29,2,    10.32,2,     0.77,2,    299,-999.000,  -999.0, 13.1490
     32MW093_1,  PRS2,     1,  1,      7,     28,2,19980511,2343, 21.3420,-158.2735, 1515,    400.4,   9.2629,  34.1159,2,  34.1151,2,    155.1,2,    159.1,2,    27.93,2,    20.72,2,     1.49,2,    400,-999.000,  -999.0,  9.2186
     32MW093_1,  PRS2,     1,  1,      6,      7,2,19980511,2343, 21.3420,-158.2735, 1515,    500.8,   6.5770,  34.1202,2,  34.1192,2,     90.0,2,     89.9,2,    58.39,2,    32.02,2,     2.34,2,    500,-999.000,  -999.0,  6.5314
     32MW093_1,  PRS2,     1,  1,      5,     38,2,19980511,2343, 21.3420,-158.2735, 1515,    600.2,   5.5318,  34.2108,2,  34.2130,2,     51.0,2,     50.1,2,  -999.00,5,  -999.00,5,  -999.00,5,    601,-999.000,  -999.0,  5.4814
     32MW093_1,  PRS2,     1,  1,      4,     36,2,19980511,2343, 21.3420,-158.2735, 1515,    700.9,   5.0420,  34.3268,2,  34.3253,2,     36.0,2,     35.2,2,    88.79,2,    39.86,2,     2.92,2,    700,-999.000,  -999.0,  4.9851
     32MW093_1,  PRS2,     1,  1,      3,     35,2,19980511,2343, 21.3420,-158.2735, 1515,    800.1,   4.6686,  34.4231,2,  34.2225,4,     34.6,3,    129.9,4,  -999.00,5,  -999.00,5,  -999.00,5,    799,-999.000,  -999.0,  4.6052
     32MW093_1,  PRS2,     1,  1,      2,     34,2,19980511,2343, 21.3420,-158.2735, 1515,    900.5,   4.3133,  34.4645,2,  34.4637,2,     39.3,2,     40.3,2,  -999.00,5,  -999.00,5,  -999.00,5,    899,-999.000,  -999.0,  4.2437
     32MW093_1,  PRS2,     1,  1,      1,     33,2,19980511,2343, 21.3420,-158.2735, 1515,   1020.1,   3.9422,  34.5055,2,  34.5042,2,     45.3,2,     45.8,2,   109.72,2,    41.43,2,     3.02,2,   1020,-999.000,  -999.0,  3.8653
     32MW093_1,  PRS2,     2,  1,     24,     31,2,19980512,1230, 22.7660,-157.9897, 4724,      4.9,  23.1174,  35.2637,2,  35.2663,2,    218.2,2,    214.5,2,  -999.00,5,  -999.00,5,  -999.00,5,      5,-999.000,  -999.0, 23.1164
     32MW093_1,  PRS2,     2,  1,     23,     30,2,19980512,1230, 22.7660,-157.9897, 4724,    103.0,  21.9147,  35.2840,2,  35.2836,2,    217.9,2,    217.2,2,  -999.00,5,  -999.00,5,  -999.00,5,    102,-999.000,  -999.0, 21.8944
     32MW093_1,  PRS2,     2,  1,     22,     22,2,19980512,1230, 22.7660,-157.9897, 4724,    399.0,   9.2379,  34.0917,2,  34.0921,2,    179.4,2,    174.3,2,  -999.00,5,  -999.00,5,  -999.00,5,    399,-999.000,  -999.0,  9.1939
     32MW093_1,  PRS2,     2,  1,     21,     21,2,19980512,1230, 22.7660,-157.9897, 4724,    999.6,   4.0388,  34.4737,2,  34.4731,2,     41.5,2,     40.2,2,   107.53,2,    40.33,3,     2.90,3,   1000,-999.000,  -999.0,  3.9629
     32MW093_1,  PRS2,     2,  1,     20,     20,2,19980512,1230, 22.7660,-157.9897, 4724,   1198.4,   3.4976,  34.5287,2,  34.5284,2,     51.3,2,     51.1,2,   118.95,2,    41.09,2,     2.94,3,   1197,-999.000,  -999.0,  3.4098
     32MW093_1,  PRS2,     2,  1,     19,     19,2,19980512,1230, 22.7660,-157.9897, 4724,   1402.1,   3.0560,  34.5603,2,  34.2860,4,     61.0,3,    119.4,4,    33.73,4,    20.89,4,     1.52,4,   1401,-999.000,  -999.0,  2.9557
     32MW093_1,  PRS2,     2,  1,     18,     18,3,19980512,1230, 22.7660,-157.9897, 4724,   1600.0,   2.6812,  34.5836,2,  34.5826,2,     70.0,2,     69.8,2,   137.39,2,    40.17,3,     2.91,2,   1599,-999.000,  -999.0,  2.5689
     32MW093_1,  PRS2,     2,  1,     17,     17,2,19980512,1230, 22.7660,-157.9897, 4724,   1800.3,   2.4016,  34.6012,2,  34.6019,2,     77.5,2,     78.3,2,   143.33,2,    40.22,2,     2.88,2,   1800,-999.000,  -999.0,  2.2762
     32MW093_1,  PRS2,     2,  1,     16,     16,2,19980512,1230, 22.7660,-157.9897, 4724,   1999.5,   2.1535,  34.6177,2,  34.6170,2,     85.9,2,     86.0,2,   149.34,2,    39.80,2,     2.84,2,   2000,-999.000,  -999.0,  2.0149
     32MW093_1,  PRS2,     2,  1,     15,     15,2,19980512,1230, 22.7660,-157.9897, 4724,   2198.8,   1.9564,  34.6320,2,  34.6309,2,     93.8,2,     94.7,2,   153.48,2,    39.34,2,     2.80,2,   2200,-999.000,  -999.0,  1.8038
     32MW093_1,  PRS2,     2,  1,     14,     14,2,19980512,1230, 22.7660,-157.9897, 4724,   2398.9,   1.7917,  34.6455,2,  34.6453,2,    102.6,2,    103.2,2,   156.16,2,    38.81,2,     2.74,2,   2398,-999.000,  -999.0,  1.6243
     32MW093_1,  PRS2,     2,  1,     13,     13,2,19980512,1230, 22.7660,-157.9897, 4724,   2599.6,   1.6986,  34.6547,2,  34.6533,2,    110.2,2,    110.0,2,   157.34,2,    38.37,2,     2.70,2,   2600,-999.000,  -999.0,  1.5149
     32MW093_1,  PRS2,     2,  1,     12,     12,2,19980512,1230, 22.7660,-157.9897, 4724,   2801.6,   1.6257,  34.6620,2,  34.6617,2,    115.8,2,    116.3,2,   157.62,2,    37.99,2,     2.65,2,   2801,-999.000,  -999.0,  1.4250
     32MW093_1,  PRS2,     2,  1,     11,     11,2,19980512,1230, 22.7660,-157.9897, 4724,   2998.4,   1.5726,  34.6676,2,  34.6673,2,    121.8,2,    122.4,2,   156.66,2,    37.56,2,     2.64,2,   2998,-999.000,  -999.0,  1.3544
     32MW093_1,  PRS2,     2,  1,     10,     32,2,19980512,1230, 22.7660,-157.9897, 4724,   3202.6,   1.5243,  34.6735,2,  34.6732,2,    128.8,2,    129.7,2,   156.94,2,    37.14,2,     2.62,2,   3201,-999.000,  -999.0,  1.2874
     32MW093_1,  PRS2,     2,  1,      9,      3,2,19980512,1230, 22.7660,-157.9897, 4724,   3399.2,   1.4915,  34.6782,2,  34.6783,2,    134.6,2,    135.4,2,   154.92,2,    36.72,2,     2.58,2,   3399,-999.000,  -999.0,  1.2359
     32MW093_1,  PRS2,     2,  1,      8,     29,2,19980512,1230, 22.7660,-157.9897, 4724,   3598.6,   1.4681,  34.6820,2,  34.6813,2,    140.3,2,    140.2,2,   153.44,2,    36.56,2,     2.57,2,   3597,-999.000,  -999.0,  1.1927
     32MW093_1,  PRS2,     2,  1,      7,     28,2,19980512,1230, 22.7660,-157.9897, 4724,   3798.9,   1.4579,  34.6847,2,  34.6854,2,    144.3,2,    144.3,2,   151.88,2,    36.07,2,     2.54,2,   3798,-999.000,  -999.0,  1.1617
     32MW093_1,  PRS2,     2,  1,      6,      7,2,19980512,1230, 22.7660,-157.9897, 4724,   3999.5,   1.4567,  34.6867,2,  34.6865,2,    147.6,2,    147.2,2,   150.69,2,    35.88,2,     2.52,2,   3999,-999.000,  -999.0,  1.1391
     32MW093_1,  PRS2,     2,  1,      5,     38,2,19980512,1230, 22.7660,-157.9897, 4724,   4199.5,   1.4658,  34.6878,2,  34.6870,2,    150.2,2,    150.1,2,   149.35,2,    35.76,2,     2.49,2,   4198,-999.000,  -999.0,  1.1259
     32MW093_1,  PRS2,     2,  1,      4,     36,2,19980512,1230, 22.7660,-157.9897, 4724,   4399.3,   1.4776,  34.6888,2,  34.6884,2,    151.6,2,    151.6,2,   148.18,2,    35.79,2,     2.47,2,   4398,-999.000,  -999.0,  1.1149
     32MW093_1,  PRS2,     2,  1,      3,     35,2,19980512,1230, 22.7660,-157.9897, 4724,   4498.3,   1.4856,  34.6893,2,  34.6885,2,    152.5,2,    151.9,2,   148.71,2,    35.73,2,     2.48,2,   4496,-999.000,  -999.0,  1.1113
     32MW093_1,  PRS2,     2,  1,      2,     34,2,19980512,1230, 22.7660,-157.9897, 4724,   4601.4,   1.4936,  34.6897,2,  34.6884,2,    153.5,2,    152.4,2,   147.17,2,    35.75,2,     2.48,2,   4600,-999.000,  -999.0,  1.1071
     32MW093_1,  PRS2,     2,  1,      1,     33,2,19980512,1230, 22.7660,-157.9897, 4724,   4794.5,   1.5141,  34.6899,2,  34.6897,2,    153.6,2,    153.7,2,   148.80,2,    35.70,2,     2.47,2,   4795,-999.000,  -999.0,  1.1042
     32MW093_1,  PRS2,     2,  2,     24,     31,2,19980512,1802, 22.7383,-158.0080, 4720,      5.2,  23.0771,  35.2762,2,  35.2753,2,    214.7,2,    214.5,2,     1.34,2,     0.00,2,     0.08,2,      5,-999.000,  -999.0, 23.0760
     32MW093_1,  PRS2,     2,  2,     23,     30,2,19980512,1802, 22.7383,-158.0080, 4720,     50.0,  22.4735,  35.3216,2,  35.3214,2,    217.6,2,    217.4,2,     1.38,2,     0.00,2,     0.07,2,     50,-999.000,  -999.0, 22.4635
     32MW093_1,  PRS2,     2,  2,     22,     22,2,19980512,1802, 22.7383,-158.0080, 4720,     92.5,  22.1597,  35.2928,2,  35.2972,2,    216.0,2,    217.6,2,     1.32,2,     0.01,2,     0.07,2,     92,-999.000,  -999.0, 22.1413
     32MW093_1,  PRS2,     2,  2,     21,     21,2,19980512,1802, 22.7383,-158.0080, 4720,    126.2,  21.1030,  35.2213,2,  35.2361,3,    213.7,3,    214.5,2,     1.55,2,     0.08,2,     0.09,2,    126,-999.000,  -999.0, 21.0788
     32MW093_1,  PRS2,     2,  2,     20,     20,2,19980512,1802, 22.7383,-158.0080, 4720,    169.0,  19.7922,  35.1267,2,  35.1267,2,    209.6,2,    208.8,2,     2.81,2,     0.87,2,     0.14,2,    169,-999.000,  -999.0, 19.7612
     32MW093_1,  PRS2,     2,  2,     19,     19,2,19980512,1802, 22.7383,-158.0080, 4720,    200.0,  18.9459,  35.0277,2,  35.0262,2,    203.2,2,    205.7,2,     2.48,2,     1.66,2,     0.20,2,    201,-999.000,  -999.0, 18.9103
     32MW093_1,  PRS2,     2,  2,     18,     18,2,19980512,1802, 22.7383,-158.0080, 4720,    249.3,  15.5818,  34.5715,2,  34.5904,2,    199.1,2,    200.8,2,     4.91,2,     4.74,2,     0.41,2,    249,-999.000,  -999.0, 15.5431
     32MW093_1,  PRS2,     2,  2,     17,     17,2,19980512,1802, 22.7383,-158.0080, 4720,    275.7,  13.9351,  34.4024,2,  34.4055,2,    201.4,2,    200.3,2,     7.76,2,     7.36,2,     0.58,2,    276,-999.000,  -999.0, 13.8954
     32MW093_1,  PRS2,     2,  2,     16,     16,2,19980512,1802, 22.7383,-158.0080, 4720,    322.9,  11.5984,  34.2029,2,  34.2034,2,    194.8,2,    191.8,2,    12.52,2,    12.68,2,     0.93,2,    323,-999.000,  -999.0, 11.5573
     32MW093_1,  PRS2,     2,  2,     15,     15,2,19980512,1802, 22.7383,-158.0080, 4720,    372.7,  10.0483,  34.1194,2,  34.1172,2,    179.1,2,    180.2,2,    19.89,2,    17.14,2,     1.24,2,    372,-999.000,  -999.0, 10.0050
     32MW093_1,  PRS2,     2,  2,     14,     14,2,19980512,1802, 22.7383,-158.0080, 4720,    413.4,   8.6411,  34.0768,2,  34.0771,2,    163.9,2,    163.7,2,    40.19,4,    26.34,4,     1.92,4,    413,-999.000,  -999.0,  8.5973
     32MW093_1,  PRS2,     2,  2,     13,     13,2,19980512,1802, 22.7383,-158.0080, 4720,    466.4,   7.6092,  34.0726,2,  34.0722,2,    134.9,2,    132.0,2,    28.68,4,    21.84,4,     1.56,4,    466,-999.000,  -999.0,  7.5632
     32MW093_1,  PRS2,     2,  2,     12,     12,2,19980512,1802, 22.7383,-158.0080, 4720,    487.2,   7.1656,  34.0662,2,  34.0676,2,    117.5,2,    116.7,2,    46.02,2,    28.94,2,     2.10,2,    487,-999.000,  -999.0,  7.1191
     32MW093_1,  PRS2,     2,  2,     11,     11,2,19980512,1802, 22.7383,-158.0080, 4720,    523.0,   6.6955,  34.1015,2,  34.1042,2,     89.0,2,     89.0,2,    54.88,2,    32.25,2,     2.35,2,    524,-999.000,  -999.0,  6.6473
     32MW093_1,  PRS2,     2,  2,     10,     32,2,19980512,1802, 22.7383,-158.0080, 4720,    571.7,   6.2680,  34.1426,2,  34.1417,2,     69.1,2,     69.2,2,    62.58,2,    34.58,2,     2.55,2,    572,-999.000,  -999.0,  6.2169
     32MW093_1,  PRS2,     2,  2,      9,      3,2,19980512,1802, 22.7383,-158.0080, 4720,    600.4,   6.0795,  34.1562,2,  34.1560,2,     62.3,2,     61.5,2,    71.16,2,    36.90,2,     2.70,2,    600,-999.000,  -999.0,  6.0266
     32MW093_1,  PRS2,     2,  2,      8,     29,2,19980512,1802, 22.7383,-158.0080, 4720,    638.2,   5.8082,  34.1848,2,  34.1815,2,     53.0,2,     51.4,2,    71.35,2,    37.10,2,     2.73,2,    637,-999.000,  -999.0,  5.7531
     32MW093_1,  PRS2,     2,  2,      7,     28,2,19980512,1802, 22.7383,-158.0080, 4720,    688.8,   5.3562,  34.2408,2,  34.2412,2,     40.9,2,     39.6,2,    80.45,2,    39.02,2,     2.83,2,    689,-999.000,  -999.0,  5.2988
     32MW093_1,  PRS2,     2,  2,      6,      7,2,19980512,1802, 22.7383,-158.0080, 4720,    761.0,   4.6771,  34.2858,2,  34.2855,2,     28.5,2,     28.8,2,    94.26,2,    41.07,2,     2.98,2,    761,-999.000,  -999.0,  4.6172
     32MW093_1,  PRS2,     2,  2,      5,     38,2,19980512,1802, 22.7383,-158.0080, 4720,    800.4,   4.7499,  34.3648,2,  34.3658,2,     31.8,2,   -999.0,5,    93.86,2,    41.13,2,     2.97,2,    801,-999.000,  -999.0,  4.6861
     32MW093_1,  PRS2,     2,  2,      4,     36,2,19980512,1802, 22.7383,-158.0080, 4720,    848.2,   4.5182,  34.3999,2,  34.3966,2,     32.2,2,     31.5,2,    98.58,2,    41.42,2,     3.03,2,    848,-999.000,  -999.0,  4.4518
     32MW093_1,  PRS2,     2,  2,      3,     35,2,19980512,1802, 22.7383,-158.0080, 4720,    901.0,   4.3256,  34.4316,2,  34.4306,2,     33.4,2,     32.9,2,   102.32,2,    41.82,2,     3.04,2,    900,-999.000,  -999.0,  4.2560
     32MW093_1,  PRS2,     2,  2,      2,     34,2,19980512,1802, 22.7383,-158.0080, 4720,    970.9,   4.0562,  34.4693,2,  34.4680,2,     40.4,2,     40.3,2,   107.77,2,    41.79,2,     2.99,2,    970,-999.000,  -999.0,  3.9826
     32MW093_1,  PRS2,     2,  2,      1,     33,2,19980512,1802, 22.7383,-158.0080, 4720,   1021.7,   3.8953,  34.4865,2,  34.4854,2,     43.6,2,     43.2,2,   110.58,2,    41.66,2,     3.02,2,   1021,-999.000,  -999.0,  3.8187