BOTTLE,20010625WHPSIOKJU
EXPOCODE,SECT_ID,STNNBR,CASTNO,SAMPNO,BTLNBR,BTLNBR_FLAG_W,DATE,TIME,LATITUDE,LONGITUDE,DEPTH,CTDPRS,CTDTMP,CTDSAL,CTDSAL_FLAG_W,SALNTY,SALNTY_FLAG_W,OXYGEN,OXYGEN_FLAG_W,NITRAT,NITRAT_FLAG_W,NITRIT,NITRIT_FLAG_W,PHSPHT,PHSPHT_FLAG_W
,,,,,,,,,,,,DBAR,ITS-90,PSS-78,,PSS-78,,UMOL/KG,,UMOL/KG,,UMOL/KG,,UMOL/KG,
    49TU9101_2,  PR18,  PN-3,  2,   -999,   -999,2,19910128,1456, 28.1048, 127.3523, -999,      0.8,  21.9010,  34.8437,2,-999.0000,9,    216.0,3,  -999.00,5,     0.05,3,     0.05,3
    49TU9101_2,  PR18,  PN-3,  2,   -999,      8,2,19910128,1456, 28.1048, 127.3523, -999,     10.3,  21.9190,  34.8427,2,-999.0000,9,    215.0,3,  -999.00,5,     0.06,3,     0.05,3
    49TU9101_2,  PR18,  PN-3,  2,   -999,      7,2,19910128,1456, 28.1048, 127.3523, -999,     20.0,  21.9240,  34.8437,2,-999.0000,9,    215.0,3,  -999.00,5,     0.06,3,     0.04,3
    49TU9101_2,  PR18,  PN-3,  2,   -999,      6,2,19910128,1456, 28.1048, 127.3523, -999,     31.0,  21.9150,  34.8457,2,-999.0000,9,    215.0,3,  -999.00,5,     0.05,3,     0.05,3
    49TU9101_2,  PR18,  PN-3,  2,   -999,      5,2,19910128,1456, 28.1048, 127.3523, -999,     51.1,  21.9190,  34.8557,2,-999.0000,9,    215.0,3,  -999.00,5,     0.05,3,     0.04,3
    49TU9101_2,  PR18,  PN-3,  2,   -999,      4,2,19910128,1456, 28.1048, 127.3523, -999,     76.2,  21.7310,  34.8467,2,-999.0000,9,    216.0,3,  -999.00,5,     0.06,3,     0.05,3
    49TU9101_2,  PR18,  PN-3,  2,   -999,      3,2,19910128,1456, 28.1048, 127.3523, -999,    101.2,  21.5360,  34.8567,2,-999.0000,9,    217.0,3,  -999.00,5,     0.06,3,     0.05,3
    49TU9101_2,  PR18,  PN-3,  2,   -999,      2,2,19910128,1456, 28.1048, 127.3523, -999,    126.5,  21.3200,  34.8627,2,-999.0000,9,    204.0,3,  -999.00,5,     0.05,3,     0.08,3
    49TU9101_2,  PR18,  PN-3,  2,   -999,      1,2,19910128,1456, 28.1048, 127.3523, -999,    149.8,  20.4000,  34.8767,2,-999.0000,9,    199.0,3,  -999.00,5,     0.03,3,     0.10,3
    49TU9101_2,  PR18,  PN-3,  2,   -999,     12,2,19910128,1456, 28.1048, 127.3523, -999,    202.0,  18.6110,  34.8677,2,-999.0000,9,    193.0,3,  -999.00,5,     0.01,3,     0.23,3
    49TU9101_2,  PR18,  PN-3,  2,   -999,     11,2,19910128,1456, 28.1048, 127.3523, -999,    251.3,  17.2440,  34.7908,2,-999.0000,9,    194.0,3,  -999.00,5,     0.01,3,     0.34,3
    49TU9101_2,  PR18,  PN-3,  2,   -999,     10,2,19910128,1456, 28.1048, 127.3523, -999,    304.5,  16.0400,  34.6988,2,-999.0000,9,    194.0,3,  -999.00,5,     0.01,3,     0.49,3
    49TU9101_2,  PR18,  PN-2,  1,   -999,      1,2,19910128,2013, 27.8047, 127.7972,  989,    402.6,  14.9420,  34.6258,2,-999.0000,9,    187.0,3,  -999.00,5,     0.01,3,     0.65,3
    49TU9101_2,  PR18,  PN-2,  1,   -999,     12,2,19910128,2013, 27.8047, 127.7972,  989,    503.3,  12.1580,  34.4469,2,-999.0000,9,    172.0,3,  -999.00,5,     0.01,3,     1.09,3
    49TU9101_2,  PR18,  PN-2,  1,   -999,     11,2,19910128,2013, 27.8047, 127.7972,  989,    604.2,   9.5790,  34.3239,2,-999.0000,9,    143.0,3,  -999.00,5,     0.01,3,     1.67,3
    49TU9101_2,  PR18,  PN-2,  1,   -999,     10,2,19910128,2013, 27.8047, 127.7972,  989,    705.3,   6.7320,  34.2520,2,-999.0000,9,    105.0,3,  -999.00,5,     0.01,3,     2.33,3
    49TU9101_2,  PR18,  PN-2,  1,   -999,      9,2,19910128,2013, 27.8047, 127.7972,  989,    807.0,   5.6450,  34.3209,2,-999.0000,9,     90.0,3,  -999.00,5,     0.01,3,     2.59,3
    49TU9101_2,  PR18,  PN-2,  1,   -999,      8,2,19910128,2013, 27.8047, 127.7972,  989,    906.2,   4.9360,  34.3809,2,-999.0000,9,     82.0,3,  -999.00,5,     0.01,3,     2.68,3
    49TU9101_2,  PR18,  PN-2,  1,   -999,      7,2,19910128,2013, 27.8047, 127.7972,  989,    956.2,   4.6670,  34.3979,2,-999.0000,9,     80.0,3,  -999.00,5,     0.01,3,     2.79,3
    49TU9101_2,  PR18,  PN-2,  2,   -999,   -999,2,19910128,2057, 27.8007, 127.8318, -999,      0.7,  21.2330,  34.8997,2,-999.0000,9,    218.0,3,  -999.00,5,     0.08,3,     0.03,3
    49TU9101_2,  PR18,  PN-2,  2,   -999,     12,2,19910128,2057, 27.8007, 127.8318, -999,      9.6,  21.2520,  34.8987,2,-999.0000,9,    217.0,3,  -999.00,5,     0.08,3,     0.02,3
    49TU9101_2,  PR18,  PN-2,  2,   -999,     11,2,19910128,2057, 27.8007, 127.8318, -999,     19.2,  21.2560,  34.8997,2,-999.0000,9,    217.0,3,  -999.00,5,     0.08,3,     0.02,3
    49TU9101_2,  PR18,  PN-2,  2,   -999,     10,2,19910128,2057, 27.8007, 127.8318, -999,     26.3,  21.2570,  34.8987,2,-999.0000,9,    218.0,3,  -999.00,5,     0.09,3,     0.02,3
    49TU9101_2,  PR18,  PN-2,  2,   -999,      9,2,19910128,2057, 27.8007, 127.8318, -999,     49.2,  21.2650,  34.8987,2,-999.0000,9,    216.0,3,  -999.00,5,     0.08,3,     0.02,3
    49TU9101_2,  PR18,  PN-2,  2,   -999,      8,2,19910128,2057, 27.8007, 127.8318, -999,     75.9,  21.2620,  34.8987,2,-999.0000,9,    217.0,3,  -999.00,5,     0.12,3,     0.03,3
    49TU9101_2,  PR18,  PN-2,  2,   -999,      7,2,19910128,2057, 27.8007, 127.8318, -999,    100.6,  21.2600,  34.8977,2,-999.0000,9,    216.0,3,  -999.00,5,     0.11,3,     0.02,3
    49TU9101_2,  PR18,  PN-2,  2,   -999,      6,2,19910128,2057, 27.8007, 127.8318, -999,    125.6,  21.2660,  34.8987,2,-999.0000,9,    217.0,3,  -999.00,5,     0.09,3,     0.02,3
    49TU9101_2,  PR18,  PN-2,  2,   -999,      5,2,19910128,2057, 27.8007, 127.8318, -999,    149.7,  21.2740,  34.8977,2,-999.0000,9,    217.0,3,  -999.00,5,     0.08,3,     0.02,3
    49TU9101_2,  PR18,  PN-2,  2,   -999,      4,2,19910128,2057, 27.8007, 127.8318, -999,    201.6,  20.0490,  34.8837,2,-999.0000,9,    199.0,3,  -999.00,5,     0.02,3,     0.10,3
    49TU9101_2,  PR18,  PN-2,  2,   -999,      3,2,19910128,2057, 27.8007, 127.8318, -999,    250.1,  18.6660,  34.8537,2,-999.0000,9,    196.0,3,  -999.00,5,     0.01,3,     0.18,3
    49TU9101_2,  PR18,  PN-2,  2,   -999,      2,2,19910128,2057, 27.8007, 127.8318, -999,    301.5,  16.8290,  34.7468,2,-999.0000,9,    194.0,3,  -999.00,5,     0.01,3,     0.37,3
    49TU9101_2,  PR18,  PN-a,  1,   -999,     11,2,19910128,2327, 27.6452, 128.0345,  793,      9.6,  21.2450,  34.9157,2,  34.9120,2,   -999.0,9,  -999.00,9,  -999.00,9,  -999.00,9
    49TU9101_2,  PR18,  PN-a,  1,   -999,     10,2,19910128,2327, 27.6452, 128.0345,  793,     30.5,  21.2560,  34.9157,2,  34.9130,2,   -999.0,9,  -999.00,9,  -999.00,9,  -999.00,9
    49TU9101_2,  PR18,  PN-a,  1,   -999,      9,2,19910128,2327, 27.6452, 128.0345,  793,     50.0,  21.2610,  34.9167,2,  34.9120,2,   -999.0,9,  -999.00,9,  -999.00,9,  -999.00,9
    49TU9101_2,  PR18,  PN-a,  1,   -999,      8,2,19910128,2327, 27.6452, 128.0345,  793,    100.6,  21.2710,  34.9157,2,  34.9110,2,   -999.0,9,  -999.00,9,  -999.00,9,  -999.00,9
    49TU9101_2,  PR18,  PN-a,  1,   -999,      7,2,19910128,2327, 27.6452, 128.0345,  793,    202.8,  19.7710,  34.8857,2,  34.8820,2,   -999.0,9,  -999.00,9,  -999.00,9,  -999.00,9
    49TU9101_2,  PR18,  PN-a,  1,   -999,      6,2,19910128,2327, 27.6452, 128.0345,  793,    303.3,  16.7020,  34.7418,2,  34.7380,2,   -999.0,9,  -999.00,9,  -999.00,9,  -999.00,9
    49TU9101_2,  PR18,  PN-a,  1,   -999,      5,2,19910128,2327, 27.6452, 128.0345,  793,    402.8,  14.6920,  34.6128,2,  34.6110,2,   -999.0,9,  -999.00,9,  -999.00,9,  -999.00,9
    49TU9101_2,  PR18,  PN-a,  1,   -999,      4,2,19910128,2327, 27.6452, 128.0345,  793,    504.6,  11.8020,  34.4389,2,  34.4390,2,   -999.0,9,  -999.00,9,  -999.00,9,  -999.00,9
    49TU9101_2,  PR18,  PN-a,  1,   -999,      3,2,19910128,2327, 27.6452, 128.0345,  793,    604.6,   9.3690,  34.3399,2,  34.3380,2,   -999.0,9,  -999.00,9,  -999.00,9,  -999.00,9
    49TU9101_2,  PR18,  PN-a,  1,   -999,      2,2,19910128,2327, 27.6452, 128.0345,  793,    705.7,   7.4260,  34.2999,2,  34.3040,2,   -999.0,9,  -999.00,9,  -999.00,9,  -999.00,9
    49TU9101_2,  PR18,  PN-a,  1,   -999,      1,2,19910128,2327, 27.6452, 128.0345,  793,    767.4,   6.0720,  34.2959,2,  34.2980,2,   -999.0,9,  -999.00,9,  -999.00,9,  -999.00,9
    49TU9101_2,  PR18,  PN-1,  1,   -999,      7,2,19910129,0143, 27.4970, 128.2465, 1009,    403.2,  15.3480,  34.6548,2,-999.0000,9,    189.0,3,  -999.00,5,     0.00,3,     0.59,3
    49TU9101_2,  PR18,  PN-1,  1,   -999,      6,2,19910129,0143, 27.4970, 128.2465, 1009,    504.2,  12.5060,  34.4759,2,-999.0000,9,    172.0,3,  -999.00,5,     0.00,3,     1.07,3
    49TU9101_2,  PR18,  PN-1,  1,   -999,      5,2,19910129,0143, 27.4970, 128.2465, 1009,    604.3,   9.6080,  34.3629,2,-999.0000,9,    142.0,3,  -999.00,5,     0.00,3,     1.68,3
    49TU9101_2,  PR18,  PN-1,  1,   -999,      4,2,19910129,0143, 27.4970, 128.2465, 1009,    705.2,   7.8690,  34.3269,2,-999.0000,9,    119.0,3,  -999.00,5,     0.01,3,     2.07,3
    49TU9101_2,  PR18,  PN-1,  1,   -999,      3,2,19910129,0143, 27.4970, 128.2465, 1009,    806.7,   7.1050,  34.3239,2,-999.0000,9,    110.0,3,  -999.00,5,     0.00,3,     2.27,3
    49TU9101_2,  PR18,  PN-1,  1,   -999,      2,2,19910129,0143, 27.4970, 128.2465, 1009,    906.9,   6.1310,  34.3399,2,-999.0000,9,     97.0,3,  -999.00,5,     0.01,3,     2.50,3
    49TU9101_2,  PR18,  PN-1,  1,   -999,      1,2,19910129,0143, 27.4970, 128.2465, 1009,    986.6,   5.9660,  34.3299,2,-999.0000,9,     95.0,3,  -999.00,5,     0.00,3,     2.58,3
    49TU9101_2,  PR18,  PN-1,  2,   -999,   -999,2,19910129,0227, 27.4735, 128.2153, -999,      0.7,  20.8970,  34.8887,2,-999.0000,9,    219.0,3,  -999.00,5,     0.11,3,     0.04,3
    49TU9101_2,  PR18,  PN-1,  2,   -999,      6,2,19910129,0227, 27.4735, 128.2153, -999,      9.5,  20.9050,  34.8887,2,-999.0000,9,    218.0,3,  -999.00,5,     0.10,3,     0.04,3
    49TU9101_2,  PR18,  PN-1,  2,   -999,      5,2,19910129,0227, 27.4735, 128.2153, -999,     19.8,  20.9090,  34.8887,2,-999.0000,9,    218.0,3,  -999.00,5,     0.09,3,     0.04,3
    49TU9101_2,  PR18,  PN-1,  2,   -999,      4,2,19910129,0227, 27.4735, 128.2153, -999,     29.7,  20.9110,  34.8887,2,-999.0000,9,    218.0,3,  -999.00,5,     0.09,3,     0.03,3
    49TU9101_2,  PR18,  PN-1,  2,   -999,      3,2,19910129,0227, 27.4735, 128.2153, -999,     50.8,  20.9160,  34.8887,2,-999.0000,9,    218.0,3,  -999.00,5,     0.09,3,     0.03,3
    49TU9101_2,  PR18,  PN-1,  2,   -999,      2,2,19910129,0227, 27.4735, 128.2153, -999,     75.3,  20.9200,  34.8877,2,-999.0000,9,    218.0,3,  -999.00,5,     0.11,3,     0.03,3
    49TU9101_2,  PR18,  PN-1,  2,   -999,      1,2,19910129,0227, 27.4735, 128.2153, -999,    101.0,  20.9200,  34.8877,2,-999.0000,9,    218.0,3,  -999.00,5,     0.10,3,     0.03,3
    49TU9101_2,  PR18,  PN-1,  2,   -999,     12,2,19910129,0227, 27.4735, 128.2153, -999,    125.9,  20.9210,  34.8867,2,-999.0000,9,    218.0,3,  -999.00,5,     0.10,3,     0.03,3
    49TU9101_2,  PR18,  PN-1,  2,   -999,     11,2,19910129,0227, 27.4735, 128.2153, -999,    151.0,  20.8840,  34.8817,2,-999.0000,9,    218.0,3,  -999.00,5,     0.12,3,     0.03,3
    49TU9101_2,  PR18,  PN-1,  2,   -999,     10,2,19910129,0227, 27.4735, 128.2153, -999,    202.1,  20.8070,  34.8767,2,-999.0000,9,    217.0,3,  -999.00,5,     0.13,3,     0.04,3
    49TU9101_2,  PR18,  PN-1,  2,   -999,      9,2,19910129,0227, 27.4735, 128.2153, -999,    250.5,  18.4270,  34.8248,2,-999.0000,9,    198.0,3,  -999.00,5,     0.01,3,     0.21,3
    49TU9101_2,  PR18,  PN-1,  2,   -999,      8,2,19910129,0227, 27.4735, 128.2153, -999,    302.1,  17.8210,  34.7988,2,-999.0000,9,    197.0,3,  -999.00,5,     0.00,3,     0.28,3