BOTTLE,20010625WHPSIOKJU
#code : jjward hyd_to_exchange.pl 
#original files copied from HTML directory: 20010625
#original HYD file: pr18_ahy.txt   Tue Mar 27 15:21:14 2001
#original SUM file: pr18_asu.txt   Mon Jun 25 13:49:55 2001
EXPOCODE,SECT_ID,STNNBR,CASTNO,SAMPNO,BTLNBR,BTLNBR_FLAG_W,DATE,TIME,LATITUDE,LONGITUDE,DEPTH,CTDPRS,CTDTMP,CTDSAL,CTDSAL_FLAG_W,SALNTY,SALNTY_FLAG_W,OXYGEN,OXYGEN_FLAG_W,NITRAT,NITRAT_FLAG_W,NITRIT,NITRIT_FLAG_W,PHSPHT,PHSPHT_FLAG_W
,,,,,,,,,,,,DBAR,ITS-90,PSS-78,,PSS-78,,UMOL/KG,,UMOL/KG,,UMOL/KG,,UMOL/KG,
    49TU9101_2,  PR18,  PN-9,  1,   -999,   -999,2,19910127,0142, 29.9930, 124.5065,   69,      0.7,  14.4170,  33.9699,2,-999.0000,9,    254.0,3,     3.80,3,     0.17,3,     0.41,3
    49TU9101_2,  PR18,  PN-9,  1,   -999,      4,2,19910127,0142, 29.9930, 124.5065,   69,      9.8,  14.4260,  33.9689,2,-999.0000,9,    254.0,3,     3.80,3,     0.17,3,     0.42,3
    49TU9101_2,  PR18,  PN-9,  1,   -999,      3,2,19910127,0142, 29.9930, 124.5065,   69,     19.6,  14.4220,  33.9699,2,-999.0000,9,    254.0,3,     3.70,3,     0.17,3,     0.44,3
    49TU9101_2,  PR18,  PN-9,  1,   -999,      2,2,19910127,0142, 29.9930, 124.5065,   69,     29.8,  14.4220,  33.9699,2,-999.0000,9,    254.0,3,     3.80,3,     0.18,3,     0.42,3
    49TU9101_2,  PR18,  PN-9,  1,   -999,      1,2,19910127,0142, 29.9930, 124.5065,   69,     50.3,  14.4200,  33.9709,2,-999.0000,9,    253.0,3,     3.90,3,     0.18,3,     0.43,3
    49TU9101_2,  PR18,  PN-9,  1,   -999,     12,2,19910127,0142, 29.9930, 124.5065,   69,     63.2,  14.4220,  33.9709,2,-999.0000,9,    253.0,3,     3.80,3,     0.18,3,     0.42,3
    49TU9101_2,  PR18,  PN-l,  1,   -999,      3,2,19910127,0423, 29.7945, 124.7907,   72,      9.9,  15.4090,  34.0259,2,  34.0270,2,   -999.0,9,  -999.00,9,  -999.00,9,  -999.00,9
    49TU9101_2,  PR18,  PN-l,  1,   -999,      2,2,19910127,0423, 29.7945, 124.7907,   72,     19.3,  15.4040,  34.0249,2,  34.0240,2,   -999.0,9,  -999.00,9,  -999.00,9,  -999.00,9
    49TU9101_2,  PR18,  PN-l,  1,   -999,      1,2,19910127,0423, 29.7945, 124.7907,   72,     29.7,  15.4000,  34.0249,2,  34.0230,2,   -999.0,9,  -999.00,9,  -999.00,9,  -999.00,9
    49TU9101_2,  PR18,  PN-l,  1,   -999,     12,2,19910127,0423, 29.7945, 124.7907,   72,     51.2,  15.3880,  34.0219,2,  34.0220,2,   -999.0,9,  -999.00,9,  -999.00,9,  -999.00,9
    49TU9101_2,  PR18,  PN-l,  1,   -999,     11,2,19910127,0423, 29.7945, 124.7907,   72,     68.8,  15.3970,  34.0229,2,  34.0220,2,   -999.0,9,  -999.00,9,  -999.00,9,  -999.00,9
    49TU9101_2,  PR18,  PN-8,  1,   -999,   -999,2,19910127,0625, 29.5970, 125.0995,   87,      1.5,  16.1760,  34.1020,2,-999.0000,9,    243.0,3,     2.50,3,     0.16,3,     0.30,3
    49TU9101_2,  PR18,  PN-8,  1,   -999,      8,2,19910127,0625, 29.5970, 125.0995,   87,     10.1,  16.1870,  34.1010,2,-999.0000,9,    242.0,3,     2.50,3,     0.16,3,     0.30,3
    49TU9101_2,  PR18,  PN-8,  1,   -999,      7,2,19910127,0625, 29.5970, 125.0995,   87,     19.6,  16.1870,  34.1010,2,-999.0000,9,    243.0,3,     2.50,3,     0.16,3,     0.30,3
    49TU9101_2,  PR18,  PN-8,  1,   -999,      6,2,19910127,0625, 29.5970, 125.0995,   87,     30.5,  16.1840,  34.1010,2,-999.0000,9,    243.0,3,     2.50,3,     0.16,3,     0.30,3
    49TU9101_2,  PR18,  PN-8,  1,   -999,      5,2,19910127,0625, 29.5970, 125.0995,   87,     50.6,  16.1730,  34.1010,2,-999.0000,9,    242.0,3,     2.60,3,     0.16,3,     0.31,3
    49TU9101_2,  PR18,  PN-8,  1,   -999,      4,2,19910127,0625, 29.5970, 125.0995,   87,     82.7,  16.1350,  34.0980,2,-999.0000,9,    240.0,3,     2.60,3,     0.16,3,     0.30,3
    49TU9101_2,  PR18,  PN-7,  1,   -999,   -999,2,19910127,0956, 29.3063, 125.5427,   95,      0.8,  17.0340,  34.3849,2,-999.0000,9,    238.0,3,     3.00,3,     0.16,3,     0.30,3
    49TU9101_2,  PR18,  PN-7,  1,   -999,      2,2,19910127,0956, 29.3063, 125.5427,   95,      9.1,  17.0480,  34.3849,2,-999.0000,9,    237.0,3,     2.90,3,     0.16,3,     0.31,3
    49TU9101_2,  PR18,  PN-7,  1,   -999,      1,2,19910127,0956, 29.3063, 125.5427,   95,     19.4,  17.0470,  34.3859,2,-999.0000,9,    237.0,3,     2.80,3,     0.16,3,     0.31,3
    49TU9101_2,  PR18,  PN-7,  1,   -999,     12,2,19910127,0956, 29.3063, 125.5427,   95,     29.3,  17.0430,  34.3849,2,-999.0000,9,    237.0,3,     2.90,3,     0.16,3,     0.31,3
    49TU9101_2,  PR18,  PN-7,  1,   -999,     11,2,19910127,0956, 29.3063, 125.5427,   95,     49.9,  17.0530,  34.3849,2,-999.0000,9,    237.0,3,     2.90,3,     0.16,3,     0.31,3
    49TU9101_2,  PR18,  PN-7,  1,   -999,     10,2,19910127,0956, 29.3063, 125.5427,   95,     75.1,  17.0620,  34.3879,2,-999.0000,9,    237.0,3,     3.00,3,     0.16,3,     0.32,3
    49TU9101_2,  PR18,  PN-7,  1,   -999,      9,2,19910127,0956, 29.3063, 125.5427,   95,     90.2,  17.0370,  34.4039,2,-999.0000,9,    236.0,3,     3.20,3,     0.15,3,     0.33,3
    49TU9101_2,  PR18,  PN-6,  1,   -999,   -999,2,19910127,1322, 28.9935, 125.9998,  121,      1.2,  17.1780,  34.4259,2,-999.0000,9,    231.0,3,     3.70,3,     0.13,3,     0.32,3
    49TU9101_2,  PR18,  PN-6,  1,   -999,      9,2,19910127,1322, 28.9935, 125.9998,  121,      9.5,  17.1870,  34.4249,2,-999.0000,9,    229.0,3,     3.70,3,     0.13,3,     0.32,3
    49TU9101_2,  PR18,  PN-6,  1,   -999,      8,2,19910127,1322, 28.9935, 125.9998,  121,     19.4,  17.1920,  34.4259,2,-999.0000,9,    224.0,3,     3.70,3,     0.13,3,     0.33,3
    49TU9101_2,  PR18,  PN-6,  1,   -999,      7,2,19910127,1322, 28.9935, 125.9998,  121,     30.6,  17.1960,  34.4259,2,-999.0000,9,    229.0,3,     3.80,3,     0.14,3,     0.33,3
    49TU9101_2,  PR18,  PN-6,  1,   -999,      6,2,19910127,1322, 28.9935, 125.9998,  121,     50.6,  17.2000,  34.4259,2,-999.0000,9,    230.0,3,     3.70,3,     0.13,3,     0.32,3
    49TU9101_2,  PR18,  PN-6,  1,   -999,      5,2,19910127,1322, 28.9935, 125.9998,  121,     75.2,  17.2070,  34.4259,2,-999.0000,9,    229.0,3,     3.80,3,     0.13,3,     0.33,3
    49TU9101_2,  PR18,  PN-6,  1,   -999,      4,2,19910127,1322, 28.9935, 125.9998,  121,    101.1,  17.2120,  34.4259,2,-999.0000,9,    230.0,3,     3.70,3,     0.14,3,     0.34,3
    49TU9101_2,  PR18,  PN-6,  1,   -999,      3,2,19910127,1322, 28.9935, 125.9998,  121,    116.6,  17.2120,  34.4259,2,-999.0000,9,    230.0,3,     3.80,3,     0.14,3,     0.31,3
    49TU9101_2,  PR18,  PN-5,  1,   -999,   -999,2,19910127,1632, 28.6945, 126.4478,  128,      2.1,  18.3210,  34.6038,2,-999.0000,9,    229.0,3,     2.10,3,     0.34,3,     0.23,3
    49TU9101_2,  PR18,  PN-5,  1,   -999,      4,2,19910127,1632, 28.6945, 126.4478,  128,      9.9,  18.3370,  34.6028,2,-999.0000,9,    228.0,3,     2.00,3,     0.34,3,     0.23,3
    49TU9101_2,  PR18,  PN-5,  1,   -999,      3,2,19910127,1632, 28.6945, 126.4478,  128,     20.4,  18.3390,  34.6038,2,-999.0000,9,    228.0,3,     2.10,3,     0.34,3,     0.23,3
    49TU9101_2,  PR18,  PN-5,  1,   -999,      2,2,19910127,1632, 28.6945, 126.4478,  128,     30.3,  18.3410,  34.6038,2,-999.0000,9,    229.0,3,     2.10,3,     0.34,3,     0.23,3
    49TU9101_2,  PR18,  PN-5,  1,   -999,      1,2,19910127,1632, 28.6945, 126.4478,  128,     50.0,  18.3530,  34.6048,2,-999.0000,9,    228.0,3,     2.20,3,     0.34,3,     0.23,3
    49TU9101_2,  PR18,  PN-5,  1,   -999,     12,2,19910127,1632, 28.6945, 126.4478,  128,     75.2,  18.3220,  34.5968,2,-999.0000,9,    228.0,3,     2.20,3,     0.34,3,     0.24,3
    49TU9101_2,  PR18,  PN-5,  1,   -999,     11,2,19910127,1632, 28.6945, 126.4478,  128,    100.8,  18.3040,  34.5918,2,-999.0000,9,    228.0,3,     2.30,3,     0.33,3,     0.25,3
    49TU9101_2,  PR18,  PN-5,  1,   -999,     10,2,19910127,1632, 28.6945, 126.4478,  128,    122.2,  16.5900,  34.4879,2,-999.0000,9,    206.0,3,     6.50,3,     0.15,3,     0.53,3
    49TU9101_2,  PR18, PN-4',  1,   -999,   -999,2,19910128,0427, 28.5502, 126.6798,  152,      2.1,  21.2380,  34.7028,2,-999.0000,9,    221.0,3,  -999.00,5,     0.06,3,     0.04,3
    49TU9101_2,  PR18, PN-4',  1,   -999,     12,2,19910128,0427, 28.5502, 126.6798,  152,      9.3,  21.2550,  34.7008,2,-999.0000,9,    220.0,3,  -999.00,5,     0.06,3,     0.05,3
    49TU9101_2,  PR18, PN-4',  1,   -999,     11,2,19910128,0427, 28.5502, 126.6798,  152,     19.9,  21.2600,  34.7008,2,-999.0000,9,    220.0,3,  -999.00,5,     0.06,3,     0.04,3
    49TU9101_2,  PR18, PN-4',  1,   -999,     10,2,19910128,0427, 28.5502, 126.6798,  152,     29.9,  21.2530,  34.7018,2,-999.0000,9,    220.0,3,  -999.00,5,     0.05,3,     0.04,3
    49TU9101_2,  PR18, PN-4',  1,   -999,      9,2,19910128,0427, 28.5502, 126.6798,  152,     50.6,  19.3220,  34.5468,2,-999.0000,9,    200.0,3,  -999.00,5,     0.08,3,     0.22,3
    49TU9101_2,  PR18, PN-4',  1,   -999,      8,2,19910128,0427, 28.5502, 126.6798,  152,     75.4,  19.2000,  34.7168,2,-999.0000,9,    223.0,3,  -999.00,5,     0.54,3,     0.14,3
    49TU9101_2,  PR18, PN-4',  1,   -999,      7,2,19910128,0427, 28.5502, 126.6798,  152,    100.5,  18.8580,  34.7118,2,-999.0000,9,    223.0,3,  -999.00,5,     0.49,3,     0.18,3
    49TU9101_2,  PR18, PN-4',  1,   -999,      6,2,19910128,0427, 28.5502, 126.6798,  152,    125.8,  17.6520,  34.6568,2,-999.0000,9,    203.0,3,  -999.00,5,     0.22,3,     0.41,3
    49TU9101_2,  PR18, PN-4',  1,   -999,      5,2,19910128,0427, 28.5502, 126.6798,  152,    145.9,  14.2820,  34.5209,2,-999.0000,9,    172.0,3,  -999.00,5,     0.08,3,     0.96,3
    49TU9101_2,  PR18, PN-f',  1,   -999,      9,2,19910128,0536, 28.4838, 126.8030,  214,      9.7,  20.9750,  34.5928,2,  34.5890,2,   -999.0,9,  -999.00,9,  -999.00,9,  -999.00,9
    49TU9101_2,  PR18, PN-f',  1,   -999,      8,2,19910128,0536, 28.4838, 126.8030,  214,     20.1,  20.9860,  34.5938,2,  34.5890,2,   -999.0,9,  -999.00,9,  -999.00,9,  -999.00,9
    49TU9101_2,  PR18, PN-f',  1,   -999,      7,2,19910128,0536, 28.4838, 126.8030,  214,     29.8,  20.9360,  34.5858,2,  34.5840,2,   -999.0,9,  -999.00,9,  -999.00,9,  -999.00,9
    49TU9101_2,  PR18, PN-f',  1,   -999,      6,2,19910128,0536, 28.4838, 126.8030,  214,     50.9,  20.6690,  34.6408,2,  34.6480,2,   -999.0,9,  -999.00,9,  -999.00,9,  -999.00,9
    49TU9101_2,  PR18, PN-f',  1,   -999,      5,2,19910128,0536, 28.4838, 126.8030,  214,     76.4,  19.6190,  34.7358,2,  34.7360,2,   -999.0,9,  -999.00,9,  -999.00,9,  -999.00,9
    49TU9101_2,  PR18, PN-f',  1,   -999,      4,2,19910128,0536, 28.4838, 126.8030,  214,    100.6,  18.6540,  34.6878,2,  34.6830,2,   -999.0,9,  -999.00,9,  -999.00,9,  -999.00,9
    49TU9101_2,  PR18, PN-f',  1,   -999,      3,2,19910128,0536, 28.4838, 126.8030,  214,    125.2,  17.4270,  34.6568,2,  34.6540,2,   -999.0,9,  -999.00,9,  -999.00,9,  -999.00,9
    49TU9101_2,  PR18, PN-f',  1,   -999,      2,2,19910128,0536, 28.4838, 126.8030,  214,    151.1,  16.3390,  34.6258,2,  34.6240,2,   -999.0,9,  -999.00,9,  -999.00,9,  -999.00,9
    49TU9101_2,  PR18, PN-f',  1,   -999,      1,2,19910128,0536, 28.4838, 126.8030,  214,    203.1,  11.0870,  34.3879,2,  34.3900,2,   -999.0,9,  -999.00,9,  -999.00,9,  -999.00,9
    49TU9101_2,  PR18,  PN-4,  1,   -999,   -999,2,19910128,0655, 28.4078, 126.9035,  277,      0.0,  20.5530,  34.6608,2,-999.0000,9,    227.0,3,  -999.00,5,     0.07,3,     0.03,3
    49TU9101_2,  PR18,  PN-4,  1,   -999,      7,2,19910128,0655, 28.4078, 126.9035,  277,     10.0,  20.5870,  34.6578,2,-999.0000,9,    229.0,3,  -999.00,5,     0.08,3,     0.04,3
    49TU9101_2,  PR18,  PN-4,  1,   -999,      8,2,19910128,0655, 28.4078, 126.9035,  277,     20.9,  20.5670,  34.6638,2,-999.0000,9,    228.0,3,  -999.00,5,     0.08,3,     0.04,3
    49TU9101_2,  PR18,  PN-4,  1,   -999,      6,2,19910128,0655, 28.4078, 126.9035,  277,     30.3,  20.5530,  34.6758,2,-999.0000,9,    227.0,3,  -999.00,5,     0.11,3,     0.05,3
    49TU9101_2,  PR18,  PN-4,  1,   -999,      5,2,19910128,0655, 28.4078, 126.9035,  277,     49.9,  19.7930,  34.6918,2,-999.0000,9,    223.0,3,  -999.00,5,     0.30,3,     0.10,3
    49TU9101_2,  PR18,  PN-4,  1,   -999,      4,2,19910128,0655, 28.4078, 126.9035,  277,     76.4,  19.1920,  34.7228,2,-999.0000,9,    223.0,3,  -999.00,5,     0.58,3,     0.12,3
    49TU9101_2,  PR18,  PN-4,  1,   -999,      3,2,19910128,0655, 28.4078, 126.9035,  277,    101.8,  19.0340,  34.7158,2,-999.0000,9,    222.0,3,  -999.00,5,     0.43,3,     0.21,3
    49TU9101_2,  PR18,  PN-4,  1,   -999,      2,2,19910128,0655, 28.4078, 126.9035,  277,    126.3,  18.8980,  34.7158,2,-999.0000,9,    217.0,3,  -999.00,5,     0.43,3,     0.23,3
    49TU9101_2,  PR18,  PN-4,  1,   -999,      1,2,19910128,0655, 28.4078, 126.9035,  277,    150.2,  18.7670,  34.7148,2,-999.0000,9,    221.0,3,  -999.00,5,     0.48,3,     0.25,3
    49TU9101_2,  PR18,  PN-4,  1,   -999,     12,2,19910128,0655, 28.4078, 126.9035,  277,    201.3,  13.1850,  34.5329,2,-999.0000,9,    167.0,3,  -999.00,5,     0.02,3,     1.10,3
    49TU9101_2,  PR18,  PN-4,  1,   -999,     11,2,19910128,0655, 28.4078, 126.9035,  277,    250.9,   9.9340,  34.3309,2,-999.0000,9,    147.0,3,  -999.00,5,     0.02,3,     1.64,3
    49TU9101_2,  PR18,  PN-4,  1,   -999,     10,2,19910128,0655, 28.4078, 126.9035,  277,    261.0,   9.8830,  34.3269,2,-999.0000,9,    146.0,3,  -999.00,5,     0.02,3,     1.66,3
    49TU9101_2,  PR18, PN-3',  1,   -999,      3,2,19910128,1019, 28.2468, 127.1410,  977,    403.0,  10.4620,  34.3389,2,-999.0000,9,    157.0,3,    20.10,3,     0.02,3,     1.46,3
    49TU9101_2,  PR18, PN-3',  1,   -999,      2,2,19910128,1019, 28.2468, 127.1410,  977,    504.4,   7.6810,  34.2560,2,-999.0000,9,    119.0,3,    29.00,3,     0.01,3,     2.12,3
    49TU9101_2,  PR18, PN-3',  1,   -999,      1,2,19910128,1019, 28.2468, 127.1410,  977,    604.8,   6.6790,  34.2859,2,-999.0000,9,    105.0,3,    31.90,3,     0.01,3,     2.39,3
    49TU9101_2,  PR18, PN-3',  1,   -999,     12,2,19910128,1019, 28.2468, 127.1410,  977,    705.1,   5.9660,  34.3379,2,-999.0000,9,     92.0,3,    34.40,3,     0.01,3,     2.57,3
    49TU9101_2,  PR18, PN-3',  1,   -999,     11,2,19910128,1019, 28.2468, 127.1410,  977,    806.6,   5.3930,  34.3669,2,-999.0000,9,     85.0,3,    36.00,3,     0.01,3,     2.74,3
    49TU9101_2,  PR18, PN-3',  1,   -999,     10,2,19910128,1019, 28.2468, 127.1410,  977,    906.6,   5.0960,  34.3809,2,-999.0000,9,     82.0,3,    36.60,3,     0.01,3,     2.75,3
    49TU9101_2,  PR18, PN-3',  1,   -999,      9,2,19910128,1019, 28.2468, 127.1410,  977,    941.5,   4.9980,  34.3859,2,-999.0000,9,     81.0,3,    37.00,3,     0.01,3,     2.80,3
    49TU9101_2,  PR18, PN-3',  2,   -999,   -999,2,19910128,1102, 28.2713, 127.1498, -999,      0.3,  22.3000,  34.6278,2,-999.0000,9,    217.0,3,     0.10,3,     0.07,3,     0.05,3
    49TU9101_2,  PR18, PN-3',  2,   -999,      2,2,19910128,1102, 28.2713, 127.1498, -999,      8.4,  22.3000,  34.6278,2,-999.0000,9,    215.0,3,     0.10,3,     0.06,3,     0.04,3
    49TU9101_2,  PR18, PN-3',  2,   -999,      1,2,19910128,1102, 28.2713, 127.1498, -999,     19.8,  22.3060,  34.6398,2,-999.0000,9,    216.0,3,     0.10,3,     0.07,3,     0.03,3
    49TU9101_2,  PR18, PN-3',  2,   -999,     12,2,19910128,1102, 28.2713, 127.1498, -999,     29.4,  22.2180,  34.7068,2,-999.0000,9,    215.0,3,     0.10,3,     0.08,3,     0.03,3
    49TU9101_2,  PR18, PN-3',  2,   -999,     11,2,19910128,1102, 28.2713, 127.1498, -999,     50.7,  22.2080,  34.7428,2,-999.0000,9,    212.0,3,     0.30,3,     0.10,3,     0.04,3
    49TU9101_2,  PR18, PN-3',  2,   -999,     10,2,19910128,1102, 28.2713, 127.1498, -999,     75.2,  22.1850,  34.7658,2,-999.0000,9,    213.0,3,     0.10,3,     0.10,3,     0.03,3
    49TU9101_2,  PR18, PN-3',  2,   -999,      9,2,19910128,1102, 28.2713, 127.1498, -999,    100.3,  21.7230,  34.7538,2,-999.0000,9,    197.0,3,     1.60,3,     0.07,3,     0.11,3
    49TU9101_2,  PR18, PN-3',  2,   -999,      8,2,19910128,1102, 28.2713, 127.1498, -999,    126.4,  20.1070,  34.7008,2,-999.0000,9,    192.0,3,     3.90,3,     0.06,3,     0.22,3
    49TU9101_2,  PR18, PN-3',  2,   -999,      7,2,19910128,1102, 28.2713, 127.1498, -999,    150.6,  19.4950,  34.7008,2,-999.0000,9,    190.0,3,     4.70,3,     0.05,3,     0.30,3
    49TU9101_2,  PR18, PN-3',  2,   -999,      6,2,19910128,1102, 28.2713, 127.1498, -999,    200.0,  18.2160,  34.7198,2,-999.0000,9,    191.0,3,     5.70,3,     0.03,3,     0.36,3
    49TU9101_2,  PR18, PN-3',  2,   -999,      5,2,19910128,1102, 28.2713, 127.1498, -999,    251.4,  16.4960,  34.7398,2,-999.0000,9,    197.0,3,     6.50,3,     0.02,3,     0.29,3
    49TU9101_2,  PR18, PN-3',  2,   -999,      4,2,19910128,1102, 28.2713, 127.1498, -999,    299.6,  14.6460,  34.5948,2,-999.0000,9,    193.0,3,     9.60,3,     0.02,3,     0.61,3
    49TU9101_2,  PR18,  PN-3,  1,   -999,      9,2,19910128,1412, 28.1010, 127.3532, 1003,    402.0,  13.1550,  34.4839,2,  34.4860,2,    185.0,3,  -999.00,5,     0.01,3,     0.89,3
    49TU9101_2,  PR18,  PN-3,  1,   -999,      8,2,19910128,1412, 28.1010, 127.3532, 1003,    503.5,  10.9940,  34.3699,2,  34.3680,2,    161.0,3,  -999.00,5,     0.01,3,     1.39,3
    49TU9101_2,  PR18,  PN-3,  1,   -999,      7,2,19910128,1412, 28.1010, 127.3532, 1003,    605.2,   8.2460,  34.3009,2,  34.3000,2,    124.0,3,  -999.00,5,     0.01,3,     2.03,3
    49TU9101_2,  PR18,  PN-3,  1,   -999,      6,2,19910128,1412, 28.1010, 127.3532, 1003,    706.5,   6.6040,  34.2979,2,  34.3000,2,    103.0,3,  -999.00,5,     0.01,3,     2.41,3
    49TU9101_2,  PR18,  PN-3,  1,   -999,      5,2,19910128,1412, 28.1010, 127.3532, 1003,    807.7,   5.4640,  34.3379,2,  34.3400,2,     87.0,3,  -999.00,5,     0.01,3,     2.63,3
    49TU9101_2,  PR18,  PN-3,  1,   -999,      4,2,19910128,1412, 28.1010, 127.3532, 1003,    909.9,   4.9760,  34.3819,2,  34.3830,2,     81.0,3,  -999.00,5,     0.01,3,     2.73,3
    49TU9101_2,  PR18,  PN-3,  1,   -999,      3,2,19910128,1412, 28.1010, 127.3532, 1003,    981.1,   4.5360,  34.4069,2,  34.4100,2,     80.0,3,  -999.00,5,     0.01,3,     2.83,3