BOTTLE,20060405WHPSIOdm
EXPOCODE,SECT_ID,STNNBR,CASTNO,SAMPNO,BTLNBR,BTLNBR_FLAG_W,DATE,TIME,LATITUDE,LONGITUDE,DEPTH,CTDRAW,CTDPRS,CTDTMP,CTDSAL,CTDSAL_FLAG_W,SALNTY,SALNTY_FLAG_W,CTDOXY,CTDOXY_FLAG_W,THETA,OXYGEN,OXYGEN_FLAG_W,SILCAT,SILCAT_FLAG_W,NITRAT,NITRAT_FLAG_W,NITRIT,NITRIT_FLAG_W,PHSPHT,PHSPHT_FLAG_W,TRITUM,TRITUM_FLAG_W,TCARBN,TCARBN_FLAG_W,REVPRS,REVPRS_FLAG_W,TRITER,TRITER_FLAG_W,REVTMP,REVTMP_FLAG_W
,,,,,,,,,,,,,DBAR,ITS-90,PSS-78,,PSS-78,,UMOL/KG,,DEG C,UMOL/KG,,UMOL/KG,,UMOL/KG,,UMOL/KG,,UMOL/KG,,TU,,UMOL/KG,,DBAR,,TU,,ITS-90,
    316N198301, ATAS3,   132,  1,      8,      8,2,19830218,0856, -8.6183, -34.5850, 1187,   23.3,      1.5,  27.7414,  37.0411,2,-999.0000,9,   -999.0,9, 27.7411,    198.9,2,  -999.00,9,  -999.00,9,  -999.00,9,  -999.00,9, -999.000,9,   -999.0,9,  -999.0,9,-999.000,9,-999.000,9
    316N198301, ATAS3,   132,  1,      1,      1,2,19830218,0856, -8.6183, -34.5850, 1187,   36.0,     11.5,  27.7374,  37.0411,2,  37.0410,2,   -999.0,9, 27.7347,    198.9,2,     1.37,2,     0.11,2,     0.01,2,     0.07,2, -999.000,9,   -999.0,9,  -999.0,9,-999.000,9,-999.000,9
    316N198301, ATAS3,   132,  1,      2,      2,2,19830218,0856, -8.6183, -34.5850, 1187,   36.8,     11.5,  27.7395,  37.0417,2,-999.0000,9,   -999.0,9, 27.7367,   -999.0,9,  -999.00,9,  -999.00,9,  -999.00,9,  -999.00,9, -999.000,9,   -999.0,9,  -999.0,9,-999.000,9,-999.000,9
    316N198301, ATAS3,   132,  1,      5,      5,2,19830218,0856, -8.6183, -34.5850, 1187,   37.5,     11.5,  27.7395,  37.0424,2,-999.0000,9,   -999.0,9, 27.7367,   -999.0,9,  -999.00,9,  -999.00,9,  -999.00,9,  -999.00,9, -999.000,9,   -999.0,9,  -999.0,9,-999.000,9,-999.000,9
    316N198301, ATAS3,   132,  1,      6,      6,2,19830218,0856, -8.6183, -34.5850, 1187,   37.7,     11.5,  27.7395,  37.0417,2,-999.0000,9,   -999.0,9, 27.7367,   -999.0,9,  -999.00,9,  -999.00,9,  -999.00,9,  -999.00,9, -999.000,9,   -999.0,9,  -999.0,9,-999.000,9,-999.000,9
    316N198301, ATAS3,   132,  1,      7,      7,2,19830218,0856, -8.6183, -34.5850, 1187,   37.3,     11.5,  27.7374,  37.0425,2,-999.0000,9,   -999.0,9, 27.7347,   -999.0,9,  -999.00,9,  -999.00,9,  -999.00,9,  -999.00,9, -999.000,9,   -999.0,9,  -999.0,9,-999.000,9,-999.000,9
    316N198301, ATAS3,   132,  1,      3,      3,2,19830218,0856, -8.6183, -34.5850, 1187,   37.6,     11.5,  27.7385,  37.0417,2,-999.0000,9,   -999.0,9, 27.7357,   -999.0,9,  -999.00,9,  -999.00,9,  -999.00,9,  -999.00,9, -999.000,9,   -999.0,9,  -999.0,9,-999.000,9,-999.000,9
    316N198301, ATAS3,   132,  1,      4,      4,2,19830218,0856, -8.6183, -34.5850, 1187,   37.9,     11.5,  27.7385,  37.0424,2,-999.0000,9,   -999.0,9, 27.7357,   -999.0,9,  -999.00,9,  -999.00,9,  -999.00,9,  -999.00,9, -999.000,9,   -999.0,9,  -999.0,9,-999.000,9,-999.000,9
    316N198301, ATAS3,   132,  1,      9,      9,2,19830218,0856, -8.6183, -34.5850, 1187,   74.4,     59.6,  25.6325,  37.1397,2,  37.1420,2,   -999.0,9, 25.6192,    211.8,2,     1.46,2,     0.11,2,     0.01,2,     0.14,2, -999.000,9,   -999.0,9,  -999.0,9,-999.000,9,-999.000,9
    316N198301, ATAS3,   132,  1,     10,     10,2,19830218,0856, -8.6183, -34.5850, 1187,  156.1,    143.1,  20.2676,  36.3652,2,  36.3770,2,   -999.0,9, 20.2407,    197.2,2,     1.76,2,     1.35,2,     0.04,2,     0.37,2, -999.000,9,   -999.0,9,  -999.0,9,-999.000,9,-999.000,9
    316N198301, ATAS3,   132,  1,     13,     13,2,19830218,0856, -8.6183, -34.5850, 1187,  276.5,    265.7,  13.5327,  35.2889,2,-999.0000,9,   -999.0,9, 13.4950,   -999.0,9,  -999.00,9,  -999.00,9,  -999.00,9,  -999.00,9, -999.000,9,   -999.0,9,  -999.0,9,-999.000,9,-999.000,9
    316N198301, ATAS3,   132,  1,     12,     12,2,19830218,0856, -8.6183, -34.5850, 1187,  276.4,    265.7,  13.4117,  35.2703,2,-999.0000,9,   -999.0,9, 13.3742,   -999.0,9,  -999.00,9,  -999.00,9,  -999.00,9,  -999.00,9, -999.000,9,   -999.0,9,  -999.0,9,-999.000,9,-999.000,9
    316N198301, ATAS3,   132,  1,     14,     14,2,19830218,0856, -8.6183, -34.5850, 1187,  276.5,    265.8,  13.4057,  35.2682,2,-999.0000,9,   -999.0,9, 13.3682,   -999.0,9,  -999.00,9,  -999.00,9,  -999.00,9,  -999.00,9, -999.000,9,   -999.0,9,  -999.0,9,-999.000,9,-999.000,9
    316N198301, ATAS3,   132,  1,     11,     11,2,19830218,0856, -8.6183, -34.5850, 1187,  276.8,    265.9,  13.5687,  35.2934,2,  35.2940,2,   -999.0,9, 13.5309,    160.1,2,     5.47,2,    14.26,2,     0.03,2,     1.10,2, -999.000,9,   -999.0,9,   268.0,2,-999.000,9,  13.541,2
    316N198301, ATAS3,   132,  1,     15,     15,2,19830218,0856, -8.6183, -34.5850, 1187,  362.7,    353.1,  10.0978,  34.8447,2,  34.8490,2,   -999.0,9, 10.0563,    184.0,2,     9.09,2,    18.86,2,     0.04,2,     1.37,2, -999.000,9,   -999.0,9,  -999.0,9,-999.000,9,-999.000,9
    316N198301, ATAS3,   132,  1,     16,     16,2,19830218,0856, -8.6183, -34.5850, 1187,  400.1,    390.7,   9.3168,  34.8341,2,  34.8340,2,   -999.0,9,  9.2731,    115.7,2,    13.98,2,    29.03,2,     0.04,2,     1.87,2, -999.000,9,   -999.0,9,  -999.0,9,-999.000,9,-999.000,9
    316N198301, ATAS3,   132,  1,     17,     17,2,19830218,0856, -8.6183, -34.5850, 1187,  458.4,    450.1,   7.5018,  34.6070,2,  34.6090,2,   -999.0,9,  7.4575,    161.3,2,    16.52,2,    28.15,2,     0.04,2,     1.88,2, -999.000,9,   -999.0,9,   453.0,2,-999.000,9,   7.495,2
    316N198301, ATAS3,   132,  1,     18,     18,2,19830218,0856, -8.6183, -34.5850, 1187,  459.1,    450.7,   7.4868,  34.6075,2,-999.0000,9,   -999.0,9,  7.4425,   -999.0,9,  -999.00,9,  -999.00,9,  -999.00,9,  -999.00,9, -999.000,9,   -999.0,9,  -999.0,9,-999.000,9,-999.000,9
    316N198301, ATAS3,   132,  1,     20,     20,2,19830218,0856, -8.6183, -34.5850, 1187,  689.7,    683.5,   5.2769,  34.4253,2,-999.0000,9,   -999.0,9,  5.2201,   -999.0,9,  -999.00,9,  -999.00,9,  -999.00,9,  -999.00,9, -999.000,9,   -999.0,9,  -999.0,9,-999.000,9,-999.000,9
    316N198301, ATAS3,   132,  1,     19,     19,2,19830218,0856, -8.6183, -34.5850, 1187,  690.4,    684.2,   5.2899,  34.4265,2,  34.4290,2,   -999.0,9,  5.2330,    183.0,2,    24.34,2,    31.19,2,     0.05,2,     2.12,2, -999.000,9,   -999.0,9,   684.0,2,-999.000,9,   5.298,2
    316N198301, ATAS3,   132,  1,     21,     21,2,19830218,0856, -8.6183, -34.5850, 1187,  826.6,    821.5,   4.7599,  34.4439,2,  34.4440,2,   -999.0,9,  4.6941,    160.0,2,    30.01,2,    35.00,2,     0.04,2,     2.29,2, -999.000,9,   -999.0,9,   821.0,2,-999.000,9,   4.756,2
    316N198301, ATAS3,   132,  1,     22,     22,2,19830218,0856, -8.6183, -34.5850, 1187, 1044.5,   1040.9,   3.8579,  34.4851,2,  34.4860,2,   -999.0,9,  3.7800,    180.0,2,    38.03,2,    33.33,2,     0.04,2,     2.21,2, -999.000,9,   -999.0,9,  -999.0,9,-999.000,9,-999.000,9
    316N198301, ATAS3,   132,  1,     23,     23,2,19830218,0856, -8.6183, -34.5850, 1187, 1196.2,   1193.5,   3.8939,  34.6176,2,  34.6170,2,   -999.0,9,  3.8026,    180.4,2,    35.87,2,    31.67,2,     0.04,2,     2.12,2, -999.000,9,   -999.0,9,  -999.0,9,-999.000,9,-999.000,9