BOTTLE,20060405WHPSIOdm
EXPOCODE,SECT_ID,STNNBR,CASTNO,SAMPNO,BTLNBR,BTLNBR_FLAG_W,DATE,TIME,LATITUDE,LONGITUDE,DEPTH,CTDRAW,CTDPRS,CTDTMP,CTDSAL,CTDSAL_FLAG_W,SALNTY,SALNTY_FLAG_W,CTDOXY,CTDOXY_FLAG_W,THETA,OXYGEN,OXYGEN_FLAG_W,SILCAT,SILCAT_FLAG_W,NITRAT,NITRAT_FLAG_W,NITRIT,NITRIT_FLAG_W,PHSPHT,PHSPHT_FLAG_W,TRITUM,TRITUM_FLAG_W,TCARBN,TCARBN_FLAG_W,REVPRS,REVPRS_FLAG_W,TRITER,TRITER_FLAG_W,REVTMP,REVTMP_FLAG_W
,,,,,,,,,,,,,DBAR,ITS-90,PSS-78,,PSS-78,,UMOL/KG,,DEG C,UMOL/KG,,UMOL/KG,,UMOL/KG,,UMOL/KG,,UMOL/KG,,TU,,UMOL/KG,,DBAR,,TU,,ITS-90,
    316N198301, ATAS3,   106,  1,      3,      3,2,19830206,1958,  7.0100, -27.9867, 4249,  125.9,    123.0,  14.8652,  35.5801,2,  35.6050,2,   -999.0,9, 14.8467,    133.6,2,     7.23,2,    17.48,2,     0.01,2,     1.20,2, -999.000,9,   -999.0,9,  -999.0,9,-999.000,9,-999.000,9
    316N198301, ATAS3,   106,  1,      4,      4,2,19830206,1958,  7.0100, -27.9867, 4249,  202.2,    200.0,  11.8363,  35.1466,2,  35.1480,2,   -999.0,9, 11.8104,    133.1,2,     9.48,2,    21.69,2,     0.00,2,     1.49,2, -999.000,9,   -999.0,9,  -999.0,9,-999.000,9,-999.000,9
    316N198301, ATAS3,   106,  1,      5,      5,2,19830206,1958,  7.0100, -27.9867, 4249,  264.4,    262.0,  10.9923,  35.0596,2,  35.0570,2,   -999.0,9, 10.9599,    120.9,2,    11.24,2,    24.62,2,     0.00,2,     1.65,2, -999.000,9,   -999.0,9,  -999.0,9,-999.000,9,-999.000,9
    316N198301, ATAS3,   106,  1,      6,      6,2,19830206,1958,  7.0100, -27.9867, 4249,  308.2,    306.0,  10.4053,  34.9949,2,  34.9970,2,   -999.0,9, 10.3687,    124.8,2,    12.21,2,    25.60,2,     0.00,2,     1.70,2, -999.000,9,   -999.0,9,  -999.0,9,-999.000,9,-999.000,9
    316N198301, ATAS3,   106,  1,      7,      7,2,19830206,1958,  7.0100, -27.9867, 4249,  374.3,    372.0,   9.4943,  34.8969,2,-999.0000,9,   -999.0,9,  9.4522,   -999.0,9,  -999.00,9,  -999.00,9,  -999.00,9,  -999.00,9, -999.000,9,   -999.0,9,  -999.0,9,-999.000,9,-999.000,9
    316N198301, ATAS3,   106,  1,      8,      8,2,19830206,1958,  7.0100, -27.9867, 4249,  414.1,    412.0,   9.5073,  34.9558,2,  34.9550,2,   -999.0,9,  9.4605,     75.2,2,    15.54,2,    32.44,2,     0.00,2,     2.03,2, -999.000,9,   -999.0,9,  -999.0,9,-999.000,9,-999.000,9
    316N198301, ATAS3,   106,  1,      9,      9,2,19830206,1958,  7.0100, -27.9867, 4249,  444.0,    442.0,   9.1984,  34.9473,2,  34.9510,2,   -999.0,9,  9.1490,     60.0,2,    17.20,2,    34.79,2,     0.00,2,     2.16,2, -999.000,9,   -999.0,9,  -999.0,9,-999.000,9,-999.000,9
    316N198301, ATAS3,   106,  1,     10,     10,2,19830206,1958,  7.0100, -27.9867, 4249,  464.3,    462.0,   8.9794,  34.9330,2,  34.9240,2,   -999.0,9,  8.9285,     63.5,2,    17.79,2,    34.99,2,     0.01,2,     2.18,2, -999.000,9,   -999.0,9,  -999.0,9,-999.000,9,-999.000,9
    316N198301, ATAS3,   106,  1,     11,     11,2,19830206,1958,  7.0100, -27.9867, 4249,  526.0,    516.5,   7.5754,  34.7735,2,  34.7740,2,   -999.0,9,  7.5238,     79.6,2,    20.92,2,    36.16,2,     0.00,2,     2.29,2, -999.000,9,   -999.0,9,   520.0,2,-999.000,9,   7.565,2
    316N198301, ATAS3,   106,  1,     12,     12,2,19830206,1958,  7.0100, -27.9867, 4249,  713.6,    704.6,   5.8864,  34.6111,2,  34.6100,2,   -999.0,9,  5.8243,    118.7,2,    26.20,2,    36.07,2,     0.00,2,     2.37,2, -999.000,9,   -999.0,9,  -999.0,9,-999.000,9,-999.000,9
    316N198301, ATAS3,   106,  1,     13,     13,2,19830206,1958,  7.0100, -27.9867, 4249,  798.1,    789.3,   5.4404,  34.6067,2,  34.6090,2,   -999.0,9,  5.3731,    121.3,2,    27.96,2,    35.68,2,     0.00,2,     2.37,2, -999.000,9,   -999.0,9,  -999.0,9,-999.000,9,-999.000,9
    316N198301, ATAS3,   106,  1,     14,     14,2,19830206,1958,  7.0100, -27.9867, 4249, 1103.3,   1094.9,   4.8214,  34.7572,2,  34.7580,2,   -999.0,9,  4.7305,    155.6,2,    27.66,2,    31.28,2,     0.00,2,     2.12,2, -999.000,9,   -999.0,9,  -999.0,9,-999.000,9,-999.000,9
    316N198301, ATAS3,   106,  1,     15,     15,2,19830206,1958,  7.0100, -27.9867, 4249, 1353.3,   1345.7,   4.5234,  34.9192,2,  34.9200,2,   -999.0,9,  4.4119,    199.9,2,    21.79,2,    24.82,2,     0.00,2,     1.70,2, -999.000,9,   -999.0,9,  -999.0,9,-999.000,9,-999.000,9
    316N198301, ATAS3,   106,  1,     16,     16,2,19830206,1958,  7.0100, -27.9867, 4249, 1593.7,   1587.2,   4.0924,  34.9687,2,  34.9680,2,   -999.0,9,  3.9631,    233.8,2,    19.54,2,    21.01,2,     0.00,2,     1.46,2, -999.000,9,   -999.0,9,  -999.0,9,-999.000,9,-999.000,9
    316N198301, ATAS3,   106,  1,     17,     17,2,19830206,1958,  7.0100, -27.9867, 4249, 1997.0,   1992.6,   3.5455,  34.9563,2,  34.9580,2,   -999.0,9,  3.3854,    240.3,2,    22.38,2,    20.72,2,     0.01,2,     1.46,2, -999.000,9,   -999.0,9,  1998.0,2,-999.000,9,   3.543,2
    316N198301, ATAS3,   106,  1,     18,     18,2,19830206,1958,  7.0100, -27.9867, 4249, 2500.7,   2498.8,   2.9905,  34.9408,2,  34.9390,2,   -999.0,9,  2.7908,    248.5,2,    29.12,2,    20.42,2,     0.01,2,     1.43,2, -999.000,9,   -999.0,9,  -999.0,9,-999.000,9,-999.000,9
    316N198301, ATAS3,   106,  1,     19,     19,2,19830206,1958,  7.0100, -27.9867, 4249, 2904.1,   2904.1,   2.7525,  34.9253,2,  34.9250,2,   -999.0,9,  2.5170,    248.5,2,    34.11,2,    20.82,2,     0.01,2,     1.45,2, -999.000,9,   -999.0,9,  2903.0,2,-999.000,9,   2.751,2
    316N198301, ATAS3,   106,  1,     20,     20,2,19830206,1958,  7.0100, -27.9867, 4249, 3366.8,   3369.0,   2.5475,  34.9100,2,  34.9080,2,   -999.0,9,  2.2680,    249.4,2,    38.11,2,    21.01,2,     0.01,2,     1.48,2, -999.000,9,   -999.0,9,  -999.0,9,-999.000,9,-999.000,9
    316N198301, ATAS3,   106,  1,     21,     21,2,19830206,1958,  7.0100, -27.9867, 4249, 3594.1,   3597.4,   2.4555,  34.9033,2,  34.9020,2,   -999.0,9,  2.1536,    252.4,2,    39.38,2,    20.91,2,     0.01,2,     1.47,2, -999.000,9,   -999.0,9,  3596.0,2,-999.000,9,   2.454,2
    316N198301, ATAS3,   106,  1,     22,     22,2,19830206,1958,  7.0100, -27.9867, 4249, 4260.7,   4267.1,   2.3205,  34.8867,2,  34.8860,2,   -999.0,9,  1.9464,    256.8,2,    45.05,2,    21.60,2,     0.01,2,     1.50,2, -999.000,9,   -999.0,9,  -999.0,9,-999.000,9,-999.000,9
    316N198301, ATAS3,   106,  1,     23,     23,2,19830206,1958,  7.0100, -27.9867, 4249, 4315.7,   4322.3,   2.3135,  34.8861,2,  34.8870,2,   -999.0,9,  1.9332,    249.4,2,    45.54,2,    21.79,2,     0.01,2,     1.51,2, -999.000,9,   -999.0,9,  4331.0,2,-999.000,9,   2.316,2
    316N198301, ATAS3,   106,  3,      1,      1,2,19830206,2227,  7.0100, -27.9867, 4249,   36.2,     23.0,  26.5090,  35.9956,2,  35.9930,2,   -999.0,9, 26.5038,    202.4,2,     1.27,2,     0.02,2,     0.00,2,     0.10,2, -999.000,9,   -999.0,9,  -999.0,9,-999.000,9,-999.000,9
    316N198301, ATAS3,   106,  3,      2,      2,2,19830206,2227,  7.0100, -27.9867, 4249,   87.9,     79.2,  22.0881,  36.2133,2,  36.2180,2,   -999.0,9, 22.0723,    154.7,2,     3.03,2,     6.32,2,     0.11,2,     0.53,2, -999.000,9,   -999.0,9,  -999.0,9,-999.000,9,-999.000,9
    316N198301, ATAS3,   107,  1,      1,      1,2,19830207,0631,  5.9400, -28.0183, 4004,   44.3,     12.0,  26.8300,  35.9341,2,  35.9330,2,   -999.0,9, 26.8272,    202.5,2,     1.66,2,     0.00,2,     0.00,2,     0.07,2, -999.000,9,   -999.0,9,  -999.0,9,-999.000,9,  26.832,2
    316N198301, ATAS3,   107,  1,      2,      2,2,19830207,0631,  5.9400, -28.0183, 4004,   57.2,     32.0,  26.8370,  35.9361,2,  35.9310,2,   -999.0,9, 26.8296,    202.5,2,     1.66,2,     0.00,2,     0.00,2,     0.07,2,    1.310,2,   -999.0,9,  -999.0,9,   0.065,2,-999.000,9
    316N198301, ATAS3,   107,  1,      3,      3,2,19830207,0631,  5.9400, -28.0183, 4004,   88.1,     73.8,  24.8330,  36.2524,2,  36.2430,2,   -999.0,9, 24.8170,    182.2,2,     2.05,2,     0.83,2,     0.17,2,     0.20,2, -999.000,9,   -999.0,9,  -999.0,9,-999.000,9,-999.000,9
    316N198301, ATAS3,   107,  1,      4,      4,2,19830207,0631,  5.9400, -28.0183, 4004,  101.1,     91.0,  20.8781,  36.1649,2,  36.1720,2,   -999.0,9, 20.8606,    145.5,2,     4.00,2,     8.29,2,     0.06,2,     0.62,2, -999.000,9,   -999.0,9,  -999.0,9,-999.000,9,-999.000,9
    316N198301, ATAS3,   107,  1,      5,      5,2,19830207,0631,  5.9400, -28.0183, 4004,  142.7,    135.0,  14.2132,  35.4699,2,  35.4720,2,   -999.0,9, 14.1934,    127.9,2,     7.81,2,    18.95,2,     0.02,2,     1.27,2,    0.690,2,   -999.0,9,  -999.0,9,   0.055,2,-999.000,9
    316N198301, ATAS3,   107,  1,      6,      6,2,19830207,0631,  5.9400, -28.0183, 4004,  226.6,    221.0,  11.6512,  35.1343,2,  35.1370,2,   -999.0,9, 11.6229,    121.8,2,    10.26,2,    23.25,2,     0.02,2,     1.51,2,    0.510,2,   -999.0,9,  -999.0,9,   0.050,2,-999.000,9
    316N198301, ATAS3,   107,  1,      7,      7,2,19830207,0631,  5.9400, -28.0183, 4004,  281.4,    276.0,  10.8653,  35.0334,2,  35.0380,2,   -999.0,9, 10.8314,    134.4,2,    11.34,2,    23.55,2,     0.02,2,     1.55,2, -999.000,9,   -999.0,9,  -999.0,9,-999.000,9,-999.000,9
    316N198301, ATAS3,   107,  1,      8,      8,2,19830207,0631,  5.9400, -28.0183, 4004,  331.2,    326.0,  10.0273,  34.9387,2,  34.9400,2,   -999.0,9,  9.9892,    135.2,2,    12.80,2,    25.11,2,     0.02,2,     1.65,2,    0.415,2,   -999.0,9,  -999.0,9,   0.033,2,-999.000,9
    316N198301, ATAS3,   107,  1,      9,      9,2,19830207,0631,  5.9400, -28.0183, 4004,  381.7,    377.0,   9.4303,  34.8853,2,  34.8870,2,   -999.0,9,  9.3878,    119.6,2,    14.66,2,    28.15,2,     0.02,2,     1.79,2, -999.000,9,   -999.0,9,  -999.0,9,-999.000,9,-999.000,9
    316N198301, ATAS3,   107,  1,     10,     10,2,19830207,0631,  5.9400, -28.0183, 4004,  431.5,    427.0,   8.8333,  34.8500,2,  34.8670,2,   -999.0,9,  8.7869,     92.2,2,    16.71,2,    32.15,2,     0.02,2,     1.98,2,    0.200,2,   -999.0,9,  -999.0,9,   0.050,2,-999.000,9
    316N198301, ATAS3,   107,  1,     11,     11,2,19830207,0631,  5.9400, -28.0183, 4004,  501.6,    497.0,   7.9853,  34.7975,2,  34.7990,2,   -999.0,9,  7.9342,     75.2,2,    19.64,2,    36.16,2,     0.02,2,     2.21,2,    0.080,2,   -999.0,9,   495.0,2,   0.040,2,   7.971,2
    316N198301, ATAS3,   107,  1,     12,     12,2,19830207,0631,  5.9400, -28.0183, 4004,  600.8,    592.2,   6.8383,  34.6866,2,  34.6870,2,   -999.0,9,  6.7823,     93.5,2,    22.87,2,    36.56,2,     0.02,2,     2.28,2,    0.020,2,   2225.0,2,  -999.0,9,   0.060,2,-999.000,9
    316N198301, ATAS3,   107,  1,     13,     13,2,19830207,0631,  5.9400, -28.0183, 4004,  709.8,    701.3,   6.0334,  34.6420,2,  34.6390,2,   -999.0,9,  5.9708,    103.0,2,    26.29,2,    37.14,2,     0.02,2,     2.35,2, -999.000,9,   -999.0,9,  -999.0,9,-999.000,9,-999.000,9
    316N198301, ATAS3,   107,  1,     14,     14,2,19830207,0631,  5.9400, -28.0183, 4004,  808.3,    800.1,   5.5114,  34.6276,2,  34.6290,2,   -999.0,9,  5.4426,    113.9,2,    28.25,2,    36.65,2,     0.02,2,     2.34,2, -999.000,9,   -999.0,9,  -999.0,9,-999.000,9,-999.000,9
    316N198301, ATAS3,   107,  1,     15,     15,2,19830207,0631,  5.9400, -28.0183, 4004,  866.3,    858.4,   5.2754,  34.6276,2,  34.6270,2,   -999.0,9,  5.2028,    120.4,2,    29.03,2,    36.07,2,     0.01,2,     2.32,2, -999.000,9,   -999.0,9,  -999.0,9,-999.000,9,-999.000,9
    316N198301, ATAS3,   107,  1,     16,     16,2,19830207,0631,  5.9400, -28.0183, 4004,  903.5,    895.8,   5.2564,  34.6583,2,  34.6560,2,   -999.0,9,  5.1804,    121.3,2,    28.93,2,    35.77,2,     0.01,2,     2.30,2, -999.000,9,   -999.0,9,  -999.0,9,-999.000,9,-999.000,9
    316N198301, ATAS3,   107,  1,     17,     17,2,19830207,0631,  5.9400, -28.0183, 4004, 1108.6,   1102.1,   4.7124,  34.7671,2,  34.7670,2,   -999.0,9,  4.6217,    158.6,2,    27.46,2,    31.08,2,     0.01,2,     2.04,2, -999.000,9,   -999.0,9,  1102.0,2,-999.000,9,   4.714,2
    316N198301, ATAS3,   107,  1,     18,     18,2,19830207,0631,  5.9400, -28.0183, 4004, 1349.7,   1344.6,   4.5034,  34.9219,2,  34.9230,2,   -999.0,9,  4.3922,    204.2,2,    21.40,2,    24.82,2,     0.01,2,     1.62,2, -999.000,9,   -999.0,9,  -999.0,9,-999.000,9,-999.000,9
    316N198301, ATAS3,   107,  1,     19,     19,2,19830207,0631,  5.9400, -28.0183, 4004, 1552.0,   1547.9,   4.2514,  34.9639,2,  34.9640,2,   -999.0,9,  4.1239,    228.1,2,    18.86,2,    21.99,2,     0.01,2,     1.45,2, -999.000,9,   -999.0,9,  1544.0,2,-999.000,9,   4.247,2
    316N198301, ATAS3,   107,  1,     20,     20,2,19830207,0631,  5.9400, -28.0183, 4004, 1644.7,   1641.1,   4.0734,  34.9648,2,  34.9650,2,   -999.0,9,  3.9393,    232.9,2,    19.06,2,    21.60,2,     0.01,2,     1.41,2, -999.000,9,   -999.0,9,  -999.0,9,-999.000,9,-999.000,9
    316N198301, ATAS3,   107,  1,     21,     21,2,19830207,0631,  5.9400, -28.0183, 4004, 1785.0,   1782.3,   3.7884,  34.9655,2,  34.9670,2,   -999.0,9,  3.6447,    244.2,2,    19.35,2,    20.81,2,     0.01,2,     1.36,2, -999.000,9,   -999.0,9,  1780.0,2,-999.000,9,   3.785,2
    316N198301, ATAS3,   107,  1,     22,     22,2,19830207,0631,  5.9400, -28.0183, 4004, 2000.2,   1998.6,   3.4864,  34.9564,2,  34.9580,2,   -999.0,9,  3.3267,    245.5,2,    22.57,2,    21.01,2,     0.01,2,     1.36,2, -999.000,9,   -999.0,9,  -999.0,9,-999.000,9,-999.000,9
    316N198301, ATAS3,   107,  1,     23,     23,2,19830207,0631,  5.9400, -28.0183, 4004, 2501.5,   2502.5,   3.0194,  34.9407,2,  34.9380,2,   -999.0,9,  2.8189,    249.0,2,    29.02,2,    20.91,2,     0.00,2,     1.37,2, -999.000,9,   -999.0,9,  2505.0,2,-999.000,9,   3.018,2
    316N198301, ATAS3,   108,  1,      1,      1,2,19830207,1651,  5.0100, -28.0167, 4244,   38.3,     10.0,  27.1789,  35.7993,2,  35.7980,2,   -999.0,9, 27.1766,    203.4,2,     1.07,2,     0.03,2,     0.00,2,     0.03,2, -999.000,9,   -999.0,9,  -999.0,9,-999.000,9,  27.168,2
    316N198301, ATAS3,   108,  1,      2,      2,2,19830207,1651,  5.0100, -28.0167, 4244,   59.4,     31.0,  26.8969,  35.9468,2,  35.9450,2,   -999.0,9, 26.8898,    203.3,2,     1.07,2,     0.03,2,     0.00,2,     0.05,2, -999.000,9,   -999.0,9,  -999.0,9,-999.000,9,-999.000,9
    316N198301, ATAS3,   108,  1,      3,      3,2,19830207,1651,  5.0100, -28.0167, 4244,   80.0,     56.0,  26.3129,  36.0756,2,  36.0640,2,   -999.0,9, 26.3003,    194.6,2,     1.17,2,     0.03,2,     0.00,2,     0.09,2, -999.000,9,   -999.0,9,  -999.0,9,-999.000,9,-999.000,9
    316N198301, ATAS3,   108,  1,      4,      4,2,19830207,1651,  5.0100, -28.0167, 4244,  105.9,     88.0,  20.8440,  35.9020,2,  35.9500,2,   -999.0,9, 20.8272,    139.0,2,     3.32,2,     9.25,2,     0.03,2,     0.72,2, -999.000,9,   -999.0,9,  -999.0,9,-999.000,9,-999.000,9
    316N198301, ATAS3,   108,  1,      5,      5,2,19830207,1651,  5.0100, -28.0167, 4244,  107.2,     93.0,  19.3840,  35.8678,2,  35.8680,2,   -999.0,9, 19.3672,    126.3,2,     4.20,2,    12.60,2,     0.03,2,     0.92,2, -999.000,9,   -999.0,9,  -999.0,9,-999.000,9,-999.000,9
    316N198301, ATAS3,   108,  1,      6,      6,2,19830207,1651,  5.0100, -28.0167, 4244,  115.9,    105.0,  15.9001,  35.6080,2,  35.6180,2,   -999.0,9, 15.8835,    115.8,2,     6.15,2,    17.87,2,     0.02,2,     1.24,2, -999.000,9,   -999.0,9,  -999.0,9,-999.000,9,-999.000,9
    316N198301, ATAS3,   108,  1,      7,      7,2,19830207,1651,  5.0100, -28.0167, 4244,  170.2,    161.0,  13.2682,  35.3380,2,  35.3440,2,   -999.0,9, 13.2457,    140.9,2,     7.62,2,    18.27,2,     0.01,2,     1.28,2, -999.000,9,   -999.0,9,  -999.0,9,-999.000,9,-999.000,9
    316N198301, ATAS3,   108,  1,      8,      8,2,19830207,1651,  5.0100, -28.0167, 4244,  219.0,    210.0,  12.1242,  35.1817,2,  35.1840,2,   -999.0,9, 12.0965,    132.7,2,     8.89,2,    21.10,2,     0.00,2,     1.44,2, -999.000,9,   -999.0,9,  -999.0,9,-999.000,9,-999.000,9
    316N198301, ATAS3,   108,  1,      9,      9,2,19830207,1651,  5.0100, -28.0167, 4244,  253.9,    245.0,  11.7542,  35.1326,2,  35.1350,2,   -999.0,9, 11.7225,    135.7,2,     9.48,2,    21.30,2,     0.00,2,     1.47,2, -999.000,9,   -999.0,9,  -999.0,9,-999.000,9,-999.000,9
    316N198301, ATAS3,   108,  1,     10,     10,2,19830207,1651,  5.0100, -28.0167, 4244,  343.7,    336.0,   9.9172,  34.9328,2,  34.9440,2,   -999.0,9,  9.8782,    124.4,2,    12.90,2,    26.19,2,     0.00,2,     1.72,2, -999.000,9,   -999.0,9,  -999.0,9,-999.000,9,-999.000,9
    316N198301, ATAS3,   108,  1,     11,     11,2,19830207,1651,  5.0100, -28.0167, 4244,  363.8,    356.0,   9.7102,  34.9206,2,  34.9240,2,   -999.0,9,  9.6694,    105.7,2,    14.07,2,    28.83,2,     0.00,2,     1.86,2, -999.000,9,   -999.0,9,   357.0,2,-999.000,9,   9.703,2
    316N198301, ATAS3,   108,  1,     12,     12,2,19830207,1651,  5.0100, -28.0167, 4244,  392.8,    382.6,   9.1442,  34.8618,2,  34.8620,2,   -999.0,9,  9.1019,     96.1,2,    15.73,2,    30.88,2,     0.00,2,     1.97,2, -999.000,9,   -999.0,9,  -999.0,9,-999.000,9,-999.000,9
    316N198301, ATAS3,   108,  1,     13,     13,2,19830207,1651,  5.0100, -28.0167, 4244,  566.7,    557.2,   6.7473,  34.6252,2,  34.6270,2,   -999.0,9,  6.6951,    117.0,2,    21.99,2,    33.92,2,     0.00,2,     2.21,2, -999.000,9,   -999.0,9,  -999.0,9,-999.000,9,-999.000,9
    316N198301, ATAS3,   108,  1,     14,     14,2,19830207,1651,  5.0100, -28.0167, 4244,  646.4,    637.0,   6.0833,  34.5746,2,  34.5770,2,   -999.0,9,  6.0265,    126.1,2,    24.44,2,    34.31,2,     0.00,2,     2.27,2, -999.000,9,   -999.0,9,  -999.0,9,-999.000,9,-999.000,9
    316N198301, ATAS3,   108,  1,     15,     15,2,19830207,1651,  5.0100, -28.0167, 4244,  757.0,    747.8,   5.3173,  34.5354,2,  34.5380,2,   -999.0,9,  5.2545,    140.0,2,    27.76,2,    34.21,2,     0.01,2,     2.28,2, -999.000,9,   -999.0,9,  -999.0,9,-999.000,9,-999.000,9
    316N198301, ATAS3,   108,  1,     16,     16,2,19830207,1651,  5.0100, -28.0167, 4244,  886.6,    877.7,   4.8323,  34.5695,2,  34.5690,2,   -999.0,9,  4.7610,    144.8,2,    30.20,2,    34.21,2,     0.01,2,     2.29,2, -999.000,9,   -999.0,9,  -999.0,9,-999.000,9,-999.000,9
    316N198301, ATAS3,   108,  1,     17,     17,2,19830207,1651,  5.0100, -28.0167, 4244, 1131.3,   1122.7,   4.6723,  34.7937,2,  34.7960,2,   -999.0,9,  4.5801,    166.0,2,    26.29,2,    29.61,2,     0.00,2,     1.99,2, -999.000,9,   -999.0,9,  1131.0,2,-999.000,9,   4.666,2
    316N198301, ATAS3,   108,  1,     18,     18,2,19830207,1651,  5.0100, -28.0167, 4244, 1382.5,   1374.6,   4.4643,  34.9154,2,  34.9160,2,   -999.0,9,  4.3507,    202.1,2,    21.69,2,    24.63,2,     0.00,2,     1.66,2, -999.000,9,   -999.0,9,  -999.0,9,-999.000,9,-999.000,9
    316N198301, ATAS3,   108,  1,     19,     19,2,19830207,1651,  5.0100, -28.0167, 4244, 1692.4,   1686.2,   3.8593,  34.9679,2,  34.9690,2,   -999.0,9,  3.7237,    242.5,2,    18.96,2,    20.33,2,     0.00,2,     1.39,2, -999.000,9,   -999.0,9,  1686.0,2,-999.000,9,   3.857,2
    316N198301, ATAS3,   108,  1,     20,     20,2,19830207,1651,  5.0100, -28.0167, 4244, 2295.5,   2292.3,   3.1923,  34.9467,2,  34.9450,2,   -999.0,9,  3.0092,    247.2,2,    26.09,2,    20.62,2,     0.00,2,     1.39,2, -999.000,9,   -999.0,9,  -999.0,9,-999.000,9,-999.000,9
    316N198301, ATAS3,   108,  1,     21,     21,2,19830207,1651,  5.0100, -28.0167, 4244, 2848.8,   2848.3,   2.7474,  34.9234,2,  34.9220,2,   -999.0,9,  2.5177,    249.0,2,    34.01,2,    21.01,2,     0.00,2,     1.43,2, -999.000,9,   -999.0,9,  2849.0,2,-999.000,9,   2.748,2
    316N198301, ATAS3,   108,  1,     22,     22,2,19830207,1651,  5.0100, -28.0167, 4244, 3601.1,   3604.1,   2.4064,  34.8968,2,  34.8970,2,   -999.0,9,  2.1050,    251.6,2,    41.83,2,    21.30,2,     0.00,2,     1.46,2, -999.000,9,   -999.0,9,  -999.0,9,-999.000,9,-999.000,9
    316N198301, ATAS3,   108,  1,     23,     23,2,19830207,1651,  5.0100, -28.0167, 4244, 4305.5,   4311.7,   2.3984,  34.8897,2,  34.8910,2,   -999.0,9,  2.0167,    251.1,2,    43.68,2,    21.60,2,     0.00,2,     1.48,2, -999.000,9,   -999.0,9,  4320.0,2,-999.000,9,   2.404,2