BOTTLE,20060405WHPSIOdm
#code : jjward hyd_to_exchange.pl 
#original files copied from HTML directory: 20060405
#original HYD file: atas3hy.txt   Tue Apr  4 11:10:35 2006
#original SUM file: atas3su.txt   Tue Apr  4 11:16:03 2006
EXPOCODE,SECT_ID,STNNBR,CASTNO,SAMPNO,BTLNBR,BTLNBR_FLAG_W,DATE,TIME,LATITUDE,LONGITUDE,DEPTH,CTDRAW,CTDPRS,CTDTMP,CTDSAL,CTDSAL_FLAG_W,SALNTY,SALNTY_FLAG_W,CTDOXY,CTDOXY_FLAG_W,THETA,OXYGEN,OXYGEN_FLAG_W,SILCAT,SILCAT_FLAG_W,NITRAT,NITRAT_FLAG_W,NITRIT,NITRIT_FLAG_W,PHSPHT,PHSPHT_FLAG_W,TRITUM,TRITUM_FLAG_W,TCARBN,TCARBN_FLAG_W,REVPRS,REVPRS_FLAG_W,TRITER,TRITER_FLAG_W,REVTMP,REVTMP_FLAG_W
,,,,,,,,,,,,,DBAR,ITS-90,PSS-78,,PSS-78,,UMOL/KG,,DEG C,UMOL/KG,,UMOL/KG,,UMOL/KG,,UMOL/KG,,UMOL/KG,,TU,,UMOL/KG,,DBAR,,TU,,ITS-90,
    316N198301, ATAS3,    95,  1,      1,      1,2,19830131,2113,  9.5233, -17.4733, 1021,   32.0,      1.0,  27.0517,  34.5686,2,  34.5800,2,   -999.0,9, 27.0514,    207.5,2,     1.86,2,     0.00,2,     0.00,2,     0.03,2,    1.630,2,   1917.0,2,  -999.0,9,   0.090,2,  27.053,2
    316N198301, ATAS3,    95,  1,      2,      2,2,19830131,2113,  9.5233, -17.4733, 1021,   42.9,      9.0,  27.0017,  34.5718,2,  34.5660,2,   -999.0,9, 26.9996,    209.2,2,     1.96,2,     0.00,2,     0.00,2,     0.05,2, -999.000,9,   -999.0,9,  -999.0,9,-999.000,9,-999.000,9
    316N198301, ATAS3,    95,  1,      3,      3,2,19830131,2113,  9.5233, -17.4733, 1021,   55.5,     25.0,  25.7957,  34.8994,2,  34.8560,2,   -999.0,9, 25.7901,    211.3,2,     1.95,2,     0.00,2,     0.00,2,     0.08,2, -999.000,9,   -999.0,9,  -999.0,9,-999.000,9,-999.000,9
    316N198301, ATAS3,    95,  1,      9,      9,2,19830131,2113,  9.5233, -17.4733, 1021,   65.2,     42.0,  19.1488,  35.8250,2,  35.8190,2,   -999.0,9, 19.1413,    115.8,2,     4.49,2,    11.33,2,     0.42,2,     0.85,2,    1.340,2,   2156.0,2,  -999.0,9,   0.070,2,-999.000,9
    316N198301, ATAS3,    95,  1,     10,     10,2,19830131,2113,  9.5233, -17.4733, 1021,   93.8,     73.0,  16.3949,  35.6483,2,  35.6530,2,   -999.0,9, 16.3831,     82.3,2,     6.64,2,    21.00,2,     0.05,2,     1.37,2,    0.730,2,   -999.0,9,  -999.0,9,   0.070,2,-999.000,9
    316N198301, ATAS3,    95,  1,     11,     11,2,19830131,2113,  9.5233, -17.4733, 1021,  123.1,    103.0,  15.0329,  35.5370,2,  35.5350,2,   -999.0,9, 15.0172,     83.1,2,     7.72,2,    22.76,2,     0.02,2,     1.47,2,    0.627,2,   -999.0,9,   108.0,2,   0.052,2,  15.030,2
    316N198301, ATAS3,    95,  1,     12,     12,2,19830131,2113,  9.5233, -17.4733, 1021,  201.6,    183.0,  13.6559,  35.3873,2,  35.3820,2,   -999.0,9, 13.6298,     92.2,2,     8.69,2,    23.45,2,     0.01,2,     1.51,2,    0.360,2,   -999.0,9,  -999.0,9,   0.060,2,-999.000,9
    316N198301, ATAS3,    95,  1,     13,     13,2,19830131,2113,  9.5233, -17.4733, 1021,  240.9,    223.0,  13.1919,  35.3338,2,  35.3300,2,   -999.0,9, 13.1608,     77.4,2,     9.67,2,    25.50,2,     0.00,2,     1.62,2, -999.000,9,   -999.0,9,  -999.0,9,-999.000,9,-999.000,9
    316N198301, ATAS3,    95,  1,     14,     14,2,19830131,2113,  9.5233, -17.4733, 1021,  284.0,    273.7,  12.2409,  35.2453,2,  35.2470,2,   -999.0,9, 12.2046,     64.8,2,    11.53,2,    28.63,2,     0.00,2,     1.79,2,    0.550,2,   -999.0,9,  -999.0,9,   0.050,2,-999.000,9
    316N198301, ATAS3,    95,  1,     15,     15,2,19830131,2113,  9.5233, -17.4733, 1021,  306.1,    296.1,  11.2620,  35.1845,2,  35.1840,2,   -999.0,9, 11.2247,     57.4,2,    13.29,2,    31.27,2,     0.00,2,     1.92,2, -999.000,9,   -999.0,9,  -999.0,9,-999.000,9,-999.000,9
    316N198301, ATAS3,    95,  1,     16,     16,2,19830131,2113,  9.5233, -17.4733, 1021,  384.0,    374.9,   9.8040,  35.0541,2,  35.0520,2,   -999.0,9,  9.7606,     47.0,2,    16.81,2,    34.88,2,     0.00,2,     2.13,2,    0.295,2,   -999.0,9,  -999.0,9,   0.041,2,-999.000,9
    316N198301, ATAS3,    95,  1,     17,     17,2,19830131,2113,  9.5233, -17.4733, 1021,  507.5,    499.6,   8.3470,  34.8756,2,  34.8880,2,   -999.0,9,  8.2943,     56.5,2,    19.84,2,    37.14,2,     0.00,2,     2.30,2, -999.000,9,   -999.0,9,  -999.0,9,-999.000,9,-999.000,9
    316N198301, ATAS3,    95,  1,     18,     18,2,19830131,2113,  9.5233, -17.4733, 1021,  705.5,    699.7,   6.4421,  34.7062,2,  34.7080,2,   -999.0,9,  6.3774,     88.7,2,    25.31,2,    37.53,2,     0.00,2,     2.39,2, -999.000,9,   -999.0,9,  -999.0,9,-999.000,9,-999.000,9
    316N198301, ATAS3,    95,  1,     19,     19,2,19830131,2113,  9.5233, -17.4733, 1021,  855.8,    851.2,   5.6851,  34.6774,2,  34.6780,2,   -999.0,9,  5.6104,    108.7,2,    27.76,2,    36.36,2,     0.00,2,     2.36,2, -999.000,9,   -999.0,9,   847.0,2,-999.000,9,   5.682,2
    316N198301, ATAS3,    95,  1,     21,     21,2,19830131,2113,  9.5233, -17.4733, 1021, 1027.9,   1024.6,   5.1071,  34.7423,2,  34.7450,2,   -999.0,9,  5.0203,    136.9,2,    28.25,2,    33.43,2,     0.00,2,     2.21,2, -999.000,9,   -999.0,9,  1018.0,2,-999.000,9,   5.102,2
    316N198301, ATAS3,    96,  1,      1,      1,2,19830201,0149,  9.5133, -17.8350, 2324,   37.2,      2.0,  26.6146,  35.2147,2,  35.2040,2,   -999.0,9, 26.6142,    203.9,2,  -999.00,9,  -999.00,9,  -999.00,9,  -999.00,9, -999.000,9,   -999.0,9,  -999.0,9,-999.000,9,  26.615,2
    316N198301, ATAS3,    96,  1,      3,      3,2,19830201,0149,  9.5133, -17.8350, 2324,   52.4,     22.0,  25.6806,  35.3852,2,  35.3800,2,   -999.0,9, 25.6758,    209.0,2,     1.56,2,     0.01,2,     0.00,2,     0.05,2, -999.000,9,   -999.0,9,  -999.0,9,-999.000,9,-999.000,9
    316N198301, ATAS3,    96,  1,      4,      4,2,19830201,0149,  9.5133, -17.8350, 2324,   60.6,     35.0,  22.7517,  35.8962,2,  35.9200,2,   -999.0,9, 22.7446,    186.5,2,     2.25,2,     0.13,2,     0.00,2,     0.14,2, -999.000,9,   -999.0,9,  -999.0,9,-999.000,9,-999.000,9
    316N198301, ATAS3,    96,  1,      5,      5,2,19830201,0149,  9.5133, -17.8350, 2324,   68.5,     48.0,  18.5258,  35.7188,2,  35.7330,2,   -999.0,9, 18.5173,    108.0,2,     4.49,2,    12.70,2,     0.40,2,     0.97,2, -999.000,9,   -999.0,9,  -999.0,9,-999.000,9,-999.000,9
    316N198301, ATAS3,    96,  1,      6,      6,2,19830201,0149,  9.5133, -17.8350, 2324,   92.4,     74.0,  16.3948,  35.6228,2,  35.6240,2,   -999.0,9, 16.3829,     78.8,2,     6.64,2,    21.29,2,     0.05,2,     1.43,2, -999.000,9,   -999.0,9,  -999.0,9,-999.000,9,-999.000,9
    316N198301, ATAS3,    96,  1,      7,      7,2,19830201,0149,  9.5133, -17.8350, 2324,  116.4,     98.0,  15.2768,  35.5489,2,  35.5470,2,   -999.0,9, 15.2618,     74.8,2,     7.62,2,    23.25,2,     0.01,2,     1.53,2, -999.000,9,   -999.0,9,  -999.0,9,-999.000,9,-999.000,9
    316N198301, ATAS3,    96,  1,      8,      8,2,19830201,0149,  9.5133, -17.8350, 2324,  136.1,    119.0,  14.9778,  35.5162,2,  35.5150,2,   -999.0,9, 14.9598,     76.1,2,     8.01,2,    23.54,2,     0.01,2,     1.54,2, -999.000,9,   -999.0,9,  -999.0,9,-999.000,9,-999.000,9
    316N198301, ATAS3,    96,  1,      9,      9,2,19830201,0149,  9.5133, -17.8350, 2324,  214.5,    199.0,  13.3789,  35.3487,2,  35.3470,2,   -999.0,9, 13.3509,     84.8,2,     9.28,2,    24.62,2,     0.00,2,     1.59,2, -999.000,9,   -999.0,9,  -999.0,9,-999.000,9,-999.000,9
    316N198301, ATAS3,    96,  1,     10,     10,2,19830201,0149,  9.5133, -17.8350, 2324,  289.0,    274.0,  12.1939,  35.2279,2,  35.2250,2,   -999.0,9, 12.1576,     77.0,2,    11.14,2,    27.36,2,     0.00,2,     1.73,2, -999.000,9,   -999.0,9,  -999.0,9,-999.000,9,-999.000,9
    316N198301, ATAS3,    96,  1,     11,     11,2,19830201,0149,  9.5133, -17.8350, 2324,  338.3,    325.0,  11.4459,  35.2095,2,  35.2080,2,   -999.0,9, 11.4045,     54.8,2,    12.90,2,    30.97,2,     0.00,2,     1.91,2, -999.000,9,   -999.0,9,   327.0,2,-999.000,9,  11.435,2
    316N198301, ATAS3,    96,  1,     12,     12,2,19830201,0149,  9.5133, -17.8350, 2324,  359.2,    349.0,  11.0709,  35.1917,2,  35.1920,2,   -999.0,9, 11.0273,     49.6,2,  -999.00,9,  -999.00,9,  -999.00,9,  -999.00,9, -999.000,9,   -999.0,9,  -999.0,9,-999.000,9,-999.000,9
    316N198301, ATAS3,    96,  1,     13,     13,2,19830201,0149,  9.5133, -17.8350, 2324,  427.1,    417.3,  10.0239,  35.0785,2,  35.0790,2,   -999.0,9,  9.9748,     46.5,2,    16.22,2,    34.59,2,     0.00,2,     2.11,2, -999.000,9,   -999.0,9,  -999.0,9,-999.000,9,-999.000,9
    316N198301, ATAS3,    96,  1,     14,     14,2,19830201,0149,  9.5133, -17.8350, 2324,  445.8,    436.1,   9.3819,  34.9967,2,  35.0030,2,   -999.0,9,  9.3327,     48.3,2,    17.49,2,    35.77,2,     0.00,2,     2.19,2, -999.000,9,   -999.0,9,  -999.0,9,-999.000,9,-999.000,9
    316N198301, ATAS3,    96,  1,     15,     15,2,19830201,0149,  9.5133, -17.8350, 2324,  553.5,    544.1,   7.9580,  34.8691,2,  34.8700,2,   -999.0,9,  7.9019,     60.0,2,    21.01,2,    37.33,2,     0.00,2,     2.33,2, -999.000,9,   -999.0,9,  -999.0,9,-999.000,9,-999.000,9
    316N198301, ATAS3,    96,  1,     16,     16,2,19830201,0149,  9.5133, -17.8350, 2324,  757.0,    748.3,   6.0160,  34.6920,2,  34.6930,2,   -999.0,9,  5.9490,     97.4,2,    26.78,2,    37.04,2,     0.00,2,     2.38,2, -999.000,9,   -999.0,9,  -999.0,9,-999.000,9,-999.000,9
    316N198301, ATAS3,    96,  1,     17,     17,2,19830201,0149,  9.5133, -17.8350, 2324,  998.5,    991.3,   5.1290,  34.7380,2,  34.7380,2,   -999.0,9,  5.0452,    131.7,2,    28.34,2,    33.72,2,     0.00,2,     2.22,2, -999.000,9,   -999.0,9,   989.0,2,-999.000,9,   5.129,2
    316N198301, ATAS3,    96,  1,     18,     18,2,19830201,0149,  9.5133, -17.8350, 2324, 1221.3,   1215.4,   4.6700,  34.8540,2,  34.8540,2,   -999.0,9,  4.5692,    166.4,2,    25.90,2,    29.12,2,     0.00,2,     1.94,2, -999.000,9,   -999.0,9,  -999.0,9,-999.000,9,-999.000,9
    316N198301, ATAS3,    96,  1,     19,     19,2,19830201,0149,  9.5133, -17.8350, 2324, 1431.5,   1426.8,   4.2930,  34.9190,2,  34.9190,2,   -999.0,9,  4.1764,    195.5,2,    23.94,2,    25.80,2,     0.00,2,     1.72,2, -999.000,9,   -999.0,9,  1423.0,2,-999.000,9,   4.294,2
    316N198301, ATAS3,    96,  1,     20,     20,2,19830201,0149,  9.5133, -17.8350, 2324, 1652.2,   1648.7,   3.8810,  34.9450,2,  34.9440,2,   -999.0,9,  3.7487,    220.3,2,    23.16,2,    22.77,2,     0.00,2,     1.55,2, -999.000,9,   -999.0,9,  -999.0,9,-999.000,9,-999.000,9
    316N198301, ATAS3,    96,  1,     21,     21,2,19830201,0149,  9.5133, -17.8350, 2324, 1999.6,   1997.9,   3.4741,  34.9476,2,  34.9480,2,   -999.0,9,  3.3146,    234.2,2,    25.31,2,    21.89,2,     0.00,2,     1.49,2, -999.000,9,   -999.0,9,  1998.0,2,-999.000,9,   3.476,2
    316N198301, ATAS3,    96,  1,     22,     22,2,19830201,0149,  9.5133, -17.8350, 2324, 2148.7,   2147.8,   3.3151,  34.9454,2,  34.9450,2,   -999.0,9,  3.1438,    237.7,2,    26.87,2,    21.60,2,     0.00,2,     1.47,2, -999.000,9,   -999.0,9,  -999.0,9,-999.000,9,-999.000,9
    316N198301, ATAS3,    96,  1,     23,     23,2,19830201,0149,  9.5133, -17.8350, 2324, 2298.7,   2298.7,   3.1481,  34.9422,2,  34.9410,2,   -999.0,9,  2.9651,    239.4,2,    29.12,2,    21.60,2,     0.00,2,     1.46,2, -999.000,9,   -999.0,9,  2302.0,2,-999.000,9,   3.148,2
    316N198301, ATAS3,    97,  1,      1,      1,2,19830201,1036,  9.4750, -18.7350, 4181,   33.9,      4.0,  25.3396,  35.2802,2,  35.2780,2,   -999.0,9, 25.3387,    210.8,2,     1.56,2,     0.05,2,     0.00,2,     0.04,2, -999.000,9,   -999.0,9,  -999.0,9,-999.000,9,  25.350,2
    316N198301, ATAS3,    97,  1,      2,      2,2,19830201,1036,  9.4750, -18.7350, 4181,   32.9,      9.0,  25.2876,  35.2820,2,  35.2780,2,   -999.0,9, 25.2856,    209.0,2,     1.47,2,     0.00,2,     0.00,2,     0.04,2, -999.000,9,   -999.0,9,  -999.0,9,-999.000,9,-999.000,9
    316N198301, ATAS3,    97,  1,      3,      3,2,19830201,1036,  9.4750, -18.7350, 4181,   46.6,     28.0,  20.8307,  35.8564,2,  35.8610,2,   -999.0,9, 20.8253,    168.6,2,     2.93,2,     0.20,2,     0.01,2,     0.22,2,    1.090,2,   -999.0,9,  -999.0,9,   0.080,2,-999.000,9
    316N198301, ATAS3,    97,  1,      4,      4,2,19830201,1036,  9.4750, -18.7350, 4181,   65.1,     48.0,  16.5127,  35.6269,2,  35.6280,2,   -999.0,9, 16.5050,     71.4,2,     6.15,2,    21.78,2,     0.15,2,     1.43,2,    0.680,2,   -999.0,9,  -999.0,9,   0.060,2,-999.000,9
    316N198301, ATAS3,    97,  1,      5,      5,2,19830201,1036,  9.4750, -18.7350, 4181,   99.2,     82.0,  15.0128,  35.5130,2,  35.5130,2,   -999.0,9, 15.0003,     65.3,2,     7.81,2,    24.71,2,     0.02,2,     1.58,2,    0.560,2,   -999.0,9,  -999.0,9,   0.050,2,-999.000,9
    316N198301, ATAS3,    97,  1,      6,      6,2,19830201,1036,  9.4750, -18.7350, 4181,  148.2,    131.0,  14.4108,  35.4566,2,  35.4540,2,   -999.0,9, 14.3914,     70.0,2,     8.40,2,    24.71,2,     0.01,2,     1.59,2,    0.630,2,   2207.0,2,  -999.0,9,   0.070,2,-999.000,9
    316N198301, ATAS3,    97,  1,      7,      7,2,19830201,1036,  9.4750, -18.7350, 4181,  236.7,    221.0,  12.7798,  35.2802,2,  35.2780,2,   -999.0,9, 12.7497,     87.4,2,     9.48,2,    25.30,2,     0.00,2,     1.61,2, -999.000,9,   -999.0,9,  -999.0,9,-999.000,9,-999.000,9
    316N198301, ATAS3,    97,  1,      8,      8,2,19830201,1036,  9.4750, -18.7350, 4181,  340.9,    326.0,  10.6669,  35.1175,2,  35.1160,2,   -999.0,9, 10.6272,     48.7,2,    14.07,2,    33.03,2,     0.00,2,     1.98,2,    0.275,2,   2241.0,2,  -999.0,9,   0.057,2,-999.000,9
    316N198301, ATAS3,    97,  1,      9,      9,2,19830201,1036,  9.4750, -18.7350, 4181,  410.8,    396.0,   9.5829,  35.0135,2,  35.0090,2,   -999.0,9,  9.5377,     48.3,2,    16.51,2,    35.47,2,     0.00,2,     2.13,2, -999.000,9,   -999.0,9,  -999.0,9,-999.000,9,-999.000,9
    316N198301, ATAS3,    97,  1,     10,     10,2,19830201,1036,  9.4750, -18.7350, 4181,  466.0,    451.0,   8.7139,  34.8981,2,  34.9020,2,   -999.0,9,  8.6652,     54.8,2,    18.18,2,    36.45,2,     0.00,2,     2.20,2, -999.000,9,   -999.0,9,  -999.0,9,-999.000,9,-999.000,9
    316N198301, ATAS3,    97,  1,     11,     11,2,19830201,1036,  9.4750, -18.7350, 4181,  531.2,    522.1,   8.1619,  34.8716,2,  34.8720,2,   -999.0,9,  8.1074,     56.5,2,    19.84,2,    37.33,2,     0.00,2,     2.27,2, -999.000,9,   -999.0,9,   526.0,2,-999.000,9,   8.162,2
    316N198301, ATAS3,    97,  1,     12,     12,2,19830201,1036,  9.4750, -18.7350, 4181,  744.1,    735.7,   6.0319,  34.6883,2,  34.6900,2,   -999.0,9,  5.9661,     98.7,2,    26.10,2,    37.04,2,     0.00,2,     2.34,2, -999.000,9,   -999.0,9,  -999.0,9,-999.000,9,-999.000,9
    316N198301, ATAS3,    97,  1,     13,     13,2,19830201,1036,  9.4750, -18.7350, 4181,  810.7,    802.3,   5.6560,  34.6749,2,  34.6750,2,   -999.0,9,  5.5860,    107.8,2,    27.27,2,    36.46,2,     0.00,2,     2.32,2, -999.000,9,   -999.0,9,  -999.0,9,-999.000,9,-999.000,9
    316N198301, ATAS3,    97,  1,     14,     14,2,19830201,1036,  9.4750, -18.7350, 4181,  910.5,    902.4,   5.4020,  34.7211,2,  34.7220,2,   -999.0,9,  5.3243,    119.1,2,    27.66,2,    34.99,2,     0.00,2,     2.25,2, -999.000,9,   -999.0,9,  -999.0,9,-999.000,9,-999.000,9
    316N198301, ATAS3,    97,  1,     15,     15,2,19830201,1036,  9.4750, -18.7350, 4181,  979.3,    971.3,   5.1690,  34.7407,2,  34.7410,2,   -999.0,9,  5.0866,    130.0,2,    27.86,2,    33.91,2,     0.00,2,     2.19,2, -999.000,9,   -999.0,9,  -999.0,9,-999.000,9,-999.000,9
    316N198301, ATAS3,    97,  1,     16,     16,2,19830201,1036,  9.4750, -18.7350, 4181, 1224.0,   1216.6,   4.8200,  34.8787,2,  34.8780,2,   -999.0,9,  4.7176,    164.3,2,    25.12,2,    33.13,2,     0.01,2,     1.91,2, -999.000,9,   -999.0,9,  -999.0,9,-999.000,9,-999.000,9
    316N198301, ATAS3,    97,  1,     17,     17,2,19830201,1036,  9.4750, -18.7350, 4181, 1450.7,   1444.3,   4.2630,  34.9298,2,  34.9300,2,   -999.0,9,  4.1451,    201.2,2,    22.77,2,    25.12,2,     0.00,2,     1.65,2, -999.000,9,   -999.0,9,  1449.0,2,-999.000,9,   4.267,2
    316N198301, ATAS3,    97,  1,     18,     18,2,19830201,1036,  9.4750, -18.7350, 4181, 1630.6,   1625.1,   3.9060,  34.9440,2,  34.9450,2,   -999.0,9,  3.7755,    224.2,2,    22.28,2,    23.06,2,     0.00,2,     1.52,2, -999.000,9,   -999.0,9,  -999.0,9,-999.000,9,-999.000,9
    316N198301, ATAS3,    97,  1,     19,     19,2,19830201,1036,  9.4750, -18.7350, 4181, 1968.2,   1964.4,   3.4860,  34.9495,2,  34.9510,2,   -999.0,9,  3.3295,    237.7,2,    24.14,2,    21.69,2,     0.00,2,     1.45,2, -999.000,9,   -999.0,9,  1963.0,2,-999.000,9,   3.479,2
    316N198301, ATAS3,    97,  1,     20,     20,2,19830201,1036,  9.4750, -18.7350, 4181, 2737.7,   2737.7,   2.8600,  34.9303,2,  34.9290,2,   -999.0,9,  2.6392,    245.0,2,    32.93,2,    21.50,2,     0.00,2,     1.44,2, -999.000,9,   -999.0,9,  -999.0,9,-999.000,9,-999.000,9
    316N198301, ATAS3,    97,  1,     21,     21,2,19830201,1036,  9.4750, -18.7350, 4181, 3487.9,   3491.5,   2.4880,  34.9062,2,  34.9040,2,   -999.0,9,  2.1968,    245.9,2,    41.83,2,    22.09,2,     0.00,2,     1.48,2, -999.000,9,   -999.0,9,  3489.0,2,-999.000,9,   2.488,2
    316N198301, ATAS3,    97,  1,     22,     22,2,19830201,1036,  9.4750, -18.7350, 4181, 4181.4,   4188.3,   2.2850,  34.8805,2,  34.8800,2,   -999.0,9,  1.9212,    241.1,2,    49.45,2,    22.87,2,     0.00,2,     1.53,2, -999.000,9,   -999.0,9,  -999.0,9,-999.000,9,-999.000,9
    316N198301, ATAS3,    97,  1,     23,     23,2,19830201,1036,  9.4750, -18.7350, 4181, 4233.2,   4240.4,   2.2750,  34.8794,2,  34.8780,2,   -999.0,9,  1.9055,    242.9,2,    50.33,2,    22.97,2,     0.00,2,     1.53,2, -999.000,9,   -999.0,9,  4250.0,2,-999.000,9,   2.277,2