BOTTLE,20060405WHPSIOdm
EXPOCODE,SECT_ID,STNNBR,CASTNO,SAMPNO,BTLNBR,BTLNBR_FLAG_W,DATE,TIME,LATITUDE,LONGITUDE,DEPTH,CTDRAW,CTDPRS,CTDTMP,CTDSAL,CTDSAL_FLAG_W,SALNTY,SALNTY_FLAG_W,CTDOXY,CTDOXY_FLAG_W,THETA,OXYGEN,OXYGEN_FLAG_W,SILCAT,SILCAT_FLAG_W,NITRAT,NITRAT_FLAG_W,NITRIT,NITRIT_FLAG_W,PHSPHT,PHSPHT_FLAG_W,TRITUM,TRITUM_FLAG_W,TCARBN,TCARBN_FLAG_W,REVPRS,REVPRS_FLAG_W,TRITER,TRITER_FLAG_W,REVTMP,REVTMP_FLAG_W
,,,,,,,,,,,,,DBAR,ITS-90,PSS-78,,PSS-78,,UMOL/KG,,DEG C,UMOL/KG,,UMOL/KG,,UMOL/KG,,UMOL/KG,,UMOL/KG,,TU,,UMOL/KG,,DBAR,,TU,,ITS-90,
    316N198301, ATAS3,   124,  1,     54,     54,2,19830215,0718, -8.0467, -29.0067, 5474,    0.0,      9.0,  27.5774,  36.5514,2,  36.5520,2,   -999.0,9, 27.5753,    198.9,2,     1.46,2,     0.00,2,     0.00,2,     0.19,2,    1.001,2,   2040.0,2,    11.0,2,   0.061,2,  27.602,2
    316N198301, ATAS3,   124,  1,     50,     50,2,19830215,0718, -8.0467, -29.0067, 5474,   97.4,    105.0,  24.3212,  36.9908,2,  36.9900,2,   -999.0,9, 24.2987,    213.5,2,     1.46,2,     0.00,2,     0.00,2,     0.21,2,    1.280,2,   -999.0,9,  -999.0,9,   0.057,2,-999.000,9
    316N198301, ATAS3,   124,  1,     57,     57,2,19830215,0718, -8.0467, -29.0067, 5474,  273.5,    272.0,   9.4437,  34.8324,2,  34.8460,2,   -999.0,9,  9.4132,    137.4,2,    12.22,2,    26.29,2,     0.05,2,     1.71,2,    0.260,2,   -999.0,9,  -999.0,9,   0.033,2,-999.000,9
    316N198301, ATAS3,   124,  1,     51,     51,2,19830215,0718, -8.0467, -29.0067, 5474,  390.6,    387.0,   7.4242,  34.6485,2,  34.6480,2,   -999.0,9,  7.3864,    107.8,2,    19.16,2,    35.77,2,     0.07,2,     2.16,2,    0.040,2,   -999.0,9,  -999.0,9,   0.033,2,-999.000,9
    316N198301, ATAS3,   124,  1,     56,     56,2,19830215,0718, -8.0467, -29.0067, 5474,  801.1,    794.0,   4.4149,  34.4549,2,  34.4550,2,   -999.0,9,  4.3536,    160.4,2,    32.46,2,    36.37,2,     0.07,2,     2.29,2, -999.000,9,   -999.0,9,  -999.0,9,-999.000,9,-999.000,9
    316N198301, ATAS3,   124,  1,      1,      1,2,19830215,0718, -8.0467, -29.0067, 5474,  934.9,    927.0,   3.9850,  34.5176,2,  34.5170,2,   -999.0,9,  3.9155,    167.8,2,    36.56,2,    35.48,2,     0.07,2,     2.25,2, -999.000,9,   -999.0,9,  -999.0,9,-999.000,9,-999.000,9
    316N198301, ATAS3,   124,  1,     55,     55,2,19830215,0718, -8.0467, -29.0067, 5474, 1340.3,   1332.0,   4.2460,  34.8629,2,  34.8620,2,   -999.0,9,  4.1386,    202.5,2,    24.33,2,    26.48,2,     0.06,2,     1.76,2, -999.000,9,   -999.0,9,  -999.0,9,-999.000,9,-999.000,9
    316N198301, ATAS3,   124,  1,     19,     19,2,19830215,0718, -8.0467, -29.0067, 5474, 1684.3,   1676.0,   3.8551,  34.9573,2,  34.9620,2,   -999.0,9,  3.7205,    242.9,2,    19.35,2,    20.62,2,     0.04,2,     1.42,2, -999.000,9,   -999.0,9,  1681.0,2,-999.000,9,   3.857,2
    316N198301, ATAS3,   124,  1,     53,     53,2,19830215,0718, -8.0467, -29.0067, 5474, 2386.8,   2378.0,   3.0043,  34.9306,2,  34.9310,2,   -999.0,9,  2.8162,    248.1,2,    30.29,2,    20.91,2,     0.04,2,     1.44,2, -999.000,9,   -999.0,9,  -999.0,9,-999.000,9,-999.000,9
    316N198301, ATAS3,   124,  1,     21,     21,2,19830215,0718, -8.0467, -29.0067, 5474, 3600.0,   3591.0,   2.4044,  34.9011,2,  34.9000,2,   -999.0,9,  2.1046,    256.8,2,    37.72,2,    20.62,2,     0.04,2,     1.42,2, -999.000,9,   -999.0,9,  3593.0,2,-999.000,9,   2.403,2
    316N198301, ATAS3,   124,  1,     52,     52,2,19830215,0718, -8.0467, -29.0067, 5474, 4428.7,   4419.0,   1.0088,  34.7519,2,  34.7520,2,   -999.0,9,  0.6577,    229.8,2,    96.56,2,    30.20,2,     0.07,2,     2.00,2, -999.000,9,   -999.0,9,  -999.0,9,-999.000,9,-999.000,9
    316N198301, ATAS3,   124,  1,     23,     23,2,19830215,0718, -8.0467, -29.0067, 5474, 5606.1,   5596.0,   0.6019,  34.6957,2,  34.6940,2,   -999.0,9,  0.1263,    222.0,2,   121.59,2,    33.43,2,     0.07,2,     2.17,2, -999.000,9,   -999.0,9,  5604.0,2,-999.000,9,   0.605,2
    316N198301, ATAS3,   125,  1,      1,      1,2,19830215,1743, -8.1467, -29.9967, 5389,   89.6,     10.0,  27.7549,  36.4658,2,  36.4640,2,   -999.0,9, 27.7525,    199.4,2,     1.76,2,     0.00,2,     0.00,2,     0.23,2,    1.540,2,   2031.0,2,  -999.0,9,   0.090,2,  27.757,2
    316N198301, ATAS3,   125,  1,      2,      2,2,19830215,1743, -8.1467, -29.9967, 5389,  113.2,     70.0,  27.0199,  36.6914,2,  36.6900,2,   -999.0,9, 27.0037,    204.1,2,     1.76,2,     0.00,2,     0.00,2,     0.20,2,    1.190,2,   2039.0,2,  -999.0,9,   0.090,2,-999.000,9
    316N198301, ATAS3,   125,  1,      3,      3,2,19830215,1743, -8.1467, -29.9967, 5389,  137.4,    103.0,  24.9419,  36.8087,2,  36.8060,2,   -999.0,9, 24.9195,    209.6,2,     1.66,2,     0.00,2,     0.00,2,     0.21,2,    0.960,2,   2054.0,2,  -999.0,9,   0.090,2,-999.000,9
    316N198301, ATAS3,   125,  1,      4,      4,2,19830215,1743, -8.1467, -29.9967, 5389,  162.4,    140.0,  21.7480,  36.4523,2,  36.4500,2,   -999.0,9, 21.7203,    177.7,2,     2.34,2,     2.27,2,     0.35,2,     0.54,2,    0.770,2,   2104.0,2,  -999.0,9,   0.080,2,-999.000,9
    316N198301, ATAS3,   125,  1,      5,      5,2,19830215,1743, -8.1467, -29.9967, 5389,  188.7,    170.0,  17.5811,  35.9183,2,  35.9060,2,   -999.0,9, 17.5522,    142.3,2,     4.10,2,    11.13,2,     0.02,2,     1.00,2,    0.775,2,   2135.0,2,  -999.0,9,   0.041,2,-999.000,9
    316N198301, ATAS3,   125,  1,      6,      6,2,19830215,1743, -8.1467, -29.9967, 5389,  300.9,    285.0,   9.2162,  34.8232,2,  34.8240,2,   -999.0,9,  9.1847,    119.6,2,    14.17,2,    28.24,2,     0.00,2,     1.89,2,    0.170,2,   2190.0,2,  -999.0,9,   0.050,2,-999.000,9
    316N198301, ATAS3,   125,  1,      7,      7,2,19830215,1743, -8.1467, -29.9967, 5389,  365.6,    350.0,   7.8982,  34.6895,2,  34.6910,2,   -999.0,9,  7.8629,    104.4,2,    18.77,2,    33.62,2,     0.00,2,     2.16,2,    0.160,2,   2210.0,2,  -999.0,9,   0.050,2,-999.000,9
    316N198301, ATAS3,   125,  1,      8,      8,2,19830215,1743, -8.1467, -29.9967, 5389,  425.5,    410.0,   7.3073,  34.6378,2,  34.6350,2,   -999.0,9,  7.2675,    106.1,2,    20.43,2,    34.60,2,     0.00,2,     2.24,2,    0.010,2,   2215.0,2,  -999.0,9,   0.060,2,-999.000,9
    316N198301, ATAS3,   125,  1,      9,      9,2,19830215,1743, -8.1467, -29.9967, 5389,  485.4,    470.0,   6.7163,  34.5860,2,  34.5850,2,   -999.0,9,  6.6727,    113.0,2,    22.19,2,    35.19,2,     0.00,2,     2.29,2, -999.000,9,   -999.0,9,  -999.0,9,-999.000,9,-999.000,9
    316N198301, ATAS3,   125,  1,     10,     10,2,19830215,1743, -8.1467, -29.9967, 5389,  515.8,    505.9,   6.3943,  34.5555,2,  34.5620,2,   -999.0,9,  6.3485,    121.7,2,    23.36,2,    34.90,2,     0.01,2,     2.29,2, -999.000,9,   -999.0,9,  -999.0,9,-999.000,9,-999.000,9
    316N198301, ATAS3,   125,  1,     11,     11,2,19830215,1743, -8.1467, -29.9967, 5389,  540.8,    530.9,   6.2673,  34.5455,2,  34.5490,2,   -999.0,9,  6.2197,    124.8,2,    23.66,2,    34.90,2,     0.01,2,     2.31,2, -999.000,9,   -999.0,9,   532.0,2,-999.000,9,   6.266,2
    316N198301, ATAS3,   125,  1,     12,     12,2,19830215,1743, -8.1467, -29.9967, 5389,  826.0,    816.7,   4.4803,  34.4544,2,  34.4560,2,   -999.0,9,  4.4167,    157.8,2,    33.73,2,    34.70,2,     0.02,2,     2.36,2, -999.000,9,   -999.0,9,  -999.0,9,-999.000,9,-999.000,9
    316N198301, ATAS3,   125,  1,     13,     13,2,19830215,1743, -8.1467, -29.9967, 5389, 1022.1,   1013.0,   3.9713,  34.5560,2,  34.5550,2,   -999.0,9,  3.8947,    168.6,2,    37.44,2,    33.04,2,     0.02,2,     2.27,2, -999.000,9,   -999.0,9,  -999.0,9,-999.000,9,-999.000,9
    316N198301, ATAS3,   125,  1,     14,     14,2,19830215,1743, -8.1467, -29.9967, 5389, 1366.3,   1358.0,   4.2093,  34.8633,2,  34.8670,2,   -999.0,9,  4.1000,    204.2,2,    25.51,2,    24.92,2,     0.02,2,     1.77,2, -999.000,9,   -999.0,9,  -999.0,9,-999.000,9,-999.000,9
    316N198301, ATAS3,   125,  1,     15,     15,2,19830215,1743, -8.1467, -29.9967, 5389, 1749.4,   1741.9,   3.6903,  34.9617,2,  34.9660,2,   -999.0,9,  3.5517,    249.4,2,    20.72,2,    18.96,2,     0.02,2,     1.41,2, -999.000,9,   -999.0,9,  -999.0,9,-999.000,9,-999.000,9
    316N198301, ATAS3,   125,  1,     16,     16,2,19830215,1743, -8.1467, -29.9967, 5389, 1902.4,   1895.6,   3.4793,  34.9524,2,  34.9520,2,   -999.0,9,  3.3294,    249.8,2,    23.36,2,    19.25,2,     0.03,2,     1.43,2, -999.000,9,   -999.0,9,  -999.0,9,-999.000,9,-999.000,9
    316N198301, ATAS3,   125,  1,     17,     17,2,19830215,1743, -8.1467, -29.9967, 5389, 2059.1,   2052.9,   3.3363,  34.9519,2,  34.9540,2,   -999.0,9,  3.1737,    252.9,2,    24.14,2,    18.96,2,     0.03,2,     1.41,2, -999.000,9,   -999.0,9,  2062.0,2,-999.000,9,   3.340,2
    316N198301, ATAS3,   125,  1,     18,     18,2,19830215,1743, -8.1467, -29.9967, 5389, 2498.8,   2494.7,   2.9653,  34.9306,2,  34.9310,2,   -999.0,9,  2.7666,    251.1,2,    30.98,2,    19.64,2,     0.03,2,     1.45,2, -999.000,9,   -999.0,9,  -999.0,9,-999.000,9,-999.000,9
    316N198301, ATAS3,   125,  1,     19,     19,2,19830215,1743, -8.1467, -29.9967, 5389, 3104.4,   3102.9,   2.6893,  34.9168,2,  34.9190,2,   -999.0,9,  2.4347,    253.3,2,    34.59,2,    19.74,2,     0.04,2,     1.46,2, -999.000,9,   -999.0,9,  3097.0,2,-999.000,9,   2.687,2
    316N198301, ATAS3,   125,  1,     20,     20,2,19830215,1743, -8.1467, -29.9967, 5389, 3750.4,   3751.8,   2.2784,  34.8867,2,  34.8850,2,   -999.0,9,  1.9642,    255.0,2,    43.78,2,    20.52,2,     0.04,2,     1.51,2, -999.000,9,   -999.0,9,  -999.0,9,-999.000,9,-999.000,9
    316N198301, ATAS3,   125,  1,     21,     21,2,19830215,1743, -8.1467, -29.9967, 5389, 4092.7,   4095.7,   1.6064,  34.8133,2,  34.8140,2,   -999.0,9,  1.2731,    241.6,2,    73.40,2,    25.02,2,     0.05,2,     1.80,2, -999.000,9,   -999.0,9,  4094.0,2,-999.000,9,   1.616,2
    316N198301, ATAS3,   125,  1,     22,     22,2,19830215,1743, -8.1467, -29.9967, 5389, 4405.5,   4410.0,   1.0824,  34.7568,2,  34.7570,2,   -999.0,9,  0.7300,    231.1,2,    95.29,2,    28.34,2,     0.05,2,     2.01,2, -999.000,9,   -999.0,9,  -999.0,9,-999.000,9,-999.000,9
    316N198301, ATAS3,   125,  1,     23,     23,2,19830215,1743, -8.1467, -29.9967, 5389, 5050.8,   5058.1,   0.7304,  34.7155,2,  34.7140,2,   -999.0,9,  0.3153,    225.9,2,   116.60,2,    30.89,2,     0.05,2,     2.17,2, -999.000,9,   -999.0,9,  5058.0,2,-999.000,9,   0.734,2
    316N198301, ATAS3,   126,  1,      1,      1,2,19830216,0415, -8.2733, -31.0133, 5344,   45.1,     13.0,  27.7368,  36.4988,2,  36.4980,2,   -999.0,9, 27.7338,    198.9,2,     1.66,2,     0.00,2,     0.00,2,     0.19,2, -999.000,9,   -999.0,9,  -999.0,9,-999.000,9,  27.726,2
    316N198301, ATAS3,   126,  1,      2,      2,2,19830216,0415, -8.2733, -31.0133, 5344,   93.4,     49.0,  27.6828,  36.5075,2,  36.5050,2,   -999.0,9, 27.6713,    199.4,2,     1.56,2,     0.00,2,     0.00,2,     0.17,2, -999.000,9,   -999.0,9,  -999.0,9,-999.000,9,-999.000,9
    316N198301, ATAS3,   126,  1,      3,      3,2,19830216,0415, -8.2733, -31.0133, 5344,  121.5,     86.0,  25.6408,  36.8194,2,  36.8180,2,   -999.0,9, 25.6217,    208.8,2,     1.56,2,     0.00,2,     0.00,2,     0.14,2, -999.000,9,   -999.0,9,  -999.0,9,-999.000,9,-999.000,9
    316N198301, ATAS3,   126,  1,      4,      4,2,19830216,0415, -8.2733, -31.0133, 5344,  155.3,    138.0,  19.8040,  36.2366,2,  36.2400,2,   -999.0,9, 19.7785,    165.9,2,     2.64,2,     4.62,2,     0.05,2,     0.65,2, -999.000,9,   -999.0,9,  -999.0,9,-999.000,9,-999.000,9
    316N198301, ATAS3,   126,  1,      5,      5,2,19830216,0415, -8.2733, -31.0133, 5344,  216.8,    207.0,  12.8971,  35.2735,2,  35.2760,2,   -999.0,9, 12.8687,    116.1,2,     8.11,2,    20.91,2,     0.06,2,     1.46,2, -999.000,9,   -999.0,9,  -999.0,9,-999.000,9,-999.000,9
    316N198301, ATAS3,   126,  1,      6,      6,2,19830216,0415, -8.2733, -31.0133, 5344,  246.4,    237.0,  11.4351,  35.0880,2,  35.0850,2,   -999.0,9, 11.4051,    109.2,2,    10.46,2,    24.72,2,     0.07,2,     1.65,2, -999.000,9,   -999.0,9,  -999.0,9,-999.000,9,-999.000,9
    316N198301, ATAS3,   126,  1,      7,      7,2,19830216,0415, -8.2733, -31.0133, 5344,  325.3,    317.0,   8.3752,  34.7281,2,  34.7370,2,   -999.0,9,  8.3421,    120.0,2,    15.74,2,    30.30,2,     0.09,2,     1.94,2, -999.000,9,   -999.0,9,  -999.0,9,-999.000,9,-999.000,9
    316N198301, ATAS3,   126,  1,      8,      8,2,19830216,0415, -8.2733, -31.0133, 5344,  345.5,    338.0,   8.0182,  34.6979,2,  34.6990,2,   -999.0,9,  7.9838,    106.5,2,    18.38,2,    34.50,2,     0.08,2,     2.08,2, -999.000,9,   -999.0,9,  -999.0,9,-999.000,9,-999.000,9
    316N198301, ATAS3,   126,  1,      9,      9,2,19830216,0415, -8.2733, -31.0133, 5344,  430.2,    423.0,   7.0332,  34.6060,2,  34.6070,2,   -999.0,9,  6.9931,    111.7,2,    20.72,2,    36.26,2,     0.08,2,     2.21,2, -999.000,9,   -999.0,9,  -999.0,9,-999.000,9,-999.000,9
    316N198301, ATAS3,   126,  1,     10,     10,2,19830216,0415, -8.2733, -31.0133, 5344,  545.3,    536.3,   5.9302,  34.5165,2,  34.5320,2,   -999.0,9,  5.8835,    132.2,2,    24.05,2,    36.76,2,     0.07,2,     2.25,2, -999.000,9,   -999.0,9,  -999.0,9,-999.000,9,-999.000,9
    316N198301, ATAS3,   126,  1,     11,     11,2,19830216,0415, -8.2733, -31.0133, 5344,  605.0,    596.1,   5.4912,  34.4866,2,  34.4910,2,   -999.0,9,  5.4411,    140.9,2,    26.00,2,    36.95,2,     0.07,2,     2.28,2, -999.000,9,   -999.0,9,   600.0,2,-999.000,9,   5.492,2
    316N198301, ATAS3,   126,  1,     12,     12,2,19830216,0415, -8.2733, -31.0133, 5344,  765.4,    756.8,   4.6442,  34.4537,2,  34.4560,2,   -999.0,9,  4.5847,    155.6,2,    31.18,2,    34.70,2,     0.10,2,     2.33,2, -999.000,9,   -999.0,9,  -999.0,9,-999.000,9,-999.000,9
    316N198301, ATAS3,   126,  1,     13,     13,2,19830216,0415, -8.2733, -31.0133, 5344, 1005.6,    997.3,   4.0183,  34.5811,2,  34.5820,2,   -999.0,9,  3.9426,    167.3,2,    35.09,2,    32.55,2,     0.10,2,     2.24,2, -999.000,9,   -999.0,9,  -999.0,9,-999.000,9,-999.000,9
    316N198301, ATAS3,   126,  1,     14,     14,2,19830216,0415, -8.2733, -31.0133, 5344, 1295.6,   1287.8,   4.2583,  34.8550,2,  34.8580,2,   -999.0,9,  4.1548,    199.5,2,    24.04,2,    25.21,2,     0.08,2,     1.78,2, -999.000,9,   -999.0,9,  -999.0,9,-999.000,9,-999.000,9
    316N198301, ATAS3,   126,  1,     15,     15,2,19830216,0415, -8.2733, -31.0133, 5344, 1525.3,   1518.0,   4.1623,  34.9430,2,  34.9470,2,   -999.0,9,  4.0386,    228.1,2,    19.54,2,    21.11,2,     0.06,2,     1.51,2, -999.000,9,   -999.0,9,  -999.0,9,-999.000,9,-999.000,9
    316N198301, ATAS3,   126,  1,     16,     16,2,19830216,0415, -8.2733, -31.0133, 5344, 1713.5,   1706.5,   3.8323,  34.9630,2,  34.9650,2,   -999.0,9,  3.6951,    245.5,2,    18.66,2,    19.06,2,     0.06,2,     1.39,2, -999.000,9,   -999.0,9,  -999.0,9,-999.000,9,-999.000,9
    316N198301, ATAS3,   126,  1,     17,     17,2,19830216,0415, -8.2733, -31.0133, 5344, 2167.7,   2162.8,   3.2543,  34.9460,2,  34.9480,2,   -999.0,9,  3.0826,    252.0,2,    24.82,2,    19.06,2,     0.06,2,     1.38,2, -999.000,9,   -999.0,9,  2171.0,2,-999.000,9,   3.259,2
    316N198301, ATAS3,   126,  1,     18,     18,2,19830216,0415, -8.2733, -31.0133, 5344, 2654.2,   2651.4,   2.8543,  34.9230,2,  34.9230,2,   -999.0,9,  2.6422,    250.3,2,    32.74,2,    20.03,2,     0.05,2,     1.44,2, -999.000,9,   -999.0,9,  -999.0,9,-999.000,9,-999.000,9
    316N198301, ATAS3,   126,  1,     19,     19,2,19830216,0415, -8.2733, -31.0133, 5344, 3135.2,   3134.5,   2.6703,  34.9182,2,  34.9200,2,   -999.0,9,  2.4128,    254.2,2,    33.03,2,    19.64,2,     0.05,2,     1.42,2, -999.000,9,   -999.0,9,  3132.0,2,-999.000,9,   2.671,2
    316N198301, ATAS3,   126,  1,     20,     20,2,19830216,0415, -8.2733, -31.0133, 5344, 3753.7,   3755.7,   2.2913,  34.8908,2,  34.8900,2,   -999.0,9,  1.9763,    258.9,2,    39.58,2,    19.94,2,     0.05,2,     1.43,2, -999.000,9,   -999.0,9,  -999.0,9,-999.000,9,-999.000,9
    316N198301, ATAS3,   126,  1,     21,     21,2,19830216,0415, -8.2733, -31.0133, 5344, 4292.9,   4297.5,   1.1723,  34.7671,2,  34.7660,2,   -999.0,9,  0.8297,    233.3,2,    89.53,2,    28.05,2,     0.06,2,     1.94,2, -999.000,9,   -999.0,9,  -999.0,9,-999.000,9,   1.179,2
    316N198301, ATAS3,   126,  1,     22,     22,2,19830216,0415, -8.2733, -31.0133, 5344, 4689.9,   4696.3,   0.8463,  34.7304,2,  34.7310,2,   -999.0,9,  0.4693,    227.2,2,   108.29,2,    30.20,2,     0.06,2,     2.08,2, -999.000,9,   -999.0,9,  -999.0,9,-999.000,9,-999.000,9
    316N198301, ATAS3,   126,  1,     23,     23,2,19830216,0415, -8.2733, -31.0133, 5344, 5130.2,   5138.5,   0.6473,  34.7055,2,  34.7050,2,   -999.0,9,  0.2256,    224.2,2,   118.17,2,    31.77,2,     0.07,2,     2.18,2, -999.000,9,   -999.0,9,  5138.0,2,-999.000,9,   0.650,2