BOTTLE,20060405WHPSIOdm
EXPOCODE,SECT_ID,STNNBR,CASTNO,SAMPNO,BTLNBR,BTLNBR_FLAG_W,DATE,TIME,LATITUDE,LONGITUDE,DEPTH,CTDRAW,CTDPRS,CTDTMP,CTDSAL,CTDSAL_FLAG_W,SALNTY,SALNTY_FLAG_W,CTDOXY,CTDOXY_FLAG_W,THETA,OXYGEN,OXYGEN_FLAG_W,SILCAT,SILCAT_FLAG_W,NITRAT,NITRAT_FLAG_W,NITRIT,NITRIT_FLAG_W,PHSPHT,PHSPHT_FLAG_W,TRITUM,TRITUM_FLAG_W,TCARBN,TCARBN_FLAG_W,REVPRS,REVPRS_FLAG_W,TRITER,TRITER_FLAG_W,REVTMP,REVTMP_FLAG_W
,,,,,,,,,,,,,DBAR,ITS-90,PSS-78,,PSS-78,,UMOL/KG,,DEG C,UMOL/KG,,UMOL/KG,,UMOL/KG,,UMOL/KG,,UMOL/KG,,TU,,UMOL/KG,,DBAR,,TU,,ITS-90,
    316N198301, ATAS3,   109,  1,      1,      1,2,19830208,0134,  4.1667, -28.0133, 4351,   44.6,     11.0,  27.2978,  35.8541,2,  35.8490,2,   -999.0,9, 27.2953,    202.5,2,     1.07,2,     0.00,2,     0.00,2,     0.09,2,    1.280,2,   -999.0,9,  -999.0,9,   0.080,2,  27.295,2
    316N198301, ATAS3,   109,  1,      2,      2,2,19830208,0134,  4.1667, -28.0133, 4351,   66.0,     47.0,  26.0329,  36.0112,2,  36.0060,2,   -999.0,9, 26.0223,    193.7,2,     1.46,2,     0.00,2,     0.00,2,     0.16,2,    1.260,2,   2024.0,2,  -999.0,9,   0.080,2,-999.000,9
    316N198301, ATAS3,   109,  1,      3,      3,2,19830208,0134,  4.1667, -28.0133, 4351,  107.1,     94.0,  15.9570,  35.6006,2,  35.5990,2,   -999.0,9, 15.9422,    107.5,2,     6.25,2,    18.85,2,     0.02,2,     1.29,2,    0.790,2,   -999.0,9,  -999.0,9,   0.050,2,-999.000,9
    316N198301, ATAS3,   109,  1,      4,      4,2,19830208,0134,  4.1667, -28.0133, 4351,  132.3,    117.0,  14.4791,  35.4673,2,  35.4670,2,   -999.0,9, 14.4617,    105.7,2,     7.23,2,    20.71,2,     0.01,2,     1.42,2,    0.770,2,   2173.0,2,  -999.0,9,   0.070,2,-999.000,9
    316N198301, ATAS3,   109,  1,      5,      5,2,19830208,0134,  4.1667, -28.0133, 4351,  181.7,    167.0,  13.5091,  35.3527,2,  35.3510,2,   -999.0,9, 13.4855,    118.3,2,     8.01,2,    20.61,2,     0.00,2,     1.41,2, -999.000,9,   -999.0,9,  -999.0,9,-999.000,9,-999.000,9
    316N198301, ATAS3,   109,  1,      6,      6,2,19830208,0134,  4.1667, -28.0133, 4351,  200.9,    187.0,  13.1881,  35.3109,2,  35.3090,2,   -999.0,9, 13.1621,    117.5,2,     8.30,2,    21.30,2,     0.00,2,     1.44,2,    0.555,2,   2168.0,2,  -999.0,9,   0.041,2,-999.000,9
    316N198301, ATAS3,   109,  1,      7,      7,2,19830208,0134,  4.1667, -28.0133, 4351,  291.5,    277.0,  11.5641,  35.1131,2,  35.1070,2,   -999.0,9, 11.5287,     88.7,2,     9.97,2,    22.67,2,     0.00,2,     1.51,2,    0.523,2,   -999.0,9,  -999.0,9,   0.044,2,-999.000,9
    316N198301, ATAS3,   109,  1,      8,      8,2,19830208,0134,  4.1667, -28.0133, 4351,  331.2,    317.0,  10.2732,  34.9838,2,  34.9800,2,   -999.0,9, 10.2355,     88.7,2,    13.58,2,    29.71,2,     0.00,2,     1.88,2, -999.000,9,   -999.0,9,  -999.0,9,-999.000,9,-999.000,9
    316N198301, ATAS3,   109,  1,      9,      9,2,19830208,0134,  4.1667, -28.0133, 4351,  370.9,    356.0,   9.2882,  34.8846,2,  34.8790,2,   -999.0,9,  9.2484,     91.8,2,    15.73,2,    31.37,2,     0.00,2,     1.97,2,    0.230,2,   2209.0,2,  -999.0,9,   0.050,2,-999.000,9
    316N198301, ATAS3,   109,  1,     10,     10,2,19830208,0134,  4.1667, -28.0133, 4351,  421.0,    406.0,   8.8402,  34.8361,2,  34.8360,2,   -999.0,9,  8.7961,     93.5,2,    16.71,2,    32.06,2,     0.00,2,     2.02,2,    0.130,2,   -999.0,9,  -999.0,9,   0.040,2,-999.000,9
    316N198301, ATAS3,   109,  1,     11,     11,2,19830208,0134,  4.1667, -28.0133, 4351,  501.1,    487.0,   7.4762,  34.6879,2,  34.6860,2,   -999.0,9,  7.4281,    116.1,2,    19.74,2,    32.55,2,     0.00,2,     2.11,2,    0.050,2,   2206.0,2,  -999.0,9,   0.050,2,   7.464,2
    316N198301, ATAS3,   109,  1,     12,     12,2,19830208,0134,  4.1667, -28.0133, 4351,  600.8,    592.1,   6.2992,  34.5870,2,  34.5790,2,   -999.0,9,  6.2457,    133.0,2,    25.90,2,    33.92,2,     0.00,2,     2.24,2,    0.128,2,   -999.0,9,  -999.0,9,   0.044,2,-999.000,9
    316N198301, ATAS3,   109,  1,     13,     13,2,19830208,0134,  4.1667, -28.0133, 4351,  695.7,    687.2,   5.7502,  34.5515,2,  34.5520,2,   -999.0,9,  5.6905,    133.9,2,    26.20,2,    34.21,2,     0.01,2,     2.26,2, -999.000,9,   -999.0,9,  -999.0,9,-999.000,9,-999.000,9
    316N198301, ATAS3,   109,  1,     14,     14,2,19830208,0134,  4.1667, -28.0133, 4351,  800.3,    792.1,   4.9943,  34.5410,2,  34.5400,2,   -999.0,9,  4.9294,    142.6,2,    29.91,2,    34.41,2,     0.01,2,     2.30,2, -999.000,9,   -999.0,9,  -999.0,9,-999.000,9,-999.000,9
    316N198301, ATAS3,   109,  1,     15,     15,2,19830208,0134,  4.1667, -28.0133, 4351, 1000.5,    992.5,   4.6563,  34.6166,2,  34.6170,2,   -999.0,9,  4.5760,    151.3,2,    30.99,2,    33.14,2,     0.01,2,     2.23,2, -999.000,9,   -999.0,9,  -999.0,9,-999.000,9,-999.000,9
    316N198301, ATAS3,   109,  1,     16,     16,2,19830208,0134,  4.1667, -28.0133, 4351, 1085.9,   1078.1,   4.6843,  34.6945,2,  34.6930,2,   -999.0,9,  4.5961,    154.3,2,    29.32,2,    31.86,2,     0.01,2,     2.14,2, -999.000,9,   -999.0,9,  -999.0,9,-999.000,9,-999.000,9
    316N198301, ATAS3,   109,  1,     17,     17,2,19830208,0134,  4.1667, -28.0133, 4351, 1396.8,   1389.9,   4.4293,  34.9385,2,  34.9380,2,   -999.0,9,  4.3146,    214.7,2,    20.23,2,    22.97,2,     0.01,2,     1.57,2, -999.000,9,   -999.0,9,  1400.0,2,-999.000,9,   4.428,2
    316N198301, ATAS3,   109,  1,     18,     18,2,19830208,0134,  4.1667, -28.0133, 4351, 1654.4,   1648.5,   4.0263,  34.9658,2,  34.9670,2,   -999.0,9,  3.8921,    236.8,2,    18.86,2,    20.72,2,     0.01,2,     1.42,2, -999.000,9,   -999.0,9,  -999.0,9,-999.000,9,-999.000,9
    316N198301, ATAS3,   109,  1,     19,     19,2,19830208,0134,  4.1667, -28.0133, 4351, 2256.3,   2253.6,   3.1293,  34.9456,2,  34.9430,2,   -999.0,9,  2.9510,    249.8,2,    27.17,2,    20.13,2,     0.01,2,     1.40,2, -999.000,9,   -999.0,9,  -999.0,9,-999.000,9,   3.120,2
    316N198301, ATAS3,   109,  1,     20,     20,2,19830208,0134,  4.1667, -28.0133, 4351, 2798.4,   2798.2,   2.7273,  34.9216,2,  34.9190,2,   -999.0,9,  2.5031,    247.2,2,    35.77,2,    20.82,2,     0.01,2,     1.45,2, -999.000,9,   -999.0,9,  -999.0,9,-999.000,9,-999.000,9
    316N198301, ATAS3,   109,  1,     21,     21,2,19830208,0134,  4.1667, -28.0133, 4351, 3099.1,   3100.4,   2.6373,  34.9153,2,  34.9130,2,   -999.0,9,  2.3841,    245.5,2,    38.21,2,    21.11,2,     0.01,2,     1.46,2, -999.000,9,   -999.0,9,  3098.0,2,-999.000,9,   2.638,2
    316N198301, ATAS3,   109,  1,     22,     22,2,19830208,0134,  4.1667, -28.0133, 4351, 3569.6,   3573.0,   2.4343,  34.8997,2,  34.8990,2,   -999.0,9,  2.1356,    250.7,2,    40.85,2,    20.91,2,     0.01,2,     1.46,2, -999.000,9,   -999.0,9,  -999.0,9,-999.000,9,-999.000,9
    316N198301, ATAS3,   109,  1,     23,     23,2,19830208,0134,  4.1667, -28.0133, 4351, 4420.5,   4427.8,   2.4133,  34.8882,2,  34.8900,2,   -999.0,9,  2.0174,    248.1,2,    44.76,2,    21.40,2,     0.01,2,     1.49,2, -999.000,9,   -999.0,9,  4437.0,2,-999.000,9,   2.415,2
    316N198301, ATAS3,   110,  1,      1,      1,2,19830208,1513,  3.0033, -28.0183, 3974,   33.9,     12.0,  27.3758,  35.5492,2,  35.5470,2,   -999.0,9, 27.3730,    205.6,2,     2.44,2,     0.00,2,     0.00,2,     0.04,2,    1.390,2,   1975.0,2,  -999.0,9,   0.100,2,  27.379,2
    316N198301, ATAS3,   110,  1,      2,      2,2,19830208,1513,  3.0033, -28.0183, 3974,   42.1,     18.0,  26.7578,  35.8891,2,  35.8780,2,   -999.0,9, 26.7537,    204.6,2,     2.44,2,     0.00,2,     0.00,2,     0.08,2, -999.000,9,   -999.0,9,  -999.0,9,-999.000,9,-999.000,9
    316N198301, ATAS3,   110,  1,      3,      3,2,19830208,1513,  3.0033, -28.0183, 3974,   63.3,     43.0,  27.0148,  36.1784,2,  36.1750,2,   -999.0,9, 27.0049,    202.0,2,     2.54,2,     0.00,2,     0.00,2,     0.10,2,    1.220,2,   2021.0,2,  -999.0,9,   0.070,2,-999.000,9
    316N198301, ATAS3,   110,  1,      4,      4,2,19830208,1513,  3.0033, -28.0183, 3974,   76.1,     60.0,  26.3948,  36.0952,2,  36.0990,2,   -999.0,9, 26.3812,    200.7,2,     2.44,2,     0.00,2,     0.00,2,     0.11,2, -999.000,9,   -999.0,9,  -999.0,9,-999.000,9,-999.000,9
    316N198301, ATAS3,   110,  1,      5,      5,2,19830208,1513,  3.0033, -28.0183, 3974,  110.2,     98.0,  16.8960,  35.6707,2,  35.6760,2,   -999.0,9, 16.8798,    107.9,2,     6.35,2,    17.09,2,     0.05,2,     1.16,2,    0.770,2,   2159.0,2,  -999.0,9,   0.070,2,-999.000,9
    316N198301, ATAS3,   110,  1,      6,      6,2,19830208,1513,  3.0033, -28.0183, 3974,  153.9,    144.0,  14.1630,  35.4254,2,  35.4300,2,   -999.0,9, 14.1420,    115.3,2,     8.21,2,    19.64,2,     0.02,2,     1.33,2,    0.750,2,   2163.0,2,  -999.0,9,   0.070,2,-999.000,9
    316N198301, ATAS3,   110,  1,      7,      7,2,19830208,1513,  3.0033, -28.0183, 3974,  181.6,    173.0,  13.4990,  35.3461,2,  35.3490,2,   -999.0,9, 13.4746,    120.5,2,     8.69,2,    19.83,2,     0.01,2,     1.35,2,    0.510,2,   2165.0,2,  -999.0,9,   0.070,2,-999.000,9
    316N198301, ATAS3,   110,  1,      8,      8,2,19830208,1513,  3.0033, -28.0183, 3974,  262.2,    254.0,  12.5770,  35.2291,2,  35.2290,2,   -999.0,9, 12.5427,    123.5,2,     9.67,2,    20.81,2,     0.01,2,     1.42,2,    0.390,2,   2165.0,2,  -999.0,9,   0.070,2,-999.000,9
    316N198301, ATAS3,   110,  1,      9,      9,2,19830208,1513,  3.0033, -28.0183, 3974,  352.4,    345.0,  10.4601,  34.9983,2,  34.9910,2,   -999.0,9, 10.4186,    102.2,2,    13.88,2,    27.65,2,     0.01,2,     1.76,2,    0.130,2,   2196.0,2,  -999.0,9,   0.080,2,-999.000,9
    316N198301, ATAS3,   110,  1,     10,     10,2,19830208,1513,  3.0033, -28.0183, 3974,  422.1,    415.0,   8.9831,  34.8408,2,  34.8320,2,   -999.0,9,  8.9376,     94.8,2,    17.20,2,    31.57,2,     0.01,2,     1.98,2,   -0.020,2,   2211.0,2,  -999.0,9,   0.070,2,-999.000,9
    316N198301, ATAS3,   110,  1,     11,     11,2,19830208,1513,  3.0033, -28.0183, 3974,  482.6,    475.0,   8.0771,  34.7489,2,  34.7530,2,   -999.0,9,  8.0281,    100.0,2,    19.16,2,    32.64,2,     0.01,2,     2.06,2,    0.160,2,   -999.0,9,   477.0,2,   0.060,2,   8.090,2
    316N198301, ATAS3,   110,  1,     12,     12,2,19830208,1513,  3.0033, -28.0183, 3974,  552.1,    542.2,   7.0192,  34.6564,2,  34.6570,2,   -999.0,9,  6.9673,    114.3,2,    22.19,2,    33.43,2,     0.01,2,     2.14,2,   -0.030,2,   2213.0,2,  -999.0,9,   0.060,2,-999.000,9
    316N198301, ATAS3,   110,  1,     13,     13,2,19830208,1513,  3.0033, -28.0183, 3974,  722.6,    713.2,   5.3322,  34.5473,2,  34.5480,2,   -999.0,9,  5.2724,    136.1,2,    28.84,2,    34.41,2,     0.01,2,     2.26,2, -999.000,9,   -999.0,9,  -999.0,9,-999.000,9,-999.000,9
    316N198301, ATAS3,   110,  1,     14,     14,2,19830208,1513,  3.0033, -28.0183, 3974,  808.0,    798.9,   4.9012,  34.5480,2,  34.5490,2,   -999.0,9,  4.8363,    146.1,2,    30.99,2,    33.92,2,     0.01,2,     2.24,2, -999.000,9,   -999.0,9,  -999.0,9,-999.000,9,-999.000,9
    316N198301, ATAS3,   110,  1,     15,     15,2,19830208,1513,  3.0033, -28.0183, 3974,  920.6,    911.6,   4.6802,  34.5833,2,  34.5840,2,   -999.0,9,  4.6069,    146.9,2,    31.87,2,    33.72,2,     0.01,2,     2.25,2, -999.000,9,   -999.0,9,  -999.0,9,-999.000,9,-999.000,9
    316N198301, ATAS3,   110,  1,     16,     16,2,19830208,1513,  3.0033, -28.0183, 3974, 1103.7,   1094.9,   4.5602,  34.7266,2,  34.7260,2,   -999.0,9,  4.4715,    164.3,2,    29.42,2,    30.59,2,     0.01,2,     2.04,2, -999.000,9,   -999.0,9,  -999.0,9,-999.000,9,-999.000,9
    316N198301, ATAS3,   110,  1,     17,     17,2,19830208,1513,  3.0033, -28.0183, 3974, 1293.1,   1284.9,   4.4782,  34.8644,2,  34.8640,2,   -999.0,9,  4.3728,    188.2,2,    24.82,2,    26.48,2,     0.01,2,     1.77,2, -999.000,9,   -999.0,9,  1294.0,2,-999.000,9,   4.480,2
    316N198301, ATAS3,   110,  1,     18,     18,2,19830208,1513,  3.0033, -28.0183, 3974, 1554.2,   1547.3,   4.0712,  34.9689,2,  34.9700,2,   -999.0,9,  3.9459,    239.0,2,    18.66,2,    20.52,2,     0.01,2,     1.38,2, -999.000,9,   -999.0,9,  -999.0,9,-999.000,9,-999.000,9
    316N198301, ATAS3,   110,  1,     19,     19,2,19830208,1513,  3.0033, -28.0183, 3974, 1704.9,   1698.8,   3.8422,  34.9689,2,  34.9700,2,   -999.0,9,  3.7056,    244.6,2,    19.35,2,    20.13,2,     0.01,2,     1.35,2, -999.000,9,   -999.0,9,  1698.0,2,-999.000,9,   3.839,2
    316N198301, ATAS3,   110,  1,     20,     20,2,19830208,1513,  3.0033, -28.0183, 3974, 2100.3,   2096.2,   3.3352,  34.9550,2,  34.9550,2,   -999.0,9,  3.1685,    252.4,2,    23.84,2,    19.84,2,     0.00,2,     1.33,2, -999.000,9,   -999.0,9,  -999.0,9,-999.000,9,-999.000,9
    316N198301, ATAS3,   110,  1,     21,     21,2,19830208,1513,  3.0033, -28.0183, 3974, 2650.7,   2649.4,   2.8662,  34.9291,2,  34.9290,2,   -999.0,9,  2.6541,    249.8,2,    33.23,2,    20.91,2,     0.00,2,     1.41,2, -999.000,9,   -999.0,9,  2648.0,2,-999.000,9,   2.865,2
    316N198301, ATAS3,   110,  1,     22,     22,2,19830208,1513,  3.0033, -28.0183, 3974, 3357.7,   3359.9,   2.4742,  34.9031,2,  34.9020,2,   -999.0,9,  2.1976,    251.6,2,    40.26,2,    21.30,2,     0.00,2,     1.43,2, -999.000,9,   -999.0,9,  -999.0,9,-999.000,9,-999.000,9
    316N198301, ATAS3,   110,  1,     23,     23,2,19830208,1513,  3.0033, -28.0183, 3974, 4023.8,   4029.2,   2.3912,  34.8927,2,  34.8920,2,   -999.0,9,  2.0427,    249.4,2,    44.95,2,    21.89,2,     0.00,2,     1.47,2, -999.000,9,   -999.0,9,  4037.0,2,-999.000,9,   2.394,2
    316N198301, ATAS3,   111,  1,      1,      1,2,19830209,0125,  2.0367, -28.0083, 3499,   21.9,      6.0,  27.6107,  35.6389,2,  35.6390,2,   -999.0,9, 27.6093,    204.3,2,     1.86,2,     0.00,2,     0.00,2,     0.07,2, -999.000,9,   -999.0,9,  -999.0,9,-999.000,9,  27.607,2
    316N198301, ATAS3,   111,  1,      2,      2,2,19830209,0125,  2.0367, -28.0083, 3499,   51.7,     31.0,  26.5007,  35.9404,2,  35.9390,2,   -999.0,9, 26.4937,    205.1,2,     1.86,2,     0.00,2,     0.00,2,     0.13,2,    1.130,2,   2016.0,2,  -999.0,9,   0.080,2,-999.000,9
    316N198301, ATAS3,   111,  1,      3,      3,2,19830209,0125,  2.0367, -28.0083, 3499,   71.8,     52.0,  26.8907,  36.1908,2,  36.1720,2,   -999.0,9, 26.8788,    202.0,2,     1.86,2,     0.00,2,     0.00,2,     0.15,2,    1.177,2,   -999.0,9,  -999.0,9,   0.061,2,-999.000,9
    316N198301, ATAS3,   111,  1,      4,      4,2,19830209,0125,  2.0367, -28.0083, 3499,   76.1,     62.0,  26.6307,  36.1450,2,  36.1460,2,   -999.0,9, 26.6166,    200.7,2,     1.95,2,     0.00,2,     0.00,2,     0.15,2,    1.384,2,   2024.0,2,  -999.0,9,   0.061,2,-999.000,9
    316N198301, ATAS3,   111,  1,      5,      5,2,19830209,0125,  2.0367, -28.0083, 3499,  101.8,     92.0,  17.4869,  35.7395,2,  35.7630,2,   -999.0,9, 17.4714,    141.5,2,     5.18,2,    12.89,2,     0.05,2,     0.97,2,    0.940,2,   2132.0,2,  -999.0,9,   0.060,2,-999.000,9
    316N198301, ATAS3,   111,  1,      6,      6,2,19830209,0125,  2.0367, -28.0083, 3499,  131.3,    122.0,  13.7440,  35.3768,2,  35.3810,2,   -999.0,9, 13.7265,    120.1,2,     7.91,2,    20.03,2,     0.01,2,     1.40,2,    0.640,2,   2163.0,2,  -999.0,9,   0.070,2,-999.000,9
    316N198301, ATAS3,   111,  1,      7,      7,2,19830209,0125,  2.0367, -28.0083, 3499,  171.1,    162.0,  13.0800,  35.2875,2,  35.2850,2,   -999.0,9, 13.0576,    143.1,2,     7.91,2,    18.37,2,     0.01,2,     1.31,2,    0.730,2,   2150.0,2,  -999.0,9,   0.060,2,-999.000,9
    316N198301, ATAS3,   111,  1,      8,      8,2,19830209,0125,  2.0367, -28.0083, 3499,  211.0,    202.0,  12.5520,  35.2150,2,  35.2150,2,   -999.0,9, 12.5248,    150.5,2,     8.30,2,    18.47,2,     0.01,2,     1.32,2,    0.690,2,   -999.0,9,  -999.0,9,   0.060,2,-999.000,9
    316N198301, ATAS3,   111,  1,      9,      9,2,19830209,0125,  2.0367, -28.0083, 3499,  295.5,    286.0,  11.3340,  35.0719,2,  35.0740,2,   -999.0,9, 11.2979,    140.5,2,    10.26,2,    22.08,2,     0.01,2,     1.51,2,    0.460,2,   -999.0,9,  -999.0,9,   0.050,2,-999.000,9
    316N198301, ATAS3,   111,  1,     10,     10,2,19830209,0125,  2.0367, -28.0083, 3499,  340.7,    332.0,  10.5800,  34.9881,2,  35.0050,2,   -999.0,9, 10.5398,    138.7,2,    11.43,2,    23.06,2,     0.01,2,     1.57,2,    0.380,2,   2169.0,2,  -999.0,9,   0.050,2,-999.000,9
    316N198301, ATAS3,   111,  1,     11,     11,2,19830209,0125,  2.0367, -28.0083, 3499,  372.5,    364.0,   9.5080,  34.8764,2,  34.8810,2,   -999.0,9,  9.4668,    123.1,2,    14.37,2,    27.56,2,     0.01,2,     1.82,2,    0.220,2,   2191.0,2,   364.0,2,   0.050,2,   9.501,2
    316N198301, ATAS3,   111,  1,     12,     12,2,19830209,0125,  2.0367, -28.0083, 3499,  532.1,    523.3,   7.1811,  34.6555,2,  34.6560,2,   -999.0,9,  7.1305,    122.6,2,    20.62,2,    32.55,2,     0.01,2,     2.13,2,    0.180,2,   -999.0,9,  -999.0,9,   0.050,2,-999.000,9
    316N198301, ATAS3,   111,  1,     13,     13,2,19830209,0125,  2.0367, -28.0083, 3499,  602.1,    593.9,   5.8021,  34.5265,2,  34.5260,2,   -999.0,9,  5.7507,    143.5,2,    25.12,2,    33.33,2,     0.01,2,     2.23,2, -999.000,9,   -999.0,9,  -999.0,9,-999.000,9,-999.000,9
    316N198301, ATAS3,   111,  1,     14,     14,2,19830209,0125,  2.0367, -28.0083, 3499,  702.5,    694.3,   5.2861,  34.5010,2,  34.5030,2,   -999.0,9,  5.2283,    150.0,2,    27.86,2,    33.63,2,     0.01,2,     2.26,2, -999.000,9,   -999.0,9,  -999.0,9,-999.000,9,-999.000,9
    316N198301, ATAS3,   111,  1,     15,     15,2,19830209,0125,  2.0367, -28.0083, 3499,  802.7,    794.7,   4.8261,  34.5073,2,  34.5080,2,   -999.0,9,  4.7622,    150.8,2,    30.89,2,    34.12,2,     0.01,2,     2.31,2, -999.000,9,   -999.0,9,  -999.0,9,-999.000,9,-999.000,9
    316N198301, ATAS3,   111,  1,     16,     16,2,19830209,0125,  2.0367, -28.0083, 3499, 1153.5,   1146.0,   4.6021,  34.7725,2,  34.7730,2,   -999.0,9,  4.5084,    172.1,2,    27.27,2,    29.22,2,     0.01,2,     2.01,2, -999.000,9,   -999.0,9,  -999.0,9,-999.000,9,-999.000,9
    316N198301, ATAS3,   111,  1,     17,     17,2,19830209,0125,  2.0367, -28.0083, 3499, 1313.7,   1307.1,   4.4981,  34.9092,2,  34.9100,2,   -999.0,9,  4.3905,    204.2,2,    21.89,2,    24.33,2,     0.01,2,     1.69,2, -999.000,9,   -999.0,9,  1313.0,2,-999.000,9,   4.501,2
    316N198301, ATAS3,   111,  1,     18,     18,2,19830209,0125,  2.0367, -28.0083, 3499, 1481.8,   1476.0,   4.2011,  34.9633,2,  34.9640,2,   -999.0,9,  4.0809,    230.7,2,    19.06,2,    21.01,2,     0.01,2,     1.48,2, -999.000,9,   -999.0,9,  -999.0,9,-999.000,9,-999.000,9
    316N198301, ATAS3,   111,  1,     19,     19,2,19830209,0125,  2.0367, -28.0083, 3499, 1911.7,   1908.4,   3.4752,  34.9611,2,  34.9640,2,   -999.0,9,  3.3240,    252.0,2,    21.30,2,    19.15,2,     0.01,2,     1.36,2, -999.000,9,   -999.0,9,  1906.0,2,-999.000,9,   3.478,2
    316N198301, ATAS3,   111,  1,     20,     20,2,19830209,0125,  2.0367, -28.0083, 3499, 2207.7,   2206.0,   3.2152,  34.9533,2,  34.9530,2,   -999.0,9,  3.0400,    254.6,2,    24.24,2,    19.15,2,     0.01,2,     1.36,2, -999.000,9,   -999.0,9,  -999.0,9,-999.000,9,-999.000,9
    316N198301, ATAS3,   111,  1,     21,     21,2,19830209,0125,  2.0367, -28.0083, 3499, 2406.6,   2405.8,   3.0022,  34.9389,2,  34.9380,2,   -999.0,9,  2.8114,    251.1,2,    29.22,2,    19.84,2,     0.01,2,     1.42,2, -999.000,9,   -999.0,9,  2406.0,2,-999.000,9,   3.002,2
    316N198301, ATAS3,   111,  1,     22,     22,2,19830209,0125,  2.0367, -28.0083, 3499, 3151.6,   3154.8,   2.5532,  34.9088,2,  34.9090,2,   -999.0,9,  2.2962,    248.5,2,    38.99,2,    20.72,2,     0.01,2,     1.48,2, -999.000,9,   -999.0,9,  -999.0,9,-999.000,9,-999.000,9
    316N198301, ATAS3,   111,  1,     23,     23,2,19830209,0125,  2.0367, -28.0083, 3499, 3539.0,   3544.2,   2.4122,  34.8979,2,  34.8960,2,   -999.0,9,  2.1172,    248.1,2,    42.90,2,    21.11,2,     0.01,2,     1.51,2, -999.000,9,   -999.0,9,  3553.0,2,-999.000,9,   2.410,2