BOTTLE,20060405WHPSIOdm
EXPOCODE,SECT_ID,STNNBR,CASTNO,SAMPNO,BTLNBR,BTLNBR_FLAG_W,DATE,TIME,LATITUDE,LONGITUDE,DEPTH,CTDRAW,CTDPRS,CTDTMP,CTDSAL,CTDSAL_FLAG_W,SALNTY,SALNTY_FLAG_W,CTDOXY,CTDOXY_FLAG_W,THETA,OXYGEN,OXYGEN_FLAG_W,SILCAT,SILCAT_FLAG_W,NITRAT,NITRAT_FLAG_W,NITRIT,NITRIT_FLAG_W,PHSPHT,PHSPHT_FLAG_W,TRITUM,TRITUM_FLAG_W,TCARBN,TCARBN_FLAG_W,REVPRS,REVPRS_FLAG_W,TRITER,TRITER_FLAG_W,REVTMP,REVTMP_FLAG_W
,,,,,,,,,,,,,DBAR,ITS-90,PSS-78,,PSS-78,,UMOL/KG,,DEG C,UMOL/KG,,UMOL/KG,,UMOL/KG,,UMOL/KG,,UMOL/KG,,TU,,UMOL/KG,,DBAR,,TU,,ITS-90,
    316N198301, ATAS3,   121,  1,      1,      1,2,19830213,1133, -6.0033, -28.0133, 5576,   33.7,     13.0,  27.2901,  36.2363,2,  36.2370,2,   -999.0,9, 27.2871,    200.7,2,     1.85,2,     0.00,2,     0.00,2,     0.16,2, -999.000,9,   -999.0,9,  -999.0,9,-999.000,9,  27.296,2
    316N198301, ATAS3,   121,  1,      2,      2,2,19830213,1133, -6.0033, -28.0133, 5576,   74.9,     40.0,  27.0601,  36.3680,2,  36.3810,2,   -999.0,9, 27.0509,    204.2,2,     1.66,2,     0.00,2,     0.00,2,     0.18,2,    0.910,2,   2037.0,2,  -999.0,9,   0.080,2,-999.000,9
    316N198301, ATAS3,   121,  1,      3,      3,2,19830213,1133, -6.0033, -28.0133, 5576,   94.4,     60.0,  26.7141,  36.4165,2,  36.4090,2,   -999.0,9, 26.7004,    204.6,2,     1.56,2,     0.00,2,     0.00,2,     0.17,2,    1.250,2,   2042.0,2,  -999.0,9,   0.090,2,-999.000,9
    316N198301, ATAS3,   121,  1,      4,      4,2,19830213,1133, -6.0033, -28.0133, 5576,  114.6,     82.0,  25.0522,  36.6581,2,  36.6540,2,   -999.0,9, 25.0342,    207.0,2,     1.56,2,     0.00,2,     0.00,2,     0.16,2,    1.410,2,   2050.0,2,  -999.0,9,   0.080,2,-999.000,9
    316N198301, ATAS3,   121,  1,      5,      5,2,19830213,1133, -6.0033, -28.0133, 5576,  116.4,     90.0,  24.4702,  36.6387,2,  36.6350,2,   -999.0,9, 24.4508,    201.8,2,     1.66,2,     0.12,2,     0.04,2,     0.21,2,    1.030,2,   2068.0,2,  -999.0,9,   0.090,2,-999.000,9
    316N198301, ATAS3,   121,  1,      6,      6,2,19830213,1133, -6.0033, -28.0133, 5576,  138.5,    116.0,  20.3802,  36.3131,2,  36.2170,2,   -999.0,9, 20.3584,    163.7,2,     2.83,2,     5.28,2,     0.08,2,     0.67,2, -999.000,9,   -999.0,9,  -999.0,9,-999.000,9,-999.000,9
    316N198301, ATAS3,   121,  1,      7,      7,2,19830213,1133, -6.0033, -28.0133, 5576,  171.8,    153.0,  14.0264,  35.4297,2,  35.4320,2,   -999.0,9, 14.0042,    104.4,2,     7.72,2,    19.93,2,     0.03,2,     1.41,2,    0.750,2,   2177.0,2,  -999.0,9,   0.070,2,-999.000,9
    316N198301, ATAS3,   121,  1,      8,      8,2,19830213,1133, -6.0033, -28.0133, 5576,  205.9,    188.0,  11.8684,  35.1594,2,  35.1580,2,   -999.0,9, 11.8440,     98.3,2,    10.55,2,    23.84,2,     0.04,2,     1.64,2,    0.370,2,   2188.0,2,  -999.0,9,   0.070,2,-999.000,9
    316N198301, ATAS3,   121,  1,      9,      9,2,19830213,1133, -6.0033, -28.0133, 5576,  244.9,    228.0,  10.5334,  34.9847,2,  34.9820,2,   -999.0,9, 10.5061,     97.0,2,    12.61,2,    26.68,2,     0.05,2,     1.80,2,    0.340,2,   2197.0,2,  -999.0,9,   0.070,2,-999.000,9
    316N198301, ATAS3,   121,  1,     10,     10,2,19830213,1133, -6.0033, -28.0133, 5576,  318.7,    303.0,   9.4065,  34.8541,2,  34.8630,2,   -999.0,9,  9.3725,     87.8,2,    15.25,2,    30.30,2,     0.06,2,     1.97,2,    0.001,2,   2208.0,2,  -999.0,9,   0.050,2,-999.000,9
    316N198301, ATAS3,   121,  1,     11,     11,2,19830213,1133, -6.0033, -28.0133, 5576,  409.1,    394.0,   8.3495,  34.7465,2,  34.7480,2,   -999.0,9,  8.3082,     80.4,2,    18.18,2,    33.91,2,     0.06,2,     2.18,2,   -0.040,2,   2224.0,2,   403.0,2,   0.050,2,   8.344,2
    316N198301, ATAS3,   121,  1,     12,     12,2,19830213,1133, -6.0033, -28.0133, 5576,  502.5,    493.6,   7.2245,  34.6364,2,  34.6390,2,   -999.0,9,  7.1767,     93.9,2,    20.82,2,    34.80,2,     0.06,2,     2.26,2,   -0.010,2,   2227.0,2,  -999.0,9,   0.060,2,-999.000,9
    316N198301, ATAS3,   121,  1,     13,     13,2,19830213,1133, -6.0033, -28.0133, 5576,  691.8,    683.4,   5.6255,  34.5093,2,  34.5100,2,   -999.0,9,  5.5669,    126.9,2,    26.20,2,    34.51,2,     0.07,2,     2.32,2, -999.000,9,   -999.0,9,  -999.0,9,-999.000,9,-999.000,9
    316N198301, ATAS3,   121,  1,     14,     14,2,19830213,1133, -6.0033, -28.0133, 5576,  844.3,    836.2,   4.6635,  34.4528,2,  34.4550,2,   -999.0,9,  4.5971,    161.7,2,    31.28,2,    32.85,2,     0.06,2,     2.26,2, -999.000,9,   -999.0,9,  -999.0,9,-999.000,9,-999.000,9
    316N198301, ATAS3,   121,  1,     15,     15,2,19830213,1133, -6.0033, -28.0133, 5576, 1017.3,   1009.6,   4.0476,  34.5511,2,  34.5490,2,   -999.0,9,  3.9706,    166.5,2,    35.87,2,    31.87,2,     0.06,2,     2.22,2, -999.000,9,   -999.0,9,  -999.0,9,-999.000,9,-999.000,9
    316N198301, ATAS3,   121,  1,     16,     16,2,19830213,1133, -6.0033, -28.0133, 5576, 1300.9,   1293.7,   4.2646,  34.8592,2,  34.8610,2,   -999.0,9,  4.1605,    200.8,2,    24.63,2,    24.14,2,     0.05,2,     1.73,2, -999.000,9,   -999.0,9,  -999.0,9,-999.000,9,-999.000,9
    316N198301, ATAS3,   121,  1,     17,     17,2,19830213,1133, -6.0033, -28.0133, 5576, 1549.8,   1543.1,   4.1216,  34.9614,2,  34.9630,2,   -999.0,9,  3.9960,    235.9,2,    18.57,2,    19.35,2,     0.03,2,     1.42,2, -999.000,9,   -999.0,9,  1551.0,2,-999.000,9,   4.122,2
    316N198301, ATAS3,   121,  1,     18,     18,2,19830213,1133, -6.0033, -28.0133, 5576, 1993.3,   1988.1,   3.4776,  34.9572,2,  34.9590,2,   -999.0,9,  3.3190,    252.4,2,    21.50,2,    18.08,2,     0.03,2,     1.33,2, -999.000,9,   -999.0,9,  -999.0,9,-999.000,9,-999.000,9
    316N198301, ATAS3,   121,  1,     19,     19,2,19830213,1133, -6.0033, -28.0133, 5576, 2492.3,   2489.4,   2.8846,  34.9202,2,  34.9220,2,   -999.0,9,  2.6879,    245.5,2,    34.69,2,    19.74,2,     0.03,2,     1.45,2, -999.000,9,   -999.0,9,  2489.0,2,-999.000,9,   2.879,2
    316N198301, ATAS3,   121,  1,     20,     20,2,19830213,1133, -6.0033, -28.0133, 5576, 3015.4,   3014.8,   2.6896,  34.9198,2,  34.9180,2,   -999.0,9,  2.4441,    252.9,2,    34.01,2,    18.96,2,     0.02,2,     1.40,2, -999.000,9,   -999.0,9,  -999.0,9,-999.000,9,-999.000,9
    316N198301, ATAS3,   121,  1,     21,     21,2,19830213,1133, -6.0033, -28.0133, 5576, 3751.9,   3754.4,   2.3416,  34.8957,2,  34.8950,2,   -999.0,9,  2.0254,    258.9,2,    38.41,2,    19.15,2,     0.03,2,     1.40,2, -999.000,9,   -999.0,9,  -999.0,9,-999.000,9,   2.342,2
    316N198301, ATAS3,   121,  1,     22,     22,2,19830213,1133, -6.0033, -28.0133, 5576, 4521.6,   4527.7,   0.9196,  34.7406,2,  34.7390,2,   -999.0,9,  0.5593,    232.4,2,   104.38,2,    28.73,2,     0.03,2,     2.03,2, -999.000,9,   -999.0,9,  -999.0,9,-999.000,9,-999.000,9
    316N198301, ATAS3,   121,  1,     23,     23,2,19830213,1133, -6.0033, -28.0133, 5576, 5152.2,   5161.0,   0.7466,  34.7148,2,  34.7160,2,   -999.0,9,  0.3187,    225.5,2,   114.45,2,    30.49,2,     0.03,2,     2.12,2, -999.000,9,   -999.0,9,  5178.0,2,-999.000,9,   0.753,2
    316N198301, ATAS3,   122,  1,      1,      1,2,19830214,0117, -7.0167, -27.9900, 5586,   45.9,     11.0,  27.3051,  36.3854,2,  36.3890,2,   -999.0,9, 27.3025,    201.1,2,     0.39,2,     0.00,2,     0.00,2,     0.20,2, -999.000,9,   -999.0,9,  -999.0,9,-999.000,9,  27.308,2
    316N198301, ATAS3,   122,  1,      2,      2,2,19830214,0117, -7.0167, -27.9900, 5586,  101.2,     59.0,  27.1881,  36.4050,2,  36.4040,2,   -999.0,9, 27.1744,    201.1,2,     0.29,2,     0.00,2,     0.00,2,     0.18,2, -999.000,9,   -999.0,9,  -999.0,9,-999.000,9,-999.000,9
    316N198301, ATAS3,   122,  1,      3,      3,2,19830214,0117, -7.0167, -27.9900, 5586,  113.7,     73.0,  26.4051,  36.6862,2,  36.6950,2,   -999.0,9, 26.3885,    208.9,2,     0.20,2,     0.00,2,     0.00,2,     0.12,2, -999.000,9,   -999.0,9,  -999.0,9,-999.000,9,-999.000,9
    316N198301, ATAS3,   122,  1,      4,      4,2,19830214,0117, -7.0167, -27.9900, 5586,  129.9,     96.0,  24.5261,  36.8687,2,  36.8700,2,   -999.0,9, 24.5054,    205.2,2,     0.39,2,     0.00,2,     0.00,2,     0.17,2, -999.000,9,   -999.0,9,  -999.0,9,-999.000,9,-999.000,9
    316N198301, ATAS3,   122,  1,      5,      5,2,19830214,0117, -7.0167, -27.9900, 5586,  141.1,    116.0,  22.6821,  36.6317,2,  36.6340,2,   -999.0,9, 22.6585,    190.3,2,     0.78,2,     0.61,2,     0.23,2,     0.34,2, -999.000,9,   -999.0,9,  -999.0,9,-999.000,9,-999.000,9
    316N198301, ATAS3,   122,  1,      6,      6,2,19830214,0117, -7.0167, -27.9900, 5586,  159.0,    138.0,  19.2582,  36.1547,2,  36.1620,2,   -999.0,9, 19.2332,    152.4,2,     2.05,2,     7.66,2,     0.08,2,     0.77,2, -999.000,9,   -999.0,9,  -999.0,9,-999.000,9,-999.000,9
    316N198301, ATAS3,   122,  1,      7,      7,2,19830214,0117, -7.0167, -27.9900, 5586,  196.8,    180.0,  13.9853,  35.4197,2,  35.4060,2,   -999.0,9, 13.9592,    124.0,2,     5.86,2,    18.66,2,     0.02,2,     1.32,2, -999.000,9,   -999.0,9,  -999.0,9,-999.000,9,-999.000,9
    316N198301, ATAS3,   122,  1,      8,      8,2,19830214,0117, -7.0167, -27.9900, 5586,  244.8,    231.0,  10.8704,  35.0232,2,  35.0150,2,   -999.0,9, 10.8420,    108.3,2,    10.26,2,    26.58,2,     0.01,2,     1.72,2, -999.000,9,   -999.0,9,  -999.0,9,-999.000,9,-999.000,9
    316N198301, ATAS3,   122,  1,      9,      9,2,19830214,0117, -7.0167, -27.9900, 5586,  309.9,    296.0,   9.4454,  34.8495,2,  34.8450,2,   -999.0,9,  9.4121,    110.9,2,    13.10,2,    29.51,2,     0.01,2,     1.87,2, -999.000,9,   -999.0,9,  -999.0,9,-999.000,9,-999.000,9
    316N198301, ATAS3,   122,  1,     10,     10,2,19830214,0117, -7.0167, -27.9900, 5586,  349.7,    336.0,   9.0474,  34.8053,2,  34.8200,2,   -999.0,9,  9.0106,    103.1,2,    13.98,2,    31.18,2,     0.01,2,     1.94,2, -999.000,9,   -999.0,9,  -999.0,9,-999.000,9,-999.000,9
    316N198301, ATAS3,   122,  1,     11,     11,2,19830214,0117, -7.0167, -27.9900, 5586,  404.8,    392.0,   8.2524,  34.7154,2,  34.7180,2,   -999.0,9,  8.2117,    130.9,2,    14.95,2,    30.10,2,     0.01,2,     1.92,2, -999.000,9,   -999.0,9,   415.0,2,-999.000,9,   8.255,2
    316N198301, ATAS3,   122,  1,     12,     12,2,19830214,0117, -7.0167, -27.9900, 5586,  464.7,    454.1,   7.6524,  34.6733,2,  34.6770,2,   -999.0,9,  7.6071,     95.2,2,    18.18,2,    35.58,2,     0.02,2,     2.19,2, -999.000,9,   -999.0,9,  -999.0,9,-999.000,9,-999.000,9
    316N198301, ATAS3,   122,  1,     13,     13,2,19830214,0117, -7.0167, -27.9900, 5586,  543.1,    532.7,   6.9094,  34.6007,2,  34.6040,2,   -999.0,9,  6.8590,    110.4,2,    19.94,2,    35.58,2,     0.02,2,     2.22,2, -999.000,9,   -999.0,9,  -999.0,9,-999.000,9,-999.000,9
    316N198301, ATAS3,   122,  1,     14,     14,2,19830214,0117, -7.0167, -27.9900, 5586,  812.0,    802.3,   4.7435,  34.4743,2,  34.4780,2,   -999.0,9,  4.6794,    143.9,2,    29.82,2,    36.07,2,     0.02,2,     2.33,2, -999.000,9,   -999.0,9,  -999.0,9,-999.000,9,-999.000,9
    316N198301, ATAS3,   122,  1,     15,     15,2,19830214,0117, -7.0167, -27.9900, 5586, 1012.3,   1003.0,   4.0615,  34.5646,2,  34.5670,2,   -999.0,9,  3.9850,    165.2,2,    35.19,2,    33.63,2,     0.02,2,     2.20,2, -999.000,9,   -999.0,9,  -999.0,9,-999.000,9,-999.000,9
    316N198301, ATAS3,   122,  1,     16,     16,2,19830214,0117, -7.0167, -27.9900, 5586, 1390.9,   1382.5,   4.2325,  34.8946,2,  34.8970,2,   -999.0,9,  4.1206,    210.3,2,    22.67,2,    24.14,2,     0.01,2,     1.63,2, -999.000,9,   -999.0,9,  -999.0,9,-999.000,9,-999.000,9
    316N198301, ATAS3,   122,  1,     17,     17,2,19830214,0117, -7.0167, -27.9900, 5586, 1808.0,   1800.4,   3.7595,  34.9655,2,  34.9670,2,   -999.0,9,  3.6145,    248.1,2,    18.96,2,    19.54,2,     0.01,2,     1.33,2, -999.000,9,   -999.0,9,  1813.0,2,-999.000,9,   3.759,2
    316N198301, ATAS3,   122,  1,     18,     18,2,19830214,0117, -7.0167, -27.9900, 5586, 2404.9,   2400.1,   2.9405,  34.9231,2,  34.9220,2,   -999.0,9,  2.7514,    245.9,2,    32.84,2,    20.82,2,     0.01,2,     1.43,2, -999.000,9,   -999.0,9,  -999.0,9,-999.000,9,-999.000,9
    316N198301, ATAS3,   122,  1,     19,     19,2,19830214,0117, -7.0167, -27.9900, 5586, 2898.8,   2896.1,   2.7045,  34.9131,2,  34.9130,2,   -999.0,9,  2.4709,    246.8,2,    37.04,2,    21.11,2,     0.01,2,     1.45,2, -999.000,9,   -999.0,9,  2896.0,2,-999.000,9,   2.698,2
    316N198301, ATAS3,   122,  1,     20,     20,2,19830214,0117, -7.0167, -27.9900, 5586, 3704.0,   3704.7,   2.3755,  34.8991,2,  34.8970,2,   -999.0,9,  2.0639,    258.5,2,    37.82,2,    20.03,2,     0.01,2,     1.39,2, -999.000,9,   -999.0,9,  -999.0,9,-999.000,9,-999.000,9
    316N198301, ATAS3,   122,  1,     21,     21,2,19830214,0117, -7.0167, -27.9900, 5586, 4008.6,   4010.8,   1.7935,  34.8357,2,  34.8360,2,   -999.0,9,  1.4642,    245.9,2,    64.01,2,    24.14,2,     0.01,2,     1.66,2, -999.000,9,   -999.0,9,  4007.0,2,-999.000,9,   1.800,2
    316N198301, ATAS3,   122,  1,     22,     22,2,19830214,0117, -7.0167, -27.9900, 5586, 4413.8,   4418.1,   0.9596,  34.7482,2,  34.7460,2,   -999.0,9,  0.6102,    229.8,2,   106.63,2,    29.61,2,     0.01,2,     2.00,2, -999.000,9,   -999.0,9,  -999.0,9,-999.000,9,-999.000,9
    316N198301, ATAS3,   122,  1,     23,     23,2,19830214,0117, -7.0167, -27.9900, 5586, 5133.8,   5141.1,   0.7476,  34.7166,2,  34.7160,2,   -999.0,9,  0.3220,    225.1,2,   118.46,2,    31.47,2,     0.01,2,     2.12,2, -999.000,9,   -999.0,9,  5153.0,2,-999.000,9,   0.750,2
    316N198301, ATAS3,   123,  3,      1,      1,2,19830214,1826, -7.9183, -27.9883, 5544,   31.0,      6.0,  27.5920,  36.3958,2,  36.3970,2,   -999.0,9, 27.5906,    201.1,2,     1.07,2,     0.03,2,     0.00,2,     0.21,2, -999.000,9,   -999.0,9,  -999.0,9,-999.000,9,  27.580,2
    316N198301, ATAS3,   123,  3,      5,      5,2,19830214,1826, -7.9183, -27.9883, 5544,   47.3,      6.0,  27.5660,  36.3960,2,-999.0000,9,   -999.0,9, 27.5646,   -999.0,9,  -999.00,9,  -999.00,9,  -999.00,9,  -999.00,9, -999.000,9,   -999.0,9,  -999.0,9,-999.000,9,-999.000,9
    316N198301, ATAS3,   123,  3,      3,      3,2,19830214,1826, -7.9183, -27.9883, 5544,   48.4,      6.0,  27.5550,  36.3953,2,-999.0000,9,   -999.0,9, 27.5536,   -999.0,9,  -999.00,9,  -999.00,9,  -999.00,9,  -999.00,9, -999.000,9,   -999.0,9,  -999.0,9,-999.000,9,-999.000,9
    316N198301, ATAS3,   123,  3,      4,      4,2,19830214,1826, -7.9183, -27.9883, 5544,   46.2,      6.0,  27.5440,  36.3960,2,-999.0000,9,   -999.0,9, 27.5426,   -999.0,9,  -999.00,9,  -999.00,9,  -999.00,9,  -999.00,9, -999.000,9,   -999.0,9,  -999.0,9,-999.000,9,-999.000,9
    316N198301, ATAS3,   123,  3,      2,      2,2,19830214,1826, -7.9183, -27.9883, 5544,   46.5,      6.0,  27.5330,  36.3953,2,-999.0000,9,   -999.0,9, 27.5316,   -999.0,9,  -999.00,9,  -999.00,9,  -999.00,9,  -999.00,9, -999.000,9,   -999.0,9,  -999.0,9,-999.000,9,-999.000,9
    316N198301, ATAS3,   123,  3,      6,      6,2,19830214,1826, -7.9183, -27.9883, 5544,   80.6,     40.0,  27.2700,  36.3915,2,  36.3930,2,   -999.0,9, 27.2607,    202.9,2,     0.98,2,     0.03,2,     0.00,2,     0.20,2,    1.040,2,   2040.0,2,  -999.0,9,   0.060,2,-999.000,9
    316N198301, ATAS3,   123,  3,      7,      7,2,19830214,1826, -7.9183, -27.9883, 5544,  110.0,     69.0,  27.3030,  36.6757,2,  36.6710,2,   -999.0,9, 27.2870,    201.5,2,     0.88,2,     0.02,2,     0.00,2,     0.17,2,    1.020,2,   2035.0,2,  -999.0,9,   0.070,2,-999.000,9
    316N198301, ATAS3,   123,  3,      8,      8,2,19830214,1826, -7.9183, -27.9883, 5544,  135.8,     98.0,  25.6780,  36.9544,2,  36.9500,2,   -999.0,9, 25.6562,    211.0,2,     0.88,2,     0.02,2,     0.00,2,     0.16,2,    1.170,2,   2056.0,2,  -999.0,9,   0.052,2,-999.000,9
    316N198301, ATAS3,   123,  3,      9,      9,2,19830214,1826, -7.9183, -27.9883, 5544,  151.9,    116.0,  23.9041,  36.7564,2,  36.7700,2,   -999.0,9, 23.8795,    201.7,2,     1.07,2,     0.17,2,     0.02,2,     0.24,2,    1.070,2,   2072.0,2,  -999.0,9,   0.070,2,-999.000,9
    316N198301, ATAS3,   123,  3,     10,     10,2,19830214,1826, -7.9183, -27.9883, 5544,  165.1,    143.0,  20.0541,  36.2477,2,  36.2600,2,   -999.0,9, 20.0275,    162.8,2,     2.15,2,     5.66,2,     0.11,2,     0.68,2,    0.880,2,   2122.0,2,  -999.0,9,   0.080,2,-999.000,9
    316N198301, ATAS3,   123,  3,     11,     11,2,19830214,1826, -7.9183, -27.9883, 5544,  213.7,    199.0,  13.7753,  35.3880,2,  35.4040,2,   -999.0,9, 13.7467,    120.5,2,     6.35,2,    19.24,2,     0.02,2,     1.36,2,    1.024,2,   2163.0,2,   196.0,2,   0.069,2,  13.829,2
    316N198301, ATAS3,   123,  3,     16,     16,2,19830214,1826, -7.9183, -27.9883, 5544,  729.4,    719.4,   4.8344,  34.4546,2,  34.4550,2,   -999.0,9,  4.7769,    152.6,2,    28.94,2,    35.49,2,     0.02,2,     2.24,2, -999.000,9,   -999.0,9,  -999.0,9,-999.000,9,-999.000,9
    316N198301, ATAS3,   123,  3,     17,     17,2,19830214,1826, -7.9183, -27.9883, 5544,  875.8,    866.1,   4.2274,  34.4834,2,  34.4820,2,   -999.0,9,  4.1613,    159.1,2,    34.02,2,    35.68,2,     0.02,2,     2.28,2, -999.000,9,   -999.0,9,   870.0,2,-999.000,9,   4.232,2
    316N198301, ATAS3,   123,  3,     18,     18,2,19830214,1826, -7.9183, -27.9883, 5544, 1715.7,   1707.5,   3.8844,  34.9627,2,  34.9640,2,   -999.0,9,  3.7465,    243.3,2,    18.27,2,    20.72,2,     0.02,2,     1.34,2, -999.000,9,   -999.0,9,  -999.0,9,-999.000,9,-999.000,9
    316N198301, ATAS3,   123,  3,     19,     19,2,19830214,1826, -7.9183, -27.9883, 5544, 2692.0,   2688.1,   2.8105,  34.9175,2,  34.9180,2,   -999.0,9,  2.5956,    246.4,2,    34.59,2,    21.60,2,     0.02,2,     1.42,2, -999.000,9,   -999.0,9,  2690.0,2,-999.000,9,   2.809,2
    316N198301, ATAS3,   123,  3,     20,     20,2,19830214,1826, -7.9183, -27.9883, 5544, 3149.5,   3147.6,   2.6545,  34.9132,2,  34.9040,2,   -999.0,9,  2.3960,    252.0,2,    37.92,2,    21.01,2,     0.03,2,     1.39,2, -999.000,9,   -999.0,9,  -999.0,9,-999.000,9,-999.000,9
    316N198301, ATAS3,   123,  3,     21,     21,2,19830214,1826, -7.9183, -27.9883, 5544, 3494.6,   3494.2,   2.5105,  34.9085,2,  34.9100,2,   -999.0,9,  2.2184,    257.2,2,    34.59,2,    20.23,2,     0.03,2,     1.37,2,    0.410,2,   2176.0,2,  3492.0,2,   0.070,2,   2.510,2
    316N198301, ATAS3,   123,  3,     22,     22,2,19830214,1826, -7.9183, -27.9883, 5544, 4033.9,   4035.9,   1.7955,  34.8352,2,  34.8340,2,   -999.0,9,  1.4633,    244.2,2,    64.21,2,    24.73,2,     0.04,2,     1.63,2,    0.132,2,   2208.0,2,  -999.0,9,   0.028,2,-999.000,9
    316N198301, ATAS3,   123,  3,     23,     23,2,19830214,1826, -7.9183, -27.9883, 5544, 5153.4,   5160.4,   0.6905,  34.7115,2,  34.7090,2,   -999.0,9,  0.2646,    224.2,2,   116.80,2,    32.06,2,     0.04,2,     2.12,2,   -0.005,2,   -999.0,9,  5173.0,2,   0.041,2,   0.696,2