BOTTLE,20060405WHPSIOdm
EXPOCODE,SECT_ID,STNNBR,CASTNO,SAMPNO,BTLNBR,BTLNBR_FLAG_W,DATE,TIME,LATITUDE,LONGITUDE,DEPTH,CTDRAW,CTDPRS,CTDTMP,CTDSAL,CTDSAL_FLAG_W,SALNTY,SALNTY_FLAG_W,CTDOXY,CTDOXY_FLAG_W,THETA,OXYGEN,OXYGEN_FLAG_W,SILCAT,SILCAT_FLAG_W,NITRAT,NITRAT_FLAG_W,NITRIT,NITRIT_FLAG_W,PHSPHT,PHSPHT_FLAG_W,TRITUM,TRITUM_FLAG_W,TCARBN,TCARBN_FLAG_W,REVPRS,REVPRS_FLAG_W,TRITER,TRITER_FLAG_W,REVTMP,REVTMP_FLAG_W
,,,,,,,,,,,,,DBAR,ITS-90,PSS-78,,PSS-78,,UMOL/KG,,DEG C,UMOL/KG,,UMOL/KG,,UMOL/KG,,UMOL/KG,,UMOL/KG,,TU,,UMOL/KG,,DBAR,,TU,,ITS-90,
    316N198301, ATAS3,   104,  1,     54,     54,2,19830205,1429,  9.5133, -27.9817, 5449, 2681.1,   2674.0,   2.9153,  34.9375,2,  34.9390,2,   -999.0,9,  2.6997,    252.0,2,    29.41,2,    20.42,2,     0.00,2,     1.34,2, -999.000,9,   -999.0,9,  2720.0,2,-999.000,9,   2.909,2
    316N198301, ATAS3,   104,  1,     57,     57,2,19830205,1429,  9.5133, -27.9817, 5449, 3192.5,   3185.0,   2.6024,  34.9166,2,  34.9160,2,   -999.0,9,  2.3411,    250.3,2,    36.55,2,    21.11,2,     0.00,2,     1.42,2, -999.000,9,   -999.0,9,  -999.0,9,-999.000,9,-999.000,9
    316N198301, ATAS3,   104,  1,     33,     33,2,19830205,1429,  9.5133, -27.9817, 5449, 3959.6,   3952.0,   2.3694,  34.8964,2,  34.8950,2,   -999.0,9,  2.0303,    251.6,2,    42.90,2,    21.50,2,     0.00,2,     1.46,2, -999.000,9,   -999.0,9,  -999.0,9,-999.000,9,-999.000,9
    316N198301, ATAS3,   104,  1,     56,     56,2,19830205,1429,  9.5133, -27.9817, 5449, 5466.7,   5459.0,   2.3254,  34.8760,2,  34.8760,2,   -999.0,9,  1.8028,    247.6,2,    51.01,2,    22.58,2,     0.00,2,     1.53,2, -999.000,9,   -999.0,9,  -999.0,9,-999.000,9,-999.000,9
    316N198301, ATAS3,   104,  1,     35,     35,2,19830205,1429,  9.5133, -27.9817, 5449, 5470.6,   5463.0,   2.3254,  34.8757,2,  34.8760,2,   -999.0,9,  1.8023,    247.2,2,    51.01,2,    22.48,2,     0.00,2,     1.53,2, -999.000,9,   -999.0,9,  -999.0,9,-999.000,9,-999.000,9
    316N198301, ATAS3,   104,  1,     37,     37,2,19830205,1429,  9.5133, -27.9817, 5449, 5543.6,   5536.0,   2.3314,  34.8751,2,  34.8820,2,   -999.0,9,  1.7984,    246.8,2,    50.13,2,    22.28,2,     0.00,2,     1.51,2, -999.000,9,   -999.0,9,  -999.0,9,-999.000,9,-999.000,9
    316N198301, ATAS3,   104,  1,     55,     55,2,19830205,1429,  9.5133, -27.9817, 5449, 5543.6,   5536.0,   2.3314,  34.8751,2,  34.8750,2,   -999.0,9,  1.7984,    249.0,2,    51.31,2,    22.48,2,     0.00,2,     1.52,2, -999.000,9,   -999.0,9,  -999.0,9,-999.000,9,   2.330,2
    316N198301, ATAS3,   104,  1,     39,     39,2,19830205,1429,  9.5133, -27.9817, 5449, 5583.6,   5576.0,   2.3354,  34.8756,2,  34.8760,2,   -999.0,9,  1.7970,    247.2,2,    51.11,2,    22.38,2,     0.00,2,     1.52,2, -999.000,9,   -999.0,9,  -999.0,9,-999.000,9,-999.000,9
    316N198301, ATAS3,   104,  1,     52,     52,2,19830205,1429,  9.5133, -27.9817, 5449, 5583.6,   5576.0,   2.3354,  34.8756,2,  34.8740,2,   -999.0,9,  1.7970,    248.1,2,    51.21,2,    22.48,2,     0.00,2,     1.53,2, -999.000,9,   -999.0,9,  5600.0,2,-999.000,9,   2.338,2
    316N198301, ATAS3,   104,  1,     36,     36,2,19830205,1429,  9.5133, -27.9817, 5449, 5596.5,   5589.0,   2.3374,  34.8748,2,  34.8770,2,   -999.0,9,  1.7972,    247.2,2,    51.01,2,    22.38,2,     0.00,2,     1.52,2, -999.000,9,   -999.0,9,  -999.0,9,-999.000,9,-999.000,9
    316N198301, ATAS3,   104,  1,     53,     53,2,19830205,1429,  9.5133, -27.9817, 5449, 5596.5,   5589.0,   2.3374,  34.8748,2,  34.8750,2,   -999.0,9,  1.7972,    249.4,2,    50.82,2,    22.38,2,     0.00,2,     1.52,2, -999.000,9,   -999.0,9,  -999.0,9,-999.000,9,-999.000,9
    316N198301, ATAS3,   104,  3,      1,      1,2,19830205,2143,  9.5233, -27.9733, 5459,   51.4,     11.0,  25.6992,  36.2045,2,  36.2020,2,   -999.0,9, 25.6967,    204.5,2,     1.46,2,     0.00,2,     0.00,2,     0.08,2,    1.410,2,   2017.0,2,  -999.0,9,   0.090,2,  25.702,2
    316N198301, ATAS3,   104,  3,      2,      2,2,19830205,2143,  9.5233, -27.9733, 5459,   73.7,     40.0,  25.7022,  36.2060,2,  36.2010,2,   -999.0,9, 25.6933,    204.5,2,     1.27,2,     0.00,2,     0.00,2,     0.07,2, -999.000,9,   -999.0,9,  -999.0,9,-999.000,9,-999.000,9
    316N198301, ATAS3,   104,  3,      4,      4,2,19830205,2143,  9.5233, -27.9733, 5459,   96.0,     81.0,  17.2523,  35.8028,2,  35.8040,2,   -999.0,9, 17.2388,     93.6,2,  -999.00,9,  -999.00,9,  -999.00,9,  -999.00,9, -999.000,9,   -999.0,9,  -999.0,9,-999.000,9,-999.000,9
    316N198301, ATAS3,   104,  3,      3,      3,2,19830205,2143,  9.5233, -27.9733, 5459,   96.3,     81.0,  17.0163,  35.7701,2,  35.8090,2,   -999.0,9, 17.0029,     94.9,2,     5.47,2,    17.58,2,     0.08,2,     1.13,2, -999.000,9,   -999.0,9,  -999.0,9,-999.000,9,-999.000,9
    316N198301, ATAS3,   104,  3,      5,      5,2,19830205,2143,  9.5233, -27.9733, 5459,  140.5,    128.0,  12.6614,  35.2955,2,  35.2940,2,   -999.0,9, 12.6441,    115.7,2,     9.18,2,    22.96,2,     0.01,2,     1.48,2,    0.650,2,   2185.0,2,  -999.0,9,   0.060,2,-999.000,9
    316N198301, ATAS3,   104,  3,      6,      6,2,19830205,2143,  9.5233, -27.9733, 5459,  210.0,    198.0,  11.1374,  35.0967,2,  35.0980,2,   -999.0,9, 11.1128,    116.6,2,    10.94,2,    24.72,2,     0.00,2,     1.59,2,    0.485,2,   2183.0,2,  -999.0,9,   0.049,2,-999.000,9
    316N198301, ATAS3,   104,  3,      7,      7,2,19830205,2143,  9.5233, -27.9733, 5459,  241.4,    230.0,  10.6474,  35.0325,2,  35.0310,2,   -999.0,9, 10.6196,    112.6,2,    12.12,2,    26.19,2,     0.00,2,     1.68,2, -999.000,9,   -999.0,9,  -999.0,9,-999.000,9,-999.000,9
    316N198301, ATAS3,   104,  3,      8,      8,2,19830205,2143,  9.5233, -27.9733, 5459,  265.4,    255.0,  10.2305,  34.9823,2,  34.9800,2,   -999.0,9, 10.2003,    122.2,2,    12.41,2,    25.99,2,     0.00,2,     1.67,2,    0.410,2,   2191.0,2,  -999.0,9,   0.044,2,-999.000,9
    316N198301, ATAS3,   104,  3,      9,      9,2,19830205,2143,  9.5233, -27.9733, 5459,  330.4,    320.0,   9.7285,  34.9434,2,  34.9420,2,   -999.0,9,  9.6918,     95.7,2,    14.27,2,    30.00,2,     0.00,2,     1.87,2,    0.250,2,   2208.0,2,  -999.0,9,   0.024,2,-999.000,9
    316N198301, ATAS3,   104,  3,     10,     10,2,19830205,2143,  9.5233, -27.9733, 5459,  400.4,    391.0,   9.1825,  34.9074,2,  34.9130,2,   -999.0,9,  9.1390,     80.9,2,    16.03,2,    32.64,2,     0.00,2,     1.99,2,    0.140,2,   2240.0,2,  -999.0,9,   0.050,2,-999.000,9
    316N198301, ATAS3,   104,  3,     12,     12,2,19830205,2143,  9.5233, -27.9733, 5459,  515.6,    504.7,   8.5325,  34.9209,2,-999.0000,9,   -999.0,9,  8.4785,   -999.0,9,  -999.00,9,  -999.00,9,  -999.00,9,  -999.00,9, -999.000,9,   -999.0,9,  -999.0,9,-999.000,9,-999.000,9
    316N198301, ATAS3,   104,  3,     31,     31,2,19830205,2143,  9.5233, -27.9733, 5459,  515.8,    504.9,   8.5325,  34.9208,2,  34.9200,2,   -999.0,9,  8.4784,     73.9,2,    17.20,2,    34.01,2,     0.00,2,     2.07,2,    0.170,2,   -999.0,9,  -999.0,9,   0.050,2,-999.000,9
    316N198301, ATAS3,   104,  3,     13,     13,2,19830205,2143,  9.5233, -27.9733, 5459,  551.4,    540.6,   8.1115,  34.8842,2,  34.8810,2,   -999.0,9,  8.0552,     64.8,2,    20.13,2,    36.65,2,     0.01,2,     2.26,2, -999.000,9,   -999.0,9,  -999.0,9,-999.000,9,-999.000,9
    316N198301, ATAS3,   104,  3,     14,     14,2,19830205,2143,  9.5233, -27.9733, 5459,  588.5,    577.8,   7.7805,  34.8500,2,  34.8490,2,   -999.0,9,  7.7217,     69.1,2,    20.82,2,    36.75,2,     0.01,2,     2.27,2, -999.000,9,   -999.0,9,  -999.0,9,-999.000,9,-999.000,9
    316N198301, ATAS3,   104,  3,     15,     15,2,19830205,2143,  9.5233, -27.9733, 5459,  671.6,    661.2,   6.9395,  34.7717,2,  34.7720,2,   -999.0,9,  6.8760,     79.1,2,    23.55,2,    37.43,2,     0.01,2,     2.33,2,   -0.040,2,   2239.0,2,  -999.0,9,   0.050,2,-999.000,9
    316N198301, ATAS3,   104,  3,     32,     32,2,19830205,2143,  9.5233, -27.9733, 5459,  755.5,    745.4,   6.2015,  34.7076,2,-999.0000,9,   -999.0,9,  6.1337,   -999.0,9,  -999.00,9,  -999.00,9,  -999.00,9,  -999.00,9, -999.000,9,   -999.0,9,  -999.0,9,-999.000,9,-999.000,9
    316N198301, ATAS3,   104,  3,     18,     18,2,19830205,2143,  9.5233, -27.9733, 5459,  809.5,    799.5,   5.9255,  34.6971,2,  34.6950,2,   -999.0,9,  5.8542,   -999.0,9,  -999.00,9,  -999.00,9,  -999.00,9,  -999.00,9, -999.000,9,   -999.0,9,  -999.0,9,-999.000,9,-999.000,9
    316N198301, ATAS3,   104,  3,     17,     17,2,19830205,2143,  9.5233, -27.9733, 5459,  810.6,    800.6,   5.9135,  34.6964,2,  34.6980,2,   -999.0,9,  5.8422,    107.8,2,    26.29,2,    36.07,2,     0.01,2,     2.36,2,    0.050,2,   2228.0,2,   802.0,2,   0.040,2,   5.919,2
    316N198301, ATAS3,   104,  3,     34,     34,2,19830205,2143,  9.5233, -27.9733, 5459, 1220.2,   1212.3,   4.8166,  34.8742,2,-999.0000,9,   -999.0,9,  4.7147,   -999.0,9,  -999.00,9,  -999.00,9,  -999.00,9,  -999.00,9, -999.000,9,   -999.0,9,  -999.0,9,-999.000,9,-999.000,9
    316N198301, ATAS3,   104,  3,     38,     38,2,19830205,2143,  9.5233, -27.9733, 5459, 1729.4,   1724.3,   3.8966,  34.9707,2,-999.0000,9,   -999.0,9,  3.7569,   -999.0,9,  -999.00,9,  -999.00,9,  -999.00,9,  -999.00,9, -999.000,9,   -999.0,9,  -999.0,9,-999.000,9,-999.000,9
    316N198301, ATAS3,   104,  3,     20,     20,2,19830205,2143,  9.5233, -27.9733, 5459, 1729.9,   1724.8,   3.8966,  34.9717,2,  34.9710,2,   -999.0,9,  3.7569,    240.3,2,    18.96,2,    20.62,2,     0.01,2,     1.38,2, -999.000,9,   -999.0,9,  -999.0,9,-999.000,9,-999.000,9
    316N198301, ATAS3,   104,  3,     22,     22,2,19830205,2143,  9.5233, -27.9733, 5459, 2257.7,   2255.5,   3.2576,  34.9539,2,  34.9550,2,   -999.0,9,  3.0769,    249.4,2,    29.41,2,    20.13,2,     0.01,2,     1.36,2, -999.000,9,   -999.0,9,  -999.0,9,-999.000,9,-999.000,9
    316N198301, ATAS3,   104,  3,     40,     40,2,19830205,2143,  9.5233, -27.9733, 5459, 2702.9,   2703.0,   2.8986,  34.9391,2,  34.9370,2,   -999.0,9,  2.6804,    252.4,2,    29.41,2,    20.33,2,     0.00,2,     1.36,2, -999.000,9,   -999.0,9,  2573.0,2,-999.000,9,   2.940,2
    316N198301, ATAS3,   105,  1,      1,      1,2,19830206,1012,  8.0200, -27.9700, 5075,   45.3,     10.0,  26.2271,  36.0637,2,  36.0590,2,   -999.0,9, 26.2248,    203.7,2,     1.37,2,     0.00,2,     0.00,2,     0.06,2, -999.000,9,   -999.0,9,  -999.0,9,-999.000,9,  26.241,2
    316N198301, ATAS3,   105,  1,      2,      2,2,19830206,1012,  8.0200, -27.9700, 5075,  105.3,     65.0,  26.1651,  36.0649,2,  36.0590,2,   -999.0,9, 26.1505,    203.3,2,     1.17,2,     0.00,2,     0.00,2,     0.06,2, -999.000,9,   -999.0,9,  -999.0,9,-999.000,9,-999.000,9
    316N198301, ATAS3,   105,  1,      3,      3,2,19830206,1012,  8.0200, -27.9700, 5075,   92.3,     73.0,  23.0571,  36.1535,2,  36.1680,2,   -999.0,9, 23.0422,    178.2,2,     1.76,2,     0.00,2,     0.28,2,     0.27,2, -999.000,9,   -999.0,9,  -999.0,9,-999.000,9,-999.000,9
    316N198301, ATAS3,   105,  1,      4,      4,2,19830206,1012,  8.0200, -27.9700, 5075,   92.2,     82.0,  19.3972,  36.0132,2,  36.0120,2,   -999.0,9, 19.3823,    133.2,2,     4.10,2,    11.33,2,     0.09,2,     0.79,2, -999.000,9,   -999.0,9,  -999.0,9,-999.000,9,-999.000,9
    316N198301, ATAS3,   105,  1,      5,      5,2,19830206,1012,  8.0200, -27.9700, 5075,  136.6,    129.0,  12.7193,  35.2966,2,  35.3020,2,   -999.0,9, 12.7018,    130.9,2,     8.79,2,    20.52,2,     0.02,2,     1.38,2, -999.000,9,   -999.0,9,  -999.0,9,-999.000,9,-999.000,9
    316N198301, ATAS3,   105,  1,      6,      6,2,19830206,1012,  8.0200, -27.9700, 5075,  205.2,    199.0,  11.0494,  35.0863,2,  35.0830,2,   -999.0,9, 11.0247,    120.0,2,    10.85,2,    24.62,2,     0.02,2,     1.59,2, -999.000,9,   -999.0,9,  -999.0,9,-999.000,9,-999.000,9
    316N198301, ATAS3,   105,  1,      7,      7,2,19830206,1012,  8.0200, -27.9700, 5075,  249.9,    244.0,  10.3664,  34.9986,2,  35.0060,2,   -999.0,9, 10.3374,    115.7,2,    12.21,2,    26.29,2,     0.01,2,     1.68,2, -999.000,9,   -999.0,9,  -999.0,9,-999.000,9,-999.000,9
    316N198301, ATAS3,   105,  1,      8,      8,2,19830206,1012,  8.0200, -27.9700, 5075,  299.6,    294.0,   9.9874,  34.9663,2,  34.9640,2,   -999.0,9,  9.9531,     97.4,2,    13.39,2,    29.32,2,     0.02,2,     1.81,2, -999.000,9,   -999.0,9,  -999.0,9,-999.000,9,-999.000,9
    316N198301, ATAS3,   105,  1,      9,      9,2,19830206,1012,  8.0200, -27.9700, 5075,  374.9,    369.0,   8.9784,  34.8411,2,  34.8420,2,   -999.0,9,  8.9381,    115.7,2,    15.15,2,    29.42,2,     0.01,2,     1.88,2, -999.000,9,   -999.0,9,  -999.0,9,-999.000,9,-999.000,9
    316N198301, ATAS3,   105,  1,     10,     10,2,19830206,1012,  8.0200, -27.9700, 5075,  425.1,    419.0,   8.5224,  34.7932,2,  34.7960,2,   -999.0,9,  8.4779,    117.4,2,    16.42,2,    30.49,2,     0.01,2,     1.95,2, -999.000,9,   -999.0,9,  -999.0,9,-999.000,9,-999.000,9
    316N198301, ATAS3,   105,  1,     11,     11,2,19830206,1012,  8.0200, -27.9700, 5075,  495.0,    490.0,   8.1044,  34.7698,2,  34.7750,2,   -999.0,9,  8.0537,     94.4,2,    18.18,2,    33.52,2,     0.01,2,     2.11,2, -999.000,9,   -999.0,9,   488.0,2,-999.000,9,   8.097,2
    316N198301, ATAS3,   105,  1,     12,     12,2,19830206,1012,  8.0200, -27.9700, 5075,  621.8,    612.8,   6.8605,  34.6799,2,  34.6800,2,   -999.0,9,  6.8023,    100.4,2,    22.29,2,    35.48,2,     0.01,2,     2.25,2, -999.000,9,   -999.0,9,  -999.0,9,-999.000,9,-999.000,9
    316N198301, ATAS3,   105,  1,     13,     13,2,19830206,1012,  8.0200, -27.9700, 5075,  754.2,    745.5,   6.1385,  34.6809,2,  34.6810,2,   -999.0,9,  6.0711,    102.2,2,    25.32,2,    36.46,2,     0.01,2,     2.34,2, -999.000,9,   -999.0,9,  -999.0,9,-999.000,9,-999.000,9
    316N198301, ATAS3,   105,  1,     14,     14,2,19830206,1012,  8.0200, -27.9700, 5075,  859.2,    850.8,   5.3155,  34.6508,2,  34.6480,2,   -999.0,9,  5.2433,    123.5,2,    28.54,2,    35.38,2,     0.01,2,     2.31,2, -999.000,9,   -999.0,9,  -999.0,9,-999.000,9,-999.000,9
    316N198301, ATAS3,   105,  1,     15,     15,2,19830206,1012,  8.0200, -27.9700, 5075,  992.6,    984.5,   4.8965,  34.7180,2,-999.0000,9,   -999.0,9,  4.8150,    145.2,2,  -999.00,9,  -999.00,9,  -999.00,9,  -999.00,9, -999.000,9,   -999.0,9,  -999.0,9,-999.000,9,-999.000,9
    316N198301, ATAS3,   105,  1,     16,     16,2,19830206,1012,  8.0200, -27.9700, 5075, 1251.9,   1244.4,   4.6335,  34.8949,2,  34.8960,2,   -999.0,9,  4.5303,    188.2,2,    22.97,2,    26.58,2,     0.00,2,     1.77,2, -999.000,9,   -999.0,9,  -999.0,9,-999.000,9,-999.000,9
    316N198301, ATAS3,   105,  1,     17,     17,2,19830206,1012,  8.0200, -27.9700, 5075, 1252.0,   1244.5,   4.6325,  34.8958,2,  34.8950,2,   -999.0,9,  4.5293,   -999.0,9,  -999.00,9,  -999.00,9,  -999.00,9,  -999.00,9, -999.000,9,   -999.0,9,  1251.0,2,-999.000,9,   4.636,2
    316N198301, ATAS3,   105,  1,     18,     18,2,19830206,1012,  8.0200, -27.9700, 5075, 1692.0,   1685.3,   3.9725,  34.9685,2,  34.9680,2,   -999.0,9,  3.8355,    236.4,2,    18.86,2,    21.11,2,     0.00,2,     1.43,2, -999.000,9,   -999.0,9,  -999.0,9,-999.000,9,-999.000,9
    316N198301, ATAS3,   105,  1,     19,     19,2,19830206,1012,  8.0200, -27.9700, 5075, 2123.0,   2118.2,   3.3975,  34.9578,2,  34.9600,2,   -999.0,9,  3.2278,    249.8,2,    22.18,2,    20.13,2,     0.00,2,     1.36,2, -999.000,9,   -999.0,9,  2119.0,2,-999.000,9,   3.394,2
    316N198301, ATAS3,   105,  1,     20,     20,2,19830206,1012,  8.0200, -27.9700, 5075, 2889.7,   2888.4,   2.7235,  34.9235,2,  34.9210,2,   -999.0,9,  2.4903,    249.0,2,    34.40,2,    21.21,2,     0.00,2,     1.44,2, -999.000,9,   -999.0,9,  -999.0,9,-999.000,9,-999.000,9
    316N198301, ATAS3,   105,  1,     21,     21,2,19830206,1012,  8.0200, -27.9700, 5075, 4188.8,   4192.9,   2.3355,  34.8893,2,  34.8880,2,   -999.0,9,  1.9697,    253.7,2,    43.10,2,    21.60,2,     0.00,2,     1.46,2, -999.000,9,   -999.0,9,  -999.0,9,-999.000,9,   2.335,2
    316N198301, ATAS3,   105,  1,     22,     22,2,19830206,1012,  8.0200, -27.9700, 5075, 5059.7,   5067.4,   2.3285,  34.8776,2,  34.8790,2,   -999.0,9,  1.8565,    244.2,2,    49.94,2,    22.67,2,     0.00,2,     1.52,2, -999.000,9,   -999.0,9,  -999.0,9,-999.000,9,-999.000,9
    316N198301, ATAS3,   105,  1,     23,     23,2,19830206,1012,  8.0200, -27.9700, 5075, 5168.3,   5176.5,   2.3345,  34.8767,2,  34.8770,2,   -999.0,9,  1.8483,    243.7,2,    50.53,2,    22.67,2,     0.00,2,     1.52,2, -999.000,9,   -999.0,9,  5191.0,2,-999.000,9,   2.334,2