BOTTLE,20060405WHPSIOdm
EXPOCODE,SECT_ID,STNNBR,CASTNO,SAMPNO,BTLNBR,BTLNBR_FLAG_W,DATE,TIME,LATITUDE,LONGITUDE,DEPTH,CTDRAW,CTDPRS,CTDTMP,CTDSAL,CTDSAL_FLAG_W,SALNTY,SALNTY_FLAG_W,CTDOXY,CTDOXY_FLAG_W,THETA,OXYGEN,OXYGEN_FLAG_W,SILCAT,SILCAT_FLAG_W,NITRAT,NITRAT_FLAG_W,NITRIT,NITRIT_FLAG_W,PHSPHT,PHSPHT_FLAG_W,TRITUM,TRITUM_FLAG_W,TCARBN,TCARBN_FLAG_W,REVPRS,REVPRS_FLAG_W,TRITER,TRITER_FLAG_W,REVTMP,REVTMP_FLAG_W
,,,,,,,,,,,,,DBAR,ITS-90,PSS-78,,PSS-78,,UMOL/KG,,DEG C,UMOL/KG,,UMOL/KG,,UMOL/KG,,UMOL/KG,,UMOL/KG,,TU,,UMOL/KG,,DBAR,,TU,,ITS-90,
    316N198301, ATAS3,   101,  1,      1,      1,2,19830203,0651,  9.5183, -21.9950, 4662,   34.6,      8.0,  25.7703,  35.7872,2,  35.7890,2,   -999.0,9, 25.7686,    205.9,2,     1.76,2,     0.00,2,     0.00,2,     0.04,2, -999.000,9,   -999.0,9,  -999.0,9,-999.000,9,  25.771,2
    316N198301, ATAS3,   101,  1,      2,      2,2,19830203,0651,  9.5183, -21.9950, 4662,   64.6,     43.0,  20.9184,  35.9850,2,  35.9920,2,   -999.0,9, 20.9102,    166.0,2,     3.52,2,     4.25,2,     0.13,2,     0.42,2, -999.000,9,   -999.0,9,  -999.0,9,-999.000,9,-999.000,9
    316N198301, ATAS3,   101,  1,      3,      3,2,19830203,0651,  9.5183, -21.9950, 4662,   67.0,     51.0,  19.2435,  35.9338,2,  35.9380,2,   -999.0,9, 19.2343,    135.8,2,     4.49,2,    10.94,2,     0.30,2,     0.80,2,    1.420,2,   2131.0,2,  -999.0,9,   0.070,2,-999.000,9
    316N198301, ATAS3,   101,  1,      4,      4,2,19830203,0651,  9.5183, -21.9950, 4662,  101.0,     83.0,  14.5485,  35.4848,2,  35.4820,2,   -999.0,9, 14.5362,     86.1,2,     7.91,2,    22.86,2,     0.02,2,     1.49,2,    0.570,2,   2189.0,2,  -999.0,9,   0.070,2,-999.000,9
    316N198301, ATAS3,   101,  1,      5,      5,2,19830203,0651,  9.5183, -21.9950, 4662,  154.8,    137.0,  13.3536,  35.3661,2,  35.3380,2,   -999.0,9, 13.3344,    129.6,2,     8.30,2,    19.83,2,     0.00,2,     1.35,2,    0.505,2,   -999.0,9,  -999.0,9,   0.041,2,-999.000,9
    316N198301, ATAS3,   101,  1,      6,      6,2,19830203,0651,  9.5183, -21.9950, 4662,  304.3,    288.0,  11.2106,  35.1154,2,  35.1120,2,   -999.0,9, 11.1745,     85.2,2,    12.02,2,    28.14,2,     0.00,2,     1.77,2,    1.401,2,   2211.0,2,  -999.0,9,   0.061,2,-999.000,9
    316N198301, ATAS3,   101,  1,      7,      7,2,19830203,0651,  9.5183, -21.9950, 4662,  325.3,    312.0,  10.9976,  35.0944,2,  35.0920,2,   -999.0,9, 10.9589,     81.8,2,    12.60,2,    28.92,2,     0.00,2,     1.80,2, -999.000,9,   -999.0,9,  -999.0,9,-999.000,9,-999.000,9
    316N198301, ATAS3,   101,  1,      8,      8,2,19830203,0651,  9.5183, -21.9950, 4662,  383.0,    370.0,  11.0326,  35.2199,2,  35.2160,2,   -999.0,9, 10.9864,     53.1,2,    13.19,2,    31.56,2,     0.00,2,     1.91,2,    0.930,2,   2234.0,2,  -999.0,9,   0.041,2,-999.000,9
    316N198301, ATAS3,   101,  1,      9,      9,2,19830203,0651,  9.5183, -21.9950, 4662,  442.6,    431.0,   9.9926,  35.1004,2,  35.0980,2,   -999.0,9,  9.9420,     43.5,2,    15.83,2,    34.49,2,     0.00,2,     2.08,2,    0.310,2,   2247.0,2,  -999.0,9,   0.060,2,-999.000,9
    316N198301, ATAS3,   101,  1,     10,     10,2,19830203,0651,  9.5183, -21.9950, 4662,  535.4,    525.7,   8.4807,  34.9389,2,  34.9350,2,   -999.0,9,  8.4245,     53.0,2,    19.64,2,    36.84,2,     0.00,2,     2.27,2,    0.150,2,   2254.0,2,  -999.0,9,   0.041,2,-999.000,9
    316N198301, ATAS3,   101,  1,     11,     11,2,19830203,0651,  9.5183, -21.9950, 4662,  744.4,    735.4,   6.0927,  34.7033,2,  34.7040,2,   -999.0,9,  6.0265,     96.1,2,    26.39,2,    36.95,2,     0.00,2,     2.37,2, -999.000,9,   -999.0,9,   741.0,2,-999.000,9,   6.102,2
    316N198301, ATAS3,   101,  1,     12,     12,2,19830203,0651,  9.5183, -21.9950, 4662,  828.0,    819.2,   5.6907,  34.6879,2,  34.6870,2,   -999.0,9,  5.6190,    106.5,2,    27.66,2,    36.16,2,     0.00,2,     2.35,2, -999.000,9,   -999.0,9,  -999.0,9,-999.000,9,-999.000,9
    316N198301, ATAS3,   101,  1,     13,     13,2,19830203,0651,  9.5183, -21.9950, 4662,  844.3,    835.5,   5.6447,  34.6987,2,  34.6970,2,   -999.0,9,  5.5717,    108.7,2,    27.95,2,    35.97,2,     0.00,2,     2.33,2, -999.000,9,   -999.0,9,  -999.0,9,-999.000,9,-999.000,9
    316N198301, ATAS3,   101,  1,     14,     14,2,19830203,0651,  9.5183, -21.9950, 4662,  880.2,    871.6,   5.4127,  34.6880,2,  34.6880,2,   -999.0,9,  5.3379,    116.9,2,    28.44,2,    35.38,2,     0.00,2,     2.31,2, -999.000,9,   -999.0,9,  -999.0,9,-999.000,9,-999.000,9
    316N198301, ATAS3,   101,  1,     15,     15,2,19830203,0651,  9.5183, -21.9950, 4662, 1312.7,   1305.1,   4.5947,  34.9183,2,  34.9190,2,   -999.0,9,  4.4863,    185.6,2,    23.45,2,    26.39,2,     0.00,2,     1.76,2, -999.000,9,   -999.0,9,  -999.0,9,-999.000,9,-999.000,9
    316N198301, ATAS3,   101,  1,     16,     16,2,19830203,0651,  9.5183, -21.9950, 4662, 1816.5,   1810.7,   3.7048,  34.9624,2,  34.9620,2,   -999.0,9,  3.5596,    235.9,2,    21.60,2,    21.21,2,     0.00,2,     1.44,2, -999.000,9,   -999.0,9,  -999.0,9,-999.000,9,-999.000,9
    316N198301, ATAS3,   101,  1,     17,     17,2,19830203,0651,  9.5183, -21.9950, 4662, 2713.9,   2712.3,   2.8088,  34.9317,2,  34.9310,2,   -999.0,9,  2.5915,    244.6,2,    33.52,2,    21.11,2,     0.00,2,     1.44,2, -999.000,9,   -999.0,9,  2729.0,2,-999.000,9,   2.798,2
    316N198301, ATAS3,   101,  1,     18,     18,2,19830203,0651,  9.5183, -21.9950, 4662, 3833.0,   3836.4,   2.3828,  34.8953,2,  34.8940,2,   -999.0,9,  2.0564,    246.8,2,    43.98,2,    21.79,2,     0.00,2,     1.48,2, -999.000,9,   -999.0,9,  -999.0,9,-999.000,9,-999.000,9
    316N198301, ATAS3,   101,  1,     19,     19,2,19830203,0651,  9.5183, -21.9950, 4662, 4332.2,   4337.7,   2.3218,  34.8858,2,  34.8860,2,   -999.0,9,  1.9394,    246.8,2,    47.98,2,    21.89,2,     0.00,2,     1.50,2, -999.000,9,   -999.0,9,  4334.0,2,-999.000,9,   2.315,2
    316N198301, ATAS3,   101,  1,     20,     20,2,19830203,0651,  9.5183, -21.9950, 4662, 4512.5,   4518.8,   2.3008,  34.8819,2,  34.8800,2,   -999.0,9,  1.8975,    244.6,2,    49.45,2,    22.48,2,     0.00,2,     1.51,2, -999.000,9,   -999.0,9,  -999.0,9,-999.000,9,-999.000,9
    316N198301, ATAS3,   101,  1,     21,     21,2,19830203,0651,  9.5183, -21.9950, 4662, 4652.4,   4659.3,   2.3148,  34.8811,2,  34.8810,2,   -999.0,9,  1.8940,    243.7,2,    49.45,2,    22.48,2,     0.00,2,     1.52,2, -999.000,9,   -999.0,9,  -999.0,9,-999.000,9,   2.315,2
    316N198301, ATAS3,   101,  1,     22,     22,2,19830203,0651,  9.5183, -21.9950, 4662, 4732.4,   4739.7,   2.3078,  34.8785,2,  34.8810,2,   -999.0,9,  1.8774,    243.3,2,    49.74,2,    22.48,2,     0.00,2,     1.52,2, -999.000,9,   -999.0,9,  -999.0,9,-999.000,9,-999.000,9
    316N198301, ATAS3,   101,  1,     23,     23,2,19830203,0651,  9.5183, -21.9950, 4662, 4749.1,   4756.5,   2.3008,  34.8769,2,  34.8810,2,   -999.0,9,  1.8685,    242.0,2,    51.01,2,    22.77,2,     0.00,2,     1.54,2, -999.000,9,   -999.0,9,  4768.0,2,-999.000,9,   2.303,2
    316N198301, ATAS3,   102,  1,      1,      1,2,19830204,0111,  9.4200, -24.1100, 4750,   32.6,      2.0,  25.1743,  35.6556,2,  35.6550,2,   -999.0,9, 25.1738,    208.1,2,     1.95,2,     0.04,2,     0.00,2,     0.04,2,    1.260,2,   1976.0,2,  -999.0,9,   0.110,2,  25.168,2
    316N198301, ATAS3,   102,  1,      2,      2,2,19830204,0111,  9.4200, -24.1100, 4750,   51.2,     18.0,  25.1863,  35.6566,2,  35.6540,2,   -999.0,9, 25.1824,    208.1,2,     1.95,2,     0.00,2,     0.00,2,     0.05,2,    1.380,2,   1980.0,2,  -999.0,9,   0.070,2,-999.000,9
    316N198301, ATAS3,   102,  1,      3,      3,2,19830204,0111,  9.4200, -24.1100, 4750,   62.5,     36.0,  22.4973,  36.0510,2,  36.0690,2,   -999.0,9, 22.4901,    183.0,2,     2.83,2,     0.00,2,     0.00,2,     0.13,2,    1.400,2,   2074.0,2,  -999.0,9,   0.090,2,-999.000,9
    316N198301, ATAS3,   102,  1,      4,      4,2,19830204,0111,  9.4200, -24.1100, 4750,   86.7,     66.0,  15.8855,  35.6686,2,  35.6540,2,   -999.0,9, 15.8751,    130.1,2,     6.93,2,    16.80,2,     0.08,2,     1.14,2,    1.010,2,   2156.0,2,  -999.0,9,   0.080,2,-999.000,9
    316N198301, ATAS3,   102,  1,      5,      5,2,19830204,0111,  9.4200, -24.1100, 4750,  117.0,     98.0,  13.6955,  35.4070,2,  35.4130,2,   -999.0,9, 13.6815,    133.6,2,     8.01,2,    22.18,2,     0.02,2,     1.30,2, -999.000,9,   -999.0,9,  -999.0,9,-999.000,9,-999.000,9
    316N198301, ATAS3,   102,  1,      6,      6,2,19830204,0111,  9.4200, -24.1100, 4750,  251.4,    234.0,  11.3635,  35.1280,2,  35.1240,2,   -999.0,9, 11.3340,     94.8,2,    11.73,2,    26.87,2,     0.00,2,     1.71,2,    0.510,2,   2197.0,2,  -999.0,9,   0.060,2,-999.000,9
    316N198301, ATAS3,   102,  1,      7,      7,2,19830204,0111,  9.4200, -24.1100, 4750,  380.6,    365.0,   9.9576,  35.0304,2,  35.0270,2,   -999.0,9,  9.9150,     60.0,2,    15.24,2,    33.52,2,     0.00,2,     2.03,2,    0.190,2,   2224.0,2,  -999.0,9,   0.057,2,-999.000,9
    316N198301, ATAS3,   102,  1,      8,      8,2,19830204,0111,  9.4200, -24.1100, 4750,  421.4,    406.0,   9.6306,  35.0217,2,  35.0170,2,   -999.0,9,  9.5840,     49.6,2,    16.42,2,    35.08,2,     0.01,2,     2.12,2, -999.000,9,   -999.0,9,  -999.0,9,-999.000,9,-999.000,9
    316N198301, ATAS3,   102,  1,      9,      9,2,19830204,0111,  9.4200, -24.1100, 4750,  521.1,    512.0,   8.3656,  34.9041,2,  34.9010,2,   -999.0,9,  8.3114,     56.5,2,    19.94,2,    37.14,2,     0.00,2,     2.30,2, -999.000,9,   -999.0,9,  -999.0,9,-999.000,9,-999.000,9
    316N198301, ATAS3,   102,  1,     10,     10,2,19830204,0111,  9.4200, -24.1100, 4750,  628.9,    620.2,   7.1656,  34.7803,2,  34.7820,2,   -999.0,9,  7.1052,     74.3,2,    22.87,2,    37.43,2,     0.00,2,     2.35,2, -999.000,9,   -999.0,9,  -999.0,9,-999.000,9,-999.000,9
    316N198301, ATAS3,   102,  1,     11,     11,2,19830204,0111,  9.4200, -24.1100, 4750,  744.0,    735.6,   6.1216,  34.6928,2,  34.6920,2,   -999.0,9,  6.0553,     97.8,2,    26.00,2,    36.85,2,     0.00,2,     2.37,2, -999.000,9,   -999.0,9,   741.0,2,-999.000,9,   6.128,2
    316N198301, ATAS3,   102,  1,     12,     12,2,19830204,0111,  9.4200, -24.1100, 4750,  844.5,    836.4,   5.4867,  34.6671,2,  34.6670,2,   -999.0,9,  5.4146,    115.6,2,    28.25,2,    35.87,2,     0.00,2,     2.34,2, -999.000,9,   -999.0,9,  -999.0,9,-999.000,9,-999.000,9
    316N198301, ATAS3,   102,  1,     13,     13,2,19830204,0111,  9.4200, -24.1100, 4750, 1098.7,   1091.0,   4.9797,  34.7879,2,  34.7890,2,   -999.0,9,  4.8877,    145.2,2,    27.17,2,    31.86,2,     0.00,2,     2.12,2, -999.000,9,   -999.0,9,  -999.0,9,-999.000,9,-999.000,9
    316N198301, ATAS3,   102,  1,     14,     14,2,19830204,0111,  9.4200, -24.1100, 4750, 1279.9,   1272.9,   4.6307,  34.8736,2,  34.8740,2,   -999.0,9,  4.5249,    173.4,2,    25.02,2,    28.15,2,     0.00,2,     1.89,2, -999.000,9,   -999.0,9,  -999.0,9,-999.000,9,-999.000,9
    316N198301, ATAS3,   102,  1,     15,     15,2,19830204,0111,  9.4200, -24.1100, 4750, 1501.3,   1494.8,   4.1807,  34.9437,2,  34.9440,2,   -999.0,9,  4.0590,    210.7,2,    21.99,2,    23.75,2,     0.00,2,     1.61,2, -999.000,9,   -999.0,9,  -999.0,9,-999.000,9,-999.000,9
    316N198301, ATAS3,   102,  1,     16,     16,2,19830204,0111,  9.4200, -24.1100, 4750, 1692.1,   1686.2,   3.8907,  34.9566,2,  34.9560,2,   -999.0,9,  3.7547,    227.7,2,    21.60,2,    22.09,2,     0.00,2,     1.50,2, -999.000,9,   -999.0,9,  -999.0,9,-999.000,9,-999.000,9
    316N198301, ATAS3,   102,  1,     17,     17,2,19830204,0111,  9.4200, -24.1100, 4750, 1847.2,   1842.0,   3.6547,  34.9586,2,  34.9590,2,   -999.0,9,  3.5073,    235.9,2,    22.18,2,    21.30,2,     0.00,2,     1.45,2, -999.000,9,   -999.0,9,  1854.0,2,-999.000,9,   3.655,2
    316N198301, ATAS3,   102,  1,     18,     18,2,19830204,0111,  9.4200, -24.1100, 4750, 2394.4,   2391.7,   3.1157,  34.9470,2,  34.9450,2,   -999.0,9,  2.9243,    245.1,2,    27.85,2,    20.91,2,     0.00,2,     1.42,2, -999.000,9,   -999.0,9,  -999.0,9,-999.000,9,-999.000,9
    316N198301, ATAS3,   102,  1,     19,     19,2,19830204,0111,  9.4200, -24.1100, 4750, 3587.5,   3590.2,   2.4847,  34.9070,2,  34.9050,2,   -999.0,9,  2.1829,    246.8,2,    41.04,2,    21.70,2,     0.00,2,     1.48,2, -999.000,9,   -999.0,9,  3590.0,2,-999.000,9,   2.483,2
    316N198301, ATAS3,   102,  1,     20,     20,2,19830204,0111,  9.4200, -24.1100, 4750, 4027.3,   4031.9,   2.3557,  34.8937,2,  34.8910,2,   -999.0,9,  2.0079,    246.8,2,    45.35,2,    21.99,2,     0.00,2,     1.50,2, -999.000,9,   -999.0,9,  -999.0,9,-999.000,9,-999.000,9
    316N198301, ATAS3,   102,  1,     21,     21,2,19830204,0111,  9.4200, -24.1100, 4750, 4505.1,   4511.7,   2.2777,  34.8826,2,  34.8800,2,   -999.0,9,  1.8760,    244.2,2,    49.94,2,    22.58,2,     0.00,2,     1.52,2, -999.000,9,   -999.0,9,  -999.0,9,-999.000,9,   2.276,2
    316N198301, ATAS3,   102,  1,     22,     22,2,19830204,0111,  9.4200, -24.1100, 4750, 4816.0,   4823.9,   2.2847,  34.8771,2,  34.8760,2,   -999.0,9,  1.8447,    244.2,2,    50.72,2,    22.67,2,     0.00,2,     1.52,2, -999.000,9,   -999.0,9,  -999.0,9,-999.000,9,-999.000,9
    316N198301, ATAS3,   102,  1,     23,     23,2,19830204,0111,  9.4200, -24.1100, 4750, 4854.0,   4862.1,   2.2747,  34.8764,2,  34.8760,2,   -999.0,9,  1.8303,    243.7,2,    50.92,2,    22.67,2,     0.00,2,     1.53,2, -999.000,9,   -999.0,9,  4877.0,2,-999.000,9,   2.279,2
    316N198301, ATAS3,   103,  1,      1,      1,2,19830204,1602,  9.5067, -26.0117, 5299,   39.3,      9.0,  25.4542,  35.9859,2,  35.9840,2,   -999.0,9, 25.4522,    208.5,2,     1.46,2,     0.02,2,     0.00,2,     0.02,2,    1.170,2,   1993.0,2,  -999.0,9,   0.080,2,-999.000,9
    316N198301, ATAS3,   103,  1,      2,      2,2,19830204,1602,  9.5067, -26.0117, 5299,   71.1,     48.0,  25.1902,  36.0274,2,  36.0260,2,   -999.0,9, 25.1797,    208.9,2,     1.46,2,     0.02,2,     0.00,2,     0.04,2,    1.320,2,   2005.0,2,  -999.0,9,   0.090,2,-999.000,9
    316N198301, ATAS3,   103,  1,      3,      3,2,19830204,1602,  9.5067, -26.0117, 5299,   71.7,     48.0,  25.1942,  36.0265,2,  36.0250,2,   -999.0,9, 25.1837,    209.8,2,     1.46,2,     0.07,2,     0.00,2,     0.04,2, -999.000,9,   -999.0,9,  -999.0,9,-999.000,9,-999.000,9
    316N198301, ATAS3,   103,  1,      4,      4,2,19830204,1602,  9.5067, -26.0117, 5299,  117.4,    103.0,  13.0385,  35.3149,2,  35.3220,2,   -999.0,9, 13.0243,    120.5,2,     8.40,2,    21.10,2,     0.02,2,     1.39,2,    0.540,2,   2174.0,2,  -999.0,9,   0.080,2,-999.000,9
    316N198301, ATAS3,   103,  1,      5,      5,2,19830204,1602,  9.5067, -26.0117, 5299,  204.6,    193.0,  11.6795,  35.1507,2,  35.1510,2,   -999.0,9, 11.6547,    105.3,2,    10.55,2,    25.01,2,     0.01,2,     1.60,2,    0.525,2,   2186.0,2,  -999.0,9,   0.057,2,-999.000,9
    316N198301, ATAS3,   103,  1,      6,      6,2,19830204,1602,  9.5067, -26.0117, 5299,  253.3,    243.0,  10.8565,  35.0328,2,  35.0380,2,   -999.0,9, 10.8267,    138.7,2,    11.53,2,    22.87,2,     0.01,2,     1.51,2,    0.536,2,   2174.0,2,  -999.0,9,   0.036,2,-999.000,9
    316N198301, ATAS3,   103,  1,      7,      7,2,19830204,1602,  9.5067, -26.0117, 5299,  312.8,    305.0,  10.5035,  35.0389,2,  35.0400,2,   -999.0,9, 10.4668,     87.8,2,    13.68,2,    29.12,2,     0.01,2,     1.81,2,    0.390,2,   2203.0,2,  -999.0,9,   0.065,2,-999.000,9
    316N198301, ATAS3,   103,  1,      8,      8,2,19830204,1602,  9.5067, -26.0117, 5299,  403.2,    397.0,   9.8235,  35.0339,2,  35.0320,2,   -999.0,9,  9.7775,     54.8,2,    16.12,2,    33.81,2,     0.01,2,     2.04,2, -999.000,9,   -999.0,9,  -999.0,9,-999.000,9,-999.000,9
    316N198301, ATAS3,   103,  1,      9,      9,2,19830204,1602,  9.5067, -26.0117, 5299,  477.9,    473.0,   8.7845,  34.9450,2,  34.9470,2,   -999.0,9,  8.7331,     51.7,2,    18.76,2,    36.26,2,     0.01,2,     2.21,2, -999.000,9,   -999.0,9,  -999.0,9,-999.000,9,-999.000,9
    316N198301, ATAS3,   103,  1,     10,     10,2,19830204,1602,  9.5067, -26.0117, 5299,  572.2,    562.4,   7.7806,  34.8412,2,  34.8470,2,   -999.0,9,  7.7233,     63.0,2,    20.82,2,    36.94,2,     0.01,2,     2.30,2, -999.000,9,   -999.0,9,  -999.0,9,-999.000,9,-999.000,9
    316N198301, ATAS3,   103,  1,     11,     11,2,19830204,1602,  9.5067, -26.0117, 5299,  794.2,    785.1,   5.9136,  34.6849,2,  34.6850,2,   -999.0,9,  5.8437,    102.2,2,    26.59,2,    36.07,2,     0.01,2,     2.32,2, -999.000,9,   -999.0,9,   791.0,2,-999.000,9,   5.916,2
    316N198301, ATAS3,   103,  1,     12,     12,2,19830204,1602,  9.5067, -26.0117, 5299,  826.9,    817.8,   5.7526,  34.6763,2,  34.6760,2,   -999.0,9,  5.6806,    106.9,2,    26.98,2,    35.77,2,     0.01,2,     2.31,2, -999.000,9,   -999.0,9,  -999.0,9,-999.000,9,-999.000,9
    316N198301, ATAS3,   103,  1,     13,     13,2,19830204,1602,  9.5067, -26.0117, 5299, 1000.3,    991.6,   5.2036,  34.7262,2,  34.7260,2,   -999.0,9,  5.1192,    129.5,2,    28.05,2,    33.43,2,     0.01,2,     2.21,2, -999.000,9,   -999.0,9,  -999.0,9,-999.000,9,-999.000,9
    316N198301, ATAS3,   103,  1,     14,     14,2,19830204,1602,  9.5067, -26.0117, 5299, 1178.2,   1169.9,   4.7426,  34.8529,2,  34.8530,2,   -999.0,9,  4.6453,    164.7,2,    25.61,2,    28.63,2,     0.01,2,     1.92,2, -999.000,9,   -999.0,9,  -999.0,9,-999.000,9,-999.000,9
    316N198301, ATAS3,   103,  1,     15,     15,2,19830204,1602,  9.5067, -26.0117, 5299, 1433.5,   1426.0,   4.2916,  34.9290,2,  34.9290,2,   -999.0,9,  4.1751,    201.6,2,    22.57,2,    24.33,2,     0.01,2,     1.64,2, -999.000,9,   -999.0,9,  -999.0,9,-999.000,9,-999.000,9
    316N198301, ATAS3,   103,  1,     16,     16,2,19830204,1602,  9.5067, -26.0117, 5299, 1622.1,   1615.3,   3.9366,  34.9545,2,  34.9530,2,   -999.0,9,  3.8066,    224.6,2,    21.50,2,    21.79,2,     0.00,2,     1.49,2, -999.000,9,   -999.0,9,  -999.0,9,-999.000,9,-999.000,9
    316N198301, ATAS3,   103,  1,     17,     17,2,19830204,1602,  9.5067, -26.0117, 5299, 1738.1,   1731.8,   3.7476,  34.9577,2,  34.9610,2,   -999.0,9,  3.6092,    233.3,2,    21.69,2,    21.01,2,     0.00,2,     1.43,2, -999.000,9,   -999.0,9,  1740.0,2,-999.000,9,   3.750,2
    316N198301, ATAS3,   103,  1,     18,     18,2,19830204,1602,  9.5067, -26.0117, 5299, 2093.0,   2088.4,   3.4136,  34.9550,2,  34.9540,2,   -999.0,9,  3.2465,    243.3,2,    23.65,2,    20.23,2,     0.00,2,     1.38,2, -999.000,9,   -999.0,9,  -999.0,9,-999.000,9,-999.000,9
    316N198301, ATAS3,   103,  1,     19,     19,2,19830204,1602,  9.5067, -26.0117, 5299, 2754.2,   2752.8,   2.8487,  34.9357,2,  34.9350,2,   -999.0,9,  2.6265,    248.5,2,    31.17,2,    20.13,2,     0.00,2,     1.39,2, -999.000,9,   -999.0,9,  2755.0,2,-999.000,9,   2.843,2
    316N198301, ATAS3,   103,  1,     20,     20,2,19830204,1602,  9.5067, -26.0117, 5299, 3190.6,   3191.2,   2.5967,  34.9173,2,  34.9140,2,   -999.0,9,  2.3349,    249.0,2,    37.62,2,    20.82,2,     0.00,2,     1.43,2, -999.000,9,   -999.0,9,  -999.0,9,-999.000,9,-999.000,9
    316N198301, ATAS3,   103,  1,     21,     21,2,19830204,1602,  9.5067, -26.0117, 5299, 4001.8,   4006.1,   2.3597,  34.8931,2,  34.8920,2,   -999.0,9,  2.0147,    252.0,2,    42.71,2,    20.82,2,     0.00,2,     1.45,2, -999.000,9,   -999.0,9,  4003.0,2,-999.000,9,   2.361,2
    316N198301, ATAS3,   103,  1,     23,     23,2,19830204,1602,  9.5067, -26.0117, 5299, 4583.1,   4590.0,   2.3097,  34.8827,2,-999.0000,9,   -999.0,9,  1.8975,   -999.0,9,  -999.00,9,  -999.00,9,  -999.00,9,  -999.00,9, -999.000,9,   -999.0,9,  -999.0,9,-999.000,9,-999.000,9
    316N198301, ATAS3,   103,  1,     22,     22,2,19830204,1602,  9.5067, -26.0117, 5299, 4620.7,   4627.7,   2.3077,  34.8819,2,  34.8810,2,   -999.0,9,  1.8909,    249.0,2,    48.28,2,    21.50,2,     0.00,2,     1.50,2, -999.000,9,   -999.0,9,  -999.0,9,-999.000,9,-999.000,9