BOTTLE,20060405WHPSIOdm
EXPOCODE,SECT_ID,STNNBR,CASTNO,SAMPNO,BTLNBR,BTLNBR_FLAG_W,DATE,TIME,LATITUDE,LONGITUDE,DEPTH,CTDRAW,CTDPRS,CTDTMP,CTDSAL,CTDSAL_FLAG_W,SALNTY,SALNTY_FLAG_W,CTDOXY,CTDOXY_FLAG_W,THETA,OXYGEN,OXYGEN_FLAG_W,SILCAT,SILCAT_FLAG_W,NITRAT,NITRAT_FLAG_W,NITRIT,NITRIT_FLAG_W,PHSPHT,PHSPHT_FLAG_W,TRITUM,TRITUM_FLAG_W,TCARBN,TCARBN_FLAG_W,REVPRS,REVPRS_FLAG_W,TRITER,TRITER_FLAG_W,REVTMP,REVTMP_FLAG_W
,,,,,,,,,,,,,DBAR,ITS-90,PSS-78,,PSS-78,,UMOL/KG,,DEG C,UMOL/KG,,UMOL/KG,,UMOL/KG,,UMOL/KG,,UMOL/KG,,TU,,UMOL/KG,,DBAR,,TU,,ITS-90,
    316N198301, ATAS3,   130,  1,      1,      1,2,19830217,1750, -8.6017, -33.6817, 4129, 1446.1,   1442.2,   4.3050,  34.9227,2,-999.0000,9,   -999.0,9,  4.1869,   -999.0,9,  -999.00,9,  -999.00,9,  -999.00,9,  -999.00,9, -999.000,9,   -999.0,9,  -999.0,9,-999.000,9,-999.000,9
    316N198301, ATAS3,   130,  1,      2,      2,2,19830217,1750, -8.6017, -33.6817, 4129, 1446.8,   1442.9,   4.3050,  34.9223,2,  34.9220,2,   -999.0,9,  4.1868,    216.4,2,  -999.00,9,  -999.00,9,  -999.00,9,  -999.00,9, -999.000,9,   -999.0,9,  -999.0,9,-999.000,9,-999.000,9
    316N198301, ATAS3,   130,  1,      3,      3,2,19830217,1750, -8.6017, -33.6817, 4129, 1447.6,   1443.8,   4.3050,  34.9219,2,  34.9220,2,   -999.0,9,  4.1867,    216.4,2,  -999.00,9,  -999.00,9,  -999.00,9,  -999.00,9, -999.000,9,   -999.0,9,  1442.0,2,-999.000,9,   4.295,2
    316N198301, ATAS3,   130,  1,      4,      4,2,19830217,1750, -8.6017, -33.6817, 4129, 1448.0,   1444.1,   4.3050,  34.9217,2,-999.0000,9,   -999.0,9,  4.1867,   -999.0,9,  -999.00,9,  -999.00,9,  -999.00,9,  -999.00,9, -999.000,9,   -999.0,9,  -999.0,9,-999.000,9,-999.000,9
    316N198301, ATAS3,   130,  1,      5,      5,2,19830217,1750, -8.6017, -33.6817, 4129, 1448.8,   1444.9,   4.3060,  34.9215,2,-999.0000,9,   -999.0,9,  4.1876,   -999.0,9,  -999.00,9,  -999.00,9,  -999.00,9,  -999.00,9, -999.000,9,   -999.0,9,  -999.0,9,-999.000,9,-999.000,9
    316N198301, ATAS3,   130,  1,      6,      6,2,19830217,1750, -8.6017, -33.6817, 4129, 1450.1,   1446.2,   4.3050,  34.9219,2,-999.0000,9,   -999.0,9,  4.1865,   -999.0,9,  -999.00,9,  -999.00,9,  -999.00,9,  -999.00,9, -999.000,9,   -999.0,9,  -999.0,9,-999.000,9,-999.000,9
    316N198301, ATAS3,   130,  1,      7,      7,2,19830217,1750, -8.6017, -33.6817, 4129, 1450.4,   1446.5,   4.3030,  34.9227,2,-999.0000,9,   -999.0,9,  4.1845,   -999.0,9,  -999.00,9,  -999.00,9,  -999.00,9,  -999.00,9, -999.000,9,   -999.0,9,  -999.0,9,-999.000,9,-999.000,9
    316N198301, ATAS3,   130,  1,      8,      8,2,19830217,1750, -8.6017, -33.6817, 4129, 1451.2,   1447.4,   4.3010,  34.9220,2,-999.0000,9,   -999.0,9,  4.1824,   -999.0,9,  -999.00,9,  -999.00,9,  -999.00,9,  -999.00,9, -999.000,9,   -999.0,9,  -999.0,9,-999.000,9,-999.000,9
    316N198301, ATAS3,   130,  1,      9,      9,2,19830217,1750, -8.6017, -33.6817, 4129, 1452.2,   1448.3,   4.3010,  34.9227,2,-999.0000,9,   -999.0,9,  4.1823,   -999.0,9,  -999.00,9,  -999.00,9,  -999.00,9,  -999.00,9, -999.000,9,   -999.0,9,  -999.0,9,-999.000,9,-999.000,9
    316N198301, ATAS3,   130,  1,     10,     10,2,19830217,1750, -8.6017, -33.6817, 4129, 1453.4,   1449.5,   4.2970,  34.9240,2,-999.0000,9,   -999.0,9,  4.1783,   -999.0,9,  -999.00,9,  -999.00,9,  -999.00,9,  -999.00,9, -999.000,9,   -999.0,9,  -999.0,9,-999.000,9,-999.000,9
    316N198301, ATAS3,   130,  1,     11,     11,2,19830217,1750, -8.6017, -33.6817, 4129, 1454.8,   1451.0,   4.2960,  34.9231,2,-999.0000,9,   -999.0,9,  4.1771,   -999.0,9,  -999.00,9,  -999.00,9,  -999.00,9,  -999.00,9, -999.000,9,   -999.0,9,  -999.0,9,-999.000,9,-999.000,9
    316N198301, ATAS3,   130,  1,     12,     12,2,19830217,1750, -8.6017, -33.6817, 4129, 1455.8,   1452.0,   4.2940,  34.9247,2,-999.0000,9,   -999.0,9,  4.1751,   -999.0,9,  -999.00,9,  -999.00,9,  -999.00,9,  -999.00,9, -999.000,9,   -999.0,9,  -999.0,9,-999.000,9,-999.000,9
    316N198301, ATAS3,   130,  1,     13,     13,2,19830217,1750, -8.6017, -33.6817, 4129, 1456.8,   1453.1,   4.2930,  34.9241,2,-999.0000,9,   -999.0,9,  4.1740,   -999.0,9,  -999.00,9,  -999.00,9,  -999.00,9,  -999.00,9, -999.000,9,   -999.0,9,  -999.0,9,-999.000,9,-999.000,9
    316N198301, ATAS3,   130,  1,     14,     14,2,19830217,1750, -8.6017, -33.6817, 4129, 1458.3,   1454.5,   4.2870,  34.9250,2,-999.0000,9,   -999.0,9,  4.1679,   -999.0,9,  -999.00,9,  -999.00,9,  -999.00,9,  -999.00,9, -999.000,9,   -999.0,9,  -999.0,9,-999.000,9,-999.000,9
    316N198301, ATAS3,   130,  1,     15,     15,2,19830217,1750, -8.6017, -33.6817, 4129, 1458.7,   1455.0,   4.2850,  34.9257,2,-999.0000,9,   -999.0,9,  4.1659,   -999.0,9,  -999.00,9,  -999.00,9,  -999.00,9,  -999.00,9, -999.000,9,   -999.0,9,  -999.0,9,-999.000,9,-999.000,9
    316N198301, ATAS3,   130,  1,     16,     16,2,19830217,1750, -8.6017, -33.6817, 4129, 1459.7,   1455.9,   4.2840,  34.9263,2,-999.0000,9,   -999.0,9,  4.1648,   -999.0,9,  -999.00,9,  -999.00,9,  -999.00,9,  -999.00,9, -999.000,9,   -999.0,9,  -999.0,9,-999.000,9,-999.000,9
    316N198301, ATAS3,   130,  1,     17,     17,2,19830217,1750, -8.6017, -33.6817, 4129, 1461.1,   1457.3,   4.2840,  34.9267,2,-999.0000,9,   -999.0,9,  4.1647,   -999.0,9,  -999.00,9,  -999.00,9,  -999.00,9,  -999.00,9, -999.000,9,   -999.0,9,  -999.0,9,-999.000,9,-999.000,9
    316N198301, ATAS3,   130,  1,     18,     18,2,19830217,1750, -8.6017, -33.6817, 4129, 1463.4,   1459.6,   4.2830,  34.9255,2,-999.0000,9,   -999.0,9,  4.1635,   -999.0,9,  -999.00,9,  -999.00,9,  -999.00,9,  -999.00,9, -999.000,9,   -999.0,9,  -999.0,9,-999.000,9,-999.000,9
    316N198301, ATAS3,   130,  1,     19,     19,2,19830217,1750, -8.6017, -33.6817, 4129, 1464.9,   1461.1,   4.2820,  34.9258,2,-999.0000,9,   -999.0,9,  4.1623,   -999.0,9,  -999.00,9,  -999.00,9,  -999.00,9,  -999.00,9, -999.000,9,   -999.0,9,  -999.0,9,-999.000,9,-999.000,9
    316N198301, ATAS3,   130,  1,     20,     20,2,19830217,1750, -8.6017, -33.6817, 4129, 1465.4,   1461.7,   4.2820,  34.9267,2,-999.0000,9,   -999.0,9,  4.1623,   -999.0,9,  -999.00,9,  -999.00,9,  -999.00,9,  -999.00,9, -999.000,9,   -999.0,9,  -999.0,9,-999.000,9,-999.000,9
    316N198301, ATAS3,   130,  1,     21,     21,2,19830217,1750, -8.6017, -33.6817, 4129, 1466.1,   1462.4,   4.2820,  34.9264,2,-999.0000,9,   -999.0,9,  4.1622,   -999.0,9,  -999.00,9,  -999.00,9,  -999.00,9,  -999.00,9, -999.000,9,   -999.0,9,  -999.0,9,-999.000,9,-999.000,9
    316N198301, ATAS3,   130,  1,     22,     22,2,19830217,1750, -8.6017, -33.6817, 4129, 1466.9,   1463.2,   4.2820,  34.9260,2,-999.0000,9,   -999.0,9,  4.1622,   -999.0,9,  -999.00,9,  -999.00,9,  -999.00,9,  -999.00,9, -999.000,9,   -999.0,9,  -999.0,9,-999.000,9,-999.000,9
    316N198301, ATAS3,   130,  1,     23,     23,2,19830217,1750, -8.6017, -33.6817, 4129, 1467.8,   1464.1,   4.2820,  34.9255,2,  34.9280,2,   -999.0,9,  4.1621,    219.0,2,  -999.00,9,  -999.00,9,  -999.00,9,  -999.00,9, -999.000,9,   -999.0,9,  1464.0,2,-999.000,9,   4.271,2
    316N198301, ATAS3,   130,  2,      1,      1,2,19830217,2104, -8.6117, -33.7217, 4134,   44.2,      7.0,  28.1126,  36.9220,2,  36.9220,2,   -999.0,9, 28.1109,    198.0,2,     1.27,2,     0.00,2,     0.00,2,     0.11,2, -999.000,9,   -999.0,9,  -999.0,9,-999.000,9,  28.025,2
    316N198301, ATAS3,   130,  2,      2,      2,2,19830217,2104, -8.6117, -33.7217, 4134,   61.4,     31.0,  28.0326,  36.9623,2,  36.9630,2,   -999.0,9, 28.0252,    198.9,2,     1.17,2,     0.00,2,     0.00,2,     0.11,2, -999.000,9,   -999.0,9,  -999.0,9,-999.000,9,-999.000,9
    316N198301, ATAS3,   130,  2,      3,      3,2,19830217,2104, -8.6117, -33.7217, 4134,   83.7,     59.0,  27.4416,  37.0632,2,  37.0620,2,   -999.0,9, 27.4278,    205.0,2,     1.17,2,     0.00,2,     0.00,2,     0.13,2, -999.000,9,   -999.0,9,  -999.0,9,-999.000,9,-999.000,9
    316N198301, ATAS3,   130,  2,      4,      4,2,19830217,2104, -8.6117, -33.7217, 4134,  110.9,     92.0,  24.7736,  37.1729,2,  37.1720,2,   -999.0,9, 24.7536,    210.9,2,     1.17,2,     0.00,2,     0.00,2,     0.19,2, -999.000,9,   -999.0,9,  -999.0,9,-999.000,9,-999.000,9
    316N198301, ATAS3,   130,  2,      5,      5,2,19830217,2104, -8.6117, -33.7217, 4134,  160.4,    147.0,  20.1047,  36.3269,2,  36.3420,2,   -999.0,9, 20.0772,    187.6,2,     2.25,2,     2.07,2,     0.09,2,     0.48,2, -999.000,9,   -999.0,9,  -999.0,9,-999.000,9,-999.000,9
    316N198301, ATAS3,   130,  2,      6,      6,2,19830217,2104, -8.6117, -33.7217, 4134,  208.2,    199.0,  14.4748,  35.4566,2,  35.4630,2,   -999.0,9, 14.4453,    147.5,2,     5.08,2,    14.85,2,     0.01,2,     1.11,2, -999.000,9,   -999.0,9,  -999.0,9,-999.000,9,-999.000,9
    316N198301, ATAS3,   130,  2,      7,      7,2,19830217,2104, -8.6117, -33.7217, 4134,  266.6,    258.0,  11.4659,  35.0821,2,  35.0890,2,   -999.0,9, 11.4331,    116.1,2,     9.67,2,    24.53,2,     0.00,2,     1.62,2, -999.000,9,   -999.0,9,  -999.0,9,-999.000,9,-999.000,9
    316N198301, ATAS3,   130,  2,      8,      8,2,19830217,2104, -8.6117, -33.7217, 4134,  326.0,    318.0,   9.5719,  34.8749,2,  34.8750,2,   -999.0,9,  9.5358,    100.9,2,    13.68,2,    30.69,2,     0.00,2,     1.92,2, -999.000,9,   -999.0,9,  -999.0,9,-999.000,9,-999.000,9
    316N198301, ATAS3,   130,  2,      9,      9,2,19830217,2104, -8.6117, -33.7217, 4134,  385.9,    379.0,   8.1269,  34.7055,2,  34.7080,2,   -999.0,9,  8.0879,    115.2,2,    16.62,2,    32.74,2,     0.00,2,     2.02,2, -999.000,9,   -999.0,9,  -999.0,9,-999.000,9,-999.000,9
    316N198301, ATAS3,   130,  2,     10,     10,2,19830217,2104, -8.6117, -33.7217, 4134,  464.6,    458.0,   7.1780,  34.6181,2,  34.6370,2,   -999.0,9,  7.1339,    112.6,2,    19.65,2,    35.19,2,     0.00,2,     2.15,2, -999.000,9,   -999.0,9,  -999.0,9,-999.000,9,-999.000,9
    316N198301, ATAS3,   130,  2,     11,     11,2,19830217,2104, -8.6117, -33.7217, 4134,  563.4,    555.2,   6.0020,  34.5185,2,  34.5210,2,   -999.0,9,  5.9532,    133.0,2,    23.46,2,    36.07,2,     0.01,2,     2.25,2, -999.000,9,   -999.0,9,   557.0,2,-999.000,9,   6.015,2
    316N198301, ATAS3,   130,  2,     12,     12,2,19830217,2104, -8.6117, -33.7217, 4134,  768.3,    760.5,   4.6410,  34.4422,2,  34.4480,2,   -999.0,9,  4.5811,    160.8,2,    30.60,2,    35.88,2,     0.01,2,     2.30,2, -999.000,9,   -999.0,9,  -999.0,9,-999.000,9,-999.000,9
    316N198301, ATAS3,   130,  2,     13,     13,2,19830217,2104, -8.6117, -33.7217, 4134,  901.5,    894.0,   4.0600,  34.4566,2,  34.4560,2,   -999.0,9,  3.9927,    173.0,2,    35.88,2,    35.10,2,     0.01,2,     2.28,2, -999.000,9,   -999.0,9,  -999.0,9,-999.000,9,-999.000,9
    316N198301, ATAS3,   130,  2,     14,     14,2,19830217,2104, -8.6117, -33.7217, 4134, 1095.6,   1088.4,   3.8670,  34.5761,2,  34.5750,2,   -999.0,9,  3.7849,    177.3,2,    37.05,2,    33.33,2,     0.01,2,     2.16,2, -999.000,9,   -999.0,9,  -999.0,9,-999.000,9,-999.000,9
    316N198301, ATAS3,   130,  2,     15,     15,2,19830217,2104, -8.6117, -33.7217, 4134, 1369.0,   1362.2,   4.3980,  34.8508,2,  34.8480,2,   -999.0,9,  4.2864,    195.6,2,    24.24,2,    27.27,2,     0.02,2,     1.79,2, -999.000,9,   -999.0,9,  -999.0,9,-999.000,9,-999.000,9
    316N198301, ATAS3,   130,  2,     16,     16,2,19830217,2104, -8.6117, -33.7217, 4134, 1484.1,   1477.9,   4.2900,  34.9221,2,  34.9220,2,   -999.0,9,  4.1687,    216.8,2,    20.52,2,    23.84,2,     0.02,2,     1.57,2, -999.000,9,   -999.0,9,  -999.0,9,-999.000,9,-999.000,9
    316N198301, ATAS3,   130,  2,     17,     17,2,19830217,2104, -8.6117, -33.7217, 4134, 1762.8,   1758.1,   3.9350,  34.9686,2,  34.9730,2,   -999.0,9,  3.7917,    245.1,2,    18.08,2,    20.13,2,     0.02,2,     1.38,2, -999.000,9,   -999.0,9,  1770.0,2,-999.000,9,   3.937,2
    316N198301, ATAS3,   130,  2,     18,     18,2,19830217,2104, -8.6117, -33.7217, 4134, 2137.6,   2134.9,   3.1100,  34.9493,2,  34.9490,2,   -999.0,9,  2.9433,    256.8,2,    24.82,2,    19.54,2,     0.02,2,     1.33,2, -999.000,9,   -999.0,9,  -999.0,9,-999.000,9,-999.000,9
    316N198301, ATAS3,   130,  2,     19,     19,2,19830217,2104, -8.6117, -33.7217, 4134, 2593.3,   2592.8,   2.8600,  34.9329,2,  34.9350,2,   -999.0,9,  2.6536,    255.0,2,    29.41,2,    20.03,2,     0.02,2,     1.37,2, -999.000,9,   -999.0,9,  2596.0,2,-999.000,9,   2.860,2
    316N198301, ATAS3,   130,  2,     20,     20,2,19830217,2104, -8.6117, -33.7217, 4134, 3094.6,   3096.4,   2.6970,  34.9246,2,  34.9240,2,   -999.0,9,  2.4429,    258.1,2,    30.59,2,    19.74,2,     0.02,2,     1.35,2, -999.000,9,   -999.0,9,  -999.0,9,-999.000,9,-999.000,9
    316N198301, ATAS3,   130,  2,     21,     21,2,19830217,2104, -8.6117, -33.7217, 4134, 3597.2,   3601.5,   2.3061,  34.8927,2,  34.8930,2,   -999.0,9,  2.0076,    258.1,2,    39.68,2,    20.82,2,     0.02,2,     1.42,2, -999.000,9,   -999.0,9,  3602.0,2,-999.000,9,   2.310,2
    316N198301, ATAS3,   130,  2,     22,     22,2,19830217,2104, -8.6117, -33.7217, 4134, 4006.2,   4012.6,   1.7981,  34.8350,2,  34.8350,2,   -999.0,9,  1.4684,    245.5,2,    64.40,2,    24.82,2,     0.03,2,     1.65,2, -999.000,9,   -999.0,9,  -999.0,9,-999.000,9,-999.000,9
    316N198301, ATAS3,   130,  2,     23,     23,2,19830217,2104, -8.6117, -33.7217, 4134, 4224.8,   4232.4,   1.3171,  34.7815,2,  34.7810,2,   -999.0,9,  0.9773,    234.6,2,    84.93,2,    28.25,2,     0.03,2,     1.86,2, -999.000,9,   -999.0,9,  4230.0,2,-999.000,9,   1.325,2
    316N198301, ATAS3,   131,  1,      8,      8,2,19830218,0352, -8.6333, -34.1350, 2399,   30.1,      3.0,  27.8925,  37.0727,2,  37.0740,2,   -999.0,9, 27.8918,    198.4,2,  -999.00,9,  -999.00,9,  -999.00,9,  -999.00,9, -999.000,9,   -999.0,9,  -999.0,9,-999.000,9,-999.000,9
    316N198301, ATAS3,   131,  1,      1,      1,2,19830218,0352, -8.6333, -34.1350, 2399,   41.8,     12.0,  27.8785,  37.0688,2,  37.0720,2,   -999.0,9, 27.8757,    198.0,2,     1.66,2,     0.06,2,     0.00,2,     0.08,2, -999.000,9,   -999.0,9,  -999.0,9,-999.000,9,  27.879,2
    316N198301, ATAS3,   131,  1,      2,      2,2,19830218,0352, -8.6333, -34.1350, 2399,   42.9,     12.0,  27.8815,  37.0693,2,-999.0000,9,   -999.0,9, 27.8787,   -999.0,9,  -999.00,9,  -999.00,9,  -999.00,9,  -999.00,9, -999.000,9,   -999.0,9,  -999.0,9,-999.000,9,-999.000,9
    316N198301, ATAS3,   131,  1,      5,      5,2,19830218,0352, -8.6333, -34.1350, 2399,   44.1,     12.0,  27.8845,  37.0691,2,-999.0000,9,   -999.0,9, 27.8817,   -999.0,9,  -999.00,9,  -999.00,9,  -999.00,9,  -999.00,9, -999.000,9,   -999.0,9,  -999.0,9,-999.000,9,-999.000,9
    316N198301, ATAS3,   131,  1,      6,      6,2,19830218,0352, -8.6333, -34.1350, 2399,   44.0,     12.0,  27.8815,  37.0707,2,-999.0000,9,   -999.0,9, 27.8787,   -999.0,9,  -999.00,9,  -999.00,9,  -999.00,9,  -999.00,9, -999.000,9,   -999.0,9,  -999.0,9,-999.000,9,-999.000,9
    316N198301, ATAS3,   131,  1,      7,      7,2,19830218,0352, -8.6333, -34.1350, 2399,   43.7,     12.0,  27.8845,  37.0698,2,-999.0000,9,   -999.0,9, 27.8817,   -999.0,9,  -999.00,9,  -999.00,9,  -999.00,9,  -999.00,9, -999.000,9,   -999.0,9,  -999.0,9,-999.000,9,-999.000,9
    316N198301, ATAS3,   131,  1,      4,      4,2,19830218,0352, -8.6333, -34.1350, 2399,   44.8,     12.0,  27.8785,  37.0681,2,-999.0000,9,   -999.0,9, 27.8757,   -999.0,9,  -999.00,9,  -999.00,9,  -999.00,9,  -999.00,9, -999.000,9,   -999.0,9,  -999.0,9,-999.000,9,-999.000,9
    316N198301, ATAS3,   131,  1,      3,      3,2,19830218,0352, -8.6333, -34.1350, 2399,   43.7,     12.0,  27.8785,  37.0674,2,-999.0000,9,   -999.0,9, 27.8757,   -999.0,9,  -999.00,9,  -999.00,9,  -999.00,9,  -999.00,9, -999.000,9,   -999.0,9,  -999.0,9,-999.000,9,-999.000,9
    316N198301, ATAS3,   131,  1,      9,      9,2,19830218,0352, -8.6333, -34.1350, 2399,  109.0,     91.0,  24.8376,  37.1892,2,  37.1790,2,   -999.0,9, 24.8178,    204.8,2,     1.56,2,     0.07,2,     0.00,2,     0.19,2, -999.000,9,   -999.0,9,  -999.0,9,-999.000,9,-999.000,9
    316N198301, ATAS3,   131,  1,     10,     10,2,19830218,0352, -8.6333, -34.1350, 2399,  181.4,    169.0,  18.7277,  36.0862,2,  36.0810,2,   -999.0,9, 18.6977,    188.5,2,     2.34,2,     2.95,2,     0.02,2,     0.52,2, -999.000,9,   -999.0,9,  -999.0,9,-999.000,9,-999.000,9
    316N198301, ATAS3,   131,  1,     14,     14,2,19830218,0352, -8.6333, -34.1350, 2399,  304.3,    292.6,  11.4028,  35.0666,2,-999.0000,9,   -999.0,9, 11.3657,   -999.0,9,  -999.00,9,  -999.00,9,  -999.00,9,  -999.00,9, -999.000,9,   -999.0,9,  -999.0,9,-999.000,9,-999.000,9
    316N198301, ATAS3,   131,  1,     13,     13,2,19830218,0352, -8.6333, -34.1350, 2399,  304.6,    292.9,  11.4038,  35.0714,2,-999.0000,9,   -999.0,9, 11.3667,   -999.0,9,  -999.00,9,  -999.00,9,  -999.00,9,  -999.00,9, -999.000,9,   -999.0,9,  -999.0,9,-999.000,9,-999.000,9
    316N198301, ATAS3,   131,  1,     12,     12,2,19830218,0352, -8.6333, -34.1350, 2399,  304.9,    293.3,  11.4048,  35.0723,2,-999.0000,9,   -999.0,9, 11.3676,   -999.0,9,  -999.00,9,  -999.00,9,  -999.00,9,  -999.00,9, -999.000,9,   -999.0,9,  -999.0,9,-999.000,9,-999.000,9
    316N198301, ATAS3,   131,  1,     11,     11,2,19830218,0352, -8.6333, -34.1350, 2399,  305.9,    294.3,  11.3938,  35.0743,2,  35.0760,2,   -999.0,9, 11.3565,    110.9,2,    10.16,2,    24.92,2,     0.03,2,     1.66,2, -999.000,9,   -999.0,9,   296.0,2,-999.000,9,  11.396,2
    316N198301, ATAS3,   131,  1,     15,     15,2,19830218,0352, -8.6333, -34.1350, 2399,  337.5,    326.3,   9.9718,  34.9000,2,  34.9010,2,   -999.0,9,  9.9338,    121.8,2,    12.22,2,    26.78,2,     0.04,2,     1.76,2, -999.000,9,   -999.0,9,  -999.0,9,-999.000,9,-999.000,9
    316N198301, ATAS3,   131,  1,     16,     16,2,19830218,0352, -8.6333, -34.1350, 2399,  414.2,    403.7,   7.9639,  34.6754,2,  34.6750,2,   -999.0,9,  7.9228,    132.6,2,    16.42,2,    30.59,2,     0.04,2,     1.96,2, -999.000,9,   -999.0,9,  -999.0,9,-999.000,9,-999.000,9
    316N198301, ATAS3,   131,  1,     17,     17,2,19830218,0352, -8.6333, -34.1350, 2399,  466.6,    456.3,   7.1369,  34.6122,2,  34.6130,2,   -999.0,9,  7.0932,    120.4,2,    19.55,2,    34.21,2,     0.04,2,     2.13,2, -999.000,9,   -999.0,9,   458.0,2,-999.000,9,   7.133,2
    316N198301, ATAS3,   131,  1,     18,     18,2,19830218,0352, -8.6333, -34.1350, 2399,  773.7,    764.0,   4.7489,  34.4408,2,  34.4410,2,   -999.0,9,  4.6882,    162.2,2,    29.62,2,    34.90,2,     0.04,2,     2.25,2, -999.000,9,   -999.0,9,  -999.0,9,-999.000,9,-999.000,9
    316N198301, ATAS3,   131,  1,     19,     19,2,19830218,0352, -8.6333, -34.1350, 2399, 1095.7,   1087.9,   3.8460,  34.5857,2,  34.5890,2,   -999.0,9,  3.7641,    178.2,2,    36.85,2,    32.45,2,     0.04,2,     2.14,2, -999.000,9,   -999.0,9,  1086.0,2,-999.000,9,   3.847,2
    316N198301, ATAS3,   131,  1,     20,     20,2,19830218,0352, -8.6333, -34.1350, 2399, 1354.2,   1347.3,   4.4010,  34.8414,2,  34.8400,2,   -999.0,9,  4.2907,    192.5,2,    24.92,2,    26.78,2,     0.04,2,     1.81,2, -999.000,9,   -999.0,9,  -999.0,9,-999.000,9,-999.000,9
    316N198301, ATAS3,   131,  1,     21,     21,2,19830218,0352, -8.6333, -34.1350, 2399, 1767.0,   1762.5,   3.8390,  34.9690,2,  34.9700,2,   -999.0,9,  3.6965,    246.4,2,    18.76,2,    19.15,2,     0.03,2,     1.36,2, -999.000,9,   -999.0,9,  1763.0,2,-999.000,9,   3.827,2
    316N198301, ATAS3,   131,  1,     22,     22,2,19830218,0352, -8.6333, -34.1350, 2399, 1924.6,   1921.0,   3.5580,  34.9677,2,  34.9690,2,   -999.0,9,  3.4045,    254.2,2,    20.72,2,    18.47,2,     0.03,2,     1.33,2, -999.000,9,   -999.0,9,  -999.0,9,-999.000,9,-999.000,9
    316N198301, ATAS3,   131,  1,     23,     23,2,19830218,0352, -8.6333, -34.1350, 2399, 2425.7,   2424.8,   2.8580,  34.9394,2,  34.9390,2,   -999.0,9,  2.6679,    258.1,2,    27.36,2,    18.76,2,     0.03,2,     1.36,2, -999.000,9,   -999.0,9,  2424.0,2,-999.000,9,   2.852,2