BOTTLE,20060405WHPSIOdm
EXPOCODE,SECT_ID,STNNBR,CASTNO,SAMPNO,BTLNBR,BTLNBR_FLAG_W,DATE,TIME,LATITUDE,LONGITUDE,DEPTH,CTDRAW,CTDPRS,CTDTMP,CTDSAL,CTDSAL_FLAG_W,SALNTY,SALNTY_FLAG_W,CTDOXY,CTDOXY_FLAG_W,THETA,OXYGEN,OXYGEN_FLAG_W,SILCAT,SILCAT_FLAG_W,NITRAT,NITRAT_FLAG_W,NITRIT,NITRIT_FLAG_W,PHSPHT,PHSPHT_FLAG_W,TRITUM,TRITUM_FLAG_W,TCARBN,TCARBN_FLAG_W,REVPRS,REVPRS_FLAG_W,TRITER,TRITER_FLAG_W,REVTMP,REVTMP_FLAG_W
,,,,,,,,,,,,,DBAR,ITS-90,PSS-78,,PSS-78,,UMOL/KG,,DEG C,UMOL/KG,,UMOL/KG,,UMOL/KG,,UMOL/KG,,UMOL/KG,,TU,,UMOL/KG,,DBAR,,TU,,ITS-90,
    316N198301, ATAS3,   115,  1,      1,      1,2,19830210,1516, -0.5033, -27.9967, 4004,   28.2,     11.0,  27.1015,  36.0297,2,  36.0280,2,   -999.0,9, 27.0989,    201.6,2,     1.86,2,     0.04,2,     0.00,2,     0.11,2,    1.180,2,   2013.0,2,  -999.0,9,   0.070,2,  27.107,2
    316N198301, ATAS3,   115,  1,      2,      2,2,19830210,1516, -0.5033, -27.9967, 4004,   41.1,     22.0,  26.8755,  36.1670,2,  36.1570,2,   -999.0,9, 26.8704,    202.9,2,     1.86,2,     0.04,2,     0.00,2,     0.13,2,    1.120,2,   2028.0,2,  -999.0,9,   0.070,2,-999.000,9
    316N198301, ATAS3,   115,  1,      3,      3,2,19830210,1516, -0.5033, -27.9967, 4004,   49.9,     33.0,  26.5625,  36.3150,2,  36.3160,2,   -999.0,9, 26.5550,    202.8,2,     1.85,2,     0.04,2,     0.00,2,     0.15,2, -999.000,9,   -999.0,9,  -999.0,9,-999.000,9,-999.000,9
    316N198301, ATAS3,   115,  1,      4,      4,2,19830210,1516, -0.5033, -27.9967, 4004,   81.0,     66.0,  24.8165,  36.5762,2,  36.5770,2,   -999.0,9, 24.8022,    197.9,2,     1.85,2,     0.18,2,     0.23,2,     0.22,2,    1.230,2,   2064.0,2,  -999.0,9,   0.070,2,-999.000,9
    316N198301, ATAS3,   115,  1,      5,      5,2,19830210,1516, -0.5033, -27.9967, 4004,   94.9,     81.0,  22.8656,  36.4804,2,  36.4850,2,   -999.0,9, 22.8490,    192.6,2,     2.05,2,     1.53,2,     0.21,2,     0.34,2, -999.000,9,   -999.0,9,  -999.0,9,-999.000,9,-999.000,9
    316N198301, ATAS3,   115,  1,      6,      6,2,19830210,1516, -0.5033, -27.9967, 4004,  108.4,     96.0,  21.1896,  36.3090,2,  36.3040,2,   -999.0,9, 21.1710,    186.4,2,     2.44,2,     2.99,2,     0.18,2,     0.46,2,    1.140,2,   2094.0,2,  -999.0,9,   0.070,2,-999.000,9
    316N198301, ATAS3,   115,  1,      7,      7,2,19830210,1516, -0.5033, -27.9967, 4004,  123.9,    112.0,  17.6537,  35.8933,2,  35.8380,2,   -999.0,9, 17.6346,    167.1,2,     4.39,2,     8.86,2,     0.06,2,     0.82,2, -999.000,9,   -999.0,9,  -999.0,9,-999.000,9,-999.000,9
    316N198301, ATAS3,   115,  1,      8,      8,2,19830210,1516, -0.5033, -27.9967, 4004,  158.6,    148.0,  13.2387,  35.2988,2,  35.2950,2,   -999.0,9, 13.2181,    154.0,2,     7.62,2,    16.02,2,     0.02,2,     1.25,2,    1.310,2,   2147.0,2,  -999.0,9,   0.080,2,-999.000,9
    316N198301, ATAS3,   115,  1,      9,      9,2,19830210,1516, -0.5033, -27.9967, 4004,  233.5,    223.0,  12.7337,  35.2408,2,  35.2420,2,   -999.0,9, 12.7034,    128.3,2,     8.79,2,    20.03,2,     0.02,2,     1.42,2,    0.684,2,   2164.0,2,  -999.0,9,   0.044,2,-999.000,9
    316N198301, ATAS3,   115,  1,     10,     10,2,19830210,1516, -0.5033, -27.9967, 4004,  273.3,    263.0,  11.4988,  35.0916,2,  35.0940,2,   -999.0,9, 11.4653,    107.0,2,    11.33,2,    25.01,2,     0.03,2,     1.66,2,    0.830,2,   2190.0,2,  -999.0,9,   0.044,2,-999.000,9
    316N198301, ATAS3,   115,  1,     11,     11,2,19830210,1516, -0.5033, -27.9967, 4004,  333.2,    322.9,   9.7958,  34.9117,2,  34.9130,2,   -999.0,9,  9.7586,     82.2,2,    14.85,2,    31.27,2,     0.04,2,     1.97,2,    0.410,2,   2213.0,2,   324.0,2,   0.060,2,   9.800,2
    316N198301, ATAS3,   115,  1,     12,     12,2,19830210,1516, -0.5033, -27.9967, 4004,  412.0,    402.0,   8.3948,  34.7517,2,  34.7580,2,   -999.0,9,  8.3526,    108.3,2,    17.30,2,    30.98,2,     0.04,2,     2.01,2,    0.180,2,   2206.0,2,  -999.0,9,   0.050,2,-999.000,9
    316N198301, ATAS3,   115,  1,     13,     13,2,19830210,1516, -0.5033, -27.9967, 4004,  451.4,    441.5,   7.9598,  34.7066,2,  34.7060,2,   -999.0,9,  7.9148,    121.3,2,    18.18,2,    30.69,2,     0.04,2,     2.00,2, -999.000,9,   -999.0,9,  -999.0,9,-999.000,9,-999.000,9
    316N198301, ATAS3,   115,  1,     14,     14,2,19830210,1516, -0.5033, -27.9967, 4004,  538.5,    529.0,   6.7069,  34.5881,2,  34.5900,2,   -999.0,9,  6.6576,    137.4,2,    21.41,2,    31.77,2,     0.04,2,     2.09,2,    0.130,2,   2202.0,2,  -999.0,9,   0.070,2,-999.000,9
    316N198301, ATAS3,   115,  1,     15,     15,2,19830210,1516, -0.5033, -27.9967, 4004,  649.1,    639.9,   5.6929,  34.5137,2,  34.5160,2,   -999.0,9,  5.6378,    144.3,2,    25.42,2,    33.24,2,     0.04,2,     2.20,2,    0.030,2,   2208.0,2,  -999.0,9,   0.024,2,-999.000,9
    316N198301, ATAS3,   115,  1,     16,     16,2,19830210,1516, -0.5033, -27.9967, 4004,  790.3,    781.4,   4.8789,  34.4891,2,  34.4870,2,   -999.0,9,  4.8158,    153.9,2,    30.30,2,    33.73,2,     0.04,2,     2.25,2, -999.000,9,   -999.0,9,  -999.0,9,-999.000,9,-999.000,9
    316N198301, ATAS3,   115,  1,     17,     17,2,19830210,1516, -0.5033, -27.9967, 4004, 1011.8,   1003.1,   4.4319,  34.5896,2,  34.5900,2,   -999.0,9,  4.3525,    158.2,2,    32.45,2,    32.75,2,     0.04,2,     2.21,2, -999.000,9,   -999.0,9,  1010.0,2,-999.000,9,   4.431,2
    316N198301, ATAS3,   115,  1,     18,     18,2,19830210,1516, -0.5033, -27.9967, 4004, 1252.2,   1244.1,   4.4949,  34.8838,2,  34.8840,2,   -999.0,9,  4.3931,    200.3,2,    22.67,2,    24.63,2,     0.03,2,     1.70,2, -999.000,9,   -999.0,9,  -999.0,9,-999.000,9,-999.000,9
    316N198301, ATAS3,   115,  1,     19,     19,2,19830210,1516, -0.5033, -27.9967, 4004, 1509.8,   1502.9,   4.1769,  34.9575,2,  34.9570,2,   -999.0,9,  4.0545,    232.0,2,    18.76,2,    20.72,2,     0.03,2,     1.45,2, -999.000,9,   -999.0,9,  1504.0,2,-999.000,9,   4.173,2
    316N198301, ATAS3,   115,  1,     20,     20,2,19830210,1516, -0.5033, -27.9967, 4004, 1748.1,   1742.4,   3.9479,  34.9772,2,  34.9770,2,   -999.0,9,  3.8059,    249.0,2,    17.39,2,    18.76,2,     0.03,2,     1.33,2, -999.000,9,   -999.0,9,  -999.0,9,-999.000,9,-999.000,9
    316N198301, ATAS3,   115,  1,     21,     21,2,19830210,1516, -0.5033, -27.9967, 4004, 2084.8,   2080.9,   3.3029,  34.9552,2,  34.9550,2,   -999.0,9,  3.1382,    253.3,2,    23.45,2,    18.96,2,     0.03,2,     1.35,2, -999.000,9,   -999.0,9,  2081.0,2,-999.000,9,   3.311,2
    316N198301, ATAS3,   115,  1,     22,     22,2,19830210,1516, -0.5033, -27.9967, 4004, 2605.7,   2604.5,   2.8289,  34.9298,2,  34.9290,2,   -999.0,9,  2.6220,    252.9,2,    31.08,2,    19.74,2,     0.02,2,     1.38,2, -999.000,9,   -999.0,9,  -999.0,9,-999.000,9,-999.000,9
    316N198301, ATAS3,   115,  1,     23,     23,2,19830210,1516, -0.5033, -27.9967, 4004, 4051.2,   4057.1,   2.0820,  34.8657,2,  34.8670,2,   -999.0,9,  1.7391,    253.7,2,    49.45,2,    21.60,2,     0.02,2,     1.50,2, -999.000,9,   -999.0,9,  4068.0,2,-999.000,9,   2.087,2
    316N198301, ATAS3,   116,  1,      1,      1,2,19830210,2235, -1.0083, -27.9717, 3734,   29.1,      7.0,  27.2294,  36.2325,2,  36.2320,2,   -999.0,9, 27.2278,    202.0,2,     1.76,2,     0.05,2,     0.00,2,     0.14,2, -999.000,9,   -999.0,9,  -999.0,9,-999.000,9,  27.249,2
    316N198301, ATAS3,   116,  1,      2,      2,2,19830210,2235, -1.0083, -27.9717, 3734,   48.3,     36.0,  26.6974,  36.3615,2,  36.3630,2,   -999.0,9, 26.6892,    203.3,2,     1.66,2,     0.05,2,     0.00,2,     0.16,2,    1.286,2,   2041.0,2,  -999.0,9,   0.061,2,-999.000,9
    316N198301, ATAS3,   116,  1,      3,      3,2,19830210,2235, -1.0083, -27.9717, 3734,   69.4,     51.0,  24.9835,  36.4163,2,  36.4150,2,   -999.0,9, 24.9723,    197.9,2,     1.66,2,     0.01,2,     0.00,2,     0.23,2,    1.145,2,   2056.0,2,  -999.0,9,   0.057,2,-999.000,9
    316N198301, ATAS3,   116,  1,      4,      4,2,19830210,2235, -1.0083, -27.9717, 3734,  103.6,     89.0,  18.2056,  35.9443,2,  35.9600,2,   -999.0,9, 18.1901,    163.7,2,     4.00,2,     8.60,2,     0.10,2,     0.79,2,    0.910,2,   2119.0,2,  -999.0,9,   0.052,2,-999.000,9
    316N198301, ATAS3,   116,  1,      5,      5,2,19830210,2235, -1.0083, -27.9717, 3734,  140.7,    128.0,  13.5747,  35.3455,2,  35.3420,2,   -999.0,9, 13.5565,    158.4,2,     6.84,2,    15.63,2,     0.01,2,     1.16,2,    0.610,2,   2139.0,2,  -999.0,9,   0.049,2,-999.000,9
    316N198301, ATAS3,   116,  1,      6,      6,2,19830210,2235, -1.0083, -27.9717, 3734,  172.9,    160.0,  12.9137,  35.2582,2,  35.2610,2,   -999.0,9, 12.8918,    146.2,2,     7.91,2,    18.47,2,     0.01,2,     1.30,2, -999.000,9,   -999.0,9,  -999.0,9,-999.000,9,-999.000,9
    316N198301, ATAS3,   116,  1,      7,      7,2,19830210,2235, -1.0083, -27.9717, 3734,  222.5,    210.0,  12.2247,  35.1787,2,  35.1810,2,   -999.0,9, 12.1969,    104.4,2,     9.97,2,    24.72,2,     0.01,2,     1.61,2,    0.440,2,   -999.0,9,  -999.0,9,   0.049,2,-999.000,9
    316N198301, ATAS3,   116,  1,      8,      8,2,19830210,2235, -1.0083, -27.9717, 3734,  252.3,    240.0,  11.8257,  35.1321,2,  35.1330,2,   -999.0,9, 11.7946,    104.0,2,    10.45,2,    25.70,2,     0.01,2,     1.64,2, -999.000,9,   -999.0,9,  -999.0,9,-999.000,9,-999.000,9
    316N198301, ATAS3,   116,  1,      9,      9,2,19830210,2235, -1.0083, -27.9717, 3734,  287.1,    275.0,  11.2717,  35.0628,2,  35.0620,2,   -999.0,9, 11.2371,     91.3,2,    11.82,2,    28.43,2,     0.01,2,     1.77,2, -999.000,9,   -999.0,9,  -999.0,9,-999.000,9,-999.000,9
    316N198301, ATAS3,   116,  1,     10,     10,2,19830210,2235, -1.0083, -27.9717, 3734,  316.0,    304.0,   9.9927,  34.9308,2,  34.9450,2,   -999.0,9,  9.9573,     82.6,2,    14.17,2,    31.86,2,     0.01,2,     1.93,2,    0.195,2,   -999.0,9,  -999.0,9,   0.041,2,-999.000,9
    316N198301, ATAS3,   116,  1,     11,     11,2,19830210,2235, -1.0083, -27.9717, 3734,  341.7,    331.0,   9.6537,  34.8952,2,  34.8970,2,   -999.0,9,  9.6160,     80.9,2,    15.15,2,    32.93,2,     0.02,2,     2.01,2, -999.000,9,   -999.0,9,   333.0,2,-999.000,9,   9.641,2
    316N198301, ATAS3,   116,  1,     12,     12,2,19830210,2235, -1.0083, -27.9717, 3734,  401.6,    391.2,   8.5478,  34.7695,2,  34.7710,2,   -999.0,9,  8.5062,    103.5,2,    17.01,2,    32.84,2,     0.02,2,     2.04,2,    0.092,2,   2209.0,2,  -999.0,9,   0.036,2,-999.000,9
    316N198301, ATAS3,   116,  1,     13,     13,2,19830210,2235, -1.0083, -27.9717, 3734,  501.9,    491.7,   7.3808,  34.6484,2,  34.6480,2,   -999.0,9,  7.3326,    127.0,2,    19.16,2,    32.74,2,     0.03,2,     2.06,2,    0.140,2,   2203.0,2,  -999.0,9,   0.044,2,-999.000,9
    316N198301, ATAS3,   116,  1,     14,     14,2,19830210,2235, -1.0083, -27.9717, 3734,  602.1,    592.3,   6.0978,  34.5225,2,  34.5250,2,   -999.0,9,  6.0452,    148.3,2,    23.07,2,    33.53,2,     0.03,2,     2.14,2, -999.000,9,   -999.0,9,  -999.0,9,-999.000,9,-999.000,9
    316N198301, ATAS3,   116,  1,     15,     15,2,19830210,2235, -1.0083, -27.9717, 3734,  827.8,    818.5,   4.6328,  34.4856,2,  34.4870,2,   -999.0,9,  4.5681,    160.4,2,    31.38,2,    34.80,2,     0.03,2,     2.25,2, -999.000,9,   -999.0,9,  -999.0,9,-999.000,9,-999.000,9
    316N198301, ATAS3,   116,  1,     16,     16,2,19830210,2235, -1.0083, -27.9717, 3734,  993.1,    984.0,   4.3968,  34.6074,2,  34.6060,2,   -999.0,9,  4.3193,    158.7,2,    32.35,2,    33.92,2,     0.03,2,     2.20,2, -999.000,9,   -999.0,9,  -999.0,9,-999.000,9,-999.000,9
    316N198301, ATAS3,   116,  1,     17,     17,2,19830210,2235, -1.0083, -27.9717, 3734, 1022.9,   1013.9,   4.1729,  34.5938,2,  34.5960,2,   -999.0,9,  4.0945,    167.8,2,    34.02,2,    33.33,2,     0.03,2,     2.17,2, -999.000,9,   -999.0,9,  1020.0,2,-999.000,9,   4.173,2
    316N198301, ATAS3,   116,  1,     18,     18,2,19830210,2235, -1.0083, -27.9717, 3734, 1104.0,   1095.0,   4.4088,  34.7050,2,  34.7070,2,   -999.0,9,  4.3214,    169.1,2,    29.71,2,    31.67,2,     0.03,2,     2.06,2, -999.000,9,   -999.0,9,  -999.0,9,-999.000,9,-999.000,9
    316N198301, ATAS3,   116,  1,     19,     19,2,19830210,2235, -1.0083, -27.9717, 3734, 1248.9,   1240.4,   4.4808,  34.8467,2,  34.8480,2,   -999.0,9,  4.3795,    191.2,2,    24.24,2,    27.27,2,     0.03,2,     1.80,2, -999.000,9,   -999.0,9,  1244.0,2,-999.000,9,   4.481,2
    316N198301, ATAS3,   116,  1,     20,     20,2,19830210,2235, -1.0083, -27.9717, 3734, 1462.7,   1455.2,   4.2839,  34.9551,2,  34.9560,2,   -999.0,9,  4.1646,    228.1,2,    18.76,2,    21.69,2,     0.03,2,     1.48,2, -999.000,9,   -999.0,9,  -999.0,9,-999.000,9,-999.000,9
    316N198301, ATAS3,   116,  1,     21,     21,2,19830210,2235, -1.0083, -27.9717, 3734, 1756.1,   1750.1,   3.9049,  34.9751,2,  34.9770,2,   -999.0,9,  3.7626,    248.5,2,    17.39,2,    19.35,2,     0.03,2,     1.33,2, -999.000,9,   -999.0,9,  1749.0,2,-999.000,9,   3.910,2
    316N198301, ATAS3,   116,  1,     22,     22,2,19830210,2235, -1.0083, -27.9717, 3734, 2706.1,   2705.3,   2.8179,  34.9297,2,  34.9290,2,   -999.0,9,  2.6011,    254.2,2,    30.29,2,    19.94,2,     0.03,2,     1.37,2, -999.000,9,   -999.0,9,  -999.0,9,-999.000,9,-999.000,9
    316N198301, ATAS3,   116,  1,     23,     23,2,19830210,2235, -1.0083, -27.9717, 3734, 3801.5,   3806.3,   2.2889,  34.8900,2,  34.8910,2,   -999.0,9,  1.9684,    257.6,2,    39.48,2,    20.33,2,     0.03,2,     1.42,2, -999.000,9,   -999.0,9,  3816.0,2,-999.000,9,   2.290,2
    316N198301, ATAS3,   117,  1,      1,      1,2,19830211,0843, -1.9883, -27.9967, 5033,   24.0,      6.9,  27.4033,  36.2363,2,  36.2370,2,   -999.0,9, 27.4017,    202.0,2,     1.76,2,     0.13,2,     0.00,2,     0.14,2, -999.000,9,   -999.0,9,  -999.0,9,-999.000,9,  27.432,2
    316N198301, ATAS3,   117,  1,      2,      2,2,19830211,0843, -1.9883, -27.9967, 5033,   56.8,     35.0,  27.2274,  36.2432,2,  36.2420,2,   -999.0,9, 27.2192,    202.0,2,     1.76,2,     0.08,2,     0.00,2,     0.14,2,    1.220,2,   -999.0,9,  -999.0,9,   0.080,2,-999.000,9
    316N198301, ATAS3,   117,  1,      3,      3,2,19830211,0843, -1.9883, -27.9967, 5033,   75.9,     56.0,  26.2054,  36.2575,2,  36.2570,2,   -999.0,9, 26.1928,    206.7,2,     1.76,2,     0.03,2,     0.00,2,     0.17,2,    1.200,2,   2043.0,2,  -999.0,9,   0.070,2,-999.000,9
    316N198301, ATAS3,   117,  1,      4,      4,2,19830211,0843, -1.9883, -27.9967, 5033,   84.3,     67.0,  23.8814,  36.2942,2,  36.3040,2,   -999.0,9, 23.8673,    192.6,2,     1.76,2,     0.07,2,     0.01,2,     0.28,2,    1.040,2,   -999.0,9,  -999.0,9,   0.060,2,-999.000,9
    316N198301, ATAS3,   117,  1,      5,      5,2,19830211,0843, -1.9883, -27.9967, 5033,   93.9,     80.0,  21.0435,  36.0565,2,  36.0600,2,   -999.0,9, 21.0281,    155.5,2,     3.42,2,     6.37,2,     0.62,2,     0.73,2,    1.020,2,   2115.0,2,  -999.0,9,   0.080,2,-999.000,9
    316N198301, ATAS3,   117,  1,      6,      6,2,19830211,0843, -1.9883, -27.9967, 5033,  118.5,    107.0,  14.0676,  35.4094,2,  35.4150,2,   -999.0,9, 14.0521,    107.0,2,     7.72,2,    20.81,2,     0.06,2,     1.42,2,    0.640,2,   -999.0,9,  -999.0,9,   0.070,2,-999.000,9
    316N198301, ATAS3,   117,  1,      7,      7,2,19830211,0843, -1.9883, -27.9967, 5033,  192.5,    181.0,  12.6766,  35.2369,2,  35.2410,2,   -999.0,9, 12.6521,     94.4,2,     9.67,2,    24.62,2,     0.04,2,     1.60,2,    0.430,2,   2208.0,2,  -999.0,9,   0.060,2,-999.000,9
    316N198301, ATAS3,   117,  1,      8,      8,2,19830211,0843, -1.9883, -27.9967, 5033,  272.9,    261.0,  11.2267,  35.0680,2,  35.0600,2,   -999.0,9, 11.1939,     89.2,2,    12.51,2,    28.14,2,     0.04,2,     1.78,2,    0.200,2,   -999.0,9,  -999.0,9,   0.050,2,-999.000,9
    316N198301, ATAS3,   117,  1,      9,      9,2,19830211,0843, -1.9883, -27.9967, 5033,  317.5,    307.0,   9.9517,  34.9158,2,  34.9170,2,   -999.0,9,  9.9160,    108.7,2,    13.97,2,    28.54,2,     0.04,2,     1.81,2,    0.190,2,   -999.0,9,  -999.0,9,   0.050,2,-999.000,9
    316N198301, ATAS3,   117,  1,     10,     10,2,19830211,0843, -1.9883, -27.9967, 5033,  362.4,    352.0,   9.3447,  34.8430,2,  34.8610,2,   -999.0,9,  9.3053,    126.1,2,    14.27,2,    27.17,2,     0.04,2,     1.78,2,    0.255,2,   -999.0,9,  -999.0,9,   0.044,2,-999.000,9
    316N198301, ATAS3,   117,  1,     11,     11,2,19830211,0843, -1.9883, -27.9967, 5033,  402.2,    392.0,   9.0137,  34.8166,2,  34.8210,2,   -999.0,9,  8.9707,    105.7,2,    15.73,2,    30.59,2,     0.04,2,     1.93,2,    0.120,2,   -999.0,9,   397.0,2,   0.040,2,   9.030,2
    316N198301, ATAS3,   117,  1,     12,     12,2,19830211,0843, -1.9883, -27.9967, 5033,  442.1,    431.1,   8.7517,  34.7892,2,  34.7900,2,   -999.0,9,  8.7051,    107.0,2,    16.61,2,    30.98,2,     0.05,2,     1.96,2, -999.000,9,   -999.0,9,  -999.0,9,-999.000,9,-999.000,9
    316N198301, ATAS3,   117,  1,     13,     13,2,19830211,0843, -1.9883, -27.9967, 5033,  512.4,    501.7,   7.6247,  34.6482,2,  34.6460,2,   -999.0,9,  7.5746,    146.5,2,    17.79,2,    29.03,2,     0.05,2,     1.93,2, -999.000,9,   -999.0,9,  -999.0,9,-999.000,9,-999.000,9
    316N198301, ATAS3,   117,  1,     14,     14,2,19830211,0843, -1.9883, -27.9967, 5033,  602.6,    592.6,   5.6858,  34.4887,2,  34.4910,2,   -999.0,9,  5.6350,    156.5,2,    24.63,2,    32.55,2,     0.04,2,     2.13,2, -999.000,9,   -999.0,9,  -999.0,9,-999.000,9,-999.000,9
    316N198301, ATAS3,   117,  1,     15,     15,2,19830211,0843, -1.9883, -27.9967, 5033,  777.8,    768.1,   4.6618,  34.4566,2,  34.4580,2,   -999.0,9,  4.6011,    163.0,2,    31.18,2,    33.73,2,     0.04,2,     2.24,2, -999.000,9,   -999.0,9,  -999.0,9,-999.000,9,-999.000,9
    316N198301, ATAS3,   117,  1,     16,     16,2,19830211,0843, -1.9883, -27.9967, 5033,  927.8,    918.4,   4.1488,  34.5237,2,  34.5220,2,   -999.0,9,  4.0788,    167.8,2,    34.80,2,    33.33,2,     0.04,2,     2.21,2, -999.000,9,   -999.0,9,  -999.0,9,-999.000,9,-999.000,9
    316N198301, ATAS3,   117,  1,     17,     17,2,19830211,0843, -1.9883, -27.9967, 5033, 1053.7,   1044.2,   4.3698,  34.6706,2,  34.6720,2,   -999.0,9,  4.2872,    165.6,2,    30.98,2,    31.67,2,     0.04,2,     2.10,2, -999.000,9,   -999.0,9,  1050.0,2,-999.000,9,   4.371,2
    316N198301, ATAS3,   117,  1,     18,     18,2,19830211,0843, -1.9883, -27.9967, 5033, 1279.0,   1270.1,   4.4668,  34.8664,2,  34.8800,2,   -999.0,9,  4.3629,    226.8,2,    42.41,2,    23.94,2,     0.03,2,     1.63,2, -999.000,9,   -999.0,9,  -999.0,9,-999.000,9,-999.000,9
    316N198301, ATAS3,   117,  1,     19,     19,2,19830211,0843, -1.9883, -27.9967, 5033, 1638.3,   1630.0,   3.9938,  34.9773,2,  34.9770,2,   -999.0,9,  3.8617,    245.1,2,    17.69,2,    19.35,2,     0.02,2,     1.35,2, -999.000,9,   -999.0,9,  1638.0,2,-999.000,9,   3.997,2
    316N198301, ATAS3,   117,  1,     20,     20,2,19830211,0843, -1.9883, -27.9967, 5033, 2013.7,   2007.0,   3.5298,  34.9704,2,  34.9700,2,   -999.0,9,  3.3686,    256.4,2,    19.35,2,    18.57,2,     0.02,2,     1.30,2, -999.000,9,   -999.0,9,  -999.0,9,-999.000,9,-999.000,9
    316N198301, ATAS3,   117,  1,     21,     21,2,19830211,0843, -1.9883, -27.9967, 5033, 3830.2,   3831.4,   2.3518,  34.9019,2,  34.9010,2,   -999.0,9,  2.0268,    262.4,2,    34.40,2,    19.15,2,     0.02,2,     1.34,2, -999.000,9,   -999.0,9,  4015.0,2,-999.000,9,   2.353,2
    316N198301, ATAS3,   117,  1,     22,     22,2,19830211,0843, -1.9883, -27.9967, 5033, 4661.8,   4667.0,   0.8019,  34.7277,2,  34.7250,2,   -999.0,9,  0.4296,    225.9,2,   112.11,2,    30.79,2,     0.02,2,     2.06,2, -999.000,9,   -999.0,9,  -999.0,9,-999.000,9,-999.000,9
    316N198301, ATAS3,   117,  1,     23,     23,2,19830211,0843, -1.9883, -27.9967, 5033, 5118.8,   5125.9,   0.7419,  34.7152,2,  34.7130,2,   -999.0,9,  0.3183,    224.2,2,   116.41,2,    31.57,2,     0.02,2,     2.11,2, -999.000,9,   -999.0,9,  5142.0,2,-999.000,9,   0.748,2