BOTTLE,20060405WHPSIOdm
EXPOCODE,SECT_ID,STNNBR,CASTNO,SAMPNO,BTLNBR,BTLNBR_FLAG_W,DATE,TIME,LATITUDE,LONGITUDE,DEPTH,CTDRAW,CTDPRS,CTDTMP,CTDSAL,CTDSAL_FLAG_W,SALNTY,SALNTY_FLAG_W,CTDOXY,CTDOXY_FLAG_W,THETA,OXYGEN,OXYGEN_FLAG_W,SILCAT,SILCAT_FLAG_W,NITRAT,NITRAT_FLAG_W,NITRIT,NITRIT_FLAG_W,PHSPHT,PHSPHT_FLAG_W,TRITUM,TRITUM_FLAG_W,TCARBN,TCARBN_FLAG_W,REVPRS,REVPRS_FLAG_W,TRITER,TRITER_FLAG_W,REVTMP,REVTMP_FLAG_W
,,,,,,,,,,,,,DBAR,ITS-90,PSS-78,,PSS-78,,UMOL/KG,,DEG C,UMOL/KG,,UMOL/KG,,UMOL/KG,,UMOL/KG,,UMOL/KG,,TU,,UMOL/KG,,DBAR,,TU,,ITS-90,
    316N198301, ATAS3,   112,  1,      1,      1,2,19830209,1336,  0.9950, -27.9950, 3262,   25.6,      8.0,  27.2077,  35.7368,2,  35.7320,2,   -999.0,9, 27.2058,    204.3,2,     1.76,2,     0.00,2,     0.00,2,     0.08,2, -999.000,9,   -999.0,9,  -999.0,9,-999.000,9,  27.214,2
    316N198301, ATAS3,   112,  1,      2,      2,2,19830209,1336,  0.9950, -27.9950, 3262,   44.8,     22.1,  26.7597,  35.9799,2,  35.9860,2,   -999.0,9, 26.7546,    202.9,2,     1.66,2,     0.00,2,     0.00,2,     0.12,2,    1.280,2,   -999.0,9,  -999.0,9,   0.070,2,-999.000,9
    316N198301, ATAS3,   112,  1,      3,      3,2,19830209,1336,  0.9950, -27.9950, 3262,   59.4,     40.0,  26.8487,  36.1559,2,  36.1550,2,   -999.0,9, 26.8395,    203.3,2,     1.56,2,     0.00,2,     0.00,2,     0.13,2,    1.170,2,   2029.0,2,  -999.0,9,   0.080,2,-999.000,9
    316N198301, ATAS3,   112,  1,      4,      4,2,19830209,1336,  0.9950, -27.9950, 3262,   73.7,     58.4,  25.2797,  35.9682,2,  35.9790,2,   -999.0,9, 25.2669,    201.1,2,     1.66,2,     0.00,2,     0.00,2,     0.19,2,    1.190,2,   -999.0,9,  -999.0,9,   0.057,2,-999.000,9
    316N198301, ATAS3,   112,  1,      5,      5,2,19830209,1336,  0.9950, -27.9950, 3262,   83.0,     75.0,  24.4347,  36.0125,2,  36.0130,2,   -999.0,9, 24.4187,    178.3,2,     2.25,2,     1.61,2,     0.31,2,     0.32,2,    1.290,2,   2056.0,2,  -999.0,9,   0.070,2,-999.000,9
    316N198301, ATAS3,   112,  1,      6,      6,2,19830209,1336,  0.9950, -27.9950, 3262,  103.5,     90.0,  18.7098,  35.8650,2,  35.8670,2,   -999.0,9, 18.6939,    136.7,2,     4.59,2,    12.01,2,     0.06,2,     0.93,2,    0.910,2,   2130.0,2,  -999.0,9,   0.060,2,-999.000,9
    316N198301, ATAS3,   112,  1,      7,      7,2,19830209,1336,  0.9950, -27.9950, 3262,  135.1,    122.0,  14.7919,  35.4963,2,  35.4860,2,   -999.0,9, 14.7736,    141.4,2,     6.54,2,    16.12,2,     0.04,2,     1.18,2,    0.810,2,   2149.0,2,  -999.0,9,   0.070,2,-999.000,9
    316N198301, ATAS3,   112,  1,      8,      8,2,19830209,1336,  0.9950, -27.9950, 3262,  157.6,    145.0,  13.3469,  35.3178,2,  35.3200,2,   -999.0,9, 13.3266,    158.8,2,     6.74,2,    15.73,2,     0.02,2,     1.17,2,    0.780,2,   -999.0,9,  -999.0,9,   0.060,2,-999.000,9
    316N198301, ATAS3,   112,  1,      9,      9,2,19830209,1336,  0.9950, -27.9950, 3262,  176.7,    165.0,  13.0649,  35.2782,2,  35.2790,2,   -999.0,9, 13.0421,    155.3,2,     7.33,2,    16.61,2,     0.02,2,     1.23,2,    0.660,2,   2144.0,2,  -999.0,9,   0.070,2,-999.000,9
    316N198301, ATAS3,   112,  1,     10,     10,2,19830209,1336,  0.9950, -27.9950, 3262,  211.1,    200.2,  12.8559,  35.2550,2,  35.2570,2,   -999.0,9, 12.8285,    140.5,2,     7.72,2,    18.86,2,     0.02,2,     1.33,2,    0.540,2,   2158.0,2,  -999.0,9,   0.060,2,-999.000,9
    316N198301, ATAS3,   112,  1,     11,     11,2,19830209,1336,  0.9950, -27.9950, 3262,  270.5,    259.8,  11.8669,  35.1409,2,  35.1370,2,   -999.0,9, 11.8332,    109.2,2,    10.26,2,    24.33,2,     0.02,2,     1.62,2,    0.330,2,   2183.0,2,   246.0,2,   0.050,2,  11.292,2
    316N198301, ATAS3,   112,  1,     12,     12,2,19830209,1336,  0.9950, -27.9950, 3262,  320.3,    310.0,   9.7090,  34.8858,2,  34.8850,2,   -999.0,9,  9.6735,    129.6,2,    13.10,2,    26.29,2,     0.02,2,     1.74,2,    0.180,2,   -999.0,9,  -999.0,9,   0.060,2,-999.000,9
    316N198301, ATAS3,   112,  1,     13,     13,2,19830209,1336,  0.9950, -27.9950, 3262,  370.1,    360.2,   9.3810,  34.8605,2,  34.8610,2,   -999.0,9,  9.3405,     97.0,2,    14.76,2,    30.59,2,     0.02,2,     1.94,2,    0.200,2,   2205.0,2,  -999.0,9,   0.060,2,-999.000,9
    316N198301, ATAS3,   112,  1,     14,     14,2,19830209,1336,  0.9950, -27.9950, 3262,  450.2,    440.6,   7.9890,  34.7139,2,  34.7140,2,   -999.0,9,  7.9439,    113.1,2,    17.59,2,    31.96,2,     0.02,2,     2.04,2,    0.010,2,   2207.0,2,  -999.0,9,   0.040,2,-999.000,9
    316N198301, ATAS3,   112,  1,     15,     15,2,19830209,1336,  0.9950, -27.9950, 3262,  545.2,    535.9,   6.6560,  34.5842,2,  34.5840,2,   -999.0,9,  6.6063,    137.8,2,    21.41,2,    32.06,2,     0.02,2,     2.10,2, -999.000,9,   -999.0,9,  -999.0,9,-999.000,9,-999.000,9
    316N198301, ATAS3,   112,  1,     16,     16,2,19830209,1336,  0.9950, -27.9950, 3262,  685.0,    676.0,   5.4791,  34.5111,2,  34.5090,2,   -999.0,9,  5.4218,    144.8,2,    26.59,2,    33.82,2,     0.02,2,     2.23,2, -999.000,9,   -999.0,9,  -999.0,9,-999.000,9,-999.000,9
    316N198301, ATAS3,   112,  1,     17,     17,2,19830209,1336,  0.9950, -27.9950, 3262,  754.2,    745.5,   4.9661,  34.5031,2,  34.5060,2,   -999.0,9,  4.9055,    151.3,2,    29.33,2,    34.02,2,     0.01,2,     2.26,2, -999.000,9,   -999.0,9,   749.0,2,-999.000,9,   4.972,2
    316N198301, ATAS3,   112,  1,     18,     18,2,19830209,1336,  0.9950, -27.9950, 3262, 1148.7,   1140.7,   4.5071,  34.6972,2,  34.6970,2,   -999.0,9,  4.4148,    166.0,2,    29.42,2,    31.08,2,     0.01,2,     2.08,2, -999.000,9,   -999.0,9,  -999.0,9,-999.000,9,-999.000,9
    316N198301, ATAS3,   112,  1,     19,     19,2,19830209,1336,  0.9950, -27.9950, 3262, 1369.8,   1362.9,   4.2511,  34.9534,2,  34.9550,2,   -999.0,9,  4.1407,    226.8,2,    18.86,2,    21.69,2,     0.01,2,     1.48,2, -999.000,9,   -999.0,9,  1364.0,2,-999.000,9,   4.247,2
    316N198301, ATAS3,   112,  1,     20,     20,2,19830209,1336,  0.9950, -27.9950, 3262, 1742.6,   1737.7,   3.9341,  34.9768,2,  34.9780,2,   -999.0,9,  3.7927,    248.1,2,    17.30,2,    19.54,2,     0.01,2,     1.33,2, -999.000,9,   -999.0,9,  -999.0,9,-999.000,9,-999.000,9
    316N198301, ATAS3,   112,  1,     21,     21,2,19830209,1336,  0.9950, -27.9950, 3262, 1872.7,   1868.6,   3.5711,  34.9666,2,  34.9680,2,   -999.0,9,  3.4223,    254.2,2,    19.74,2,    19.35,2,     0.01,2,     1.32,2, -999.000,9,   -999.0,9,  1863.0,2,-999.000,9,   3.569,2
    316N198301, ATAS3,   112,  1,     22,     22,2,19830209,1336,  0.9950, -27.9950, 3262, 2313.3,   2311.6,   3.1981,  34.9501,2,  34.9500,2,   -999.0,9,  3.0130,    254.2,2,    24.63,2,    19.74,2,     0.01,2,     1.34,2, -999.000,9,   -999.0,9,  -999.0,9,-999.000,9,-999.000,9
    316N198301, ATAS3,   112,  1,     23,     23,2,19830209,1336,  0.9950, -27.9950, 3262, 3284.4,   3287.8,   2.5201,  34.9064,2,  34.9060,2,   -999.0,9,  2.2500,    251.1,2,    38.31,2,    21.21,2,     0.01,2,     1.43,2, -999.000,9,   -999.0,9,  3296.0,2,-999.000,9,   2.520,2
    316N198301, ATAS3,   113,  1,      1,      1,2,19830209,2101,  0.4800, -28.0167, 3696,   21.2,      5.2,  27.4956,  35.8032,2,  35.8010,2,   -999.0,9, 27.4944,    203.0,2,     1.95,2,     0.07,2,     0.00,2,     0.06,2,    1.440,2,   -999.0,9,  -999.0,9,   0.080,2,  27.491,2
    316N198301, ATAS3,   113,  1,      2,      2,2,19830209,2101,  0.4800, -28.0167, 3696,   49.8,     30.0,  26.3866,  36.1050,2,  36.1020,2,   -999.0,9, 26.3798,    203.3,2,     2.05,2,     0.07,2,     0.00,2,     0.13,2,    1.170,2,   -999.0,9,  -999.0,9,   0.080,2,-999.000,9
    316N198301, ATAS3,   113,  1,      3,      3,2,19830209,2101,  0.4800, -28.0167, 3696,   65.7,     51.0,  26.0376,  36.1249,2,  36.1010,2,   -999.0,9, 26.0262,    202.0,2,     2.05,2,     0.07,2,     0.00,2,     0.14,2,    1.110,2,   -999.0,9,  -999.0,9,   0.070,2,-999.000,9
    316N198301, ATAS3,   113,  1,      4,      4,2,19830209,2101,  0.4800, -28.0167, 3696,   82.2,     65.0,  25.0536,  36.2662,2,  36.2660,2,   -999.0,9, 25.0395,    193.1,2,     2.15,2,     0.52,2,     0.14,2,     0.21,2,    1.340,2,   -999.0,9,  -999.0,9,   0.070,2,-999.000,9
    316N198301, ATAS3,   113,  1,      5,      5,2,19830209,2101,  0.4800, -28.0167, 3696,   93.3,     80.0,  21.9297,  36.3211,2,  36.3030,2,   -999.0,9, 21.9138,    181.6,2,     2.93,2,     4.02,2,     0.05,2,     0.46,2,    1.460,2,   -999.0,9,  -999.0,9,   0.060,2,-999.000,9
    316N198301, ATAS3,   113,  1,      6,      6,2,19830209,2101,  0.4800, -28.0167, 3696,  120.6,    110.0,  17.9658,  35.9467,2,  35.9500,2,   -999.0,9, 17.9468,    185.4,2,     3.81,2,     6.40,2,     0.05,2,     0.64,2,    0.990,2,   -999.0,9,  -999.0,9,   0.060,2,-999.000,9
    316N198301, ATAS3,   113,  1,      7,      7,2,19830209,2101,  0.4800, -28.0167, 3696,  137.3,    123.0,  15.7768,  35.6564,2,  35.6580,2,   -999.0,9, 15.7575,    178.0,2,     4.79,2,     9.86,2,     0.02,2,     0.84,2, -999.000,9,   -999.0,9,  -999.0,9,-999.000,9,-999.000,9
    316N198301, ATAS3,   113,  1,      8,      8,2,19830209,2101,  0.4800, -28.0167, 3696,  162.7,    150.0,  13.6559,  35.3633,2,  35.3450,2,   -999.0,9, 13.6345,    149.7,2,     7.52,2,    16.80,2,     0.01,2,     1.21,2,    0.630,2,   -999.0,9,  -999.0,9,   0.050,2,-999.000,9
    316N198301, ATAS3,   113,  1,      9,      9,2,19830209,2101,  0.4800, -28.0167, 3696,  202.5,    190.0,  13.0589,  35.2788,2,  35.2780,2,   -999.0,9, 13.0326,    155.3,2,     7.72,2,    16.71,2,     0.01,2,     1.22,2,    0.530,2,   -999.0,9,  -999.0,9,   0.050,2,-999.000,9
    316N198301, ATAS3,   113,  1,     10,     10,2,19830209,2101,  0.4800, -28.0167, 3696,  262.4,    250.0,  12.2349,  35.1804,2,  35.2000,2,   -999.0,9, 12.2017,    115.7,2,     9.77,2,    22.47,2,     0.01,2,     1.51,2,    0.510,2,   -999.0,9,  -999.0,9,   0.050,2,-999.000,9
    316N198301, ATAS3,   113,  1,     11,     11,2,19830209,2101,  0.4800, -28.0167, 3696,  317.0,    305.0,  10.2079,  34.9397,2,  34.9420,2,   -999.0,9, 10.1719,    128.3,2,    12.80,2,    25.31,2,     0.01,2,     1.69,2,    0.270,2,   -999.0,9,   310.0,2,   0.060,2,  10.188,2
    316N198301, ATAS3,   113,  1,     12,     12,2,19830209,2101,  0.4800, -28.0167, 3696,  356.7,    346.7,   9.5929,  34.8813,2,  34.8760,2,   -999.0,9,  9.5535,    100.0,2,    15.15,2,    30.00,2,     0.01,2,     1.93,2,    0.170,2,   -999.0,9,  -999.0,9,   0.060,2,-999.000,9
    316N198301, ATAS3,   113,  1,     13,     13,2,19830209,2101,  0.4800, -28.0167, 3696,  401.6,    392.0,   8.3490,  34.7519,2,  34.7480,2,   -999.0,9,  8.3079,    103.9,2,    17.89,2,    32.25,2,     0.02,2,     2.06,2,    0.150,2,   -999.0,9,  -999.0,9,   0.040,2,-999.000,9
    316N198301, ATAS3,   113,  1,     14,     14,2,19830209,2101,  0.4800, -28.0167, 3696,  499.1,    489.7,   7.2680,  34.6392,2,  34.6400,2,   -999.0,9,  7.2204,    129.6,2,    19.84,2,    31.57,2,     0.02,2,     2.07,2, -999.000,9,   -999.0,9,  -999.0,9,-999.000,9,-999.000,9
    316N198301, ATAS3,   113,  1,     15,     15,2,19830209,2101,  0.4800, -28.0167, 3696,  647.4,    638.4,   5.6950,  34.5193,2,  34.5200,2,   -999.0,9,  5.6401,    144.8,2,    25.81,2,    33.43,2,     0.02,2,     2.21,2, -999.000,9,   -999.0,9,  -999.0,9,-999.000,9,-999.000,9
    316N198301, ATAS3,   113,  1,     16,     16,2,19830209,2101,  0.4800, -28.0167, 3696,  827.9,    819.3,   4.6210,  34.5013,2,  34.4990,2,   -999.0,9,  4.5562,    155.6,2,    32.06,2,    33.82,2,     0.02,2,     2.28,2, -999.000,9,   -999.0,9,  -999.0,9,-999.000,9,-999.000,9
    316N198301, ATAS3,   113,  1,     17,     17,2,19830209,2101,  0.4800, -28.0167, 3696,  998.4,    990.0,   4.3800,  34.6001,2,  34.6000,2,   -999.0,9,  4.3021,    160.4,2,    32.45,2,    32.55,2,     0.02,2,     2.21,2, -999.000,9,   -999.0,9,   994.0,2,-999.000,9,   4.380,2
    316N198301, ATAS3,   113,  1,     18,     18,2,19830209,2101,  0.4800, -28.0167, 3696, 1198.7,   1190.7,   4.5320,  34.7824,2,  34.7810,2,   -999.0,9,  4.4349,    176.5,2,    27.07,2,    28.73,2,     0.02,2,     1.94,2, -999.000,9,   -999.0,9,  -999.0,9,-999.000,9,-999.000,9
    316N198301, ATAS3,   113,  1,     19,     19,2,19830209,2101,  0.4800, -28.0167, 3696, 1370.2,   1363.0,   4.3490,  34.9511,2,  34.9510,2,   -999.0,9,  4.2376,    223.8,2,    19.45,2,    21.69,2,     0.02,2,     1.50,2, -999.000,9,   -999.0,9,  1364.0,2,-999.000,9,   4.344,2
    316N198301, ATAS3,   113,  1,     20,     20,2,19830209,2101,  0.4800, -28.0167, 3696, 1708.7,   1703.3,   3.9650,  34.9772,2,  34.9770,2,   -999.0,9,  3.8264,    247.7,2,    17.49,2,    19.25,2,     0.02,2,     1.34,2, -999.000,9,   -999.0,9,  -999.0,9,-999.000,9,-999.000,9
    316N198301, ATAS3,   113,  1,     21,     21,2,19830209,2101,  0.4800, -28.0167, 3696, 1895.6,   1891.3,   3.5940,  34.9692,2,  34.9700,2,   -999.0,9,  3.4428,    254.2,2,    19.54,2,    18.96,2,     0.02,2,     1.31,2, -999.000,9,   -999.0,9,  1888.0,2,-999.000,9,   3.593,2
    316N198301, ATAS3,   113,  1,     22,     22,2,19830209,2101,  0.4800, -28.0167, 3696, 2530.0,   2529.0,   2.8831,  34.9318,2,  34.9310,2,   -999.0,9,  2.6825,    251.6,2,    31.17,2,    19.84,2,     0.02,2,     1.39,2, -999.000,9,   -999.0,9,  -999.0,9,-999.000,9,-999.000,9
    316N198301, ATAS3,   113,  1,     23,     23,2,19830209,2101,  0.4800, -28.0167, 3696, 3740.3,   3745.5,   2.4461,  34.9019,2,  34.9000,2,   -999.0,9,  2.1281,    256.3,2,    38.11,2,    19.94,2,     0.02,2,     1.41,2, -999.000,9,   -999.0,9,  3754.0,2,-999.000,9,   2.447,2
    316N198301, ATAS3,   114,  1,      1,      1,2,19830210,0527, -0.0150, -28.0050, 3919,   24.9,      8.0,  27.1515,  35.9434,2,  35.9450,2,   -999.0,9, 27.1497,    202.5,2,     1.95,2,     0.03,2,     0.00,2,     0.10,2,    1.280,2,   2009.0,2,  -999.0,9,   0.080,2,  27.152,2
    316N198301, ATAS3,   114,  1,      2,      2,2,19830210,0527, -0.0150, -28.0050, 3919,   40.4,     22.0,  26.8265,  36.0511,2,  36.0560,2,   -999.0,9, 26.8215,    202.0,2,     1.86,2,     0.03,2,     0.00,2,     0.13,2,    1.290,2,   2027.0,2,  -999.0,9,   0.080,2,-999.000,9
    316N198301, ATAS3,   114,  1,      3,      3,2,19830210,0527, -0.0150, -28.0050, 3919,   56.7,     41.0,  26.2126,  36.2569,2,  36.2580,2,   -999.0,9, 26.2033,    201.5,2,     2.05,2,     0.03,2,     0.00,2,     0.16,2,    1.310,2,   2037.0,2,  -999.0,9,   0.080,2,-999.000,9
    316N198301, ATAS3,   114,  1,      4,      4,2,19830210,0527, -0.0150, -28.0050, 3919,   85.9,     73.0,  22.7106,  36.4648,2,  36.4680,2,   -999.0,9, 22.6958,    190.8,2,     2.25,2,     1.92,2,     0.13,2,     0.37,2,    1.500,2,   2087.0,2,  -999.0,9,   0.070,2,-999.000,9
    316N198301, ATAS3,   114,  1,      5,      5,2,19830210,0527, -0.0150, -28.0050, 3919,   96.6,     85.0,  22.1876,  36.4162,2,  36.4180,2,   -999.0,9, 22.1706,    189.0,2,     2.34,2,     2.36,2,     0.11,2,     0.41,2,    1.040,2,   2084.0,2,  -999.0,9,   0.070,2,-999.000,9
    316N198301, ATAS3,   114,  1,      6,      6,2,19830210,0527, -0.0150, -28.0050, 3919,  131.8,    122.0,  16.6027,  35.7553,2,  35.7600,2,   -999.0,9, 16.5829,    174.5,2,     4.39,2,     8.95,2,     0.05,2,     0.82,2, -999.000,9,   -999.0,9,  -999.0,9,-999.000,9,-999.000,9
    316N198301, ATAS3,   114,  1,      7,      7,2,19830210,0527, -0.0150, -28.0050, 3919,  151.9,    143.0,  14.6008,  35.4805,2,  35.4820,2,   -999.0,9, 14.5795,    153.6,2,     6.15,2,    14.16,2,     0.02,2,     1.10,2, -999.000,9,   -999.0,9,  -999.0,9,-999.000,9,-999.000,9
    316N198301, ATAS3,   114,  1,      8,      8,2,19830210,0527, -0.0150, -28.0050, 3919,  176.8,    168.0,  13.1738,  35.2918,2,  35.2910,2,   -999.0,9, 13.1504,    154.0,2,     7.72,2,    16.51,2,     0.02,2,     1.22,2,    0.840,2,   2148.0,2,  -999.0,9,   0.070,2,-999.000,9
    316N198301, ATAS3,   114,  1,      9,      9,2,19830210,0527, -0.0150, -28.0050, 3919,  201.5,    193.0,  12.9688,  35.2618,2,  35.2630,2,   -999.0,9, 12.9422,    157.9,2,     7.91,2,    16.02,2,     0.02,2,     1.22,2, -999.000,9,   -999.0,9,  -999.0,9,-999.000,9,-999.000,9
    316N198301, ATAS3,   114,  1,     10,     10,2,19830210,0527, -0.0150, -28.0050, 3919,  261.2,    253.0,  11.5868,  35.1036,2,  35.1280,2,   -999.0,9, 11.5545,    109.6,2,    11.04,2,    24.23,2,     0.02,2,     1.62,2, -999.000,9,   -999.0,9,  -999.0,9,-999.000,9,-999.000,9
    316N198301, ATAS3,   114,  1,     11,     11,2,19830210,0527, -0.0150, -28.0050, 3919,  310.8,    303.0,   9.9799,  34.9194,2,  34.9210,2,   -999.0,9,  9.9446,    109.2,2,    13.88,2,    28.05,2,     0.02,2,     1.83,2, -999.000,9,   -999.0,9,   305.0,2,-999.000,9,   9.980,2
    316N198301, ATAS3,   114,  1,     12,     12,2,19830210,0527, -0.0150, -28.0050, 3919,  360.8,    351.3,   9.0409,  34.8281,2,  34.8190,2,   -999.0,9,  9.0023,     90.5,2,    16.52,2,    32.45,2,     0.02,2,     2.05,2,    0.100,2,   2214.0,2,  -999.0,9,   0.050,2,-999.000,9
    316N198301, ATAS3,   114,  1,     13,     13,2,19830210,0527, -0.0150, -28.0050, 3919,  431.0,    421.8,   8.0349,  34.7179,2,  34.7160,2,   -999.0,9,  7.9917,    112.6,2,    18.47,2,    31.77,2,     0.02,2,     2.08,2, -999.000,9,   -999.0,9,  -999.0,9,-999.000,9,-999.000,9
    316N198301, ATAS3,   114,  1,     14,     14,2,19830210,0527, -0.0150, -28.0050, 3919,  500.7,    491.7,   6.9709,  34.6112,2,  34.6130,2,   -999.0,9,  6.9243,    133.0,2,    20.72,2,    31.77,2,     0.02,2,     2.10,2,    0.030,2,   2204.0,2,  -999.0,9,   0.070,2,-999.000,9
    316N198301, ATAS3,   114,  1,     15,     15,2,19830210,0527, -0.0150, -28.0050, 3919,  600.4,    591.7,   6.0189,  34.5255,2,  34.5280,2,   -999.0,9,  5.9668,    147.4,2,    23.66,2,    32.36,2,     0.02,2,     2.14,2, -999.000,9,   -999.0,9,  -999.0,9,-999.000,9,-999.000,9
    316N198301, ATAS3,   114,  1,     16,     16,2,19830210,0527, -0.0150, -28.0050, 3919,  800.8,    792.5,   4.7150,  34.4953,2,  34.4950,2,   -999.0,9,  4.6519,    155.6,2,    31.09,2,    34.02,2,     0.02,2,     2.25,2, -999.000,9,   -999.0,9,  -999.0,9,-999.000,9,-999.000,9
    316N198301, ATAS3,   114,  1,     17,     17,2,19830210,0527, -0.0150, -28.0050, 3919, 1253.1,   1245.6,   4.5280,  34.8546,2,  34.8550,2,   -999.0,9,  4.4257,    192.5,2,    24.14,2,    26.39,2,     0.01,2,     1.80,2, -999.000,9,   -999.0,9,  1250.0,2,-999.000,9,   4.530,2
    316N198301, ATAS3,   114,  1,     18,     18,2,19830210,0527, -0.0150, -28.0050, 3919, 1428.5,   1421.7,   4.2520,  34.9479,2,  34.9490,2,   -999.0,9,  4.1362,    222.0,2,    19.45,2,    21.89,2,     0.01,2,     1.50,2, -999.000,9,   -999.0,9,  -999.0,9,-999.000,9,-999.000,9
    316N198301, ATAS3,   114,  1,     19,     19,2,19830210,0527, -0.0150, -28.0050, 3919, 1703.6,   1698.3,   3.9470,  34.9773,2,  34.9800,2,   -999.0,9,  3.8091,    248.1,2,    17.39,2,    19.35,2,     0.01,2,     1.34,2, -999.000,9,   -999.0,9,  1698.0,2,-999.000,9,   3.945,2
    316N198301, ATAS3,   114,  1,     20,     20,2,19830210,0527, -0.0150, -28.0050, 3919, 1983.5,   1979.7,   3.6120,  34.9694,2,  34.9700,2,   -999.0,9,  3.4521,    254.6,2,    19.35,2,    19.54,2,     0.01,2,     1.32,2, -999.000,9,   -999.0,9,  -999.0,9,-999.000,9,-999.000,9
    316N198301, ATAS3,   114,  1,     21,     21,2,19830210,0527, -0.0150, -28.0050, 3919, 2133.3,   2130.4,   3.2770,  34.9544,2,  34.9550,2,   -999.0,9,  3.1080,    253.7,2,    24.04,2,    19.74,2,     0.01,2,     1.36,2, -999.000,9,   -999.0,9,  2133.0,2,-999.000,9,   3.279,2
    316N198301, ATAS3,   114,  1,     22,     22,2,19830210,0527, -0.0150, -28.0050, 3919, 2530.8,   2529.8,   2.9210,  34.9342,2,  34.9350,2,   -999.0,9,  2.7196,    252.4,2,    30.20,2,    20.13,2,     0.01,2,     1.39,2, -999.000,9,   -999.0,9,  -999.0,9,-999.000,9,-999.000,9
    316N198301, ATAS3,   114,  1,     23,     23,2,19830210,0527, -0.0150, -28.0050, 3919, 3962.9,   3969.1,   2.2380,  34.8839,2,  34.8830,2,   -999.0,9,  1.9007,    255.9,2,    43.39,2,    20.82,2,     0.01,2,     1.45,2, -999.000,9,   -999.0,9,  3976.0,2,-999.000,9,   2.240,2