BOTTLE,20060405WHPSIOdm
EXPOCODE,SECT_ID,STNNBR,CASTNO,SAMPNO,BTLNBR,BTLNBR_FLAG_W,DATE,TIME,LATITUDE,LONGITUDE,DEPTH,CTDRAW,CTDPRS,CTDTMP,CTDSAL,CTDSAL_FLAG_W,SALNTY,SALNTY_FLAG_W,CTDOXY,CTDOXY_FLAG_W,THETA,OXYGEN,OXYGEN_FLAG_W,SILCAT,SILCAT_FLAG_W,NITRAT,NITRAT_FLAG_W,NITRIT,NITRIT_FLAG_W,PHSPHT,PHSPHT_FLAG_W,TRITUM,TRITUM_FLAG_W,TCARBN,TCARBN_FLAG_W,REVPRS,REVPRS_FLAG_W,TRITER,TRITER_FLAG_W,REVTMP,REVTMP_FLAG_W
,,,,,,,,,,,,,DBAR,ITS-90,PSS-78,,PSS-78,,UMOL/KG,,DEG C,UMOL/KG,,UMOL/KG,,UMOL/KG,,UMOL/KG,,UMOL/KG,,TU,,UMOL/KG,,DBAR,,TU,,ITS-90,
    316N198301, ATAS3,    98,  1,      1,      1,2,19830201,1900,  9.4817, -19.5067, 4170,   28.6,      2.0,  26.6915,  35.5881,2,  35.5850,2,   -999.0,9, 26.6910,    204.7,2,     2.93,2,     0.00,2,     0.00,2,     0.02,2, -999.000,9,   -999.0,9,  -999.0,9,-999.000,9,  26.686,2
    316N198301, ATAS3,    98,  1,      2,      2,2,19830201,1900,  9.4817, -19.5067, 4170,   60.3,     35.0,  23.4416,  36.0327,2,  36.0360,2,   -999.0,9, 23.4343,    187.0,2,     3.71,2,     0.00,2,     0.00,2,     0.06,2, -999.000,9,   -999.0,9,  -999.0,9,-999.000,9,-999.000,9
    316N198301, ATAS3,    98,  1,      9,      9,2,19830201,1900,  9.4817, -19.5067, 4170,   50.2,     35.8,  24.5225,  35.9939,2,-999.0000,9,   -999.0,9, 24.5149,   -999.0,9,  -999.00,9,  -999.00,9,  -999.00,9,  -999.00,9, -999.000,9,   -999.0,9,  -999.0,9,-999.000,9,-999.000,9
    316N198301, ATAS3,    98,  1,      8,      8,2,19830201,1900,  9.4817, -19.5067, 4170,   51.7,     37.4,  24.2905,  36.0174,2,-999.0000,9,   -999.0,9, 24.2826,   -999.0,9,  -999.00,9,  -999.00,9,  -999.00,9,  -999.00,9, -999.000,9,   -999.0,9,  -999.0,9,-999.000,9,-999.000,9
    316N198301, ATAS3,    98,  1,      7,      7,2,19830201,1900,  9.4817, -19.5067, 4170,   54.0,     39.8,  24.0385,  36.0362,2,-999.0000,9,   -999.0,9, 24.0301,   -999.0,9,  -999.00,9,  -999.00,9,  -999.00,9,  -999.00,9, -999.000,9,   -999.0,9,  -999.0,9,-999.000,9,-999.000,9
    316N198301, ATAS3,    98,  1,      6,      6,2,19830201,1900,  9.4817, -19.5067, 4170,   55.8,     41.7,  23.7545,  36.0383,2,-999.0000,9,   -999.0,9, 23.7458,   -999.0,9,  -999.00,9,  -999.00,9,  -999.00,9,  -999.00,9, -999.000,9,   -999.0,9,  -999.0,9,-999.000,9,-999.000,9
    316N198301, ATAS3,    98,  1,      5,      5,2,19830201,1900,  9.4817, -19.5067, 4170,   57.7,     43.7,  23.6356,  36.0347,2,-999.0000,9,   -999.0,9, 23.6264,   -999.0,9,  -999.00,9,  -999.00,9,  -999.00,9,  -999.00,9, -999.000,9,   -999.0,9,  -999.0,9,-999.000,9,-999.000,9
    316N198301, ATAS3,    98,  1,      4,      4,2,19830201,1900,  9.4817, -19.5067, 4170,   58.5,     44.4,  23.5556,  36.0335,2,-999.0000,9,   -999.0,9, 23.5463,   -999.0,9,  -999.00,9,  -999.00,9,  -999.00,9,  -999.00,9, -999.000,9,   -999.0,9,  -999.0,9,-999.000,9,-999.000,9
    316N198301, ATAS3,    98,  1,      3,      3,2,19830201,1900,  9.4817, -19.5067, 4170,   59.6,     45.6,  23.4686,  36.0287,2,-999.0000,9,   -999.0,9, 23.4591,   -999.0,9,  -999.00,9,  -999.00,9,  -999.00,9,  -999.00,9, -999.000,9,   -999.0,9,  -999.0,9,-999.000,9,-999.000,9
    316N198301, ATAS3,    98,  1,     13,     13,2,19830201,1900,  9.4817, -19.5067, 4170,  464.9,    455.2,   9.4918,  35.0369,2,-999.0000,9,   -999.0,9,  9.4400,   -999.0,9,  -999.00,9,  -999.00,9,  -999.00,9,  -999.00,9, -999.000,9,   -999.0,9,  -999.0,9,-999.000,9,-999.000,9
    316N198301, ATAS3,    98,  1,     11,     11,2,19830201,1900,  9.4817, -19.5067, 4170,  465.0,    455.3,   9.4908,  35.0378,2,  35.0400,2,   -999.0,9,  9.4389,     44.4,2,    17.10,2,    35.67,2,     0.00,2,     2.14,2, -999.000,9,   -999.0,9,   450.0,2,-999.000,9,   9.484,2
    316N198301, ATAS3,    98,  1,     10,     10,2,19830201,1900,  9.4817, -19.5067, 4170,  465.0,    455.3,   9.4898,  35.0378,2,-999.0000,9,   -999.0,9,  9.4380,   -999.0,9,  -999.00,9,  -999.00,9,  -999.00,9,  -999.00,9, -999.000,9,   -999.0,9,  -999.0,9,-999.000,9,-999.000,9
    316N198301, ATAS3,    98,  1,     12,     12,2,19830201,1900,  9.4817, -19.5067, 4170,  465.1,    455.4,   9.4888,  35.0366,2,-999.0000,9,   -999.0,9,  9.4369,   -999.0,9,  -999.00,9,  -999.00,9,  -999.00,9,  -999.00,9, -999.000,9,   -999.0,9,  -999.0,9,-999.000,9,-999.000,9
    316N198301, ATAS3,    98,  1,     14,     14,2,19830201,1900,  9.4817, -19.5067, 4170,  465.2,    455.4,   9.4848,  35.0385,2,-999.0000,9,   -999.0,9,  9.4330,   -999.0,9,  -999.00,9,  -999.00,9,  -999.00,9,  -999.00,9, -999.000,9,   -999.0,9,  -999.0,9,-999.000,9,-999.000,9
    316N198301, ATAS3,    98,  1,     15,     15,2,19830201,1900,  9.4817, -19.5067, 4170,  465.2,    455.5,   9.4818,  35.0382,2,-999.0000,9,   -999.0,9,  9.4300,   -999.0,9,  -999.00,9,  -999.00,9,  -999.00,9,  -999.00,9, -999.000,9,   -999.0,9,  -999.0,9,-999.000,9,-999.000,9
    316N198301, ATAS3,    98,  1,     16,     16,2,19830201,1900,  9.4817, -19.5067, 4170,  465.4,    455.6,   9.4848,  35.0373,2,-999.0000,9,   -999.0,9,  9.4329,   -999.0,9,  -999.00,9,  -999.00,9,  -999.00,9,  -999.00,9, -999.000,9,   -999.0,9,  -999.0,9,-999.000,9,-999.000,9
    316N198301, ATAS3,    98,  1,     17,     17,2,19830201,1900,  9.4817, -19.5067, 4170,  855.2,    846.7,   5.7699,  34.7064,2,  34.7090,2,   -999.0,9,  5.6951,    105.6,2,    27.27,2,    36.26,2,     0.00,2,     2.33,2, -999.000,9,   -999.0,9,   850.0,2,-999.000,9,   5.773,2
    316N198301, ATAS3,    98,  1,     18,     18,2,19830201,1900,  9.4817, -19.5067, 4170,  855.4,    846.9,   5.7609,  34.7065,2,-999.0000,9,   -999.0,9,  5.6861,   -999.0,9,  -999.00,9,  -999.00,9,  -999.00,9,  -999.00,9, -999.000,9,   -999.0,9,  -999.0,9,-999.000,9,-999.000,9
    316N198301, ATAS3,    98,  1,     19,     19,2,19830201,1900,  9.4817, -19.5067, 4170, 1246.5,   1239.0,   4.7359,  34.8697,2,  34.8710,2,   -999.0,9,  4.6323,    166.0,2,    25.80,2,    29.22,2,     0.00,2,     1.92,2, -999.000,9,   -999.0,9,  1242.0,2,-999.000,9,   4.734,2
    316N198301, ATAS3,    98,  1,     20,     20,2,19830201,1900,  9.4817, -19.5067, 4170, 1247.9,   1240.4,   4.7269,  34.8691,2,-999.0000,9,   -999.0,9,  4.6233,   -999.0,9,  -999.00,9,  -999.00,9,  -999.00,9,  -999.00,9, -999.000,9,   -999.0,9,  -999.0,9,-999.000,9,-999.000,9
    316N198301, ATAS3,    98,  1,     21,     21,2,19830201,1900,  9.4817, -19.5067, 4170, 1898.4,   1894.0,   3.5479,  34.9513,2,  34.9540,2,   -999.0,9,  3.3972,    236.4,2,    23.84,2,    21.69,2,     0.00,2,     1.44,2, -999.000,9,   -999.0,9,  1894.0,2,-999.000,9,   3.548,2
    316N198301, ATAS3,    98,  1,     22,     22,2,19830201,1900,  9.4817, -19.5067, 4170, 1900.2,   1896.0,   3.5479,  34.9503,2,-999.0000,9,   -999.0,9,  3.3970,   -999.0,9,  -999.00,9,  -999.00,9,  -999.00,9,  -999.00,9, -999.000,9,   -999.0,9,  -999.0,9,-999.000,9,-999.000,9
    316N198301, ATAS3,    98,  1,     23,     23,2,19830201,1900,  9.4817, -19.5067, 4170, 4231.1,   4238.0,   2.3290,  34.8849,2,  34.8850,2,   -999.0,9,  1.9581,    241.6,2,    48.77,2,    22.67,2,     0.00,2,     1.50,2, -999.000,9,   -999.0,9,  4247.0,2,-999.000,9,   2.332,2
    316N198301, ATAS3,    99,  2,      1,      1,2,19830202,0735,  9.2750, -19.8100, 4651,   27.7,      2.0,  26.6254,  35.8497,2,  35.8470,2,   -999.0,9, 26.6250,    204.6,2,     1.66,2,     0.00,2,     0.00,2,     0.02,2, -999.000,9,   -999.0,9,  -999.0,9,-999.000,9,  26.637,2
    316N198301, ATAS3,    99,  2,      2,      2,2,19830202,0735,  9.2750, -19.8100, 4651,   40.2,     18.0,  26.5894,  35.8451,2,  35.8400,2,   -999.0,9, 26.5853,    205.1,2,     1.66,2,     0.00,2,     0.00,2,     0.03,2,    1.610,2,   1991.0,2,  -999.0,9,   0.080,2,-999.000,9
    316N198301, ATAS3,    99,  2,      3,      3,2,19830202,0735,  9.2750, -19.8100, 4651,   60.9,     46.0,  21.3075,  35.9611,2,  35.9660,2,   -999.0,9, 21.2986,    169.0,2,     3.12,2,     3.24,2,     0.13,2,     0.36,2, -999.000,9,   -999.0,9,  -999.0,9,-999.000,9,-999.000,9
    316N198301, ATAS3,    99,  2,      4,      4,2,19830202,0735,  9.2750, -19.8100, 4651,   89.1,     76.0,  16.5576,  35.6839,2,  35.6950,2,   -999.0,9, 16.5453,    102.3,2,     5.96,2,    18.36,2,     0.27,2,     1.22,2,    1.120,2,   2171.0,2,  -999.0,9,   0.070,2,-999.000,9
    316N198301, ATAS3,    99,  2,      5,      5,2,19830202,0735,  9.2750, -19.8100, 4651,  131.9,    121.0,  14.2447,  35.4527,2,  35.4530,2,   -999.0,9, 14.2270,     93.1,2,     7.91,2,    22.47,2,     0.02,2,     1.48,2,    0.712,2,   2197.0,2,  -999.0,9,   0.044,2,-999.000,9
    316N198301, ATAS3,    99,  2,      6,      6,2,19830202,0735,  9.2750, -19.8100, 4651,  211.3,    201.0,  12.3817,  35.2286,2,  35.2290,2,   -999.0,9, 12.3549,    101.3,2,     9.67,2,    24.13,2,     0.01,2,     1.57,2,    0.460,2,   -999.0,9,  -999.0,9,   0.050,2,-999.000,9
    316N198301, ATAS3,    99,  2,      7,      7,2,19830202,0735,  9.2750, -19.8100, 4651,  345.8,    336.4,  10.8307,  35.1098,2,  35.1080,2,   -999.0,9, 10.7894,     61.8,2,    13.39,2,    31.27,2,     0.01,2,     1.92,2,    0.410,2,   -999.0,9,  -999.0,9,   0.040,2,-999.000,9
    316N198301, ATAS3,    99,  2,      8,      8,2,19830202,0735,  9.2750, -19.8100, 4651,  430.6,    421.4,   9.8388,  35.0490,2,  35.0470,2,   -999.0,9,  9.7898,     47.0,2,    16.03,2,    34.88,2,     0.01,2,     2.10,2,    0.238,2,   -999.0,9,  -999.0,9,   0.036,2,-999.000,9
    316N198301, ATAS3,    99,  2,      9,      9,2,19830202,0735,  9.2750, -19.8100, 4651,  465.1,    455.9,   9.4918,  35.0336,2,  35.0320,2,   -999.0,9,  9.4398,     45.2,2,    17.00,2,    35.67,2,     0.00,2,     2.16,2, -999.000,9,   -999.0,9,  -999.0,9,-999.000,9,-999.000,9
    316N198301, ATAS3,    99,  2,     10,     10,2,19830202,0735,  9.2750, -19.8100, 4651,  544.1,    535.2,   8.3278,  34.9156,2,  34.9210,2,   -999.0,9,  8.2712,     54.3,2,    19.84,2,    36.94,2,     0.00,2,     2.27,2, -999.000,9,   -999.0,9,  -999.0,9,-999.000,9,-999.000,9
    316N198301, ATAS3,    99,  2,     11,     11,2,19830202,0735,  9.2750, -19.8100, 4651,  779.8,    771.7,   5.9778,  34.7002,2,  34.7010,2,   -999.0,9,  5.9088,     99.1,2,    26.49,2,    36.95,2,     0.00,2,     2.35,2, -999.000,9,   -999.0,9,   774.0,2,-999.000,9,   5.972,2
    316N198301, ATAS3,    99,  2,     12,     12,2,19830202,0735,  9.2750, -19.8100, 4651,  819.9,    812.0,   5.5778,  34.6799,2,  34.6780,2,   -999.0,9,  5.5075,    110.8,2,    27.76,2,    36.26,2,     0.00,2,     2.35,2, -999.000,9,   -999.0,9,  -999.0,9,-999.000,9,-999.000,9
    316N198301, ATAS3,    99,  2,     13,     13,2,19830202,0735,  9.2750, -19.8100, 4651,  990.3,    982.6,   5.3068,  34.7489,2,  34.7450,2,   -999.0,9,  5.2224,    125.6,2,    27.76,2,    34.31,2,     0.00,2,     2.22,2, -999.000,9,   -999.0,9,  -999.0,9,-999.000,9,-999.000,9
    316N198301, ATAS3,    99,  2,     14,     14,2,19830202,0735,  9.2750, -19.8100, 4651, 1282.1,   1275.3,   4.5659,  34.8992,2,  34.9000,2,   -999.0,9,  4.4605,    179.5,2,    24.24,2,    27.56,2,     0.00,2,     1.81,2, -999.000,9,   -999.0,9,  -999.0,9,-999.000,9,-999.000,9
    316N198301, ATAS3,    99,  2,     15,     15,2,19830202,0735,  9.2750, -19.8100, 4651, 1465.4,   1459.1,   4.1759,  34.9299,2,  34.9310,2,   -999.0,9,  4.0575,    205.1,2,    22.87,2,    24.72,2,     0.00,2,     1.62,2, -999.000,9,   -999.0,9,  -999.0,9,-999.000,9,-999.000,9
    316N198301, ATAS3,    99,  2,     16,     16,2,19830202,0735,  9.2750, -19.8100, 4651, 1666.5,   1660.9,   3.8009,  34.9502,2,  34.9490,2,   -999.0,9,  3.6684,    225.9,2,    22.57,2,    22.67,2,     0.00,2,     1.50,2, -999.000,9,   -999.0,9,  -999.0,9,-999.000,9,-999.000,9
    316N198301, ATAS3,    99,  2,     17,     17,2,19830202,0735,  9.2750, -19.8100, 4651, 1815.9,   1811.0,   3.6349,  34.9506,2,  34.9500,2,   -999.0,9,  3.4906,    232.0,2,    23.45,2,    22.09,2,     0.00,2,     1.46,2, -999.000,9,   -999.0,9,  1821.0,2,-999.000,9,   3.635,2
    316N198301, ATAS3,    99,  2,     18,     18,2,19830202,0735,  9.2750, -19.8100, 4651, 2351.8,   2349.4,   3.1569,  34.9482,2,  34.9450,2,   -999.0,9,  2.9688,    242.9,2,    27.66,2,    21.30,2,     0.00,2,     1.42,2, -999.000,9,   -999.0,9,  -999.0,9,-999.000,9,-999.000,9
    316N198301, ATAS3,    99,  2,     19,     19,2,19830202,0735,  9.2750, -19.8100, 4651, 2999.1,   2999.7,   2.6419,  34.9200,2,-999.0000,9,   -999.0,9,  2.3990,    244.6,2,    37.43,2,    21.69,2,     0.00,2,     1.45,2, -999.000,9,   -999.0,9,  2997.0,2,-999.000,9,   2.633,2
    316N198301, ATAS3,    99,  2,     20,     20,2,19830202,0735,  9.2750, -19.8100, 4651, 3576.9,   3580.0,   2.4469,  34.9032,2,  34.8990,2,   -999.0,9,  2.1471,    246.8,2,    42.80,2,    22.18,2,     0.00,2,     1.48,2, -999.000,9,   -999.0,9,  -999.0,9,-999.000,9,-999.000,9
    316N198301, ATAS3,    99,  2,     21,     21,2,19830202,0735,  9.2750, -19.8100, 4651, 3984.4,   3989.4,   2.3809,  34.8956,2,  34.8920,2,   -999.0,9,  2.0372,    244.2,2,    45.54,2,    22.38,2,     0.00,2,     1.50,2, -999.000,9,   -999.0,9,  -999.0,9,-999.000,9,   2.381,2
    316N198301, ATAS3,    99,  2,     22,     22,2,19830202,0735,  9.2750, -19.8100, 4651, 4653.5,   4661.3,   2.2939,  34.8782,2,  34.8750,2,   -999.0,9,  1.8735,    240.3,2,    51.50,2,    23.06,2,     0.00,2,     1.54,2, -999.000,9,   -999.0,9,  -999.0,9,-999.000,9,-999.000,9
    316N198301, ATAS3,    99,  2,     23,     23,2,19830202,0735,  9.2750, -19.8100, 4651, 4726.4,   4734.6,   2.2959,  34.8773,2,  34.8770,2,   -999.0,9,  1.8665,    240.3,2,    51.89,2,    23.06,2,     0.00,2,     1.54,2, -999.000,9,   -999.0,9,  4747.0,2,-999.000,9,   2.298,2
    316N198301, ATAS3,   100,  1,      1,      1,2,19830202,1749,  9.5033, -20.2567, 4239,   27.6,      1.0,  26.6524,  35.8884,2,  35.8860,2,   -999.0,9, 26.6521,    206.4,2,     1.86,2,     0.00,2,     0.00,2,     0.03,2, -999.000,9,   -999.0,9,  -999.0,9,-999.000,9,  26.659,2
    316N198301, ATAS3,   100,  1,     11,     11,2,19830202,1749,  9.5033, -20.2567, 4239,  433.3,    422.6,  10.4587,  35.1433,2,  35.1430,2,   -999.0,9, 10.4076,     46.1,2,    14.56,2,    33.51,2,     0.00,2,     1.99,2, -999.000,9,   -999.0,9,   425.0,2,-999.000,9,  10.440,2
    316N198301, ATAS3,   100,  1,     17,     17,2,19830202,1749,  9.5033, -20.2567, 4239,  852.7,    843.6,   5.5148,  34.6768,2,  34.6770,2,   -999.0,9,  5.4419,    115.2,2,    28.05,2,    35.87,2,     0.00,2,     2.30,2, -999.000,9,   -999.0,9,   848.0,2,-999.000,9,   5.513,2
    316N198301, ATAS3,   100,  1,     19,     19,2,19830202,1749,  9.5033, -20.2567, 4239, 1802.5,   1796.9,   3.6738,  34.9543,2,  34.9550,2,   -999.0,9,  3.5304,    232.9,2,    22.87,2,    21.99,2,     0.00,2,     1.46,2, -999.000,9,   -999.0,9,  1797.0,2,-999.000,9,   3.672,2
    316N198301, ATAS3,   100,  1,     21,     21,2,19830202,1749,  9.5033, -20.2567, 4239, 4238.6,   4244.8,   2.3288,  34.8861,2,  34.8860,2,   -999.0,9,  1.9572,    244.6,2,    47.30,2,    22.38,2,     0.00,2,     1.49,2, -999.000,9,   -999.0,9,  -999.0,9,-999.000,9,   2.329,2
    316N198301, ATAS3,   100,  1,     22,     22,2,19830202,1749,  9.5033, -20.2567, 4239, 4272.3,   4278.7,   2.3238,  34.8847,2,-999.0000,9,   -999.0,9,  1.9483,   -999.0,9,  -999.00,9,  -999.00,9,  -999.00,9,  -999.00,9, -999.000,9,   -999.0,9,  -999.0,9,-999.000,9,-999.000,9
    316N198301, ATAS3,   100,  1,     23,     23,2,19830202,1749,  9.5033, -20.2567, 4239, 4273.1,   4279.4,   2.3238,  34.8856,2,  34.8840,2,   -999.0,9,  1.9483,    244.6,2,    47.69,2,    22.48,2,     0.00,2,     1.50,2, -999.000,9,   -999.0,9,  4289.0,2,-999.000,9,   2.327,2