BOTTLE,20060405WHPSIOdm
EXPOCODE,SECT_ID,STNNBR,CASTNO,SAMPNO,BTLNBR,BTLNBR_FLAG_W,DATE,TIME,LATITUDE,LONGITUDE,DEPTH,CTDRAW,CTDPRS,CTDTMP,CTDSAL,CTDSAL_FLAG_W,SALNTY,SALNTY_FLAG_W,CTDOXY,CTDOXY_FLAG_W,THETA,OXYGEN,OXYGEN_FLAG_W,SILCAT,SILCAT_FLAG_W,NITRAT,NITRAT_FLAG_W,NITRIT,NITRIT_FLAG_W,PHSPHT,PHSPHT_FLAG_W,TRITUM,TRITUM_FLAG_W,TCARBN,TCARBN_FLAG_W,REVPRS,REVPRS_FLAG_W,TRITER,TRITER_FLAG_W,REVTMP,REVTMP_FLAG_W
,,,,,,,,,,,,,DBAR,ITS-90,PSS-78,,PSS-78,,UMOL/KG,,DEG C,UMOL/KG,,UMOL/KG,,UMOL/KG,,UMOL/KG,,UMOL/KG,,TU,,UMOL/KG,,DBAR,,TU,,ITS-90,
    316N198301, ATAS3,   127,  1,      1,      1,2,19830216,1322, -8.3683, -31.8883, 5121,   44.5,      9.0,  27.9557,  36.5499,2,  36.5500,2,   -999.0,9, 27.9536,    199.0,2,     1.37,2,     0.00,2,     0.00,2,     0.15,2,    1.630,2,   2032.0,2,  -999.0,9,   0.090,2,  27.967,2
    316N198301, ATAS3,   127,  1,      2,      2,2,19830216,1322, -8.3683, -31.8883, 5121,   77.4,     46.0,  27.9137,  36.5561,2,  36.5570,2,   -999.0,9, 27.9029,    200.3,2,     1.37,2,     0.00,2,     0.00,2,     0.15,2, -999.000,9,   -999.0,9,  -999.0,9,-999.000,9,-999.000,9
    316N198301, ATAS3,   127,  1,      3,      3,2,19830216,1322, -8.3683, -31.8883, 5121,  119.6,     90.0,  25.2528,  36.8688,2,  36.8670,2,   -999.0,9, 25.2330,    213.6,2,     1.37,2,     0.00,2,     0.00,2,     0.15,2,    1.350,2,   -999.0,9,  -999.0,9,   0.090,2,-999.000,9
    316N198301, ATAS3,   127,  1,      4,      4,2,19830216,1322, -8.3683, -31.8883, 5121,  151.0,    130.0,  21.9309,  36.5519,2,  36.5670,2,   -999.0,9, 21.9050,    197.3,2,     1.76,2,     0.31,2,     0.21,2,     0.35,2,    1.070,2,   -999.0,9,  -999.0,9,   0.090,2,-999.000,9
    316N198301, ATAS3,   127,  1,      5,      5,2,19830216,1322, -8.3683, -31.8883, 5121,  216.4,    200.0,  13.4760,  35.3535,2,  35.3380,2,   -999.0,9, 13.4477,    116.2,2,     7.33,2,    20.61,2,     0.05,2,     1.40,2,    0.650,2,   -999.0,9,  -999.0,9,   0.080,2,-999.000,9
    316N198301, ATAS3,   127,  1,      6,      6,2,19830216,1322, -8.3683, -31.8883, 5121,  274.6,    260.0,  10.0601,  34.9309,2,  34.9150,2,   -999.0,9, 10.0297,    100.9,2,    13.10,2,    29.12,2,     0.05,2,     1.83,2,    0.400,2,   -999.0,9,  -999.0,9,   0.041,2,-999.000,9
    316N198301, ATAS3,   127,  1,      7,      7,2,19830216,1322, -8.3683, -31.8883, 5121,  329.2,    315.0,   8.7181,  34.7785,2,  34.7780,2,   -999.0,9,  8.6844,    108.3,2,    15.54,2,    31.18,2,     0.06,2,     1.95,2,    0.060,2,   -999.0,9,  -999.0,9,   0.060,2,-999.000,9
    316N198301, ATAS3,   127,  1,      8,      8,2,19830216,1322, -8.3683, -31.8883, 5121,  414.0,    400.0,   7.6521,  34.6739,2,  34.6710,2,   -999.0,9,  7.6123,     97.0,2,    19.06,2,    35.58,2,     0.06,2,     2.19,2,    0.302,2,   -999.0,9,  -999.0,9,   0.030,2,-999.000,9
    316N198301, ATAS3,   127,  1,      9,      9,2,19830216,1322, -8.3683, -31.8883, 5121,  563.8,    553.9,   6.2902,  34.5471,2,  34.5490,2,   -999.0,9,  6.2403,    121.7,2,    22.97,2,    35.78,2,     0.06,2,     2.25,2,    0.050,2,   -999.0,9,  -999.0,9,   0.060,2,-999.000,9
    316N198301, ATAS3,   127,  1,     10,     10,2,19830216,1322, -8.3683, -31.8883, 5121,  724.5,    715.0,   4.8782,  34.4503,2,  34.4600,2,   -999.0,9,  4.8208,    155.6,2,    29.13,2,    35.00,2,     0.07,2,     2.28,2, -999.000,9,   -999.0,9,  -999.0,9,-999.000,9,-999.000,9
    316N198301, ATAS3,   127,  1,     11,     11,2,19830216,1322, -8.3683, -31.8883, 5121, 1014.1,   1005.2,   3.8792,  34.5467,2,  34.5480,2,   -999.0,9,  3.8040,    173.4,2,    37.24,2,    33.24,2,     0.07,2,     2.20,2, -999.000,9,   -999.0,9,  1006.0,2,-999.000,9,   3.870,2
    316N198301, ATAS3,   127,  1,     12,     12,2,19830216,1322, -8.3683, -31.8883, 5121, 1058.8,   1049.8,   4.0102,  34.6244,2,  34.6250,2,   -999.0,9,  3.9301,    173.9,2,    34.21,2,    32.26,2,     0.07,2,     2.15,2, -999.000,9,   -999.0,9,  -999.0,9,-999.000,9,-999.000,9
    316N198301, ATAS3,   127,  1,     13,     13,2,19830216,1322, -8.3683, -31.8883, 5121, 1245.7,   1237.1,   4.3942,  34.8491,2,  34.8510,2,   -999.0,9,  4.2940,    197.3,2,    24.04,2,    26.09,2,     0.06,2,     1.77,2, -999.000,9,   -999.0,9,  -999.0,9,-999.000,9,-999.000,9
    316N198301, ATAS3,   127,  1,     14,     14,2,19830216,1322, -8.3683, -31.8883, 5121, 1313.7,   1305.3,   4.2762,  34.8722,2,  34.8750,2,   -999.0,9,  4.1709,    203.8,2,    23.36,2,    25.12,2,     0.06,2,     1.73,2, -999.000,9,   -999.0,9,  -999.0,9,-999.000,9,-999.000,9
    316N198301, ATAS3,   127,  1,     15,     15,2,19830216,1322, -8.3683, -31.8883, 5121, 1412.7,   1404.5,   4.2462,  34.9318,2,  34.9360,2,   -999.0,9,  4.1321,    221.6,2,    20.03,2,    22.38,2,     0.05,2,     1.54,2, -999.000,9,   -999.0,9,  -999.0,9,-999.000,9,-999.000,9
    316N198301, ATAS3,   127,  1,     16,     16,2,19830216,1322, -8.3683, -31.8883, 5121, 1660.0,   1652.1,   3.8642,  34.9618,2,  34.9630,2,   -999.0,9,  3.7317,    245.1,2,    18.86,2,    19.84,2,     0.05,2,     1.39,2, -999.000,9,   -999.0,9,  -999.0,9,-999.000,9,-999.000,9
    316N198301, ATAS3,   127,  1,     17,     17,2,19830216,1322, -8.3683, -31.8883, 5121, 2003.4,   1997.0,   3.5172,  34.9661,2,  34.9690,2,   -999.0,9,  3.3571,    255.9,2,    19.74,2,    18.66,2,     0.04,2,     1.30,2, -999.000,9,   -999.0,9,  2005.0,2,-999.000,9,   3.515,2
    316N198301, ATAS3,   127,  1,     18,     18,2,19830216,1322, -8.3683, -31.8883, 5121, 2579.7,   2575.9,   2.9332,  34.9308,2,  34.9300,2,   -999.0,9,  2.7271,    252.0,2,    30.29,2,    20.23,2,     0.04,2,     1.41,2, -999.000,9,   -999.0,9,  -999.0,9,-999.000,9,-999.000,9
    316N198301, ATAS3,   127,  1,     19,     19,2,19830216,1322, -8.3683, -31.8883, 5121, 3092.9,   3091.4,   2.7072,  34.9213,2,  34.9220,2,   -999.0,9,  2.4534,   -999.0,9,    32.05,2,    19.94,2,     0.04,2,     1.39,2, -999.000,9,   -999.0,9,  3091.0,2,-999.000,9,   2.702,2
    316N198301, ATAS3,   127,  1,     20,     20,2,19830216,1322, -8.3683, -31.8883, 5121, 3695.6,   3696.6,   2.3862,  34.8978,2,  34.8980,2,   -999.0,9,  2.0753,    258.1,2,    37.82,2,    20.33,2,     0.04,2,     1.41,2, -999.000,9,   -999.0,9,  -999.0,9,-999.000,9,-999.000,9
    316N198301, ATAS3,   127,  1,     21,     21,2,19830216,1322, -8.3683, -31.8883, 5121, 4095.9,   4098.9,   1.5152,  34.8050,2,  34.8020,2,   -999.0,9,  1.1843,    240.3,2,    76.82,2,    26.58,2,     0.04,2,     1.80,2, -999.000,9,   -999.0,9,  -999.0,9,-999.000,9,   1.516,2
    316N198301, ATAS3,   127,  1,     22,     22,2,19830216,1322, -8.3683, -31.8883, 5121, 4445.1,   4449.8,   0.9883,  34.7483,2,  34.7450,2,   -999.0,9,  0.6344,    230.7,2,   103.80,2,    30.10,2,     0.05,2,     2.00,2, -999.000,9,   -999.0,9,  -999.0,9,-999.000,9,-999.000,9
    316N198301, ATAS3,   127,  1,     23,     23,2,19830216,1322, -8.3683, -31.8883, 5121, 5089.3,   5096.8,   0.6533,  34.7082,2,  34.7090,2,   -999.0,9,  0.2363,    228.5,2,   118.85,2,    32.25,2,     0.05,2,     2.14,2, -999.000,9,   -999.0,9,  5098.0,2,-999.000,9,   0.656,2
    316N198301, ATAS3,   128,  1,      1,      1,2,19830216,2216, -8.4750, -32.6717, 4839,   26.8,     10.7,  27.9517,  36.4915,2,  36.4900,2,   -999.0,9, 27.9492,    198.5,2,     1.46,2,     0.00,2,     0.00,2,     0.16,2, -999.000,9,   -999.0,9,  -999.0,9,-999.000,9,-999.000,9
    316N198301, ATAS3,   128,  1,      2,      2,2,19830216,2216, -8.4750, -32.6717, 4839,   75.6,     50.0,  27.9517,  36.5055,2,  36.5050,2,   -999.0,9, 27.9399,    199.4,2,     1.46,2,     0.00,2,     0.00,2,     0.17,2, -999.000,9,   -999.0,9,  -999.0,9,-999.000,9,-999.000,9
    316N198301, ATAS3,   128,  1,      3,      3,2,19830216,2216, -8.4750, -32.6717, 4839,   89.5,     63.0,  27.7827,  36.9470,2,  36.9540,2,   -999.0,9, 27.7678,    205.4,2,     1.37,2,     0.00,2,     0.00,2,     0.11,2, -999.000,9,   -999.0,9,  -999.0,9,-999.000,9,-999.000,9
    316N198301, ATAS3,   128,  1,      4,      4,2,19830216,2216, -8.4750, -32.6717, 4839,  116.8,     89.0,  25.7277,  36.9490,2,  36.9560,2,   -999.0,9, 25.7079,    210.5,2,     1.07,2,     0.00,2,     0.00,2,     0.16,2, -999.000,9,   -999.0,9,  -999.0,9,-999.000,9,-999.000,9
    316N198301, ATAS3,   128,  1,      5,      5,2,19830216,2216, -8.4750, -32.6717, 4839,  144.8,    135.0,  22.9398,  36.7140,2,  36.7290,2,   -999.0,9, 22.9121,    205.6,2,     1.27,2,     0.00,2,     0.00,2,     0.30,2, -999.000,9,   -999.0,9,  -999.0,9,-999.000,9,-999.000,9
    316N198301, ATAS3,   128,  1,      6,      6,2,19830216,2216, -8.4750, -32.6717, 4839,  231.6,    223.0,  12.4890,  35.1868,2,  35.1910,2,   -999.0,9, 12.4590,     76.6,2,     9.38,2,    26.97,2,     0.00,2,     1.77,2, -999.000,9,   -999.0,9,  -999.0,9,-999.000,9,-999.000,9
    316N198301, ATAS3,   128,  1,      7,      7,2,19830216,2216, -8.4750, -32.6717, 4839,  267.8,    259.0,  11.4250,  35.0621,2,  35.0640,2,   -999.0,9, 11.3922,     83.1,2,    10.85,2,    28.43,2,     0.01,2,     1.84,2, -999.000,9,   -999.0,9,  -999.0,9,-999.000,9,-999.000,9
    316N198301, ATAS3,   128,  1,      8,      8,2,19830216,2216, -8.4750, -32.6717, 4839,  327.0,    320.0,   8.5071,  34.7009,2,  34.7070,2,   -999.0,9,  8.4733,    159.2,2,    13.68,2,    26.39,2,     0.01,2,     1.76,2, -999.000,9,   -999.0,9,  -999.0,9,-999.000,9,-999.000,9
    316N198301, ATAS3,   128,  1,      9,      9,2,19830216,2216, -8.4750, -32.6717, 4839,  376.0,    369.0,   7.8601,  34.6902,2,  34.6860,2,   -999.0,9,  7.8229,     96.5,2,    18.38,2,    35.58,2,     0.01,2,     2.18,2, -999.000,9,   -999.0,9,  -999.0,9,-999.000,9,-999.000,9
    316N198301, ATAS3,   128,  1,     10,     10,2,19830216,2216, -8.4750, -32.6717, 4839,  485.6,    479.0,   6.7251,  34.5904,2,  34.6030,2,   -999.0,9,  6.6806,    107.4,2,    21.50,2,    36.75,2,     0.01,2,     2.26,2, -999.000,9,   -999.0,9,  -999.0,9,-999.000,9,-999.000,9
    316N198301, ATAS3,   128,  1,     12,     12,2,19830216,2216, -8.4750, -32.6717, 4839,  671.2,    662.4,   5.4251,  34.4822,2,  34.4840,2,   -999.0,9,  5.3694,    143.9,2,    26.39,2,    35.68,2,     0.02,2,     2.30,2, -999.000,9,   -999.0,9,  -999.0,9,-999.000,9,-999.000,9
    316N198301, ATAS3,   128,  1,     11,     11,2,19830216,2216, -8.4750, -32.6717, 4839,  671.3,    662.5,   5.4241,  34.4831,2,  34.4850,2,   -999.0,9,  5.3684,    142.6,2,    26.30,2,    35.68,2,     0.01,2,     2.30,2, -999.000,9,   -999.0,9,  -999.0,9,-999.000,9,-999.000,9
    316N198301, ATAS3,   128,  1,     13,     13,2,19830216,2216, -8.4750, -32.6717, 4839,  756.9,    748.3,   4.6661,  34.4433,2,  34.4430,2,   -999.0,9,  4.6071,    161.3,2,    30.11,2,    35.19,2,     0.03,2,     2.30,2, -999.000,9,   -999.0,9,  -999.0,9,-999.000,9,-999.000,9
    316N198301, ATAS3,   128,  1,     14,     14,2,19830216,2216, -8.4750, -32.6717, 4839, 1012.7,   1004.6,   3.8601,  34.5453,2,  34.5480,2,   -999.0,9,  3.7851,    174.3,2,    37.05,2,    33.43,2,     0.03,2,     2.22,2, -999.000,9,   -999.0,9,  -999.0,9,-999.000,9,-999.000,9
    316N198301, ATAS3,   128,  1,     15,     15,2,19830216,2216, -8.4750, -32.6717, 4839, 1463.9,   1456.5,   4.2521,  34.9185,2,  34.9210,2,   -999.0,9,  4.1332,    217.3,2,    21.01,2,    23.45,2,     0.04,2,     1.59,2, -999.000,9,   -999.0,9,  -999.0,9,-999.000,9,-999.000,9
    316N198301, ATAS3,   128,  1,     16,     16,2,19830216,2216, -8.4750, -32.6717, 4839, 1673.3,   1666.5,   3.8771,  34.9397,2,  34.9410,2,   -999.0,9,  3.7432,    235.5,2,    20.82,2,    21.40,2,     0.04,2,     1.47,2, -999.000,9,   -999.0,9,  -999.0,9,-999.000,9,-999.000,9
    316N198301, ATAS3,   128,  1,     17,     17,2,19830216,2216, -8.4750, -32.6717, 4839, 1763.6,   1757.1,   3.8741,  34.9661,2,  34.9680,2,   -999.0,9,  3.7317,    245.5,2,    18.27,2,    19.64,2,     0.04,2,     1.43,2, -999.000,9,   -999.0,9,  -999.0,9,-999.000,9,-999.000,9
    316N198301, ATAS3,   128,  1,     18,     18,2,19830216,2216, -8.4750, -32.6717, 4839, 2263.1,   2258.9,   3.2492,  34.9498,2,  34.9500,2,   -999.0,9,  3.0683,    255.5,2,    23.65,2,    19.25,2,     0.04,2,     1.36,2, -999.000,9,   -999.0,9,  -999.0,9,-999.000,9,-999.000,9
    316N198301, ATAS3,   128,  1,     19,     19,2,19830216,2216, -8.4750, -32.6717, 4839, 2582.9,   2580.2,   3.0932,  34.9411,2,  34.9420,2,   -999.0,9,  2.8835,    253.3,2,    27.07,2,    19.64,2,     0.04,2,     1.38,2, -999.000,9,   -999.0,9,  -999.0,9,-999.000,9,-999.000,9
    316N198301, ATAS3,   128,  1,     20,     20,2,19830216,2216, -8.4750, -32.6717, 4839, 3367.7,   3368.6,   2.5002,  34.9104,2,  34.9100,2,   -999.0,9,  2.2219,    259.4,2,    33.91,2,    19.35,2,     0.05,2,     1.39,2, -999.000,9,   -999.0,9,  -999.0,9,-999.000,9,-999.000,9
    316N198301, ATAS3,   128,  1,     21,     21,2,19830216,2216, -8.4750, -32.6717, 4839, 3766.6,   3769.2,   2.1062,  34.8716,2,  34.8720,2,   -999.0,9,  1.7947,    254.2,2,    48.77,2,    21.50,2,     0.05,2,     1.53,2, -999.000,9,   -999.0,9,  -999.0,9,-999.000,9,-999.000,9
    316N198301, ATAS3,   128,  1,     22,     22,2,19830216,2216, -8.4750, -32.6717, 4839, 4266.7,   4271.8,   1.1702,  34.7662,2,  34.7650,2,   -999.0,9,  0.8305,    232.4,2,    92.07,2,    28.44,2,     0.06,2,     1.96,2, -999.000,9,   -999.0,9,  -999.0,9,-999.000,9,-999.000,9
    316N198301, ATAS3,   128,  1,     23,     23,2,19830216,2216, -8.4750, -32.6717, 4839, 4701.9,   4709.0,   0.6692,  34.7128,2,  34.7110,2,   -999.0,9,  0.2966,    225.1,2,   118.27,2,    31.47,2,     0.07,2,     2.16,2, -999.000,9,   -999.0,9,  -999.0,9,-999.000,9,-999.000,9
    316N198301, ATAS3,   129,  1,      1,      1,2,19830217,0726, -8.5433, -33.3567, 4826,   26.8,      8.0,  27.8846,  36.5285,2,  36.5240,2,   -999.0,9, 27.8827,    198.1,2,     1.46,2,     0.01,2,     0.00,2,     0.13,2,    1.130,2,   2025.0,2,  -999.0,9,   0.080,2,  27.883,2
    316N198301, ATAS3,   129,  1,      2,      2,2,19830217,0726, -8.5433, -33.3567, 4826,   47.3,     20.0,  27.9486,  36.6017,2,  36.5820,2,   -999.0,9, 27.9439,    198.5,2,     1.07,2,     0.01,2,     0.00,2,     0.12,2, -999.000,9,   -999.0,9,  -999.0,9,-999.000,9,-999.000,9
    316N198301, ATAS3,   129,  1,      3,      3,2,19830217,0726, -8.5433, -33.3567, 4826,   67.9,     36.0,  27.8936,  36.9781,2,  36.9770,2,   -999.0,9, 27.8851,    199.3,2,     1.27,2,     0.01,2,     0.00,2,     0.08,2,    1.361,2,   -999.0,9,  -999.0,9,   0.069,2,-999.000,9
    316N198301, ATAS3,   129,  1,      4,      4,2,19830217,0726, -8.5433, -33.3567, 4826,  119.4,     97.0,  24.6977,  37.0424,2,  37.0400,2,   -999.0,9, 24.6767,    212.6,2,     1.17,2,     0.00,2,     0.00,2,     0.17,2,    1.475,2,   -999.0,9,  -999.0,9,   0.077,2,-999.000,9
    316N198301, ATAS3,   129,  1,      5,      5,2,19830217,0726, -8.5433, -33.3567, 4826,  175.3,    160.0,  19.7018,  36.2426,2,  36.2450,2,   -999.0,9, 19.6723,    182.4,2,     1.85,2,     2.43,2,     0.25,2,     0.54,2, -999.000,9,   -999.0,9,  -999.0,9,-999.000,9,-999.000,9
    316N198301, ATAS3,   129,  1,      6,      6,2,19830217,0726, -8.5433, -33.3567, 4826,  219.7,    210.0,  15.3949,  35.6035,2,  35.6120,2,   -999.0,9, 15.3623,    143.6,2,     4.59,2,    12.80,2,     0.04,2,     1.05,2, -999.000,9,   -999.0,9,  -999.0,9,-999.000,9,-999.000,9
    316N198301, ATAS3,   129,  1,      7,      7,2,19830217,0726, -8.5433, -33.3567, 4826,  244.3,    235.0,  12.5999,  35.1541,2,  35.1520,2,   -999.0,9, 12.5682,    174.9,2,     5.67,2,    13.48,2,     0.03,2,     1.09,2,    0.665,2,   -999.0,9,  -999.0,9,   0.041,2,-999.000,9
    316N198301, ATAS3,   129,  1,      8,      8,2,19830217,0726, -8.5433, -33.3567, 4826,  319.3,    311.0,   8.5940,  34.7147,2,  34.7180,2,   -999.0,9,  8.5610,    153.1,2,    13.78,2,    26.00,2,     0.06,2,     1.74,2,    0.425,2,   -999.0,9,  -999.0,9,   0.041,2,-999.000,9
    316N198301, ATAS3,   129,  1,      9,      9,2,19830217,0726, -8.5433, -33.3567, 4826,  338.6,    331.0,   8.2910,  34.7262,2,  34.7270,2,   -999.0,9,  8.2566,    118.3,2,    15.93,2,    31.08,2,     0.07,2,     1.99,2, -999.000,9,   -999.0,9,  -999.0,9,-999.000,9,-999.000,9
    316N198301, ATAS3,   129,  1,     10,     10,2,19830217,0726, -8.5433, -33.3567, 4826,  373.4,    366.0,   7.7420,  34.6662,2,  34.6850,2,   -999.0,9,  7.7054,    119.1,2,    17.69,2,    32.06,2,     0.09,2,     2.05,2,    0.460,2,   -999.0,9,  -999.0,9,   0.049,2,-999.000,9
    316N198301, ATAS3,   129,  1,     11,     11,2,19830217,0726, -8.5433, -33.3567, 4826,  413.4,    406.0,   7.2400,  34.6225,2,  34.6240,2,   -999.0,9,  7.2009,    118.3,2,    19.06,2,    33.53,2,     0.09,2,     2.14,2, -999.000,9,   -999.0,9,   408.0,2,-999.000,9,   7.253,2
    316N198301, ATAS3,   129,  1,     12,     12,2,19830217,0726, -8.5433, -33.3567, 4826,  451.4,    443.0,   6.8840,  34.5914,2,  34.5930,2,   -999.0,9,  6.8425,    118.7,2,    20.53,2,    34.31,2,     0.10,2,     2.19,2,   -0.005,2,   2211.0,2,  -999.0,9,   0.033,2,-999.000,9
    316N198301, ATAS3,   129,  1,     13,     13,2,19830217,0726, -8.5433, -33.3567, 4826,  494.4,    486.1,   6.4170,  34.5397,2,  34.5400,2,   -999.0,9,  6.3730,    141.7,2,    21.02,2,    32.75,2,     0.10,2,     2.14,2, -999.000,9,   -999.0,9,  -999.0,9,-999.000,9,-999.000,9
    316N198301, ATAS3,   129,  1,     14,     14,2,19830217,0726, -8.5433, -33.3567, 4826,  716.4,    708.4,   4.8041,  34.4518,2,  34.4530,2,   -999.0,9,  4.7477,    156.1,2,    29.43,2,    34.61,2,     0.10,2,     2.32,2, -999.000,9,   -999.0,9,  -999.0,9,-999.000,9,-999.000,9
    316N198301, ATAS3,   129,  1,     15,     15,2,19830217,0726, -8.5433, -33.3567, 4826,  994.8,    987.3,   4.0041,  34.5544,2,  34.5530,2,   -999.0,9,  3.9294,    166.9,2,    35.87,2,    33.43,2,     0.09,2,     2.25,2, -999.000,9,   -999.0,9,  -999.0,9,-999.000,9,-999.000,9
    316N198301, ATAS3,   129,  1,     16,     16,2,19830217,0726, -8.5433, -33.3567, 4826, 1235.5,   1228.4,   4.2511,  34.8013,2,  34.8000,2,   -999.0,9,  4.1531,    187.3,2,    26.78,2,    27.56,2,     0.07,2,     1.90,2, -999.000,9,   -999.0,9,  -999.0,9,-999.000,9,-999.000,9
    316N198301, ATAS3,   129,  1,     17,     17,2,19830217,0726, -8.5433, -33.3567, 4826, 1509.9,   1503.4,   4.2241,  34.9468,2,  34.9490,2,   -999.0,9,  4.1011,    226.4,2,    19.25,2,    21.11,2,     0.05,2,     1.50,2, -999.000,9,   -999.0,9,  1512.0,2,-999.000,9,   4.225,2
    316N198301, ATAS3,   129,  1,     18,     18,2,19830217,0726, -8.5433, -33.3567, 4826, 1901.4,   1896.3,   3.6291,  34.9726,2,  34.9750,2,   -999.0,9,  3.4769,    255.1,2,    18.47,2,    18.08,2,     0.04,2,     1.30,2, -999.000,9,   -999.0,9,  -999.0,9,-999.000,9,-999.000,9
    316N198301, ATAS3,   129,  1,     19,     19,2,19830217,0726, -8.5433, -33.3567, 4826, 2133.1,   2128.9,   3.4331,  34.9653,2,  34.9670,2,   -999.0,9,  3.2617,    256.4,2,    20.33,2,    18.37,2,     0.04,2,     1.30,2, -999.000,9,   -999.0,9,  2134.0,2,-999.000,9,   3.433,2
    316N198301, ATAS3,   129,  1,     20,     20,2,19830217,0726, -8.5433, -33.3567, 4826, 2982.9,   2982.7,   2.7421,  34.9239,2,  34.9220,2,   -999.0,9,  2.4988,    254.6,2,    31.86,2,    19.74,2,     0.04,2,     1.38,2, -999.000,9,   -999.0,9,  -999.0,9,-999.000,9,-999.000,9
    316N198301, ATAS3,   129,  1,     21,     21,2,19830217,0726, -8.5433, -33.3567, 4826, 3672.1,   3675.1,   2.3391,  34.8946,2,  34.8960,2,   -999.0,9,  2.0318,    256.8,2,    39.38,2,    20.33,2,     0.05,2,     1.42,2, -999.000,9,   -999.0,9,  3673.0,2,-999.000,9,   2.334,2
    316N198301, ATAS3,   129,  1,     22,     22,2,19830217,0726, -8.5433, -33.3567, 4826, 4746.0,   4754.0,   0.6791,  34.7147,2,  34.7130,2,   -999.0,9,  0.3011,    224.2,2,   118.46,2,    31.96,2,     0.07,2,     2.13,2, -999.000,9,   -999.0,9,  -999.0,9,-999.000,9,-999.000,9
    316N198301, ATAS3,   129,  1,     23,     23,2,19830217,0726, -8.5433, -33.3567, 4826, 4920.8,   4929.5,   0.6511,  34.7101,2,  34.7080,2,   -999.0,9,  0.2538,    223.8,2,   119.44,2,    32.55,2,     0.06,2,     2.14,2, -999.000,9,   -999.0,9,  4933.0,2,-999.000,9,   0.655,2