BOTTLE,20060405WHPSIOdm
EXPOCODE,SECT_ID,STNNBR,CASTNO,SAMPNO,BTLNBR,BTLNBR_FLAG_W,DATE,TIME,LATITUDE,LONGITUDE,DEPTH,CTDRAW,CTDPRS,CTDTMP,CTDSAL,CTDSAL_FLAG_W,SALNTY,SALNTY_FLAG_W,CTDOXY,CTDOXY_FLAG_W,THETA,OXYGEN,OXYGEN_FLAG_W,SILCAT,SILCAT_FLAG_W,NITRAT,NITRAT_FLAG_W,NITRIT,NITRIT_FLAG_W,PHSPHT,PHSPHT_FLAG_W,TRITUM,TRITUM_FLAG_W,TCARBN,TCARBN_FLAG_W,REVPRS,REVPRS_FLAG_W,TRITER,TRITER_FLAG_W,REVTMP,REVTMP_FLAG_W
,,,,,,,,,,,,,DBAR,ITS-90,PSS-78,,PSS-78,,UMOL/KG,,DEG C,UMOL/KG,,UMOL/KG,,UMOL/KG,,UMOL/KG,,UMOL/KG,,TU,,UMOL/KG,,DBAR,,TU,,ITS-90,
    316N198301, ATAS3,   118,  1,      1,      1,2,19830211,2042, -3.0050, -28.0150, 5064,   34.7,     11.0,  27.4793,  36.2019,2,  36.2030,2,   -999.0,9, 27.4767,    201.6,2,     2.15,2,     0.04,2,     0.00,2,     0.15,2, -999.000,9,   -999.0,9,  -999.0,9,-999.000,9,  27.480,2
    316N198301, ATAS3,   118,  1,      2,      2,2,19830211,2042, -3.0050, -28.0150, 5064,   43.5,     17.0,  27.4813,  36.2027,2,  36.2020,2,   -999.0,9, 27.4773,    201.6,2,     2.05,2,     0.04,2,     0.00,2,     0.15,2,    1.240,2,   -999.0,9,  -999.0,9,   0.060,2,-999.000,9
    316N198301, ATAS3,   118,  1,      3,      3,2,19830211,2042, -3.0050, -28.0150, 5064,   56.0,     31.0,  27.2253,  36.2868,2,  36.2850,2,   -999.0,9, 27.2181,    203.3,2,     2.05,2,     0.04,2,     0.00,2,     0.18,2, -999.000,9,   -999.0,9,  -999.0,9,-999.000,9,-999.000,9
    316N198301, ATAS3,   118,  1,      4,      4,2,19830211,2042, -3.0050, -28.0150, 5064,   63.3,     42.0,  26.4803,  36.2140,2,  36.2160,2,   -999.0,9, 26.4708,    206.8,2,     1.95,2,     0.03,2,     0.00,2,     0.17,2,    1.270,2,   2044.0,2,  -999.0,9,   0.090,2,-999.000,9
    316N198301, ATAS3,   118,  1,      5,      5,2,19830211,2042, -3.0050, -28.0150, 5064,   75.7,     59.0,  24.6323,  36.1513,2,  36.1530,2,   -999.0,9, 24.6196,    197.1,2,     1.95,2,     0.11,2,     0.02,2,     0.28,2,    1.000,2,   2054.0,2,  -999.0,9,   0.070,2,-999.000,9
    316N198301, ATAS3,   118,  1,      6,      6,2,19830211,2042, -3.0050, -28.0150, 5064,   94.0,     81.0,  20.4364,  35.9751,2,  35.9790,2,   -999.0,9, 20.4212,    148.1,2,     4.00,2,     7.95,2,     0.94,2,     0.83,2,    0.840,2,   2120.0,2,  -999.0,9,   0.090,2,-999.000,9
    316N198301, ATAS3,   118,  1,      7,      7,2,19830211,2042, -3.0050, -28.0150, 5064,  113.9,    102.0,  17.2445,  35.7228,2,  35.7220,2,   -999.0,9, 17.2274,    119.3,2,     5.86,2,    15.04,2,     0.19,2,     1.17,2,    0.760,2,   2154.0,2,  -999.0,9,   0.080,2,-999.000,9
    316N198301, ATAS3,   118,  1,      8,      8,2,19830211,2042, -3.0050, -28.0150, 5064,  198.9,    188.0,  12.3756,  35.1970,2,  35.2000,2,   -999.0,9, 12.3505,    102.7,2,    10.16,2,    23.64,2,     0.04,2,     1.59,2,    0.430,2,   2181.0,2,  -999.0,9,   0.050,2,-999.000,9
    316N198301, ATAS3,   118,  1,      9,      9,2,19830211,2042, -3.0050, -28.0150, 5064,  307.6,    297.0,  11.2316,  35.0553,2,  35.0550,2,   -999.0,9, 11.1943,     95.3,2,    12.12,2,    26.97,2,     0.04,2,     1.75,2,    0.130,2,   -999.0,9,  -999.0,9,   0.050,2,-999.000,9
    316N198301, ATAS3,   118,  1,     10,     10,2,19830211,2042, -3.0050, -28.0150, 5064,  402.9,    393.0,  10.0626,  34.9251,2,  34.9370,2,   -999.0,9, 10.0164,     89.6,2,    14.56,2,    30.10,2,     0.05,2,     1.91,2,    0.180,2,   2207.0,2,  -999.0,9,   0.040,2,-999.000,9
    316N198301, ATAS3,   118,  1,     11,     11,2,19830211,2042, -3.0050, -28.0150, 5064,  482.6,    477.0,   8.3317,  34.7179,2,  34.7240,2,   -999.0,9,  8.2815,    135.7,2,    16.42,2,    28.44,2,     0.04,2,     1.91,2, -999.000,9,   -999.0,9,  -999.0,9,-999.000,9,   8.330,2
    316N198301, ATAS3,   118,  1,     12,     12,2,19830211,2042, -3.0050, -28.0150, 5064,  542.1,    531.8,   7.4377,  34.6528,2,  34.6570,2,   -999.0,9,  7.3852,     96.1,2,    20.53,2,    35.48,2,     0.05,2,     2.24,2, -999.000,9,   -999.0,9,  -999.0,9,-999.000,9,-999.000,9
    316N198301, ATAS3,   118,  1,     13,     13,2,19830211,2042, -3.0050, -28.0150, 5064,  767.6,    758.3,   4.5197,  34.4571,2,  34.4580,2,   -999.0,9,  4.4607,    161.3,2,    32.75,2,  -999.00,9,     0.05,2,     2.28,2,    0.140,2,   -999.0,9,  -999.0,9,   0.060,2,-999.000,9
    316N198301, ATAS3,   118,  1,     14,     14,2,19830211,2042, -3.0050, -28.0150, 5064,  974.4,    965.3,   4.1867,  34.5719,2,  34.5720,2,   -999.0,9,  4.1125,    167.3,2,    34.60,2,    32.75,2,     0.05,2,     2.19,2, -999.000,9,   -999.0,9,  -999.0,9,-999.000,9,-999.000,9
    316N198301, ATAS3,   118,  1,     15,     15,2,19830211,2042, -3.0050, -28.0150, 5064, 1154.0,   1145.2,   4.3967,  34.7368,2,  34.7380,2,   -999.0,9,  4.3049,    174.3,2,    29.42,2,    29.52,2,     0.05,2,     2.00,2, -999.000,9,   -999.0,9,  -999.0,9,-999.000,9,-999.000,9
    316N198301, ATAS3,   118,  1,     16,     16,2,19830211,2042, -3.0050, -28.0150, 5064, 1298.5,   1290.0,   4.4857,  34.8519,2,  34.8520,2,   -999.0,9,  4.3798,    193.4,2,    24.63,2,    25.80,2,     0.05,2,     1.77,2, -999.000,9,   -999.0,9,  -999.0,9,-999.000,9,-999.000,9
    316N198301, ATAS3,   118,  1,     17,     17,2,19830211,2042, -3.0050, -28.0150, 5064, 1402.7,   1394.5,   4.4417,  34.9059,2,  34.9090,2,   -999.0,9,  4.3266,    210.3,2,    22.09,2,    23.55,2,     0.03,2,     1.62,2, -999.000,9,   -999.0,9,  1401.0,2,-999.000,9,   4.442,2
    316N198301, ATAS3,   118,  1,     18,     18,2,19830211,2042, -3.0050, -28.0150, 5064, 1672.7,   1664.8,   3.9587,  34.9713,2,  34.9720,2,   -999.0,9,  3.8238,    244.6,2,    18.57,2,    19.25,2,     0.03,2,     1.36,2, -999.000,9,   -999.0,9,  -999.0,9,-999.000,9,-999.000,9
    316N198301, ATAS3,   118,  1,     19,     19,2,19830211,2042, -3.0050, -28.0150, 5064, 2192.8,   2187.2,   3.2188,  34.9480,2,  34.9490,2,   -999.0,9,  3.0453,    251.1,2,    25.90,2,    19.35,2,     0.03,2,     1.41,2, -999.000,9,   -999.0,9,  2193.0,2,-999.000,9,   3.216,2
    316N198301, ATAS3,   118,  1,     20,     20,2,19830211,2042, -3.0050, -28.0150, 5064, 3094.3,   3092.7,   2.6208,  34.9134,2,  34.9120,2,   -999.0,9,  2.3687,    251.1,2,    36.35,2,    20.23,2,     0.02,2,     1.43,2, -999.000,9,   -999.0,9,  -999.0,9,-999.000,9,-999.000,9
    316N198301, ATAS3,   118,  1,     21,     21,2,19830211,2042, -3.0050, -28.0150, 5064, 3828.7,   3830.2,   2.4108,  34.9039,2,  34.9060,2,   -999.0,9,  2.0842,    262.9,2,    34.01,2,    19.06,2,     0.02,2,     1.37,2, -999.000,9,   -999.0,9,  3831.0,2,-999.000,9,   2.410,2
    316N198301, ATAS3,   118,  1,     22,     22,2,19830211,2042, -3.0050, -28.0150, 5064, 4592.5,   4597.6,   0.8738,  34.7362,2,  34.7330,2,   -999.0,9,  0.5070,    227.7,2,   108.78,2,  -999.00,9,     0.00,2,     2.01,2, -999.000,9,   -999.0,9,  -999.0,9,-999.000,9,-999.000,9
    316N198301, ATAS3,   118,  1,     23,     23,2,19830211,2042, -3.0050, -28.0150, 5064, 5153.4,   5161.0,   0.7038,  34.7109,2,  34.7090,2,   -999.0,9,  0.2774,    223.8,2,   119.05,2,    32.06,2,     0.00,2,     2.13,2, -999.000,9,   -999.0,9,  5181.0,2,-999.000,9,   0.710,2
    316N198301, ATAS3,   119,  1,      1,      1,2,19830212,0820, -3.9800, -28.0300, 5182,   29.7,     11.0,  27.2552,  36.1510,2,  36.1450,2,   -999.0,9, 27.2527,    201.6,2,     1.76,2,     0.03,2,     0.01,2,     0.14,2, -999.000,9,   -999.0,9,  -999.0,9,-999.000,9,  27.250,2
    316N198301, ATAS3,   119,  1,      2,      2,2,19830212,0820, -3.9800, -28.0300, 5182,   42.5,     18.0,  27.2782,  36.1654,2,  36.1640,2,   -999.0,9, 27.2741,    201.6,2,     1.66,2,     0.03,2,     0.01,2,     0.14,2,    1.380,2,   -999.0,9,  -999.0,9,   0.060,2,-999.000,9
    316N198301, ATAS3,   119,  1,      3,      3,2,19830212,0820, -3.9800, -28.0300, 5182,   53.6,     29.0,  27.2072,  36.2148,2,  36.2120,2,   -999.0,9, 27.2005,    202.4,2,     1.66,2,     0.03,2,     0.01,2,     0.13,2,    1.210,2,   2032.0,2,  -999.0,9,   0.080,2,-999.000,9
    316N198301, ATAS3,   119,  1,      4,      4,2,19830212,0820, -3.9800, -28.0300, 5182,   68.1,     50.0,  26.0553,  36.1497,2,  36.1500,2,   -999.0,9, 26.0440,    210.2,2,     1.46,2,     0.03,2,     0.00,2,     0.14,2,    1.220,2,   2037.0,2,  -999.0,9,   0.070,2,-999.000,9
    316N198301, ATAS3,   119,  1,      5,      5,2,19830212,0820, -3.9800, -28.0300, 5182,   86.3,     70.8,  23.8603,  36.1659,2,  36.1660,2,   -999.0,9, 23.8454,    189.2,2,     1.76,2,     0.35,2,     0.42,2,     0.29,2,    1.150,2,   2064.0,2,  -999.0,9,   0.080,2,-999.000,9
    316N198301, ATAS3,   119,  1,      6,      6,2,19830212,0820, -3.9800, -28.0300, 5182,  102.8,     90.0,  17.7074,  35.8153,2,  35.7560,2,   -999.0,9, 17.6921,    128.0,2,     5.47,2,    13.67,2,     0.20,2,     1.02,2, -999.000,9,   -999.0,9,  -999.0,9,-999.000,9,-999.000,9
    316N198301, ATAS3,   119,  1,      7,      7,2,19830212,0820, -3.9800, -28.0300, 5182,  125.2,    113.0,  13.7215,  35.3780,2,  35.3840,2,   -999.0,9, 13.7054,    115.7,2,     7.82,2,    19.54,2,     0.05,2,     1.27,2,    0.610,2,   2170.0,2,  -999.0,9,   0.070,2,-999.000,9
    316N198301, ATAS3,   119,  1,      8,      8,2,19830212,0820, -3.9800, -28.0300, 5182,  181.6,    170.0,  12.7605,  35.2430,2,  35.2420,2,   -999.0,9, 12.7374,    120.9,2,     8.79,2,    20.71,2,     0.03,2,     1.34,2,    0.470,2,   2166.0,2,  -999.0,9,   0.060,2,-999.000,9
    316N198301, ATAS3,   119,  1,      9,      9,2,19830212,0820, -3.9800, -28.0300, 5182,  254.5,    243.1,  11.8045,  35.1260,2,  35.1240,2,   -999.0,9, 11.7730,     97.4,2,    10.85,2,    25.31,2,     0.02,2,     1.54,2,    0.390,2,   2190.0,2,  -999.0,9,   0.050,2,-999.000,9
    316N198301, ATAS3,   119,  1,     10,     10,2,19830212,0820, -3.9800, -28.0300, 5182,  304.2,    292.9,  11.1205,  35.0472,2,  35.0820,2,   -999.0,9, 11.0840,     90.9,2,    11.92,2,    26.48,2,     0.03,2,     1.61,2,    0.280,2,   2192.0,2,  -999.0,9,   0.050,2,-999.000,9
    316N198301, ATAS3,   119,  1,     11,     11,2,19830212,0820, -3.9800, -28.0300, 5182,  354.2,    344.0,  10.3036,  34.9546,2,  34.9580,2,   -999.0,9, 10.2626,     78.7,2,    13.88,2,    30.29,2,     0.02,2,     1.80,2,    0.150,2,   -999.0,9,   348.0,2,   0.070,2,  10.295,2
    316N198301, ATAS3,   119,  1,     12,     12,2,19830212,0820, -3.9800, -28.0300, 5182,  402.5,    391.7,   9.3606,  34.8362,2,  34.8350,2,   -999.0,9,  9.3166,    113.1,2,    14.56,2,    28.54,2,     0.03,2,     1.76,2,    0.120,2,   2195.0,2,  -999.0,9,   0.060,2,-999.000,9
    316N198301, ATAS3,   119,  1,     13,     13,2,19830212,0820, -3.9800, -28.0300, 5182,  481.1,    470.5,   8.3396,  34.7406,2,  34.7410,2,   -999.0,9,  8.2901,     88.3,2,    17.59,2,    33.82,2,     0.03,2,     2.02,2,    0.010,2,   2218.0,2,  -999.0,9,   0.050,2,-999.000,9
    316N198301, ATAS3,   119,  1,     14,     14,2,19830212,0820, -3.9800, -28.0300, 5182,  620.5,    610.7,   6.1496,  34.5448,2,  34.5430,2,   -999.0,9,  6.0951,    118.7,2,    23.66,2,    35.29,2,     0.03,2,     2.17,2, -999.000,9,   -999.0,9,  -999.0,9,-999.000,9,-999.000,9
    316N198301, ATAS3,   119,  1,     15,     15,2,19830212,0820, -3.9800, -28.0300, 5182,  766.1,    756.7,   4.8667,  34.4732,2,  34.4750,2,   -999.0,9,  4.8058,    144.8,2,    30.21,2,    35.00,2,     0.03,2,     2.21,2, -999.000,9,   -999.0,9,  -999.0,9,-999.000,9,-999.000,9
    316N198301, ATAS3,   119,  1,     16,     16,2,19830212,0820, -3.9800, -28.0300, 5182,  997.1,    988.0,   4.0727,  34.5488,2,  34.5480,2,   -999.0,9,  3.9974,    168.7,2,    35.29,2,    32.65,2,     0.03,2,     2.10,2, -999.000,9,   -999.0,9,  -999.0,9,-999.000,9,-999.000,9
    316N198301, ATAS3,   119,  1,     17,     17,2,19830212,0820, -3.9800, -28.0300, 5182, 1307.7,   1299.2,   4.4427,  34.8712,2,  34.8720,2,   -999.0,9,  4.3363,    198.2,2,    23.26,2,    25.02,2,     0.02,2,     1.64,2, -999.000,9,   -999.0,9,  1305.0,2,-999.000,9,   4.443,2
    316N198301, ATAS3,   119,  1,     18,     18,2,19830212,0820, -3.9800, -28.0300, 5182, 1708.4,   1700.5,   3.9027,  34.9623,2,  34.9640,2,   -999.0,9,  3.7652,    240.7,2,    19.45,2,    19.84,2,     0.01,2,     1.32,2, -999.000,9,   -999.0,9,  -999.0,9,-999.000,9,-999.000,9
    316N198301, ATAS3,   119,  1,     19,     19,2,19830212,0820, -3.9800, -28.0300, 5182, 1889.8,   1882.8,   3.6297,  34.9635,2,  34.9630,2,   -999.0,9,  3.4788,    248.5,2,    20.42,2,    19.15,2,     0.01,2,     1.29,2, -999.000,9,   -999.0,9,  1884.0,2,-999.000,9,   3.627,2
    316N198301, ATAS3,   119,  1,     20,     20,2,19830212,0820, -3.9800, -28.0300, 5182, 2595.6,   2591.8,   2.9497,  34.9309,2,  34.9290,2,   -999.0,9,  2.7417,    248.1,2,    31.17,2,    20.23,2,     0.01,2,     1.35,2, -999.000,9,   -999.0,9,  -999.0,9,-999.000,9,-999.000,9
    316N198301, ATAS3,   119,  1,     21,     21,2,19830212,0820, -3.9800, -28.0300, 5182, 3917.8,   3919.6,   2.2637,  34.8926,2,  34.8880,2,   -999.0,9,  1.9312,    260.2,2,    38.31,2,    19.64,2,     0.01,2,     1.34,2, -999.000,9,   -999.0,9,  3920.0,2,-999.000,9,   2.265,2
    316N198301, ATAS3,   119,  1,     22,     22,2,19830212,0820, -3.9800, -28.0300, 5182, 4447.5,   4452.0,   1.0287,  34.7546,2,  34.7520,2,   -999.0,9,  0.6734,    231.6,2,    95.29,2,    28.83,2,     0.01,2,     1.89,2, -999.000,9,   -999.0,9,  -999.0,9,-999.000,9,-999.000,9
    316N198301, ATAS3,   119,  1,     23,     23,2,19830212,0820, -3.9800, -28.0300, 5182, 5159.3,   5166.8,   0.6717,  34.7080,2,  34.7070,2,   -999.0,9,  0.2458,    225.9,2,   116.70,2,    31.47,2,     0.01,2,     2.05,2, -999.000,9,   -999.0,9,  5178.0,2,-999.000,9,   0.679,2
    316N198301, ATAS3,   120,  1,      1,      1,2,19830212,2206, -5.0050, -28.0050, 5424,   29.0,     11.0,  27.3012,  36.1448,2,  36.1450,2,   -999.0,9, 27.2986,    202.9,2,     1.66,2,     0.00,2,     0.01,2,     0.13,2, -999.000,9,   -999.0,9,  -999.0,9,-999.000,9,  27.302,2
    316N198301, ATAS3,   120,  1,      2,      2,2,19830212,2206, -5.0050, -28.0050, 5424,   66.7,     38.0,  27.2632,  36.1465,2,  36.1470,2,   -999.0,9, 27.2544,    202.9,2,     1.56,2,     0.00,2,     0.01,2,     0.13,2,    1.100,2,   2035.0,2,  -999.0,9,   0.080,2,-999.000,9
    316N198301, ATAS3,   120,  1,      3,      3,2,19830212,2206, -5.0050, -28.0050, 5424,   80.8,     53.0,  26.5552,  36.2721,2,  36.2540,2,   -999.0,9, 26.5431,    208.1,2,     1.56,2,     0.00,2,     0.01,2,     0.15,2,    1.090,2,   2035.0,2,  -999.0,9,   0.080,2,-999.000,9
    316N198301, ATAS3,   120,  1,      4,      4,2,19830212,2206, -5.0050, -28.0050, 5424,   89.6,     65.0,  25.7482,  36.4274,2,  36.4220,2,   -999.0,9, 25.7337,    205.4,2,     1.56,2,     0.00,2,     0.01,2,     0.16,2,    1.240,2,   2050.0,2,  -999.0,9,   0.070,2,-999.000,9
    316N198301, ATAS3,   120,  1,      5,      5,2,19830212,2206, -5.0050, -28.0050, 5424,  109.3,     89.0,  21.2113,  36.2550,2,  36.2590,2,   -999.0,9, 21.1940,    160.7,2,     2.73,2,     5.85,2,     0.36,2,     0.65,2, -999.000,9,   -999.0,9,  -999.0,9,-999.000,9,-999.000,9
    316N198301, ATAS3,   120,  1,      6,      6,2,19830212,2206, -5.0050, -28.0050, 5424,  137.4,    123.0,  15.3804,  35.5850,2,  35.5960,2,   -999.0,9, 15.3614,    125.3,2,     5.96,2,    16.90,2,     0.04,2,     1.20,2,    0.770,2,   2158.0,2,  -999.0,9,   0.070,2,-999.000,9
    316N198301, ATAS3,   120,  1,      7,      7,2,19830212,2206, -5.0050, -28.0050, 5424,  186.3,    173.0,  12.7285,  35.2428,2,  35.2420,2,   -999.0,9, 12.7050,    130.1,2,     8.60,2,    20.62,2,     0.01,2,     1.40,2,    0.460,2,   2161.0,2,  -999.0,9,   0.080,2,-999.000,9
    316N198301, ATAS3,   120,  1,      8,      8,2,19830212,2206, -5.0050, -28.0050, 5424,  225.8,    213.0,  11.9615,  35.1342,2,  35.1280,2,   -999.0,9, 11.9337,    138.3,2,     9.09,2,    21.11,2,     0.01,2,     1.43,2, -999.000,9,   -999.0,9,  -999.0,9,-999.000,9,-999.000,9
    316N198301, ATAS3,   120,  1,      9,      9,2,19830212,2206, -5.0050, -28.0050, 5424,  298.5,    287.0,  10.5465,  34.9860,2,  34.9850,2,   -999.0,9, 10.5119,     80.0,2,    13.19,2,    30.78,2,     0.01,2,     1.89,2, -999.000,9,   -999.0,9,  -999.0,9,-999.000,9,-999.000,9
    316N198301, ATAS3,   120,  1,     10,     10,2,19830212,2206, -5.0050, -28.0050, 5424,  321.2,    310.0,  10.1785,  34.9397,2,  34.9510,2,   -999.0,9, 10.1419,     81.8,2,    13.88,2,    31.56,2,     0.02,2,     1.93,2, -999.000,9,   -999.0,9,  -999.0,9,-999.000,9,-999.000,9
    316N198301, ATAS3,   120,  1,     11,     11,2,19830212,2206, -5.0050, -28.0050, 5424,  383.2,    373.0,   9.0905,  34.8015,2,  34.8050,2,   -999.0,9,  9.0494,    128.3,2,    14.46,2,    28.24,2,     0.02,2,     1.83,2, -999.000,9,   -999.0,9,   376.0,2,-999.000,9,   9.089,2
    316N198301, ATAS3,   120,  1,     12,     12,2,19830212,2206, -5.0050, -28.0050, 5424,  401.4,    391.9,   8.5735,  34.7457,2,  34.7470,2,   -999.0,9,  8.5318,    135.2,2,    15.34,2,    28.64,2,     0.02,2,     1.86,2, -999.000,9,   -999.0,9,  -999.0,9,-999.000,9,-999.000,9
    316N198301, ATAS3,   120,  1,     13,     13,2,19830212,2206, -5.0050, -28.0050, 5424,  421.6,    412.1,   8.3105,  34.7275,2,  34.7260,2,   -999.0,9,  8.2675,    117.0,2,    16.71,2,    31.28,2,     0.03,2,     1.98,2, -999.000,9,   -999.0,9,  -999.0,9,-999.000,9,-999.000,9
    316N198301, ATAS3,   120,  1,     14,     14,2,19830212,2206, -5.0050, -28.0050, 5424,  480.7,    471.5,   7.4966,  34.6338,2,  34.6360,2,   -999.0,9,  7.4500,    148.3,2,    17.59,2,    29.62,2,     0.03,2,     1.94,2, -999.000,9,   -999.0,9,  -999.0,9,-999.000,9,-999.000,9
    316N198301, ATAS3,   120,  1,     15,     15,2,19830212,2206, -5.0050, -28.0050, 5424,  525.7,    516.6,   7.0216,  34.6138,2,  34.6170,2,   -999.0,9,  6.9723,    107.8,2,    20.82,2,    35.38,2,     0.03,2,     2.22,2, -999.000,9,   -999.0,9,  -999.0,9,-999.000,9,-999.000,9
    316N198301, ATAS3,   120,  1,     16,     16,2,19830212,2206, -5.0050, -28.0050, 5424,  760.1,    751.6,   4.9006,  34.4685,2,  34.4700,2,   -999.0,9,  4.8400,    147.8,2,    29.62,2,    35.58,2,     0.03,2,     2.30,2, -999.000,9,   -999.0,9,  -999.0,9,-999.000,9,-999.000,9
    316N198301, ATAS3,   120,  1,     17,     17,2,19830212,2206, -5.0050, -28.0050, 5424,  949.2,    941.1,   4.0636,  34.5172,2,  34.5180,2,   -999.0,9,  3.9923,    168.2,2,    35.58,2,    34.02,2,     0.03,2,     2.24,2, -999.000,9,   -999.0,9,   946.0,2,-999.000,9,   4.062,2
    316N198301, ATAS3,   120,  1,     18,     18,2,19830212,2206, -5.0050, -28.0050, 5424, 1248.0,   1240.4,   4.3886,  34.8121,2,  34.8130,2,   -999.0,9,  4.2882,    186.9,2,    25.90,2,    27.95,2,     0.03,2,     1.88,2, -999.000,9,   -999.0,9,  -999.0,9,-999.000,9,-999.000,9
    316N198301, ATAS3,   120,  1,     19,     19,2,19830212,2206, -5.0050, -28.0050, 5424, 1649.2,   1642.2,   3.9976,  34.9683,2,  34.9700,2,   -999.0,9,  3.8643,    242.0,2,    18.08,2,    19.94,2,     0.03,2,     1.38,2, -999.000,9,   -999.0,9,  1645.0,2,-999.000,9,   3.998,2
    316N198301, ATAS3,   120,  1,     20,     20,2,19830212,2206, -5.0050, -28.0050, 5424, 2392.0,   2388.3,   3.0316,  34.9328,2,  34.9310,2,   -999.0,9,  2.8421,    248.1,2,    29.90,2,    20.42,2,     0.03,2,     1.42,2, -999.000,9,   -999.0,9,  -999.0,9,-999.000,9,-999.000,9
    316N198301, ATAS3,   120,  1,     21,     21,2,19830212,2206, -5.0050, -28.0050, 5424, 3722.3,   3724.3,   2.4096,  34.9041,2,  34.9030,2,   -999.0,9,  2.0950,    261.1,2,    34.50,2,    19.45,2,     0.03,2,     1.36,2, -999.000,9,   -999.0,9,  3723.0,2,-999.000,9,   2.413,2
    316N198301, ATAS3,   120,  1,     22,     22,2,19830212,2206, -5.0050, -28.0050, 5424, 4633.4,   4639.7,   0.8527,  34.7340,2,  34.7320,2,   -999.0,9,  0.4818,    227.7,2,   110.15,2,    30.59,2,     0.03,2,     2.04,2, -999.000,9,   -999.0,9,  -999.0,9,-999.000,9,-999.000,9
    316N198301, ATAS3,   120,  1,     23,     23,2,19830212,2206, -5.0050, -28.0050, 5424, 5143.3,   5151.8,   0.7257,  34.7134,2,-999.0000,9,   -999.0,9,  0.2996,   -999.0,9,  -999.00,9,  -999.00,9,  -999.00,9,  -999.00,9, -999.000,9,   -999.0,9,  -999.0,9,-999.000,9,-999.000,9