BOTTLE,20070619WHPSIOdm
EXPOCODE,SECT_ID,STNNBR,CASTNO,SAMPNO,BTLNBR,BTLNBR_FLAG_W,DATE,TIME,LATITUDE,LONGITUDE,DEPTH,CTDPRS,CTDTMP,CTDSAL,CTDSAL_FLAG_W,SALNTY,SALNTY_FLAG_W,CTDOXY,CTDOXY_FLAG_W,THETA,OXYGEN,OXYGEN_FLAG_W,SILCAT,SILCAT_FLAG_W,NITRAT,NITRAT_FLAG_W,NITRIT,NITRIT_FLAG_W,PHSPHT,PHSPHT_FLAG_W
,,,,,,,,,,,,DBAR,DEG C,PSS-78,,PSS-78,,UMOL/KG,,DEG C,UMOL/KG,,UMOL/KG,,UMOL/KG,,UMOL/KG,,UMOL/KG,
      74JC27_1,  SR01,    26,  1, 112117, 112117,2,19980103,0451,-58.3688, -56.2777, -999,     15.6,   1.7900,  33.7840,2,  33.7800,2,   -999.0,9,  1.7890,   -999.0,9,  -999.00,9,  -999.00,9,  -999.00,9,  -999.00,9
      74JC27_1,  SR01,    26,  1, 112116, 112116,2,19980103,0451,-58.3688, -56.2777, -999,     56.9,  -0.8290,  33.8890,2,  33.9160,2,   -999.0,9, -0.8310,   -999.0,9,  -999.00,9,  -999.00,9,  -999.00,9,  -999.00,9
      74JC27_1,  SR01,    26,  1, 112115, 112115,2,19980103,0451,-58.3688, -56.2777, -999,    132.6,   0.9610,  34.2310,2,  34.2310,2,   -999.0,9,  0.9550,   -999.0,9,  -999.00,9,  -999.00,9,  -999.00,9,  -999.00,9
      74JC27_1,  SR01,    26,  1, 112114, 112114,2,19980103,0451,-58.3688, -56.2777, -999,    259.0,   1.8800,  34.5240,2,  34.4570,2,   -999.0,9,  1.8660,   -999.0,9,  -999.00,9,  -999.00,9,  -999.00,9,  -999.00,9
      74JC27_1,  SR01,    26,  1, 112113, 112113,2,19980103,0451,-58.3688, -56.2777, -999,    513.0,   1.9700,  34.6680,2,  34.6400,2,   -999.0,9,  1.9410,   -999.0,9,  -999.00,9,  -999.00,9,  -999.00,9,  -999.00,9
      74JC27_1,  SR01,    26,  1, 112112, 112112,2,19980103,0451,-58.3688, -56.2777, -999,   1021.0,   1.6460,  34.7220,2,  34.7240,2,   -999.0,9,  1.5870,   -999.0,9,  -999.00,9,  -999.00,9,  -999.00,9,  -999.00,9
      74JC27_1,  SR01,    26,  1, 112111, 112111,2,19980103,0451,-58.3688, -56.2777, -999,   1529.6,   1.2250,  34.7230,2,  34.7220,2,   -999.0,9,  1.1350,   -999.0,9,  -999.00,9,  -999.00,9,  -999.00,9,  -999.00,9
      74JC27_1,  SR01,    26,  1, 112110, 112110,2,19980103,0451,-58.3688, -56.2777, -999,   2041.6,   0.7600,  34.7010,2,  34.7000,2,   -999.0,9,  0.6390,   -999.0,9,  -999.00,9,  -999.00,9,  -999.00,9,  -999.00,9
      74JC27_1,  SR01,    26,  1, 112109, 112109,2,19980103,0451,-58.3688, -56.2777, -999,   2552.2,   0.5050,  34.6960,2,  34.6950,2,   -999.0,9,  0.3490,   -999.0,9,  -999.00,9,  -999.00,9,  -999.00,9,  -999.00,9
      74JC27_1,  SR01,    26,  1, 112108, 112108,2,19980103,0451,-58.3688, -56.2777, -999,   3068.3,   0.1920,  34.6740,2,  34.6710,2,   -999.0,9, -0.0020,   -999.0,9,  -999.00,9,  -999.00,9,  -999.00,9,  -999.00,9
      74JC27_1,  SR01,    26,  1, 112107, 112107,2,19980103,0451,-58.3688, -56.2777, -999,   3584.5,   0.0330,  34.6650,2,  34.6800,3,   -999.0,9, -0.2040,   -999.0,9,  -999.00,9,  -999.00,9,  -999.00,9,  -999.00,9
      74JC27_1,  SR01,    27,  1, 112129, 112129,2,19980103,1838,-58.2072, -56.3643, -999,     14.6,   1.8660,  33.9440,2,  33.9450,2,   -999.0,9,  1.8650,   -999.0,9,  -999.00,9,  -999.00,9,  -999.00,9,  -999.00,9
      74JC27_1,  SR01,    27,  1, 112128, 112128,2,19980103,1838,-58.2072, -56.3643, -999,     54.6,   0.1560,  33.9780,2,  33.9840,2,   -999.0,9,  0.1550,   -999.0,9,  -999.00,9,  -999.00,9,  -999.00,9,  -999.00,9
      74JC27_1,  SR01,    27,  1, 112127, 112127,2,19980103,1838,-58.2072, -56.3643, -999,    104.9,  -0.5190,  34.1460,2,  34.1300,2,   -999.0,9, -0.5220,   -999.0,9,  -999.00,9,  -999.00,9,  -999.00,9,  -999.00,9
      74JC27_1,  SR01,    27,  1, 112126, 112126,2,19980103,1838,-58.2072, -56.3643, -999,    257.1,   1.5820,  34.5330,2,  34.5590,2,   -999.0,9,  1.5690,   -999.0,9,  -999.00,9,  -999.00,9,  -999.00,9,  -999.00,9
      74JC27_1,  SR01,    27,  1, 112125, 112125,2,19980103,1838,-58.2072, -56.3643, -999,    509.9,   1.5470,  34.6500,2,  34.6510,2,   -999.0,9,  1.5200,   -999.0,9,  -999.00,9,  -999.00,9,  -999.00,9,  -999.00,9
      74JC27_1,  SR01,    27,  1, 112124, 112124,2,19980103,1838,-58.2072, -56.3643, -999,   1017.8,   1.4460,  34.7220,2,  34.7260,2,   -999.0,9,  1.3890,   -999.0,9,  -999.00,9,  -999.00,9,  -999.00,9,  -999.00,9
      74JC27_1,  SR01,    27,  1, 112123, 112123,2,19980103,1838,-58.2072, -56.3643, -999,   1526.9,   0.9870,  34.7090,2,  34.7150,2,   -999.0,9,  0.9000,   -999.0,9,  -999.00,9,  -999.00,9,  -999.00,9,  -999.00,9
      74JC27_1,  SR01,    27,  1, 112122, 112122,2,19980103,1838,-58.2072, -56.3643, -999,   2036.0,   0.7440,  34.7080,2,  34.7100,2,   -999.0,9,  0.6240,   -999.0,9,  -999.00,9,  -999.00,9,  -999.00,9,  -999.00,9
      74JC27_1,  SR01,    27,  1, 112121, 112121,2,19980103,1838,-58.2072, -56.3643, -999,   2549.0,   0.4800,  34.6970,2,  34.6970,2,   -999.0,9,  0.3240,   -999.0,9,  -999.00,9,  -999.00,9,  -999.00,9,  -999.00,9
      74JC27_1,  SR01,    27,  1, 112120, 112120,2,19980103,1838,-58.2072, -56.3643, -999,   3060.8,   0.1730,  34.6750,2,  34.6750,2,   -999.0,9, -0.0200,   -999.0,9,  -999.00,9,  -999.00,9,  -999.00,9,  -999.00,9
      74JC27_1,  SR01,    27,  1, 112119, 112119,2,19980103,1838,-58.2072, -56.3643, -999,   3576.4,   0.0750,  34.6670,2,  34.6660,2,   -999.0,9, -0.1620,   -999.0,9,  -999.00,9,  -999.00,9,  -999.00,9,  -999.00,9
      74JC27_1,  SR01,    27,  1, 112118, 112118,2,19980103,1838,-58.2072, -56.3643, -999,   3808.5,  -0.0610,  34.6620,2,  34.6970,2,   -999.0,9, -0.3160,   -999.0,9,  -999.00,9,  -999.00,9,  -999.00,9,  -999.00,9
      74JC27_1,  SR01,    28,  1, 112141, 112141,2,19980103,2233,-58.0497, -56.4617, -999,     15.4,   1.9240,  33.9470,2,  33.9310,2,   -999.0,9,  1.9240,   -999.0,9,  -999.00,9,  -999.00,9,  -999.00,9,  -999.00,9
      74JC27_1,  SR01,    28,  1, 112140, 112140,2,19980103,2233,-58.0497, -56.4617, -999,     55.3,  -0.1790,  34.0060,2,  33.9840,2,   -999.0,9, -0.1810,   -999.0,9,  -999.00,9,  -999.00,9,  -999.00,9,  -999.00,9
      74JC27_1,  SR01,    28,  1, 112139, 112139,2,19980103,2233,-58.0497, -56.4617, -999,    106.6,  -0.6210,  34.1600,2,  34.1320,2,   -999.0,9, -0.6240,   -999.0,9,  -999.00,9,  -999.00,9,  -999.00,9,  -999.00,9
      74JC27_1,  SR01,    28,  1, 112138, 112138,2,19980103,2233,-58.0497, -56.4617, -999,    251.5,   0.6610,  34.4620,2,  34.4460,2,   -999.0,9,  0.6500,   -999.0,9,  -999.00,9,  -999.00,9,  -999.00,9,  -999.00,9
      74JC27_1,  SR01,    28,  1, 112137, 112137,2,19980103,2233,-58.0497, -56.4617, -999,    510.6,   1.2310,  34.6390,2,  34.6330,2,   -999.0,9,  1.2060,   -999.0,9,  -999.00,9,  -999.00,9,  -999.00,9,  -999.00,9
      74JC27_1,  SR01,    28,  1, 112136, 112136,2,19980103,2233,-58.0497, -56.4617, -999,   1019.8,   1.2660,  34.7160,2,  34.7110,2,   -999.0,9,  1.2110,   -999.0,9,  -999.00,9,  -999.00,9,  -999.00,9,  -999.00,9
      74JC27_1,  SR01,    28,  1, 112135, 112135,2,19980103,2233,-58.0497, -56.4617, -999,   1529.7,   1.0400,  34.7240,2,  34.7210,2,   -999.0,9,  0.9520,   -999.0,9,  -999.00,9,  -999.00,9,  -999.00,9,  -999.00,9
      74JC27_1,  SR01,    28,  1, 112134, 112134,2,19980103,2233,-58.0497, -56.4617, -999,   2040.3,   0.7400,  34.7140,2,  34.7100,2,   -999.0,9,  0.6200,   -999.0,9,  -999.00,9,  -999.00,9,  -999.00,9,  -999.00,9
      74JC27_1,  SR01,    28,  1, 112133, 112133,2,19980103,2233,-58.0497, -56.4617, -999,   2553.4,   0.5050,  34.7030,2,  34.6980,2,   -999.0,9,  0.3490,   -999.0,9,  -999.00,9,  -999.00,9,  -999.00,9,  -999.00,9
      74JC27_1,  SR01,    28,  1, 112132, 112132,2,19980103,2233,-58.0497, -56.4617, -999,   3066.1,   0.2760,  34.6860,2,  34.6800,2,   -999.0,9,  0.0800,   -999.0,9,  -999.00,9,  -999.00,9,  -999.00,9,  -999.00,9
      74JC27_1,  SR01,    28,  1, 112131, 112131,2,19980103,2233,-58.0497, -56.4617, -999,   3582.0,   0.1100,  34.6730,2,  34.6680,2,   -999.0,9, -0.1290,   -999.0,9,  -999.00,9,  -999.00,9,  -999.00,9,  -999.00,9
      74JC27_1,  SR01,    28,  1, 112130, 112130,2,19980103,2233,-58.0497, -56.4617, -999,   4036.2,   0.0330,  34.6660,2,  34.6630,2,   -999.0,9, -0.2470,   -999.0,9,  -999.00,9,  -999.00,9,  -999.00,9,  -999.00,9
      74JC27_1,  SR01,    29,  1, 112150, 112150,2,19980104,0300,-57.8820, -56.5482, -999,     16.3,   1.6970,  33.8760,2,  33.8650,2,   -999.0,9,  1.6960,   -999.0,9,  -999.00,9,  -999.00,9,  -999.00,9,  -999.00,9
      74JC27_1,  SR01,    29,  1, 112149, 112149,2,19980104,0300,-57.8820, -56.5482, -999,    105.1,  -0.6330,  34.1110,2,  34.0650,2,   -999.0,9, -0.6360,   -999.0,9,  -999.00,9,  -999.00,9,  -999.00,9,  -999.00,9
      74JC27_1,  SR01,    29,  1, 112148, 112148,2,19980104,0300,-57.8820, -56.5482, -999,    258.3,   0.9100,  34.4580,2,  34.4910,2,   -999.0,9,  0.8980,   -999.0,9,  -999.00,9,  -999.00,9,  -999.00,9,  -999.00,9
      74JC27_1,  SR01,    29,  1, 112147, 112147,2,19980104,0300,-57.8820, -56.5482, -999,    512.2,   1.5850,  34.6570,2,  34.6390,2,   -999.0,9,  1.5580,   -999.0,9,  -999.00,9,  -999.00,9,  -999.00,9,  -999.00,9
      74JC27_1,  SR01,    29,  1, 112146, 112146,2,19980104,0300,-57.8820, -56.5482, -999,   1527.7,   0.9840,  34.7180,2,  34.7060,2,   -999.0,9,  0.8970,   -999.0,9,  -999.00,9,  -999.00,9,  -999.00,9,  -999.00,9
      74JC27_1,  SR01,    29,  1, 112145, 112145,2,19980104,0300,-57.8820, -56.5482, -999,   2040.1,   0.7280,  34.7130,2,  34.7060,2,   -999.0,9,  0.6080,   -999.0,9,  -999.00,9,  -999.00,9,  -999.00,9,  -999.00,9
      74JC27_1,  SR01,    29,  1, 112144, 112144,2,19980104,0300,-57.8820, -56.5482, -999,   3061.7,   0.2350,  34.6860,2,  34.6680,2,   -999.0,9,  0.0410,   -999.0,9,  -999.00,9,  -999.00,9,  -999.00,9,  -999.00,9
      74JC27_1,  SR01,    29,  1, 112143, 112143,2,19980104,0300,-57.8820, -56.5482, -999,   3574.0,   0.0790,  34.6740,2,  34.6650,2,   -999.0,9, -0.1580,   -999.0,9,  -999.00,9,  -999.00,9,  -999.00,9,  -999.00,9
      74JC27_1,  SR01,    29,  1, 112142, 112142,2,19980104,0300,-57.8820, -56.5482, -999,   4026.1,   0.0230,  34.6680,2,  34.6620,2,   -999.0,9, -0.2560,   -999.0,9,  -999.00,9,  -999.00,9,  -999.00,9,  -999.00,9
      74JC27_1,  SR01,    30,  1, 112162, 112162,2,19980104,0706,-57.7272, -56.6417, -999,     15.8,   1.5290,  33.8780,2,  33.8540,2,   -999.0,9,  1.5280,   -999.0,9,  -999.00,9,  -999.00,9,  -999.00,9,  -999.00,9
      74JC27_1,  SR01,    30,  1, 112161, 112161,2,19980104,0706,-57.7272, -56.6417, -999,     56.6,  -0.6480,  33.9700,2,  33.9380,2,   -999.0,9, -0.6500,   -999.0,9,  -999.00,9,  -999.00,9,  -999.00,9,  -999.00,9
      74JC27_1,  SR01,    30,  1, 112160, 112160,2,19980104,0706,-57.7272, -56.6417, -999,    106.8,   0.0350,  34.1420,2,  34.0930,2,   -999.0,9,  0.0310,   -999.0,9,  -999.00,9,  -999.00,9,  -999.00,9,  -999.00,9
      74JC27_1,  SR01,    30,  1, 112159, 112159,2,19980104,0706,-57.7272, -56.6417, -999,    257.6,   1.9490,  34.5310,2,  34.5090,2,   -999.0,9,  1.9350,   -999.0,9,  -999.00,9,  -999.00,9,  -999.00,9,  -999.00,9
      74JC27_1,  SR01,    30,  1, 112158, 112158,2,19980104,0706,-57.7272, -56.6417, -999,    511.7,   2.0200,  34.6690,2,  34.6810,2,   -999.0,9,  1.9910,   -999.0,9,  -999.00,9,  -999.00,9,  -999.00,9,  -999.00,9
      74JC27_1,  SR01,    30,  1, 112157, 112157,2,19980104,0706,-57.7272, -56.6417, -999,    765.5,   1.7110,  34.7140,2,  34.7160,2,   -999.0,9,  1.6680,   -999.0,9,  -999.00,9,  -999.00,9,  -999.00,9,  -999.00,9
      74JC27_1,  SR01,    30,  1, 112156, 112156,2,19980104,0706,-57.7272, -56.6417, -999,   1019.4,   1.5280,  34.7310,2,  34.7290,2,   -999.0,9,  1.4700,   -999.0,9,  -999.00,9,  -999.00,9,  -999.00,9,  -999.00,9
      74JC27_1,  SR01,    30,  1, 112155, 112155,2,19980104,0706,-57.7272, -56.6417, -999,   1522.8,   1.1440,  34.7210,2,  34.7220,2,   -999.0,9,  1.0560,   -999.0,9,  -999.00,9,  -999.00,9,  -999.00,9,  -999.00,9
      74JC27_1,  SR01,    30,  1, 112154, 112154,2,19980104,0706,-57.7272, -56.6417, -999,   2038.9,   0.6910,  34.7070,2,  34.7040,2,   -999.0,9,  0.5720,   -999.0,9,  -999.00,9,  -999.00,9,  -999.00,9,  -999.00,9
      74JC27_1,  SR01,    30,  1, 112153, 112153,2,19980104,0706,-57.7272, -56.6417, -999,   2546.9,   0.4920,  34.7020,2,  34.7030,2,   -999.0,9,  0.3360,   -999.0,9,  -999.00,9,  -999.00,9,  -999.00,9,  -999.00,9
      74JC27_1,  SR01,    30,  1, 112152, 112152,2,19980104,0706,-57.7272, -56.6417, -999,   3054.9,   0.1730,  34.6800,2,  34.6970,3,   -999.0,9, -0.0190,   -999.0,9,  -999.00,9,  -999.00,9,  -999.00,9,  -999.00,9
      74JC27_1,  SR01,    30,  1, 112151, 112151,2,19980104,0706,-57.7272, -56.6417, -999,   3510.2,   0.0000,  34.6690,2,  34.6650,2,   -999.0,9, -0.2290,   -999.0,9,  -999.00,9,  -999.00,9,  -999.00,9,  -999.00,9
      74JC27_1,  SR01,    31,  1, 112170, 112170,2,19980104,1046,-57.5832, -56.7378, -999,     12.7,   1.9080,  33.8400,2,  33.7940,2,   -999.0,9,  1.9070,   -999.0,9,  -999.00,9,  -999.00,9,  -999.00,9,  -999.00,9
      74JC27_1,  SR01,    31,  1, 112169, 112169,2,19980104,1046,-57.5832, -56.7378, -999,    103.0,  -0.6510,  34.0480,2,  33.9450,2,   -999.0,9, -0.6540,   -999.0,9,  -999.00,9,  -999.00,9,  -999.00,9,  -999.00,9
      74JC27_1,  SR01,    31,  1, 112168, 112168,2,19980104,1046,-57.5832, -56.7378, -999,    255.0,   1.8950,  34.4770,2,  34.4210,2,   -999.0,9,  1.8810,   -999.0,9,  -999.00,9,  -999.00,9,  -999.00,9,  -999.00,9
      74JC27_1,  SR01,    31,  1, 112167, 112167,2,19980104,1046,-57.5832, -56.7378, -999,    508.9,   2.0800,  34.6420,2,  34.6330,2,   -999.0,9,  2.0510,   -999.0,9,  -999.00,9,  -999.00,9,  -999.00,9,  -999.00,9
      74JC27_1,  SR01,    31,  1, 112166, 112166,2,19980104,1046,-57.5832, -56.7378, -999,   1015.7,   1.6590,  34.7060,2,  34.7180,2,   -999.0,9,  1.6000,   -999.0,9,  -999.00,9,  -999.00,9,  -999.00,9,  -999.00,9
      74JC27_1,  SR01,    31,  1, 112165, 112165,2,19980104,1046,-57.5832, -56.7378, -999,   1525.3,   1.1830,  34.7090,2,  34.7200,2,   -999.0,9,  1.0940,   -999.0,9,  -999.00,9,  -999.00,9,  -999.00,9,  -999.00,9
      74JC27_1,  SR01,    31,  1, 112164, 112164,2,19980104,1046,-57.5832, -56.7378, -999,   3053.0,   0.2680,  34.6850,2,  34.6840,2,   -999.0,9,  0.0740,   -999.0,9,  -999.00,9,  -999.00,9,  -999.00,9,  -999.00,9
      74JC27_1,  SR01,    31,  1, 112163, 112163,2,19980104,1046,-57.5832, -56.7378, -999,   3362.7,   0.2100,  34.6800,2,  34.6790,2,   -999.0,9, -0.0110,   -999.0,9,  -999.00,9,  -999.00,9,  -999.00,9,  -999.00,9
      74JC27_1,  SR01,    32,  1, 112182, 112182,2,19980104,1448,-57.4267, -56.8172, -999,     15.0,   1.9270,  33.7050,2,  33.7130,2,   -999.0,9,  1.9260,   -999.0,9,  -999.00,9,  -999.00,9,  -999.00,9,  -999.00,9
      74JC27_1,  SR01,    32,  1, 112181, 112181,2,19980104,1448,-57.4267, -56.8172, -999,     55.3,  -0.4470,  33.7560,2,  33.7610,2,   -999.0,9, -0.4480,   -999.0,9,  -999.00,9,  -999.00,9,  -999.00,9,  -999.00,9
      74JC27_1,  SR01,    32,  1, 112180, 112180,2,19980104,1448,-57.4267, -56.8172, -999,    106.0,  -0.7520,  33.9260,2,  33.8590,2,   -999.0,9, -0.7550,   -999.0,9,  -999.00,9,  -999.00,9,  -999.00,9,  -999.00,9
      74JC27_1,  SR01,    32,  1, 112179, 112179,2,19980104,1448,-57.4267, -56.8172, -999,    257.7,   1.5040,  34.3170,2,  34.2880,2,   -999.0,9,  1.4910,   -999.0,9,  -999.00,9,  -999.00,9,  -999.00,9,  -999.00,9
      74JC27_1,  SR01,    32,  1, 112178, 112178,2,19980104,1448,-57.4267, -56.8172, -999,    510.8,   2.1240,  34.5810,2,  34.5620,2,   -999.0,9,  2.0940,   -999.0,9,  -999.00,9,  -999.00,9,  -999.00,9,  -999.00,9
      74JC27_1,  SR01,    32,  1, 112177, 112177,2,19980104,1448,-57.4267, -56.8172, -999,   1015.8,   1.9170,  34.7040,2,  34.7120,2,   -999.0,9,  1.8560,   -999.0,9,  -999.00,9,  -999.00,9,  -999.00,9,  -999.00,9
      74JC27_1,  SR01,    32,  1, 112176, 112176,2,19980104,1448,-57.4267, -56.8172, -999,   1525.5,   1.4470,  34.7210,2,  34.7240,2,   -999.0,9,  1.3550,   -999.0,9,  -999.00,9,  -999.00,9,  -999.00,9,  -999.00,9
      74JC27_1,  SR01,    32,  1, 112175, 112175,2,19980104,1448,-57.4267, -56.8172, -999,   2038.8,   1.0620,  34.7170,2,  34.7170,2,   -999.0,9,  0.9370,   -999.0,9,  -999.00,9,  -999.00,9,  -999.00,9,  -999.00,9
      74JC27_1,  SR01,    32,  1, 112174, 112174,2,19980104,1448,-57.4267, -56.8172, -999,   2553.0,   0.6910,  34.7060,2,  34.7060,2,   -999.0,9,  0.5310,   -999.0,9,  -999.00,9,  -999.00,9,  -999.00,9,  -999.00,9
      74JC27_1,  SR01,    32,  1, 112173, 112173,2,19980104,1448,-57.4267, -56.8172, -999,   3065.2,   0.5900,  34.7000,2,  34.7000,2,   -999.0,9,  0.3870,   -999.0,9,  -999.00,9,  -999.00,9,  -999.00,9,  -999.00,9
      74JC27_1,  SR01,    32,  1, 112172, 112172,2,19980104,1448,-57.4267, -56.8172, -999,   3574.2,   0.4630,  34.6910,2,  34.6880,2,   -999.0,9,  0.2160,   -999.0,9,  -999.00,9,  -999.00,9,  -999.00,9,  -999.00,9
      74JC27_1,  SR01,    32,  1, 112171, 112171,2,19980104,1448,-57.4267, -56.8172, -999,   3928.3,   0.3590,  34.6800,2,  34.6810,2,   -999.0,9,  0.0800,   -999.0,9,  -999.00,9,  -999.00,9,  -999.00,9,  -999.00,9
      74JC27_1,  SR01,    33,  1, 112194, 112194,2,19980104,1939,-57.2532, -56.9368, -999,     13.9,   2.3620,  33.6630,2,  33.6590,2,   -999.0,9,  2.3610,   -999.0,9,  -999.00,9,  -999.00,9,  -999.00,9,  -999.00,9
      74JC27_1,  SR01,    33,  1, 112193, 112193,2,19980104,1939,-57.2532, -56.9368, -999,     54.7,  -0.6510,  33.7070,2,  33.7080,2,   -999.0,9, -0.6530,   -999.0,9,  -999.00,9,  -999.00,9,  -999.00,9,  -999.00,9
      74JC27_1,  SR01,    33,  1, 112192, 112192,2,19980104,1939,-57.2532, -56.9368, -999,    105.7,  -0.8400,  33.8440,2,  33.7780,2,   -999.0,9, -0.8430,   -999.0,9,  -999.00,9,  -999.00,9,  -999.00,9,  -999.00,9
      74JC27_1,  SR01,    33,  1, 112191, 112191,2,19980104,1939,-57.2532, -56.9368, -999,    255.0,   2.0940,  34.2710,2,  34.2210,2,   -999.0,9,  2.0800,   -999.0,9,  -999.00,9,  -999.00,9,  -999.00,9,  -999.00,9
      74JC27_1,  SR01,    33,  1, 112190, 112190,2,19980104,1939,-57.2532, -56.9368, -999,    506.6,   2.3070,  34.5100,2,  34.5090,2,   -999.0,9,  2.2780,   -999.0,9,  -999.00,9,  -999.00,9,  -999.00,9,  -999.00,9
      74JC27_1,  SR01,    33,  1, 112189, 112189,2,19980104,1939,-57.2532, -56.9368, -999,   1012.5,   2.0570,  34.6860,2,  34.6900,2,   -999.0,9,  1.9950,   -999.0,9,  -999.00,9,  -999.00,9,  -999.00,9,  -999.00,9
      74JC27_1,  SR01,    33,  1, 112188, 112188,2,19980104,1939,-57.2532, -56.9368, -999,   1522.6,   1.6080,  34.7190,2,  34.7200,2,   -999.0,9,  1.5140,   -999.0,9,  -999.00,9,  -999.00,9,  -999.00,9,  -999.00,9
      74JC27_1,  SR01,    33,  1, 112187, 112187,2,19980104,1939,-57.2532, -56.9368, -999,   2035.6,   1.2910,  34.7250,2,  34.7250,2,   -999.0,9,  1.1630,   -999.0,9,  -999.00,9,  -999.00,9,  -999.00,9,  -999.00,9
      74JC27_1,  SR01,    33,  1, 112186, 112186,2,19980104,1939,-57.2532, -56.9368, -999,   2548.0,   0.9550,  34.7160,2,  34.7150,2,   -999.0,9,  0.7900,   -999.0,9,  -999.00,9,  -999.00,9,  -999.00,9,  -999.00,9
      74JC27_1,  SR01,    33,  1, 112185, 112185,2,19980104,1939,-57.2532, -56.9368, -999,   3061.4,   0.6640,  34.7050,2,  34.7030,2,   -999.0,9,  0.4600,   -999.0,9,  -999.00,9,  -999.00,9,  -999.00,9,  -999.00,9
      74JC27_1,  SR01,    33,  1, 112184, 112184,2,19980104,1939,-57.2532, -56.9368, -999,   3579.9,   0.5720,  34.6970,2,  34.6950,2,   -999.0,9,  0.3210,   -999.0,9,  -999.00,9,  -999.00,9,  -999.00,9,  -999.00,9
      74JC27_1,  SR01,    33,  1, 112183, 112183,2,19980104,1939,-57.2532, -56.9368, -999,   4027.3,   0.2500,  34.6740,2,  34.6720,2,   -999.0,9, -0.0360,   -999.0,9,  -999.00,9,  -999.00,9,  -999.00,9,  -999.00,9