BOTTLE,20070619WHPSIOdm
EXPOCODE,SECT_ID,STNNBR,CASTNO,SAMPNO,BTLNBR,BTLNBR_FLAG_W,DATE,TIME,LATITUDE,LONGITUDE,DEPTH,CTDPRS,CTDTMP,CTDSAL,CTDSAL_FLAG_W,SALNTY,SALNTY_FLAG_W,CTDOXY,CTDOXY_FLAG_W,THETA,OXYGEN,OXYGEN_FLAG_W,SILCAT,SILCAT_FLAG_W,NITRAT,NITRAT_FLAG_W,NITRIT,NITRIT_FLAG_W,PHSPHT,PHSPHT_FLAG_W
,,,,,,,,,,,,DBAR,DEG C,PSS-78,,PSS-78,,UMOL/KG,,DEG C,UMOL/KG,,UMOL/KG,,UMOL/KG,,UMOL/KG,,UMOL/KG,
      74JC27_1,  SR01,    34,  1, 112206, 112206,2,19980105,0013,-57.0787, -57.0553, -999,     14.4,   2.8730,  33.6780,2,  33.6880,2,   -999.0,9,  2.8720,   -999.0,9,  -999.00,9,  -999.00,9,  -999.00,9,  -999.00,9
      74JC27_1,  SR01,    34,  1, 112205, 112205,2,19980105,0013,-57.0787, -57.0553, -999,    105.8,  -0.1440,  33.9010,2,  33.9200,2,   -999.0,9, -0.1480,   -999.0,9,  -999.00,9,  -999.00,9,  -999.00,9,  -999.00,9
      74JC27_1,  SR01,    34,  1, 112204, 112204,2,19980105,0013,-57.0787, -57.0553, -999,    257.0,   1.7090,  34.1760,2,  34.1100,2,   -999.0,9,  1.6960,   -999.0,9,  -999.00,9,  -999.00,9,  -999.00,9,  -999.00,9
      74JC27_1,  SR01,    34,  1, 112203, 112203,2,19980105,0013,-57.0787, -57.0553, -999,    510.0,   2.4110,  34.4470,2,  34.2940,2,   -999.0,9,  2.3800,   -999.0,9,  -999.00,9,  -999.00,9,  -999.00,9,  -999.00,9
      74JC27_1,  SR01,    34,  1, 112202, 112202,2,19980105,0013,-57.0787, -57.0553, -999,   1019.1,   2.1280,  34.6620,2,  34.6540,2,   -999.0,9,  2.0650,   -999.0,9,  -999.00,9,  -999.00,9,  -999.00,9,  -999.00,9
      74JC27_1,  SR01,    34,  1, 112201, 112201,2,19980105,0013,-57.0787, -57.0553, -999,   1527.9,   1.7460,  34.7080,2,  34.6750,2,   -999.0,9,  1.6500,   -999.0,9,  -999.00,9,  -999.00,9,  -999.00,9,  -999.00,9
      74JC27_1,  SR01,    34,  1, 112200, 112200,2,19980105,0013,-57.0787, -57.0553, -999,   2039.5,   1.3820,  34.7170,2,  34.7150,2,   -999.0,9,  1.2510,   -999.0,9,  -999.00,9,  -999.00,9,  -999.00,9,  -999.00,9
      74JC27_1,  SR01,    34,  1, 112199, 112199,2,19980105,0013,-57.0787, -57.0553, -999,   2554.6,   1.0230,  34.7100,2,  34.7150,2,   -999.0,9,  0.8560,   -999.0,9,  -999.00,9,  -999.00,9,  -999.00,9,  -999.00,9
      74JC27_1,  SR01,    34,  1, 112198, 112198,2,19980105,0013,-57.0787, -57.0553, -999,   3066.0,   0.7320,  34.7000,2,  34.7060,2,   -999.0,9,  0.5260,   -999.0,9,  -999.00,9,  -999.00,9,  -999.00,9,  -999.00,9
      74JC27_1,  SR01,    34,  1, 112197, 112197,2,19980105,0013,-57.0787, -57.0553, -999,   3581.8,   0.4400,  34.6820,2,  34.6880,2,   -999.0,9,  0.1930,   -999.0,9,  -999.00,9,  -999.00,9,  -999.00,9,  -999.00,9
      74JC27_1,  SR01,    34,  1, 112196, 112196,2,19980105,0013,-57.0787, -57.0553, -999,   4097.4,   0.2780,  34.6690,2,  34.7730,3,   -999.0,9, -0.0160,   -999.0,9,  -999.00,9,  -999.00,9,  -999.00,9,  -999.00,9
      74JC27_1,  SR01,    34,  1, 112195, 112195,2,19980105,0013,-57.0787, -57.0553, -999,   4314.0,   0.3000,  34.6680,2,  34.6730,2,   -999.0,9, -0.0180,   -999.0,9,  -999.00,9,  -999.00,9,  -999.00,9,  -999.00,9
      74JC27_1,  SR01,    35,  1, 112218, 112218,2,19980105,0425,-56.9285, -57.1540, -999,      2.8,   3.6980,  33.6900,2,  33.7120,2,   -999.0,9,  3.6970,   -999.0,9,  -999.00,9,  -999.00,9,  -999.00,9,  -999.00,9
      74JC27_1,  SR01,    35,  1, 112217, 112217,2,19980105,0425,-56.9285, -57.1540, -999,     58.4,   0.2550,  33.6800,2,  33.7360,2,   -999.0,9,  0.2530,   -999.0,9,  -999.00,9,  -999.00,9,  -999.00,9,  -999.00,9
      74JC27_1,  SR01,    35,  1, 112216, 112216,2,19980105,0425,-56.9285, -57.1540, -999,    109.6,  -0.3600,  33.8760,2,  33.8980,2,   -999.0,9, -0.3640,   -999.0,9,  -999.00,9,  -999.00,9,  -999.00,9,  -999.00,9
      74JC27_1,  SR01,    35,  1, 112215, 112215,2,19980105,0425,-56.9285, -57.1540, -999,    260.1,   1.5860,  34.1500,2,  34.1360,2,   -999.0,9,  1.5730,   -999.0,9,  -999.00,9,  -999.00,9,  -999.00,9,  -999.00,9
      74JC27_1,  SR01,    35,  1, 112214, 112214,2,19980105,0425,-56.9285, -57.1540, -999,    511.7,   2.3900,  34.4330,2,  34.4370,2,   -999.0,9,  2.3600,   -999.0,9,  -999.00,9,  -999.00,9,  -999.00,9,  -999.00,9
      74JC27_1,  SR01,    35,  1, 112213, 112213,2,19980105,0425,-56.9285, -57.1540, -999,   1019.7,   2.1480,  34.6610,2,  34.6580,2,   -999.0,9,  2.0850,   -999.0,9,  -999.00,9,  -999.00,9,  -999.00,9,  -999.00,9
      74JC27_1,  SR01,    35,  1, 112212, 112212,2,19980105,0425,-56.9285, -57.1540, -999,   1532.0,   1.8090,  34.7180,2,  34.7210,2,   -999.0,9,  1.7120,   -999.0,9,  -999.00,9,  -999.00,9,  -999.00,9,  -999.00,9
      74JC27_1,  SR01,    35,  1, 112211, 112211,2,19980105,0425,-56.9285, -57.1540, -999,   2043.8,   1.4000,  34.7220,2,  34.7240,2,   -999.0,9,  1.2690,   -999.0,9,  -999.00,9,  -999.00,9,  -999.00,9,  -999.00,9
      74JC27_1,  SR01,    35,  1, 112210, 112210,2,19980105,0425,-56.9285, -57.1540, -999,   2556.5,   1.0610,  34.7170,2,  34.7190,2,   -999.0,9,  0.8930,   -999.0,9,  -999.00,9,  -999.00,9,  -999.00,9,  -999.00,9
      74JC27_1,  SR01,    35,  1, 112209, 112209,2,19980105,0425,-56.9285, -57.1540, -999,   3069.8,   0.7780,  34.7080,2,  34.7060,2,   -999.0,9,  0.5710,   -999.0,9,  -999.00,9,  -999.00,9,  -999.00,9,  -999.00,9
      74JC27_1,  SR01,    35,  1, 112208, 112208,2,19980105,0425,-56.9285, -57.1540, -999,   3585.0,   0.5880,  34.6980,2,  34.6960,2,   -999.0,9,  0.3370,   -999.0,9,  -999.00,9,  -999.00,9,  -999.00,9,  -999.00,9
      74JC27_1,  SR01,    35,  1, 112207, 112207,2,19980105,0425,-56.9285, -57.1540, -999,   4017.0,   0.4810,  34.6890,2,  34.6880,2,   -999.0,9,  0.1890,   -999.0,9,  -999.00,9,  -999.00,9,  -999.00,9,  -999.00,9
      74JC27_1,  SR01,    36,  1, 112230, 112230,2,19980105,0820,-56.7818, -57.2417, -999,     17.3,   3.2230,  33.7170,2,  33.7400,2,   -999.0,9,  3.2220,   -999.0,9,  -999.00,9,  -999.00,9,  -999.00,9,  -999.00,9
      74JC27_1,  SR01,    36,  1, 112229, 112229,2,19980105,0820,-56.7818, -57.2417, -999,     57.6,   0.6480,  33.8720,2,  33.9070,2,   -999.0,9,  0.6450,   -999.0,9,  -999.00,9,  -999.00,9,  -999.00,9,  -999.00,9
      74JC27_1,  SR01,    36,  1, 112228, 112228,2,19980105,0820,-56.7818, -57.2417, -999,    107.4,   1.2700,  33.9970,2,  33.9790,2,   -999.0,9,  1.2660,   -999.0,9,  -999.00,9,  -999.00,9,  -999.00,9,  -999.00,9
      74JC27_1,  SR01,    36,  1, 112227, 112227,2,19980105,0820,-56.7818, -57.2417, -999,    257.4,   1.6500,  34.1140,2,  34.1120,2,   -999.0,9,  1.6370,   -999.0,9,  -999.00,9,  -999.00,9,  -999.00,9,  -999.00,9
      74JC27_1,  SR01,    36,  1, 112226, 112226,2,19980105,0820,-56.7818, -57.2417, -999,    508.6,   2.4200,  34.4060,2,  34.4180,2,   -999.0,9,  2.3900,   -999.0,9,  -999.00,9,  -999.00,9,  -999.00,9,  -999.00,9
      74JC27_1,  SR01,    36,  1, 112225, 112225,2,19980105,0820,-56.7818, -57.2417, -999,    762.7,   2.3130,  34.5520,2,  34.5600,2,   -999.0,9,  2.2670,   -999.0,9,  -999.00,9,  -999.00,9,  -999.00,9,  -999.00,9
      74JC27_1,  SR01,    36,  1, 112224, 112224,2,19980105,0820,-56.7818, -57.2417, -999,   1016.4,   2.1820,  34.6520,2,  34.6500,2,   -999.0,9,  2.1190,   -999.0,9,  -999.00,9,  -999.00,9,  -999.00,9,  -999.00,9
      74JC27_1,  SR01,    36,  1, 112223, 112223,2,19980105,0820,-56.7818, -57.2417, -999,   1525.9,   1.7740,  34.7130,2,  34.7140,2,   -999.0,9,  1.6780,   -999.0,9,  -999.00,9,  -999.00,9,  -999.00,9,  -999.00,9
      74JC27_1,  SR01,    36,  1, 112222, 112222,2,19980105,0820,-56.7818, -57.2417, -999,   2038.4,   1.3780,  34.7260,2,  34.7260,2,   -999.0,9,  1.2470,   -999.0,9,  -999.00,9,  -999.00,9,  -999.00,9,  -999.00,9
      74JC27_1,  SR01,    36,  1, 112221, 112221,2,19980105,0820,-56.7818, -57.2417, -999,   2552.0,   1.0900,  34.7190,2,  34.7170,2,   -999.0,9,  0.9220,   -999.0,9,  -999.00,9,  -999.00,9,  -999.00,9,  -999.00,9
      74JC27_1,  SR01,    36,  1, 112220, 112220,2,19980105,0820,-56.7818, -57.2417, -999,   3062.7,   0.8470,  34.7100,2,  34.7090,2,   -999.0,9,  0.6390,   -999.0,9,  -999.00,9,  -999.00,9,  -999.00,9,  -999.00,9
      74JC27_1,  SR01,    36,  1, 112219, 112219,2,19980105,0820,-56.7818, -57.2417, -999,   3136.8,   0.7480,  34.7070,2,  34.7060,2,   -999.0,9,  0.5350,   -999.0,9,  -999.00,9,  -999.00,9,  -999.00,9,  -999.00,9
      74JC27_1,  SR01,    37,  1, 112242, 112242,2,19980105,1212,-56.6188, -57.3337, -999,     14.2,   3.7200,  33.7570,2,  33.7820,2,   -999.0,9,  3.7190,   -999.0,9,  -999.00,9,  -999.00,9,  -999.00,9,  -999.00,9
      74JC27_1,  SR01,    37,  1, 112241, 112241,2,19980105,1212,-56.6188, -57.3337, -999,    104.9,   1.0220,  33.9610,2,  33.9700,2,   -999.0,9,  1.0170,   -999.0,9,  -999.00,9,  -999.00,9,  -999.00,9,  -999.00,9
      74JC27_1,  SR01,    37,  1, 112240, 112240,2,19980105,1212,-56.6188, -57.3337, -999,    256.5,   1.2450,  34.0600,2,  34.0130,2,   -999.0,9,  1.2330,   -999.0,9,  -999.00,9,  -999.00,9,  -999.00,9,  -999.00,9
      74JC27_1,  SR01,    37,  1, 112239, 112239,2,19980105,1212,-56.6188, -57.3337, -999,    512.4,   2.6040,  34.3830,2,  34.3630,2,   -999.0,9,  2.5730,   -999.0,9,  -999.00,9,  -999.00,9,  -999.00,9,  -999.00,9
      74JC27_1,  SR01,    37,  1, 112238, 112238,2,19980105,1212,-56.6188, -57.3337, -999,   1019.7,   2.2230,  34.6400,2,  34.6350,2,   -999.0,9,  2.1600,   -999.0,9,  -999.00,9,  -999.00,9,  -999.00,9,  -999.00,9
      74JC27_1,  SR01,    37,  1, 112237, 112237,2,19980105,1212,-56.6188, -57.3337, -999,   1528.5,   1.9010,  34.7110,2,  34.7100,2,   -999.0,9,  1.8030,   -999.0,9,  -999.00,9,  -999.00,9,  -999.00,9,  -999.00,9
      74JC27_1,  SR01,    37,  1, 112236, 112236,2,19980105,1212,-56.6188, -57.3337, -999,   2040.6,   1.4610,  34.7300,2,  34.7280,2,   -999.0,9,  1.3290,   -999.0,9,  -999.00,9,  -999.00,9,  -999.00,9,  -999.00,9
      74JC27_1,  SR01,    37,  1, 112235, 112235,2,19980105,1212,-56.6188, -57.3337, -999,   2551.1,   1.1170,  34.7220,2,  34.7200,2,   -999.0,9,  0.9490,   -999.0,9,  -999.00,9,  -999.00,9,  -999.00,9,  -999.00,9
      74JC27_1,  SR01,    37,  1, 112234, 112234,2,19980105,1212,-56.6188, -57.3337, -999,   3067.0,   0.9320,  34.7150,2,  34.7140,2,   -999.0,9,  0.7210,   -999.0,9,  -999.00,9,  -999.00,9,  -999.00,9,  -999.00,9
      74JC27_1,  SR01,    37,  1, 112233, 112233,2,19980105,1212,-56.6188, -57.3337, -999,   3581.4,   0.7570,  34.7060,2,  34.7050,2,   -999.0,9,  0.5020,   -999.0,9,  -999.00,9,  -999.00,9,  -999.00,9,  -999.00,9
      74JC27_1,  SR01,    37,  1, 112232, 112232,2,19980105,1212,-56.6188, -57.3337, -999,   4097.1,   0.6390,  34.6970,2,  34.6960,2,   -999.0,9,  0.3350,   -999.0,9,  -999.00,9,  -999.00,9,  -999.00,9,  -999.00,9
      74JC27_1,  SR01,    37,  1, 112231, 112231,2,19980105,1212,-56.6188, -57.3337, -999,   4212.8,   0.6170,  34.6940,2,  34.6940,2,   -999.0,9,  0.3010,   -999.0,9,  -999.00,9,  -999.00,9,  -999.00,9,  -999.00,9
      74JC27_1,  SR01,    38,  1, 112254, 112254,2,19980105,1623,-56.4580, -57.4312, -999,     15.5,   5.0270,  33.9450,2,  33.9570,2,   -999.0,9,  5.0260,   -999.0,9,  -999.00,9,  -999.00,9,  -999.00,9,  -999.00,9
      74JC27_1,  SR01,    38,  1, 112253, 112253,2,19980105,1623,-56.4580, -57.4312, -999,     31.0,   4.9360,  33.9510,2,  33.9690,2,   -999.0,9,  4.9330,   -999.0,9,  -999.00,9,  -999.00,9,  -999.00,9,  -999.00,9
      74JC27_1,  SR01,    38,  1, 112252, 112252,2,19980105,1623,-56.4580, -57.4312, -999,     55.5,   4.3630,  34.0070,2,  33.9380,2,   -999.0,9,  4.3590,   -999.0,9,  -999.00,9,  -999.00,9,  -999.00,9,  -999.00,9
      74JC27_1,  SR01,    38,  1, 112251, 112251,2,19980105,1623,-56.4580, -57.4312, -999,    208.7,   2.1830,  34.1070,2,  34.0190,2,   -999.0,9,  2.1720,   -999.0,9,  -999.00,9,  -999.00,9,  -999.00,9,  -999.00,9
      74JC27_1,  SR01,    38,  1, 112250, 112250,2,19980105,1623,-56.4580, -57.4312, -999,    258.8,   1.4530,  34.0380,2,  34.0760,2,   -999.0,9,  1.4410,   -999.0,9,  -999.00,9,  -999.00,9,  -999.00,9,  -999.00,9
      74JC27_1,  SR01,    38,  1, 112249, 112249,2,19980105,1623,-56.4580, -57.4312, -999,    511.5,   2.7170,  34.3400,2,  34.2920,2,   -999.0,9,  2.6860,   -999.0,9,  -999.00,9,  -999.00,9,  -999.00,9,  -999.00,9
      74JC27_1,  SR01,    38,  1, 112248, 112248,2,19980105,1623,-56.4580, -57.4312, -999,   1274.1,   2.1710,  34.6580,2,  34.6570,2,   -999.0,9,  2.0900,   -999.0,9,  -999.00,9,  -999.00,9,  -999.00,9,  -999.00,9
      74JC27_1,  SR01,    38,  1, 112247, 112247,2,19980105,1623,-56.4580, -57.4312, -999,   1528.7,   2.0380,  34.6940,2,  34.7010,2,   -999.0,9,  1.9390,   -999.0,9,  -999.00,9,  -999.00,9,  -999.00,9,  -999.00,9
      74JC27_1,  SR01,    38,  1, 112246, 112246,2,19980105,1623,-56.4580, -57.4312, -999,   2545.7,   1.3650,  34.7240,2,  34.7260,2,   -999.0,9,  1.1930,   -999.0,9,  -999.00,9,  -999.00,9,  -999.00,9,  -999.00,9
      74JC27_1,  SR01,    38,  1, 112245, 112245,2,19980105,1623,-56.4580, -57.4312, -999,   3052.4,   0.8690,  34.7110,2,  34.7100,2,   -999.0,9,  0.6620,   -999.0,9,  -999.00,9,  -999.00,9,  -999.00,9,  -999.00,9
      74JC27_1,  SR01,    38,  1, 112244, 112244,2,19980105,1623,-56.4580, -57.4312, -999,   3560.3,   0.6620,  34.7010,2,  34.6290,3,   -999.0,9,  0.4110,   -999.0,9,  -999.00,9,  -999.00,9,  -999.00,9,  -999.00,9
      74JC27_1,  SR01,    38,  1, 112243, 112243,2,19980105,1623,-56.4580, -57.4312, -999,   3755.9,   0.5790,  34.6960,2,  34.6950,2,   -999.0,9,  0.3110,   -999.0,9,  -999.00,9,  -999.00,9,  -999.00,9,  -999.00,9
      74JC27_1,  SR01,    39,  1, 112265, 112265,2,19980105,2035,-56.2887, -57.5280, -999,     14.8,   5.9520,  34.0950,2,  34.0790,2,   -999.0,9,  5.9510,   -999.0,9,  -999.00,9,  -999.00,9,  -999.00,9,  -999.00,9
      74JC27_1,  SR01,    39,  1, 112264, 112264,2,19980105,2035,-56.2887, -57.5280, -999,     54.9,   5.5230,  34.1130,2,  34.1190,2,   -999.0,9,  5.5190,   -999.0,9,  -999.00,9,  -999.00,9,  -999.00,9,  -999.00,9
      74JC27_1,  SR01,    39,  1, 112263, 112263,2,19980105,2035,-56.2887, -57.5280, -999,    105.6,   4.2210,  34.1590,2,  34.1610,2,   -999.0,9,  4.2140,   -999.0,9,  -999.00,9,  -999.00,9,  -999.00,9,  -999.00,9
      74JC27_1,  SR01,    39,  1, 112262, 112262,2,19980105,2035,-56.2887, -57.5280, -999,    257.4,   3.1930,  34.1260,2,  34.0910,2,   -999.0,9,  3.1760,   -999.0,9,  -999.00,9,  -999.00,9,  -999.00,9,  -999.00,9
      74JC27_1,  SR01,    39,  1, 112261, 112261,2,19980105,2035,-56.2887, -57.5280, -999,    757.7,   2.6560,  34.4330,2,  34.4260,2,   -999.0,9,  2.6080,   -999.0,9,  -999.00,9,  -999.00,9,  -999.00,9,  -999.00,9
      74JC27_1,  SR01,    39,  1, 112260, 112260,2,19980105,2035,-56.2887, -57.5280, -999,    990.9,   2.4740,  34.5440,2,  34.5390,2,   -999.0,9,  2.4110,   -999.0,9,  -999.00,9,  -999.00,9,  -999.00,9,  -999.00,9
      74JC27_1,  SR01,    39,  1, 112259, 112259,2,19980105,2035,-56.2887, -57.5280, -999,   1469.3,   2.1650,  34.6580,2,  34.6610,2,   -999.0,9,  2.0690,   -999.0,9,  -999.00,9,  -999.00,9,  -999.00,9,  -999.00,9
      74JC27_1,  SR01,    39,  1, 112258, 112258,2,19980105,2035,-56.2887, -57.5280, -999,   1970.7,   1.8330,  34.7100,2,  34.7100,2,   -999.0,9,  1.7020,   -999.0,9,  -999.00,9,  -999.00,9,  -999.00,9,  -999.00,9
      74JC27_1,  SR01,    39,  1, 112257, 112257,2,19980105,2035,-56.2887, -57.5280, -999,   2482.5,   1.4520,  34.7240,2,  34.7240,2,   -999.0,9,  1.2830,   -999.0,9,  -999.00,9,  -999.00,9,  -999.00,9,  -999.00,9
      74JC27_1,  SR01,    39,  1, 112256, 112256,2,19980105,2035,-56.2887, -57.5280, -999,   3007.8,   1.0640,  34.7170,2,  34.7180,2,   -999.0,9,  0.8560,   -999.0,9,  -999.00,9,  -999.00,9,  -999.00,9,  -999.00,9
      74JC27_1,  SR01,    39,  1, 112255, 112255,2,19980105,2035,-56.2887, -57.5280, -999,   3274.5,   0.8960,  34.7110,2,  34.7110,2,   -999.0,9,  0.6670,   -999.0,9,  -999.00,9,  -999.00,9,  -999.00,9,  -999.00,9
      74JC27_1,  SR01,    40,  1, 112274, 112274,2,19980106,0021,-56.1222, -57.6407, -999,     35.1,   5.9760,  34.1420,2,  34.1440,2,   -999.0,9,  5.9730,   -999.0,9,  -999.00,9,  -999.00,9,  -999.00,9,  -999.00,9
      74JC27_1,  SR01,    40,  1, 112273, 112273,2,19980106,0021,-56.1222, -57.6407, -999,     84.8,   5.2370,  34.1660,2,  34.1660,2,   -999.0,9,  5.2310,   -999.0,9,  -999.00,9,  -999.00,9,  -999.00,9,  -999.00,9
      74JC27_1,  SR01,    40,  1, 112272, 112272,2,19980106,0021,-56.1222, -57.6407, -999,    161.5,   4.2090,  34.1690,2,  34.1600,2,   -999.0,9,  4.1970,   -999.0,9,  -999.00,9,  -999.00,9,  -999.00,9,  -999.00,9
      74JC27_1,  SR01,    40,  1, 112271, 112271,2,19980106,0021,-56.1222, -57.6407, -999,    514.2,   2.4180,  34.1500,2,  34.1310,2,   -999.0,9,  2.3880,   -999.0,9,  -999.00,9,  -999.00,9,  -999.00,9,  -999.00,9
      74JC27_1,  SR01,    40,  1, 112270, 112270,2,19980106,0021,-56.1222, -57.6407, -999,   1278.4,   2.3610,  34.5950,2,  34.5830,2,   -999.0,9,  2.2770,   -999.0,9,  -999.00,9,  -999.00,9,  -999.00,9,  -999.00,9
      74JC27_1,  SR01,    40,  1, 112269, 112269,2,19980106,0021,-56.1222, -57.6407, -999,   2039.6,   1.8890,  34.7160,2,  34.7050,2,   -999.0,9,  1.7510,   -999.0,9,  -999.00,9,  -999.00,9,  -999.00,9,  -999.00,9
      74JC27_1,  SR01,    40,  1, 112268, 112268,2,19980106,0021,-56.1222, -57.6407, -999,   2547.3,   1.5830,  34.7350,2,  34.7250,2,   -999.0,9,  1.4060,   -999.0,9,  -999.00,9,  -999.00,9,  -999.00,9,  -999.00,9
      74JC27_1,  SR01,    40,  1, 112267, 112267,2,19980106,0021,-56.1222, -57.6407, -999,   3064.3,   1.2250,  34.7320,2,  34.7220,2,   -999.0,9,  1.0080,   -999.0,9,  -999.00,9,  -999.00,9,  -999.00,9,  -999.00,9
      74JC27_1,  SR01,    40,  1, 112266, 112266,2,19980106,0021,-56.1222, -57.6407, -999,   3665.5,   0.6930,  34.7000,2,  34.7000,2,   -999.0,9,  0.4310,   -999.0,9,  -999.00,9,  -999.00,9,  -999.00,9,  -999.00,9