BOTTLE,20070619WHPSIOdm
EXPOCODE,SECT_ID,STNNBR,CASTNO,SAMPNO,BTLNBR,BTLNBR_FLAG_W,DATE,TIME,LATITUDE,LONGITUDE,DEPTH,CTDPRS,CTDTMP,CTDSAL,CTDSAL_FLAG_W,SALNTY,SALNTY_FLAG_W,CTDOXY,CTDOXY_FLAG_W,THETA,OXYGEN,OXYGEN_FLAG_W,SILCAT,SILCAT_FLAG_W,NITRAT,NITRAT_FLAG_W,NITRIT,NITRIT_FLAG_W,PHSPHT,PHSPHT_FLAG_W
,,,,,,,,,,,,DBAR,DEG C,PSS-78,,PSS-78,,UMOL/KG,,DEG C,UMOL/KG,,UMOL/KG,,UMOL/KG,,UMOL/KG,,UMOL/KG,
      74JC27_1,  SR01,    11,  1, 111955, 111955,2,19971231,0858,-60.5002, -54.9448, -999,      8.2,   0.6720,  33.8480,2,  33.8680,2,   -999.0,9,  0.6710,   -999.0,9,  -999.00,9,  -999.00,9,  -999.00,9,  -999.00,9
      74JC27_1,  SR01,    11,  1, 111954, 111954,2,19971231,0858,-60.5002, -54.9448, -999,     49.2,  -0.3070,  33.9170,2,  33.9560,2,   -999.0,9, -0.3080,   -999.0,9,  -999.00,9,  -999.00,9,  -999.00,9,  -999.00,9
      74JC27_1,  SR01,    11,  1, 111953, 111953,2,19971231,0858,-60.5002, -54.9448, -999,     99.7,  -0.7280,  34.1150,2,  34.1330,2,   -999.0,9, -0.7300,   -999.0,9,  -999.00,9,  -999.00,9,  -999.00,9,  -999.00,9
      74JC27_1,  SR01,    11,  1, 111952, 111952,2,19971231,0858,-60.5002, -54.9448, -999,    251.1,   1.5200,  34.5770,2,  34.5960,2,   -999.0,9,  1.5080,   -999.0,9,  -999.00,9,  -999.00,9,  -999.00,9,  -999.00,9
      74JC27_1,  SR01,    11,  1, 111951, 111951,2,19971231,0858,-60.5002, -54.9448, -999,    505.1,   1.7870,  34.7050,2,  34.7080,2,   -999.0,9,  1.7600,   -999.0,9,  -999.00,9,  -999.00,9,  -999.00,9,  -999.00,9
      74JC27_1,  SR01,    11,  1, 111950, 111950,2,19971231,0858,-60.5002, -54.9448, -999,    756.1,   1.5540,  34.7230,2,  34.7250,2,   -999.0,9,  1.5130,   -999.0,9,  -999.00,9,  -999.00,9,  -999.00,9,  -999.00,9
      74JC27_1,  SR01,    11,  1, 111949, 111949,2,19971231,0858,-60.5002, -54.9448, -999,   1000.2,   1.3130,  34.7250,2,  34.7270,2,   -999.0,9,  1.2580,   -999.0,9,  -999.00,9,  -999.00,9,  -999.00,9,  -999.00,9
      74JC27_1,  SR01,    11,  1, 111948, 111948,2,19971231,0858,-60.5002, -54.9448, -999,   1514.7,   0.8040,  34.7000,2,  34.6810,2,   -999.0,9,  0.7210,   -999.0,9,  -999.00,9,  -999.00,9,  -999.00,9,  -999.00,9
      74JC27_1,  SR01,    11,  1, 111947, 111947,2,19971231,0858,-60.5002, -54.9448, -999,   2018.1,   0.4970,  34.6930,2,  34.6930,2,   -999.0,9,  0.3820,   -999.0,9,  -999.00,9,  -999.00,9,  -999.00,9,  -999.00,9
      74JC27_1,  SR01,    11,  1, 111946, 111946,2,19971231,0858,-60.5002, -54.9448, -999,   2547.0,   0.3060,  34.6870,2,  34.6750,2,   -999.0,9,  0.1530,   -999.0,9,  -999.00,9,  -999.00,9,  -999.00,9,  -999.00,9
      74JC27_1,  SR01,    11,  1, 111945, 111945,2,19971231,0858,-60.5002, -54.9448, -999,   3059.8,   0.0880,  34.6690,2,  34.6680,2,   -999.0,9, -0.1030,   -999.0,9,  -999.00,9,  -999.00,9,  -999.00,9,  -999.00,9
      74JC27_1,  SR01,    12,  1, 111966, 111966,2,19971231,1250,-60.3328, -55.0473, -999,      8.5,   0.7490,  33.8550,2,  33.9210,2,   -999.0,9,  0.7490,   -999.0,9,  -999.00,9,  -999.00,9,  -999.00,9,  -999.00,9
      74JC27_1,  SR01,    12,  1, 111965, 111965,2,19971231,1250,-60.3328, -55.0473, -999,     49.1,   0.2230,  33.9770,2,  34.0300,2,   -999.0,9,  0.2220,   -999.0,9,  -999.00,9,  -999.00,9,  -999.00,9,  -999.00,9
      74JC27_1,  SR01,    12,  1, 111964, 111964,2,19971231,1250,-60.3328, -55.0473, -999,    200.9,   0.1700,  34.4360,2,  34.4310,2,   -999.0,9,  0.1620,   -999.0,9,  -999.00,9,  -999.00,9,  -999.00,9,  -999.00,9
      74JC27_1,  SR01,    12,  1, 111963, 111963,2,19971231,1250,-60.3328, -55.0473, -999,    251.5,   1.4490,  34.5880,2,  34.5780,2,   -999.0,9,  1.4360,   -999.0,9,  -999.00,9,  -999.00,9,  -999.00,9,  -999.00,9
      74JC27_1,  SR01,    12,  1, 111962, 111962,2,19971231,1250,-60.3328, -55.0473, -999,    505.1,   1.7490,  34.6990,2,  34.6980,2,   -999.0,9,  1.7220,   -999.0,9,  -999.00,9,  -999.00,9,  -999.00,9,  -999.00,9
      74JC27_1,  SR01,    12,  1, 111961, 111961,2,19971231,1250,-60.3328, -55.0473, -999,    758.8,   1.5540,  34.7220,2,  34.7180,2,   -999.0,9,  1.5120,   -999.0,9,  -999.00,9,  -999.00,9,  -999.00,9,  -999.00,9
      74JC27_1,  SR01,    12,  1, 111960, 111960,2,19971231,1250,-60.3328, -55.0473, -999,   1268.9,   0.9520,  34.7090,2,  34.7130,2,   -999.0,9,  0.8830,   -999.0,9,  -999.00,9,  -999.00,9,  -999.00,9,  -999.00,9
      74JC27_1,  SR01,    12,  1, 111959, 111959,2,19971231,1250,-60.3328, -55.0473, -999,   2034.3,   0.4750,  34.6940,2,  34.6970,2,   -999.0,9,  0.3590,   -999.0,9,  -999.00,9,  -999.00,9,  -999.00,9,  -999.00,9
      74JC27_1,  SR01,    12,  1, 111958, 111958,2,19971231,1250,-60.3328, -55.0473, -999,   2543.4,   0.1780,  34.6750,2,  34.6760,2,   -999.0,9,  0.0280,   -999.0,9,  -999.00,9,  -999.00,9,  -999.00,9,  -999.00,9
      74JC27_1,  SR01,    12,  1, 111957, 111957,2,19971231,1250,-60.3328, -55.0473, -999,   3061.5,  -0.0020,  34.6650,2,  34.6630,2,   -999.0,9, -0.1900,   -999.0,9,  -999.00,9,  -999.00,9,  -999.00,9,  -999.00,9
      74JC27_1,  SR01,    12,  1, 111956, 111956,2,19971231,1250,-60.3328, -55.0473, -999,   3483.0,  -0.1050,  34.6600,2,  34.6580,2,   -999.0,9, -0.3290,   -999.0,9,  -999.00,9,  -999.00,9,  -999.00,9,  -999.00,9
      74JC27_1,  SR01,    13,  1, 111978, 111978,2,19971231,1649,-60.1648, -55.1525, -999,      7.8,   0.9820,  33.9040,2,  33.8970,2,   -999.0,9,  0.9820,   -999.0,9,  -999.00,9,  -999.00,9,  -999.00,9,  -999.00,9
      74JC27_1,  SR01,    13,  1, 111977, 111977,2,19971231,1649,-60.1648, -55.1525, -999,     48.1,  -0.0040,  33.9590,2,  33.9610,2,   -999.0,9, -0.0060,   -999.0,9,  -999.00,9,  -999.00,9,  -999.00,9,  -999.00,9
      74JC27_1,  SR01,    13,  1, 111976, 111976,2,19971231,1649,-60.1648, -55.1525, -999,     98.7,  -0.4880,  34.1950,2,  34.1970,2,   -999.0,9, -0.4910,   -999.0,9,  -999.00,9,  -999.00,9,  -999.00,9,  -999.00,9
      74JC27_1,  SR01,    13,  1, 111975, 111975,2,19971231,1649,-60.1648, -55.1525, -999,    250.1,   1.5560,  34.5920,2,  34.6110,2,   -999.0,9,  1.5430,   -999.0,9,  -999.00,9,  -999.00,9,  -999.00,9,  -999.00,9
      74JC27_1,  SR01,    13,  1, 111974, 111974,2,19971231,1649,-60.1648, -55.1525, -999,    502.0,   1.6300,  34.6950,2,  34.7100,2,   -999.0,9,  1.6030,   -999.0,9,  -999.00,9,  -999.00,9,  -999.00,9,  -999.00,9
      74JC27_1,  SR01,    13,  1, 111973, 111973,2,19971231,1649,-60.1648, -55.1525, -999,    753.9,   1.4950,  34.7210,2,  34.7270,2,   -999.0,9,  1.4540,   -999.0,9,  -999.00,9,  -999.00,9,  -999.00,9,  -999.00,9
      74JC27_1,  SR01,    13,  1, 111972, 111972,2,19971231,1649,-60.1648, -55.1525, -999,   1006.0,   1.2500,  34.7220,2,  34.7270,2,   -999.0,9,  1.1960,   -999.0,9,  -999.00,9,  -999.00,9,  -999.00,9,  -999.00,9
      74JC27_1,  SR01,    13,  1, 111971, 111971,2,19971231,1649,-60.1648, -55.1525, -999,   1515.8,   0.6720,  34.6910,2,  34.6930,2,   -999.0,9,  0.5900,   -999.0,9,  -999.00,9,  -999.00,9,  -999.00,9,  -999.00,9
      74JC27_1,  SR01,    13,  1, 111970, 111970,2,19971231,1649,-60.1648, -55.1525, -999,   2026.7,   0.5110,  34.7000,2,  34.7010,2,   -999.0,9,  0.3960,   -999.0,9,  -999.00,9,  -999.00,9,  -999.00,9,  -999.00,9
      74JC27_1,  SR01,    13,  1, 111969, 111969,2,19971231,1649,-60.1648, -55.1525, -999,   2538.9,   0.2070,  34.6790,2,  34.6760,2,   -999.0,9,  0.0580,   -999.0,9,  -999.00,9,  -999.00,9,  -999.00,9,  -999.00,9
      74JC27_1,  SR01,    13,  1, 111968, 111968,2,19971231,1649,-60.1648, -55.1525, -999,   3051.9,   0.0160,  34.6660,2,  34.6650,2,   -999.0,9, -0.1730,   -999.0,9,  -999.00,9,  -999.00,9,  -999.00,9,  -999.00,9
      74JC27_1,  SR01,    13,  1, 111967, 111967,2,19971231,1649,-60.1648, -55.1525, -999,   3467.9,  -0.1280,  34.6590,2,  34.6580,2,   -999.0,9, -0.3490,   -999.0,9,  -999.00,9,  -999.00,9,  -999.00,9,  -999.00,9
      74JC27_1,  SR01,    14,  1, 111989, 111989,2,19971231,2054,-59.9962, -55.2428, -999,      9.6,   1.3790,  33.8570,2,  33.8700,2,   -999.0,9,  1.3790,   -999.0,9,  -999.00,9,  -999.00,9,  -999.00,9,  -999.00,9
      74JC27_1,  SR01,    14,  1, 111988, 111988,2,19971231,2054,-59.9962, -55.2428, -999,     49.8,  -0.7110,  33.9240,2,  33.9040,2,   -999.0,9, -0.7130,   -999.0,9,  -999.00,9,  -999.00,9,  -999.00,9,  -999.00,9
      74JC27_1,  SR01,    14,  1, 111987, 111987,2,19971231,2054,-59.9962, -55.2428, -999,     99.7,  -0.4680,  34.1410,2,  34.1000,2,   -999.0,9, -0.4710,   -999.0,9,  -999.00,9,  -999.00,9,  -999.00,9,  -999.00,9
      74JC27_1,  SR01,    14,  1, 111986, 111986,2,19971231,2054,-59.9962, -55.2428, -999,    250.4,   1.8650,  34.6050,2,  34.5280,2,   -999.0,9,  1.8520,   -999.0,9,  -999.00,9,  -999.00,9,  -999.00,9,  -999.00,9
      74JC27_1,  SR01,    14,  1, 111985, 111985,2,19971231,2054,-59.9962, -55.2428, -999,    495.4,   1.7380,  34.6940,2,  34.6900,2,   -999.0,9,  1.7110,   -999.0,9,  -999.00,9,  -999.00,9,  -999.00,9,  -999.00,9
      74JC27_1,  SR01,    14,  1, 111984, 111984,2,19971231,2054,-59.9962, -55.2428, -999,   1403.6,   0.8880,  34.7090,2,  34.7040,2,   -999.0,9,  0.8110,   -999.0,9,  -999.00,9,  -999.00,9,  -999.00,9,  -999.00,9
      74JC27_1,  SR01,    14,  1, 111983, 111983,2,19971231,2054,-59.9962, -55.2428, -999,   1709.6,   0.6200,  34.6900,2,  34.6930,2,   -999.0,9,  0.5260,   -999.0,9,  -999.00,9,  -999.00,9,  -999.00,9,  -999.00,9
      74JC27_1,  SR01,    14,  1, 111982, 111982,2,19971231,2054,-59.9962, -55.2428, -999,   1973.0,   0.5610,  34.6970,2,  34.7030,2,   -999.0,9,  0.4480,   -999.0,9,  -999.00,9,  -999.00,9,  -999.00,9,  -999.00,9
      74JC27_1,  SR01,    14,  1, 111981, 111981,2,19971231,2054,-59.9962, -55.2428, -999,   2489.5,   0.3010,  34.6850,2,  34.6860,2,   -999.0,9,  0.1540,   -999.0,9,  -999.00,9,  -999.00,9,  -999.00,9,  -999.00,9
      74JC27_1,  SR01,    14,  1, 111980, 111980,2,19971231,2054,-59.9962, -55.2428, -999,   3526.6,  -0.1260,  34.6590,2,  34.6590,2,   -999.0,9, -0.3530,   -999.0,9,  -999.00,9,  -999.00,9,  -999.00,9,  -999.00,9
      74JC27_1,  SR01,    14,  1, 111979, 111979,2,19971231,2054,-59.9962, -55.2428, -999,   3547.3,  -0.1240,  34.6590,2,  34.6570,2,   -999.0,9, -0.3530,   -999.0,9,  -999.00,9,  -999.00,9,  -999.00,9,  -999.00,9
      74JC27_1,  SR01,    15,  1, 112001, 112001,2,19980101,0058,-59.8263, -55.3498, -999,      8.8,   1.2280,  33.8300,2,  33.8270,2,   -999.0,9,  1.2270,   -999.0,9,  -999.00,9,  -999.00,9,  -999.00,9,  -999.00,9
      74JC27_1,  SR01,    15,  1, 112000, 112000,2,19980101,0058,-59.8263, -55.3498, -999,     48.2,  -0.8150,  33.9260,2,  33.8710,2,   -999.0,9, -0.8160,   -999.0,9,  -999.00,9,  -999.00,9,  -999.00,9,  -999.00,9
      74JC27_1,  SR01,    15,  1, 111999, 111999,2,19980101,0058,-59.8263, -55.3498, -999,     99.4,  -0.1120,  34.1980,2,  34.1380,2,   -999.0,9, -0.1150,   -999.0,9,  -999.00,9,  -999.00,9,  -999.00,9,  -999.00,9
      74JC27_1,  SR01,    15,  1, 111998, 111998,2,19980101,0058,-59.8263, -55.3498, -999,    250.0,   1.8490,  34.5370,2,  34.5980,2,   -999.0,9,  1.8360,   -999.0,9,  -999.00,9,  -999.00,9,  -999.00,9,  -999.00,9
      74JC27_1,  SR01,    15,  1, 111997, 111997,2,19980101,0058,-59.8263, -55.3498, -999,    504.6,   1.9620,  34.6850,2,  34.6950,2,   -999.0,9,  1.9340,   -999.0,9,  -999.00,9,  -999.00,9,  -999.00,9,  -999.00,9
      74JC27_1,  SR01,    15,  1, 111996, 111996,2,19980101,0058,-59.8263, -55.3498, -999,   1013.1,   1.5140,  34.7260,2,  34.7280,2,   -999.0,9,  1.4570,   -999.0,9,  -999.00,9,  -999.00,9,  -999.00,9,  -999.00,9
      74JC27_1,  SR01,    15,  1, 111995, 111995,2,19980101,0058,-59.8263, -55.3498, -999,   1522.7,   1.0700,  34.7200,2,  34.7220,2,   -999.0,9,  0.9830,   -999.0,9,  -999.00,9,  -999.00,9,  -999.00,9,  -999.00,9
      74JC27_1,  SR01,    15,  1, 111994, 111994,2,19980101,0058,-59.8263, -55.3498, -999,   2032.7,   0.6970,  34.7100,2,  34.7110,2,   -999.0,9,  0.5780,   -999.0,9,  -999.00,9,  -999.00,9,  -999.00,9,  -999.00,9
      74JC27_1,  SR01,    15,  1, 111993, 111993,2,19980101,0058,-59.8263, -55.3498, -999,   2547.2,   0.3430,  34.6890,2,  34.6890,2,   -999.0,9,  0.1900,   -999.0,9,  -999.00,9,  -999.00,9,  -999.00,9,  -999.00,9
      74JC27_1,  SR01,    15,  1, 111992, 111992,2,19980101,0058,-59.8263, -55.3498, -999,   3061.3,   0.0870,  34.6690,2,  34.6680,2,   -999.0,9, -0.1040,   -999.0,9,  -999.00,9,  -999.00,9,  -999.00,9,  -999.00,9
      74JC27_1,  SR01,    15,  1, 111991, 111991,2,19980101,0058,-59.8263, -55.3498, -999,   3576.9,  -0.0730,  34.6620,2,  34.6590,2,   -999.0,9, -0.3060,   -999.0,9,  -999.00,9,  -999.00,9,  -999.00,9,  -999.00,9
      74JC27_1,  SR01,    15,  1, 111990, 111990,2,19980101,0058,-59.8263, -55.3498, -999,   3643.4,  -0.0670,  34.6610,2,  34.6570,2,   -999.0,9, -0.3060,   -999.0,9,  -999.00,9,  -999.00,9,  -999.00,9,  -999.00,9
      74JC27_1,  SR01,    16,  1, 112013, 112013,2,19980101,0451,-59.6622, -55.4432, -999,     10.6,   1.1990,  33.8490,2,  33.8500,2,   -999.0,9,  1.1990,   -999.0,9,  -999.00,9,  -999.00,9,  -999.00,9,  -999.00,9
      74JC27_1,  SR01,    16,  1, 112012, 112012,2,19980101,0451,-59.6622, -55.4432, -999,     51.2,  -0.5880,  33.9200,2,  33.9180,2,   -999.0,9, -0.5890,   -999.0,9,  -999.00,9,  -999.00,9,  -999.00,9,  -999.00,9
      74JC27_1,  SR01,    16,  1, 112011, 112011,2,19980101,0451,-59.6622, -55.4432, -999,    101.1,  -0.5320,  34.0690,2,  34.1560,2,   -999.0,9, -0.5350,   -999.0,9,  -999.00,9,  -999.00,9,  -999.00,9,  -999.00,9
      74JC27_1,  SR01,    16,  1, 112010, 112010,2,19980101,0451,-59.6622, -55.4432, -999,    202.7,   1.7570,  34.4540,2,  34.4410,2,   -999.0,9,  1.7470,   -999.0,9,  -999.00,9,  -999.00,9,  -999.00,9,  -999.00,9
      74JC27_1,  SR01,    16,  1, 112009, 112009,2,19980101,0451,-59.6622, -55.4432, -999,    252.9,   1.5420,  34.4870,2,  34.5300,2,   -999.0,9,  1.5290,   -999.0,9,  -999.00,9,  -999.00,9,  -999.00,9,  -999.00,9
      74JC27_1,  SR01,    16,  1, 112008, 112008,2,19980101,0451,-59.6622, -55.4432, -999,    758.7,   1.8160,  34.7180,2,  34.7150,2,   -999.0,9,  1.7720,   -999.0,9,  -999.00,9,  -999.00,9,  -999.00,9,  -999.00,9
      74JC27_1,  SR01,    16,  1, 112007, 112007,2,19980101,0451,-59.6622, -55.4432, -999,   1270.0,   1.3200,  34.7270,2,  34.7270,2,   -999.0,9,  1.2470,   -999.0,9,  -999.00,9,  -999.00,9,  -999.00,9,  -999.00,9
      74JC27_1,  SR01,    16,  1, 112006, 112006,2,19980101,0451,-59.6622, -55.4432, -999,   1520.9,   1.1270,  34.7230,2,  34.7240,2,   -999.0,9,  1.0390,   -999.0,9,  -999.00,9,  -999.00,9,  -999.00,9,  -999.00,9
      74JC27_1,  SR01,    16,  1, 112005, 112005,2,19980101,0451,-59.6622, -55.4432, -999,   2545.7,   0.4300,  34.6970,2,  34.6960,2,   -999.0,9,  0.2750,   -999.0,9,  -999.00,9,  -999.00,9,  -999.00,9,  -999.00,9
      74JC27_1,  SR01,    16,  1, 112004, 112004,2,19980101,0451,-59.6622, -55.4432, -999,   3057.9,   0.1300,  34.6740,2,  34.6730,2,   -999.0,9, -0.0620,   -999.0,9,  -999.00,9,  -999.00,9,  -999.00,9,  -999.00,9
      74JC27_1,  SR01,    16,  1, 112003, 112003,2,19980101,0451,-59.6622, -55.4432, -999,   3568.7,  -0.0190,  34.6660,2,  34.6620,2,   -999.0,9, -0.2530,   -999.0,9,  -999.00,9,  -999.00,9,  -999.00,9,  -999.00,9
      74JC27_1,  SR01,    16,  1, 112002, 112002,2,19980101,0451,-59.6622, -55.4432, -999,   3726.9,  -0.0660,  34.6630,2,  34.6600,2,   -999.0,9, -0.3130,   -999.0,9,  -999.00,9,  -999.00,9,  -999.00,9,  -999.00,9
      74JC27_1,  SR01,    17,  1, 112024, 112024,2,19980101,0850,-59.4997, -55.5648, -999,      9.2,   1.1680,  33.8600,2,  33.8560,2,   -999.0,9,  1.1680,   -999.0,9,  -999.00,9,  -999.00,9,  -999.00,9,  -999.00,9
      74JC27_1,  SR01,    17,  1, 112023, 112023,2,19980101,0850,-59.4997, -55.5648, -999,     48.8,  -0.8490,  33.8970,2,  33.8960,2,   -999.0,9, -0.8510,   -999.0,9,  -999.00,9,  -999.00,9,  -999.00,9,  -999.00,9
      74JC27_1,  SR01,    17,  1, 112022, 112022,2,19980101,0850,-59.4997, -55.5648, -999,     98.7,  -0.5850,  34.0900,2,  34.0720,2,   -999.0,9, -0.5880,   -999.0,9,  -999.00,9,  -999.00,9,  -999.00,9,  -999.00,9
      74JC27_1,  SR01,    17,  1, 112021, 112021,2,19980101,0850,-59.4997, -55.5648, -999,    250.6,   1.9460,  34.5240,2,  34.5360,2,   -999.0,9,  1.9330,   -999.0,9,  -999.00,9,  -999.00,9,  -999.00,9,  -999.00,9
      74JC27_1,  SR01,    17,  1, 112020, 112020,2,19980101,0850,-59.4997, -55.5648, -999,    501.9,   1.7260,  34.6440,2,  34.6740,2,   -999.0,9,  1.6990,   -999.0,9,  -999.00,9,  -999.00,9,  -999.00,9,  -999.00,9
      74JC27_1,  SR01,    17,  1, 112019, 112019,2,19980101,0850,-59.4997, -55.5648, -999,   1013.2,   1.5380,  34.7220,2,  34.7240,2,   -999.0,9,  1.4810,   -999.0,9,  -999.00,9,  -999.00,9,  -999.00,9,  -999.00,9
      74JC27_1,  SR01,    17,  1, 112018, 112018,2,19980101,0850,-59.4997, -55.5648, -999,   1515.1,   1.0720,  34.7140,2,  34.7170,2,   -999.0,9,  0.9860,   -999.0,9,  -999.00,9,  -999.00,9,  -999.00,9,  -999.00,9
      74JC27_1,  SR01,    17,  1, 112017, 112017,2,19980101,0850,-59.4997, -55.5648, -999,   2033.3,   0.7450,  34.7070,2,  34.7030,2,   -999.0,9,  0.6250,   -999.0,9,  -999.00,9,  -999.00,9,  -999.00,9,  -999.00,9
      74JC27_1,  SR01,    17,  1, 112016, 112016,2,19980101,0850,-59.4997, -55.5648, -999,   2542.6,   0.4470,  34.6950,2,  34.6950,2,   -999.0,9,  0.2930,   -999.0,9,  -999.00,9,  -999.00,9,  -999.00,9,  -999.00,9
      74JC27_1,  SR01,    17,  1, 112015, 112015,2,19980101,0850,-59.4997, -55.5648, -999,   3059.9,   0.1240,  34.6720,2,  34.6730,2,   -999.0,9, -0.0680,   -999.0,9,  -999.00,9,  -999.00,9,  -999.00,9,  -999.00,9
      74JC27_1,  SR01,    17,  1, 112014, 112014,2,19980101,0850,-59.4997, -55.5648, -999,   3756.6,  -0.0810,  34.6620,2,  34.6600,2,   -999.0,9, -0.3310,   -999.0,9,  -999.00,9,  -999.00,9,  -999.00,9,  -999.00,9