BOTTLE,20070619WHPSIOdm
#code : jjward hyd_to_exchange.pl 
#original files copied from HTML directory: 20070619
#original HYD file: sr01_mhy.txt   Tue Jun 19 10:37:50 2007
#original SUM file: sr01_msu.txt   Thu Jun 14 08:47:21 2007
EXPOCODE,SECT_ID,STNNBR,CASTNO,SAMPNO,BTLNBR,BTLNBR_FLAG_W,DATE,TIME,LATITUDE,LONGITUDE,DEPTH,CTDPRS,CTDTMP,CTDSAL,CTDSAL_FLAG_W,SALNTY,SALNTY_FLAG_W,CTDOXY,CTDOXY_FLAG_W,THETA,OXYGEN,OXYGEN_FLAG_W,SILCAT,SILCAT_FLAG_W,NITRAT,NITRAT_FLAG_W,NITRIT,NITRIT_FLAG_W,PHSPHT,PHSPHT_FLAG_W
,,,,,,,,,,,,DBAR,DEG C,PSS-78,,PSS-78,,UMOL/KG,,DEG C,UMOL/KG,,UMOL/KG,,UMOL/KG,,UMOL/KG,,UMOL/KG,
      74JC27_1,  SR01,    01,  1, 111861, 111861,2,19971227,1412,-67.5753, -68.1340, -999,     10.6,  -0.8680,  32.9950,2,  33.4230,2,   -999.0,9, -0.8680,   -999.0,9,  -999.00,9,  -999.00,9,  -999.00,9,  -999.00,9
      74JC27_1,  SR01,    01,  1, 111860, 111860,2,19971227,1412,-67.5753, -68.1340, -999,     25.2,  -1.5800,  33.3260,2,  33.6000,2,   -999.0,9, -1.5810,   -999.0,9,  -999.00,9,  -999.00,9,  -999.00,9,  -999.00,9
      74JC27_1,  SR01,    01,  1, 111859, 111859,2,19971227,1412,-67.5753, -68.1340, -999,     51.2,  -1.1010,  33.6500,2,  33.9250,2,   -999.0,9, -1.1020,   -999.0,9,  -999.00,9,  -999.00,9,  -999.00,9,  -999.00,9
      74JC27_1,  SR01,    01,  1, 111858, 111858,2,19971227,1412,-67.5753, -68.1340, -999,    101.7,  -0.2300,  34.0010,2,  34.2040,2,   -999.0,9, -0.2330,   -999.0,9,  -999.00,9,  -999.00,9,  -999.00,9,  -999.00,9
      74JC27_1,  SR01,    01,  1, 111857, 111857,2,19971227,1412,-67.5753, -68.1340, -999,    151.9,   0.2700,  34.1830,2,  34.4010,2,   -999.0,9,  0.2650,   -999.0,9,  -999.00,9,  -999.00,9,  -999.00,9,  -999.00,9
      74JC27_1,  SR01,    01,  1, 111856, 111856,2,19971227,1412,-67.5753, -68.1340, -999,    202.5,   0.8110,  34.3510,2,  34.5360,2,   -999.0,9,  0.8020,   -999.0,9,  -999.00,9,  -999.00,9,  -999.00,9,  -999.00,9
      74JC27_1,  SR01,    01,  1, 111855, 111855,2,19971227,1412,-67.5753, -68.1340, -999,    233.0,   0.9640,  34.3990,2,  34.5720,2,   -999.0,9,  0.9540,   -999.0,9,  -999.00,9,  -999.00,9,  -999.00,9,  -999.00,9
      74JC27_1,  SR01,    02,  1, 111870, 111870,2,19971229,1803,-62.6598, -58.2962, -999,     10.9,   1.4330,  34.1050,2,  34.1540,2,   -999.0,9,  1.4320,   -999.0,9,  -999.00,9,  -999.00,9,  -999.00,9,  -999.00,9
      74JC27_1,  SR01,    02,  1, 111869, 111869,2,19971229,1803,-62.6598, -58.2962, -999,     51.3,   0.2340,  34.1770,2,  34.2480,2,   -999.0,9,  0.2320,   -999.0,9,  -999.00,9,  -999.00,9,  -999.00,9,  -999.00,9
      74JC27_1,  SR01,    02,  1, 111868, 111868,2,19971229,1803,-62.6598, -58.2962, -999,    101.9,  -0.9490,  34.3240,2,  34.3900,2,   -999.0,9, -0.9520,   -999.0,9,  -999.00,9,  -999.00,9,  -999.00,9,  -999.00,9
      74JC27_1,  SR01,    02,  1, 111867, 111867,2,19971229,1803,-62.6598, -58.2962, -999,    152.3,  -0.7280,  34.3890,2,  34.4540,2,   -999.0,9, -0.7330,   -999.0,9,  -999.00,9,  -999.00,9,  -999.00,9,  -999.00,9
      74JC27_1,  SR01,    02,  1, 111866, 111866,2,19971229,1803,-62.6598, -58.2962, -999,    202.7,  -0.5360,  34.4350,2,  34.4830,2,   -999.0,9, -0.5420,   -999.0,9,  -999.00,9,  -999.00,9,  -999.00,9,  -999.00,9
      74JC27_1,  SR01,    02,  1, 111865, 111865,2,19971229,1803,-62.6598, -58.2962, -999,    253.9,  -0.5690,  34.4600,2,  34.5140,2,   -999.0,9, -0.5770,   -999.0,9,  -999.00,9,  -999.00,9,  -999.00,9,  -999.00,9
      74JC27_1,  SR01,    02,  1, 111864, 111864,2,19971229,1803,-62.6598, -58.2962, -999,    758.6,  -1.3270,  34.5030,2,  34.5570,2,   -999.0,9, -1.3500,   -999.0,9,  -999.00,9,  -999.00,9,  -999.00,9,  -999.00,9
      74JC27_1,  SR01,    02,  1, 111863, 111863,2,19971229,1803,-62.6598, -58.2962, -999,   1013.3,  -1.5270,  34.5070,2,  34.5600,2,   -999.0,9, -1.5590,   -999.0,9,  -999.00,9,  -999.00,9,  -999.00,9,  -999.00,9
      74JC27_1,  SR01,    02,  1, 111862, 111862,2,19971229,1803,-62.6598, -58.2962, -999,   1520.6,  -1.5700,  34.5170,2,  34.5720,2,   -999.0,9, -1.6240,   -999.0,9,  -999.00,9,  -999.00,9,  -999.00,9,  -999.00,9
      74JC27_1,  SR01,    03,  1, 111877, 111877,2,19971230,0917,-61.0477, -54.6057, -999,     11.5,  -0.0400,  34.1710,2,  34.1600,2,   -999.0,9, -0.0410,   -999.0,9,  -999.00,9,  -999.00,9,  -999.00,9,  -999.00,9
      74JC27_1,  SR01,    03,  1, 111876, 111876,2,19971230,0917,-61.0477, -54.6057, -999,     52.0,  -0.1890,  34.2790,2,  34.2170,2,   -999.0,9, -0.1910,   -999.0,9,  -999.00,9,  -999.00,9,  -999.00,9,  -999.00,9
      74JC27_1,  SR01,    03,  1, 111875, 111875,2,19971230,0917,-61.0477, -54.6057, -999,    102.0,  -0.1890,  34.2860,2,  34.2860,2,   -999.0,9, -0.1920,   -999.0,9,  -999.00,9,  -999.00,9,  -999.00,9,  -999.00,9
      74JC27_1,  SR01,    03,  1, 111874, 111874,2,19971230,0917,-61.0477, -54.6057, -999,    151.6,  -0.2520,  34.3430,2,  34.3450,2,   -999.0,9, -0.2570,   -999.0,9,  -999.00,9,  -999.00,9,  -999.00,9,  -999.00,9
      74JC27_1,  SR01,    03,  1, 111873, 111873,2,19971230,0917,-61.0477, -54.6057, -999,    201.8,  -0.3270,  34.3970,2,  34.3920,2,   -999.0,9, -0.3340,   -999.0,9,  -999.00,9,  -999.00,9,  -999.00,9,  -999.00,9
      74JC27_1,  SR01,    03,  1, 111872, 111872,2,19971230,0917,-61.0477, -54.6057, -999,    252.0,  -0.3920,  34.4390,2,  34.4290,2,   -999.0,9, -0.4000,   -999.0,9,  -999.00,9,  -999.00,9,  -999.00,9,  -999.00,9
      74JC27_1,  SR01,    03,  1, 111871, 111871,2,19971230,0917,-61.0477, -54.6057, -999,    405.7,  -0.5890,  34.5260,2,  34.5250,2,   -999.0,9, -0.6030,   -999.0,9,  -999.00,9,  -999.00,9,  -999.00,9,  -999.00,9
      74JC27_1,  SR01,    04,  1, 111883, 111883,2,19971230,1051,-60.9788, -54.6432, -999,     52.0,  -0.1330,  34.2440,2,  34.2640,2,   -999.0,9, -0.1340,   -999.0,9,  -999.00,9,  -999.00,9,  -999.00,9,  -999.00,9
      74JC27_1,  SR01,    04,  1, 111882, 111882,2,19971230,1051,-60.9788, -54.6432, -999,    102.4,  -0.2610,  34.3290,2,  34.3190,2,   -999.0,9, -0.2640,   -999.0,9,  -999.00,9,  -999.00,9,  -999.00,9,  -999.00,9
      74JC27_1,  SR01,    04,  1, 111881, 111881,2,19971230,1051,-60.9788, -54.6432, -999,    153.0,  -0.4090,  34.3450,2,  34.3330,2,   -999.0,9, -0.4140,   -999.0,9,  -999.00,9,  -999.00,9,  -999.00,9,  -999.00,9
      74JC27_1,  SR01,    04,  1, 111880, 111880,2,19971230,1051,-60.9788, -54.6432, -999,    204.0,  -0.3670,  34.3900,2,  34.3750,2,   -999.0,9, -0.3730,   -999.0,9,  -999.00,9,  -999.00,9,  -999.00,9,  -999.00,9
      74JC27_1,  SR01,    04,  1, 111879, 111879,2,19971230,1051,-60.9788, -54.6432, -999,    506.9,  -0.5530,  34.5680,2,  34.5630,2,   -999.0,9, -0.5710,   -999.0,9,  -999.00,9,  -999.00,9,  -999.00,9,  -999.00,9
      74JC27_1,  SR01,    04,  1, 111878, 111878,2,19971230,1051,-60.9788, -54.6432, -999,    594.0,  -0.5270,  34.5740,2,  34.5710,2,   -999.0,9, -0.5490,   -999.0,9,  -999.00,9,  -999.00,9,  -999.00,9,  -999.00,9
      74JC27_1,  SR01,    05,  1, 111890, 111890,2,19971230,1310,-60.8550, -54.7158, -999,     11.3,   0.6700,  33.8050,2,  33.8100,2,   -999.0,9,  0.6690,   -999.0,9,  -999.00,9,  -999.00,9,  -999.00,9,  -999.00,9
      74JC27_1,  SR01,    05,  1, 111889, 111889,2,19971230,1310,-60.8550, -54.7158, -999,     51.6,  -0.2310,  33.9370,2,  33.9110,2,   -999.0,9, -0.2330,   -999.0,9,  -999.00,9,  -999.00,9,  -999.00,9,  -999.00,9
      74JC27_1,  SR01,    05,  1, 111888, 111888,2,19971230,1310,-60.8550, -54.7158, -999,    102.3,  -0.6910,  34.1070,2,  34.1050,2,   -999.0,9, -0.6940,   -999.0,9,  -999.00,9,  -999.00,9,  -999.00,9,  -999.00,9
      74JC27_1,  SR01,    05,  1, 111887, 111887,2,19971230,1310,-60.8550, -54.7158, -999,    153.1,  -0.3000,  34.2380,2,  34.2800,2,   -999.0,9, -0.3050,   -999.0,9,  -999.00,9,  -999.00,9,  -999.00,9,  -999.00,9
      74JC27_1,  SR01,    05,  1, 111886, 111886,2,19971230,1310,-60.8550, -54.7158, -999,    203.5,  -0.2920,  34.3320,2,  34.3610,2,   -999.0,9, -0.2990,   -999.0,9,  -999.00,9,  -999.00,9,  -999.00,9,  -999.00,9
      74JC27_1,  SR01,    05,  1, 111885, 111885,2,19971230,1310,-60.8550, -54.7158, -999,    762.4,  -0.5290,  34.5460,2,  34.5430,2,   -999.0,9, -0.5580,   -999.0,9,  -999.00,9,  -999.00,9,  -999.00,9,  -999.00,9
      74JC27_1,  SR01,    05,  1, 111884, 111884,2,19971230,1310,-60.8550, -54.7158, -999,   1044.5,  -0.4790,  34.5760,2,  34.5760,2,   -999.0,9, -0.5220,   -999.0,9,  -999.00,9,  -999.00,9,  -999.00,9,  -999.00,9
      74JC27_1,  SR01,    06,  1, 111899, 111899,2,19971230,1651,-60.8457, -54.7313, -999,     10.6,   0.9590,  33.8110,2,  33.8160,2,   -999.0,9,  0.9590,   -999.0,9,  -999.00,9,  -999.00,9,  -999.00,9,  -999.00,9
      74JC27_1,  SR01,    06,  1, 111898, 111898,2,19971230,1651,-60.8457, -54.7313, -999,     52.2,   0.5360,  33.9070,2,  33.9150,2,   -999.0,9,  0.5340,   -999.0,9,  -999.00,9,  -999.00,9,  -999.00,9,  -999.00,9
      74JC27_1,  SR01,    06,  1, 111897, 111897,2,19971230,1651,-60.8457, -54.7313, -999,    102.7,  -0.2730,  34.2410,2,  34.1370,2,   -999.0,9, -0.2770,   -999.0,9,  -999.00,9,  -999.00,9,  -999.00,9,  -999.00,9
      74JC27_1,  SR01,    06,  1, 111896, 111896,2,19971230,1651,-60.8457, -54.7313, -999,    153.6,   0.6770,  34.4200,2,  34.2880,2,   -999.0,9,  0.6700,   -999.0,9,  -999.00,9,  -999.00,9,  -999.00,9,  -999.00,9
      74JC27_1,  SR01,    06,  1, 111895, 111895,2,19971230,1651,-60.8457, -54.7313, -999,    203.7,   1.5350,  34.5520,2,  34.4620,2,   -999.0,9,  1.5250,   -999.0,9,  -999.00,9,  -999.00,9,  -999.00,9,  -999.00,9
      74JC27_1,  SR01,    06,  1, 111894, 111894,2,19971230,1651,-60.8457, -54.7313, -999,    252.5,   1.7730,  34.6190,2,  34.6250,2,   -999.0,9,  1.7600,   -999.0,9,  -999.00,9,  -999.00,9,  -999.00,9,  -999.00,9
      74JC27_1,  SR01,    06,  1, 111893, 111893,2,19971230,1651,-60.8457, -54.7313, -999,    503.7,   1.6040,  34.7230,2,  34.7110,2,   -999.0,9,  1.5770,   -999.0,9,  -999.00,9,  -999.00,9,  -999.00,9,  -999.00,9
      74JC27_1,  SR01,    06,  1, 111892, 111892,2,19971230,1651,-60.8457, -54.7313, -999,   1013.7,  -0.1530,  34.6050,2,  34.6090,2,   -999.0,9, -0.1970,   -999.0,9,  -999.00,9,  -999.00,9,  -999.00,9,  -999.00,9
      74JC27_1,  SR01,    06,  1, 111891, 111891,2,19971230,1651,-60.8457, -54.7313, -999,   1576.3,   0.1850,  34.6750,2,  34.6720,2,   -999.0,9,  0.1050,   -999.0,9,  -999.00,9,  -999.00,9,  -999.00,9,  -999.00,9
      74JC27_1,  SR01,    07,  1, 111909, 111909,2,19971230,1925,-60.8252, -54.7262, -999,     12.3,   1.0710,  33.8490,2,  33.8540,2,   -999.0,9,  1.0710,   -999.0,9,  -999.00,9,  -999.00,9,  -999.00,9,  -999.00,9
      74JC27_1,  SR01,    07,  1, 111908, 111908,2,19971230,1925,-60.8252, -54.7262, -999,     52.8,   0.3630,  33.9080,2,  33.8950,2,   -999.0,9,  0.3610,   -999.0,9,  -999.00,9,  -999.00,9,  -999.00,9,  -999.00,9
      74JC27_1,  SR01,    07,  1, 111907, 111907,2,19971230,1925,-60.8252, -54.7262, -999,    103.4,  -0.6460,  34.1360,2,  34.1810,2,   -999.0,9, -0.6490,   -999.0,9,  -999.00,9,  -999.00,9,  -999.00,9,  -999.00,9
      74JC27_1,  SR01,    07,  1, 111906, 111906,2,19971230,1925,-60.8252, -54.7262, -999,    154.2,   0.4410,  34.3700,2,  34.3940,2,   -999.0,9,  0.4350,   -999.0,9,  -999.00,9,  -999.00,9,  -999.00,9,  -999.00,9
      74JC27_1,  SR01,    07,  1, 111905, 111905,2,19971230,1925,-60.8252, -54.7262, -999,    204.8,   1.3570,  34.5470,2,  34.5380,2,   -999.0,9,  1.3470,   -999.0,9,  -999.00,9,  -999.00,9,  -999.00,9,  -999.00,9
      74JC27_1,  SR01,    07,  1, 111904, 111904,2,19971230,1925,-60.8252, -54.7262, -999,    509.1,   1.6820,  34.7180,2,  34.7180,2,   -999.0,9,  1.6550,   -999.0,9,  -999.00,9,  -999.00,9,  -999.00,9,  -999.00,9
      74JC27_1,  SR01,    07,  1, 111903, 111903,2,19971230,1925,-60.8252, -54.7262, -999,    762.8,   1.3550,  34.7310,2,  34.7180,2,   -999.0,9,  1.3140,   -999.0,9,  -999.00,9,  -999.00,9,  -999.00,9,  -999.00,9
      74JC27_1,  SR01,    07,  1, 111902, 111902,2,19971230,1925,-60.8252, -54.7262, -999,   1015.6,   1.0070,  34.7210,2,  34.7190,2,   -999.0,9,  0.9540,   -999.0,9,  -999.00,9,  -999.00,9,  -999.00,9,  -999.00,9
      74JC27_1,  SR01,    07,  1, 111901, 111901,2,19971230,1925,-60.8252, -54.7262, -999,   1770.6,   0.2480,  34.6850,2,  34.6890,2,   -999.0,9,  0.1550,   -999.0,9,  -999.00,9,  -999.00,9,  -999.00,9,  -999.00,9
      74JC27_1,  SR01,    07,  1, 111900, 111900,2,19971230,1925,-60.8252, -54.7262, -999,   2212.8,   0.0250,  34.6710,2,  34.6690,2,   -999.0,9, -0.0960,   -999.0,9,  -999.00,9,  -999.00,9,  -999.00,9,  -999.00,9
      74JC27_1,  SR01,    08,  1, 111920, 111920,2,19971230,2210,-60.8028, -54.7333, -999,     52.3,  -0.4750,  33.9540,2,  33.9570,2,   -999.0,9, -0.4760,   -999.0,9,  -999.00,9,  -999.00,9,  -999.00,9,  -999.00,9
      74JC27_1,  SR01,    08,  1, 111919, 111919,2,19971230,2210,-60.8028, -54.7333, -999,    103.6,  -0.5750,  34.1700,2,  34.1950,2,   -999.0,9, -0.5780,   -999.0,9,  -999.00,9,  -999.00,9,  -999.00,9,  -999.00,9
      74JC27_1,  SR01,    08,  1, 111918, 111918,2,19971230,2210,-60.8028, -54.7333, -999,    154.0,   0.7310,  34.4280,2,  34.3790,2,   -999.0,9,  0.7240,   -999.0,9,  -999.00,9,  -999.00,9,  -999.00,9,  -999.00,9
      74JC27_1,  SR01,    08,  1, 111917, 111917,2,19971230,2210,-60.8028, -54.7333, -999,    254.1,   1.7650,  34.6330,2,  34.5940,2,   -999.0,9,  1.7520,   -999.0,9,  -999.00,9,  -999.00,9,  -999.00,9,  -999.00,9
      74JC27_1,  SR01,    08,  1, 111916, 111916,2,19971230,2210,-60.8028, -54.7333, -999,    507.5,   1.6750,  34.7210,2,  34.7050,2,   -999.0,9,  1.6480,   -999.0,9,  -999.00,9,  -999.00,9,  -999.00,9,  -999.00,9
      74JC27_1,  SR01,    08,  1, 111915, 111915,2,19971230,2210,-60.8028, -54.7333, -999,    761.3,   1.4000,  34.7300,2,  34.7240,2,   -999.0,9,  1.3590,   -999.0,9,  -999.00,9,  -999.00,9,  -999.00,9,  -999.00,9
      74JC27_1,  SR01,    08,  1, 111914, 111914,2,19971230,2210,-60.8028, -54.7333, -999,   1015.0,   0.6950,  34.6850,2,  34.6750,2,   -999.0,9,  0.6450,   -999.0,9,  -999.00,9,  -999.00,9,  -999.00,9,  -999.00,9
      74JC27_1,  SR01,    08,  1, 111913, 111913,2,19971230,2210,-60.8028, -54.7333, -999,   1271.1,   0.6070,  34.6910,2,  34.6950,2,   -999.0,9,  0.5420,   -999.0,9,  -999.00,9,  -999.00,9,  -999.00,9,  -999.00,9
      74JC27_1,  SR01,    08,  1, 111912, 111912,2,19971230,2210,-60.8028, -54.7333, -999,   1776.7,   0.4400,  34.7010,2,  34.6980,2,   -999.0,9,  0.3430,   -999.0,9,  -999.00,9,  -999.00,9,  -999.00,9,  -999.00,9
      74JC27_1,  SR01,    08,  1, 111911, 111911,2,19971230,2210,-60.8028, -54.7333, -999,   2290.8,   0.0540,  34.6740,2,  34.6690,2,   -999.0,9, -0.0740,   -999.0,9,  -999.00,9,  -999.00,9,  -999.00,9,  -999.00,9
      74JC27_1,  SR01,    08,  1, 111910, 111910,2,19971230,2210,-60.8028, -54.7333, -999,   2654.0,  -0.0020,  34.6680,2,  34.6670,2,   -999.0,9, -0.1570,   -999.0,9,  -999.00,9,  -999.00,9,  -999.00,9,  -999.00,9
      74JC27_1,  SR01,    09,  1, 111932, 111932,2,19971231,0149,-60.7452, -54.7922, -999,      8.5,   0.8710,  33.8200,2,  33.8480,2,   -999.0,9,  0.8700,   -999.0,9,  -999.00,9,  -999.00,9,  -999.00,9,  -999.00,9
      74JC27_1,  SR01,    09,  1, 111931, 111931,2,19971231,0149,-60.7452, -54.7922, -999,     49.1,  -0.6630,  33.9260,2,  33.9720,2,   -999.0,9, -0.6640,   -999.0,9,  -999.00,9,  -999.00,9,  -999.00,9,  -999.00,9
      74JC27_1,  SR01,    09,  1, 111930, 111930,2,19971231,0149,-60.7452, -54.7922, -999,     99.1,  -0.1910,  34.1690,2,  34.1720,2,   -999.0,9, -0.1940,   -999.0,9,  -999.00,9,  -999.00,9,  -999.00,9,  -999.00,9
      74JC27_1,  SR01,    09,  1, 111929, 111929,2,19971231,0149,-60.7452, -54.7922, -999,    251.1,   1.6230,  34.5700,2,  34.5820,2,   -999.0,9,  1.6100,   -999.0,9,  -999.00,9,  -999.00,9,  -999.00,9,  -999.00,9
      74JC27_1,  SR01,    09,  1, 111928, 111928,2,19971231,0149,-60.7452, -54.7922, -999,    505.5,   1.7110,  34.6870,2,  34.7090,2,   -999.0,9,  1.6840,   -999.0,9,  -999.00,9,  -999.00,9,  -999.00,9,  -999.00,9
      74JC27_1,  SR01,    09,  1, 111927, 111927,2,19971231,0149,-60.7452, -54.7922, -999,    758.5,   1.4900,  34.7110,2,  34.7270,2,   -999.0,9,  1.4490,   -999.0,9,  -999.00,9,  -999.00,9,  -999.00,9,  -999.00,9
      74JC27_1,  SR01,    09,  1, 111926, 111926,2,19971231,0149,-60.7452, -54.7922, -999,   1013.3,   1.1470,  34.7060,2,  34.7180,2,   -999.0,9,  1.0930,   -999.0,9,  -999.00,9,  -999.00,9,  -999.00,9,  -999.00,9
      74JC27_1,  SR01,    09,  1, 111925, 111925,2,19971231,0149,-60.7452, -54.7922, -999,   1523.5,   0.5130,  34.6780,2,  34.6870,2,   -999.0,9,  0.4330,   -999.0,9,  -999.00,9,  -999.00,9,  -999.00,9,  -999.00,9
      74JC27_1,  SR01,    09,  1, 111924, 111924,2,19971231,0149,-60.7452, -54.7922, -999,   2034.5,   0.3110,  34.6830,2,  34.6870,2,   -999.0,9,  0.1980,   -999.0,9,  -999.00,9,  -999.00,9,  -999.00,9,  -999.00,9
      74JC27_1,  SR01,    09,  1, 111923, 111923,2,19971231,0149,-60.7452, -54.7922, -999,   2548.0,   0.0380,  34.6660,2,  34.6670,2,   -999.0,9, -0.1090,   -999.0,9,  -999.00,9,  -999.00,9,  -999.00,9,  -999.00,9
      74JC27_1,  SR01,    09,  1, 111922, 111922,2,19971231,0149,-60.7452, -54.7922, -999,   3062.3,  -0.1140,  34.6600,2,  34.6600,2,   -999.0,9, -0.3010,   -999.0,9,  -999.00,9,  -999.00,9,  -999.00,9,  -999.00,9
      74JC27_1,  SR01,    09,  1, 111921, 111921,2,19971231,0149,-60.7452, -54.7922, -999,   3144.1,  -0.1100,  34.6600,2,  34.6600,2,   -999.0,9, -0.3030,   -999.0,9,  -999.00,9,  -999.00,9,  -999.00,9,  -999.00,9
      74JC27_1,  SR01,    10,  1, 111944, 111944,2,19971231,0501,-60.6673, -54.8405, -999,      7.4,   0.9840,  33.8570,2,  33.8610,2,   -999.0,9,  0.9840,   -999.0,9,  -999.00,9,  -999.00,9,  -999.00,9,  -999.00,9
      74JC27_1,  SR01,    10,  1, 111943, 111943,2,19971231,0501,-60.6673, -54.8405, -999,     48.3,   0.4240,  33.9130,2,  33.9270,2,   -999.0,9,  0.4220,   -999.0,9,  -999.00,9,  -999.00,9,  -999.00,9,  -999.00,9
      74JC27_1,  SR01,    10,  1, 111942, 111942,2,19971231,0501,-60.6673, -54.8405, -999,     98.8,  -0.7010,  34.1240,2,  34.1130,2,   -999.0,9, -0.7040,   -999.0,9,  -999.00,9,  -999.00,9,  -999.00,9,  -999.00,9
      74JC27_1,  SR01,    10,  1, 111941, 111941,2,19971231,0501,-60.6673, -54.8405, -999,    199.8,   1.3190,  34.5320,2,  34.4490,2,   -999.0,9,  1.3090,   -999.0,9,  -999.00,9,  -999.00,9,  -999.00,9,  -999.00,9
      74JC27_1,  SR01,    10,  1, 111940, 111940,2,19971231,0501,-60.6673, -54.8405, -999,    248.1,   1.9670,  34.6410,2,  34.5420,2,   -999.0,9,  1.9540,   -999.0,9,  -999.00,9,  -999.00,9,  -999.00,9,  -999.00,9
      74JC27_1,  SR01,    10,  1, 111939, 111939,2,19971231,0501,-60.6673, -54.8405, -999,    756.6,   1.4620,  34.7240,2,  34.7280,2,   -999.0,9,  1.4210,   -999.0,9,  -999.00,9,  -999.00,9,  -999.00,9,  -999.00,9
      74JC27_1,  SR01,    10,  1, 111938, 111938,2,19971231,0501,-60.6673, -54.8405, -999,   1010.9,   1.2450,  34.7220,2,  34.7270,2,   -999.0,9,  1.1900,   -999.0,9,  -999.00,9,  -999.00,9,  -999.00,9,  -999.00,9
      74JC27_1,  SR01,    10,  1, 111937, 111937,2,19971231,0501,-60.6673, -54.8405, -999,   1520.6,   0.8360,  34.7120,2,  34.7150,2,   -999.0,9,  0.7520,   -999.0,9,  -999.00,9,  -999.00,9,  -999.00,9,  -999.00,9
      74JC27_1,  SR01,    10,  1, 111936, 111936,2,19971231,0501,-60.6673, -54.8405, -999,   2032.5,   0.3930,  34.6910,2,  34.6910,2,   -999.0,9,  0.2790,   -999.0,9,  -999.00,9,  -999.00,9,  -999.00,9,  -999.00,9
      74JC27_1,  SR01,    10,  1, 111935, 111935,2,19971231,0501,-60.6673, -54.8405, -999,   2546.2,   0.0850,  34.6710,2,  34.6700,2,   -999.0,9, -0.0630,   -999.0,9,  -999.00,9,  -999.00,9,  -999.00,9,  -999.00,9
      74JC27_1,  SR01,    10,  1, 111934, 111934,2,19971231,0501,-60.6673, -54.8405, -999,   3060.9,  -0.0840,  34.6620,2,  34.6600,2,   -999.0,9, -0.2710,   -999.0,9,  -999.00,9,  -999.00,9,  -999.00,9,  -999.00,9
      74JC27_1,  SR01,    10,  1, 111933, 111933,2,19971231,0501,-60.6673, -54.8405, -999,   3147.9,  -0.1080,  34.6610,2,  34.6600,2,   -999.0,9, -0.3020,   -999.0,9,  -999.00,9,  -999.00,9,  -999.00,9,  -999.00,9