BOTTLE,20070619WHPSIOdm
EXPOCODE,SECT_ID,STNNBR,CASTNO,SAMPNO,BTLNBR,BTLNBR_FLAG_W,DATE,TIME,LATITUDE,LONGITUDE,DEPTH,CTDPRS,CTDTMP,CTDSAL,CTDSAL_FLAG_W,SALNTY,SALNTY_FLAG_W,CTDOXY,CTDOXY_FLAG_W,THETA,OXYGEN,OXYGEN_FLAG_W,SILCAT,SILCAT_FLAG_W,NITRAT,NITRAT_FLAG_W,NITRIT,NITRIT_FLAG_W,PHSPHT,PHSPHT_FLAG_W
,,,,,,,,,,,,DBAR,DEG C,PSS-78,,PSS-78,,UMOL/KG,,DEG C,UMOL/KG,,UMOL/KG,,UMOL/KG,,UMOL/KG,,UMOL/KG,
      74JC27_1,  SR01,    41,  1, 112286, 112286,2,19980106,0421,-55.9628, -57.7238, -999,     15.9,   7.1020,  34.1090,2,  34.0570,2,   -999.0,9,  7.1000,   -999.0,9,  -999.00,9,  -999.00,9,  -999.00,9,  -999.00,9
      74JC27_1,  SR01,    41,  1, 112285, 112285,2,19980106,0421,-55.9628, -57.7238, -999,     57.3,   5.9880,  34.1550,2,  34.1470,2,   -999.0,9,  5.9830,   -999.0,9,  -999.00,9,  -999.00,9,  -999.00,9,  -999.00,9
      74JC27_1,  SR01,    41,  1, 112284, 112284,2,19980106,0421,-55.9628, -57.7238, -999,    106.1,   5.0140,  34.1880,2,  34.1970,2,   -999.0,9,  5.0060,   -999.0,9,  -999.00,9,  -999.00,9,  -999.00,9,  -999.00,9
      74JC27_1,  SR01,    41,  1, 112283, 112283,2,19980106,0421,-55.9628, -57.7238, -999,    258.5,   4.2140,  34.1790,2,  34.1310,2,   -999.0,9,  4.1960,   -999.0,9,  -999.00,9,  -999.00,9,  -999.00,9,  -999.00,9
      74JC27_1,  SR01,    41,  1, 112282, 112282,2,19980106,0421,-55.9628, -57.7238, -999,    513.1,   2.6080,  34.1180,2,  34.1180,2,   -999.0,9,  2.5770,   -999.0,9,  -999.00,9,  -999.00,9,  -999.00,9,  -999.00,9
      74JC27_1,  SR01,    41,  1, 112281, 112281,2,19980106,0421,-55.9628, -57.7238, -999,   1019.6,   2.7540,  34.4540,2,  34.4470,2,   -999.0,9,  2.6860,   -999.0,9,  -999.00,9,  -999.00,9,  -999.00,9,  -999.00,9
      74JC27_1,  SR01,    41,  1, 112280, 112280,2,19980106,0421,-55.9628, -57.7238, -999,   1523.6,   2.3100,  34.6200,2,  34.6250,2,   -999.0,9,  2.2080,   -999.0,9,  -999.00,9,  -999.00,9,  -999.00,9,  -999.00,9
      74JC27_1,  SR01,    41,  1, 112279, 112279,2,19980106,0421,-55.9628, -57.7238, -999,   2032.1,   1.9690,  34.7010,2,  34.6980,2,   -999.0,9,  1.8300,   -999.0,9,  -999.00,9,  -999.00,9,  -999.00,9,  -999.00,9
      74JC27_1,  SR01,    41,  1, 112278, 112278,2,19980106,0421,-55.9628, -57.7238, -999,   2535.8,   1.6960,  34.7200,2,  34.7210,2,   -999.0,9,  1.5180,   -999.0,9,  -999.00,9,  -999.00,9,  -999.00,9,  -999.00,9
      74JC27_1,  SR01,    41,  1, 112277, 112277,2,19980106,0421,-55.9628, -57.7238, -999,   3041.3,   1.3490,  34.7220,2,  34.7230,2,   -999.0,9,  1.1310,   -999.0,9,  -999.00,9,  -999.00,9,  -999.00,9,  -999.00,9
      74JC27_1,  SR01,    41,  1, 112276, 112276,2,19980106,0421,-55.9628, -57.7238, -999,   3551.1,   0.9930,  34.7130,2,  34.7130,2,   -999.0,9,  0.7350,   -999.0,9,  -999.00,9,  -999.00,9,  -999.00,9,  -999.00,9
      74JC27_1,  SR01,    41,  1, 112275, 112275,2,19980106,0421,-55.9628, -57.7238, -999,   4022.8,   0.6550,  34.6950,2,  34.6960,2,   -999.0,9,  0.3570,   -999.0,9,  -999.00,9,  -999.00,9,  -999.00,9,  -999.00,9
      74JC27_1,  SR01,    42,  1, 112298, 112298,2,19980106,0841,-55.7987, -57.8457, -999,     17.8,   7.0660,  34.1540,2,  34.1070,2,   -999.0,9,  7.0640,   -999.0,9,  -999.00,9,  -999.00,9,  -999.00,9,  -999.00,9
      74JC27_1,  SR01,    42,  1, 112297, 112297,2,19980106,0841,-55.7987, -57.8457, -999,    109.3,   4.8970,  34.1780,2,  34.1260,2,   -999.0,9,  4.8880,   -999.0,9,  -999.00,9,  -999.00,9,  -999.00,9,  -999.00,9
      74JC27_1,  SR01,    42,  1, 112296, 112296,2,19980106,0841,-55.7987, -57.8457, -999,    308.3,   3.7440,  34.1530,2,  34.1100,2,   -999.0,9,  3.7230,   -999.0,9,  -999.00,9,  -999.00,9,  -999.00,9,  -999.00,9
      74JC27_1,  SR01,    42,  1, 112295, 112295,2,19980106,0841,-55.7987, -57.8457, -999,    762.3,   3.1700,  34.2860,2,  34.0980,2,   -999.0,9,  3.1180,   -999.0,9,  -999.00,9,  -999.00,9,  -999.00,9,  -999.00,9
      74JC27_1,  SR01,    42,  1, 112294, 112294,2,19980106,0841,-55.7987, -57.8457, -999,   1527.5,   2.3690,  34.6090,2,  34.5990,2,   -999.0,9,  2.2660,   -999.0,9,  -999.00,9,  -999.00,9,  -999.00,9,  -999.00,9
      74JC27_1,  SR01,    42,  1, 112293, 112293,2,19980106,0841,-55.7987, -57.8457, -999,   2034.0,   2.1090,  34.6930,2,  34.6910,2,   -999.0,9,  1.9680,   -999.0,9,  -999.00,9,  -999.00,9,  -999.00,9,  -999.00,9
      74JC27_1,  SR01,    42,  1, 112292, 112292,2,19980106,0841,-55.7987, -57.8457, -999,   2514.5,   1.8080,  34.7240,2,  34.7150,2,   -999.0,9,  1.6300,   -999.0,9,  -999.00,9,  -999.00,9,  -999.00,9,  -999.00,9
      74JC27_1,  SR01,    42,  1, 112291, 112291,2,19980106,0841,-55.7987, -57.8457, -999,   2961.9,   1.5400,  34.7330,2,  34.7250,2,   -999.0,9,  1.3250,   -999.0,9,  -999.00,9,  -999.00,9,  -999.00,9,  -999.00,9
      74JC27_1,  SR01,    42,  1, 112290, 112290,2,19980106,0841,-55.7987, -57.8457, -999,   3467.7,   1.2010,  34.7280,2,  34.7200,2,   -999.0,9,  0.9460,   -999.0,9,  -999.00,9,  -999.00,9,  -999.00,9,  -999.00,9
      74JC27_1,  SR01,    42,  1, 112289, 112289,2,19980106,0841,-55.7987, -57.8457, -999,   3996.0,   0.8750,  34.7120,2,  34.7070,2,   -999.0,9,  0.5740,   -999.0,9,  -999.00,9,  -999.00,9,  -999.00,9,  -999.00,9
      74JC27_1,  SR01,    42,  1, 112288, 112288,2,19980106,0841,-55.7987, -57.8457, -999,   4535.1,   0.3940,  34.6850,2,  34.1900,3,   -999.0,9,  0.0500,   -999.0,9,  -999.00,9,  -999.00,9,  -999.00,9,  -999.00,9
      74JC27_1,  SR01,    42,  1, 112287, 112287,2,19980106,0841,-55.7987, -57.8457, -999,   4802.8,   0.3520,  34.6800,2,  34.6740,2,   -999.0,9, -0.0210,   -999.0,9,  -999.00,9,  -999.00,9,  -999.00,9,  -999.00,9
      74JC27_1,  SR01,    43,  1, 112309, 112309,2,19980106,1256,-55.6548, -57.9200, -999,     16.5,   7.1600,  34.1410,2,  34.1490,2,   -999.0,9,  7.1580,   -999.0,9,  -999.00,9,  -999.00,9,  -999.00,9,  -999.00,9
      74JC27_1,  SR01,    43,  1, 112308, 112308,2,19980106,1256,-55.6548, -57.9200, -999,    107.0,   5.1130,  34.2030,2,  34.2000,2,   -999.0,9,  5.1050,   -999.0,9,  -999.00,9,  -999.00,9,  -999.00,9,  -999.00,9
      74JC27_1,  SR01,    43,  1, 112307, 112307,2,19980106,1256,-55.6548, -57.9200, -999,    512.5,   3.2740,  34.1200,2,  34.1180,2,   -999.0,9,  3.2410,   -999.0,9,  -999.00,9,  -999.00,9,  -999.00,9,  -999.00,9
      74JC27_1,  SR01,    43,  1, 112306, 112306,2,19980106,1256,-55.6548, -57.9200, -999,   1018.5,   3.0370,  34.3850,2,  34.3860,2,   -999.0,9,  2.9670,   -999.0,9,  -999.00,9,  -999.00,9,  -999.00,9,  -999.00,9
      74JC27_1,  SR01,    43,  1, 112305, 112305,2,19980106,1256,-55.6548, -57.9200, -999,   1528.3,   2.4450,  34.5870,2,  34.5820,2,   -999.0,9,  2.3420,   -999.0,9,  -999.00,9,  -999.00,9,  -999.00,9,  -999.00,9
      74JC27_1,  SR01,    43,  1, 112304, 112304,2,19980106,1256,-55.6548, -57.9200, -999,   2038.4,   2.1510,  34.6790,2,  34.6770,2,   -999.0,9,  2.0080,   -999.0,9,  -999.00,9,  -999.00,9,  -999.00,9,  -999.00,9
      74JC27_1,  SR01,    43,  1, 112303, 112303,2,19980106,1256,-55.6548, -57.9200, -999,   2550.6,   1.8600,  34.7220,2,  34.7170,2,   -999.0,9,  1.6770,   -999.0,9,  -999.00,9,  -999.00,9,  -999.00,9,  -999.00,9
      74JC27_1,  SR01,    43,  1, 112302, 112302,2,19980106,1256,-55.6548, -57.9200, -999,   3066.3,   1.4960,  34.7300,2,  34.7280,2,   -999.0,9,  1.2730,   -999.0,9,  -999.00,9,  -999.00,9,  -999.00,9,  -999.00,9
      74JC27_1,  SR01,    43,  1, 112301, 112301,2,19980106,1256,-55.6548, -57.9200, -999,   3579.7,   1.0950,  34.7220,2,  34.7180,2,   -999.0,9,  0.8310,   -999.0,9,  -999.00,9,  -999.00,9,  -999.00,9,  -999.00,9
      74JC27_1,  SR01,    43,  1, 112300, 112300,2,19980106,1256,-55.6548, -57.9200, -999,   4087.6,   0.8310,  34.7110,2,  34.7060,2,   -999.0,9,  0.5220,   -999.0,9,  -999.00,9,  -999.00,9,  -999.00,9,  -999.00,9
      74JC27_1,  SR01,    43,  1, 112299, 112299,2,19980106,1256,-55.6548, -57.9200, -999,   4528.8,   0.6340,  34.6980,2,  34.6930,2,   -999.0,9,  0.2830,   -999.0,9,  -999.00,9,  -999.00,9,  -999.00,9,  -999.00,9
      74JC27_1,  SR01,    44,  1, 112321, 112321,2,19980106,1714,-55.5093, -58.0077, -999,     14.4,   7.3540,  34.0560,2,  34.0600,2,   -999.0,9,  7.3530,   -999.0,9,  -999.00,9,  -999.00,9,  -999.00,9,  -999.00,9
      74JC27_1,  SR01,    44,  1, 112320, 112320,2,19980106,1714,-55.5093, -58.0077, -999,    106.4,   5.3730,  34.1640,2,  34.1620,2,   -999.0,9,  5.3650,   -999.0,9,  -999.00,9,  -999.00,9,  -999.00,9,  -999.00,9
      74JC27_1,  SR01,    44,  1, 112319, 112319,2,19980106,1714,-55.5093, -58.0077, -999,    207.2,   4.8560,  34.2000,2,  34.1940,2,   -999.0,9,  4.8400,   -999.0,9,  -999.00,9,  -999.00,9,  -999.00,9,  -999.00,9
      74JC27_1,  SR01,    44,  1, 112318, 112318,2,19980106,1714,-55.5093, -58.0077, -999,    512.2,   4.1410,  34.1730,2,  34.1680,2,   -999.0,9,  4.1040,   -999.0,9,  -999.00,9,  -999.00,9,  -999.00,9,  -999.00,9
      74JC27_1,  SR01,    44,  1, 112317, 112317,2,19980106,1714,-55.5093, -58.0077, -999,   1018.0,   3.0330,  34.3710,2,  34.3630,2,   -999.0,9,  2.9630,   -999.0,9,  -999.00,9,  -999.00,9,  -999.00,9,  -999.00,9
      74JC27_1,  SR01,    44,  1, 112316, 112316,2,19980106,1714,-55.5093, -58.0077, -999,   1525.1,   2.4940,  34.5490,2,  34.5510,2,   -999.0,9,  2.3900,   -999.0,9,  -999.00,9,  -999.00,9,  -999.00,9,  -999.00,9
      74JC27_1,  SR01,    44,  1, 112315, 112315,2,19980106,1714,-55.5093, -58.0077, -999,   2038.3,   2.1110,  34.6730,2,  34.6760,2,   -999.0,9,  1.9690,   -999.0,9,  -999.00,9,  -999.00,9,  -999.00,9,  -999.00,9
      74JC27_1,  SR01,    44,  1, 112314, 112314,2,19980106,1714,-55.5093, -58.0077, -999,   2549.1,   1.8950,  34.7010,2,  34.7020,2,   -999.0,9,  1.7120,   -999.0,9,  -999.00,9,  -999.00,9,  -999.00,9,  -999.00,9
      74JC27_1,  SR01,    44,  1, 112313, 112313,2,19980106,1714,-55.5093, -58.0077, -999,   3041.0,   1.6130,  34.7260,2,  34.7260,2,   -999.0,9,  1.3890,   -999.0,9,  -999.00,9,  -999.00,9,  -999.00,9,  -999.00,9
      74JC27_1,  SR01,    44,  1, 112312, 112312,2,19980106,1714,-55.5093, -58.0077, -999,   3572.3,   1.1360,  34.7180,2,  34.7160,2,   -999.0,9,  0.8720,   -999.0,9,  -999.00,9,  -999.00,9,  -999.00,9,  -999.00,9
      74JC27_1,  SR01,    44,  1, 112311, 112311,2,19980106,1714,-55.5093, -58.0077, -999,   4088.0,   0.8660,  34.7070,2,  34.7060,2,   -999.0,9,  0.5550,   -999.0,9,  -999.00,9,  -999.00,9,  -999.00,9,  -999.00,9
      74JC27_1,  SR01,    44,  1, 112310, 112310,2,19980106,1714,-55.5093, -58.0077, -999,   4271.5,   0.7030,  34.6980,2,  34.6970,2,   -999.0,9,  0.3780,   -999.0,9,  -999.00,9,  -999.00,9,  -999.00,9,  -999.00,9
      74JC27_1,  SR01,    45,  1, 112333, 112333,2,19980106,2140,-55.3642, -58.1183, -999,     14.3,   6.9620,  34.0500,2,  34.0980,2,   -999.0,9,  6.9610,   -999.0,9,  -999.00,9,  -999.00,9,  -999.00,9,  -999.00,9
      74JC27_1,  SR01,    45,  1, 112332, 112332,2,19980106,2140,-55.3642, -58.1183, -999,    104.9,   5.3710,  34.1310,2,  34.1110,2,   -999.0,9,  5.3620,   -999.0,9,  -999.00,9,  -999.00,9,  -999.00,9,  -999.00,9
      74JC27_1,  SR01,    45,  1, 112331, 112331,2,19980106,2140,-55.3642, -58.1183, -999,    255.5,   4.8000,  34.1870,2,  34.1820,2,   -999.0,9,  4.7810,   -999.0,9,  -999.00,9,  -999.00,9,  -999.00,9,  -999.00,9
      74JC27_1,  SR01,    45,  1, 112330, 112330,2,19980106,2140,-55.3642, -58.1183, -999,    511.4,   4.2370,  34.1870,2,  34.1800,2,   -999.0,9,  4.1990,   -999.0,9,  -999.00,9,  -999.00,9,  -999.00,9,  -999.00,9
      74JC27_1,  SR01,    45,  1, 112329, 112329,2,19980106,2140,-55.3642, -58.1183, -999,   1017.9,   3.0820,  34.3230,2,  34.3130,2,   -999.0,9,  3.0120,   -999.0,9,  -999.00,9,  -999.00,9,  -999.00,9,  -999.00,9
      74JC27_1,  SR01,    45,  1, 112328, 112328,2,19980106,2140,-55.3642, -58.1183, -999,   1523.1,   2.4430,  34.5640,2,  34.5600,2,   -999.0,9,  2.3390,   -999.0,9,  -999.00,9,  -999.00,9,  -999.00,9,  -999.00,9
      74JC27_1,  SR01,    45,  1, 112327, 112327,2,19980106,2140,-55.3642, -58.1183, -999,   2029.8,   2.1970,  34.6580,2,  34.6560,2,   -999.0,9,  2.0550,   -999.0,9,  -999.00,9,  -999.00,9,  -999.00,9,  -999.00,9
      74JC27_1,  SR01,    45,  1, 112326, 112326,2,19980106,2140,-55.3642, -58.1183, -999,   2539.7,   1.9330,  34.6910,2,  34.6910,2,   -999.0,9,  1.7500,   -999.0,9,  -999.00,9,  -999.00,9,  -999.00,9,  -999.00,9
      74JC27_1,  SR01,    45,  1, 112325, 112325,2,19980106,2140,-55.3642, -58.1183, -999,   3056.7,   1.6780,  34.7230,2,  34.7230,2,   -999.0,9,  1.4520,   -999.0,9,  -999.00,9,  -999.00,9,  -999.00,9,  -999.00,9
      74JC27_1,  SR01,    45,  1, 112324, 112324,2,19980106,2140,-55.3642, -58.1183, -999,   3568.3,   1.2070,  34.7200,2,  34.7180,2,   -999.0,9,  0.9410,   -999.0,9,  -999.00,9,  -999.00,9,  -999.00,9,  -999.00,9
      74JC27_1,  SR01,    45,  1, 112323, 112323,2,19980106,2140,-55.3642, -58.1183, -999,   4088.6,   0.8380,  34.7050,2,  34.7040,2,   -999.0,9,  0.5280,   -999.0,9,  -999.00,9,  -999.00,9,  -999.00,9,  -999.00,9
      74JC27_1,  SR01,    45,  1, 112322, 112322,2,19980106,2140,-55.3642, -58.1183, -999,   4277.1,   0.7000,  34.6970,2,  34.6970,2,   -999.0,9,  0.3740,   -999.0,9,  -999.00,9,  -999.00,9,  -999.00,9,  -999.00,9
      74JC27_1,  SR01,    46,  1, 112345, 112345,2,19980107,0200,-55.2177, -58.2095, -999,     15.3,   7.5000,  34.1120,2,  34.1090,2,   -999.0,9,  7.4980,   -999.0,9,  -999.00,9,  -999.00,9,  -999.00,9,  -999.00,9
      74JC27_1,  SR01,    46,  1, 112344, 112344,2,19980107,0200,-55.2177, -58.2095, -999,     55.4,   6.0560,  34.1080,2,  34.1290,2,   -999.0,9,  6.0510,   -999.0,9,  -999.00,9,  -999.00,9,  -999.00,9,  -999.00,9
      74JC27_1,  SR01,    46,  1, 112343, 112343,2,19980107,0200,-55.2177, -58.2095, -999,    106.4,   5.4090,  34.1510,2,  34.1190,2,   -999.0,9,  5.4000,   -999.0,9,  -999.00,9,  -999.00,9,  -999.00,9,  -999.00,9
      74JC27_1,  SR01,    46,  1, 112342, 112342,2,19980107,0200,-55.2177, -58.2095, -999,    256.2,   4.7920,  34.1910,2,  34.1900,2,   -999.0,9,  4.7720,   -999.0,9,  -999.00,9,  -999.00,9,  -999.00,9,  -999.00,9
      74JC27_1,  SR01,    46,  1, 112341, 112341,2,19980107,0200,-55.2177, -58.2095, -999,    508.2,   4.1600,  34.1790,2,  34.1770,2,   -999.0,9,  4.1230,   -999.0,9,  -999.00,9,  -999.00,9,  -999.00,9,  -999.00,9
      74JC27_1,  SR01,    46,  1, 112340, 112340,2,19980107,0200,-55.2177, -58.2095, -999,   1018.6,   3.0770,  34.2990,2,  34.3130,2,   -999.0,9,  3.0070,   -999.0,9,  -999.00,9,  -999.00,9,  -999.00,9,  -999.00,9
      74JC27_1,  SR01,    46,  1, 112339, 112339,2,19980107,0200,-55.2177, -58.2095, -999,   1527.7,   2.5770,  34.5280,2,  34.5350,2,   -999.0,9,  2.4720,   -999.0,9,  -999.00,9,  -999.00,9,  -999.00,9,  -999.00,9
      74JC27_1,  SR01,    46,  1, 112338, 112338,2,19980107,0200,-55.2177, -58.2095, -999,   2037.3,   2.2560,  34.6460,2,  34.6450,2,   -999.0,9,  2.1120,   -999.0,9,  -999.00,9,  -999.00,9,  -999.00,9,  -999.00,9
      74JC27_1,  SR01,    46,  1, 112337, 112337,2,19980107,0200,-55.2177, -58.2095, -999,   2551.5,   2.0210,  34.7020,2,  34.7010,2,   -999.0,9,  1.8360,   -999.0,9,  -999.00,9,  -999.00,9,  -999.00,9,  -999.00,9
      74JC27_1,  SR01,    46,  1, 112336, 112336,2,19980107,0200,-55.2177, -58.2095, -999,   3063.8,   1.5440,  34.7240,2,  34.1920,3,   -999.0,9,  1.3200,   -999.0,9,  -999.00,9,  -999.00,9,  -999.00,9,  -999.00,9
      74JC27_1,  SR01,    46,  1, 112335, 112335,2,19980107,0200,-55.2177, -58.2095, -999,   3581.2,   1.3240,  34.7230,2,  34.7200,2,   -999.0,9,  1.0540,   -999.0,9,  -999.00,9,  -999.00,9,  -999.00,9,  -999.00,9
      74JC27_1,  SR01,    46,  1, 112334, 112334,2,19980107,0200,-55.2177, -58.2095, -999,   4072.4,   0.6020,  34.6960,2,  34.6930,2,   -999.0,9,  0.3010,   -999.0,9,  -999.00,9,  -999.00,9,  -999.00,9,  -999.00,9
      74JC27_1,  SR01,    47,  1, 112357, 112357,2,19980107,0521,-55.1697, -58.2335, -999,     15.4,   7.2560,  34.1240,2,  34.0940,2,   -999.0,9,  7.2540,   -999.0,9,  -999.00,9,  -999.00,9,  -999.00,9,  -999.00,9
      74JC27_1,  SR01,    47,  1, 112356, 112356,2,19980107,0521,-55.1697, -58.2335, -999,     56.2,   6.2180,  34.1040,2,  34.1180,2,   -999.0,9,  6.2130,   -999.0,9,  -999.00,9,  -999.00,9,  -999.00,9,  -999.00,9
      74JC27_1,  SR01,    47,  1, 112355, 112355,2,19980107,0521,-55.1697, -58.2335, -999,    106.4,   5.9900,  34.1640,2,  34.1680,2,   -999.0,9,  5.9810,   -999.0,9,  -999.00,9,  -999.00,9,  -999.00,9,  -999.00,9
      74JC27_1,  SR01,    47,  1, 112354, 112354,2,19980107,0521,-55.1697, -58.2335, -999,    205.7,   4.9350,  34.1990,2,  34.1810,2,   -999.0,9,  4.9190,   -999.0,9,  -999.00,9,  -999.00,9,  -999.00,9,  -999.00,9
      74JC27_1,  SR01,    47,  1, 112353, 112353,2,19980107,0521,-55.1697, -58.2335, -999,    257.2,   4.8100,  34.2040,2,  34.7160,3,   -999.0,9,  4.7900,   -999.0,9,  -999.00,9,  -999.00,9,  -999.00,9,  -999.00,9
      74JC27_1,  SR01,    47,  1, 112352, 112352,2,19980107,0521,-55.1697, -58.2335, -999,    511.0,   4.1950,  34.1880,2,  34.1770,2,   -999.0,9,  4.1580,   -999.0,9,  -999.00,9,  -999.00,9,  -999.00,9,  -999.00,9
      74JC27_1,  SR01,    47,  1, 112351, 112351,2,19980107,0521,-55.1697, -58.2335, -999,    761.5,   3.5630,  34.2010,2,  34.1950,2,   -999.0,9,  3.5100,   -999.0,9,  -999.00,9,  -999.00,9,  -999.00,9,  -999.00,9
      74JC27_1,  SR01,    47,  1, 112350, 112350,2,19980107,0521,-55.1697, -58.2335, -999,   1016.4,   2.9010,  34.2560,2,  34.2380,2,   -999.0,9,  2.8330,   -999.0,9,  -999.00,9,  -999.00,9,  -999.00,9,  -999.00,9
      74JC27_1,  SR01,    47,  1, 112349, 112349,2,19980107,0521,-55.1697, -58.2335, -999,   1517.9,   2.5460,  34.5350,2,  34.5340,2,   -999.0,9,  2.4420,   -999.0,9,  -999.00,9,  -999.00,9,  -999.00,9,  -999.00,9
      74JC27_1,  SR01,    47,  1, 112348, 112348,2,19980107,0521,-55.1697, -58.2335, -999,   2029.6,   2.2680,  34.6490,2,  34.6440,2,   -999.0,9,  2.1250,   -999.0,9,  -999.00,9,  -999.00,9,  -999.00,9,  -999.00,9
      74JC27_1,  SR01,    47,  1, 112347, 112347,2,19980107,0521,-55.1697, -58.2335, -999,   2541.0,   1.9430,  34.7080,2,  34.7040,2,   -999.0,9,  1.7600,   -999.0,9,  -999.00,9,  -999.00,9,  -999.00,9,  -999.00,9
      74JC27_1,  SR01,    47,  1, 112346, 112346,2,19980107,0521,-55.1697, -58.2335, -999,   2990.6,   1.6100,  34.7250,2,  34.7220,2,   -999.0,9,  1.3920,   -999.0,9,  -999.00,9,  -999.00,9,  -999.00,9,  -999.00,9