BOTTLE,20070619WHPSIOdm
EXPOCODE,SECT_ID,STNNBR,CASTNO,SAMPNO,BTLNBR,BTLNBR_FLAG_W,DATE,TIME,LATITUDE,LONGITUDE,DEPTH,CTDPRS,CTDTMP,CTDSAL,CTDSAL_FLAG_W,SALNTY,SALNTY_FLAG_W,CTDOXY,CTDOXY_FLAG_W,THETA,OXYGEN,OXYGEN_FLAG_W,SILCAT,SILCAT_FLAG_W,NITRAT,NITRAT_FLAG_W,NITRIT,NITRIT_FLAG_W,PHSPHT,PHSPHT_FLAG_W
,,,,,,,,,,,,DBAR,DEG C,PSS-78,,PSS-78,,UMOL/KG,,DEG C,UMOL/KG,,UMOL/KG,,UMOL/KG,,UMOL/KG,,UMOL/KG,
      74JC27_1,  SR01,    48,  1, 112369, 112369,2,19980107,0816,-55.1210, -58.2722, -999,     13.9,   6.8840,  34.0960,2,  34.1390,2,   -999.0,9,  6.8820,   -999.0,9,  -999.00,9,  -999.00,9,  -999.00,9,  -999.00,9
      74JC27_1,  SR01,    48,  1, 112368, 112368,2,19980107,0816,-55.1210, -58.2722, -999,     53.5,   6.2360,  34.1080,2,  34.1440,2,   -999.0,9,  6.2320,   -999.0,9,  -999.00,9,  -999.00,9,  -999.00,9,  -999.00,9
      74JC27_1,  SR01,    48,  1, 112367, 112367,2,19980107,0816,-55.1210, -58.2722, -999,    103.7,   5.6030,  34.1450,2,  34.1440,2,   -999.0,9,  5.5950,   -999.0,9,  -999.00,9,  -999.00,9,  -999.00,9,  -999.00,9
      74JC27_1,  SR01,    48,  1, 112366, 112366,2,19980107,0816,-55.1210, -58.2722, -999,    155.6,   5.0210,  34.1670,2,  34.1670,2,   -999.0,9,  5.0090,   -999.0,9,  -999.00,9,  -999.00,9,  -999.00,9,  -999.00,9
      74JC27_1,  SR01,    48,  1, 112365, 112365,2,19980107,0816,-55.1210, -58.2722, -999,    205.6,   4.9160,  34.2020,2,  34.1950,2,   -999.0,9,  4.9010,   -999.0,9,  -999.00,9,  -999.00,9,  -999.00,9,  -999.00,9
      74JC27_1,  SR01,    48,  1, 112364, 112364,2,19980107,0816,-55.1210, -58.2722, -999,    255.5,   4.8170,  34.2030,2,  34.1950,2,   -999.0,9,  4.7980,   -999.0,9,  -999.00,9,  -999.00,9,  -999.00,9,  -999.00,9
      74JC27_1,  SR01,    48,  1, 112363, 112363,2,19980107,0816,-55.1210, -58.2722, -999,    507.0,   4.1240,  34.1800,2,  34.1790,2,   -999.0,9,  4.0870,   -999.0,9,  -999.00,9,  -999.00,9,  -999.00,9,  -999.00,9
      74JC27_1,  SR01,    48,  1, 112362, 112362,2,19980107,0816,-55.1210, -58.2722, -999,    762.5,   3.4690,  34.1890,2,  34.7220,3,   -999.0,9,  3.4160,   -999.0,9,  -999.00,9,  -999.00,9,  -999.00,9,  -999.00,9
      74JC27_1,  SR01,    48,  1, 112361, 112361,2,19980107,0816,-55.1210, -58.2722, -999,   1017.8,   2.9840,  34.2520,2,  34.2660,2,   -999.0,9,  2.9150,   -999.0,9,  -999.00,9,  -999.00,9,  -999.00,9,  -999.00,9
      74JC27_1,  SR01,    48,  1, 112360, 112360,2,19980107,0816,-55.1210, -58.2722, -999,   1525.8,   2.5650,  34.5220,2,  34.5260,2,   -999.0,9,  2.4600,   -999.0,9,  -999.00,9,  -999.00,9,  -999.00,9,  -999.00,9
      74JC27_1,  SR01,    48,  1, 112359, 112359,2,19980107,0816,-55.1210, -58.2722, -999,   2037.0,   2.2840,  34.6370,2,  34.6400,2,   -999.0,9,  2.1400,   -999.0,9,  -999.00,9,  -999.00,9,  -999.00,9,  -999.00,9
      74JC27_1,  SR01,    48,  1, 112358, 112358,2,19980107,0816,-55.1210, -58.2722, -999,   2548.5,   1.8340,  34.7100,2,  34.7110,2,   -999.0,9,  1.6520,   -999.0,9,  -999.00,9,  -999.00,9,  -999.00,9,  -999.00,9
      74JC27_1,  SR01,    49,  1, 112380, 112380,2,19980107,1040,-55.0680, -58.3052, -999,     53.9,   6.1800,  34.1170,2,  34.0950,2,   -999.0,9,  6.1760,   -999.0,9,  -999.00,9,  -999.00,9,  -999.00,9,  -999.00,9
      74JC27_1,  SR01,    49,  1, 112379, 112379,2,19980107,1040,-55.0680, -58.3052, -999,     78.8,   5.9220,  34.1150,2,  34.1460,2,   -999.0,9,  5.9150,   -999.0,9,  -999.00,9,  -999.00,9,  -999.00,9,  -999.00,9
      74JC27_1,  SR01,    49,  1, 112378, 112378,2,19980107,1040,-55.0680, -58.3052, -999,    104.0,   5.8000,  34.1280,2,  34.1540,2,   -999.0,9,  5.7910,   -999.0,9,  -999.00,9,  -999.00,9,  -999.00,9,  -999.00,9
      74JC27_1,  SR01,    49,  1, 112377, 112377,2,19980107,1040,-55.0680, -58.3052, -999,    153.6,   5.2020,  34.1770,2,  34.1850,2,   -999.0,9,  5.1900,   -999.0,9,  -999.00,9,  -999.00,9,  -999.00,9,  -999.00,9
      74JC27_1,  SR01,    49,  1, 112376, 112376,2,19980107,1040,-55.0680, -58.3052, -999,    205.1,   4.9040,  34.2070,2,  34.1950,2,   -999.0,9,  4.8880,   -999.0,9,  -999.00,9,  -999.00,9,  -999.00,9,  -999.00,9
      74JC27_1,  SR01,    49,  1, 112375, 112375,2,19980107,1040,-55.0680, -58.3052, -999,    255.9,   4.7930,  34.2070,2,  34.1950,2,   -999.0,9,  4.7730,   -999.0,9,  -999.00,9,  -999.00,9,  -999.00,9,  -999.00,9
      74JC27_1,  SR01,    49,  1, 112374, 112374,2,19980107,1040,-55.0680, -58.3052, -999,    508.7,   4.2380,  34.1950,2,  34.1870,2,   -999.0,9,  4.2010,   -999.0,9,  -999.00,9,  -999.00,9,  -999.00,9,  -999.00,9
      74JC27_1,  SR01,    49,  1, 112373, 112373,2,19980107,1040,-55.0680, -58.3052, -999,    751.7,   3.5750,  34.1920,2,  34.1840,2,   -999.0,9,  3.5230,   -999.0,9,  -999.00,9,  -999.00,9,  -999.00,9,  -999.00,9
      74JC27_1,  SR01,    49,  1, 112372, 112372,2,19980107,1040,-55.0680, -58.3052, -999,   1016.2,   2.8790,  34.2320,2,  34.2300,2,   -999.0,9,  2.8110,   -999.0,9,  -999.00,9,  -999.00,9,  -999.00,9,  -999.00,9
      74JC27_1,  SR01,    49,  1, 112371, 112371,2,19980107,1040,-55.0680, -58.3052, -999,   1520.0,   2.6240,  34.5100,2,  34.5090,2,   -999.0,9,  2.5190,   -999.0,9,  -999.00,9,  -999.00,9,  -999.00,9,  -999.00,9
      74JC27_1,  SR01,    49,  1, 112370, 112370,2,19980107,1040,-55.0680, -58.3052, -999,   2063.5,   2.2090,  34.6560,2,  34.6540,2,   -999.0,9,  2.0640,   -999.0,9,  -999.00,9,  -999.00,9,  -999.00,9,  -999.00,9
      74JC27_1,  SR01,    50,  1, 112392, 112392,2,19980107,1320,-54.9617, -58.3748, -999,     12.2,   6.6060,  34.0740,2,  34.0640,2,   -999.0,9,  6.6040,   -999.0,9,  -999.00,9,  -999.00,9,  -999.00,9,  -999.00,9
      74JC27_1,  SR01,    50,  1, 112391, 112391,2,19980107,1320,-54.9617, -58.3748, -999,     53.3,   6.0950,  34.0780,2,  34.0750,2,   -999.0,9,  6.0900,   -999.0,9,  -999.00,9,  -999.00,9,  -999.00,9,  -999.00,9
      74JC27_1,  SR01,    50,  1, 112390, 112390,2,19980107,1320,-54.9617, -58.3748, -999,    103.7,   5.6120,  34.1110,2,  34.1170,2,   -999.0,9,  5.6040,   -999.0,9,  -999.00,9,  -999.00,9,  -999.00,9,  -999.00,9
      74JC27_1,  SR01,    50,  1, 112389, 112389,2,19980107,1320,-54.9617, -58.3748, -999,    128.8,   5.4190,  34.1320,2,  34.1340,2,   -999.0,9,  5.4090,   -999.0,9,  -999.00,9,  -999.00,9,  -999.00,9,  -999.00,9
      74JC27_1,  SR01,    50,  1, 112388, 112388,2,19980107,1320,-54.9617, -58.3748, -999,    154.2,   5.2760,  34.1460,2,  34.1400,2,   -999.0,9,  5.2640,   -999.0,9,  -999.00,9,  -999.00,9,  -999.00,9,  -999.00,9
      74JC27_1,  SR01,    50,  1, 112387, 112387,2,19980107,1320,-54.9617, -58.3748, -999,    204.6,   4.9900,  34.1460,2,  34.1580,2,   -999.0,9,  4.9750,   -999.0,9,  -999.00,9,  -999.00,9,  -999.00,9,  -999.00,9
      74JC27_1,  SR01,    50,  1, 112386, 112386,2,19980107,1320,-54.9617, -58.3748, -999,    305.8,   4.5710,  34.1850,2,  34.1810,2,   -999.0,9,  4.5490,   -999.0,9,  -999.00,9,  -999.00,9,  -999.00,9,  -999.00,9
      74JC27_1,  SR01,    50,  1, 112385, 112385,2,19980107,1320,-54.9617, -58.3748, -999,    507.2,   4.1290,  34.1910,2,  34.1860,2,   -999.0,9,  4.0930,   -999.0,9,  -999.00,9,  -999.00,9,  -999.00,9,  -999.00,9
      74JC27_1,  SR01,    50,  1, 112384, 112384,2,19980107,1320,-54.9617, -58.3748, -999,    760.7,   3.6910,  34.2000,2,  34.1960,2,   -999.0,9,  3.6370,   -999.0,9,  -999.00,9,  -999.00,9,  -999.00,9,  -999.00,9
      74JC27_1,  SR01,    50,  1, 112383, 112383,2,19980107,1320,-54.9617, -58.3748, -999,   1012.9,   3.3320,  34.2620,2,  34.2650,2,   -999.0,9,  3.2610,   -999.0,9,  -999.00,9,  -999.00,9,  -999.00,9,  -999.00,9
      74JC27_1,  SR01,    50,  1, 112382, 112382,2,19980107,1320,-54.9617, -58.3748, -999,   1269.4,   3.0000,  34.3840,2,  34.3870,2,   -999.0,9,  2.9120,   -999.0,9,  -999.00,9,  -999.00,9,  -999.00,9,  -999.00,9
      74JC27_1,  SR01,    50,  1, 112381, 112381,2,19980107,1320,-54.9617, -58.3748, -999,   1562.0,   2.7150,  34.4760,2,  34.4760,2,   -999.0,9,  2.6060,   -999.0,9,  -999.00,9,  -999.00,9,  -999.00,9,  -999.00,9
      74JC27_1,  SR01,    51,  1, 112404, 112404,2,19980107,1516,-54.9417, -58.3795, -999,     14.7,   6.6650,  34.0740,2,  34.0600,2,   -999.0,9,  6.6630,   -999.0,9,  -999.00,9,  -999.00,9,  -999.00,9,  -999.00,9
      74JC27_1,  SR01,    51,  1, 112403, 112403,2,19980107,1516,-54.9417, -58.3795, -999,     30.4,   6.4760,  34.0590,2,  34.0610,2,   -999.0,9,  6.4740,   -999.0,9,  -999.00,9,  -999.00,9,  -999.00,9,  -999.00,9
      74JC27_1,  SR01,    51,  1, 112402, 112402,2,19980107,1516,-54.9417, -58.3795, -999,     56.1,   6.1070,  34.0740,2,  34.0630,2,   -999.0,9,  6.1030,   -999.0,9,  -999.00,9,  -999.00,9,  -999.00,9,  -999.00,9
      74JC27_1,  SR01,    51,  1, 112401, 112401,2,19980107,1516,-54.9417, -58.3795, -999,     94.4,   5.6810,  34.1010,2,  34.0750,2,   -999.0,9,  5.6730,   -999.0,9,  -999.00,9,  -999.00,9,  -999.00,9,  -999.00,9
      74JC27_1,  SR01,    51,  1, 112400, 112400,2,19980107,1516,-54.9417, -58.3795, -999,    119.2,   5.5830,  34.1140,2,  34.1000,2,   -999.0,9,  5.5730,   -999.0,9,  -999.00,9,  -999.00,9,  -999.00,9,  -999.00,9
      74JC27_1,  SR01,    51,  1, 112399, 112399,2,19980107,1516,-54.9417, -58.3795, -999,    144.9,   5.3820,  34.1330,2,  34.1310,2,   -999.0,9,  5.3710,   -999.0,9,  -999.00,9,  -999.00,9,  -999.00,9,  -999.00,9
      74JC27_1,  SR01,    51,  1, 112398, 112398,2,19980107,1516,-54.9417, -58.3795, -999,    170.4,   5.2990,  34.1360,2,  34.1650,2,   -999.0,9,  5.2860,   -999.0,9,  -999.00,9,  -999.00,9,  -999.00,9,  -999.00,9
      74JC27_1,  SR01,    51,  1, 112397, 112397,2,19980107,1516,-54.9417, -58.3795, -999,    220.4,   4.9580,  34.1820,2,  34.1770,2,   -999.0,9,  4.9410,   -999.0,9,  -999.00,9,  -999.00,9,  -999.00,9,  -999.00,9
      74JC27_1,  SR01,    51,  1, 112396, 112396,2,19980107,1516,-54.9417, -58.3795, -999,    271.5,   4.6630,  34.1790,2,  34.1790,2,   -999.0,9,  4.6430,   -999.0,9,  -999.00,9,  -999.00,9,  -999.00,9,  -999.00,9
      74JC27_1,  SR01,    51,  1, 112395, 112395,2,19980107,1516,-54.9417, -58.3795, -999,    523.6,   4.0160,  34.1860,2,  34.1830,2,   -999.0,9,  3.9780,   -999.0,9,  -999.00,9,  -999.00,9,  -999.00,9,  -999.00,9
      74JC27_1,  SR01,    51,  1, 112394, 112394,2,19980107,1516,-54.9417, -58.3795, -999,    778.4,   3.6180,  34.2070,2,  34.2160,2,   -999.0,9,  3.5630,   -999.0,9,  -999.00,9,  -999.00,9,  -999.00,9,  -999.00,9
      74JC27_1,  SR01,    51,  1, 112393, 112393,2,19980107,1516,-54.9417, -58.3795, -999,   1038.5,   3.3290,  34.2660,2,  34.2650,2,   -999.0,9,  3.2560,   -999.0,9,  -999.00,9,  -999.00,9,  -999.00,9,  -999.00,9
      74JC27_1,  SR01,    52,  1, 112412, 112412,2,19980107,1657,-54.9208, -58.3957, -999,     12.5,   6.7790,  34.0660,2,  34.0620,2,   -999.0,9,  6.7780,   -999.0,9,  -999.00,9,  -999.00,9,  -999.00,9,  -999.00,9
      74JC27_1,  SR01,    52,  1, 112411, 112411,2,19980107,1657,-54.9208, -58.3957, -999,     27.8,   6.7650,  34.0650,2,  34.0610,2,   -999.0,9,  6.7620,   -999.0,9,  -999.00,9,  -999.00,9,  -999.00,9,  -999.00,9
      74JC27_1,  SR01,    52,  1, 112410, 112410,2,19980107,1657,-54.9208, -58.3957, -999,     52.7,   6.4390,  34.0480,2,  34.0600,2,   -999.0,9,  6.4350,   -999.0,9,  -999.00,9,  -999.00,9,  -999.00,9,  -999.00,9
      74JC27_1,  SR01,    52,  1, 112409, 112409,2,19980107,1657,-54.9208, -58.3957, -999,     77.2,   6.1880,  34.0710,2,  34.0730,2,   -999.0,9,  6.1810,   -999.0,9,  -999.00,9,  -999.00,9,  -999.00,9,  -999.00,9
      74JC27_1,  SR01,    52,  1, 112408, 112408,2,19980107,1657,-54.9208, -58.3957, -999,    153.1,   5.4000,  34.1040,2,  34.1110,2,   -999.0,9,  5.3880,   -999.0,9,  -999.00,9,  -999.00,9,  -999.00,9,  -999.00,9
      74JC27_1,  SR01,    52,  1, 112407, 112407,2,19980107,1657,-54.9208, -58.3957, -999,    204.4,   5.0970,  34.1630,2,  34.1740,2,   -999.0,9,  5.0810,   -999.0,9,  -999.00,9,  -999.00,9,  -999.00,9,  -999.00,9
      74JC27_1,  SR01,    52,  1, 112406, 112406,2,19980107,1657,-54.9208, -58.3957, -999,    305.0,   4.5380,  34.1820,2,  34.1810,2,   -999.0,9,  4.5150,   -999.0,9,  -999.00,9,  -999.00,9,  -999.00,9,  -999.00,9
      74JC27_1,  SR01,    52,  1, 112405, 112405,2,19980107,1657,-54.9208, -58.3957, -999,    456.3,   4.0980,  34.1850,2,  34.1820,2,   -999.0,9,  4.0660,   -999.0,9,  -999.00,9,  -999.00,9,  -999.00,9,  -999.00,9
      74JC27_1,  SR01,    53,  1, 112421, 112421,2,19980107,2011,-54.7832, -58.4802, -999,     12.4,   7.5670,  34.0320,2,  34.0620,2,   -999.0,9,  7.5660,   -999.0,9,  -999.00,9,  -999.00,9,  -999.00,9,  -999.00,9
      74JC27_1,  SR01,    53,  1, 112420, 112420,2,19980107,2011,-54.7832, -58.4802, -999,     27.5,   7.5220,  34.0280,2,  33.9940,2,   -999.0,9,  7.5200,   -999.0,9,  -999.00,9,  -999.00,9,  -999.00,9,  -999.00,9
      74JC27_1,  SR01,    53,  1, 112419, 112419,2,19980107,2011,-54.7832, -58.4802, -999,     52.3,   6.8100,  34.0830,2,  34.0600,2,   -999.0,9,  6.8050,   -999.0,9,  -999.00,9,  -999.00,9,  -999.00,9,  -999.00,9
      74JC27_1,  SR01,    53,  1, 112418, 112418,2,19980107,2011,-54.7832, -58.4802, -999,     77.6,   5.9350,  34.0810,2,  34.0680,2,   -999.0,9,  5.9280,   -999.0,9,  -999.00,9,  -999.00,9,  -999.00,9,  -999.00,9
      74JC27_1,  SR01,    53,  1, 112417, 112417,2,19980107,2011,-54.7832, -58.4802, -999,    103.6,   5.7030,  34.0930,2,  34.0890,2,   -999.0,9,  5.6940,   -999.0,9,  -999.00,9,  -999.00,9,  -999.00,9,  -999.00,9
      74JC27_1,  SR01,    53,  1, 112416, 112416,2,19980107,2011,-54.7832, -58.4802, -999,    153.3,   5.4180,  34.1330,2,  34.1200,2,   -999.0,9,  5.4060,   -999.0,9,  -999.00,9,  -999.00,9,  -999.00,9,  -999.00,9
      74JC27_1,  SR01,    53,  1, 112415, 112415,2,19980107,2011,-54.7832, -58.4802, -999,    203.7,   5.1750,  34.1400,2,  34.1390,2,   -999.0,9,  5.1590,   -999.0,9,  -999.00,9,  -999.00,9,  -999.00,9,  -999.00,9
      74JC27_1,  SR01,    53,  1, 112414, 112414,2,19980107,2011,-54.7832, -58.4802, -999,    305.2,   4.6910,  34.1650,2,  34.1740,2,   -999.0,9,  4.6680,   -999.0,9,  -999.00,9,  -999.00,9,  -999.00,9,  -999.00,9
      74JC27_1,  SR01,    53,  1, 112413, 112413,2,19980107,2011,-54.7832, -58.4802, -999,    401.5,   4.3140,  34.1820,2,  34.1790,2,   -999.0,9,  4.2840,   -999.0,9,  -999.00,9,  -999.00,9,  -999.00,9,  -999.00,9
      74JC27_1,  SR01,    54,  1, 112428, 112428,2,19980107,2155,-54.6478, -58.5662, -999,     11.2,   6.6160,  34.0570,2,  34.0550,2,   -999.0,9,  6.6150,   -999.0,9,  -999.00,9,  -999.00,9,  -999.00,9,  -999.00,9
      74JC27_1,  SR01,    54,  1, 112427, 112427,2,19980107,2155,-54.6478, -58.5662, -999,     26.8,   6.6020,  34.0540,2,  34.0550,2,   -999.0,9,  6.5990,   -999.0,9,  -999.00,9,  -999.00,9,  -999.00,9,  -999.00,9
      74JC27_1,  SR01,    54,  1, 112426, 112426,2,19980107,2155,-54.6478, -58.5662, -999,     52.1,   6.5810,  34.0540,2,  34.0570,2,   -999.0,9,  6.5770,   -999.0,9,  -999.00,9,  -999.00,9,  -999.00,9,  -999.00,9
      74JC27_1,  SR01,    54,  1, 112425, 112425,2,19980107,2155,-54.6478, -58.5662, -999,     77.6,   5.9700,  34.0720,2,  34.0750,2,   -999.0,9,  5.9640,   -999.0,9,  -999.00,9,  -999.00,9,  -999.00,9,  -999.00,9
      74JC27_1,  SR01,    54,  1, 112424, 112424,2,19980107,2155,-54.6478, -58.5662, -999,    102.7,   5.5820,  34.0850,2,  34.0900,2,   -999.0,9,  5.5730,   -999.0,9,  -999.00,9,  -999.00,9,  -999.00,9,  -999.00,9
      74JC27_1,  SR01,    54,  1, 112423, 112423,2,19980107,2155,-54.6478, -58.5662, -999,    127.9,   5.5220,  34.0880,2,  34.0910,2,   -999.0,9,  5.5110,   -999.0,9,  -999.00,9,  -999.00,9,  -999.00,9,  -999.00,9
      74JC27_1,  SR01,    54,  1, 112422, 112422,2,19980107,2155,-54.6478, -58.5662, -999,    147.3,   5.5140,  34.0910,2,  34.0910,2,   -999.0,9,  5.5020,   -999.0,9,  -999.00,9,  -999.00,9,  -999.00,9,  -999.00,9