BOTTLE,20070619WHPSIOdm
EXPOCODE,SECT_ID,STNNBR,CASTNO,SAMPNO,BTLNBR,BTLNBR_FLAG_W,DATE,TIME,LATITUDE,LONGITUDE,DEPTH,CTDPRS,CTDTMP,CTDSAL,CTDSAL_FLAG_W,SALNTY,SALNTY_FLAG_W,CTDOXY,CTDOXY_FLAG_W,THETA,OXYGEN,OXYGEN_FLAG_W,SILCAT,SILCAT_FLAG_W,NITRAT,NITRAT_FLAG_W,NITRIT,NITRIT_FLAG_W,PHSPHT,PHSPHT_FLAG_W
,,,,,,,,,,,,DBAR,DEG C,PSS-78,,PSS-78,,UMOL/KG,,DEG C,UMOL/KG,,UMOL/KG,,UMOL/KG,,UMOL/KG,,UMOL/KG,
      74JC27_1,  SR01,    18,  1, 112035, 112035,2,19980101,1259,-59.3333, -55.6667, -999,     13.5,   1.5170,  33.8800,2,  33.8580,2,   -999.0,9,  1.5170,   -999.0,9,  -999.00,9,  -999.00,9,  -999.00,9,  -999.00,9
      74JC27_1,  SR01,    18,  1, 112034, 112034,2,19980101,1259,-59.3333, -55.6667, -999,     52.9,  -0.5450,  33.9430,2,  33.9100,2,   -999.0,9, -0.5460,   -999.0,9,  -999.00,9,  -999.00,9,  -999.00,9,  -999.00,9
      74JC27_1,  SR01,    18,  1, 112033, 112033,2,19980101,1259,-59.3333, -55.6667, -999,    104.0,  -0.6700,  34.0650,2,  34.0940,2,   -999.0,9, -0.6730,   -999.0,9,  -999.00,9,  -999.00,9,  -999.00,9,  -999.00,9
      74JC27_1,  SR01,    18,  1, 112032, 112032,2,19980101,1259,-59.3333, -55.6667, -999,    205.4,   1.9520,  34.4990,2,  34.5160,2,   -999.0,9,  1.9420,   -999.0,9,  -999.00,9,  -999.00,9,  -999.00,9,  -999.00,9
      74JC27_1,  SR01,    18,  1, 112031, 112031,2,19980101,1259,-59.3333, -55.6667, -999,    255.8,   2.0140,  34.5570,2,  34.5420,2,   -999.0,9,  2.0010,   -999.0,9,  -999.00,9,  -999.00,9,  -999.00,9,  -999.00,9
      74JC27_1,  SR01,    18,  1, 112030, 112030,2,19980101,1259,-59.3333, -55.6667, -999,   1271.7,   1.2190,  34.7310,2,  34.7250,2,   -999.0,9,  1.1470,   -999.0,9,  -999.00,9,  -999.00,9,  -999.00,9,  -999.00,9
      74JC27_1,  SR01,    18,  1, 112029, 112029,2,19980101,1259,-59.3333, -55.6667, -999,   1527.3,   1.0480,  34.7240,2,  34.7140,2,   -999.0,9,  0.9610,   -999.0,9,  -999.00,9,  -999.00,9,  -999.00,9,  -999.00,9
      74JC27_1,  SR01,    18,  1, 112028, 112028,2,19980101,1259,-59.3333, -55.6667, -999,   2037.0,   0.6300,  34.7070,2,  34.7010,2,   -999.0,9,  0.5120,   -999.0,9,  -999.00,9,  -999.00,9,  -999.00,9,  -999.00,9
      74JC27_1,  SR01,    18,  1, 112027, 112027,2,19980101,1259,-59.3333, -55.6667, -999,   2549.8,   0.3770,  34.6960,2,  34.6880,2,   -999.0,9,  0.2230,   -999.0,9,  -999.00,9,  -999.00,9,  -999.00,9,  -999.00,9
      74JC27_1,  SR01,    18,  1, 112026, 112026,2,19980101,1259,-59.3333, -55.6667, -999,   3062.0,   0.1290,  34.6770,2,  34.6710,2,   -999.0,9, -0.0630,   -999.0,9,  -999.00,9,  -999.00,9,  -999.00,9,  -999.00,9
      74JC27_1,  SR01,    18,  1, 112025, 112025,2,19980101,1259,-59.3333, -55.6667, -999,   3578.4,  -0.0500,  34.6690,2,  34.6600,2,   -999.0,9, -0.2840,   -999.0,9,  -999.00,9,  -999.00,9,  -999.00,9,  -999.00,9
      74JC27_1,  SR01,    18,  1, 112036, 112036,2,19980101,1259,-59.3333, -55.6667, -999,   3800.3,  -0.1140,  34.6650,2,  34.6580,2,   -999.0,9, -0.3670,   -999.0,9,  -999.00,9,  -999.00,9,  -999.00,9,  -999.00,9
      74JC27_1,  SR01,    19,  1, 112048, 112048,2,19980101,1719,-59.1663, -55.7697, -999,     13.0,   1.6470,  33.8690,2,  33.8690,2,   -999.0,9,  1.6470,   -999.0,9,  -999.00,9,  -999.00,9,  -999.00,9,  -999.00,9
      74JC27_1,  SR01,    19,  1, 112047, 112047,2,19980101,1719,-59.1663, -55.7697, -999,     53.5,   0.2360,  33.9140,2,  33.9610,2,   -999.0,9,  0.2340,   -999.0,9,  -999.00,9,  -999.00,9,  -999.00,9,  -999.00,9
      74JC27_1,  SR01,    19,  1, 112046, 112046,2,19980101,1719,-59.1663, -55.7697, -999,    104.2,  -0.8490,  34.0680,2,  34.1140,2,   -999.0,9, -0.8520,   -999.0,9,  -999.00,9,  -999.00,9,  -999.00,9,  -999.00,9
      74JC27_1,  SR01,    19,  1, 112045, 112045,2,19980101,1719,-59.1663, -55.7697, -999,    255.3,   0.2340,  34.4240,2,  34.4560,2,   -999.0,9,  0.2240,   -999.0,9,  -999.00,9,  -999.00,9,  -999.00,9,  -999.00,9
      74JC27_1,  SR01,    19,  1, 112044, 112044,2,19980101,1719,-59.1663, -55.7697, -999,    507.6,   1.4360,  34.6540,2,  34.6640,2,   -999.0,9,  1.4100,   -999.0,9,  -999.00,9,  -999.00,9,  -999.00,9,  -999.00,9
      74JC27_1,  SR01,    19,  1, 112043, 112043,2,19980101,1719,-59.1663, -55.7697, -999,   1016.5,   1.3450,  34.7190,2,  34.7220,2,   -999.0,9,  1.2890,   -999.0,9,  -999.00,9,  -999.00,9,  -999.00,9,  -999.00,9
      74JC27_1,  SR01,    19,  1, 112042, 112042,2,19980101,1719,-59.1663, -55.7697, -999,   1527.7,   0.9320,  34.7090,2,  34.7120,2,   -999.0,9,  0.8460,   -999.0,9,  -999.00,9,  -999.00,9,  -999.00,9,  -999.00,9
      74JC27_1,  SR01,    19,  1, 112041, 112041,2,19980101,1719,-59.1663, -55.7697, -999,   2039.3,   0.5980,  34.6940,2,  34.6950,2,   -999.0,9,  0.4800,   -999.0,9,  -999.00,9,  -999.00,9,  -999.00,9,  -999.00,9
      74JC27_1,  SR01,    19,  1, 112040, 112040,2,19980101,1719,-59.1663, -55.7697, -999,   2551.5,   0.3490,  34.6870,2,  34.6880,2,   -999.0,9,  0.1950,   -999.0,9,  -999.00,9,  -999.00,9,  -999.00,9,  -999.00,9
      74JC27_1,  SR01,    19,  1, 112039, 112039,2,19980101,1719,-59.1663, -55.7697, -999,   3061.7,   0.0820,  34.6690,2,  34.6670,2,   -999.0,9, -0.1080,   -999.0,9,  -999.00,9,  -999.00,9,  -999.00,9,  -999.00,9
      74JC27_1,  SR01,    19,  1, 112038, 112038,2,19980101,1719,-59.1663, -55.7697, -999,   3579.5,  -0.0520,  34.6600,2,  34.6600,2,   -999.0,9, -0.2860,   -999.0,9,  -999.00,9,  -999.00,9,  -999.00,9,  -999.00,9
      74JC27_1,  SR01,    19,  1, 112037, 112037,2,19980101,1719,-59.1663, -55.7697, -999,   3750.2,  -0.0680,  34.6590,2,  34.6580,2,   -999.0,9, -0.3170,   -999.0,9,  -999.00,9,  -999.00,9,  -999.00,9,  -999.00,9
      74JC27_1,  SR01,    20,  1, 112060, 112060,2,19980101,2124,-58.9997, -55.8723, -999,     14.4,   1.4500,  33.8620,2,  33.8570,2,   -999.0,9,  1.4490,   -999.0,9,  -999.00,9,  -999.00,9,  -999.00,9,  -999.00,9
      74JC27_1,  SR01,    20,  1, 112059, 112059,2,19980101,2124,-58.9997, -55.8723, -999,     54.7,  -0.3940,  33.9380,2,  33.9390,2,   -999.0,9, -0.3960,   -999.0,9,  -999.00,9,  -999.00,9,  -999.00,9,  -999.00,9
      74JC27_1,  SR01,    20,  1, 112058, 112058,2,19980101,2124,-58.9997, -55.8723, -999,    105.6,  -0.2970,  34.1400,2,  34.1370,2,   -999.0,9, -0.3000,   -999.0,9,  -999.00,9,  -999.00,9,  -999.00,9,  -999.00,9
      74JC27_1,  SR01,    20,  1, 112057, 112057,2,19980101,2124,-58.9997, -55.8723, -999,    257.3,   1.5340,  34.5070,2,  34.5040,2,   -999.0,9,  1.5210,   -999.0,9,  -999.00,9,  -999.00,9,  -999.00,9,  -999.00,9
      74JC27_1,  SR01,    20,  1, 112056, 112056,2,19980101,2124,-58.9997, -55.8723, -999,    509.5,   1.5680,  34.6370,2,  34.6480,2,   -999.0,9,  1.5410,   -999.0,9,  -999.00,9,  -999.00,9,  -999.00,9,  -999.00,9
      74JC27_1,  SR01,    20,  1, 112055, 112055,2,19980101,2124,-58.9997, -55.8723, -999,    765.5,   1.6040,  34.7060,2,  34.7150,2,   -999.0,9,  1.5610,   -999.0,9,  -999.00,9,  -999.00,9,  -999.00,9,  -999.00,9
      74JC27_1,  SR01,    20,  1, 112054, 112054,2,19980101,2124,-58.9997, -55.8723, -999,   1529.3,   0.9140,  34.7030,2,  34.7030,2,   -999.0,9,  0.8280,   -999.0,9,  -999.00,9,  -999.00,9,  -999.00,9,  -999.00,9
      74JC27_1,  SR01,    20,  1, 112053, 112053,2,19980101,2124,-58.9997, -55.8723, -999,   2039.3,   0.6100,  34.6960,2,  34.6960,2,   -999.0,9,  0.4920,   -999.0,9,  -999.00,9,  -999.00,9,  -999.00,9,  -999.00,9
      74JC27_1,  SR01,    20,  1, 112052, 112052,2,19980101,2124,-58.9997, -55.8723, -999,   2552.6,   0.3440,  34.6840,2,  34.6850,2,   -999.0,9,  0.1900,   -999.0,9,  -999.00,9,  -999.00,9,  -999.00,9,  -999.00,9
      74JC27_1,  SR01,    20,  1, 112051, 112051,2,19980101,2124,-58.9997, -55.8723, -999,   3067.1,   0.1290,  34.6720,2,  34.6690,2,   -999.0,9, -0.0630,   -999.0,9,  -999.00,9,  -999.00,9,  -999.00,9,  -999.00,9
      74JC27_1,  SR01,    20,  1, 112050, 112050,2,19980101,2124,-58.9997, -55.8723, -999,   3581.6,  -0.0340,  34.6630,2,  34.6620,2,   -999.0,9, -0.2680,   -999.0,9,  -999.00,9,  -999.00,9,  -999.00,9,  -999.00,9
      74JC27_1,  SR01,    20,  1, 112049, 112049,2,19980101,2124,-58.9997, -55.8723, -999,   3830.9,  -0.1070,  34.6600,2,  34.6580,2,   -999.0,9, -0.3640,   -999.0,9,  -999.00,9,  -999.00,9,  -999.00,9,  -999.00,9
      74JC27_1,  SR01,    21,  1, 112066, 112066,2,19980102,0330,-59.2188, -56.0860, -999,     12.6,   1.7330,  33.8700,2,  33.8680,2,   -999.0,9,  1.7320,   -999.0,9,  -999.00,9,  -999.00,9,  -999.00,9,  -999.00,9
      74JC27_1,  SR01,    21,  1, 112065, 112065,2,19980102,0330,-59.2188, -56.0860, -999,     94.5,  -0.7200,  34.0780,2,  34.1030,2,   -999.0,9, -0.7220,   -999.0,9,  -999.00,9,  -999.00,9,  -999.00,9,  -999.00,9
      74JC27_1,  SR01,    21,  1, 112064, 112064,2,19980102,0330,-59.2188, -56.0860, -999,    509.5,   1.7790,  34.6750,2,  34.1050,3,   -999.0,9,  1.7510,   -999.0,9,  -999.00,9,  -999.00,9,  -999.00,9,  -999.00,9
      74JC27_1,  SR01,    21,  1, 112063, 112063,2,19980102,0330,-59.2188, -56.0860, -999,    814.8,   1.6230,  34.7180,2,  34.7190,2,   -999.0,9,  1.5770,   -999.0,9,  -999.00,9,  -999.00,9,  -999.00,9,  -999.00,9
      74JC27_1,  SR01,    21,  1, 112062, 112062,2,19980102,0330,-59.2188, -56.0860, -999,   1215.6,   1.2180,  34.7200,2,  34.7210,2,   -999.0,9,  1.1500,   -999.0,9,  -999.00,9,  -999.00,9,  -999.00,9,  -999.00,9
      74JC27_1,  SR01,    21,  1, 112061, 112061,2,19980102,0330,-59.2188, -56.0860, -999,   1833.9,   0.7020,  34.6990,2,  34.6970,2,   -999.0,9,  0.5980,   -999.0,9,  -999.00,9,  -999.00,9,  -999.00,9,  -999.00,9
      74JC27_1,  SR01,    22,  1, 112071, 112071,2,19980102,0906,-59.1157, -55.4607, -999,      9.5,   1.7620,  33.8530,2,  33.8540,2,   -999.0,9,  1.7610,   -999.0,9,  -999.00,9,  -999.00,9,  -999.00,9,  -999.00,9
      74JC27_1,  SR01,    22,  1, 112070, 112070,2,19980102,0906,-59.1157, -55.4607, -999,    501.7,   1.6230,  34.6380,2,  34.6500,2,   -999.0,9,  1.5970,   -999.0,9,  -999.00,9,  -999.00,9,  -999.00,9,  -999.00,9
      74JC27_1,  SR01,    22,  1, 112069, 112069,2,19980102,0906,-59.1157, -55.4607, -999,    803.4,   1.5430,  34.6990,2,  34.6500,2,   -999.0,9,  1.4990,   -999.0,9,  -999.00,9,  -999.00,9,  -999.00,9,  -999.00,9
      74JC27_1,  SR01,    22,  1, 112068, 112068,2,19980102,0906,-59.1157, -55.4607, -999,   1211.6,   1.2640,  34.7180,2,  34.7070,2,   -999.0,9,  1.1960,   -999.0,9,  -999.00,9,  -999.00,9,  -999.00,9,  -999.00,9
      74JC27_1,  SR01,    22,  1, 112067, 112067,2,19980102,0906,-59.1157, -55.4607, -999,   1825.0,   0.8360,  34.7110,2,  34.7130,2,   -999.0,9,  0.7310,   -999.0,9,  -999.00,9,  -999.00,9,  -999.00,9,  -999.00,9
      74JC27_1,  SR01,    23,  1, 112082, 112082,2,19980102,1442,-58.8417, -55.9588, -999,     14.5,   1.6740,  33.8650,2,  33.8740,2,   -999.0,9,  1.6730,   -999.0,9,  -999.00,9,  -999.00,9,  -999.00,9,  -999.00,9
      74JC27_1,  SR01,    23,  1, 112081, 112081,2,19980102,1442,-58.8417, -55.9588, -999,     53.6,  -0.5330,  33.9200,2,  33.9130,2,   -999.0,9, -0.5340,   -999.0,9,  -999.00,9,  -999.00,9,  -999.00,9,  -999.00,9
      74JC27_1,  SR01,    23,  1, 112080, 112080,2,19980102,1442,-58.8417, -55.9588, -999,    104.2,  -0.0040,  34.1170,2,  34.0860,2,   -999.0,9, -0.0070,   -999.0,9,  -999.00,9,  -999.00,9,  -999.00,9,  -999.00,9
      74JC27_1,  SR01,    23,  1, 112079, 112079,2,19980102,1442,-58.8417, -55.9588, -999,    256.8,   1.9890,  34.5200,2,  34.4760,2,   -999.0,9,  1.9750,   -999.0,9,  -999.00,9,  -999.00,9,  -999.00,9,  -999.00,9
      74JC27_1,  SR01,    23,  1, 112078, 112078,2,19980102,1442,-58.8417, -55.9588, -999,    510.5,   1.9780,  34.6600,2,  34.6640,2,   -999.0,9,  1.9490,   -999.0,9,  -999.00,9,  -999.00,9,  -999.00,9,  -999.00,9
      74JC27_1,  SR01,    23,  1, 112077, 112077,2,19980102,1442,-58.8417, -55.9588, -999,   1016.3,   1.5480,  34.7210,2,  34.7250,2,   -999.0,9,  1.4910,   -999.0,9,  -999.00,9,  -999.00,9,  -999.00,9,  -999.00,9
      74JC27_1,  SR01,    23,  1, 112076, 112076,2,19980102,1442,-58.8417, -55.9588, -999,   1528.1,   1.1300,  34.7180,2,  34.7200,2,   -999.0,9,  1.0410,   -999.0,9,  -999.00,9,  -999.00,9,  -999.00,9,  -999.00,9
      74JC27_1,  SR01,    23,  1, 112075, 112075,2,19980102,1442,-58.8417, -55.9588, -999,   2039.9,   0.7800,  34.7100,2,  34.7090,2,   -999.0,9,  0.6590,   -999.0,9,  -999.00,9,  -999.00,9,  -999.00,9,  -999.00,9
      74JC27_1,  SR01,    23,  1, 112074, 112074,2,19980102,1442,-58.8417, -55.9588, -999,   3066.3,   0.2170,  34.6790,2,  34.6760,2,   -999.0,9,  0.0230,   -999.0,9,  -999.00,9,  -999.00,9,  -999.00,9,  -999.00,9
      74JC27_1,  SR01,    23,  1, 112073, 112073,2,19980102,1442,-58.8417, -55.9588, -999,   3581.9,   0.0490,  34.6660,2,  34.6640,2,   -999.0,9, -0.1880,   -999.0,9,  -999.00,9,  -999.00,9,  -999.00,9,  -999.00,9
      74JC27_1,  SR01,    23,  1, 112072, 112072,2,19980102,1442,-58.8417, -55.9588, -999,   3899.8,  -0.0710,  34.6620,2,  34.6970,2,   -999.0,9, -0.3350,   -999.0,9,  -999.00,9,  -999.00,9,  -999.00,9,  -999.00,9
      74JC27_1,  SR01,    24,  1, 112094, 112094,2,19980102,1921,-58.6828, -56.0698, -999,     13.6,   1.9840,  33.8120,2,  33.8040,2,   -999.0,9,  1.9840,   -999.0,9,  -999.00,9,  -999.00,9,  -999.00,9,  -999.00,9
      74JC27_1,  SR01,    24,  1, 112093, 112093,2,19980102,1921,-58.6828, -56.0698, -999,     55.0,  -0.6190,  33.8630,2,  33.8610,2,   -999.0,9, -0.6200,   -999.0,9,  -999.00,9,  -999.00,9,  -999.00,9,  -999.00,9
      74JC27_1,  SR01,    24,  1, 112092, 112092,2,19980102,1921,-58.6828, -56.0698, -999,    130.3,   1.7990,  34.3130,2,  34.2730,2,   -999.0,9,  1.7920,   -999.0,9,  -999.00,9,  -999.00,9,  -999.00,9,  -999.00,9
      74JC27_1,  SR01,    24,  1, 112091, 112091,2,19980102,1921,-58.6828, -56.0698, -999,    256.8,   2.0110,  34.4860,2,  34.4760,2,   -999.0,9,  1.9970,   -999.0,9,  -999.00,9,  -999.00,9,  -999.00,9,  -999.00,9
      74JC27_1,  SR01,    24,  1, 112090, 112090,2,19980102,1921,-58.6828, -56.0698, -999,    507.1,   2.0950,  34.6490,2,  34.6410,2,   -999.0,9,  2.0660,   -999.0,9,  -999.00,9,  -999.00,9,  -999.00,9,  -999.00,9
      74JC27_1,  SR01,    24,  1, 112089, 112089,2,19980102,1921,-58.6828, -56.0698, -999,   1015.7,   1.6900,  34.7260,2,  34.7210,2,   -999.0,9,  1.6310,   -999.0,9,  -999.00,9,  -999.00,9,  -999.00,9,  -999.00,9
      74JC27_1,  SR01,    24,  1, 112088, 112088,2,19980102,1921,-58.6828, -56.0698, -999,   1524.3,   1.1850,  34.7230,2,  34.7210,2,   -999.0,9,  1.0960,   -999.0,9,  -999.00,9,  -999.00,9,  -999.00,9,  -999.00,9
      74JC27_1,  SR01,    24,  1, 112087, 112087,2,19980102,1921,-58.6828, -56.0698, -999,   2029.8,   0.8660,  34.7160,2,  34.7130,2,   -999.0,9,  0.7450,   -999.0,9,  -999.00,9,  -999.00,9,  -999.00,9,  -999.00,9
      74JC27_1,  SR01,    24,  1, 112086, 112086,2,19980102,1921,-58.6828, -56.0698, -999,   2547.9,   0.6100,  34.7040,2,  34.6980,2,   -999.0,9,  0.4520,   -999.0,9,  -999.00,9,  -999.00,9,  -999.00,9,  -999.00,9
      74JC27_1,  SR01,    24,  1, 112085, 112085,2,19980102,1921,-58.6828, -56.0698, -999,   3065.4,   0.3130,  34.6880,2,  34.6820,2,   -999.0,9,  0.1170,   -999.0,9,  -999.00,9,  -999.00,9,  -999.00,9,  -999.00,9
      74JC27_1,  SR01,    24,  1, 112084, 112084,2,19980102,1921,-58.6828, -56.0698, -999,   3580.5,   0.0690,  34.6700,2,  34.6660,2,   -999.0,9, -0.1680,   -999.0,9,  -999.00,9,  -999.00,9,  -999.00,9,  -999.00,9
      74JC27_1,  SR01,    24,  1, 112083, 112083,2,19980102,1921,-58.6828, -56.0698, -999,   3810.4,  -0.0800,  34.6630,2,  34.6970,3,   -999.0,9, -0.3360,   -999.0,9,  -999.00,9,  -999.00,9,  -999.00,9,  -999.00,9
      74JC27_1,  SR01,    25,  1, 112106, 112106,2,19980103,0038,-58.5252, -56.1683, -999,     15.3,   2.0750,  33.7970,2,  33.8000,2,   -999.0,9,  2.0740,   -999.0,9,  -999.00,9,  -999.00,9,  -999.00,9,  -999.00,9
      74JC27_1,  SR01,    25,  1, 112105, 112105,2,19980103,0038,-58.5252, -56.1683, -999,     56.1,  -0.4880,  33.8330,2,  33.9330,2,   -999.0,9, -0.4890,   -999.0,9,  -999.00,9,  -999.00,9,  -999.00,9,  -999.00,9
      74JC27_1,  SR01,    25,  1, 112104, 112104,2,19980103,0038,-58.5252, -56.1683, -999,    106.1,  -1.0350,  33.9480,2,  33.9680,2,   -999.0,9, -1.0380,   -999.0,9,  -999.00,9,  -999.00,9,  -999.00,9,  -999.00,9
      74JC27_1,  SR01,    25,  1, 112103, 112103,2,19980103,0038,-58.5252, -56.1683, -999,    254.9,   1.8150,  34.4310,2,  34.4700,2,   -999.0,9,  1.8010,   -999.0,9,  -999.00,9,  -999.00,9,  -999.00,9,  -999.00,9
      74JC27_1,  SR01,    25,  1, 112102, 112102,2,19980103,0038,-58.5252, -56.1683, -999,    511.7,   2.0910,  34.6340,2,  34.6420,2,   -999.0,9,  2.0620,   -999.0,9,  -999.00,9,  -999.00,9,  -999.00,9,  -999.00,9
      74JC27_1,  SR01,    25,  1, 112101, 112101,2,19980103,0038,-58.5252, -56.1683, -999,   1017.5,   1.6840,  34.7210,2,  34.7220,2,   -999.0,9,  1.6250,   -999.0,9,  -999.00,9,  -999.00,9,  -999.00,9,  -999.00,9
      74JC27_1,  SR01,    25,  1, 112100, 112100,2,19980103,0038,-58.5252, -56.1683, -999,   1525.5,   1.2360,  34.7220,2,  34.7240,2,   -999.0,9,  1.1470,   -999.0,9,  -999.00,9,  -999.00,9,  -999.00,9,  -999.00,9
      74JC27_1,  SR01,    25,  1, 112099, 112099,2,19980103,0038,-58.5252, -56.1683, -999,   2028.7,   0.8490,  34.7120,2,  34.7130,2,   -999.0,9,  0.7280,   -999.0,9,  -999.00,9,  -999.00,9,  -999.00,9,  -999.00,9
      74JC27_1,  SR01,    25,  1, 112098, 112098,2,19980103,0038,-58.5252, -56.1683, -999,   2544.0,   0.7020,  34.7080,2,  34.7080,2,   -999.0,9,  0.5420,   -999.0,9,  -999.00,9,  -999.00,9,  -999.00,9,  -999.00,9
      74JC27_1,  SR01,    25,  1, 112097, 112097,2,19980103,0038,-58.5252, -56.1683, -999,   3058.9,   0.3590,  34.6870,2,  34.6870,2,   -999.0,9,  0.1630,   -999.0,9,  -999.00,9,  -999.00,9,  -999.00,9,  -999.00,9
      74JC27_1,  SR01,    25,  1, 112096, 112096,2,19980103,0038,-58.5252, -56.1683, -999,   3570.8,   0.0940,  34.6670,2,  34.6670,2,   -999.0,9, -0.1430,   -999.0,9,  -999.00,9,  -999.00,9,  -999.00,9,  -999.00,9
      74JC27_1,  SR01,    25,  1, 112095, 112095,2,19980103,0038,-58.5252, -56.1683, -999,   3849.6,  -0.0570,  34.6610,2,  34.6970,2,   -999.0,9, -0.3170,   -999.0,9,  -999.00,9,  -999.00,9,  -999.00,9,  -999.00,9