BOTTLE,20060322WHPSIOSA
EXPOCODE,SECT_ID,STNNBR,CASTNO,SAMPNO,BTLNBR,BTLNBR_FLAG_W,DATE,TIME,LATITUDE,LONGITUDE,DEPTH,CTDPRS,CTDTMP,CTDSAL,CTDSAL_FLAG_W,SALNTY,SALNTY_FLAG_W,CTDOXY,CTDOXY_FLAG_W,THETA,OXYGEN,OXYGEN_FLAG_W,SILCAT,SILCAT_FLAG_W,NO2+NO3,NO2+NO3_FLAG_W,PHSPHT,PHSPHT_FLAG_W,CFC-11,CFC-11_FLAG_W,CFC-12,CFC-12_FLAG_W,TRITUM,TRITUM_FLAG_W,HELIUM,HELIUM_FLAG_W,DELHE3,DELHE3_FLAG_W,DELC14,DELC14_FLAG_W,TCARBN,TCARBN_FLAG_W,HELIER,TRITER,C14ERR,DELHER,BEDFORT
,,,,,,,,,,,,DBAR,ITS-90,PSS-78,,PSS-78,,UMOL/KG,,ITS-90,UMOL/KG,,UMOL/KG,,UMOL/KG,,UMOL/KG,,PMOL/KG,,PMOL/KG,,TU,,NMOL/KG,,PERCNT,,/MILLE,,UMOL/KG,,NMOL/KG,TU,/MILLE,PERCNT,NUM
      06MT30_3,  A01E,   516,  1,      0,   -999,2,19941129,0908, 59.2567, -35.0817, 3032,      5.0,   5.4000,-999.0000,9,  34.8000,2,   -999.0,9,-999.0000,   -999.0,9,  -999.00,9,  -999.00,9,  -999.00,9, -999.000,9, -999.000,9, -999.000,9,-999.0000,9,  -999.00,9,   -999.0,9,   2117.0,2,-999.0000,-999.000,  -999.0,-999.000,    -999
      06MT30_3,  A01E,   516,  1,     22,   B023,2,19941129,0908, 59.2567, -35.0817, 3032,     17.8,   5.5860,  34.6766,2,  34.6761,2,   -999.0,1,  5.5846,    294.8,2,     5.49,2,    13.10,2,     0.87,2,    4.556,2,    2.319,2,    1.746,2,   1.7815,2,    -1.50,2,   -999.0,9,   2115.5,2,  0.0071,   0.047,  -999.0,   0.100,  102300
      06MT30_3,  A01E,   516,  1,     21,   K040,2,19941129,0908, 59.2567, -35.0817, 3032,     49.1,   5.5890,  34.6767,2,  34.6760,2,   -999.0,1,  5.5850,    294.7,2,     5.49,2,    13.10,2,     0.88,2, -999.000,9, -999.000,9, -999.000,9,-999.0000,9,  -999.00,9,   -999.0,9,   2116.4,2,-999.0000,-999.000,  -999.0,-999.000,  102299
      06MT30_3,  A01E,   516,  1,     20,   K097,2,19941129,0908, 59.2567, -35.0817, 3032,    101.5,   5.5900,  34.6794,2,  34.6777,2,   -999.0,1,  5.5817,    294.4,2,     5.56,2,    13.10,2,     0.87,2, -999.000,9, -999.000,9, -999.000,9,-999.0000,9,  -999.00,9,   -999.0,9,   2116.9,2,-999.0000,-999.000,  -999.0,-999.000,  102298
      06MT30_3,  A01E,   516,  1,     18,   B003,2,19941129,0908, 59.2567, -35.0817, 3032,    246.1,   3.8800,  34.8632,2,  34.8615,2,   -999.0,1,  3.8629,    277.3,2,     9.86,2,    17.89,2,     1.14,2,    3.769,2,    1.818,2,    1.622,2,   1.7892,2,     2.75,2,   -999.0,9,   2153.1,2,  0.0072,   0.036,  -999.0,   0.150,  102296
      06MT30_3,  A01E,   516,  1,     17,   K124,2,19941129,0908, 59.2567, -35.0817, 3032,    399.7,   3.6150,  34.8800,2,  34.8788,2,   -999.0,1,  3.5875,    281.6,2,    10.00,2,    17.72,2,     1.12,2, -999.000,9, -999.000,9, -999.000,9,-999.0000,9,  -999.00,9,   -999.0,9,   -999.0,9,-999.0000,-999.000,  -999.0,-999.000,  102295
      06MT30_3,  A01E,   516,  1,     16,   K114,2,19941129,0908, 59.2567, -35.0817, 3032,    548.3,   3.3900,  34.8763,2,  34.8752,2,   -999.0,1,  3.3527,    287.5,2,     9.88,2,    17.52,2,     1.10,2,    3.527,2,    1.672,2, -999.000,9,-999.0000,9,  -999.00,9,   -999.0,9,   -999.0,9,-999.0000,-999.000,  -999.0,-999.000,  102294
      06MT30_3,  A01E,   516,  1,     15,   U010,2,19941129,0908, 59.2567, -35.0817, 3032,    698.8,   3.2020,  34.8667,2,  34.8661,2,   -999.0,1,  3.1547,    291.5,2,     9.87,2,    17.38,2,     1.09,2, -999.000,9, -999.000,9, -999.000,9,-999.0000,9,  -999.00,9,   -999.0,9,   -999.0,9,-999.0000,-999.000,  -999.0,-999.000,  102293
      06MT30_3,  A01E,   516,  1,     14,   U002,2,19941129,0908, 59.2567, -35.0817, 3032,    849.5,   3.0780,  34.8603,2,  34.8599,2,   -999.0,1,  3.0203,    295.9,2,     9.73,2,    17.17,2,     1.09,2,    3.830,2,    1.873,2,    1.546,2,   1.7911,2,     2.56,2,   -999.0,9,   -999.0,9,  0.0072,   0.035,  -999.0,   0.120,  102292
      06MT30_3,  A01E,   516,  1,     13,   B009,2,19941129,0908, 59.2567, -35.0817, 3032,    999.9,   3.0160,  34.8554,2,  34.8555,2,   -999.0,1,  2.9474,    298.5,2,     9.66,2,    17.01,2,     1.09,2, -999.000,9, -999.000,9, -999.000,9,-999.0000,9,  -999.00,9,   -999.0,9,   2147.7,2,-999.0000,-999.000,  -999.0,-999.000,  102291
      06MT30_3,  A01E,   516,  1,     12,   K117,2,19941129,0908, 59.2567, -35.0817, 3032,   1200.2,   2.9770,  34.8523,2,  34.8528,2,   -999.0,1,  2.8931,    301.6,2,     9.51,2,    16.92,2,     1.07,2,    4.100,2,    2.025,2,    1.646,2,   1.7965,2,     1.29,2,   -999.0,9,   -999.0,9,  0.0072,   0.023,  -999.0,   0.150,  102290
      06MT30_3,  A01E,   516,  1,     11,   B008,2,19941129,0908, 59.2567, -35.0817, 3032,   1398.6,   2.9980,  34.8554,2,  34.8559,2,   -999.0,1,  2.8979,    302.2,2,     9.48,2,    16.90,2,     1.07,2,    4.003,2,    2.013,2, -999.000,9,-999.0000,9,  -999.00,9,   -999.0,9,   -999.0,9,-999.0000,-999.000,  -999.0,-999.000,  102289
      06MT30_3,  A01E,   516,  1,     10,   K115,2,19941129,0908, 59.2567, -35.0817, 3032,   1801.4,   2.9450,  34.8477,2,  34.8479,2,   -999.0,1,  2.8113,    299.6,2,     9.54,2,    16.77,2,     1.07,2,    3.816,2,    1.845,2,    1.578,2,   1.7941,2,     2.04,2,   -999.0,9,   -999.0,9,  0.0072,   0.017,  -999.0,   0.110,  102288
      06MT30_3,  A01E,   516,  1,      9,   K036,2,19941129,0908, 59.2567, -35.0817, 3032,   2000.6,   2.9450,  34.8494,2,  34.8482,2,   -999.0,1,  2.7935,    298.0,2,     9.60,2,    16.74,2,     1.07,2,    3.719,2,    1.792,2, -999.000,9,-999.0000,9,  -999.00,9,   -999.0,9,   -999.0,9,-999.0000,-999.000,  -999.0,-999.000,  102287
      06MT30_3,  A01E,   516,  1,      8,   U017,2,19941129,0908, 59.2567, -35.0817, 3032,   2153.2,   3.0810,  34.8796,2,  34.8792,2,   -999.0,1,  2.9132,    288.7,2,    10.26,2,    16.75,2,     1.07,2,    2.969,2,    1.429,2,    1.503,2,   1.8630,2,     4.04,3,   -999.0,9,   -999.0,9,  0.0075,   0.035,  -999.0,   0.150,  102286
      06MT30_3,  A01E,   516,  1,      7,   B004,2,19941129,0908, 59.2567, -35.0817, 3032,   2299.9,   3.1460,  34.9039,2,  34.9045,2,   -999.0,1,  2.9631,    282.0,2,    11.01,2,    16.72,2,     1.08,2,    2.346,2,    1.118,2, -999.000,9,-999.0000,9,  -999.00,9,   -999.0,9,   2150.7,2,-999.0000,-999.000,  -999.0,-999.000,  102285
      06MT30_3,  A01E,   516,  1,      6,   U006,2,19941129,0908, 59.2567, -35.0817, 3032,   2449.2,   3.1520,  34.9202,2,  34.9219,2,   -999.0,1,  2.9544,    277.5,2,    11.71,2,    16.72,2,     1.08,2,    1.930,2,    0.882,2,    1.241,2,   1.7974,2,     7.10,2,   -999.0,9,   -999.0,9,  0.0072,   0.029,  -999.0,   0.110,  102284
      06MT30_3,  A01E,   516,  1,      5,   U023,2,19941129,0908, 59.2567, -35.0817, 3032,   2600.4,   3.0990,  34.9267,2,  34.9284,2,   -999.0,1,  2.8873,    276.1,2,    12.31,2,    16.68,2,     1.08,2,    1.767,2,    0.805,2, -999.000,9,-999.0000,9,  -999.00,9,   -999.0,9,   -999.0,9,-999.0000,-999.000,  -999.0,-999.000,  102283
      06MT30_3,  A01E,   516,  1,      4,   K056,2,19941129,0908, 59.2567, -35.0817, 3032,   2700.3,   3.0620,  34.9292,2,  34.9299,2,   -999.0,1,  2.8409,    276.1,2,    12.55,2,    16.66,2,     1.07,2,    1.721,2,    0.750,2,    1.107,2,   1.8006,2,     7.33,2,   -999.0,9,   -999.0,9,  0.0072,   0.029,  -999.0,   0.110,  102282
      06MT30_3,  A01E,   516,  1,      3,   U018,2,19941129,0908, 59.2567, -35.0817, 3032,   2902.6,   2.9020,  34.9270,2,  34.9271,2,   -999.0,1,  2.6635,    276.7,2,    12.64,2,    16.45,2,     1.06,2,    1.770,2,    0.779,2,    1.116,2,   1.8009,2,     7.33,2,   -999.0,9,   -999.0,9,  0.0072,   0.022,  -999.0,   0.130,  102281
      06MT30_3,  A01E,   516,  1,      2,   U022,2,19941129,0908, 59.2567, -35.0817, 3032,   3008.9,   2.7430,  34.9198,2,  34.9212,2,   -999.0,1,  2.4969,    279.4,2,    12.54,2,    16.30,2,     1.04,2,    1.981,2,    0.897,2,    1.196,2,   1.8026,2,     6.96,2,   -999.0,9,   -999.0,9,  0.0072,   0.027,  -999.0,   0.130,  102280
      06MT30_3,  A01E,   516,  1,      1,   B025,2,19941129,0908, 59.2567, -35.0817, 3032,   3040.3,   2.6970,  34.9166,2,  34.9179,2,   -999.0,1,  2.4487,    280.5,2,    12.42,2,    16.17,2,     1.04,2,    2.034,2,    0.914,2,    1.225,2,   1.8005,2,     6.52,2,   -999.0,9,   2151.5,2,  0.0072,   0.020,  -999.0,   0.130,  102279
      06MT30_3,  A01E,   517,  1,      0,   -999,2,19941129,1546, 59.1317, -33.7883, 2305,      5.0,   5.7000,-999.0000,9,  34.8010,2,   -999.0,9,-999.0000,   -999.0,9,  -999.00,9,  -999.00,9,  -999.00,9, -999.000,9, -999.000,9, -999.000,9,-999.0000,9,  -999.00,9,   -999.0,9,   2116.5,2,-999.0000,-999.000,  -999.0,-999.000,    -999
      06MT30_3,  A01E,   517,  1,     21,   K040,2,19941129,1546, 59.1317, -33.7883, 2305,     19.1,   6.2170,  34.7721,2,  34.7734,2,   -999.0,1,  6.2154,    288.9,2,     5.82,2,    13.36,2,     0.88,2,    4.435,2,    2.179,2,    1.730,2,   1.7741,2,    -1.26,2,   -999.0,9,   2118.6,2,  0.0071,   0.025,  -999.0,   0.110,  102323
      06MT30_3,  A01E,   517,  1,     20,   K097,2,19941129,1546, 59.1317, -33.7883, 2305,     48.2,   6.4270,  34.8111,2,  34.8107,2,   -999.0,1,  6.4228,    287.7,2,     5.90,2,    13.55,2,     0.87,2,    4.214,2,    2.147,2,    1.661,2,   1.7676,2,    -1.35,2,   -999.0,9,   2118.3,2,  0.0071,   0.026,  -999.0,   0.130,  102322
      06MT30_3,  A01E,   517,  1,     19,   U015,2,19941129,1546, 59.1317, -33.7883, 2305,    398.1,   4.7560,  34.9171,2,  34.9149,2,   -999.0,1,  4.7251,    262.5,2,     9.70,2,    17.76,2,     1.12,2,    3.399,2,    1.631,2,    1.515,2,   1.7774,2,     3.24,2,   -999.0,9,   2151.6,2,  0.0071,   0.022,  -999.0,   0.120,  102321
      06MT30_3,  A01E,   517,  1,     18,   B003,2,19941129,1546, 59.1317, -33.7883, 2305,    897.3,   3.3940,  34.8867,2,  34.8865,2,   -999.0,1,  3.3304,    286.2,2,     9.89,2,    17.24,2,     1.07,2, -999.000,9, -999.000,9, -999.000,9,-999.0000,9,  -999.00,9,   -999.0,9,   2149.5,2,-999.0000,-999.000,  -999.0,-999.000,  102320
      06MT30_3,  A01E,   517,  1,      2,   U022,2,19941129,1546, 59.1317, -33.7883, 2305,   1399.2,   3.0540,  34.8626,2,  34.8627,2,   -999.0,1,  2.9532,    298.9,2,     9.57,2,    16.86,2,     1.07,2,    3.873,2,    1.870,2, -999.000,5,   1.7943,2,     2.28,2,   -999.0,9,   -999.0,9,  0.0072,-999.000,  -999.0,   0.120,  102304
      06MT30_3,  A01E,   517,  1,      5,   U023,2,19941129,1546, 59.1317, -33.7883, 2305,   1399.4,   3.0560,  34.8630,2,  34.8626,2,   -999.0,1,  2.9552,    298.0,2,     9.51,2,    16.75,2,     1.09,2, -999.000,9, -999.000,9, -999.000,9,-999.0000,9,  -999.00,9,   -999.0,9,   -999.0,9,-999.0000,-999.000,  -999.0,-999.000,  102307
      06MT30_3,  A01E,   517,  1,      7,   B004,2,19941129,1546, 59.1317, -33.7883, 2305,   1399.8,   3.0580,  34.8627,2,  34.8642,2,   -999.0,1,  2.9571,    298.3,2,     9.52,2,    16.73,2,     1.07,2, -999.000,9, -999.000,9, -999.000,9,-999.0000,9,  -999.00,9,   -999.0,9,   -999.0,9,-999.0000,-999.000,  -999.0,-999.000,  102309
      06MT30_3,  A01E,   517,  1,      4,   K056,2,19941129,1546, 59.1317, -33.7883, 2305,   1399.8,   3.0570,  34.8628,2,  34.8630,2,   -999.0,1,  2.9562,    298.7,2,     9.47,2,    16.75,2,     1.07,2, -999.000,9, -999.000,9, -999.000,9,-999.0000,9,  -999.00,9,   -999.0,9,   -999.0,9,-999.0000,-999.000,  -999.0,-999.000,  102306
      06MT30_3,  A01E,   517,  1,     17,   K124,2,19941129,1546, 59.1317, -33.7883, 2305,   1400.0,   3.0340,  34.8602,2,  34.8596,2,   -999.0,1,  2.9334,    299.7,2,     9.48,2,    16.86,2,     1.05,2, -999.000,9, -999.000,9, -999.000,9,-999.0000,9,  -999.00,9,   -999.0,9,   -999.0,9,-999.0000,-999.000,  -999.0,-999.000,  102319
      06MT30_3,  A01E,   517,  1,      6,   U006,2,19941129,1546, 59.1317, -33.7883, 2305,   1400.0,   3.0580,  34.8625,2,  34.8618,2,   -999.0,1,  2.9571,    298.5,2,     9.54,2,    16.77,2,     1.07,2, -999.000,9, -999.000,9, -999.000,9,-999.0000,9,  -999.00,9,   -999.0,9,   -999.0,9,-999.0000,-999.000,  -999.0,-999.000,  102308
      06MT30_3,  A01E,   517,  1,     16,   K114,2,19941129,1546, 59.1317, -33.7883, 2305,   1400.6,   3.0330,  34.8602,2,  34.8597,2,   -999.0,1,  2.9324,    299.4,2,     9.49,2,    16.86,2,     1.07,2, -999.000,9, -999.000,9, -999.000,9,-999.0000,9,  -999.00,9,   -999.0,9,   -999.0,9,-999.0000,-999.000,  -999.0,-999.000,  102318
      06MT30_3,  A01E,   517,  1,      3,   U018,2,19941129,1546, 59.1317, -33.7883, 2305,   1401.2,   3.0540,  34.8629,2,  34.8629,2,   -999.0,1,  2.9531,    298.2,2,     9.49,2,    16.73,2,     1.08,2,    3.757,2,    1.863,2,    1.653,2,   1.7979,2,     2.16,2,   -999.0,9,   -999.0,9,  0.0072,   0.030,  -999.0,   0.110,  102305
      06MT30_3,  A01E,   517,  1,      9,   K036,2,19941129,1546, 59.1317, -33.7883, 2305,   1401.3,   3.0510,  34.8623,2,  34.8628,2,   -999.0,1,  2.9501,    298.4,2,     9.51,2,    16.77,2,     1.07,2, -999.000,9, -999.000,9, -999.000,9,-999.0000,9,  -999.00,9,   -999.0,9,   -999.0,9,-999.0000,-999.000,  -999.0,-999.000,  102311
      06MT30_3,  A01E,   517,  1,     10,   K115,2,19941129,1546, 59.1317, -33.7883, 2305,   1401.4,   3.0410,  34.8607,2,  34.8621,2,   -999.0,1,  2.9402,    298.9,2,     9.52,2,    16.90,2,     1.08,2, -999.000,9, -999.000,9, -999.000,9,-999.0000,9,  -999.00,9,   -999.0,9,   -999.0,9,-999.0000,-999.000,  -999.0,-999.000,  102312
      06MT30_3,  A01E,   517,  1,      8,   U017,2,19941129,1546, 59.1317, -33.7883, 2305,   1401.6,   3.0580,  34.8630,2,  34.8628,2,   -999.0,1,  2.9570,    298.0,2,     9.54,2,    16.73,2,     1.06,2, -999.000,9, -999.000,9, -999.000,9,-999.0000,9,  -999.00,9,   -999.0,9,   -999.0,9,-999.0000,-999.000,  -999.0,-999.000,  102310
      06MT30_3,  A01E,   517,  1,     11,   B008,2,19941129,1546, 59.1317, -33.7883, 2305,   1402.1,   3.0390,  34.8608,2,  34.8601,2,   -999.0,1,  2.9382,    299.4,2,     9.50,2,    16.80,2,     1.06,2, -999.000,9, -999.000,9, -999.000,9,-999.0000,9,  -999.00,9,   -999.0,9,   -999.0,9,-999.0000,-999.000,  -999.0,-999.000,  102313
      06MT30_3,  A01E,   517,  1,     14,   U002,2,19941129,1546, 59.1317, -33.7883, 2305,   1402.3,   3.0390,  34.8609,2,  34.8612,2,   -999.0,1,  2.9381,    299.0,2,     9.53,2,    16.89,2,     1.06,2, -999.000,9, -999.000,9, -999.000,9,-999.0000,9,  -999.00,9,   -999.0,9,   -999.0,9,-999.0000,-999.000,  -999.0,-999.000,  102316
      06MT30_3,  A01E,   517,  1,     15,   U010,2,19941129,1546, 59.1317, -33.7883, 2305,   1402.5,   3.0330,  34.8599,2,  34.8594,2,   -999.0,1,  2.9322,    299.5,2,     9.52,2,    16.88,2,     1.06,2, -999.000,9, -999.000,9, -999.000,9,-999.0000,9,  -999.00,9,   -999.0,9,   -999.0,9,-999.0000,-999.000,  -999.0,-999.000,  102317
      06MT30_3,  A01E,   517,  1,     13,   B009,2,19941129,1546, 59.1317, -33.7883, 2305,   1402.5,   3.0380,  34.8606,2,  34.8601,2,   -999.0,1,  2.9371,    299.1,2,     9.53,2,    16.84,2,     1.07,2, -999.000,9, -999.000,9, -999.000,9,-999.0000,9,  -999.00,9,   -999.0,9,   -999.0,9,-999.0000,-999.000,  -999.0,-999.000,  102315
      06MT30_3,  A01E,   517,  1,     12,   K117,2,19941129,1546, 59.1317, -33.7883, 2305,   1402.7,   3.0420,  34.8607,2,  34.8618,2,   -999.0,1,  2.9411,    298.8,2,     9.53,2,    16.86,2,     1.07,2, -999.000,9, -999.000,9, -999.000,9,-999.0000,9,  -999.00,9,   -999.0,9,   -999.0,9,-999.0000,-999.000,  -999.0,-999.000,  102314
      06MT30_3,  A01E,   517,  1,      1,   B025,2,19941129,1546, 59.1317, -33.7883, 2305,   2270.3,   3.1550,  34.9261,2,  34.9254,2,   -999.0,1,  2.9747,    278.3,2,    11.85,2,    16.70,2,     1.07,2,    2.025,2,    0.936,2,    1.206,2,   1.7878,2,     6.61,2,   -999.0,9,   2151.8,2,  0.0072,   0.038,  -999.0,   0.120,  102303