BOTTLE,20060322WHPSIOSA
EXPOCODE,SECT_ID,STNNBR,CASTNO,SAMPNO,BTLNBR,BTLNBR_FLAG_W,DATE,TIME,LATITUDE,LONGITUDE,DEPTH,CTDPRS,CTDTMP,CTDSAL,CTDSAL_FLAG_W,SALNTY,SALNTY_FLAG_W,CTDOXY,CTDOXY_FLAG_W,THETA,OXYGEN,OXYGEN_FLAG_W,SILCAT,SILCAT_FLAG_W,NO2+NO3,NO2+NO3_FLAG_W,PHSPHT,PHSPHT_FLAG_W,CFC-11,CFC-11_FLAG_W,CFC-12,CFC-12_FLAG_W,TRITUM,TRITUM_FLAG_W,HELIUM,HELIUM_FLAG_W,DELHE3,DELHE3_FLAG_W,DELC14,DELC14_FLAG_W,TCARBN,TCARBN_FLAG_W,HELIER,TRITER,C14ERR,DELHER,BEDFORT
,,,,,,,,,,,,DBAR,ITS-90,PSS-78,,PSS-78,,UMOL/KG,,ITS-90,UMOL/KG,,UMOL/KG,,UMOL/KG,,UMOL/KG,,PMOL/KG,,PMOL/KG,,TU,,NMOL/KG,,PERCNT,,/MILLE,,UMOL/KG,,NMOL/KG,TU,/MILLE,PERCNT,NUM
      06MT30_3,  A01E,   510,  1,     24,   K012,2,19941125,1411, 59.8667, -41.2233, 2003,     19.8,   5.3120,  34.7985,2,  34.7977,2,   -999.0,1,  5.3104,    297.3,2,     5.33,2,    13.17,2,     0.90,2,    4.543,2,    2.300,2,    1.740,2,   1.7464,2,    -1.71,2,   -999.0,9,   2126.7,2,  0.0070,   0.049,  -999.0,   0.150,  102158
      06MT30_3,  A01E,   510,  1,     23,   K125,2,19941125,1411, 59.8667, -41.2233, 2003,     47.8,   5.3310,  34.8029,2,  34.8015,2,   -999.0,1,  5.3272,    296.5,2,     5.40,2,    13.33,2,     0.90,2, -999.000,9, -999.000,9, -999.000,9,-999.0000,9,  -999.00,9,   -999.0,9,   2126.6,2,-999.0000,-999.000,  -999.0,-999.000,  102157
      06MT30_3,  A01E,   510,  1,     22,   B023,2,19941125,1411, 59.8667, -41.2233, 2003,     99.6,   5.4590,  34.8619,2,  34.8609,2,   -999.0,1,  5.4509,    295.0,2,     5.78,2,    13.92,2,     0.93,2, -999.000,9, -999.000,9, -999.000,9,-999.0000,9,  -999.00,9,   -999.0,9,   -999.0,9,-999.0000,-999.000,  -999.0,-999.000,  102156
      06MT30_3,  A01E,   510,  1,     21,   K040,2,19941125,1411, 59.8667, -41.2233, 2003,    200.0,   4.9970,  34.9504,2,  34.9498,2,   -999.0,1,  4.9814,    279.8,2,     8.71,2,    16.99,2,     1.15,4,    3.934,2,    1.904,2,    1.578,2,   1.7780,2,     1.04,2,   -999.0,9,   2154.8,2,  0.0071,   0.040,  -999.0,   0.160,  102155
      06MT30_3,  A01E,   510,  1,     20,   K097,2,19941125,1411, 59.8667, -41.2233, 2003,    299.9,   4.5010,  34.9265,2,  34.9269,2,   -999.0,1,  4.4785,    280.9,2,     9.02,2,    17.16,2,     1.11,2, -999.000,9, -999.000,9, -999.000,9,-999.0000,9,  -999.00,9,   -999.0,9,   -999.0,9,-999.0000,-999.000,  -999.0,-999.000,  102154
      06MT30_3,  A01E,   510,  1,     19,   K126,2,19941125,1411, 59.8667, -41.2233, 2003,    402.4,   4.0910,  34.9104,2,  34.9101,2,   -999.0,1,  4.0618,    283.3,2,     9.30,2,    17.34,2,     1.12,2,    3.802,2,    1.867,2,    1.602,2,   1.7832,2,     1.68,2,   -999.0,9,   2155.3,2,  0.0071,   0.066,  -999.0,   0.150,  102153
      06MT30_3,  A01E,   510,  1,     18,   B003,2,19941125,1411, 59.8667, -41.2233, 2003,    499.1,   3.8160,  34.8997,2,  34.8991,2,   -999.0,1,  3.7805,    286.8,2,     9.39,2,    17.41,2,     1.12,2, -999.000,9, -999.000,9, -999.000,9,-999.0000,9,  -999.00,9,   -999.0,9,   -999.0,9,-999.0000,-999.000,  -999.0,-999.000,  102152
      06MT30_3,  A01E,   510,  1,     17,   K124,2,19941125,1411, 59.8667, -41.2233, 2003,    599.2,   3.5960,  34.8942,2,  34.8939,2,   -999.0,1,  3.5540,    288.3,2,     9.49,2,    17.35,2,     1.12,2,    3.667,2,    1.772,2,    1.517,2,   1.7900,2,     2.61,2,   -999.0,9,   -999.0,9,  0.0072,   0.040,  -999.0,   0.150,  102151
      06MT30_3,  A01E,   510,  1,     16,   K114,2,19941125,1411, 59.8667, -41.2233, 2003,    697.8,   3.4370,  34.8882,2,  34.8877,2,   -999.0,1,  3.3884,    290.3,2,     9.53,2,    17.29,2,     1.12,2, -999.000,9, -999.000,9, -999.000,9,-999.0000,9,  -999.00,9,   -999.0,9,   2155.3,2,-999.0000,-999.000,  -999.0,-999.000,  102150
      06MT30_3,  A01E,   510,  1,     15,   U010,2,19941125,1411, 59.8667, -41.2233, 2003,    799.0,   3.3210,  34.8831,2,  34.8831,2,   -999.0,1,  3.2655,    292.9,2,     9.57,2,    17.24,2,     1.12,2,    3.639,2,    1.777,2, -999.000,9,-999.0000,9,  -999.00,9,   -999.0,9,   -999.0,9,-999.0000,-999.000,  -999.0,-999.000,  102149
      06MT30_3,  A01E,   510,  1,     14,   U002,2,19941125,1411, 59.8667, -41.2233, 2003,    902.2,   3.2090,  34.8744,2,  34.8747,2,   -999.0,1,  3.1464,    295.4,2,     9.53,2,    17.22,2,     1.13,2,    3.729,2,    1.807,2,    1.602,2,   1.7925,2,     2.37,2,   -999.0,9,   -999.0,9,  0.0072,   0.033,  -999.0,   0.150,  102148
      06MT30_3,  A01E,   510,  1,     13,   B013,2,19941125,1411, 59.8667, -41.2233, 2003,   1000.1,   3.1250,  34.8670,2,  34.8679,2,   -999.0,1,  3.0555,    297.4,2,     9.51,2,    17.18,2,     1.12,2, -999.000,9, -999.000,9, -999.000,9,-999.0000,9,  -999.00,9,   -999.0,9,   -999.0,9,-999.0000,-999.000,  -999.0,-999.000,  102147
      06MT30_3,  A01E,   510,  1,     12,   K117,2,19941125,1411, 59.8667, -41.2233, 2003,   1098.3,   3.0700,  34.8632,2,  34.8636,2,   -999.0,1,  2.9933,    298.3,2,     9.48,2,    17.10,2,     1.11,2, -999.000,9, -999.000,9, -999.000,9,-999.0000,9,  -999.00,9,   -999.0,9,   -999.0,9,-999.0000,-999.000,  -999.0,-999.000,  102146
      06MT30_3,  A01E,   510,  1,     11,   B008,2,19941125,1411, 59.8667, -41.2233, 2003,   1199.1,   3.0270,  34.8590,2,  34.8598,2,   -999.0,1,  2.9427,    299.9,2,     9.47,2,    17.10,2,     1.10,2,    3.612,2,    1.778,2,    1.517,2,   1.7908,2,     1.78,2,   -999.0,9,   2151.7,2,  0.0072,   0.048,  -999.0,   0.110,  102145
      06MT30_3,  A01E,   510,  1,     10,   K115,2,19941125,1411, 59.8667, -41.2233, 2003,   1300.8,   3.0030,  34.8581,2,  34.8589,2,   -999.0,1,  2.9108,    300.8,2,     9.45,2,    17.08,2,     1.10,2, -999.000,9, -999.000,9, -999.000,9,-999.0000,9,  -999.00,9,   -999.0,9,   -999.0,9,-999.0000,-999.000,  -999.0,-999.000,  102144
      06MT30_3,  A01E,   510,  1,      9,   K036,2,19941125,1411, 59.8667, -41.2233, 2003,   1398.6,   2.9920,  34.8586,2,  34.8594,2,   -999.0,1,  2.8920,    297.8,2,     9.53,2,    17.03,2,     1.10,2,    3.659,2,    1.772,2,    1.488,2,   1.7933,2,     2.52,2,   -999.0,9,   -999.0,9,  0.0072,   0.049,  -999.0,   0.150,  102143
      06MT30_3,  A01E,   510,  1,      8,   U017,2,19941125,1411, 59.8667, -41.2233, 2003,   1503.4,   3.0060,  34.8708,2,  34.8713,2,   -999.0,1,  2.8971,    292.1,2,     9.80,2,    16.82,2,     1.09,2,    3.236,2,    1.551,2,    1.541,2,   1.7918,2,     3.61,2,   -999.0,9,   -999.0,9,  0.0072,   0.036,  -999.0,   0.150,  102142
      06MT30_3,  A01E,   510,  1,      7,   B004,2,19941125,1411, 59.8667, -41.2233, 2003,   1598.6,   3.0530,  34.8978,2,  34.8963,3,   -999.0,1,  2.9354,    284.5,2,    10.58,2,    16.84,2,     1.10,2,    2.577,2,    1.198,2,    1.416,2,   1.5810,2,     6.37,4,   -999.0,9,   -999.0,9,  0.0063,   0.054,  -999.0,   0.120,  102141
      06MT30_3,  A01E,   510,  1,      6,   K017,2,19941125,1411, 59.8667, -41.2233, 2003,   1701.7,   2.9720,  34.9131,2,  34.9132,2,   -999.0,1,  2.8465,    280.9,2,    11.25,2,    16.64,2,     1.10,2,    2.171,2,    0.983,2,    1.245,2,   1.7658,2,     6.20,2,   -999.0,9,   2153.9,2,  0.0071,   0.025,  -999.0,   0.120,  102140
      06MT30_3,  A01E,   510,  1,      5,   U023,2,19941125,1411, 59.8667, -41.2233, 2003,   1801.2,   2.5690,  34.8782,2,  34.8782,2,   -999.0,1,  2.4404,    291.1,2,     9.63,2,    15.95,2,     1.06,2,    3.235,2,    1.542,2,    1.342,2,   1.7902,2,     4.03,2,   -999.0,9,   -999.0,9,  0.0072,   0.023,  -999.0,   0.160,  102139
      06MT30_3,  A01E,   510,  1,      4,   K056,2,19941125,1411, 59.8667, -41.2233, 2003,   1844.1,   2.4890,  34.8825,2,  34.8802,3,   -999.0,1,  2.3578,    290.7,2,     9.82,2,    15.90,2,     1.04,2,    3.146,2,    1.557,2,    1.425,2,   1.7939,2,     4.10,2,   -999.0,9,   -999.0,9,  0.0072,   0.037,  -999.0,   0.160,  102138
      06MT30_3,  A01E,   510,  1,      3,   U018,2,19941125,1411, 59.8667, -41.2233, 2003,   1897.5,   2.3460,  34.8768,2,  34.8767,2,   -999.0,1,  2.2123,    292.2,2,     9.58,2,    15.69,2,     1.04,2,    3.311,2,    1.618,2,    1.551,2,   1.8052,2,     4.25,2,   -999.0,9,   -999.0,9,  0.0072,   0.017,  -999.0,   0.150,  102137
      06MT30_3,  A01E,   510,  1,      2,   K052,2,19941125,1411, 59.8667, -41.2233, 2003,   1949.8,   2.0170,  34.8712,2,  34.8712,2,   -999.0,1,  1.8837,    296.3,2,     9.21,2,    15.31,2,     1.01,2,    3.370,2,    1.567,2,    1.567,2,   1.8011,2,     3.62,2,   -999.0,9,   -999.0,9,  0.0072,   0.026,  -999.0,   0.150,  102136
      06MT30_3,  A01E,   510,  1,      1,   K038,2,19941125,1411, 59.8667, -41.2233, 2003,   2008.2,   1.8820,  34.8666,2,  34.8667,2,   -999.0,1,  1.7459,    299.0,2,     8.90,2,    15.11,2,     1.00,2,    3.769,2,    1.825,2,    1.602,2,   1.8121,2,     3.72,2,   -999.0,9,   2151.8,2,  0.0072,   0.038,  -999.0,   0.110,  102135
      06MT30_3,  A01E,   511,  1,      0,   -999,2,19941125,1858, 59.8483, -40.8917, 2302,      5.0,   5.2000,-999.0000,9,  34.8270,2,   -999.0,9,-999.0000,   -999.0,9,  -999.00,9,  -999.00,9,  -999.00,9, -999.000,9, -999.000,9, -999.000,9,-999.0000,9,  -999.00,9,   -999.0,9,   2125.4,2,-999.0000,-999.000,  -999.0,-999.000,    -999
      06MT30_3,  A01E,   511,  1,     20,   K097,4,19941125,1858, 59.8483, -40.8917, 2302,     33.9,   5.3400,  34.8301,3,  34.8298,2,   -999.0,1,  5.3373,    295.8,2,     5.74,2,    13.57,2,     0.91,2,    4.591,2,    2.255,2, -999.000,9,-999.0000,9,  -999.00,9,   -999.0,9,   2126.9,2,-999.0000,-999.000,  -999.0,-999.000,  102178
      06MT30_3,  A01E,   511,  1,     19,   K126,4,19941125,1858, 59.8483, -40.8917, 2302,     54.9,   5.3400,  34.8321,3,  34.8290,2,   -999.0,1,  5.3356,    296.2,2,     5.73,2,    13.62,2,     0.91,2, -999.000,9, -999.000,9, -999.000,9,-999.0000,9,  -999.00,9,   -999.0,9,   2126.7,2,-999.0000,-999.000,  -999.0,-999.000,  102177
      06MT30_3,  A01E,   511,  1,     18,   B003,4,19941125,1858, 59.8483, -40.8917, 2302,     98.8,   5.3430,  34.8342,3,  34.8324,2,   -999.0,1,  5.3351,    295.7,2,     5.76,2,    13.75,2,     0.92,2,    4.738,2,    2.328,2, -999.000,9,-999.0000,9,  -999.00,9,   -999.0,9,   2127.3,2,-999.0000,-999.000,  -999.0,-999.000,  102176
      06MT30_3,  A01E,   511,  1,     17,   K124,4,19941125,1858, 59.8483, -40.8917, 2302,    184.7,   5.3380,  34.9552,3,  34.9709,2,   -999.0,1,  5.3231,    277.5,2,     8.67,2,    16.76,2,     1.09,2,    4.052,2,    1.960,2, -999.000,9,-999.0000,9,  -999.00,9,   -999.0,9,   2150.8,2,-999.0000,-999.000,  -999.0,-999.000,  102175
      06MT30_3,  A01E,   511,  1,     16,   K114,4,19941125,1858, 59.8483, -40.8917, 2302,    352.5,   4.3580,  34.9184,3,  34.9191,2,   -999.0,1,  4.3318,    279.6,2,     9.28,2,    17.02,2,     1.09,2,    3.916,2,    1.860,2, -999.000,9,-999.0000,9,  -999.00,9,   -999.0,9,   -999.0,9,-999.0000,-999.000,  -999.0,-999.000,  102174
      06MT30_3,  A01E,   511,  1,     15,   U010,4,19941125,1858, 59.8483, -40.8917, 2302,    500.4,   4.0180,  34.9124,3,  34.9097,2,   -999.0,1,  3.9816,    282.1,2,     9.52,2,    17.16,2,     1.12,2, -999.000,9, -999.000,9, -999.000,9,-999.0000,9,  -999.00,9,   -999.0,9,   -999.0,9,-999.0000,-999.000,  -999.0,-999.000,  102173
      06MT30_3,  A01E,   511,  1,     14,   U002,4,19941125,1858, 59.8483, -40.8917, 2302,    654.3,   3.6540,  34.8855,3,  34.8886,2,   -999.0,1,  3.6076,    288.6,2,     9.56,2,    17.36,2,     1.13,2,    3.876,2,    1.843,2, -999.000,9,-999.0000,9,  -999.00,9,   -999.0,9,   -999.0,9,-999.0000,-999.000,  -999.0,-999.000,  102172
      06MT30_3,  A01E,   511,  1,     13,   B013,4,19941125,1858, 59.8483, -40.8917, 2302,    757.3,   3.5080,  34.8965,3,  34.8959,2,   -999.0,1,  3.4545,    287.6,2,     9.71,2,    17.21,2,     1.12,2, -999.000,9, -999.000,9, -999.000,9,-999.0000,9,  -999.00,9,   -999.0,9,   -999.0,9,-999.0000,-999.000,  -999.0,-999.000,  102171
      06MT30_3,  A01E,   511,  1,     12,   K117,4,19941125,1858, 59.8483, -40.8917, 2302,   1003.3,   3.2200,  34.8765,3,  34.8767,2,   -999.0,1,  3.1495,    294.5,2,     9.78,2,    17.27,2,     1.14,2,    3.779,2,    1.772,2,    1.575,2,   1.7776,2,     2.67,2,   -999.0,9,   -999.0,9,  0.0071,   0.052,  -999.0,   0.110,  102170
      06MT30_3,  A01E,   511,  1,     11,   B008,4,19941125,1858, 59.8483, -40.8917, 2302,   1097.4,   3.1450,  34.8694,3,  34.8698,2,   -999.0,1,  3.0677,    296.5,2,     9.71,2,    17.21,2,     1.12,2, -999.000,9, -999.000,9,    1.563,2,   1.7980,2,     2.75,2,   -999.0,9,   -999.0,9,  0.0072,   0.038,  -999.0,   0.110,  102169
      06MT30_3,  A01E,   511,  1,     10,   K115,4,19941125,1858, 59.8483, -40.8917, 2302,   1204.4,   3.1040,  34.8694,3,  34.8672,2,   -999.0,1,  3.0186,    296.7,2,     9.68,2,    17.11,2,     1.12,2,    3.704,2,    1.733,2,    1.602,2,   1.7947,2,     2.64,2,   -999.0,9,   -999.0,9,  0.0072,   0.041,  -999.0,   0.120,  102168
      06MT30_3,  A01E,   511,  1,      9,   K036,4,19941125,1858, 59.8483, -40.8917, 2302,   1292.5,   3.0700,  34.8683,3,  34.8644,2,   -999.0,1,  2.9778,    297.4,2,     9.65,2,    17.11,2,     1.12,2, -999.000,9, -999.000,9,    1.642,2,-999.0000,5,  -999.00,5,   -999.0,9,   2152.4,2,-999.0000,   0.030,  -999.0,-999.000,  102167
      06MT30_3,  A01E,   511,  1,      8,   U017,4,19941125,1858, 59.8483, -40.8917, 2302,   1499.7,   3.0480,  34.8733,3,  34.8747,2,   -999.0,1,  2.9389,    291.6,2,    10.01,2,    16.93,2,     1.11,2,    3.393,2,    1.556,2,    1.503,2,   1.7930,2,     3.97,2,   -999.0,9,   -999.0,9,  0.0072,   0.044,  -999.0,   0.120,  102166
      06MT30_3,  A01E,   511,  1,      7,   B004,4,19941125,1858, 59.8483, -40.8917, 2302,   1591.8,   3.0460,  34.8802,3,  34.8825,2,   -999.0,1,  2.9291,    288.7,2,    10.12,2,    16.84,2,     1.10,2,    3.158,2,    1.443,2,    1.553,2,   1.7981,2,     4.56,2,   -999.0,9,   -999.0,9,  0.0072,   0.064,  -999.0,   0.120,  102165
      06MT30_3,  A01E,   511,  1,      6,   K017,4,19941125,1858, 59.8483, -40.8917, 2302,   1629.8,   3.0180,  34.8992,3,  34.8952,2,   -999.0,1,  2.8981,    285.3,2,    10.58,2,    16.80,2,     1.10,2,    2.811,2,    1.271,2,    1.332,2,   1.8046,2,     5.50,2,   -999.0,9,   -999.0,9,  0.0072,   0.036,  -999.0,   0.160,  102164
      06MT30_3,  A01E,   511,  1,      4,   K056,4,19941125,1858, 59.8483, -40.8917, 2302,   2097.5,   2.0240,  34.8759,3,  34.8681,2,   -999.0,1,  1.8781,    297.5,2,     9.04,2,    15.40,2,     1.03,2,    3.726,2,    1.724,2,    1.527,2,-999.0000,5,  -999.00,5,   -999.0,9,   -999.0,9,-999.0000,   0.047,  -999.0,-999.000,  102162
      06MT30_3,  A01E,   511,  1,      3,   U018,2,19941125,1858, 59.8483, -40.8917, 2302,   2198.7,   1.9900,  34.8675,2,  34.8679,2,   -999.0,1,  1.8359,    297.7,2,     8.96,2,    15.34,2,     1.03,2,    3.815,2,    1.804,2,    1.527,2,-999.0000,5,  -999.00,5,   -999.0,9,   2152.4,2,-999.0000,   0.047,  -999.0,-999.000,  102161
      06MT30_3,  A01E,   511,  1,      2,   K052,2,19941125,1858, 59.8483, -40.8917, 2302,   2278.6,   1.9140,  34.8668,2,  34.8660,2,   -999.0,1,  1.7542,    298.5,2,     8.93,2,    15.26,2,     1.01,2,    3.540,2,    1.678,2,    1.449,3,   1.8166,2,     3.55,2,   -999.0,9,   -999.0,9,  0.0073,   0.027,  -999.0,   0.100,  102160
      06MT30_3,  A01E,   511,  1,      1,   K038,2,19941125,1858, 59.8483, -40.8917, 2302,   2316.2,   1.9110,  34.8664,2,  34.8665,2,   -999.0,1,  1.7480,    299.2,2,     8.92,2,    15.29,2,     1.00,2, -999.000,9, -999.000,9,    1.696,3,   2.4775,2,     3.24,4,   -999.0,9,   2151.9,2,  0.0099,   0.037,  -999.0,   0.160,  102159