BOTTLE,20060322WHPSIOSA
EXPOCODE,SECT_ID,STNNBR,CASTNO,SAMPNO,BTLNBR,BTLNBR_FLAG_W,DATE,TIME,LATITUDE,LONGITUDE,DEPTH,CTDPRS,CTDTMP,CTDSAL,CTDSAL_FLAG_W,SALNTY,SALNTY_FLAG_W,CTDOXY,CTDOXY_FLAG_W,THETA,OXYGEN,OXYGEN_FLAG_W,SILCAT,SILCAT_FLAG_W,NO2+NO3,NO2+NO3_FLAG_W,PHSPHT,PHSPHT_FLAG_W,CFC-11,CFC-11_FLAG_W,CFC-12,CFC-12_FLAG_W,TRITUM,TRITUM_FLAG_W,HELIUM,HELIUM_FLAG_W,DELHE3,DELHE3_FLAG_W,DELC14,DELC14_FLAG_W,TCARBN,TCARBN_FLAG_W,HELIER,TRITER,C14ERR,DELHER,BEDFORT
,,,,,,,,,,,,DBAR,ITS-90,PSS-78,,PSS-78,,UMOL/KG,,ITS-90,UMOL/KG,,UMOL/KG,,UMOL/KG,,UMOL/KG,,PMOL/KG,,PMOL/KG,,TU,,NMOL/KG,,PERCNT,,/MILLE,,UMOL/KG,,NMOL/KG,TU,/MILLE,PERCNT,NUM
      06MT30_3,  A01E,   534,  1,      0,   -999,2,19941204,0422, 54.2933, -25.8750, 3075,      5.0,   8.8000,-999.0000,9,  34.7330,2,   -999.0,9,-999.0000,   -999.0,9,  -999.00,9,  -999.00,9,  -999.00,9, -999.000,9, -999.000,9, -999.000,9,-999.0000,9,  -999.00,9,   -999.0,9,   2089.9,2,-999.0000,-999.000,  -999.0,-999.000,    -999
      06MT30_3,  A01E,   534,  1,     24,   K012,2,19941204,0422, 54.2933, -25.8750, 3075,     23.2,   8.8780,  34.6024,2,  34.5992,2,   -999.0,1,  8.8755,    274.7,2,     1.62,2,     7.87,2,     0.60,2,    3.726,3,    1.962,3, -999.000,9,-999.0000,9,  -999.00,9,   -999.0,9,   2087.5,2,-999.0000,-999.000,  -999.0,-999.000,  102710
      06MT30_3,  A01E,   534,  1,     23,   K125,2,19941204,0422, 54.2933, -25.8750, 3075,     51.6,   8.8850,  34.6019,2,  34.6002,2,   -999.0,1,  8.8795,    274.0,2,     1.62,2,     7.98,2,     0.60,2, -999.000,9, -999.000,9, -999.000,9,-999.0000,9,  -999.00,9,   -999.0,9,   -999.0,9,-999.0000,-999.000,  -999.0,-999.000,  102709
      06MT30_3,  A01E,   534,  1,     22,   B023,2,19941204,0422, 54.2933, -25.8750, 3075,     98.2,   8.8840,  34.8378,2,-999.0000,9,   -999.0,1,  8.8735,    242.1,2,     4.55,2,    11.75,2,     0.79,2,    3.381,3,    1.738,3, -999.000,9,-999.0000,9,  -999.00,9,   -999.0,9,   -999.0,9,-999.0000,-999.000,  -999.0,-999.000,  102708
      06MT30_3,  A01E,   534,  1,     21,   K040,2,19941204,0422, 54.2933, -25.8750, 3075,    148.2,   8.6650,  34.9985,2,  34.9957,2,   -999.0,1,  8.6493,    219.1,2,     7.35,2,    15.73,2,     1.01,2, -999.000,9, -999.000,9, -999.000,9,-999.0000,9,  -999.00,9,   -999.0,9,   2142.2,2,-999.0000,-999.000,  -999.0,-999.000,  102707
      06MT30_3,  A01E,   534,  1,     20,   K097,2,19941204,0422, 54.2933, -25.8750, 3075,    247.2,   7.0860,  34.8783,2,  34.8761,2,   -999.0,1,  7.0626,    220.7,2,     9.36,2,    17.94,2,     1.15,2,    2.770,2,    1.416,2, -999.000,9,-999.0000,9,  -999.00,9,   -999.0,9,   2153.9,2,-999.0000,-999.000,  -999.0,-999.000,  102706
      06MT30_3,  A01E,   534,  1,     19,   U015,2,19941204,0422, 54.2933, -25.8750, 3075,    345.1,   5.7130,  34.8081,2,  34.8064,2,   -999.0,1,  5.6838,    236.2,2,    10.00,2,    18.32,2,     1.17,2, -999.000,9, -999.000,9, -999.000,9,-999.0000,9,  -999.00,9,   -999.0,9,   2156.8,2,-999.0000,-999.000,  -999.0,-999.000,  102705
      06MT30_3,  A01E,   534,  1,     18,   B003,2,19941204,0422, 54.2933, -25.8750, 3075,    490.7,   5.1100,  34.8812,2,  34.8802,2,   -999.0,1,  5.0702,    254.8,2,     9.88,2,    18.03,2,     1.14,2,    3.240,3,    1.665,3, -999.000,9,-999.0000,9,  -999.00,9,   -999.0,9,   -999.0,9,-999.0000,-999.000,  -999.0,-999.000,  102704
      06MT30_3,  A01E,   534,  1,     17,   K124,2,19941204,0422, 54.2933, -25.8750, 3075,    649.7,   4.6850,  34.9229,2,  34.9229,2,   -999.0,1,  4.6337,    245.2,2,    10.77,2,    18.80,2,     1.18,2, -999.000,9, -999.000,9, -999.000,9,-999.0000,9,  -999.00,9,   -999.0,9,   -999.0,9,-999.0000,-999.000,  -999.0,-999.000,  102703
      06MT30_3,  A01E,   534,  1,     16,   K114,2,19941204,0422, 54.2933, -25.8750, 3075,    797.1,   4.2570,  34.9256,2,  34.9256,2,   -999.0,1,  4.1958,    256.3,2,    10.61,2,    18.52,2,     1.15,2,    2.510,2,    1.222,2, -999.000,9,-999.0000,9,  -999.00,9,   -999.0,9,   -999.0,9,-999.0000,-999.000,  -999.0,-999.000,  102702
      06MT30_3,  A01E,   534,  1,     15,   U010,2,19941204,0422, 54.2933, -25.8750, 3075,    942.1,   3.9840,  34.9196,2,  34.9197,2,   -999.0,1,  3.9126,    265.5,2,    10.51,2,    18.16,2,     1.13,2, -999.000,9, -999.000,9, -999.000,9,-999.0000,9,  -999.00,9,   -999.0,9,   -999.0,9,-999.0000,-999.000,  -999.0,-999.000,  102701
      06MT30_3,  A01E,   534,  1,     14,   U002,2,19941204,0422, 54.2933, -25.8750, 3075,   1097.8,   3.7000,  34.9012,2,  34.9013,2,   -999.0,1,  3.6179,    273.1,2,    10.32,2,    17.90,2,     1.11,2,    2.517,2,    1.215,2, -999.000,9,-999.0000,9,  -999.00,9,   -999.0,9,   -999.0,9,-999.0000,-999.000,  -999.0,-999.000,  102700
      06MT30_3,  A01E,   534,  1,     13,   B009,2,19941204,0422, 54.2933, -25.8750, 3075,   1299.0,   3.4850,  34.8889,2,  34.8888,2,   -999.0,1,  3.3881,    279.1,2,    10.28,2,    17.61,2,     1.10,2, -999.000,9, -999.000,9, -999.000,9,-999.0000,9,  -999.00,9,   -999.0,9,   -999.0,9,-999.0000,-999.000,  -999.0,-999.000,  102699
      06MT30_3,  A01E,   534,  1,     12,   K117,2,19941204,0422, 54.2933, -25.8750, 3075,   1498.4,   3.3520,  34.8841,2,  34.8841,2,   -999.0,1,  3.2395,    283.3,2,    10.27,2,    17.40,2,     1.09,2,    2.497,2,    1.212,2, -999.000,9,-999.0000,9,  -999.00,9,   -999.0,9,   -999.0,9,-999.0000,-999.000,  -999.0,-999.000,  102698
      06MT30_3,  A01E,   534,  1,     11,   B008,2,19941204,0422, 54.2933, -25.8750, 3075,   1699.0,   3.2710,  34.8869,2,  34.8863,2,   -999.0,1,  3.1419,    283.2,2,    10.55,2,    17.36,2,     1.08,2,    2.360,2,    1.129,2, -999.000,9,-999.0000,9,  -999.00,9,   -999.0,9,   2150.5,2,-999.0000,-999.000,  -999.0,-999.000,  102697
      06MT30_3,  A01E,   534,  1,     10,   K115,2,19941204,0422, 54.2933, -25.8750, 3075,   1900.4,   3.2990,  34.9097,2,  34.9090,2,   -999.0,1,  3.1513,    279.3,2,    11.02,2,    17.27,2,     1.08,2,    1.967,2,    0.938,2,    1.162,2,-999.0000,5,  -999.00,5,   -999.0,9,   -999.0,9,-999.0000,   0.019,  -999.0,-999.000,  102696
      06MT30_3,  A01E,   534,  1,      9,   K036,2,19941204,0422, 54.2933, -25.8750, 3075,   2099.1,   3.2710,  34.9308,2,  34.9302,2,   -999.0,1,  3.1051,    275.4,2,    12.21,2,    17.34,2,     1.08,2,    1.482,2,    0.669,2, -999.000,9,-999.0000,9,  -999.00,9,   -999.0,9,   -999.0,9,-999.0000,-999.000,  -999.0,-999.000,  102695
      06MT30_3,  A01E,   534,  1,      8,   B026,2,19941204,0422, 54.2933, -25.8750, 3075,   2298.8,   3.2110,  34.9419,2,  34.9435,2,   -999.0,1,  3.0270,    272.8,2,    13.02,2,    17.30,2,     1.09,2,    1.327,2,    0.596,2,    0.965,2,   1.7908,2,     7.70,2,   -999.0,9,   -999.0,9,  0.0072,   0.020,  -999.0,   0.160,  102694
      06MT30_3,  A01E,   534,  1,      7,   B004,2,19941204,0422, 54.2933, -25.8750, 3075,   2497.7,   3.1410,  34.9566,2,  34.9575,2,   -999.0,1,  2.9386,    272.3,2,    13.28,2,    17.06,2,     1.08,2, -999.000,9, -999.000,9, -999.000,9,-999.0000,9,  -999.00,9,   -999.0,9,   2155.1,2,-999.0000,-999.000,  -999.0,-999.000,  102693
      06MT30_3,  A01E,   534,  1,      6,   U006,2,19941204,0422, 54.2933, -25.8750, 3075,   2649.7,   2.9770,  34.9551,2,  34.9551,2,   -999.0,1,  2.7626,    270.3,2,    16.09,2,    17.40,2,     1.11,2,    1.263,2,    0.568,2,    0.842,2,   1.8061,2,     7.09,2,   -999.0,9,   -999.0,9,  0.0072,   0.019,  -999.0,   0.220,  102692
      06MT30_3,  A01E,   534,  1,      5,   U023,2,19941204,0422, 54.2933, -25.8750, 3075,   2805.7,   2.8740,  34.9561,2,  34.9557,2,   -999.0,1,  2.6459,    269.0,2,    18.18,2,    17.62,2,     1.12,2,    1.229,2,    0.545,2, -999.000,9,-999.0000,9,  -999.00,9,   -999.0,9,   -999.0,9,-999.0000,-999.000,  -999.0,-999.000,  102691
      06MT30_3,  A01E,   534,  1,      4,   K056,2,19941204,0422, 54.2933, -25.8750, 3075,   2901.0,   2.8090,  34.9521,2,  34.9517,2,   -999.0,1,  2.5725,    266.0,2,    20.67,2,    18.13,2,     1.16,2,    1.117,2,    0.508,2,    0.788,2,-999.0000,5,  -999.00,5,   -999.0,9,   -999.0,9,-999.0000,   0.019,  -999.0,-999.000,  102690
      06MT30_3,  A01E,   534,  1,      3,   U018,2,19941204,0422, 54.2933, -25.8750, 3075,   3000.3,   2.7770,  34.9497,2,  34.9491,2,   -999.0,1,  2.5310,    263.0,2,    22.46,2,    18.40,2,     1.19,2,    1.029,2,    0.468,2,    0.669,2,-999.0000,5,  -999.00,5,   -999.0,9,   -999.0,9,-999.0000,   0.017,  -999.0,-999.000,  102689
      06MT30_3,  A01E,   534,  1,      2,   U022,2,19941204,0422, 54.2933, -25.8750, 3075,   3049.4,   2.7770,  34.9500,2,  34.9497,2,   -999.0,1,  2.5259,    263.1,2,    22.58,2,    18.35,2,     1.19,2,    1.058,2,    0.475,2, -999.000,9,-999.0000,9,  -999.00,9,   -999.0,9,   -999.0,9,-999.0000,-999.000,  -999.0,-999.000,  102688
      06MT30_3,  A01E,   534,  1,      1,   B025,2,19941204,0422, 54.2933, -25.8750, 3075,   3094.1,   2.7570,  34.9479,2,  34.9479,2,   -999.0,1,  2.5016,    261.7,2,    23.86,2,    18.51,2,     1.21,2,    0.968,2,    0.444,2,    0.649,2,   1.8082,2,     6.06,2,   -999.0,9,   2173.7,2,  0.0072,   0.012,  -999.0,   0.220,  102687
      06MT30_3,  A01E,   535,  1,      0,   -999,2,19941204,0924, 53.9683, -25.6333, 3604,      5.0,   9.7000,-999.0000,9,  34.8780,2,   -999.0,9,-999.0000,   -999.0,9,  -999.00,9,  -999.00,9,  -999.00,9, -999.000,9, -999.000,9, -999.000,9,-999.0000,9,  -999.00,9,   -999.0,9,   2089.1,2,-999.0000,-999.000,  -999.0,-999.000,    -999
      06MT30_3,  A01E,   535,  1,     24,   K012,2,19941204,0924, 53.9683, -25.6333, 3604,     19.0,   9.9390,  34.9089,2,  34.9051,2,   -999.0,1,  9.9368,    268.0,2,     2.19,2,     7.22,2,     0.52,2, -999.000,9, -999.000,9, -999.000,9,-999.0000,9,  -999.00,9,   -999.0,9,   2089.0,2,-999.0000,-999.000,  -999.0,-999.000,  102734
      06MT30_3,  A01E,   535,  1,     23,   K125,2,19941204,0924, 53.9683, -25.6333, 3604,     49.7,  10.0790,  34.9453,2,  34.9359,2,   -999.0,1, 10.0733,    267.0,2,     2.23,2,     7.35,2,     0.53,2, -999.000,9, -999.000,9,    1.786,2,   1.7477,2,    -1.19,2,   -999.0,9,   -999.0,9,  0.0070,   0.025,  -999.0,   0.210,  102733
      06MT30_3,  A01E,   535,  1,     22,   B023,2,19941204,0924, 53.9683, -25.6333, 3604,     99.7,  10.3350,  35.0979,2,-999.0000,9,   -999.0,1, 10.3233,    252.6,2,     3.25,2,     9.61,2,     0.63,2, -999.000,9, -999.000,9, -999.000,9,-999.0000,9,  -999.00,9,   -999.0,9,   -999.0,9,-999.0000,-999.000,  -999.0,-999.000,  102732
      06MT30_3,  A01E,   535,  1,     21,   K040,2,19941204,0924, 53.9683, -25.6333, 3604,    150.0,  10.2390,  35.3227,2,  35.3193,2,   -999.0,1, 10.2213,    236.2,2,     5.35,2,    13.87,2,     0.86,2, -999.000,9, -999.000,9, -999.000,9,-999.0000,9,  -999.00,9,   -999.0,9,   2133.9,2,-999.0000,-999.000,  -999.0,-999.000,  102731
      06MT30_3,  A01E,   535,  1,     20,   K097,2,19941204,0924, 53.9683, -25.6333, 3604,    249.7,   9.0460,  35.1817,2,  35.1818,2,   -999.0,1,  9.0186,    241.0,2,     6.89,2,    15.08,2,     0.98,2, -999.000,9, -999.000,9, -999.000,9,-999.0000,9,  -999.00,9,   -999.0,9,   2139.5,2,-999.0000,-999.000,  -999.0,-999.000,  102730
      06MT30_3,  A01E,   535,  1,     19,   U015,2,19941204,0924, 53.9683, -25.6333, 3604,    350.5,   7.7530,  35.0069,2,  35.0117,2,   -999.0,1,  7.7178,    241.1,2,     8.22,2,    16.54,2,     1.06,2, -999.000,9, -999.000,9, -999.000,9,-999.0000,9,  -999.00,9,   -999.0,9,   2145.5,2,-999.0000,-999.000,  -999.0,-999.000,  102729
      06MT30_3,  A01E,   535,  1,     18,   B003,2,19941204,0924, 53.9683, -25.6333, 3604,    499.6,   6.1560,  34.9157,2,  34.9148,2,   -999.0,1,  6.1114,    232.9,2,    10.23,2,    18.48,2,     1.19,2, -999.000,9, -999.000,9,    1.477,2,   1.7761,2,     3.86,2,   -999.0,9,   -999.0,9,  0.0071,   0.024,  -999.0,   0.230,  102728
      06MT30_3,  A01E,   535,  1,     17,   K124,2,19941204,0924, 53.9683, -25.6333, 3604,    699.8,   5.1090,  34.9498,2,  34.9492,2,   -999.0,1,  5.0511,    236.3,2,    11.05,2,    19.13,2,     1.22,2, -999.000,9, -999.000,9, -999.000,9,-999.0000,9,  -999.00,9,   -999.0,9,   2164.9,2,-999.0000,-999.000,  -999.0,-999.000,  102727
      06MT30_3,  A01E,   535,  1,     16,   K114,2,19941204,0924, 53.9683, -25.6333, 3604,    900.1,   4.2990,  34.9387,2,  34.9392,2,   -999.0,1,  4.2288,    255.6,2,    10.78,2,    18.62,2,     1.17,2, -999.000,9, -999.000,9,    1.416,2,   1.7904,2,     6.47,2,   -999.0,9,   -999.0,9,  0.0072,   0.024,  -999.0,   0.230,  102726
      06MT30_3,  A01E,   535,  1,     15,   U010,2,19941204,0924, 53.9683, -25.6333, 3604,   1098.5,   3.8300,  34.9097,2,  34.9102,2,   -999.0,1,  3.7468,    269.7,2,    10.46,2,    18.23,2,     1.14,2, -999.000,9, -999.000,9, -999.000,9,-999.0000,9,  -999.00,9,   -999.0,9,   -999.0,9,-999.0000,-999.000,  -999.0,-999.000,  102725
      06MT30_3,  A01E,   535,  1,     14,   U002,2,19941204,0924, 53.9683, -25.6333, 3604,   1300.1,   3.5830,  34.8950,2,  34.8952,2,   -999.0,1,  3.4850,    276.9,2,    10.38,2,    17.77,2,     1.12,2, -999.000,9, -999.000,9,    1.331,2,-999.0000,5,  -999.00,5,   -999.0,9,   -999.0,9,-999.0000,   0.022,  -999.0,-999.000,  102724
      06MT30_3,  A01E,   535,  1,     13,   B009,2,19941204,0924, 53.9683, -25.6333, 3604,   1496.7,   3.4200,  34.8845,2,  34.8859,2,   -999.0,1,  3.3069,    280.7,2,    10.32,2,    17.60,2,     1.11,2, -999.000,9, -999.000,9, -999.000,9,-999.0000,9,  -999.00,9,   -999.0,9,   2152.4,2,-999.0000,-999.000,  -999.0,-999.000,  102723
      06MT30_3,  A01E,   535,  1,     12,   K117,2,19941204,0924, 53.9683, -25.6333, 3604,   1701.2,   3.3460,  34.8867,2,  34.8875,2,   -999.0,1,  3.2158,    281.9,2,    10.56,2,    17.50,2,     1.10,2, -999.000,9, -999.000,9, -999.000,5,   1.7974,2,     7.11,2,   -999.0,9,   -999.0,9,  0.0072,-999.000,  -999.0,   0.230,  102722
      06MT30_3,  A01E,   535,  1,     11,   B008,2,19941204,0924, 53.9683, -25.6333, 3604,   1899.8,   3.2880,  34.8935,2,  34.8929,2,   -999.0,1,  3.1406,    281.6,2,    10.78,2,    17.36,2,     1.09,2, -999.000,9, -999.000,9, -999.000,9,-999.0000,9,  -999.00,9,   -999.0,9,   -999.0,9,-999.0000,-999.000,  -999.0,-999.000,  102721
      06MT30_3,  A01E,   535,  1,     10,   K115,2,19941204,0924, 53.9683, -25.6333, 3604,   2100.7,   3.2990,  34.9118,2,  34.9132,2,   -999.0,1,  3.1326,    278.1,2,    11.38,2,    17.33,2,     1.12,2, -999.000,9, -999.000,9,    1.156,2,   1.7995,2,     7.46,2,   -999.0,9,   -999.0,9,  0.0072,   0.021,  -999.0,   0.230,  102720
      06MT30_3,  A01E,   535,  1,      9,   K036,2,19941204,0924, 53.9683, -25.6333, 3604,   2303.6,   3.2820,  34.9296,2,  34.9307,2,   -999.0,1,  3.0963,    274.6,2,    12.23,2,    17.35,2,     1.11,2, -999.000,9, -999.000,9, -999.000,9,-999.0000,9,  -999.00,9,   -999.0,9,   -999.0,9,-999.0000,-999.000,  -999.0,-999.000,  102719
      06MT30_3,  A01E,   535,  1,      8,   B026,2,19941204,0924, 53.9683, -25.6333, 3604,   2503.0,   3.2170,  34.9413,2,  34.9424,2,   -999.0,1,  3.0128,    272.7,2,    13.01,2,    17.32,2,     1.10,2, -999.000,9, -999.000,9,    0.954,2,-999.0000,5,  -999.00,5,   -999.0,9,   2152.8,2,-999.0000,   0.023,  -999.0,-999.000,  102718
      06MT30_3,  A01E,   535,  1,      7,   B004,2,19941204,0924, 53.9683, -25.6333, 3604,   2702.7,   3.1030,  34.9501,2,  34.9506,2,   -999.0,1,  2.8808,    271.0,2,    14.46,2,    17.35,2,     1.11,2, -999.000,9, -999.000,9, -999.000,9,-999.0000,9,  -999.00,9,   -999.0,9,   -999.0,9,-999.0000,-999.000,  -999.0,-999.000,  102717
      06MT30_3,  A01E,   535,  1,      6,   U006,2,19941204,0924, 53.9683, -25.6333, 3604,   2902.0,   2.9400,  34.9488,2,  34.9514,3,   -999.0,1,  2.7007,    270.7,2,    14.47,2,    17.31,2,     1.11,2, -999.000,9, -999.000,9,    0.964,2,-999.0000,5,  -999.00,5,   -999.0,9,   -999.0,9,-999.0000,   0.018,  -999.0,-999.000,  102716
      06MT30_3,  A01E,   535,  1,      5,   U023,2,19941204,0924, 53.9683, -25.6333, 3604,   3102.4,   2.8180,  34.9475,2,  34.9472,2,   -999.0,1,  2.5604,    261.1,2,    23.05,2,    18.62,2,     1.21,2,    1.280,2,    0.584,2, -999.000,9,-999.0000,9,  -999.00,9,   -999.0,9,   -999.0,9,-999.0000,-999.000,  -999.0,-999.000,  102715
      06MT30_3,  A01E,   535,  1,      4,   K056,2,19941204,0924, 53.9683, -25.6333, 3604,   3202.8,   2.7670,  34.9434,2,  34.9424,2,   -999.0,1,  2.5000,    258.8,2,    25.63,2,    19.02,2,     1.23,2,    0.972,2,    0.426,2,    0.604,2,   1.8120,2,     5.79,2,   -999.0,9,   -999.0,9,  0.0072,   0.014,  -999.0,   0.220,  102714
      06MT30_3,  A01E,   535,  1,      3,   U018,2,19941204,0924, 53.9683, -25.6333, 3604,   3342.0,   2.6950,  34.9352,2,  34.9341,2,   -999.0,1,  2.4148,    254.3,2,    30.57,2,    20.09,2,     1.32,2,    0.665,2,    0.303,2, -999.000,9,-999.0000,9,  -999.00,9,   -999.0,9,   -999.0,9,-999.0000,-999.000,  -999.0,-999.000,  102713
      06MT30_3,  A01E,   535,  1,      2,   U022,2,19941204,0924, 53.9683, -25.6333, 3604,   3419.1,   2.6750,  34.9324,2,  34.9326,2,   -999.0,1,  2.3870,    252.0,2,    31.72,2,    20.29,2,     1.34,2,    0.535,2,    0.248,2, -999.000,9,-999.0000,9,  -999.00,9,   -999.0,9,   -999.0,9,-999.0000,-999.000,  -999.0,-999.000,  102712
      06MT30_3,  A01E,   535,  1,      1,   B025,2,19941204,0924, 53.9683, -25.6333, 3604,   3517.0,   2.6500,  34.9289,2,  34.9286,2,   -999.0,1,  2.3519,    249.3,2,    34.12,2,    20.71,2,     1.37,2,    0.425,2,    0.206,2,    0.304,2,   1.8182,2,     4.33,2,   -999.0,9,   2187.9,2,  0.0073,   0.013,  -999.0,   0.230,  102711