BOTTLE,20060322WHPSIOSA
EXPOCODE,SECT_ID,STNNBR,CASTNO,SAMPNO,BTLNBR,BTLNBR_FLAG_W,DATE,TIME,LATITUDE,LONGITUDE,DEPTH,CTDPRS,CTDTMP,CTDSAL,CTDSAL_FLAG_W,SALNTY,SALNTY_FLAG_W,CTDOXY,CTDOXY_FLAG_W,THETA,OXYGEN,OXYGEN_FLAG_W,SILCAT,SILCAT_FLAG_W,NO2+NO3,NO2+NO3_FLAG_W,PHSPHT,PHSPHT_FLAG_W,CFC-11,CFC-11_FLAG_W,CFC-12,CFC-12_FLAG_W,TRITUM,TRITUM_FLAG_W,HELIUM,HELIUM_FLAG_W,DELHE3,DELHE3_FLAG_W,DELC14,DELC14_FLAG_W,TCARBN,TCARBN_FLAG_W,HELIER,TRITER,C14ERR,DELHER,BEDFORT
,,,,,,,,,,,,DBAR,ITS-90,PSS-78,,PSS-78,,UMOL/KG,,ITS-90,UMOL/KG,,UMOL/KG,,UMOL/KG,,UMOL/KG,,PMOL/KG,,PMOL/KG,,TU,,NMOL/KG,,PERCNT,,/MILLE,,UMOL/KG,,NMOL/KG,TU,/MILLE,PERCNT,NUM
      06MT30_3,  A01E,   546,  1,      0,   -999,2,19941214,1241, 52.3317, -15.7633, 3246,      5.0,  11.3000,-999.0000,9,  35.6330,2,   -999.0,9,-999.0000,   -999.0,9,  -999.00,9,  -999.00,9,  -999.00,9, -999.000,9, -999.000,9, -999.000,9,-999.0000,9,  -999.00,9,   -999.0,9,   2106.2,2,-999.0000,-999.000,  -999.0,-999.000,    -999
      06MT30_3,  A01E,   546,  1,     24,   K012,2,19941214,1241, 52.3317, -15.7633, 3246,     19.2,  11.4300,  35.5066,2,  35.5058,2,   -999.0,1, 11.4276,    259.5,2,     2.24,2,     8.07,2,     0.52,2,    3.206,3,    1.726,3, -999.000,9,-999.0000,9,  -999.00,9,   -999.0,9,   2104.3,2,-999.0000,-999.000,  -999.0,-999.000,  102998
      06MT30_3,  A01E,   546,  1,     23,   K125,2,19941214,1241, 52.3317, -15.7633, 3246,     48.0,  11.4360,  35.5064,2,  35.5054,2,   -999.0,1, 11.4299,    255.5,2,     2.23,2,     8.07,2,     0.51,2, -999.000,9, -999.000,9,    1.683,2,   1.7241,2,    -1.56,2,   -999.0,9,   -999.0,9,  0.0069,   0.030,  -999.0,   0.120,  102997
      06MT30_3,  A01E,   546,  1,     22,   B027,2,19941214,1241, 52.3317, -15.7633, 3246,     98.6,  11.4180,  35.5079,2,  35.5073,2,   -999.0,1, 11.4055,    256.0,2,     2.45,2,     8.58,2,     0.55,2, -999.000,9, -999.000,9, -999.000,9,-999.0000,9,  -999.00,9,   -999.0,9,   2108.5,2,-999.0000,-999.000,  -999.0,-999.000,  102996
      06MT30_3,  A01E,   546,  1,     21,   K040,2,19941214,1241, 52.3317, -15.7633, 3246,    147.8,  11.3630,  35.5089,2,  35.5062,2,   -999.0,1, 11.3443,    255.4,2,     2.61,2,     8.93,2,     0.56,2,    3.089,3,    1.696,3, -999.000,9,-999.0000,9,  -999.00,9,   -999.0,9,   2110.2,2,-999.0000,-999.000,  -999.0,-999.000,  102995
      06MT30_3,  A01E,   546,  1,     20,   K097,2,19941214,1241, 52.3317, -15.7633, 3246,    246.8,  11.0140,  35.4865,2,  35.4844,2,   -999.0,1, 10.9833,    248.4,2,     3.76,2,    11.35,2,     0.69,2, -999.000,9, -999.000,9,    1.729,2,-999.0000,5,  -999.00,5,   -999.0,9,   2122.3,2,-999.0000,   0.033,  -999.0,-999.000,  102994
      06MT30_3,  A01E,   546,  1,     19,   U015,2,19941214,1241, 52.3317, -15.7633, 3246,    398.4,  10.5460,  35.4459,2,  35.4452,2,   -999.0,1, 10.4975,    251.1,2,     4.40,2,    12.21,2,     0.75,2, -999.000,9, -999.000,9, -999.000,9,-999.0000,9,  -999.00,9,   -999.0,9,   -999.0,9,-999.0000,-999.000,  -999.0,-999.000,  102993
      06MT30_3,  A01E,   546,  1,     18,   B003,2,19941214,1241, 52.3317, -15.7633, 3246,    547.5,  10.1830,  35.4106,2,  35.4091,2,   -999.0,1, 10.1173,    254.0,2,     4.75,2,    12.59,2,     0.78,2,    3.165,3,    1.727,3, -999.000,9,-999.0000,9,  -999.00,9,   -999.0,9,   2127.5,2,-999.0000,-999.000,  -999.0,-999.000,  102992
      06MT30_3,  A01E,   546,  1,     17,   K124,2,19941214,1241, 52.3317, -15.7633, 3246,    698.2,   9.7900,  35.3557,2,  35.3557,2,   -999.0,1,  9.7076,    258.5,2,     5.15,2,    12.98,2,     0.81,2, -999.000,9, -999.000,9,    1.523,2,   1.7513,2,    -0.13,2,   -999.0,9,   -999.0,9,  0.0070,   0.027,  -999.0,   0.120,  102991
      06MT30_3,  A01E,   546,  1,     16,   K114,2,19941214,1241, 52.3317, -15.7633, 3246,    897.6,   9.2380,  35.3294,2,  35.3327,2,   -999.0,1,  9.1346,    233.4,2,     6.96,2,    15.64,2,     0.98,2,    2.676,3,    1.396,3, -999.000,9,-999.0000,9,  -999.00,9,   -999.0,9,   2144.7,2,-999.0000,-999.000,  -999.0,-999.000,  102990
      06MT30_3,  A01E,   546,  1,     15,   U010,2,19941214,1241, 52.3317, -15.7633, 3246,   1098.0,   7.9900,  35.3060,2,  35.3003,3,   -999.0,1,  7.8721,    204.3,2,    10.12,2,    19.23,2,     1.22,2,    1.583,2,    0.792,2,    1.238,2,   1.7557,2,     7.73,2,   -999.0,9,   2168.8,2,  0.0070,   0.025,  -999.0,   0.130,  102989
      06MT30_3,  A01E,   546,  1,     14,   U002,2,19941214,1241, 52.3317, -15.7633, 3246,   1298.7,   5.9300,  35.1104,2,  35.1109,2,   -999.0,1,  5.8088,    227.6,2,    10.91,2,    19.59,2,     1.26,2, -999.000,9, -999.000,9, -999.000,9,-999.0000,9,  -999.00,9,   -999.0,9,   2167.3,2,-999.0000,-999.000,  -999.0,-999.000,  102988
      06MT30_3,  A01E,   546,  1,     13,   B009,2,19941214,1241, 52.3317, -15.7633, 3246,   1498.0,   4.6290,  34.9837,2,  34.9835,2,   -999.0,1,  4.5019,    252.2,2,    10.75,2,    19.05,2,     1.22,2,    1.913,2,    0.953,2, -999.000,9,-999.0000,9,  -999.00,9,   -999.0,9,   -999.0,9,-999.0000,-999.000,  -999.0,-999.000,  102987
      06MT30_3,  A01E,   546,  1,     12,   K117,2,19941214,1241, 52.3317, -15.7633, 3246,   1698.7,   3.9920,  34.9245,2,  34.9250,2,   -999.0,1,  3.8536,    267.2,2,    10.56,2,    18.63,2,     1.18,2,    2.005,2,    0.990,2,    1.266,2,   1.7859,2,     8.26,2,   -999.0,9,   -999.0,9,  0.0071,   0.022,  -999.0,   0.140,  102986
      06MT30_3,  A01E,   546,  1,     11,   B008,2,19941214,1241, 52.3317, -15.7633, 3246,   1900.6,   3.6440,  34.9068,2,  34.9116,3,   -999.0,1,  3.4914,   -999.0,9,    10.98,2,    18.22,2,     1.17,2,    1.788,2,    0.881,2, -999.000,9,-999.0000,9,  -999.00,9,   -999.0,9,   -999.0,9,-999.0000,-999.000,  -999.0,-999.000,  102985
      06MT30_3,  A01E,   546,  1,     10,   K115,2,19941214,1241, 52.3317, -15.7633, 3246,   2099.6,   3.4710,  34.9174,2,  34.9174,2,   -999.0,1,  3.3020,    274.8,2,    12.29,2,    18.15,2,     1.17,2,    1.392,2,    0.692,2,    0.984,2,   1.7918,2,     8.01,2,   -999.0,9,   -999.0,9,  0.0072,   0.026,  -999.0,   0.130,  102984
      06MT30_3,  A01E,   546,  1,      9,   K036,2,19941214,1241, 52.3317, -15.7633, 3246,   2298.8,   3.3500,  34.9366,2,  34.9372,2,   -999.0,1,  3.1636,    270.0,2,    14.85,2,    18.37,2,     1.22,2, -999.000,9, -999.000,9, -999.000,9,-999.0000,9,  -999.00,9,   -999.0,9,   -999.0,9,-999.0000,-999.000,  -999.0,-999.000,  102983
      06MT30_3,  A01E,   546,  1,      8,   B026,2,19941214,1241, 52.3317, -15.7633, 3246,   2497.7,   3.1790,  34.9465,2,  34.9464,2,   -999.0,1,  2.9760,    265.6,2,    18.17,2,    18.67,2,     1.22,2,    0.678,2,    0.340,2,    0.610,2,   1.7894,2,     6.71,2,   -999.0,9,   2161.4,2,  0.0072,   0.020,  -999.0,   0.120,  102982
      06MT30_3,  A01E,   546,  1,      7,   B004,2,19941214,1241, 52.3317, -15.7633, 3246,   2699.2,   2.9830,  34.9483,2,  34.9473,2,   -999.0,1,  2.7635,    258.7,2,    24.03,2,    19.67,2,     1.31,2,    0.459,3,    0.238,3, -999.000,9,-999.0000,9,  -999.00,9,   -999.0,9,   -999.0,9,-999.0000,-999.000,  -999.0,-999.000,  102981
      06MT30_3,  A01E,   546,  1,      6,   U006,2,19941214,1241, 52.3317, -15.7633, 3246,   2840.5,   2.8350,  34.9443,2,  34.9443,2,   -999.0,1,  2.6042,    254.0,2,    28.67,2,    20.54,2,     1.36,2, -999.000,9, -999.000,9, -999.000,9,-999.0000,9,  -999.00,9,   -999.0,9,   -999.0,9,-999.0000,-999.000,  -999.0,-999.000,  102980
      06MT30_3,  A01E,   546,  1,      5,   U023,2,19941214,1241, 52.3317, -15.7633, 3246,   2950.2,   2.7590,  34.9408,2,  34.9389,2,   -999.0,1,  2.5186,    251.4,2,    31.41,2,    21.00,2,     1.40,2,    0.223,3,    0.118,3,    0.195,2,   1.8080,2,     3.79,2,   -999.0,9,   -999.0,9,  0.0072,   0.013,  -999.0,   0.120,  102979
      06MT30_3,  A01E,   546,  1,      4,   K056,2,19941214,1241, 52.3317, -15.7633, 3246,   3053.2,   2.7050,  34.9362,2,  34.9346,2,   -999.0,1,  2.4551,    249.7,2,    33.43,2,    21.33,2,     1.44,2,    0.183,3,    0.102,3, -999.000,9,-999.0000,9,  -999.00,9,   -999.0,9,   -999.0,9,-999.0000,-999.000,  -999.0,-999.000,  102978
      06MT30_3,  A01E,   546,  1,      3,   U018,2,19941214,1241, 52.3317, -15.7633, 3246,   3195.6,   2.6220,  34.9277,2,  34.9266,2,   -999.0,1,  2.3591,    246.2,2,    36.93,2,    21.97,2,     1.46,2,    0.098,3,    0.054,3,    0.077,2,   1.8102,2,     3.05,2,   -999.0,9,   -999.0,9,  0.0072,   0.009,  -999.0,   0.130,  102977
      06MT30_3,  A01E,   546,  1,      2,   U022,2,19941214,1241, 52.3317, -15.7633, 3246,   3249.5,   2.6150,  34.9266,2,  34.9250,2,   -999.0,1,  2.3466,    246.6,2,    37.37,2,    21.98,2,     1.47,2,    0.102,2, -999.000,9, -999.000,9,-999.0000,9,  -999.00,9,   -999.0,9,   -999.0,9,-999.0000,-999.000,  -999.0,-999.000,  102976
      06MT30_3,  A01E,   546,  1,      1,   B025,2,19941214,1241, 52.3317, -15.7633, 3246,   3285.1,   2.5850,  34.9232,2,  34.9221,2,   -999.0,1,  2.3135,   -999.0,9,    38.44,2,    22.10,2,     1.49,2,    0.086,3,    0.048,3,    0.067,2,   1.8149,2,     2.75,2,   -999.0,9,   2193.1,2,  0.0073,   0.011,  -999.0,   0.130,  102975
      06MT30_3,  A01E,   547,  1,      0,   -999,2,19941214,1810, 52.3333, -15.4933, 2731,      5.0,  11.3000,-999.0000,9,  35.6480,2,   -999.0,9,-999.0000,   -999.0,9,  -999.00,9,  -999.00,9,  -999.00,9, -999.000,9, -999.000,9, -999.000,9,-999.0000,9,  -999.00,9,   -999.0,9,   2109.2,2,-999.0000,-999.000,  -999.0,-999.000,    -999
      06MT30_3,  A01E,   547,  1,     24,   K012,2,19941214,1810, 52.3333, -15.4933, 2731,     24.4,  11.4140,  35.5175,2,  35.5161,2,   -999.0,1, 11.4109,    255.8,2,     2.73,2,     9.19,2,     0.55,2,    3.170,3,    1.733,3, -999.000,9,-999.0000,9,  -999.00,9,   -999.0,9,   2109.9,2,-999.0000,-999.000,  -999.0,-999.000,  103022
      06MT30_3,  A01E,   547,  1,     23,   B020,2,19941214,1810, 52.3333, -15.4933, 2731,     51.6,  11.4160,  35.5180,2,  35.5160,2,   -999.0,1, 11.4095,    255.4,2,     2.82,2,     9.19,2,     0.55,2, -999.000,9, -999.000,9, -999.000,5,   1.7262,2,    -1.58,2,   -999.0,9,   -999.0,9,  0.0069,-999.000,  -999.0,   0.190,  103021
      06MT30_3,  A01E,   547,  1,     22,   B027,2,19941214,1810, 52.3333, -15.4933, 2731,     97.4,  11.4180,  35.5185,2,  35.5171,2,   -999.0,1, 11.4057,    256.1,2,     2.77,2,     9.20,2,     0.56,2,    3.206,3,    1.742,3, -999.000,9,-999.0000,9,  -999.00,9,   -999.0,9,   2107.9,2,-999.0000,-999.000,  -999.0,-999.000,  103020
      06MT30_3,  A01E,   547,  1,     21,   K040,2,19941214,1810, 52.3333, -15.4933, 2731,    150.5,  11.4150,  35.5191,2,  35.5187,2,   -999.0,1, 11.3959,    255.2,2,     2.79,2,     9.34,2,     0.58,2, -999.000,9, -999.000,9,    1.686,2,   1.7320,2,    -1.47,2,   -999.0,9,   2108.6,2,  0.0069,   0.031,  -999.0,   0.200,  103019
      06MT30_3,  A01E,   547,  1,     20,   K097,2,19941214,1810, 52.3333, -15.4933, 2731,    249.7,  10.8140,  35.4715,2,  35.4711,2,   -999.0,1, 10.7833,    243.6,2,     4.20,2,    12.44,2,     0.73,2, -999.000,9, -999.000,9, -999.000,9,-999.0000,9,  -999.00,9,   -999.0,9,   2126.0,2,-999.0000,-999.000,  -999.0,-999.000,  103018
      06MT30_3,  A01E,   547,  1,     19,   U015,2,19941214,1810, 52.3333, -15.4933, 2731,    400.9,  10.4800,  35.4375,2,  35.4364,2,   -999.0,1, 10.4314,    249.9,2,     4.53,2,    12.36,2,     0.74,2,    3.136,3,    1.675,3, -999.000,5,   1.7438,2,    -0.35,2,   -999.0,9,   -999.0,9,  0.0070,-999.000,  -999.0,   0.200,  103017
      06MT30_3,  A01E,   547,  1,     18,   B003,2,19941214,1810, 52.3333, -15.4933, 2731,    549.7,  10.1580,  35.4047,2,  35.4041,2,   -999.0,1, 10.0921,    254.3,2,     4.73,2,    12.63,2,     0.76,2, -999.000,9, -999.000,9, -999.000,9,-999.0000,9,  -999.00,9,   -999.0,9,   -999.0,9,-999.0000,-999.000,  -999.0,-999.000,  103016
      06MT30_3,  A01E,   547,  1,     17,   K124,2,19941214,1810, 52.3333, -15.4933, 2731,    699.1,   9.6650,  35.3376,2,  35.3374,2,   -999.0,1,  9.5832,    245.7,2,     5.80,2,    14.10,2,     0.86,2, -999.000,9, -999.000,9, -999.000,9,-999.0000,9,  -999.00,9,   -999.0,9,   -999.0,9,-999.0000,-999.000,  -999.0,-999.000,  103015
      06MT30_3,  A01E,   547,  1,     16,   K114,2,19941214,1810, 52.3333, -15.4933, 2731,    848.1,   9.0360,  35.2766,2,  35.2723,2,   -999.0,1,  8.9399,    241.8,2,     6.83,2,    15.45,2,     0.93,2,    2.889,3,    1.531,3, -999.000,9,-999.0000,9,  -999.00,9,   -999.0,9,   -999.0,9,-999.0000,-999.000,  -999.0,-999.000,  103014
      06MT30_3,  A01E,   547,  1,     15,   U010,2,19941214,1810, 52.3333, -15.4933, 2731,    999.9,   8.2420,  35.2568,2,  35.2571,2,   -999.0,1,  8.1335,    206.6,2,     9.58,2,    18.82,2,     1.15,2, -999.000,9, -999.000,9,    1.428,2,   1.7606,2,     6.60,2,   -999.0,9,   2161.8,2,  0.0070,   0.025,  -999.0,   0.210,  103013
      06MT30_3,  A01E,   547,  1,     14,   U002,2,19941214,1810, 52.3333, -15.4933, 2731,   1149.9,   6.8510,  35.1338,2,  35.1345,2,   -999.0,1,  6.7370,    213.0,2,    10.76,2,    19.86,2,     1.22,2,    1.856,2,    0.909,2,    1.291,2,   1.7756,2,     6.85,2,   -999.0,9,   2163.5,2,  0.0071,   0.025,  -999.0,   0.170,  103012
      06MT30_3,  A01E,   547,  1,     13,   B009,2,19941214,1810, 52.3333, -15.4933, 2731,   1298.9,   6.1740,  35.1300,2,  35.1291,2,   -999.0,1,  6.0504,    223.4,2,    10.95,2,    19.64,2,     1.24,2, -999.000,9, -999.000,9, -999.000,5,   1.7769,2,     7.60,2,   -999.0,9,   -999.0,9,  0.0071,-999.000,  -999.0,   0.170,  103011
      06MT30_3,  A01E,   547,  1,     12,   K117,2,19941214,1810, 52.3333, -15.4933, 2731,   1450.6,   5.1000,  35.0296,2,  35.0328,3,   -999.0,1,  4.9722,    240.7,2,    11.02,2,    19.31,2,     1.20,2,    1.882,2,    0.912,2, -999.000,9,-999.0000,9,  -999.00,9,   -999.0,9,   -999.0,9,-999.0000,-999.000,  -999.0,-999.000,  103010
      06MT30_3,  A01E,   547,  1,     11,   B008,2,19941214,1810, 52.3333, -15.4933, 2731,   1601.6,   4.2210,  34.9456,2,  34.9466,2,   -999.0,1,  4.0889,    259.6,2,    10.80,2,    18.82,2,     1.18,2, -999.000,9, -999.000,9,    1.312,2,   1.7883,2,     7.79,2,   -999.0,9,   -999.0,9,  0.0072,   0.013,  -999.0,   0.170,  103009
      06MT30_3,  A01E,   547,  1,     10,   K115,2,19941214,1810, 52.3333, -15.4933, 2731,   1750.1,   3.7590,  34.9204,2,  34.9203,2,   -999.0,1,  3.6189,    269.9,2,    11.41,2,    18.42,2,     1.16,2,    1.763,2,    0.860,2, -999.000,9,-999.0000,9,  -999.00,9,   -999.0,9,   -999.0,9,-999.0000,-999.000,  -999.0,-999.000,  103008
      06MT30_3,  A01E,   547,  1,      9,   K036,2,19941214,1810, 52.3333, -15.4933, 2731,   1898.4,   3.4770,  34.9168,2,  34.9173,2,   -999.0,1,  3.3269,    272.4,2,    12.58,2,    18.24,2,     1.15,2,    1.434,2,    0.702,2,    1.285,2,   1.7914,2,     8.03,2,   -999.0,9,   2149.8,2,  0.0072,   0.025,  -999.0,   0.170,  103007
      06MT30_3,  A01E,   547,  1,      8,   B026,2,19941214,1810, 52.3333, -15.4933, 2731,   2050.5,   3.2830,  34.9374,2,  34.9363,2,   -999.0,1,  3.1215,    268.0,2,    15.70,2,    18.51,2,     1.18,2,    0.939,2,    0.451,2, -999.000,9,-999.0000,9,  -999.00,9,   -999.0,9,   -999.0,9,-999.0000,-999.000,  -999.0,-999.000,  103006
      06MT30_3,  A01E,   547,  1,      7,   B004,2,19941214,1810, 52.3333, -15.4933, 2731,   2200.7,   3.1440,  34.9471,2,  34.9461,2,   -999.0,1,  2.9705,    263.8,2,    18.70,2,    18.82,2,     1.23,3, -999.000,9, -999.000,9,    0.615,2,   1.7972,2,     6.59,2,   -999.0,9,   -999.0,9,  0.0072,   0.024,  -999.0,   0.120,  103005
      06MT30_3,  A01E,   547,  1,      6,   U006,2,19941214,1810, 52.3333, -15.4933, 2731,   2300.6,   3.0830,  34.9484,2,  34.9460,2,   -999.0,1,  2.9009,    263.5,2,    18.68,2,    18.85,2,     1.20,2,    0.658,2,    0.331,2, -999.000,9,-999.0000,9,  -999.00,9,   -999.0,9,   -999.0,9,-999.0000,-999.000,  -999.0,-999.000,  103004
      06MT30_3,  A01E,   547,  1,      5,   U023,2,19941214,1810, 52.3333, -15.4933, 2731,   2401.1,   3.0100,  34.9489,2,  34.9478,2,   -999.0,1,  2.8195,    258.4,2,    22.84,2,    19.48,2,     1.25,2, -999.000,9, -999.000,9,    0.421,2,   1.8071,2,     5.43,2,   -999.0,9,   -999.0,9,  0.0072,   0.018,  -999.0,   0.130,  103003
      06MT30_3,  A01E,   547,  1,      4,   K056,2,19941214,1810, 52.3333, -15.4933, 2731,   2563.2,   2.9090,  34.9487,2,  34.9471,2,   -999.0,1,  2.7045,    255.0,2,    26.16,2,    20.12,2,     1.30,2,    0.350,3,    0.184,3, -999.000,9,-999.0000,9,  -999.00,9,   -999.0,9,   -999.0,9,-999.0000,-999.000,  -999.0,-999.000,  103002
      06MT30_3,  A01E,   547,  1,      3,   U018,2,19941214,1810, 52.3333, -15.4933, 2731,   2697.3,   2.8490,  34.9457,2,  34.9441,2,   -999.0,1,  2.6324,    252.1,2,    28.88,2,    20.67,2,     1.34,2, -999.000,9, -999.000,9,    0.197,2,   1.8085,2,     3.89,2,   -999.0,9,   -999.0,9,  0.0072,   0.007,  -999.0,   0.130,  103001
      06MT30_3,  A01E,   547,  1,      2,   U022,2,19941214,1810, 52.3333, -15.4933, 2731,   2744.3,   2.8420,  34.9449,2,  34.9439,2,   -999.0,1,  2.6208,    252.1,2,    29.37,2,    20.79,2,     1.35,2, -999.000,9, -999.000,9, -999.000,9,-999.0000,9,  -999.00,9,   -999.0,9,   -999.0,9,-999.0000,-999.000,  -999.0,-999.000,  103000
      06MT30_3,  A01E,   547,  1,      1,   B025,2,19941214,1810, 52.3333, -15.4933, 2731,   2785.5,   2.8070,  34.9435,2,  34.9426,2,   -999.0,1,  2.5823,    251.1,2,    30.58,2,    20.88,2,     1.37,2,    0.209,3,    0.111,3,    0.181,2,   1.8062,2,     3.71,3,   -999.0,9,   2180.3,2,  0.0072,   0.005,  -999.0,   0.130,  102999