BOTTLE,20060322WHPSIOSA
EXPOCODE,SECT_ID,STNNBR,CASTNO,SAMPNO,BTLNBR,BTLNBR_FLAG_W,DATE,TIME,LATITUDE,LONGITUDE,DEPTH,CTDPRS,CTDTMP,CTDSAL,CTDSAL_FLAG_W,SALNTY,SALNTY_FLAG_W,CTDOXY,CTDOXY_FLAG_W,THETA,OXYGEN,OXYGEN_FLAG_W,SILCAT,SILCAT_FLAG_W,NO2+NO3,NO2+NO3_FLAG_W,PHSPHT,PHSPHT_FLAG_W,CFC-11,CFC-11_FLAG_W,CFC-12,CFC-12_FLAG_W,TRITUM,TRITUM_FLAG_W,HELIUM,HELIUM_FLAG_W,DELHE3,DELHE3_FLAG_W,DELC14,DELC14_FLAG_W,TCARBN,TCARBN_FLAG_W,HELIER,TRITER,C14ERR,DELHER,BEDFORT
,,,,,,,,,,,,DBAR,ITS-90,PSS-78,,PSS-78,,UMOL/KG,,ITS-90,UMOL/KG,,UMOL/KG,,UMOL/KG,,UMOL/KG,,PMOL/KG,,PMOL/KG,,TU,,NMOL/KG,,PERCNT,,/MILLE,,UMOL/KG,,NMOL/KG,TU,/MILLE,PERCNT,NUM
      06MT30_3,  A01E,   520,  1,      0,   -999,2,19941130,0536, 58.8800, -31.5633, 1488,      5.0,   7.2000,-999.0000,9,  35.1390,2,   -999.0,9,-999.0000,   -999.0,9,  -999.00,9,  -999.00,9,  -999.00,9, -999.000,9, -999.000,9, -999.000,9,-999.0000,9,  -999.00,9,   -999.0,9,   2119.8,2,-999.0000,-999.000,  -999.0,-999.000,    -999
      06MT30_3,  A01E,   520,  1,     15,   U010,2,19941130,0536, 58.8800, -31.5633, 1488,     23.0,   7.3550,  35.0085,2,  35.0093,2,   -999.0,1,  7.3528,    280.7,2,     5.38,2,    12.80,2,     0.83,2, -999.000,9, -999.000,9, -999.000,9,-999.0000,9,  -999.00,9,   -999.0,9,   2119.2,2,-999.0000,-999.000,  -999.0,-999.000,  102389
      06MT30_3,  A01E,   520,  1,     14,   U002,2,19941130,0536, 58.8800, -31.5633, 1488,     49.8,   7.3490,  35.0084,2,  35.0092,2,   -999.0,1,  7.3442,    281.3,2,     5.41,2,    12.85,2,     0.83,2, -999.000,9, -999.000,9, -999.000,9,-999.0000,9,  -999.00,9,   -999.0,9,   2118.9,2,-999.0000,-999.000,  -999.0,-999.000,  102388
      06MT30_3,  A01E,   520,  1,     13,   B009,2,19941130,0536, 58.8800, -31.5633, 1488,     99.7,   7.2890,  35.0097,2,  35.0109,2,   -999.0,1,  7.2795,    282.2,2,     5.55,2,    13.00,2,     0.84,2, -999.000,9, -999.000,9,    1.681,2,   1.7560,2,    -1.48,2,   -999.0,9,   2120.1,2,  0.0070,   0.029,  -999.0,   0.120,  102387
      06MT30_3,  A01E,   520,  1,     12,   K117,2,19941130,0536, 58.8800, -31.5633, 1488,    150.4,   7.2730,  35.0126,2,  35.0136,2,   -999.0,1,  7.2586,    281.9,2,     5.58,2,    13.09,2,     0.84,2,    4.215,2,    2.119,2, -999.000,9,-999.0000,9,  -999.00,9,   -999.0,9,   2120.8,2,-999.0000,-999.000,  -999.0,-999.000,  102386
      06MT30_3,  A01E,   520,  1,     11,   B008,2,19941130,0536, 58.8800, -31.5633, 1488,    249.8,   6.9310,  35.0700,2,  35.0702,2,   -999.0,1,  6.9076,    269.0,2,     7.63,2,    15.67,2,     1.00,2,    3.491,2,    1.759,2,    1.654,2,   1.7525,2,    -0.40,2,   -999.0,9,   2140.4,2,  0.0070,   0.031,  -999.0,   0.120,  102385
      06MT30_3,  A01E,   520,  1,     10,   K115,2,19941130,0536, 58.8800, -31.5633, 1488,    399.2,   6.7080,  35.0810,2,  35.0819,2,   -999.0,1,  6.6709,    273.4,2,     7.49,2,    15.59,2,     0.98,2,    3.927,2,    1.909,2, -999.000,9,-999.0000,9,  -999.00,9,   -999.0,9,   -999.0,9,-999.0000,-999.000,  -999.0,-999.000,  102384
      06MT30_3,  A01E,   520,  1,      9,   K036,2,19941130,0536, 58.8800, -31.5633, 1488,    550.4,   6.5750,  35.0851,2,  35.0862,2,   -999.0,1,  6.5238,    276.9,2,     7.32,2,    15.42,2,     0.94,2,    3.885,2,    1.927,2,    1.765,2,   1.7515,2,    -0.55,2,   -999.0,9,   -999.0,9,  0.0070,   0.035,  -999.0,   0.120,  102383
      06MT30_3,  A01E,   520,  1,      8,   U017,2,19941130,0536, 58.8800, -31.5633, 1488,    695.4,   6.3030,  35.0637,2,  35.0644,2,   -999.0,1,  6.2391,    269.9,2,     8.02,2,    16.14,2,     0.92,2, -999.000,9, -999.000,9, -999.000,9,-999.0000,9,  -999.00,9,   -999.0,9,   -999.0,9,-999.0000,-999.000,  -999.0,-999.000,  102382
      06MT30_3,  A01E,   520,  1,      7,   B004,2,19941130,0536, 58.8800, -31.5633, 1488,    848.8,   5.6450,  35.0165,2,  35.0174,2,   -999.0,1,  5.5703,    252.0,2,     9.75,2,    17.61,2,     1.12,2,    2.893,2,    1.366,2,    1.555,2,   1.7782,2,     4.02,2,   -999.0,9,   -999.0,9,  0.0071,   0.033,  -999.0,   0.110,  102381
      06MT30_3,  A01E,   520,  1,      6,   U006,2,19941130,0536, 58.8800, -31.5633, 1488,   1001.0,   4.7260,  34.9854,2,-999.0000,9,   -999.0,1,  4.6438,    251.9,2,     9.74,2,    17.57,2,     1.09,2,    2.957,2,    1.377,2, -999.000,9,-999.0000,9,  -999.00,9,   -999.0,9,   -999.0,9,-999.0000,-999.000,  -999.0,-999.000,  102380
      06MT30_3,  A01E,   520,  1,      5,   U023,2,19941130,0536, 58.8800, -31.5633, 1488,   1146.2,   4.1290,  34.9716,2,  34.9725,2,   -999.0,1,  4.0390,    269.5,2,     9.91,2,    16.76,2,     1.05,2,    2.652,2,    1.199,2,    1.412,2,   1.7800,2,     6.54,2,   -999.0,9,   -999.0,9,  0.0071,   0.035,  -999.0,   0.120,  102379
      06MT30_3,  A01E,   520,  1,      4,   K056,2,19941130,0536, 58.8800, -31.5633, 1488,   1296.2,   3.9380,  34.9640,2,  34.9655,2,   -999.0,1,  3.8367,    272.3,2,    10.04,2,    16.82,2,     1.07,2, -999.000,9, -999.000,9, -999.000,9,-999.0000,9,  -999.00,9,   -999.0,9,   -999.0,9,-999.0000,-999.000,  -999.0,-999.000,  102378
      06MT30_3,  A01E,   520,  1,      3,   U018,2,19941130,0536, 58.8800, -31.5633, 1488,   1398.0,   3.9160,  34.9648,2,  34.9661,2,   -999.0,1,  3.8059,    272.0,2,    10.08,2,    16.63,2,     1.06,2,    2.648,2,    1.190,2,    1.391,2,   1.7781,2,     6.71,2,   -999.0,9,   -999.0,9,  0.0071,   0.026,  -999.0,   0.130,  102377
      06MT30_3,  A01E,   520,  1,      2,   U022,2,19941130,0536, 58.8800, -31.5633, 1488,   1447.7,   3.9020,  34.9647,2,  34.9652,2,   -999.0,1,  3.7876,    272.2,2,    10.10,2,    16.60,2,     1.06,2, -999.000,9, -999.000,9, -999.000,9,-999.0000,9,  -999.00,9,   -999.0,9,   -999.0,9,-999.0000,-999.000,  -999.0,-999.000,  102376
      06MT30_3,  A01E,   520,  1,      1,   B025,2,19941130,0536, 58.8800, -31.5633, 1488,   1491.2,   3.8920,  34.9644,2,  34.9657,2,   -999.0,1,  3.7738,    272.6,2,    10.08,2,    16.50,2,     1.07,2,    2.578,2,    1.218,2,    1.403,2,   1.7776,2,     6.44,2,   -999.0,9,   2152.4,2,  0.0071,   0.031,  -999.0,   0.120,  102375
      06MT30_3,  A01E,   521,  1,      0,   -999,2,19941130,0942, 58.7950, -30.8067, 1239,      5.0,   7.2000,-999.0000,9,  35.0840,2,   -999.0,9,-999.0000,   -999.0,9,  -999.00,9,  -999.00,9,  -999.00,9, -999.000,9, -999.000,9, -999.000,9,-999.0000,9,  -999.00,9,   -999.0,9,   2117.2,2,-999.0000,-999.000,  -999.0,-999.000,    -999
      06MT30_3,  A01E,   521,  1,     15,   U010,2,19941130,0942, 58.7950, -30.8067, 1239,     20.1,   7.3250,  34.9577,2,  34.9659,2,   -999.0,1,  7.3231,    281.6,2,     5.25,2,    12.64,2,     0.84,2,    3.906,3,    2.024,3,    1.740,2,   1.7671,2,    -1.54,2,   -999.0,9,   2119.1,2,  0.0071,   0.041,  -999.0,   0.110,  102413
      06MT30_3,  A01E,   521,  1,     14,   U002,2,19941130,0942, 58.7950, -30.8067, 1239,     50.3,   7.3320,  34.9576,2,  34.9582,2,   -999.0,1,  7.3272,    281.4,2,     5.25,2,    12.61,2,     0.84,2,    3.971,2,    2.012,2, -999.000,9,-999.0000,9,  -999.00,9,   -999.0,9,   2123.7,2,-999.0000,-999.000,  -999.0,-999.000,  102412
      06MT30_3,  A01E,   521,  1,     13,   B009,2,19941130,0942, 58.7950, -30.8067, 1239,     98.8,   7.3450,  34.9584,2,  34.9584,2,   -999.0,1,  7.3356,    281.5,2,     5.27,2,    12.61,2,     0.84,2, -999.000,9, -999.000,9, -999.000,9,-999.0000,9,  -999.00,9,   -999.0,9,   2123.0,2,-999.0000,-999.000,  -999.0,-999.000,  102411
      06MT30_3,  A01E,   521,  1,     12,   K117,2,19941130,0942, 58.7950, -30.8067, 1239,    249.4,   7.1380,  35.1125,2,  35.1129,2,   -999.0,1,  7.1142,    269.4,2,     7.10,2,    15.17,2,     0.98,2,    3.814,3,    1.957,3,    1.593,2,   1.7562,2,    -0.35,2,   -999.0,9,   2144.4,2,  0.0070,   0.033,  -999.0,   0.100,  102410
      06MT30_3,  A01E,   521,  1,     11,   B008,2,19941130,0942, 58.7950, -30.8067, 1239,    299.1,   7.0160,  35.1060,2,  35.1062,2,   -999.0,1,  6.9877,    271.1,2,     7.18,2,    15.23,2,     0.98,2, -999.000,9, -999.000,9, -999.000,9,-999.0000,9,  -999.00,9,   -999.0,9,   2143.8,2,-999.0000,-999.000,  -999.0,-999.000,  102409
      06MT30_3,  A01E,   521,  1,     10,   K115,2,19941130,0942, 58.7950, -30.8067, 1239,    399.7,   6.8160,  35.0959,2,  35.0945,2,   -999.0,1,  6.7785,    271.2,2,     7.33,2,    15.40,2,     0.99,2, -999.000,9, -999.000,9, -999.000,9,-999.0000,9,  -999.00,9,   -999.0,9,   -999.0,9,-999.0000,-999.000,  -999.0,-999.000,  102408
      06MT30_3,  A01E,   521,  1,      9,   K036,2,19941130,0942, 58.7950, -30.8067, 1239,    500.9,   6.6290,  35.0889,2,  35.0896,2,   -999.0,1,  6.5824,    270.1,2,     7.52,2,    15.63,2,     1.01,2, -999.000,9, -999.000,9,    1.542,3,   1.7574,2,     0.23,2,   -999.0,9,   2139.9,2,  0.0070,   0.040,  -999.0,   0.110,  102407
      06MT30_3,  A01E,   521,  1,      8,   U017,2,19941130,0942, 58.7950, -30.8067, 1239,    600.1,   6.3710,  35.0798,2,  35.0802,2,   -999.0,1,  6.3159,    262.4,2,     8.20,2,    16.30,2,     1.04,2,    3.422,2,    1.744,2, -999.000,9,-999.0000,9,  -999.00,9,   -999.0,9,   -999.0,9,-999.0000,-999.000,  -999.0,-999.000,  102406
      06MT30_3,  A01E,   521,  1,      7,   B004,2,19941130,0942, 58.7950, -30.8067, 1239,    699.7,   5.9120,  35.0581,2,  35.0587,2,   -999.0,1,  5.8497,    254.2,2,     9.12,2,    17.05,2,     1.09,2, -999.000,9, -999.000,9,    1.453,2,   1.7725,2,     3.59,2,   -999.0,9,   -999.0,9,  0.0071,   0.030,  -999.0,   0.110,  102405
      06MT30_3,  A01E,   521,  1,      6,   U006,2,19941130,0942, 58.7950, -30.8067, 1239,    800.0,   5.4540,  35.0371,2,  35.0372,2,   -999.0,1,  5.3850,    255.2,2,     9.39,2,    17.12,2,     1.09,2,    2.878,2,    1.421,2, -999.000,9,-999.0000,9,  -999.00,9,   -999.0,9,   -999.0,9,-999.0000,-999.000,  -999.0,-999.000,  102404
      06MT30_3,  A01E,   521,  1,      5,   U023,2,19941130,0942, 58.7950, -30.8067, 1239,    903.2,   4.8960,  35.0072,2,  35.0074,2,   -999.0,1,  4.8214,    259.5,2,     9.65,2,    17.22,2,     1.10,2, -999.000,9, -999.000,9,    1.477,2,   1.7810,2,     5.22,2,   -999.0,9,   2156.7,2,  0.0071,   0.038,  -999.0,   0.120,  102403
      06MT30_3,  A01E,   521,  1,      4,   K056,2,19941130,0942, 58.7950, -30.8067, 1239,    999.0,   4.2800,  34.9737,2,  34.9734,2,   -999.0,1,  4.2015,    267.2,2,     9.76,2,    17.01,2,     1.09,2,    2.740,3,    1.411,3, -999.000,9,-999.0000,9,  -999.00,9,   -999.0,9,   -999.0,9,-999.0000,-999.000,  -999.0,-999.000,  102402
      06MT30_3,  A01E,   521,  1,      3,   U018,2,19941130,0942, 58.7950, -30.8067, 1239,   1101.5,   4.0160,  34.9729,2,  34.9738,2,   -999.0,1,  3.9308,    270.9,2,     9.73,2,    16.69,2,     1.06,2,    2.603,2,    1.232,2,    1.344,2,   1.7868,2,     5.53,2,   -999.0,9,   -999.0,9,  0.0071,   0.040,  -999.0,   0.110,  102401
      06MT30_3,  A01E,   521,  1,      2,   U022,2,19941130,0942, 58.7950, -30.8067, 1239,   1200.7,   3.9480,  34.9726,2,  34.9721,2,   -999.0,1,  3.8549,    271.8,2,     9.77,2,    16.60,2,     1.06,2, -999.000,9, -999.000,9, -999.000,9,-999.0000,9,  -999.00,9,   -999.0,9,   2154.7,2,-999.0000,-999.000,  -999.0,-999.000,  102400
      06MT30_3,  A01E,   521,  1,      1,   B025,2,19941130,0942, 58.7950, -30.8067, 1239,   1232.5,   3.9380,  34.9719,2,  34.9721,2,   -999.0,1,  3.8422,    271.8,2,     9.79,2,    16.58,2,     1.07,2,    2.702,2,    1.305,2,    1.419,2,   1.7900,2,     5.46,2,   -999.0,9,   -999.0,9,  0.0072,   0.037,  -999.0,   0.110,  102399
      06MT30_3,  A01E,   522,  1,      0,   -999,2,19941130,1359, 58.5083, -30.2733, 1622,      5.0,   7.4000,-999.0000,9,  36.4890,3,   -999.0,9,-999.0000,   -999.0,9,  -999.00,9,  -999.00,9,  -999.00,9, -999.000,9, -999.000,9, -999.000,9,-999.0000,9,  -999.00,9,   -999.0,9,   2123.6,2,-999.0000,-999.000,  -999.0,-999.000,    -999
      06MT30_3,  A01E,   522,  1,     20,   K097,2,19941130,1359, 58.5083, -30.2733, 1622,     19.1,   7.6150,  35.0406,2,  35.0419,2,   -999.0,1,  7.6131,    278.0,2,     5.29,2,    12.77,2,     0.87,2,    4.083,2,    2.076,2,    1.728,2,   1.7582,2,    -1.58,2,   -999.0,9,   2126.2,2,  0.0070,   0.036,  -999.0,   0.110,  102442
      06MT30_3,  A01E,   522,  1,     19,   U015,2,19941130,1359, 58.5083, -30.2733, 1622,     50.1,   7.6170,  35.0400,2,  35.0410,2,   -999.0,1,  7.6121,    278.0,2,     5.31,2,    12.80,2,     0.86,2, -999.000,9, -999.000,9, -999.000,9,-999.0000,9,  -999.00,9,   -999.0,9,   2126.4,2,-999.0000,-999.000,  -999.0,-999.000,  102441
      06MT30_3,  A01E,   522,  1,     18,   B003,2,19941130,1359, 58.5083, -30.2733, 1622,    100.6,   7.6230,  35.0405,2,  35.0409,2,   -999.0,1,  7.6132,    278.3,2,     5.28,2,    12.88,2,     0.86,2,    4.066,2,    2.079,2, -999.000,9,-999.0000,9,  -999.00,9,   -999.0,9,   2126.5,2,-999.0000,-999.000,  -999.0,-999.000,  102440
      06MT30_3,  A01E,   522,  1,     17,   K124,2,19941130,1359, 58.5083, -30.2733, 1622,    148.2,   7.6280,  35.0405,2,  35.0411,2,   -999.0,1,  7.6134,    278.4,2,     5.30,2,    12.81,2,     0.86,2, -999.000,9, -999.000,9,    1.646,2,   1.7625,2,    -1.27,2,   -999.0,9,   2126.0,2,  0.0070,   0.032,  -999.0,   0.110,  102439
      06MT30_3,  A01E,   522,  1,     16,   K114,2,19941130,1359, 58.5083, -30.2733, 1622,    247.4,   7.2070,  35.0659,2,  35.0659,2,   -999.0,1,  7.1833,    262.4,2,     7.55,2,    15.57,2,     1.03,2, -999.000,9, -999.000,9, -999.000,9,-999.0000,9,  -999.00,9,   -999.0,9,   2147.8,2,-999.0000,-999.000,  -999.0,-999.000,  102438
      06MT30_3,  A01E,   522,  1,     15,   U010,2,19941130,1359, 58.5083, -30.2733, 1622,    398.8,   6.9620,  35.0977,2,  35.0993,2,   -999.0,1,  6.9241,    270.4,2,     7.23,2,    15.29,2,     1.00,2,    4.130,3,    2.204,3,    1.734,2,   1.7460,2,    -0.31,2,   -999.0,9,   -999.0,9,  0.0070,   0.028,  -999.0,   0.140,  102437
      06MT30_3,  A01E,   522,  1,     14,   U002,2,19941130,1359, 58.5083, -30.2733, 1622,    498.8,   6.7820,  35.0922,2,  35.0925,2,   -999.0,1,  6.7350,    270.6,2,     7.42,2,    15.51,2,     1.01,2,    3.813,2,    1.890,2, -999.000,9,-999.0000,9,  -999.00,9,   -999.0,9,   -999.0,9,-999.0000,-999.000,  -999.0,-999.000,  102436
      06MT30_3,  A01E,   522,  1,     13,   B009,2,19941130,1359, 58.5083, -30.2733, 1622,    598.3,   6.5220,  35.0704,2,  35.0705,2,   -999.0,1,  6.4664,    268.0,2,     7.87,2,    15.98,2,     1.04,2, -999.000,9, -999.000,9,    1.654,2,   1.7523,2,     0.60,2,   -999.0,9,   -999.0,9,  0.0070,   0.028,  -999.0,   0.160,  102435
      06MT30_3,  A01E,   522,  1,     12,   K117,2,19941130,1359, 58.5083, -30.2733, 1622,    698.2,   6.1760,  35.0510,2,  35.0508,2,   -999.0,1,  6.1125,    255.6,2,     8.87,2,    17.09,2,     1.10,2,    3.195,2,    1.626,2, -999.000,9,-999.0000,9,  -999.00,9,   -999.0,9,   -999.0,9,-999.0000,-999.000,  -999.0,-999.000,  102434
      06MT30_3,  A01E,   522,  1,     11,   B008,2,19941130,1359, 58.5083, -30.2733, 1622,    799.6,   5.8120,  35.0385,2,  35.0390,2,   -999.0,1,  5.7409,    248.5,2,     9.67,2,    17.67,2,     1.14,2, -999.000,9, -999.000,9,    1.430,2,   1.7691,2,     4.46,2,   -999.0,9,   2159.9,2,  0.0071,   0.031,  -999.0,   0.130,  102433
      06MT30_3,  A01E,   522,  1,     10,   K115,2,19941130,1359, 58.5083, -30.2733, 1622,    895.8,   5.0770,  34.9995,2,  35.0012,2,   -999.0,1,  5.0018,    249.2,2,    10.19,2,    18.02,2,     1.17,2,    2.591,2,    1.238,2, -999.000,9,-999.0000,9,  -999.00,9,   -999.0,9,   -999.0,9,-999.0000,-999.000,  -999.0,-999.000,  102432
      06MT30_3,  A01E,   522,  1,      9,   K036,2,19941130,1359, 58.5083, -30.2733, 1622,    996.6,   4.7280,  34.9911,2,  34.9911,2,   -999.0,1,  4.6463,    259.2,2,     9.86,2,    17.47,2,     1.13,2, -999.000,9, -999.000,9,    1.468,2,   1.7846,2,     5.67,2,   -999.0,9,   -999.0,9,  0.0071,   0.032,  -999.0,   0.110,  102431
      06MT30_3,  A01E,   522,  1,      8,   U017,2,19941130,1359, 58.5083, -30.2733, 1622,   1098.5,   4.3980,  34.9758,2,  34.9753,2,   -999.0,1,  4.3099,    264.7,2,     9.78,2,    17.25,2,     1.12,2,    2.663,2,    1.279,2, -999.000,9,-999.0000,9,  -999.00,9,   -999.0,9,   -999.0,9,-999.0000,-999.000,  -999.0,-999.000,  102430
      06MT30_3,  A01E,   522,  1,      7,   B004,2,19941130,1359, 58.5083, -30.2733, 1622,   1197.2,   4.0080,  34.9643,2,  34.9651,2,   -999.0,1,  3.9147,    271.5,2,     9.71,2,    16.79,2,     1.10,2, -999.000,9, -999.000,9,    1.382,2,   1.7929,2,     6.06,2,   -999.0,9,   -999.0,9,  0.0072,   0.029,  -999.0,   0.110,  102429
      06MT30_3,  A01E,   522,  1,      6,   U006,2,19941130,1359, 58.5083, -30.2733, 1622,   1298.7,   3.8090,  34.9636,2,  34.9640,2,   -999.0,1,  3.7087,    273.0,2,     9.84,2,    16.70,2,     1.09,2,    2.521,2,    1.213,2, -999.000,9,-999.0000,9,  -999.00,9,   -999.0,9,   -999.0,9,-999.0000,-999.000,  -999.0,-999.000,  102428
      06MT30_3,  A01E,   522,  1,      5,   U023,2,19941130,1359, 58.5083, -30.2733, 1622,   1398.6,   3.6560,  34.9654,2,  34.9650,2,   -999.0,1,  3.5486,    273.8,2,     9.92,2,    16.52,2,     1.08,2, -999.000,9, -999.000,9,    1.395,2,   1.7910,2,     5.90,2,   -999.0,9,   -999.0,9,  0.0072,   0.036,  -999.0,   0.110,  102427
      06MT30_3,  A01E,   522,  1,      4,   K056,2,19941130,1359, 58.5083, -30.2733, 1622,   1476.8,   3.6230,  34.9663,2,  34.9661,2,   -999.0,1,  3.5091,    274.2,2,     9.95,2,    16.35,2,     1.08,2,    2.568,2,    1.186,2, -999.000,9,-999.0000,9,  -999.00,9,   -999.0,9,   -999.0,9,-999.0000,-999.000,  -999.0,-999.000,  102426
      06MT30_3,  A01E,   522,  1,      3,   U018,2,19941130,1359, 58.5083, -30.2733, 1622,   1534.0,   3.5840,  34.9693,2,  34.9704,2,   -999.0,1,  3.4655,    274.1,2,    10.01,2,    16.31,2,     1.07,2, -999.000,9, -999.000,9, -999.000,9,-999.0000,9,  -999.00,9,   -999.0,9,   -999.0,9,-999.0000,-999.000,  -999.0,-999.000,  102425
      06MT30_3,  A01E,   522,  1,      2,   U022,2,19941130,1359, 58.5083, -30.2733, 1622,   1625.0,   3.5160,  34.9694,2,  34.9695,2,   -999.0,1,  3.3902,    274.7,2,    10.14,2,    16.26,2,     1.07,2, -999.000,9, -999.000,9, -999.000,9,-999.0000,9,  -999.00,9,   -999.0,9,   2154.4,2,-999.0000,-999.000,  -999.0,-999.000,  102424
      06MT30_3,  A01E,   522,  1,      1,   B025,2,19941130,1359, 58.5083, -30.2733, 1622,   1688.9,   3.4890,  34.9693,2,  34.9695,2,   -999.0,1,  3.3578,    274.6,2,    10.14,2,    16.26,2,     1.08,2,    2.414,2,    1.127,2,    1.305,2,   1.7906,2,     5.88,2,   -999.0,9,   -999.0,9,  0.0072,   0.029,  -999.0,   0.110,  102423