BOTTLE,20060322WHPSIOSA
EXPOCODE,SECT_ID,STNNBR,CASTNO,SAMPNO,BTLNBR,BTLNBR_FLAG_W,DATE,TIME,LATITUDE,LONGITUDE,DEPTH,CTDPRS,CTDTMP,CTDSAL,CTDSAL_FLAG_W,SALNTY,SALNTY_FLAG_W,CTDOXY,CTDOXY_FLAG_W,THETA,OXYGEN,OXYGEN_FLAG_W,SILCAT,SILCAT_FLAG_W,NO2+NO3,NO2+NO3_FLAG_W,PHSPHT,PHSPHT_FLAG_W,CFC-11,CFC-11_FLAG_W,CFC-12,CFC-12_FLAG_W,TRITUM,TRITUM_FLAG_W,HELIUM,HELIUM_FLAG_W,DELHE3,DELHE3_FLAG_W,DELC14,DELC14_FLAG_W,TCARBN,TCARBN_FLAG_W,HELIER,TRITER,C14ERR,DELHER,BEDFORT
,,,,,,,,,,,,DBAR,ITS-90,PSS-78,,PSS-78,,UMOL/KG,,ITS-90,UMOL/KG,,UMOL/KG,,UMOL/KG,,UMOL/KG,,PMOL/KG,,PMOL/KG,,TU,,NMOL/KG,,PERCNT,,/MILLE,,UMOL/KG,,NMOL/KG,TU,/MILLE,PERCNT,NUM
      06MT30_3,  A01E,   548,  1,      0,   -999,2,19941215,0031, 52.3300, -15.2150, 1258,      5.0,  11.2000,-999.0000,9,  35.6340,2,   -999.0,9,-999.0000,   -999.0,9,  -999.00,9,  -999.00,9,  -999.00,9, -999.000,9, -999.000,9, -999.000,9,-999.0000,9,  -999.00,9,   -999.0,9,   2106.7,2,-999.0000,-999.000,  -999.0,-999.000,    -999
      06MT30_3,  A01E,   548,  1,     14,   U002,2,19941215,0031, 52.3300, -15.2150, 1258,     18.9,  11.3250,  35.5003,2,  35.4998,2,   -999.0,1, 11.3226,    255.4,2,     2.67,2,     8.80,2,     0.56,2,    3.500,3,    1.912,3, -999.000,9,-999.0000,9,  -999.00,9,   -999.0,9,   2104.9,2,-999.0000,-999.000,  -999.0,-999.000,  103036
      06MT30_3,  A01E,   548,  1,     13,   B009,2,19941215,0031, 52.3300, -15.2150, 1258,     98.6,  11.3300,  35.4986,2,  35.4974,2,   -999.0,1, 11.3176,    255.1,2,     2.69,2,     8.91,2,     0.58,2, -999.000,9, -999.000,9,    1.662,2,   1.7304,2,    -1.45,2,   -999.0,9,   -999.0,9,  0.0069,   0.029,  -999.0,   0.170,  103035
      06MT30_3,  A01E,   548,  1,     12,   K117,2,19941215,0031, 52.3300, -15.2150, 1258,    198.6,  11.1530,  35.4794,2,  35.4785,2,   -999.0,1, 11.1282,    250.6,2,     3.20,2,     9.83,2,     0.62,2,    3.274,3,    1.787,3, -999.000,9,-999.0000,9,  -999.00,9,   -999.0,9,   2112.6,2,-999.0000,-999.000,  -999.0,-999.000,  103034
      06MT30_3,  A01E,   548,  1,     11,   B008,2,19941215,0031, 52.3300, -15.2150, 1258,    298.4,  10.6910,  35.4606,2,  35.4597,2,   -999.0,1, 10.6545,    245.9,2,     4.35,2,    12.06,2,     0.75,2, -999.000,9, -999.000,9, -999.000,5,   1.7460,2,    -0.34,2,   -999.0,9,   2124.3,2,  0.0070,-999.000,  -999.0,   0.160,  103033
      06MT30_3,  A01E,   548,  1,     10,   K115,2,19941215,0031, 52.3300, -15.2150, 1258,    399.2,  10.5180,  35.4463,2,  35.4454,2,   -999.0,1, 10.4694,    246.3,2,     4.52,2,    12.25,2,     0.76,2,    3.124,3,    1.674,3,    1.686,2,   1.7447,2,    -0.06,2,   -999.0,9,   -999.0,9,  0.0070,   0.036,  -999.0,   0.170,  103032
      06MT30_3,  A01E,   548,  1,      9,   K036,2,19941215,0031, 52.3300, -15.2150, 1258,    497.1,  10.3100,  35.4319,2,  35.4316,2,   -999.0,1, 10.2500,    251.9,2,     4.66,2,    12.21,2,     0.76,2, -999.000,9, -999.000,9,    1.729,2,   1.7474,2,    -0.34,2,   -999.0,9,   -999.0,9,  0.0070,   0.030,  -999.0,   0.150,  103031
      06MT30_3,  A01E,   548,  1,      8,   B026,2,19941215,0031, 52.3300, -15.2150, 1258,    598.3,  10.0100,  35.3990,2,  35.3977,2,   -999.0,1,  9.9388,    246.7,2,     5.23,2,    13.04,2,     0.81,2,    3.051,3,    1.628,3,    1.533,2,   1.7448,2,     0.80,2,   -999.0,9,   2127.2,2,  0.0070,   0.024,  -999.0,   0.180,  103030
      06MT30_3,  A01E,   548,  1,      7,   B004,2,19941215,0031, 52.3300, -15.2150, 1258,    701.3,   9.6620,  35.3698,2,  35.3684,2,   -999.0,1,  9.5799,    239.8,2,     6.06,2,    14.14,2,     0.88,2, -999.000,9, -999.000,9,    1.540,2,   1.7556,2,     1.79,2,   -999.0,9,   -999.0,9,  0.0070,   0.030,  -999.0,   0.160,  103029
      06MT30_3,  A01E,   548,  1,      6,   U006,2,19941215,0031, 52.3300, -15.2150, 1258,    801.3,   9.1970,  35.3139,2,  35.3139,2,   -999.0,1,  9.1054,    252.5,3,     5.95,3,    14.05,3,     0.87,3,    3.487,2,    1.674,2,    1.497,2,-999.0000,5,  -999.00,5,   -999.0,9,   -999.0,9,-999.0000,   0.026,  -999.0,-999.000,  103028
      06MT30_3,  A01E,   548,  1,      5,   U023,2,19941215,0031, 52.3300, -15.2150, 1258,    899.6,   8.9350,  35.3587,2,  35.3568,2,   -999.0,1,  8.8333,    216.9,2,     8.34,2,    16.84,2,     1.02,2, -999.000,9, -999.000,9,    1.492,2,   1.7582,2,     5.45,2,   -999.0,9,   -999.0,9,  0.0070,   0.028,  -999.0,   0.180,  103027
      06MT30_3,  A01E,   548,  1,      4,   K056,2,19941215,0031, 52.3300, -15.2150, 1258,   1000.7,   8.3310,  35.3712,2,  35.3703,2,   -999.0,1,  8.2216,    204.2,2,     9.82,2,    18.25,2,     1.13,2, -999.000,9, -999.000,9,    1.270,2,   1.7617,2,     7.48,2,   -999.0,9,   2167.9,2,  0.0070,   0.026,  -999.0,   0.150,  103026
      06MT30_3,  A01E,   548,  1,      3,   U018,2,19941215,0031, 52.3300, -15.2150, 1258,   1101.1,   7.6240,  35.3370,2,  35.3352,2,   -999.0,1,  7.5086,    207.7,2,    10.49,2,    18.65,2,     1.15,2, -999.000,9, -999.000,9,    1.280,2,   1.7684,2,     8.38,2,   -999.0,9,   2169.3,2,  0.0071,   0.027,  -999.0,   0.180,  103025
      06MT30_3,  A01E,   548,  1,      2,   U022,2,19941215,0031, 52.3300, -15.2150, 1258,   1200.5,   6.6650,  35.2056,2,  35.2051,2,   -999.0,1,  6.5471,    217.6,2,    10.83,2,    18.95,2,     1.20,2, -999.000,9, -999.000,9,    1.283,2,   1.7783,2,     7.52,2,   -999.0,9,   -999.0,9,  0.0071,   0.025,  -999.0,   0.200,  103024
      06MT30_3,  A01E,   548,  1,      1,   B025,2,19941215,0031, 52.3300, -15.2150, 1258,   1253.3,   6.1510,  35.1446,2,  35.1446,2,   -999.0,1,  6.0323,    224.8,2,    10.92,2,    18.99,2,     1.20,2,    1.742,2,    0.847,2,    1.228,2,   1.7765,2,     7.73,2,   -999.0,9,   2167.0,2,  0.0071,   0.031,  -999.0,   0.210,  103023
      06MT30_3,  A01E,   549,  1,      0,   -999,2,19941215,0242, 52.3333, -14.9250,  834,      5.0,  11.2000,-999.0000,9,  35.6190,2,   -999.0,9,-999.0000,   -999.0,9,  -999.00,9,  -999.00,9,  -999.00,9, -999.000,9, -999.000,9, -999.000,9,-999.0000,9,  -999.00,9,   -999.0,9,   2107.3,2,-999.0000,-999.000,  -999.0,-999.000,    -999
      06MT30_3,  A01E,   549,  1,     23,   B020,2,19941215,0242, 52.3333, -14.9250,  834,     19.3,  11.3020,  35.4885,2,  35.4875,2,   -999.0,1, 11.2996,    256.2,2,     2.63,2,     8.74,2,     0.55,2,    3.101,3,    1.635,3, -999.000,9,-999.0000,9,  -999.00,9,   -999.0,9,   2108.1,2,-999.0000,-999.000,  -999.0,-999.000,  103045
      06MT30_3,  A01E,   549,  1,     22,   B027,2,19941215,0242, 52.3333, -14.9250,  834,     98.9,  11.3210,  35.4896,2,  35.4886,2,   -999.0,1, 11.3086,    256.0,2,     2.70,2,     8.81,2,     0.55,2, -999.000,9, -999.000,9, -999.000,9,-999.0000,9,  -999.00,9,   -999.0,9,   2106.1,2,-999.0000,-999.000,  -999.0,-999.000,  103044
      06MT30_3,  A01E,   549,  1,     21,   K040,2,19941215,0242, 52.3333, -14.9250,  834,    197.9,  11.0760,  35.4714,2,  35.4711,2,   -999.0,1, 11.0514,    248.8,2,     3.42,2,    10.41,2,     0.64,2,    3.096,3,    1.673,3, -999.000,9,-999.0000,9,  -999.00,9,   -999.0,9,   2113.6,2,-999.0000,-999.000,  -999.0,-999.000,  103043
      06MT30_3,  A01E,   549,  1,     20,   K097,2,19941215,0242, 52.3333, -14.9250,  834,    298.3,  10.5570,  35.4379,2,  35.4352,2,   -999.0,1, 10.5208,    245.0,2,     4.70,2,    12.49,2,     0.77,2, -999.000,9, -999.000,9, -999.000,9,-999.0000,9,  -999.00,9,   -999.0,9,   -999.0,9,-999.0000,-999.000,  -999.0,-999.000,  103042
      06MT30_3,  A01E,   549,  1,     19,   U015,2,19941215,0242, 52.3333, -14.9250,  834,    400.0,  10.1930,  35.4052,2,  35.4033,2,   -999.0,1, 10.1453,    247.0,2,     4.92,2,    12.90,2,     0.79,2,    3.080,3,    1.648,3, -999.000,9,-999.0000,9,  -999.00,9,   -999.0,9,   -999.0,9,-999.0000,-999.000,  -999.0,-999.000,  103041
      06MT30_3,  A01E,   549,  1,     18,   B003,2,19941215,0242, 52.3333, -14.9250,  834,    497.9,  10.1000,  35.4199,2,  35.4177,2,   -999.0,1, 10.0407,    245.9,2,     4.97,2,    13.08,2,     0.81,2, -999.000,9, -999.000,9, -999.000,9,-999.0000,9,  -999.00,9,   -999.0,9,   2131.9,2,-999.0000,-999.000,  -999.0,-999.000,  103040
      06MT30_3,  A01E,   549,  1,     17,   K124,2,19941215,0242, 52.3333, -14.9250,  834,    598.1,   9.7540,  35.4047,2,  35.4016,2,   -999.0,1,  9.6839,    237.6,2,     6.25,2,    14.14,2,     0.88,2,    2.919,3,    1.529,3, -999.000,9,-999.0000,9,  -999.00,9,   -999.0,9,   -999.0,9,-999.0000,-999.000,  -999.0,-999.000,  103039
      06MT30_3,  A01E,   549,  1,     16,   K114,2,19941215,0242, 52.3333, -14.9250,  834,    700.4,   9.4330,  35.3892,2,  35.3873,2,   -999.0,1,  9.3521,    227.8,2,     7.18,2,    15.30,2,     0.96,2, -999.000,9, -999.000,9, -999.000,9,-999.0000,9,  -999.00,9,   -999.0,9,   -999.0,9,-999.0000,-999.000,  -999.0,-999.000,  103038
      06MT30_3,  A01E,   549,  1,     15,   U010,2,19941215,0242, 52.3333, -14.9250,  834,    818.1,   8.8800,  35.3466,2,  35.3446,2,   -999.0,1,  8.7883,    219.5,2,     8.25,2,    16.66,2,     1.03,2,    2.267,2,    1.148,2, -999.000,9,-999.0000,9,  -999.00,9,   -999.0,9,   2151.0,2,-999.0000,-999.000,  -999.0,-999.000,  103037
      06MT30_3,  A01E,   550,  1,      0,   -999,2,19941215,0433, 52.3333, -14.6417,  409,      5.0,  11.2000,-999.0000,9,  35.5800,2,   -999.0,9,-999.0000,   -999.0,9,  -999.00,9,  -999.00,9,  -999.00,9, -999.000,9, -999.000,9, -999.000,9,-999.0000,9,  -999.00,9,   -999.0,9,   2103.1,2,-999.0000,-999.000,  -999.0,-999.000,    -999
      06MT30_3,  A01E,   550,  1,      5,   U023,2,19941215,0433, 52.3333, -14.6417,  409,     21.6,  11.2960,  35.4475,2,  35.4463,2,   -999.0,1, 11.2933,    258.7,2,     2.28,2,     8.03,2,     0.53,2,    3.137,3,    1.651,3, -999.000,9,-999.0000,9,  -999.00,9,   -999.0,9,   2103.6,2,-999.0000,-999.000,  -999.0,-999.000,  103051
      06MT30_3,  A01E,   550,  1,      4,   K056,2,19941215,0433, 52.3333, -14.6417,  409,     99.3,  11.3140,  35.4568,2,  35.4546,2,   -999.0,1, 11.3015,    256.9,2,     2.41,2,     8.40,2,     0.53,2, -999.000,9, -999.000,9, -999.000,9,-999.0000,9,  -999.00,9,   -999.0,9,   2103.7,2,-999.0000,-999.000,  -999.0,-999.000,  103050
      06MT30_3,  A01E,   550,  1,      3,   U018,2,19941215,0433, 52.3333, -14.6417,  409,    200.6,  10.1780,  35.4103,2,  35.4098,2,   -999.0,1, 10.1543,    246.2,2,     4.77,2,    13.10,2,     0.80,2, -999.000,9, -999.000,9, -999.000,9,-999.0000,9,  -999.00,9,   -999.0,9,   2130.2,2,-999.0000,-999.000,  -999.0,-999.000,  103049
      06MT30_3,  A01E,   550,  1,      2,   U022,2,19941215,0433, 52.3333, -14.6417,  409,    298.0,   9.9330,  35.4197,2,  35.4178,2,   -999.0,1,  9.8982,    243.1,2,     5.69,2,    13.60,2,     0.71,2, -999.000,9, -999.000,9, -999.000,9,-999.0000,9,  -999.00,9,   -999.0,9,   -999.0,9,-999.0000,-999.000,  -999.0,-999.000,  103048
      06MT30_3,  A01E,   550,  1,      1,   B025,2,19941215,0433, 52.3333, -14.6417,  409,    395.2,   9.9280,  35.4209,2,  35.4187,2,   -999.0,1,  9.8816,    243.6,2,     5.79,2,    13.48,2,     0.68,2,    3.055,3,    1.585,3, -999.000,9,-999.0000,9,  -999.00,9,   -999.0,9,   2137.4,2,-999.0000,-999.000,  -999.0,-999.000,  103047
      06MT30_3,  A01E,   551,  1,      0,   -999,2,19941215,0626, 52.3333, -14.2583,  338,      5.0,  11.0000,-999.0000,9,  35.5670,2,   -999.0,9,-999.0000,   -999.0,9,  -999.00,9,  -999.00,9,  -999.00,9, -999.000,9, -999.000,9, -999.000,9,-999.0000,9,  -999.00,9,   -999.0,9,   2100.7,2,-999.0000,-999.000,  -999.0,-999.000,    -999
      06MT30_3,  A01E,   551,  1,      9,   K036,2,19941215,0626, 52.3333, -14.2583,  338,     23.9,  11.1440,  35.4424,2,  35.4413,2,   -999.0,1, 11.1410,    260.2,2,     2.41,2,     8.23,2,     0.53,2, -999.000,9, -999.000,9, -999.000,9,-999.0000,9,  -999.00,9,   -999.0,9,   2101.6,2,-999.0000,-999.000,  -999.0,-999.000,  103055
      06MT30_3,  A01E,   551,  1,      8,   B026,2,19941215,0626, 52.3333, -14.2583,  338,    100.5,  11.1170,  35.4401,2,  35.4380,2,   -999.0,1, 11.1045,    259.5,2,     2.45,2,     8.45,2,     0.54,2, -999.000,9, -999.000,9, -999.000,9,-999.0000,9,  -999.00,9,   -999.0,9,   2105.8,2,-999.0000,-999.000,  -999.0,-999.000,  103054
      06MT30_3,  A01E,   551,  1,      7,   B004,2,19941215,0626, 52.3333, -14.2583,  338,    202.1,  10.0780,  35.4307,2,  35.4295,2,   -999.0,1, 10.0543,    249.2,2,     4.77,2,    12.97,2,     0.78,2, -999.000,9, -999.000,9, -999.000,9,-999.0000,9,  -999.00,9,   -999.0,9,   2132.2,2,-999.0000,-999.000,  -999.0,-999.000,  103053
      06MT30_3,  A01E,   551,  1,      6,   U006,2,19941215,0626, 52.3333, -14.2583,  338,    317.7,   9.8590,  35.4174,2,  35.4154,2,   -999.0,1,  9.8220,    240.5,2,     6.34,2,    13.78,2,     0.86,2, -999.000,9, -999.000,9, -999.000,9,-999.0000,9,  -999.00,9,   -999.0,9,   2139.3,2,-999.0000,-999.000,  -999.0,-999.000,  103052