BOTTLE,20060322WHPSIOSA
EXPOCODE,SECT_ID,STNNBR,CASTNO,SAMPNO,BTLNBR,BTLNBR_FLAG_W,DATE,TIME,LATITUDE,LONGITUDE,DEPTH,CTDPRS,CTDTMP,CTDSAL,CTDSAL_FLAG_W,SALNTY,SALNTY_FLAG_W,CTDOXY,CTDOXY_FLAG_W,THETA,OXYGEN,OXYGEN_FLAG_W,SILCAT,SILCAT_FLAG_W,NO2+NO3,NO2+NO3_FLAG_W,PHSPHT,PHSPHT_FLAG_W,CFC-11,CFC-11_FLAG_W,CFC-12,CFC-12_FLAG_W,TRITUM,TRITUM_FLAG_W,HELIUM,HELIUM_FLAG_W,DELHE3,DELHE3_FLAG_W,DELC14,DELC14_FLAG_W,TCARBN,TCARBN_FLAG_W,HELIER,TRITER,C14ERR,DELHER,BEDFORT
,,,,,,,,,,,,DBAR,ITS-90,PSS-78,,PSS-78,,UMOL/KG,,ITS-90,UMOL/KG,,UMOL/KG,,UMOL/KG,,UMOL/KG,,PMOL/KG,,PMOL/KG,,TU,,NMOL/KG,,PERCNT,,/MILLE,,UMOL/KG,,NMOL/KG,TU,/MILLE,PERCNT,NUM
      06MT30_3,  A01E,   518,  1,      0,   -999,2,19941129,2041, 59.0333, -33.0333, 2429,      5.0,   6.0000,-999.0000,9,  34.7870,2,   -999.0,9,-999.0000,   -999.0,9,  -999.00,9,  -999.00,9,  -999.00,9, -999.000,9, -999.000,9, -999.000,9,-999.0000,9,  -999.00,9,   -999.0,9,   2109.4,2,-999.0000,-999.000,  -999.0,-999.000,    -999
      06MT30_3,  A01E,   518,  1,     24,   K012,2,19941129,2041, 59.0333, -33.0333, 2429,     20.2,   6.1670,  34.6813,2,  34.6809,2,   -999.0,1,  6.1653,    291.2,2,     5.07,2,    12.44,2,     0.86,2,    4.620,2,    2.319,2,    2.025,2,   1.7659,2,    -1.62,2,   -999.0,9,   2109.2,2,  0.0071,   0.025,  -999.0,   0.140,  102350
      06MT30_3,  A01E,   518,  1,     23,   K125,2,19941129,2041, 59.0333, -33.0333, 2429,     53.1,   6.2490,  34.7013,2,  34.7009,2,   -999.0,1,  6.2444,    290.8,2,     5.13,2,    12.53,2,     0.88,2, -999.000,9, -999.000,9, -999.000,9,-999.0000,9,  -999.00,9,   -999.0,9,   2110.4,2,-999.0000,-999.000,  -999.0,-999.000,  102349
      06MT30_3,  A01E,   518,  1,     22,   B023,2,19941129,2041, 59.0333, -33.0333, 2429,     98.9,   6.0390,  34.7056,2,  34.7041,2,   -999.0,1,  6.0306,    286.5,2,     5.83,2,    13.49,2,     0.94,2,    4.304,3,    2.257,3, -999.000,9,-999.0000,9,  -999.00,9,   -999.0,9,   2117.8,2,-999.0000,-999.000,  -999.0,-999.000,  102348
      06MT30_3,  A01E,   518,  1,     21,   K040,2,19941129,2041, 59.0333, -33.0333, 2429,    151.1,   5.1520,  34.8402,2,  34.8412,2,   -999.0,1,  5.1401,    277.6,2,     8.51,2,    16.66,2,     1.10,2, -999.000,9, -999.000,9,    1.898,2,   1.7859,2,     0.11,2,   -999.0,9,   2142.3,2,  0.0071,   0.025,  -999.0,   0.110,  102347
      06MT30_3,  A01E,   518,  1,     20,   K097,3,19941129,2041, 59.0333, -33.0333, 2429,    248.0,   5.0140,  34.9053,2,-999.0000,9,   -999.0,1,  4.9945,    273.4,2,     8.95,2,    17.14,2,     1.11,2, -999.000,9, -999.000,9, -999.000,9,-999.0000,9,  -999.00,9,   -999.0,9,   -999.0,9,-999.0000,-999.000,  -999.0,-999.000,  102346
      06MT30_3,  A01E,   518,  1,     19,   U015,2,19941129,2041, 59.0333, -33.0333, 2429,    400.4,   4.0950,  34.8603,2,  34.8603,2,   -999.0,1,  4.0660,    271.9,2,     9.78,2,    17.87,2,     1.15,2, -999.000,9, -999.000,9,    1.717,2,   1.7799,2,     2.82,2,   -999.0,9,   2152.8,2,  0.0071,   0.031,  -999.0,   0.120,  102345
      06MT30_3,  A01E,   518,  1,     18,   B003,2,19941129,2041, 59.0333, -33.0333, 2429,    550.3,   3.8950,  34.8951,2,  34.8943,2,   -999.0,1,  3.8553,    274.1,2,    10.04,2,    17.72,2,     1.15,2,    3.187,2,    1.625,2, -999.000,9,-999.0000,9,  -999.00,9,   -999.0,9,   -999.0,9,-999.0000,-999.000,  -999.0,-999.000,  102344
      06MT30_3,  A01E,   518,  1,     17,   K124,2,19941129,2041, 59.0333, -33.0333, 2429,    701.2,   3.6400,  34.8879,2,  34.8876,2,   -999.0,1,  3.5900,    280.5,2,     9.98,2,    17.62,2,     1.13,2,    3.646,2,    1.629,2, -999.000,5,   1.7894,2,     4.43,2,   -999.0,9,   -999.0,9,  0.0072,-999.000,  -999.0,   0.160,  102343
      06MT30_3,  A01E,   518,  1,     16,   K114,2,19941129,2041, 59.0333, -33.0333, 2429,    850.8,   3.5410,  34.8937,2,  34.8934,2,   -999.0,1,  3.4801,    279.1,2,    10.11,2,    17.51,2,     1.12,2, -999.000,9, -999.000,9, -999.000,9,-999.0000,9,  -999.00,9,   -999.0,9,   -999.0,9,-999.0000,-999.000,  -999.0,-999.000,  102342
      06MT30_3,  A01E,   518,  1,     15,   U010,2,19941129,2041, 59.0333, -33.0333, 2429,   1001.1,   3.4780,  34.9005,2,  34.9006,2,   -999.0,1,  3.4056,    279.5,2,    10.24,2,    17.39,2,     1.12,2,    2.727,2,    1.324,2, -999.000,9,-999.0000,9,  -999.00,9,   -999.0,9,   2148.6,2,-999.0000,-999.000,  -999.0,-999.000,  102341
      06MT30_3,  A01E,   518,  1,     14,   U002,2,19941129,2041, 59.0333, -33.0333, 2429,   1150.0,   3.4280,  34.9084,2,  34.9091,2,   -999.0,1,  3.3440,    280.1,2,    10.33,2,    17.10,2,     1.11,2, -999.000,9, -999.000,9,    1.429,2,   1.7628,2,     5.38,2,   -999.0,9,   -999.0,9,  0.0071,   0.032,  -999.0,   0.120,  102340
      06MT30_3,  A01E,   518,  1,     13,   B009,2,19941129,2041, 59.0333, -33.0333, 2429,   1299.1,   3.4150,  34.9180,2,  34.9190,2,   -999.0,1,  3.3187,    279.0,2,    10.45,2,    16.97,2,     1.10,2,    2.495,2,    1.188,2, -999.000,9,-999.0000,9,  -999.00,9,   -999.0,9,   -999.0,9,-999.0000,-999.000,  -999.0,-999.000,  102339
      06MT30_3,  A01E,   518,  1,     12,   K117,2,19941129,2041, 59.0333, -33.0333, 2429,   1400.7,   3.3490,  34.9138,2,  34.9146,2,   -999.0,1,  3.2448,    281.3,2,    10.39,2,    16.79,2,     1.09,2, -999.000,9, -999.000,9,    1.471,2,   1.7977,2,     5.54,2,   -999.0,9,   2149.8,2,  0.0072,   0.022,  -999.0,   0.100,  102338
      06MT30_3,  A01E,   518,  1,     11,   B008,2,19941129,2041, 59.0333, -33.0333, 2429,   1500.1,   3.1640,  34.8894,2,  34.8902,2,   -999.0,1,  3.0535,    288.7,2,    10.18,2,    16.75,2,     1.11,3,    3.086,2,    1.492,2,    1.524,2,   1.7950,2,     4.53,2,   -999.0,9,   -999.0,9,  0.0072,   0.026,  -999.0,   0.120,  102337
      06MT30_3,  A01E,   518,  1,     10,   K115,2,19941129,2041, 59.0333, -33.0333, 2429,   1600.7,   3.1220,  34.8866,2,  34.8878,2,   -999.0,1,  3.0034,    288.6,2,    10.24,2,    16.71,2,     1.09,2, -999.000,9, -999.000,9,    1.567,2,   1.8186,2,     4.51,2,   -999.0,9,   -999.0,9,  0.0073,   0.019,  -999.0,   0.110,  102336
      06MT30_3,  A01E,   518,  1,      9,   K036,2,19941129,2041, 59.0333, -33.0333, 2429,   1697.3,   3.2180,  34.9080,2,  34.9087,2,   -999.0,1,  3.0897,    283.1,2,    10.56,2,    16.70,2,     1.10,2,    2.674,2,    1.300,2, -999.000,9,-999.0000,9,  -999.00,9,   -999.0,9,   -999.0,9,-999.0000,-999.000,  -999.0,-999.000,  102335
      06MT30_3,  A01E,   518,  1,      8,   U017,2,19941129,2041, 59.0333, -33.0333, 2429,   1799.2,   3.2020,  34.9127,2,  34.9134,2,   -999.0,1,  3.0648,    281.1,2,    10.87,2,    16.69,2,     1.09,2, -999.000,9, -999.000,9,    1.443,2,   1.7919,2,     5.87,2,   -999.0,9,   -999.0,9,  0.0072,   0.027,  -999.0,   0.160,  102334
      06MT30_3,  A01E,   518,  1,      7,   B004,2,19941129,2041, 59.0333, -33.0333, 2429,   1901.0,   3.1710,  34.9153,2,  34.9158,2,   -999.0,1,  3.0250,    280.5,2,    11.20,2,    16.65,2,     1.09,2,    2.327,2,    1.133,2, -999.000,9,-999.0000,9,  -999.00,9,   -999.0,9,   -999.0,9,-999.0000,-999.000,  -999.0,-999.000,  102333
      06MT30_3,  A01E,   518,  1,      6,   U006,2,19941129,2041, 59.0333, -33.0333, 2429,   2001.9,   3.1680,  34.9210,2,  34.9208,2,   -999.0,1,  3.0128,    278.8,2,    11.44,2,    16.65,2,     1.09,2, -999.000,9, -999.000,9,    1.232,2,   1.7887,2,     6.33,2,   -999.0,9,   -999.0,9,  0.0072,   0.023,  -999.0,   0.120,  102332
      06MT30_3,  A01E,   518,  1,      5,   U023,2,19941129,2041, 59.0333, -33.0333, 2429,   2099.9,   3.1690,  34.9235,2,  34.9238,2,   -999.0,1,  3.0047,    278.0,2,    11.66,2,    16.69,2,     1.11,3,    2.112,2,    0.991,2, -999.000,9,-999.0000,9,  -999.00,9,   -999.0,9,   -999.0,9,-999.0000,-999.000,  -999.0,-999.000,  102331
      06MT30_3,  A01E,   518,  1,      4,   K056,2,19941129,2041, 59.0333, -33.0333, 2429,   2199.6,   3.1490,  34.9256,2,  34.9258,2,   -999.0,1,  2.9756,    277.6,2,    11.88,2,    16.63,2,     1.09,2, -999.000,9, -999.000,9,    1.186,2,   1.7896,2,     6.88,2,   -999.0,9,   -999.0,9,  0.0072,   0.028,  -999.0,   0.140,  102330
      06MT30_3,  A01E,   518,  1,      3,   U018,2,19941129,2041, 59.0333, -33.0333, 2429,   2301.8,   3.1420,  34.9262,2,  34.9260,2,   -999.0,1,  2.9589,    277.2,2,    12.00,2,    16.67,2,     1.08,2,    1.982,2,    0.948,2, -999.000,9,-999.0000,9,  -999.00,9,   -999.0,9,   -999.0,9,-999.0000,-999.000,  -999.0,-999.000,  102329
      06MT30_3,  A01E,   518,  1,      2,   U022,2,19941129,2041, 59.0333, -33.0333, 2429,   2402.6,   3.1450,  34.9264,2,  34.9272,2,   -999.0,1,  2.9521,    277.0,2,    12.11,2,    16.68,2,     1.09,2,    2.011,2,    0.941,2,    1.150,2,-999.0000,5,  -999.00,5,   -999.0,9,   -999.0,9,-999.0000,   0.027,  -999.0,-999.000,  102328
      06MT30_3,  A01E,   518,  1,      1,   B025,2,19941129,2041, 59.0333, -33.0333, 2429,   2442.0,   3.1480,  34.9257,2,  34.9274,2,   -999.0,1,  2.9511,    277.4,2,    12.12,2,    16.65,2,     1.09,2,    1.950,2,    0.890,2,    1.170,2,   1.7982,2,     7.07,2,   -999.0,9,   2150.1,2,  0.0072,   0.030,  -999.0,   0.220,  102327
      06MT30_3,  A01E,   519,  1,      0,   -999,2,19941130,0130, 58.9717, -32.3017, 1742,      5.0,   6.3000,-999.0000,9,  34.7550,2,   -999.0,9,-999.0000,   -999.0,9,  -999.00,9,  -999.00,9,  -999.00,9, -999.000,9, -999.000,9, -999.000,9,-999.0000,9,  -999.00,9,   -999.0,9,   2111.6,2,-999.0000,-999.000,  -999.0,-999.000,    -999
      06MT30_3,  A01E,   519,  1,     19,   U015,2,19941130,0130, 58.9717, -32.3017, 1742,     19.4,   6.3570,  34.6903,2,  34.6896,2,   -999.0,1,  6.3553,    290.1,2,     5.32,2,    12.74,2,     0.85,2,    4.385,2, -999.000,9,    1.994,2,   1.7696,2,    -1.68,2,   -999.0,9,   2112.4,2,  0.0071,   0.027,  -999.0,   0.120,  102369
      06MT30_3,  A01E,   519,  1,     18,   B003,2,19941130,0130, 58.9717, -32.3017, 1742,     46.6,   6.3580,  34.6903,2,  34.6895,2,   -999.0,1,  6.3539,    289.1,2,     5.30,2,    12.74,2,     0.85,2, -999.000,9, -999.000,9, -999.000,9,-999.0000,9,  -999.00,9,   -999.0,9,   2111.8,2,-999.0000,-999.000,  -999.0,-999.000,  102368
      06MT30_3,  A01E,   519,  1,     17,   K124,2,19941130,0130, 58.9717, -32.3017, 1742,     98.6,   6.3700,  34.6903,2,  34.6899,2,   -999.0,1,  6.3614,    289.3,2,     5.32,2,    12.86,2,     0.85,2,    4.480,2,    2.139,2,    1.804,2,   1.7662,2,    -1.31,2,   -999.0,9,   2111.3,2,  0.0071,   0.026,  -999.0,   0.120,  102367
      06MT30_3,  A01E,   519,  1,     16,   K114,2,19941130,0130, 58.9717, -32.3017, 1742,    147.4,   5.9240,  34.9087,2,  34.9083,2,   -999.0,1,  5.9115,    277.0,2,     8.15,2,    16.31,2,     1.04,2, -999.000,9, -999.000,9, -999.000,9,-999.0000,9,  -999.00,9,   -999.0,9,   2139.8,2,-999.0000,-999.000,  -999.0,-999.000,  102366
      06MT30_3,  A01E,   519,  1,     15,   U010,2,19941130,0130, 58.9717, -32.3017, 1742,    250.0,   5.7030,  34.9343,2,  34.9338,2,   -999.0,1,  5.6820,    278.1,2,     8.37,2,    16.52,2,     1.06,2, -999.000,9, -999.000,9,    1.706,2,   1.7706,2,    -0.17,2,   -999.0,9,   2142.0,2,  0.0071,   0.031,  -999.0,   0.130,  102365
      06MT30_3,  A01E,   519,  1,     14,   U002,2,19941130,0130, 58.9717, -32.3017, 1742,    298.6,   5.7300,  34.9569,2,  34.9585,2,   -999.0,1,  5.7047,    278.1,2,     8.32,2,    16.51,2,     1.05,2, -999.000,9, -999.000,9,    1.809,2,-999.0000,5,  -999.00,5,   -999.0,9,   -999.0,9,-999.0000,   0.026,  -999.0,-999.000,  102364
      06MT30_3,  A01E,   519,  1,     13,   B009,2,19941130,0130, 58.9717, -32.3017, 1742,    399.4,   5.6260,  34.9711,2,  34.9705,2,   -999.0,1,  5.5922,    273.3,2,     8.59,2,    16.77,2,     1.06,2, -999.000,9, -999.000,9,    1.848,2,   1.7813,2,     0.29,2,   -999.0,9,   -999.0,9,  0.0071,   0.033,  -999.0,   0.100,  102363
      06MT30_3,  A01E,   519,  1,     12,   K117,2,19941130,0130, 58.9717, -32.3017, 1742,    508.6,   5.3210,  34.9669,2,  34.9674,2,   -999.0,1,  5.2788,    258.3,2,     9.63,2,    17.73,2,     1.12,2, -999.000,9, -999.000,9, -999.000,9,-999.0000,9,  -999.00,9,   -999.0,9,   -999.0,9,-999.0000,-999.000,  -999.0,-999.000,  102362
      06MT30_3,  A01E,   519,  1,     11,   B008,2,19941130,0130, 58.9717, -32.3017, 1742,    597.9,   4.8590,  34.9391,2,  34.9390,2,   -999.0,1,  4.8112,    256.0,2,    10.20,2,    18.23,2,     1.15,2, -999.000,9, -999.000,9,    1.638,2,   1.7829,2,     4.09,2,   -999.0,9,   -999.0,9,  0.0071,   0.024,  -999.0,   0.110,  102361
      06MT30_3,  A01E,   519,  1,     10,   K115,2,19941130,0130, 58.9717, -32.3017, 1742,    699.1,   4.3000,  34.9014,2,  34.9030,2,   -999.0,1,  4.2466,    264.2,2,    10.19,2,    18.16,2,     1.15,2, -999.000,9, -999.000,9,    1.483,2,   1.7857,2,     4.15,2,   -999.0,9,   -999.0,9,  0.0071,   0.030,  -999.0,   0.110,  102360
      06MT30_3,  A01E,   519,  1,      9,   K036,2,19941130,0130, 58.9717, -32.3017, 1742,    797.7,   3.9180,  34.8871,2,  34.8872,2,   -999.0,1,  3.8589,    271.6,2,    10.14,2,    18.06,2,     1.13,2,    3.362,2,    1.494,2, -999.000,9,-999.0000,9,  -999.00,9,   -999.0,9,   -999.0,9,-999.0000,-999.000,  -999.0,-999.000,  102359
      06MT30_3,  A01E,   519,  1,      8,   U017,2,19941130,0130, 58.9717, -32.3017, 1742,    898.1,   3.7890,  34.9008,2,  34.9002,2,   -999.0,1,  3.7226,    273.4,2,    10.23,2,    17.86,2,     1.12,2, -999.000,9, -999.000,9, -999.000,9,-999.0000,9,  -999.00,9,   -999.0,9,   2151.6,2,-999.0000,-999.000,  -999.0,-999.000,  102358
      06MT30_3,  A01E,   519,  1,      7,   B004,2,19941130,0130, 58.9717, -32.3017, 1742,   1000.8,   3.8150,  34.9218,2,  34.9227,2,   -999.0,1,  3.7400,    270.5,2,    10.41,2,    17.64,2,     1.12,2,    2.507,2,    1.113,2,    1.364,2,   1.7900,2,     6.83,2,   -999.0,9,   2153.6,2,  0.0072,   0.028,  -999.0,   0.110,  102357
      06MT30_3,  A01E,   519,  1,      6,   U006,2,19941130,0130, 58.9717, -32.3017, 1742,   1097.8,   3.7800,  34.9336,2,  34.9342,2,   -999.0,1,  3.6972,    271.5,2,    10.47,2,    17.35,2,     1.10,2,    2.407,2,    1.090,2, -999.000,9,-999.0000,9,  -999.00,9,   -999.0,9,   2151.0,2,-999.0000,-999.000,  -999.0,-999.000,  102356
      06MT30_3,  A01E,   519,  1,      5,   U023,2,19941130,0130, 58.9717, -32.3017, 1742,   1401.4,   3.6370,  34.9309,2,  34.9310,2,   -999.0,1,  3.5297,    273.5,2,    10.78,2,    17.30,2,     1.09,2,    2.443,2,    1.112,2,    1.357,2,   1.7927,2,     7.34,2,   -999.0,9,   -999.0,9,  0.0072,   0.033,  -999.0,   0.120,  102355
      06MT30_3,  A01E,   519,  1,      4,   K056,2,19941130,0130, 58.9717, -32.3017, 1742,   1501.7,   3.4790,  34.9181,2,  34.9191,2,   -999.0,1,  3.3647,    278.7,2,    10.72,2,    17.21,2,     1.09,2, -999.000,9, -999.000,9, -999.000,9,-999.0000,9,  -999.00,9,   -999.0,9,   -999.0,9,-999.0000,-999.000,  -999.0,-999.000,  102354
      06MT30_3,  A01E,   519,  1,      3,   U018,2,19941130,0130, 58.9717, -32.3017, 1742,   1602.4,   3.3370,  34.9039,2,  34.9018,3,   -999.0,1,  3.2156,    284.4,2,    10.43,2,    17.15,2,     1.09,2,    3.061,2, -999.000,9,    1.586,2,   1.7906,2,     4.99,2,   -999.0,9,   -999.0,9,  0.0072,   0.026,  -999.0,   0.120,  102353
      06MT30_3,  A01E,   519,  1,      2,   U022,2,19941130,0130, 58.9717, -32.3017, 1742,   1701.3,   3.3400,  34.9128,2,  34.9121,2,   -999.0,1,  3.2098,    281.0,2,    10.95,2,    17.03,2,     1.09,2, -999.000,9, -999.000,9, -999.000,9,-999.0000,9,  -999.00,9,   -999.0,9,   -999.0,9,-999.0000,-999.000,  -999.0,-999.000,  102352
      06MT30_3,  A01E,   519,  1,      1,   B025,2,19941130,0130, 58.9717, -32.3017, 1742,   1757.0,   3.3460,  34.9129,2,  34.9128,2,   -999.0,1,  3.2107,    280.7,2,    10.95,2,    16.99,2,     1.09,2,    2.722,2,    1.326,2,    1.310,2,   1.8109,2,     5.91,2,   -999.0,9,   2149.9,2,  0.0072,   0.035,  -999.0,   0.110,  102351