BOTTLE,20060322WHPSIOSA
EXPOCODE,SECT_ID,STNNBR,CASTNO,SAMPNO,BTLNBR,BTLNBR_FLAG_W,DATE,TIME,LATITUDE,LONGITUDE,DEPTH,CTDPRS,CTDTMP,CTDSAL,CTDSAL_FLAG_W,SALNTY,SALNTY_FLAG_W,CTDOXY,CTDOXY_FLAG_W,THETA,OXYGEN,OXYGEN_FLAG_W,SILCAT,SILCAT_FLAG_W,NO2+NO3,NO2+NO3_FLAG_W,PHSPHT,PHSPHT_FLAG_W,CFC-11,CFC-11_FLAG_W,CFC-12,CFC-12_FLAG_W,TRITUM,TRITUM_FLAG_W,HELIUM,HELIUM_FLAG_W,DELHE3,DELHE3_FLAG_W,DELC14,DELC14_FLAG_W,TCARBN,TCARBN_FLAG_W,HELIER,TRITER,C14ERR,DELHER,BEDFORT
,,,,,,,,,,,,DBAR,ITS-90,PSS-78,,PSS-78,,UMOL/KG,,ITS-90,UMOL/KG,,UMOL/KG,,UMOL/KG,,UMOL/KG,,PMOL/KG,,PMOL/KG,,TU,,NMOL/KG,,PERCNT,,/MILLE,,UMOL/KG,,NMOL/KG,TU,/MILLE,PERCNT,NUM
      06MT30_3,  A01E,   527,  1,      0,   -999,2,19941201,2332, 56.9150, -27.8033, 2918,      5.0,   8.3000,-999.0000,9,  34.7090,2,   -999.0,9,-999.0000,   -999.0,9,  -999.00,9,  -999.00,9,  -999.00,9, -999.000,9, -999.000,9, -999.000,9,-999.0000,9,  -999.00,9,   -999.0,9,   2117.3,2,-999.0000,-999.000,  -999.0,-999.000,    -999
      06MT30_3,  A01E,   527,  1,     22,   B023,2,19941201,2332, 56.9150, -27.8033, 2918,     19.8,   8.4190,  34.9767,2,  34.9743,2,   -999.0,1,  8.4170,    274.0,2,     4.17,2,    11.18,2,     0.76,2,    3.657,2,    1.874,2,    1.753,2,   1.7495,2,    -1.49,2,   -999.0,9,   2116.3,2,  0.0070,   0.024,  -999.0,   0.120,  102564
      06MT30_3,  A01E,   527,  1,     21,   K040,2,19941201,2332, 56.9150, -27.8033, 2918,     48.0,   8.4310,  34.9805,2,  34.9792,2,   -999.0,1,  8.4260,    273.9,2,     4.17,2,    11.27,2,     0.76,2, -999.000,9, -999.000,9, -999.000,9,-999.0000,9,  -999.00,9,   -999.0,9,   2117.5,2,-999.0000,-999.000,  -999.0,-999.000,  102563
      06MT30_3,  A01E,   527,  1,     20,   K097,2,19941201,2332, 56.9150, -27.8033, 2918,    101.4,   8.4470,  35.0088,2,  35.0079,2,   -999.0,1,  8.4365,    273.6,2,     4.25,2,    11.56,2,     0.76,2,    3.715,3,    1.920,3, -999.000,9,-999.0000,9,  -999.00,9,   -999.0,9,   2118.7,2,-999.0000,-999.000,  -999.0,-999.000,  102562
      06MT30_3,  A01E,   527,  1,     19,   U015,2,19941201,2332, 56.9150, -27.8033, 2918,    350.2,   5.9840,  34.9330,2,  34.9321,2,   -999.0,1,  5.9536,    257.0,2,     9.18,2,    17.38,2,     1.12,2, -999.000,9, -999.000,9, -999.000,9,-999.0000,9,  -999.00,9,   -999.0,9,   2156.4,2,-999.0000,-999.000,  -999.0,-999.000,  102561
      06MT30_3,  A01E,   527,  1,     18,   B003,4,19941201,2332, 56.9150, -27.8033, 2918,    449.5,   5.8290,  34.9700,2,  34.9592,2,   -999.0,1,  5.7901,    253.6,2,     9.46,2,    17.80,2,     1.13,2,    3.274,2,    1.637,2,    1.690,2,   1.7739,2,     2.51,2,   -999.0,9,   2160.4,2,  0.0071,   0.027,  -999.0,   0.120,  102560
      06MT30_3,  A01E,   527,  1,     17,   K124,4,19941201,2332, 56.9150, -27.8033, 2918,    549.4,   5.3210,  34.9400,2,  34.9384,2,   -999.0,1,  5.2753,    246.8,2,    10.29,2,    18.57,2,     1.18,2,    2.974,2,    1.438,2, -999.000,9,-999.0000,9,  -999.00,9,   -999.0,9,   -999.0,9,-999.0000,-999.000,  -999.0,-999.000,  102559
      06MT30_3,  A01E,   527,  1,     16,   K114,4,19941201,2332, 56.9150, -27.8033, 2918,    745.3,   4.6300,  34.9541,2,  34.9523,2,   -999.0,1,  4.5709,    246.7,2,    10.96,2,    18.94,2,     1.20,2, -999.000,9, -999.000,9, -999.000,9,-999.0000,9,  -999.00,9,   -999.0,9,   -999.0,9,-999.0000,-999.000,  -999.0,-999.000,  102558
      06MT30_3,  A01E,   527,  1,     15,   U010,2,19941201,2332, 56.9150, -27.8033, 2918,    850.2,   4.2900,  34.9359,2,  34.9365,2,   -999.0,1,  4.2241,    254.9,2,    10.83,2,    18.69,2,     1.18,2,    2.337,2,    1.115,2,    1.540,2,   1.7534,2,     6.95,3,   -999.0,9,   -999.0,9,  0.0070,   0.022,  -999.0,   0.120,  102557
      06MT30_3,  A01E,   527,  1,     14,   U002,2,19941201,2332, 56.9150, -27.8033, 2918,   1002.4,   3.9320,  34.9144,2,  34.9142,2,   -999.0,1,  3.8560,    264.7,2,    10.60,2,    18.29,2,     1.17,2,    2.393,2,    1.139,2, -999.000,9,-999.0000,9,  -999.00,9,   -999.0,9,   2163.4,2,-999.0000,-999.000,  -999.0,-999.000,  102556
      06MT30_3,  A01E,   527,  1,     13,   B009,2,19941201,2332, 56.9150, -27.8033, 2918,   1140.7,   3.7420,  34.9038,2,  34.9043,2,   -999.0,1,  3.6560,    270.6,2,    10.54,2,    18.06,2,     1.15,2,    2.378,2,    1.121,2,    1.454,2,   1.7898,2,     7.21,2,   -999.0,9,   -999.0,9,  0.0072,   0.022,  -999.0,   0.120,  102555
      06MT30_3,  A01E,   527,  1,     12,   K117,2,19941201,2332, 56.9150, -27.8033, 2918,   1302.6,   3.5680,  34.8928,2,  34.8927,2,   -999.0,1,  3.4700,    275.1,2,    10.48,2,    17.84,2,     1.13,2, -999.000,9, -999.000,9, -999.000,9,-999.0000,9,  -999.00,9,   -999.0,9,   -999.0,9,-999.0000,-999.000,  -999.0,-999.000,  102554
      06MT30_3,  A01E,   527,  1,     11,   B008,2,19941201,2332, 56.9150, -27.8033, 2918,   1451.1,   3.4420,  34.8885,2,  34.8881,2,   -999.0,1,  3.3326,    278.4,2,    10.57,2,    17.64,2,     1.12,2,    2.296,2,    1.084,2,    1.372,2,-999.0000,5,  -999.00,5,   -999.0,9,   2156.3,2,-999.0000,   0.023,  -999.0,-999.000,  102553
      06MT30_3,  A01E,   527,  1,     10,   K115,2,19941201,2332, 56.9150, -27.8033, 2918,   1595.5,   3.3660,  34.8896,2,  34.8901,2,   -999.0,1,  3.2449,    280.4,2,    10.52,2,    17.46,2,     1.11,2,    2.394,2,    1.142,2, -999.000,9,-999.0000,9,  -999.00,9,   -999.0,9,   -999.0,9,-999.0000,-999.000,  -999.0,-999.000,  102552
      06MT30_3,  A01E,   527,  1,      9,   K036,2,19941201,2332, 56.9150, -27.8033, 2918,   1797.9,   3.3770,  34.9137,2,  34.9125,2,   -999.0,1,  3.2376,    277.0,2,    10.99,2,    17.35,2,     1.11,2,    1.936,2,    0.910,2,    1.205,2,   1.7939,2,     7.44,2,   -999.0,9,   -999.0,9,  0.0072,   0.027,  -999.0,   0.120,  102551
      06MT30_3,  A01E,   527,  1,      8,   B026,2,19941201,2332, 56.9150, -27.8033, 2918,   1999.3,   3.3500,  34.9402,2,  34.9363,3,   -999.0,1,  3.1923,    272.2,2,    12.09,2,    17.29,2,     1.11,2,    1.746,2,    0.776,2, -999.000,9,-999.0000,9,  -999.00,9,   -999.0,9,   -999.0,9,-999.0000,-999.000,  -999.0,-999.000,  102550
      06MT30_3,  A01E,   527,  1,      7,   B004,2,19941201,2332, 56.9150, -27.8033, 2918,   2202.6,   3.2040,  34.9569,2,  34.9564,2,   -999.0,1,  3.0293,    270.8,2,    13.08,2,    17.18,2,     1.11,2,    1.491,2,    0.652,2,    1.193,2,   1.7911,2,     7.27,2,   -999.0,9,   2162.3,2,  0.0072,   0.020,  -999.0,   0.160,  102549
      06MT30_3,  A01E,   527,  1,      6,   U006,2,19941201,2332, 56.9150, -27.8033, 2918,   2402.1,   2.9750,  34.9632,2,  34.9631,2,   -999.0,1,  2.7850,    269.4,2,    15.18,2,    17.21,2,     1.11,2,    1.566,2,    0.716,2, -999.000,9,-999.0000,9,  -999.00,9,   -999.0,9,   -999.0,9,-999.0000,-999.000,  -999.0,-999.000,  102548
      06MT30_3,  A01E,   527,  1,      5,   U023,2,19941201,2332, 56.9150, -27.8033, 2918,   2546.6,   2.8740,  34.9633,2,  34.9626,2,   -999.0,1,  2.6717,    268.5,2,    16.36,2,    17.32,2,     1.12,2,    1.586,2,    0.713,2,    0.993,2,   1.7998,2,     6.41,2,   -999.0,9,   -999.0,9,  0.0072,   0.024,  -999.0,   0.120,  102547
      06MT30_3,  A01E,   527,  1,      4,   K056,2,19941201,2332, 56.9150, -27.8033, 2918,   2679.2,   2.8050,  34.9634,2,  34.9627,2,   -999.0,1,  2.5909,    268.5,2,    16.77,2,    17.14,2,     1.12,2,    1.707,2,    0.770,2, -999.000,9,-999.0000,9,  -999.00,9,   -999.0,9,   -999.0,9,-999.0000,-999.000,  -999.0,-999.000,  102546
      06MT30_3,  A01E,   527,  1,      3,   U018,2,19941201,2332, 56.9150, -27.8033, 2918,   2803.2,   2.7780,  34.9638,2,  34.9637,2,   -999.0,1,  2.5521,    269.3,2,    16.64,2,    17.06,2,     1.11,2,    1.783,2,    0.821,2,    1.006,2,   1.8015,2,     6.06,2,   -999.0,9,   -999.0,9,  0.0072,   0.018,  -999.0,   0.110,  102545
      06MT30_3,  A01E,   527,  1,      2,   U022,2,19941201,2332, 56.9150, -27.8033, 2918,   2841.6,   2.7740,  34.9639,2,  34.9638,2,   -999.0,1,  2.5442,    270.1,2,    16.31,2,    16.94,2,     1.10,2,    1.911,2, -999.000,9, -999.000,9,-999.0000,9,  -999.00,9,   -999.0,9,   -999.0,9,-999.0000,-999.000,  -999.0,-999.000,  102544
      06MT30_3,  A01E,   527,  1,      1,   B025,2,19941201,2332, 56.9150, -27.8033, 2918,   2869.3,   2.7670,  34.9639,2,  34.9642,2,   -999.0,1,  2.5346,    270.5,2,    16.14,2,    16.84,2,     1.10,2,    1.901,2, -999.000,9,    1.069,2,   1.7981,2,     6.11,2,   -999.0,9,   2170.5,2,  0.0072,   0.026,  -999.0,   0.120,  102543
      06MT30_3,  A01E,   529,  1,      0,   -999,2,19941203,0103, 56.4533, -27.4933, 2751,      5.0,   9.0000,-999.0000,9,  35.1670,2,   -999.0,9,-999.0000,   -999.0,9,  -999.00,9,  -999.00,9,  -999.00,9, -999.000,9, -999.000,9, -999.000,9,-999.0000,9,  -999.00,9,   -999.0,9,   2107.9,2,-999.0000,-999.000,  -999.0,-999.000,    -999
      06MT30_3,  A01E,   529,  1,      1,   B025,2,19941203,0103, 56.4533, -27.4933, 2751,     19.5,   9.1470,  35.0293,2,  35.0298,2,   -999.0,1,  9.1449,    269.5,2,     3.45,2,    10.09,2,     0.67,2,    3.565,3,    1.879,3,    1.868,2,   1.7506,2,    -1.35,2,   -999.0,9,   2108.2,2,  0.0070,   0.030,  -999.0,   0.110,  102567
      06MT30_3,  A01E,   529,  1,     24,   K012,2,19941203,0103, 56.4533, -27.4933, 2751,     48.7,   9.1540,  35.0298,2,  35.0296,2,   -999.0,1,  9.1487,    269.3,2,     3.42,2,    10.25,2,     0.68,2, -999.000,9, -999.000,9, -999.000,9,-999.0000,9,  -999.00,9,   -999.0,9,   -999.0,9,-999.0000,-999.000,  -999.0,-999.000,  102590
      06MT30_3,  A01E,   529,  1,     23,   K125,2,19941203,0103, 56.4533, -27.4933, 2751,     99.3,   9.1630,  35.0325,2,  35.0322,2,   -999.0,1,  9.1521,    268.5,2,     3.47,2,    10.41,2,     0.67,2,    3.565,2,    1.822,2,    1.845,2,   1.7521,3,     0.51,2,   -999.0,9,   2107.8,2,  0.0070,   0.033,  -999.0,   0.190,  102589
      06MT30_3,  A01E,   529,  1,     22,   B023,2,19941203,0103, 56.4533, -27.4933, 2751,    149.1,   8.8530,  35.1810,2,  35.1790,2,   -999.0,1,  8.8370,    247.8,2,     6.45,2,    14.58,2,     0.94,2,    3.716,2,    1.846,2, -999.000,9,-999.0000,9,  -999.00,9,   -999.0,9,   2137.0,2,-999.0000,-999.000,  -999.0,-999.000,  102588
      06MT30_3,  A01E,   529,  1,     21,   K040,2,19941203,0103, 56.4533, -27.4933, 2751,    248.8,   8.0830,  35.1190,2,  35.1188,2,   -999.0,1,  8.0575,    256.7,2,     6.95,2,    14.99,2,     0.95,2,    3.240,2,    1.632,2,    1.655,2,   1.7605,2,     0.18,2,   -999.0,9,   -999.0,9,  0.0070,   0.027,  -999.0,   0.120,  102587
      06MT30_3,  A01E,   529,  1,     20,   K097,2,19941203,0103, 56.4533, -27.4933, 2751,    348.7,   7.7270,  35.1202,2,  35.1202,2,   -999.0,1,  7.6920,    266.8,2,     6.81,2,    14.79,2,     0.93,2, -999.000,9, -999.000,9, -999.000,9,-999.0000,9,  -999.00,9,   -999.0,9,   2138.8,2,-999.0000,-999.000,  -999.0,-999.000,  102586
      06MT30_3,  A01E,   529,  1,     19,   U015,2,19941203,0103, 56.4533, -27.4933, 2751,    499.5,   6.8490,  35.0351,2,  35.0353,2,   -999.0,1,  6.8017,    258.9,2,     7.98,2,    16.21,2,     1.03,2, -999.000,9, -999.000,9,    1.880,2,-999.0000,5,  -999.00,5,   -999.0,9,   -999.0,9,-999.0000,   0.029,  -999.0,-999.000,  102585
      06MT30_3,  A01E,   529,  1,     18,   B003,2,19941203,0103, 56.4533, -27.4933, 2751,    646.6,   6.3080,  35.0279,2,  35.0283,2,   -999.0,1,  6.2488,    260.6,2,     8.39,2,    16.71,2,     1.06,2,    3.489,2,    1.726,2,    1.759,2,   1.7660,2,     1.54,2,   -999.0,9,   2147.9,2,  0.0071,   0.031,  -999.0,   0.190,  102584
      06MT30_3,  A01E,   529,  1,     17,   K124,2,19941203,0103, 56.4533, -27.4933, 2751,    799.6,   5.3910,  34.9723,2,  34.9746,2,   -999.0,1,  5.3225,    233.9,2,    10.71,2,    18.88,2,     1.20,2,    3.440,2,    1.695,2, -999.000,9,-999.0000,9,  -999.00,9,   -999.0,9,   2164.6,2,-999.0000,-999.000,  -999.0,-999.000,  102583
      06MT30_3,  A01E,   529,  1,     16,   K114,2,19941203,0103, 56.4533, -27.4933, 2751,    948.6,   4.6680,  34.9593,2,  34.9595,2,   -999.0,1,  4.5910,    246.2,2,    10.72,2,    18.67,2,     1.19,2,    2.390,2,    1.141,2,    1.477,2,   1.7850,2,     7.01,2,   -999.0,9,   -999.0,9,  0.0071,   0.027,  -999.0,   0.200,  102582
      06MT30_3,  A01E,   529,  1,     15,   U010,2,19941203,0103, 56.4533, -27.4933, 2751,   1099.5,   4.0720,  34.9238,2,  34.9247,2,   -999.0,1,  3.9866,    261.1,2,    10.41,2,    18.19,2,     1.15,2, -999.000,9, -999.000,9, -999.000,9,-999.0000,9,  -999.00,9,   -999.0,9,   -999.0,9,-999.0000,-999.000,  -999.0,-999.000,  102581
      06MT30_3,  A01E,   529,  1,     14,   U002,2,19941203,0103, 56.4533, -27.4933, 2751,   1248.9,   3.8000,  34.9068,2,  34.9075,2,   -999.0,1,  3.7043,    268.9,2,    10.27,2,    17.93,2,     1.13,2,    2.247,2,    1.068,2, -999.000,9,-999.0000,9,  -999.00,9,   -999.0,9,   -999.0,9,-999.0000,-999.000,  -999.0,-999.000,  102580
      06MT30_3,  A01E,   529,  1,     13,   B009,2,19941203,0103, 56.4533, -27.4933, 2751,   1397.4,   3.6220,  34.8964,2,  34.8963,2,   -999.0,1,  3.5152,    274.5,2,    10.19,2,    17.71,2,     1.11,2,    2.314,2,    1.076,2,    1.476,2,   1.7935,2,     7.39,2,   -999.0,9,   -999.0,9,  0.0072,   0.024,  -999.0,   0.170,  102579
      06MT30_3,  A01E,   529,  1,     12,   K117,2,19941203,0103, 56.4533, -27.4933, 2751,   1547.6,   3.4870,  34.8898,2,  34.8892,2,   -999.0,1,  3.3686,    277.8,2,    10.23,2,    17.58,2,     1.12,2, -999.000,9, -999.000,9, -999.000,9,-999.0000,9,  -999.00,9,   -999.0,9,   2152.5,2,-999.0000,-999.000,  -999.0,-999.000,  102578
      06MT30_3,  A01E,   529,  1,     11,   B008,2,19941203,0103, 56.4533, -27.4933, 2751,   1696.8,   3.4250,  34.8943,2,  34.8938,2,   -999.0,1,  3.2941,    278.7,2,    10.37,2,    17.31,2,     1.11,2,    2.114,2,    0.984,2,    1.473,2,   1.7981,2,     7.85,2,   -999.0,9,   -999.0,9,  0.0072,   0.027,  -999.0,   0.180,  102577
      06MT30_3,  A01E,   529,  1,     10,   K115,2,19941203,0103, 56.4533, -27.4933, 2751,   1847.9,   3.3740,  34.9038,2,  34.9023,2,   -999.0,1,  3.2301,    278.1,2,    10.59,2,    17.18,2,     1.09,2, -999.000,9, -999.000,9, -999.000,9,-999.0000,9,  -999.00,9,   -999.0,9,   -999.0,9,-999.0000,-999.000,  -999.0,-999.000,  102576
      06MT30_3,  A01E,   529,  1,      9,   K036,2,19941203,0103, 56.4533, -27.4933, 2751,   1996.9,   3.3750,  34.9243,2,  34.9251,2,   -999.0,1,  3.2172,    274.5,2,    11.25,2,    17.15,2,     1.09,2,    1.600,2,    0.739,2,    1.315,2,-999.0000,5,  -999.00,5,   -999.0,9,   -999.0,9,-999.0000,   0.027,  -999.0,-999.000,  102575
      06MT30_3,  A01E,   529,  1,      8,   B026,2,19941203,0103, 56.4533, -27.4933, 2751,   2148.9,   3.3210,  34.9457,2,  34.9458,2,   -999.0,1,  3.1496,    272.0,2,    11.96,2,    17.06,2,     1.10,2,    1.442,2,    0.662,2, -999.000,9,-999.0000,9,  -999.00,9,   -999.0,9,   2155.8,2,-999.0000,-999.000,  -999.0,-999.000,  102574
      06MT30_3,  A01E,   529,  1,      7,   B004,2,19941203,0103, 56.4533, -27.4933, 2751,   2297.9,   3.1990,  34.9579,2,  34.9584,2,   -999.0,1,  3.0152,    270.9,2,    12.77,2,    16.88,2,     1.08,2, -999.000,9, -999.000,9,    1.064,2,   1.8000,2,     7.10,2,   -999.0,9,   -999.0,9,  0.0072,   0.027,  -999.0,   0.180,  102573
      06MT30_3,  A01E,   529,  1,      6,   U006,2,19941203,0103, 56.4533, -27.4933, 2751,   2399.7,   3.0680,  34.9630,2,  34.9619,2,   -999.0,1,  2.8766,    270.0,2,    13.91,2,    16.91,2,     1.09,2,    1.503,2,    0.681,2, -999.000,9,-999.0000,9,  -999.00,9,   -999.0,9,   -999.0,9,-999.0000,-999.000,  -999.0,-999.000,  102572
      06MT30_3,  A01E,   529,  1,      5,   U023,2,19941203,0103, 56.4533, -27.4933, 2751,   2500.6,   2.9720,  34.9640,2,  34.9628,2,   -999.0,1,  2.7724,    268.8,2,    15.11,2,    16.98,2,     1.10,2,    1.475,2,    0.671,2,    0.952,2,   1.8046,2,     6.47,2,   -999.0,9,   -999.0,9,  0.0072,   0.016,  -999.0,   0.170,  102571
      06MT30_3,  A01E,   529,  1,      4,   K056,2,19941203,0103, 56.4533, -27.4933, 2751,   2598.3,   2.8600,  34.9630,2,  34.9624,2,   -999.0,1,  2.6529,    268.0,2,    16.51,2,    17.05,2,     1.11,2,    1.488,2,    0.683,2, -999.000,9,-999.0000,9,  -999.00,9,   -999.0,9,   -999.0,9,-999.0000,-999.000,  -999.0,-999.000,  102570
      06MT30_3,  A01E,   529,  1,      3,   U018,2,19941203,0103, 56.4533, -27.4933, 2751,   2699.9,   2.7680,  34.9630,2,  34.9613,2,   -999.0,1,  2.5526,    267.5,2,    17.47,2,    17.04,2,     1.11,2, -999.000,9, -999.000,9,    0.993,2,   1.8081,2,     6.08,2,   -999.0,9,   -999.0,9,  0.0072,   0.019,  -999.0,   0.170,  102569
      06MT30_3,  A01E,   529,  1,      2,   U022,2,19941203,0103, 56.4533, -27.4933, 2751,   2780.3,   2.7680,  34.9636,2,  34.9626,2,   -999.0,1,  2.5446,    268.3,2,    17.05,2,    16.93,2,     1.10,2,    1.713,2,    0.759,2, -999.000,9,-999.0000,9,  -999.00,9,   -999.0,9,   2165.8,2,-999.0000,-999.000,  -999.0,-999.000,  102568