BOTTLE,20060322WHPSIOSA
EXPOCODE,SECT_ID,STNNBR,CASTNO,SAMPNO,BTLNBR,BTLNBR_FLAG_W,DATE,TIME,LATITUDE,LONGITUDE,DEPTH,CTDPRS,CTDTMP,CTDSAL,CTDSAL_FLAG_W,SALNTY,SALNTY_FLAG_W,CTDOXY,CTDOXY_FLAG_W,THETA,OXYGEN,OXYGEN_FLAG_W,SILCAT,SILCAT_FLAG_W,NO2+NO3,NO2+NO3_FLAG_W,PHSPHT,PHSPHT_FLAG_W,CFC-11,CFC-11_FLAG_W,CFC-12,CFC-12_FLAG_W,TRITUM,TRITUM_FLAG_W,HELIUM,HELIUM_FLAG_W,DELHE3,DELHE3_FLAG_W,DELC14,DELC14_FLAG_W,TCARBN,TCARBN_FLAG_W,HELIER,TRITER,C14ERR,DELHER,BEDFORT
,,,,,,,,,,,,DBAR,ITS-90,PSS-78,,PSS-78,,UMOL/KG,,ITS-90,UMOL/KG,,UMOL/KG,,UMOL/KG,,UMOL/KG,,PMOL/KG,,PMOL/KG,,TU,,NMOL/KG,,PERCNT,,/MILLE,,UMOL/KG,,NMOL/KG,TU,/MILLE,PERCNT,NUM
      06MT30_3,  A01E,   544,  1,     24,   K012,2,19941214,0233, 52.3333, -16.9900, 3926,     19.7,  11.5360,  35.4979,2,  35.4970,2,   -999.0,1, 11.5335,    258.2,2,     2.41,2,     8.14,2,     0.53,2,    3.034,3,    1.660,3, -999.000,9,-999.0000,9,  -999.00,9,   -999.0,9,   -999.0,9,-999.0000,-999.000,  -999.0,-999.000,  102950
      06MT30_3,  A01E,   544,  1,     23,   K125,2,19941214,0233, 52.3333, -16.9900, 3926,    148.7,  11.4330,  35.5128,2,  35.5121,2,   -999.0,1, 11.4141,    252.1,2,     2.86,2,     9.32,2,     0.58,2, -999.000,9, -999.000,9, -999.000,9,-999.0000,9,  -999.00,9,   -999.0,9,   -999.0,9,-999.0000,-999.000,  -999.0,-999.000,  102949
      06MT30_3,  A01E,   544,  1,     22,   B027,2,19941214,0233, 52.3333, -16.9900, 3926,    399.7,  10.3660,  35.4232,2,  35.4237,2,   -999.0,1, 10.3178,    250.0,2,     4.62,2,    12.59,2,     0.77,2, -999.000,9, -999.000,9, -999.000,9,-999.0000,9,  -999.00,9,   -999.0,9,   -999.0,9,-999.0000,-999.000,  -999.0,-999.000,  102948
      06MT30_3,  A01E,   544,  1,     21,   K040,2,19941214,0233, 52.3333, -16.9900, 3926,    797.8,   9.4450,  35.4440,2,  35.4437,2,   -999.0,1,  9.3523,    208.3,2,     8.11,2,    17.07,2,     1.04,2, -999.000,9, -999.000,9, -999.000,9,-999.0000,9,  -999.00,9,   -999.0,9,   -999.0,9,-999.0000,-999.000,  -999.0,-999.000,  102947
      06MT30_3,  A01E,   544,  1,     20,   K097,2,19941214,0233, 52.3333, -16.9900, 3926,   1199.2,   6.0630,  35.1280,2,  35.1294,2,   -999.0,1,  5.9507,    224.6,2,    10.97,2,    19.50,2,     1.22,2, -999.000,9, -999.000,9, -999.000,9,-999.0000,9,  -999.00,9,   -999.0,9,   -999.0,9,-999.0000,-999.000,  -999.0,-999.000,  102946
      06MT30_3,  A01E,   544,  1,     19,   U015,2,19941214,0233, 52.3333, -16.9900, 3926,   1599.2,   4.0760,  34.9333,2,  34.9338,2,   -999.0,1,  3.9459,    264.4,2,    10.74,2,    18.59,2,     1.18,2, -999.000,9, -999.000,9, -999.000,9,-999.0000,9,  -999.00,9,   -999.0,9,   -999.0,9,-999.0000,-999.000,  -999.0,-999.000,  102945
      06MT30_3,  A01E,   544,  1,     18,   B003,2,19941214,0233, 52.3333, -16.9900, 3926,   1998.7,   3.5300,  34.8958,2,  34.8965,2,   -999.0,1,  3.3698,    277.9,2,    10.82,2,    17.99,2,     1.16,2, -999.000,9, -999.000,9, -999.000,9,-999.0000,9,  -999.00,9,   -999.0,9,   -999.0,9,-999.0000,-999.000,  -999.0,-999.000,  102944
      06MT30_3,  A01E,   544,  1,     17,   K124,2,19941214,0233, 52.3333, -16.9900, 3926,   2401.1,   3.3730,  34.9351,2,  34.9355,2,   -999.0,1,  3.1762,    270.2,2,    14.02,2,    18.14,2,     1.22,2, -999.000,9, -999.000,9, -999.000,9,-999.0000,9,  -999.00,9,   -999.0,9,   -999.0,9,-999.0000,-999.000,  -999.0,-999.000,  102943
      06MT30_3,  A01E,   544,  1,     16,   K114,2,19941214,0233, 52.3333, -16.9900, 3926,   2699.3,   3.0820,  34.9471,2,  34.9472,2,   -999.0,1,  2.8606,    262.5,2,    20.50,2,    19.01,2,     1.24,2, -999.000,9, -999.000,9, -999.000,9,-999.0000,9,  -999.00,9,   -999.0,9,   -999.0,9,-999.0000,-999.000,  -999.0,-999.000,  102942
      06MT30_3,  A01E,   544,  1,     15,   U010,2,19941214,0233, 52.3333, -16.9900, 3926,   2999.3,   2.7930,  34.9420,2,  34.9414,2,   -999.0,1,  2.5468,    251.5,2,    30.15,2,    20.77,2,     1.37,2, -999.000,9, -999.000,9, -999.000,9,-999.0000,9,  -999.00,9,   -999.0,9,   -999.0,9,-999.0000,-999.000,  -999.0,-999.000,  102941
      06MT30_3,  A01E,   544,  1,     14,   U002,2,19941214,0233, 52.3333, -16.9900, 3926,   3300.5,   2.6330,  34.9279,2,  34.9272,2,   -999.0,1,  2.3588,    246.0,2,    36.53,2,    21.90,2,     1.45,2, -999.000,9, -999.000,9, -999.000,9,-999.0000,9,  -999.00,9,   -999.0,9,   -999.0,9,-999.0000,-999.000,  -999.0,-999.000,  102940
      06MT30_3,  A01E,   544,  1,     13,   B009,2,19941214,0233, 52.3333, -16.9900, 3926,   3601.9,   2.5250,  34.9151,2,  34.9136,2,   -999.0,1,  2.2208,    241.6,2,    41.15,2,    22.65,2,     1.51,2, -999.000,9, -999.000,9, -999.000,9,-999.0000,9,  -999.00,9,   -999.0,9,   -999.0,9,-999.0000,-999.000,  -999.0,-999.000,  102939
      06MT30_3,  A01E,   544,  1,      1,   B025,2,19941214,0233, 52.3333, -16.9900, 3926,   3942.5,   2.4750,  34.9057,2,  34.9053,2,   -999.0,1,  2.1340,    240.0,2,    44.01,2,    22.77,2,     1.54,2,    0.047,2, -999.000,9, -999.000,9,-999.0000,9,  -999.00,9,   -999.0,9,   -999.0,9,-999.0000,-999.000,  -999.0,-999.000,  102927
      06MT30_3,  A01E,   544,  1,      2,   U022,2,19941214,0233, 52.3333, -16.9900, 3926,   3944.9,   2.4750,  34.9060,2,  34.9042,2,   -999.0,1,  2.1337,    240.1,2,    44.09,2,    22.88,2,     1.56,2,    0.043,2, -999.000,9, -999.000,9,-999.0000,9,  -999.00,9,   -999.0,9,   -999.0,9,-999.0000,-999.000,  -999.0,-999.000,  102928
      06MT30_3,  A01E,   544,  1,      3,   U018,2,19941214,0233, 52.3333, -16.9900, 3926,   3947.5,   2.4760,  34.9062,2,  34.9047,2,   -999.0,1,  2.1344,    239.8,2,    44.03,2,    22.85,2,     1.53,2,    0.047,2,    0.021,2, -999.000,9,-999.0000,9,  -999.00,9,   -999.0,9,   -999.0,9,-999.0000,-999.000,  -999.0,-999.000,  102929
      06MT30_3,  A01E,   544,  1,      4,   K056,2,19941214,0233, 52.3333, -16.9900, 3926,   3949.0,   2.4760,  34.9061,2,  34.9050,2,   -999.0,1,  2.1342,    240.1,2,    43.94,2,    22.86,2,     1.55,2,    0.045,2,    0.021,2, -999.000,9,-999.0000,9,  -999.00,9,   -999.0,9,   -999.0,9,-999.0000,-999.000,  -999.0,-999.000,  102930
      06MT30_3,  A01E,   544,  1,      9,   K036,2,19941214,0233, 52.3333, -16.9900, 3926,   3951.7,   2.4760,  34.9059,2,  34.9049,2,   -999.0,1,  2.1339,    239.9,2,    44.04,2,    23.03,2,     1.54,2,    0.056,2, -999.000,9, -999.000,9,-999.0000,9,  -999.00,9,   -999.0,9,   -999.0,9,-999.0000,-999.000,  -999.0,-999.000,  102935
      06MT30_3,  A01E,   544,  1,     10,   K115,2,19941214,0233, 52.3333, -16.9900, 3926,   3952.5,   2.4760,  34.9059,2,  34.9055,2,   -999.0,1,  2.1338,    239.8,2,    44.07,2,    23.02,2,     1.54,2,    0.047,2, -999.000,9, -999.000,9,-999.0000,9,  -999.00,9,   -999.0,9,   -999.0,9,-999.0000,-999.000,  -999.0,-999.000,  102936
      06MT30_3,  A01E,   544,  1,     11,   B008,2,19941214,0233, 52.3333, -16.9900, 3926,   3953.0,   2.4760,  34.9055,2,  34.9051,2,   -999.0,1,  2.1338,    240.1,2,    44.10,2,    23.12,2,     1.54,2,    0.047,2,    0.020,2, -999.000,9,-999.0000,9,  -999.00,9,   -999.0,9,   -999.0,9,-999.0000,-999.000,  -999.0,-999.000,  102937
      06MT30_3,  A01E,   544,  1,      5,   U023,2,19941214,0233, 52.3333, -16.9900, 3926,   3953.0,   2.4760,  34.9059,2,  34.9052,2,   -999.0,1,  2.1338,    239.8,2,    44.01,2,    22.89,2,     1.54,2, -999.000,9,    0.019,2, -999.000,9,-999.0000,9,  -999.00,9,   -999.0,9,   -999.0,9,-999.0000,-999.000,  -999.0,-999.000,  102931
      06MT30_3,  A01E,   544,  1,     12,   K117,2,19941214,0233, 52.3333, -16.9900, 3926,   3953.6,   2.4760,  34.9057,2,  34.9050,2,   -999.0,1,  2.1337,    239.9,2,    44.14,2,    23.16,2,     1.54,2,    0.048,2,    0.023,2, -999.000,9,-999.0000,9,  -999.00,9,   -999.0,9,   -999.0,9,-999.0000,-999.000,  -999.0,-999.000,  102938
      06MT30_3,  A01E,   544,  1,      7,   B004,2,19941214,0233, 52.3333, -16.9900, 3926,   3956.4,   2.4770,  34.9059,2,  34.9049,2,   -999.0,1,  2.1344,    239.7,2,    44.07,2,    22.99,2,     1.55,2,    0.044,2,    0.021,2, -999.000,9,-999.0000,9,  -999.00,9,   -999.0,9,   -999.0,9,-999.0000,-999.000,  -999.0,-999.000,  102933
      06MT30_3,  A01E,   544,  1,      8,   B026,2,19941214,0233, 52.3333, -16.9900, 3926,   3958.9,   2.4770,  34.9058,2,  34.9048,2,   -999.0,1,  2.1341,    239.8,2,    44.04,2,    23.02,2,     1.54,2,    0.044,2,    0.020,2, -999.000,9,-999.0000,9,  -999.00,9,   -999.0,9,   -999.0,9,-999.0000,-999.000,  -999.0,-999.000,  102934
      06MT30_3,  A01E,   545,  1,      0,   -999,2,19941214,0805, 52.3283, -16.1833, 3453,      5.0,  11.0000,-999.0000,9,  35.6110,2,   -999.0,9,-999.0000,   -999.0,9,  -999.00,9,  -999.00,9,  -999.00,9, -999.000,9, -999.000,9, -999.000,9,-999.0000,9,  -999.00,9,   -999.0,9,   2114.4,2,-999.0000,-999.000,  -999.0,-999.000,    -999
      06MT30_3,  A01E,   545,  1,     24,   K012,2,19941214,0805, 52.3283, -16.1833, 3453,     20.6,  11.0860,  35.4903,2,  35.4904,2,   -999.0,1, 11.0835,    256.5,2,     3.02,2,     9.48,2,     0.60,2,    3.152,3,    1.695,3, -999.000,9,-999.0000,9,  -999.00,9,   -999.0,9,   2116.1,2,-999.0000,-999.000,  -999.0,-999.000,  102974
      06MT30_3,  A01E,   545,  1,     23,   K125,2,19941214,0805, 52.3283, -16.1833, 3453,     51.2,  11.0370,  35.4835,2,  35.4827,2,   -999.0,1, 11.0307,    256.8,2,     3.13,2,     9.62,2,     0.61,2, -999.000,9, -999.000,9, -999.000,9,-999.0000,9,  -999.00,9,   -999.0,9,   -999.0,9,-999.0000,-999.000,  -999.0,-999.000,  102973
      06MT30_3,  A01E,   545,  1,     22,   B027,2,19941214,0805, 52.3283, -16.1833, 3453,    100.5,  11.0350,  35.4828,2,  35.4819,2,   -999.0,1, 11.0226,    256.8,2,     3.10,2,     9.59,2,     0.61,2, -999.000,9, -999.000,9, -999.000,9,-999.0000,9,  -999.00,9,   -999.0,9,   2115.2,2,-999.0000,-999.000,  -999.0,-999.000,  102972
      06MT30_3,  A01E,   545,  1,     21,   K040,2,19941214,0805, 52.3283, -16.1833, 3453,    149.9,  10.9710,  35.4766,2,  35.4761,2,   -999.0,1, 10.9525,    255.0,2,     3.25,2,     9.86,2,     0.62,2, -999.000,9, -999.000,9, -999.000,9,-999.0000,9,  -999.00,9,   -999.0,9,   2116.0,2,-999.0000,-999.000,  -999.0,-999.000,  102971
      06MT30_3,  A01E,   545,  1,     20,   K097,2,19941214,0805, 52.3283, -16.1833, 3453,    251.0,  10.3180,  35.4261,2,  35.4264,2,   -999.0,1, 10.2881,    254.4,2,     4.62,2,    11.92,2,     0.74,2,    3.226,3,    1.698,3, -999.000,9,-999.0000,9,  -999.00,9,   -999.0,9,   2127.2,2,-999.0000,-999.000,  -999.0,-999.000,  102970
      06MT30_3,  A01E,   545,  1,     19,   U015,2,19941214,0805, 52.3283, -16.1833, 3453,    400.3,  10.0820,  35.4006,2,  35.4013,2,   -999.0,1, 10.0346,    257.1,2,     4.72,2,    12.05,2,     0.76,2, -999.000,9, -999.000,9, -999.000,9,-999.0000,9,  -999.00,9,   -999.0,9,   -999.0,9,-999.0000,-999.000,  -999.0,-999.000,  102969
      06MT30_3,  A01E,   545,  1,     18,   B003,2,19941214,0805, 52.3283, -16.1833, 3453,    600.6,   9.7540,  35.3565,2,  35.3565,2,   -999.0,1,  9.6836,    261.1,2,     5.12,2,    12.40,2,     0.79,2,    3.284,3,    1.796,3, -999.000,9,-999.0000,9,  -999.00,9,   -999.0,9,   -999.0,9,-999.0000,-999.000,  -999.0,-999.000,  102968
      06MT30_3,  A01E,   545,  1,     17,   K124,2,19941214,0805, 52.3283, -16.1833, 3453,    799.9,   9.4480,  35.3116,2,  35.3119,2,   -999.0,1,  9.3552,    257.3,2,     5.67,2,    13.17,2,     0.83,2, -999.000,9, -999.000,9, -999.000,9,-999.0000,9,  -999.00,9,   -999.0,9,   2130.4,2,-999.0000,-999.000,  -999.0,-999.000,  102967
      06MT30_3,  A01E,   545,  1,     16,   K114,2,19941214,0805, 52.3283, -16.1833, 3453,    999.8,   8.8620,  35.2545,2,  35.2543,2,   -999.0,1,  8.7490,    242.2,2,     7.00,2,    15.18,2,     0.96,2,    2.846,3,    1.531,3, -999.000,9,-999.0000,9,  -999.00,9,   -999.0,9,   -999.0,9,-999.0000,-999.000,  -999.0,-999.000,  102966
      06MT30_3,  A01E,   545,  1,     15,   U010,2,19941214,0805, 52.3283, -16.1833, 3453,   1200.6,   7.1890,  35.2127,2,  35.2138,2,   -999.0,1,  7.0664,    209.8,2,    10.59,2,    19.10,2,     1.20,2, -999.000,9, -999.000,9, -999.000,9,-999.0000,9,  -999.00,9,   -999.0,9,   2170.0,2,-999.0000,-999.000,  -999.0,-999.000,  102965
      06MT30_3,  A01E,   545,  1,     14,   U002,2,19941214,0805, 52.3283, -16.1833, 3453,   1399.8,   5.7380,  35.1076,2,  35.1083,2,   -999.0,1,  5.6084,    229.4,2,    10.98,2,    19.02,2,     1.21,2,    1.773,2,    0.863,2, -999.000,9,-999.0000,9,  -999.00,9,   -999.0,9,   -999.0,9,-999.0000,-999.000,  -999.0,-999.000,  102964
      06MT30_3,  A01E,   545,  1,     13,   B009,2,19941214,0805, 52.3283, -16.1833, 3453,   1601.4,   4.4230,  34.9640,2,  34.9657,2,   -999.0,1,  4.2884,    254.9,2,    10.74,2,    18.47,2,     1.19,2, -999.000,9, -999.000,9, -999.000,9,-999.0000,9,  -999.00,9,   -999.0,9,   2157.8,2,-999.0000,-999.000,  -999.0,-999.000,  102963
      06MT30_3,  A01E,   545,  1,     12,   K117,2,19941214,0805, 52.3283, -16.1833, 3453,   1800.2,   3.8630,  34.9117,2,  34.9125,2,   -999.0,1,  3.7168,    269.0,2,    10.60,2,    17.94,2,     1.17,2,    2.120,2,    1.078,2, -999.000,9,-999.0000,9,  -999.00,9,   -999.0,9,   -999.0,9,-999.0000,-999.000,  -999.0,-999.000,  102962
      06MT30_3,  A01E,   545,  1,     11,   B008,2,19941214,0805, 52.3283, -16.1833, 3453,   2000.9,   3.5490,  34.8909,2,  34.8920,2,   -999.0,1,  3.3883,    277.5,2,    10.54,2,    17.55,2,     1.15,2,    2.126,2,    1.068,2,    1.256,2,   1.7850,2,     7.79,2,   -999.0,9,   -999.0,9,  0.0071,   0.026,  -999.0,   0.130,  102961
      06MT30_3,  A01E,   545,  1,     10,   K115,2,19941214,0805, 52.3283, -16.1833, 3453,   2201.7,   3.4480,  34.8947,2,  34.8959,2,   -999.0,1,  3.2696,    278.3,2,    10.92,2,    17.42,2,     1.13,2, -999.000,9, -999.000,9, -999.000,9,-999.0000,9,  -999.00,9,   -999.0,9,   -999.0,9,-999.0000,-999.000,  -999.0,-999.000,  102960
      06MT30_3,  A01E,   545,  1,      9,   K036,2,19941214,0805, 52.3283, -16.1833, 3453,   2401.9,   3.4360,  34.9164,2,  34.9177,2,   -999.0,1,  3.2380,    274.0,2,    12.30,2,    17.56,2,     1.15,2,    1.419,2,    0.709,2,    1.043,2,   1.7926,2,     8.05,2,   -999.0,9,   -999.0,9,  0.0072,   0.022,  -999.0,   0.130,  102959
      06MT30_3,  A01E,   545,  1,      8,   B026,2,19941214,0805, 52.3283, -16.1833, 3453,   2600.6,   3.2650,  34.9435,2,  34.9452,2,   -999.0,1,  3.0501,    265.7,2,    16.66,2,    18.09,2,     1.19,2,    0.755,2,    0.373,2,    0.687,2,   1.8014,2,     7.07,2,   -999.0,9,   -999.0,9,  0.0072,   0.021,  -999.0,   0.130,  102958
      06MT30_3,  A01E,   545,  1,      7,   B004,2,19941214,0805, 52.3283, -16.1833, 3453,   2801.4,   3.0520,  34.9478,2,  34.9486,2,   -999.0,1,  2.8207,    259.0,2,    22.43,2,    18.94,2,     1.26,2, -999.000,9, -999.000,9, -999.000,9,-999.0000,9,  -999.00,9,   -999.0,9,   -999.0,9,-999.0000,-999.000,  -999.0,-999.000,  102957
      06MT30_3,  A01E,   545,  1,      6,   U006,3,19941214,0805, 52.3283, -16.1833, 3453,   3002.0,   2.8860,  34.9448,2,  34.9489,3,   -999.0,1,  2.6374,    258.8,3,    22.41,3,    18.90,3,     1.25,3,    0.508,3,    0.268,3,    0.515,2,   1.7951,2,     5.63,2,   -999.0,9,   -999.0,9,  0.0072,   0.022,  -999.0,   0.130,  102956
      06MT30_3,  A01E,   545,  1,      5,   U023,2,19941214,0805, 52.3283, -16.1833, 3453,   3102.1,   2.8260,  34.9432,2,  34.9430,2,   -999.0,1,  2.5683,    251.4,2,    29.59,2,    20.00,2,     1.35,2,    0.296,3,    0.157,3, -999.000,9,-999.0000,9,  -999.00,9,   -999.0,9,   -999.0,9,-999.0000,-999.000,  -999.0,-999.000,  102955
      06MT30_3,  A01E,   545,  1,      4,   K056,2,19941214,0805, 52.3283, -16.1833, 3453,   3202.0,   2.7560,  34.9385,2,  34.9381,2,   -999.0,1,  2.4893,    249.4,2,    31.85,2,    20.36,2,     1.38,2,    0.259,3,    0.137,3,    0.234,2,   1.8109,2,     3.63,2,   -999.0,9,   -999.0,9,  0.0072,   0.010,  -999.0,   0.130,  102954
      06MT30_3,  A01E,   545,  1,      3,   U018,2,19941214,0805, 52.3283, -16.1833, 3453,   3302.1,   2.6730,  34.9316,2,  34.9319,2,   -999.0,1,  2.3976,    246.7,2,    35.01,2,    20.98,2,     1.43,2,    0.169,3,    0.088,3,    0.127,2,   1.8140,2,     3.18,2,   -999.0,9,   -999.0,9,  0.0073,   0.007,  -999.0,   0.120,  102953
      06MT30_3,  A01E,   545,  1,      2,   U022,2,19941214,0805, 52.3283, -16.1833, 3453,   3459.1,   2.4930,  34.9135,2,  34.9153,2,   -999.0,1,  2.2052,    239.8,2,    42.13,2,    22.18,2,     1.51,2,    0.064,2,    0.030,2,    0.040,2,   1.8185,2,     2.56,2,   -999.0,9,   2197.7,2,  0.0073,   0.009,  -999.0,   0.130,  102952
      06MT30_3,  A01E,   545,  1,      1,   B025,2,19941214,0805, 52.3283, -16.1833, 3453,   3491.1,   2.4480,  34.9083,2,  34.9085,2,   -999.0,1,  2.1578,    239.0,2,    43.59,2,    22.32,2,     1.53,2,    0.061,2,    0.030,2,    0.025,2,   1.8205,2,     2.49,2,   -999.0,9,   -999.0,9,  0.0073,   0.007,  -999.0,   0.150,  102951