BOTTLE,20060322WHPSIOSA
EXPOCODE,SECT_ID,STNNBR,CASTNO,SAMPNO,BTLNBR,BTLNBR_FLAG_W,DATE,TIME,LATITUDE,LONGITUDE,DEPTH,CTDPRS,CTDTMP,CTDSAL,CTDSAL_FLAG_W,SALNTY,SALNTY_FLAG_W,CTDOXY,CTDOXY_FLAG_W,THETA,OXYGEN,OXYGEN_FLAG_W,SILCAT,SILCAT_FLAG_W,NO2+NO3,NO2+NO3_FLAG_W,PHSPHT,PHSPHT_FLAG_W,CFC-11,CFC-11_FLAG_W,CFC-12,CFC-12_FLAG_W,TRITUM,TRITUM_FLAG_W,HELIUM,HELIUM_FLAG_W,DELHE3,DELHE3_FLAG_W,DELC14,DELC14_FLAG_W,TCARBN,TCARBN_FLAG_W,HELIER,TRITER,C14ERR,DELHER,BEDFORT
,,,,,,,,,,,,DBAR,ITS-90,PSS-78,,PSS-78,,UMOL/KG,,ITS-90,UMOL/KG,,UMOL/KG,,UMOL/KG,,UMOL/KG,,PMOL/KG,,PMOL/KG,,TU,,NMOL/KG,,PERCNT,,/MILLE,,UMOL/KG,,NMOL/KG,TU,/MILLE,PERCNT,NUM
      06MT30_3,  A01E,   538,  1,      0,   -999,2,19941212,1011, 53.1767, -23.5333, 3690,      5.0,  11.3000,-999.0000,9,  35.5340,2,   -999.0,9,-999.0000,   -999.0,9,  -999.00,9,  -999.00,9,  -999.00,9, -999.000,9, -999.000,9, -999.000,9,-999.0000,9,  -999.00,9,   -999.0,9,   2111.3,2,-999.0000,-999.000,  -999.0,-999.000,    -999
      06MT30_3,  A01E,   538,  1,     23,   K125,2,19941212,1011, 53.1767, -23.5333, 3690,     21.2,  11.3600,  35.4152,2,  35.4161,2,   -999.0,1, 11.3573,    254.8,2,     2.45,2,     7.78,2,     0.47,2,    3.159,2,    1.597,2, -999.000,9,-999.0000,9,  -999.00,9,   -999.0,9,   2102.2,2,-999.0000,-999.000,  -999.0,-999.000,  102805
      06MT30_3,  A01E,   538,  1,     22,   B027,2,19941212,1011, 53.1767, -23.5333, 3690,     50.4,  11.3710,  35.4195,2,  35.4189,2,   -999.0,1, 11.3647,    254.3,2,     2.49,2,     7.89,2,     0.51,2, -999.000,9, -999.000,9, -999.000,5,   1.7318,2,    -1.85,2,   -999.0,9,   -999.0,9,  0.0069,-999.000,  -999.0,   0.230,  102804
      06MT30_3,  A01E,   538,  1,     21,   K040,2,19941212,1011, 53.1767, -23.5333, 3690,     99.6,  11.3760,  35.4236,2,  35.4230,2,   -999.0,1, 11.3634,    253.3,2,     2.54,2,     8.16,2,     0.52,2,    2.955,3,    1.555,3, -999.000,9,-999.0000,9,  -999.00,9,   -999.0,9,   2104.3,2,-999.0000,-999.000,  -999.0,-999.000,  102803
      06MT30_3,  A01E,   538,  1,     20,   K097,2,19941212,1011, 53.1767, -23.5333, 3690,    151.3,  11.0910,  35.4765,2,  35.4810,2,   -999.0,1, 11.0722,    233.5,2,     4.48,2,    12.59,2,     0.77,2, -999.000,9, -999.000,9, -999.000,5,   1.7909,2,    -0.50,2,   -999.0,9,   2130.2,2,  0.0072,-999.000,  -999.0,   0.230,  102802
      06MT30_3,  A01E,   538,  1,     19,   U015,2,19941212,1011, 53.1767, -23.5333, 3690,    250.6,  10.2440,  35.3668,2,  35.3652,2,   -999.0,1, 10.2143,    238.1,2,     5.33,2,    13.54,2,     0.84,2,    2.805,3,    1.499,3,    1.784,2,   1.7532,2,     0.19,2,   -999.0,9,   2133.6,2,  0.0070,   0.030,  -999.0,   0.230,  102801
      06MT30_3,  A01E,   538,  1,     18,   B003,2,19941212,1011, 53.1767, -23.5333, 3690,    399.9,   8.9210,  35.2172,2,  35.2135,2,   -999.0,1,  8.8771,    219.4,2,     7.99,2,    16.78,2,     1.05,2, -999.000,9, -999.000,9, -999.000,9,-999.0000,9,  -999.00,9,   -999.0,9,   2149.4,2,-999.0000,-999.000,  -999.0,-999.000,  102800
      06MT30_3,  A01E,   538,  1,     17,   K124,2,19941212,1011, 53.1767, -23.5333, 3690,    599.7,   7.0560,  35.0810,2,  35.0785,2,   -999.0,1,  6.9979,    209.3,2,    10.59,2,    19.40,2,     1.28,2,    1.975,2,    0.978,2,    1.543,2,-999.0000,5,  -999.00,5,   -999.0,9,   2165.4,2,-999.0000,   0.023,  -999.0,-999.000,  102799
      06MT30_3,  A01E,   538,  1,     16,   K114,2,19941212,1011, 53.1767, -23.5333, 3690,    800.5,   5.9110,  35.0920,2,  35.0964,2,   -999.0,1,  5.8392,    225.4,2,    10.92,2,    19.28,2,     1.21,2,    1.860,2,    0.907,2, -999.000,9,-999.0000,9,  -999.00,9,   -999.0,9,   2167.7,2,-999.0000,-999.000,  -999.0,-999.000,  102798
      06MT30_3,  A01E,   538,  1,     15,   U010,2,19941212,1011, 53.1767, -23.5333, 3690,   1001.5,   4.5430,  34.9698,2,  34.9717,2,   -999.0,1,  4.4623,    250.4,2,    10.74,2,    18.97,2,     1.20,2, -999.000,9, -999.000,9,    1.394,2,   1.7933,2,     7.41,2,   -999.0,9,   2166.2,2,  0.0072,   0.027,  -999.0,   0.250,  102797
      06MT30_3,  A01E,   538,  1,     14,   U002,2,19941212,1011, 53.1767, -23.5333, 3690,   1201.9,   3.9490,  34.9185,2,  34.9194,2,   -999.0,1,  3.8559,    265.4,2,    10.47,2,    18.45,2,     1.15,2, -999.000,9, -999.000,9, -999.000,9,-999.0000,9,  -999.00,9,   -999.0,9,   -999.0,9,-999.0000,-999.000,  -999.0,-999.000,  102796
      06MT30_3,  A01E,   538,  1,     13,   B009,2,19941212,1011, 53.1767, -23.5333, 3690,   1401.6,   3.6580,  34.8987,2,  34.8994,2,   -999.0,1,  3.5505,    273.8,2,    10.37,2,    18.02,2,     1.13,2, -999.000,9, -999.000,9,    1.279,2,   1.7969,2,     7.09,2,   -999.0,9,   -999.0,9,  0.0072,   0.022,  -999.0,   0.170,  102795
      06MT30_3,  A01E,   538,  1,     12,   K117,2,19941212,1011, 53.1767, -23.5333, 3690,   1600.2,   3.4700,  34.8890,2,  34.8897,2,   -999.0,1,  3.3472,    278.6,2,    10.39,2,    17.82,2,     1.09,2,    2.205,2,    1.051,2, -999.000,9,-999.0000,9,  -999.00,9,   -999.0,9,   2150.6,2,-999.0000,-999.000,  -999.0,-999.000,  102794
      06MT30_3,  A01E,   538,  1,     11,   B008,2,19941212,1011, 53.1767, -23.5333, 3690,   1802.2,   3.3500,  34.8874,2,  34.8880,2,   -999.0,1,  3.2106,    281.3,2,    10.51,2,    17.64,2,     1.11,2, -999.000,9, -999.000,9,    1.265,2,   1.8006,2,     6.66,2,   -999.0,9,   -999.0,9,  0.0072,   0.020,  -999.0,   0.180,  102793
      06MT30_3,  A01E,   538,  1,     10,   K115,2,19941212,1011, 53.1767, -23.5333, 3690,   2002.0,   3.3340,  34.9014,2,  34.9016,2,   -999.0,1,  3.1764,    279.0,2,    11.01,2,    17.49,2,     1.12,2,    1.795,2,    0.861,2, -999.000,9,-999.0000,9,  -999.00,9,   -999.0,9,   -999.0,9,-999.0000,-999.000,  -999.0,-999.000,  102792
      06MT30_3,  A01E,   538,  1,      9,   K036,2,19941212,1011, 53.1767, -23.5333, 3690,   2203.0,   3.3250,  34.9213,2,  34.9240,3,   -999.0,1,  3.1484,    275.1,2,    11.77,2,    17.49,2,     1.12,2,    1.477,2,    0.723,2,    1.163,2,-999.0000,5,  -999.00,5,   -999.0,9,   -999.0,9,-999.0000,   0.019,  -999.0,-999.000,  102791
      06MT30_3,  A01E,   538,  1,      8,   B026,2,19941212,1011, 53.1767, -23.5333, 3690,   2400.6,   3.2640,  34.9374,2,  34.9386,2,   -999.0,1,  3.0691,    271.5,2,    12.99,2,    17.47,2,     1.12,2,    1.213,2,    0.562,2, -999.000,9,-999.0000,9,  -999.00,9,   -999.0,9,   -999.0,9,-999.0000,-999.000,  -999.0,-999.000,  102790
      06MT30_3,  A01E,   538,  1,      7,   B004,2,19941212,1011, 53.1767, -23.5333, 3690,   2601.7,   3.1390,  34.9472,2,  34.9483,2,   -999.0,1,  2.9263,    268.2,2,    15.66,2,    17.78,2,     1.13,2,    0.970,2,    0.470,2,    0.826,2,   1.8047,2,     7.08,2,   -999.0,9,   -999.0,9,  0.0072,   0.012,  -999.0,   0.180,  102789
      06MT30_3,  A01E,   538,  1,      6,   U006,2,19941212,1011, 53.1767, -23.5333, 3690,   2802.4,   2.9830,  34.9496,2,  34.9503,2,   -999.0,1,  2.7530,    263.5,2,    19.77,2,    18.36,2,     1.19,2, -999.000,9, -999.000,9,    0.725,2,   1.8045,2,     6.28,2,   -999.0,9,   -999.0,9,  0.0072,   0.013,  -999.0,   0.180,  102788
      06MT30_3,  A01E,   538,  1,      5,   U023,2,19941212,1011, 53.1767, -23.5333, 3690,   3051.9,   2.8290,  34.9496,2,  34.9486,2,   -999.0,1,  2.5765,    261.2,2,    22.43,2,    18.69,2,     1.20,2,    0.822,2,    0.400,2,    0.572,2,   1.8090,2,     5.93,2,   -999.0,9,   -999.0,9,  0.0072,   0.014,  -999.0,   0.190,  102787
      06MT30_3,  A01E,   538,  1,      4,   K056,2,19941212,1011, 53.1767, -23.5333, 3690,   3292.5,   2.6930,  34.9356,2,  34.9346,2,   -999.0,1,  2.4182,    251.6,2,    31.11,2,    20.42,2,     1.33,2,    0.432,2,    0.220,2, -999.000,9,-999.0000,9,  -999.00,9,   -999.0,9,   -999.0,9,-999.0000,-999.000,  -999.0,-999.000,  102786
      06MT30_3,  A01E,   538,  1,      3,   U018,2,19941212,1011, 53.1767, -23.5333, 3690,   3501.5,   2.5660,  34.9208,2,  34.9182,2,   -999.0,1,  2.2717,    244.7,2,    38.40,2,    21.85,2,     1.45,2,    0.173,3,    0.098,3,    0.120,2,   1.8208,2,     3.45,2,   -999.0,9,   -999.0,9,  0.0073,   0.004,  -999.0,   0.180,  102785
      06MT30_3,  A01E,   538,  1,      2,   U022,2,19941212,1011, 53.1767, -23.5333, 3690,   3603.2,   2.5300,  34.9161,2,  34.9157,2,   -999.0,1,  2.2255,    241.7,2,    40.40,2,    22.20,2,     1.45,2,    0.106,2, -999.000,9, -999.000,9,-999.0000,9,  -999.00,9,   -999.0,9,   2194.9,2,-999.0000,-999.000,  -999.0,-999.000,  102784
      06MT30_3,  A01E,   538,  1,      1,   B025,2,19941212,1011, 53.1767, -23.5333, 3690,   3691.2,   2.4980,  34.9121,2,  34.9113,2,   -999.0,1,  2.1846,    240.1,2,    42.28,2,    22.43,2,     1.49,2,    0.072,2, -999.000,9,    0.040,2,   1.8224,2,     2.85,2,   -999.0,9,   -999.0,9,  0.0073,   0.002,  -999.0,   0.170,  102783
      06MT30_3,  A01E,   539,  1,      0,   -999,2,19941212,1707, 52.8700, -22.3900, 4020,      5.0,  11.0000,-999.0000,9,  35.2320,2,   -999.0,9,-999.0000,   -999.0,9,  -999.00,9,  -999.00,9,  -999.00,9, -999.000,9, -999.000,9, -999.000,9,-999.0000,9,  -999.00,9,   -999.0,9,   2110.6,2,-999.0000,-999.000,  -999.0,-999.000,    -999
      06MT30_3,  A01E,   539,  1,     24,   K012,2,19941212,1707, 52.8700, -22.3900, 4020,     24.8,  11.1480,  35.4448,2,  35.4335,2,   -999.0,1, 11.1449,    256.7,2,     2.84,2,     8.94,2,     0.56,2,    3.146,3,    1.718,3, -999.000,9,-999.0000,9,  -999.00,9,   -999.0,9,   2109.4,2,-999.0000,-999.000,  -999.0,-999.000,  102830
      06MT30_3,  A01E,   539,  1,     23,   K125,2,19941212,1707, 52.8700, -22.3900, 4020,     52.1,  11.1550,  35.4446,2,  35.4436,2,   -999.0,1, 11.1485,    256.9,2,     2.87,2,     9.00,2,     0.58,2, -999.000,9, -999.000,9,    1.685,2,   1.7321,2,    -1.43,2,   -999.0,9,   -999.0,9,  0.0069,   0.031,  -999.0,   0.150,  102829
      06MT30_3,  A01E,   539,  1,     22,   B027,2,19941212,1707, 52.8700, -22.3900, 4020,     99.5,  11.1400,  35.4438,2,  35.4427,2,   -999.0,1, 11.1276,    256.3,2,     2.90,2,     9.06,2,     0.58,2,    3.134,3,    1.687,3, -999.000,9,-999.0000,9,  -999.00,9,   -999.0,9,   2108.6,2,-999.0000,-999.000,  -999.0,-999.000,  102828
      06MT30_3,  A01E,   539,  1,     21,   K040,2,19941212,1707, 52.8700, -22.3900, 4020,    151.2,  11.0530,  35.4457,2,  35.4417,2,   -999.0,1, 11.0342,    254.1,2,     2.98,2,     9.40,2,     0.64,2, -999.000,9, -999.000,9,    1.753,2,   1.7350,2,    -1.11,2,   -999.0,9,   2110.1,2,  0.0069,   0.027,  -999.0,   0.140,  102827
      06MT30_3,  A01E,   539,  1,     20,   K097,2,19941212,1707, 52.8700, -22.3900, 4020,    244.4,  10.3390,  35.3974,2,  35.3959,2,   -999.0,1, 10.3098,    244.8,2,     4.86,2,    12.91,2,     0.77,2,    3.154,3,    1.682,3, -999.000,9,-999.0000,9,  -999.00,9,   -999.0,9,   -999.0,9,-999.0000,-999.000,  -999.0,-999.000,  102826
      06MT30_3,  A01E,   539,  1,     19,   U015,2,19941212,1707, 52.8700, -22.3900, 4020,    400.7,   9.7310,  35.3279,2,  35.3270,2,   -999.0,1,  9.6846,    246.1,2,     5.61,2,    13.69,2,     0.85,2, -999.000,9, -999.000,9, -999.000,9,-999.0000,9,  -999.00,9,   -999.0,9,   2132.7,2,-999.0000,-999.000,  -999.0,-999.000,  102825
      06MT30_3,  A01E,   539,  1,     18,   B003,2,19941212,1707, 52.8700, -22.3900, 4020,    600.1,   8.9620,  35.2386,2,  35.2385,2,   -999.0,1,  8.8952,    245.4,2,     6.69,2,    14.99,2,     0.93,2,    3.014,3,    1.599,3,    1.653,2,   1.7486,2,     1.21,2,   -999.0,9,   -999.0,9,  0.0070,   0.035,  -999.0,   0.150,  102824
      06MT30_3,  A01E,   539,  1,     17,   K124,2,19941212,1707, 52.8700, -22.3900, 4020,    799.4,   7.0470,  35.0723,2,  35.0717,2,   -999.0,1,  6.9685,    214.1,2,    10.40,2,    19.36,2,     1.19,2, -999.000,9, -999.000,9,    1.363,2,   1.7679,2,     5.68,2,   -999.0,9,   2163.9,2,  0.0071,   0.030,  -999.0,   0.150,  102823
      06MT30_3,  A01E,   539,  1,     16,   K114,2,19941212,1707, 52.8700, -22.3900, 4020,   1000.2,   5.9940,  35.1006,2,  35.1007,2,   -999.0,1,  5.9022,    224.1,2,    10.99,2,    19.56,2,     1.21,2,    1.820,2,    0.921,2,    1.269,2,   1.7819,2,     7.37,2,   -999.0,9,   2167.8,2,  0.0071,   0.030,  -999.0,   0.150,  102822
      06MT30_3,  A01E,   539,  1,     15,   U010,2,19941212,1707, 52.8700, -22.3900, 4020,   1199.5,   4.4770,  34.9561,2,  34.9565,2,   -999.0,1,  4.3792,    252.4,2,    10.72,2,    19.07,2,     1.19,2, -999.000,9, -999.000,9, -999.000,9,-999.0000,9,  -999.00,9,   -999.0,9,   2161.8,2,-999.0000,-999.000,  -999.0,-999.000,  102821
      06MT30_3,  A01E,   539,  1,     14,   U002,2,19941212,1707, 52.8700, -22.3900, 4020,   1399.0,   3.9270,  34.9170,2,  34.9174,2,   -999.0,1,  3.8168,    266.4,2,    10.48,2,    18.51,2,     1.18,2,    2.171,2,    1.071,2,    1.311,2,   1.7855,2,     7.13,2,   -999.0,9,   -999.0,9,  0.0071,   0.024,  -999.0,   0.160,  102820
      06MT30_3,  A01E,   539,  1,     13,   B009,2,19941212,1707, 52.8700, -22.3900, 4020,   1598.7,   3.6500,  34.8967,2,  34.8969,2,   -999.0,1,  3.5251,    274.3,2,    10.43,2,    18.13,2,     1.13,2,    2.254,2,    1.120,2, -999.000,9,-999.0000,9,  -999.00,9,   -999.0,9,   -999.0,9,-999.0000,-999.000,  -999.0,-999.000,  102819
      06MT30_3,  A01E,   539,  1,     12,   K117,2,19941212,1707, 52.8700, -22.3900, 4020,   1800.9,   3.4790,  34.8851,2,  34.8860,2,   -999.0,1,  3.3380,    279.6,2,    10.32,2,    17.91,2,     1.11,2,    2.400,2,    1.191,2,    1.393,2,   1.7899,2,     6.85,2,   -999.0,9,   -999.0,9,  0.0072,   0.027,  -999.0,   0.140,  102818
      06MT30_3,  A01E,   539,  1,     11,   B008,2,19941212,1707, 52.8700, -22.3900, 4020,   2098.9,   3.4320,  34.9008,2,  34.9011,2,   -999.0,1,  3.2637,    277.8,2,    11.03,2,    17.80,2,     1.11,2,    1.767,2,    0.870,2,    1.329,2,   1.7920,2,     7.88,2,   -999.0,9,   -999.0,9,  0.0072,   0.028,  -999.0,   0.150,  102817
      06MT30_3,  A01E,   539,  1,     10,   K115,2,19941212,1707, 52.8700, -22.3900, 4020,   2400.9,   3.3670,  34.9248,2,  34.9242,2,   -999.0,1,  3.1703,    273.3,2,    12.50,2,    17.77,2,     1.13,2,    1.308,2,    0.632,2, -999.000,9,-999.0000,9,  -999.00,9,   -999.0,9,   -999.0,9,-999.0000,-999.000,  -999.0,-999.000,  102816
      06MT30_3,  A01E,   539,  1,      9,   K036,2,19941212,1707, 52.8700, -22.3900, 4020,   2702.1,   3.2230,  34.9446,2,  34.9443,2,   -999.0,1,  2.9985,    268.4,2,    15.37,2,    18.03,2,     1.15,2,    0.913,2,    0.445,2,    0.800,2,   1.7920,2,     7.01,2,   -999.0,9,   -999.0,9,  0.0072,   0.015,  -999.0,   0.160,  102815
      06MT30_3,  A01E,   539,  1,      8,   B026,2,19941212,1707, 52.8700, -22.3900, 4020,   3002.8,   3.0400,  34.9517,2,  34.9517,2,   -999.0,1,  2.7880,    267.0,2,    17.25,2,    18.03,2,     1.15,2,    1.011,2,    0.475,2, -999.000,9,-999.0000,9,  -999.00,9,   -999.0,9,   -999.0,9,-999.0000,-999.000,  -999.0,-999.000,  102814
      06MT30_3,  A01E,   539,  1,      7,   B004,2,19941212,1707, 52.8700, -22.3900, 4020,   3203.0,   2.8910,  34.9482,2,  34.9468,2,   -999.0,1,  2.6211,    260.4,2,    22.78,2,    19.02,2,     1.21,2,    0.760,2,    0.373,2,    0.506,2,   1.7986,2,     6.00,2,   -999.0,9,   2168.6,2,  0.0072,   0.016,  -999.0,   0.160,  102813
      06MT30_3,  A01E,   539,  1,      6,   U006,2,19941212,1707, 52.8700, -22.3900, 4020,   3403.1,   2.7650,  34.9401,2,  34.9399,2,   -999.0,1,  2.4765,    254.6,2,    28.29,2,    20.09,2,     1.30,2,    0.553,2,    0.283,2, -999.000,9,-999.0000,9,  -999.00,9,   -999.0,9,   -999.0,9,-999.0000,-999.000,  -999.0,-999.000,  102812
      06MT30_3,  A01E,   539,  1,      5,   U023,2,19941212,1707, 52.8700, -22.3900, 4020,   3603.7,   2.6560,  34.9274,2,  34.9272,2,   -999.0,1,  2.3482,    247.7,2,    34.95,2,    21.34,2,     1.38,2,    0.292,3,    0.150,3,    0.174,2,   1.8066,2,     3.86,2,   -999.0,9,   -999.0,9,  0.0072,   0.008,  -999.0,   0.160,  102811
      06MT30_3,  A01E,   539,  1,      4,   K056,2,19941212,1707, 52.8700, -22.3900, 4020,   3802.0,   2.5800,  34.9175,2,  34.9177,2,   -999.0,1,  2.2520,    243.1,2,    39.53,2,    22.15,2,     1.45,2,    0.150,2,    0.073,2, -999.000,9,-999.0000,9,  -999.00,9,   -999.0,9,   -999.0,9,-999.0000,-999.000,  -999.0,-999.000,  102810
      06MT30_3,  A01E,   539,  1,      3,   U018,2,19941212,1707, 52.8700, -22.3900, 4020,   3903.8,   2.5540,  34.9138,2,  34.9133,2,   -999.0,1,  2.2152,    241.4,2,    41.32,2,    22.49,2,     1.48,2, -999.000,9, -999.000,9,    0.067,2,   1.8132,2,     2.79,2,   -999.0,9,   -999.0,9,  0.0073,   0.006,  -999.0,   0.140,  102809
      06MT30_3,  A01E,   539,  1,      2,   U022,2,19941212,1707, 52.8700, -22.3900, 4020,   4041.6,   2.5250,  34.9091,2,  34.9083,2,   -999.0,1,  2.1712,    239.8,2,    43.01,2,    22.63,2,     1.50,2,    0.067,2,    0.032,2, -999.000,9,-999.0000,9,  -999.00,9,   -999.0,9,   -999.0,9,-999.0000,-999.000,  -999.0,-999.000,  102808
      06MT30_3,  A01E,   539,  1,      1,   B025,2,19941212,1707, 52.8700, -22.3900, 4020,   4075.8,   2.5260,  34.9088,2,  34.9094,2,   -999.0,1,  2.1682,    239.4,2,    43.40,2,    22.63,2,     1.50,2,    0.063,2,    0.031,2,    0.023,2,   1.8111,2,     2.35,2,   -999.0,9,   2199.4,2,  0.0072,   0.002,  -999.0,   0.150,  102807