BOTTLE,20060322WHPSIOSA
EXPOCODE,SECT_ID,STNNBR,CASTNO,SAMPNO,BTLNBR,BTLNBR_FLAG_W,DATE,TIME,LATITUDE,LONGITUDE,DEPTH,CTDPRS,CTDTMP,CTDSAL,CTDSAL_FLAG_W,SALNTY,SALNTY_FLAG_W,CTDOXY,CTDOXY_FLAG_W,THETA,OXYGEN,OXYGEN_FLAG_W,SILCAT,SILCAT_FLAG_W,NO2+NO3,NO2+NO3_FLAG_W,PHSPHT,PHSPHT_FLAG_W,CFC-11,CFC-11_FLAG_W,CFC-12,CFC-12_FLAG_W,TRITUM,TRITUM_FLAG_W,HELIUM,HELIUM_FLAG_W,DELHE3,DELHE3_FLAG_W,DELC14,DELC14_FLAG_W,TCARBN,TCARBN_FLAG_W,HELIER,TRITER,C14ERR,DELHER,BEDFORT
,,,,,,,,,,,,DBAR,ITS-90,PSS-78,,PSS-78,,UMOL/KG,,ITS-90,UMOL/KG,,UMOL/KG,,UMOL/KG,,UMOL/KG,,PMOL/KG,,PMOL/KG,,TU,,NMOL/KG,,PERCNT,,/MILLE,,UMOL/KG,,NMOL/KG,TU,/MILLE,PERCNT,NUM
      06MT30_3,  A01W,   500,  1,     23,   K125,2,19941123,0248, 59.9917, -48.8967, 3013,     21.0,   5.1260,  34.7763,2,  34.7759,2,   -999.0,1,  5.1244,    298.5,2,     5.03,2,    12.44,2,     0.83,2,    4.899,2,    2.337,2,    1.718,2,-999.0000,5,  -999.00,5,     -0.4,4,   -999.0,9,-999.0000,   0.040,     6.0,-999.000,  101965
      06MT30_3,  A01W,   500,  1,     22,   B023,2,19941123,0248, 59.9917, -48.8967, 3013,     51.3,   5.1280,  34.7749,2,  34.7746,2,   -999.0,1,  5.1240,    299.0,2,     5.05,2,    12.50,2,     0.83,2,    4.811,2,    2.299,2, -999.000,9,-999.0000,9,  -999.00,9,   -999.0,9,   -999.0,9,-999.0000,-999.000,  -999.0,-999.000,  101964
      06MT30_3,  A01W,   500,  1,     21,   K040,2,19941123,0248, 59.9917, -48.8967, 3013,    101.1,   5.1470,  34.7799,2,  34.7767,2,   -999.0,1,  5.1391,    298.0,2,     5.07,2,    12.64,2,     0.82,2, -999.000,9, -999.000,9,    1.735,2,-999.0000,5,  -999.00,5,      4.0,4,   -999.0,9,-999.0000,   0.031,     5.0,-999.000,  101963
      06MT30_3,  A01W,   500,  1,     20,   K097,2,19941123,0248, 59.9917, -48.8967, 3013,    400.0,   3.7210,  34.8921,2,  34.8912,2,   -999.0,1,  3.6932,    288.0,2,     9.31,2,    17.12,2,     1.08,2,    4.097,2,    1.817,2,    1.611,2,   1.7832,2,     1.86,2,     -6.2,4,   -999.0,9,  0.0071,   0.023,     5.1,   0.120,  101962
      06MT30_3,  A01W,   500,  1,     19,   K126,2,19941123,0248, 59.9917, -48.8967, 3013,    602.0,   3.3260,  34.8733,2,  34.8741,2,   -999.0,1,  3.2851,    292.4,2,     9.43,2,    17.16,2,     1.07,2,    4.112,2,    1.894,2,    1.656,2,   1.8011,2,     1.77,2,     16.1,3,   -999.0,9,  0.0072,   0.018,     5.5,   0.120,  101961
      06MT30_3,  A01W,   500,  1,     18,   B003,2,19941123,0248, 59.9917, -48.8967, 3013,    799.1,   3.1130,  34.8619,2,  34.8622,2,   -999.0,1,  3.0588,    296.4,2,     9.51,2,    17.19,2,     1.09,2, -999.000,9, -999.000,9,    1.737,3,   1.7894,2,     1.59,2,     -7.2,4,   -999.0,9,  0.0072,   0.034,     4.9,   0.150,  101960
      06MT30_3,  A01W,   500,  1,     17,   K124,2,19941123,0248, 59.9917, -48.8967, 3013,    999.3,   2.9830,  34.8504,2,  34.8505,2,   -999.0,1,  2.9147,    298.4,2,     9.42,2,    17.10,2,     1.09,2,    4.143,2,    1.930,2,    1.637,2,   1.7793,2,     1.71,2,      5.1,2,   -999.0,9,  0.0071,   0.037,     5.4,   0.120,  101959
      06MT30_3,  A01W,   500,  1,     16,   K114,2,19941123,0248, 59.9917, -48.8967, 3013,   1199.4,   2.9330,  34.8464,2,  34.8470,2,   -999.0,1,  2.8496,    299.6,2,     9.41,2,    17.05,2,     1.09,2, -999.000,9, -999.000,9, -999.000,9,-999.0000,9,  -999.00,9,   -999.0,9,   -999.0,9,-999.0000,-999.000,  -999.0,-999.000,  101958
      06MT30_3,  A01W,   500,  1,     15,   U010,2,19941123,0248, 59.9917, -48.8967, 3013,   1401.6,   2.8770,  34.8400,2,  34.8410,2,   -999.0,1,  2.7780,    299.0,2,     9.39,2,    16.93,2,     1.07,2,    4.102,2,    1.900,2,    1.662,2,   1.8417,2,     2.08,2,   -999.0,9,   -999.0,9,  0.0074,   0.031,  -999.0,   0.120,  101957
      06MT30_3,  A01W,   500,  1,     14,   U002,2,19941123,0248, 59.9917, -48.8967, 3013,   1600.0,   2.8570,  34.8385,2,  34.8395,2,   -999.0,1,  2.7418,    298.6,2,     9.37,2,    16.95,2,     1.08,2,    4.110,2,    1.822,2,    1.526,3,   1.7951,2,     2.18,2,   -999.0,9,   -999.0,9,  0.0072,   0.030,  -999.0,   0.120,  101956
      06MT30_3,  A01W,   500,  1,     13,   K090,3,19941123,0248, 59.9917, -48.8967, 3013,   1800.7,   2.8660,  34.8415,2,  34.8424,2,   -999.0,1,  2.7335,    298.0,2,     9.39,2,    16.80,2,     1.07,2, -999.000,9, -999.000,9, -999.000,9,-999.0000,9,  -999.00,9,   -999.0,9,   -999.0,9,-999.0000,-999.000,  -999.0,-999.000,  101955
      06MT30_3,  A01W,   500,  1,     12,   K117,2,19941123,0248, 59.9917, -48.8967, 3013,   2001.0,   3.0320,  34.8821,2,  34.8826,2,   -999.0,1,  2.8791,    287.0,2,    10.27,2,    16.79,2,     1.06,2,    3.010,2,    1.340,2, -999.000,9,-999.0000,9,  -999.00,9,   -999.0,9,   -999.0,9,-999.0000,-999.000,  -999.0,-999.000,  101954
      06MT30_3,  A01W,   500,  1,     11,   B008,2,19941123,0248, 59.9917, -48.8967, 3013,   2098.6,   3.0330,  34.8937,2,  34.8940,2,   -999.0,1,  2.8710,    283.6,2,    10.56,2,    16.74,2,     1.07,2, -999.000,9, -999.000,9, -999.000,9,-999.0000,9,  -999.00,9,   -999.0,9,   -999.0,9,-999.0000,-999.000,  -999.0,-999.000,  101953
      06MT30_3,  A01W,   500,  1,     10,   K115,2,19941123,0248, 59.9917, -48.8967, 3013,   2199.2,   3.0170,  34.9031,2,  34.9036,2,   -999.0,1,  2.8458,    281.4,2,    10.93,2,    16.59,2,     1.07,2,    2.427,2,    1.049,2,    1.362,2,   1.8345,3,     6.51,3,   -999.0,9,   -999.0,9,  0.0073,   0.033,  -999.0,   0.120,  101952
      06MT30_3,  A01W,   500,  1,      9,   K036,2,19941123,0248, 59.9917, -48.8967, 3013,   2300.5,   2.9360,  34.9054,2,  34.9060,2,   -999.0,1,  2.7566,    282.0,2,    11.18,2,    16.39,2,     1.06,2,    2.009,3,    1.041,3, -999.000,9,-999.0000,9,  -999.00,9,   -999.0,9,   -999.0,9,-999.0000,-999.000,  -999.0,-999.000,  101951
      06MT30_3,  A01W,   500,  1,      8,   U017,2,19941123,0248, 59.9917, -48.8967, 3013,   2401.9,   2.8560,  34.9121,2,  34.9102,2,   -999.0,1,  2.6683,    279.8,2,    11.71,2,    16.36,2,     1.06,2, -999.000,9, -999.000,9, -999.000,9,-999.0000,9,  -999.00,9,   -999.0,9,   -999.0,9,-999.0000,-999.000,  -999.0,-999.000,  101950
      06MT30_3,  A01W,   500,  1,      7,   B004,2,19941123,0248, 59.9917, -48.8967, 3013,   2502.1,   2.7740,  34.9130,2,  34.9119,2,   -999.0,1,  2.5781,    280.3,2,    11.94,2,    16.32,2,     1.05,2,    2.123,2, -999.000,9,    1.287,2,   1.7994,2,     6.44,2,   -999.0,9,   -999.0,9,  0.0072,   0.026,  -999.0,   0.120,  101949
      06MT30_3,  A01W,   500,  1,      6,   K017,2,19941123,0248, 59.9917, -48.8967, 3013,   2603.6,   2.6140,  34.9083,2,  34.9080,2,   -999.0,1,  2.4113,    281.7,2,    12.08,2,    16.19,2,     1.06,2, -999.000,9, -999.000,9,    1.330,3,   1.7998,2,     6.51,2,   -999.0,9,   -999.0,9,  0.0072,   0.029,  -999.0,   0.120,  101948
      06MT30_3,  A01W,   500,  1,      5,   U023,2,19941123,0248, 59.9917, -48.8967, 3013,   2701.7,   2.4380,  34.9013,2,  34.9023,2,   -999.0,1,  2.2292,    283.5,2,    12.12,2,    16.02,2,     1.04,2,    2.424,2, -999.000,9,    1.203,2,   1.7971,2,     6.26,2,   -999.0,9,   -999.0,9,  0.0072,   0.031,  -999.0,   0.120,  101947
      06MT30_3,  A01W,   500,  1,      4,   K056,2,19941123,0248, 59.9917, -48.8967, 3013,   2802.7,   2.0950,  34.8883,2,  34.8882,2,   -999.0,1,  1.8834,    288.1,2,    11.68,2,    15.59,2,     1.02,2,    2.683,2,    1.172,2,    1.198,3,-999.0000,5,  -999.00,5,   -999.0,9,   -999.0,9,-999.0000,   0.025,  -999.0,-999.000,  101946
      06MT30_3,  A01W,   500,  1,      3,   U018,2,19941123,0248, 59.9917, -48.8967, 3013,   2891.3,   1.9200,  34.8832,2,  34.8831,2,   -999.0,1,  1.7035,    290.8,2,    11.31,2,    15.30,2,     1.01,2,    2.863,2,    1.254,2,    1.329,3,-999.0000,5,  -999.00,5,   -999.0,9,   -999.0,9,-999.0000,   0.032,  -999.0,-999.000,  101945
      06MT30_3,  A01W,   500,  1,      2,   K052,2,19941123,0248, 59.9917, -48.8967, 3013,   2922.7,   1.9060,  34.8822,2,  34.8827,2,   -999.0,1,  1.6868,    291.4,2,    11.17,2,    15.28,2,     1.00,2,    3.083,2, -999.000,9,    1.330,3,-999.0000,5,  -999.00,5,   -999.0,9,   -999.0,9,-999.0000,   0.100,  -999.0,-999.000,  101944
      06MT30_3,  A01W,   500,  1,      1,   K038,2,19941123,0248, 59.9917, -48.8967, 3013,   3033.1,   1.6530,  34.8672,2,  34.8680,2,   -999.0,1,  1.4287,    299.0,2,     9.51,2,    14.82,2,     0.97,2,    3.428,2,    1.556,2,    1.579,2,   2.2390,2,     4.46,4,   -999.0,9,   -999.0,9,  0.0090,   0.032,  -999.0,   0.120,  101943
      06MT30_3,  A01W,   501,  1,     24,   K012,2,19941123,1023, 60.1833, -48.6883, 2863,     21.4,   2.4380,  33.7599,2,  33.7541,2,   -999.0,1,  2.4368,    322.3,2,     4.77,2,     9.82,2,     0.75,2,    5.544,2,    2.809,2, -999.000,9,-999.0000,9,  -999.00,9,   -999.0,9,   -999.0,9,-999.0000,-999.000,  -999.0,-999.000,  101990
      06MT30_3,  A01W,   501,  1,     23,   K125,2,19941123,1023, 60.1833, -48.6883, 2863,     50.8,   2.6880,  33.8713,2,  33.8480,2,   -999.0,1,  2.6851,    320.5,2,     4.93,2,    10.40,2,     0.77,2, -999.000,9, -999.000,9, -999.000,9,-999.0000,9,  -999.00,9,   -999.0,9,   -999.0,9,-999.0000,-999.000,  -999.0,-999.000,  101989
      06MT30_3,  A01W,   501,  1,     22,   B023,2,19941123,1023, 60.1833, -48.6883, 2863,    100.4,   5.2620,  34.8912,2,  34.8817,2,   -999.0,1,  5.2540,    298.6,2,     6.96,2,    15.00,2,     0.97,2, -999.000,9, -999.000,9, -999.000,9,-999.0000,9,  -999.00,9,   -999.0,9,   -999.0,9,-999.0000,-999.000,  -999.0,-999.000,  101988
      06MT30_3,  A01W,   501,  1,     21,   K040,2,19941123,1023, 60.1833, -48.6883, 2863,    198.3,   5.3180,  34.9179,2,  34.9178,2,   -999.0,1,  5.3020,    298.0,2,     7.07,2,    15.17,2,     0.98,2,    4.474,3,    2.330,3, -999.000,9,-999.0000,9,  -999.00,9,   -999.0,9,   -999.0,9,-999.0000,-999.000,  -999.0,-999.000,  101987
      06MT30_3,  A01W,   501,  1,     20,   K097,2,19941123,1023, 60.1833, -48.6883, 2863,    301.4,   5.1580,  34.9232,2,  34.9244,2,   -999.0,1,  5.1338,    292.1,2,     7.67,2,    15.83,2,     1.01,2, -999.000,9, -999.000,9, -999.000,9,-999.0000,9,  -999.00,9,   -999.0,9,   -999.0,9,-999.0000,-999.000,  -999.0,-999.000,  101986
      06MT30_3,  A01W,   501,  1,     19,   K126,2,19941123,1023, 60.1833, -48.6883, 2863,    449.4,   4.2650,  34.9154,2,  34.9160,2,   -999.0,1,  4.2316,    283.6,2,     9.14,2,    17.27,2,     1.11,2,    3.995,2,    1.985,2,    1.599,2,-999.0000,5,  -999.00,5,   -999.0,9,   -999.0,9,-999.0000,   0.031,  -999.0,-999.000,  101985
      06MT30_3,  A01W,   501,  1,     18,   B003,2,19941123,1023, 60.1833, -48.6883, 2863,    601.1,   3.9000,  34.9030,2,  34.9020,2,   -999.0,1,  3.8564,    285.2,2,     9.37,2,    17.30,2,     1.09,2, -999.000,9, -999.000,9, -999.000,9,-999.0000,9,  -999.00,9,   -999.0,9,   -999.0,9,-999.0000,-999.000,  -999.0,-999.000,  101984
      06MT30_3,  A01W,   501,  1,     17,   K124,2,19941123,1023, 60.1833, -48.6883, 2863,    750.6,   3.6270,  34.8933,2,  34.8931,2,   -999.0,1,  3.5733,    287.5,2,     9.47,2,    17.25,2,     1.08,2, -999.000,9, -999.000,9, -999.000,5,   1.7883,2,     2.39,2,   -999.0,9,   -999.0,9,  0.0072,-999.000,  -999.0,   0.150,  101983
      06MT30_3,  A01W,   501,  1,     16,   K114,2,19941123,1023, 60.1833, -48.6883, 2863,    902.7,   3.3910,  34.8877,2,  34.8880,2,   -999.0,1,  3.3270,    289.0,2,     9.60,2,    17.17,2,     1.09,2,    3.572,2,    1.771,2, -999.000,9,-999.0000,9,  -999.00,9,   -999.0,9,   -999.0,9,-999.0000,-999.000,  -999.0,-999.000,  101982
      06MT30_3,  A01W,   501,  1,     15,   U010,2,19941123,1023, 60.1833, -48.6883, 2863,   1049.2,   3.2700,  34.8828,2,  34.8830,2,   -999.0,1,  3.1955,    290.4,2,     9.60,2,    17.06,2,     1.08,2, -999.000,9, -999.000,9, -999.000,9,-999.0000,9,  -999.00,9,   -999.0,9,   -999.0,9,-999.0000,-999.000,  -999.0,-999.000,  101981
      06MT30_3,  A01W,   501,  1,     14,   U002,2,19941123,1023, 60.1833, -48.6883, 2863,   1199.5,   3.0050,  34.8550,2,  34.8546,2,   -999.0,1,  2.9209,    298.8,2,     9.43,2,    17.15,2,     1.08,2,    3.984,2,    1.953,2,    1.630,2,   1.7940,2,     1.70,2,   -999.0,9,   -999.0,9,  0.0072,   0.037,  -999.0,   0.150,  101980
      06MT30_3,  A01W,   501,  1,     13,   B013,2,19941123,1023, 60.1833, -48.6883, 2863,   1350.4,   2.9390,  34.8470,2,  34.8470,2,   -999.0,1,  2.8435,    300.3,2,     9.40,2,    17.14,2,     1.08,2, -999.000,9, -999.000,9, -999.000,9,-999.0000,9,  -999.00,9,   -999.0,9,   -999.0,9,-999.0000,-999.000,  -999.0,-999.000,  101979
      06MT30_3,  A01W,   501,  1,     12,   K117,2,19941123,1023, 60.1833, -48.6883, 2863,   1452.0,   2.9080,  34.8438,2,  34.8445,2,   -999.0,1,  2.8045,    300.2,2,     9.44,2,    17.09,2,     1.08,2,    3.989,2,    1.937,2, -999.000,9,-999.0000,9,  -999.00,9,   -999.0,9,   -999.0,9,-999.0000,-999.000,  -999.0,-999.000,  101978
      06MT30_3,  A01W,   501,  1,     11,   B008,2,19941123,1023, 60.1833, -48.6883, 2863,   1600.3,   2.8760,  34.8414,2,  34.8424,2,   -999.0,1,  2.7605,    299.0,2,     9.45,2,    16.86,2,     1.08,2,    3.882,2,    1.904,2, -999.000,9,-999.0000,9,  -999.00,9,   -999.0,9,   -999.0,9,-999.0000,-999.000,  -999.0,-999.000,  101977
      06MT30_3,  A01W,   501,  1,     10,   K115,2,19941123,1023, 60.1833, -48.6883, 2863,   1750.4,   2.9400,  34.8572,2,  34.8585,2,   -999.0,1,  2.8108,    294.3,2,     9.70,2,    16.84,2,     1.08,2,    3.451,2,    1.658,2,    1.594,2,   1.7962,2,     3.21,2,   -999.0,9,   -999.0,9,  0.0072,   0.024,  -999.0,   0.150,  101976
      06MT30_3,  A01W,   501,  1,      9,   K036,2,19941123,1023, 60.1833, -48.6883, 2863,   1900.7,   3.0250,  34.8831,2,  34.8833,2,   -999.0,1,  2.8813,    286.8,2,    10.24,2,    16.76,2,     1.07,2,    2.813,2,    1.355,2, -999.000,9,-999.0000,9,  -999.00,9,   -999.0,9,   -999.0,9,-999.0000,-999.000,  -999.0,-999.000,  101975
      06MT30_3,  A01W,   501,  1,      8,   U017,2,19941123,1023, 60.1833, -48.6883, 2863,   2051.9,   3.0160,  34.9003,2,  34.9002,2,   -999.0,1,  2.8586,    283.0,2,    10.79,2,    16.65,2,     1.07,2,    2.453,2,    1.156,2,    1.215,2,   1.8054,2,     6.25,2,   -999.0,9,   -999.0,9,  0.0072,   0.033,  -999.0,   0.160,  101974
      06MT30_3,  A01W,   501,  1,      7,   B004,2,19941123,1023, 60.1833, -48.6883, 2863,   2195.6,   2.9050,  34.8878,2,  34.8874,2,   -999.0,1,  2.7361,    287.2,2,    10.25,2,    16.46,2,     1.05,2,    2.918,2,    1.418,2, -999.000,9,-999.0000,9,  -999.00,9,   -999.0,9,   -999.0,9,-999.0000,-999.000,  -999.0,-999.000,  101973
      06MT30_3,  A01W,   501,  1,      6,   K017,2,19941123,1023, 60.1833, -48.6883, 2863,   2350.3,   2.8600,  34.9000,2,  34.8993,2,   -999.0,1,  2.6772,    284.0,2,    10.83,2,    16.43,2,     1.05,2,    2.563,2,    1.220,2, -999.000,5,   1.8013,2,     5.56,2,   -999.0,9,   -999.0,9,  0.0072,-999.000,  -999.0,   0.150,  101972
      06MT30_3,  A01W,   501,  1,      5,   U023,2,19941123,1023, 60.1833, -48.6883, 2863,   2500.8,   2.6820,  34.8953,2,  34.8947,2,   -999.0,1,  2.4880,    286.4,2,    10.79,2,    16.27,2,     1.06,2, -999.000,9, -999.000,9, -999.000,9,-999.0000,9,  -999.00,9,   -999.0,9,   -999.0,9,-999.0000,-999.000,  -999.0,-999.000,  101971
      06MT30_3,  A01W,   501,  1,      4,   K056,2,19941123,1023, 60.1833, -48.6883, 2863,   2600.3,   2.5930,  34.8983,2,  34.8980,2,   -999.0,1,  2.3911,    285.3,2,    11.17,2,    16.19,2,     1.04,2,    2.585,2,    1.186,2,    1.274,2,   1.8036,2,     5.74,2,   -999.0,9,   -999.0,9,  0.0072,   0.035,  -999.0,   0.160,  101970
      06MT30_3,  A01W,   501,  1,      3,   U018,2,19941123,1023, 60.1833, -48.6883, 2863,   2801.8,   2.3290,  34.8883,2,  34.8885,2,   -999.0,1,  2.1127,    288.5,2,    10.88,2,    15.86,2,     1.03,2,    2.726,2,    1.325,2, -999.000,5,   1.8085,2,     4.87,2,   -999.0,9,   -999.0,9,  0.0072,-999.000,  -999.0,   0.160,  101969
      06MT30_3,  A01W,   501,  1,      2,   K052,2,19941123,1023, 60.1833, -48.6883, 2863,   2856.3,   2.2940,  34.8866,2,  34.8870,2,   -999.0,1,  2.0731,    289.5,2,    10.79,2,    15.82,2,     1.02,2,    2.780,2,    1.326,2,    1.414,2,   1.8068,2,     5.25,2,   -999.0,9,   -999.0,9,  0.0072,   0.030,  -999.0,   0.120,  101968
      06MT30_3,  A01W,   501,  1,      1,   K038,2,19941123,1023, 60.1833, -48.6883, 2863,   2890.9,   2.2940,  34.8870,2,  34.8871,2,   -999.0,1,  2.0697,    289.2,2,    10.79,2,    15.80,2,     1.03,2,    2.790,2,    1.312,2,    1.366,2,   1.8236,2,     5.07,2,   -999.0,9,   -999.0,9,  0.0073,   0.032,  -999.0,   0.160,  101967