BOTTLE,20060322WHPSIOSA
EXPOCODE,SECT_ID,STNNBR,CASTNO,SAMPNO,BTLNBR,BTLNBR_FLAG_W,DATE,TIME,LATITUDE,LONGITUDE,DEPTH,CTDPRS,CTDTMP,CTDSAL,CTDSAL_FLAG_W,SALNTY,SALNTY_FLAG_W,CTDOXY,CTDOXY_FLAG_W,THETA,OXYGEN,OXYGEN_FLAG_W,SILCAT,SILCAT_FLAG_W,NO2+NO3,NO2+NO3_FLAG_W,PHSPHT,PHSPHT_FLAG_W,CFC-11,CFC-11_FLAG_W,CFC-12,CFC-12_FLAG_W,TRITUM,TRITUM_FLAG_W,HELIUM,HELIUM_FLAG_W,DELHE3,DELHE3_FLAG_W,DELC14,DELC14_FLAG_W,TCARBN,TCARBN_FLAG_W,HELIER,TRITER,C14ERR,DELHER,BEDFORT
,,,,,,,,,,,,DBAR,ITS-90,PSS-78,,PSS-78,,UMOL/KG,,ITS-90,UMOL/KG,,UMOL/KG,,UMOL/KG,,UMOL/KG,,PMOL/KG,,PMOL/KG,,TU,,NMOL/KG,,PERCNT,,/MILLE,,UMOL/KG,,NMOL/KG,TU,/MILLE,PERCNT,NUM
      06MT30_3,  A01E,   532,  1,      0,   -999,2,19941203,1728, 55.0717, -26.4683, 3371,      5.0,   9.2000,-999.0000,9,  34.8550,2,   -999.0,9,-999.0000,   -999.0,9,  -999.00,9,  -999.00,9,  -999.00,9, -999.000,9, -999.000,9, -999.000,9,-999.0000,9,  -999.00,9,   -999.0,9,   2089.8,2,-999.0000,-999.000,  -999.0,-999.000,    -999
      06MT30_3,  A01E,   532,  1,     24,   K012,2,19941203,1728, 55.0717, -26.4683, 3371,     28.3,   9.2700,  34.7271,2,  34.7232,2,   -999.0,1,  9.2669,    273.3,2,     2.13,2,     7.55,2,     0.56,2,    3.554,3,    1.905,3, -999.000,9,-999.0000,9,  -999.00,9,   -999.0,9,   2088.3,2,-999.0000,-999.000,  -999.0,-999.000,  102662
      06MT30_3,  A01E,   532,  1,     23,   K125,2,19941203,1728, 55.0717, -26.4683, 3371,     48.9,   9.2700,  34.7251,2,  34.7238,2,   -999.0,1,  9.2647,    273.4,2,     2.18,2,     7.82,2,     0.57,2, -999.000,9, -999.000,9, -999.000,9,-999.0000,9,  -999.00,9,   -999.0,9,   -999.0,9,-999.0000,-999.000,  -999.0,-999.000,  102661
      06MT30_3,  A01E,   532,  1,     22,   B023,2,19941203,1728, 55.0717, -26.4683, 3371,    100.0,   8.5310,  34.9141,2,  34.9168,2,   -999.0,1,  8.5206,    237.1,2,     5.87,2,    13.95,2,     0.90,2,    3.265,3,    1.697,3, -999.000,5,   1.7675,2,     0.79,2,   -999.0,9,   2131.5,2,  0.0071,-999.000,  -999.0,   0.220,  102660
      06MT30_3,  A01E,   532,  1,     21,   K040,2,19941203,1728, 55.0717, -26.4683, 3371,    150.8,   7.5760,  34.8969,2,  34.8958,2,   -999.0,1,  7.5613,    230.7,2,     7.92,2,    16.35,2,     1.05,2, -999.000,9, -999.000,9, -999.000,9,-999.0000,9,  -999.00,9,   -999.0,9,   2145.7,2,-999.0000,-999.000,  -999.0,-999.000,  102659
      06MT30_3,  A01E,   532,  1,     20,   K097,2,19941203,1728, 55.0717, -26.4683, 3371,    249.3,   6.6100,  34.8727,2,  34.8697,2,   -999.0,1,  6.5873,    224.8,2,     9.82,2,    18.22,2,     1.17,2,    2.699,2,    1.362,2,    1.698,2,-999.0000,5,  -999.00,5,   -999.0,9,   2157.6,2,-999.0000,   0.025,  -999.0,-999.000,  102658
      06MT30_3,  A01E,   532,  1,     19,   U015,2,19941203,1728, 55.0717, -26.4683, 3371,    400.6,   5.5070,  34.8858,2,  34.8826,2,   -999.0,1,  5.4736,    245.1,2,    10.08,2,    18.13,2,     1.15,2, -999.000,9, -999.000,9, -999.000,9,-999.0000,9,  -999.00,9,   -999.0,9,   -999.0,9,-999.0000,-999.000,  -999.0,-999.000,  102657
      06MT30_3,  A01E,   532,  1,     18,   B003,2,19941203,1728, 55.0717, -26.4683, 3371,    549.0,   5.2400,  34.9769,2,  34.9756,2,   -999.0,1,  5.1946,    233.7,2,    10.95,2,    18.89,2,     1.19,2,    2.280,2,    1.081,2, -999.000,5,   1.8123,2,     6.43,2,   -999.0,9,   2166.9,2,  0.0072,-999.000,  -999.0,   0.220,  102656
      06MT30_3,  A01E,   532,  1,     17,   K124,2,19941203,1728, 55.0717, -26.4683, 3371,    748.8,   4.4160,  34.9483,2,  34.9474,2,   -999.0,1,  4.3578,    252.4,2,    10.74,2,    18.45,2,     1.17,2, -999.000,9, -999.000,9, -999.000,5,   1.7940,2,     6.92,2,   -999.0,9,   2163.4,2,  0.0072,-999.000,  -999.0,   0.230,  102655
      06MT30_3,  A01E,   532,  1,     16,   K114,2,19941203,1728, 55.0717, -26.4683, 3371,    848.4,   4.1620,  34.9322,2,  34.9320,2,   -999.0,1,  4.0971,    259.8,2,    10.57,2,    18.11,2,     1.14,2,    2.327,2,    1.129,2, -999.000,9,-999.0000,9,  -999.00,9,   -999.0,9,   -999.0,9,-999.0000,-999.000,  -999.0,-999.000,  102654
      06MT30_3,  A01E,   532,  1,     15,   U010,2,19941203,1728, 55.0717, -26.4683, 3371,    999.3,   3.8750,  34.9139,2,  34.9128,2,   -999.0,1,  3.7997,    268.1,2,    10.34,2,    17.80,2,     1.13,2, -999.000,9, -999.000,9, -999.000,9,-999.0000,9,  -999.00,9,   -999.0,9,   -999.0,9,-999.0000,-999.000,  -999.0,-999.000,  102653
      06MT30_3,  A01E,   532,  1,     14,   U002,2,19941203,1728, 55.0717, -26.4683, 3371,   1148.8,   3.6320,  34.8977,2,  34.8967,2,   -999.0,1,  3.5463,    274.4,2,    10.21,2,    17.60,2,     1.11,2,    2.406,2,    1.120,2,    1.344,2,   1.7871,2,     6.80,2,   -999.0,9,   2148.8,2,  0.0071,   0.028,  -999.0,   0.160,  102652
      06MT30_3,  A01E,   532,  1,     13,   B009,2,19941203,1728, 55.0717, -26.4683, 3371,   1299.9,   3.4750,  34.8885,2,  34.8878,2,   -999.0,1,  3.3781,    278.8,2,    10.18,2,    17.39,2,     1.10,2, -999.000,9, -999.000,9, -999.000,9,-999.0000,9,  -999.00,9,   -999.0,9,   -999.0,9,-999.0000,-999.000,  -999.0,-999.000,  102651
      06MT30_3,  A01E,   532,  1,     12,   K117,2,19941203,1728, 55.0717, -26.4683, 3371,   1500.5,   3.3670,  34.8852,2,  34.8847,2,   -999.0,1,  3.2541,    281.8,2,    10.28,2,    17.20,2,     1.09,2,    2.319,2,    1.105,2,    1.377,2,   1.7834,2,     7.12,2,   -999.0,9,   -999.0,9,  0.0071,   0.034,  -999.0,   0.160,  102650
      06MT30_3,  A01E,   532,  1,     11,   B008,2,19941203,1728, 55.0717, -26.4683, 3371,   1698.2,   3.3030,  34.8927,2,  34.8921,2,   -999.0,1,  3.1736,    281.8,2,    10.56,2,    17.13,2,     1.10,2,    2.126,2,    1.017,2, -999.000,9,-999.0000,9,  -999.00,9,   -999.0,9,   -999.0,9,-999.0000,-999.000,  -999.0,-999.000,  102649
      06MT30_3,  A01E,   532,  1,     10,   K115,2,19941203,1728, 55.0717, -26.4683, 3371,   1899.8,   3.2970,  34.9108,2,  34.9103,2,   -999.0,1,  3.1494,    278.6,2,    11.11,2,    17.06,2,     1.09,2,    1.825,2,    0.857,2,    1.189,2,   1.7914,2,     7.27,2,   -999.0,9,   -999.0,9,  0.0072,   0.031,  -999.0,   0.160,  102648
      06MT30_3,  A01E,   532,  1,      9,   K036,2,19941203,1728, 55.0717, -26.4683, 3371,   2101.1,   3.2850,  34.9351,2,  34.9347,2,   -999.0,1,  3.1187,    273.4,2,    12.31,2,    17.09,2,     1.12,2,    1.366,2,    0.615,2, -999.000,9,-999.0000,9,  -999.00,9,   -999.0,9,   2155.2,2,-999.0000,-999.000,  -999.0,-999.000,  102647
      06MT30_3,  A01E,   532,  1,      8,   B026,2,19941203,1728, 55.0717, -26.4683, 3371,   2301.2,   3.1970,  34.9460,2,  34.9463,2,   -999.0,1,  3.0130,    272.7,2,    12.85,2,    16.90,2,     1.09,2,    1.341,2,    0.591,2,    0.992,2,   1.7885,2,     7.42,2,   -999.0,9,   -999.0,9,  0.0072,   0.023,  -999.0,   0.160,  102646
      06MT30_3,  A01E,   532,  1,      7,   B004,2,19941203,1728, 55.0717, -26.4683, 3371,   2501.1,   3.0930,  34.9532,2,  34.9528,2,   -999.0,1,  2.8912,    271.1,2,    13.99,2,    16.90,2,     1.10,2,    1.377,2,    0.620,2, -999.000,9,-999.0000,9,  -999.00,9,   -999.0,9,   -999.0,9,-999.0000,-999.000,  -999.0,-999.000,  102645
      06MT30_3,  A01E,   532,  1,      6,   U006,2,19941203,1728, 55.0717, -26.4683, 3371,   2700.9,   2.9940,  34.9558,2,  34.9528,3,   -999.0,1,  2.7741,    271.1,2,    13.99,2,    16.88,2,     1.09,2,    1.310,2,    0.582,2, -999.000,9,-999.0000,9,  -999.00,9,   -999.0,9,   -999.0,9,-999.0000,-999.000,  -999.0,-999.000,  102644
      06MT30_3,  A01E,   532,  1,      5,   U023,2,19941203,1728, 55.0717, -26.4683, 3371,   2901.3,   2.9020,  34.9575,2,  34.9564,2,   -999.0,1,  2.6635,    267.5,2,    17.73,2,    17.23,2,     1.13,2,    1.237,2,    0.546,2,    0.870,2,   1.7994,2,     6.63,2,   -999.0,9,   -999.0,9,  0.0072,   0.024,  -999.0,   0.160,  102643
      06MT30_3,  A01E,   532,  1,      4,   K056,2,19941203,1728, 55.0717, -26.4683, 3371,   3102.2,   2.8210,  34.9536,2,  34.9528,2,   -999.0,1,  2.5633,    264.9,2,    20.57,2,    17.71,2,     1.16,2,    1.158,2,    0.515,2, -999.000,9,-999.0000,9,  -999.00,9,   -999.0,9,   -999.0,9,-999.0000,-999.000,  -999.0,-999.000,  102642
      06MT30_3,  A01E,   532,  1,      3,   U018,2,19941203,1728, 55.0717, -26.4683, 3371,   3292.9,   2.7720,  34.9478,2,  34.9479,2,   -999.0,1,  2.4952,    261.9,2,    23.37,2,    18.18,2,     1.20,2,    1.040,2,    0.460,2,    0.710,2,   1.8015,2,     5.76,2,   -999.0,9,   -999.0,9,  0.0072,   0.019,  -999.0,   0.160,  102641
      06MT30_3,  A01E,   532,  1,      2,   U022,2,19941203,1728, 55.0717, -26.4683, 3371,   3363.7,   2.7560,  34.9453,2,  34.9461,2,   -999.0,1,  2.4719,    260.2,2,    24.72,2,    18.40,2,     1.23,2,    0.990,2,    0.455,2, -999.000,9,-999.0000,9,  -999.00,9,   -999.0,9,   -999.0,9,-999.0000,-999.000,  -999.0,-999.000,  102640
      06MT30_3,  A01E,   532,  1,      1,   B025,2,19941203,1728, 55.0717, -26.4683, 3371,   3398.9,   2.7600,  34.9455,2,  34.9458,2,   -999.0,1,  2.4720,    260.1,2,    24.76,2,    18.36,2,     1.23,2,    0.983,2,    0.462,2,    0.672,2,   1.8025,2,     5.55,2,   -999.0,9,   2174.9,2,  0.0072,   0.013,  -999.0,   0.160,  102639
      06MT30_3,  A01E,   533,  1,      0,   -999,2,19941203,2319, 54.5983, -26.1300, 3432,      5.0,   8.9000,-999.0000,9,  34.7450,2,   -999.0,9,-999.0000,   -999.0,9,  -999.00,9,  -999.00,9,  -999.00,9, -999.000,9, -999.000,9, -999.000,9,-999.0000,9,  -999.00,9,   -999.0,9,   2087.1,2,-999.0000,-999.000,  -999.0,-999.000,    -999
      06MT30_3,  A01E,   533,  1,     24,   K012,2,19941203,2319, 54.5983, -26.1300, 3432,     19.4,   9.1860,  34.6871,2,  34.6855,2,   -999.0,1,  9.1839,    273.9,2,     1.66,2,     7.40,2,     0.57,2, -999.000,9, -999.000,9,    1.865,2,   1.7348,2,    -1.44,2,   -999.0,9,   2088.0,2,  0.0069,   0.030,  -999.0,   0.150,  102686
      06MT30_3,  A01E,   533,  1,     23,   K125,2,19941203,2319, 54.5983, -26.1300, 3432,     49.2,   9.2290,  34.6995,2,  34.6982,2,   -999.0,1,  9.2236,    273.4,2,     1.73,2,     7.53,2,     0.57,2, -999.000,9, -999.000,9, -999.000,9,-999.0000,9,  -999.00,9,   -999.0,9,   -999.0,9,-999.0000,-999.000,  -999.0,-999.000,  102685
      06MT30_3,  A01E,   533,  1,     22,   B023,2,19941203,2319, 54.5983, -26.1300, 3432,     98.4,   8.5210,  34.8668,2,-999.0000,9,   -999.0,1,  8.5108,    248.9,2,     4.38,2,    11.93,2,     0.82,2, -999.000,9, -999.000,9, -999.000,9,-999.0000,9,  -999.00,9,   -999.0,9,   -999.0,9,-999.0000,-999.000,  -999.0,-999.000,  102684
      06MT30_3,  A01E,   533,  1,     21,   K040,2,19941203,2319, 54.5983, -26.1300, 3432,    149.5,   7.1050,  34.8640,2,  34.8619,2,   -999.0,1,  7.0910,    233.1,2,     8.09,2,    16.49,2,     1.09,2, -999.000,9, -999.000,9, -999.000,9,-999.0000,9,  -999.00,9,   -999.0,9,   2149.8,2,-999.0000,-999.000,  -999.0,-999.000,  102683
      06MT30_3,  A01E,   533,  1,     20,   K097,2,19941203,2319, 54.5983, -26.1300, 3432,    249.0,   5.9660,  34.8257,2,  34.8245,2,   -999.0,1,  5.9446,    242.3,2,     9.24,2,    17.36,2,     1.15,2, -999.000,9, -999.000,9, -999.000,9,-999.0000,9,  -999.00,9,   -999.0,9,   2160.3,2,-999.0000,-999.000,  -999.0,-999.000,  102682
      06MT30_3,  A01E,   533,  1,     19,   U015,2,19941203,2319, 54.5983, -26.1300, 3432,    397.6,   5.2040,  34.8533,2,  34.8520,2,   -999.0,1,  5.1718,    258.8,2,     9.24,2,    17.37,2,     1.13,2, -999.000,9, -999.000,9,    1.551,2,   1.7202,2,     3.76,3,   -999.0,9,   2156.4,2,  0.0069,   0.034,  -999.0,   0.160,  102681
      06MT30_3,  A01E,   533,  1,     18,   B003,2,19941203,2319, 54.5983, -26.1300, 3432,    599.1,   4.6090,  34.9296,2,  34.9276,2,   -999.0,1,  4.5622,    246.6,2,    10.45,2,    18.44,2,     1.20,2, -999.000,9, -999.000,9, -999.000,9,-999.0000,9,  -999.00,9,   -999.0,9,   -999.0,9,-999.0000,-999.000,  -999.0,-999.000,  102680
      06MT30_3,  A01E,   533,  1,     17,   K124,2,19941203,2319, 54.5983, -26.1300, 3432,    801.0,   4.0950,  34.9228,2,  34.9225,2,   -999.0,1,  4.0344,    261.2,2,    10.18,2,    18.04,2,     1.17,2, -999.000,9, -999.000,9,    1.363,2,   1.7785,2,     6.23,2,   -999.0,9,   -999.0,9,  0.0071,   0.027,  -999.0,   0.160,  102679
      06MT30_3,  A01E,   533,  1,     16,   K114,2,19941203,2319, 54.5983, -26.1300, 3432,    995.9,   3.7680,  34.9078,2,  34.9068,2,   -999.0,1,  3.6938,    270.7,2,    10.08,2,    17.65,2,     1.14,2, -999.000,9, -999.000,9, -999.000,9,-999.0000,9,  -999.00,9,   -999.0,9,   2156.1,2,-999.0000,-999.000,  -999.0,-999.000,  102678
      06MT30_3,  A01E,   533,  1,     15,   U010,2,19941203,2319, 54.5983, -26.1300, 3432,   1198.9,   3.5480,  34.8924,2,  34.8921,2,   -999.0,1,  3.4589,    277.1,2,     9.96,2,    17.43,2,     1.12,2, -999.000,9, -999.000,9, -999.000,9,-999.0000,9,  -999.00,9,   -999.0,9,   -999.0,9,-999.0000,-999.000,  -999.0,-999.000,  102677
      06MT30_3,  A01E,   533,  1,     14,   U002,2,19941203,2319, 54.5983, -26.1300, 3432,   1401.5,   3.3990,  34.8856,2,  34.8853,2,   -999.0,1,  3.2943,    280.9,2,     9.93,2,    17.21,2,     1.11,2, -999.000,9, -999.000,9, -999.000,9,-999.0000,9,  -999.00,9,   -999.0,9,   -999.0,9,-999.0000,-999.000,  -999.0,-999.000,  102676
      06MT30_3,  A01E,   533,  1,     13,   B009,2,19941203,2319, 54.5983, -26.1300, 3432,   1601.7,   3.3430,  34.8902,2,  34.8893,2,   -999.0,1,  3.2216,    281.8,2,    10.11,2,    17.09,2,     1.12,2, -999.000,9, -999.000,9,    1.352,2,   1.7822,2,     6.89,2,   -999.0,9,   -999.0,9,  0.0071,   0.029,  -999.0,   0.160,  102675
      06MT30_3,  A01E,   533,  1,     12,   K117,2,19941203,2319, 54.5983, -26.1300, 3432,   1800.3,   3.3030,  34.8998,2,  34.8998,2,   -999.0,1,  3.1644,    280.4,2,    10.56,2,    17.07,2,     1.10,2, -999.000,9, -999.000,9, -999.000,9,-999.0000,9,  -999.00,9,   -999.0,9,   -999.0,9,-999.0000,-999.000,  -999.0,-999.000,  102674
      06MT30_3,  A01E,   533,  1,     11,   B008,2,19941203,2319, 54.5983, -26.1300, 3432,   1998.7,   3.3290,  34.9244,2,  34.9237,2,   -999.0,1,  3.1717,    275.8,2,    11.27,2,    16.94,2,     1.11,2, -999.000,9, -999.000,9,    0.998,2,-999.0000,5,  -999.00,5,   -999.0,9,   2154.0,2,-999.0000,   0.016,  -999.0,-999.000,  102673
      06MT30_3,  A01E,   533,  1,     10,   K115,2,19941203,2319, 54.5983, -26.1300, 3432,   2200.5,   3.2740,  34.9399,2,  34.9405,2,   -999.0,1,  3.0984,    273.2,2,    12.06,2,    16.89,2,     1.11,2, -999.000,9, -999.000,9, -999.000,9,-999.0000,9,  -999.00,9,   -999.0,9,   -999.0,9,-999.0000,-999.000,  -999.0,-999.000,  102672
      06MT30_3,  A01E,   533,  1,      9,   K036,2,19941203,2319, 54.5983, -26.1300, 3432,   2400.9,   3.1750,  34.9493,2,  34.9495,2,   -999.0,1,  2.9816,    272.4,2,    13.05,2,    16.90,2,     1.11,2, -999.000,9, -999.000,9,    1.016,2,   1.7888,2,     7.13,2,   -999.0,9,   -999.0,9,  0.0072,   0.016,  -999.0,   0.160,  102671
      06MT30_3,  A01E,   533,  1,      8,   B026,2,19941203,2319, 54.5983, -26.1300, 3432,   2602.2,   3.0740,  34.9547,2,  34.9548,2,   -999.0,1,  2.8625,    271.1,2,    14.16,2,    17.02,2,     1.12,2, -999.000,9, -999.000,9, -999.000,9,-999.0000,9,  -999.00,9,   -999.0,9,   -999.0,9,-999.0000,-999.000,  -999.0,-999.000,  102670
      06MT30_3,  A01E,   533,  1,      7,   B004,2,19941203,2319, 54.5983, -26.1300, 3432,   2753.4,   2.9910,  34.9566,2,  34.9570,2,   -999.0,1,  2.7658,    269.9,2,    15.52,2,    17.39,2,     1.13,2, -999.000,9, -999.000,9,    0.899,2,   1.7871,2,     6.84,2,   -999.0,9,   -999.0,9,  0.0071,   0.023,  -999.0,   0.160,  102669
      06MT30_3,  A01E,   533,  1,      6,   U006,2,19941203,2319, 54.5983, -26.1300, 3432,   2903.7,   2.9070,  34.9590,2,  34.9569,2,   -999.0,1,  2.6682,    269.9,2,    15.50,2,    17.25,2,     1.13,2, -999.000,9, -999.000,9, -999.000,9,-999.0000,9,  -999.00,9,   -999.0,9,   -999.0,9,-999.0000,-999.000,  -999.0,-999.000,  102668
      06MT30_3,  A01E,   533,  1,      5,   U023,2,19941203,2319, 54.5983, -26.1300, 3432,   3054.2,   2.8190,  34.9534,2,  34.9524,2,   -999.0,1,  2.5664,    264.6,2,    20.27,2,    17.99,2,     1.18,2, -999.000,9, -999.000,9,    0.835,2,   1.7935,2,     6.21,2,   -999.0,9,   -999.0,9,  0.0072,   0.026,  -999.0,   0.160,  102667
      06MT30_3,  A01E,   533,  1,      4,   K056,2,19941203,2319, 54.5983, -26.1300, 3432,   3204.6,   2.7870,  34.9508,2,  34.9500,2,   -999.0,1,  2.5193,    263.1,2,    22.02,2,    18.21,2,     1.20,2, -999.000,9, -999.000,9, -999.000,9,-999.0000,9,  -999.00,9,   -999.0,9,   -999.0,9,-999.0000,-999.000,  -999.0,-999.000,  102666
      06MT30_3,  A01E,   533,  1,      3,   U018,2,19941203,2319, 54.5983, -26.1300, 3432,   3304.7,   2.7650,  34.9476,2,  34.9471,2,   -999.0,1,  2.4871,    261.4,2,    23.48,2,    18.45,2,     1.25,2, -999.000,9, -999.000,9,    0.706,2,   1.7966,2,     5.67,2,   -999.0,9,   -999.0,9,  0.0072,   0.021,  -999.0,   0.160,  102665
      06MT30_3,  A01E,   533,  1,      2,   U022,2,19941203,2319, 54.5983, -26.1300, 3432,   3372.2,   2.7600,  34.9476,2,  34.9474,2,   -999.0,1,  2.4749,    261.1,2,    23.79,2,    18.20,2,     1.23,2, -999.000,9, -999.000,9, -999.000,9,-999.0000,9,  -999.00,9,   -999.0,9,   -999.0,9,-999.0000,-999.000,  -999.0,-999.000,  102664
      06MT30_3,  A01E,   533,  1,      1,   B025,2,19941203,2319, 54.5983, -26.1300, 3432,   3465.1,   2.7630,  34.9469,2,  34.9481,2,   -999.0,1,  2.4677,    260.7,2,    24.36,2,    18.22,2,     1.23,2, -999.000,9, -999.000,9,    0.705,2,   1.7997,2,     5.56,2,   -999.0,9,   2165.0,2,  0.0072,   0.019,  -999.0,   0.160,  102663