BOTTLE,20060322WHPSIOSA
EXPOCODE,SECT_ID,STNNBR,CASTNO,SAMPNO,BTLNBR,BTLNBR_FLAG_W,DATE,TIME,LATITUDE,LONGITUDE,DEPTH,CTDPRS,CTDTMP,CTDSAL,CTDSAL_FLAG_W,SALNTY,SALNTY_FLAG_W,CTDOXY,CTDOXY_FLAG_W,THETA,OXYGEN,OXYGEN_FLAG_W,SILCAT,SILCAT_FLAG_W,NO2+NO3,NO2+NO3_FLAG_W,PHSPHT,PHSPHT_FLAG_W,CFC-11,CFC-11_FLAG_W,CFC-12,CFC-12_FLAG_W,TRITUM,TRITUM_FLAG_W,HELIUM,HELIUM_FLAG_W,DELHE3,DELHE3_FLAG_W,DELC14,DELC14_FLAG_W,TCARBN,TCARBN_FLAG_W,HELIER,TRITER,C14ERR,DELHER,BEDFORT
,,,,,,,,,,,,DBAR,ITS-90,PSS-78,,PSS-78,,UMOL/KG,,ITS-90,UMOL/KG,,UMOL/KG,,UMOL/KG,,UMOL/KG,,PMOL/KG,,PMOL/KG,,TU,,NMOL/KG,,PERCNT,,/MILLE,,UMOL/KG,,NMOL/KG,TU,/MILLE,PERCNT,NUM
      06MT30_3,  A01E,   514,  2,     24,   K012,2,19941128,1850, 59.5233, -37.6433, 3109,     13.1,   5.3220,  34.6326,2,  34.6326,2,   -999.0,1,  5.3210,    297.9,2,     5.23,2,    13.06,2,     0.86,2,    4.575,2,    2.320,2,    1.925,2,   1.7727,2,    -1.44,2,      8.5,4,   2114.7,2,  0.0071,   0.035,     4.9,   0.120,  102254
      06MT30_3,  A01E,   514,  2,     23,   K125,2,19941128,1850, 59.5233, -37.6433, 3109,     22.8,   5.3290,  34.6325,2,  34.6320,2,   -999.0,1,  5.3272,    297.9,2,     5.25,2,    13.13,2,     0.86,2, -999.000,9, -999.000,9, -999.000,9,-999.0000,9,  -999.00,9,   -999.0,9,   2114.9,2,-999.0000,-999.000,  -999.0,-999.000,  102253
      06MT30_3,  A01E,   514,  2,     22,   B023,2,19941128,1850, 59.5233, -37.6433, 3109,    100.4,   4.1310,  34.7940,2,  34.7880,2,   -999.0,1,  4.1239,    285.7,2,     8.43,2,    16.87,2,     1.07,2, -999.000,9, -999.000,9,    1.663,2,   1.7875,2,     0.12,2,   -999.0,9,   2145.4,2,  0.0072,   0.044,  -999.0,   0.120,  102252
      06MT30_3,  A01E,   514,  2,     21,   K040,2,19941128,1850, 59.5233, -37.6433, 3109,    150.5,   3.6310,  34.8520,2,  34.8510,2,   -999.0,1,  3.6209,    284.9,2,     9.57,2,    17.76,2,     1.13,2,    4.180,2,    1.929,2, -999.000,9,-999.0000,9,  -999.00,9,   -999.0,9,   2153.5,2,-999.0000,-999.000,  -999.0,-999.000,  102251
      06MT30_3,  A01E,   514,  2,     20,   K097,2,19941128,1850, 59.5233, -37.6433, 3109,    250.1,   3.4040,  34.8581,2,  34.8568,2,   -999.0,1,  3.3875,    288.4,2,     9.65,2,    17.56,2,     1.11,2, -999.000,9, -999.000,9,    1.610,2,   1.7930,2,     2.36,2,    -11.8,4,   2155.1,2,  0.0072,   0.036,     5.4,   0.100,  102250
      06MT30_3,  A01E,   514,  2,     19,   U015,2,19941128,1850, 59.5233, -37.6433, 3109,    398.8,   3.2300,  34.8629,2,  34.8632,2,   -999.0,1,  3.2038,    290.8,2,     9.75,2,    17.44,2,     1.09,2,    3.659,2,    1.730,2, -999.000,9,-999.0000,9,  -999.00,9,   -999.0,9,   2153.2,2,-999.0000,-999.000,  -999.0,-999.000,  102249
      06MT30_3,  A01E,   514,  2,     18,   B003,2,19941128,1850, 59.5233, -37.6433, 3109,    550.1,   3.1300,  34.8613,2,  34.8634,2,   -999.0,1,  3.0937,    293.3,2,     9.74,2,    17.40,2,     1.09,2, -999.000,9, -999.000,9,    1.628,2,   1.7954,2,     3.29,2,     -0.4,2,   -999.0,9,  0.0072,   0.033,     5.0,   0.100,  102248
      06MT30_3,  A01E,   514,  2,     17,   K124,2,19941128,1850, 59.5233, -37.6433, 3109,    699.7,   3.0830,  34.8653,2,  34.8643,2,   -999.0,1,  3.0363,    295.4,2,     9.65,2,    17.18,2,     1.08,2,    3.717,2,    1.807,2, -999.000,9,-999.0000,9,  -999.00,9,   -999.0,9,   -999.0,9,-999.0000,-999.000,  -999.0,-999.000,  102247
      06MT30_3,  A01E,   514,  2,     16,   K114,2,19941128,1850, 59.5233, -37.6433, 3109,    901.4,   3.0110,  34.8584,2,  34.8584,2,   -999.0,1,  2.9499,    300.1,2,     9.52,2,    17.14,2,     1.09,2, -999.000,9, -999.000,9,    1.593,2,   1.7974,2,     1.74,2,     17.4,4,   2149.9,2,  0.0072,   0.048,     5.3,   0.100,  102246
      06MT30_3,  A01E,   514,  2,     15,   U010,2,19941128,1850, 59.5233, -37.6433, 3109,   1099.1,   2.9860,  34.8565,2,  34.8559,2,   -999.0,1,  2.9100,    301.7,2,     9.48,2,    16.93,2,     1.07,2,    3.946,2,    1.952,2, -999.000,9,-999.0000,9,  -999.00,9,   -999.0,9,   -999.0,9,-999.0000,-999.000,  -999.0,-999.000,  102245
      06MT30_3,  A01E,   514,  2,     14,   U002,2,19941128,1850, 59.5233, -37.6433, 3109,   1298.8,   2.9880,  34.8571,2,  34.8568,2,   -999.0,1,  2.8961,    301.4,2,     9.42,2,    16.79,2,     1.08,2, -999.000,9, -999.000,9,    1.649,2,   1.7562,2,     1.94,3,   -999.0,9,   -999.0,9,  0.0070,   0.030,  -999.0,   0.120,  102244
      06MT30_3,  A01E,   514,  2,     13,   B013,2,19941128,1850, 59.5233, -37.6433, 3109,   1499.4,   2.9510,  34.8519,2,  34.8521,2,   -999.0,1,  2.8431,    299.4,2,     9.49,2,    16.84,2,     1.08,2,    3.851,2,    1.862,2, -999.000,9,-999.0000,9,  -999.00,9,   -999.0,9,   -999.0,9,-999.0000,-999.000,  -999.0,-999.000,  102243
      06MT30_3,  A01E,   514,  2,     12,   K117,2,19941128,1850, 59.5233, -37.6433, 3109,   1699.4,   2.9510,  34.8534,2,  34.8529,2,   -999.0,1,  2.8261,    298.3,2,     9.53,2,    16.83,2,     1.07,2,    3.645,2,    1.745,2,    1.533,2,   1.7970,2,     2.63,2,   -999.0,9,   -999.0,9,  0.0072,   0.034,  -999.0,   0.110,  102242
      06MT30_3,  A01E,   514,  2,     11,   B008,2,19941128,1850, 59.5233, -37.6433, 3109,   1900.2,   3.0070,  34.8652,2,  34.8656,2,   -999.0,1,  2.8636,    293.9,2,     9.76,2,    16.83,2,     1.07,2,    3.393,2,    1.615,2, -999.000,9,-999.0000,9,  -999.00,9,   -999.0,9,   2148.4,2,-999.0000,-999.000,  -999.0,-999.000,  102241
      06MT30_3,  A01E,   514,  2,     10,   K115,2,19941128,1850, 59.5233, -37.6433, 3109,   2101.6,   3.1420,  34.8999,2,  34.9004,2,   -999.0,1,  2.9780,    284.6,2,    10.69,2,    16.87,2,     1.07,2,    2.548,2,    1.191,2,    1.330,2,   1.7959,2,     5.87,2,   -999.0,9,   -999.0,9,  0.0072,   0.027,  -999.0,   0.140,  102240
      06MT30_3,  A01E,   514,  2,      9,   K036,2,19941128,1850, 59.5233, -37.6433, 3109,   2303.0,   3.1430,  34.9219,2,  34.9213,2,   -999.0,1,  2.9598,    278.1,2,    11.51,2,    16.86,2,     1.07,2,    1.912,2,    0.843,2,    1.367,3,   1.8044,2,     7.22,2,   -999.0,9,   -999.0,9,  0.0072,   0.024,  -999.0,   0.100,  102239
      06MT30_3,  A01E,   514,  2,      8,   U017,2,19941128,1850, 59.5233, -37.6433, 3109,   2401.8,   3.1070,  34.9285,2,  34.9284,2,   -999.0,1,  2.9148,    276.4,2,    11.97,2,    16.85,2,     1.07,2,    1.686,2,    0.738,2,    1.028,2,   1.7935,2,     7.31,2,   -999.0,9,   -999.0,9,  0.0072,   0.025,  -999.0,   0.150,  102238
      06MT30_3,  A01E,   514,  2,      7,   B004,2,19941128,1850, 59.5233, -37.6433, 3109,   2602.4,   3.0140,  34.9383,2,  34.9383,2,   -999.0,1,  2.8037,    274.5,2,    12.93,2,    16.88,2,     1.09,2,    1.453,2,    0.641,2,    1.031,2,   1.8022,2,     7.40,2,   -999.0,9,   -999.0,9,  0.0072,   0.015,  -999.0,   0.110,  102237
      06MT30_3,  A01E,   514,  2,      6,   U006,2,19941128,1850, 59.5233, -37.6433, 3109,   2752.7,   2.8400,  34.9275,2,  34.9265,2,   -999.0,1,  2.6181,    277.7,2,    12.70,2,    16.62,2,     1.09,2,    1.714,2,    0.751,2,    1.039,2,   1.8048,2,     7.22,2,   -999.0,9,   -999.0,9,  0.0072,   0.035,  -999.0,   0.130,  102236
      06MT30_3,  A01E,   514,  2,      5,   U023,2,19941128,1850, 59.5233, -37.6433, 3109,   2849.3,   2.6840,  34.9207,2,  34.9180,3,   -999.0,1,  2.4555,    280.5,2,    12.53,2,    16.39,2,     1.05,2,    1.951,2,    0.850,2,    1.143,2,   1.7981,2,     6.60,2,   -999.0,9,   -999.0,9,  0.0072,   0.063,  -999.0,   0.140,  102235
      06MT30_3,  A01E,   514,  2,      4,   K056,2,19941128,1850, 59.5233, -37.6433, 3109,   2953.0,   2.4040,  34.8992,2,  34.8979,2,   -999.0,1,  2.1711,    280.2,2,    11.33,2,    15.80,2,     1.03,2,    2.439,2,    1.167,2,    1.454,2,-999.0000,5,  -999.00,5,   -999.0,9,   -999.0,9,-999.0000,   0.023,  -999.0,-999.000,  102234
      06MT30_3,  A01E,   514,  2,      3,   U018,2,19941128,1850, 59.5233, -37.6433, 3109,   3050.9,   1.8440,  34.8704,2,  34.8679,3,   -999.0,1,  1.6137,    299.6,2,     8.94,2,    14.91,2,     0.97,2,    3.445,2,    1.667,2,    1.501,2,-999.0000,5,  -999.00,5,   -999.0,9,   2148.2,2,-999.0000,   0.041,  -999.0,-999.000,  102233
      06MT30_3,  A01E,   514,  2,      2,   K052,2,19941128,1850, 59.5233, -37.6433, 3109,   3101.8,   1.4320,  34.8624,2,  34.8608,2,   -999.0,1,  1.2060,    304.8,2,     8.83,2,    14.54,2,     0.95,2,    3.632,2,    1.737,2,    1.564,2,   1.7992,3,     5.78,3,   -999.0,9,   -999.0,9,  0.0072,   0.028,  -999.0,   0.140,  102232
      06MT30_3,  A01E,   514,  2,      1,   K038,2,19941128,1850, 59.5233, -37.6433, 3109,   3136.6,   1.0920,  34.8633,2,  34.8621,2,   -999.0,1,  0.8705,    306.9,2,     9.29,2,    14.35,2,     0.94,2,    3.698,2,    1.760,2,    1.519,2,   1.8205,2,     3.33,2,   -999.0,9,   2147.0,2,  0.0073,   0.029,  -999.0,   0.130,  102231
      06MT30_3,  A01E,   515,  1,      0,   -999,2,19941129,0216, 59.3917, -36.3667, 3103,      5.0,   5.3000,-999.0000,9,  34.7560,2,   -999.0,9,-999.0000,   -999.0,9,  -999.00,9,  -999.00,9,  -999.00,9, -999.000,9, -999.000,9, -999.000,9,-999.0000,9,  -999.00,9,   -999.0,9,   2115.5,2,-999.0000,-999.000,  -999.0,-999.000,    -999
      06MT30_3,  A01E,   515,  1,     23,   K125,2,19941129,0216, 59.3917, -36.3667, 3103,     20.0,   5.4310,  34.6580,2,  34.6571,2,   -999.0,1,  5.4294,    296.6,2,     5.28,2,    12.98,2,     0.87,2,    4.833,3,    2.524,3,    1.705,2,   1.7746,2,    -1.45,2,   -999.0,9,   2115.6,2,  0.0071,   0.028,  -999.0,   0.140,  102277
      06MT30_3,  A01E,   515,  1,     22,   B023,2,19941129,0216, 59.3917, -36.3667, 3103,     41.4,   5.4400,  34.6575,2,  34.6568,2,   -999.0,1,  5.4367,    296.7,2,     5.28,2,    13.02,2,     0.88,2, -999.000,9, -999.000,9, -999.000,9,-999.0000,9,  -999.00,9,   -999.0,9,   2114.9,2,-999.0000,-999.000,  -999.0,-999.000,  102276
      06MT30_3,  A01E,   515,  1,     21,   K040,2,19941129,0216, 59.3917, -36.3667, 3103,     98.0,   5.4390,  34.6582,2,  34.6571,2,   -999.0,1,  5.4311,    296.4,2,     5.28,2,    13.11,2,     0.89,2,    4.618,2,    2.223,2, -999.000,9,-999.0000,9,  -999.00,9,   -999.0,9,   2115.8,2,-999.0000,-999.000,  -999.0,-999.000,  102275
      06MT30_3,  A01E,   515,  1,     20,   K097,3,19941129,0216, 59.3917, -36.3667, 3103,    149.7,   3.9790,  34.8398,2,-999.0000,9,   -999.0,1,  3.9686,    288.7,2,     6.75,2,    14.86,2,     0.98,2, -999.000,9, -999.000,9, -999.000,9,-999.0000,9,  -999.00,9,   -999.0,9,   -999.0,9,-999.0000,-999.000,  -999.0,-999.000,  102274
      06MT30_3,  A01E,   515,  1,     19,   U015,2,19941129,0216, 59.3917, -36.3667, 3103,    247.8,   3.8310,  34.8923,2,  34.8909,2,   -999.0,1,  3.8138,    273.9,2,    10.04,2,    18.07,2,     1.15,2, -999.000,9, -999.000,9,    1.520,2,   1.7844,3,     4.26,2,   -999.0,9,   2155.4,2,  0.0071,   0.033,  -999.0,   0.130,  102273
      06MT30_3,  A01E,   515,  1,     18,   B003,2,19941129,0216, 59.3917, -36.3667, 3103,    347.8,   3.4080,  34.8616,2,  34.8602,2,   -999.0,1,  3.3848,    288.5,2,     9.69,2,    17.68,2,     1.13,2, -999.000,9, -999.000,9, -999.000,9,-999.0000,9,  -999.00,9,   -999.0,9,   -999.0,9,-999.0000,-999.000,  -999.0,-999.000,  102272
      06MT30_3,  A01E,   515,  1,     17,   K124,2,19941129,0216, 59.3917, -36.3667, 3103,    497.6,   3.3570,  34.8803,2,  34.8797,2,   -999.0,1,  3.3235,    287.5,2,     9.84,2,    17.57,2,     1.11,2,    3.350,2,    1.570,2,    1.511,2,   1.8212,2,     1.85,2,   -999.0,9,   -999.0,9,  0.0073,   0.025,  -999.0,   0.140,  102271
      06MT30_3,  A01E,   515,  1,     16,   K114,2,19941129,0216, 59.3917, -36.3667, 3103,    698.0,   3.2600,  34.8839,2,  34.8822,2,   -999.0,1,  3.2124,    290.4,2,     9.83,2,    17.35,2,     1.10,2, -999.000,9, -999.000,9, -999.000,9,-999.0000,9,  -999.00,9,   -999.0,9,   2149.9,2,-999.0000,-999.000,  -999.0,-999.000,  102270
      06MT30_3,  A01E,   515,  1,     15,   U010,2,19941129,0216, 59.3917, -36.3667, 3103,    896.9,   3.1600,  34.8765,2,  34.8763,2,   -999.0,1,  3.0981,    293.9,2,     9.73,2,    17.25,2,     1.10,2,    3.613,2,    1.700,2,    1.560,2,-999.0000,5,  -999.00,5,   -999.0,9,   -999.0,9,-999.0000,   0.034,  -999.0,-999.000,  102269
      06MT30_3,  A01E,   515,  1,     14,   U002,2,19941129,0216, 59.3917, -36.3667, 3103,   1098.4,   3.0170,  34.8587,2,  34.8584,2,   -999.0,1,  2.9408,    300.0,2,     9.49,2,    17.19,2,     1.09,2, -999.000,9, -999.000,9, -999.000,9,-999.0000,9,  -999.00,9,   -999.0,9,   -999.0,9,-999.0000,-999.000,  -999.0,-999.000,  102268
      06MT30_3,  A01E,   515,  1,     13,   B013,3,19941129,0216, 59.3917, -36.3667, 3103,   1298.7,   2.9770,  34.8530,2,  34.8535,2,   -999.0,1,  2.8853,    302.6,2,     9.36,2,    17.18,2,     1.09,2,    4.063,2,    2.003,2, -999.000,9,-999.0000,9,  -999.00,9,   -999.0,9,   -999.0,9,-999.0000,-999.000,  -999.0,-999.000,  102267
      06MT30_3,  A01E,   515,  1,     12,   K117,2,19941129,0216, 59.3917, -36.3667, 3103,   1497.4,   2.9730,  34.8526,2,  34.8533,2,   -999.0,1,  2.8650,    300.9,2,     9.44,2,    17.13,2,     1.08,2,    3.922,2,    1.905,2,    1.616,2,-999.0000,5,  -999.00,5,   -999.0,9,   2147.1,2,-999.0000,   0.031,  -999.0,-999.000,  102266
      06MT30_3,  A01E,   515,  1,     11,   B008,2,19941129,0216, 59.3917, -36.3667, 3103,   1648.3,   2.9770,  34.8550,2,  34.8548,2,   -999.0,1,  2.8562,    298.2,2,     9.55,2,    17.21,2,     1.09,2,    3.787,2,    1.809,2, -999.000,9,-999.0000,9,  -999.00,9,   -999.0,9,   -999.0,9,-999.0000,-999.000,  -999.0,-999.000,  102265
      06MT30_3,  A01E,   515,  1,     10,   K115,2,19941129,0216, 59.3917, -36.3667, 3103,   1798.0,   3.0250,  34.8666,2,  34.8670,2,   -999.0,1,  2.8905,    293.9,2,     9.78,2,    17.13,2,     1.08,2,    3.429,2,    1.649,2,    1.515,2,   1.7928,2,     3.64,2,   -999.0,9,   -999.0,9,  0.0072,   0.030,  -999.0,   0.120,  102264
      06MT30_3,  A01E,   515,  1,      9,   K036,2,19941129,0216, 59.3917, -36.3667, 3103,   2096.9,   3.1400,  34.9057,2,  34.9056,2,   -999.0,1,  2.9765,    282.3,2,    10.97,2,    17.06,2,     1.08,2,    2.441,2,    1.123,2, -999.000,9,-999.0000,9,  -999.00,9,   -999.0,9,   -999.0,9,-999.0000,-999.000,  -999.0,-999.000,  102263
      06MT30_3,  A01E,   515,  1,      8,   U017,2,19941129,0216, 59.3917, -36.3667, 3103,   2251.8,   3.1400,  34.9194,2,  34.9192,2,   -999.0,1,  2.9618,    278.5,2,    11.48,2,    17.01,2,     1.09,2,    2.084,2,    0.913,2,    1.239,2,   1.7971,2,     6.94,2,   -999.0,9,   -999.0,9,  0.0072,   0.029,  -999.0,   0.130,  102262
      06MT30_3,  A01E,   515,  1,      7,   B004,2,19941129,0216, 59.3917, -36.3667, 3103,   2399.9,   3.0790,  34.9272,2,  34.9273,2,   -999.0,1,  2.8875,    276.9,2,    12.03,2,    16.93,2,     1.08,2,    1.747,2,    0.787,2, -999.000,9,-999.0000,9,  -999.00,9,   -999.0,9,   -999.0,9,-999.0000,-999.000,  -999.0,-999.000,  102261
      06MT30_3,  A01E,   515,  1,      6,   U006,2,19941129,0216, 59.3917, -36.3667, 3103,   2553.3,   3.0030,  34.9307,2,  34.9302,2,   -999.0,1,  2.7978,    276.0,2,    12.51,2,    16.72,2,     1.08,2,    1.692,2,    0.747,2,    1.060,2,   1.7974,2,     7.27,2,   -999.0,9,   2153.1,2,  0.0072,   0.029,  -999.0,   0.140,  102260
      06MT30_3,  A01E,   515,  1,      5,   U023,2,19941129,0216, 59.3917, -36.3667, 3103,   2703.4,   2.8910,  34.9282,2,  34.9266,2,   -999.0,1,  2.6730,    277.2,2,    12.62,2,    16.71,2,     1.08,2,    1.708,2,    0.755,2, -999.000,9,-999.0000,9,  -999.00,9,   -999.0,9,   -999.0,9,-999.0000,-999.000,  -999.0,-999.000,  102259
      06MT30_3,  A01E,   515,  1,      4,   K056,2,19941129,0216, 59.3917, -36.3667, 3103,   2849.9,   2.7260,  34.9200,2,  34.9193,2,   -999.0,1,  2.4966,    279.8,2,    12.39,2,    16.43,2,     1.06,2,    1.942,2,    0.871,2,    1.123,2,-999.0000,5,  -999.00,5,   -999.0,9,   -999.0,9,-999.0000,   0.028,  -999.0,-999.000,  102258
      06MT30_3,  A01E,   515,  1,      3,   U018,2,19941129,0216, 59.3917, -36.3667, 3103,   2995.5,   2.5860,  34.9127,2,  34.9117,2,   -999.0,1,  2.3448,    282.3,2,    12.08,2,    16.26,2,     1.04,2,    2.094,2,    0.966,2,    1.202,2,   1.7603,2,     6.57,3,   -999.0,9,   -999.0,9,  0.0070,   0.023,  -999.0,   0.140,  102257
      06MT30_3,  A01E,   515,  1,      2,   K052,3,19941129,0216, 59.3917, -36.3667, 3103,   3052.7,   2.4680,  34.9059,2,  34.9041,2,   -999.0,1,  2.2235,    285.4,2,    11.73,2,    16.09,2,     1.03,2,    2.266,2,    1.065,2,    1.217,2,   1.8080,2,     5.89,2,   -999.0,9,   -999.0,9,  0.0072,   0.029,  -999.0,   0.130,  102256
      06MT30_3,  A01E,   515,  1,      1,   B025,2,19941129,0216, 59.3917, -36.3667, 3103,   3123.4,   2.1650,  34.8863,2,  34.8864,2,   -999.0,1,  1.9202,    291.9,2,    10.63,2,    15.58,2,     1.01,2,    2.798,2,    1.278,2,    1.481,2,-999.0000,5,  -999.00,5,   -999.0,9,   2149.2,2,-999.0000,   0.037,  -999.0,-999.000,  102255