BOTTLE,20060322WHPSIOSA
EXPOCODE,SECT_ID,STNNBR,CASTNO,SAMPNO,BTLNBR,BTLNBR_FLAG_W,DATE,TIME,LATITUDE,LONGITUDE,DEPTH,CTDPRS,CTDTMP,CTDSAL,CTDSAL_FLAG_W,SALNTY,SALNTY_FLAG_W,CTDOXY,CTDOXY_FLAG_W,THETA,OXYGEN,OXYGEN_FLAG_W,SILCAT,SILCAT_FLAG_W,NO2+NO3,NO2+NO3_FLAG_W,PHSPHT,PHSPHT_FLAG_W,CFC-11,CFC-11_FLAG_W,CFC-12,CFC-12_FLAG_W,TRITUM,TRITUM_FLAG_W,HELIUM,HELIUM_FLAG_W,DELHE3,DELHE3_FLAG_W,DELC14,DELC14_FLAG_W,TCARBN,TCARBN_FLAG_W,HELIER,TRITER,C14ERR,DELHER,BEDFORT
,,,,,,,,,,,,DBAR,ITS-90,PSS-78,,PSS-78,,UMOL/KG,,ITS-90,UMOL/KG,,UMOL/KG,,UMOL/KG,,UMOL/KG,,PMOL/KG,,PMOL/KG,,TU,,NMOL/KG,,PERCNT,,/MILLE,,UMOL/KG,,NMOL/KG,TU,/MILLE,PERCNT,NUM
      06MT30_3,  A01W,   496,  1,      1,   K038,2,19941119,1356, 55.8433, -53.3767, 3123,     18.9,   4.7600,  34.4219,2,  34.4166,2,   -999.0,1,  4.7586,    304.6,2,     3.03,2,     7.53,2,     0.62,2,    4.805,2,    2.444,2,    2.090,2,   1.7660,2,    -1.82,2,   -999.0,9,   -999.0,9,  0.0071,   0.029,  -999.0,   0.150,  101847
      06MT30_3,  A01W,   496,  1,     24,   k012,2,19941119,1356, 55.8433, -53.3767, 3123,     99.6,   3.2220,  34.7427,2,  34.7473,2,   -999.0,1,  3.2157,    293.6,2,     8.48,2,    16.48,2,     1.07,2,    4.505,2,    2.219,2,    1.804,2,   1.7976,2,    -0.31,2,   -999.0,9,   -999.0,9,  0.0072,   0.032,  -999.0,   0.150,  101870
      06MT30_3,  A01W,   496,  1,     23,   K125,2,19941119,1356, 55.8433, -53.3767, 3123,    199.4,   3.3170,  34.8177,2,  34.8181,2,   -999.0,1,  3.3041,    295.0,2,     8.81,2,    16.59,2,     1.07,2,    4.455,2,    2.190,2,    1.765,2,   1.7930,2,     0.47,2,   -999.0,9,   -999.0,9,  0.0072,   0.034,  -999.0,   0.130,  101869
      06MT30_3,  A01W,   496,  1,      4,   K056,2,19941119,1356, 55.8433, -53.3767, 3123,   1460.8,   2.8100,  34.8315,2,  34.8315,2,   -999.0,1,  2.7069,    300.4,2,     9.09,2,    16.42,2,     1.07,2, -999.000,9, -999.000,9, -999.000,9,-999.0000,9,  -999.00,9,   -999.0,9,   -999.0,9,-999.0000,-999.000,  -999.0,-999.000,  101850
      06MT30_3,  A01W,   496,  1,      5,   U023,2,19941119,1356, 55.8433, -53.3767, 3123,   1462.7,   2.8100,  34.8315,2,  34.8318,2,   -999.0,1,  2.7068,    300.2,2,     9.12,2,    16.46,2,     1.07,2, -999.000,9, -999.000,9, -999.000,9,-999.0000,9,  -999.00,9,   -999.0,9,   -999.0,9,-999.0000,-999.000,  -999.0,-999.000,  101851
      06MT30_3,  A01W,   496,  1,      6,   K017,2,19941119,1356, 55.8433, -53.3767, 3123,   1464.6,   2.8110,  34.8317,2,  34.8316,2,   -999.0,1,  2.7076,    300.3,2,     9.11,2,    16.65,2,     1.07,2, -999.000,9, -999.000,9, -999.000,9,-999.0000,9,  -999.00,9,   -999.0,9,   -999.0,9,-999.0000,-999.000,  -999.0,-999.000,  101852
      06MT30_3,  A01W,   496,  1,      7,   B004,2,19941119,1356, 55.8433, -53.3767, 3123,   1467.2,   2.8110,  34.8313,2,  34.8310,2,   -999.0,1,  2.7074,    300.4,2,     9.12,2,    16.42,2,     1.07,2, -999.000,9, -999.000,9, -999.000,9,-999.0000,9,  -999.00,9,   -999.0,9,   -999.0,9,-999.0000,-999.000,  -999.0,-999.000,  101853
      06MT30_3,  A01W,   496,  1,      8,   U017,2,19941119,1356, 55.8433, -53.3767, 3123,   1469.9,   2.8110,  34.8320,2,  34.8318,2,   -999.0,1,  2.7072,    300.0,2,     9.10,2,    16.41,2,     1.07,2, -999.000,9, -999.000,9, -999.000,9,-999.0000,9,  -999.00,9,   -999.0,9,   -999.0,9,-999.0000,-999.000,  -999.0,-999.000,  101854
      06MT30_3,  A01W,   496,  1,      9,   K036,2,19941119,1356, 55.8433, -53.3767, 3123,   1471.4,   2.8120,  34.8318,2,  34.8317,2,   -999.0,1,  2.7080,    300.2,2,     9.10,2,    16.40,2,     1.07,2, -999.000,9, -999.000,9, -999.000,9,-999.0000,9,  -999.00,9,   -999.0,9,   -999.0,9,-999.0000,-999.000,  -999.0,-999.000,  101855
      06MT30_3,  A01W,   496,  1,     10,   K115,2,19941119,1356, 55.8433, -53.3767, 3123,   1472.2,   2.8130,  34.8319,2,  34.8322,2,   -999.0,1,  2.7090,    300.4,2,     9.11,2,    16.41,2,     1.07,2, -999.000,9, -999.000,9, -999.000,9,-999.0000,9,  -999.00,9,   -999.0,9,   -999.0,9,-999.0000,-999.000,  -999.0,-999.000,  101856
      06MT30_3,  A01W,   496,  1,     11,   B008,2,19941119,1356, 55.8433, -53.3767, 3123,   1473.5,   2.8130,  34.8321,2,  34.8316,2,   -999.0,1,  2.7088,    300.2,2,     9.11,2,    16.44,2,     1.07,2, -999.000,9, -999.000,9, -999.000,9,-999.0000,9,  -999.00,9,   -999.0,9,   -999.0,9,-999.0000,-999.000,  -999.0,-999.000,  101857
      06MT30_3,  A01W,   496,  1,     12,   K117,2,19941119,1356, 55.8433, -53.3767, 3123,   1474.9,   2.8130,  34.8321,2,  34.8319,2,   -999.0,1,  2.7087,    300.2,2,     9.14,2,    16.50,2,     1.07,2, -999.000,9, -999.000,9,    1.686,2,   1.7938,2,     2.03,2,   -999.0,9,   -999.0,9,  0.0072,   0.027,  -999.0,   0.130,  101858
      06MT30_3,  A01W,   496,  1,     13,   K090,2,19941119,1356, 55.8433, -53.3767, 3123,   1476.3,   2.8130,  34.8321,2,  34.8321,2,   -999.0,1,  2.7086,    300.6,2,     9.18,2,    16.49,2,     1.07,2, -999.000,9, -999.000,9, -999.000,9,-999.0000,9,  -999.00,9,   -999.0,9,   -999.0,9,-999.0000,-999.000,  -999.0,-999.000,  101859
      06MT30_3,  A01W,   496,  1,     22,   K023,2,19941119,1356, 55.8433, -53.3767, 3123,   1476.8,   2.8130,  34.8316,2,  34.8328,2,   -999.0,1,  2.7086,    300.7,2,     9.23,2,    16.53,2,     1.07,2,    3.908,2,    1.882,2,    1.677,2,   1.7889,2,     1.85,2,   -999.0,9,   -999.0,9,  0.0072,   0.035,  -999.0,   0.140,  101868
      06MT30_3,  A01W,   496,  1,     14,   U002,2,19941119,1356, 55.8433, -53.3767, 3123,   1477.0,   2.8130,  34.8321,2,  34.8320,2,   -999.0,1,  2.7086,    300.4,2,     9.16,2,    16.53,2,     1.07,2, -999.000,9, -999.000,9, -999.000,9,-999.0000,9,  -999.00,9,   -999.0,9,   -999.0,9,-999.0000,-999.000,  -999.0,-999.000,  101860
      06MT30_3,  A01W,   496,  1,     21,   K040,2,19941119,1356, 55.8433, -53.3767, 3123,   1477.4,   2.8140,  34.8320,2,  34.8322,2,   -999.0,1,  2.7095,    300.2,2,     9.21,2,    16.52,2,     1.07,2, -999.000,9, -999.000,9, -999.000,9,-999.0000,9,  -999.00,9,   -999.0,9,   -999.0,9,-999.0000,-999.000,  -999.0,-999.000,  101867
      06MT30_3,  A01W,   496,  1,     15,   U010,2,19941119,1356, 55.8433, -53.3767, 3123,   1477.6,   2.8130,  34.8323,2,  34.8320,2,   -999.0,1,  2.7085,    300.6,2,     9.18,2,    16.50,2,     1.07,2, -999.000,9, -999.000,9, -999.000,9,-999.0000,9,  -999.00,9,   -999.0,9,   -999.0,9,-999.0000,-999.000,  -999.0,-999.000,  101861
      06MT30_3,  A01W,   496,  1,     20,   K097,2,19941119,1356, 55.8433, -53.3767, 3123,   1477.8,   2.8140,  34.8320,2,  34.8325,2,   -999.0,1,  2.7095,    300.3,2,     9.21,2,    16.48,2,     1.07,2, -999.000,9, -999.000,9, -999.000,9,-999.0000,9,  -999.00,9,   -999.0,9,   -999.0,9,-999.0000,-999.000,  -999.0,-999.000,  101866
      06MT30_3,  A01W,   496,  1,     17,   K124,2,19941119,1356, 55.8433, -53.3767, 3123,   1477.9,   2.8130,  34.8324,2,  34.8322,2,   -999.0,1,  2.7085,    300.3,2,     9.16,2,    16.44,2,     1.06,2, -999.000,9, -999.000,9, -999.000,9,-999.0000,9,  -999.00,9,   -999.0,9,   -999.0,9,-999.0000,-999.000,  -999.0,-999.000,  101863
      06MT30_3,  A01W,   496,  1,     16,   K114,2,19941119,1356, 55.8433, -53.3767, 3123,   1477.9,   2.8130,  34.8323,2,  34.8317,2,   -999.0,1,  2.7085,    300.4,2,     9.15,2,    16.53,2,     1.07,2, -999.000,9, -999.000,9, -999.000,9,-999.0000,9,  -999.00,9,   -999.0,9,   -999.0,9,-999.0000,-999.000,  -999.0,-999.000,  101862
      06MT30_3,  A01W,   496,  1,     19,   K126,2,19941119,1356, 55.8433, -53.3767, 3123,   1478.0,   2.8140,  34.8319,2,  34.8324,2,   -999.0,1,  2.7095,    300.6,2,     9.18,2,    16.44,2,     1.06,2, -999.000,9, -999.000,9, -999.000,9,-999.0000,9,  -999.00,9,   -999.0,9,   -999.0,9,-999.0000,-999.000,  -999.0,-999.000,  101865
      06MT30_3,  A01W,   496,  1,     18,   B003,2,19941119,1356, 55.8433, -53.3767, 3123,   1478.1,   2.8130,  34.8320,2,  34.8324,2,   -999.0,1,  2.7085,    300.6,2,     9.19,2,    16.46,2,     1.07,2, -999.000,9, -999.000,9, -999.000,9,-999.0000,9,  -999.00,9,   -999.0,9,   -999.0,9,-999.0000,-999.000,  -999.0,-999.000,  101864
      06MT30_3,  A01W,   496,  1,      3,   U018,2,19941119,1356, 55.8433, -53.3767, 3123,   2308.5,   3.0290,  34.8995,2,  34.8999,2,   -999.0,1,  2.8473,    282.6,2,    10.53,2,    16.12,2,     1.06,2,    2.571,2,    1.141,2, -999.000,9,-999.0000,9,  -999.00,9,   -999.0,9,   -999.0,9,-999.0000,-999.000,  -999.0,-999.000,  101849
      06MT30_3,  A01W,   496,  1,      2,   K052,2,19941119,1356, 55.8433, -53.3767, 3123,   3142.2,   1.7140,  34.8742,2,  34.8732,3,   -999.0,1,  1.4776,    295.1,2,    10.58,2,    14.49,2,     0.99,2,    3.119,2,    1.480,2,    1.523,2,   1.8121,2,     5.03,2,   -999.0,9,   -999.0,9,  0.0072,   0.022,  -999.0,   0.160,  101848
      06MT30_3,  A01W,   497,  1,     24,   K012,2,19941121,0101, 59.7467, -49.1750, 3222,     19.1,   5.1010,  34.6940,2,  34.6928,2,   -999.0,1,  5.0995,    299.0,2,     4.07,2,    11.27,2,     0.80,2,    4.847,2,    2.379,2, -999.000,9,-999.0000,9,  -999.00,9,   -999.0,9,   -999.0,9,-999.0000,-999.000,  -999.0,-999.000,  101894
      06MT30_3,  A01W,   497,  1,     23,   K125,2,19941121,0101, 59.7467, -49.1750, 3222,     49.9,   5.1090,  34.6936,2,  34.6935,2,   -999.0,1,  5.1051,    298.3,2,     4.06,2,    11.33,2,     0.81,2,    4.891,2,    2.362,2, -999.000,5,   1.7491,2,    -1.71,2,   -999.0,9,   -999.0,9,  0.0070,-999.000,  -999.0,   0.130,  101893
      06MT30_3,  A01W,   497,  1,     22,   B023,2,19941121,0101, 59.7467, -49.1750, 3222,     99.1,   5.2100,  34.7396,2,  34.7248,2,   -999.0,1,  5.2022,    296.8,2,     4.47,2,    11.89,2,     0.83,2,    4.718,2,    2.341,2,    1.912,2,   1.8761,2,    -1.00,4,   -999.0,9,   -999.0,9,  0.0075,   0.038,  -999.0,   0.140,  101892
      06MT30_3,  A01W,   497,  1,     21,   K040,3,19941121,0101, 59.7467, -49.1750, 3222,    239.5,   4.1220,  34.8873,2,-999.0000,9,   -999.0,1,  4.1049,    289.7,2,     6.20,2,    13.90,2,     0.97,2, -999.000,9, -999.000,9, -999.000,9,-999.0000,9,  -999.00,9,   -999.0,9,   -999.0,9,-999.0000,-999.000,  -999.0,-999.000,  101891
      06MT30_3,  A01W,   497,  1,     20,   K097,2,19941121,0101, 59.7467, -49.1750, 3222,    449.5,   3.5520,  34.8800,2,  34.8790,2,   -999.0,1,  3.5212,    291.5,2,     9.05,2,    16.90,2,     1.10,2,    4.083,2,    1.971,2,    1.731,2,   1.8303,2,     1.89,2,   -999.0,9,   -999.0,9,  0.0073,   0.033,  -999.0,   0.140,  101890
      06MT30_3,  A01W,   497,  1,     19,   K126,2,19941121,0101, 59.7467, -49.1750, 3222,    700.4,   3.1800,  34.8576,2,  34.8581,2,   -999.0,1,  3.1327,    295.5,2,     9.16,2,    16.88,2,     1.10,2,    4.096,2,    1.948,2,    1.750,2,   1.7908,2,     1.76,2,   -999.0,9,   -999.0,9,  0.0072,   0.035,  -999.0,   0.140,  101889
      06MT30_3,  A01W,   497,  1,     18,   B003,2,19941121,0101, 59.7467, -49.1750, 3222,    788.9,   3.1180,  34.8554,2,  34.8552,2,   -999.0,1,  3.0645,    296.7,2,     9.27,2,    16.93,2,     1.12,2, -999.000,9, -999.000,9, -999.000,9,-999.0000,9,  -999.00,9,   -999.0,9,   -999.0,9,-999.0000,-999.000,  -999.0,-999.000,  101888
      06MT30_3,  A01W,   497,  1,     17,   K124,2,19941121,0101, 59.7467, -49.1750, 3222,    997.6,   2.9920,  34.8470,2,  34.8477,2,   -999.0,1,  2.9238,    298.3,2,     9.24,2,    16.93,2,     1.11,2,    4.010,2,    1.943,2,    1.708,2,   1.7947,2,     1.98,2,   -999.0,9,   -999.0,9,  0.0072,   0.030,  -999.0,   0.140,  101887
      06MT30_3,  A01W,   497,  1,     16,   K114,2,19941121,0101, 59.7467, -49.1750, 3222,   1098.4,   2.9430,  34.8434,2,  34.8439,2,   -999.0,1,  2.8674,    298.7,2,     9.24,2,    16.90,2,     1.11,2, -999.000,9, -999.000,9, -999.000,9,-999.0000,9,  -999.00,9,   -999.0,9,   -999.0,9,-999.0000,-999.000,  -999.0,-999.000,  101886
      06MT30_3,  A01W,   497,  1,     15,   U010,2,19941121,0101, 59.7467, -49.1750, 3222,   1246.7,   2.9030,  34.8411,2,  34.8418,2,   -999.0,1,  2.8162,    297.8,3,     9.22,2,    16.93,2,     1.10,2,    4.076,2,    1.958,2, -999.000,5,   1.7594,2,     1.49,3,   -999.0,9,   -999.0,9,  0.0070,-999.000,  -999.0,   0.140,  101885
      06MT30_3,  A01W,   497,  1,     14,   U002,2,19941121,0101, 59.7467, -49.1750, 3222,   1397.6,   2.8560,  34.8365,2,  34.8376,2,   -999.0,1,  2.7576,    299.3,2,     9.16,2,    16.73,2,     1.09,2, -999.000,9, -999.000,9, -999.000,9,-999.0000,9,  -999.00,9,   -999.0,9,   -999.0,9,-999.0000,-999.000,  -999.0,-999.000,  101884
      06MT30_3,  A01W,   497,  1,     13,   K090,3,19941121,0101, 59.7467, -49.1750, 3222,   1549.1,   2.8440,  34.8360,2,  34.8369,2,   -999.0,1,  2.7332,    299.2,2,     9.14,2,    16.71,2,     1.09,2,    3.875,2,    1.825,2,    1.666,2,   1.7890,2,     1.73,2,   -999.0,9,   -999.0,9,  0.0072,   0.033,  -999.0,   0.150,  101883
      06MT30_3,  A01W,   497,  1,     12,   K117,2,19941121,0101, 59.7467, -49.1750, 3222,   1693.8,   2.8440,  34.8366,2,  34.8377,2,   -999.0,1,  2.7210,    299.9,2,     9.14,2,    16.67,2,     1.10,2, -999.000,9, -999.000,9, -999.000,9,-999.0000,9,  -999.00,9,   -999.0,9,   -999.0,9,-999.0000,-999.000,  -999.0,-999.000,  101882
      06MT30_3,  A01W,   497,  1,     11,   B008,2,19941121,0101, 59.7467, -49.1750, 3222,   1840.6,   2.8520,  34.8386,2,  34.8390,2,   -999.0,1,  2.7162,    299.2,2,     9.12,2,    16.63,2,     1.09,2,    3.988,2,    1.857,2,    1.685,2,-999.0000,5,  -999.00,5,   -999.0,9,   -999.0,9,-999.0000,   0.028,  -999.0,-999.000,  101881
      06MT30_3,  A01W,   497,  1,     10,   K115,2,19941121,0101, 59.7467, -49.1750, 3222,   1999.8,   2.9150,  34.8506,2,  34.8508,2,   -999.0,1,  2.7640,    296.8,2,     9.30,2,    16.66,2,     1.09,2, -999.000,9, -999.000,9,    1.540,2,   1.8065,2,     2.84,2,   -999.0,9,   -999.0,9,  0.0072,   0.031,  -999.0,   0.150,  101880
      06MT30_3,  A01W,   497,  1,      9,   K036,2,19941121,0101, 59.7467, -49.1750, 3222,   2145.5,   3.0440,  34.8854,2,  34.8856,2,   -999.0,1,  2.8775,    291.1,2,    10.07,2,    16.64,2,     1.09,2,    2.827,2,    1.348,2,    1.360,2,   1.8002,2,     5.32,2,   -999.0,9,   -999.0,9,  0.0072,   0.025,  -999.0,   0.140,  101879
      06MT30_3,  A01W,   497,  1,      8,   U017,2,19941121,0101, 59.7467, -49.1750, 3222,   2298.4,   3.0090,  34.8998,2,  34.9004,2,   -999.0,1,  2.8286,    283.2,2,    10.55,2,    16.52,2,     1.08,2,    2.735,2,    1.311,2, -999.000,9,-999.0000,9,  -999.00,9,   -999.0,9,   -999.0,9,-999.0000,-999.000,  -999.0,-999.000,  101878
      06MT30_3,  A01W,   497,  1,      7,   B004,2,19941121,0101, 59.7467, -49.1750, 3222,   2445.0,   2.9240,  34.9092,2,  34.9090,2,   -999.0,1,  2.7309,    281.2,2,    11.11,2,    16.43,2,     1.07,2, -999.000,9, -999.000,9,    1.215,2,   1.7965,2,     6.69,2,   -999.0,9,   -999.0,9,  0.0072,   0.033,  -999.0,   0.140,  101877
      06MT30_3,  A01W,   497,  1,      6,   K017,2,19941121,0101, 59.7467, -49.1750, 3222,   2601.9,   2.7580,  34.9123,2,  34.9117,2,   -999.0,1,  2.5527,    280.8,2,    11.63,2,    16.32,2,     1.07,2,    2.080,2,    0.900,2, -999.000,9,-999.0000,9,  -999.00,9,   -999.0,9,   -999.0,9,-999.0000,-999.000,  -999.0,-999.000,  101876
      06MT30_3,  A01W,   497,  1,      5,   U023,2,19941121,0101, 59.7467, -49.1750, 3222,   2746.0,   2.5950,  34.9105,2,  34.9098,2,   -999.0,1,  2.3787,    281.4,2,    12.22,2,    16.20,2,     1.07,2,    2.037,2,    0.892,2,    1.099,2,-999.0000,5,  -999.00,5,   -999.0,9,   -999.0,9,-999.0000,   0.026,  -999.0,-999.000,  101875
      06MT30_3,  A01W,   497,  1,      4,   K056,2,19941121,0101, 59.7467, -49.1750, 3222,   2939.7,   2.1810,  34.8913,2,  34.8912,2,   -999.0,1,  1.9542,    287.9,2,    11.77,2,    15.68,2,     1.04,2,    2.460,2,    1.130,2, -999.000,9,-999.0000,9,  -999.00,9,   -999.0,9,   -999.0,9,-999.0000,-999.000,  -999.0,-999.000,  101874
      06MT30_3,  A01W,   497,  1,      3,   U018,2,19941121,0101, 59.7467, -49.1750, 3222,   3102.9,   1.7390,  34.8698,2,  34.8697,2,   -999.0,1,  1.5059,    297.8,2,     9.69,2,    14.94,2,     1.00,2,    3.344,2,    1.562,2,    1.408,2,-999.0000,5,  -999.00,5,   -999.0,9,   -999.0,9,-999.0000,   0.025,  -999.0,-999.000,  101873
      06MT30_3,  A01W,   497,  1,      2,   K052,2,19941121,0101, 59.7467, -49.1750, 3222,   3152.9,   1.6480,  34.8702,2,  34.8696,2,   -999.0,1,  1.4121,    297.6,2,     9.88,2,    14.83,2,     1.00,2,    3.254,2,    1.508,2, -999.000,9,-999.0000,9,  -999.00,9,   -999.0,9,   -999.0,9,-999.0000,-999.000,  -999.0,-999.000,  101872
      06MT30_3,  A01W,   497,  1,      1,   K038,2,19941121,0101, 59.7467, -49.1750, 3222,   3231.4,   1.3230,  34.8591,2,  34.8585,2,   -999.0,1,  1.0870,    304.8,2,     9.25,2,    14.48,2,     0.97,2,    3.784,2,    1.770,2, -999.000,5,   1.9748,2,     3.19,4,   -999.0,9,   -999.0,9,  0.0079,-999.000,  -999.0,   0.140,  101871