BOTTLE,20060322WHPSIOSA
EXPOCODE,SECT_ID,STNNBR,CASTNO,SAMPNO,BTLNBR,BTLNBR_FLAG_W,DATE,TIME,LATITUDE,LONGITUDE,DEPTH,CTDPRS,CTDTMP,CTDSAL,CTDSAL_FLAG_W,SALNTY,SALNTY_FLAG_W,CTDOXY,CTDOXY_FLAG_W,THETA,OXYGEN,OXYGEN_FLAG_W,SILCAT,SILCAT_FLAG_W,NO2+NO3,NO2+NO3_FLAG_W,PHSPHT,PHSPHT_FLAG_W,CFC-11,CFC-11_FLAG_W,CFC-12,CFC-12_FLAG_W,TRITUM,TRITUM_FLAG_W,HELIUM,HELIUM_FLAG_W,DELHE3,DELHE3_FLAG_W,DELC14,DELC14_FLAG_W,TCARBN,TCARBN_FLAG_W,HELIER,TRITER,C14ERR,DELHER,BEDFORT
,,,,,,,,,,,,DBAR,ITS-90,PSS-78,,PSS-78,,UMOL/KG,,ITS-90,UMOL/KG,,UMOL/KG,,UMOL/KG,,UMOL/KG,,PMOL/KG,,PMOL/KG,,TU,,NMOL/KG,,PERCNT,,/MILLE,,UMOL/KG,,NMOL/KG,TU,/MILLE,PERCNT,NUM
      06MT30_3,  A01E,   530,  1,      0,   -999,2,19941203,0624, 55.9833, -27.1500, 2781,      5.0,   9.1000,-999.0000,9,  35.1670,2,   -999.0,9,-999.0000,   -999.0,9,  -999.00,9,  -999.00,9,  -999.00,9, -999.000,9, -999.000,9, -999.000,9,-999.0000,9,  -999.00,9,   -999.0,9,   2095.7,2,-999.0000,-999.000,  -999.0,-999.000,    -999
      06MT30_3,  A01E,   530,  1,     22,   B023,2,19941203,0624, 55.9833, -27.1500, 2781,     24.3,   9.2280,  34.8419,2,  34.8404,2,   -999.0,1,  9.2253,    272.2,2,     2.61,2,     8.42,2,     0.62,2, -999.000,9, -999.000,9, -999.000,9,-999.0000,9,  -999.00,9,   -999.0,9,   2095.5,2,-999.0000,-999.000,  -999.0,-999.000,  102612
      06MT30_3,  A01E,   530,  1,     21,   K040,2,19941203,0624, 55.9833, -27.1500, 2781,     50.0,   9.2420,  34.8459,2,  34.8431,2,   -999.0,1,  9.2365,    271.7,2,     2.64,2,     8.57,2,     0.62,2,    3.645,3,    1.894,3,    2.213,2,   1.7499,2,    -1.36,2,   -999.0,9,   2094.9,2,  0.0070,   0.040,  -999.0,   0.190,  102611
      06MT30_3,  A01E,   530,  1,     20,   K097,2,19941203,0624, 55.9833, -27.1500, 2781,    101.2,   9.1420,  35.0163,2,  35.0177,2,   -999.0,1,  9.1309,    272.2,2,     3.20,2,    10.09,2,     0.67,2,    3.694,3,    1.958,3, -999.000,9,-999.0000,9,  -999.00,9,   -999.0,9,   2105.4,2,-999.0000,-999.000,  -999.0,-999.000,  102610
      06MT30_3,  A01E,   530,  1,     19,   U015,2,19941203,0624, 55.9833, -27.1500, 2781,    151.2,   7.4340,  34.9410,2,  34.9366,2,   -999.0,1,  7.4194,    238.8,2,     8.21,2,    16.75,2,     1.07,2, -999.000,9, -999.000,9, -999.000,9,-999.0000,9,  -999.00,9,   -999.0,9,   2147.5,2,-999.0000,-999.000,  -999.0,-999.000,  102609
      06MT30_3,  A01E,   530,  1,     18,   B003,2,19941203,0624, 55.9833, -27.1500, 2781,    249.5,   7.1860,  35.0291,2,  35.0292,2,   -999.0,1,  7.1622,    258.8,2,     7.82,2,    16.01,2,     1.02,2,    3.512,2,    1.757,2, -999.000,5,   1.7717,2,     0.60,2,   -999.0,9,   2144.6,2,  0.0071,-999.000,  -999.0,   0.190,  102608
      06MT30_3,  A01E,   530,  1,     17,   K124,2,19941203,0624, 55.9833, -27.1500, 2781,    349.5,   6.4160,  34.9746,2,  34.9743,2,   -999.0,1,  6.3845,    256.5,2,     8.66,2,    17.04,2,     1.08,2, -999.000,9, -999.000,9, -999.000,9,-999.0000,9,  -999.00,9,   -999.0,9,   -999.0,9,-999.0000,-999.000,  -999.0,-999.000,  102607
      06MT30_3,  A01E,   530,  1,     16,   K114,2,19941203,0624, 55.9833, -27.1500, 2781,    449.2,   6.0140,  34.9815,2,  34.9808,2,   -999.0,1,  5.9745,    253.2,2,     9.12,2,    17.55,2,     1.11,2,    3.280,2,    1.630,2,    1.756,2,-999.0000,5,  -999.00,5,   -999.0,9,   2155.2,2,-999.0000,   0.033,  -999.0,-999.000,  102606
      06MT30_3,  A01E,   530,  1,     15,   U010,2,19941203,0624, 55.9833, -27.1500, 2781,    600.9,   5.1880,  34.9758,2,  34.9758,2,   -999.0,1,  5.1383,    235.6,2,    10.90,2,    19.07,2,     1.20,2,    2.347,2,    1.139,2, -999.000,9,-999.0000,9,  -999.00,9,   -999.0,9,   2166.2,2,-999.0000,-999.000,  -999.0,-999.000,  102605
      06MT30_3,  A01E,   530,  1,     14,   U002,2,19941203,0624, 55.9833, -27.1500, 2781,    723.9,   4.7550,  34.9596,2,  34.9611,2,   -999.0,1,  4.6970,    244.1,2,    10.82,2,    18.90,2,     1.19,2,    2.377,2,    1.130,2,    1.438,2,   1.7869,2,     6.65,2,   -999.0,9,   -999.0,9,  0.0071,   0.018,  -999.0,   0.190,  102604
      06MT30_3,  A01E,   530,  1,     13,   B009,2,19941203,0624, 55.9833, -27.1500, 2781,    895.8,   4.1660,  34.9303,2,  34.9316,2,   -999.0,1,  4.0971,    258.0,2,    10.54,2,    18.43,2,     1.16,2, -999.000,9, -999.000,9, -999.000,9,-999.0000,9,  -999.00,9,   -999.0,9,   -999.0,9,-999.0000,-999.000,  -999.0,-999.000,  102603
      06MT30_3,  A01E,   530,  1,     12,   K117,2,19941203,0624, 55.9833, -27.1500, 2781,   1044.6,   3.8160,  34.9065,2,  34.9076,2,   -999.0,1,  3.7374,    268.4,2,    10.32,2,    18.02,2,     1.15,2,    2.438,2,    1.160,2,    1.489,2,   1.7908,2,     6.80,2,   -999.0,9,   2156.7,2,  0.0072,   0.019,  -999.0,   0.190,  102602
      06MT30_3,  A01E,   530,  1,     11,   B008,2,19941203,0624, 55.9833, -27.1500, 2781,   1198.6,   3.5980,  34.8949,2,  34.8941,2,   -999.0,1,  3.5084,    274.8,2,    10.21,2,    17.67,2,     1.13,2, -999.000,9, -999.000,9, -999.000,9,-999.0000,9,  -999.00,9,   -999.0,9,   -999.0,9,-999.0000,-999.000,  -999.0,-999.000,  102601
      06MT30_3,  A01E,   530,  1,     10,   K115,2,19941203,0624, 55.9833, -27.1500, 2781,   1350.1,   3.4690,  34.8886,2,  34.8882,2,   -999.0,1,  3.3679,    278.6,2,    10.15,2,    17.44,2,     1.11,2, -999.000,9, -999.000,9,    1.451,2,   1.7665,2,     6.94,2,   -999.0,9,   -999.0,9,  0.0071,   0.026,  -999.0,   0.200,  102600
      06MT30_3,  A01E,   530,  1,      9,   K036,2,19941203,0624, 55.9833, -27.1500, 2781,   1498.6,   3.3910,  34.8877,2,  34.8878,2,   -999.0,1,  3.2780,    280.3,2,    10.21,2,    17.28,2,     1.11,2,    2.356,2,    1.099,2, -999.000,9,-999.0000,9,  -999.00,9,   -999.0,9,   -999.0,9,-999.0000,-999.000,  -999.0,-999.000,  102599
      06MT30_3,  A01E,   530,  1,      8,   B026,2,19941203,0624, 55.9833, -27.1500, 2781,   1651.8,   3.3650,  34.8956,2,  34.8950,2,   -999.0,1,  3.2389,    280.0,2,    10.44,2,    17.23,2,     1.11,2,    2.205,2,    1.030,2,    1.364,2,   1.7962,2,     7.07,2,   -999.0,9,   -999.0,9,  0.0072,   0.027,  -999.0,   0.200,  102598
      06MT30_3,  A01E,   530,  1,      7,   B004,2,19941203,0624, 55.9833, -27.1500, 2781,   1799.3,   3.3710,  34.9133,2,  34.9124,2,   -999.0,1,  3.2315,    277.0,2,    10.96,2,    17.21,2,     1.11,2, -999.000,9, -999.000,9, -999.000,9,-999.0000,9,  -999.00,9,   -999.0,9,   -999.0,9,-999.0000,-999.000,  -999.0,-999.000,  102597
      06MT30_3,  A01E,   530,  1,      6,   U006,2,19941203,0624, 55.9833, -27.1500, 2781,   2100.5,   3.3160,  34.9470,2,-999.0000,9,   -999.0,1,  3.1494,    277.3,2,    10.97,2,    17.22,2,     1.11,2,    1.858,2,    0.878,2,    1.253,2,   1.7914,2,     7.62,2,   -999.0,9,   -999.0,9,  0.0072,   0.024,  -999.0,   0.190,  102596
      06MT30_3,  A01E,   530,  1,      5,   U023,2,19941203,0624, 55.9833, -27.1500, 2781,   2397.0,   3.0890,  34.9603,2,  34.9594,2,   -999.0,1,  2.8975,    270.8,2,    14.05,2,    17.03,2,     1.10,2, -999.000,9, -999.000,9,    1.036,2,   1.7996,2,     6.89,2,   -999.0,9,   -999.0,9,  0.0072,   0.018,  -999.0,   0.210,  102595
      06MT30_3,  A01E,   530,  1,      4,   K056,2,19941203,0624, 55.9833, -27.1500, 2781,   2600.4,   2.8820,  34.9633,2,  34.9627,2,   -999.0,1,  2.6743,    268.9,2,    16.22,2,    17.14,2,     1.12,2,    1.595,2,    0.742,2, -999.000,9,-999.0000,9,  -999.00,9,   -999.0,9,   2164.5,2,-999.0000,-999.000,  -999.0,-999.000,  102594
      06MT30_3,  A01E,   530,  1,      3,   U018,2,19941203,0624, 55.9833, -27.1500, 2781,   2703.4,   2.8070,  34.9612,2,  34.9604,2,   -999.0,1,  2.5905,    267.7,2,    17.74,2,    17.34,2,     1.13,2, -999.000,9, -999.000,9,    0.926,2,   1.8039,2,     6.14,2,   -999.0,9,   -999.0,9,  0.0072,   0.019,  -999.0,   0.190,  102593
      06MT30_3,  A01E,   530,  1,      2,   U022,2,19941203,0624, 55.9833, -27.1500, 2781,   2760.3,   2.7570,  34.9612,2,  34.9605,2,   -999.0,1,  2.5358,    267.7,2,    18.01,2,    17.23,2,     1.14,2,    1.562,2,    0.734,2, -999.000,9,-999.0000,9,  -999.00,9,   -999.0,9,   -999.0,9,-999.0000,-999.000,  -999.0,-999.000,  102592
      06MT30_3,  A01E,   530,  1,      1,   B025,2,19941203,0624, 55.9833, -27.1500, 2781,   2786.1,   2.7370,  34.9641,2,  34.9627,2,   -999.0,1,  2.5136,    270.2,2,    16.29,2,    16.80,2,     1.09,2,    1.747,2,    0.830,2,    1.144,2,   1.8034,2,     6.03,2,   -999.0,9,   -999.0,9,  0.0072,   0.016,  -999.0,   0.170,  102591
      06MT30_3,  A01E,   531,  1,      0,   -999,2,19941203,1157, 55.5300, -26.8017, 3186,      5.0,   9.1000,-999.0000,9,  34.7770,2,   -999.0,9,-999.0000,   -999.0,9,  -999.00,9,  -999.00,9,  -999.00,9, -999.000,9, -999.000,9, -999.000,9,-999.0000,9,  -999.00,9,   -999.0,9,   2095.8,2,-999.0000,-999.000,  -999.0,-999.000,    -999
      06MT30_3,  A01E,   531,  1,     24,   K012,2,19941203,1157, 55.5300, -26.8017, 3186,     19.3,   9.2210,  34.8529,2,  34.8520,2,   -999.0,1,  9.2189,    272.4,2,     2.52,2,     8.44,2,     0.59,2, -999.000,9, -999.000,9,    1.850,2,   1.7536,2,    -1.17,2,   -999.0,9,   2095.8,2,  0.0070,   0.034,  -999.0,   0.210,  102638
      06MT30_3,  A01E,   531,  1,     23,   K125,2,19941203,1157, 55.5300, -26.8017, 3186,     47.7,   9.2330,  34.8548,2,  34.8532,2,   -999.0,1,  9.2278,    271.8,2,     2.55,2,     8.67,2,     0.59,2, -999.000,9, -999.000,9, -999.000,5,   1.7517,2,    -1.49,2,   -999.0,9,   2096.3,2,  0.0070,-999.000,  -999.0,   0.220,  102637
      06MT30_3,  A01E,   531,  1,     22,   B023,2,19941203,1157, 55.5300, -26.8017, 3186,    147.3,   7.2560,  34.9184,2,  34.9172,2,   -999.0,1,  7.2420,    245.8,2,     7.95,2,    16.51,2,     1.03,2, -999.000,9, -999.000,9,    1.512,2,   1.8194,3,     3.06,4,   -999.0,9,   2145.6,2,  0.0073,   0.034,  -999.0,   0.220,  102636
      06MT30_3,  A01E,   531,  1,     21,   K040,2,19941203,1157, 55.5300, -26.8017, 3186,    247.3,   6.4240,  34.9071,2,  34.9049,2,   -999.0,1,  6.4019,    249.3,2,     8.89,2,    17.21,2,     1.07,2, -999.000,9, -999.000,9, -999.000,5,   1.7778,2,     1.66,2,   -999.0,9,   2150.9,2,  0.0071,-999.000,  -999.0,   0.220,  102635
      06MT30_3,  A01E,   531,  1,     20,   K097,2,19941203,1157, 55.5300, -26.8017, 3186,    397.9,   5.4950,  34.9288,2,  34.9281,2,   -999.0,1,  5.4618,    245.2,2,     9.82,2,    18.32,2,     1.14,2, -999.000,9, -999.000,9,    1.467,2,   1.7805,2,     3.79,2,   -999.0,9,   2159.7,2,  0.0071,   0.021,  -999.0,   0.230,  102634
      06MT30_3,  A01E,   531,  1,     19,   U015,2,19941203,1157, 55.5300, -26.8017, 3186,    547.3,   4.9350,  34.9488,2,  34.9484,2,   -999.0,1,  4.8911,    240.2,2,    10.63,2,    18.99,2,     1.18,2, -999.000,9, -999.000,9, -999.000,9,-999.0000,9,  -999.00,9,   -999.0,9,   -999.0,9,-999.0000,-999.000,  -999.0,-999.000,  102633
      06MT30_3,  A01E,   531,  1,     18,   B003,2,19941203,1157, 55.5300, -26.8017, 3186,    699.9,   4.4130,  34.9460,2,  34.9467,2,   -999.0,1,  4.3589,    251.5,2,    10.55,2,    18.65,2,     1.15,2, -999.000,9, -999.000,9, -999.000,9,-999.0000,9,  -999.00,9,   -999.0,9,   2163.0,2,-999.0000,-999.000,  -999.0,-999.000,  102632
      06MT30_3,  A01E,   531,  1,     17,   K124,2,19941203,1157, 55.5300, -26.8017, 3186,    845.9,   4.0300,  34.9242,2,  34.9243,2,   -999.0,1,  3.9662,    262.0,2,    10.32,2,    18.28,2,     1.14,2, -999.000,9, -999.000,9,    1.435,2,   1.7902,2,     7.13,2,   -999.0,9,   -999.0,9,  0.0072,   0.028,  -999.0,   0.230,  102631
      06MT30_3,  A01E,   531,  1,     16,   K114,2,19941203,1157, 55.5300, -26.8017, 3186,    996.9,   3.7760,  34.9083,2,  34.9076,2,   -999.0,1,  3.7016,    269.5,2,    10.21,2,    18.03,2,     1.11,2, -999.000,9, -999.000,9, -999.000,9,-999.0000,9,  -999.00,9,   -999.0,9,   -999.0,9,-999.0000,-999.000,  -999.0,-999.000,  102630
      06MT30_3,  A01E,   531,  1,     15,   U010,2,19941203,1157, 55.5300, -26.8017, 3186,   1146.9,   3.5770,  34.8948,2,  34.8944,2,   -999.0,1,  3.4919,    275.5,2,    10.15,2,    17.82,2,     1.11,2, -999.000,9, -999.000,9, -999.000,9,-999.0000,9,  -999.00,9,   -999.0,9,   -999.0,9,-999.0000,-999.000,  -999.0,-999.000,  102629
      06MT30_3,  A01E,   531,  1,     14,   U002,2,19941203,1157, 55.5300, -26.8017, 3186,   1298.9,   3.4410,  34.8877,2,  34.8876,2,   -999.0,1,  3.3445,    279.0,2,    10.14,2,    17.58,2,     1.09,2, -999.000,9, -999.000,9, -999.000,5,   1.7925,2,     7.49,2,   -999.0,9,   -999.0,9,  0.0072,-999.000,  -999.0,   0.230,  102628
      06MT30_3,  A01E,   531,  1,     13,   B009,2,19941203,1157, 55.5300, -26.8017, 3186,   1499.0,   3.3320,  34.8837,2,  34.8835,2,   -999.0,1,  3.2197,    282.0,2,    10.17,2,    17.40,2,     1.10,2, -999.000,9, -999.000,9, -999.000,9,-999.0000,9,  -999.00,9,   -999.0,9,   2151.2,2,-999.0000,-999.000,  -999.0,-999.000,  102627
      06MT30_3,  A01E,   531,  1,     12,   K117,2,19941203,1157, 55.5300, -26.8017, 3186,   1700.7,   3.3100,  34.8960,2,  34.8955,2,   -999.0,1,  3.1802,    279.8,2,    10.51,2,    17.32,2,     1.08,2, -999.000,9, -999.000,9,    1.126,3,   1.8659,2,     6.95,3,   -999.0,9,   -999.0,9,  0.0075,   0.019,  -999.0,   0.230,  102626
      06MT30_3,  A01E,   531,  1,     11,   B008,2,19941203,1157, 55.5300, -26.8017, 3186,   1902.3,   3.3250,  34.9233,2,  34.9226,2,   -999.0,1,  3.1767,    275.7,2,    11.20,2,    17.22,2,     1.08,2, -999.000,9, -999.000,9, -999.000,9,-999.0000,9,  -999.00,9,   -999.0,9,   -999.0,9,-999.0000,-999.000,  -999.0,-999.000,  102625
      06MT30_3,  A01E,   531,  1,     10,   K115,2,19941203,1157, 55.5300, -26.8017, 3186,   2100.8,   3.2950,  34.9429,2,  34.9437,2,   -999.0,1,  3.1286,    273.0,2,    11.78,2,    17.15,2,     1.07,2, -999.000,9, -999.000,9,    1.096,2,   1.8068,2,     7.42,2,   -999.0,9,   2153.7,2,  0.0072,   0.024,  -999.0,   0.230,  102624
      06MT30_3,  A01E,   531,  1,      9,   K036,2,19941203,1157, 55.5300, -26.8017, 3186,   2250.1,   3.2050,  34.9494,2,  34.9500,2,   -999.0,1,  3.0257,    271.9,2,    12.55,2,    17.11,2,     1.09,2, -999.000,9, -999.000,9, -999.000,9,-999.0000,9,  -999.00,9,   -999.0,9,   -999.0,9,-999.0000,-999.000,  -999.0,-999.000,  102623
      06MT30_3,  A01E,   531,  1,      8,   B026,2,19941203,1157, 55.5300, -26.8017, 3186,   2405.2,   3.1120,  34.9557,2,  34.9556,2,   -999.0,1,  2.9193,    271.1,2,    13.46,2,    17.11,2,     1.08,2, -999.000,9, -999.000,9, -999.000,9,-999.0000,9,  -999.00,9,   -999.0,9,   -999.0,9,-999.0000,-999.000,  -999.0,-999.000,  102622
      06MT30_3,  A01E,   531,  1,      7,   B004,2,19941203,1157, 55.5300, -26.8017, 3186,   2553.0,   3.0240,  34.9568,2,  34.9560,2,   -999.0,1,  2.8183,    270.1,2,    14.78,2,    17.24,2,     1.09,2, -999.000,9, -999.000,9,    0.902,2,   1.8014,2,     7.55,2,   -999.0,9,   -999.0,9,  0.0072,   0.014,  -999.0,   0.230,  102621
      06MT30_3,  A01E,   531,  1,      6,   U006,2,19941203,1157, 55.5300, -26.8017, 3186,   2702.9,   2.9510,  34.9581,2,  34.9574,2,   -999.0,1,  2.7317,    268.6,2,    16.15,2,    17.43,2,     1.11,2, -999.000,9, -999.000,9, -999.000,9,-999.0000,9,  -999.00,9,   -999.0,9,   -999.0,9,-999.0000,-999.000,  -999.0,-999.000,  102620
      06MT30_3,  A01E,   531,  1,      5,   U023,2,19941203,1157, 55.5300, -26.8017, 3186,   2853.7,   2.8680,  34.9558,2,  34.9545,2,   -999.0,1,  2.6351,    266.1,2,    18.39,2,    17.80,2,     1.12,2, -999.000,9, -999.000,9, -999.000,9,-999.0000,9,  -999.00,9,   -999.0,9,   -999.0,9,-999.0000,-999.000,  -999.0,-999.000,  102619
      06MT30_3,  A01E,   531,  1,      4,   K056,2,19941203,1157, 55.5300, -26.8017, 3186,   3003.3,   2.8100,  34.9535,2,  34.9530,2,   -999.0,1,  2.5629,    264.0,2,    20.47,2,    18.02,2,     1.15,2, -999.000,9, -999.000,9, -999.000,9,-999.0000,9,  -999.00,9,   -999.0,9,   -999.0,9,-999.0000,-999.000,  -999.0,-999.000,  102618
      06MT30_3,  A01E,   531,  1,      3,   U018,2,19941203,1157, 55.5300, -26.8017, 3186,   3103.4,   2.7640,  34.9506,2,  34.9495,2,   -999.0,1,  2.5075,    261.7,2,    22.52,2,    18.40,2,     1.18,2, -999.000,9, -999.000,9, -999.000,9,-999.0000,9,  -999.00,9,   -999.0,9,   -999.0,9,-999.0000,-999.000,  -999.0,-999.000,  102617
      06MT30_3,  A01E,   531,  1,      2,   U022,2,19941203,1157, 55.5300, -26.8017, 3186,   3155.4,   2.7310,  34.9480,2,  34.9470,2,   -999.0,1,  2.4698,    259.5,2,    24.55,2,    18.72,2,     1.20,2, -999.000,9, -999.000,9, -999.000,9,-999.0000,9,  -999.00,9,   -999.0,9,   -999.0,9,-999.0000,-999.000,  -999.0,-999.000,  102616
      06MT30_3,  A01E,   531,  1,      1,   B025,2,19941203,1157, 55.5300, -26.8017, 3186,   3204.4,   2.7310,  34.9471,2,  34.9457,2,   -999.0,1,  2.4646,    258.9,2,    25.05,2,    18.57,2,     1.25,2, -999.000,9, -999.000,9, -999.000,5,   1.8088,2,     5.37,2,   -999.0,9,   2176.1,2,  0.0072,-999.000,  -999.0,   0.200,  102615