BOTTLE,20060322WHPSIOSA
EXPOCODE,SECT_ID,STNNBR,CASTNO,SAMPNO,BTLNBR,BTLNBR_FLAG_W,DATE,TIME,LATITUDE,LONGITUDE,DEPTH,CTDPRS,CTDTMP,CTDSAL,CTDSAL_FLAG_W,SALNTY,SALNTY_FLAG_W,CTDOXY,CTDOXY_FLAG_W,THETA,OXYGEN,OXYGEN_FLAG_W,SILCAT,SILCAT_FLAG_W,NO2+NO3,NO2+NO3_FLAG_W,PHSPHT,PHSPHT_FLAG_W,CFC-11,CFC-11_FLAG_W,CFC-12,CFC-12_FLAG_W,TRITUM,TRITUM_FLAG_W,HELIUM,HELIUM_FLAG_W,DELHE3,DELHE3_FLAG_W,DELC14,DELC14_FLAG_W,TCARBN,TCARBN_FLAG_W,HELIER,TRITER,C14ERR,DELHER,BEDFORT
,,,,,,,,,,,,DBAR,ITS-90,PSS-78,,PSS-78,,UMOL/KG,,ITS-90,UMOL/KG,,UMOL/KG,,UMOL/KG,,UMOL/KG,,PMOL/KG,,PMOL/KG,,TU,,NMOL/KG,,PERCNT,,/MILLE,,UMOL/KG,,NMOL/KG,TU,/MILLE,PERCNT,NUM
      06MT30_3,  A01E,   523,  1,      0,   -999,2,19941130,1852, 58.2400, -29.7267, 2269,      5.0,   7.4000,-999.0000,9,  35.1380,2,   -999.0,9,-999.0000,   -999.0,9,  -999.00,9,  -999.00,9,  -999.00,9, -999.000,9, -999.000,9, -999.000,9,-999.0000,9,  -999.00,9,   -999.0,9,   2124.3,2,-999.0000,-999.000,  -999.0,-999.000,    -999
      06MT30_3,  A01E,   523,  1,     24,   K012,2,19941130,1852, 58.2400, -29.7267, 2269,     24.0,   7.7220,  35.0093,2,  35.0086,2,   -999.0,1,  7.7196,    275.6,2,     5.49,2,    12.90,2,     0.88,2,    4.004,3,    2.062,3, -999.000,9,-999.0000,9,  -999.00,9,   -999.0,9,   2129.6,2,-999.0000,-999.000,  -999.0,-999.000,  102470
      06MT30_3,  A01E,   523,  1,     23,   K125,2,19941130,1852, 58.2400, -29.7267, 2269,     50.2,   7.7210,  35.0092,2,  35.0094,2,   -999.0,1,  7.7161,    275.9,2,     5.52,2,    12.90,2,     0.88,2, -999.000,9, -999.000,9, -999.000,9,-999.0000,9,  -999.00,9,   -999.0,9,   2126.6,2,-999.0000,-999.000,  -999.0,-999.000,  102469
      06MT30_3,  A01E,   523,  1,     22,   B023,2,19941130,1852, 58.2400, -29.7267, 2269,    100.1,   7.7110,  35.0078,2,  35.0080,2,   -999.0,1,  7.7011,    274.4,2,     5.61,2,    13.07,2,     0.91,2, -999.000,9, -999.000,9, -999.000,9,-999.0000,9,  -999.00,9,   -999.0,9,   2127.4,2,-999.0000,-999.000,  -999.0,-999.000,  102468
      06MT30_3,  A01E,   523,  1,     21,   K040,2,19941130,1852, 58.2400, -29.7267, 2269,    150.1,   7.4240,  35.0414,2,  35.0386,2,   -999.0,1,  7.4095,    261.0,2,     7.65,2,    15.51,2,     1.09,2,    3.819,2,    1.905,2,    1.658,2,   1.7604,2,     0.25,2,   -999.0,9,   2145.7,2,  0.0070,   0.037,  -999.0,   0.130,  102467
      06MT30_3,  A01E,   523,  1,     20,   K097,2,19941130,1852, 58.2400, -29.7267, 2269,    249.3,   7.0830,  35.0639,2,  35.0629,2,   -999.0,1,  7.0594,    265.2,2,     7.64,2,    15.71,2,     1.05,2, -999.000,9, -999.000,9, -999.000,9,-999.0000,9,  -999.00,9,   -999.0,9,   2146.5,2,-999.0000,-999.000,  -999.0,-999.000,  102466
      06MT30_3,  A01E,   523,  1,     19,   U015,2,19941130,1852, 58.2400, -29.7267, 2269,    349.5,   6.9570,  35.0978,2,  35.1000,2,   -999.0,1,  6.9240,    271.3,2,     7.24,2,    15.39,2,     1.02,2,    3.907,2,    1.963,2, -999.000,9,-999.0000,9,  -999.00,9,   -999.0,9,   -999.0,9,-999.0000,-999.000,  -999.0,-999.000,  102465
      06MT30_3,  A01E,   523,  1,     18,   B003,2,19941130,1852, 58.2400, -29.7267, 2269,    447.0,   6.6460,  35.0711,2,  35.0719,2,   -999.0,1,  6.6045,    271.7,2,     7.61,2,    15.75,2,     1.03,2,    4.065,2,    2.042,2,    1.773,2,   1.7489,2,    -0.11,2,   -999.0,9,   -999.0,9,  0.0070,   0.015,  -999.0,   0.140,  102464
      06MT30_3,  A01E,   523,  1,     17,   K124,3,19941130,1852, 58.2400, -29.7267, 2269,    600.5,   6.4810,  35.0747,2,  35.0690,3,   -999.0,1,  6.4254,   -999.0,9,     7.46,3,    15.57,3,     1.03,3, -999.000,9, -999.000,9, -999.000,9,-999.0000,9,  -999.00,9,   -999.0,9,   -999.0,9,-999.0000,-999.000,  -999.0,-999.000,  102463
      06MT30_3,  A01E,   523,  1,     16,   K114,2,19941130,1852, 58.2400, -29.7267, 2269,    748.7,   5.7960,  35.0209,2,  35.0205,2,   -999.0,1,  5.7298,    249.2,2,     9.72,2,    17.81,2,     1.17,2,    3.047,2,    1.498,2,    1.577,2,   1.7688,2,     4.04,2,   -999.0,9,   -999.0,9,  0.0071,   0.031,  -999.0,   0.130,  102462
      06MT30_3,  A01E,   523,  1,     15,   U010,2,19941130,1852, 58.2400, -29.7267, 2269,    899.9,   4.8790,  34.9758,2,  34.9769,2,   -999.0,1,  4.8048,    246.6,2,    10.72,2,    18.63,2,     1.22,2, -999.000,9, -999.000,9, -999.000,9,-999.0000,9,  -999.00,9,   -999.0,9,   -999.0,9,-999.0000,-999.000,  -999.0,-999.000,  102461
      06MT30_3,  A01E,   523,  1,     14,   U002,2,19941130,1852, 58.2400, -29.7267, 2269,   1050.2,   4.3420,  34.9521,2,  34.9478,2,   -999.0,1,  4.2586,    259.2,2,    10.41,2,    18.04,2,     1.17,2,    2.548,2,    1.215,2,    1.388,2,   1.7825,2,     6.86,2,   -999.0,9,   2160.2,2,  0.0071,   0.027,  -999.0,   0.130,  102460
      06MT30_3,  A01E,   523,  1,     13,   B009,2,19941130,1852, 58.2400, -29.7267, 2269,   1201.7,   3.9170,  34.9260,2,  34.9266,2,   -999.0,1,  3.8242,    268.6,2,    10.34,2,    17.69,2,     1.17,2,    2.382,2,    1.140,2, -999.000,9,-999.0000,9,  -999.00,9,   -999.0,9,   -999.0,9,-999.0000,-999.000,  -999.0,-999.000,  102459
      06MT30_3,  A01E,   523,  1,     12,   K117,2,19941130,1852, 58.2400, -29.7267, 2269,   1302.1,   3.8200,  34.9284,2,  34.9298,2,   -999.0,1,  3.7194,    272.1,2,    10.17,2,    17.38,2,     1.14,2, -999.000,9, -999.000,9,    1.441,2,   1.7812,2,     7.23,2,   -999.0,9,   -999.0,9,  0.0071,   0.026,  -999.0,   0.130,  102458
      06MT30_3,  A01E,   523,  1,     11,   B008,2,19941130,1852, 58.2400, -29.7267, 2269,   1399.8,   3.6300,  34.9196,2,  34.9212,2,   -999.0,1,  3.5229,    275.5,2,    10.35,2,    17.29,2,     1.15,2,    2.269,2,    1.106,2, -999.000,9,-999.0000,9,  -999.00,9,   -999.0,9,   -999.0,9,-999.0000,-999.000,  -999.0,-999.000,  102457
      06MT30_3,  A01E,   523,  1,     10,   K115,2,19941130,1852, 58.2400, -29.7267, 2269,   1494.2,   3.5490,  34.9280,2,  34.9275,2,   -999.0,1,  3.4345,    275.3,2,    10.54,2,    17.06,2,     1.12,2, -999.000,9, -999.000,9, -999.000,9,-999.0000,9,  -999.00,9,   -999.0,9,   -999.0,9,-999.0000,-999.000,  -999.0,-999.000,  102456
      06MT30_3,  A01E,   523,  1,      9,   K036,2,19941130,1852, 58.2400, -29.7267, 2269,   1598.8,   3.4850,  34.9421,2,  34.9413,2,   -999.0,1,  3.3620,    274.4,2,    10.83,2,    16.89,2,     1.12,2,    1.960,2,    0.920,2,    1.305,2,   1.7842,2,     7.38,2,   -999.0,9,   2154.6,2,  0.0071,   0.027,  -999.0,   0.130,  102455
      06MT30_3,  A01E,   523,  1,      8,   U017,2,19941130,1852, 58.2400, -29.7267, 2269,   1693.6,   3.4080,  34.9647,2,  34.9645,2,   -999.0,1,  3.2774,    274.9,2,    10.59,2,    16.39,2,     1.10,2, -999.000,9, -999.000,9, -999.000,9,-999.0000,9,  -999.00,9,   -999.0,9,   -999.0,9,-999.0000,-999.000,  -999.0,-999.000,  102454
      06MT30_3,  A01E,   523,  1,      7,   B004,2,19941130,1852, 58.2400, -29.7267, 2269,   1799.9,   3.2490,  34.9678,2,  34.9672,2,   -999.0,1,  3.1110,    275.2,2,    10.93,2,    16.33,2,     1.09,2, -999.000,9, -999.000,9, -999.000,9,-999.0000,9,  -999.00,9,   -999.0,9,   -999.0,9,-999.0000,-999.000,  -999.0,-999.000,  102453
      06MT30_3,  A01E,   523,  1,      6,   U006,2,19941130,1852, 58.2400, -29.7267, 2269,   1899.1,   3.0840,  34.9694,2,  34.9691,2,   -999.0,1,  2.9393,    274.2,2,    11.59,2,    16.35,2,     1.09,2,    2.093,2,    0.998,2, -999.000,9,-999.0000,9,  -999.00,9,   -999.0,9,   -999.0,9,-999.0000,-999.000,  -999.0,-999.000,  102452
      06MT30_3,  A01E,   523,  1,      5,   U023,2,19941130,1852, 58.2400, -29.7267, 2269,   2001.7,   2.9690,  34.9697,2,  34.9690,2,   -999.0,1,  2.8167,    275.1,2,    11.81,2,    16.32,2,     1.08,2, -999.000,9, -999.000,9,    1.227,2,   1.7908,2,     6.14,2,   -999.0,9,   -999.0,9,  0.0072,   0.027,  -999.0,   0.120,  102451
      06MT30_3,  A01E,   523,  1,      4,   K056,2,19941130,1852, 58.2400, -29.7267, 2269,   2101.1,   2.8870,  34.9692,2,  34.9683,2,   -999.0,1,  2.7268,    276.0,2,    11.87,2,    16.22,2,     1.10,2,    2.208,2,    1.031,2, -999.000,9,-999.0000,9,  -999.00,9,   -999.0,9,   -999.0,9,-999.0000,-999.000,  -999.0,-999.000,  102450
      06MT30_3,  A01E,   523,  1,      3,   U018,2,19941130,1852, 58.2400, -29.7267, 2269,   2199.3,   2.8360,  34.9689,2,  34.9682,2,   -999.0,1,  2.6676,    275.8,2,    11.98,2,    16.18,2,     1.09,2, -999.000,9, -999.000,9,    1.227,2,   1.7904,2,     6.08,2,   -999.0,9,   2160.0,2,  0.0072,   0.029,  -999.0,   0.130,  102449
      06MT30_3,  A01E,   523,  1,      2,   U022,2,19941130,1852, 58.2400, -29.7267, 2269,   2244.1,   2.8180,  34.9683,2,  34.9665,2,   -999.0,1,  2.6457,    276.5,2,    11.86,2,    16.18,2,     1.08,2, -999.000,9, -999.000,9, -999.000,9,-999.0000,9,  -999.00,9,   -999.0,9,   -999.0,9,-999.0000,-999.000,  -999.0,-999.000,  102448
      06MT30_3,  A01E,   523,  1,      1,   B025,2,19941130,1852, 58.2400, -29.7267, 2269,   2276.7,   2.8090,  34.9684,2,  34.9682,2,   -999.0,1,  2.6338,    275.9,2,    11.98,2,    16.16,2,     1.08,2,    2.197,2,    1.026,2, -999.000,5,   1.7917,2,     5.90,2,   -999.0,9,   -999.0,9,  0.0072,-999.000,  -999.0,   0.140,  102447
      06MT30_3,  A01E,   524,  1,      0,   -999,2,19941201,0029, 57.9617, -29.1883, 2210,      5.0,   7.8000,-999.0000,9,  34.8130,2,   -999.0,9,-999.0000,   -999.0,9,  -999.00,9,  -999.00,9,  -999.00,9, -999.000,9, -999.000,9, -999.000,9,-999.0000,9,  -999.00,9,   -999.0,9,   2122.9,2,-999.0000,-999.000,  -999.0,-999.000,    -999
      06MT30_3,  A01E,   524,  1,     23,   K125,2,19941201,0029, 57.9617, -29.1883, 2210,     20.0,   7.9600,  35.0271,2,  35.0266,2,   -999.0,1,  7.9580,    277.0,2,     4.93,2,    12.17,2,     0.82,2,    4.072,2,    1.993,2, -999.000,9,-999.0000,9,  -999.00,9,   -999.0,9,   2122.2,2,-999.0000,-999.000,  -999.0,-999.000,  102493
      06MT30_3,  A01E,   524,  1,     22,   B023,2,19941201,0029, 57.9617, -29.1883, 2210,     49.5,   7.9640,  35.0273,2,  35.0267,2,   -999.0,1,  7.9590,    276.9,2,     4.92,2,    12.21,2,     0.82,2, -999.000,9, -999.000,9, -999.000,9,-999.0000,9,  -999.00,9,   -999.0,9,   2123.6,2,-999.0000,-999.000,  -999.0,-999.000,  102492
      06MT30_3,  A01E,   524,  1,     21,   K040,2,19941201,0029, 57.9617, -29.1883, 2210,    101.6,   7.9700,  35.0275,2,  35.0271,2,   -999.0,1,  7.9598,    276.9,2,     4.96,2,    12.32,2,     0.83,2,    4.055,2,    2.046,2, -999.000,9,-999.0000,9,  -999.00,9,   -999.0,9,   2122.8,2,-999.0000,-999.000,  -999.0,-999.000,  102491
      06MT30_3,  A01E,   524,  1,     20,   K097,2,19941201,0029, 57.9617, -29.1883, 2210,    249.9,   7.1040,  35.0555,2,  35.0559,2,   -999.0,1,  7.0803,    263.7,2,     7.81,2,    15.95,2,     1.03,2, -999.000,9, -999.000,9,    1.708,2,   1.7613,2,     0.36,2,   -999.0,9,   2146.9,2,  0.0070,   0.042,  -999.0,   0.120,  102490
      06MT30_3,  A01E,   524,  1,     19,   U015,2,19941201,0029, 57.9617, -29.1883, 2210,    347.5,   6.9060,  35.0860,2,  35.0860,2,   -999.0,1,  6.8733,    270.4,2,     7.60,2,    15.73,2,     1.02,2,    3.939,2,    1.961,2, -999.000,9,-999.0000,9,  -999.00,9,   -999.0,9,   2146.4,2,-999.0000,-999.000,  -999.0,-999.000,  102489
      06MT30_3,  A01E,   524,  1,     18,   B003,2,19941201,0029, 57.9617, -29.1883, 2210,    448.9,   6.6290,  35.0783,2,  35.0783,2,   -999.0,1,  6.5874,    270.8,2,     7.81,2,    15.92,2,     1.03,2, -999.000,9, -999.000,9, -999.000,9,-999.0000,9,  -999.00,9,   -999.0,9,   2146.8,2,-999.0000,-999.000,  -999.0,-999.000,  102488
      06MT30_3,  A01E,   524,  1,     17,   K124,2,19941201,0029, 57.9617, -29.1883, 2210,    548.7,   6.3570,  35.0666,2,  35.0668,2,   -999.0,1,  6.3069,    269.7,2,     8.09,2,    16.19,2,     1.04,2,    3.695,2,    1.860,2,    1.674,2,-999.0000,5,  -999.00,5,   -999.0,9,   -999.0,9,-999.0000,   0.033,  -999.0,-999.000,  102487
      06MT30_3,  A01E,   524,  1,     16,   K114,2,19941201,0029, 57.9617, -29.1883, 2210,    701.4,   5.3860,  34.9915,2,  34.9950,2,   -999.0,1,  5.3264,    243.8,2,    10.61,2,    18.47,2,     1.19,2, -999.000,9, -999.000,9, -999.000,9,-999.0000,9,  -999.00,9,   -999.0,9,   -999.0,9,-999.0000,-999.000,  -999.0,-999.000,  102486
      06MT30_3,  A01E,   524,  1,     15,   U010,2,19941201,0029, 57.9617, -29.1883, 2210,    847.6,   4.5800,  34.9535,2,  34.9529,2,   -999.0,1,  4.5124,    248.9,2,    11.20,2,    18.84,2,     1.22,2,    2.408,2,    1.117,2, -999.000,9,-999.0000,9,  -999.00,9,   -999.0,9,   -999.0,9,-999.0000,-999.000,  -999.0,-999.000,  102485
      06MT30_3,  A01E,   524,  1,     14,   U002,2,19941201,0029, 57.9617, -29.1883, 2210,    998.4,   4.1310,  34.9287,2,  34.9297,2,   -999.0,1,  4.0538,    259.6,2,    11.03,2,    18.46,2,     1.20,2, -999.000,9, -999.000,9,    1.331,3,   1.7806,2,     7.45,2,   -999.0,9,   2164.2,2,  0.0071,   0.023,  -999.0,   0.130,  102484
      06MT30_3,  A01E,   524,  1,     13,   B009,2,19941201,0029, 57.9617, -29.1883, 2210,   1097.7,   3.8820,  34.9125,2,  34.9137,2,   -999.0,1,  3.7984,    266.6,2,    10.82,2,    18.17,2,     1.18,2, -999.000,9, -999.000,9, -999.000,9,-999.0000,9,  -999.00,9,   -999.0,9,   -999.0,9,-999.0000,-999.000,  -999.0,-999.000,  102483
      06MT30_3,  A01E,   524,  1,     12,   K117,2,19941201,0029, 57.9617, -29.1883, 2210,   1199.3,   3.7120,  34.9033,2,  34.9028,2,   -999.0,1,  3.6213,    272.0,2,    10.70,2,    17.92,2,     1.16,2,    2.394,2,    1.095,2, -999.000,9,-999.0000,9,  -999.00,9,   -999.0,9,   -999.0,9,-999.0000,-999.000,  -999.0,-999.000,  102482
      06MT30_3,  A01E,   524,  1,     11,   B008,2,19941201,0029, 57.9617, -29.1883, 2210,   1298.6,   3.5200,  34.8924,2,  34.8924,2,   -999.0,1,  3.4228,    276.9,2,    10.61,2,    17.67,2,     1.15,2, -999.000,9, -999.000,9,    1.364,2,   1.7805,2,     7.86,2,   -999.0,9,   -999.0,9,  0.0071,   0.025,  -999.0,   0.120,  102481
      06MT30_3,  A01E,   524,  1,     10,   K115,2,19941201,0029, 57.9617, -29.1883, 2210,   1399.7,   3.4640,  34.8959,2,  34.8959,2,   -999.0,1,  3.3587,    278.2,2,    10.66,2,    17.53,2,     1.14,2,    2.243,2,    1.041,2, -999.000,9,-999.0000,9,  -999.00,9,   -999.0,9,   -999.0,9,-999.0000,-999.000,  -999.0,-999.000,  102480
      06MT30_3,  A01E,   524,  1,      9,   K036,2,19941201,0029, 57.9617, -29.1883, 2210,   1498.6,   3.4520,  34.9070,2,  34.9063,2,   -999.0,1,  3.3383,    277.7,2,    10.80,2,    17.38,2,     1.14,2, -999.000,9, -999.000,9,    1.293,2,   1.7931,2,     8.08,2,   -999.0,9,   -999.0,9,  0.0072,   0.027,  -999.0,   0.130,  102479
      06MT30_3,  A01E,   524,  1,      8,   U017,2,19941201,0029, 57.9617, -29.1883, 2210,   1602.1,   3.3760,  34.9146,2,  34.9144,2,   -999.0,1,  3.2541,    277.0,2,    11.23,2,    17.38,2,     1.14,2,    1.861,2,    0.898,2, -999.000,9,-999.0000,9,  -999.00,9,   -999.0,9,   2155.8,2,-999.0000,-999.000,  -999.0,-999.000,  102478
      06MT30_3,  A01E,   524,  1,      7,   B004,2,19941201,0029, 57.9617, -29.1883, 2210,   1699.1,   3.3600,  34.9320,2,  34.9316,2,   -999.0,1,  3.2296,    274.4,2,    11.79,2,    17.26,2,     1.14,2, -999.000,9, -999.000,9,    1.231,2,   1.8159,2,     7.73,2,   -999.0,9,   -999.0,9,  0.0073,   0.027,  -999.0,   0.120,  102477
      06MT30_3,  A01E,   524,  1,      6,   U006,2,19941201,0029, 57.9617, -29.1883, 2210,   1797.8,   3.2900,  34.9491,2,  34.9482,2,   -999.0,1,  3.1516,    272.5,2,    12.45,2,    17.11,2,     1.12,2,    1.540,2,    0.706,2, -999.000,9,-999.0000,9,  -999.00,9,   -999.0,9,   -999.0,9,-999.0000,-999.000,  -999.0,-999.000,  102476
      06MT30_3,  A01E,   524,  1,      5,   U023,2,19941201,0029, 57.9617, -29.1883, 2210,   1902.2,   3.1490,  34.9585,2,  34.9582,2,   -999.0,1,  3.0031,    271.2,2,    13.55,2,    17.04,2,     1.12,2,    1.525,2,    0.683,2,    0.990,2,   1.7958,2,     7.15,2,   -999.0,9,   -999.0,9,  0.0072,   0.024,  -999.0,   0.120,  102475
      06MT30_3,  A01E,   524,  1,      4,   K056,2,19941201,0029, 57.9617, -29.1883, 2210,   2001.2,   2.9670,  34.9671,2,  34.9666,2,   -999.0,1,  2.8147,    273.0,2,    13.44,2,    16.71,2,     1.10,2,    1.785,2,    0.849,2, -999.000,9,-999.0000,9,  -999.00,9,   -999.0,9,   -999.0,9,-999.0000,-999.000,  -999.0,-999.000,  102474
      06MT30_3,  A01E,   524,  1,      3,   U018,2,19941201,0029, 57.9617, -29.1883, 2210,   2099.7,   2.7810,  34.9658,2,  34.9653,2,   -999.0,1,  2.6226,    272.8,2,    14.72,2,    16.74,2,     1.10,2, -999.000,9, -999.000,9,    1.127,2,-999.0000,5,  -999.00,5,   -999.0,9,   -999.0,9,-999.0000,   0.014,  -999.0,-999.000,  102473
      06MT30_3,  A01E,   524,  1,      2,   U022,2,19941201,0029, 57.9617, -29.1883, 2210,   2150.4,   2.7250,  34.9664,2,  34.9654,2,   -999.0,1,  2.5629,    273.9,2,    13.95,2,    16.46,2,     1.09,2,    2.019,2,    1.002,2,    1.215,2,-999.0000,5,  -999.00,5,   -999.0,9,   -999.0,9,-999.0000,   0.014,  -999.0,-999.000,  102472
      06MT30_3,  A01E,   524,  1,      1,   B025,2,19941201,0029, 57.9617, -29.1883, 2210,   2209.7,   2.6460,  34.9663,2,  34.9657,2,   -999.0,1,  2.4797,    276.9,2,    12.58,2,    16.12,2,     1.07,2,    2.261,2,    1.068,2,    1.280,2,   1.7923,2,     5.89,2,   -999.0,9,   2162.4,2,  0.0072,   0.025,  -999.0,   0.110,  102471