BOTTLE,20060322WHPSIOSA
EXPOCODE,SECT_ID,STNNBR,CASTNO,SAMPNO,BTLNBR,BTLNBR_FLAG_W,DATE,TIME,LATITUDE,LONGITUDE,DEPTH,CTDPRS,CTDTMP,CTDSAL,CTDSAL_FLAG_W,SALNTY,SALNTY_FLAG_W,CTDOXY,CTDOXY_FLAG_W,THETA,OXYGEN,OXYGEN_FLAG_W,SILCAT,SILCAT_FLAG_W,NO2+NO3,NO2+NO3_FLAG_W,PHSPHT,PHSPHT_FLAG_W,CFC-11,CFC-11_FLAG_W,CFC-12,CFC-12_FLAG_W,TRITUM,TRITUM_FLAG_W,HELIUM,HELIUM_FLAG_W,DELHE3,DELHE3_FLAG_W,DELC14,DELC14_FLAG_W,TCARBN,TCARBN_FLAG_W,HELIER,TRITER,C14ERR,DELHER,BEDFORT
,,,,,,,,,,,,DBAR,ITS-90,PSS-78,,PSS-78,,UMOL/KG,,ITS-90,UMOL/KG,,UMOL/KG,,UMOL/KG,,UMOL/KG,,PMOL/KG,,PMOL/KG,,TU,,NMOL/KG,,PERCNT,,/MILLE,,UMOL/KG,,NMOL/KG,TU,/MILLE,PERCNT,NUM
      06MT30_3,  A01W,   498,  2,     24,   K012,2,19941122,1430, 59.0433, -49.9950, 3480,     19.5,   4.7610,  34.6252,2,  34.6247,2,   -999.0,1,  4.7595,    300.7,2,     3.95,2,    10.86,2,     0.74,2,    5.021,2,    2.523,2, -999.000,9,-999.0000,9,  -999.00,9,   -999.0,9,   -999.0,9,-999.0000,-999.000,  -999.0,-999.000,  101918
      06MT30_3,  A01W,   498,  2,     23,   K125,2,19941122,1430, 59.0433, -49.9950, 3480,     50.4,   4.7680,  34.6256,2,  34.6251,2,   -999.0,1,  4.7642,    300.8,2,     3.95,2,    10.92,2,     0.74,2,    4.523,2,    2.234,2, -999.000,9,-999.0000,9,  -999.00,9,      7.8,3,   -999.0,9,-999.0000,-999.000,     5.1,-999.000,  101917
      06MT30_3,  A01W,   498,  2,     22,   B023,2,19941122,1430, 59.0433, -49.9950, 3480,    100.8,   5.1010,  34.8500,2,  34.8646,2,   -999.0,1,  5.0931,    285.4,2,     6.88,2,    15.13,2,     0.96,2, -999.000,9, -999.000,9, -999.000,9,-999.0000,9,  -999.00,9,   -999.0,9,   -999.0,9,-999.0000,-999.000,  -999.0,-999.000,  101916
      06MT30_3,  A01W,   498,  2,     21,   K040,2,19941122,1430, 59.0433, -49.9950, 3480,    198.5,   4.1520,  34.8945,2,  34.8921,2,   -999.0,1,  4.1378,    287.0,2,     8.66,2,    16.80,2,     1.05,2,    4.196,2,    2.085,2, -999.000,5,   1.7818,2,     0.55,2,   -999.0,9,   -999.0,9,  0.0071,-999.000,  -999.0,   0.140,  101915
      06MT30_3,  A01W,   498,  2,     20,   K097,2,19941122,1430, 59.0433, -49.9950, 3480,    348.7,   3.4440,  34.8588,2,  34.8583,2,   -999.0,1,  3.4207,    293.9,2,     8.95,2,    16.93,2,     1.07,2, -999.000,9, -999.000,9,    1.638,2,   1.7993,2,     0.88,2,     -1.1,3,   -999.0,9,  0.0072,   0.027,     5.2,   0.180,  101914
      06MT30_3,  A01W,   498,  2,     19,   K126,2,19941122,1430, 59.0433, -49.9950, 3480,    500.4,   3.2320,  34.8596,2,  34.8588,2,   -999.0,1,  3.1988,    295.1,2,     9.19,2,    17.03,2,     1.06,2,    4.029,2,    1.978,2,    1.604,2,   1.7930,2,     1.62,2,    -20.5,4,   -999.0,9,  0.0072,   0.025,     5.2,   0.140,  101913
      06MT30_3,  A01W,   498,  2,     18,   B003,2,19941122,1430, 59.0433, -49.9950, 3480,    697.5,   3.0530,  34.8501,2,  34.8489,2,   -999.0,1,  3.0066,    296.4,2,     9.33,2,    17.10,2,     1.07,2,    3.959,2,    1.928,2,    1.645,2,   1.7949,2,     1.51,2,     -7.8,4,   -999.0,9,  0.0072,   0.030,     5.1,   0.160,  101912
      06MT30_3,  A01W,   498,  2,     17,   K124,2,19941122,1430, 59.0433, -49.9950, 3480,    898.5,   2.9240,  34.8413,2,  34.8409,2,   -999.0,1,  2.8637,    298.2,2,     9.32,2,    17.01,2,     1.07,2, -999.000,9, -999.000,9,    1.698,2,   1.7904,2,     1.98,2,    -13.0,4,   -999.0,9,  0.0072,   0.034,     6.4,   0.140,  101911
      06MT30_3,  A01W,   498,  2,     16,   K114,2,19941122,1430, 59.0433, -49.9950, 3480,   1099.4,   2.8560,  34.8352,2,  34.8357,2,   -999.0,1,  2.7811,    299.1,2,     9.30,2,    16.95,2,     1.06,2,    3.969,2,    1.942,2,    1.671,2,   1.7889,2,     2.12,2,     -2.0,2,   -999.0,9,  0.0072,   0.028,     5.3,   0.140,  101910
      06MT30_3,  A01W,   498,  2,     15,   U010,2,19941122,1430, 59.0433, -49.9950, 3480,   1280.8,   2.8270,  34.8333,2,  34.8341,2,   -999.0,1,  2.7382,    299.7,2,     9.26,2,    16.92,2,     1.07,2, -999.000,9, -999.000,9, -999.000,9,-999.0000,9,  -999.00,9,   -999.0,9,   -999.0,9,-999.0000,-999.000,  -999.0,-999.000,  101909
      06MT30_3,  A01W,   498,  2,     14,   U002,2,19941122,1430, 59.0433, -49.9950, 3480,   1501.1,   2.8110,  34.8312,2,  34.8318,2,   -999.0,1,  2.7046,    300.8,2,     9.20,2,    16.84,2,     1.06,2,    3.959,2,    1.891,2,    1.711,2,   1.7908,2,     1.69,2,   -999.0,9,   -999.0,9,  0.0072,   0.029,  -999.0,   0.140,  101908
      06MT30_3,  A01W,   498,  2,     13,   K090,3,19941122,1430, 59.0433, -49.9950, 3480,   1701.9,   2.8200,  34.8324,2,  34.8332,2,   -999.0,1,  2.6966,    299.9,2,     9.18,2,    16.73,2,     1.06,2, -999.000,9, -999.000,9, -999.000,9,-999.0000,9,  -999.00,9,   -999.0,9,   -999.0,9,-999.0000,-999.000,  -999.0,-999.000,  101907
      06MT30_3,  A01W,   498,  2,     12,   K117,2,19941122,1430, 59.0433, -49.9950, 3480,   1902.8,   2.8300,  34.8335,2,  34.8341,2,   -999.0,1,  2.6890,    300.2,2,     9.24,2,    16.73,2,     1.06,2,    3.919,2,    1.889,2,    1.696,2,   1.7926,2,     2.12,2,   -999.0,9,   -999.0,9,  0.0072,   0.043,  -999.0,   0.140,  101906
      06MT30_3,  A01W,   498,  2,     11,   B008,2,19941122,1430, 59.0433, -49.9950, 3480,   2101.8,   2.8840,  34.8428,2,  34.8437,2,   -999.0,1,  2.7242,    298.0,2,     9.34,2,    16.57,2,     1.06,2,    3.789,2,    1.789,2, -999.000,9,-999.0000,9,  -999.00,9,   -999.0,9,   -999.0,9,-999.0000,-999.000,  -999.0,-999.000,  101905
      06MT30_3,  A01W,   498,  2,      9,   K036,2,19941122,1430, 59.0433, -49.9950, 3480,   2491.6,   2.9970,  34.9051,2,  34.9046,2,   -999.0,1,  2.7981,    281.2,2,    10.94,2,    16.55,2,     1.06,2,    2.232,2,    1.026,2,    1.160,2,   1.7924,2,     6.60,2,   -999.0,9,   -999.0,9,  0.0072,   0.130,  -999.0,   0.150,  101903
      06MT30_3,  A01W,   498,  2,      8,   U017,2,19941122,1430, 59.0433, -49.9950, 3480,   2701.2,   2.8160,  34.9084,2,  34.9090,2,   -999.0,1,  2.5998,    281.2,2,    11.38,2,    16.40,2,     1.04,2,    2.195,2,    0.969,2,    1.102,2,   1.8079,2,     6.79,2,   -999.0,9,   -999.0,9,  0.0072,   0.028,  -999.0,   0.140,  101902
      06MT30_3,  A01W,   498,  2,      7,   B004,2,19941122,1430, 59.0433, -49.9950, 3480,   2901.1,   2.5850,  34.9048,2,  34.9044,2,   -999.0,1,  2.3534,    282.9,2,    11.85,2,    16.20,2,     1.07,3, -999.000,9, -999.000,9,    1.267,2,   1.8066,2,     6.38,2,   -999.0,9,   -999.0,9,  0.0072,   0.022,  -999.0,   0.160,  101901
      06MT30_3,  A01W,   498,  2,      6,   K017,2,19941122,1430, 59.0433, -49.9950, 3480,   3053.5,   2.3240,  34.8926,2,  34.8926,2,   -999.0,1,  2.0827,    287.2,2,    11.59,2,    15.88,2,     1.04,2,    2.581,2,    1.158,2,    1.289,2,   1.8181,2,     5.94,2,   -999.0,9,   -999.0,9,  0.0073,   0.033,  -999.0,   0.140,  101900
      06MT30_3,  A01W,   498,  2,      5,   U023,2,19941122,1430, 59.0433, -49.9950, 3480,   3165.4,   2.0990,  34.8848,2,  34.8853,2,   -999.0,1,  1.8514,    289.9,2,    11.35,2,    15.64,2,     1.03,2, -999.000,9, -999.000,9,    1.359,2,   1.8070,2,     5.70,2,   -999.0,9,   -999.0,9,  0.0072,   0.021,  -999.0,   0.160,  101899
      06MT30_3,  A01W,   498,  2,      4,   K056,2,19941122,1430, 59.0433, -49.9950, 3480,   3251.6,   1.9020,  34.8759,2,  34.8754,2,   -999.0,1,  1.6503,    294.6,2,    10.40,2,    15.27,2,     1.01,2,    3.029,2,    1.427,2, -999.000,9,-999.0000,9,  -999.00,9,   -999.0,9,   -999.0,9,-999.0000,-999.000,  -999.0,-999.000,  101898
      06MT30_3,  A01W,   498,  2,      3,   U018,2,19941122,1430, 59.0433, -49.9950, 3480,   3349.8,   1.6480,  34.8654,2,  34.8658,2,   -999.0,1,  1.3925,    299.6,2,     9.36,2,    14.79,2,     0.98,2,    3.426,2,    1.630,2,    1.454,2,-999.0000,5,  -999.00,5,   -999.0,9,   -999.0,9,-999.0000,   0.033,  -999.0,-999.000,  101897
      06MT30_3,  A01W,   498,  2,      2,   K052,2,19941122,1430, 59.0433, -49.9950, 3480,   3454.1,   1.3870,  34.8588,2,  34.8590,2,   -999.0,1,  1.1274,    304.3,2,     9.14,2,    14.58,2,     0.96,2,    3.605,2,    1.741,2,    1.553,2,   1.8120,2,     3.56,2,   -999.0,9,   -999.0,9,  0.0072,   0.025,  -999.0,   0.160,  101896
      06MT30_3,  A01W,   498,  2,      1,   K038,2,19941122,1430, 59.0433, -49.9950, 3480,   3509.3,   1.3320,  34.8578,2,  34.8581,2,   -999.0,1,  1.0681,    304.6,2,     9.43,2,    14.51,2,     0.94,2,    3.789,2,    1.858,2,    1.563,2,   1.8386,2,     3.50,2,   -999.0,9,   -999.0,9,  0.0074,   0.038,  -999.0,   0.140,  101895
      06MT30_3,  A01W,   499,  1,     23,   K125,2,19941122,2034, 59.4833, -49.4533, 3397,     24.2,   5.0060,  34.6891,2,  34.6880,2,   -999.0,1,  5.0041,    299.4,2,     4.05,2,    11.28,2,     0.76,2,    4.670,2,    2.332,2, -999.000,9,-999.0000,9,  -999.00,9,   -999.0,9,   -999.0,9,-999.0000,-999.000,  -999.0,-999.000,  101941
      06MT30_3,  A01W,   499,  1,     22,   B023,2,19941122,2034, 59.4833, -49.4533, 3397,    100.6,   5.0110,  34.6912,2,  34.6935,2,   -999.0,1,  5.0032,    299.0,2,     4.12,2,    11.51,2,     0.77,2,    4.813,2,    2.357,2, -999.000,9,-999.0000,9,  -999.00,9,   -999.0,9,   -999.0,9,-999.0000,-999.000,  -999.0,-999.000,  101940
      06MT30_3,  A01W,   499,  1,     21,   K040,2,19941122,2034, 59.4833, -49.4533, 3397,    200.3,   4.1600,  34.8848,2,  34.8823,2,   -999.0,1,  4.1457,    287.6,2,     8.50,2,    16.72,2,     1.05,2, -999.000,9, -999.000,9, -999.000,9,-999.0000,9,  -999.00,9,   -999.0,9,   -999.0,9,-999.0000,-999.000,  -999.0,-999.000,  101939
      06MT30_3,  A01W,   499,  1,     20,   K097,2,19941122,2034, 59.4833, -49.4533, 3397,    300.2,   3.8210,  34.8796,2,  34.8776,2,   -999.0,1,  3.8001,    289.5,2,     8.74,2,    17.00,2,     1.06,2,    4.387,2,    2.095,2, -999.000,9,-999.0000,9,  -999.00,9,   -999.0,9,   -999.0,9,-999.0000,-999.000,  -999.0,-999.000,  101938
      06MT30_3,  A01W,   499,  1,     19,   K126,2,19941122,2034, 59.4833, -49.4533, 3397,    450.5,   3.2880,  34.8455,2,  34.8441,2,   -999.0,1,  3.2581,    295.2,2,     8.85,2,    17.02,2,     1.07,2,    4.397,2,    2.124,2, -999.000,9,-999.0000,9,  -999.00,9,   -999.0,9,   -999.0,9,-999.0000,-999.000,  -999.0,-999.000,  101937
      06MT30_3,  A01W,   499,  1,     18,   B003,2,19941122,2034, 59.4833, -49.4533, 3397,    599.8,   3.2040,  34.8552,2,  34.8530,2,   -999.0,1,  3.1638,    295.4,2,     9.03,2,    17.02,2,     1.07,2, -999.000,9, -999.000,9, -999.000,9,-999.0000,9,  -999.00,9,   -999.0,9,   -999.0,9,-999.0000,-999.000,  -999.0,-999.000,  101936
      06MT30_3,  A01W,   499,  1,     17,   K124,2,19941122,2034, 59.4833, -49.4533, 3397,    799.4,   3.0660,  34.8516,2,  34.8508,2,   -999.0,1,  3.0121,    296.3,2,     9.17,2,    17.04,2,     1.07,2,    4.128,2,    2.003,2, -999.000,9,-999.0000,9,  -999.00,9,   -999.0,9,   -999.0,9,-999.0000,-999.000,  -999.0,-999.000,  101935
      06MT30_3,  A01W,   499,  1,     16,   K114,2,19941122,2034, 59.4833, -49.4533, 3397,   1000.7,   2.9740,  34.8459,2,  34.8459,2,   -999.0,1,  2.9057,    297.5,2,     9.17,2,    17.00,2,     1.08,2, -999.000,9, -999.000,9, -999.000,9,-999.0000,9,  -999.00,9,   -999.0,9,   -999.0,9,-999.0000,-999.000,  -999.0,-999.000,  101934
      06MT30_3,  A01W,   499,  1,     15,   U010,2,19941122,2034, 59.4833, -49.4533, 3397,   1201.5,   2.9100,  34.8416,2,  34.8423,2,   -999.0,1,  2.8267,    298.3,2,     9.18,2,    16.89,2,     1.08,2,    4.060,2,    1.966,2,    1.620,2,   1.7974,2,     1.98,2,   -999.0,9,   -999.0,9,  0.0072,   0.033,  -999.0,   0.180,  101933
      06MT30_3,  A01W,   499,  1,     14,   U002,2,19941122,2034, 59.4833, -49.4533, 3397,   1400.5,   2.8590,  34.8369,2,  34.8368,2,   -999.0,1,  2.7603,    298.5,2,     9.15,2,    16.87,2,     1.07,2, -999.000,9, -999.000,9, -999.000,9,-999.0000,9,  -999.00,9,   -999.0,9,   -999.0,9,-999.0000,-999.000,  -999.0,-999.000,  101932
      06MT30_3,  A01W,   499,  1,     13,   K090,3,19941122,2034, 59.4833, -49.4533, 3397,   1600.6,   2.8430,  34.8360,2,  34.8319,2,   -999.0,1,  2.7279,    299.8,2,     9.17,2,    16.84,2,     1.09,3,    4.012,2,    1.921,2,    1.611,2,   1.8721,2,     2.21,3,   -999.0,9,   -999.0,9,  0.0075,   0.032,  -999.0,   0.140,  101931
      06MT30_3,  A01W,   499,  1,     12,   K117,2,19941122,2034, 59.4833, -49.4533, 3397,   1799.6,   2.8400,  34.8358,2,  34.8355,2,   -999.0,1,  2.7079,    299.9,2,     9.15,2,    16.78,2,     1.07,2, -999.000,9, -999.000,9, -999.000,9,-999.0000,9,  -999.00,9,   -999.0,9,   -999.0,9,-999.0000,-999.000,  -999.0,-999.000,  101930
      06MT30_3,  A01W,   499,  1,     11,   B008,2,19941122,2034, 59.4833, -49.4533, 3397,   2002.5,   2.8620,  34.8395,2,  34.8396,2,   -999.0,1,  2.7116,    299.2,2,     9.18,2,    16.77,2,     1.06,2,    3.936,2,    1.912,2, -999.000,5,   1.7935,2,     2.19,2,   -999.0,9,   -999.0,9,  0.0072,-999.000,  -999.0,   0.140,  101929
      06MT30_3,  A01W,   499,  1,     10,   K115,2,19941122,2034, 59.4833, -49.4533, 3397,   2201.0,   3.0390,  34.8808,2,  34.8815,2,   -999.0,1,  2.8674,    288.1,2,     9.98,2,    16.79,2,     1.06,2, -999.000,9, -999.000,9, -999.000,9,-999.0000,9,  -999.00,9,   -999.0,9,   -999.0,9,-999.0000,-999.000,  -999.0,-999.000,  101928
      06MT30_3,  A01W,   499,  1,      9,   K036,2,19941122,2034, 59.4833, -49.4533, 3397,   2401.4,   2.9990,  34.9008,2,  34.9013,2,   -999.0,1,  2.8089,    283.0,2,    10.61,2,    16.62,2,     1.07,2,    2.470,2,    1.149,2,    1.489,3,   1.7963,2,     6.07,2,   -999.0,9,   -999.0,9,  0.0072,   0.027,  -999.0,   0.140,  101927
      06MT30_3,  A01W,   499,  1,      8,   U017,2,19941122,2034, 59.4833, -49.4533, 3397,   2602.2,   2.8650,  34.9065,2,  34.9065,2,   -999.0,1,  2.6577,    281.6,2,    11.21,2,    16.41,2,     1.05,2,    2.202,2,    1.028,2, -999.000,9,-999.0000,9,  -999.00,9,   -999.0,9,   -999.0,9,-999.0000,-999.000,  -999.0,-999.000,  101926
      06MT30_3,  A01W,   499,  1,      7,   B004,2,19941122,2034, 59.4833, -49.4533, 3397,   2801.8,   2.6950,  34.9103,2,  34.9127,2,   -999.0,1,  2.4711,    281.5,2,    11.92,2,    16.36,2,     1.05,2, -999.000,9, -999.000,9,    1.196,2,   1.7985,2,     6.50,2,   -999.0,9,   -999.0,9,  0.0072,   0.034,  -999.0,   0.190,  101925
      06MT30_3,  A01W,   499,  1,      6,   K017,2,19941122,2034, 59.4833, -49.4533, 3397,   2952.6,   2.4330,  34.9003,2,  34.8943,3,   -999.0,1,  2.1995,    284.7,2,    11.92,2,    16.08,2,     1.04,2,    2.298,2,    1.028,2, -999.000,9,-999.0000,9,  -999.00,9,   -999.0,9,   -999.0,9,-999.0000,-999.000,  -999.0,-999.000,  101924
      06MT30_3,  A01W,   499,  1,      5,   U023,2,19941122,2034, 59.4833, -49.4533, 3397,   3105.7,   2.1430,  34.8922,2,  34.8885,3,   -999.0,1,  1.9005,    287.2,2,    12.06,2,    15.76,2,     1.03,2,    2.490,2,    1.118,2,    1.266,2,   1.8049,2,     5.97,2,   -999.0,9,   -999.0,9,  0.0072,   0.027,  -999.0,   0.190,  101923
      06MT30_3,  A01W,   499,  1,      4,   K056,2,19941122,2034, 59.4833, -49.4533, 3397,   3203.8,   1.8930,  34.8750,2,  34.8710,3,   -999.0,1,  1.6464,    295.3,2,    10.07,2,    15.18,2,     0.98,2,    3.120,2,    1.448,2, -999.000,9,-999.0000,9,  -999.00,9,   -999.0,9,   -999.0,9,-999.0000,-999.000,  -999.0,-999.000,  101922
      06MT30_3,  A01W,   499,  1,      3,   U018,2,19941122,2034, 59.4833, -49.4533, 3397,   3343.9,   1.4790,  34.8611,2,  34.8600,2,   -999.0,1,  1.2282,    302.4,2,     9.08,2,    14.67,2,     0.97,2,    3.715,2,    1.753,2, -999.000,5,   1.8204,2,     3.71,2,   -999.0,9,   -999.0,9,  0.0073,-999.000,  -999.0,   0.190,  101921
      06MT30_3,  A01W,   499,  1,      2,   K052,2,19941122,2034, 59.4833, -49.4533, 3397,   3393.4,   1.3520,  34.8590,2,  34.8583,2,   -999.0,1,  1.0993,    304.6,2,     9.26,2,    14.62,2,     0.95,2,    3.827,2,    1.803,2,    1.600,2,   1.8153,2,     3.41,2,   -999.0,9,   -999.0,9,  0.0073,   0.018,  -999.0,   0.190,  101920
      06MT30_3,  A01W,   499,  1,      1,   K038,2,19941122,2034, 59.4833, -49.4533, 3397,   3426.1,   1.3350,  34.8578,2,  34.8582,2,   -999.0,1,  1.0795,    304.2,2,     9.49,2,    14.56,2,     0.95,2,    3.916,2,    1.849,2,    1.667,2,   1.8139,2,     3.50,2,   -999.0,9,   -999.0,9,  0.0073,   0.032,  -999.0,   0.140,  101919