BOTTLE,20060322WHPSIOSA
EXPOCODE,SECT_ID,STNNBR,CASTNO,SAMPNO,BTLNBR,BTLNBR_FLAG_W,DATE,TIME,LATITUDE,LONGITUDE,DEPTH,CTDPRS,CTDTMP,CTDSAL,CTDSAL_FLAG_W,SALNTY,SALNTY_FLAG_W,CTDOXY,CTDOXY_FLAG_W,THETA,OXYGEN,OXYGEN_FLAG_W,SILCAT,SILCAT_FLAG_W,NO2+NO3,NO2+NO3_FLAG_W,PHSPHT,PHSPHT_FLAG_W,CFC-11,CFC-11_FLAG_W,CFC-12,CFC-12_FLAG_W,TRITUM,TRITUM_FLAG_W,HELIUM,HELIUM_FLAG_W,DELHE3,DELHE3_FLAG_W,DELC14,DELC14_FLAG_W,TCARBN,TCARBN_FLAG_W,HELIER,TRITER,C14ERR,DELHER,BEDFORT
,,,,,,,,,,,,DBAR,ITS-90,PSS-78,,PSS-78,,UMOL/KG,,ITS-90,UMOL/KG,,UMOL/KG,,UMOL/KG,,UMOL/KG,,PMOL/KG,,PMOL/KG,,TU,,NMOL/KG,,PERCNT,,/MILLE,,UMOL/KG,,NMOL/KG,TU,/MILLE,PERCNT,NUM
      06MT30_3,  A01E,   536,  1,      0,   -999,2,19941204,1437, 53.6700, -25.4133, 3592,      5.0,  10.1000,-999.0000,9,  34.1140,2,   -999.0,9,-999.0000,   -999.0,9,  -999.00,9,  -999.00,9,  -999.00,9, -999.000,9, -999.000,9, -999.000,9,-999.0000,9,  -999.00,9,   -999.0,9,   2091.6,2,-999.0000,-999.000,  -999.0,-999.000,    -999
      06MT30_3,  A01E,   536,  1,     22,   B023,2,19941204,1437, 53.6700, -25.4133, 3592,     18.8,  10.2680,  35.0272,2,  35.0268,2,   -999.0,1, 10.2658,    266.0,2,     2.24,2,     7.40,2,     0.53,2,    3.582,3,    1.856,3, -999.000,9,-999.0000,9,  -999.00,9,   -999.0,9,   2092.0,2,-999.0000,-999.000,  -999.0,-999.000,  102756
      06MT30_3,  A01E,   536,  1,     21,   K040,2,19941204,1437, 53.6700, -25.4133, 3592,     48.0,  10.2590,  35.0251,2,  35.0249,2,   -999.0,1, 10.2534,    266.2,2,     2.20,2,     7.39,2,     0.52,2, -999.000,9, -999.000,9, -999.000,9,-999.0000,9,  -999.00,9,   -999.0,9,   -999.0,9,-999.0000,-999.000,  -999.0,-999.000,  102755
      06MT30_3,  A01E,   536,  1,     20,   K097,2,19941204,1437, 53.6700, -25.4133, 3592,     97.2,  10.2650,  35.0258,2,  35.0259,2,   -999.0,1, 10.2536,    266.4,2,     2.23,2,     7.56,2,     0.52,2, -999.000,9, -999.000,9, -999.000,9,-999.0000,9,  -999.00,9,   -999.0,9,   2091.2,2,-999.0000,-999.000,  -999.0,-999.000,  102754
      06MT30_3,  A01E,   536,  1,     19,   U015,2,19941204,1437, 53.6700, -25.4133, 3592,    145.5,  10.1960,  35.2389,2,  35.2381,2,   -999.0,1, 10.1789,    230.5,2,     5.37,2,    13.64,2,     0.85,2, -999.000,9, -999.000,9, -999.000,9,-999.0000,9,  -999.00,9,   -999.0,9,   2130.9,2,-999.0000,-999.000,  -999.0,-999.000,  102753
      06MT30_3,  A01E,   536,  1,     18,   B003,2,19941204,1437, 53.6700, -25.4133, 3592,    248.2,   9.0890,  35.1680,2,  35.1675,2,   -999.0,1,  9.0617,    235.3,2,     7.01,2,    15.52,2,     0.98,2,    3.051,2,    1.562,2, -999.000,9,-999.0000,9,  -999.00,9,   -999.0,9,   -999.0,9,-999.0000,-999.000,  -999.0,-999.000,  102752
      06MT30_3,  A01E,   536,  1,     17,   K124,2,19941204,1437, 53.6700, -25.4133, 3592,    397.9,   7.2860,  34.9670,2,  34.9637,2,   -999.0,1,  7.2473,    236.4,2,     9.03,2,    17.55,2,     1.11,2, -999.000,9, -999.000,9, -999.000,9,-999.0000,9,  -999.00,9,   -999.0,9,   2150.0,2,-999.0000,-999.000,  -999.0,-999.000,  102751
      06MT30_3,  A01E,   536,  1,     16,   K114,2,19941204,1437, 53.6700, -25.4133, 3592,    598.1,   5.9940,  34.9565,2,  34.9569,2,   -999.0,1,  5.9409,    227.4,2,    10.76,2,    19.17,2,     1.22,2,    2.564,2,    1.248,2, -999.000,9,-999.0000,9,  -999.00,9,   -999.0,9,   2170.2,2,-999.0000,-999.000,  -999.0,-999.000,  102750
      06MT30_3,  A01E,   536,  1,     15,   U010,2,19941204,1437, 53.6700, -25.4133, 3592,    798.6,   4.8560,  34.9529,2,  34.9526,2,   -999.0,1,  4.7909,    241.3,2,    11.11,2,    19.22,2,     1.21,2,    2.441,2,    1.168,2, -999.000,9,-999.0000,9,  -999.00,9,   -999.0,9,   -999.0,9,-999.0000,-999.000,  -999.0,-999.000,  102749
      06MT30_3,  A01E,   536,  1,     14,   U002,2,19941204,1437, 53.6700, -25.4133, 3592,    999.0,   4.1910,  34.9334,2,  34.9340,2,   -999.0,1,  4.1132,    259.3,2,    10.77,2,    18.66,2,     1.17,2,    2.401,2,    1.136,2, -999.000,9,-999.0000,9,  -999.00,9,   -999.0,9,   -999.0,9,-999.0000,-999.000,  -999.0,-999.000,  102748
      06MT30_3,  A01E,   536,  1,     13,   B009,2,19941204,1437, 53.6700, -25.4133, 3592,   1197.4,   3.7930,  34.9082,2,  34.9095,2,   -999.0,1,  3.7017,    270.9,2,    10.56,2,    18.24,2,     1.15,2,    2.469,2,    1.156,2, -999.000,9,-999.0000,9,  -999.00,9,   -999.0,9,   -999.0,9,-999.0000,-999.000,  -999.0,-999.000,  102747
      06MT30_3,  A01E,   536,  1,     12,   K117,2,19941204,1437, 53.6700, -25.4133, 3592,   1598.2,   3.4300,  34.8846,2,  34.8844,2,   -999.0,1,  3.3079,    281.0,2,    10.45,2,    17.70,2,     1.11,2,    2.466,2,    1.182,2,    1.514,2,   1.7939,2,     7.57,2,   -999.0,9,   2151.7,2,  0.0072,   0.026,  -999.0,   0.180,  102746
      06MT30_3,  A01E,   536,  1,     11,   B008,2,19941204,1437, 53.6700, -25.4133, 3592,   1798.8,   3.3090,  34.8818,2,  34.8810,2,   -999.0,1,  3.1705,    283.9,2,    10.50,2,    17.47,2,     1.11,2,    2.502,2,    1.207,2, -999.000,9,-999.0000,9,  -999.00,9,   -999.0,9,   -999.0,9,-999.0000,-999.000,  -999.0,-999.000,  102745
      06MT30_3,  A01E,   536,  1,     10,   K115,2,19941204,1437, 53.6700, -25.4133, 3592,   1997.4,   3.3000,  34.8956,2,  34.8953,2,   -999.0,1,  3.1433,    281.6,2,    10.96,2,    17.37,2,     1.11,2,    2.119,2,    1.009,2,    1.378,2,   1.7998,2,     7.49,2,   -999.0,9,   -999.0,9,  0.0072,   0.031,  -999.0,   0.180,  102744
      06MT30_3,  A01E,   536,  1,      9,   K036,2,19941204,1437, 53.6700, -25.4133, 3592,   2200.4,   3.3020,  34.9120,2,  34.9126,2,   -999.0,1,  3.1261,    278.5,2,    11.58,2,    17.37,2,     1.11,2,    1.722,2,    0.817,2, -999.000,9,-999.0000,9,  -999.00,9,   -999.0,9,   -999.0,9,-999.0000,-999.000,  -999.0,-999.000,  102743
      06MT30_3,  A01E,   536,  1,      8,   B026,2,19941204,1437, 53.6700, -25.4133, 3592,   2400.3,   3.2880,  34.9294,2,  34.9302,2,   -999.0,1,  3.0927,    274.9,2,    12.24,2,    17.36,2,     1.11,2,    1.478,2,    0.676,2,    1.099,2,   1.7768,2,     7.24,2,   -999.0,9,   -999.0,9,  0.0071,   0.017,  -999.0,   0.170,  102742
      06MT30_3,  A01E,   536,  1,      7,   B004,2,19941204,1437, 53.6700, -25.4133, 3592,   2599.6,   3.2080,  34.9433,2,  34.9446,2,   -999.0,1,  2.9942,    272.6,2,    13.32,2,    17.34,2,     1.11,2,    1.312,2,    0.585,2, -999.000,9,-999.0000,9,  -999.00,9,   -999.0,9,   2155.2,2,-999.0000,-999.000,  -999.0,-999.000,  102741
      06MT30_3,  A01E,   536,  1,      6,   U006,2,19941204,1437, 53.6700, -25.4133, 3592,   2802.3,   3.1020,  34.9507,2,-999.0000,9,   -999.0,1,  2.8696,    272.6,2,    13.31,2,    17.30,2,     1.11,2,    1.300,2,    0.586,2,    0.999,2,-999.0000,5,  -999.00,5,   -999.0,9,   -999.0,9,-999.0000,   0.014,  -999.0,-999.000,  102740
      06MT30_3,  A01E,   536,  1,      5,   U023,2,19941204,1437, 53.6700, -25.4133, 3592,   2999.6,   3.0040,  34.9534,2,  34.9551,2,   -999.0,1,  2.7531,    269.4,2,    16.31,2,    17.57,2,     1.14,2,    1.205,2,    0.535,2,    0.908,2,-999.0000,5,  -999.00,5,   -999.0,9,   -999.0,9,-999.0000,   0.020,  -999.0,-999.000,  102739
      06MT30_3,  A01E,   536,  1,      4,   K056,2,19941204,1437, 53.6700, -25.4133, 3592,   3198.8,   2.9220,  34.9528,2,  34.9535,2,   -999.0,1,  2.6518,    267.1,2,    18.60,2,    17.82,2,     1.15,2,    1.157,2,    0.511,2, -999.000,5,   1.8018,2,     6.78,2,   -999.0,9,   -999.0,9,  0.0072,-999.000,  -999.0,   0.160,  102738
      06MT30_3,  A01E,   536,  1,      3,   U018,2,19941204,1437, 53.6700, -25.4133, 3592,   3400.4,   2.8160,  34.9450,2,  34.9452,2,   -999.0,1,  2.5265,    261.2,2,    23.91,2,    18.75,2,     1.22,2,    0.919,2,    0.409,2,    0.656,2,   1.8070,2,     5.51,2,   -999.0,9,   -999.0,9,  0.0072,   0.010,  -999.0,   0.160,  102737
      06MT30_3,  A01E,   536,  1,      2,   U018,3,19941204,1437, 53.6700, -25.4133, 3592,   3592.0,   2.6890,  34.9304,2,-999.0000,9,   -999.0,1,  2.3816,    253.3,2,  -999.00,9,  -999.00,9,  -999.00,9, -999.000,9, -999.000,9, -999.000,5,   1.7987,3,     5.63,2,   -999.0,9,   -999.0,9,  0.0072,-999.000,  -999.0,   0.160,  102736
      06MT30_3,  A01E,   536,  1,      1,   B025,2,19941204,1437, 53.6700, -25.4133, 3592,   3630.3,   2.6270,  34.9246,2,  34.9243,2,   -999.0,1,  2.3170,    248.1,2,    36.33,2,    21.32,2,     1.41,2,    0.330,2,    0.154,2,    0.305,2,   1.8205,2,     3.54,2,   -999.0,9,   2192.3,2,  0.0073,   0.007,  -999.0,   0.170,  102735
      06MT30_3,  A01E,   537,  1,      0,   -999,2,19941204,2026, 53.4483, -24.6867, 3557,      5.0,   9.0100,-999.0000,9,  34.0800,2,   -999.0,9,-999.0000,   -999.0,9,  -999.00,9,  -999.00,9,  -999.00,9, -999.000,9, -999.000,9, -999.000,9,-999.0000,9,  -999.00,9,   -999.0,9,   2088.2,2,-999.0000,-999.000,  -999.0,-999.000,    -999
      06MT30_3,  A01E,   537,  1,     24,   K012,2,19941204,2026, 53.4483, -24.6867, 3557,     21.3,   9.0860,  34.6461,2,  34.6395,2,   -999.0,1,  9.0837,    273.3,2,     2.05,2,     7.59,2,     0.60,2, -999.000,9, -999.000,9, -999.000,9,-999.0000,9,  -999.00,9,   -999.0,9,   2087.8,2,-999.0000,-999.000,  -999.0,-999.000,  102782
      06MT30_3,  A01E,   537,  1,     23,   K125,2,19941204,2026, 53.4483, -24.6867, 3557,     49.1,   9.0950,  34.6457,2,  34.6466,2,   -999.0,1,  9.0897,    273.1,2,     2.06,2,     7.65,2,     0.59,2, -999.000,9, -999.000,9, -999.000,9,-999.0000,9,  -999.00,9,   -999.0,9,   2087.7,2,-999.0000,-999.000,  -999.0,-999.000,  102781
      06MT30_3,  A01E,   537,  1,     22,   B023,2,19941204,2026, 53.4483, -24.6867, 3557,    101.7,  10.0410,  35.0705,2,  35.0604,2,   -999.0,1, 10.0292,    239.8,2,     4.17,2,    11.29,2,     0.75,2, -999.000,9, -999.000,9,    1.813,2,   1.7524,2,     0.38,2,   -999.0,9,   2116.5,2,  0.0070,   0.021,  -999.0,   0.170,  102780
      06MT30_3,  A01E,   537,  1,     21,   K040,2,19941204,2026, 53.4483, -24.6867, 3557,    152.2,   9.1360,  35.0798,2,  35.0833,2,   -999.0,1,  9.1193,    224.1,2,     6.74,2,    15.02,2,     0.98,2, -999.000,9, -999.000,9, -999.000,9,-999.0000,9,  -999.00,9,   -999.0,9,   2138.9,2,-999.0000,-999.000,  -999.0,-999.000,  102779
      06MT30_3,  A01E,   537,  1,     20,   K097,2,19941204,2026, 53.4483, -24.6867, 3557,    249.7,   7.9890,  34.9844,2,  34.9838,2,   -999.0,1,  7.9637,    221.0,2,     8.69,2,    17.39,2,     1.11,2, -999.000,9, -999.000,9, -999.000,9,-999.0000,9,  -999.00,9,   -999.0,9,   2152.7,2,-999.0000,-999.000,  -999.0,-999.000,  102778
      06MT30_3,  A01E,   537,  1,     19,   U015,2,19941204,2026, 53.4483, -24.6867, 3557,    398.1,   6.0820,  34.8338,2,  34.8317,2,   -999.0,1,  6.0470,    240.1,2,     9.74,2,    18.10,2,     1.18,2, -999.000,9, -999.000,9,    1.658,2,   1.7795,2,     2.36,2,   -999.0,9,   -999.0,9,  0.0071,   0.036,  -999.0,   0.170,  102777
      06MT30_3,  A01E,   537,  1,     18,   B003,2,19941204,2026, 53.4483, -24.6867, 3557,    600.1,   5.1520,  34.8963,2,  34.8977,2,   -999.0,1,  5.1027,    243.9,2,    10.55,2,    18.84,2,     1.21,2, -999.000,9, -999.000,9, -999.000,9,-999.0000,9,  -999.00,9,   -999.0,9,   2159.9,2,-999.0000,-999.000,  -999.0,-999.000,  102776
      06MT30_3,  A01E,   537,  1,     17,   K124,2,19941204,2026, 53.4483, -24.6867, 3557,    799.9,   4.4540,  34.9329,2,  34.9336,2,   -999.0,1,  4.3913,    250.9,2,    10.86,2,    18.85,2,     1.20,2, -999.000,9, -999.000,9, -999.000,9,-999.0000,9,  -999.00,9,   -999.0,9,   -999.0,9,-999.0000,-999.000,  -999.0,-999.000,  102775
      06MT30_3,  A01E,   537,  1,     16,   K114,2,19941204,2026, 53.4483, -24.6867, 3557,    999.5,   3.9550,  34.9177,2,  34.9194,2,   -999.0,1,  3.8790,    265.3,2,    10.57,2,    18.35,2,     1.19,2, -999.000,9, -999.000,9, -999.000,9,-999.0000,9,  -999.00,9,   -999.0,9,   -999.0,9,-999.0000,-999.000,  -999.0,-999.000,  102774
      06MT30_3,  A01E,   537,  1,     15,   U010,2,19941204,2026, 53.4483, -24.6867, 3557,   1198.8,   3.6930,  34.9011,2,  34.9016,2,   -999.0,1,  3.6025,    272.9,2,    10.53,2,    18.07,2,     1.15,2, -999.000,9, -999.000,9,    1.454,2,   1.7916,2,     7.71,2,   -999.0,9,   -999.0,9,  0.0072,   0.027,  -999.0,   0.180,  102773
      06MT30_3,  A01E,   537,  1,     14,   U002,2,19941204,2026, 53.4483, -24.6867, 3557,   1399.2,   3.4600,  34.8869,2,  34.8871,2,   -999.0,1,  3.3548,    279.2,2,    10.41,2,    17.67,2,     1.13,2,    2.416,2,    1.169,2, -999.000,9,-999.0000,9,  -999.00,9,   -999.0,9,   -999.0,9,-999.0000,-999.000,  -999.0,-999.000,  102772
      06MT30_3,  A01E,   537,  1,     13,   B009,2,19941204,2026, 53.4483, -24.6867, 3557,   1600.7,   3.3470,  34.8823,2,  34.8836,2,   -999.0,1,  3.2257,    282.6,2,    10.44,2,    17.42,2,     1.12,2, -999.000,9, -999.000,9, -999.000,9,-999.0000,9,  -999.00,9,   -999.0,9,   2151.2,2,-999.0000,-999.000,  -999.0,-999.000,  102771
      06MT30_3,  A01E,   537,  1,     12,   K117,2,19941204,2026, 53.4483, -24.6867, 3557,   1798.1,   3.2950,  34.8856,2,  34.8868,2,   -999.0,1,  3.1567,    282.9,2,    10.63,2,    17.29,2,     1.12,2,    2.334,2,    1.141,2,    1.430,2,   1.7945,2,     6.36,2,   -999.0,9,   -999.0,9,  0.0072,   0.028,  -999.0,   0.180,  102770
      06MT30_3,  A01E,   537,  1,     11,   B008,2,19941204,2026, 53.4483, -24.6867, 3557,   2002.5,   3.3000,  34.9025,2,  34.9032,2,   -999.0,1,  3.1428,    279.7,2,    11.18,2,    17.25,2,     1.12,2, -999.000,9, -999.000,9, -999.000,9,-999.0000,9,  -999.00,9,   -999.0,9,   -999.0,9,-999.0000,-999.000,  -999.0,-999.000,  102769
      06MT30_3,  A01E,   537,  1,     10,   K115,2,19941204,2026, 53.4483, -24.6867, 3557,   2199.9,   3.3060,  34.9245,2,  34.9267,2,   -999.0,1,  3.1300,    275.3,2,    12.09,2,    17.31,2,     1.13,2,    1.519,2,    0.734,2, -999.000,9,-999.0000,9,  -999.00,9,   -999.0,9,   -999.0,9,-999.0000,-999.000,  -999.0,-999.000,  102768
      06MT30_3,  A01E,   537,  1,      9,   K036,2,19941204,2026, 53.4483, -24.6867, 3557,   2400.8,   3.2430,  34.9403,2,  34.9406,2,   -999.0,1,  3.0485,    272.6,2,    12.87,2,    17.20,2,     1.11,2, -999.000,9, -999.000,9,    1.013,2,   1.7960,2,     6.65,2,   -999.0,9,   -999.0,9,  0.0072,   0.025,  -999.0,   0.160,  102767
      06MT30_3,  A01E,   537,  1,      8,   B026,2,19941204,2026, 53.4483, -24.6867, 3557,   2601.3,   3.1520,  34.9486,2,  34.9500,2,   -999.0,1,  2.9391,    271.3,2,    14.24,2,    17.25,2,     1.13,2,    1.267,2,    0.613,2, -999.000,9,-999.0000,9,  -999.00,9,   -999.0,9,   -999.0,9,-999.0000,-999.000,  -999.0,-999.000,  102766
      06MT30_3,  A01E,   537,  1,      7,   B004,2,19941204,2026, 53.4483, -24.6867, 3557,   2804.1,   3.0210,  34.9513,2,  34.9519,2,   -999.0,1,  2.7901,    267.6,2,    17.31,2,    17.69,2,     1.15,2,    1.134,2,    0.518,2, -999.000,9,-999.0000,9,  -999.00,9,   -999.0,9,   -999.0,9,-999.0000,-999.000,  -999.0,-999.000,  102765
      06MT30_3,  A01E,   537,  1,      6,   U006,2,19941204,2026, 53.4483, -24.6867, 3557,   3003.6,   2.9170,  34.9515,2,  34.9514,2,   -999.0,1,  2.6676,    267.3,2,    17.33,2,    17.76,2,     1.15,2,    1.171,2,    0.518,2,    0.913,2,-999.0000,5,  -999.00,5,   -999.0,9,   2162.5,2,-999.0000,   0.016,  -999.0,-999.000,  102764
      06MT30_3,  A01E,   537,  1,      5,   U023,2,19941204,2026, 53.4483, -24.6867, 3557,   3204.1,   2.8220,  34.9462,2,  34.9475,2,   -999.0,1,  2.5535,    261.6,2,    23.10,2,    18.69,2,     1.22,2,    0.942,2,    0.419,2, -999.000,9,-999.0000,9,  -999.00,9,   -999.0,9,   -999.0,9,-999.0000,-999.000,  -999.0,-999.000,  102763
      06MT30_3,  A01E,   537,  1,      4,   K056,2,19941204,2026, 53.4483, -24.6867, 3557,   3347.4,   2.7690,  34.9410,2,  34.9393,2,   -999.0,1,  2.4864,    258.4,2,    26.15,2,    19.24,2,     1.26,2,    0.831,2,    0.371,2, -999.000,5,   1.8065,2,     5.95,2,   -999.0,9,   -999.0,9,  0.0072,-999.000,  -999.0,   0.190,  102762
      06MT30_3,  A01E,   537,  1,      3,   U018,2,19941204,2026, 53.4483, -24.6867, 3557,   3465.3,   2.7180,  34.9350,2,  34.9356,2,   -999.0,1,  2.4239,    254.0,2,    29.84,2,    19.82,2,     1.31,2,    0.633,2,    0.298,2,    0.516,2,   1.8132,2,     5.34,2,   -999.0,9,   -999.0,9,  0.0073,   0.010,  -999.0,   0.180,  102761
      06MT30_3,  A01E,   537,  1,      2,   U022,2,19941204,2026, 53.4483, -24.6867, 3557,   3551.4,   2.6540,  34.9285,2,  34.9282,2,   -999.0,1,  2.3520,    249.4,2,    34.14,2,    20.66,2,     1.38,2,    0.431,2,    0.209,2,    0.335,2,   1.7740,2,     4.32,2,   -999.0,9,   -999.0,9,  0.0071,   0.005,  -999.0,   0.160,  102760
      06MT30_3,  A01E,   537,  1,      1,   B025,2,19941204,2026, 53.4483, -24.6867, 3557,   3593.5,   2.6240,  34.9248,2,  34.9237,2,   -999.0,1,  2.3182,    247.5,2,    36.22,2,    20.92,2,     1.40,2,    0.340,2,    0.163,2,    0.287,2,   1.8149,2,     4.23,2,   -999.0,9,   2191.5,2,  0.0073,   0.009,  -999.0,   0.170,  102759