BOTTLE,20060322WHPSIOSA
EXPOCODE,SECT_ID,STNNBR,CASTNO,SAMPNO,BTLNBR,BTLNBR_FLAG_W,DATE,TIME,LATITUDE,LONGITUDE,DEPTH,CTDPRS,CTDTMP,CTDSAL,CTDSAL_FLAG_W,SALNTY,SALNTY_FLAG_W,CTDOXY,CTDOXY_FLAG_W,THETA,OXYGEN,OXYGEN_FLAG_W,SILCAT,SILCAT_FLAG_W,NO2+NO3,NO2+NO3_FLAG_W,PHSPHT,PHSPHT_FLAG_W,CFC-11,CFC-11_FLAG_W,CFC-12,CFC-12_FLAG_W,TRITUM,TRITUM_FLAG_W,HELIUM,HELIUM_FLAG_W,DELHE3,DELHE3_FLAG_W,DELC14,DELC14_FLAG_W,TCARBN,TCARBN_FLAG_W,HELIER,TRITER,C14ERR,DELHER,BEDFORT
,,,,,,,,,,,,DBAR,ITS-90,PSS-78,,PSS-78,,UMOL/KG,,ITS-90,UMOL/KG,,UMOL/KG,,UMOL/KG,,UMOL/KG,,PMOL/KG,,PMOL/KG,,TU,,NMOL/KG,,PERCNT,,/MILLE,,UMOL/KG,,NMOL/KG,TU,/MILLE,PERCNT,NUM
      06MT30_3,  A01E,   540,  1,      0,   -999,2,19941213,0029, 52.5600, -21.2433, 3788,      5.0,  10.8000,-999.0000,9,  35.0080,2,   -999.0,9,-999.0000,   -999.0,9,  -999.00,9,  -999.00,9,  -999.00,9, -999.000,9, -999.000,9, -999.000,9,-999.0000,9,  -999.00,9,   -999.0,9,   2100.7,2,-999.0000,-999.000,  -999.0,-999.000,    -999
      06MT30_3,  A01E,   540,  1,     24,   K012,2,19941213,0029, 52.5600, -21.2433, 3788,     18.4,  10.8920,  35.2980,2,  35.2971,2,   -999.0,1, 10.8898,    259.1,2,     2.18,2,     7.67,2,     0.52,2,    3.079,3,    1.617,3,    1.758,2,   1.7285,2,    -1.63,2,   -999.0,9,   2098.5,2,  0.0069,   0.033,  -999.0,   0.140,  102854
      06MT30_3,  A01E,   540,  1,     23,   K125,2,19941213,0029, 52.5600, -21.2433, 3788,     48.3,  10.8990,  35.2989,2,  35.2981,2,   -999.0,1, 10.8931,    259.0,2,     2.17,2,     7.67,2,     0.52,2, -999.000,9, -999.000,9, -999.000,9,-999.0000,9,  -999.00,9,   -999.0,9,   -999.0,9,-999.0000,-999.000,  -999.0,-999.000,  102853
      06MT30_3,  A01E,   540,  1,     22,   B027,2,19941213,0029, 52.5600, -21.2433, 3788,     98.5,  10.8870,  35.3110,2,  35.3089,2,   -999.0,1, 10.8749,    252.6,2,     2.68,2,     8.80,2,     0.58,2, -999.000,9, -999.000,9, -999.000,9,-999.0000,9,  -999.00,9,   -999.0,9,   2104.4,2,-999.0000,-999.000,  -999.0,-999.000,  102852
      06MT30_3,  A01E,   540,  1,     21,   K040,2,19941213,0029, 52.5600, -21.2433, 3788,    149.9,  10.4570,  35.3310,2,  35.3309,2,   -999.0,1, 10.4391,   -999.0,9,     5.25,2,    13.79,2,     0.89,2, -999.000,9, -999.000,9,    1.662,2,   1.7494,2,     0.12,2,   -999.0,9,   2131.6,2,  0.0070,   0.033,  -999.0,   0.140,  102851
      06MT30_3,  A01E,   540,  1,     20,   K097,2,19941213,0029, 52.5600, -21.2433, 3788,    261.7,   9.8910,  35.2983,2,  35.2920,2,   -999.0,1,  9.8606,    235.4,2,     6.03,2,    14.40,2,     0.90,2,    2.838,3,    1.472,3, -999.000,9,-999.0000,9,  -999.00,9,   -999.0,9,   2135.4,2,-999.0000,-999.000,  -999.0,-999.000,  102850
      06MT30_3,  A01E,   540,  1,     19,   U015,2,19941213,0029, 52.5600, -21.2433, 3788,    397.3,   8.5690,  35.1020,2,  35.1009,2,   -999.0,1,  8.5265,    229.9,2,     7.96,2,    16.65,2,     1.04,2, -999.000,9, -999.000,9,    1.549,2,   1.7640,2,     1.49,2,   -999.0,9,   -999.0,9,  0.0071,   0.035,  -999.0,   0.140,  102849
      06MT30_3,  A01E,   540,  1,     18,   B003,2,19941213,0029, 52.5600, -21.2433, 3788,    598.8,   7.0350,  34.9803,2,  34.9786,2,   -999.0,1,  6.9771,    223.1,2,     9.86,2,    18.68,2,     1.20,2,    2.466,2,    1.241,2, -999.000,9,-999.0000,9,  -999.00,9,   -999.0,9,   -999.0,9,-999.0000,-999.000,  -999.0,-999.000,  102848
      06MT30_3,  A01E,   540,  1,     17,   K124,2,19941213,0029, 52.5600, -21.2433, 3788,    799.3,   6.6360,  35.1412,2,  35.1394,2,   -999.0,1,  6.5599,    215.3,2,    10.80,2,    19.46,2,     1.21,2, -999.000,9, -999.000,9,    1.285,2,   1.7751,2,     7.18,2,   -999.0,9,   2167.3,2,  0.0071,   0.032,  -999.0,   0.140,  102847
      06MT30_3,  A01E,   540,  1,     16,   K114,2,19941213,0029, 52.5600, -21.2433, 3788,    999.4,   5.2870,  35.0418,2,  35.0434,2,   -999.0,1,  5.2007,    236.7,2,    10.93,2,    19.17,2,     1.22,2,    1.877,2,    0.928,2,    1.336,2,   1.7707,2,     7.81,2,   -999.0,9,   2165.2,2,  0.0071,   0.033,  -999.0,   0.150,  102846
      06MT30_3,  A01E,   540,  1,     15,   U010,2,19941213,0029, 52.5600, -21.2433, 3788,   1199.1,   4.3910,  34.9595,2,  34.9608,2,   -999.0,1,  4.2940,    254.7,2,    10.76,2,    18.80,2,     1.19,2,    1.976,2,    0.964,2,    1.352,2,   1.7881,2,     7.85,2,   -999.0,9,   -999.0,9,  0.0072,   0.034,  -999.0,   0.150,  102845
      06MT30_3,  A01E,   540,  1,     14,   U002,2,19941213,0029, 52.5600, -21.2433, 3788,   1398.3,   3.8990,  34.9186,2,  34.9191,2,   -999.0,1,  3.7892,    267.2,2,    10.61,2,    18.30,2,     1.16,2, -999.000,9, -999.000,9, -999.000,9,-999.0000,9,  -999.00,9,   -999.0,9,   -999.0,9,-999.0000,-999.000,  -999.0,-999.000,  102844
      06MT30_3,  A01E,   540,  1,     13,   B009,2,19941213,0029, 52.5600, -21.2433, 3788,   1599.6,   3.6380,  34.8983,2,  34.8994,2,   -999.0,1,  3.5132,    274.7,2,    10.52,2,    17.92,2,     1.14,2,    2.025,2,    0.986,2,    1.302,2,   1.7877,2,     7.84,2,   -999.0,9,   -999.0,9,  0.0072,   0.033,  -999.0,   0.150,  102843
      06MT30_3,  A01E,   540,  1,     12,   K117,2,19941213,0029, 52.5600, -21.2433, 3788,   1799.1,   3.4880,  34.8916,2,  34.8924,2,   -999.0,1,  3.3470,    277.9,2,    10.61,2,    18.02,2,     1.12,2,    1.989,2,    0.963,2, -999.000,9,-999.0000,9,  -999.00,9,   -999.0,9,   2149.9,2,-999.0000,-999.000,  -999.0,-999.000,  102842
      06MT30_3,  A01E,   540,  1,     10,   K115,2,19941213,0029, 52.5600, -21.2433, 3788,   2202.1,   3.3900,  34.9184,2,  34.9192,2,   -999.0,1,  3.2124,    274.3,2,    12.06,2,    17.61,2,     1.13,2,    1.346,2,    0.664,2,    1.283,3,   1.7948,2,     7.65,2,   -999.0,9,   -999.0,9,  0.0072,   0.023,  -999.0,   0.150,  102840
      06MT30_3,  A01E,   540,  1,      9,   K036,2,19941213,0029, 52.5600, -21.2433, 3788,   2401.3,   3.3150,  34.9384,2,  34.9393,2,   -999.0,1,  3.1191,    269.5,2,    14.26,2,    17.81,2,     1.14,2,    0.946,2,    0.458,2,    0.834,2,-999.0000,5,  -999.00,5,   -999.0,9,   -999.0,9,-999.0000,   0.012,  -999.0,-999.000,  102839
      06MT30_3,  A01E,   540,  1,      8,   B026,2,19941213,0029, 52.5600, -21.2433, 3788,   2599.5,   3.1760,  34.9456,2,  34.9459,2,   -999.0,1,  2.9629,    266.6,2,    16.43,2,    18.03,2,     1.16,2, -999.000,9, -999.000,9, -999.000,9,-999.0000,9,  -999.00,9,   -999.0,9,   -999.0,9,-999.0000,-999.000,  -999.0,-999.000,  102838
      06MT30_3,  A01E,   540,  1,      7,   B004,2,19941213,0029, 52.5600, -21.2433, 3788,   2851.3,   2.9080,  34.9421,2,  34.9418,2,   -999.0,1,  2.6746,    251.9,2,    28.23,2,    20.06,2,     1.33,2,    0.368,3,    0.198,3,    0.257,2,   1.7692,2,     4.67,2,   -999.0,9,   2177.5,2,  0.0071,   0.007,  -999.0,   0.140,  102837
      06MT30_3,  A01E,   540,  1,      6,   U006,2,19941213,0029, 52.5600, -21.2433, 3788,   3102.5,   2.7610,  34.9411,2,  34.9410,2,   -999.0,1,  2.5047,    255.1,3,    27.64,3,    19.77,3,     1.30,3,    0.528,3,    0.272,3, -999.000,9,-999.0000,9,  -999.00,9,   -999.0,9,   -999.0,9,-999.0000,-999.000,  -999.0,-999.000,  102836
      06MT30_3,  A01E,   540,  1,      5,   U023,2,19941213,0029, 52.5600, -21.2433, 3788,   3353.4,   2.5770,  34.9229,2,  34.9223,2,   -999.0,1,  2.2985,    245.2,2,    37.21,2,    21.69,2,     1.43,2,    0.199,3,    0.104,3,    0.179,2,   1.8163,2,     3.13,2,   -999.0,9,   -999.0,9,  0.0073,   0.004,  -999.0,   0.140,  102835
      06MT30_3,  A01E,   540,  1,      4,   K056,2,19941213,0029, 52.5600, -21.2433, 3788,   3605.4,   2.4780,  34.9102,2,  34.9090,2,   -999.0,1,  2.1746,    240.2,2,    42.64,2,    22.69,2,     1.49,2, -999.000,9, -999.000,9,    0.027,2,   1.8143,2,     2.58,2,   -999.0,9,   -999.0,9,  0.0073,   0.008,  -999.0,   0.140,  102834
      06MT30_3,  A01E,   540,  1,      3,   U018,2,19941213,0029, 52.5600, -21.2433, 3788,   3705.5,   2.4700,  34.9083,2,  34.9072,2,   -999.0,1,  2.1558,    239.4,2,    43.33,2,    22.78,2,     1.51,2,    0.059,3,    0.033,3, -999.000,9,-999.0000,9,  -999.00,9,   -999.0,9,   -999.0,9,-999.0000,-999.000,  -999.0,-999.000,  102833
      06MT30_3,  A01E,   540,  1,      2,   U022,2,19941213,0029, 52.5600, -21.2433, 3788,   3792.4,   2.4760,  34.9081,2,  34.9067,2,   -999.0,1,  2.1520,    239.4,2,    43.48,2,    22.81,2,     1.53,2, -999.000,9, -999.000,9, -999.000,9,-999.0000,9,  -999.00,9,   -999.0,9,   -999.0,9,-999.0000,-999.000,  -999.0,-999.000,  102832
      06MT30_3,  A01E,   540,  1,      1,   B025,2,19941213,0029, 52.5600, -21.2433, 3788,   3840.5,   2.4810,  34.9083,2,  34.9076,2,   -999.0,1,  2.1514,    239.7,2,    43.54,2,    22.63,2,     1.50,2,    0.056,3,    0.030,3,    0.013,2,   1.8187,2,     2.65,2,   -999.0,9,   2204.1,2,  0.0073,   0.001,  -999.0,   0.140,  102831
      06MT30_3,  A01E,   541,  1,      0,   -999,2,19941213,0728, 52.3300, -20.0100, 3272,      5.0,  10.8000,-999.0000,9,  35.3250,2,   -999.0,9,-999.0000,   -999.0,9,  -999.00,9,  -999.00,9,  -999.00,9, -999.000,9, -999.000,9, -999.000,9,-999.0000,9,  -999.00,9,   -999.0,9,   2093.4,2,-999.0000,-999.000,  -999.0,-999.000,    -999
      06MT30_3,  A01E,   541,  1,     24,   K012,2,19941213,0728, 52.3300, -20.0100, 3272,     23.5,  10.8670,  35.1982,2,  35.1973,2,   -999.0,1, 10.8641,    260.6,2,     2.21,2,     7.43,2,     0.52,2,    3.216,3,    1.747,3, -999.000,9,-999.0000,9,  -999.00,9,   -999.0,9,   2094.6,2,-999.0000,-999.000,  -999.0,-999.000,  102878
      06MT30_3,  A01E,   541,  1,     23,   K125,2,19941213,0728, 52.3300, -20.0100, 3272,     48.9,  10.8740,  35.1993,2,  35.1984,2,   -999.0,1, 10.8680,    260.5,2,     2.21,2,     7.44,2,     0.52,2, -999.000,9, -999.000,9, -999.000,9,-999.0000,9,  -999.00,9,   -999.0,9,   -999.0,9,-999.0000,-999.000,  -999.0,-999.000,  102877
      06MT30_3,  A01E,   541,  1,     22,   B027,2,19941213,0728, 52.3300, -20.0100, 3272,     94.9,  10.8570,  35.2071,2,  35.2064,2,   -999.0,1, 10.8454,    260.4,2,     2.21,2,     7.55,2,     0.51,2, -999.000,9, -999.000,9, -999.000,9,-999.0000,9,  -999.00,9,   -999.0,9,   2096.1,2,-999.0000,-999.000,  -999.0,-999.000,  102876
      06MT30_3,  A01E,   541,  1,     21,   K040,2,19941213,0728, 52.3300, -20.0100, 3272,    150.2,  10.8020,  35.2451,2,  35.2443,2,   -999.0,1, 10.7837,    249.8,2,     3.08,2,     9.41,2,     0.61,2, -999.000,9, -999.000,9, -999.000,9,-999.0000,9,  -999.00,9,   -999.0,9,   2104.9,2,-999.0000,-999.000,  -999.0,-999.000,  102875
      06MT30_3,  A01E,   541,  1,     20,   K097,2,19941213,0728, 52.3300, -20.0100, 3272,    248.7,   9.7740,  35.3122,2,  35.3134,2,   -999.0,1,  9.7454,    247.7,2,     4.51,2,    13.45,2,     0.84,2,    3.505,3,    1.896,3,    1.679,2,   1.7463,2,    -0.20,2,   -999.0,9,   2130.1,2,  0.0070,   0.037,  -999.0,   0.150,  102874
      06MT30_3,  A01E,   541,  1,     19,   U015,2,19941213,0728, 52.3300, -20.0100, 3272,    395.7,   7.6960,  35.0255,2,  35.0275,2,   -999.0,1,  7.6563,    230.0,2,     8.86,2,    17.75,2,     1.13,2, -999.000,9, -999.000,9, -999.000,9,-999.0000,9,  -999.00,9,   -999.0,9,   2149.9,2,-999.0000,-999.000,  -999.0,-999.000,  102873
      06MT30_3,  A01E,   541,  1,     18,   B003,2,19941213,0728, 52.3300, -20.0100, 3272,    599.5,   6.6500,  35.0448,2,  35.0463,2,   -999.0,1,  6.5937,    216.7,2,    10.64,2,    19.58,2,     1.25,2,    2.115,2,    1.054,2,    1.355,2,   1.7729,2,     5.72,2,   -999.0,9,   2163.8,2,  0.0071,   0.033,  -999.0,   0.160,  102872
      06MT30_3,  A01E,   541,  1,     17,   K124,2,19941213,0728, 52.3300, -20.0100, 3272,    800.4,   5.8300,  35.0949,2,  35.0948,2,   -999.0,1,  5.7587,    226.9,2,    10.99,2,    19.55,2,     1.22,2,    1.841,2,    0.896,2, -999.000,9,-999.0000,9,  -999.00,9,   -999.0,9,   2166.3,2,-999.0000,-999.000,  -999.0,-999.000,  102871
      06MT30_3,  A01E,   541,  1,     16,   K114,2,19941213,0728, 52.3300, -20.0100, 3272,    999.1,   4.8140,  35.0133,2,  35.0147,2,   -999.0,1,  4.7313,    246.1,2,    10.89,2,    19.10,2,     1.20,2, -999.000,9, -999.000,9,    1.252,2,   1.7848,2,     7.94,2,   -999.0,9,   2162.4,2,  0.0071,   0.026,  -999.0,   0.160,  102870
      06MT30_3,  A01E,   541,  1,     15,   U010,2,19941213,0728, 52.3300, -20.0100, 3272,   1200.5,   4.0390,  34.9314,2,  34.9315,2,   -999.0,1,  3.9452,    263.4,2,    10.72,2,    18.60,2,     1.19,2,    1.968,2,    0.976,2, -999.000,9,-999.0000,9,  -999.00,9,   -999.0,9,   -999.0,9,-999.0000,-999.000,  -999.0,-999.000,  102869
      06MT30_3,  A01E,   541,  1,     14,   U002,2,19941213,0728, 52.3300, -20.0100, 3272,   1400.8,   3.7100,  34.9050,2,  34.9059,2,   -999.0,1,  3.6020,    272.8,2,    10.58,2,    18.28,2,     1.16,2, -999.000,9, -999.000,9,    1.344,2,   1.7915,2,     8.16,2,   -999.0,9,   2151.6,2,  0.0072,   0.024,  -999.0,   0.160,  102868
      06MT30_3,  A01E,   541,  1,     13,   B009,2,19941213,0728, 52.3300, -20.0100, 3272,   1601.8,   3.5040,  34.8927,2,  34.8926,2,   -999.0,1,  3.3806,    278.3,2,    10.61,2,    18.07,2,     1.14,2,    2.024,2,    0.986,2, -999.000,9,-999.0000,9,  -999.00,9,   -999.0,9,   2149.2,2,-999.0000,-999.000,  -999.0,-999.000,  102867
      06MT30_3,  A01E,   541,  1,     12,   K117,2,19941213,0728, 52.3300, -20.0100, 3272,   1800.9,   3.3960,  34.8923,2,  34.8928,2,   -999.0,1,  3.2561,    279.8,2,    10.88,2,    17.81,2,     1.13,2,    1.982,2,    0.981,2,    1.351,2,   1.7943,2,     7.54,2,   -999.0,9,   -999.0,9,  0.0072,   0.031,  -999.0,   0.160,  102866
      06MT30_3,  A01E,   541,  1,     11,   B008,2,19941213,0728, 52.3300, -20.0100, 3272,   2000.9,   3.3790,  34.9054,2,  34.9063,2,   -999.0,1,  3.2208,    276.9,2,    11.59,2,    17.69,2,     1.14,2,    1.668,2,    0.814,2, -999.000,9,-999.0000,9,  -999.00,9,   -999.0,9,   2149.7,2,-999.0000,-999.000,  -999.0,-999.000,  102865
      06MT30_3,  A01E,   541,  1,     10,   K115,2,19941213,0728, 52.3300, -20.0100, 3272,   2201.4,   3.3470,  34.9306,2,  34.9321,2,   -999.0,1,  3.1702,    271.1,2,    13.40,2,    17.93,2,     1.16,2,    1.112,2,    0.528,2,    0.937,2,   1.7969,2,     7.99,2,   -999.0,9,   -999.0,9,  0.0072,   0.025,  -999.0,   0.160,  102864
      06MT30_3,  A01E,   541,  1,      9,   K036,2,19941213,0728, 52.3300, -20.0100, 3272,   2396.2,   3.2010,  34.9421,2,  34.9426,2,   -999.0,1,  3.0076,    265.7,2,    17.44,2,    18.47,2,     1.20,2,    0.819,2,    0.399,2, -999.000,9,-999.0000,9,  -999.00,9,   -999.0,9,   2159.1,2,-999.0000,-999.000,  -999.0,-999.000,  102863
      06MT30_3,  A01E,   541,  1,      8,   B026,2,19941213,0728, 52.3300, -20.0100, 3272,   2602.1,   3.0260,  34.9474,2,  34.9472,2,   -999.0,1,  2.8154,    261.8,2,    20.67,2,    18.82,2,     1.22,2,    0.727,2,    0.355,2,    0.639,2,   1.8152,2,     6.23,2,   -999.0,9,   2163.5,2,  0.0073,   0.022,  -999.0,   0.160,  102862
      06MT30_3,  A01E,   541,  1,      7,   B004,2,19941213,0728, 52.3300, -20.0100, 3272,   2802.1,   2.8310,  34.9417,2,  34.9416,2,   -999.0,1,  2.6042,    252.0,2,    29.22,2,    20.36,2,     1.34,2,    0.332,3,    0.176,3, -999.000,9,-999.0000,9,  -999.00,9,   -999.0,9,   2178.7,2,-999.0000,-999.000,  -999.0,-999.000,  102861
      06MT30_3,  A01E,   541,  1,      6,   U006,2,19941213,0728, 52.3300, -20.0100, 3272,   2899.1,   2.7780,  34.9397,2,  34.9391,2,   -999.0,1,  2.5424,    251.5,2,    30.68,2,    20.67,2,     1.36,2,    0.305,2,    0.156,2, -999.000,9,-999.0000,9,  -999.00,9,   -999.0,9,   -999.0,9,-999.0000,-999.000,  -999.0,-999.000,  102860
      06MT30_3,  A01E,   541,  1,      5,   U023,2,19941213,0728, 52.3300, -20.0100, 3272,   3051.2,   2.6970,  34.9339,2,  34.9336,2,   -999.0,1,  2.4475,    248.1,2,    33.78,2,    21.16,2,     1.40,2, -999.000,9, -999.000,9,    0.199,2,   1.8145,2,     3.58,2,   -999.0,9,   -999.0,9,  0.0073,   0.013,  -999.0,   0.150,  102859
      06MT30_3,  A01E,   541,  1,      4,   K056,2,19941213,0728, 52.3300, -20.0100, 3272,   3201.7,   2.6270,  34.9268,2,  34.9258,2,   -999.0,1,  2.3634,    245.1,2,    36.82,2,    21.73,2,     1.45,2,    0.145,3,    0.078,3, -999.000,9,-999.0000,9,  -999.00,9,   -999.0,9,   2189.1,2,-999.0000,-999.000,  -999.0,-999.000,  102858
      06MT30_3,  A01E,   541,  1,      3,   U018,2,19941213,0728, 52.3300, -20.0100, 3272,   3352.4,   2.5480,  34.9194,2,  34.9164,3,   -999.0,1,  2.2703,    242.7,2,    39.79,2,    22.18,2,     1.47,2,    0.098,3,    0.053,3, -999.000,9,-999.0000,9,  -999.00,9,   -999.0,9,   -999.0,9,-999.0000,-999.000,  -999.0,-999.000,  102857
      06MT30_3,  A01E,   541,  1,      2,   U022,2,19941213,0728, 52.3300, -20.0100, 3272,   3410.4,   2.5030,  34.9143,2,  34.9137,2,   -999.0,1,  2.2202,    241.4,2,    41.48,2,    22.48,2,     1.49,2,    0.081,2,    0.040,2, -999.000,9,-999.0000,9,  -999.00,9,   -999.0,9,   -999.0,9,-999.0000,-999.000,  -999.0,-999.000,  102856
      06MT30_3,  A01E,   541,  1,      1,   B025,2,19941213,0728, 52.3300, -20.0100, 3272,   3456.8,   2.4930,  34.9129,2,  34.9119,2,   -999.0,1,  2.2054,    240.8,2,    41.91,2,    22.53,2,     1.50,2,    0.074,3,    0.042,3,    0.048,2,   1.8159,2,     2.79,2,   -999.0,9,   2196.1,2,  0.0073,   0.009,  -999.0,   0.150,  102855