BOTTLE,20060322WHPSIOSA
#code : jjward hyd_to_exchange.pl 
#original files copied from HTML directory: March 22, 2006
#original HYD file: a01ewhy.txt   Wed Mar 22 10:26:58 2006
#original SUM file: a01ewsu.txt   Wed Mar 22 10:28:04 2006
EXPOCODE,SECT_ID,STNNBR,CASTNO,SAMPNO,BTLNBR,BTLNBR_FLAG_W,DATE,TIME,LATITUDE,LONGITUDE,DEPTH,CTDPRS,CTDTMP,CTDSAL,CTDSAL_FLAG_W,SALNTY,SALNTY_FLAG_W,CTDOXY,CTDOXY_FLAG_W,THETA,OXYGEN,OXYGEN_FLAG_W,SILCAT,SILCAT_FLAG_W,NO2+NO3,NO2+NO3_FLAG_W,PHSPHT,PHSPHT_FLAG_W,CFC-11,CFC-11_FLAG_W,CFC-12,CFC-12_FLAG_W,TRITUM,TRITUM_FLAG_W,HELIUM,HELIUM_FLAG_W,DELHE3,DELHE3_FLAG_W,DELC14,DELC14_FLAG_W,TCARBN,TCARBN_FLAG_W,HELIER,TRITER,C14ERR,DELHER,BEDFORT
,,,,,,,,,,,,DBAR,ITS-90,PSS-78,,PSS-78,,UMOL/KG,,ITS-90,UMOL/KG,,UMOL/KG,,UMOL/KG,,UMOL/KG,,PMOL/KG,,PMOL/KG,,TU,,NMOL/KG,,PERCNT,,/MILLE,,UMOL/KG,,NMOL/KG,TU,/MILLE,PERCNT,NUM
      06MT30_3,  A01W,   490,  1,      5,   U319,2,19941118,0913, 54.7533, -54.4900,  244,     10.5,   0.1530,  32.6949,2,  32.6969,2,   -999.0,1,  0.1527,    326.6,2,     8.04,2,     6.93,2,     0.96,2,    6.031,2,    2.766,2, -999.000,9,-999.0000,9,  -999.00,9,   -999.0,9,   -999.0,9,-999.0000,-999.000,  -999.0,-999.000,  101755
      06MT30_3,  A01W,   490,  1,      4,   K056,2,19941118,0913, 54.7533, -54.4900,  244,     51.1,   0.2070,  32.8368,2,  32.8358,2,   -999.0,1,  0.2053,    316.0,2,     9.03,2,     7.88,2,     0.99,2,    5.950,2,    2.754,2, -999.000,9,-999.0000,9,  -999.00,9,   -999.0,9,   -999.0,9,-999.0000,-999.000,  -999.0,-999.000,  101754
      06MT30_3,  A01W,   490,  1,      3,   K061,2,19941118,0913, 54.7533, -54.4900,  244,     99.4,   0.2130,  32.8542,2,  32.8505,2,   -999.0,1,  0.2096,    320.4,2,     8.79,2,     7.66,2,     0.97,2, -999.000,9, -999.000,9, -999.000,9,-999.0000,9,  -999.00,9,   -999.0,9,   -999.0,9,-999.0000,-999.000,  -999.0,-999.000,  101753
      06MT30_3,  A01W,   490,  1,      2,   K052,2,19941118,0913, 54.7533, -54.4900,  244,    201.2,   0.5940,  33.5729,2,  33.5669,2,   -999.0,1,  0.5860,    297.2,2,    11.34,2,    10.81,2,     1.04,2, -999.000,9, -999.000,9, -999.000,9,-999.0000,9,  -999.00,9,   -999.0,9,   -999.0,9,-999.0000,-999.000,  -999.0,-999.000,  101752
      06MT30_3,  A01W,   490,  1,      1,   K038,2,19941118,0913, 54.7533, -54.4900,  244,    221.1,   1.4900,  33.8924,2,  33.8339,2,   -999.0,1,  1.4794,    294.4,2,    10.69,2,    11.48,2,     1.00,2,    5.261,2,    2.443,2, -999.000,9,-999.0000,9,  -999.00,9,   -999.0,9,   -999.0,9,-999.0000,-999.000,  -999.0,-999.000,  101751
      06MT30_3,  A01W,   491,  1,     11,   K117,2,19941118,1129, 54.9550, -54.2850,  371,     13.5,   0.6580,  33.3369,2,  33.3385,2,   -999.0,1,  0.6575,    316.8,2,     8.59,2,     8.31,2,     0.93,2, -999.000,9, -999.000,9,    3.356,2,   1.8359,2,     1.59,2,   -999.0,9,   -999.0,9,  0.0073,   0.037,  -999.0,   0.180,  101761
      06MT30_3,  A01W,   491,  1,     10,   K008,2,19941118,1129, 54.9550, -54.2850,  371,     51.9,   1.1150,  33.4562,2,  33.4437,2,   -999.0,1,  1.1128,    319.5,2,     7.61,2,     8.10,2,     0.87,2, -999.000,9, -999.000,9,    3.113,2,   1.8379,2,     0.62,2,   -999.0,9,   -999.0,9,  0.0074,   0.039,  -999.0,   0.180,  101760
      06MT30_3,  A01W,   491,  1,      9,   K115,2,19941118,1129, 54.9550, -54.2850,  371,    102.9,   2.2420,  33.7312,2,  33.7229,2,   -999.0,1,  2.2365,    322.0,2,     4.87,2,     7.47,2,     0.72,2, -999.000,9, -999.000,9,    2.827,2,   1.8103,2,    -1.17,2,   -999.0,9,   -999.0,9,  0.0072,   0.035,  -999.0,   0.180,  101759
      06MT30_3,  A01W,   491,  1,      8,   K036,2,19941118,1129, 54.9550, -54.2850,  371,    200.4,   2.1290,  34.2273,2,  34.2250,2,   -999.0,1,  2.1182,    289.0,2,     9.87,2,    13.26,2,     1.03,2, -999.000,9, -999.000,9, -999.000,9,-999.0000,9,  -999.00,9,   -999.0,9,   -999.0,9,-999.0000,-999.000,  -999.0,-999.000,  101758
      06MT30_3,  A01W,   491,  1,      7,   K067,2,19941118,1129, 54.9550, -54.2850,  371,    299.9,   2.6140,  34.4198,2,  34.4254,2,   -999.0,1,  2.5963,    285.0,2,    10.26,2,    14.56,2,     1.06,2, -999.000,9, -999.000,9,    2.162,2,   1.8288,2,     2.01,2,   -999.0,9,   -999.0,9,  0.0073,   0.030,  -999.0,   0.180,  101757
      06MT30_3,  A01W,   491,  1,      6,   K017,2,19941118,1129, 54.9550, -54.2850,  371,    350.9,   3.3610,  34.6681,2,  34.6649,2,   -999.0,1,  3.3379,    285.1,2,     9.85,2,    15.68,2,     1.07,2, -999.000,9, -999.000,9, -999.000,9,-999.0000,9,  -999.00,9,   -999.0,9,   -999.0,9,-999.0000,-999.000,  -999.0,-999.000,  101756
      06MT30_3,  A01W,   492,  1,     24,   K012,2,19941118,1355, 55.1083, -54.1317,  928,     12.6,   2.0400,  33.7804,2,  33.7922,2,   -999.0,1,  2.0394,    313.7,2,     6.64,2,     8.69,2,     0.80,2,    5.421,2,    2.551,2,    2.760,2,   1.8006,2,    -0.21,2,   -999.0,9,   -999.0,9,  0.0072,   0.043,  -999.0,   0.140,  101774
      06MT30_3,  A01W,   492,  1,     23,   K123,2,19941118,1355, 55.1083, -54.1317,  928,     49.7,   2.6320,  33.9054,2,  33.9055,2,   -999.0,1,  2.6292,    312.7,2,     5.46,2,     8.40,2,     0.76,2, -999.000,9, -999.000,9, -999.000,9,-999.0000,9,  -999.00,9,   -999.0,9,   -999.0,9,-999.0000,-999.000,  -999.0,-999.000,  101773
      06MT30_3,  A01W,   492,  1,     22,   K033,2,19941118,1355, 55.1083, -54.1317,  928,    101.3,   2.3860,  34.2296,2,  34.2316,2,   -999.0,1,  2.3804,    292.5,2,     8.72,2,    12.89,2,     0.96,2,    5.012,2,    2.302,2,    2.353,2,   1.8221,2,     1.74,2,   -999.0,9,   -999.0,9,  0.0073,   0.033,  -999.0,   0.140,  101772
      06MT30_3,  A01W,   492,  1,     21,   K040,2,19941118,1355, 55.1083, -54.1317,  928,    194.5,   3.3420,  34.6584,2,  34.6636,2,   -999.0,1,  3.3295,    285.8,2,     9.83,2,    15.81,2,     1.06,2, -999.000,9, -999.000,9,    1.964,2,   1.8121,2,     1.02,2,   -999.0,9,   -999.0,9,  0.0072,   0.027,  -999.0,   0.150,  101771
      06MT30_3,  A01W,   492,  1,     20,   K097,2,19941118,1355, 55.1083, -54.1317,  928,    239.0,   3.5550,  34.7368,2,  34.7365,2,   -999.0,1,  3.5391,    284.4,2,    10.00,2,    16.19,2,     1.09,2,    4.540,2,    2.100,2, -999.000,9,-999.0000,9,  -999.00,9,   -999.0,9,   -999.0,9,-999.0000,-999.000,  -999.0,-999.000,  101770
      06MT30_3,  A01W,   492,  1,     19,   K126,2,19941118,1355, 55.1083, -54.1317,  928,    350.4,   3.7040,  34.8031,2,  34.8022,2,   -999.0,1,  3.6799,    286.0,2,     9.71,2,    16.41,2,     1.08,2, -999.000,9, -999.000,9,    1.820,2,   1.8028,2,     1.00,2,   -999.0,9,   -999.0,9,  0.0072,   0.026,  -999.0,   0.140,  101769
      06MT30_3,  A01W,   492,  1,     18,   K085,2,19941118,1355, 55.1083, -54.1317,  928,    447.1,   3.7730,  34.8441,2,  34.8435,2,   -999.0,1,  3.7416,    286.5,2,     9.61,2,    16.57,2,     1.08,2,    4.497,2,    2.111,2, -999.000,9,-999.0000,9,  -999.00,9,   -999.0,9,   -999.0,9,-999.0000,-999.000,  -999.0,-999.000,  101768
      06MT30_3,  A01W,   492,  1,     17,   K124,2,19941118,1355, 55.1083, -54.1317,  928,    550.2,   3.7160,  34.8646,2,  34.8633,2,   -999.0,1,  3.6771,    289.0,2,     9.40,2,    16.70,2,     1.08,2,    4.289,2,    2.012,2,    1.723,2,   1.7844,2,     0.94,2,   -999.0,9,   -999.0,9,  0.0071,   0.029,  -999.0,   0.140,  101767
      06MT30_3,  A01W,   492,  1,     16,   K114,2,19941118,1355, 55.1083, -54.1317,  928,    645.5,   3.5610,  34.8749,2,  34.8740,2,   -999.0,1,  3.5157,    290.0,2,     9.74,2,    16.80,2,     1.08,2,    4.138,2,    1.912,2,    1.687,2,   1.7871,2,     1.77,2,   -999.0,9,   -999.0,9,  0.0071,   0.026,  -999.0,   0.140,  101766
      06MT30_3,  A01W,   492,  1,     15,   U010,2,19941118,1355, 55.1083, -54.1317,  928,    751.3,   3.5270,  34.8755,2,  34.8747,2,   -999.0,1,  3.4739,    289.5,2,     9.74,2,    16.87,2,     1.09,2,    4.096,2,    1.914,2, -999.000,9,-999.0000,9,  -999.00,9,   -999.0,9,   -999.0,9,-999.0000,-999.000,  -999.0,-999.000,  101765
      06MT30_3,  A01W,   492,  1,     14,   U002,2,19941118,1355, 55.1083, -54.1317,  928,    849.6,   3.5340,  34.8757,2,  34.8745,2,   -999.0,1,  3.4732,    289.6,2,     9.74,2,    16.80,2,     1.10,2,    3.932,2,    1.788,2,    1.761,2,   1.7944,2,     1.96,2,   -999.0,9,   -999.0,9,  0.0072,   0.028,  -999.0,   0.180,  101764
      06MT30_3,  A01W,   492,  1,     13,   K090,2,19941118,1355, 55.1083, -54.1317,  928,    898.8,   3.5320,  34.8759,2,  34.8750,2,   -999.0,1,  3.4674,    289.6,2,     9.73,2,    16.76,2,     1.10,2,    3.748,2,    1.738,2, -999.000,9,-999.0000,9,  -999.00,9,   -999.0,9,   -999.0,9,-999.0000,-999.000,  -999.0,-999.000,  101763
      06MT30_3,  A01W,   492,  1,     12,   K117,2,19941118,1355, 55.1083, -54.1317,  928,    910.2,   3.5340,  34.8760,2,  34.8750,2,   -999.0,1,  3.4685,    289.8,2,     9.71,2,    16.75,2,     1.09,2,    4.033,2,    1.884,2,    1.728,2,   1.7976,2,     1.61,2,   -999.0,9,   -999.0,9,  0.0072,   0.030,  -999.0,   0.150,  101762
      06MT30_3,  A01W,   493,  2,     23,   K125,2,19941118,2043, 55.2400, -53.9450, 2006,     13.1,   4.1720,  34.2978,2,  34.2995,2,   -999.0,1,  4.1711,    308.6,2,     2.72,2,     7.29,2,     0.63,2,    5.314,2,    2.562,2,    2.185,2,   1.7818,2,    -1.66,2,   -999.0,9,   -999.0,9,  0.0071,   0.044,  -999.0,   0.180,  101797
      06MT30_3,  A01W,   493,  2,     22,   K033,2,19941118,2043, 55.2400, -53.9450, 2006,     50.3,   4.2340,  34.3174,2,  34.3150,2,   -999.0,1,  4.2305,    307.8,2,     2.75,2,     7.51,2,     0.63,2, -999.000,9, -999.000,9,    2.186,2,   1.7803,2,    -1.45,2,   -999.0,9,   -999.0,9,  0.0071,   0.034,  -999.0,   0.160,  101796
      06MT30_3,  A01W,   493,  2,     21,   K040,2,19941118,2043, 55.2400, -53.9450, 2006,    100.2,   3.9640,  34.4898,2,  34.4949,2,   -999.0,1,  3.9571,    298.9,2,     5.02,2,    11.44,2,     0.82,2,    5.217,2,    2.504,2,    2.101,2,   1.8292,2,    -2.18,2,   -999.0,9,   -999.0,9,  0.0073,   0.023,  -999.0,   0.160,  101795
      06MT30_3,  A01W,   493,  2,     20,   K097,2,19941118,2043, 55.2400, -53.9450, 2006,    200.1,   3.6590,  34.7987,2,  34.7967,2,   -999.0,1,  3.6455,    292.3,2,     8.09,2,    16.13,2,     1.06,2, -999.000,9, -999.000,9,    1.782,2,   1.7951,2,    -0.48,2,   -999.0,9,   -999.0,9,  0.0072,   0.029,  -999.0,   0.160,  101794
      06MT30_3,  A01W,   493,  2,     19,   K126,2,19941118,2043, 55.2400, -53.9450, 2006,    299.2,   3.6400,  34.8471,2,  34.8450,2,   -999.0,1,  3.6196,    292.9,2,     8.41,2,    16.27,2,     1.06,2,    4.510,2,    2.179,2,    1.713,2,   1.7944,2,     0.06,2,   -999.0,9,   -999.0,9,  0.0072,   0.039,  -999.0,   0.180,  101793
      06MT30_3,  A01W,   493,  2,     17,   K124,2,19941118,2043, 55.2400, -53.9450, 2006,    499.0,   3.4410,  34.8601,2,  34.8589,2,   -999.0,1,  3.4070,    294.6,2,     8.74,2,    16.56,2,     1.06,2,    4.328,2,    2.039,2, -999.000,9,-999.0000,9,  -999.00,9,   -999.0,9,   -999.0,9,-999.0000,-999.000,  -999.0,-999.000,  101791
      06MT30_3,  A01W,   493,  2,     16,   K114,2,19941118,2043, 55.2400, -53.9450, 2006,    598.8,   3.3250,  34.8577,2,  34.8568,2,   -999.0,1,  3.2843,    296.3,2,     8.85,2,    16.60,2,     1.07,2,    4.258,2,    2.040,2,    1.759,2,   1.7918,2,     1.10,2,   -999.0,9,   -999.0,9,  0.0072,   0.031,  -999.0,   0.160,  101790
      06MT30_3,  A01W,   493,  2,     15,   U010,2,19941118,2043, 55.2400, -53.9450, 2006,    699.6,   3.2970,  34.8680,2,  34.8676,2,   -999.0,1,  3.2491,    293.9,2,     9.21,2,    16.77,2,     1.08,2, -999.000,9, -999.000,9, -999.000,9,-999.0000,9,  -999.00,9,   -999.0,9,   -999.0,9,-999.0000,-999.000,  -999.0,-999.000,  101789
      06MT30_3,  A01W,   493,  2,     14,   U002,2,19941118,2043, 55.2400, -53.9450, 2006,    799.5,   3.2540,  34.8722,2,  34.8719,2,   -999.0,1,  3.1989,    293.5,2,     9.38,2,    16.91,2,     1.09,2, -999.000,9, -999.000,9,    1.606,2,   1.7873,2,     2.41,2,   -999.0,9,   -999.0,9,  0.0071,   0.033,  -999.0,   0.160,  101788
      06MT30_3,  A01W,   493,  2,     13,   K090,2,19941118,2043, 55.2400, -53.9450, 2006,    898.5,   3.1790,  34.8689,2,  34.8687,2,   -999.0,1,  3.1169,    293.6,2,     9.38,2,    16.72,2,     1.09,2, -999.000,9, -999.000,9, -999.000,9,-999.0000,9,  -999.00,9,   -999.0,9,   -999.0,9,-999.0000,-999.000,  -999.0,-999.000,  101787
      06MT30_3,  A01W,   493,  2,     12,   K117,2,19941118,2043, 55.2400, -53.9450, 2006,    999.8,   3.0930,  34.8630,2,  34.8629,2,   -999.0,1,  3.0238,    295.6,2,     9.36,2,    16.67,2,     1.08,2,    3.872,2,    1.822,2,    1.615,2,   1.8646,2,     2.82,3,   -999.0,9,   -999.0,9,  0.0075,   0.025,  -999.0,   0.160,  101786
      06MT30_3,  A01W,   493,  2,     11,   B008,2,19941118,2043, 55.2400, -53.9450, 2006,   1099.2,   3.0510,  34.8615,2,  34.8613,2,   -999.0,1,  2.9744,    294.3,2,     9.33,2,    16.65,2,     1.09,2, -999.000,9, -999.000,9, -999.000,9,-999.0000,9,  -999.00,9,   -999.0,9,   -999.0,9,-999.0000,-999.000,  -999.0,-999.000,  101785
      06MT30_3,  A01W,   493,  2,     10,   K115,2,19941118,2043, 55.2400, -53.9450, 2006,   1200.0,   3.0100,  34.8590,2,  34.8595,2,   -999.0,1,  2.9258,    294.7,2,     9.38,2,    16.59,2,     1.08,2,    3.776,2,    1.753,2,    1.585,2,   1.7930,2,     3.09,2,   -999.0,9,   -999.0,9,  0.0072,   0.027,  -999.0,   0.160,  101784
      06MT30_3,  A01W,   493,  2,      9,   K036,2,19941118,2043, 55.2400, -53.9450, 2006,   1298.6,   2.9810,  34.8578,2,  34.8580,2,   -999.0,1,  2.8892,    294.5,2,     9.40,2,    16.64,2,     1.09,2, -999.000,9, -999.000,9, -999.000,9,-999.0000,9,  -999.00,9,   -999.0,9,   -999.0,9,-999.0000,-999.000,  -999.0,-999.000,  101783
      06MT30_3,  A01W,   493,  2,      8,   U017,2,19941118,2043, 55.2400, -53.9450, 2006,   1499.8,   2.9400,  34.8670,2,  34.8664,2,   -999.0,1,  2.8321,    291.9,2,     9.66,2,    16.47,2,     1.07,2,    3.401,2,    1.580,2,    1.592,2,   1.7985,2,     3.88,2,   -999.0,9,   -999.0,9,  0.0072,   0.027,  -999.0,   0.170,  101782
      06MT30_3,  A01W,   493,  2,      7,   B004,2,19941118,2043, 55.2400, -53.9450, 2006,   1599.1,   2.9450,  34.8683,2,  34.8685,2,   -999.0,1,  2.8287,    291.8,2,     9.65,2,    16.43,2,     1.07,2, -999.000,9, -999.000,9, -999.000,9,-999.0000,9,  -999.00,9,   -999.0,9,   -999.0,9,-999.0000,-999.000,  -999.0,-999.000,  101781
      06MT30_3,  A01W,   493,  2,      6,   K017,2,19941118,2043, 55.2400, -53.9450, 2006,   1699.7,   2.9550,  34.8690,2,  34.8694,2,   -999.0,1,  2.8300,    291.5,2,     9.72,2,    16.38,2,     1.08,2,    3.340,2,    1.538,2,    1.526,2,   1.7963,2,     4.11,2,   -999.0,9,   -999.0,9,  0.0072,   0.026,  -999.0,   0.170,  101780
      06MT30_3,  A01W,   493,  2,      5,   U023,2,19941118,2043, 55.2400, -53.9450, 2006,   1793.6,   2.9750,  34.8777,2,  34.8777,2,   -999.0,1,  2.8415,    288.8,2,     9.96,2,    16.34,2,     1.07,2, -999.000,9, -999.000,9, -999.000,9,-999.0000,9,  -999.00,9,   -999.0,9,   -999.0,9,-999.0000,-999.000,  -999.0,-999.000,  101779
      06MT30_3,  A01W,   493,  2,      4,   K056,2,19941118,2043, 55.2400, -53.9450, 2006,   1841.4,   2.9650,  34.8836,2,  34.8837,2,   -999.0,1,  2.8274,    287.6,2,    10.18,2,    16.35,2,     1.10,3,    2.965,2,    1.351,2,    1.459,2,   1.7972,2,     5.03,2,   -999.0,9,   -999.0,9,  0.0072,   0.022,  -999.0,   0.170,  101778
      06MT30_3,  A01W,   493,  2,      3,   U018,2,19941118,2043, 55.2400, -53.9450, 2006,   1940.1,   2.9600,  34.8859,2,  34.8857,2,   -999.0,1,  2.8136,    287.1,2,    10.30,2,    16.29,2,     1.06,2, -999.000,9, -999.000,9,    1.374,2,   1.7986,2,     5.32,2,   -999.0,9,   -999.0,9,  0.0072,   0.028,  -999.0,   0.160,  101777
      06MT30_3,  A01W,   493,  2,      2,   K052,2,19941118,2043, 55.2400, -53.9450, 2006,   1992.8,   2.9590,  34.8868,2,  34.8865,2,   -999.0,1,  2.8079,    286.8,2,    10.37,2,    16.34,2,     1.10,3,    2.993,2, -999.000,9, -999.000,9,-999.0000,9,  -999.00,9,   -999.0,9,   -999.0,9,-999.0000,-999.000,  -999.0,-999.000,  101776
      06MT30_3,  A01W,   493,  2,      1,   K038,2,19941118,2043, 55.2400, -53.9450, 2006,   2025.0,   2.9500,  34.8890,2,  34.8882,2,   -999.0,1,  2.7961,    286.8,2,    10.44,2,    16.26,2,     1.08,3, -999.000,9, -999.000,9,    1.340,2,   1.7988,2,     5.30,2,   -999.0,9,   -999.0,9,  0.0072,   0.023,  -999.0,   0.160,  101775