BOTTLE,20060322WHPSIOSA
EXPOCODE,SECT_ID,STNNBR,CASTNO,SAMPNO,BTLNBR,BTLNBR_FLAG_W,DATE,TIME,LATITUDE,LONGITUDE,DEPTH,CTDPRS,CTDTMP,CTDSAL,CTDSAL_FLAG_W,SALNTY,SALNTY_FLAG_W,CTDOXY,CTDOXY_FLAG_W,THETA,OXYGEN,OXYGEN_FLAG_W,SILCAT,SILCAT_FLAG_W,NO2+NO3,NO2+NO3_FLAG_W,PHSPHT,PHSPHT_FLAG_W,CFC-11,CFC-11_FLAG_W,CFC-12,CFC-12_FLAG_W,TRITUM,TRITUM_FLAG_W,HELIUM,HELIUM_FLAG_W,DELHE3,DELHE3_FLAG_W,DELC14,DELC14_FLAG_W,TCARBN,TCARBN_FLAG_W,HELIER,TRITER,C14ERR,DELHER,BEDFORT
,,,,,,,,,,,,DBAR,ITS-90,PSS-78,,PSS-78,,UMOL/KG,,ITS-90,UMOL/KG,,UMOL/KG,,UMOL/KG,,UMOL/KG,,PMOL/KG,,PMOL/KG,,TU,,NMOL/KG,,PERCNT,,/MILLE,,UMOL/KG,,NMOL/KG,TU,/MILLE,PERCNT,NUM
      06MT30_3,  A01E,   506,  1,      0,   -999,2,19941125,0019, 59.9933, -42.5050,  193,      5.0,   0.7000,-999.0000,9,  32.8340,2,   -999.0,9,-999.0000,   -999.0,9,  -999.00,9,  -999.00,9,  -999.00,9, -999.000,9, -999.000,9, -999.000,9,-999.0000,9,  -999.00,9,   -999.0,9,   2065.0,2,-999.0000,-999.000,  -999.0,-999.000,    -999
      06MT30_3,  A01E,   506,  1,      5,   U023,2,19941125,0019, 59.9933, -42.5050,  193,     23.9,   0.8780,  33.0956,2,  33.0941,2,   -999.0,1,  0.8770,    337.0,2,     4.08,2,     7.12,2,     0.67,2,    6.146,2,    3.032,2,    3.566,2,-999.0000,5,  -999.00,5,   -999.0,9,   2080.1,2,-999.0000,   0.048,  -999.0,-999.000,  102067
      06MT30_3,  A01E,   506,  1,      4,   K056,2,19941125,0019, 59.9933, -42.5050,  193,     52.5,   1.0480,  33.2066,2,  33.2025,2,   -999.0,1,  1.0458,    335.4,2,     4.21,2,     7.50,2,     0.67,2, -999.000,9, -999.000,9,    3.406,2,   1.8537,2,    -1.79,2,   -999.0,9,   2085.3,2,  0.0074,   0.046,  -999.0,   0.130,  102066
      06MT30_3,  A01E,   506,  1,      3,   U018,2,19941125,0019, 59.9933, -42.5050,  193,     79.1,   1.3110,  33.3874,2,  33.4135,2,   -999.0,1,  1.3075,    330.6,2,     4.44,2,     8.23,2,     0.70,2,    5.784,2,    2.898,2,    3.329,2,   1.8484,2,    -1.48,2,   -999.0,9,   2092.8,2,  0.0074,   0.032,  -999.0,   0.130,  102065
      06MT30_3,  A01E,   506,  1,      2,   K052,2,19941125,0019, 59.9933, -42.5050,  193,    118.0,   1.9280,  33.7133,2,  33.7085,2,   -999.0,1,  1.9220,    324.7,2,     4.83,2,     9.35,2,     0.73,2, -999.000,9, -999.000,9,    2.897,2,   1.8302,2,    -1.61,2,   -999.0,9,   2103.7,2,  0.0073,   0.048,  -999.0,   0.130,  102064
      06MT30_3,  A01E,   506,  1,      1,   K038,2,19941125,0019, 59.9933, -42.5050,  193,    177.5,   2.8010,  34.0338,2,  34.0314,2,   -999.0,1,  2.7905,    315.8,2,     5.33,2,    10.68,2,     0.78,2,    5.327,2,    2.600,2,    2.662,2,   1.7314,2,    -1.50,3,   -999.0,9,   2115.1,2,  0.0069,   0.049,  -999.0,   0.130,  102063
      06MT30_3,  A01E,   507,  1,      0,   -999,2,19941125,0245, 59.9567, -42.1667,  490,      5.0,   4.3200,-999.0000,9,  34.3700,2,   -999.0,9,-999.0000,   -999.0,9,  -999.00,9,  -999.00,9,  -999.00,9, -999.000,9, -999.000,9, -999.000,9,-999.0000,9,  -999.00,9,   -999.0,9,   2122.4,2,-999.0000,-999.000,  -999.0,-999.000,    -999
      06MT30_3,  A01E,   507,  1,      8,   B013,2,19941125,0245, 59.9567, -42.1667,  490,     20.6,   4.0760,  34.5694,2,  34.5849,2,   -999.0,1,  4.0746,    304.0,2,     5.97,2,    12.96,2,     0.87,2,    4.743,2,    2.423,2,    2.168,2,   1.6706,2,    -1.33,3,   -999.0,9,   2124.2,2,  0.0067,   0.036,  -999.0,   0.120,  102075
      06MT30_3,  A01E,   507,  1,      7,   K117,2,19941125,0245, 59.9567, -42.1667,  490,     46.9,   4.3010,  34.6406,2,  34.6390,2,   -999.0,1,  4.2977,    302.4,2,     6.03,2,    13.23,2,     0.88,2, -999.000,9, -999.000,9,    2.027,2,   1.6169,2,    -1.60,3,   -999.0,9,   2124.9,2,  0.0065,   0.039,  -999.0,   0.120,  102074
      06MT30_3,  A01E,   507,  1,      6,   B008,2,19941125,0245, 59.9567, -42.1667,  490,     99.2,   4.4790,  34.6908,2,  34.6950,2,   -999.0,1,  4.4718,    300.6,2,     6.06,2,    13.42,2,     0.89,2,    4.599,2,    2.307,2, -999.000,9,-999.0000,9,  -999.00,9,   -999.0,9,   2127.9,2,-999.0000,-999.000,  -999.0,-999.000,  102073
      06MT30_3,  A01E,   507,  1,      5,   K115,2,19941125,0245, 59.9567, -42.1667,  490,    147.9,   4.8770,  34.7951,2,  34.7952,2,   -999.0,1,  4.8657,    298.0,2,     6.19,2,    13.93,2,     0.93,2, -999.000,9, -999.000,9,    1.955,2,   1.7908,2,    -1.29,2,   -999.0,9,   2130.6,2,  0.0072,   0.040,  -999.0,   0.130,  102072
      06MT30_3,  A01E,   507,  1,      4,   K036,2,19941125,0245, 59.9567, -42.1667,  490,    201.1,   4.8400,  34.8259,2,  34.8250,2,   -999.0,1,  4.8246,    293.0,2,     6.75,2,    14.51,2,     0.97,2, -999.000,9, -999.000,9, -999.000,9,-999.0000,9,  -999.00,9,   -999.0,9,   -999.0,9,-999.0000,-999.000,  -999.0,-999.000,  102071
      06MT30_3,  A01E,   507,  1,      3,   U017,2,19941125,0245, 59.9567, -42.1667,  490,    300.5,   4.9450,  34.8565,2,  34.8548,2,   -999.0,1,  4.9215,    289.9,2,     7.05,2,    14.87,2,     0.99,2, -999.000,9, -999.000,9,    1.791,2,   1.6456,2,    -0.55,3,   -999.0,9,   2137.9,2,  0.0066,   0.031,  -999.0,   0.130,  102070
      06MT30_3,  A01E,   507,  1,      2,   B004,2,19941125,0245, 59.9567, -42.1667,  490,    398.2,   4.8840,  34.8651,2,  34.8641,2,   -999.0,1,  4.8527,    287.9,2,     7.39,2,    15.16,2,     1.00,2, -999.000,9, -999.000,9, -999.000,9,-999.0000,9,  -999.00,9,   -999.0,9,   -999.0,9,-999.0000,-999.000,  -999.0,-999.000,  102069
      06MT30_3,  A01E,   507,  1,      1,   K017,2,19941125,0245, 59.9567, -42.1667,  490,    473.2,   4.7890,  34.8651,2,  34.8643,2,   -999.0,1,  4.7519,    286.1,2,     7.59,2,    15.22,2,     0.99,2,    4.236,2,    2.154,2,    1.803,2,   1.5840,2,    -0.30,3,   -999.0,9,   2142.2,2,  0.0063,   0.036,  -999.0,   0.130,  102068
      06MT30_3,  A01E,   508,  1,      0,   -999,2,19941125,0505, 59.9200, -41.8600, 1801,      5.0,   5.2000,-999.0000,9,  34.9080,2,   -999.0,9,-999.0000,   -999.0,9,  -999.00,9,  -999.00,9,  -999.00,9, -999.000,9, -999.000,9, -999.000,9,-999.0000,9,  -999.00,9,   -999.0,9,   2130.3,2,-999.0000,-999.000,  -999.0,-999.000,    -999
      06MT30_3,  A01E,   508,  1,     18,   B003,2,19941125,0505, 59.9200, -41.8600, 1801,     20.8,   5.5570,  34.9082,2,  34.9076,2,   -999.0,1,  5.5553,    293.9,2,     6.16,2,    14.10,2,     0.91,2, -999.000,9, -999.000,9, -999.000,5,   1.7521,2,    -1.42,2,   -999.0,9,   2131.5,2,  0.0070,-999.000,  -999.0,   0.130,  102104
      06MT30_3,  A01E,   508,  1,     17,   K124,2,19941125,0505, 59.9200, -41.8600, 1801,     51.9,   5.5590,  34.9068,2,  34.9057,2,   -999.0,1,  5.5548,    293.5,2,     6.15,2,    14.10,2,     0.92,2,    4.262,2,    2.180,2, -999.000,9,-999.0000,9,  -999.00,9,   -999.0,9,   2132.3,2,-999.0000,-999.000,  -999.0,-999.000,  102103
      06MT30_3,  A01E,   508,  1,     16,   K114,2,19941125,0505, 59.9200, -41.8600, 1801,    100.3,   5.5840,  34.9105,2,  34.9115,2,   -999.0,1,  5.5758,    293.3,2,     6.16,2,    14.16,2,     0.92,2, -999.000,9, -999.000,9, -999.000,9,-999.0000,9,  -999.00,9,   -999.0,9,   2130.6,2,-999.0000,-999.000,  -999.0,-999.000,  102102
      06MT30_3,  A01E,   508,  1,     15,   U010,2,19941125,0505, 59.9200, -41.8600, 1801,    199.7,   5.6300,  34.9843,2,  34.9829,2,   -999.0,1,  5.6134,    278.8,2,     8.10,2,    16.20,2,     1.04,2, -999.000,9, -999.000,9,    1.675,2,   1.6527,2,     0.17,4,   -999.0,9,   2146.5,2,  0.0066,   0.034,  -999.0,   0.130,  102101
      06MT30_3,  A01E,   508,  1,     14,   U002,2,19941125,0505, 59.9200, -41.8600, 1801,    299.1,   4.8950,  34.9423,2,  34.9423,2,   -999.0,1,  4.8716,    278.1,2,     8.83,2,    16.75,2,     1.07,3, -999.000,9, -999.000,9,    1.701,2,   2.0895,2,     1.86,4,   -999.0,9,   -999.0,9,  0.0084,   0.034,  -999.0,   0.130,  102100
      06MT30_3,  A01E,   508,  1,     13,   B013,2,19941125,0505, 59.9200, -41.8600, 1801,    449.6,   4.3420,  34.9053,2,  34.9056,2,   -999.0,1,  4.3083,    279.9,2,     8.90,2,    16.50,2,     1.05,2,    3.772,2,    1.861,2, -999.000,9,-999.0000,9,  -999.00,9,   -999.0,9,   -999.0,9,-999.0000,-999.000,  -999.0,-999.000,  102099
      06MT30_3,  A01E,   508,  1,     12,   K117,2,19941125,0505, 59.9200, -41.8600, 1801,    598.0,   4.2230,  34.9057,2,  34.9057,2,   -999.0,1,  4.1781,    280.1,2,     9.03,2,    16.67,2,     1.06,2,    3.746,2,    1.835,2, -999.000,9,-999.0000,9,  -999.00,9,   -999.0,9,   -999.0,9,-999.0000,-999.000,  -999.0,-999.000,  102098
      06MT30_3,  A01E,   508,  1,     11,   B008,2,19941125,0505, 59.9200, -41.8600, 1801,    748.3,   4.0470,  34.9030,2,  34.9039,2,   -999.0,1,  3.9910,    281.2,2,     9.20,2,    16.82,2,     1.06,2, -999.000,9, -999.000,9, -999.000,9,-999.0000,9,  -999.00,9,   -999.0,9,   2154.0,2,-999.0000,-999.000,  -999.0,-999.000,  102097
      06MT30_3,  A01E,   508,  1,     10,   K115,2,19941125,0505, 59.9200, -41.8600, 1801,    897.5,   3.9160,  34.9053,2,  34.9059,2,   -999.0,1,  3.8488,    281.5,2,     9.32,2,    16.96,2,     1.08,2, -999.000,9, -999.000,9,    1.631,2,   1.5946,2,     3.05,4,   -999.0,9,   -999.0,9,  0.0064,   0.037,  -999.0,   0.130,  102096
      06MT30_3,  A01E,   508,  1,      9,   K036,2,19941125,0505, 59.9200, -41.8600, 1801,   1045.8,   3.7280,  34.9016,2,  34.9013,2,   -999.0,1,  3.6500,    283.3,2,     9.45,2,    16.94,2,     1.07,2,    3.967,2, -999.000,9, -999.000,9,-999.0000,9,  -999.00,9,   -999.0,9,   -999.0,9,-999.0000,-999.000,  -999.0,-999.000,  102095
      06MT30_3,  A01E,   508,  1,      8,   U017,2,19941125,0505, 59.9200, -41.8600, 1801,   1196.7,   3.5800,  34.8993,2,  34.8972,3,   -999.0,1,  3.4908,    284.9,2,     9.58,2,    16.95,2,     1.07,2, -999.000,9, -999.000,9,    1.578,2,-999.0000,5,  -999.00,5,   -999.0,9,   2155.5,2,-999.0000,   0.024,  -999.0,-999.000,  102094
      06MT30_3,  A01E,   508,  1,      7,   B004,2,19941125,0505, 59.9200, -41.8600, 1801,   1348.2,   3.3270,  34.8883,2,  34.8881,2,   -999.0,1,  3.2276,    288.6,2,     9.62,2,    16.84,2,     1.06,2, -999.000,9, -999.000,9, -999.000,9,-999.0000,9,  -999.00,9,   -999.0,9,   -999.0,9,-999.0000,-999.000,  -999.0,-999.000,  102093
      06MT30_3,  A01E,   508,  1,      6,   K017,2,19941125,0505, 59.9200, -41.8600, 1801,   1498.7,   3.1880,  34.8822,2,  34.8811,2,   -999.0,1,  3.0774,    290.2,2,     9.59,2,    16.69,2,     1.05,2,    3.414,2,    1.625,2,    1.584,2,   1.7855,2,     3.44,2,   -999.0,9,   -999.0,9,  0.0071,   0.027,  -999.0,   0.130,  102092
      06MT30_3,  A01E,   508,  1,      5,   U023,2,19941125,0505, 59.9200, -41.8600, 1801,   1597.4,   3.0700,  34.8810,2,  34.8800,2,   -999.0,1,  2.9523,    290.2,2,     9.66,2,    16.52,2,     1.04,2,    3.284,2,    1.555,2, -999.000,9,-999.0000,9,  -999.00,9,   -999.0,9,   -999.0,9,-999.0000,-999.000,  -999.0,-999.000,  102091
      06MT30_3,  A01E,   508,  1,      4,   K056,2,19941125,0505, 59.9200, -41.8600, 1801,   1642.6,   3.0190,  34.8810,2,  34.8800,2,   -999.0,1,  2.8981,    290.0,2,     9.66,2,    16.47,2,     1.06,2,    3.265,2,    1.547,2, -999.000,9,-999.0000,9,  -999.00,9,   -999.0,9,   -999.0,9,-999.0000,-999.000,  -999.0,-999.000,  102090
      06MT30_3,  A01E,   508,  1,      3,   U018,2,19941125,0505, 59.9200, -41.8600, 1801,   1678.4,   3.0110,  34.8809,2,  34.8807,2,   -999.0,1,  2.8871,    289.5,2,     9.71,2,    16.52,2,     1.06,2,    3.245,2,    1.533,2,    1.576,2,   1.6513,3,     4.03,4,   -999.0,9,   2211.8,4,  0.0066,   0.032,  -999.0,   0.130,  102089
      06MT30_3,  A01E,   508,  1,      2,   K052,2,19941125,0505, 59.9200, -41.8600, 1801,   1749.3,   3.0070,  34.8810,2,  34.8802,2,   -999.0,1,  2.8769,    289.6,2,     9.74,2,    16.42,2,     1.05,2,    3.214,2,    1.523,2, -999.000,9,-999.0000,9,  -999.00,9,   -999.0,9,   -999.0,9,-999.0000,-999.000,  -999.0,-999.000,  102088
      06MT30_3,  A01E,   508,  1,      1,   K038,2,19941125,0505, 59.9200, -41.8600, 1801,   1801.5,   2.9810,  34.8814,2,  34.8807,2,   -999.0,1,  2.8467,    289.5,2,     9.76,2,    16.37,2,     1.05,2,    3.144,2,    1.474,2,    1.560,2,   1.7938,2,     4.20,2,   -999.0,9,   -999.0,9,  0.0072,   0.029,  -999.0,   0.130,  102087
      06MT30_3,  A01E,   509,  1,      0,   -999,2,19941125,0928, 59.8750, -41.4967, 1876,      5.0,   5.3000,-999.0000,9,  34.1500,2,   -999.0,9,-999.0000,   -999.0,9,  -999.00,9,  -999.00,9,  -999.00,9, -999.000,9, -999.000,9, -999.000,9,-999.0000,9,  -999.00,9,   -999.0,9,   2130.4,2,-999.0000,-999.000,  -999.0,-999.000,    -999
      06MT30_3,  A01E,   509,  1,     20,   K097,2,19941125,0928, 59.8750, -41.4967, 1876,     21.5,   5.4150,  34.8689,2,  34.8678,2,   -999.0,1,  5.4133,    294.3,2,     6.01,2,    13.90,2,     0.92,2,    4.411,2,    2.254,2, -999.000,9,-999.0000,9,  -999.00,9,   -999.0,9,   2130.7,2,-999.0000,-999.000,  -999.0,-999.000,  102130
      06MT30_3,  A01E,   509,  1,     19,   K126,2,19941125,0928, 59.8750, -41.4967, 1876,     49.0,   5.4120,  34.8678,2,  34.8638,2,   -999.0,1,  5.4081,    294.5,2,     6.01,2,    13.89,2,     0.92,2, -999.000,9, -999.000,9, -999.000,9,-999.0000,9,  -999.00,9,   -999.0,9,   2129.2,2,-999.0000,-999.000,  -999.0,-999.000,  102129
      06MT30_3,  A01E,   509,  1,     18,   B003,2,19941125,0928, 59.8750, -41.4967, 1876,    100.0,   5.4750,  34.8800,2,  34.8796,2,   -999.0,1,  5.4669,    293.3,2,     6.08,2,    14.03,2,     0.92,2, -999.000,9, -999.000,9, -999.000,9,-999.0000,9,  -999.00,9,   -999.0,9,   2132.4,2,-999.0000,-999.000,  -999.0,-999.000,  102128
      06MT30_3,  A01E,   509,  1,     17,   K124,2,19941125,0928, 59.8750, -41.4967, 1876,    199.6,   5.2860,  34.9654,2,  34.9661,2,   -999.0,1,  5.2699,    278.8,2,     8.62,2,    16.73,2,     1.06,2,    3.785,2,    1.868,2, -999.000,9,-999.0000,9,  -999.00,9,   -999.0,9,   2153.1,2,-999.0000,-999.000,  -999.0,-999.000,  102127
      06MT30_3,  A01E,   509,  1,     16,   K114,2,19941125,0928, 59.8750, -41.4967, 1876,    349.7,   4.5110,  34.9208,2,  34.9205,2,   -999.0,1,  4.4846,    280.5,2,     9.23,2,    17.26,2,     1.10,2, -999.000,9, -999.000,9, -999.000,9,-999.0000,9,  -999.00,9,   -999.0,9,   -999.0,9,-999.0000,-999.000,  -999.0,-999.000,  102126
      06MT30_3,  A01E,   509,  1,     15,   U010,2,19941125,0928, 59.8750, -41.4967, 1876,    499.8,   3.9420,  34.9103,2,  34.9091,2,   -999.0,1,  3.9060,    281.4,2,     9.49,2,    17.16,2,     1.10,2,    3.538,2,    1.713,2, -999.000,9,-999.0000,9,  -999.00,9,   -999.0,9,   2163.9,2,-999.0000,-999.000,  -999.0,-999.000,  102125
      06MT30_3,  A01E,   509,  1,     14,   U002,2,19941125,0928, 59.8750, -41.4967, 1876,    650.6,   3.6430,  34.9030,2,  34.9019,2,   -999.0,1,  3.5969,    283.9,2,     9.66,2,    17.06,2,     1.11,2,    3.489,2,    1.705,2, -999.000,9,-999.0000,9,  -999.00,9,   -999.0,9,   -999.0,9,-999.0000,-999.000,  -999.0,-999.000,  102124
      06MT30_3,  A01E,   509,  1,     13,   B013,2,19941125,0928, 59.8750, -41.4967, 1876,    799.8,   3.3960,  34.8882,2,  34.8878,2,   -999.0,1,  3.3399,    290.4,2,     9.75,2,    17.33,2,     1.10,2,    3.651,2,    1.761,2, -999.000,9,-999.0000,9,  -999.00,9,   -999.0,9,   -999.0,9,-999.0000,-999.000,  -999.0,-999.000,  102123
      06MT30_3,  A01E,   509,  1,     12,   K117,2,19941125,0928, 59.8750, -41.4967, 1876,    898.4,   3.2740,  34.8788,2,  34.8772,2,   -999.0,1,  3.2112,    293.4,2,     9.75,2,    17.32,2,     1.10,2, -999.000,9, -999.000,9, -999.000,9,-999.0000,9,  -999.00,9,   -999.0,9,   -999.0,9,-999.0000,-999.000,  -999.0,-999.000,  102122
      06MT30_3,  A01E,   509,  1,     11,   B008,2,19941125,0928, 59.8750, -41.4967, 1876,   1001.1,   3.2260,  34.8770,2,  34.8760,2,   -999.0,1,  3.1556,    293.6,2,     9.74,2,    17.13,2,     1.09,2,    3.650,2,    1.749,2, -999.000,9,-999.0000,9,  -999.00,9,   -999.0,9,   -999.0,9,-999.0000,-999.000,  -999.0,-999.000,  102121
      06MT30_3,  A01E,   509,  1,     10,   K115,2,19941125,0928, 59.8750, -41.4967, 1876,   1112.1,   3.1510,  34.8701,2,  34.8702,2,   -999.0,1,  3.0725,    295.4,2,     9.71,2,    17.10,2,     1.09,2, -999.000,9, -999.000,9, -999.000,9,-999.0000,9,  -999.00,9,   -999.0,9,   -999.0,9,-999.0000,-999.000,  -999.0,-999.000,  102120
      06MT30_3,  A01E,   509,  1,      9,   K036,2,19941125,0928, 59.8750, -41.4967, 1876,   1200.3,   3.1140,  34.8680,2,  34.8671,2,   -999.0,1,  3.0288,    295.4,2,     9.74,2,    17.08,2,     1.09,2,    3.695,2,    1.795,2, -999.000,9,-999.0000,9,  -999.00,9,   -999.0,9,   2160.8,2,-999.0000,-999.000,  -999.0,-999.000,  102119
      06MT30_3,  A01E,   509,  1,      8,   U017,2,19941125,0928, 59.8750, -41.4967, 1876,   1298.3,   3.0610,  34.8635,2,  34.8635,2,   -999.0,1,  2.9684,    296.5,2,     9.72,2,    17.09,2,     1.09,2, -999.000,9, -999.000,9, -999.000,9,-999.0000,9,  -999.00,9,   -999.0,9,   -999.0,9,-999.0000,-999.000,  -999.0,-999.000,  102118
      06MT30_3,  A01E,   509,  1,      7,   B004,2,19941125,0928, 59.8750, -41.4967, 1876,   1399.8,   3.0260,  34.8688,2,  34.8694,2,   -999.0,1,  2.9255,    292.9,2,     9.93,2,    17.04,2,     1.08,2,    3.363,2,    1.624,2,    1.502,2,   1.7904,2,     3.34,2,   -999.0,9,   -999.0,9,  0.0072,   0.041,  -999.0,   0.150,  102117
      06MT30_3,  A01E,   509,  1,      6,   K017,2,19941125,0928, 59.8750, -41.4967, 1876,   1500.9,   3.0250,  34.8812,2,  34.8784,3,   -999.0,1,  2.9160,    288.6,2,    10.11,2,    16.80,2,     1.07,2, -999.000,9, -999.000,9,    1.598,2,   1.7921,2,     4.46,2,   -999.0,9,   -999.0,9,  0.0072,   0.039,  -999.0,   0.160,  102116
      06MT30_3,  A01E,   509,  1,      5,   U023,2,19941125,0928, 59.8750, -41.4967, 1876,   1600.7,   2.9600,  34.8880,2,  34.8880,2,   -999.0,1,  2.8433,    287.0,2,    10.25,2,    16.63,2,     1.07,2, -999.000,9, -999.000,9,    1.475,2,   1.7921,2,     4.80,2,   -999.0,9,   2161.5,2,  0.0072,   0.051,  -999.0,   0.160,  102115
      06MT30_3,  A01E,   509,  1,      4,   K056,2,19941125,0928, 59.8750, -41.4967, 1876,   1702.6,   2.7210,  34.8824,2,  34.8804,3,   -999.0,1,  2.5987,    289.0,2,     9.96,2,    16.31,2,     1.05,2,    3.133,2,    1.484,2,    1.448,2,   1.7956,2,     4.44,2,   -999.0,9,   -999.0,9,  0.0072,   0.044,  -999.0,   0.160,  102114
      06MT30_3,  A01E,   509,  1,      3,   U018,2,19941125,0928, 59.8750, -41.4967, 1876,   1793.5,   2.6740,  34.8804,2,  34.8794,2,   -999.0,1,  2.5446,    289.3,2,     9.88,2,    16.19,2,     1.04,2,    3.241,2,    1.515,2,    1.489,2,   1.8019,2,     4.36,2,   -999.0,9,   -999.0,9,  0.0072,   0.041,  -999.0,   0.110,  102113
      06MT30_3,  A01E,   509,  1,      2,   K052,2,19941125,0928, 59.8750, -41.4967, 1876,   1846.0,   2.4940,  34.8777,2,  34.8763,2,   -999.0,1,  2.3626,    291.1,2,     9.74,2,    16.05,2,     1.04,2,    3.317,2,    1.547,2,    1.455,2,   1.8046,2,     4.33,2,   -999.0,9,   -999.0,9,  0.0072,   0.037,  -999.0,   0.160,  102112
      06MT30_3,  A01E,   509,  1,      1,   K038,3,19941125,0928, 59.8750, -41.4967, 1876,   1875.7,   2.4060,  34.8763,2,  34.8757,2,   -999.0,1,  2.2733,    292.5,2,     9.65,2,    15.85,2,     1.01,2,    3.272,2,    1.544,2,    1.499,2,   1.8939,2,     4.30,4,   -999.0,9,   2162.0,2,  0.0076,   0.046,  -999.0,   0.150,  102111