BOTTLE,20060322WHPSIOSA
EXPOCODE,SECT_ID,STNNBR,CASTNO,SAMPNO,BTLNBR,BTLNBR_FLAG_W,DATE,TIME,LATITUDE,LONGITUDE,DEPTH,CTDPRS,CTDTMP,CTDSAL,CTDSAL_FLAG_W,SALNTY,SALNTY_FLAG_W,CTDOXY,CTDOXY_FLAG_W,THETA,OXYGEN,OXYGEN_FLAG_W,SILCAT,SILCAT_FLAG_W,NO2+NO3,NO2+NO3_FLAG_W,PHSPHT,PHSPHT_FLAG_W,CFC-11,CFC-11_FLAG_W,CFC-12,CFC-12_FLAG_W,TRITUM,TRITUM_FLAG_W,HELIUM,HELIUM_FLAG_W,DELHE3,DELHE3_FLAG_W,DELC14,DELC14_FLAG_W,TCARBN,TCARBN_FLAG_W,HELIER,TRITER,C14ERR,DELHER,BEDFORT
,,,,,,,,,,,,DBAR,ITS-90,PSS-78,,PSS-78,,UMOL/KG,,ITS-90,UMOL/KG,,UMOL/KG,,UMOL/KG,,UMOL/KG,,PMOL/KG,,PMOL/KG,,TU,,NMOL/KG,,PERCNT,,/MILLE,,UMOL/KG,,NMOL/KG,TU,/MILLE,PERCNT,NUM
      06MT30_3,  A01E,   512,  1,      0,   -999,2,19941128,0229, 59.7417, -40.0617, 2686,      5.0,   5.0710,-999.0000,9,  34.7050,2,   -999.0,9,-999.0000,   -999.0,9,  -999.00,9,  -999.00,9,  -999.00,9, -999.000,9, -999.000,9, -999.000,9,-999.0000,9,  -999.00,9,   -999.0,9,   2133.6,2,-999.0000,-999.000,  -999.0,-999.000,    -999
      06MT30_3,  A01E,   512,  1,     24,   K012,2,19941128,0229, 59.7417, -40.0617, 2686,     18.4,   5.0580,  34.8673,2,  34.8661,2,   -999.0,1,  5.0566,    294.4,2,     6.77,2,    14.79,2,     0.95,2,    4.408,2,    2.184,2, -999.000,9,-999.0000,9,  -999.00,9,   -999.0,9,   2133.7,2,-999.0000,-999.000,  -999.0,-999.000,  102206
      06MT30_3,  A01E,   512,  1,     23,   K125,2,19941128,0229, 59.7417, -40.0617, 2686,     48.4,   5.0610,  34.8682,2,  34.8668,2,   -999.0,1,  5.0573,    294.5,2,     6.77,2,    14.85,2,     0.96,2, -999.000,9, -999.000,9, -999.000,9,-999.0000,9,  -999.00,9,   -999.0,9,   2132.3,2,-999.0000,-999.000,  -999.0,-999.000,  102205
      06MT30_3,  A01E,   512,  1,     22,   B023,2,19941128,0229, 59.7417, -40.0617, 2686,     97.8,   5.0660,  34.8694,2,  34.8681,2,   -999.0,1,  5.0584,    294.0,2,     6.77,2,    14.91,2,     0.95,2, -999.000,9, -999.000,9, -999.000,9,-999.0000,9,  -999.00,9,   -999.0,9,   2132.5,2,-999.0000,-999.000,  -999.0,-999.000,  102204
      06MT30_3,  A01E,   512,  1,     21,   K040,2,19941128,0229, 59.7417, -40.0617, 2686,    148.8,   4.0450,  34.8731,2,  34.8735,2,   -999.0,1,  4.0346,    285.4,2,     8.81,2,    17.21,2,     1.13,2,    4.173,2,    2.034,2, -999.000,9,-999.0000,9,  -999.00,9,   -999.0,9,   2149.6,2,-999.0000,-999.000,  -999.0,-999.000,  102203
      06MT30_3,  A01E,   512,  1,     20,   K097,2,19941128,0229, 59.7417, -40.0617, 2686,    249.5,   3.4720,  34.8641,2,  34.8613,2,   -999.0,1,  3.4554,    289.4,2,     9.44,2,    17.49,2,     1.10,2, -999.000,9, -999.000,9,    1.500,2,   1.7838,2,     1.84,2,   -999.0,9,   2152.5,2,  0.0071,   0.048,  -999.0,   0.130,  102202
      06MT30_3,  A01E,   512,  1,     19,   U015,2,19941128,0229, 59.7417, -40.0617, 2686,    347.9,   3.2830,  34.8666,2,  34.8637,2,   -999.0,1,  3.2602,    292.1,2,     9.59,2,    17.43,2,     1.09,2, -999.000,9, -999.000,9, -999.000,9,-999.0000,9,  -999.00,9,   -999.0,9,   -999.0,9,-999.0000,-999.000,  -999.0,-999.000,  102201
      06MT30_3,  A01E,   512,  1,     18,   B003,2,19941128,0229, 59.7417, -40.0617, 2686,    450.0,   3.1890,  34.8682,2,  34.8670,2,   -999.0,1,  3.1594,    293.2,2,     9.58,2,    17.41,2,     1.16,4,    3.587,2,    1.759,2, -999.000,9,-999.0000,9,  -999.00,9,   -999.0,9,   -999.0,9,-999.0000,-999.000,  -999.0,-999.000,  102200
      06MT30_3,  A01E,   512,  1,     17,   K124,2,19941128,0229, 59.7417, -40.0617, 2686,    597.7,   3.0700,  34.8624,2,  34.8608,2,   -999.0,1,  3.0306,    297.1,2,     9.47,2,    17.24,2,     1.07,2, -999.000,9, -999.000,9,    1.637,2,   1.7926,2,     2.05,2,   -999.0,9,   2149.9,2,  0.0072,   0.062,  -999.0,   0.110,  102199
      06MT30_3,  A01E,   512,  1,     16,   K114,2,19941128,0229, 59.7417, -40.0617, 2686,    746.5,   2.9990,  34.8562,2,  34.8555,2,   -999.0,1,  2.9494,    299.1,2,     9.45,2,    17.04,2,     1.08,2,    3.926,2,    1.943,2, -999.000,9,-999.0000,9,  -999.00,9,   -999.0,9,   -999.0,9,-999.0000,-999.000,  -999.0,-999.000,  102198
      06MT30_3,  A01E,   512,  1,     15,   U010,2,19941128,0229, 59.7417, -40.0617, 2686,    898.2,   2.9470,  34.8508,2,  34.8505,2,   -999.0,1,  2.8866,    301.2,2,     9.40,2,    16.88,2,     1.07,2, -999.000,9, -999.000,9,    1.609,2,   1.8000,2,     1.37,2,   -999.0,9,   -999.0,9,  0.0072,   0.046,  -999.0,   0.150,  102197
      06MT30_3,  A01E,   512,  1,     14,   U002,2,19941128,0229, 59.7417, -40.0617, 2686,   1047.6,   2.9700,  34.8553,2,  34.8547,2,   -999.0,1,  2.8981,    302.4,2,     9.36,2,    16.89,2,     1.08,2,    3.853,2,    1.882,2, -999.000,9,-999.0000,9,  -999.00,9,   -999.0,9,   -999.0,9,-999.0000,-999.000,  -999.0,-999.000,  102196
      06MT30_3,  A01E,   512,  1,     13,   B013,2,19941128,0229, 59.7417, -40.0617, 2686,   1200.5,   2.9530,  34.8535,2,  34.8520,2,   -999.0,1,  2.8693,    302.1,2,     9.33,2,    16.84,2,     1.07,2,    3.813,2,    1.877,2,    1.661,2,   1.7998,2,     1.27,2,   -999.0,9,   -999.0,9,  0.0072,   0.036,  -999.0,   0.120,  102195
      06MT30_3,  A01E,   512,  1,     12,   K117,2,19941128,0229, 59.7417, -40.0617, 2686,   1345.9,   2.9260,  34.8496,2,  34.8488,2,   -999.0,1,  2.8310,    301.1,2,     9.34,2,    16.77,2,     1.07,2,    3.708,2,    1.835,2, -999.000,9,-999.0000,9,  -999.00,9,   -999.0,9,   -999.0,9,-999.0000,-999.000,  -999.0,-999.000,  102194
      06MT30_3,  A01E,   512,  1,     11,   B008,2,19941128,0229, 59.7417, -40.0617, 2686,   1496.0,   2.9030,  34.8465,2,  34.8465,2,   -999.0,1,  2.7959,    299.4,2,     9.37,2,    16.70,2,     1.05,2, -999.000,9, -999.000,9,    1.617,2,   1.7965,2,     2.32,2,   -999.0,9,   -999.0,9,  0.0072,   0.029,  -999.0,   0.150,  102193
      06MT30_3,  A01E,   512,  1,     10,   K115,2,19941128,0229, 59.7417, -40.0617, 2686,   1650.6,   2.9050,  34.8485,2,  34.8482,2,   -999.0,1,  2.7849,    302.0,2,     9.44,2,    16.65,2,     1.06,2,    3.737,2,    1.786,2,    1.646,2,   1.7898,2,     2.34,2,   -999.0,9,   -999.0,9,  0.0072,   0.038,  -999.0,   0.110,  102192
      06MT30_3,  A01E,   512,  1,      9,   K036,2,19941128,0229, 59.7417, -40.0617, 2686,   1800.8,   3.0120,  34.8719,2,  34.8710,2,   -999.0,1,  2.8774,    291.7,2,     9.89,2,    16.64,2,     1.05,2,    3.112,2,    1.459,2, -999.000,5,   1.7941,2,     4.01,2,   -999.0,9,   -999.0,9,  0.0072,-999.000,  -999.0,   0.120,  102191
      06MT30_3,  A01E,   512,  1,      8,   U017,2,19941128,0229, 59.7417, -40.0617, 2686,   1948.1,   3.1310,  34.9104,2,  34.9095,2,   -999.0,1,  2.9813,    280.9,2,    10.97,2,    16.69,2,     1.06,2,    2.154,2,    0.978,2,    1.272,2,   1.7962,2,     6.53,2,   -999.0,9,   -999.0,9,  0.0072,   0.045,  -999.0,   0.120,  102190
      06MT30_3,  A01E,   512,  1,      7,   B004,2,19941128,0229, 59.7417, -40.0617, 2686,   2095.9,   3.0600,  34.9246,2,  34.9242,2,   -999.0,1,  2.8977,    277.4,2,    11.72,2,    16.61,2,     1.06,2,    1.737,2,    0.763,2,    1.103,2,-999.0000,5,  -999.00,5,   -999.0,9,   2153.1,2,-999.0000,   0.033,  -999.0,-999.000,  102189
      06MT30_3,  A01E,   512,  1,      6,   U006,2,19941128,0229, 59.7417, -40.0617, 2686,   2249.9,   2.9040,  34.9253,2,  34.9241,2,   -999.0,1,  2.7299,    277.3,2,    12.14,2,    16.44,2,     1.07,2,    1.779,2,    0.775,2,    1.126,2,   1.8014,2,     7.03,2,   -999.0,9,   -999.0,9,  0.0072,   0.016,  -999.0,   0.110,  102188
      06MT30_3,  A01E,   512,  1,      5,   U023,2,19941128,0229, 59.7417, -40.0617, 2686,   2400.9,   2.6160,  34.9107,2,  34.9126,2,   -999.0,1,  2.4326,    282.8,2,    11.91,2,    16.07,2,     1.04,2,    2.044,2,    0.901,2,    1.240,2,   1.8039,2,     6.62,2,   -999.0,9,   -999.0,9,  0.0072,   0.039,  -999.0,   0.160,  102187
      06MT30_3,  A01E,   512,  1,      4,   K056,2,19941128,0229, 59.7417, -40.0617, 2686,   2552.7,   1.7960,  34.8637,2,  34.8630,2,   -999.0,1,  1.6139,    300.4,2,     8.58,2,    14.79,2,     0.96,2,    3.651,2,    1.743,2,    1.488,2,   1.8110,2,     3.27,2,   -999.0,9,   -999.0,9,  0.0072,   0.027,  -999.0,   0.110,  102186
      06MT30_3,  A01E,   512,  1,      3,   U018,2,19941128,0229, 59.7417, -40.0617, 2686,   2600.2,   1.5950,  34.8641,2,  34.8642,2,   -999.0,1,  1.4124,    347.4,2,     8.14,2,    14.50,2,     0.93,2,    3.817,2,    1.852,2,    1.666,2,   1.8085,2,     2.88,2,   -999.0,9,   -999.0,9,  0.0072,   0.042,  -999.0,   0.130,  102185
      06MT30_3,  A01E,   512,  1,      2,   K052,2,19941128,0229, 59.7417, -40.0617, 2686,   2630.9,   1.3090,  34.8691,2,  34.8660,3,   -999.0,1,  1.1292,    307.1,2,     8.14,2,    14.34,2,     0.93,2,    3.768,2,    1.795,2,    1.648,2,   1.8152,2,     3.06,2,   -999.0,9,   -999.0,9,  0.0073,   0.046,  -999.0,   0.160,  102184
      06MT30_3,  A01E,   512,  1,      1,   K038,3,19941128,0229, 59.7417, -40.0617, 2686,   2691.5,   1.2660,  34.8699,2,  34.8679,3,   -999.0,1,  1.0817,    305.8,2,     8.00,2,    14.23,2,     0.92,2,    3.928,2,    1.901,2,    1.656,2,   1.8086,2,     2.87,2,   -999.0,9,   2153.2,2,  0.0072,   0.042,  -999.0,   0.130,  102183
      06MT30_3,  A01E,   513,  1,      0,   -999,2,19941128,0833, 59.6467, -38.9133, 2933,      5.0,   5.3940,-999.0000,9,  34.8540,2,   -999.0,9,-999.0000,   -999.0,9,  -999.00,9,  -999.00,9,  -999.00,9, -999.000,9, -999.000,9, -999.000,9,-999.0000,9,  -999.00,9,   -999.0,9,   2124.1,2,-999.0000,-999.000,  -999.0,-999.000,    -999
      06MT30_3,  A01E,   513,  1,     24,   K012,2,19941128,0833, 59.6467, -38.9133, 2933,     20.0,   4.7810,  34.7212,2,  34.7189,2,   -999.0,1,  4.7795,    300.3,2,     5.92,2,    13.69,2,     0.92,2,    4.545,2,    2.317,2, -999.000,9,-999.0000,9,  -999.00,9,   -999.0,9,   2120.4,2,-999.0000,-999.000,  -999.0,-999.000,  102230
      06MT30_3,  A01E,   513,  1,     23,   K125,2,19941128,0833, 59.6467, -38.9133, 2933,     49.8,   4.7880,  34.7208,2,  34.7206,2,   -999.0,1,  4.7843,    300.0,2,     5.92,2,    13.77,2,     0.92,2, -999.000,9, -999.000,9, -999.000,9,-999.0000,9,  -999.00,9,   -999.0,9,   2121.1,2,-999.0000,-999.000,  -999.0,-999.000,  102229
      06MT30_3,  A01E,   513,  1,     22,   B023,2,19941128,0833, 59.6467, -38.9133, 2933,    101.1,   4.5820,  34.7611,2,  34.7603,2,   -999.0,1,  4.5745,    295.0,2,     6.82,2,    14.77,2,     0.98,2, -999.000,9, -999.000,9,    1.634,2,   1.7729,2,    -0.63,2,   -999.0,9,   2129.0,2,  0.0071,   0.047,  -999.0,   0.130,  102228
      06MT30_3,  A01E,   513,  1,     21,   K040,2,19941128,0833, 59.6467, -38.9133, 2933,    152.7,   3.3450,  34.8448,2,  34.8434,2,   -999.0,1,  3.3351,    292.3,2,     9.46,2,    17.43,2,     1.12,2, -999.000,9, -999.000,9, -999.000,9,-999.0000,9,  -999.00,9,   -999.0,9,   2149.4,2,-999.0000,-999.000,  -999.0,-999.000,  102227
      06MT30_3,  A01E,   513,  1,     20,   K097,2,19941128,0833, 59.6467, -38.9133, 2933,    249.8,   3.2860,  34.8620,2,  34.8613,2,   -999.0,1,  3.2698,    292.7,2,     9.53,2,    17.25,2,     1.10,2,    3.913,2,    1.900,2, -999.000,9,-999.0000,9,  -999.00,9,   -999.0,9,   2150.3,2,-999.0000,-999.000,  -999.0,-999.000,  102226
      06MT30_3,  A01E,   513,  1,     19,   U015,2,19941128,0833, 59.6467, -38.9133, 2933,    400.8,   3.0700,  34.8525,2,  34.8523,2,   -999.0,1,  3.0442,    294.8,2,     9.60,2,    17.30,2,     1.11,2, -999.000,9, -999.000,9,    1.551,2,   1.7993,2,     2.49,2,   -999.0,9,   2151.4,2,  0.0072,   0.050,  -999.0,   0.130,  102225
      06MT30_3,  A01E,   513,  1,     18,   B003,2,19941128,0833, 59.6467, -38.9133, 2933,    549.9,   2.9830,  34.8503,2,  34.8498,2,   -999.0,1,  2.9474,    297.7,2,     9.52,2,    17.19,2,     1.10,2,    3.866,2,    1.866,2, -999.000,9,-999.0000,9,  -999.00,9,   -999.0,9,   2148.7,2,-999.0000,-999.000,  -999.0,-999.000,  102224
      06MT30_3,  A01E,   513,  1,     17,   K124,2,19941128,0833, 59.6467, -38.9133, 2933,    699.2,   3.0150,  34.8585,2,  34.8581,2,   -999.0,1,  2.9687,    299.7,2,     9.46,2,    17.10,2,     1.10,2, -999.000,9, -999.000,9,    1.511,3,   1.7931,2,     1.83,2,   -999.0,9,   -999.0,9,  0.0072,   0.039,  -999.0,   0.100,  102223
      06MT30_3,  A01E,   513,  1,     16,   K114,2,19941128,0833, 59.6467, -38.9133, 2933,    849.8,   2.9600,  34.8523,2,  34.8525,2,   -999.0,1,  2.9031,    301.4,2,     9.45,2,    17.05,2,     1.09,2, -999.000,9, -999.000,9, -999.000,9,-999.0000,9,  -999.00,9,   -999.0,9,   -999.0,9,-999.0000,-999.000,  -999.0,-999.000,  102222
      06MT30_3,  A01E,   513,  1,     15,   U010,2,19941128,0833, 59.6467, -38.9133, 2933,   1000.2,   2.9470,  34.8515,2,  34.8515,2,   -999.0,1,  2.8789,    302.9,2,     9.40,2,    16.96,2,     1.08,2, -999.000,9, -999.000,9, -999.000,9,-999.0000,9,  -999.00,9,   -999.0,9,   -999.0,9,-999.0000,-999.000,  -999.0,-999.000,  102221
      06MT30_3,  A01E,   513,  1,     14,   U002,3,19941128,0833, 59.6467, -38.9133, 2933,   1199.9,   2.9370,  34.8505,2,-999.0000,9,   -999.0,1,  2.8535,    299.8,3,     9.29,2,    16.96,2,     1.09,2,    3.933,2,    1.897,2, -999.000,9,-999.0000,9,  -999.00,9,   -999.0,9,   -999.0,9,-999.0000,-999.000,  -999.0,-999.000,  102220
      06MT30_3,  A01E,   513,  1,     13,   B013,2,19941128,0833, 59.6467, -38.9133, 2933,   1400.7,   2.9080,  34.8454,2,  34.8466,2,   -999.0,1,  2.8087,    301.2,2,     9.40,2,    16.89,2,     1.08,2,    3.933,2,    1.902,2,    1.546,3,   1.7949,2,     1.89,2,   -999.0,9,   -999.0,9,  0.0072,   0.048,  -999.0,   0.110,  102219
      06MT30_3,  A01E,   513,  1,     12,   K117,2,19941128,0833, 59.6467, -38.9133, 2933,   1600.6,   2.9040,  34.8458,2,  34.8451,2,   -999.0,1,  2.7882,    299.7,2,     9.42,2,    16.86,2,     1.08,2,    3.769,2,    1.865,2, -999.000,9,-999.0000,9,  -999.00,9,   -999.0,9,   -999.0,9,-999.0000,-999.000,  -999.0,-999.000,  102218
      06MT30_3,  A01E,   513,  1,     11,   B008,2,19941128,0833, 59.6467, -38.9133, 2933,   1800.0,   2.9370,  34.8527,2,  34.8526,2,   -999.0,1,  2.8035,    297.3,2,     9.53,2,    16.82,2,     1.08,2,    3.591,2,    1.761,2,    1.544,2,   1.7961,2,     2.67,2,   -999.0,9,   -999.0,9,  0.0072,   0.037,  -999.0,   0.160,  102217
      06MT30_3,  A01E,   513,  1,     10,   K115,2,19941128,0833, 59.6467, -38.9133, 2933,   2000.3,   3.0750,  34.8849,2,  34.8852,2,   -999.0,1,  2.9215,    287.9,2,    10.27,2,    16.83,2,     1.08,2,    2.783,2,    1.311,2,    1.403,2,   1.7980,2,     5.30,2,   -999.0,9,   -999.0,9,  0.0072,   0.018,  -999.0,   0.110,  102216
      06MT30_3,  A01E,   513,  1,      9,   K036,2,19941128,0833, 59.6467, -38.9133, 2933,   2150.5,   3.1380,  34.9126,2,  34.9139,2,   -999.0,1,  2.9694,    279.8,2,    11.20,2,    16.72,2,     1.09,2,    2.018,2,    0.940,2,    1.267,2,   1.7910,2,     6.71,2,   -999.0,9,   -999.0,9,  0.0072,   0.038,  -999.0,   0.130,  102215
      06MT30_3,  A01E,   513,  1,      8,   U017,2,19941128,0833, 59.6467, -38.9133, 2933,   2301.1,   3.0900,  34.9250,2,  34.9265,2,   -999.0,1,  2.9079,    277.0,2,    11.83,2,    16.67,2,     1.08,2,    1.678,2,    0.757,2,    1.140,2,   1.7914,2,     7.41,2,   -999.0,9,   2142.9,3,  0.0072,   0.035,  -999.0,   0.130,  102214
      06MT30_3,  A01E,   513,  1,      7,   B004,2,19941128,0833, 59.6467, -38.9133, 2933,   2449.8,   2.9960,  34.9325,2,  34.9325,2,   -999.0,1,  2.8011,    275.8,2,    12.54,2,    16.63,2,     1.08,2,    1.557,2,    0.674,2,    1.081,2,   1.7937,2,     7.37,2,   -999.0,9,   -999.0,9,  0.0072,   0.036,  -999.0,   0.140,  102213
      06MT30_3,  A01E,   513,  1,      6,   U006,2,19941128,0833, 59.6467, -38.9133, 2933,   2602.1,   2.8070,  34.9282,2,  34.9277,2,   -999.0,1,  2.6007,    276.9,2,    13.02,2,    16.47,2,     1.08,2,    1.578,2,    0.750,2,    1.037,2,   1.7991,2,     7.07,2,   -999.0,9,   -999.0,9,  0.0072,   0.037,  -999.0,   0.130,  102212
      06MT30_3,  A01E,   513,  1,      5,   U023,2,19941128,0833, 59.6467, -38.9133, 2933,   2701.9,   2.5310,  34.9063,2,  34.9064,2,   -999.0,1,  2.3203,    284.4,2,    11.79,2,    15.94,2,     1.04,2,    2.175,2,    1.019,2,    1.128,2,   1.8025,2,     6.22,2,   -999.0,9,   -999.0,9,  0.0072,   0.031,  -999.0,   0.130,  102211
      06MT30_3,  A01E,   513,  1,      4,   K056,2,19941128,0833, 59.6467, -38.9133, 2933,   2801.8,   2.1000,  34.8833,2,  34.8839,2,   -999.0,1,  1.8884,    292.9,2,    10.49,2,    15.30,2,     1.01,2,    2.870,2,    1.363,2,    1.372,2,   1.8090,2,     4.92,2,   -999.0,9,   -999.0,9,  0.0072,   0.043,  -999.0,   0.160,  102210
      06MT30_3,  A01E,   513,  1,      3,   U018,2,19941128,0833, 59.6467, -38.9133, 2933,   2852.7,   1.6850,  34.8680,2,  34.8667,2,   -999.0,1,  1.4773,    300.8,2,     9.27,2,    14.71,2,     0.96,2,    3.406,2,    1.633,2, -999.000,5,   1.8123,2,     4.05,2,   -999.0,9,   -999.0,9,  0.0072,-999.000,  -999.0,   0.110,  102209
      06MT30_3,  A01E,   513,  1,      2,   K052,2,19941128,0833, 59.6467, -38.9133, 2933,   2905.4,   1.3630,  34.8629,2,  34.8636,2,   -999.0,1,  1.1572,    304.2,2,     8.64,2,    14.44,2,     0.96,2,    3.672,2,    1.764,2,    1.576,2,   1.8074,2,     3.49,2,   -999.0,9,   -999.0,9,  0.0072,   0.041,  -999.0,   0.130,  102208
      06MT30_3,  A01E,   513,  1,      1,   K038,3,19941128,0833, 59.6467, -38.9133, 2933,   2937.9,   1.1330,  34.8648,2,  34.8645,2,   -999.0,1,  0.9291,    306.4,2,     8.72,2,    14.27,2,     0.95,2,    3.897,2,    1.861,2,    1.588,2,   1.8155,2,     3.20,2,   -999.0,9,   2146.5,2,  0.0073,   0.036,  -999.0,   0.130,  102207
      06MT30_3,  A01E,   514,  1,      0,   -999,2,19941128,1554, 59.5200, -37.6400, 3112,      5.0,   5.1000,-999.0000,9,  34.7700,2,   -999.0,9,-999.0000,   -999.0,9,  -999.00,9,  -999.00,9,  -999.00,9, -999.000,9, -999.000,9, -999.000,9,-999.0000,9,  -999.00,9,   -999.0,9,   2114.7,2,-999.0000,-999.000,  -999.0,-999.000,    -999