BOTTLE,20060322WHPSIOSA
EXPOCODE,SECT_ID,STNNBR,CASTNO,SAMPNO,BTLNBR,BTLNBR_FLAG_W,DATE,TIME,LATITUDE,LONGITUDE,DEPTH,CTDPRS,CTDTMP,CTDSAL,CTDSAL_FLAG_W,SALNTY,SALNTY_FLAG_W,CTDOXY,CTDOXY_FLAG_W,THETA,OXYGEN,OXYGEN_FLAG_W,SILCAT,SILCAT_FLAG_W,NO2+NO3,NO2+NO3_FLAG_W,PHSPHT,PHSPHT_FLAG_W,CFC-11,CFC-11_FLAG_W,CFC-12,CFC-12_FLAG_W,TRITUM,TRITUM_FLAG_W,HELIUM,HELIUM_FLAG_W,DELHE3,DELHE3_FLAG_W,DELC14,DELC14_FLAG_W,TCARBN,TCARBN_FLAG_W,HELIER,TRITER,C14ERR,DELHER,BEDFORT
,,,,,,,,,,,,DBAR,ITS-90,PSS-78,,PSS-78,,UMOL/KG,,ITS-90,UMOL/KG,,UMOL/KG,,UMOL/KG,,UMOL/KG,,PMOL/KG,,PMOL/KG,,TU,,NMOL/KG,,PERCNT,,/MILLE,,UMOL/KG,,NMOL/KG,TU,/MILLE,PERCNT,NUM
      06MT30_3,  A01W,   494,  1,     24,   K012,2,19941119,0132, 55.4133, -53.8267, 2662,     12.2,   4.1880,  34.3194,2,  34.3168,2,   -999.0,1,  4.1872,    307.9,2,     3.20,2,     7.56,2,     0.63,2,    5.197,2,    2.484,2, -999.000,9,-999.0000,9,  -999.00,9,   -999.0,9,   -999.0,9,-999.0000,-999.000,  -999.0,-999.000,  101822
      06MT30_3,  A01W,   494,  1,     23,   K125,2,19941119,0132, 55.4133, -53.8267, 2662,     52.3,   4.1740,  34.3233,2,  34.3272,2,   -999.0,1,  4.1704,    306.7,2,     3.39,2,     8.06,2,     0.64,2,    5.232,2,    2.504,2, -999.000,9,-999.0000,9,  -999.00,9,   -999.0,9,   -999.0,9,-999.0000,-999.000,  -999.0,-999.000,  101821
      06MT30_3,  A01W,   494,  1,     22,   K033,3,19941119,0132, 55.4133, -53.8267, 2662,     98.7,   3.5770,  34.6361,2,-999.0000,9,   -999.0,1,  3.5706,    294.7,2,     7.16,2,    14.56,2,     0.96,2, -999.000,9, -999.000,9, -999.000,9,-999.0000,9,  -999.00,9,   -999.0,9,   -999.0,9,-999.0000,-999.000,  -999.0,-999.000,  101820
      06MT30_3,  A01W,   494,  1,     21,   K040,2,19941119,0132, 55.4133, -53.8267, 2662,    200.9,   3.6690,  34.8151,2,  34.8136,2,   -999.0,1,  3.6554,    291.6,2,     8.49,2,    16.48,2,     1.06,2,    4.684,2,    2.197,2, -999.000,9,-999.0000,9,  -999.00,9,   -999.0,9,   -999.0,9,-999.0000,-999.000,  -999.0,-999.000,  101819
      06MT30_3,  A01W,   494,  1,     20,   K097,2,19941119,0132, 55.4133, -53.8267, 2662,    348.7,   3.6050,  34.8565,2,  34.8566,2,   -999.0,1,  3.5812,    292.3,2,     8.81,2,    16.68,2,     1.06,2,    4.574,2,    2.134,2, -999.000,9,-999.0000,9,  -999.00,9,   -999.0,9,   -999.0,9,-999.0000,-999.000,  -999.0,-999.000,  101818
      06MT30_3,  A01W,   494,  1,     19,   K126,2,19941119,0132, 55.4133, -53.8267, 2662,    499.1,   3.4550,  34.8679,2,  34.8670,2,   -999.0,1,  3.4210,    292.9,2,     9.06,2,    16.58,2,     1.07,2,    4.346,2,    2.019,2, -999.000,9,-999.0000,9,  -999.00,9,   -999.0,9,   -999.0,9,-999.0000,-999.000,  -999.0,-999.000,  101817
      06MT30_3,  A01W,   494,  1,     17,   K124,2,19941119,0132, 55.4133, -53.8267, 2662,    799.1,   3.1460,  34.8623,2,  34.8618,2,   -999.0,1,  3.0916,    295.1,2,     9.34,2,    16.84,2,     1.09,2,    4.083,2,    1.898,2, -999.000,9,-999.0000,9,  -999.00,9,   -999.0,9,   -999.0,9,-999.0000,-999.000,  -999.0,-999.000,  101815
      06MT30_3,  A01W,   494,  1,     16,   K114,2,19941119,0132, 55.4133, -53.8267, 2662,    944.0,   3.0780,  34.8589,2,  34.8583,2,   -999.0,1,  3.0132,    295.8,2,     9.38,2,    16.82,2,     1.08,2,    4.084,2,    1.866,2, -999.000,9,-999.0000,9,  -999.00,9,   -999.0,9,   -999.0,9,-999.0000,-999.000,  -999.0,-999.000,  101814
      06MT30_3,  A01W,   494,  1,     15,   U010,2,19941119,0132, 55.4133, -53.8267, 2662,   1095.6,   3.0030,  34.8534,2,  34.8529,2,   -999.0,1,  2.9271,    296.8,2,     9.40,2,    16.81,2,     1.08,2, -999.000,9, -999.000,9, -999.000,9,-999.0000,9,  -999.00,9,   -999.0,9,   -999.0,9,-999.0000,-999.000,  -999.0,-999.000,  101813
      06MT30_3,  A01W,   494,  1,     14,   U002,2,19941119,0132, 55.4133, -53.8267, 2662,   1244.2,   2.9550,  34.8492,2,  34.8496,2,   -999.0,1,  2.8679,    297.0,2,     9.35,2,    16.76,2,     1.07,2,    3.922,2,    1.797,2, -999.000,9,-999.0000,9,  -999.00,9,   -999.0,9,   -999.0,9,-999.0000,-999.000,  -999.0,-999.000,  101812
      06MT30_3,  A01W,   494,  1,     13,   K090,2,19941119,0132, 55.4133, -53.8267, 2662,   1402.2,   2.9280,  34.8485,2,  34.8489,2,   -999.0,1,  2.8284,    296.2,2,     9.38,2,    16.63,2,     1.07,2, -999.000,9, -999.000,9,    1.655,2,   1.7816,2,     2.67,2,   -999.0,9,   -999.0,9,  0.0071,   0.031,  -999.0,   0.130,  101811
      06MT30_3,  A01W,   494,  1,     12,   K117,2,19941119,0132, 55.4133, -53.8267, 2662,   1544.4,   2.8980,  34.8487,2,  34.8490,2,   -999.0,1,  2.7869,    295.7,2,     9.38,2,    16.59,2,     1.07,2,    3.825,2,    1.754,2, -999.000,9,-999.0000,9,  -999.00,9,   -999.0,9,   -999.0,9,-999.0000,-999.000,  -999.0,-999.000,  101810
      06MT30_3,  A01W,   494,  1,     11,   B008,2,19941119,0132, 55.4133, -53.8267, 2662,   1699.7,   2.9550,  34.8652,2,  34.8657,2,   -999.0,1,  2.8300,    291.8,2,     9.74,2,    16.56,2,     1.07,2, -999.000,9, -999.000,9,    1.586,2,   1.7933,2,     3.77,2,   -999.0,9,   -999.0,9,  0.0072,   0.026,  -999.0,   0.140,  101809
      06MT30_3,  A01W,   494,  1,     10,   K115,2,19941119,0132, 55.4133, -53.8267, 2662,   1849.1,   3.0050,  34.8874,2,  34.8883,2,   -999.0,1,  2.8661,    285.6,2,    10.24,2,    16.39,2,     1.07,2,    2.949,2, -999.000,9, -999.000,9,-999.0000,9,  -999.00,9,   -999.0,9,   -999.0,9,-999.0000,-999.000,  -999.0,-999.000,  101808
      06MT30_3,  A01W,   494,  1,      9,   K036,2,19941119,0132, 55.4133, -53.8267, 2662,   1996.6,   2.9290,  34.9045,2,  34.9049,2,   -999.0,1,  2.7779,    281.1,2,    10.81,2,    16.25,2,     1.06,2,    2.334,2,    1.029,2,    1.320,2,   1.7949,2,     6.52,2,   -999.0,9,   -999.0,9,  0.0072,   0.027,  -999.0,   0.140,  101807
      06MT30_3,  A01W,   494,  1,      8,   U017,2,19941119,0132, 55.4133, -53.8267, 2662,   2102.2,   2.8690,  34.9074,2,  34.9071,2,   -999.0,1,  2.7092,    280.8,2,    11.04,2,    16.20,2,     1.04,2, -999.000,9, -999.000,9, -999.000,9,-999.0000,9,  -999.00,9,   -999.0,9,   -999.0,9,-999.0000,-999.000,  -999.0,-999.000,  101806
      06MT30_3,  A01W,   494,  1,      7,   B004,2,19941119,0132, 55.4133, -53.8267, 2662,   2185.6,   2.8030,  34.9085,2,  34.9088,2,   -999.0,1,  2.6366,    281.3,2,    11.18,2,    16.12,2,     1.05,2,    2.049,2, -999.000,9,    1.209,2,   1.8011,2,     6.73,2,   -999.0,9,   -999.0,9,  0.0072,   0.019,  -999.0,   0.140,  101805
      06MT30_3,  A01W,   494,  1,      6,   K017,2,19941119,0132, 55.4133, -53.8267, 2662,   2292.6,   2.7360,  34.9099,2,  34.9104,2,   -999.0,1,  2.5607,    280.5,2,    11.37,2,    16.07,2,     1.06,2, -999.000,9, -999.000,9, -999.000,9,-999.0000,9,  -999.00,9,   -999.0,9,   -999.0,9,-999.0000,-999.000,  -999.0,-999.000,  101804
      06MT30_3,  A01W,   494,  1,      5,   U023,2,19941119,0132, 55.4133, -53.8267, 2662,   2401.2,   2.6310,  34.9059,2,  34.9058,2,   -999.0,1,  2.4474,    282.4,2,    11.42,2,    15.99,2,     1.06,2,    2.314,2,    1.001,2,    1.309,2,   1.8020,2,     6.41,2,   -999.0,9,   -999.0,9,  0.0072,   0.021,  -999.0,   0.140,  101803
      06MT30_3,  A01W,   494,  1,      4,   K056,2,19941119,0132, 55.4133, -53.8267, 2662,   2501.0,   2.4350,  34.8995,2,  34.8993,2,   -999.0,1,  2.2455,    284.4,2,    11.45,2,    15.70,2,     1.04,2, -999.000,9, -999.000,9, -999.000,9,-999.0000,9,  -999.00,9,   -999.0,9,   -999.0,9,-999.0000,-999.000,  -999.0,-999.000,  101802
      06MT30_3,  A01W,   494,  1,      3,   U018,2,19941119,0132, 55.4133, -53.8267, 2662,   2640.6,   2.3200,  34.8962,2,  34.8956,2,   -999.0,1,  2.1195,    285.9,2,    11.41,2,    15.56,2,     1.04,2,    2.613,2,    1.199,2, -999.000,9,-999.0000,9,  -999.00,9,   -999.0,9,   -999.0,9,-999.0000,-999.000,  -999.0,-999.000,  101801
      06MT30_3,  A01W,   494,  1,      2,   K052,2,19941119,0132, 55.4133, -53.8267, 2662,   2680.5,   2.2950,  34.8951,2,  34.8949,2,   -999.0,1,  2.0911,    285.8,2,    11.41,2,    15.50,2,     1.04,2, -999.000,9, -999.000,9, -999.000,9,-999.0000,9,  -999.00,9,   -999.0,9,   -999.0,9,-999.0000,-999.000,  -999.0,-999.000,  101800
      06MT30_3,  A01W,   494,  1,      1,   K038,2,19941119,0132, 55.4133, -53.8267, 2662,   2703.1,   2.2990,  34.8954,2,  34.8949,2,   -999.0,1,  2.0929,    286.3,2,    11.43,2,    15.44,2,     1.04,2,    2.541,2, -999.000,9,    1.335,2,   1.7979,2,     5.61,2,   -999.0,9,   -999.0,9,  0.0072,   0.026,  -999.0,   0.140,  101799
      06MT30_3,  A01W,   495,  2,     23,   K125,2,19941119,0848, 55.6150, -53.6083, 2917,     13.4,   4.2380,  34.2269,2,  34.2248,2,   -999.0,1,  4.2371,    309.0,2,     2.81,2,     6.78,2,     0.61,2,    5.231,2,    2.621,2,    2.291,2,   1.7789,2,    -1.82,2,     33.8,2,   -999.0,9,  0.0071,   0.040,     5.4,   0.180,  101845
      06MT30_3,  A01W,   495,  2,     22,   B023,2,19941119,0848, 55.6150, -53.6083, 2917,    101.0,   3.5050,  34.7287,2,  34.7315,2,   -999.0,1,  3.4984,    293.0,2,     8.05,2,    16.05,2,     1.06,2,    5.015,2,    2.478,2,    1.895,2,   1.7971,2,    -0.47,2,     10.6,2,   -999.0,9,  0.0072,   0.036,     6.4,   0.180,  101844
      06MT30_3,  A01W,   495,  2,     21,   K040,2,19941119,0848, 55.6150, -53.6083, 2917,    199.6,   3.8400,  34.8466,2,  34.8462,2,   -999.0,1,  3.8263,    288.5,2,     8.86,2,    16.68,2,     1.09,2,    4.520,2,    2.226,2, -999.000,9,-999.0000,9,  -999.00,9,   -999.0,9,   -999.0,9,-999.0000,-999.000,  -999.0,-999.000,  101843
      06MT30_3,  A01W,   495,  2,     20,   K097,2,19941119,0848, 55.6150, -53.6083, 2917,    349.6,   3.6380,  34.8674,2,  34.8688,2,   -999.0,1,  3.6141,    291.5,2,     8.99,2,    16.81,2,     1.09,2,    4.351,2,    2.129,2,    1.711,2,   1.7943,2,     1.00,2,    -10.5,4,   -999.0,9,  0.0072,   0.028,     5.0,   0.180,  101842
      06MT30_3,  A01W,   495,  2,     19,   K126,2,19941119,0848, 55.6150, -53.6083, 2917,    500.1,   3.4080,  34.8641,2,  34.8640,2,   -999.0,1,  3.3741,    293.9,2,     8.98,2,    16.74,2,     1.09,2,    4.181,2,    2.029,2, -999.000,9,-999.0000,9,  -999.00,9,   -999.0,9,   -999.0,9,-999.0000,-999.000,  -999.0,-999.000,  101841
      06MT30_3,  A01W,   495,  2,     18,   B003,2,19941119,0848, 55.6150, -53.6083, 2917,    649.9,   3.1550,  34.8471,2,  34.8474,2,   -999.0,1,  3.1115,    297.2,2,     8.96,2,    16.74,2,     1.10,2, -999.000,9,    2.160,2,    1.755,2,   1.7910,2,     1.27,2,    -22.4,4,   -999.0,9,  0.0072,   0.032,     6.6,   0.180,  101840
      06MT30_3,  A01W,   495,  2,     17,   K124,2,19941119,0848, 55.6150, -53.6083, 2917,    799.3,   3.0990,  34.8523,2,  34.8532,2,   -999.0,1,  3.0449,    296.4,2,     9.17,2,    16.79,2,     1.10,2, -999.000,9, -999.000,9, -999.000,9,-999.0000,9,  -999.00,9,   -999.0,9,   -999.0,9,-999.0000,-999.000,  -999.0,-999.000,  101839
      06MT30_3,  A01W,   495,  2,     16,   K114,2,19941119,0848, 55.6150, -53.6083, 2917,    949.6,   2.9880,  34.8441,2,  34.8443,2,   -999.0,1,  2.9234,    296.6,2,     9.29,2,    16.80,2,     1.10,2, -999.000,9,    1.973,2,    1.697,2,   1.7971,2,     2.34,2,     -1.4,2,   -999.0,9,  0.0072,   0.032,     5.3,   0.180,  101838
      06MT30_3,  A01W,   495,  2,     15,   U010,2,19941119,0848, 55.6150, -53.6083, 2917,   1101.7,   2.9620,  34.8455,2,  34.8460,2,   -999.0,1,  2.8860,    297.2,2,     9.28,2,    16.75,2,     1.11,2, -999.000,9, -999.000,9,    1.693,2,   1.7977,2,     2.30,2,      1.2,2,   -999.0,9,  0.0072,   0.034,     5.0,   0.190,  101837
      06MT30_3,  A01W,   495,  2,     14,   U002,2,19941119,0848, 55.6150, -53.6083, 2917,   1350.3,   2.8990,  34.8430,2,  34.8432,2,   -999.0,1,  2.8039,    298.0,2,     9.28,2,    16.65,2,     1.13,3,    3.942,2,    1.900,2, -999.000,9,-999.0000,9,  -999.00,9,   -999.0,9,   -999.0,9,-999.0000,-999.000,  -999.0,-999.000,  101836
      06MT30_3,  A01W,   495,  2,     13,   K090,2,19941119,0848, 55.6150, -53.6083, 2917,   1501.2,   2.8350,  34.8349,2,  34.8343,2,   -999.0,1,  2.7283,    300.0,2,     9.21,2,    16.50,2,     1.10,2, -999.000,9, -999.000,9,    1.615,2,   1.7981,2,     2.32,2,   -999.0,9,   -999.0,9,  0.0072,   0.028,  -999.0,   0.180,  101835
      06MT30_3,  A01W,   495,  2,     12,   K117,2,19941119,0848, 55.6150, -53.6083, 2917,   1650.1,   2.8510,  34.8380,2,  34.8383,2,   -999.0,1,  2.7316,    299.3,2,     9.24,2,    16.50,2,     1.08,2,    4.012,2,    1.957,2, -999.000,9,-999.0000,9,  -999.00,9,   -999.0,9,   -999.0,9,-999.0000,-999.000,  -999.0,-999.000,  101834
      06MT30_3,  A01W,   495,  2,     11,   B008,2,19941119,0848, 55.6150, -53.6083, 2917,   1802.3,   2.8900,  34.8481,2,  34.8487,2,   -999.0,1,  2.7570,    297.0,2,     9.35,2,    16.47,2,     1.07,2, -999.000,9, -999.000,9,    1.599,2,   1.8033,2,     2.86,2,   -999.0,9,   -999.0,9,  0.0072,   0.031,  -999.0,   0.180,  101833
      06MT30_3,  A01W,   495,  2,     10,   K115,2,19941119,0848, 55.6150, -53.6083, 2917,   1951.3,   2.9980,  34.8752,2,  34.8765,2,   -999.0,1,  2.8501,    289.5,2,     9.97,2,    16.40,2,     1.09,2,    3.153,2,    1.557,2, -999.000,9,-999.0000,9,  -999.00,9,   -999.0,9,   -999.0,9,-999.0000,-999.000,  -999.0,-999.000,  101832
      06MT30_3,  A01W,   495,  2,      9,   K036,2,19941119,0848, 55.6150, -53.6083, 2917,   2100.5,   3.0080,  34.8986,2,  34.8978,2,   -999.0,1,  2.8462,    283.1,2,    10.57,2,    16.36,2,     1.08,2,    2.481,2,    1.206,2,    1.358,2,   1.8055,2,     6.21,2,   -999.0,9,   -999.0,9,  0.0072,   0.021,  -999.0,   0.190,  101831
      06MT30_3,  A01W,   495,  2,      8,   U017,2,19941119,0848, 55.6150, -53.6083, 2917,   2251.6,   2.9290,  34.9084,2,  34.9085,2,   -999.0,1,  2.7543,    280.9,2,    11.01,2,    16.29,2,     1.07,2, -999.000,9, -999.000,9, -999.000,9,-999.0000,9,  -999.00,9,   -999.0,9,   -999.0,9,-999.0000,-999.000,  -999.0,-999.000,  101830
      06MT30_3,  A01W,   495,  2,      7,   B004,2,19941119,0848, 55.6150, -53.6083, 2917,   2401.8,   2.7780,  34.9080,2,  34.9083,2,   -999.0,1,  2.5917,    282.1,2,    11.18,2,    16.13,2,     1.06,2,    2.160,2,    1.035,2,    1.242,2,   1.8053,2,     6.68,2,   -999.0,9,   -999.0,9,  0.0072,   0.025,  -999.0,   0.190,  101829
      06MT30_3,  A01W,   495,  2,      6,   K017,2,19941119,0848, 55.6150, -53.6083, 2917,   2502.4,   2.6510,  34.9061,2,  34.9062,2,   -999.0,1,  2.4574,    283.1,2,    11.37,2,    16.01,2,     1.07,2, -999.000,9, -999.000,9, -999.000,9,-999.0000,9,  -999.00,9,   -999.0,9,   -999.0,9,-999.0000,-999.000,  -999.0,-999.000,  101828
      06MT30_3,  A01W,   495,  2,      5,   U023,2,19941119,0848, 55.6150, -53.6083, 2917,   2651.8,   2.3490,  34.8979,2,  34.8966,3,   -999.0,1,  2.1468,    286.1,2,    11.52,2,    15.68,2,     1.04,2,    2.365,2,    1.163,2,    1.276,2,   1.8042,2,     6.03,2,   -999.0,9,   -999.0,9,  0.0072,   0.021,  -999.0,   0.190,  101827
      06MT30_3,  A01W,   495,  2,      4,   K056,2,19941119,0848, 55.6150, -53.6083, 2917,   2750.8,   2.1870,  34.8913,2,  34.8908,2,   -999.0,1,  1.9785,    290.5,2,    11.31,2,    15.49,2,     1.04,2, -999.000,9, -999.000,9, -999.000,9,-999.0000,9,  -999.00,9,   -999.0,9,   -999.0,9,-999.0000,-999.000,  -999.0,-999.000,  101826
      06MT30_3,  A01W,   495,  2,      3,   U018,2,19941119,0848, 55.6150, -53.6083, 2917,   2841.3,   2.0080,  34.8858,2,  34.8855,2,   -999.0,1,  1.7945,    290.2,2,    11.11,2,    15.19,2,     1.02,2,    2.741,2,    1.335,2,    1.423,2,   1.8143,2,     5.58,2,   -999.0,9,   -999.0,9,  0.0073,   0.020,  -999.0,   0.190,  101825
      06MT30_3,  A01W,   495,  2,      2,   K052,2,19941119,0848, 55.6150, -53.6083, 2917,   2902.0,   1.9870,  34.8849,2,  34.8847,2,   -999.0,1,  1.7681,    290.8,2,    11.10,2,    15.21,2,     1.02,2, -999.000,9, -999.000,9, -999.000,9,-999.0000,9,  -999.00,9,   -999.0,9,   -999.0,9,-999.0000,-999.000,  -999.0,-999.000,  101824
      06MT30_3,  A01W,   495,  2,      1,   K038,2,19941119,0848, 55.6150, -53.6083, 2917,   2937.8,   1.9850,  34.8850,2,  34.8849,2,   -999.0,1,  1.7626,    291.4,2,    11.09,2,    15.23,2,     1.02,2,    2.795,2,    1.344,2,    1.400,2,   1.8072,2,     5.40,2,   -999.0,9,   -999.0,9,  0.0072,   0.027,  -999.0,   0.190,  101823