BOTTLE,20060322WHPSIOSA
EXPOCODE,SECT_ID,STNNBR,CASTNO,SAMPNO,BTLNBR,BTLNBR_FLAG_W,DATE,TIME,LATITUDE,LONGITUDE,DEPTH,CTDPRS,CTDTMP,CTDSAL,CTDSAL_FLAG_W,SALNTY,SALNTY_FLAG_W,CTDOXY,CTDOXY_FLAG_W,THETA,OXYGEN,OXYGEN_FLAG_W,SILCAT,SILCAT_FLAG_W,NO2+NO3,NO2+NO3_FLAG_W,PHSPHT,PHSPHT_FLAG_W,CFC-11,CFC-11_FLAG_W,CFC-12,CFC-12_FLAG_W,TRITUM,TRITUM_FLAG_W,HELIUM,HELIUM_FLAG_W,DELHE3,DELHE3_FLAG_W,DELC14,DELC14_FLAG_W,TCARBN,TCARBN_FLAG_W,HELIER,TRITER,C14ERR,DELHER,BEDFORT
,,,,,,,,,,,,DBAR,ITS-90,PSS-78,,PSS-78,,UMOL/KG,,ITS-90,UMOL/KG,,UMOL/KG,,UMOL/KG,,UMOL/KG,,PMOL/KG,,PMOL/KG,,TU,,NMOL/KG,,PERCNT,,/MILLE,,UMOL/KG,,NMOL/KG,TU,/MILLE,PERCNT,NUM
      06MT30_3,  A01E,   525,  1,      0,   -999,2,19941201,0757, 57.6783, -28.6667, 2454,      5.0,   8.4000,-999.0000,9,  34.6680,2,   -999.0,9,-999.0000,   -999.0,9,  -999.00,9,  -999.00,9,  -999.00,9, -999.000,9, -999.000,9, -999.000,9,-999.0000,9,  -999.00,9,   -999.0,9,   2121.9,2,-999.0000,-999.000,  -999.0,-999.000,    -999
      06MT30_3,  A01E,   525,  1,     24,   K012,2,19941201,0757, 57.6783, -28.6667, 2454,     23.1,   8.4510,  35.0357,2,  35.0332,2,   -999.0,1,  8.4486,    271.5,2,     4.58,2,    12.01,2,     0.78,2,    3.722,3,    1.998,3, -999.000,9,-999.0000,9,  -999.00,9,   -999.0,9,   2120.5,2,-999.0000,-999.000,  -999.0,-999.000,  102518
      06MT30_3,  A01E,   525,  1,     23,   K125,2,19941201,0757, 57.6783, -28.6667, 2454,     50.4,   8.4430,  35.0382,2,  35.0371,2,   -999.0,1,  8.4378,    271.2,2,     4.64,2,    12.08,2,     0.77,2, -999.000,9, -999.000,9,    1.618,2,   1.7513,2,    -1.35,2,   -999.0,9,   2121.7,2,  0.0070,   0.028,  -999.0,   0.150,  102517
      06MT30_3,  A01E,   525,  1,     22,   B023,2,19941201,0757, 57.6783, -28.6667, 2454,     98.9,   8.3990,  35.0420,2,  35.0409,2,   -999.0,1,  8.3887,    270.1,2,     4.95,2,    12.55,2,     0.80,2, -999.000,9, -999.000,9, -999.000,9,-999.0000,9,  -999.00,9,   -999.0,9,   2124.4,2,-999.0000,-999.000,  -999.0,-999.000,  102516
      06MT30_3,  A01E,   525,  1,     21,   K040,2,19941201,0757, 57.6783, -28.6667, 2454,    150.1,   8.2340,  35.0410,2,  35.0396,2,   -999.0,1,  8.2186,    264.1,2,     5.82,2,    13.60,2,     0.86,2,    3.600,3,    1.862,3, -999.000,9,-999.0000,9,  -999.00,9,   -999.0,9,   2131.5,2,-999.0000,-999.000,  -999.0,-999.000,  102515
      06MT30_3,  A01E,   525,  1,     20,   K097,2,19941201,0757, 57.6783, -28.6667, 2454,    246.3,   7.4160,  35.0564,2,  35.0567,2,   -999.0,1,  7.3920,    262.8,2,     7.46,2,    15.70,2,     0.98,2, -999.000,9, -999.000,9, -999.000,9,-999.0000,9,  -999.00,9,   -999.0,9,   2145.1,2,-999.0000,-999.000,  -999.0,-999.000,  102514
      06MT30_3,  A01E,   525,  1,     19,   U015,2,19941201,0757, 57.6783, -28.6667, 2454,    350.3,   6.7330,  35.0170,2,  35.0134,2,   -999.0,1,  6.7005,    254.2,2,     8.46,2,    16.82,2,     1.05,2,    3.458,3,    1.782,3,    1.581,2,   1.7633,2,     1.59,2,   -999.0,9,   -999.0,9,  0.0071,   0.023,  -999.0,   0.160,  102513
      06MT30_3,  A01E,   525,  1,     18,   B003,2,19941201,0757, 57.6783, -28.6667, 2454,    449.6,   6.4220,  35.0252,2,  35.0198,2,   -999.0,1,  6.3811,    263.0,2,     8.25,2,    16.55,2,     1.04,2, -999.000,9, -999.000,9, -999.000,9,-999.0000,9,  -999.00,9,   -999.0,9,   -999.0,9,-999.0000,-999.000,  -999.0,-999.000,  102512
      06MT30_3,  A01E,   525,  1,     17,   K124,2,19941201,0757, 57.6783, -28.6667, 2454,    550.4,   6.2390,  35.0485,2,  35.0482,2,   -999.0,1,  6.1892,    263.3,2,     8.30,2,    16.64,2,     1.04,2,    3.478,2,    1.742,2, -999.000,9,-999.0000,9,  -999.00,9,   -999.0,9,   -999.0,9,-999.0000,-999.000,  -999.0,-999.000,  102511
      06MT30_3,  A01E,   525,  1,     16,   K114,2,19941201,0757, 57.6783, -28.6667, 2454,    691.5,   5.3170,  34.9907,2,  34.9911,2,   -999.0,1,  5.2587,    237.8,2,    10.73,2,    18.87,2,     1.21,2, -999.000,9, -999.000,9,    1.379,2,   1.7774,2,     6.18,2,   -999.0,9,   -999.0,9,  0.0071,   0.019,  -999.0,   0.160,  102510
      06MT30_3,  A01E,   525,  1,     15,   U010,2,19941201,0757, 57.6783, -28.6667, 2454,    849.8,   4.6120,  34.9580,2,  34.9587,2,   -999.0,1,  4.5440,    248.5,2,    10.73,2,    18.69,2,     1.17,2,    2.319,2,    1.117,2, -999.000,9,-999.0000,9,  -999.00,9,   -999.0,9,   -999.0,9,-999.0000,-999.000,  -999.0,-999.000,  102509
      06MT30_3,  A01E,   525,  1,     14,   U002,2,19941201,0757, 57.6783, -28.6667, 2454,   1000.1,   4.1390,  34.9296,2,  34.9302,2,   -999.0,1,  4.0616,    259.7,2,    10.54,2,    18.27,2,     1.15,2, -999.000,9, -999.000,9,    1.430,2,   1.7824,2,     7.35,2,   -999.0,9,   2162.2,2,  0.0071,   0.022,  -999.0,   0.160,  102508
      06MT30_3,  A01E,   525,  1,     13,   B009,2,19941201,0757, 57.6783, -28.6667, 2454,   1145.1,   3.8110,  34.9072,2,  34.9088,3,   -999.0,1,  3.7240,    268.2,2,    10.47,2,    18.02,2,     1.14,2,    2.294,2,    1.108,2,    1.398,2,   1.7890,2,     7.49,2,   -999.0,9,   -999.0,9,  0.0072,   0.030,  -999.0,   0.160,  102507
      06MT30_3,  A01E,   525,  1,     12,   K117,2,19941201,0757, 57.6783, -28.6667, 2454,   1301.4,   3.6100,  34.8971,2,  34.8971,2,   -999.0,1,  3.5116,    274.6,2,    10.42,2,    17.78,2,     1.11,2,    2.272,2,    1.101,2, -999.000,9,-999.0000,9,  -999.00,9,   -999.0,9,   -999.0,9,-999.0000,-999.000,  -999.0,-999.000,  102506
      06MT30_3,  A01E,   525,  1,     11,   B008,2,19941201,0757, 57.6783, -28.6667, 2454,   1386.7,   3.4960,  34.8910,2,  34.8912,2,   -999.0,1,  3.3915,    277.3,2,    10.33,2,    17.53,2,     1.10,2, -999.000,9, -999.000,9, -999.000,9,-999.0000,9,  -999.00,9,   -999.0,9,   -999.0,9,-999.0000,-999.000,  -999.0,-999.000,  102505
      06MT30_3,  A01E,   525,  1,     10,   K115,2,19941201,0757, 57.6783, -28.6667, 2454,   1550.1,   3.4290,  34.8964,2,  34.8936,3,   -999.0,1,  3.3111,    278.5,2,    10.47,2,    17.35,2,     1.10,2,    2.092,2,    1.009,2,    1.328,2,   1.7859,2,     7.77,2,   -999.0,9,   -999.0,9,  0.0071,   0.026,  -999.0,   0.120,  102504
      06MT30_3,  A01E,   525,  1,      9,   K036,2,19941201,0757, 57.6783, -28.6667, 2454,   1700.6,   3.3950,  34.9142,2,  34.9137,2,   -999.0,1,  3.2641,    276.7,2,    10.96,2,    17.20,2,     1.08,2,    1.808,2,    0.868,2,    1.262,2,   1.7928,2,     7.51,2,   -999.0,9,   -999.0,9,  0.0072,   0.032,  -999.0,   0.120,  102503
      06MT30_3,  A01E,   525,  1,      8,   B026,3,19941201,0757, 57.6783, -28.6667, 2454,   1802.0,   3.3930,  34.9345,2,-999.0000,9,   -999.0,1,  3.2530,    270.9,3,    10.61,3,    17.59,3,     1.12,3, -999.000,9, -999.000,9, -999.000,9,-999.0000,9,  -999.00,9,   -999.0,9,   -999.0,9,-999.0000,-999.000,  -999.0,-999.000,  102502
      06MT30_3,  A01E,   525,  1,      7,   B004,2,19941201,0757, 57.6783, -28.6667, 2454,   1902.0,   3.3270,  34.9469,2,  34.9467,2,   -999.0,1,  3.1786,    272.4,2,    11.91,2,    16.98,2,     1.09,2,    1.479,2,    0.703,2, -999.000,9,-999.0000,9,  -999.00,9,   -999.0,9,   -999.0,9,-999.0000,-999.000,  -999.0,-999.000,  102501
      06MT30_3,  A01E,   525,  1,      6,   U006,2,19941201,0757, 57.6783, -28.6667, 2454,   2004.3,   3.2190,  34.9613,2,  34.9612,2,   -999.0,1,  3.0627,    272.8,2,    12.01,2,    16.71,2,     1.07,2,    1.681,2,    0.803,2,    1.043,2,   1.7911,2,     6.96,2,   -999.0,9,   -999.0,9,  0.0072,   0.020,  -999.0,   0.120,  102500
      06MT30_3,  A01E,   525,  1,      5,   U023,2,19941201,0757, 57.6783, -28.6667, 2454,   2098.7,   3.1120,  34.9652,2,  34.9649,2,   -999.0,1,  2.9485,    273.0,2,    12.51,2,    16.61,2,     1.06,2,    1.791,2,    0.845,2,    1.037,2,   1.7913,2,     6.69,2,   -999.0,9,   2163.7,2,  0.0072,   0.026,  -999.0,   0.120,  102499
      06MT30_3,  A01E,   525,  1,      4,   K056,2,19941201,0757, 57.6783, -28.6667, 2454,   2200.2,   2.9560,  34.9660,2,  34.9661,2,   -999.0,1,  2.7855,    272.4,3,    13.43,2,    16.62,2,     1.07,2,    1.733,2,    0.834,2,    1.054,2,   1.7904,2,     6.26,2,   -999.0,9,   -999.0,9,  0.0072,   0.024,  -999.0,   0.160,  102498
      06MT30_3,  A01E,   525,  1,      3,   U018,2,19941201,0757, 57.6783, -28.6667, 2454,   2304.7,   2.8370,  34.9661,2,  34.9656,2,   -999.0,1,  2.6587,    273.3,2,    14.00,2,    16.55,2,     1.07,2,    1.878,2,    0.855,2, -999.000,9,-999.0000,9,  -999.00,9,   -999.0,9,   -999.0,9,-999.0000,-999.000,  -999.0,-999.000,  102497
      06MT30_3,  A01E,   525,  1,      2,   U022,2,19941201,0757, 57.6783, -28.6667, 2454,   2402.2,   2.7570,  34.9653,2,  34.9655,2,   -999.0,1,  2.5708,    273.6,2,    13.90,2,    16.40,2,     1.07,2, -999.000,9, -999.000,9,    1.117,2,   1.7934,2,     5.92,2,   -999.0,9,   -999.0,9,  0.0072,   0.029,  -999.0,   0.160,  102496
      06MT30_3,  A01E,   525,  1,      1,   B025,2,19941201,0757, 57.6783, -28.6667, 2454,   2456.2,   2.6770,  34.9650,2,  34.9649,2,   -999.0,1,  2.4871,    275.8,2,    12.90,2,    16.12,2,     1.05,2,    2.086,2,    1.010,2,    1.189,2,   1.7898,2,     6.10,2,   -999.0,9,   -999.0,9,  0.0072,   0.023,  -999.0,   0.120,  102495
      06MT30_3,  A01E,   526,  1,      0,   -999,2,19941201,1044, 57.3817, -28.1250, 2639,      5.0,   8.3000,-999.0000,9,  34.8390,2,   -999.0,9,-999.0000,   -999.0,9,  -999.00,9,  -999.00,9,  -999.00,9, -999.000,9, -999.000,9, -999.000,9,-999.0000,9,  -999.00,9,   -999.0,9,   2120.4,2,-999.0000,-999.000,  -999.0,-999.000,    -999
      06MT30_3,  A01E,   526,  2,     24,   K012,2,19941201,1732, 57.3733, -28.1333, 2650,     25.1,   8.4290,  35.0306,2,  35.0290,2,   -999.0,1,  8.4264,    273.5,2,     4.25,2,    11.41,2,     0.76,2,    3.785,3,    1.956,3, -999.000,9,-999.0000,9,  -999.00,9,   -999.0,9,   2119.8,2,-999.0000,-999.000,  -999.0,-999.000,  102542
      06MT30_3,  A01E,   526,  2,     23,   K125,2,19941201,1732, 57.3733, -28.1333, 2650,     50.8,   8.4270,  35.0311,2,  35.0302,2,   -999.0,1,  8.4217,    273.6,2,     4.32,2,    11.45,2,     0.76,2, -999.000,9, -999.000,9, -999.000,9,-999.0000,9,  -999.00,9,   -999.0,9,   2119.6,2,-999.0000,-999.000,  -999.0,-999.000,  102541
      06MT30_3,  A01E,   526,  2,     22,   B023,2,19941201,1732, 57.3733, -28.1333, 2650,     99.9,   8.4040,  35.0317,2,  35.0313,2,   -999.0,1,  8.3936,    274.4,2,     4.26,2,    11.49,2,     0.76,2, -999.000,9, -999.000,9, -999.000,9,-999.0000,9,  -999.00,9,   -999.0,9,   2119.9,2,-999.0000,-999.000,  -999.0,-999.000,  102540
      06MT30_3,  A01E,   526,  2,     21,   K040,2,19941201,1732, 57.3733, -28.1333, 2650,    148.6,   7.5440,  35.0271,2,  35.0234,2,   -999.0,1,  7.5295,    257.1,2,     7.69,2,    15.78,2,     1.03,2,    3.614,3,    1.860,3, -999.000,9,-999.0000,9,  -999.00,9,   -999.0,9,   2147.1,2,-999.0000,-999.000,  -999.0,-999.000,  102539
      06MT30_3,  A01E,   526,  2,     20,   K097,2,19941201,1732, 57.3733, -28.1333, 2650,    248.7,   7.0840,  35.0264,2,  35.0264,2,   -999.0,1,  7.0604,    259.9,2,     7.91,2,    16.12,2,     1.03,2, -999.000,9, -999.000,9, -999.000,9,-999.0000,9,  -999.00,9,   -999.0,9,   2149.7,2,-999.0000,-999.000,  -999.0,-999.000,  102538
      06MT30_3,  A01E,   526,  2,     19,   U015,2,19941201,1732, 57.3733, -28.1333, 2650,    349.9,   6.4340,  34.9808,2,  34.9800,2,   -999.0,1,  6.4024,    252.4,2,     8.92,2,    17.27,2,     1.10,2, -999.000,9, -999.000,9, -999.000,9,-999.0000,9,  -999.00,9,     24.9,3,   -999.0,9,-999.0000,-999.000,     5.5,-999.000,  102537
      06MT30_3,  A01E,   526,  2,     18,   B003,2,19941201,1732, 57.3733, -28.1333, 2650,    449.9,   6.1340,  34.9931,2,  34.9925,2,   -999.0,1,  6.0940,    251.9,2,     9.22,2,    17.59,2,     1.12,2,    3.264,2,    1.630,2, -999.000,9,-999.0000,9,  -999.00,9,   -999.0,9,   -999.0,9,-999.0000,-999.000,  -999.0,-999.000,  102536
      06MT30_3,  A01E,   526,  2,     17,   K124,2,19941201,1732, 57.3733, -28.1333, 2650,    546.9,   5.8070,  35.0035,2,  35.0037,2,   -999.0,1,  5.7594,    244.5,2,     9.90,2,    18.27,2,     1.16,2, -999.000,9, -999.000,9, -999.000,9,-999.0000,9,  -999.00,9,     -2.0,2,   -999.0,9,-999.0000,-999.000,     5.2,-999.000,  102535
      06MT30_3,  A01E,   526,  2,     16,   K114,2,19941201,1732, 57.3733, -28.1333, 2650,    649.6,   5.3230,  34.9878,2,  34.9872,2,   -999.0,1,  5.2684,    236.9,2,    10.80,2,    18.99,2,     1.20,2,    2.369,2,    1.153,2, -999.000,9,-999.0000,9,  -999.00,9,   -999.0,9,   2170.7,2,-999.0000,-999.000,  -999.0,-999.000,  102534
      06MT30_3,  A01E,   526,  2,     15,   U010,2,19941201,1732, 57.3733, -28.1333, 2650,    799.2,   4.6160,  34.9551,2,  34.9559,2,   -999.0,1,  4.5523,    247.2,2,    10.80,2,    18.93,2,     1.20,2, -999.000,9, -999.000,9, -999.000,9,-999.0000,9,  -999.00,9,     -9.1,2,   -999.0,9,-999.0000,-999.000,     5.3,-999.000,  102533
      06MT30_3,  A01E,   526,  2,     14,   U002,2,19941201,1732, 57.3733, -28.1333, 2650,    948.0,   4.1340,  34.9283,2,  34.9285,2,   -999.0,1,  4.0610,    259.3,2,    10.62,2,    18.48,2,     1.18,2,    2.347,2,    1.101,2, -999.000,9,-999.0000,9,  -999.00,9,   -999.0,9,   -999.0,9,-999.0000,-999.000,  -999.0,-999.000,  102532
      06MT30_3,  A01E,   526,  2,     13,   B009,2,19941201,1732, 57.3733, -28.1333, 2650,   1098.0,   3.8490,  34.9098,2,  34.9114,2,   -999.0,1,  3.7656,    267.4,2,    10.48,2,    18.09,2,     1.15,2,    2.359,2,    1.109,2,    1.466,2,   1.7885,2,     7.58,2,    -18.2,4,   -999.0,9,  0.0072,   0.032,     4.9,   0.120,  102531
      06MT30_3,  A01E,   526,  2,     12,   K117,2,19941201,1732, 57.3733, -28.1333, 2650,   1249.8,   3.6370,  34.8989,2,  34.8979,2,   -999.0,1,  3.5428,    273.2,2,    10.40,2,    17.79,2,     1.13,2,    2.299,2,    1.091,2, -999.000,9,-999.0000,9,  -999.00,9,   -999.0,9,   -999.0,9,-999.0000,-999.000,  -999.0,-999.000,  102530
      06MT30_3,  A01E,   526,  2,     11,   B008,2,19941201,1732, 57.3733, -28.1333, 2650,   1370.8,   3.5040,  34.8937,2,  34.8939,2,   -999.0,1,  3.4008,    277.1,2,    10.40,2,    17.60,2,     1.12,2,    2.190,2,    1.043,2,    1.415,2,   1.7838,2,     7.80,2,   -999.0,9,   -999.0,9,  0.0071,   0.023,  -999.0,   0.120,  102529
      06MT30_3,  A01E,   526,  2,     10,   K115,2,19941201,1732, 57.3733, -28.1333, 2650,   1547.9,   3.3940,  34.8969,2,  34.8969,2,   -999.0,1,  3.2767,    278.3,2,    10.61,2,    17.40,2,     1.12,2,    2.121,2,    1.005,2, -999.000,9,-999.0000,9,  -999.00,9,   -999.0,9,   2156.7,2,-999.0000,-999.000,  -999.0,-999.000,  102528
      06MT30_3,  A01E,   526,  2,      9,   K036,2,19941201,1732, 57.3733, -28.1333, 2650,   1698.6,   3.3920,  34.9142,2,  34.9144,2,   -999.0,1,  3.2613,    276.6,2,    10.93,2,    17.30,2,     1.10,2,    1.776,2,    0.842,2,    1.251,2,   1.7888,2,     7.99,2,   -999.0,9,   -999.0,9,  0.0072,   0.032,  -999.0,   0.120,  102527
      06MT30_3,  A01E,   526,  2,      8,   B026,3,19941201,1732, 57.3733, -28.1333, 2650,   1850.9,   3.3750,  34.9335,2,-999.0000,9,   -999.0,1,  3.2307,   -999.0,9,    11.35,3,    17.13,3,     1.10,3, -999.000,9, -999.000,9, -999.000,9,-999.0000,9,  -999.00,9,   -999.0,9,   -999.0,9,-999.0000,-999.000,  -999.0,-999.000,  102526
      06MT30_3,  A01E,   526,  2,      7,   B004,2,19941201,1732, 57.3733, -28.1333, 2650,   1999.2,   3.2650,  34.9520,2,  34.9513,2,   -999.0,1,  3.1085,    271.5,2,    12.47,2,    17.10,2,     1.11,2,    1.472,2,    0.683,2, -999.000,9,-999.0000,9,  -999.00,9,   -999.0,9,   -999.0,9,-999.0000,-999.000,  -999.0,-999.000,  102525
      06MT30_3,  A01E,   526,  2,      6,   U006,2,19941201,1732, 57.3733, -28.1333, 2650,   2147.2,   3.0880,  34.9603,2,  34.9612,2,   -999.0,1,  2.9204,    270.3,2,    14.03,2,    17.12,2,     1.10,2,    1.459,2,    0.685,2,    1.009,2,   1.7842,2,     7.29,2,   -999.0,9,   -999.0,9,  0.0071,   0.027,  -999.0,   0.120,  102524
      06MT30_3,  A01E,   526,  2,      5,   U023,2,19941201,1732, 57.3733, -28.1333, 2650,   2297.8,   2.9030,  34.9622,2,  34.9628,2,   -999.0,1,  2.7242,    268.7,2,    15.88,2,    17.24,2,     1.14,2,    1.513,2,    0.700,2,    1.014,2,   1.7962,2,     6.36,2,   -999.0,9,   -999.0,9,  0.0072,   0.023,  -999.0,   0.160,  102523
      06MT30_3,  A01E,   526,  2,      4,   K056,2,19941201,1732, 57.3733, -28.1333, 2650,   2452.3,   2.7730,  34.9640,2,  34.9634,2,   -999.0,1,  2.5817,    271.3,2,    15.48,2,    16.95,2,     1.10,2,    1.778,2,    0.824,2,    1.039,2,   1.7976,2,     5.98,2,   -999.0,9,   -999.0,9,  0.0072,   0.021,  -999.0,   0.160,  102522
      06MT30_3,  A01E,   526,  2,      3,   U018,2,19941201,1732, 57.3733, -28.1333, 2650,   2550.6,   2.6540,  34.9652,2,  34.9652,2,   -999.0,1,  2.4554,    277.2,2,    12.05,2,    16.19,2,     1.07,2,    2.114,2,    1.029,2,    1.111,2,   1.7937,2,     5.77,2,   -999.0,9,   -999.0,9,  0.0072,   0.025,  -999.0,   0.110,  102521
      06MT30_3,  A01E,   526,  2,      2,   U022,2,19941201,1732, 57.3733, -28.1333, 2650,   2610.3,   2.6320,  34.9649,2,  34.9648,2,   -999.0,1,  2.4281,    278.1,2,    11.87,2,    16.01,2,     1.04,2,    2.154,2,    1.045,2,    1.197,2,   1.7939,2,     5.55,2,   -999.0,9,   -999.0,9,  0.0072,   0.015,  -999.0,   0.160,  102520
      06MT30_3,  A01E,   526,  2,      1,   B025,2,19941201,1732, 57.3733, -28.1333, 2650,   2655.9,   2.5900,  34.9639,2,  34.9637,2,   -999.0,1,  2.3824,    278.1,2,    12.09,2,    15.99,2,     1.05,2, -999.000,9, -999.000,9,    1.120,2,   1.8013,2,     5.85,2,   -999.0,9,   -999.0,9,  0.0072,   0.022,  -999.0,   0.110,  102519