BOTTLE,20060322WHPSIOSA
EXPOCODE,SECT_ID,STNNBR,CASTNO,SAMPNO,BTLNBR,BTLNBR_FLAG_W,DATE,TIME,LATITUDE,LONGITUDE,DEPTH,CTDPRS,CTDTMP,CTDSAL,CTDSAL_FLAG_W,SALNTY,SALNTY_FLAG_W,CTDOXY,CTDOXY_FLAG_W,THETA,OXYGEN,OXYGEN_FLAG_W,SILCAT,SILCAT_FLAG_W,NO2+NO3,NO2+NO3_FLAG_W,PHSPHT,PHSPHT_FLAG_W,CFC-11,CFC-11_FLAG_W,CFC-12,CFC-12_FLAG_W,TRITUM,TRITUM_FLAG_W,HELIUM,HELIUM_FLAG_W,DELHE3,DELHE3_FLAG_W,DELC14,DELC14_FLAG_W,TCARBN,TCARBN_FLAG_W,HELIER,TRITER,C14ERR,DELHER,BEDFORT
,,,,,,,,,,,,DBAR,ITS-90,PSS-78,,PSS-78,,UMOL/KG,,ITS-90,UMOL/KG,,UMOL/KG,,UMOL/KG,,UMOL/KG,,PMOL/KG,,PMOL/KG,,TU,,NMOL/KG,,PERCNT,,/MILLE,,UMOL/KG,,NMOL/KG,TU,/MILLE,PERCNT,NUM
      06MT30_3,  A01W,   502,  1,     24,   K012,2,19941123,1453, 60.3000, -48.5700, 2742,     16.3,   1.2650,  33.1203,2,  33.1224,2,   -999.0,1,  1.2643,    334.6,2,     3.70,2,     7.13,2,     0.65,2,    6.119,2,    3.011,2,    3.351,2,   1.8142,2,    -1.97,2,   -999.0,9,   -999.0,9,  0.0073,   0.057,  -999.0,   0.150,  102014
      06MT30_3,  A01W,   502,  1,     23,   K125,2,19941123,1453, 60.3000, -48.5700, 2742,     49.4,   4.5700,  34.5278,2,  34.5283,2,   -999.0,1,  4.5664,    304.7,2,     5.74,2,    12.84,2,     0.86,2, -999.000,9, -999.000,9,    2.197,2,   1.8095,2,    -1.99,2,   -999.0,9,   -999.0,9,  0.0072,   0.026,  -999.0,   0.130,  102013
      06MT30_3,  A01W,   502,  1,     22,   B023,2,19941123,1453, 60.3000, -48.5700, 2742,     97.5,   5.4170,  34.9072,2,  34.9066,2,   -999.0,1,  5.4091,    294.1,2,     6.61,2,    14.67,2,     0.97,2, -999.000,9, -999.000,9, -999.000,9,-999.0000,9,  -999.00,9,   -999.0,9,   -999.0,9,-999.0000,-999.000,  -999.0,-999.000,  102012
      06MT30_3,  A01W,   502,  1,     21,   K040,2,19941123,1453, 60.3000, -48.5700, 2742,    200.2,   5.2690,  34.9150,2,  34.9137,2,   -999.0,1,  5.2529,    298.6,2,     6.96,2,    15.11,2,     0.99,2,    4.477,2,    2.296,2,    1.734,2,   1.8190,2,    -1.49,2,   -999.0,9,   -999.0,9,  0.0073,   0.030,  -999.0,   0.150,  102011
      06MT30_3,  A01W,   502,  1,     20,   K097,2,19941123,1453, 60.3000, -48.5700, 2742,    298.5,   4.9060,  34.9042,2,  34.9035,2,   -999.0,1,  4.8827,    284.3,2,     7.88,2,    15.77,2,     1.04,2,    4.133,2,    2.071,2, -999.000,9,-999.0000,9,  -999.00,9,   -999.0,9,   -999.0,9,-999.0000,-999.000,  -999.0,-999.000,  102010
      06MT30_3,  A01W,   502,  1,     19,   K126,2,19941123,1453, 60.3000, -48.5700, 2742,    450.4,   4.6340,  34.9103,2,  34.9104,2,   -999.0,1,  4.5993,    281.8,2,     8.48,2,    16.28,2,     1.05,2, -999.000,9, -999.000,9,    1.798,2,   1.7821,2,     1.01,2,   -999.0,9,   -999.0,9,  0.0071,   0.028,  -999.0,   0.160,  102009
      06MT30_3,  A01W,   502,  1,     18,   B003,2,19941123,1453, 60.3000, -48.5700, 2742,    598.8,   4.5230,  34.9103,2,  34.9105,2,   -999.0,1,  4.4767,    281.6,2,     8.60,2,    16.43,2,     1.04,2,    3.990,2,    2.003,2, -999.000,9,-999.0000,9,  -999.00,9,   -999.0,9,   -999.0,9,-999.0000,-999.000,  -999.0,-999.000,  102008
      06MT30_3,  A01W,   502,  1,     17,   K124,2,19941123,1453, 60.3000, -48.5700, 2742,    749.0,   4.3850,  34.9087,2,  34.9092,2,   -999.0,1,  4.3270,    281.7,2,     8.80,2,    16.60,2,     1.05,2, -999.000,9, -999.000,9,    1.646,2,   1.7803,2,     1.72,2,   -999.0,9,   -999.0,9,  0.0071,   0.025,  -999.0,   0.140,  102007
      06MT30_3,  A01W,   502,  1,     16,   K114,2,19941123,1453, 60.3000, -48.5700, 2742,    898.0,   4.1750,  34.9060,2,  34.9065,2,   -999.0,1,  4.1059,    283.0,2,     8.98,2,    16.71,2,     1.06,2,    3.668,2,    1.788,2, -999.000,9,-999.0000,9,  -999.00,9,   -999.0,9,   -999.0,9,-999.0000,-999.000,  -999.0,-999.000,  102006
      06MT30_3,  A01W,   502,  1,     15,   U010,2,19941123,1453, 60.3000, -48.5700, 2742,   1048.7,   3.7390,  34.8952,2,  34.8957,2,   -999.0,1,  3.6607,    286.9,2,     9.29,2,    16.93,2,     1.08,2, -999.000,9, -999.000,9,    1.652,2,   1.7878,2,     2.59,2,   -999.0,9,   -999.0,9,  0.0072,   0.027,  -999.0,   0.130,  102005
      06MT30_3,  A01W,   502,  1,     14,   U002,2,19941123,1453, 60.3000, -48.5700, 2742,   1199.8,   3.5740,  34.8894,2,  34.8895,2,   -999.0,1,  3.4846,    289.1,2,     9.43,2,    17.07,2,     1.08,2,    3.690,2,    1.836,2, -999.000,9,-999.0000,9,  -999.00,9,   -999.0,9,   -999.0,9,-999.0000,-999.000,  -999.0,-999.000,  102004
      06MT30_3,  A01W,   502,  1,     13,   B013,2,19941123,1453, 60.3000, -48.5700, 2742,   1350.7,   3.3760,  34.8839,2,  34.8838,2,   -999.0,1,  3.2758,    290.2,2,     9.45,2,    16.91,2,     1.08,2, -999.000,9, -999.000,9, -999.000,9,-999.0000,9,  -999.00,9,   -999.0,9,   -999.0,9,-999.0000,-999.000,  -999.0,-999.000,  102003
      06MT30_3,  A01W,   502,  1,     12,   K117,2,19941123,1453, 60.3000, -48.5700, 2742,   1448.7,   3.3100,  34.8817,2,  34.8819,2,   -999.0,1,  3.2022,    291.0,2,     9.54,2,    16.91,2,     1.07,2,    3.575,2,    1.772,2,    1.621,2,   1.8306,2,     2.90,2,   -999.0,9,   -999.0,9,  0.0073,   0.030,  -999.0,   0.140,  102002
      06MT30_3,  A01W,   502,  1,     11,   B008,2,19941123,1453, 60.3000, -48.5700, 2742,   1600.3,   3.2530,  34.8788,2,  34.8793,2,   -999.0,1,  3.1328,    291.7,2,     9.57,2,    16.89,2,     1.07,2,    3.614,2,    1.772,2, -999.000,9,-999.0000,9,  -999.00,9,   -999.0,9,   -999.0,9,-999.0000,-999.000,  -999.0,-999.000,  102001
      06MT30_3,  A01W,   502,  1,     10,   K115,2,19941123,1453, 60.3000, -48.5700, 2742,   1749.0,   3.1850,  34.8778,2,  34.8774,2,   -999.0,1,  3.0526,    291.5,2,     9.63,2,    16.82,2,     1.06,2,    3.512,2,    1.682,2, -999.000,9,-999.0000,9,  -999.00,9,   -999.0,9,   -999.0,9,-999.0000,-999.000,  -999.0,-999.000,  102000
      06MT30_3,  A01W,   502,  1,      9,   K036,2,19941123,1453, 60.3000, -48.5700, 2742,   1901.0,   3.1350,  34.8785,2,  34.8786,2,   -999.0,1,  2.9897,    291.1,2,     9.69,2,    16.75,2,     1.06,2, -999.000,9, -999.000,9, -999.000,9,-999.0000,9,  -999.00,9,   -999.0,9,   -999.0,9,-999.0000,-999.000,  -999.0,-999.000,  101999
      06MT30_3,  A01W,   502,  1,      8,   U017,2,19941123,1453, 60.3000, -48.5700, 2742,   2049.7,   3.1090,  34.8791,2,  34.8790,2,   -999.0,1,  2.9504,    290.4,2,     9.81,2,    16.75,2,     1.06,2,    3.294,2,    1.590,2,    1.548,2,   1.7947,2,     3.94,2,    -25.6,4,   -999.0,9,  0.0072,   0.024,     5.2,   0.140,  101998
      06MT30_3,  A01W,   502,  1,      7,   B004,2,19941123,1453, 60.3000, -48.5700, 2742,   2200.1,   3.0410,  34.8831,2,  34.8831,2,   -999.0,1,  2.8694,    289.0,2,    10.02,2,    16.53,2,     1.06,2,    3.056,2,    1.447,2, -999.000,9,-999.0000,9,  -999.00,9,   -999.0,9,   -999.0,9,-999.0000,-999.000,  -999.0,-999.000,  101997
      06MT30_3,  A01W,   502,  1,      6,   K017,2,19941123,1453, 60.3000, -48.5700, 2742,   2350.3,   2.9440,  34.8912,2,  34.8916,2,   -999.0,1,  2.7598,    286.2,2,    10.33,2,    16.34,2,     1.05,2, -999.000,9, -999.000,9,    1.436,2,   1.7966,2,     4.97,2,     -8.5,2,   -999.0,9,  0.0072,   0.028,     5.0,   0.140,  101996
      06MT30_3,  A01W,   502,  1,      5,   U023,2,19941123,1453, 60.3000, -48.5700, 2742,   2500.1,   2.8820,  34.8889,2,  34.8884,2,   -999.0,1,  2.6844,    287.4,2,    10.27,2,    16.24,2,     1.04,2,    2.926,2,    1.421,2,    1.400,2,-999.0000,5,  -999.00,5,     -6.9,2,   -999.0,9,-999.0000,   0.034,     5.5,-999.000,  101995
      06MT30_3,  A01W,   502,  1,      4,   K056,2,19941123,1453, 60.3000, -48.5700, 2742,   2595.8,   2.8040,  34.8899,2,  34.8897,2,   -999.0,1,  2.5985,    287.4,2,    10.34,2,    16.13,2,     1.04,2, -999.000,9, -999.000,9,    1.432,2,   1.8050,2,     4.96,2,    -54.4,4,   -999.0,9,  0.0072,   0.030,     5.1,   0.160,  101994
      06MT30_3,  A01W,   502,  1,      3,   U018,2,19941123,1453, 60.3000, -48.5700, 2742,   2644.9,   2.7800,  34.8902,2,  34.8894,2,   -999.0,1,  2.5701,    287.3,2,    10.36,2,    16.06,2,     1.04,2,    2.806,2,    1.333,2,    1.459,2,   1.8037,2,     5.00,2,    -12.0,2,   -999.0,9,  0.0072,   0.029,     5.2,   0.160,  101993
      06MT30_3,  A01W,   502,  1,      2,   K052,2,19941123,1453, 60.3000, -48.5700, 2742,   2697.5,   2.6920,  34.8920,2,  34.8914,2,   -999.0,1,  2.4787,    287.1,2,    10.53,2,    15.97,2,     1.04,2,    2.723,2,    1.287,2, -999.000,9,-999.0000,9,  -999.00,9,   -999.0,9,   -999.0,9,-999.0000,-999.000,  -999.0,-999.000,  101992
      06MT30_3,  A01W,   502,  1,      1,   K038,2,19941123,1453, 60.3000, -48.5700, 2742,   2773.9,   2.4720,  34.8895,2,  34.8895,2,   -999.0,1,  2.2555,    288.3,2,    10.65,2,    15.75,2,     1.03,2,    2.749,2,    1.333,2, -999.000,5,   1.8083,2,     5.01,2,    -26.7,4,   -999.0,9,  0.0072,-999.000,     5.2,   0.160,  101991
      06MT30_3,  A01W,   503,  2,     17,   K124,2,19941123,2030, 60.3517, -48.5317, 1644,     24.7,   1.2010,  33.0167,2,  33.0015,2,   -999.0,1,  1.2000,    336.3,2,     3.59,2,     6.74,2,     0.62,2, -999.000,9, -999.000,9, -999.000,9,-999.0000,9,  -999.00,9,   -999.0,9,   -999.0,9,-999.0000,-999.000,  -999.0,-999.000,  102031
      06MT30_3,  A01W,   503,  2,     16,   K114,2,19941123,2030, 60.3517, -48.5317, 1644,    100.8,   5.2450,  34.7927,2,  34.8115,2,   -999.0,1,  5.2370,    296.7,2,     6.29,2,    14.13,2,     0.91,2, -999.000,9, -999.000,9,    1.884,2,   1.7966,2,    -1.26,2,   -999.0,9,   -999.0,9,  0.0072,   0.037,  -999.0,   0.150,  102030
      06MT30_3,  A01W,   503,  2,     15,   U010,2,19941123,2030, 60.3517, -48.5317, 1644,    199.2,   5.2880,  34.8941,2,  34.8940,2,   -999.0,1,  5.2720,    290.7,2,     6.98,2,    14.95,2,     0.94,2, -999.000,9, -999.000,9,    1.846,2,   1.7984,2,    -0.89,2,   -999.0,9,   -999.0,9,  0.0072,   0.036,  -999.0,   0.150,  102029
      06MT30_3,  A01W,   503,  2,     14,   U002,2,19941123,2030, 60.3517, -48.5317, 1644,    300.6,   5.4030,  34.9252,2,  34.9249,2,   -999.0,1,  5.3783,    297.6,2,     7.01,2,    15.13,2,     0.96,2, -999.000,9, -999.000,9, -999.000,9,-999.0000,9,  -999.00,9,   -999.0,9,   -999.0,9,-999.0000,-999.000,  -999.0,-999.000,  102028
      06MT30_3,  A01W,   503,  2,     13,   B013,2,19941123,2030, 60.3517, -48.5317, 1644,    400.7,   4.8770,  34.9074,2,  34.9080,2,   -999.0,1,  4.8455,    282.7,2,     8.24,2,    16.05,2,     1.00,2, -999.000,9, -999.000,9,    1.812,2,   1.7812,2,     0.42,2,   -999.0,9,   -999.0,9,  0.0071,   0.040,  -999.0,   0.160,  102027
      06MT30_3,  A01W,   503,  2,     12,   K117,2,19941123,2030, 60.3517, -48.5317, 1644,    499.8,   4.7550,  34.9039,2,  34.9039,2,   -999.0,1,  4.7158,    281.6,2,     8.40,2,    16.19,2,     1.03,2, -999.000,9, -999.000,9, -999.000,9,-999.0000,9,  -999.00,9,   -999.0,9,   -999.0,9,-999.0000,-999.000,  -999.0,-999.000,  102026
      06MT30_3,  A01W,   503,  2,     11,   B008,2,19941123,2030, 60.3517, -48.5317, 1644,    647.7,   4.6910,  34.9094,2,  34.9096,2,   -999.0,1,  4.6398,    281.7,2,     8.54,2,    16.34,2,     1.04,2, -999.000,9, -999.000,9,    1.713,2,   1.7816,2,     0.94,2,   -999.0,9,   -999.0,9,  0.0071,   0.029,  -999.0,   0.160,  102025
      06MT30_3,  A01W,   503,  2,     10,   K115,2,19941123,2030, 60.3517, -48.5317, 1644,    798.8,   4.5330,  34.9118,2,  34.9132,2,   -999.0,1,  4.4699,    281.6,2,     8.81,2,    16.62,2,     1.04,2, -999.000,9, -999.000,9, -999.000,9,-999.0000,9,  -999.00,9,   -999.0,9,   -999.0,9,-999.0000,-999.000,  -999.0,-999.000,  102024
      06MT30_3,  A01W,   503,  2,      9,   K036,2,19941123,2030, 60.3517, -48.5317, 1644,    950.7,   4.3790,  34.9098,2,  34.9099,2,   -999.0,1,  4.3040,    282.2,2,     8.95,2,    16.83,2,     1.04,2,    3.899,2,    1.903,2,    1.595,2,   1.7782,2,     1.71,2,   -999.0,9,   -999.0,9,  0.0071,   0.041,  -999.0,   0.160,  102023
      06MT30_3,  A01W,   503,  2,      8,   U017,2,19941123,2030, 60.3517, -48.5317, 1644,   1100.6,   3.7870,  34.8982,2,  34.8980,2,   -999.0,1,  3.7040,    285.5,2,     9.42,2,    17.17,2,     1.07,2, -999.000,9, -999.000,9, -999.000,9,-999.0000,9,  -999.00,9,   -999.0,9,   -999.0,9,-999.0000,-999.000,  -999.0,-999.000,  102022
      06MT30_3,  A01W,   503,  2,      7,   B004,2,19941123,2030, 60.3517, -48.5317, 1644,   1200.2,   3.5290,  34.8888,2,  34.8889,2,   -999.0,1,  3.4400,    289.2,2,     9.56,2,    17.10,2,     1.06,2, -999.000,9, -999.000,9, -999.000,9,-999.0000,9,  -999.00,9,   -999.0,9,   -999.0,9,-999.0000,-999.000,  -999.0,-999.000,  102021
      06MT30_3,  A01W,   503,  2,      6,   K017,2,19941123,2030, 60.3517, -48.5317, 1644,   1301.3,   3.4060,  34.8847,2,  34.8847,2,   -999.0,1,  3.3097,    290.1,2,     9.64,2,    17.09,2,     1.07,2, -999.000,9, -999.000,9,    1.594,2,   1.8139,2,     2.75,2,   -999.0,9,   -999.0,9,  0.0073,   0.034,  -999.0,   0.160,  102020
      06MT30_3,  A01W,   503,  2,      5,   U023,2,19941123,2030, 60.3517, -48.5317, 1644,   1399.5,   3.3670,  34.8819,2,  34.8821,2,   -999.0,1,  3.2628,    291.0,2,     9.67,2,    17.14,2,     1.08,2,    3.710,2,    1.763,2, -999.000,9,-999.0000,9,  -999.00,9,   -999.0,9,   -999.0,9,-999.0000,-999.000,  -999.0,-999.000,  102019
      06MT30_3,  A01W,   503,  2,      4,   K056,2,19941123,2030, 60.3517, -48.5317, 1644,   1500.2,   3.3040,  34.8794,2,  34.8781,3,   -999.0,1,  3.1919,    292.7,2,     9.69,2,    17.10,2,     1.09,2, -999.000,9, -999.000,9, -999.000,9,-999.0000,9,  -999.00,9,   -999.0,9,   -999.0,9,-999.0000,-999.000,  -999.0,-999.000,  102018
      06MT30_3,  A01W,   503,  2,      3,   U018,2,19941123,2030, 60.3517, -48.5317, 1644,   1627.9,   3.1440,  34.8764,2,  34.8757,2,   -999.0,1,  3.0228,    291.8,2,     9.82,2,    16.90,2,     1.09,2,    3.512,2,    1.677,2,    1.588,2,   1.7923,2,     3.16,2,   -999.0,9,   -999.0,9,  0.0072,   0.023,  -999.0,   0.160,  102017
      06MT30_3,  A01W,   503,  2,      2,   K052,2,19941123,2030, 60.3517, -48.5317, 1644,   1669.9,   3.1560,  34.8763,2,  34.8762,2,   -999.0,1,  3.0310,    292.4,2,     9.77,2,    16.90,2,     1.07,2, -999.000,9, -999.000,9, -999.000,9,-999.0000,9,  -999.00,9,   -999.0,9,   -999.0,9,-999.0000,-999.000,  -999.0,-999.000,  102016
      06MT30_3,  A01W,   503,  2,      1,   K038,2,19941123,2030, 60.3517, -48.5317, 1644,   1691.8,   3.1030,  34.8768,2,  34.8767,2,   -999.0,1,  2.9767,    292.3,2,     9.87,2,    16.83,2,     1.07,2,    3.511,2,    1.639,2,    1.561,2,   1.7893,2,     3.40,2,   -999.0,9,   -999.0,9,  0.0072,   0.023,  -999.0,   0.160,  102015
      06MT30_3,  A01W,   504,  1,     10,   K115,2,19941123,2335, 60.4067, -48.4217,  479,     18.0,   0.8900,  32.7993,2,  32.7984,2,   -999.0,1,  0.8893,    338.2,2,     3.16,2,     5.71,2,     0.58,2,    6.290,2,    3.126,2,    3.557,2,   1.8229,2,    -1.95,2,   -999.0,9,   -999.0,9,  0.0073,   0.053,  -999.0,   0.180,  102048
      06MT30_3,  A01W,   504,  1,      9,   K036,2,19941123,2335, 60.4067, -48.4217,  479,     50.4,   2.8370,  33.8997,2,  33.8959,2,   -999.0,1,  2.8341,    318.4,2,     5.06,2,    10.00,2,     0.75,2, -999.000,9, -999.000,9, -999.000,5,   1.8526,2,    -1.80,2,   -999.0,9,   -999.0,9,  0.0074,-999.000,  -999.0,   0.180,  102047
      06MT30_3,  A01W,   504,  1,      8,   U017,2,19941123,2335, 60.4067, -48.4217,  479,    100.1,   3.7330,  34.2926,2,  34.2888,2,   -999.0,1,  3.7264,    309.0,2,     5.74,2,    11.72,2,     0.82,2,    5.138,2,    2.632,2, -999.000,9,-999.0000,9,  -999.00,9,   -999.0,9,   -999.0,9,-999.0000,-999.000,  -999.0,-999.000,  102046
      06MT30_3,  A01W,   504,  1,      7,   B004,2,19941123,2335, 60.4067, -48.4217,  479,    149.1,   4.2990,  34.5154,2,  34.5130,2,   -999.0,1,  4.2883,    303.4,2,     6.14,2,    12.87,2,     0.87,2, -999.000,9, -999.000,9,    2.210,2,   1.8146,2,    -1.27,2,   -999.0,9,   -999.0,9,  0.0073,   0.042,  -999.0,   0.130,  102045
      06MT30_3,  A01W,   504,  1,      6,   K017,2,19941123,2335, 60.4067, -48.4217,  479,    198.3,   4.7030,  34.6798,2,  34.6785,2,   -999.0,1,  4.6880,    298.1,2,     6.58,2,    13.68,2,     0.91,2,    4.692,2,    2.370,2, -999.000,9,-999.0000,9,  -999.00,9,   -999.0,9,   -999.0,9,-999.0000,-999.000,  -999.0,-999.000,  102044
      06MT30_3,  A01W,   504,  1,      5,   U023,2,19941123,2335, 60.4067, -48.4217,  479,    244.6,   4.9040,  34.7556,2,  34.7593,2,   -999.0,1,  4.8851,    294.9,2,     6.83,2,    14.16,2,     0.95,2, -999.000,9, -999.000,9,    1.927,2,   1.8153,2,    -0.74,2,   -999.0,9,   -999.0,9,  0.0073,   0.040,  -999.0,   0.140,  102043
      06MT30_3,  A01W,   504,  1,      4,   K056,2,19941123,2335, 60.4067, -48.4217,  479,    302.2,   5.3270,  34.8894,2,  34.8880,2,   -999.0,1,  5.3024,    292.0,2,     7.02,2,    14.76,2,     0.95,2,    4.354,2,    2.190,2, -999.000,9,-999.0000,9,  -999.00,9,   -999.0,9,   -999.0,9,-999.0000,-999.000,  -999.0,-999.000,  102042
      06MT30_3,  A01W,   504,  1,      3,   U018,2,19941123,2335, 60.4067, -48.4217,  479,    332.4,   5.3400,  34.8965,2,  34.8968,2,   -999.0,1,  5.3128,    291.2,2,     7.17,2,    14.85,2,     0.98,2, -999.000,9, -999.000,9,    1.774,2,   1.7969,2,    -1.00,2,   -999.0,9,   -999.0,9,  0.0072,   0.042,  -999.0,   0.180,  102041
      06MT30_3,  A01W,   504,  1,      2,   K052,2,19941123,2335, 60.4067, -48.4217,  479,    405.6,   5.1000,  34.9075,2,  34.9061,2,   -999.0,1,  5.0674,    286.1,2,     7.84,2,    15.45,2,     1.00,2,    4.238,2,    2.147,2, -999.000,9,-999.0000,9,  -999.00,9,   -999.0,9,   -999.0,9,-999.0000,-999.000,  -999.0,-999.000,  102040
      06MT30_3,  A01W,   504,  1,      1,   K038,2,19941123,2335, 60.4067, -48.4217,  479,    466.8,   5.0840,  34.9069,2,  34.9053,2,   -999.0,1,  5.0463,    286.1,2,     7.91,2,    15.43,2,     0.99,2,    4.251,2,    2.116,2,    1.781,2,   1.7873,2,     0.01,2,   -999.0,9,   -999.0,9,  0.0071,   0.033,  -999.0,   0.130,  102039
      06MT30_3,  A01W,   505,  1,     15,   U010,2,19941124,0227, 60.5633, -48.2250,  139,     22.4,   0.7660,  32.7332,2,  32.7321,2,   -999.0,1,  0.7651,    337.4,2,     3.21,2,     5.84,2,     0.59,2, -999.000,9, -999.000,9,    3.556,2,   1.8099,2,    -1.97,2,   -999.0,9,   -999.0,9,  0.0072,   0.047,  -999.0,   0.150,  102053
      06MT30_3,  A01W,   505,  1,     14,   U002,2,19941124,0227, 60.5633, -48.2250,  139,     46.3,   2.5210,  33.7596,2,  33.7684,2,   -999.0,1,  2.5185,    322.1,2,     4.84,2,     9.47,2,     0.73,2, -999.000,9, -999.000,9,    2.886,2,-999.0000,5,  -999.00,5,   -999.0,9,   -999.0,9,-999.0000,   0.040,  -999.0,-999.000,  102052
      06MT30_3,  A01W,   505,  1,     13,   B013,2,19941124,0227, 60.5633, -48.2250,  139,     67.8,   2.8710,  33.9482,2,  33.9456,2,   -999.0,1,  2.8670,    317.3,2,     5.23,2,    10.22,2,     0.77,2, -999.000,9, -999.000,9,    2.755,2,   1.8545,2,    -1.54,2,   -999.0,9,   -999.0,9,  0.0074,   0.045,  -999.0,   0.150,  102051
      06MT30_3,  A01W,   505,  1,     12,   K117,2,19941124,0227, 60.5633, -48.2250,  139,     90.2,   3.0560,  34.0403,2,  34.0370,2,   -999.0,1,  3.0506,    313.3,2,     5.63,2,    10.61,2,     0.79,2, -999.000,9, -999.000,9, -999.000,5,   1.8465,2,    -1.96,2,   -999.0,9,   -999.0,9,  0.0074,-999.000,  -999.0,   0.150,  102050
      06MT30_3,  A01W,   505,  1,     11,   B008,2,19941124,0227, 60.5633, -48.2250,  139,    114.9,   3.0660,  34.0453,2,  34.0421,2,   -999.0,1,  3.0590,    313.5,2,     5.67,2,    10.62,2,     0.79,2, -999.000,9, -999.000,9,    2.731,2,   1.8468,2,    -1.75,2,   -999.0,9,   -999.0,9,  0.0074,   0.047,  -999.0,   0.150,  102049