BOTTLE,20060322WHPSIOSA
EXPOCODE,SECT_ID,STNNBR,CASTNO,SAMPNO,BTLNBR,BTLNBR_FLAG_W,DATE,TIME,LATITUDE,LONGITUDE,DEPTH,CTDPRS,CTDTMP,CTDSAL,CTDSAL_FLAG_W,SALNTY,SALNTY_FLAG_W,CTDOXY,CTDOXY_FLAG_W,THETA,OXYGEN,OXYGEN_FLAG_W,SILCAT,SILCAT_FLAG_W,NO2+NO3,NO2+NO3_FLAG_W,PHSPHT,PHSPHT_FLAG_W,CFC-11,CFC-11_FLAG_W,CFC-12,CFC-12_FLAG_W,TRITUM,TRITUM_FLAG_W,HELIUM,HELIUM_FLAG_W,DELHE3,DELHE3_FLAG_W,DELC14,DELC14_FLAG_W,TCARBN,TCARBN_FLAG_W,HELIER,TRITER,C14ERR,DELHER,BEDFORT
,,,,,,,,,,,,DBAR,ITS-90,PSS-78,,PSS-78,,UMOL/KG,,ITS-90,UMOL/KG,,UMOL/KG,,UMOL/KG,,UMOL/KG,,PMOL/KG,,PMOL/KG,,TU,,NMOL/KG,,PERCNT,,/MILLE,,UMOL/KG,,NMOL/KG,TU,/MILLE,PERCNT,NUM
      06MT30_3,  A01E,   542,  1,      0,   -999,2,19941213,1419, 52.3450, -18.8817, 4240,      5.0,  11.6000,-999.0000,9,  35.5470,2,   -999.0,9,-999.0000,   -999.0,9,  -999.00,9,  -999.00,9,  -999.00,9, -999.000,9, -999.000,9, -999.000,9,-999.0000,9,  -999.00,9,   -999.0,9,   2095.8,2,-999.0000,-999.000,  -999.0,-999.000,    -999
      06MT30_3,  A01E,   542,  1,     22,   B027,2,19941213,1419, 52.3450, -18.8817, 4240,     19.5,  11.8670,  35.4618,2,  35.4607,2,   -999.0,1, 11.8645,    253.4,2,     2.27,2,     7.63,2,     0.50,2,    3.129,3,    1.639,3,    1.708,2,   1.7336,2,    -1.34,2,   -999.0,9,   2100.9,2,  0.0069,   0.025,  -999.0,   0.150,  102900
      06MT30_3,  A01E,   542,  1,     21,   K040,2,19941213,1419, 52.3450, -18.8817, 4240,     49.0,  11.8810,  35.4647,2,  35.4659,2,   -999.0,1, 11.8747,    253.1,2,     2.34,2,     7.66,2,     0.50,2, -999.000,9, -999.000,9, -999.000,9,-999.0000,9,  -999.00,9,   -999.0,9,   -999.0,9,-999.0000,-999.000,  -999.0,-999.000,  102899
      06MT30_3,  A01E,   542,  1,     20,   K097,2,19941213,1419, 52.3450, -18.8817, 4240,     98.3,  11.9190,  35.4768,2,  35.4758,2,   -999.0,1, 11.9062,    252.1,2,     2.36,2,     7.93,2,     0.51,2, -999.000,9, -999.000,9, -999.000,9,-999.0000,9,  -999.00,9,   -999.0,9,   2108.9,2,-999.0000,-999.000,  -999.0,-999.000,  102898
      06MT30_3,  A01E,   542,  1,     19,   U015,2,19941213,1419, 52.3450, -18.8817, 4240,    148.2,  11.1210,  35.4574,2,  35.4623,2,   -999.0,1, 11.1025,    233.3,2,     4.28,2,    12.59,2,     0.78,2, -999.000,9, -999.000,9,    1.616,2,   1.7428,2,    -0.14,2,   -999.0,9,   2127.4,2,  0.0070,   0.036,  -999.0,   0.150,  102897
      06MT30_3,  A01E,   542,  1,     18,   B003,2,19941213,1419, 52.3450, -18.8817, 4240,    248.2,  10.4110,  35.3984,2,  35.3985,2,   -999.0,1, 10.3812,    242.5,2,     5.02,2,    13.21,2,     0.81,2, -999.000,9, -999.000,9, -999.000,9,-999.0000,9,  -999.00,9,   -999.0,9,   2129.6,2,-999.0000,-999.000,  -999.0,-999.000,  102896
      06MT30_3,  A01E,   542,  1,     17,   K124,2,19941213,1419, 52.3450, -18.8817, 4240,    399.6,   9.4490,  35.2908,2,  35.2900,2,   -999.0,1,  9.4036,    245.8,2,     6.06,2,    14.46,2,     0.90,2,    3.130,3,    1.635,3,    1.594,2,   1.7539,2,     0.87,2,   -999.0,9,   -999.0,9,  0.0070,   0.028,  -999.0,   0.150,  102895
      06MT30_3,  A01E,   542,  1,     16,   K114,2,19941213,1419, 52.3450, -18.8817, 4240,    797.5,   6.9120,  35.2101,2,  35.2096,2,   -999.0,1,  6.8343,    212.5,2,    10.89,2,    19.61,2,     1.22,2,    1.647,2,    0.812,2, -999.000,9,-999.0000,9,  -999.00,9,   -999.0,9,   2170.8,2,-999.0000,-999.000,  -999.0,-999.000,  102894
      06MT30_3,  A01E,   542,  1,     15,   U010,2,19941213,1419, 52.3450, -18.8817, 4240,    997.7,   5.3280,  35.0524,2,  35.0530,2,   -999.0,1,  5.2415,    235.8,2,    11.10,2,    19.46,2,     1.22,2,    1.870,2,    0.905,2,    1.267,2,   1.7850,2,     7.52,2,   -999.0,9,   -999.0,9,  0.0071,   0.023,  -999.0,   0.160,  102893
      06MT30_3,  A01E,   542,  1,     14,   U002,2,19941213,1419, 52.3450, -18.8817, 4240,   1300.3,   4.1470,  34.9454,2,  34.9462,2,   -999.0,1,  4.0433,    261.2,2,    10.78,2,    18.72,2,     1.19,2,    1.976,2,    0.959,2, -999.000,9,-999.0000,9,  -999.00,9,   -999.0,9,   -999.0,9,-999.0000,-999.000,  -999.0,-999.000,  102892
      06MT30_3,  A01E,   542,  1,     13,   B009,2,19941213,1419, 52.3450, -18.8817, 4240,   1600.8,   3.6190,  34.8980,2,  34.8994,2,   -999.0,1,  3.4943,    275.4,2,    10.60,2,    18.22,2,     1.16,2,    2.012,2,    0.976,2,    1.397,2,   1.8010,2,     8.22,2,   -999.0,9,   -999.0,9,  0.0072,   0.024,  -999.0,   0.150,  102891
      06MT30_3,  A01E,   542,  1,     12,   K117,2,19941213,1419, 52.3450, -18.8817, 4240,   1800.6,   3.5050,  34.8988,2,  34.8992,2,   -999.0,1,  3.3636,    277.8,2,    10.92,2,    18.03,2,     1.15,2, -999.000,9, -999.000,9, -999.000,9,-999.0000,9,  -999.00,9,   -999.0,9,   2150.0,2,-999.0000,-999.000,  -999.0,-999.000,  102890
      06MT30_3,  A01E,   542,  1,     11,   B008,2,19941213,1419, 52.3450, -18.8817, 4240,   1999.0,   3.4270,  34.9047,2,  34.9060,2,   -999.0,1,  3.2683,    277.6,2,    11.42,2,    17.88,2,     1.15,2,    1.623,2,    0.792,2, -999.000,9,-999.0000,9,  -999.00,9,   -999.0,9,   -999.0,9,-999.0000,-999.000,  -999.0,-999.000,  102889
      06MT30_3,  A01E,   542,  1,     10,   K115,2,19941213,1419, 52.3450, -18.8817, 4240,   2199.6,   3.3910,  34.9242,2,  34.9257,2,   -999.0,1,  3.2136,    273.2,2,    12.62,2,    17.89,2,     1.15,2,    1.237,2,    0.592,2, -999.000,9,-999.0000,9,  -999.00,9,   -999.0,9,   -999.0,9,-999.0000,-999.000,  -999.0,-999.000,  102888
      06MT30_3,  A01E,   542,  1,      9,   K036,2,19941213,1419, 52.3450, -18.8817, 4240,   2400.7,   3.2690,  34.9401,2,  34.9409,2,   -999.0,1,  3.0740,    270.5,2,    14.27,2,    17.91,2,     1.16,2,    1.007,2,    0.487,2,    0.850,2,   1.8000,2,     7.50,2,   -999.0,9,   -999.0,9,  0.0072,   0.025,  -999.0,   0.150,  102887
      06MT30_3,  A01E,   542,  1,      8,   B026,2,19941213,1419, 52.3450, -18.8817, 4240,   2698.0,   3.0260,  34.9489,2,  34.9491,2,   -999.0,1,  2.8058,    263.8,2,    19.89,2,    18.59,2,     1.22,2, -999.000,9,    0.403,2, -999.000,9,-999.0000,9,  -999.00,9,   -999.0,9,   2164.7,2,-999.0000,-999.000,  -999.0,-999.000,  102886
      06MT30_3,  A01E,   542,  1,      7,   B004,2,19941213,1419, 52.3450, -18.8817, 4240,   3000.1,   2.7960,  34.9437,2,  34.9429,2,   -999.0,1,  2.5496,    255.0,2,    27.91,2,    20.06,2,     1.33,2,    0.442,3,    0.232,3,    0.381,2,   1.8079,2,     4.78,2,   -999.0,9,   -999.0,9,  0.0072,   0.013,  -999.0,   0.150,  102885
      06MT30_3,  A01E,   542,  1,      6,   U006,2,19941213,1419, 52.3450, -18.8817, 4240,   3302.0,   2.6160,  34.9269,2,  34.9259,2,   -999.0,1,  2.3420,    245.0,2,    37.26,2,    21.92,2,     1.45,2,    0.085,3,    0.050,3,    0.076,2,   1.8154,2,     2.73,2,   -999.0,9,   2191.6,2,  0.0073,   0.011,  -999.0,   0.150,  102884
      06MT30_3,  A01E,   542,  1,      5,   U023,2,19941213,1419, 52.3450, -18.8817, 4240,   3600.8,   2.5260,  34.9155,2,  34.9140,2,   -999.0,1,  2.2219,    242.2,2,    40.93,2,    22.56,2,     1.50,2,    0.047,3,    0.027,3, -999.000,9,-999.0000,9,  -999.00,9,   -999.0,9,   -999.0,9,-999.0000,-999.000,  -999.0,-999.000,  102883
      06MT30_3,  A01E,   542,  1,      4,   K056,2,19941213,1419, 52.3450, -18.8817, 4240,   3902.2,   2.4980,  34.9088,2,  34.9082,2,   -999.0,1,  2.1609,    240.9,2,    42.70,2,    22.79,2,     1.52,2,    0.047,2,    0.021,2,    0.031,2,   1.8236,2,     2.60,2,   -999.0,9,   -999.0,9,  0.0073,   0.010,  -999.0,   0.150,  102882
      06MT30_3,  A01E,   542,  1,      3,   U018,2,19941213,1419, 52.3450, -18.8817, 4240,   4203.4,   2.5070,  34.9052,2,  34.9050,2,   -999.0,1,  2.1349,    240.7,2,    43.48,2,    22.86,2,     1.54,2,    0.056,2,    0.025,2, -999.000,9,-999.0000,9,  -999.00,9,   -999.0,9,   -999.0,9,-999.0000,-999.000,  -999.0,-999.000,  102881
      06MT30_3,  A01E,   542,  1,      2,   U022,2,19941213,1419, 52.3450, -18.8817, 4240,   4269.4,   2.5120,  34.9046,2,  34.9048,2,   -999.0,1,  2.1319,    240.9,2,    43.60,2,    22.82,2,     1.53,2,    0.062,3,    0.035,3, -999.000,9,-999.0000,9,  -999.00,9,   -999.0,9,   -999.0,9,-999.0000,-999.000,  -999.0,-999.000,  102880
      06MT30_3,  A01E,   542,  1,      1,   B025,2,19941213,1419, 52.3450, -18.8817, 4240,   4304.5,   2.5090,  34.9043,2,  34.9038,2,   -999.0,1,  2.1249,    240.8,2,    43.89,2,    22.80,2,     1.53,2,    0.064,3,    0.033,3,    0.019,2,   1.8235,2,     2.62,2,   -999.0,9,   2200.1,2,  0.0073,   0.012,  -999.0,   0.150,  102879
      06MT30_3,  A01E,   543,  1,      0,   -999,2,19941213,2048, 52.3233, -17.8283, 4327,      5.0,  11.4000,-999.0000,9,  35.5580,2,   -999.0,9,-999.0000,   -999.0,9,  -999.00,9,  -999.00,9,  -999.00,9, -999.000,9, -999.000,9, -999.000,9,-999.0000,9,  -999.00,9,   -999.0,9,   2102.8,2,-999.0000,-999.000,  -999.0,-999.000,    -999
      06MT30_3,  A01E,   543,  1,     24,   K012,2,19941213,2048, 52.3233, -17.8283, 4327,     20.0,  11.5010,  35.4276,2,  35.4269,2,   -999.0,1, 11.4985,    255.1,2,     2.31,2,     7.70,2,     0.54,2,    3.192,3,    1.745,3,    1.609,2,   1.7338,2,    -1.54,2,   -999.0,9,   2102.8,2,  0.0069,   0.040,  -999.0,   0.150,  102926
      06MT30_3,  A01E,   543,  1,     23,   K125,2,19941213,2048, 52.3233, -17.8283, 4327,     50.6,  11.5090,  35.4289,2,  35.4271,2,   -999.0,1, 11.5026,    255.4,2,     2.28,2,     7.70,2,     0.52,2, -999.000,9, -999.000,9, -999.000,9,-999.0000,9,  -999.00,9,   -999.0,9,   -999.0,9,-999.0000,-999.000,  -999.0,-999.000,  102925
      06MT30_3,  A01E,   543,  1,     22,   B027,2,19941213,2048, 52.3233, -17.8283, 4327,    100.7,  11.5490,  35.4563,2,  35.4545,2,   -999.0,1, 11.5362,    255.4,2,     2.15,2,     7.62,2,     0.51,2, -999.000,9, -999.000,9, -999.000,9,-999.0000,9,  -999.00,9,   -999.0,9,   2105.6,2,-999.0000,-999.000,  -999.0,-999.000,  102924
      06MT30_3,  A01E,   543,  1,     21,   K040,2,19941213,2048, 52.3233, -17.8283, 4327,    149.9,  11.5470,  35.5102,2,  35.5089,2,   -999.0,1, 11.5279,    253.1,2,     2.21,2,     8.06,2,     0.53,2, -999.000,9, -999.000,9, -999.000,9,-999.0000,9,  -999.00,9,   -999.0,9,   2108.3,2,-999.0000,-999.000,  -999.0,-999.000,  102923
      06MT30_3,  A01E,   543,  1,     20,   K097,2,19941213,2048, 52.3233, -17.8283, 4327,    250.8,  11.0120,  35.4942,2,  35.4940,2,   -999.0,1, 10.9808,    244.9,2,     3.84,2,    11.29,2,     0.71,2,    3.136,3,    1.690,3,    1.562,2,   1.7395,2,    -0.35,2,   -999.0,9,   2125.1,2,  0.0070,   0.026,  -999.0,   0.150,  102922
      06MT30_3,  A01E,   543,  1,     19,   U015,2,19941213,2048, 52.3233, -17.8283, 4327,    399.5,  10.4750,  35.4509,2,  35.4508,2,   -999.0,1, 10.4265,    244.8,2,     4.43,2,    12.34,2,     0.78,2, -999.000,9, -999.000,9, -999.000,9,-999.0000,9,  -999.00,9,   -999.0,9,   -999.0,9,-999.0000,-999.000,  -999.0,-999.000,  102921
      06MT30_3,  A01E,   543,  1,     18,   B003,2,19941213,2048, 52.3233, -17.8283, 4327,    600.4,   9.7010,  35.3772,2,  35.3740,2,   -999.0,1,  9.6309,    234.7,2,     6.06,2,    14.49,2,     0.91,2,    2.781,3,    1.445,3,    1.444,2,   1.7556,2,     2.38,2,   -999.0,9,   2141.2,2,  0.0070,   0.040,  -999.0,   0.150,  102920
      06MT30_3,  A01E,   543,  1,     17,   K124,2,19941213,2048, 52.3233, -17.8283, 4327,    799.7,   8.1410,  35.2505,2,  35.2487,2,   -999.0,1,  8.0558,    204.9,2,     9.66,2,    18.71,2,     1.17,2, -999.000,9, -999.000,9, -999.000,9,-999.0000,9,  -999.00,9,   -999.0,9,   -999.0,9,-999.0000,-999.000,  -999.0,-999.000,  102919
      06MT30_3,  A01E,   543,  1,     16,   K114,2,19941213,2048, 52.3233, -17.8283, 4327,   1000.3,   6.4510,  35.1354,2,  35.1362,2,   -999.0,1,  6.3558,    217.0,2,    10.86,2,    19.49,2,     1.24,2, -999.000,9, -999.000,9,    1.259,2,   1.7782,2,     7.53,2,   -999.0,9,   2169.3,2,  0.0071,   0.024,  -999.0,   0.160,  102918
      06MT30_3,  A01E,   543,  1,     15,   U010,2,19941213,2048, 52.3233, -17.8283, 4327,   1200.3,   4.9740,  35.0192,2,  35.0198,2,   -999.0,1,  4.8715,    242.0,2,    10.86,2,    19.08,2,     1.20,2,    1.891,2,    0.932,2, -999.000,9,-999.0000,9,  -999.00,9,   -999.0,9,   -999.0,9,-999.0000,-999.000,  -999.0,-999.000,  102917
      06MT30_3,  A01E,   543,  1,     14,   U002,2,19941213,2048, 52.3233, -17.8283, 4327,   1499.8,   3.9220,  34.9194,2,  34.9194,2,   -999.0,1,  3.8028,    266.8,2,    10.56,2,    18.37,2,     1.17,2, -999.000,9, -999.000,9,    1.296,2,   1.7900,2,     8.24,2,   -999.0,9,   -999.0,9,  0.0072,   0.024,  -999.0,   0.160,  102916
      06MT30_3,  A01E,   543,  1,     13,   B009,2,19941213,2048, 52.3233, -17.8283, 4327,   1801.2,   3.5660,  34.8963,2,  34.8974,2,   -999.0,1,  3.4238,    276.3,2,    10.64,2,    17.93,2,     1.16,2,    1.949,2,    0.966,2, -999.000,9,-999.0000,9,  -999.00,9,   -999.0,9,   -999.0,9,-999.0000,-999.000,  -999.0,-999.000,  102915
      06MT30_3,  A01E,   543,  1,     12,   K117,2,19941213,2048, 52.3233, -17.8283, 4327,   2100.7,   3.4000,  34.9013,2,  34.9023,2,   -999.0,1,  3.2321,    277.5,2,    11.20,2,    17.73,2,     1.14,2, -999.000,9, -999.000,9, -999.000,9,-999.0000,9,  -999.00,9,   -999.0,9,   2151.0,2,-999.0000,-999.000,  -999.0,-999.000,  102914
      06MT30_3,  A01E,   543,  1,     11,   B008,2,19941213,2048, 52.3233, -17.8283, 4327,   2399.3,   3.3310,  34.9313,2,  34.9326,2,   -999.0,1,  3.1351,    271.5,2,    13.20,2,    17.74,2,     1.15,2, -999.000,9, -999.000,9,    0.769,2,   1.7974,2,     7.81,2,   -999.0,9,   -999.0,9,  0.0072,   0.023,  -999.0,   0.160,  102913
      06MT30_3,  A01E,   543,  1,     10,   K115,2,19941213,2048, 52.3233, -17.8283, 4327,   2699.4,   3.1230,  34.9488,2,  34.9496,2,   -999.0,1,  2.9007,    262.9,2,    19.34,2,    18.66,2,     1.24,2,    0.587,3,    0.311,3, -999.000,9,-999.0000,9,  -999.00,9,   -999.0,9,   -999.0,9,-999.0000,-999.000,  -999.0,-999.000,  102912
      06MT30_3,  A01E,   543,  1,      9,   K036,2,19941213,2048, 52.3233, -17.8283, 4327,   3001.0,   2.8650,  34.9456,2,  34.9458,2,   -999.0,1,  2.6170,    253.6,2,    27.90,2,    20.12,2,     1.33,2, -999.000,9, -999.000,9,    0.289,2,   1.8167,2,     4.34,2,   -999.0,9,   -999.0,9,  0.0073,   0.013,  -999.0,   0.150,  102911
      06MT30_3,  A01E,   543,  1,      8,   B026,2,19941213,2048, 52.3233, -17.8283, 4327,   3202.6,   2.7230,  34.9360,2,  34.9359,2,   -999.0,1,  2.4570,    248.4,2,    32.95,2,    21.06,2,     1.42,2,    0.193,3,    0.111,3, -999.000,9,-999.0000,9,  -999.00,9,   -999.0,9,   2184.5,2,-999.0000,-999.000,  -999.0,-999.000,  102910
      06MT30_3,  A01E,   543,  1,      7,   B004,2,19941213,2048, 52.3233, -17.8283, 4327,   3403.1,   2.6230,  34.9257,2,  34.9242,2,   -999.0,1,  2.3380,    244.5,2,    37.31,2,    21.80,2,     1.48,2, -999.000,9, -999.000,9,    0.065,2,   1.8157,2,     2.76,2,   -999.0,9,   -999.0,9,  0.0073,   0.011,  -999.0,   0.150,  102909
      06MT30_3,  A01E,   543,  1,      6,   U006,2,19941213,2048, 52.3233, -17.8283, 4327,   3702.7,   2.5410,  34.9148,2,  34.9133,2,   -999.0,1,  2.2252,    242.2,2,    40.84,2,    22.38,2,     1.51,2,    0.041,3,    0.022,3, -999.000,9,-999.0000,9,  -999.00,9,   -999.0,9,   -999.0,9,-999.0000,-999.000,  -999.0,-999.000,  102908
      06MT30_3,  A01E,   543,  1,      5,   U023,2,19941213,2048, 52.3233, -17.8283, 4327,   4004.0,   2.5140,  34.9072,2,  34.9094,2,   -999.0,1,  2.1648,    240.8,2,    42.47,2,    22.68,2,     1.53,2,    0.041,2,    0.020,2,    0.023,2,   1.8197,2,     2.55,2,   -999.0,9,   -999.0,9,  0.0073,   0.007,  -999.0,   0.150,  102907
      06MT30_3,  A01E,   543,  1,      4,   K056,2,19941213,2048, 52.3233, -17.8283, 4327,   4203.5,   2.5140,  34.9050,2,  34.9061,2,   -999.0,1,  2.1417,    240.1,2,    43.12,2,    22.82,2,     1.55,2,    0.048,2, -999.000,9, -999.000,9,-999.0000,9,  -999.00,9,   -999.0,9,   -999.0,9,-999.0000,-999.000,  -999.0,-999.000,  102906
      06MT30_3,  A01E,   543,  1,      3,   U018,2,19941213,2048, 52.3233, -17.8283, 4327,   4303.4,   2.5190,  34.9042,2,  34.9054,2,   -999.0,1,  2.1347,    240.0,2,    43.47,2,    22.87,2,     1.55,2,    0.050,2, -999.000,9,    0.008,2,-999.0000,5,  -999.00,5,   -999.0,9,   -999.0,9,-999.0000,   0.000,  -999.0,-999.000,  102905
      06MT30_3,  A01E,   543,  1,      2,   U022,2,19941213,2048, 52.3233, -17.8283, 4327,   4353.3,   2.5230,  34.9042,2,  34.9050,2,   -999.0,1,  2.1326,    239.7,2,    43.81,2,    22.80,2,     1.54,2,    0.051,2,    0.022,2, -999.000,9,-999.0000,9,  -999.00,9,   -999.0,9,   -999.0,9,-999.0000,-999.000,  -999.0,-999.000,  102904
      06MT30_3,  A01E,   543,  1,      1,   B025,2,19941213,2048, 52.3233, -17.8283, 4327,   4399.0,   2.5260,  34.9033,2,  34.9052,2,   -999.0,1,  2.1301,    240.1,2,    43.99,2,    22.76,2,     1.54,2,    0.053,2, -999.000,9,    0.014,2,   1.8259,2,     2.62,2,   -999.0,9,   2201.9,2,  0.0073,   0.004,  -999.0,   0.150,  102903