BOTTLE,20090923WHPSIOMYS
#code : jjward hyd_to_exchange.pl 
#original files copied from HTML directory: 20090923
#original HYD file: 33KB179_1_hy.txt   Wed Sep 23 17:59:04 2009
#original SUM file: ../33KB179_1su.txt   Wed Sep 23 17:59:03 2009
EXPOCODE,SECT_ID,STNNBR,CASTNO,SAMPNO,BTLNBR,BTLNBR_FLAG_W,DATE,TIME,LATITUDE,LONGITUDE,DEPTH,CTDRAW,CTDPRS,CTDTMP,CTDSAL,CTDSAL_FLAG_W,SALNTY,SALNTY_FLAG_W,CTDOXY,CTDOXY_FLAG_W,THETA,OXYGEN,OXYGEN_FLAG_W,SILCAT,SILCAT_FLAG_W,NO2+NO3,NO2+NO3_FLAG_W,PHSPHT,PHSPHT_FLAG_W,REVPRS,REVTMP
,,,,,,,,,,,,,DBAR,ITS-90,PSS-78,,PSS-78,,UMOL/KG,,ITS-90,UMOL/KG,,UMOL/KG,,UMOL/KG,,UMOL/KG,,DBAR,DEG C
     33KB179_1,  PRS2,     1,  1,     23,   8023,2,20060308,2258, 21.3438,-158.2750, 1738,      6,      5.9,  24.4433,  35.0019,2,  35.0004,2,    208.2,2, 24.4421,    208.8,2,  -999.00,9,  -999.00,9,  -999.00,9,  -999.0,-999.000
     33KB179_1,  PRS2,     1,  1,     24,   8024,2,20060308,2258, 21.3438,-158.2750, 1738,      6,      6.0,  24.4328,  35.0023,2,  35.0010,2,    204.8,2, 24.4315,    208.9,2,  -999.00,9,  -999.00,9,  -999.00,9,  -999.0,-999.000
     33KB179_1,  PRS2,     1,  1,     22,   8022,2,20060308,2258, 21.3438,-158.2750, 1738,     25,     25.8,  24.3801,  35.0043,2,  35.0024,2,    210.5,2, 24.3746,    208.9,2,  -999.00,9,  -999.00,9,  -999.00,9,  -999.0,-999.000
     33KB179_1,  PRS2,     1,  1,     21,   8021,2,20060308,2258, 21.3438,-158.2750, 1738,     45,     45.3,  24.3464,  35.0092,2,  35.0087,2,    210.9,2, 24.3367,    209.5,2,  -999.00,9,  -999.00,9,  -999.00,9,  -999.0,-999.000
     33KB179_1,  PRS2,     1,  1,     20,   8020,2,20060308,2258, 21.3438,-158.2750, 1738,     60,     60.3,  24.1727,  35.0690,2,  35.0461,3,    210.4,3, 24.1600,    209.4,2,  -999.00,9,  -999.00,9,  -999.00,9,  -999.0,-999.000
     33KB179_1,  PRS2,     1,  1,     19,   8019,2,20060308,2258, 21.3438,-158.2750, 1738,     73,     73.8,  23.0090,  35.0202,2,  35.0150,2,    206.9,2, 22.9939,    206.0,2,  -999.00,9,  -999.00,9,  -999.00,9,  -999.0,-999.000
     33KB179_1,  PRS2,     1,  1,     18,   8018,2,20060308,2258, 21.3438,-158.2750, 1738,     99,     99.7,  22.5357,  35.2323,2,  35.2343,2,    203.7,2, 22.5156,    202.4,2,  -999.00,9,  -999.00,9,  -999.00,9,  -999.0,-999.000
     33KB179_1,  PRS2,     1,  1,     17,   8017,2,20060308,2258, 21.3438,-158.2750, 1738,    116,    115.3,  22.1792,  35.2035,2,  35.2000,2,    202.6,2, 22.1563,    201.5,2,  -999.00,9,  -999.00,9,  -999.00,9,  -999.0,-999.000
     33KB179_1,  PRS2,     1,  1,     16,   8016,2,20060308,2258, 21.3438,-158.2750, 1738,    124,    124.4,  21.7779,  35.1476,2,  35.1333,4,    200.2,3, 21.7535,    198.0,2,  -999.00,9,  -999.00,9,  -999.00,9,  -999.0,-999.000
     33KB179_1,  PRS2,     1,  1,     15,   8015,2,20060308,2258, 21.3438,-158.2750, 1738,    151,    151.1,  20.7210,  35.0428,2,  35.0374,2,    193.5,2, 20.6923,    192.2,2,  -999.00,9,  -999.00,9,  -999.00,9,  -999.0,-999.000
     33KB179_1,  PRS2,     1,  1,     14,   8014,2,20060308,2258, 21.3438,-158.2750, 1738,    174,    174.8,  19.8796,  34.9835,2,  34.9835,2,    191.4,2, 19.8474,    190.8,2,  -999.00,9,  -999.00,9,  -999.00,9,  -999.0,-999.000
     33KB179_1,  PRS2,     1,  1,     13,   8025,2,20060308,2258, 21.3438,-158.2750, 1738,    199,    198.7,  18.6723,  34.8590,2,  34.8509,2,    191.6,2, 18.6373,    190.4,2,  -999.00,9,  -999.00,9,  -999.00,9,  -999.0,-999.000
     33KB179_1,  PRS2,     1,  1,     12,   8012,2,20060308,2258, 21.3438,-158.2750, 1738,    226,    226.3,  16.9963,  34.6810,2,  34.6710,2,    194.1,2, 16.9590,    192.6,2,  -999.00,9,  -999.00,9,  -999.00,9,  -999.0,-999.000
     33KB179_1,  PRS2,     1,  1,     11,   8011,2,20060308,2258, 21.3438,-158.2750, 1738,    250,    249.8,  14.4988,  34.4027,2,  34.4020,2,    182.7,2, 14.4620,    184.0,2,  -999.00,9,  -999.00,9,  -999.00,9,  -999.0,-999.000
     33KB179_1,  PRS2,     1,  1,     10,   8010,2,20060308,2258, 21.3438,-158.2750, 1738,    300,    300.2,  11.6497,  34.1907,2,  34.1901,2,    176.8,2, 11.6114,    176.9,2,  -999.00,9,  -999.00,9,  -999.00,9,  -999.0,-999.000
     33KB179_1,  PRS2,     1,  1,      9,   8009,2,20060308,2258, 21.3438,-158.2750, 1738,    350,    350.4,  10.5477,  34.1574,2,  34.1597,2,    161.6,2, 10.5057,    162.0,2,  -999.00,9,  -999.00,9,  -999.00,9,  -999.0,-999.000
     33KB179_1,  PRS2,     1,  1,      8,   8008,2,20060308,2258, 21.3438,-158.2750, 1738,    401,    400.7,   8.9898,  34.1199,2,  34.1191,2,    146.0,2,  8.9463,    146.5,2,  -999.00,9,  -999.00,9,  -999.00,9,  -999.0,-999.000
     33KB179_1,  PRS2,     1,  1,      7,   8026,2,20060308,2258, 21.3438,-158.2750, 1738,    499,    499.8,   7.1095,  34.1401,2,  34.1395,2,     84.3,2,  7.0619,     83.5,2,  -999.00,9,  -999.00,9,  -999.00,9,  -999.0,-999.000
     33KB179_1,  PRS2,     1,  1,      6,   8006,2,20060308,2258, 21.3438,-158.2750, 1738,    600,    600.6,   5.8647,  34.2141,2,  34.2103,2,     46.4,2,  5.8127,     93.3,4,  -999.00,9,  -999.00,9,  -999.00,9,  -999.0,-999.000
     33KB179_1,  PRS2,     1,  1,      5,   8005,2,20060308,2258, 21.3438,-158.2750, 1738,    699,    699.5,   5.2041,  34.3581,2,  34.3574,2,     33.3,2,  5.1464,     33.7,2,  -999.00,9,  -999.00,9,  -999.00,9,  -999.0,-999.000
     33KB179_1,  PRS2,     1,  1,      4,   8004,2,20060308,2258, 21.3438,-158.2750, 1738,    749,    749.0,   5.0871,  34.3753,2,  34.3731,2,     34.1,2,  5.0257,     33.8,2,  -999.00,9,  -999.00,9,  -999.00,9,  -999.0,-999.000
     33KB179_1,  PRS2,     1,  1,      3,   8003,2,20060308,2258, 21.3438,-158.2750, 1738,    799,    799.1,   4.9270,  34.4119,2,  34.4076,2,     34.6,2,  4.8622,     33.7,2,  -999.00,9,  -999.00,9,  -999.00,9,  -999.0,-999.000
     33KB179_1,  PRS2,     1,  1,      2,   8002,2,20060308,2258, 21.3438,-158.2750, 1738,    900,    900.0,   4.4871,  34.4743,2,  34.4744,2,     41.0,2,  4.4164,     41.4,2,  -999.00,9,  -999.00,9,  -999.00,9,  -999.0,-999.000
     33KB179_1,  PRS2,     1,  1,      1,   8001,2,20060308,2258, 21.3438,-158.2750, 1738,   1021,   1021.0,   4.1734,  34.5004,2,  34.5060,3,     45.7,3,  4.0946,     46.3,2,  -999.00,9,  -999.00,9,  -999.00,9,  -999.0,-999.000
     33KB179_1,  PRS2,     2,  1,      3,   8003,2,20060309,0739, 22.7547,-158.0047, 4744,     25,     26.0,  23.2906,  35.0902,2,-999.0000,9,    213.5,1, 23.2853,   -999.0,9,  -999.00,9,  -999.00,9,  -999.00,9,  -999.0,-999.000
     33KB179_1,  PRS2,     2,  1,     24,   8024,2,20060309,0739, 22.7547,-158.0047, 4744,     28,     26.1,  23.2880,  35.0905,2,-999.0000,9,    213.8,1, 23.2826,   -999.0,9,  -999.00,9,  -999.00,9,  -999.00,9,  -999.0,-999.000
     33KB179_1,  PRS2,     2,  1,     23,   8023,2,20060309,0739, 22.7547,-158.0047, 4744,     27,     26.2,  23.2884,  35.0908,2,-999.0000,9,    213.8,1, 23.2830,   -999.0,9,  -999.00,9,  -999.00,9,  -999.00,9,  -999.0,-999.000
     33KB179_1,  PRS2,     2,  1,     22,   8022,2,20060309,0739, 22.7547,-158.0047, 4744,     26,     26.3,  23.2896,  35.0906,2,-999.0000,9,    213.8,1, 23.2842,   -999.0,9,  -999.00,9,  -999.00,9,  -999.00,9,  -999.0,-999.000
     33KB179_1,  PRS2,     2,  1,     21,   8021,2,20060309,0739, 22.7547,-158.0047, 4744,     25,     26.4,  23.2896,  35.0906,2,-999.0000,9,    213.7,1, 23.2842,   -999.0,9,  -999.00,9,  -999.00,9,  -999.00,9,  -999.0,-999.000
     33KB179_1,  PRS2,     2,  1,      4,   8004,2,20060309,0739, 22.7547,-158.0047, 4744,     25,     26.4,  23.2902,  35.0904,2,-999.0000,9,    213.6,1, 23.2847,   -999.0,9,  -999.00,9,  -999.00,9,  -999.00,9,  -999.0,-999.000
     33KB179_1,  PRS2,     2,  1,      2,   8002,2,20060309,0739, 22.7547,-158.0047, 4744,     26,     26.5,  23.2908,  35.0903,2,-999.0000,9,    213.4,1, 23.2853,   -999.0,9,  -999.00,9,  -999.00,9,  -999.00,9,  -999.0,-999.000
     33KB179_1,  PRS2,     2,  1,     12,   8012,2,20060309,0739, 22.7547,-158.0047, 4744,     27,     26.6,  23.2841,  35.0916,2,-999.0000,9,    213.6,1, 23.2786,   -999.0,9,  -999.00,9,  -999.00,9,  -999.00,9,  -999.0,-999.000
     33KB179_1,  PRS2,     2,  1,      1,   8001,2,20060309,0739, 22.7547,-158.0047, 4744,     26,     26.7,  23.2912,  35.0900,2,-999.0000,9,    213.3,1, 23.2857,   -999.0,9,  -999.00,9,  -999.00,9,  -999.00,9,  -999.0,-999.000
     33KB179_1,  PRS2,     2,  1,      5,   8005,2,20060309,0739, 22.7547,-158.0047, 4744,     27,     26.8,  23.2891,  35.0905,2,-999.0000,9,    213.7,1, 23.2836,   -999.0,9,  -999.00,9,  -999.00,9,  -999.00,9,  -999.0,-999.000
     33KB179_1,  PRS2,     2,  1,     20,   8020,2,20060309,0739, 22.7547,-158.0047, 4744,     25,     26.9,  23.2878,  35.0910,2,-999.0000,9,    213.6,1, 23.2823,   -999.0,9,  -999.00,9,  -999.00,9,  -999.00,9,  -999.0,-999.000
     33KB179_1,  PRS2,     2,  1,      7,   8026,2,20060309,0739, 22.7547,-158.0047, 4744,     27,     27.0,  23.2879,  35.0909,2,-999.0000,9,    213.7,1, 23.2823,   -999.0,9,  -999.00,9,  -999.00,9,  -999.00,9,  -999.0,-999.000
     33KB179_1,  PRS2,     2,  1,      6,   8006,2,20060309,0739, 22.7547,-158.0047, 4744,     27,     27.0,  23.2878,  35.0909,2,-999.0000,9,    213.7,1, 23.2823,   -999.0,9,  -999.00,9,  -999.00,9,  -999.00,9,  -999.0,-999.000
     33KB179_1,  PRS2,     2,  1,     13,   8025,2,20060309,0739, 22.7547,-158.0047, 4744,     25,     27.1,  23.2860,  35.0911,2,-999.0000,9,    213.4,1, 23.2804,   -999.0,9,  -999.00,9,  -999.00,9,  -999.00,9,  -999.0,-999.000
     33KB179_1,  PRS2,     2,  1,      8,   8008,2,20060309,0739, 22.7547,-158.0047, 4744,     28,     27.1,  23.2878,  35.0910,2,-999.0000,9,    213.7,1, 23.2822,   -999.0,9,  -999.00,9,  -999.00,9,  -999.00,9,  -999.0,-999.000
     33KB179_1,  PRS2,     2,  1,     19,   8019,2,20060309,0739, 22.7547,-158.0047, 4744,     27,     27.2,  23.2876,  35.0909,2,-999.0000,9,    213.6,1, 23.2820,   -999.0,9,  -999.00,9,  -999.00,9,  -999.00,9,  -999.0,-999.000
     33KB179_1,  PRS2,     2,  1,     15,   8015,2,20060309,0739, 22.7547,-158.0047, 4744,     27,     27.2,  23.2891,  35.0903,2,-999.0000,9,    213.5,1, 23.2835,   -999.0,9,  -999.00,9,  -999.00,9,  -999.00,9,  -999.0,-999.000
     33KB179_1,  PRS2,     2,  1,     16,   8016,2,20060309,0739, 22.7547,-158.0047, 4744,     27,     27.3,  23.2887,  35.0905,2,-999.0000,9,    213.5,1, 23.2830,   -999.0,9,  -999.00,9,  -999.00,9,  -999.00,9,  -999.0,-999.000
     33KB179_1,  PRS2,     2,  1,     11,   8011,2,20060309,0739, 22.7547,-158.0047, 4744,     26,     27.3,  23.2830,  35.0917,2,-999.0000,9,    213.7,1, 23.2774,   -999.0,9,  -999.00,9,  -999.00,9,  -999.00,9,  -999.0,-999.000
     33KB179_1,  PRS2,     2,  1,     10,   8010,2,20060309,0739, 22.7547,-158.0047, 4744,     27,     27.5,  23.2848,  35.0913,2,-999.0000,9,    213.7,1, 23.2791,   -999.0,9,  -999.00,9,  -999.00,9,  -999.00,9,  -999.0,-999.000
     33KB179_1,  PRS2,     2,  1,      9,   8009,2,20060309,0739, 22.7547,-158.0047, 4744,     27,     27.5,  23.2862,  35.0911,2,-999.0000,9,    213.7,1, 23.2805,   -999.0,9,  -999.00,9,  -999.00,9,  -999.00,9,  -999.0,-999.000
     33KB179_1,  PRS2,     2,  1,     18,   8018,2,20060309,0739, 22.7547,-158.0047, 4744,     27,     27.6,  23.2880,  35.0908,2,-999.0000,9,    213.6,1, 23.2823,   -999.0,9,  -999.00,9,  -999.00,9,  -999.00,9,  -999.0,-999.000
     33KB179_1,  PRS2,     2,  1,     17,   8017,2,20060309,0739, 22.7547,-158.0047, 4744,     27,     27.6,  23.2883,  35.0906,2,-999.0000,9,    213.6,1, 23.2827,   -999.0,9,  -999.00,9,  -999.00,9,  -999.00,9,  -999.0,-999.000
     33KB179_1,  PRS2,     2,  1,     14,   8014,2,20060309,0739, 22.7547,-158.0047, 4744,     26,     27.6,  23.2876,  35.0907,2,-999.0000,9,    213.5,1, 23.2819,   -999.0,9,  -999.00,9,  -999.00,9,  -999.00,9,  -999.0,-999.000
     33KB179_1,  PRS2,     2,  2,     18,   8018,2,20060309,1003, 22.7490,-157.9973, 4743,      6,      6.4,  23.2020,  35.1009,2,-999.0000,9,    213.2,1, 23.2007,   -999.0,9,  -999.00,9,  -999.00,9,  -999.00,9,  -999.0,-999.000
     33KB179_1,  PRS2,     2,  2,     20,   8020,2,20060309,1003, 22.7490,-157.9973, 4743,      7,      6.5,  23.2019,  35.1004,2,-999.0000,9,    213.3,1, 23.2006,   -999.0,9,  -999.00,9,  -999.00,9,  -999.00,9,  -999.0,-999.000
     33KB179_1,  PRS2,     2,  2,     19,   8019,2,20060309,1003, 22.7490,-157.9973, 4743,      7,      6.5,  23.2019,  35.0998,2,-999.0000,9,    213.3,1, 23.2006,   -999.0,9,  -999.00,9,  -999.00,9,  -999.00,9,  -999.0,-999.000
     33KB179_1,  PRS2,     2,  2,     17,   8017,2,20060309,1003, 22.7490,-157.9973, 4743,      4,      6.5,  23.2017,  35.1008,2,-999.0000,9,    213.2,1, 23.2004,   -999.0,9,  -999.00,9,  -999.00,9,  -999.00,9,  -999.0,-999.000
     33KB179_1,  PRS2,     2,  2,     16,   8016,2,20060309,1003, 22.7490,-157.9973, 4743,      6,      6.5,  23.2008,  35.1006,2,-999.0000,9,    213.3,1, 23.1994,   -999.0,9,  -999.00,9,  -999.00,9,  -999.00,9,  -999.0,-999.000
     33KB179_1,  PRS2,     2,  2,     15,   8015,2,20060309,1003, 22.7490,-157.9973, 4743,      6,      6.5,  23.2002,  35.1011,2,-999.0000,9,    213.4,1, 23.1988,   -999.0,9,  -999.00,9,  -999.00,9,  -999.00,9,  -999.0,-999.000
     33KB179_1,  PRS2,     2,  2,     21,   8021,2,20060309,1003, 22.7490,-157.9973, 4743,      8,      6.9,  23.2017,  35.1007,2,-999.0000,9,    213.3,1, 23.2003,   -999.0,9,  -999.00,9,  -999.00,9,  -999.00,9,  -999.0,-999.000
     33KB179_1,  PRS2,     2,  2,      8,   8008,2,20060309,1003, 22.7490,-157.9973, 4743,     24,     25.3,  23.2119,  35.1013,2,-999.0000,9,    213.4,1, 23.2067,   -999.0,9,  -999.00,9,  -999.00,9,  -999.00,9,  -999.0,-999.000
     33KB179_1,  PRS2,     2,  2,      9,   8009,2,20060309,1003, 22.7490,-157.9973, 4743,     25,     25.4,  23.2118,  35.1014,2,-999.0000,9,    213.4,1, 23.2066,   -999.0,9,  -999.00,9,  -999.00,9,  -999.00,9,  -999.0,-999.000
     33KB179_1,  PRS2,     2,  2,     12,   8012,2,20060309,1003, 22.7490,-157.9973, 4743,     26,     25.7,  23.2117,  35.1011,2,-999.0000,9,    213.5,1, 23.2064,   -999.0,9,  -999.00,9,  -999.00,9,  -999.00,9,  -999.0,-999.000
     33KB179_1,  PRS2,     2,  2,     13,   8025,2,20060309,1003, 22.7490,-157.9973, 4743,     25,     25.8,  23.2101,  35.1006,2,-999.0000,9,    213.4,1, 23.2048,   -999.0,9,  -999.00,9,  -999.00,9,  -999.00,9,  -999.0,-999.000
     33KB179_1,  PRS2,     2,  2,     10,   8010,2,20060309,1003, 22.7490,-157.9973, 4743,     26,     25.9,  23.2118,  35.1015,2,-999.0000,9,    213.5,1, 23.2065,   -999.0,9,  -999.00,9,  -999.00,9,  -999.00,9,  -999.0,-999.000
     33KB179_1,  PRS2,     2,  2,     14,   8014,2,20060309,1003, 22.7490,-157.9973, 4743,     25,     26.0,  23.2072,  35.1011,2,-999.0000,9,    213.4,1, 23.2019,   -999.0,9,  -999.00,9,  -999.00,9,  -999.00,9,  -999.0,-999.000
     33KB179_1,  PRS2,     2,  2,     11,   8011,2,20060309,1003, 22.7490,-157.9973, 4743,     27,     26.0,  23.2120,  35.1012,2,-999.0000,9,    213.5,1, 23.2066,   -999.0,9,  -999.00,9,  -999.00,9,  -999.00,9,  -999.0,-999.000
     33KB179_1,  PRS2,     2,  2,      5,   8005,2,20060309,1003, 22.7490,-157.9973, 4743,     45,     46.5,  23.2150,  35.1015,2,-999.0000,9,    213.3,1, 23.2054,   -999.0,9,  -999.00,9,  -999.00,9,  -999.00,9,  -999.0,-999.000
     33KB179_1,  PRS2,     2,  2,      6,   8006,2,20060309,1003, 22.7490,-157.9973, 4743,     46,     46.6,  23.2143,  35.1015,2,-999.0000,9,    213.4,1, 23.2048,   -999.0,9,  -999.00,9,  -999.00,9,  -999.00,9,  -999.0,-999.000
     33KB179_1,  PRS2,     2,  2,      4,   8004,2,20060309,1003, 22.7490,-157.9973, 4743,     46,     46.6,  23.2145,  35.1014,2,-999.0000,9,    213.2,1, 23.2049,   -999.0,9,  -999.00,9,  -999.00,9,  -999.00,9,  -999.0,-999.000
     33KB179_1,  PRS2,     2,  2,      7,   8026,2,20060309,1003, 22.7490,-157.9973, 4743,     47,     46.9,  23.2130,  35.1021,2,-999.0000,9,    213.4,1, 23.2034,   -999.0,9,  -999.00,9,  -999.00,9,  -999.00,9,  -999.0,-999.000
     33KB179_1,  PRS2,     2,  2,      3,   8003,2,20060309,1003, 22.7490,-157.9973, 4743,     47,     47.0,  23.2120,  35.1021,2,-999.0000,9,    213.2,1, 23.2024,   -999.0,9,  -999.00,9,  -999.00,9,  -999.00,9,  -999.0,-999.000
     33KB179_1,  PRS2,     2,  2,      2,   8002,2,20060309,1003, 22.7490,-157.9973, 4743,     48,     47.4,  23.2114,  35.1022,2,-999.0000,9,    213.2,1, 23.2017,   -999.0,9,  -999.00,9,  -999.00,9,  -999.00,9,  -999.0,-999.000
     33KB179_1,  PRS2,     2,  2,      1,   8001,2,20060309,1003, 22.7490,-157.9973, 4743,     48,     47.4,  23.2111,  35.1021,2,-999.0000,9,    213.2,1, 23.2014,   -999.0,9,  -999.00,9,  -999.00,9,  -999.00,9,  -999.0,-999.000