BOTTLE,20090923WHPSIOMYS
EXPOCODE,SECT_ID,STNNBR,CASTNO,SAMPNO,BTLNBR,BTLNBR_FLAG_W,DATE,TIME,LATITUDE,LONGITUDE,DEPTH,CTDRAW,CTDPRS,CTDTMP,CTDSAL,CTDSAL_FLAG_W,SALNTY,SALNTY_FLAG_W,CTDOXY,CTDOXY_FLAG_W,THETA,OXYGEN,OXYGEN_FLAG_W,SILCAT,SILCAT_FLAG_W,NO2+NO3,NO2+NO3_FLAG_W,PHSPHT,PHSPHT_FLAG_W,REVPRS,REVTMP
,,,,,,,,,,,,,DBAR,ITS-90,PSS-78,,PSS-78,,UMOL/KG,,ITS-90,UMOL/KG,,UMOL/KG,,UMOL/KG,,UMOL/KG,,DBAR,DEG C
     33KB179_1,  PRS2,     2, 17,     24,   8024,2,20060311,0644, 22.8202,-158.0172, 4722,     16,     15.4,  23.4440,  35.0360,2,  35.0342,2,    211.7,2, 23.4408,    211.5,2,     0.83,2,     0.00,2,     0.05,2,  -999.0,-999.000
     33KB179_1,  PRS2,     2, 17,     23,   8023,2,20060311,0644, 22.8202,-158.0172, 4722,     34,     33.7,  23.2922,  35.0905,2,  35.0801,2,    211.8,2, 23.2853,    211.7,2,     0.82,2,     0.01,2,     0.05,2,  -999.0,-999.000
     33KB179_1,  PRS2,     2, 17,     22,   8022,2,20060311,0644, 22.8202,-158.0172, 4722,     95,     95.4,  23.0709,  35.1999,2,  35.1967,2,    210.7,2, 23.0514,    210.4,2,     0.80,2,     0.01,2,     0.04,2,  -999.0,-999.000
     33KB179_1,  PRS2,     2, 17,     21,   8021,2,20060311,0644, 22.8202,-158.0172, 4722,    155,    153.6,  21.9326,  35.2522,2,  35.2741,4,    204.2,3, 21.9023,    203.4,2,     1.16,2,     0.45,2,     0.06,2,  -999.0,-999.000
     33KB179_1,  PRS2,     2, 17,     20,   8020,2,20060311,0644, 22.8202,-158.0172, 4722,    199,    199.7,  18.5080,  34.8781,2,  34.8794,2,    197.7,2, 18.4730,    198.0,2,     2.51,2,     2.33,2,     0.21,2,  -999.0,-999.000
     33KB179_1,  PRS2,     2, 17,     19,   8019,2,20060311,0644, 22.8202,-158.0172, 4722,    261,    260.6,  14.9917,  34.3891,2,  34.3949,2,    190.6,2, 14.9524,    191.0,2,     5.20,2,     6.56,2,     0.54,2,  -999.0,-999.000
     33KB179_1,  PRS2,     2, 17,     18,   8018,2,20060311,0644, 22.8202,-158.0172, 4722,    298,    299.7,  13.0039,  34.2858,2,  34.2876,2,    202.8,2, 12.9628,    203.2,2,     8.24,2,     9.30,2,     0.68,2,  -999.0,-999.000
     33KB179_1,  PRS2,     2, 17,     17,   8017,2,20060311,0644, 22.8202,-158.0172, 4722,    336,    336.5,  11.7744,  34.1700,2,  34.1703,2,    188.8,2, 11.7312,    190.3,2,    12.07,2,    12.70,2,     0.95,2,  -999.0,-999.000
     33KB179_1,  PRS2,     2, 17,     16,   8016,2,20060311,0644, 22.8202,-158.0172, 4722,    395,    394.2,  10.0580,  34.1357,2,  34.0940,4,    190.2,3, 10.0121,    188.6,2,    19.04,2,    16.74,2,     1.18,2,  -999.0,-999.000
     33KB179_1,  PRS2,     2, 17,     15,   8015,2,20060311,0644, 22.8202,-158.0172, 4722,    452,    452.9,   8.6141,  34.0911,2,  34.1368,4,    152.1,3,  8.5661,    149.2,2,    30.90,2,    23.35,2,     1.67,2,  -999.0,-999.000
     33KB179_1,  PRS2,     2, 17,     14,   8014,2,20060311,0644, 22.8202,-158.0172, 4722,    490,    489.2,   7.6105,  34.0506,2,  34.0509,2,    141.1,2,  7.5622,    138.9,2,    39.82,2,    26.49,2,     1.86,2,  -999.0,-999.000
     33KB179_1,  PRS2,     2, 17,     13,   8025,2,20060311,0644, 22.8202,-158.0172, 4722,    527,    526.6,   6.8947,  34.0417,2,  34.0439,2,    121.1,2,  6.8454,    119.2,2,    49.29,2,    29.61,2,     2.10,2,  -999.0,-999.000
     33KB179_1,  PRS2,     2, 17,     12,   8012,2,20060311,0644, 22.8202,-158.0172, 4722,    562,    563.5,   6.2585,  34.0736,2,  34.1142,4,     90.9,3,  6.2083,     85.3,3,    61.28,2,    33.74,2,     2.43,2,  -999.0,-999.000
     33KB179_1,  PRS2,     2, 17,     11,   8011,2,20060311,0644, 22.8202,-158.0172, 4722,    604,    605.8,   5.7800,  34.1149,2,  34.1164,2,     68.0,2,  5.7281,     61.8,3,    69.77,2,    36.12,2,     2.60,2,  -999.0,-999.000
     33KB179_1,  PRS2,     2, 17,     10,   8010,2,20060311,0644, 22.8202,-158.0172, 4722,    645,    647.4,   5.6387,  34.1895,2,  34.1885,2,     44.9,2,  5.5836,     44.4,2,    74.91,2,    37.88,2,     2.77,2,  -999.0,-999.000
     33KB179_1,  PRS2,     2, 17,      9,   8009,2,20060311,0644, 22.8202,-158.0172, 4722,    679,    680.1,   5.1508,  34.2013,2,  34.2007,2,     37.1,2,  5.0952,     36.9,2,    84.09,2,    39.37,2,     2.73,3,  -999.0,-999.000
     33KB179_1,  PRS2,     2, 17,      8,   8008,2,20060311,0644, 22.8202,-158.0172, 4722,    713,    713.6,   4.9341,  34.2207,2,  34.2230,2,     33.8,2,  4.8768,     33.0,2,    90.09,2,    40.22,2,     2.90,2,  -999.0,-999.000
     33KB179_1,  PRS2,     2, 17,      7,   8026,2,20060311,0644, 22.8202,-158.0172, 4722,    746,    745.4,   4.7667,  34.2688,2,  34.2672,2,     29.4,2,  4.7076,     28.9,2,    93.46,2,    40.84,2,     2.95,2,  -999.0,-999.000
     33KB179_1,  PRS2,     2, 17,      6,   8006,2,20060311,0644, 22.8202,-158.0172, 4722,    781,    777.6,   4.5980,  34.3063,2,  34.3044,2,     28.2,2,  4.5372,     27.2,2,    98.65,2,    41.31,2,     2.99,2,  -999.0,-999.000
     33KB179_1,  PRS2,     2, 17,      5,   8005,2,20060311,0644, 22.8202,-158.0172, 4722,    814,    812.6,   4.4658,  34.3468,2,  34.3468,2,     27.6,2,  4.4028,     27.7,2,   101.83,2,    41.73,2,     3.00,2,  -999.0,-999.000
     33KB179_1,  PRS2,     2, 17,      4,   8004,2,20060311,0644, 22.8202,-158.0172, 4722,    851,    847.4,   4.2474,  34.3726,2,  34.3717,2,     29.4,2,  4.1828,     29.2,2,   106.96,2,    41.89,2,     3.01,2,  -999.0,-999.000
     33KB179_1,  PRS2,     2, 17,      3,   8003,2,20060311,0644, 22.8202,-158.0172, 4722,    902,    904.0,   4.1627,  34.4396,2,  34.4385,2,     33.3,2,  4.0939,     34.4,2,   108.57,2,    41.93,2,     3.06,2,  -999.0,-999.000
     33KB179_1,  PRS2,     2, 17,      2,   8002,2,20060311,0644, 22.8202,-158.0172, 4722,    958,    958.8,   3.9191,  34.4695,2,  34.4709,2,     40.3,2,  3.8475,     41.9,2,   113.33,2,    41.72,2,     3.03,2,  -999.0,-999.000
     33KB179_1,  PRS2,     2, 17,      1,   8001,2,20060311,0644, 22.8202,-158.0172, 4722,   1021,   1021.2,   3.7577,  34.4992,2,  34.5003,2,     45.8,2,  3.6822,     46.4,2,   117.17,2,    41.58,2,     3.01,2,  -999.0,-999.000
     33KB179_1,  PRS2,     2, 18,     24,   8024,2,20060311,1012, 22.7553,-157.9993, 4747,     32,     31.5,  23.6745,  34.9727,2,  34.9730,2,    211.6,2, 23.6680,    210.0,2,     0.91,2,     0.02,2,     0.07,2,  -999.0,-999.000
     33KB179_1,  PRS2,     2, 18,     23,   8023,2,20060311,1012, 22.7553,-157.9993, 4747,    501,    500.9,   7.4170,  34.0494,2,  34.0496,2,    133.9,2,  7.3682,    134.1,2,    42.86,2,    27.50,2,     1.95,2,  -999.0,-999.000
     33KB179_1,  PRS2,     2, 18,     22,   8022,2,20060311,1012, 22.7553,-157.9993, 4747,    751,    750.2,   4.6867,  34.2704,2,  34.2697,2,     28.8,2,  4.6276,     28.5,2,    95.00,2,    41.32,2,     3.02,2,  -999.0,-999.000
     33KB179_1,  PRS2,     2, 18,     21,   8021,2,20060311,1012, 22.7553,-157.9993, 4747,    995,    997.1,   3.9484,  34.4737,2,  34.4728,2,     39.7,2,  3.8734,     40.9,2,   110.63,2,    41.72,2,     3.04,2,  -999.0,-999.000
     33KB179_1,  PRS2,     2, 18,     20,   8020,2,20060311,1012, 22.7553,-157.9993, 4747,   1198,   1199.7,   3.4585,  34.5340,2,  34.5337,2,     52.6,2,  3.3708,     53.1,2,   120.88,2,    41.37,2,     3.01,2,  -999.0,-999.000
     33KB179_1,  PRS2,     2, 18,     19,   8019,2,20060311,1012, 22.7553,-157.9993, 4747,   1401,   1402.3,   3.0256,  34.5590,2,  34.5586,2,     62.0,2,  2.9256,     61.7,2,   131.34,2,    40.94,2,     2.96,2,  -999.0,-999.000
     33KB179_1,  PRS2,     2, 18,     18,   8018,2,20060311,1012, 22.7553,-157.9993, 4747,   1596,   1598.1,   2.6756,  34.5845,2,  34.5842,2,     70.4,2,  2.5635,     70.3,2,   138.89,2,    40.88,2,     2.91,2,  -999.0,-999.000
     33KB179_1,  PRS2,     2, 18,     17,   8017,2,20060311,1012, 22.7553,-157.9993, 4747,   1798,   1798.3,   2.3919,  34.6062,2,  34.6056,2,     79.5,2,  2.2668,     79.6,2,   144.73,2,    40.43,2,     2.88,2,  -999.0,-999.000
     33KB179_1,  PRS2,     2, 18,     16,   8016,2,20060311,1012, 22.7553,-157.9993, 4747,   1999,   1998.7,   2.1797,  34.6209,2,-999.0000,5,     88.1,2,  2.0406,     87.9,2,   148.45,2,    39.76,2,     2.83,2,  -999.0,-999.000
     33KB179_1,  PRS2,     2, 18,     15,   8015,2,20060311,1012, 22.7553,-157.9993, 4747,   2199,   2199.1,   1.9389,  34.6361,2,  34.6354,2,     97.7,2,  1.7864,     98.1,2,   153.22,2,    39.10,2,     2.77,2,  -999.0,-999.000
     33KB179_1,  PRS2,     2, 18,     14,   8014,2,20060311,1012, 22.7553,-157.9993, 4747,   2398,   2398.6,   1.8004,  34.6472,2,  34.6476,2,    105.4,2,  1.6329,    105.7,2,   155.14,2,    38.66,2,     2.74,2,  -999.0,-999.000
     33KB179_1,  PRS2,     2, 18,     13,   8025,2,20060311,1012, 22.7553,-157.9993, 4747,   2603,   2600.7,   1.7005,  34.6565,2,  34.6561,2,    112.6,2,  1.5168,    120.1,4,   157.54,2,    38.28,2,     2.70,2,  -999.0,-999.000
     33KB179_1,  PRS2,     2, 18,     12,   8012,2,20060311,1012, 22.7553,-157.9993, 4747,   2800,   2799.7,   1.6244,  34.6634,2,  34.6635,2,    118.6,2,  1.4238,    118.5,2,   157.11,2,    37.93,2,     2.67,2,  -999.0,-999.000
     33KB179_1,  PRS2,     2, 18,     11,   8011,2,20060311,1012, 22.7553,-157.9993, 4747,   2999,   2999.9,   1.5568,  34.6699,2,  34.6694,2,    124.0,2,  1.3388,    123.9,2,   158.94,2,    37.30,2,     2.63,2,  -999.0,-999.000
     33KB179_1,  PRS2,     2, 18,     10,   8010,2,20060311,1012, 22.7553,-157.9993, 4747,   3200,   3200.8,   1.5069,  34.6761,2,  34.6763,2,    131.1,2,  1.2706,    131.0,2,   155.29,2,    36.80,2,     2.59,2,  -999.0,-999.000
     33KB179_1,  PRS2,     2, 18,      9,   8009,2,20060311,1012, 22.7553,-157.9993, 4747,   3400,   3399.3,   1.4776,  34.6800,2,  34.6793,2,    136.5,2,  1.2222,    136.5,2,   154.69,2,    36.43,2,     2.55,2,  -999.0,-999.000
     33KB179_1,  PRS2,     2, 18,      8,   8008,2,20060311,1012, 22.7553,-157.9993, 4747,   3603,   3601.0,   1.4641,  34.6831,2,  34.6826,2,    140.7,2,  1.1885,    141.3,2,   153.67,2,    36.43,2,     2.55,2,  -999.0,-999.000
     33KB179_1,  PRS2,     2, 18,      7,   8026,2,20060311,1012, 22.7553,-157.9993, 4747,   3797,   3798.1,   1.4588,  34.6852,2,  34.6865,2,    144.3,2,  1.1627,    143.9,2,   150.32,3,    36.14,2,     2.51,2,  -999.0,-999.000
     33KB179_1,  PRS2,     2, 18,      6,   8006,2,20060311,1012, 22.7553,-157.9993, 4747,   4002,   4000.0,   1.4608,  34.6872,2,  34.6869,2,    147.1,2,  1.1430,    146.8,2,   150.14,2,    35.93,2,     2.50,2,  -999.0,-999.000
     33KB179_1,  PRS2,     2, 18,      5,   8005,2,20060311,1012, 22.7553,-157.9993, 4747,   4199,   4199.4,   1.4684,  34.6883,2,  34.6881,2,    149.0,2,  1.1285,    151.5,4,   149.37,2,    35.70,2,     2.50,2,  -999.0,-999.000
     33KB179_1,  PRS2,     2, 18,      4,   8004,2,20060311,1012, 22.7553,-157.9993, 4747,   4398,   4399.0,   1.4826,  34.6891,2,  34.6883,2,    150.3,2,  1.1197,    149.8,2,   148.25,2,    35.62,2,     2.48,2,  -999.0,-999.000
     33KB179_1,  PRS2,     2, 18,      3,   8003,2,20060311,1012, 22.7553,-157.9993, 4747,   4501,   4500.3,   1.4910,  34.6895,2,  34.6897,2,    150.8,2,  1.1163,    151.0,2,   147.33,2,    35.61,2,     2.49,2,  -999.0,-999.000
     33KB179_1,  PRS2,     2, 18,      2,   8002,2,20060311,1012, 22.7553,-157.9993, 4747,   4599,   4599.2,   1.4985,  34.6899,2,  34.6897,2,    151.0,2,  1.1120,    150.8,2,   145.90,3,    35.73,2,     2.51,2,  -999.0,-999.000
     33KB179_1,  PRS2,     2, 18,      1,   8001,2,20060311,1012, 22.7553,-157.9993, 4747,   4701,   4701.1,   1.5106,  34.6899,2,  34.6899,2,    151.0,2,  1.1118,    151.2,2,   146.84,2,    35.70,2,     2.49,2,  -999.0,-999.000
     33KB179_1,  PRS2,     2, 19,      6,   8006,2,20060311,1528, 22.7470,-157.9992, 4747,    496,    495.9,   7.1187,  34.0465,2,-999.0000,9,    124.2,1,  7.0715,   -999.0,9,  -999.00,9,  -999.00,9,  -999.00,9,  -999.0,-999.000
     33KB179_1,  PRS2,     2, 19,      5,   8005,2,20060311,1528, 22.7470,-157.9992, 4747,    496,    495.9,   7.1187,  34.0466,2,-999.0000,9,    124.0,1,  7.0716,   -999.0,9,  -999.00,9,  -999.00,9,  -999.00,9,  -999.0,-999.000
     33KB179_1,  PRS2,     2, 19,      4,   8004,2,20060311,1528, 22.7470,-157.9992, 4747,    496,    495.9,   7.1185,  34.0465,2,-999.0000,9,    123.9,1,  7.0713,   -999.0,9,  -999.00,9,  -999.00,9,  -999.00,9,  -999.0,-999.000
     33KB179_1,  PRS2,     2, 19,      7,   8026,2,20060311,1528, 22.7470,-157.9992, 4747,    497,    496.1,   7.1167,  34.0463,2,-999.0000,9,    124.3,1,  7.0696,   -999.0,9,  -999.00,9,  -999.00,9,  -999.00,9,  -999.0,-999.000
     33KB179_1,  PRS2,     2, 19,      9,   8009,2,20060311,1528, 22.7470,-157.9992, 4747,    496,    496.2,   7.1163,  34.0461,2,-999.0000,9,    124.2,1,  7.0692,   -999.0,9,  -999.00,9,  -999.00,9,  -999.00,9,  -999.0,-999.000
     33KB179_1,  PRS2,     2, 19,      8,   8008,2,20060311,1528, 22.7470,-157.9992, 4747,    497,    496.2,   7.1162,  34.0462,2,-999.0000,9,    124.3,1,  7.0690,   -999.0,9,  -999.00,9,  -999.00,9,  -999.00,9,  -999.0,-999.000
     33KB179_1,  PRS2,     2, 19,     10,   8010,2,20060311,1528, 22.7470,-157.9992, 4747,    497,    496.3,   7.1155,  34.0461,2,-999.0000,9,    124.1,1,  7.0683,   -999.0,9,  -999.00,9,  -999.00,9,  -999.00,9,  -999.0,-999.000
     33KB179_1,  PRS2,     2, 19,     12,   8012,2,20060311,1528, 22.7470,-157.9992, 4747,    497,    496.4,   7.1133,  34.0458,2,-999.0000,9,    123.7,1,  7.0661,   -999.0,9,  -999.00,9,  -999.00,9,  -999.00,9,  -999.0,-999.000
     33KB179_1,  PRS2,     2, 19,     11,   8011,2,20060311,1528, 22.7470,-157.9992, 4747,    496,    496.4,   7.1150,  34.0462,2,-999.0000,9,    123.9,1,  7.0678,   -999.0,9,  -999.00,9,  -999.00,9,  -999.00,9,  -999.0,-999.000
     33KB179_1,  PRS2,     2, 19,      3,   8003,2,20060311,1528, 22.7470,-157.9992, 4747,    497,    496.5,   7.1165,  34.0467,2,-999.0000,9,    123.7,1,  7.0693,   -999.0,9,  -999.00,9,  -999.00,9,  -999.00,9,  -999.0,-999.000
     33KB179_1,  PRS2,     2, 19,      2,   8002,2,20060311,1528, 22.7470,-157.9992, 4747,    497,    496.5,   7.1159,  34.0467,2,-999.0000,9,    123.5,1,  7.0687,   -999.0,9,  -999.00,9,  -999.00,9,  -999.00,9,  -999.0,-999.000
     33KB179_1,  PRS2,     2, 19,      1,   8001,2,20060311,1528, 22.7470,-157.9992, 4747,    496,    496.5,   7.1129,  34.0466,2,-999.0000,9,    123.4,1,  7.0657,   -999.0,9,  -999.00,9,  -999.00,9,  -999.00,9,  -999.0,-999.000
     33KB179_1,  PRS2,     2, 19,     15,   8015,2,20060311,1528, 22.7470,-157.9992, 4747,    496,    496.6,   7.1117,  34.0459,2,-999.0000,9,    123.3,1,  7.0645,   -999.0,9,  -999.00,9,  -999.00,9,  -999.00,9,  -999.0,-999.000
     33KB179_1,  PRS2,     2, 19,     14,   8014,2,20060311,1528, 22.7470,-157.9992, 4747,    497,    496.7,   7.1122,  34.0458,2,-999.0000,9,    123.1,1,  7.0650,   -999.0,9,  -999.00,9,  -999.00,9,  -999.00,9,  -999.0,-999.000
     33KB179_1,  PRS2,     2, 19,     13,   8025,2,20060311,1528, 22.7470,-157.9992, 4747,    497,    496.7,   7.1118,  34.0461,2,-999.0000,9,    122.9,1,  7.0646,   -999.0,9,  -999.00,9,  -999.00,9,  -999.00,9,  -999.0,-999.000
     33KB179_1,  PRS2,     2, 19,     19,   8019,2,20060311,1528, 22.7470,-157.9992, 4747,    497,    497.0,   7.1067,  34.0449,2,-999.0000,9,    124.4,1,  7.0594,   -999.0,9,  -999.00,9,  -999.00,9,  -999.00,9,  -999.0,-999.000
     33KB179_1,  PRS2,     2, 19,     18,   8018,2,20060311,1528, 22.7470,-157.9992, 4747,    497,    497.0,   7.1050,  34.0453,2,-999.0000,9,    124.1,1,  7.0578,   -999.0,9,  -999.00,9,  -999.00,9,  -999.00,9,  -999.0,-999.000
     33KB179_1,  PRS2,     2, 19,     16,   8016,2,20060311,1528, 22.7470,-157.9992, 4747,    498,    497.0,   7.1101,  34.0449,2,-999.0000,9,    123.6,1,  7.0629,   -999.0,9,  -999.00,9,  -999.00,9,  -999.00,9,  -999.0,-999.000
     33KB179_1,  PRS2,     2, 19,     23,   8023,2,20060311,1528, 22.7470,-157.9992, 4747,    498,    497.3,   7.1064,  34.0449,2,-999.0000,9,    124.8,1,  7.0591,   -999.0,9,  -999.00,9,  -999.00,9,  -999.00,9,  -999.0,-999.000
     33KB179_1,  PRS2,     2, 19,     22,   8022,2,20060311,1528, 22.7470,-157.9992, 4747,    497,    497.3,   7.1020,  34.0447,2,-999.0000,9,    124.8,1,  7.0548,   -999.0,9,  -999.00,9,  -999.00,9,  -999.00,9,  -999.0,-999.000
     33KB179_1,  PRS2,     2, 19,     21,   8021,2,20060311,1528, 22.7470,-157.9992, 4747,    498,    497.3,   7.1011,  34.0447,2,-999.0000,9,    124.8,1,  7.0538,   -999.0,9,  -999.00,9,  -999.00,9,  -999.00,9,  -999.0,-999.000
     33KB179_1,  PRS2,     2, 19,     20,   8020,2,20060311,1528, 22.7470,-157.9992, 4747,    498,    497.3,   7.1000,  34.0443,2,-999.0000,9,    124.6,1,  7.0528,   -999.0,9,  -999.00,9,  -999.00,9,  -999.00,9,  -999.0,-999.000
     33KB179_1,  PRS2,     2, 19,     17,   8017,2,20060311,1528, 22.7470,-157.9992, 4747,    498,    497.3,   7.1046,  34.0451,2,-999.0000,9,    123.8,1,  7.0574,   -999.0,9,  -999.00,9,  -999.00,9,  -999.00,9,  -999.0,-999.000
     33KB179_1,  PRS2,     2, 19,     24,   8024,2,20060311,1528, 22.7470,-157.9992, 4747,    497,    497.6,   7.1019,  34.0447,2,-999.0000,9,    124.7,1,  7.0546,   -999.0,9,  -999.00,9,  -999.00,9,  -999.00,9,  -999.0,-999.000