BOTTLE,20090923WHPSIOMYS
EXPOCODE,SECT_ID,STNNBR,CASTNO,SAMPNO,BTLNBR,BTLNBR_FLAG_W,DATE,TIME,LATITUDE,LONGITUDE,DEPTH,CTDRAW,CTDPRS,CTDTMP,CTDSAL,CTDSAL_FLAG_W,SALNTY,SALNTY_FLAG_W,CTDOXY,CTDOXY_FLAG_W,THETA,OXYGEN,OXYGEN_FLAG_W,SILCAT,SILCAT_FLAG_W,NO2+NO3,NO2+NO3_FLAG_W,PHSPHT,PHSPHT_FLAG_W,REVPRS,REVTMP
,,,,,,,,,,,,,DBAR,ITS-90,PSS-78,,PSS-78,,UMOL/KG,,ITS-90,UMOL/KG,,UMOL/KG,,UMOL/KG,,UMOL/KG,,DBAR,DEG C
     33KB179_1,  PRS2,     2,  6,     24,   8024,2,20060309,1848, 22.7495,-157.9987, 4746,      6,      6.6,  23.0146,  35.1441,2,  35.1427,2,    212.8,1, 23.0132,   -999.0,9,  -999.00,9,  -999.00,9,  -999.00,9,  -999.0,-999.000
     33KB179_1,  PRS2,     2,  6,     23,   8023,2,20060309,1848, 22.7495,-157.9987, 4746,     24,     24.0,  23.0190,  35.1444,2,  35.1415,2,    212.9,1, 23.0141,   -999.0,9,  -999.00,9,  -999.00,9,  -999.00,9,  -999.0,-999.000
     33KB179_1,  PRS2,     2,  6,     13,   8025,2,20060309,1848, 22.7495,-157.9987, 4746,     24,     24.1,  23.0254,  35.1461,2,-999.0000,5,    213.1,1, 23.0205,   -999.0,9,  -999.00,9,  -999.00,9,  -999.00,9,  -999.0,-999.000
     33KB179_1,  PRS2,     2,  6,     14,   8014,2,20060309,1848, 22.7495,-157.9987, 4746,     26,     24.4,  23.0246,  35.1461,2,-999.0000,5,    213.1,1, 23.0197,   -999.0,9,  -999.00,9,  -999.00,9,  -999.00,9,  -999.0,-999.000
     33KB179_1,  PRS2,     2,  6,     15,   8015,2,20060309,1848, 22.7495,-157.9987, 4746,     25,     24.6,  23.0245,  35.1465,2,-999.0000,5,    213.1,1, 23.0194,   -999.0,9,  -999.00,9,  -999.00,9,  -999.00,9,  -999.0,-999.000
     33KB179_1,  PRS2,     2,  6,     16,   8016,2,20060309,1848, 22.7495,-157.9987, 4746,     23,     25.0,  23.0247,  35.1464,2,-999.0000,5,    213.1,1, 23.0196,   -999.0,9,  -999.00,9,  -999.00,9,  -999.00,9,  -999.0,-999.000
     33KB179_1,  PRS2,     2,  6,     17,   8017,2,20060309,1848, 22.7495,-157.9987, 4746,     25,     25.8,  23.0241,  35.1465,2,-999.0000,5,    213.0,1, 23.0189,   -999.0,9,  -999.00,9,  -999.00,9,  -999.00,9,  -999.0,-999.000
     33KB179_1,  PRS2,     2,  6,     18,   8018,2,20060309,1848, 22.7495,-157.9987, 4746,     27,     26.7,  23.0241,  35.1463,2,-999.0000,5,    213.0,1, 23.0186,   -999.0,9,  -999.00,9,  -999.00,9,  -999.00,9,  -999.0,-999.000
     33KB179_1,  PRS2,     2,  6,     19,   8019,2,20060309,1848, 22.7495,-157.9987, 4746,     29,     27.9,  23.0239,  35.1459,2,-999.0000,5,    213.0,1, 23.0182,   -999.0,9,  -999.00,9,  -999.00,9,  -999.00,9,  -999.0,-999.000
     33KB179_1,  PRS2,     2,  6,     20,   8020,2,20060309,1848, 22.7495,-157.9987, 4746,     29,     28.9,  23.0234,  35.1458,2,-999.0000,5,    213.0,1, 23.0175,   -999.0,9,  -999.00,9,  -999.00,9,  -999.00,9,  -999.0,-999.000
     33KB179_1,  PRS2,     2,  6,     21,   8021,2,20060309,1848, 22.7495,-157.9987, 4746,     30,     29.6,  23.0225,  35.1461,2,-999.0000,5,    213.0,1, 23.0164,   -999.0,9,  -999.00,9,  -999.00,9,  -999.00,9,  -999.0,-999.000
     33KB179_1,  PRS2,     2,  6,     22,   8022,2,20060309,1848, 22.7495,-157.9987, 4746,     29,     30.3,  23.0221,  35.1459,2,  35.1488,2,    213.0,1, 23.0159,   -999.0,9,  -999.00,9,  -999.00,9,  -999.00,9,  -999.0,-999.000
     33KB179_1,  PRS2,     2,  6,     12,   8012,4,20060309,1848, 22.7495,-157.9987, 4746,     44,     44.8,  23.0038,  35.1546,2,-999.0000,5,    213.2,1, 22.9946,   -999.0,9,  -999.00,9,  -999.00,9,  -999.00,9,  -999.0,-999.000
     33KB179_1,  PRS2,     2,  6,     11,   8011,2,20060309,1848, 22.7495,-157.9987, 4746,     75,     76.4,  22.7461,  35.1894,2,  35.1908,2,    212.8,1, 22.7306,   -999.0,9,  -999.00,9,  -999.00,9,  -999.00,9,  -999.0,-999.000
     33KB179_1,  PRS2,     2,  6,     10,   8010,2,20060309,1848, 22.7495,-157.9987, 4746,    100,    101.6,  22.5949,  35.2268,2,  35.2245,2,    208.1,1, 22.5744,   -999.0,9,  -999.00,9,  -999.00,9,  -999.00,9,  -999.0,-999.000
     33KB179_1,  PRS2,     2,  6,      9,   8009,2,20060309,1848, 22.7495,-157.9987, 4746,    125,    125.2,  22.3123,  35.2858,2,  35.2838,2,    206.7,1, 22.2872,   -999.0,9,  -999.00,9,  -999.00,9,  -999.00,9,  -999.0,-999.000
     33KB179_1,  PRS2,     2,  6,      8,   8008,2,20060309,1848, 22.7495,-157.9987, 4746,    154,    151.7,  21.2847,  35.1753,2,  35.1756,2,    200.8,1, 21.2553,   -999.0,9,  -999.00,9,  -999.00,9,  -999.00,9,  -999.0,-999.000
     33KB179_1,  PRS2,     2,  6,      7,   8026,2,20060309,1848, 22.7495,-157.9987, 4746,    176,    176.8,  20.7327,  35.1152,2,  35.1165,2,    198.1,1, 20.6992,   -999.0,9,  -999.00,9,  -999.00,9,  -999.00,9,  -999.0,-999.000
     33KB179_1,  PRS2,     2,  6,      6,   8006,2,20060309,1848, 22.7495,-157.9987, 4746,    204,    201.5,  18.7912,  34.8858,2,  34.8816,2,    192.9,1, 18.7556,   -999.0,9,  -999.00,9,  -999.00,9,  -999.00,9,  -999.0,-999.000
     33KB179_1,  PRS2,     2,  6,      5,   8005,2,20060309,1848, 22.7495,-157.9987, 4746,    253,    250.6,  15.0859,  34.4205,2,  34.4237,2,    192.4,1, 15.0479,   -999.0,9,  -999.00,9,  -999.00,9,  -999.00,9,  -999.0,-999.000
     33KB179_1,  PRS2,     2,  6,      3,   8003,2,20060309,1848, 22.7495,-157.9987, 4746,    352,    351.0,  11.3946,  34.1803,2,  34.1791,2,    200.0,1, 11.3505,   -999.0,9,  -999.00,9,  -999.00,9,  -999.00,9,  -999.0,-999.000
     33KB179_1,  PRS2,     2,  6,      4,   8004,2,20060309,1848, 22.7495,-157.9987, 4746,    351,    351.4,  11.3988,  34.1803,2,  34.1805,2,    200.2,1, 11.3546,   -999.0,9,  -999.00,9,  -999.00,9,  -999.00,9,  -999.0,-999.000
     33KB179_1,  PRS2,     2,  6,      2,   8002,2,20060309,1848, 22.7495,-157.9987, 4746,    526,    526.1,   6.8261,  34.0486,2,  34.0482,2,    114.1,1,  6.7771,   -999.0,9,  -999.00,9,  -999.00,9,  -999.00,9,  -999.0,-999.000
     33KB179_1,  PRS2,     2,  6,      1,   8001,2,20060309,1848, 22.7495,-157.9987, 4746,   1022,   1019.7,   3.9129,  34.5052,2,  34.5054,2,     44.8,1,  3.8363,   -999.0,9,  -999.00,9,  -999.00,9,  -999.00,9,  -999.0,-999.000
     33KB179_1,  PRS2,     2,  7,     22,   8022,2,20060309,2055, 22.7467,-157.9943, 4743,      6,      6.5,  23.0051,  35.1414,2,-999.0000,5,    213.8,1, 23.0038,   -999.0,9,  -999.00,9,  -999.00,9,  -999.00,9,  -999.0,-999.000
     33KB179_1,  PRS2,     2,  7,     21,   8021,2,20060309,2055, 22.7467,-157.9943, 4743,      7,      6.5,  23.0046,  35.1414,2,  35.1431,2,    213.7,1, 23.0033,   -999.0,9,  -999.00,9,  -999.00,9,  -999.00,9,  -999.0,-999.000
     33KB179_1,  PRS2,     2,  7,     19,   8019,2,20060309,2055, 22.7467,-157.9943, 4743,     28,     27.5,  23.0028,  35.1418,2,  35.1423,2,    214.1,1, 22.9972,   -999.0,9,  -999.00,9,  -999.00,9,  -999.00,9,  -999.0,-999.000
     33KB179_1,  PRS2,     2,  7,     20,   8020,2,20060309,2055, 22.7467,-157.9943, 4743,     28,     27.6,  23.0027,  35.1419,2,-999.0000,5,    214.2,1, 22.9971,   -999.0,9,  -999.00,9,  -999.00,9,  -999.00,9,  -999.0,-999.000
     33KB179_1,  PRS2,     2,  7,     18,   8018,2,20060309,2055, 22.7467,-157.9943, 4743,     42,     43.3,  22.9575,  35.1468,2,-999.0000,5,    213.8,1, 22.9486,   -999.0,9,  -999.00,9,  -999.00,9,  -999.00,9,  -999.0,-999.000
     33KB179_1,  PRS2,     2,  7,     17,   8017,2,20060309,2055, 22.7467,-157.9943, 4743,     42,     43.5,  22.9597,  35.1469,2,  35.1461,2,    213.8,1, 22.9509,   -999.0,9,  -999.00,9,  -999.00,9,  -999.00,9,  -999.0,-999.000
     33KB179_1,  PRS2,     2,  7,     15,   8015,2,20060309,2055, 22.7467,-157.9943, 4743,     77,     76.9,  22.5528,  35.2066,2,  35.2048,2,    213.9,1, 22.5373,   -999.0,9,  -999.00,9,  -999.00,9,  -999.00,9,  -999.0,-999.000
     33KB179_1,  PRS2,     2,  7,     16,   8016,2,20060309,2055, 22.7467,-157.9943, 4743,     78,     77.3,  22.5513,  35.2061,2,-999.0000,5,    213.8,1, 22.5357,   -999.0,9,  -999.00,9,  -999.00,9,  -999.00,9,  -999.0,-999.000
     33KB179_1,  PRS2,     2,  7,     14,   8014,2,20060309,2055, 22.7467,-157.9943, 4743,     98,     99.5,  22.2766,  35.2466,2,-999.0000,5,    210.0,1, 22.2567,   -999.0,9,  -999.00,9,  -999.00,9,  -999.00,9,  -999.0,-999.000
     33KB179_1,  PRS2,     2,  7,     13,   8025,2,20060309,2055, 22.7467,-157.9943, 4743,     98,     99.7,  22.2563,  35.2490,2,  35.2463,2,    209.9,1, 22.2364,   -999.0,9,  -999.00,9,  -999.00,9,  -999.00,9,  -999.0,-999.000
     33KB179_1,  PRS2,     2,  7,     11,   8011,2,20060309,2055, 22.7467,-157.9943, 4743,    124,    124.9,  21.5329,  35.2080,2,  35.2081,2,    203.0,1, 21.5086,   -999.0,9,  -999.00,9,  -999.00,9,  -999.00,9,  -999.0,-999.000
     33KB179_1,  PRS2,     2,  7,     12,   8012,2,20060309,2055, 22.7467,-157.9943, 4743,    125,    125.4,  21.5535,  35.2093,2,-999.0000,5,    203.1,1, 21.5291,   -999.0,9,  -999.00,9,  -999.00,9,  -999.00,9,  -999.0,-999.000
     33KB179_1,  PRS2,     2,  7,     10,   8010,2,20060309,2055, 22.7467,-157.9943, 4743,    152,    150.9,  20.6808,  35.1110,2,  35.1138,2,    198.1,1, 20.6522,   -999.0,9,  -999.00,9,  -999.00,9,  -999.00,9,  -999.0,-999.000
     33KB179_1,  PRS2,     2,  7,      9,   8009,2,20060309,2055, 22.7467,-157.9943, 4743,    150,    151.0,  20.6800,  35.1108,2,  35.1152,2,    198.2,1, 20.6514,   -999.0,9,  -999.00,9,  -999.00,9,  -999.00,9,  -999.0,-999.000
     33KB179_1,  PRS2,     2,  7,      8,   8008,2,20060309,2055, 22.7467,-157.9943, 4743,    172,    172.5,  19.4673,  34.9653,2,  34.9689,2,    193.8,1, 19.4360,   -999.0,9,  -999.00,9,  -999.00,9,  -999.00,9,  -999.0,-999.000
     33KB179_1,  PRS2,     2,  7,      7,   8026,2,20060309,2055, 22.7467,-157.9943, 4743,    171,    173.4,  19.4339,  34.9633,2,  34.9683,2,    193.8,1, 19.4025,   -999.0,9,  -999.00,9,  -999.00,9,  -999.00,9,  -999.0,-999.000
     33KB179_1,  PRS2,     2,  7,      6,   8006,2,20060309,2055, 22.7467,-157.9943, 4743,    200,    199.3,  18.1337,  34.7749,2,  34.7805,2,    189.4,1, 18.0993,   -999.0,9,  -999.00,9,  -999.00,9,  -999.00,9,  -999.0,-999.000
     33KB179_1,  PRS2,     2,  7,      5,   8005,2,20060309,2055, 22.7467,-157.9943, 4743,    251,    249.9,  15.1212,  34.4016,2,  34.4027,2,    190.0,1, 15.0833,   -999.0,9,  -999.00,9,  -999.00,9,  -999.00,9,  -999.0,-999.000
     33KB179_1,  PRS2,     2,  7,      4,   8004,2,20060309,2055, 22.7467,-157.9943, 4743,    349,    349.5,  10.8555,  34.1594,2,  34.1607,2,    198.0,1, 10.8129,   -999.0,9,  -999.00,9,  -999.00,9,  -999.00,9,  -999.0,-999.000
     33KB179_1,  PRS2,     2,  7,      3,   8003,2,20060309,2055, 22.7467,-157.9943, 4743,    349,    350.1,  10.8519,  34.1588,2,  34.1593,2,    197.9,1, 10.8092,   -999.0,9,  -999.00,9,  -999.00,9,  -999.00,9,  -999.0,-999.000
     33KB179_1,  PRS2,     2,  7,      2,   8002,2,20060309,2055, 22.7467,-157.9943, 4743,    502,    502.3,   7.1309,  34.0461,2,  34.0439,2,    123.8,1,  7.0831,   -999.0,9,  -999.00,9,  -999.00,9,  -999.00,9,  -999.0,-999.000
     33KB179_1,  PRS2,     2,  7,      1,   8001,2,20060309,2055, 22.7467,-157.9943, 4743,   1021,   1020.0,   3.9747,  34.4927,2,  34.4930,2,     43.2,1,  3.8976,   -999.0,9,  -999.00,9,  -999.00,9,  -999.00,9,  -999.0,-999.000
     33KB179_1,  PRS2,     2,  8,     11,   8011,2,20060309,2354, 22.7525,-157.9968, 4734,      4,      4.6,  23.0028,  35.1401,2,  35.1390,2,    214.4,1, 23.0019,   -999.0,9,  -999.00,9,  -999.00,9,  -999.00,9,  -999.0,-999.000
     33KB179_1,  PRS2,     2,  8,     10,   8010,2,20060309,2354, 22.7525,-157.9968, 4734,     25,     27.0,  22.9919,  35.1425,2,  35.1435,2,    213.9,1, 22.9864,   -999.0,9,  -999.00,9,  -999.00,9,  -999.00,9,  -999.0,-999.000
     33KB179_1,  PRS2,     2,  8,      9,   8009,2,20060309,2354, 22.7525,-157.9968, 4734,     44,     44.5,  22.8792,  35.1599,2,  35.1510,2,    213.8,1, 22.8701,   -999.0,9,  -999.00,9,  -999.00,9,  -999.00,9,  -999.0,-999.000
     33KB179_1,  PRS2,     2,  8,      8,   8008,2,20060309,2354, 22.7525,-157.9968, 4734,     76,     74.6,  22.6536,  35.1943,2,  35.1904,2,    215.0,1, 22.6385,   -999.0,9,  -999.00,9,  -999.00,9,  -999.00,9,  -999.0,-999.000
     33KB179_1,  PRS2,     2,  8,      7,   8026,2,20060309,2354, 22.7525,-157.9968, 4734,    101,     99.5,  22.4964,  35.2193,2,  35.2170,2,    213.7,1, 22.4764,   -999.0,9,  -999.00,9,  -999.00,9,  -999.00,9,  -999.0,-999.000
     33KB179_1,  PRS2,     2,  8,      6,   8006,2,20060309,2354, 22.7525,-157.9968, 4734,    125,    124.0,  22.0838,  35.2470,2,  35.2532,2,    208.0,1, 22.0592,   -999.0,9,  -999.00,9,  -999.00,9,  -999.00,9,  -999.0,-999.000
     33KB179_1,  PRS2,     2,  8,      5,   8005,2,20060309,2354, 22.7525,-157.9968, 4734,    147,    148.0,  21.2983,  35.1795,2,  35.1835,2,    200.7,1, 21.2697,   -999.0,9,  -999.00,9,  -999.00,9,  -999.00,9,  -999.0,-999.000
     33KB179_1,  PRS2,     2,  8,      4,   8004,2,20060309,2354, 22.7525,-157.9968, 4734,    249,    249.9,  15.0069,  34.3949,2,  34.3941,2,    190.9,1, 14.9692,   -999.0,9,  -999.00,9,  -999.00,9,  -999.00,9,  -999.0,-999.000
     33KB179_1,  PRS2,     2,  8,      3,   8003,2,20060309,2354, 22.7525,-157.9968, 4734,    353,    353.2,  10.8956,  34.1614,2,  34.1630,2,    199.0,1, 10.8524,   -999.0,9,  -999.00,9,  -999.00,9,  -999.00,9,  -999.0,-999.000
     33KB179_1,  PRS2,     2,  8,      2,   8002,2,20060309,2354, 22.7525,-157.9968, 4734,    525,    525.3,   6.7090,  34.0495,2,  34.0496,2,    111.0,1,  6.6606,   -999.0,9,  -999.00,9,  -999.00,9,  -999.00,9,  -999.0,-999.000
     33KB179_1,  PRS2,     2,  8,      1,   8001,2,20060309,2354, 22.7525,-157.9968, 4734,   1022,   1021.8,   3.9256,  34.5011,2,  34.4993,2,     44.3,1,  3.8487,   -999.0,9,  -999.00,9,  -999.00,9,  -999.00,9,  -999.0,-999.000
     33KB179_1,  PRS2,     2,  9,     24,   8024,2,20060310,0337, 22.7552,-157.9997, 4746,      7,      8.1,  23.4986,  35.0917,2,  35.0923,2,    193.2,1, 23.4969,   -999.0,9,  -999.00,9,  -999.00,9,  -999.00,9,  -999.0,-999.000
     33KB179_1,  PRS2,     2,  9,     23,   8023,2,20060310,0337, 22.7552,-157.9997, 4746,      9,      8.3,  23.4984,  35.0918,2,  35.0951,2,    196.5,1, 23.4967,   -999.0,9,  -999.00,9,  -999.00,9,  -999.00,9,  -999.0,-999.000
     33KB179_1,  PRS2,     2,  9,     22,   8022,2,20060310,0337, 22.7552,-157.9997, 4746,     13,     13.5,  23.5010,  35.0915,2,-999.0000,5,    198.9,1, 23.4982,   -999.0,9,  -999.00,9,  -999.00,9,  -999.00,9,  -999.0,-999.000
     33KB179_1,  PRS2,     2,  9,     20,   8020,2,20060310,0337, 22.7552,-157.9997, 4746,     23,     25.1,  23.4940,  35.0921,2,  35.0957,2,    201.9,1, 23.4888,   -999.0,9,  -999.00,9,  -999.00,9,  -999.00,9,  -999.0,-999.000
     33KB179_1,  PRS2,     2,  9,     21,   8021,2,20060310,0337, 22.7552,-157.9997, 4746,     27,     25.5,  23.4965,  35.0924,2,  35.0909,2,    200.5,1, 23.4912,   -999.0,9,  -999.00,9,  -999.00,9,  -999.00,9,  -999.0,-999.000
     33KB179_1,  PRS2,     2,  9,     19,   8019,2,20060310,0337, 22.7552,-157.9997, 4746,     33,     34.6,  23.4950,  35.0917,2,  35.0902,2,    203.0,1, 23.4879,   -999.0,9,  -999.00,9,  -999.00,9,  -999.00,9,  -999.0,-999.000
     33KB179_1,  PRS2,     2,  9,     18,   8018,2,20060310,0337, 22.7552,-157.9997, 4746,     33,     34.6,  23.4843,  35.0924,2,  35.0909,2,    204.2,1, 23.4772,   -999.0,9,  -999.00,9,  -999.00,9,  -999.00,9,  -999.0,-999.000
     33KB179_1,  PRS2,     2,  9,     15,   8015,2,20060310,0337, 22.7552,-157.9997, 4746,     44,     43.7,  23.2966,  35.1065,2,-999.0000,5,    212.3,1, 23.2876,   -999.0,9,  -999.00,9,  -999.00,9,  -999.00,9,  -999.0,-999.000
     33KB179_1,  PRS2,     2,  9,     16,   8016,2,20060310,0337, 22.7552,-157.9997, 4746,     44,     44.4,  23.2474,  35.1109,2,  35.1031,2,    212.2,1, 23.2383,   -999.0,9,  -999.00,9,  -999.00,9,  -999.00,9,  -999.0,-999.000
     33KB179_1,  PRS2,     2,  9,     17,   8017,2,20060310,0337, 22.7552,-157.9997, 4746,     43,     44.5,  23.2417,  35.1111,2,  35.1108,2,    212.1,1, 23.2326,   -999.0,9,  -999.00,9,  -999.00,9,  -999.00,9,  -999.0,-999.000
     33KB179_1,  PRS2,     2,  9,     14,   8014,2,20060310,0337, 22.7552,-157.9997, 4746,     62,     63.4,  22.9210,  35.1494,2,  35.1421,2,    213.5,1, 22.9081,   -999.0,9,  -999.00,9,  -999.00,9,  -999.00,9,  -999.0,-999.000
     33KB179_1,  PRS2,     2,  9,     13,   8025,2,20060310,0337, 22.7552,-157.9997, 4746,     82,     81.4,  22.7093,  35.1856,2,  35.1853,2,    214.2,1, 22.6928,   -999.0,9,  -999.00,9,  -999.00,9,  -999.00,9,  -999.0,-999.000
     33KB179_1,  PRS2,     2,  9,     11,   8011,2,20060310,0337, 22.7552,-157.9997, 4746,     81,     81.9,  22.7064,  35.1856,2,  35.1896,2,    214.2,1, 22.6899,   -999.0,9,  -999.00,9,  -999.00,9,  -999.00,9,  -999.0,-999.000
     33KB179_1,  PRS2,     2,  9,     12,   8012,2,20060310,0337, 22.7552,-157.9997, 4746,     81,     82.3,  22.7066,  35.1858,2,  35.1861,2,    214.2,1, 22.6899,   -999.0,9,  -999.00,9,  -999.00,9,  -999.00,9,  -999.0,-999.000
     33KB179_1,  PRS2,     2,  9,     10,   8010,2,20060310,0337, 22.7552,-157.9997, 4746,     99,     98.6,  22.6118,  35.1997,2,  35.2000,2,    214.1,1, 22.5918,   -999.0,9,  -999.00,9,  -999.00,9,  -999.00,9,  -999.0,-999.000
     33KB179_1,  PRS2,     2,  9,      9,   8009,2,20060310,0337, 22.7552,-157.9997, 4746,    100,     99.6,  22.6044,  35.2010,2,  35.2004,2,    214.0,1, 22.5843,   -999.0,9,  -999.00,9,  -999.00,9,  -999.00,9,  -999.0,-999.000
     33KB179_1,  PRS2,     2,  9,      8,   8008,2,20060310,0337, 22.7552,-157.9997, 4746,    127,    127.3,  22.1104,  35.2513,2,  35.2562,2,    207.8,1, 22.0851,   -999.0,9,  -999.00,9,  -999.00,9,  -999.00,9,  -999.0,-999.000
     33KB179_1,  PRS2,     2,  9,      7,   8026,2,20060310,0337, 22.7552,-157.9997, 4746,    126,    127.3,  22.1226,  35.2523,2,  35.2530,2,    207.5,1, 22.0973,   -999.0,9,  -999.00,9,  -999.00,9,  -999.00,9,  -999.0,-999.000
     33KB179_1,  PRS2,     2,  9,      5,   8005,2,20060310,0337, 22.7552,-157.9997, 4746,    151,    152.0,  21.3462,  35.1839,2,  35.2081,3,    200.4,1, 21.3168,   -999.0,9,  -999.00,9,  -999.00,9,  -999.00,9,  -999.0,-999.000
     33KB179_1,  PRS2,     2,  9,      6,   8006,2,20060310,0337, 22.7552,-157.9997, 4746,    152,    152.2,  21.3473,  35.1842,2,  35.1878,2,    200.7,1, 21.3179,   -999.0,9,  -999.00,9,  -999.00,9,  -999.00,9,  -999.0,-999.000
     33KB179_1,  PRS2,     2,  9,      4,   8004,2,20060310,0337, 22.7552,-157.9997, 4746,    173,    173.0,  20.7940,  35.1283,2,  35.1325,2,    198.4,1, 20.7611,   -999.0,9,  -999.00,9,  -999.00,9,  -999.00,9,  -999.0,-999.000
     33KB179_1,  PRS2,     2,  9,      3,   8003,2,20060310,0337, 22.7552,-157.9997, 4746,    176,    173.6,  20.7830,  35.1277,2,  35.1510,4,    198.4,1, 20.7500,   -999.0,9,  -999.00,9,  -999.00,9,  -999.00,9,  -999.0,-999.000
     33KB179_1,  PRS2,     2,  9,      2,   8002,2,20060310,0337, 22.7552,-157.9997, 4746,    541,    542.1,   6.8788,  34.0436,2,  34.0431,2,    118.9,1,  6.8281,   -999.0,9,  -999.00,9,  -999.00,9,  -999.00,9,  -999.0,-999.000
     33KB179_1,  PRS2,     2,  9,      1,   8001,2,20060310,0337, 22.7552,-157.9997, 4746,   1021,   1020.9,   3.8468,  34.4972,2,  34.4952,2,     43.9,1,  3.7706,   -999.0,9,  -999.00,9,  -999.00,9,  -999.00,9,  -999.0,-999.000