BOTTLE,20090923WHPSIOMYS
EXPOCODE,SECT_ID,STNNBR,CASTNO,SAMPNO,BTLNBR,BTLNBR_FLAG_W,DATE,TIME,LATITUDE,LONGITUDE,DEPTH,CTDRAW,CTDPRS,CTDTMP,CTDSAL,CTDSAL_FLAG_W,SALNTY,SALNTY_FLAG_W,CTDOXY,CTDOXY_FLAG_W,THETA,OXYGEN,OXYGEN_FLAG_W,SILCAT,SILCAT_FLAG_W,NO2+NO3,NO2+NO3_FLAG_W,PHSPHT,PHSPHT_FLAG_W,REVPRS,REVTMP
,,,,,,,,,,,,,DBAR,ITS-90,PSS-78,,PSS-78,,UMOL/KG,,ITS-90,UMOL/KG,,UMOL/KG,,UMOL/KG,,UMOL/KG,,DBAR,DEG C
     33KB179_1,  PRS2,     2, 13,     10,   8010,2,20060310,1427, 22.7497,-157.9928, 4742,    499,    499.0,   7.4937,  34.0538,2,  34.0533,2,    133.6,1,  7.4449,   -999.0,9,  -999.00,9,  -999.00,9,  -999.00,9,  -999.0,-999.000
     33KB179_1,  PRS2,     2, 13,     20,   8020,2,20060310,1427, 22.7497,-157.9928, 4742,    499,    499.1,   7.4932,  34.0539,2,  34.0537,2,    134.6,1,  7.4443,   -999.0,9,  -999.00,9,  -999.00,9,  -999.00,9,  -999.0,-999.000
     33KB179_1,  PRS2,     2, 13,      9,   8009,2,20060310,1427, 22.7497,-157.9928, 4742,    497,    499.1,   7.4932,  34.0538,2,  34.0539,2,    133.4,1,  7.4443,   -999.0,9,  -999.00,9,  -999.00,9,  -999.00,9,  -999.0,-999.000
     33KB179_1,  PRS2,     2, 13,     21,   8021,2,20060310,1427, 22.7497,-157.9928, 4742,    498,    499.2,   7.4929,  34.0540,2,  34.0535,2,    134.5,1,  7.4440,   -999.0,9,  -999.00,9,  -999.00,9,  -999.00,9,  -999.0,-999.000
     33KB179_1,  PRS2,     2, 13,      8,   8008,2,20060310,1427, 22.7497,-157.9928, 4742,    500,    499.2,   7.4927,  34.0537,2,  34.0529,2,    133.3,1,  7.4438,   -999.0,9,  -999.00,9,  -999.00,9,  -999.00,9,  -999.0,-999.000
     33KB179_1,  PRS2,     2, 13,     19,   8019,2,20060310,1427, 22.7497,-157.9928, 4742,    499,    499.4,   7.4913,  34.0540,2,  34.0541,2,    134.7,1,  7.4423,   -999.0,9,  -999.00,9,  -999.00,9,  -999.00,9,  -999.0,-999.000
     33KB179_1,  PRS2,     2, 13,     17,   8017,2,20060310,1427, 22.7497,-157.9928, 4742,    498,    499.4,   7.4899,  34.0540,2,  34.0527,2,    134.9,1,  7.4410,   -999.0,9,  -999.00,9,  -999.00,9,  -999.00,9,  -999.0,-999.000
     33KB179_1,  PRS2,     2, 13,     16,   8016,2,20060310,1427, 22.7497,-157.9928, 4742,    498,    499.4,   7.4898,  34.0541,2,  34.0529,2,    134.9,1,  7.4409,   -999.0,9,  -999.00,9,  -999.00,9,  -999.00,9,  -999.0,-999.000
     33KB179_1,  PRS2,     2, 13,     13,   8025,2,20060310,1427, 22.7497,-157.9928, 4742,    497,    499.4,   7.4924,  34.0539,2,  34.0550,2,    134.3,1,  7.4435,   -999.0,9,  -999.00,9,  -999.00,9,  -999.00,9,  -999.0,-999.000
     33KB179_1,  PRS2,     2, 13,     12,   8012,2,20060310,1427, 22.7497,-157.9928, 4742,    500,    499.4,   7.4918,  34.0540,2,  34.0539,2,    134.1,1,  7.4429,   -999.0,9,  -999.00,9,  -999.00,9,  -999.00,9,  -999.0,-999.000
     33KB179_1,  PRS2,     2, 13,     11,   8011,2,20060310,1427, 22.7497,-157.9928, 4742,    500,    499.5,   7.4915,  34.0537,2,  34.0529,2,    133.8,1,  7.4426,   -999.0,9,  -999.00,9,  -999.00,9,  -999.00,9,  -999.0,-999.000
     33KB179_1,  PRS2,     2, 13,      6,   8006,2,20060310,1427, 22.7497,-157.9928, 4742,    498,    499.5,   7.4914,  34.0535,2,  34.0529,2,    133.2,1,  7.4425,   -999.0,9,  -999.00,9,  -999.00,9,  -999.00,9,  -999.0,-999.000
     33KB179_1,  PRS2,     2, 13,      7,   8026,2,20060310,1427, 22.7497,-157.9928, 4742,    499,    499.6,   7.4916,  34.0533,2,  34.0531,2,    133.2,1,  7.4427,   -999.0,9,  -999.00,9,  -999.00,9,  -999.00,9,  -999.0,-999.000
     33KB179_1,  PRS2,     2, 13,     18,   8018,2,20060310,1427, 22.7497,-157.9928, 4742,    501,    499.7,   7.4899,  34.0538,2,  34.0531,2,    134.9,1,  7.4410,   -999.0,9,  -999.00,9,  -999.00,9,  -999.00,9,  -999.0,-999.000
     33KB179_1,  PRS2,     2, 13,     14,   8014,2,20060310,1427, 22.7497,-157.9928, 4742,    501,    499.8,   7.4903,  34.0537,2,  34.0529,2,    134.6,1,  7.4414,   -999.0,9,  -999.00,9,  -999.00,9,  -999.00,9,  -999.0,-999.000
     33KB179_1,  PRS2,     2, 13,      2,   8002,2,20060310,1427, 22.7497,-157.9928, 4742,    499,    499.8,   7.4903,  34.0536,2,  34.0535,2,    132.9,1,  7.4413,   -999.0,9,  -999.00,9,  -999.00,9,  -999.00,9,  -999.0,-999.000
     33KB179_1,  PRS2,     2, 13,      5,   8005,2,20060310,1427, 22.7497,-157.9928, 4742,    499,    499.9,   7.4903,  34.0536,2,  34.0541,2,    133.2,1,  7.4413,   -999.0,9,  -999.00,9,  -999.00,9,  -999.00,9,  -999.0,-999.000
     33KB179_1,  PRS2,     2, 13,      4,   8004,2,20060310,1427, 22.7497,-157.9928, 4742,    500,    499.9,   7.4902,  34.0536,2,  34.0531,2,    133.2,1,  7.4412,   -999.0,9,  -999.00,9,  -999.00,9,  -999.00,9,  -999.0,-999.000
     33KB179_1,  PRS2,     2, 13,      3,   8003,2,20060310,1427, 22.7497,-157.9928, 4742,    500,    499.9,   7.4902,  34.0536,2,  34.0537,2,    133.1,1,  7.4412,   -999.0,9,  -999.00,9,  -999.00,9,  -999.00,9,  -999.0,-999.000
     33KB179_1,  PRS2,     2, 13,     15,   8015,2,20060310,1427, 22.7497,-157.9928, 4742,    501,    500.0,   7.4872,  34.0540,2,  34.0531,2,    134.7,1,  7.4382,   -999.0,9,  -999.00,9,  -999.00,9,  -999.00,9,  -999.0,-999.000
     33KB179_1,  PRS2,     2, 13,      1,   8001,2,20060310,1427, 22.7497,-157.9928, 4742,   1022,   1021.6,   3.9307,  34.4883,2,  34.4885,2,     43.0,1,  3.8538,   -999.0,9,  -999.00,9,  -999.00,9,  -999.00,9,  -999.0,-999.000
     33KB179_1,  PRS2,     2, 14,     22,   8022,2,20060310,2128, 22.8247,-158.0450, 4724,      8,      8.5,  23.2080,  35.1349,2,  35.1358,2,    212.6,1, 23.2062,   -999.0,9,  -999.00,9,  -999.00,9,  -999.00,9,  -999.0,-999.000
     33KB179_1,  PRS2,     2, 14,     21,   8021,2,20060310,2128, 22.8247,-158.0450, 4724,      8,      8.8,  23.2082,  35.1347,2,  35.1370,2,    212.7,1, 23.2064,   -999.0,9,  -999.00,9,  -999.00,9,  -999.00,9,  -999.0,-999.000
     33KB179_1,  PRS2,     2, 14,     20,   8020,2,20060310,2128, 22.8247,-158.0450, 4724,     16,     16.7,  23.2138,  35.1338,2,  35.1323,2,    212.7,1, 23.2104,   -999.0,9,  -999.00,9,  -999.00,9,  -999.00,9,  -999.0,-999.000
     33KB179_1,  PRS2,     2, 14,     19,   8019,2,20060310,2128, 22.8247,-158.0450, 4724,     23,     24.5,  23.2005,  35.1371,2,  35.1362,2,    212.9,1, 23.1954,   -999.0,9,  -999.00,9,  -999.00,9,  -999.00,9,  -999.0,-999.000
     33KB179_1,  PRS2,     2, 14,     18,   8018,2,20060310,2128, 22.8247,-158.0450, 4724,     33,     34.9,  23.1889,  35.1397,2,  35.1390,2,    212.7,1, 23.1817,   -999.0,9,  -999.00,9,  -999.00,9,  -999.00,9,  -999.0,-999.000
     33KB179_1,  PRS2,     2, 14,     17,   8017,2,20060310,2128, 22.8247,-158.0450, 4724,     45,     46.5,  23.1816,  35.1417,2,  35.1415,2,    212.9,1, 23.1721,   -999.0,9,  -999.00,9,  -999.00,9,  -999.00,9,  -999.0,-999.000
     33KB179_1,  PRS2,     2, 14,     16,   8016,2,20060310,2128, 22.8247,-158.0450, 4724,     58,     58.5,  23.1788,  35.1424,2,  35.1437,2,    213.0,1, 23.1668,   -999.0,9,  -999.00,9,  -999.00,9,  -999.00,9,  -999.0,-999.000
     33KB179_1,  PRS2,     2, 14,     15,   8015,2,20060310,2128, 22.8247,-158.0450, 4724,     68,     68.3,  23.1768,  35.1426,2,  35.1482,2,    213.0,1, 23.1628,   -999.0,9,  -999.00,9,  -999.00,9,  -999.00,9,  -999.0,-999.000
     33KB179_1,  PRS2,     2, 14,     14,   8014,2,20060310,2128, 22.8247,-158.0450, 4724,     75,     75.1,  22.8639,  35.1602,2,  35.1587,2,    213.4,1, 22.8487,   -999.0,9,  -999.00,9,  -999.00,9,  -999.00,9,  -999.0,-999.000
     33KB179_1,  PRS2,     2, 14,     13,   8025,2,20060310,2128, 22.8247,-158.0450, 4724,     83,     83.8,  22.7228,  35.1748,2,  35.1723,2,    213.9,1, 22.7059,   -999.0,9,  -999.00,9,  -999.00,9,  -999.00,9,  -999.0,-999.000
     33KB179_1,  PRS2,     2, 14,     12,   8012,2,20060310,2128, 22.8247,-158.0450, 4724,     93,     93.5,  22.7003,  35.1741,2,  35.1723,2,    214.0,1, 22.6814,   -999.0,9,  -999.00,9,  -999.00,9,  -999.00,9,  -999.0,-999.000
     33KB179_1,  PRS2,     2, 14,     11,   8011,2,20060310,2128, 22.8247,-158.0450, 4724,    100,    100.9,  22.6943,  35.1741,2,  35.1738,2,    213.9,1, 22.6739,   -999.0,9,  -999.00,9,  -999.00,9,  -999.00,9,  -999.0,-999.000
     33KB179_1,  PRS2,     2, 14,     10,   8010,2,20060310,2128, 22.8247,-158.0450, 4724,    112,    113.3,  22.6870,  35.1931,2,  35.1979,2,    212.6,1, 22.6641,   -999.0,9,  -999.00,9,  -999.00,9,  -999.00,9,  -999.0,-999.000
     33KB179_1,  PRS2,     2, 14,      9,   8009,2,20060310,2128, 22.8247,-158.0450, 4724,    118,    118.4,  22.7578,  35.2539,2,  35.2546,2,    208.1,1, 22.7337,   -999.0,9,  -999.00,9,  -999.00,9,  -999.00,9,  -999.0,-999.000
     33KB179_1,  PRS2,     2, 14,      8,   8008,2,20060310,2128, 22.8247,-158.0450, 4724,    124,    125.6,  22.6727,  35.2862,2,  35.2885,2,    206.2,1, 22.6473,   -999.0,9,  -999.00,9,  -999.00,9,  -999.00,9,  -999.0,-999.000
     33KB179_1,  PRS2,     2, 14,      7,   8026,2,20060310,2128, 22.8247,-158.0450, 4724,    136,    136.3,  22.3175,  35.2551,2,  35.2686,2,    204.3,1, 22.2902,   -999.0,9,  -999.00,9,  -999.00,9,  -999.00,9,  -999.0,-999.000
     33KB179_1,  PRS2,     2, 14,      6,   8006,2,20060310,2128, 22.8247,-158.0450, 4724,    150,    149.5,  21.9697,  35.2662,2,  35.2680,2,    202.2,1, 21.9401,   -999.0,9,  -999.00,9,  -999.00,9,  -999.00,9,  -999.0,-999.000
     33KB179_1,  PRS2,     2, 14,      5,   8005,2,20060310,2128, 22.8247,-158.0450, 4724,    164,    163.9,  21.4032,  35.1943,2,  35.1973,2,    198.8,1, 21.3714,   -999.0,9,  -999.00,9,  -999.00,9,  -999.00,9,  -999.0,-999.000
     33KB179_1,  PRS2,     2, 14,      4,   8004,2,20060310,2128, 22.8247,-158.0450, 4724,    174,    175.3,  20.8090,  35.1144,2,  35.1217,2,    194.5,1, 20.7757,   -999.0,9,  -999.00,9,  -999.00,9,  -999.00,9,  -999.0,-999.000
     33KB179_1,  PRS2,     2, 14,      3,   8003,2,20060310,2128, 22.8247,-158.0450, 4724,    200,    202.1,  19.4426,  34.9534,2,  34.9646,2,    193.0,1, 19.4060,   -999.0,9,  -999.00,9,  -999.00,9,  -999.00,9,  -999.0,-999.000
     33KB179_1,  PRS2,     2, 14,      2,   8002,2,20060310,2128, 22.8247,-158.0450, 4724,    550,    550.2,   6.4938,  34.0443,2,  34.0452,2,    104.9,1,  6.4439,   -999.0,9,  -999.00,9,  -999.00,9,  -999.00,9,  -999.0,-999.000
     33KB179_1,  PRS2,     2, 14,      1,   8001,2,20060310,2128, 22.8247,-158.0450, 4724,   1022,   1022.4,   4.0331,  34.4744,2,  34.4756,2,     40.7,1,  3.9554,   -999.0,9,  -999.00,9,  -999.00,9,  -999.00,9,  -999.0,-999.000
     33KB179_1,  PRS2,     2, 15,     19,   8019,2,20060311,0026, 22.8258,-158.0327, 4722,      5,      6.1,  23.3173,  35.1061,2,  35.1069,2,    212.5,1, 23.3160,   -999.0,9,  -999.00,9,  -999.00,9,  -999.00,9,  -999.0,-999.000
     33KB179_1,  PRS2,     2, 15,     20,   8020,2,20060311,0026, 22.8258,-158.0327, 4722,      7,      7.3,  23.3178,  35.1061,2,  35.1055,2,    212.5,1, 23.3163,   -999.0,9,  -999.00,9,  -999.00,9,  -999.00,9,  -999.0,-999.000
     33KB179_1,  PRS2,     2, 15,     17,   8017,2,20060311,0026, 22.8258,-158.0327, 4722,     27,     26.2,  23.3217,  35.1068,2,-999.0000,5,    212.5,1, 23.3164,   -999.0,9,  -999.00,9,  -999.00,9,  -999.00,9,  -999.0,-999.000
     33KB179_1,  PRS2,     2, 15,     18,   8018,2,20060311,0026, 22.8258,-158.0327, 4722,     27,     26.5,  23.3240,  35.1062,2,  35.1114,2,    212.5,1, 23.3185,   -999.0,9,  -999.00,9,  -999.00,9,  -999.00,9,  -999.0,-999.000
     33KB179_1,  PRS2,     2, 15,     16,   8016,2,20060311,0026, 22.8258,-158.0327, 4722,     49,     45.9,  23.2400,  35.1268,2,  35.1224,2,    212.9,1, 23.2306,   -999.0,9,  -999.00,9,  -999.00,9,  -999.00,9,  -999.0,-999.000
     33KB179_1,  PRS2,     2, 15,     15,   8015,2,20060311,0026, 22.8258,-158.0327, 4722,     76,     75.2,  22.8747,  35.1483,2,  35.1484,2,    213.1,1, 22.8594,   -999.0,9,  -999.00,9,  -999.00,9,  -999.00,9,  -999.0,-999.000
     33KB179_1,  PRS2,     2, 15,     14,   8014,2,20060311,0026, 22.8258,-158.0327, 4722,    101,    101.4,  22.7346,  35.1771,2,  35.1760,2,    213.9,1, 22.7141,   -999.0,9,  -999.00,9,  -999.00,9,  -999.00,9,  -999.0,-999.000
     33KB179_1,  PRS2,     2, 15,     13,   8025,2,20060311,0026, 22.8258,-158.0327, 4722,    101,    101.4,  22.7348,  35.1771,2,  35.1813,2,    213.9,1, 22.7142,   -999.0,9,  -999.00,9,  -999.00,9,  -999.00,9,  -999.0,-999.000
     33KB179_1,  PRS2,     2, 15,      4,   8004,2,20060311,0026, 22.8258,-158.0327, 4722,    124,    122.9,  22.6778,  35.2430,2,  35.2471,2,    208.6,1, 22.6529,   -999.0,9,  -999.00,9,  -999.00,9,  -999.00,9,  -999.0,-999.000
     33KB179_1,  PRS2,     2, 15,      6,   8006,2,20060311,0026, 22.8258,-158.0327, 4722,    122,    123.2,  22.6731,  35.2457,2,  35.2396,2,    209.0,1, 22.6482,   -999.0,9,  -999.00,9,  -999.00,9,  -999.00,9,  -999.0,-999.000
     33KB179_1,  PRS2,     2, 15,      5,   8005,2,20060311,0026, 22.8258,-158.0327, 4722,    122,    123.2,  22.6765,  35.2441,2,  35.2402,2,    208.8,1, 22.6515,   -999.0,9,  -999.00,9,  -999.00,9,  -999.00,9,  -999.0,-999.000
     33KB179_1,  PRS2,     2, 15,      3,   8003,2,20060311,0026, 22.8258,-158.0327, 4722,    121,    123.5,  22.6757,  35.2451,2,  35.2446,2,    208.5,1, 22.6507,   -999.0,9,  -999.00,9,  -999.00,9,  -999.00,9,  -999.0,-999.000
     33KB179_1,  PRS2,     2, 15,     11,   8011,2,20060311,0026, 22.8258,-158.0327, 4722,    123,    123.6,  22.6783,  35.2586,2,  35.2528,2,    209.6,1, 22.6533,   -999.0,9,  -999.00,9,  -999.00,9,  -999.00,9,  -999.0,-999.000
     33KB179_1,  PRS2,     2, 15,      7,   8026,2,20060311,0026, 22.8258,-158.0327, 4722,    124,    123.6,  22.6731,  35.2473,2,  35.2418,2,    209.1,1, 22.6481,   -999.0,9,  -999.00,9,  -999.00,9,  -999.00,9,  -999.0,-999.000
     33KB179_1,  PRS2,     2, 15,      8,   8008,2,20060311,0026, 22.8258,-158.0327, 4722,    124,    123.7,  22.6741,  35.2493,2,  35.2404,2,    209.2,1, 22.6490,   -999.0,9,  -999.00,9,  -999.00,9,  -999.00,9,  -999.0,-999.000
     33KB179_1,  PRS2,     2, 15,     12,   8012,2,20060311,0026, 22.8258,-158.0327, 4722,    123,    123.8,  22.6791,  35.2620,2,  35.2554,2,    209.7,1, 22.6541,   -999.0,9,  -999.00,9,  -999.00,9,  -999.00,9,  -999.0,-999.000
     33KB179_1,  PRS2,     2, 15,     10,   8010,2,20060311,0026, 22.8258,-158.0327, 4722,    124,    123.8,  22.6773,  35.2578,2,  35.2440,2,    209.5,1, 22.6523,   -999.0,9,  -999.00,9,  -999.00,9,  -999.00,9,  -999.0,-999.000
     33KB179_1,  PRS2,     2, 15,      9,   8009,2,20060311,0026, 22.8258,-158.0327, 4722,    124,    123.9,  22.6773,  35.2585,2,  35.2467,2,    209.3,1, 22.6523,   -999.0,9,  -999.00,9,  -999.00,9,  -999.00,9,  -999.0,-999.000
     33KB179_1,  PRS2,     2, 15,      2,   8002,2,20060311,0026, 22.8258,-158.0327, 4722,    525,    525.2,   6.6045,  34.0417,2,  34.0421,2,    111.7,1,  6.5565,   -999.0,9,  -999.00,9,  -999.00,9,  -999.00,9,  -999.0,-999.000
     33KB179_1,  PRS2,     2, 15,      1,   8001,2,20060311,0026, 22.8258,-158.0327, 4722,   1020,   1020.3,   3.8204,  34.4818,2,  34.4805,2,     42.7,1,  3.7445,   -999.0,9,  -999.00,9,  -999.00,9,  -999.00,9,  -999.0,-999.000
     33KB179_1,  PRS2,     2, 16,     22,   8022,2,20060311,0311, 22.8400,-158.0392, 4717,      6,      7.1,  23.3408,  35.0966,2,  35.0945,2,    211.9,1, 23.3393,   -999.0,9,  -999.00,9,  -999.00,9,  -999.00,9,  -999.0,-999.000
     33KB179_1,  PRS2,     2, 16,     21,   8021,2,20060311,0311, 22.8400,-158.0392, 4717,     24,     25.1,  23.3485,  35.0962,2,  35.0992,2,    212.1,1, 23.3433,   -999.0,9,  -999.00,9,  -999.00,9,  -999.00,9,  -999.0,-999.000
     33KB179_1,  PRS2,     2, 16,     19,   8019,2,20060311,0311, 22.8400,-158.0392, 4717,     32,     31.7,  23.3479,  35.0962,2,-999.0000,5,    212.1,1, 23.3414,   -999.0,9,  -999.00,9,  -999.00,9,  -999.00,9,  -999.0,-999.000
     33KB179_1,  PRS2,     2, 16,     18,   8018,2,20060311,0311, 22.8400,-158.0392, 4717,     30,     31.9,  23.3476,  35.0961,2,-999.0000,5,    212.1,1, 23.3410,   -999.0,9,  -999.00,9,  -999.00,9,  -999.00,9,  -999.0,-999.000
     33KB179_1,  PRS2,     2, 16,     13,   8025,2,20060311,0311, 22.8400,-158.0392, 4717,     32,     31.9,  23.3481,  35.0962,2,-999.0000,5,    211.8,1, 23.3415,   -999.0,9,  -999.00,9,  -999.00,9,  -999.00,9,  -999.0,-999.000
     33KB179_1,  PRS2,     2, 16,     17,   8017,2,20060311,0311, 22.8400,-158.0392, 4717,     32,     32.0,  23.3478,  35.0961,2,-999.0000,5,    212.0,1, 23.3412,   -999.0,9,  -999.00,9,  -999.00,9,  -999.00,9,  -999.0,-999.000
     33KB179_1,  PRS2,     2, 16,     20,   8020,2,20060311,0311, 22.8400,-158.0392, 4717,     32,     32.1,  23.3491,  35.0963,2,-999.0000,5,    212.1,1, 23.3425,   -999.0,9,  -999.00,9,  -999.00,9,  -999.00,9,  -999.0,-999.000
     33KB179_1,  PRS2,     2, 16,     14,   8014,2,20060311,0311, 22.8400,-158.0392, 4717,     32,     32.2,  23.3499,  35.0958,2,-999.0000,5,    211.8,1, 23.3432,   -999.0,9,  -999.00,9,  -999.00,9,  -999.00,9,  -999.0,-999.000
     33KB179_1,  PRS2,     2, 16,     15,   8015,2,20060311,0311, 22.8400,-158.0392, 4717,     32,     32.3,  23.3505,  35.0959,2,-999.0000,5,    211.8,1, 23.3438,   -999.0,9,  -999.00,9,  -999.00,9,  -999.00,9,  -999.0,-999.000
     33KB179_1,  PRS2,     2, 16,     16,   8016,2,20060311,0311, 22.8400,-158.0392, 4717,     32,     32.4,  23.3504,  35.0958,2,-999.0000,5,    211.9,1, 23.3437,   -999.0,9,  -999.00,9,  -999.00,9,  -999.00,9,  -999.0,-999.000
     33KB179_1,  PRS2,     2, 16,     12,   8012,2,20060311,0311, 22.8400,-158.0392, 4717,     45,     44.2,  23.3458,  35.0969,2,  35.0984,2,    211.7,1, 23.3367,   -999.0,9,  -999.00,9,  -999.00,9,  -999.00,9,  -999.0,-999.000
     33KB179_1,  PRS2,     2, 16,     11,   8011,2,20060311,0311, 22.8400,-158.0392, 4717,     58,     58.0,  23.0887,  35.1633,2,  35.1549,2,    213.6,1, 23.0769,   -999.0,9,  -999.00,9,  -999.00,9,  -999.00,9,  -999.0,-999.000
     33KB179_1,  PRS2,     2, 16,     10,   8010,2,20060311,0311, 22.8400,-158.0392, 4717,     75,     74.8,  23.0701,  35.1910,2,  35.1900,2,    213.3,1, 23.0548,   -999.0,9,  -999.00,9,  -999.00,9,  -999.00,9,  -999.0,-999.000
     33KB179_1,  PRS2,     2, 16,      9,   8009,2,20060311,0311, 22.8400,-158.0392, 4717,     85,     85.2,  23.0628,  35.1912,2,  35.1898,2,    213.4,1, 23.0454,   -999.0,9,  -999.00,9,  -999.00,9,  -999.00,9,  -999.0,-999.000
     33KB179_1,  PRS2,     2, 16,      8,   8008,2,20060311,0311, 22.8400,-158.0392, 4717,     99,     99.8,  22.8073,  35.1523,2,  35.1514,2,    213.9,1, 22.7871,   -999.0,9,  -999.00,9,  -999.00,9,  -999.00,9,  -999.0,-999.000
     33KB179_1,  PRS2,     2, 16,      7,   8026,2,20060311,0311, 22.8400,-158.0392, 4717,    115,    114.8,  22.7500,  35.2056,2,  35.2008,2,    213.0,1, 22.7267,   -999.0,9,  -999.00,9,  -999.00,9,  -999.00,9,  -999.0,-999.000
     33KB179_1,  PRS2,     2, 16,      6,   8006,2,20060311,0311, 22.8400,-158.0392, 4717,    123,    122.2,  22.6615,  35.2212,2,  35.2255,2,    211.1,1, 22.6368,   -999.0,9,  -999.00,9,  -999.00,9,  -999.00,9,  -999.0,-999.000
     33KB179_1,  PRS2,     2, 16,      5,   8005,2,20060311,0311, 22.8400,-158.0392, 4717,    143,    143.6,  22.4413,  35.3105,2,  35.3120,2,    205.0,1, 22.4125,   -999.0,9,  -999.00,9,  -999.00,9,  -999.00,9,  -999.0,-999.000
     33KB179_1,  PRS2,     2, 16,      4,   8004,2,20060311,0311, 22.8400,-158.0392, 4717,    147,    146.9,  22.3282,  35.3041,2,  35.3060,2,    204.8,1, 22.2988,   -999.0,9,  -999.00,9,  -999.00,9,  -999.00,9,  -999.0,-999.000
     33KB179_1,  PRS2,     2, 16,      3,   8003,2,20060311,0311, 22.8400,-158.0392, 4717,    171,    170.7,  21.0586,  35.1609,2,  35.1668,2,    198.0,1, 21.0258,   -999.0,9,  -999.00,9,  -999.00,9,  -999.00,9,  -999.0,-999.000
     33KB179_1,  PRS2,     2, 16,      2,   8002,2,20060311,0311, 22.8400,-158.0392, 4717,    530,    529.6,   6.6284,  34.0424,2,  34.0468,2,    114.1,1,  6.5798,   -999.0,9,  -999.00,9,  -999.00,9,  -999.00,9,  -999.0,-999.000
     33KB179_1,  PRS2,     2, 16,      1,   8001,2,20060311,0311, 22.8400,-158.0392, 4717,   1020,   1021.3,   3.8276,  34.4949,2,  34.4932,2,     44.6,1,  3.7515,   -999.0,9,  -999.00,9,  -999.00,9,  -999.00,9,  -999.0,-999.000