BOTTLE,20090923WHPSIOMYS
EXPOCODE,SECT_ID,STNNBR,CASTNO,SAMPNO,BTLNBR,BTLNBR_FLAG_W,DATE,TIME,LATITUDE,LONGITUDE,DEPTH,CTDRAW,CTDPRS,CTDTMP,CTDSAL,CTDSAL_FLAG_W,SALNTY,SALNTY_FLAG_W,CTDOXY,CTDOXY_FLAG_W,THETA,OXYGEN,OXYGEN_FLAG_W,SILCAT,SILCAT_FLAG_W,NO2+NO3,NO2+NO3_FLAG_W,PHSPHT,PHSPHT_FLAG_W,REVPRS,REVTMP
,,,,,,,,,,,,,DBAR,ITS-90,PSS-78,,PSS-78,,UMOL/KG,,ITS-90,UMOL/KG,,UMOL/KG,,UMOL/KG,,UMOL/KG,,DBAR,DEG C
     33KB179_1,  PRS2,     2, 10,     21,   8021,2,20060310,0614, 22.7552,-157.9998, 4737,     10,     10.6,  23.4362,  35.0991,2,  35.0961,2,    212.2,1, 23.4341,   -999.0,9,  -999.00,9,  -999.00,9,  -999.00,9,  -999.0,-999.000
     33KB179_1,  PRS2,     2, 10,     22,   8022,2,20060310,0614, 22.7552,-157.9998, 4737,     11,     10.8,  23.4360,  35.0993,2,-999.0000,5,    212.2,1, 23.4338,   -999.0,9,  -999.00,9,  -999.00,9,  -999.00,9,  -999.0,-999.000
     33KB179_1,  PRS2,     2, 10,     20,   8020,2,20060310,0614, 22.7552,-157.9998, 4737,     27,     24.9,  23.4390,  35.0993,2,-999.0000,5,    212.2,1, 23.4339,   -999.0,9,  -999.00,9,  -999.00,9,  -999.00,9,  -999.0,-999.000
     33KB179_1,  PRS2,     2, 10,     19,   8019,2,20060310,0614, 22.7552,-157.9998, 4737,     24,     25.6,  23.4401,  35.0985,2,  35.0976,2,    212.1,1, 23.4348,   -999.0,9,  -999.00,9,  -999.00,9,  -999.00,9,  -999.0,-999.000
     33KB179_1,  PRS2,     2, 10,     17,   8017,2,20060310,0614, 22.7552,-157.9998, 4737,     47,     46.8,  23.1532,  35.1236,2,  35.1205,2,    213.7,1, 23.1436,   -999.0,9,  -999.00,9,  -999.00,9,  -999.00,9,  -999.0,-999.000
     33KB179_1,  PRS2,     2, 10,     18,   8018,2,20060310,0614, 22.7552,-157.9998, 4737,     47,     47.1,  23.1516,  35.1239,2,-999.0000,5,    213.7,1, 23.1419,   -999.0,9,  -999.00,9,  -999.00,9,  -999.00,9,  -999.0,-999.000
     33KB179_1,  PRS2,     2, 10,     16,   8016,2,20060310,0614, 22.7552,-157.9998, 4737,     63,     61.7,  22.9492,  35.1459,2,  35.1435,2,    213.6,1, 22.9367,   -999.0,9,  -999.00,9,  -999.00,9,  -999.00,9,  -999.0,-999.000
     33KB179_1,  PRS2,     2, 10,     15,   8015,2,20060310,0614, 22.7552,-157.9998, 4737,     75,     75.8,  22.7744,  35.1759,2,-999.0000,5,    214.0,1, 22.7590,   -999.0,9,  -999.00,9,  -999.00,9,  -999.00,9,  -999.0,-999.000
     33KB179_1,  PRS2,     2, 10,     14,   8014,2,20060310,0614, 22.7552,-157.9998, 4737,     75,     75.9,  22.8037,  35.1739,2,  35.1681,2,    214.1,1, 22.7883,   -999.0,9,  -999.00,9,  -999.00,9,  -999.00,9,  -999.0,-999.000
     33KB179_1,  PRS2,     2, 10,     13,   8025,2,20060310,0614, 22.7552,-157.9998, 4737,     86,     86.0,  22.7670,  35.1961,2,  35.1930,2,    214.5,1, 22.7495,   -999.0,9,  -999.00,9,  -999.00,9,  -999.00,9,  -999.0,-999.000
     33KB179_1,  PRS2,     2, 10,     11,   8011,2,20060310,0614, 22.7552,-157.9998, 4737,    103,    102.4,  22.7337,  35.2233,2,  35.2211,2,    213.9,1, 22.7130,   -999.0,9,  -999.00,9,  -999.00,9,  -999.00,9,  -999.0,-999.000
     33KB179_1,  PRS2,     2, 10,     12,   8012,2,20060310,0614, 22.7552,-157.9998, 4737,    103,    102.8,  22.7202,  35.2210,2,-999.0000,5,    213.9,1, 22.6994,   -999.0,9,  -999.00,9,  -999.00,9,  -999.00,9,  -999.0,-999.000
     33KB179_1,  PRS2,     2, 10,     10,   8010,2,20060310,0614, 22.7552,-157.9998, 4737,    117,    115.8,  22.5888,  35.2199,2,  35.2166,2,    213.5,1, 22.5654,   -999.0,9,  -999.00,9,  -999.00,9,  -999.00,9,  -999.0,-999.000
     33KB179_1,  PRS2,     2, 10,      8,   8008,2,20060310,0614, 22.7552,-157.9998, 4737,    125,    124.7,  22.4901,  35.2633,2,  35.2603,2,    210.9,1, 22.4650,   -999.0,9,  -999.00,9,  -999.00,9,  -999.00,9,  -999.0,-999.000
     33KB179_1,  PRS2,     2, 10,      9,   8009,2,20060310,0614, 22.7552,-157.9998, 4737,    124,    125.2,  22.4808,  35.2643,2,-999.0000,5,    211.1,1, 22.4556,   -999.0,9,  -999.00,9,  -999.00,9,  -999.00,9,  -999.0,-999.000
     33KB179_1,  PRS2,     2, 10,      7,   8026,2,20060310,0614, 22.7552,-157.9998, 4737,    138,    136.7,  21.9707,  35.2446,2,  35.2455,2,    205.8,1, 21.9437,   -999.0,9,  -999.00,9,  -999.00,9,  -999.00,9,  -999.0,-999.000
     33KB179_1,  PRS2,     2, 10,      5,   8005,2,20060310,0614, 22.7552,-157.9998, 4737,    152,    151.9,  21.2915,  35.1822,2,  35.1882,2,    201.2,1, 21.2621,   -999.0,9,  -999.00,9,  -999.00,9,  -999.00,9,  -999.0,-999.000
     33KB179_1,  PRS2,     2, 10,      6,   8006,2,20060310,0614, 22.7552,-157.9998, 4737,    152,    152.0,  21.2846,  35.1803,2,-999.0000,5,    201.4,1, 21.2552,   -999.0,9,  -999.00,9,  -999.00,9,  -999.00,9,  -999.0,-999.000
     33KB179_1,  PRS2,     2, 10,      3,   8003,2,20060310,0614, 22.7552,-157.9998, 4737,    171,    172.2,  20.0474,  35.0314,2,  35.0321,2,    195.2,1, 20.0155,   -999.0,9,  -999.00,9,  -999.00,9,  -999.00,9,  -999.0,-999.000
     33KB179_1,  PRS2,     2, 10,      4,   8004,2,20060310,0614, 22.7552,-157.9998, 4737,    172,    172.4,  20.0444,  35.0311,2,-999.0000,5,    195.2,1, 20.0124,   -999.0,9,  -999.00,9,  -999.00,9,  -999.00,9,  -999.0,-999.000
     33KB179_1,  PRS2,     2, 10,      2,   8002,2,20060310,0614, 22.7552,-157.9998, 4737,    539,    539.3,   6.6179,  34.0456,2,  34.0449,2,    110.5,1,  6.5685,   -999.0,9,  -999.00,9,  -999.00,9,  -999.00,9,  -999.0,-999.000
     33KB179_1,  PRS2,     2, 10,      1,   8001,2,20060310,0614, 22.7552,-157.9998, 4737,   1021,   1020.2,   3.8243,  34.4810,2,  34.4834,2,     42.9,1,  3.7484,   -999.0,9,  -999.00,9,  -999.00,9,  -999.00,9,  -999.0,-999.000
     33KB179_1,  PRS2,     2, 11,     22,   8022,2,20060310,0901, 22.7517,-157.9965, 4742,      9,      7.5,  23.2676,  35.1224,2,  35.1197,2,    212.7,2, 23.2660,    212.8,2,  -999.00,9,  -999.00,9,  -999.00,9,  -999.0,-999.000
     33KB179_1,  PRS2,     2, 11,     23,   8023,2,20060310,0901, 22.7517,-157.9965, 4742,      9,      7.7,  23.2680,  35.1233,2,  35.1260,2,    212.7,2, 23.2664,   -999.0,5,  -999.00,9,  -999.00,9,  -999.00,9,  -999.0,-999.000
     33KB179_1,  PRS2,     2, 11,     21,   8021,2,20060310,0901, 22.7517,-157.9965, 4742,     14,     15.1,  23.2640,  35.1236,2,  35.1226,2,    212.7,2, 23.2609,    167.5,4,  -999.00,9,  -999.00,9,  -999.00,9,  -999.0,-999.000
     33KB179_1,  PRS2,     2, 11,     19,   8019,2,20060310,0901, 22.7517,-157.9965, 4742,     25,     24.3,  23.2725,  35.1229,2,  35.1254,2,    212.8,2, 23.2675,    212.0,2,  -999.00,9,  -999.00,9,  -999.00,9,  -999.0,-999.000
     33KB179_1,  PRS2,     2, 11,     20,   8020,2,20060310,0901, 22.7517,-157.9965, 4742,     24,     24.7,  23.2740,  35.1223,2,  35.1205,2,    212.7,2, 23.2689,    212.0,2,  -999.00,9,  -999.00,9,  -999.00,9,  -999.0,-999.000
     33KB179_1,  PRS2,     2, 11,     18,   8018,2,20060310,0901, 22.7517,-157.9965, 4742,     35,     36.4,  23.2787,  35.1234,2,  35.1209,2,    212.8,2, 23.2713,    201.4,4,  -999.00,9,  -999.00,9,  -999.00,9,  -999.0,-999.000
     33KB179_1,  PRS2,     2, 11,     17,   8017,2,20060310,0901, 22.7517,-157.9965, 4742,     46,     46.4,  23.2776,  35.1248,2,  35.1337,2,    212.8,2, 23.2681,    212.2,2,  -999.00,9,  -999.00,9,  -999.00,9,  -999.0,-999.000
     33KB179_1,  PRS2,     2, 11,     16,   8016,2,20060310,0901, 22.7517,-157.9965, 4742,     62,     60.2,  23.2785,  35.1248,2,  35.1254,2,    212.8,2, 23.2661,    212.9,2,  -999.00,9,  -999.00,9,  -999.00,9,  -999.0,-999.000
     33KB179_1,  PRS2,     2, 11,     15,   8015,2,20060310,0901, 22.7517,-157.9965, 4742,     75,     75.2,  23.2320,  35.1317,2,  35.1307,2,    212.9,2, 23.2166,    179.7,4,  -999.00,9,  -999.00,9,  -999.00,9,  -999.0,-999.000
     33KB179_1,  PRS2,     2, 11,     14,   8014,2,20060310,0901, 22.7517,-157.9965, 4742,     87,     85.7,  22.8269,  35.1788,2,  35.1758,2,    213.8,2, 22.8095,    213.7,2,  -999.00,9,  -999.00,9,  -999.00,9,  -999.0,-999.000
     33KB179_1,  PRS2,     2, 11,     13,   8025,2,20060310,0901, 22.7517,-157.9965, 4742,     90,     90.2,  22.8152,  35.1818,2,  35.1800,2,    213.6,2, 22.7969,    213.8,2,  -999.00,9,  -999.00,9,  -999.00,9,  -999.0,-999.000
     33KB179_1,  PRS2,     2, 11,     12,   8012,2,20060310,0901, 22.7517,-157.9965, 4742,    102,    101.5,  22.7693,  35.1822,2,  35.1837,2,    213.3,2, 22.7487,    213.3,2,  -999.00,9,  -999.00,9,  -999.00,9,  -999.0,-999.000
     33KB179_1,  PRS2,     2, 11,     11,   8011,2,20060310,0901, 22.7517,-157.9965, 4742,    108,    109.5,  22.7344,  35.2012,2,  35.1987,2,    212.8,2, 22.7122,    213.0,2,  -999.00,9,  -999.00,9,  -999.00,9,  -999.0,-999.000
     33KB179_1,  PRS2,     2, 11,     10,   8010,2,20060310,0901, 22.7517,-157.9965, 4742,    116,    115.4,  22.6993,  35.1952,2,  35.2004,2,    213.2,2, 22.6760,    213.0,2,  -999.00,9,  -999.00,9,  -999.00,9,  -999.0,-999.000
     33KB179_1,  PRS2,     2, 11,      9,   8009,2,20060310,0901, 22.7517,-157.9965, 4742,    123,    124.2,  22.5868,  35.2170,2,  35.2178,2,    212.8,2, 22.5617,    213.4,2,  -999.00,9,  -999.00,9,  -999.00,9,  -999.0,-999.000
     33KB179_1,  PRS2,     2, 11,      8,   8008,2,20060310,0901, 22.7517,-157.9965, 4742,    129,    129.4,  22.5811,  35.2189,2,  35.2174,2,    212.8,2, 22.5550,    209.8,3,  -999.00,9,  -999.00,9,  -999.00,9,  -999.0,-999.000
     33KB179_1,  PRS2,     2, 11,      7,   8026,2,20060310,0901, 22.7517,-157.9965, 4742,    147,    148.6,  22.3020,  35.2629,2,  35.2627,2,    209.1,2, 22.2723,    208.9,2,  -999.00,9,  -999.00,9,  -999.00,9,  -999.0,-999.000
     33KB179_1,  PRS2,     2, 11,      6,   8006,2,20060310,0901, 22.7517,-157.9965, 4742,    167,    166.2,  21.4031,  35.1911,2,  35.2004,2,    200.6,2, 21.3708,    201.5,2,  -999.00,9,  -999.00,9,  -999.00,9,  -999.0,-999.000
     33KB179_1,  PRS2,     2, 11,      5,   8005,2,20060310,0901, 22.7517,-157.9965, 4742,    175,    174.9,  20.5920,  35.0962,2,  35.0965,2,    197.7,2, 20.5590,    196.3,2,  -999.00,9,  -999.00,9,  -999.00,9,  -999.0,-999.000
     33KB179_1,  PRS2,     2, 11,      4,   8004,2,20060310,0901, 22.7517,-157.9965, 4742,    200,    199.8,  19.1793,  34.9385,2,  34.9394,2,    196.1,2, 19.1435,    197.2,2,  -999.00,9,  -999.00,9,  -999.00,9,  -999.0,-999.000
     33KB179_1,  PRS2,     2, 11,      3,   8003,2,20060310,0901, 22.7517,-157.9965, 4742,    526,    523.5,   6.7470,  34.0461,2,  34.0464,2,    114.1,2,  6.6985,    113.8,2,  -999.00,9,  -999.00,9,  -999.00,9,  -999.0,-999.000
     33KB179_1,  PRS2,     2, 11,      2,   8002,2,20060310,0901, 22.7517,-157.9965, 4742,    819,    820.0,   4.3816,  34.3260,2,  34.3239,2,     26.4,2,  4.3185,     26.0,2,  -999.00,9,  -999.00,9,  -999.00,9,  -999.0,-999.000
     33KB179_1,  PRS2,     2, 11,      1,   8001,2,20060310,0901, 22.7517,-157.9965, 4742,   1022,   1021.0,   3.9780,  34.4754,2,  34.4799,2,     40.9,2,  3.9008,     40.9,2,  -999.00,9,  -999.00,9,  -999.00,9,  -999.0,-999.000
     33KB179_1,  PRS2,     2, 12,     20,   8020,2,20060310,1211, 22.7498,-157.9927, 4738,      7,      5.4,  23.1966,  35.1376,2,-999.0000,5,    213.0,1, 23.1955,   -999.0,9,  -999.00,9,  -999.00,9,  -999.00,9,  -999.0,-999.000
     33KB179_1,  PRS2,     2, 12,     22,   8022,2,20060310,1211, 22.7498,-157.9927, 4738,      5,      5.5,  23.1958,  35.1378,2,-999.0000,5,    212.7,1, 23.1947,   -999.0,9,  -999.00,9,  -999.00,9,  -999.00,9,  -999.0,-999.000
     33KB179_1,  PRS2,     2, 12,     21,   8021,2,20060310,1211, 22.7498,-157.9927, 4738,      5,      5.7,  23.1960,  35.1378,2,  35.1352,2,    212.9,1, 23.1949,   -999.0,9,  -999.00,9,  -999.00,9,  -999.00,9,  -999.0,-999.000
     33KB179_1,  PRS2,     2, 12,     18,   8018,2,20060310,1211, 22.7498,-157.9927, 4738,     23,     24.5,  23.1974,  35.1378,2,  35.1362,2,    213.2,1, 23.1924,   -999.0,9,  -999.00,9,  -999.00,9,  -999.00,9,  -999.0,-999.000
     33KB179_1,  PRS2,     2, 12,     17,   8017,2,20060310,1211, 22.7498,-157.9927, 4738,     23,     24.5,  23.1971,  35.1377,2,-999.0000,5,    213.3,1, 23.1920,   -999.0,9,  -999.00,9,  -999.00,9,  -999.00,9,  -999.0,-999.000
     33KB179_1,  PRS2,     2, 12,     19,   8019,2,20060310,1211, 22.7498,-157.9927, 4738,     25,     25.0,  23.1983,  35.1375,2,-999.0000,5,    213.2,1, 23.1932,   -999.0,9,  -999.00,9,  -999.00,9,  -999.00,9,  -999.0,-999.000
     33KB179_1,  PRS2,     2, 12,     14,   8014,2,20060310,1211, 22.7498,-157.9927, 4738,     46,     46.2,  23.2085,  35.1366,2,-999.0000,5,    213.3,1, 23.1990,   -999.0,9,  -999.00,9,  -999.00,9,  -999.00,9,  -999.0,-999.000
     33KB179_1,  PRS2,     2, 12,     15,   8015,2,20060310,1211, 22.7498,-157.9927, 4738,     46,     46.3,  23.2087,  35.1365,2,  35.1350,2,    213.3,1, 23.1991,   -999.0,9,  -999.00,9,  -999.00,9,  -999.00,9,  -999.0,-999.000
     33KB179_1,  PRS2,     2, 12,     16,   8016,2,20060310,1211, 22.7498,-157.9927, 4738,     47,     46.5,  23.2085,  35.1365,2,-999.0000,5,    213.2,1, 23.1990,   -999.0,9,  -999.00,9,  -999.00,9,  -999.00,9,  -999.0,-999.000
     33KB179_1,  PRS2,     2, 12,     12,   8012,2,20060310,1211, 22.7498,-157.9927, 4738,     76,     75.5,  23.2133,  35.1361,2,  35.1439,2,    213.4,1, 23.1978,   -999.0,9,  -999.00,9,  -999.00,9,  -999.00,9,  -999.0,-999.000
     33KB179_1,  PRS2,     2, 12,     11,   8011,2,20060310,1211, 22.7498,-157.9927, 4738,     74,     75.5,  23.2131,  35.1361,2,-999.0000,5,    213.3,1, 23.1976,   -999.0,9,  -999.00,9,  -999.00,9,  -999.00,9,  -999.0,-999.000
     33KB179_1,  PRS2,     2, 12,     13,   8025,2,20060310,1211, 22.7498,-157.9927, 4738,     76,     76.0,  23.2135,  35.1360,2,-999.0000,5,    213.4,1, 23.1979,   -999.0,9,  -999.00,9,  -999.00,9,  -999.00,9,  -999.0,-999.000
     33KB179_1,  PRS2,     2, 12,      8,   8008,2,20060310,1211, 22.7498,-157.9927, 4738,    100,     99.7,  22.7070,  35.1853,2,-999.0000,5,    213.6,1, 22.6868,   -999.0,9,  -999.00,9,  -999.00,9,  -999.00,9,  -999.0,-999.000
     33KB179_1,  PRS2,     2, 12,      9,   8009,2,20060310,1211, 22.7498,-157.9927, 4738,     99,    100.0,  22.7058,  35.1859,2,  35.1870,2,    213.6,1, 22.6856,   -999.0,9,  -999.00,9,  -999.00,9,  -999.00,9,  -999.0,-999.000
     33KB179_1,  PRS2,     2, 12,     10,   8010,2,20060310,1211, 22.7498,-157.9927, 4738,    101,    100.4,  22.7042,  35.1859,2,-999.0000,5,    213.6,1, 22.6839,   -999.0,9,  -999.00,9,  -999.00,9,  -999.00,9,  -999.0,-999.000
     33KB179_1,  PRS2,     2, 12,      6,   8006,2,20060310,1211, 22.7498,-157.9927, 4738,    123,    123.1,  22.5674,  35.2081,2,  35.2083,2,    213.1,1, 22.5425,   -999.0,9,  -999.00,9,  -999.00,9,  -999.00,9,  -999.0,-999.000
     33KB179_1,  PRS2,     2, 12,      5,   8005,2,20060310,1211, 22.7498,-157.9927, 4738,    120,    123.1,  22.5676,  35.2083,2,-999.0000,5,    213.0,1, 22.5428,   -999.0,9,  -999.00,9,  -999.00,9,  -999.00,9,  -999.0,-999.000
     33KB179_1,  PRS2,     2, 12,      7,   8026,2,20060310,1211, 22.7498,-157.9927, 4738,    124,    123.9,  22.5674,  35.2083,2,-999.0000,5,    213.1,1, 22.5424,   -999.0,9,  -999.00,9,  -999.00,9,  -999.00,9,  -999.0,-999.000
     33KB179_1,  PRS2,     2, 12,      4,   8004,2,20060310,1211, 22.7498,-157.9927, 4738,    150,    150.0,  22.1426,  35.2644,2,  35.2686,2,    206.4,1, 22.1128,   -999.0,9,  -999.00,9,  -999.00,9,  -999.00,9,  -999.0,-999.000
     33KB179_1,  PRS2,     2, 12,      3,   8003,2,20060310,1211, 22.7498,-157.9927, 4738,    173,    173.6,  20.2446,  35.0476,2,  35.0518,2,    192.4,1, 20.2123,   -999.0,9,  -999.00,9,  -999.00,9,  -999.00,9,  -999.0,-999.000
     33KB179_1,  PRS2,     2, 12,      2,   8002,2,20060310,1211, 22.7498,-157.9927, 4738,    541,    540.0,   6.7612,  34.0450,2,  34.0454,2,    113.3,1,  6.7111,   -999.0,9,  -999.00,9,  -999.00,9,  -999.00,9,  -999.0,-999.000
     33KB179_1,  PRS2,     2, 12,      1,   8001,2,20060310,1211, 22.7498,-157.9927, 4738,   1023,   1022.7,   3.8442,  34.4873,2,  34.4883,2,     43.8,1,  3.7679,   -999.0,9,  -999.00,9,  -999.00,9,  -999.00,9,  -999.0,-999.000