BOTTLE,20090730WHPSIOSCD
EXPOCODE,SECT_ID,STNNBR,CASTNO,SAMPNO,BTLNBR,BTLNBR_FLAG_W,DATE,TIME,LATITUDE,LONGITUDE,DEPTH,CTDRAW,CTDPRS,CTDTMP,CTDSAL,CTDSAL_FLAG_W,SALNTY,SALNTY_FLAG_W,CTDOXY,CTDOXY_FLAG_W,THETA,OXYGEN,OXYGEN_FLAG_W,SILCAT,SILCAT_FLAG_W,NO2+NO3,NO2+NO3_FLAG_W,PHSPHT,PHSPHT_FLAG_W,REVPRS,REVTMP
,,,,,,,,,,,,,DBAR,IPTS-68,PSS-78,,PSS-78,,UMOL/KG,,IPTS-68,UMOL/KG,,UMOL/KG,,UMOL/KG,,UMOL/KG,,DBAR,DEG C
  32MW19881029,  PRS2,     2, 13,      5,      5,2,19881101,2036, 22.7367,-157.9967, 4700,     13,      7.7,  26.2769,  35.6976,4,-999.0000,9,    200.0,1, 26.2752,   -999.0,9,  -999.00,9,  -999.00,9,  -999.00,9,  -999.0,-999.000
  32MW19881029,  PRS2,     2, 13,      4,      4,2,19881101,2036, 22.7367,-157.9967, 4700,     30,     24.4,  26.2496,  35.4150,4,-999.0000,9,    200.7,1, 26.2441,   -999.0,9,  -999.00,9,  -999.00,9,  -999.00,9,  -999.0,-999.000
  32MW19881029,  PRS2,     2, 13,      3,      3,2,19881101,2036, 22.7367,-157.9967, 4700,     48,     44.2,  26.2553,  35.2570,4,-999.0000,9,    201.4,1, 26.2454,   -999.0,9,  -999.00,9,  -999.00,9,  -999.00,9,  -999.0,-999.000
  32MW19881029,  PRS2,     2, 13,      2,      2,2,19881101,2036, 22.7367,-157.9967, 4700,     72,     69.4,  26.0637,  35.1934,4,-999.0000,9,    202.2,1, 26.0482,   -999.0,9,  -999.00,9,  -999.00,9,  -999.00,9,  -999.0,-999.000
  32MW19881029,  PRS2,     2, 13,     11,     11,2,19881101,2036, 22.7367,-157.9967, 4700,    308,    310.8,  11.8487,  34.1372,4,-999.0000,9,    190.3,1, 11.8086,   -999.0,9,  -999.00,9,  -999.00,9,  -999.00,9,  -999.0,-999.000
  32MW19881029,  PRS2,     2, 13,     10,     10,2,19881101,2036, 22.7367,-157.9967, 4700,    505,    508.6,   6.4325,  34.0444,4,-999.0000,9,    157.1,1,  6.3868,   -999.0,9,  -999.00,9,  -999.00,9,  -999.00,9,  -999.0,-999.000
  32MW19881029,  PRS2,     2, 13,      9,      9,2,19881101,2036, 22.7367,-157.9967, 4700,    752,    755.8,   4.6505,  34.7524,4,-999.0000,9,     32.7,1,  4.5906,   -999.0,9,  -999.00,9,  -999.00,9,  -999.00,9,  -999.0,-999.000
  32MW19881029,  PRS2,     2, 13,      8,      8,2,19881101,2036, 22.7367,-157.9967, 4700,   1002,   1007.2,   3.9612,  34.7843,4,-999.0000,9,     42.2,1,  3.8848,   -999.0,9,  -999.00,9,  -999.00,9,  -999.00,9,  -999.0,-999.000
  32MW19881029,  PRS2,     2, 14,     11,     11,2,19881101,2316, 22.7483,-157.9983, 4700,     16,     11.7,  26.3434,  35.1758,2,  35.1740,2,    211.5,1, 26.3408,   -999.0,9,  -999.00,9,  -999.00,9,  -999.00,9,  -999.0,-999.000
  32MW19881029,  PRS2,     2, 14,      2,      2,2,19881101,2316, 22.7483,-157.9983, 4700,     16,     11.8,  26.3370,  35.1802,2,  35.1754,2,    211.6,1, 26.3344,   -999.0,9,  -999.00,9,  -999.00,9,  -999.00,9,  -999.0,-999.000
  32MW19881029,  PRS2,     2, 14,     10,     10,2,19881101,2316, 22.7483,-157.9983, 4700,     56,     52.9,  26.2473,  35.1737,2,  35.1798,2,    205.0,1, 26.2355,   -999.0,9,  -999.00,9,  -999.00,9,  -999.00,9,  -999.0,-999.000
  32MW19881029,  PRS2,     2, 14,      8,      8,2,19881101,2316, 22.7483,-157.9983, 4700,    117,    115.8,  21.3620,  35.2177,2,  35.2152,2,    186.2,1, 21.3396,   -999.0,9,  -999.00,9,  -999.00,9,  -999.00,9,  -999.0,-999.000
  32MW19881029,  PRS2,     2, 14,      9,      9,2,19881101,2316, 22.7483,-157.9983, 4700,    119,    117.3,  21.2662,  35.2196,2,  35.2129,2,    186.2,1, 21.2435,   -999.0,9,  -999.00,9,  -999.00,9,  -999.00,9,  -999.0,-999.000
  32MW19881029,  PRS2,     2, 14,      7,      7,2,19881101,2316, 22.7483,-157.9983, 4700,    367,    368.4,   9.5140,  34.0971,2,  34.1023,2,    189.0,1,  9.4726,   -999.0,9,  -999.00,9,  -999.00,9,  -999.00,9,  -999.0,-999.000
  32MW19881029,  PRS2,     2, 14,      6,      6,2,19881101,2316, 22.7483,-157.9983, 4700,    491,    493.7,   7.0530,  34.0281,2,  34.0306,2,    133.8,1,  7.0063,   -999.0,9,  -999.00,9,  -999.00,9,  -999.00,9,  -999.0,-999.000
  32MW19881029,  PRS2,     2, 14,      5,      5,2,19881101,2316, 22.7483,-157.9983, 4700,    689,    692.3,   4.8168,  34.2156,2,  34.2146,2,     24.4,1,  4.7620,   -999.0,9,  -999.00,9,  -999.00,9,  -999.00,9,  -999.0,-999.000
  32MW19881029,  PRS2,     2, 14,      4,      4,2,19881101,2316, 22.7483,-157.9983, 4700,    832,    836.7,   4.3988,  34.3846,2,  34.3781,2,     28.3,1,  4.3341,   -999.0,9,  -999.00,9,  -999.00,9,  -999.00,9,  -999.0,-999.000
  32MW19881029,  PRS2,     2, 14,      3,      3,2,19881101,2316, 22.7483,-157.9983, 4700,   1004,   1011.2,   3.9771,  34.4750,2,-999.0000,5,     42.1,1,  3.9007,   -999.0,9,  -999.00,9,  -999.00,9,  -999.00,9,  -999.0,-999.000
  32MW19881029,  PRS2,     2, 15,     10,     10,2,19881102,0202, 22.7483,-157.9933, 4700,     15,      8.9,  26.3115,  35.1708,2,  35.1698,2,    225.4,2, 26.3095,    214.9,2,  -999.00,9,  -999.00,9,  -999.00,9,  -999.0,-999.000
  32MW19881029,  PRS2,     2, 15,      9,      9,2,19881102,0202, 22.7483,-157.9933, 4700,     24,     18.9,  26.2764,  35.1716,2,  35.1691,2,    213.4,2, 26.2722,    218.6,2,  -999.00,9,  -999.00,9,  -999.00,9,  -999.0,-999.000
  32MW19881029,  PRS2,     2, 15,      8,      8,2,19881102,0202, 22.7483,-157.9933, 4700,     42,     38.9,  26.2667,  35.1722,2,  35.1695,2,    212.1,2, 26.2580,    214.1,2,  -999.00,9,  -999.00,9,  -999.00,9,  -999.0,-999.000
  32MW19881029,  PRS2,     2, 15,      7,      7,2,19881102,0202, 22.7483,-157.9933, 4700,     69,     66.7,  23.9003,  35.2255,2,  35.2251,2,    212.5,2, 23.8863,    225.7,2,  -999.00,9,  -999.00,9,  -999.00,9,  -999.0,-999.000
  32MW19881029,  PRS2,     2, 15,      6,      6,2,19881102,0202, 22.7483,-157.9933, 4700,    117,    116.1,  20.9679,  35.1673,2,  35.1635,2,    189.6,2, 20.9457,    200.6,2,  -999.00,9,  -999.00,9,  -999.00,9,  -999.0,-999.000
  32MW19881029,  PRS2,     2, 15,      5,      5,2,19881102,0202, 22.7483,-157.9933, 4700,    306,    308.4,  11.9394,  34.2312,2,  34.2319,2,    197.7,2, 11.8994,    208.1,2,  -999.00,9,  -999.00,9,  -999.00,9,  -999.0,-999.000
  32MW19881029,  PRS2,     2, 15,      4,      4,2,19881102,0202, 22.7483,-157.9933, 4700,    504,    508.3,   6.7012,  34.0338,2,  34.0278,2,    115.5,2,  6.6544,    118.3,2,  -999.00,9,  -999.00,9,  -999.00,9,  -999.0,-999.000
  32MW19881029,  PRS2,     2, 15,      3,      3,2,19881102,0202, 22.7483,-157.9933, 4700,    750,    754.8,   4.4842,  34.3509,2,  34.3458,2,     24.0,2,  4.4259,     28.2,2,  -999.00,9,  -999.00,9,  -999.00,9,  -999.0,-999.000
  32MW19881029,  PRS2,     2, 15,      2,      2,2,19881102,0202, 22.7483,-157.9933, 4700,   1001,   1008.5,   3.8858,  34.4865,2,  34.4855,2,     43.0,2,  3.8104,     47.2,2,  -999.00,9,  -999.00,9,  -999.00,9,  -999.0,-999.000
  32MW19881029,  PRS2,     2, 16,      7,      7,2,19881102,0609, 22.7550,-158.0100, 4750,     13,     10.0,  26.2832,  35.1818,2,  35.1788,2,    214.2,2, 26.2809,    209.0,2,  -999.00,9,  -999.00,9,  -999.00,9,  -999.0,-999.000
  32MW19881029,  PRS2,     2, 16,      6,      6,2,19881102,0609, 22.7550,-158.0100, 4750,     83,     82.5,  23.6680,  35.2382,2,  35.2273,2,    217.0,2, 23.6508,    224.2,2,  -999.00,9,  -999.00,9,  -999.00,9,  -999.0,-999.000
  32MW19881029,  PRS2,     2, 16,      5,      5,2,19881102,0609, 22.7550,-158.0100, 4750,    133,    132.5,  20.1342,  35.1301,2,-999.0000,5,    178.8,2, 20.1096,   -999.0,5,  -999.00,9,  -999.00,9,  -999.00,9,  -999.0,-999.000
  32MW19881029,  PRS2,     2, 16,      4,      4,2,19881102,0609, 22.7550,-158.0100, 4750,    352,    354.9,  10.5154,  34.1457,2,  34.1465,2,    188.7,2, 10.4730,    206.3,2,  -999.00,9,  -999.00,9,  -999.00,9,  -999.0,-999.000
  32MW19881029,  PRS2,     2, 16,      3,      3,2,19881102,0609, 22.7550,-158.0100, 4750,    515,    520.0,   6.3086,  34.0336,2,  34.0301,2,    100.4,2,  6.2623,    103.7,2,  -999.00,9,  -999.00,9,  -999.00,9,  -999.0,-999.000
  32MW19881029,  PRS2,     2, 16,      2,      2,2,19881102,0609, 22.7550,-158.0100, 4750,    707,    710.4,   4.6734,  34.2882,2,  34.2842,2,     21.3,2,  4.6177,     25.9,2,  -999.00,9,  -999.00,9,  -999.00,9,  -999.0,-999.000
  32MW19881029,  PRS2,     2, 16,      1,      1,2,19881102,0609, 22.7550,-158.0100, 4750,   1008,   1014.9,   3.8576,  34.4856,2,  34.4847,2,     44.2,2,  3.7818,     46.8,2,  -999.00,9,  -999.00,9,  -999.00,9,  -999.0,-999.000
  32MW19881029,  PRS2,     2, 17,      7,      7,2,19881102,0857, 22.7533,-157.9967, 4750,     33,     28.3,  26.2818,  35.1948,2,  35.1844,2,    206.3,2, 26.2754,    210.2,2,  -999.00,9,  -999.00,9,  -999.00,9,  -999.0,-999.000
  32MW19881029,  PRS2,     2, 17,      6,      6,2,19881102,0857, 22.7533,-157.9967, 4750,    520,    519.2,   6.2970,  34.0430,2,  34.0315,2,    102.4,2,  6.2508,    100.8,2,  -999.00,9,  -999.00,9,  -999.00,9,  -999.0,-999.000
  32MW19881029,  PRS2,     2, 17,      5,      5,2,19881102,0857, 22.7533,-157.9967, 4750,    991,    991.2,   4.0156,  34.4793,2,  34.4673,2,     41.1,2,  3.9406,     43.7,2,  -999.00,9,  -999.00,9,  -999.00,9,   989.4,   4.005
  32MW19881029,  PRS2,     2, 17,      4,      4,2,19881102,0857, 22.7533,-157.9967, 4750,   1451,   1451.7,   2.8408,  34.5795,2,  34.5729,2,     68.9,2,  2.7387,     72.1,2,  -999.00,9,  -999.00,9,  -999.00,9,  -999.0,-999.000
  32MW19881029,  PRS2,     2, 17,      3,      3,2,19881102,0857, 22.7533,-157.9967, 4750,   1920,   1920.7,   2.1526,  34.6255,2,  34.6161,2,     94.6,2,  2.0205,     95.1,2,  -999.00,9,  -999.00,9,  -999.00,9,  1916.4,   2.167
  32MW19881029,  PRS2,     2, 17,      2,      2,2,19881102,0857, 22.7533,-157.9967, 4750,   2308,   2308.2,   1.8350,  34.6465,2,  34.6403,2,    106.1,2,  1.6748,    107.4,2,  -999.00,9,  -999.00,9,  -999.00,9,  -999.0,-999.000
  32MW19881029,  PRS2,     2, 17,      1,      1,2,19881102,0857, 22.7533,-157.9967, 4750,   2971,   2971.9,   1.5599,  34.6724,2,  34.6668,2,    127.2,2,  1.3445,    129.1,2,  -999.00,9,  -999.00,9,  -999.00,9,  2977.9,   1.561