BOTTLE,20090730WHPSIOSCD
#code : jjward hyd_to_exchange.pl 
#original files copied from HTML directory: 20090730
#original HYD file: 32MW19881029hy.txt   Mon Aug 12 14:31:12 2002
#original SUM file: 32MW19881029su.txt   Thu Jul 30 15:32:29 2009
EXPOCODE,SECT_ID,STNNBR,CASTNO,SAMPNO,BTLNBR,BTLNBR_FLAG_W,DATE,TIME,LATITUDE,LONGITUDE,DEPTH,CTDRAW,CTDPRS,CTDTMP,CTDSAL,CTDSAL_FLAG_W,SALNTY,SALNTY_FLAG_W,CTDOXY,CTDOXY_FLAG_W,THETA,OXYGEN,OXYGEN_FLAG_W,SILCAT,SILCAT_FLAG_W,NO2+NO3,NO2+NO3_FLAG_W,PHSPHT,PHSPHT_FLAG_W,REVPRS,REVTMP
,,,,,,,,,,,,,DBAR,IPTS-68,PSS-78,,PSS-78,,UMOL/KG,,IPTS-68,UMOL/KG,,UMOL/KG,,UMOL/KG,,UMOL/KG,,DBAR,DEG C
  32MW19881029,  PRS2,     2,  3,     12,     12,2,19881031,0056, 22.7600,-157.9983, 4750,      8,      4.7,  26.2879,  35.2344,2,  35.2450,2,    224.6,2, 26.2868,    210.9,2,     0.91,2,     0.02,2,     0.09,2,  -999.0,-999.000
  32MW19881029,  PRS2,     2,  3,     11,     11,2,19881031,0056, 22.7600,-157.9983, 4750,     42,     39.4,  26.1874,  35.2253,2,  35.2368,2,    219.5,2, 26.1785,    211.6,2,     1.11,2,     0.04,2,     0.08,2,  -999.0,-999.000
  32MW19881029,  PRS2,     2,  3,     10,     10,2,19881031,0056, 22.7600,-157.9983, 4750,    101,     99.4,  21.7978,  35.2462,2,  35.2578,2,    218.0,2, 21.7782,    214.2,2,     1.50,2,     0.21,2,     0.14,2,  -999.0,-999.000
  32MW19881029,  PRS2,     2,  3,      9,      9,2,19881031,0056, 22.7600,-157.9983, 4750,    151,    150.3,  19.4209,  35.0890,2,  35.0989,2,    201.9,2, 19.3937,    200.8,2,     2.10,2,     2.07,2,     0.27,2,  -999.0,-999.000
  32MW19881029,  PRS2,     2,  3,      8,      8,2,19881031,0056, 22.7600,-157.9983, 4750,    192,    191.8,  17.7063,  34.9198,2,  34.9293,2,    214.4,2, 17.6737,    211.0,2,     2.89,2,     2.26,2,     0.31,2,  -999.0,-999.000
  32MW19881029,  PRS2,     2,  3,      7,      7,2,19881031,0056, 22.7600,-157.9983, 4750,    216,    217.0,  16.5981,  34.7796,2,  34.9294,4,    203.0,3, 16.5629,    207.0,2,     3.49,2,     3.79,2,     0.39,2,  -999.0,-999.000
  32MW19881029,  PRS2,     2,  3,      6,      6,2,19881031,0056, 22.7600,-157.9983, 4750,    279,    279.9,  13.2641,  34.3514,2,  34.3540,2,    214.1,2, 13.2253,    211.3,2,     7.66,2,     8.01,2,     0.67,2,  -999.0,-999.000
  32MW19881029,  PRS2,     2,  3,      5,      5,2,19881031,0056, 22.7600,-157.9983, 4750,    339,    340.6,  10.7110,  34.1663,2,  34.1651,2,    208.2,2, 10.6699,    208.2,2,    16.19,2,    13.95,2,     1.07,2,  -999.0,-999.000
  32MW19881029,  PRS2,     2,  3,      4,      4,2,19881031,0056, 22.7600,-157.9983, 4750,    397,    399.0,   8.8102,  34.0740,2,  34.0776,2,    183.6,2,  8.7674,    180.9,2,    28.41,2,    20.73,2,     1.55,2,  -999.0,-999.000
  32MW19881029,  PRS2,     2,  3,      3,      3,2,19881031,0056, 22.7600,-157.9983, 4750,    473,    475.9,   7.3241,  34.0329,2,  34.0334,2,    152.4,2,  7.2781,    143.9,2,    43.20,2,    26.87,2,     2.05,2,  -999.0,-999.000
  32MW19881029,  PRS2,     2,  3,      2,      2,2,19881031,0056, 22.7600,-157.9983, 4750,    674,    677.8,   4.8859,  34.2030,2,  34.2003,2,     30.5,2,  4.8319,     31.0,2,    92.63,2,    40.18,2,     2.97,2,  -999.0,-999.000
  32MW19881029,  PRS2,     2,  3,      1,      1,2,19881031,0056, 22.7600,-157.9983, 4750,   1006,   1013.7,   3.8603,  34.4873,2,  34.4884,2,     48.4,2,  3.7846,     46.5,2,   116.43,2,    41.29,2,     3.03,2,  -999.0,-999.000
  32MW19881029,  PRS2,     2,  4,     12,     12,2,19881031,0312, 22.7700,-158.0083, 4725,    543,    542.6,   6.2357,  34.0372,2,  34.0366,2,    106.8,2,  6.1875,     97.0,2,    60.67,2,    32.42,2,     2.40,2,   548.4,   6.273
  32MW19881029,  PRS2,     2,  4,     11,     11,2,19881031,0312, 22.7700,-158.0083, 4725,    999,    998.9,   3.9149,  34.4758,2,  34.4755,2,     43.8,2,  3.8401,     44.2,2,   115.43,3,    41.17,3,     3.02,3,  -999.0,-999.000
  32MW19881029,  PRS2,     2,  4,     10,     10,2,19881031,0312, 22.7700,-158.0083, 4725,   1100,   1100.4,   3.6515,  34.5076,2,  34.5090,2,     50.7,2,  3.5704,     51.5,2,   120.99,3,    41.05,3,     3.00,3,  -999.0,-999.000
  32MW19881029,  PRS2,     2,  4,      9,      9,2,19881031,0312, 22.7700,-158.0083, 4725,   1202,   1202.3,   3.3967,  34.5347,2,-999.0000,5,     57.6,2,  3.3094,     56.4,2,   126.34,3,    40.72,3,     2.97,3,  -999.0,-999.000
  32MW19881029,  PRS2,     2,  4,      8,      8,2,19881031,0312, 22.7700,-158.0083, 4725,   1306,   1306.1,   3.1496,  34.5508,2,  34.5516,2,     63.4,2,  3.0562,     63.0,2,   131.51,3,    40.72,3,     2.97,3,  -999.0,-999.000
  32MW19881029,  PRS2,     2,  4,      7,      7,2,19881031,0312, 22.7700,-158.0083, 4725,   1407,   1407.9,   2.9414,  34.5640,2,  34.5617,2,     70.1,2,  2.8419,     68.0,2,   136.36,3,    40.47,3,     2.93,3,  -999.0,-999.000
  32MW19881029,  PRS2,     2,  4,      6,      6,2,19881031,0312, 22.7700,-158.0083, 4725,   1513,   1514.6,   2.7470,  34.5787,2,  34.5729,2,     75.9,2,  2.6408,     76.0,3,   140.23,3,    40.06,3,     2.89,3,  1515.7,   2.764
  32MW19881029,  PRS2,     2,  4,      5,      5,2,19881031,0312, 22.7700,-158.0083, 4725,   1707,   1708.2,   2.4007,  34.6004,2,  34.6003,2,     88.4,2,  2.2829,     86.4,3,   147.77,3,    39.50,3,     2.84,3,  -999.0,-999.000
  32MW19881029,  PRS2,     2,  4,      4,      4,2,19881031,0312, 22.7700,-158.0083, 4725,   1902,   1902.5,   2.1766,  34.6162,2,  34.6149,2,     98.0,2,  2.0457,     94.4,3,   152.13,3,    38.95,3,     2.82,3,  -999.0,-999.000
  32MW19881029,  PRS2,     2,  4,      3,      3,2,19881031,0312, 22.7700,-158.0083, 4725,   2093,   2094.0,   1.9914,  34.6290,2,  34.6262,2,    106.1,2,  1.8472,    102.7,3,   155.61,3,    38.68,3,     2.82,3,  -999.0,-999.000
  32MW19881029,  PRS2,     2,  4,      2,      2,2,19881031,0312, 22.7700,-158.0083, 4725,   2281,   2283.6,   1.8440,  34.6394,2,  34.6386,2,    111.0,2,  1.6858,    106.8,3,   159.08,3,    38.39,3,     2.79,3,  2279.3,   1.844
  32MW19881029,  PRS2,     2,  4,      1,      1,2,19881031,0312, 22.7700,-158.0083, 4725,   2495,   2498.3,   1.7263,  34.6500,2,  34.6509,2,    118.5,2,  1.5513,    115.8,3,   161.06,3,    37.83,3,     2.75,3,  -999.0,-999.000
  32MW19881029,  PRS2,     2,  5,     12,     12,2,19881031,0639, 22.7533,-158.0050, 4700,   2488,   2488.7,   1.7439,  34.6477,2,  34.6474,2,    114.7,2,  1.5694,    117.9,3,   161.06,3,    38.06,3,     2.78,3,  2499.0,   1.742
  32MW19881029,  PRS2,     2,  5,     11,     11,2,19881031,0639, 22.7533,-158.0050, 4700,   2680,   2680.5,   1.6422,  34.6583,2,  34.6581,2,    122.6,2,  1.4523,    122.3,3,   162.05,3,    37.62,3,     2.73,3,  -999.0,-999.000
  32MW19881029,  PRS2,     2,  5,     10,     10,2,19881031,0639, 22.7533,-158.0050, 4700,   2880,   2880.0,   1.5675,  34.6648,2,  34.6659,2,    129.1,2,  1.3606,    127.6,3,   161.06,3,    37.05,2,     2.70,3,  -999.0,-999.000
  32MW19881029,  PRS2,     2,  5,      9,      9,2,19881031,0639, 22.7533,-158.0050, 4700,   3066,   3067.6,   1.5285,  34.6698,2,  34.6688,2,    134.4,2,  1.3046,    134.0,3,   160.66,3,    36.84,3,     2.67,3,  -999.0,-999.000
  32MW19881029,  PRS2,     2,  5,      8,      8,2,19881031,0639, 22.7533,-158.0050, 4700,   3260,   3259.0,   1.4972,  34.6742,2,  34.6741,2,    138.7,2,  1.2553,    139.4,3,   159.07,3,    36.40,3,     2.65,3,  -999.0,-999.000
  32MW19881029,  PRS2,     2,  5,      7,      7,2,19881031,0639, 22.7533,-158.0050, 4700,   3450,   3451.5,   1.4763,  34.6779,2,  34.6766,2,    141.7,2,  1.2156,    143.9,3,   159.07,3,    36.17,3,     2.62,3,  -999.0,-999.000
  32MW19881029,  PRS2,     2,  5,      6,      6,2,19881031,0639, 22.7533,-158.0050, 4700,   3676,   3675.3,   1.4646,  34.6808,2,  34.6786,2,    145.9,2,  1.1813,    154.7,3,   159.07,3,    35.72,3,     2.60,3,  3683.1,   1.448
  32MW19881029,  PRS2,     2,  5,      5,      5,2,19881031,0639, 22.7533,-158.0050, 4700,   3876,   3877.7,   1.4616,  34.6829,2,  34.6819,2,    148.1,2,  1.1569,    156.1,3,   156.69,3,    35.62,3,     2.57,3,  -999.0,-999.000
  32MW19881029,  PRS2,     2,  5,      4,      4,2,19881031,0639, 22.7533,-158.0050, 4700,   4087,   4087.4,   1.4633,  34.6848,2,  34.6845,2,    149.9,2,  1.1358,    155.5,3,   154.11,3,    35.39,3,     2.56,3,  -999.0,-999.000
  32MW19881029,  PRS2,     2,  5,      3,      3,2,19881031,0639, 22.7533,-158.0050, 4700,   4267,   4267.2,   1.4717,  34.6859,2,  34.6859,2,    150.6,2,  1.1240,    160.8,3,   153.12,3,    35.28,3,     2.55,3,  -999.0,-999.000
  32MW19881029,  PRS2,     2,  5,      2,      2,2,19881031,0639, 22.7533,-158.0050, 4700,   4482,   4483.3,   1.4859,  34.6870,2,  34.6851,2,    151.5,2,  1.1132,    167.2,3,   153.12,3,    35.18,3,     2.55,3,  4493.2,   1.501
  32MW19881029,  PRS2,     2,  5,      1,      1,2,19881031,0639, 22.7533,-158.0050, 4700,   4706,   4705.8,   1.5061,  34.6875,2,  34.6883,2,    150.3,2,  1.1068,    176.2,3,   151.73,3,    35.18,3,     2.56,3,  -999.0,-999.000
  32MW19881029,  PRS2,     2,  6,      4,      4,2,19881031,1221, 22.7500,-157.9933, 4750,    513,    516.8,   6.2735,  34.0322,2,  34.0320,2,     99.5,1,  6.2276,   -999.0,9,  -999.00,9,  -999.00,9,  -999.00,9,  -999.0,-999.000
  32MW19881029,  PRS2,     2,  6,      1,      1,2,19881031,1221, 22.7500,-157.9933, 4750,   1004,   1011.5,   3.9063,  34.4823,2,  34.4816,2,     43.1,1,  3.8304,   -999.0,9,  -999.00,9,  -999.00,9,  -999.00,9,  -999.0,-999.000
  32MW19881029,  PRS2,     2,  7,      5,      5,2,19881031,1454, 22.7483,-157.9967, 4750,     10,     10.7,  26.2640,  35.1900,2,-999.0000,9,    218.3,1, 26.2616,   -999.0,9,     0.52,2,     0.00,2,     0.07,2,  -999.0,-999.000
  32MW19881029,  PRS2,     2,  7,      4,      4,2,19881031,1454, 22.7483,-157.9967, 4750,     24,     25.5,  26.2683,  35.1894,2,-999.0000,9,    218.1,1, 26.2625,   -999.0,9,     0.71,2,     0.04,2,     0.08,2,  -999.0,-999.000
  32MW19881029,  PRS2,     2,  7,      3,      3,2,19881031,1454, 22.7483,-157.9967, 4750,     42,     42.9,  26.2624,  35.1900,2,-999.0000,9,    217.7,1, 26.2528,   -999.0,9,     0.31,2,     0.02,2,     0.09,2,  -999.0,-999.000
  32MW19881029,  PRS2,     2,  7,      2,      2,2,19881031,1454, 22.7483,-157.9967, 4750,     68,     68.3,  23.6416,  35.1883,2,-999.0000,9,    227.3,1, 23.6274,   -999.0,9,     0.91,2,     0.00,2,     0.08,2,  -999.0,-999.000
  32MW19881029,  PRS2,     2,  7,      1,      1,2,19881031,1454, 22.7483,-157.9967, 4750,    114,    114.4,  21.5803,  35.1784,2,-999.0000,9,    199.1,1, 21.5579,   -999.0,9,     1.70,2,     0.40,2,     0.16,2,  -999.0,-999.000
  32MW19881029,  PRS2,     2,  8,      8,      8,2,19881031,1645, 22.7483,-157.9933, 4700,      7,      2.3,  26.2718,  35.1871,2,  35.2429,2,    217.9,1, 26.2712,   -999.0,9,  -999.00,9,  -999.00,9,  -999.00,9,  -999.0,-999.000
  32MW19881029,  PRS2,     2,  8,      7,      7,2,19881031,1645, 22.7483,-157.9933, 4700,    493,    497.0,   6.7387,  33.9629,2,  35.2323,4,   -999.0,5,  6.6929,   -999.0,9,  -999.00,9,  -999.00,9,  -999.00,9,  -999.0,-999.000
  32MW19881029,  PRS2,     2,  8,      6,      6,2,19881031,1645, 22.7483,-157.9933, 4700,   1005,   1013.1,   3.7982,  34.4218,2,-999.0000,5,     46.0,1,  3.7232,   -999.0,9,  -999.00,9,  -999.00,9,  -999.00,9,  -999.0,-999.000
  32MW19881029,  PRS2,     2,  9,      1,      1,2,19881031,1859, 22.7567,-157.9900, 4700,    987,    995.0,   3.9286,  34.3755,2,-999.0000,9,     52.2,1,  3.8541,   -999.0,9,  -999.00,9,  -999.00,9,  -999.00,9,  -999.0,-999.000
  32MW19881029,  PRS2,     2, 10,     10,     10,2,19881101,0522, 22.7533,-158.0050, 4700,      9,      4.1,  26.2626,  35.1480,2,  35.1978,2,    210.8,1, 26.2617,   -999.0,9,  -999.00,9,  -999.00,9,  -999.00,9,  -999.0,-999.000
  32MW19881029,  PRS2,     2, 10,      9,      9,2,19881101,0522, 22.7533,-158.0050, 4700,     25,     19.8,  26.2655,  35.1350,2,-999.0000,5,    210.2,1, 26.2610,   -999.0,9,  -999.00,9,  -999.00,9,  -999.00,9,  -999.0,-999.000
  32MW19881029,  PRS2,     2, 10,      8,      8,2,19881101,0522, 22.7533,-158.0050, 4700,     42,     38.8,  26.2417,  35.1332,2,-999.0000,5,    209.6,1, 26.2330,   -999.0,9,  -999.00,9,  -999.00,9,  -999.00,9,  -999.0,-999.000
  32MW19881029,  PRS2,     2, 10,      7,      7,2,19881101,0522, 22.7533,-158.0050, 4700,     72,     68.6,  23.4053,  35.2510,2,-999.0000,5,    214.4,1, 23.3911,   -999.0,9,  -999.00,9,  -999.00,9,  -999.00,9,  -999.0,-999.000
  32MW19881029,  PRS2,     2, 10,      6,      6,2,19881101,0522, 22.7533,-158.0050, 4700,    118,    117.6,  21.0355,  35.1837,2,-999.0000,5,    187.3,1, 21.0130,   -999.0,9,  -999.00,9,  -999.00,9,  -999.00,9,  -999.0,-999.000
  32MW19881029,  PRS2,     2, 10,      5,      5,2,19881101,0522, 22.7533,-158.0050, 4700,    303,    304.9,  12.3498,  34.2341,2,-999.0000,5,    202.9,1, 12.3094,   -999.0,9,  -999.00,9,  -999.00,9,  -999.00,9,  -999.0,-999.000
  32MW19881029,  PRS2,     2, 10,      4,      4,2,19881101,0522, 22.7533,-158.0050, 4700,    504,    506.1,   6.5988,  34.0008,2,  34.0309,2,    125.7,1,  6.5526,   -999.0,9,  -999.00,9,  -999.00,9,  -999.00,9,  -999.0,-999.000
  32MW19881029,  PRS2,     2, 10,      3,      3,2,19881101,0522, 22.7533,-158.0050, 4700,    751,    753.3,   4.5226,  34.3110,2,-999.0000,5,     23.9,1,  4.4642,   -999.0,9,  -999.00,9,  -999.00,9,  -999.00,9,  -999.0,-999.000
  32MW19881029,  PRS2,     2, 10,      1,      1,2,19881101,0522, 22.7533,-158.0050, 4700,   1006,   1011.5,   3.8784,  34.4842,2,-999.0000,5,     42.5,1,  3.8027,   -999.0,9,  -999.00,9,  -999.00,9,  -999.00,9,  -999.0,-999.000
  32MW19881029,  PRS2,     2, 10,      2,      2,2,19881101,0522, 22.7533,-158.0050, 4700,   1009,   1011.7,   3.8757,  34.4841,2,  34.4833,2,     42.5,1,  3.8001,   -999.0,9,  -999.00,9,  -999.00,9,  -999.00,9,  -999.0,-999.000
  32MW19881029,  PRS2,     2, 11,     11,     11,2,19881101,1111, 22.7500,-158.0000, 4700,     21,     16.6,  26.2706,  35.2632,2,-999.0000,9,    251.9,1, 26.2669,   -999.0,9,     0.71,2,     0.02,2,     0.08,2,  -999.0,-999.000
  32MW19881029,  PRS2,     2, 11,     10,     10,2,19881101,1111, 22.7500,-158.0000, 4700,     40,     36.5,  26.2833,  35.2337,2,-999.0000,9,    251.1,1, 26.2751,   -999.0,9,     0.71,2,     0.00,2,     0.09,2,  -999.0,-999.000
  32MW19881029,  PRS2,     2, 11,      9,      9,2,19881101,1111, 22.7500,-158.0000, 4700,     60,     56.4,  25.8320,  35.2712,2,-999.0000,9,    208.6,1, 25.8195,   -999.0,9,     0.71,2,     0.02,2,     0.07,2,  -999.0,-999.000
  32MW19881029,  PRS2,     2, 11,      8,      8,2,19881101,1111, 22.7500,-158.0000, 4700,     81,     77.8,  24.2782,  35.3049,2,-999.0000,9,    217.3,1, 24.2617,   -999.0,9,     1.11,2,     0.00,2,     0.08,2,  -999.0,-999.000
  32MW19881029,  PRS2,     2, 11,      7,      7,2,19881101,1111, 22.7500,-158.0000, 4700,    101,     97.8,  23.1146,  35.2926,2,-999.0000,9,    203.5,1, 23.0945,   -999.0,9,     1.70,2,     0.00,2,     0.09,2,  -999.0,-999.000
  32MW19881029,  PRS2,     2, 11,      6,      6,2,19881101,1111, 22.7500,-158.0000, 4700,    120,    117.3,  21.7271,  35.2829,2,-999.0000,9,    181.1,1, 21.7041,   -999.0,9,     1.50,2,     0.36,2,     0.14,2,  -999.0,-999.000
  32MW19881029,  PRS2,     2, 11,      5,      5,2,19881101,1111, 22.7500,-158.0000, 4700,    140,    137.8,  20.4543,  35.2583,2,-999.0000,9,    176.0,1, 20.4284,   -999.0,9,     2.10,2,     1.30,2,     0.22,2,  -999.0,-999.000
  32MW19881029,  PRS2,     2, 11,      4,      4,2,19881101,1111, 22.7500,-158.0000, 4700,    161,    157.7,  19.5230,  35.1679,2,-999.0000,9,    173.0,1, 19.4943,   -999.0,9,     2.50,2,     2.37,2,     0.29,2,  -999.0,-999.000
  32MW19881029,  PRS2,     2, 11,      3,      3,2,19881101,1111, 22.7500,-158.0000, 4700,    183,    181.8,  18.0922,  35.0481,2,-999.0000,9,    173.1,1, 18.0608,   -999.0,9,     3.10,2,     3.07,2,     0.34,2,  -999.0,-999.000
  32MW19881029,  PRS2,     2, 11,      2,      2,2,19881101,1111, 22.7500,-158.0000, 4700,    206,    204.2,  16.9728,  34.8896,2,-999.0000,9,    180.6,1, 16.9392,   -999.0,9,     4.08,2,     4.21,2,     0.42,2,  -999.0,-999.000
  32MW19881029,  PRS2,     2, 11,      1,      1,2,19881101,1111, 22.7500,-158.0000, 4700,    227,    228.8,  15.3846,  34.7011,2,-999.0000,9,    183.5,1, 15.3494,   -999.0,9,     5.08,2,     4.92,2,     0.47,2,  -999.0,-999.000
  32MW19881029,  PRS2,     2, 12,     11,     11,2,19881101,1250, 22.7617,-158.0333, 4700,    275,    273.5,  13.1562,  34.2754,2,-999.0000,5,    189.7,1, 13.1185,   -999.0,9,  -999.00,5,  -999.00,5,  -999.00,5,  -999.0,-999.000
  32MW19881029,  PRS2,     2, 12,     10,     10,2,19881101,1250, 22.7617,-158.0333, 4700,    304,    303.8,  12.0680,  34.1498,2,-999.0000,5,    191.7,1, 12.0284,   -999.0,9,    11.24,2,    10.90,2,     0.86,2,  -999.0,-999.000
  32MW19881029,  PRS2,     2, 12,      9,      9,2,19881101,1250, 22.7617,-158.0333, 4700,    353,    354.5,  10.2480,  34.1345,2,-999.0000,5,    190.4,1, 10.2063,   -999.0,9,    17.98,2,    15.32,2,     1.16,2,  -999.0,-999.000
  32MW19881029,  PRS2,     2, 12,      8,      8,2,19881101,1250, 22.7617,-158.0333, 4700,    406,    405.3,   8.7508,  34.1146,2,-999.0000,5,    164.2,1,  8.7075,   -999.0,9,    28.70,2,    20.90,2,     1.54,2,  -999.0,-999.000
  32MW19881029,  PRS2,     2, 12,      7,      7,2,19881101,1250, 22.7617,-158.0333, 4700,    502,    505.4,   6.2245,  34.0639,2,  34.0332,2,    101.9,1,  6.1798,   -999.0,9,    59.88,2,    32.55,2,     2.38,2,  -999.0,-999.000
  32MW19881029,  PRS2,     2, 12,      6,      6,2,19881101,1250, 22.7617,-158.0333, 4700,    600,    602.9,   5.2896,  34.1216,2,-999.0000,5,     52.3,1,  5.2401,   -999.0,9,    80.72,2,    38.41,2,     2.82,2,  -999.0,-999.000
  32MW19881029,  PRS2,     2, 12,      5,      5,2,19881101,1250, 22.7617,-158.0333, 4700,    701,    705.7,   4.7982,  34.2580,2,-999.0000,5,     21.3,1,  4.7423,   -999.0,9,    96.40,2,    41.24,2,     3.05,2,  -999.0,-999.000
  32MW19881029,  PRS2,     2, 12,      4,      4,2,19881101,1250, 22.7617,-158.0333, 4700,    799,    805.2,   4.5410,  34.3517,2,-999.0000,5,     23.6,1,  4.4781,   -999.0,9,   103.53,2,    41.17,2,     3.08,2,  -999.0,-999.000
  32MW19881029,  PRS2,     2, 12,      3,      3,2,19881101,1250, 22.7617,-158.0333, 4700,    901,    906.4,   4.2947,  34.4383,2,-999.0000,5,     31.3,1,  4.2248,   -999.0,9,   109.09,2,    41.50,2,     3.07,2,  -999.0,-999.000
  32MW19881029,  PRS2,     2, 12,      2,      2,2,19881101,1250, 22.7617,-158.0333, 4700,   1003,   1008.8,   4.0123,  34.4734,2,  34.4726,2,     37.7,1,  3.9359,   -999.0,9,   114.44,3,    41.50,2,     3.07,2,  -999.0,-999.000