BOTTLE,20020620WHPSIOKJU
EXPOCODE,SECT_ID,STNNBR,CASTNO,SAMPNO,BTLNBR,BTLNBR_FLAG_W,DATE,TIME,LATITUDE,LONGITUDE,DEPTH,CTDPRS,CTDTMP,CTDSAL,CTDSAL_FLAG_W,SALNTY,SALNTY_FLAG_W,CTDOXY,CTDOXY_FLAG_W,OXYGEN,OXYGEN_FLAG_W,SILCAT,SILCAT_FLAG_W,NO2+NO3,NO2+NO3_FLAG_W,PHSPHT,PHSPHT_FLAG_W,THETA,CTDRAW
,,,,,,,,,,,,DBAR,DEG C,PSS-78,,PSS-78,,UMOL/KG,,UMOL/KG,,UMOL/KG,,UMOL/KG,,UMOL/KG,,DEG C,
    09AR9501_1,  SR03,    16,  1,     24,     24,2,19950722,0518,-49.5997, 143.9512, 3686,     11.0,   8.0770,  34.4390,2,  34.4410,2,   -999.0,5,    271.3,2,     3.30,2,    16.10,2,     1.14,2,  8.0780,   -999
    09AR9501_1,  SR03,    16,  1,     23,     23,2,19950722,0518,-49.5997, 143.9512, 3686,     31.7,   8.0860,  34.4400,2,  34.4400,2,   -999.0,5,    272.6,2,     3.30,2,    16.10,2,     1.14,2,  8.0850,   -999
    09AR9501_1,  SR03,    16,  1,     22,     22,2,19950722,0518,-49.5997, 143.9512, 3686,     66.5,   8.0880,  34.4390,2,  34.4400,2,   -999.0,5,    272.5,2,     3.30,2,    16.10,2,     1.14,2,  8.0830,   -999
    09AR9501_1,  SR03,    16,  1,     21,     21,2,19950722,0518,-49.5997, 143.9512, 3686,    146.0,   8.0990,  34.4400,2,  34.4410,2,   -999.0,5,    272.2,2,     3.20,2,    16.20,2,     1.13,2,  8.0860,   -999
    09AR9501_1,  SR03,    16,  1,     20,    120,2,19950722,0518,-49.5997, 143.9512, 3686,    227.2,   8.1040,  34.4400,2,  34.4410,2,   -999.0,5,    272.5,2,     3.20,2,    16.10,2,     1.14,2,  8.0830,   -999
    09AR9501_1,  SR03,    16,  1,     19,    119,2,19950722,0518,-49.5997, 143.9512, 3686,    377.4,   8.4930,  34.5280,4,  34.5180,2,   -999.0,5,    261.4,2,     4.20,2,    16.20,2,     1.15,2,  8.4550,   -999
    09AR9501_1,  SR03,    16,  1,     18,    118,2,19950722,0518,-49.5997, 143.9512, 3686,    416.6,   8.4830,  34.5540,4,  34.5550,2,   -999.0,5,    247.8,2,     6.00,2,    17.30,2,     1.22,2,  8.4410,   -999
    09AR9501_1,  SR03,    16,  1,     17,    117,2,19950722,0518,-49.5997, 143.9512, 3686,    495.4,   7.7150,  34.4600,2,  34.4600,2,   -999.0,5,    241.3,2,     7.60,2,    19.70,2,     1.38,2,  7.6670,   -999
    09AR9501_1,  SR03,    16,  1,     16,    216,2,19950722,0518,-49.5997, 143.9512, 3686,    599.0,   6.8670,  34.3960,3,  34.3950,2,   -999.0,5,    229.3,2,    10.60,2,    22.40,2,     1.56,2,  6.8120,   -999
    09AR9501_1,  SR03,    16,  1,     15,    115,2,19950722,0518,-49.5997, 143.9512, 3686,    699.4,   6.1650,  34.3690,3,  34.3750,2,   -999.0,5,    216.3,4,     9.70,4,    17.70,4,     1.26,4,  6.1040,   -999
    09AR9501_1,  SR03,    16,  1,     14,    114,2,19950722,0518,-49.5997, 143.9512, 3686,    797.5,   5.3570,  34.3360,3,  34.3370,2,   -999.0,5,    214.3,2,    19.40,2,    26.90,2,     1.87,2,  5.2910,   -999
    09AR9501_1,  SR03,    16,  1,     13,    113,2,19950722,0518,-49.5997, 143.9512, 3686,    897.8,   4.6040,  34.3080,3,  34.3060,2,   -999.0,5,    215.6,4,    15.30,4,    15.30,4,     1.51,4,  4.5340,   -999
    09AR9501_1,  SR03,    16,  1,     12,     12,2,19950722,0518,-49.5997, 143.9512, 3686,    996.6,   4.0360,  34.3120,2,  34.3120,2,   -999.0,5,    210.5,2,    32.10,2,    30.00,2,     2.08,2,  3.9620,   -999
    09AR9501_1,  SR03,    16,  1,     11,     11,2,19950722,0518,-49.5997, 143.9512, 3686,   1198.0,   3.3280,  34.3710,2,  34.3700,2,   -999.0,5,    192.9,2,    45.50,2,    32.10,2,     2.24,2,  3.2430,   -999
    09AR9501_1,  SR03,    16,  1,     10,     10,2,19950722,0518,-49.5997, 143.9512, 3686,   1399.6,   2.9110,  34.4660,2,  34.4630,2,   -999.0,5,    176.1,2,    58.10,2,    33.20,2,     2.33,2,  2.8130,   -999
    09AR9501_1,  SR03,    16,  1,      9,      9,2,19950722,0518,-49.5997, 143.9512, 3686,   1698.7,   2.5940,  34.5830,2,  34.5820,2,   -999.0,5,    170.0,2,    67.30,2,    32.80,2,     2.29,2,  2.4750,   -999
    09AR9501_1,  SR03,    16,  1,      8,      8,2,19950722,0518,-49.5997, 143.9512, 3686,   1998.4,   2.4200,  34.6820,2,  34.6810,2,   -999.0,5,    174.0,2,    74.20,2,    31.40,2,     2.20,2,  2.2780,   -999
    09AR9501_1,  SR03,    16,  1,      7,      7,2,19950722,0518,-49.5997, 143.9512, 3686,   2298.0,   2.2510,  34.7240,2,  34.7240,2,   -999.0,5,    182.0,2,    76.50,2,    30.20,2,     2.11,2,  2.0850,   -999
    09AR9501_1,  SR03,    16,  1,      6,      6,2,19950722,0518,-49.5997, 143.9512, 3686,   2599.1,   2.0470,  34.7440,2,  34.7440,2,   -999.0,5,    188.5,2,    80.10,2,    29.80,2,     2.07,2,  1.8570,   -999
    09AR9501_1,  SR03,    16,  1,      5,      5,2,19950722,0518,-49.5997, 143.9512, 3686,   3001.2,   1.6430,  34.7370,2,  34.7380,2,   -999.0,5,    189.6,2,    96.70,2,    30.50,2,     2.14,2,  1.4230,   -999
    09AR9501_1,  SR03,    16,  1,      4,      4,2,19950722,0518,-49.5997, 143.9512, 3686,   3301.1,   1.3920,  34.7280,2,  34.7290,2,   -999.0,5,    193.7,2,   102.30,2,    30.70,2,     2.16,2,  1.1490,   -999
    09AR9501_1,  SR03,    16,  1,      3,      3,2,19950722,0518,-49.5997, 143.9512, 3686,   3603.1,   1.1240,  34.7160,2,  34.7180,2,   -999.0,5,    198.1,2,   108.50,2,    31.10,2,     2.18,2,  0.8570,   -999
    09AR9501_1,  SR03,    16,  1,      2,      2,2,19950722,0518,-49.5997, 143.9512, 3686,   3804.0,   1.0960,  34.7130,2,  34.7150,2,   -999.0,5,    197.7,2,   110.20,2,    31.10,2,     2.19,2,  0.8090,   -999
    09AR9501_1,  SR03,    16,  1,      1,      1,2,19950722,0518,-49.5997, 143.9512, 3686,   3831.8,   1.0970,  34.7140,2,  34.7160,2,   -999.0,5,    197.3,2,   109.20,2,    31.20,2,     2.20,2,  0.8070,   -999
    09AR9501_1,  SR03,    17,  1,     24,     24,2,19950722,1037,-49.8717, 143.8320, 3788,     10.9,   8.1640,  34.4470,2,  34.4470,2,   -999.0,5,    274.0,2,     3.00,2,    15.90,2,     1.13,2,  8.1650,   -999
    09AR9501_1,  SR03,    17,  1,     23,     23,2,19950722,1037,-49.8717, 143.8320, 3788,     31.9,   8.1730,  34.4470,2,  34.4580,2,   -999.0,5,    267.2,2,     4.00,2,    16.50,2,     1.17,2,  8.1720,   -999
    09AR9501_1,  SR03,    17,  1,     22,     22,2,19950722,1037,-49.8717, 143.8320, 3788,     65.5,   8.1750,  34.4480,2,  34.4490,2,   -999.0,5,    273.9,2,     3.10,2,    15.40,2,     1.10,2,  8.1700,   -999
    09AR9501_1,  SR03,    17,  1,     21,     21,2,19950722,1037,-49.8717, 143.8320, 3788,    147.2,   8.1920,  34.4540,2,  34.4540,2,   -999.0,5,    273.2,2,     3.30,2,    16.00,2,     1.14,2,  8.1790,   -999
    09AR9501_1,  SR03,    17,  1,     20,    120,2,19950722,1037,-49.8717, 143.8320, 3788,    195.9,   8.1980,  34.4530,2,  34.4530,2,   -999.0,5,    271.9,2,     3.20,2,    16.10,2,     1.14,2,  8.1800,   -999
    09AR9501_1,  SR03,    17,  1,     19,    119,2,19950722,1037,-49.8717, 143.8320, 3788,    245.0,   8.2020,  34.4540,2,  34.4530,2,   -999.0,5,    272.5,2,     3.30,2,    16.00,2,     1.14,2,  8.1790,   -999
    09AR9501_1,  SR03,    17,  1,     18,    118,2,19950722,1037,-49.8717, 143.8320, 3788,    345.2,   8.7430,  34.5890,2,  34.5870,2,   -999.0,5,    250.2,2,     5.80,2,    16.90,2,     1.18,2,  8.7080,   -999
    09AR9501_1,  SR03,    17,  1,     17,    117,2,19950722,1037,-49.8717, 143.8320, 3788,    495.3,   7.4510,  34.4280,4,  34.4300,2,   -999.0,5,    240.6,2,     8.70,2,    20.90,2,     1.43,2,  7.4040,   -999
    09AR9501_1,  SR03,    17,  1,     16,    216,2,19950722,1037,-49.8717, 143.8320, 3788,    599.5,   6.6900,  34.3840,3,  34.3830,2,   -999.0,5,    228.2,2,    12.00,2,    23.60,2,     1.61,2,  6.6360,   -999
    09AR9501_1,  SR03,    17,  1,     15,    115,2,19950722,1037,-49.8717, 143.8320, 3788,    697.1,   6.0500,  34.3720,2,  34.3730,2,   -999.0,5,    214.0,2,    16.90,2,    26.10,2,     1.79,2,  5.9890,   -999
    09AR9501_1,  SR03,    17,  1,     14,    114,2,19950722,1037,-49.8717, 143.8320, 3788,    796.1,   5.2050,  34.3380,4,  34.3340,2,   -999.0,5,    213.0,2,    21.50,2,    28.10,2,     1.93,2,  5.1400,   -999
    09AR9501_1,  SR03,    17,  1,     13,    113,2,19950722,1037,-49.8717, 143.8320, 3788,    895.9,   4.4520,  34.3060,3,  34.3030,2,   -999.0,5,    215.5,2,    26.10,2,    29.60,2,     2.03,2,  4.3830,   -999
    09AR9501_1,  SR03,    17,  1,     12,     12,2,19950722,1037,-49.8717, 143.8320, 3788,   1097.8,   3.5110,  34.3360,2,  34.3350,2,   -999.0,5,    201.5,2,    39.90,2,    31.70,2,     2.23,2,  3.4320,   -999
    09AR9501_1,  SR03,    17,  1,     11,     11,2,19950722,1037,-49.8717, 143.8320, 3788,   1295.7,   3.1030,  34.4310,2,  34.4300,2,   -999.0,5,    179.8,2,    55.10,2,    33.50,2,     2.34,2,  3.0120,   -999
    09AR9501_1,  SR03,    17,  1,     10,     10,2,19950722,1037,-49.8717, 143.8320, 3788,   1497.5,   2.7550,  34.5100,3,  34.5080,2,   -999.0,5,    172.2,2,    64.10,2,    33.90,2,     2.37,2,  2.6510,   -999
    09AR9501_1,  SR03,    17,  1,      9,      9,2,19950722,1037,-49.8717, 143.8320, 3788,   1798.2,   2.5330,  34.6250,2,  34.6230,2,   -999.0,5,    171.0,2,    70.50,2,    32.80,2,     2.29,2,  2.4060,   -999
    09AR9501_1,  SR03,    17,  1,      8,      8,2,19950722,1037,-49.8717, 143.8320, 3788,   2101.8,   2.3830,  34.6970,2,  34.6980,2,   -999.0,5,    176.9,2,    75.70,2,    31.50,2,     2.20,2,  2.2320,   -999
    09AR9501_1,  SR03,    17,  1,      7,      7,2,19950722,1037,-49.8717, 143.8320, 3788,   2400.7,   2.1790,  34.7350,3,  34.7360,2,   -999.0,5,    185.9,2,    78.20,2,    30.50,2,     2.13,2,  2.0050,   -999
    09AR9501_1,  SR03,    17,  1,      6,      6,2,19950722,1037,-49.8717, 143.8320, 3788,   2598.1,   2.0110,  34.7440,3,  34.7440,2,   -999.0,5,    189.0,2,    83.30,2,    30.30,2,     2.11,2,  1.8220,   -999
    09AR9501_1,  SR03,    17,  1,      5,      5,2,19950722,1037,-49.8717, 143.8320, 3788,   2799.1,   1.8430,  34.7450,2,  34.7460,2,   -999.0,5,    192.2,2,    87.10,2,    30.40,2,     2.11,2,  1.6380,   -999
    09AR9501_1,  SR03,    17,  1,      4,      4,2,19950722,1037,-49.8717, 143.8320, 3788,   3102.4,   1.5180,  34.7340,2,  34.7350,2,   -999.0,5,    192.9,2,    96.20,2,    31.10,2,     2.17,2,  1.2910,   -999
    09AR9501_1,  SR03,    17,  1,      3,      3,2,19950722,1037,-49.8717, 143.8320, 3788,   3399.7,   1.3090,  34.7250,2,  34.7260,2,   -999.0,5,    197.2,2,   104.90,2,    31.30,2,     2.19,2,  1.0580,   -999
    09AR9501_1,  SR03,    17,  1,      2,      2,2,19950722,1037,-49.8717, 143.8320, 3788,   3760.9,   1.0930,  34.7130,2,  34.7160,2,   -999.0,5,    197.8,2,   114.20,2,    31.80,2,     2.22,2,  0.8110,   -999
    09AR9501_1,  SR03,    17,  1,      1,      1,2,19950722,1037,-49.8717, 143.8320, 3788,   3863.6,   1.0940,  34.7140,2,  34.7140,2,   -999.0,5,    198.0,2,   114.10,2,    31.90,2,     2.23,2,  0.8010,   -999
    09AR9501_1,  SR03,    18,  1,     24,     24,2,19950722,1555,-50.1575, 143.6985, 3711,     10.1,   7.6410,  34.3630,3,  34.3620,2,   -999.0,5,    276.3,2,     3.40,2,    17.50,2,     1.23,2,  7.6420,   -999
    09AR9501_1,  SR03,    18,  1,     23,     23,2,19950722,1555,-50.1575, 143.6985, 3711,     46.3,   7.6720,  34.3670,2,  34.3660,2,   -999.0,5,    275.0,2,     3.50,2,    17.50,2,     1.23,2,  7.6690,   -999
    09AR9501_1,  SR03,    18,  1,     22,     22,2,19950722,1555,-50.1575, 143.6985, 3711,     95.7,   7.6580,  34.3630,3,  34.3630,2,   -999.0,5,    276.2,2,     3.40,2,    17.60,2,     1.23,2,  7.6510,   -999
    09AR9501_1,  SR03,    18,  1,     21,     21,2,19950722,1555,-50.1575, 143.6985, 3711,    197.9,   7.6920,  34.3670,3,  34.3670,2,   -999.0,5,    275.9,2,     3.50,2,    17.50,2,     1.23,2,  7.6740,   -999
    09AR9501_1,  SR03,    18,  1,     20,    120,2,19950722,1555,-50.1575, 143.6985, 3711,    298.3,   7.7020,  34.3680,2,  34.3670,2,   -999.0,5,    275.4,2,     3.50,2,    17.50,2,     1.23,2,  7.6740,   -999
    09AR9501_1,  SR03,    18,  1,     19,    119,2,19950722,1555,-50.1575, 143.6985, 3711,    371.6,   8.2480,  34.5180,4,  34.5160,2,   -999.0,5,    248.5,2,     6.40,2,    18.60,2,     1.29,2,  8.2120,   -999
    09AR9501_1,  SR03,    18,  1,     18,    118,2,19950722,1555,-50.1575, 143.6985, 3711,    471.9,   7.2790,  34.4190,4,  34.4190,2,   -999.0,5,    239.8,2,     9.30,2,    21.50,2,     1.47,2,  7.2350,   -999
    09AR9501_1,  SR03,    18,  1,     17,    117,2,19950722,1555,-50.1575, 143.6985, 3711,    596.1,   6.0860,  34.3280,3,  34.3300,2,   -999.0,5,    233.4,2,    13.80,2,    24.70,2,     1.70,2,  6.0350,   -999
    09AR9501_1,  SR03,    18,  1,     16,    216,2,19950722,1555,-50.1575, 143.6985, 3711,    715.6,   5.2390,  34.3110,2,  34.3110,2,   -999.0,5,    221.1,2,    19.70,2,    27.70,2,     1.89,2,  5.1810,   -999
    09AR9501_1,  SR03,    18,  1,     15,    115,2,19950722,1555,-50.1575, 143.6985, 3711,    800.1,   4.7500,  34.3100,2,  34.3100,2,   -999.0,5,    215.9,2,    24.20,2,    29.00,2,     2.00,2,  4.6870,   -999
    09AR9501_1,  SR03,    18,  1,     14,    114,2,19950722,1555,-50.1575, 143.6985, 3711,    944.5,   3.9510,  34.3190,3,  34.3180,2,   -999.0,5,    208.4,2,    32.90,2,    30.90,2,     2.14,2,  3.8820,   -999
    09AR9501_1,  SR03,    18,  1,     13,    113,2,19950722,1555,-50.1575, 143.6985, 3711,   1102.5,   3.3020,  34.3580,2,  34.3560,2,   -999.0,5,    196.3,2,    44.00,2,    32.60,2,     2.26,2,  3.2250,   -999
    09AR9501_1,  SR03,    18,  1,     12,     12,2,19950722,1555,-50.1575, 143.6985, 3711,   1299.3,   2.9490,  34.4500,2,  34.4490,2,   -999.0,5,    178.8,2,    58.40,2,    33.90,2,     2.35,2,  2.8590,   -999
    09AR9501_1,  SR03,    18,  1,     11,     11,2,19950722,1555,-50.1575, 143.6985, 3711,   1496.1,   2.6630,  34.5340,2,  34.5320,2,   -999.0,5,    172.4,2,    66.20,2,    33.90,2,     2.37,2,  2.5600,   -999
    09AR9501_1,  SR03,    18,  1,     10,     10,2,19950722,1555,-50.1575, 143.6985, 3711,   1699.0,   2.5450,  34.6160,2,  34.6150,2,   -999.0,5,    170.6,2,    72.20,2,    33.20,2,     2.31,2,  2.4270,   -999
    09AR9501_1,  SR03,    18,  1,      9,      9,2,19950722,1555,-50.1575, 143.6985, 3711,   1899.4,   2.4370,  34.6740,2,  34.6740,2,   -999.0,5,    174.1,2,    75.20,2,    32.20,2,     2.23,2,  2.3030,   -999
    09AR9501_1,  SR03,    18,  1,      8,      8,2,19950722,1555,-50.1575, 143.6985, 3711,   2100.9,   2.3030,  34.7090,2,  34.7090,2,   -999.0,5,    180.2,2,    76.00,2,    31.20,2,     2.16,2,  2.1530,   -999
    09AR9501_1,  SR03,    18,  1,      7,      7,2,19950722,1555,-50.1575, 143.6985, 3711,   2302.8,   2.1770,  34.7340,2,  34.7340,2,   -999.0,5,    185.3,2,    78.60,2,    30.70,2,     2.14,2,  2.0120,   -999
    09AR9501_1,  SR03,    18,  1,      6,      6,2,19950722,1555,-50.1575, 143.6985, 3711,   2501.7,   2.0180,  34.7450,2,  34.7450,2,   -999.0,5,    189.3,2,    81.80,2,    29.90,2,     2.08,2,  1.8370,   -999
    09AR9501_1,  SR03,    18,  1,      5,      5,2,19950722,1555,-50.1575, 143.6985, 3711,   2803.0,   1.7530,  34.7440,2,  34.7450,2,   -999.0,5,    193.4,2,    90.10,2,    30.50,2,     2.13,2,  1.5490,   -999
    09AR9501_1,  SR03,    18,  1,      4,      4,2,19950722,1555,-50.1575, 143.6985, 3711,   3100.9,   1.4380,  34.7320,2,  34.7320,2,   -999.0,5,    195.7,2,    99.70,2,    31.10,2,     2.18,2,  1.2130,   -999
    09AR9501_1,  SR03,    18,  1,      3,      3,2,19950722,1555,-50.1575, 143.6985, 3711,   3401.4,   1.2380,  34.7240,2,  34.7230,2,   -999.0,5,    198.3,2,   109.00,2,    31.50,2,     2.20,2,  0.9880,   -999
    09AR9501_1,  SR03,    18,  1,      2,      2,2,19950722,1555,-50.1575, 143.6985, 3711,   3659.3,   1.1010,  34.7160,2,  34.7170,2,   -999.0,5,    199.5,2,   113.70,2,    31.70,2,     2.22,2,  0.8290,   -999
    09AR9501_1,  SR03,    18,  1,      1,      1,2,19950722,1555,-50.1575, 143.6985, 3711,   3816.9,   1.1070,  34.7140,2,  34.7160,2,   -999.0,5,    197.5,2,   114.60,2,    31.80,2,     2.22,2,  0.8180,   -999