BOTTLE,20020620WHPSIOKJU
#code : jjward hyd_to_exchange.pl 
#original files copied from HTML directory: 20020620
#original HYD file: sr03_dhy.txt   Thu Jun 20 09:34:30 2002
#original SUM file: sumfile   Thu Jun 20 09:35:20 2002
EXPOCODE,SECT_ID,STNNBR,CASTNO,SAMPNO,BTLNBR,BTLNBR_FLAG_W,DATE,TIME,LATITUDE,LONGITUDE,DEPTH,CTDPRS,CTDTMP,CTDSAL,CTDSAL_FLAG_W,SALNTY,SALNTY_FLAG_W,CTDOXY,CTDOXY_FLAG_W,OXYGEN,OXYGEN_FLAG_W,SILCAT,SILCAT_FLAG_W,NO2+NO3,NO2+NO3_FLAG_W,PHSPHT,PHSPHT_FLAG_W,THETA,CTDRAW
,,,,,,,,,,,,DBAR,DEG C,PSS-78,,PSS-78,,UMOL/KG,,UMOL/KG,,UMOL/KG,,UMOL/KG,,UMOL/KG,,DEG C,
    09AR9501_1,  SR03,     1,  1,     13,    113,2,19950717,2345,-44.3777, 146.1890, 2392,    993.6,   5.2090,  34.4250,2,  34.4240,2,   -999.0,5,    190.9,2,    31.90,2,    29.90,2,     2.00,2,  5.1260,   -999
    09AR9501_1,  SR03,     1,  1,     12,     12,2,19950717,2345,-44.3777, 146.1890, 2392,    994.2,   5.2050,  34.4250,2,  34.4240,2,   -999.0,5,    190.6,2,    31.00,2,    29.80,2,     2.01,2,  5.1220,   -999
    09AR9501_1,  SR03,     1,  1,     14,    114,2,19950717,2345,-44.3777, 146.1890, 2392,    994.3,   5.1990,  34.4250,2,  34.4230,2,   -999.0,5,   -999.0,9,    31.80,2,    29.80,2,     2.02,2,  5.1160,   -999
    09AR9501_1,  SR03,     1,  1,     11,     11,2,19950717,2345,-44.3777, 146.1890, 2392,    994.5,   5.2020,  34.4250,2,  34.4250,2,   -999.0,5,    190.4,2,    31.00,2,    29.80,2,     2.01,2,  5.1190,   -999
    09AR9501_1,  SR03,     1,  1,     15,    115,2,19950717,2345,-44.3777, 146.1890, 2392,    994.7,   5.1970,  34.4240,2,  34.4240,2,   -999.0,5,    190.5,2,    31.80,2,    29.80,2,     2.01,2,  5.1140,   -999
    09AR9501_1,  SR03,     1,  1,      9,      9,2,19950717,2345,-44.3777, 146.1890, 2392,    995.6,   5.2010,  34.4240,2,  34.4240,2,   -999.0,5,   -999.0,9,    30.80,2,    29.70,2,     2.00,2,  5.1180,   -999
    09AR9501_1,  SR03,     1,  1,     10,     10,2,19950717,2345,-44.3777, 146.1890, 2392,    995.9,   5.2010,  34.4250,2,  34.4240,2,   -999.0,5,    190.7,2,    30.60,2,    29.80,2,     2.02,2,  5.1180,   -999
    09AR9501_1,  SR03,     1,  1,      8,      8,2,19950717,2345,-44.3777, 146.1890, 2392,    996.2,   5.2000,  34.4250,2,  34.4250,2,   -999.0,5,    191.2,2,    30.80,2,    29.70,2,     2.03,2,  5.1170,   -999
    09AR9501_1,  SR03,     1,  1,     16,    116,2,19950717,2345,-44.3777, 146.1890, 2392,    996.5,   5.1880,  34.4240,3,  34.4260,2,   -999.0,5,    190.7,2,    32.00,2,    29.60,2,     2.02,2,  5.1050,   -999
    09AR9501_1,  SR03,     1,  1,     19,    119,2,19950717,2345,-44.3777, 146.1890, 2392,    996.7,   5.1690,  34.4250,2,  34.4250,2,   -999.0,5,    194.6,2,    31.20,2,    29.40,2,     2.02,2,  5.0860,   -999
    09AR9501_1,  SR03,     1,  1,     17,    117,2,19950717,2345,-44.3777, 146.1890, 2392,    996.9,   5.1800,  34.4270,3,  34.4250,2,   -999.0,5,    189.9,2,    31.70,2,    29.50,2,     2.02,2,  5.0970,   -999
    09AR9501_1,  SR03,     1,  1,     18,    118,2,19950717,2345,-44.3777, 146.1890, 2392,    997.1,   5.1710,  34.4280,3,  34.4270,2,   -999.0,5,    190.1,2,    31.50,2,    29.50,2,     2.02,2,  5.0880,   -999
    09AR9501_1,  SR03,     1,  1,      6,      6,2,19950717,2345,-44.3777, 146.1890, 2392,    997.2,   5.2010,  34.4250,2,  34.4240,2,   -999.0,5,    190.6,2,    31.00,2,    29.80,2,     2.01,2,  5.1180,   -999
    09AR9501_1,  SR03,     1,  1,      7,      7,2,19950717,2345,-44.3777, 146.1890, 2392,    997.3,   5.2000,  34.4240,2,  34.4240,2,   -999.0,5,   -999.0,9,    30.80,2,    29.80,2,     2.02,2,  5.1170,   -999
    09AR9501_1,  SR03,     1,  1,     20,    120,2,19950717,2345,-44.3777, 146.1890, 2392,    997.4,   5.1610,  34.4250,2,  34.4270,2,   -999.0,5,    190.1,2,    31.30,2,    29.50,2,     2.02,2,  5.0780,   -999
    09AR9501_1,  SR03,     1,  1,      5,      5,2,19950717,2345,-44.3777, 146.1890, 2392,    998.3,   5.2000,  34.4250,2,  34.4240,2,   -999.0,5,   -999.0,9,    31.00,2,    29.80,2,     2.00,2,  5.1170,   -999
    09AR9501_1,  SR03,     1,  1,     22,     22,2,19950717,2345,-44.3777, 146.1890, 2392,    998.4,   5.1490,  34.4260,2,  34.4270,2,   -999.0,5,   -999.0,9,    31.10,2,    29.40,2,     2.02,2,  5.0660,   -999
    09AR9501_1,  SR03,     1,  1,     21,     21,4,19950717,2345,-44.3777, 146.1890, 2392,    998.6,   5.1500,  34.4260,2,-999.0000,9,   -999.0,5,   -999.0,9,  -999.00,9,  -999.00,9,  -999.00,9,  5.0670,   -999
    09AR9501_1,  SR03,     1,  1,      3,      3,2,19950717,2345,-44.3777, 146.1890, 2392,    998.7,   5.1990,  34.4250,2,  34.4250,2,   -999.0,5,    191.7,2,    27.10,4,    25.70,4,     2.00,2,  5.1160,   -999
    09AR9501_1,  SR03,     1,  1,     23,     23,2,19950717,2345,-44.3777, 146.1890, 2392,    999.1,   5.1470,  34.4270,2,  34.4260,2,   -999.0,5,    190.2,2,    30.70,2,    29.30,2,     2.02,2,  5.0640,   -999
    09AR9501_1,  SR03,     1,  1,     24,     24,4,19950717,2345,-44.3777, 146.1890, 2392,    999.2,   5.1470,  34.4270,2,-999.0000,9,   -999.0,5,   -999.0,9,  -999.00,9,  -999.00,9,  -999.00,9,  5.0640,   -999
    09AR9501_1,  SR03,     1,  1,      2,      2,2,19950717,2345,-44.3777, 146.1890, 2392,    999.2,   5.2010,  34.4250,2,  34.4250,2,   -999.0,5,    190.4,2,    31.30,2,    29.50,2,     1.99,2,  5.1180,   -999
    09AR9501_1,  SR03,     1,  1,      4,      4,2,19950717,2345,-44.3777, 146.1890, 2392,    999.5,   5.1930,  34.4260,3,  34.4240,2,   -999.0,5,    192.5,2,  -999.00,9,  -999.00,9,  -999.00,9,  5.1100,   -999
    09AR9501_1,  SR03,     1,  1,      1,      1,2,19950717,2345,-44.3777, 146.1890, 2392,   1000.1,   5.2000,  34.4250,2,  34.4250,2,   -999.0,5,   -999.0,9,  -999.00,9,  -999.00,9,  -999.00,9,  5.1170,   -999
    09AR9501_1,  SR03,     2,  1,     16,    116,2,19950718,0330,-43.9980, 146.3270,  240,      8.7,  13.1980,  35.2920,2,-999.0000,9,   -999.0,5,   -999.0,9,  -999.00,9,  -999.00,9,  -999.00,9, 13.2000,   -999
    09AR9501_1,  SR03,     2,  1,     12,     12,2,19950718,0330,-43.9980, 146.3270,  240,      8.9,  13.1970,  35.2930,2,-999.0000,9,   -999.0,5,   -999.0,9,  -999.00,9,  -999.00,9,  -999.00,9, 13.1990,   -999
    09AR9501_1,  SR03,     2,  1,     23,     23,2,19950718,0330,-43.9980, 146.3270,  240,      9.0,  13.1960,  35.2930,2,-999.0000,9,   -999.0,5,   -999.0,9,  -999.00,9,  -999.00,9,  -999.00,9, 13.1980,   -999
    09AR9501_1,  SR03,     2,  1,     15,    115,2,19950718,0330,-43.9980, 146.3270,  240,      9.0,  13.1980,  35.2920,2,-999.0000,9,   -999.0,5,   -999.0,9,  -999.00,9,  -999.00,9,  -999.00,9, 13.2000,   -999
    09AR9501_1,  SR03,     2,  1,     24,     24,2,19950718,0330,-43.9980, 146.3270,  240,      9.1,  13.1960,  35.2920,2,-999.0000,9,   -999.0,5,   -999.0,9,  -999.00,9,  -999.00,9,  -999.00,9, 13.1980,   -999
    09AR9501_1,  SR03,     2,  1,     22,     22,2,19950718,0330,-43.9980, 146.3270,  240,      9.1,  13.1970,  35.2920,2,-999.0000,9,   -999.0,5,   -999.0,9,  -999.00,9,  -999.00,9,  -999.00,9, 13.1990,   -999
    09AR9501_1,  SR03,     2,  1,     21,     21,2,19950718,0330,-43.9980, 146.3270,  240,      9.1,  13.1970,  35.2930,2,-999.0000,9,   -999.0,5,   -999.0,9,  -999.00,9,  -999.00,9,  -999.00,9, 13.1990,   -999
    09AR9501_1,  SR03,     2,  1,     20,    120,2,19950718,0330,-43.9980, 146.3270,  240,      9.1,  13.1990,  35.2930,2,-999.0000,9,   -999.0,5,   -999.0,9,  -999.00,9,  -999.00,9,  -999.00,9, 13.2010,   -999
    09AR9501_1,  SR03,     2,  1,     14,    114,2,19950718,0330,-43.9980, 146.3270,  240,      9.1,  13.1970,  35.2920,2,-999.0000,9,   -999.0,5,   -999.0,9,  -999.00,9,  -999.00,9,  -999.00,9, 13.1990,   -999
    09AR9501_1,  SR03,     2,  1,     11,     11,2,19950718,0330,-43.9980, 146.3270,  240,      9.1,  13.1960,  35.2920,2,-999.0000,9,   -999.0,5,   -999.0,9,  -999.00,9,  -999.00,9,  -999.00,9, 13.1980,   -999
    09AR9501_1,  SR03,     2,  1,     10,     10,2,19950718,0330,-43.9980, 146.3270,  240,      9.1,  13.1950,  35.2920,2,-999.0000,9,   -999.0,5,   -999.0,9,  -999.00,9,  -999.00,9,  -999.00,9, 13.1970,   -999
    09AR9501_1,  SR03,     2,  1,      9,      9,2,19950718,0330,-43.9980, 146.3270,  240,      9.1,  13.1960,  35.2930,3,-999.0000,9,   -999.0,5,   -999.0,9,  -999.00,9,  -999.00,9,  -999.00,9, 13.1980,   -999
    09AR9501_1,  SR03,     2,  1,      8,      8,2,19950718,0330,-43.9980, 146.3270,  240,      9.1,  13.2000,  35.2930,2,  35.2950,2,   -999.0,5,   -999.0,5,     1.30,2,     2.90,2,     0.37,2, 13.2020,   -999
    09AR9501_1,  SR03,     2,  1,     19,    119,2,19950718,0330,-43.9980, 146.3270,  240,      9.2,  13.1970,  35.2930,2,-999.0000,9,   -999.0,5,   -999.0,9,  -999.00,9,  -999.00,9,  -999.00,9, 13.1990,   -999
    09AR9501_1,  SR03,     2,  1,     18,    118,2,19950718,0330,-43.9980, 146.3270,  240,      9.2,  13.1970,  35.2930,2,-999.0000,9,   -999.0,5,   -999.0,9,  -999.00,9,  -999.00,9,  -999.00,9, 13.1990,   -999
    09AR9501_1,  SR03,     2,  1,     17,    117,2,19950718,0330,-43.9980, 146.3270,  240,      9.2,  13.1980,  35.2930,2,-999.0000,9,   -999.0,5,   -999.0,9,  -999.00,9,  -999.00,9,  -999.00,9, 13.2000,   -999
    09AR9501_1,  SR03,     2,  1,     13,    113,2,19950718,0330,-43.9980, 146.3270,  240,      9.2,  13.1960,  35.2930,2,-999.0000,9,   -999.0,5,   -999.0,9,  -999.00,9,  -999.00,9,  -999.00,9, 13.1980,   -999
    09AR9501_1,  SR03,     2,  1,      7,      7,2,19950718,0330,-43.9980, 146.3270,  240,     22.1,  13.2040,  35.2940,2,  35.2950,2,   -999.0,5,   -999.0,5,     1.70,2,     3.20,2,     0.36,2, 13.2040,   -999
    09AR9501_1,  SR03,     2,  1,      6,      6,2,19950718,0330,-43.9980, 146.3270,  240,     48.9,  13.2080,  35.2940,2,  35.2950,2,   -999.0,5,   -999.0,5,     1.20,2,     3.20,2,     0.36,2, 13.2040,   -999
    09AR9501_1,  SR03,     2,  1,      5,      5,2,19950718,0330,-43.9980, 146.3270,  240,     74.1,  13.2100,  35.2940,2,  35.2950,2,   -999.0,5,   -999.0,5,     1.00,2,     3.20,2,     0.36,2, 13.2030,   -999
    09AR9501_1,  SR03,     2,  1,      4,      4,2,19950718,0330,-43.9980, 146.3270,  240,     99.5,  13.1950,  35.2900,2,  35.2910,2,   -999.0,5,   -999.0,5,     1.70,2,     3.20,2,     0.36,2, 13.1840,   -999
    09AR9501_1,  SR03,     2,  1,      3,      3,2,19950718,0330,-43.9980, 146.3270,  240,    148.9,  12.9180,  35.2330,2,  35.2350,2,   -999.0,5,   -999.0,5,     1.20,2,     3.70,2,     0.39,2, 12.9010,   -999
    09AR9501_1,  SR03,     2,  1,      2,      2,2,19950718,0330,-43.9980, 146.3270,  240,    159.0,  12.9020,  35.2300,2,  35.2300,2,   -999.0,5,   -999.0,5,     1.10,2,     3.60,2,     0.39,2, 12.8830,   -999
    09AR9501_1,  SR03,     2,  1,      1,      1,2,19950718,0330,-43.9980, 146.3270,  240,    172.9,  12.8430,  35.2170,2,  35.2190,2,   -999.0,5,   -999.0,5,     1.20,2,     3.80,2,     0.40,2, 12.8220,   -999
    09AR9501_1,  SR03,     3,  1,     20,    120,2,19950718,0612,-44.1265, 146.2475, 1076,      6.6,  12.2880,  35.1340,2,-999.0000,9,   -999.0,5,   -999.0,9,  -999.00,9,  -999.00,9,  -999.00,9, 12.2900,   -999
    09AR9501_1,  SR03,     3,  1,     15,    115,2,19950718,0612,-44.1265, 146.2475, 1076,      6.7,  12.2890,  35.1340,2,-999.0000,9,   -999.0,5,   -999.0,9,  -999.00,9,  -999.00,9,  -999.00,9, 12.2910,   -999
    09AR9501_1,  SR03,     3,  1,     24,     24,2,19950718,0612,-44.1265, 146.2475, 1076,      6.8,  12.2930,  35.1330,2,-999.0000,9,   -999.0,5,   -999.0,9,  -999.00,9,  -999.00,9,  -999.00,9, 12.2950,   -999
    09AR9501_1,  SR03,     3,  1,     23,     23,2,19950718,0612,-44.1265, 146.2475, 1076,      6.8,  12.2930,  35.1330,2,-999.0000,9,   -999.0,5,   -999.0,9,  -999.00,9,  -999.00,9,  -999.00,9, 12.2950,   -999
    09AR9501_1,  SR03,     3,  1,     21,     21,2,19950718,0612,-44.1265, 146.2475, 1076,      6.8,  12.2890,  35.1340,2,-999.0000,9,   -999.0,5,   -999.0,9,  -999.00,9,  -999.00,9,  -999.00,9, 12.2910,   -999
    09AR9501_1,  SR03,     3,  1,     16,    116,2,19950718,0612,-44.1265, 146.2475, 1076,      6.8,  12.2890,  35.1340,2,-999.0000,9,   -999.0,5,   -999.0,9,  -999.00,9,  -999.00,9,  -999.00,9, 12.2910,   -999
    09AR9501_1,  SR03,     3,  1,     22,     22,2,19950718,0612,-44.1265, 146.2475, 1076,      6.9,  12.2900,  35.1340,2,-999.0000,9,   -999.0,5,   -999.0,9,  -999.00,9,  -999.00,9,  -999.00,9, 12.2920,   -999
    09AR9501_1,  SR03,     3,  1,     19,    119,2,19950718,0612,-44.1265, 146.2475, 1076,      6.9,  12.2890,  35.1340,2,-999.0000,9,   -999.0,5,   -999.0,9,  -999.00,9,  -999.00,9,  -999.00,9, 12.2910,   -999
    09AR9501_1,  SR03,     3,  1,     18,    118,2,19950718,0612,-44.1265, 146.2475, 1076,      6.9,  12.2890,  35.1340,2,-999.0000,9,   -999.0,5,   -999.0,9,  -999.00,9,  -999.00,9,  -999.00,9, 12.2910,   -999
    09AR9501_1,  SR03,     3,  1,     14,    114,2,19950718,0612,-44.1265, 146.2475, 1076,      6.9,  12.2880,  35.1340,2,  35.1320,2,   -999.0,5,    254.1,2,     1.00,2,     4.50,2,     0.46,2, 12.2900,   -999
    09AR9501_1,  SR03,     3,  1,     17,    117,2,19950718,0612,-44.1265, 146.2475, 1076,      7.0,  12.2890,  35.1340,2,-999.0000,9,   -999.0,5,   -999.0,9,  -999.00,9,  -999.00,9,  -999.00,9, 12.2910,   -999
    09AR9501_1,  SR03,     3,  1,     13,    113,2,19950718,0612,-44.1265, 146.2475, 1076,      7.0,  12.2890,  35.1340,2,  35.1310,2,   -999.0,5,    253.9,2,     0.90,2,     4.60,2,     0.46,2, 12.2910,   -999
    09AR9501_1,  SR03,     3,  1,     12,     12,2,19950718,0612,-44.1265, 146.2475, 1076,     24.6,  12.2980,  35.1340,2,  35.1330,2,   -999.0,5,    253.8,2,     1.00,2,     4.60,2,     0.46,2, 12.2980,   -999
    09AR9501_1,  SR03,     3,  1,     11,     11,2,19950718,0612,-44.1265, 146.2475, 1076,     48.4,  12.2860,  35.1340,2,  35.1320,2,   -999.0,5,    254.3,2,     1.00,2,     4.60,2,     0.46,2, 12.2830,   -999
    09AR9501_1,  SR03,     3,  1,     10,     10,2,19950718,0612,-44.1265, 146.2475, 1076,     72.3,  12.2500,  35.1270,3,  35.1250,2,   -999.0,5,    254.3,2,     1.00,2,     4.70,2,     0.47,2, 12.2430,   -999
    09AR9501_1,  SR03,     3,  1,      9,      9,2,19950718,0612,-44.1265, 146.2475, 1076,     98.5,  11.9220,  35.0670,3,  35.0660,2,   -999.0,5,    257.4,2,     1.10,2,     5.20,2,     0.50,2, 11.9120,   -999
    09AR9501_1,  SR03,     3,  1,      8,      8,2,19950718,0612,-44.1265, 146.2475, 1076,    146.5,  11.4290,  35.0120,3,  35.0490,4,   -999.0,5,    256.9,2,     1.50,2,     7.10,2,     0.60,2, 11.4130,   -999
    09AR9501_1,  SR03,     3,  1,      7,      7,2,19950718,0612,-44.1265, 146.2475, 1076,    196.9,  10.5580,  34.8710,2,  34.8700,2,   -999.0,5,    265.4,2,     2.20,2,    10.60,2,     0.81,2, 10.5370,   -999
    09AR9501_1,  SR03,     3,  1,      6,      6,2,19950718,0612,-44.1265, 146.2475, 1076,    398.9,   9.1760,  34.6720,2,  34.6720,2,   -999.0,5,    257.0,2,     4.30,2,    15.50,2,     1.08,2,  9.1340,   -999
    09AR9501_1,  SR03,     3,  1,      5,      5,2,19950718,0612,-44.1265, 146.2475, 1076,    497.9,   8.8740,  34.6270,2,  34.6260,2,   -999.0,5,    255.4,2,     4.50,2,    16.20,2,     1.14,2,  8.8220,   -999
    09AR9501_1,  SR03,     3,  1,      4,      4,2,19950718,0612,-44.1265, 146.2475, 1076,    705.8,   7.9550,  34.5110,3,  34.5140,2,   -999.0,5,    239.0,2,     8.20,2,    20.50,2,     1.41,2,  7.8840,   -999
    09AR9501_1,  SR03,     3,  1,      3,      3,2,19950718,0612,-44.1265, 146.2475, 1076,    899.6,   5.9390,  34.4430,2,  34.4460,2,   -999.0,5,    189.3,2,    26.10,2,    28.10,2,     1.97,2,  5.8600,   -999
    09AR9501_1,  SR03,     3,  1,      2,      2,2,19950718,0612,-44.1265, 146.2475, 1076,   1072.6,   4.4190,  34.4300,2,  34.4320,2,   -999.0,5,   -999.0,9,    43.50,2,    31.10,2,     2.17,2,  4.3350,   -999
    09AR9501_1,  SR03,     3,  1,      1,      1,2,19950718,0612,-44.1265, 146.2475, 1076,   1103.3,   4.1580,  34.4380,3,  34.4410,2,   -999.0,5,   -999.0,9,    46.40,2,    31.60,2,     2.22,2,  4.0730,   -999