BOTTLE,20020620WHPSIOKJU
EXPOCODE,SECT_ID,STNNBR,CASTNO,SAMPNO,BTLNBR,BTLNBR_FLAG_W,DATE,TIME,LATITUDE,LONGITUDE,DEPTH,CTDPRS,CTDTMP,CTDSAL,CTDSAL_FLAG_W,SALNTY,SALNTY_FLAG_W,CTDOXY,CTDOXY_FLAG_W,OXYGEN,OXYGEN_FLAG_W,SILCAT,SILCAT_FLAG_W,NO2+NO3,NO2+NO3_FLAG_W,PHSPHT,PHSPHT_FLAG_W,THETA,CTDRAW
,,,,,,,,,,,,DBAR,DEG C,PSS-78,,PSS-78,,UMOL/KG,,UMOL/KG,,UMOL/KG,,UMOL/KG,,UMOL/KG,,DEG C,
    09AR9501_1,  SR03,    31,  1,     24,     24,2,19950725,1430,-55.0173, 141.0057, 3328,     19.3,   1.2410,  33.8380,2,  33.8380,2,   -999.0,5,    279.8,4,    10.20,2,    26.50,2,     1.89,2,  1.2400,   -999
    09AR9501_1,  SR03,    31,  1,     23,     23,2,19950725,1430,-55.0173, 141.0057, 3328,     54.6,   1.2410,  33.8380,2,  33.8380,2,   -999.0,5,    280.6,4,    10.10,2,    26.70,2,     1.89,2,  1.2390,   -999
    09AR9501_1,  SR03,    31,  1,     22,     22,2,19950725,1430,-55.0173, 141.0057, 3328,    104.5,   1.0380,  33.8490,2,  33.8490,2,   -999.0,5,    330.9,4,    11.30,2,    26.70,2,     1.90,2,  1.0340,   -999
    09AR9501_1,  SR03,    31,  1,     21,     21,2,19950725,1430,-55.0173, 141.0057, 3328,    144.7,   0.9920,  33.8620,2,  33.8620,2,   -999.0,5,    258.0,4,    13.30,2,    27.00,2,     1.92,2,  0.9860,   -999
    09AR9501_1,  SR03,    31,  1,     20,    120,2,19950725,1430,-55.0173, 141.0057, 3328,    204.4,   1.7070,  34.1260,2,  34.1260,2,   -999.0,5,    259.7,4,    33.30,2,    31.60,2,     2.24,2,  1.6970,   -999
    09AR9501_1,  SR03,    31,  1,     19,    119,2,19950725,1430,-55.0173, 141.0057, 3328,    303.6,   2.1720,  34.2990,2,  34.2950,2,   -999.0,5,    204.1,4,    48.20,2,    33.70,2,     2.40,2,  2.1560,   -999
    09AR9501_1,  SR03,    31,  1,     18,    118,2,19950725,1430,-55.0173, 141.0057, 3328,    403.7,   2.2950,  34.4040,2,  34.4020,2,   -999.0,5,    128.2,4,    56.80,2,    34.30,2,     2.44,2,  2.2720,   -999
    09AR9501_1,  SR03,    31,  1,     17,    117,2,19950725,1430,-55.0173, 141.0057, 3328,    503.6,   2.3170,  34.4850,2,  34.4820,2,   -999.0,5,    156.0,4,    62.40,2,    34.30,2,     2.44,2,  2.2880,   -999
    09AR9501_1,  SR03,    31,  1,     16,    216,2,19950725,1430,-55.0173, 141.0057, 3328,    602.9,   2.3140,  34.5530,2,  34.5510,2,   -999.0,5,    142.9,4,    67.00,2,    33.90,2,     2.41,2,  2.2790,   -999
    09AR9501_1,  SR03,    31,  1,     15,    115,2,19950725,1430,-55.0173, 141.0057, 3328,    703.8,   2.3170,  34.6020,2,  34.6030,2,   -999.0,5,    143.5,4,    70.10,2,    33.50,2,     2.37,2,  2.2750,   -999
    09AR9501_1,  SR03,    31,  1,     14,    114,2,19950725,1430,-55.0173, 141.0057, 3328,    803.9,   2.2620,  34.6410,2,  34.6400,2,   -999.0,5,    142.6,4,    72.80,2,    33.10,2,     2.33,2,  2.2140,   -999
    09AR9501_1,  SR03,    31,  1,     13,    113,2,19950725,1430,-55.0173, 141.0057, 3328,    903.9,   2.2350,  34.6740,2,  34.6730,2,   -999.0,5,    166.4,4,    73.30,2,    32.20,2,     2.28,2,  2.1800,   -999
    09AR9501_1,  SR03,    31,  1,     12,     12,2,19950725,1430,-55.0173, 141.0057, 3328,   1002.5,   2.1750,  34.6990,2,  34.6920,2,   -999.0,5,    155.2,4,    74.60,2,    31.70,2,     2.22,2,  2.1140,   -999
    09AR9501_1,  SR03,    31,  1,     11,     11,2,19950725,1430,-55.0173, 141.0057, 3328,   1202.9,   2.0730,  34.7280,2,  34.7270,2,   -999.0,5,    186.1,4,    76.20,2,    31.00,2,     2.17,2,  1.9980,   -999
    09AR9501_1,  SR03,    31,  1,     10,     10,2,19950725,1430,-55.0173, 141.0057, 3328,   1402.1,   1.9480,  34.7430,2,  34.7430,2,   -999.0,5,    161.6,4,    79.90,2,    30.40,2,     2.13,2,  1.8600,   -999
    09AR9501_1,  SR03,    31,  1,      9,      9,2,19950725,1430,-55.0173, 141.0057, 3328,   1603.0,   1.8050,  34.7480,2,  34.7480,2,   -999.0,5,    157.4,4,    84.10,2,    30.40,2,     2.13,2,  1.7030,   -999
    09AR9501_1,  SR03,    31,  1,      8,      8,2,19950725,1430,-55.0173, 141.0057, 3328,   1802.7,   1.6030,  34.7440,2,  34.7450,2,   -999.0,5,    162.0,4,    90.10,2,    30.70,2,     2.14,2,  1.4880,   -999
    09AR9501_1,  SR03,    31,  1,      7,      7,2,19950725,1430,-55.0173, 141.0057, 3328,   2002.1,   1.4350,  34.7390,2,  34.7390,2,   -999.0,5,    170.2,4,    95.30,2,    30.70,2,     2.15,2,  1.3070,   -999
    09AR9501_1,  SR03,    31,  1,      6,      6,2,19950725,1430,-55.0173, 141.0057, 3328,   2202.7,   1.2540,  34.7310,2,  34.7300,2,   -999.0,5,    203.3,4,   101.10,2,    31.40,2,     2.18,2,  1.1130,   -999
    09AR9501_1,  SR03,    31,  1,      5,      5,2,19950725,1430,-55.0173, 141.0057, 3328,   2401.8,   1.0920,  34.7220,2,  34.7220,2,   -999.0,5,    191.3,4,   105.80,2,    31.60,2,     2.20,2,  0.9370,   -999
    09AR9501_1,  SR03,    31,  1,      4,      4,2,19950725,1430,-55.0173, 141.0057, 3328,   2602.3,   0.9290,  34.7150,2,  34.7130,2,   -999.0,5,    144.2,4,   111.40,2,    31.50,2,     2.22,2,  0.7600,   -999
    09AR9501_1,  SR03,    31,  1,      3,      3,2,19950725,1430,-55.0173, 141.0057, 3328,   2902.0,   0.6690,  34.7010,2,  34.7020,2,   -999.0,5,    158.9,4,   116.30,2,    32.10,2,     2.25,2,  0.4790,   -999
    09AR9501_1,  SR03,    31,  1,      2,      2,2,19950725,1430,-55.0173, 141.0057, 3328,   3151.1,   0.6190,  34.6980,2,  34.7000,2,   -999.0,5,    179.2,4,   118.80,2,    32.20,2,     2.26,2,  0.4080,   -999
    09AR9501_1,  SR03,    31,  1,      1,      1,2,19950725,1430,-55.0173, 141.0057, 3328,   3298.9,   0.6250,  34.6990,2,  34.6990,2,   -999.0,5,    184.9,4,   118.60,2,    32.30,2,     2.25,2,  0.4000,   -999
    09AR9501_1,  SR03,    32,  1,     24,     24,2,19950725,2223,-55.4870, 140.7192, 3993,      7.6,   2.0020,  33.8540,2,  33.8530,2,    330.9,2,    327.4,2,     8.20,2,    25.60,2,     1.79,2,  2.0020,   -999
    09AR9501_1,  SR03,    32,  1,     23,     23,2,19950725,2223,-55.4870, 140.7192, 3993,     48.4,   1.9740,  33.8550,2,  33.8520,2,    318.5,2,    327.6,2,     8.50,2,    25.70,2,     1.81,2,  1.9720,   -999
    09AR9501_1,  SR03,    32,  1,     22,     22,2,19950725,2223,-55.4870, 140.7192, 3993,     98.4,   1.5910,  33.8530,2,  33.8520,2,    323.1,2,    329.3,2,    10.20,2,    26.60,2,     1.85,2,  1.5870,   -999
    09AR9501_1,  SR03,    32,  1,     21,     21,2,19950725,2223,-55.4870, 140.7192, 3993,    198.2,   2.0880,  34.1010,2,  34.0970,2,    264.5,2,    269.5,2,    28.70,2,    30.50,2,     2.13,2,  2.0780,   -999
    09AR9501_1,  SR03,    32,  1,     20,    120,2,19950725,2223,-55.4870, 140.7192, 3993,    298.6,   2.0910,  34.2460,2,  34.2470,2,    219.6,2,    225.7,2,    44.30,2,    33.40,2,     2.32,2,  2.0750,   -999
    09AR9501_1,  SR03,    32,  1,     19,    119,2,19950725,2223,-55.4870, 140.7192, 3993,    398.0,   2.2580,  34.3640,2,  34.3640,2,    194.0,2,    196.5,2,    55.10,2,    34.40,2,     2.40,2,  2.2360,   -999
    09AR9501_1,  SR03,    32,  1,     18,    118,2,19950725,2223,-55.4870, 140.7192, 3993,    499.2,   2.3270,  34.4610,2,  34.4620,2,    177.4,2,    180.5,2,    63.10,2,    34.40,2,     2.41,2,  2.2980,   -999
    09AR9501_1,  SR03,    32,  1,     17,    117,2,19950725,2223,-55.4870, 140.7192, 3993,    599.1,   2.3300,  34.5200,2,  34.5190,2,    175.7,2,    175.2,2,    67.30,2,    34.20,2,     2.41,2,  2.2950,   -999
    09AR9501_1,  SR03,    32,  1,     16,    216,2,19950725,2223,-55.4870, 140.7192, 3993,    699.2,   2.3280,  34.5730,2,  34.5730,2,    175.4,2,    173.3,2,    69.60,2,    33.60,2,     2.38,2,  2.2860,   -999
    09AR9501_1,  SR03,    32,  1,     15,    115,2,19950725,2223,-55.4870, 140.7192, 3993,    801.1,   2.3030,  34.6200,2,  34.6190,2,    177.3,2,    174.5,2,    71.20,2,    32.90,2,     2.31,2,  2.2550,   -999
    09AR9501_1,  SR03,    32,  1,     14,    114,2,19950725,2223,-55.4870, 140.7192, 3993,   1000.4,   2.2180,  34.6810,2,  34.6810,2,    181.6,2,    179.4,2,    73.80,2,    31.70,2,     2.23,2,  2.1560,   -999
    09AR9501_1,  SR03,    32,  1,     13,    113,2,19950725,2223,-55.4870, 140.7192, 3993,   1201.6,   2.1010,  34.7200,2,  34.7200,2,    186.6,2,    186.5,2,    76.60,2,    30.70,2,     2.16,2,  2.0260,   -999
    09AR9501_1,  SR03,    32,  1,     12,     12,2,19950725,2223,-55.4870, 140.7192, 3993,   1403.1,   1.9850,  34.7390,2,  34.7390,2,    191.9,2,    192.4,2,    80.10,2,    29.90,2,     2.10,2,  1.8960,   -999
    09AR9501_1,  SR03,    32,  1,     11,     11,2,19950725,2223,-55.4870, 140.7192, 3993,   1602.8,   1.8430,  34.7460,2,  34.7460,2,    197.9,2,    195.6,2,    83.10,2,    29.90,2,     2.08,2,  1.7410,   -999
    09AR9501_1,  SR03,    32,  1,     10,     10,2,19950725,2223,-55.4870, 140.7192, 3993,   1803.3,   1.6610,  34.7440,2,  34.7460,2,    202.8,2,    198.3,2,    87.60,2,    29.80,2,     2.11,2,  1.5450,   -999
    09AR9501_1,  SR03,    32,  1,      9,      9,2,19950725,2223,-55.4870, 140.7192, 3993,   2004.0,   1.4910,  34.7380,2,  34.7400,2,    201.2,2,    200.6,2,    91.70,2,    29.90,2,     2.12,2,  1.3620,   -999
    09AR9501_1,  SR03,    32,  1,      8,      8,2,19950725,2223,-55.4870, 140.7192, 3993,   2202.1,   1.3050,  34.7320,2,  34.7320,2,    205.7,2,    202.8,2,    97.00,2,    30.30,2,     2.15,2,  1.1630,   -999
    09AR9501_1,  SR03,    32,  1,      7,      7,2,19950725,2223,-55.4870, 140.7192, 3993,   2504.2,   1.0490,  34.7190,2,  34.7200,2,    209.0,2,    205.5,2,   103.00,2,    30.60,2,     2.16,2,  0.8860,   -999
    09AR9501_1,  SR03,    32,  1,      6,      6,2,19950725,2223,-55.4870, 140.7192, 3993,   2804.7,   0.8410,  34.7090,2,  34.7100,2,    212.4,2,    208.7,2,   108.40,2,    31.00,2,     2.20,2,  0.6560,   -999
    09AR9501_1,  SR03,    32,  1,      5,      5,2,19950725,2223,-55.4870, 140.7192, 3993,   3105.4,   0.6220,  34.6990,2,  34.6990,2,    215.5,2,    212.5,2,   113.60,2,    31.30,2,     2.22,2,  0.4150,   -999
    09AR9501_1,  SR03,    32,  1,      4,      4,2,19950725,2223,-55.4870, 140.7192, 3993,   3406.1,   0.4690,  34.6910,2,  34.6930,2,    218.4,2,    216.0,2,   119.40,2,    31.60,2,     2.23,2,  0.2380,   -999
    09AR9501_1,  SR03,    32,  1,      3,      3,2,19950725,2223,-55.4870, 140.7192, 3993,   3705.8,   0.4400,  34.6890,2,  34.6900,2,    218.5,2,    217.2,2,   122.60,2,    31.60,2,     2.23,2,  0.1810,   -999
    09AR9501_1,  SR03,    32,  1,      2,      2,2,19950725,2223,-55.4870, 140.7192, 3993,   4009.8,   0.4330,  34.6880,2,  34.6890,2,    213.6,2,    217.7,2,   123.50,2,    31.80,2,     2.23,2,  0.1430,   -999
    09AR9501_1,  SR03,    32,  1,      1,      1,2,19950725,2223,-55.4870, 140.7192, 3993,   4138.0,   0.4200,  34.6870,2,  34.6870,2,    214.5,2,    216.7,2,   123.80,2,    31.80,2,     2.23,2,  0.1180,   -999
    09AR9501_1,  SR03,    33,  1,     24,     24,2,19950726,0440,-55.9262, 140.4062, 3583,      8.7,   1.9660,  33.8490,3,  33.8510,2,    322.9,2,    328.2,2,     8.70,2,    25.20,2,     1.77,2,  1.9660,   -999
    09AR9501_1,  SR03,    33,  1,     23,     23,2,19950726,0440,-55.9262, 140.4062, 3583,     22.3,   1.9430,  33.8520,4,  33.8490,2,    334.3,2,    328.4,2,     8.80,2,    25.20,2,     1.77,2,  1.9420,   -999
    09AR9501_1,  SR03,    33,  1,     22,     22,2,19950726,0440,-55.9262, 140.4062, 3583,     47.3,   1.8150,  33.8490,2,  33.8490,2,    325.8,2,    329.0,2,     9.40,2,    25.60,2,     1.80,2,  1.8130,   -999
    09AR9501_1,  SR03,    33,  1,     21,     21,2,19950726,0440,-55.9262, 140.4062, 3583,     96.3,   1.7930,  33.8740,2,  33.8700,2,    318.6,2,    324.1,2,    11.90,2,    26.40,2,     1.84,2,  1.7890,   -999
    09AR9501_1,  SR03,    33,  1,     20,    120,2,19950726,0440,-55.9262, 140.4062, 3583,    147.3,   1.8580,  33.9850,3,  33.9800,2,    302.7,2,    300.1,2,    21.00,2,    28.10,2,     1.96,2,  1.8510,   -999
    09AR9501_1,  SR03,    33,  1,     19,    119,2,19950726,0440,-55.9262, 140.4062, 3583,    196.0,   1.9430,  34.1160,3,  34.1140,2,    272.4,2,    265.3,2,    32.20,2,    30.20,2,     2.12,2,  1.9330,   -999
    09AR9501_1,  SR03,    33,  1,     18,    118,2,19950726,0440,-55.9262, 140.4062, 3583,    296.7,   2.1500,  34.2600,2,  34.2600,2,    222.1,2,    224.9,2,    45.90,2,    32.10,2,     2.26,2,  2.1340,   -999
    09AR9501_1,  SR03,    33,  1,     17,    117,2,19950726,0440,-55.9262, 140.4062, 3583,    397.0,   2.2720,  34.3660,2,  34.3680,2,    195.4,2,    197.8,2,    55.90,2,    33.20,2,     2.34,2,  2.2500,   -999
    09AR9501_1,  SR03,    33,  1,     16,    216,2,19950726,0440,-55.9262, 140.4062, 3583,    497.4,   2.3170,  34.4590,2,  34.4590,2,    178.4,2,    182.7,2,    52.20,4,    26.70,4,     2.01,4,  2.2890,   -999
    09AR9501_1,  SR03,    33,  1,     15,    115,2,19950726,0440,-55.9262, 140.4062, 3583,    599.4,   2.3520,  34.5330,2,  34.5320,2,    173.4,2,    176.3,2,    68.90,2,    33.20,2,     2.34,2,  2.3170,   -999
    09AR9501_1,  SR03,    33,  1,     14,    114,2,19950726,0440,-55.9262, 140.4062, 3583,    697.9,   2.3280,  34.5810,2,  34.5830,2,    174.9,2,    174.5,2,    71.80,2,    32.80,2,     2.30,2,  2.2860,   -999
    09AR9501_1,  SR03,    33,  1,     13,    113,2,19950726,0440,-55.9262, 140.4062, 3583,    798.0,   2.2940,  34.6290,2,  34.6270,2,    176.2,2,    174.7,2,    74.70,2,    32.20,2,     2.27,2,  2.2460,   -999
    09AR9501_1,  SR03,    33,  1,     12,     12,2,19950726,0440,-55.9262, 140.4062, 3583,    898.9,   2.2590,  34.6600,2,  34.6600,2,    177.7,2,    176.7,2,    78.80,2,    31.50,2,     2.23,2,  2.2040,   -999
    09AR9501_1,  SR03,    33,  1,     11,     11,2,19950726,0440,-55.9262, 140.4062, 3583,    998.7,   2.2240,  34.6800,2,  34.6800,2,    179.2,2,    178.9,2,    75.20,2,    31.20,2,     2.20,2,  2.1630,   -999
    09AR9501_1,  SR03,    33,  1,     10,     10,2,19950726,0440,-55.9262, 140.4062, 3583,   1199.9,   2.1020,  34.7190,2,  34.7190,2,    183.8,2,    185.7,2,    77.80,2,    30.40,2,     2.15,2,  2.0270,   -999
    09AR9501_1,  SR03,    33,  1,      9,      9,2,19950726,0440,-55.9262, 140.4062, 3583,   1399.4,   1.9760,  34.7390,2,  34.7390,2,    188.6,2,    191.3,2,    80.90,2,    29.90,2,     2.11,2,  1.8880,   -999
    09AR9501_1,  SR03,    33,  1,      8,      8,2,19950726,0440,-55.9262, 140.4062, 3583,   1700.4,   1.7610,  34.7470,2,  34.7460,2,    196.7,2,    196.5,2,    86.40,2,    29.70,2,     2.09,2,  1.6520,   -999
    09AR9501_1,  SR03,    33,  1,      7,      7,2,19950726,0440,-55.9262, 140.4062, 3583,   2102.3,   1.3790,  34.7360,2,  34.7360,2,    204.0,2,    201.7,2,    99.20,2,    30.10,2,     2.15,2,  1.2440,   -999
    09AR9501_1,  SR03,    33,  1,      6,      6,2,19950726,0440,-55.9262, 140.4062, 3583,   2402.9,   1.1450,  34.7240,2,  34.7250,2,    206.4,2,    204.2,2,   106.30,2,    30.30,2,     2.15,2,  0.9890,   -999
    09AR9501_1,  SR03,    33,  1,      5,      5,2,19950726,0440,-55.9262, 140.4062, 3583,   2705.1,   0.9160,  34.7120,2,  34.7140,2,    210.2,2,    207.2,2,   112.10,2,    30.90,2,     2.21,2,  0.7380,   -999
    09AR9501_1,  SR03,    33,  1,      4,      4,2,19950726,0440,-55.9262, 140.4062, 3583,   3004.2,   0.7010,  34.7020,2,  34.7040,2,    213.9,2,    210.7,2,   117.80,2,    31.10,2,     2.22,2,  0.5020,   -999
    09AR9501_1,  SR03,    33,  1,      3,      3,2,19950726,0440,-55.9262, 140.4062, 3583,   3304.5,   0.5190,  34.6940,2,  34.6950,2,    215.4,2,    214.9,2,   126.10,2,    31.20,2,     2.23,2,  0.2960,   -999
    09AR9501_1,  SR03,    33,  1,      2,      2,2,19950726,0440,-55.9262, 140.4062, 3583,   3558.9,   0.4450,  34.6910,2,  34.6910,2,    215.2,2,    217.2,2,   129.40,2,    31.30,2,     2.24,2,  0.2000,   -999
    09AR9501_1,  SR03,    33,  1,      1,      1,2,19950726,0440,-55.9262, 140.4062, 3583,   3636.0,   0.4390,  34.6890,2,  34.6890,2,    213.0,2,    217.3,2,   132.20,2,    31.30,2,     2.24,2,  0.1870,   -999