BOTTLE,20020620WHPSIOKJU
EXPOCODE,SECT_ID,STNNBR,CASTNO,SAMPNO,BTLNBR,BTLNBR_FLAG_W,DATE,TIME,LATITUDE,LONGITUDE,DEPTH,CTDPRS,CTDTMP,CTDSAL,CTDSAL_FLAG_W,SALNTY,SALNTY_FLAG_W,CTDOXY,CTDOXY_FLAG_W,OXYGEN,OXYGEN_FLAG_W,SILCAT,SILCAT_FLAG_W,NO2+NO3,NO2+NO3_FLAG_W,PHSPHT,PHSPHT_FLAG_W,THETA,CTDRAW
,,,,,,,,,,,,DBAR,DEG C,PSS-78,,PSS-78,,UMOL/KG,,UMOL/KG,,UMOL/KG,,UMOL/KG,,UMOL/KG,,DEG C,
    09AR9501_1,  SR03,     7,  1,     24,     24,2,19950719,1838,-45.6980, 145.6428, 2068,      4.5,   9.4640,  34.6850,2,  34.6860,2,   -999.0,5,    271.4,2,     2.40,2,    12.10,2,     0.94,2,  9.4660,   -999
    09AR9501_1,  SR03,     7,  1,     23,     23,2,19950719,1838,-45.6980, 145.6428, 2068,     21.2,   9.4660,  34.6850,2,  34.6860,2,   -999.0,5,    270.5,2,     2.50,2,    12.10,2,     0.94,2,  9.4660,   -999
    09AR9501_1,  SR03,     7,  1,     22,     22,2,19950719,1838,-45.6980, 145.6428, 2068,     46.6,   9.4760,  34.6870,2,  34.6860,2,   -999.0,5,    270.9,2,     2.40,2,    12.20,2,     0.94,2,  9.4730,   -999
    09AR9501_1,  SR03,     7,  1,     21,     21,2,19950719,1838,-45.6980, 145.6428, 2068,     95.1,   9.4860,  34.6870,2,  34.6880,2,   -999.0,5,    271.1,2,     2.40,2,    12.20,2,     0.94,2,  9.4780,   -999
    09AR9501_1,  SR03,     7,  1,     20,    120,2,19950719,1838,-45.6980, 145.6428, 2068,    144.8,   9.4940,  34.6890,2,  34.6880,2,   -999.0,5,    280.9,2,     2.40,2,    12.10,2,     0.94,2,  9.4800,   -999
    09AR9501_1,  SR03,     7,  1,     19,    119,2,19950719,1838,-45.6980, 145.6428, 2068,    198.9,   9.4730,  34.6840,2,  34.6830,2,   -999.0,5,    270.5,2,     2.50,2,    12.40,2,     0.95,2,  9.4530,   -999
    09AR9501_1,  SR03,     7,  1,     18,    118,2,19950719,1838,-45.6980, 145.6428, 2068,    248.1,   9.1570,  34.6610,2,  34.6610,2,   -999.0,5,    255.5,2,     4.20,2,    15.30,2,     1.12,2,  9.1320,   -999
    09AR9501_1,  SR03,     7,  1,     17,    117,2,19950719,1838,-45.6980, 145.6428, 2068,    296.6,   8.9510,  34.6350,2,  34.6350,2,   -999.0,5,    257.5,2,     4.30,2,    15.70,2,     1.14,2,  8.9210,   -999
    09AR9501_1,  SR03,     7,  1,     16,    116,2,19950719,1838,-45.6980, 145.6428, 2068,    396.7,   8.5990,  34.5840,2,  34.5840,2,   -999.0,5,    258.1,2,     4.70,2,    16.60,2,     1.20,2,  8.5590,   -999
    09AR9501_1,  SR03,     7,  1,     15,    115,2,19950719,1838,-45.6980, 145.6428, 2068,    496.8,   8.0180,  34.5050,2,  34.5050,2,   -999.0,5,    249.4,2,     6.40,2,    19.00,2,     1.35,2,  7.9690,   -999
    09AR9501_1,  SR03,     7,  1,     14,    114,2,19950719,1838,-45.6980, 145.6428, 2068,    598.4,   7.4840,  34.4550,2,  34.4550,2,   -999.0,5,    235.3,2,     8.90,2,    21.60,2,     1.50,2,  7.4260,   -999
    09AR9501_1,  SR03,     7,  1,     13,    113,2,19950719,1838,-45.6980, 145.6428, 2068,    696.4,   6.8940,  34.4470,2,  34.4280,2,   -999.0,5,    205.4,2,    17.70,2,    26.50,2,     1.82,2,  6.8290,   -999
    09AR9501_1,  SR03,     7,  1,     12,     12,2,19950719,1838,-45.6980, 145.6428, 2068,    800.3,   5.9560,  34.4080,3,  34.4090,2,   -999.0,5,    201.2,2,    21.10,2,    27.70,2,     1.90,2,  5.8860,   -999
    09AR9501_1,  SR03,     7,  1,     11,     11,2,19950719,1838,-45.6980, 145.6428, 2068,    899.3,   5.1030,  34.3790,3,  34.3810,2,   -999.0,5,    200.1,2,    27.40,2,    29.50,2,     2.04,2,  5.0290,   -999
    09AR9501_1,  SR03,     7,  1,     10,     10,2,19950719,1838,-45.6980, 145.6428, 2068,    997.3,   4.4990,  34.3830,2,  34.3810,2,   -999.0,5,    196.3,2,    34.30,2,    31.00,2,     2.15,2,  4.4210,   -999
    09AR9501_1,  SR03,     7,  1,      9,      9,2,19950719,1838,-45.6980, 145.6428, 2068,   1100.9,   3.9210,  34.3810,4,  34.3800,2,   -999.0,5,    194.7,2,    39.00,2,    32.00,2,     2.22,2,  3.8390,   -999
    09AR9501_1,  SR03,     7,  1,      8,      8,2,19950719,1838,-45.6980, 145.6428, 2068,   1199.8,   3.5930,  34.3980,2,  34.3970,2,   -999.0,5,    190.2,2,    43.80,2,    32.90,2,     2.28,2,  3.5050,   -999
    09AR9501_1,  SR03,     7,  1,      7,      7,2,19950719,1838,-45.6980, 145.6428, 2068,   1298.1,   3.3340,  34.4650,3,  34.4660,2,   -999.0,5,    175.6,2,    54.40,2,    33.90,2,     2.36,2,  3.2400,   -999
    09AR9501_1,  SR03,     7,  1,      6,      6,2,19950719,1838,-45.6980, 145.6428, 2068,   1399.5,   3.0680,  34.4790,2,  34.4790,2,   -999.0,5,    175.7,2,    55.80,2,    33.50,2,     2.33,2,  2.9690,   -999
    09AR9501_1,  SR03,     7,  1,      5,      5,2,19950719,1838,-45.6980, 145.6428, 2068,   1498.2,   2.8280,  34.5300,2,  34.5300,2,   -999.0,5,    170.9,2,    61.50,2,    33.80,2,     2.34,2,  2.7230,   -999
    09AR9501_1,  SR03,     7,  1,      4,      4,2,19950719,1838,-45.6980, 145.6428, 2068,   1648.8,   2.6270,  34.5810,2,  34.5830,2,   -999.0,5,    170.8,2,    65.10,2,    33.60,2,     2.33,2,  2.5120,   -999
    09AR9501_1,  SR03,     7,  1,      3,      3,2,19950719,1838,-45.6980, 145.6428, 2068,   1800.9,   2.4940,  34.6320,2,  34.6340,2,   -999.0,5,    173.4,2,    67.60,2,    33.30,2,     2.30,2,  2.3680,   -999
    09AR9501_1,  SR03,     7,  1,      2,      2,2,19950719,1838,-45.6980, 145.6428, 2068,   1937.1,   2.4010,  34.6630,2,  34.6640,2,   -999.0,5,    176.0,2,    70.80,2,    33.10,2,     2.28,2,  2.2640,   -999
    09AR9501_1,  SR03,     7,  1,      1,      1,2,19950719,1838,-45.6980, 145.6428, 2068,   2054.1,   2.2930,  34.6900,2,  34.6910,2,   -999.0,5,    178.7,2,    75.90,2,    32.50,2,     2.27,2,  2.1480,   -999
    09AR9501_1,  SR03,     8,  1,     24,     24,2,19950720,0148,-46.1697, 145.4597, 2740,      5.5,   8.7570,  34.5630,2,  34.5660,2,   -999.0,5,    276.6,2,     3.40,2,    14.50,2,     1.03,2,  8.7590,   -999
    09AR9501_1,  SR03,     8,  1,     23,     23,2,19950720,0148,-46.1697, 145.4597, 2740,     22.7,   8.7500,  34.5640,2,  34.5650,2,   -999.0,5,    274.9,2,     3.40,2,    14.50,2,     1.03,2,  8.7500,   -999
    09AR9501_1,  SR03,     8,  1,     22,     22,2,19950720,0148,-46.1697, 145.4597, 2740,     46.5,   8.7430,  34.5630,2,  34.5640,2,   -999.0,5,    274.3,2,     3.40,2,    14.60,2,     1.05,2,  8.7400,   -999
    09AR9501_1,  SR03,     8,  1,     21,     21,2,19950720,0148,-46.1697, 145.4597, 2740,     96.2,   8.7560,  34.5640,2,  34.5640,2,   -999.0,5,    274.9,2,     3.40,2,    14.70,2,     1.04,2,  8.7480,   -999
    09AR9501_1,  SR03,     8,  1,     20,    120,2,19950720,0148,-46.1697, 145.4597, 2740,    147.7,   8.7220,  34.5580,2,  34.5570,2,   -999.0,5,    274.4,2,     3.50,2,    14.90,2,     1.06,2,  8.7080,   -999
    09AR9501_1,  SR03,     8,  1,     19,    119,2,19950720,0148,-46.1697, 145.4597, 2740,    197.5,   8.6940,  34.5550,2,  34.5540,2,   -999.0,5,    274.1,2,     3.60,2,    15.10,2,     1.07,2,  8.6750,   -999
    09AR9501_1,  SR03,     8,  1,     18,    118,2,19950720,0148,-46.1697, 145.4597, 2740,    297.9,   8.7240,  34.5610,2,  34.5600,2,   -999.0,5,    275.1,2,     3.60,2,    15.20,2,     1.07,2,  8.6940,   -999
    09AR9501_1,  SR03,     8,  1,     17,    117,2,19950720,0148,-46.1697, 145.4597, 2740,    395.8,   8.9320,  34.6150,2,  34.6240,2,   -999.0,5,    265.5,2,     4.40,2,    15.60,2,     1.09,2,  8.8910,   -999
    09AR9501_1,  SR03,     8,  1,     16,    116,4,19950720,0148,-46.1697, 145.4597, 2740,    496.2,   8.6900,  34.5950,2,-999.0000,9,   -999.0,5,   -999.0,9,  -999.00,9,  -999.00,9,  -999.00,9,  8.6390,   -999
    09AR9501_1,  SR03,     8,  1,     15,    115,2,19950720,0148,-46.1697, 145.4597, 2740,    594.6,   7.8580,  34.4850,2,  34.4830,2,   -999.0,5,    246.9,2,     7.80,2,    20.40,2,     1.37,2,  7.7990,   -999
    09AR9501_1,  SR03,     8,  1,     14,    114,2,19950720,0148,-46.1697, 145.4597, 2740,    700.6,   7.1850,  34.4180,2,  34.4180,2,   -999.0,5,    239.5,2,    10.20,2,    22.70,2,     1.51,2,  7.1180,   -999
    09AR9501_1,  SR03,     8,  1,     13,    113,2,19950720,0148,-46.1697, 145.4597, 2740,    798.2,   6.5800,  34.4000,2,  34.4000,2,   -999.0,5,    221.0,2,    14.70,2,    25.70,2,     1.70,2,  6.5070,   -999
    09AR9501_1,  SR03,     8,  1,     12,     12,2,19950720,0148,-46.1697, 145.4597, 2740,    899.6,   5.4920,  34.3430,3,  34.3420,2,   -999.0,5,    217.7,2,    20.20,2,    28.50,2,     1.87,2,  5.4160,   -999
    09AR9501_1,  SR03,     8,  1,     11,     11,2,19950720,0148,-46.1697, 145.4597, 2740,    998.3,   4.6050,  34.3140,2,  34.3110,2,   -999.0,5,    218.3,2,    25.90,2,    30.40,2,     2.02,2,  4.5260,   -999
    09AR9501_1,  SR03,     8,  1,     10,     10,2,19950720,0148,-46.1697, 145.4597, 2740,   1095.8,   4.0420,  34.3100,2,  34.3070,2,   -999.0,5,    214.8,2,    30.80,2,    31.50,2,     2.09,2,  3.9590,   -999
    09AR9501_1,  SR03,     8,  1,      9,      9,2,19950720,0148,-46.1697, 145.4597, 2740,   1198.8,   3.5580,  34.3540,2,  34.3520,2,   -999.0,5,    201.4,2,    41.40,2,    33.30,2,     2.22,2,  3.4710,   -999
    09AR9501_1,  SR03,     8,  1,      8,      8,2,19950720,0148,-46.1697, 145.4597, 2740,   1396.9,   3.1150,  34.4330,2,  34.4340,2,   -999.0,5,    183.1,2,    54.60,2,    34.30,2,     2.33,2,  3.0160,   -999
    09AR9501_1,  SR03,     8,  1,      7,      7,2,19950720,0148,-46.1697, 145.4597, 2740,   1597.7,   2.7440,  34.5100,2,  34.5080,2,   -999.0,5,    176.1,2,    62.50,2,    34.60,2,     2.35,2,  2.6320,   -999
    09AR9501_1,  SR03,     8,  1,      6,      6,2,19950720,0148,-46.1697, 145.4597, 2740,   1799.7,   2.5600,  34.6070,2,  34.6070,2,   -999.0,5,    172.2,2,    69.50,2,    34.00,2,     2.30,2,  2.4330,   -999
    09AR9501_1,  SR03,     8,  1,      5,      5,2,19950720,0148,-46.1697, 145.4597, 2740,   1999.9,   2.4390,  34.6670,2,  34.6650,2,   -999.0,5,    175.6,2,    72.00,2,    33.30,2,     2.23,2,  2.2960,   -999
    09AR9501_1,  SR03,     8,  1,      4,      4,2,19950720,0148,-46.1697, 145.4597, 2740,   2200.0,   2.2300,  34.7070,3,  34.7060,2,   -999.0,5,    179.5,2,    79.40,2,    33.00,2,     2.20,2,  2.0730,   -999
    09AR9501_1,  SR03,     8,  1,      3,      3,2,19950720,0148,-46.1697, 145.4597, 2740,   2401.7,   1.9960,  34.7310,2,  34.7300,2,   -999.0,5,    183.9,2,    84.90,2,    32.50,2,     2.18,2,  1.8250,   -999
    09AR9501_1,  SR03,     8,  1,      2,      2,2,19950720,0148,-46.1697, 145.4597, 2740,   2603.0,   1.7550,  34.7340,3,  34.7350,2,   -999.0,5,    187.4,2,    85.80,2,    32.60,2,     2.27,3,  1.5700,   -999
    09AR9501_1,  SR03,     8,  1,      1,      1,2,19950720,0148,-46.1697, 145.4597, 2740,   2745.4,   1.6080,  34.7320,2,  34.7320,2,   -999.0,5,    190.1,2,    92.70,2,    32.00,2,     2.29,3,  1.4130,   -999
    09AR9501_1,  SR03,     9,  1,     24,     24,4,19950720,0835,-46.6488, 145.2447, 3348,      6.2,   8.7970,  34.5970,2,-999.0000,9,   -999.0,5,   -999.0,9,  -999.00,9,  -999.00,9,  -999.00,9,  8.7980,   -999
    09AR9501_1,  SR03,     9,  1,     23,     23,2,19950720,0835,-46.6488, 145.2447, 3348,     21.9,   8.8000,  34.5980,2,  34.5980,2,   -999.0,5,    274.7,2,     3.40,2,    14.00,2,     1.03,2,  8.8000,   -999
    09AR9501_1,  SR03,     9,  1,     22,     22,2,19950720,0835,-46.6488, 145.2447, 3348,     46.2,   8.8060,  34.5970,2,  34.5970,2,   -999.0,5,    274.5,2,     3.30,2,    14.10,2,     1.06,2,  8.8030,   -999
    09AR9501_1,  SR03,     9,  1,     21,     21,2,19950720,0835,-46.6488, 145.2447, 3348,     96.7,   8.8150,  34.5980,2,  34.5970,2,   -999.0,5,    274.9,2,     3.30,2,    14.10,2,     1.04,2,  8.8070,   -999
    09AR9501_1,  SR03,     9,  1,     20,    120,2,19950720,0835,-46.6488, 145.2447, 3348,    146.4,   8.8290,  34.6000,2,  34.5990,2,   -999.0,5,    274.5,2,     3.50,2,    14.20,2,     1.05,2,  8.8160,   -999
    09AR9501_1,  SR03,     9,  1,     19,    119,2,19950720,0835,-46.6488, 145.2447, 3348,    246.3,   8.8530,  34.6020,2,  34.6010,2,   -999.0,5,    273.9,2,     3.40,2,    14.40,2,     1.04,2,  8.8290,   -999
    09AR9501_1,  SR03,     9,  1,     18,    118,2,19950720,0835,-46.6488, 145.2447, 3348,    346.2,   8.8650,  34.6030,2,  34.6030,2,   -999.0,5,    273.9,2,     3.40,2,    14.40,2,     1.05,2,  8.8300,   -999
    09AR9501_1,  SR03,     9,  1,     17,    117,2,19950720,0835,-46.6488, 145.2447, 3348,    448.2,   8.9650,  34.6350,2,  34.6340,2,   -999.0,5,    264.3,2,     4.40,2,    15.40,2,     1.10,2,  8.9180,   -999
    09AR9501_1,  SR03,     9,  1,     16,    216,2,19950720,0835,-46.6488, 145.2447, 3348,    546.5,   8.8020,  34.6150,3,  34.6140,2,   -999.0,5,   -999.0,9,     4.50,2,    15.90,2,     1.14,2,  8.7450,   -999
    09AR9501_1,  SR03,     9,  1,     15,    115,2,19950720,0835,-46.6488, 145.2447, 3348,    696.3,   7.8570,  34.4840,3,  34.4850,2,   -999.0,5,    250.8,2,     7.10,2,    19.80,2,     1.40,2,  7.7870,   -999
    09AR9501_1,  SR03,     9,  1,     14,    114,2,19950720,0835,-46.6488, 145.2447, 3348,    796.8,   7.1260,  34.4420,2,  34.4430,2,   -999.0,5,    219.1,2,    12.10,2,    24.00,2,     1.64,2,  7.0500,   -999
    09AR9501_1,  SR03,     9,  1,     13,    113,2,19950720,0835,-46.6488, 145.2447, 3348,    999.0,   5.2010,  34.3570,4,  34.3580,2,   -999.0,5,    208.5,2,    23.20,2,    29.40,2,     1.99,2,  5.1180,   -999
    09AR9501_1,  SR03,     9,  1,     12,     12,2,19950720,0835,-46.6488, 145.2447, 3348,   1051.5,   4.7470,  34.3430,2,  34.3440,2,   -999.0,5,    208.8,2,    25.90,2,    30.20,2,     2.07,2,  4.6620,   -999
    09AR9501_1,  SR03,     9,  1,     11,     11,2,19950720,0835,-46.6488, 145.2447, 3348,   1298.3,   3.4190,  34.3810,3,  34.3800,2,   -999.0,5,    194.4,2,    43.00,2,    33.40,2,     2.29,2,  3.3250,   -999
    09AR9501_1,  SR03,     9,  1,     10,     10,2,19950720,0835,-46.6488, 145.2447, 3348,   1498.7,   2.8970,  34.4570,2,  34.4540,2,   -999.0,5,   -999.0,9,    54.10,2,    34.50,2,     2.37,2,  2.7910,   -999
    09AR9501_1,  SR03,     9,  1,      9,      9,2,19950720,0835,-46.6488, 145.2447, 3348,   1696.7,   2.6850,  34.5550,2,  34.5540,2,   -999.0,5,    172.3,2,    63.70,2,    34.30,2,     2.35,2,  2.5650,   -999
    09AR9501_1,  SR03,     9,  1,      8,      8,2,19950720,0835,-46.6488, 145.2447, 3348,   1900.6,   2.5150,  34.6310,2,  34.6300,2,   -999.0,5,    172.7,2,    68.00,2,    33.30,2,     2.28,2,  2.3800,   -999
    09AR9501_1,  SR03,     9,  1,      7,      7,2,19950720,0835,-46.6488, 145.2447, 3348,   2101.1,   2.3940,  34.6850,2,  34.6840,2,   -999.0,5,    176.5,2,    70.30,2,    31.20,3,     2.33,3,  2.2430,   -999
    09AR9501_1,  SR03,     9,  1,      6,      6,2,19950720,0835,-46.6488, 145.2447, 3348,   2299.7,   2.2540,  34.7150,2,  34.7150,2,   -999.0,5,    177.5,2,    77.50,2,    32.60,2,     2.22,2,  2.0880,   -999
    09AR9501_1,  SR03,     9,  1,      5,      5,2,19950720,0835,-46.6488, 145.2447, 3348,   2499.8,   2.0880,  34.7330,2,  34.7330,2,   -999.0,5,    185.5,2,    77.90,2,    30.30,3,     2.26,3,  1.9060,   -999
    09AR9501_1,  SR03,     9,  1,      4,      4,2,19950720,0835,-46.6488, 145.2447, 3348,   2702.0,   1.9230,  34.7380,2,  34.7400,2,   -999.0,5,    188.4,2,    84.00,2,    31.90,2,     2.18,2,  1.7260,   -999
    09AR9501_1,  SR03,     9,  1,      3,      3,2,19950720,0835,-46.6488, 145.2447, 3348,   3103.6,   1.5480,  34.7310,2,  34.7320,2,   -999.0,5,    192.5,2,    97.30,2,    32.30,2,     2.21,2,  1.3200,   -999
    09AR9501_1,  SR03,     9,  1,      2,      2,2,19950720,0835,-46.6488, 145.2447, 3348,   3301.4,   1.4610,  34.7270,2,  34.7280,2,   -999.0,5,    193.6,2,   100.50,2,    32.70,2,     2.22,2,  1.2160,   -999
    09AR9501_1,  SR03,     9,  1,      1,      1,2,19950720,0835,-46.6488, 145.2447, 3348,   3390.5,   1.4040,  34.7260,2,  34.7260,2,   -999.0,5,    182.5,2,    95.00,2,    31.00,3,     2.31,3,  1.1510,   -999