BOTTLE,20020620WHPSIOKJU
EXPOCODE,SECT_ID,STNNBR,CASTNO,SAMPNO,BTLNBR,BTLNBR_FLAG_W,DATE,TIME,LATITUDE,LONGITUDE,DEPTH,CTDPRS,CTDTMP,CTDSAL,CTDSAL_FLAG_W,SALNTY,SALNTY_FLAG_W,CTDOXY,CTDOXY_FLAG_W,OXYGEN,OXYGEN_FLAG_W,SILCAT,SILCAT_FLAG_W,NO2+NO3,NO2+NO3_FLAG_W,PHSPHT,PHSPHT_FLAG_W,THETA,CTDRAW
,,,,,,,,,,,,DBAR,DEG C,PSS-78,,PSS-78,,UMOL/KG,,UMOL/KG,,UMOL/KG,,UMOL/KG,,UMOL/KG,,DEG C,
    09AR9501_1,  SR03,    52,  1,     24,     24,2,19950801,1201,-65.1258, 140.3152, 2583,      9.6,  -1.8540,  34.2570,2,  34.2550,2,   -999.0,5,    298.1,2,    61.40,2,    30.40,2,     2.11,2, -1.8550,   -999
    09AR9501_1,  SR03,    52,  1,     23,     23,2,19950801,1201,-65.1258, 140.3152, 2583,     34.5,  -1.8510,  34.2540,2,  34.2550,2,   -999.0,5,    298.0,2,    61.40,2,    30.50,2,     2.10,2, -1.8520,   -999
    09AR9501_1,  SR03,    52,  1,     22,     22,2,19950801,1201,-65.1258, 140.3152, 2583,     74.2,  -1.8470,  34.2550,2,  34.2550,2,   -999.0,5,    297.7,2,    61.40,2,    30.40,2,     2.11,2, -1.8490,   -999
    09AR9501_1,  SR03,    52,  1,     21,     21,2,19950801,1201,-65.1258, 140.3152, 2583,    114.1,  -1.8380,  34.2570,2,  34.2560,2,   -999.0,5,    296.7,2,    59.50,2,    30.20,2,     2.10,2, -1.8410,   -999
    09AR9501_1,  SR03,    52,  1,     20,    120,2,19950801,1201,-65.1258, 140.3152, 2583,    174.5,  -1.0420,  34.4450,3,  34.4470,2,   -999.0,5,    272.5,2,    71.50,2,    30.20,2,     2.12,2, -1.0470,   -999
    09AR9501_1,  SR03,    52,  1,     19,    119,2,19950801,1201,-65.1258, 140.3152, 2583,    245.4,  -0.1550,  34.5600,2,  34.5600,2,   -999.0,5,    243.0,2,    77.90,2,    30.60,2,     2.15,2, -0.1640,   -999
    09AR9501_1,  SR03,    52,  1,     18,    118,2,19950801,1201,-65.1258, 140.3152, 2583,    345.3,   0.8280,  34.6740,2,  34.6750,2,   -999.0,5,    211.6,2,    85.70,2,    30.60,2,     2.15,2,  0.8130,   -999
    09AR9501_1,  SR03,    52,  1,     17,    117,2,19950801,1201,-65.1258, 140.3152, 2583,    395.3,   0.9490,  34.6920,2,  34.6910,2,   -999.0,5,    208.7,2,    87.50,2,    30.40,2,     2.15,2,  0.9310,   -999
    09AR9501_1,  SR03,    52,  1,     16,    216,2,19950801,1201,-65.1258, 140.3152, 2583,    495.2,   0.9350,  34.7010,2,  34.7000,2,   -999.0,5,    207.8,2,    90.70,2,    30.60,2,     2.16,2,  0.9120,   -999
    09AR9501_1,  SR03,    52,  1,     15,    115,2,19950801,1201,-65.1258, 140.3152, 2583,    596.5,   0.9180,  34.7090,2,  34.7080,2,   -999.0,5,    206.5,2,    93.70,2,    31.00,2,     2.16,2,  0.8890,   -999
    09AR9501_1,  SR03,    52,  1,     14,    114,2,19950801,1201,-65.1258, 140.3152, 2583,    696.6,   0.8200,  34.7050,2,  34.7070,2,   -999.0,5,    207.2,2,    97.00,2,    31.00,2,     2.18,2,  0.7870,   -999
    09AR9501_1,  SR03,    52,  1,     13,    113,2,19950801,1201,-65.1258, 140.3152, 2583,    796.6,   0.7080,  34.7000,2,  34.6980,2,   -999.0,5,    208.4,2,   100.40,2,    31.00,2,     2.19,2,  0.6700,   -999
    09AR9501_1,  SR03,    52,  1,     12,     12,2,19950801,1201,-65.1258, 140.3152, 2583,    897.0,   0.6010,  34.6950,2,  34.6980,2,   -999.0,5,    209.8,2,   101.90,2,    31.30,2,     2.18,2,  0.5580,   -999
    09AR9501_1,  SR03,    52,  1,     11,     11,2,19950801,1201,-65.1258, 140.3152, 2583,    998.3,   0.4820,  34.6900,2,  34.6880,2,   -999.0,5,    212.3,2,   104.00,2,    31.30,2,     2.19,2,  0.4340,   -999
    09AR9501_1,  SR03,    52,  1,     10,     10,2,19950801,1201,-65.1258, 140.3152, 2583,   1098.8,   0.3010,  34.6780,2,  34.6780,2,   -999.0,5,    217.7,2,   102.90,2,    31.40,2,     2.19,2,  0.2490,   -999
    09AR9501_1,  SR03,    52,  1,      9,      9,2,19950801,1201,-65.1258, 140.3152, 2583,   1196.6,   0.3390,  34.6870,2,  34.6870,2,   -999.0,5,    215.6,2,   107.90,2,    31.50,2,     2.20,2,  0.2810,   -999
    09AR9501_1,  SR03,    52,  1,      8,      8,2,19950801,1201,-65.1258, 140.3152, 2583,   1397.7,   0.1930,  34.6840,3,  34.6840,2,   -999.0,5,    218.9,2,   108.40,2,    31.50,2,     2.20,2,  0.1240,   -999
    09AR9501_1,  SR03,    52,  1,      7,      7,2,19950801,1201,-65.1258, 140.3152, 2583,   1498.1,   0.1050,  34.6760,2,  34.6760,2,   -999.0,5,    223.7,2,   104.50,2,    31.50,2,     2.20,2,  0.0310,   -999
    09AR9501_1,  SR03,    52,  1,      6,      6,2,19950801,1201,-65.1258, 140.3152, 2583,   1698.2,   0.0180,  34.6730,2,  34.6730,2,   -999.0,5,    226.6,2,   103.10,2,    31.40,2,     2.20,2, -0.0680,   -999
    09AR9501_1,  SR03,    52,  1,      5,      5,2,19950801,1201,-65.1258, 140.3152, 2583,   1899.9,  -0.1320,  34.6660,2,  34.6660,2,   -999.0,5,    233.5,2,    99.40,2,    31.20,2,     2.17,2, -0.2290,   -999
    09AR9501_1,  SR03,    52,  1,      4,      4,2,19950801,1201,-65.1258, 140.3152, 2583,   2099.1,  -0.2270,  34.6600,2,  34.6590,2,   -999.0,5,    237.8,2,    97.40,2,    31.10,2,     2.17,2, -0.3360,   -999
    09AR9501_1,  SR03,    52,  1,      3,      3,2,19950801,1201,-65.1258, 140.3152, 2583,   2300.0,  -0.2770,  34.6660,2,  34.6650,2,   -999.0,5,    239.9,2,    95.80,2,    31.00,2,     2.17,2, -0.3990,   -999
    09AR9501_1,  SR03,    52,  1,      2,      2,2,19950801,1201,-65.1258, 140.3152, 2583,   2541.2,  -0.3030,  34.6690,2,  34.6690,2,   -999.0,5,    240.7,2,    95.50,2,    30.90,2,     2.17,2, -0.4430,   -999
    09AR9501_1,  SR03,    52,  1,      1,      1,2,19950801,1201,-65.1258, 140.3152, 2583,   2580.9,  -0.2940,  34.6690,2,  34.6710,2,   -999.0,5,    242.2,2,    95.60,2,    31.00,2,     2.18,2, -0.4370,   -999
    09AR9501_1,  SR03,   101,  1,     12,    120,2,19950809,1757,-65.5105, 139.7512, 1761,     10.0,  -1.8700,  34.2470,2,  34.2490,2,   -999.0,5,    336.5,2,    55.40,2,    27.40,2,     1.91,2, -1.8710,   -999
    09AR9501_1,  SR03,   101,  1,     11,     11,2,19950809,1757,-65.5105, 139.7512, 1761,     95.0,  -1.8100,  34.2820,2,  34.2510,4,   -999.0,5,    324.4,2,    59.70,2,    28.30,2,     1.96,2, -1.8120,   -999
    09AR9501_1,  SR03,   101,  1,     10,     10,2,19950809,1757,-65.5105, 139.7512, 1761,    195.4,  -1.6580,  34.4350,2,  34.4360,2,   -999.0,5,    298.3,2,    68.30,2,    30.20,2,     2.10,2, -1.6630,   -999
    09AR9501_1,  SR03,   101,  1,      9,      9,2,19950809,1757,-65.5105, 139.7512, 1761,    295.9,  -0.1310,  34.5910,2,  34.5940,2,   -999.0,5,    240.0,2,    83.70,2,    30.80,2,     2.14,2, -0.1420,   -999
    09AR9501_1,  SR03,   101,  1,      8,      8,2,19950809,1757,-65.5105, 139.7512, 1761,    396.3,   0.3770,  34.6530,2,  34.6510,2,   -999.0,5,    222.0,2,    91.90,2,    31.70,2,     2.16,2,  0.3600,   -999
    09AR9501_1,  SR03,   101,  1,      7,      7,2,19950809,1757,-65.5105, 139.7512, 1761,    596.8,   0.4520,  34.6810,2,  34.6780,2,   -999.0,5,    215.8,2,   104.00,2,    31.60,2,     2.19,2,  0.4260,   -999
    09AR9501_1,  SR03,   101,  1,      6,      6,2,19950809,1757,-65.5105, 139.7512, 1761,    797.1,   0.1200,  34.6670,2,  34.6660,2,   -999.0,5,    223.7,2,   108.90,2,    31.70,2,     2.20,2,  0.0850,   -999
    09AR9501_1,  SR03,   101,  1,      5,      5,2,19950809,1757,-65.5105, 139.7512, 1761,    997.4,  -0.0010,  34.6700,2,  34.6680,2,   -999.0,5,    226.9,2,   109.70,2,    31.90,2,     2.20,2, -0.0450,   -999
    09AR9501_1,  SR03,   101,  1,      4,      4,2,19950809,1757,-65.5105, 139.7512, 1761,   1198.0,  -0.2890,  34.6490,2,  34.6500,2,   -999.0,5,    239.4,2,   103.00,2,    31.70,2,     2.18,2, -0.3410,   -999
    09AR9501_1,  SR03,   101,  1,      3,      3,2,19950809,1757,-65.5105, 139.7512, 1761,   1448.7,  -0.6320,  34.6270,2,  34.6280,2,   -999.0,5,    256.4,2,    95.00,2,    31.20,2,     2.15,2, -0.6940,   -999
    09AR9501_1,  SR03,   101,  1,      2,      2,2,19950809,1757,-65.5105, 139.7512, 1761,   1700.3,  -0.7170,  34.6200,2,  34.6220,2,   -999.0,5,    261.3,2,    92.10,2,    31.00,2,     2.14,2, -0.7930,   -999
    09AR9501_1,  SR03,   101,  1,      1,      1,2,19950809,1757,-65.5105, 139.7512, 1761,   1735.8,  -0.7790,  34.6150,2,  34.6170,2,   -999.0,5,    264.5,2,    90.40,2,    30.70,2,     2.15,2, -0.8560,   -999
    09AR9501_1,  SR03,   102,  1,     12,    120,2,19950809,2114,-65.4610, 139.7945, 2069,     10.2,  -1.8740,  34.2870,2,  34.3020,4,   -999.0,5,    331.1,2,    56.80,2,    28.30,2,     1.93,2, -1.8750,   -999
    09AR9501_1,  SR03,   102,  1,     11,     11,2,19950809,2114,-65.4610, 139.7945, 2069,     65.0,  -1.8720,  34.2860,2,  34.2870,2,   -999.0,5,    330.7,2,    56.70,2,    28.00,2,     1.93,2, -1.8740,   -999
    09AR9501_1,  SR03,   102,  1,     10,     10,2,19950809,2114,-65.4610, 139.7945, 2069,    154.9,  -1.7740,  34.3710,2,  34.3790,2,   -999.0,5,    303.7,2,    65.20,2,    30.30,2,     2.05,2, -1.7780,   -999
    09AR9501_1,  SR03,   102,  1,      9,      9,2,19950809,2114,-65.4610, 139.7945, 2069,    245.5,  -0.7740,  34.5040,2,  34.5040,2,   -999.0,5,    262.6,2,    78.70,2,    31.20,2,     2.12,2, -0.7820,   -999
    09AR9501_1,  SR03,   102,  1,      8,      8,2,19950809,2114,-65.4610, 139.7945, 2069,    335.5,  -0.0260,  34.5980,2,  34.5970,2,   -999.0,5,    236.5,2,    86.30,2,    31.60,2,     2.15,2, -0.0390,   -999
    09AR9501_1,  SR03,   102,  1,      7,      7,2,19950809,2114,-65.4610, 139.7945, 2069,    445.4,   0.4420,  34.6580,2,  34.6580,2,   -999.0,5,    220.3,2,    93.30,2,    31.60,2,     2.16,2,  0.4230,   -999
    09AR9501_1,  SR03,   102,  1,      6,      6,2,19950809,2114,-65.4610, 139.7945, 2069,    646.8,  -0.0120,  34.6360,2,  34.6350,2,   -999.0,5,    234.1,2,    95.50,2,    31.60,2,     2.16,2, -0.0380,   -999
    09AR9501_1,  SR03,   102,  1,      5,      5,2,19950809,2114,-65.4610, 139.7945, 2069,    897.3,  -0.1820,  34.6400,2,  34.6380,2,   -999.0,5,    237.0,2,   101.00,2,    31.90,2,     2.17,2, -0.2200,   -999
    09AR9501_1,  SR03,   102,  1,      4,      4,2,19950809,2114,-65.4610, 139.7945, 2069,   1197.9,  -0.1810,  34.6570,2,  34.6570,2,   -999.0,5,    234.6,2,   103.70,2,    31.90,2,     2.19,2, -0.2340,   -999
    09AR9501_1,  SR03,   102,  1,      3,      3,2,19950809,2114,-65.4610, 139.7945, 2069,   1499.2,  -0.3340,  34.6500,2,  34.6490,2,   -999.0,5,    242.6,2,    99.40,2,    31.80,2,     2.18,2, -0.4030,   -999
    09AR9501_1,  SR03,   102,  1,      2,      2,2,19950809,2114,-65.4610, 139.7945, 2069,   1800.1,  -0.7270,  34.6210,2,  34.6230,2,   -999.0,5,    261.6,2,    91.00,2,    31.20,2,     2.15,2, -0.8090,   -999
    09AR9501_1,  SR03,   102,  1,      1,      1,2,19950809,2114,-65.4610, 139.7945, 2069,   2070.7,  -0.7580,  34.6170,2,  34.6180,2,   -999.0,5,    264.0,2,    89.50,2,    31.40,2,     2.14,2, -0.8560,   -999
    09AR9501_1,  SR03,   103,  1,     20,    120,2,19950810,0010,-65.3633, 139.9407, 2561,      9.4,  -1.8730,  34.2940,2,  34.2960,2,   -999.0,5,    297.7,2,    60.40,2,    30.40,2,     2.07,2, -1.8740,   -999
    09AR9501_1,  SR03,   103,  1,     11,     11,2,19950810,0010,-65.3633, 139.9407, 2561,     94.6,  -1.8710,  34.2990,2,  34.2980,2,   -999.0,5,    298.9,2,    59.30,2,    30.40,2,     2.08,2, -1.8730,   -999
    09AR9501_1,  SR03,   103,  1,     10,     10,2,19950810,0010,-65.3633, 139.9407, 2561,    195.3,  -1.3590,  34.4120,2,  34.4090,2,   -999.0,5,    281.4,2,    73.10,2,    30.60,2,     2.10,2, -1.3640,   -999
    09AR9501_1,  SR03,   103,  1,      9,      9,2,19950810,0010,-65.3633, 139.9407, 2561,    296.0,  -0.2300,  34.5520,2,  34.5550,2,   -999.0,5,    244.4,2,    81.00,2,    31.10,2,     2.15,2, -0.2410,   -999
    09AR9501_1,  SR03,   103,  1,      8,      8,2,19950810,0010,-65.3633, 139.9407, 2561,    395.7,   0.0290,  34.6100,2,  34.6100,2,   -999.0,5,    234.0,2,    86.80,2,    31.20,2,     2.15,2,  0.0140,   -999
    09AR9501_1,  SR03,   103,  1,      7,      7,2,19950810,0010,-65.3633, 139.9407, 2561,    646.9,   0.2760,  34.6590,2,  34.6580,2,   -999.0,5,    221.7,2,    99.70,2,    31.40,2,     2.18,2,  0.2480,   -999
    09AR9501_1,  SR03,   103,  1,      6,      6,2,19950810,0010,-65.3633, 139.9407, 2561,    897.1,   0.1840,  34.6660,2,  34.6650,2,   -999.0,5,    222.2,2,   105.60,2,    31.90,2,     2.19,2,  0.1440,   -999
    09AR9501_1,  SR03,   103,  1,      5,      5,2,19950810,0010,-65.3633, 139.9407, 2561,   1197.5,   0.1620,  34.6790,2,  34.6780,2,   -999.0,5,    220.5,2,   112.30,2,    31.40,2,     2.20,2,  0.1050,   -999
    09AR9501_1,  SR03,   103,  1,      4,      4,2,19950810,0010,-65.3633, 139.9407, 2561,   1499.0,  -0.2170,  34.6530,2,  34.6530,2,   -999.0,5,    236.2,2,   104.10,2,    31.50,2,     2.18,2, -0.2870,   -999
    09AR9501_1,  SR03,   103,  1,      3,      3,2,19950810,0010,-65.3633, 139.9407, 2561,   1849.3,  -0.2200,  34.6610,2,  34.6630,2,   -999.0,5,    236.2,2,   103.90,2,    32.60,3,     2.18,2, -0.3120,   -999
    09AR9501_1,  SR03,   103,  1,      2,      2,2,19950810,0010,-65.3633, 139.9407, 2561,   2201.0,  -0.4370,  34.6450,2,  34.6440,2,   -999.0,5,    247.5,2,    98.80,2,    31.30,2,     2.16,2, -0.5500,   -999
    09AR9501_1,  SR03,   103,  1,      1,      1,2,19950810,0010,-65.3633, 139.9407, 2561,   2538.1,  -0.5400,  34.6330,2,  34.6340,2,   -999.0,5,    253.7,2,    95.90,2,    31.30,2,     2.15,2, -0.6750,   -999
    09AR9501_1,  SR03,   202,  1,     24,    120,2,19950826,2046,-61.3322, 139.8963, 4402,     11.4,  -0.7360,  33.9700,2,  33.9690,2,   -999.0,5,    339.1,2,    27.80,2,    28.70,2,     2.00,2, -0.7360,   -999
    09AR9501_1,  SR03,   202,  1,     23,     23,2,19950826,2046,-61.3322, 139.8963, 4402,     45.6,  -0.7310,  33.9700,2,  33.9680,2,   -999.0,5,    339.1,2,    27.60,2,    29.00,2,     2.00,2, -0.7320,   -999
    09AR9501_1,  SR03,   202,  1,     22,    222,2,19950826,2046,-61.3322, 139.8963, 4402,     95.8,  -0.7280,  33.9720,3,  33.9700,2,   -999.0,5,    338.7,2,    27.80,2,    29.00,2,     2.01,2, -0.7310,   -999
    09AR9501_1,  SR03,   202,  1,     21,     21,2,19950826,2046,-61.3322, 139.8963, 4402,    196.3,   2.0330,  34.4850,2,  34.4790,2,   -999.0,5,    179.6,2,    62.90,2,    35.30,2,     2.41,2,  2.0230,   -999
    09AR9501_1,  SR03,   202,  1,     20,     24,2,19950826,2046,-61.3322, 139.8963, 4402,    297.7,   2.1610,  34.5730,2,  34.5690,2,   -999.0,5,    172.7,2,    68.30,2,    34.50,2,     2.36,2,  2.1450,   -999
    09AR9501_1,  SR03,   202,  1,     19,    119,2,19950826,2046,-61.3322, 139.8963, 4402,    396.4,   2.1440,  34.6230,2,  34.6190,2,   -999.0,5,    172.6,2,    71.90,2,    33.90,2,     2.31,2,  2.1220,   -999
    09AR9501_1,  SR03,   202,  1,     18,    118,2,19950826,2046,-61.3322, 139.8963, 4402,    496.2,   2.1090,  34.6590,2,  34.6590,2,   -999.0,5,    175.6,2,    74.90,2,    33.00,2,     2.25,2,  2.0810,   -999
    09AR9501_1,  SR03,   202,  1,     17,    117,2,19950826,2046,-61.3322, 139.8963, 4402,    597.1,   2.0610,  34.6870,2,  34.6850,2,   -999.0,5,    178.7,2,    77.20,2,    32.40,2,     2.21,2,  2.0270,   -999
    09AR9501_1,  SR03,   202,  1,     16,    216,2,19950826,2046,-61.3322, 139.8963, 4402,    699.5,   2.0050,  34.7120,2,  34.7090,2,   -999.0,5,    182.7,2,    79.00,2,    31.60,2,     2.18,2,  1.9650,   -999
    09AR9501_1,  SR03,   202,  1,     15,    115,2,19950826,2046,-61.3322, 139.8963, 4402,    797.4,   1.9510,  34.7260,2,  34.7250,2,   -999.0,5,    186.6,2,    79.40,2,    30.80,2,     2.15,2,  1.9050,   -999
    09AR9501_1,  SR03,   202,  1,     14,    114,2,19950826,2046,-61.3322, 139.8963, 4402,    899.5,   1.8990,  34.7330,2,  34.7330,2,   -999.0,5,    189.7,2,    80.80,2,    30.40,2,     2.12,2,  1.8470,   -999
    09AR9501_1,  SR03,   202,  1,     13,    113,2,19950826,2046,-61.3322, 139.8963, 4402,    998.1,   1.8510,  34.7410,2,  34.7390,2,   -999.0,5,    192.3,2,    81.80,2,    30.10,2,     2.10,2,  1.7920,   -999
    09AR9501_1,  SR03,   202,  1,     12,    112,4,19950826,2046,-61.3322, 139.8963, 4402,   1099.4,   1.7970,  34.7460,3,  35.0010,4,   -999.0,5,   -999.0,9,  -999.00,9,  -999.00,9,  -999.00,9,  1.7320,   -999
    09AR9501_1,  SR03,   202,  1,     11,     11,2,19950826,2046,-61.3322, 139.8963, 4402,   1298.7,   1.6310,  34.7480,2,  34.7480,2,   -999.0,5,    197.9,2,    87.80,2,    29.70,2,     2.08,2,  1.5530,   -999
    09AR9501_1,  SR03,   202,  1,     10,     10,2,19950826,2046,-61.3322, 139.8963, 4402,   1497.5,   1.4600,  34.7430,2,  34.7460,2,   -999.0,5,    200.1,2,    93.60,2,    30.00,2,     2.10,2,  1.3700,   -999
    09AR9501_1,  SR03,   202,  1,      9,      9,2,19950826,2046,-61.3322, 139.8963, 4402,   1800.2,   1.2080,  34.7310,2,  34.7330,2,   -999.0,5,    203.1,2,   101.80,2,    30.30,2,     2.13,2,  1.0990,   -999
    09AR9501_1,  SR03,   202,  1,      8,      8,2,19950826,2046,-61.3322, 139.8963, 4402,   2089.6,   0.9910,  34.7200,2,  34.7200,2,   -999.0,5,    205.5,2,   106.90,2,    31.10,2,     2.15,2,  0.8630,   -999
    09AR9501_1,  SR03,   202,  1,      7,      7,2,19950826,2046,-61.3322, 139.8963, 4402,   2401.6,   0.7730,  34.7090,2,  34.7090,2,   -999.0,5,    208.1,2,   114.40,2,    31.40,2,     2.19,2,  0.6240,   -999
    09AR9501_1,  SR03,   202,  1,      6,      6,2,19950826,2046,-61.3322, 139.8963, 4402,   2702.1,   0.5570,  34.6960,2,  34.6990,2,   -999.0,5,    211.9,2,   119.20,2,    31.40,2,     2.20,2,  0.3870,   -999
    09AR9501_1,  SR03,   202,  1,      5,      5,2,19950826,2046,-61.3322, 139.8963, 4402,   3003.4,   0.3770,  34.6890,2,  34.6930,2,   -999.0,5,    217.1,2,   123.10,2,    31.50,2,     2.20,2,  0.1850,   -999
    09AR9501_1,  SR03,   202,  1,      4,      4,2,19950826,2046,-61.3322, 139.8963, 4402,   3410.6,   0.2160,  34.6830,2,  34.6840,2,   -999.0,5,    222.3,2,   126.60,2,    31.50,2,     2.21,2, -0.0090,   -999
    09AR9501_1,  SR03,   202,  1,      3,      3,2,19950826,2046,-61.3322, 139.8963, 4402,   3804.6,   0.0830,  34.6770,2,  34.6780,2,   -999.0,5,    227.8,2,   127.10,2,    32.30,2,     2.20,2, -0.1760,   -999
    09AR9501_1,  SR03,   202,  1,      2,      2,2,19950826,2046,-61.3322, 139.8963, 4402,   4155.7,  -0.0440,  34.6720,3,  34.6760,2,   -999.0,5,    234.1,2,   121.10,2,    31.20,2,     2.20,2, -0.3350,   -999
    09AR9501_1,  SR03,   202,  1,      1,      1,2,19950826,2046,-61.3322, 139.8963, 4402,   4392.2,  -0.1150,  34.6670,2,  34.6710,2,   -999.0,5,    234.7,2,   120.40,2,    31.30,2,     2.20,2, -0.4280,   -999