BOTTLE,20020620WHPSIOKJU
EXPOCODE,SECT_ID,STNNBR,CASTNO,SAMPNO,BTLNBR,BTLNBR_FLAG_W,DATE,TIME,LATITUDE,LONGITUDE,DEPTH,CTDPRS,CTDTMP,CTDSAL,CTDSAL_FLAG_W,SALNTY,SALNTY_FLAG_W,CTDOXY,CTDOXY_FLAG_W,OXYGEN,OXYGEN_FLAG_W,SILCAT,SILCAT_FLAG_W,NO2+NO3,NO2+NO3_FLAG_W,PHSPHT,PHSPHT_FLAG_W,THETA,CTDRAW
,,,,,,,,,,,,DBAR,DEG C,PSS-78,,PSS-78,,UMOL/KG,,UMOL/KG,,UMOL/KG,,UMOL/KG,,UMOL/KG,,DEG C,
    09AR9501_1,  SR03,    43,  1,     24,     24,2,19950729,0747,-60.8633, 139.8253, 4402,      8.5,  -0.7070,  34.1260,4,  33.9590,2,   -999.0,5,    342.8,2,    26.50,2,    29.00,2,     2.01,2, -0.7070,   -999
    09AR9501_1,  SR03,    43,  1,     23,     23,2,19950729,0747,-60.8633, 139.8253, 4402,     24.0,  -0.7140,  34.1390,4,  33.9600,2,   -999.0,5,    343.2,2,    26.40,2,    29.00,2,     2.02,2, -0.7150,   -999
    09AR9501_1,  SR03,    43,  1,     22,     22,2,19950729,0747,-60.8633, 139.8253, 4402,     49.2,  -0.6900,  34.1520,4,  33.9660,2,   -999.0,5,    342.5,2,    26.90,2,    29.20,2,     2.02,2, -0.6920,   -999
    09AR9501_1,  SR03,    43,  1,     21,     21,2,19950729,0747,-60.8633, 139.8253, 4402,     97.1,  -0.8790,  34.1760,4,  33.9790,2,   -999.0,5,    343.9,2,    29.00,2,    29.30,2,     2.05,2, -0.8820,   -999
    09AR9501_1,  SR03,    43,  1,     20,    120,2,19950729,0747,-60.8633, 139.8253, 4402,    197.8,   1.5740,  34.5080,4,  34.3580,2,   -999.0,5,    209.9,2,    58.10,2,    34.70,2,     2.43,2,  1.5650,   -999
    09AR9501_1,  SR03,    43,  1,     19,    119,2,19950729,0747,-60.8633, 139.8253, 4402,    259.4,   2.0840,  34.6190,4,  34.4680,2,   -999.0,5,    181.8,2,    65.70,2,    35.20,2,     2.46,2,  2.0700,   -999
    09AR9501_1,  SR03,    43,  1,     18,    118,2,19950729,0747,-60.8633, 139.8253, 4402,    318.5,   2.1480,  34.6760,4,  34.5280,2,   -999.0,5,    175.0,2,    70.40,2,    34.90,2,     2.44,2,  2.1310,   -999
    09AR9501_1,  SR03,    43,  1,     17,    117,2,19950729,0747,-60.8633, 139.8253, 4402,    398.7,   2.1890,  34.7400,4,  34.5910,2,   -999.0,5,    173.3,2,    73.60,2,    34.20,2,     2.38,2,  2.1670,   -999
    09AR9501_1,  SR03,    43,  1,     16,    216,2,19950729,0747,-60.8633, 139.8253, 4402,    498.9,   2.1690,  34.7940,4,  34.6460,2,   -999.0,5,    175.0,2,    76.30,2,    33.30,2,     2.32,2,  2.1410,   -999
    09AR9501_1,  SR03,    43,  1,     15,    115,2,19950729,0747,-60.8633, 139.8253, 4402,    598.9,   2.1270,  34.8210,4,  34.6730,2,   -999.0,5,    177.4,2,    77.90,2,    32.80,2,     2.28,2,  2.0930,   -999
    09AR9501_1,  SR03,    43,  1,     14,    114,2,19950729,0747,-60.8633, 139.8253, 4402,    699.8,   2.0860,  34.8440,4,  34.6950,2,   -999.0,5,    181.5,2,    79.60,2,    32.20,2,     2.24,2,  2.0450,   -999
    09AR9501_1,  SR03,    43,  1,     13,    113,2,19950729,0747,-60.8633, 139.8253, 4402,    800.0,   2.0420,  34.8640,4,  34.7150,2,   -999.0,5,    185.3,2,    80.60,2,    31.30,2,     2.19,2,  1.9950,   -999
    09AR9501_1,  SR03,    43,  1,     12,     12,2,19950729,0747,-60.8633, 139.8253, 4402,   1002.8,   1.8890,  34.8820,4,  34.7360,2,   -999.0,5,    191.3,2,    81.40,2,    30.80,2,     2.15,2,  1.8290,   -999
    09AR9501_1,  SR03,    43,  1,     11,     11,2,19950729,0747,-60.8633, 139.8253, 4402,   1201.4,   1.7530,  34.8880,4,  34.7430,2,   -999.0,5,    195.1,2,    85.10,2,    30.60,2,     2.14,2,  1.6810,   -999
    09AR9501_1,  SR03,    43,  1,     10,     10,2,19950729,0747,-60.8633, 139.8253, 4402,   1499.2,   1.5160,  34.8870,4,  34.7420,2,   -999.0,5,    200.0,2,    91.90,2,    30.60,2,     2.14,2,  1.4250,   -999
    09AR9501_1,  SR03,    43,  1,      9,      9,2,19950729,0747,-60.8633, 139.8253, 4402,   1800.0,   1.2770,  34.8800,4,  34.7330,2,   -999.0,5,   -999.0,9,   100.20,2,    30.90,2,     2.16,2,  1.1670,   -999
    09AR9501_1,  SR03,    43,  1,      8,      8,2,19950729,0747,-60.8633, 139.8253, 4402,   2203.0,   0.9590,  34.8620,4,  34.7170,2,   -999.0,5,    206.7,2,   111.10,2,    31.50,2,     2.20,2,  0.8220,   -999
    09AR9501_1,  SR03,    43,  1,      7,      7,2,19950729,0747,-60.8633, 139.8253, 4402,   2604.0,   0.6700,  34.8480,4,  34.7010,2,   -999.0,5,    210.4,2,   119.20,2,    32.00,2,     2.24,2,  0.5050,   -999
    09AR9501_1,  SR03,    43,  1,      6,      6,2,19950729,0747,-60.8633, 139.8253, 4402,   3006.2,   0.4230,  34.8400,4,  34.6920,2,   -999.0,5,    216.3,2,   125.30,2,    32.20,2,     2.25,2,  0.2290,   -999
    09AR9501_1,  SR03,    43,  1,      5,      5,2,19950729,0747,-60.8633, 139.8253, 4402,   3406.6,   0.2290,  34.8340,4,  34.6830,2,   -999.0,5,    222.8,2,   128.30,2,    32.30,2,     2.26,2,  0.0030,   -999
    09AR9501_1,  SR03,    43,  1,      4,      4,2,19950729,0747,-60.8633, 139.8253, 4402,   3807.3,   0.0890,  34.8330,4,  34.6770,2,   -999.0,5,    228.8,2,   128.10,2,    32.30,2,     2.25,2, -0.1720,   -999
    09AR9501_1,  SR03,    43,  1,      3,      3,2,19950729,0747,-60.8633, 139.8253, 4402,   4206.3,  -0.0520,  34.8330,4,  34.6730,2,   -999.0,5,    235.5,2,   120.90,2,    32.10,2,     2.24,2, -0.3490,   -999
    09AR9501_1,  SR03,    43,  1,      2,      2,2,19950729,0747,-60.8633, 139.8253, 4402,   4409.2,  -0.1160,  34.8350,4,  34.6700,2,   -999.0,5,    237.8,2,   125.70,2,    32.00,2,     2.23,2, -0.4320,   -999
    09AR9501_1,  SR03,    43,  1,      1,      1,2,19950729,0747,-60.8633, 139.8253, 4402,   4463.1,  -0.1450,  34.8370,4,  34.6660,2,   -999.0,5,    237.8,2,   124.00,2,    32.00,2,     2.23,2, -0.4660,   -999
    09AR9501_1,  SR03,    44,  1,     24,     24,2,19950729,1649,-61.3682, 139.8402, 4351,      7.8,  -0.8140,  34.6670,4,  33.9680,2,   -999.0,5,    343.7,4,    27.20,2,    29.20,2,     2.04,2, -0.8140,   -999
    09AR9501_1,  SR03,    44,  1,     23,     23,2,19950729,1649,-61.3682, 139.8402, 4351,     48.4,  -0.8100,  34.6910,4,  33.9700,2,   -999.0,5,    336.9,4,    27.50,2,    29.20,2,     2.05,2, -0.8120,   -999
    09AR9501_1,  SR03,    44,  1,     22,     22,2,19950729,1649,-61.3682, 139.8402, 4351,     99.6,  -0.8080,  34.7120,4,  33.9740,2,   -999.0,5,    326.3,4,    27.90,2,    29.20,2,     2.04,2, -0.8110,   -999
    09AR9501_1,  SR03,    44,  1,     21,     21,2,19950729,1649,-61.3682, 139.8402, 4351,    200.5,   1.8360,  35.0590,4,  34.3550,2,   -999.0,5,    191.6,4,    56.50,2,    34.90,2,     2.43,2,  1.8260,   -999
    09AR9501_1,  SR03,    44,  1,     20,    120,2,19950729,1649,-61.3682, 139.8402, 4351,    299.9,   2.1630,  35.2000,4,  34.5100,2,   -999.0,5,    152.3,4,    67.80,2,    35.00,2,     2.45,2,  2.1460,   -999
    09AR9501_1,  SR03,    44,  1,     19,    119,2,19950729,1649,-61.3682, 139.8402, 4351,    379.3,   2.2050,  35.2640,4,  34.5710,2,   -999.0,5,    146.8,4,    71.00,2,    34.30,2,     2.40,2,  2.1840,   -999
    09AR9501_1,  SR03,    44,  1,     18,    118,2,19950729,1649,-61.3682, 139.8402, 4351,    499.9,   2.1620,  35.3290,4,  34.6300,2,   -999.0,5,    140.7,4,    74.90,2,    33.50,2,     2.34,2,  2.1330,   -999
    09AR9501_1,  SR03,    44,  1,     17,    117,2,19950729,1649,-61.3682, 139.8402, 4351,    601.2,   2.1100,  35.3690,4,  34.6670,2,   -999.0,5,    174.2,4,    76.80,2,    32.80,2,     2.29,2,  2.0750,   -999
    09AR9501_1,  SR03,    44,  1,     16,    216,2,19950729,1649,-61.3682, 139.8402, 4351,    703.0,   2.0840,  35.3990,4,  34.6950,2,   -999.0,5,    157.1,4,    77.70,2,    32.10,2,     2.23,2,  2.0420,   -999
    09AR9501_1,  SR03,    44,  1,     15,    115,2,19950729,1649,-61.3682, 139.8402, 4351,    800.4,   2.0370,  35.4220,4,  34.7130,2,   -999.0,5,    157.0,4,    79.40,2,    31.60,2,     2.20,2,  1.9890,   -999
    09AR9501_1,  SR03,    44,  1,     14,    114,2,19950729,1649,-61.3682, 139.8402, 4351,    901.4,   1.9500,  35.4390,4,  34.7220,2,   -999.0,5,    159.5,4,    81.30,2,    31.30,2,     2.17,2,  1.8960,   -999
    09AR9501_1,  SR03,    44,  1,     13,    113,2,19950729,1649,-61.3682, 139.8402, 4351,   1001.4,   1.8830,  35.4540,4,  34.7320,2,   -999.0,5,    178.3,4,    83.70,2,    31.60,3,     2.15,2,  1.8230,   -999
    09AR9501_1,  SR03,    44,  1,     12,     12,2,19950729,1649,-61.3682, 139.8402, 4351,   1100.9,   1.8320,  35.4640,4,  34.7370,2,   -999.0,5,    141.6,4,    82.60,2,    30.50,2,     2.13,2,  1.7650,   -999
    09AR9501_1,  SR03,    44,  1,     11,     11,2,19950729,1649,-61.3682, 139.8402, 4351,   1304.2,   1.6870,  35.4730,4,  34.7450,2,   -999.0,5,    182.3,4,    86.40,2,    30.40,2,     2.12,2,  1.6070,   -999
    09AR9501_1,  SR03,    44,  1,     10,     10,2,19950729,1649,-61.3682, 139.8402, 4351,   1506.1,   1.4770,  35.4770,4,  34.7400,2,   -999.0,5,    178.9,4,    91.30,2,    30.60,2,     2.14,2,  1.3840,   -999
    09AR9501_1,  SR03,    44,  1,      9,      9,2,19950729,1649,-61.3682, 139.8402, 4351,   1803.3,   1.2520,  35.4750,4,  34.7320,2,   -999.0,5,    112.2,4,    99.10,2,    30.90,2,     2.15,2,  1.1400,   -999
    09AR9501_1,  SR03,    44,  1,      8,      8,2,19950729,1649,-61.3682, 139.8402, 4351,   2105.8,   1.0110,  35.4680,4,  34.7200,2,   -999.0,5,    117.3,4,   107.40,2,    31.40,2,     2.19,2,  0.8790,   -999
    09AR9501_1,  SR03,    44,  1,      7,      7,2,19950729,1649,-61.3682, 139.8402, 4351,   2403.2,   0.7890,  35.4740,4,  34.7080,2,   -999.0,5,    150.8,4,   114.30,2,    31.80,2,     2.22,2,  0.6360,   -999
    09AR9501_1,  SR03,    44,  1,      6,      6,2,19950729,1649,-61.3682, 139.8402, 4351,   2705.8,   0.5600,  35.4970,4,  34.6960,2,   -999.0,5,    149.9,4,   120.10,2,    32.10,2,     2.25,2,  0.3860,   -999
    09AR9501_1,  SR03,    44,  1,      5,      5,2,19950729,1649,-61.3682, 139.8402, 4351,   3005.8,   0.3750,  35.5010,4,  34.6890,2,   -999.0,5,    157.1,4,   123.80,2,    32.30,2,     2.25,2,  0.1790,   -999
    09AR9501_1,  SR03,    44,  1,      4,      4,2,19950729,1649,-61.3682, 139.8402, 4351,   3407.3,   0.1950,  35.5030,4,  34.6800,2,   -999.0,5,    187.8,4,   129.00,2,    32.20,2,     2.25,2, -0.0340,   -999
    09AR9501_1,  SR03,    44,  1,      3,      3,2,19950729,1649,-61.3682, 139.8402, 4351,   3808.7,   0.0590,  35.5070,4,  34.6770,2,   -999.0,5,    190.8,4,   126.20,2,    32.10,2,     2.24,2, -0.2050,   -999
    09AR9501_1,  SR03,    44,  1,      2,      2,2,19950729,1649,-61.3682, 139.8402, 4351,   4154.4,  -0.0750,  35.5110,4,  34.6730,2,   -999.0,5,    202.6,4,   117.70,2,    31.90,2,     2.22,2, -0.3700,   -999
    09AR9501_1,  SR03,    44,  1,      1,      1,2,19950729,1649,-61.3682, 139.8402, 4351,   4398.5,  -0.1300,  35.5110,4,  34.6690,2,   -999.0,5,    238.9,4,   117.50,2,    31.80,2,     2.21,2, -0.4490,   -999
    09AR9501_1,  SR03,    45,  1,     24,     24,2,19950730,0125,-61.8312, 139.9158, 4300,      6.2,  -1.6720,  33.9520,2,  33.9510,2,   -999.0,5,    347.2,2,    34.90,2,    29.70,2,     2.14,3, -1.6730,   -999
    09AR9501_1,  SR03,    45,  1,     23,     23,2,19950730,0125,-61.8312, 139.9158, 4300,     47.4,  -1.6060,  33.9630,4,  33.9640,2,   -999.0,5,    297.3,2,    35.10,2,    29.70,2,     2.15,3, -1.6070,   -999
    09AR9501_1,  SR03,    45,  1,     22,     22,2,19950730,0125,-61.8312, 139.9158, 4300,     99.0,  -0.8680,  34.1250,4,  34.1460,2,   -999.0,5,    267.7,2,    47.00,2,    31.60,2,     2.28,3, -0.8710,   -999
    09AR9501_1,  SR03,    45,  1,     21,     21,2,19950730,0125,-61.8312, 139.9158, 4300,    147.8,   0.4290,  34.3200,2,  34.3270,2,   -999.0,5,    267.5,2,    59.50,2,    33.00,2,     2.39,3,  0.4230,   -999
    09AR9501_1,  SR03,    45,  1,     20,    120,2,19950730,0125,-61.8312, 139.9158, 4300,    196.6,   1.8980,  34.5280,2,  34.5260,2,   -999.0,5,    180.2,2,    71.40,2,    34.50,2,     2.50,3,  1.8880,   -999
    09AR9501_1,  SR03,    45,  1,     19,    119,2,19950730,0125,-61.8312, 139.9158, 4300,    311.1,   2.0310,  34.6240,3,  34.6160,2,   -999.0,5,    174.8,2,    75.90,2,    33.70,2,     2.45,3,  2.0140,   -999
    09AR9501_1,  SR03,    45,  1,     18,    118,2,19950730,0125,-61.8312, 139.9158, 4300,    412.7,   2.0080,  34.6620,3,  34.6560,2,   -999.0,5,    177.2,2,    77.90,2,    33.10,2,     2.39,3,  1.9860,   -999
    09AR9501_1,  SR03,    45,  1,     17,    117,2,19950730,0125,-61.8312, 139.9158, 4300,    512.7,   2.0220,  34.6920,3,  34.6900,2,   -999.0,5,    180.6,2,    79.50,2,    32.10,2,     2.34,3,  1.9940,   -999
    09AR9501_1,  SR03,    45,  1,     16,    216,2,19950730,0125,-61.8312, 139.9158, 4300,    611.1,   1.9510,  34.7120,3,  34.7100,2,   -999.0,5,    184.7,2,    81.10,2,    31.50,2,     2.28,3,  1.9170,   -999
    09AR9501_1,  SR03,    45,  1,     15,    115,2,19950730,0125,-61.8312, 139.9158, 4300,    709.7,   1.9040,  34.7210,3,  34.7200,2,   -999.0,5,    187.4,2,    82.50,2,    31.10,2,     2.27,3,  1.8640,   -999
    09AR9501_1,  SR03,    45,  1,     14,    114,2,19950730,0125,-61.8312, 139.9158, 4300,    807.8,   1.8370,  34.7320,2,  34.7300,2,   -999.0,5,    190.0,2,    84.00,2,    31.00,2,     2.25,3,  1.7910,   -999
    09AR9501_1,  SR03,    45,  1,     13,    113,2,19950730,0125,-61.8312, 139.9158, 4300,    910.6,   1.7840,  34.7390,2,  34.7390,2,   -999.0,5,    193.7,2,    85.50,2,    30.60,2,     2.23,3,  1.7320,   -999
    09AR9501_1,  SR03,    45,  1,     12,     12,2,19950730,0125,-61.8312, 139.9158, 4300,   1008.9,   1.7120,  34.7430,2,  34.7420,2,   -999.0,5,    195.1,2,    88.50,2,    30.40,2,     2.19,3,  1.6540,   -999
    09AR9501_1,  SR03,    45,  1,     11,     11,2,19950730,0125,-61.8312, 139.9158, 4300,   1112.1,   1.6240,  34.7410,3,  34.7420,2,   -999.0,5,    197.0,2,    90.70,2,    30.40,2,     2.21,3,  1.5590,   -999
    09AR9501_1,  SR03,    45,  1,     10,     10,2,19950730,0125,-61.8312, 139.9158, 4300,   1213.6,   1.5500,  34.7420,3,  34.7430,2,   -999.0,5,    198.6,2,    93.70,2,    30.50,2,     2.21,3,  1.4790,   -999
    09AR9501_1,  SR03,    45,  1,      9,      9,2,19950730,0125,-61.8312, 139.9158, 4300,   1408.0,   1.3860,  34.7370,2,  34.7380,2,   -999.0,5,    201.2,2,    97.80,2,    30.50,2,     2.22,3,  1.3030,   -999
    09AR9501_1,  SR03,    45,  1,      8,      8,2,19950730,0125,-61.8312, 139.9158, 4300,   1613.4,   1.2320,  34.7310,3,  34.7330,2,   -999.0,5,    203.0,2,   103.10,2,    30.80,2,     2.25,3,  1.1360,   -999
    09AR9501_1,  SR03,    45,  1,      7,      7,2,19950730,0125,-61.8312, 139.9158, 4300,   1811.8,   1.0710,  34.7220,2,  34.7230,2,   -999.0,5,    204.3,2,   107.20,2,    31.00,2,     2.25,3,  0.9630,   -999
    09AR9501_1,  SR03,    45,  1,      6,      6,2,19950730,0125,-61.8312, 139.9158, 4300,   2017.6,   0.9090,  34.7140,3,  34.7140,2,   -999.0,5,    206.3,2,   111.20,2,    31.10,2,     2.29,3,  0.7880,   -999
    09AR9501_1,  SR03,    45,  1,      5,      5,2,19950730,0125,-61.8312, 139.9158, 4300,   2217.1,   0.7760,  34.7080,3,  34.7090,2,   -999.0,5,    207.9,2,   115.70,2,    31.70,2,     2.30,3,  0.6420,   -999
    09AR9501_1,  SR03,    45,  1,      4,      4,2,19950730,0125,-61.8312, 139.9158, 4300,   2419.1,   0.6270,  34.6990,3,  34.7010,2,   -999.0,5,    210.6,2,   119.20,2,    31.80,2,     2.32,3,  0.4790,   -999
    09AR9501_1,  SR03,    45,  1,      3,      3,2,19950730,0125,-61.8312, 139.9158, 4300,   2716.3,   0.4380,  34.6920,3,  34.6920,2,   -999.0,5,    215.3,2,   123.60,2,    31.70,2,     2.33,3,  0.2690,   -999
    09AR9501_1,  SR03,    45,  1,      2,      2,2,19950730,0125,-61.8312, 139.9158, 4300,   3019.9,   0.2650,  34.6830,3,  34.6840,2,   -999.0,5,    220.3,2,   124.70,2,    32.00,2,     2.34,3,  0.0740,   -999
    09AR9501_1,  SR03,    45,  1,      1,      1,2,19950730,0125,-61.8312, 139.9158, 4300,   3351.2,   0.1310,  34.6790,2,  34.6800,2,   -999.0,5,    226.0,2,   124.10,2,    32.00,2,     2.34,3, -0.0870,   -999