BOTTLE,20020620WHPSIOKJU
EXPOCODE,SECT_ID,STNNBR,CASTNO,SAMPNO,BTLNBR,BTLNBR_FLAG_W,DATE,TIME,LATITUDE,LONGITUDE,DEPTH,CTDPRS,CTDTMP,CTDSAL,CTDSAL_FLAG_W,SALNTY,SALNTY_FLAG_W,CTDOXY,CTDOXY_FLAG_W,OXYGEN,OXYGEN_FLAG_W,SILCAT,SILCAT_FLAG_W,NO2+NO3,NO2+NO3_FLAG_W,PHSPHT,PHSPHT_FLAG_W,THETA,CTDRAW
,,,,,,,,,,,,DBAR,DEG C,PSS-78,,PSS-78,,UMOL/KG,,UMOL/KG,,UMOL/KG,,UMOL/KG,,UMOL/KG,,DEG C,
    09AR9501_1,  SR03,    25,  1,     24,     24,2,19950724,0243,-52.0800, 142.7358, 3512,      9.9,   4.4690,  33.9740,2,  33.9740,2,   -999.0,5,    310.1,2,     4.90,2,    23.00,2,     1.58,2,  4.4690,   -999
    09AR9501_1,  SR03,    25,  1,     23,     23,2,19950724,0243,-52.0800, 142.7358, 3512,     20.4,   4.4660,  33.9740,2,  33.9730,2,   -999.0,5,    310.4,2,     3.80,2,    17.10,4,     1.33,4,  4.4660,   -999
    09AR9501_1,  SR03,    25,  1,     22,     22,2,19950724,0243,-52.0800, 142.7358, 3512,     54.8,   4.1530,  33.9580,3,  33.9570,2,   -999.0,5,    311.2,2,     5.50,2,    23.60,2,     1.62,2,  4.1500,   -999
    09AR9501_1,  SR03,    25,  1,     21,     21,2,19950724,0243,-52.0800, 142.7358, 3512,    115.8,   4.1020,  33.9610,3,  33.9600,2,   -999.0,5,    310.2,2,     5.80,2,    23.90,2,     1.64,2,  4.0950,   -999
    09AR9501_1,  SR03,    25,  1,     20,    120,2,19950724,0243,-52.0800, 142.7358, 3512,    176.2,   3.6840,  33.9310,3,  33.9310,2,   -999.0,5,    311.3,2,     5.30,2,    20.20,4,     1.45,4,  3.6730,   -999
    09AR9501_1,  SR03,    25,  1,     19,    119,2,19950724,0243,-52.0800, 142.7358, 3512,    205.6,   4.3980,  34.0880,4,  34.0730,2,   -999.0,5,    286.7,2,    10.50,2,    24.90,2,     1.72,2,  4.3840,   -999
    09AR9501_1,  SR03,    25,  1,     18,    118,2,19950724,0243,-52.0800, 142.7358, 3512,    296.0,   4.2580,  34.1720,2,  34.1720,2,   -999.0,5,    258.9,2,    17.10,2,    26.80,2,     1.86,2,  4.2380,   -999
    09AR9501_1,  SR03,    25,  1,     17,    117,2,19950724,0243,-52.0800, 142.7358, 3512,    396.8,   4.0630,  34.2300,2,  34.2300,2,   -999.0,5,    238.8,2,    22.80,2,    28.80,2,     2.00,2,  4.0360,   -999
    09AR9501_1,  SR03,    25,  1,     16,    216,2,19950724,0243,-52.0800, 142.7358, 3512,    497.5,   3.4810,  34.2390,2,  34.2390,2,   -999.0,5,    232.7,2,    29.50,2,    30.30,2,     2.12,2,  3.4480,   -999
    09AR9501_1,  SR03,    25,  1,     15,    115,2,19950724,0243,-52.0800, 142.7358, 3512,    595.7,   3.1360,  34.2820,2,  34.2820,2,   -999.0,5,    219.5,2,    36.70,2,    31.60,2,     2.22,2,  3.0980,   -999
    09AR9501_1,  SR03,    25,  1,     14,    114,2,19950724,0243,-52.0800, 142.7358, 3512,    697.1,   2.8380,  34.3270,2,  34.3250,2,   -999.0,5,    207.5,2,    44.90,2,    32.70,2,     2.28,2,  2.7940,   -999
    09AR9501_1,  SR03,    25,  1,     13,    113,2,19950724,0243,-52.0800, 142.7358, 3512,    800.5,   2.7140,  34.3910,3,  34.3890,2,   -999.0,5,    194.6,2,    52.10,2,    33.30,2,     2.35,2,  2.6640,   -999
    09AR9501_1,  SR03,    25,  1,     12,     12,4,19950724,0243,-52.0800, 142.7358, 3512,    895.7,   2.7900,  34.4780,2,-999.0000,9,   -999.0,5,   -999.0,9,  -999.00,9,  -999.00,9,  -999.00,9,  2.7320,   -999
    09AR9501_1,  SR03,    25,  1,     11,     11,2,19950724,0243,-52.0800, 142.7358, 3512,    996.6,   2.6220,  34.5200,2,  34.5180,2,   -999.0,5,    177.8,2,    62.90,2,    33.10,2,     2.31,2,  2.5580,   -999
    09AR9501_1,  SR03,    25,  1,     10,     10,2,19950724,0243,-52.0800, 142.7358, 3512,   1195.6,   2.4400,  34.6050,2,  34.6050,2,   -999.0,5,    176.1,2,    69.70,2,    32.70,2,     2.29,2,  2.3630,   -999
    09AR9501_1,  SR03,    25,  1,      9,      9,2,19950724,0243,-52.0800, 142.7358, 3512,   1397.4,   2.3350,  34.6700,2,  34.6700,2,   -999.0,5,    179.4,2,    72.70,2,    31.60,2,     2.23,2,  2.2430,   -999
    09AR9501_1,  SR03,    25,  1,      8,      8,2,19950724,0243,-52.0800, 142.7358, 3512,   1599.8,   2.2100,  34.7110,2,  34.7120,2,   -999.0,5,    184.7,2,    76.60,2,    30.60,2,     2.17,2,  2.1040,   -999
    09AR9501_1,  SR03,    25,  1,      7,      7,2,19950724,0243,-52.0800, 142.7358, 3512,   1899.1,   2.0290,  34.7410,2,  34.7430,2,   -999.0,5,    192.6,2,    80.60,2,    29.80,2,     2.11,2,  1.9010,   -999
    09AR9501_1,  SR03,    25,  1,      6,      6,2,19950724,0243,-52.0800, 142.7358, 3512,   2201.2,   1.7740,  34.7450,2,  34.7460,2,   -999.0,5,    196.1,2,    89.40,2,    29.90,2,     2.11,2,  1.6240,   -999
    09AR9501_1,  SR03,    25,  1,      5,      5,2,19950724,0243,-52.0800, 142.7358, 3512,   2509.0,   1.4950,  34.7370,2,  34.7390,2,   -999.0,5,    200.8,2,    97.80,2,    30.00,2,     2.13,2,  1.3230,   -999
    09AR9501_1,  SR03,    25,  1,      4,      4,2,19950724,0243,-52.0800, 142.7358, 3512,   2801.1,   1.2580,  34.7270,2,  34.7260,2,   -999.0,5,    203.3,2,   103.90,2,    30.50,2,     2.16,2,  1.0650,   -999
    09AR9501_1,  SR03,    25,  1,      3,      3,2,19950724,0243,-52.0800, 142.7358, 3512,   3100.5,   1.0220,  34.7150,2,  34.7160,2,   -999.0,5,    203.4,2,   113.10,2,    31.10,2,     2.21,2,  0.8060,   -999
    09AR9501_1,  SR03,    25,  1,      2,      2,2,19950724,0243,-52.0800, 142.7358, 3512,   3392.3,   0.8220,  34.7040,2,  34.7060,2,   -999.0,5,    209.4,2,   117.00,2,    31.10,2,     2.21,2,  0.5830,   -999
    09AR9501_1,  SR03,    25,  1,      1,      1,2,19950724,0243,-52.0800, 142.7358, 3512,   3512.9,   0.8040,  34.7030,2,  34.7060,2,   -999.0,5,    210.2,2,   117.20,2,    31.10,2,     2.21,2,  0.5540,   -999
    09AR9501_1,  SR03,    26,  1,     24,     24,2,19950724,0903,-52.6637, 142.3995, 3348,      9.1,   2.6220,  33.8580,2,  33.8570,2,   -999.0,5,    325.2,2,     7.50,2,    24.70,2,     1.75,2,  2.6220,   -999
    09AR9501_1,  SR03,    26,  1,     23,     23,2,19950724,0903,-52.6637, 142.3995, 3348,     24.8,   2.6070,  33.8590,2,  33.8570,2,   -999.0,5,    325.4,2,     7.30,2,    24.70,2,     1.76,2,  2.6060,   -999
    09AR9501_1,  SR03,    26,  1,     22,     22,2,19950724,0903,-52.6637, 142.3995, 3348,     94.2,   2.3600,  33.8570,3,  33.8540,2,   -999.0,5,    325.1,2,     8.50,2,    25.30,2,     1.79,2,  2.3550,   -999
    09AR9501_1,  SR03,    26,  1,     21,     21,2,19950724,0903,-52.6637, 142.3995, 3348,    124.9,   2.0200,  33.8490,4,  33.8490,2,   -999.0,5,    326.7,2,     9.70,2,    25.80,2,     1.83,2,  2.0140,   -999
    09AR9501_1,  SR03,    26,  1,     20,    120,2,19950724,0903,-52.6637, 142.3995, 3348,    194.2,   2.6120,  34.0640,2,  34.0640,2,   -999.0,5,    278.2,2,    22.70,2,    28.20,2,     2.00,2,  2.6010,   -999
    09AR9501_1,  SR03,    26,  1,     19,    119,2,19950724,0903,-52.6637, 142.3995, 3348,    264.2,   2.7190,  34.1650,4,  34.1630,2,   -999.0,5,    250.3,2,    30.30,2,    30.10,2,     2.13,2,  2.7040,   -999
    09AR9501_1,  SR03,    26,  1,     18,    118,2,19950724,0903,-52.6637, 142.3995, 3348,    345.8,   2.6210,  34.2540,2,  34.2520,2,   -999.0,5,    225.1,2,    39.80,2,    31.40,2,     2.24,2,  2.6010,   -999
    09AR9501_1,  SR03,    26,  1,     17,    117,2,19950724,0903,-52.6637, 142.3995, 3348,    394.9,   2.4900,  34.2900,2,  34.2880,2,   -999.0,5,    216.5,2,    44.70,2,    32.10,2,     2.29,2,  2.4670,   -999
    09AR9501_1,  SR03,    26,  1,     16,    216,2,19950724,0903,-52.6637, 142.3995, 3348,    496.5,   2.4670,  34.3670,2,  34.3670,2,   -999.0,5,    198.3,2,    52.70,2,    32.80,2,     2.35,2,  2.4380,   -999
    09AR9501_1,  SR03,    26,  1,     15,    115,2,19950724,0903,-52.6637, 142.3995, 3348,    597.1,   2.4850,  34.4500,2,  34.4480,2,   -999.0,5,    184.4,2,    64.40,2,    33.20,2,     2.37,2,  2.4490,   -999
    09AR9501_1,  SR03,    26,  1,     14,    114,2,19950724,0903,-52.6637, 142.3995, 3348,    697.0,   2.4380,  34.5070,2,  34.5020,2,   -999.0,5,    179.0,2,    63.90,2,    32.90,2,     2.37,2,  2.3960,   -999
    09AR9501_1,  SR03,    26,  1,     13,    113,2,19950724,0903,-52.6637, 142.3995, 3348,    796.4,   2.4260,  34.5570,2,  34.5560,2,   -999.0,5,    175.7,2,    67.00,2,    32.80,2,     2.36,2,  2.3770,   -999
    09AR9501_1,  SR03,    26,  1,     12,     12,2,19950724,0903,-52.6637, 142.3995, 3348,    897.6,   2.3920,  34.6100,2,  34.6090,2,   -999.0,5,    175.5,2,    70.70,2,    32.10,2,     2.29,2,  2.3360,   -999
    09AR9501_1,  SR03,    26,  1,     11,     11,2,19950724,0903,-52.6637, 142.3995, 3348,    996.8,   2.3680,  34.6370,2,  34.6370,2,   -999.0,5,    176.6,2,    71.40,2,    31.60,2,     2.26,2,  2.3060,   -999
    09AR9501_1,  SR03,    26,  1,     10,     10,2,19950724,0903,-52.6637, 142.3995, 3348,   1197.7,   2.2590,  34.6970,2,  34.6970,2,   -999.0,5,    182.6,2,    73.90,2,    30.60,2,     2.19,2,  2.1830,   -999
    09AR9501_1,  SR03,    26,  1,      9,      9,2,19950724,0903,-52.6637, 142.3995, 3348,   1396.9,   2.1500,  34.7250,2,  34.7250,2,   -999.0,5,    187.6,2,    77.30,2,    29.90,2,     2.14,2,  2.0600,   -999
    09AR9501_1,  SR03,    26,  1,      8,      8,2,19950724,0903,-52.6637, 142.3995, 3348,   1598.9,   2.0160,  34.7420,2,  34.7440,2,   -999.0,5,    192.9,2,    79.90,2,    29.50,2,     2.11,2,  1.9120,   -999
    09AR9501_1,  SR03,    26,  1,      7,      7,2,19950724,0903,-52.6637, 142.3995, 3348,   1798.6,   1.8550,  34.7470,2,  34.7480,2,   -999.0,5,    196.3,2,    85.50,2,    29.60,2,     2.10,2,  1.7370,   -999
    09AR9501_1,  SR03,    26,  1,      6,      6,2,19950724,0903,-52.6637, 142.3995, 3348,   2199.8,   1.4900,  34.7390,2,  34.7410,2,   -999.0,5,    200.7,2,    95.70,2,    30.00,2,     2.13,2,  1.3450,   -999
    09AR9501_1,  SR03,    26,  1,      5,      5,2,19950724,0903,-52.6637, 142.3995, 3348,   2501.0,   1.2340,  34.7270,2,  34.7290,2,   -999.0,5,    203.6,2,   104.20,2,    30.50,2,     2.16,2,  1.0680,   -999
    09AR9501_1,  SR03,    26,  1,      4,      4,2,19950724,0903,-52.6637, 142.3995, 3348,   2800.0,   0.9380,  34.7130,2,  34.7140,2,   -999.0,5,    207.0,2,   112.50,2,    30.90,2,     2.20,2,  0.7520,   -999
    09AR9501_1,  SR03,    26,  1,      3,      3,2,19950724,0903,-52.6637, 142.3995, 3348,   3101.8,   0.8020,  34.7060,2,  34.7080,2,   -999.0,5,    209.5,2,   117.50,2,    31.10,2,     2.21,2,  0.5910,   -999
    09AR9501_1,  SR03,    26,  1,      2,      2,2,19950724,0903,-52.6637, 142.3995, 3348,   3406.5,   0.7410,  34.7020,2,  34.7040,2,   -999.0,5,    210.8,2,   119.90,2,    31.30,2,     2.21,2,  0.5030,   -999
    09AR9501_1,  SR03,    26,  1,      1,      1,2,19950724,0903,-52.6637, 142.3995, 3348,   3467.9,   0.7400,  34.7020,2,  34.7040,2,   -999.0,5,    211.2,2,   118.50,2,    31.30,2,     2.20,2,  0.4960,   -999
    09AR9501_1,  SR03,    27,  1,     24,     24,2,19950724,1432,-53.1292, 142.1360, 3133,      9.2,   2.9930,  33.8460,2,  33.8440,2,   -999.0,5,    321.7,2,     6.50,2,    24.60,2,     1.76,2,  2.9930,   -999
    09AR9501_1,  SR03,    27,  1,     23,     23,2,19950724,1432,-53.1292, 142.1360, 3133,     44.9,   2.9170,  33.8690,2,  33.8670,2,   -999.0,5,    268.9,4,     6.70,2,    24.70,2,     1.76,2,  2.9150,   -999
    09AR9501_1,  SR03,    27,  1,     22,     22,2,19950724,1432,-53.1292, 142.1360, 3133,     95.1,   2.8380,  33.8690,2,  33.8680,2,   -999.0,5,    322.3,2,     7.20,2,    24.70,2,     1.76,2,  2.8330,   -999
    09AR9501_1,  SR03,    27,  1,     21,     21,2,19950724,1432,-53.1292, 142.1360, 3133,    164.6,   2.5000,  33.9130,4,  33.9070,2,   -999.0,5,    313.5,2,    11.40,2,    26.40,2,     1.86,2,  2.4910,   -999
    09AR9501_1,  SR03,    27,  1,     20,    120,2,19950724,1432,-53.1292, 142.1360, 3133,    215.1,   2.7760,  34.0910,4,  34.0830,2,   -999.0,5,    273.0,2,    22.40,2,    28.80,2,     2.05,2,  2.7640,   -999
    09AR9501_1,  SR03,    27,  1,     19,    119,2,19950724,1432,-53.1292, 142.1360, 3133,    294.5,   2.7020,  34.1820,2,  34.1820,2,   -999.0,5,    244.5,2,    31.30,2,    30.80,2,     2.19,2,  2.6850,   -999
    09AR9501_1,  SR03,    27,  1,     18,    118,2,19950724,1432,-53.1292, 142.1360, 3133,    395.2,   2.5360,  34.2650,2,  34.2650,2,   -999.0,5,    223.0,2,    40.60,2,    32.20,2,     2.29,2,  2.5130,   -999
    09AR9501_1,  SR03,    27,  1,     17,    117,2,19950724,1432,-53.1292, 142.1360, 3133,    495.9,   2.4940,  34.3550,2,  34.3560,2,   -999.0,5,    200.9,2,    49.60,2,    33.30,2,     2.37,2,  2.4650,   -999
    09AR9501_1,  SR03,    27,  1,     16,    216,2,19950724,1432,-53.1292, 142.1360, 3133,    592.5,   2.4520,  34.4340,2,  34.4330,2,   -999.0,5,    187.4,2,    57.50,2,    33.60,2,     2.40,2,  2.4170,   -999
    09AR9501_1,  SR03,    27,  1,     15,    115,2,19950724,1432,-53.1292, 142.1360, 3133,    696.9,   2.4380,  34.5150,2,  34.5140,2,   -999.0,5,    178.0,2,    63.90,2,    33.60,2,     2.40,2,  2.3960,   -999
    09AR9501_1,  SR03,    27,  1,     14,    114,2,19950724,1432,-53.1292, 142.1360, 3133,    797.3,   2.4310,  34.5680,2,  34.6070,4,   -999.0,5,    175.8,2,    66.90,2,    33.10,2,     2.36,2,  2.3820,   -999
    09AR9501_1,  SR03,    27,  1,     13,    113,2,19950724,1432,-53.1292, 142.1360, 3133,    896.8,   2.3760,  34.6100,2,  34.6080,2,   -999.0,5,    175.3,2,    69.80,2,    32.70,2,     2.38,3,  2.3210,   -999
    09AR9501_1,  SR03,    27,  1,     12,     12,2,19950724,1432,-53.1292, 142.1360, 3133,    998.2,   2.3730,  34.6500,2,  34.6500,2,   -999.0,5,    178.2,2,    71.30,2,    32.20,2,     2.24,2,  2.3100,   -999
    09AR9501_1,  SR03,    27,  1,     11,     11,2,19950724,1432,-53.1292, 142.1360, 3133,   1197.1,   2.2680,  34.7010,2,  34.7000,2,   -999.0,5,    182.9,2,    74.20,2,    31.30,2,     2.27,3,  2.1920,   -999
    09AR9501_1,  SR03,    27,  1,     10,     10,2,19950724,1432,-53.1292, 142.1360, 3133,   1397.1,   2.1020,  34.7290,2,  34.7280,2,   -999.0,5,    189.1,2,    77.80,2,    30.70,2,     2.14,2,  2.0120,   -999
    09AR9501_1,  SR03,    27,  1,      9,      9,2,19950724,1432,-53.1292, 142.1360, 3133,   1597.5,   1.9630,  34.7450,2,  34.7450,2,   -999.0,5,    193.5,2,    81.80,2,    30.20,2,     2.10,2,  1.8600,   -999
    09AR9501_1,  SR03,    27,  1,      8,      8,2,19950724,1432,-53.1292, 142.1360, 3133,   1799.1,   1.7960,  34.7470,2,  34.7470,2,   -999.0,5,    196.5,2,    86.10,2,    30.20,2,     2.10,2,  1.6790,   -999
    09AR9501_1,  SR03,    27,  1,      7,      7,2,19950724,1432,-53.1292, 142.1360, 3133,   2000.1,   1.6280,  34.7440,2,  34.7440,2,   -999.0,5,    199.0,2,    90.80,2,    30.30,2,     2.12,2,  1.4970,   -999
    09AR9501_1,  SR03,    27,  1,      6,      6,2,19950724,1432,-53.1292, 142.1360, 3133,   2199.4,   1.4360,  34.7380,2,  34.7380,2,   -999.0,5,    201.1,2,    96.80,2,    30.50,2,     2.12,2,  1.2920,   -999
    09AR9501_1,  SR03,    27,  1,      5,      5,2,19950724,1432,-53.1292, 142.1360, 3133,   2401.1,   1.2570,  34.7290,2,  34.7310,2,   -999.0,5,    202.8,2,   102.80,2,    30.80,2,     2.16,2,  1.0990,   -999
    09AR9501_1,  SR03,    27,  1,      4,      4,2,19950724,1432,-53.1292, 142.1360, 3133,   2650.8,   1.0990,  34.7190,2,  34.7220,2,   -999.0,5,    204.5,2,   107.70,2,    31.20,2,     2.18,2,  0.9230,   -999
    09AR9501_1,  SR03,    27,  1,      3,      3,2,19950724,1432,-53.1292, 142.1360, 3133,   2892.2,   0.9720,  34.7130,2,  34.7150,2,   -999.0,5,    205.9,2,   113.40,2,    31.40,2,     2.20,2,  0.7770,   -999
    09AR9501_1,  SR03,    27,  1,      2,      2,2,19950724,1432,-53.1292, 142.1360, 3133,   3004.0,   0.9430,  34.7120,2,-999.0000,9,   -999.0,5,    205.9,2,  -999.00,9,  -999.00,9,  -999.00,9,  0.7380,   -999
    09AR9501_1,  SR03,    27,  1,      1,      1,2,19950724,1432,-53.1292, 142.1360, 3133,   3135.3,   0.9320,  34.7110,2,  34.7120,2,   -999.0,5,    206.5,2,   115.60,2,    31.50,2,     2.20,2,  0.7150,   -999