BOTTLE,20020620WHPSIOKJU
EXPOCODE,SECT_ID,STNNBR,CASTNO,SAMPNO,BTLNBR,BTLNBR_FLAG_W,DATE,TIME,LATITUDE,LONGITUDE,DEPTH,CTDPRS,CTDTMP,CTDSAL,CTDSAL_FLAG_W,SALNTY,SALNTY_FLAG_W,CTDOXY,CTDOXY_FLAG_W,OXYGEN,OXYGEN_FLAG_W,SILCAT,SILCAT_FLAG_W,NO2+NO3,NO2+NO3_FLAG_W,PHSPHT,PHSPHT_FLAG_W,THETA,CTDRAW
,,,,,,,,,,,,DBAR,DEG C,PSS-78,,PSS-78,,UMOL/KG,,UMOL/KG,,UMOL/KG,,UMOL/KG,,UMOL/KG,,DEG C,
    09AR9501_1,  SR03,    46,  1,     24,     24,2,19950730,0758,-62.2640, 140.0202, 4054,      4.7,  -1.7210,  34.2220,2,  34.2220,2,   -999.0,5,    329.2,2,    57.90,2,    31.60,2,     2.30,3, -1.7220,   -999
    09AR9501_1,  SR03,    46,  1,     23,     23,2,19950730,0758,-62.2640, 140.0202, 4054,     18.3,  -1.7220,  34.2240,2,  34.2240,2,   -999.0,5,    328.8,2,    58.00,2,    31.50,2,     2.33,3, -1.7230,   -999
    09AR9501_1,  SR03,    46,  1,     22,     22,2,19950730,0758,-62.2640, 140.0202, 4054,     46.4,  -1.7090,  34.2310,2,  34.2330,2,   -999.0,5,    329.3,2,    59.00,2,    31.60,2,     2.34,3, -1.7100,   -999
    09AR9501_1,  SR03,    46,  1,     21,     21,2,19950730,0758,-62.2640, 140.0202, 4054,     94.6,  -1.6730,  34.2650,2,  34.2650,2,   -999.0,5,    329.3,2,    59.40,2,    31.60,2,     2.33,3, -1.6750,   -999
    09AR9501_1,  SR03,    46,  1,     20,    120,2,19950730,0758,-62.2640, 140.0202, 4054,    145.2,   1.2180,  34.5310,2,  34.5320,2,   -999.0,5,    210.2,2,    75.30,2,    33.00,2,     2.46,3,  1.2120,   -999
    09AR9501_1,  SR03,    46,  1,     19,    119,2,19950730,0758,-62.2640, 140.0202, 4054,    195.7,   1.8260,  34.6370,2,  34.6360,2,   -999.0,5,    178.4,2,    81.10,2,    33.10,2,     2.43,3,  1.8160,   -999
    09AR9501_1,  SR03,    46,  1,     18,    118,2,19950730,0758,-62.2640, 140.0202, 4054,    275.4,   1.9120,  34.6770,2,  34.6750,2,   -999.0,5,    178.7,2,    82.80,2,    32.60,2,     2.37,3,  1.8980,   -999
    09AR9501_1,  SR03,    46,  1,     17,    117,2,19950730,0758,-62.2640, 140.0202, 4054,    347.8,   1.8860,  34.6910,2,  34.6890,2,   -999.0,5,    181.5,2,    83.70,2,    32.50,2,     2.35,3,  1.8680,   -999
    09AR9501_1,  SR03,    46,  1,     16,    216,2,19950730,0758,-62.2640, 140.0202, 4054,    446.5,   1.8520,  34.7110,2,  34.7100,2,   -999.0,5,    183.8,2,    85.50,2,    31.90,2,     2.30,3,  1.8280,   -999
    09AR9501_1,  SR03,    46,  1,     15,    115,2,19950730,0758,-62.2640, 140.0202, 4054,    596.2,   1.7980,  34.7310,2,  34.7300,2,   -999.0,5,    190.1,2,    87.00,2,    31.20,2,     2.25,3,  1.7650,   -999
    09AR9501_1,  SR03,    46,  1,     14,    114,2,19950730,0758,-62.2640, 140.0202, 4054,    796.3,   1.6630,  34.7380,2,  34.7380,2,   -999.0,5,    195.0,2,    90.90,2,    30.90,2,     2.23,3,  1.6190,   -999
    09AR9501_1,  SR03,    46,  1,     13,    113,2,19950730,0758,-62.2640, 140.0202, 4054,    894.4,   1.5930,  34.7390,2,  34.7400,2,   -999.0,5,    196.7,2,    93.30,2,    30.80,2,     2.22,3,  1.5430,   -999
    09AR9501_1,  SR03,    46,  1,     12,     12,2,19950730,0758,-62.2640, 140.0202, 4054,   1005.9,   1.5000,  34.7390,2,  34.7390,2,   -999.0,5,    198.5,2,    96.60,2,    30.70,2,     2.22,3,  1.4440,   -999
    09AR9501_1,  SR03,    46,  1,     11,     11,2,19950730,0758,-62.2640, 140.0202, 4054,   1199.5,   1.3290,  34.7340,2,  34.7350,2,   -999.0,5,    201.2,2,   101.10,2,    30.50,2,     2.24,3,  1.2610,   -999
    09AR9501_1,  SR03,    46,  1,     10,     10,2,19950730,0758,-62.2640, 140.0202, 4054,   1399.2,   1.1780,  34.7290,2,  34.7290,2,   -999.0,5,    203.1,2,   105.90,2,    30.90,2,     2.27,3,  1.0980,   -999
    09AR9501_1,  SR03,    46,  1,      9,      9,2,19950730,0758,-62.2640, 140.0202, 4054,   1598.8,   1.0190,  34.7210,2,  34.7210,2,   -999.0,5,    205.1,2,   110.80,2,    31.10,2,     2.29,3,  0.9270,   -999
    09AR9501_1,  SR03,    46,  1,      8,      8,2,19950730,0758,-62.2640, 140.0202, 4054,   1801.1,   0.8650,  34.7130,2,  34.7130,2,   -999.0,5,    206.6,2,   114.80,2,    31.40,2,     2.30,3,  0.7610,   -999
    09AR9501_1,  SR03,    46,  1,      7,      7,2,19950730,0758,-62.2640, 140.0202, 4054,   2200.9,   0.5570,  34.6970,2,  34.6960,2,   -999.0,5,    211.7,2,   122.20,2,    32.00,2,     2.34,3,  0.4270,   -999
    09AR9501_1,  SR03,    46,  1,      6,      6,2,19950730,0758,-62.2640, 140.0202, 4054,   2601.4,   0.3480,  34.6890,2,  34.6890,2,   -999.0,5,    217.3,2,   128.10,2,    32.00,2,     2.35,3,  0.1910,   -999
    09AR9501_1,  SR03,    46,  1,      5,      5,2,19950730,0758,-62.2640, 140.0202, 4054,   3006.5,   0.1510,  34.6820,2,  34.6810,2,   -999.0,5,    224.0,2,   129.10,2,    31.90,2,     2.35,3, -0.0360,   -999
    09AR9501_1,  SR03,    46,  1,      4,      4,2,19950730,0758,-62.2640, 140.0202, 4054,   3403.6,   0.0050,  34.6760,2,  34.6770,2,   -999.0,5,    230.7,2,   123.70,2,    31.70,2,     2.35,3, -0.2140,   -999
    09AR9501_1,  SR03,    46,  1,      3,      3,2,19950730,0758,-62.2640, 140.0202, 4054,   3703.9,  -0.1180,  34.6720,2,  34.6730,2,   -999.0,5,    236.3,2,   116.90,2,    31.50,2,     2.33,3, -0.3620,   -999
    09AR9501_1,  SR03,    46,  1,      2,      2,2,19950730,0758,-62.2640, 140.0202, 4054,   4026.0,  -0.1510,  34.6690,2,  34.6710,2,   -999.0,5,    238.8,2,   114.50,2,    31.40,2,     2.32,3, -0.4250,   -999
    09AR9501_1,  SR03,    46,  1,      1,      1,2,19950730,0758,-62.2640, 140.0202, 4054,   4080.8,  -0.1480,  34.6690,2,  34.6710,2,   -999.0,5,    236.1,2,   114.40,2,    31.50,2,     2.31,3, -0.4280,   -999
    09AR9501_1,  SR03,    47,  1,     24,     24,2,19950730,1601,-62.8427, 139.9152, 3275,     10.8,  -1.7550,  34.2180,2,  34.2170,2,   -999.0,5,    334.0,2,    55.90,2,    31.80,2,     2.18,2, -1.7560,   -999
    09AR9501_1,  SR03,    47,  1,     23,     23,2,19950730,1601,-62.8427, 139.9152, 3275,     36.6,  -1.7500,  34.2290,3,  34.2290,2,   -999.0,5,    331.4,2,    56.60,2,    32.00,2,     2.22,2, -1.7510,   -999
    09AR9501_1,  SR03,    47,  1,     22,     22,2,19950730,1601,-62.8427, 139.9152, 3275,     84.7,  -1.6280,  34.2720,3,  34.2700,2,   -999.0,5,    319.0,2,    60.00,2,    32.50,2,     2.23,2, -1.6300,   -999
    09AR9501_1,  SR03,    47,  1,     21,     21,2,19950730,1601,-62.8427, 139.9152, 3275,    175.1,   1.9830,  34.6200,2,  34.6190,2,   -999.0,5,    174.4,2,    78.50,2,    34.00,2,     2.35,2,  1.9740,   -999
    09AR9501_1,  SR03,    47,  1,     20,    120,2,19950730,1601,-62.8427, 139.9152, 3275,    246.5,   1.9400,  34.6640,2,  34.6630,2,   -999.0,5,    177.6,2,    81.20,2,    33.10,2,     2.27,2,  1.9270,   -999
    09AR9501_1,  SR03,    47,  1,     19,    119,2,19950730,1601,-62.8427, 139.9152, 3275,    296.7,   1.9560,  34.6840,2,  34.6830,2,   -999.0,5,    178.9,2,    82.20,2,    32.60,2,     2.25,2,  1.9400,   -999
    09AR9501_1,  SR03,    47,  1,     18,    118,2,19950730,1601,-62.8427, 139.9152, 3275,    400.1,   1.8920,  34.7080,2,  34.7080,2,   -999.0,5,    184.3,2,    83.00,2,    31.80,2,     2.20,2,  1.8710,   -999
    09AR9501_1,  SR03,    47,  1,     17,    117,2,19950730,1601,-62.8427, 139.9152, 3275,    499.3,   1.8390,  34.7190,2,  34.7180,2,   -999.0,5,    187.1,2,    85.30,2,    31.60,2,     2.17,2,  1.8120,   -999
    09AR9501_1,  SR03,    47,  1,     16,    216,2,19950730,1601,-62.8427, 139.9152, 3275,    598.1,   1.7950,  34.7300,2,  34.7290,2,   -999.0,5,    190.3,2,    86.50,2,    31.10,2,     2.15,2,  1.7620,   -999
    09AR9501_1,  SR03,    47,  1,     15,    115,2,19950730,1601,-62.8427, 139.9152, 3275,    696.6,   1.7330,  34.7360,2,  34.7360,2,   -999.0,5,    192.8,2,    88.90,2,    30.90,2,     2.13,2,  1.6950,   -999
    09AR9501_1,  SR03,    47,  1,     14,    114,2,19950730,1601,-62.8427, 139.9152, 3275,    849.5,   1.6160,  34.7400,2,  34.7410,2,   -999.0,5,    196.2,2,    91.20,2,    30.60,2,     2.12,2,  1.5690,   -999
    09AR9501_1,  SR03,    47,  1,     13,    113,4,19950730,1601,-62.8427, 139.9152, 3275,    999.2,   1.4620,  34.7390,2,-999.0000,9,   -999.0,5,   -999.0,9,  -999.00,9,  -999.00,9,  -999.00,9,  1.4060,   -999
    09AR9501_1,  SR03,    47,  1,     12,     12,2,19950730,1601,-62.8427, 139.9152, 3275,   1147.5,   1.3250,  34.7340,2,  34.7350,2,   -999.0,5,    201.5,2,    96.90,2,    30.60,2,     2.13,2,  1.2610,   -999
    09AR9501_1,  SR03,    47,  1,     11,     11,2,19950730,1601,-62.8427, 139.9152, 3275,   1299.2,   1.2040,  34.7290,2,  34.7300,2,   -999.0,5,    202.6,2,    99.50,2,    30.70,2,     2.14,2,  1.1310,   -999
    09AR9501_1,  SR03,    47,  1,     10,     10,2,19950730,1601,-62.8427, 139.9152, 3275,   1499.5,   1.0300,  34.7210,2,  34.7220,2,   -999.0,5,    205.0,2,   104.60,2,    30.90,2,     2.17,2,  0.9450,   -999
    09AR9501_1,  SR03,    47,  1,      9,      9,2,19950730,1601,-62.8427, 139.9152, 3275,   1697.8,   0.8680,  34.7120,2,  34.7130,2,   -999.0,5,    206.5,2,   107.30,2,    31.20,2,     2.19,2,  0.7710,   -999
    09AR9501_1,  SR03,    47,  1,      8,      8,2,19950730,1601,-62.8427, 139.9152, 3275,   1899.6,   0.7130,  34.7040,2,  34.7050,2,   -999.0,5,    208.5,2,   112.30,2,    31.60,2,     2.21,2,  0.6040,   -999
    09AR9501_1,  SR03,    47,  1,      7,      7,2,19950730,1601,-62.8427, 139.9152, 3275,   2101.3,   0.5630,  34.6980,2,  34.6970,2,   -999.0,5,    211.4,2,   116.00,2,    31.90,2,     2.23,2,  0.4410,   -999
    09AR9501_1,  SR03,    47,  1,      6,      6,2,19950730,1601,-62.8427, 139.9152, 3275,   2301.7,   0.4310,  34.6910,2,  34.6910,2,   -999.0,5,    214.5,2,   119.20,2,    32.20,2,     2.24,2,  0.2960,   -999
    09AR9501_1,  SR03,    47,  1,      5,      5,2,19950730,1601,-62.8427, 139.9152, 3275,   2501.4,   0.3050,  34.6860,2,  34.6850,2,   -999.0,5,    218.3,2,   120.60,2,    32.00,2,     2.23,2,  0.1560,   -999
    09AR9501_1,  SR03,    47,  1,      4,      4,2,19950730,1601,-62.8427, 139.9152, 3275,   2702.8,   0.2070,  34.6820,2,  34.6820,2,   -999.0,5,    222.0,2,   122.80,2,    32.10,2,     2.24,2,  0.0440,   -999
    09AR9501_1,  SR03,    47,  1,      3,      3,2,19950730,1601,-62.8427, 139.9152, 3275,   2902.1,   0.1110,  34.6780,2,  34.6800,2,   -999.0,5,    225.3,2,   123.60,2,    32.10,2,     2.23,2, -0.0670,   -999
    09AR9501_1,  SR03,    47,  1,      2,      2,2,19950730,1601,-62.8427, 139.9152, 3275,   3192.9,  -0.0070,  34.6750,2,  34.6770,2,   -999.0,5,    230.4,2,   121.50,2,    31.80,2,     2.22,2, -0.2070,   -999
    09AR9501_1,  SR03,    47,  1,      1,      1,2,19950730,1601,-62.8427, 139.9152, 3275,   3261.5,  -0.0250,  34.6750,2,  34.6770,2,   -999.0,5,    230.7,2,   119.60,2,    31.80,2,     2.22,2, -0.2310,   -999
    09AR9501_1,  SR03,    48,  1,     24,     24,2,19950730,2241,-63.3062, 139.8255, 3819,      8.2,  -1.7290,  34.2200,2,  34.2170,2,   -999.0,5,    327.6,2,    58.50,2,    31.60,2,     2.20,2, -1.7300,   -999
    09AR9501_1,  SR03,    48,  1,     23,     23,2,19950730,2241,-63.3062, 139.8255, 3819,     35.2,  -1.7230,  34.2230,2,  34.2230,2,   -999.0,5,    326.5,2,    58.90,2,    31.40,2,     2.20,2, -1.7240,   -999
    09AR9501_1,  SR03,    48,  1,     22,     22,2,19950730,2241,-63.3062, 139.8255, 3819,    106.5,   1.1130,  34.5240,3,  34.5210,2,   -999.0,5,    211.9,2,    74.50,2,    33.10,2,     2.32,2,  1.1080,   -999
    09AR9501_1,  SR03,    48,  1,     21,     21,2,19950730,2241,-63.3062, 139.8255, 3819,    157.6,   1.8630,  34.6350,2,  34.6350,2,   -999.0,5,    176.7,2,    79.30,2,    33.10,2,     2.33,2,  1.8550,   -999
    09AR9501_1,  SR03,    48,  1,     20,    120,2,19950730,2241,-63.3062, 139.8255, 3819,    195.9,   1.8470,  34.6530,2,  34.6510,2,   -999.0,5,    178.8,2,    79.50,2,    32.80,2,     2.30,2,  1.8370,   -999
    09AR9501_1,  SR03,    48,  1,     19,    119,2,19950730,2241,-63.3062, 139.8255, 3819,    296.4,   1.8640,  34.6900,4,  34.6900,2,   -999.0,5,    181.6,2,    80.30,2,    32.00,2,     2.23,2,  1.8490,   -999
    09AR9501_1,  SR03,    48,  1,     18,    118,2,19950730,2241,-63.3062, 139.8255, 3819,    396.2,   1.7840,  34.7060,2,  34.7050,2,   -999.0,5,    186.4,2,    81.50,2,    31.30,2,     2.20,2,  1.7630,   -999
    09AR9501_1,  SR03,    48,  1,     17,    117,2,19950730,2241,-63.3062, 139.8255, 3819,    496.2,   1.7410,  34.7200,2,  34.7190,2,   -999.0,5,    189.6,2,    84.40,2,    31.00,2,     2.18,2,  1.7150,   -999
    09AR9501_1,  SR03,    48,  1,     16,    216,2,19950730,2241,-63.3062, 139.8255, 3819,    596.9,   1.7080,  34.7320,2,  34.7310,2,   -999.0,5,    192.0,2,    85.80,2,    30.70,2,     2.16,2,  1.6760,   -999
    09AR9501_1,  SR03,    48,  1,     15,    115,2,19950730,2241,-63.3062, 139.8255, 3819,    696.4,   1.6630,  34.7400,2,  34.7400,2,   -999.0,5,    194.4,2,    91.10,2,    30.40,2,     2.14,2,  1.6250,   -999
    09AR9501_1,  SR03,    48,  1,     14,    114,2,19950730,2241,-63.3062, 139.8255, 3819,    846.7,   1.5200,  34.7400,2,  34.7390,2,   -999.0,5,    198.0,2,    86.80,2,    30.50,2,     2.14,2,  1.4730,   -999
    09AR9501_1,  SR03,    48,  1,     13,    113,2,19950730,2241,-63.3062, 139.8255, 3819,   1001.0,   1.4130,  34.7390,2,  34.7400,2,   -999.0,5,    200.3,2,    93.80,2,    30.30,2,     2.14,2,  1.3580,   -999
    09AR9501_1,  SR03,    48,  1,     12,     12,2,19950730,2241,-63.3062, 139.8255, 3819,   1198.2,   1.2600,  34.7350,2,  34.7350,2,   -999.0,5,    202.4,2,    99.60,2,    30.60,2,     2.13,2,  1.1930,   -999
    09AR9501_1,  SR03,    48,  1,     11,     11,2,19950730,2241,-63.3062, 139.8255, 3819,   1399.5,   1.0810,  34.7270,2,  34.7260,2,   -999.0,5,    204.0,2,   104.90,2,    30.90,2,     2.16,2,  1.0020,   -999
    09AR9501_1,  SR03,    48,  1,     10,     10,2,19950730,2241,-63.3062, 139.8255, 3819,   1601.7,   0.9190,  34.7180,2,  34.7180,2,   -999.0,5,    205.9,2,   109.60,2,    31.20,2,     2.19,2,  0.8280,   -999
    09AR9501_1,  SR03,    48,  1,      9,      9,2,19950730,2241,-63.3062, 139.8255, 3819,   1801.5,   0.7710,  34.7090,2,  34.7100,2,   -999.0,5,    208.4,2,   113.00,2,    31.50,2,     2.20,2,  0.6680,   -999
    09AR9501_1,  SR03,    48,  1,      8,      8,2,19950730,2241,-63.3062, 139.8255, 3819,   2002.0,   0.6440,  34.7030,2,  34.7040,2,   -999.0,5,    209.6,2,   116.20,2,    31.60,2,     2.21,2,  0.5280,   -999
    09AR9501_1,  SR03,    48,  1,      7,      7,2,19950730,2241,-63.3062, 139.8255, 3819,   2302.3,   0.4360,  34.6940,2,  34.6950,2,   -999.0,5,    214.2,2,   121.10,2,    31.90,2,     2.23,2,  0.3010,   -999
    09AR9501_1,  SR03,    48,  1,      6,      6,2,19950730,2241,-63.3062, 139.8255, 3819,   2602.3,   0.2620,  34.6860,2,  34.6870,2,   -999.0,5,    219.7,2,   123.00,2,    31.90,2,     2.24,2,  0.1060,   -999
    09AR9501_1,  SR03,    48,  1,      5,      5,2,19950730,2241,-63.3062, 139.8255, 3819,   2903.8,   0.1300,  34.6810,2,  34.6820,2,   -999.0,5,    224.4,2,   123.00,2,    31.80,2,     2.23,2, -0.0480,   -999
    09AR9501_1,  SR03,    48,  1,      4,      4,2,19950730,2241,-63.3062, 139.8255, 3819,   3213.0,   0.0090,  34.6790,2,  34.6790,2,   -999.0,5,    229.7,2,   120.90,2,    31.60,2,     2.22,2, -0.1930,   -999
    09AR9501_1,  SR03,    48,  1,      3,      3,2,19950730,2241,-63.3062, 139.8255, 3819,   3492.4,  -0.0940,  34.6740,2,  34.6760,2,   -999.0,5,    234.6,2,   117.00,2,    31.50,2,     2.21,2, -0.3190,   -999
    09AR9501_1,  SR03,    48,  1,      2,      2,2,19950730,2241,-63.3062, 139.8255, 3819,   3633.8,  -0.1440,  34.6740,2,  34.6750,2,   -999.0,5,    237.3,2,   115.20,2,    31.50,2,     2.20,2, -0.3810,   -999
    09AR9501_1,  SR03,    48,  1,      1,      1,2,19950730,2241,-63.3062, 139.8255, 3819,   3827.4,  -0.2350,  34.6660,2,  34.6680,2,   -999.0,5,    241.5,2,   112.50,2,    31.30,2,     2.20,2, -0.4880,   -999