BOTTLE,20020620WHPSIOKJU
EXPOCODE,SECT_ID,STNNBR,CASTNO,SAMPNO,BTLNBR,BTLNBR_FLAG_W,DATE,TIME,LATITUDE,LONGITUDE,DEPTH,CTDPRS,CTDTMP,CTDSAL,CTDSAL_FLAG_W,SALNTY,SALNTY_FLAG_W,CTDOXY,CTDOXY_FLAG_W,OXYGEN,OXYGEN_FLAG_W,SILCAT,SILCAT_FLAG_W,NO2+NO3,NO2+NO3_FLAG_W,PHSPHT,PHSPHT_FLAG_W,THETA,CTDRAW
,,,,,,,,,,,,DBAR,DEG C,PSS-78,,PSS-78,,UMOL/KG,,UMOL/KG,,UMOL/KG,,UMOL/KG,,UMOL/KG,,DEG C,
    09AR9501_1,  SR03,    37,  1,     24,     24,2,19950727,0831,-57.8552, 139.8648, 4095,      8.7,   1.2470,  33.8700,2,  33.8720,2,   -999.0,5,    330.5,2,    10.80,2,    26.90,2,     1.84,2,  1.2470,   -999
    09AR9501_1,  SR03,    37,  1,     23,     23,2,19950727,0831,-57.8552, 139.8648, 4095,     24.7,   1.2510,  33.8710,2,  33.8720,2,    320.7,2,    329.2,2,    10.80,2,    26.90,2,     1.85,2,  1.2500,   -999
    09AR9501_1,  SR03,    37,  1,     22,     22,2,19950727,0831,-57.8552, 139.8648, 4095,     49.0,   1.2610,  33.8730,2,  33.8720,2,    337.0,2,    329.1,2,    10.80,2,    26.90,2,     1.84,2,  1.2590,   -999
    09AR9501_1,  SR03,    37,  1,     21,     21,2,19950727,0831,-57.8552, 139.8648, 4095,     99.6,   1.1480,  33.8780,2,  33.8790,2,    324.2,2,    329.0,2,    11.30,2,    27.10,2,     1.85,2,  1.1440,   -999
    09AR9501_1,  SR03,    37,  1,     20,    120,2,19950727,0831,-57.8552, 139.8648, 4095,    197.5,   0.8920,  33.9200,3,  33.9230,2,    325.4,2,    324.8,2,    17.90,2,    28.40,2,     1.93,2,  0.8840,   -999
    09AR9501_1,  SR03,    37,  1,     19,    119,2,19950727,0831,-57.8552, 139.8648, 4095,    299.2,   2.0490,  34.2450,2,  34.2470,2,    221.5,2,    228.7,2,    42.30,2,    33.40,2,     2.28,2,  2.0330,   -999
    09AR9501_1,  SR03,    37,  1,     18,    118,2,19950727,0831,-57.8552, 139.8648, 4095,    399.1,   2.2010,  34.3730,2,  34.3720,2,    193.0,2,    198.6,2,    53.60,2,    34.40,2,     2.37,2,  2.1790,   -999
    09AR9501_1,  SR03,    37,  1,     17,    117,2,19950727,0831,-57.8552, 139.8648, 4095,    499.7,   2.2800,  34.4580,4,  34.4630,2,    182.9,2,    182.8,2,    61.10,2,    34.90,2,     2.39,2,  2.2520,   -999
    09AR9501_1,  SR03,    37,  1,     16,    216,2,19950727,0831,-57.8552, 139.8648, 4095,    599.1,   2.3120,  34.5250,2,  34.5230,2,    175.7,2,    177.4,2,    65.10,2,    34.80,2,     2.37,2,  2.2770,   -999
    09AR9501_1,  SR03,    37,  1,     15,    115,2,19950727,0831,-57.8552, 139.8648, 4095,    699.4,   2.3240,  34.5870,2,  34.5860,2,    176.4,2,    174.0,2,    68.80,2,    34.10,2,     2.33,2,  2.2820,   -999
    09AR9501_1,  SR03,    37,  1,     14,    114,2,19950727,0831,-57.8552, 139.8648, 4095,    799.8,   2.3220,  34.6360,2,  34.6330,2,    177.5,2,    176.0,2,    70.10,2,    33.30,2,     2.26,2,  2.2740,   -999
    09AR9501_1,  SR03,    37,  1,     13,    113,2,19950727,0831,-57.8552, 139.8648, 4095,    900.7,   2.2870,  34.6640,2,  34.6630,2,    179.1,2,    178.2,2,    71.60,2,    32.90,2,     2.22,2,  2.2320,   -999
    09AR9501_1,  SR03,    37,  1,     12,     12,2,19950727,0831,-57.8552, 139.8648, 4095,   1002.3,   2.2430,  34.6870,2,  34.6830,2,    181.3,2,    180.1,2,    72.80,2,    32.20,2,     2.20,2,  2.1810,   -999
    09AR9501_1,  SR03,    37,  1,     11,     11,2,19950727,0831,-57.8552, 139.8648, 4095,   1300.6,   2.0420,  34.7320,2,  34.7330,2,    188.8,2,    189.2,2,    77.20,2,    31.00,2,     2.12,2,  1.9600,   -999
    09AR9501_1,  SR03,    37,  1,     10,     10,2,19950727,0831,-57.8552, 139.8648, 4095,   1602.2,   1.8410,  34.7460,2,  34.7460,2,    194.8,2,    195.1,2,    51.20,4,    23.50,4,     1.69,4,  1.7390,   -999
    09AR9501_1,  SR03,    37,  1,      9,      9,2,19950727,0831,-57.8552, 139.8648, 4095,   1801.7,   1.6790,  34.7460,2,  34.7470,2,    198.8,2,    197.8,2,    46.00,4,    23.40,4,     1.79,4,  1.5630,   -999
    09AR9501_1,  SR03,    37,  1,      8,      8,2,19950727,0831,-57.8552, 139.8648, 4095,   2103.3,   1.4050,  34.7370,2,  34.7380,2,    201.9,2,    200.6,2,    62.20,4,    22.00,4,     1.68,4,  1.2690,   -999
    09AR9501_1,  SR03,    37,  1,      7,      7,2,19950727,0831,-57.8552, 139.8648, 4095,   2402.5,   1.1430,  34.7230,2,  34.7260,2,    206.8,2,    203.3,2,   102.60,2,    31.50,2,     2.16,2,  0.9870,   -999
    09AR9501_1,  SR03,    37,  1,      6,      6,2,19950727,0831,-57.8552, 139.8648, 4095,   2704.7,   0.9140,  34.7120,2,  34.7130,2,    210.1,2,    206.8,2,    79.70,4,    23.90,4,     1.80,4,  0.7370,   -999
    09AR9501_1,  SR03,    37,  1,      5,      5,2,19950727,0831,-57.8552, 139.8648, 4095,   3007.0,   0.6890,  34.7020,2,  34.7030,2,    214.9,2,    211.1,2,   114.20,2,    32.30,2,     2.22,2,  0.4900,   -999
    09AR9501_1,  SR03,    37,  1,      4,      4,2,19950727,0831,-57.8552, 139.8648, 4095,   3403.9,   0.4540,  34.6920,2,  34.6900,2,    219.1,2,    215.6,2,   118.20,2,    32.60,2,     2.22,2,  0.2240,   -999
    09AR9501_1,  SR03,    37,  1,      3,      3,2,19950727,0831,-57.8552, 139.8648, 4095,   3806.2,   0.2720,  34.6840,2,  34.6840,2,    223.4,2,    220.8,2,   121.50,2,    32.70,2,     2.24,2,  0.0070,   -999
    09AR9501_1,  SR03,    37,  1,      2,      2,2,19950727,0831,-57.8552, 139.8648, 4095,   4107.3,   0.1880,  34.6800,2,  34.6800,2,    220.9,2,    223.9,2,   128.00,2,    32.80,2,     2.25,2, -0.1050,   -999
    09AR9501_1,  SR03,    37,  1,      1,      1,2,19950727,0831,-57.8552, 139.8648, 4095,   4179.6,   0.1900,  34.6800,2,  34.6810,2,    219.9,2,    224.6,2,   127.30,2,    33.00,2,     2.25,2, -0.1100,   -999
    09AR9501_1,  SR03,    38,  1,     24,     24,2,19950727,1703,-58.3432, 139.8595, 3993,      7.3,   0.7660,  33.8900,2,  33.8910,2,   -999.0,5,    140.0,4,    12.90,2,    27.50,2,     1.85,2,  0.7660,   -999
    09AR9501_1,  SR03,    38,  1,     23,     23,2,19950727,1703,-58.3432, 139.8595, 3993,     47.9,   0.5650,  33.8950,2,  33.8940,2,    335.2,2,    335.2,2,    14.30,2,    27.70,2,     1.88,2,  0.5630,   -999
    09AR9501_1,  SR03,    38,  1,     22,     22,2,19950727,1703,-58.3432, 139.8595, 3993,     98.0,   0.6470,  33.9140,2,  33.9140,2,    329.6,2,    330.5,2,    17.60,2,    28.30,2,     1.91,2,  0.6430,   -999
    09AR9501_1,  SR03,    38,  1,     21,     21,2,19950727,1703,-58.3432, 139.8595, 3993,    179.3,   1.8410,  34.1440,4,  34.1380,2,    255.2,2,    260.0,2,    33.90,2,    31.70,2,     2.18,2,  1.8320,   -999
    09AR9501_1,  SR03,    38,  1,     20,    120,2,19950727,1703,-58.3432, 139.8595, 3993,    248.9,   2.0920,  34.2850,3,  34.2830,2,    213.1,2,    219.2,2,    47.00,2,    33.80,2,     2.32,2,  2.0790,   -999
    09AR9501_1,  SR03,    38,  1,     19,    119,2,19950727,1703,-58.3432, 139.8595, 3993,    298.8,   2.1550,  34.3340,2,  34.3310,2,    203.4,2,    207.2,2,    51.20,2,    34.30,2,     2.36,2,  2.1390,   -999
    09AR9501_1,  SR03,    38,  1,     18,    118,2,19950727,1703,-58.3432, 139.8595, 3993,    398.7,   2.1940,  34.4380,2,  34.4360,2,    184.2,2,    185.9,2,    61.10,2,    34.90,2,     2.41,2,  2.1720,   -999
    09AR9501_1,  SR03,    38,  1,     17,    117,2,19950727,1703,-58.3432, 139.8595, 3993,    499.4,   2.2740,  34.5150,2,  34.5140,2,    178.1,2,    177.0,2,    66.20,2,    34.60,2,     2.38,2,  2.2460,   -999
    09AR9501_1,  SR03,    38,  1,     16,    216,2,19950727,1703,-58.3432, 139.8595, 3993,    590.1,   2.3260,  34.5760,2,  34.5750,2,    173.8,2,    174.5,2,    69.50,2,    34.10,2,     2.34,2,  2.2920,   -999
    09AR9501_1,  SR03,    38,  1,     15,    115,2,19950727,1703,-58.3432, 139.8595, 3993,    699.4,   2.2860,  34.6220,2,  34.6210,2,    176.0,2,    175.0,2,    71.80,2,    33.60,2,     2.31,2,  2.2450,   -999
    09AR9501_1,  SR03,    38,  1,     14,    114,2,19950727,1703,-58.3432, 139.8595, 3993,    849.3,   2.2080,  34.6670,2,  34.6680,2,    179.8,2,    176.7,2,    74.70,2,    33.00,2,     2.25,2,  2.1570,   -999
    09AR9501_1,  SR03,    38,  1,     13,    113,2,19950727,1703,-58.3432, 139.8595, 3993,    998.8,   2.1530,  34.7040,2,  34.7030,2,    183.5,2,    183.2,2,    76.10,2,    31.90,2,     2.19,2,  2.0920,   -999
    09AR9501_1,  SR03,    38,  1,     12,     12,2,19950727,1703,-58.3432, 139.8595, 3993,   1201.6,   2.0370,  34.7300,2,  34.7290,2,    189.3,2,    189.1,2,    80.20,2,    31.30,2,     2.12,2,  1.9630,   -999
    09AR9501_1,  SR03,    38,  1,     11,     11,2,19950727,1703,-58.3432, 139.8595, 3993,   1400.9,   1.9000,  34.7440,2,  34.7440,2,    195.5,2,    193.1,2,    82.30,2,    30.70,2,     2.10,2,  1.8120,   -999
    09AR9501_1,  SR03,    38,  1,     10,     10,2,19950727,1703,-58.3432, 139.8595, 3993,   1601.5,   1.7340,  34.7460,2,  34.7470,2,    202.4,2,    197.0,2,    88.20,2,    30.60,2,     2.09,2,  1.6330,   -999
    09AR9501_1,  SR03,    38,  1,      9,      9,2,19950727,1703,-58.3432, 139.8595, 3993,   1801.1,   1.5800,  34.7440,2,  34.7440,2,    202.5,2,    199.6,2,    92.90,2,    30.80,2,     2.12,2,  1.4660,   -999
    09AR9501_1,  SR03,    38,  1,      8,      8,2,19950727,1703,-58.3432, 139.8595, 3993,   2102.1,   1.3130,  34.7320,2,  34.7340,2,    206.3,2,    202.0,2,   101.50,2,    31.10,2,     2.15,2,  1.1790,   -999
    09AR9501_1,  SR03,    38,  1,      7,      7,2,19950727,1703,-58.3432, 139.8595, 3993,   2402.8,   1.0640,  34.7220,2,  34.7220,2,    207.5,2,    204.9,2,   108.40,2,    31.60,2,     2.18,2,  0.9090,   -999
    09AR9501_1,  SR03,    38,  1,      6,      6,2,19950727,1703,-58.3432, 139.8595, 3993,   2703.9,   0.8440,  34.7100,2,  34.7090,2,    211.2,2,    208.0,2,   113.90,2,    31.90,2,     2.20,2,  0.6680,   -999
    09AR9501_1,  SR03,    38,  1,      5,      5,2,19950727,1703,-58.3432, 139.8595, 3993,   3006.0,   0.6380,  34.6990,2,  34.7000,2,    213.7,2,    211.4,2,   117.80,2,    32.30,2,     2.22,2,  0.4400,   -999
    09AR9501_1,  SR03,    38,  1,      4,      4,2,19950727,1703,-58.3432, 139.8595, 3993,   3306.0,   0.4470,  34.6910,2,  34.6910,2,    218.5,2,    216.8,2,   121.30,2,    32.50,2,     2.23,2,  0.2260,   -999
    09AR9501_1,  SR03,    38,  1,      3,      3,2,19950727,1703,-58.3432, 139.8595, 3993,   3606.8,   0.2950,  34.6850,2,  34.6850,2,    220.3,2,    220.8,2,   128.40,2,    32.40,2,     2.24,2,  0.0490,   -999
    09AR9501_1,  SR03,    38,  1,      2,      2,2,19950727,1703,-58.3432, 139.8595, 3993,   3905.9,   0.1930,  34.6800,2,  34.6810,2,    220.2,3,    223.6,2,   129.90,2,    32.50,2,     2.25,2, -0.0790,   -999
    09AR9501_1,  SR03,    38,  1,      1,      1,2,19950727,1703,-58.3432, 139.8595, 3993,   4041.6,   0.1640,  34.6800,2,  34.6800,2,    221.7,3,    225.2,2,   127.80,2,    32.50,2,     2.25,2, -0.1210,   -999
    09AR9501_1,  SR03,    39,  1,     24,     24,2,19950728,0031,-58.8627, 139.8452, 3942,      8.3,   0.2360,  33.8980,2,  33.9000,2,    339.5,2,    338.5,2,    18.10,2,    27.70,2,     1.91,2,  0.2360,   -999
    09AR9501_1,  SR03,    39,  1,     23,     23,2,19950728,0031,-58.8627, 139.8452, 3942,     48.8,   0.2520,  33.9000,2,  33.9000,2,    337.6,2,    338.3,2,    17.80,2,    27.80,2,     1.92,2,  0.2500,   -999
    09AR9501_1,  SR03,    39,  1,     22,     22,2,19950728,0031,-58.8627, 139.8452, 3942,     98.6,   0.2360,  33.9020,2,  33.9010,2,    336.2,2,    338.1,2,    31.80,2,    27.80,2,     1.96,2,  0.2320,   -999
    09AR9501_1,  SR03,    39,  1,     21,     21,2,19950728,0031,-58.8627, 139.8452, 3942,    147.6,   0.1940,  33.9040,2,  33.9030,2,    333.9,2,    337.5,2,    18.40,2,    27.80,2,     1.97,2,  0.1890,   -999
    09AR9501_1,  SR03,    39,  1,     20,    120,2,19950728,0031,-58.8627, 139.8452, 3942,    192.2,   1.4900,  34.1580,2,  34.1570,2,    233.0,2,    256.7,2,    39.30,2,    32.10,2,     2.27,2,  1.4810,   -999
    09AR9501_1,  SR03,    39,  1,     19,    119,2,19950728,0031,-58.8627, 139.8452, 3942,    299.9,   2.1210,  34.4060,2,  34.4040,2,    188.7,2,    191.9,2,    59.90,2,    34.40,2,     2.45,2,  2.1050,   -999
    09AR9501_1,  SR03,    39,  1,     18,    118,2,19950728,0031,-58.8627, 139.8452, 3942,    398.8,   2.2220,  34.4890,2,  34.4890,2,    180.7,2,    179.3,2,    66.00,2,    34.40,2,     2.45,2,  2.2000,   -999
    09AR9501_1,  SR03,    39,  1,     17,    117,2,19950728,0031,-58.8627, 139.8452, 3942,    498.8,   2.2680,  34.5620,2,  34.5640,2,    176.6,2,    174.1,2,    70.00,2,    34.00,2,     2.41,2,  2.2400,   -999
    09AR9501_1,  SR03,    39,  1,     16,    216,2,19950728,0031,-58.8627, 139.8452, 3942,    650.6,   2.2520,  34.6340,2,  34.6340,2,    176.4,2,    175.3,2,    72.90,2,    33.00,2,     2.34,2,  2.2140,   -999
    09AR9501_1,  SR03,    39,  1,     15,    115,2,19950728,0031,-58.8627, 139.8452, 3942,    799.7,   2.1930,  34.6790,2,  34.6780,2,    179.1,2,    179.0,2,    75.40,2,    32.00,2,     2.27,2,  2.1450,   -999
    09AR9501_1,  SR03,    39,  1,     14,    114,2,19950728,0031,-58.8627, 139.8452, 3942,   1000.0,   2.0690,  34.7180,2,  34.7190,2,    183.7,2,    186.3,2,    84.40,2,    30.20,2,     2.15,2,  2.0090,   -999
    09AR9501_1,  SR03,    39,  1,     13,    113,2,19950728,0031,-58.8627, 139.8452, 3942,   1200.1,   1.9440,  34.7370,2,  34.7380,2,    188.8,2,    191.9,2,    81.60,2,    30.30,2,     2.18,2,  1.8710,   -999
    09AR9501_1,  SR03,    39,  1,     12,     12,2,19950728,0031,-58.8627, 139.8452, 3942,   1399.8,   1.8180,  34.7430,2,  34.7450,2,    193.8,2,    195.0,2,    85.70,2,    30.10,2,     2.16,2,  1.7310,   -999
    09AR9501_1,  SR03,    39,  1,     11,     11,2,19950728,0031,-58.8627, 139.8452, 3942,   1602.1,   1.6510,  34.7440,2,  34.7460,2,    199.1,2,    198.5,2,    90.20,2,    30.10,2,     2.16,2,  1.5510,   -999
    09AR9501_1,  SR03,    39,  1,     10,     10,2,19950728,0031,-58.8627, 139.8452, 3942,   1801.0,   1.4560,  34.7390,2,  34.7410,2,    202.6,2,    200.7,2,    95.80,2,    30.30,2,     2.17,2,  1.3430,   -999
    09AR9501_1,  SR03,    39,  1,      9,      9,2,19950728,0031,-58.8627, 139.8452, 3942,   2002.0,   1.2930,  34.7320,2,  34.7330,2,    203.2,2,    203.1,2,    99.80,2,    30.40,2,     2.20,2,  1.1670,   -999
    09AR9501_1,  SR03,    39,  1,      8,      8,2,19950728,0031,-58.8627, 139.8452, 3942,   2202.2,   1.1460,  34.7240,2,  34.7260,2,    205.9,2,    204.1,2,   104.30,2,    30.70,2,     2.21,2,  1.0060,   -999
    09AR9501_1,  SR03,    39,  1,      7,      7,2,19950728,0031,-58.8627, 139.8452, 3942,   2403.3,   0.9950,  34.7170,2,  34.7170,2,    207.9,2,    206.8,2,   108.00,2,    31.00,2,     2.23,2,  0.8420,   -999
    09AR9501_1,  SR03,    39,  1,      6,      6,2,19950728,0031,-58.8627, 139.8452, 3942,   2703.2,   0.7710,  34.7050,2,  34.7060,2,    211.9,2,    209.0,2,   114.00,2,    31.20,2,     2.27,2,  0.5970,   -999
    09AR9501_1,  SR03,    39,  1,      5,      5,2,19950728,0031,-58.8627, 139.8452, 3942,   3004.6,   0.5420,  34.6950,2,  34.6950,2,    216.0,2,    213.9,2,   118.30,2,    31.60,2,     2.29,2,  0.3460,   -999
    09AR9501_1,  SR03,    39,  1,      4,      4,2,19950728,0031,-58.8627, 139.8452, 3942,   3304.7,   0.3760,  34.6880,2,  34.6890,2,    220.4,2,    217.9,2,   120.70,2,    32.40,2,     2.29,2,  0.1570,   -999
    09AR9501_1,  SR03,    39,  1,      3,      3,2,19950728,0031,-58.8627, 139.8452, 3942,   3604.7,   0.2690,  34.6830,2,  34.6840,2,    223.5,2,    221.6,2,   124.60,2,    32.30,2,     2.30,2,  0.0240,   -999
    09AR9501_1,  SR03,    39,  1,      2,      2,4,19950728,0031,-58.8627, 139.8452, 3942,   3908.1,   0.1960,  34.6800,2,-999.0000,9,    222.2,2,   -999.0,9,  -999.00,9,  -999.00,9,  -999.00,9, -0.0770,   -999
    09AR9501_1,  SR03,    39,  1,      1,      1,2,19950728,0031,-58.8627, 139.8452, 3942,   4043.6,   0.1580,  34.6800,2,  34.6780,2,    222.8,2,    226.0,2,   129.60,2,    32.30,2,     2.30,2, -0.1270,   -999