BOTTLE,20020620WHPSIOKJU
EXPOCODE,SECT_ID,STNNBR,CASTNO,SAMPNO,BTLNBR,BTLNBR_FLAG_W,DATE,TIME,LATITUDE,LONGITUDE,DEPTH,CTDPRS,CTDTMP,CTDSAL,CTDSAL_FLAG_W,SALNTY,SALNTY_FLAG_W,CTDOXY,CTDOXY_FLAG_W,OXYGEN,OXYGEN_FLAG_W,SILCAT,SILCAT_FLAG_W,NO2+NO3,NO2+NO3_FLAG_W,PHSPHT,PHSPHT_FLAG_W,THETA,CTDRAW
,,,,,,,,,,,,DBAR,DEG C,PSS-78,,PSS-78,,UMOL/KG,,UMOL/KG,,UMOL/KG,,UMOL/KG,,UMOL/KG,,DEG C,
    09AR9501_1,  SR03,     4,  1,     24,     24,2,19950718,1103,-44.3775, 146.1795, 2407,      7.3,  10.5350,  34.8640,2,  34.8640,2,   -999.0,5,    275.1,2,     2.00,2,     9.70,2,     0.75,2, 10.5370,   -999
    09AR9501_1,  SR03,     4,  1,     23,     23,2,19950718,1103,-44.3775, 146.1795, 2407,      7.5,  10.5310,  34.8640,2,  34.8640,2,   -999.0,5,    262.8,2,     2.00,2,     9.80,2,     0.76,2, 10.5330,   -999
    09AR9501_1,  SR03,     4,  1,     22,     22,2,19950718,1103,-44.3775, 146.1795, 2407,     21.0,  10.5360,  34.8640,2,  34.8650,2,   -999.0,5,    263.8,2,     2.00,2,     9.70,2,     0.75,2, 10.5360,   -999
    09AR9501_1,  SR03,     4,  1,     21,     21,2,19950718,1103,-44.3775, 146.1795, 2407,     44.6,  10.5390,  34.8650,2,  34.8650,2,   -999.0,5,    270.1,2,     2.00,2,     9.80,2,     0.76,2, 10.5360,   -999
    09AR9501_1,  SR03,     4,  1,     20,    120,2,19950718,1103,-44.3775, 146.1795, 2407,     95.4,  10.5450,  34.8640,2,  34.8650,2,   -999.0,5,    264.0,2,     2.00,2,     9.80,2,     0.75,2, 10.5360,   -999
    09AR9501_1,  SR03,     4,  1,     19,    119,2,19950718,1103,-44.3775, 146.1795, 2407,    144.0,  10.5530,  34.8660,2,  34.8660,2,   -999.0,5,    264.1,2,     2.00,2,     9.80,2,     0.75,2, 10.5380,   -999
    09AR9501_1,  SR03,     4,  1,     18,    118,2,19950718,1103,-44.3775, 146.1795, 2407,    197.0,  10.5050,  34.8570,2,  34.8580,2,   -999.0,5,    262.8,2,     2.10,2,    10.00,2,     0.77,2, 10.4840,   -999
    09AR9501_1,  SR03,     4,  1,     17,    117,2,19950718,1103,-44.3775, 146.1795, 2407,    293.8,   9.6870,  34.7500,2,  34.7490,2,   -999.0,5,    244.4,2,     4.10,2,    14.80,2,     1.04,2,  9.6560,   -999
    09AR9501_1,  SR03,     4,  1,     16,    116,2,19950718,1103,-44.3775, 146.1795, 2407,    397.6,   8.8290,  34.6180,2,  34.6190,2,   -999.0,5,    250.9,2,     4.70,2,    16.60,2,     1.15,2,  8.7880,   -999
    09AR9501_1,  SR03,     4,  1,     15,    115,2,19950718,1103,-44.3775, 146.1795, 2407,    496.3,   8.5160,  34.5790,2,  34.5790,2,   -999.0,5,    246.0,2,     5.80,2,    18.00,2,     1.25,2,  8.4650,   -999
    09AR9501_1,  SR03,     4,  1,     14,    114,2,19950718,1103,-44.3775, 146.1795, 2407,    596.5,   8.1290,  34.5450,2,  34.5450,2,   -999.0,5,    224.6,2,     8.60,2,    20.70,2,     1.41,2,  8.0690,   -999
    09AR9501_1,  SR03,     4,  1,     13,    113,2,19950718,1103,-44.3775, 146.1795, 2407,    697.5,   7.4150,  34.4870,4,  34.4860,2,   -999.0,5,    214.9,2,    12.50,2,    23.20,2,     1.58,2,  7.3470,   -999
    09AR9501_1,  SR03,     4,  1,     12,     12,2,19950718,1103,-44.3775, 146.1795, 2407,    800.1,   6.6250,  34.4440,2,  34.4420,2,   -999.0,5,    202.0,2,    17.60,2,    25.90,2,     1.76,2,  6.5510,   -999
    09AR9501_1,  SR03,     4,  1,     11,     11,2,19950718,1103,-44.3775, 146.1795, 2407,    893.3,   5.9700,  34.4360,3,  34.4350,2,   -999.0,5,    192.6,2,    24.40,2,    27.90,2,     1.89,2,  5.8910,   -999
    09AR9501_1,  SR03,     4,  1,     10,     10,2,19950718,1103,-44.3775, 146.1795, 2407,    995.3,   5.1150,  34.4180,4,  34.4180,2,   -999.0,5,    191.0,2,    32.90,2,    29.40,2,     2.03,2,  5.0330,   -999
    09AR9501_1,  SR03,     4,  1,      9,      9,2,19950718,1103,-44.3775, 146.1795, 2407,   1096.0,   4.5870,  34.4270,3,  34.4280,2,   -999.0,5,    186.9,2,    40.90,2,    30.60,2,     2.13,2,  4.5000,   -999
    09AR9501_1,  SR03,     4,  1,      8,      8,2,19950718,1103,-44.3775, 146.1795, 2407,   1196.2,   3.9510,  34.4410,2,  34.4390,2,   -999.0,5,    182.0,2,    48.80,2,    31.80,2,     2.22,2,  3.8600,   -999
    09AR9501_1,  SR03,     4,  1,      7,      7,2,19950718,1103,-44.3775, 146.1795, 2407,   1395.7,   3.0340,  34.5100,2,  34.5100,2,   -999.0,5,    172.0,2,    62.00,2,    33.30,2,     2.33,2,  2.9350,   -999
    09AR9501_1,  SR03,     4,  1,      6,      6,2,19950718,1103,-44.3775, 146.1795, 2407,   1595.9,   2.5840,  34.6050,2,  34.6040,2,   -999.0,5,    169.8,2,    70.10,2,    33.10,2,     2.29,2,  2.4740,   -999
    09AR9501_1,  SR03,     4,  1,      5,      5,2,19950718,1103,-44.3775, 146.1795, 2407,   1797.9,   2.4520,  34.6490,2,  34.6470,2,   -999.0,5,    172.2,2,    73.10,2,    32.60,2,     2.27,2,  2.3260,   -999
    09AR9501_1,  SR03,     4,  1,      4,      4,2,19950718,1103,-44.3775, 146.1795, 2407,   1998.2,   2.3170,  34.6880,2,  34.6880,2,   -999.0,5,    174.8,2,    77.90,2,    32.00,2,     2.23,2,  2.1760,   -999
    09AR9501_1,  SR03,     4,  1,      3,      3,2,19950718,1103,-44.3775, 146.1795, 2407,   2199.3,   2.2120,  34.7110,2,  34.7090,2,   -999.0,5,    175.7,2,    81.40,2,    31.70,2,     2.21,2,  2.0550,   -999
    09AR9501_1,  SR03,     4,  1,      2,      2,2,19950718,1103,-44.3775, 146.1795, 2407,   2301.9,   2.1140,  34.7190,2,  34.7200,2,   -999.0,5,    176.4,2,    87.10,2,    31.80,2,     2.22,2,  1.9500,   -999
    09AR9501_1,  SR03,     4,  1,      1,      1,2,19950718,1103,-44.3775, 146.1795, 2407,   2345.9,   2.0870,  34.7220,2,  34.7230,2,   -999.0,5,    176.6,2,    83.20,2,    31.50,2,     2.21,2,  1.9190,   -999
    09AR9501_1,  SR03,     5,  1,     24,     24,2,19950718,1736,-44.7207, 146.0552, 3225,      6.6,  10.1570,  34.8010,2,  34.8030,2,   -999.0,5,    266.3,2,     2.80,2,    10.20,2,     0.81,2, 10.1590,   -999
    09AR9501_1,  SR03,     5,  1,     23,     23,2,19950718,1736,-44.7207, 146.0552, 3225,     47.2,  10.1500,  34.8010,2,  34.8030,2,   -999.0,5,    265.5,2,     2.80,2,     9.80,2,     0.78,2, 10.1470,   -999
    09AR9501_1,  SR03,     5,  1,     22,     22,2,19950718,1736,-44.7207, 146.0552, 3225,     97.1,  10.1810,  34.8070,2,  34.8080,2,   -999.0,5,    266.1,2,     3.00,2,    10.00,2,     0.81,2, 10.1720,   -999
    09AR9501_1,  SR03,     5,  1,     21,     21,2,19950718,1736,-44.7207, 146.0552, 3225,    145.6,  10.1020,  34.7910,3,  34.7900,2,   -999.0,5,    266.5,2,     4.60,2,    10.40,2,     0.83,2, 10.0880,   -999
    09AR9501_1,  SR03,     5,  1,     20,    120,2,19950718,1736,-44.7207, 146.0552, 3225,    197.0,  10.0370,  34.7830,2,  34.7840,2,   -999.0,5,    266.4,2,     4.30,2,     9.60,2,     0.77,2, 10.0170,   -999
    09AR9501_1,  SR03,     5,  1,     19,    119,2,19950718,1736,-44.7207, 146.0552, 3225,    296.2,   9.3470,  34.6990,4,  34.6980,2,   -999.0,5,    245.2,2,     7.00,2,    15.30,2,     1.10,2,  9.3160,   -999
    09AR9501_1,  SR03,     5,  1,     18,    118,2,19950718,1736,-44.7207, 146.0552, 3225,    397.5,   8.9080,  34.6300,3,  34.6300,2,   -999.0,5,    253.0,2,     7.00,2,    15.90,2,     1.14,2,  8.8670,   -999
    09AR9501_1,  SR03,     5,  1,     17,    117,2,19950718,1736,-44.7207, 146.0552, 3225,    496.2,   8.5560,  34.5780,3,  34.5780,2,   -999.0,5,    255.8,2,     7.50,2,    16.80,2,     1.21,2,  8.5050,   -999
    09AR9501_1,  SR03,     5,  1,     16,    116,2,19950718,1736,-44.7207, 146.0552, 3225,    598.0,   7.9340,  34.5110,3,  34.5100,2,   -999.0,5,    233.1,2,    10.80,2,    20.20,2,     1.41,2,  7.8750,   -999
    09AR9501_1,  SR03,     5,  1,     15,    115,2,19950718,1736,-44.7207, 146.0552, 3225,    696.9,   7.3780,  34.4820,3,  34.4810,2,   -999.0,5,    213.6,2,    15.10,2,    23.40,2,     1.61,2,  7.3110,   -999
    09AR9501_1,  SR03,     5,  1,     14,    114,2,19950718,1736,-44.7207, 146.0552, 3225,    796.8,   6.7360,  34.4690,3,  34.4660,2,   -999.0,5,    198.6,2,    21.20,2,    26.00,2,     1.79,2,  6.6620,   -999
    09AR9501_1,  SR03,     5,  1,     13,    113,2,19950718,1736,-44.7207, 146.0552, 3225,    895.8,   5.8510,  34.4360,2,  34.4360,2,   -999.0,5,    191.6,2,    25.20,2,    24.20,3,     1.66,3,  5.7730,   -999
    09AR9501_1,  SR03,     5,  1,     12,     12,2,19950718,1736,-44.7207, 146.0552, 3225,    998.6,   4.9940,  34.4170,2,  34.4180,2,   -999.0,5,    189.3,2,    37.30,2,    29.50,2,     2.05,2,  4.9120,   -999
    09AR9501_1,  SR03,     5,  1,     11,     11,2,19950718,1736,-44.7207, 146.0552, 3225,   1098.8,   3.9620,  34.3900,2,  34.3900,2,   -999.0,5,    191.7,2,    44.90,2,    31.40,2,     2.21,2,  3.8800,   -999
    09AR9501_1,  SR03,     5,  1,     10,     10,2,19950718,1736,-44.7207, 146.0552, 3225,   1300.2,   3.1960,  34.4440,2,  34.4420,2,   -999.0,5,    181.3,2,    57.90,2,    32.70,2,     2.33,2,  3.1040,   -999
    09AR9501_1,  SR03,     5,  1,      9,      9,2,19950718,1736,-44.7207, 146.0552, 3225,   1500.6,   2.8700,  34.5340,2,  34.5330,2,   -999.0,5,    168.9,2,    69.60,2,    33.40,2,     2.38,2,  2.7640,   -999
    09AR9501_1,  SR03,     5,  1,      8,      8,2,19950718,1736,-44.7207, 146.0552, 3225,   1700.8,   2.5670,  34.6080,2,  34.6060,2,   -999.0,5,    169.5,2,    73.40,2,    33.00,2,     2.35,2,  2.4480,   -999
    09AR9501_1,  SR03,     5,  1,      7,      7,2,19950718,1736,-44.7207, 146.0552, 3225,   1899.7,   2.3920,  34.6750,2,  34.6730,2,   -999.0,5,    174.8,2,    74.60,2,    31.50,2,     2.22,2,  2.2590,   -999
    09AR9501_1,  SR03,     5,  1,      6,      6,2,19950718,1736,-44.7207, 146.0552, 3225,   2099.5,   2.2430,  34.7090,2,  34.7090,2,   -999.0,5,    174.3,2,    83.00,2,    32.00,2,     2.26,2,  2.0950,   -999
    09AR9501_1,  SR03,     5,  1,      5,      5,2,19950718,1736,-44.7207, 146.0552, 3225,   2299.9,   2.1360,  34.7230,2,  34.7230,2,   -999.0,5,    175.3,2,    89.90,2,    31.80,2,     2.24,2,  1.9720,   -999
    09AR9501_1,  SR03,     5,  1,      4,      4,2,19950718,1736,-44.7207, 146.0552, 3225,   2501.6,   2.0080,  34.7300,2,  34.7330,2,   -999.0,5,    177.8,2,    91.40,2,    31.00,2,     2.17,2,  1.8280,   -999
    09AR9501_1,  SR03,     5,  1,      3,      3,2,19950718,1736,-44.7207, 146.0552, 3225,   2800.5,   1.8020,  34.7330,2,  34.7330,2,   -999.0,5,    183.8,2,    99.10,2,    31.50,2,     2.22,2,  1.5980,   -999
    09AR9501_1,  SR03,     5,  1,      2,      2,2,19950718,1736,-44.7207, 146.0552, 3225,   3104.4,   1.6370,  34.7320,2,  34.7330,2,   -999.0,5,    188.8,2,   102.20,2,    31.80,2,     2.24,2,  1.4070,   -999
    09AR9501_1,  SR03,     5,  1,      1,      1,2,19950718,1736,-44.7207, 146.0552, 3225,   3227.3,   1.4920,  34.7260,2,  34.7300,2,   -999.0,5,    192.1,2,   100.70,2,    31.40,2,     2.20,2,  1.2530,   -999
    09AR9501_1,  SR03,     6,  1,     24,     24,2,19950719,0155,-45.2120, 145.8518, 2866,      6.7,   9.4470,  34.6680,2,  34.6680,2,   -999.0,5,    272.1,2,     4.00,2,    12.10,2,     0.91,2,  9.4490,   -999
    09AR9501_1,  SR03,     6,  1,     23,     23,2,19950719,0155,-45.2120, 145.8518, 2866,     25.4,   9.4500,  34.6680,2,  34.6680,2,   -999.0,5,    272.1,2,     3.80,2,    12.40,2,     0.93,2,  9.4490,   -999
    09AR9501_1,  SR03,     6,  1,     22,     22,2,19950719,0155,-45.2120, 145.8518, 2866,     46.4,   9.4540,  34.6690,2,  34.6680,2,   -999.0,5,    272.4,2,     3.50,2,    12.40,2,     0.93,2,  9.4510,   -999
    09AR9501_1,  SR03,     6,  1,     21,     21,2,19950719,0155,-45.2120, 145.8518, 2866,     95.8,   9.4580,  34.6690,2,  34.6670,2,   -999.0,5,    272.4,2,     3.30,2,    12.30,2,     0.92,2,  9.4500,   -999
    09AR9501_1,  SR03,     6,  1,     20,    120,2,19950719,0155,-45.2120, 145.8518, 2866,    145.4,   9.4570,  34.6680,2,  34.6660,2,   -999.0,5,    270.7,2,     3.10,2,    12.60,2,     0.94,2,  9.4430,   -999
    09AR9501_1,  SR03,     6,  1,     19,    119,2,19950719,0155,-45.2120, 145.8518, 2866,    195.5,   9.3660,  34.6570,4,  34.6570,2,   -999.0,5,    275.6,2,     3.30,2,    13.20,2,     0.98,2,  9.3470,   -999
    09AR9501_1,  SR03,     6,  1,     18,    118,2,19950719,0155,-45.2120, 145.8518, 2866,    297.3,   8.7160,  34.6050,2,  34.6030,2,   -999.0,5,    260.3,2,     4.90,2,    15.10,2,     1.04,2,  8.6860,   -999
    09AR9501_1,  SR03,     6,  1,     17,    117,2,19950719,0155,-45.2120, 145.8518, 2866,    396.8,   8.2780,  34.5380,4,  34.5370,2,   -999.0,5,    256.6,2,     6.20,2,    18.20,2,     1.27,2,  8.2390,   -999
    09AR9501_1,  SR03,     6,  1,     16,    116,2,19950719,0155,-45.2120, 145.8518, 2866,    475.5,   7.6470,  34.4580,4,  34.4590,2,   -999.0,5,    246.9,2,     8.20,2,    20.80,2,     1.43,2,  7.6010,   -999
    09AR9501_1,  SR03,     6,  1,     15,    115,2,19950719,0155,-45.2120, 145.8518, 2866,    600.5,   6.7810,  34.3990,3,  34.3970,2,   -999.0,5,    226.0,2,    13.40,2,    24.60,2,     1.69,2,  6.7260,   -999
    09AR9501_1,  SR03,     6,  1,     14,    114,2,19950719,0155,-45.2120, 145.8518, 2866,    697.7,   6.2290,  34.4060,3,  34.4090,2,   -999.0,5,    206.9,2,    19.60,2,    27.20,2,     1.87,2,  6.1670,   -999
    09AR9501_1,  SR03,     6,  1,     13,    113,2,19950719,0155,-45.2120, 145.8518, 2866,    803.2,   5.3840,  34.3780,2,  34.3780,2,   -999.0,5,    204.0,2,    25.30,2,    28.70,2,     1.96,2,  5.3170,   -999
    09AR9501_1,  SR03,     6,  1,     12,     12,2,19950719,0155,-45.2120, 145.8518, 2866,    897.7,   4.8240,  34.3760,2,  34.3770,2,   -999.0,5,    199.1,2,    31.80,2,    29.80,2,     2.06,2,  4.7520,   -999
    09AR9501_1,  SR03,     6,  1,     11,     11,2,19950719,0155,-45.2120, 145.8518, 2866,    998.3,   4.2760,  34.3930,2,  34.3910,2,   -999.0,5,    192.8,2,    39.50,2,    30.70,2,     2.15,2,  4.2000,   -999
    09AR9501_1,  SR03,     6,  1,     10,     10,2,19950719,0155,-45.2120, 145.8518, 2866,   1099.8,   3.7990,  34.4030,2,  34.4020,2,   -999.0,5,    187.5,2,    46.00,2,    32.00,2,     2.24,2,  3.7180,   -999
    09AR9501_1,  SR03,     6,  1,      9,      9,2,19950719,0155,-45.2120, 145.8518, 2866,   1299.8,   2.9270,  34.4400,3,  34.4400,2,   -999.0,5,    183.5,2,    54.90,2,    33.40,2,     2.35,2,  2.8370,   -999
    09AR9501_1,  SR03,     6,  1,      8,      8,2,19950719,0155,-45.2120, 145.8518, 2866,   1497.6,   2.7460,  34.5480,3,  34.5480,2,   -999.0,5,    169.7,2,    66.40,2,    33.50,2,     2.36,2,  2.6420,   -999
    09AR9501_1,  SR03,     6,  1,      7,      7,2,19950719,0155,-45.2120, 145.8518, 2866,   1697.9,   2.5280,  34.6170,3,  34.6180,2,   -999.0,5,    170.9,2,    70.10,2,    33.00,2,     2.31,2,  2.4100,   -999
    09AR9501_1,  SR03,     6,  1,      6,      6,2,19950719,0155,-45.2120, 145.8518, 2866,   1901.0,   2.4060,  34.6560,2,  34.6560,2,   -999.0,5,    173.9,2,    75.30,2,    32.30,2,     2.28,2,  2.2720,   -999
    09AR9501_1,  SR03,     6,  1,      5,      5,2,19950719,0155,-45.2120, 145.8518, 2866,   2100.1,   2.2800,  34.7020,2,  34.7020,2,   -999.0,5,    177.9,2,    78.80,2,    31.70,2,     2.22,2,  2.1310,   -999
    09AR9501_1,  SR03,     6,  1,      4,      4,2,19950719,0155,-45.2120, 145.8518, 2866,   2296.5,   2.1530,  34.7210,2,  34.7230,2,   -999.0,5,    180.0,2,    83.70,2,    31.50,2,     2.21,2,  1.9890,   -999
    09AR9501_1,  SR03,     6,  1,      3,      3,2,19950719,0155,-45.2120, 145.8518, 2866,   2502.6,   1.9250,  34.7290,2,  34.7310,2,   -999.0,5,    183.7,2,    90.40,2,    31.50,2,     2.21,2,  1.7460,   -999
    09AR9501_1,  SR03,     6,  1,      2,      2,2,19950719,0155,-45.2120, 145.8518, 2866,   2752.0,   1.7020,  34.7320,2,  34.7330,2,   -999.0,5,    187.2,2,    96.00,2,    31.30,2,     2.20,2,  1.5040,   -999
    09AR9501_1,  SR03,     6,  1,      1,      1,2,19950719,0155,-45.2120, 145.8518, 2866,   2887.2,   1.6520,  34.7300,3,  34.7320,2,   -999.0,5,    188.7,2,    89.90,2,    31.00,2,     2.17,2,  1.4430,   -999