BOTTLE,20020620WHPSIOKJU
EXPOCODE,SECT_ID,STNNBR,CASTNO,SAMPNO,BTLNBR,BTLNBR_FLAG_W,DATE,TIME,LATITUDE,LONGITUDE,DEPTH,CTDPRS,CTDTMP,CTDSAL,CTDSAL_FLAG_W,SALNTY,SALNTY_FLAG_W,CTDOXY,CTDOXY_FLAG_W,OXYGEN,OXYGEN_FLAG_W,SILCAT,SILCAT_FLAG_W,NO2+NO3,NO2+NO3_FLAG_W,PHSPHT,PHSPHT_FLAG_W,THETA,CTDRAW
,,,,,,,,,,,,DBAR,DEG C,PSS-78,,PSS-78,,UMOL/KG,,UMOL/KG,,UMOL/KG,,UMOL/KG,,UMOL/KG,,DEG C,
    09AR9501_1,  SR03,    10,  1,     24,     24,2,19950720,1545,-47.1380, 145.0670, 3593,     10.5,   8.7520,  34.5590,2,  34.7230,4,   -999.0,5,    275.5,2,     3.20,2,    15.10,2,     1.04,2,  8.7530,   -999
    09AR9501_1,  SR03,    10,  1,     23,     23,2,19950720,1545,-47.1380, 145.0670, 3593,     47.0,   8.7660,  34.5610,2,  34.5620,2,   -999.0,5,    275.1,2,     3.20,2,    15.10,2,     1.04,2,  8.7630,   -999
    09AR9501_1,  SR03,    10,  1,     22,     22,2,19950720,1545,-47.1380, 145.0670, 3593,     99.3,   8.7710,  34.5600,2,  34.5620,2,   -999.0,5,    275.4,2,     3.20,2,    15.20,2,     1.04,2,  8.7630,   -999
    09AR9501_1,  SR03,    10,  1,     21,     21,2,19950720,1545,-47.1380, 145.0670, 3593,    196.6,   8.7840,  34.5630,2,  34.5640,2,   -999.0,5,    274.7,2,     3.20,2,    15.20,2,     1.04,2,  8.7650,   -999
    09AR9501_1,  SR03,    10,  1,     20,    120,2,19950720,1545,-47.1380, 145.0670, 3593,    295.1,   9.1130,  34.6410,2,  34.6400,2,   -999.0,5,    262.7,2,     4.50,2,    15.90,2,     1.07,2,  9.0830,   -999
    09AR9501_1,  SR03,    10,  1,     19,    119,2,19950720,1545,-47.1380, 145.0670, 3593,    396.0,   9.0610,  34.6470,3,  34.6470,2,   -999.0,5,    258.2,2,     4.90,2,    16.30,2,     1.10,2,  9.0200,   -999
    09AR9501_1,  SR03,    10,  1,     18,    118,2,19950720,1545,-47.1380, 145.0670, 3593,    496.7,   8.6230,  34.5860,3,  34.5870,2,   -999.0,5,    253.3,2,     5.90,2,    18.10,2,     1.21,2,  8.5720,   -999
    09AR9501_1,  SR03,    10,  1,     17,    117,2,19950720,1545,-47.1380, 145.0670, 3593,    616.6,   7.6310,  34.4620,2,  34.4600,2,   -999.0,5,    241.1,2,     8.60,2,    21.90,2,     1.43,2,  7.5710,   -999
    09AR9501_1,  SR03,    10,  1,     16,    216,2,19950720,1545,-47.1380, 145.0670, 3593,    696.8,   6.9750,  34.4200,3,  34.4200,2,   -999.0,5,    227.4,2,    11.80,2,    24.40,2,     1.60,2,  6.9100,   -999
    09AR9501_1,  SR03,    10,  1,     15,    115,4,19950720,1545,-47.1380, 145.0670, 3593,    788.6,   6.2240,  34.3940,2,  34.4560,4,   -999.0,5,    229.8,4,    11.10,4,    22.30,4,     1.47,4,  6.1540,   -999
    09AR9501_1,  SR03,    10,  1,     14,    114,4,19950720,1545,-47.1380, 145.0670, 3593,    899.2,   5.3350,  34.3620,3,  34.5250,4,   -999.0,5,    251.8,4,     7.00,4,    18.30,4,     1.24,4,  5.2600,   -999
    09AR9501_1,  SR03,    10,  1,     13,    113,2,19950720,1545,-47.1380, 145.0670, 3593,   1062.0,   4.0100,  34.3120,2,  34.3100,2,   -999.0,5,    216.1,2,    30.20,2,    31.40,2,     2.11,2,  3.9300,   -999
    09AR9501_1,  SR03,    10,  1,     12,     12,2,19950720,1545,-47.1380, 145.0670, 3593,   1194.9,   3.5110,  34.3620,2,  34.3610,2,   -999.0,5,    199.4,2,    39.80,2,    32.30,2,     2.22,2,  3.4240,   -999
    09AR9501_1,  SR03,    10,  1,     11,     11,2,19950720,1545,-47.1380, 145.0670, 3593,   1396.4,   2.9440,  34.4460,2,  34.4470,2,   -999.0,5,    183.5,2,    53.50,2,    34.20,2,     2.31,2,  2.8460,   -999
    09AR9501_1,  SR03,    10,  1,     10,     10,2,19950720,1545,-47.1380, 145.0670, 3593,   1596.1,   2.6970,  34.5290,2,  34.5300,2,   -999.0,5,    176.4,2,    61.70,2,    34.20,2,     2.33,2,  2.5860,   -999
    09AR9501_1,  SR03,    10,  1,      9,      9,2,19950720,1545,-47.1380, 145.0670, 3593,   1800.4,   2.5460,  34.6160,2,  34.6190,2,   -999.0,5,    174.6,2,    68.00,2,    33.50,2,     2.29,2,  2.4190,   -999
    09AR9501_1,  SR03,    10,  1,      8,      8,2,19950720,1545,-47.1380, 145.0670, 3593,   1997.8,   2.3950,  34.6690,2,  34.6680,2,   -999.0,5,    175.3,2,    73.80,2,    32.80,2,     2.22,2,  2.2530,   -999
    09AR9501_1,  SR03,    10,  1,      7,      7,2,19950720,1545,-47.1380, 145.0670, 3593,   2200.5,   2.2720,  34.7090,2,  34.7090,2,   -999.0,5,    180.1,2,    77.10,2,    32.20,2,     2.20,2,  2.1140,   -999
    09AR9501_1,  SR03,    10,  1,      6,      6,2,19950720,1545,-47.1380, 145.0670, 3593,   2401.1,   2.1400,  34.7300,3,  34.7300,2,   -999.0,5,    183.4,2,    81.80,2,    31.80,2,     2.18,2,  1.9660,   -999
    09AR9501_1,  SR03,    10,  1,      5,      5,2,19950720,1545,-47.1380, 145.0670, 3593,   2701.3,   1.8950,  34.7360,2,  34.7370,2,   -999.0,5,    185.4,2,    90.70,2,    32.00,2,     2.20,2,  1.6980,   -999
    09AR9501_1,  SR03,    10,  1,      4,      4,2,19950720,1545,-47.1380, 145.0670, 3593,   2999.9,   1.6560,  34.7340,3,  34.7340,2,   -999.0,5,    191.6,2,    93.80,2,    31.70,2,     2.17,2,  1.4360,   -999
    09AR9501_1,  SR03,    10,  1,      3,      3,2,19950720,1545,-47.1380, 145.0670, 3593,   3352.7,   1.4030,  34.7260,2,  34.7280,2,   -999.0,5,    194.9,2,    99.50,2,    32.10,2,     2.19,2,  1.1540,   -999
    09AR9501_1,  SR03,    10,  1,      2,      2,2,19950720,1545,-47.1380, 145.0670, 3593,   3515.2,   1.3290,  34.7220,2,  34.7240,2,   -999.0,5,    196.4,2,   105.40,2,    32.20,2,     2.21,2,  1.0660,   -999
    09AR9501_1,  SR03,    10,  1,      1,      1,2,19950720,1545,-47.1380, 145.0670, 3593,   3804.2,   1.2550,  34.7180,2,  34.7210,2,   -999.0,5,    197.0,2,   106.60,2,    32.10,2,     2.20,2,  0.9640,   -999
    09AR9501_1,  SR03,    11,  1,     24,     24,2,19950720,2145,-47.4502, 144.9247, 4300,     10.2,   8.0720,  34.4360,3,  34.4390,2,   -999.0,5,    278.6,2,     3.60,2,    16.20,2,     1.15,2,  8.0730,   -999
    09AR9501_1,  SR03,    11,  1,     23,     23,2,19950720,2145,-47.4502, 144.9247, 4300,     45.2,   8.1830,  34.4650,4,  34.4620,2,   -999.0,5,    278.9,2,     3.60,2,    15.90,2,     1.14,2,  8.1800,   -999
    09AR9501_1,  SR03,    11,  1,     22,     22,2,19950720,2145,-47.4502, 144.9247, 4300,     95.6,   8.1440,  34.4520,2,  34.4520,2,   -999.0,5,    278.2,2,     3.60,2,    16.00,2,     1.15,2,  8.1360,   -999
    09AR9501_1,  SR03,    11,  1,     21,     21,2,19950720,2145,-47.4502, 144.9247, 4300,    193.5,   8.1800,  34.4580,2,  34.4560,2,   -999.0,5,    277.7,2,     3.60,2,    16.10,2,     1.14,2,  8.1620,   -999
    09AR9501_1,  SR03,    11,  1,     20,    120,4,19950720,2145,-47.4502, 144.9247, 4300,    295.3,   7.8880,  34.4020,3,  34.4220,4,   -999.0,5,   -999.0,9,  -999.00,9,  -999.00,9,  -999.00,9,  7.8600,   -999
    09AR9501_1,  SR03,    11,  1,     19,    119,2,19950720,2145,-47.4502, 144.9247, 4300,    398.3,   8.7390,  34.5830,4,  34.5780,2,   -999.0,5,    260.5,2,     5.20,2,    16.30,2,     1.15,2,  8.6980,   -999
    09AR9501_1,  SR03,    11,  1,     18,    118,2,19950720,2145,-47.4502, 144.9247, 4300,    497.1,   7.8180,  34.4730,2,  34.4720,2,   -999.0,5,    243.3,2,     8.40,2,    19.80,2,     1.39,2,  7.7700,   -999
    09AR9501_1,  SR03,    11,  1,     17,    117,2,19950720,2145,-47.4502, 144.9247, 4300,    589.0,   7.0970,  34.4150,3,  34.4180,2,   -999.0,5,    233.8,2,    10.80,2,    22.40,2,     1.54,2,  7.0420,   -999
    09AR9501_1,  SR03,    11,  1,     16,    216,2,19950720,2145,-47.4502, 144.9247, 4300,    696.3,   6.2570,  34.3680,2,  34.3680,2,   -999.0,5,    227.5,2,    14.70,2,    24.60,2,     1.71,2,  6.1950,   -999
    09AR9501_1,  SR03,    11,  1,     15,    115,2,19950720,2145,-47.4502, 144.9247, 4300,    797.8,   5.4940,  34.3550,2,  34.3540,2,   -999.0,5,    214.6,2,    20.70,2,    27.40,2,     1.89,2,  5.4270,   -999
    09AR9501_1,  SR03,    11,  1,     14,    114,2,19950720,2145,-47.4502, 144.9247, 4300,    947.8,   4.2690,  34.3100,2,  34.3060,2,   -999.0,5,    218.1,2,    28.30,2,    29.50,2,     2.07,2,  4.1970,   -999
    09AR9501_1,  SR03,    11,  1,     13,    113,2,19950720,2145,-47.4502, 144.9247, 4300,   1099.6,   3.5690,  34.3330,2,  34.3310,2,   -999.0,5,    207.8,2,    38.40,2,    31.20,2,     2.20,2,  3.4900,   -999
    09AR9501_1,  SR03,    11,  1,     12,     12,2,19950720,2145,-47.4502, 144.9247, 4300,   1296.2,   3.1280,  34.4210,2,  34.4200,2,   -999.0,5,    186.3,2,    49.20,2,    32.40,2,     2.27,2,  3.0370,   -999
    09AR9501_1,  SR03,    11,  1,     11,     11,2,19950720,2145,-47.4502, 144.9247, 4300,   1498.5,   2.7470,  34.5070,2,  34.5060,2,   -999.0,5,    177.0,2,    60.40,2,    33.00,2,     2.33,2,  2.6430,   -999
    09AR9501_1,  SR03,    11,  1,     10,     10,2,19950720,2145,-47.4502, 144.9247, 4300,   1701.4,   2.5790,  34.5980,2,  34.5960,2,   -999.0,5,    174.5,2,    68.60,2,    32.40,2,     2.30,2,  2.4600,   -999
    09AR9501_1,  SR03,    11,  1,      9,      9,2,19950720,2145,-47.4502, 144.9247, 4300,   1901.4,   2.4730,  34.6590,2,  34.6590,2,   -999.0,5,    177.7,2,    71.20,2,    31.50,2,     2.22,2,  2.3380,   -999
    09AR9501_1,  SR03,    11,  1,      8,      8,2,19950720,2145,-47.4502, 144.9247, 4300,   2200.4,   2.3070,  34.7150,2,  34.7160,2,   -999.0,5,    183.5,2,    76.50,2,    30.40,2,     2.16,2,  2.1490,   -999
    09AR9501_1,  SR03,    11,  1,      7,      7,2,19950720,2145,-47.4502, 144.9247, 4300,   2503.5,   2.0580,  34.7370,2,  34.7380,2,   -999.0,5,    185.9,2,    86.80,2,    30.30,2,     2.16,2,  1.8760,   -999
    09AR9501_1,  SR03,    11,  1,      6,      6,2,19950720,2145,-47.4502, 144.9247, 4300,   2799.9,   1.8030,  34.7370,2,  34.7380,2,   -999.0,5,    188.0,2,    96.20,2,    30.50,2,     2.18,2,  1.5990,   -999
    09AR9501_1,  SR03,    11,  1,      5,      5,2,19950720,2145,-47.4502, 144.9247, 4300,   3107.4,   1.5840,  34.7320,2,  34.7330,2,   -999.0,5,    192.4,2,   101.70,2,    30.60,2,     2.18,2,  1.3550,   -999
    09AR9501_1,  SR03,    11,  1,      4,      4,2,19950720,2145,-47.4502, 144.9247, 4300,   3407.3,   1.4090,  34.7270,2,  34.7250,2,   -999.0,5,    195.7,2,   106.80,2,    30.90,2,     2.20,2,  1.1550,   -999
    09AR9501_1,  SR03,    11,  1,      3,      3,2,19950720,2145,-47.4502, 144.9247, 4300,   3802.7,   1.1750,  34.7170,2,  34.7180,2,   -999.0,5,    200.4,2,   112.20,2,    31.00,2,     2.21,2,  0.8860,   -999
    09AR9501_1,  SR03,    11,  1,      2,      2,2,19950720,2145,-47.4502, 144.9247, 4300,   4155.4,   1.0050,  34.7080,2,  34.7100,2,   -999.0,5,    202.4,2,   116.40,2,    31.30,2,     2.23,2,  0.6830,   -999
    09AR9501_1,  SR03,    11,  1,      1,      1,2,19950720,2145,-47.4502, 144.9247, 4300,   4344.7,   1.0080,  34.7070,2,  34.7090,2,   -999.0,5,    202.9,2,   114.90,2,    31.30,2,     2.23,2,  0.6660,   -999
    09AR9501_1,  SR03,    12,  1,     24,     24,4,19950721,0458,-47.9847, 144.6798, 4064,     11.2,   8.1920,  34.4690,2,-999.0000,9,   -999.0,5,   -999.0,9,  -999.00,9,  -999.00,9,  -999.00,9,  8.1930,   -999
    09AR9501_1,  SR03,    12,  1,     23,     23,2,19950721,0458,-47.9847, 144.6798, 4064,     46.5,   8.1970,  34.4690,2,  34.4680,2,   -999.0,5,    276.9,2,     3.80,2,    16.10,2,     1.14,2,  8.1940,   -999
    09AR9501_1,  SR03,    12,  1,     22,     22,2,19950721,0458,-47.9847, 144.6798, 4064,     71.2,   8.1900,  34.4660,3,  34.4670,2,   -999.0,5,    277.0,2,     3.80,2,    16.10,2,     1.14,2,  8.1850,   -999
    09AR9501_1,  SR03,    12,  1,     21,     21,2,19950721,0458,-47.9847, 144.6798, 4064,     97.4,   8.1420,  34.4590,2,  34.4590,2,   -999.0,5,    277.7,2,     3.80,2,    16.10,2,     1.16,2,  8.1340,   -999
    09AR9501_1,  SR03,    12,  1,     20,    120,2,19950721,0458,-47.9847, 144.6798, 4064,    148.6,   8.1140,  34.4530,2,  34.4540,2,   -999.0,5,    278.2,2,     3.60,2,    16.80,2,     1.14,2,  8.1010,   -999
    09AR9501_1,  SR03,    12,  1,     19,    119,2,19950721,0458,-47.9847, 144.6798, 4064,    246.6,   8.1440,  34.4590,2,  34.4580,2,   -999.0,5,    277.6,2,     3.50,2,    16.80,2,     1.13,2,  8.1210,   -999
    09AR9501_1,  SR03,    12,  1,     18,    118,2,19950721,0458,-47.9847, 144.6798, 4064,    319.1,   8.1040,  34.4510,2,  34.4510,2,   -999.0,5,    277.7,2,     3.90,2,    17.00,2,     1.14,2,  8.0730,   -999
    09AR9501_1,  SR03,    12,  1,     17,    117,2,19950721,0458,-47.9847, 144.6798, 4064,    396.5,   7.9360,  34.4830,2,  34.4820,2,   -999.0,5,    250.4,2,     7.60,2,    19.00,2,     1.35,2,  7.8980,   -999
    09AR9501_1,  SR03,    12,  1,     16,    216,2,19950721,0458,-47.9847, 144.6798, 4064,    495.9,   7.1800,  34.4150,3,  34.4160,2,   -999.0,5,    241.8,2,    10.00,2,    21.50,2,     1.51,2,  7.1340,   -999
    09AR9501_1,  SR03,    12,  1,     15,    115,2,19950721,0458,-47.9847, 144.6798, 4064,    597.1,   6.3810,  34.3560,4,  34.3590,2,   -999.0,5,    236.1,2,    12.80,2,    23.90,2,     1.65,2,  6.3280,   -999
    09AR9501_1,  SR03,    12,  1,     14,    114,2,19950721,0458,-47.9847, 144.6798, 4064,    697.8,   5.6440,  34.3400,2,  34.3390,2,   -999.0,5,    223.2,2,    18.20,2,    26.30,2,     1.83,2,  5.5850,   -999
    09AR9501_1,  SR03,    12,  1,     13,    113,2,19950721,0458,-47.9847, 144.6798, 4064,    800.9,   4.8880,  34.3200,3,  34.3220,2,   -999.0,5,    219.1,2,    23.30,2,    28.20,2,     1.97,2,  4.8250,   -999
    09AR9501_1,  SR03,    12,  1,     12,     12,2,19950721,0458,-47.9847, 144.6798, 4064,    896.5,   4.2740,  34.3060,2,  34.3040,2,   -999.0,5,    218.2,2,    26.70,2,    29.40,2,     2.03,2,  4.2060,   -999
    09AR9501_1,  SR03,    12,  1,     11,     11,2,19950721,0458,-47.9847, 144.6798, 4064,    997.0,   3.7490,  34.3230,2,  34.3210,2,   -999.0,5,    210.8,2,    35.30,2,    30.90,2,     2.15,2,  3.6770,   -999
    09AR9501_1,  SR03,    12,  1,     10,     10,2,19950721,0458,-47.9847, 144.6798, 4064,   1197.2,   3.1410,  34.3820,2,  34.3820,2,   -999.0,5,    194.8,2,    48.10,2,    32.40,2,     2.30,2,  3.0580,   -999
    09AR9501_1,  SR03,    12,  1,      9,      9,2,19950721,0458,-47.9847, 144.6798, 4064,   1394.7,   2.8980,  34.4880,2,  34.4870,2,   -999.0,5,    176.2,2,    62.40,2,    33.20,2,     2.36,2,  2.8010,   -999
    09AR9501_1,  SR03,    12,  1,      8,      8,2,19950721,0458,-47.9847, 144.6798, 4064,   1797.5,   2.5130,  34.6380,2,  34.6370,2,   -999.0,5,    175.4,2,    72.30,2,    32.20,2,     2.26,2,  2.3870,   -999
    09AR9501_1,  SR03,    12,  1,      7,      7,2,19950721,0458,-47.9847, 144.6798, 4064,   2198.3,   2.2600,  34.7270,2,  34.7270,2,   -999.0,5,    185.4,2,    78.20,2,    30.50,2,     2.14,2,  2.1020,   -999
    09AR9501_1,  SR03,    12,  1,      6,      6,2,19950721,0458,-47.9847, 144.6798, 4064,   2600.4,   1.9740,  34.7450,2,  34.7450,2,   -999.0,5,    190.1,2,    87.90,2,    30.30,2,     2.13,2,  1.7850,   -999
    09AR9501_1,  SR03,    12,  1,      5,      5,2,19950721,0458,-47.9847, 144.6798, 4064,   3001.9,   1.6240,  34.7380,2,  34.7390,2,   -999.0,5,    192.8,2,   100.10,2,    30.70,2,     2.17,2,  1.4040,   -999
    09AR9501_1,  SR03,    12,  1,      4,      4,2,19950721,0458,-47.9847, 144.6798, 4064,   3404.1,   1.2830,  34.7260,2,  34.7250,2,   -999.0,5,    201.6,2,   105.80,2,    30.60,2,     2.17,2,  1.0320,   -999
    09AR9501_1,  SR03,    12,  1,      3,      3,2,19950721,0458,-47.9847, 144.6798, 4064,   3805.4,   1.1330,  34.7170,2,  34.7170,2,   -999.0,5,    201.8,2,   113.20,2,    31.00,2,     2.19,2,  0.8450,   -999
    09AR9501_1,  SR03,    12,  1,      2,      2,2,19950721,0458,-47.9847, 144.6798, 4064,   4007.4,   1.0910,  34.7140,2,  34.4410,4,   -999.0,5,    260.9,4,     9.20,4,    18.90,4,     1.36,4,  0.7830,   -999
    09AR9501_1,  SR03,    12,  1,      1,      1,2,19950721,0458,-47.9847, 144.6798, 4064,   4141.9,   1.0100,  34.7100,2,  34.7120,2,   -999.0,5,    201.8,2,   114.70,2,    31.40,2,     2.22,2,  0.6900,   -999