BOTTLE,20020620WHPSIOKJU
EXPOCODE,SECT_ID,STNNBR,CASTNO,SAMPNO,BTLNBR,BTLNBR_FLAG_W,DATE,TIME,LATITUDE,LONGITUDE,DEPTH,CTDPRS,CTDTMP,CTDSAL,CTDSAL_FLAG_W,SALNTY,SALNTY_FLAG_W,CTDOXY,CTDOXY_FLAG_W,OXYGEN,OXYGEN_FLAG_W,SILCAT,SILCAT_FLAG_W,NO2+NO3,NO2+NO3_FLAG_W,PHSPHT,PHSPHT_FLAG_W,THETA,CTDRAW
,,,,,,,,,,,,DBAR,DEG C,PSS-78,,PSS-78,,UMOL/KG,,UMOL/KG,,UMOL/KG,,UMOL/KG,,UMOL/KG,,DEG C,
    09AR9501_1,  SR03,    34,  1,     24,     24,2,19950726,1115,-56.4402, 140.1012, 3890,      7.6,   1.5710,  33.8540,2,  33.8530,2,    328.7,3,    330.5,2,    10.40,2,    26.30,2,     1.82,2,  1.5710,   -999
    09AR9501_1,  SR03,    34,  1,     23,     23,2,19950726,1115,-56.4402, 140.1012, 3890,     22.8,   1.5920,  33.8550,2,  33.8540,2,    327.3,3,    330.6,2,    10.50,2,    26.30,2,     1.83,2,  1.5910,   -999
    09AR9501_1,  SR03,    34,  1,     22,     22,2,19950726,1115,-56.4402, 140.1012, 3890,     47.4,   1.5860,  33.8550,2,  33.8540,2,    331.8,2,    330.3,2,    10.50,2,    26.30,2,     1.84,2,  1.5840,   -999
    09AR9501_1,  SR03,    34,  1,     21,     21,2,19950726,1115,-56.4402, 140.1012, 3890,     97.7,   1.5160,  33.8650,2,  33.8640,2,    321.7,2,    330.1,2,    11.20,2,    26.60,2,     1.85,2,  1.5120,   -999
    09AR9501_1,  SR03,    34,  1,     20,    120,2,19950726,1115,-56.4402, 140.1012, 3890,    177.5,   1.3270,  33.8700,2,  33.8690,2,    324.4,2,    326.7,2,    12.40,2,    26.60,2,     1.86,2,  1.3190,   -999
    09AR9501_1,  SR03,    34,  1,     19,    119,2,19950726,1115,-56.4402, 140.1012, 3890,    228.2,   2.1450,  34.0570,3,  34.0620,2,    270.9,2,    278.3,2,    26.80,2,    29.50,2,     2.08,2,  2.1330,   -999
    09AR9501_1,  SR03,    34,  1,     18,    118,2,19950726,1115,-56.4402, 140.1012, 3890,    299.6,   2.3870,  34.2160,2,  34.2150,2,    225.2,2,    235.4,2,    40.00,2,    31.50,2,     2.24,2,  2.3710,   -999
    09AR9501_1,  SR03,    34,  1,     17,    117,2,19950726,1115,-56.4402, 140.1012, 3890,    398.1,   2.3150,  34.3220,2,  34.3210,2,    201.7,2,    209.2,2,    51.70,2,    32.60,2,     2.34,2,  2.2930,   -999
    09AR9501_1,  SR03,    34,  1,     16,    216,2,19950726,1115,-56.4402, 140.1012, 3890,    498.3,   2.3990,  34.4280,2,  34.4270,2,    188.0,2,    187.9,2,    62.50,2,    33.10,2,     2.38,2,  2.3700,   -999
    09AR9501_1,  SR03,    34,  1,     15,    115,2,19950726,1115,-56.4402, 140.1012, 3890,    599.8,   2.4180,  34.5030,2,  34.5020,2,    180.4,2,    179.4,2,    68.60,2,    32.90,2,     2.38,2,  2.3830,   -999
    09AR9501_1,  SR03,    34,  1,     14,    114,2,19950726,1115,-56.4402, 140.1012, 3890,    699.6,   2.3920,  34.5560,2,  34.5540,2,    178.8,2,    176.0,2,    71.40,2,    32.60,2,     2.35,2,  2.3500,   -999
    09AR9501_1,  SR03,    34,  1,     13,    113,2,19950726,1115,-56.4402, 140.1012, 3890,    899.0,   2.3190,  34.6470,2,  34.6450,2,    182.0,2,    177.4,2,    76.90,2,    31.70,2,     2.27,2,  2.2640,   -999
    09AR9501_1,  SR03,    34,  1,     12,     12,2,19950726,1115,-56.4402, 140.1012, 3890,   1100.0,   2.2140,  34.6970,2,  34.6970,2,    187.4,2,    182.9,2,    76.90,2,    30.90,2,     2.19,2,  2.1450,   -999
    09AR9501_1,  SR03,    34,  1,     11,     11,2,19950726,1115,-56.4402, 140.1012, 3890,   1399.9,   2.0220,  34.7360,2,  34.7360,2,    195.9,2,    191.3,2,    81.10,2,    29.90,2,     2.13,2,  1.9330,   -999
    09AR9501_1,  SR03,    34,  1,     10,     10,2,19950726,1115,-56.4402, 140.1012, 3890,   1700.8,   1.8000,  34.7450,2,  34.7470,2,    204.8,2,    196.8,2,    87.20,2,    29.70,2,     2.11,2,  1.6910,   -999
    09AR9501_1,  SR03,    34,  1,      9,      9,2,19950726,1115,-56.4402, 140.1012, 3890,   2001.2,   1.5210,  34.7410,2,  34.7410,2,    209.7,2,    200.4,2,    94.90,2,    30.00,2,     2.12,2,  1.3920,   -999
    09AR9501_1,  SR03,    34,  1,      8,      8,2,19950726,1115,-56.4402, 140.1012, 3890,   2302.6,   1.2550,  34.7300,2,  34.7300,2,    211.0,2,    203.3,2,   104.20,2,    30.30,2,     2.16,2,  1.1050,   -999
    09AR9501_1,  SR03,    34,  1,      7,      7,2,19950726,1115,-56.4402, 140.1012, 3890,   2603.9,   1.0430,  34.7180,2,  34.7200,2,    211.5,2,    205.8,2,   110.00,2,    30.70,2,     2.19,2,  0.8720,   -999
    09AR9501_1,  SR03,    34,  1,      6,      6,2,19950726,1115,-56.4402, 140.1012, 3890,   2904.2,   0.7900,  34.7070,2,  34.7080,2,    212.3,2,    209.7,2,   117.70,2,    30.90,2,     2.21,2,  0.5980,   -999
    09AR9501_1,  SR03,    34,  1,      5,      5,2,19950726,1115,-56.4402, 140.1012, 3890,   3203.2,   0.5340,  34.6960,2,  34.6960,2,    218.9,2,    214.7,2,   125.40,2,    31.10,2,     2.23,2,  0.3200,   -999
    09AR9501_1,  SR03,    34,  1,      4,      4,2,19950726,1115,-56.4402, 140.1012, 3890,   3505.5,   0.4550,  34.6900,2,  34.6930,2,    218.0,2,    217.2,2,   130.00,2,    31.20,2,     2.24,2,  0.2150,   -999
    09AR9501_1,  SR03,    34,  1,      3,      3,2,19950726,1115,-56.4402, 140.1012, 3890,   3806.0,   0.4370,  34.6890,2,  34.6900,2,    217.7,2,    217.4,2,   132.50,2,    31.30,2,     2.23,2,  0.1680,   -999
    09AR9501_1,  SR03,    34,  1,      2,      2,2,19950726,1115,-56.4402, 140.1012, 3890,   4108.1,   0.3260,  34.6840,2,  34.6850,2,    220.0,2,    224.6,2,   136.80,2,    31.30,2,     2.24,2,  0.0290,   -999
    09AR9501_1,  SR03,    34,  1,      1,      1,2,19950726,1115,-56.4402, 140.1012, 3890,   4160.6,   0.3000,  34.6830,2,  34.6840,2,    219.3,2,    221.6,2,   136.50,2,    31.30,2,     2.24,2, -0.0010,   -999
    09AR9501_1,  SR03,    35,  1,     24,     24,2,19950726,2031,-56.9242, 139.8642, 4075,      8.0,   1.1490,  33.8700,2,  33.8700,2,    334.1,2,    332.9,2,    11.90,2,    26.70,2,     1.81,2,  1.1490,   -999
    09AR9501_1,  SR03,    35,  1,     23,     23,2,19950726,2031,-56.9242, 139.8642, 4075,     48.2,   1.1530,  33.8710,2,  33.8700,2,   -999.0,5,    333.0,2,    11.70,2,    26.60,2,     1.81,2,  1.1510,   -999
    09AR9501_1,  SR03,    35,  1,     22,     22,2,19950726,2031,-56.9242, 139.8642, 4075,     97.9,   1.1550,  33.8710,2,  33.8690,2,    325.0,2,    333.0,2,    11.80,2,    26.70,2,     1.84,2,  1.1510,   -999
    09AR9501_1,  SR03,    35,  1,     21,     21,2,19950726,2031,-56.9242, 139.8642, 4075,    198.1,   1.9750,  34.1590,2,  34.1590,2,    242.1,2,    253.0,2,    34.80,2,    31.60,2,     2.17,2,  1.9650,   -999
    09AR9501_1,  SR03,    35,  1,     20,    120,2,19950726,2031,-56.9242, 139.8642, 4075,    298.8,   2.1620,  34.3070,2,  34.3050,2,    208.6,2,    213.3,2,    48.80,2,    33.60,2,     2.31,2,  2.1460,   -999
    09AR9501_1,  SR03,    35,  1,     19,    119,2,19950726,2031,-56.9242, 139.8642, 4075,    398.7,   2.2150,  34.4060,2,  34.4040,2,    188.9,2,    192.8,2,    57.50,2,    34.30,2,     2.37,2,  2.1930,   -999
    09AR9501_1,  SR03,    35,  1,     18,    118,2,19950726,2031,-56.9242, 139.8642, 4075,    528.6,   2.3120,  34.5240,2,  34.5220,2,    177.3,2,    175.9,2,    49.60,4,    23.80,4,     1.87,4,  2.2820,   -999
    09AR9501_1,  SR03,    35,  1,     17,    117,2,19950726,2031,-56.9242, 139.8642, 4075,    599.6,   2.3080,  34.5600,2,  34.5610,2,    176.6,2,    174.6,2,    67.70,2,    33.90,2,     2.35,2,  2.2730,   -999
    09AR9501_1,  SR03,    35,  1,     16,    216,2,19950726,2031,-56.9242, 139.8642, 4075,    700.2,   2.3080,  34.6160,2,  34.6160,2,    177.8,2,    175.3,2,    70.40,2,    33.10,2,     2.29,2,  2.2660,   -999
    09AR9501_1,  SR03,    35,  1,     15,    115,2,19950726,2031,-56.9242, 139.8642, 4075,    799.1,   2.2910,  34.6530,2,  34.6520,2,    179.1,2,    178.1,2,    72.20,2,    32.50,2,     2.24,2,  2.2430,   -999
    09AR9501_1,  SR03,    35,  1,     14,    114,2,19950726,2031,-56.9242, 139.8642, 4075,    885.0,   2.2600,  34.6740,2,  34.6760,2,    181.0,2,    180.1,2,    73.50,2,    32.00,2,     2.21,2,  2.2060,   -999
    09AR9501_1,  SR03,    35,  1,     13,    113,2,19950726,2031,-56.9242, 139.8642, 4075,    986.9,   2.2130,  34.7010,2,  34.7010,2,    183.1,2,    184.2,2,    73.20,2,    31.30,2,     2.17,2,  2.1520,   -999
    09AR9501_1,  SR03,    35,  1,     12,     12,2,19950726,2031,-56.9242, 139.8642, 4075,   1199.0,   2.0900,  34.7300,2,  34.7280,2,    188.5,2,    189.6,2,    77.70,2,    30.60,2,     2.11,2,  2.0150,   -999
    09AR9501_1,  SR03,    35,  1,     11,     11,2,19950726,2031,-56.9242, 139.8642, 4075,   1400.4,   1.9580,  34.7440,2,  34.7440,2,    194.2,2,    194.6,2,    80.90,2,    30.30,2,     2.08,2,  1.8700,   -999
    09AR9501_1,  SR03,    35,  1,     10,     10,2,19950726,2031,-56.9242, 139.8642, 4075,   1601.7,   1.7990,  34.7480,2,  34.7480,2,    198.1,2,    197.4,2,    85.60,2,    30.30,2,     2.07,2,  1.6970,   -999
    09AR9501_1,  SR03,    35,  1,      9,      9,2,19950726,2031,-56.9242, 139.8642, 4075,   1902.9,   1.5260,  34.7420,2,  34.7430,2,    203.9,2,    200.4,2,    94.50,2,    30.70,2,     2.10,2,  1.4050,   -999
    09AR9501_1,  SR03,    35,  1,      8,      8,2,19950726,2031,-56.9242, 139.8642, 4075,   2297.6,   1.2040,  34.7270,2,  34.7280,2,    205.7,2,    203.6,2,   103.40,2,    31.10,2,     2.14,2,  1.0560,   -999
    09AR9501_1,  SR03,    35,  1,      7,      7,2,19950726,2031,-56.9242, 139.8642, 4075,   2603.4,   0.9760,  34.7170,2,  34.7170,2,    210.9,2,    206.7,2,   116.40,2,    31.60,2,     2.17,2,  0.8060,   -999
    09AR9501_1,  SR03,    35,  1,      6,      6,2,19950726,2031,-56.9242, 139.8642, 4075,   2904.5,   0.7370,  34.7040,2,  34.7030,2,    213.5,2,    210.1,2,   116.20,2,    31.90,2,     2.20,2,  0.5460,   -999
    09AR9501_1,  SR03,    35,  1,      5,      5,2,19950726,2031,-56.9242, 139.8642, 4075,   3204.3,   0.5330,  34.6950,2,  34.6940,2,    218.7,2,    215.6,2,   116.30,2,    31.90,2,     2.20,2,  0.3190,   -999
    09AR9501_1,  SR03,    35,  1,      4,      4,2,19950726,2031,-56.9242, 139.8642, 4075,   3505.7,   0.3820,  34.6870,2,  34.6880,2,    222.9,2,    218.9,2,   125.50,2,    32.00,2,     2.22,2,  0.1440,   -999
    09AR9501_1,  SR03,    35,  1,      3,      3,2,19950726,2031,-56.9242, 139.8642, 4075,   3806.2,   0.2670,  34.6830,2,  34.6840,2,    223.5,2,    221.8,2,   129.60,2,    32.20,2,     2.23,2,  0.0030,   -999
    09AR9501_1,  SR03,    35,  1,      2,      2,2,19950726,2031,-56.9242, 139.8642, 4075,   4057.7,   0.2200,  34.6810,2,  34.6820,2,    221.3,2,    224.7,2,   132.30,2,    32.20,2,     2.22,2, -0.0680,   -999
    09AR9501_1,  SR03,    35,  1,      1,      1,2,19950726,2031,-56.9242, 139.8642, 4075,   4178.8,   0.2050,  34.6810,2,  34.6810,2,    222.7,2,    225.1,2,   130.90,2,    32.20,2,     2.23,2, -0.0950,   -999
    09AR9501_1,  SR03,    36,  1,     24,     24,2,19950727,0212,-57.3695, 139.8287, 4075,      9.9,   1.1020,  33.8530,2,  33.8530,2,   -999.0,5,    334.4,2,    10.90,2,    26.50,2,     1.83,2,  1.1020,   -999
    09AR9501_1,  SR03,    36,  1,     23,     23,2,19950727,0212,-57.3695, 139.8287, 4075,     24.7,   1.1090,  33.8520,2,  33.8520,2,   -999.0,5,    334.3,2,    10.90,2,    26.50,2,     1.83,2,  1.1080,   -999
    09AR9501_1,  SR03,    36,  1,     22,     22,2,19950727,0212,-57.3695, 139.8287, 4075,     49.2,   1.1020,  33.8520,2,  33.8520,2,    328.1,2,    334.0,2,    11.10,2,    26.50,2,     1.84,2,  1.1000,   -999
    09AR9501_1,  SR03,    36,  1,     21,     21,2,19950727,0212,-57.3695, 139.8287, 4075,     98.9,   1.1790,  33.8670,2,  33.8670,2,    324.4,2,    332.1,2,    11.60,2,    26.70,2,     1.84,2,  1.1750,   -999
    09AR9501_1,  SR03,    36,  1,     20,    120,2,19950727,0212,-57.3695, 139.8287, 4075,    149.3,   1.1670,  33.8780,2,  33.8770,2,    321.6,2,    331.7,2,    12.20,2,    26.70,2,     1.84,2,  1.1610,   -999
    09AR9501_1,  SR03,    36,  1,     19,    119,2,19950727,0212,-57.3695, 139.8287, 4075,    200.4,   1.5970,  34.0690,2,  34.0680,2,    252.1,2,    278.5,2,    30.10,2,    30.50,2,     2.09,2,  1.5880,   -999
    09AR9501_1,  SR03,    36,  1,     18,    118,2,19950727,0212,-57.3695, 139.8287, 4075,    299.5,   2.1430,  34.2800,2,  34.2780,2,    205.0,2,    219.7,2,    46.70,2,    33.20,2,     2.29,2,  2.1270,   -999
    09AR9501_1,  SR03,    36,  1,     17,    117,2,19950727,0212,-57.3695, 139.8287, 4075,    399.5,   2.2730,  34.3950,2,  34.3940,2,    184.1,2,    191.8,2,    58.50,2,    34.30,2,     2.37,2,  2.2510,   -999
    09AR9501_1,  SR03,    36,  1,     16,    216,2,19950727,0212,-57.3695, 139.8287, 4075,    498.4,   2.3390,  34.4760,2,  34.4770,2,    177.1,2,    179.9,2,    64.10,2,    34.20,2,     2.37,2,  2.3100,   -999
    09AR9501_1,  SR03,    36,  1,     15,    115,2,19950727,0212,-57.3695, 139.8287, 4075,    600.3,   2.3410,  34.5420,2,  34.5420,2,    172.2,2,    174.9,2,    68.40,2,    33.90,2,     2.35,2,  2.3060,   -999
    09AR9501_1,  SR03,    36,  1,     14,    114,2,19950727,0212,-57.3695, 139.8287, 4075,    700.1,   2.3130,  34.5900,2,  34.5890,2,    174.1,2,    173.3,2,    70.50,2,    33.50,2,     2.31,2,  2.2710,   -999
    09AR9501_1,  SR03,    36,  1,     13,    113,2,19950727,0212,-57.3695, 139.8287, 4075,    800.5,   2.2870,  34.6340,2,  34.6330,2,    175.4,2,    174.9,2,    73.30,2,    32.80,2,     2.26,2,  2.2390,   -999
    09AR9501_1,  SR03,    36,  1,     12,     12,2,19950727,0212,-57.3695, 139.8287, 4075,   1001.9,   2.2180,  34.6910,2,  34.6900,2,    179.9,2,    180.8,2,    75.20,2,    31.90,2,     2.16,2,  2.1560,   -999
    09AR9501_1,  SR03,    36,  1,     11,     11,2,19950727,0212,-57.3695, 139.8287, 4075,   1201.7,   2.1080,  34.7230,2,  34.7240,2,    185.4,2,    188.0,2,    76.70,2,    30.80,2,     2.12,2,  2.0330,   -999
    09AR9501_1,  SR03,    36,  1,     10,     10,2,19950727,0212,-57.3695, 139.8287, 4075,   1502.2,   1.9160,  34.7450,2,  34.7450,2,    194.3,2,    193.9,2,    81.80,2,    30.40,2,     2.07,2,  1.8210,   -999
    09AR9501_1,  SR03,    36,  1,      9,      9,2,19950727,0212,-57.3695, 139.8287, 4075,   1803.6,   1.6360,  34.7440,2,  34.7440,2,    197.9,2,    199.0,2,    89.80,2,    30.40,2,     2.08,2,  1.5210,   -999
    09AR9501_1,  SR03,    36,  1,      8,      8,2,19950727,0212,-57.3695, 139.8287, 4075,   2205.5,   1.2940,  34.7320,2,  34.7320,2,    206.0,2,    202.6,2,    99.80,2,    30.80,2,     2.12,2,  1.1520,   -999
    09AR9501_1,  SR03,    36,  1,      7,      7,2,19950727,0212,-57.3695, 139.8287, 4075,   2506.5,   1.0540,  34.7210,2,  34.7200,2,    210.1,2,    204.5,2,   105.80,2,    31.10,2,     2.16,2,  0.8910,   -999
    09AR9501_1,  SR03,    36,  1,      6,      6,2,19950727,0212,-57.3695, 139.8287, 4075,   2705.9,   0.9220,  34.7130,2,  34.7130,2,    211.9,2,    206.4,2,   107.30,2,    31.30,2,     2.18,2,  0.7440,   -999
    09AR9501_1,  SR03,    36,  1,      5,      5,2,19950727,0212,-57.3695, 139.8287, 4075,   3005.2,   0.6960,  34.7020,2,  34.7010,2,    215.8,2,    210.9,2,   112.90,2,    31.70,2,     2.20,2,  0.4970,   -999
    09AR9501_1,  SR03,    36,  1,      4,      4,2,19950727,0212,-57.3695, 139.8287, 4075,   3305.9,   0.4910,  34.6930,2,  34.6930,2,    221.1,2,    215.5,2,   115.80,2,    31.90,2,     2.21,2,  0.2690,   -999
    09AR9501_1,  SR03,    36,  1,      3,      3,2,19950727,0212,-57.3695, 139.8287, 4075,   3658.7,   0.3130,  34.6850,2,  34.6850,2,    226.2,2,    220.8,2,   120.80,2,    31.80,2,     2.21,2,  0.0620,   -999
    09AR9501_1,  SR03,    36,  1,      2,      2,2,19950727,0212,-57.3695, 139.8287, 4075,   3958.3,   0.2480,  34.6830,2,  34.6820,2,    224.0,2,    223.3,2,   125.30,2,    32.00,2,     2.22,2, -0.0310,   -999
    09AR9501_1,  SR03,    36,  1,      1,      1,2,19950727,0212,-57.3695, 139.8287, 4075,   4057.0,   0.2320,  34.6810,2,  34.6810,2,    223.6,2,    223.2,2,   125.60,2,    32.00,2,     2.23,2, -0.0570,   -999