BOTTLE,20020620WHPSIOKJU
EXPOCODE,SECT_ID,STNNBR,CASTNO,SAMPNO,BTLNBR,BTLNBR_FLAG_W,DATE,TIME,LATITUDE,LONGITUDE,DEPTH,CTDPRS,CTDTMP,CTDSAL,CTDSAL_FLAG_W,SALNTY,SALNTY_FLAG_W,CTDOXY,CTDOXY_FLAG_W,OXYGEN,OXYGEN_FLAG_W,SILCAT,SILCAT_FLAG_W,NO2+NO3,NO2+NO3_FLAG_W,PHSPHT,PHSPHT_FLAG_W,THETA,CTDRAW
,,,,,,,,,,,,DBAR,DEG C,PSS-78,,PSS-78,,UMOL/KG,,UMOL/KG,,UMOL/KG,,UMOL/KG,,UMOL/KG,,DEG C,
    09AR9501_1,  SR03,    49,  1,     24,     24,2,19950731,0625,-63.8287, 140.1850, 3716,      9.6,  -1.7300,  34.2080,2,  34.2080,2,   -999.0,5,    334.1,2,    53.50,2,    31.20,2,     2.14,2, -1.7310,   -999
    09AR9501_1,  SR03,    49,  1,     23,     23,2,19950731,0625,-63.8287, 140.1850, 3716,     18.5,  -1.7250,  34.2080,2,  34.2090,2,   -999.0,5,    333.4,2,    53.80,2,    31.40,2,     2.15,2, -1.7260,   -999
    09AR9501_1,  SR03,    49,  1,     22,     22,2,19950731,0625,-63.8287, 140.1850, 3716,     44.2,  -1.6930,  34.2150,2,  34.2150,2,   -999.0,5,    332.2,2,    54.20,2,    31.40,2,     2.15,2, -1.6940,   -999
    09AR9501_1,  SR03,    49,  1,     21,     21,2,19950731,0625,-63.8287, 140.1850, 3716,     84.5,   0.6930,  34.4800,4,  34.4850,2,   -999.0,5,    231.2,2,    76.70,2,    33.80,2,     2.31,2,  0.6900,   -999
    09AR9501_1,  SR03,    49,  1,     20,    120,2,19950731,0625,-63.8287, 140.1850, 3716,    115.7,   1.5940,  34.5930,2,  34.5900,2,   -999.0,5,    186.7,2,    76.60,2,    34.00,2,     2.31,2,  1.5890,   -999
    09AR9501_1,  SR03,    49,  1,     19,    119,2,19950731,0625,-63.8287, 140.1850, 3716,    198.0,   1.7490,  34.6550,2,  34.6520,2,   -999.0,5,    182.5,2,    79.60,2,    32.90,2,     2.25,2,  1.7390,   -999
    09AR9501_1,  SR03,    49,  1,     18,    118,2,19950731,0625,-63.8287, 140.1850, 3716,    315.6,   1.6480,  34.6900,2,  34.6890,2,   -999.0,5,    189.6,2,    82.00,2,    32.00,2,     2.20,2,  1.6320,   -999
    09AR9501_1,  SR03,    49,  1,     17,    117,2,19950731,0625,-63.8287, 140.1850, 3716,    396.6,   1.7390,  34.7160,2,  34.7150,2,   -999.0,5,    189.1,2,    83.30,2,    31.60,2,     2.16,2,  1.7180,   -999
    09AR9501_1,  SR03,    49,  1,     16,    216,2,19950731,0625,-63.8287, 140.1850, 3716,    496.1,   1.6610,  34.7270,2,  34.7260,2,   -999.0,5,    192.6,2,    85.80,2,    31.10,2,  -999.00,9,  1.6350,   -999
    09AR9501_1,  SR03,    49,  1,     15,    115,2,19950731,0625,-63.8287, 140.1850, 3716,    595.8,   1.6320,  34.7370,2,  34.7370,2,   -999.0,5,    195.1,2,    87.80,2,    30.70,2,     2.12,2,  1.6000,   -999
    09AR9501_1,  SR03,    49,  1,     14,    114,2,19950731,0625,-63.8287, 140.1850, 3716,    696.8,   1.5480,  34.7390,2,  34.7390,2,   -999.0,5,    197.2,2,    86.80,2,    30.80,2,     2.11,2,  1.5110,   -999
    09AR9501_1,  SR03,    49,  1,     13,    113,2,19950731,0625,-63.8287, 140.1850, 3716,    797.0,   1.4650,  34.7400,2,  34.7400,2,   -999.0,5,    199.4,2,    88.00,2,    30.40,2,     2.11,2,  1.4220,   -999
    09AR9501_1,  SR03,    49,  1,     12,     12,2,19950731,0625,-63.8287, 140.1850, 3716,   1014.4,   1.2860,  34.7350,2,  34.7360,2,   -999.0,5,    202.5,2,    90.00,2,    30.80,2,     2.12,2,  1.2310,   -999
    09AR9501_1,  SR03,    49,  1,     11,     11,2,19950731,0625,-63.8287, 140.1850, 3716,   1198.9,   1.1190,  34.7270,2,  34.7280,2,   -999.0,5,    203.9,2,    94.30,2,    31.10,2,     2.15,2,  1.0530,   -999
    09AR9501_1,  SR03,    49,  1,     10,     10,2,19950731,0625,-63.8287, 140.1850, 3716,   1399.5,   0.9400,  34.7180,2,  34.7190,2,   -999.0,5,    206.6,2,    99.00,2,    31.30,2,     2.16,2,  0.8630,   -999
    09AR9501_1,  SR03,    49,  1,      9,      9,2,19950731,0625,-63.8287, 140.1850, 3716,   1599.0,   0.7980,  34.7110,2,  34.7120,2,   -999.0,5,    207.7,2,   103.30,2,    31.60,2,     2.19,2,  0.7090,   -999
    09AR9501_1,  SR03,    49,  1,      8,      8,2,19950731,0625,-63.8287, 140.1850, 3716,   1797.4,   0.6560,  34.7040,2,  34.7050,2,   -999.0,5,    210.1,2,   108.60,2,    31.80,2,     2.20,2,  0.5550,   -999
    09AR9501_1,  SR03,    49,  1,      7,      7,2,19950731,0625,-63.8287, 140.1850, 3716,   1998.5,   0.5210,  34.6990,2,  34.6990,2,   -999.0,5,    211.7,2,   111.70,2,    32.00,2,     2.21,2,  0.4070,   -999
    09AR9501_1,  SR03,    49,  1,      6,      6,2,19950731,0625,-63.8287, 140.1850, 3716,   2306.5,   0.2890,  34.6840,2,  34.6850,2,   -999.0,5,    218.7,2,   109.90,2,    32.20,2,     2.21,2,  0.1560,   -999
    09AR9501_1,  SR03,    49,  1,      5,      5,2,19950731,0625,-63.8287, 140.1850, 3716,   2601.4,   0.1820,  34.6850,2,  34.6850,2,   -999.0,5,    222.2,2,   117.40,2,    32.20,2,     2.22,2,  0.0280,   -999
    09AR9501_1,  SR03,    49,  1,      4,      4,2,19950731,0625,-63.8287, 140.1850, 3716,   3001.1,   0.0120,  34.6780,2,  34.6780,2,   -999.0,5,    229.2,2,   113.60,2,    32.20,2,     2.20,2, -0.1720,   -999
    09AR9501_1,  SR03,    49,  1,      3,      3,2,19950731,0625,-63.8287, 140.1850, 3716,   3300.9,  -0.0840,  34.6750,2,  34.6770,2,   -999.0,5,    233.7,2,   110.50,2,    32.00,2,     2.20,2, -0.2920,   -999
    09AR9501_1,  SR03,    49,  1,      2,      2,2,19950731,0625,-63.8287, 140.1850, 3716,   3710.9,  -0.2140,  34.6680,2,  34.6700,2,   -999.0,5,    239.7,2,   109.40,2,    32.00,2,     2.20,2, -0.4560,   -999
    09AR9501_1,  SR03,    49,  1,      1,      1,2,19950731,0625,-63.8287, 140.1850, 3716,   3745.0,  -0.2120,  34.6680,2,  34.6700,2,   -999.0,5,    240.0,2,   109.30,2,    31.80,2,     2.20,2, -0.4570,   -999
    09AR9501_1,  SR03,    50,  1,     24,     24,2,19950731,1908,-64.4432, 140.3340, 3471,      7.5,  -1.8060,  34.2560,2,  34.2570,2,   -999.0,5,    326.4,2,    59.70,2,    31.70,2,     2.17,2, -1.8070,   -999
    09AR9501_1,  SR03,    50,  1,     23,     23,2,19950731,1908,-64.4432, 140.3340, 3471,     43.6,  -1.8100,  34.2580,2,  34.2570,2,   -999.0,5,    325.8,2,    60.20,2,    31.60,2,     2.17,2, -1.8110,   -999
    09AR9501_1,  SR03,    50,  1,     22,     22,2,19950731,1908,-64.4432, 140.3340, 3471,    108.9,   0.9060,  34.5670,2,  34.5660,2,   -999.0,5,    212.9,2,    76.90,2,    32.60,2,     2.23,2,  0.9010,   -999
    09AR9501_1,  SR03,    50,  1,     21,     21,2,19950731,1908,-64.4432, 140.3340, 3471,    154.1,   1.2210,  34.6250,4,  34.6480,2,   -999.0,5,    193.3,2,    80.90,2,    32.20,2,     2.24,2,  1.2140,   -999
    09AR9501_1,  SR03,    50,  1,     20,    120,2,19950731,1908,-64.4432, 140.3340, 3471,    194.7,   1.5890,  34.6830,2,  34.6810,2,   -999.0,5,    188.4,2,    81.30,2,    32.00,2,     2.20,2,  1.5800,   -999
    09AR9501_1,  SR03,    50,  1,     19,    119,2,19950731,1908,-64.4432, 140.3340, 3471,    295.5,   1.6680,  34.7110,2,  34.7140,2,   -999.0,5,    189.0,2,    81.40,2,    31.10,2,     2.18,2,  1.6530,   -999
    09AR9501_1,  SR03,    50,  1,     18,    118,2,19950731,1908,-64.4432, 140.3340, 3471,    395.8,   1.5500,  34.7170,2,  34.7140,2,   -999.0,5,    194.0,2,    81.60,2,    30.80,2,     2.16,2,  1.5300,   -999
    09AR9501_1,  SR03,    50,  1,     17,    117,2,19950731,1908,-64.4432, 140.3340, 3471,    496.1,   1.4060,  34.7210,2,  34.7190,2,   -999.0,5,    199.1,2,    83.10,2,    30.70,2,     2.14,2,  1.3810,   -999
    09AR9501_1,  SR03,    50,  1,     16,    216,2,19950731,1908,-64.4432, 140.3340, 3471,    596.4,   1.4240,  34.7360,2,  34.7340,2,   -999.0,5,    199.2,2,    86.80,2,    30.60,2,     2.13,2,  1.3930,   -999
    09AR9501_1,  SR03,    50,  1,     15,    115,2,19950731,1908,-64.4432, 140.3340, 3471,    696.5,   1.3150,  34.7320,2,  34.7300,2,   -999.0,5,    201.3,2,    89.40,2,    30.60,2,     2.13,2,  1.2790,   -999
    09AR9501_1,  SR03,    50,  1,     14,    114,2,19950731,1908,-64.4432, 140.3340, 3471,    795.9,   1.2170,  34.7280,2,  34.7270,2,   -999.0,5,    202.6,2,    91.80,2,    30.70,2,     2.13,2,  1.1760,   -999
    09AR9501_1,  SR03,    50,  1,     13,    113,2,19950731,1908,-64.4432, 140.3340, 3471,    871.1,   1.1520,  34.7270,2,  34.7260,2,   -999.0,5,    203.4,2,    94.80,2,    30.90,2,     2.15,2,  1.1060,   -999
    09AR9501_1,  SR03,    50,  1,     12,     12,2,19950731,1908,-64.4432, 140.3340, 3471,    997.5,   1.0430,  34.7220,2,  34.7210,2,   -999.0,5,    204.8,2,    97.30,2,    31.30,2,     2.13,2,  0.9910,   -999
    09AR9501_1,  SR03,    50,  1,     11,     11,2,19950731,1908,-64.4432, 140.3340, 3471,   1196.5,   0.9200,  34.7190,2,  34.7190,2,   -999.0,5,    205.6,2,   102.70,2,    31.50,2,     2.18,2,  0.8560,   -999
    09AR9501_1,  SR03,    50,  1,     10,     10,2,19950731,1908,-64.4432, 140.3340, 3471,   1397.7,   0.7760,  34.7100,2,  34.7110,2,   -999.0,5,    207.3,2,   106.00,2,    31.90,2,     2.19,2,  0.7010,   -999
    09AR9501_1,  SR03,    50,  1,      9,      9,2,19950731,1908,-64.4432, 140.3340, 3471,   1598.4,   0.5730,  34.6980,2,  34.6980,2,   -999.0,5,    210.6,2,   108.30,2,    32.10,2,     2.20,2,  0.4870,   -999
    09AR9501_1,  SR03,    50,  1,      8,      8,2,19950731,1908,-64.4432, 140.3340, 3471,   1798.6,   0.4740,  34.6970,2,  34.6970,2,   -999.0,5,    211.7,2,   113.30,2,    32.30,2,     2.21,2,  0.3750,   -999
    09AR9501_1,  SR03,    50,  1,      7,      7,2,19950731,1908,-64.4432, 140.3340, 3471,   1999.3,   0.3200,  34.6890,2,  34.6900,2,   -999.0,5,    216.7,2,   113.90,2,    32.30,2,     2.22,2,  0.2090,   -999
    09AR9501_1,  SR03,    50,  1,      6,      6,2,19950731,1908,-64.4432, 140.3340, 3471,   2299.4,   0.1700,  34.6850,2,  34.6840,2,   -999.0,5,    221.5,2,   116.20,2,    32.30,2,     2.20,2,  0.0400,   -999
    09AR9501_1,  SR03,    50,  1,      5,      5,2,19950731,1908,-64.4432, 140.3340, 3471,   2600.5,   0.0400,  34.6800,2,  34.6800,2,   -999.0,5,    226.8,2,   115.20,2,    32.00,2,     2.21,2, -0.1110,   -999
    09AR9501_1,  SR03,    50,  1,      4,      4,2,19950731,1908,-64.4432, 140.3340, 3471,   2900.8,  -0.0710,  34.6760,2,  34.6780,2,   -999.0,5,    218.4,2,   111.50,2,    32.10,2,     2.20,2, -0.2450,   -999
    09AR9501_1,  SR03,    50,  1,      3,      3,2,19950731,1908,-64.4432, 140.3340, 3471,   3201.7,  -0.1860,  34.6750,2,  34.6760,2,   -999.0,5,    229.0,2,   105.40,2,    31.90,2,     2.20,2, -0.3830,   -999
    09AR9501_1,  SR03,    50,  1,      2,      2,2,19950731,1908,-64.4432, 140.3340, 3471,   3404.8,  -0.2820,  34.6660,2,  34.6690,2,   -999.0,5,    242.2,2,   102.60,2,    31.80,2,     2.19,2, -0.4940,   -999
    09AR9501_1,  SR03,    50,  1,      1,      1,2,19950731,1908,-64.4432, 140.3340, 3471,   3478.5,  -0.2780,  34.6670,2,  34.6690,2,   -999.0,5,    240.1,2,   103.20,2,    31.80,2,     2.19,2, -0.4970,   -999
    09AR9501_1,  SR03,    51,  1,     24,     24,2,19950801,0441,-64.7888, 140.3067, 3327,     10.4,  -1.8230,  34.2440,2,  34.2440,2,   -999.0,5,    318.3,2,    60.80,2,    31.00,2,     2.13,2, -1.8240,   -999
    09AR9501_1,  SR03,    51,  1,     23,     23,2,19950801,0441,-64.7888, 140.3067, 3327,     24.8,  -1.8230,  34.2460,2,  34.2440,2,   -999.0,5,    318.4,2,    60.80,2,    31.00,2,     2.15,2, -1.8240,   -999
    09AR9501_1,  SR03,    51,  1,     22,     22,2,19950801,0441,-64.7888, 140.3067, 3327,     54.7,  -1.8230,  34.2450,2,  34.2450,2,   -999.0,5,    318.4,2,    60.80,2,    31.00,2,     2.16,2, -1.8240,   -999
    09AR9501_1,  SR03,    51,  1,     21,     21,2,19950801,0441,-64.7888, 140.3067, 3327,    115.7,  -1.7970,  34.2460,2,  34.2460,2,   -999.0,5,    318.3,2,    60.60,2,    31.00,2,     2.16,2, -1.8000,   -999
    09AR9501_1,  SR03,    51,  1,     20,    120,2,19950801,0441,-64.7888, 140.3067, 3327,    135.6,  -1.3370,  34.3040,3,  34.3110,2,   -999.0,5,    297.1,2,    65.00,2,    31.00,2,     2.15,2, -1.3410,   -999
    09AR9501_1,  SR03,    51,  1,     19,    119,2,19950801,0441,-64.7888, 140.3067, 3327,    196.4,   0.2220,  34.5890,4,  34.5690,2,   -999.0,5,    234.0,2,    80.60,2,    31.10,2,     2.15,2,  0.2140,   -999
    09AR9501_1,  SR03,    51,  1,     18,    118,2,19950801,0441,-64.7888, 140.3067, 3327,    297.0,   0.9240,  34.6660,2,  34.6650,2,   -999.0,5,    210.6,2,    86.00,2,    30.90,2,     2.15,2,  0.9110,   -999
    09AR9501_1,  SR03,    51,  1,     17,    117,2,19950801,0441,-64.7888, 140.3067, 3327,    396.1,   1.1360,  34.6990,2,  34.6990,2,   -999.0,5,    205.2,2,    89.20,2,    30.60,2,     2.13,2,  1.1170,   -999
    09AR9501_1,  SR03,    51,  1,     16,    216,2,19950801,0441,-64.7888, 140.3067, 3327,    498.7,   1.0440,  34.7010,2,  34.7020,2,   -999.0,5,    206.0,2,    90.70,2,    30.70,2,     2.13,2,  1.0200,   -999
    09AR9501_1,  SR03,    51,  1,     15,    115,2,19950801,0441,-64.7888, 140.3067, 3327,    596.7,   1.0700,  34.7130,2,  34.7100,2,   -999.0,5,    205.0,2,    91.90,2,    30.60,2,     2.13,2,  1.0410,   -999
    09AR9501_1,  SR03,    51,  1,     14,    114,2,19950801,0441,-64.7888, 140.3067, 3327,    799.3,   0.9360,  34.7120,2,  34.7110,2,   -999.0,5,    205.9,2,    97.80,2,    30.90,2,     2.15,2,  0.8960,   -999
    09AR9501_1,  SR03,    51,  1,     13,    113,2,19950801,0441,-64.7888, 140.3067, 3327,    998.3,   0.8100,  34.7090,2,  34.7070,2,   -999.0,5,    207.0,2,   102.50,2,    31.10,2,     2.16,2,  0.7590,   -999
    09AR9501_1,  SR03,    51,  1,     12,     12,2,19950801,0441,-64.7888, 140.3067, 3327,   1201.2,   0.6320,  34.6990,2,  34.7010,2,   -999.0,5,    209.1,2,   105.00,2,    31.50,2,     2.18,2,  0.5710,   -999
    09AR9501_1,  SR03,    51,  1,     11,     11,2,19950801,0441,-64.7888, 140.3067, 3327,   1399.7,   0.3960,  34.6840,2,  34.6850,2,   -999.0,5,    214.8,2,   105.70,2,    31.60,2,     2.20,2,  0.3250,   -999
    09AR9501_1,  SR03,    51,  1,     10,     10,2,19950801,0441,-64.7888, 140.3067, 3327,   1599.5,   0.3370,  34.6890,2,  34.6880,2,   -999.0,5,    216.1,2,   109.50,2,    31.80,2,     2.20,2,  0.2540,   -999
    09AR9501_1,  SR03,    51,  1,      9,      9,2,19950801,0441,-64.7888, 140.3067, 3327,   1799.4,   0.2450,  34.6860,2,  34.6900,2,   -999.0,5,    218.3,2,   111.10,2,    31.80,2,     2.20,2,  0.1490,   -999
    09AR9501_1,  SR03,    51,  1,      8,      8,2,19950801,0441,-64.7888, 140.3067, 3327,   2002.4,   0.1650,  34.6840,2,  34.6840,2,   -999.0,5,    220.9,2,   112.40,2,    31.80,2,     2.21,2,  0.0570,   -999
    09AR9501_1,  SR03,    51,  1,      7,      7,2,19950801,0441,-64.7888, 140.3067, 3327,   2201.5,   0.0960,  34.6820,2,  34.6830,2,   -999.0,5,    223.8,2,   110.60,2,    31.80,2,     2.20,2, -0.0260,   -999
    09AR9501_1,  SR03,    51,  1,      6,      6,2,19950801,0441,-64.7888, 140.3067, 3327,   2402.1,   0.0260,  34.6800,2,  34.6800,2,   -999.0,5,    226.6,2,   112.20,2,    31.80,2,     2.20,2, -0.1100,   -999
    09AR9501_1,  SR03,    51,  1,      5,      5,2,19950801,0441,-64.7888, 140.3067, 3327,   2602.2,  -0.0400,  34.6790,2,  34.6800,2,   -999.0,5,    229.7,2,   109.20,2,    31.60,2,     2.20,2, -0.1900,   -999
    09AR9501_1,  SR03,    51,  1,      4,      4,2,19950801,0441,-64.7888, 140.3067, 3327,   2804.1,  -0.1230,  34.6760,2,  34.6760,2,   -999.0,5,    234.1,2,   100.40,2,    31.40,2,     2.19,2, -0.2870,   -999
    09AR9501_1,  SR03,    51,  1,      3,      3,2,19950801,0441,-64.7888, 140.3067, 3327,   3003.5,  -0.2540,  34.6610,2,  34.6630,2,   -999.0,5,    241.4,2,    93.30,2,    31.30,2,     2.16,2, -0.4320,   -999
    09AR9501_1,  SR03,    51,  1,      2,      2,2,19950801,0441,-64.7888, 140.3067, 3327,   3218.5,  -0.4490,  34.6370,2,  34.6380,2,   -999.0,5,    252.3,2,    89.90,2,    31.10,2,     2.15,2, -0.6410,   -999
    09AR9501_1,  SR03,    51,  1,      1,      1,2,19950801,0441,-64.7888, 140.3067, 3327,   3272.5,  -0.4280,  34.6410,2,  34.6420,2,   -999.0,5,    251.0,2,    90.80,2,    30.80,2,     2.16,2, -0.6250,   -999