BOTTLE,20020620WHPSIOKJU
EXPOCODE,SECT_ID,STNNBR,CASTNO,SAMPNO,BTLNBR,BTLNBR_FLAG_W,DATE,TIME,LATITUDE,LONGITUDE,DEPTH,CTDPRS,CTDTMP,CTDSAL,CTDSAL_FLAG_W,SALNTY,SALNTY_FLAG_W,CTDOXY,CTDOXY_FLAG_W,OXYGEN,OXYGEN_FLAG_W,SILCAT,SILCAT_FLAG_W,NO2+NO3,NO2+NO3_FLAG_W,PHSPHT,PHSPHT_FLAG_W,THETA,CTDRAW
,,,,,,,,,,,,DBAR,DEG C,PSS-78,,PSS-78,,UMOL/KG,,UMOL/KG,,UMOL/KG,,UMOL/KG,,UMOL/KG,,DEG C,
    09AR9501_1,  SR03,    13,  1,     24,     24,2,19950721,1040,-48.3058, 144.5188, 4003,     10.7,   7.9850,  34.4200,2,  34.4210,2,   -999.0,5,    281.2,2,     3.30,2,    16.30,2,     1.15,2,  7.9860,   -999
    09AR9501_1,  SR03,    13,  1,     23,     23,2,19950721,1040,-48.3058, 144.5188, 4003,     46.9,   7.9890,  34.4190,2,  34.4200,2,   -999.0,5,    281.2,2,     3.30,2,    16.50,2,     1.15,2,  7.9860,   -999
    09AR9501_1,  SR03,    13,  1,     22,     22,2,19950721,1040,-48.3058, 144.5188, 4003,     95.8,   7.9950,  34.4190,2,  34.4200,2,   -999.0,5,    280.8,2,     3.40,2,    16.40,2,     1.15,2,  7.9870,   -999
    09AR9501_1,  SR03,    13,  1,     21,     21,2,19950721,1040,-48.3058, 144.5188, 4003,    147.3,   7.9980,  34.4200,2,  34.4190,2,   -999.0,5,    281.8,2,     3.40,2,    16.40,2,     1.16,2,  7.9850,   -999
    09AR9501_1,  SR03,    13,  1,     20,    120,2,19950721,1040,-48.3058, 144.5188, 4003,    216.1,   7.9860,  34.4170,2,  34.4160,2,   -999.0,5,    281.1,2,     3.40,2,    16.60,2,     1.16,2,  7.9660,   -999
    09AR9501_1,  SR03,    13,  1,     19,    119,2,19950721,1040,-48.3058, 144.5188, 4003,    316.4,   7.9830,  34.4160,2,  34.4160,2,   -999.0,5,    280.1,2,     3.60,2,    16.60,2,     1.17,2,  7.9530,   -999
    09AR9501_1,  SR03,    13,  1,     18,    118,2,19950721,1040,-48.3058, 144.5188, 4003,    396.9,   8.5860,  34.5710,2,  34.5710,2,   -999.0,5,    253.7,2,     6.10,2,    17.30,2,     1.21,2,  8.5460,   -999
    09AR9501_1,  SR03,    13,  1,     17,    117,2,19950721,1040,-48.3058, 144.5188, 4003,    596.5,   6.7330,  34.3850,2,  34.3840,2,   -999.0,5,    235.7,2,    11.90,2,    23.40,2,     1.58,2,  6.6790,   -999
    09AR9501_1,  SR03,    13,  1,     16,    216,2,19950721,1040,-48.3058, 144.5188, 4003,    696.3,   5.8660,  34.3340,2,  34.3350,2,   -999.0,5,    229.1,2,    16.10,2,    25.60,2,     1.75,2,  5.8060,   -999
    09AR9501_1,  SR03,    13,  1,     15,    115,2,19950721,1040,-48.3058, 144.5188, 4003,    795.5,   5.5050,  34.3650,2,  34.3650,2,   -999.0,5,    210.0,2,    22.00,2,    27.80,2,     1.89,2,  5.4380,   -999
    09AR9501_1,  SR03,    13,  1,     14,    114,2,19950721,1040,-48.3058, 144.5188, 4003,    896.8,   4.5390,  34.3130,3,  34.3090,2,   -999.0,5,    219.1,2,    25.90,2,    29.20,2,     2.00,2,  4.4690,   -999
    09AR9501_1,  SR03,    13,  1,     13,    113,2,19950721,1040,-48.3058, 144.5188, 4003,    997.9,   3.9310,  34.3120,2,  34.3100,2,   -999.0,5,    214.3,2,    32.60,2,    30.60,2,     2.11,2,  3.8570,   -999
    09AR9501_1,  SR03,    13,  1,     12,     12,2,19950721,1040,-48.3058, 144.5188, 4003,   1096.1,   3.5110,  34.3370,2,  34.3310,2,   -999.0,5,    210.2,2,    38.70,2,    31.40,2,     2.17,2,  3.4330,   -999
    09AR9501_1,  SR03,    13,  1,     11,     11,2,19950721,1040,-48.3058, 144.5188, 4003,   1200.7,   3.2080,  34.3720,2,  34.3700,2,   -999.0,5,    196.9,2,    46.90,2,    32.80,2,     2.25,2,  3.1240,   -999
    09AR9501_1,  SR03,    13,  1,     10,     10,2,19950721,1040,-48.3058, 144.5188, 4003,   1401.4,   2.9420,  34.4710,2,  34.4690,2,   -999.0,5,    178.5,2,    59.60,2,    33.50,2,     2.33,2,  2.8440,   -999
    09AR9501_1,  SR03,    13,  1,      9,      9,2,19950721,1040,-48.3058, 144.5188, 4003,   1799.0,   2.5060,  34.6330,2,  34.6310,2,   -999.0,5,    176.1,2,    69.30,2,    32.30,2,     2.23,2,  2.3800,   -999
    09AR9501_1,  SR03,    13,  1,      8,      8,2,19950721,1040,-48.3058, 144.5188, 4003,   2198.8,   2.2500,  34.7190,2,  34.7200,2,   -999.0,5,    186.1,2,    77.40,2,    30.90,2,     2.12,2,  2.0930,   -999
    09AR9501_1,  SR03,    13,  1,      7,      7,2,19950721,1040,-48.3058, 144.5188, 4003,   2600.8,   1.9690,  34.7440,2,  34.7440,2,   -999.0,5,    191.5,2,    85.30,2,    30.20,2,     2.10,2,  1.7800,   -999
    09AR9501_1,  SR03,    13,  1,      6,      6,2,19950721,1040,-48.3058, 144.5188, 4003,   3001.4,   1.6120,  34.7360,2,  34.7380,2,   -999.0,5,    194.1,2,    96.40,2,    31.00,2,     2.15,2,  1.3930,   -999
    09AR9501_1,  SR03,    13,  1,      5,      5,2,19950721,1040,-48.3058, 144.5188, 4003,   3201.9,   1.4670,  34.7310,2,  34.7320,2,   -999.0,5,    196.6,2,   101.80,2,    30.90,2,     2.17,2,  1.2310,   -999
    09AR9501_1,  SR03,    13,  1,      4,      4,2,19950721,1040,-48.3058, 144.5188, 4003,   3503.7,   1.2210,  34.7220,2,  34.7210,2,   -999.0,5,    202.2,2,   105.50,2,    31.10,2,     2.17,2,  0.9620,   -999
    09AR9501_1,  SR03,    13,  1,      3,      3,2,19950721,1040,-48.3058, 144.5188, 4003,   3803.9,   1.1360,  34.7160,2,  34.7170,2,   -999.0,5,    202.8,2,   108.90,2,    31.50,2,     2.19,2,  0.8480,   -999
    09AR9501_1,  SR03,    13,  1,      2,      2,2,19950721,1040,-48.3058, 144.5188, 4003,   4105.8,   1.0740,  34.7110,2,  34.7130,2,   -999.0,5,    202.4,2,   112.40,2,    31.60,2,     2.20,2,  0.7560,   -999
    09AR9501_1,  SR03,    13,  1,      1,      1,2,19950721,1040,-48.3058, 144.5188, 4003,   4170.2,   1.0740,  34.7110,2,  34.7130,2,   -999.0,5,    202.6,2,   109.40,2,    31.80,2,     2.22,2,  0.7490,   -999
    09AR9501_1,  SR03,    14,  1,     24,     24,2,19950721,1706,-48.7622, 144.3192, 4177,     13.2,   8.1010,  34.4360,2,  34.4380,2,   -999.0,5,    188.7,4,     3.80,2,    16.10,2,     1.15,2,  8.1020,   -999
    09AR9501_1,  SR03,    14,  1,     23,     23,2,19950721,1706,-48.7622, 144.3192, 4177,     47.6,   8.0730,  34.4280,2,  34.4280,2,   -999.0,5,    189.5,4,     3.80,2,    16.30,2,     1.17,2,  8.0700,   -999
    09AR9501_1,  SR03,    14,  1,     22,     22,2,19950721,1706,-48.7622, 144.3192, 4177,     97.9,   8.0760,  34.4260,2,  34.4260,2,   -999.0,5,    180.9,4,     3.70,2,    16.10,2,     1.17,2,  8.0680,   -999
    09AR9501_1,  SR03,    14,  1,     21,     21,2,19950721,1706,-48.7622, 144.3192, 4177,    196.2,   8.0900,  34.4280,2,  34.4290,2,   -999.0,5,    205.0,4,     3.70,2,    16.20,2,     1.17,2,  8.0720,   -999
    09AR9501_1,  SR03,    14,  1,     20,    120,2,19950721,1706,-48.7622, 144.3192, 4177,    275.7,   8.1270,  34.4350,2,  34.4360,2,   -999.0,5,    176.2,4,     4.00,2,    16.00,2,     1.16,2,  8.1010,   -999
    09AR9501_1,  SR03,    14,  1,     19,    119,2,19950721,1706,-48.7622, 144.3192, 4177,    343.3,   8.9060,  34.6100,2,  34.6080,2,   -999.0,5,    163.4,4,     5.80,2,    15.80,2,     1.14,2,  8.8710,   -999
    09AR9501_1,  SR03,    14,  1,     18,    118,2,19950721,1706,-48.7622, 144.3192, 4177,    498.8,   7.5700,  34.4480,4,  34.4490,2,   -999.0,5,    161.2,4,     9.00,2,    20.40,2,     1.43,2,  7.5220,   -999
    09AR9501_1,  SR03,    14,  1,     17,    117,2,19950721,1706,-48.7622, 144.3192, 4177,    596.7,   6.9330,  34.4100,2,  34.4090,2,   -999.0,5,    156.2,4,    12.00,2,    22.80,2,     1.59,2,  6.8780,   -999
    09AR9501_1,  SR03,    14,  1,     16,    216,2,19950721,1706,-48.7622, 144.3192, 4177,    697.4,   6.0750,  34.3710,2,  34.3710,2,   -999.0,5,    126.7,4,    16.80,2,    25.60,2,     1.78,2,  6.0140,   -999
    09AR9501_1,  SR03,    14,  1,     15,    115,2,19950721,1706,-48.7622, 144.3192, 4177,    796.8,   5.2740,  34.3370,2,  34.3360,2,   -999.0,5,    143.2,4,    21.30,2,    27.60,2,     1.91,2,  5.2090,   -999
    09AR9501_1,  SR03,    14,  1,     14,    114,2,19950721,1706,-48.7622, 144.3192, 4177,    947.3,   4.2260,  34.3050,2,  34.3020,2,   -999.0,5,    134.9,4,    28.80,2,    29.60,2,     2.07,2,  4.1540,   -999
    09AR9501_1,  SR03,    14,  1,     13,    113,2,19950721,1706,-48.7622, 144.3192, 4177,   1097.3,   3.7100,  34.3440,3,  34.3410,2,   -999.0,5,    130.9,4,    38.50,2,    31.10,2,     2.19,2,  3.6300,   -999
    09AR9501_1,  SR03,    14,  1,     12,     12,2,19950721,1706,-48.7622, 144.3192, 4177,   1299.0,   3.0660,  34.4070,2,  34.4060,2,   -999.0,5,    139.0,4,    51.70,2,    32.90,2,     2.29,2,  2.9750,   -999
    09AR9501_1,  SR03,    14,  1,     11,     11,2,19950721,1706,-48.7622, 144.3192, 4177,   1497.7,   2.8100,  34.5090,2,  34.5080,2,   -999.0,5,    118.6,4,    63.90,2,    33.40,2,     2.34,2,  2.7050,   -999
    09AR9501_1,  SR03,    14,  1,     10,     10,2,19950721,1706,-48.7622, 144.3192, 4177,   1697.1,   2.5790,  34.5860,2,  34.5860,2,   -999.0,5,    127.4,4,    66.50,2,    32.80,2,     2.30,2,  2.4600,   -999
    09AR9501_1,  SR03,    14,  1,      9,      9,2,19950721,1706,-48.7622, 144.3192, 4177,   1899.3,   2.4830,  34.6540,2,  34.6530,2,   -999.0,5,    141.8,4,    70.10,2,    31.90,2,     2.22,2,  2.3480,   -999
    09AR9501_1,  SR03,    14,  1,      8,      8,2,19950721,1706,-48.7622, 144.3192, 4177,   2201.2,   2.2860,  34.7150,2,  34.7150,2,   -999.0,5,    148.9,4,    75.20,2,    30.70,2,     2.14,2,  2.1280,   -999
    09AR9501_1,  SR03,    14,  1,      7,      7,2,19950721,1706,-48.7622, 144.3192, 4177,   2500.5,   2.0970,  34.7390,2,  34.7390,2,   -999.0,5,    141.1,4,    82.50,2,    30.40,2,     2.13,2,  1.9150,   -999
    09AR9501_1,  SR03,    14,  1,      6,      6,2,19950721,1706,-48.7622, 144.3192, 4177,   2801.2,   1.8420,  34.7420,2,  34.7420,2,   -999.0,5,    159.5,4,    89.70,2,    30.40,2,     2.13,2,  1.6370,   -999
    09AR9501_1,  SR03,    14,  1,      5,      5,2,19950721,1706,-48.7622, 144.3192, 4177,   3102.4,   1.5690,  34.7340,2,  34.7350,2,   -999.0,5,    159.6,4,    97.00,2,    30.80,2,     2.16,2,  1.3410,   -999
    09AR9501_1,  SR03,    14,  1,      4,      4,2,19950721,1706,-48.7622, 144.3192, 4177,   3401.8,   1.3520,  34.7260,2,  34.7270,2,   -999.0,5,    168.5,4,   103.00,2,    30.90,2,     2.16,2,  1.0990,   -999
    09AR9501_1,  SR03,    14,  1,      3,      3,2,19950721,1706,-48.7622, 144.3192, 4177,   3702.5,   1.1540,  34.7160,2,  34.7180,2,   -999.0,5,    172.0,4,   110.80,2,    31.00,2,     2.20,2,  0.8760,   -999
    09AR9501_1,  SR03,    14,  1,      2,      2,2,19950721,1706,-48.7622, 144.3192, 4177,   4003.9,   1.1300,  34.7140,2,  34.7160,2,   -999.0,5,    173.6,4,   108.20,2,    31.20,2,     2.20,2,  0.8210,   -999
    09AR9501_1,  SR03,    14,  1,      1,      1,2,19950721,1706,-48.7622, 144.3192, 4177,   4133.9,   1.1370,  34.7140,2,  34.7150,2,   -999.0,5,    201.8,4,   108.00,2,    31.20,2,     2.20,2,  0.8140,   -999
    09AR9501_1,  SR03,    15,  1,     24,     24,2,19950721,2341,-49.2547, 144.0977, 4350,     10.5,   8.0920,  34.4410,2,  34.4430,2,   -999.0,5,    279.3,2,     4.00,2,    16.00,2,     1.15,2,  8.0930,   -999
    09AR9501_1,  SR03,    15,  1,     23,     23,2,19950721,2341,-49.2547, 144.0977, 4350,     46.1,   8.1000,  34.4420,2,  34.4440,2,   -999.0,5,    279.0,2,     3.90,2,    16.10,2,     1.15,2,  8.0970,   -999
    09AR9501_1,  SR03,    15,  1,     22,     22,2,19950721,2341,-49.2547, 144.0977, 4350,     95.9,   8.1130,  34.4440,2,  34.4450,2,   -999.0,5,    278.7,2,     3.90,2,    16.00,2,     1.14,2,  8.1050,   -999
    09AR9501_1,  SR03,    15,  1,     21,     21,2,19950721,2341,-49.2547, 144.0977, 4350,    146.2,   8.1240,  34.4470,2,  34.4470,2,   -999.0,5,    278.7,2,     3.90,2,    16.00,2,     1.15,2,  8.1110,   -999
    09AR9501_1,  SR03,    15,  1,     20,    120,2,19950721,2341,-49.2547, 144.0977, 4350,    207.3,   8.1490,  34.4510,2,  34.4510,2,   -999.0,5,    278.2,2,     3.90,2,    15.90,2,     1.15,2,  8.1300,   -999
    09AR9501_1,  SR03,    15,  1,     19,    119,2,19950721,2341,-49.2547, 144.0977, 4350,    357.9,   8.6920,  34.5740,4,  34.5780,2,   -999.0,5,    259.1,2,     5.70,2,    16.20,2,     1.16,2,  8.6560,   -999
    09AR9501_1,  SR03,    15,  1,     18,    118,2,19950721,2341,-49.2547, 144.0977, 4350,    496.5,   7.7300,  34.4750,2,  34.4730,2,   -999.0,5,    239.8,2,     8.60,2,    20.10,2,     1.41,2,  7.6820,   -999
    09AR9501_1,  SR03,    15,  1,     17,    117,2,19950721,2341,-49.2547, 144.0977, 4350,    594.9,   7.0390,  34.4200,2,  34.4240,2,   -999.0,5,    229.4,2,    11.70,2,    22.50,2,     1.57,2,  6.9840,   -999
    09AR9501_1,  SR03,    15,  1,     16,    216,2,19950721,2341,-49.2547, 144.0977, 4350,    695.9,   6.2300,  34.3770,3,  34.3770,2,   -999.0,5,    220.7,2,    15.90,2,    24.90,2,     1.74,2,  6.1690,   -999
    09AR9501_1,  SR03,    15,  1,     15,    115,2,19950721,2341,-49.2547, 144.0977, 4350,    846.1,   5.0240,  34.3260,4,  34.3310,2,   -999.0,5,    217.4,2,    23.20,2,    27.70,2,     1.95,2,  4.9560,   -999
    09AR9501_1,  SR03,    15,  1,     14,    114,2,19950721,2341,-49.2547, 144.0977, 4350,    997.1,   4.2300,  34.3500,4,  34.3480,2,   -999.0,5,    204.5,2,    33.90,2,    30.00,2,     2.12,2,  4.1540,   -999
    09AR9501_1,  SR03,    15,  1,     13,    113,2,19950721,2341,-49.2547, 144.0977, 4350,   1197.9,   3.3030,  34.3740,2,  34.3720,2,   -999.0,5,    196.7,2,    45.70,2,    32.00,2,     2.25,2,  3.2180,   -999
    09AR9501_1,  SR03,    15,  1,     12,     12,2,19950721,2341,-49.2547, 144.0977, 4350,   1398.5,   2.9490,  34.4590,2,  34.4580,2,   -999.0,5,    180.5,2,    58.40,2,    33.10,2,     2.33,2,  2.8510,   -999
    09AR9501_1,  SR03,    15,  1,     11,     11,2,19950721,2341,-49.2547, 144.0977, 4350,   1598.9,   2.6970,  34.5430,2,  34.5430,2,   -999.0,5,    172.8,2,    66.70,2,    33.20,2,     2.32,2,  2.5850,   -999
    09AR9501_1,  SR03,    15,  1,     10,     10,2,19950721,2341,-49.2547, 144.0977, 4350,   1777.5,   2.5410,  34.6120,2,  34.6110,2,   -999.0,5,    175.3,2,    70.10,2,    32.40,2,     2.27,2,  2.4160,   -999
    09AR9501_1,  SR03,    15,  1,      9,      9,2,19950721,2341,-49.2547, 144.0977, 4350,   1999.6,   2.4350,  34.6790,2,  34.6780,2,   -999.0,5,    179.2,2,    73.90,2,    31.30,2,     2.20,2,  2.2920,   -999
    09AR9501_1,  SR03,    15,  1,      8,      8,2,19950721,2341,-49.2547, 144.0977, 4350,   2302.1,   2.2680,  34.7250,2,  34.7240,2,   -999.0,5,    186.2,2,    77.80,2,    30.20,2,     2.12,2,  2.1010,   -999
    09AR9501_1,  SR03,    15,  1,      7,      7,2,19950721,2341,-49.2547, 144.0977, 4350,   2598.7,   2.0480,  34.7440,2,  34.7440,2,   -999.0,5,    193.7,2,    80.90,2,    29.60,2,     2.07,2,  1.8580,   -999
    09AR9501_1,  SR03,    15,  1,      6,      6,2,19950721,2341,-49.2547, 144.0977, 4350,   2902.6,   1.7680,  34.7440,2,  34.7440,2,   -999.0,5,    197.3,2,    89.40,2,    29.90,2,     2.10,2,  1.5550,   -999
    09AR9501_1,  SR03,    15,  1,      5,      5,2,19950721,2341,-49.2547, 144.0977, 4350,   3202.6,   1.5090,  34.7340,2,  34.7340,2,   -999.0,5,    198.8,2,    98.40,2,    30.40,2,     2.14,2,  1.2720,   -999
    09AR9501_1,  SR03,    15,  1,      4,      4,2,19950721,2341,-49.2547, 144.0977, 4350,   3502.8,   1.1970,  34.7200,2,  34.7200,2,   -999.0,5,    201.5,2,   110.20,2,    31.10,2,     2.20,2,  0.9380,   -999
    09AR9501_1,  SR03,    15,  1,      3,      3,2,19950721,2341,-49.2547, 144.0977, 4350,   3802.9,   1.1280,  34.7150,2,  34.7160,2,   -999.0,5,    202.4,2,   109.80,2,    31.20,2,     2.20,2,  0.8400,   -999
    09AR9501_1,  SR03,    15,  1,      2,      2,2,19950721,2341,-49.2547, 144.0977, 4350,   4104.9,   1.1400,  34.7140,2,  34.7150,2,   -999.0,5,    202.5,2,   110.40,2,    31.30,2,     2.20,2,  0.8200,   -999
    09AR9501_1,  SR03,    15,  1,      1,      1,2,19950721,2341,-49.2547, 144.0977, 4350,   4253.9,   1.1500,  34.7140,2,  34.7160,2,   -999.0,5,    202.1,2,   108.50,2,    31.30,2,     2.20,2,  0.8130,   -999