BOTTLE,20020620WHPSIOKJU
EXPOCODE,SECT_ID,STNNBR,CASTNO,SAMPNO,BTLNBR,BTLNBR_FLAG_W,DATE,TIME,LATITUDE,LONGITUDE,DEPTH,CTDPRS,CTDTMP,CTDSAL,CTDSAL_FLAG_W,SALNTY,SALNTY_FLAG_W,CTDOXY,CTDOXY_FLAG_W,OXYGEN,OXYGEN_FLAG_W,SILCAT,SILCAT_FLAG_W,NO2+NO3,NO2+NO3_FLAG_W,PHSPHT,PHSPHT_FLAG_W,THETA,CTDRAW
,,,,,,,,,,,,DBAR,DEG C,PSS-78,,PSS-78,,UMOL/KG,,UMOL/KG,,UMOL/KG,,UMOL/KG,,UMOL/KG,,DEG C,
    09AR9501_1,  SR03,   203,  1,     24,    120,2,19950827,0438,-60.8735, 139.8302, 4491,     12.0,  -0.3680,  33.9560,2,  33.9550,2,   -999.0,5,    334.7,2,    24.90,2,    28.80,2,     2.01,2, -0.3680,   -999
    09AR9501_1,  SR03,   203,  1,     23,     23,2,19950827,0438,-60.8735, 139.8302, 4491,     21.0,  -0.3620,  33.9590,2,  33.9600,2,   -999.0,5,    334.3,2,    25.00,2,    28.80,2,     2.01,2, -0.3630,   -999
    09AR9501_1,  SR03,   203,  1,     22,    222,2,19950827,0438,-60.8735, 139.8302, 4491,     47.1,  -0.3610,  33.9580,2,  33.9580,2,   -999.0,5,    334.1,2,    24.90,2,    28.80,2,     2.00,2, -0.3630,   -999
    09AR9501_1,  SR03,   203,  1,     21,     21,2,19950827,0438,-60.8735, 139.8302, 4491,     96.4,  -0.3570,  33.9590,2,  33.9580,2,   -999.0,5,    333.4,2,    25.10,2,    28.70,2,     2.00,2, -0.3600,   -999
    09AR9501_1,  SR03,   203,  1,     20,     24,4,19950827,0438,-60.8735, 139.8302, 4491,    196.4,   2.1100,  34.4530,4,  35.0000,4,   -999.0,5,   -999.0,9,  -999.00,9,  -999.00,9,  -999.00,9,  2.1000,   -999
    09AR9501_1,  SR03,   203,  1,     19,    119,2,19950827,0438,-60.8735, 139.8302, 4491,    257.1,   2.1590,  34.5060,3,  34.5030,2,   -999.0,5,    176.6,2,    65.90,2,    34.40,2,     2.40,2,  2.1450,   -999
    09AR9501_1,  SR03,   203,  1,     18,    118,2,19950827,0438,-60.8735, 139.8302, 4491,    317.4,   2.1950,  34.5500,3,  34.5440,2,   -999.0,5,    173.7,2,    67.80,2,    34.10,2,     2.38,2,  2.1780,   -999
    09AR9501_1,  SR03,   203,  1,     17,    117,2,19950827,0438,-60.8735, 139.8302, 4491,    396.6,   2.2190,  34.5980,2,  34.5900,2,   -999.0,5,    173.2,2,    70.10,2,    33.50,2,     2.33,2,  2.1970,   -999
    09AR9501_1,  SR03,   203,  1,     16,    216,2,19950827,0438,-60.8735, 139.8302, 4491,    495.8,   2.2170,  34.6420,3,  34.6410,2,   -999.0,5,    174.8,2,    71.50,2,    32.40,2,     2.28,2,  2.1890,   -999
    09AR9501_1,  SR03,   203,  1,     15,    115,2,19950827,0438,-60.8735, 139.8302, 4491,    596.8,   2.1720,  34.6750,2,  34.6750,2,   -999.0,5,    177.7,2,    72.90,2,    31.90,2,     2.23,2,  2.1380,   -999
    09AR9501_1,  SR03,   203,  1,     14,    114,2,19950827,0438,-60.8735, 139.8302, 4491,    698.4,   2.1300,  34.6960,2,  34.6950,2,   -999.0,5,    180.7,2,    73.40,2,    31.20,2,     2.21,2,  2.0890,   -999
    09AR9501_1,  SR03,   203,  1,     13,    113,2,19950827,0438,-60.8735, 139.8302, 4491,    795.2,   2.0740,  34.7130,2,  34.7150,2,   -999.0,5,    184.4,2,    74.60,2,    30.80,2,     2.18,2,  2.0270,   -999
    09AR9501_1,  SR03,   203,  1,     12,    112,2,19950827,0438,-60.8735, 139.8302, 4491,   1040.9,   1.8870,  34.7370,3,  34.7370,2,   -999.0,5,    191.5,2,    78.00,2,    30.10,2,     2.13,2,  1.8250,   -999
    09AR9501_1,  SR03,   203,  1,     11,     11,2,19950827,0438,-60.8735, 139.8302, 4491,   1198.1,   1.7630,  34.7450,2,  34.7460,2,   -999.0,5,    195.7,2,    81.50,2,    29.90,2,     2.12,2,  1.6910,   -999
    09AR9501_1,  SR03,   203,  1,     10,     10,2,19950827,0438,-60.8735, 139.8302, 4491,   1501.2,   1.5210,  34.7430,2,  34.7430,2,   -999.0,5,    199.4,2,    87.40,2,    29.90,2,     2.12,2,  1.4300,   -999
    09AR9501_1,  SR03,   203,  1,      9,      9,2,19950827,0438,-60.8735, 139.8302, 4491,   1798.4,   1.2730,  34.7330,2,  34.7340,2,   -999.0,5,    202.5,2,    93.30,2,    30.20,2,     2.13,2,  1.1630,   -999
    09AR9501_1,  SR03,   203,  1,      8,      8,2,19950827,0438,-60.8735, 139.8302, 4491,   2201.4,   0.9730,  34.7170,2,  34.7190,2,   -999.0,5,    206.0,2,   101.60,2,    30.90,2,     2.19,2,  0.8360,   -999
    09AR9501_1,  SR03,   203,  1,      7,      7,2,19950827,0438,-60.8735, 139.8302, 4491,   2600.2,   0.6800,  34.7020,2,  34.7030,2,   -999.0,5,    209.7,2,   109.10,2,    31.50,2,     2.20,2,  0.5160,   -999
    09AR9501_1,  SR03,   203,  1,      6,      6,2,19950827,0438,-60.8735, 139.8302, 4491,   3004.5,   0.4210,  34.6890,2,  34.6910,2,   -999.0,5,    215.8,2,   115.10,2,    31.90,2,     2.24,2,  0.2280,   -999
    09AR9501_1,  SR03,   203,  1,      5,      5,2,19950827,0438,-60.8735, 139.8302, 4491,   3402.4,   0.2610,  34.6840,2,  34.6860,2,   -999.0,5,    221.0,2,   118.50,2,    31.80,2,     2.24,2,  0.0350,   -999
    09AR9501_1,  SR03,   203,  1,      4,      4,2,19950827,0438,-60.8735, 139.8302, 4491,   3801.2,   0.1170,  34.6770,2,  34.6800,2,   -999.0,5,    226.8,2,   119.50,2,    31.80,2,     2.23,2, -0.1430,   -999
    09AR9501_1,  SR03,   203,  1,      3,      3,2,19950827,0438,-60.8735, 139.8302, 4491,   4205.0,  -0.0250,  34.6720,2,  34.6750,2,   -999.0,5,    233.3,2,   116.50,2,    31.60,2,     2.21,2, -0.3210,   -999
    09AR9501_1,  SR03,   203,  1,      2,      2,2,19950827,0438,-60.8735, 139.8302, 4491,   4388.7,  -0.1090,  34.6680,2,  34.6720,2,   -999.0,5,    235.9,2,   122.00,2,    31.80,2,     2.22,2, -0.4220,   -999
    09AR9501_1,  SR03,   203,  1,      1,      1,2,19950827,0438,-60.8735, 139.8302, 4491,   4456.4,  -0.1290,  34.6660,2,  34.6690,2,   -999.0,5,    235.8,2,   122.90,2,    31.70,2,     2.20,2, -0.4480,   -999
    09AR9501_1,  SR03,   204,  1,     24,    120,2,19950827,1112,-60.3540, 139.8523, 4505,     12.1,  -0.5540,  33.9410,2,  33.9430,2,   -999.0,5,    340.9,2,    22.50,2,    28.10,2,     2.01,2, -0.5540,   -999
    09AR9501_1,  SR03,   204,  1,     23,     23,2,19950827,1112,-60.3540, 139.8523, 4505,     44.6,  -0.5840,  33.9440,2,  33.9430,2,   -999.0,5,    341.3,2,    22.50,2,    28.20,2,     2.01,2, -0.5850,   -999
    09AR9501_1,  SR03,   204,  1,     22,    222,2,19950827,1112,-60.3540, 139.8523, 4505,     95.7,  -0.6320,  33.9470,2,  33.9470,2,   -999.0,5,    341.7,2,    23.30,2,    28.40,2,     2.02,2, -0.6350,   -999
    09AR9501_1,  SR03,   204,  1,     21,     21,2,19950827,1112,-60.3540, 139.8523, 4505,    195.7,   0.8120,  34.2340,4,  34.1990,2,   -999.0,5,    264.5,2,    41.90,2,    32.00,2,     2.26,2,  0.8040,   -999
    09AR9501_1,  SR03,   204,  1,     20,     24,2,19950827,1112,-60.3540, 139.8523, 4505,    297.6,   2.0900,  34.4760,2,  34.4730,2,   -999.0,5,    179.9,2,    60.70,2,    34.50,2,     2.43,2,  2.0740,   -999
    09AR9501_1,  SR03,   204,  1,     19,    119,2,19950827,1112,-60.3540, 139.8523, 4505,    397.2,   2.1730,  34.5590,2,  34.5540,2,   -999.0,5,    172.8,2,    66.40,2,    34.10,2,     2.38,2,  2.1510,   -999
    09AR9501_1,  SR03,   204,  1,     18,    118,2,19950827,1112,-60.3540, 139.8523, 4505,    496.7,   2.1900,  34.6050,2,  34.6030,2,   -999.0,5,    172.6,2,    69.00,2,    33.50,2,     2.35,2,  2.1620,   -999
    09AR9501_1,  SR03,   204,  1,     17,    117,2,19950827,1112,-60.3540, 139.8523, 4505,    647.9,   2.1430,  34.6720,2,  34.6690,2,   -999.0,5,    176.5,2,    71.90,2,    32.20,2,     2.26,2,  2.1060,   -999
    09AR9501_1,  SR03,   204,  1,     16,    216,2,19950827,1112,-60.3540, 139.8523, 4505,    798.0,   2.0610,  34.7090,2,  34.7070,2,   -999.0,5,    182.7,2,    73.90,2,    31.20,2,     2.20,2,  2.0140,   -999
    09AR9501_1,  SR03,   204,  1,     15,    115,2,19950827,1112,-60.3540, 139.8523, 4505,    947.0,   1.9870,  34.7270,2,  34.7260,2,   -999.0,5,    187.1,2,    76.00,2,    30.40,2,     2.16,2,  1.9310,   -999
    09AR9501_1,  SR03,   204,  1,     14,    114,2,19950827,1112,-60.3540, 139.8523, 4505,   1097.4,   1.8880,  34.7400,2,  34.7420,2,   -999.0,5,    192.1,2,    78.00,2,    30.20,2,     2.13,2,  1.8220,   -999
    09AR9501_1,  SR03,   204,  1,     13,    113,2,19950827,1112,-60.3540, 139.8523, 4505,   1297.9,   1.7420,  34.7450,2,  34.7440,2,   -999.0,5,    228.6,4,    81.90,2,    29.90,2,     2.11,2,  1.6630,   -999
    09AR9501_1,  SR03,   204,  1,     12,    112,2,19950827,1112,-60.3540, 139.8523, 4505,   1495.5,   1.5870,  34.7440,2,  34.7440,2,   -999.0,5,    199.1,2,    89.00,2,    29.90,2,     2.11,2,  1.4960,   -999
    09AR9501_1,  SR03,   204,  1,     11,     11,2,19950827,1112,-60.3540, 139.8523, 4505,   1701.3,   1.4000,  34.7370,2,  34.7380,2,   -999.0,5,    200.7,2,    94.20,2,    30.30,2,     2.12,2,  1.2960,   -999
    09AR9501_1,  SR03,   204,  1,     10,     10,2,19950827,1112,-60.3540, 139.8523, 4505,   1899.7,   1.2360,  34.7320,2,  34.7310,2,   -999.0,5,    202.7,2,    99.90,2,    30.30,2,     2.13,2,  1.1190,   -999
    09AR9501_1,  SR03,   204,  1,      9,      9,2,19950827,1112,-60.3540, 139.8523, 4505,   2099.9,   1.0850,  34.7230,2,  34.7230,2,   -999.0,5,    204.3,2,   103.70,2,    30.60,2,     2.17,2,  0.9550,   -999
    09AR9501_1,  SR03,   204,  1,      8,      8,2,19950827,1112,-60.3540, 139.8523, 4505,   2399.7,   0.8440,  34.7100,2,  34.7100,2,   -999.0,5,    207.2,2,   108.50,2,    31.00,2,     2.19,2,  0.6940,   -999
    09AR9501_1,  SR03,   204,  1,      7,      7,2,19950827,1112,-60.3540, 139.8523, 4505,   2701.1,   0.6500,  34.7000,2,  34.7000,2,   -999.0,5,    210.2,2,   113.20,2,    31.20,2,     2.20,2,  0.4780,   -999
    09AR9501_1,  SR03,   204,  1,      6,      6,2,19950827,1112,-60.3540, 139.8523, 4505,   3000.2,   0.4690,  34.6910,2,  34.6910,2,   -999.0,5,    214.8,2,   115.80,2,    31.40,2,     2.23,2,  0.2750,   -999
    09AR9501_1,  SR03,   204,  1,      5,      5,2,19950827,1112,-60.3540, 139.8523, 4505,   3303.9,   0.2960,  34.6840,2,  34.6830,2,   -999.0,5,    219.8,2,   118.00,2,    31.30,2,     2.22,2,  0.0790,   -999
    09AR9501_1,  SR03,   204,  1,      4,      4,2,19950827,1112,-60.3540, 139.8523, 4505,   3603.2,   0.1870,  34.6790,2,  34.6830,2,   -999.0,5,    224.3,2,   118.90,2,    31.20,2,     2.24,2, -0.0560,   -999
    09AR9501_1,  SR03,   204,  1,      3,      3,2,19950827,1112,-60.3540, 139.8523, 4505,   4009.2,   0.0520,  34.6760,2,  34.6780,2,   -999.0,5,    230.1,2,   115.70,2,    31.40,2,     2.21,2, -0.2270,   -999
    09AR9501_1,  SR03,   204,  1,      2,      2,2,19950827,1112,-60.3540, 139.8523, 4505,   4411.4,  -0.0790,  34.6680,3,  34.6710,2,   -999.0,5,    237.0,2,   110.60,2,    31.00,2,     2.22,2, -0.3950,   -999
    09AR9501_1,  SR03,   204,  1,      1,      1,2,19950827,1112,-60.3540, 139.8523, 4505,   4500.2,  -0.1290,  34.6640,2,  34.6670,2,   -999.0,5,    239.2,2,   113.00,2,    31.10,2,     2.21,2, -0.4530,   -999
    09AR9501_1,  SR03,   205,  1,     24,    120,2,19950829,1703,-52.1155, 143.5067, 3543,     10.6,   5.6090,  34.0800,2,  34.0810,2,   -999.0,5,    296.3,2,     3.90,2,    21.00,2,     1.51,2,  5.6090,   -999
    09AR9501_1,  SR03,   205,  1,     23,     23,2,19950829,1703,-52.1155, 143.5067, 3543,     21.6,   5.6140,  34.0800,2,  34.0810,2,   -999.0,5,    296.3,2,     3.90,2,    21.10,2,     1.52,2,  5.6140,   -999
    09AR9501_1,  SR03,   205,  1,     22,    222,2,19950829,1703,-52.1155, 143.5067, 3543,     46.3,   5.6230,  34.0810,2,  34.0810,2,   -999.0,5,    296.1,2,     3.70,2,    21.10,2,     1.52,2,  5.6210,   -999
    09AR9501_1,  SR03,   205,  1,     21,     21,2,19950829,1703,-52.1155, 143.5067, 3543,     96.0,   5.7150,  34.1000,3,  34.1000,2,   -999.0,5,    294.4,2,     3.90,2,    21.00,2,     1.52,2,  5.7090,   -999
    09AR9501_1,  SR03,   205,  1,     20,     24,2,19950829,1703,-52.1155, 143.5067, 3543,    145.9,   5.7600,  34.1080,3,  34.1060,2,   -999.0,5,    294.0,2,     3.80,2,    20.90,2,     1.52,2,  5.7490,   -999
    09AR9501_1,  SR03,   205,  1,     19,    119,2,19950829,1703,-52.1155, 143.5067, 3543,    228.1,   6.7290,  34.3450,2,  34.3430,2,   -999.0,5,    254.2,2,     7.80,2,    21.70,2,     1.56,2,  6.7100,   -999
    09AR9501_1,  SR03,   205,  1,     18,    118,2,19950829,1703,-52.1155, 143.5067, 3543,    297.9,   6.2080,  34.3170,3,  34.3160,2,   -999.0,5,    250.3,2,     9.80,2,    23.00,2,     1.66,2,  6.1830,   -999
    09AR9501_1,  SR03,   205,  1,     17,    117,2,19950829,1703,-52.1155, 143.5067, 3543,    380.6,   5.5350,  34.2950,4,  34.2970,2,   -999.0,5,    238.4,2,    13.40,2,    25.50,2,     1.82,2,  5.5050,   -999
    09AR9501_1,  SR03,   205,  1,     16,    216,2,19950829,1703,-52.1155, 143.5067, 3543,    498.8,   4.3320,  34.2360,4,  34.2340,2,   -999.0,5,    240.5,2,    18.50,2,    28.00,2,     2.00,2,  4.2960,   -999
    09AR9501_1,  SR03,   205,  1,     15,    115,2,19950829,1703,-52.1155, 143.5067, 3543,    617.6,   3.8860,  34.2810,2,  34.2790,2,   -999.0,5,    224.3,2,    26.40,2,    30.30,2,     2.15,2,  3.8430,   -999
    09AR9501_1,  SR03,   205,  1,     14,    114,2,19950829,1703,-52.1155, 143.5067, 3543,    699.4,   3.5570,  34.2980,2,  34.2990,2,   -999.0,5,    218.1,2,    31.50,2,    31.00,2,     2.23,2,  3.5090,   -999
    09AR9501_1,  SR03,   205,  1,     13,    113,2,19950829,1703,-52.1155, 143.5067, 3543,    799.5,   3.2540,  34.3360,3,  34.3350,2,   -999.0,5,    206.3,2,    38.40,2,    31.90,2,     2.29,2,  3.2000,   -999
    09AR9501_1,  SR03,   205,  1,     12,    112,2,19950829,1703,-52.1155, 143.5067, 3543,    906.7,   2.9380,  34.3970,2,  34.3960,2,   -999.0,5,    193.3,2,    47.00,2,    33.00,2,     2.37,2,  2.8780,   -999
    09AR9501_1,  SR03,   205,  1,     11,     11,2,19950829,1703,-52.1155, 143.5067, 3543,   1096.5,   2.6510,  34.4910,3,  34.4900,2,   -999.0,5,    180.1,2,    58.30,2,    33.70,2,     2.43,2,  2.5790,   -999
    09AR9501_1,  SR03,   205,  1,     10,     10,2,19950829,1703,-52.1155, 143.5067, 3543,   1301.6,   2.5450,  34.5910,2,  34.5900,2,   -999.0,5,    174.8,2,    65.30,2,    33.10,2,     2.38,2,  2.4590,   -999
    09AR9501_1,  SR03,   205,  1,      9,      9,2,19950829,1703,-52.1155, 143.5067, 3543,   1497.8,   2.4380,  34.6590,2,  34.6590,2,   -999.0,5,    177.9,2,    68.90,2,    32.00,2,     2.31,2,  2.3370,   -999
    09AR9501_1,  SR03,   205,  1,      8,      8,2,19950829,1703,-52.1155, 143.5067, 3543,   1696.8,   2.3520,  34.6970,2,  34.6970,2,   -999.0,5,    182.2,2,    70.80,2,    31.40,2,     2.25,2,  2.2360,   -999
    09AR9501_1,  SR03,   205,  1,      7,      7,2,19950829,1703,-52.1155, 143.5067, 3543,   1900.2,   2.2330,  34.7280,3,  34.7270,2,   -999.0,5,    188.1,2,    73.60,2,    30.60,2,     2.19,2,  2.1020,   -999
    09AR9501_1,  SR03,   205,  1,      6,      6,2,19950829,1703,-52.1155, 143.5067, 3543,   2100.8,   2.0820,  34.7440,2,  34.7430,2,   -999.0,5,    192.2,2,    78.10,2,    30.10,2,     2.17,2,  1.9360,   -999
    09AR9501_1,  SR03,   205,  1,      5,      5,2,19950829,1703,-52.1155, 143.5067, 3543,   2397.5,   1.8520,  34.7460,2,  34.7470,2,   -999.0,5,    193.7,2,    88.10,2,    30.50,2,     2.18,2,  1.6840,   -999
    09AR9501_1,  SR03,   205,  1,      4,      4,2,19950829,1703,-52.1155, 143.5067, 3543,   2702.9,   1.5400,  34.7380,2,  34.7390,2,   -999.0,5,    197.9,2,    97.60,2,    30.80,2,     2.22,2,  1.3500,   -999
    09AR9501_1,  SR03,   205,  1,      3,      3,2,19950829,1703,-52.1155, 143.5067, 3543,   3003.1,   1.2860,  34.7280,2,  34.7290,2,   -999.0,5,    202.1,2,   105.50,2,    31.10,2,     2.24,2,  1.0740,   -999
    09AR9501_1,  SR03,   205,  1,      2,      2,2,19950829,1703,-52.1155, 143.5067, 3543,   3289.9,   0.9740,  34.7140,2,  34.7140,2,   -999.0,5,    206.1,2,   115.60,2,    31.50,2,     2.29,2,  0.7420,   -999
    09AR9501_1,  SR03,   205,  1,      1,      1,2,19950829,1703,-52.1155, 143.5067, 3543,   3580.7,   0.9760,  34.7120,2,  34.7130,2,   -999.0,5,    206.4,2,   115.80,2,    31.60,2,     2.28,2,  0.7150,   -999