BOTTLE,20020620WHPSIOKJU
EXPOCODE,SECT_ID,STNNBR,CASTNO,SAMPNO,BTLNBR,BTLNBR_FLAG_W,DATE,TIME,LATITUDE,LONGITUDE,DEPTH,CTDPRS,CTDTMP,CTDSAL,CTDSAL_FLAG_W,SALNTY,SALNTY_FLAG_W,CTDOXY,CTDOXY_FLAG_W,OXYGEN,OXYGEN_FLAG_W,SILCAT,SILCAT_FLAG_W,NO2+NO3,NO2+NO3_FLAG_W,PHSPHT,PHSPHT_FLAG_W,THETA,CTDRAW
,,,,,,,,,,,,DBAR,DEG C,PSS-78,,PSS-78,,UMOL/KG,,UMOL/KG,,UMOL/KG,,UMOL/KG,,UMOL/KG,,DEG C,
    09AR9501_1,  SR03,    19,  1,     24,     24,2,19950722,2056,-50.4005, 143.5847, 3583,     12.0,   7.6800,  34.3700,2,  34.3720,2,   -999.0,5,    211.9,4,     3.60,2,    17.30,2,     1.19,2,  7.6810,   -999
    09AR9501_1,  SR03,    19,  1,     23,     23,2,19950722,2056,-50.4005, 143.5847, 3583,     46.8,   7.6460,  34.3640,2,  34.3650,2,   -999.0,5,    276.1,2,     3.50,2,    17.40,2,     1.20,2,  7.6430,   -999
    09AR9501_1,  SR03,    19,  1,     22,     22,2,19950722,2056,-50.4005, 143.5847, 3583,     96.1,   7.7820,  34.3890,2,  34.3890,2,   -999.0,5,    274.7,2,     3.50,2,    17.00,2,     1.19,2,  7.7740,   -999
    09AR9501_1,  SR03,    19,  1,     21,     21,2,19950722,2056,-50.4005, 143.5847, 3583,    145.2,   7.8300,  34.3970,2,  34.3960,2,   -999.0,5,    274.2,2,     3.50,2,    17.00,2,     1.19,2,  7.8180,   -999
    09AR9501_1,  SR03,    19,  1,     20,    120,2,19950722,2056,-50.4005, 143.5847, 3583,    195.0,   7.6080,  34.3550,2,  34.3570,2,   -999.0,5,    276.5,2,     3.40,2,    17.60,2,     1.22,2,  7.5910,   -999
    09AR9501_1,  SR03,    19,  1,     19,    119,4,19950722,2056,-50.4005, 143.5847, 3583,    276.5,   8.3930,  34.5260,3,  34.4720,4,   -999.0,5,   -999.0,9,    12.50,4,    20.60,4,     1.41,4,  8.3660,   -999
    09AR9501_1,  SR03,    19,  1,     18,    118,4,19950722,2056,-50.4005, 143.5847, 3583,    397.6,   7.2900,  34.4090,2,  34.3880,4,   -999.0,5,   -999.0,9,    12.10,4,    22.60,4,     1.55,4,  7.2530,   -999
    09AR9501_1,  SR03,    19,  1,     17,    117,4,19950722,2056,-50.4005, 143.5847, 3583,    496.8,   6.7340,  34.3840,2,  34.5310,4,   -999.0,5,   -999.0,9,    36.40,4,    27.00,4,     1.82,4,  6.6900,   -999
    09AR9501_1,  SR03,    19,  1,     16,    216,2,19950722,2056,-50.4005, 143.5847, 3583,    596.0,   5.6620,  34.3130,2,  34.3150,2,   -999.0,5,    227.8,2,    85.90,4,    31.10,4,     2.14,4,  5.6130,   -999
    09AR9501_1,  SR03,    19,  1,     15,    115,2,19950722,2056,-50.4005, 143.5847, 3583,    696.8,   5.0890,  34.3170,2,  34.3180,2,   -999.0,5,    217.6,2,    20.70,2,    27.80,2,     1.89,2,  5.0330,   -999
    09AR9501_1,  SR03,    19,  1,     14,    114,2,19950722,2056,-50.4005, 143.5847, 3583,    797.7,   4.4900,  34.3200,3,  34.3170,2,   -999.0,5,    211.4,2,    26.70,2,    29.80,2,     2.01,2,  4.4290,   -999
    09AR9501_1,  SR03,    19,  1,     13,    113,2,19950722,2056,-50.4005, 143.5847, 3583,    896.0,   3.9110,  34.3180,3,  34.3170,2,   -999.0,5,    208.6,2,    32.50,2,    30.70,2,     2.12,2,  3.8460,   -999
    09AR9501_1,  SR03,    19,  1,     12,     12,2,19950722,2056,-50.4005, 143.5847, 3583,   1001.1,   3.4840,  34.3430,2,  34.3450,2,   -999.0,5,    199.5,2,    39.80,2,    31.90,2,     2.21,2,  3.4130,   -999
    09AR9501_1,  SR03,    19,  1,     11,     11,2,19950722,2056,-50.4005, 143.5847, 3583,   1187.5,   2.9850,  34.4180,2,  34.4180,2,   -999.0,5,    184.3,2,    52.10,2,    33.00,2,     2.29,2,  2.9040,   -999
    09AR9501_1,  SR03,    19,  1,     10,     10,2,19950722,2056,-50.4005, 143.5847, 3583,   1397.9,   2.6680,  34.5140,3,  34.5160,2,   -999.0,5,    174.7,2,    62.80,2,    33.60,2,     2.32,2,  2.5730,   -999
    09AR9501_1,  SR03,    19,  1,      9,      9,2,19950722,2056,-50.4005, 143.5847, 3583,   1600.0,   2.5630,  34.5930,2,  34.5950,2,   -999.0,5,    170.3,2,    68.10,2,    32.90,2,     2.28,2,  2.4530,   -999
    09AR9501_1,  SR03,    19,  1,      8,      8,2,19950722,2056,-50.4005, 143.5847, 3583,   1799.9,   2.4470,  34.6650,2,  34.6650,2,   -999.0,5,    174.5,2,    71.60,2,    31.70,2,     2.20,2,  2.3210,   -999
    09AR9501_1,  SR03,    19,  1,      7,      7,2,19950722,2056,-50.4005, 143.5847, 3583,   2000.1,   2.3450,  34.7070,2,  34.7070,2,   -999.0,5,    178.9,2,    74.30,2,    31.30,2,     2.12,2,  2.2040,   -999
    09AR9501_1,  SR03,    19,  1,      6,      6,2,19950722,2056,-50.4005, 143.5847, 3583,   2302.8,   2.1560,  34.7370,2,  34.7400,2,   -999.0,5,    184.3,2,    80.00,2,    30.20,2,     2.11,2,  1.9910,   -999
    09AR9501_1,  SR03,    19,  1,      5,      5,2,19950722,2056,-50.4005, 143.5847, 3583,   2603.9,   1.9240,  34.7460,2,  34.7490,2,   -999.0,5,    190.6,2,    84.70,2,    30.00,2,     2.08,2,  1.7360,   -999
    09AR9501_1,  SR03,    19,  1,      4,      4,2,19950722,2056,-50.4005, 143.5847, 3583,   2903.5,   1.6010,  34.7410,2,  34.7670,2,   -999.0,5,    195.1,2,    93.10,2,    30.40,2,     2.10,2,  1.3910,   -999
    09AR9501_1,  SR03,    19,  1,      3,      3,2,19950722,2056,-50.4005, 143.5847, 3583,   3202.9,   1.3420,  34.7280,2,  34.7290,2,   -999.0,5,    197.4,2,   101.20,2,    30.50,2,     2.14,2,  1.1090,   -999
    09AR9501_1,  SR03,    19,  1,      2,      2,2,19950722,2056,-50.4005, 143.5847, 3583,   3446.3,   1.2250,  34.7230,2,  34.7230,2,   -999.0,5,    198.2,2,   105.00,2,    31.00,2,     2.16,2,  0.9710,   -999
    09AR9501_1,  SR03,    19,  1,      1,      1,2,19950722,2056,-50.4005, 143.5847, 3583,   3654.5,   1.1900,  34.7190,2,  34.7210,2,   -999.0,5,    198.8,2,   106.40,2,    30.90,2,     2.17,2,  0.9160,   -999
    09AR9501_1,  SR03,    20,  1,     24,     24,2,19950723,0157,-50.7070, 143.4543, 3655,      9.8,   6.7620,  34.2170,2,  34.2160,2,   -999.0,5,    283.2,2,     3.30,2,    18.80,2,     1.30,2,  6.7630,   -999
    09AR9501_1,  SR03,    20,  1,     23,     23,2,19950723,0157,-50.7070, 143.4543, 3655,     21.2,   6.7470,  34.2170,2,  34.2180,2,   -999.0,5,    283.9,2,     3.30,2,    18.80,2,     1.31,2,  6.7470,   -999
    09AR9501_1,  SR03,    20,  1,     22,     22,2,19950723,0157,-50.7070, 143.4543, 3655,     46.9,   6.7460,  34.2210,2,  34.2220,2,   -999.0,5,    283.4,2,     3.20,2,    18.90,2,     1.30,2,  6.7430,   -999
    09AR9501_1,  SR03,    20,  1,     21,     21,2,19950723,0157,-50.7070, 143.4543, 3655,     95.4,   6.7490,  34.2210,2,  34.2220,2,   -999.0,5,    283.4,2,     3.20,2,    18.70,2,     1.31,2,  6.7420,   -999
    09AR9501_1,  SR03,    20,  1,     20,    120,2,19950723,0157,-50.7070, 143.4543, 3655,    146.7,   6.7540,  34.2220,2,  34.2220,2,   -999.0,5,    283.2,2,     3.10,2,    18.70,2,     1.31,2,  6.7420,   -999
    09AR9501_1,  SR03,    20,  1,     19,    119,2,19950723,0157,-50.7070, 143.4543, 3655,    196.9,   6.7640,  34.2210,2,  34.2240,2,   -999.0,5,    282.6,2,     3.10,2,    18.70,2,     1.31,2,  6.7480,   -999
    09AR9501_1,  SR03,    20,  1,     18,    118,2,19950723,0157,-50.7070, 143.4543, 3655,    257.2,   7.5580,  34.4250,2,  34.4250,2,   -999.0,5,    247.5,2,     7.60,2,    19.90,2,     1.38,2,  7.5350,   -999
    09AR9501_1,  SR03,    20,  1,     17,    117,2,19950723,0157,-50.7070, 143.4543, 3655,    396.6,   6.3920,  34.3190,3,  34.3190,2,   -999.0,5,    247.0,2,    10.10,2,    22.60,2,     1.55,2,  6.3580,   -999
    09AR9501_1,  SR03,    20,  1,     16,    216,2,19950723,0157,-50.7070, 143.4543, 3655,    497.0,   5.5320,  34.2690,4,  34.2700,2,   -999.0,5,    238.6,2,    13.70,2,    24.80,2,     1.72,2,  5.4920,   -999
    09AR9501_1,  SR03,    20,  1,     15,    115,2,19950723,0157,-50.7070, 143.4543, 3655,    616.4,   5.0210,  34.3040,2,  34.3030,2,   -999.0,5,    219.3,2,    20.20,2,    27.20,2,     1.90,2,  4.9730,   -999
    09AR9501_1,  SR03,    20,  1,     14,    114,2,19950723,0157,-50.7070, 143.4543, 3655,    695.4,   4.5320,  34.3050,2,  34.2990,2,   -999.0,5,    215.2,2,    24.40,2,    28.70,2,     1.99,2,  4.4790,   -999
    09AR9501_1,  SR03,    20,  1,     13,    113,2,19950723,0157,-50.7070, 143.4543, 3655,    846.1,   3.7300,  34.3250,4,  34.3200,2,   -999.0,5,    205.3,2,    34.40,2,    30.60,2,     2.15,2,  3.6700,   -999
    09AR9501_1,  SR03,    20,  1,     12,     12,2,19950723,0157,-50.7070, 143.4543, 3655,    999.7,   3.2580,  34.3740,2,  34.3700,2,   -999.0,5,    192.5,2,    44.80,2,    31.90,2,     2.24,2,  3.1890,   -999
    09AR9501_1,  SR03,    20,  1,     11,     11,2,19950723,0157,-50.7070, 143.4543, 3655,   1196.7,   2.8680,  34.4490,2,  34.4460,2,   -999.0,5,    179.7,2,    55.30,2,    32.80,2,     2.31,2,  2.7870,   -999
    09AR9501_1,  SR03,    20,  1,     10,     10,2,19950723,0157,-50.7070, 143.4543, 3655,   1396.8,   2.6600,  34.5370,2,  34.5370,2,   -999.0,5,    171.8,2,    63.70,2,    32.60,2,     2.32,2,  2.5650,   -999
    09AR9501_1,  SR03,    20,  1,      9,      9,2,19950723,0157,-50.7070, 143.4543, 3655,   1598.8,   2.5320,  34.6180,2,  34.6150,2,   -999.0,5,    171.5,2,    68.50,2,    32.00,2,     2.25,2,  2.4220,   -999
    09AR9501_1,  SR03,    20,  1,      8,      8,2,19950723,0157,-50.7070, 143.4543, 3655,   1797.3,   2.4220,  34.6790,2,  34.6780,2,   -999.0,5,    174.5,2,    73.10,2,    31.00,2,     2.19,2,  2.2970,   -999
    09AR9501_1,  SR03,    20,  1,      7,      7,2,19950723,0157,-50.7070, 143.4543, 3655,   1997.8,   2.3100,  34.7160,2,  34.7130,2,   -999.0,5,    180.2,2,    74.60,2,    30.20,2,     2.13,2,  2.1690,   -999
    09AR9501_1,  SR03,    20,  1,      6,      6,2,19950723,0157,-50.7070, 143.4543, 3655,   2198.8,   2.1830,  34.7360,2,  34.7340,2,   -999.0,5,    184.3,2,    78.10,2,    29.90,2,     2.10,2,  2.0270,   -999
    09AR9501_1,  SR03,    20,  1,      5,      5,2,19950723,0157,-50.7070, 143.4543, 3655,   2498.3,   1.9510,  34.7470,2,  34.7470,2,   -999.0,5,    190.2,2,    83.80,2,    29.60,2,     2.07,2,  1.7720,   -999
    09AR9501_1,  SR03,    20,  1,      4,      4,2,19950723,0157,-50.7070, 143.4543, 3655,   2800.0,   1.6130,  34.7410,2,  34.7390,2,   -999.0,5,    194.7,2,    91.40,2,    29.80,2,     2.09,2,  1.4130,   -999
    09AR9501_1,  SR03,    20,  1,      3,      3,2,19950723,0157,-50.7070, 143.4543, 3655,   3100.7,   1.3680,  34.7300,2,  34.7290,2,   -999.0,5,    196.6,2,   100.30,2,    30.20,2,     2.13,2,  1.1450,   -999
    09AR9501_1,  SR03,    20,  1,      2,      2,2,19950723,0157,-50.7070, 143.4543, 3655,   3353.3,   1.2550,  34.7240,2,  34.7250,2,   -999.0,5,    198.3,2,   103.50,2,    30.20,2,     2.14,2,  1.0100,   -999
    09AR9501_1,  SR03,    20,  1,      1,      1,2,19950723,0157,-50.7070, 143.4543, 3655,   3556.5,   1.1020,  34.7170,2,  34.7190,2,   -999.0,5,    199.4,2,   108.10,2,    30.90,2,     2.18,2,  0.8400,   -999
    09AR9501_1,  SR03,    21,  1,     24,     24,2,19950723,0634,-51.0030, 143.2937, 3808,     11.5,   6.6830,  34.2170,2,  34.2180,2,   -999.0,5,    284.4,2,     3.20,2,    19.00,2,     1.33,2,  6.6840,   -999
    09AR9501_1,  SR03,    21,  1,     23,     23,2,19950723,0634,-51.0030, 143.2937, 3808,     48.1,   6.6890,  34.2180,2,  34.2180,2,   -999.0,5,    283.9,2,     3.10,2,    19.00,2,     1.34,2,  6.6860,   -999
    09AR9501_1,  SR03,    21,  1,     22,     22,2,19950723,0634,-51.0030, 143.2937, 3808,     96.8,   6.6960,  34.2200,2,  34.2190,2,   -999.0,5,    283.6,2,     3.10,2,    18.90,2,     1.34,2,  6.6890,   -999
    09AR9501_1,  SR03,    21,  1,     21,     21,2,19950723,0634,-51.0030, 143.2937, 3808,    147.6,   6.7080,  34.2210,2,  34.2200,2,   -999.0,5,    283.3,2,     3.20,2,    18.90,2,     1.34,2,  6.6960,   -999
    09AR9501_1,  SR03,    21,  1,     20,    120,2,19950723,0634,-51.0030, 143.2937, 3808,    197.6,   6.7060,  34.2220,2,  34.2200,2,   -999.0,5,    283.1,2,     3.10,2,    19.00,2,     1.35,2,  6.6900,   -999
    09AR9501_1,  SR03,    21,  1,     19,    119,2,19950723,0634,-51.0030, 143.2937, 3808,    265.9,   7.0640,  34.3700,3,  34.3690,2,   -999.0,5,    257.3,2,     7.40,2,    20.50,2,     1.43,2,  7.0410,   -999
    09AR9501_1,  SR03,    21,  1,     18,    118,2,19950723,0634,-51.0030, 143.2937, 3808,    346.1,   6.0550,  34.2630,3,  34.2660,2,   -999.0,5,    257.6,2,     9.30,2,    22.70,2,     1.59,2,  6.0270,   -999
    09AR9501_1,  SR03,    21,  1,     17,    117,2,19950723,0634,-51.0030, 143.2937, 3808,    496.8,   5.6660,  34.3210,2,  34.3200,2,   -999.0,5,    223.4,2,    15.70,2,    26.30,2,     1.82,2,  5.6250,   -999
    09AR9501_1,  SR03,    21,  1,     16,    216,2,19950723,0634,-51.0030, 143.2937, 3808,    596.6,   5.0710,  34.3130,4,  34.3120,2,   -999.0,5,    217.4,2,    20.00,2,    27.90,2,     1.93,2,  5.0240,   -999
    09AR9501_1,  SR03,    21,  1,     15,    115,2,19950723,0634,-51.0030, 143.2937, 3808,    697.5,   4.2760,  34.3020,3,  34.2990,2,   -999.0,5,    215.0,2,    26.30,2,    29.70,2,     2.08,2,  4.2250,   -999
    09AR9501_1,  SR03,    21,  1,     14,    114,2,19950723,0634,-51.0030, 143.2937, 3808,    794.6,   3.8100,  34.3120,2,  34.3100,2,   -999.0,5,    209.0,2,    32.00,2,    30.90,2,     2.16,2,  3.7530,   -999
    09AR9501_1,  SR03,    21,  1,     13,    113,2,19950723,0634,-51.0030, 143.2937, 3808,    997.7,   3.1650,  34.3730,3,  34.3690,2,   -999.0,5,    192.9,2,    44.90,2,    32.90,2,     2.29,2,  3.0970,   -999
    09AR9501_1,  SR03,    21,  1,     12,     12,2,19950723,0634,-51.0030, 143.2937, 3808,   1198.1,   2.7870,  34.4640,2,  34.4630,2,   -999.0,5,    178.0,2,    57.40,2,    33.50,2,     2.36,2,  2.7070,   -999
    09AR9501_1,  SR03,    21,  1,     11,     11,2,19950723,0634,-51.0030, 143.2937, 3808,   1399.9,   2.6270,  34.5500,2,  34.5480,2,   -999.0,5,    171.4,2,    65.00,2,    33.30,2,     2.35,2,  2.5320,   -999
    09AR9501_1,  SR03,    21,  1,     10,     10,2,19950723,0634,-51.0030, 143.2937, 3808,   1598.3,   2.5090,  34.6280,2,  34.6260,2,   -999.0,5,    171.5,2,    69.50,2,    32.50,2,     2.28,2,  2.3990,   -999
    09AR9501_1,  SR03,    21,  1,      9,      9,2,19950723,0634,-51.0030, 143.2937, 3808,   1799.7,   2.3890,  34.6830,2,  34.6810,2,   -999.0,5,    174.9,2,    73.50,2,    31.60,2,     2.22,2,  2.2640,   -999
    09AR9501_1,  SR03,    21,  1,      8,      8,2,19950723,0634,-51.0030, 143.2937, 3808,   1999.1,   2.2740,  34.7170,2,  34.7150,2,   -999.0,5,    180.9,2,    75.20,2,    30.90,2,     2.16,2,  2.1340,   -999
    09AR9501_1,  SR03,    21,  1,      7,      7,2,19950723,0634,-51.0030, 143.2937, 3808,   2199.7,   2.1410,  34.7360,2,  34.7350,2,   -999.0,5,    184.9,2,    79.20,2,    30.40,2,     2.13,2,  1.9850,   -999
    09AR9501_1,  SR03,    21,  1,      6,      6,2,19950723,0634,-51.0030, 143.2937, 3808,   2500.6,   1.9040,  34.7480,2,  34.7480,2,   -999.0,5,    191.2,2,    84.30,2,    30.10,2,     2.11,2,  1.7250,   -999
    09AR9501_1,  SR03,    21,  1,      5,      5,2,19950723,0634,-51.0030, 143.2937, 3808,   2801.2,   1.6310,  34.7430,2,  34.7430,2,   -999.0,5,    195.0,2,    93.60,2,    30.30,2,     2.12,2,  1.4300,   -999
    09AR9501_1,  SR03,    21,  1,      4,      4,2,19950723,0634,-51.0030, 143.2937, 3808,   3101.5,   1.3550,  34.7300,2,  34.7290,2,   -999.0,5,    197.6,2,   103.50,2,    30.80,2,     2.16,2,  1.1320,   -999
    09AR9501_1,  SR03,    21,  1,      3,      3,2,19950723,0634,-51.0030, 143.2937, 3808,   3402.4,   1.1560,  34.7200,2,  34.7200,2,   -999.0,5,    198.8,2,   111.40,2,    31.40,2,     2.18,2,  0.9080,   -999
    09AR9501_1,  SR03,    21,  1,      2,      2,2,19950723,0634,-51.0030, 143.2937, 3808,   3754.4,   1.0350,  34.7130,2,  34.7150,2,   -999.0,5,    199.6,2,   114.10,2,    31.50,2,     2.21,2,  0.7550,   -999
    09AR9501_1,  SR03,    21,  1,      1,      1,2,19950723,0634,-51.0030, 143.2937, 3808,   3879.2,   1.0120,  34.7110,2,  34.7110,2,   -999.0,5,    200.0,2,   116.50,2,    31.60,2,     2.21,2,  0.7200,   -999