BOTTLE,20020620WHPSIOKJU
EXPOCODE,SECT_ID,STNNBR,CASTNO,SAMPNO,BTLNBR,BTLNBR_FLAG_W,DATE,TIME,LATITUDE,LONGITUDE,DEPTH,CTDPRS,CTDTMP,CTDSAL,CTDSAL_FLAG_W,SALNTY,SALNTY_FLAG_W,CTDOXY,CTDOXY_FLAG_W,OXYGEN,OXYGEN_FLAG_W,SILCAT,SILCAT_FLAG_W,NO2+NO3,NO2+NO3_FLAG_W,PHSPHT,PHSPHT_FLAG_W,THETA,CTDRAW
,,,,,,,,,,,,DBAR,DEG C,PSS-78,,PSS-78,,UMOL/KG,,UMOL/KG,,UMOL/KG,,UMOL/KG,,UMOL/KG,,DEG C,
    09AR9501_1,  SR03,    40,  1,     24,     24,2,19950728,0720,-59.3555, 139.8538, 4218,      9.6,  -0.0600,  33.9100,3,  33.9120,2,    340.9,2,    340.9,2,    20.00,2,    28.20,2,     1.97,2, -0.0600,   -999
    09AR9501_1,  SR03,    40,  1,     23,     23,2,19950728,0720,-59.3555, 139.8538, 4218,     24.4,  -0.0880,  33.9310,2,  33.9310,2,   -999.0,5,    339.9,2,    21.20,2,    28.40,2,     1.99,2, -0.0890,   -999
    09AR9501_1,  SR03,    40,  1,     22,     22,2,19950728,0720,-59.3555, 139.8538, 4218,     48.2,  -0.0550,  33.9520,2,  33.9500,2,    333.3,2,    334.4,2,    24.50,2,    28.90,2,     2.03,2, -0.0570,   -999
    09AR9501_1,  SR03,    40,  1,     21,     21,2,19950728,0720,-59.3555, 139.8538, 4218,     98.4,   0.0570,  33.9960,3,  33.9950,2,    322.9,2,    324.4,2,    31.00,2,    29.70,2,     2.09,2,  0.0540,   -999
    09AR9501_1,  SR03,    40,  1,     20,    120,2,19950728,0720,-59.3555, 139.8538, 4218,    148.2,   1.8140,  34.2620,4,  34.2610,2,    217.7,2,    412.1,4,    49.00,2,    33.60,2,     2.36,2,  1.8070,   -999
    09AR9501_1,  SR03,    40,  1,     19,    119,2,19950728,0720,-59.3555, 139.8538, 4218,    198.4,   1.9720,  34.3310,2,  34.3290,2,    202.9,2,    208.3,2,    55.50,2,    34.20,2,     2.41,2,  1.9620,   -999
    09AR9501_1,  SR03,    40,  1,     18,    118,2,19950728,0720,-59.3555, 139.8538, 4218,    282.4,   2.1490,  34.4350,2,  34.4320,2,    185.8,2,    186.3,2,    63.30,2,    34.50,2,     2.47,2,  2.1340,   -999
    09AR9501_1,  SR03,    40,  1,     17,    117,2,19950728,0720,-59.3555, 139.8538, 4218,    348.0,   2.2050,  34.4910,2,  34.4900,2,    178.1,2,    178.0,2,    67.20,2,    34.60,2,     2.46,2,  2.1860,   -999
    09AR9501_1,  SR03,    40,  1,     16,    216,2,19950728,0720,-59.3555, 139.8538, 4218,    449.8,   2.2390,  34.5560,2,  34.5550,2,    173.3,2,    172.4,2,    70.80,2,    34.20,2,     2.44,2,  2.2140,   -999
    09AR9501_1,  SR03,    40,  1,     15,    115,2,19950728,0720,-59.3555, 139.8538, 4218,    598.2,   2.2230,  34.6240,2,  34.6230,2,    174.9,2,    173.3,2,    73.20,2,    33.20,2,     2.36,2,  2.1880,   -999
    09AR9501_1,  SR03,    40,  1,     14,    114,2,19950728,0720,-59.3555, 139.8538, 4218,    799.1,   2.1440,  34.6910,2,  34.6900,2,    179.0,2,    180.7,2,    75.40,2,    31.80,2,     2.26,2,  2.0970,   -999
    09AR9501_1,  SR03,    40,  1,     13,    113,2,19950728,0720,-59.3555, 139.8538, 4218,   1100.2,   1.9840,  34.7300,2,  34.7320,2,    186.7,2,    189.4,2,    78.80,2,    30.70,2,     2.19,2,  1.9170,   -999
    09AR9501_1,  SR03,    40,  1,     12,     12,2,19950728,0720,-59.3555, 139.8538, 4218,   1201.4,   1.9130,  34.7370,2,  34.7390,2,    189.7,2,    192.1,2,    82.80,2,    30.60,2,     2.14,2,  1.8400,   -999
    09AR9501_1,  SR03,    40,  1,     11,     11,2,19950728,0720,-59.3555, 139.8538, 4218,   1300.3,   1.8520,  34.7420,2,  34.7430,2,    192.3,2,    194.0,2,    84.40,2,    30.40,2,     2.14,2,  1.7720,   -999
    09AR9501_1,  SR03,    40,  1,     10,     10,2,19950728,0720,-59.3555, 139.8538, 4218,   1602.0,   1.5980,  34.7430,2,  34.7440,2,    201.4,2,    198.9,2,    91.40,2,    30.40,2,     2.14,2,  1.4990,   -999
    09AR9501_1,  SR03,    40,  1,      9,      9,2,19950728,0720,-59.3555, 139.8538, 4218,   2003.3,   1.2600,  34.7320,2,  34.7190,2,    206.2,2,    203.0,2,   101.60,2,    30.80,2,     2.17,2,  1.1350,   -999
    09AR9501_1,  SR03,    40,  1,      8,      8,2,19950728,0720,-59.3555, 139.8538, 4218,   2305.3,   1.0280,  34.7200,2,  34.7190,2,    208.7,2,    206.1,2,   108.50,2,    31.30,2,     2.20,2,  0.8820,   -999
    09AR9501_1,  SR03,    40,  1,      7,      7,2,19950728,0720,-59.3555, 139.8538, 4218,   2603.7,   0.8040,  34.7070,2,  34.7070,2,    211.4,2,    208.2,2,   114.20,2,    31.70,2,     2.23,2,  0.6370,   -999
    09AR9501_1,  SR03,    40,  1,      6,      6,2,19950728,0720,-59.3555, 139.8538, 4218,   2905.6,   0.5910,  34.6970,2,  34.6970,2,    215.4,2,    212.2,2,   119.50,2,    31.90,2,     2.25,2,  0.4030,   -999
    09AR9501_1,  SR03,    40,  1,      5,      5,2,19950728,0720,-59.3555, 139.8538, 4218,   3203.8,   0.4030,  34.6890,2,  34.6890,2,    219.5,2,    217.3,2,  -999.00,9,  -999.00,9,  -999.00,9,  0.1920,   -999
    09AR9501_1,  SR03,    40,  1,      4,      4,2,19950728,0720,-59.3555, 139.8538, 4218,   3506.2,   0.2730,  34.6830,2,  34.6850,2,    223.0,2,    221.2,2,   126.60,2,    32.00,2,     2.27,2,  0.0370,   -999
    09AR9501_1,  SR03,    40,  1,      3,      3,2,19950728,0720,-59.3555, 139.8538, 4218,   3806.0,   0.1730,  34.6790,2,  34.6810,2,    225.1,2,    224.9,2,   127.60,2,    31.90,2,     2.26,2, -0.0890,   -999
    09AR9501_1,  SR03,    40,  1,      2,      2,2,19950728,0720,-59.3555, 139.8538, 4218,   4122.4,   0.0470,  34.6750,2,  34.6760,2,    228.2,2,    231.4,2,   123.30,2,    31.90,2,     2.26,2, -0.2430,   -999
    09AR9501_1,  SR03,    40,  1,      1,      1,2,19950728,0720,-59.3555, 139.8538, 4218,   4216.6,   0.0000,  34.6740,2,  34.6740,2,    227.4,2,    231.5,2,   126.30,2,    31.90,2,     2.26,2, -0.2980,   -999
    09AR9501_1,  SR03,    41,  1,     24,     24,2,19950728,1632,-59.8373, 139.8552, 4587,      8.4,  -0.1180,  33.9110,2,  33.9120,2,    336.7,2,    337.6,2,    20.50,2,    27.80,2,     1.94,2, -0.1180,   -999
    09AR9501_1,  SR03,    41,  1,     23,     23,2,19950728,1632,-59.8373, 139.8552, 4587,     48.3,  -0.4390,  33.9460,2,  33.9460,2,    337.4,2,    336.3,2,    25.10,2,    28.30,2,     2.00,2, -0.4410,   -999
    09AR9501_1,  SR03,    41,  1,     22,     22,2,19950728,1632,-59.8373, 139.8552, 4587,    101.0,  -0.6310,  33.9740,2,  33.9750,2,    332.6,2,    340.2,2,    29.10,2,    28.80,2,     2.04,2, -0.6340,   -999
    09AR9501_1,  SR03,    41,  1,     21,     21,2,19950728,1632,-59.8373, 139.8552, 4587,    199.4,   1.8560,  34.3760,4,  34.3700,2,    183.6,2,    200.7,2,    59.10,2,    34.30,2,     2.44,2,  1.8460,   -999
    09AR9501_1,  SR03,    41,  1,     20,    120,2,19950728,1632,-59.8373, 139.8552, 4587,    300.2,   2.1270,  34.5070,2,  34.5050,2,    177.7,2,    176.8,2,    68.70,2,    34.40,2,     2.44,2,  2.1110,   -999
    09AR9501_1,  SR03,    41,  1,     19,    119,2,19950728,1632,-59.8373, 139.8552, 4587,    397.5,   2.1590,  34.5710,2,  34.5690,2,    176.6,2,    172.0,2,    72.00,2,    33.90,2,     2.39,2,  2.1370,   -999
    09AR9501_1,  SR03,    41,  1,     18,    118,2,19950728,1632,-59.8373, 139.8552, 4587,    498.4,   2.1220,  34.6160,2,  34.6140,2,    177.4,2,    174.1,2,    75.30,2,    33.20,2,     2.36,2,  2.0940,   -999
    09AR9501_1,  SR03,    41,  1,     17,    117,2,19950728,1632,-59.8373, 139.8552, 4587,    599.2,   2.1270,  34.6580,2,  34.6580,2,    178.4,2,    176.0,2,    76.40,2,    32.40,2,     2.30,2,  2.0930,   -999
    09AR9501_1,  SR03,    41,  1,     16,    216,2,19950728,1632,-59.8373, 139.8552, 4587,    749.9,   2.1180,  34.6970,2,  34.6960,2,    182.2,2,    181.6,2,    76.80,2,    31.60,2,     2.23,2,  2.0740,   -999
    09AR9501_1,  SR03,    41,  1,     15,    115,2,19950728,1632,-59.8373, 139.8552, 4587,    900.8,   2.0310,  34.7200,2,  34.7200,2,    183.8,2,    186.5,2,    79.80,2,    30.80,2,     2.19,2,  1.9780,   -999
    09AR9501_1,  SR03,    41,  1,     14,    114,2,19950728,1632,-59.8373, 139.8552, 4587,   1049.9,   1.9370,  34.7350,2,  34.7360,2,    186.8,2,    190.8,2,    82.50,2,    30.40,2,     2.16,2,  1.8740,   -999
    09AR9501_1,  SR03,    41,  1,     13,    113,2,19950728,1632,-59.8373, 139.8552, 4587,   1200.8,   1.8320,  34.7430,2,  34.7440,2,    189.4,2,    194.0,2,    85.60,2,    30.20,2,     2.14,2,  1.7590,   -999
    09AR9501_1,  SR03,    41,  1,     12,     12,2,19950728,1632,-59.8373, 139.8552, 4587,   1402.3,   1.6770,  34.7450,2,  34.7450,2,    196.1,2,    197.5,2,    91.10,2,    30.00,2,     2.12,2,  1.5920,   -999
    09AR9501_1,  SR03,    41,  1,     11,     11,2,19950728,1632,-59.8373, 139.8552, 4587,   1601.7,   1.5090,  34.7410,2,  34.7420,2,    198.8,2,    199.7,2,    96.40,2,    30.20,2,     2.14,2,  1.4110,   -999
    09AR9501_1,  SR03,    41,  1,     10,     10,2,19950728,1632,-59.8373, 139.8552, 4587,   1801.8,   1.3500,  34.7350,2,  34.7360,2,    200.7,2,    202.2,2,   101.60,2,    30.30,2,     2.16,2,  1.2390,   -999
    09AR9501_1,  SR03,    41,  1,      9,      9,2,19950728,1632,-59.8373, 139.8552, 4587,   2004.7,   1.1770,  34.7270,2,  34.7270,2,    205.1,2,    203.6,2,   105.10,2,    30.60,2,     2.19,2,  1.0530,   -999
    09AR9501_1,  SR03,    41,  1,      8,      8,2,19950728,1632,-59.8373, 139.8552, 4587,   2204.3,   1.0150,  34.7190,2,  34.7180,2,    208.9,2,    205.3,2,   111.50,2,    30.90,2,     2.20,2,  0.8770,   -999
    09AR9501_1,  SR03,    41,  1,      7,      7,2,19950728,1632,-59.8373, 139.8552, 4587,   2405.0,   0.8730,  34.7110,2,  34.7110,2,    209.9,2,    207.2,2,   113.50,2,    31.00,2,     2.22,2,  0.7220,   -999
    09AR9501_1,  SR03,    41,  1,      6,      6,2,19950728,1632,-59.8373, 139.8552, 4587,   2804.9,   0.5960,  34.6980,2,  34.6980,2,    215.8,2,    211.8,2,   120.70,2,    31.50,2,     2.25,2,  0.4160,   -999
    09AR9501_1,  SR03,    41,  1,      5,      5,2,19950728,1632,-59.8373, 139.8552, 4587,   3206.9,   0.3630,  34.6860,2,  34.6860,2,    219.2,2,    218.2,2,   122.60,2,    31.60,2,     2.27,2,  0.1530,   -999
    09AR9501_1,  SR03,    41,  1,      4,      4,2,19950728,1632,-59.8373, 139.8552, 4587,   3607.3,   0.2070,  34.6810,2,  34.6810,2,    224.6,2,    223.8,2,   124.40,2,    31.60,2,     2.28,2, -0.0360,   -999
    09AR9501_1,  SR03,    41,  1,      3,      3,2,19950728,1632,-59.8373, 139.8552, 4587,   4008.7,   0.0660,  34.6760,2,  34.6760,2,    230.1,2,    230.5,2,   120.30,2,    31.50,2,     2.26,2, -0.2130,   -999
    09AR9501_1,  SR03,    41,  1,      2,      2,2,19950728,1632,-59.8373, 139.8552, 4587,   4356.2,  -0.0540,  34.6730,2,  34.6720,2,    235.4,2,    235.6,2,   116.50,2,    31.30,2,     2.25,2, -0.3650,   -999
    09AR9501_1,  SR03,    41,  1,      1,      1,2,19950728,1632,-59.8373, 139.8552, 4587,   4539.1,  -0.1430,  34.6660,2,  34.6650,2,    239.7,2,    239.0,2,   121.00,2,    31.50,2,     2.25,2, -0.4700,   -999
    09AR9501_1,  SR03,    42,  1,     24,     24,2,19950729,0128,-60.3590, 139.8325, 4443,     10.9,  -0.6350,  34.0670,4,  33.9560,2,   -999.0,5,    342.2,2,    28.10,2,    28.70,2,     2.03,2, -0.6350,   -999
    09AR9501_1,  SR03,    42,  1,     23,     23,2,19950729,0128,-60.3590, 139.8325, 4443,     49.8,  -0.6230,  34.0710,4,  33.9570,2,   -999.0,5,    341.9,2,    28.10,2,    28.60,2,     2.03,2, -0.6250,   -999
    09AR9501_1,  SR03,    42,  1,     22,     22,2,19950729,0128,-60.3590, 139.8325, 4443,     99.9,  -0.6560,  34.0760,4,  33.9560,2,   -999.0,5,    342.5,2,    28.30,2,    28.70,2,     2.03,2, -0.6590,   -999
    09AR9501_1,  SR03,    42,  1,     21,     21,2,19950729,0128,-60.3590, 139.8325, 4443,    200.3,   1.9680,  34.5450,4,  34.4250,2,   -999.0,5,    188.8,2,    65.40,2,    34.70,2,     2.46,2,  1.9580,   -999
    09AR9501_1,  SR03,    42,  1,     20,    120,2,19950729,0128,-60.3590, 139.8325, 4443,    300.5,   2.2090,  34.6610,4,  34.5400,2,   -999.0,5,    174.3,2,    72.40,2,    34.00,2,     2.42,2,  2.1930,   -999
    09AR9501_1,  SR03,    42,  1,     19,    119,2,19950729,0128,-60.3590, 139.8325, 4443,    398.0,   2.1730,  34.7210,4,  34.6000,2,   -999.0,5,    172.5,2,    76.20,2,    33.40,2,     2.37,2,  2.1510,   -999
    09AR9501_1,  SR03,    42,  1,     18,    118,2,19950729,0128,-60.3590, 139.8325, 4443,    498.8,   2.1740,  34.7650,4,  34.6460,2,   -999.0,5,    175.7,2,    78.00,2,    32.50,2,     2.31,2,  2.1460,   -999
    09AR9501_1,  SR03,    42,  1,     17,    117,2,19950729,0128,-60.3590, 139.8325, 4443,    649.4,   2.1130,  34.8070,4,  34.6870,2,   -999.0,5,    180.4,2,    78.80,2,    31.50,2,     2.25,2,  2.0750,   -999
    09AR9501_1,  SR03,    42,  1,     16,    216,2,19950729,0128,-60.3590, 139.8325, 4443,    801.1,   2.0240,  34.8300,4,  34.7110,2,   -999.0,5,    184.4,2,    79.80,2,    31.00,2,     2.20,2,  1.9770,   -999
    09AR9501_1,  SR03,    42,  1,     15,    115,2,19950729,0128,-60.3590, 139.8325, 4443,    950.2,   1.9210,  34.8450,4,  34.7260,2,   -999.0,5,    188.6,2,    81.50,2,    30.60,2,     2.18,2,  1.8650,   -999
    09AR9501_1,  SR03,    42,  1,     14,    114,2,19950729,0128,-60.3590, 139.8325, 4443,   1099.4,   1.8300,  34.8570,4,  34.7380,2,   -999.0,5,    193.0,2,    87.10,2,    30.20,2,     2.15,2,  1.7640,   -999
    09AR9501_1,  SR03,    42,  1,     13,    113,2,19950729,0128,-60.3590, 139.8325, 4443,   1302.9,   1.6830,  34.8590,4,  34.7430,2,   -999.0,5,    196.6,2,    87.10,2,    29.90,2,     2.15,2,  1.6040,   -999
    09AR9501_1,  SR03,    42,  1,     12,     12,2,19950729,0128,-60.3590, 139.8325, 4443,   1502.6,   1.5220,  34.8550,4,  34.7390,2,   -999.0,5,    199.2,2,    93.90,2,    30.10,2,     2.13,2,  1.4310,   -999
    09AR9501_1,  SR03,    42,  1,     11,     11,2,19950729,0128,-60.3590, 139.8325, 4443,   1701.6,   1.3500,  34.8490,4,  34.7340,2,   -999.0,5,    201.7,2,    98.60,2,    30.20,2,     2.15,2,  1.2460,   -999
    09AR9501_1,  SR03,    42,  1,     10,     10,2,19950729,0128,-60.3590, 139.8325, 4443,   1902.4,   1.1700,  34.8420,4,  34.7260,2,   -999.0,5,    203.7,2,   103.70,2,    30.60,2,     2.17,2,  1.0530,   -999
    09AR9501_1,  SR03,    42,  1,      9,      9,2,19950729,0128,-60.3590, 139.8325, 4443,   2103.6,   1.0180,  34.8330,4,  34.7190,2,   -999.0,5,    205.3,2,   108.60,2,    30.90,2,     2.19,2,  0.8880,   -999
    09AR9501_1,  SR03,    42,  1,      8,      8,2,19950729,0128,-60.3590, 139.8325, 4443,   2403.4,   0.8120,  34.8210,4,  34.7080,2,   -999.0,5,    208.2,2,   114.60,2,    31.40,2,     2.21,2,  0.6610,   -999
    09AR9501_1,  SR03,    42,  1,      7,      7,2,19950729,0128,-60.3590, 139.8325, 4443,   2706.3,   0.6090,  34.8100,4,  34.6970,2,   -999.0,5,    211.7,2,   119.50,2,    31.60,2,     2.24,2,  0.4370,   -999
    09AR9501_1,  SR03,    42,  1,      6,      6,2,19950729,0128,-60.3590, 139.8325, 4443,   3004.9,   0.4170,  34.8000,4,  34.6870,2,   -999.0,5,    216.1,2,   123.60,2,    31.80,2,     2.25,2,  0.2230,   -999
    09AR9501_1,  SR03,    42,  1,      5,      5,2,19950729,0128,-60.3590, 139.8325, 4443,   3305.7,   0.2800,  34.7950,4,  34.6830,2,   -999.0,5,    220.4,2,   126.20,2,    31.70,2,     2.25,2,  0.0620,   -999
    09AR9501_1,  SR03,    42,  1,      4,      4,2,19950729,0128,-60.3590, 139.8325, 4443,   3607.1,   0.1800,  34.7930,4,  34.6800,2,   -999.0,5,    224.6,2,   129.00,2,    31.60,2,     2.25,2, -0.0630,   -999
    09AR9501_1,  SR03,    42,  1,      3,      3,2,19950729,0128,-60.3590, 139.8325, 4443,   4006.1,   0.0520,  34.7880,4,  34.6760,2,   -999.0,5,    230.1,2,   124.10,2,    31.40,2,     2.24,2, -0.2270,   -999
    09AR9501_1,  SR03,    42,  1,      2,      2,2,19950729,0128,-60.3590, 139.8325, 4443,   4408.8,  -0.0950,  34.7830,4,  34.6700,2,   -999.0,5,    237.0,2,   118.20,2,    31.20,2,     2.23,2, -0.4110,   -999
    09AR9501_1,  SR03,    42,  1,      1,      1,2,19950729,0128,-60.3590, 139.8325, 4443,   4504.0,  -0.1250,  34.7810,4,  34.6670,2,   -999.0,5,    237.6,2,   123.50,2,    31.30,2,     2.23,2, -0.4500,   -999