BOTTLE,20020620WHPSIOKJU
EXPOCODE,SECT_ID,STNNBR,CASTNO,SAMPNO,BTLNBR,BTLNBR_FLAG_W,DATE,TIME,LATITUDE,LONGITUDE,DEPTH,CTDPRS,CTDTMP,CTDSAL,CTDSAL_FLAG_W,SALNTY,SALNTY_FLAG_W,CTDOXY,CTDOXY_FLAG_W,OXYGEN,OXYGEN_FLAG_W,SILCAT,SILCAT_FLAG_W,NO2+NO3,NO2+NO3_FLAG_W,PHSPHT,PHSPHT_FLAG_W,THETA,CTDRAW
,,,,,,,,,,,,DBAR,DEG C,PSS-78,,PSS-78,,UMOL/KG,,UMOL/KG,,UMOL/KG,,UMOL/KG,,UMOL/KG,,DEG C,
    09AR9501_1,  SR03,   206,  1,     24,    120,2,19950829,2240,-51.8165, 143.6607, 3450,     12.2,   6.6750,  34.1910,2,  34.1940,2,   -999.0,5,    291.2,2,     2.70,2,    18.70,2,     1.38,2,  6.6760,   -999
    09AR9501_1,  SR03,   206,  1,     23,     23,2,19950829,2240,-51.8165, 143.6607, 3450,     46.0,   6.6860,  34.1940,2,  34.1940,2,   -999.0,5,    291.4,2,     2.70,2,    18.70,2,     1.38,2,  6.6840,   -999
    09AR9501_1,  SR03,   206,  1,     22,    222,2,19950829,2240,-51.8165, 143.6607, 3450,     96.0,   6.6900,  34.1940,2,  34.1940,2,   -999.0,5,    289.7,2,     2.70,2,    18.70,2,     1.38,2,  6.6830,   -999
    09AR9501_1,  SR03,   206,  1,     21,     21,2,19950829,2240,-51.8165, 143.6607, 3450,    165.5,   6.3940,  34.1530,3,  34.1540,2,   -999.0,5,    292.8,2,     2.90,2,    19.30,2,     1.42,2,  6.3810,   -999
    09AR9501_1,  SR03,   206,  1,     20,     24,2,19950829,2240,-51.8165, 143.6607, 3450,    256.5,   7.0240,  34.3620,4,  34.3610,2,   -999.0,5,    255.8,2,     6.80,2,    20.70,2,     1.49,2,  7.0020,   -999
    09AR9501_1,  SR03,   206,  1,     19,    119,2,19950829,2240,-51.8165, 143.6607, 3450,    343.4,   6.2110,  34.2940,4,  34.2960,2,   -999.0,5,    256.6,2,     9.20,2,    22.50,2,     1.63,2,  6.1820,   -999
    09AR9501_1,  SR03,   206,  1,     18,    118,2,19950829,2240,-51.8165, 143.6607, 3450,    499.3,   5.3700,  34.3130,4,  34.3140,2,   -999.0,5,    229.3,2,    16.00,2,    26.50,2,     1.88,2,  5.3300,   -999
    09AR9501_1,  SR03,   206,  1,     17,    117,2,19950829,2240,-51.8165, 143.6607, 3450,    597.6,   4.5040,  34.2810,4,  34.2740,2,   -999.0,5,    230.5,2,    20.20,2,    28.20,2,     2.02,2,  4.4600,   -999
    09AR9501_1,  SR03,   206,  1,     16,    216,2,19950829,2240,-51.8165, 143.6607, 3450,    695.0,   3.8770,  34.2880,2,  34.2870,2,   -999.0,5,    223.0,2,    27.00,2,    29.80,2,     2.17,2,  3.8280,   -999
    09AR9501_1,  SR03,   206,  1,     15,    115,2,19950829,2240,-51.8165, 143.6607, 3450,    798.5,   3.4510,  34.3110,2,  34.3090,2,   -999.0,5,    214.7,2,    33.80,2,    31.30,2,     2.25,2,  3.3960,   -999
    09AR9501_1,  SR03,   206,  1,     14,    114,2,19950829,2240,-51.8165, 143.6607, 3450,    899.3,   3.2350,  34.3620,3,  34.3630,2,   -999.0,5,    201.2,2,    41.30,2,    32.20,2,     2.32,2,  3.1740,   -999
    09AR9501_1,  SR03,   206,  1,     13,    113,2,19950829,2240,-51.8165, 143.6607, 3450,    997.8,   3.0670,  34.4050,3,  34.4040,2,   -999.0,5,    191.4,2,    47.70,2,    32.80,2,     2.38,2,  3.0000,   -999
    09AR9501_1,  SR03,   206,  1,     12,    112,2,19950829,2240,-51.8165, 143.6607, 3450,   1203.1,   2.7190,  34.5010,2,  34.5000,2,   -999.0,5,    179.0,2,    59.50,2,    33.80,2,     2.41,2,  2.6390,   -999
    09AR9501_1,  SR03,   206,  1,     11,     11,2,19950829,2240,-51.8165, 143.6607, 3450,   1401.8,   2.5700,  34.5830,2,  34.5840,2,   -999.0,5,    175.7,2,    66.20,2,    33.10,2,     2.38,2,  2.4760,   -999
    09AR9501_1,  SR03,   206,  1,     10,     10,2,19950829,2240,-51.8165, 143.6607, 3450,   1599.6,   2.4450,  34.6610,2,  34.6620,2,   -999.0,5,    177.9,2,    71.20,2,    32.00,2,     2.30,2,  2.3360,   -999
    09AR9501_1,  SR03,   206,  1,      9,      9,2,19950829,2240,-51.8165, 143.6607, 3450,   1799.5,   2.3400,  34.7050,2,  34.7050,2,   -999.0,5,    183.6,2,    73.90,2,    31.20,2,     2.21,2,  2.2160,   -999
    09AR9501_1,  SR03,   206,  1,      8,      8,2,19950829,2240,-51.8165, 143.6607, 3450,   1998.7,   2.2440,  34.7270,2,  34.7270,2,   -999.0,5,    187.5,2,    76.50,2,    30.50,2,     2.18,2,  2.1040,   -999
    09AR9501_1,  SR03,   206,  1,      7,      7,2,19950829,2240,-51.8165, 143.6607, 3450,   2202.4,   2.0670,  34.7410,2,  34.7380,2,   -999.0,5,    189.3,2,    82.20,2,    30.30,2,     2.18,2,  1.9120,   -999
    09AR9501_1,  SR03,   206,  1,      6,      6,2,19950829,2240,-51.8165, 143.6607, 3450,   2404.1,   1.8940,  34.7410,2,  34.7420,2,   -999.0,5,    188.0,2,    94.70,2,    30.80,2,     2.23,2,  1.7240,   -999
    09AR9501_1,  SR03,   206,  1,      5,      5,2,19950829,2240,-51.8165, 143.6607, 3450,   2608.1,   1.7390,  34.7460,2,  34.7460,2,   -999.0,5,    196.6,2,    93.80,2,    30.10,2,     2.18,2,  1.5540,   -999
    09AR9501_1,  SR03,   206,  1,      4,      4,2,19950829,2240,-51.8165, 143.6607, 3450,   2853.5,   1.5440,  34.7400,2,  34.7420,2,   -999.0,5,    199.9,2,    99.40,2,    30.30,2,     2.20,2,  1.3400,   -999
    09AR9501_1,  SR03,   206,  1,      3,      3,2,19950829,2240,-51.8165, 143.6607, 3450,   3075.4,   1.3170,  34.7290,2,  34.7310,2,   -999.0,5,    202.8,2,   106.30,2,    30.80,2,     2.22,2,  1.0970,   -999
    09AR9501_1,  SR03,   206,  1,      2,      2,2,19950829,2240,-51.8165, 143.6607, 3450,   3398.6,   1.1150,  34.7190,2,  34.7210,2,   -999.0,5,    205.3,2,   111.40,2,    31.00,2,     2.25,2,  0.8690,   -999
    09AR9501_1,  SR03,   206,  1,      1,      1,2,19950829,2240,-51.8165, 143.6607, 3450,   3694.3,   1.0280,  34.7140,2,  34.7150,2,   -999.0,5,    206.6,2,   115.20,2,    31.10,2,     2.27,2,  0.7540,   -999
    09AR9501_1,  SR03,   207,  1,     24,    120,2,19950830,0435,-51.5315, 143.7952, 3757,     10.2,   6.9800,  34.2370,2,  34.2380,2,   -999.0,5,    289.0,2,     3.00,2,    17.50,2,     1.34,2,  6.9810,   -999
    09AR9501_1,  SR03,   207,  1,     23,     23,2,19950830,0435,-51.5315, 143.7952, 3757,     46.7,   6.9710,  34.2340,2,  34.2340,2,   -999.0,5,    288.5,2,     2.90,2,    17.60,2,     1.35,2,  6.9680,   -999
    09AR9501_1,  SR03,   207,  1,     22,    222,2,19950830,0435,-51.5315, 143.7952, 3757,     99.5,   6.9260,  34.2270,4,  34.2280,2,   -999.0,5,    289.4,2,     2.90,2,    17.60,2,     1.36,2,  6.9190,   -999
    09AR9501_1,  SR03,   207,  1,     21,     21,2,19950830,0435,-51.5315, 143.7952, 3757,    149.0,   6.8120,  34.2090,3,  34.2120,2,   -999.0,5,    290.2,2,     3.00,2,    17.90,2,     1.37,2,  6.8000,   -999
    09AR9501_1,  SR03,   207,  1,     20,     24,2,19950830,0435,-51.5315, 143.7952, 3757,    250.6,   7.5360,  34.3670,4,  34.3630,2,   -999.0,5,    272.1,2,     5.10,2,    17.40,2,     1.34,2,  7.5130,   -999
    09AR9501_1,  SR03,   207,  1,     19,    119,2,19950830,0435,-51.5315, 143.7952, 3757,    299.0,   7.6670,  34.4420,4,  34.4510,2,   -999.0,5,    249.5,2,     6.70,2,    18.90,2,     1.42,2,  7.6390,   -999
    09AR9501_1,  SR03,   207,  1,     18,    118,2,19950830,0435,-51.5315, 143.7952, 3757,    398.9,   6.4620,  34.3250,4,  34.3270,2,   -999.0,5,    254.1,2,     8.80,2,    21.40,2,     1.60,2,  6.4280,   -999
    09AR9501_1,  SR03,   207,  1,     17,    117,2,19950830,0435,-51.5315, 143.7952, 3757,    497.5,   6.1540,  34.3780,3,  34.3790,2,   -999.0,5,    220.8,2,    13.80,2,    24.50,2,     1.80,2,  6.1120,   -999
    09AR9501_1,  SR03,   207,  1,     16,    216,2,19950830,0435,-51.5315, 143.7952, 3757,    596.8,   5.2970,  34.3350,4,  34.3380,2,   -999.0,5,    219.6,2,    17.70,2,    26.30,2,     1.94,2,  5.2490,   -999
    09AR9501_1,  SR03,   207,  1,     15,    115,2,19950830,0435,-51.5315, 143.7952, 3757,    695.0,   4.5380,  34.3210,4,  34.3210,2,   -999.0,5,    216.7,2,    22.70,2,    28.40,2,     2.08,2,  4.4850,   -999
    09AR9501_1,  SR03,   207,  1,     14,    114,2,19950830,0435,-51.5315, 143.7952, 3757,    798.2,   3.7360,  34.3030,3,  34.2960,2,   -999.0,5,    219.0,2,    27.60,2,    29.80,2,     2.17,2,  3.6800,   -999
    09AR9501_1,  SR03,   207,  1,     13,    113,2,19950830,0435,-51.5315, 143.7952, 3757,    897.4,   3.4220,  34.3350,3,  34.3320,2,   -999.0,5,    208.4,2,    33.90,2,    30.90,2,     2.24,2,  3.3600,   -999
    09AR9501_1,  SR03,   207,  1,     12,    112,2,19950830,0435,-51.5315, 143.7952, 3757,   1003.0,   3.2190,  34.3840,2,  34.3820,2,   -999.0,5,    195.4,2,    40.20,2,    32.70,2,     2.30,2,  3.1500,   -999
    09AR9501_1,  SR03,   207,  1,     11,     11,2,19950830,0435,-51.5315, 143.7952, 3757,   1197.4,   2.7880,  34.4620,2,  34.4600,2,   -999.0,5,    183.2,2,    50.70,2,    33.40,2,     2.38,2,  2.7080,   -999
    09AR9501_1,  SR03,   207,  1,     10,     10,2,19950830,0435,-51.5315, 143.7952, 3757,   1400.7,   2.6100,  34.5560,2,  34.5570,2,   -999.0,5,    176.2,2,    58.80,2,    33.00,2,     2.37,2,  2.5150,   -999
    09AR9501_1,  SR03,   207,  1,      9,      9,2,19950830,0435,-51.5315, 143.7952, 3757,   1595.0,   2.5080,  34.6320,2,  34.6320,2,   -999.0,5,    176.5,2,    64.40,2,    32.40,2,     2.32,2,  2.3990,   -999
    09AR9501_1,  SR03,   207,  1,      8,      8,2,19950830,0435,-51.5315, 143.7952, 3757,   1897.8,   2.3440,  34.7030,2,  34.7020,2,   -999.0,5,    182.5,2,    68.40,2,    30.80,2,     2.21,2,  2.2110,   -999
    09AR9501_1,  SR03,   207,  1,      7,      7,2,19950830,0435,-51.5315, 143.7952, 3757,   2199.3,   2.1440,  34.7360,3,  34.7360,2,   -999.0,5,    190.2,2,    72.60,2,    29.90,2,     2.16,2,  1.9880,   -999
    09AR9501_1,  SR03,   207,  1,      6,      6,2,19950830,0435,-51.5315, 143.7952, 3757,   2498.9,   1.8880,  34.7400,2,  34.7400,2,   -999.0,5,    187.0,2,    87.80,2,    30.90,2,     2.22,2,  1.7100,   -999
    09AR9501_1,  SR03,   207,  1,      5,      5,2,19950830,0435,-51.5315, 143.7952, 3757,   2803.4,   1.6950,  34.7420,2,  34.7420,2,   -999.0,5,    195.2,2,    88.70,2,    30.50,2,     2.18,2,  1.4930,   -999
    09AR9501_1,  SR03,   207,  1,      4,      4,2,19950830,0435,-51.5315, 143.7952, 3757,   3101.0,   1.4010,  34.7320,2,  34.7320,2,   -999.0,5,    200.1,2,    97.00,2,    30.60,2,     2.20,2,  1.1770,   -999
    09AR9501_1,  SR03,   207,  1,      3,      3,2,19950830,0435,-51.5315, 143.7952, 3757,   3403.3,   1.1370,  34.7200,2,  34.7230,2,   -999.0,5,    205.2,2,   103.50,2,    30.70,2,     2.20,2,  0.8900,   -999
    09AR9501_1,  SR03,   207,  1,      2,      2,2,19950830,0435,-51.5315, 143.7952, 3757,   3708.4,   0.9520,  34.7100,2,  34.7100,2,   -999.0,5,    207.8,2,   109.60,2,    31.00,2,     2.24,2,  0.6790,   -999
    09AR9501_1,  SR03,   207,  1,      1,      1,2,19950830,0435,-51.5315, 143.7952, 3757,   3794.0,   0.9440,  34.7090,2,  34.7100,2,   -999.0,5,    208.7,2,   110.80,2,    31.20,2,     2.24,2,  0.6620,   -999
    09AR9501_1,  SR03,   208,  1,     24,    120,2,19950830,1206,-51.2752, 143.9232, 3757,      8.4,   7.5840,  34.3300,2,  34.3310,2,   -999.0,5,    283.8,2,     2.90,2,    16.90,2,     1.27,2,  7.5850,   -999
    09AR9501_1,  SR03,   208,  1,     23,     23,2,19950830,1206,-51.2752, 143.9232, 3757,     47.4,   7.5730,  34.3270,2,  34.3280,2,   -999.0,5,    283.9,2,     2.90,2,    17.10,2,     1.27,2,  7.5700,   -999
    09AR9501_1,  SR03,   208,  1,     22,    222,2,19950830,1206,-51.2752, 143.9232, 3757,     94.8,   7.6040,  34.3310,2,  34.3320,2,   -999.0,5,    283.5,2,     2.90,2,    16.90,2,     1.26,2,  7.5970,   -999
    09AR9501_1,  SR03,   208,  1,     21,     21,2,19950830,1206,-51.2752, 143.9232, 3757,    147.7,   7.6050,  34.3320,2,  34.3290,2,   -999.0,5,    283.4,2,     3.00,2,    17.00,2,     1.26,2,  7.5930,   -999
    09AR9501_1,  SR03,   208,  1,     20,     24,2,19950830,1206,-51.2752, 143.9232, 3757,    195.9,   7.5980,  34.3290,2,  34.3260,2,   -999.0,5,    283.6,2,     2.90,2,    17.00,2,     1.27,2,  7.5810,   -999
    09AR9501_1,  SR03,   208,  1,     19,    119,2,19950830,1206,-51.2752, 143.9232, 3757,    296.1,   7.7360,  34.4410,4,  34.3960,2,   -999.0,5,    266.6,2,     4.70,2,    18.20,2,     1.33,2,  7.7090,   -999
    09AR9501_1,  SR03,   208,  1,     18,    118,2,19950830,1206,-51.2752, 143.9232, 3757,    496.4,   6.5420,  34.3910,4,  34.3800,2,   -999.0,5,    226.7,2,    12.10,2,    24.10,2,     1.71,2,  6.4980,   -999
    09AR9501_1,  SR03,   208,  1,     17,    117,2,19950830,1206,-51.2752, 143.9232, 3757,    597.6,   5.5430,  34.3580,4,  34.3510,2,   -999.0,5,    217.7,2,    17.10,2,    26.90,2,     1.90,2,  5.4940,   -999
    09AR9501_1,  SR03,   208,  1,     16,    216,2,19950830,1206,-51.2752, 143.9232, 3757,    698.8,   4.6920,  34.3170,3,  34.3150,2,   -999.0,5,    220.2,2,    21.20,2,    28.70,2,     2.01,2,  4.6380,   -999
    09AR9501_1,  SR03,   208,  1,     15,    115,2,19950830,1206,-51.2752, 143.9232, 3757,    800.4,   3.9620,  34.2810,4,  34.2740,2,   -999.0,5,    225.4,2,    24.70,2,    29.80,2,     2.11,2,  3.9040,   -999
    09AR9501_1,  SR03,   208,  1,     14,    114,2,19950830,1206,-51.2752, 143.9232, 3757,    901.3,   3.9060,  34.3540,3,  34.3540,2,   -999.0,5,    202.7,2,    33.30,2,    31.00,2,     2.21,2,  3.8400,   -999
    09AR9501_1,  SR03,   208,  1,     13,    113,2,19950830,1206,-51.2752, 143.9232, 3757,   1002.3,   3.3340,  34.3530,4,  34.3500,2,   -999.0,5,    203.0,2,    38.30,2,    32.10,2,     2.27,2,  3.2640,   -999
    09AR9501_1,  SR03,   208,  1,     12,    112,2,19950830,1206,-51.2752, 143.9232, 3757,   1197.7,   2.8550,  34.4320,2,  34.4300,2,   -999.0,5,    187.3,2,    50.40,2,    33.80,2,     2.36,2,  2.7740,   -999
    09AR9501_1,  SR03,   208,  1,     11,     11,2,19950830,1206,-51.2752, 143.9232, 3757,   1400.4,   2.6490,  34.5290,2,  34.5280,2,   -999.0,5,    176.8,2,    59.20,2,    34.10,2,     2.36,2,  2.5540,   -999
    09AR9501_1,  SR03,   208,  1,     10,     10,2,19950830,1206,-51.2752, 143.9232, 3757,   1698.6,   2.4760,  34.6490,2,  34.6460,2,   -999.0,5,    176.4,2,    67.00,2,    32.60,2,     2.26,2,  2.3580,   -999
    09AR9501_1,  SR03,   208,  1,      9,      9,2,19950830,1206,-51.2752, 143.9232, 3757,   1995.0,   2.3190,  34.7100,3,  34.7110,2,   -999.0,5,    183.1,2,    71.40,2,    31.40,2,     2.18,2,  2.1780,   -999
    09AR9501_1,  SR03,   208,  1,      8,      8,2,19950830,1206,-51.2752, 143.9232, 3757,   2299.6,   2.1120,  34.7390,2,  34.7370,2,   -999.0,5,    191.6,2,    75.20,2,    30.40,2,     2.14,2,  1.9480,   -999
    09AR9501_1,  SR03,   208,  1,      7,      7,2,19950830,1206,-51.2752, 143.9232, 3757,   2602.0,   1.8650,  34.7460,2,  34.7450,2,   -999.0,5,    195.4,2,    83.00,2,    29.00,2,     2.14,2,  1.6780,   -999
    09AR9501_1,  SR03,   208,  1,      6,      6,2,19950830,1206,-51.2752, 143.9232, 3757,   2802.1,   1.6830,  34.7420,3,  34.7400,2,   -999.0,5,    195.9,2,    90.60,2,    30.60,2,     2.16,2,  1.4810,   -999
    09AR9501_1,  SR03,   208,  1,      5,      5,2,19950830,1206,-51.2752, 143.9232, 3757,   3001.5,   1.5210,  34.7370,3,  34.7370,2,   -999.0,5,    200.8,2,    92.80,2,    30.50,2,     2.15,2,  1.3040,   -999
    09AR9501_1,  SR03,   208,  1,      4,      4,2,19950830,1206,-51.2752, 143.9232, 3757,   3205.0,   1.3490,  34.7290,2,  34.7320,2,   -999.0,5,    202.8,2,    97.70,2,    31.00,2,     2.18,2,  1.1160,   -999
    09AR9501_1,  SR03,   208,  1,      3,      3,2,19950830,1206,-51.2752, 143.9232, 3757,   3501.6,   1.0710,  34.7160,3,  34.7180,2,   -999.0,5,    205.7,2,   106.50,2,    31.40,2,     2.22,2,  0.8160,   -999
    09AR9501_1,  SR03,   208,  1,      2,      2,2,19950830,1206,-51.2752, 143.9232, 3757,   3757.4,   0.9960,  34.7110,3,  34.7130,2,   -999.0,5,    206.9,2,   109.30,2,    31.60,2,     2.22,2,  0.7170,   -999
    09AR9501_1,  SR03,   208,  1,      1,      1,2,19950830,1206,-51.2752, 143.9232, 3757,   3822.8,   1.0020,  34.7110,2,  34.7130,2,   -999.0,5,    207.5,2,   109.30,2,    31.70,2,     2.21,2,  0.7160,   -999