BOTTLE,20020620WHPSIOKJU
EXPOCODE,SECT_ID,STNNBR,CASTNO,SAMPNO,BTLNBR,BTLNBR_FLAG_W,DATE,TIME,LATITUDE,LONGITUDE,DEPTH,CTDPRS,CTDTMP,CTDSAL,CTDSAL_FLAG_W,SALNTY,SALNTY_FLAG_W,CTDOXY,CTDOXY_FLAG_W,OXYGEN,OXYGEN_FLAG_W,SILCAT,SILCAT_FLAG_W,NO2+NO3,NO2+NO3_FLAG_W,PHSPHT,PHSPHT_FLAG_W,THETA,CTDRAW
,,,,,,,,,,,,DBAR,DEG C,PSS-78,,PSS-78,,UMOL/KG,,UMOL/KG,,UMOL/KG,,UMOL/KG,,UMOL/KG,,DEG C,
    09AR9501_1,  SR03,    22,  1,     24,     24,2,19950723,1114,-51.2590, 143.1343, 3706,     10.8,   6.6440,  34.2200,2,  34.2180,2,   -999.0,5,    292.1,2,     3.20,2,    18.80,2,     1.32,2,  6.6450,   -999
    09AR9501_1,  SR03,    22,  1,     23,     23,2,19950723,1114,-51.2590, 143.1343, 3706,     46.0,   6.6520,  34.2210,2,  34.2200,2,   -999.0,5,    291.8,2,     3.30,2,    18.80,2,     1.32,2,  6.6500,   -999
    09AR9501_1,  SR03,    22,  1,     22,     22,2,19950723,1114,-51.2590, 143.1343, 3706,     95.5,   6.6500,  34.2220,2,  34.2210,2,   -999.0,5,    291.7,2,     3.30,2,    18.80,2,     1.32,2,  6.6430,   -999
    09AR9501_1,  SR03,    22,  1,     21,     21,2,19950723,1114,-51.2590, 143.1343, 3706,    145.6,   6.6540,  34.2230,2,  34.2230,2,   -999.0,5,    291.3,2,     3.30,2,    18.90,2,     1.32,2,  6.6430,   -999
    09AR9501_1,  SR03,    22,  1,     20,    120,2,19950723,1114,-51.2590, 143.1343, 3706,    177.1,   6.7450,  34.2450,4,  34.2450,2,   -999.0,5,    287.9,2,     3.70,2,    19.00,2,     1.33,2,  6.7310,   -999
    09AR9501_1,  SR03,    22,  1,     19,    119,2,19950723,1114,-51.2590, 143.1343, 3706,    216.3,   7.2640,  34.3920,4,  34.3970,2,   -999.0,5,    266.4,2,     7.00,2,    19.70,2,     1.38,2,  7.2450,   -999
    09AR9501_1,  SR03,    22,  1,     18,    118,2,19950723,1114,-51.2590, 143.1343, 3706,    344.8,   6.0690,  34.2660,2,  34.2660,2,   -999.0,5,    263.3,2,     9.30,2,    22.70,2,     1.57,2,  6.0410,   -999
    09AR9501_1,  SR03,    22,  1,     17,    117,2,19950723,1114,-51.2590, 143.1343, 3706,    495.4,   5.3990,  34.3010,2,  34.3020,2,   -999.0,5,    231.4,2,    16.10,2,    26.50,2,     1.83,2,  5.3590,   -999
    09AR9501_1,  SR03,    22,  1,     16,    216,2,19950723,1114,-51.2590, 143.1343, 3706,    598.8,   4.7000,  34.3080,2,  34.3060,2,   -999.0,5,    221.7,2,    22.20,2,    28.70,2,     1.99,2,  4.6550,   -999
    09AR9501_1,  SR03,    22,  1,     15,    115,2,19950723,1114,-51.2590, 143.1343, 3706,    696.6,   4.2310,  34.3040,2,  34.3030,2,   -999.0,5,    219.0,2,    26.30,2,    29.80,2,     2.07,2,  4.1800,   -999
    09AR9501_1,  SR03,    22,  1,     14,    114,2,19950723,1114,-51.2590, 143.1343, 3706,    795.4,   3.7080,  34.3120,2,  34.3100,2,   -999.0,5,    214.1,2,    32.40,2,    31.00,2,     2.16,2,  3.6520,   -999
    09AR9501_1,  SR03,    22,  1,     13,    113,2,19950723,1114,-51.2590, 143.1343, 3706,    998.9,   3.0950,  34.3830,2,  34.3820,2,   -999.0,5,    195.8,2,    46.40,2,    33.10,2,     2.29,2,  3.0270,   -999
    09AR9501_1,  SR03,    22,  1,     12,     12,2,19950723,1114,-51.2590, 143.1343, 3706,   1199.7,   2.7750,  34.4760,2,  34.4750,2,   -999.0,5,    180.6,2,    60.60,2,    34.00,2,     2.33,2,  2.6940,   -999
    09AR9501_1,  SR03,    22,  1,     11,     11,2,19950723,1114,-51.2590, 143.1343, 3706,   1399.7,   2.6030,  34.5600,2,  34.5600,2,   -999.0,5,    175.8,2,    68.40,2,    33.40,2,     2.31,2,  2.5080,   -999
    09AR9501_1,  SR03,    22,  1,     10,     10,2,19950723,1114,-51.2590, 143.1343, 3706,   1599.0,   2.4840,  34.6380,2,  34.6370,2,   -999.0,5,    176.3,2,    74.00,2,    32.50,2,     2.25,2,  2.3750,   -999
    09AR9501_1,  SR03,    22,  1,      9,      9,2,19950723,1114,-51.2590, 143.1343, 3706,   1798.7,   2.3990,  34.6870,2,  34.6880,2,   -999.0,5,    180.8,2,    74.90,2,    31.50,2,     2.19,2,  2.2740,   -999
    09AR9501_1,  SR03,    22,  1,      8,      8,2,19950723,1114,-51.2590, 143.1343, 3706,   2000.1,   2.2810,  34.7200,2,  34.7220,2,   -999.0,5,    186.1,2,    77.00,2,    30.60,2,     2.12,2,  2.1410,   -999
    09AR9501_1,  SR03,    22,  1,      7,      7,2,19950723,1114,-51.2590, 143.1343, 3706,   2199.4,   2.1380,  34.7390,2,  34.7400,2,   -999.0,5,    189.5,2,    81.40,2,    30.30,2,     2.10,2,  1.9820,   -999
    09AR9501_1,  SR03,    22,  1,      6,      6,2,19950723,1114,-51.2590, 143.1343, 3706,   2502.1,   1.9170,  34.7460,2,  34.7480,2,   -999.0,5,    194.0,2,    87.80,2,    30.20,2,     2.10,2,  1.7380,   -999
    09AR9501_1,  SR03,    22,  1,      5,      5,2,19950723,1114,-51.2590, 143.1343, 3706,   2801.0,   1.6310,  34.7380,2,  34.7410,2,   -999.0,5,    196.0,2,    97.40,2,    30.50,2,     2.13,2,  1.4300,   -999
    09AR9501_1,  SR03,    22,  1,      4,      4,2,19950723,1114,-51.2590, 143.1343, 3706,   3100.6,   1.3400,  34.7290,2,  34.7300,2,   -999.0,5,    202.3,2,   103.50,2,    30.70,2,     2.13,2,  1.1170,   -999
    09AR9501_1,  SR03,    22,  1,      3,      3,2,19950723,1114,-51.2590, 143.1343, 3706,   3402.7,   1.1510,  34.7200,2,  34.7220,2,   -999.0,5,    204.4,2,   109.90,2,    31.00,2,     2.16,2,  0.9030,   -999
    09AR9501_1,  SR03,    22,  1,      2,      2,2,19950723,1114,-51.2590, 143.1343, 3706,   3799.7,   0.9960,  34.7110,2,  34.7140,2,   -999.0,5,    206.3,2,   116.10,2,    31.30,2,     2.19,2,  0.7120,   -999
    09AR9501_1,  SR03,    22,  1,      1,      1,2,19950723,1114,-51.2590, 143.1343, 3706,   3875.8,   1.0010,  34.7100,2,  34.7130,2,   -999.0,5,    206.4,2,   116.20,2,    31.50,2,     2.20,2,  0.7090,   -999
    09AR9501_1,  SR03,    23,  1,     24,     24,2,19950723,1624,-51.5385, 143.0017, 3778,      9.5,   6.6940,  34.2050,2,  34.2050,2,   -999.0,5,    291.8,4,     3.70,2,    19.30,2,     1.36,2,  6.6950,   -999
    09AR9501_1,  SR03,    23,  1,     23,     23,2,19950723,1624,-51.5385, 143.0017, 3778,     45.7,   6.7080,  34.2050,2,  34.2050,2,   -999.0,5,    292.0,4,     3.70,2,    19.30,2,     1.37,2,  6.7060,   -999
    09AR9501_1,  SR03,    23,  1,     22,     22,2,19950723,1624,-51.5385, 143.0017, 3778,     95.4,   6.7110,  34.2060,2,  34.2060,2,   -999.0,5,    288.1,4,     3.70,2,    19.30,2,     1.36,2,  6.7040,   -999
    09AR9501_1,  SR03,    23,  1,     21,     21,2,19950723,1624,-51.5385, 143.0017, 3778,    142.8,   6.7200,  34.2070,2,  34.2070,2,   -999.0,5,    278.5,4,     3.70,2,    19.30,2,     1.42,2,  6.7090,   -999
    09AR9501_1,  SR03,    23,  1,     20,    120,2,19950723,1624,-51.5385, 143.0017, 3778,    220.4,   7.5340,  34.3930,4,  34.3900,2,   -999.0,5,    187.1,4,     6.10,2,    19.30,2,     1.35,2,  7.5140,   -999
    09AR9501_1,  SR03,    23,  1,     19,    119,2,19950723,1624,-51.5385, 143.0017, 3778,    294.4,   6.9250,  34.3650,3,  34.3640,2,   -999.0,5,    228.1,4,     9.40,2,    21.70,2,     1.50,2,  6.8990,   -999
    09AR9501_1,  SR03,    23,  1,     18,    118,2,19950723,1624,-51.5385, 143.0017, 3778,    395.8,   5.8300,  34.2810,2,  34.2810,2,   -999.0,5,    198.4,4,    12.70,2,    24.30,2,     1.68,2,  5.7980,   -999
    09AR9501_1,  SR03,    23,  1,     17,    117,2,19950723,1624,-51.5385, 143.0017, 3778,    495.2,   5.1610,  34.2750,2,  34.2770,2,   -999.0,5,    195.2,4,    18.00,2,    26.90,2,     1.87,2,  5.1220,   -999
    09AR9501_1,  SR03,    23,  1,     16,    216,2,19950723,1624,-51.5385, 143.0017, 3778,    596.4,   4.6230,  34.3030,2,  34.3010,2,   -999.0,5,    164.4,4,    24.70,2,    29.10,2,     2.02,2,  4.5780,   -999
    09AR9501_1,  SR03,    23,  1,     15,    115,2,19950723,1624,-51.5385, 143.0017, 3778,    696.7,   4.0340,  34.3110,2,  34.3100,2,   -999.0,5,    139.5,4,    31.20,2,    30.50,2,     2.13,2,  3.9840,   -999
    09AR9501_1,  SR03,    23,  1,     14,    114,2,19950723,1624,-51.5385, 143.0017, 3778,    795.4,   3.6040,  34.3290,2,  34.3260,2,   -999.0,5,    158.3,4,    38.20,2,    31.70,2,     2.22,2,  3.5490,   -999
    09AR9501_1,  SR03,    23,  1,     13,    113,2,19950723,1624,-51.5385, 143.0017, 3778,    996.0,   2.9600,  34.4020,2,  34.4000,2,   -999.0,5,    160.1,4,    52.50,2,    33.60,2,     2.34,2,  2.8940,   -999
    09AR9501_1,  SR03,    23,  1,     12,     12,2,19950723,1624,-51.5385, 143.0017, 3778,   1204.2,   2.6770,  34.5070,2,  34.5060,2,   -999.0,5,    120.8,4,    63.50,2,    33.90,2,     2.37,2,  2.5970,   -999
    09AR9501_1,  SR03,    23,  1,     11,     11,2,19950723,1624,-51.5385, 143.0017, 3778,   1402.9,   2.5750,  34.5830,2,  34.5830,2,   -999.0,5,    140.8,4,    69.90,2,    33.30,2,     2.34,2,  2.4800,   -999
    09AR9501_1,  SR03,    23,  1,     10,     10,2,19950723,1624,-51.5385, 143.0017, 3778,   1598.1,   2.4700,  34.6510,2,  34.6500,2,   -999.0,5,    121.1,4,    72.90,2,    32.40,2,     2.28,2,  2.3610,   -999
    09AR9501_1,  SR03,    23,  1,      9,      9,2,19950723,1624,-51.5385, 143.0017, 3778,   1797.6,   2.3700,  34.6970,2,  34.6970,2,   -999.0,5,    132.1,4,    75.30,2,    31.50,2,     2.20,2,  2.2450,   -999
    09AR9501_1,  SR03,    23,  1,      8,      8,2,19950723,1624,-51.5385, 143.0017, 3778,   1998.5,   2.2410,  34.7280,2,  34.7290,2,   -999.0,5,    130.8,4,    77.60,2,    30.70,2,     2.16,2,  2.1010,   -999
    09AR9501_1,  SR03,    23,  1,      7,      7,2,19950723,1624,-51.5385, 143.0017, 3778,   2202.4,   2.0950,  34.7430,2,  34.7440,2,   -999.0,5,    169.1,4,    82.60,2,    30.40,2,     2.14,2,  1.9400,   -999
    09AR9501_1,  SR03,    23,  1,      6,      6,2,19950723,1624,-51.5385, 143.0017, 3778,   2397.7,   1.9240,  34.7450,2,  34.7470,2,   -999.0,5,    143.4,4,    88.30,2,    30.50,2,     2.15,2,  1.7540,   -999
    09AR9501_1,  SR03,    23,  1,      5,      5,2,19950723,1624,-51.5385, 143.0017, 3778,   2600.7,   1.7660,  34.7430,2,  34.7440,2,   -999.0,5,    149.2,4,    95.10,2,    30.90,2,     2.18,2,  1.5810,   -999
    09AR9501_1,  SR03,    23,  1,      4,      4,2,19950723,1624,-51.5385, 143.0017, 3778,   2901.0,   1.4730,  34.7340,2,  34.7350,2,   -999.0,5,    154.6,4,   100.80,2,    31.00,2,     2.18,2,  1.2660,   -999
    09AR9501_1,  SR03,    23,  1,      3,      3,2,19950723,1624,-51.5385, 143.0017, 3778,   3203.8,   1.2000,  34.7220,2,  34.7240,2,   -999.0,5,    154.7,4,   109.40,2,    31.60,2,     2.21,2,  0.9710,   -999
    09AR9501_1,  SR03,    23,  1,      2,      2,2,19950723,1624,-51.5385, 143.0017, 3778,   3503.6,   1.0310,  34.7140,2,  34.7150,2,   -999.0,5,    163.3,4,   116.10,2,    31.70,2,     2.22,2,  0.7760,   -999
    09AR9501_1,  SR03,    23,  1,      1,      1,2,19950723,1624,-51.5385, 143.0017, 3778,   3788.5,   0.8700,  34.7060,2,  34.7080,2,   -999.0,5,    156.8,4,   119.50,2,    31.90,2,     2.23,2,  0.5910,   -999
    09AR9501_1,  SR03,    24,  1,     24,     24,2,19950723,2127,-51.8107, 142.8800, 3686,     10.9,   6.1820,  34.1250,2,  34.1260,2,   -999.0,5,    296.7,2,     3.40,2,    20.10,2,     1.42,2,  6.1830,   -999
    09AR9501_1,  SR03,    24,  1,     23,     23,2,19950723,2127,-51.8107, 142.8800, 3686,     44.7,   6.2000,  34.1260,2,  34.1270,2,   -999.0,5,    296.5,2,     3.40,2,    20.00,2,     1.42,2,  6.1980,   -999
    09AR9501_1,  SR03,    24,  1,     22,     22,2,19950723,2127,-51.8107, 142.8800, 3686,     95.4,   6.2730,  34.1380,3,  34.1380,2,   -999.0,5,    295.7,2,     3.60,2,    20.00,2,     1.42,2,  6.2660,   -999
    09AR9501_1,  SR03,    24,  1,     21,     21,2,19950723,2127,-51.8107, 142.8800, 3686,    145.9,   6.2390,  34.1320,2,  34.1330,2,   -999.0,5,    295.9,2,     3.40,2,    20.00,2,     1.42,2,  6.2280,   -999
    09AR9501_1,  SR03,    24,  1,     20,    120,2,19950723,2127,-51.8107, 142.8800, 3686,    195.3,   7.0850,  34.3630,4,  34.3630,2,   -999.0,5,    260.4,2,     8.10,2,    20.70,2,     1.46,2,  7.0680,   -999
    09AR9501_1,  SR03,    24,  1,     19,    119,2,19950723,2127,-51.8107, 142.8800, 3686,    298.3,   6.0310,  34.2710,2,  34.2720,2,   -999.0,5,    262.3,2,    10.40,2,    22.90,2,     1.61,2,  6.0070,   -999
    09AR9501_1,  SR03,    24,  1,     18,    118,2,19950723,2127,-51.8107, 142.8800, 3686,    396.2,   5.3610,  34.2750,2,  34.2750,2,   -999.0,5,    239.7,2,    15.80,2,    26.10,2,     1.82,2,  5.3300,   -999
    09AR9501_1,  SR03,    24,  1,     17,    117,2,19950723,2127,-51.8107, 142.8800, 3686,    496.5,   4.8800,  34.2930,2,  34.3020,2,   -999.0,5,    226.3,2,    21.40,2,    28.20,2,     1.97,2,  4.8420,   -999
    09AR9501_1,  SR03,    24,  1,     16,    216,2,19950723,2127,-51.8107, 142.8800, 3686,    597.1,   4.1880,  34.2930,4,  34.2910,2,   -999.0,5,    222.2,2,    27.20,2,    29.80,2,     2.09,2,  4.1450,   -999
    09AR9501_1,  SR03,    24,  1,     15,    115,2,19950723,2127,-51.8107, 142.8800, 3686,    698.6,   3.6630,  34.3140,2,  34.3120,2,   -999.0,5,    213.7,2,    34.80,2,    31.10,2,     2.21,2,  3.6150,   -999
    09AR9501_1,  SR03,    24,  1,     14,    114,2,19950723,2127,-51.8107, 142.8800, 3686,    797.5,   3.2750,  34.3510,2,  34.3490,2,   -999.0,5,    203.2,2,    42.70,2,    32.30,2,     2.28,2,  3.2210,   -999
    09AR9501_1,  SR03,    24,  1,     13,    113,2,19950723,2127,-51.8107, 142.8800, 3686,    898.6,   3.0150,  34.3870,2,  34.3850,2,   -999.0,5,    194.8,2,    49.60,2,    33.10,2,     2.34,2,  2.9550,   -999
    09AR9501_1,  SR03,    24,  1,     12,     12,2,19950723,2127,-51.8107, 142.8800, 3686,    998.2,   2.8390,  34.4390,2,  34.4380,2,   -999.0,5,    186.0,2,    55.70,2,    33.40,2,     2.37,2,  2.7730,   -999
    09AR9501_1,  SR03,    24,  1,     11,     11,2,19950723,2127,-51.8107, 142.8800, 3686,   1197.5,   2.5800,  34.5380,2,  34.5370,2,   -999.0,5,    176.2,2,    66.00,2,    33.40,2,     2.38,2,  2.5010,   -999
    09AR9501_1,  SR03,    24,  1,     10,     10,2,19950723,2127,-51.8107, 142.8800, 3686,   1399.5,   2.4950,  34.6260,2,  34.6260,2,   -999.0,5,    175.5,2,    70.50,2,    32.50,2,     2.31,2,  2.4010,   -999
    09AR9501_1,  SR03,    24,  1,      9,      9,2,19950723,2127,-51.8107, 142.8800, 3686,   1598.7,   2.3780,  34.6800,2,  34.6800,2,   -999.0,5,    179.6,2,    73.90,2,    31.60,2,     2.24,2,  2.2700,   -999
    09AR9501_1,  SR03,    24,  1,      8,      8,2,19950723,2127,-51.8107, 142.8800, 3686,   1800.4,   2.2750,  34.7140,2,  34.7140,2,   -999.0,5,    185.2,2,    75.80,2,    30.80,2,     2.19,2,  2.1510,   -999
    09AR9501_1,  SR03,    24,  1,      7,      7,2,19950723,2127,-51.8107, 142.8800, 3686,   2000.8,   2.1180,  34.7390,2,  34.7390,2,   -999.0,5,    190.1,2,    80.30,2,    30.20,2,     2.15,2,  1.9800,   -999
    09AR9501_1,  SR03,    24,  1,      6,      6,2,19950723,2127,-51.8107, 142.8800, 3686,   2303.5,   1.8760,  34.7480,2,  34.7470,2,   -999.0,5,    194.3,2,    87.70,2,    30.10,2,     2.14,2,  1.7160,   -999
    09AR9501_1,  SR03,    24,  1,      5,      5,2,19950723,2127,-51.8107, 142.8800, 3686,   2601.9,   1.6270,  34.7400,2,  34.7410,2,   -999.0,5,    195.1,2,    97.80,2,    30.70,2,     2.19,2,  1.4450,   -999
    09AR9501_1,  SR03,    24,  1,      4,      4,2,19950723,2127,-51.8107, 142.8800, 3686,   2901.2,   1.3760,  34.7310,2,  34.7310,2,   -999.0,5,    197.6,2,   106.10,2,    31.10,2,     2.21,2,  1.1710,   -999
    09AR9501_1,  SR03,    24,  1,      3,      3,2,19950723,2127,-51.8107, 142.8800, 3686,   3203.4,   1.1850,  34.7220,2,  34.7240,2,   -999.0,5,    203.6,2,   108.00,2,    30.90,2,     2.21,2,  0.9560,   -999
    09AR9501_1,  SR03,    24,  1,      2,      2,2,19950723,2127,-51.8107, 142.8800, 3686,   3505.9,   1.0010,  34.7130,2,  34.7150,2,   -999.0,5,    204.5,2,   114.30,2,    31.50,2,     2.24,2,  0.7470,   -999
    09AR9501_1,  SR03,    24,  1,      1,      1,2,19950723,2127,-51.8107, 142.8800, 3686,   3672.2,   0.9680,  34.7100,2,  34.7130,2,   -999.0,5,    161.5,4,   115.20,2,    31.50,2,     2.24,2,  0.6980,   -999