BOTTLE,20020620WHPSIOKJU
EXPOCODE,SECT_ID,STNNBR,CASTNO,SAMPNO,BTLNBR,BTLNBR_FLAG_W,DATE,TIME,LATITUDE,LONGITUDE,DEPTH,CTDPRS,CTDTMP,CTDSAL,CTDSAL_FLAG_W,SALNTY,SALNTY_FLAG_W,CTDOXY,CTDOXY_FLAG_W,OXYGEN,OXYGEN_FLAG_W,SILCAT,SILCAT_FLAG_W,NO2+NO3,NO2+NO3_FLAG_W,PHSPHT,PHSPHT_FLAG_W,THETA,CTDRAW
,,,,,,,,,,,,DBAR,DEG C,PSS-78,,PSS-78,,UMOL/KG,,UMOL/KG,,UMOL/KG,,UMOL/KG,,UMOL/KG,,DEG C,
    09AR9501_1,  SR03,    28,  1,     24,     24,2,19950724,2053,-53.5807, 141.8705, 2508,     11.9,   2.6710,  33.8540,2,  33.8540,2,   -999.0,5,    324.2,2,     6.80,2,    25.30,2,     1.74,2,  2.6710,   -999
    09AR9501_1,  SR03,    28,  1,     23,     23,2,19950724,2053,-53.5807, 141.8705, 2508,     44.8,   2.5350,  33.8590,2,  33.8580,2,   -999.0,5,    325.0,2,     7.60,2,    25.50,2,     1.76,2,  2.5330,   -999
    09AR9501_1,  SR03,    28,  1,     22,     22,2,19950724,2053,-53.5807, 141.8705, 2508,     95.6,   2.4080,  33.8580,3,  33.8590,2,   -999.0,5,    324.0,2,     8.30,2,    26.00,2,     1.78,2,  2.4030,   -999
    09AR9501_1,  SR03,    28,  1,     21,     21,2,19950724,2053,-53.5807, 141.8705, 2508,    154.3,   2.4050,  33.9360,4,  33.9350,2,   -999.0,5,    307.2,2,    13.50,2,    27.20,2,     1.87,2,  2.3970,   -999
    09AR9501_1,  SR03,    28,  1,     20,    120,2,19950724,2053,-53.5807, 141.8705, 2508,    196.2,   2.6810,  34.0730,2,  34.0760,2,   -999.0,5,    278.5,2,    21.90,2,    29.10,2,     2.01,2,  2.6700,   -999
    09AR9501_1,  SR03,    28,  1,     19,    119,2,19950724,2053,-53.5807, 141.8705, 2508,    244.9,   2.7760,  34.1700,2,  34.1690,2,   -999.0,5,    247.8,2,    28.50,2,    30.50,2,     2.12,2,  2.7620,   -999
    09AR9501_1,  SR03,    28,  1,     18,    118,2,19950724,2053,-53.5807, 141.8705, 2508,    296.4,   2.6370,  34.2080,2,  34.1680,4,   -999.0,5,    236.9,2,    33.40,2,    31.30,2,     2.20,2,  2.6200,   -999
    09AR9501_1,  SR03,    28,  1,     17,    117,2,19950724,2053,-53.5807, 141.8705, 2508,    445.4,   2.5050,  34.3650,2,  34.3650,2,   -999.0,5,    197.0,2,    49.40,2,    33.50,2,     2.35,2,  2.4790,   -999
    09AR9501_1,  SR03,    28,  1,     15,    115,2,19950724,2053,-53.5807, 141.8705, 2508,    595.7,   2.4360,  34.4780,2,  34.4770,2,   -999.0,5,    180.5,2,    59.70,2,    33.60,2,     2.38,2,  2.4010,   -999
    09AR9501_1,  SR03,    28,  1,     16,    216,2,19950724,2053,-53.5807, 141.8705, 2508,    595.8,   2.4380,  34.4770,2,  34.4760,2,   -999.0,5,    180.9,2,    59.20,2,    33.60,2,     2.37,2,  2.4030,   -999
    09AR9501_1,  SR03,    28,  1,     14,    114,2,19950724,2053,-53.5807, 141.8705, 2508,    695.1,   2.4390,  34.5350,2,  34.5340,2,   -999.0,5,    176.5,2,    63.30,2,    33.50,2,     2.35,2,  2.3970,   -999
    09AR9501_1,  SR03,    28,  1,     13,    113,2,19950724,2053,-53.5807, 141.8705, 2508,    794.8,   2.3980,  34.5850,2,  34.5840,2,   -999.0,5,    175.1,2,    66.20,2,    32.90,2,     2.32,2,  2.3500,   -999
    09AR9501_1,  SR03,    28,  1,     12,     12,2,19950724,2053,-53.5807, 141.8705, 2508,    896.7,   2.3720,  34.6340,2,  34.6340,2,   -999.0,5,    177.2,2,    68.20,2,    32.40,2,     2.24,2,  2.3170,   -999
    09AR9501_1,  SR03,    28,  1,     11,     11,2,19950724,2053,-53.5807, 141.8705, 2508,    995.4,   2.3530,  34.6620,2,  34.6610,2,   -999.0,5,    178.7,2,    69.30,2,    31.90,2,     2.20,2,  2.2910,   -999
    09AR9501_1,  SR03,    28,  1,     10,     10,2,19950724,2053,-53.5807, 141.8705, 2508,   1196.0,   2.1960,  34.7030,2,  34.7030,2,   -999.0,5,    182.6,2,    72.60,2,    31.30,2,     2.17,2,  2.1210,   -999
    09AR9501_1,  SR03,    28,  1,      9,      9,2,19950724,2053,-53.5807, 141.8705, 2508,   1399.0,   2.0860,  34.7310,2,  34.7310,2,   -999.0,5,    188.9,2,    75.20,2,    30.50,2,     2.10,2,  1.9970,   -999
    09AR9501_1,  SR03,    28,  1,      6,      6,2,19950724,2053,-53.5807, 141.8705, 2508,   1597.5,   1.9170,  34.7460,2,  34.7440,2,   -999.0,5,    194.3,2,    78.50,2,    30.10,2,     2.08,2,  1.8140,   -999
    09AR9501_1,  SR03,    28,  1,      8,      8,2,19950724,2053,-53.5807, 141.8705, 2508,   1598.8,   1.9180,  34.7450,2,  34.7450,2,   -999.0,5,    193.9,2,    78.80,2,    30.10,2,     2.08,2,  1.8150,   -999
    09AR9501_1,  SR03,    28,  1,      7,      7,2,19950724,2053,-53.5807, 141.8705, 2508,   1598.8,   1.9170,  34.7450,2,  34.7450,2,   -999.0,5,    194.2,2,    78.90,2,    30.10,2,     2.08,2,  1.8140,   -999
    09AR9501_1,  SR03,    28,  1,      5,      5,2,19950724,2053,-53.5807, 141.8705, 2508,   1799.6,   1.7850,  34.7480,2,  34.7470,2,   -999.0,5,    196.9,2,    82.00,2,    30.10,2,     2.08,2,  1.6680,   -999
    09AR9501_1,  SR03,    28,  1,      4,      4,2,19950724,2053,-53.5807, 141.8705, 2508,   2000.1,   1.5960,  34.7430,2,  34.7440,2,   -999.0,5,    199.4,2,    87.30,2,    30.30,2,     2.09,2,  1.4660,   -999
    09AR9501_1,  SR03,    28,  1,      3,      3,2,19950724,2053,-53.5807, 141.8705, 2508,   2198.5,   1.3780,  34.7340,2,  34.7360,2,   -999.0,5,    201.6,2,    93.60,2,    30.50,2,     2.12,2,  1.2350,   -999
    09AR9501_1,  SR03,    28,  1,      2,      2,2,19950724,2053,-53.5807, 141.8705, 2508,   2398.4,   1.2430,  34.7280,2,  34.7300,2,   -999.0,5,    203.1,2,    97.80,2,    30.60,2,     2.13,2,  1.0860,   -999
    09AR9501_1,  SR03,    28,  1,      1,      1,2,19950724,2053,-53.5807, 141.8705, 2508,   2510.0,   1.1740,  34.7240,2,  34.7260,2,   -999.0,5,    203.5,2,    99.00,2,    30.70,2,     2.14,2,  1.0080,   -999
    09AR9501_1,  SR03,    29,  1,     24,     24,2,19950725,0220,-54.0615, 141.5928, 2662,     12.1,   1.9740,  33.8110,2,  33.8100,2,   -999.0,5,    449.4,4,     8.30,2,    25.40,2,     1.77,2,  1.9740,   -999
    09AR9501_1,  SR03,    29,  1,     23,     23,2,19950725,0220,-54.0615, 141.5928, 2662,     39.3,   1.9660,  33.8230,2,  33.8230,2,   -999.0,5,    329.7,2,     8.70,2,    25.60,2,     1.78,2,  1.9640,   -999
    09AR9501_1,  SR03,    29,  1,     22,     22,2,19950725,0220,-54.0615, 141.5928, 2662,     95.7,   1.9630,  33.8320,2,  33.8320,2,   -999.0,5,    329.3,2,     9.00,2,    25.50,2,     1.77,2,  1.9590,   -999
    09AR9501_1,  SR03,    29,  1,     21,     21,2,19950725,0220,-54.0615, 141.5928, 2662,    145.1,   1.8140,  33.8910,3,  33.8910,2,   -999.0,5,    319.2,2,    14.10,2,    27.20,2,     1.86,2,  1.8070,   -999
    09AR9501_1,  SR03,    29,  1,     20,    120,2,19950725,0220,-54.0615, 141.5928, 2662,    175.1,   0.8030,  33.9700,3,  33.9700,2,   -999.0,5,    311.5,2,    24.70,2,    29.30,2,     2.01,2,  0.7960,   -999
    09AR9501_1,  SR03,    29,  1,     19,    119,2,19950725,0220,-54.0615, 141.5928, 2662,    215.6,   1.2950,  34.1030,3,  34.1010,2,   -999.0,5,    271.3,2,    34.90,2,    31.40,2,     2.16,2,  1.2850,   -999
    09AR9501_1,  SR03,    29,  1,     18,    118,2,19950725,0220,-54.0615, 141.5928, 2662,    295.9,   1.9090,  34.2910,4,  34.2920,2,   -999.0,5,    214.5,2,    50.50,2,    33.50,2,     2.30,2,  1.8940,   -999
    09AR9501_1,  SR03,    29,  1,     17,    117,2,19950725,0220,-54.0615, 141.5928, 2662,    395.4,   2.2420,  34.4340,2,  34.4330,2,   -999.0,5,    184.9,2,    61.60,2,    33.30,3,     2.51,3,  2.2200,   -999
    09AR9501_1,  SR03,    29,  1,     16,    216,2,19950725,0220,-54.0615, 141.5928, 2662,    496.5,   2.3040,  34.5120,2,  34.5100,2,   -999.0,5,    175.6,2,    66.80,2,    34.20,2,     2.36,2,  2.2760,   -999
    09AR9501_1,  SR03,    29,  1,     15,    115,2,19950725,0220,-54.0615, 141.5928, 2662,    597.4,   2.3070,  34.5730,2,  34.5730,2,   -999.0,5,    172.9,2,    70.80,2,    33.80,2,     2.32,2,  2.2720,   -999
    09AR9501_1,  SR03,    29,  1,     14,    114,2,19950725,0220,-54.0615, 141.5928, 2662,    696.7,   2.2890,  34.6190,2,  34.6180,2,   -999.0,5,    173.5,2,    73.40,2,    33.40,2,     2.29,2,  2.2480,   -999
    09AR9501_1,  SR03,    29,  1,     13,    113,2,19950725,0220,-54.0615, 141.5928, 2662,    796.2,   2.2490,  34.6560,2,  34.6550,2,   -999.0,5,    175.5,2,    75.60,2,    32.70,2,     2.25,2,  2.2010,   -999
    09AR9501_1,  SR03,    29,  1,     12,     12,2,19950725,0220,-54.0615, 141.5928, 2662,    897.6,   2.2080,  34.6810,2,  34.6810,2,   -999.0,5,    178.4,2,    76.80,2,    31.90,2,     2.20,2,  2.1540,   -999
    09AR9501_1,  SR03,    29,  1,     11,     11,2,19950725,0220,-54.0615, 141.5928, 2662,    997.1,   2.1520,  34.7010,2,  34.7020,2,   -999.0,5,    181.5,2,    77.30,2,    31.40,2,     2.18,2,  2.0910,   -999
    09AR9501_1,  SR03,    29,  1,     10,     10,2,19950725,0220,-54.0615, 141.5928, 2662,   1098.3,   2.0920,  34.7160,2,  34.7160,2,   -999.0,5,    184.0,2,    77.30,2,    30.90,2,     2.15,2,  2.0240,   -999
    09AR9501_1,  SR03,    29,  1,      9,      9,2,19950725,0220,-54.0615, 141.5928, 2662,   1198.4,   2.0490,  34.7290,2,  34.7280,2,   -999.0,5,    187.5,2,    77.40,2,    30.50,2,     2.13,2,  1.9750,   -999
    09AR9501_1,  SR03,    29,  1,      8,      8,2,19950725,0220,-54.0615, 141.5928, 2662,   1397.9,   1.9050,  34.7430,2,  34.7430,2,   -999.0,5,    192.4,2,    80.60,2,    30.00,2,     2.09,2,  1.8170,   -999
    09AR9501_1,  SR03,    29,  1,      7,      7,2,19950725,0220,-54.0615, 141.5928, 2662,   1597.8,   1.7330,  34.7460,2,  34.7460,2,   -999.0,5,    196.4,2,    85.30,2,    30.10,2,     2.09,2,  1.6320,   -999
    09AR9501_1,  SR03,    29,  1,      6,      6,2,19950725,0220,-54.0615, 141.5928, 2662,   1801.2,   1.5450,  34.7420,2,  34.7430,2,   -999.0,5,    199.2,2,    91.40,2,    30.20,2,     2.10,2,  1.4310,   -999
    09AR9501_1,  SR03,    29,  1,      5,      5,2,19950725,0220,-54.0615, 141.5928, 2662,   1998.8,   1.3530,  34.7360,2,  34.7360,2,   -999.0,5,    201.8,2,    96.60,2,    30.50,2,     2.10,2,  1.2260,   -999
    09AR9501_1,  SR03,    29,  1,      4,      4,2,19950725,0220,-54.0615, 141.5928, 2662,   2202.2,   1.1820,  34.7260,2,  34.7290,2,   -999.0,5,    203.4,2,   102.60,2,    30.80,2,     2.15,2,  1.0420,   -999
    09AR9501_1,  SR03,    29,  1,      3,      3,2,19950725,0220,-54.0615, 141.5928, 2662,   2400.1,   1.0420,  34.7190,2,  34.7210,2,   -999.0,5,    204.2,2,   108.80,2,    31.20,2,     2.17,2,  0.8880,   -999
    09AR9501_1,  SR03,    29,  1,      2,      2,2,19950725,0220,-54.0615, 141.5928, 2662,   2598.7,   0.9380,  34.7150,2,  34.7160,2,   -999.0,5,    205.6,2,   102.60,3,    29.40,3,     2.29,3,  0.7690,   -999
    09AR9501_1,  SR03,    29,  1,      1,      1,2,19950725,0220,-54.0615, 141.5928, 2662,   2654.3,   0.9360,  34.7140,2,  34.7140,2,   -999.0,5,    205.8,2,   111.80,2,    31.10,2,     2.15,2,  0.7620,   -999
    09AR9501_1,  SR03,    30,  1,     24,     24,2,19950725,0730,-54.5247, 141.3310, 2815,     18.2,   1.3700,  33.8310,2,  33.8330,2,   -999.0,5,    333.5,2,     9.80,2,    25.20,2,     1.77,2,  1.3700,   -999
    09AR9501_1,  SR03,    30,  1,     23,     23,2,19950725,0730,-54.5247, 141.3310, 2815,     53.4,   1.3690,  33.8320,2,  33.8320,2,   -999.0,5,    333.4,2,     9.80,2,    26.40,2,     1.81,2,  1.3670,   -999
    09AR9501_1,  SR03,    30,  1,     22,     22,2,19950725,0730,-54.5247, 141.3310, 2815,    102.4,   1.3500,  33.8360,2,  33.8360,2,    337.0,2,    333.2,2,     9.90,2,    26.60,2,     1.84,2,  1.3460,   -999
    09AR9501_1,  SR03,    30,  1,     21,     21,2,19950725,0730,-54.5247, 141.3310, 2815,    152.7,   1.3490,  33.8370,2,  33.8370,2,    329.6,2,    332.8,2,    10.30,2,    26.70,2,     1.82,2,  1.3420,   -999
    09AR9501_1,  SR03,    30,  1,     20,    120,2,19950725,0730,-54.5247, 141.3310, 2815,    172.0,   1.2970,  33.8930,3,  33.8910,2,    320.1,2,    323.6,2,    15.60,2,    27.80,2,     1.89,2,  1.2890,   -999
    09AR9501_1,  SR03,    30,  1,     19,    119,2,19950725,0730,-54.5247, 141.3310, 2815,    204.0,   1.1010,  34.0490,2,  34.0510,2,    284.5,2,    287.8,2,    30.30,2,    30.80,2,     2.10,2,  1.0920,   -999
    09AR9501_1,  SR03,    30,  1,     18,    118,2,19950725,0730,-54.5247, 141.3310, 2815,    303.7,   2.0960,  34.3050,2,  34.3060,2,    217.6,2,    211.8,2,    50.50,2,    34.10,2,     2.32,2,  2.0800,   -999
    09AR9501_1,  SR03,    30,  1,     17,    117,2,19950725,0730,-54.5247, 141.3310, 2815,    402.9,   2.2570,  34.4390,2,  34.4400,2,    185.3,2,    183.8,2,    62.00,2,    34.70,2,     2.38,2,  2.2350,   -999
    09AR9501_1,  SR03,    30,  1,     16,    216,2,19950725,0730,-54.5247, 141.3310, 2815,    502.8,   2.3010,  34.5180,2,  34.5190,2,    179.0,2,    175.0,2,    67.50,2,    34.60,2,     2.37,2,  2.2720,   -999
    09AR9501_1,  SR03,    30,  1,     15,    115,2,19950725,0730,-54.5247, 141.3310, 2815,    603.7,   2.3170,  34.5750,2,  34.5750,2,    175.7,2,    173.5,2,    70.50,2,    34.10,2,     2.32,2,  2.2820,   -999
    09AR9501_1,  SR03,    30,  1,     14,    114,2,19950725,0730,-54.5247, 141.3310, 2815,    703.4,   2.2830,  34.6230,2,  34.6200,2,    174.6,2,    174.1,2,    73.50,2,    33.40,2,     2.29,2,  2.2410,   -999
    09AR9501_1,  SR03,    30,  1,     13,    113,2,19950725,0730,-54.5247, 141.3310, 2815,    801.7,   2.2480,  34.6550,2,  34.6530,2,    176.6,2,    176.0,2,    74.70,2,    32.90,2,     2.24,2,  2.2000,   -999
    09AR9501_1,  SR03,    30,  1,     12,     12,2,19950725,0730,-54.5247, 141.3310, 2815,    905.0,   2.2000,  34.6810,2,  34.6820,2,    179.6,2,    178.7,2,    73.60,2,    32.10,2,     2.20,2,  2.1450,   -999
    09AR9501_1,  SR03,    30,  1,     11,     11,2,19950725,0730,-54.5247, 141.3310, 2815,   1002.4,   2.1560,  34.7030,2,  34.7020,2,    182.7,2,    182.3,2,    74.50,2,    31.50,2,     2.17,2,  2.0950,   -999
    09AR9501_1,  SR03,    30,  1,     10,     10,2,19950725,0730,-54.5247, 141.3310, 2815,   1103.0,   2.1080,  34.7190,2,  34.7200,2,    184.4,2,    186.1,2,    75.30,2,    31.00,2,     2.13,2,  2.0400,   -999
    09AR9501_1,  SR03,    30,  1,      9,      9,2,19950725,0730,-54.5247, 141.3310, 2815,   1201.5,   2.0310,  34.7310,2,  34.7320,2,    188.9,2,    189.1,2,    77.80,2,    30.70,2,     2.11,2,  1.9570,   -999
    09AR9501_1,  SR03,    30,  1,      8,      8,2,19950725,0730,-54.5247, 141.3310, 2815,   1403.0,   1.8860,  34.7450,2,  34.7450,2,    193.2,2,    194.3,2,    81.30,2,    30.20,2,     2.07,2,  1.7980,   -999
    09AR9501_1,  SR03,    30,  1,      7,      7,2,19950725,0730,-54.5247, 141.3310, 2815,   1600.9,   1.7510,  34.7450,2,  34.7460,2,    195.1,2,    196.9,2,    84.80,2,    30.00,2,     2.07,2,  1.6500,   -999
    09AR9501_1,  SR03,    30,  1,      6,      6,2,19950725,0730,-54.5247, 141.3310, 2815,   1801.6,   1.5400,  34.7410,2,  34.7440,2,    198.4,2,    199.5,2,    91.40,2,    30.50,2,     2.10,2,  1.4260,   -999
    09AR9501_1,  SR03,    30,  1,      5,      5,2,19950725,0730,-54.5247, 141.3310, 2815,   2000.4,   1.3820,  34.7350,2,  34.7360,2,    200.4,2,    201.2,2,    96.30,2,    30.60,2,     2.12,2,  1.2550,   -999
    09AR9501_1,  SR03,    30,  1,      4,      4,2,19950725,0730,-54.5247, 141.3310, 2815,   2201.0,   1.1850,  34.7270,2,  34.7250,2,    205.0,2,    203.1,2,   101.10,2,    31.00,2,     2.14,2,  1.0450,   -999
    09AR9501_1,  SR03,    30,  1,      3,      3,2,19950725,0730,-54.5247, 141.3310, 2815,   2402.8,   1.0270,  34.7200,2,  34.7190,2,    205.9,2,    205.3,2,   107.00,2,    31.30,2,     2.16,2,  0.8730,   -999
    09AR9501_1,  SR03,    30,  1,      2,      2,2,19950725,0730,-54.5247, 141.3310, 2815,   2751.6,   0.7520,  34.7070,2,  34.7060,2,    210.2,2,    209.2,2,   117.30,2,    31.80,2,     2.20,2,  0.5740,   -999
    09AR9501_1,  SR03,    30,  1,      1,      1,2,19950725,0730,-54.5247, 141.3310, 2815,   2840.8,   0.7340,  34.7050,2,  34.7050,2,    210.3,2,    209.3,2,   118.30,2,    31.70,2,     2.20,2,  0.5480,   -999