BOTTLE,20020814WHPSIOKJU
EXPOCODE,SECT_ID,STNNBR,CASTNO,SAMPNO,BTLNBR,BTLNBR_FLAG_W,DATE,TIME,LATITUDE,LONGITUDE,DEPTH,CTDPRS,CTDTMP,CTDSAL,CTDSAL_FLAG_W,SALNTY,SALNTY_FLAG_W,CTDOXY,CTDOXY_FLAG_W,OXYGEN,OXYGEN_FLAG_W,SILCAT,SILCAT_FLAG_W,NITRAT,NITRAT_FLAG_W,NITRIT,NITRIT_FLAG_W,PHSPHT,PHSPHT_FLAG_W,CFC-11,CFC-11_FLAG_W,CFC-12,CFC-12_FLAG_W,CCL4,CCL4_FLAG_W,TCARBN,TCARBN_FLAG_W,ALKALI,ALKALI_FLAG_W,THETA
,,,,,,,,,,,,DBAR,ITS-90,PSS-78,,PSS-78,,UMOL/KG,,UMOL/KG,,UMOL/KG,,UMOL/KG,,UMOL/KG,,UMOL/KG,,PMOL/KG,,PMOL/KG,,PMOL/KG,,UMOL/KG,,UMOL/KG,,DEG C
     316N142_3,   A15,    79,  1,     39,     39,2,19940428,0218,-17.1832, -18.9995, 4674,      5.5,  26.1307,  36.9893,2,  36.9891,3,    197.2,4,    204.9,2,     1.89,2,     0.20,2,     0.00,2,     0.25,2, -999.000,9, -999.000,9, -999.000,9,   -999.0,9,   -999.0,9, 26.1294
     316N142_3,   A15,    79,  1,     35,     35,2,19940428,0218,-17.1832, -18.9995, 4674,     63.5,  26.1108,  36.9839,2,  36.9857,3,    205.1,2,    205.0,2,     1.74,2,     0.15,2,     0.00,2,     0.24,2, -999.000,9, -999.000,9, -999.000,9,   -999.0,9,   -999.0,9, 26.0964
     316N142_3,   A15,    79,  1,     38,     38,2,19940428,0218,-17.1832, -18.9995, 4674,    114.3,  21.6989,  36.3881,2,  36.3916,3,    229.4,2,    223.7,2,     1.72,2,     0.15,2,     0.00,2,     0.26,2, -999.000,9, -999.000,9, -999.000,9,   -999.0,9,   -999.0,9, 21.6764
     316N142_3,   A15,    79,  1,     33,     33,2,19940428,0218,-17.1832, -18.9995, 4674,    214.3,  16.2584,  35.6428,2,  35.6383,4,    195.2,2,    189.4,2,     3.56,2,     7.02,2,     0.01,2,     0.70,2, -999.000,9, -999.000,9, -999.000,9,   -999.0,9,   -999.0,9, 16.2239
     316N142_3,   A15,    79,  1,     41,     41,2,19940428,0218,-17.1832, -18.9995, 4674,    305.2,  12.5441,  35.1159,2,  35.1145,3,    172.9,2,    171.2,2,     6.80,2,    15.19,2,     0.00,2,     1.14,2, -999.000,9, -999.000,9, -999.000,9,   -999.0,9,   -999.0,9, 12.5029
     316N142_3,   A15,    79,  1,     31,     31,2,19940428,0218,-17.1832, -18.9995, 4674,    395.2,   9.1511,  34.7470,2,  34.7480,3,    157.0,2,    156.1,2,    13.18,2,    24.36,2,     0.00,2,     1.70,2, -999.000,9, -999.000,9, -999.000,9,   -999.0,9,   -999.0,9,  9.1074
     316N142_3,   A15,    79,  1,     37,     37,2,19940428,0218,-17.1832, -18.9995, 4674,    495.3,   7.2917,  34.5905,2,  34.5886,3,    147.6,2,    147.7,2,    19.42,2,    29.93,2,     0.00,2,     2.04,2, -999.000,9, -999.000,9, -999.000,9,   -999.0,9,   -999.0,9,  7.2436
     316N142_3,   A15,    79,  1,     29,     29,2,19940428,0218,-17.1832, -18.9995, 4674,    596.2,   5.4801,  34.4689,2,  34.4645,3,    156.2,2,    158.9,2,    27.09,2,    32.96,2,     0.00,2,     2.24,2, -999.000,9, -999.000,9, -999.000,9,   -999.0,9,   -999.0,9,  5.4301
     316N142_3,   A15,    79,  1,     28,     28,2,19940428,0218,-17.1832, -18.9995, 4674,    696.6,   4.6178,  34.4336,2,  34.4322,4,    167.5,2,    168.5,2,    32.79,2,    33.64,2,     0.00,2,     2.30,2, -999.000,9, -999.000,9, -999.000,9,   -999.0,9,   -999.0,9,  4.5634
     316N142_3,   A15,    79,  1,     27,     27,2,19940428,0218,-17.1832, -18.9995, 4674,    797.7,   4.1674,  34.4376,2,  34.4343,3,    175.6,2,    175.2,2,    36.50,2,    33.51,2,     0.00,2,     2.31,2, -999.000,9, -999.000,9, -999.000,9,   -999.0,9,   -999.0,9,  4.1073
     316N142_3,   A15,    79,  1,     26,     26,2,19940428,0218,-17.1832, -18.9995, 4674,    907.8,   3.8059,  34.4883,2,  34.4851,3,    177.4,2,    179.0,2,    40.07,2,    32.95,2,     0.00,2,     2.30,2, -999.000,9, -999.000,9, -999.000,9,   -999.0,9,   -999.0,9,  3.7392
     316N142_3,   A15,    79,  1,     25,     25,2,19940428,0218,-17.1832, -18.9995, 4674,   1008.2,   3.7412,  34.5606,2,  34.5580,3,    182.4,2,    180.1,2,    39.91,2,    32.00,2,     0.00,2,     2.24,2, -999.000,9, -999.000,9, -999.000,9,   -999.0,9,   -999.0,9,  3.6668
     316N142_3,   A15,    79,  1,     24,     24,2,19940428,0218,-17.1832, -18.9995, 4674,   1131.1,   3.7895,  34.6586,2,  34.6539,3,    184.8,2,    184.5,2,    36.89,2,    30.29,2,     0.00,2,     2.12,2, -999.000,9, -999.000,9, -999.000,9,   -999.0,9,   -999.0,9,  3.7043
     316N142_3,   A15,    79,  1,     23,     23,2,19940428,0218,-17.1832, -18.9995, 4674,   1252.1,   3.8246,  34.7376,2,  34.7292,3,    193.7,2,    192.1,2,    34.02,2,    28.53,2,     0.00,2,     1.99,2, -999.000,9, -999.000,9, -999.000,9,   -999.0,9,   -999.0,9,  3.7287
     316N142_3,   A15,    79,  1,     22,     22,2,19940428,0218,-17.1832, -18.9995, 4674,   1372.3,   3.7896,  34.8189,2,  34.8144,3,    207.4,2,    206.3,2,    30.73,2,    26.02,2,     0.00,2,     1.83,2, -999.000,9, -999.000,9, -999.000,9,   -999.0,9,   -999.0,9,  3.6834
     316N142_3,   A15,    79,  1,     21,     21,2,19940428,0218,-17.1832, -18.9995, 4674,   1498.5,   3.6221,  34.8595,2,  34.8535,4,    215.2,2,    218.1,2,    29.72,2,    24.46,2,     0.00,2,     1.72,2, -999.000,9, -999.000,9, -999.000,9,   -999.0,9,   -999.0,9,  3.5066
     316N142_3,   A15,    79,  1,     20,     20,2,19940428,0218,-17.1832, -18.9995, 4674,   1624.8,   3.4698,  34.8852,2,  34.8794,3,    226.7,2,    226.6,2,    29.57,2,    23.28,2,     0.00,2,     1.64,2, -999.000,9, -999.000,9, -999.000,9,   -999.0,9,   -999.0,9,  3.3448
     316N142_3,   A15,    79,  1,     19,     19,2,19940428,0218,-17.1832, -18.9995, 4674,   1766.7,   3.2891,  34.8993,2,  34.8975,3,    235.1,2,    234.9,2,    30.70,2,    22.39,2,     0.00,2,     1.59,2, -999.000,9, -999.000,9, -999.000,9,   -999.0,9,   -999.0,9,  3.1537
     316N142_3,   A15,    79,  1,     40,     40,2,19940428,0218,-17.1832, -18.9995, 4674,   1919.4,   3.1347,  34.9071,2,  34.9051,3,    240.7,2,    239.4,2,    31.97,2,    21.88,2,     0.00,2,     1.54,2, -999.000,9, -999.000,9, -999.000,9,   -999.0,9,   -999.0,9,  2.9877
     316N142_3,   A15,    79,  1,     17,     17,2,19940428,0218,-17.1832, -18.9995, 4674,   2096.5,   2.9918,  34.9093,2,  34.9037,4,    240.5,2,    242.3,2,    33.68,2,    21.60,2,     0.00,2,     1.53,2, -999.000,9, -999.000,9, -999.000,9,   -999.0,9,   -999.0,9,  2.8306
     316N142_3,   A15,    79,  1,     16,     16,2,19940428,0218,-17.1832, -18.9995, 4674,   2248.0,   2.8931,  34.9058,2,  34.9051,3,    242.9,2,    242.6,2,    35.96,2,    21.75,2,     0.00,2,     1.54,2, -999.000,9, -999.000,9, -999.000,9,   -999.0,9,   -999.0,9,  2.7194
     316N142_3,   A15,    79,  1,     15,     15,2,19940428,0218,-17.1832, -18.9995, 4674,   2375.9,   2.8120,  34.9017,2,  34.8980,4,    243.2,2,    242.2,2,    37.81,2,    21.90,2,     0.00,2,     1.56,2, -999.000,9, -999.000,9, -999.000,9,   -999.0,9,   -999.0,9,  2.6276
     316N142_3,   A15,    79,  1,     14,     14,2,19940428,0218,-17.1832, -18.9995, 4674,   2503.1,   2.7621,  34.8986,2,  34.8935,3,    242.5,2,    241.9,2,    39.52,2,    22.15,2,     0.00,2,     1.57,2, -999.000,9, -999.000,9, -999.000,9,   -999.0,9,   -999.0,9,  2.5664
     316N142_3,   A15,    79,  1,     13,     13,2,19940428,0218,-17.1832, -18.9995, 4674,   2654.4,   2.7308,  34.8965,2,  34.8931,3,    242.4,2,    241.9,2,    40.80,2,    22.35,2,     0.00,2,     1.58,2, -999.000,9, -999.000,9, -999.000,9,   -999.0,9,   -999.0,9,  2.5209
     316N142_3,   A15,    79,  1,     12,     12,2,19940428,0218,-17.1832, -18.9995, 4674,   2832.5,   2.6770,  34.8941,2,  34.8929,3,    241.8,2,    241.9,2,    42.66,2,    22.50,2,     0.00,2,     1.59,2, -999.000,9, -999.000,9, -999.000,9,   -999.0,9,   -999.0,9,  2.4505
     316N142_3,   A15,    79,  1,     11,     11,2,19940428,0218,-17.1832, -18.9995, 4674,   3010.5,   2.6258,  34.8913,2,  34.8879,4,    242.4,2,    242.3,2,    44.38,2,    22.65,2,     0.00,2,     1.60,2, -999.000,9, -999.000,9, -999.000,9,   -999.0,9,   -999.0,9,  2.3823
     316N142_3,   A15,    79,  1,     10,     10,2,19940428,0218,-17.1832, -18.9995, 4674,   3214.1,   2.5279,  34.8871,2,  34.8811,3,    243.2,2,    243.1,2,    46.52,2,    22.71,2,     0.00,2,     1.61,2, -999.000,9, -999.000,9, -999.000,9,   -999.0,9,   -999.0,9,  2.2654
     316N142_3,   A15,    79,  1,      9,      9,2,19940428,0218,-17.1832, -18.9995, 4674,   3392.4,   2.4051,  34.8785,2,  34.8736,4,    243.1,2,    243.4,2,    49.54,2,    23.05,2,     0.00,2,     1.62,2, -999.000,9, -999.000,9, -999.000,9,   -999.0,9,   -999.0,9,  2.1268
     316N142_3,   A15,    79,  1,      8,      8,2,19940428,0218,-17.1832, -18.9995, 4674,   3468.9,   2.3411,  34.8725,2,  34.8661,3,    243.1,2,    242.5,2,    51.56,2,    23.21,2,     0.00,2,     1.64,2, -999.000,9, -999.000,9, -999.000,9,   -999.0,9,   -999.0,9,  2.0562
     316N142_3,   A15,    79,  1,      7,      7,2,19940428,0218,-17.1832, -18.9995, 4674,   3648.3,   2.1606,  34.8571,2,  34.8522,3,    241.0,2,    241.7,2,    56.90,2,    23.88,2,     0.00,2,     1.68,2, -999.000,9, -999.000,9, -999.000,9,   -999.0,9,   -999.0,9,  1.8610
     316N142_3,   A15,    79,  1,      6,      6,2,19940428,0218,-17.1832, -18.9995, 4674,   3853.8,   1.9356,  34.8346,2,  34.8325,3,    239.5,2,    239.3,2,    65.19,2,    24.99,2,     0.00,2,     1.76,2, -999.000,9, -999.000,9, -999.000,9,   -999.0,9,   -999.0,9,  1.6197
     316N142_3,   A15,    79,  1,      5,      5,2,19940428,0218,-17.1832, -18.9995, 4674,   4057.1,   1.7001,  34.8117,2,  34.8078,3,    236.7,2,    237.0,2,    73.97,2,    26.01,2,     0.00,2,     1.84,2, -999.000,9, -999.000,9, -999.000,9,   -999.0,9,   -999.0,9,  1.3684
     316N142_3,   A15,    79,  1,      4,      4,2,19940428,0218,-17.1832, -18.9995, 4674,   4262.3,   1.5158,  34.7928,2,  34.7911,3,    234.5,2,    235.0,2,    81.04,2,    26.93,2,     0.00,2,     1.90,2, -999.000,9, -999.000,9, -999.000,9,   -999.0,9,   -999.0,9,  1.1667
     316N142_3,   A15,    79,  1,      3,      3,2,19940428,0218,-17.1832, -18.9995, 4674,   4466.6,   1.4070,  34.7812,2,  34.7765,3,    233.7,2,    233.8,2,    85.63,2,    27.51,2,     0.00,2,     1.95,2, -999.000,9, -999.000,9, -999.000,9,   -999.0,9,   -999.0,9,  1.0381
     316N142_3,   A15,    79,  1,      2,      2,2,19940428,0218,-17.1832, -18.9995, 4674,   4671.9,   1.3670,  34.7750,2,  34.7714,3,    233.3,2,    233.1,2,    88.16,2,    27.86,2,     0.00,2,     1.97,2, -999.000,9, -999.000,9, -999.000,9,   -999.0,9,   -999.0,9,  0.9756
     316N142_3,   A15,    79,  1,      1,      1,2,19940428,0218,-17.1832, -18.9995, 4674,   4769.1,   1.3654,  34.7735,2,  34.7710,3,    233.6,2,    232.8,2,    88.60,2,    27.92,2,     0.00,2,     1.98,2, -999.000,9, -999.000,9, -999.000,9,   -999.0,9,   -999.0,9,  0.9626