BOTTLE,20020814WHPSIOKJU
EXPOCODE,SECT_ID,STNNBR,CASTNO,SAMPNO,BTLNBR,BTLNBR_FLAG_W,DATE,TIME,LATITUDE,LONGITUDE,DEPTH,CTDPRS,CTDTMP,CTDSAL,CTDSAL_FLAG_W,SALNTY,SALNTY_FLAG_W,CTDOXY,CTDOXY_FLAG_W,OXYGEN,OXYGEN_FLAG_W,SILCAT,SILCAT_FLAG_W,NITRAT,NITRAT_FLAG_W,NITRIT,NITRIT_FLAG_W,PHSPHT,PHSPHT_FLAG_W,CFC-11,CFC-11_FLAG_W,CFC-12,CFC-12_FLAG_W,CCL4,CCL4_FLAG_W,TCARBN,TCARBN_FLAG_W,ALKALI,ALKALI_FLAG_W,THETA
,,,,,,,,,,,,DBAR,ITS-90,PSS-78,,PSS-78,,UMOL/KG,,UMOL/KG,,UMOL/KG,,UMOL/KG,,UMOL/KG,,UMOL/KG,,PMOL/KG,,PMOL/KG,,PMOL/KG,,UMOL/KG,,UMOL/KG,,DEG C
     316N142_3,   A15,    94,  1,     39,     39,2,19940502,0130,-24.7018, -18.9990, 4934,      5.2,  25.0616,  36.9077,2,  36.9094,2,    192.8,4,    209.8,2,     2.01,2,     0.06,2,     0.00,2,     0.14,2,    1.672,2,    1.028,2,    2.477,2,   2070.8,2,   2406.1,2, 25.0605
     316N142_3,   A15,    94,  1,     35,     35,2,19940502,0130,-24.7018, -18.9990, 4934,     74.0,  21.6585,  36.3315,2,  36.3307,2,    224.8,4,    234.8,2,     1.99,2,     0.06,2,     0.00,2,     0.13,2,    2.094,2,    1.224,2,    2.153,2,   2058.6,2,   2376.5,2, 21.6440
     316N142_3,   A15,    94,  1,     38,     38,2,19940502,0130,-24.7018, -18.9990, 4934,    134.8,  18.8300,  36.0048,2,  36.0060,2,    219.0,2,    219.0,2,     1.97,2,     0.06,2,     0.09,2,     0.21,2,    2.241,2,    1.273,2,    1.678,2,   2076.3,2,   2353.8,2, 18.8060
     316N142_3,   A15,    94,  1,     33,     33,2,19940502,0130,-24.7018, -18.9990, 4934,    197.6,  16.1297,  35.5873,2,  35.5855,2,    214.1,2,    210.4,2,     2.82,2,     3.35,2,     0.01,2,     0.44,2,    2.458,2,    1.338,2,    0.922,2,   2086.3,2,   2329.4,2, 16.0981
     316N142_3,   A15,    94,  1,     41,     41,2,19940502,0130,-24.7018, -18.9990, 4934,    300.6,  13.8419,  35.2560,2,  35.2585,2,    207.0,2,    204.9,2,     4.40,2,     8.23,2,     0.01,2,     0.71,2, -999.000,9, -999.000,9, -999.000,9,   2099.3,2,   2313.2,2, 13.7986
     316N142_3,   A15,    94,  1,     31,     31,2,19940502,0130,-24.7018, -18.9990, 4934,    405.7,  11.7592,  35.0059,2,  35.0053,2,    201.2,2,    199.4,2,     6.57,2,    13.75,2,     0.00,2,     1.03,2,    1.904,2,    1.121,2,    1.084,2,   2120.2,2,   2302.8,2, 11.7065
     316N142_3,   A15,    94,  1,     37,     37,2,19940502,0130,-24.7018, -18.9990, 4934,    506.0,   9.5282,  34.7539,2,  34.7543,2,    193.7,2,    192.6,2,    10.63,2,    19.67,2,     0.00,2,     1.40,2, -999.000,9, -999.000,9, -999.000,9,   2143.1,2,   2290.4,2,  9.4704
     316N142_3,   A15,    94,  1,     29,     29,2,19940502,0130,-24.7018, -18.9990, 4934,    624.7,   6.6483,  34.4861,2,  34.4855,2,    191.0,2,    191.0,2,    19.08,2,    26.98,2,     0.00,2,     1.86,2,    0.896,2,    0.529,2,    1.579,2,   2172.0,2,   2287.6,2,  6.5901
     316N142_3,   A15,    94,  1,     28,     28,2,19940502,0130,-24.7018, -18.9990, 4934,    714.6,   5.4977,  34.4042,2,  34.4048,2,    194.7,2,    196.6,2,    23.87,2,    29.13,2,     0.00,2,     2.01,2,    0.980,2,    0.494,2,    1.998,2,   2180.3,2,   2293.0,2,  5.4371
     316N142_3,   A15,    94,  1,     27,     27,2,19940502,0130,-24.7018, -18.9990, 4934,    806.8,   4.5292,  34.3622,2,  34.3620,2,    197.2,2,    200.4,2,    30.42,2,    30.68,2,     0.00,2,     2.12,2,    0.748,6,    0.362,6,    1.698,6,   2189.9,2,   2296.6,2,  4.4662
     316N142_3,   A15,    94,  1,     26,     26,2,19940502,0130,-24.7018, -18.9990, 4934,    927.9,   3.7804,  34.3945,2,  34.3936,2,    191.2,2,    193.2,2,    40.20,2,    32.10,2,     0.00,2,     2.22,2,    0.425,2,    0.182,2,    1.235,2,   2205.6,2,   2306.7,2,  3.7124
     316N142_3,   A15,    94,  1,     25,     25,2,19940502,0130,-24.7018, -18.9990, 4934,   1050.4,   3.4630,  34.4758,2,  34.4745,2,    185.7,2,    185.8,2,    46.33,2,    32.38,2,     0.00,2,     2.24,2, -999.000,9, -999.000,9, -999.000,9,   2216.6,2,   2314.7,2,  3.3875
     316N142_3,   A15,    94,  1,     24,     24,2,19940502,0130,-24.7018, -18.9990, 4934,   1171.6,   3.3584,  34.5777,2,  34.5779,2,    187.3,2,    186.1,2,    47.31,2,    31.23,2,     0.00,2,     2.15,2,    0.060,4,    0.024,2,    0.338,2,   -999.0,9,   -999.0,9,  3.2739
     316N142_3,   A15,    94,  1,     23,     23,2,19940502,0130,-24.7018, -18.9990, 4934,   1291.2,   3.2571,  34.6514,2,  34.6498,2,    191.5,2,    191.6,2,    47.69,2,    29.90,2,     0.00,2,     2.07,2, -999.000,9, -999.000,9, -999.000,9,   2216.1,2,   2325.5,2,  3.1636
     316N142_3,   A15,    94,  1,     22,     22,2,19940502,0130,-24.7018, -18.9990, 4934,   1411.6,   3.1500,  34.7009,2,  34.6989,2,    198.7,2,    197.3,2,    47.93,2,    28.80,2,     0.00,2,     1.99,2, -999.000,9,    0.007,2,    0.141,2,   -999.0,9,   -999.0,9,  3.0476
     316N142_3,   A15,    94,  1,     21,     21,2,19940502,0130,-24.7018, -18.9990, 4934,   1537.8,   3.0926,  34.7607,2,  34.7603,2,    207.7,2,    207.2,2,    45.82,2,    27.07,2,     0.00,2,     1.87,2, -999.000,9, -999.000,9, -999.000,9,   2206.2,2,   2331.3,2,  2.9800
     316N142_3,   A15,    94,  1,     20,     20,2,19940502,0130,-24.7018, -18.9990, 4934,   1665.4,   3.0780,  34.8139,2,  34.8133,2,    220.3,2,    218.8,2,    41.95,2,    25.25,2,     0.00,2,     1.74,2, -999.000,9,    0.007,2,    0.067,2,   -999.0,9,   -999.0,9,  2.9545
     316N142_3,   A15,    94,  1,     19,     19,2,19940502,0130,-24.7018, -18.9990, 4934,   1818.3,   3.0983,  34.8686,2,  34.8691,2,    231.7,2,    232.0,2,    36.34,2,    23.12,2,     0.00,2,     1.60,2, -999.000,9, -999.000,9, -999.000,9,   2186.6,2,   2330.9,2,  2.9609
     316N142_3,   A15,    94,  1,     40,     40,2,19940502,0130,-24.7018, -18.9990, 4934,   2021.5,   3.0830,  34.9026,2,  34.9030,2,    242.6,2,    241.8,2,    32.50,2,    21.63,2,     0.00,2,     1.48,2, -999.000,9,    0.008,2,    0.118,2,   -999.0,9,   -999.0,9,  2.9273
     316N142_3,   A15,    94,  1,     17,     17,2,19940502,0130,-24.7018, -18.9990, 4934,   2223.7,   3.0135,  34.9184,2,  34.9180,2,    247.7,2,    247.4,2,    31.29,2,    20.91,2,     0.00,2,     1.43,2, -999.000,9, -999.000,9, -999.000,9,   2174.7,2,   2328.7,2,  2.8400
     316N142_3,   A15,    94,  1,     16,     16,2,19940502,0130,-24.7018, -18.9990, 4934,   2427.8,   2.9199,  34.9213,2,  34.9215,2,    250.2,2,    249.7,2,    32.12,2,    20.68,2,     0.00,2,     1.42,2, -999.000,9,    0.009,2,    0.383,2,   -999.0,9,   -999.0,9,  2.7285
     316N142_3,   A15,    94,  1,     15,     15,2,19940502,0130,-24.7018, -18.9990, 4934,   2579.5,   2.8334,  34.9190,2,  34.9193,2,    250.1,2,    250.2,2,    33.39,2,    20.68,2,     0.00,2,     1.42,2, -999.000,9, -999.000,9, -999.000,9,   2175.6,2,   2331.7,2,  2.6289
     316N142_3,   A15,    94,  1,     14,     14,2,19940502,0130,-24.7018, -18.9990, 4934,   2732.2,   2.7740,  34.9174,2,  34.9176,2,    251.8,2,    250.8,2,    34.36,2,    20.72,2,     0.00,2,     1.42,2, -999.000,9, -999.000,9, -999.000,9,   -999.0,9,   -999.0,9,  2.5555
     316N142_3,   A15,    94,  1,     13,     13,2,19940502,0130,-24.7018, -18.9990, 4934,   2935.7,   2.6850,  34.9109,2,  34.9115,2,    251.3,2,    250.6,2,    36.65,2,    20.95,2,     0.00,2,     1.44,2, -999.000,9, -999.000,9, -999.000,9,   2178.4,2,   2332.4,2,  2.4478
     316N142_3,   A15,    94,  1,     12,     12,2,19940502,0130,-24.7018, -18.9990, 4934,   3139.9,   2.5570,  34.8996,2,  34.8995,2,    250.1,2,    249.9,2,    40.82,2,    21.31,2,     0.00,2,     1.47,2, -999.000,9,    0.003,2,    0.059,2,   -999.0,9,   -999.0,9,  2.3015
     316N142_3,   A15,    94,  1,     11,     11,9,19940502,0130,-24.7018, -18.9990, 4934,   3293.4,   2.4443,  34.8901,2,-999.0000,9,    248.6,2,   -999.0,9,  -999.00,9,  -999.00,9,  -999.00,9,  -999.00,9, -999.000,9, -999.000,9, -999.000,9,   -999.0,9,   -999.0,9,  2.1755
     316N142_3,   A15,    94,  1,     10,     10,2,19940502,0130,-24.7018, -18.9990, 4934,   3445.5,   2.2691,  34.8727,2,  34.8741,2,    246.3,2,    246.6,2,    51.14,2,    22.67,2,     0.00,2,     1.57,2, -999.000,9, -999.000,9, -999.000,9,   -999.0,9,   -999.0,9,  1.9885
     316N142_3,   A15,    94,  1,      9,      9,2,19940502,0130,-24.7018, -18.9990, 4934,   3598.5,   2.0524,  34.8498,2,  34.8508,2,    242.0,2,    243.0,2,    60.34,2,    23.90,2,     0.00,2,     1.66,2, -999.000,9, -999.000,9, -999.000,9,   2201.9,2,   2345.8,2,  1.7609
     316N142_3,   A15,    94,  1,      8,      8,2,19940502,0130,-24.7018, -18.9990, 4934,   3750.8,   1.8261,  34.8276,2,  34.8272,2,    239.3,2,    239.9,2,    69.43,2,    24.98,2,     0.00,2,     1.74,2, -999.000,9, -999.000,9, -999.000,9,   -999.0,9,   -999.0,9,  1.5243
     316N142_3,   A15,    94,  1,      7,      7,2,19940502,0130,-24.7018, -18.9990, 4934,   3904.1,   1.7452,  34.8179,2,  34.8187,2,    238.1,2,    238.7,2,    69.93,2,    25.27,2,     0.00,2,     1.76,2, -999.000,9, -999.000,9, -999.000,9,   2212.6,2,   2352.0,2,  1.4291
     316N142_3,   A15,    94,  1,      6,      6,2,19940502,0130,-24.7018, -18.9990, 4934,   4107.1,   1.6290,  34.8049,2,  34.8071,2,    236.5,2,    236.9,2,    74.59,2,    25.95,2,     0.00,2,     1.79,2, -999.000,9,    0.010,2,    0.029,2,   -999.0,9,   -999.0,9,  1.2939
     316N142_3,   A15,    94,  1,      5,      5,2,19940502,0130,-24.7018, -18.9990, 4934,   4310.4,   1.5516,  34.7958,2,  34.7967,2,    234.9,2,    235.7,2,    79.26,2,    26.40,2,     0.00,2,     1.83,2, -999.000,9, -999.000,9, -999.000,9,   2220.4,2,   2354.2,2,  1.1960
     316N142_3,   A15,    94,  1,      4,      4,2,19940502,0130,-24.7018, -18.9990, 4934,   4512.5,   1.4078,  34.7803,2,  34.7818,2,    233.6,2,    233.6,2,    85.45,2,    27.18,2,     0.00,2,     1.89,2, -999.000,9, -999.000,9, -999.000,9,   -999.0,9,   -999.0,9,  1.0336
     316N142_3,   A15,    94,  1,      3,      3,2,19940502,0130,-24.7018, -18.9990, 4934,   4721.5,   1.3211,  34.7703,2,  34.7710,2,    232.3,2,    232.4,2,    88.32,2,    27.53,2,     0.00,2,     1.93,2, -999.000,9, -999.000,9, -999.000,9,   2231.2,2,   2359.7,2,  0.9254
     316N142_3,   A15,    94,  1,      2,      2,2,19940502,0130,-24.7018, -18.9990, 4934,   4918.1,   1.2602,  34.7619,2,  34.7649,2,    231.9,2,    231.5,2,    90.50,2,    27.90,2,     0.00,2,     1.95,2, -999.000,9,    0.003,2,    0.076,2,   -999.0,9,   -999.0,9,  0.8434
     316N142_3,   A15,    94,  1,      1,      1,2,19940502,0130,-24.7018, -18.9990, 4934,   5130.1,   1.2687,  34.7606,2,  34.7618,2,    232.2,2,    231.0,2,    90.87,2,    28.03,2,     0.00,2,     1.95,2, -999.000,9,    0.007,2,    0.128,2,   -999.0,9,   -999.0,9,  0.8260