BOTTLE,20020814WHPSIOKJU
EXPOCODE,SECT_ID,STNNBR,CASTNO,SAMPNO,BTLNBR,BTLNBR_FLAG_W,DATE,TIME,LATITUDE,LONGITUDE,DEPTH,CTDPRS,CTDTMP,CTDSAL,CTDSAL_FLAG_W,SALNTY,SALNTY_FLAG_W,CTDOXY,CTDOXY_FLAG_W,OXYGEN,OXYGEN_FLAG_W,SILCAT,SILCAT_FLAG_W,NITRAT,NITRAT_FLAG_W,NITRIT,NITRIT_FLAG_W,PHSPHT,PHSPHT_FLAG_W,CFC-11,CFC-11_FLAG_W,CFC-12,CFC-12_FLAG_W,CCL4,CCL4_FLAG_W,TCARBN,TCARBN_FLAG_W,ALKALI,ALKALI_FLAG_W,THETA
,,,,,,,,,,,,DBAR,ITS-90,PSS-78,,PSS-78,,UMOL/KG,,UMOL/KG,,UMOL/KG,,UMOL/KG,,UMOL/KG,,UMOL/KG,,PMOL/KG,,PMOL/KG,,PMOL/KG,,UMOL/KG,,UMOL/KG,,DEG C
     316N142_3,   A15,    68,  1,     35,     35,4,19940424,1958,-11.3338, -18.9997, 4538,      8.8,  27.2981,  36.8054,2,  36.8063,2,    199.0,2,    199.6,2,     1.77,2,     0.19,2,     0.00,2,     0.16,2,    1.797,2,    0.970,2,    2.111,2,   2050.5,2,   2402.1,2, 27.2960
     316N142_3,   A15,    68,  1,     38,     38,4,19940424,1958,-11.3338, -18.9997, 4538,     77.2,  26.3204,  36.9313,4,  36.9046,2,   -999.0,5,    207.5,2,     1.63,2,     0.19,2,     0.00,2,     0.16,2,    1.773,2,    1.025,2,    1.915,2,   2062.1,2,   2412.6,2, 26.3029
     316N142_3,   A15,    68,  1,     33,     33,4,19940424,1958,-11.3338, -18.9997, 4538,    130.1,  20.8965,  36.3829,2,  36.3896,2,    199.1,2,    198.8,2,     2.15,2,     0.82,2,     0.12,2,     0.38,2,    2.070,6,    1.162,6,    1.136,6,   2098.1,2,   2386.4,2, 20.8715
     316N142_3,   A15,    68,  1,     41,     41,4,19940424,1958,-11.3338, -18.9997, 4538,    185.2,  15.0477,  35.5473,2,  35.5267,2,    145.9,2,    138.4,2,     5.95,2,    15.38,2,     0.01,2,     1.13,2,    1.864,2,    0.993,2,    0.563,2,   2152.4,2,   2325.9,2, 15.0195
     316N142_3,   A15,    68,  1,     31,     31,4,19940424,1958,-11.3338, -18.9997, 4538,    295.9,   9.9644,  34.9210,2,  34.9209,2,     83.9,2,     82.6,2,    14.48,2,    30.37,2,     0.00,2,     1.97,2,    0.387,2,    0.230,2,    0.152,2,   2210.6,2,   2296.9,2,  9.9300
     316N142_3,   A15,    68,  1,     37,     37,2,19940424,1958,-11.3338, -18.9997, 4538,    493.8,   6.9455,  34.5984,2,  34.5975,2,    120.1,2,    120.4,2,    21.03,2,    33.43,2,     0.00,2,     2.20,2,    0.226,2,    0.110,2,    0.371,2,   2210.9,2,   2292.5,2,  6.8987
     316N142_3,   A15,    68,  1,     29,     29,2,19940424,1958,-11.3338, -18.9997, 4538,    596.1,   5.8626,  34.5105,2,  34.5099,2,    132.8,2,    135.3,2,    25.35,2,    34.34,2,     0.00,2,     2.30,2,    0.100,2,    0.081,2,    0.422,2,   2212.4,2,   2291.3,2,  5.8107
     316N142_3,   A15,    68,  1,     28,     28,2,19940424,1958,-11.3338, -18.9997, 4538,    707.5,   5.0585,  34.4607,2,  34.4604,2,    146.4,2,    149.9,2,    29.40,2,    34.45,2,     0.00,2,     2.33,2,    0.137,2,    0.056,2,    0.478,2,   2211.8,2,   2295.0,2,  5.0008
     316N142_3,   A15,    68,  1,     27,     27,2,19940424,1958,-11.3338, -18.9997, 4538,    798.2,   4.5320,  34.4567,2,  34.4563,2,    156.4,2,    157.0,2,    33.32,2,    34.66,2,     0.00,2,     2.35,2,    0.075,4,    0.026,2,    0.269,2,   2215.8,2,   2297.7,2,  4.4696
     316N142_3,   A15,    68,  1,     26,     26,2,19940424,1958,-11.3338, -18.9997, 4538,    909.0,   4.1996,  34.4893,2,  34.4883,2,    160.2,2,    160.8,2,    36.32,2,    34.38,2,     0.00,2,     2.34,2,    0.035,4,    0.011,2,    0.204,2,   2216.3,2,   2301.4,2,  4.1300
     316N142_3,   A15,    68,  1,     25,     25,9,19940424,1958,-11.3338, -18.9997, 4538,   1009.6,   3.9614,  34.5466,2,-999.0000,9,    167.8,2,   -999.0,9,  -999.00,9,  -999.00,9,  -999.00,9,  -999.00,9, -999.000,9, -999.000,9, -999.000,9,   -999.0,9,   -999.0,9,  3.8852
     316N142_3,   A15,    68,  1,     24,     24,2,19940424,1958,-11.3338, -18.9997, 4538,   1135.3,   3.9569,  34.6586,2,  34.6580,2,    174.1,2,    176.6,2,    35.38,2,    31.11,2,     0.00,2,     2.14,2,    0.028,4,    0.012,2,    0.044,2,   -999.0,9,   -999.0,9,  3.8699
     316N142_3,   A15,    68,  1,     23,     23,2,19940424,1958,-11.3338, -18.9997, 4538,   1262.3,   3.9645,  34.7502,2,  34.7505,2,    185.8,2,    187.1,2,    32.22,2,    28.84,2,     0.00,2,     1.99,2, -999.000,9, -999.000,9, -999.000,9,   2202.1,2,   2311.8,2,  3.8664
     316N142_3,   A15,    68,  1,     22,     22,2,19940424,1958,-11.3338, -18.9997, 4538,   1388.8,   3.9821,  34.8350,2,  34.8370,2,    200.0,2,    202.2,2,    28.27,2,    26.24,2,     0.00,2,     1.80,2, -999.000,9,    0.029,2,    0.075,2,   -999.0,9,   -999.0,9,  3.8724
     316N142_3,   A15,    68,  1,     21,     21,2,19940424,1958,-11.3338, -18.9997, 4538,   1515.3,   3.8789,  34.8953,2,  34.8962,2,    217.6,2,    218.6,2,    25.63,2,    23.87,2,     0.00,2,     1.63,2, -999.000,9, -999.000,9, -999.000,9,   2184.9,2,   2318.3,2,  3.7589
     316N142_3,   A15,    68,  1,     20,     20,2,19940424,1958,-11.3338, -18.9997, 4538,   1616.1,   3.7913,  34.9256,2,  34.9263,2,    226.4,2,    229.9,2,    24.04,2,    22.31,2,     0.00,2,     1.54,2,    0.019,4,    0.013,6,    0.145,6,   -999.0,9,   -999.0,9,  3.6631
     316N142_3,   A15,    68,  1,     19,     19,2,19940424,1958,-11.3338, -18.9997, 4538,   1707.1,   3.7431,  34.9492,2,  34.9505,2,    240.3,2,    240.2,2,    22.20,2,    20.98,2,     0.00,2,     1.45,2, -999.000,9,    0.016,2,    0.119,2,   2171.5,2,   2314.3,2,  3.6071
     316N142_3,   A15,    68,  1,     40,     40,2,19940424,1958,-11.3338, -18.9997, 4538,   1843.9,   3.5527,  34.9511,2,  34.9523,2,    247.4,2,    245.9,2,    23.10,2,    20.37,2,     0.00,2,     1.41,2, -999.000,9,    0.014,2,    0.179,2,   -999.0,9,   -999.0,9,  3.4065
     316N142_3,   A15,    68,  1,     17,     17,2,19940424,1958,-11.3338, -18.9997, 4538,   1970.6,   3.4209,  34.9504,2,  34.9523,2,    249.5,2,    249.1,2,    23.87,2,    20.14,2,     0.00,2,     1.40,2, -999.000,9,    0.010,2,    0.259,2,   2170.1,2,   2318.5,2,  3.2648
     316N142_3,   A15,    68,  1,     16,     16,2,19940424,1958,-11.3338, -18.9997, 4538,   2122.7,   3.2542,  34.9433,2,  34.9434,2,    250.1,2,    249.6,2,    26.21,2,    20.29,2,     0.00,2,     1.41,2, -999.000,9,    0.009,2,    0.127,2,   -999.0,9,   -999.0,9,  3.0863
     316N142_3,   A15,    68,  1,     15,     15,2,19940424,1958,-11.3338, -18.9997, 4538,   2274.3,   3.1152,  34.9347,2,  34.9351,2,    248.8,2,    249.1,2,    28.81,2,    20.49,2,     0.00,2,     1.43,2, -999.000,9, -999.000,9, -999.000,9,   2173.5,2,   2321.9,2,  2.9351
     316N142_3,   A15,    68,  1,     14,     14,2,19940424,1958,-11.3338, -18.9997, 4538,   2426.9,   2.9612,  34.9246,2,  34.9243,2,    247.7,2,    246.6,2,    32.32,2,    20.92,2,     0.00,2,     1.46,2, -999.000,9, -999.000,9, -999.000,9,   -999.0,9,   -999.0,9,  2.7692
     316N142_3,   A15,    68,  1,     13,     13,2,19940424,1958,-11.3338, -18.9997, 4538,   2579.5,   2.8560,  34.9155,2,  34.9157,2,    246.8,2,    245.5,2,    35.18,2,    21.27,2,     0.00,2,     1.48,2, -999.000,9, -999.000,9, -999.000,9,   2180.1,2,   2328.7,2,  2.6510
     316N142_3,   A15,    68,  1,     12,     12,2,19940424,1958,-11.3338, -18.9997, 4538,   2732.6,   2.7769,  34.9082,2,  34.9080,2,    245.4,2,    244.2,2,    37.90,2,    21.66,2,     0.00,2,     1.51,2, -999.000,9,    0.008,2, -999.000,9,   -999.0,9,   -999.0,9,  2.5584
     316N142_3,   A15,    68,  1,     11,     11,2,19940424,1958,-11.3338, -18.9997, 4538,   2934.8,   2.6942,  34.9022,2,  34.9052,2,    244.1,2,    243.5,2,    39.97,2,    21.85,2,     0.00,2,     1.52,2, -999.000,9, -999.000,9, -999.000,9,   2186.5,2,   2334.2,2,  2.4569
     316N142_3,   A15,    68,  1,     10,     10,2,19940424,1958,-11.3338, -18.9997, 4538,   3139.1,   2.6215,  34.9002,2,  34.9001,2,    245.5,2,    245.1,2,    40.61,2,    21.77,2,     0.00,2,     1.51,2, -999.000,9, -999.000,9, -999.000,9,   -999.0,9,   -999.0,9,  2.3647
     316N142_3,   A15,    68,  1,      9,      9,2,19940424,1958,-11.3338, -18.9997, 4538,   3344.0,   2.4865,  34.8934,2,  34.8938,2,    246.8,2,    247.5,2,    42.41,2,    21.73,2,     0.00,2,     1.51,2, -999.000,9, -999.000,9, -999.000,9,   2186.8,2,   2338.1,2,  2.2113
     316N142_3,   A15,    68,  1,      8,      8,2,19940424,1958,-11.3338, -18.9997, 4538,   3547.6,   2.3617,  34.8831,2,  34.8836,2,    247.4,2,    248.0,2,    45.78,2,    21.97,2,     0.00,2,     1.54,2, -999.000,9,    0.012,2, -999.000,9,   -999.0,9,   -999.0,9,  2.0677
     316N142_3,   A15,    68,  1,      7,      7,2,19940424,1958,-11.3338, -18.9997, 4538,   3700.3,   2.2360,  34.8718,2,  34.8726,2,    246.8,2,    247.0,2,    49.93,2,    22.46,2,     0.00,2,     1.58,2, -999.000,9, -999.000,9, -999.000,9,   2193.7,2,   2337.9,2,  1.9287
     316N142_3,   A15,    68,  1,      6,      6,2,19940424,1958,-11.3338, -18.9997, 4538,   3854.0,   2.0381,  34.8525,2,  34.8529,2,    245.4,2,    245.0,2,    56.93,2,    23.47,2,     0.00,2,     1.64,2, -999.000,9,    0.010,2,    0.104,2,   -999.0,9,   -999.0,9,  1.7192
     316N142_3,   A15,    68,  1,      5,      5,2,19940424,1958,-11.3338, -18.9997, 4538,   4006.4,   1.8268,  34.8307,2,  34.8314,2,    242.5,2,    242.2,2,    65.32,2,    24.58,2,     0.00,2,     1.73,2, -999.000,9, -999.000,9, -999.000,9,   2208.7,2,   -999.0,9,  1.4971
     316N142_3,   A15,    68,  1,      4,      4,2,19940424,1958,-11.3338, -18.9997, 4538,   4160.3,   1.6004,  34.8068,2,  34.8076,2,    238.3,2,    238.4,2,    74.43,2,    25.93,2,     0.00,2,     1.81,2, -999.000,9,    0.005,2,    0.051,2,   -999.0,9,   -999.0,9,  1.2602
     316N142_3,   A15,    68,  1,      3,      3,2,19940424,1958,-11.3338, -18.9997, 4538,   4314.8,   1.3653,  34.7818,2,  34.7829,2,    235.0,2,    234.8,2,    83.54,2,    27.23,2,     0.00,2,     1.90,2, -999.000,9, -999.000,9, -999.000,9,   2227.9,2,   2356.3,2,  1.0148
     316N142_3,   A15,    68,  1,      2,      2,2,19940424,1958,-11.3338, -18.9997, 4538,   4467.5,   1.1930,  34.7630,2,  34.7652,2,    232.9,2,    232.1,2,    90.13,2,    28.29,2,     0.00,2,     1.97,2, -999.000,9, -999.000,9, -999.000,9,   -999.0,9,   -999.0,9,  0.8307
     316N142_3,   A15,    68,  1,      1,      1,2,19940424,1958,-11.3338, -18.9997, 4538,   4626.2,   1.1832,  34.7605,2,  34.7614,2,    232.1,2,    231.4,2,    91.21,2,    28.50,2,     0.00,2,     1.99,2, -999.000,9,    0.004,2,    0.049,2,   2234.2,2,   2356.8,2,  0.8031