BOTTLE,20020814WHPSIOKJU
EXPOCODE,SECT_ID,STNNBR,CASTNO,SAMPNO,BTLNBR,BTLNBR_FLAG_W,DATE,TIME,LATITUDE,LONGITUDE,DEPTH,CTDPRS,CTDTMP,CTDSAL,CTDSAL_FLAG_W,SALNTY,SALNTY_FLAG_W,CTDOXY,CTDOXY_FLAG_W,OXYGEN,OXYGEN_FLAG_W,SILCAT,SILCAT_FLAG_W,NITRAT,NITRAT_FLAG_W,NITRIT,NITRIT_FLAG_W,PHSPHT,PHSPHT_FLAG_W,CFC-11,CFC-11_FLAG_W,CFC-12,CFC-12_FLAG_W,CCL4,CCL4_FLAG_W,TCARBN,TCARBN_FLAG_W,ALKALI,ALKALI_FLAG_W,THETA
,,,,,,,,,,,,DBAR,ITS-90,PSS-78,,PSS-78,,UMOL/KG,,UMOL/KG,,UMOL/KG,,UMOL/KG,,UMOL/KG,,UMOL/KG,,PMOL/KG,,PMOL/KG,,PMOL/KG,,UMOL/KG,,UMOL/KG,,DEG C
     316N142_3,   A15,    54,  1,     39,     39,2,19940421,0559, -4.3995, -18.9995, 4973,      7.3,  28.3124,  35.7907,2,  35.7904,2,    214.8,3,    209.3,2,     1.85,2,     0.37,2,     0.00,2,     0.11,2, -999.000,9, -999.000,9, -999.000,9,   -999.0,9,   -999.0,9, 28.3106
     316N142_3,   A15,    54,  1,     35,     35,2,19940421,0559, -4.3995, -18.9995, 4973,     45.5,  25.5814,  36.1946,2,  36.1709,2,    215.0,3,    221.4,2,     1.96,2,     0.37,2,     0.01,2,     0.16,2, -999.000,9, -999.000,9, -999.000,9,   -999.0,9,   -999.0,9, 25.5714
     316N142_3,   A15,    54,  1,     38,     38,2,19940421,0559, -4.3995, -18.9995, 4973,     76.0,  20.0258,  36.1040,2,  36.0851,2,    146.6,2,    149.0,2,     3.95,2,     8.87,2,     0.40,2,     0.73,2, -999.000,9, -999.000,9, -999.000,9,   -999.0,9,   -999.0,9, 20.0116
     316N142_3,   A15,    54,  1,     33,     33,2,19940421,0559, -4.3995, -18.9995, 4973,    125.2,  13.2347,  35.3081,2,  35.3066,2,     97.2,2,     95.8,2,     9.55,2,    23.39,2,     0.01,2,     1.51,2, -999.000,9, -999.000,9, -999.000,9,   -999.0,9,   -999.0,9, 13.2173
     316N142_3,   A15,    54,  1,     41,     41,2,19940421,0559, -4.3995, -18.9995, 4973,    246.5,  11.5809,  35.0968,2,  35.0937,2,    107.0,2,    107.7,2,    11.40,2,    25.07,2,     0.01,2,     1.64,2, -999.000,9, -999.000,9, -999.000,9,   -999.0,9,   -999.0,9, 11.5494
     316N142_3,   A15,    54,  1,     31,     31,2,19940421,0559, -4.3995, -18.9995, 4973,    357.5,   9.5974,  34.8811,2,  34.8766,2,     73.5,2,     74.6,2,    15.94,2,    32.52,2,     0.01,2,     2.05,2, -999.000,9, -999.000,9, -999.000,9,   -999.0,9,   -999.0,9,  9.5567
     316N142_3,   A15,    54,  1,     37,     37,2,19940421,0559, -4.3995, -18.9995, 4973,    458.5,   7.7998,  34.6928,2,  34.6926,2,     90.3,2,     90.3,2,    19.95,2,    34.71,2,     0.01,2,     2.23,2, -999.000,9, -999.000,9, -999.000,9,   -999.0,9,   -999.0,9,  7.7535
     316N142_3,   A15,    54,  1,     29,     29,9,19940421,0559, -4.3995, -18.9995, 4973,    549.1,   6.4721,  34.5677,2,-999.0000,9,    118.3,2,   -999.0,9,  -999.00,9,  -999.00,9,  -999.00,9,  -999.00,9, -999.000,9, -999.000,9, -999.000,9,   -999.0,9,   -999.0,9,  6.4219
     316N142_3,   A15,    54,  1,     28,     28,2,19940421,0559, -4.3995, -18.9995, 4973,    643.5,   5.6626,  34.5113,2,  34.5107,2,    127.8,2,    129.6,2,    26.78,2,    35.09,2,     0.00,2,     2.35,2, -999.000,9, -999.000,9, -999.000,9,   -999.0,9,   -999.0,9,  5.6074
     316N142_3,   A15,    54,  1,     27,     27,2,19940421,0559, -4.3995, -18.9995, 4973,    740.0,   4.9617,  34.4835,2,  34.4832,2,    140.8,2,    141.9,2,    30.52,2,    35.11,2,     0.00,2,     2.37,2, -999.000,9, -999.000,9, -999.000,9,   -999.0,9,   -999.0,9,  4.9017
     316N142_3,   A15,    54,  1,     26,     26,2,19940421,0559, -4.3995, -18.9995, 4973,    861.0,   4.5300,  34.5002,2,  34.5002,2,    148.4,2,    147.6,2,    33.60,2,    34.85,2,     0.00,2,     2.38,2, -999.000,9, -999.000,9, -999.000,9,   -999.0,9,   -999.0,9,  4.4622
     316N142_3,   A15,    54,  1,     25,     25,2,19940421,0559, -4.3995, -18.9995, 4973,    981.4,   4.2209,  34.5812,2,  34.5813,2,    159.5,2,    159.4,2,    34.66,2,    33.16,2,     0.00,2,     2.27,2, -999.000,9, -999.000,9, -999.000,9,   -999.0,9,   -999.0,9,  4.1450
     316N142_3,   A15,    54,  1,     24,     24,2,19940421,0559, -4.3995, -18.9995, 4973,   1113.3,   4.3071,  34.7306,2,  34.7250,2,    173.7,2,    171.9,2,    30.50,2,    30.22,2,     0.00,2,     2.07,2, -999.000,9, -999.000,9, -999.000,9,   -999.0,9,   -999.0,9,  4.2189
     316N142_3,   A15,    54,  1,     23,     23,2,19940421,0559, -4.3995, -18.9995, 4973,   1254.6,   4.3827,  34.8582,2,  34.8547,2,    196.7,2,    193.9,2,    24.98,2,    26.36,2,     0.00,2,     1.81,2, -999.000,9, -999.000,9, -999.000,9,   -999.0,9,   -999.0,9,  4.2810
     316N142_3,   A15,    54,  1,     22,     22,2,19940421,0559, -4.3995, -18.9995, 4973,   1385.4,   4.2927,  34.9101,2,  34.9118,2,    213.7,2,    210.6,2,    22.56,2,    24.16,2,     0.00,2,     1.65,2, -999.000,9, -999.000,9, -999.000,9,   -999.0,9,   -999.0,9,  4.1799
     316N142_3,   A15,    54,  1,     21,     21,2,19940421,0559, -4.3995, -18.9995, 4973,   1546.5,   4.1380,  34.9579,2,  34.9584,2,    231.2,2,    230.8,2,    19.72,2,    21.59,2,     0.00,2,     1.48,2, -999.000,9, -999.000,9, -999.000,9,   -999.0,9,   -999.0,9,  4.0120
     316N142_3,   A15,    54,  1,     20,     20,2,19940421,0559, -4.3995, -18.9995, 4973,   1693.0,   4.0070,  34.9752,2,  34.9765,2,    241.6,2,    242.3,2,    18.50,2,    20.22,2,     0.00,2,     1.39,2, -999.000,9, -999.000,9, -999.000,9,   -999.0,9,   -999.0,9,  3.8689
     316N142_3,   A15,    54,  1,     19,     19,2,19940421,0559, -4.3995, -18.9995, 4973,   1820.8,   3.8032,  34.9727,2,  34.9731,2,    246.0,2,    247.3,2,    19.30,2,    19.90,2,     0.00,2,     1.37,2, -999.000,9, -999.000,9, -999.000,9,   -999.0,9,   -999.0,9,  3.6557
     316N142_3,   A15,    54,  1,     40,     40,2,19940421,0559, -4.3995, -18.9995, 4973,   1957.0,   3.6752,  34.9705,2,  34.9714,2,    249.7,2,    250.3,2,    19.82,2,    19.68,2,     0.00,2,     1.35,2, -999.000,9, -999.000,9, -999.000,9,   -999.0,9,   -999.0,9,  3.5166
     316N142_3,   A15,    54,  1,     17,     17,2,19940421,0559, -4.3995, -18.9995, 4973,   2093.8,   3.4258,  34.9575,2,  34.9588,2,    250.2,2,    251.3,2,    22.78,2,    19.88,2,     0.00,2,     1.37,2, -999.000,9, -999.000,9, -999.000,9,   -999.0,9,   -999.0,9,  3.2580
     316N142_3,   A15,    54,  1,     16,     16,2,19940421,0559, -4.3995, -18.9995, 4973,   2296.1,   3.1332,  34.9431,2,  34.9420,2,    247.6,2,    250.4,2,    27.34,2,    20.26,2,     0.00,2,     1.40,2, -999.000,9, -999.000,9, -999.000,9,   -999.0,9,   -999.0,9,  2.9507
     316N142_3,   A15,    54,  1,     15,     15,2,19940421,0559, -4.3995, -18.9995, 4973,   2489.5,   2.8789,  34.9214,2,  34.9212,2,    244.5,2,    244.2,2,    34.47,2,    21.38,2,     0.00,2,     1.48,2, -999.000,9, -999.000,9, -999.000,9,   -999.0,9,   -999.0,9,  2.6823
     316N142_3,   A15,    54,  1,     14,     14,2,19940421,0559, -4.3995, -18.9995, 4973,   2690.9,   2.7776,  34.9147,2,  34.9135,2,    243.3,2,    243.3,2,    37.16,2,    21.71,2,     0.00,2,     1.48,2, -999.000,9, -999.000,9, -999.000,9,   -999.0,9,   -999.0,9,  2.5632
     316N142_3,   A15,    54,  1,     13,     13,2,19940421,0559, -4.3995, -18.9995, 4973,   2885.0,   2.6919,  34.9112,2,  34.9103,2,    244.7,2,    245.4,2,    37.84,2,    21.58,2,     0.00,2,     1.48,2, -999.000,9, -999.000,9, -999.000,9,   -999.0,9,   -999.0,9,  2.4597
     316N142_3,   A15,    54,  1,     12,     12,2,19940421,0559, -4.3995, -18.9995, 4973,   3087.3,   2.6377,  34.9145,2,  34.9135,2,    252.4,2,    250.8,2,    35.54,2,    20.90,2,     0.00,2,     1.45,2, -999.000,9, -999.000,9, -999.000,9,   -999.0,9,   -999.0,9,  2.3859
     316N142_3,   A15,    54,  1,     11,     11,2,19940421,0559, -4.3995, -18.9995, 4973,   3291.8,   2.5933,  34.9147,2,  34.9137,2,    256.5,2,    255.2,2,    34.05,2,    20.35,2,     0.00,2,     1.42,2, -999.000,9, -999.000,9, -999.000,9,   -999.0,9,   -999.0,9,  2.3210
     316N142_3,   A15,    54,  1,     10,     10,2,19940421,0559, -4.3995, -18.9995, 4973,   3495.6,   2.5154,  34.9104,2,  34.9091,2,    258.2,2,    257.7,2,    33.91,2,    20.08,2,     0.00,2,     1.40,2, -999.000,9, -999.000,9, -999.000,9,   -999.0,9,   -999.0,9,  2.2230
     316N142_3,   A15,    54,  1,      9,      9,2,19940421,0559, -4.3995, -18.9995, 4973,   3699.9,   2.3384,  34.8963,2,  34.8950,2,    258.6,2,    258.9,2,    37.01,2,    20.23,2,     0.00,2,     1.41,2, -999.000,9, -999.000,9, -999.000,9,   -999.0,9,   -999.0,9,  2.0283
     316N142_3,   A15,    54,  1,      8,      8,2,19940421,0559, -4.3995, -18.9995, 4973,   3903.4,   2.1517,  34.8744,2,  34.8737,2,    253.8,2,    254.4,2,    45.78,2,    21.49,2,     0.00,2,     1.50,2, -999.000,9, -999.000,9, -999.000,9,   -999.0,9,   -999.0,9,  1.8241
     316N142_3,   A15,    54,  1,      7,      7,2,19940421,0559, -4.3995, -18.9995, 4973,   4107.3,   1.8091,  34.8359,2,  34.8354,2,    243.9,2,    246.1,2,    61.28,2,    23.87,2,     0.00,2,     1.67,2, -999.000,9, -999.000,9, -999.000,9,   -999.0,9,   -999.0,9,  1.4686
     316N142_3,   A15,    54,  1,      6,      6,2,19940421,0559, -4.3995, -18.9995, 4973,   4313.3,   1.2854,  34.7772,2,  34.7766,2,    233.3,2,    234.0,2,    84.34,2,    27.31,2,     0.00,2,     1.92,2, -999.000,9, -999.000,9, -999.000,9,   -999.0,9,   -999.0,9,  0.9376
     316N142_3,   A15,    54,  1,      5,      5,2,19940421,0559, -4.3995, -18.9995, 4973,   4518.0,   1.0424,  34.7496,2,  34.7498,2,    229.1,2,    229.1,2,    94.76,2,    28.86,2,     0.00,2,     2.03,2, -999.000,9, -999.000,9, -999.000,9,   -999.0,9,   -999.0,9,  0.6792
     316N142_3,   A15,    54,  1,      4,      4,2,19940421,0559, -4.3995, -18.9995, 4973,   4722.5,   0.8554,  34.7282,2,  34.7284,2,    228.7,4,    224.8,2,   102.38,2,    30.13,2,     0.00,2,     2.11,2, -999.000,9, -999.000,9, -999.000,9,   -999.0,9,   -999.0,9,  0.4751
     316N142_3,   A15,    54,  1,      3,      3,2,19940421,0559, -4.3995, -18.9995, 4973,   4927.9,   0.8264,  34.7233,2,  34.7225,2,    229.9,4,    224.4,2,   104.39,2,    30.42,2,     0.00,2,     2.13,2, -999.000,9, -999.000,9, -999.000,9,   -999.0,9,   -999.0,9,  0.4232
     316N142_3,   A15,    54,  1,      2,      2,2,19940421,0559, -4.3995, -18.9995, 4973,   5030.6,   0.8288,  34.7222,2,  34.7217,2,    231.0,4,    224.3,2,   104.54,2,    30.43,2,     0.00,2,     2.13,2, -999.000,9, -999.000,9, -999.000,9,   -999.0,9,   -999.0,9,  0.4135
     316N142_3,   A15,    54,  1,      1,      1,2,19940421,0559, -4.3995, -18.9995, 4973,   5101.5,   0.8290,  34.7213,2,  34.7209,2,    230.8,4,    224.1,2,   104.94,2,    30.49,2,     0.00,2,     2.16,2, -999.000,9, -999.000,9, -999.000,9,   -999.0,9,   -999.0,9,  0.4052