BOTTLE,20020814WHPSIOKJU
EXPOCODE,SECT_ID,STNNBR,CASTNO,SAMPNO,BTLNBR,BTLNBR_FLAG_W,DATE,TIME,LATITUDE,LONGITUDE,DEPTH,CTDPRS,CTDTMP,CTDSAL,CTDSAL_FLAG_W,SALNTY,SALNTY_FLAG_W,CTDOXY,CTDOXY_FLAG_W,OXYGEN,OXYGEN_FLAG_W,SILCAT,SILCAT_FLAG_W,NITRAT,NITRAT_FLAG_W,NITRIT,NITRIT_FLAG_W,PHSPHT,PHSPHT_FLAG_W,CFC-11,CFC-11_FLAG_W,CFC-12,CFC-12_FLAG_W,CCL4,CCL4_FLAG_W,TCARBN,TCARBN_FLAG_W,ALKALI,ALKALI_FLAG_W,THETA
,,,,,,,,,,,,DBAR,ITS-90,PSS-78,,PSS-78,,UMOL/KG,,UMOL/KG,,UMOL/KG,,UMOL/KG,,UMOL/KG,,UMOL/KG,,PMOL/KG,,PMOL/KG,,PMOL/KG,,UMOL/KG,,UMOL/KG,,DEG C
     316N142_3,   A15,    65,  1,     39,     39,2,19940424,0305,-10.0003, -18.9993, 4541,      8.9,  27.2478,  36.6414,2,  36.6409,2,    200.3,2,    200.6,2,     2.43,2,     0.18,2,     0.00,2,     0.14,2, -999.000,9, -999.000,9, -999.000,9,   -999.0,9,   -999.0,9, 27.2458
     316N142_3,   A15,    65,  1,     35,     35,2,19940424,0305,-10.0003, -18.9993, 4541,     44.0,  27.2468,  36.6421,2,  36.6406,2,    201.9,2,    200.6,2,     2.28,2,     0.17,2,     0.00,2,     0.16,2, -999.000,9, -999.000,9, -999.000,9,   -999.0,9,   -999.0,9, 27.2366
     316N142_3,   A15,    65,  1,     38,     38,2,19940424,0305,-10.0003, -18.9993, 4541,     74.3,  24.9036,  36.7772,2,  36.7703,2,    218.7,2,    218.5,2,     2.13,2,     0.17,2,     0.00,2,     0.14,2, -999.000,9, -999.000,9, -999.000,9,   -999.0,9,   -999.0,9, 24.8874
     316N142_3,   A15,    65,  1,     33,     33,2,19940424,0305,-10.0003, -18.9993, 4541,    154.5,  17.3539,  35.9118,2,  35.8882,2,    147.6,2,    151.8,2,     4.66,2,    11.20,2,     0.03,2,     0.90,2, -999.000,9, -999.000,9, -999.000,9,   -999.0,9,   -999.0,9, 17.3279
     316N142_3,   A15,    65,  1,     41,     41,2,19940424,0305,-10.0003, -18.9993, 4541,    214.1,  12.4799,  35.2406,2,  35.2413,2,     89.5,2,     89.8,2,    10.54,2,    24.88,2,     0.01,2,     1.65,2, -999.000,9, -999.000,9, -999.000,9,   -999.0,9,   -999.0,9, 12.4511
     316N142_3,   A15,    65,  1,     31,     31,2,19940424,0305,-10.0003, -18.9993, 4541,    284.1,   9.9004,  34.9234,2,  34.9160,2,     82.6,2,     82.2,2,    14.94,2,    30.71,2,     0.01,2,     1.99,2, -999.000,9, -999.000,9, -999.000,9,   -999.0,9,   -999.0,9,  9.8676
     316N142_3,   A15,    65,  1,     37,     37,2,19940424,0305,-10.0003, -18.9993, 4541,    395.4,   8.4379,  34.7560,2,  34.7534,2,     89.6,2,     91.2,2,    18.01,2,    32.93,2,     0.00,2,     2.13,2, -999.000,9, -999.000,9, -999.000,9,   -999.0,9,   -999.0,9,  8.3962
     316N142_3,   A15,    65,  1,     29,     29,2,19940424,0305,-10.0003, -18.9993, 4541,    495.7,   7.0711,  34.6270,2,  34.6253,2,     99.1,2,     95.8,2,    22.14,2,    35.52,2,     0.00,2,     2.31,2, -999.000,9, -999.000,9, -999.000,9,   -999.0,9,   -999.0,9,  7.0237
     316N142_3,   A15,    65,  1,     28,     28,2,19940424,0305,-10.0003, -18.9993, 4541,    575.8,   6.3032,  34.5613,2,  34.5581,2,    109.3,2,    109.8,2,    24.67,2,    35.72,2,     0.00,2,     2.35,2, -999.000,9, -999.000,9, -999.000,9,   -999.0,9,   -999.0,9,  6.2512
     316N142_3,   A15,    65,  1,     27,     27,2,19940424,0305,-10.0003, -18.9993, 4541,    666.8,   5.6892,  34.5219,2,  34.5208,2,    116.9,2,    115.7,2,    27.61,2,    36.43,2,     0.00,2,     2.41,2, -999.000,9, -999.000,9, -999.000,9,   -999.0,9,   -999.0,9,  5.6318
     316N142_3,   A15,    65,  1,     26,     26,2,19940424,0305,-10.0003, -18.9993, 4541,    756.6,   5.0361,  34.4905,2,  34.4890,2,    129.5,2,    132.3,2,    30.80,2,    35.88,2,     0.00,2,     2.41,2, -999.000,9, -999.000,9, -999.000,9,   -999.0,9,   -999.0,9,  4.9742
     316N142_3,   A15,    65,  1,     25,     25,9,19940424,0305,-10.0003, -18.9993, 4541,    882.6,   4.5030,  34.4983,2,-999.0000,9,    143.0,2,   -999.0,9,  -999.00,9,  -999.00,9,  -999.00,9,  -999.00,9, -999.000,9, -999.000,9, -999.000,9,   -999.0,9,   -999.0,9,  4.4336
     316N142_3,   A15,    65,  1,     24,     24,2,19940424,0305,-10.0003, -18.9993, 4541,   1009.2,   4.1166,  34.5668,2,  34.5648,2,    158.7,2,    160.9,2,    36.01,2,    33.25,2,     0.00,2,     2.26,2, -999.000,9, -999.000,9, -999.000,9,   -999.0,9,   -999.0,9,  4.0392
     316N142_3,   A15,    65,  1,     23,     23,2,19940424,0305,-10.0003, -18.9993, 4541,   1109.7,   4.0019,  34.6319,2,  34.6309,2,    171.2,2,    171.5,2,    35.32,2,    31.52,2,     0.00,2,     2.14,2, -999.000,9, -999.000,9, -999.000,9,   -999.0,9,   -999.0,9,  3.9168
     316N142_3,   A15,    65,  1,     22,     22,2,19940424,0305,-10.0003, -18.9993, 4541,   1235.3,   4.0706,  34.7358,2,  34.7342,2,    182.2,2,    182.9,2,    31.69,2,    29.08,2,     0.00,2,     1.99,2, -999.000,9, -999.000,9, -999.000,9,   -999.0,9,   -999.0,9,  3.9739
     316N142_3,   A15,    65,  1,     21,     21,2,19940424,0305,-10.0003, -18.9993, 4541,   1360.9,   4.1672,  34.8436,2,  34.8426,2,    196.6,2,    199.3,2,    26.73,2,    26.03,2,     0.00,2,     1.76,2, -999.000,9, -999.000,9, -999.000,9,   -999.0,9,   -999.0,9,  4.0581
     316N142_3,   A15,    65,  1,     20,     20,2,19940424,0305,-10.0003, -18.9993, 4541,   1512.9,   4.0786,  34.9237,2,  34.9224,2,    219.1,2,    222.2,2,    22.83,2,    22.83,2,     0.00,2,     1.54,2, -999.000,9, -999.000,9, -999.000,9,   -999.0,9,   -999.0,9,  3.9565
     316N142_3,   A15,    65,  1,     19,     19,2,19940424,0305,-10.0003, -18.9993, 4541,   1614.9,   3.9548,  34.9486,2,  34.9488,2,    234.5,2,    233.9,2,    21.21,2,    21.38,2,     0.00,2,     1.44,2, -999.000,9, -999.000,9, -999.000,9,   -999.0,9,   -999.0,9,  3.8246
     316N142_3,   A15,    65,  1,     40,     40,2,19940424,0305,-10.0003, -18.9993, 4541,   1715.9,   3.7408,  34.9581,2,  34.9571,2,    241.0,2,    242.2,2,    21.46,2,    20.58,2,     0.00,2,     1.39,2, -999.000,9, -999.000,9, -999.000,9,   -999.0,9,   -999.0,9,  3.6040
     316N142_3,   A15,    65,  1,     17,     17,2,19940424,0305,-10.0003, -18.9993, 4541,   1817.7,   3.5981,  34.9531,2,  34.9528,2,    244.3,2,    244.4,2,    23.06,2,    20.49,2,     0.00,2,     1.38,2, -999.000,9, -999.000,9, -999.000,9,   -999.0,9,   -999.0,9,  3.4537
     316N142_3,   A15,    65,  1,     16,     16,2,19940424,0305,-10.0003, -18.9993, 4541,   1969.8,   3.4094,  34.9475,2,  34.9473,2,    246.7,2,    246.8,2,    24.65,2,    20.40,2,     0.00,2,     1.39,2, -999.000,9, -999.000,9, -999.000,9,   -999.0,9,   -999.0,9,  3.2535
     316N142_3,   A15,    65,  1,     15,     15,2,19940424,0305,-10.0003, -18.9993, 4541,   2121.5,   3.2385,  34.9404,2,  34.9388,2,    246.3,2,    247.0,2,    27.71,2,    20.55,2,     0.00,2,     1.40,2, -999.000,9, -999.000,9, -999.000,9,   -999.0,9,   -999.0,9,  3.0710
     316N142_3,   A15,    65,  1,     14,     14,2,19940424,0305,-10.0003, -18.9993, 4541,   2324.3,   3.0402,  34.9289,2,  34.9274,2,    246.7,2,    246.1,2,    31.45,2,    20.88,2,     0.00,2,     1.44,2, -999.000,9, -999.000,9, -999.000,9,   -999.0,9,   -999.0,9,  2.8567
     316N142_3,   A15,    65,  1,     13,     13,2,19940424,0305,-10.0003, -18.9993, 4541,   2528.2,   2.9047,  34.9197,2,  34.9184,2,    246.4,2,    245.4,2,    34.51,2,    21.22,2,     0.00,2,     1.47,2, -999.000,9, -999.000,9, -999.000,9,   -999.0,9,   -999.0,9,  2.7038
     316N142_3,   A15,    65,  1,     12,     12,2,19940424,0305,-10.0003, -18.9993, 4541,   2731.7,   2.8035,  34.9122,2,  34.9115,2,    246.0,2,    244.9,2,    37.17,2,    21.55,2,     0.00,2,     1.47,2, -999.000,9, -999.000,9, -999.000,9,   -999.0,9,   -999.0,9,  2.5845
     316N142_3,   A15,    65,  1,     11,     11,2,19940424,0305,-10.0003, -18.9993, 4541,   2935.0,   2.7177,  34.9062,2,  34.9048,2,    244.3,2,    244.4,2,    39.30,2,    21.74,2,     0.00,2,     1.48,2, -999.000,9, -999.000,9, -999.000,9,   -999.0,9,   -999.0,9,  2.4798
     316N142_3,   A15,    65,  1,     10,     10,2,19940424,0305,-10.0003, -18.9993, 4541,   3113.5,   2.6449,  34.9048,2,  34.9035,2,    245.2,2,    245.9,2,    39.82,2,    21.61,2,     0.00,2,     1.48,2, -999.000,9, -999.000,9, -999.000,9,   -999.0,9,   -999.0,9,  2.3902
     316N142_3,   A15,    65,  1,      9,      9,2,19940424,0305,-10.0003, -18.9993, 4541,   3241.1,   2.5873,  34.9027,2,  34.9017,2,    247.0,2,    247.3,2,    40.34,2,    21.52,2,     0.00,2,     1.49,2, -999.000,9, -999.000,9, -999.000,9,   -999.0,9,   -999.0,9,  2.3206
     316N142_3,   A15,    65,  1,      8,      8,2,19940424,0305,-10.0003, -18.9993, 4541,   3392.9,   2.4982,  34.8960,2,  34.8954,2,    247.5,2,    247.5,2,    42.20,2,    21.61,2,     0.00,2,     1.49,2, -999.000,9, -999.000,9, -999.000,9,   -999.0,9,   -999.0,9,  2.2175
     316N142_3,   A15,    65,  1,      7,      7,2,19940424,0305,-10.0003, -18.9993, 4541,   3546.2,   2.3816,  34.8867,2,  34.8860,2,    247.1,2,    248.7,2,    45.26,2,    21.90,2,     0.00,2,     1.51,2, -999.000,9, -999.000,9, -999.000,9,   -999.0,9,   -999.0,9,  2.0872
     316N142_3,   A15,    65,  1,      6,      6,2,19940424,0305,-10.0003, -18.9993, 4541,   3749.7,   2.1630,  34.8648,2,  34.8638,2,    245.2,2,    245.7,2,    53.66,2,    22.99,2,     0.00,2,     1.58,2, -999.000,9, -999.000,9, -999.000,9,   -999.0,9,   -999.0,9,  1.8522
     316N142_3,   A15,    65,  1,      5,      5,2,19940424,0305,-10.0003, -18.9993, 4541,   3954.9,   1.8441,  34.8321,2,  34.8312,2,    241.1,2,    240.9,2,    66.02,2,    24.75,2,     0.00,2,     1.68,2, -999.000,9, -999.000,9, -999.000,9,   -999.0,9,   -999.0,9,  1.5196
     316N142_3,   A15,    65,  1,      4,      4,2,19940424,0305,-10.0003, -18.9993, 4541,   4159.4,   1.5569,  34.8022,2,  34.8015,2,    237.0,2,    237.2,2,    77.36,2,    26.27,2,     0.00,2,     1.82,2, -999.000,9, -999.000,9, -999.000,9,   -999.0,9,   -999.0,9,  1.2181
     316N142_3,   A15,    65,  1,      3,      3,2,19940424,0305,-10.0003, -18.9993, 4541,   4363.3,   1.3852,  34.7835,2,  34.7826,2,    235.1,2,    234.5,2,    84.14,2,    27.22,2,     0.00,2,     1.88,2, -999.000,9, -999.000,9, -999.000,9,   -999.0,9,   -999.0,9,  1.0287
     316N142_3,   A15,    65,  1,      2,      2,2,19940424,0305,-10.0003, -18.9993, 4541,   4567.5,   1.3035,  34.7734,2,  34.7726,2,    233.5,2,    233.0,2,    87.62,2,    27.79,2,     0.00,2,     1.93,2, -999.000,9, -999.000,9, -999.000,9,   -999.0,9,   -999.0,9,  0.9263
     316N142_3,   A15,    65,  1,      1,      1,2,19940424,0305,-10.0003, -18.9993, 4541,   4714.2,   1.2887,  34.7699,2,  34.7706,2,    233.1,2,    232.6,2,    88.63,2,    27.94,2,     0.00,2,     1.94,2, -999.000,9, -999.000,9, -999.000,9,   -999.0,9,   -999.0,9,  0.8949