BOTTLE,20020814WHPSIOKJU
EXPOCODE,SECT_ID,STNNBR,CASTNO,SAMPNO,BTLNBR,BTLNBR_FLAG_W,DATE,TIME,LATITUDE,LONGITUDE,DEPTH,CTDPRS,CTDTMP,CTDSAL,CTDSAL_FLAG_W,SALNTY,SALNTY_FLAG_W,CTDOXY,CTDOXY_FLAG_W,OXYGEN,OXYGEN_FLAG_W,SILCAT,SILCAT_FLAG_W,NITRAT,NITRAT_FLAG_W,NITRIT,NITRIT_FLAG_W,PHSPHT,PHSPHT_FLAG_W,CFC-11,CFC-11_FLAG_W,CFC-12,CFC-12_FLAG_W,CCL4,CCL4_FLAG_W,TCARBN,TCARBN_FLAG_W,ALKALI,ALKALI_FLAG_W,THETA
,,,,,,,,,,,,DBAR,ITS-90,PSS-78,,PSS-78,,UMOL/KG,,UMOL/KG,,UMOL/KG,,UMOL/KG,,UMOL/KG,,UMOL/KG,,PMOL/KG,,PMOL/KG,,PMOL/KG,,UMOL/KG,,UMOL/KG,,DEG C
     316N142_3,  AR15,   129,  1,     39,     39,2,19940514,0504,-17.4033, -28.0067, 5249,     11.4,  26.6434,  37.3280,2,  37.3290,2,    201.3,2,    202.4,2,     1.63,2,     0.00,2,     0.01,4,     0.15,2, -999.000,9, -999.000,9, -999.000,9,   -999.0,9,   -999.0,9, 26.6408
     316N142_3,  AR15,   129,  1,     35,     35,2,19940514,0504,-17.4033, -28.0067, 5249,     90.5,  24.6599,  37.0044,2,  37.0046,2,    227.1,2,    218.5,2,     1.46,2,     0.00,2,     0.03,4,     0.17,2, -999.000,9, -999.000,9, -999.000,9,   -999.0,9,   -999.0,9, 24.6403
     316N142_3,  AR15,   129,  1,     38,     38,2,19940514,0504,-17.4033, -28.0067, 5249,    186.2,  18.3110,  35.9794,2,  35.9927,2,    205.1,2,    197.2,2,     2.07,2,     0.76,2,     0.08,4,     0.45,2, -999.000,9, -999.000,9, -999.000,9,   -999.0,9,   -999.0,9, 18.2785
     316N142_3,  AR15,   129,  1,     33,     33,2,19940514,0504,-17.4033, -28.0067, 5249,    286.4,  13.6108,  35.2592,2,  35.2544,2,    178.9,2,    172.5,2,     5.69,2,    11.70,2,     0.06,4,     0.98,2, -999.000,9, -999.000,9, -999.000,9,   -999.0,9,   -999.0,9, 13.5699
     316N142_3,  AR15,   129,  1,     41,     41,2,19940514,0504,-17.4033, -28.0067, 5249,    396.7,  10.0892,  34.8423,2,  34.8403,2,    160.6,2,    158.9,2,    11.19,2,    22.33,2,     0.02,4,     1.52,2, -999.000,9, -999.000,9, -999.000,9,   -999.0,9,   -999.0,9, 10.0425
     316N142_3,  AR15,   129,  1,     31,     31,2,19940514,0504,-17.4033, -28.0067, 5249,    497.3,   7.6913,  34.6170,2,  34.6201,2,    155.0,2,    153.8,2,    17.48,2,    29.24,2,     0.00,4,     1.89,2, -999.000,9, -999.000,9, -999.000,9,   -999.0,9,   -999.0,9,  7.6414
     316N142_3,  AR15,   129,  1,     37,     37,2,19940514,0504,-17.4033, -28.0067, 5249,    622.9,   5.5229,  34.4559,2,  34.4567,2,    165.3,2,    167.5,2,    25.52,2,    33.58,2,     0.00,2,     2.13,2, -999.000,9, -999.000,9, -999.000,9,   -999.0,9,   -999.0,9,  5.4703
     316N142_3,  AR15,   129,  1,     29,     29,2,19940514,0504,-17.4033, -28.0067, 5249,    748.6,   4.3439,  34.4103,2,  34.4083,2,    175.5,2,    180.5,2,    33.08,2,    34.59,2,     0.00,2,     2.23,2, -999.000,9, -999.000,9, -999.000,9,   -999.0,9,   -999.0,9,  4.2868
     316N142_3,  AR15,   129,  1,     28,     28,2,19940514,0504,-17.4033, -28.0067, 5249,    864.2,   3.8785,  34.4398,2,  34.4377,2,    179.4,2,    181.9,2,    38.13,2,    34.74,2,     0.00,2,     2.26,2, -999.000,9, -999.000,9, -999.000,9,   -999.0,9,   -999.0,9,  3.8150
     316N142_3,  AR15,   129,  1,     27,     27,2,19940514,0504,-17.4033, -28.0067, 5249,    980.1,   3.6661,  34.5018,2,  34.4994,2,    181.7,2,    183.9,2,    40.63,2,    33.89,2,     0.00,2,     2.21,2, -999.000,9, -999.000,9, -999.000,9,   -999.0,9,   -999.0,9,  3.5946
     316N142_3,  AR15,   129,  1,     26,     26,2,19940514,0504,-17.4033, -28.0067, 5249,   1121.1,   3.7812,  34.6259,2,  34.6255,2,    181.5,2,    183.2,2,    37.43,2,    31.97,2,     0.00,2,     2.10,2, -999.000,9, -999.000,9, -999.000,9,   -999.0,9,   -999.0,9,  3.6970
     316N142_3,  AR15,   129,  1,     25,     25,2,19940514,0504,-17.4033, -28.0067, 5249,   1262.3,   3.9056,  34.7473,2,  34.7472,2,    190.2,2,    192.2,2,    32.50,2,    29.06,2,     0.00,2,     1.92,2, -999.000,9, -999.000,9, -999.000,9,   -999.0,9,   -999.0,9,  3.8081
     316N142_3,  AR15,   129,  1,     24,     24,2,19940514,0504,-17.4033, -28.0067, 5249,   1404.6,   4.0236,  34.8570,2,  34.8573,2,    207.4,2,    208.3,2,    26.48,2,    25.29,2,     0.00,2,     1.70,2, -999.000,9, -999.000,9, -999.000,9,   -999.0,9,   -999.0,9,  3.9120
     316N142_3,  AR15,   129,  1,     23,     23,2,19940514,0504,-17.4033, -28.0067, 5249,   1586.2,   3.7142,  34.8914,2,  34.8903,2,    224.7,2,    223.9,2,    26.61,2,    23.30,2,     0.00,2,     1.58,2, -999.000,9, -999.000,9, -999.000,9,   -999.0,9,   -999.0,9,  3.5897
     316N142_3,  AR15,   129,  1,     22,     22,2,19940514,0504,-17.4033, -28.0067, 5249,   1766.8,   3.4347,  34.9071,2,  34.9060,2,    235.1,2,    234.0,2,    28.16,2,    22.17,2,     0.00,2,     1.51,2, -999.000,9, -999.000,9, -999.000,9,   -999.0,9,   -999.0,9,  3.2973
     316N142_3,  AR15,   129,  1,     21,     21,2,19940514,0504,-17.4033, -28.0067, 5249,   1955.3,   3.3072,  34.9341,2,  34.9329,2,    246.1,2,    245.4,2,    26.56,2,    20.46,2,     0.00,2,     1.41,2, -999.000,9, -999.000,9, -999.000,9,   -999.0,9,   -999.0,9,  3.1543
     316N142_3,  AR15,   129,  1,     20,     20,2,19940514,0504,-17.4033, -28.0067, 5249,   2122.7,   3.1132,  34.9227,2,  34.9205,3,    246.0,2,    244.4,2,    30.48,2,    21.03,2,     0.00,2,     1.44,2, -999.000,9, -999.000,9, -999.000,9,   -999.0,9,   -999.0,9,  2.9476
     316N142_3,  AR15,   129,  1,     19,     19,2,19940514,0504,-17.4033, -28.0067, 5249,   2326.3,   2.9715,  34.9206,2,  34.9207,2,    247.7,2,    246.5,2,    32.19,2,    20.82,2,     0.00,2,     1.43,2, -999.000,9, -999.000,9, -999.000,9,   -999.0,9,   -999.0,9,  2.7890
     316N142_3,  AR15,   129,  1,     40,     40,2,19940514,0504,-17.4033, -28.0067, 5249,   2529.4,   2.8643,  34.9163,2,  34.9166,2,    246.2,2,    246.8,2,    34.37,2,    20.83,2,     0.00,2,     1.44,2, -999.000,9, -999.000,9, -999.000,9,   -999.0,9,   -999.0,9,  2.6641
     316N142_3,  AR15,   129,  1,     17,     17,2,19940514,0504,-17.4033, -28.0067, 5249,   2732.9,   2.7892,  34.9118,2,  34.9105,2,    247.1,2,    246.4,2,    36.08,2,    21.04,2,     0.00,2,     1.45,2, -999.000,9, -999.000,9, -999.000,9,   -999.0,9,   -999.0,9,  2.5704
     316N142_3,  AR15,   129,  1,     16,     16,2,19940514,0504,-17.4033, -28.0067, 5249,   2910.9,   2.7299,  34.9082,2,  34.9064,2,    246.3,2,    246.1,2,    37.31,2,    21.26,2,     0.00,2,     1.46,2, -999.000,9, -999.000,9, -999.000,9,   -999.0,9,   -999.0,9,  2.4942
     316N142_3,  AR15,   129,  1,     15,     15,2,19940514,0504,-17.4033, -28.0067, 5249,   3088.5,   2.6840,  34.9083,2,  34.9068,2,    248.0,2,    248.3,2,    37.13,2,    20.91,2,     0.00,2,     1.44,2, -999.000,9, -999.000,9, -999.000,9,   -999.0,9,   -999.0,9,  2.4310
     316N142_3,  AR15,   129,  1,     14,     14,2,19940514,0504,-17.4033, -28.0067, 5249,   3240.9,   2.6377,  34.9083,2,  34.9071,2,    250.0,2,    250.3,2,    36.78,2,    20.63,2,     0.00,2,     1.42,2, -999.000,9, -999.000,9, -999.000,9,   -999.0,9,   -999.0,9,  2.3698
     316N142_3,  AR15,   129,  1,     13,     13,2,19940514,0504,-17.4033, -28.0067, 5249,   3394.1,   2.5757,  34.9042,2,  34.9034,2,    250.9,2,    251.1,2,    37.70,2,    20.56,2,     0.00,2,     1.43,2, -999.000,9, -999.000,9, -999.000,9,   -999.0,9,   -999.0,9,  2.2929
     316N142_3,  AR15,   129,  1,     12,     12,2,19940514,0504,-17.4033, -28.0067, 5249,   3544.8,   2.4787,  34.8952,2,  34.8954,2,    250.2,2,    250.4,2,    40.67,2,    20.99,2,     0.00,2,     1.45,2, -999.000,9, -999.000,9, -999.000,9,   -999.0,9,   -999.0,9,  2.1820
     316N142_3,  AR15,   129,  1,     11,     11,2,19940514,0504,-17.4033, -28.0067, 5249,   3697.5,   2.3293,  34.8816,2,  34.8810,2,    249.1,2,    249.2,2,    45.53,2,    21.63,2,     0.00,2,     1.49,2, -999.000,9, -999.000,9, -999.000,9,   -999.0,9,   -999.0,9,  2.0198
     316N142_3,  AR15,   129,  1,     10,     10,2,19940514,0504,-17.4033, -28.0067, 5249,   3851.1,   2.1224,  34.8627,2,  34.8608,2,    247.9,2,    247.8,2,    51.98,2,    22.78,2,     0.00,2,     1.55,2, -999.000,9, -999.000,9, -999.000,9,   -999.0,9,   -999.0,9,  1.8016
     316N142_3,  AR15,   129,  1,      9,      9,2,19940514,0504,-17.4033, -28.0067, 5249,   4006.7,   1.8591,  34.8335,2,  34.8301,3,    242.9,2,    242.2,2,    64.02,2,    25.14,2,     0.00,2,     1.68,2, -999.000,9, -999.000,9, -999.000,9,   -999.0,9,   -999.0,9,  1.5284
     316N142_3,  AR15,   129,  1,      8,      8,2,19940514,0504,-17.4033, -28.0067, 5249,   4159.8,   1.6004,  34.8079,2,  34.8060,2,    238.5,2,    238.9,2,    73.73,2,    26.50,2,     0.00,2,     1.77,2, -999.000,9, -999.000,9, -999.000,9,   -999.0,9,   -999.0,9,  1.2602
     316N142_3,  AR15,   129,  1,      7,      7,2,19940514,0504,-17.4033, -28.0067, 5249,   4312.7,   1.4076,  34.7859,2,  34.7852,2,    235.1,2,    235.1,2,    82.37,2,    28.14,2,     0.00,2,     1.85,2, -999.000,9, -999.000,9, -999.000,9,   -999.0,9,   -999.0,9,  1.0561
     316N142_3,  AR15,   129,  1,      6,      6,9,19940514,0504,-17.4033, -28.0067, 5249,   4466.9,   1.2217,  34.7654,2,-999.0000,9,    231.6,2,   -999.0,9,  -999.00,9,  -999.00,9,  -999.00,9,  -999.00,9, -999.000,9, -999.000,9, -999.000,9,   -999.0,9,   -999.0,9,  0.8586
     316N142_3,  AR15,   129,  1,      5,      5,2,19940514,0504,-17.4033, -28.0067, 5249,   4620.4,   1.0743,  34.7487,2,  34.7479,2,    229.5,2,    229.2,2,    96.92,2,    30.51,2,     0.00,2,     1.99,2, -999.000,9, -999.000,9, -999.000,9,   -999.0,9,   -999.0,9,  0.6985
     316N142_3,  AR15,   129,  1,      4,      4,2,19940514,0504,-17.4033, -28.0067, 5249,   4799.5,   0.9334,  34.7323,2,  34.7316,2,    227.2,2,    226.6,2,   103.25,2,    31.51,2,     0.00,2,     2.05,2, -999.000,9, -999.000,9, -999.000,9,   -999.0,9,   -999.0,9,  0.5416
     316N142_3,  AR15,   129,  1,      3,      3,2,19940514,0504,-17.4033, -28.0067, 5249,   4980.1,   0.7313,  34.7110,2,  34.7098,2,    224.6,2,    224.0,2,   111.92,2,    32.88,2,     0.00,2,     2.13,2, -999.000,9, -999.000,9, -999.000,9,   -999.0,9,   -999.0,9,  0.3254
     316N142_3,  AR15,   129,  1,      2,      2,2,19940514,0504,-17.4033, -28.0067, 5249,   5185.8,   0.5834,  34.6947,2,  34.6935,2,    223.0,2,    222.5,2,   117.67,2,    33.67,2,     0.00,2,     2.19,2, -999.000,9,    0.023,2,    0.171,2,   -999.0,9,   -999.0,9,  0.1585
     316N142_3,  AR15,   129,  1,      1,      1,2,19940514,0504,-17.4033, -28.0067, 5249,   5358.1,   0.4816,  34.6827,2,  34.6825,2,    221.2,2,    221.4,2,   121.78,2,    34.25,2,     0.00,2,     2.23,2, -999.000,9,    0.053,2,    0.369,2,   -999.0,9,   -999.0,9,  0.0397