BOTTLE,20020814WHPSIOKJU
EXPOCODE,SECT_ID,STNNBR,CASTNO,SAMPNO,BTLNBR,BTLNBR_FLAG_W,DATE,TIME,LATITUDE,LONGITUDE,DEPTH,CTDPRS,CTDTMP,CTDSAL,CTDSAL_FLAG_W,SALNTY,SALNTY_FLAG_W,CTDOXY,CTDOXY_FLAG_W,OXYGEN,OXYGEN_FLAG_W,SILCAT,SILCAT_FLAG_W,NITRAT,NITRAT_FLAG_W,NITRIT,NITRIT_FLAG_W,PHSPHT,PHSPHT_FLAG_W,CFC-11,CFC-11_FLAG_W,CFC-12,CFC-12_FLAG_W,CCL4,CCL4_FLAG_W,TCARBN,TCARBN_FLAG_W,ALKALI,ALKALI_FLAG_W,THETA
,,,,,,,,,,,,DBAR,ITS-90,PSS-78,,PSS-78,,UMOL/KG,,UMOL/KG,,UMOL/KG,,UMOL/KG,,UMOL/KG,,UMOL/KG,,PMOL/KG,,PMOL/KG,,PMOL/KG,,UMOL/KG,,UMOL/KG,,DEG C
     316N142_3,   A15,    48,  1,     39,     39,2,19940419,1235, -1.5990, -18.9992, 4125,      7.2,  28.5730,  35.9128,2,  35.9149,2,    216.8,2,    218.2,2,     2.13,2,     0.23,2,     0.00,2,     0.12,2, -999.000,9, -999.000,9, -999.000,9,   -999.0,9,   -999.0,9, 28.5713
     316N142_3,   A15,    48,  1,     42,     42,2,19940419,1235, -1.5990, -18.9992, 4125,     53.3,  25.4553,  36.0669,2,  36.0572,2,    224.3,2,    216.2,2,     2.52,2,     0.23,2,     0.01,2,     0.24,2, -999.000,9, -999.000,9, -999.000,9,   -999.0,9,   -999.0,9, 25.4436
     316N142_3,   A15,    48,  1,     38,     38,2,19940419,1235, -1.5990, -18.9992, 4125,    103.9,  14.5769,  35.4675,2,  35.4813,2,     99.3,2,     94.2,2,     8.15,2,    21.28,2,     0.05,2,     1.47,2, -999.000,9, -999.000,9, -999.000,9,   -999.0,9,   -999.0,9, 14.5615
     316N142_3,   A15,    48,  1,     33,     33,2,19940419,1235, -1.5990, -18.9992, 4125,    174.0,  13.3326,  35.3167,2,  35.3230,2,    123.3,2,    127.4,2,     8.94,2,    19.78,2,     0.01,2,     1.39,2, -999.000,9, -999.000,9, -999.000,9,   -999.0,9,   -999.0,9, 13.3082
     316N142_3,   A15,    48,  1,     41,     41,2,19940419,1235, -1.5990, -18.9992, 4125,    235.2,  12.2542,  35.1833,2,  35.1784,2,     87.3,2,     87.7,2,    11.34,2,    25.92,2,     0.01,2,     1.73,2, -999.000,9, -999.000,9, -999.000,9,   -999.0,9,   -999.0,9, 12.2229
     316N142_3,   A15,    48,  1,     31,     31,2,19940419,1235, -1.5990, -18.9992, 4125,    335.1,   9.9698,  34.9301,2,  34.9589,2,     80.5,2,     82.5,2,    14.96,2,    30.28,2,     0.01,2,     1.99,2, -999.000,9, -999.000,9, -999.000,9,   -999.0,9,   -999.0,9,  9.9308
     316N142_3,   A15,    48,  1,     37,     37,2,19940419,1235, -1.5990, -18.9992, 4125,    445.2,   7.6798,  34.6717,2,  34.6776,2,    122.2,2,    122.4,2,    19.11,2,    31.27,2,     0.01,2,     2.10,2, -999.000,9, -999.000,9, -999.000,9,   -999.0,9,   -999.0,9,  7.6353
     316N142_3,   A15,    48,  1,     29,     29,2,19940419,1235, -1.5990, -18.9992, 4125,    557.3,   6.1865,  34.5507,2,  34.5495,2,    134.3,2,    134.6,2,    24.35,2,    33.34,2,     0.01,2,     2.28,2, -999.000,9, -999.000,9, -999.000,9,   -999.0,9,   -999.0,9,  6.1367
     316N142_3,   A15,    48,  1,     28,     28,2,19940419,1235, -1.5990, -18.9992, 4125,    668.0,   5.6788,  34.5119,2,  34.5116,2,    144.0,2,    144.3,2,    25.68,2,    33.40,2,     0.01,2,     2.30,2, -999.000,9, -999.000,9, -999.000,9,   -999.0,9,   -999.0,9,  5.6213
     316N142_3,   A15,    48,  1,     27,     27,2,19940419,1235, -1.5990, -18.9992, 4125,    768.5,   5.0444,  34.4880,2,  34.4872,2,    149.4,2,    151.9,2,    29.84,2,    33.78,2,     0.00,2,     2.35,2, -999.000,9, -999.000,9, -999.000,9,   -999.0,9,   -999.0,9,  4.9814
     316N142_3,   A15,    48,  1,     26,     26,2,19940419,1235, -1.5990, -18.9992, 4125,    868.8,   4.6792,  34.4959,2,  34.4961,2,    152.0,2,    155.8,2,    32.65,2,    33.88,2,     0.00,2,     2.36,2, -999.000,9, -999.000,9, -999.000,9,   -999.0,9,   -999.0,9,  4.6098
     316N142_3,   A15,    48,  1,     25,     25,2,19940419,1235, -1.5990, -18.9992, 4125,    980.5,   4.3505,  34.6667,2,  34.6670,2,    157.0,2,    163.7,2,    31.96,2,    31.58,2,     0.00,2,     2.22,2, -999.000,9, -999.000,9, -999.000,9,   -999.0,9,   -999.0,9,  4.2735
     316N142_3,   A15,    48,  1,     24,     24,2,19940419,1235, -1.5990, -18.9992, 4125,   1091.3,   4.4783,  34.7487,2,  34.7478,2,    171.9,2,    171.6,2,    28.85,2,    29.75,2,     0.00,2,     2.09,2, -999.000,9, -999.000,9, -999.000,9,   -999.0,9,   -999.0,9,  4.3906
     316N142_3,   A15,    48,  1,     23,     23,2,19940419,1235, -1.5990, -18.9992, 4125,   1252.5,   4.5123,  34.8240,2,  34.8233,2,    183.3,2,    184.9,2,    26.00,2,    27.60,2,     0.00,2,     1.93,2, -999.000,9, -999.000,9, -999.000,9,   -999.0,9,   -999.0,9,  4.4097
     316N142_3,   A15,    48,  1,     22,     22,2,19940419,1235, -1.5990, -18.9992, 4125,   1415.4,   4.4465,  34.9386,2,  34.9364,2,    216.7,2,    214.8,2,    20.73,2,    23.29,2,     0.00,2,     1.63,2, -999.000,9, -999.000,9, -999.000,9,   -999.0,9,   -999.0,9,  4.3293
     316N142_3,   A15,    48,  1,     21,     21,2,19940419,1235, -1.5990, -18.9992, 4125,   1515.9,   4.2452,  34.9716,2,  34.9712,2,    234.6,2,    233.6,2,    18.43,2,    21.00,2,     0.00,2,     1.47,2, -999.000,9, -999.000,9, -999.000,9,   -999.0,9,   -999.0,9,  4.1208
     316N142_3,   A15,    48,  1,     20,     20,2,19940419,1235, -1.5990, -18.9992, 4125,   1618.1,   4.0422,  34.9797,2,  34.9805,2,    244.3,2,    243.2,2,    18.01,2,    20.11,2,     0.00,2,     1.41,2, -999.000,9, -999.000,9, -999.000,9,   -999.0,9,   -999.0,9,  3.9106
     316N142_3,   A15,    48,  1,     19,     19,2,19940419,1235, -1.5990, -18.9992, 4125,   1718.0,   3.9216,  34.9780,2,  34.9781,2,    248.2,2,    246.3,2,    18.39,2,    19.88,2,     0.00,2,  -999.00,5, -999.000,9, -999.000,9, -999.000,9,   -999.0,9,   -999.0,9,  3.7822
     316N142_3,   A15,    48,  1,     40,     40,2,19940419,1235, -1.5990, -18.9992, 4125,   1819.8,   3.8486,  34.9831,2,  34.9846,2,    252.0,2,    251.9,2,    17.69,2,    19.22,2,     0.00,2,     1.36,2, -999.000,9, -999.000,9, -999.000,9,   -999.0,9,   -999.0,9,  3.7006
     316N142_3,   A15,    48,  1,     17,     17,2,19940419,1235, -1.5990, -18.9992, 4125,   1971.3,   3.5684,  34.9729,2,  34.9738,2,    255.7,2,    255.0,2,    19.42,2,    19.13,2,     0.00,2,     1.35,2, -999.000,9, -999.000,9, -999.000,9,   -999.0,9,   -999.0,9,  3.4100
     316N142_3,   A15,    48,  1,     16,     16,2,19940419,1235, -1.5990, -18.9992, 4125,   2124.3,   3.3091,  34.9520,2,  34.9532,2,    250.4,2,    249.5,2,    25.07,2,    20.22,2,     0.00,2,     1.41,2, -999.000,9, -999.000,9, -999.000,9,   -999.0,9,   -999.0,9,  3.1401
     316N142_3,   A15,    48,  1,     15,     15,2,19940419,1235, -1.5990, -18.9992, 4125,   2327.1,   3.1578,  34.9429,2,  34.9442,2,    249.4,2,    249.8,2,    27.35,2,    20.46,2,     0.00,2,     1.44,2, -999.000,9, -999.000,9, -999.000,9,   -999.0,9,   -999.0,9,  2.9720
     316N142_3,   A15,    48,  1,     14,     14,2,19940419,1235, -1.5990, -18.9992, 4125,   2528.9,   2.9321,  34.9302,2,  34.9300,2,    249.0,2,    248.1,2,    31.92,2,    20.88,2,     0.00,2,     1.47,2, -999.000,9, -999.000,9, -999.000,9,   -999.0,9,   -999.0,9,  2.7306
     316N142_3,   A15,    48,  1,     13,     13,2,19940419,1235, -1.5990, -18.9992, 4125,   2732.9,   2.8268,  34.9205,2,  34.9202,2,    247.4,2,    245.6,2,    35.28,2,    21.31,2,     0.00,2,     1.50,2, -999.000,9, -999.000,9, -999.000,9,   -999.0,9,   -999.0,9,  2.6071
     316N142_3,   A15,    48,  1,     12,     12,2,19940419,1235, -1.5990, -18.9992, 4125,   2934.8,   2.6871,  34.9100,2,  34.9107,2,    246.3,2,    249.3,4,    38.63,2,    21.73,2,     0.00,2,     1.52,2, -999.000,9, -999.000,9, -999.000,9,   -999.0,9,   -999.0,9,  2.4499
     316N142_3,   A15,    48,  1,     11,     11,2,19940419,1235, -1.5990, -18.9992, 4125,   3139.1,   2.5959,  34.9066,2,  34.9062,2,    247.6,2,    246.9,2,    39.03,2,    21.59,2,     0.00,2,     1.52,2, -999.000,9, -999.000,9, -999.000,9,   -999.0,9,   -999.0,9,  2.3397
     316N142_3,   A15,    48,  1,     10,     10,2,19940419,1235, -1.5990, -18.9992, 4125,   3292.0,   2.5027,  34.9029,2,  34.9029,2,    250.0,2,    250.7,2,    38.61,2,    21.17,2,     0.00,2,     1.49,2, -999.000,9, -999.000,9, -999.000,9,   -999.0,9,   -999.0,9,  2.2325
     316N142_3,   A15,    48,  1,      9,      9,2,19940419,1235, -1.5990, -18.9992, 4125,   3444.6,   2.4648,  34.9034,2,  34.9031,2,    254.8,2,    255.0,2,    36.57,2,    20.57,2,     0.00,2,     1.46,2, -999.000,9, -999.000,9, -999.000,9,   -999.0,9,   -999.0,9,  2.1793
     316N142_3,   A15,    48,  1,      8,      8,2,19940419,1235, -1.5990, -18.9992, 4125,   3547.1,   2.4454,  34.9035,2,  34.9025,2,    256.2,2,    256.7,2,    36.15,2,    20.38,2,     0.00,2,     1.44,2, -999.000,9, -999.000,9, -999.000,9,   -999.0,9,   -999.0,9,  2.1493
     316N142_3,   A15,    48,  1,      7,      7,2,19940419,1235, -1.5990, -18.9992, 4125,   3648.2,   2.4036,  34.9005,2,  34.8996,2,    257.6,2,    258.3,2,    36.14,2,    20.29,2,     0.00,2,     1.44,2, -999.000,9, -999.000,9, -999.000,9,   -999.0,9,   -999.0,9,  2.0975
     316N142_3,   A15,    48,  1,      6,      6,2,19940419,1235, -1.5990, -18.9992, 4125,   3750.8,   2.3468,  34.8967,2,  34.8960,2,    258.7,2,    259.5,2,    36.53,2,    20.20,2,     0.00,2,     1.43,2, -999.000,9, -999.000,9, -999.000,9,   -999.0,9,   -999.0,9,  2.0308
     316N142_3,   A15,    48,  1,      5,      5,2,19940419,1235, -1.5990, -18.9992, 4125,   3853.2,   2.3233,  34.8931,2,  34.8933,2,    259.2,2,    259.1,2,    37.73,2,    20.29,2,     0.00,2,     1.44,2, -999.000,9, -999.000,9, -999.000,9,   -999.0,9,   -999.0,9,  1.9966
     316N142_3,   A15,    48,  1,      4,      4,2,19940419,1235, -1.5990, -18.9992, 4125,   3956.1,   2.2328,  34.8836,2,  34.8833,2,    257.9,2,    257.1,2,    41.50,2,    20.81,2,     0.00,2,     1.48,2, -999.000,9, -999.000,9, -999.000,9,   -999.0,9,   -999.0,9,  1.8971
     316N142_3,   A15,    48,  1,      3,      3,2,19940419,1235, -1.5990, -18.9992, 4125,   4058.5,   2.0626,  34.8652,2,  34.8646,2,    254.2,2,    254.0,2,    48.64,2,    21.80,2,     0.00,2,     1.56,2, -999.000,9, -999.000,9, -999.000,9,   -999.0,9,   -999.0,9,  1.7202
     316N142_3,   A15,    48,  1,      2,      2,2,19940419,1235, -1.5990, -18.9992, 4125,   4160.6,   1.8223,  34.8376,2,  34.8387,2,    248.8,2,    248.1,2,    60.07,2,    23.64,2,     0.00,2,     1.67,2, -999.000,9, -999.000,9, -999.000,9,   -999.0,9,   -999.0,9,  1.4754
     316N142_3,   A15,    48,  1,      1,      1,2,19940419,1235, -1.5990, -18.9992, 4125,   4245.3,   1.4758,  34.7992,2,  34.7987,2,    239.1,2,    239.0,2,    75.98,2,    25.99,2,     0.00,2,     1.84,2, -999.000,9, -999.000,9, -999.000,9,   -999.0,9,   -999.0,9,  1.1298