BOTTLE,20020814WHPSIOKJU
EXPOCODE,SECT_ID,STNNBR,CASTNO,SAMPNO,BTLNBR,BTLNBR_FLAG_W,DATE,TIME,LATITUDE,LONGITUDE,DEPTH,CTDPRS,CTDTMP,CTDSAL,CTDSAL_FLAG_W,SALNTY,SALNTY_FLAG_W,CTDOXY,CTDOXY_FLAG_W,OXYGEN,OXYGEN_FLAG_W,SILCAT,SILCAT_FLAG_W,NITRAT,NITRAT_FLAG_W,NITRIT,NITRIT_FLAG_W,PHSPHT,PHSPHT_FLAG_W,CFC-11,CFC-11_FLAG_W,CFC-12,CFC-12_FLAG_W,CCL4,CCL4_FLAG_W,TCARBN,TCARBN_FLAG_W,ALKALI,ALKALI_FLAG_W,THETA
,,,,,,,,,,,,DBAR,ITS-90,PSS-78,,PSS-78,,UMOL/KG,,UMOL/KG,,UMOL/KG,,UMOL/KG,,UMOL/KG,,UMOL/KG,,PMOL/KG,,PMOL/KG,,PMOL/KG,,UMOL/KG,,UMOL/KG,,DEG C
     316N142_3,   A15,    72,  1,     39,     39,2,19940426,0158,-13.5335, -18.9998, 4266,      4.9,  26.8963,  36.8407,2,  36.8419,2,    194.9,4,    201.0,2,     2.52,2,     0.14,2,     0.00,2,     0.17,2,    1.699,2,    1.014,2,    2.498,2,   2055.1,2,   2412.8,2, 26.8952
     316N142_3,   A15,    72,  1,     35,     35,9,19940426,0158,-13.5335, -18.9998, 4266,     59.2,  26.8752,  36.8642,2,-999.0000,9,    206.6,4,   -999.0,9,  -999.00,9,  -999.00,9,  -999.00,9,  -999.00,9, -999.000,9, -999.000,9, -999.000,9,   -999.0,9,   -999.0,9, 26.8616
     316N142_3,   A15,    72,  1,     38,     38,2,19940426,0158,-13.5335, -18.9998, 4266,     89.5,  24.3024,  36.7663,2,  36.7655,2,    227.3,4,    221.8,2,     2.12,2,     0.15,2,     0.00,2,     0.22,2,    2.024,2,    1.143,2,    2.413,2,   2074.1,2,   2410.6,2, 24.2833
     316N142_3,   A15,    72,  1,     33,     33,2,19940426,0158,-13.5335, -18.9998, 4266,    169.6,  17.5391,  35.8881,2,  35.8843,2,    190.8,2,    178.1,2,     3.76,2,     7.34,2,     0.03,2,     0.73,2,    2.149,2,    1.219,2,    0.929,2,   2119.1,2,   2351.4,2, 17.5103
     316N142_3,   A15,    72,  1,     41,     41,2,19940426,0158,-13.5335, -18.9998, 4266,    245.3,  13.1734,  35.2693,2,  35.2801,2,    134.9,2,    128.0,2,     7.82,2,    19.11,2,     0.01,2,     1.34,2,    1.561,6,    0.883,6,    0.347,6,   2164.2,2,   2314.0,2, 13.1392
     316N142_3,   A15,    72,  1,     31,     31,2,19940426,0158,-13.5335, -18.9998, 4266,    345.0,   9.8652,  34.8718,2,  34.8723,2,    114.5,2,    107.9,2,    13.91,2,    28.17,2,     0.00,2,     1.87,2,    0.718,2,    0.364,2,    0.366,2,   2198.6,2,   2297.9,2,  9.8252
     316N142_3,   A15,    72,  1,     37,     37,2,19940426,0158,-13.5335, -18.9998, 4266,    456.3,   7.3970,  34.6322,2,  34.6347,2,    123.0,2,    123.4,2,    19.87,2,    32.16,2,     0.00,2,     2.14,2,    0.248,2,    0.132,2,    0.495,2,   2208.9,2,   2292.5,2,  7.3523
     316N142_3,   A15,    72,  1,     29,     29,2,19940426,0158,-13.5335, -18.9998, 4266,    556.5,   5.8349,  34.4974,2,  34.4937,2,    147.9,2,    149.2,2,    24.69,2,    33.20,2,     0.00,2,     2.23,2,    0.221,2,    0.092,2,    0.679,2,   2208.1,2,   2291.5,2,  5.7867
     316N142_3,   A15,    72,  1,     28,     28,2,19940426,0158,-13.5335, -18.9998, 4266,    626.5,   5.1375,  34.4530,2,  34.4520,2,    158.5,2,    158.5,2,    28.11,2,    33.59,2,     0.00,2,     2.26,2,    0.170,2,    0.100,2,    0.505,2,   2209.7,2,   2291.4,2,  5.0864
     316N142_3,   A15,    72,  1,     27,     27,2,19940426,0158,-13.5335, -18.9998, 4266,    687.6,   4.6881,  34.4341,2,  34.4328,2,    161.0,2,    165.3,2,    31.14,2,    33.74,2,     0.00,2,     2.27,2,    0.144,6,    0.064,6,    0.541,6,   -999.0,9,   -999.0,9,  4.6341
     316N142_3,   A15,    72,  1,     26,     26,2,19940426,0158,-13.5335, -18.9998, 4266,    727.3,   4.4856,  34.4433,2,  34.4422,2,    161.9,2,    163.2,2,    33.03,2,    34.19,2,     0.00,2,     2.26,2,    0.149,2,    0.045,2,    0.450,2,   -999.0,9,   -999.0,9,  4.4294
     316N142_3,   A15,    72,  1,     25,     25,2,19940426,0158,-13.5335, -18.9998, 4266,    766.5,   4.4106,  34.4619,2,  34.4625,2,    154.8,2,    157.1,2,    34.28,2,    34.63,2,     0.00,2,     2.27,2,    0.102,2,    0.035,2,    0.229,2,   -999.0,9,   -999.0,9,  4.3515
     316N142_3,   A15,    72,  1,     24,     24,2,19940426,0158,-13.5335, -18.9998, 4266,    858.0,   4.1124,  34.4917,2,  34.4890,2,    162.8,2,    163.3,2,    36.67,2,    34.05,2,     0.00,2,     2.29,2,    0.050,4,    0.017,2,    0.212,2,   -999.0,9,   -999.0,9,  4.0477
     316N142_3,   A15,    72,  1,     23,     23,2,19940426,0158,-13.5335, -18.9998, 4266,    959.5,   3.9443,  34.5420,2,  34.5400,2,    166.1,2,    168.5,2,    37.66,2,    33.16,2,     0.00,2,     2.28,2, -999.000,9, -999.000,9, -999.000,9,   -999.0,9,   -999.0,9,  3.8724
     316N142_3,   A15,    72,  1,     22,     22,2,19940426,0158,-13.5335, -18.9998, 4266,   1110.2,   3.9046,  34.6449,2,  34.6438,2,    174.8,2,    176.5,2,    35.86,2,    31.19,2,     0.00,2,     2.16,2, -999.000,9, -999.000,9, -999.000,9,   -999.0,9,   -999.0,9,  3.8203
     316N142_3,   A15,    72,  1,     21,     21,2,19940426,0158,-13.5335, -18.9998, 4266,   1261.1,   3.9562,  34.7844,2,  34.7827,2,    188.7,2,    192.9,2,    30.49,2,    27.70,2,     0.00,2,     1.92,2,    0.045,4,    0.005,2,    0.001,2,   -999.0,9,   -999.0,9,  3.8582
     316N142_3,   A15,    72,  1,     20,     20,2,19940426,0158,-13.5335, -18.9998, 4266,   1412.6,   3.9108,  34.8654,2,  34.8657,2,    207.9,2,    210.1,2,    27.04,2,    24.84,2,     0.00,2,     1.73,2, -999.000,9, -999.000,9, -999.000,9,   -999.0,9,   -999.0,9,  3.7997
     316N142_3,   A15,    72,  1,     19,     19,2,19940426,0158,-13.5335, -18.9998, 4266,   1565.0,   3.8016,  34.9026,2,  34.9029,2,    223.5,2,    222.4,2,    25.62,2,    23.27,2,     0.00,2,     1.61,2, -999.000,9,    0.002,2,    0.184,2,   -999.0,9,   -999.0,9,  3.6779
     316N142_3,   A15,    72,  1,     40,     40,2,19940426,0158,-13.5335, -18.9998, 4266,   1717.4,   3.6141,  34.9198,2,  34.9220,2,    232.0,2,    231.8,2,    26.23,2,    22.24,2,     0.00,2,     1.54,2, -999.000,9, -999.000,9, -999.000,9,   -999.0,9,   -999.0,9,  3.4788
     316N142_3,   A15,    72,  1,     17,     17,2,19940426,0158,-13.5335, -18.9998, 4266,   1868.7,   3.4182,  34.9241,2,  34.9243,2,    237.9,2,    237.8,2,    27.87,2,    21.70,2,     0.00,2,     1.50,2, -999.000,9,    0.012,2,    0.008,2,   -999.0,9,   -999.0,9,  3.2717
     316N142_3,   A15,    72,  1,     16,     16,2,19940426,0158,-13.5335, -18.9998, 4266,   2071.2,   3.1963,  34.9209,2,  34.9208,2,    240.7,2,    241.3,2,    31.02,2,    21.70,2,     0.00,2,     1.50,2, -999.000,9, -999.000,9, -999.000,9,   -999.0,9,   -999.0,9,  3.0343
     316N142_3,   A15,    72,  1,     15,     15,2,19940426,0158,-13.5335, -18.9998, 4266,   2223.4,   3.0188,  34.9125,2,  34.9118,2,    242.6,2,    242.2,2,    34.43,2,    21.95,2,     0.00,2,     1.51,2, -999.000,9,    0.017,2,    0.006,2,   -999.0,9,   -999.0,9,  2.8453
     316N142_3,   A15,    72,  1,     14,     14,2,19940426,0158,-13.5335, -18.9998, 4266,   2375.6,   2.8915,  34.9064,2,  34.9049,2,    241.9,2,    242.2,2,    37.20,2,    22.05,2,     0.00,2,     1.53,2, -999.000,9, -999.000,9, -999.000,9,   -999.0,9,   -999.0,9,  2.7057
     316N142_3,   A15,    72,  1,     13,     13,2,19940426,0158,-13.5335, -18.9998, 4266,   2529.0,   2.8170,  34.9041,2,  34.9035,2,    242.8,2,    242.3,2,    38.70,2,    22.10,2,     0.00,2,     1.53,2, -999.000,9, -999.000,9, -999.000,9,   -999.0,9,   -999.0,9,  2.6178
     316N142_3,   A15,    72,  1,     12,     12,2,19940426,0158,-13.5335, -18.9998, 4266,   2680.9,   2.7550,  34.9022,2,  34.9002,2,    243.4,2,    242.6,2,    40.08,2,    22.10,2,     0.00,2,     1.54,2, -999.000,9, -999.000,9, -999.000,9,   -999.0,9,   -999.0,9,  2.5420
     316N142_3,   A15,    72,  1,     11,     11,2,19940426,0158,-13.5335, -18.9998, 4266,   2883.5,   2.6948,  34.8996,2,  34.9002,2,    242.8,2,    242.5,2,    41.32,2,    22.11,2,     0.00,2,     1.54,2, -999.000,9,    0.008,2,    0.018,2,   -999.0,9,   -999.0,9,  2.4627
     316N142_3,   A15,    72,  1,     10,     10,2,19940426,0158,-13.5335, -18.9998, 4266,   3088.1,   2.6439,  34.8973,2,  34.8963,2,    243.4,2,    242.8,2,    42.31,2,    22.11,2,     0.00,2,     1.54,2, -999.000,9, -999.000,9, -999.000,9,   -999.0,9,   -999.0,9,  2.3919
     316N142_3,   A15,    72,  1,      9,      9,2,19940426,0158,-13.5335, -18.9998, 4266,   3291.9,   2.5610,  34.8953,2,  34.8955,2,    245.1,2,    245.6,2,    42.67,2,    21.96,2,     0.00,2,     1.53,2, -999.000,9, -999.000,9, -999.000,9,   -999.0,9,   -999.0,9,  2.2895
     316N142_3,   A15,    72,  1,      8,      8,2,19940426,0158,-13.5335, -18.9998, 4266,   3445.7,   2.4651,  34.8900,2,  34.8902,2,    247.6,2,    247.2,2,    44.04,2,    21.91,2,     0.00,2,     1.53,2, -999.000,9,    0.008,2,    0.008,2,   -999.0,9,   -999.0,9,  2.1795
     316N142_3,   A15,    72,  1,      7,      7,2,19940426,0158,-13.5335, -18.9998, 4266,   3598.0,   2.3480,  34.8810,2,  34.8825,2,    246.8,2,    247.6,2,    46.94,2,    22.16,2,     0.00,2,     1.55,2, -999.000,9, -999.000,9, -999.000,9,   -999.0,9,   -999.0,9,  2.0489
     316N142_3,   A15,    72,  1,      6,      6,2,19940426,0158,-13.5335, -18.9998, 4266,   3751.0,   2.1670,  34.8648,2,  34.8646,2,    246.7,2,    246.7,2,    52.74,2,    22.85,2,     0.00,2,     1.60,2, -999.000,9, -999.000,9, -999.000,9,   -999.0,9,   -999.0,9,  1.8560
     316N142_3,   A15,    72,  1,      5,      5,2,19940426,0158,-13.5335, -18.9998, 4266,   3904.7,   1.9402,  34.8414,2,  34.8461,4,    244.1,2,    243.3,2,    61.29,2,    24.09,2,     0.00,2,     1.68,2, -999.000,9, -999.000,9, -999.000,9,   -999.0,9,   -999.0,9,  1.6185
     316N142_3,   A15,    72,  1,      4,      4,2,19940426,0158,-13.5335, -18.9998, 4266,   4057.5,   1.6347,  34.8074,2,  34.8064,2,    238.3,2,    237.7,2,    74.40,2,    26.01,2,     0.00,2,     1.82,2, -999.000,9,    0.001,2,    0.041,2,   -999.0,9,   -999.0,9,  1.3049
     316N142_3,   A15,    72,  1,      3,      3,2,19940426,0158,-13.5335, -18.9998, 4266,   4211.2,   1.4706,  34.7908,2,  34.7899,2,    235.9,2,    235.3,2,    80.55,2,    26.90,2,     0.00,2,     1.87,2, -999.000,9, -999.000,9, -999.000,9,   -999.0,9,   -999.0,9,  1.1286
     316N142_3,   A15,    72,  1,      2,      2,2,19940426,0158,-13.5335, -18.9998, 4266,   4364.2,   1.2946,  34.7721,2,  34.7726,2,    233.8,2,    232.7,2,    87.45,2,    27.94,2,     0.00,2,     1.95,2, -999.000,9, -999.000,9, -999.000,9,   -999.0,9,   -999.0,9,  0.9408
     316N142_3,   A15,    72,  1,      1,      1,2,19940426,0158,-13.5335, -18.9998, 4266,   4514.6,   1.2152,  34.7628,2,  34.7630,2,    230.4,2,    231.3,2,    90.89,2,    28.43,2,     0.00,2,     1.99,2, -999.000,9,    0.009,2,    0.014,2,   -999.0,9,   -999.0,9,  0.8469