BOTTLE,20020814WHPSIOKJU
EXPOCODE,SECT_ID,STNNBR,CASTNO,SAMPNO,BTLNBR,BTLNBR_FLAG_W,DATE,TIME,LATITUDE,LONGITUDE,DEPTH,CTDPRS,CTDTMP,CTDSAL,CTDSAL_FLAG_W,SALNTY,SALNTY_FLAG_W,CTDOXY,CTDOXY_FLAG_W,OXYGEN,OXYGEN_FLAG_W,SILCAT,SILCAT_FLAG_W,NITRAT,NITRAT_FLAG_W,NITRIT,NITRIT_FLAG_W,PHSPHT,PHSPHT_FLAG_W,CFC-11,CFC-11_FLAG_W,CFC-12,CFC-12_FLAG_W,CCL4,CCL4_FLAG_W,TCARBN,TCARBN_FLAG_W,ALKALI,ALKALI_FLAG_W,THETA
,,,,,,,,,,,,DBAR,ITS-90,PSS-78,,PSS-78,,UMOL/KG,,UMOL/KG,,UMOL/KG,,UMOL/KG,,UMOL/KG,,UMOL/KG,,PMOL/KG,,PMOL/KG,,PMOL/KG,,UMOL/KG,,UMOL/KG,,DEG C
     316N142_3,   A15,    82,  1,     39,     39,2,19940428,2204,-18.7163, -18.9932, 4774,      9.7,  26.2804,  37.0617,2,  37.0609,2,    203.0,2,    204.2,2,     1.81,2,     0.24,2,     0.00,2,     0.21,2,    1.688,2,    0.977,2,    2.542,2,   2077.4,2,   2438.3,2, 26.2782
     316N142_3,   A15,    82,  1,     35,     35,2,19940428,2204,-18.7163, -18.9932, 4774,     65.2,  23.8563,  36.6193,2,  36.6282,2,    215.9,2,    224.9,2,     1.81,2,     0.24,2,     0.00,2,     0.21,2,    2.001,2,    1.125,2,    2.069,2,   2067.7,2,   2412.5,2, 23.8426
     316N142_3,   A15,    82,  1,     38,     38,2,19940428,2204,-18.7163, -18.9932, 4774,    100.9,  22.0097,  36.4299,2,  36.4282,2,    228.8,2,    225.8,2,     1.94,2,     0.19,2,     0.00,2,     0.21,2,    2.089,2,    1.181,2,    1.691,2,   2067.9,2,   2398.2,2, 21.9896
     316N142_3,   A15,    82,  1,     33,     33,2,19940428,2204,-18.7163, -18.9932, 4774,    205.8,  15.8491,  35.5706,2,  35.5613,2,    200.2,2,    193.4,2,     3.68,2,     6.77,2,     0.02,2,     0.65,2,    2.307,2,    1.280,2,    0.874,2,   2102.4,2,   2341.8,2, 15.8166
     316N142_3,   A15,    82,  1,     41,     41,2,19940428,2204,-18.7163, -18.9932, 4774,    306.4,  12.3390,  35.0975,2,  35.0961,2,    170.2,2,    163.1,2,     7.30,2,    16.44,2,     0.00,2,     1.19,2,    1.785,6,    0.974,6,    0.782,6,   2139.9,2,   2313.1,2, 12.2981
     316N142_3,   A15,    82,  1,     31,     31,2,19940428,2204,-18.7163, -18.9932, 4774,    407.1,   9.9147,  34.8216,2,  34.8195,2,    158.9,2,    157.4,2,    11.51,2,    22.39,2,     0.00,2,     1.55,2,    1.321,2,    0.692,2,    0.799,2,   2161.2,2,   2303.3,2,  9.8673
     316N142_3,   A15,    82,  1,     37,     37,2,19940428,2204,-18.7163, -18.9932, 4774,    506.7,   7.5513,  34.6152,2,  34.6144,2,    144.8,2,    144.6,2,    18.49,2,    29.17,2,     0.00,2,     1.96,2, -999.000,9,    0.336,2,    0.930,2,   2189.1,2,   2302.7,2,  7.5010
     316N142_3,   A15,    82,  1,     29,     29,2,19940428,2204,-18.7163, -18.9932, 4774,    627.5,   5.8480,  34.4823,2,  34.4814,2,    157.5,2,    158.4,2,    24.74,2,    31.82,2,     0.00,2,     2.14,2,    0.381,2,    0.167,2,    0.803,2,   2198.1,2,   2302.9,2,  5.7933
     316N142_3,   A15,    82,  1,     28,     28,2,19940428,2204,-18.7163, -18.9932, 4774,    757.9,   4.5438,  34.4250,2,  34.4252,2,    172.8,2,    172.6,2,    32.32,2,    32.98,2,     0.00,2,     2.23,2,    0.186,6,    0.081,6,    0.863,6,   2201.7,2,   2302.9,2,  4.4847
     316N142_3,   A15,    82,  1,     27,     27,2,19940428,2204,-18.7163, -18.9932, 4774,    887.9,   4.0590,  34.4303,2,  34.4291,2,    176.8,2,    179.9,2,    36.84,2,    32.89,2,     0.00,2,     2.25,2,    0.118,2,    0.053,2,    0.782,2,   2206.4,2,   2312.1,2,  3.9922
     316N142_3,   A15,    82,  1,     26,     26,2,19940428,2204,-18.7163, -18.9932, 4774,   1010.1,   3.6632,  34.4836,2,  34.4818,2,    181.4,2,    184.8,2,    41.65,2,    32.36,2,     0.00,2,     2.23,2,    0.089,4,    0.048,2,    0.384,2,   2212.7,2,   2317.3,2,  3.5893
     316N142_3,   A15,    82,  1,     25,     25,9,19940428,2204,-18.7163, -18.9932, 4774,   1161.0,   3.6057,  34.5843,2,-999.0000,9,    185.0,2,   -999.0,9,  -999.00,9,  -999.00,9,  -999.00,9,  -999.00,9, -999.000,9, -999.000,9, -999.000,9,   -999.0,9,   -999.0,9,  3.5198
     316N142_3,   A15,    82,  1,     24,     24,2,19940428,2204,-18.7163, -18.9932, 4774,   1312.0,   3.7796,  34.7006,2,  34.6995,2,    190.1,2,    190.8,2,    36.79,2,    29.00,2,     0.00,2,     1.99,2, -999.000,9, -999.000,9, -999.000,9,   -999.0,9,   -999.0,9,  3.6791
     316N142_3,   A15,    82,  1,     23,     23,2,19940428,2204,-18.7163, -18.9932, 4774,   1463.2,   3.8136,  34.7765,2,  34.7774,2,    199.8,2,    199.8,2,    33.85,2,    27.09,2,     0.00,2,     1.86,2, -999.000,9,    0.012,2,    0.151,2,   2199.4,2,   2321.4,2,  3.6992
     316N142_3,   A15,    82,  1,     22,     22,2,19940428,2204,-18.7163, -18.9932, 4774,   1588.7,   3.8867,  34.8337,2,  34.8332,2,    207.6,2,    208.4,2,    30.03,2,    25.37,2,     0.00,2,     1.73,2, -999.000,9, -999.000,9, -999.000,9,   -999.0,9,   -999.0,9,  3.7601
     316N142_3,   A15,    82,  1,     21,     21,2,19940428,2204,-18.7163, -18.9932, 4774,   1713.5,   3.8970,  34.8663,2,  34.8663,2,    217.4,2,    215.5,2,    28.12,2,    24.27,2,     0.00,2,     1.66,2, -999.000,9,    0.015,2,    0.159,2,   2186.7,2,   2324.5,2,  3.7587
     316N142_3,   A15,    82,  1,     20,     20,2,19940428,2204,-18.7163, -18.9932, 4774,   1802.2,   3.9704,  34.9005,2,  34.8999,2,    221.5,2,    222.8,2,    24.90,2,    22.99,2,     0.00,2,     1.58,2, -999.000,9, -999.000,9, -999.000,9,   -999.0,9,   -999.0,9,  3.8226
     316N142_3,   A15,    82,  1,     19,     19,2,19940428,2204,-18.7163, -18.9932, 4774,   1886.8,   4.0183,  34.9516,2,  34.9514,2,    231.6,2,    236.1,2,    20.08,2,    20.89,2,     0.00,2,     1.42,2, -999.000,9,    0.042,2,    0.484,2,   2170.6,2,   2318.1,2,  3.8616
     316N142_3,   A15,    82,  1,     40,     40,2,19940428,2204,-18.7163, -18.9932, 4774,   1988.3,   3.8323,  34.9652,2,  34.9663,2,    246.1,2,    245.2,2,    19.49,2,    19.84,2,     0.00,2,     1.36,2, -999.000,9,    0.035,2,    0.586,2,   -999.0,9,   -999.0,9,  3.6684
     316N142_3,   A15,    82,  1,     17,     17,2,19940428,2204,-18.7163, -18.9932, 4774,   2143.0,   3.5025,  34.9612,2,  34.9614,2,    254.3,2,    251.6,2,    21.80,2,    19.42,2,     0.00,2,     1.33,2, -999.000,9, -999.000,9, -999.000,9,   2164.2,2,   2322.2,2,  3.3287
     316N142_3,   A15,    82,  1,     16,     16,2,19940428,2204,-18.7163, -18.9932, 4774,   2330.4,   3.1093,  34.9430,2,  34.9429,2,    255.2,2,    253.1,2,    27.01,2,    19.85,2,     0.00,2,     1.36,2, -999.000,9, -999.000,9, -999.000,9,   -999.0,9,   -999.0,9,  2.9239
     316N142_3,   A15,    82,  1,     15,     15,2,19940428,2204,-18.7163, -18.9932, 4774,   2511.6,   2.7908,  34.9258,2,  34.9252,2,    254.8,2,    252.9,2,    32.09,2,    20.28,2,     0.00,2,     1.39,2, -999.000,9,    0.016,2,    0.169,2,   2176.1,2,   2331.7,2,  2.5937
     316N142_3,   A15,    82,  1,     14,     14,2,19940428,2204,-18.7163, -18.9932, 4774,   2671.6,   2.6466,  34.9175,2,  34.9166,2,    254.6,2,    254.6,2,    34.26,2,    20.47,2,     0.00,2,     1.40,2, -999.000,9, -999.000,9, -999.000,9,   -999.0,9,   -999.0,9,  2.4366
     316N142_3,   A15,    82,  1,     13,     13,2,19940428,2204,-18.7163, -18.9932, 4774,   2877.3,   2.4961,  34.9073,2,  34.9067,2,    255.9,2,    254.5,2,    37.16,2,    20.72,2,     0.00,2,     1.42,2, -999.000,9,    0.025,2,    0.333,2,   2180.1,2,   2334.9,2,  2.2688
     316N142_3,   A15,    82,  1,     12,     12,9,19940428,2204,-18.7163, -18.9932, 4774,   3082.3,   2.3521,  34.8940,2,-999.0000,9,    254.7,2,   -999.0,9,  -999.00,9,  -999.00,9,  -999.00,9,  -999.00,9, -999.000,9, -999.000,9, -999.000,9,   -999.0,9,   -999.0,9,  2.1072
     316N142_3,   A15,    82,  1,     11,     11,2,19940428,2204,-18.7163, -18.9932, 4774,   3284.9,   2.1384,  34.8718,2,  34.8718,2,    250.4,2,    250.4,2,    50.16,2,    22.20,2,     0.00,2,     1.53,2, -999.000,9, -999.000,9, -999.000,9,   2189.2,2,   2345.3,2,  1.8777
     316N142_3,   A15,    82,  1,     10,     10,2,19940428,2204,-18.7163, -18.9932, 4774,   3405.0,   1.9823,  34.8545,2,  34.8539,2,    245.6,2,    247.5,2,    56.32,2,    23.16,2,     0.00,2,     1.61,2, -999.000,9, -999.000,9, -999.000,9,   -999.0,9,   -999.0,9,  1.7130
     316N142_3,   A15,    82,  1,      9,      9,2,19940428,2204,-18.7163, -18.9932, 4774,   3525.8,   1.8138,  34.8350,2,  34.8329,2,    240.6,2,    242.7,2,    63.98,2,    24.40,2,     0.00,2,     1.69,2, -999.000,9,    0.008,2,    0.089,2,   2205.3,2,   2347.4,2,  1.5362
     316N142_3,   A15,    82,  1,      8,      8,2,19940428,2204,-18.7163, -18.9932, 4774,   3683.7,   1.6208,  34.8138,2,  34.8127,2,    238.7,2,    239.3,2,    71.24,2,    25.46,2,     0.00,2,     1.77,2, -999.000,9, -999.000,9, -999.000,9,   -999.0,9,   -999.0,9,  1.3317
     316N142_3,   A15,    82,  1,      7,      7,2,19940428,2204,-18.7163, -18.9932, 4774,   3839.4,   1.4515,  34.7924,2,  34.7917,2,    235.4,2,    235.5,2,    78.83,2,    26.61,2,     0.00,2,     1.83,2, -999.000,9, -999.000,9, -999.000,9,   2222.4,2,   2353.3,2,  1.1506
     316N142_3,   A15,    82,  1,      6,      6,2,19940428,2204,-18.7163, -18.9932, 4774,   4043.4,   1.3340,  34.7798,2,  34.7793,2,    234.4,2,    233.8,2,    83.31,2,    27.19,2,     0.00,2,     1.89,2, -999.000,9,    0.013,2,    0.048,2,   -999.0,9,   -999.0,9,  1.0145
     316N142_3,   A15,    82,  1,      5,      5,2,19940428,2204,-18.7163, -18.9932, 4774,   4219.7,   1.1871,  34.7645,2,  34.7632,2,    232.5,2,    231.8,2,    88.86,2,    27.96,2,     0.00,2,     1.95,2, -999.000,9, -999.000,9, -999.000,9,   2231.1,2,   2360.5,2,  0.8526
     316N142_3,   A15,    82,  1,      4,      4,2,19940428,2204,-18.7163, -18.9932, 4774,   4425.4,   1.1151,  34.7556,2,  34.7545,2,    231.1,2,    230.8,2,    92.17,2,    28.35,2,     0.00,2,     1.97,2, -999.000,9,    0.005,2,    0.030,2,   -999.0,9,   -999.0,9,  0.7600
     316N142_3,   A15,    82,  1,      3,      3,2,19940428,2204,-18.7163, -18.9932, 4774,   4678.5,   0.9024,  34.7324,2,  34.7314,2,    228.2,2,    227.7,2,   101.90,2,    29.69,2,     0.00,2,     2.06,2, -999.000,9,    0.022,2,    0.067,2,   2243.8,2,   2361.6,2,  0.5256
     316N142_3,   A15,    82,  1,      2,      2,2,19940428,2204,-18.7163, -18.9932, 4774,   4824.6,   0.8914,  34.7297,2,  34.7298,2,    228.0,2,    227.7,2,   104.32,2,    29.94,2,     0.00,2,     2.07,2, -999.000,9, -999.000,9, -999.000,9,   -999.0,9,   -999.0,9,  0.4981
     316N142_3,   A15,    82,  1,      1,      1,2,19940428,2204,-18.7163, -18.9932, 4774,   4979.3,   0.8927,  34.7280,2,  34.7274,2,    227.7,2,    226.8,2,   105.97,2,    30.18,2,     0.00,2,     2.08,2, -999.000,9,    0.020,2,    0.136,2,   2245.2,2,   2366.0,2,  0.4813