BOTTLE,20020814WHPSIOKJU
EXPOCODE,SECT_ID,STNNBR,CASTNO,SAMPNO,BTLNBR,BTLNBR_FLAG_W,DATE,TIME,LATITUDE,LONGITUDE,DEPTH,CTDPRS,CTDTMP,CTDSAL,CTDSAL_FLAG_W,SALNTY,SALNTY_FLAG_W,CTDOXY,CTDOXY_FLAG_W,OXYGEN,OXYGEN_FLAG_W,SILCAT,SILCAT_FLAG_W,NITRAT,NITRAT_FLAG_W,NITRIT,NITRIT_FLAG_W,PHSPHT,PHSPHT_FLAG_W,CFC-11,CFC-11_FLAG_W,CFC-12,CFC-12_FLAG_W,CCL4,CCL4_FLAG_W,TCARBN,TCARBN_FLAG_W,ALKALI,ALKALI_FLAG_W,THETA
,,,,,,,,,,,,DBAR,ITS-90,PSS-78,,PSS-78,,UMOL/KG,,UMOL/KG,,UMOL/KG,,UMOL/KG,,UMOL/KG,,UMOL/KG,,PMOL/KG,,PMOL/KG,,PMOL/KG,,UMOL/KG,,UMOL/KG,,DEG C
     316N142_3,   A15,    30,  1,     39,     39,2,19940414,1603,  6.4982, -18.9992, 4542,      1.5,  28.4274,  36.0893,2,  36.0939,2,    209.1,2,    210.7,2,     2.49,2,     0.14,2,     0.00,2,     0.11,2, -999.000,9, -999.000,9, -999.000,9,   1974.4,2,   2356.4,2, 28.4270
     316N142_3,   A15,    30,  1,     35,     35,2,19940414,1603,  6.4982, -18.9992, 4542,     40.3,  21.0097,  35.9206,2,  35.9208,2,    168.4,2,    173.9,2,     3.45,2,     1.89,2,     0.06,2,     0.39,2, -999.000,9, -999.000,9, -999.000,9,   2103.4,2,   2356.2,2, 21.0020
     316N142_3,   A15,    30,  1,     38,     38,2,19940414,1603,  6.4982, -18.9992, 4542,     75.6,  16.0631,  35.6191,2,  35.6187,2,     71.9,2,     69.7,2,     7.60,2,    21.78,2,     0.06,2,     1.46,2, -999.000,9, -999.000,9, -999.000,9,   2192.3,2,   -999.0,9, 16.0511
     316N142_3,   A15,    30,  1,     33,     33,2,19940414,1603,  6.4982, -18.9992, 4542,    126.5,  14.7540,  35.4976,2,  35.4938,2,     73.2,2,     74.7,2,     8.80,2,    23.13,2,     0.01,2,     1.57,2, -999.000,9, -999.000,9, -999.000,9,   2194.6,2,   2321.6,2, 14.7350
     316N142_3,   A15,    30,  1,     41,     41,2,19940414,1603,  6.4982, -18.9992, 4542,    176.2,  13.8157,  35.3899,2,  35.3926,2,     74.5,2,     75.7,2,     9.64,2,    24.12,2,     0.01,2,     1.64,2, -999.000,9, -999.000,9, -999.000,9,   2202.7,2,   2318.2,2, 13.7904
     316N142_3,   A15,    30,  1,     31,     31,2,19940414,1603,  6.4982, -18.9992, 4542,    226.5,  12.9154,  35.2896,2,  35.2884,2,     69.7,2,     70.2,2,    10.97,2,    25.98,2,     0.00,2,     1.75,2, -999.000,9, -999.000,9, -999.000,9,   2204.8,2,   2312.2,2, 12.8843
     316N142_3,   A15,    30,  1,     37,     37,2,19940414,1603,  6.4982, -18.9992, 4542,    276.8,  11.9894,  35.2017,2,  35.2006,2,     74.2,2,     72.4,2,    12.18,2,    27.14,2,     0.00,2,     1.82,2, -999.000,9, -999.000,9, -999.000,9,   2210.2,2,   2308.9,2, 11.9531
     316N142_3,   A15,    30,  1,     29,     29,2,19940414,1603,  6.4982, -18.9992, 4542,    327.0,  11.2567,  35.1420,2,  35.1409,2,     62.9,2,     66.8,2,    13.38,2,    29.04,2,     0.00,2,     1.89,2, -999.000,9, -999.000,9, -999.000,9,   2216.6,2,   2306.2,2, 11.2155
     316N142_3,   A15,    30,  1,     28,     28,2,19940414,1603,  6.4982, -18.9992, 4542,    387.4,  10.1244,  35.0401,2,  35.0408,2,     50.1,2,     49.9,2,    16.29,2,    33.24,2,     0.00,2,     2.13,2, -999.000,9, -999.000,9, -999.000,9,   2236.4,2,   2300.8,2, 10.0786
     316N142_3,   A15,    30,  1,     27,     27,2,19940414,1603,  6.4982, -18.9992, 4542,    463.0,   8.6770,  34.8979,2,  34.8945,2,     57.8,2,     55.1,2,    19.81,2,    35.40,2,     0.00,2,     2.30,2, -999.000,9, -999.000,9, -999.000,9,   2241.2,2,   2294.5,2,  8.6271
     316N142_3,   A15,    30,  1,     26,     26,2,19940414,1603,  6.4982, -18.9992, 4542,    558.5,   7.3695,  34.7478,2,  34.7443,2,     76.9,2,     77.5,2,    22.84,2,    35.64,2,     0.00,2,     2.37,2, -999.000,9, -999.000,9, -999.000,9,   2234.8,2,   2295.1,2,  7.3145
     316N142_3,   A15,    30,  1,     25,     25,2,19940414,1603,  6.4982, -18.9992, 4542,    658.5,   6.6016,  34.7042,2,  34.7043,2,     81.3,2,     82.3,2,    25.74,2,    36.61,2,     0.00,2,     2.43,2, -999.000,9, -999.000,9, -999.000,9,   2240.0,2,   2294.6,2,  6.5401
     316N142_3,   A15,    30,  1,     24,     24,2,19940414,1603,  6.4982, -18.9992, 4542,    784.8,   5.6966,  34.6642,2,  34.6635,2,    100.2,2,    103.9,2,    29.12,2,    35.70,2,     0.00,2,     2.46,2, -999.000,9, -999.000,9, -999.000,9,   -999.0,9,   -999.0,9,  5.6281
     316N142_3,   A15,    30,  1,     23,     23,2,19940414,1603,  6.4982, -18.9992, 4542,    911.7,   5.0232,  34.6665,2,  34.6655,2,    125.8,2,    130.4,2,    30.80,2,    33.59,2,     0.00,2,     2.35,2, -999.000,9, -999.000,9, -999.000,9,   -999.0,9,   -999.0,9,  4.9474
     316N142_3,   A15,    30,  1,     22,     22,2,19940414,1603,  6.4982, -18.9992, 4542,   1061.8,   4.8018,  34.7673,2,  34.7691,2,    144.9,2,    150.8,2,    29.07,2,    30.70,2,     0.00,2,     2.16,2, -999.000,9, -999.000,9, -999.000,9,   -999.0,9,   -999.0,9,  4.7140
     316N142_3,   A15,    30,  1,     21,     21,2,19940414,1603,  6.4982, -18.9992, 4542,   1212.3,   4.5196,  34.8601,2,  34.8612,2,    173.7,2,    175.8,2,    26.62,2,    27.38,2,     0.00,2,     1.94,2, -999.000,9, -999.000,9, -999.000,9,   -999.0,9,   -999.0,9,  4.4205
     316N142_3,   A15,    30,  1,     20,     20,2,19940414,1603,  6.4982, -18.9992, 4542,   1365.9,   4.3154,  34.9105,2,  34.9121,2,    193.4,2,    196.8,2,    24.65,2,    24.92,2,     0.00,2,     1.76,2, -999.000,9, -999.000,9, -999.000,9,   -999.0,9,   -999.0,9,  4.2042
     316N142_3,   A15,    30,  1,     19,     19,9,19940414,1603,  6.4982, -18.9992, 4542,   1517.9,   4.0886,  34.9406,2,-999.0000,9,    216.7,2,   -999.0,9,  -999.00,9,  -999.00,9,  -999.00,9,  -999.00,9, -999.000,9, -999.000,9, -999.000,9,   -999.0,9,   -999.0,9,  3.9658
     316N142_3,   A15,    30,  1,     40,     40,2,19940414,1603,  6.4982, -18.9992, 4542,   1669.0,   3.8628,  34.9570,2,  34.9588,2,    232.5,2,    230.6,2,    21.96,2,    21.30,2,     0.00,2,     1.52,2, -999.000,9, -999.000,9, -999.000,9,   -999.0,9,   -999.0,9,  3.7288
     316N142_3,   A15,    30,  1,     17,     17,2,19940414,1603,  6.4982, -18.9992, 4542,   1820.3,   3.6696,  34.9559,2,  34.9577,2,    235.9,2,    234.7,2,    23.15,2,    20.93,2,     0.00,2,     1.48,2, -999.000,9, -999.000,9, -999.000,9,   -999.0,9,   -999.0,9,  3.5240
     316N142_3,   A15,    30,  1,     16,     16,2,19940414,1603,  6.4982, -18.9992, 4542,   1970.4,   3.5193,  34.9525,2,  34.9538,2,    237.5,2,    236.7,2,    24.58,2,    20.84,2,     0.00,2,     1.48,2, -999.000,9, -999.000,9, -999.000,9,   -999.0,9,   -999.0,9,  3.3617
     316N142_3,   A15,    30,  1,     15,     15,2,19940414,1603,  6.4982, -18.9992, 4542,   2119.4,   3.3768,  34.9495,2,  34.9502,2,    242.1,2,    238.8,2,    26.02,2,    20.75,2,     0.00,2,     1.47,2, -999.000,9, -999.000,9, -999.000,9,   -999.0,9,   -999.0,9,  3.2073
     316N142_3,   A15,    30,  1,     14,     14,2,19940414,1603,  6.4982, -18.9992, 4542,   2319.4,   3.1536,  34.9426,2,  34.9438,2,    241.6,2,    242.3,2,    28.78,2,    20.56,2,     0.00,2,     1.46,2, -999.000,9, -999.000,9, -999.000,9,   -999.0,9,   -999.0,9,  2.9686
     316N142_3,   A15,    30,  1,     13,     13,2,19940414,1603,  6.4982, -18.9992, 4542,   2471.5,   3.0310,  34.9380,2,  34.9399,2,    242.5,2,    242.0,2,    31.06,2,    20.61,2,     0.00,2,     1.47,2, -999.000,9, -999.000,9, -999.000,9,   -999.0,9,   -999.0,9,  2.8333
     316N142_3,   A15,    30,  1,     12,     12,2,19940414,1603,  6.4982, -18.9992, 4542,   2624.5,   2.8971,  34.9316,2,  34.9322,2,    243.5,2,    242.8,2,    33.09,2,    20.76,2,     0.00,2,     1.47,2, -999.000,9, -999.000,9, -999.000,9,   -999.0,9,   -999.0,9,  2.6868
     316N142_3,   A15,    30,  1,     11,     11,2,19940414,1603,  6.4982, -18.9992, 4542,   2778.9,   2.8162,  34.9267,2,  34.9261,2,    242.5,2,    242.1,2,    34.88,2,    20.85,2,     0.00,2,     1.48,2, -999.000,9, -999.000,9, -999.000,9,   -999.0,9,   -999.0,9,  2.5921
     316N142_3,   A15,    30,  1,     10,     10,2,19940414,1603,  6.4982, -18.9992, 4542,   2932.5,   2.7303,  34.9217,2,  34.9209,2,    243.0,2,    242.8,2,    36.67,2,    20.95,2,     0.00,2,     1.48,2, -999.000,9, -999.000,9, -999.000,9,   -999.0,9,   -999.0,9,  2.4923
     316N142_3,   A15,    30,  1,      9,      9,2,19940414,1603,  6.4982, -18.9992, 4542,   3137.5,   2.6242,  34.9140,2,  34.9134,2,    241.8,2,    243.1,2,    38.81,2,    21.05,2,     0.00,2,     1.49,2, -999.000,9, -999.000,9, -999.000,9,   -999.0,9,   -999.0,9,  2.3674
     316N142_3,   A15,    30,  1,      8,      8,2,19940414,1603,  6.4982, -18.9992, 4542,   3342.4,   2.5562,  34.9091,2,  34.9085,2,    243.1,2,    243.1,2,    40.48,2,    21.19,2,     0.00,2,     1.50,2, -999.000,9, -999.000,9, -999.000,9,   -999.0,9,   -999.0,9,  2.2794
     316N142_3,   A15,    30,  1,      7,      7,2,19940414,1603,  6.4982, -18.9992, 4542,   3547.1,   2.5094,  34.9044,2,  34.9036,2,    242.2,2,    243.1,2,    41.89,2,    21.29,2,     0.00,2,     1.50,2, -999.000,9, -999.000,9, -999.000,9,   -999.0,9,   -999.0,9,  2.2116
     316N142_3,   A15,    30,  1,      6,      6,2,19940414,1603,  6.4982, -18.9992, 4542,   3750.9,   2.4637,  34.9001,2,  34.9001,2,    242.7,2,    243.0,2,    43.43,2,    21.43,2,     0.00,2,     1.50,2, -999.000,9, -999.000,9, -999.000,9,   -999.0,9,   -999.0,9,  2.1447
     316N142_3,   A15,    30,  1,      5,      5,2,19940414,1603,  6.4982, -18.9992, 4542,   3953.5,   2.3962,  34.8941,2,  34.8932,2,    242.1,2,    242.2,2,    45.82,2,    21.63,2,     0.00,2,     1.52,2, -999.000,9, -999.000,9, -999.000,9,   -999.0,9,   -999.0,9,  2.0562
     316N142_3,   A15,    30,  1,      4,      4,2,19940414,1603,  6.4982, -18.9992, 4542,   4157.3,   2.3404,  34.8880,2,  34.8874,2,    242.6,2,    241.8,2,    47.83,2,    21.91,2,     0.00,2,     1.53,2, -999.000,9, -999.000,9, -999.000,9,   -999.0,9,   -999.0,9,  1.9785
     316N142_3,   A15,    30,  1,      3,      3,2,19940414,1603,  6.4982, -18.9992, 4542,   4361.1,   2.3194,  34.8831,2,  34.8827,2,    241.9,2,    241.7,2,    49.13,2,    22.05,2,     0.00,2,     1.55,2, -999.000,9, -999.000,9, -999.000,9,   -999.0,9,   -999.0,9,  1.9343
     316N142_3,   A15,    30,  1,      2,      2,2,19940414,1603,  6.4982, -18.9992, 4542,   4532.9,   2.2884,  34.8787,2,  34.8778,2,    241.6,2,    241.8,2,    50.42,2,    22.15,2,     0.00,2,     1.56,2, -999.000,9, -999.000,9, -999.000,9,   -999.0,9,   -999.0,9,  1.8838
     316N142_3,   A15,    30,  1,      1,      1,2,19940414,1603,  6.4982, -18.9992, 4542,   4631.9,   2.2375,  34.8720,2,  34.8729,2,    240.9,2,    240.5,2,    52.67,2,    22.53,2,     0.00,2,     1.58,2, -999.000,9, -999.000,9, -999.000,9,   -999.0,9,   -999.0,9,  1.8226