BOTTLE,20020814WHPSIOKJU
EXPOCODE,SECT_ID,STNNBR,CASTNO,SAMPNO,BTLNBR,BTLNBR_FLAG_W,DATE,TIME,LATITUDE,LONGITUDE,DEPTH,CTDPRS,CTDTMP,CTDSAL,CTDSAL_FLAG_W,SALNTY,SALNTY_FLAG_W,CTDOXY,CTDOXY_FLAG_W,OXYGEN,OXYGEN_FLAG_W,SILCAT,SILCAT_FLAG_W,NITRAT,NITRAT_FLAG_W,NITRIT,NITRIT_FLAG_W,PHSPHT,PHSPHT_FLAG_W,CFC-11,CFC-11_FLAG_W,CFC-12,CFC-12_FLAG_W,CCL4,CCL4_FLAG_W,TCARBN,TCARBN_FLAG_W,ALKALI,ALKALI_FLAG_W,THETA
,,,,,,,,,,,,DBAR,ITS-90,PSS-78,,PSS-78,,UMOL/KG,,UMOL/KG,,UMOL/KG,,UMOL/KG,,UMOL/KG,,UMOL/KG,,PMOL/KG,,PMOL/KG,,PMOL/KG,,UMOL/KG,,UMOL/KG,,DEG C
     316N142_3,  AR15,   121,  1,     39,     39,2,19940511,2336,-18.1272, -23.7620, 5511,      5.6,  26.1705,  37.2186,2,  37.2194,2,    196.3,4,    204.2,2,     1.71,2,     0.06,2,     0.00,2,     0.19,2, -999.000,9, -999.000,9, -999.000,9,   -999.0,9,   -999.0,9, 26.1692
     316N142_3,  AR15,   121,  1,     35,     35,2,19940511,2336,-18.1272, -23.7620, 5511,     69.7,  26.1644,  37.2136,2,  37.2140,2,    205.1,4,    204.3,2,     1.57,2,     0.06,2,     0.00,2,     0.18,2, -999.000,9, -999.000,9, -999.000,9,   -999.0,9,   -999.0,9, 26.1486
     316N142_3,  AR15,   121,  1,     38,     38,2,19940511,2336,-18.1272, -23.7620, 5511,     95.1,  25.4307,  37.0889,2,  36.8117,4,    208.7,2,    222.4,2,     1.55,2,     0.06,2,     0.00,2,     0.18,2, -999.000,9, -999.000,9, -999.000,9,   -999.0,9,   -999.0,9, 25.4096
     316N142_3,  AR15,   121,  1,     33,     33,2,19940511,2336,-18.1272, -23.7620, 5511,    205.5,  16.6306,  35.7013,2,  35.6706,2,    198.6,2,    194.9,2,     2.89,2,     3.94,2,     0.01,2,     0.56,2, -999.000,9, -999.000,9, -999.000,9,   -999.0,9,   -999.0,9, 16.5970
     316N142_3,  AR15,   121,  1,     41,     41,2,19940511,2336,-18.1272, -23.7620, 5511,    306.5,  12.7423,  35.1349,2,  35.1314,2,    181.9,2,    179.5,2,     5.72,2,    12.96,2,     0.00,2,     1.02,2, -999.000,9, -999.000,9, -999.000,9,   -999.0,9,   -999.0,9, 12.7005
     316N142_3,  AR15,   121,  1,     31,     31,2,19940511,2336,-18.1272, -23.7620, 5511,    406.9,   9.9645,  34.8198,2,  34.8235,2,    169.3,2,    167.9,2,    10.27,2,    21.21,2,     0.00,2,     1.46,2, -999.000,9, -999.000,9, -999.000,9,   -999.0,9,   -999.0,9,  9.9170
     316N142_3,  AR15,   121,  1,     37,     37,2,19940511,2336,-18.1272, -23.7620, 5511,    496.6,   7.7677,  34.6120,2,  34.6133,2,    157.8,2,    157.5,2,    16.32,2,    28.32,2,     0.00,2,     1.85,2, -999.000,9, -999.000,9, -999.000,9,   -999.0,9,   -999.0,9,  7.7176
     316N142_3,  AR15,   121,  1,     29,     29,2,19940511,2336,-18.1272, -23.7620, 5511,    617.6,   5.4737,  34.4530,2,  34.4529,2,    168.5,2,    168.2,2,    25.23,2,    33.10,2,     0.00,2,     2.13,2, -999.000,9, -999.000,9, -999.000,9,   -999.0,9,   -999.0,9,  5.4218
     316N142_3,  AR15,   121,  1,     28,     28,2,19940511,2336,-18.1272, -23.7620, 5511,    747.9,   4.3649,  34.4177,2,  34.4159,2,    175.2,2,    177.3,2,    32.94,2,    34.44,2,     0.00,2,     2.23,2, -999.000,9, -999.000,9, -999.000,9,   -999.0,9,   -999.0,9,  4.3077
     316N142_3,  AR15,   121,  1,     27,     27,2,19940511,2336,-18.1272, -23.7620, 5511,    879.2,   3.8195,  34.4613,2,  34.4594,2,    179.2,2,    180.1,2,    39.05,2,    34.54,2,     0.00,2,     2.24,2, -999.000,9, -999.000,9, -999.000,9,   -999.0,9,   -999.0,9,  3.7550
     316N142_3,  AR15,   121,  1,     26,     26,2,19940511,2336,-18.1272, -23.7620, 5511,   1010.7,   3.6828,  34.5411,2,  34.5387,2,    180.6,2,    181.2,2,    40.28,2,    33.59,2,     0.00,2,     2.19,2, -999.000,9, -999.000,9, -999.000,9,   -999.0,9,   -999.0,9,  3.6087
     316N142_3,  AR15,   121,  1,     25,     25,2,19940511,2336,-18.1272, -23.7620, 5511,   1150.9,   3.7418,  34.6582,2,  34.6582,2,    183.7,2,    186.2,2,    37.49,2,    31.27,2,     0.00,2,     2.06,2, -999.000,9, -999.000,9, -999.000,9,   -999.0,9,   -999.0,9,  3.6554
     316N142_3,  AR15,   121,  1,     24,     24,2,19940511,2336,-18.1272, -23.7620, 5511,   1293.6,   3.7999,  34.7701,2,  34.7700,2,    195.0,2,    198.0,2,    32.85,2,    28.10,2,     0.00,2,     1.87,2, -999.000,9, -999.000,9, -999.000,9,   -999.0,9,   -999.0,9,  3.7006
     316N142_3,  AR15,   121,  1,     23,     23,2,19940511,2336,-18.1272, -23.7620, 5511,   1425.4,   3.7445,  34.8297,2,  34.8293,2,    208.4,2,    209.5,2,    30.71,2,    25.97,2,     0.00,2,     1.74,2, -999.000,9, -999.000,9, -999.000,9,   -999.0,9,   -999.0,9,  3.6342
     316N142_3,  AR15,   121,  1,     22,     22,2,19940511,2336,-18.1272, -23.7620, 5511,   1555.9,   3.6106,  34.8695,2,  34.8699,2,    218.4,2,    221.1,2,    29.31,2,    24.16,2,     0.00,2,     1.62,2, -999.000,9, -999.000,9, -999.000,9,   -999.0,9,   -999.0,9,  3.4901
     316N142_3,  AR15,   121,  1,     21,     21,2,19940511,2336,-18.1272, -23.7620, 5511,   1677.0,   3.4914,  34.9026,2,  34.9015,2,    231.9,2,    232.0,2,    27.93,2,    22.48,2,     0.00,2,     1.53,2, -999.000,9, -999.000,9, -999.000,9,   -999.0,9,   -999.0,9,  3.3615
     316N142_3,  AR15,   121,  1,     20,     20,2,19940511,2336,-18.1272, -23.7620, 5511,   1799.4,   3.3218,  34.9104,2,  34.9101,2,    238.7,2,    237.2,2,    28.78,2,    21.85,2,     0.00,2,     1.48,2, -999.000,9, -999.000,9, -999.000,9,   -999.0,9,   -999.0,9,  3.1830
     316N142_3,  AR15,   121,  1,     19,     19,2,19940511,2336,-18.1272, -23.7620, 5511,   1970.4,   3.1152,  34.9138,2,  34.9146,2,    242.3,2,    241.3,2,    31.00,2,    21.41,2,     0.00,2,     1.47,2, -999.000,9, -999.000,9, -999.000,9,   -999.0,9,   -999.0,9,  2.9637
     316N142_3,  AR15,   121,  1,     40,     40,2,19940511,2336,-18.1272, -23.7620, 5511,   2174.8,   2.9588,  34.9100,2,  34.9119,2,    243.2,2,    242.8,2,    33.72,2,    21.43,2,     0.00,2,     1.47,2, -999.000,9, -999.000,9, -999.000,9,   -999.0,9,   -999.0,9,  2.7909
     316N142_3,  AR15,   121,  1,     17,     17,2,19940511,2336,-18.1272, -23.7620, 5511,   2376.8,   2.8832,  34.9106,2,  34.9111,2,    244.8,2,    244.1,2,    34.70,2,    21.39,2,     0.00,2,     1.47,2, -999.000,9, -999.000,9, -999.000,9,   -999.0,9,   -999.0,9,  2.6974
     316N142_3,  AR15,   121,  1,     16,     16,2,19940511,2336,-18.1272, -23.7620, 5511,   2580.5,   2.7852,  34.9055,2,  34.9050,2,    244.7,2,    243.9,2,    37.05,2,    21.54,2,     0.00,2,     1.47,2, -999.000,9, -999.000,9, -999.000,9,   -999.0,9,   -999.0,9,  2.5815
     316N142_3,  AR15,   121,  1,     15,     15,2,19940511,2336,-18.1272, -23.7620, 5511,   2783.2,   2.7186,  34.9013,2,  34.9008,2,    242.5,2,    243.4,2,    38.78,2,    21.70,2,     0.00,2,     1.48,2, -999.000,9, -999.000,9, -999.000,9,   -999.0,9,   -999.0,9,  2.4961
     316N142_3,  AR15,   121,  1,     14,     14,2,19940511,2336,-18.1272, -23.7620, 5511,   2987.7,   2.6737,  34.9002,2,  34.9002,2,    246.8,2,    244.3,2,    39.38,2,    21.59,2,     0.00,2,     1.48,2, -999.000,9, -999.000,9, -999.000,9,   -999.0,9,   -999.0,9,  2.4314
     316N142_3,  AR15,   121,  1,     13,     13,2,19940511,2336,-18.1272, -23.7620, 5511,   3191.2,   2.6411,  34.9034,2,  34.9041,2,    247.9,2,    247.5,2,    38.24,2,    21.15,2,     0.00,2,     1.46,2, -999.000,9, -999.000,9, -999.000,9,   -999.0,9,   -999.0,9,  2.3784
     316N142_3,  AR15,   121,  1,     12,     12,2,19940511,2336,-18.1272, -23.7620, 5511,   3396.0,   2.5841,  34.9052,2,  34.9069,2,    250.2,2,    251.7,2,    36.97,2,    20.64,2,     0.00,2,     1.42,2, -999.000,9, -999.000,9, -999.000,9,   -999.0,9,   -999.0,9,  2.3009
     316N142_3,  AR15,   121,  1,     11,     11,2,19940511,2336,-18.1272, -23.7620, 5511,   3600.2,   2.3789,  34.8874,2,  34.8888,2,    249.9,2,    250.3,2,    43.08,2,    21.39,2,     0.00,2,     1.48,2, -999.000,9, -999.000,9, -999.000,9,   -999.0,9,   -999.0,9,  2.0787
     316N142_3,  AR15,   121,  1,     10,     10,2,19940511,2336,-18.1272, -23.7620, 5511,   3750.3,   2.1522,  34.8643,2,  34.8642,2,    247.3,2,    247.4,2,    51.89,2,    22.81,2,     0.00,2,     1.56,2, -999.000,9, -999.000,9, -999.000,9,   -999.0,9,   -999.0,9,  1.8417
     316N142_3,  AR15,   121,  1,      9,      9,2,19940511,2336,-18.1272, -23.7620, 5511,   3980.2,   1.8336,  34.8287,2,  34.8320,2,    240.5,2,    241.9,2,    65.89,2,    25.15,2,     0.00,2,     1.70,2, -999.000,9, -999.000,9, -999.000,9,   -999.0,9,   -999.0,9,  1.5066
     316N142_3,  AR15,   121,  1,      8,      8,2,19940511,2336,-18.1272, -23.7620, 5511,   4211.4,   1.4270,  34.7887,2,  34.7880,2,    233.5,2,    236.1,4,    81.58,2,    27.64,2,     0.00,2,     1.84,2, -999.000,9, -999.000,9, -999.000,9,   -999.0,9,   -999.0,9,  1.0863
     316N142_3,  AR15,   121,  1,      7,      7,2,19940511,2336,-18.1272, -23.7620, 5511,   4441.2,   1.1871,  34.7625,2,  34.7638,2,    231.0,2,    231.5,2,    92.13,2,    29.19,2,     0.00,2,     1.94,2, -999.000,9, -999.000,9, -999.000,9,   -999.0,9,   -999.0,9,  0.8280
     316N142_3,  AR15,   121,  1,      6,      6,2,19940511,2336,-18.1272, -23.7620, 5511,   4671.8,   1.0188,  34.7437,2,  34.7454,2,    228.3,2,    229.1,2,    99.34,2,    30.36,2,     0.00,2,     2.01,2, -999.000,9, -999.000,9, -999.000,9,   -999.0,9,   -999.0,9,  0.6388
     316N142_3,  AR15,   121,  1,      5,      5,2,19940511,2336,-18.1272, -23.7620, 5511,   4903.9,   0.8722,  34.7267,2,  34.7283,2,    226.2,2,    226.7,2,   106.23,2,    31.45,2,     0.00,2,     2.07,2, -999.000,9, -999.000,9, -999.000,9,   -999.0,9,   -999.0,9,  0.4703
     316N142_3,  AR15,   121,  1,      4,      4,2,19940511,2336,-18.1272, -23.7620, 5511,   5134.1,   0.7648,  34.7136,2,  34.7145,2,    224.7,2,    224.9,2,   111.82,2,    32.15,2,     0.00,2,     2.12,2, -999.000,9, -999.000,9, -999.000,9,   -999.0,9,   -999.0,9,  0.3395
     316N142_3,  AR15,   121,  1,      3,      3,2,19940511,2336,-18.1272, -23.7620, 5511,   5390.5,   0.7278,  34.7064,2,  34.7073,2,    224.8,2,    224.4,2,   114.55,2,    32.65,2,     0.00,2,     2.14,2, -999.000,9, -999.000,9, -999.000,9,   -999.0,9,   -999.0,9,  0.2729
     316N142_3,  AR15,   121,  1,      2,      2,2,19940511,2336,-18.1272, -23.7620, 5511,   5535.5,   0.7278,  34.7052,2,  34.7059,2,    224.5,2,    223.9,2,   115.35,2,    32.75,2,     0.00,2,     2.15,2, -999.000,9, -999.000,9, -999.000,9,   -999.0,9,   -999.0,9,  0.2551
     316N142_3,  AR15,   121,  1,      1,      1,2,19940511,2336,-18.1272, -23.7620, 5511,   5685.7,   0.7357,  34.7034,2,  34.7049,2,    224.6,2,    224.0,2,   115.74,2,    32.72,2,     0.00,2,     2.15,2, -999.000,9, -999.000,9, -999.000,9,   -999.0,9,   -999.0,9,  0.2439