BOTTLE,20020814WHPSIOKJU
EXPOCODE,SECT_ID,STNNBR,CASTNO,SAMPNO,BTLNBR,BTLNBR_FLAG_W,DATE,TIME,LATITUDE,LONGITUDE,DEPTH,CTDPRS,CTDTMP,CTDSAL,CTDSAL_FLAG_W,SALNTY,SALNTY_FLAG_W,CTDOXY,CTDOXY_FLAG_W,OXYGEN,OXYGEN_FLAG_W,SILCAT,SILCAT_FLAG_W,NITRAT,NITRAT_FLAG_W,NITRIT,NITRIT_FLAG_W,PHSPHT,PHSPHT_FLAG_W,CFC-11,CFC-11_FLAG_W,CFC-12,CFC-12_FLAG_W,CCL4,CCL4_FLAG_W,TCARBN,TCARBN_FLAG_W,ALKALI,ALKALI_FLAG_W,THETA
,,,,,,,,,,,,DBAR,ITS-90,PSS-78,,PSS-78,,UMOL/KG,,UMOL/KG,,UMOL/KG,,UMOL/KG,,UMOL/KG,,UMOL/KG,,PMOL/KG,,PMOL/KG,,PMOL/KG,,UMOL/KG,,UMOL/KG,,DEG C
     316N142_3,  AR15,   118,  1,     39,     39,2,19940511,0425,-18.3990, -22.1687, 4909,      5.3,  25.8991,  37.0736,2,  37.0740,2,    204.4,2,    205.1,2,     1.22,2,     0.01,2,     0.00,2,     0.21,2,    1.804,2,    1.037,2,    1.857,2,   2078.0,2,   2435.8,2, 25.8979
     316N142_3,  AR15,   118,  1,     35,     35,2,19940511,0425,-18.3990, -22.1687, 4909,     54.3,  25.9079,  37.0722,2,  37.0720,2,    202.7,2,    205.1,2,     1.08,2,     0.01,2,     0.00,2,     0.20,2, -999.000,9, -999.000,9, -999.000,9,   2077.4,2,   2433.1,2, 25.8958
     316N142_3,  AR15,   118,  1,     38,     38,2,19940511,0425,-18.3990, -22.1687, 4909,     99.9,  22.6682,  36.5814,2,  36.5821,2,    231.9,2,    221.5,2,     1.19,2,     0.01,2,     0.00,2,     0.22,2,    2.047,2,    1.142,2,    2.104,2,   2076.0,2,   2399.2,2, 22.6479
     316N142_3,  AR15,   118,  1,     33,     33,2,19940511,0425,-18.3990, -22.1687, 4909,    205.4,  16.7326,  35.7112,2,  35.7093,2,    202.0,2,    199.4,2,     2.52,2,     3.12,2,     0.01,2,     0.53,2,    2.260,2,    1.296,2,    0.742,2,   2096.8,2,   2341.9,2, 16.6989
     316N142_3,  AR15,   118,  1,     41,     41,2,19940511,0425,-18.3990, -22.1687, 4909,    305.6,  12.6686,  35.1281,2,  35.1319,2,    178.9,2,    176.2,2,     5.93,2,    13.29,2,     0.00,2,     1.04,2,    1.973,6,    1.053,6,    0.913,6,   2130.5,2,   2311.8,2, 12.6271
     316N142_3,  AR15,   118,  1,     31,     31,2,19940511,0425,-18.3990, -22.1687, 4909,    406.3,   9.9566,  34.8272,2,  34.8260,2,    160.3,2,    157.1,2,    10.92,2,    22.08,2,     0.00,2,     1.54,2,    1.311,2,    0.663,2,    0.816,2,   2162.9,2,   2296.9,2,  9.9092
     316N142_3,  AR15,   118,  1,     37,     37,2,19940511,0425,-18.3990, -22.1687, 4909,    505.4,   7.3210,  34.5892,2,  34.5882,2,    153.9,2,    151.0,2,    18.13,2,    29.57,2,     0.00,2,     1.95,2,    0.663,2,    0.315,2,    0.834,2,   2190.3,2,   2293.0,2,  7.2717
     316N142_3,  AR15,   118,  1,     29,     29,2,19940511,0425,-18.3990, -22.1687, 4909,    631.7,   5.3804,  34.4558,2,  34.4543,2,    158.2,2,    163.8,2,    25.84,2,    32.83,2,     0.00,2,     2.16,2,    0.244,2, -999.000,9, -999.000,9,   2200.5,2,   2293.1,2,  5.3277
     316N142_3,  AR15,   118,  1,     28,     28,2,19940511,0425,-18.3990, -22.1687, 4909,    757.7,   4.3165,  34.4245,2,  34.4211,2,    170.5,2,    176.0,2,    32.96,2,    33.59,2,     0.00,2,     2.24,2,    0.082,4,    0.067,2,    0.433,2,   2204.7,2,   2300.5,2,  4.2588
     316N142_3,  AR15,   118,  1,     27,     27,2,19940511,0425,-18.3990, -22.1687, 4909,    907.9,   3.7922,  34.4750,2,  34.4715,2,    177.7,2,    179.9,2,    38.25,2,    33.28,2,     0.00,2,     2.24,2,    0.085,4,    0.030,2,    0.215,2,   2213.3,2,   2304.1,2,  3.7256
     316N142_3,  AR15,   118,  1,     26,     26,2,19940511,0425,-18.3990, -22.1687, 4909,   1069.0,   3.7123,  34.5799,2,  34.5778,2,    181.5,2,    181.4,2,    38.22,2,    31.85,2,     0.00,2,     2.16,2, -999.000,9, -999.000,9, -999.000,9,   2210.8,2,   2308.7,2,  3.6331
     316N142_3,  AR15,   118,  1,     25,     25,2,19940511,0425,-18.3990, -22.1687, 4909,   1188.3,   3.7671,  34.6885,2,  34.6865,2,    187.3,2,    188.3,2,    34.85,2,    29.61,2,     0.00,2,     2.01,2, -999.000,9, -999.000,9, -999.000,9,   2208.5,2,   2311.9,2,  3.6773
     316N142_3,  AR15,   118,  1,     24,     24,2,19940511,0425,-18.3990, -22.1687, 4909,   1308.5,   3.9143,  34.7857,2,  34.7840,2,    198.7,2,    198.0,2,    30.63,2,    27.06,2,     0.00,2,     1.86,2, -999.000,9,    0.010,2,    0.034,2,   -999.0,9,   -999.0,9,  3.8126
     316N142_3,  AR15,   118,  1,     23,     23,2,19940511,0425,-18.3990, -22.1687, 4909,   1490.8,   3.6443,  34.8557,2,  34.8541,2,    221.1,2,    217.2,2,    29.25,2,    24.25,2,     0.00,2,     1.68,2, -999.000,9, -999.000,9, -999.000,9,   2186.5,2,   2312.5,2,  3.5292
     316N142_3,  AR15,   118,  1,     22,     22,2,19940511,0425,-18.3990, -22.1687, 4909,   1636.2,   3.5207,  34.8962,2,  34.8928,2,    229.1,2,    229.6,2,    27.62,2,    22.45,2,     0.00,2,     1.56,2, -999.000,9,    0.027,2,    0.028,2,   -999.0,9,   -999.0,9,  3.3941
     316N142_3,  AR15,   118,  1,     21,     21,2,19940511,0425,-18.3990, -22.1687, 4909,   1777.7,   3.4094,  34.9125,2,  34.9099,2,    235.3,2,    236.4,2,    27.35,2,    21.58,2,     0.00,2,     1.50,2, -999.000,9, -999.000,9, -999.000,9,   2180.9,2,   2316.3,2,  3.2714
     316N142_3,  AR15,   118,  1,     20,     20,2,19940511,0425,-18.3990, -22.1687, 4909,   1919.7,   3.3342,  34.9330,2,  34.9311,2,    247.3,2,    244.9,2,    25.74,2,    20.40,2,     0.00,2,     1.42,2, -999.000,9,    0.017,2, -999.000,9,   -999.0,9,   -999.0,9,  3.1842
     316N142_3,  AR15,   118,  1,     19,     19,2,19940511,0425,-18.3990, -22.1687, 4909,   2096.8,   3.0913,  34.9213,2,  34.9203,2,    245.5,2,    244.7,2,    29.88,2,    20.78,2,     0.00,2,     1.44,2, -999.000,9, -999.000,9, -999.000,9,   2177.9,2,   -999.0,9,  2.9284
     316N142_3,  AR15,   118,  1,     40,     40,2,19940511,0425,-18.3990, -22.1687, 4909,   2274.5,   2.9904,  34.9207,2,  34.9194,2,    248.0,2,    246.2,2,    31.21,2,    20.72,2,     0.00,2,     1.44,2, -999.000,9,    0.008,2,    0.009,2,   -999.0,9,   -999.0,9,  2.8125
     316N142_3,  AR15,   118,  1,     17,     17,2,19940511,0425,-18.3990, -22.1687, 4909,   2477.3,   2.9152,  34.9228,2,  34.9207,2,    248.7,2,    248.5,2,    31.55,2,    20.42,2,     0.00,2,     1.42,2, -999.000,9, -999.000,9, -999.000,9,   2176.2,2,   -999.0,9,  2.7191
     316N142_3,  AR15,   118,  1,     16,     16,2,19940511,0425,-18.3990, -22.1687, 4909,   2629.9,   2.8279,  34.9146,2,  34.9117,2,    246.6,2,    246.9,2,    34.35,2,    20.92,2,     0.00,2,     1.45,2, -999.000,9,    0.009,2,    0.000,2,   -999.0,9,   -999.0,9,  2.6185
     316N142_3,  AR15,   118,  1,     15,     15,2,19940511,0425,-18.3990, -22.1687, 4909,   2762.6,   2.7881,  34.9126,2,  34.9109,2,    247.6,2,    247.0,2,    35.18,2,    20.93,2,     0.00,2,     1.45,2, -999.000,9, -999.000,9, -999.000,9,   2180.4,2,   2324.1,2,  2.5663
     316N142_3,  AR15,   118,  1,     14,     14,9,19940511,0425,-18.3990, -22.1687, 4909,   2894.1,   2.7145,  34.9045,2,-999.0000,9,    246.3,2,   -999.0,9,  -999.00,9,  -999.00,9,  -999.00,9,  -999.00,9, -999.000,9, -999.000,9, -999.000,9,   -999.0,9,   -999.0,9,  2.4809
     316N142_3,  AR15,   118,  1,     13,     13,2,19940511,0425,-18.3990, -22.1687, 4909,   3061.7,   2.6624,  34.9050,2,  34.9043,2,    247.4,2,    247.0,2,    37.99,2,    21.12,2,     0.00,2,     1.47,2, -999.000,9,    0.010,2,    0.038,2,   2185.2,2,   2327.3,2,  2.4127
     316N142_3,  AR15,   118,  1,     12,     12,2,19940511,0425,-18.3990, -22.1687, 4909,   3240.5,   2.5988,  34.9029,2,  34.9019,2,    247.7,2,    248.6,2,    38.33,2,    20.94,2,     0.00,2,     1.46,2, -999.000,9, -999.000,9, -999.000,9,   -999.0,9,   -999.0,9,  2.3319
     316N142_3,  AR15,   118,  1,     11,     11,2,19940511,0425,-18.3990, -22.1687, 4909,   3444.0,   2.5048,  34.8971,2,  34.8972,2,    249.8,2,    249.8,2,    39.78,2,    20.88,2,     0.00,2,     1.47,2, -999.000,9,    0.015,2,    0.000,2,   2183.5,2,   2327.8,2,  2.2184
     316N142_3,  AR15,   118,  1,     10,     10,2,19940511,0425,-18.3990, -22.1687, 4909,   3645.0,   2.2760,  34.8777,2,  34.8760,2,    248.5,2,    248.8,2,    46.43,2,    21.77,2,     0.00,2,     1.53,2, -999.000,9, -999.000,9, -999.000,9,   -999.0,9,   -999.0,9,  1.9737
     316N142_3,  AR15,   118,  1,      9,      9,2,19940511,0425,-18.3990, -22.1687, 4909,   3823.8,   2.0256,  34.8503,2,  34.8481,2,    243.8,2,    243.8,2,    57.00,2,    23.46,2,     0.00,2,     1.63,2, -999.000,9,    0.122,2,    0.599,2,   2201.4,2,   2336.0,2,  1.7104
     316N142_3,  AR15,   118,  1,      8,      8,2,19940511,0425,-18.3990, -22.1687, 4909,   4002.8,   1.6991,  34.8172,2,  34.8163,2,    239.3,2,    239.3,2,    69.34,2,    25.35,2,     0.00,2,     1.75,2, -999.000,9,    0.005,2,    0.037,2,   -999.0,9,   -999.0,9,  1.3734
     316N142_3,  AR15,   118,  1,      7,      7,2,19940511,0425,-18.3990, -22.1687, 4909,   4157.9,   1.4648,  34.7935,2,  34.7929,2,    235.8,2,    236.0,2,    78.25,2,    26.61,2,     0.00,2,     1.83,2, -999.000,9, -999.000,9, -999.000,9,   2223.6,2,   2345.5,2,  1.1289
     316N142_3,  AR15,   118,  1,      6,      6,2,19940511,0425,-18.3990, -22.1687, 4909,   4311.9,   1.3115,  34.7767,2,  34.7763,2,    233.4,2,    233.5,2,    84.68,2,    27.62,2,     0.00,2,     1.89,2, -999.000,9, -999.000,9, -999.000,9,   -999.0,9,   -999.0,9,  0.9630
     316N142_3,  AR15,   118,  1,      5,      5,2,19940511,0425,-18.3990, -22.1687, 4909,   4466.3,   1.1679,  34.7612,2,  34.7600,2,    231.7,2,    231.3,2,    91.03,2,    28.50,2,     0.00,2,     1.95,2, -999.000,9, -999.000,9, -999.000,9,   2236.3,2,   2356.3,2,  0.8065
     316N142_3,  AR15,   118,  1,      4,      4,2,19940511,0425,-18.3990, -22.1687, 4909,   4619.4,   1.0314,  34.7463,2,  34.7451,2,    229.3,2,    229.3,2,    96.92,2,    29.45,2,     0.00,2,     2.01,2, -999.000,9,    0.009,2, -999.000,9,   -999.0,9,   -999.0,9,  0.6570
     316N142_3,  AR15,   118,  1,      3,      3,2,19940511,0425,-18.3990, -22.1687, 4909,   4797.7,   0.9308,  34.7343,2,  34.7329,2,    228.0,2,    227.6,2,   102.06,2,    30.15,2,     0.00,2,     2.05,2, -999.000,9, -999.000,9, -999.000,9,   2244.9,2,   2360.3,2,  0.5393
     316N142_3,  AR15,   118,  1,      2,      2,2,19940511,0425,-18.3990, -22.1687, 4909,   4975.1,   0.9142,  34.7308,2,  34.7306,2,    227.3,2,    227.2,2,   102.81,2,    30.41,2,     0.00,2,     2.06,2, -999.000,9, -999.000,9, -999.000,9,   -999.0,9,   -999.0,9,  0.5025
     316N142_3,  AR15,   118,  1,      1,      1,2,19940511,0425,-18.3990, -22.1687, 4909,   5050.8,   0.8774,  34.7260,2,  34.7262,2,    226.3,2,    226.4,2,   105.17,2,    30.73,2,     0.00,2,     2.08,2, -999.000,9,    0.016,2,    0.053,2,   2247.8,2,   2365.0,2,  0.4580