BOTTLE,20020814WHPSIOKJU
EXPOCODE,SECT_ID,STNNBR,CASTNO,SAMPNO,BTLNBR,BTLNBR_FLAG_W,DATE,TIME,LATITUDE,LONGITUDE,DEPTH,CTDPRS,CTDTMP,CTDSAL,CTDSAL_FLAG_W,SALNTY,SALNTY_FLAG_W,CTDOXY,CTDOXY_FLAG_W,OXYGEN,OXYGEN_FLAG_W,SILCAT,SILCAT_FLAG_W,NITRAT,NITRAT_FLAG_W,NITRIT,NITRIT_FLAG_W,PHSPHT,PHSPHT_FLAG_W,CFC-11,CFC-11_FLAG_W,CFC-12,CFC-12_FLAG_W,CCL4,CCL4_FLAG_W,TCARBN,TCARBN_FLAG_W,ALKALI,ALKALI_FLAG_W,THETA
,,,,,,,,,,,,DBAR,ITS-90,PSS-78,,PSS-78,,UMOL/KG,,UMOL/KG,,UMOL/KG,,UMOL/KG,,UMOL/KG,,UMOL/KG,,PMOL/KG,,PMOL/KG,,PMOL/KG,,UMOL/KG,,UMOL/KG,,DEG C
     316N142_3,   A15,    35,  1,     39,     39,2,19940415,2223,  4.0018, -18.9995, 4832,      1.4,  29.1712,  35.3041,2,  35.3098,2,    198.9,2,    200.1,2,     1.61,2,     0.00,2,     0.00,2,     0.02,2,    1.632,2,    0.962,2,    2.057,2,   1942.1,2,   2309.3,2, 29.1709
     316N142_3,   A15,    35,  1,     42,     42,9,19940415,2223,  4.0018, -18.9995, 4832,     40.3,  24.8898,  36.0928,2,-999.0000,9,    219.9,2,   -999.0,9,  -999.00,9,  -999.00,9,  -999.00,9,  -999.00,9, -999.000,9, -999.000,9, -999.000,9,   -999.0,9,   -999.0,9, 24.8811
     316N142_3,   A15,    35,  1,     38,     38,2,19940415,2223,  4.0018, -18.9995, 4832,     76.6,  16.8886,  35.6907,2,  35.6936,2,     96.1,2,     94.9,2,     6.31,2,    17.39,2,     0.44,2,     1.25,2,    1.443,6,    0.810,6,    0.295,6,   2179.2,2,   2341.2,2, 16.8760
     316N142_3,   A15,    35,  1,     33,     33,2,19940415,2223,  4.0018, -18.9995, 4832,    136.4,  15.2831,  35.5666,2,  35.5651,2,     92.4,2,     91.9,2,     8.12,2,    20.99,2,     0.03,2,     1.41,2,    1.295,2,    0.719,9, -999.000,9,   2188.1,2,   2340.9,2, 15.2621
     316N142_3,   A15,    35,  1,     41,     41,2,19940415,2223,  4.0018, -18.9995, 4832,    190.6,  14.0603,  35.4155,2,  35.4188,2,     91.0,2,     94.8,2,     9.29,2,    22.92,2,     0.01,2,     1.52,2,    1.095,2,    0.613,2,    0.165,2,   2190.4,2,   2323.0,2, 14.0326
     316N142_3,   A15,    35,  1,     31,     31,2,19940415,2223,  4.0018, -18.9995, 4832,    246.0,  13.2781,  35.3150,2,  35.3149,2,    118.9,2,    119.5,2,     9.28,2,    20.99,2,     0.01,2,     1.41,2,    1.223,2,    0.660,2,    0.332,2,   -999.0,9,   2320.5,2, 13.2436
     316N142_3,   A15,    35,  1,     37,     37,2,19940415,2223,  4.0018, -18.9995, 4832,    330.7,  10.4689,  35.0051,2,  35.0033,2,     69.4,2,     70.7,2,    15.06,2,    31.32,2,     0.01,2,     1.98,2,    0.514,2,    0.246,2,    0.205,2,   2219.4,2,   2300.5,2, 10.4291
     316N142_3,   A15,    35,  1,     29,     29,2,19940415,2223,  4.0018, -18.9995, 4832,    405.8,   8.8616,  34.8352,2,  34.8341,2,     88.2,2,     87.3,2,    17.74,2,    32.71,2,     0.00,2,     2.08,2,    0.337,2,    0.171,2,    0.245,2,   2218.1,2,   2297.1,2,  8.8175
     316N142_3,   A15,    35,  1,     28,     28,2,19940415,2223,  4.0018, -18.9995, 4832,    480.9,   7.8965,  34.7442,2,  34.7423,2,     90.8,2,     90.3,2,    20.31,2,    34.36,2,     0.00,2,     2.20,2, -999.000,9, -999.000,9, -999.000,9,   2223.8,2,   2295.2,2,  7.8475
     316N142_3,   A15,    35,  1,     27,     27,2,19940415,2223,  4.0018, -18.9995, 4832,    557.5,   7.1758,  34.6750,2,  34.6740,2,    101.9,2,    100.7,2,    22.34,2,    34.73,2,     0.00,2,     2.26,2,    0.114,2,    0.078,2,    0.221,2,   2221.8,2,   2294.2,2,  7.1218
     316N142_3,   A15,    35,  1,     26,     26,2,19940415,2223,  4.0018, -18.9995, 4832,    658.2,   6.3901,  34.6416,2,  34.6420,2,     95.6,2,     94.6,2,    25.66,2,    36.69,2,     0.00,2,     2.42,2,    0.037,4,    0.030,2,    0.117,2,   2232.6,2,   2294.3,2,  6.3298
     316N142_3,   A15,    35,  1,     25,     25,2,19940415,2223,  4.0018, -18.9995, 4832,    763.6,   5.6170,  34.5971,2,  34.5944,2,    112.3,2,    111.7,2,    28.87,2,    36.22,2,     0.00,2,     2.44,2,    0.046,4,    0.031,2,    0.098,2,   2229.7,2,   2294.5,2,  5.5510
     316N142_3,   A15,    35,  1,     24,     24,2,19940415,2223,  4.0018, -18.9995, 4832,    910.1,   4.7828,  34.5988,2,  34.5993,2,    134.9,2,    139.2,2,    31.87,2,    34.23,2,     0.00,2,     2.35,2,    0.000,4,    0.012,2,    0.019,2,   2221.9,2,   2301.8,2,  4.7089
     316N142_3,   A15,    35,  1,     23,     23,2,19940415,2223,  4.0018, -18.9995, 4832,   1062.2,   4.6464,  34.6983,2,  34.6997,2,    151.6,2,    153.2,2,    30.25,2,    31.84,2,     0.00,2,     2.19,2, -999.000,9, -999.000,9, -999.000,9,   2216.1,2,   2305.2,2,  4.5600
     316N142_3,   A15,    35,  1,     22,     22,2,19940415,2223,  4.0018, -18.9995, 4832,   1213.7,   4.5052,  34.8481,2,  34.8480,2,    175.4,2,    180.0,2,    25.73,2,    27.54,2,     0.00,2,     1.89,2, -999.000,9,    0.003,2,    0.065,2,   -999.0,9,   -999.0,9,  4.4061
     316N142_3,   A15,    35,  1,     21,     21,2,19940415,2223,  4.0018, -18.9995, 4832,   1339.9,   4.3609,  34.9092,2,  34.9097,2,    196.5,2,    201.0,2,    23.03,2,    24.79,2,     0.00,2,     1.68,2, -999.000,9, -999.000,9, -999.000,9,   2188.0,2,   2309.7,2,  4.2516
     316N142_3,   A15,    35,  1,     20,     20,2,19940415,2223,  4.0018, -18.9995, 4832,   1466.8,   4.2033,  34.9530,2,  34.9526,2,    215.8,2,    221.2,2,    20.33,2,    22.40,2,     0.00,2,     1.52,2, -999.000,9,    0.055,4,    0.176,4,   -999.0,9,   -999.0,9,  4.0839
     316N142_3,   A15,    35,  1,     19,     19,2,19940415,2223,  4.0018, -18.9995, 4832,   1593.4,   4.0724,  34.9646,2,  34.9664,2,    231.1,2,    231.5,2,    19.35,2,    21.26,2,     0.00,2,     1.44,2, -999.000,9,    0.021,2,    0.209,2,   2170.6,2,   2310.4,2,  3.9428
     316N142_3,   A15,    35,  1,     40,     40,2,19940415,2223,  4.0018, -18.9995, 4832,   1719.6,   3.8867,  34.9675,2,  34.9685,2,    240.0,2,    237.9,2,    19.67,2,    20.68,2,     0.00,2,     1.40,2,    0.009,4,    0.025,2,    0.198,2,   -999.0,9,   -999.0,9,  3.7476
     316N142_3,   A15,    35,  1,     17,     17,2,19940415,2223,  4.0018, -18.9995, 4832,   1871.7,   3.6417,  34.9612,2,  34.9632,2,    242.2,2,    241.3,2,    21.49,2,    20.56,2,     0.00,2,     1.39,2, -999.000,9, -999.000,9, -999.000,9,   2168.0,2,   2313.7,2,  3.4917
     316N142_3,   A15,    35,  1,     16,     16,2,19940415,2223,  4.0018, -18.9995, 4832,   2024.1,   3.4529,  34.9523,2,  34.9539,2,    240.6,2,    240.4,2,    24.16,2,    20.87,2,     0.00,2,     1.42,2, -999.000,9,    0.015,2,    0.037,2,   -999.0,9,   -999.0,9,  3.2913
     316N142_3,   A15,    35,  1,     15,     15,2,19940415,2223,  4.0018, -18.9995, 4832,   2165.0,   3.2984,  34.9485,2,  34.9445,4,    241.7,2,    242.7,2,    25.98,2,    20.79,2,     0.00,2,     1.41,2, -999.000,9, -999.000,9, -999.000,9,   2172.8,2,   2318.7,2,  3.1258
     316N142_3,   A15,    35,  1,     14,     14,2,19940415,2223,  4.0018, -18.9995, 4832,   2291.7,   3.2067,  34.9453,2,  34.9468,2,    246.0,2,    245.7,2,    27.05,2,    20.58,2,     0.00,2,     1.39,2, -999.000,9, -999.000,9, -999.000,9,   -999.0,9,   -999.0,9,  3.0234
     316N142_3,   A15,    35,  1,     13,     13,2,19940415,2223,  4.0018, -18.9995, 4832,   2480.1,   3.0067,  34.9353,2,  34.9360,2,    244.5,2,    244.0,2,    31.02,2,    20.94,2,     0.00,2,     1.43,2, -999.000,9,    0.015,2,    0.056,2,   2177.0,2,   2324.6,2,  2.8086
     316N142_3,   A15,    35,  1,     12,     12,2,19940415,2223,  4.0018, -18.9995, 4832,   2683.3,   2.8432,  34.9270,2,  34.9273,2,    242.8,2,    243.5,2,    34.24,2,    21.26,2,     0.00,2,     1.44,2, -999.000,9, -999.000,9, -999.000,9,   -999.0,9,   -999.0,9,  2.6281
     316N142_3,   A15,    35,  1,     11,     11,2,19940415,2223,  4.0018, -18.9995, 4832,   2887.2,   2.7446,  34.9210,2,  34.9173,2,    243.0,2,    243.0,2,    36.82,2,    21.48,2,     0.00,2,     1.45,2, -999.000,9,    0.025,2,    0.001,2,   2182.6,2,   2331.2,2,  2.5110
     316N142_3,   A15,    35,  1,     10,     10,2,19940415,2223,  4.0018, -18.9995, 4832,   3090.7,   2.6301,  34.9134,2,  34.9120,2,    244.0,2,    243.8,2,    39.17,2,    21.62,2,     0.00,2,     1.46,2, -999.000,9, -999.000,9, -999.000,9,   -999.0,9,   -999.0,9,  2.3781
     316N142_3,   A15,    35,  1,      9,      9,2,19940415,2223,  4.0018, -18.9995, 4832,   3293.6,   2.5139,  34.9047,2,  34.9096,4,    242.5,2,    244.4,2,    41.74,2,    21.77,2,     0.00,2,     1.48,2, -999.000,9,    0.037,2,    0.015,2,   2187.5,2,   2335.5,2,  2.2433
     316N142_3,   A15,    35,  1,      8,      8,2,19940415,2223,  4.0018, -18.9995, 4832,   3497.9,   2.4462,  34.8994,2,  34.9027,4,    243.7,2,    244.2,2,    43.24,2,    21.86,2,     0.00,2,     1.49,2, -999.000,9, -999.000,9, -999.000,9,   -999.0,9,   -999.0,9,  2.1554
     316N142_3,   A15,    35,  1,      7,      7,2,19940415,2223,  4.0018, -18.9995, 4832,   3701.8,   2.4026,  34.8950,2,  34.8940,2,    243.4,2,    244.0,2,    44.52,2,    21.96,2,     0.00,2,     1.49,2, -999.000,9,    0.061,4,    0.080,4,   2192.9,2,   2341.0,2,  2.0907
     316N142_3,   A15,    35,  1,      6,      6,2,19940415,2223,  4.0018, -18.9995, 4832,   3905.6,   2.3503,  34.8897,2,  34.8909,2,    243.6,2,    244.1,2,    46.23,2,    22.10,2,     0.00,2,     1.50,2, -999.000,9, -999.000,9, -999.000,9,   -999.0,9,   -999.0,9,  2.0170
     316N142_3,   A15,    35,  1,      5,      5,2,19940415,2223,  4.0018, -18.9995, 4832,   4109.7,   2.3071,  34.8841,2,  34.8820,2,    243.5,2,    243.4,2,    48.16,2,    22.33,2,     0.00,2,     1.52,2, -999.000,9,    0.065,2,    0.088,2,   2196.7,2,   2342.2,2,  1.9517
     316N142_3,   A15,    35,  1,      4,      4,2,19940415,2223,  4.0018, -18.9995, 4832,   4314.8,   2.2475,  34.8764,2,  34.8767,2,    244.6,2,    245.0,2,    49.76,2,    22.42,2,     0.00,2,     1.53,2, -999.000,9, -999.000,9, -999.000,9,   -999.0,9,   -999.0,9,  1.8701
     316N142_3,   A15,    35,  1,      3,      3,2,19940415,2223,  4.0018, -18.9995, 4832,   4517.5,   2.2206,  34.8715,2,  34.8696,2,    243.4,2,    243.0,2,    51.68,2,    22.70,2,     0.00,2,     1.55,2, -999.000,9,    0.036,2,    0.068,2,   2200.9,2,   2346.6,2,  1.8200
     316N142_3,   A15,    35,  1,      2,      2,2,19940415,2223,  4.0018, -18.9995, 4832,   4721.5,   2.2094,  34.8678,2,  34.8670,2,    243.9,2,    242.3,2,    52.85,2,    22.88,2,     0.00,2,     1.55,2, -999.000,9, -999.000,9, -999.000,9,   -999.0,9,   -999.0,9,  1.7845
     316N142_3,   A15,    35,  1,      1,      1,2,19940415,2223,  4.0018, -18.9995, 4832,   4901.9,   2.2183,  34.8662,2,  34.8648,2,    242.7,2,    243.1,2,    52.95,2,    22.89,2,     0.00,2,     1.55,2, -999.000,9,    0.029,2,    0.138,2,   2201.7,2,   2344.7,2,  1.7708