BOTTLE,20020814WHPSIOKJU
EXPOCODE,SECT_ID,STNNBR,CASTNO,SAMPNO,BTLNBR,BTLNBR_FLAG_W,DATE,TIME,LATITUDE,LONGITUDE,DEPTH,CTDPRS,CTDTMP,CTDSAL,CTDSAL_FLAG_W,SALNTY,SALNTY_FLAG_W,CTDOXY,CTDOXY_FLAG_W,OXYGEN,OXYGEN_FLAG_W,SILCAT,SILCAT_FLAG_W,NITRAT,NITRAT_FLAG_W,NITRIT,NITRIT_FLAG_W,PHSPHT,PHSPHT_FLAG_W,CFC-11,CFC-11_FLAG_W,CFC-12,CFC-12_FLAG_W,CCL4,CCL4_FLAG_W,TCARBN,TCARBN_FLAG_W,ALKALI,ALKALI_FLAG_W,THETA
,,,,,,,,,,,,DBAR,ITS-90,PSS-78,,PSS-78,,UMOL/KG,,UMOL/KG,,UMOL/KG,,UMOL/KG,,UMOL/KG,,UMOL/KG,,PMOL/KG,,PMOL/KG,,PMOL/KG,,UMOL/KG,,UMOL/KG,,DEG C
     316N142_3,  AR15,    11,  1,     39,     39,2,19940406,1739, -1.6568, -35.9517, 4175,      0.8,  28.9805,  35.7090,2,  35.7151,2,    213.4,2,    214.7,2,     2.21,2,     0.13,2,     0.00,2,     0.09,2, -999.000,9, -999.000,9, -999.000,9,   1985.8,2,   2333.0,2, 28.9803
     316N142_3,  AR15,    11,  1,     35,     35,2,19940406,1739, -1.6568, -35.9517, 4175,     70.8,  22.6710,  36.1346,2,  36.1446,2,    211.2,2,    179.9,2,     3.11,2,     1.28,2,     0.12,2,     0.34,2, -999.000,9, -999.000,9, -999.000,9,   2091.1,2,   2366.5,2, 22.6566
     316N142_3,  AR15,    11,  1,     38,     38,2,19940406,1739, -1.6568, -35.9517, 4175,    120.2,  13.5425,  35.3455,2,  35.3462,2,    127.7,2,    102.5,2,     9.21,2,    22.05,2,     0.02,2,     1.36,2, -999.000,9, -999.000,9, -999.000,9,   2178.2,2,   2318.9,2, 13.5255
     316N142_3,  AR15,    11,  1,     33,     33,2,19940406,1739, -1.6568, -35.9517, 4175,    185.6,  12.4444,  35.2067,2,  35.2087,2,     87.9,2,     86.2,2,    11.04,2,    25.65,2,     0.01,2,     1.58,2, -999.000,9, -999.000,9, -999.000,9,   2194.4,2,   2310.9,2, 12.4196
     316N142_3,  AR15,    11,  1,     32,     32,2,19940406,1739, -1.6568, -35.9517, 4175,    246.1,  11.2217,  35.0565,2,  35.0604,2,     91.9,2,     90.8,2,    12.64,2,    27.32,2,     0.01,2,     1.70,2, -999.000,9, -999.000,9, -999.000,9,   2199.9,2,   2305.1,2, 11.1909
     316N142_3,  AR15,    11,  1,     31,     31,2,19940406,1739, -1.6568, -35.9517, 4175,    296.5,  10.6074,  34.9902,2,-999.0000,5,     88.0,2,     87.3,2,    14.01,2,    29.23,2,     0.01,2,     1.81,2, -999.000,9, -999.000,9, -999.000,9,   2206.9,2,   2303.2,2, 10.5715
     316N142_3,  AR15,    11,  1,     37,     37,2,19940406,1739, -1.6568, -35.9517, 4175,    406.7,   7.7874,  34.6596,2,  34.6737,2,    142.1,2,    143.0,2,    18.15,2,    28.84,2,     0.01,2,     1.95,2, -999.000,9, -999.000,9, -999.000,9,   2188.8,2,   2295.1,2,  7.7465
     316N142_3,  AR15,    11,  1,     29,     29,2,19940406,1739, -1.6568, -35.9517, 4175,    507.6,   6.9743,  34.6086,2,  34.6088,2,    128.1,2,    131.9,2,    21.48,2,    32.00,2,     0.00,2,     2.07,2, -999.000,9, -999.000,9, -999.000,9,   2204.2,2,   2292.4,2,  6.9261
     316N142_3,  AR15,    11,  1,     28,     28,2,19940406,1739, -1.6568, -35.9517, 4175,    607.6,   5.6042,  34.5015,2,  34.5084,2,    148.2,2,    151.7,2,    26.54,2,    32.74,2,     0.00,2,     2.18,2, -999.000,9, -999.000,9, -999.000,9,   2204.8,2,   2292.4,2,  5.5525
     316N142_3,  AR15,    11,  1,     27,     27,2,19940406,1739, -1.6568, -35.9517, 4175,    733.7,   5.3018,  34.5040,2,  34.4994,2,    141.7,2,    148.8,2,    28.95,2,    33.67,2,     0.00,2,     2.25,2, -999.000,9, -999.000,9, -999.000,9,   2211.0,2,   2297.2,2,  5.2404
     316N142_3,  AR15,    11,  1,     26,     26,2,19940406,1739, -1.6568, -35.9517, 4175,    859.6,   4.6230,  34.5131,2,  34.5129,2,    154.5,2,    158.6,2,    32.51,2,    33.31,2,     0.00,2,     2.25,2, -999.000,9, -999.000,9, -999.000,9,   2211.7,2,   2300.3,2,  4.5547
     316N142_3,  AR15,    11,  1,     25,     25,2,19940406,1739, -1.6568, -35.9517, 4175,    985.8,   4.4687,  34.6703,2,  34.6693,2,    159.6,2,    164.1,2,    31.46,2,    31.23,2,     0.00,2,     2.11,2,    0.005,4,    0.009,2,    0.053,2,   2210.8,2,   2311.3,2,  4.3904
     316N142_3,  AR15,    11,  1,     24,     24,2,19940406,1739, -1.6568, -35.9517, 4175,   1111.6,   4.5190,  34.7480,2,  34.7459,2,    170.7,2,    170.3,2,    29.14,2,    29.61,2,     0.00,2,     2.00,2, -999.000,9, -999.000,9, -999.000,9,   -999.0,9,   -999.0,9,  4.4291
     316N142_3,  AR15,    11,  1,     23,     23,2,19940406,1739, -1.6568, -35.9517, 4175,   1237.9,   4.5728,  34.8190,2,  34.8189,2,    184.3,2,    182.7,2,    26.25,2,    27.38,2,     0.00,2,     1.84,2,    0.000,4,    0.014,2,    0.138,2,   -999.0,9,   -999.0,9,  4.4709
     316N142_3,  AR15,    11,  1,     22,     22,2,19940406,1739, -1.6568, -35.9517, 4175,   1363.8,   4.4148,  34.9573,2,  34.9575,2,    223.6,2,    222.1,2,    19.56,2,    22.17,2,     0.00,2,     1.45,2,    0.053,2,    0.040,2,    0.463,2,   -999.0,9,   -999.0,9,  4.3026
     316N142_3,  AR15,    11,  1,     21,     21,2,19940406,1739, -1.6568, -35.9517, 4175,   1515.9,   4.2803,  34.9695,2,  34.9723,2,    233.3,2,    231.1,2,    18.74,2,    20.99,2,     0.00,2,     1.36,2,    0.056,2,    0.042,2,    0.450,2,   -999.0,9,   -999.0,9,  4.1555
     316N142_3,  AR15,    11,  1,     20,     20,2,19940406,1739, -1.6568, -35.9517, 4175,   1667.9,   4.1225,  34.9813,2,  34.9829,2,    244.1,2,    241.3,2,    17.92,2,    19.95,2,     0.00,2,     1.29,2,    0.067,2,    0.065,2,    0.580,2,   -999.0,9,   -999.0,9,  3.9852
     316N142_3,  AR15,    11,  1,     19,     19,2,19940406,1739, -1.6568, -35.9517, 4175,   1819.5,   3.9839,  34.9846,2,  34.9858,2,    249.3,2,    247.7,2,    17.68,2,    19.29,2,     0.00,2,     1.24,2,    0.065,6,    0.056,6,    0.534,6,   -999.0,9,   -999.0,9,  3.8340
     316N142_3,  AR15,    11,  1,     18,     18,2,19940406,1739, -1.6568, -35.9517, 4175,   1971.8,   3.6932,  34.9793,2,  34.9811,2,    255.8,2,    254.7,2,    18.48,2,    18.77,2,     0.00,2,     1.21,2,    0.070,2,    0.052,2,    0.518,2,   -999.0,9,   -999.0,9,  3.5329
     316N142_3,  AR15,    11,  1,     17,     17,2,19940406,1739, -1.6568, -35.9517, 4175,   2123.9,   3.4761,  34.9694,2,  34.9703,2,    256.8,2,    255.5,2,    20.54,2,    18.85,2,     0.00,2,     1.21,2, -999.000,9, -999.000,9, -999.000,9,   -999.0,9,   -999.0,9,  3.3045
     316N142_3,  AR15,    11,  1,     16,     16,2,19940406,1739, -1.6568, -35.9517, 4175,   2276.0,   3.2602,  34.9598,2,  34.9667,4,    257.1,2,    257.5,2,    22.37,2,    18.89,2,     0.00,2,     1.21,2, -999.000,9, -999.000,9, -999.000,9,   -999.0,9,   -999.0,9,  3.0775
     316N142_3,  AR15,    11,  1,     15,     15,2,19940406,1739, -1.6568, -35.9517, 4175,   2428.8,   3.0383,  34.9465,2,  34.9480,2,    256.3,2,    256.3,2,    26.05,2,    19.40,2,     0.00,2,     1.23,2,    0.008,4,    0.017,2,    0.195,2,   -999.0,9,   -999.0,9,  2.8446
     316N142_3,  AR15,    11,  1,     14,     14,2,19940406,1739, -1.6568, -35.9517, 4175,   2632.2,   2.8458,  34.9349,2,  34.9354,2,    255.5,2,    256.1,2,    29.04,2,    19.67,2,     0.00,2,     1.26,2, -999.000,9, -999.000,9, -999.000,9,   -999.0,9,   -999.0,9,  2.6357
     316N142_3,  AR15,    11,  1,     13,     13,2,19940406,1739, -1.6568, -35.9517, 4175,   2784.9,   2.7606,  34.9272,2,  34.9315,4,    254.2,2,    254.6,2,    31.34,2,    19.90,2,     0.00,2,     1.28,2, -999.000,9, -999.000,9, -999.000,9,   -999.0,9,   -999.0,9,  2.5371
     316N142_3,  AR15,    11,  1,     12,     12,2,19940406,1739, -1.6568, -35.9517, 4175,   2937.4,   2.7459,  34.9303,2,  34.9322,2,    258.6,2,    260.1,2,    28.67,2,    19.24,2,     0.00,2,     1.23,2,    0.000,4,    0.030,2,    0.308,2,   -999.0,9,   -999.0,9,  2.5071
     316N142_3,  AR15,    11,  1,     11,     11,2,19940406,1739, -1.6568, -35.9517, 4175,   3089.3,   2.6547,  34.9248,2,  34.9249,2,    259.1,2,    259.9,2,    29.82,2,    19.19,2,     0.00,2,     1.24,2, -999.000,9, -999.000,9, -999.000,9,   -999.0,9,   -999.0,9,  2.4022
     316N142_3,  AR15,    11,  1,     10,     10,2,19940406,1739, -1.6568, -35.9517, 4175,   3241.9,   2.5905,  34.9200,2,  34.9192,2,    260.1,2,    260.4,2,    30.73,2,    19.13,2,     0.00,2,     1.24,2, -999.000,9, -999.000,9, -999.000,9,   -999.0,9,   -999.0,9,  2.3235
     316N142_3,  AR15,    11,  1,      9,      9,2,19940406,1739, -1.6568, -35.9517, 4175,   3394.4,   2.5208,  34.9153,2,  34.9141,2,    260.9,2,    261.4,2,    31.18,2,    19.03,2,     0.00,2,     1.24,2,    0.081,2,    0.040,2,    0.438,2,   -999.0,9,   -999.0,9,  2.2392
     316N142_3,  AR15,    11,  1,      8,      8,2,19940406,1739, -1.6568, -35.9517, 4175,   3547.4,   2.4654,  34.9104,2,  34.9098,2,    261.8,2,    261.8,2,    31.98,2,    19.03,2,     0.00,2,     1.23,2, -999.000,9, -999.000,9, -999.000,9,   -999.0,9,   -999.0,9,  2.1687
     316N142_3,  AR15,    11,  1,      7,      7,2,19940406,1739, -1.6568, -35.9517, 4175,   3700.9,   2.3793,  34.9044,2,  34.9044,2,    263.5,2,    263.7,2,    31.97,2,    18.88,2,     0.00,2,     1.22,2,    0.080,2,    0.062,6,    0.563,6,   -999.0,9,   -999.0,9,  2.0680
     316N142_3,  AR15,    11,  1,      6,      6,2,19940406,1739, -1.6568, -35.9517, 4175,   3853.9,   2.3301,  34.8996,2,  34.8995,2,    263.1,2,    263.2,2,    33.46,2,    19.11,2,     0.00,2,     1.24,2, -999.000,9,    0.051,2,    0.596,2,   -999.0,9,   -999.0,9,  2.0031
     316N142_3,  AR15,    11,  1,      5,      5,2,19940406,1739, -1.6568, -35.9517, 4175,   3987.7,   2.1987,  34.8840,2,  34.8863,2,    259.9,2,    259.2,2,    40.37,2,    20.08,2,     0.00,2,     1.31,2,    0.066,2,    0.049,2,    0.456,2,   -999.0,9,   -999.0,9,  1.8604
     316N142_3,  AR15,    11,  1,      4,      4,2,19940406,1739, -1.6568, -35.9517, 4175,   4110.5,   1.8514,  34.8426,2,  34.8476,2,    251.3,2,    250.1,2,    58.37,2,    22.68,2,     0.00,2,     1.51,2, -999.000,9, -999.000,9, -999.000,9,   -999.0,9,   -999.0,9,  1.5093
     316N142_3,  AR15,    11,  1,      3,      3,2,19940406,1739, -1.6568, -35.9517, 4175,   4161.8,   1.5520,  34.8078,2,  34.8086,2,    245.5,2,    240.6,4,    73.19,2,    24.88,2,     0.00,2,     1.68,2,    0.045,2,    0.042,2,    0.141,2,   -999.0,9,   -999.0,9,  1.2130
     316N142_3,  AR15,    11,  1,      2,      2,2,19940406,1739, -1.6568, -35.9517, 4175,   4203.3,   1.4735,  34.7984,2,  34.7994,2,    239.8,2,    240.3,2,    76.56,2,    25.53,2,     0.00,2,     1.71,2, -999.000,9, -999.000,9, -999.000,9,   -999.0,9,   -999.0,9,  1.1322
     316N142_3,  AR15,    11,  1,      1,      1,2,19940406,1739, -1.6568, -35.9517, 4175,   4243.5,   1.4282,  34.7935,2,  34.7929,2,    238.8,2,    238.6,2,    78.76,2,    26.00,2,     0.00,2,     1.75,2,    0.026,2,    0.034,2,    0.098,2,   -999.0,9,   -999.0,9,  1.0838