BOTTLE,20020814WHPSIOKJU
EXPOCODE,SECT_ID,STNNBR,CASTNO,SAMPNO,BTLNBR,BTLNBR_FLAG_W,DATE,TIME,LATITUDE,LONGITUDE,DEPTH,CTDPRS,CTDTMP,CTDSAL,CTDSAL_FLAG_W,SALNTY,SALNTY_FLAG_W,CTDOXY,CTDOXY_FLAG_W,OXYGEN,OXYGEN_FLAG_W,SILCAT,SILCAT_FLAG_W,NITRAT,NITRAT_FLAG_W,NITRIT,NITRIT_FLAG_W,PHSPHT,PHSPHT_FLAG_W,CFC-11,CFC-11_FLAG_W,CFC-12,CFC-12_FLAG_W,CCL4,CCL4_FLAG_W,TCARBN,TCARBN_FLAG_W,ALKALI,ALKALI_FLAG_W,THETA
,,,,,,,,,,,,DBAR,ITS-90,PSS-78,,PSS-78,,UMOL/KG,,UMOL/KG,,UMOL/KG,,UMOL/KG,,UMOL/KG,,UMOL/KG,,PMOL/KG,,PMOL/KG,,PMOL/KG,,UMOL/KG,,UMOL/KG,,DEG C
     316N142_3,   A15,    59,  1,     39,     39,2,19940422,1452, -7.0013, -19.0002, 4238,      9.4,  28.2804,  36.0859,2,  36.0873,2,    223.9,4,    197.7,2,     1.84,2,     0.19,2,     0.00,2,     0.13,2,    1.617,2,    0.942,2,    2.391,2,   2010.1,2,   2361.5,2, 28.2781
     316N142_3,   A15,    59,  1,     35,     35,9,19940422,1452, -7.0013, -19.0002, 4238,     43.3,  28.1617,  36.0818,2,-999.0000,9,    202.7,2,   -999.0,9,  -999.00,9,  -999.00,9,  -999.00,9,  -999.00,9, -999.000,9, -999.000,9, -999.000,9,   -999.0,9,   -999.0,9, 28.1514
     316N142_3,   A15,    59,  1,     38,     38,2,19940422,1452, -7.0013, -19.0002, 4238,     64.4,  26.6194,  36.4681,2,  36.4626,2,    211.4,2,    211.3,2,     1.82,2,     0.14,2,     0.00,2,     0.15,2,    1.885,2,    1.020,2,    1.981,2,   2039.7,2,   2385.9,2, 26.6047
     316N142_3,   A15,    59,  1,     33,     33,9,19940422,1452, -7.0013, -19.0002, 4238,    120.6,  16.9273,  35.7189,2,-999.0000,9,    101.9,2,   -999.0,9,  -999.00,9,  -999.00,9,  -999.00,9,  -999.00,9, -999.000,9, -999.000,9, -999.000,9,   -999.0,9,   -999.0,9, 16.9073
     316N142_3,   A15,    59,  1,     41,     41,2,19940422,1452, -7.0013, -19.0002, 4238,    190.9,  11.9568,  35.1585,2,  35.1621,2,     90.2,2,     89.9,2,    11.01,2,    25.97,2,     0.01,2,     1.70,2,    0.829,2,    0.448,2,    0.171,2,   2200.2,2,   2308.0,2, 11.9320
     316N142_3,   A15,    59,  1,     31,     31,2,19940422,1452, -7.0013, -19.0002, 4238,    256.2,  10.3922,  34.9696,2,  34.9670,2,     82.0,2,     82.7,2,    13.93,2,    29.95,2,     0.01,2,     1.93,2, -999.000,9, -999.000,9, -999.000,9,   2213.0,2,   2301.4,2, 10.3616
     316N142_3,   A15,    59,  1,     37,     37,2,19940422,1452, -7.0013, -19.0002, 4238,    346.9,   9.3687,  34.8569,2,  34.8558,2,     70.1,2,     71.3,2,    16.58,2,    33.41,2,     0.00,2,     2.13,2,    0.310,2,    0.176,2,    0.270,2,   2228.5,2,   2296.8,2,  9.3298
     316N142_3,   A15,    59,  1,     29,     29,2,19940422,1452, -7.0013, -19.0002, 4238,    432.2,   8.1957,  34.7385,2,  34.7371,2,     72.4,2,     72.9,2,    19.50,2,    35.90,2,     0.00,2,     2.30,2, -999.000,9, -999.000,9, -999.000,9,   2235.8,2,   2292.2,2,  8.1508
     316N142_3,   A15,    59,  1,     28,     28,2,19940422,1452, -7.0013, -19.0002, 4238,    557.8,   6.8147,  34.6125,2,  34.6098,2,     91.8,2,     92.2,2,    23.49,2,    36.75,2,     0.00,2,     2.40,2,    0.116,2,    0.116,2,    0.086,2,   2234.8,2,   2291.2,2,  6.7622
     316N142_3,   A15,    59,  1,     27,     27,2,19940422,1452, -7.0013, -19.0002, 4238,    688.4,   5.2778,  34.5013,2,  34.5004,2,    125.1,2,    125.1,2,    29.48,2,    36.44,2,     0.00,2,     2.44,2, -999.000,9, -999.000,9, -999.000,9,   2228.6,2,   2295.7,2,  5.2205
     316N142_3,   A15,    59,  1,     26,     26,2,19940422,1452, -7.0013, -19.0002, 4238,    809.0,   4.4392,  34.4555,2,  34.4558,2,    162.5,2,    163.3,2,    33.60,2,    34.02,2,     0.00,2,     2.32,2,    0.119,2,    0.056,2,    0.405,2,   2214.6,2,   2297.9,2,  4.3765
     316N142_3,   A15,    59,  1,     25,     25,2,19940422,1452, -7.0013, -19.0002, 4238,    940.1,   4.0291,  34.5198,2,  34.5189,2,    171.0,2,    169.8,2,    36.78,2,    33.14,2,     0.00,2,     2.29,2,    0.056,4,    0.037,2,    0.137,2,   2215.6,2,   2314.6,2,  3.9582
     316N142_3,   A15,    59,  1,     24,     24,2,19940422,1452, -7.0013, -19.0002, 4238,   1060.6,   4.0907,  34.6419,2,  34.6415,2,    174.1,2,    172.5,2,    34.22,2,    31.41,2,     0.00,2,     2.17,2, -999.000,9, -999.000,9, -999.000,9,   2213.5,2,   -999.0,9,  4.0090
     316N142_3,   A15,    59,  1,     23,     23,9,19940422,1452, -7.0013, -19.0002, 4238,   1232.7,   4.1992,  34.8277,2,-999.0000,9,    195.6,2,   -999.0,9,  -999.00,9,  -999.00,9,  -999.00,9,  -999.00,9, -999.000,9, -999.000,9, -999.000,9,   -999.0,9,   -999.0,9,  4.1012
     316N142_3,   A15,    59,  1,     22,     22,2,19940422,1452, -7.0013, -19.0002, 4238,   1404.9,   4.1853,  34.9155,2,  34.9145,2,    218.0,2,    215.3,2,    22.45,2,    23.71,2,     0.00,2,     1.63,2, -999.000,9,    0.021,2,    0.198,2,   -999.0,9,   -999.0,9,  4.0718
     316N142_3,   A15,    59,  1,     21,     21,2,19940422,1452, -7.0013, -19.0002, 4238,   1567.1,   4.0074,  34.9497,2,  34.9498,2,    232.9,2,    231.4,2,    20.82,2,    21.70,2,     0.00,2,     1.49,2, -999.000,9,    0.010,2,    0.343,2,   2171.9,2,   2312.3,2,  3.8811
     316N142_3,   A15,    59,  1,     20,     20,2,19940422,1452, -7.0013, -19.0002, 4238,   1719.1,   3.7426,  34.9500,2,  34.9502,2,    239.9,2,    238.3,2,    22.41,2,    21.20,2,     0.00,2,     1.45,2,    0.030,4,    0.016,2,    0.119,2,   -999.0,9,   -999.0,9,  3.6054
     316N142_3,   A15,    59,  1,     19,     19,2,19940422,1452, -7.0013, -19.0002, 4238,   1870.1,   3.5599,  34.9432,2,  34.9435,2,    240.3,2,    240.2,2,    24.66,2,    21.20,2,     0.00,2,     1.46,2, -999.000,9,    0.012,2,    0.050,2,   2171.6,2,   2319.1,2,  3.4112
     316N142_3,   A15,    59,  1,     40,     40,2,19940422,1452, -7.0013, -19.0002, 4238,   2011.4,   3.3636,  34.9364,2,  34.9370,2,    242.5,2,    241.7,2,    27.58,2,    21.35,2,     0.00,2,     1.46,2, -999.000,9, -999.000,9, -999.000,9,   -999.0,9,   -999.0,9,  3.2046
     316N142_3,   A15,    59,  1,     17,     17,2,19940422,1452, -7.0013, -19.0002, 4238,   2152.9,   3.1792,  34.9282,2,  34.9280,2,    242.9,2,    241.5,2,    30.76,2,    21.49,2,     0.00,2,     1.48,2, -999.000,9,    0.005,2, -999.000,9,   2179.0,2,   2323.9,2,  3.0097
     316N142_3,   A15,    59,  1,     16,     16,2,19940422,1452, -7.0013, -19.0002, 4238,   2293.8,   3.0846,  34.9288,2,  34.9288,2,    243.6,2,    244.6,2,    31.54,2,    21.26,2,     0.00,2,     1.47,2, -999.000,9, -999.000,9, -999.000,9,   -999.0,9,   -999.0,9,  2.9032
     316N142_3,   A15,    59,  1,     15,     15,2,19940422,1452, -7.0013, -19.0002, 4238,   2451.5,   2.9650,  34.9203,2,  34.9193,2,    242.4,2,    242.3,2,    34.59,2,    21.69,2,     0.00,2,     1.50,2, -999.000,9, -999.000,9, -999.000,9,   2181.2,2,   2329.3,2,  2.7706
     316N142_3,   A15,    59,  1,     14,     14,2,19940422,1452, -7.0013, -19.0002, 4238,   2579.2,   2.8655,  34.9132,2,  34.9125,2,    241.2,2,    241.1,2,    37.24,2,    21.98,2,     0.00,2,     1.52,2, -999.000,9, -999.000,9, -999.000,9,   -999.0,9,   -999.0,9,  2.6604
     316N142_3,   A15,    59,  1,     13,     13,2,19940422,1452, -7.0013, -19.0002, 4238,   2706.7,   2.7800,  34.9094,2,  34.9091,2,    240.9,2,    241.9,2,    38.96,2,    22.08,2,     0.00,2,     1.53,2, -999.000,9, -999.000,9, -999.000,9,   2187.5,2,   2330.9,2,  2.5640
     316N142_3,   A15,    59,  1,     12,     12,2,19940422,1452, -7.0013, -19.0002, 4238,   2834.4,   2.7213,  34.9072,2,  34.9062,2,    241.4,2,    241.8,2,    40.01,2,    22.13,2,     0.00,2,     1.54,2, -999.000,9, -999.000,9, -999.000,9,   -999.0,9,   -999.0,9,  2.4936
     316N142_3,   A15,    59,  1,     11,     11,2,19940422,1452, -7.0013, -19.0002, 4238,   2962.1,   2.6822,  34.9065,2,  34.9060,2,    243.4,2,    243.4,2,    40.26,2,    22.00,2,     0.00,2,     1.53,2, -999.000,9, -999.000,9, -999.000,9,   2186.0,2,   2333.3,2,  2.4423
     316N142_3,   A15,    59,  1,     10,     10,2,19940422,1452, -7.0013, -19.0002, 4238,   3114.4,   2.6142,  34.9058,2,  34.9050,2,    246.5,2,    245.8,2,    39.97,2,    21.72,2,     0.00,2,     1.51,2, -999.000,9,    0.000,2, -999.000,9,   -999.0,9,   -999.0,9,  2.3601
     316N142_3,   A15,    59,  1,      9,      9,2,19940422,1452, -7.0013, -19.0002, 4238,   3267.4,   2.5816,  34.9061,2,  34.9043,2,    248.9,2,    248.8,2,    39.15,2,    21.40,2,     0.00,2,     1.48,2, -999.000,9, -999.000,9, -999.000,9,   2183.1,2,   2332.2,2,  2.3122
     316N142_3,   A15,    59,  1,      8,      8,2,19940422,1452, -7.0013, -19.0002, 4238,   3419.1,   2.5562,  34.9055,2,  34.9049,2,    252.2,2,    250.4,2,    38.46,2,    21.22,2,     0.00,2,     1.47,2, -999.000,9, -999.000,9, -999.000,9,   -999.0,9,   -999.0,9,  2.2712
     316N142_3,   A15,    59,  1,      7,      7,2,19940422,1452, -7.0013, -19.0002, 4238,   3569.6,   2.4582,  34.8994,2,  34.8982,2,    254.0,2,    252.4,2,    39.78,2,    21.17,2,     0.00,2,     1.47,2, -999.000,9,    0.011,2,    0.050,2,   2182.4,2,   2332.8,2,  2.1593
     316N142_3,   A15,    59,  1,      6,      6,2,19940422,1452, -7.0013, -19.0002, 4238,   3719.9,   2.3633,  34.8895,2,  34.8882,2,    251.7,2,    251.5,2,    43.23,2,    21.60,2,     0.00,2,     1.50,2, -999.000,9, -999.000,9, -999.000,9,   -999.0,9,   -999.0,9,  2.0504
     316N142_3,   A15,    59,  1,      5,      5,2,19940422,1452, -7.0013, -19.0002, 4238,   3844.9,   2.2327,  34.8763,2,  34.8746,2,    248.9,2,    249.9,2,    48.28,2,    22.26,2,     0.00,2,     1.55,2, -999.000,9, -999.000,9, -999.000,9,   2192.6,2,   2336.0,2,  1.9095
     316N142_3,   A15,    59,  1,      4,      4,2,19940422,1452, -7.0013, -19.0002, 4238,   3969.5,   1.8946,  34.8432,2,  34.8428,2,    243.6,2,    245.1,2,    60.64,2,    23.91,2,     0.00,2,     1.66,2, -999.000,9,    0.016,2, -999.000,9,   -999.0,9,   -999.0,9,  1.5670
     316N142_3,   A15,    59,  1,      3,      3,2,19940422,1452, -7.0013, -19.0002, 4238,   4093.9,   1.6961,  34.8215,2,  34.8196,2,    242.6,2,    241.6,2,    68.97,2,    25.14,2,     0.00,2,     1.76,2, -999.000,9, -999.000,9, -999.000,9,   2215.2,2,   2347.3,2,  1.3604
     316N142_3,   A15,    59,  1,      2,      2,2,19940422,1452, -7.0013, -19.0002, 4238,   4214.7,   1.5073,  34.8003,2,  34.7997,2,    241.0,2,    237.9,2,    76.85,2,    26.27,2,     0.00,2,     1.84,2, -999.000,9, -999.000,9, -999.000,9,   -999.0,9,   -999.0,9,  1.1637
     316N142_3,   A15,    59,  1,      1,      1,2,19940422,1452, -7.0013, -19.0002, 4238,   4310.0,   1.3495,  34.7833,2,  34.7830,2,    239.7,4,    234.8,2,    82.83,2,    27.22,2,     0.00,2,     1.90,2, -999.000,9, -999.000,9, -999.000,9,   2229.3,2,   2356.1,2,  1.0000