BOTTLE,20020814WHPSIOKJU
EXPOCODE,SECT_ID,STNNBR,CASTNO,SAMPNO,BTLNBR,BTLNBR_FLAG_W,DATE,TIME,LATITUDE,LONGITUDE,DEPTH,CTDPRS,CTDTMP,CTDSAL,CTDSAL_FLAG_W,SALNTY,SALNTY_FLAG_W,CTDOXY,CTDOXY_FLAG_W,OXYGEN,OXYGEN_FLAG_W,SILCAT,SILCAT_FLAG_W,NITRAT,NITRAT_FLAG_W,NITRIT,NITRIT_FLAG_W,PHSPHT,PHSPHT_FLAG_W,CFC-11,CFC-11_FLAG_W,CFC-12,CFC-12_FLAG_W,CCL4,CCL4_FLAG_W,TCARBN,TCARBN_FLAG_W,ALKALI,ALKALI_FLAG_W,THETA
,,,,,,,,,,,,DBAR,ITS-90,PSS-78,,PSS-78,,UMOL/KG,,UMOL/KG,,UMOL/KG,,UMOL/KG,,UMOL/KG,,UMOL/KG,,PMOL/KG,,PMOL/KG,,PMOL/KG,,UMOL/KG,,UMOL/KG,,DEG C
     316N142_3,  AR15,     8,  1,     35,     35,2,19940406,0447, -2.3320, -35.9512, 3799,      2.3,  28.7948,  35.6786,2,  35.6883,2,    194.8,2,    197.9,2,     1.83,2,     0.12,2,     0.00,2,     0.08,2,    1.723,6,    0.966,6,    2.054,6,   1987.3,2,   2338.5,2, 28.7942
     316N142_3,  AR15,     8,  1,     36,     36,3,19940406,0447, -2.3320, -35.9512, 3799,      2.4,  28.7954,  35.6781,2,-999.0000,9,    195.8,2,   -999.0,9,     2.29,4,     0.17,4,     0.01,4,     0.10,4, -999.000,9, -999.000,9, -999.000,9,   -999.0,9,   -999.0,9, 28.7948
     316N142_3,  AR15,     8,  1,     38,     38,2,19940406,0447, -2.3320, -35.9512, 3799,     79.3,  23.6626,  36.2997,2,  36.2982,2,    182.8,2,    176.7,2,     2.40,2,     1.77,2,     0.17,2,     0.30,2, -999.000,9, -999.000,9, -999.000,9,   2085.6,2,   2380.9,2, 23.6460
     316N142_3,  AR15,     8,  1,     33,     33,2,19940406,0447, -2.3320, -35.9512, 3799,    105.1,  17.0647,  35.7065,2,  35.6925,2,    116.1,2,    108.2,2,     6.21,2,    17.18,2,     0.06,2,     1.06,2, -999.000,9, -999.000,9, -999.000,9,   2164.3,2,   2340.7,2, 17.0473
     316N142_3,  AR15,     8,  1,     32,     32,2,19940406,0447, -2.3320, -35.9512, 3799,    154.8,  13.1138,  35.2890,2,  35.2893,2,    105.8,2,    104.7,2,     9.56,2,    22.67,2,     0.00,2,     1.36,2, -999.000,9, -999.000,9, -999.000,9,   2183.4,2,   2318.8,2, 13.0923
     316N142_3,  AR15,     8,  1,     31,     31,2,19940406,0447, -2.3320, -35.9512, 3799,    204.8,  12.2670,  35.1844,2,  35.1833,2,     92.6,2,     88.8,2,    11.05,2,    25.79,3,     0.00,2,     1.55,3, -999.000,9, -999.000,9, -999.000,9,   2196.3,2,   2313.7,2, 12.2398
     316N142_3,  AR15,     8,  1,     37,     37,2,19940406,0447, -2.3320, -35.9512, 3799,    255.0,  11.3701,  35.0688,2,  35.0693,2,     96.8,2,    111.3,2,    11.74,2,    25.03,3,     0.00,2,     1.62,3, -999.000,9, -999.000,9, -999.000,9,   2187.5,2,   2311.8,2, 11.3379
     316N142_3,  AR15,     8,  1,     29,     29,2,19940406,0447, -2.3320, -35.9512, 3799,    305.3,  10.9043,  35.0126,2,  35.0118,2,    117.5,2,    119.0,2,    12.20,2,    25.13,3,     0.00,2,     1.55,3, -999.000,9, -999.000,9, -999.000,9,   2184.4,2,   2309.4,2, 10.8667
     316N142_3,  AR15,     8,  1,     28,     28,2,19940406,0447, -2.3320, -35.9512, 3799,    406.0,   8.5317,  34.7575,2,  34.7575,2,    127.9,2,    118.6,2,    17.16,2,    30.01,2,     0.00,2,     1.85,2, -999.000,9, -999.000,9, -999.000,9,   2201.8,2,   2300.2,2,  8.4886
     316N142_3,  AR15,     8,  1,     27,     27,2,19940406,0447, -2.3320, -35.9512, 3799,    506.2,   6.9792,  34.5865,2,  34.5893,2,    139.5,2,    152.3,2,    20.27,2,    29.78,2,     0.00,2,     1.92,2, -999.000,9, -999.000,9, -999.000,9,   2192.6,2,   2298.3,2,  6.9311
     316N142_3,  AR15,     8,  1,     26,     26,2,19940406,0447, -2.3320, -35.9512, 3799,    607.3,   5.4874,  34.4864,2,  34.4866,2,    154.5,2,    158.9,2,    26.60,2,    32.24,2,     0.00,2,     2.11,2,    0.260,2,    0.173,2,    0.742,2,   2206.3,2,   2298.7,2,  5.4363
     316N142_3,  AR15,     8,  1,     25,     25,2,19940406,0447, -2.3320, -35.9512, 3799,    707.9,   5.0509,  34.4621,2,  34.4601,2,    155.2,2,    162.4,2,    29.02,2,    32.78,2,     0.00,2,     2.15,2, -999.000,9, -999.000,9, -999.000,9,   2206.3,2,   2298.7,2,  4.9932
     316N142_3,  AR15,     8,  1,     24,     24,2,19940406,0447, -2.3320, -35.9512, 3799,    808.6,   4.4003,  34.4718,2,  34.4731,2,    162.5,2,    168.8,2,    33.62,2,    32.87,2,     0.00,2,     2.17,2, -999.000,9, -999.000,9, -999.000,9,   2204.6,2,   -999.0,9,  4.3378
     316N142_3,  AR15,     8,  1,     23,     23,2,19940406,0447, -2.3320, -35.9512, 3799,    908.8,   4.3383,  34.5482,2,  34.5503,2,    161.6,2,    163.6,2,    33.95,2,    32.64,2,     0.00,2,     2.17,2,    0.031,2,    0.026,2,    0.249,2,   2214.8,2,   2306.6,2,  4.2677
     316N142_3,  AR15,     8,  1,     22,     22,2,19940406,0447, -2.3320, -35.9512, 3799,   1060.1,   4.3335,  34.6621,2,  34.6709,2,    172.3,2,    169.6,2,    31.74,2,    30.65,2,     0.00,2,     2.03,2, -999.000,9, -999.000,9, -999.000,9,   2210.4,2,   2312.9,2,  4.2498
     316N142_3,  AR15,     8,  1,     21,     21,2,19940406,0447, -2.3320, -35.9512, 3799,   1210.6,   4.4671,  34.8278,2,  34.8285,2,    190.4,2,    188.4,2,    25.97,2,    26.83,2,     0.00,2,     1.76,2,    0.005,4,    0.008,2,    0.160,2,   -999.0,9,   -999.0,9,  4.3687
     316N142_3,  AR15,     8,  1,     20,     20,2,19940406,0447, -2.3320, -35.9512, 3799,   1362.8,   4.3340,  34.9627,2,  34.9631,2,    226.3,2,    225.8,2,    19.28,2,    21.64,2,     0.00,2,     1.38,2, -999.000,9,    0.032,2,    0.409,2,   -999.0,9,   -999.0,9,  4.2227
     316N142_3,  AR15,     8,  1,     19,     19,2,19940406,0447, -2.3320, -35.9512, 3799,   1514.9,   4.2267,  34.9759,2,  34.9765,2,    235.6,2,    234.9,2,    18.35,2,    20.61,2,     0.00,2,     1.30,2,    0.090,2,    0.052,2,    0.472,2,   -999.0,9,   -999.0,9,  4.1026
     316N142_3,  AR15,     8,  1,     18,     18,2,19940406,0447, -2.3320, -35.9512, 3799,   1666.4,   4.0639,  34.9814,2,  34.9849,2,    244.1,2,    243.2,2,    18.00,2,    19.85,2,     0.00,2,     1.24,2,    0.051,2,    0.046,2,    0.564,2,   -999.0,9,   -999.0,9,  3.9275
     316N142_3,  AR15,     8,  1,     16,     16,3,19940406,0447, -2.3320, -35.9512, 3799,   1767.3,   3.9642,  34.9814,2,  34.9814,4,    247.3,2,   -999.0,9,    18.10,4,    19.73,4,     0.00,4,     1.23,4, -999.000,9, -999.000,9, -999.000,9,   -999.0,9,   -999.0,9,  3.8195
     316N142_3,  AR15,     8,  1,     17,     17,3,19940406,0447, -2.3320, -35.9512, 3799,   1767.5,   3.9632,  34.9816,2,  34.9786,4,    247.3,2,   -999.0,9,    18.11,4,    20.86,4,     0.00,4,     1.32,4, -999.000,9, -999.000,9, -999.000,9,   -999.0,9,   -999.0,9,  3.8185
     316N142_3,  AR15,     8,  1,     15,     15,2,19940406,0447, -2.3320, -35.9512, 3799,   1869.2,   3.7966,  34.9829,2,  34.9838,2,    251.2,2,    252.4,2,    17.98,2,    19.18,2,     0.00,2,     1.19,2,    0.105,2,    0.061,2,    0.572,2,   -999.0,9,   -999.0,9,  3.6446
     316N142_3,  AR15,     8,  1,     14,     14,3,19940406,0447, -2.3320, -35.9512, 3799,   1969.9,   3.6422,  34.9794,2,  35.0804,4,    256.2,2,   -999.0,9,    17.28,4,    19.98,4,     0.00,4,     1.24,4, -999.000,9, -999.000,9, -999.000,9,   -999.0,9,   -999.0,9,  3.4828
     316N142_3,  AR15,     8,  1,     13,     13,2,19940406,0447, -2.3320, -35.9512, 3799,   2122.5,   3.4615,  34.9694,2,  34.9680,2,    256.5,2,    256.0,2,    20.72,2,    19.11,2,     0.00,2,     1.18,2,    0.018,4,    0.004,2,    0.400,2,   -999.0,9,   -999.0,9,  3.2903
     316N142_3,  AR15,     8,  1,     12,     12,2,19940406,0447, -2.3320, -35.9512, 3799,   2274.2,   3.2811,  34.9615,2,  34.9608,2,    257.4,2,    257.6,2,    22.32,2,    19.10,2,     0.00,2,     1.18,2, -999.000,9, -999.000,9, -999.000,9,   -999.0,9,   -999.0,9,  3.0982
     316N142_3,  AR15,     8,  1,     11,     11,2,19940406,0447, -2.3320, -35.9512, 3799,   2425.9,   3.1521,  34.9533,2,  34.9535,2,    256.3,2,    257.0,2,    24.37,2,    19.31,2,     0.00,2,     1.19,2,    0.002,4,    0.012,2,    0.305,2,   -999.0,9,   -999.0,9,  2.9567
     316N142_3,  AR15,     8,  1,     10,     10,2,19940406,0447, -2.3320, -35.9512, 3799,   2578.3,   3.0044,  34.9463,2,  34.9448,2,    257.4,2,    257.4,2,    25.97,2,    19.41,2,     0.00,2,     1.20,2, -999.000,9, -999.000,9, -999.000,9,   -999.0,9,   -999.0,9,  2.7966
     316N142_3,  AR15,     8,  1,      9,      9,2,19940406,0447, -2.3320, -35.9512, 3799,   2730.8,   2.9022,  34.9406,2,  34.9399,2,    258.7,2,    258.5,2,    26.88,2,    19.34,2,     0.00,2,     1.19,2, -999.000,9, -999.000,9, -999.000,9,   -999.0,9,   -999.0,9,  2.6811
     316N142_3,  AR15,     8,  1,      8,      8,2,19940406,0447, -2.3320, -35.9512, 3799,   2883.6,   2.7809,  34.9312,2,  34.9334,2,    256.9,2,    257.6,2,    28.93,2,    19.50,2,     0.00,2,     1.21,2,    0.029,2,    0.022,2,    0.245,2,   -999.0,9,   -999.0,9,  2.5469
     316N142_3,  AR15,     8,  1,      7,      7,2,19940406,0447, -2.3320, -35.9512, 3799,   3035.2,   2.7655,  34.9326,2,  34.9313,2,    260.1,2,    259.9,2,    28.12,2,    19.27,2,     0.00,2,     1.19,2, -999.000,9, -999.000,9, -999.000,9,   -999.0,9,   -999.0,9,  2.5162
     316N142_3,  AR15,     8,  1,      6,      6,2,19940406,0447, -2.3320, -35.9512, 3799,   3187.7,   2.7343,  34.9298,2,  34.9321,2,    260.2,2,    260.1,2,    28.68,2,    19.32,2,     0.00,2,     1.20,2, -999.000,9, -999.000,9, -999.000,9,   -999.0,9,   -999.0,9,  2.4696
     316N142_3,  AR15,     8,  1,      5,      5,2,19940406,0447, -2.3320, -35.9512, 3799,   3340.3,   2.6198,  34.9210,2,  34.9197,2,    260.3,2,    259.4,2,    30.96,2,    19.58,2,     0.00,2,     1.22,2,    0.021,2,    0.029,2,    0.264,2,   -999.0,9,   -999.0,9,  2.3417
     316N142_3,  AR15,     8,  1,      4,      4,2,19940406,0447, -2.3320, -35.9512, 3799,   3494.1,   2.5660,  34.9169,2,  34.9148,2,    259.5,2,    259.2,2,    32.10,2,    19.73,2,     0.00,2,     1.20,2, -999.000,9, -999.000,9, -999.000,9,   -999.0,9,   -999.0,9,  2.2726
     316N142_3,  AR15,     8,  1,      3,      3,2,19940406,0447, -2.3320, -35.9512, 3799,   3647.0,   2.4497,  34.9098,2,  34.9091,2,    261.2,2,    261.6,2,    32.77,2,    19.45,2,     0.00,2,     1.29,2, -999.000,9, -999.000,9, -999.000,9,   -999.0,9,   -999.0,9,  2.1425
     316N142_3,  AR15,     8,  1,      2,      2,2,19940406,0447, -2.3320, -35.9512, 3799,   3748.3,   2.3191,  34.8989,2,  34.8985,2,    261.0,2,    261.3,2,    35.51,2,    19.66,2,     0.00,2,     1.32,2,    0.104,2,    0.041,2,    0.446,2,   -999.0,9,   -999.0,9,  2.0041
     316N142_3,  AR15,     8,  1,      1,      1,2,19940406,0447, -2.3320, -35.9512, 3799,   3855.8,   2.2738,  34.8934,2,  34.8943,2,    259.2,3,    259.7,2,    37.10,2,    19.91,2,     0.00,2,     1.32,2,    0.075,2,    0.047,2,    0.436,2,   -999.0,9,   -999.0,9,  1.9481