BOTTLE,20020814WHPSIOKJU
EXPOCODE,SECT_ID,STNNBR,CASTNO,SAMPNO,BTLNBR,BTLNBR_FLAG_W,DATE,TIME,LATITUDE,LONGITUDE,DEPTH,CTDPRS,CTDTMP,CTDSAL,CTDSAL_FLAG_W,SALNTY,SALNTY_FLAG_W,CTDOXY,CTDOXY_FLAG_W,OXYGEN,OXYGEN_FLAG_W,SILCAT,SILCAT_FLAG_W,NITRAT,NITRAT_FLAG_W,NITRIT,NITRIT_FLAG_W,PHSPHT,PHSPHT_FLAG_W,CFC-11,CFC-11_FLAG_W,CFC-12,CFC-12_FLAG_W,CCL4,CCL4_FLAG_W,TCARBN,TCARBN_FLAG_W,ALKALI,ALKALI_FLAG_W,THETA
,,,,,,,,,,,,DBAR,ITS-90,PSS-78,,PSS-78,,UMOL/KG,,UMOL/KG,,UMOL/KG,,UMOL/KG,,UMOL/KG,,UMOL/KG,,PMOL/KG,,PMOL/KG,,PMOL/KG,,UMOL/KG,,UMOL/KG,,DEG C
     316N142_3,   A15,    86,  1,     39,     39,2,19940429,2151,-20.5668, -19.0000, 4961,      9.5,  25.8619,  36.8923,2,  36.8954,2,    206.6,2,    206.4,2,     2.32,2,     0.01,2,     0.00,2,     0.19,2,    1.598,2,    1.043,2,    2.830,2,   2074.0,2,   2426.6,2, 25.8598
     316N142_3,   A15,    86,  1,     35,     35,2,19940429,2151,-20.5668, -19.0000, 4961,     69.7,  23.6771,  36.5961,2,  36.5963,2,    230.1,2,    229.3,2,     2.30,2,     0.02,2,     0.00,2,     0.17,2,    1.858,2,    1.183,2,    2.229,2,   2065.4,2,   2405.8,2, 23.6625
     316N142_3,   A15,    86,  1,     38,     38,2,19940429,2151,-20.5668, -19.0000, 4961,    110.2,  21.0420,  36.2933,2,  36.3060,2,    228.4,2,    229.0,2,     2.28,2,     0.00,2,     0.00,2,     0.18,2,    1.932,2,    1.246,2,    2.842,2,   2066.8,2,   2404.1,2, 21.0208
     316N142_3,   A15,    86,  1,     33,     33,2,19940429,2151,-20.5668, -19.0000, 4961,    195.7,  16.5086,  35.6527,2,  35.6523,2,    211.1,2,    208.7,2,     3.14,2,     1.56,2,     0.00,2,     0.44,2,    2.250,2,    1.348,2,    1.080,2,   2085.0,2,   2341.8,2, 16.4768
     316N142_3,   A15,    86,  1,     41,     41,2,19940429,2151,-20.5668, -19.0000, 4961,    305.4,  13.1291,  35.1732,2,  35.1732,2,    198.7,2,    193.7,2,     5.73,2,     9.80,2,     0.00,2,     0.88,2,    2.080,6,    1.206,6,    0.824,6,   2112.4,2,   2317.3,2, 13.0866
     316N142_3,   A15,    86,  1,     31,     31,2,19940429,2151,-20.5668, -19.0000, 4961,    415.8,  10.1263,  34.8331,2,  34.8295,2,    169.8,2,    167.0,2,    10.93,2,    20.77,2,     0.00,2,     1.46,2,    1.405,2,    0.773,2,    0.872,2,   2153.2,2,   2301.4,2, 10.0772
     316N142_3,   A15,    86,  1,     37,     37,2,19940429,2151,-20.5668, -19.0000, 4961,    516.7,   7.7461,  34.6112,2,  34.6083,2,    158.7,2,    157.6,2,    17.45,2,    28.37,2,     0.00,2,     1.87,2,    0.850,2,    0.476,2,    1.130,2,   2181.4,2,   2297.1,2,  7.6940
     316N142_3,   A15,    86,  1,     29,     29,2,19940429,2151,-20.5668, -19.0000, 4961,    632.1,   5.9146,  34.4727,2,  34.4702,2,    163.2,2,    164.8,2,    24.27,2,    32.43,2,     0.00,2,     2.11,2, -999.000,9, -999.000,9, -999.000,9,   2194.6,2,   2298.1,2,  5.8593
     316N142_3,   A15,    86,  1,     28,     28,2,19940429,2151,-20.5668, -19.0000, 4961,    746.5,   4.7542,  34.4189,2,  34.4183,2,    171.8,2,    173.1,2,    31.69,2,    34.28,2,     0.00,2,     2.23,2,    0.350,2,    0.141,2,    0.955,2,   2202.5,2,   2301.2,2,  4.6949
     316N142_3,   A15,    86,  1,     27,     27,2,19940429,2151,-20.5668, -19.0000, 4961,    845.7,   4.1286,  34.4191,2,  34.4169,2,    179.9,2,    181.5,2,    37.37,2,    34.31,2,     0.00,2,     2.25,2,    0.206,2,    0.078,2,    0.869,2,   2203.7,2,   2303.0,2,  4.0649
     316N142_3,   A15,    86,  1,     26,     26,2,19940429,2151,-20.5668, -19.0000, 4961,    958.1,   3.6647,  34.4753,2,  34.4736,2,    181.0,2,    185.0,2,    43.51,2,    33.92,2,     0.00,2,     2.24,2,    0.146,2,    0.041,2,    0.429,2,   2211.1,2,   2312.7,2,  3.5950
     316N142_3,   A15,    86,  1,     25,     25,2,19940429,2151,-20.5668, -19.0000, 4961,   1109.9,   3.6045,  34.6069,2,  34.6059,2,    182.9,2,    186.8,2,    43.06,2,    31.94,2,     0.00,2,     2.13,2, -999.000,9, -999.000,9, -999.000,9,   2210.2,2,   2318.2,2,  3.5228
     316N142_3,   A15,    86,  1,     24,     24,2,19940429,2151,-20.5668, -19.0000, 4961,   1261.7,   3.7388,  34.7241,2,  34.7223,2,    194.6,2,    193.9,2,    37.77,2,    29.34,2,     0.00,2,     1.97,2, -999.000,9, -999.000,9, -999.000,9,   -999.0,9,   -999.0,9,  3.6429
     316N142_3,   A15,    86,  1,     23,     23,2,19940429,2151,-20.5668, -19.0000, 4961,   1414.3,   3.7157,  34.8139,2,  34.8141,2,    210.7,2,    207.6,2,    33.80,2,    26.48,2,     0.00,2,     1.80,2, -999.000,9,    0.002,2,    0.043,2,   2193.2,2,   2319.0,2,  3.6067
     316N142_3,   A15,    86,  1,     22,     22,2,19940429,2151,-20.5668, -19.0000, 4961,   1566.3,   3.6165,  34.8707,2,  34.8701,2,    222.5,2,    221.8,2,    30.87,2,    24.10,2,     0.00,2,     1.63,2, -999.000,9, -999.000,9, -999.000,9,   -999.0,9,   -999.0,9,  3.4950
     316N142_3,   A15,    86,  1,     21,     21,2,19940429,2151,-20.5668, -19.0000, 4961,   1717.5,   3.4689,  34.9084,2,  34.9070,2,    235.8,2,    234.7,2,    28.81,2,    22.15,2,     0.00,2,     1.51,2, -999.000,9, -999.000,9, -999.000,9,   2175.5,2,   2325.4,2,  3.3355
     316N142_3,   A15,    86,  1,     20,     20,2,19940429,2151,-20.5668, -19.0000, 4961,   1869.7,   3.3668,  34.9268,2,  34.9262,2,    243.3,2,    244.2,2,    27.63,2,    21.04,2,     0.00,2,     1.44,2, -999.000,9,    0.006,2,    0.271,2,   -999.0,9,   -999.0,9,  3.2209
     316N142_3,   A15,    86,  1,     19,     19,2,19940429,2151,-20.5668, -19.0000, 4961,   2021.9,   3.2388,  34.9306,2,  34.9298,2,    245.8,2,    246.5,2,    28.34,2,    20.62,2,     0.00,2,     1.41,2, -999.000,9,    0.015,2, -999.000,9,   2166.7,2,   2325.1,2,  3.0807
     316N142_3,   A15,    86,  1,     40,     40,2,19940429,2151,-20.5668, -19.0000, 4961,   2174.0,   3.1313,  34.9299,2,  34.9292,2,    248.8,2,    247.0,2,    29.35,2,    20.56,2,     0.00,2,     1.40,2, -999.000,9, -999.000,9, -999.000,9,   -999.0,9,   -999.0,9,  2.9606
     316N142_3,   A15,    86,  1,     17,     17,2,19940429,2151,-20.5668, -19.0000, 4961,   2325.3,   3.0523,  34.9286,2,  34.9286,2,    250.0,2,    248.7,2,    30.36,2,    20.44,2,     0.00,2,     1.40,2, -999.000,9, -999.000,9, -999.000,9,   2171.8,2,   2329.0,2,  2.8685
     316N142_3,   A15,    86,  1,     16,     16,2,19940429,2151,-20.5668, -19.0000, 4961,   2478.2,   2.9693,  34.9268,2,  34.9264,2,    251.0,2,    249.9,2,    31.36,2,    20.43,2,     0.00,2,     1.40,2, -999.000,9,    0.009,2,    0.057,2,   -999.0,9,   -999.0,9,  2.7721
     316N142_3,   A15,    86,  1,     15,     15,2,19940429,2151,-20.5668, -19.0000, 4961,   2630.3,   2.9024,  34.9250,2,  34.9246,2,    251.1,2,    251.4,2,    32.08,2,    20.43,2,     0.00,2,     1.40,2, -999.000,9, -999.000,9, -999.000,9,   2173.6,2,   2330.5,2,  2.6915
     316N142_3,   A15,    86,  1,     14,     14,2,19940429,2151,-20.5668, -19.0000, 4961,   2784.0,   2.8320,  34.9216,2,  34.9211,2,    251.1,2,    250.9,2,    33.38,2,    20.47,2,     0.00,2,     1.39,2, -999.000,9, -999.000,9, -999.000,9,   -999.0,9,   -999.0,9,  2.6071
     316N142_3,   A15,    86,  1,     13,     13,2,19940429,2151,-20.5668, -19.0000, 4961,   2986.9,   2.7489,  34.9173,2,  34.9177,2,    251.5,2,    251.9,2,    34.83,2,    20.61,2,     0.00,2,     1.42,2, -999.000,9, -999.000,9, -999.000,9,   2176.1,2,   2333.4,2,  2.5050
     316N142_3,   A15,    86,  1,     12,     12,2,19940429,2151,-20.5668, -19.0000, 4961,   3191.1,   2.6595,  34.9118,2,  34.9109,2,    252.2,2,    252.1,2,    36.87,2,    20.76,2,     0.00,2,     1.42,2, -999.000,9, -999.000,9, -999.000,9,   -999.0,9,   -999.0,9,  2.3963
     316N142_3,   A15,    86,  1,     11,     11,2,19940429,2151,-20.5668, -19.0000, 4961,   3395.8,   2.5250,  34.9013,2,  34.9016,2,    252.5,2,    252.3,2,    40.67,2,    21.07,2,     0.00,2,     1.45,2, -999.000,9, -999.000,9, -999.000,9,   2176.6,2,   2336.1,2,  2.2432
     316N142_3,   A15,    86,  1,     10,     10,2,19940429,2151,-20.5668, -19.0000, 4961,   3548.4,   2.4313,  34.8920,2,  34.8910,2,    250.5,2,    251.1,2,    44.62,2,    21.63,2,     0.00,2,     1.49,2, -999.000,9, -999.000,9, -999.000,9,   -999.0,9,   -999.0,9,  2.1355
     316N142_3,   A15,    86,  1,      9,      9,2,19940429,2151,-20.5668, -19.0000, 4961,   3700.9,   2.2031,  34.8697,2,  34.8688,2,    248.6,2,    248.1,2,    53.61,2,    22.81,2,     0.00,2,     1.57,2, -999.000,9, -999.000,9, -999.000,9,   2191.2,2,   2339.9,2,  1.8966
     316N142_3,   A15,    86,  1,      8,      8,2,19940429,2151,-20.5668, -19.0000, 4961,   3854.7,   1.9891,  34.8466,2,  34.8454,2,    244.0,2,    244.2,2,    62.64,2,    24.10,2,     0.00,2,     1.65,2, -999.000,9, -999.000,9, -999.000,9,   -999.0,9,   -999.0,9,  1.6716
     316N142_3,   A15,    86,  1,      7,      7,2,19940429,2151,-20.5668, -19.0000, 4961,   4057.0,   1.6177,  34.8079,2,  34.8072,2,    238.8,2,    238.4,2,    77.30,2,    26.37,2,     0.00,2,     1.80,2, -999.000,9, -999.000,9, -999.000,9,   2215.6,2,   2352.8,2,  1.2884
     316N142_3,   A15,    86,  1,      6,      6,2,19940429,2151,-20.5668, -19.0000, 4961,   4261.2,   1.3502,  34.7799,2,  34.7803,2,    235.1,2,    234.5,2,    87.43,2,    27.92,2,     0.00,2,     1.89,2, -999.000,9,    0.010,2,    0.003,2,   -999.0,9,   -999.0,9,  1.0062
     316N142_3,   A15,    86,  1,      5,      5,2,19940429,2151,-20.5668, -19.0000, 4961,   4416.1,   1.1888,  34.7626,2,  34.7620,2,    232.9,2,    232.2,2,    94.14,2,    28.94,2,     0.00,2,     1.96,2, -999.000,9, -999.000,9, -999.000,9,   2232.8,2,   2361.4,2,  0.8324
     316N142_3,   A15,    86,  1,      4,      4,2,19940429,2151,-20.5668, -19.0000, 4961,   4569.2,   1.1303,  34.7551,2,  34.7541,2,    231.4,2,    230.9,2,    96.74,2,    29.39,2,     0.00,2,     1.99,2, -999.000,9, -999.000,9, -999.000,9,   -999.0,9,   -999.0,9,  0.7585
     316N142_3,   A15,    86,  1,      3,      3,2,19940429,2151,-20.5668, -19.0000, 4961,   4774.6,   1.0934,  34.7493,2,  34.7484,2,    230.9,2,    230.5,2,    98.73,2,    29.69,2,     0.00,2,     2.01,2, -999.000,9,    0.009,2,    0.096,2,   2237.3,2,   2363.7,2,  0.6991
     316N142_3,   A15,    86,  1,      2,      2,2,19940429,2151,-20.5668, -19.0000, 4961,   4918.4,   1.0831,  34.7463,2,  34.7465,2,    231.1,2,    229.8,2,    99.80,2,    29.83,2,     0.00,2,     2.03,2, -999.000,9, -999.000,9, -999.000,9,   -999.0,9,   -999.0,9,  0.6723
     316N142_3,   A15,    86,  1,      1,      1,2,19940429,2151,-20.5668, -19.0000, 4961,   5074.4,   1.0788,  34.7436,2,  34.7445,2,    229.8,2,    230.4,2,   100.56,2,    29.97,2,     0.00,2,     2.03,2, -999.000,9,    0.009,2,    0.061,2,   2238.9,2,   2363.0,2,  0.6495