BOTTLE,20020814WHPSIOKJU
EXPOCODE,SECT_ID,STNNBR,CASTNO,SAMPNO,BTLNBR,BTLNBR_FLAG_W,DATE,TIME,LATITUDE,LONGITUDE,DEPTH,CTDPRS,CTDTMP,CTDSAL,CTDSAL_FLAG_W,SALNTY,SALNTY_FLAG_W,CTDOXY,CTDOXY_FLAG_W,OXYGEN,OXYGEN_FLAG_W,SILCAT,SILCAT_FLAG_W,NITRAT,NITRAT_FLAG_W,NITRIT,NITRIT_FLAG_W,PHSPHT,PHSPHT_FLAG_W,CFC-11,CFC-11_FLAG_W,CFC-12,CFC-12_FLAG_W,CCL4,CCL4_FLAG_W,TCARBN,TCARBN_FLAG_W,ALKALI,ALKALI_FLAG_W,THETA
,,,,,,,,,,,,DBAR,ITS-90,PSS-78,,PSS-78,,UMOL/KG,,UMOL/KG,,UMOL/KG,,UMOL/KG,,UMOL/KG,,UMOL/KG,,PMOL/KG,,PMOL/KG,,PMOL/KG,,UMOL/KG,,UMOL/KG,,DEG C
     316N142_3,  AR15,   139,  1,     39,     39,2,19940516,2238,-18.2013, -33.3737, 4364,     10.7,  27.3074,  37.4489,2,  37.4482,2,    198.5,2,    200.1,2,     1.68,2,     0.04,2,     0.00,2,     0.09,2, -999.000,9, -999.000,9, -999.000,9,   -999.0,9,   -999.0,9, 27.3049
     316N142_3,  AR15,   139,  1,     35,     35,2,19940516,2238,-18.2013, -33.3737, 4364,     85.8,  25.0177,  37.0050,2,  37.0020,2,    225.3,2,    222.5,2,     1.67,2,     0.04,2,     0.00,2,     0.16,2, -999.000,9, -999.000,9, -999.000,9,   -999.0,9,   -999.0,9, 24.9990
     316N142_3,  AR15,   139,  1,     38,     38,2,19940516,2238,-18.2013, -33.3737, 4364,    186.6,  18.9978,  36.1183,2,  36.0691,2,    207.3,2,    195.9,2,     2.47,2,     2.54,2,     0.01,2,     0.41,2, -999.000,9, -999.000,9, -999.000,9,   -999.0,9,   -999.0,9, 18.9643
     316N142_3,  AR15,   139,  1,     33,     33,2,19940516,2238,-18.2013, -33.3737, 4364,    296.6,  13.5065,  35.2314,2,  35.2168,2,    192.4,2,    184.5,2,     5.34,2,    11.84,2,     0.00,2,     0.90,2, -999.000,9, -999.000,9, -999.000,9,   -999.0,9,   -999.0,9, 13.4644
     316N142_3,  AR15,   139,  1,     41,     41,2,19940516,2238,-18.2013, -33.3737, 4364,    407.1,  10.4862,  34.8764,2,  34.8699,2,    176.5,2,    174.1,2,     9.50,2,    19.32,2,     0.00,2,     1.37,2, -999.000,9, -999.000,9, -999.000,9,   -999.0,9,   -999.0,9, 10.4371
     316N142_3,  AR15,   139,  1,     31,     31,2,19940516,2238,-18.2013, -33.3737, 4364,    518.0,   7.5890,  34.5959,2,  34.5926,2,    167.7,2,    166.2,2,    16.87,2,    26.74,2,     0.00,2,     1.85,2, -999.000,9, -999.000,9, -999.000,9,   -999.0,9,   -999.0,9,  7.5374
     316N142_3,  AR15,   139,  1,     37,     37,2,19940516,2238,-18.2013, -33.3737, 4364,    618.0,   5.4850,  34.4149,2,  34.4170,2,    190.9,2,    190.3,2,    22.80,2,    28.99,2,     0.00,2,     2.02,2, -999.000,9, -999.000,9, -999.000,9,   -999.0,9,   -999.0,9,  5.4331
     316N142_3,  AR15,   139,  1,     29,     29,2,19940516,2238,-18.2013, -33.3737, 4364,    719.3,   4.2763,  34.3732,2,  34.3692,2,    196.7,2,    197.8,2,    31.15,2,    30.69,2,     0.00,2,     2.15,2, -999.000,9, -999.000,9, -999.000,9,   -999.0,9,   -999.0,9,  4.2221
     316N142_3,  AR15,   139,  1,     28,     28,2,19940516,2238,-18.2013, -33.3737, 4364,    819.5,   3.8104,  34.4067,2,  34.4035,2,    189.2,2,    192.0,2,    37.57,2,    31.55,2,     0.00,2,     2.21,2, -999.000,9, -999.000,9, -999.000,9,   -999.0,9,   -999.0,9,  3.7508
     316N142_3,  AR15,   139,  1,     27,     27,2,19940516,2238,-18.2013, -33.3737, 4364,    930.3,   3.6167,  34.4699,2,  34.4666,2,    185.0,2,    186.3,2,    41.26,2,    31.76,2,     0.00,2,     2.22,2, -999.000,9, -999.000,9, -999.000,9,   -999.0,9,   -999.0,9,  3.5496
     316N142_3,  AR15,   139,  1,     26,     26,2,19940516,2238,-18.2013, -33.3737, 4364,   1031.1,   3.6632,  34.5573,2,  34.5556,2,    181.5,2,    184.0,2,    39.79,2,    31.22,2,     0.00,2,     2.18,2, -999.000,9, -999.000,9, -999.000,9,   -999.0,9,   -999.0,9,  3.5875
     316N142_3,  AR15,   139,  1,     25,     25,2,19940516,2238,-18.2013, -33.3737, 4364,   1131.9,   3.6586,  34.6346,2,  34.6319,2,    187.5,2,    188.7,2,    39.12,2,    29.72,2,     0.00,2,     2.07,2, -999.000,9, -999.000,9, -999.000,9,   -999.0,9,   -999.0,9,  3.5745
     316N142_3,  AR15,   139,  1,     24,     24,2,19940516,2238,-18.2013, -33.3737, 4364,   1232.2,   3.8706,  34.7439,2,  34.7408,2,    192.1,2,    193.9,2,    33.47,2,    27.74,2,     0.00,2,     1.92,2, -999.000,9, -999.000,9, -999.000,9,   -999.0,9,   -999.0,9,  3.7760
     316N142_3,  AR15,   139,  1,     23,     23,2,19940516,2238,-18.2013, -33.3737, 4364,   1323.5,   3.9999,  34.8287,2,  34.8277,2,    201.4,2,    204.2,2,    28.47,2,    25.54,2,     0.00,2,     1.76,2, -999.000,9, -999.000,9, -999.000,9,   -999.0,9,   -999.0,9,  3.8958
     316N142_3,  AR15,   139,  1,     22,     22,2,19940516,2238,-18.2013, -33.3737, 4364,   1414.9,   3.9330,  34.8706,2,  34.8696,2,    214.5,2,    214.4,2,    26.36,2,    24.20,2,     0.00,2,     1.65,2, -999.000,9, -999.000,9, -999.000,9,   -999.0,9,   -999.0,9,  3.8215
     316N142_3,  AR15,   139,  1,     21,     21,2,19940516,2238,-18.2013, -33.3737, 4364,   1536.6,   3.8525,  34.9178,2,  34.9179,2,    227.8,2,    229.1,2,    23.94,2,    22.23,2,     0.00,2,     1.51,2, -999.000,9, -999.000,9, -999.000,9,   -999.0,9,   -999.0,9,  3.7307
     316N142_3,  AR15,   139,  1,     20,     20,2,19940516,2238,-18.2013, -33.3737, 4364,   1688.0,   3.5897,  34.9244,2,  34.9246,2,    236.0,2,    236.7,2,    25.05,2,    21.48,2,     0.00,2,     1.47,2, -999.000,9, -999.000,9, -999.000,9,   -999.0,9,   -999.0,9,  3.4574
     316N142_3,  AR15,   139,  1,     19,     19,2,19940516,2238,-18.2013, -33.3737, 4364,   1808.8,   3.5675,  34.9473,2,  34.9481,2,    246.6,2,    245.0,2,    22.79,2,    20.41,2,     0.00,2,     1.38,2, -999.000,9, -999.000,9, -999.000,9,   -999.0,9,   -999.0,9,  3.4244
     316N142_3,  AR15,   139,  1,     40,     40,2,19940516,2238,-18.2013, -33.3737, 4364,   1951.3,   3.4441,  34.9482,2,  34.9483,2,    249.5,2,    248.4,2,    23.58,2,    20.19,2,     0.00,2,     1.38,2, -999.000,9, -999.000,9, -999.000,9,   -999.0,9,   -999.0,9,  3.2894
     316N142_3,  AR15,   139,  1,     17,     17,2,19940516,2238,-18.2013, -33.3737, 4364,   2093.1,   3.2793,  34.9394,2,  34.9395,2,    249.6,2,    249.1,2,    25.80,2,    20.35,2,     0.00,2,     1.38,2, -999.000,9, -999.000,9, -999.000,9,   -999.0,9,   -999.0,9,  3.1138
     316N142_3,  AR15,   139,  1,     16,     16,2,19940516,2238,-18.2013, -33.3737, 4364,   2225.0,   3.2018,  34.9430,2,  34.9413,2,    250.5,2,    250.5,2,    26.27,2,    20.08,2,     0.00,2,     1.37,2, -999.000,9, -999.000,9, -999.000,9,   -999.0,9,   -999.0,9,  3.0250
     316N142_3,  AR15,   139,  1,     15,     15,2,19940516,2238,-18.2013, -33.3737, 4364,   2377.2,   3.0885,  34.9388,2,  34.9369,2,    251.8,2,    251.5,2,    27.69,2,    20.08,2,     0.00,2,     1.38,2, -999.000,9, -999.000,9, -999.000,9,   -999.0,9,   -999.0,9,  2.8989
     316N142_3,  AR15,   139,  1,     14,     14,2,19940516,2238,-18.2013, -33.3737, 4364,   2530.2,   2.9870,  34.9337,2,  34.9332,2,    251.9,2,    252.1,2,    29.28,2,    20.19,2,     0.00,2,     1.37,2, -999.000,9, -999.000,9, -999.000,9,   -999.0,9,   -999.0,9,  2.7844
     316N142_3,  AR15,   139,  1,     13,     13,2,19940516,2238,-18.2013, -33.3737, 4364,   2682.3,   2.8886,  34.9256,2,  34.9246,2,    251.7,2,    250.4,2,    31.51,2,    20.45,2,     0.00,2,     1.40,2, -999.000,9, -999.000,9, -999.000,9,   -999.0,9,   -999.0,9,  2.6727
     316N142_3,  AR15,   139,  1,     12,     12,2,19940516,2238,-18.2013, -33.3737, 4364,   2835.4,   2.8250,  34.9219,2,  34.9216,2,    250.7,2,    250.4,2,    32.29,2,    20.45,2,     0.00,2,     1.39,2, -999.000,9, -999.000,9, -999.000,9,   -999.0,9,   -999.0,9,  2.5950
     316N142_3,  AR15,   139,  1,     11,     11,2,19940516,2238,-18.2013, -33.3737, 4364,   2987.2,   2.7628,  34.9195,2,  34.9196,2,    251.1,2,    251.6,2,    32.92,2,    20.34,2,     0.00,2,     1.39,2, -999.000,9, -999.000,9, -999.000,9,   -999.0,9,   -999.0,9,  2.5186
     316N142_3,  AR15,   139,  1,     10,     10,2,19940516,2238,-18.2013, -33.3737, 4364,   3140.5,   2.7047,  34.9167,2,  34.9157,2,    252.1,2,    252.4,2,    33.38,2,    20.34,2,     0.00,2,     1.39,2, -999.000,9, -999.000,9, -999.000,9,   -999.0,9,   -999.0,9,  2.4458
     316N142_3,  AR15,   139,  1,      9,      9,2,19940516,2238,-18.2013, -33.3737, 4364,   3293.4,   2.6333,  34.9133,2,  34.9126,2,    253.4,2,    254.4,2,    34.01,2,    20.23,2,     0.00,2,     1.38,2, -999.000,9, -999.000,9, -999.000,9,   -999.0,9,   -999.0,9,  2.3599
     316N142_3,  AR15,   139,  1,      8,      8,2,19940516,2238,-18.2013, -33.3737, 4364,   3446.5,   2.5317,  34.9047,2,  34.9043,2,    253.2,2,    254.4,2,    36.40,2,    20.44,2,     0.00,2,     1.40,2, -999.000,9, -999.000,9, -999.000,9,   -999.0,9,   -999.0,9,  2.2443
     316N142_3,  AR15,   139,  1,      7,      7,2,19940516,2238,-18.2013, -33.3737, 4364,   3598.7,   2.3737,  34.8902,2,  34.8908,2,    252.6,2,    254.1,2,    41.19,2,    21.08,2,     0.00,2,     1.45,2, -999.000,9, -999.000,9, -999.000,9,   -999.0,9,   -999.0,9,  2.0738
     316N142_3,  AR15,   139,  1,      6,      6,2,19940516,2238,-18.2013, -33.3737, 4364,   3751.9,   2.0564,  34.8565,2,  34.8576,2,    248.1,2,    247.4,2,    53.58,2,    22.78,2,     0.00,2,     1.57,2, -999.000,9, -999.000,9, -999.000,9,   -999.0,9,   -999.0,9,  1.7483
     316N142_3,  AR15,   139,  1,      5,      5,2,19940516,2238,-18.2013, -33.3737, 4364,   3904.2,   1.6858,  34.8179,2,  34.8167,2,    241.1,2,    240.0,2,    68.96,2,    24.96,2,     0.00,2,     1.73,2, -999.000,9, -999.000,9, -999.000,9,   -999.0,9,   -999.0,9,  1.3713
     316N142_3,  AR15,   139,  1,      4,      4,2,19940516,2238,-18.2013, -33.3737, 4364,   4058.5,   1.3491,  34.7820,2,  34.7810,2,    235.3,2,    234.2,2,    83.00,2,    26.94,2,     0.00,2,     1.87,2, -999.000,9, -999.000,9, -999.000,9,   -999.0,9,   -999.0,9,  1.0275
     316N142_3,  AR15,   139,  1,      3,      3,2,19940516,2238,-18.2013, -33.3737, 4364,   4220.7,   1.0189,  34.7456,2,  34.7457,2,    229.3,2,    228.4,2,    96.02,2,    28.64,2,     0.00,2,     2.01,2, -999.000,9, -999.000,9, -999.000,9,   -999.0,9,   -999.0,9,  0.6894
     316N142_3,  AR15,   139,  1,      2,      2,2,19940516,2238,-18.2013, -33.3737, 4364,   4374.9,   0.6118,  34.7050,2,  34.7043,2,    224.0,2,    223.0,2,   111.35,2,    30.66,2,     0.00,2,     2.16,2, -999.000,9, -999.000,9, -999.000,9,   -999.0,9,   -999.0,9,  0.2782
     316N142_3,  AR15,   139,  1,      1,      1,2,19940516,2238,-18.2013, -33.3737, 4364,   4450.0,   0.5183,  34.6947,2,  34.6945,2,    222.5,2,    221.9,2,   115.53,2,    31.14,2,     0.00,2,     2.20,2, -999.000,9, -999.000,9, -999.000,9,   -999.0,9,   -999.0,9,  0.1794