BOTTLE,20020814WHPSIOKJU
EXPOCODE,SECT_ID,STNNBR,CASTNO,SAMPNO,BTLNBR,BTLNBR_FLAG_W,DATE,TIME,LATITUDE,LONGITUDE,DEPTH,CTDPRS,CTDTMP,CTDSAL,CTDSAL_FLAG_W,SALNTY,SALNTY_FLAG_W,CTDOXY,CTDOXY_FLAG_W,OXYGEN,OXYGEN_FLAG_W,SILCAT,SILCAT_FLAG_W,NITRAT,NITRAT_FLAG_W,NITRIT,NITRIT_FLAG_W,PHSPHT,PHSPHT_FLAG_W,CFC-11,CFC-11_FLAG_W,CFC-12,CFC-12_FLAG_W,CCL4,CCL4_FLAG_W,TCARBN,TCARBN_FLAG_W,ALKALI,ALKALI_FLAG_W,THETA
,,,,,,,,,,,,DBAR,ITS-90,PSS-78,,PSS-78,,UMOL/KG,,UMOL/KG,,UMOL/KG,,UMOL/KG,,UMOL/KG,,UMOL/KG,,PMOL/KG,,PMOL/KG,,PMOL/KG,,UMOL/KG,,UMOL/KG,,DEG C
     316N142_3,   A15,    78,  1,     40,     40,2,19940427,1847,-16.6005, -19.0003, 4176,      6.2,  26.0803,  37.0360,2,  37.0367,2,    208.8,2,    211.2,2,     1.71,2,     0.19,2,     0.00,2,     0.24,2,    1.785,2,    1.012,2,    2.217,2,   2079.3,2,   2432.2,2, 26.0789
     316N142_3,   A15,    78,  1,     17,     17,2,19940427,1847,-16.6005, -19.0003, 4176,     59.5,  25.9965,  37.0246,2,  37.0262,2,    212.5,2,    209.9,2,     1.55,2,     0.14,2,     0.00,2,     0.23,2,    1.795,2,    1.019,2,    1.973,2,   2079.9,2,   2431.4,2, 25.9832
     316N142_3,   A15,    78,  1,     16,     16,2,19940427,1847,-16.6005, -19.0003, 4176,     89.3,  22.5201,  36.5398,2,  36.5407,2,    228.1,2,    226.6,2,     1.54,2,     0.14,2,     0.00,2,     0.25,2,    2.054,6,    1.186,6,    1.595,6,   2072.6,2,   2399.8,2, 22.5021
     316N142_3,   A15,    78,  1,     15,     15,2,19940427,1847,-16.6005, -19.0003, 4176,    145.2,  19.1660,  36.0827,2,  36.0830,2,    215.4,2,    209.2,2,     1.95,2,     0.64,2,     0.16,2,     0.37,2,    2.147,2,    1.296,2,    0.950,2,   2090.6,2,   2371.2,2, 19.1398
     316N142_3,   A15,    78,  1,     14,     14,2,19940427,1847,-16.6005, -19.0003, 4176,    225.9,  16.0843,  35.6136,2,  35.6145,2,    196.4,2,    193.0,2,     3.20,2,     6.61,2,     0.01,2,     0.67,2,    2.357,2,    1.283,2,    0.885,2,   2103.4,2,   2340.4,2, 16.0482
     316N142_3,   A15,    78,  1,     13,     13,9,19940427,1847,-16.6005, -19.0003, 4176,    306.6,  12.0355,  35.0556,2,-999.0000,9,    170.2,2,   -999.0,9,  -999.00,9,  -999.00,9,  -999.00,9,  -999.00,9, -999.000,9, -999.000,9, -999.000,9,   -999.0,9,   -999.0,9, 11.9952
     316N142_3,   A15,    78,  1,     12,     12,2,19940427,1847,-16.6005, -19.0003, 4176,    385.7,   9.8772,  34.8171,2,  34.8191,2,    158.6,2,    158.6,2,    11.08,2,    22.27,2,     0.00,2,     1.56,2,    1.268,2,    0.700,2,    0.747,2,   2164.7,2,   2294.5,2,  9.8325
     316N142_3,   A15,    78,  1,     11,     11,2,19940427,1847,-16.6005, -19.0003, 4176,    471.1,   8.0314,  34.6595,2,  34.6603,2,    145.2,2,    141.3,2,    16.85,2,    28.65,2,     0.00,2,     1.93,2,    0.733,2,    0.326,2,    0.772,2,   2191.3,2,   2292.1,2,  7.9830
     316N142_3,   A15,    78,  1,     10,     10,2,19940427,1847,-16.6005, -19.0003, 4176,    581.2,   5.7213,  34.4787,2,  34.4785,2,    158.5,2,    159.8,2,    24.48,2,    31.99,2,     0.00,2,     2.17,2,    0.237,6,    0.123,6,    0.802,6,   2201.7,2,   2290.0,2,  5.6715
     316N142_3,   A15,    78,  1,      9,      9,2,19940427,1847,-16.6005, -19.0003, 4176,    697.0,   4.5723,  34.4134,2,  34.4132,2,    173.6,2,    178.0,2,    30.85,2,    32.58,2,     0.00,2,     2.24,2,    0.237,2,    0.087,2,    0.780,2,   2204.9,2,   2294.1,2,  4.5182
     316N142_3,   A15,    78,  1,      8,      8,2,19940427,1847,-16.6005, -19.0003, 4176,    807.7,   4.0309,  34.4284,2,  34.4270,2,    179.3,2,    180.8,2,    36.25,2,    33.11,2,     0.00,2,     2.28,2,    0.164,2,    0.056,2,    0.676,2,   2209.5,2,   2298.4,2,  3.9708
     316N142_3,   A15,    78,  1,      7,      7,2,19940427,1847,-16.6005, -19.0003, 4176,    909.2,   3.8109,  34.4750,2,  34.4775,2,    178.2,2,    180.0,2,    39.38,2,    33.12,2,     0.00,2,     2.29,2, -999.000,9, -999.000,9, -999.000,9,   2213.7,2,   2303.6,2,  3.7441
     316N142_3,   A15,    78,  1,      6,      6,2,19940427,1847,-16.6005, -19.0003, 4176,   1040.6,   3.7579,  34.5754,2,  34.5768,2,    179.4,2,    180.2,2,    39.38,2,    31.98,2,     0.00,2,     2.21,2,    0.034,4,    0.031,2,    0.219,2,   2214.6,2,   2308.0,2,  3.6807
     316N142_3,   A15,    78,  1,      5,      5,2,19940427,1847,-16.6005, -19.0003, 4176,   1171.3,   3.8116,  34.6845,2,  34.6835,2,    186.5,2,    186.6,2,    36.24,2,    30.04,2,     0.00,2,     2.07,2, -999.000,9, -999.000,9, -999.000,9,   2209.0,2,   2309.4,2,  3.7228
     316N142_3,   A15,    78,  1,      4,      4,2,19940427,1847,-16.6005, -19.0003, 4176,   1303.1,   3.8049,  34.7694,2,  34.7708,2,    197.4,2,    197.3,2,    32.97,2,    27.72,2,     0.00,2,     1.92,2, -999.000,9, -999.000,9, -999.000,9,   -999.0,9,   -999.0,9,  3.7047
     316N142_3,   A15,    78,  1,      3,      3,2,19940427,1847,-16.6005, -19.0003, 4176,   1434.3,   3.7447,  34.8395,2,  34.8407,2,    211.5,2,    211.8,2,    29.84,2,    25.36,2,     0.00,2,     1.77,2, -999.000,9, -999.000,9, -999.000,9,   2186.4,2,   2314.3,2,  3.6335
     316N142_3,   A15,    78,  1,      2,      2,2,19940427,1847,-16.6005, -19.0003, 4176,   1565.8,   3.5688,  34.8731,2,  34.8729,2,    222.3,2,    222.5,2,    29.69,2,    23.95,2,     0.00,2,     1.67,2, -999.000,9,    0.009,2,    0.080,2,   -999.0,9,   -999.0,9,  3.4479
     316N142_3,   A15,    78,  1,      1,      1,2,19940427,1847,-16.6005, -19.0003, 4176,   1698.4,   3.4486,  34.9073,2,  34.9104,2,    234.5,2,    234.4,2,    28.41,2,    22.35,2,     0.00,2,     1.57,2, -999.000,9,    0.009,2,    0.210,2,   2180.4,2,   2316.9,2,  3.3172
     316N142_3,   A15,    78,  1,     39,     39,2,19940427,1847,-16.6005, -19.0003, 4176,   1783.3,   3.3678,  34.9209,2,  34.9200,2,    236.8,2,    239.5,2,    28.12,2,    21.65,2,     0.00,2,     1.51,2, -999.000,9,    0.012,2,    0.172,2,   -999.0,9,   -999.0,9,  3.2298
     316N142_3,   A15,    78,  1,     35,     35,2,19940427,1847,-16.6005, -19.0003, 4176,   1869.3,   3.2997,  34.9249,2,  34.9248,2,    241.5,2,    243.0,2,    28.12,2,    21.28,2,     0.00,2,     1.48,2, -999.000,9, -999.000,9, -999.000,9,   2175.7,2,   2324.3,2,  3.1547
     316N142_3,   A15,    78,  1,     38,     38,2,19940427,1847,-16.6005, -19.0003, 4176,   1996.8,   3.0960,  34.9115,2,  34.9116,2,    242.5,2,    241.4,2,    32.10,2,    21.76,2,     0.00,2,     1.52,2, -999.000,9,    0.007,2,    0.144,2,   -999.0,9,   -999.0,9,  2.9424
     316N142_3,   A15,    78,  1,     33,     33,2,19940427,1847,-16.6005, -19.0003, 4176,   2121.7,   2.9916,  34.9077,2,  34.9079,2,    242.7,2,    241.7,2,    34.10,2,    21.86,2,     0.00,2,     1.52,2, -999.000,9, -999.000,9, -999.000,9,   2180.0,2,   2329.9,2,  2.8281
     316N142_3,   A15,    78,  1,     41,     41,2,19940427,1847,-16.6005, -19.0003, 4176,   2274.8,   2.8965,  34.9054,2,  34.9065,2,    242.4,2,    242.4,2,    36.10,2,    21.87,2,     0.00,2,     1.53,2, -999.000,9, -999.000,9, -999.000,9,   -999.0,9,   -999.0,9,  2.7202
     316N142_3,   A15,    78,  1,     31,     31,2,19940427,1847,-16.6005, -19.0003, 4176,   2426.6,   2.8113,  34.9000,2,  34.8998,2,    242.8,2,    241.8,2,    38.39,2,    22.11,2,     0.00,2,     1.54,2, -999.000,9,    0.023,2,    0.000,2,   2183.4,2,   2334.2,2,  2.6221
     316N142_3,   A15,    78,  1,     37,     37,2,19940427,1847,-16.6005, -19.0003, 4176,   2580.3,   2.7675,  34.8979,2,  34.8982,2,    240.7,2,    241.8,2,    39.54,2,    22.12,2,     0.00,2,     1.55,2, -999.000,9, -999.000,9, -999.000,9,   -999.0,9,   -999.0,9,  2.5642
     316N142_3,   A15,    78,  1,     29,     29,2,19940427,1847,-16.6005, -19.0003, 4176,   2731.0,   2.7323,  34.8989,2,  34.9000,2,    243.3,2,    243.1,2,    39.82,2,    22.03,2,     0.00,2,     1.54,2, -999.000,9,    0.012,2,    0.023,2,   2185.4,2,   2334.9,2,  2.5148
     316N142_3,   A15,    78,  1,     28,     28,2,19940427,1847,-16.6005, -19.0003, 4176,   2883.7,   2.6901,  34.8979,2,  34.8978,2,    242.8,2,    243.2,2,    41.26,2,    22.18,2,     0.00,2,     1.54,2, -999.000,9, -999.000,9, -999.000,9,   -999.0,9,   -999.0,9,  2.4581
     316N142_3,   A15,    78,  1,     27,     27,2,19940427,1847,-16.6005, -19.0003, 4176,   3035.5,   2.6323,  34.8938,2,  34.8935,2,    242.9,2,    243.8,2,    43.13,2,    22.43,2,     0.00,2,     1.56,2, -999.000,9,    0.012,2, -999.000,9,   2188.0,2,   2339.3,2,  2.3861
     316N142_3,   A15,    78,  1,     26,     26,2,19940427,1847,-16.6005, -19.0003, 4176,   3189.9,   2.5489,  34.8889,2,  34.8894,2,    243.7,2,    243.1,2,    45.72,2,    22.67,2,     0.00,2,     1.58,2, -999.000,9, -999.000,9, -999.000,9,   -999.0,9,   -999.0,9,  2.2885
     316N142_3,   A15,    78,  1,     25,     25,2,19940427,1847,-16.6005, -19.0003, 4176,   3341.2,   2.4803,  34.8826,2,  34.8827,2,    242.0,2,    245.8,4,    48.32,2,    22.97,2,     0.00,2,     1.60,2, -999.000,9,    0.004,2,    0.032,2,   2192.9,2,   2342.3,2,  2.2056
     316N142_3,   A15,    78,  1,     24,     24,2,19940427,1847,-16.6005, -19.0003, 4176,   3497.0,   2.3730,  34.8752,2,  34.8758,2,    242.8,2,    243.0,2,    50.93,2,    23.16,2,     0.00,2,     1.62,2, -999.000,9, -999.000,9, -999.000,9,   -999.0,9,   -999.0,9,  2.0842
     316N142_3,   A15,    78,  1,     23,     23,2,19940427,1847,-16.6005, -19.0003, 4176,   3649.0,   2.1947,  34.8591,2,  34.8597,2,    241.3,2,    241.6,2,    56.59,2,    23.84,2,     0.00,2,     1.66,2, -999.000,9, -999.000,9, -999.000,9,   2200.1,2,   2344.7,2,  1.8941
     316N142_3,   A15,    78,  1,     22,     22,2,19940427,1847,-16.6005, -19.0003, 4176,   3802.0,   2.0242,  34.8431,2,  34.8433,2,    239.8,2,    240.4,2,    62.57,2,    24.56,2,     0.00,2,     1.71,2, -999.000,9,    0.000,2,    0.004,2,   -999.0,9,   -999.0,9,  1.7115
     316N142_3,   A15,    78,  1,     21,     21,2,19940427,1847,-16.6005, -19.0003, 4176,   3957.7,   1.7699,  34.8187,2,  34.8193,2,    238.2,2,    237.8,2,    71.37,2,    25.71,2,     0.00,2,     1.80,2, -999.000,9, -999.000,9, -999.000,9,   2214.2,2,   2369.2,2,  1.4472
     316N142_3,   A15,    78,  1,     20,     20,2,19940427,1847,-16.6005, -19.0003, 4176,   4110.0,   1.5273,  34.7952,2,  34.7955,2,    235.1,2,    235.1,2,    80.84,2,    26.91,2,     0.00,2,     1.89,2, -999.000,9, -999.000,9, -999.000,9,   -999.0,9,   -999.0,9,  1.1948
     316N142_3,   A15,    78,  1,     19,     19,2,19940427,1847,-16.6005, -19.0003, 4176,   4255.3,   1.4176,  34.7836,2,  34.7845,2,    234.5,2,    233.8,2,    85.02,2,    27.49,2,     0.00,2,     1.93,2, -999.000,9,    0.008,2,    0.050,2,   2227.7,2,   2367.3,2,  1.0723