BOTTLE,20020814WHPSIOKJU
EXPOCODE,SECT_ID,STNNBR,CASTNO,SAMPNO,BTLNBR,BTLNBR_FLAG_W,DATE,TIME,LATITUDE,LONGITUDE,DEPTH,CTDPRS,CTDTMP,CTDSAL,CTDSAL_FLAG_W,SALNTY,SALNTY_FLAG_W,CTDOXY,CTDOXY_FLAG_W,OXYGEN,OXYGEN_FLAG_W,SILCAT,SILCAT_FLAG_W,NITRAT,NITRAT_FLAG_W,NITRIT,NITRIT_FLAG_W,PHSPHT,PHSPHT_FLAG_W,CFC-11,CFC-11_FLAG_W,CFC-12,CFC-12_FLAG_W,CCL4,CCL4_FLAG_W,TCARBN,TCARBN_FLAG_W,ALKALI,ALKALI_FLAG_W,THETA
,,,,,,,,,,,,DBAR,ITS-90,PSS-78,,PSS-78,,UMOL/KG,,UMOL/KG,,UMOL/KG,,UMOL/KG,,UMOL/KG,,UMOL/KG,,PMOL/KG,,PMOL/KG,,PMOL/KG,,UMOL/KG,,UMOL/KG,,DEG C
     316N142_3,   A15,    41,  1,     39,     39,2,19940417,1114,  1.0007, -19.0042, 4279,      8.6,  29.3481,  34.9291,2,  34.8949,2,    205.9,2,    206.8,2,     1.50,2,     0.13,2,     0.00,2,     0.03,2,    1.537,2,    0.937,9, -999.000,9,   1918.5,2,   2277.7,2, 29.3460
     316N142_3,   A15,    41,  1,     42,     42,3,19940417,1114,  1.0007, -19.0042, 4279,     50.6,  25.2584,  36.1122,2,  35.5796,4,    207.1,2,    170.2,4,    10.87,4,    12.00,4,     0.04,4,     0.89,4,    1.119,3,    0.659,3,    0.508,3,   2121.9,2,   2337.9,2, 25.2473
     316N142_3,   A15,    41,  1,     38,     38,2,19940417,1114,  1.0007, -19.0042, 4279,    100.5,  16.2648,  35.6610,2,  35.6587,2,    120.7,2,    118.2,2,     6.70,2,    17.11,2,     0.04,2,     1.21,2, -999.000,9, -999.000,9, -999.000,9,   2157.9,2,   2333.4,2, 16.2487
     316N142_3,   A15,    41,  1,     33,     33,2,19940417,1114,  1.0007, -19.0042, 4279,    156.2,  13.5866,  35.3536,2,  35.3573,2,    129.3,2,    130.1,2,     8.21,2,    18.92,2,     0.01,2,     1.32,2, -999.000,9, -999.000,9, -999.000,9,   2158.2,2,   2320.4,2, 13.5645
     316N142_3,   A15,    41,  1,     41,     41,2,19940417,1114,  1.0007, -19.0042, 4279,    245.1,  12.6630,  35.2331,2,  35.2335,2,    117.3,2,    118.6,2,     9.62,2,    21.87,2,     0.01,2,     1.51,2, -999.000,9, -999.000,9, -999.000,9,   2173.7,2,   2312.2,2, 12.6297
     316N142_3,   A15,    41,  1,     31,     31,2,19940417,1114,  1.0007, -19.0042, 4279,    336.2,  10.0294,  34.9396,2,  34.9368,2,     87.0,2,     86.0,2,    14.85,2,    30.31,2,     0.00,2,     1.98,2,    0.559,2,    0.291,2,    0.215,2,   2211.6,2,   2298.3,2,  9.9901
     316N142_3,   A15,    41,  1,     37,     37,2,19940417,1114,  1.0007, -19.0042, 4279,    427.2,   8.1869,  34.7357,2,  34.7433,2,    108.9,2,    107.4,2,    18.00,2,    31.77,2,     0.00,2,     2.10,2, -999.000,9, -999.000,9, -999.000,9,   2208.7,2,   2294.0,2,  8.1426
     316N142_3,   A15,    41,  1,     29,     29,2,19940417,1114,  1.0007, -19.0042, 4279,    528.0,   6.9255,  34.6117,2,  34.6103,2,    125.4,2,    127.6,2,    21.48,2,    32.55,2,     0.00,2,     2.18,2,    0.308,2,    0.163,2,    0.366,2,   2207.6,2,   2291.5,2,  6.8755
     316N142_3,   A15,    41,  1,     28,     28,2,19940417,1114,  1.0007, -19.0042, 4279,    637.8,   5.6455,  34.5197,2,  34.5191,2,    140.4,2,    141.1,2,    26.60,2,    33.69,2,     0.00,2,     2.29,2, -999.000,9, -999.000,9, -999.000,9,   2210.4,2,   2292.1,2,  5.5909
     316N142_3,   A15,    41,  1,     27,     27,2,19940417,1114,  1.0007, -19.0042, 4279,    759.9,   5.1036,  34.5035,2,  34.5034,2,    144.9,2,    144.3,2,    29.75,2,    34.29,2,     0.00,2,     2.35,2,    0.090,4,    0.046,2,    0.234,2,   -999.0,9,   -999.0,9,  5.0411
     316N142_3,   A15,    41,  1,     26,     26,2,19940417,1114,  1.0007, -19.0042, 4279,    859.4,   4.7778,  34.5162,2,  34.5162,2,    151.6,2,    152.0,2,    31.59,2,    33.79,2,     0.00,2,     2.33,2, -999.000,9, -999.000,9, -999.000,9,   -999.0,9,   -999.0,9,  4.7085
     316N142_3,   A15,    41,  1,     25,     25,2,19940417,1114,  1.0007, -19.0042, 4279,   1011.2,   4.5446,  34.6790,2,  34.6787,2,    158.5,2,    161.1,2,    30.80,2,    31.57,2,     0.00,2,     2.18,2,    0.000,4,    0.014,2,    0.000,2,   -999.0,9,   -999.0,9,  4.4635
     316N142_3,   A15,    41,  1,     24,     24,2,19940417,1114,  1.0007, -19.0042, 4279,   1162.7,   4.4879,  34.7763,2,  34.7771,2,    175.8,2,    175.4,2,    28.05,2,    29.03,2,     0.00,2,     2.00,2, -999.000,9, -999.000,9, -999.000,9,   -999.0,9,   -999.0,9,  4.3937
     316N142_3,   A15,    41,  1,     23,     23,2,19940417,1114,  1.0007, -19.0042, 4279,   1314.6,   4.5138,  34.8682,2,  34.8757,2,    196.8,2,    198.6,2,    23.77,2,    25.81,2,     0.00,2,     1.78,2,    0.012,4,    0.038,2,    0.220,2,   -999.0,9,   -999.0,9,  4.4054
     316N142_3,   A15,    41,  1,     22,     22,2,19940417,1114,  1.0007, -19.0042, 4279,   1466.7,   4.2988,  34.9554,2,  34.9591,2,    226.9,2,    226.3,2,    19.49,2,    21.91,2,     0.00,2,     1.50,2, -999.000,9,    0.051,2,    0.300,2,   -999.0,9,   -999.0,9,  4.1784
     316N142_3,   A15,    41,  1,     21,     21,2,19940417,1114,  1.0007, -19.0042, 4279,   1618.6,   4.0788,  34.9724,2,  34.9736,2,    239.6,2,    238.8,2,    18.60,2,    20.60,2,     0.00,2,     1.41,2, -999.000,9,    0.068,2,    0.363,2,   -999.0,9,   -999.0,9,  3.9467
     316N142_3,   A15,    41,  1,     20,     20,2,19940417,1114,  1.0007, -19.0042, 4279,   1719.4,   3.8928,  34.9748,2,  34.9764,2,    245.7,2,    245.4,2,    18.69,2,    19.97,2,     0.00,2,     1.37,2, -999.000,9,    0.049,2,    0.387,2,   -999.0,9,   -999.0,9,  3.7536
     316N142_3,   A15,    41,  1,     19,     19,2,19940417,1114,  1.0007, -19.0042, 4279,   1821.0,   3.6560,  34.9750,2,  34.9764,2,    253.1,2,    253.6,2,    19.11,2,    19.24,2,     0.00,2,     1.32,2, -999.000,9,    0.047,2,    0.605,2,   -999.0,9,   -999.0,9,  3.5105
     316N142_3,   A15,    41,  1,     40,     40,2,19940417,1114,  1.0007, -19.0042, 4279,   1922.4,   3.5349,  34.9647,2,  34.9663,2,    252.3,2,    251.1,2,    21.50,2,    19.74,2,     0.00,2,     1.36,2, -999.000,9,    0.019,2,    0.224,2,   -999.0,9,   -999.0,9,  3.3816
     316N142_3,   A15,    41,  1,     17,     17,2,19940417,1114,  1.0007, -19.0042, 4279,   2023.3,   3.4937,  34.9624,2,  34.9640,2,    252.5,2,    251.2,2,    22.02,2,    19.79,2,     0.00,2,     1.36,2, -999.000,9, -999.000,9, -999.000,9,   -999.0,9,   -999.0,9,  3.3315
     316N142_3,   A15,    41,  1,     16,     16,2,19940417,1114,  1.0007, -19.0042, 4279,   2124.7,   3.3418,  34.9548,2,  34.9557,2,    251.7,2,    251.0,2,    24.19,2,    19.98,2,     0.00,2,     1.37,2, -999.000,9,    0.031,2,    0.129,2,   -999.0,9,   -999.0,9,  3.1723
     316N142_3,   A15,    41,  1,     15,     15,2,19940417,1114,  1.0007, -19.0042, 4279,   2326.6,   3.1752,  34.9448,2,  34.9457,2,    250.8,2,    250.6,2,    27.01,2,    20.25,2,     0.00,2,     1.40,2, -999.000,9, -999.000,9, -999.000,9,   -999.0,9,   -999.0,9,  2.9891
     316N142_3,   A15,    41,  1,     14,     14,2,19940417,1114,  1.0007, -19.0042, 4279,   2528.1,   2.9233,  34.9301,2,  34.9301,2,    248.2,2,    248.6,2,    32.02,2,    20.76,2,     0.00,2,     1.44,2, -999.000,9, -999.000,9, -999.000,9,   -999.0,9,   -999.0,9,  2.7220
     316N142_3,   A15,    41,  1,     13,     13,2,19940417,1114,  1.0007, -19.0042, 4279,   2731.8,   2.7775,  34.9203,2,  34.9205,2,    246.9,2,    247.5,2,    35.38,2,    21.12,2,     0.00,2,     1.46,2, -999.000,9,    0.030,2,    0.045,2,   -999.0,9,   -999.0,9,  2.5590
     316N142_3,   A15,    41,  1,     12,     12,2,19940417,1114,  1.0007, -19.0042, 4279,   2935.8,   2.6972,  34.9144,2,  34.9152,2,    246.5,2,    247.8,2,    37.22,2,    21.31,2,     0.00,2,     1.47,2, -999.000,9, -999.000,9, -999.000,9,   -999.0,9,   -999.0,9,  2.4597
     316N142_3,   A15,    41,  1,     11,     11,2,19940417,1114,  1.0007, -19.0042, 4279,   3139.1,   2.6162,  34.9099,2,  34.9105,2,    247.5,2,    247.3,2,    38.62,2,    21.40,2,     0.00,2,     1.47,2, -999.000,9, -999.000,9, -999.000,9,   -999.0,9,   -999.0,9,  2.3595
     316N142_3,   A15,    41,  1,     10,     10,2,19940417,1114,  1.0007, -19.0042, 4279,   3343.5,   2.5060,  34.9030,2,  34.9028,2,    248.0,2,    248.0,2,    40.46,2,    21.45,2,     0.00,2,     1.48,2, -999.000,9,    0.019,2,    0.050,2,   -999.0,9,   -999.0,9,  2.2303
     316N142_3,   A15,    41,  1,      9,      9,2,19940417,1114,  1.0007, -19.0042, 4279,   3546.4,   2.4348,  34.8987,2,  34.8985,2,    251.0,2,    252.0,2,    40.00,2,    21.09,2,     0.00,2,     1.46,2, -999.000,9, -999.000,9, -999.000,9,   -999.0,9,   -999.0,9,  2.1390
     316N142_3,   A15,    41,  1,      8,      8,2,19940417,1114,  1.0007, -19.0042, 4279,   3648.4,   2.4331,  34.8977,2,  34.8979,2,    250.2,2,    251.1,2,    40.96,2,    21.23,2,     0.00,2,     1.46,2, -999.000,9, -999.000,9, -999.000,9,   -999.0,9,   -999.0,9,  2.1262
     316N142_3,   A15,    41,  1,      7,      7,2,19940417,1114,  1.0007, -19.0042, 4279,   3751.2,   2.4202,  34.8960,2,  34.8963,2,    250.6,2,    250.6,2,    41.38,2,    21.28,2,     0.00,2,     1.47,2, -999.000,9, -999.000,9, -999.000,9,   -999.0,9,   -999.0,9,  2.1023
     316N142_3,   A15,    41,  1,      6,      6,2,19940417,1114,  1.0007, -19.0042, 4279,   3853.0,   2.4077,  34.8944,2,  34.8943,2,    250.7,2,    250.5,2,    41.80,2,    21.33,2,     0.00,2,     1.47,2, -999.000,9,    0.045,4,    0.174,4,   -999.0,9,   -999.0,9,  2.0788
     316N142_3,   A15,    41,  1,      5,      5,2,19940417,1114,  1.0007, -19.0042, 4279,   3955.3,   2.3840,  34.8920,2,  34.8924,2,    250.3,2,    250.8,2,    42.33,2,    21.33,2,     0.00,2,     1.47,2, -999.000,9, -999.000,9, -999.000,9,   -999.0,9,   -999.0,9,  2.0442
     316N142_3,   A15,    41,  1,      4,      4,2,19940417,1114,  1.0007, -19.0042, 4279,   4107.4,   2.3550,  34.8888,2,  34.8882,2,    252.1,2,    251.8,2,    42.64,2,    21.29,2,     0.00,2,     1.47,2, -999.000,9,    0.031,2,    0.124,2,   -999.0,9,   -999.0,9,  1.9986
     316N142_3,   A15,    41,  1,      3,      3,2,19940417,1114,  1.0007, -19.0042, 4279,   4261.5,   2.3464,  34.8867,2,  34.8859,2,    251.5,2,    251.3,2,    43.82,2,    21.47,2,     0.00,2,     1.49,2, -999.000,9,    0.030,2,    0.200,2,   -999.0,9,   -999.0,9,  1.9722
     316N142_3,   A15,    41,  1,      2,      2,2,19940417,1114,  1.0007, -19.0042, 4279,   4415.1,   2.3111,  34.8817,2,  34.8808,2,    249.1,2,    249.4,2,    46.08,2,    21.79,2,     0.00,2,     1.51,2, -999.000,9, -999.000,9, -999.000,9,   -999.0,9,   -999.0,9,  1.9198
     316N142_3,   A15,    41,  1,      1,      1,2,19940417,1114,  1.0007, -19.0042, 4279,   4522.4,   2.2511,  34.8740,2,  34.8751,2,    250.0,2,    249.4,2,    48.02,2,    22.07,2,     0.00,2,     1.53,2, -999.000,9,    0.027,2,    0.170,2,   -999.0,9,   -999.0,9,  1.8489