BOTTLE,20020814WHPSIOKJU
EXPOCODE,SECT_ID,STNNBR,CASTNO,SAMPNO,BTLNBR,BTLNBR_FLAG_W,DATE,TIME,LATITUDE,LONGITUDE,DEPTH,CTDPRS,CTDTMP,CTDSAL,CTDSAL_FLAG_W,SALNTY,SALNTY_FLAG_W,CTDOXY,CTDOXY_FLAG_W,OXYGEN,OXYGEN_FLAG_W,SILCAT,SILCAT_FLAG_W,NITRAT,NITRAT_FLAG_W,NITRIT,NITRIT_FLAG_W,PHSPHT,PHSPHT_FLAG_W,CFC-11,CFC-11_FLAG_W,CFC-12,CFC-12_FLAG_W,CCL4,CCL4_FLAG_W,TCARBN,TCARBN_FLAG_W,ALKALI,ALKALI_FLAG_W,THETA
,,,,,,,,,,,,DBAR,ITS-90,PSS-78,,PSS-78,,UMOL/KG,,UMOL/KG,,UMOL/KG,,UMOL/KG,,UMOL/KG,,UMOL/KG,,PMOL/KG,,PMOL/KG,,PMOL/KG,,UMOL/KG,,UMOL/KG,,DEG C
     316N142_3,  AR15,   149,  1,     39,     39,2,19940519,0610,-18.7185, -37.0085, 3586,     10.1,  27.2192,  37.4162,2,  37.4164,2,    198.2,2,    199.8,2,     1.93,2,     0.05,2,     0.00,2,     0.12,2, -999.000,9, -999.000,9, -999.000,9,   -999.0,9,   -999.0,9, 27.2169
     316N142_3,  AR15,   149,  1,     35,     35,2,19940519,0610,-18.7185, -37.0085, 3586,     88.5,  25.5863,  37.1718,2,  37.1698,2,    216.5,2,    216.3,2,     1.76,2,     0.00,2,     0.00,2,     0.11,2, -999.000,9, -999.000,9, -999.000,9,   -999.0,9,   -999.0,9, 25.5666
     316N142_3,  AR15,   149,  1,     38,     38,2,19940519,0610,-18.7185, -37.0085, 3586,    153.3,  21.9842,  36.6696,2,  36.6791,2,    213.8,2,    204.8,2,     1.75,2,     0.13,2,     0.13,2,     0.17,2, -999.000,9, -999.000,9, -999.000,9,   -999.0,9,   -999.0,9, 21.9537
     316N142_3,  AR15,   149,  1,     33,     33,9,19940519,0610,-18.7185, -37.0085, 3586,    233.4,  17.8142,  35.9074,2,-999.0000,9,    202.1,2,   -999.0,9,  -999.00,9,  -999.00,9,  -999.00,9,  -999.00,9, -999.000,9, -999.000,9, -999.000,9,   -999.0,9,   -999.0,9, 17.7741
     316N142_3,  AR15,   149,  1,     41,     41,2,19940519,0610,-18.7185, -37.0085, 3586,    333.5,  13.7368,  35.2665,2,  35.2662,2,    199.3,2,    194.6,2,     4.56,2,    10.00,2,     0.00,2,     0.77,2, -999.000,9, -999.000,9, -999.000,9,   -999.0,9,   -999.0,9, 13.6889
     316N142_3,  AR15,   149,  1,     31,     31,2,19940519,0610,-18.7185, -37.0085, 3586,    443.7,  10.8661,  34.9160,2,  34.9092,2,    191.3,2,    187.9,2,     8.16,2,    17.14,2,     0.00,2,     1.21,2, -999.000,9, -999.000,9, -999.000,9,   -999.0,9,   -999.0,9, 10.8113
     316N142_3,  AR15,   149,  1,     37,     37,2,19940519,0610,-18.7185, -37.0085, 3586,    554.6,   7.9461,  34.6053,2,  34.6068,2,    187.4,2,    186.9,2,    13.96,2,    23.92,2,     0.00,2,     1.65,2, -999.000,9, -999.000,9, -999.000,9,   -999.0,9,   -999.0,9,  7.8892
     316N142_3,  AR15,   149,  1,     29,     29,2,19940519,0610,-18.7185, -37.0085, 3586,    666.3,   5.5375,  34.4128,2,  34.4095,2,    193.8,2,    195.3,2,    22.44,2,    28.77,2,     0.00,2,     1.99,2, -999.000,9, -999.000,9, -999.000,9,   -999.0,9,   -999.0,9,  5.4810
     316N142_3,  AR15,   149,  1,     28,     28,2,19940519,0610,-18.7185, -37.0085, 3586,    766.5,   4.5066,  34.3658,2,  34.3652,2,    198.9,2,    199.5,2,    29.04,2,    30.39,2,     0.00,2,     2.11,2, -999.000,9, -999.000,9, -999.000,9,   -999.0,9,   -999.0,9,  4.4471
     316N142_3,  AR15,   149,  1,     27,     27,2,19940519,0610,-18.7185, -37.0085, 3586,    866.2,   4.0209,  34.3802,2,  34.3786,2,    193.3,2,    197.0,2,    34.71,2,    31.27,2,     0.00,2,     2.18,2, -999.000,9, -999.000,9, -999.000,9,   -999.0,9,   -999.0,9,  3.9562
     316N142_3,  AR15,   149,  1,     26,     26,2,19940519,0610,-18.7185, -37.0085, 3586,    962.2,   3.7645,  34.4188,2,  34.4183,2,    187.7,2,    190.4,2,    39.44,2,    31.90,2,     0.00,2,     2.22,2, -999.000,9, -999.000,9, -999.000,9,   -999.0,9,   -999.0,9,  3.6939
     316N142_3,  AR15,   149,  1,     25,     25,2,19940519,0610,-18.7185, -37.0085, 3586,   1063.5,   3.5673,  34.4783,2,  34.4777,2,    184.9,2,    187.9,2,    42.90,2,    31.74,2,     0.00,2,     2.22,2, -999.000,9, -999.000,9, -999.000,9,   -999.0,9,   -999.0,9,  3.4899
     316N142_3,  AR15,   149,  1,     24,     24,2,19940519,0610,-18.7185, -37.0085, 3586,   1159.6,   3.7584,  34.5692,2,  34.5701,2,    180.6,2,    182.3,2,    39.25,2,    31.06,2,     0.00,2,     2.16,2, -999.000,9, -999.000,9, -999.000,9,   -999.0,9,   -999.0,9,  3.6713
     316N142_3,  AR15,   149,  1,     23,     23,2,19940519,0610,-18.7185, -37.0085, 3586,   1250.3,   3.9046,  34.6392,2,  34.6383,2,    182.4,2,    182.0,2,    36.23,2,    30.17,2,     0.00,2,     2.10,2, -999.000,9, -999.000,9, -999.000,9,   -999.0,9,   -999.0,9,  3.8083
     316N142_3,  AR15,   149,  1,     22,     22,2,19940519,0610,-18.7185, -37.0085, 3586,   1340.6,   4.0506,  34.7132,2,  34.7127,2,    185.7,2,    185.0,2,    32.58,2,    28.92,2,     0.00,2,     2.00,2, -999.000,9, -999.000,9, -999.000,9,   -999.0,9,   -999.0,9,  3.9447
     316N142_3,  AR15,   149,  1,     21,     21,2,19940519,0610,-18.7185, -37.0085, 3586,   1429.4,   4.1221,  34.7780,2,  34.7781,2,    193.6,2,    192.6,2,    30.05,2,    27.35,2,     0.00,2,     1.88,2, -999.000,9, -999.000,9, -999.000,9,   -999.0,9,   -999.0,9,  4.0074
     316N142_3,  AR15,   149,  1,     20,     20,2,19940519,0610,-18.7185, -37.0085, 3586,   1530.9,   4.2399,  34.8595,2,  34.8592,2,    203.9,2,    203.7,2,    25.46,2,    25.22,2,     0.00,2,     1.72,2, -999.000,9, -999.000,9, -999.000,9,   -999.0,9,   -999.0,9,  4.1143
     316N142_3,  AR15,   149,  1,     19,     19,2,19940519,0610,-18.7185, -37.0085, 3586,   1641.5,   4.1262,  34.9184,2,  34.9191,2,    222.9,2,    221.6,2,    22.46,2,    22.82,2,     0.00,2,     1.55,2, -999.000,9, -999.000,9, -999.000,9,   -999.0,9,   -999.0,9,  3.9916
     316N142_3,  AR15,   149,  1,     40,     40,2,19940519,0610,-18.7185, -37.0085, 3586,   1752.7,   3.9135,  34.9577,2,  34.9591,2,    239.9,2,    239.1,2,    20.40,2,    20.68,2,     0.00,2,     1.40,2, -999.000,9, -999.000,9, -999.000,9,   -999.0,9,   -999.0,9,  3.7710
     316N142_3,  AR15,   149,  1,     17,     17,2,19940519,0610,-18.7185, -37.0085, 3586,   1862.9,   3.6632,  34.9652,2,  34.9658,2,    248.8,2,    248.6,2,    20.54,2,    19.75,2,     0.00,2,     1.33,2, -999.000,9, -999.000,9, -999.000,9,   -999.0,9,   -999.0,9,  3.5136
     316N142_3,  AR15,   149,  1,     16,     16,2,19940519,0610,-18.7185, -37.0085, 3586,   1973.3,   3.3901,  34.9573,2,  34.9581,2,    252.9,2,    251.6,2,    22.89,2,    19.59,2,     0.00,2,     1.33,2, -999.000,9, -999.000,9, -999.000,9,   -999.0,9,   -999.0,9,  3.2342
     316N142_3,  AR15,   149,  1,     15,     15,2,19940519,0610,-18.7185, -37.0085, 3586,   2084.6,   3.1540,  34.9463,2,  34.9452,2,    252.9,2,    252.2,2,    26.02,2,    19.85,2,     0.00,2,     1.35,2, -999.000,9, -999.000,9, -999.000,9,   -999.0,9,   -999.0,9,  2.9913
     316N142_3,  AR15,   149,  1,     14,     14,2,19940519,0610,-18.7185, -37.0085, 3586,   2196.1,   3.0007,  34.9367,2,  34.9361,2,    251.9,2,    251.6,2,    28.53,2,    20.11,2,     0.00,2,     1.36,2, -999.000,9, -999.000,9, -999.000,9,   -999.0,9,   -999.0,9,  2.8300
     316N142_3,  AR15,   149,  1,     13,     13,2,19940519,0610,-18.7185, -37.0085, 3586,   2308.0,   2.8788,  34.9299,2,  34.9299,2,    250.5,2,    251.4,2,    30.41,2,    20.27,2,     0.00,2,     1.37,2, -999.000,9, -999.000,9, -999.000,9,   -999.0,9,   -999.0,9,  2.6996
     316N142_3,  AR15,   149,  1,     12,     12,2,19940519,0610,-18.7185, -37.0085, 3586,   2420.1,   2.8123,  34.9259,2,  34.9265,2,    251.7,2,    251.1,2,    31.34,2,    20.32,2,     0.00,2,     1.38,2, -999.000,9, -999.000,9, -999.000,9,   -999.0,9,   -999.0,9,  2.6236
     316N142_3,  AR15,   149,  1,     11,     11,2,19940519,0610,-18.7185, -37.0085, 3586,   2532.0,   2.7616,  34.9229,2,  34.9236,2,    251.3,2,    251.9,2,    32.27,2,    20.37,2,     0.00,2,     1.38,2, -999.000,9, -999.000,9, -999.000,9,   -999.0,9,   -999.0,9,  2.5631
     316N142_3,  AR15,   149,  1,     10,     10,2,19940519,0610,-18.7185, -37.0085, 3586,   2644.2,   2.6907,  34.9194,2,  34.9189,2,    252.2,2,    252.4,2,    33.37,2,    20.42,2,     0.00,2,     1.38,2, -999.000,9, -999.000,9, -999.000,9,   -999.0,9,   -999.0,9,  2.4825
     316N142_3,  AR15,   149,  1,      9,      9,2,19940519,0610,-18.7185, -37.0085, 3586,   2756.1,   2.6094,  34.9149,2,  34.9143,2,    253.1,2,    253.3,2,    34.62,2,    20.42,2,     0.00,2,     1.39,2, -999.000,9, -999.000,9, -999.000,9,   -999.0,9,   -999.0,9,  2.3918
     316N142_3,  AR15,   149,  1,      8,      8,2,19940519,0610,-18.7185, -37.0085, 3586,   2868.8,   2.4740,  34.9048,2,  34.9049,2,    253.9,2,    253.4,2,    37.60,2,    20.68,2,     0.00,2,     1.41,2, -999.000,9, -999.000,9, -999.000,9,   -999.0,9,   -999.0,9,  2.2480
     316N142_3,  AR15,   149,  1,      7,      7,2,19940519,0610,-18.7185, -37.0085, 3586,   2981.6,   2.4323,  34.9006,2,  34.9006,2,    253.1,2,    253.1,2,    39.01,2,    20.89,2,     0.00,2,     1.43,2, -999.000,9, -999.000,9, -999.000,9,   -999.0,9,   -999.0,9,  2.1959
     316N142_3,  AR15,   149,  1,      6,      6,2,19940519,0610,-18.7185, -37.0085, 3586,   3093.9,   2.3353,  34.8910,2,  34.8923,2,    252.6,2,    252.4,2,    42.32,2,    21.31,2,     0.00,2,     1.46,2, -999.000,9, -999.000,9, -999.000,9,   -999.0,9,   -999.0,9,  2.0896
     316N142_3,  AR15,   149,  1,      5,      5,2,19940519,0610,-18.7185, -37.0085, 3586,   3206.4,   2.2081,  34.8787,2,  34.8788,2,    250.9,2,    250.8,2,    46.90,2,    21.83,2,     0.00,2,     1.50,2, -999.000,9, -999.000,9, -999.000,9,   -999.0,9,   -999.0,9,  1.9538
     316N142_3,  AR15,   149,  1,      4,      4,2,19940519,0610,-18.7185, -37.0085, 3586,   3318.2,   1.9762,  34.8541,2,  34.8544,2,    246.8,2,    246.6,2,    56.27,2,    23.19,2,     0.00,2,     1.60,2, -999.000,9, -999.000,9, -999.000,9,   -999.0,9,   -999.0,9,  1.7161
     316N142_3,  AR15,   149,  1,      3,      3,2,19940519,0610,-18.7185, -37.0085, 3586,   3430.3,   1.7404,  34.8297,2,  34.8289,2,    243.3,2,    242.1,2,    66.16,2,    24.54,2,     0.00,2,     1.70,2, -999.000,9, -999.000,9, -999.000,9,   -999.0,9,   -999.0,9,  1.4746
     316N142_3,  AR15,   149,  1,      2,      2,2,19940519,0610,-18.7185, -37.0085, 3586,   3542.7,   1.4626,  34.7985,2,  34.7993,2,    238.5,2,    236.9,2,    77.73,2,    26.16,2,     0.00,2,     1.82,2, -999.000,9, -999.000,9, -999.000,9,   -999.0,9,   -999.0,9,  1.1924
     316N142_3,  AR15,   149,  1,      1,      1,2,19940519,0610,-18.7185, -37.0085, 3586,   3637.4,   1.1581,  34.7658,2,  34.7665,2,    230.2,2,    231.1,2,    90.37,2,    27.77,2,     0.00,2,     1.95,2, -999.000,9, -999.000,9, -999.000,9,   -999.0,9,   -999.0,9,  0.8862