BOTTLE,20020814WHPSIOKJU
EXPOCODE,SECT_ID,STNNBR,CASTNO,SAMPNO,BTLNBR,BTLNBR_FLAG_W,DATE,TIME,LATITUDE,LONGITUDE,DEPTH,CTDPRS,CTDTMP,CTDSAL,CTDSAL_FLAG_W,SALNTY,SALNTY_FLAG_W,CTDOXY,CTDOXY_FLAG_W,OXYGEN,OXYGEN_FLAG_W,SILCAT,SILCAT_FLAG_W,NITRAT,NITRAT_FLAG_W,NITRIT,NITRIT_FLAG_W,PHSPHT,PHSPHT_FLAG_W,CFC-11,CFC-11_FLAG_W,CFC-12,CFC-12_FLAG_W,CCL4,CCL4_FLAG_W,TCARBN,TCARBN_FLAG_W,ALKALI,ALKALI_FLAG_W,THETA
,,,,,,,,,,,,DBAR,ITS-90,PSS-78,,PSS-78,,UMOL/KG,,UMOL/KG,,UMOL/KG,,UMOL/KG,,UMOL/KG,,UMOL/KG,,PMOL/KG,,PMOL/KG,,PMOL/KG,,UMOL/KG,,UMOL/KG,,DEG C
     316N142_3,  AR15,   150,  1,     35,     35,4,19940519,1131,-18.7547, -37.2563, 3484,     11.0,  27.2670,  37.4094,2,  37.4090,2,    197.8,2,    199.3,2,     1.97,2,     0.09,2,     0.00,2,     0.06,2,    1.452,8,    1.060,2,    2.026,2,   2066.7,2,   2449.1,2, 27.2645
     316N142_3,  AR15,   150,  1,     38,     38,4,19940519,1131,-18.7547, -37.2563, 3484,     89.8,  23.6314,  36.9759,2,  36.9846,2,    215.1,2,    211.0,2,     2.11,2,     0.04,2,     0.00,2,     0.14,2,    1.978,2,    1.098,2,    1.906,2,   2083.2,2,   2427.3,2, 23.6125
     316N142_3,  AR15,   150,  1,     42,     42,4,19940519,1131,-18.7547, -37.2563, 3484,    155.1,  20.9362,  36.4722,2,  36.4765,2,    205.3,2,   -999.0,5,     2.09,2,     0.58,2,     0.04,2,     0.21,2, -999.000,9, -999.000,9, -999.000,9,   2085.9,2,   2395.1,2, 20.9064
     316N142_3,  AR15,   150,  1,     41,     41,4,19940519,1131,-18.7547, -37.2563, 3484,    240.3,  16.6449,  35.7153,2,  35.7158,2,    202.3,2,    198.1,2,     3.29,2,     4.85,2,     0.01,2,     0.47,2,    2.377,6,    1.288,6,    1.025,6,   2089.9,2,   2346.3,2, 16.6056
     316N142_3,  AR15,   150,  1,     31,     31,4,19940519,1131,-18.7547, -37.2563, 3484,    330.9,  14.0398,  35.3148,2,  35.3162,2,    200.1,2,    198.0,2,     4.64,2,     9.00,2,     0.00,2,     0.72,2, -999.000,9, -999.000,9, -999.000,9,   2105.7,2,   2323.4,2, 13.9915
     316N142_3,  AR15,   150,  1,     37,     37,4,19940519,1131,-18.7547, -37.2563, 3484,    420.7,  11.9126,  35.0435,2,  35.0431,2,    193.7,2,    194.1,2,     6.59,2,    14.03,2,     0.00,2,     1.03,2,    1.912,2,    1.046,2,    0.646,2,   2122.8,2,   2309.7,2, 11.8575
     316N142_3,  AR15,   150,  1,     29,     29,2,19940519,1131,-18.7547, -37.2563, 3484,    626.0,   5.9147,  34.4295,2,  34.4268,2,    194.3,2,    199.1,2,    20.12,2,    27.51,2,     0.00,2,     1.90,2,    0.802,8,    0.534,2,    1.640,2,   2176.0,2,   2292.2,2,  5.8600
     316N142_3,  AR15,   150,  1,     28,     28,2,19940519,1131,-18.7547, -37.2563, 3484,    742.0,   4.5695,  34.3574,2,  34.3573,2,    202.4,2,    205.2,2,    27.43,2,    29.69,2,     0.00,2,     2.07,2,    0.636,2,    0.376,2,    1.947,2,   2184.3,2,   2296.8,2,  4.5117
     316N142_3,  AR15,   150,  1,     27,     27,2,19940519,1131,-18.7547, -37.2563, 3484,    837.3,   4.0257,  34.3842,2,  34.3825,2,    193.3,2,    195.0,2,    34.28,2,    31.19,2,     0.00,2,     2.18,2, -999.000,9, -999.000,9, -999.000,9,   2199.6,2,   2302.9,2,  3.9633
     316N142_3,  AR15,   150,  1,     26,     26,2,19940519,1131,-18.7547, -37.2563, 3484,    938.3,   3.7168,  34.4213,2,  34.4198,2,    189.7,2,    190.8,2,    39.01,2,    31.60,2,     0.00,2,     2.21,2,    0.260,2,    0.125,2,    0.986,2,   2208.2,2,   2307.4,2,  3.6485
     316N142_3,  AR15,   150,  1,     25,     25,2,19940519,1131,-18.7547, -37.2563, 3484,   1038.7,   3.5991,  34.4956,2,  34.4964,2,    186.5,2,    185.9,2,    40.97,2,    31.44,2,     0.00,2,     2.20,2, -999.000,9, -999.000,9, -999.000,9,   2214.3,2,   2313.4,2,  3.5234
     316N142_3,  AR15,   150,  1,     24,     24,2,19940519,1131,-18.7547, -37.2563, 3484,   1118.9,   3.7845,  34.5768,2,  34.5764,2,    183.4,2,    182.0,2,    37.88,2,    30.81,2,     0.00,2,     2.15,2,    0.062,4,    0.037,2,    0.174,2,   -999.0,9,   -999.0,9,  3.7006
     316N142_3,  AR15,   150,  1,     23,     23,2,19940519,1131,-18.7547, -37.2563, 3484,   1204.2,   3.7054,  34.6062,2,  34.6076,2,    186.3,2,    185.7,2,    38.47,2,    30.14,2,     0.00,2,     2.10,2, -999.000,9, -999.000,9, -999.000,9,   2211.3,2,   2315.9,2,  3.6150
     316N142_3,  AR15,   150,  1,     22,     22,2,19940519,1131,-18.7547, -37.2563, 3484,   1289.0,   4.0703,  34.7281,2,  34.7287,2,    186.2,2,    185.6,2,    31.41,2,    28.42,2,     0.00,2,     1.96,2, -999.000,9,    0.019,2,    0.027,2,   -999.0,9,   -999.0,9,  3.9689
     316N142_3,  AR15,   150,  1,     21,     21,2,19940519,1131,-18.7547, -37.2563, 3484,   1389.9,   4.1790,  34.8102,2,  34.8111,2,    192.6,2,    195.5,2,    27.42,2,    26.45,2,     0.00,2,     1.82,2, -999.000,9, -999.000,9, -999.000,9,   2196.1,2,   2315.8,2,  4.0672
     316N142_3,  AR15,   150,  1,     20,     20,2,19940519,1131,-18.7547, -37.2563, 3484,   1485.1,   4.1687,  34.8866,2,  34.8871,2,    209.9,2,    212.2,2,    23.89,2,    23.96,2,     0.00,2,     1.63,2, -999.000,9,    0.025,2,    0.171,2,   -999.0,9,   -999.0,9,  4.0482
     316N142_3,  AR15,   150,  1,     19,     19,2,19940519,1131,-18.7547, -37.2563, 3484,   1585.6,   4.1339,  34.9231,2,  34.9245,2,    222.7,2,    222.4,2,    21.89,2,    22.55,2,     0.00,2,     1.54,2, -999.000,9,    0.022,2,    0.242,2,   2178.3,2,   2315.9,2,  4.0044
     316N142_3,  AR15,   150,  1,     40,     40,2,19940519,1131,-18.7547, -37.2563, 3484,   1686.1,   3.9860,  34.9591,2,  34.9612,2,    237.0,2,    237.2,2,    19.89,2,    20.69,2,     0.00,2,     1.40,2, -999.000,9,    0.040,2,    0.182,2,   -999.0,9,   -999.0,9,  3.8488
     316N142_3,  AR15,   150,  1,     17,     17,2,19940519,1131,-18.7547, -37.2563, 3484,   1786.1,   3.8426,  34.9678,2,  34.9695,2,    244.8,2,    244.8,2,    19.41,2,    19.86,2,     0.00,2,     1.34,2, -999.000,9,    0.043,6,    0.312,6,   2167.1,2,   2318.0,2,  3.6978
     316N142_3,  AR15,   150,  1,     16,     16,2,19940519,1131,-18.7547, -37.2563, 3484,   1896.4,   3.6238,  34.9650,2,  34.9655,2,    248.0,2,    249.2,2,    20.61,2,    19.60,2,     0.00,2,     1.32,2, -999.000,9,    0.039,2,    0.273,2,   -999.0,9,   -999.0,9,  3.4717
     316N142_3,  AR15,   150,  1,     15,     15,2,19940519,1131,-18.7547, -37.2563, 3484,   2011.8,   3.3740,  34.9480,2,  34.9494,2,    249.2,2,    249.2,2,    23.94,2,    19.96,2,     0.00,2,     1.35,2, -999.000,9,    0.016,2,    0.209,2,   2170.5,2,   2320.5,2,  3.2147
     316N142_3,  AR15,   150,  1,     14,     14,2,19940519,1131,-18.7547, -37.2563, 3484,   2123.0,   3.2430,  34.9506,2,  34.9502,2,    253.0,2,    252.1,2,    24.68,2,    19.64,2,     0.00,2,     1.33,2, -999.000,9, -999.000,9, -999.000,9,   -999.0,9,   -999.0,9,  3.0752
     316N142_3,  AR15,   150,  1,     13,     13,2,19940519,1131,-18.7547, -37.2563, 3484,   2233.2,   3.0740,  34.9412,2,  34.9414,2,    252.5,2,    252.0,2,    26.95,2,    19.80,2,     0.00,2,     1.34,2, -999.000,9,    0.020,2,    0.002,2,   2170.8,2,   2323.7,2,  2.8985
     316N142_3,  AR15,   150,  1,     12,     12,2,19940519,1131,-18.7547, -37.2563, 3484,   2343.2,   2.9861,  34.9365,2,  34.9361,2,    252.3,2,    252.0,2,    28.30,2,    19.95,2,     0.00,2,     1.36,2, -999.000,9, -999.000,9, -999.000,9,   -999.0,9,   -999.0,9,  2.8017
     316N142_3,  AR15,   150,  1,     11,     11,2,19940519,1131,-18.7547, -37.2563, 3484,   2453.7,   2.8740,  34.9288,2,  34.9302,2,    251.7,2,    251.2,2,    30.57,2,    20.16,2,     0.00,2,     1.37,2, -999.000,9,    0.020,2,    0.049,2,   2175.7,2,   2325.8,2,  2.6809
     316N142_3,  AR15,   150,  1,     10,     10,2,19940519,1131,-18.7547, -37.2563, 3484,   2565.1,   2.8115,  34.9254,2,  34.9251,2,    251.9,2,    252.1,2,    31.31,2,    20.16,2,     0.00,2,     1.38,2, -999.000,9, -999.000,9, -999.000,9,   -999.0,9,   -999.0,9,  2.6088
     316N142_3,  AR15,   150,  1,      9,      9,2,19940519,1131,-18.7547, -37.2563, 3484,   2677.9,   2.7312,  34.9208,2,  34.9208,2,    251.6,2,    251.9,2,    32.66,2,    20.31,2,     0.00,2,     1.38,2, -999.000,9,    0.011,2,    0.036,2,   2177.2,2,   2328.8,2,  2.5189
     316N142_3,  AR15,   150,  1,      8,      8,2,19940519,1131,-18.7547, -37.2563, 3484,   2790.6,   2.6659,  34.9175,2,  34.9167,2,    252.5,2,    252.8,2,    33.40,2,    20.31,2,     0.00,2,     1.39,2, -999.000,9, -999.000,9, -999.000,9,   -999.0,9,   -999.0,9,  2.4437
     316N142_3,  AR15,   150,  1,      7,      7,2,19940519,1131,-18.7547, -37.2563, 3484,   2903.3,   2.5952,  34.9126,2,  34.9127,2,    253.6,2,    253.5,2,    34.45,2,    20.31,2,     0.00,2,     1.39,2, -999.000,9,    0.030,2,    0.000,2,   2180.1,2,   2330.9,2,  2.3632
     316N142_3,  AR15,   150,  1,      6,      6,2,19940519,1131,-18.7547, -37.2563, 3484,   3015.0,   2.5102,  34.9072,2,  34.9068,2,    253.9,2,    254.0,2,    35.96,2,    20.51,2,     0.00,2,     1.40,2, -999.000,9,    0.011,2,    0.000,2,   -999.0,9,   -999.0,9,  2.2686
     316N142_3,  AR15,   150,  1,      5,      5,2,19940519,1131,-18.7547, -37.2563, 3484,   3127.3,   2.4188,  34.8984,2,  34.9008,2,    253.0,2,    253.3,2,    38.99,2,    20.87,2,     0.00,2,     1.43,2, -999.000,9,    0.016,2,    0.000,2,   2182.9,2,   2332.5,2,  2.1678
     316N142_3,  AR15,   150,  1,      4,      4,2,19940519,1131,-18.7547, -37.2563, 3484,   3239.1,   2.2924,  34.8862,2,  34.8864,2,    252.5,2,    251.8,2,    43.41,2,    21.44,2,     0.00,2,     1.47,2, -999.000,9, -999.000,9, -999.000,9,   -999.0,9,   -999.0,9,  2.0328
     316N142_3,  AR15,   150,  1,      3,      3,2,19940519,1131,-18.7547, -37.2563, 3484,   3340.7,   2.0993,  34.8660,2,  34.8662,2,    250.1,2,    248.6,2,    50.76,2,    22.47,2,     0.00,2,     1.55,2, -999.000,9,    0.006,2,    0.000,2,   2191.0,2,   2338.3,2,  1.8338
     316N142_3,  AR15,   150,  1,      2,      2,2,19940519,1131,-18.7547, -37.2563, 3484,   3442.5,   1.9085,  34.8454,2,  34.8464,2,    247.1,2,    245.2,2,    58.60,2,    23.56,2,     0.00,2,     1.62,2, -999.000,9, -999.000,9, -999.000,9,   -999.0,9,   -999.0,9,  1.6372
     316N142_3,  AR15,   150,  1,      1,      1,2,19940519,1131,-18.7547, -37.2563, 3484,   3530.5,   1.6963,  34.8228,2,  34.8236,2,    240.7,2,    240.8,2,    67.10,2,    24.75,2,     0.00,2,     1.72,2, -999.000,9,    0.006,2,    0.118,2,   2210.3,2,   2347.8,2,  1.4212