BOTTLE,20020814WHPSIOKJU
EXPOCODE,SECT_ID,STNNBR,CASTNO,SAMPNO,BTLNBR,BTLNBR_FLAG_W,DATE,TIME,LATITUDE,LONGITUDE,DEPTH,CTDPRS,CTDTMP,CTDSAL,CTDSAL_FLAG_W,SALNTY,SALNTY_FLAG_W,CTDOXY,CTDOXY_FLAG_W,OXYGEN,OXYGEN_FLAG_W,SILCAT,SILCAT_FLAG_W,NITRAT,NITRAT_FLAG_W,NITRIT,NITRIT_FLAG_W,PHSPHT,PHSPHT_FLAG_W,CFC-11,CFC-11_FLAG_W,CFC-12,CFC-12_FLAG_W,CCL4,CCL4_FLAG_W,TCARBN,TCARBN_FLAG_W,ALKALI,ALKALI_FLAG_W,THETA
,,,,,,,,,,,,DBAR,ITS-90,PSS-78,,PSS-78,,UMOL/KG,,UMOL/KG,,UMOL/KG,,UMOL/KG,,UMOL/KG,,UMOL/KG,,PMOL/KG,,PMOL/KG,,PMOL/KG,,UMOL/KG,,UMOL/KG,,DEG C
     316N142_3,   A15,    56,  1,     39,     39,2,19940421,2035, -5.5005, -18.9995, 4527,      4.8,  28.2241,  35.7518,2,  35.7521,2,    216.3,4,    204.4,2,     1.72,2,     0.23,2,     0.00,2,     0.12,2, -999.000,9, -999.000,9, -999.000,9,   1992.7,2,   2342.8,2, 28.2229
     316N142_3,   A15,    56,  1,     35,     35,2,19940421,2035, -5.5005, -18.9995, 4527,     53.8,  28.2705,  35.7910,2,  35.7889,2,    203.9,2,    205.8,2,     1.57,2,     0.23,2,     0.00,2,     0.12,2, -999.000,9, -999.000,9, -999.000,9,   1995.9,2,   2347.4,2, 28.2577
     316N142_3,   A15,    56,  1,     38,     38,2,19940421,2035, -5.5005, -18.9995, 4527,     79.0,  24.9972,  36.6918,2,  36.6715,2,    224.1,2,    222.8,2,     1.56,2,     0.23,2,     0.00,2,     0.15,2, -999.000,9, -999.000,9, -999.000,9,   2053.5,2,   2404.6,2, 24.9800
     316N142_3,   A15,    56,  1,     33,     33,2,19940421,2035, -5.5005, -18.9995, 4527,    135.2,  15.5674,  35.6400,2,  35.6485,2,    117.8,2,    117.9,2,     6.51,2,    17.35,2,     0.02,2,     1.23,2, -999.000,9, -999.000,9, -999.000,9,   2165.1,2,   2338.1,2, 15.5463
     316N142_3,   A15,    56,  1,     41,     41,2,19940421,2035, -5.5005, -18.9995, 4527,    216.0,  10.5204,  34.9805,2,  34.9804,2,     98.1,2,     91.0,2,    13.39,2,    28.69,2,     0.00,2,     1.86,2, -999.000,9, -999.000,9, -999.000,9,   2205.9,2,   2302.8,2, 10.4945
     316N142_3,   A15,    56,  1,     31,     31,2,19940421,2035, -5.5005, -18.9995, 4527,    295.7,   9.4936,  34.8660,2,  34.8651,2,     85.2,2,     82.7,2,    15.72,2,    31.81,2,     0.00,2,     2.04,2, -999.000,9, -999.000,9, -999.000,9,   2219.2,2,   2298.5,2,  9.4602
     316N142_3,   A15,    56,  1,     37,     37,2,19940421,2035, -5.5005, -18.9995, 4527,    381.9,   8.2661,  34.7449,2,  34.7442,2,     72.7,2,     72.5,2,    19.42,2,    35.53,2,     0.00,2,     2.28,2, -999.000,9, -999.000,9, -999.000,9,   2234.7,2,   2293.8,2,  8.2264
     316N142_3,   A15,    56,  1,     29,     29,2,19940421,2035, -5.5005, -18.9995, 4527,    482.1,   7.0080,  34.6230,2,  34.6228,2,     97.8,2,     98.2,2,    22.29,2,    35.68,2,     0.00,2,     2.33,2, -999.000,9, -999.000,9, -999.000,9,   2229.0,2,   2292.3,2,  6.9621
     316N142_3,   A15,    56,  1,     28,     28,2,19940421,2035, -5.5005, -18.9995, 4527,    586.6,   5.9714,  34.5310,2,  34.5313,2,    127.5,2,    127.9,2,    25.30,2,    34.80,2,     0.00,2,     2.33,2, -999.000,9, -999.000,9, -999.000,9,   2219.8,2,   2292.7,2,  5.9199
     316N142_3,   A15,    56,  1,     27,     27,2,19940421,2035, -5.5005, -18.9995, 4527,    697.9,   5.3887,  34.4959,2,  34.4961,2,    132.3,2,    132.1,2,    28.30,2,    35.37,2,     0.00,2,     2.39,2, -999.000,9, -999.000,9, -999.000,9,   2220.6,2,   2293.6,2,  5.3300
     316N142_3,   A15,    56,  1,     26,     26,2,19940421,2035, -5.5005, -18.9995, 4527,    798.3,   4.7772,  34.4750,2,  34.4759,2,    146.2,2,    145.6,2,    31.85,2,    35.05,2,     0.00,2,     2.39,2, -999.000,9, -999.000,9, -999.000,9,   -999.0,9,   -999.0,9,  4.7132
     316N142_3,   A15,    56,  1,     25,     25,2,19940421,2035, -5.5005, -18.9995, 4527,    909.7,   4.2965,  34.5009,2,  34.5015,2,    156.9,2,    162.2,2,    34.99,2,    34.22,2,     0.00,2,     2.34,2, -999.000,9, -999.000,9, -999.000,9,   -999.0,9,   -999.0,9,  4.2262
     316N142_3,   A15,    56,  1,     24,     24,2,19940421,2035, -5.5005, -18.9995, 4527,   1011.5,   4.0801,  34.5852,2,  34.5840,2,    170.9,2,    168.4,2,    35.65,2,    32.36,2,     0.00,2,     2.24,2, -999.000,9, -999.000,9, -999.000,9,   -999.0,9,   -999.0,9,  4.0027
     316N142_3,   A15,    56,  1,     23,     23,2,19940421,2035, -5.5005, -18.9995, 4527,   1161.9,   4.3084,  34.7740,2,  34.7746,2,    182.6,2,    181.9,2,    28.90,2,    28.70,2,     0.00,2,     1.97,2, -999.000,9, -999.000,9, -999.000,9,   -999.0,9,   -999.0,9,  4.2158
     316N142_3,   A15,    56,  1,     22,     22,9,19940421,2035, -5.5005, -18.9995, 4527,   1313.4,   4.3486,  34.8810,2,-999.0000,9,    204.4,2,   -999.0,9,  -999.00,9,  -999.00,9,  -999.00,9,  -999.00,9, -999.000,9, -999.000,9, -999.000,9,   -999.0,9,   -999.0,9,  4.2419
     316N142_3,   A15,    56,  1,     21,     21,9,19940421,2035, -5.5005, -18.9995, 4527,   1464.6,   4.1956,  34.9381,2,-999.0000,9,    224.0,2,   -999.0,9,  -999.00,9,  -999.00,9,  -999.00,9,  -999.00,9, -999.000,9, -999.000,9, -999.000,9,   -999.0,9,   -999.0,9,  4.0765
     316N142_3,   A15,    56,  1,     20,     20,2,19940421,2035, -5.5005, -18.9995, 4527,   1566.5,   4.0738,  34.9591,2,  34.9611,2,    232.2,2,    233.8,2,    19.96,2,    21.41,2,     0.00,2,     1.45,2, -999.000,9, -999.000,9, -999.000,9,   -999.0,9,   -999.0,9,  3.9467
     316N142_3,   A15,    56,  1,     19,     19,2,19940421,2035, -5.5005, -18.9995, 4527,   1642.7,   3.9313,  34.9601,2,  34.9609,2,    236.7,2,    238.1,2,    20.22,2,    20.99,2,     0.00,2,     1.44,2, -999.000,9, -999.000,9, -999.000,9,   -999.0,9,   -999.0,9,  3.7988
     316N142_3,   A15,    56,  1,     40,     40,2,19940421,2035, -5.5005, -18.9995, 4527,   1793.9,   3.6512,  34.9585,2,  34.9605,2,    246.8,2,    246.0,2,    21.57,2,    20.39,2,     0.00,2,     1.41,2, -999.000,9, -999.000,9, -999.000,9,   -999.0,9,   -999.0,9,  3.5083
     316N142_3,   A15,    56,  1,     17,     17,2,19940421,2035, -5.5005, -18.9995, 4527,   1971.6,   3.4795,  34.9591,2,  34.9582,2,    251.2,2,    250.4,2,    22.37,2,    19.98,2,     0.00,2,     1.39,2, -999.000,9, -999.000,9, -999.000,9,   -999.0,9,   -999.0,9,  3.3224
     316N142_3,   A15,    56,  1,     16,     16,2,19940421,2035, -5.5005, -18.9995, 4527,   2153.0,   3.2115,  34.9420,2,  34.9405,2,    247.8,2,    248.2,2,    27.28,2,    20.54,2,     0.00,2,     1.43,2, -999.000,9, -999.000,9, -999.000,9,   -999.0,9,   -999.0,9,  3.0415
     316N142_3,   A15,    56,  1,     15,     15,2,19940421,2035, -5.5005, -18.9995, 4527,   2326.3,   3.0102,  34.9273,2,  34.9250,2,    243.6,2,    244.8,2,    32.45,2,    21.33,2,     0.00,2,     1.48,2, -999.000,9, -999.000,9, -999.000,9,   -999.0,9,   -999.0,9,  2.8270
     316N142_3,   A15,    56,  1,     14,     14,2,19940421,2035, -5.5005, -18.9995, 4527,   2478.4,   2.8482,  34.9123,2,  34.9104,2,    240.9,2,    241.5,2,    37.22,2,    21.99,2,     0.00,2,     1.53,2, -999.000,9, -999.000,9, -999.000,9,   -999.0,9,   -999.0,9,  2.6533
     316N142_3,   A15,    56,  1,     13,     13,2,19940421,2035, -5.5005, -18.9995, 4527,   2629.8,   2.7570,  34.9093,2,  34.9087,2,    241.6,2,    241.9,2,    38.97,2,    22.04,2,     0.00,2,     1.53,2, -999.000,9, -999.000,9, -999.000,9,   -999.0,9,   -999.0,9,  2.5490
     316N142_3,   A15,    56,  1,     12,     12,2,19940421,2035, -5.5005, -18.9995, 4527,   2782.4,   2.6985,  34.9061,2,  34.9063,2,    243.0,2,    242.5,2,    40.03,2,    22.13,2,     0.00,2,     1.54,2, -999.000,9, -999.000,9, -999.000,9,   -999.0,9,   -999.0,9,  2.4765
     316N142_3,   A15,    56,  1,     11,     11,2,19940421,2035, -5.5005, -18.9995, 4527,   2986.5,   2.6467,  34.9111,2,  34.9107,2,    247.5,2,    248.4,2,    37.55,2,    21.39,2,     0.00,2,     1.49,2, -999.000,9, -999.000,9, -999.000,9,   -999.0,9,   -999.0,9,  2.4051
     316N142_3,   A15,    56,  1,     10,     10,2,19940421,2035, -5.5005, -18.9995, 4527,   3190.1,   2.6073,  34.9166,2,  34.9164,2,    256.9,2,    255.6,2,    33.56,2,    20.28,2,     0.00,2,     1.42,2, -999.000,9, -999.000,9, -999.000,9,   -999.0,9,   -999.0,9,  2.3454
     316N142_3,   A15,    56,  1,      9,      9,2,19940421,2035, -5.5005, -18.9995, 4527,   3394.7,   2.5256,  34.9099,2,  34.9101,2,    256.0,2,    256.1,2,    35.18,2,    20.38,2,     0.00,2,     1.43,2, -999.000,9, -999.000,9, -999.000,9,   -999.0,9,   -999.0,9,  2.2439
     316N142_3,   A15,    56,  1,      8,      8,2,19940421,2035, -5.5005, -18.9995, 4527,   3547.7,   2.4607,  34.9044,2,  34.9048,2,    257.1,2,    256.8,2,    36.52,2,    20.43,2,     0.00,2,     1.48,2, -999.000,9, -999.000,9, -999.000,9,   -999.0,9,   -999.0,9,  2.1641
     316N142_3,   A15,    56,  1,      7,      7,2,19940421,2035, -5.5005, -18.9995, 4527,   3700.3,   2.3444,  34.8907,2,  34.8905,2,    254.3,2,    252.8,2,    42.07,2,    21.22,2,     0.00,2,     1.49,2, -999.000,9, -999.000,9, -999.000,9,   -999.0,9,   -999.0,9,  2.0341
     316N142_3,   A15,    56,  1,      6,      6,2,19940421,2035, -5.5005, -18.9995, 4527,   3852.0,   2.2568,  34.8828,2,  34.8822,2,    252.2,2,    253.7,2,    44.50,2,    21.50,2,     0.00,2,     1.51,2, -999.000,9, -999.000,9, -999.000,9,   -999.0,9,   -999.0,9,  1.9321
     316N142_3,   A15,    56,  1,      5,      5,2,19940421,2035, -5.5005, -18.9995, 4527,   4006.4,   1.9610,  34.8509,2,  34.8524,2,    247.4,2,    248.1,2,    56.70,2,    23.23,2,     0.00,2,     1.63,2, -999.000,9, -999.000,9, -999.000,9,   -999.0,9,   -999.0,9,  1.6273
     316N142_3,   A15,    56,  1,      4,      4,2,19940421,2035, -5.5005, -18.9995, 4527,   4159.3,   1.5407,  34.8048,2,  34.8066,2,    237.8,2,    239.2,2,    74.48,2,    25.84,2,     0.00,2,     1.82,2, -999.000,9, -999.000,9, -999.000,9,   -999.0,9,   -999.0,9,  1.2023
     316N142_3,   A15,    56,  1,      3,      3,2,19940421,2035, -5.5005, -18.9995, 4527,   4314.1,   1.2054,  34.7703,2,  34.7712,2,    232.7,2,    232.0,2,    87.86,2,    27.71,2,     0.00,2,     1.96,2, -999.000,9, -999.000,9, -999.000,9,   -999.0,9,   -999.0,9,  0.8600
     316N142_3,   A15,    56,  1,      2,      2,2,19940421,2035, -5.5005, -18.9995, 4527,   4467.0,   1.0606,  34.7534,2,  34.7541,2,    231.5,2,    229.1,2,    93.81,2,    28.74,2,     0.00,2,     2.03,2, -999.000,9, -999.000,9, -999.000,9,   -999.0,9,   -999.0,9,  0.7026
     316N142_3,   A15,    56,  1,      1,      1,2,19940421,2035, -5.5005, -18.9995, 4527,   4628.0,   0.9772,  34.7427,2,  34.7437,2,    230.6,4,    226.7,2,    97.62,2,    29.40,2,     0.00,2,     2.08,2, -999.000,9, -999.000,9, -999.000,9,   -999.0,9,   -999.0,9,  0.6036