BOTTLE,20020814WHPSIOKJU
EXPOCODE,SECT_ID,STNNBR,CASTNO,SAMPNO,BTLNBR,BTLNBR_FLAG_W,DATE,TIME,LATITUDE,LONGITUDE,DEPTH,CTDPRS,CTDTMP,CTDSAL,CTDSAL_FLAG_W,SALNTY,SALNTY_FLAG_W,CTDOXY,CTDOXY_FLAG_W,OXYGEN,OXYGEN_FLAG_W,SILCAT,SILCAT_FLAG_W,NITRAT,NITRAT_FLAG_W,NITRIT,NITRIT_FLAG_W,PHSPHT,PHSPHT_FLAG_W,CFC-11,CFC-11_FLAG_W,CFC-12,CFC-12_FLAG_W,CCL4,CCL4_FLAG_W,TCARBN,TCARBN_FLAG_W,ALKALI,ALKALI_FLAG_W,THETA
,,,,,,,,,,,,DBAR,ITS-90,PSS-78,,PSS-78,,UMOL/KG,,UMOL/KG,,UMOL/KG,,UMOL/KG,,UMOL/KG,,UMOL/KG,,PMOL/KG,,PMOL/KG,,PMOL/KG,,UMOL/KG,,UMOL/KG,,DEG C
     316N142_3,   A15,    53,  1,     39,     39,2,19940420,2253, -3.8878, -19.0003, 5118,      8.8,  28.3679,  35.5941,2,  35.5955,2,    223.0,2,    225.2,2,     1.94,2,     0.24,2,     0.00,2,     0.14,2,    1.642,2,    0.931,2,    1.767,2,   1982.2,2,   2328.2,2, 28.3658
     316N142_3,   A15,    53,  1,     35,     35,2,19940420,2253, -3.8878, -19.0003, 5118,     40.9,  27.3445,  35.9481,2,  35.8941,2,    206.7,2,    223.2,2,     1.93,2,     0.25,2,     0.00,2,     0.15,2, -999.000,9, -999.000,9, -999.000,9,   2004.6,2,   2347.8,2, 27.3350
     316N142_3,   A15,    53,  1,     38,     38,2,19940420,2253, -3.8878, -19.0003, 5118,     70.5,  15.6474,  35.5921,2,  35.5954,2,    112.5,2,    108.8,2,     7.02,2,    18.35,2,     0.08,2,     1.24,2,    1.422,6,    0.779,6,    0.464,6,   2166.9,2,   2329.1,2, 15.6364
     316N142_3,   A15,    53,  1,     33,     33,2,19940420,2253, -3.8878, -19.0003, 5118,    135.6,  13.6649,  35.3630,2,  35.3646,2,    107.7,2,    106.2,2,     9.02,2,    21.57,2,     0.01,2,     1.47,2,    1.142,2,    0.672,2,    0.303,2,   2174.5,2,   2315.5,2, 13.6456
     316N142_3,   A15,    53,  1,     41,     41,2,19940420,2253, -3.8878, -19.0003, 5118,    226.0,  12.4145,  35.2013,2,  35.2002,2,     87.0,2,     85.9,2,    11.02,2,    25.84,2,     0.01,2,     1.72,2,    0.912,2,    0.502,2,    0.298,2,   2199.9,2,   2308.8,2, 12.3843
     316N142_3,   A15,    53,  1,     31,     31,2,19940420,2253, -3.8878, -19.0003, 5118,    336.2,  10.5525,  34.9853,2,  34.9797,2,     74.5,2,     76.1,2,    14.23,2,    30.43,2,     0.01,2,     1.97,2,    0.660,2,    0.296,2,    0.268,2,   2215.9,2,   2299.8,2, 10.5119
     316N142_3,   A15,    53,  1,     37,     37,2,19940420,2253, -3.8878, -19.0003, 5118,    437.2,   8.7757,  34.7959,2,  34.7976,2,     68.7,2,     71.5,2,    18.10,2,    34.47,2,     0.01,2,     2.23,2,    0.322,2,    0.148,2,    0.235,2,   2230.0,2,   2293.4,2,  8.7284
     316N142_3,   A15,    53,  1,     29,     29,9,19940420,2253, -3.8878, -19.0003, 5118,    537.3,   6.7785,  34.5918,2,-999.0000,9,    117.4,2,   -999.0,9,  -999.00,9,  -999.00,9,  -999.00,9,  -999.00,9, -999.000,9, -999.000,9, -999.000,9,   -999.0,9,   -999.0,9,  6.7282
     316N142_3,   A15,    53,  1,     28,     28,2,19940420,2253, -3.8878, -19.0003, 5118,    628.7,   5.6766,  34.5022,2,  34.5036,2,    138.2,2,    138.9,2,    26.40,2,    34.21,2,     0.00,2,     2.33,2,    0.155,2,    0.099,2,    0.453,2,   2215.4,2,   2292.0,2,  5.6227
     316N142_3,   A15,    53,  1,     27,     27,2,19940420,2253, -3.8878, -19.0003, 5118,    719.7,   4.9256,  34.4762,2,  34.4765,2,    150.3,2,    150.9,2,    30.40,2,    34.23,2,     0.00,2,     2.36,2,    0.172,2,    0.068,2,    0.358,2,   -999.0,9,   -999.0,9,  4.8676
     316N142_3,   A15,    53,  1,     26,     26,2,19940420,2253, -3.8878, -19.0003, 5118,    819.1,   4.5884,  34.5091,2,  34.5087,2,    147.3,2,    147.0,2,    33.20,2,    34.75,2,     0.00,2,     2.42,2, -999.000,9, -999.000,9, -999.000,9,   -999.0,9,   -999.0,9,  4.5238
     316N142_3,   A15,    53,  1,     25,     25,2,19940420,2253, -3.8878, -19.0003, 5118,    960.4,   4.2704,  34.5653,2,  34.5665,2,    160.7,2,    161.6,2,    34.38,2,    33.01,2,     0.00,2,     2.32,2,    0.114,2,    0.016,2,    0.212,2,   -999.0,9,   -999.0,9,  4.1959
     316N142_3,   A15,    53,  1,     24,     24,2,19940420,2253, -3.8878, -19.0003, 5118,   1111.2,   4.3364,  34.7137,2,  34.7154,2,    171.5,2,    169.9,2,    30.61,2,    30.42,2,     0.00,2,     2.14,2, -999.000,9, -999.000,9, -999.000,9,   -999.0,9,   -999.0,9,  4.2481
     316N142_3,   A15,    53,  1,     23,     23,2,19940420,2253, -3.8878, -19.0003, 5118,   1263.2,   4.3415,  34.8458,2,  34.8418,2,    194.5,2,    192.0,2,    25.78,2,    26.72,2,     0.00,2,     1.87,2,    0.063,4,    0.020,2,    0.196,2,   -999.0,9,   -999.0,9,  4.2394
     316N142_3,   A15,    53,  1,     22,     22,2,19940420,2253, -3.8878, -19.0003, 5118,   1414.3,   4.2942,  34.9267,2,  34.9250,2,    215.2,2,    215.2,2,    21.75,2,    23.44,2,     0.00,2,     1.65,2, -999.000,9,    0.026,2,    0.354,2,   -999.0,9,   -999.0,9,  4.1787
     316N142_3,   A15,    53,  1,     21,     21,2,19940420,2253, -3.8878, -19.0003, 5118,   1567.8,   4.0757,  34.9560,2,  34.9573,2,    232.0,2,    231.3,2,    20.27,2,    21.60,2,     0.00,2,     1.52,2, -999.000,9,    0.030,2,    0.332,2,   -999.0,9,   -999.0,9,  3.9484
     316N142_3,   A15,    53,  1,     20,     20,2,19940420,2253, -3.8878, -19.0003, 5118,   1693.2,   3.9252,  34.9714,2,  34.9719,2,    244.2,2,    242.0,2,    19.18,2,    20.36,2,     0.00,2,     1.44,2, -999.000,9,    0.028,2, -999.000,9,   -999.0,9,   -999.0,9,  3.7880
     316N142_3,   A15,    53,  1,     19,     19,2,19940420,2253, -3.8878, -19.0003, 5118,   1820.1,   3.7530,  34.9712,2,  34.9715,2,    247.9,2,    247.6,2,    19.97,2,    19.95,2,     0.00,2,     1.40,2, -999.000,9,    0.040,2,    0.456,2,   -999.0,9,   -999.0,9,  3.6062
     316N142_3,   A15,    53,  1,     40,     40,2,19940420,2253, -3.8878, -19.0003, 5118,   1971.9,   3.5762,  34.9664,2,  34.9681,2,    247.6,2,    250.8,2,    21.16,2,    19.77,2,     0.00,2,     1.40,2, -999.000,9,    0.030,2,    0.433,2,   -999.0,9,   -999.0,9,  3.4177
     316N142_3,   A15,    53,  1,     17,     17,2,19940420,2253, -3.8878, -19.0003, 5118,   2099.1,   3.3888,  34.9534,2,  34.9536,2,    247.8,2,    248.2,2,    24.75,2,    20.29,2,     0.00,2,     1.43,2, -999.000,9, -999.000,9, -999.000,9,   -999.0,9,   -999.0,9,  3.2211
     316N142_3,   A15,    53,  1,     16,     16,2,19940420,2253, -3.8878, -19.0003, 5118,   2249.9,   3.2733,  34.9517,2,  34.9528,2,    250.7,2,    243.4,4,    24.87,2,    19.98,2,     0.00,2,     1.41,2,    0.106,2,    0.023,6,    0.207,2,   -999.0,9,   -999.0,9,  3.0929
     316N142_3,   A15,    53,  1,     15,     15,2,19940420,2253, -3.8878, -19.0003, 5118,   2453.5,   2.9659,  34.9254,2,  34.9248,2,    241.3,2,    243.3,2,    33.79,2,    21.52,2,     0.00,2,     1.50,2, -999.000,9,    0.011,2,    0.152,2,   -999.0,9,   -999.0,9,  2.7712
     316N142_3,   A15,    53,  1,     14,     14,2,19940420,2253, -3.8878, -19.0003, 5118,   2656.8,   2.8125,  34.9175,2,  34.9168,2,    243.1,2,    243.7,2,    36.58,2,    21.62,2,     0.00,2,     1.53,2, -999.000,9, -999.000,9, -999.000,9,   -999.0,9,   -999.0,9,  2.6007
     316N142_3,   A15,    53,  1,     13,     13,2,19940420,2253, -3.8878, -19.0003, 5118,   2860.3,   2.7143,  34.9126,2,  34.9122,2,    244.4,2,    244.4,2,    38.16,2,    21.68,2,     0.00,2,     1.53,2, -999.000,9, -999.000,9, -999.000,9,   -999.0,9,   -999.0,9,  2.4841
     316N142_3,   A15,    53,  1,     12,     12,9,19940420,2253, -3.8878, -19.0003, 5118,   3064.3,   2.6339,  34.9102,2,-999.0000,9,    249.5,2,   -999.0,9,  -999.00,9,  -999.00,9,  -999.00,9,  -999.00,9, -999.000,9, -999.000,9, -999.000,9,   -999.0,9,   -999.0,9,  2.3846
     316N142_3,   A15,    53,  1,     11,     11,2,19940420,2253, -3.8878, -19.0003, 5118,   3267.4,   2.5906,  34.9129,2,  34.9124,2,    255.7,2,    253.6,2,    35.34,2,    20.67,2,     0.00,2,     1.47,2, -999.000,9,    0.016,2,    0.076,2,   -999.0,9,   -999.0,9,  2.3210
     316N142_3,   A15,    53,  1,     10,     10,2,19940420,2253, -3.8878, -19.0003, 5118,   3470.8,   2.5398,  34.9126,2,  34.9113,2,    259.0,2,    257.2,2,    33.72,2,    20.07,2,     0.00,2,     1.43,2, -999.000,9,    0.017,2,    0.194,2,   -999.0,9,   -999.0,9,  2.2495
     316N142_3,   A15,    53,  1,      9,      9,2,19940420,2253, -3.8878, -19.0003, 5118,   3674.7,   2.4274,  34.9034,2,  34.9020,2,    258.4,2,    258.3,2,    35.57,2,    20.17,2,     0.00,2,     1.44,2, -999.000,9,    0.013,2,    0.260,2,   -999.0,9,   -999.0,9,  2.1178
     316N142_3,   A15,    53,  1,      8,      8,2,19940420,2253, -3.8878, -19.0003, 5118,   3877.8,   2.2144,  34.8809,2,  34.8823,2,    254.8,2,    255.5,2,    42.75,2,    21.11,2,     0.00,2,     1.51,2, -999.000,9,    0.015,2,    0.264,2,   -999.0,9,   -999.0,9,  1.8880
     316N142_3,   A15,    53,  1,      7,      7,2,19940420,2253, -3.8878, -19.0003, 5118,   4084.2,   1.8444,  34.8392,2,  34.8399,2,    243.5,2,    246.5,2,    60.00,2,    23.64,2,     0.00,2,     1.68,2, -999.000,9, -999.000,9, -999.000,9,   -999.0,9,   -999.0,9,  1.5054
     316N142_3,   A15,    53,  1,      6,      6,2,19940420,2253, -3.8878, -19.0003, 5118,   4288.9,   1.3462,  34.7849,2,  34.7848,2,    231.9,2,    235.3,2,    81.90,2,    26.91,2,     0.00,2,     1.91,2, -999.000,9,    0.015,2, -999.000,9,   -999.0,9,   -999.0,9,  0.9992
     316N142_3,   A15,    53,  1,      5,      5,2,19940420,2253, -3.8878, -19.0003, 5118,   4492.6,   0.9993,  34.7461,2,  34.7451,2,    226.7,2,    228.2,2,    96.52,2,    29.21,2,     0.00,2,     2.08,2, -999.000,9, -999.000,9, -999.000,9,   -999.0,9,   -999.0,9,  0.6403
     316N142_3,   A15,    53,  1,      4,      4,2,19940420,2253, -3.8878, -19.0003, 5118,   4697.1,   0.8417,  34.7276,2,  34.7272,2,    225.7,2,    225.3,2,   103.12,2,    30.20,2,     0.00,2,     2.16,2, -999.000,9,    0.006,2,    0.113,2,   -999.0,9,   -999.0,9,  0.4648
     316N142_3,   A15,    53,  1,      3,      3,2,19940420,2253, -3.8878, -19.0003, 5118,   4903.0,   0.7771,  34.7183,2,  34.7182,2,    226.2,2,    223.8,2,   106.56,2,    30.77,2,     0.00,2,     2.20,2, -999.000,9, -999.000,9, -999.000,9,   -999.0,9,   -999.0,9,  0.3785
     316N142_3,   A15,    53,  1,      2,      2,2,19940420,2253, -3.8878, -19.0003, 5118,   5107.6,   0.7598,  34.7143,2,  34.7144,2,    228.1,4,    223.0,2,   107.70,2,    30.92,2,     0.00,2,     2.22,2, -999.000,9, -999.000,9, -999.000,9,   -999.0,9,   -999.0,9,  0.3378
     316N142_3,   A15,    53,  1,      1,      1,2,19940420,2253, -3.8878, -19.0003, 5118,   5311.5,   0.7525,  34.7103,2,  34.7107,2,    229.5,4,    222.5,2,   109.07,2,    31.12,2,     0.00,2,     2.23,2, -999.000,9,    0.009,2,    0.100,2,   -999.0,9,   -999.0,9,  0.3063