BOTTLE,20020814WHPSIOKJU
EXPOCODE,SECT_ID,STNNBR,CASTNO,SAMPNO,BTLNBR,BTLNBR_FLAG_W,DATE,TIME,LATITUDE,LONGITUDE,DEPTH,CTDPRS,CTDTMP,CTDSAL,CTDSAL_FLAG_W,SALNTY,SALNTY_FLAG_W,CTDOXY,CTDOXY_FLAG_W,OXYGEN,OXYGEN_FLAG_W,SILCAT,SILCAT_FLAG_W,NITRAT,NITRAT_FLAG_W,NITRIT,NITRIT_FLAG_W,PHSPHT,PHSPHT_FLAG_W,CFC-11,CFC-11_FLAG_W,CFC-12,CFC-12_FLAG_W,CCL4,CCL4_FLAG_W,TCARBN,TCARBN_FLAG_W,ALKALI,ALKALI_FLAG_W,THETA
,,,,,,,,,,,,DBAR,ITS-90,PSS-78,,PSS-78,,UMOL/KG,,UMOL/KG,,UMOL/KG,,UMOL/KG,,UMOL/KG,,UMOL/KG,,PMOL/KG,,PMOL/KG,,PMOL/KG,,UMOL/KG,,UMOL/KG,,DEG C
     316N142_3,  AR15,   143,  1,     39,     39,2,19940517,2021,-18.5123, -35.2668, 4030,     11.2,  27.0984,  37.3937,2,  37.3929,2,    184.5,4,    200.8,2,     1.67,2,     0.04,2,     0.01,2,     0.16,2, -999.000,9, -999.000,9, -999.000,9,   -999.0,9,   -999.0,9, 27.0958
     316N142_3,  AR15,   143,  1,     35,     35,2,19940517,2021,-18.5123, -35.2668, 4030,     84.9,  24.7463,  37.0431,2,  37.0369,2,    217.0,4,    219.5,2,     1.66,2,     0.05,2,     0.01,2,     0.18,2, -999.000,9, -999.000,9, -999.000,9,   -999.0,9,   -999.0,9, 24.7279
     316N142_3,  AR15,   143,  1,     38,     38,2,19940517,2021,-18.5123, -35.2668, 4030,    130.8,  22.4851,  36.7286,2,  36.7300,2,    205.1,2,    210.5,2,     1.81,2,     0.04,2,     0.02,2,     0.20,2, -999.000,9, -999.000,9, -999.000,9,   -999.0,9,   -999.0,9, 22.4586
     316N142_3,  AR15,   143,  1,     33,     33,2,19940517,2021,-18.5123, -35.2668, 4030,    215.4,  17.5607,  35.8595,2,  35.8590,2,    198.0,2,    197.2,2,     2.75,2,     3.56,2,     0.01,2,     0.44,2, -999.000,9, -999.000,9, -999.000,9,   -999.0,9,   -999.0,9, 17.5241
     316N142_3,  AR15,   143,  1,     41,     41,2,19940517,2021,-18.5123, -35.2668, 4030,    305.4,  13.9755,  35.2944,2,  35.2965,2,    195.7,2,    192.3,2,     4.65,2,     9.83,2,     0.00,2,     0.78,2, -999.000,9, -999.000,9, -999.000,9,   -999.0,9,   -999.0,9, 13.9311
     316N142_3,  AR15,   143,  1,     31,     31,2,19940517,2021,-18.5123, -35.2668, 4030,    394.5,  11.3531,  34.9806,2,  34.9776,2,    193.1,2,    194.4,2,     7.02,2,    15.35,2,     0.00,2,     1.12,2, -999.000,9, -999.000,9, -999.000,9,   -999.0,9,   -999.0,9, 11.3030
     316N142_3,  AR15,   143,  1,     37,     37,2,19940517,2021,-18.5123, -35.2668, 4030,    483.9,   8.2874,  34.6434,2,  34.6460,2,    180.1,2,    179.2,2,    13.84,2,    23.87,2,     0.00,2,     1.67,2, -999.000,9, -999.000,9, -999.000,9,   -999.0,9,   -999.0,9,  8.2368
     316N142_3,  AR15,   143,  1,     29,     29,2,19940517,2021,-18.5123, -35.2668, 4030,    602.6,   5.7697,  34.4285,2,  34.4266,2,    191.5,2,    194.5,2,    21.47,2,    28.45,2,     0.00,2,     1.98,2, -999.000,9, -999.000,9, -999.000,9,   -999.0,9,   -999.0,9,  5.7178
     316N142_3,  AR15,   143,  1,     28,     28,2,19940517,2021,-18.5123, -35.2668, 4030,    725.5,   4.2982,  34.3572,2,  34.3551,2,    206.2,2,    203.4,2,    30.22,2,    30.44,2,     0.00,2,     2.14,2, -999.000,9, -999.000,9, -999.000,9,   -999.0,9,   -999.0,9,  4.2433
     316N142_3,  AR15,   143,  1,     27,     27,2,19940517,2021,-18.5123, -35.2668, 4030,    837.2,   3.7762,  34.3943,2,  34.3931,2,    193.8,2,    195.3,2,    37.87,2,    31.65,2,     0.00,2,     2.23,2, -999.000,9, -999.000,9, -999.000,9,   -999.0,9,   -999.0,9,  3.7155
     316N142_3,  AR15,   143,  1,     26,     26,2,19940517,2021,-18.5123, -35.2668, 4030,    947.9,   3.5763,  34.4603,2,  34.4595,2,    187.1,2,    189.8,2,    41.86,2,    31.75,2,     0.00,2,     2.24,2, -999.000,9, -999.000,9, -999.000,9,   -999.0,9,   -999.0,9,  3.5081
     316N142_3,  AR15,   143,  1,     25,     25,2,19940517,2021,-18.5123, -35.2668, 4030,   1047.2,   3.7855,  34.5632,2,  34.5617,2,    181.1,2,    180.8,2,    38.48,2,    31.27,2,     0.00,2,     2.20,2, -999.000,9, -999.000,9, -999.000,9,   -999.0,9,   -999.0,9,  3.7075
     316N142_3,  AR15,   143,  1,     24,     24,2,19940517,2021,-18.5123, -35.2668, 4030,   1186.3,   4.0227,  34.7123,2,  34.7129,2,    184.4,2,    186.5,2,    32.55,2,    28.90,2,     0.00,2,     2.01,2, -999.000,9, -999.000,9, -999.000,9,   -999.0,9,   -999.0,9,  3.9306
     316N142_3,  AR15,   143,  1,     23,     23,2,19940517,2021,-18.5123, -35.2668, 4030,   1318.3,   4.2615,  34.8395,2,  34.8389,2,    198.3,2,    198.1,2,    26.01,2,    26.11,2,     0.00,2,     1.80,2, -999.000,9, -999.000,9, -999.000,9,   -999.0,9,   -999.0,9,  4.1553
     316N142_3,  AR15,   143,  1,     22,     22,2,19940517,2021,-18.5123, -35.2668, 4030,   1440.8,   4.1882,  34.9021,2,  34.9024,2,    216.2,2,    214.5,2,    23.13,2,    23.80,2,     0.00,2,     1.64,2, -999.000,9, -999.000,9, -999.000,9,   -999.0,9,   -999.0,9,  4.0715
     316N142_3,  AR15,   143,  1,     21,     21,2,19940517,2021,-18.5123, -35.2668, 4030,   1563.0,   4.0854,  34.9420,2,  34.9413,2,    232.6,2,    229.1,2,    21.05,2,    21.96,2,     0.00,2,     1.50,2, -999.000,9, -999.000,9, -999.000,9,   -999.0,9,   -999.0,9,  3.9585
     316N142_3,  AR15,   143,  1,     20,     20,2,19940517,2021,-18.5123, -35.2668, 4030,   1689.9,   3.9375,  34.9608,2,  34.9625,2,    241.5,2,    240.2,2,    19.92,2,    20.69,2,     0.00,2,     1.41,2, -999.000,9, -999.000,9, -999.000,9,   -999.0,9,   -999.0,9,  3.8006
     316N142_3,  AR15,   143,  1,     19,     19,2,19940517,2021,-18.5123, -35.2668, 4030,   1817.2,   3.7785,  34.9687,2,  34.9693,2,    248.9,2,    247.1,2,    19.75,2,    19.91,2,     0.00,2,     1.36,2, -999.000,9, -999.000,9, -999.000,9,   -999.0,9,   -999.0,9,  3.6317
     316N142_3,  AR15,   143,  1,     40,     40,2,19940517,2021,-18.5123, -35.2668, 4030,   1943.3,   3.6339,  34.9651,2,  34.9664,2,    251.8,2,    250.4,2,    20.69,2,    19.75,2,     0.00,2,     1.35,2, -999.000,9, -999.000,9, -999.000,9,   -999.0,9,   -999.0,9,  3.4772
     316N142_3,  AR15,   143,  1,     17,     17,2,19940517,2021,-18.5123, -35.2668, 4030,   2068.7,   3.4144,  34.9569,2,  34.9570,2,    251.8,2,    251.7,2,    22.91,2,    19.75,2,     0.00,2,     1.35,2, -999.000,9, -999.000,9, -999.000,9,   -999.0,9,   -999.0,9,  3.2491
     316N142_3,  AR15,   143,  1,     16,     16,2,19940517,2021,-18.5123, -35.2668, 4030,   2194.7,   3.2653,  34.9501,2,  34.9503,2,    254.1,2,    252.3,2,    24.48,2,    19.80,2,     0.00,2,     1.35,2, -999.000,9, -999.000,9, -999.000,9,   -999.0,9,   -999.0,9,  3.0903
     316N142_3,  AR15,   143,  1,     15,     15,2,19940517,2021,-18.5123, -35.2668, 4030,   2321.8,   3.1618,  34.9440,2,  34.9438,2,    251.5,2,    251.9,2,    26.22,2,    19.96,2,     0.00,2,     1.36,2, -999.000,9, -999.000,9, -999.000,9,   -999.0,9,   -999.0,9,  2.9764
     316N142_3,  AR15,   143,  1,     14,     14,2,19940517,2021,-18.5123, -35.2668, 4030,   2450.4,   3.0305,  34.9362,2,  34.9354,2,    251.4,2,    251.5,2,    28.59,2,    20.22,2,     0.00,2,     1.39,2, -999.000,9, -999.000,9, -999.000,9,   -999.0,9,   -999.0,9,  2.8349
     316N142_3,  AR15,   143,  1,     13,     13,2,19940517,2021,-18.5123, -35.2668, 4030,   2578.5,   2.9492,  34.9317,2,  34.9310,2,    251.5,2,    251.6,2,    29.85,2,    20.27,2,     0.00,2,     1.39,2, -999.000,9, -999.000,9, -999.000,9,   -999.0,9,   -999.0,9,  2.7425
     316N142_3,  AR15,   143,  1,     12,     12,2,19940517,2021,-18.5123, -35.2668, 4030,   2705.9,   2.8755,  34.9284,2,  34.9285,2,    252.2,2,    251.8,2,    30.95,2,    20.32,2,     0.00,2,     1.39,2, -999.000,9, -999.000,9, -999.000,9,   -999.0,9,   -999.0,9,  2.6575
     316N142_3,  AR15,   143,  1,     11,     11,2,19940517,2021,-18.5123, -35.2668, 4030,   2833.1,   2.8131,  34.9230,2,  34.9228,2,    251.3,2,    251.8,2,    32.37,2,    20.42,2,     0.00,2,     1.41,2, -999.000,9, -999.000,9, -999.000,9,   -999.0,9,   -999.0,9,  2.5836
     316N142_3,  AR15,   143,  1,     10,     10,2,19940517,2021,-18.5123, -35.2668, 4030,   2963.8,   2.7535,  34.9208,2,  34.9202,2,    251.8,2,    252.6,2,    32.68,2,    20.37,2,     0.00,2,     1.40,2, -999.000,9, -999.000,9, -999.000,9,   -999.0,9,   -999.0,9,  2.5118
     316N142_3,  AR15,   143,  1,      9,      9,2,19940517,2021,-18.5123, -35.2668, 4030,   3094.8,   2.7176,  34.9185,2,  34.9181,2,    252.7,2,    252.8,2,    33.14,2,    20.37,2,     0.00,2,     1.39,2, -999.000,9, -999.000,9, -999.000,9,   -999.0,9,   -999.0,9,  2.4632
     316N142_3,  AR15,   143,  1,      8,      8,2,19940517,2021,-18.5123, -35.2668, 4030,   3235.5,   2.6610,  34.9153,2,  34.9147,2,    253.1,2,    253.7,2,    33.93,2,    20.37,2,     0.00,2,     1.40,2, -999.000,9, -999.000,9, -999.000,9,   -999.0,9,   -999.0,9,  2.3931
     316N142_3,  AR15,   143,  1,      7,      7,2,19940517,2021,-18.5123, -35.2668, 4030,   3390.2,   2.5860,  34.9101,2,  34.9102,2,    254.2,2,    255.3,2,    35.03,2,    20.42,2,     0.00,2,     1.40,2, -999.000,9, -999.000,9, -999.000,9,   -999.0,9,   -999.0,9,  2.3034
     316N142_3,  AR15,   143,  1,      6,      6,2,19940517,2021,-18.5123, -35.2668, 4030,   3545.7,   2.4349,  34.8944,2,  34.8951,2,    253.1,2,    252.5,2,    40.91,2,    21.20,2,     0.00,2,     1.46,2, -999.000,9, -999.000,9, -999.000,9,   -999.0,9,   -999.0,9,  2.1393
     316N142_3,  AR15,   143,  1,      5,      5,2,19940517,2021,-18.5123, -35.2668, 4030,   3673.4,   2.2743,  34.8791,2,  34.8788,2,    251.2,2,    250.6,2,    46.65,2,    21.99,2,     0.00,2,     1.52,2, -999.000,9, -999.000,9, -999.000,9,   -999.0,9,   -999.0,9,  1.9689
     316N142_3,  AR15,   143,  1,      4,      4,2,19940517,2021,-18.5123, -35.2668, 4030,   3800.9,   2.1146,  34.8627,2,  34.8629,2,    248.7,2,    248.5,2,    52.56,2,    22.78,2,     0.00,2,     1.58,2, -999.000,9, -999.000,9, -999.000,9,   -999.0,9,   -999.0,9,  1.7995
     316N142_3,  AR15,   143,  1,      3,      3,2,19940517,2021,-18.5123, -35.2668, 4030,   3910.8,   1.7319,  34.8224,2,  34.8218,2,    243.0,2,    241.2,2,    68.50,2,    24.98,2,     0.00,2,     1.74,2, -999.000,9, -999.000,9, -999.000,9,   -999.0,9,   -999.0,9,  1.4154
     316N142_3,  AR15,   143,  1,      2,      2,2,19940517,2021,-18.5123, -35.2668, 4030,   4031.1,   1.2642,  34.7741,2,  34.7730,2,    234.2,2,    232.4,2,    87.37,2,    27.50,2,     0.00,2,     1.93,2, -999.000,9, -999.000,9, -999.000,9,   -999.0,9,   -999.0,9,  0.9480
     316N142_3,  AR15,   143,  1,      1,      1,2,19940517,2021,-18.5123, -35.2668, 4030,   4101.9,   1.1059,  34.7556,2,  34.7565,2,    230.6,2,    230.4,2,    93.59,2,    28.39,2,     0.00,2,     1.99,2, -999.000,9, -999.000,9, -999.000,9,   -999.0,9,   -999.0,9,  0.7868