BOTTLE,20020814WHPSIOKJU
EXPOCODE,SECT_ID,STNNBR,CASTNO,SAMPNO,BTLNBR,BTLNBR_FLAG_W,DATE,TIME,LATITUDE,LONGITUDE,DEPTH,CTDPRS,CTDTMP,CTDSAL,CTDSAL_FLAG_W,SALNTY,SALNTY_FLAG_W,CTDOXY,CTDOXY_FLAG_W,OXYGEN,OXYGEN_FLAG_W,SILCAT,SILCAT_FLAG_W,NITRAT,NITRAT_FLAG_W,NITRIT,NITRIT_FLAG_W,PHSPHT,PHSPHT_FLAG_W,CFC-11,CFC-11_FLAG_W,CFC-12,CFC-12_FLAG_W,CCL4,CCL4_FLAG_W,TCARBN,TCARBN_FLAG_W,ALKALI,ALKALI_FLAG_W,THETA
,,,,,,,,,,,,DBAR,ITS-90,PSS-78,,PSS-78,,UMOL/KG,,UMOL/KG,,UMOL/KG,,UMOL/KG,,UMOL/KG,,UMOL/KG,,PMOL/KG,,PMOL/KG,,PMOL/KG,,UMOL/KG,,UMOL/KG,,DEG C
     316N142_3,  AR15,    22,  1,      2,      2,2,19940409,1633,  1.5837, -35.9490, 4155,      0.2,  27.5180,  36.0946,2,  36.0916,2,    204.3,2,    204.9,2,     1.92,2,     0.13,2,     0.00,2,     0.12,2,    1.680,2,    0.994,2,    2.225,2,   2002.3,2,   2364.0,2, 27.5179
     316N142_3,  AR15,    22,  1,     35,     35,2,19940409,1633,  1.5837, -35.9490, 4155,     75.7,  21.4959,  36.3620,2,  36.2935,2,    170.6,2,    166.0,2,     3.73,2,     5.97,2,     0.22,2,     0.52,2,    1.726,6,    0.980,6,    0.893,6,   2103.0,2,   2377.6,2, 21.4811
     316N142_3,  AR15,    22,  1,     38,     38,2,19940409,1633,  1.5837, -35.9490, 4155,    126.4,  13.1155,  35.3032,2,  35.2808,2,    155.2,2,    155.5,2,     8.45,2,    16.93,2,     0.02,2,     1.23,2,    1.444,2,    0.803,2,    0.661,2,   2145.2,2,   2323.1,2, 13.0980
     316N142_3,  AR15,    22,  1,     33,     33,2,19940409,1633,  1.5837, -35.9490, 4155,    156.9,  12.7139,  35.2479,2,  35.2408,2,    149.2,2,    152.6,2,     8.92,2,    17.69,2,     0.01,2,     1.29,2,    1.452,2,    0.775,2,    0.503,2,   2147.9,2,   -999.0,9, 12.6926
     316N142_3,  AR15,    22,  1,     32,     32,9,19940409,1633,  1.5837, -35.9490, 4155,    196.8,  12.2942,  35.1940,2,-999.0000,9,    130.3,2,   -999.0,9,  -999.00,9,  -999.00,9,  -999.00,9,  -999.00,9, -999.000,9, -999.000,9, -999.000,9,   -999.0,9,   2320.9,2, 12.2680
     316N142_3,  AR15,    22,  1,     31,     31,2,19940409,1633,  1.5837, -35.9490, 4155,    256.8,  11.6176,  35.1139,2,  35.1038,2,    129.4,2,    129.2,2,    10.97,2,    22.15,2,     0.01,2,     1.55,2,    1.006,2,    0.587,2,    0.474,2,   2170.4,2,   2313.1,2, 11.5847
     316N142_3,  AR15,    22,  1,     37,     37,2,19940409,1633,  1.5837, -35.9490, 4155,    398.3,   7.9500,  34.7140,2,  34.7117,2,    117.6,2,    116.7,2,    18.73,2,    30.58,2,     0.00,2,     2.08,2,    0.335,2,    0.205,2,    0.410,2,   2204.4,2,   2298.4,2,  7.9095
     316N142_3,  AR15,    22,  1,     29,     29,2,19940409,1633,  1.5837, -35.9490, 4155,    458.5,   7.1470,  34.6357,2,  34.6302,2,    124.8,2,    127.8,2,    20.90,2,    31.13,2,     0.00,2,     2.12,2,    0.278,2,    0.183,2,    0.475,2,   2205.5,2,   2297.3,2,  7.1030
     316N142_3,  AR15,    22,  1,     28,     28,2,19940409,1633,  1.5837, -35.9490, 4155,    528.7,   6.4477,  34.5828,2,  34.5801,2,    137.9,2,    139.5,2,    23.31,2,    31.32,2,     0.00,2,     2.18,2, -999.000,9, -999.000,9, -999.000,9,   2207.5,2,   2296.5,2,  6.3995
     316N142_3,  AR15,    22,  1,     27,     27,2,19940409,1633,  1.5837, -35.9490, 4155,    648.8,   5.4088,  34.5130,2,  34.5104,2,    143.6,2,    145.4,2,    28.16,2,    32.78,2,     0.00,2,     2.31,2,    0.217,2,    0.079,2,    0.378,2,   2213.5,2,   2296.7,2,  5.3544
     316N142_3,  AR15,    22,  1,     26,     26,2,19940409,1633,  1.5837, -35.9490, 4155,    800.3,   4.9848,  34.5131,2,  34.5114,2,    150.7,2,    151.2,2,    30.44,2,    32.79,2,     0.00,2,     2.33,2,    0.144,2,    0.069,2,    0.343,2,   2215.1,2,   2301.1,2,  4.9194
     316N142_3,  AR15,    22,  1,     25,     25,2,19940409,1633,  1.5837, -35.9490, 4155,    941.5,   4.5349,  34.6589,2,  34.6569,2,    158.4,2,    158.5,2,    31.39,2,    31.10,2,     0.00,2,     2.22,2, -999.000,9, -999.000,9, -999.000,9,   2218.7,2,   2301.9,2,  4.4600
     316N142_3,  AR15,    22,  1,     24,     24,2,19940409,1633,  1.5837, -35.9490, 4155,   1032.3,   4.5148,  34.6924,2,  34.6876,2,    164.8,2,    162.6,2,    30.76,2,    30.36,2,     0.00,2,     2.17,2, -999.000,9,    0.016,2,    0.056,2,   2214.4,2,   2303.2,2,  4.4321
     316N142_3,  AR15,    22,  1,     23,     23,2,19940409,1633,  1.5837, -35.9490, 4155,   1153.4,   4.5744,  34.7716,2,  34.7727,2,    176.4,2,    173.4,2,    28.07,2,    28.39,2,     0.00,2,     2.03,2, -999.000,9, -999.000,9, -999.000,9,   -999.0,9,   -999.0,9,  4.4802
     316N142_3,  AR15,    22,  1,     22,     22,2,19940409,1633,  1.5837, -35.9490, 4155,   1294.8,   4.6495,  34.9089,2,  34.8936,4,    198.7,2,    198.2,2,    22.70,2,    24.43,2,     0.00,2,     1.73,2,    0.084,2,    0.040,2,    0.265,2,   -999.0,9,   2309.0,2,  4.5415
     316N142_3,  AR15,    22,  1,     21,     21,2,19940409,1633,  1.5837, -35.9490, 4155,   1416.8,   4.4546,  34.9739,2,  34.9719,2,    225.0,2,    225.1,2,    19.04,2,    21.20,2,     0.00,2,     1.50,2, -999.000,9, -999.000,9, -999.000,9,   -999.0,9,   -999.0,9,  4.3371
     316N142_3,  AR15,    22,  1,     20,     20,2,19940409,1633,  1.5837, -35.9490, 4155,   1568.6,   4.1889,  34.9793,2,  34.9755,2,    235.9,2,    236.2,2,    18.41,2,    20.23,2,     0.00,2,     1.43,2, -999.000,9,    0.048,2,    0.457,2,   2173.3,2,   2315.3,2,  4.0601
     316N142_3,  AR15,    22,  1,     19,     19,2,19940409,1633,  1.5837, -35.9490, 4155,   1730.1,   4.0800,  34.9926,2,  34.9891,2,    246.0,2,    246.6,2,    17.18,2,    19.07,2,     0.00,2,     1.36,2,    0.212,2,    0.082,2,    0.685,2,   -999.0,9,   -999.0,9,  3.9374
     316N142_3,  AR15,    22,  1,     18,     18,2,19940409,1633,  1.5837, -35.9490, 4155,   1872.1,   3.7266,  34.9850,2,  34.9832,2,    253.7,2,    254.3,2,    18.13,2,    18.56,2,     0.00,2,     1.32,2, -999.000,9,    0.075,2,    0.537,2,   2162.8,2,   2317.1,2,  3.5752
     316N142_3,  AR15,    22,  1,     17,     17,2,19940409,1633,  1.5837, -35.9490, 4155,   1952.5,   3.5666,  34.9798,2,  34.9767,2,    257.0,2,    256.3,2,    19.08,2,    18.47,2,     0.00,2,     1.30,2,    0.064,2,    0.063,2,    0.515,2,   -999.0,9,   -999.0,9,  3.4100
     316N142_3,  AR15,    22,  1,     16,     16,2,19940409,1633,  1.5837, -35.9490, 4155,   2226.7,   3.3387,  34.9670,2,  34.9641,2,    256.8,2,    256.7,2,    21.73,2,    18.70,2,     0.00,2,     1.33,2, -999.000,9, -999.000,9, -999.000,9,   2166.0,2,   2318.6,2,  3.1594
     316N142_3,  AR15,    22,  1,     15,     15,2,19940409,1633,  1.5837, -35.9490, 4155,   2430.0,   3.0641,  34.9533,2,  34.9503,2,    258.2,2,    257.8,2,    24.75,2,    18.89,2,     0.00,2,     1.34,2,    0.034,2,    0.032,6,    0.203,6,   -999.0,9,   -999.0,9,  2.8698
     316N142_3,  AR15,    22,  1,     14,     14,2,19940409,1633,  1.5837, -35.9490, 4155,   2663.6,   2.8359,  34.9373,2,  34.9342,2,    256.4,2,    256.0,2,    29.22,2,    19.36,2,     0.00,2,     1.37,2, -999.000,9, -999.000,9, -999.000,9,   2174.2,2,   2325.5,2,  2.6229
     316N142_3,  AR15,    22,  1,     13,     13,2,19940409,1633,  1.5837, -35.9490, 4155,   2836.6,   2.7439,  34.9314,2,  34.9291,2,    255.9,2,    256.9,2,    30.66,2,    19.45,2,     0.00,2,     1.38,2, -999.000,9,    0.022,2,    0.162,2,   -999.0,9,   -999.0,9,  2.5154
     316N142_3,  AR15,    22,  1,     12,     12,2,19940409,1633,  1.5837, -35.9490, 4155,   3039.9,   2.6415,  34.9257,2,  34.9265,2,    258.0,2,    258.1,2,    31.12,2,    19.22,2,     0.00,2,     1.38,2, -999.000,9, -999.000,9, -999.000,9,   2174.8,2,   2329.9,2,  2.3944
     316N142_3,  AR15,    22,  1,     11,     11,2,19940409,1633,  1.5837, -35.9490, 4155,   3192.5,   2.5596,  34.9197,2,  34.9185,2,    258.3,2,    258.3,2,    32.31,2,    19.36,2,     0.00,2,     1.38,2, -999.000,9, -999.000,9, -999.000,9,   -999.0,9,   -999.0,9,  2.2986
     316N142_3,  AR15,    22,  1,     10,     10,2,19940409,1633,  1.5837, -35.9490, 4155,   3345.3,   2.4943,  34.9129,2,  34.9112,2,    257.8,2,    257.4,2,    34.60,2,    19.60,2,     0.00,2,     1.39,2, -999.000,9,    0.033,2,    0.204,2,   2177.9,2,   2331.8,2,  2.2186
     316N142_3,  AR15,    22,  1,      9,      9,2,19940409,1633,  1.5837, -35.9490, 4155,   3444.9,   2.4839,  34.9148,2,  34.9144,2,    260.2,2,    260.4,2,    32.51,2,    19.13,2,     0.00,2,     1.37,2, -999.000,9, -999.000,9, -999.000,9,   -999.0,9,   -999.0,9,  2.1978
     316N142_3,  AR15,    22,  1,      8,      8,2,19940409,1633,  1.5837, -35.9490, 4155,   3547.1,   2.4446,  34.9105,2,  34.9081,2,    259.8,2,    259.4,2,    34.31,2,    19.37,2,     0.00,2,     1.38,2,    0.081,2,    0.038,2,    0.227,2,   2178.6,2,   2331.1,2,  2.1485
     316N142_3,  AR15,    22,  1,      7,      7,2,19940409,1633,  1.5837, -35.9490, 4155,   3679.5,   2.3913,  34.9061,2,  34.9037,2,    260.2,2,    260.6,2,    34.54,2,    19.27,2,     0.00,2,     1.38,2,    0.088,2,    0.050,2,    0.319,2,   -999.0,9,   -999.0,9,  2.0821
     316N142_3,  AR15,    22,  1,      6,      6,2,19940409,1633,  1.5837, -35.9490, 4155,   3811.7,   2.3386,  34.9014,2,  34.9000,2,    259.9,2,    261.1,2,    35.49,2,    19.37,2,     0.00,2,     1.38,2,    0.065,2,    0.052,2,    0.403,2,   2178.8,2,   2332.2,2,  2.0160
     316N142_3,  AR15,    22,  1,      5,      5,2,19940409,1633,  1.5837, -35.9490, 4155,   3914.8,   2.2858,  34.8939,2,  34.8918,2,    260.3,2,    258.5,2,    38.98,2,    19.88,2,     0.00,2,     1.42,2, -999.000,9, -999.000,9, -999.000,9,   -999.0,9,   -999.0,9,  1.9532
     316N142_3,  AR15,    22,  1,      4,      4,2,19940409,1633,  1.5837, -35.9490, 4155,   4016.6,   2.2235,  34.8871,2,  34.8841,2,    257.8,2,    258.8,4,    41.87,2,    20.26,2,     0.00,2,     1.45,2,    0.096,2,    0.054,2,    0.238,2,   2186.1,2,   2337.6,2,  1.8812
     316N142_3,  AR15,    22,  1,      3,      3,2,19940409,1633,  1.5837, -35.9490, 4155,   4119.5,   2.1935,  34.8825,2,  34.8821,2,    256.8,2,    255.8,2,    43.79,2,    20.49,2,     0.00,2,     1.47,2, -999.000,9,    0.036,2,    0.311,2,   -999.0,9,   -999.0,9,  1.8403
     316N142_3,  AR15,    22,  1,      1,      1,2,19940409,1633,  1.5837, -35.9490, 4155,   4225.9,   2.1674,  34.8780,2,  34.8798,4,    253.8,2,    254.5,2,    45.69,2,    20.87,2,     0.00,2,     1.49,2, -999.000,9,    0.048,2,    0.265,2,   2190.6,2,   -999.0,9,  1.8027
     316N142_3,  AR15,    22,  1,     39,     39,2,19940409,1633,  1.5837, -35.9490, 4155,   4226.3,   2.1673,  34.8779,2,  34.8772,2,    253.8,2,    254.2,2,    45.71,2,    20.86,2,     0.00,2,     1.49,2,    0.060,2,    0.043,2,    0.313,2,   -999.0,9,   -999.0,9,  1.8026