BOTTLE,20020814WHPSIOKJU
EXPOCODE,SECT_ID,STNNBR,CASTNO,SAMPNO,BTLNBR,BTLNBR_FLAG_W,DATE,TIME,LATITUDE,LONGITUDE,DEPTH,CTDPRS,CTDTMP,CTDSAL,CTDSAL_FLAG_W,SALNTY,SALNTY_FLAG_W,CTDOXY,CTDOXY_FLAG_W,OXYGEN,OXYGEN_FLAG_W,SILCAT,SILCAT_FLAG_W,NITRAT,NITRAT_FLAG_W,NITRIT,NITRIT_FLAG_W,PHSPHT,PHSPHT_FLAG_W,CFC-11,CFC-11_FLAG_W,CFC-12,CFC-12_FLAG_W,CCL4,CCL4_FLAG_W,TCARBN,TCARBN_FLAG_W,ALKALI,ALKALI_FLAG_W,THETA
,,,,,,,,,,,,DBAR,ITS-90,PSS-78,,PSS-78,,UMOL/KG,,UMOL/KG,,UMOL/KG,,UMOL/KG,,UMOL/KG,,UMOL/KG,,PMOL/KG,,PMOL/KG,,PMOL/KG,,UMOL/KG,,UMOL/KG,,DEG C
     316N142_3,   A15,    29,  1,     39,     39,2,19940414,1011,  6.9988, -19.0032, 4567,      5.6,  26.9886,  36.1462,2,  36.1489,2,    206.8,2,    206.4,2,     2.77,2,     0.09,2,     0.00,2,     0.09,2, -999.000,9, -999.000,9, -999.000,9,   -999.0,9,   -999.0,9, 26.9873
     316N142_3,   A15,    29,  1,     35,     35,9,19940414,1011,  6.9988, -19.0032, 4567,     14.0,  26.9206,  36.1463,2,-999.0000,9,    207.0,2,   -999.0,9,  -999.00,9,  -999.00,9,  -999.00,9,  -999.00,9, -999.000,9, -999.000,9, -999.000,9,   -999.0,9,   -999.0,9, 26.9174
     316N142_3,   A15,    29,  1,     38,     38,2,19940414,1011,  6.9988, -19.0032, 4567,     29.2,  24.6559,  36.0191,2,  36.0096,2,    199.9,2,    210.5,2,     2.88,2,     0.14,2,     0.01,2,     0.13,2, -999.000,9, -999.000,9, -999.000,9,   -999.0,9,   -999.0,9, 24.6496
     316N142_3,   A15,    29,  1,     33,     33,2,19940414,1011,  6.9988, -19.0032, 4567,     84.8,  15.2609,  35.5474,2,  35.5533,2,     71.4,2,     69.4,2,     8.86,2,    23.11,2,     0.04,2,     1.48,2, -999.000,9, -999.000,9, -999.000,9,   -999.0,9,   -999.0,9, 15.2479
     316N142_3,   A15,    29,  1,     41,     41,2,19940414,1011,  6.9988, -19.0032, 4567,    129.7,  14.4484,  35.4631,2,  35.4702,2,     73.9,2,     75.6,2,     9.72,2,    23.51,2,     0.02,2,     1.55,2, -999.000,9, -999.000,9, -999.000,9,   -999.0,9,   -999.0,9, 14.4292
     316N142_3,   A15,    29,  1,     31,     31,2,19940414,1011,  6.9988, -19.0032, 4567,    205.5,  13.5209,  35.3560,2,  35.3542,2,     75.2,2,     74.6,2,    10.82,2,    24.92,2,     0.02,2,     1.63,2, -999.000,9, -999.000,9, -999.000,9,   -999.0,9,   -999.0,9, 13.4917
     316N142_3,   A15,    29,  1,     37,     37,2,19940414,1011,  6.9988, -19.0032, 4567,    285.6,  11.8902,  35.1906,2,  35.1927,2,     70.5,2,     72.0,2,    13.18,2,    27.68,2,     0.01,2,     1.78,2, -999.000,9, -999.000,9, -999.000,9,   -999.0,9,   -999.0,9, 11.8529
     316N142_3,   A15,    29,  1,     29,     29,2,19940414,1011,  6.9988, -19.0032, 4567,    336.3,  10.9762,  35.1142,2,  35.1154,2,     53.9,2,     57.8,2,    15.03,2,    30.84,2,     0.00,2,     1.96,2, -999.000,9, -999.000,9, -999.000,9,   -999.0,9,   -999.0,9, 10.9345
     316N142_3,   A15,    29,  1,     28,     28,2,19940414,1011,  6.9988, -19.0032, 4567,    396.3,   9.9360,  35.0440,2,  35.0370,2,     48.0,2,     47.2,2,    17.50,2,    33.90,2,     0.00,2,     2.14,2, -999.000,9, -999.000,9, -999.000,9,   -999.0,9,   -999.0,9,  9.8897
     316N142_3,   A15,    29,  1,     27,     27,2,19940414,1011,  6.9988, -19.0032, 4567,    506.7,   7.9373,  34.8034,2,  34.8025,2,     69.8,2,     69.0,2,    21.84,2,    35.52,2,     0.00,2,     2.32,2, -999.000,9, -999.000,9, -999.000,9,   -999.0,9,   -999.0,9,  7.8854
     316N142_3,   A15,    29,  1,     26,     26,2,19940414,1011,  6.9988, -19.0032, 4567,    657.9,   6.4702,  34.6777,2,  34.6779,2,     88.1,2,     86.9,2,    26.79,2,    36.45,2,     0.00,2,     2.45,2, -999.000,9, -999.000,9, -999.000,9,   -999.0,9,   -999.0,9,  6.4094
     316N142_3,   A15,    29,  1,     25,     25,2,19940414,1011,  6.9988, -19.0032, 4567,    758.8,   5.9507,  34.6662,2,  34.6675,2,     98.1,2,     96.3,2,    28.51,2,    36.22,2,     0.00,2,     2.46,2, -999.000,9, -999.000,9, -999.000,9,   -999.0,9,   -999.0,9,  5.8831
     316N142_3,   A15,    29,  1,     24,     24,2,19940414,1011,  6.9988, -19.0032, 4567,    909.3,   5.2406,  34.6604,2,  34.6614,2,    123.9,2,    120.8,2,    30.97,2,    34.39,2,     0.00,2,     2.39,2, -999.000,9, -999.000,9, -999.000,9,   -999.0,9,   -999.0,9,  5.1635
     316N142_3,   A15,    29,  1,     23,     23,2,19940414,1011,  6.9988, -19.0032, 4567,   1061.0,   4.8213,  34.7477,2,  34.7509,2,    149.7,2,    147.4,2,    29.69,2,    31.20,2,     0.00,2,     2.18,2, -999.000,9, -999.000,9, -999.000,9,   -999.0,9,   -999.0,9,  4.7334
     316N142_3,   A15,    29,  1,     22,     22,2,19940414,1011,  6.9988, -19.0032, 4567,   1212.3,   4.5873,  34.8594,2,  34.8601,2,    176.2,2,    172.1,2,    26.93,2,    27.72,2,     0.00,2,     1.94,2, -999.000,9, -999.000,9, -999.000,9,   -999.0,9,   -999.0,9,  4.4875
     316N142_3,   A15,    29,  1,     21,     21,2,19940414,1011,  6.9988, -19.0032, 4567,   1364.3,   4.3044,  34.9142,2,  34.9141,2,    201.0,2,    198.2,2,    24.54,2,    24.69,2,     0.00,2,     1.73,2, -999.000,9, -999.000,9, -999.000,9,   -999.0,9,   -999.0,9,  4.1934
     316N142_3,   A15,    29,  1,     20,     20,2,19940414,1011,  6.9988, -19.0032, 4567,   1515.5,   4.0899,  34.9413,2,  34.9406,2,    219.3,2,    215.4,2,    23.40,2,    22.87,2,     0.00,2,     1.60,2, -999.000,9, -999.000,9, -999.000,9,   -999.0,9,   -999.0,9,  3.9673
     316N142_3,   A15,    29,  1,     19,     19,2,19940414,1011,  6.9988, -19.0032, 4567,   1667.0,   3.8629,  34.9513,2,  34.9520,2,    229.1,2,    226.6,2,    23.37,2,    21.80,2,     0.00,2,     1.53,2, -999.000,9, -999.000,9, -999.000,9,   -999.0,9,   -999.0,9,  3.7291
     316N142_3,   A15,    29,  1,     40,     40,2,19940414,1011,  6.9988, -19.0032, 4567,   1768.3,   3.7310,  34.9542,2,  34.9568,2,    234.2,2,    231.7,2,    23.60,2,    21.24,2,     0.00,2,     1.50,2, -999.000,9, -999.000,9, -999.000,9,   -999.0,9,   -999.0,9,  3.5894
     316N142_3,   A15,    29,  1,     17,     17,2,19940414,1011,  6.9988, -19.0032, 4567,   1869.9,   3.6140,  34.9531,2,  34.9546,2,    236.7,2,    234.1,2,    24.56,2,    21.10,2,     0.00,2,     1.48,2, -999.000,9, -999.000,9, -999.000,9,   -999.0,9,   -999.0,9,  3.4646
     316N142_3,   A15,    29,  1,     16,     16,2,19940414,1011,  6.9988, -19.0032, 4567,   2021.9,   3.4495,  34.9505,2,  34.9513,2,    238.4,2,    237.4,2,    25.77,2,    20.91,2,     0.00,2,     1.47,2, -999.000,9, -999.000,9, -999.000,9,   -999.0,9,   -999.0,9,  3.2881
     316N142_3,   A15,    29,  1,     15,     15,2,19940414,1011,  6.9988, -19.0032, 4567,   2174.3,   3.3238,  34.9479,2,  34.9486,2,    240.4,2,    239.6,2,    27.48,2,    20.82,2,     0.00,2,     1.47,2, -999.000,9, -999.000,9, -999.000,9,   -999.0,9,   -999.0,9,  3.1498
     316N142_3,   A15,    29,  1,     14,     14,2,19940414,1011,  6.9988, -19.0032, 4567,   2325.8,   3.1360,  34.9427,2,  34.9423,2,    242.0,2,    241.5,2,    30.05,2,    20.83,2,     0.00,2,     1.47,2, -999.000,9, -999.000,9, -999.000,9,   -999.0,9,   -999.0,9,  2.9506
     316N142_3,   A15,    29,  1,     13,     13,2,19940414,1011,  6.9988, -19.0032, 4567,   2478.2,   2.9964,  34.9367,2,  34.9352,2,    243.2,2,    243.0,2,    32.24,2,    20.83,2,     0.00,2,     1.46,2, -999.000,9, -999.000,9, -999.000,9,   -999.0,9,   -999.0,9,  2.7987
     316N142_3,   A15,    29,  1,     12,     12,2,19940414,1011,  6.9988, -19.0032, 4567,   2629.9,   2.8927,  34.9309,2,  34.9305,2,    242.5,2,    242.8,2,    34.31,2,    20.88,2,     0.00,2,     1.45,2, -999.000,9, -999.000,9, -999.000,9,   -999.0,9,   -999.0,9,  2.6820
     316N142_3,   A15,    29,  1,     11,     11,2,19940414,1011,  6.9988, -19.0032, 4567,   2782.3,   2.8179,  34.9267,2,  34.9256,2,    242.1,2,    242.7,2,    36.01,2,    21.02,2,     0.00,2,     1.46,2, -999.000,9, -999.000,9, -999.000,9,   -999.0,9,   -999.0,9,  2.5934
     316N142_3,   A15,    29,  1,     10,     10,2,19940414,1011,  6.9988, -19.0032, 4567,   2934.5,   2.7534,  34.9230,2,  34.9219,2,    242.6,2,    242.9,2,    37.34,2,    21.12,2,     0.00,2,     1.47,2, -999.000,9, -999.000,9, -999.000,9,   -999.0,9,   -999.0,9,  2.5148
     316N142_3,   A15,    29,  1,      9,      9,2,19940414,1011,  6.9988, -19.0032, 4567,   3138.5,   2.6546,  34.9169,2,  34.9156,2,    242.0,2,    242.9,2,    39.15,2,    21.22,2,     0.00,2,     1.48,2, -999.000,9, -999.000,9, -999.000,9,   -999.0,9,   -999.0,9,  2.3970
     316N142_3,   A15,    29,  1,      8,      8,2,19940414,1011,  6.9988, -19.0032, 4567,   3342.4,   2.5592,  34.9096,2,  34.9082,2,    241.7,2,    242.9,2,    41.71,2,    21.31,2,     0.00,2,     1.49,2, -999.000,9, -999.000,9, -999.000,9,   -999.0,9,   -999.0,9,  2.2824
     316N142_3,   A15,    29,  1,      7,      7,2,19940414,1011,  6.9988, -19.0032, 4567,   3546.3,   2.4998,  34.9040,2,  34.9037,2,    243.6,2,    243.0,2,    43.27,2,    21.46,2,     0.00,2,     1.49,2, -999.000,9, -999.000,9, -999.000,9,   -999.0,9,   -999.0,9,  2.2024
     316N142_3,   A15,    29,  1,      6,      6,2,19940414,1011,  6.9988, -19.0032, 4567,   3749.2,   2.4455,  34.8993,2,  34.8982,2,    244.8,2,    243.1,2,    44.71,2,    21.60,2,     0.00,2,     1.50,2, -999.000,9, -999.000,9, -999.000,9,   -999.0,9,   -999.0,9,  2.1271
     316N142_3,   A15,    29,  1,      5,      5,2,19940414,1011,  6.9988, -19.0032, 4567,   3952.4,   2.3955,  34.8939,2,  34.8929,2,    243.5,3,    242.1,2,    46.65,2,    21.84,2,     0.00,2,     1.52,2, -999.000,9, -999.000,9, -999.000,9,   -999.0,9,   -999.0,9,  2.0557
     316N142_3,   A15,    29,  1,      4,      4,2,19940414,1011,  6.9988, -19.0032, 4567,   4158.6,   2.3420,  34.8876,2,  34.8864,2,    244.7,3,    241.7,2,    48.70,2,    21.98,2,     0.00,2,     1.53,2, -999.000,9, -999.000,9, -999.000,9,   -999.0,9,   -999.0,9,  1.9799
     316N142_3,   A15,    29,  1,      3,      3,2,19940414,1011,  6.9988, -19.0032, 4567,   4364.2,   2.3083,  34.8812,2,  34.8807,2,    245.9,4,    241.7,2,    50.14,2,    22.17,2,     0.00,2,     1.55,2, -999.000,9, -999.000,9, -999.000,9,   -999.0,9,   -999.0,9,  1.9232
     316N142_3,   A15,    29,  1,      2,      2,2,19940414,1011,  6.9988, -19.0032, 4567,   4568.8,   2.2635,  34.8744,2,  34.8743,2,    249.4,4,    241.0,2,    52.31,2,    22.41,2,     0.00,2,     1.57,2, -999.000,9, -999.000,9, -999.000,9,   -999.0,9,   -999.0,9,  1.8553
     316N142_3,   A15,    29,  1,      1,      1,2,19940414,1011,  6.9988, -19.0032, 4567,   4661.2,   2.2605,  34.8724,2,  34.8735,2,    247.2,4,    240.9,2,    52.76,2,    22.51,2,     0.00,2,     1.58,2, -999.000,9, -999.000,9, -999.000,9,   -999.0,9,   -999.0,9,  1.8413