BOTTLE,20020814WHPSIOKJU
EXPOCODE,SECT_ID,STNNBR,CASTNO,SAMPNO,BTLNBR,BTLNBR_FLAG_W,DATE,TIME,LATITUDE,LONGITUDE,DEPTH,CTDPRS,CTDTMP,CTDSAL,CTDSAL_FLAG_W,SALNTY,SALNTY_FLAG_W,CTDOXY,CTDOXY_FLAG_W,OXYGEN,OXYGEN_FLAG_W,SILCAT,SILCAT_FLAG_W,NITRAT,NITRAT_FLAG_W,NITRIT,NITRIT_FLAG_W,PHSPHT,PHSPHT_FLAG_W,CFC-11,CFC-11_FLAG_W,CFC-12,CFC-12_FLAG_W,CCL4,CCL4_FLAG_W,TCARBN,TCARBN_FLAG_W,ALKALI,ALKALI_FLAG_W,THETA
,,,,,,,,,,,,DBAR,ITS-90,PSS-78,,PSS-78,,UMOL/KG,,UMOL/KG,,UMOL/KG,,UMOL/KG,,UMOL/KG,,UMOL/KG,,PMOL/KG,,PMOL/KG,,PMOL/KG,,UMOL/KG,,UMOL/KG,,DEG C
     316N142_3,  AR15,   110,  1,     39,     39,2,19940508,2141,-18.6162, -17.8933, 4487,      6.6,  25.5094,  36.9530,2,  36.9556,2,    205.3,2,    206.7,2,     1.94,2,     0.02,2,     0.00,2,     0.21,2,    1.755,2,    1.042,9, -999.000,9,   2075.3,2,   2422.1,2, 25.5079
     316N142_3,  AR15,   110,  1,     35,     35,2,19940508,2141,-18.6162, -17.8933, 4487,     66.0,  25.5187,  36.9657,2,  36.9566,2,    206.5,2,    207.5,2,     1.78,2,     0.02,2,     0.00,2,     0.21,2, -999.000,9, -999.000,9, -999.000,9,   2075.7,2,   2422.3,2, 25.5040
     316N142_3,  AR15,   110,  1,     38,     38,2,19940508,2141,-18.6162, -17.8933, 4487,    101.7,  22.2490,  36.4494,2,  36.4481,2,    228.5,2,    227.4,2,     1.90,2,     0.02,2,     0.00,2,     0.19,2,    2.226,2,    1.206,2,    1.722,2,   2066.8,2,   2388.6,2, 22.2286
     316N142_3,  AR15,   110,  1,     33,     33,2,19940508,2141,-18.6162, -17.8933, 4487,    207.3,  15.7463,  35.5362,2,  35.5237,2,    204.5,2,    194.1,2,     3.70,2,     6.22,2,     0.00,2,     0.64,2,    2.371,2,    1.306,2,    0.794,2,   2101.2,2,   2328.1,2, 15.7137
     316N142_3,  AR15,   110,  1,     41,     41,2,19940508,2141,-18.6162, -17.8933, 4487,    307.3,  11.9881,  35.0464,2,  35.0361,2,    172.3,2,    168.0,4,     7.75,2,    16.76,2,     0.00,2,     1.21,2,    1.820,2,    0.998,2,    1.125,2,   2138.4,2,   2301.2,2, 11.9478
     316N142_3,  AR15,   110,  1,     31,     31,2,19940508,2141,-18.6162, -17.8933, 4487,    407.9,   8.8757,  34.7209,2,  34.7180,2,    153.1,2,    151.2,2,    14.32,2,    25.79,2,     0.00,2,     1.74,2,    1.029,2,    0.566,2,    0.916,2,   2174.2,2,   2290.6,2,  8.8314
     316N142_3,  AR15,   110,  1,     37,     37,2,19940508,2141,-18.6162, -17.8933, 4487,    487.3,   7.4362,  34.6023,2,  34.6002,2,    149.2,2,    146.2,2,    18.94,2,    29.97,2,     0.00,2,     2.00,2,    0.573,6,    0.330,6,    1.064,6,   2191.1,2,   2288.4,2,  7.3883
     316N142_3,  AR15,   110,  1,     29,     29,2,19940508,2141,-18.6162, -17.8933, 4487,    606.5,   5.5354,  34.4710,2,  34.4697,2,    153.9,2,    155.9,2,    26.81,2,    33.40,2,     0.00,2,     2.21,2,    0.226,2,    0.127,2,    0.268,2,   2202.7,2,   2289.4,2,  5.4842
     316N142_3,  AR15,   110,  1,     28,     28,2,19940508,2141,-18.6162, -17.8933, 4487,    738.7,   4.4741,  34.4339,2,  34.4340,2,    167.8,2,    169.7,2,    33.57,2,    33.96,2,     0.00,2,     2.27,2,    0.111,2,    0.063,2,    0.551,2,   2207.6,2,   2295.4,2,  4.4171
     316N142_3,  AR15,   110,  1,     27,     27,2,19940508,2141,-18.6162, -17.8933, 4487,    850.0,   3.9889,  34.4564,2,  34.4548,2,    174.6,2,    176.0,2,    38.09,2,    33.57,2,     0.00,2,     2.27,2,    0.046,4,    0.040,2,    0.614,2,   2211.0,2,   2299.6,2,  3.9257
     316N142_3,  AR15,   110,  1,     26,     26,2,19940508,2141,-18.6162, -17.8933, 4487,    959.0,   3.7639,  34.5050,2,  34.5039,2,    178.2,2,    179.5,2,    40.34,2,    32.89,2,     0.00,2,     2.24,2, -999.000,9, -999.000,9, -999.000,9,   -999.0,9,   -999.0,9,  3.6934
     316N142_3,  AR15,   110,  1,     25,     25,2,19940508,2141,-18.6162, -17.8933, 4487,   1027.9,   3.6674,  34.5595,2,  34.5583,2,    180.4,2,    182.6,2,    41.18,2,    31.92,2,     0.00,2,     2.18,2, -999.000,9,    0.020,2,    0.548,2,   2211.8,2,   2307.1,2,  3.5919
     316N142_3,  AR15,   110,  1,     24,     24,2,19940508,2141,-18.6162, -17.8933, 4487,   1127.2,   3.7410,  34.6703,2,  34.6689,2,    185.3,2,    188.0,2,    37.48,2,    29.94,2,     0.00,2,     2.04,2, -999.000,9, -999.000,9, -999.000,9,   -999.0,9,   -999.0,9,  3.6566
     316N142_3,  AR15,   110,  1,     23,     23,2,19940508,2141,-18.6162, -17.8933, 4487,   1221.9,   3.8262,  34.7530,2,  34.7525,2,    192.3,2,    195.2,2,    33.78,2,    28.02,2,     0.00,2,     1.91,2, -999.000,9, -999.000,9, -999.000,9,   2200.4,2,   2311.4,2,  3.7328
     316N142_3,  AR15,   110,  1,     22,     22,2,19940508,2141,-18.6162, -17.8933, 4487,   1287.5,   4.1954,  34.8638,2,  34.8642,2,    202.4,2,    205.1,2,    25.57,2,    25.09,2,     0.00,2,     1.71,2, -999.000,9,    0.027,2,    0.416,2,   -999.0,9,   -999.0,9,  4.0925
     316N142_3,  AR15,   110,  1,     21,     21,2,19940508,2141,-18.6162, -17.8933, 4487,   1391.5,   4.2142,  34.9345,2,  34.9337,2,    217.2,2,    221.7,2,    21.19,2,    22.46,2,     0.00,2,     1.53,2, -999.000,9, -999.000,9, -999.000,9,   2177.0,2,   2309.7,2,  4.1016
     316N142_3,  AR15,   110,  1,     20,     20,2,19940508,2141,-18.6162, -17.8933, 4487,   1518.1,   4.0294,  34.9673,2,  34.9677,2,    234.0,2,    238.4,2,    18.78,2,    20.23,2,     0.00,2,     1.39,2, -999.000,9,    0.040,2,    0.543,2,   -999.0,9,   -999.0,9,  3.9072
     316N142_3,  AR15,   110,  1,     19,     19,2,19940508,2141,-18.6162, -17.8933, 4487,   1729.6,   3.8675,  34.9743,2,  34.9755,2,    245.9,2,    246.7,2,    18.48,2,    19.31,2,     0.00,2,     1.33,2, -999.000,9,    0.041,6,    0.641,6,   2163.8,2,   2311.1,2,  3.7277
     316N142_3,  AR15,   110,  1,     40,     40,2,19940508,2141,-18.6162, -17.8933, 4487,   1942.9,   3.7575,  34.9740,2,  34.9759,2,    250.9,2,    250.3,2,    19.03,2,    19.09,2,     0.00,2,     1.31,2, -999.000,9, -999.000,9, -999.000,9,   -999.0,9,   -999.0,9,  3.5990
     316N142_3,  AR15,   110,  1,     17,     17,2,19940508,2141,-18.6162, -17.8933, 4487,   2109.2,   3.6408,  34.9707,2,  34.9728,2,    253.6,2,    252.1,2,    19.86,2,    18.98,2,     0.00,2,     1.30,2, -999.000,9,    0.043,2,    0.562,2,   -999.0,9,   2312.6,2,  3.4680
     316N142_3,  AR15,   110,  1,     16,     16,2,19940508,2141,-18.6162, -17.8933, 4487,   2289.2,   3.5275,  34.9653,2,  34.9661,2,    254.0,2,    253.3,2,    20.83,2,    19.12,2,     0.00,2,     1.31,2, -999.000,9, -999.000,9, -999.000,9,   -999.0,9,   -999.0,9,  3.3390
     316N142_3,  AR15,   110,  1,     15,     15,2,19940508,2141,-18.6162, -17.8933, 4487,   2464.5,   3.2999,  34.9504,2,  34.9523,2,    253.1,2,    252.6,2,    24.48,2,    19.61,2,     0.00,2,     1.34,2, -999.000,9, -999.000,9, -999.000,9,   2168.0,2,   2315.7,2,  3.0979
     316N142_3,  AR15,   110,  1,     14,     14,2,19940508,2141,-18.6162, -17.8933, 4487,   2518.1,   3.0893,  34.9202,2,  34.9205,2,    244.9,2,    245.3,2,    31.39,2,    21.22,2,     0.00,2,     1.45,2, -999.000,9,    0.015,2,    0.073,2,   -999.0,9,   -999.0,9,  2.8860
     316N142_3,  AR15,   110,  1,     13,     13,2,19940508,2141,-18.6162, -17.8933, 4487,   2643.6,   3.0177,  34.9209,2,  34.9205,2,    248.0,2,    246.6,2,    32.65,2,    20.95,2,     0.00,2,     1.44,2, -999.000,9, -999.000,9, -999.000,9,   2175.1,2,   2322.7,2,  2.8033
     316N142_3,  AR15,   110,  1,     12,     12,2,19940508,2141,-18.6162, -17.8933, 4487,   2793.7,   2.9418,  34.9306,2,  34.9307,2,    252.4,2,    252.1,2,    30.52,2,    20.19,2,     0.00,2,     1.38,2, -999.000,9, -999.000,9, -999.000,9,   -999.0,9,   -999.0,9,  2.7137
     316N142_3,  AR15,   110,  1,     11,     11,2,19940508,2141,-18.6162, -17.8933, 4487,   3005.4,   2.7633,  34.9210,2,  34.9205,2,    252.0,2,    252.3,2,    33.19,2,    20.27,2,     0.00,2,     1.39,2, -999.000,9,    0.016,2,    0.274,2,   2175.7,2,   2325.2,2,  2.5172
     316N142_3,  AR15,   110,  1,     10,     10,2,19940508,2141,-18.6162, -17.8933, 4487,   3215.4,   2.6111,  34.9117,2,  34.9114,2,    254.0,2,    254.0,2,    35.31,2,    20.17,2,     0.00,2,     1.40,2, -999.000,9, -999.000,9, -999.000,9,   -999.0,9,   -999.0,9,  2.3465
     316N142_3,  AR15,   110,  1,      9,      9,2,19940508,2141,-18.6162, -17.8933, 4487,   3422.6,   2.4226,  34.8964,2,  34.8955,2,    252.3,2,    253.4,2,    40.27,2,    20.90,2,     0.00,2,     1.43,2, -999.000,9, -999.000,9,    0.175,2,   2180.0,2,   2330.0,2,  2.1405
     316N142_3,  AR15,   110,  1,      8,      8,2,19940508,2141,-18.6162, -17.8933, 4487,   3524.8,   2.1484,  34.8643,2,  34.8647,2,    246.1,2,    246.3,2,    52.55,2,    22.94,2,     0.00,2,     1.57,2, -999.000,9, -999.000,9, -999.000,9,   -999.0,9,   -999.0,9,  1.8623
     316N142_3,  AR15,   110,  1,      7,      7,2,19940508,2141,-18.6162, -17.8933, 4487,   3628.5,   1.9126,  34.8358,2,  34.8352,2,    241.0,2,    240.0,2,    63.92,2,    24.74,2,     0.00,2,     1.69,2, -999.000,9, -999.000,9, -999.000,9,   -999.0,9,   2343.1,2,  1.6217
     316N142_3,  AR15,   110,  1,      6,      6,2,19940508,2141,-18.6162, -17.8933, 4487,   3835.7,   1.8068,  34.8226,2,  34.8233,2,    237.9,2,    238.1,2,    68.70,2,    25.42,2,     0.00,2,     1.73,2, -999.000,9,    0.009,2, -999.000,9,   -999.0,9,   -999.0,9,  1.4964
     316N142_3,  AR15,   110,  1,      5,      5,2,19940508,2141,-18.6162, -17.8933, 4487,   4029.3,   1.7363,  34.8149,2,  34.8144,2,    238.1,2,    238.0,2,    72.19,2,    25.86,2,     0.00,2,     1.76,2, -999.000,9, -999.000,9, -999.000,9,   2214.5,2,   2347.5,2,  1.4067
     316N142_3,  AR15,   110,  1,      4,      4,2,19940508,2141,-18.6162, -17.8933, 4487,   4214.7,   1.2452,  34.7689,2,  34.7685,2,    232.8,2,    231.9,2,    90.42,2,    28.21,2,     0.00,2,     1.92,2, -999.000,9, -999.000,9, -999.000,9,   -999.0,9,   -999.0,9,  0.9096
     316N142_3,  AR15,   110,  1,      3,      3,2,19940508,2141,-18.6162, -17.8933, 4487,   4398.0,   1.1408,  34.7567,2,  34.7575,2,    230.6,2,    230.6,2,    93.25,2,    28.77,2,     0.00,2,     1.96,2, -999.000,9,    0.022,2,    0.058,2,   2234.3,2,   2357.4,2,  0.7880
     316N142_3,  AR15,   110,  1,      2,      2,2,19940508,2141,-18.6162, -17.8933, 4487,   4550.9,   1.1449,  34.7558,2,  34.7569,2,    230.8,2,    230.4,2,    93.54,2,    28.91,2,     0.00,2,     1.97,2, -999.000,9, -999.000,9, -999.000,9,   -999.0,9,   -999.0,9,  0.7747
     316N142_3,  AR15,   110,  1,      1,      1,2,19940508,2141,-18.6162, -17.8933, 4487,   4693.6,   1.1481,  34.7545,2,  34.7555,2,    230.2,2,    230.1,2,    94.14,2,    29.05,2,     0.00,2,     1.99,2, -999.000,9,    0.010,2,    0.073,2,   2237.0,2,   2362.0,2,  0.7614