BOTTLE,20020814WHPSIOKJU
EXPOCODE,SECT_ID,STNNBR,CASTNO,SAMPNO,BTLNBR,BTLNBR_FLAG_W,DATE,TIME,LATITUDE,LONGITUDE,DEPTH,CTDPRS,CTDTMP,CTDSAL,CTDSAL_FLAG_W,SALNTY,SALNTY_FLAG_W,CTDOXY,CTDOXY_FLAG_W,OXYGEN,OXYGEN_FLAG_W,SILCAT,SILCAT_FLAG_W,NITRAT,NITRAT_FLAG_W,NITRIT,NITRIT_FLAG_W,PHSPHT,PHSPHT_FLAG_W,CFC-11,CFC-11_FLAG_W,CFC-12,CFC-12_FLAG_W,CCL4,CCL4_FLAG_W,TCARBN,TCARBN_FLAG_W,ALKALI,ALKALI_FLAG_W,THETA
,,,,,,,,,,,,DBAR,ITS-90,PSS-78,,PSS-78,,UMOL/KG,,UMOL/KG,,UMOL/KG,,UMOL/KG,,UMOL/KG,,UMOL/KG,,PMOL/KG,,PMOL/KG,,PMOL/KG,,UMOL/KG,,UMOL/KG,,DEG C
     316N142_3,  AR15,    13,  1,     39,     39,2,19940407,0429, -0.9858, -35.9465, 4376,      1.9,  28.3293,  35.7045,2,  35.7076,2,    203.4,2,    203.9,2,     2.07,2,     0.14,2,     0.00,2,     0.11,2,    1.744,2,    0.979,2,    2.121,2,   1987.9,2,   2335.1,2, 28.3288
     316N142_3,  AR15,    13,  1,     35,     35,2,19940407,0429, -0.9858, -35.9465, 4376,     82.2,  24.1225,  36.2102,2,  36.1792,2,    192.7,2,    174.4,2,     2.64,2,     0.86,2,     0.16,2,     0.30,2,    1.869,2,    0.976,2,    1.068,2,   2088.4,2,   2322.5,2, 24.1051
     316N142_3,  AR15,    13,  1,     38,     38,2,19940407,0429, -0.9858, -35.9465, 4376,    137.8,  13.8795,  35.3905,2,  35.4383,2,    153.3,2,    137.3,2,     7.34,2,    16.84,2,     0.02,2,     1.09,2, -999.000,9, -999.000,9, -999.000,9,   2156.4,2,   -999.0,9, 13.8597
     316N142_3,  AR15,    13,  1,     33,     33,2,19940407,0429, -0.9858, -35.9465, 4376,    187.8,  12.2396,  35.1785,2,  35.1793,2,    105.3,2,    105.6,2,    10.39,2,    23.63,2,     0.00,2,     1.49,2,    1.086,6,    0.524,6,    0.341,6,   2188.0,2,   2309.4,2, 12.2147
     316N142_3,  AR15,    13,  1,     32,     32,2,19940407,0429, -0.9858, -35.9465, 4376,    242.9,  11.2395,  35.0586,2,  35.0602,2,    113.6,2,    108.7,2,    11.90,2,    25.23,2,     0.00,2,     1.59,2, -999.000,9, -999.000,9, -999.000,9,   2190.3,2,   2302.7,2, 11.2091
     316N142_3,  AR15,    13,  1,     31,     31,2,19940407,0429, -0.9858, -35.9465, 4376,    333.2,   9.5011,  34.8587,2,  34.8608,2,    114.2,2,    114.4,2,    14.60,2,    28.02,2,     0.00,2,     1.79,2,    0.517,2,    0.328,2,    0.431,2,   -999.0,9,   -999.0,9,  9.4634
     316N142_3,  AR15,    13,  1,     37,     37,2,19940407,0429, -0.9858, -35.9465, 4376,    438.8,   6.6471,  34.5616,2,  34.5615,2,    154.6,2,    154.5,2,    21.08,2,    30.04,2,     0.00,2,     1.99,2, -999.000,9, -999.000,9, -999.000,9,   2199.0,2,   2295.0,2,  6.6067
     316N142_3,  AR15,    13,  1,     29,     29,2,19940407,0429, -0.9858, -35.9465, 4376,    529.7,   6.2396,  34.5492,2,  34.5532,2,    137.5,2,    140.9,2,    23.55,2,    32.43,2,     0.00,2,     2.14,2, -999.000,9, -999.000,9, -999.000,9,   2215.0,2,   2291.2,2,  6.1922
     316N142_3,  AR15,    13,  1,     28,     28,2,19940407,0429, -0.9858, -35.9465, 4376,    670.4,   5.3604,  34.5017,2,  34.5118,2,    151.4,2,    146.8,2,    28.14,2,    33.72,2,     0.00,2,     2.25,2,    0.071,2,    0.080,2,    0.403,2,   2217.1,2,   2297.5,2,  5.3043
     316N142_3,  AR15,    13,  1,     27,     27,2,19940407,0429, -0.9858, -35.9465, 4376,    790.9,   4.7113,  34.5091,2,  34.5102,2,    157.2,2,    156.4,2,    31.91,2,    33.52,2,     0.00,2,     2.27,2, -999.000,9, -999.000,9, -999.000,9,   2220.4,2,   2303.7,2,  4.6484
     316N142_3,  AR15,    13,  1,     26,     26,2,19940407,0429, -0.9858, -35.9465, 4376,    860.9,   4.6122,  34.5496,2,  34.5528,2,    157.7,2,    155.9,2,    32.24,2,    33.13,2,     0.00,2,     2.27,2,    0.062,2,    0.026,2,    0.179,2,   2219.3,2,   2299.5,2,  4.5438
     316N142_3,  AR15,    13,  1,     25,     25,2,19940407,0429, -0.9858, -35.9465, 4376,   1012.5,   4.4772,  34.6732,2,  34.6697,2,    160.9,2,    163.1,2,    30.92,2,    31.23,2,     0.00,2,     2.14,2, -999.000,9, -999.000,9, -999.000,9,   2213.0,2,   2304.5,2,  4.3965
     316N142_3,  AR15,    13,  1,     24,     24,2,19940407,0429, -0.9858, -35.9465, 4376,   1133.6,   4.5084,  34.7399,2,  34.7414,2,    168.7,2,    170.2,2,    28.89,2,    29.64,2,     0.00,2,     2.02,2,    0.051,2,    0.007,2,    0.048,2,   2214.9,2,   2313.0,2,  4.4167
     316N142_3,  AR15,    13,  1,     23,     23,2,19940407,0429, -0.9858, -35.9465, 4376,   1264.4,   4.6574,  34.8673,2,  34.8680,2,    184.6,2,    191.3,2,    23.79,2,    25.83,2,     0.00,2,     1.75,2,    0.067,2,    0.029,2,    0.249,2,   2196.1,2,   2306.8,2,  4.5522
     316N142_3,  AR15,    13,  1,     22,     22,2,19940407,0429, -0.9858, -35.9465, 4376,   1416.5,   4.3452,  34.9578,2,  34.9597,2,    224.1,2,    224.8,2,    19.27,2,    21.63,2,     0.00,2,     1.45,2,    0.073,2,    0.047,2,    0.404,2,   2176.4,2,   2308.4,2,  4.2289
     316N142_3,  AR15,    13,  1,     21,     21,2,19940407,0429, -0.9858, -35.9465, 4376,   1567.5,   4.1907,  34.9761,2,  34.9784,2,    238.3,2,    237.0,2,    17.95,2,    20.32,2,     0.00,2,     1.34,2,    0.058,2,    0.048,2,    0.491,2,   2169.6,2,   2310.0,2,  4.0620
     316N142_3,  AR15,    13,  1,     20,     20,2,19940407,0429, -0.9858, -35.9465, 4376,   1719.3,   3.9930,  34.9781,2,  34.9795,2,    247.2,2,    244.1,2,    17.94,2,    19.72,2,     0.00,2,     1.29,2,    0.038,6,    0.029,6,    0.462,6,   2168.2,2,   2309.5,2,  3.8526
     316N142_3,  AR15,    13,  1,     19,     19,2,19940407,0429, -0.9858, -35.9465, 4376,   1870.6,   3.8061,  34.9822,2,  34.9902,4,    253.7,2,    252.7,2,    17.68,2,    18.98,2,     0.00,2,     1.22,2,    0.113,2,    0.058,2,    0.576,2,   2163.6,2,   2307.9,2,  3.6539
     316N142_3,  AR15,    13,  1,     18,     18,2,19940407,0429, -0.9858, -35.9465, 4376,   2022.8,   3.5784,  34.9748,2,  34.9783,4,    258.9,2,    256.0,2,    18.96,2,    18.94,2,     0.00,2,     1.21,2,    0.056,2,    0.038,2,    0.516,2,   2162.0,2,   2309.6,2,  3.4150
     316N142_3,  AR15,    13,  1,     17,     17,2,19940407,0429, -0.9858, -35.9465, 4376,   2174.6,   3.4562,  34.9677,2,  34.9718,4,    257.2,2,    256.3,2,    20.37,2,    19.04,2,     0.00,2,     1.21,2, -999.000,9, -999.000,9, -999.000,9,   2163.9,2,   2310.3,2,  3.2801
     316N142_3,  AR15,    13,  1,     16,     16,2,19940407,0429, -0.9858, -35.9465, 4376,   2377.8,   3.2034,  34.9550,2,  34.9590,4,    257.8,2,    257.1,2,    23.43,2,    19.23,2,     0.00,2,     1.22,2, -999.000,9, -999.000,9, -999.000,9,   -999.0,9,   -999.0,9,  3.0118
     316N142_3,  AR15,    13,  1,     15,     15,2,19940407,0429, -0.9858, -35.9465, 4376,   2580.6,   2.9554,  34.9441,2,  34.9449,2,    260.0,2,    259.3,2,    24.95,2,    19.00,2,     0.00,2,     1.21,2,    0.017,4,    0.029,2,    0.530,2,   2166.5,2,   2315.9,2,  2.7484
     316N142_3,  AR15,    13,  1,     14,     14,2,19940407,0429, -0.9858, -35.9465, 4376,   2784.0,   2.8087,  34.9348,2,  34.9370,2,    260.0,2,    259.3,2,    27.06,2,    19.14,2,     0.00,2,     1.23,2, -999.000,9, -999.000,9, -999.000,9,   -999.0,9,   -999.0,9,  2.5842
     316N142_3,  AR15,    13,  1,     13,     13,2,19940407,0429, -0.9858, -35.9465, 4376,   2987.4,   2.7069,  34.9259,2,  34.9303,2,    257.7,2,    257.4,2,    30.01,2,    19.56,2,     0.00,2,     1.25,2, -999.000,9, -999.000,9, -999.000,9,   2173.6,2,   2320.5,2,  2.4638
     316N142_3,  AR15,    13,  1,     12,     12,2,19940407,0429, -0.9858, -35.9465, 4376,   3129.6,   2.6720,  34.9239,2,  34.9265,2,    259.0,2,    258.9,2,    29.63,2,    19.33,2,     0.00,2,     1.23,2,    0.060,2,    0.033,2,    0.335,2,   -999.0,9,   -999.0,9,  2.4149
     316N142_3,  AR15,    13,  1,     11,     11,2,19940407,0429, -0.9858, -35.9465, 4376,   3292.3,   2.5658,  34.9176,2,  34.9189,2,    260.7,2,    261.1,2,    29.73,2,    19.15,2,     0.00,2,     1.23,2, -999.000,9, -999.000,9, -999.000,9,   2172.5,2,   2320.2,2,  2.2941
     316N142_3,  AR15,    13,  1,     10,     10,2,19940407,0429, -0.9858, -35.9465, 4376,   3444.7,   2.4695,  34.9108,2,  34.9122,2,    261.3,2,    261.2,2,    30.90,2,    19.20,2,     0.00,2,     1.22,2,    0.044,2,    0.035,2,    0.348,2,   -999.0,9,   -999.0,9,  2.1838
     316N142_3,  AR15,    13,  1,      9,      9,2,19940407,0429, -0.9858, -35.9465, 4376,   3597.4,   2.4166,  34.9075,2,  34.9092,2,    262.1,2,    263.1,2,    30.77,2,    18.92,2,     0.00,2,     1.21,2,    0.086,2,    0.047,2,    0.536,2,   2173.7,2,   2321.8,2,  2.1157
     316N142_3,  AR15,    13,  1,      8,      8,2,19940407,0429, -0.9858, -35.9465, 4376,   3750.7,   2.3322,  34.9009,2,  34.9029,2,    262.5,2,    263.1,2,    32.29,2,    18.97,2,     0.00,2,     1.22,2,    0.083,2,    0.064,2,    0.510,2,   -999.0,9,   -999.0,9,  2.0166
     316N142_3,  AR15,    13,  1,      7,      7,2,19940407,0429, -0.9858, -35.9465, 4376,   3852.9,   2.3220,  34.8996,2,  34.9072,4,    262.7,2,    263.6,2,    32.16,2,    18.88,2,     0.00,2,     1.21,2,    0.085,2,    0.075,2,    0.574,2,   2174.2,2,   2324.4,2,  1.9953
     316N142_3,  AR15,    13,  1,      6,      6,2,19940407,0429, -0.9858, -35.9465, 4376,   3954.9,   2.2435,  34.8903,2,  34.8905,2,    261.1,2,    261.0,2,    36.29,2,    19.54,2,     0.00,2,     1.25,2,    0.019,4,    0.037,2,    0.490,2,   -999.0,9,   -999.0,9,  1.9076
     316N142_3,  AR15,    13,  1,      5,      5,2,19940407,0429, -0.9858, -35.9465, 4376,   4057.4,   2.1393,  34.8778,2,  34.8812,4,    259.1,2,    258.6,2,    41.26,2,    20.23,2,     0.00,2,     1.31,2, -999.000,9, -999.000,9, -999.000,9,   2183.7,2,   2332.6,2,  1.7947
     316N142_3,  AR15,    13,  1,      4,      4,2,19940407,0429, -0.9858, -35.9465, 4376,   4160.4,   1.7253,  34.8287,2,  34.8297,2,    247.8,2,    245.3,2,    62.98,2,    23.75,2,     0.00,2,     1.55,2,    0.000,4,    0.011,2,    0.169,2,   -999.0,9,   -999.0,9,  1.3812
     316N142_3,  AR15,    13,  1,      3,      3,2,19940407,0429, -0.9858, -35.9465, 4376,   4262.3,   1.4805,  34.7991,2,  34.8010,2,    239.3,2,    239.0,2,    75.13,2,    25.58,2,     0.00,2,     1.69,2, -999.000,9, -999.000,9, -999.000,9,   2221.0,2,   2351.5,2,  1.1324
     316N142_3,  AR15,    13,  1,      2,      2,2,19940407,0429, -0.9858, -35.9465, 4376,   4364.6,   1.1726,  34.7643,2,  34.7697,2,    231.9,2,    232.1,2,    89.28,2,    27.63,2,     0.00,2,     1.85,2,    0.000,4,    0.014,2,    0.015,2,   -999.0,9,   -999.0,9,  0.8225
     316N142_3,  AR15,    13,  1,      1,      1,2,19940407,0429, -0.9858, -35.9465, 4376,   4459.7,   1.0712,  34.7523,2,  34.7540,2,    229.0,2,    228.8,2,    95.07,2,    28.49,2,     0.00,2,     1.92,2,    0.000,4,    0.020,2,    0.048,2,   2242.7,2,   2367.2,2,  0.7137