BOTTLE,20020814WHPSIOKJU
EXPOCODE,SECT_ID,STNNBR,CASTNO,SAMPNO,BTLNBR,BTLNBR_FLAG_W,DATE,TIME,LATITUDE,LONGITUDE,DEPTH,CTDPRS,CTDTMP,CTDSAL,CTDSAL_FLAG_W,SALNTY,SALNTY_FLAG_W,CTDOXY,CTDOXY_FLAG_W,OXYGEN,OXYGEN_FLAG_W,SILCAT,SILCAT_FLAG_W,NITRAT,NITRAT_FLAG_W,NITRIT,NITRIT_FLAG_W,PHSPHT,PHSPHT_FLAG_W,CFC-11,CFC-11_FLAG_W,CFC-12,CFC-12_FLAG_W,CCL4,CCL4_FLAG_W,TCARBN,TCARBN_FLAG_W,ALKALI,ALKALI_FLAG_W,THETA
,,,,,,,,,,,,DBAR,ITS-90,PSS-78,,PSS-78,,UMOL/KG,,UMOL/KG,,UMOL/KG,,UMOL/KG,,UMOL/KG,,UMOL/KG,,PMOL/KG,,PMOL/KG,,PMOL/KG,,UMOL/KG,,UMOL/KG,,DEG C
     316N142_3,   A15,    84,  1,     35,     35,2,19940429,0959,-19.6328, -19.0002, 4377,     73.7,  23.3830,  36.5674,2,-999.0000,9,    229.2,2,    228.8,2,     1.53,2,     0.00,3,     0.00,2,     0.18,2,    2.150,2,    1.183,2,    2.100,2,   2063.3,2,   2404.7,2, 23.3676
     316N142_3,   A15,    84,  1,     39,     39,2,19940429,0959,-19.6328, -19.0002, 4377,     74.4,  23.2911,  36.5701,2,  36.5773,2,    232.7,2,    228.9,2,     1.55,2,     0.01,3,     0.00,2,     0.18,2, -999.000,9, -999.000,9, -999.000,9,   -999.0,9,   -999.0,9, 23.2756
     316N142_3,   A15,    84,  1,     38,     38,2,19940429,0959,-19.6328, -19.0002, 4377,    138.9,  18.9650,  36.0405,2,  36.0427,2,    218.8,2,    220.6,2,     1.93,2,     0.00,3,     0.10,2,     0.29,2,    2.199,6,    1.300,6,    1.573,6,   2080.2,2,   2371.0,2, 18.9401
     316N142_3,   A15,    84,  1,     33,     33,2,19940429,0959,-19.6328, -19.0002, 4377,    203.7,  15.6022,  35.5200,2,  35.5181,2,    210.7,2,    202.1,2,     3.32,2,     0.97,3,     0.01,2,     0.58,2,    2.373,2,    1.312,2,    0.738,2,   2092.1,2,   2337.8,2, 15.5704
     316N142_3,   A15,    84,  1,     41,     41,2,19940429,0959,-19.6328, -19.0002, 4377,    302.8,  12.2301,  35.0708,2,  35.0795,2,    186.2,2,    179.5,2,     6.68,2,     9.76,3,     0.00,2,     1.10,2,    1.985,2,    1.052,2,    0.737,2,   2126.8,2,   2311.5,2, 12.1899
     316N142_3,   A15,    84,  1,     31,     31,2,19940429,0959,-19.6328, -19.0002, 4377,    403.4,   9.8168,  34.8069,2,  34.8063,2,    164.8,2,    160.5,2,    11.58,2,    21.63,3,     0.00,2,     1.56,2,    1.267,2,    0.711,2,    0.805,2,   2160.1,2,   2301.2,2,  9.7701
     316N142_3,   A15,    84,  1,     37,     37,2,19940429,0959,-19.6328, -19.0002, 4377,    515.0,   7.6115,  34.6102,2,  34.6106,2,    151.8,2,    149.3,2,    18.05,2,    32.15,3,     0.00,2,     1.96,2,    0.756,2,    0.415,2,    0.967,2,   2188.2,2,   2295.7,2,  7.5601
     316N142_3,   A15,    84,  1,     29,     29,2,19940429,0959,-19.6328, -19.0002, 4377,    636.4,   5.7385,  34.4742,2,  34.4731,2,    158.4,2,    161.0,2,    25.23,2,    37.33,3,     0.00,2,     2.17,2,    0.294,2,    0.180,2,    1.350,2,   2196.8,2,   2295.7,2,  5.6836
     316N142_3,   A15,    84,  1,     28,     28,2,19940429,0959,-19.6328, -19.0002, 4377,    757.3,   4.5387,  34.4181,2,  34.4185,2,    172.4,2,    174.8,2,    32.28,2,    39.07,3,     0.00,2,     2.26,2,    0.217,2,    0.102,6,    0.897,6,   -999.0,9,   -999.0,9,  4.4797
     316N142_3,   A15,    84,  1,     27,     27,2,19940429,0959,-19.6328, -19.0002, 4377,    877.6,   3.8688,  34.4434,2,  34.4423,2,    177.8,2,    181.7,2,    39.08,2,    39.02,3,     0.00,2,     2.28,2,    0.136,2,    0.059,2,    0.551,2,   -999.0,9,   -999.0,9,  3.8041
     316N142_3,   A15,    84,  1,     26,     26,2,19940429,0959,-19.6328, -19.0002, 4377,   1008.2,   3.6415,  34.5291,2,  34.5282,2,    181.8,2,    183.1,2,    41.48,2,    37.67,3,     0.00,2,     2.23,2,    0.080,4,    0.031,2,    0.327,2,   -999.0,9,   -999.0,9,  3.5679
     316N142_3,   A15,    84,  1,     25,     25,2,19940429,0959,-19.6328, -19.0002, 4377,   1159.1,   3.7319,  34.6608,2,  34.6598,2,    186.4,2,    187.7,2,    38.05,2,    34.09,3,     0.00,2,     2.08,2, -999.000,9, -999.000,9, -999.000,9,   -999.0,9,   -999.0,9,  3.6449
     316N142_3,   A15,    84,  1,     24,     24,2,19940429,0959,-19.6328, -19.0002, 4377,   1309.1,   3.7916,  34.7604,2,  34.7599,2,    196.6,2,    197.4,2,    33.92,2,    30.40,3,     0.00,2,     1.92,2, -999.000,9,    0.018,2, -999.000,9,   -999.0,9,   -999.0,9,  3.6910
     316N142_3,   A15,    84,  1,     23,     23,2,19940429,0959,-19.6328, -19.0002, 4377,   1460.5,   3.6949,  34.8348,2,  34.8353,2,    212.6,2,    212.4,2,    31.49,2,    26.56,3,     0.00,2,     1.76,2, -999.000,9, -999.000,9, -999.000,9,   -999.0,9,   -999.0,9,  3.5820
     316N142_3,   A15,    84,  1,     22,     22,2,19940429,0959,-19.6328, -19.0002, 4377,   1612.6,   3.5314,  34.8782,2,  34.8771,2,    227.3,2,    225.7,2,    30.49,2,    23.76,3,     0.00,2,     1.65,2, -999.000,9,    0.018,2,    0.133,2,   -999.0,9,   -999.0,9,  3.4068
     316N142_3,   A15,    84,  1,     21,     21,2,19940429,0959,-19.6328, -19.0002, 4377,   1764.4,   3.4141,  34.9021,2,  34.9016,2,    235.2,2,    234.0,2,    29.91,2,    21.58,3,     0.00,2,     1.54,2, -999.000,9, -999.000,9, -999.000,9,   -999.0,9,   -999.0,9,  3.2772
     316N142_3,   A15,    84,  1,     20,     20,2,19940429,0959,-19.6328, -19.0002, 4377,   1917.6,   3.2647,  34.9174,2,  34.9169,2,    242.3,2,    241.2,2,    30.17,2,    20.21,3,     0.00,2,     1.48,2, -999.000,9,    0.017,2,    0.164,2,   -999.0,9,   -999.0,9,  3.1158
     316N142_3,   A15,    84,  1,     19,     19,2,19940429,0959,-19.6328, -19.0002, 4377,   2070.0,   3.1642,  34.9203,2,  34.9200,2,    244.2,2,    243.9,2,    30.87,2,    19.88,3,     0.00,2,     1.44,2, -999.000,9, -999.000,9, -999.000,9,   -999.0,9,   -999.0,9,  3.0028
     316N142_3,   A15,    84,  1,     40,     40,2,19940429,0959,-19.6328, -19.0002, 4377,   2221.9,   3.0887,  34.9266,2,  34.9267,2,    247.4,2,    247.6,2,    30.57,2,    19.41,3,     0.00,2,     1.41,2, -999.000,9,    0.004,2,    0.033,2,   -999.0,9,   -999.0,9,  2.9141
     316N142_3,   A15,    84,  1,     17,     17,2,19940429,0959,-19.6328, -19.0002, 4377,   2364.7,   2.9874,  34.9209,2,  34.9208,2,    247.8,2,    246.8,2,    32.68,2,    19.78,3,     0.00,2,     1.42,2, -999.000,9, -999.000,9, -999.000,9,   -999.0,9,   -999.0,9,  2.8009
     316N142_3,   A15,    84,  1,     16,     16,2,19940429,0959,-19.6328, -19.0002, 4377,   2502.7,   2.9435,  34.9250,2,  34.9249,2,    250.0,2,    249.3,2,    32.10,2,    19.41,3,     0.00,2,     1.40,2, -999.000,9, -999.000,9, -999.000,9,   -999.0,9,   -999.0,9,  2.7444
     316N142_3,   A15,    84,  1,     15,     15,2,19940429,0959,-19.6328, -19.0002, 4377,   2629.7,   2.8965,  34.9230,2,  34.9233,2,    250.4,2,    250.0,2,    32.79,2,    19.38,3,     0.00,2,     1.40,2, -999.000,9,    0.008,2,    0.074,2,   -999.0,9,   -999.0,9,  2.6857
     316N142_3,   A15,    84,  1,     14,     14,2,19940429,0959,-19.6328, -19.0002, 4377,   2760.9,   2.8143,  34.9190,2,  34.9190,2,    250.1,2,    249.8,2,    34.20,2,    19.60,3,     0.00,2,     1.41,2, -999.000,9, -999.000,9, -999.000,9,   -999.0,9,   -999.0,9,  2.5921
     316N142_3,   A15,    84,  1,     13,     13,2,19940429,0959,-19.6328, -19.0002, 4377,   2894.7,   2.7631,  34.9165,2,  34.9166,2,    249.7,2,    250.0,2,    35.03,2,    19.66,3,     0.00,2,     1.41,2, -999.000,9, -999.000,9, -999.000,9,   -999.0,9,   -999.0,9,  2.5284
     316N142_3,   A15,    84,  1,     12,     12,2,19940429,0959,-19.6328, -19.0002, 4377,   3026.9,   2.7294,  34.9145,2,  34.9149,2,    250.2,2,    250.4,2,    35.45,2,    19.73,3,     0.00,2,     1.41,2, -999.000,9,    0.015,2,    0.019,2,   -999.0,9,   -999.0,9,  2.4818
     316N142_3,   A15,    84,  1,     11,     11,2,19940429,0959,-19.6328, -19.0002, 4377,   3157.4,   2.6595,  34.9079,2,  34.9088,2,    249.8,2,    249.7,2,    37.71,2,    20.22,3,     0.00,2,     1.43,2, -999.000,9, -999.000,9, -999.000,9,   -999.0,9,   -999.0,9,  2.3999
     316N142_3,   A15,    84,  1,     10,     10,2,19940429,0959,-19.6328, -19.0002, 4377,   3290.0,   2.5959,  34.9048,2,  34.9052,2,    250.3,2,    250.6,2,    38.54,2,    20.19,3,     0.00,2,     1.43,2, -999.000,9, -999.000,9, -999.000,9,   -999.0,9,   -999.0,9,  2.3238
     316N142_3,   A15,    84,  1,      9,      9,2,19940429,0959,-19.6328, -19.0002, 4377,   3442.6,   2.4339,  34.8919,2,  34.8932,2,    250.4,2,    250.4,2,    42.66,2,    20.81,3,     0.00,2,     1.46,2, -999.000,9,    0.012,2,    0.061,2,   -999.0,9,   -999.0,9,  2.1494
     316N142_3,   A15,    84,  1,      8,      8,2,19940429,0959,-19.6328, -19.0002, 4377,   3596.9,   2.2746,  34.8765,2,  34.8759,2,    248.1,2,    248.4,2,    49.22,2,    21.95,3,     0.00,2,     1.53,2, -999.000,9, -999.000,9, -999.000,9,   -999.0,9,   -999.0,9,  1.9776
     316N142_3,   A15,    84,  1,      7,      7,2,19940429,0959,-19.6328, -19.0002, 4377,   3749.1,   2.0397,  34.8521,2,  34.8522,2,    244.7,2,    244.2,2,    59.40,2,    23.73,3,     0.00,2,     1.63,2, -999.000,9, -999.000,9, -999.000,9,   -999.0,9,   -999.0,9,  1.7323
     316N142_3,   A15,    84,  1,      6,      6,2,19940429,0959,-19.6328, -19.0002, 4377,   3902.0,   1.7939,  34.8252,2,  34.8252,2,    240.5,2,    240.0,2,    70.69,2,    25.55,3,     0.00,2,     1.73,2, -999.000,9, -999.000,9, -999.000,9,   -999.0,9,   -999.0,9,  1.4766
     316N142_3,   A15,    84,  1,      5,      5,2,19940429,0959,-19.6328, -19.0002, 4377,   4056.3,   1.5031,  34.7971,2,  34.7974,2,    236.9,2,    235.8,2,    82.68,2,    27.63,3,     0.00,2,     1.85,2, -999.000,9, -999.000,9, -999.000,9,   -999.0,9,   -999.0,9,  1.1772
     316N142_3,   A15,    84,  1,      4,      4,2,19940429,0959,-19.6328, -19.0002, 4377,   4209.0,   1.3629,  34.7812,2,  34.7813,2,    233.9,2,    234.0,2,    88.13,2,    28.86,3,     0.00,2,     1.91,2, -999.000,9, -999.000,9, -999.000,9,   -999.0,9,   -999.0,9,  1.0243
     316N142_3,   A15,    84,  1,      3,      3,2,19940429,0959,-19.6328, -19.0002, 4377,   4363.7,   1.2550,  34.7688,2,  34.7699,2,    232.8,2,    232.6,2,    91.68,2,    29.85,3,     0.00,2,     1.94,2, -999.000,9, -999.000,9, -999.000,9,   -999.0,9,   -999.0,9,  0.9025
     316N142_3,   A15,    84,  1,      2,      2,2,19940429,0959,-19.6328, -19.0002, 4377,   4491.8,   1.1978,  34.7617,2,  34.7636,2,    231.8,2,    231.7,2,    93.90,2,    30.37,3,     0.00,2,     1.96,2, -999.000,9, -999.000,9, -999.000,9,   -999.0,9,   -999.0,9,  0.8326
     316N142_3,   A15,    84,  1,      1,      1,2,19940429,0959,-19.6328, -19.0002, 4377,   4638.4,   1.0784,  34.7492,2,  34.7518,2,    229.9,2,    229.8,2,    98.68,2,    31.34,3,     0.00,2,     2.00,2, -999.000,9,    0.005,2,    0.035,2,   -999.0,9,   -999.0,9,  0.7004