BOTTLE,20020814WHPSIOKJU
EXPOCODE,SECT_ID,STNNBR,CASTNO,SAMPNO,BTLNBR,BTLNBR_FLAG_W,DATE,TIME,LATITUDE,LONGITUDE,DEPTH,CTDPRS,CTDTMP,CTDSAL,CTDSAL_FLAG_W,SALNTY,SALNTY_FLAG_W,CTDOXY,CTDOXY_FLAG_W,OXYGEN,OXYGEN_FLAG_W,SILCAT,SILCAT_FLAG_W,NITRAT,NITRAT_FLAG_W,NITRIT,NITRIT_FLAG_W,PHSPHT,PHSPHT_FLAG_W,CFC-11,CFC-11_FLAG_W,CFC-12,CFC-12_FLAG_W,CCL4,CCL4_FLAG_W,TCARBN,TCARBN_FLAG_W,ALKALI,ALKALI_FLAG_W,THETA
,,,,,,,,,,,,DBAR,ITS-90,PSS-78,,PSS-78,,UMOL/KG,,UMOL/KG,,UMOL/KG,,UMOL/KG,,UMOL/KG,,UMOL/KG,,PMOL/KG,,PMOL/KG,,PMOL/KG,,UMOL/KG,,UMOL/KG,,DEG C
     316N142_3,   A15,    70,  1,     39,     39,2,19940425,1248,-12.6173, -19.0002, 4543,      6.9,  26.9223,  36.8841,2,  36.8873,2,    200.8,2,    201.4,2,     2.35,2,     0.19,2,     0.00,2,     0.16,2,    1.750,2,    0.988,2,    2.260,2,   2053.8,2,   2417.3,2, 26.9207
     316N142_3,   A15,    70,  1,     35,     35,2,19940425,1248,-12.6173, -19.0002, 4543,     47.7,  25.3522,  36.8720,2,  36.8804,2,    211.0,2,    215.2,2,     2.07,2,     0.19,2,     0.00,2,     0.18,2, -999.000,9, -999.000,9, -999.000,9,   2067.9,2,   2415.4,2, 25.3416
     316N142_3,   A15,    70,  1,     38,     38,2,19940425,1248,-12.6173, -19.0002, 4543,     98.0,  22.7259,  36.6223,2,  36.6312,2,    222.1,2,    220.0,2,     1.92,2,     0.18,2,     0.00,2,     0.24,2,    2.130,6,    1.198,6,    1.987,6,   2076.9,2,   2399.9,2, 22.7060
     316N142_3,   A15,    70,  1,     33,     33,2,19940425,1248,-12.6173, -19.0002, 4543,    173.6,  16.4924,  35.7281,2,  35.7266,2,    184.0,2,    170.4,2,     4.26,2,     9.32,2,     0.03,2,     0.81,2,    2.129,2,    1.177,2,    0.841,2,   2124.6,2,   2342.9,2, 16.4642
     316N142_3,   A15,    70,  1,     41,     41,2,19940425,1248,-12.6173, -19.0002, 4543,    262.9,  11.9601,  35.1044,2,  35.1104,2,    126.5,2,    119.1,2,     9.59,2,    22.19,2,     0.01,2,     1.51,2,    1.398,2,    0.710,2,    0.511,2,   2174.1,2,   2305.6,2, 11.9257
     316N142_3,   A15,    70,  1,     31,     31,9,19940425,1248,-12.6173, -19.0002, 4543,    352.6,   9.6583,  34.8757,2,-999.0000,9,     92.6,2,   -999.0,9,  -999.00,9,  -999.00,9,  -999.00,9,  -999.00,9, -999.000,9, -999.000,9, -999.000,9,   -999.0,9,   -999.0,9,  9.6180
     316N142_3,   A15,    70,  1,     37,     37,2,19940425,1248,-12.6173, -19.0002, 4543,    453.4,   7.1381,  34.6078,2,  34.6069,2,    127.3,2,    131.1,2,    19.88,2,    31.56,2,     0.00,2,     2.09,2,    0.255,6,    0.157,6,    0.590,6,   2204.3,2,   2291.1,2,  7.0946
     316N142_3,   A15,    70,  1,     29,     29,2,19940425,1248,-12.6173, -19.0002, 4543,    554.8,   6.1410,  34.5253,2,  34.5230,2,    142.4,2,    137.3,2,    23.77,2,    33.41,2,     0.00,2,     2.23,2,    0.175,2,    0.093,2,    0.458,2,   2210.8,2,   2289.8,2,  6.0917
     316N142_3,   A15,    70,  1,     28,     28,2,19940425,1248,-12.6173, -19.0002, 4543,    655.3,   5.4081,  34.4748,2,  34.4739,2,    146.2,2,    146.8,2,    27.14,2,    33.99,2,     0.00,2,     2.29,2,    0.137,2,    0.076,2,    0.765,2,   2212.2,2,   2292.9,2,  5.3531
     316N142_3,   A15,    70,  1,     27,     27,2,19940425,1248,-12.6173, -19.0002, 4543,    746.5,   4.8450,  34.4536,2,  34.4533,2,    151.9,2,    153.5,2,    30.76,2,    34.38,2,     0.00,2,     2.34,2,    0.100,2,    0.056,2,    0.494,2,   2215.6,2,   2295.6,2,  4.7851
     316N142_3,   A15,    70,  1,     26,     26,2,19940425,1248,-12.6173, -19.0002, 4543,    837.0,   4.4533,  34.4776,2,  34.4773,2,    151.0,2,    151.3,2,    34.11,2,    34.91,2,     0.00,2,     2.38,2,    0.024,4,    0.021,2,    0.104,2,   2221.5,2,   2299.2,2,  4.3882
     316N142_3,   A15,    70,  1,     25,     25,2,19940425,1248,-12.6173, -19.0002, 4543,    917.5,   4.1375,  34.5192,2,  34.5167,2,    158.8,2,    160.8,2,    36.42,2,    34.06,2,     0.00,2,     2.33,2, -999.000,9, -999.000,9, -999.000,9,   2221.7,2,   2303.4,2,  4.0677
     316N142_3,   A15,    70,  1,     24,     24,2,19940425,1248,-12.6173, -19.0002, 4543,   1048.1,   3.9690,  34.5914,2,  34.5898,2,    167.5,2,    167.7,2,    36.78,2,    32.46,2,     0.00,2,     2.25,2, -999.000,9, -999.000,9, -999.000,9,   2218.1,2,   2307.8,2,  3.8894
     316N142_3,   A15,    70,  1,     23,     23,2,19940425,1248,-12.6173, -19.0002, 4543,   1159.4,   3.9485,  34.6723,2,  34.6729,2,    175.3,2,    176.3,2,    34.79,2,    30.71,2,     0.00,2,     2.12,2,    0.027,4,    0.029,9, -999.000,9,   2212.6,2,   2311.7,2,  3.8595
     316N142_3,   A15,    70,  1,     22,     22,2,19940425,1248,-12.6173, -19.0002, 4543,   1260.4,   3.9614,  34.7581,2,  34.7546,2,    190.1,2,    189.1,2,    31.64,2,    28.45,2,     0.00,2,     1.97,2, -999.000,9, -999.000,9, -999.000,9,   -999.0,9,   -999.0,9,  3.8634
     316N142_3,   A15,    70,  1,     21,     21,2,19940425,1248,-12.6173, -19.0002, 4543,   1372.5,   3.9525,  34.8364,2,  34.8323,2,    203.5,2,    202.3,2,    28.36,2,    26.08,2,     0.00,2,     1.80,2, -999.000,9, -999.000,9, -999.000,9,   2195.6,2,   2313.4,2,  3.8446
     316N142_3,   A15,    70,  1,     20,     20,2,19940425,1248,-12.6173, -19.0002, 4543,   1473.6,   3.8831,  34.8777,2,  34.8752,2,    215.6,2,    216.2,2,    26.51,2,    24.43,2,     0.00,2,     1.68,2, -999.000,9,    0.010,2,    0.000,2,   -999.0,9,   -999.0,9,  3.7669
     316N142_3,   A15,    70,  1,     19,     19,2,19940425,1248,-12.6173, -19.0002, 4543,   1584.3,   3.7889,  34.9102,2,  34.9094,2,    224.9,2,    224.7,2,    25.19,2,    22.97,2,     0.00,2,     1.58,2, -999.000,9, -999.000,9, -999.000,9,   2181.3,2,   2313.5,2,  3.6636
     316N142_3,   A15,    70,  1,     40,     40,2,19940425,1248,-12.6173, -19.0002, 4543,   1685.8,   3.6710,  34.9324,2,  34.9328,2,    235.0,2,    235.6,2,    24.25,2,    21.65,2,     0.00,2,     1.50,2, -999.000,9,    0.016,2,    0.258,2,   -999.0,9,   -999.0,9,  3.5378
     316N142_3,   A15,    70,  1,     17,     17,2,19940425,1248,-12.6173, -19.0002, 4543,   1787.6,   3.5827,  34.9426,2,  34.9426,2,    241.6,2,    241.3,2,    23.83,2,    20.90,2,     0.00,2,     1.45,2, -999.000,9, -999.000,9, -999.000,9,   2174.2,2,   2316.4,2,  3.4414
     316N142_3,   A15,    70,  1,     16,     16,2,19940425,1248,-12.6173, -19.0002, 4543,   1893.2,   3.4158,  34.9391,2,  34.9387,2,    245.5,2,    244.2,2,    25.62,2,    20.81,2,     0.00,2,     1.43,2, -999.000,9,    0.009,2,    0.153,2,   -999.0,9,   -999.0,9,  3.2670
     316N142_3,   A15,    70,  1,     15,     15,2,19940425,1248,-12.6173, -19.0002, 4543,   2020.0,   3.2504,  34.9371,2,  34.9357,2,    247.2,2,    246.9,2,    27.41,2,    20.67,2,     0.00,2,     1.43,2, -999.000,9, -999.000,9, -999.000,9,   2177.0,2,   2319.2,2,  3.0922
     316N142_3,   A15,    70,  1,     14,     14,2,19940425,1248,-12.6173, -19.0002, 4543,   2172.2,   3.0311,  34.9198,2,  34.9184,2,    245.0,2,    244.5,2,    32.43,2,    21.34,2,     0.00,2,     1.47,2, -999.000,9,    0.013,2,    0.086,2,   -999.0,9,   -999.0,9,  2.8622
     316N142_3,   A15,    70,  1,     13,     13,2,19940425,1248,-12.6173, -19.0002, 4543,   2350.4,   2.9340,  34.9154,2,  34.9155,2,    245.1,2,    244.2,2,    34.47,2,    21.44,2,     0.00,2,     1.48,2, -999.000,9, -999.000,9, -999.000,9,   2185.6,2,   2325.3,2,  2.7498
     316N142_3,   A15,    70,  1,     12,     12,2,19940425,1248,-12.6173, -19.0002, 4543,   2528.3,   2.8255,  34.9090,2,  34.9074,2,    244.2,2,    244.3,2,    36.90,2,    21.68,2,     0.00,2,     1.49,2, -999.000,9, -999.000,9, -999.000,9,   -999.0,9,   -999.0,9,  2.6262
     316N142_3,   A15,    70,  1,     11,     11,2,19940425,1248,-12.6173, -19.0002, 4543,   2731.4,   2.7368,  34.9031,2,  34.9031,2,    244.2,2,    243.4,2,    39.20,2,    21.87,2,     0.00,2,     1.52,2, -999.000,9,    0.023,2, -999.000,9,   2188.2,2,   2330.2,2,  2.5191
     316N142_3,   A15,    70,  1,     10,     10,2,19940425,1248,-12.6173, -19.0002, 4543,   2935.3,   2.6881,  34.9046,2,  34.9034,2,    245.7,2,    245.1,2,    39.29,2,    21.69,2,     0.00,2,     1.50,2, -999.000,9, -999.000,9, -999.000,9,   -999.0,9,   -999.0,9,  2.4509
     316N142_3,   A15,    70,  1,      9,      9,2,19940425,1248,-12.6173, -19.0002, 4543,   3138.2,   2.6515,  34.9053,2,  34.9042,2,    246.7,2,    246.9,2,    38.87,2,    21.50,2,     0.00,2,     1.48,2, -999.000,9, -999.000,9, -999.000,9,   2188.1,2,   2330.6,2,  2.3941
     316N142_3,   A15,    70,  1,      8,      8,2,19940425,1248,-12.6173, -19.0002, 4543,   3342.4,   2.5544,  34.8984,2,  34.8979,2,    248.0,2,    247.6,2,    41.03,2,    21.56,2,     0.00,2,     1.49,2, -999.000,9, -999.000,9, -999.000,9,   -999.0,9,   -999.0,9,  2.2777
     316N142_3,   A15,    70,  1,      7,      7,2,19940425,1248,-12.6173, -19.0002, 4543,   3547.7,   2.4521,  34.8891,2,  34.8887,2,    247.3,2,    247.5,2,    44.09,2,    21.90,2,     0.00,2,     1.51,2, -999.000,9, -999.000,9, -999.000,9,   2193.3,2,   2333.8,2,  2.1558
     316N142_3,   A15,    70,  1,      6,      6,2,19940425,1248,-12.6173, -19.0002, 4543,   3751.8,   2.2670,  34.8739,2,  34.8739,2,    247.5,2,    247.8,2,    49.08,2,    22.47,2,     0.00,2,     1.56,2, -999.000,9,    0.007,2,    0.074,2,   -999.0,9,   -999.0,9,  1.9532
     316N142_3,   A15,    70,  1,      5,      5,2,19940425,1248,-12.6173, -19.0002, 4543,   3955.9,   1.8963,  34.8376,2,  34.8365,2,    243.8,2,    242.9,2,    62.66,2,    24.28,2,     0.00,2,     1.69,2, -999.000,9, -999.000,9, -999.000,9,   2208.7,2,   2342.4,2,  1.5702
     316N142_3,   A15,    70,  1,      4,      4,2,19940425,1248,-12.6173, -19.0002, 4543,   4160.5,   1.4868,  34.7945,2,  34.7941,2,    238.6,2,    236.1,2,    78.73,2,    26.62,2,     0.00,2,     1.85,2, -999.000,9, -999.000,9, -999.000,9,   -999.0,9,   -999.0,9,  1.1499
     316N142_3,   A15,    70,  1,      3,      3,2,19940425,1248,-12.6173, -19.0002, 4543,   4365.1,   1.1994,  34.7645,2,  34.7632,2,    233.2,2,    231.8,2,    89.58,2,    28.15,2,     0.00,2,     1.97,2, -999.000,9,    0.012,2,    0.069,2,   2238.7,2,   2355.7,2,  0.8484
     316N142_3,   A15,    70,  1,      2,      2,2,19940425,1248,-12.6173, -19.0002, 4543,   4569.0,   1.0908,  34.7511,2,  34.7522,2,    230.5,2,    230.4,2,    94.01,2,    28.82,2,     0.00,2,     2.01,2, -999.000,9, -999.000,9, -999.000,9,   -999.0,9,   -999.0,9,  0.7203
     316N142_3,   A15,    70,  1,      1,      1,2,19940425,1248,-12.6173, -19.0002, 4543,   4716.7,   1.0962,  34.7501,2,  34.7504,2,    230.4,2,    230.0,2,    94.55,2,    28.92,2,     0.00,2,     2.02,2, -999.000,9,    0.015,2,    0.066,2,   2244.0,2,   2357.7,2,  0.7086