BOTTLE,20020814WHPSIOKJU
EXPOCODE,SECT_ID,STNNBR,CASTNO,SAMPNO,BTLNBR,BTLNBR_FLAG_W,DATE,TIME,LATITUDE,LONGITUDE,DEPTH,CTDPRS,CTDTMP,CTDSAL,CTDSAL_FLAG_W,SALNTY,SALNTY_FLAG_W,CTDOXY,CTDOXY_FLAG_W,OXYGEN,OXYGEN_FLAG_W,SILCAT,SILCAT_FLAG_W,NITRAT,NITRAT_FLAG_W,NITRIT,NITRIT_FLAG_W,PHSPHT,PHSPHT_FLAG_W,CFC-11,CFC-11_FLAG_W,CFC-12,CFC-12_FLAG_W,CCL4,CCL4_FLAG_W,TCARBN,TCARBN_FLAG_W,ALKALI,ALKALI_FLAG_W,THETA
,,,,,,,,,,,,DBAR,ITS-90,PSS-78,,PSS-78,,UMOL/KG,,UMOL/KG,,UMOL/KG,,UMOL/KG,,UMOL/KG,,UMOL/KG,,PMOL/KG,,PMOL/KG,,PMOL/KG,,UMOL/KG,,UMOL/KG,,DEG C
     316N142_3,  AR15,   112,  1,     39,     39,2,19940509,1145,-18.7155, -18.9998, 4713,     10.1,  25.5877,  37.0179,2,  37.0207,2,    204.1,2,    206.2,2,     1.44,2,     0.06,2,     0.00,2,     0.23,2,    1.739,2,    1.042,2,    2.746,2,   2076.6,2,   2428.2,2, 25.5854
     316N142_3,  AR15,   112,  1,     35,     35,2,19940509,1145,-18.7155, -18.9998, 4713,     55.5,  25.5694,  37.0166,2,  37.0181,2,    208.6,2,    207.0,2,     1.31,2,     0.06,2,     0.00,2,     0.21,2, -999.000,9, -999.000,9, -999.000,9,   2075.6,2,   2421.4,2, 25.5571
     316N142_3,  AR15,   112,  1,     38,     38,2,19940509,1145,-18.7155, -18.9998, 4713,     85.5,  23.1597,  36.5614,2,  36.5674,2,    224.0,2,    226.5,2,     1.54,2,     0.06,2,     0.00,2,     0.20,2,    2.172,2,    1.169,2,    1.941,2,   2066.4,2,   2397.9,2, 23.1420
     316N142_3,  AR15,   112,  1,     33,     33,2,19940509,1145,-18.7155, -18.9998, 4713,    187.0,  17.1771,  35.7496,2,  35.7530,2,    210.3,2,    203.5,2,     2.60,2,     2.06,2,     0.02,2,     0.47,2,    2.398,2,    1.319,2,    1.147,2,   2090.0,2,   2344.7,2, 17.1459
     316N142_3,  AR15,   112,  1,     41,     41,2,19940509,1145,-18.7155, -18.9998, 4713,    296.5,  13.0387,  35.1745,2,  35.1747,2,    178.0,2,    176.7,2,     5.70,2,    12.53,2,     0.00,2,     1.01,2,    2.109,6,    1.115,6,    0.870,6,   2123.4,2,   2309.1,2, 12.9976
     316N142_3,  AR15,   112,  1,     31,     31,2,19940509,1145,-18.7155, -18.9998, 4713,    406.7,   9.4640,  34.7769,2,  34.7769,2,    158.9,2,    153.8,2,    12.16,2,    23.78,2,     0.00,2,     1.64,2, -999.000,9, -999.000,9, -999.000,9,   2166.0,2,   2295.6,2,  9.4180
     316N142_3,  AR15,   112,  1,     37,     37,2,19940509,1145,-18.7155, -18.9998, 4713,    516.8,   7.0517,  34.5704,2,  34.5724,2,    147.4,2,    148.3,2,    19.12,2,    30.57,2,     0.00,2,     2.02,2,    0.554,2,    0.292,2,    1.023,2,   2191.9,2,   2292.1,2,  7.0023
     316N142_3,  AR15,   112,  1,     29,     29,2,19940509,1145,-18.7155, -18.9998, 4713,    608.6,   5.7144,  34.4810,2,  34.4797,2,    156.9,2,    155.5,2,    24.77,2,    33.17,2,     0.00,2,     2.19,2, -999.000,9, -999.000,9, -999.000,9,   2199.1,2,   2281.0,2,  5.6621
     316N142_3,  AR15,   112,  1,     28,     28,3,19940509,1145,-18.7155, -18.9998, 4713,    707.9,   4.7119,  34.4271,2,  34.8943,4,    167.5,2,    242.3,4,    41.61,4,    22.09,4,     0.00,4,     1.54,4, -999.000,9, -999.000,9, -999.000,9,   -999.0,9,   -999.0,9,  4.6561
     316N142_3,  AR15,   112,  1,     27,     27,2,19940509,1145,-18.7155, -18.9998, 4713,    828.5,   4.0745,  34.4453,2,  34.4430,2,    176.3,2,    175.4,2,    35.77,2,    34.13,2,     0.00,2,     2.26,2, -999.000,9, -999.000,9, -999.000,9,   -999.0,9,   -999.0,9,  4.0125
     316N142_3,  AR15,   112,  1,     26,     26,2,19940509,1145,-18.7155, -18.9998, 4713,    949.3,   3.7296,  34.5107,2,  34.5094,2,    179.7,2,    180.6,2,    39.30,2,    33.34,2,     0.00,2,     2.22,2,    0.026,4,    0.021,2,    0.392,2,   -999.0,9,   -999.0,9,  3.6601
     316N142_3,  AR15,   112,  1,     25,     25,2,19940509,1145,-18.7155, -18.9998, 4713,   1069.0,   3.6986,  34.6108,2,  34.6091,2,    182.2,2,    184.2,2,    38.31,2,    31.75,2,     0.00,2,     2.13,2, -999.000,9, -999.000,9, -999.000,9,   -999.0,9,   -999.0,9,  3.6195
     316N142_3,  AR15,   112,  1,     24,     24,2,19940509,1145,-18.7155, -18.9998, 4713,   1188.2,   3.7985,  34.7176,2,  34.7162,2,    189.6,2,    192.1,2,    34.77,2,    29.30,2,     0.00,2,     1.98,2, -999.000,9,    0.019,2,    0.065,2,   -999.0,9,   -999.0,9,  3.7083
     316N142_3,  AR15,   112,  1,     23,     23,2,19940509,1145,-18.7155, -18.9998, 4713,   1310.2,   3.9482,  34.8219,2,  34.8220,2,    202.4,2,    203.9,2,    29.19,2,    26.35,2,     0.00,2,     1.78,2, -999.000,9, -999.000,9, -999.000,9,   -999.0,9,   -999.0,9,  3.8459
     316N142_3,  AR15,   112,  1,     22,     22,2,19940509,1145,-18.7155, -18.9998, 4713,   1433.7,   3.9944,  34.9090,2,  34.9078,2,    219.8,2,    222.1,2,    23.98,2,    23.03,2,     0.00,2,     1.58,2,    0.034,4,    0.028,2,    0.296,2,   -999.0,9,   -999.0,9,  3.8804
     316N142_3,  AR15,   112,  1,     21,     21,2,19940509,1145,-18.7155, -18.9998, 4713,   1545.1,   4.0259,  34.9550,2,  34.9555,2,    233.9,2,    235.2,2,    19.63,2,    20.75,2,     0.00,2,     1.43,2, -999.000,9, -999.000,9, -999.000,9,   -999.0,9,   -999.0,9,  3.9013
     316N142_3,  AR15,   112,  1,     20,     20,2,19940509,1145,-18.7155, -18.9998, 4713,   1654.4,   3.8863,  34.9717,2,  34.9722,2,    244.5,2,    245.0,2,    18.53,2,    19.41,2,     0.00,2,     1.35,2,    0.077,4,    0.052,2,    0.740,2,   -999.0,9,   -999.0,9,  3.7533
     316N142_3,  AR15,   112,  1,     19,     19,2,19940509,1145,-18.7155, -18.9998, 4713,   1762.6,   3.7521,  34.9698,2,  34.9712,2,    246.2,2,    248.4,2,    19.00,2,    19.17,2,     0.00,2,     1.33,2,    0.064,4,    0.049,2,    0.713,2,   -999.0,9,   -999.0,9,  3.6108
     316N142_3,  AR15,   112,  1,     40,     40,2,19940509,1145,-18.7155, -18.9998, 4713,   1923.3,   3.5873,  34.9662,2,  34.9694,2,    251.5,2,    251.6,2,    19.84,2,    18.93,2,     0.00,2,     1.33,2,    0.063,4,    0.042,2,    0.459,2,   -999.0,9,   -999.0,9,  3.4332
     316N142_3,  AR15,   112,  1,     17,     17,2,19940509,1145,-18.7155, -18.9998, 4713,   2087.9,   3.4032,  34.9553,2,  34.9559,2,    252.7,2,    251.5,2,    22.24,2,    19.13,2,     0.00,2,     1.34,2, -999.000,9,    0.026,2,    0.348,2,   -999.0,9,   -999.0,9,  3.2363
     316N142_3,  AR15,   112,  1,     16,     16,2,19940509,1145,-18.7155, -18.9998, 4713,   2244.0,   3.2743,  34.9493,2,  34.9510,2,    253.0,2,    252.5,2,    23.80,2,    19.26,2,     0.00,2,     1.34,2, -999.000,9,    0.021,2,    0.382,2,   -999.0,9,   -999.0,9,  3.0944
     316N142_3,  AR15,   112,  1,     15,     15,2,19940509,1145,-18.7155, -18.9998, 4713,   2395.3,   2.9421,  34.9045,2,  34.9030,2,    244.2,2,    241.7,2,    34.59,2,    21.56,2,     0.00,2,     1.49,2, -999.000,9, -999.000,9, -999.000,9,   -999.0,9,   -999.0,9,  2.7536
     316N142_3,  AR15,   112,  1,     14,     14,2,19940509,1145,-18.7155, -18.9998, 4713,   2553.7,   2.8293,  34.9006,2,  34.8999,2,    242.7,2,    241.7,2,    37.01,2,    21.88,2,     0.00,2,     1.51,2, -999.000,9,    0.010,2,    0.006,2,   -999.0,9,   -999.0,9,  2.6274
     316N142_3,  AR15,   112,  1,     13,     13,2,19940509,1145,-18.7155, -18.9998, 4713,   2730.2,   2.7726,  34.8982,2,  34.8983,2,    241.7,2,    241.8,2,    38.59,2,    22.02,2,     0.00,2,     1.50,2, -999.000,9, -999.000,9, -999.000,9,   -999.0,9,   -999.0,9,  2.5544
     316N142_3,  AR15,   112,  1,     12,     12,2,19940509,1145,-18.7155, -18.9998, 4713,   2935.9,   2.7136,  34.8954,2,  34.8965,2,    241.3,2,    242.0,2,    40.42,2,    22.15,2,     0.00,2,     1.52,2, -999.000,9,    0.009,2, -999.000,9,   -999.0,9,   -999.0,9,  2.4758
     316N142_3,  AR15,   112,  1,     11,     11,2,19940509,1145,-18.7155, -18.9998, 4713,   3111.3,   2.6542,  34.8931,2,  34.8938,2,    241.8,2,    242.5,2,    41.76,2,    22.29,2,     0.00,2,     1.52,2, -999.000,9, -999.000,9, -999.000,9,   -999.0,9,   -999.0,9,  2.3996
     316N142_3,  AR15,   112,  1,     10,     10,2,19940509,1145,-18.7155, -18.9998, 4713,   3291.0,   2.5810,  34.8904,2,  34.8904,2,    243.1,2,    243.3,2,    43.10,2,    22.30,2,     0.00,2,     1.53,2, -999.000,9,    0.008,2, -999.000,9,   -999.0,9,   -999.0,9,  2.3092
     316N142_3,  AR15,   112,  1,      9,      9,2,19940509,1145,-18.7155, -18.9998, 4713,   3445.1,   2.4750,  34.8854,2,  34.8845,2,    244.2,2,    244.7,2,    44.82,2,    22.37,2,     0.00,2,     1.52,2, -999.000,9, -999.000,9, -999.000,9,   -999.0,9,   -999.0,9,  2.1893
     316N142_3,  AR15,   112,  1,      8,      8,2,19940509,1145,-18.7155, -18.9998, 4713,   3596.7,   2.3179,  34.8717,2,  34.8718,2,    242.2,2,    243.9,2,    49.99,2,    23.01,2,     0.00,2,     1.57,2, -999.000,9, -999.000,9, -999.000,9,   -999.0,9,   -999.0,9,  2.0198
     316N142_3,  AR15,   112,  1,      7,      7,2,19940509,1145,-18.7155, -18.9998, 4713,   3750.1,   2.1359,  34.8544,2,  34.8557,2,    241.9,2,    242.2,2,    56.43,2,    23.83,2,     0.00,2,     1.62,2, -999.000,9,    0.005,2, -999.000,9,   -999.0,9,   -999.0,9,  1.8259
     316N142_3,  AR15,   112,  1,      6,      6,2,19940509,1145,-18.7155, -18.9998, 4713,   3927.7,   1.7465,  34.8188,2,  34.8205,2,    239.3,2,    238.6,2,    69.97,2,    25.65,2,     0.00,2,     1.70,2, -999.000,9, -999.000,9, -999.000,9,   -999.0,9,   -999.0,9,  1.4278
     316N142_3,  AR15,   112,  1,      5,      5,2,19940509,1145,-18.7155, -18.9998, 4713,   4108.3,   1.5857,  34.8021,2,  34.8028,2,    235.9,2,    236.2,2,    76.59,2,    26.66,2,     0.00,2,     1.77,2, -999.000,9, -999.000,9, -999.000,9,   -999.0,9,   -999.0,9,  1.2517
     316N142_3,  AR15,   112,  1,      4,      4,2,19940509,1145,-18.7155, -18.9998, 4713,   4312.9,   1.4546,  34.7873,2,  34.7871,2,    234.1,2,    234.5,2,    81.07,2,    27.29,2,     0.00,2,     1.85,2, -999.000,9,    0.018,2,    0.089,2,   -999.0,9,   -999.0,9,  1.1017
     316N142_3,  AR15,   112,  1,      3,      3,2,19940509,1145,-18.7155, -18.9998, 4713,   4517.2,   1.2607,  34.7673,2,  34.7679,2,    232.0,2,    231.9,2,    89.23,2,    28.43,2,     0.00,2,     1.91,2, -999.000,9, -999.000,9, -999.000,9,   -999.0,9,   -999.0,9,  0.8907
     316N142_3,  AR15,   112,  1,      2,      2,2,19940509,1145,-18.7155, -18.9998, 4713,   4722.1,   1.0175,  34.7419,2,  34.7435,2,    229.4,2,    228.8,2,    98.16,2,    29.75,2,     0.00,2,     2.00,2, -999.000,9,    0.009,2,    0.070,2,   -999.0,9,   -999.0,9,  0.6318
     316N142_3,  AR15,   112,  1,      1,      1,2,19940509,1145,-18.7155, -18.9998, 4713,   4895.5,   0.9099,  34.7302,2,  34.7319,2,    227.2,2,    226.9,2,   102.81,2,    30.33,2,     0.00,2,     2.07,2, -999.000,9,    0.016,2,    0.066,2,   -999.0,9,   -999.0,9,  0.5077