BOTTLE,20020814WHPSIOKJU
EXPOCODE,SECT_ID,STNNBR,CASTNO,SAMPNO,BTLNBR,BTLNBR_FLAG_W,DATE,TIME,LATITUDE,LONGITUDE,DEPTH,CTDPRS,CTDTMP,CTDSAL,CTDSAL_FLAG_W,SALNTY,SALNTY_FLAG_W,CTDOXY,CTDOXY_FLAG_W,OXYGEN,OXYGEN_FLAG_W,SILCAT,SILCAT_FLAG_W,NITRAT,NITRAT_FLAG_W,NITRIT,NITRIT_FLAG_W,PHSPHT,PHSPHT_FLAG_W,CFC-11,CFC-11_FLAG_W,CFC-12,CFC-12_FLAG_W,CCL4,CCL4_FLAG_W,TCARBN,TCARBN_FLAG_W,ALKALI,ALKALI_FLAG_W,THETA
,,,,,,,,,,,,DBAR,ITS-90,PSS-78,,PSS-78,,UMOL/KG,,UMOL/KG,,UMOL/KG,,UMOL/KG,,UMOL/KG,,UMOL/KG,,PMOL/KG,,PMOL/KG,,PMOL/KG,,UMOL/KG,,UMOL/KG,,DEG C
     316N142_3,   A15,    34,  2,     39,     39,2,19940415,1615,  4.4997, -19.0005, 4829,      2.4,  29.5495,  35.5045,2,  35.5091,2,    201.1,2,    204.9,2,     2.05,2,     0.09,2,     0.00,2,     0.04,2, -999.000,9, -999.000,9, -999.000,9,   1947.4,2,   2316.3,2, 29.5489
     316N142_3,   A15,    34,  2,     42,     42,2,19940415,1615,  4.4997, -19.0005, 4829,     47.3,  22.8599,  36.1001,2,  36.0997,2,    166.4,2,    186.1,2,  -999.00,9,  -999.00,9,  -999.00,9,  -999.00,9, -999.000,9, -999.000,9, -999.000,9,   2077.7,2,   2361.3,2, 22.8503
     316N142_3,   A15,    34,  2,     38,     38,2,19940415,1615,  4.4997, -19.0005, 4829,     87.6,  15.9315,  35.6109,2,  35.6102,2,     88.8,2,     87.5,2,     7.71,2,    20.46,2,     0.07,2,     1.41,2, -999.000,9, -999.000,9, -999.000,9,   2183.9,2,   2326.9,2, 15.9177
     316N142_3,   A15,    34,  2,     33,     33,2,19940415,1615,  4.4997, -19.0005, 4829,    137.6,  14.8466,  35.5137,2,  35.5084,2,    107.3,2,    102.1,2,     8.44,2,    20.25,2,     0.02,2,     1.41,2, -999.000,9, -999.000,9, -999.000,9,   2175.3,2,   2323.1,2, 14.8258
     316N142_3,   A15,    34,  2,     41,     41,2,19940415,1615,  4.4997, -19.0005, 4829,    182.9,  14.0943,  35.4190,2,  35.4192,2,    115.8,2,    118.0,2,     8.75,2,    19.73,2,     0.01,2,     1.39,2, -999.000,9, -999.000,9, -999.000,9,   2170.7,2,   2321.2,2, 14.0677
     316N142_3,   A15,    34,  2,     31,     31,2,19940415,1615,  4.4997, -19.0005, 4829,    238.1,  13.0457,  35.2941,2,  35.2923,2,     82.2,2,     94.1,2,    10.24,2,    23.78,2,     0.01,2,     1.61,2, -999.000,9, -999.000,9, -999.000,9,   2190.2,2,   2314.9,2, 13.0127
     316N142_3,   A15,    34,  2,     37,     37,2,19940415,1615,  4.4997, -19.0005, 4829,    309.1,  10.5987,  35.0257,2,  35.0284,2,     75.0,2,     73.3,2,    14.71,2,    30.11,2,     0.00,2,     1.96,2, -999.000,9, -999.000,9, -999.000,9,   2215.1,2,   2304.3,2, 10.5613
     316N142_3,   A15,    34,  2,     29,     29,2,19940415,1615,  4.4997, -19.0005, 4829,    363.6,   9.3629,  34.8836,2,  34.8838,2,     85.8,2,     88.3,2,    16.73,2,    31.00,2,     0.00,2,     2.03,2, -999.000,9, -999.000,9, -999.000,9,   2214.5,2,   2301.9,2,  9.3221
     316N142_3,   A15,    34,  2,     28,     28,2,19940415,1615,  4.4997, -19.0005, 4829,    458.9,   7.9491,  34.7423,2,  34.7418,2,     93.1,2,     93.1,2,    20.35,2,    33.47,2,     0.00,2,     2.20,2, -999.000,9, -999.000,9, -999.000,9,   2221.8,2,   2305.4,2,  7.9022
     316N142_3,   A15,    34,  2,     27,     27,2,19940415,1615,  4.4997, -19.0005, 4829,    559.7,   6.9236,  34.6665,2,  34.6659,2,     93.8,2,     96.5,2,    23.96,2,    35.28,2,     0.00,2,     2.35,2, -999.000,9, -999.000,9, -999.000,9,   2228.4,2,   2296.1,2,  6.8704
     316N142_3,   A15,    34,  2,     26,     26,9,19940415,1615,  4.4997, -19.0005, 4829,    685.2,   5.9938,  34.6240,2,-999.0000,9,    100.3,2,   -999.0,9,  -999.00,9,  -999.00,9,  -999.00,9,  -999.00,9, -999.000,9, -999.000,9, -999.000,9,   -999.0,9,   -999.0,9,  5.9329
     316N142_3,   A15,    34,  2,     25,     25,2,19940415,1615,  4.4997, -19.0005, 4829,    800.0,   5.2803,  34.6063,2,  34.6054,2,    116.6,2,    119.3,2,    30.89,2,    35.60,2,     0.00,2,     2.44,2, -999.000,9, -999.000,9, -999.000,9,   -999.0,9,   -999.0,9,  5.2129
     316N142_3,   A15,    34,  2,     24,     24,2,19940415,1615,  4.4997, -19.0005, 4829,    929.6,   4.9079,  34.6474,2,  34.6477,2,    135.1,2,    133.6,2,    31.82,2,    34.07,2,     0.00,2,     2.36,2, -999.000,9, -999.000,9, -999.000,9,   -999.0,9,   -999.0,9,  4.8314
     316N142_3,   A15,    34,  2,     23,     23,2,19940415,1615,  4.4997, -19.0005, 4829,   1060.9,   4.6872,  34.7125,2,  34.7139,2,    152.8,2,    151.1,2,    30.95,2,    31.78,2,     0.00,2,     2.20,2, -999.000,9, -999.000,9, -999.000,9,   -999.0,9,   -999.0,9,  4.6005
     316N142_3,   A15,    34,  2,     22,     22,2,19940415,1615,  4.4997, -19.0005, 4829,   1211.6,   4.5554,  34.8334,2,  34.8342,2,    178.3,2,    174.5,2,    27.30,2,    28.14,2,     0.00,2,     1.95,2, -999.000,9, -999.000,9, -999.000,9,   -999.0,9,   -999.0,9,  4.4560
     316N142_3,   A15,    34,  2,     21,     21,2,19940415,1615,  4.4997, -19.0005, 4829,   1362.6,   4.3634,  34.9100,2,  34.9113,2,    203.6,2,    200.3,2,    23.97,2,    24.81,2,     0.00,2,     1.71,2, -999.000,9, -999.000,9, -999.000,9,   -999.0,9,   -999.0,9,  4.2519
     316N142_3,   A15,    34,  2,     20,     20,2,19940415,1615,  4.4997, -19.0005, 4829,   1512.5,   4.1605,  34.9479,2,  34.9519,2,    223.5,2,    220.2,2,    21.61,2,    22.53,2,     0.00,2,     1.55,2, -999.000,9, -999.000,9, -999.000,9,   -999.0,9,   -999.0,9,  4.0374
     316N142_3,   A15,    34,  2,     19,     19,2,19940415,1615,  4.4997, -19.0005, 4829,   1613.5,   3.9997,  34.9630,2,  34.9635,2,    235.6,2,    232.6,2,    20.41,2,    21.17,2,     0.00,2,     1.46,2, -999.000,9, -999.000,9, -999.000,9,   -999.0,9,   -999.0,9,  3.8691
     316N142_3,   A15,    34,  2,     40,     40,2,19940415,1615,  4.4997, -19.0005, 4829,   1715.5,   3.8585,  34.9647,2,  34.9688,2,    238.3,2,    237.8,2,    20.50,2,    20.69,2,     0.00,2,     1.42,2, -999.000,9, -999.000,9, -999.000,9,   -999.0,9,   -999.0,9,  3.7202
     316N142_3,   A15,    34,  2,     17,     17,2,19940415,1615,  4.4997, -19.0005, 4829,   1871.4,   3.6170,  34.9570,2,  34.9574,2,    239.8,2,    238.9,2,    22.83,2,    20.74,2,     0.00,2,     1.43,2, -999.000,9, -999.000,9, -999.000,9,   -999.0,9,   -999.0,9,  3.4674
     316N142_3,   A15,    34,  2,     16,     16,2,19940415,1615,  4.4997, -19.0005, 4829,   2024.9,   3.4101,  34.9504,2,  34.9513,2,    240.9,2,    240.5,2,    25.36,2,    20.83,2,     0.00,2,     1.44,2, -999.000,9, -999.000,9, -999.000,9,   -999.0,9,   -999.0,9,  3.2491
     316N142_3,   A15,    34,  2,     15,     15,2,19940415,1615,  4.4997, -19.0005, 4829,   2177.9,   3.2360,  34.9451,2,  34.9444,2,    242.8,2,    242.8,2,    27.47,2,    20.70,2,     0.00,2,     1.43,2, -999.000,9, -999.000,9, -999.000,9,   -999.0,9,   -999.0,9,  3.0632
     316N142_3,   A15,    34,  2,     14,     14,2,19940415,1615,  4.4997, -19.0005, 4829,   2330.2,   3.0972,  34.9408,2,  34.9391,2,    245.1,2,    245.2,2,    29.37,2,    20.57,2,     0.00,2,     1.42,2, -999.000,9, -999.000,9, -999.000,9,   -999.0,9,   -999.0,9,  2.9121
     316N142_3,   A15,    34,  2,     13,     13,2,19940415,1615,  4.4997, -19.0005, 4829,   2533.6,   2.9208,  34.9303,2,  34.9297,2,    244.3,2,    243.6,2,    33.07,2,    20.89,2,     0.00,2,     1.45,2, -999.000,9, -999.000,9, -999.000,9,   -999.0,9,   -999.0,9,  2.7190
     316N142_3,   A15,    34,  2,     12,     12,2,19940415,1615,  4.4997, -19.0005, 4829,   2737.8,   2.7760,  34.9218,2,  34.9214,2,    242.6,2,    243.0,2,    36.02,2,    21.20,2,     0.00,2,     1.46,2, -999.000,9, -999.000,9, -999.000,9,   -999.0,9,   -999.0,9,  2.5569
     316N142_3,   A15,    34,  2,     11,     11,2,19940415,1615,  4.4997, -19.0005, 4829,   2940.7,   2.6768,  34.9159,2,  34.9157,2,    242.1,2,    243.1,2,    38.01,2,    21.29,2,     0.00,2,     1.47,2, -999.000,9, -999.000,9, -999.000,9,   -999.0,9,   -999.0,9,  2.4392
     316N142_3,   A15,    34,  2,     10,     10,2,19940415,1615,  4.4997, -19.0005, 4829,   3144.0,   2.5921,  34.9103,2,  34.9098,2,    242.6,2,    243.4,2,    39.90,2,    21.43,2,     0.00,2,     1.48,2, -999.000,9, -999.000,9, -999.000,9,   -999.0,9,   -999.0,9,  2.3354
     316N142_3,   A15,    34,  2,      9,      9,2,19940415,1615,  4.4997, -19.0005, 4829,   3347.7,   2.5247,  34.9056,2,  34.9051,2,    243.0,2,    243.5,2,    41.46,2,    21.52,2,     0.00,2,     1.49,2, -999.000,9, -999.000,9, -999.000,9,   -999.0,9,   -999.0,9,  2.2481
     316N142_3,   A15,    34,  2,      8,      8,2,19940415,1615,  4.4997, -19.0005, 4829,   3552.2,   2.4670,  34.9008,2,  34.9006,2,    244.1,2,    243.2,2,    43.02,2,    21.66,2,     0.00,2,     1.49,2, -999.000,9, -999.000,9, -999.000,9,   -999.0,9,   -999.0,9,  2.1698
     316N142_3,   A15,    34,  2,      7,      7,2,19940415,1615,  4.4997, -19.0005, 4829,   3756.1,   2.3933,  34.8937,2,  34.8941,2,    244.5,4,    242.7,2,    45.53,2,    21.97,2,     0.00,2,     1.52,2, -999.000,9, -999.000,9, -999.000,9,   -999.0,9,   -999.0,9,  2.0756
     316N142_3,   A15,    34,  2,      6,      6,2,19940415,1615,  4.4997, -19.0005, 4829,   3959.8,   2.3371,  34.8873,2,  34.8868,2,    245.6,4,    242.8,2,    47.51,2,    22.15,2,     0.00,2,     1.53,2, -999.000,9, -999.000,9, -999.000,9,   -999.0,9,   -999.0,9,  1.9980
     316N142_3,   A15,    34,  2,      5,      5,2,19940415,1615,  4.4997, -19.0005, 4829,   4163.7,   2.2939,  34.8818,2,  34.8811,2,    246.7,4,    242.9,2,    49.48,2,    22.34,2,     0.00,2,     1.54,2, -999.000,9, -999.000,9, -999.000,9,   -999.0,9,   -999.0,9,  1.9327
     316N142_3,   A15,    34,  2,      4,      4,2,19940415,1615,  4.4997, -19.0005, 4829,   4367.3,   2.2650,  34.8768,2,  34.8766,2,    247.6,4,    242.2,2,    51.24,2,    22.52,2,     0.00,2,     1.55,2, -999.000,9, -999.000,9, -999.000,9,   -999.0,9,   -999.0,9,  1.8809
     316N142_3,   A15,    34,  2,      3,      3,2,19940415,1615,  4.4997, -19.0005, 4829,   4572.0,   2.2454,  34.8727,2,  34.8739,2,    249.3,4,    242.4,2,    52.47,2,    22.66,2,     0.00,2,     1.56,2, -999.000,9, -999.000,9, -999.000,9,   -999.0,9,   -999.0,9,  1.8374
     316N142_3,   A15,    34,  2,      2,      2,2,19940415,1615,  4.4997, -19.0005, 4829,   4776.6,   2.2331,  34.8682,2,  34.8617,4,    251.1,4,    242.1,2,    53.49,2,    22.79,2,     0.00,2,     1.56,2, -999.000,9, -999.000,9, -999.000,9,   -999.0,9,   -999.0,9,  1.8006
     316N142_3,   A15,    34,  2,      1,      1,2,19940415,1615,  4.4997, -19.0005, 4829,   4927.2,   2.2178,  34.8656,2,  34.8648,2,    253.7,4,    242.6,2,    53.99,2,    22.75,2,     0.00,2,     1.57,2, -999.000,9, -999.000,9, -999.000,9,   -999.0,9,   -999.0,9,  1.7672