BOTTLE,20020814WHPSIOKJU
EXPOCODE,SECT_ID,STNNBR,CASTNO,SAMPNO,BTLNBR,BTLNBR_FLAG_W,DATE,TIME,LATITUDE,LONGITUDE,DEPTH,CTDPRS,CTDTMP,CTDSAL,CTDSAL_FLAG_W,SALNTY,SALNTY_FLAG_W,CTDOXY,CTDOXY_FLAG_W,OXYGEN,OXYGEN_FLAG_W,SILCAT,SILCAT_FLAG_W,NITRAT,NITRAT_FLAG_W,NITRIT,NITRIT_FLAG_W,PHSPHT,PHSPHT_FLAG_W,CFC-11,CFC-11_FLAG_W,CFC-12,CFC-12_FLAG_W,CCL4,CCL4_FLAG_W,TCARBN,TCARBN_FLAG_W,ALKALI,ALKALI_FLAG_W,THETA
,,,,,,,,,,,,DBAR,ITS-90,PSS-78,,PSS-78,,UMOL/KG,,UMOL/KG,,UMOL/KG,,UMOL/KG,,UMOL/KG,,UMOL/KG,,PMOL/KG,,PMOL/KG,,PMOL/KG,,UMOL/KG,,UMOL/KG,,DEG C
     316N142_3,   A15,    58,  1,     39,     39,2,19940422,0915, -6.5000, -18.9995, 4724,      8.2,  28.1294,  35.9660,2,  35.9651,2,    215.4,4,    201.2,2,     1.90,2,     0.22,2,     0.01,2,     0.10,2, -999.000,9, -999.000,9, -999.000,9,   -999.0,9,   -999.0,9, 28.1274
     316N142_3,   A15,    58,  1,     35,     35,2,19940422,0915, -6.5000, -18.9995, 4724,     43.0,  28.0778,  36.0073,2,  35.9914,2,    201.7,2,    202.0,2,     1.75,2,     0.22,2,     0.01,2,     0.09,2, -999.000,9, -999.000,9, -999.000,9,   -999.0,9,   -999.0,9, 28.0677
     316N142_3,   A15,    58,  1,     38,     38,2,19940422,0915, -6.5000, -18.9995, 4724,     68.8,  25.8714,  36.6804,2,  36.6596,2,    211.5,2,    216.4,2,     1.60,2,     0.21,2,     0.01,2,     0.12,2, -999.000,9, -999.000,9, -999.000,9,   -999.0,9,   -999.0,9, 25.8560
     316N142_3,   A15,    58,  1,     33,     33,2,19940422,0915, -6.5000, -18.9995, 4724,    144.3,  14.4405,  35.4549,2,  35.4480,2,     91.2,2,     91.1,2,     8.39,2,    22.55,2,     0.03,2,     1.48,2, -999.000,9, -999.000,9, -999.000,9,   -999.0,9,   -999.0,9, 14.4191
     316N142_3,   A15,    58,  1,     41,     41,2,19940422,0915, -6.5000, -18.9995, 4724,    250.1,  10.4497,  34.9817,2,  34.9816,2,     84.4,2,     84.1,2,    13.59,2,    29.55,2,     0.01,2,     1.88,2, -999.000,9, -999.000,9, -999.000,9,   -999.0,9,   -999.0,9, 10.4198
     316N142_3,   A15,    58,  1,     31,     31,2,19940422,0915, -6.5000, -18.9995, 4724,    355.4,   9.1577,  34.8343,2,  34.8299,2,     71.3,2,     71.6,2,    16.91,2,    33.86,2,     0.01,2,     2.13,2, -999.000,9, -999.000,9, -999.000,9,   -999.0,9,   -999.0,9,  9.1184
     316N142_3,   A15,    58,  1,     37,     37,2,19940422,0915, -6.5000, -18.9995, 4724,    506.7,   7.1991,  34.6431,2,  34.6406,2,     85.8,2,     86.8,2,    21.97,2,    36.50,2,     0.01,2,     2.33,2, -999.000,9, -999.000,9, -999.000,9,   -999.0,9,   -999.0,9,  7.1501
     316N142_3,   A15,    58,  1,     29,     29,2,19940422,0915, -6.5000, -18.9995, 4724,    657.8,   5.7296,  34.5182,2,  34.5190,2,    120.3,2,    121.6,2,    26.77,2,    36.00,2,     0.00,2,     2.36,2, -999.000,9, -999.000,9, -999.000,9,   -999.0,9,   -999.0,9,  5.6727
     316N142_3,   A15,    58,  1,     28,     28,2,19940422,0915, -6.5000, -18.9995, 4724,    798.2,   4.6546,  34.4636,2,  34.4633,2,    151.2,2,    152.8,2,    32.36,2,    34.81,2,     0.00,2,     2.33,2, -999.000,9, -999.000,9, -999.000,9,   -999.0,9,   -999.0,9,  4.5915
     316N142_3,   A15,    58,  1,     27,     27,2,19940422,0915, -6.5000, -18.9995, 4724,    960.7,   4.0449,  34.5451,2,  34.5444,2,    167.6,2,    167.2,2,    36.48,2,    33.24,2,     0.00,2,     2.24,2, -999.000,9, -999.000,9, -999.000,9,   -999.0,9,   -999.0,9,  3.9721
     316N142_3,   A15,    58,  1,     26,     26,2,19940422,0915, -6.5000, -18.9995, 4724,   1091.3,   4.1879,  34.7195,2,  34.7183,2,    177.2,2,    177.2,2,    31.39,2,    30.05,2,     0.00,2,     2.03,2, -999.000,9, -999.000,9, -999.000,9,   -999.0,9,   -999.0,9,  4.1026
     316N142_3,   A15,    58,  1,     25,     25,2,19940422,0915, -6.5000, -18.9995, 4724,   1222.2,   4.3349,  34.8543,2,  34.8547,2,    196.8,2,    195.5,2,    25.24,2,    26.35,2,     0.00,2,     1.77,2, -999.000,9, -999.000,9, -999.000,9,   -999.0,9,   -999.0,9,  4.2366
     316N142_3,   A15,    58,  1,     24,     24,2,19940422,0915, -6.5000, -18.9995, 4724,   1363.3,   4.1776,  34.9085,2,  34.9081,2,    215.1,2,    213.1,2,    22.96,2,    24.08,2,     0.00,2,     1.62,2, -999.000,9, -999.000,9, -999.000,9,   -999.0,9,   -999.0,9,  4.0680
     316N142_3,   A15,    58,  1,     23,     23,9,19940422,0915, -6.5000, -18.9995, 4724,   1505.7,   4.0754,  34.9493,2,-999.0000,9,    228.5,2,   -999.0,9,  -999.00,9,  -999.00,9,  -999.00,9,  -999.00,9, -999.000,9, -999.000,9, -999.000,9,   -999.0,9,   -999.0,9,  3.9539
     316N142_3,   A15,    58,  1,     22,     22,2,19940422,0915, -6.5000, -18.9995, 4724,   1645.9,   3.8502,  34.9546,2,  34.9555,2,    239.2,2,    237.1,2,    21.21,2,    21.26,2,     0.00,2,     1.42,2, -999.000,9, -999.000,9, -999.000,9,   -999.0,9,   -999.0,9,  3.7185
     316N142_3,   A15,    58,  1,     21,     21,2,19940422,0915, -6.5000, -18.9995, 4724,   1770.4,   3.7062,  34.9574,2,  34.9586,2,    242.3,2,    243.1,2,    21.60,2,    20.71,2,     0.00,2,     1.39,2, -999.000,9, -999.000,9, -999.000,9,   -999.0,9,   -999.0,9,  3.5647
     316N142_3,   A15,    58,  1,     20,     20,2,19940422,0915, -6.5000, -18.9995, 4724,   1879.3,   3.6185,  34.9620,2,  34.9636,2,    248.8,2,    247.9,2,    21.32,2,    20.20,2,     0.00,2,     1.36,2, -999.000,9, -999.000,9, -999.000,9,   -999.0,9,   -999.0,9,  3.4681
     316N142_3,   A15,    58,  1,     19,     19,2,19940422,0915, -6.5000, -18.9995, 4724,   2001.3,   3.4899,  34.9564,2,  34.9571,2,    247.3,2,    253.9,4,    23.04,2,    20.25,2,     0.00,2,     1.36,2, -999.000,9, -999.000,9, -999.000,9,   -999.0,9,   -999.0,9,  3.3298
     316N142_3,   A15,    58,  1,     40,     40,2,19940422,0915, -6.5000, -18.9995, 4724,   2133.3,   3.2715,  34.9408,2,  34.9423,2,    244.6,2,    246.2,2,    27.16,2,    20.76,2,     0.00,2,     1.39,2, -999.000,9, -999.000,9, -999.000,9,   -999.0,9,   -999.0,9,  3.1023
     316N142_3,   A15,    58,  1,     17,     17,2,19940422,0915, -6.5000, -18.9995, 4724,   2275.7,   3.0192,  34.9196,2,  34.9205,2,    240.8,2,    240.7,2,    33.95,2,    21.78,2,     0.00,2,     1.46,2, -999.000,9, -999.000,9, -999.000,9,   -999.0,9,   -999.0,9,  2.8407
     316N142_3,   A15,    58,  1,     16,     16,2,19940422,0915, -6.5000, -18.9995, 4724,   2426.7,   2.9003,  34.9137,2,  34.9148,2,    240.1,2,    241.1,2,    36.34,2,    22.02,2,     0.00,2,     1.48,2, -999.000,9, -999.000,9, -999.000,9,   -999.0,9,   -999.0,9,  2.7094
     316N142_3,   A15,    58,  1,     15,     15,2,19940422,0915, -6.5000, -18.9995, 4724,   2578.9,   2.8148,  34.9107,2,  34.9115,2,    241.0,2,    241.7,2,    37.93,2,    22.11,2,     0.00,2,     1.49,2, -999.000,9, -999.000,9, -999.000,9,   -999.0,9,   -999.0,9,  2.6107
     316N142_3,   A15,    58,  1,     14,     14,2,19940422,0915, -6.5000, -18.9995, 4724,   2731.9,   2.7586,  34.9095,2,  34.9099,2,    241.9,2,    242.2,2,    38.71,2,    22.07,2,     0.00,2,     1.49,2, -999.000,9, -999.000,9, -999.000,9,   -999.0,9,   -999.0,9,  2.5405
     316N142_3,   A15,    58,  1,     13,     13,2,19940422,0915, -6.5000, -18.9995, 4724,   2884.9,   2.7148,  34.9106,2,  34.9105,2,    244.1,2,    244.4,2,    38.17,2,    21.84,2,     0.00,2,     1.47,2, -999.000,9, -999.000,9, -999.000,9,   -999.0,9,   -999.0,9,  2.4821
     316N142_3,   A15,    58,  1,     12,     12,2,19940422,0915, -6.5000, -18.9995, 4724,   3036.7,   2.6537,  34.9087,2,  34.9094,2,    245.2,2,    246.4,2,    38.55,2,    21.66,2,     0.00,2,     1.45,2, -999.000,9, -999.000,9, -999.000,9,   -999.0,9,   -999.0,9,  2.4068
     316N142_3,   A15,    58,  1,     11,     11,2,19940422,0915, -6.5000, -18.9995, 4724,   3189.8,   2.6166,  34.9113,2,  34.9125,2,    250.9,2,    250.7,2,    36.54,2,    21.01,2,     0.00,2,     1.42,2, -999.000,9, -999.000,9, -999.000,9,   -999.0,9,   -999.0,9,  2.3546
     316N142_3,   A15,    58,  1,     10,     10,2,19940422,0915, -6.5000, -18.9995, 4724,   3342.2,   2.5671,  34.9089,2,  34.9088,2,    253.3,2,    252.4,2,    36.53,2,    20.87,2,     0.00,2,     1.41,2, -999.000,9, -999.000,9, -999.000,9,   -999.0,9,   -999.0,9,  2.2901
     316N142_3,   A15,    58,  1,      9,      9,2,19940422,0915, -6.5000, -18.9995, 4724,   3495.8,   2.5237,  34.9072,2,  34.9064,2,    254.9,2,    254.9,2,    35.98,2,    20.55,2,     0.00,2,     1.40,2, -999.000,9, -999.000,9, -999.000,9,   -999.0,9,   -999.0,9,  2.2311
     316N142_3,   A15,    58,  1,      8,      8,2,19940422,0915, -6.5000, -18.9995, 4724,   3648.7,   2.4710,  34.9036,2,  34.9031,2,    256.0,2,    255.9,2,    36.90,2,    20.55,2,     0.00,2,     1.40,2, -999.000,9, -999.000,9, -999.000,9,   -999.0,9,   -999.0,9,  2.1631
     316N142_3,   A15,    58,  1,      7,      7,2,19940422,0915, -6.5000, -18.9995, 4724,   3750.8,   2.4015,  34.8970,2,  34.8972,2,    254.3,2,    255.5,2,    38.89,2,    20.79,2,     0.00,2,     1.42,2, -999.000,9, -999.000,9, -999.000,9,   -999.0,9,   -999.0,9,  2.0841
     316N142_3,   A15,    58,  1,      6,      6,2,19940422,0915, -6.5000, -18.9995, 4724,   3954.6,   2.0502,  34.8604,2,  34.8612,2,    247.3,2,    249.6,2,    52.86,2,    22.74,2,     0.00,2,     1.55,2, -999.000,9, -999.000,9, -999.000,9,   -999.0,9,   -999.0,9,  1.7198
     316N142_3,   A15,    58,  1,      5,      5,2,19940422,0915, -6.5000, -18.9995, 4724,   4156.4,   1.6272,  34.8130,2,  34.7566,4,    238.7,2,    240.1,2,    71.53,2,    25.48,2,     0.00,2,     1.74,2, -999.000,9, -999.000,9, -999.000,9,   -999.0,9,   -999.0,9,  1.2866
     316N142_3,   A15,    58,  1,      4,      4,2,19940422,0915, -6.5000, -18.9995, 4724,   4361.3,   1.2737,  34.7758,2,  34.7759,2,    233.0,2,    233.7,2,    85.86,2,    27.57,2,     0.00,2,     1.89,2, -999.000,9, -999.000,9, -999.000,9,   -999.0,9,   -999.0,9,  0.9209
     316N142_3,   A15,    58,  1,      3,      3,2,19940422,0915, -6.5000, -18.9995, 4724,   4568.3,   1.0205,  34.7483,2,  34.7478,2,    230.4,2,    229.2,2,    95.89,2,    29.15,2,     0.00,2,     2.00,2, -999.000,9, -999.000,9, -999.000,9,   -999.0,9,   -999.0,9,  0.6524
     316N142_3,   A15,    58,  1,      2,      2,2,19940422,0915, -6.5000, -18.9995, 4724,   4721.4,   0.9411,  34.7390,2,  34.7384,2,    232.0,4,    227.6,2,    99.61,2,    29.67,2,     0.00,2,     2.04,2, -999.000,9, -999.000,9, -999.000,9,   -999.0,9,   -999.0,9,  0.5580
     316N142_3,   A15,    58,  1,      1,      1,2,19940422,0915, -6.5000, -18.9995, 4724,   4817.8,   0.9161,  34.7355,2,  34.7362,2,    232.4,4,    226.9,2,   100.71,2,    29.90,2,     0.00,2,     2.05,2, -999.000,9, -999.000,9, -999.000,9,   -999.0,9,   -999.0,9,  0.5227