BOTTLE,20020814WHPSIOKJU
EXPOCODE,SECT_ID,STNNBR,CASTNO,SAMPNO,BTLNBR,BTLNBR_FLAG_W,DATE,TIME,LATITUDE,LONGITUDE,DEPTH,CTDPRS,CTDTMP,CTDSAL,CTDSAL_FLAG_W,SALNTY,SALNTY_FLAG_W,CTDOXY,CTDOXY_FLAG_W,OXYGEN,OXYGEN_FLAG_W,SILCAT,SILCAT_FLAG_W,NITRAT,NITRAT_FLAG_W,NITRIT,NITRIT_FLAG_W,PHSPHT,PHSPHT_FLAG_W,CFC-11,CFC-11_FLAG_W,CFC-12,CFC-12_FLAG_W,CCL4,CCL4_FLAG_W,TCARBN,TCARBN_FLAG_W,ALKALI,ALKALI_FLAG_W,THETA
,,,,,,,,,,,,DBAR,ITS-90,PSS-78,,PSS-78,,UMOL/KG,,UMOL/KG,,UMOL/KG,,UMOL/KG,,UMOL/KG,,UMOL/KG,,PMOL/KG,,PMOL/KG,,PMOL/KG,,UMOL/KG,,UMOL/KG,,DEG C
     316N142_3,  AR15,   142,  1,     39,     39,2,19940517,1508,-18.4473, -34.8673, 4150,     12.2,  27.1078,  37.4194,2,  37.4194,2,    224.4,4,    200.8,2,     1.78,2,     0.00,2,     0.00,2,     0.11,2,    1.531,2,    0.994,2,    2.056,2,   2075.6,2,   2446.9,2, 27.1050
     316N142_3,  AR15,   142,  1,     35,     35,2,19940517,1508,-18.4473, -34.8673, 4150,     84.4,  24.7924,  37.1478,2,  37.1331,2,    210.3,4,    213.9,2,     1.77,2,     0.00,2,     0.00,2,     0.12,2,    1.899,2,    1.130,2,    1.350,2,   2078.7,2,   2435.7,2, 24.7741
     316N142_3,  AR15,   142,  1,     38,     38,2,19940517,1508,-18.4473, -34.8673, 4150,    165.6,  20.0531,  36.2950,2,  36.2910,2,    204.8,2,    201.6,2,     1.91,2,     0.80,2,     0.04,2,     0.28,2, -999.000,9, -999.000,9, -999.000,9,   2092.0,2,   2381.9,2, 20.0222
     316N142_3,  AR15,   142,  1,     33,     33,2,19940517,1508,-18.4473, -34.8673, 4150,    246.2,  15.3983,  35.5145,2,  35.4969,2,    201.9,2,    197.9,2,     3.63,2,     6.80,2,     0.01,2,     0.58,2,    2.366,2,    1.269,2,    1.692,3,   2097.4,2,   2329.5,2, 15.3601
     316N142_3,  AR15,   142,  1,     41,     41,2,19940517,1508,-18.4473, -34.8673, 4150,    316.0,  13.2789,  35.2091,2,  35.2108,2,    188.8,2,    187.3,2,     5.34,2,    11.82,2,     0.01,2,     0.89,2, -999.000,9, -999.000,9, -999.000,9,   2117.8,2,   -999.0,9, 13.2345
     316N142_3,  AR15,   142,  1,     31,     31,2,19940517,1508,-18.4473, -34.8673, 4150,    356.3,  12.3017,  35.0900,2,  35.0916,2,    197.9,2,    194.8,2,     5.80,2,    13.13,2,     0.00,2,     0.97,2,    1.985,2,    1.052,2,    0.651,2,   2118.5,2,   -999.0,9, 12.2541
     316N142_3,  AR15,   142,  1,     37,     37,2,19940517,1508,-18.4473, -34.8673, 4150,    406.7,  11.0121,  34.9348,2,  34.9417,2,    188.1,2,    182.9,2,     8.15,2,    17.17,2,     0.00,2,     1.22,2, -999.000,9, -999.000,9, -999.000,9,   2137.7,2,   2302.1,2, 10.9615
     316N142_3,  AR15,   142,  1,     29,     29,2,19940517,1508,-18.4473, -34.8673, 4150,    481.4,   9.0072,  34.7138,2,  35.2104,4,    187.2,2,    183.9,2,    11.75,2,    21.77,2,     0.00,2,     1.51,2,    1.384,2,    0.724,2,    1.472,2,   2148.1,2,   2295.4,2,  8.9542
     316N142_3,  AR15,   142,  1,     28,     28,2,19940517,1508,-18.4473, -34.8673, 4150,    613.3,   5.9271,  34.4324,2,  34.4311,2,    193.7,2,    197.3,2,    20.08,2,    27.85,2,     0.00,2,     1.92,2,    0.954,6,    0.495,6,    1.513,6,   2174.3,2,   2287.8,2,  5.8735
     316N142_3,  AR15,   142,  1,     27,     27,2,19940517,1508,-18.4473, -34.8673, 4150,    733.9,   4.4684,  34.3770,2,  34.3757,2,    193.0,2,    194.4,2,    30.16,2,    30.89,2,     0.00,2,     2.14,2,    0.422,2,    0.240,2,    1.399,2,   2193.9,2,   2293.6,2,  4.4119
     316N142_3,  AR15,   142,  1,     26,     26,2,19940517,1508,-18.4473, -34.8673, 4150,    887.6,   3.7259,  34.4236,2,  34.4223,2,    189.4,2,    190.2,2,    39.32,2,    31.88,2,     0.00,2,     2.22,2,    0.233,2,    0.111,2,    0.922,2,   2207.6,2,   2304.2,2,  3.6615
     316N142_3,  AR15,   142,  1,     25,     25,2,19940517,1508,-18.4473, -34.8673, 4150,   1039.0,   3.5536,  34.5210,2,  34.5194,2,    184.7,2,    186.2,2,    42.63,2,    31.46,2,     0.00,2,     2.19,2, -999.000,9, -999.000,9, -999.000,9,   2216.5,2,   2310.3,2,  3.4783
     316N142_3,  AR15,   142,  1,     24,     24,2,19940517,1508,-18.4473, -34.8673, 4150,   1151.0,   3.6975,  34.6254,2,  34.6245,2,    185.0,2,    186.8,2,    39.29,2,    30.10,2,     0.00,2,     2.08,2, -999.000,9,    0.020,2,    0.233,2,   -999.0,9,   -999.0,9,  3.6116
     316N142_3,  AR15,   142,  1,     23,     23,2,19940517,1508,-18.4473, -34.8673, 4150,   1256.6,   4.1050,  34.7572,2,  34.7562,2,    187.8,2,    188.6,2,    30.58,2,    27.95,2,     0.00,2,     1.92,2, -999.000,9, -999.000,9, -999.000,9,   2206.1,2,   2310.1,2,  4.0060
     316N142_3,  AR15,   142,  1,     22,     22,2,19940517,1508,-18.4473, -34.8673, 4150,   1364.2,   4.1703,  34.8172,2,  34.8178,2,    197.3,2,    197.6,2,    27.73,2,    26.27,2,     0.00,2,     1.80,2, -999.000,9,    0.026,2,    0.232,2,   -999.0,9,   -999.0,9,  4.0609
     316N142_3,  AR15,   142,  1,     21,     21,2,19940517,1508,-18.4473, -34.8673, 4150,   1485.0,   4.1674,  34.8790,2,  34.8773,2,    210.4,2,    210.7,2,    24.40,2,    24.33,2,     0.00,2,     1.66,2, -999.000,9, -999.000,9, -999.000,9,   2191.3,2,   2310.7,2,  4.0469
     316N142_3,  AR15,   142,  1,     20,     20,2,19940517,1508,-18.4473, -34.8673, 4150,   1606.0,   4.0308,  34.9290,2,  34.9286,2,    227.9,2,    227.2,2,    22.03,2,    22.13,2,     0.00,2,     1.49,2, -999.000,9,    0.025,2,    0.234,2,   -999.0,9,   -999.0,9,  3.9006
     316N142_3,  AR15,   142,  1,     19,     19,2,19940517,1508,-18.4473, -34.8673, 4150,   1716.9,   3.7880,  34.9611,2,  34.9616,2,    243.8,2,    243.5,2,    20.60,2,    20.19,2,     0.00,2,     1.37,2, -999.000,9,    0.036,6,    0.418,6,   2169.2,2,   2312.6,2,  3.6504
     316N142_3,  AR15,   142,  1,     40,     40,2,19940517,1508,-18.4473, -34.8673, 4150,   1847.3,   3.5410,  34.9605,2,  34.9620,2,    250.0,2,    249.9,2,    21.53,2,    19.72,2,     0.00,2,     1.31,2, -999.000,9,    0.060,2,    0.482,2,   -999.0,9,   -999.0,9,  3.3947
     316N142_3,  AR15,   142,  1,     17,     17,2,19940517,1508,-18.4473, -34.8673, 4150,   1979.8,   3.3281,  34.9528,2,  34.9535,2,    252.6,2,    251.6,2,    23.88,2,    19.77,2,     0.00,2,     1.34,2, -999.000,9,    0.029,2,    0.248,2,   2169.3,2,   2315.0,2,  3.1725
     316N142_3,  AR15,   142,  1,     16,     16,2,19940517,1508,-18.4473, -34.8673, 4150,   2121.6,   3.1790,  34.9475,2,  34.9469,2,    252.8,2,    252.6,2,    25.61,2,    19.83,2,     0.00,2,     1.34,2, -999.000,9, -999.000,9, -999.000,9,   -999.0,9,   -999.0,9,  3.0124
     316N142_3,  AR15,   142,  1,     15,     15,2,19940517,1508,-18.4473, -34.8673, 4150,   2275.2,   3.0548,  34.9401,2,  34.9394,2,    252.4,2,    252.4,2,    27.49,2,    19.98,2,     0.00,2,     1.35,2, -999.000,9,    0.018,2,    0.403,2,   2172.6,2,   2318.3,2,  2.8757
     316N142_3,  AR15,   142,  1,     14,     14,2,19940517,1508,-18.4473, -34.8673, 4150,   2427.8,   2.9495,  34.9326,2,  34.9319,2,    251.8,2,    251.8,2,    29.69,2,    20.19,2,     0.00,2,     1.37,2, -999.000,9, -999.000,9, -999.000,9,   -999.0,9,   -999.0,9,  2.7576
     316N142_3,  AR15,   142,  1,     13,     13,2,19940517,1508,-18.4473, -34.8673, 4150,   2580.2,   2.8841,  34.9275,2,  34.9276,2,    251.8,2,    251.2,2,    30.94,2,    20.34,2,     0.00,2,     1.36,2, -999.000,9, -999.000,9, -999.000,9,   2176.9,2,   2323.4,2,  2.6785
     316N142_3,  AR15,   142,  1,     12,     12,2,19940517,1508,-18.4473, -34.8673, 4150,   2732.3,   2.8041,  34.9233,2,  34.9243,2,    250.9,2,    251.4,2,    32.19,2,    20.50,2,     0.00,2,     1.37,2, -999.000,9,    0.019,2,    0.116,2,   -999.0,9,   -999.0,9,  2.5850
     316N142_3,  AR15,   142,  1,     11,     11,2,19940517,1508,-18.4473, -34.8673, 4150,   2885.0,   2.7457,  34.9207,2,  34.9212,2,    251.8,2,    252.3,2,    32.97,2,    20.40,2,     0.00,2,     1.37,2, -999.000,9, -999.000,9, -999.000,9,   2177.3,2,   2324.1,2,  2.5123
     316N142_3,  AR15,   142,  1,     10,     10,2,19940517,1508,-18.4473, -34.8673, 4150,   3038.4,   2.6800,  34.9171,2,  34.9163,2,    252.8,2,    253.0,2,    33.91,2,    20.34,2,     0.00,2,     1.37,2, -999.000,9,    0.015,2,    0.113,2,   -999.0,9,   -999.0,9,  2.4323
     316N142_3,  AR15,   142,  1,      9,      9,2,19940517,1508,-18.4473, -34.8673, 4150,   3190.5,   2.6116,  34.9122,2,  34.9106,2,    253.4,2,    253.6,2,    35.16,2,    20.55,2,     0.00,2,     1.39,2, -999.000,9, -999.000,9, -999.000,9,   2178.7,2,   2326.4,2,  2.3496
     316N142_3,  AR15,   142,  1,      8,      8,2,19940517,1508,-18.4473, -34.8673, 4150,   3343.8,   2.5342,  34.9058,2,  34.9049,2,    254.9,2,    253.7,2,    36.73,2,    20.66,2,     0.00,2,     1.39,2, -999.000,9,    0.022,2,    0.179,2,   -999.0,9,   -999.0,9,  2.2578
     316N142_3,  AR15,   142,  1,      7,      7,2,19940517,1508,-18.4473, -34.8673, 4150,   3496.8,   2.4207,  34.8970,2,  34.8960,2,    253.8,2,    254.0,2,    39.57,2,    20.81,2,     0.00,2,     1.41,2, -999.000,9,    0.016,2,    0.185,2,   2182.8,2,   2328.8,2,  2.1307
     316N142_3,  AR15,   142,  1,      6,      6,2,19940517,1508,-18.4473, -34.8673, 4150,   3648.9,   2.1535,  34.8681,2,  34.8682,2,    249.9,2,    249.0,2,    50.36,2,    22.33,2,     0.00,2,     1.52,2, -999.000,9,    0.015,2,    0.097,2,   -999.0,9,   -999.0,9,  1.8539
     316N142_3,  AR15,   142,  1,      5,      5,2,19940517,1508,-18.4473, -34.8673, 4150,   3801.6,   1.7916,  34.8296,2,  34.8283,2,    243.5,2,    242.2,2,    64.90,2,    24.32,2,     0.00,2,     1.65,2, -999.000,9, -999.000,9, -999.000,9,   2209.6,2,   2341.2,2,  1.4853
     316N142_3,  AR15,   142,  1,      4,      4,2,19940517,1508,-18.4473, -34.8673, 4150,   3954.7,   1.4170,  34.7894,2,  34.7885,2,    236.2,2,    235.4,2,    79.89,2,    26.46,2,     0.00,2,     1.82,2, -999.000,9, -999.000,9, -999.000,9,   -999.0,9,   -999.0,9,  1.1047
     316N142_3,  AR15,   142,  1,      3,      3,2,19940517,1508,-18.4473, -34.8673, 4150,   4119.0,   0.9710,  34.7423,2,  34.7419,2,    227.6,2,    227.7,2,    97.83,2,    28.81,2,     0.00,2,     2.01,2, -999.000,9,    0.024,2,    0.184,2,   2243.1,2,   2355.4,2,  0.6540
     316N142_3,  AR15,   142,  1,      2,      2,2,19940517,1508,-18.4473, -34.8673, 4150,   4196.4,   0.8837,  34.7325,2,  34.7323,2,    226.0,2,    226.4,2,   101.45,2,    29.33,2,     0.00,2,     2.05,2, -999.000,9, -999.000,9, -999.000,9,   -999.0,9,   -999.0,9,  0.5610
     316N142_3,  AR15,   142,  1,      1,      1,2,19940517,1508,-18.4473, -34.8673, 4150,   4223.4,   0.8863,  34.7319,2,  34.7323,2,    224.6,2,    225.3,2,   101.44,2,    29.28,2,     0.00,2,     2.04,2, -999.000,9,    0.019,2,    0.095,2,   2246.4,2,   2359.7,2,  0.5607