BOTTLE,20020814WHPSIOKJU
EXPOCODE,SECT_ID,STNNBR,CASTNO,SAMPNO,BTLNBR,BTLNBR_FLAG_W,DATE,TIME,LATITUDE,LONGITUDE,DEPTH,CTDPRS,CTDTMP,CTDSAL,CTDSAL_FLAG_W,SALNTY,SALNTY_FLAG_W,CTDOXY,CTDOXY_FLAG_W,OXYGEN,OXYGEN_FLAG_W,SILCAT,SILCAT_FLAG_W,NITRAT,NITRAT_FLAG_W,NITRIT,NITRIT_FLAG_W,PHSPHT,PHSPHT_FLAG_W,CFC-11,CFC-11_FLAG_W,CFC-12,CFC-12_FLAG_W,CCL4,CCL4_FLAG_W,TCARBN,TCARBN_FLAG_W,ALKALI,ALKALI_FLAG_W,THETA
,,,,,,,,,,,,DBAR,ITS-90,PSS-78,,PSS-78,,UMOL/KG,,UMOL/KG,,UMOL/KG,,UMOL/KG,,UMOL/KG,,UMOL/KG,,PMOL/KG,,PMOL/KG,,PMOL/KG,,UMOL/KG,,UMOL/KG,,DEG C
     316N142_3,  AR15,   116,  1,     39,     39,2,19940510,1521,-18.5788, -21.1097, 5031,      6.7,  25.9422,  37.0552,2,  37.0573,2,    205.6,2,    205.8,2,     1.53,2,     0.06,2,     0.00,2,     0.21,2,    1.544,2,    1.025,2,    2.477,2,   2078.0,2,   2428.1,2, 25.9407
     316N142_3,  AR15,   116,  1,     35,     35,2,19940510,1521,-18.5788, -21.1097, 5031,     69.8,  25.9421,  37.0791,2,  37.0801,2,    205.9,2,    205.2,2,     1.27,2,     0.06,2,     0.00,2,     0.21,2, -999.000,9,    0.993,2,    2.483,2,   2077.9,2,   2430.3,2, 25.9265
     316N142_3,  AR15,   116,  1,     38,     38,9,19940510,1521,-18.5788, -21.1097, 5031,     94.9,  22.9134,  36.5399,2,-999.0000,9,    221.2,2,   -999.0,9,  -999.00,9,  -999.00,9,  -999.00,9,  -999.00,9, -999.000,9, -999.000,9, -999.000,9,   -999.0,9,   -999.0,9, 22.8940
     316N142_3,  AR15,   116,  1,     33,     33,2,19940510,1521,-18.5788, -21.1097, 5031,    196.5,  16.7247,  35.7030,2,  35.7235,2,    200.7,2,    199.9,2,     2.46,2,     3.04,2,     0.03,2,     0.51,2,    2.409,2,    1.247,2,    1.087,2,   2096.6,2,   2343.2,2, 16.6925
     316N142_3,  AR15,   116,  1,     41,     41,2,19940510,1521,-18.5788, -21.1097, 5031,    295.4,  12.7357,  35.1328,2,  35.1340,2,    181.9,2,    178.3,2,     5.70,2,    13.36,2,     0.00,2,     1.04,2,    2.033,6,    1.074,6,    0.758,6,   2126.9,2,   2306.7,2, 12.6954
     316N142_3,  AR15,   116,  1,     31,     31,2,19940510,1521,-18.5788, -21.1097, 5031,    398.3,  10.2663,  34.8527,2,  34.8534,2,    167.6,2,    164.3,2,     9.92,2,    20.96,2,     0.00,2,     1.46,2, -999.000,9, -999.000,9, -999.000,9,   2156.4,2,   2296.2,2, 10.2189
     316N142_3,  AR15,   116,  1,     37,     37,2,19940510,1521,-18.5788, -21.1097, 5031,    503.3,   7.7285,  34.6127,2,  34.6124,2,    158.5,2,    157.1,2,    16.80,2,    28.38,2,     0.00,2,     1.88,2,    0.861,2,    0.429,2,    1.303,2,   2182.5,2,   2289.9,2,  7.6778
     316N142_3,  AR15,   116,  1,     29,     29,2,19940510,1521,-18.5788, -21.1097, 5031,    602.6,   6.1375,  34.5055,2,  34.5051,2,    154.8,2,    153.7,2,    23.21,2,    32.62,2,     0.00,2,     2.13,2, -999.000,9, -999.000,9, -999.000,9,   2196.1,2,   2290.2,2,  6.0838
     316N142_3,  AR15,   116,  1,     28,     28,2,19940510,1521,-18.5788, -21.1097, 5031,    755.4,   4.4637,  34.4196,2,  34.4193,2,    174.1,2,    176.0,2,    32.19,2,    33.66,2,     0.00,2,     2.24,2,    0.223,2,    0.078,2,    0.731,2,   -999.0,9,   -999.0,9,  4.4054
     316N142_3,  AR15,   116,  1,     27,     27,2,19940510,1521,-18.5788, -21.1097, 5031,    878.0,   3.8846,  34.4512,2,  34.4493,2,    179.4,2,    180.0,2,    37.79,2,    33.66,2,     0.00,2,     2.26,2, -999.000,9, -999.000,9, -999.000,9,   -999.0,9,   -999.0,9,  3.8199
     316N142_3,  AR15,   116,  1,     26,     26,2,19940510,1521,-18.5788, -21.1097, 5031,   1008.5,   3.6946,  34.5196,2,  34.5183,2,    178.8,2,    181.2,2,    39.72,2,    32.87,2,     0.00,2,     2.21,2,    0.071,4,    0.025,2,    0.405,2,   -999.0,9,   -999.0,9,  3.6206
     316N142_3,  AR15,   116,  1,     25,     25,2,19940510,1521,-18.5788, -21.1097, 5031,   1140.7,   3.7109,  34.6253,2,  34.6238,2,    184.5,2,    184.9,2,    37.84,2,    31.09,2,     0.00,2,     2.10,2, -999.000,9, -999.000,9, -999.000,9,   -999.0,9,   -999.0,9,  3.6257
     316N142_3,  AR15,   116,  1,     24,     24,2,19940510,1521,-18.5788, -21.1097, 5031,   1271.1,   3.7834,  34.7461,2,  34.7444,2,    189.9,2,    195.3,2,    33.28,2,    28.20,2,     0.00,2,     1.93,2,    0.006,4,    0.004,2,    0.118,2,   -999.0,9,   -999.0,9,  3.6862
     316N142_3,  AR15,   116,  1,     23,     23,2,19940510,1521,-18.5788, -21.1097, 5031,   1414.9,   3.7284,  34.8188,2,  34.8190,2,    204.8,2,    208.2,2,    30.56,2,    25.75,2,     0.00,2,     1.78,2, -999.000,9, -999.000,9, -999.000,9,   -999.0,9,   -999.0,9,  3.6192
     316N142_3,  AR15,   116,  1,     22,     22,2,19940510,1521,-18.5788, -21.1097, 5031,   1567.4,   3.5532,  34.8711,2,  34.8705,2,    221.2,2,    222.9,2,    29.19,2,    23.54,2,     0.00,2,     1.63,2, -999.000,9,    0.010,2,    0.095,2,   -999.0,9,   -999.0,9,  3.4324
     316N142_3,  AR15,   116,  1,     21,     21,2,19940510,1521,-18.5788, -21.1097, 5031,   1719.5,   3.4219,  34.8989,2,  34.8978,2,    232.4,2,    232.3,2,    28.31,2,    22.19,2,     0.00,2,     1.55,2, -999.000,9,    0.017,2,    0.062,2,   -999.0,9,   -999.0,9,  3.2890
     316N142_3,  AR15,   116,  1,     20,     20,2,19940510,1521,-18.5788, -21.1097, 5031,   1869.6,   3.3457,  34.9228,2,  34.9227,2,    241.1,2,    241.6,2,    26.70,2,    20.91,2,     0.00,2,     1.46,2, -999.000,9,    0.007,6,    0.143,6,   -999.0,9,   -999.0,9,  3.2001
     316N142_3,  AR15,   116,  1,     19,     19,2,19940510,1521,-18.5788, -21.1097, 5031,   2001.8,   3.1755,  34.9237,2,  34.9235,2,    245.5,2,    244.6,2,    28.37,2,    20.72,2,     0.00,2,     1.44,2, -999.000,9,    0.014,2,    0.128,2,   -999.0,9,   -999.0,9,  3.0202
     316N142_3,  AR15,   116,  1,     40,     40,2,19940510,1521,-18.5788, -21.1097, 5031,   2133.5,   3.0082,  34.9127,2,  34.9129,2,    244.3,2,    243.4,2,    32.11,2,    21.28,2,     0.00,2,     1.47,2, -999.000,9, -999.000,9, -999.000,9,   -999.0,9,   -999.0,9,  2.8433
     316N142_3,  AR15,   116,  1,     17,     17,2,19940510,1521,-18.5788, -21.1097, 5031,   2265.8,   2.9194,  34.9068,2,  34.9066,2,    243.5,2,    243.1,2,    34.63,2,    21.59,2,     0.00,2,     1.49,2, -999.000,9,    0.007,2,    0.133,2,   -999.0,9,   -999.0,9,  2.7435
     316N142_3,  AR15,   116,  1,     16,     16,2,19940510,1521,-18.5788, -21.1097, 5031,   2427.6,   2.8502,  34.9053,2,  34.9050,2,    244.2,2,    243.9,2,    35.82,2,    21.59,2,     0.00,2,     1.50,2, -999.000,9, -999.000,9, -999.000,9,   -999.0,9,   -999.0,9,  2.6602
     316N142_3,  AR15,   116,  1,     15,     15,2,19940510,1521,-18.5788, -21.1097, 5031,   2630.9,   2.7566,  34.9011,2,  34.9007,2,    243.2,2,    243.1,2,    38.22,2,    21.83,2,     0.00,2,     1.51,2, -999.000,9,    0.006,2,    0.046,2,   -999.0,9,   -999.0,9,  2.5485
     316N142_3,  AR15,   116,  1,     14,     14,2,19940510,1521,-18.5788, -21.1097, 5031,   2835.2,   2.7148,  34.9002,2,  34.8999,2,    243.4,2,    244.0,2,    38.92,2,    21.83,2,     0.00,2,     1.51,2, -999.000,9, -999.000,9, -999.000,9,   -999.0,9,   -999.0,9,  2.4872
     316N142_3,  AR15,   116,  1,     13,     13,2,19940510,1521,-18.5788, -21.1097, 5031,   3039.3,   2.6657,  34.8998,2,  34.8995,2,    245.7,2,    245.0,2,    39.62,2,    21.71,2,     0.00,2,     1.50,2, -999.000,9,    0.010,2,    0.071,2,   -999.0,9,   -999.0,9,  2.4183
     316N142_3,  AR15,   116,  1,     12,     12,2,19940510,1521,-18.5788, -21.1097, 5031,   3222.9,   2.6096,  34.8992,2,  34.8991,2,    245.9,2,    246.7,2,    39.83,2,    21.53,2,     0.00,2,     1.49,2, -999.000,9, -999.000,9, -999.000,9,   -999.0,9,   -999.0,9,  2.3443
     316N142_3,  AR15,   116,  1,     11,     11,2,19940510,1521,-18.5788, -21.1097, 5031,   3364.2,   2.5768,  34.9023,2,  34.9026,2,    249.8,2,    250.4,2,    38.21,2,    20.86,2,     0.00,2,     1.46,2, -999.000,9,    0.007,2,    0.127,2,   -999.0,9,   -999.0,9,  2.2972
     316N142_3,  AR15,   116,  1,     10,     10,2,19940510,1521,-18.5788, -21.1097, 5031,   3547.1,   2.4297,  34.8906,2,  34.8896,2,    249.7,2,    250.6,2,    42.08,2,    21.29,2,     0.00,2,     1.49,2, -999.000,9, -999.000,9, -999.000,9,   -999.0,9,   -999.0,9,  2.1341
     316N142_3,  AR15,   116,  1,      9,      9,2,19940510,1521,-18.5788, -21.1097, 5031,   3748.6,   2.2030,  34.8689,2,  34.8678,2,    247.4,2,    247.7,2,    49.77,2,    22.39,2,     0.00,2,     1.56,2, -999.000,9,    0.005,2,    0.123,2,   -999.0,9,   -999.0,9,  1.8912
     316N142_3,  AR15,   116,  1,      8,      8,2,19940510,1521,-18.5788, -21.1097, 5031,   3950.7,   1.8370,  34.8316,2,  34.8313,2,    242.2,2,    241.7,2,    63.63,2,    24.42,2,     0.00,2,     1.70,2, -999.000,9, -999.000,9, -999.000,9,   -999.0,9,   -999.0,9,  1.5131
     316N142_3,  AR15,   116,  1,      7,      7,2,19940510,1521,-18.5788, -21.1097, 5031,   4153.0,   1.4823,  34.7942,2,  34.7938,2,    236.2,2,    236.5,2,    77.85,2,    26.57,2,     0.00,2,     1.84,2, -999.000,9,    0.004,2,    0.060,2,   -999.0,9,   -999.0,9,  1.1464
     316N142_3,  AR15,   116,  1,      6,      6,2,19940510,1521,-18.5788, -21.1097, 5031,   4355.6,   1.2498,  34.7696,2,  34.7691,2,    232.6,2,    232.5,2,    87.30,2,    27.98,2,     0.00,2,     1.93,2, -999.000,9, -999.000,9, -999.000,9,   -999.0,9,   -999.0,9,  0.8984
     316N142_3,  AR15,   116,  1,      5,      5,2,19940510,1521,-18.5788, -21.1097, 5031,   4558.4,   1.0554,  34.7485,2,  34.7485,2,    229.6,2,    229.8,2,    95.18,2,    29.09,2,     0.00,2,     2.01,2, -999.000,9,    0.001,2,    0.072,2,   -999.0,9,   -999.0,9,  0.6873
     316N142_3,  AR15,   116,  1,      4,      4,2,19940510,1521,-18.5788, -21.1097, 5031,   4761.8,   0.9585,  34.7368,2,  34.7363,2,    227.9,2,    228.2,2,    99.59,2,    29.70,2,     0.00,2,     2.05,2, -999.000,9, -999.000,9, -999.000,9,   -999.0,9,   -999.0,9,  0.5702
     316N142_3,  AR15,   116,  1,      3,      3,2,19940510,1521,-18.5788, -21.1097, 5031,   4965.0,   0.9030,  34.7291,2,  34.7284,2,    227.2,2,    227.1,2,   102.18,2,    30.13,2,     0.00,2,     2.09,2, -999.000,9,    0.005,2,    0.095,2,   -999.0,9,   -999.0,9,  0.4929
     316N142_3,  AR15,   116,  1,      2,      2,2,19940510,1521,-18.5788, -21.1097, 5031,   5173.7,   0.8665,  34.7228,2,  34.7227,2,    226.6,2,    226.2,2,   104.65,2,    30.44,2,     0.00,2,     2.09,2, -999.000,9, -999.000,9, -999.000,9,   -999.0,9,   -999.0,9,  0.4328
     316N142_3,  AR15,   116,  1,      1,      1,2,19940510,1521,-18.5788, -21.1097, 5031,   5359.3,   0.8557,  34.7190,2,  34.7188,2,    225.7,2,    225.8,2,   106.05,2,    30.75,2,     0.00,2,     2.10,2, -999.000,9,    0.010,2,    0.061,2,   -999.0,9,   -999.0,9,  0.3998