BOTTLE,20020814WHPSIOKJU
EXPOCODE,SECT_ID,STNNBR,CASTNO,SAMPNO,BTLNBR,BTLNBR_FLAG_W,DATE,TIME,LATITUDE,LONGITUDE,DEPTH,CTDPRS,CTDTMP,CTDSAL,CTDSAL_FLAG_W,SALNTY,SALNTY_FLAG_W,CTDOXY,CTDOXY_FLAG_W,OXYGEN,OXYGEN_FLAG_W,SILCAT,SILCAT_FLAG_W,NITRAT,NITRAT_FLAG_W,NITRIT,NITRIT_FLAG_W,PHSPHT,PHSPHT_FLAG_W,CFC-11,CFC-11_FLAG_W,CFC-12,CFC-12_FLAG_W,CCL4,CCL4_FLAG_W,TCARBN,TCARBN_FLAG_W,ALKALI,ALKALI_FLAG_W,THETA
,,,,,,,,,,,,DBAR,ITS-90,PSS-78,,PSS-78,,UMOL/KG,,UMOL/KG,,UMOL/KG,,UMOL/KG,,UMOL/KG,,UMOL/KG,,PMOL/KG,,PMOL/KG,,PMOL/KG,,UMOL/KG,,UMOL/KG,,DEG C
     316N142_3,  AR15,   124,  1,     39,     39,2,19940512,2103,-17.8552, -25.3532, 5007,      5.8,  26.2525,  37.2352,2,  37.2357,2,    203.1,2,    203.8,2,     1.94,2,     0.06,2,     0.00,2,     0.18,2,    1.778,2,    1.002,2,    1.975,2,   2080.7,2,   2444.3,2, 26.2512
     316N142_3,  AR15,   124,  1,     35,     35,2,19940512,2103,-17.8552, -25.3532, 5007,     96.3,  23.5759,  36.6816,2,  36.6817,2,    227.5,2,    225.3,2,     1.93,2,     0.06,2,     0.00,2,     0.19,2,    2.049,2,    1.161,2,    2.016,2,   2069.9,2,   2407.0,2, 23.5557
     316N142_3,  AR15,   124,  1,     38,     38,2,19940512,2103,-17.8552, -25.3532, 5007,    197.3,  16.5686,  35.6892,2,  35.7034,2,    197.1,2,    195.7,2,     3.40,2,     3.36,2,     0.01,2,     0.55,2,    2.371,2,    1.268,2,    0.890,2,   2098.9,2,   2342.4,2, 16.5365
     316N142_3,  AR15,   124,  1,     33,     33,2,19940512,2103,-17.8552, -25.3532, 5007,    291.5,  13.3529,  35.2114,2,  35.2138,2,    187.9,2,    181.1,2,     5.78,2,    11.15,2,     0.00,2,     0.94,2, -999.000,9, -999.000,9, -999.000,9,   2122.0,2,   2312.4,2, 13.3119
     316N142_3,  AR15,   124,  1,     41,     41,2,19940512,2103,-17.8552, -25.3532, 5007,    392.2,  10.0928,  34.8377,2,  34.8418,2,    164.8,2,    162.5,2,    10.86,2,    20.92,2,     0.00,2,     1.48,2, -999.000,9, -999.000,9, -999.000,9,   2158.9,2,   2298.4,2, 10.0466
     316N142_3,  AR15,   124,  1,     31,     31,2,19940512,2103,-17.8552, -25.3532, 5007,    493.0,   7.4621,  34.5987,2,  34.6000,2,    153.6,2,    153.4,2,    18.04,2,    28.61,2,     0.00,2,     1.92,2, -999.000,9, -999.000,9, -999.000,9,   2188.0,2,   2291.9,2,  7.4135
     316N142_3,  AR15,   124,  1,     37,     37,2,19940512,2103,-17.8552, -25.3532, 5007,    593.0,   5.9642,  34.4954,2,  34.4951,2,    153.6,2,    154.3,2,    24.04,2,    32.16,2,     0.00,2,     2.13,2,    0.296,6,    0.151,6,    0.853,6,   2200.3,2,   2295.7,2,  5.9122
     316N142_3,  AR15,   124,  1,     29,     29,2,19940512,2103,-17.8552, -25.3532, 5007,    668.4,   5.0162,  34.4328,2,  34.4324,2,    165.2,2,    170.1,2,    28.39,2,    32.65,2,     0.00,2,     2.18,2, -999.000,9, -999.000,9, -999.000,9,   2201.4,2,   2296.2,2,  4.9621
     316N142_3,  AR15,   124,  1,     28,     28,2,19940512,2103,-17.8552, -25.3532, 5007,    739.4,   4.4422,  34.4166,2,  34.4157,2,    177.1,2,    177.1,2,    32.00,2,    32.87,2,     0.00,2,     2.21,2,    0.163,2,    0.087,2,    0.703,2,   -999.0,9,   -999.0,9,  4.3852
     316N142_3,  AR15,   124,  1,     27,     27,2,19940512,2103,-17.8552, -25.3532, 5007,    857.1,   3.9621,  34.4384,2,  34.4367,2,    180.6,2,    179.9,2,    36.67,2,    33.10,2,     0.00,2,     2.25,2, -999.000,9, -999.000,9, -999.000,9,   -999.0,9,   -999.0,9,  3.8985
     316N142_3,  AR15,   124,  1,     26,     26,2,19940512,2103,-17.8552, -25.3532, 5007,    959.3,   3.7401,  34.4935,2,  34.4936,2,    179.5,2,    180.5,2,    39.24,2,    32.88,2,     0.00,2,     2.23,2,    0.100,2,    0.030,6,    0.411,6,   -999.0,9,   -999.0,9,  3.6698
     316N142_3,  AR15,   124,  1,     25,     25,2,19940512,2103,-17.8552, -25.3532, 5007,   1071.8,   3.7053,  34.5862,2,  34.5858,2,    180.1,2,    182.9,2,    38.78,2,    31.75,2,     0.00,2,     2.14,2, -999.000,9, -999.000,9, -999.000,9,   -999.0,9,   -999.0,9,  3.6260
     316N142_3,  AR15,   124,  1,     24,     24,2,19940512,2103,-17.8552, -25.3532, 5007,   1187.3,   3.8100,  34.6963,2,  34.6931,2,    185.1,2,    188.1,2,    34.99,2,    29.66,2,     0.00,2,     2.00,2, -999.000,9,    0.016,2,    0.120,2,   -999.0,9,   -999.0,9,  3.7198
     316N142_3,  AR15,   124,  1,     23,     23,2,19940512,2103,-17.8552, -25.3532, 5007,   1313.8,   3.8973,  34.7913,2,  34.7910,2,    195.3,2,    198.9,2,    30.45,2,    27.12,2,     0.00,2,     1.83,2, -999.000,9, -999.000,9, -999.000,9,   -999.0,9,   -999.0,9,  3.7953
     316N142_3,  AR15,   124,  1,     22,     22,2,19940512,2103,-17.8552, -25.3532, 5007,   1465.4,   3.7809,  34.8610,2,  34.8623,2,    212.0,2,    215.8,2,    28.32,2,    24.44,2,     0.00,2,     1.65,2, -999.000,9,    0.024,2, -999.000,9,   -999.0,9,   -999.0,9,  3.6665
     316N142_3,  AR15,   124,  1,     21,     21,2,19940512,2103,-17.8552, -25.3532, 5007,   1592.3,   3.5648,  34.8839,2,  34.8845,2,    225.7,2,    225.7,2,    28.62,2,    23.30,2,     0.00,2,     1.58,2, -999.000,9, -999.000,9, -999.000,9,   -999.0,9,   -999.0,9,  3.4416
     316N142_3,  AR15,   124,  1,     20,     20,2,19940512,2103,-17.8552, -25.3532, 5007,   1718.7,   3.4078,  34.9025,2,  34.9016,2,    234.2,2,    233.4,2,    28.91,2,    22.29,2,     0.00,2,     1.52,2, -999.000,9,    0.010,2,    0.048,2,   -999.0,9,   -999.0,9,  3.2751
     316N142_3,  AR15,   124,  1,     19,     19,2,19940512,2103,-17.8552, -25.3532, 5007,   1845.2,   3.3349,  34.9207,2,  34.9203,2,    240.3,2,    240.3,2,    28.00,2,    21.21,2,     0.00,2,     1.46,2, -999.000,9,    0.008,2,    0.187,2,   -999.0,9,   -999.0,9,  3.1917
     316N142_3,  AR15,   124,  1,     40,     40,2,19940512,2103,-17.8552, -25.3532, 5007,   1972.6,   3.1399,  34.9126,2,  34.9137,2,    241.6,2,    240.8,2,    31.16,2,    21.37,2,     0.00,2,     1.47,2, -999.000,9, -999.000,9, -999.000,9,   -999.0,9,   -999.0,9,  2.9879
     316N142_3,  AR15,   124,  1,     17,     17,2,19940512,2103,-17.8552, -25.3532, 5007,   2125.1,   3.0116,  34.9102,2,  34.9107,2,    242.9,2,    241.9,2,    33.12,2,    21.32,2,     0.00,2,     1.47,2, -999.000,9,    0.004,2,    0.044,2,   -999.0,9,   -999.0,9,  2.8474
     316N142_3,  AR15,   124,  1,     16,     16,2,19940512,2103,-17.8552, -25.3532, 5007,   2327.4,   2.8953,  34.9067,2,  34.9070,2,    244.1,2,    242.4,2,    35.39,2,    21.41,2,     0.00,2,     1.48,2, -999.000,9, -999.000,9, -999.000,9,   -999.0,9,   -999.0,9,  2.7140
     316N142_3,  AR15,   124,  1,     15,     15,2,19940512,2103,-17.8552, -25.3532, 5007,   2530.1,   2.8096,  34.9047,2,  34.9049,2,    244.0,2,    243.1,2,    37.05,2,    21.43,2,     0.00,2,     1.48,2, -999.000,9,    0.035,2,    0.014,2,   -999.0,9,   -999.0,9,  2.6104
     316N142_3,  AR15,   124,  1,     14,     14,2,19940512,2103,-17.8552, -25.3532, 5007,   2734.2,   2.7655,  34.9038,2,  34.9053,2,    243.2,2,    243.9,2,    37.80,2,    21.39,2,     0.00,2,     1.47,2, -999.000,9, -999.000,9, -999.000,9,   -999.0,9,   -999.0,9,  2.5470
     316N142_3,  AR15,   124,  1,     13,     13,2,19940512,2103,-17.8552, -25.3532, 5007,   2935.8,   2.7142,  34.9034,2,  34.9037,2,    245.0,2,    244.8,2,    38.40,2,    21.22,2,     0.00,2,     1.47,2, -999.000,9, -999.000,9, -999.000,9,   -999.0,9,   -999.0,9,  2.4764
     316N142_3,  AR15,   124,  1,     12,     12,2,19940512,2103,-17.8552, -25.3532, 5007,   3140.9,   2.6420,  34.8988,2,  34.9000,2,    245.7,2,    245.1,2,    39.92,2,    21.37,2,     0.00,2,     1.47,2, -999.000,9, -999.000,9, -999.000,9,   -999.0,9,   -999.0,9,  2.3846
     316N142_3,  AR15,   124,  1,     11,     11,2,19940512,2103,-17.8552, -25.3532, 5007,   3293.3,   2.6057,  34.8991,2,  34.9008,2,    247.3,2,    246.6,2,    39.76,2,    21.20,2,     0.00,2,     1.47,2, -999.000,9,    0.019,2,    0.024,2,   -999.0,9,   -999.0,9,  2.3330
     316N142_3,  AR15,   124,  1,     10,     10,2,19940512,2103,-17.8552, -25.3532, 5007,   3447.1,   2.5177,  34.8948,2,  34.8953,2,    248.4,2,    248.3,2,    41.13,2,    21.22,2,     0.00,2,     1.46,2, -999.000,9, -999.000,9, -999.000,9,   -999.0,9,   -999.0,9,  2.2306
     316N142_3,  AR15,   124,  1,      9,      9,2,19940512,2103,-17.8552, -25.3532, 5007,   3600.5,   2.4049,  34.8864,2,  34.8863,2,    248.3,2,    248.7,2,    43.56,2,    21.57,2,     0.00,2,     1.49,2, -999.000,9,    0.001,2,    0.325,2,   -999.0,9,   -999.0,9,  2.1041
     316N142_3,  AR15,   124,  1,      8,      8,2,19940512,2103,-17.8552, -25.3532, 5007,   3753.7,   2.1783,  34.8647,2,  34.8655,2,    246.4,2,    246.5,2,    51.50,2,    22.84,2,     0.00,2,     1.56,2, -999.000,9, -999.000,9, -999.000,9,   -999.0,9,   -999.0,9,  1.8667
     316N142_3,  AR15,   124,  1,      7,      7,2,19940512,2103,-17.8552, -25.3532, 5007,   4008.7,   1.7824,  34.8247,2,  34.8255,2,    241.1,2,    240.8,2,    67.04,2,    25.48,2,     0.00,2,     1.70,2, -999.000,9,    0.008,2,    0.032,2,   -999.0,9,   -999.0,9,  1.4537
     316N142_3,  AR15,   124,  1,      6,      6,2,19940512,2103,-17.8552, -25.3532, 5007,   4161.0,   1.5345,  34.7995,2,  34.8004,2,    237.2,2,    237.1,2,    77.30,2,    27.02,2,     0.00,2,     1.80,2, -999.000,9, -999.000,9, -999.000,9,   -999.0,9,   -999.0,9,  1.1961
     316N142_3,  AR15,   124,  1,      5,      5,2,19940512,2103,-17.8552, -25.3532, 5007,   4365.9,   1.2329,  34.7678,2,  34.7715,2,    232.7,2,    232.8,2,    90.16,2,    28.88,2,     0.00,2,     1.91,2, -999.000,9,    0.003,2,    0.117,2,   -999.0,9,   -999.0,9,  0.8809
     316N142_3,  AR15,   124,  1,      4,      4,2,19940512,2103,-17.8552, -25.3532, 5007,   4571.8,   1.0354,  34.7464,2,  34.7472,2,    228.9,2,    229.3,2,    97.29,2,    29.90,2,     0.00,2,     2.00,2, -999.000,9, -999.000,9, -999.000,9,   -999.0,9,   -999.0,9,  0.6663
     316N142_3,  AR15,   124,  1,      3,      3,2,19940512,2103,-17.8552, -25.3532, 5007,   4775.8,   0.8802,  34.7287,2,  34.7299,2,    226.9,2,    227.0,2,   104.00,2,    30.79,2,     0.00,2,     2.07,2, -999.000,9,    0.013,2,    0.213,2,   -999.0,9,   -999.0,9,  0.4929
     316N142_3,  AR15,   124,  1,      2,      2,2,19940512,2103,-17.8552, -25.3532, 5007,   4981.8,   0.7868,  34.7174,2,  34.7180,2,    226.0,2,    225.5,2,   107.86,2,    31.35,2,     0.00,2,     2.10,2, -999.000,9, -999.000,9, -999.000,9,   -999.0,9,   -999.0,9,  0.3787
     316N142_3,  AR15,   124,  1,      1,      1,2,19940512,2103,-17.8552, -25.3532, 5007,   5145.2,   0.7585,  34.7126,2,  34.7137,2,    225.0,2,    224.3,2,   109.16,2,    31.58,2,     0.00,2,     2.12,2, -999.000,9,    0.011,2,    0.280,2,   -999.0,9,   -999.0,9,  0.3321