BOTTLE,20020814WHPSIOKJU
EXPOCODE,SECT_ID,STNNBR,CASTNO,SAMPNO,BTLNBR,BTLNBR_FLAG_W,DATE,TIME,LATITUDE,LONGITUDE,DEPTH,CTDPRS,CTDTMP,CTDSAL,CTDSAL_FLAG_W,SALNTY,SALNTY_FLAG_W,CTDOXY,CTDOXY_FLAG_W,OXYGEN,OXYGEN_FLAG_W,SILCAT,SILCAT_FLAG_W,NITRAT,NITRAT_FLAG_W,NITRIT,NITRIT_FLAG_W,PHSPHT,PHSPHT_FLAG_W,CFC-11,CFC-11_FLAG_W,CFC-12,CFC-12_FLAG_W,CCL4,CCL4_FLAG_W,TCARBN,TCARBN_FLAG_W,ALKALI,ALKALI_FLAG_W,THETA
,,,,,,,,,,,,DBAR,ITS-90,PSS-78,,PSS-78,,UMOL/KG,,UMOL/KG,,UMOL/KG,,UMOL/KG,,UMOL/KG,,UMOL/KG,,PMOL/KG,,PMOL/KG,,PMOL/KG,,UMOL/KG,,UMOL/KG,,DEG C
     316N142_3,  AR15,   146,  1,     39,     39,2,19940518,1328,-18.6285, -36.2115, 3864,     10.6,  27.1722,  37.4004,2,  37.4009,2,    198.6,2,    200.4,2,     1.83,2,     0.00,2,     0.01,2,     0.13,2,    1.660,2,    0.981,2,    2.097,2,   -999.0,9,   -999.0,9, 27.1698
     316N142_3,  AR15,   146,  1,     35,     35,2,19940518,1328,-18.6285, -36.2115, 3864,     82.9,  25.8440,  37.1961,2,  37.2109,2,    203.6,2,    214.0,2,     1.82,2,     0.00,2,     0.01,2,     0.13,2,    1.905,2,    1.061,2,    1.938,2,   -999.0,9,   -999.0,9, 25.8255
     316N142_3,  AR15,   146,  1,     38,     38,2,19940518,1328,-18.6285, -36.2115, 3864,    128.6,  22.5478,  36.7480,2,  36.7575,2,    211.2,2,    209.6,2,     1.81,2,     0.00,2,     0.01,2,     0.18,2, -999.000,9, -999.000,9, -999.000,9,   -999.0,9,   -999.0,9, 22.5217
     316N142_3,  AR15,   146,  1,     33,     33,2,19940518,1328,-18.6285, -36.2115, 3864,    224.6,  16.2523,  35.6475,2,  35.6486,2,    201.4,2,    198.6,2,     3.23,2,     5.19,2,     0.01,2,     0.50,2,    2.294,2,    1.247,6,    0.620,6,   -999.0,9,   -999.0,9, 16.2161
     316N142_3,  AR15,   146,  1,     41,     41,2,19940518,1328,-18.6285, -36.2115, 3864,    314.7,  13.5652,  35.2492,2,  35.2609,2,    198.0,2,    197.7,2,     4.65,2,     9.80,2,     0.00,2,     0.79,2, -999.000,9, -999.000,9, -999.000,9,   -999.0,9,   -999.0,9, 13.5204
     316N142_3,  AR15,   146,  1,     31,     31,2,19940518,1328,-18.6285, -36.2115, 3864,    405.0,  10.9680,  34.9349,2,  34.9361,2,    190.9,2,    191.5,2,     7.66,2,    16.12,2,     0.00,2,     1.17,2,    1.784,2,    0.911,2,    0.858,2,   -999.0,9,   -999.0,9, 10.9177
     316N142_3,  AR15,   146,  1,     37,     37,2,19940518,1328,-18.6285, -36.2115, 3864,    495.9,   8.9027,  34.7024,2,  34.7034,2,    185.6,2,    183.3,2,    12.10,2,    21.85,2,     0.00,2,     1.54,2, -999.000,9, -999.000,9, -999.000,9,   -999.0,9,   -999.0,9,  8.8485
     316N142_3,  AR15,   146,  1,     29,     29,2,19940518,1328,-18.6285, -36.2115, 3864,    575.8,   6.8707,  34.5106,2,  34.5095,2,    191.2,2,    189.9,2,    17.02,2,    25.98,2,     0.00,2,     1.82,2,    1.130,2,    0.533,2,    1.276,2,   -999.0,9,   -999.0,9,  6.8163
     316N142_3,  AR15,   146,  1,     28,     28,2,19940518,1328,-18.6285, -36.2115, 3864,    655.8,   5.3518,  34.3853,2,  34.3850,2,    200.3,2,    204.9,2,    21.95,2,    28.07,2,     0.00,2,     1.97,2, -999.000,9, -999.000,9, -999.000,9,   -999.0,9,   -999.0,9,  5.2972
     316N142_3,  AR15,   146,  1,     27,     27,2,19940518,1328,-18.6285, -36.2115, 3864,    746.7,   4.6165,  34.3653,2,  34.3650,2,    203.8,2,    200.6,2,    27.83,2,    29.78,2,     0.00,2,     2.11,2,    0.669,2,    0.324,2,    1.410,2,   -999.0,9,   -999.0,9,  4.5580
     316N142_3,  AR15,   146,  1,     26,     26,2,19940518,1328,-18.6285, -36.2115, 3864,    837.3,   4.1566,  34.3690,2,  34.3677,2,    197.8,2,    198.8,2,    32.28,2,    30.48,2,     0.00,2,     2.18,2, -999.000,9, -999.000,9, -999.000,9,   -999.0,9,   -999.0,9,  4.0934
     316N142_3,  AR15,   146,  1,     25,     25,2,19940518,1328,-18.6285, -36.2115, 3864,    926.3,   3.9479,  34.3796,2,  34.3777,2,    194.0,2,    197.7,2,    34.82,2,    30.74,2,     0.00,2,     2.19,2,    0.444,2,    0.221,2,    1.128,2,   -999.0,9,   -999.0,9,  3.8789
     316N142_3,  AR15,   146,  1,     24,     24,2,19940518,1328,-18.6285, -36.2115, 3864,   1025.7,   3.6527,  34.4387,2,  34.4387,2,    188.9,2,    190.3,2,    40.24,2,    31.33,2,     0.00,2,     2.23,2, -999.000,9, -999.000,9, -999.000,9,   -999.0,9,   -999.0,9,  3.5777
     316N142_3,  AR15,   146,  1,     23,     23,2,19940518,1328,-18.6285, -36.2115, 3864,   1118.9,   3.6100,  34.5048,2,  34.5049,2,    185.8,2,    185.5,2,    41.18,2,    31.11,2,     0.00,2,     2.22,2,    0.117,2,    0.057,2,    0.588,2,   -999.0,9,   -999.0,9,  3.5277
     316N142_3,  AR15,   146,  1,     22,     22,2,19940518,1328,-18.6285, -36.2115, 3864,   1246.6,   3.8338,  34.6100,2,  34.6079,2,    183.2,2,    183.0,2,    37.16,2,    30.14,2,     0.00,2,     2.13,2, -999.000,9, -999.000,9, -999.000,9,   -999.0,9,   -999.0,9,  3.7385
     316N142_3,  AR15,   146,  1,     21,     21,2,19940518,1328,-18.6285, -36.2115, 3864,   1368.9,   4.1175,  34.7543,2,  34.7540,2,    189.7,2,    188.6,2,    30.29,2,    27.68,2,     0.00,2,     1.95,2, -999.000,9,    0.016,2,    0.062,2,   -999.0,9,   -999.0,9,  4.0084
     316N142_3,  AR15,   146,  1,     20,     20,2,19940518,1328,-18.6285, -36.2115, 3864,   1487.6,   4.2354,  34.8528,2,  34.8526,2,    203.4,2,    202.0,2,    25.49,2,    25.16,2,     0.00,2,     1.77,2, -999.000,9, -999.000,9, -999.000,9,   -999.0,9,   -999.0,9,  4.1139
     316N142_3,  AR15,   146,  1,     19,     19,2,19940518,1328,-18.6285, -36.2115, 3864,   1616.4,   4.1914,  34.9148,2,  34.9152,2,    219.3,2,    218.7,2,    22.14,2,    22.76,2,     0.00,2,     1.60,2, -999.000,9,    0.035,2,    0.163,2,   -999.0,9,   -999.0,9,  4.0583
     316N142_3,  AR15,   146,  1,     40,     40,2,19940518,1328,-18.6285, -36.2115, 3864,   1750.4,   3.9965,  34.9521,2,  34.9535,2,    234.3,2,    218.6,4,    20.53,2,    20.83,2,     0.00,2,     1.46,2, -999.000,9,    0.039,2,    0.140,2,   -999.0,9,   -999.0,9,  3.8531
     316N142_3,  AR15,   146,  1,     17,     17,2,19940518,1328,-18.6285, -36.2115, 3864,   1885.6,   3.7850,  34.9620,2,  34.9633,2,    243.9,2,    244.9,2,    20.36,2,    19.87,2,     0.00,2,     1.39,2, -999.000,9,    0.037,2,    0.218,2,   -999.0,9,   -999.0,9,  3.6316
     316N142_3,  AR15,   146,  1,     16,     16,2,19940518,1328,-18.6285, -36.2115, 3864,   2010.1,   3.5628,  34.9595,2,  34.9602,2,    249.8,2,    249.2,2,    21.78,2,    19.55,2,     0.00,2,     1.36,2, -999.000,9,    0.034,2,    0.271,2,   -999.0,9,   -999.0,9,  3.4008
     316N142_3,  AR15,   146,  1,     15,     15,2,19940518,1328,-18.6285, -36.2115, 3864,   2134.5,   3.4123,  34.9551,2,  34.9567,2,    252.1,2,    251.1,2,    23.04,2,    19.44,2,     0.00,2,     1.36,2, -999.000,9, -999.000,9, -999.000,9,   -999.0,9,   -999.0,9,  3.2408
     316N142_3,  AR15,   146,  1,     14,     14,2,19940518,1328,-18.6285, -36.2115, 3864,   2258.2,   3.2630,  34.9496,2,  34.9506,2,    252.4,2,    252.2,2,    24.61,2,    19.45,2,     0.00,2,     1.35,2, -999.000,9, -999.000,9, -999.000,9,   -999.0,9,   -999.0,9,  3.0820
     316N142_3,  AR15,   146,  1,     13,     13,2,19940518,1328,-18.6285, -36.2115, 3864,   2383.2,   3.1108,  34.9428,2,  34.9431,2,    253.5,2,    252.2,2,    26.51,2,    19.50,2,     0.00,2,     1.37,2, -999.000,9,    0.021,2,    0.134,2,   -999.0,9,   -999.0,9,  2.9202
     316N142_3,  AR15,   146,  1,     12,     12,2,19940518,1328,-18.6285, -36.2115, 3864,   2508.4,   2.9881,  34.9357,2,  34.9354,2,    253.1,2,    252.1,2,    28.56,2,    19.66,2,     0.00,2,     1.37,2, -999.000,9, -999.000,9, -999.000,9,   -999.0,9,   -999.0,9,  2.7876
     316N142_3,  AR15,   146,  1,     11,     11,2,19940518,1328,-18.6285, -36.2115, 3864,   2638.3,   2.8588,  34.9287,2,  34.9297,2,    252.1,2,    251.7,2,    30.30,2,    19.77,2,     0.00,2,     1.38,2, -999.000,9, -999.000,9, -999.000,9,   -999.0,9,   -999.0,9,  2.6479
     316N142_3,  AR15,   146,  1,     10,     10,2,19940518,1328,-18.6285, -36.2115, 3864,   2765.2,   2.7159,  34.9203,2,  34.9201,2,    252.7,2,    252.6,2,    32.83,2,    20.25,2,     0.00,2,     1.40,2, -999.000,9,    0.008,2,    0.212,2,   -999.0,9,   -999.0,9,  2.4952
     316N142_3,  AR15,   146,  1,      9,      9,2,19940518,1328,-18.6285, -36.2115, 3864,   2876.0,   2.6568,  34.9166,2,  34.9162,2,    253.2,2,    253.6,2,    33.61,2,    20.30,2,     0.00,2,     1.40,2, -999.000,9, -999.000,9, -999.000,9,   -999.0,9,   -999.0,9,  2.4262
     316N142_3,  AR15,   146,  1,      8,      8,2,19940518,1328,-18.6285, -36.2115, 3864,   2987.0,   2.5536,  34.9097,2,  34.9099,2,    253.8,2,    254.0,2,    35.35,2,    20.41,2,     0.00,2,     1.41,2, -999.000,9,    0.026,2,    0.137,2,   -999.0,9,   -999.0,9,  2.3139
     316N142_3,  AR15,   146,  1,      7,      7,2,19940518,1328,-18.6285, -36.2115, 3864,   3096.6,   2.4904,  34.9046,2,  34.9050,2,    253.9,2,    254.3,2,    36.77,2,    20.57,2,     0.00,2,     1.42,2, -999.000,9,    0.015,6,    0.110,6,   -999.0,9,   -999.0,9,  2.2409
     316N142_3,  AR15,   146,  1,      6,      6,2,19940518,1328,-18.6285, -36.2115, 3864,   3236.4,   2.3483,  34.8923,2,  34.8920,2,    252.8,2,    253.4,2,    41.37,2,    21.16,2,     0.00,2,     1.45,2, -999.000,9,    0.020,2,    0.157,2,   -999.0,9,   -999.0,9,  2.0876
     316N142_3,  AR15,   146,  1,      5,      5,2,19940518,1328,-18.6285, -36.2115, 3864,   3375.5,   2.2347,  34.8795,2,  34.8794,2,    251.1,2,    251.1,2,    46.31,2,    21.86,2,     0.00,2,     1.51,2, -999.000,9, -999.000,9, -999.000,9,   -999.0,9,   -999.0,9,  1.9623
     316N142_3,  AR15,   146,  1,      4,      4,2,19940518,1328,-18.6285, -36.2115, 3864,   3513.9,   2.0336,  34.8583,2,  34.8580,2,    248.1,2,    247.6,2,    54.62,2,    22.93,2,     0.00,2,     1.59,2, -999.000,9, -999.000,9, -999.000,9,   -999.0,9,   -999.0,9,  1.7516
     316N142_3,  AR15,   146,  1,      3,      3,2,19940518,1328,-18.6285, -36.2115, 3864,   3653.1,   1.8367,  34.8359,2,  34.8358,2,    243.9,2,    243.7,2,    62.97,2,    24.21,2,     0.00,2,     1.68,2, -999.000,9,    0.013,2,    0.056,2,   -999.0,9,   -999.0,9,  1.5451
     316N142_3,  AR15,   146,  1,      2,      2,2,19940518,1328,-18.6285, -36.2115, 3864,   3793.1,   1.3839,  34.7878,2,  34.7902,2,    237.4,2,    235.3,2,    81.75,2,    26.72,2,     0.00,2,     1.86,2, -999.000,9, -999.000,9, -999.000,9,   -999.0,9,   -999.0,9,  1.0898
     316N142_3,  AR15,   146,  1,      1,      1,2,19940518,1328,-18.6285, -36.2115, 3864,   3926.2,   1.1289,  34.7600,2,  34.7602,2,    230.1,2,    230.2,2,    92.71,2,    28.33,2,     0.00,2,     1.97,2, -999.000,9,    0.013,2,    0.050,2,   -999.0,9,   -999.0,9,  0.8278