BOTTLE,20020814WHPSIOKJU
EXPOCODE,SECT_ID,STNNBR,CASTNO,SAMPNO,BTLNBR,BTLNBR_FLAG_W,DATE,TIME,LATITUDE,LONGITUDE,DEPTH,CTDPRS,CTDTMP,CTDSAL,CTDSAL_FLAG_W,SALNTY,SALNTY_FLAG_W,CTDOXY,CTDOXY_FLAG_W,OXYGEN,OXYGEN_FLAG_W,SILCAT,SILCAT_FLAG_W,NITRAT,NITRAT_FLAG_W,NITRIT,NITRIT_FLAG_W,PHSPHT,PHSPHT_FLAG_W,CFC-11,CFC-11_FLAG_W,CFC-12,CFC-12_FLAG_W,CCL4,CCL4_FLAG_W,TCARBN,TCARBN_FLAG_W,ALKALI,ALKALI_FLAG_W,THETA
,,,,,,,,,,,,DBAR,ITS-90,PSS-78,,PSS-78,,UMOL/KG,,UMOL/KG,,UMOL/KG,,UMOL/KG,,UMOL/KG,,UMOL/KG,,PMOL/KG,,PMOL/KG,,PMOL/KG,,UMOL/KG,,UMOL/KG,,DEG C
     316N142_3,   A15,    87,  1,     39,     39,2,19940430,0358,-21.0003, -19.0010, 5064,      5.3,  25.8656,  36.8967,2,  36.8974,2,    205.0,2,    206.2,2,     1.78,2,     0.04,2,     0.00,2,     0.19,2, -999.000,9, -999.000,9, -999.000,9,   2072.6,2,   2416.7,2, 25.8644
     316N142_3,   A15,    87,  1,     35,     35,2,19940430,0358,-21.0003, -19.0010, 5064,     75.3,  23.9188,  36.6109,2,  36.6011,2,    233.7,2,    227.0,2,     1.62,2,     0.10,2,     0.00,2,     0.18,2, -999.000,9, -999.000,9, -999.000,9,   2064.6,2,   2403.4,2, 23.9029
     316N142_3,   A15,    87,  1,     38,     38,2,19940430,0358,-21.0003, -19.0010, 5064,    115.4,  20.7025,  36.2942,2,  36.3026,2,    235.0,2,    224.0,2,     1.75,2,     0.05,2,     0.00,2,     0.19,2, -999.000,9, -999.000,9, -999.000,9,   2070.5,2,   2382.5,2, 20.6805
     316N142_3,   A15,    87,  1,     33,     33,2,19940430,0358,-21.0003, -19.0010, 5064,    215.3,  16.1105,  35.5945,2,  35.5920,2,    214.6,2,    209.8,2,     3.47,2,     3.24,2,     0.00,2,     0.51,2, -999.000,9, -999.000,9, -999.000,9,   2088.0,2,   2342.0,2, 16.0761
     316N142_3,   A15,    87,  1,     41,     41,2,19940430,0358,-21.0003, -19.0010, 5064,    316.1,  12.7105,  35.1292,2,  35.1277,2,    181.3,2,    173.5,2,     6.66,2,    14.20,2,     0.00,2,     1.08,2, -999.000,9, -999.000,9, -999.000,9,   2126.1,2,   -999.0,9, 12.6674
     316N142_3,   A15,    87,  1,     31,     31,2,19940430,0358,-21.0003, -19.0010, 5064,    426.8,   9.8762,  34.8027,2,  34.8000,2,    175.6,2,    174.7,2,    10.87,2,    20.64,2,     0.00,2,     1.47,2, -999.000,9, -999.000,9, -999.000,9,   2148.9,2,   2301.5,2,  9.8266
     316N142_3,   A15,    87,  1,     37,     37,2,19940430,0358,-21.0003, -19.0010, 5064,    537.1,   7.4922,  34.5844,2,  34.5837,2,    163.8,2,    162.4,2,    17.57,2,    28.03,2,     0.00,2,     1.88,2, -999.000,9, -999.000,9, -999.000,9,   2180.3,2,   2295.9,2,  7.4391
     316N142_3,   A15,    87,  1,     29,     29,2,19940430,0358,-21.0003, -19.0010, 5064,    658.1,   5.7008,  34.4593,2,  34.4571,2,    163.7,2,    166.4,2,    25.00,2,    32.08,2,     0.00,2,     2.12,2, -999.000,9, -999.000,9, -999.000,9,   2193.6,2,   2296.7,2,  5.6442
     316N142_3,   A15,    87,  1,     28,     28,2,19940430,0358,-21.0003, -19.0010, 5064,    778.6,   4.4335,  34.4176,2,  34.4169,2,    170.5,2,    175.5,2,    33.47,2,    33.59,2,     0.00,2,     2.23,2, -999.000,9, -999.000,9, -999.000,9,   -999.0,9,   -999.0,9,  4.3733
     316N142_3,   A15,    87,  1,     27,     27,2,19940430,0358,-21.0003, -19.0010, 5064,    888.9,   3.9069,  34.4487,2,  34.4467,2,    177.1,2,    179.5,2,    39.03,2,    33.62,2,     0.00,2,     2.25,2, -999.000,9, -999.000,9, -999.000,9,   -999.0,9,   -999.0,9,  3.8411
     316N142_3,   A15,    87,  1,     26,     26,2,19940430,0358,-21.0003, -19.0010, 5064,   1010.0,   3.5984,  34.5325,2,  34.5306,2,    180.5,2,    183.9,2,    42.55,2,    32.56,2,     0.00,2,     2.18,2, -999.000,9, -999.000,9, -999.000,9,   -999.0,9,   -999.0,9,  3.5250
     316N142_3,   A15,    87,  1,     25,     25,2,19940430,0358,-21.0003, -19.0010, 5064,   1161.6,   3.6129,  34.6210,2,  34.6198,2,    185.4,2,    187.2,2,    41.21,2,    31.04,2,     0.00,2,     2.08,2, -999.000,9, -999.000,9, -999.000,9,   -999.0,9,   -999.0,9,  3.5268
     316N142_3,   A15,    87,  1,     24,     24,2,19940430,0358,-21.0003, -19.0010, 5064,   1313.0,   3.7463,  34.7580,2,  34.7550,2,    197.6,2,    197.7,2,    35.47,2,    27.99,2,     0.00,2,     1.88,2, -999.000,9, -999.000,9, -999.000,9,   -999.0,9,   -999.0,9,  3.6459
     316N142_3,   A15,    87,  1,     23,     23,2,19940430,0358,-21.0003, -19.0010, 5064,   1465.0,   3.6966,  34.8318,2,  34.8303,2,    213.4,2,    211.2,2,    32.23,2,    25.64,2,     0.00,2,     1.72,2, -999.000,9, -999.000,9, -999.000,9,   -999.0,9,   -999.0,9,  3.5833
     316N142_3,   A15,    87,  1,     22,     22,2,19940430,0358,-21.0003, -19.0010, 5064,   1616.9,   3.5640,  34.8761,2,  34.8739,2,    225.7,2,    224.1,2,    30.75,2,    23.84,2,     0.00,2,     1.61,2, -999.000,9, -999.000,9, -999.000,9,   -999.0,9,   -999.0,9,  3.4386
     316N142_3,   A15,    87,  1,     21,     21,2,19940430,0358,-21.0003, -19.0010, 5064,   1769.1,   3.4639,  34.9111,2,  34.9097,2,    235.9,2,    236.0,2,    28.69,2,    22.20,2,     0.00,2,     1.50,2, -999.000,9, -999.000,9, -999.000,9,   -999.0,9,   -999.0,9,  3.3259
     316N142_3,   A15,    87,  1,     20,     20,2,19940430,0358,-21.0003, -19.0010, 5064,   1920.2,   3.3592,  34.9312,2,  34.9291,2,    244.8,2,    243.9,2,    27.65,2,    21.10,2,     0.00,2,     1.43,2, -999.000,9, -999.000,9, -999.000,9,   -999.0,9,   -999.0,9,  3.2088
     316N142_3,   A15,    87,  1,     19,     19,2,19940430,0358,-21.0003, -19.0010, 5064,   2072.6,   3.2401,  34.9354,2,  34.9336,2,    248.8,2,    247.9,2,    28.37,2,    20.60,2,     0.00,2,     1.41,2, -999.000,9, -999.000,9, -999.000,9,   -999.0,9,   -999.0,9,  3.0772
     316N142_3,   A15,    87,  1,     40,     40,2,19940430,0358,-21.0003, -19.0010, 5064,   2224.4,   3.1128,  34.9335,2,  34.9326,2,    250.0,2,    249.3,2,    29.82,2,    20.45,2,     0.00,2,     1.40,2, -999.000,9, -999.000,9, -999.000,9,   -999.0,9,   -999.0,9,  2.9375
     316N142_3,   A15,    87,  1,     17,     17,2,19940430,0358,-21.0003, -19.0010, 5064,   2376.3,   3.0227,  34.9310,2,  34.9304,2,    250.9,2,    250.1,2,    30.68,2,    20.40,2,     0.00,2,     1.40,2, -999.000,9, -999.000,9, -999.000,9,   -999.0,9,   -999.0,9,  2.8345
     316N142_3,   A15,    87,  1,     16,     16,2,19940430,0358,-21.0003, -19.0010, 5064,   2529.0,   2.9371,  34.9281,2,  34.9267,2,    251.5,2,    250.8,2,    31.55,2,    20.40,2,     0.00,2,     1.40,2, -999.000,9, -999.000,9, -999.000,9,   -999.0,9,   -999.0,9,  2.7355
     316N142_3,   A15,    87,  1,     15,     15,2,19940430,0358,-21.0003, -19.0010, 5064,   2707.6,   2.8494,  34.9242,2,  34.9233,2,    251.5,2,    250.8,2,    32.85,2,    20.44,2,     0.00,2,     1.40,2, -999.000,9, -999.000,9, -999.000,9,   -999.0,9,   -999.0,9,  2.6318
     316N142_3,   A15,    87,  1,     14,     14,2,19940430,0358,-21.0003, -19.0010, 5064,   2884.8,   2.7959,  34.9210,2,  34.9200,2,    251.4,2,    251.1,2,    33.86,2,    20.49,2,     0.00,2,     1.40,2, -999.000,9, -999.000,9, -999.000,9,   -999.0,9,   -999.0,9,  2.5615
     316N142_3,   A15,    87,  1,     13,     13,2,19940430,0358,-21.0003, -19.0010, 5064,   3063.6,   2.7228,  34.9173,2,  34.9165,2,    251.5,2,    251.9,2,    34.88,2,    20.54,2,     0.00,2,     1.40,2, -999.000,9, -999.000,9, -999.000,9,   -999.0,9,   -999.0,9,  2.4715
     316N142_3,   A15,    87,  1,     12,     12,2,19940430,0358,-21.0003, -19.0010, 5064,   3221.6,   2.6606,  34.9127,2,  34.9125,2,    252.5,2,    252.2,2,    36.04,2,    20.58,2,     0.00,2,     1.42,2, -999.000,9, -999.000,9, -999.000,9,   -999.0,9,   -999.0,9,  2.3942
     316N142_3,   A15,    87,  1,     11,     11,2,19940430,0358,-21.0003, -19.0010, 5064,   3384.7,   2.5838,  34.9065,2,  34.9054,2,    252.0,2,    252.6,2,    37.93,2,    20.73,2,     0.00,2,     1.43,2, -999.000,9, -999.000,9, -999.000,9,   -999.0,9,   -999.0,9,  2.3019
     316N142_3,   A15,    87,  1,     10,     10,2,19940430,0358,-21.0003, -19.0010, 5064,   3547.3,   2.4331,  34.8932,2,  34.8926,2,    250.8,2,    251.1,2,    42.62,2,    21.37,2,     0.00,2,     1.47,2, -999.000,9, -999.000,9, -999.000,9,   -999.0,9,   -999.0,9,  2.1373
     316N142_3,   A15,    87,  1,      9,      9,2,19940430,0358,-21.0003, -19.0010, 5064,   3750.8,   2.1390,  34.8640,2,  34.8634,2,    246.4,2,    246.7,2,    53.68,2,    23.00,2,     0.00,2,     1.57,2, -999.000,9, -999.000,9, -999.000,9,   -999.0,9,   -999.0,9,  1.8288
     316N142_3,   A15,    87,  1,      8,      8,2,19940430,0358,-21.0003, -19.0010, 5064,   3955.7,   1.7459,  34.8218,2,  34.8209,2,    239.9,2,    239.7,2,    70.05,2,    25.51,2,     0.00,2,     1.73,2, -999.000,9, -999.000,9, -999.000,9,   -999.0,9,   -999.0,9,  1.4241
     316N142_3,   A15,    87,  1,      7,      7,2,19940430,0358,-21.0003, -19.0010, 5064,   4160.5,   1.4755,  34.7940,2,  34.7937,2,    236.1,2,    236.1,2,    81.64,2,    27.14,2,     0.00,2,     1.84,2, -999.000,9, -999.000,9, -999.000,9,   -999.0,9,   -999.0,9,  1.1389
     316N142_3,   A15,    87,  1,      6,      6,2,19940430,0358,-21.0003, -19.0010, 5064,   4365.3,   1.2225,  34.7675,2,  34.7664,2,    232.0,2,    232.2,2,    93.50,2,    28.77,2,     0.00,2,     1.95,2, -999.000,9, -999.000,9, -999.000,9,   -999.0,9,   -999.0,9,  0.8709
     316N142_3,   A15,    87,  1,      5,      5,2,19940430,0358,-21.0003, -19.0010, 5064,   4544.5,   1.1077,  34.7541,2,  34.7532,2,    230.2,2,    230.4,2,   100.40,2,    29.56,2,     0.00,2,     2.00,2, -999.000,9, -999.000,9, -999.000,9,   -999.0,9,   -999.0,9,  0.7394
     316N142_3,   A15,    87,  1,      4,      4,2,19940430,0358,-21.0003, -19.0010, 5064,   4723.3,   1.0432,  34.7456,2,  34.7459,2,    229.1,2,    229.3,2,   104.40,2,    29.90,2,     0.00,2,     2.04,2, -999.000,9, -999.000,9, -999.000,9,   -999.0,9,   -999.0,9,  0.6565
     316N142_3,   A15,    87,  1,      3,      3,2,19940430,0358,-21.0003, -19.0010, 5064,   4877.4,   1.0188,  34.7417,2,  34.7412,2,    229.1,2,    228.8,2,   105.48,2,    30.00,2,     0.00,2,     2.05,2, -999.000,9, -999.000,9, -999.000,9,   -999.0,9,   -999.0,9,  0.6150
     316N142_3,   A15,    87,  1,      2,      2,2,19940430,0358,-21.0003, -19.0010, 5064,   5032.2,   1.0286,  34.7408,2,  34.7410,2,    229.6,2,    228.7,2,   104.38,2,    29.94,2,     0.00,2,     2.05,2, -999.000,9, -999.000,9, -999.000,9,   -999.0,9,   -999.0,9,  0.6061
     316N142_3,   A15,    87,  1,      1,      1,2,19940430,0358,-21.0003, -19.0010, 5064,   5189.0,   1.0461,  34.7406,2,  34.7402,2,    229.2,2,    228.6,2,   103.44,2,    29.93,2,     0.00,2,     2.05,2, -999.000,9, -999.000,9, -999.000,9,   -999.0,9,   -999.0,9,  0.6042