BOTTLE,20020814WHPSIOKJU
EXPOCODE,SECT_ID,STNNBR,CASTNO,SAMPNO,BTLNBR,BTLNBR_FLAG_W,DATE,TIME,LATITUDE,LONGITUDE,DEPTH,CTDPRS,CTDTMP,CTDSAL,CTDSAL_FLAG_W,SALNTY,SALNTY_FLAG_W,CTDOXY,CTDOXY_FLAG_W,OXYGEN,OXYGEN_FLAG_W,SILCAT,SILCAT_FLAG_W,NITRAT,NITRAT_FLAG_W,NITRIT,NITRIT_FLAG_W,PHSPHT,PHSPHT_FLAG_W,CFC-11,CFC-11_FLAG_W,CFC-12,CFC-12_FLAG_W,CCL4,CCL4_FLAG_W,TCARBN,TCARBN_FLAG_W,ALKALI,ALKALI_FLAG_W,THETA
,,,,,,,,,,,,DBAR,ITS-90,PSS-78,,PSS-78,,UMOL/KG,,UMOL/KG,,UMOL/KG,,UMOL/KG,,UMOL/KG,,UMOL/KG,,PMOL/KG,,PMOL/KG,,PMOL/KG,,UMOL/KG,,UMOL/KG,,DEG C
     316N142_3,  AR15,   122,  1,     39,     39,2,19940512,0620,-18.0375, -24.2935, 6084,      5.2,  26.1490,  37.1838,2,  37.1859,2,    201.8,2,    204.0,2,     1.47,2,     0.05,2,     0.00,2,     0.20,2,    1.725,2,    0.999,2,    2.385,2,   2081.5,2,   2439.2,2, 26.1478
     316N142_3,  AR15,   122,  1,     35,     35,2,19940512,0620,-18.0375, -24.2935, 6084,     95.4,  23.4291,  36.6866,2,  36.6943,2,    229.3,2,    222.9,2,     1.33,2,     0.05,2,     0.00,2,     0.21,2,    1.991,2,    1.155,2,    2.329,2,   2072.3,2,   2405.2,2, 23.4092
     316N142_3,  AR15,   122,  1,     38,     38,2,19940512,0620,-18.0375, -24.2935, 6084,    156.2,  19.6808,  36.1733,2,  36.1841,2,    211.8,2,    210.5,2,     1.56,2,     0.00,2,     0.09,2,     0.30,2,    2.235,2,    1.266,2,    1.184,2,   2088.8,2,   2373.7,2, 19.6521
     316N142_3,  AR15,   122,  1,     33,     33,2,19940512,0620,-18.0375, -24.2935, 6084,    257.0,  14.4127,  35.3536,2,  35.3558,2,    191.6,2,    188.7,2,     3.99,2,     7.72,2,     0.00,2,     0.78,2,    2.383,2,    1.202,6,    0.594,6,   2107.6,2,   2321.1,2, 14.3746
     316N142_3,  AR15,   122,  1,     41,     41,2,19940512,0620,-18.0375, -24.2935, 6084,    367.1,  10.5954,  34.8790,2,  34.8814,2,    181.4,2,    180.0,2,     8.37,2,    17.79,2,     0.00,2,     1.31,2,    1.704,2,    0.873,2,    1.044,2,   2141.3,2,   2298.4,2, 10.5509
     316N142_3,  AR15,   122,  1,     31,     31,2,19940512,0620,-18.0375, -24.2935, 6084,    442.4,   8.9428,  34.7181,2,  34.7188,2,    166.0,2,    163.6,2,    12.76,2,    24.47,2,     0.00,2,     1.67,2,    1.078,2,    0.584,2,    0.973,2,   2166.6,2,   2296.1,2,  8.8944
     316N142_3,  AR15,   122,  1,     37,     37,2,19940512,0620,-18.0375, -24.2935, 6084,    517.2,   7.4960,  34.5994,2,  34.6001,2,    156.7,2,    155.7,2,    17.39,2,    29.42,2,     0.00,2,     1.92,2,    0.632,2,    0.342,2,    0.935,2,   2184.2,2,   2290.9,2,  7.4449
     316N142_3,  AR15,   122,  1,     29,     29,2,19940512,0620,-18.0375, -24.2935, 6084,    627.6,   5.5039,  34.4539,2,  34.4548,2,    165.3,2,    168.2,2,    25.09,2,    33.11,2,     0.00,2,     2.15,2,    0.324,2,    0.141,2,    0.766,2,   2198.9,2,   2292.0,2,  5.4510
     316N142_3,  AR15,   122,  1,     28,     28,2,19940512,0620,-18.0375, -24.2935, 6084,    738.8,   4.5328,  34.4161,2,  34.4168,2,    172.8,2,    175.9,2,    31.46,2,    34.38,2,     0.00,2,     2.24,2,    0.165,6,    0.081,6,    0.626,6,   2203.2,2,   2298.3,2,  4.4754
     316N142_3,  AR15,   122,  1,     27,     27,2,19940512,0620,-18.0375, -24.2935, 6084,    899.3,   3.8292,  34.4634,2,  34.4633,2,    177.1,2,    179.8,2,    38.71,2,    34.60,2,     0.00,2,     2.27,2,    0.060,4,    0.033,2,    0.305,2,   2213.3,2,   2304.3,2,  3.7631
     316N142_3,  AR15,   122,  1,     26,     26,2,19940512,0620,-18.0375, -24.2935, 6084,   1058.3,   3.7092,  34.5740,2,  34.5739,2,    181.0,2,    181.2,2,    39.30,2,    33.00,2,     0.00,2,     2.18,2,    0.050,4,    0.017,2,    0.194,2,   2211.9,2,   -999.0,9,  3.6309
     316N142_3,  AR15,   122,  1,     25,     25,2,19940512,0620,-18.0375, -24.2935, 6084,   1313.0,   3.8029,  34.7685,2,  34.7697,2,    197.1,2,    197.5,2,    32.60,2,    28.19,2,     0.00,2,     1.90,2, -999.000,9,    0.011,2,    0.050,2,   2202.2,2,   2316.7,2,  3.7019
     316N142_3,  AR15,   122,  1,     24,     24,2,19940512,0620,-18.0375, -24.2935, 6084,   1450.4,   3.6958,  34.8457,2,  34.8474,2,    213.0,2,    213.6,2,    29.74,2,    25.18,2,     0.00,2,     1.72,2, -999.000,9,    0.012,2,    0.287,2,   -999.0,9,   -999.0,9,  3.5838
     316N142_3,  AR15,   122,  1,     23,     23,2,19940512,0620,-18.0375, -24.2935, 6084,   1590.5,   3.5260,  34.8860,2,  34.8867,2,    224.4,2,    226.5,2,    28.85,2,    23.25,2,     0.00,2,     1.61,2, -999.000,9, -999.000,9, -999.000,9,   2182.0,2,   2316.8,2,  3.4034
     316N142_3,  AR15,   122,  1,     22,     22,2,19940512,0620,-18.0375, -24.2935, 6084,   1793.2,   3.3164,  34.9107,2,  34.9109,2,    236.3,2,    237.6,2,    28.70,2,    21.85,2,     0.00,2,     1.52,2, -999.000,9,    0.006,2,    0.046,2,   -999.0,9,   -999.0,9,  3.1783
     316N142_3,  AR15,   122,  1,     21,     21,2,19940512,0620,-18.0375, -24.2935, 6084,   1997.0,   3.1664,  34.9242,2,  34.9250,2,    245.4,2,    244.5,2,    28.92,2,    20.71,2,     0.00,2,     1.46,2, -999.000,9,    0.010,2,    0.094,2,   2175.8,2,   2324.9,2,  3.0117
     316N142_3,  AR15,   122,  1,     20,     20,2,19940512,0620,-18.0375, -24.2935, 6084,   2098.9,   3.0527,  34.9167,2,  34.9176,2,    245.1,2,    243.6,2,    31.47,2,    21.18,2,     0.00,2,     1.48,2, -999.000,9,    0.014,2,    0.060,2,   -999.0,9,   -999.0,9,  2.8903
     316N142_3,  AR15,   122,  1,     19,     19,2,19940512,0620,-18.0375, -24.2935, 6084,   2275.8,   2.9150,  34.9078,2,  34.9087,2,    243.7,2,    242.5,2,    34.63,2,    21.59,2,     0.00,2,     1.50,2, -999.000,9, -999.000,9, -999.000,9,   2184.1,2,   2326.0,2,  2.7383
     316N142_3,  AR15,   122,  1,     40,     40,2,19940512,0620,-18.0375, -24.2935, 6084,   2477.9,   2.8208,  34.9035,2,  34.9052,2,    243.6,2,    242.4,2,    37.06,2,    21.80,2,     0.00,2,     1.51,2, -999.000,9, -999.000,9, -999.000,9,   -999.0,9,   -999.0,9,  2.6265
     316N142_3,  AR15,   122,  1,     17,     17,2,19940512,0620,-18.0375, -24.2935, 6084,   2681.1,   2.7416,  34.8997,2,  34.9005,2,    243.1,2,    242.1,2,    39.13,2,    21.93,2,     0.00,2,     1.52,2, -999.000,9,    0.005,2,    0.034,2,   2187.4,2,   -999.0,9,  2.5288
     316N142_3,  AR15,   122,  1,     16,     16,2,19940512,0620,-18.0375, -24.2935, 6084,   2885.0,   2.6797,  34.8962,2,  34.8983,2,    242.3,2,    241.7,2,    40.82,2,    22.14,2,  -999.00,5,     1.53,2, -999.000,9, -999.000,9, -999.000,9,   -999.0,9,   -999.0,9,  2.4478
     316N142_3,  AR15,   122,  1,     15,     15,2,19940512,0620,-18.0375, -24.2935, 6084,   3089.0,   2.6266,  34.8967,2,  34.8982,2,    244.1,2,    243.7,2,    41.16,2,    21.88,2,  -999.00,5,     1.52,2, -999.000,9, -999.000,9, -999.000,9,   2190.9,2,   2332.6,2,  2.3749
     316N142_3,  AR15,   122,  1,     14,     14,2,19940512,0620,-18.0375, -24.2935, 6084,   3293.0,   2.5758,  34.8969,2,  34.8980,2,    247.0,2,    246.3,2,    40.88,2,    21.54,2,     0.00,2,     1.50,2, -999.000,9,    0.003,2,    0.130,2,   -999.0,9,   -999.0,9,  2.3038
     316N142_3,  AR15,   122,  1,     13,     13,2,19940512,0620,-18.0375, -24.2935, 6084,   3496.0,   2.4713,  34.8893,2,  34.8913,2,    246.9,2,    246.8,2,    43.32,2,    21.88,2,     0.00,2,     1.52,2, -999.000,9, -999.000,9, -999.000,9,   2189.9,2,   2335.9,2,  2.1802
     316N142_3,  AR15,   122,  1,     12,     12,2,19940512,0620,-18.0375, -24.2935, 6084,   3700.4,   2.2776,  34.8725,2,  34.8750,2,    246.0,2,    246.0,2,    49.35,2,    22.63,2,     0.00,2,     1.57,2, -999.000,9, -999.000,9, -999.000,9,   -999.0,9,   -999.0,9,  1.9692
     316N142_3,  AR15,   122,  1,     11,     11,2,19940512,0620,-18.0375, -24.2935, 6084,   3904.8,   1.9598,  34.8417,2,  34.8446,2,    241.9,2,    242.2,2,    60.80,2,    24.38,2,     0.00,2,     1.68,2, -999.000,9,    0.013,2,    0.028,2,   2207.1,2,   2342.9,2,  1.6376
     316N142_3,  AR15,   122,  1,     10,     10,2,19940512,0620,-18.0375, -24.2935, 6084,   4109.5,   1.5622,  34.8016,2,  34.8037,2,    236.4,2,    236.9,2,    75.86,2,    26.73,2,     0.00,2,     1.82,2, -999.000,9, -999.000,9, -999.000,9,   -999.0,9,   -999.0,9,  1.2288
     316N142_3,  AR15,   122,  1,      9,      9,2,19940512,0620,-18.0375, -24.2935, 6084,   4314.4,   1.2575,  34.7704,2,  34.7721,2,    232.2,2,    232.6,2,    88.48,2,    28.75,2,     0.00,2,     1.94,2, -999.000,9, -999.000,9, -999.000,9,   2234.1,2,   -999.0,9,  0.9105
     316N142_3,  AR15,   122,  1,      8,      8,2,19940512,0620,-18.0375, -24.2935, 6084,   4519.7,   1.0839,  34.7517,2,  34.7531,2,    229.3,2,    230.0,2,    96.18,2,    29.90,2,     0.00,2,     2.01,2, -999.000,9, -999.000,9,    0.072,4,   -999.0,9,   -999.0,9,  0.7192
     316N142_3,  AR15,   122,  1,      7,      7,2,19940512,0620,-18.0375, -24.2935, 6084,   4724.0,   0.9542,  34.7364,2,  34.7394,2,    226.7,2,    227.9,2,   101.43,2,    30.85,2,     0.00,2,     2.07,2, -999.000,9, -999.000,9, -999.000,9,   2245.8,2,   2356.8,2,  0.5704
     316N142_3,  AR15,   122,  1,      6,      6,2,19940512,0620,-18.0375, -24.2935, 6084,   4929.2,   0.8187,  34.7211,2,  34.7225,2,    224.8,2,    225.8,2,   108.34,2,    31.86,2,     0.00,2,     2.13,2, -999.000,9, -999.000,9, -999.000,9,   -999.0,9,   -999.0,9,  0.4157
     316N142_3,  AR15,   122,  1,      5,      5,2,19940512,0620,-18.0375, -24.2935, 6084,   5134.9,   0.7687,  34.7140,2,  34.7154,2,    224.5,2,    224.8,2,   111.26,2,    32.27,2,     0.00,2,     2.16,2, -999.000,9,    0.013,2,    0.094,2,   2254.4,2,   2360.4,2,  0.3432
     316N142_3,  AR15,   122,  1,      4,      4,2,19940512,0620,-18.0375, -24.2935, 6084,   5341.4,   0.7377,  34.7084,2,  34.7095,2,    224.3,2,    224.0,2,   113.78,2,    32.55,2,     0.00,2,     2.18,2, -999.000,9, -999.000,9, -999.000,9,   -999.0,9,   -999.0,9,  0.2884
     316N142_3,  AR15,   122,  1,      3,      3,2,19940512,0620,-18.0375, -24.2935, 6084,   5547.0,   0.7306,  34.7052,2,  34.7062,2,    224.4,2,    223.7,2,   115.21,2,    32.69,2,     0.00,2,     2.19,2, -999.000,9, -999.000,9, -999.000,9,   2255.8,2,   2361.7,2,  0.2563
     316N142_3,  AR15,   122,  1,      2,      2,2,19940512,0620,-18.0375, -24.2935, 6084,   5753.8,   0.7367,  34.7028,2,  34.7050,2,    224.1,2,    223.5,2,   115.42,2,    32.76,2,     0.00,2,     2.20,2, -999.000,9,    0.020,2,    0.343,2,   -999.0,9,   -999.0,9,  0.2362
     316N142_3,  AR15,   122,  1,      1,      1,2,19940512,0620,-18.0375, -24.2935, 6084,   6004.6,   0.7617,  34.7014,2,  34.7039,2,    224.8,2,    223.4,2,   116.45,2,    32.77,2,     0.00,2,     2.20,2, -999.000,9,    0.018,2,    0.367,2,   2257.0,2,   2368.3,2,  0.2281