BOTTLE,20020814WHPSIOKJU
EXPOCODE,SECT_ID,STNNBR,CASTNO,SAMPNO,BTLNBR,BTLNBR_FLAG_W,DATE,TIME,LATITUDE,LONGITUDE,DEPTH,CTDPRS,CTDTMP,CTDSAL,CTDSAL_FLAG_W,SALNTY,SALNTY_FLAG_W,CTDOXY,CTDOXY_FLAG_W,OXYGEN,OXYGEN_FLAG_W,SILCAT,SILCAT_FLAG_W,NITRAT,NITRAT_FLAG_W,NITRIT,NITRIT_FLAG_W,PHSPHT,PHSPHT_FLAG_W,CFC-11,CFC-11_FLAG_W,CFC-12,CFC-12_FLAG_W,CCL4,CCL4_FLAG_W,TCARBN,TCARBN_FLAG_W,ALKALI,ALKALI_FLAG_W,THETA
,,,,,,,,,,,,DBAR,ITS-90,PSS-78,,PSS-78,,UMOL/KG,,UMOL/KG,,UMOL/KG,,UMOL/KG,,UMOL/KG,,UMOL/KG,,PMOL/KG,,PMOL/KG,,PMOL/KG,,UMOL/KG,,UMOL/KG,,DEG C
     316N142_3,   A15,   100,  1,     39,     39,2,19940503,1627,-27.7050, -18.9998, 4400,      5.8,  22.9882,  36.2899,2,  36.2896,2,    208.3,4,    216.7,2,     3.26,2,     0.08,2,     0.00,2,     0.12,2,    1.961,2,    1.139,2,    2.337,2,   2053.8,2,   2382.1,2, 22.9871
     316N142_3,   A15,   100,  1,     35,     35,2,19940503,1627,-27.7050, -18.9998, 4400,     74.7,  22.9736,  36.2851,2,  36.2821,2,    213.4,2,    217.0,2,     2.95,2,     0.08,2,     0.00,2,     0.12,2, -999.000,9, -999.000,9, -999.000,9,   2054.6,2,   2380.5,2, 22.9583
     316N142_3,   A15,   100,  1,     38,     38,9,19940503,1627,-27.7050, -18.9998, 4400,    104.7,  18.9621,  35.8330,2,-999.0000,9,    240.2,4,   -999.0,9,  -999.00,9,  -999.00,9,  -999.00,9,  -999.00,9, -999.000,9, -999.000,9, -999.000,9,   -999.0,9,   -999.0,9, 18.9434
     316N142_3,   A15,   100,  1,     33,     33,2,19940503,1627,-27.7050, -18.9998, 4400,    174.1,  15.6169,  35.4612,2,  35.4620,2,    218.6,2,    217.0,2,     3.78,2,     3.07,2,     0.01,2,     0.45,2, -999.000,9, -999.000,9, -999.000,9,   2083.5,2,   2329.9,2, 15.5897
     316N142_3,   A15,   100,  1,     41,     41,2,19940503,1627,-27.7050, -18.9998, 4400,    245.0,  14.0732,  35.2554,2,  35.2543,2,    211.1,2,    212.9,2,     4.48,2,     6.58,2,     0.00,2,     0.63,2,    2.640,2,    1.434,2,    0.832,2,   2092.6,2,   2317.2,2, 14.0375
     316N142_3,   A15,   100,  1,     31,     31,2,19940503,1627,-27.7050, -18.9998, 4400,    315.9,  12.7802,  35.1110,2,  35.1090,2,    208.1,2,    208.6,2,     5.46,2,    10.00,2,     0.00,2,     0.82,2,    2.503,2,    1.331,2,    1.032,2,   2105.1,2,   -999.0,9, 12.7370
     316N142_3,   A15,   100,  1,     37,     37,2,19940503,1627,-27.7050, -18.9998, 4400,    384.8,  11.4734,  34.9641,2,  34.9647,2,    207.9,2,    204.7,2,     6.87,2,    13.46,2,     0.00,2,     1.02,2,    2.287,6,    1.214,6,    0.977,6,   2118.9,2,   2307.7,2, 11.4243
     316N142_3,   A15,   100,  1,     29,     29,9,19940503,1627,-27.7050, -18.9998, 4400,    455.0,   9.9939,  34.7945,2,-999.0000,9,    208.1,2,   -999.0,9,  -999.00,9,  -999.00,9,  -999.00,9,  -999.00,9, -999.000,9, -999.000,9, -999.000,9,   -999.0,9,   -999.0,9,  9.9406
     316N142_3,   A15,   100,  1,     28,     28,2,19940503,1627,-27.7050, -18.9998, 4400,    525.9,   8.5731,  34.6420,2,  34.6416,2,    203.7,2,    203.2,2,    11.31,2,    20.67,2,     0.00,2,     1.46,2,    1.945,2,    1.037,2,    1.902,2,   2145.2,2,   2293.2,2,  8.5168
     316N142_3,   A15,   100,  1,     27,     27,2,19940503,1627,-27.7050, -18.9998, 4400,    626.6,   6.4825,  34.4491,2,  34.4482,2,    206.5,2,    207.8,2,    16.89,2,    25.47,2,     0.00,2,     1.77,2,    1.590,2,    0.831,2,    2.441,2,   2162.0,2,   2293.1,2,  6.4249
     316N142_3,   A15,   100,  1,     26,     26,2,19940503,1627,-27.7050, -18.9998, 4400,    727.8,   5.2986,  34.3651,2,  34.3647,2,    211.6,2,    212.4,2,    21.62,2,    27.76,2,     0.00,2,     1.92,2,    1.260,2,    0.694,2,    2.538,2,   -999.0,9,   -999.0,9,  5.2379
     316N142_3,   A15,   100,  1,     25,     25,2,19940503,1627,-27.7050, -18.9998, 4400,    828.1,   4.3764,  34.3339,2,  34.3322,2,    212.4,2,    212.1,2,    28.22,2,    29.60,2,     0.00,2,     2.04,2,    0.617,8,    0.447,2,    1.416,2,   -999.0,9,   -999.0,9,  4.3126
     316N142_3,   A15,   100,  1,     24,     24,2,19940503,1627,-27.7050, -18.9998, 4400,    928.7,   3.8309,  34.3498,2,  34.3482,2,    203.2,2,    205.9,2,    35.12,2,    30.94,2,     0.00,2,     2.14,2,    0.847,6,    0.390,6,    2.014,6,   -999.0,9,   -999.0,9,  3.7626
     316N142_3,   A15,   100,  1,     23,     23,2,19940503,1627,-27.7050, -18.9998, 4400,   1035.3,   3.4671,  34.4057,2,  34.4044,2,    193.9,2,    194.1,2,    43.48,2,    32.00,2,     0.00,2,     2.21,2, -999.000,9, -999.000,9, -999.000,9,   -999.0,9,   -999.0,9,  3.3929
     316N142_3,   A15,   100,  1,     22,     22,2,19940503,1627,-27.7050, -18.9998, 4400,   1161.8,   3.1496,  34.4892,2,  34.4863,2,    188.7,2,    188.7,2,    50.71,2,    32.14,2,     0.00,2,     2.22,2,    0.259,2,    0.112,2,    0.903,2,   -999.0,9,   -999.0,9,  3.0680
     316N142_3,   A15,   100,  1,     21,     21,2,19940503,1627,-27.7050, -18.9998, 4400,   1236.9,   3.0372,  34.5426,2,  34.5410,2,    188.1,2,    187.9,2,    53.44,2,    31.72,2,     0.00,2,     2.19,2, -999.000,9, -999.000,9, -999.000,9,   -999.0,9,   -999.0,9,  2.9505
     316N142_3,   A15,   100,  1,     20,     20,2,19940503,1627,-27.7050, -18.9998, 4400,   1409.9,   2.9427,  34.6396,2,  34.6379,2,    192.5,2,    191.3,2,    54.41,2,    30.29,2,     0.00,2,     2.08,2,    0.038,4,    0.023,2,    0.232,2,   -999.0,9,   -999.0,9,  2.8428
     316N142_3,   A15,   100,  1,     19,     19,2,19940503,1627,-27.7050, -18.9998, 4400,   1533.1,   2.8967,  34.6998,2,  34.6989,2,    199.7,2,    198.2,2,    53.63,2,    29.00,2,     0.00,2,     1.99,2, -999.000,9, -999.000,9, -999.000,9,   -999.0,9,   -999.0,9,  2.7870
     316N142_3,   A15,   100,  1,     40,     40,2,19940503,1627,-27.7050, -18.9998, 4400,   1662.8,   2.8537,  34.7631,2,  34.7629,2,    209.9,2,    209.2,2,    50.81,2,    27.12,2,     0.00,2,     1.86,2, -999.000,9,    0.005,2,    0.085,2,   -999.0,9,   -999.0,9,  2.7334
     316N142_3,   A15,   100,  1,     17,     17,2,19940503,1627,-27.7050, -18.9998, 4400,   1818.1,   2.8941,  34.8186,2,  34.8180,2,    221.7,2,    221.3,2,    45.54,2,    25.15,2,     0.00,2,     1.72,2, -999.000,9, -999.000,9, -999.000,9,   -999.0,9,   -999.0,9,  2.7597
     316N142_3,   A15,   100,  1,     16,     16,2,19940503,1627,-27.7050, -18.9998, 4400,   1970.1,   2.9312,  34.8634,2,  34.8626,2,    233.9,2,    233.1,2,    40.28,2,    23.36,2,     0.00,2,     1.60,2, -999.000,9,    0.004,2,    0.029,2,   -999.0,9,   -999.0,9,  2.7826
     316N142_3,   A15,   100,  1,     15,     15,2,19940503,1627,-27.7050, -18.9998, 4400,   2121.3,   2.9492,  34.8928,2,  34.8926,2,    240.7,2,    240.9,2,    36.34,2,    22.08,2,     0.00,2,     1.51,2, -999.000,9, -999.000,9, -999.000,9,   -999.0,9,   -999.0,9,  2.7865
     316N142_3,   A15,   100,  1,     14,     14,2,19940503,1627,-27.7050, -18.9998, 4400,   2269.6,   2.9491,  34.9099,2,  34.9095,2,    245.9,2,    246.1,2,    34.14,2,    21.31,2,     0.00,2,     1.45,2, -999.000,9,    0.004,2,    0.068,2,   -999.0,9,   -999.0,9,  2.7724
     316N142_3,   A15,   100,  1,     13,     13,2,19940503,1627,-27.7050, -18.9998, 4400,   2420.1,   2.9091,  34.9168,2,  34.9167,2,    248.2,2,    249.2,2,    33.24,2,    20.85,2,     0.00,2,     1.42,2, -999.000,9, -999.000,9, -999.000,9,   -999.0,9,   -999.0,9,  2.7186
     316N142_3,   A15,   100,  1,     12,     12,2,19940503,1627,-27.7050, -18.9998, 4400,   2621.7,   2.8230,  34.9189,2,  34.9185,2,    250.9,2,    250.8,2,    33.35,2,    20.53,2,     0.00,2,     1.41,2, -999.000,9, -999.000,9, -999.000,9,   -999.0,9,   -999.0,9,  2.6145
     316N142_3,   A15,   100,  1,     11,     11,2,19940503,1627,-27.7050, -18.9998, 4400,   2828.7,   2.7468,  34.9163,2,  34.9165,2,    251.4,2,    252.3,2,    34.17,2,    20.44,2,     0.00,2,     1.40,2, -999.000,9,    0.005,2,    0.064,2,   -999.0,9,   -999.0,9,  2.5191
     316N142_3,   A15,   100,  1,     10,     10,2,19940503,1627,-27.7050, -18.9998, 4400,   3037.6,   2.6415,  34.9095,2,  34.9092,2,    251.6,2,    251.8,2,    36.15,2,    20.62,2,     0.00,2,     1.41,2, -999.000,9, -999.000,9, -999.000,9,   -999.0,9,   -999.0,9,  2.3948
     316N142_3,   A15,   100,  1,      9,      9,2,19940503,1627,-27.7050, -18.9998, 4400,   3242.9,   2.4563,  34.8927,2,  34.8927,2,    249.3,2,    250.0,2,    41.73,2,    21.36,2,     0.00,2,     1.47,2, -999.000,9,    0.006,2,    0.101,2,   -999.0,9,   -999.0,9,  2.1925
     316N142_3,   A15,   100,  1,      8,      8,2,19940503,1627,-27.7050, -18.9998, 4400,   3395.3,   2.2625,  34.8744,2,  34.8738,2,    248.1,2,    247.5,2,    47.90,2,    22.22,2,     0.00,2,     1.53,2, -999.000,9, -999.000,9, -999.000,9,   -999.0,9,   -999.0,9,  1.9874
     316N142_3,   A15,   100,  1,      7,      7,2,19940503,1627,-27.7050, -18.9998, 4400,   3547.2,   1.9921,  34.8470,2,  34.8471,2,    244.5,2,    243.7,2,    57.58,2,    23.55,2,     0.00,2,     1.62,2, -999.000,9, -999.000,9, -999.000,9,   -999.0,9,   -999.0,9,  1.7077
     316N142_3,   A15,   100,  1,      6,      6,2,19940503,1627,-27.7050, -18.9998, 4400,   3698.6,   1.8413,  34.8305,2,  34.8304,2,    240.7,2,    240.8,2,    63.51,2,    24.37,2,     0.00,2,     1.68,2, -999.000,9,    0.005,2,    0.077,2,   -999.0,9,   -999.0,9,  1.5447
     316N142_3,   A15,   100,  1,      5,      5,2,19940503,1627,-27.7050, -18.9998, 4400,   3902.3,   1.6663,  34.8100,2,  34.8096,2,    237.3,2,    237.2,2,    71.23,2,    25.47,2,     0.00,2,     1.75,2, -999.000,9, -999.000,9, -999.000,9,   -999.0,9,   -999.0,9,  1.3526
     316N142_3,   A15,   100,  1,      4,      4,2,19940503,1627,-27.7050, -18.9998, 4400,   4108.6,   1.5907,  34.7997,2,  34.7993,2,    235.0,2,    235.1,2,    75.30,2,    26.07,2,     0.00,2,     1.79,2, -999.000,9, -999.000,9, -999.000,9,   -999.0,9,   -999.0,9,  1.2566
     316N142_3,   A15,   100,  1,      3,      3,2,19940503,1627,-27.7050, -18.9998, 4400,   4263.8,   1.5767,  34.7962,2,  34.7960,2,    233.2,2,    235.0,2,    77.02,2,    26.30,2,     0.00,2,     1.81,2, -999.000,9,    0.015,2,    0.054,2,   -999.0,9,   -999.0,9,  1.2256
     316N142_3,   A15,   100,  1,      2,      2,2,19940503,1627,-27.7050, -18.9998, 4400,   4384.8,   1.4498,  34.7822,2,  34.7820,2,    232.5,2,    232.4,2,    82.89,2,    27.08,2,     0.00,2,     1.86,2, -999.000,9,    0.005,2,    0.015,2,   -999.0,9,   -999.0,9,  1.0889
     316N142_3,   A15,   100,  1,      1,      1,2,19940503,1627,-27.7050, -18.9998, 4400,   4506.7,   1.4302,  34.7784,2,  34.7779,2,    231.5,2,    231.6,2,    85.06,2,    27.31,2,     0.00,2,     1.88,2, -999.000,9,    0.004,2,    0.037,2,   -999.0,9,   -999.0,9,  1.0560