BOTTLE,20020814WHPSIOKJU
EXPOCODE,SECT_ID,STNNBR,CASTNO,SAMPNO,BTLNBR,BTLNBR_FLAG_W,DATE,TIME,LATITUDE,LONGITUDE,DEPTH,CTDPRS,CTDTMP,CTDSAL,CTDSAL_FLAG_W,SALNTY,SALNTY_FLAG_W,CTDOXY,CTDOXY_FLAG_W,OXYGEN,OXYGEN_FLAG_W,SILCAT,SILCAT_FLAG_W,NITRAT,NITRAT_FLAG_W,NITRIT,NITRIT_FLAG_W,PHSPHT,PHSPHT_FLAG_W,CFC-11,CFC-11_FLAG_W,CFC-12,CFC-12_FLAG_W,CCL4,CCL4_FLAG_W,TCARBN,TCARBN_FLAG_W,ALKALI,ALKALI_FLAG_W,THETA
,,,,,,,,,,,,DBAR,ITS-90,PSS-78,,PSS-78,,UMOL/KG,,UMOL/KG,,UMOL/KG,,UMOL/KG,,UMOL/KG,,UMOL/KG,,PMOL/KG,,PMOL/KG,,PMOL/KG,,UMOL/KG,,UMOL/KG,,DEG C
     316N142_3,   A15,    98,  1,     39,     39,2,19940503,0358,-26.6840, -18.9963, 3947,      6.6,  23.0021,  36.2216,2,  36.2210,2,    211.1,4,    217.0,2,     1.73,2,     0.09,2,     0.00,2,     0.14,2,    1.790,2,    1.128,2,    3.051,2,   2049.4,2,   2377.3,2, 23.0008
     316N142_3,   A15,    98,  1,     35,     35,2,19940503,0358,-26.6840, -18.9963, 3947,     72.8,  19.2364,  35.8215,2,  35.8203,2,    238.3,2,    244.3,2,     1.72,2,     0.09,2,     0.00,2,     0.16,2,    1.872,8,    1.396,2,    1.886,2,   2051.4,2,   -999.0,9, 19.2232
     316N142_3,   A15,    98,  1,     38,     38,9,19940503,0358,-26.6840, -18.9963, 3947,     92.9,  18.2380,  35.7521,2,-999.0000,9,    242.4,2,   -999.0,9,  -999.00,9,  -999.00,9,  -999.00,9,  -999.00,9, -999.000,9, -999.000,9, -999.000,9,   -999.0,9,   -999.0,9, 18.2219
     316N142_3,   A15,    98,  1,     33,     33,2,19940503,0358,-26.6840, -18.9963, 3947,    178.5,  15.3880,  35.4449,2,  35.4439,2,    219.5,2,    217.5,2,     2.41,2,     3.33,2,     0.01,2,     0.43,2,    2.548,2,    1.421,2,    1.214,2,   2082.4,2,   2330.7,2, 15.3604
     316N142_3,   A15,    98,  1,     41,     41,2,19940503,0358,-26.6840, -18.9963, 3947,    254.2,  13.7208,  35.2404,2,  35.2379,2,    214.2,2,    212.3,2,     3.52,2,     7.30,2,     0.00,2,     0.65,2,    2.425,2,    1.401,2,    0.827,2,   2096.3,2,   2320.5,2, 13.6844
     316N142_3,   A15,    98,  1,     31,     31,2,19940503,0358,-26.6840, -18.9963, 3947,    329.4,  12.1405,  35.0479,2,  35.0466,2,    209.2,2,    208.0,2,     4.92,2,    11.55,2,     0.00,2,     0.89,2,    2.363,2,    1.273,2,    0.888,2,   2111.1,2,   2305.0,2, 12.0970
     316N142_3,   A15,    98,  1,     37,     37,2,19940503,0358,-26.6840, -18.9963, 3947,    404.5,  10.8919,  34.9101,2,  34.9092,2,    204.8,2,    204.8,2,     6.60,2,    14.89,2,     0.00,2,     1.10,2,    2.107,6,    1.122,6,    1.155,6,   2123.4,2,   2306.5,2, 10.8419
     316N142_3,   A15,    98,  1,     29,     29,9,19940503,0358,-26.6840, -18.9963, 3947,    481.4,   9.3805,  34.7332,2,-999.0000,9,    200.8,2,   -999.0,9,  -999.00,9,  -999.00,9,  -999.00,9,  -999.00,9, -999.000,9, -999.000,9, -999.000,9,   -999.0,9,   -999.0,9,  9.3262
     316N142_3,   A15,    98,  1,     28,     28,9,19940503,0358,-26.6840, -18.9963, 3947,    555.3,   7.9194,  34.5807,2,-999.0000,9,    199.6,2,   -999.0,9,  -999.00,9,  -999.00,9,  -999.00,9,  -999.00,9, -999.000,9, -999.000,9, -999.000,9,   -999.0,9,   -999.0,9,  7.8626
     316N142_3,   A15,    98,  1,     27,     27,2,19940503,0358,-26.6840, -18.9963, 3947,    680.5,   5.8392,  34.4039,2,  34.4035,2,    205.6,2,    207.3,2,    18.89,2,    27.12,2,     0.00,2,     1.85,2,    1.213,2,    0.708,2,    2.340,2,   2170.7,2,   2294.2,2,  5.7798
     316N142_3,   A15,    98,  1,     26,     26,2,19940503,0358,-26.6840, -18.9963, 3947,    756.3,   4.8512,  34.3481,2,  34.3480,2,    209.1,2,    210.7,2,    24.40,2,    29.03,2,     0.00,2,     2.00,2,    1.088,2,    0.587,2,    2.202,2,   2180.6,2,   2297.5,2,  4.7906
     316N142_3,   A15,    98,  1,     25,     25,2,19940503,0358,-26.6840, -18.9963, 3947,    808.0,   4.4157,  34.3417,2,  34.3437,2,    206.9,2,    208.0,2,    28.51,2,    30.13,2,     0.00,2,     2.10,2,    0.996,6,    0.492,6,    2.154,6,   2185.6,2,   2298.7,2,  4.3533
     316N142_3,   A15,    98,  1,     24,     24,2,19940503,0358,-26.6840, -18.9963, 3947,    908.1,   3.8050,  34.3660,2,  34.3633,2,    199.6,2,    200.5,2,    37.04,2,    31.56,2,     0.00,2,     2.21,2,    0.674,2,    0.338,2,    1.472,2,   2201.1,2,   2307.5,2,  3.7385
     316N142_3,   A15,    98,  1,     23,     23,2,19940503,0358,-26.6840, -18.9963, 3947,   1009.7,   3.4503,  34.4182,2,  34.4168,2,    190.4,2,    191.7,2,    45.18,2,    32.39,2,     0.00,2,     2.25,2,    0.402,2,    0.199,2,    1.239,2,   2215.9,2,   2311.9,2,  3.3782
     316N142_3,   A15,    98,  1,     22,     22,2,19940503,0358,-26.6840, -18.9963, 3947,   1109.4,   3.2595,  34.4699,2,  34.4685,2,    187.6,2,    186.9,2,    50.34,2,    32.53,2,     0.00,2,     2.28,2, -999.000,9, -999.000,9, -999.000,9,   -999.0,9,   -999.0,9,  3.1810
     316N142_3,   A15,    98,  1,     21,     21,2,19940503,0358,-26.6840, -18.9963, 3947,   1240.9,   3.0797,  34.5648,2,  34.5640,2,    186.0,2,    185.3,2,    54.50,2,    31.84,2,     0.00,2,     2.23,2,    0.230,2,    0.050,2,    0.525,2,   2226.1,2,   2324.9,2,  2.9922
     316N142_3,   A15,    98,  1,     20,     20,2,19940503,0358,-26.6840, -18.9963, 3947,   1372.5,   3.0036,  34.6578,2,  34.6572,2,    191.4,2,    191.6,2,    54.21,2,    30.24,2,     0.00,2,     2.12,2, -999.000,9, -999.000,9, -999.000,9,   -999.0,9,   -999.0,9,  2.9061
     316N142_3,   A15,    98,  1,     19,     19,2,19940503,0358,-26.6840, -18.9963, 3947,   1506.4,   2.9239,  34.7232,2,  34.7221,2,    201.0,2,    200.6,2,    52.91,2,    28.64,2,     0.00,2,     2.00,2, -999.000,9, -999.000,9, -999.000,9,   2215.8,2,   2332.9,2,  2.8160
     316N142_3,   A15,    98,  1,     40,     40,2,19940503,0358,-26.6840, -18.9963, 3947,   1634.9,   2.8762,  34.7628,2,  34.7612,2,    208.8,2,    208.3,2,    51.47,2,    27.41,2,     0.00,2,     1.92,2, -999.000,9,    0.014,2,    0.092,2,   -999.0,9,   -999.0,9,  2.7580
     316N142_3,   A15,    98,  1,     17,     17,2,19940503,0358,-26.6840, -18.9963, 3947,   1767.4,   2.8693,  34.8163,2,  34.8165,2,    219.8,2,    221.0,2,    46.87,2,    25.41,2,     0.00,2,     1.78,2, -999.000,9, -999.000,9, -999.000,9,   2199.7,2,   2332.1,2,  2.7397
     316N142_3,   A15,    98,  1,     16,     16,2,19940503,0358,-26.6840, -18.9963, 3947,   1919.3,   2.9266,  34.8615,2,  34.8613,2,    230.1,2,    232.5,2,    40.56,2,    23.51,2,     0.00,2,     1.66,2, -999.000,9,    0.012,2,    0.082,2,   -999.0,9,   -999.0,9,  2.7826
     316N142_3,   A15,    98,  1,     15,     15,2,19940503,0358,-26.6840, -18.9963, 3947,   2071.1,   2.9545,  34.8909,2,  34.8910,2,    240.0,2,    240.3,2,    35.70,2,    22.11,2,     0.00,2,     1.55,2, -999.000,9, -999.000,9, -999.000,9,   2181.3,2,   2330.2,2,  2.7963
     316N142_3,   A15,    98,  1,     14,     14,2,19940503,0358,-26.6840, -18.9963, 3947,   2222.4,   2.9485,  34.9073,2,  34.9071,2,    244.9,2,    245.2,2,    32.99,2,    21.30,2,     0.00,2,     1.50,2, -999.000,9, -999.000,9, -999.000,9,   -999.0,9,   -999.0,9,  2.7763
     316N142_3,   A15,    98,  1,     13,     13,9,19940503,0358,-26.6840, -18.9963, 3947,   2374.1,   2.9166,  34.9156,2,-999.0000,9,    248.9,2,   -999.0,9,  -999.00,9,  -999.00,9,  -999.00,9,  -999.00,9, -999.000,9, -999.000,9, -999.000,9,   -999.0,9,   -999.0,9,  2.7304
     316N142_3,   A15,    98,  1,     12,     12,9,19940503,0358,-26.6840, -18.9963, 3947,   2524.9,   2.8531,  34.9180,2,-999.0000,9,    249.6,2,   -999.0,9,  -999.00,9,  -999.00,9,  -999.00,9,  -999.00,9, -999.000,9, -999.000,9, -999.000,9,   -999.0,9,   -999.0,9,  2.6535
     316N142_3,   A15,    98,  1,     11,     11,2,19940503,0358,-26.6840, -18.9963, 3947,   2675.7,   2.8097,  34.9178,2,  34.9183,2,    251.9,2,    250.6,2,    32.98,2,    20.57,2,     0.00,2,     1.45,2, -999.000,9,    0.007,2,    0.060,2,   2175.4,2,   2330.6,2,  2.5961
     316N142_3,   A15,    98,  1,     10,     10,2,19940503,0358,-26.6840, -18.9963, 3947,   2829.6,   2.7530,  34.9157,2,  34.9155,2,    250.9,2,    251.2,2,    33.69,2,    20.53,2,     0.00,2,     1.45,2, -999.000,9, -999.000,9, -999.000,9,   -999.0,9,   -999.0,9,  2.5251
     316N142_3,   A15,    98,  1,      9,      9,2,19940503,0358,-26.6840, -18.9963, 3947,   2983.9,   2.6739,  34.9123,2,  34.9122,2,    252.1,2,    251.6,2,    34.68,2,    20.53,2,     0.00,2,     1.45,2, -999.000,9, -999.000,9, -999.000,9,   2178.4,2,   2333.6,2,  2.4320
     316N142_3,   A15,    98,  1,      8,      8,2,19940503,0358,-26.6840, -18.9963, 3947,   3137.8,   2.5498,  34.9025,2,  34.9033,2,    251.5,2,    251.3,2,    37.68,2,    20.80,2,     0.00,2,     1.47,2, -999.000,9, -999.000,9, -999.000,9,   -999.0,9,   -999.0,9,  2.2947
     316N142_3,   A15,    98,  1,      7,      7,2,19940503,0358,-26.6840, -18.9963, 3947,   3290.7,   2.4149,  34.8900,2,  34.8900,2,    250.5,2,    249.8,2,    42.26,2,    21.44,2,     0.00,2,     1.51,2, -999.000,9, -999.000,9, -999.000,9,   2185.1,2,   2334.4,2,  2.1471
     316N142_3,   A15,    98,  1,      6,      6,2,19940503,0358,-26.6840, -18.9963, 3947,   3443.5,   2.1348,  34.8614,2,  34.8629,2,    245.9,2,    245.6,2,    52.18,2,    22.81,2,     0.00,2,     1.61,2, -999.000,9, -999.000,9, -999.000,9,   -999.0,9,   -999.0,9,  1.8577
     316N142_3,   A15,    98,  1,      5,      5,2,19940503,0358,-26.6840, -18.9963, 3947,   3597.3,   1.8555,  34.8325,2,  34.8328,2,    241.2,2,    240.8,2,    63.48,2,    24.35,2,     0.00,2,     1.71,2, -999.000,9,    0.004,2,    0.075,2,   2208.5,2,   2347.1,2,  1.5693
     316N142_3,   A15,    98,  1,      4,      4,2,19940503,0358,-26.6840, -18.9963, 3947,   3750.5,   1.8120,  34.8268,2,  34.8270,2,    240.1,2,    239.9,2,    66.10,2,    24.72,2,     0.00,2,     1.73,2, -999.000,9, -999.000,9, -999.000,9,   -999.0,9,   -999.0,9,  1.5107
     316N142_3,   A15,    98,  1,      3,      3,2,19940503,0358,-26.6840, -18.9963, 3947,   3902.9,   1.6688,  34.8104,2,  34.8112,2,    237.4,2,    237.4,2,    72.68,2,    25.59,2,     0.00,2,     1.80,2, -999.000,9, -999.000,9, -999.000,9,   2216.1,2,   2351.7,2,  1.3549
     316N142_3,   A15,    98,  1,      2,      2,2,19940503,0358,-26.6840, -18.9963, 3947,   4057.6,   1.6144,  34.8036,2,  34.8036,2,    236.0,2,    236.1,2,    75.77,2,    26.00,2,     0.00,2,     1.83,2, -999.000,9, -999.000,9, -999.000,9,   -999.0,9,   -999.0,9,  1.2852
     316N142_3,   A15,    98,  1,      1,      1,2,19940503,0358,-26.6840, -18.9963, 3947,   4209.1,   1.5498,  34.7951,2,  34.7959,2,    234.6,2,    234.7,2,    79.32,2,    26.46,2,     0.00,2,     1.87,2, -999.000,9,    0.005,2,    0.127,2,   2222.5,2,   2351.9,2,  1.2057