BOTTLE,20020814WHPSIOKJU
EXPOCODE,SECT_ID,STNNBR,CASTNO,SAMPNO,BTLNBR,BTLNBR_FLAG_W,DATE,TIME,LATITUDE,LONGITUDE,DEPTH,CTDPRS,CTDTMP,CTDSAL,CTDSAL_FLAG_W,SALNTY,SALNTY_FLAG_W,CTDOXY,CTDOXY_FLAG_W,OXYGEN,OXYGEN_FLAG_W,SILCAT,SILCAT_FLAG_W,NITRAT,NITRAT_FLAG_W,NITRIT,NITRIT_FLAG_W,PHSPHT,PHSPHT_FLAG_W,CFC-11,CFC-11_FLAG_W,CFC-12,CFC-12_FLAG_W,CCL4,CCL4_FLAG_W,TCARBN,TCARBN_FLAG_W,ALKALI,ALKALI_FLAG_W,THETA
,,,,,,,,,,,,DBAR,ITS-90,PSS-78,,PSS-78,,UMOL/KG,,UMOL/KG,,UMOL/KG,,UMOL/KG,,UMOL/KG,,UMOL/KG,,PMOL/KG,,PMOL/KG,,PMOL/KG,,UMOL/KG,,UMOL/KG,,DEG C
     316N142_3,  AR15,    18,  1,     39,     39,2,19940408,1026,  0.2470, -35.9467, 4511,      1.4,  27.7686,  36.0232,2,  36.0206,2,    198.0,2,    199.7,2,     2.00,2,     0.10,2,     0.01,2,     0.11,2, -999.000,9, -999.000,9, -999.000,9,   2006.7,2,   2357.8,2, 27.7683
     316N142_3,  AR15,    18,  1,     35,     35,2,19940408,1026,  0.2470, -35.9467, 4511,     83.1,  22.4240,  36.2935,2,  36.2618,2,    186.5,2,    172.6,2,     3.09,2,     3.48,2,     0.12,2,     0.49,2, -999.000,9, -999.000,9, -999.000,9,   2098.6,2,   2379.1,2, 22.4073
     316N142_3,  AR15,    18,  1,     38,     38,2,19940408,1026,  0.2470, -35.9467, 4511,    119.5,  17.5454,  35.9033,2,  35.9036,2,    177.0,2,    173.4,2,     4.79,2,     8.18,2,     0.05,2,     0.73,2, -999.000,9, -999.000,9, -999.000,9,   2117.8,2,   2358.4,2, 17.5251
     316N142_3,  AR15,    18,  1,     33,     33,2,19940408,1026,  0.2470, -35.9467, 4511,    205.6,  12.4895,  35.2037,2,  35.1977,2,    151.5,2,    153.9,2,     9.06,2,    17.66,2,     0.02,2,     1.27,2, -999.000,9, -999.000,9, -999.000,9,   2150.9,2,   2317.0,2, 12.4619
     316N142_3,  AR15,    18,  1,     32,     32,2,19940408,1026,  0.2470, -35.9467, 4511,    286.4,  10.9443,  35.0375,2,  35.0453,2,    112.9,2,    111.1,2,    12.35,2,    25.19,2,     0.00,2,     1.68,2, -999.000,9, -999.000,9, -999.000,9,   -999.0,9,   -999.0,9, 10.9090
     316N142_3,  AR15,    18,  1,     31,     31,2,19940408,1026,  0.2470, -35.9467, 4511,    407.3,   8.0729,  34.7240,2,  34.7132,2,    113.4,2,    116.1,2,    18.93,2,    31.13,2,     0.00,2,     2.05,2, -999.000,9, -999.000,9, -999.000,9,   -999.0,9,   -999.0,9,  8.0310
     316N142_3,  AR15,    18,  1,     37,     37,2,19940408,1026,  0.2470, -35.9467, 4511,    507.5,   6.8600,  34.6082,2,  34.6052,2,    126.5,2,    128.6,2,    22.34,2,    32.25,2,     0.00,2,     2.28,2, -999.000,9, -999.000,9, -999.000,9,   -999.0,9,   -999.0,9,  6.8122
     316N142_3,  AR15,    18,  1,     28,     28,2,19940408,1026,  0.2470, -35.9467, 4511,    608.2,   6.1788,  34.5563,2,  34.5529,2,    135.7,2,    135.2,2,    24.86,2,    32.97,2,     0.00,2,     2.23,2, -999.000,9, -999.000,9, -999.000,9,   -999.0,9,   -999.0,9,  6.1243
     316N142_3,  AR15,    18,  1,     29,     29,2,19940408,1026,  0.2470, -35.9467, 4511,    608.4,   6.1860,  34.5571,2,  34.5535,2,    135.7,2,    135.2,2,    24.88,2,    32.93,2,     0.00,2,     2.22,2, -999.000,9, -999.000,9, -999.000,9,   -999.0,9,   -999.0,9,  6.1315
     316N142_3,  AR15,    18,  1,     27,     27,2,19940408,1026,  0.2470, -35.9467, 4511,    708.9,   5.4951,  34.5132,2,  34.5097,2,    143.7,2,    143.9,2,    27.89,2,    33.45,2,     0.00,2,     2.24,2, -999.000,9, -999.000,9, -999.000,9,   -999.0,9,   -999.0,9,  5.4348
     316N142_3,  AR15,    18,  1,     26,     26,2,19940408,1026,  0.2470, -35.9467, 4511,    834.9,   4.8531,  34.5117,2,  34.5064,2,    151.8,2,    152.2,2,    31.41,2,    33.39,2,     0.00,2,     2.26,2, -999.000,9, -999.000,9, -999.000,9,   -999.0,9,   -999.0,9,  4.7854
     316N142_3,  AR15,    18,  1,     25,     25,2,19940408,1026,  0.2470, -35.9467, 4511,    960.7,   4.5179,  34.6567,2,  34.6563,2,    160.5,2,    160.4,2,    31.63,2,    31.37,2,     0.00,2,     2.17,2, -999.000,9, -999.000,9, -999.000,9,   -999.0,9,   -999.0,9,  4.4414
     316N142_3,  AR15,    18,  1,     24,     24,2,19940408,1026,  0.2470, -35.9467, 4511,   1111.9,   4.5101,  34.7441,2,  34.7414,2,    169.6,2,    170.3,2,    29.29,2,    29.41,2,     0.00,2,     2.05,2, -999.000,9, -999.000,9, -999.000,9,   -999.0,9,   -999.0,9,  4.4203
     316N142_3,  AR15,    18,  1,     23,     23,2,19940408,1026,  0.2470, -35.9467, 4511,   1273.8,   4.6212,  34.9300,2,  34.9266,2,    198.4,2,    205.7,2,    21.71,2,    23.66,2,     0.00,2,     1.79,3, -999.000,9, -999.000,9, -999.000,9,   -999.0,9,   -999.0,9,  4.5153
     316N142_3,  AR15,    18,  1,     22,     22,2,19940408,1026,  0.2470, -35.9467, 4511,   1415.0,   4.4194,  34.9500,2,  34.9478,2,    220.0,2,    218.7,2,    20.35,2,    22.22,2,     0.00,2,     1.55,2, -999.000,9, -999.000,9, -999.000,9,   -999.0,9,   -999.0,9,  4.3024
     316N142_3,  AR15,    18,  1,     21,     21,2,19940408,1026,  0.2470, -35.9467, 4511,   1567.0,   4.2403,  34.9762,2,  34.9744,2,    230.5,2,    233.8,2,    18.51,2,    20.44,2,     0.00,2,     1.42,2, -999.000,9, -999.000,9, -999.000,9,   -999.0,9,   -999.0,9,  4.1112
     316N142_3,  AR15,    18,  1,     20,     20,2,19940408,1026,  0.2470, -35.9467, 4511,   1718.1,   3.9407,  34.9856,2,  34.9843,2,    245.3,2,    248.8,2,    17.76,2,    19.00,2,     0.00,2,     1.32,2, -999.000,9, -999.000,9, -999.000,9,   -999.0,9,   -999.0,9,  3.8010
     316N142_3,  AR15,    18,  1,     19,     19,2,19940408,1026,  0.2470, -35.9467, 4511,   1840.1,   3.8372,  34.9905,2,  34.9904,2,    255.7,2,    255.7,2,    17.02,2,    18.16,2,     0.00,2,     1.26,2, -999.000,9, -999.000,9, -999.000,9,   -999.0,9,   -999.0,9,  3.6874
     316N142_3,  AR15,    18,  1,     18,     18,2,19940408,1026,  0.2470, -35.9467, 4511,   1981.8,   3.6039,  34.9807,2,  34.9785,2,    258.5,2,    257.5,2,    18.58,2,    18.25,2,     0.00,2,     1.26,2, -999.000,9, -999.000,9, -999.000,9,   -999.0,9,   -999.0,9,  3.4440
     316N142_3,  AR15,    18,  1,     17,     17,2,19940408,1026,  0.2470, -35.9467, 4511,   2174.4,   3.3745,  34.9620,2,  34.9597,2,    254.2,2,    252.4,2,    22.94,2,    19.23,2,     0.00,2,     1.32,2, -999.000,9, -999.000,9, -999.000,9,   -999.0,9,   -999.0,9,  3.1997
     316N142_3,  AR15,    18,  1,     16,     16,2,19940408,1026,  0.2470, -35.9467, 4511,   2377.3,   3.0708,  34.9498,2,  34.9471,2,    254.6,2,    255.2,2,    25.83,2,    19.18,2,     0.00,2,     1.32,2, -999.000,9, -999.000,9, -999.000,9,   -999.0,9,   -999.0,9,  2.8815
     316N142_3,  AR15,    18,  1,     15,     15,2,19940408,1026,  0.2470, -35.9467, 4511,   2580.2,   2.9371,  34.9462,2,  34.9449,2,    259.4,2,    259.7,2,    25.33,2,    18.63,2,     0.00,2,     1.29,2, -999.000,9, -999.000,9, -999.000,9,   -999.0,9,   -999.0,9,  2.7304
     316N142_3,  AR15,    18,  1,     14,     14,2,19940408,1026,  0.2470, -35.9467, 4511,   2782.9,   2.8513,  34.9375,2,  34.9343,2,    258.0,2,    256.9,2,    28.46,2,    19.17,2,     0.00,2,     1.32,2, -999.000,9, -999.000,9, -999.000,9,   -999.0,9,   -999.0,9,  2.6260
     316N142_3,  AR15,    18,  1,     13,     13,2,19940408,1026,  0.2470, -35.9467, 4511,   2984.7,   2.6959,  34.9248,2,  34.9229,2,    254.9,2,    254.7,2,    32.44,2,    19.71,2,     0.00,2,     1.50,2, -999.000,9, -999.000,9, -999.000,9,   -999.0,9,   -999.0,9,  2.4533
     316N142_3,  AR15,    18,  1,     12,     12,2,19940408,1026,  0.2470, -35.9467, 4511,   3238.6,   2.5487,  34.9133,2,  34.9118,2,    252.5,2,    254.8,2,    35.09,2,    19.90,2,     0.00,2,     1.38,2, -999.000,9, -999.000,9, -999.000,9,   -999.0,9,   -999.0,9,  2.2831
     316N142_3,  AR15,    18,  1,     11,     11,2,19940408,1026,  0.2470, -35.9467, 4511,   3391.4,   2.5300,  34.9158,2,  34.9162,2,    258.1,2,    258.9,2,    32.76,2,    19.31,2,     0.00,2,     1.34,2, -999.000,9, -999.000,9, -999.000,9,   -999.0,9,   -999.0,9,  2.2485
     316N142_3,  AR15,    18,  1,     10,     10,2,19940408,1026,  0.2470, -35.9467, 4511,   3544.0,   2.4740,  34.9130,2,  34.9103,2,    260.9,2,    261.1,2,    32.25,2,    19.20,2,     0.00,2,     1.38,2, -999.000,9, -999.000,9, -999.000,9,   -999.0,9,   -999.0,9,  2.1774
     316N142_3,  AR15,    18,  1,      9,      9,2,19940408,1026,  0.2470, -35.9467, 4511,   3697.1,   2.3780,  34.9071,2,  34.9063,2,    262.8,2,    263.4,2,    32.23,2,    18.80,2,     0.00,2,     1.30,2, -999.000,9, -999.000,9, -999.000,9,   -999.0,9,   -999.0,9,  2.0672
     316N142_3,  AR15,    18,  1,      8,      8,2,19940408,1026,  0.2470, -35.9467, 4511,   3851.3,   2.3408,  34.9034,2,  34.9079,3,    263.0,2,    263.2,2,    33.30,2,    18.85,2,     0.00,2,     1.31,2, -999.000,9, -999.000,9, -999.000,9,   -999.0,9,   -999.0,9,  2.0137
     316N142_3,  AR15,    18,  1,      7,      7,2,19940408,1026,  0.2470, -35.9467, 4511,   4003.6,   2.3262,  34.9009,2,  34.9004,2,    262.7,2,    262.7,2,    34.12,2,    18.99,2,     0.00,2,     1.32,2, -999.000,9, -999.000,9, -999.000,9,   -999.0,9,   -999.0,9,  1.9823
     316N142_3,  AR15,    18,  1,      6,      6,2,19940408,1026,  0.2470, -35.9467, 4511,   4106.5,   2.2060,  34.8859,2,  34.8839,2,    259.1,2,    259.2,2,    40.75,2,    20.02,2,     0.00,2,     1.39,2, -999.000,9, -999.000,9, -999.000,9,   -999.0,9,   -999.0,9,  1.8539
     316N142_3,  AR15,    18,  1,      5,      5,2,19940408,1026,  0.2470, -35.9467, 4511,   4208.4,   1.8418,  34.8453,2,  34.8436,2,    252.6,2,    249.6,2,    58.74,2,    22.76,2,     0.00,2,     1.58,2, -999.000,9, -999.000,9, -999.000,9,   -999.0,9,   -999.0,9,  1.4889
     316N142_3,  AR15,    18,  1,      4,      4,2,19940408,1026,  0.2470, -35.9467, 4511,   4311.7,   1.3269,  34.7864,2,  34.7879,2,    238.2,2,    237.2,2,    82.40,2,    26.28,2,     0.00,2,     1.83,2, -999.000,9, -999.000,9, -999.000,9,   -999.0,9,   -999.0,9,  0.9779
     316N142_3,  AR15,    18,  1,      3,      3,2,19940408,1026,  0.2470, -35.9467, 4511,   4414.6,   1.0628,  34.7556,2,  34.7567,2,    230.9,2,    229.7,2,    95.41,2,    28.27,2,     0.00,2,     1.97,2, -999.000,9, -999.000,9, -999.000,9,   -999.0,9,   -999.0,9,  0.7106
     316N142_3,  AR15,    18,  1,      2,      2,2,19940408,1026,  0.2470, -35.9467, 4511,   4516.5,   0.9605,  34.7440,2,  34.7445,2,    228.0,2,    227.6,2,   100.07,2,    28.89,2,     0.00,2,     2.01,2, -999.000,9,    0.025,2,    0.075,2,   -999.0,9,   -999.0,9,  0.6001
     316N142_3,  AR15,    18,  1,      1,      1,2,19940408,1026,  0.2470, -35.9467, 4511,   4596.5,   0.9623,  34.7430,2,  34.7421,2,    226.1,2,    226.6,2,   100.38,2,    29.03,2,     0.00,2,     2.02,2,    0.031,2,    0.031,2,    0.089,2,   -999.0,9,   -999.0,9,  0.5928