BOTTLE,20020814WHPSIOKJU
EXPOCODE,SECT_ID,STNNBR,CASTNO,SAMPNO,BTLNBR,BTLNBR_FLAG_W,DATE,TIME,LATITUDE,LONGITUDE,DEPTH,CTDPRS,CTDTMP,CTDSAL,CTDSAL_FLAG_W,SALNTY,SALNTY_FLAG_W,CTDOXY,CTDOXY_FLAG_W,OXYGEN,OXYGEN_FLAG_W,SILCAT,SILCAT_FLAG_W,NITRAT,NITRAT_FLAG_W,NITRIT,NITRIT_FLAG_W,PHSPHT,PHSPHT_FLAG_W,CFC-11,CFC-11_FLAG_W,CFC-12,CFC-12_FLAG_W,CCL4,CCL4_FLAG_W,TCARBN,TCARBN_FLAG_W,ALKALI,ALKALI_FLAG_W,THETA
,,,,,,,,,,,,DBAR,ITS-90,PSS-78,,PSS-78,,UMOL/KG,,UMOL/KG,,UMOL/KG,,UMOL/KG,,UMOL/KG,,UMOL/KG,,PMOL/KG,,PMOL/KG,,PMOL/KG,,UMOL/KG,,UMOL/KG,,DEG C
     316N142_3,   A15,    47,  1,     39,     39,2,19940419,0525, -1.0005, -19.0010, 4553,      8.4,  28.4385,  36.0435,2,  36.0438,2,    217.7,2,    219.9,2,     1.66,2,     0.15,2,     0.01,2,     0.13,2,    1.763,2,    0.993,2,    1.704,2,   2007.2,2,   2358.1,2, 28.4365
     316N142_3,   A15,    47,  1,     42,     42,2,19940419,0525, -1.0005, -19.0010, 4553,     53.2,  24.0914,  36.1557,2,  36.1545,2,    206.5,2,    192.0,2,     2.05,2,     0.15,2,     0.01,2,     0.34,2, -999.000,9,    1.001,2,    0.749,2,   2073.2,2,   2369.8,2, 24.0802
     316N142_3,   A15,    47,  1,     38,     38,2,19940419,0525, -1.0005, -19.0010, 4553,     84.1,  17.5112,  35.8528,2,  35.8501,2,    156.2,2,    151.1,2,     4.82,2,    10.97,2,     0.12,2,     0.92,2,    1.753,6,    0.949,6,    0.669,6,   2133.7,2,   2350.9,2, 17.4970
     316N142_3,   A15,    47,  1,     33,     33,2,19940419,0525, -1.0005, -19.0010, 4553,    174.9,  13.1196,  35.2903,2,  35.8501,4,    137.1,2,    136.6,2,     8.66,2,    18.83,2,     0.02,2,     1.35,2,    1.383,2,    0.738,2,    0.803,2,   2158.8,2,   2318.8,2, 13.0953
     316N142_3,   A15,    47,  1,     41,     41,2,19940419,0525, -1.0005, -19.0010, 4553,    246.2,  11.6445,  35.1098,2,  35.1205,2,     86.2,2,     84.7,2,    11.98,2,    27.04,2,     0.01,2,     1.79,2,    0.833,2,    0.442,2,    0.264,2,   2203.0,2,   2308.5,2, 11.6129
     316N142_3,   A15,    47,  1,     31,     31,2,19940419,0525, -1.0005, -19.0010, 4553,    326.7,   9.9557,  34.9305,2,  34.9284,2,     84.4,2,     83.7,2,    15.30,2,    30.84,2,     0.01,2,     2.01,2,    0.419,2,    0.283,2,    0.564,2,   2194.0,2,   -999.0,9,  9.9177
     316N142_3,   A15,    47,  1,     37,     37,2,19940419,0525, -1.0005, -19.0010, 4553,    457.6,   7.8227,  34.6914,2,  34.6868,2,    112.8,2,    114.3,2,    19.68,2,    32.24,2,     0.01,2,     2.14,2,    0.384,2,    0.196,2,    0.553,2,   2210.7,2,   2295.5,2,  7.7765
     316N142_3,   A15,    47,  1,     29,     29,9,19940419,0525, -1.0005, -19.0010, 4553,    547.8,   6.4311,  34.5686,2,-999.0000,9,    127.9,2,   -999.0,9,  -999.00,9,  -999.00,9,  -999.00,9,  -999.00,9, -999.000,9, -999.000,9, -999.000,9,   -999.0,9,   -999.0,9,  6.3812
     316N142_3,   A15,    47,  1,     28,     28,2,19940419,0525, -1.0005, -19.0010, 4553,    634.0,   5.7596,  34.5187,2,  34.5192,2,    135.2,2,    141.8,2,    26.20,2,    33.46,2,     0.00,2,     2.29,2,    0.306,2,    0.112,2,    0.512,2,   2210.4,2,   2293.7,2,  5.7047
     316N142_3,   A15,    47,  1,     27,     27,2,19940419,0525, -1.0005, -19.0010, 4553,    759.8,   5.0870,  34.4986,2,  34.4994,2,    143.7,2,    145.8,2,    30.19,2,    34.35,2,     0.00,2,     2.37,2, -999.000,9, -999.000,9, -999.000,9,   2216.5,2,   2293.4,2,  5.0245
     316N142_3,   A15,    47,  1,     26,     26,2,19940419,0525, -1.0005, -19.0010, 4553,    859.0,   4.7207,  34.5145,2,  34.5157,2,    150.0,2,    152.9,2,    32.05,2,    33.90,2,     0.00,2,     2.35,2,    0.126,2,    0.039,2,    0.233,2,   2216.8,2,   2298.7,2,  4.6518
     316N142_3,   A15,    47,  1,     25,     25,2,19940419,0525, -1.0005, -19.0010, 4553,    971.1,   4.3552,  34.5828,2,  34.5833,2,    154.9,2,    157.7,2,    33.91,2,    33.12,2,     0.00,2,     2.31,2, -999.000,9, -999.000,9, -999.000,9,   2219.3,2,   2304.2,2,  4.2791
     316N142_3,   A15,    47,  1,     24,     24,2,19940419,0525, -1.0005, -19.0010, 4553,   1061.9,   4.4693,  34.7127,2,  34.7144,2,    165.4,2,    167.1,2,    30.19,2,    30.58,2,     0.00,2,     2.13,2, -999.000,9, -999.000,9, -999.000,9,   2211.3,2,   2306.7,2,  4.3843
     316N142_3,   A15,    47,  1,     23,     23,2,19940419,0525, -1.0005, -19.0010, 4553,   1263.9,   4.4926,  34.8434,2,  34.8469,2,    185.8,2,    189.0,2,    25.26,2,    26.93,2,     0.00,2,     1.87,2,    0.053,4,    0.026,2,    0.407,2,   2197.3,2,   2308.7,2,  4.3891
     316N142_3,   A15,    47,  1,     22,     22,2,19940419,0525, -1.0005, -19.0010, 4553,   1466.0,   4.3148,  34.9562,2,  34.9586,2,    225.7,2,    225.5,2,    19.53,2,    22.03,2,     0.00,2,     1.53,2, -999.000,9,    0.074,2,    0.416,2,   -999.0,9,   -999.0,9,  4.1942
     316N142_3,   A15,    47,  1,     21,     21,2,19940419,0525, -1.0005, -19.0010, 4553,   1617.8,   4.0082,  34.9774,2,  34.9789,2,    242.5,2,    243.1,2,    18.20,2,    20.13,2,     0.00,2,     1.40,2, -999.000,9,    0.057,6,    0.364,6,   2167.4,2,   2310.7,2,  3.8771
     316N142_3,   A15,    47,  1,     20,     20,2,19940419,0525, -1.0005, -19.0010, 4553,   1769.5,   3.8255,  34.9751,2,  34.9771,2,    248.4,2,    247.6,2,    18.73,2,    19.77,2,     0.00,2,     1.37,2, -999.000,9, -999.000,9, -999.000,9,   -999.0,9,   -999.0,9,  3.6825
     316N142_3,   A15,    47,  1,     19,     19,2,19940419,0525, -1.0005, -19.0010, 4553,   1921.9,   3.5848,  34.9674,2,  34.9707,2,    251.2,2,    251.5,2,    20.46,2,    19.59,2,     0.00,2,     1.36,2, -999.000,9,    0.032,2,    0.381,2,   2166.6,2,   2314.1,2,  3.4309
     316N142_3,   A15,    47,  1,     40,     40,2,19940419,0525, -1.0005, -19.0010, 4553,   2046.9,   3.4107,  34.9569,2,  34.9599,2,    248.5,2,    250.0,2,    23.26,2,    20.03,2,     0.00,2,  -999.00,5, -999.000,9,    0.034,2, -999.000,9,   -999.0,9,   -999.0,9,  3.2476
     316N142_3,   A15,    47,  1,     17,     17,2,19940419,0525, -1.0005, -19.0010, 4553,   2223.9,   3.2823,  34.9489,2,  34.9516,2,    249.3,2,    249.1,2,    25.41,2,    20.23,2,     0.00,2,  -999.00,5, -999.000,9,    0.031,2,    0.387,2,   2170.4,2,   2319.0,2,  3.1043
     316N142_3,   A15,    47,  1,     16,     16,2,19940419,0525, -1.0005, -19.0010, 4553,   2401.0,   3.0726,  34.9387,2,  34.9398,2,    250.1,2,    248.9,2,    28.63,2,    20.52,2,     0.00,2,  -999.00,5, -999.000,9, -999.000,9, -999.000,9,   -999.0,9,   -999.0,9,  2.8810
     316N142_3,   A15,    47,  1,     15,     15,2,19940419,0525, -1.0005, -19.0010, 4553,   2579.7,   2.9242,  34.9288,2,  34.9302,2,    247.9,2,    247.6,2,    31.96,2,    20.91,2,     0.00,2,  -999.00,5, -999.000,9, -999.000,9, -999.000,9,   2177.7,2,   2326.9,2,  2.7178
     316N142_3,   A15,    47,  1,     14,     14,2,19940419,0525, -1.0005, -19.0010, 4553,   2731.7,   2.8378,  34.9200,2,  34.9217,2,    245.9,2,    245.4,2,    35.13,2,    21.29,2,     0.00,2,  -999.00,5, -999.000,9, -999.000,9, -999.000,9,   -999.0,9,   -999.0,9,  2.6180
     316N142_3,   A15,    47,  1,     13,     13,2,19940419,0525, -1.0005, -19.0010, 4553,   2884.0,   2.7254,  34.9146,2,  34.9164,2,    246.8,2,    246.5,2,    36.34,2,    21.30,2,     0.00,2,     1.51,2, -999.000,9,    0.023,2,    0.057,2,   2184.7,2,   2331.5,2,  2.4925
     316N142_3,   A15,    47,  1,     12,     12,2,19940419,0525, -1.0005, -19.0010, 4553,   3037.4,   2.6376,  34.9088,2,  34.9099,2,    247.1,2,    246.6,2,    38.21,2,    21.49,2,     0.00,2,     1.52,2, -999.000,9, -999.000,9, -999.000,9,   -999.0,9,   -999.0,9,  2.3910
     316N142_3,   A15,    47,  1,     11,     11,2,19940419,0525, -1.0005, -19.0010, 4553,   3188.6,   2.5755,  34.9058,2,  34.9070,2,    248.0,2,    247.8,2,    38.62,2,    21.36,2,     0.00,2,     1.51,2, -999.000,9, -999.000,9, -999.000,9,   2187.0,2,   2333.5,2,  2.3146
     316N142_3,   A15,    47,  1,     10,     10,2,19940419,0525, -1.0005, -19.0010, 4553,   3343.1,   2.5058,  34.9037,2,  34.9049,2,    251.5,2,    251.8,2,    37.55,2,    20.90,2,     0.00,2,     1.48,2, -999.000,9, -999.000,9, -999.000,9,   -999.0,9,   -999.0,9,  2.2301
     316N142_3,   A15,    47,  1,      9,      9,2,19940419,0525, -1.0005, -19.0010, 4553,   3496.4,   2.4498,  34.9004,2,  34.9015,2,    253.2,2,    253.7,2,    37.82,2,    20.76,2,     0.00,2,     1.47,2, -999.000,9, -999.000,9, -999.000,9,   2181.3,2,   2331.9,2,  2.1591
     316N142_3,   A15,    47,  1,      8,      8,2,19940419,0525, -1.0005, -19.0010, 4553,   3648.3,   2.4008,  34.8983,2,  34.8996,2,    255.8,2,    257.0,2,    37.16,2,    20.40,2,     0.00,2,     1.45,2, -999.000,9,    0.038,2,    0.221,2,   -999.0,9,   -999.0,9,  2.0948
     316N142_3,   A15,    47,  1,      7,      7,2,19940419,0525, -1.0005, -19.0010, 4553,   3800.9,   2.3350,  34.8947,2,  34.8956,2,    258.6,2,    259.3,2,    36.89,2,    20.17,2,     0.00,2,     1.43,2, -999.000,9,    0.035,2,    0.259,2,   2184.4,2,   2330.4,2,  2.0138
     316N142_3,   A15,    47,  1,      6,      6,2,19940419,0525, -1.0005, -19.0010, 4553,   3953.3,   2.2087,  34.8812,2,  34.8825,2,    258.3,2,    257.8,2,    41.71,2,    20.74,2,     0.00,2,     1.47,2, -999.000,9,    0.061,4,    0.373,4,   -999.0,9,   -999.0,9,  1.8740
     316N142_3,   A15,    47,  1,      5,      5,2,19940419,0525, -1.0005, -19.0010, 4553,   4106.3,   1.9105,  34.8461,2,  34.8479,2,    250.1,2,    249.6,2,    56.41,2,    22.97,2,     0.00,2,     1.63,2, -999.000,9,    0.039,2,    0.323,2,   2201.6,2,   2342.3,2,  1.5671
     316N142_3,   A15,    47,  1,      4,      4,2,19940419,0525, -1.0005, -19.0010, 4553,   4259.9,   1.4201,  34.7937,2,  34.7946,2,    240.6,2,    238.2,2,    78.16,2,    26.23,2,     0.00,2,     1.86,2, -999.000,9, -999.000,9, -999.000,9,   -999.0,9,   -999.0,9,  1.0741
     316N142_3,   A15,    47,  1,      3,      3,2,19940419,0525, -1.0005, -19.0010, 4553,   4414.1,   1.2089,  34.7695,2,  34.7700,2,    233.3,2,    232.7,2,    88.07,2,    27.73,2,     0.00,2,     1.97,2, -999.000,9,    0.041,2,    0.246,2,   2235.8,2,   2361.9,2,  0.8522
     316N142_3,   A15,    47,  1,      2,      2,2,19940419,0525, -1.0005, -19.0010, 4553,   4567.6,   1.1152,  34.7581,2,  34.7588,2,    230.8,2,    230.5,2,    92.57,2,    28.38,2,     0.00,2,     2.01,2, -999.000,9, -999.000,9, -999.000,9,   -999.0,9,   -999.0,9,  0.7440
     316N142_3,   A15,    47,  1,      1,      1,2,19940419,0525, -1.0005, -19.0010, 4553,   4639.4,   1.1209,  34.7576,2,  34.7584,2,    230.7,2,    230.1,2,    92.85,2,    28.44,2,     0.00,2,     2.01,2, -999.000,9, -999.000,9, -999.000,9,   2245.5,2,   2366.2,2,  0.7413