BOTTLE,20020814WHPSIOKJU
EXPOCODE,SECT_ID,STNNBR,CASTNO,SAMPNO,BTLNBR,BTLNBR_FLAG_W,DATE,TIME,LATITUDE,LONGITUDE,DEPTH,CTDPRS,CTDTMP,CTDSAL,CTDSAL_FLAG_W,SALNTY,SALNTY_FLAG_W,CTDOXY,CTDOXY_FLAG_W,OXYGEN,OXYGEN_FLAG_W,SILCAT,SILCAT_FLAG_W,NITRAT,NITRAT_FLAG_W,NITRIT,NITRIT_FLAG_W,PHSPHT,PHSPHT_FLAG_W,CFC-11,CFC-11_FLAG_W,CFC-12,CFC-12_FLAG_W,CCL4,CCL4_FLAG_W,TCARBN,TCARBN_FLAG_W,ALKALI,ALKALI_FLAG_W,THETA
,,,,,,,,,,,,DBAR,ITS-90,PSS-78,,PSS-78,,UMOL/KG,,UMOL/KG,,UMOL/KG,,UMOL/KG,,UMOL/KG,,UMOL/KG,,PMOL/KG,,PMOL/KG,,PMOL/KG,,UMOL/KG,,UMOL/KG,,DEG C
     316N142_3,  AR15,   138,  5,     39,     39,2,19940516,1629,-18.1003, -32.8252, 4417,     11.6,  27.1189,  37.4086,2,  37.4100,2,    201.6,2,    202.5,2,     1.67,2,     0.00,2,     0.01,2,     0.14,2, -999.000,9, -999.000,9, -999.000,9,   2076.3,2,   2451.1,2, 27.1162
     316N142_3,  AR15,   138,  5,     35,     35,2,19940516,1629,-18.1003, -32.8252, 4417,     85.4,  24.5502,  36.9241,2,  36.9160,2,    225.2,2,    223.8,2,     1.66,2,     0.00,2,     0.01,2,     0.18,2, -999.000,9, -999.000,9, -999.000,9,   2072.7,2,   2419.5,2, 24.5318
     316N142_3,  AR15,   138,  5,     38,     38,2,19940516,1629,-18.1003, -32.8252, 4417,    176.8,  19.3665,  36.1691,2,  36.1432,2,    207.1,2,    198.5,2,     2.29,2,     1.40,2,     0.03,2,     0.37,2,    2.184,2,    1.278,2,    0.966,2,   2095.2,2,   2369.7,2, 19.3343
     316N142_3,  AR15,   138,  5,     33,     33,2,19940516,1629,-18.1003, -32.8252, 4417,    266.6,  14.3757,  35.3700,2,  35.3540,2,    183.6,2,    177.2,2,     5.14,2,    11.23,2,     0.01,2,     0.88,2, -999.000,9, -999.000,9, -999.000,9,   2116.5,2,   2320.5,2, 14.3363
     316N142_3,  AR15,   138,  5,     41,     41,2,19940516,1629,-18.1003, -32.8252, 4417,    377.2,  10.6371,  34.8982,2,  34.9010,2,    171.1,2,    169.6,2,     9.43,2,    19.20,2,     0.00,2,     1.36,2,    1.273,6,    0.736,6,    0.759,6,   2148.4,2,   2298.4,2, 10.5912
     316N142_3,  AR15,   138,  5,     31,     31,2,19940516,1629,-18.1003, -32.8252, 4417,    482.7,   8.1890,  34.6683,2,  34.6598,2,    152.1,2,    152.3,2,    16.26,2,    26.85,2,     0.00,2,     1.85,2,    0.495,8,    0.357,2,    0.801,2,   2181.0,2,   2291.6,2,  8.1388
     316N142_3,  AR15,   138,  5,     37,     37,2,19940516,1629,-18.1003, -32.8252, 4417,    598.1,   5.7930,  34.4492,2,  34.4492,2,    190.7,2,    181.8,2,    22.47,2,    29.19,2,     0.00,2,     2.03,2, -999.000,9, -999.000,9, -999.000,9,   2183.8,2,   2291.1,2,  5.7413
     316N142_3,  AR15,   138,  5,     29,     29,2,19940516,1629,-18.1003, -32.8252, 4417,    737.1,   4.3985,  34.3868,2,  34.3863,2,    189.8,2,    190.8,2,    31.25,2,    30.90,2,     0.00,2,     2.19,2,    0.321,2,    0.198,2,    1.104,2,   2196.2,2,   2292.7,2,  4.3420
     316N142_3,  AR15,   138,  5,     28,     28,2,19940516,1629,-18.1003, -32.8252, 4417,    847.6,   3.9001,  34.4159,2,  34.4147,2,    186.7,2,    187.8,2,    37.00,2,    31.54,2,     0.00,2,     2.24,2, -999.000,9, -999.000,9, -999.000,9,   2207.5,2,   2301.6,2,  3.8378
     316N142_3,  AR15,   138,  5,     27,     27,2,19940516,1629,-18.1003, -32.8252, 4417,    958.5,   3.6959,  34.4826,2,  34.4814,2,    181.7,2,    183.2,2,    40.20,2,    31.49,2,     0.00,2,     2.25,2,    0.111,2,    0.065,2,    0.485,2,   2212.2,2,   2308.0,2,  3.6260
     316N142_3,  AR15,   138,  5,     26,     26,2,19940516,1629,-18.1003, -32.8252, 4417,   1090.1,   3.7404,  34.5948,2,  34.5937,2,    180.0,2,    182.9,2,    38.43,2,    30.37,2,     0.00,2,     2.16,2, -999.000,9, -999.000,9, -999.000,9,   -999.0,9,   -999.0,9,  3.6592
     316N142_3,  AR15,   138,  5,     25,     25,2,19940516,1629,-18.1003, -32.8252, 4417,   1222.1,   3.8281,  34.7131,2,  34.7140,2,    188.1,2,    189.7,2,    34.42,2,    28.14,2,     0.00,2,     1.99,2,    0.052,4,    0.031,2,    0.057,2,   2203.5,2,   2313.9,2,  3.7348
     316N142_3,  AR15,   138,  5,     24,     24,2,19940516,1629,-18.1003, -32.8252, 4417,   1359.0,   4.0907,  34.8520,2,  34.8518,2,    204.1,2,    205.7,2,    26.41,2,    24.85,2,     0.00,2,     1.75,2, -999.000,9, -999.000,9, -999.000,9,   -999.0,9,   -999.0,9,  3.9826
     316N142_3,  AR15,   138,  5,     23,     23,2,19940516,1629,-18.1003, -32.8252, 4417,   1516.0,   3.8557,  34.8989,2,  34.9060,3,    220.8,2,    223.9,2,    24.81,2,    22.67,2,     0.00,2,     1.58,2, -999.000,9,    0.027,2,    0.399,2,   2180.0,2,   2314.4,2,  3.7358
     316N142_3,  AR15,   138,  5,     22,     22,2,19940516,1629,-18.1003, -32.8252, 4417,   1668.3,   3.7622,  34.9402,2,  34.9404,2,    236.6,2,    237.3,2,    22.57,2,    21.03,2,     0.00,2,     1.46,2, -999.000,9,    0.062,2,    0.441,2,   -999.0,9,   -999.0,9,  3.6295
     316N142_3,  AR15,   138,  5,     21,     21,2,19940516,1629,-18.1003, -32.8252, 4417,   1728.9,   3.6621,  34.9360,2,  34.9399,2,    238.6,2,    239.5,2,    23.36,2,    20.93,2,     0.00,2,     1.45,2, -999.000,9, -999.000,9, -999.000,9,   2170.3,2,   2316.6,2,  3.5251
     316N142_3,  AR15,   138,  5,     20,     20,2,19940516,1629,-18.1003, -32.8252, 4417,   1819.9,   3.6241,  34.9545,2,  34.9554,2,    245.3,2,    246.2,2,    21.91,2,    20.08,2,     0.00,2,     1.39,2, -999.000,9,    0.050,6,    0.360,6,   -999.0,9,   -999.0,9,  3.4791
     316N142_3,  AR15,   138,  5,     19,     19,2,19940516,1629,-18.1003, -32.8252, 4417,   1951.0,   3.5117,  34.9555,2,  34.9562,2,    248.3,2,    249.1,2,    22.39,2,    19.82,2,     0.00,2,     1.37,2, -999.000,9,    0.023,2,    0.395,2,   2167.0,2,   2317.9,2,  3.3561
     316N142_3,  AR15,   138,  5,     40,     40,2,19940516,1629,-18.1003, -32.8252, 4417,   2072.2,   3.3992,  34.9534,2,  34.9554,2,    250.7,2,    250.8,2,    23.34,2,    19.77,2,     0.00,2,     1.36,2, -999.000,9, -999.000,9, -999.000,9,   -999.0,9,   -999.0,9,  3.2338
     316N142_3,  AR15,   138,  5,     17,     17,2,19940516,1629,-18.1003, -32.8252, 4417,   2193.6,   3.2639,  34.9441,2,  34.9464,2,    251.6,2,    250.6,2,    25.40,2,    19.98,2,     0.00,2,     1.37,2, -999.000,9,    0.015,2,    0.115,2,   2168.3,2,   2320.5,2,  3.0891
     316N142_3,  AR15,   138,  5,     16,     16,2,19940516,1629,-18.1003, -32.8252, 4417,   2325.9,   3.1624,  34.9422,2,  34.9415,2,    251.6,2,    251.4,2,    26.84,2,    20.04,2,     0.00,2,     1.38,2, -999.000,9, -999.000,9, -999.000,9,   -999.0,9,   -999.0,9,  2.9766
     316N142_3,  AR15,   138,  5,     15,     15,2,19940516,1629,-18.1003, -32.8252, 4417,   2478.8,   3.0410,  34.9351,2,  34.9354,2,    251.0,2,    251.2,2,    28.91,2,    20.20,2,     0.00,2,     1.39,2, -999.000,9,    0.014,2,    0.130,2,   2171.9,2,   2323.5,2,  2.8424
     316N142_3,  AR15,   138,  5,     14,     14,2,19940516,1629,-18.1003, -32.8252, 4417,   2630.8,   2.9446,  34.9286,2,  34.9283,2,    248.5,2,    250.1,2,    30.98,2,    20.36,2,     0.00,2,     1.41,2, -999.000,9, -999.000,9, -999.000,9,   -999.0,9,   -999.0,9,  2.7329
     316N142_3,  AR15,   138,  5,     13,     13,2,19940516,1629,-18.1003, -32.8252, 4417,   2784.6,   2.8715,  34.9245,2,  34.9244,2,    250.6,2,    250.4,2,    31.94,2,    20.36,2,     0.00,2,     1.42,2, -999.000,9,    0.015,2,    0.317,2,   2175.1,2,   2325.8,2,  2.6457
     316N142_3,  AR15,   138,  5,     12,     12,2,19940516,1629,-18.1003, -32.8252, 4417,   2937.1,   2.7918,  34.9173,2,  34.9179,2,    248.6,2,    249.3,2,    34.01,2,    20.63,2,     0.00,2,     1.43,2, -999.000,9, -999.000,9, -999.000,9,   -999.0,9,   -999.0,9,  2.5522
     316N142_3,  AR15,   138,  5,     11,     11,2,19940516,1629,-18.1003, -32.8252, 4417,   3089.8,   2.7463,  34.9175,2,  34.9191,2,    251.3,2,    251.8,2,    33.68,2,    20.32,2,     0.00,2,     1.41,2, -999.000,9,    0.010,2,    0.075,2,   2177.9,2,   2328.1,2,  2.4917
     316N142_3,  AR15,   138,  5,     10,     10,2,19940516,1629,-18.1003, -32.8252, 4417,   3242.6,   2.6781,  34.9145,2,  34.9140,2,    252.1,2,    252.4,2,    34.32,2,    20.32,2,     0.00,2,     1.41,2, -999.000,9, -999.000,9, -999.000,9,   -999.0,9,   -999.0,9,  2.4090
     316N142_3,  AR15,   138,  5,      9,      9,2,19940516,1629,-18.1003, -32.8252, 4417,   3396.0,   2.5824,  34.9086,2,  34.9076,2,    252.8,2,    253.2,2,    35.92,2,    20.37,2,     0.00,2,     1.42,2, -999.000,9,    0.010,2,    0.139,2,   2177.7,2,   2327.8,2,  2.2993
     316N142_3,  AR15,   138,  5,      8,      8,2,19940516,1629,-18.1003, -32.8252, 4417,   3548.8,   2.4391,  34.8958,2,  34.8960,2,    252.1,2,    252.4,2,    39.76,2,    20.75,2,     0.00,2,     1.44,2, -999.000,9,    0.021,2,    0.366,2,   -999.0,9,   -999.0,9,  2.1430
     316N142_3,  AR15,   138,  5,      7,      7,2,19940516,1629,-18.1003, -32.8252, 4417,   3701.7,   2.2102,  34.8732,2,  34.8736,2,    250.1,2,    249.3,2,    48.29,2,    21.92,2,     0.00,2,     1.53,2, -999.000,9,    0.008,2,    0.167,2,   2192.6,2,   -999.0,9,  1.9034
     316N142_3,  AR15,   138,  5,      6,      6,2,19940516,1629,-18.1003, -32.8252, 4417,   3845.2,   1.8840,  34.8386,2,  34.8412,2,    244.7,2,    243.7,2,    61.05,2,    23.84,2,     0.00,2,     1.67,2, -999.000,9, -999.000,9, -999.000,9,   -999.0,9,   -999.0,9,  1.5705
     316N142_3,  AR15,   138,  5,      5,      5,2,19940516,1629,-18.1003, -32.8252, 4417,   3987.9,   1.6049,  34.8095,2,  34.8108,2,    239.3,2,    239.2,2,    72.45,2,    25.44,2,     0.00,2,     1.78,2, -999.000,9,    0.008,2,    0.143,2,   2215.7,2,   2347.4,2,  1.2836
     316N142_3,  AR15,   138,  5,      4,      4,2,19940516,1629,-18.1003, -32.8252, 4417,   4131.3,   1.3065,  34.7772,2,  34.7770,2,    233.7,2,    233.2,2,    85.90,2,    27.26,2,     0.00,2,     1.92,2, -999.000,9, -999.000,9, -999.000,9,   -999.0,9,   -999.0,9,  0.9782
     316N142_3,  AR15,   138,  5,      3,      3,2,19940516,1629,-18.1003, -32.8252, 4417,   4285.4,   1.0465,  34.7486,2,  34.7474,2,    229.1,2,    228.4,2,    97.66,2,    28.86,2,     0.00,2,     2.02,2, -999.000,9,    0.019,2,    0.140,2,   2240.6,2,   2358.0,2,  0.7092
     316N142_3,  AR15,   138,  5,      2,      2,2,19940516,1629,-18.1003, -32.8252, 4417,   4438.4,   0.6748,  34.7103,2,  34.7094,2,    222.9,2,    223.1,2,   112.91,2,    30.73,2,     0.00,2,     2.16,2, -999.000,9,    0.042,2,    0.265,2,   -999.0,9,   -999.0,9,  0.3322
     316N142_3,  AR15,   138,  5,      1,      1,2,19940516,1629,-18.1003, -32.8252, 4417,   4504.5,   0.6605,  34.7081,2,  34.7074,2,    222.5,2,    223.3,2,   113.25,2,    30.83,2,     0.00,2,     2.17,2, -999.000,9,    0.033,2,    0.308,2,   2251.1,2,   2364.6,2,  0.3111