BOTTLE,20020814WHPSIOKJU
EXPOCODE,SECT_ID,STNNBR,CASTNO,SAMPNO,BTLNBR,BTLNBR_FLAG_W,DATE,TIME,LATITUDE,LONGITUDE,DEPTH,CTDPRS,CTDTMP,CTDSAL,CTDSAL_FLAG_W,SALNTY,SALNTY_FLAG_W,CTDOXY,CTDOXY_FLAG_W,OXYGEN,OXYGEN_FLAG_W,SILCAT,SILCAT_FLAG_W,NITRAT,NITRAT_FLAG_W,NITRIT,NITRIT_FLAG_W,PHSPHT,PHSPHT_FLAG_W,CFC-11,CFC-11_FLAG_W,CFC-12,CFC-12_FLAG_W,CCL4,CCL4_FLAG_W,TCARBN,TCARBN_FLAG_W,ALKALI,ALKALI_FLAG_W,THETA
,,,,,,,,,,,,DBAR,ITS-90,PSS-78,,PSS-78,,UMOL/KG,,UMOL/KG,,UMOL/KG,,UMOL/KG,,UMOL/KG,,UMOL/KG,,PMOL/KG,,PMOL/KG,,PMOL/KG,,UMOL/KG,,UMOL/KG,,DEG C
     316N142_3,  AR15,   135,  1,     39,     39,2,19940515,1659,-17.8753, -31.1120, 4692,      9.8,  27.1560,  37.4459,2,  37.4460,2,    198.8,2,    200.8,2,     1.64,2,     0.00,2,     0.01,2,     0.07,2, -999.000,9, -999.000,9, -999.000,9,   -999.0,9,   -999.0,9, 27.1538
     316N142_3,  AR15,   135,  1,     35,     35,2,19940515,1659,-17.8753, -31.1120, 4692,     90.3,  24.6591,  37.0844,2,  37.0887,2,    216.7,2,    214.9,2,     1.79,2,     0.00,2,     0.01,2,     0.16,2, -999.000,9, -999.000,9, -999.000,9,   -999.0,9,   -999.0,9, 24.6395
     316N142_3,  AR15,   135,  1,     38,     38,2,19940515,1659,-17.8753, -31.1120, 4692,    165.6,  20.8081,  36.4317,2,  36.4296,2,    211.0,2,    201.1,2,     1.93,2,     0.42,2,     0.11,2,     0.29,2, -999.000,9, -999.000,9, -999.000,9,   -999.0,9,   -999.0,9, 20.7764
     316N142_3,  AR15,   135,  1,     33,     33,2,19940515,1659,-17.8753, -31.1120, 4692,    257.1,  15.5900,  35.5457,2,  35.5026,2,    194.9,2,    190.4,2,     3.95,2,     7.79,2,     0.01,2,     0.67,2, -999.000,9, -999.000,9, -999.000,9,   -999.0,9,   -999.0,9, 15.5498
     316N142_3,  AR15,   135,  1,     41,     41,2,19940515,1659,-17.8753, -31.1120, 4692,    346.6,  12.2740,  35.0851,2,  35.0761,2,    169.2,2,    166.3,2,     7.38,2,    16.44,2,     0.00,2,     1.18,2, -999.000,9, -999.000,9, -999.000,9,   -999.0,9,   -999.0,9, 12.2278
     316N142_3,  AR15,   135,  1,     31,     31,2,19940515,1659,-17.8753, -31.1120, 4692,    437.2,   9.3594,  34.7751,2,  34.7746,2,    158.5,2,    154.5,2,    12.68,2,    23.49,2,     0.00,2,     1.63,2, -999.000,9, -999.000,9, -999.000,9,   -999.0,9,   -999.0,9,  9.3103
     316N142_3,  AR15,   135,  1,     37,     37,2,19940515,1659,-17.8753, -31.1120, 4692,    543.2,   6.8065,  34.5522,2,  34.5519,2,    153.4,2,    155.0,2,    20.02,2,    29.12,2,     0.00,2,     2.00,2, -999.000,9, -999.000,9, -999.000,9,   -999.0,9,   -999.0,9,  6.7556
     316N142_3,  AR15,   135,  1,     29,     29,2,19940515,1659,-17.8753, -31.1120, 4692,    648.2,   5.3277,  34.4466,2,  34.4458,2,    164.7,2,    168.2,2,    26.11,2,    31.03,2,     0.00,2,     2.14,2, -999.000,9, -999.000,9, -999.000,9,   -999.0,9,   -999.0,9,  5.2738
     316N142_3,  AR15,   135,  1,     28,     28,2,19940515,1659,-17.8753, -31.1120, 4692,    748.9,   4.4315,  34.4155,2,  34.4137,2,    176.4,2,    176.8,2,    32.05,2,    31.88,2,     0.00,2,     2.22,2, -999.000,9, -999.000,9, -999.000,9,   -999.0,9,   -999.0,9,  4.3738
     316N142_3,  AR15,   135,  1,     27,     27,2,19940515,1659,-17.8753, -31.1120, 4692,    854.4,   3.9458,  34.4395,2,  34.4366,2,    179.2,2,    179.7,2,    36.89,2,    32.09,2,     0.00,2,     2.25,2, -999.000,9, -999.000,9, -999.000,9,   -999.0,9,   -999.0,9,  3.8826
     316N142_3,  AR15,   135,  1,     26,     26,2,19940515,1659,-17.8753, -31.1120, 4692,    960.3,   3.7166,  34.4986,2,  34.4988,2,    179.3,2,    181.3,2,    39.85,2,    31.77,2,     0.00,2,     2.22,2, -999.000,9, -999.000,9, -999.000,9,   -999.0,9,   -999.0,9,  3.6464
     316N142_3,  AR15,   135,  1,     25,     25,2,19940515,1659,-17.8753, -31.1120, 4692,   1066.6,   3.7186,  34.5815,2,  34.5829,2,    181.3,2,    182.1,2,    39.04,2,    30.86,2,     0.00,2,     2.14,2, -999.000,9, -999.000,9, -999.000,9,   -999.0,9,   -999.0,9,  3.6396
     316N142_3,  AR15,   135,  1,     24,     24,2,19940515,1659,-17.8753, -31.1120, 4692,   1172.4,   3.8386,  34.6750,2,  34.6751,2,    183.5,2,    185.7,2,    35.72,2,    29.38,2,     0.00,2,     2.03,2, -999.000,9, -999.000,9, -999.000,9,   -999.0,9,   -999.0,9,  3.7495
     316N142_3,  AR15,   135,  1,     23,     23,2,19940515,1659,-17.8753, -31.1120, 4692,   1278.7,   3.8742,  34.7553,2,  34.7544,2,    193.1,2,    194.3,2,    32.72,2,    27.68,2,     0.00,2,     1.90,2, -999.000,9, -999.000,9, -999.000,9,   -999.0,9,   -999.0,9,  3.7755
     316N142_3,  AR15,   135,  1,     22,     22,2,19940515,1659,-17.8753, -31.1120, 4692,   1395.2,   4.0226,  34.8555,2,  34.8561,2,    206.2,2,    208.5,2,    27.22,2,    24.97,2,     0.00,2,     1.70,2, -999.000,9, -999.000,9, -999.000,9,   -999.0,9,   -999.0,9,  3.9119
     316N142_3,  AR15,   135,  1,     21,     21,2,19940515,1659,-17.8753, -31.1120, 4692,   1517.2,   3.9406,  34.9057,2,  34.9056,2,    221.6,2,    222.9,2,    24.70,2,    22.95,2,     0.00,2,     1.56,2, -999.000,9, -999.000,9, -999.000,9,   -999.0,9,   -999.0,9,  3.8197
     316N142_3,  AR15,   135,  1,     20,     20,2,19940515,1659,-17.8753, -31.1120, 4692,   1647.4,   3.7632,  34.9281,2,  34.9278,2,    234.1,2,    233.8,2,    24.06,2,    21.68,2,     0.00,2,     1.48,2, -999.000,9, -999.000,9, -999.000,9,   -999.0,9,   -999.0,9,  3.6325
     316N142_3,  AR15,   135,  1,     19,     19,2,19940515,1659,-17.8753, -31.1120, 4692,   1768.2,   3.5590,  34.9283,2,  34.9288,2,    239.5,2,    238.5,2,    25.29,2,    21.25,2,     0.00,2,     1.45,2, -999.000,9, -999.000,9, -999.000,9,   -999.0,9,   -999.0,9,  3.4198
     316N142_3,  AR15,   135,  1,     40,     40,2,19940515,1659,-17.8753, -31.1120, 4692,   1900.7,   3.4523,  34.9392,2,  34.9412,2,    246.0,2,    245.0,2,    24.65,2,    20.51,2,     0.00,2,     1.40,2, -999.000,9, -999.000,9, -999.000,9,   -999.0,9,   -999.0,9,  3.3023
     316N142_3,  AR15,   135,  1,     17,     17,9,19940515,1659,-17.8753, -31.1120, 4692,   2074.2,   3.2896,  34.9377,2,-999.0000,9,    248.0,2,   -999.0,9,  -999.00,9,  -999.00,9,  -999.00,9,  -999.00,9, -999.000,9, -999.000,9, -999.000,9,   -999.0,9,   -999.0,9,  3.1257
     316N142_3,  AR15,   135,  1,     16,     16,2,19940515,1659,-17.8753, -31.1120, 4692,   2225.9,   3.1729,  34.9370,2,  34.9363,2,    251.0,2,    249.6,2,    27.28,2,    20.30,2,     0.00,2,     1.38,2, -999.000,9, -999.000,9, -999.000,9,   -999.0,9,   -999.0,9,  2.9966
     316N142_3,  AR15,   135,  1,     15,     15,2,19940515,1659,-17.8753, -31.1120, 4692,   2404.1,   3.0230,  34.9302,2,  34.9298,2,    250.5,2,    249.4,2,    29.76,2,    20.40,2,     0.00,2,     1.39,2, -999.000,9, -999.000,9, -999.000,9,   -999.0,9,   -999.0,9,  2.8321
     316N142_3,  AR15,   135,  1,     14,     14,2,19940515,1659,-17.8753, -31.1120, 4692,   2581.1,   2.9068,  34.9220,2,  34.9213,2,    249.2,2,    248.6,2,    32.23,2,    20.67,2,     0.00,2,     1.41,2, -999.000,9, -999.000,9, -999.000,9,   -999.0,9,   -999.0,9,  2.7007
     316N142_3,  AR15,   135,  1,     13,     13,2,19940515,1659,-17.8753, -31.1120, 4692,   2759.9,   2.8338,  34.9172,2,  34.9166,2,    248.6,2,    248.3,2,    33.93,2,    20.83,2,     0.00,2,     1.43,2, -999.000,9, -999.000,9, -999.000,9,   -999.0,9,   -999.0,9,  2.6113
     316N142_3,  AR15,   135,  1,     12,     12,2,19940515,1659,-17.8753, -31.1120, 4692,   2938.8,   2.7622,  34.9138,2,  34.9133,2,    249.4,2,    248.6,2,    35.16,2,    20.88,2,     0.00,2,     1.43,2, -999.000,9, -999.000,9, -999.000,9,   -999.0,9,   -999.0,9,  2.5230
     316N142_3,  AR15,   135,  1,     11,     11,2,19940515,1659,-17.8753, -31.1120, 4692,   3141.8,   2.7001,  34.9115,2,  34.9123,2,    249.7,2,    249.8,2,    35.61,2,    20.77,2,     0.00,2,     1.42,2, -999.000,9, -999.000,9, -999.000,9,   -999.0,9,   -999.0,9,  2.4412
     316N142_3,  AR15,   135,  1,     10,     10,2,19940515,1659,-17.8753, -31.1120, 4692,   3320.4,   2.6468,  34.9109,2,  34.9104,2,    251.9,2,    252.3,2,    35.27,2,    20.51,2,     0.00,2,     1.41,2, -999.000,9, -999.000,9, -999.000,9,   -999.0,9,   -999.0,9,  2.3702
     316N142_3,  AR15,   135,  1,      9,      9,2,19940515,1659,-17.8753, -31.1120, 4692,   3498.2,   2.5493,  34.9039,2,  34.9031,2,    252.2,2,    252.8,2,    37.28,2,    20.66,2,     0.00,2,     1.42,2, -999.000,9, -999.000,9, -999.000,9,   -999.0,9,   -999.0,9,  2.2559
     316N142_3,  AR15,   135,  1,      8,      8,2,19940515,1659,-17.8753, -31.1120, 4692,   3676.5,   2.3894,  34.8899,2,  34.8888,2,    251.6,2,    251.2,2,    42.10,2,    21.24,2,     0.00,2,     1.46,2, -999.000,9, -999.000,9, -999.000,9,   -999.0,9,   -999.0,9,  2.0806
     316N142_3,  AR15,   135,  1,      7,      7,2,19940515,1659,-17.8753, -31.1120, 4692,   3854.4,   2.1158,  34.8618,2,  34.8611,2,    248.2,2,    247.7,2,    52.73,2,    22.73,2,     0.00,2,     1.56,2, -999.000,9, -999.000,9, -999.000,9,   -999.0,9,   -999.0,9,  1.7948
     316N142_3,  AR15,   135,  1,      6,      6,2,19940515,1659,-17.8753, -31.1120, 4692,   4033.4,   1.7840,  34.8270,2,  34.8267,2,    243.1,2,    241.8,2,    65.95,2,    24.63,2,     0.00,2,     1.70,2, -999.000,9, -999.000,9, -999.000,9,   -999.0,9,   -999.0,9,  1.4525
     316N142_3,  AR15,   135,  1,      5,      5,2,19940515,1659,-17.8753, -31.1120, 4692,   4213.2,   1.4360,  34.7884,2,  34.7875,2,    235.0,2,    235.3,2,    81.35,2,    26.76,2,     0.00,2,     1.85,2, -999.000,9, -999.000,9, -999.000,9,   -999.0,9,   -999.0,9,  1.0948
     316N142_3,  AR15,   135,  1,      4,      4,2,19940515,1659,-17.8753, -31.1120, 4692,   4366.6,   1.1225,  34.7548,2,  34.7545,2,    230.4,2,    229.8,2,    94.17,2,    28.45,2,     0.00,2,     1.97,2, -999.000,9, -999.000,9, -999.000,9,   -999.0,9,   -999.0,9,  0.7738
     316N142_3,  AR15,   135,  1,      3,      3,2,19940515,1659,-17.8753, -31.1120, 4692,   4522.1,   0.7556,  34.7165,2,  34.7160,2,    226.3,2,    225.0,2,   108.60,2,    30.35,2,     0.00,2,     2.11,2, -999.000,9, -999.000,9, -999.000,9,   -999.0,9,   -999.0,9,  0.4012
     316N142_3,  AR15,   135,  1,      2,      2,2,19940515,1659,-17.8753, -31.1120, 4692,   4674.1,   0.4005,  34.6830,2,  34.6833,2,    222.3,2,    221.6,2,   121.40,2,    31.89,2,     0.00,2,     2.23,2, -999.000,9,    0.049,2,    0.463,2,   -999.0,9,   -999.0,9,  0.0408
     316N142_3,  AR15,   135,  1,      1,      1,2,19940515,1659,-17.8753, -31.1120, 4692,   4790.1,   0.4045,  34.6816,2,  34.6811,2,    221.8,2,    221.9,2,   122.18,2,    31.95,2,     0.00,2,     2.23,2, -999.000,9,    0.051,2,    0.462,2,   -999.0,9,   -999.0,9,  0.0317