BOTTLE,20020814WHPSIOKJU
EXPOCODE,SECT_ID,STNNBR,CASTNO,SAMPNO,BTLNBR,BTLNBR_FLAG_W,DATE,TIME,LATITUDE,LONGITUDE,DEPTH,CTDPRS,CTDTMP,CTDSAL,CTDSAL_FLAG_W,SALNTY,SALNTY_FLAG_W,CTDOXY,CTDOXY_FLAG_W,OXYGEN,OXYGEN_FLAG_W,SILCAT,SILCAT_FLAG_W,NITRAT,NITRAT_FLAG_W,NITRIT,NITRIT_FLAG_W,PHSPHT,PHSPHT_FLAG_W,CFC-11,CFC-11_FLAG_W,CFC-12,CFC-12_FLAG_W,CCL4,CCL4_FLAG_W,TCARBN,TCARBN_FLAG_W,ALKALI,ALKALI_FLAG_W,THETA
,,,,,,,,,,,,DBAR,ITS-90,PSS-78,,PSS-78,,UMOL/KG,,UMOL/KG,,UMOL/KG,,UMOL/KG,,UMOL/KG,,UMOL/KG,,PMOL/KG,,PMOL/KG,,PMOL/KG,,UMOL/KG,,UMOL/KG,,DEG C
     316N142_3,  AR15,   115,  1,     39,     39,2,19940510,0837,-18.6685, -20.5775, 4670,      6.5,  25.8448,  37.0360,2,  37.0373,2,    204.5,2,    205.7,2,     1.47,2,     0.06,2,     0.00,2,     0.22,2, -999.000,9, -999.000,9, -999.000,9,   2073.9,2,   2428.7,2, 25.8434
     316N142_3,  AR15,   115,  1,     35,     35,2,19940510,0837,-18.6685, -20.5775, 4670,     54.9,  25.8514,  37.0364,2,  37.0397,2,    207.8,2,    205.5,2,     1.34,2,     0.12,2,     0.00,2,     0.21,2, -999.000,9, -999.000,9, -999.000,9,   2074.0,2,   2429.0,2, 25.8391
     316N142_3,  AR15,   115,  1,     38,     38,2,19940510,0837,-18.6685, -20.5775, 4670,     95.5,  23.1208,  36.5612,2,  36.5651,2,    230.3,2,    227.8,2,     1.44,2,     0.06,2,     0.00,2,     0.20,2, -999.000,9, -999.000,9, -999.000,9,   2064.2,2,   2399.1,2, 23.1011
     316N142_3,  AR15,   115,  1,     33,     33,2,19940510,0837,-18.6685, -20.5775, 4670,    155.7,  18.4552,  35.9734,2,  35.9626,2,    214.6,2,    207.0,2,     1.92,2,     0.36,2,     0.14,2,     0.37,2, -999.000,9, -999.000,9, -999.000,9,   2088.7,2,   2361.2,2, 18.4279
     316N142_3,  AR15,   115,  1,     41,     41,2,19940510,0837,-18.6685, -20.5775, 4670,    256.8,  14.3628,  35.3557,2,  35.3531,2,    188.6,2,    181.9,2,     4.44,2,     9.49,2,     0.01,2,     0.84,2, -999.000,9, -999.000,9, -999.000,9,   2114.4,2,   2321.6,2, 14.3249
     316N142_3,  AR15,   115,  1,     31,     31,2,19940510,0837,-18.6685, -20.5775, 4670,    356.0,  11.3107,  34.9677,2,  34.9674,2,    168.2,2,    165.0,2,     8.06,2,    18.00,2,     0.00,2,     1.30,2, -999.000,9, -999.000,9, -999.000,9,   2144.2,2,   2301.8,2, 11.2657
     316N142_3,  AR15,   115,  1,     37,     37,2,19940510,0837,-18.6685, -20.5775, 4670,    465.5,   8.6182,  34.6947,2,  34.6955,2,    153.4,2,    151.9,2,    14.22,2,    26.28,2,     0.00,2,     1.76,2, -999.000,9, -999.000,9, -999.000,9,   2173.4,2,   2292.6,2,  8.5684
     316N142_3,  AR15,   115,  1,     29,     29,2,19940510,0837,-18.6685, -20.5775, 4670,    601.0,   5.9122,  34.4790,2,  34.4786,2,    162.7,2,    162.1,2,    22.95,2,    32.12,2,     0.00,2,     2.11,2, -999.000,9, -999.000,9, -999.000,9,   2193.5,2,   2292.8,2,  5.8597
     316N142_3,  AR15,   115,  1,     28,     28,2,19940510,0837,-18.6685, -20.5775, 4670,    738.2,   4.3987,  34.4210,2,  34.4188,2,    171.7,2,    175.9,2,    32.21,2,    33.71,2,     0.00,2,     2.25,2, -999.000,9, -999.000,9, -999.000,9,   -999.0,9,   -999.0,9,  4.3421
     316N142_3,  AR15,   115,  1,     27,     27,2,19940510,0837,-18.6685, -20.5775, 4670,    869.5,   3.8954,  34.4463,2,  34.4449,2,    176.0,2,    180.2,2,    37.48,2,    33.85,2,     0.00,2,     2.26,2, -999.000,9, -999.000,9, -999.000,9,   -999.0,9,   -999.0,9,  3.8313
     316N142_3,  AR15,   115,  1,     26,     26,2,19940510,0837,-18.6685, -20.5775, 4670,   1001.2,   3.6863,  34.5427,2,  34.5398,2,    178.3,2,    181.4,2,    39.44,2,    32.87,2,     0.00,2,     2.20,2, -999.000,9, -999.000,9, -999.000,9,   -999.0,9,   -999.0,9,  3.6129
     316N142_3,  AR15,   115,  1,     25,     25,2,19940510,0837,-18.6685, -20.5775, 4670,   1131.2,   3.7197,  34.6489,2,  34.6485,2,    182.2,2,    186.4,2,    37.22,2,    30.88,2,     0.00,2,     2.07,2, -999.000,9, -999.000,9, -999.000,9,   -999.0,9,   -999.0,9,  3.6352
     316N142_3,  AR15,   115,  1,     24,     24,2,19940510,0837,-18.6685, -20.5775, 4670,   1262.7,   3.7662,  34.7321,2,  34.7305,2,    193.3,2,    193.8,2,    34.02,2,    29.07,2,     0.00,2,     1.96,2, -999.000,9, -999.000,9, -999.000,9,   -999.0,9,   -999.0,9,  3.6700
     316N142_3,  AR15,   115,  1,     23,     23,2,19940510,0837,-18.6685, -20.5775, 4670,   1393.5,   3.7375,  34.8048,2,  34.8047,2,    206.0,2,    205.4,2,    31.33,2,    26.83,2,     0.00,2,     1.82,2, -999.000,9, -999.000,9, -999.000,9,   -999.0,9,   -999.0,9,  3.6301
     316N142_3,  AR15,   115,  1,     22,     22,2,19940510,0837,-18.6685, -20.5775, 4670,   1525.8,   3.6123,  34.8551,2,  34.8552,2,    219.0,2,    217.9,2,    29.98,2,    24.83,2,     0.00,2,     1.68,2, -999.000,9, -999.000,9, -999.000,9,   -999.0,9,   -999.0,9,  3.4945
     316N142_3,  AR15,   115,  1,     21,     21,2,19940510,0837,-18.6685, -20.5775, 4670,   1657.4,   3.4703,  34.8806,2,  34.8794,2,    227.3,2,    226.3,2,    29.85,2,    23.59,2,     0.00,2,     1.61,2, -999.000,9, -999.000,9, -999.000,9,   -999.0,9,   -999.0,9,  3.3424
     316N142_3,  AR15,   115,  1,     20,     20,2,19940510,0837,-18.6685, -20.5775, 4670,   1778.4,   3.4222,  34.9133,2,  34.9118,2,    238.0,2,    237.0,2,    27.52,2,    21.90,2,     0.00,2,     1.51,2, -999.000,9, -999.000,9, -999.000,9,   -999.0,9,   -999.0,9,  3.2839
     316N142_3,  AR15,   115,  1,     19,     19,2,19940510,0837,-18.6685, -20.5775, 4670,   1900.5,   3.2770,  34.9209,2,  34.9202,2,    244.4,2,    241.9,2,    28.25,2,    21.28,2,     0.00,2,     1.47,2, -999.000,9, -999.000,9, -999.000,9,   -999.0,9,   -999.0,9,  3.1295
     316N142_3,  AR15,   115,  1,     40,     40,2,19940510,0837,-18.6685, -20.5775, 4670,   1950.7,   3.1974,  34.9164,2,  34.9149,2,    241.1,2,    241.1,2,    29.83,2,    21.42,2,     0.00,2,     1.49,2, -999.000,9, -999.000,9, -999.000,9,   -999.0,9,   -999.0,9,  3.0465
     316N142_3,  AR15,   115,  1,     17,     17,2,19940510,0837,-18.6685, -20.5775, 4670,   2031.6,   3.1850,  34.9280,2,  34.9271,2,    246.6,2,    245.8,2,    28.24,2,    20.61,2,     0.00,2,     1.44,2, -999.000,9, -999.000,9, -999.000,9,   -999.0,9,   -999.0,9,  3.0268
     316N142_3,  AR15,   115,  1,     16,     16,2,19940510,0837,-18.6685, -20.5775, 4670,   2174.8,   3.0161,  34.9189,2,  34.9171,2,    246.1,2,    245.2,2,    31.54,2,    21.00,2,     0.00,2,     1.47,2, -999.000,9, -999.000,9, -999.000,9,   -999.0,9,   -999.0,9,  2.8472
     316N142_3,  AR15,   115,  1,     15,     15,2,19940510,0837,-18.6685, -20.5775, 4670,   2326.9,   2.8790,  34.9063,2,  34.9055,2,    243.2,2,    243.0,2,    35.46,2,    21.59,2,     0.00,2,     1.50,2, -999.000,9, -999.000,9, -999.000,9,   -999.0,9,   -999.0,9,  2.6981
     316N142_3,  AR15,   115,  1,     14,     14,2,19940510,0837,-18.6685, -20.5775, 4670,   2479.6,   2.8229,  34.9052,2,  34.9038,2,    243.5,2,    243.3,2,    36.57,2,    21.60,2,     0.00,2,     1.50,2, -999.000,9, -999.000,9, -999.000,9,   -999.0,9,   -999.0,9,  2.6283
     316N142_3,  AR15,   115,  1,     13,     13,2,19940510,0837,-18.6685, -20.5775, 4670,   2631.4,   2.7903,  34.9065,2,  34.9060,2,    243.5,2,    244.4,2,    36.56,2,    21.48,2,     0.00,2,     1.49,2, -999.000,9, -999.000,9, -999.000,9,   -999.0,9,   -999.0,9,  2.5815
     316N142_3,  AR15,   115,  1,     12,     12,2,19940510,0837,-18.6685, -20.5775, 4670,   2773.7,   2.7704,  34.9102,2,  34.9099,2,    244.0,2,    246.4,2,    35.82,2,    21.12,2,     0.00,2,     1.47,2, -999.000,9, -999.000,9, -999.000,9,   -999.0,9,   -999.0,9,  2.5479
     316N142_3,  AR15,   115,  1,     11,     11,2,19940510,0837,-18.6685, -20.5775, 4670,   2915.5,   2.7271,  34.9082,2,  34.9089,2,    247.4,2,    247.1,2,    36.56,2,    21.19,2,     0.00,2,     1.47,2, -999.000,9, -999.000,9, -999.000,9,   -999.0,9,   -999.0,9,  2.4910
     316N142_3,  AR15,   115,  1,     10,     10,2,19940510,0837,-18.6685, -20.5775, 4670,   3089.9,   2.6720,  34.9062,2,  34.9050,2,    247.7,2,    247.8,2,    37.42,2,    21.14,2,     0.00,2,     1.47,2, -999.000,9, -999.000,9, -999.000,9,   -999.0,9,   -999.0,9,  2.4192
     316N142_3,  AR15,   115,  1,      9,      9,2,19940510,0837,-18.6685, -20.5775, 4670,   3293.4,   2.5991,  34.9052,2,  34.9042,2,    249.8,2,    250.5,2,    37.05,2,    20.83,2,     0.00,2,     1.46,2, -999.000,9, -999.000,9, -999.000,9,   -999.0,9,   -999.0,9,  2.3266
     316N142_3,  AR15,   115,  1,      8,      8,2,19940510,0837,-18.6685, -20.5775, 4670,   3497.2,   2.4643,  34.8930,2,  34.8928,2,    249.4,2,    249.6,2,    41.37,2,    21.55,2,     0.00,2,     1.49,2, -999.000,9, -999.000,9, -999.000,9,   -999.0,9,   -999.0,9,  2.1732
     316N142_3,  AR15,   115,  1,      7,      7,2,19940510,0837,-18.6685, -20.5775, 4670,   3701.0,   2.2282,  34.8701,2,  34.8703,2,    247.0,2,    247.2,2,    50.19,2,    22.89,2,     0.00,2,     1.56,2, -999.000,9, -999.000,9, -999.000,9,   -999.0,9,   -999.0,9,  1.9210
     316N142_3,  AR15,   115,  1,      6,      6,2,19940510,0837,-18.6685, -20.5775, 4670,   3906.7,   1.9427,  34.8405,2,  34.8400,2,    241.9,2,    242.5,2,    62.24,2,    24.68,2,     0.00,2,     1.68,2, -999.000,9, -999.000,9, -999.000,9,   -999.0,9,   -999.0,9,  1.6207
     316N142_3,  AR15,   115,  1,      5,      5,2,19940510,0837,-18.6685, -20.5775, 4670,   4110.7,   1.5741,  34.8037,2,  34.8026,2,    238.0,2,    237.6,2,    76.93,2,    26.86,2,     0.00,2,     1.81,2, -999.000,9, -999.000,9, -999.000,9,   -999.0,9,   -999.0,9,  1.2402
     316N142_3,  AR15,   115,  1,      4,      4,2,19940510,0837,-18.6685, -20.5775, 4670,   4314.3,   1.3041,  34.7743,2,  34.7739,2,    233.0,2,    233.3,2,    88.38,2,    28.52,2,     0.00,2,     1.94,2, -999.000,9, -999.000,9, -999.000,9,   -999.0,9,   -999.0,9,  0.9556
     316N142_3,  AR15,   115,  1,      3,      3,2,19940510,0837,-18.6685, -20.5775, 4670,   4519.5,   1.1596,  34.7584,2,  34.7570,2,    230.5,2,    230.8,2,    94.71,2,    29.37,2,     0.00,2,     1.99,2, -999.000,9, -999.000,9, -999.000,9,   -999.0,9,   -999.0,9,  0.7925
     316N142_3,  AR15,   115,  1,      2,      2,2,19940510,0837,-18.6685, -20.5775, 4670,   4723.4,   1.0353,  34.7445,2,  34.7451,2,    229.3,2,    229.1,2,    99.92,2,    30.02,2,     0.00,2,     2.04,2, -999.000,9, -999.000,9, -999.000,9,   -999.0,9,   -999.0,9,  0.6488
     316N142_3,  AR15,   115,  1,      1,      1,2,19940510,0837,-18.6685, -20.5775, 4670,   4907.0,   0.9317,  34.7319,2,  34.7327,2,    226.8,2,    227.0,2,   104.63,2,    30.74,2,     0.00,2,     2.08,2, -999.000,9, -999.000,9, -999.000,9,   -999.0,9,   -999.0,9,  0.5274