BOTTLE,20020814WHPSIOKJU
EXPOCODE,SECT_ID,STNNBR,CASTNO,SAMPNO,BTLNBR,BTLNBR_FLAG_W,DATE,TIME,LATITUDE,LONGITUDE,DEPTH,CTDPRS,CTDTMP,CTDSAL,CTDSAL_FLAG_W,SALNTY,SALNTY_FLAG_W,CTDOXY,CTDOXY_FLAG_W,OXYGEN,OXYGEN_FLAG_W,SILCAT,SILCAT_FLAG_W,NITRAT,NITRAT_FLAG_W,NITRIT,NITRIT_FLAG_W,PHSPHT,PHSPHT_FLAG_W,CFC-11,CFC-11_FLAG_W,CFC-12,CFC-12_FLAG_W,CCL4,CCL4_FLAG_W,TCARBN,TCARBN_FLAG_W,ALKALI,ALKALI_FLAG_W,THETA
,,,,,,,,,,,,DBAR,ITS-90,PSS-78,,PSS-78,,UMOL/KG,,UMOL/KG,,UMOL/KG,,UMOL/KG,,UMOL/KG,,UMOL/KG,,PMOL/KG,,PMOL/KG,,PMOL/KG,,UMOL/KG,,UMOL/KG,,DEG C
     316N142_3,   A15,    96,  1,     39,     39,2,19940502,1455,-25.7007, -19.0020, 3797,      6.8,  24.2073,  36.5569,2,  36.5591,2,    200.8,4,    212.5,2,     1.90,2,     0.06,2,     0.00,2,     0.12,2,    1.979,2,    1.089,2,    2.888,2,   2056.2,2,   2400.2,2, 24.2059
     316N142_3,   A15,    96,  1,     35,     35,2,19940502,1455,-25.7007, -19.0020, 3797,     70.4,  20.4251,  36.1253,2,  36.1252,2,    229.3,4,    236.5,2,     1.74,2,     0.06,2,     0.00,2,     0.13,2,    2.331,2,    1.297,2,    2.133,2,   2054.7,2,   2370.5,2, 20.4118
     316N142_3,   A15,    96,  1,     38,     38,2,19940502,1455,-25.7007, -19.0020, 3797,    135.7,  17.8812,  35.8316,2,  35.8315,2,    222.8,2,    222.2,2,     1.87,2,     0.11,2,     0.09,2,     0.23,2,    2.483,2,    1.357,2,    2.246,2,   2072.6,2,   2356.9,2, 17.8579
     316N142_3,   A15,    96,  1,     33,     33,2,19940502,1455,-25.7007, -19.0020, 3797,    205.0,  15.4934,  35.4728,2,  35.4727,2,    217.2,2,    216.0,2,     2.72,2,     3.60,2,     0.00,2,     0.45,2,    2.565,2,    1.405,2,    1.276,2,   2084.3,2,   2331.5,2, 15.4615
     316N142_3,   A15,    96,  1,     41,     41,2,19940502,1455,-25.7007, -19.0020, 3797,    275.7,  13.7712,  35.2421,2,  35.2428,2,    213.7,2,    211.3,2,     3.72,2,     7.54,2,     0.00,2,     0.67,2, -999.000,9, -999.000,9, -999.000,9,   2100.1,2,   2318.1,2, 13.7316
     316N142_3,   A15,    96,  1,     31,     31,2,19940502,1455,-25.7007, -19.0020, 3797,    345.2,  12.4421,  35.0877,2,  35.0880,2,    210.0,2,    207.3,2,     5.00,2,    11.13,2,     0.00,2,     0.88,2,    2.379,2,    1.257,2,    0.923,2,   2111.2,2,   2312.8,2, 12.3956
     316N142_3,   A15,    96,  1,     37,     37,2,19940502,1455,-25.7007, -19.0020, 3797,    417.3,  10.7866,  34.8910,2,  34.8927,2,    204.7,2,    203.2,2,     7.01,2,    15.48,2,     0.00,2,     1.14,2,    2.033,2,    1.128,2,    1.266,2,   2126.1,2,   2305.1,2, 10.7354
     316N142_3,   A15,    96,  1,     29,     29,2,19940502,1455,-25.7007, -19.0020, 3797,    507.2,   8.8701,  34.6767,2,  34.6787,2,    199.1,2,    198.1,2,    11.04,2,    20.75,2,     0.00,2,     1.46,2,    1.797,2,    0.945,2,    1.629,2,   2146.7,2,   2301.1,2,  8.8147
     316N142_3,   A15,    96,  1,     28,     28,2,19940502,1455,-25.7007, -19.0020, 3797,    591.9,   7.2663,  34.5257,2,  34.5259,2,    197.8,2,    197.3,2,    15.50,2,    24.95,2,     0.00,2,     1.73,2,    1.559,6,    0.776,6,    1.899,6,   2160.4,2,   2293.9,2,  7.2086
     316N142_3,   A15,    96,  1,     27,     27,2,19940502,1455,-25.7007, -19.0020, 3797,    676.7,   6.0213,  34.4264,2,  34.4252,2,    200.2,2,    201.3,2,    20.12,2,    27.69,2,     0.00,2,     1.91,2,    1.234,2,    0.653,2,    2.026,2,   -999.0,9,   -999.0,9,  5.9613
     316N142_3,   A15,    96,  1,     26,     26,2,19940502,1455,-25.7007, -19.0020, 3797,    766.6,   4.9341,  34.3722,2,  34.3720,2,    200.4,2,    201.5,2,    26.62,2,    30.04,2,     0.00,2,     2.06,2,    0.953,2,    0.460,2,    2.066,2,   -999.0,9,   -999.0,9,  4.8721
     316N142_3,   A15,    96,  1,     25,     25,2,19940502,1455,-25.7007, -19.0020, 3797,    846.9,   4.2127,  34.3557,2,  34.3540,2,    200.6,2,    202.8,2,    33.28,2,    31.33,2,     0.00,2,     2.16,2,    0.836,2,    0.401,2,    2.273,2,   -999.0,9,   -999.0,9,  4.1484
     316N142_3,   A15,    96,  1,     24,     24,2,19940502,1455,-25.7007, -19.0020, 3797,    970.3,   3.6220,  34.4058,2,  34.4030,2,    192.9,2,    193.1,2,    43.17,2,    32.58,2,     0.00,2,     2.25,2,    0.494,2,    0.191,2,    1.324,2,   -999.0,9,   -999.0,9,  3.5518
     316N142_3,   A15,    96,  1,     23,     23,2,19940502,1455,-25.7007, -19.0020, 3797,   1091.6,   3.2954,  34.4888,2,  34.4879,2,    185.9,2,    186.6,2,    50.76,2,    32.72,2,     0.00,2,     2.26,2,    0.243,2,    0.099,2,    0.693,2,   -999.0,9,   -999.0,9,  3.2180
     316N142_3,   A15,    96,  1,     22,     22,2,19940502,1455,-25.7007, -19.0020, 3797,   1212.1,   3.1404,  34.5544,2,  34.5520,2,    186.9,2,    185.8,2,    54.26,2,    32.17,2,     0.00,2,     2.23,2, -999.000,9, -999.000,9, -999.000,9,   -999.0,9,   -999.0,9,  3.0547
     316N142_3,   A15,    96,  1,     21,     21,2,19940502,1455,-25.7007, -19.0020, 3797,   1344.6,   3.0402,  34.6571,2,  34.6567,2,    191.1,2,    191.7,2,    53.65,2,    30.29,2,     0.00,2,     2.11,2, -999.000,9,    0.015,6,    0.237,6,   -999.0,9,   -999.0,9,  2.9445
     316N142_3,   A15,    96,  1,     20,     20,2,19940502,1455,-25.7007, -19.0020, 3797,   1474.9,   2.9890,  34.7374,2,  34.7370,2,    201.7,2,    203.2,2,    49.97,2,    28.04,2,     0.00,2,     1.94,2, -999.000,9, -999.000,9, -999.000,9,   -999.0,9,   -999.0,9,  2.8830
     316N142_3,   A15,    96,  1,     19,     19,2,19940502,1455,-25.7007, -19.0020, 3797,   1608.1,   2.9526,  34.7808,2,  34.7795,2,    211.5,2,    212.2,2,    47.02,2,    26.58,2,     0.00,2,     1.83,2, -999.000,9,    0.009,2,    0.092,2,   -999.0,9,   -999.0,9,  2.8357
     316N142_3,   A15,    96,  1,     40,     40,2,19940502,1455,-25.7007, -19.0020, 3797,   1746.6,   2.9993,  34.8351,2,  34.8345,2,    224.4,2,    224.9,2,    40.87,2,    24.44,2,     0.00,2,     1.69,2, -999.000,9, -999.000,9, -999.000,9,   -999.0,9,   -999.0,9,  2.8697
     316N142_3,   A15,    96,  1,     17,     17,2,19940502,1455,-25.7007, -19.0020, 3797,   1829.6,   3.0175,  34.8568,2,  34.8563,2,    229.5,2,    230.3,2,    38.09,2,    23.58,2,     0.00,2,     1.61,2, -999.000,9,    0.006,2,    0.048,2,   -999.0,9,   -999.0,9,  2.8803
     316N142_3,   A15,    96,  1,     16,     16,2,19940502,1455,-25.7007, -19.0020, 3797,   1920.2,   3.0315,  34.8811,2,  34.8810,2,    237.3,2,    236.7,2,    34.87,2,    22.54,2,     0.00,2,     1.55,2, -999.000,9, -999.000,9, -999.000,9,   -999.0,9,   -999.0,9,  2.8859
     316N142_3,   A15,    96,  1,     15,     15,2,19940502,1455,-25.7007, -19.0020, 3797,   2046.3,   3.0066,  34.8974,2,  34.8977,2,    241.5,2,    241.7,2,    33.11,2,    21.81,2,     0.00,2,     1.49,2, -999.000,9,    0.002,2, -999.000,9,   -999.0,9,   -999.0,9,  2.8499
     316N142_3,   A15,    96,  1,     14,     14,2,19940502,1455,-25.7007, -19.0020, 3797,   2172.1,   2.9902,  34.9133,2,  34.9136,2,    247.0,2,    246.5,2,    31.36,2,    21.09,2,     0.00,2,     1.43,2, -999.000,9, -999.000,9, -999.000,9,   -999.0,9,   -999.0,9,  2.8220
     316N142_3,   A15,    96,  1,     13,     13,2,19940502,1455,-25.7007, -19.0020, 3797,   2326.2,   2.9520,  34.9214,2,  34.9217,2,    249.1,2,    249.5,2,    30.76,2,    20.68,2,     0.00,2,     1.40,2, -999.000,9,    0.010,2,    0.036,2,   -999.0,9,   -999.0,9,  2.7699
     316N142_3,   A15,    96,  1,     12,     12,2,19940502,1455,-25.7007, -19.0020, 3797,   2479.2,   2.8980,  34.9232,2,  34.9234,2,    250.9,2,    250.8,2,    31.32,2,    20.46,2,     0.00,2,     1.40,2, -999.000,9,    0.015,2,    0.106,2,   -999.0,9,   -999.0,9,  2.7020
     316N142_3,   A15,    96,  1,     11,     11,2,19940502,1455,-25.7007, -19.0020, 3797,   2629.8,   2.8237,  34.9215,2,  34.9221,2,    252.8,2,    251.7,2,    32.32,2,    20.55,2,     0.00,2,     1.40,2, -999.000,9, -999.000,9, -999.000,9,   -999.0,9,   -999.0,9,  2.6144
     316N142_3,   A15,    96,  1,     10,     10,2,19940502,1455,-25.7007, -19.0020, 3797,   2783.1,   2.7760,  34.9193,2,  34.9195,2,    252.2,2,    251.9,2,    33.33,2,    20.60,2,     0.00,2,     1.40,2, -999.000,9, -999.000,9, -999.000,9,   -999.0,9,   -999.0,9,  2.5524
     316N142_3,   A15,    96,  1,      9,      9,2,19940502,1455,-25.7007, -19.0020, 3797,   2935.9,   2.6653,  34.9126,2,  34.9126,2,    251.8,2,    252.2,2,    35.78,2,    20.79,2,     0.00,2,     1.42,2, -999.000,9, -999.000,9, -999.000,9,   -999.0,9,   -999.0,9,  2.4285
     316N142_3,   A15,    96,  1,      8,      8,2,19940502,1455,-25.7007, -19.0020, 3797,   3060.7,   2.6051,  34.9068,2,  34.9075,2,    249.9,2,    251.8,2,    37.80,2,    21.02,2,     0.00,2,     1.43,2, -999.000,9, -999.000,9, -999.000,9,   -999.0,9,   -999.0,9,  2.3568
     316N142_3,   A15,    96,  1,      7,      7,2,19940502,1455,-25.7007, -19.0020, 3797,   3188.8,   2.5195,  34.8988,2,  34.8996,2,    250.6,2,    251.2,2,    40.70,2,    21.39,2,     0.00,2,     1.46,2, -999.000,9, -999.000,9, -999.000,9,   -999.0,9,   -999.0,9,  2.2598
     316N142_3,   A15,    96,  1,      6,      6,2,19940502,1455,-25.7007, -19.0020, 3797,   3318.0,   2.3689,  34.8840,2,  34.8851,2,    249.1,2,    249.3,2,    46.52,2,    22.17,2,     0.00,2,     1.51,2, -999.000,9, -999.000,9, -999.000,9,   -999.0,9,   -999.0,9,  2.0992
     316N142_3,   A15,    96,  1,      5,      5,2,19940502,1455,-25.7007, -19.0020, 3797,   3445.7,   2.2208,  34.8692,2,  34.8696,2,    246.6,2,    247.0,2,    52.80,2,    23.00,2,     0.00,2,     1.57,2, -999.000,9, -999.000,9, -999.000,9,   -999.0,9,   -999.0,9,  1.9413
     316N142_3,   A15,    96,  1,      4,      4,2,19940502,1455,-25.7007, -19.0020, 3797,   3573.7,   1.9468,  34.8411,2,  34.8407,2,    244.0,2,    242.3,3,    64.43,2,    24.51,2,     0.00,2,     1.68,2, -999.000,9, -999.000,9, -999.000,9,   -999.0,9,   -999.0,9,  1.6608
     316N142_3,   A15,    96,  1,      3,      3,2,19940502,1455,-25.7007, -19.0020, 3797,   3701.3,   1.8430,  34.8296,2,  34.8293,2,    241.3,2,    241.1,2,    69.60,2,    25.20,2,     0.00,2,     1.73,2, -999.000,9, -999.000,9, -999.000,9,   -999.0,9,   -999.0,9,  1.5461
     316N142_3,   A15,    96,  1,      2,      2,2,19940502,1455,-25.7007, -19.0020, 3797,   3826.5,   1.7104,  34.8153,2,  34.8160,2,    238.6,2,    238.5,2,    75.39,2,    25.89,2,     0.00,2,     1.78,2, -999.000,9, -999.000,9, -999.000,9,   -999.0,9,   -999.0,9,  1.4036
     316N142_3,   A15,    96,  1,      1,      1,2,19940502,1455,-25.7007, -19.0020, 3797,   3952.6,   1.6684,  34.8098,2,  34.8103,2,    237.1,2,    237.7,2,    77.16,2,    26.12,2,     0.00,2,     1.80,2, -999.000,9,    0.009,2,    0.061,2,   -999.0,9,   -999.0,9,  1.3491