BOTTLE,20020814WHPSIOKJU
EXPOCODE,SECT_ID,STNNBR,CASTNO,SAMPNO,BTLNBR,BTLNBR_FLAG_W,DATE,TIME,LATITUDE,LONGITUDE,DEPTH,CTDPRS,CTDTMP,CTDSAL,CTDSAL_FLAG_W,SALNTY,SALNTY_FLAG_W,CTDOXY,CTDOXY_FLAG_W,OXYGEN,OXYGEN_FLAG_W,SILCAT,SILCAT_FLAG_W,NITRAT,NITRAT_FLAG_W,NITRIT,NITRIT_FLAG_W,PHSPHT,PHSPHT_FLAG_W,CFC-11,CFC-11_FLAG_W,CFC-12,CFC-12_FLAG_W,CCL4,CCL4_FLAG_W,TCARBN,TCARBN_FLAG_W,ALKALI,ALKALI_FLAG_W,THETA
,,,,,,,,,,,,DBAR,ITS-90,PSS-78,,PSS-78,,UMOL/KG,,UMOL/KG,,UMOL/KG,,UMOL/KG,,UMOL/KG,,UMOL/KG,,PMOL/KG,,PMOL/KG,,PMOL/KG,,UMOL/KG,,UMOL/KG,,DEG C
     316N142_3,   A15,    91,  1,     39,     39,2,19940501,0539,-23.1668, -19.0000, 4270,      6.3,  25.3856,  36.9556,2,  36.9556,2,    195.4,4,    207.2,2,     1.74,2,     0.02,2,     0.00,2,     0.15,2, -999.000,9, -999.000,9, -999.000,9,   2071.2,2,   2427.7,2, 25.3842
     316N142_3,   A15,    91,  1,     35,     35,2,19940501,0539,-23.1668, -19.0000, 4270,     93.8,  21.2165,  36.3116,2,  36.3127,2,    224.7,2,    229.1,2,     1.72,2,     0.02,2,     0.00,2,     0.15,2, -999.000,9, -999.000,9, -999.000,9,   2062.3,2,   2387.3,2, 21.1983
     316N142_3,   A15,    91,  1,     38,     38,2,19940501,0539,-23.1668, -19.0000, 4270,    124.4,  19.8907,  36.1634,2,  36.1600,2,    217.6,2,    222.4,2,     1.85,2,     0.02,2,     0.00,2,     0.19,2, -999.000,9, -999.000,9, -999.000,9,   2072.7,2,   2374.9,2, 19.8677
     316N142_3,   A15,    91,  1,     33,     33,2,19940501,0539,-23.1668, -19.0000, 4270,    204.5,  16.5199,  35.6570,2,  35.6553,2,    212.6,2,    209.2,2,     2.55,2,     2.82,2,     0.00,2,     0.42,2, -999.000,9, -999.000,9, -999.000,9,   2084.4,2,   2343.3,2, 16.4867
     316N142_3,   A15,    91,  1,     41,     41,2,19940501,0539,-23.1668, -19.0000, 4270,    305.2,  13.4514,  35.2086,2,  35.2080,2,    205.7,2,    202.7,2,     4.38,2,     9.09,2,     0.00,2,     0.76,2, -999.000,9, -999.000,9, -999.000,9,   2102.4,2,   2312.3,2, 13.4082
     316N142_3,   A15,    91,  1,     31,     31,2,19940501,0539,-23.1668, -19.0000, 4270,    405.4,  11.0899,  34.9292,2,  34.9240,2,    198.6,2,    196.1,2,     7.35,2,    15.32,2,     0.00,2,     1.14,2, -999.000,9, -999.000,9, -999.000,9,   2125.3,2,   2307.5,2, 11.0392
     316N142_3,   A15,    91,  1,     37,     37,2,19940501,0539,-23.1668, -19.0000, 4270,    505.4,   9.1440,  34.7156,2,  34.7151,2,    190.8,2,    189.7,2,    11.17,2,    20.47,2,     0.00,2,     1.45,2, -999.000,9, -999.000,9, -999.000,9,   2146.5,2,   2298.7,2,  9.0878
     316N142_3,   A15,    91,  1,     29,     29,2,19940501,0539,-23.1668, -19.0000, 4270,    580.9,   7.4673,  34.5588,2,  34.5558,2,    184.9,2,    185.8,2,    15.84,2,    25.09,2,     0.00,2,     1.73,2, -999.000,9, -999.000,9, -999.000,9,   2164.1,2,   2294.4,2,  7.4097
     316N142_3,   A15,    91,  1,     28,     28,2,19940501,0539,-23.1668, -19.0000, 4270,    656.4,   5.9478,  34.4355,2,  34.4299,2,    191.1,2,    192.7,2,    20.95,2,    28.18,2,     0.00,2,     1.94,2, -999.000,9, -999.000,9, -999.000,9,   2176.9,2,   2294.3,2,  5.8901
     316N142_3,   A15,    91,  1,     27,     27,2,19940501,0539,-23.1668, -19.0000, 4270,    757.0,   4.7564,  34.3782,2,  34.3743,2,    194.4,2,    195.1,2,    27.62,2,    30.42,2,     0.00,2,     2.08,2, -999.000,9, -999.000,9, -999.000,9,   -999.0,9,   -999.0,9,  4.6962
     316N142_3,   A15,    91,  1,     26,     26,2,19940501,0539,-23.1668, -19.0000, 4270,    842.0,   4.0732,  34.3804,2,  34.3782,2,    192.5,2,    193.3,2,    35.02,2,    31.75,2,     0.00,2,     2.17,2, -999.000,9, -999.000,9, -999.000,9,   -999.0,9,   -999.0,9,  4.0102
     316N142_3,   A15,    91,  1,     25,     25,2,19940501,0539,-23.1668, -19.0000, 4270,    918.4,   3.8065,  34.4126,2,  34.4089,2,    187.5,2,    187.7,2,    39.87,2,    32.49,2,     0.00,2,     2.22,2, -999.000,9, -999.000,9, -999.000,9,   -999.0,9,   -999.0,9,  3.7391
     316N142_3,   A15,    91,  1,     24,     24,2,19940501,0539,-23.1668, -19.0000, 4270,   1009.2,   3.5510,  34.4891,2,  34.4871,2,    184.0,2,    183.2,2,    44.72,2,    32.45,2,     0.00,2,     2.23,2, -999.000,9, -999.000,9, -999.000,9,   -999.0,9,   -999.0,9,  3.4781
     316N142_3,   A15,    91,  1,     23,     23,2,19940501,0539,-23.1668, -19.0000, 4270,   1109.3,   3.4621,  34.5517,2,  34.5495,2,    184.0,2,    184.5,2,    45.84,2,    31.67,2,     0.00,2,     2.17,2, -999.000,9, -999.000,9, -999.000,9,   -999.0,9,   -999.0,9,  3.3817
     316N142_3,   A15,    91,  1,     22,     22,2,19940501,0539,-23.1668, -19.0000, 4270,   1235.2,   3.3574,  34.6494,2,  34.6476,2,    190.4,2,    190.7,2,    45.81,2,    29.89,2,     0.00,2,     2.05,2, -999.000,9, -999.000,9, -999.000,9,   -999.0,9,   -999.0,9,  3.2676
     316N142_3,   A15,    91,  1,     21,     21,2,19940501,0539,-23.1668, -19.0000, 4270,   1359.9,   3.3018,  34.7039,2,  34.7041,2,    198.0,2,    196.8,2,    44.78,2,    28.52,2,     0.00,2,     1.98,2, -999.000,9, -999.000,9, -999.000,9,   -999.0,9,   -999.0,9,  3.2020
     316N142_3,   A15,    91,  1,     20,     20,2,19940501,0539,-23.1668, -19.0000, 4270,   1486.9,   3.2373,  34.7733,2,  34.7722,2,    210.1,2,    208.1,2,    42.46,2,    26.57,2,     0.00,2,     1.82,2, -999.000,9, -999.000,9, -999.000,9,   -999.0,9,   -999.0,9,  3.1274
     316N142_3,   A15,    91,  1,     19,     19,2,19940501,0539,-23.1668, -19.0000, 4270,   1613.9,   3.2030,  34.8360,2,  34.8352,2,    222.8,2,    221.8,2,    38.00,2,    24.30,2,     0.00,2,     1.68,2, -999.000,9, -999.000,9, -999.000,9,   -999.0,9,   -999.0,9,  3.0824
     316N142_3,   A15,    91,  1,     40,     40,2,19940501,0539,-23.1668, -19.0000, 4270,   1745.2,   3.2299,  34.8817,2,  34.8815,2,    232.6,2,    232.9,2,    33.12,2,    22.54,2,     0.00,2,     1.54,2, -999.000,9, -999.000,9, -999.000,9,   -999.0,9,   -999.0,9,  3.0972
     316N142_3,   A15,    91,  1,     17,     17,2,19940501,0539,-23.1668, -19.0000, 4270,   1882.7,   3.2177,  34.9159,2,  34.9141,2,    241.4,2,    242.9,2,    28.97,2,    20.92,2,     0.00,2,     1.44,2, -999.000,9, -999.000,9, -999.000,9,   -999.0,9,   -999.0,9,  3.0727
     316N142_3,   A15,    91,  1,     16,     16,2,19940501,0539,-23.1668, -19.0000, 4270,   2019.9,   3.1918,  34.9333,2,-999.0000,5,    247.6,2,    248.7,2,    26.82,2,    20.10,2,     0.00,2,     1.38,2, -999.000,9, -999.000,9, -999.000,9,   -999.0,9,   -999.0,9,  3.0346
     316N142_3,   A15,    91,  1,     15,     15,2,19940501,0539,-23.1668, -19.0000, 4270,   2146.7,   3.1439,  34.9365,2,  34.9340,2,    251.1,2,    250.8,2,    26.66,2,    19.88,2,     0.00,2,     1.36,2, -999.000,9, -999.000,9, -999.000,9,   -999.0,9,   -999.0,9,  2.9756
     316N142_3,   A15,    91,  1,     14,     14,2,19940501,0539,-23.1668, -19.0000, 4270,   2299.2,   3.0464,  34.9352,2,  34.9346,2,    252.5,2,    251.9,2,    27.77,2,    19.84,2,     0.00,2,     1.36,2, -999.000,9, -999.000,9, -999.000,9,   -999.0,9,   -999.0,9,  2.8651
     316N142_3,   A15,    91,  1,     13,     13,2,19940501,0539,-23.1668, -19.0000, 4270,   2476.8,   2.9284,  34.9296,2,  34.9293,2,    252.5,2,    251.6,2,    29.59,2,    19.98,2,     0.00,2,     1.35,2, -999.000,9, -999.000,9, -999.000,9,   -999.0,9,   -999.0,9,  2.7320
     316N142_3,   A15,    91,  1,     12,     12,2,19940501,0539,-23.1668, -19.0000, 4270,   2680.7,   2.8359,  34.9242,2,  34.9242,2,    252.3,2,    251.8,2,    31.41,2,    20.20,2,     0.00,2,     1.37,2, -999.000,9, -999.000,9, -999.000,9,   -999.0,9,   -999.0,9,  2.6213
     316N142_3,   A15,    91,  1,     11,     11,2,19940501,0539,-23.1668, -19.0000, 4270,   2884.2,   2.7444,  34.9190,2,  34.9187,2,    251.8,2,    251.9,2,    33.23,2,    20.34,2,     0.00,2,     1.38,2, -999.000,9, -999.000,9, -999.000,9,   -999.0,9,   -999.0,9,  2.5111
     316N142_3,   A15,    91,  1,     10,     10,2,19940501,0539,-23.1668, -19.0000, 4270,   3036.8,   2.6775,  34.9151,2,  34.9139,2,    252.3,2,    252.7,2,    34.94,2,    20.49,2,     0.00,2,     1.40,2, -999.000,9, -999.000,9, -999.000,9,   -999.0,9,   -999.0,9,  2.4300
     316N142_3,   A15,    91,  1,      9,      9,2,19940501,0539,-23.1668, -19.0000, 4270,   3190.1,   2.5961,  34.9087,2,  34.9088,2,    252.1,2,    253.8,4,    37.05,2,    20.58,2,     0.00,2,     1.41,2, -999.000,9, -999.000,9, -999.000,9,   -999.0,9,   -999.0,9,  2.3345
     316N142_3,   A15,    91,  1,      8,      8,2,19940501,0539,-23.1668, -19.0000, 4270,   3393.5,   2.4041,  34.8901,2,  34.8892,2,    249.8,2,    250.5,2,    43.73,2,    21.40,2,     0.00,2,     1.47,2, -999.000,9, -999.000,9, -999.000,9,   -999.0,9,   -999.0,9,  2.1256
     316N142_3,   A15,    91,  1,      7,      7,2,19940501,0539,-23.1668, -19.0000, 4270,   3597.8,   2.2077,  34.8688,2,  34.8672,2,    246.3,2,    246.7,2,    51.58,2,    22.53,2,     0.00,2,     1.55,2, -999.000,9, -999.000,9, -999.000,9,   -999.0,9,   -999.0,9,  1.9122
     316N142_3,   A15,    91,  1,      6,      6,2,19940501,0539,-23.1668, -19.0000, 4270,   3751.1,   2.0085,  34.8465,2,  34.8464,2,    242.9,2,    243.3,2,    59.47,2,    23.62,2,     0.00,2,     1.63,2, -999.000,9, -999.000,9, -999.000,9,   -999.0,9,   -999.0,9,  1.7018
     316N142_3,   A15,    91,  1,      5,      5,2,19940501,0539,-23.1668, -19.0000, 4270,   3903.6,   1.7196,  34.8166,2,  34.8171,2,    239.2,2,    238.9,2,    69.88,2,    25.03,2,     0.00,2,     1.73,2, -999.000,9, -999.000,9, -999.000,9,   -999.0,9,   -999.0,9,  1.4043
     316N142_3,   A15,    91,  1,      4,      4,2,19940501,0539,-23.1668, -19.0000, 4270,   4083.4,   1.5317,  34.7974,2,  34.7971,2,    236.6,2,    236.2,2,    77.15,2,    26.03,2,     0.00,2,     1.80,2, -999.000,9, -999.000,9, -999.000,9,   -999.0,9,   -999.0,9,  1.2020
     316N142_3,   A15,    91,  1,      3,      3,2,19940501,0539,-23.1668, -19.0000, 4270,   4261.9,   1.3384,  34.7775,2,  34.7771,2,    233.8,2,    233.4,2,    84.76,2,    27.08,2,     0.00,2,     1.86,2, -999.000,9, -999.000,9, -999.000,9,   -999.0,9,   -999.0,9,  0.9947
     316N142_3,   A15,    91,  1,      2,      2,2,19940501,0539,-23.1668, -19.0000, 4270,   4441.3,   1.1669,  34.7593,2,  34.7598,2,    232.1,2,    231.1,2,    90.94,2,    27.90,2,     0.00,2,     1.93,2, -999.000,9, -999.000,9, -999.000,9,   -999.0,9,   -999.0,9,  0.8084
     316N142_3,   A15,    91,  1,      1,      1,2,19940501,0539,-23.1668, -19.0000, 4270,   4580.4,   1.1133,  34.7531,2,  34.7537,2,    229.4,2,    230.2,2,    93.28,2,    28.23,2,     0.00,2,     1.96,2, -999.000,9, -999.000,9, -999.000,9,   -999.0,9,   -999.0,9,  0.7408