BOTTLE,20020814WHPSIOKJU
EXPOCODE,SECT_ID,STNNBR,CASTNO,SAMPNO,BTLNBR,BTLNBR_FLAG_W,DATE,TIME,LATITUDE,LONGITUDE,DEPTH,CTDPRS,CTDTMP,CTDSAL,CTDSAL_FLAG_W,SALNTY,SALNTY_FLAG_W,CTDOXY,CTDOXY_FLAG_W,OXYGEN,OXYGEN_FLAG_W,SILCAT,SILCAT_FLAG_W,NITRAT,NITRAT_FLAG_W,NITRIT,NITRIT_FLAG_W,PHSPHT,PHSPHT_FLAG_W,CFC-11,CFC-11_FLAG_W,CFC-12,CFC-12_FLAG_W,CCL4,CCL4_FLAG_W,TCARBN,TCARBN_FLAG_W,ALKALI,ALKALI_FLAG_W,THETA
,,,,,,,,,,,,DBAR,ITS-90,PSS-78,,PSS-78,,UMOL/KG,,UMOL/KG,,UMOL/KG,,UMOL/KG,,UMOL/KG,,UMOL/KG,,PMOL/KG,,PMOL/KG,,PMOL/KG,,UMOL/KG,,UMOL/KG,,DEG C
     316N142_3,   A15,    44,  1,     39,     39,2,19940418,0751, -0.3985, -18.9943, 6333,      9.8,  27.7265,  36.0960,2,  36.0983,2,    209.6,2,    209.6,2,     2.50,2,     0.14,2,     0.00,2,     0.11,2, -999.000,9, -999.000,9, -999.000,9,   -999.0,9,   -999.0,9, 27.7242
     316N142_3,   A15,    44,  1,     42,     42,2,19940418,0751, -0.3985, -18.9943, 6333,     63.5,  25.8868,  36.4000,2,  36.3956,2,    213.4,2,    207.1,2,     2.36,2,     0.14,2,     0.00,2,     0.14,2, -999.000,9, -999.000,9, -999.000,9,   -999.0,9,   -999.0,9, 25.8726
     316N142_3,   A15,    44,  1,     38,     38,2,19940418,0751, -0.3985, -18.9943, 6333,     95.6,  18.4318,  36.0120,2,  36.0153,2,    187.9,2,    174.1,2,     4.50,2,     7.44,2,     0.19,2,     0.68,2, -999.000,9, -999.000,9, -999.000,9,   -999.0,9,   -999.0,9, 18.4150
     316N142_3,   A15,    44,  1,     33,     33,2,19940418,0751, -0.3985, -18.9943, 6333,    186.4,  13.1111,  35.2883,2,  35.2887,2,    154.7,2,    139.1,2,     9.13,2,    18.80,2,     0.01,2,     1.32,2, -999.000,9, -999.000,9, -999.000,9,   -999.0,9,   -999.0,9, 13.0852
     316N142_3,   A15,    44,  1,     41,     41,2,19940418,0751, -0.3985, -18.9943, 6333,    285.7,  11.5680,  35.1091,2,  35.1086,2,     88.3,2,     85.7,2,    13.00,2,    27.63,2,     0.01,2,     1.79,2, -999.000,9, -999.000,9, -999.000,9,   -999.0,9,   -999.0,9, 11.5315
     316N142_3,   A15,    44,  1,     31,     31,2,19940418,0751, -0.3985, -18.9943, 6333,    405.7,   8.7822,  34.8005,2,  34.7981,2,     95.8,2,     97.3,2,    17.74,2,    32.01,2,     0.01,2,     2.07,2, -999.000,9, -999.000,9, -999.000,9,   -999.0,9,   -999.0,9,  8.7384
     316N142_3,   A15,    44,  1,     37,     37,2,19940418,0751, -0.3985, -18.9943, 6333,    556.5,   6.7864,  34.5982,2,  34.5990,2,    128.8,2,    130.7,2,    22.48,2,    32.79,2,     0.00,2,     2.19,2, -999.000,9, -999.000,9, -999.000,9,   -999.0,9,   -999.0,9,  6.7342
     316N142_3,   A15,    44,  1,     29,     29,2,19940418,0751, -0.3985, -18.9943, 6333,    636.5,   5.7101,  34.5171,2,  34.5189,2,    133.3,2,    143.1,2,    26.78,2,    33.62,2,     0.00,2,     2.28,2, -999.000,9, -999.000,9, -999.000,9,   -999.0,9,   -999.0,9,  5.6553
     316N142_3,   A15,    44,  1,     28,     28,2,19940418,0751, -0.3985, -18.9943, 6333,    748.4,   5.1134,  34.4953,2,  34.4975,2,    148.4,2,    149.1,2,    30.10,2,    34.12,2,     0.00,2,     2.33,2, -999.000,9, -999.000,9, -999.000,9,   -999.0,9,   -999.0,9,  5.0518
     316N142_3,   A15,    44,  1,     27,     27,2,19940418,0751, -0.3985, -18.9943, 6333,    910.4,   4.4657,  34.5482,2,  34.5503,2,    154.3,2,    160.7,2,    33.64,2,    33.26,2,     0.00,2,     2.29,2, -999.000,9, -999.000,9, -999.000,9,   -999.0,9,   -999.0,9,  4.3941
     316N142_3,   A15,    44,  1,     26,     26,2,19940418,0751, -0.3985, -18.9943, 6333,   1062.5,   4.4747,  34.6754,2,  34.6770,2,    160.5,2,    163.4,2,    31.44,2,    31.54,2,     0.00,2,     2.17,2, -999.000,9, -999.000,9, -999.000,9,   -999.0,9,   -999.0,9,  4.3897
     316N142_3,   A15,    44,  1,     25,     25,2,19940418,0751, -0.3985, -18.9943, 6333,   1212.1,   4.4681,  34.7610,2,  34.7649,2,    178.1,2,    175.0,2,    28.92,2,    29.45,2,     0.00,2,     2.02,2,    0.020,4,    0.011,2,    0.141,2,   -999.0,9,   -999.0,9,  4.3697
     316N142_3,   A15,    44,  1,     24,     24,2,19940418,0751, -0.3985, -18.9943, 6333,   1363.7,   4.4833,  34.8851,2,  34.8866,2,    198.1,2,    200.5,2,    23.69,2,    25.35,2,     0.00,2,     1.74,2,    0.027,4,    0.026,2,    0.234,2,   -999.0,9,   -999.0,9,  4.3706
     316N142_3,   A15,    44,  1,     23,     23,2,19940418,0751, -0.3985, -18.9943, 6333,   1515.2,   4.2097,  34.9681,2,  34.9696,2,    230.3,2,    233.1,2,    19.23,2,    21.21,2,     0.00,2,     1.45,2,    0.112,2,    0.057,2,    0.466,2,   -999.0,9,   -999.0,9,  4.0858
     316N142_3,   A15,    44,  1,     22,     22,2,19940418,0751, -0.3985, -18.9943, 6333,   1667.2,   3.9363,  34.9774,2,  34.9792,2,    246.7,2,    245.7,2,    18.66,2,    19.94,2,     0.00,2,     1.37,2,    0.059,4,    0.061,2,    0.450,2,   -999.0,9,   -999.0,9,  3.8014
     316N142_3,   A15,    44,  1,     21,     21,2,19940418,0751, -0.3985, -18.9943, 6333,   1768.4,   3.8323,  34.9748,2,  34.9761,2,    248.2,2,    250.3,2,    19.28,2,    19.81,2,     0.00,2,     1.35,2, -999.000,9,    0.039,2,    0.351,2,   -999.0,9,   -999.0,9,  3.6894
     316N142_3,   A15,    44,  1,     20,     20,2,19940418,0751, -0.3985, -18.9943, 6333,   1899.0,   3.6917,  34.9758,2,  34.9777,2,    254.8,2,    252.9,2,    19.25,2,    19.31,2,     0.00,2,     1.32,2, -999.000,9,    0.060,2,    0.484,2,   -999.0,9,   -999.0,9,  3.5383
     316N142_3,   A15,    44,  1,     19,     19,2,19940418,0751, -0.3985, -18.9943, 6333,   2019.2,   3.5078,  34.9629,2,  34.9647,2,    252.9,2,    250.9,2,    22.24,2,    19.81,2,     0.00,2,     1.36,2, -999.000,9,    0.021,2,    0.224,2,   -999.0,9,   -999.0,9,  3.3457
     316N142_3,   A15,    44,  1,     40,     40,2,19940418,0751, -0.3985, -18.9943, 6333,   2119.7,   3.4490,  34.9586,2,  34.9617,2,    252.6,2,    249.3,2,    23.29,2,    20.00,2,     0.00,2,     1.37,2, -999.000,9, -999.000,9, -999.000,9,   -999.0,9,   -999.0,9,  3.2783
     316N142_3,   A15,    44,  1,     17,     17,2,19940418,0751, -0.3985, -18.9943, 6333,   2221.5,   3.3207,  34.9533,2,  34.9558,2,    251.9,2,    250.4,2,    24.77,2,    20.00,2,     0.00,2,     1.37,2, -999.000,9, -999.000,9, -999.000,9,   -999.0,9,   -999.0,9,  3.1422
     316N142_3,   A15,    44,  1,     16,     16,2,19940418,0751, -0.3985, -18.9943, 6333,   2527.8,   2.9580,  34.9306,2,  34.9322,2,    250.6,2,    248.0,2,    31.86,2,    20.82,2,     0.00,2,     1.44,2, -999.000,9, -999.000,9, -999.000,9,   -999.0,9,   -999.0,9,  2.7562
     316N142_3,   A15,    44,  1,     15,     15,2,19940418,0751, -0.3985, -18.9943, 6333,   2832.9,   2.6755,  34.9128,2,  34.9137,2,    247.1,2,    246.8,2,    37.65,2,    21.33,2,     0.00,2,     1.48,2, -999.000,9,    0.021,2,    0.055,2,   -999.0,9,   -999.0,9,  2.4489
     316N142_3,   A15,    44,  1,     14,     14,2,19940418,0751, -0.3985, -18.9943, 6333,   3138.6,   2.5740,  34.9059,2,  34.9070,2,    247.7,2,    248.6,2,    39.13,2,    21.28,2,     0.00,2,     1.48,2, -999.000,9, -999.000,9, -999.000,9,   -999.0,9,   -999.0,9,  2.3183
     316N142_3,   A15,    44,  1,     13,     13,2,19940418,0751, -0.3985, -18.9943, 6333,   3444.6,   2.5035,  34.9033,2,  34.9046,2,    252.4,2,    252.9,2,    38.34,2,    20.83,2,     0.00,2,     1.46,2, -999.000,9,    0.041,2,    0.094,2,   -999.0,9,   -999.0,9,  2.2170
     316N142_3,   A15,    44,  1,     12,     12,2,19940418,0751, -0.3985, -18.9943, 6333,   3750.7,   2.3567,  34.8960,2,  34.8977,2,    258.8,2,    258.3,2,    37.45,2,    20.24,2,     0.00,2,     1.41,2, -999.000,9,    0.037,2,    0.343,2,   -999.0,9,   -999.0,9,  2.0406
     316N142_3,   A15,    44,  1,     11,     11,2,19940418,0751, -0.3985, -18.9943, 6333,   3904.0,   2.2668,  34.8876,2,  34.8903,2,    259.6,2,    258.4,2,    39.67,2,    20.43,2,     0.00,2,     1.43,2, -999.000,9,    0.048,2,    0.405,2,   -999.0,9,   -999.0,9,  1.9360
     316N142_3,   A15,    44,  1,     10,     10,2,19940418,0751, -0.3985, -18.9943, 6333,   4058.1,   2.1062,  34.8691,2,  34.8712,2,    255.2,2,    255.1,2,    46.84,2,    21.43,2,     0.00,2,     1.50,2, -999.000,9,    0.044,2,    0.333,2,   -999.0,9,   -999.0,9,  1.7625
     316N142_3,   A15,    44,  1,      9,      9,2,19940418,0751, -0.3985, -18.9943, 6333,   4262.4,   1.4949,  34.8026,2,  34.8041,2,    241.7,2,    240.7,2,    73.93,2,    25.50,2,     0.00,2,     1.79,2, -999.000,9,    0.035,2,    0.179,2,   -999.0,9,   -999.0,9,  1.1463
     316N142_3,   A15,    44,  1,      8,      8,2,19940418,0751, -0.3985, -18.9943, 6333,   4467.0,   1.2064,  34.7684,2,  34.7717,2,    233.2,2,    233.5,2,    86.29,2,    27.51,2,     0.00,2,     1.93,2, -999.000,9,    0.022,2,    0.149,2,   -999.0,9,   -999.0,9,  0.8438
     316N142_3,   A15,    44,  1,      7,      7,2,19940418,0751, -0.3985, -18.9943, 6333,   4672.6,   1.1361,  34.7589,2,  34.7603,2,    230.4,2,    231.8,2,    89.98,2,    28.24,2,     0.00,2,     1.98,2, -999.000,9, -999.000,9, -999.000,9,   -999.0,9,   -999.0,9,  0.7522
     316N142_3,   A15,    44,  1,      6,      6,2,19940418,0751, -0.3985, -18.9943, 6333,   4877.6,   1.1151,  34.7546,2,  34.7551,2,    229.2,2,    230.4,2,    91.35,2,    28.52,2,     0.00,2,     2.00,2, -999.000,9, -999.000,9, -999.000,9,   -999.0,9,   -999.0,9,  0.7080
     316N142_3,   A15,    44,  1,      5,      5,2,19940418,0751, -0.3985, -18.9943, 6333,   5082.0,   1.1140,  34.7515,2,  34.7530,2,    228.6,2,    229.6,2,    92.51,2,    28.75,2,     0.00,2,     2.02,2, -999.000,9, -999.000,9, -999.000,9,   -999.0,9,   -999.0,9,  0.6825
     316N142_3,   A15,    44,  1,      4,      4,2,19940418,0751, -0.3985, -18.9943, 6333,   5388.4,   1.1460,  34.7505,2,  34.7518,2,    229.3,2,    229.5,2,    92.56,2,    28.80,2,     0.00,2,     2.02,2, -999.000,9, -999.000,9, -999.000,9,   -999.0,9,   -999.0,9,  0.6758
     316N142_3,   A15,    44,  1,      3,      3,2,19940418,0751, -0.3985, -18.9943, 6333,   5698.2,   1.1835,  34.7506,2,  34.7516,2,    229.8,2,    228.3,2,    92.61,2,    28.81,2,     0.00,2,     2.02,2, -999.000,9,    0.037,2,    0.162,2,   -999.0,9,   -999.0,9,  0.6727
     316N142_3,   A15,    44,  1,      2,      2,2,19940418,0751, -0.3985, -18.9943, 6333,   6007.3,   1.2221,  34.7506,2,  34.7508,2,    230.2,2,    229.7,2,    92.48,2,    28.86,2,     0.00,2,     2.03,2, -999.000,9, -999.000,9, -999.000,9,   -999.0,9,   -999.0,9,  0.6696
     316N142_3,   A15,    44,  1,      1,      1,2,19940418,0751, -0.3985, -18.9943, 6333,   6089.9,   1.2334,  34.7502,2,  34.7506,2,    229.5,2,    230.2,2,    92.61,2,    28.86,2,     0.00,2,     2.03,2, -999.000,9,    0.010,2,    0.225,2,   -999.0,9,   -999.0,9,  0.6695