BOTTLE,20020814WHPSIOKJU
EXPOCODE,SECT_ID,STNNBR,CASTNO,SAMPNO,BTLNBR,BTLNBR_FLAG_W,DATE,TIME,LATITUDE,LONGITUDE,DEPTH,CTDPRS,CTDTMP,CTDSAL,CTDSAL_FLAG_W,SALNTY,SALNTY_FLAG_W,CTDOXY,CTDOXY_FLAG_W,OXYGEN,OXYGEN_FLAG_W,SILCAT,SILCAT_FLAG_W,NITRAT,NITRAT_FLAG_W,NITRIT,NITRIT_FLAG_W,PHSPHT,PHSPHT_FLAG_W,CFC-11,CFC-11_FLAG_W,CFC-12,CFC-12_FLAG_W,CCL4,CCL4_FLAG_W,TCARBN,TCARBN_FLAG_W,ALKALI,ALKALI_FLAG_W,THETA
,,,,,,,,,,,,DBAR,ITS-90,PSS-78,,PSS-78,,UMOL/KG,,UMOL/KG,,UMOL/KG,,UMOL/KG,,UMOL/KG,,UMOL/KG,,PMOL/KG,,PMOL/KG,,PMOL/KG,,UMOL/KG,,UMOL/KG,,DEG C
     316N142_3,  AR15,   128,  1,     39,     39,2,19940513,2257,-17.4878, -27.5042, 5214,     10.6,  26.6840,  37.3803,2,  37.3814,2,    194.9,4,    201.9,2,     1.86,2,     0.00,2,     0.01,2,     0.13,2,    1.704,2,    0.977,2,    2.030,2,   2077.4,2,   2450.1,2, 26.6816
     316N142_3,  AR15,   128,  1,     35,     35,2,19940513,2257,-17.4878, -27.5042, 5214,    101.0,  22.8121,  36.6011,2,  36.5985,2,    229.8,2,    225.5,2,     1.85,2,     0.00,2,     0.00,2,     0.16,2, -999.000,9, -999.000,9, -999.000,9,   2068.4,2,   2399.2,2, 22.7915
     316N142_3,  AR15,   128,  1,     38,     38,2,19940513,2257,-17.4878, -27.5042, 5214,    186.5,  17.4946,  35.8442,2,  35.8166,2,    201.7,2,    193.6,2,     3.07,2,     1.65,2,     0.01,2,     0.53,2,    2.316,2,    1.269,2,    1.061,2,   2097.8,2,   2348.3,2, 17.4630
     316N142_3,  AR15,   128,  1,     33,     33,2,19940513,2257,-17.4878, -27.5042, 5214,    276.2,  13.6955,  35.2705,2,  35.2638,2,    181.4,2,    179.8,2,     5.54,2,    10.01,2,     0.00,2,     0.95,2,    1.949,2,    1.097,2,    0.540,2,   2120.4,2,   2314.4,2, 13.6559
     316N142_3,  AR15,   128,  1,     41,     41,2,19940513,2257,-17.4878, -27.5042, 5214,    363.7,  10.9194,  34.9349,2,  34.9353,2,    155.1,2,    153.9,2,     9.72,2,    19.90,2,     0.00,2,     1.43,2, -999.000,9, -999.000,9, -999.000,9,   2155.0,2,   2299.6,2, 10.8745
     316N142_3,  AR15,   128,  1,     31,     31,2,19940513,2257,-17.4878, -27.5042, 5214,    456.8,   8.3409,  34.6863,2,  34.6838,2,    147.1,2,    144.4,2,    15.92,2,    28.15,2,     0.00,2,     1.85,2,    0.713,2,    0.369,2,    0.707,2,   2182.4,2,   2293.4,2,  8.2930
     316N142_3,  AR15,   128,  1,     37,     37,2,19940513,2257,-17.4878, -27.5042, 5214,    582.2,   5.9331,  34.4846,2,  34.4840,2,    158.2,2,    162.5,2,    23.22,2,    32.58,2,     0.00,2,     2.10,2, -999.000,9, -999.000,9, -999.000,9,   2194.4,2,   2292.3,2,  5.8822
     316N142_3,  AR15,   128,  1,     29,     29,2,19940513,2257,-17.4878, -27.5042, 5214,    708.0,   4.3799,  34.3896,2,  34.3881,2,    190.0,2,    190.3,2,    31.16,2,    33.25,2,     0.00,2,     2.16,2,    0.368,2,    0.181,2,    1.029,2,   -999.0,9,   -999.0,9,  4.3259
     316N142_3,  AR15,   128,  1,     28,     28,2,19940513,2257,-17.4878, -27.5042, 5214,    848.4,   3.9056,  34.4332,2,  34.4303,2,    182.5,2,    182.4,2,    37.23,2,    34.65,2,     0.00,2,     2.24,2, -999.000,9, -999.000,9, -999.000,9,   -999.0,9,   -999.0,9,  3.8431
     316N142_3,  AR15,   128,  1,     27,     27,2,19940513,2257,-17.4878, -27.5042, 5214,    990.2,   3.6979,  34.5073,2,  34.5047,2,    181.0,2,    182.4,2,    39.56,2,    34.02,2,     0.00,2,     2.22,2,    0.102,2,    0.032,2,    0.392,2,   -999.0,9,   -999.0,9,  3.6254
     316N142_3,  AR15,   128,  1,     26,     26,2,19940513,2257,-17.4878, -27.5042, 5214,   1161.7,   3.8812,  34.6750,2,  34.6750,2,    183.3,2,    184.7,2,    34.68,2,    31.14,2,     0.00,2,     2.04,2, -999.000,9, -999.000,9, -999.000,9,   -999.0,9,   -999.0,9,  3.7927
     316N142_3,  AR15,   128,  1,     25,     25,2,19940513,2257,-17.4878, -27.5042, 5214,   1328.3,   4.0254,  34.8145,2,  34.8139,2,    197.9,2,    199.5,2,    28.57,2,    27.17,2,     0.00,2,     1.80,2, -999.000,9,    0.015,2,    0.108,2,   -999.0,9,   -999.0,9,  3.9207
     316N142_3,  AR15,   128,  1,     24,     24,2,19940513,2257,-17.4878, -27.5042, 5214,   1475.3,   3.9092,  34.8678,2,  34.8681,2,    214.1,2,    213.7,2,    26.68,2,    24.80,2,     0.00,2,     1.67,2, -999.000,9, -999.000,9, -999.000,9,   -999.0,9,   -999.0,9,  3.7925
     316N142_3,  AR15,   128,  1,     23,     23,2,19940513,2257,-17.4878, -27.5042, 5214,   1627.5,   3.6953,  34.9006,2,  34.9001,2,    228.5,2,    226.7,2,    26.35,2,    23.07,2,     0.00,2,     1.56,2, -999.000,9,    0.014,2,    0.113,2,   -999.0,9,   -999.0,9,  3.5673
     316N142_3,  AR15,   128,  1,     22,     22,2,19940513,2257,-17.4878, -27.5042, 5214,   1768.6,   3.4942,  34.9101,2,  34.9109,2,    235.2,2,    234.1,2,    27.26,2,    22.29,2,     0.00,2,     1.50,2, -999.000,9,    0.012,2,    0.053,2,   -999.0,9,   -999.0,9,  3.3559
     316N142_3,  AR15,   128,  1,     21,     21,2,19940513,2257,-17.4878, -27.5042, 5214,   1920.0,   3.3081,  34.9172,2,  34.9170,2,    240.7,2,    239.5,2,    28.80,2,    21.87,2,     0.00,2,     1.48,2, -999.000,9,    0.007,2,    0.038,2,   -999.0,9,   -999.0,9,  3.1585
     316N142_3,  AR15,   128,  1,     20,     20,2,19940513,2257,-17.4878, -27.5042, 5214,   2121.5,   3.0904,  34.9158,2,  34.9154,2,    243.0,2,    242.6,2,    31.75,2,    21.66,2,     0.00,2,     1.46,2, -999.000,9, -999.000,9, -999.000,9,   -999.0,9,   -999.0,9,  2.9253
     316N142_3,  AR15,   128,  1,     19,     19,2,19940513,2257,-17.4878, -27.5042, 5214,   2324.8,   2.9196,  34.9080,2,  34.9078,2,    243.6,2,    242.2,2,    35.48,2,    21.90,2,     0.00,2,     1.48,2, -999.000,9,    0.007,2,    0.039,2,   -999.0,9,   -999.0,9,  2.7381
     316N142_3,  AR15,   128,  1,     40,     40,2,19940513,2257,-17.4878, -27.5042, 5214,   2528.7,   2.8211,  34.9032,2,  34.9040,2,    243.3,2,    242.5,2,    37.65,2,    21.91,2,     0.00,2,     1.49,2, -999.000,9, -999.000,9, -999.000,9,   -999.0,9,   -999.0,9,  2.6218
     316N142_3,  AR15,   128,  1,     17,     17,2,19940513,2257,-17.4878, -27.5042, 5214,   2733.7,   2.7777,  34.9076,2,  34.9079,2,    245.3,2,    245.0,2,    37.16,2,    21.63,2,     0.00,2,     1.47,2, -999.000,9,    0.017,2,    0.025,2,   -999.0,9,   -999.0,9,  2.5590
     316N142_3,  AR15,   128,  1,     16,     16,2,19940513,2257,-17.4878, -27.5042, 5214,   2884.8,   2.7346,  34.9061,2,  34.9054,2,    245.2,2,    245.5,2,    37.92,2,    21.21,2,     0.00,2,     1.46,2, -999.000,9, -999.000,9, -999.000,9,   -999.0,9,   -999.0,9,  2.5015
     316N142_3,  AR15,   128,  1,     15,     15,2,19940513,2257,-17.4878, -27.5042, 5214,   3013.2,   2.7275,  34.9104,2,  34.9097,2,    248.5,2,    248.1,2,    36.34,2,    20.64,2,     0.00,2,     1.44,2, -999.000,9, -999.000,9, -999.000,9,   -999.0,9,   -999.0,9,  2.4814
     316N142_3,  AR15,   128,  1,     14,     14,2,19940513,2257,-17.4878, -27.5042, 5214,   3139.6,   2.6936,  34.9106,2,  34.9103,2,    249.6,2,    249.4,2,    36.16,2,    20.44,2,     0.00,2,     1.42,2, -999.000,9, -999.000,9, -999.000,9,   -999.0,9,   -999.0,9,  2.4351
     316N142_3,  AR15,   128,  1,     13,     13,2,19940513,2257,-17.4878, -27.5042, 5214,   3292.1,   2.6282,  34.9081,2,  34.9077,2,    250.4,2,    251.3,2,    36.61,2,    20.23,2,     0.00,2,     1.42,2, -999.000,9,    0.009,2,    0.093,2,   -999.0,9,   -999.0,9,  2.3551
     316N142_3,  AR15,   128,  1,     12,     12,2,19940513,2257,-17.4878, -27.5042, 5214,   3446.6,   2.5434,  34.9008,2,  34.9009,2,    249.8,2,    250.5,2,    38.62,2,    20.46,2,     0.00,2,     1.44,2, -999.000,9,    0.012,2,    0.003,2,   -999.0,9,   -999.0,9,  2.2557
     316N142_3,  AR15,   128,  1,     11,     11,2,19940513,2257,-17.4878, -27.5042, 5214,   3599.4,   2.3999,  34.8869,2,  34.8877,2,    249.9,2,    249.4,2,    43.46,2,    21.36,2,     0.00,2,     1.49,2, -999.000,9, -999.000,9, -999.000,9,   -999.0,9,   -999.0,9,  2.0993
     316N142_3,  AR15,   128,  1,     10,     10,2,19940513,2257,-17.4878, -27.5042, 5214,   3752.3,   2.2376,  34.8712,2,  34.8714,2,    248.2,2,    248.4,2,    48.77,2,    22.03,2,     0.00,2,     1.53,2, -999.000,9, -999.000,9, -999.000,9,   -999.0,9,   -999.0,9,  1.9246
     316N142_3,  AR15,   128,  1,      9,      9,2,19940513,2257,-17.4878, -27.5042, 5214,   3905.4,   2.0163,  34.8492,2,  34.8484,2,    244.2,2,    244.4,2,    57.26,2,    23.80,2,     0.00,2,     1.62,2, -999.000,9, -999.000,9, -999.000,9,   -999.0,9,   -999.0,9,  1.6924
     316N142_3,  AR15,   128,  1,      8,      8,2,19940513,2257,-17.4878, -27.5042, 5214,   4058.4,   1.7251,  34.8194,2,  34.8197,2,    239.7,2,    240.8,2,    68.32,2,    25.57,2,     0.00,2,     1.73,2, -999.000,9,    0.012,2,    0.059,2,   -999.0,9,   -999.0,9,  1.3926
     316N142_3,  AR15,   128,  1,      7,      7,2,19940513,2257,-17.4878, -27.5042, 5214,   4210.7,   1.4942,  34.7940,2,  34.7956,2,    236.4,2,    236.2,2,    77.23,2,    26.98,2,     0.00,2,     1.80,2, -999.000,9, -999.000,9, -999.000,9,   -999.0,9,   -999.0,9,  1.1515
     316N142_3,  AR15,   128,  1,      6,      6,2,19940513,2257,-17.4878, -27.5042, 5214,   4366.3,   1.2783,  34.7724,2,  34.7726,2,    233.0,2,    232.9,2,    86.03,2,    28.47,2,     0.00,2,     1.90,2, -999.000,9, -999.000,9, -999.000,9,   -999.0,9,   -999.0,9,  0.9248
     316N142_3,  AR15,   128,  1,      5,      5,2,19940513,2257,-17.4878, -27.5042, 5214,   4572.0,   1.0711,  34.7501,2,  34.7500,2,    229.3,2,    229.6,2,    94.73,2,    29.89,2,     0.00,2,     1.98,2, -999.000,9,    0.005,2,    0.103,2,   -999.0,9,   -999.0,9,  0.7009
     316N142_3,  AR15,   128,  1,      4,      4,2,19940513,2257,-17.4878, -27.5042, 5214,   4776.4,   0.9268,  34.7337,2,  34.7333,2,    227.5,2,    227.2,2,   100.89,2,    31.01,2,     0.00,2,     2.03,2, -999.000,9,    0.010,2,    0.048,2,   -999.0,9,   -999.0,9,  0.5379
     316N142_3,  AR15,   128,  1,      3,      3,2,19940513,2257,-17.4878, -27.5042, 5214,   4982.3,   0.8256,  34.7210,2,  34.7206,2,    225.7,2,    226.0,2,   105.94,2,    31.91,2,     0.00,2,     2.08,2, -999.000,9,    0.015,2,    0.281,2,   -999.0,9,   -999.0,9,  0.4161
     316N142_3,  AR15,   128,  1,      2,      2,2,19940513,2257,-17.4878, -27.5042, 5214,   5186.6,   0.6836,  34.7046,2,  34.7051,2,    224.2,2,    224.1,2,   111.83,2,    32.97,2,     0.00,2,     2.14,2, -999.000,9,    0.025,2,    0.282,2,   -999.0,9,   -999.0,9,  0.2549
     316N142_3,  AR15,   128,  1,      1,      1,2,19940513,2257,-17.4878, -27.5042, 5214,   5361.4,   0.6362,  34.6973,2,  34.6982,2,    223.2,2,    222.9,2,   114.28,2,    33.50,2,     0.00,2,     2.16,2, -999.000,9,    0.018,2,    0.148,2,   -999.0,9,   -999.0,9,  0.1882