BOTTLE,20020814WHPSIOKJU
EXPOCODE,SECT_ID,STNNBR,CASTNO,SAMPNO,BTLNBR,BTLNBR_FLAG_W,DATE,TIME,LATITUDE,LONGITUDE,DEPTH,CTDPRS,CTDTMP,CTDSAL,CTDSAL_FLAG_W,SALNTY,SALNTY_FLAG_W,CTDOXY,CTDOXY_FLAG_W,OXYGEN,OXYGEN_FLAG_W,SILCAT,SILCAT_FLAG_W,NITRAT,NITRAT_FLAG_W,NITRIT,NITRIT_FLAG_W,PHSPHT,PHSPHT_FLAG_W,CFC-11,CFC-11_FLAG_W,CFC-12,CFC-12_FLAG_W,CCL4,CCL4_FLAG_W,TCARBN,TCARBN_FLAG_W,ALKALI,ALKALI_FLAG_W,THETA
,,,,,,,,,,,,DBAR,ITS-90,PSS-78,,PSS-78,,UMOL/KG,,UMOL/KG,,UMOL/KG,,UMOL/KG,,UMOL/KG,,UMOL/KG,,PMOL/KG,,PMOL/KG,,PMOL/KG,,UMOL/KG,,UMOL/KG,,DEG C
     316N142_3,   A15,    33,  1,     39,     39,2,19940415,0934,  4.9998, -19.0017, 4711,      1.8,  28.8683,  35.7951,2,  35.7983,2,    213.5,2,    213.4,2,     1.57,2,     0.05,2,     0.00,2,     0.12,4,    1.666,2,    0.959,2,    2.250,2,   -999.0,9,   -999.0,9, 28.8678
     316N142_3,   A15,    33,  1,     35,     35,9,19940415,0934,  4.9998, -19.0017, 4711,     43.0,  24.5048,  36.0886,2,-999.0000,9,    222.8,2,   -999.0,9,  -999.00,9,  -999.00,9,  -999.00,9,  -999.00,9, -999.000,9, -999.000,9, -999.000,9,   -999.0,9,   -999.0,9, 24.4955
     316N142_3,   A15,    33,  1,     38,     38,2,19940415,0934,  4.9998, -19.0017, 4711,     98.6,  15.2948,  35.5478,2,  35.5488,2,     79.6,2,     82.0,2,     7.34,2,    21.47,2,     0.02,2,     1.48,4,    1.206,2,    0.689,2,    0.441,2,   -999.0,9,   -999.0,9, 15.2797
     316N142_3,   A15,    33,  1,     33,     33,2,19940415,0934,  4.9998, -19.0017, 4711,    133.0,  14.3355,  35.4479,2,  35.4462,2,     88.6,2,     85.8,2,     8.47,2,    22.28,2,     0.01,2,     1.58,4,    1.064,2,    0.610,2,    0.183,2,   -999.0,9,   -999.0,9, 14.3159
     316N142_3,   A15,    33,  1,     41,     41,2,19940415,0934,  4.9998, -19.0017, 4711,    173.7,  13.7624,  35.3794,2,  35.3795,2,     88.7,2,     90.6,2,     8.96,2,    22.52,2,     0.01,2,     1.61,4,    1.050,6,    0.591,2,    0.236,6,   -999.0,9,   -999.0,9, 13.7375
     316N142_3,   A15,    33,  1,     31,     31,2,19940415,0934,  4.9998, -19.0017, 4711,    218.8,  12.9002,  35.2815,2,  35.2780,2,     89.6,2,     80.8,2,    10.21,2,    24.90,2,     0.00,2,     1.73,4,    0.757,2,    0.443,2,    0.217,2,   -999.0,9,   -999.0,9, 12.8702
     316N142_3,   A15,    33,  1,     37,     37,2,19940415,0934,  4.9998, -19.0017, 4711,    304.2,  11.0795,  35.0941,2,  35.0930,2,     68.8,2,     62.0,2,    13.47,2,    29.91,2,     0.00,2,     1.99,4,    0.458,2,    0.255,2,    0.189,2,   -999.0,9,   -999.0,9, 11.0416
     316N142_3,   A15,    33,  1,     29,     29,2,19940415,0934,  4.9998, -19.0017, 4711,    393.9,   9.3004,  34.9171,2,  34.9153,2,     67.1,2,     65.6,2,    16.86,2,    32.91,2,     0.00,2,     2.19,4,    0.139,2,    0.134,2,    0.220,2,   -999.0,9,   -999.0,9,  9.2563
     316N142_3,   A15,    33,  1,     28,     28,2,19940415,0934,  4.9998, -19.0017, 4711,    454.0,   8.2763,  34.8069,2,  34.8016,2,     74.6,2,     76.2,2,    13.83,4,    29.96,4,     0.01,4,     2.02,4,    0.112,6,    0.094,6,    0.190,6,   -999.0,9,   -999.0,9,  8.2288
     316N142_3,   A15,    33,  1,     27,     27,2,19940415,0934,  4.9998, -19.0017, 4711,    543.8,   7.1695,  34.6966,2,  34.6933,2,     88.9,2,     93.2,2,    22.12,2,    34.30,2,     0.00,2,     2.36,4,    0.085,2,    0.070,2,    0.281,2,   -999.0,9,   -999.0,9,  7.1168
     316N142_3,   A15,    33,  1,     26,     26,2,19940415,0934,  4.9998, -19.0017, 4711,    654.4,   6.3080,  34.6343,2,  34.6339,2,    110.5,2,    103.7,2,    25.51,2,    34.81,2,     0.00,2,     2.44,4,    0.000,4,    0.038,2,    0.140,2,   -999.0,9,   -999.0,9,  6.2485
     316N142_3,   A15,    33,  1,     25,     25,2,19940415,0934,  4.9998, -19.0017, 4711,    724.6,   5.7562,  34.5986,2,  34.5981,2,    109.8,2,    113.4,2,    27.89,2,    34.77,2,     0.00,2,     2.47,4,    0.033,4,    0.022,2,    0.100,2,   -999.0,9,   -999.0,9,  5.6929
     316N142_3,   A15,    33,  1,     24,     24,2,19940415,0934,  4.9998, -19.0017, 4711,    806.1,   5.3100,  34.5982,2,  34.5983,2,    121.2,2,    121.0,2,    29.89,2,    34.50,2,     0.00,2,     2.47,4,    0.034,4,    0.043,2,    0.110,2,   -999.0,9,   -999.0,9,  5.2419
     316N142_3,   A15,    33,  1,     23,     23,2,19940415,0934,  4.9998, -19.0017, 4711,    938.2,   4.8290,  34.6438,2,  34.6445,2,    138.8,2,    138.3,2,    31.26,2,    32.89,2,     0.00,2,     2.39,4, -999.000,9, -999.000,9, -999.000,9,   -999.0,9,   -999.0,9,  4.7522
     316N142_3,   A15,    33,  1,     22,     22,2,19940415,0934,  4.9998, -19.0017, 4711,   1059.1,   4.6899,  34.7298,2,  34.7274,2,    152.5,2,    152.8,2,    29.99,2,    30.77,2,     0.00,2,     2.26,4, -999.000,9, -999.000,9, -999.000,9,   -999.0,9,   -999.0,9,  4.6033
     316N142_3,   A15,    33,  1,     21,     21,2,19940415,0934,  4.9998, -19.0017, 4711,   1210.3,   4.6054,  34.8303,2,  34.8300,2,    169.8,2,    169.8,2,    27.09,2,    28.04,2,     0.00,2,     2.06,4, -999.000,9,    0.040,2,    0.049,2,   -999.0,9,   -999.0,9,  4.5057
     316N142_3,   A15,    33,  1,     20,     20,2,19940415,0934,  4.9998, -19.0017, 4711,   1362.0,   4.3842,  34.9041,2,  34.9049,2,    194.6,2,    195.5,2,    24.06,2,    24.84,2,     0.00,2,     1.83,4, -999.000,9, -999.000,9, -999.000,9,   -999.0,9,   -999.0,9,  4.2726
     316N142_3,   A15,    33,  1,     19,     19,2,19940415,0934,  4.9998, -19.0017, 4711,   1562.5,   4.0935,  34.9621,2,  34.9629,2,    224.6,2,    229.5,2,    20.16,2,    21.06,2,     0.00,2,     1.57,4, -999.000,9,    0.031,2,    0.212,2,   -999.0,9,   -999.0,9,  3.9665
     316N142_3,   A15,    33,  1,     40,     40,2,19940415,0934,  4.9998, -19.0017, 4711,   1683.9,   3.9188,  34.9667,2,  34.9690,2,    237.0,2,    237.7,2,    20.15,2,    20.37,2,     0.00,2,     1.51,4, -999.000,9,    0.021,2,    0.186,2,   -999.0,9,   -999.0,9,  3.7826
     316N142_3,   A15,    33,  1,     17,     17,2,19940415,0934,  4.9998, -19.0017, 4711,   1886.5,   3.6485,  34.9585,2,  34.9592,2,    237.9,2,    239.5,2,    22.53,2,    20.37,2,     0.00,2,     1.51,4, -999.000,9,    0.018,2,    0.103,2,   -999.0,9,   -999.0,9,  3.4970
     316N142_3,   A15,    33,  1,     16,     16,2,19940415,0934,  4.9998, -19.0017, 4711,   2089.8,   3.3543,  34.9482,2,  34.9493,2,    240.6,2,    240.9,2,    26.16,2,    20.56,2,     0.00,2,     1.51,4, -999.000,9, -999.000,9, -999.000,9,   -999.0,9,   -999.0,9,  3.1879
     316N142_3,   A15,    33,  1,     15,     15,2,19940415,0934,  4.9998, -19.0017, 4711,   2292.7,   3.1501,  34.9426,2,  34.9420,2,    243.2,2,    242.6,2,    29.04,2,    20.51,2,     0.00,2,     1.52,4, -999.000,9, -999.000,9, -999.000,9,   -999.0,9,   -999.0,9,  2.9676
     316N142_3,   A15,    33,  1,     14,     14,2,19940415,0934,  4.9998, -19.0017, 4711,   2497.1,   2.9695,  34.9335,2,  34.9323,2,    242.3,2,    243.1,2,    32.29,2,    20.65,2,     0.00,2,     1.53,4, -999.000,9,    0.007,2,    0.043,2,   -999.0,9,   -999.0,9,  2.7705
     316N142_3,   A15,    33,  1,     13,     13,2,19940415,0934,  4.9998, -19.0017, 4711,   2630.4,   2.8623,  34.9277,2,  34.9272,2,    242.5,2,    243.0,2,    34.42,2,    20.80,2,     0.00,2,     1.53,4, -999.000,9, -999.000,9, -999.000,9,   -999.0,9,   -999.0,9,  2.6521
     316N142_3,   A15,    33,  1,     12,     12,2,19940415,0934,  4.9998, -19.0017, 4711,   2782.5,   2.7707,  34.9224,2,  34.9229,2,    242.3,2,    242.9,2,    36.42,2,    20.98,2,     0.00,2,     1.54,4, -999.000,9, -999.000,9, -999.000,9,   -999.0,9,   -999.0,9,  2.5472
     316N142_3,   A15,    33,  1,     11,     11,2,19940415,0934,  4.9998, -19.0017, 4711,   2935.2,   2.7010,  34.9180,2,  34.9175,2,    242.6,2,    242.5,2,    37.92,2,    21.03,2,     0.00,2,     1.56,4, -999.000,9,    0.015,2,    0.001,2,   -999.0,9,   -999.0,9,  2.4634
     316N142_3,   A15,    33,  1,     10,     10,2,19940415,0934,  4.9998, -19.0017, 4711,   3138.1,   2.6110,  34.9116,2,  34.9116,2,    242.3,2,    243.1,2,    39.79,2,    21.13,2,     0.00,2,     1.56,4, -999.000,9, -999.000,9, -999.000,9,   -999.0,9,   -999.0,9,  2.3545
     316N142_3,   A15,    33,  1,      9,      9,2,19940415,0934,  4.9998, -19.0017, 4711,   3342.4,   2.5298,  34.9051,2,  34.9043,2,    242.7,2,    243.4,2,    41.79,2,    21.27,2,     0.00,2,     1.57,4, -999.000,9, -999.000,9, -999.000,9,   -999.0,9,   -999.0,9,  2.2536
     316N142_3,   A15,    33,  1,      8,      8,2,19940415,0934,  4.9998, -19.0017, 4711,   3546.1,   2.4659,  34.9008,2,  34.9002,2,    242.3,2,    242.4,2,    43.79,2,    21.46,2,     0.00,2,     1.58,4, -999.000,9,    0.009,2,    0.062,2,   -999.0,9,   -999.0,9,  2.1694
     316N142_3,   A15,    33,  1,      7,      7,2,19940415,0934,  4.9998, -19.0017, 4711,   3749.7,   2.4084,  34.8951,2,  34.8939,2,    242.8,2,    242.9,2,    45.53,2,    21.56,2,     0.00,2,     1.58,4, -999.000,9,    0.011,2,    0.104,2,   -999.0,9,   -999.0,9,  2.0910
     316N142_3,   A15,    33,  1,      6,      6,2,19940415,0934,  4.9998, -19.0017, 4711,   3954.0,   2.3726,  34.8901,2,  34.8903,2,    242.7,2,    243.2,2,    46.78,2,    21.65,2,     0.00,2,     1.60,4, -999.000,9,    0.019,2,    0.073,2,   -999.0,9,   -999.0,9,  2.0332
     316N142_3,   A15,    33,  1,      5,      5,2,19940415,0934,  4.9998, -19.0017, 4711,   4157.9,   2.3125,  34.8831,2,  34.8824,2,    242.6,2,    243.0,2,    49.28,2,    21.89,2,     0.00,2,     1.61,4, -999.000,9, -999.000,9, -999.000,9,   -999.0,9,   -999.0,9,  1.9514
     316N142_3,   A15,    33,  1,      4,      4,2,19940415,0934,  4.9998, -19.0017, 4711,   4363.2,   2.2588,  34.8757,2,  34.8751,2,    243.2,2,    242.7,2,    51.53,2,    22.12,2,     0.00,2,     1.63,4, -999.000,9,    0.010,2,    0.118,2,   -999.0,9,   -999.0,9,  1.8753
     316N142_3,   A15,    33,  1,      3,      3,3,19940415,0934,  4.9998, -19.0017, 4711,   4569.1,   2.2309,  34.8705,2,  34.8818,4,    243.1,2,   -999.0,9,  -999.00,9,  -999.00,9,  -999.00,9,  -999.00,9, -999.000,9, -999.000,9, -999.000,9,   -999.0,9,   -999.0,9,  1.8238
     316N142_3,   A15,    33,  1,      2,      2,2,19940415,0934,  4.9998, -19.0017, 4711,   4722.2,   2.2251,  34.8679,2,  34.8668,2,    243.7,2,    245.1,4,    53.78,2,    22.36,2,     0.00,2,     1.65,4, -999.000,9,    0.015,2,    0.056,2,   -999.0,9,   -999.0,9,  1.7996
     316N142_3,   A15,    33,  1,      1,      1,2,19940415,0934,  4.9998, -19.0017, 4711,   4816.6,   2.2322,  34.8679,2,  34.8674,2,    243.6,3,    242.7,2,    53.89,2,    22.45,2,     0.00,2,     1.65,4, -999.000,9,    0.015,2,    0.082,2,   -999.0,9,   -999.0,9,  1.7948