BOTTLE,20020814WHPSIOKJU
EXPOCODE,SECT_ID,STNNBR,CASTNO,SAMPNO,BTLNBR,BTLNBR_FLAG_W,DATE,TIME,LATITUDE,LONGITUDE,DEPTH,CTDPRS,CTDTMP,CTDSAL,CTDSAL_FLAG_W,SALNTY,SALNTY_FLAG_W,CTDOXY,CTDOXY_FLAG_W,OXYGEN,OXYGEN_FLAG_W,SILCAT,SILCAT_FLAG_W,NITRAT,NITRAT_FLAG_W,NITRIT,NITRIT_FLAG_W,PHSPHT,PHSPHT_FLAG_W,CFC-11,CFC-11_FLAG_W,CFC-12,CFC-12_FLAG_W,CCL4,CCL4_FLAG_W,TCARBN,TCARBN_FLAG_W,ALKALI,ALKALI_FLAG_W,THETA
,,,,,,,,,,,,DBAR,ITS-90,PSS-78,,PSS-78,,UMOL/KG,,UMOL/KG,,UMOL/KG,,UMOL/KG,,UMOL/KG,,UMOL/KG,,PMOL/KG,,PMOL/KG,,PMOL/KG,,UMOL/KG,,UMOL/KG,,DEG C
     316N142_3,   A15,    90,  1,     39,     39,2,19940430,2318,-22.6250, -19.0010, 4739,      7.2,  25.4689,  36.8896,2,  36.8902,2,    201.6,4,    208.0,2,     1.56,2,     0.00,2,     0.01,2,     0.16,2,    1.773,2,    1.049,2,    2.172,2,   2070.1,2,   2413.6,2, 25.4673
     316N142_3,   A15,    90,  1,     35,     35,2,19940430,2318,-22.6250, -19.0010, 4739,     90.0,  21.8550,  36.4170,2,  36.4199,2,    228.2,2,    229.2,2,     1.54,2,     0.00,2,     0.01,2,     0.15,2,    2.041,2,    1.238,2,    2.015,2,   2063.7,2,   2385.9,2, 21.8372
     316N142_3,   A15,    90,  1,     38,     38,2,19940430,2318,-22.6250, -19.0010, 4739,    175.6,  17.8647,  35.8463,2,  35.8309,2,    215.0,2,    215.1,2,     1.95,2,     0.58,2,     0.05,2,     0.31,2,    2.356,6,    1.347,6,    1.522,6,   2081.0,2,   2350.6,2, 17.8345
     316N142_3,   A15,    90,  1,     33,     33,2,19940430,2318,-22.6250, -19.0010, 4739,    265.7,  14.7494,  35.3810,2,  35.3599,2,    204.1,2,    205.7,2,     3.35,2,     6.20,2,     0.01,2,     0.62,2,    2.314,2,    1.322,2,    1.216,2,   2094.3,2,   2323.0,2, 14.7094
     316N142_3,   A15,    90,  1,     41,     41,2,19940430,2318,-22.6250, -19.0010, 4739,    355.8,  12.4319,  35.0870,2,  35.0837,2,    201.1,2,    199.7,2,     5.32,2,    11.67,2,     0.01,2,     0.93,2,    1.981,2,    1.158,2,    0.863,2,   2113.2,2,   2306.2,2, 12.3840
     316N142_3,   A15,    90,  1,     31,     31,2,19940430,2318,-22.6250, -19.0010, 4739,    455.9,   9.9535,  34.8011,2,  34.7983,2,    193.0,2,    191.9,2,     9.13,2,    18.30,2,     0.00,2,     1.33,2,    1.632,2,    0.924,2,    1.045,2,   2138.4,2,   2298.0,2,  9.9002
     316N142_3,   A15,    90,  1,     37,     37,2,19940430,2318,-22.6250, -19.0010, 4739,    556.6,   7.7748,  34.5851,2,  34.5826,2,    183.9,2,    184.8,2,    14.64,2,    24.57,2,     0.00,2,     1.70,2,    1.202,6,    0.671,6,    1.288,6,   2163.2,2,   2287.3,2,  7.7185
     316N142_3,   A15,    90,  1,     29,     29,2,19940430,2318,-22.6250, -19.0010, 4739,    647.6,   6.1992,  34.4565,2,  34.4548,2,    189.6,2,    189.3,2,    19.73,2,    28.05,2,     0.00,2,     1.93,2,    1.020,2,    0.528,2,    1.485,2,   2177.1,2,   2291.2,2,  6.1410
     316N142_3,   A15,    90,  1,     28,     28,2,19940430,2318,-22.6250, -19.0010, 4739,    727.7,   5.1762,  34.4038,2,  34.4007,2,    189.9,2,    188.1,2,    25.53,2,    30.65,2,     0.00,2,     2.10,2,    0.702,2,    0.339,2,    1.604,2,   2189.0,2,   2292.7,2,  5.1161
     316N142_3,   A15,    90,  1,     27,     27,2,19940430,2318,-22.6250, -19.0010, 4739,    808.0,   4.4130,  34.3855,2,  34.3834,2,    189.5,2,    189.4,2,    31.78,2,    31.91,2,     0.00,2,     2.19,2,    0.468,2,    0.229,2,    1.298,2,   2200.3,2,   2299.5,2,  4.3506
     316N142_3,   A15,    90,  1,     26,     26,2,19940430,2318,-22.6250, -19.0010, 4739,    909.0,   3.8362,  34.4176,2,  34.4155,2,    186.0,2,    186.5,2,    39.32,2,    32.75,2,     0.00,2,     2.26,2,    0.357,2,    0.129,2,    0.906,2,   2210.5,2,   2305.7,2,  3.7693
     316N142_3,   A15,    90,  1,     25,     25,2,19940430,2318,-22.6250, -19.0010, 4739,   1009.8,   3.5733,  34.4886,2,  34.4896,2,    182.1,2,    183.1,2,    44.01,2,    32.66,2,     0.00,2,     2.26,2,    0.156,2,    0.054,2,    0.569,2,   2218.4,2,   2314.3,2,  3.5002
     316N142_3,   A15,    90,  1,     24,     24,2,19940430,2318,-22.6250, -19.0010, 4739,   1135.7,   3.4293,  34.5908,2,  34.5896,2,    185.3,2,    186.2,2,    45.27,2,    31.26,2,     0.00,2,     2.17,2, -999.000,9, -999.000,9, -999.000,9,   -999.0,9,   -999.0,9,  3.3470
     316N142_3,   A15,    90,  1,     23,     23,2,19940430,2318,-22.6250, -19.0010, 4739,   1261.8,   3.3918,  34.6605,2,  34.6591,2,    190.6,2,    191.4,2,    44.39,2,    29.82,2,     0.00,2,     2.07,2, -999.000,9,    0.009,2,    0.257,2,   2214.0,2,   2320.2,2,  3.2994
     316N142_3,   A15,    90,  1,     22,     22,2,19940430,2318,-22.6250, -19.0010, 4739,   1413.8,   3.2966,  34.7496,2,  34.7480,2,    202.7,2,    203.1,2,    42.64,2,    27.50,2,     0.00,2,     1.91,2, -999.000,9, -999.000,9, -999.000,9,   -999.0,9,   -999.0,9,  3.1922
     316N142_3,   A15,    90,  1,     21,     21,2,19940430,2318,-22.6250, -19.0010, 4739,   1565.6,   3.2654,  34.8121,2,  34.8129,2,    214.1,2,    215.2,2,    38.75,2,    25.37,2,     0.00,2,     1.76,2, -999.000,9, -999.000,9, -999.000,9,   2199.7,2,   2324.2,2,  3.1483
     316N142_3,   A15,    90,  1,     20,     20,2,19940430,2318,-22.6250, -19.0010, 4739,   1691.5,   3.2790,  34.8670,2,  34.8663,2,    229.7,2,    228.8,2,    33.88,2,    23.30,2,     0.00,2,     1.61,2, -999.000,9,    0.007,2,    0.252,2,   -999.0,9,   -999.0,9,  3.1505
     316N142_3,   A15,    90,  1,     19,     19,2,19940430,2318,-22.6250, -19.0010, 4739,   1823.5,   3.2871,  34.9029,2,  34.9036,2,    238.0,2,    238.0,2,    29.73,2,    21.69,2,     0.00,2,     1.51,2, -999.000,9, -999.000,9, -999.000,9,   2180.8,2,   2322.1,2,  3.1466
     316N142_3,   A15,    90,  1,     40,     40,2,19940430,2318,-22.6250, -19.0010, 4739,   1955.4,   3.2659,  34.9254,2,  34.9260,2,    246.0,2,    245.5,2,    27.00,2,    20.68,2,     0.00,2,     1.42,2, -999.000,9,    0.022,2,    0.150,2,   -999.0,9,   -999.0,9,  3.1135
     316N142_3,   A15,    90,  1,     17,     17,2,19940430,2318,-22.6250, -19.0010, 4739,   2092.1,   3.2036,  34.9366,2,  34.9368,2,    250.3,2,    250.8,2,    26.13,2,    20.13,2,     0.00,2,     1.38,2, -999.000,9,    0.010,2,    0.108,2,   2172.9,2,   2321.0,2,  3.0394
     316N142_3,   A15,    90,  1,     16,     16,2,19940430,2318,-22.6250, -19.0010, 4739,   2224.0,   3.1119,  34.9370,2,  34.9362,2,    251.6,2,    251.4,2,    27.10,2,    20.08,2,     0.00,2,     1.38,2, -999.000,9, -999.000,9, -999.000,9,   -999.0,9,   -999.0,9,  2.9367
     316N142_3,   A15,    90,  1,     15,     15,2,19940430,2318,-22.6250, -19.0010, 4739,   2375.6,   3.0262,  34.9346,2,  34.9343,2,    252.5,2,    251.9,2,    28.50,2,    20.18,2,     0.00,2,     1.38,2, -999.000,9, -999.000,9, -999.000,9,   2172.7,2,   2324.5,2,  2.8379
     316N142_3,   A15,    90,  1,     14,     14,2,19940430,2318,-22.6250, -19.0010, 4739,   2528.1,   2.9244,  34.9296,2,  34.9303,2,    252.0,2,    252.3,2,    30.32,2,    20.32,2,     0.00,2,     1.40,2, -999.000,9,    0.012,2,    0.011,2,   -999.0,9,   -999.0,9,  2.7231
     316N142_3,   A15,    90,  1,     13,     13,2,19940430,2318,-22.6250, -19.0010, 4739,   2681.3,   2.8570,  34.9259,2,  34.9258,2,    252.1,2,    252.0,2,    31.72,2,    20.41,2,     0.00,2,     1.40,2, -999.000,9, -999.000,9, -999.000,9,   2176.8,2,   2329.0,2,  2.6419
     316N142_3,   A15,    90,  1,     12,     12,2,19940430,2318,-22.6250, -19.0010, 4739,   2833.9,   2.7667,  34.9207,2,  34.9199,2,    252.0,2,    252.1,2,    33.54,2,    20.46,2,     0.00,2,     1.41,2, -999.000,9, -999.000,9, -999.000,9,   -999.0,9,   -999.0,9,  2.5381
     316N142_3,   A15,    90,  1,     11,     11,2,19940430,2318,-22.6250, -19.0010, 4739,   2987.0,   2.7034,  34.9167,2,  34.9171,2,    252.6,2,    252.5,2,    34.37,2,    20.42,2,     0.00,2,     1.42,2, -999.000,9, -999.000,9, -999.000,9,   2176.7,2,   2332.0,2,  2.4605
     316N142_3,   A15,    90,  1,     10,     10,2,19940430,2318,-22.6250, -19.0010, 4739,   3190.9,   2.6320,  34.9116,2,  34.9113,2,    252.7,2,    252.8,2,    35.49,2,    20.47,2,     0.00,2,     1.42,2, -999.000,9, -999.000,9, -999.000,9,   -999.0,9,   -999.0,9,  2.3695
     316N142_3,   A15,    90,  1,      9,      9,2,19940430,2318,-22.6250, -19.0010, 4739,   3394.4,   2.4499,  34.8953,2,  34.8949,2,    251.3,2,    251.7,2,    40.87,2,    21.11,2,     0.00,2,     1.46,2, -999.000,9,    0.010,2,    0.048,2,   2183.1,2,   2334.2,2,  2.1702
     316N142_3,   A15,    90,  1,      8,      8,2,19940430,2318,-22.6250, -19.0010, 4739,   3598.8,   2.1828,  34.8669,2,  34.8670,2,    247.5,2,    247.5,2,    51.15,2,    22.63,2,     0.00,2,     1.56,2, -999.000,9, -999.000,9, -999.000,9,   -999.0,9,   -999.0,9,  1.8879
     316N142_3,   A15,    90,  1,      7,      7,2,19940430,2318,-22.6250, -19.0010, 4739,   3802.8,   1.9054,  34.8367,2,  34.8380,2,    242.0,2,    242.3,2,    62.21,2,    24.20,2,     0.00,2,     1.67,2, -999.000,9, -999.000,9, -999.000,9,   2205.7,2,   2347.5,2,  1.5959
     316N142_3,   A15,    90,  1,      6,      6,2,19940430,2318,-22.6250, -19.0010, 4739,   4006.9,   1.5442,  34.8002,2,  34.8007,2,    237.0,2,    237.3,2,    75.70,2,    26.14,2,     0.00,2,     1.81,2, -999.000,9, -999.000,9, -999.000,9,   -999.0,9,   -999.0,9,  1.2226
     316N142_3,   A15,    90,  1,      5,      5,2,19940430,2318,-22.6250, -19.0010, 4739,   4211.4,   1.3437,  34.7788,2,  34.7797,2,    233.9,2,    233.7,2,    83.45,2,    27.21,2,     0.00,2,     1.89,2, -999.000,9,    0.005,2,    0.098,2,   2228.6,2,   2357.9,2,  1.0054
     316N142_3,   A15,    90,  1,      4,      4,2,19940430,2318,-22.6250, -19.0010, 4739,   4416.4,   1.2464,  34.7674,2,  34.7681,2,    232.5,2,    232.3,2,    87.85,2,    27.85,2,     0.00,2,     1.93,2, -999.000,9, -999.000,9, -999.000,9,   -999.0,9,   -999.0,9,  0.8883
     316N142_3,   A15,    90,  1,      3,      3,2,19940430,2318,-22.6250, -19.0010, 4739,   4590.9,   1.1465,  34.7562,2,  34.7579,2,    231.3,2,    231.3,2,    93.31,2,    28.50,2,     0.00,2,     1.98,2, -999.000,9, -999.000,9, -999.000,9,   2234.5,2,   2361.4,2,  0.7717
     316N142_3,   A15,    90,  1,      2,      2,2,19940430,2318,-22.6250, -19.0010, 4739,   4745.5,   1.0779,  34.7475,2,  34.7482,2,    230.1,2,    229.7,2,    97.90,2,    29.11,2,     0.00,2,     2.02,2, -999.000,9, -999.000,9, -999.000,9,   -999.0,9,   -999.0,9,  0.6875
     316N142_3,   A15,    90,  1,      1,      1,2,19940430,2318,-22.6250, -19.0010, 4739,   4890.5,   1.0073,  34.7392,2,  34.7398,2,    228.7,2,    228.6,2,   102.21,2,    29.62,2,     0.00,2,     2.05,2, -999.000,9,    0.012,2,    0.085,2,   2240.9,2,   2366.6,2,  0.6023