BOTTLE,20020814WHPSIOKJU
EXPOCODE,SECT_ID,STNNBR,CASTNO,SAMPNO,BTLNBR,BTLNBR_FLAG_W,DATE,TIME,LATITUDE,LONGITUDE,DEPTH,CTDPRS,CTDTMP,CTDSAL,CTDSAL_FLAG_W,SALNTY,SALNTY_FLAG_W,CTDOXY,CTDOXY_FLAG_W,OXYGEN,OXYGEN_FLAG_W,SILCAT,SILCAT_FLAG_W,NITRAT,NITRAT_FLAG_W,NITRIT,NITRIT_FLAG_W,PHSPHT,PHSPHT_FLAG_W,CFC-11,CFC-11_FLAG_W,CFC-12,CFC-12_FLAG_W,CCL4,CCL4_FLAG_W,TCARBN,TCARBN_FLAG_W,ALKALI,ALKALI_FLAG_W,THETA
,,,,,,,,,,,,DBAR,ITS-90,PSS-78,,PSS-78,,UMOL/KG,,UMOL/KG,,UMOL/KG,,UMOL/KG,,UMOL/KG,,UMOL/KG,,PMOL/KG,,PMOL/KG,,PMOL/KG,,UMOL/KG,,UMOL/KG,,DEG C
     316N142_3,   A15,    97,  1,     39,     39,2,19940502,2127,-26.2008, -19.0002, 4252,      6.6,  23.6394,  36.2952,2,  36.2949,2,    206.0,4,    213.9,2,     1.75,2,     0.05,2,     0.00,2,     0.06,4, -999.000,9, -999.000,9, -999.000,9,   -999.0,9,   -999.0,9, 23.6380
     316N142_3,   A15,    97,  1,     35,     35,2,19940502,2127,-26.2008, -19.0002, 4252,     74.7,  19.5062,  35.8064,2,  35.8045,2,    247.3,2,    248.1,2,     1.61,2,     0.05,2,     0.00,2,     0.10,4, -999.000,9, -999.000,9, -999.000,9,   -999.0,9,   -999.0,9, 19.4926
     316N142_3,   A15,    97,  1,     38,     38,2,19940502,2127,-26.2008, -19.0002, 4252,     95.1,  19.0171,  35.9617,2,  35.9594,2,    234.0,2,    232.1,2,     1.46,2,     0.05,2,     0.00,2,     0.10,4, -999.000,9, -999.000,9, -999.000,9,   -999.0,9,   -999.0,9, 19.0000
     316N142_3,   A15,    97,  1,     33,     33,2,19940502,2127,-26.2008, -19.0002, 4252,    179.8,  15.7161,  35.4918,2,  35.4927,2,    225.1,2,    221.8,2,     1.90,2,     2.26,2,     0.02,2,     0.32,4, -999.000,9, -999.000,9, -999.000,9,   -999.0,9,   -999.0,9, 15.6879
     316N142_3,   A15,    97,  1,     41,     41,2,19940502,2127,-26.2008, -19.0002, 4252,    255.0,  13.8671,  35.2621,2,  35.2599,2,    208.5,2,    209.4,2,     3.51,2,     7.52,2,     0.00,2,     0.63,4, -999.000,9, -999.000,9, -999.000,9,   -999.0,9,   -999.0,9, 13.8303
     316N142_3,   A15,    97,  1,     31,     31,2,19940502,2127,-26.2008, -19.0002, 4252,    327.9,  12.4692,  35.0989,2,  35.0990,2,    206.0,2,    206.4,2,     4.83,2,    11.16,2,     0.00,2,     0.84,4, -999.000,9, -999.000,9, -999.000,9,   -999.0,9,   -999.0,9, 12.4250
     316N142_3,   A15,    97,  1,     37,     37,2,19940502,2127,-26.2008, -19.0002, 4252,    401.9,  10.7516,  34.8863,2,  34.8852,2,    205.4,2,    201.8,2,     7.32,2,    15.77,2,     0.00,2,     1.11,4, -999.000,9, -999.000,9, -999.000,9,   -999.0,9,   -999.0,9, 10.7023
     316N142_3,   A15,    97,  1,     29,     29,2,19940502,2127,-26.2008, -19.0002, 4252,    476.6,   9.3165,  34.7232,2,  34.7264,2,    200.6,2,    199.2,2,     9.96,2,    19.51,2,     0.00,2,     1.34,4, -999.000,9, -999.000,9, -999.000,9,   -999.0,9,   -999.0,9,  9.2630
     316N142_3,   A15,    97,  1,     28,     28,2,19940502,2127,-26.2008, -19.0002, 4252,    553.8,   7.5790,  34.5506,2,  34.5496,2,    197.6,2,    198.9,2,    14.35,2,    24.04,2,     0.00,2,     1.62,4, -999.000,9, -999.000,9, -999.000,9,   -999.0,9,   -999.0,9,  7.5238
     316N142_3,   A15,    97,  1,     27,     27,2,19940502,2127,-26.2008, -19.0002, 4252,    635.5,   6.1217,  34.4240,2,  34.4238,2,    203.8,2,    207.3,2,    18.76,2,    26.88,2,     0.00,2,     1.80,4, -999.000,9, -999.000,9, -999.000,9,   -999.0,9,   -999.0,9,  6.0651
     316N142_3,   A15,    97,  1,     26,     26,2,19940502,2127,-26.2008, -19.0002, 4252,    723.7,   4.9726,  34.3535,2,  34.3530,2,    210.8,2,    210.2,2,    24.93,2,    29.28,2,     0.00,2,     1.96,4, -999.000,9, -999.000,9, -999.000,9,   -999.0,9,   -999.0,9,  4.9141
     316N142_3,   A15,    97,  1,     25,     25,2,19940502,2127,-26.2008, -19.0002, 4252,    803.2,   4.4180,  34.3483,2,  34.3464,2,    205.2,2,    205.8,2,    30.81,2,    30.76,2,     0.00,2,     2.06,4, -999.000,9, -999.000,9, -999.000,9,   -999.0,9,   -999.0,9,  4.3560
     316N142_3,   A15,    97,  1,     24,     24,2,19940502,2127,-26.2008, -19.0002, 4252,    902.1,   3.8289,  34.3729,2,  34.3708,2,    194.9,2,    197.8,2,    39.96,2,    32.29,2,     0.00,2,     2.16,4, -999.000,9, -999.000,9, -999.000,9,   -999.0,9,   -999.0,9,  3.7627
     316N142_3,   A15,    97,  1,     23,     23,2,19940502,2127,-26.2008, -19.0002, 4252,   1000.3,   3.4712,  34.4210,2,  34.4198,2,    189.6,2,    190.5,2,    47.81,2,    32.99,2,     0.00,2,     2.22,4, -999.000,9, -999.000,9, -999.000,9,   -999.0,9,   -999.0,9,  3.3997
     316N142_3,   A15,    97,  1,     22,     22,2,19940502,2127,-26.2008, -19.0002, 4252,   1099.8,   3.2287,  34.4873,2,  34.4849,2,    184.8,2,    185.7,2,    54.05,2,    33.09,2,     0.00,2,     2.23,4, -999.000,9, -999.000,9, -999.000,9,   -999.0,9,   -999.0,9,  3.1512
     316N142_3,   A15,    97,  1,     21,     21,2,19940502,2127,-26.2008, -19.0002, 4252,   1227.3,   3.0543,  34.5855,2,  34.5841,2,    186.3,2,    186.8,2,    57.48,2,    31.98,2,     0.00,2,     2.15,4, -999.000,9, -999.000,9, -999.000,9,   -999.0,9,   -999.0,9,  2.9681
     316N142_3,   A15,    97,  1,     20,     20,2,19940502,2127,-26.2008, -19.0002, 4252,   1357.3,   3.0063,  34.6649,2,  34.6632,2,    193.0,2,    192.1,2,    55.38,2,    30.27,2,     0.00,2,     2.03,4, -999.000,9, -999.000,9, -999.000,9,   -999.0,9,   -999.0,9,  2.9100
     316N142_3,   A15,    97,  1,     19,     19,2,19940502,2127,-26.2008, -19.0002, 4252,   1490.9,   2.9623,  34.7127,2,  34.7114,2,    200.3,2,    198.8,2,    53.15,2,    28.84,2,     0.00,2,     1.93,4, -999.000,9, -999.000,9, -999.000,9,   -999.0,9,   -999.0,9,  2.8553
     316N142_3,   A15,    97,  1,     40,     40,2,19940502,2127,-26.2008, -19.0002, 4252,   1623.7,   2.8882,  34.7589,2,  34.7583,2,    209.6,2,    207.4,2,    50.91,2,    27.37,2,     0.00,2,     1.82,4, -999.000,9, -999.000,9, -999.000,9,   -999.0,9,   -999.0,9,  2.7708
     316N142_3,   A15,    97,  1,     17,     17,2,19940502,2127,-26.2008, -19.0002, 4252,   1754.4,   2.8421,  34.8026,2,  34.8025,2,    218.7,2,    221.4,3,    47.35,2,    25.72,2,     0.00,2,     1.69,4, -999.000,9, -999.000,9, -999.000,9,   -999.0,9,   -999.0,9,  2.7140
     316N142_3,   A15,    97,  1,     16,     16,2,19940502,2127,-26.2008, -19.0002, 4252,   1904.6,   2.8972,  34.8521,2,  34.8512,2,    231.0,2,    230.5,2,    40.83,2,    23.71,2,     0.00,2,     1.56,4, -999.000,9, -999.000,9, -999.000,9,   -999.0,9,   -999.0,9,  2.7550
     316N142_3,   A15,    97,  1,     15,     15,2,19940502,2127,-26.2008, -19.0002, 4252,   2062.4,   2.9606,  34.8889,2,  34.8887,2,    241.3,2,    240.1,2,    35.22,2,    22.16,2,     0.00,2,     1.42,4, -999.000,9, -999.000,9, -999.000,9,   -999.0,9,   -999.0,9,  2.8031
     316N142_3,   A15,    97,  1,     14,     14,2,19940502,2127,-26.2008, -19.0002, 4252,   2217.8,   2.9637,  34.9115,2,  34.9109,2,    247.4,2,    246.7,2,    32.27,2,    21.20,2,     0.00,2,     1.35,4, -999.000,9, -999.000,9, -999.000,9,   -999.0,9,   -999.0,9,  2.7917
     316N142_3,   A15,    97,  1,     13,     13,2,19940502,2127,-26.2008, -19.0002, 4252,   2371.3,   2.9266,  34.9202,2,  34.9203,2,    250.1,2,    249.5,2,    31.68,2,    20.74,2,     0.00,2,     1.34,4, -999.000,9, -999.000,9, -999.000,9,   -999.0,9,   -999.0,9,  2.7405
     316N142_3,   A15,    97,  1,     12,     12,2,19940502,2127,-26.2008, -19.0002, 4252,   2522.6,   2.8858,  34.9221,2,  34.9217,2,    250.5,2,    250.6,2,    32.12,2,    20.65,2,     0.00,2,     1.32,4, -999.000,9, -999.000,9, -999.000,9,   -999.0,9,   -999.0,9,  2.6858
     316N142_3,   A15,    97,  1,     11,     11,2,19940502,2127,-26.2008, -19.0002, 4252,   2725.3,   2.7934,  34.9192,2,  34.9193,2,    252.0,2,    251.4,2,    33.60,2,    20.66,2,     0.00,2,     1.31,4, -999.000,9, -999.000,9, -999.000,9,   -999.0,9,   -999.0,9,  2.5752
     316N142_3,   A15,    97,  1,     10,     10,2,19940502,2127,-26.2008, -19.0002, 4252,   2931.9,   2.7055,  34.9146,2,  34.9146,2,    251.6,2,    251.9,2,    35.37,2,    20.75,2,     0.00,2,     1.32,4, -999.000,9, -999.000,9, -999.000,9,   -999.0,9,   -999.0,9,  2.4682
     316N142_3,   A15,    97,  1,      9,      9,2,19940502,2127,-26.2008, -19.0002, 4252,   3137.8,   2.5678,  34.9034,2,  34.9036,2,    250.8,2,    255.0,4,    39.20,2,    21.16,2,     0.00,2,     1.35,4, -999.000,9, -999.000,9, -999.000,9,   -999.0,9,   -999.0,9,  2.3123
     316N142_3,   A15,    97,  1,      8,      8,2,19940502,2127,-26.2008, -19.0002, 4252,   3343.6,   2.3515,  34.8832,2,  34.8830,2,    248.6,2,    248.7,2,    47.20,2,    22.17,2,     0.00,2,     1.43,4, -999.000,9, -999.000,9, -999.000,9,   -999.0,9,   -999.0,9,  2.0796
     316N142_3,   A15,    97,  1,      7,      7,2,19940502,2127,-26.2008, -19.0002, 4252,   3496.3,   2.1193,  34.8587,2,  34.8592,2,    245.9,2,    245.1,2,    57.02,2,    23.88,2,     0.00,2,     1.50,4, -999.000,9, -999.000,9, -999.000,9,   -999.0,9,   -999.0,9,  1.8370
     316N142_3,   A15,    97,  1,      6,      6,2,19940502,2127,-26.2008, -19.0002, 4252,   3649.5,   1.9122,  34.8367,2,  34.8374,2,    242.3,2,    241.6,2,    67.80,2,    24.84,2,     0.00,2,     1.77,4, -999.000,9, -999.000,9, -999.000,9,   -999.0,9,   -999.0,9,  1.6190
     316N142_3,   A15,    97,  1,      5,      5,2,19940502,2127,-26.2008, -19.0002, 4252,   3801.9,   1.7759,  34.8222,2,  34.8221,2,    239.7,2,    239.4,2,    73.83,2,    25.58,2,     0.00,2,     1.83,4, -999.000,9, -999.000,9, -999.000,9,   -999.0,9,   -999.0,9,  1.4700
     316N142_3,   A15,    97,  1,      4,      4,2,19940502,2127,-26.2008, -19.0002, 4252,   3955.0,   1.6461,  34.8081,2,  34.8081,2,    237.4,2,    237.5,2,    79.13,2,    26.18,2,     0.00,2,     1.88,4, -999.000,9, -999.000,9, -999.000,9,   -999.0,9,   -999.0,9,  1.3272
     316N142_3,   A15,    97,  1,      3,      3,2,19940502,2127,-26.2008, -19.0002, 4252,   4108.6,   1.5977,  34.8016,2,  34.8014,2,    236.5,2,    236.9,2,    80.50,2,    26.42,2,     0.00,2,     1.88,4, -999.000,9, -999.000,9, -999.000,9,   -999.0,9,   -999.0,9,  1.2633
     316N142_3,   A15,    97,  1,      2,      2,2,19940502,2127,-26.2008, -19.0002, 4252,   4262.8,   1.5606,  34.7959,2,  34.7965,2,    235.9,2,    235.2,2,    81.41,2,    26.60,2,     0.00,2,     1.90,4, -999.000,9, -999.000,9, -999.000,9,   -999.0,9,   -999.0,9,  1.2101
     316N142_3,   A15,    97,  1,      1,      1,2,19940502,2127,-26.2008, -19.0002, 4252,   4428.1,   1.5275,  34.7907,2,  34.7914,2,    234.1,2,    240.0,4,    82.63,2,    26.79,2,     0.00,2,     1.91,4, -999.000,9, -999.000,9, -999.000,9,   -999.0,9,   -999.0,9,  1.1592