BOTTLE,20020814WHPSIOKJU
EXPOCODE,SECT_ID,STNNBR,CASTNO,SAMPNO,BTLNBR,BTLNBR_FLAG_W,DATE,TIME,LATITUDE,LONGITUDE,DEPTH,CTDPRS,CTDTMP,CTDSAL,CTDSAL_FLAG_W,SALNTY,SALNTY_FLAG_W,CTDOXY,CTDOXY_FLAG_W,OXYGEN,OXYGEN_FLAG_W,SILCAT,SILCAT_FLAG_W,NITRAT,NITRAT_FLAG_W,NITRIT,NITRIT_FLAG_W,PHSPHT,PHSPHT_FLAG_W,CFC-11,CFC-11_FLAG_W,CFC-12,CFC-12_FLAG_W,CCL4,CCL4_FLAG_W,TCARBN,TCARBN_FLAG_W,ALKALI,ALKALI_FLAG_W,THETA
,,,,,,,,,,,,DBAR,ITS-90,PSS-78,,PSS-78,,UMOL/KG,,UMOL/KG,,UMOL/KG,,UMOL/KG,,UMOL/KG,,UMOL/KG,,PMOL/KG,,PMOL/KG,,PMOL/KG,,UMOL/KG,,UMOL/KG,,DEG C
     316N142_3,   A15,    60,  1,     39,     39,2,19940422,2048, -7.5003, -19.0003, 4386,      9.7,  28.0122,  36.2327,2,  36.2331,2,    210.8,4,    198.2,2,     1.91,2,     0.15,2,     0.00,2,     0.13,2, -999.000,9, -999.000,9, -999.000,9,   2021.4,2,   2368.6,2, 28.0099
     316N142_3,   A15,    60,  1,     35,     35,2,19940422,2048, -7.5003, -19.0003, 4386,     59.3,  26.5816,  36.4275,2,  36.4039,2,    212.6,2,    211.4,2,     1.76,2,     0.15,2,     0.00,2,     0.15,2, -999.000,9, -999.000,9, -999.000,9,   2037.5,2,   2380.7,2, 26.5681
     316N142_3,   A15,    60,  1,     38,     38,2,19940422,2048, -7.5003, -19.0003, 4386,     79.6,  23.5298,  36.4957,2,  36.4776,2,    207.7,2,    211.6,2,     2.01,2,     0.15,2,     0.00,2,     0.22,2, -999.000,9, -999.000,9, -999.000,9,   2066.4,2,   2386.8,2, 23.5132
     316N142_3,   A15,    60,  1,     33,     33,2,19940422,2048, -7.5003, -19.0003, 4386,    155.7,  14.3881,  35.4455,2,  35.4263,2,     88.9,2,     86.0,2,     8.46,2,    23.17,2,     0.02,2,     1.54,2, -999.000,9, -999.000,9, -999.000,9,   2193.4,2,   2319.3,2, 14.3651
     316N142_3,   A15,    60,  1,     41,     41,2,19940422,2048, -7.5003, -19.0003, 4386,    241.4,  10.7645,  35.0092,2,  35.0096,2,     89.1,2,     88.9,2,    12.89,2,    28.52,2,     0.00,2,     1.86,2, -999.000,9, -999.000,9, -999.000,9,   2208.3,2,   2299.7,2, 10.7351
     316N142_3,   A15,    60,  1,     31,     31,2,19940422,2048, -7.5003, -19.0003, 4386,    337.3,   9.4915,  34.8678,2,  34.8667,2,     73.0,2,     74.9,2,    16.10,2,    32.82,2,     0.00,2,     2.09,2, -999.000,9, -999.000,9, -999.000,9,   2225.6,2,   2294.7,2,  9.4534
     316N142_3,   A15,    60,  1,     37,     37,2,19940422,2048, -7.5003, -19.0003, 4386,    427.7,   8.4097,  34.7602,2,  34.7586,2,     69.1,2,     70.4,2,    18.90,2,    35.75,2,     0.00,2,     2.27,2, -999.000,9, -999.000,9, -999.000,9,   2236.1,2,   2291.8,2,  8.3646
     316N142_3,   A15,    60,  1,     29,     29,2,19940422,2048, -7.5003, -19.0003, 4386,    527.8,   7.1766,  34.6422,2,  34.6420,2,     84.7,2,     85.7,2,    22.24,2,    36.70,2,     0.00,2,     2.38,2, -999.000,9, -999.000,9, -999.000,9,   2236.0,2,   2290.8,2,  7.1256
     316N142_3,   A15,    60,  1,     28,     28,2,19940422,2048, -7.5003, -19.0003, 4386,    619.1,   6.1358,  34.5529,2,  34.5511,2,    111.1,2,    110.4,2,    25.45,2,    36.34,2,     0.00,2,     2.41,2, -999.000,9, -999.000,9, -999.000,9,   2228.5,2,   2290.5,2,  6.0805
     316N142_3,   A15,    60,  1,     27,     27,2,19940422,2048, -7.5003, -19.0003, 4386,    709.2,   5.4504,  34.5017,2,  34.4996,2,    132.2,2,    129.0,2,    28.25,2,    35.87,2,     0.00,2,     2.41,2, -999.000,9, -999.000,9, -999.000,9,   -999.0,9,   -999.0,9,  5.3904
     316N142_3,   A15,    60,  1,     26,     26,2,19940422,2048, -7.5003, -19.0003, 4386,    809.4,   4.7472,  34.4655,2,  34.4650,2,    151.1,2,    151.4,2,    32.12,2,    34.84,2,     0.00,2,     2.37,2, -999.000,9, -999.000,9, -999.000,9,   -999.0,9,   -999.0,9,  4.6825
     316N142_3,   A15,    60,  1,     25,     25,2,19940422,2048, -7.5003, -19.0003, 4386,    910.9,   4.2663,  34.4803,2,  34.4801,2,    164.9,2,    161.2,2,    35.71,2,    34.18,2,     0.00,2,     2.35,2, -999.000,9, -999.000,9, -999.000,9,   -999.0,9,   -999.0,9,  4.1962
     316N142_3,   A15,    60,  1,     24,     24,2,19940422,2048, -7.5003, -19.0003, 4386,   1011.4,   4.1213,  34.5762,2,  34.5748,2,    163.2,2,    162.5,2,    36.09,2,    33.15,2,     0.00,2,     2.29,2, -999.000,9, -999.000,9, -999.000,9,   -999.0,9,   -999.0,9,  4.0436
     316N142_3,   A15,    60,  1,     23,     23,2,19940422,2048, -7.5003, -19.0003, 4386,   1143.0,   4.1433,  34.7494,2,  34.7487,2,    183.7,2,    181.0,2,    30.83,2,    29.23,2,     0.00,2,     2.03,2, -999.000,9, -999.000,9, -999.000,9,   -999.0,9,   -999.0,9,  4.0539
     316N142_3,   A15,    60,  1,     22,     22,2,19940422,2048, -7.5003, -19.0003, 4386,   1274.2,   4.2216,  34.8525,2,  34.8529,2,    197.8,2,    197.9,2,    26.11,2,    26.17,2,     0.00,2,     1.81,2, -999.000,9, -999.000,9, -999.000,9,   -999.0,9,   -999.0,9,  4.1198
     316N142_3,   A15,    60,  1,     21,     21,2,19940422,2048, -7.5003, -19.0003, 4386,   1405.8,   4.2039,  34.9119,2,  34.9099,2,    216.2,2,    218.0,2,    22.87,2,    23.76,2,     0.00,2,     1.65,2, -999.000,9, -999.000,9, -999.000,9,   -999.0,9,   -999.0,9,  4.0902
     316N142_3,   A15,    60,  1,     20,     20,2,19940422,2048, -7.5003, -19.0003, 4386,   1542.5,   4.0372,  34.9438,2,  34.9435,2,    228.8,2,    227.7,2,    21.24,2,    21.93,2,     0.00,2,     1.53,2, -999.000,9, -999.000,9, -999.000,9,   -999.0,9,   -999.0,9,  3.9128
     316N142_3,   A15,    60,  1,     19,     19,2,19940422,2048, -7.5003, -19.0003, 4386,   1668.4,   3.8367,  34.9475,2,  34.9469,2,    234.1,2,    235.0,2,    22.02,2,    21.32,2,     0.00,2,     1.49,2, -999.000,9, -999.000,9, -999.000,9,   -999.0,9,   -999.0,9,  3.7031
     316N142_3,   A15,    60,  1,     40,     40,2,19940422,2048, -7.5003, -19.0003, 4386,   1794.8,   3.6306,  34.9453,2,  34.9449,2,    238.1,2,    239.4,2,    23.87,2,    21.04,2,     0.00,2,     1.47,2, -999.000,9, -999.000,9, -999.000,9,   -999.0,9,   -999.0,9,  3.4880
     316N142_3,   A15,    60,  1,     17,     17,2,19940422,2048, -7.5003, -19.0003, 4386,   1921.6,   3.4156,  34.9373,2,  34.9372,2,    241.3,2,    240.9,2,    26.79,2,    21.09,2,     0.00,2,     1.47,2, -999.000,9, -999.000,9, -999.000,9,   -999.0,9,   -999.0,9,  3.2642
     316N142_3,   A15,    60,  1,     16,     16,2,19940422,2048, -7.5003, -19.0003, 4386,   2074.2,   3.2131,  34.9317,2,  34.9305,2,    242.6,2,    242.5,2,    29.71,2,    21.14,2,     0.00,2,     1.48,2, -999.000,9, -999.000,9, -999.000,9,   -999.0,9,   -999.0,9,  3.0505
     316N142_3,   A15,    60,  1,     15,     15,2,19940422,2048, -7.5003, -19.0003, 4386,   2225.6,   3.0775,  34.9247,2,  34.9242,2,    242.7,2,    242.6,2,    32.49,2,    21.38,2,     0.00,2,     1.49,2, -999.000,9, -999.000,9, -999.000,9,   -999.0,9,   -999.0,9,  2.9028
     316N142_3,   A15,    60,  1,     14,     14,2,19940422,2048, -7.5003, -19.0003, 4386,   2377.9,   2.9597,  34.9182,2,  34.9181,2,    242.0,2,    241.9,2,    35.00,2,    21.62,2,     0.00,2,     1.52,2, -999.000,9, -999.000,9, -999.000,9,   -999.0,9,   -999.0,9,  2.7725
     316N142_3,   A15,    60,  1,     13,     13,2,19940422,2048, -7.5003, -19.0003, 4386,   2529.6,   2.8504,  34.9106,2,  34.9110,2,    240.2,2,    241.2,2,    37.91,2,    21.96,2,     0.00,2,     1.53,2, -999.000,9, -999.000,9, -999.000,9,   -999.0,9,   -999.0,9,  2.6504
     316N142_3,   A15,    60,  1,     12,     12,2,19940422,2048, -7.5003, -19.0003, 4386,   2733.5,   2.7518,  34.9071,2,  34.9059,2,    241.5,2,    241.4,2,    39.75,2,    22.01,2,     0.00,2,     1.54,2, -999.000,9, -999.000,9, -999.000,9,   -999.0,9,   -999.0,9,  2.5337
     316N142_3,   A15,    60,  1,     11,     11,2,19940422,2048, -7.5003, -19.0003, 4386,   2885.7,   2.6958,  34.9047,2,  34.9043,2,    241.4,2,    242.6,2,    40.53,2,    21.96,2,     0.00,2,     1.54,2, -999.000,9, -999.000,9, -999.000,9,   -999.0,9,   -999.0,9,  2.4634
     316N142_3,   A15,    60,  1,     10,     10,2,19940422,2048, -7.5003, -19.0003, 4386,   3038.3,   2.6494,  34.9037,2,  34.9029,2,    243.4,2,    243.1,2,    40.50,2,    21.83,2,     0.00,2,     1.54,2, -999.000,9, -999.000,9, -999.000,9,   -999.0,9,   -999.0,9,  2.4024
     316N142_3,   A15,    60,  1,      9,      9,2,19940422,2048, -7.5003, -19.0003, 4386,   3190.9,   2.6046,  34.9049,2,  34.8940,4,    246.0,2,    246.6,2,    39.80,2,    21.50,2,     0.00,2,     1.52,2, -999.000,9, -999.000,9, -999.000,9,   -999.0,9,   -999.0,9,  2.3428
     316N142_3,   A15,    60,  1,      8,      8,2,19940422,2048, -7.5003, -19.0003, 4386,   3343.5,   2.5441,  34.9046,2,  34.9035,2,    251.9,2,    250.4,2,    38.84,2,    21.08,2,     0.00,2,     1.49,2, -999.000,9, -999.000,9, -999.000,9,   -999.0,9,   -999.0,9,  2.2674
     316N142_3,   A15,    60,  1,      7,      7,2,19940422,2048, -7.5003, -19.0003, 4386,   3497.8,   2.4889,  34.9021,2,  34.9009,2,    253.1,2,    252.8,2,    38.81,2,    20.89,2,     0.00,2,     1.48,2, -999.000,9, -999.000,9, -999.000,9,   -999.0,9,   -999.0,9,  2.1970
     316N142_3,   A15,    60,  1,      6,      6,2,19940422,2048, -7.5003, -19.0003, 4386,   3650.2,   2.3962,  34.8928,2,  34.8913,2,    251.4,2,    251.9,2,    42.11,2,    21.32,2,     0.00,2,     1.50,2, -999.000,9, -999.000,9, -999.000,9,   -999.0,9,   -999.0,9,  2.0901
     316N142_3,   A15,    60,  1,      5,      5,2,19940422,2048, -7.5003, -19.0003, 4386,   3802.8,   2.2995,  34.8831,2,  34.8816,2,    249.3,2,    251.1,2,    45.68,2,    21.75,2,     0.00,2,     1.51,2, -999.000,9, -999.000,9, -999.000,9,   -999.0,9,   -999.0,9,  1.9791
     316N142_3,   A15,    60,  1,      4,      4,2,19940422,2048, -7.5003, -19.0003, 4386,   3955.1,   2.0163,  34.8543,2,  34.8535,2,    245.6,2,    247.2,2,    55.87,2,    23.27,2,     0.00,2,     1.64,2, -999.000,9, -999.000,9, -999.000,9,   -999.0,9,   -999.0,9,  1.6869
     316N142_3,   A15,    60,  1,      3,      3,2,19940422,2048, -7.5003, -19.0003, 4386,   4134.6,   1.5643,  34.8066,2,  34.8057,2,    238.0,2,    239.0,2,    74.43,2,    25.92,2,     0.00,2,     1.83,2, -999.000,9, -999.000,9, -999.000,9,   -999.0,9,   -999.0,9,  1.2279
     316N142_3,   A15,    60,  1,      2,      2,2,19940422,2048, -7.5003, -19.0003, 4386,   4313.6,   1.2844,  34.7765,2,  34.7772,2,    236.0,2,    234.0,2,    85.55,2,    27.58,2,     0.00,2,     1.94,2, -999.000,9, -999.000,9, -999.000,9,   -999.0,9,   -999.0,9,  0.9366
     316N142_3,   A15,    60,  1,      1,      1,2,19940422,2048, -7.5003, -19.0003, 4386,   4463.8,   1.1039,  34.7566,2,  34.7583,2,    235.5,4,    230.8,2,    93.14,2,    28.68,2,     0.00,2,     2.03,2, -999.000,9, -999.000,9, -999.000,9,   -999.0,9,   -999.0,9,  0.7449