BOTTLE,20020814WHPSIOKJU
EXPOCODE,SECT_ID,STNNBR,CASTNO,SAMPNO,BTLNBR,BTLNBR_FLAG_W,DATE,TIME,LATITUDE,LONGITUDE,DEPTH,CTDPRS,CTDTMP,CTDSAL,CTDSAL_FLAG_W,SALNTY,SALNTY_FLAG_W,CTDOXY,CTDOXY_FLAG_W,OXYGEN,OXYGEN_FLAG_W,SILCAT,SILCAT_FLAG_W,NITRAT,NITRAT_FLAG_W,NITRIT,NITRIT_FLAG_W,PHSPHT,PHSPHT_FLAG_W,CFC-11,CFC-11_FLAG_W,CFC-12,CFC-12_FLAG_W,CCL4,CCL4_FLAG_W,TCARBN,TCARBN_FLAG_W,ALKALI,ALKALI_FLAG_W,THETA
,,,,,,,,,,,,DBAR,ITS-90,PSS-78,,PSS-78,,UMOL/KG,,UMOL/KG,,UMOL/KG,,UMOL/KG,,UMOL/KG,,UMOL/KG,,PMOL/KG,,PMOL/KG,,PMOL/KG,,UMOL/KG,,UMOL/KG,,DEG C
     316N142_3,   A15,   103,  1,     39,     39,2,19940504,1018,-29.1333, -19.0005, 3993,      6.4,  22.6272,  36.2364,2,  36.2352,2,    193.5,4,    219.1,2,     2.45,2,     0.09,2,     0.00,2,     0.13,2, -999.000,9, -999.000,9, -999.000,9,   2056.0,2,   2380.1,2, 22.6259
     316N142_3,   A15,   103,  1,     35,     35,9,19940504,1018,-29.1333, -19.0005, 3993,     53.1,  22.6176,  36.2376,2,-999.0000,9,    199.2,4,   -999.0,9,  -999.00,9,  -999.00,9,  -999.00,9,  -999.00,9, -999.000,9, -999.000,9, -999.000,9,   -999.0,9,   -999.0,9, 22.6069
     316N142_3,   A15,   103,  1,     38,     38,9,19940504,1018,-29.1333, -19.0005, 3993,     99.1,  19.1338,  35.8183,2,-999.0000,9,    230.0,2,   -999.0,9,  -999.00,9,  -999.00,9,  -999.00,9,  -999.00,9, -999.000,9, -999.000,9, -999.000,9,   -999.0,9,   -999.0,9, 19.1159
     316N142_3,   A15,   103,  1,     33,     33,2,19940504,1018,-29.1333, -19.0005, 3993,    174.5,  15.9981,  35.5088,2,  35.5000,2,    217.5,2,    217.5,2,     3.16,2,     2.40,2,     0.03,2,     0.42,2, -999.000,9, -999.000,9, -999.000,9,   2082.5,2,   2331.4,2, 15.9704
     316N142_3,   A15,   103,  1,     41,     41,2,19940504,1018,-29.1333, -19.0005, 3993,    250.2,  13.7822,  35.2215,2,  35.2278,2,    210.6,2,    211.3,2,     4.15,2,     7.39,2,     0.00,2,     0.66,2, -999.000,9, -999.000,9, -999.000,9,   2095.5,2,   2314.5,2, 13.7463
     316N142_3,   A15,   103,  1,     31,     31,2,19940504,1018,-29.1333, -19.0005, 3993,    324.8,  12.5687,  35.0840,2,  35.0859,2,    207.9,2,    208.0,2,     5.14,2,    10.69,2,     0.00,2,     0.85,2, -999.000,9, -999.000,9, -999.000,9,   2108.6,2,   2307.6,2, 12.5248
     316N142_3,   A15,   103,  1,     37,     37,2,19940504,1018,-29.1333, -19.0005, 3993,    399.5,  11.1974,  34.9295,2,  34.9332,2,    203.3,2,    203.7,2,     6.70,2,    14.31,2,     0.00,2,     1.06,2, -999.000,9, -999.000,9, -999.000,9,   2121.1,2,   2301.7,2, 11.1472
     316N142_3,   A15,   103,  1,     29,     29,2,19940504,1018,-29.1333, -19.0005, 3993,    475.9,   9.8955,  34.7828,2,  34.7782,2,    201.2,2,    201.3,2,     8.70,2,    17.75,2,     0.00,2,     1.28,2, -999.000,9, -999.000,9, -999.000,9,   2134.9,2,   2296.0,2,  9.8400
     316N142_3,   A15,   103,  1,     28,     28,2,19940504,1018,-29.1333, -19.0005, 3993,    555.8,   8.4601,  34.6300,2,  34.6263,2,    198.3,2,    198.8,2,    11.85,2,    21.61,2,     0.00,2,     1.52,2, -999.000,9, -999.000,9, -999.000,9,   2151.2,2,   2290.7,2,  8.4009
     316N142_3,   A15,   103,  1,     27,     27,2,19940504,1018,-29.1333, -19.0005, 3993,    686.6,   6.1398,  34.4237,2,  34.4187,2,    205.9,2,    205.7,2,    18.31,2,    26.80,2,     0.00,2,     1.84,2, -999.000,9, -999.000,9, -999.000,9,   2168.7,2,   2287.1,2,  6.0783
     316N142_3,   A15,   103,  1,     26,     26,2,19940504,1018,-29.1333, -19.0005, 3993,    817.6,   4.8086,  34.3465,2,  34.3468,2,    208.9,2,    209.8,2,    25.22,2,    29.33,2,     0.00,2,     2.01,2, -999.000,9, -999.000,9, -999.000,9,   -999.0,9,   -999.0,9,  4.7429
     316N142_3,   A15,   103,  1,     25,     25,2,19940504,1018,-29.1333, -19.0005, 3993,    908.7,   4.0953,  34.3319,2,  34.3348,2,    207.3,2,    211.2,2,    31.29,2,    30.39,2,     0.00,2,     2.09,2, -999.000,9, -999.000,9, -999.000,9,   -999.0,9,   -999.0,9,  4.0268
     316N142_3,   A15,   103,  1,     24,     24,2,19940504,1018,-29.1333, -19.0005, 3993,    998.8,   3.6543,  34.3689,2,  34.3670,2,    199.8,2,    201.1,2,    39.11,2,    31.60,2,     0.00,2,     2.18,2, -999.000,9, -999.000,9, -999.000,9,   -999.0,9,   -999.0,9,  3.5816
     316N142_3,   A15,   103,  1,     23,     23,2,19940504,1018,-29.1333, -19.0005, 3993,   1099.3,   3.3178,  34.4148,2,  34.4128,2,    192.9,2,    194.5,2,    45.94,2,    32.21,2,     0.00,2,     2.22,2, -999.000,9, -999.000,9, -999.000,9,   -999.0,9,   -999.0,9,  3.2398
     316N142_3,   A15,   103,  1,     22,     22,2,19940504,1018,-29.1333, -19.0005, 3993,   1194.0,   3.0990,  34.4740,2,  34.4714,2,    188.6,2,    189.2,2,    51.63,2,    32.36,2,     0.00,2,     2.22,2, -999.000,9, -999.000,9, -999.000,9,   -999.0,9,   -999.0,9,  3.0152
     316N142_3,   A15,   103,  1,     21,     21,2,19940504,1018,-29.1333, -19.0005, 3993,   1290.2,   2.9673,  34.5444,2,  34.5422,2,    186.1,2,    187.2,2,    55.14,2,    31.92,2,     0.00,2,     2.19,2, -999.000,9, -999.000,9, -999.000,9,   -999.0,9,   -999.0,9,  2.8771
     316N142_3,   A15,   103,  1,     20,     20,2,19940504,1018,-29.1333, -19.0005, 3993,   1427.8,   2.8804,  34.6129,2,  34.6122,2,    190.0,2,    189.9,2,    56.61,2,    30.96,2,     0.00,2,     2.11,2, -999.000,9, -999.000,9, -999.000,9,   -999.0,9,   -999.0,9,  2.7798
     316N142_3,   A15,   103,  1,     19,     19,2,19940504,1018,-29.1333, -19.0005, 3993,   1590.0,   2.8208,  34.6841,2,  34.6842,2,    197.2,2,    196.6,2,    56.17,2,    29.50,2,     0.00,2,     2.01,2, -999.000,9, -999.000,9, -999.000,9,   -999.0,9,   -999.0,9,  2.7073
     316N142_3,   A15,   103,  1,     40,     40,2,19940504,1018,-29.1333, -19.0005, 3993,   1767.1,   2.7302,  34.7509,2,  34.7491,2,    208.2,2,    207.2,2,    54.99,2,    27.73,2,     0.00,2,     1.89,2, -999.000,9, -999.000,9, -999.000,9,   -999.0,9,   -999.0,9,  2.6026
     316N142_3,   A15,   103,  1,     17,     17,2,19940504,1018,-29.1333, -19.0005, 3993,   1945.0,   2.7222,  34.8011,2,  34.7988,2,    217.8,2,    218.4,2,    51.18,2,    25.96,2,     0.00,2,     1.77,2, -999.000,9, -999.000,9, -999.000,9,   -999.0,9,   -999.0,9,  2.5791
     316N142_3,   A15,   103,  1,     16,     16,2,19940504,1018,-29.1333, -19.0005, 3993,   2122.3,   2.7117,  34.8391,2,  34.8367,2,    229.3,2,    228.3,2,    47.82,2,    24.46,2,     0.00,2,     1.66,2, -999.000,9, -999.000,9, -999.000,9,   -999.0,9,   -999.0,9,  2.5528
     316N142_3,   A15,   103,  1,     15,     15,2,19940504,1018,-29.1333, -19.0005, 3993,   2299.9,   2.6857,  34.8539,2,  34.8526,2,    234.0,2,    233.0,2,    46.79,2,    23.88,2,     0.00,2,     1.61,2, -999.000,9, -999.000,9, -999.000,9,   -999.0,9,   -999.0,9,  2.5108
     316N142_3,   A15,   103,  1,     14,     14,2,19940504,1018,-29.1333, -19.0005, 3993,   2477.8,   2.7669,  34.8882,2,  34.8883,2,    241.5,2,    242.0,2,    40.81,2,    22.34,2,     0.00,2,     1.52,2, -999.000,9, -999.000,9, -999.000,9,   -999.0,9,   -999.0,9,  2.5736
     316N142_3,   A15,   103,  1,     13,     13,2,19940504,1018,-29.1333, -19.0005, 3993,   2656.2,   2.7892,  34.9072,2,  34.9079,2,    246.9,2,    247.5,2,    37.16,2,    21.39,2,     0.00,2,     1.45,2, -999.000,9, -999.000,9, -999.000,9,   -999.0,9,   -999.0,9,  2.5780
     316N142_3,   A15,   103,  1,     12,     12,2,19940504,1018,-29.1333, -19.0005, 3993,   2834.0,   2.7499,  34.9099,2,  34.9095,2,    250.1,2,    249.3,2,    36.87,2,    21.13,2,     0.00,2,     1.44,2, -999.000,9, -999.000,9, -999.000,9,   -999.0,9,   -999.0,9,  2.5216
     316N142_3,   A15,   103,  1,     11,     11,2,19940504,1018,-29.1333, -19.0005, 3993,   2935.5,   2.6929,  34.9083,2,  34.9095,2,    249.8,2,    249.9,2,    37.45,2,    21.09,2,     0.00,2,     1.44,2, -999.000,9, -999.000,9, -999.000,9,   -999.0,9,   -999.0,9,  2.4555
     316N142_3,   A15,   103,  1,     10,     10,2,19940504,1018,-29.1333, -19.0005, 3993,   3088.6,   2.5895,  34.9017,2,  34.8987,2,    250.3,2,    249.8,2,    39.92,2,    21.33,2,     0.00,2,     1.45,2, -999.000,9, -999.000,9, -999.000,9,   -999.0,9,   -999.0,9,  2.3387
     316N142_3,   A15,   103,  1,      9,      9,2,19940504,1018,-29.1333, -19.0005, 3993,   3215.4,   2.4740,  34.8922,2,  34.8916,2,    248.7,2,    248.9,2,    43.28,2,    21.70,2,     0.00,2,     1.48,2, -999.000,9, -999.000,9, -999.000,9,   -999.0,9,   -999.0,9,  2.2126
     316N142_3,   A15,   103,  1,      8,      8,2,19940504,1018,-29.1333, -19.0005, 3993,   3342.2,   2.3223,  34.8775,2,  34.8775,2,    246.8,2,    246.9,2,    48.69,2,    22.40,2,     0.00,2,     1.53,2, -999.000,9, -999.000,9, -999.000,9,   -999.0,9,   -999.0,9,  2.0513
     316N142_3,   A15,   103,  1,      7,      7,2,19940504,1018,-29.1333, -19.0005, 3993,   3470.3,   2.2126,  34.8661,2,  34.8749,4,    244.9,2,    245.5,2,    52.65,2,    22.87,2,     0.00,2,     1.57,2, -999.000,9, -999.000,9, -999.000,9,   -999.0,9,   -999.0,9,  1.9307
     316N142_3,   A15,   103,  1,      6,      6,2,19940504,1018,-29.1333, -19.0005, 3993,   3597.1,   2.0505,  34.8495,2,  34.8498,2,    243.0,2,    243.0,2,    58.55,2,    23.70,2,     0.00,2,     1.62,2, -999.000,9, -999.000,9, -999.000,9,   -999.0,9,   -999.0,9,  1.7592
     316N142_3,   A15,   103,  1,      5,      5,2,19940504,1018,-29.1333, -19.0005, 3993,   3725.5,   1.8301,  34.8274,2,  34.8287,2,    239.9,2,    239.6,2,    66.70,2,    24.81,2,     0.00,2,     1.70,2, -999.000,9, -999.000,9, -999.000,9,   -999.0,9,   -999.0,9,  1.5310
     316N142_3,   A15,   103,  1,      4,      4,2,19940504,1018,-29.1333, -19.0005, 3993,   3828.2,   1.7278,  34.8162,2,  34.8154,2,    238.4,2,    237.6,2,    71.17,2,    25.42,2,     0.00,2,     1.74,2, -999.000,9, -999.000,9, -999.000,9,   -999.0,9,   -999.0,9,  1.4205
     316N142_3,   A15,   103,  1,      3,      3,2,19940504,1018,-29.1333, -19.0005, 3993,   3930.2,   1.6823,  34.8105,2,-999.0000,5,    237.0,2,    236.6,2,    73.12,2,    25.66,2,     0.00,2,     1.76,2, -999.000,9, -999.000,9, -999.000,9,   -999.0,9,   -999.0,9,  1.3651
     316N142_3,   A15,   103,  1,      2,      2,2,19940504,1018,-29.1333, -19.0005, 3993,   4033.1,   1.6126,  34.8020,2,  34.8022,2,    233.6,2,    235.0,2,    76.42,2,    26.14,2,     0.00,2,     1.79,2, -999.000,9, -999.000,9, -999.000,9,   -999.0,9,   -999.0,9,  1.2862
     316N142_3,   A15,   103,  1,      1,      1,2,19940504,1018,-29.1333, -19.0005, 3993,   4103.9,   1.6074,  34.8002,2,  34.8007,2,    234.7,2,    234.6,2,    77.32,2,    26.29,2,     0.00,2,     1.80,2, -999.000,9, -999.000,9, -999.000,9,   -999.0,9,   -999.0,9,  1.2733