BOTTLE,20020814WHPSIOKJU
EXPOCODE,SECT_ID,STNNBR,CASTNO,SAMPNO,BTLNBR,BTLNBR_FLAG_W,DATE,TIME,LATITUDE,LONGITUDE,DEPTH,CTDPRS,CTDTMP,CTDSAL,CTDSAL_FLAG_W,SALNTY,SALNTY_FLAG_W,CTDOXY,CTDOXY_FLAG_W,OXYGEN,OXYGEN_FLAG_W,SILCAT,SILCAT_FLAG_W,NITRAT,NITRAT_FLAG_W,NITRIT,NITRIT_FLAG_W,PHSPHT,PHSPHT_FLAG_W,CFC-11,CFC-11_FLAG_W,CFC-12,CFC-12_FLAG_W,CCL4,CCL4_FLAG_W,TCARBN,TCARBN_FLAG_W,ALKALI,ALKALI_FLAG_W,THETA
,,,,,,,,,,,,DBAR,ITS-90,PSS-78,,PSS-78,,UMOL/KG,,UMOL/KG,,UMOL/KG,,UMOL/KG,,UMOL/KG,,UMOL/KG,,PMOL/KG,,PMOL/KG,,PMOL/KG,,UMOL/KG,,UMOL/KG,,DEG C
     316N142_3,   A15,    43,  1,     39,     39,2,19940417,2358,  0.0037, -18.9992, 4298,      9.1,  28.8124,  35.6376,2,  35.6539,2,    199.9,2,    199.3,2,     1.94,2,     0.18,2,     0.00,2,     0.08,2, -999.000,9, -999.000,9, -999.000,9,   1979.3,2,   2327.7,2, 28.8102
     316N142_3,   A15,    43,  1,     42,     42,2,19940417,2358,  0.0037, -18.9992, 4298,     33.8,  27.4538,  36.0799,2,  36.0797,2,    202.4,2,    206.0,2,     1.81,2,     0.13,2,     0.00,2,     0.10,2, -999.000,9, -999.000,9, -999.000,9,   2009.7,2,   2357.5,2, 27.4459
     316N142_3,   A15,    43,  1,     38,     38,2,19940417,2358,  0.0037, -18.9992, 4298,     60.8,  23.7297,  36.4109,2,  36.4266,2,    198.9,2,    195.9,2,     2.12,2,     0.13,2,     0.00,2,     0.25,2, -999.000,9, -999.000,9, -999.000,9,   2072.0,2,   2386.7,2, 23.7170
     316N142_3,   A15,    43,  1,     33,     33,2,19940417,2358,  0.0037, -18.9992, 4298,    119.9,  14.4934,  35.4758,2,  35.4818,2,    164.0,2,    161.7,2,     6.34,2,    13.80,2,     0.02,2,     1.02,2, -999.000,9, -999.000,9, -999.000,9,   2134.0,2,   2328.2,2, 14.4756
     316N142_3,   A15,    43,  1,     41,     41,2,19940417,2358,  0.0037, -18.9992, 4298,    220.1,  13.3299,  35.3110,2,  35.3154,2,    152.5,2,    152.6,2,     7.84,2,    16.89,2,     0.01,2,     1.20,2, -999.000,9, -999.000,9, -999.000,9,   2144.7,2,   2321.2,2, 13.2990
     316N142_3,   A15,    43,  1,     31,     31,2,19940417,2358,  0.0037, -18.9992, 4298,    301.2,  10.5102,  34.9963,2,  34.9961,2,     85.1,2,     83.1,2,    13.90,2,    29.64,2,     0.00,2,     1.90,2, -999.000,9, -999.000,9, -999.000,9,   2208.6,2,   2303.0,2, 10.4740
     316N142_3,   A15,    43,  1,     37,     37,2,19940417,2358,  0.0037, -18.9992, 4298,    407.0,   8.1242,  34.7273,2,  34.7288,2,    101.4,2,    108.7,2,    18.45,2,    32.09,2,     0.00,2,     2.09,2, -999.000,9, -999.000,9, -999.000,9,   2209.3,2,   2295.2,2,  8.0823
     316N142_3,   A15,    43,  1,     29,     29,2,19940417,2358,  0.0037, -18.9992, 4298,    507.0,   7.2439,  34.6362,2,  34.6376,2,    121.5,2,    124.1,2,    20.49,2,    32.28,2,     0.00,2,     2.13,2, -999.000,9, -999.000,9, -999.000,9,   2207.2,2,   2292.8,2,  7.1947
     316N142_3,   A15,    43,  1,     28,     28,2,19940417,2358,  0.0037, -18.9992, 4298,    607.6,   6.2096,  34.5487,2,  34.5507,2,    133.3,2,    135.6,2,    24.05,2,    33.27,2,     0.00,2,     2.23,2, -999.000,9, -999.000,9, -999.000,9,   2208.8,2,   2292.3,2,  6.1550
     316N142_3,   A15,    43,  1,     27,     27,2,19940417,2358,  0.0037, -18.9992, 4298,    758.5,   5.1459,  34.4936,2,  34.4963,2,    144.7,2,    147.8,2,    29.24,2,    34.00,2,     0.00,2,     2.31,2, -999.000,9, -999.000,9, -999.000,9,   2211.5,2,   2295.1,2,  5.0832
     316N142_3,   A15,    43,  1,     26,     26,2,19940417,2358,  0.0037, -18.9992, 4298,    909.8,   4.5678,  34.5538,2,  34.5564,2,    155.1,2,    155.1,2,    32.58,2,    33.42,2,     0.00,2,     2.29,2, -999.000,9, -999.000,9, -999.000,9,   2214.9,2,   2301.1,2,  4.4955
     316N142_3,   A15,    43,  1,     25,     25,2,19940417,2358,  0.0037, -18.9992, 4298,   1061.8,   4.4789,  34.6699,2,  34.6787,2,    161.9,2,    162.0,2,    31.04,2,    31.56,2,     0.00,2,     2.17,2, -999.000,9, -999.000,9, -999.000,9,   2211.9,2,   2305.7,2,  4.3939
     316N142_3,   A15,    43,  1,     24,     24,2,19940417,2358,  0.0037, -18.9992, 4298,   1213.1,   4.4882,  34.8073,2,  34.8102,2,    173.4,2,    181.6,2,    26.89,2,    28.17,2,     0.00,2,     1.93,2,    0.036,4,    0.017,2,    0.150,2,   -999.0,9,   -999.0,9,  4.3894
     316N142_3,   A15,    43,  1,     23,     23,2,19940417,2358,  0.0037, -18.9992, 4298,   1364.9,   4.4551,  34.9102,2,  34.9121,2,    208.1,2,    206.9,2,    22.32,2,    24.42,2,     0.00,2,     1.66,2,    0.034,4,    0.032,2,    0.210,2,   2182.9,2,   2310.8,2,  4.3426
     316N142_3,   A15,    43,  1,     22,     22,2,19940417,2358,  0.0037, -18.9992, 4298,   1516.9,   4.2699,  34.9621,2,  34.9632,2,    230.6,2,    228.5,2,    19.38,2,    21.75,2,     0.00,2,     1.49,2,    0.084,4,    0.042,2,    0.443,2,   -999.0,9,   -999.0,9,  4.1451
     316N142_3,   A15,    43,  1,     21,     21,2,19940417,2358,  0.0037, -18.9992, 4298,   1667.8,   4.0916,  34.9758,2,  34.9779,2,    242.1,2,    240.6,2,    18.38,2,    20.44,2,     0.00,2,     1.40,2, -999.000,9,    0.054,2,    0.535,2,   2165.1,2,   2311.8,2,  3.9547
     316N142_3,   A15,    43,  1,     20,     20,2,19940417,2358,  0.0037, -18.9992, 4298,   1769.7,   3.8893,  34.9751,2,  34.9771,2,    248.3,2,    245.7,2,    18.91,2,    20.03,2,     0.00,2,     1.38,2, -999.000,9,    0.046,2, -999.000,9,   -999.0,9,   -999.0,9,  3.7454
     316N142_3,   A15,    43,  1,     19,     19,2,19940417,2358,  0.0037, -18.9992, 4298,   1870.5,   3.7189,  34.9761,2,  34.9775,2,    253.5,2,    253.1,2,    18.89,2,    19.40,2,     0.00,2,     1.34,2, -999.000,9,    0.041,2,    0.263,2,   2161.4,2,   2313.6,2,  3.5678
     316N142_3,   A15,    43,  1,     40,     40,2,19940417,2358,  0.0037, -18.9992, 4298,   2022.3,   3.5678,  34.9668,2,  34.9688,2,    250.7,2,    251.5,2,    21.03,2,    19.72,2,     0.00,2,     1.37,2, -999.000,9,    0.030,2,    0.288,2,   -999.0,9,   -999.0,9,  3.4046
     316N142_3,   A15,    43,  1,     17,     17,2,19940417,2358,  0.0037, -18.9992, 4298,   2174.2,   3.2939,  34.9510,2,  34.9542,2,    249.0,2,    249.3,2,    25.23,2,    20.22,2,     0.00,2,     1.40,2, -999.000,9, -999.000,9, -999.000,9,   2168.6,2,   2319.7,2,  3.1204
     316N142_3,   A15,    43,  1,     16,     16,2,19940417,2358,  0.0037, -18.9992, 4298,   2276.2,   3.2039,  34.9468,2,  34.9489,2,    251.5,2,    250.1,2,    26.40,2,    20.27,2,     0.00,2,     1.40,2, -999.000,9, -999.000,9, -999.000,9,   -999.0,9,   -999.0,9,  3.0222
     316N142_3,   A15,    43,  1,     15,     15,2,19940417,2358,  0.0037, -18.9992, 4298,   2427.8,   3.0051,  34.9340,2,  34.9353,2,    249.2,2,    247.9,2,    30.49,2,    20.77,2,     0.00,2,     1.44,2, -999.000,9, -999.000,9, -999.000,9,   2175.1,2,   2325.0,2,  2.8122
     316N142_3,   A15,    43,  1,     14,     14,2,19940417,2358,  0.0037, -18.9992, 4298,   2580.3,   2.9074,  34.9277,2,  34.9289,2,    247.6,2,    247.4,2,    32.53,2,    20.90,2,     0.00,2,     1.45,2, -999.000,9, -999.000,9, -999.000,9,   -999.0,9,   -999.0,9,  2.7013
     316N142_3,   A15,    43,  1,     13,     13,2,19940417,2358,  0.0037, -18.9992, 4298,   2732.5,   2.8127,  34.9212,2,  34.9222,2,    247.0,2,    248.9,4,    34.78,2,    21.22,2,     0.00,2,     1.47,2, -999.000,9, -999.000,9, -999.000,9,   2179.8,2,   2330.9,2,  2.5934
     316N142_3,   A15,    43,  1,     12,     12,2,19940417,2358,  0.0037, -18.9992, 4298,   2886.0,   2.6986,  34.9138,2,  34.9147,2,    246.5,2,    246.1,2,    36.91,2,    21.40,2,     0.00,2,     1.48,2, -999.000,9,    0.012,2,    0.220,2,   -999.0,9,   -999.0,9,  2.4661
     316N142_3,   A15,    43,  1,     11,     11,2,19940417,2358,  0.0037, -18.9992, 4298,   3038.0,   2.5914,  34.9066,2,  34.9076,2,    246.5,2,    246.5,2,    38.94,2,    21.41,2,     0.00,2,     1.49,2, -999.000,9, -999.000,9, -999.000,9,   2184.9,2,   2332.8,2,  2.3457
     316N142_3,   A15,    43,  1,     10,     10,2,19940417,2358,  0.0037, -18.9992, 4298,   3189.9,   2.5659,  34.9051,2,  34.9058,2,    246.5,2,    247.7,2,    38.81,2,    21.36,2,     0.00,2,     1.49,2, -999.000,9, -999.000,9, -999.000,9,   -999.0,9,   -999.0,9,  2.3051
     316N142_3,   A15,    43,  1,      9,      9,2,19940417,2358,  0.0037, -18.9992, 4298,   3343.7,   2.5170,  34.9039,2,  34.9046,2,    251.0,2,    250.6,2,    38.14,2,    21.05,2,     0.00,2,     1.47,2, -999.000,9, -999.000,9, -999.000,9,   2181.6,2,   2333.8,2,  2.2410
     316N142_3,   A15,    43,  1,      8,      8,2,19940417,2358,  0.0037, -18.9992, 4298,   3496.3,   2.4324,  34.9012,2,  34.9028,2,    253.5,2,    255.2,2,    37.04,2,    20.50,2,     0.00,2,     1.44,2, -999.000,9, -999.000,9, -999.000,9,   -999.0,9,   -999.0,9,  2.1421
     316N142_3,   A15,    43,  1,      7,      7,2,19940417,2358,  0.0037, -18.9992, 4298,   3649.1,   2.4174,  34.8999,2,  34.9014,2,    256.4,2,    257.3,2,    36.59,2,    20.32,2,     0.00,2,     1.43,2, -999.000,9,    0.026,2,    0.281,2,   2177.2,2,   2329.1,2,  2.1109
     316N142_3,   A15,    43,  1,      6,      6,2,19940417,2358,  0.0037, -18.9992, 4298,   3802.0,   2.3199,  34.8918,2,  34.8917,2,    255.6,2,    257.4,2,    39.58,2,    20.64,2,     0.00,2,     1.45,2, -999.000,9,    0.034,2,    0.387,2,   -999.0,9,   -999.0,9,  1.9990
     316N142_3,   A15,    43,  1,      5,      5,2,19940417,2358,  0.0037, -18.9992, 4298,   3903.8,   2.2308,  34.8833,2,  34.8862,2,    258.0,2,    305.0,4,    41.18,2,    20.69,2,     0.00,2,     1.46,2, -999.000,9,    0.035,2,    0.221,2,   2181.6,2,   2330.4,2,  1.9010
     316N142_3,   A15,    43,  1,      4,      4,2,19940417,2358,  0.0037, -18.9992, 4298,   4006.2,   2.2089,  34.8808,2,  34.8821,2,    257.4,2,    257.6,2,    42.55,2,    20.92,2,     0.00,2,     1.47,2, -999.000,9,    0.035,2,    0.273,2,   -999.0,9,   -999.0,9,  1.8682
     316N142_3,   A15,    43,  1,      3,      3,2,19940417,2358,  0.0037, -18.9992, 4298,   4127.7,   2.0237,  34.8595,2,  34.8602,2,    253.2,2,    252.6,2,    51.55,2,    22.28,2,     0.00,2,     1.56,2, -999.000,9,    0.023,2,    0.261,2,   2193.7,2,   2337.1,2,  1.6746
     316N142_3,   A15,    43,  1,      2,      2,2,19940417,2358,  0.0037, -18.9992, 4298,   4313.5,   1.9608,  34.8512,2,  34.8509,2,    252.1,2,    251.2,2,    54.62,2,    22.73,2,     0.00,2,     1.60,2, -999.000,9,    0.028,2,    0.362,2,   -999.0,9,   -999.0,9,  1.5922
     316N142_3,   A15,    43,  1,      1,      1,2,19940417,2358,  0.0037, -18.9992, 4298,   4523.6,   1.9444,  34.8467,2,  34.8474,2,    250.6,2,    250.5,2,    56.40,2,    22.96,2,     0.00,2,     1.61,2, -999.000,9, -999.000,9, -999.000,9,   2198.1,2,   2340.3,2,  1.5517