BOTTLE,20020814WHPSIOKJU
EXPOCODE,SECT_ID,STNNBR,CASTNO,SAMPNO,BTLNBR,BTLNBR_FLAG_W,DATE,TIME,LATITUDE,LONGITUDE,DEPTH,CTDPRS,CTDTMP,CTDSAL,CTDSAL_FLAG_W,SALNTY,SALNTY_FLAG_W,CTDOXY,CTDOXY_FLAG_W,OXYGEN,OXYGEN_FLAG_W,SILCAT,SILCAT_FLAG_W,NITRAT,NITRAT_FLAG_W,NITRIT,NITRIT_FLAG_W,PHSPHT,PHSPHT_FLAG_W,CFC-11,CFC-11_FLAG_W,CFC-12,CFC-12_FLAG_W,CCL4,CCL4_FLAG_W,TCARBN,TCARBN_FLAG_W,ALKALI,ALKALI_FLAG_W,THETA
,,,,,,,,,,,,DBAR,ITS-90,PSS-78,,PSS-78,,UMOL/KG,,UMOL/KG,,UMOL/KG,,UMOL/KG,,UMOL/KG,,UMOL/KG,,PMOL/KG,,PMOL/KG,,PMOL/KG,,UMOL/KG,,UMOL/KG,,DEG C
     316N142_3,   A15,    28,  1,     39,     39,2,19940414,0439,  7.4988, -19.0005, 4475,      2.2,  27.1049,  36.1618,2,  36.1689,2,    203.5,2,    204.5,2,     1.94,2,     0.07,2,     0.00,2,     0.12,2,    1.671,6,    0.974,6,    2.178,6,   2011.6,2,   2369.4,2, 27.1044
     316N142_3,   A15,    28,  1,     35,     35,9,19940414,0439,  7.4988, -19.0005, 4475,     54.4,  16.3923,  35.6414,2,-999.0000,9,     83.9,2,   -999.0,9,  -999.00,9,  -999.00,9,  -999.00,9,  -999.00,9, -999.000,9, -999.000,9, -999.000,9,   -999.0,9,   -999.0,9, 16.3836
     316N142_3,   A15,    28,  1,     38,     38,2,19940414,0439,  7.4988, -19.0005, 4475,     94.9,  14.9381,  35.5135,2,  35.5129,2,     67.9,2,     65.9,2,     8.96,2,    23.89,2,     0.03,2,     1.59,2,    1.088,6,    0.677,2,    0.220,6,   2200.2,2,   2324.1,2, 14.9237
     316N142_3,   A15,    28,  1,     33,     33,2,19940414,0439,  7.4988, -19.0005, 4475,    134.8,  14.4104,  35.4585,2,  35.4552,2,     67.7,2,     69.3,2,     9.65,2,    24.23,2,     0.01,2,     1.63,2,    0.955,2,    0.576,2,    0.213,2,   2199.3,2,   2320.3,2, 14.3905
     316N142_3,   A15,    28,  1,     41,     41,2,19940414,0439,  7.4988, -19.0005, 4475,    184.9,  13.8059,  35.3898,2,  35.3900,2,     70.8,2,     70.3,2,    10.22,2,    24.94,2,     0.01,2,     1.68,2,    0.922,2,    0.534,2,    0.220,2,   2201.8,2,   2318.2,2, 13.7793
     316N142_3,   A15,    28,  1,     31,     31,9,19940414,0439,  7.4988, -19.0005, 4475,    270.2,  12.3218,  35.2291,2,-999.0000,9,     78.8,2,   -999.0,9,  -999.00,9,  -999.00,9,  -999.00,9,  -999.00,9, -999.000,9, -999.000,9, -999.000,9,   -999.0,9,   -999.0,9, 12.2858
     316N142_3,   A15,    28,  1,     37,     37,2,19940414,0439,  7.4988, -19.0005, 4475,    355.2,  10.8077,  35.1343,2,  35.1333,2,     59.5,2,     53.9,2,    14.86,2,    31.35,2,     0.00,2,     2.00,2,    0.373,6,    0.233,6,    0.134,6,   2229.9,2,   2307.5,2, 10.7640
     316N142_3,   A15,    28,  1,     29,     29,9,19940414,0439,  7.4988, -19.0005, 4475,    455.1,   9.0571,  34.9592,2,-999.0000,9,     50.6,2,   -999.0,9,  -999.00,9,  -999.00,9,  -999.00,9,  -999.00,9, -999.000,9, -999.000,9, -999.000,9,   -999.0,9,   -999.0,9,  9.0068
     316N142_3,   A15,    28,  1,     28,     28,2,19940414,0439,  7.4988, -19.0005, 4475,    455.2,   9.0501,  34.9618,2,  34.9552,2,     50.9,2,     49.6,2,    19.38,2,    35.37,2,     0.00,2,     2.28,2,    0.141,2,    0.084,2,    0.097,2,   2244.9,2,   2301.4,2,  8.9998
     316N142_3,   A15,    28,  1,     27,     27,2,19940414,0439,  7.4988, -19.0005, 4475,    555.3,   7.2847,  34.7489,2,  34.7425,2,     75.2,2,     79.7,2,    23.42,2,    35.79,2,     0.00,2,     2.38,2,    0.062,4,    0.035,9, -999.000,9,   2238.6,2,   2298.1,2,  7.2304
     316N142_3,   A15,    28,  1,     26,     26,2,19940414,0439,  7.4988, -19.0005, 4475,    655.5,   6.3781,  34.6685,2,  34.6701,2,     90.0,2,     90.5,2,    26.51,2,    36.44,2,     0.00,2,     2.47,2,    0.009,4,    0.017,2,    0.120,2,   2237.5,2,   2299.9,2,  6.3181
     316N142_3,   A15,    28,  1,     25,     25,2,19940414,0439,  7.4988, -19.0005, 4475,    837.4,   5.4684,  34.6583,2,  34.6584,2,    109.2,2,    111.3,2,    29.83,2,    35.34,2,     0.00,2,     2.45,2, -999.000,9,    0.012,2,    0.072,2,   2234.2,2,   2303.7,2,  5.3964
     316N142_3,   A15,    28,  1,     24,     24,2,19940414,0439,  7.4988, -19.0005, 4475,    958.3,   5.0887,  34.7077,2,  34.7098,2,    129.2,2,    129.3,2,    30.29,2,    33.35,2,     0.00,2,     2.34,2,    0.010,4,    0.030,2,    0.012,2,   2225.4,2,   2307.4,2,  5.0081
     316N142_3,   A15,    28,  1,     23,     23,2,19940414,0439,  7.4988, -19.0005, 4475,   1110.3,   4.8456,  34.8059,2,  34.8061,2,    149.5,2,    153.2,2,    28.23,2,    30.16,2,     0.00,2,     2.13,2, -999.000,9, -999.000,9, -999.000,9,   2214.6,2,   2309.3,2,  4.7529
     316N142_3,   A15,    28,  1,     22,     22,2,19940414,0439,  7.4988, -19.0005, 4475,   1262.4,   4.5941,  34.8731,2,  34.8723,2,    177.1,2,    174.0,2,    26.42,2,    27.52,2,     0.00,2,     1.95,2, -999.000,9,    0.002,2,    0.038,2,   -999.0,9,   -999.0,9,  4.4896
     316N142_3,   A15,    28,  1,     21,     21,2,19940414,0439,  7.4988, -19.0005, 4475,   1388.9,   4.3540,  34.9109,2,  34.9118,2,    195.4,2,    193.6,2,    24.72,2,    25.28,2,     0.00,2,     1.77,2, -999.000,9,    0.008,2,    0.073,2,   2193.8,2,   2312.8,2,  4.2402
     316N142_3,   A15,    28,  1,     20,     20,2,19940414,0439,  7.4988, -19.0005, 4475,   1515.9,   4.1291,  34.9348,2,  34.9342,2,    211.1,2,    210.4,2,    23.74,2,    23.56,2,     0.00,2,     1.65,2, -999.000,9, -999.000,9, -999.000,9,   -999.0,9,   -999.0,9,  4.0060
     316N142_3,   A15,    28,  1,     19,     19,2,19940414,0439,  7.4988, -19.0005, 4475,   1667.1,   3.9449,  34.9484,2,  34.9521,2,    222.8,2,    222.9,2,    23.00,2,    22.20,2,     0.00,2,     1.55,2, -999.000,9,    0.009,2,    0.114,2,   2179.4,2,   2314.2,2,  3.8100
     316N142_3,   A15,    28,  1,     40,     40,2,19940414,0439,  7.4988, -19.0005, 4475,   1767.9,   3.7828,  34.9530,2,  34.9544,2,    229.9,2,    229.5,2,    23.21,2,    21.73,2,     0.00,2,     1.52,2, -999.000,9, -999.000,9, -999.000,9,   -999.0,9,   -999.0,9,  3.6406
     316N142_3,   A15,    28,  1,     17,     17,2,19940414,0439,  7.4988, -19.0005, 4475,   1869.4,   3.6657,  34.9540,2,  34.9546,2,    235.1,2,    233.5,2,    23.79,2,    21.26,2,     0.00,2,     1.50,2, -999.000,9,    0.009,2,    0.050,2,   2172.9,2,   2317.9,2,  3.5156
     316N142_3,   A15,    28,  1,     16,     16,2,19940414,0439,  7.4988, -19.0005, 4475,   2021.5,   3.4880,  34.9515,2,  34.9521,2,    236.3,2,    237.4,2,    25.20,2,    20.93,2,     0.00,2,     1.47,2, -999.000,9, -999.000,9, -999.000,9,   -999.0,9,   -999.0,9,  3.3261
     316N142_3,   A15,    28,  1,     15,     15,2,19940414,0439,  7.4988, -19.0005, 4475,   2224.7,   3.2608,  34.9460,2,  34.9458,2,    240.0,2,    240.3,2,    27.82,2,    20.75,2,     0.00,2,     1.46,2, -999.000,9,    0.007,2,    0.053,2,   2175.0,2,   2319.6,2,  3.0831
     316N142_3,   A15,    28,  1,     14,     14,2,19940414,0439,  7.4988, -19.0005, 4475,   2426.6,   3.0987,  34.9406,2,  34.9399,2,    241.6,2,    241.1,2,    30.31,2,    20.79,2,     0.00,2,     1.46,2, -999.000,9, -999.000,9, -999.000,9,   -999.0,9,   -999.0,9,  2.9042
     316N142_3,   A15,    28,  1,     13,     13,2,19940414,0439,  7.4988, -19.0005, 4475,   2627.0,   2.9406,  34.9333,2,  34.9324,2,    242.0,2,    242.5,2,    32.92,2,    20.89,2,     0.00,2,     1.46,2, -999.000,9, -999.000,9, -999.000,9,   2179.6,2,   2326.7,2,  2.7292
     316N142_3,   A15,    28,  1,     12,     12,2,19940414,0439,  7.4988, -19.0005, 4475,   2828.3,   2.8038,  34.9267,2,  34.9257,2,    242.6,2,    243.1,2,    35.41,2,    21.03,2,     0.00,2,     1.47,2, -999.000,9,    0.012,2,    0.037,2,   -999.0,9,   -999.0,9,  2.5750
     316N142_3,   A15,    28,  1,     11,     11,2,19940414,0439,  7.4988, -19.0005, 4475,   3032.5,   2.7001,  34.9199,2,  34.9187,2,    242.9,2,    243.0,2,    37.79,2,    21.17,2,     0.00,2,     1.49,2, -999.000,9, -999.000,9, -999.000,9,   2182.8,2,   2332.6,2,  2.4525
     316N142_3,   A15,    28,  1,     10,     10,2,19940414,0439,  7.4988, -19.0005, 4475,   3239.1,   2.6103,  34.9131,2,  34.9108,2,    242.1,2,    242.7,2,    40.05,2,    21.35,2,     0.00,2,     1.50,2, -999.000,9, -999.000,9, -999.000,9,   -999.0,9,   -999.0,9,  2.3432
     316N142_3,   A15,    28,  1,      9,      9,2,19940414,0439,  7.4988, -19.0005, 4475,   3444.0,   2.5324,  34.9079,2,  34.9067,2,    242.9,2,    243.2,2,    42.06,2,    21.54,2,     0.00,2,     1.50,2, -999.000,9,    0.005,2,    0.023,2,   2187.9,2,   2338.0,2,  2.2452
     316N142_3,   A15,    28,  1,      8,      8,2,19940414,0439,  7.4988, -19.0005, 4475,   3597.2,   2.4908,  34.9034,2,  34.9018,2,    242.7,2,    242.3,2,    43.60,2,    21.63,2,     0.00,2,     1.52,2, -999.000,9, -999.000,9, -999.000,9,   -999.0,9,   -999.0,9,  2.1880
     316N142_3,   A15,    28,  1,      7,      7,2,19940414,0439,  7.4988, -19.0005, 4475,   3749.6,   2.4431,  34.8992,2,  34.8988,2,    242.4,2,    242.5,2,    45.14,2,    21.78,2,     0.00,2,     1.52,2, -999.000,9, -999.000,9, -999.000,9,   2195.2,2,   2339.1,2,  2.1248
     316N142_3,   A15,    28,  1,      6,      6,2,19940414,0439,  7.4988, -19.0005, 4475,   3852.0,   2.4171,  34.8963,2,  34.8955,2,    242.5,2,    242.5,2,    45.96,2,    21.78,2,     0.00,2,     1.53,2, -999.000,9,    0.003,2, -999.000,9,   -999.0,9,   -999.0,9,  2.0880
     316N142_3,   A15,    28,  1,      5,      5,2,19940414,0439,  7.4988, -19.0005, 4475,   3954.4,   2.3921,  34.8938,2,  34.8945,2,    242.6,2,    242.1,2,    46.78,2,    21.92,2,     0.00,2,     1.53,2, -999.000,9, -999.000,9, -999.000,9,   2197.3,2,   2345.0,2,  2.0521
     316N142_3,   A15,    28,  1,      4,      4,2,19940414,0439,  7.4988, -19.0005, 4475,   4057.1,   2.3605,  34.8898,2,  34.8886,2,    242.1,2,    242.1,2,    47.84,2,    22.01,2,     0.00,2,     1.53,2, -999.000,9, -999.000,9, -999.000,9,   -999.0,9,   -999.0,9,  2.0097
     316N142_3,   A15,    28,  1,      3,      3,2,19940414,0439,  7.4988, -19.0005, 4475,   4210.0,   2.3311,  34.8858,2,  34.8849,2,    242.0,2,    241.5,2,    49.14,2,    22.20,2,     0.00,2,     1.55,2, -999.000,9,    0.004,2,    0.059,2,   2198.9,2,   2345.0,2,  1.9634
     316N142_3,   A15,    28,  1,      2,      2,2,19940414,0439,  7.4988, -19.0005, 4475,   4363.4,   2.3053,  34.8816,2,  34.8849,2,    241.5,2,    241.1,2,    50.32,2,    22.34,2,     0.00,2,     1.55,2, -999.000,9, -999.000,9, -999.000,9,   -999.0,9,   -999.0,9,  1.9204
     316N142_3,   A15,    28,  1,      1,      1,2,19940414,0439,  7.4988, -19.0005, 4475,   4546.8,   2.2808,  34.8760,2,  34.8762,2,    240.3,2,    240.1,2,    51.98,2,    22.57,2,     0.00,2,     1.57,2, -999.000,9,    0.004,2,    0.035,2,   2206.3,2,   2349.2,2,  1.8747