BOTTLE,20020814WHPSIOKJU
EXPOCODE,SECT_ID,STNNBR,CASTNO,SAMPNO,BTLNBR,BTLNBR_FLAG_W,DATE,TIME,LATITUDE,LONGITUDE,DEPTH,CTDPRS,CTDTMP,CTDSAL,CTDSAL_FLAG_W,SALNTY,SALNTY_FLAG_W,CTDOXY,CTDOXY_FLAG_W,OXYGEN,OXYGEN_FLAG_W,SILCAT,SILCAT_FLAG_W,NITRAT,NITRAT_FLAG_W,NITRIT,NITRIT_FLAG_W,PHSPHT,PHSPHT_FLAG_W,CFC-11,CFC-11_FLAG_W,CFC-12,CFC-12_FLAG_W,CCL4,CCL4_FLAG_W,TCARBN,TCARBN_FLAG_W,ALKALI,ALKALI_FLAG_W,THETA
,,,,,,,,,,,,DBAR,ITS-90,PSS-78,,PSS-78,,UMOL/KG,,UMOL/KG,,UMOL/KG,,UMOL/KG,,UMOL/KG,,UMOL/KG,,PMOL/KG,,PMOL/KG,,PMOL/KG,,UMOL/KG,,UMOL/KG,,DEG C
     316N142_3,  AR15,     6,  1,     36,     36,9,19940405,1811, -2.8915, -36.4503, 3507,      1.1,  28.7855,  35.7645,2,-999.0000,9,    218.3,2,   -999.0,9,  -999.00,9,  -999.00,9,  -999.00,9,  -999.00,9, -999.000,9, -999.000,9, -999.000,9,   -999.0,9,   -999.0,9, 28.7852
     316N142_3,  AR15,     6,  1,     35,     35,2,19940405,1811, -2.8915, -36.4503, 3507,      1.1,  28.7832,  35.7630,2,  35.7689,2,    219.4,2,    219.2,2,     1.56,2,     0.27,2,     0.00,2,     0.06,2, -999.000,9, -999.000,9, -999.000,9,   -999.0,9,   2345.5,2, 28.7829
     316N142_3,  AR15,     6,  1,     34,     34,9,19940405,1811, -2.8915, -36.4503, 3507,     40.8,  28.5783,  36.2774,2,-999.0000,9,    225.9,2,   -999.0,9,  -999.00,9,  -999.00,9,  -999.00,9,  -999.00,9, -999.000,9, -999.000,9, -999.000,9,   -999.0,9,   -999.0,9, 28.5685
     316N142_3,  AR15,     6,  1,     33,     33,2,19940405,1811, -2.8915, -36.4503, 3507,     86.8,  25.3751,  37.0402,2,  36.9536,2,    242.6,2,    216.2,2,     1.67,2,     0.64,2,     0.00,2,     0.13,2,    1.955,2,    1.072,2,    1.520,2,   1988.7,2,   2425.4,2, 25.3560
     316N142_3,  AR15,     6,  1,     32,     32,9,19940405,1811, -2.8915, -36.4503, 3507,    145.3,  14.0515,  35.4102,2,-999.0000,9,    136.8,2,   -999.0,9,  -999.00,9,  -999.00,9,  -999.00,9,  -999.00,9, -999.000,9, -999.000,9, -999.000,9,   2076.8,2,   -999.0,9, 14.0305
     316N142_3,  AR15,     6,  1,     31,     31,2,19940405,1811, -2.8915, -36.4503, 3507,    195.9,  12.5801,  35.2221,2,  35.2233,2,    101.4,2,     94.5,2,    10.15,2,    24.52,2,     0.00,2,     1.48,2,    0.957,2,    0.573,2,    0.320,2,   2190.3,2,   2316.2,2, 12.5537
     316N142_3,  AR15,     6,  1,     30,     30,9,19940405,1811, -2.8915, -36.4503, 3507,    245.8,  11.4467,  35.0818,2,-999.0000,9,    113.4,2,   -999.0,9,  -999.00,9,  -999.00,9,  -999.00,9,  -999.00,9, -999.000,9, -999.000,9, -999.000,9,   -999.0,9,   -999.0,9, 11.4155
     316N142_3,  AR15,     6,  1,     29,     29,2,19940405,1811, -2.8915, -36.4503, 3507,    306.4,  11.0568,  35.0259,2,  35.0258,2,    121.9,2,    122.0,2,    11.64,2,    24.51,2,     0.00,2,     1.51,2, -999.000,9, -999.000,9, -999.000,9,   2179.2,2,   2310.2,2, 11.0187
     316N142_3,  AR15,     6,  1,     28,     28,2,19940405,1811, -2.8915, -36.4503, 3507,    381.9,   9.2244,  34.7819,2,  34.7809,2,    162.6,2,    161.9,2,    13.24,2,    23.64,2,     0.00,2,     1.50,2,    1.050,2,    0.548,2,    0.900,2,   2165.0,2,   2302.7,2,  9.1819
     316N142_3,  AR15,     6,  1,     27,     27,2,19940405,1811, -2.8915, -36.4503, 3507,    477.1,   7.6105,  34.6344,2,  34.6305,2,    148.2,2,    151.4,2,    17.81,2,    28.54,2,     0.00,2,     1.81,2, -999.000,9, -999.000,9, -999.000,9,   2186.6,2,   2297.8,2,  7.5630
     316N142_3,  AR15,     6,  1,     26,     26,2,19940405,1811, -2.8915, -36.4503, 3507,    607.8,   5.2009,  34.4528,2,  34.4536,2,    166.5,2,    167.0,2,    26.98,2,    31.99,2,     0.00,2,     2.08,2,    0.352,2,    0.180,2,    0.824,2,   2201.6,2,   2299.5,2,  5.1511
     316N142_3,  AR15,     6,  1,     25,     25,2,19940405,1811, -2.8915, -36.4503, 3507,    698.7,   4.8914,  34.4633,2,  34.4589,2,    157.1,2,    163.6,2,    30.06,2,    32.94,2,     0.00,2,     2.16,2,    0.083,2,    0.104,2,    0.649,2,   2206.9,2,   2302.5,2,  4.8354
     316N142_3,  AR15,     6,  1,     24,     24,2,19940405,1811, -2.8915, -36.4503, 3507,    784.1,   4.4069,  34.4666,2,  34.4671,2,    165.5,2,    166.7,2,    33.37,2,    33.10,2,     0.00,2,     2.19,2,    0.109,2,    0.075,2,    0.539,2,   2210.8,2,   2301.7,2,  4.3464
     316N142_3,  AR15,     6,  1,     23,     23,2,19940405,1811, -2.8915, -36.4503, 3507,    894.5,   4.3332,  34.5269,2,  34.5274,2,    158.0,2,    161.6,2,    34.16,2,    33.18,2,     0.00,2,     2.20,2,    0.053,2,    0.034,2,    0.247,2,   2215.0,2,   2307.5,2,  4.2639
     316N142_3,  AR15,     6,  1,     22,     22,2,19940405,1811, -2.8915, -36.4503, 3507,   1010.6,   4.2354,  34.5762,2,  34.5789,2,    166.4,2,    166.4,2,    34.15,2,    32.16,2,     0.00,2,     2.14,2, -999.000,9,    0.028,2,    0.251,2,   2213.0,2,   2310.6,2,  4.1569
     316N142_3,  AR15,     6,  1,     21,     21,2,19940405,1811, -2.8915, -36.4503, 3507,   1136.7,   4.4065,  34.7487,2,  34.7490,2,    178.2,2,    175.9,2,    28.64,2,    29.22,2,     0.00,2,     1.91,2,    0.000,4,    0.013,2,    0.125,2,   2206.2,2,   2314.5,2,  4.3153
     316N142_3,  AR15,     6,  1,     20,     20,2,19940405,1811, -2.8915, -36.4503, 3507,   1262.7,   4.4978,  34.9008,2,  34.9024,2,    204.4,2,    204.2,2,    22.44,2,    24.68,2,     0.00,2,     1.56,2,    0.074,2,    0.039,2,    0.371,2,   2182.1,2,   2316.6,2,  4.3942
     316N142_3,  AR15,     6,  1,     19,     19,2,19940405,1811, -2.8915, -36.4503, 3507,   1364.4,   4.3193,  34.9658,2,  34.9713,2,    225.7,2,    226.5,2,    19.12,2,    21.71,2,     0.00,2,     1.34,2,    0.111,2,    0.047,2,    0.416,2,   2176.8,2,   2316.9,2,  4.2080
     316N142_3,  AR15,     6,  1,     18,     18,2,19940405,1811, -2.8915, -36.4503, 3507,   1465.0,   4.2081,  34.9752,2,  34.9799,2,    233.7,2,    233.7,2,    18.53,2,    20.81,2,     0.00,2,     1.27,2, -999.000,9,    0.029,2,    0.517,2,   -999.0,9,   2319.0,2,  4.0888
     316N142_3,  AR15,     6,  1,     17,     17,2,19940405,1811, -2.8915, -36.4503, 3507,   1565.7,   4.1335,  34.9796,2,  34.9803,2,    238.7,2,    237.8,2,    18.18,2,    20.38,2,     0.00,2,     1.24,2,    0.086,2,    0.037,2,    0.509,2,   2159.5,2,   -999.0,9,  4.0057
     316N142_3,  AR15,     6,  1,     16,     16,2,19940405,1811, -2.8915, -36.4503, 3507,   1667.0,   4.0320,  34.9843,2,  34.9846,2,    244.9,2,    243.6,2,    17.72,2,    19.79,2,     0.00,2,     1.20,2,    0.091,2,    0.065,2,    0.549,2,   2162.9,2,   2317.4,2,  3.8960
     316N142_3,  AR15,     6,  1,     15,     15,2,19940405,1811, -2.8915, -36.4503, 3507,   1768.0,   3.9702,  34.9876,2,  34.9846,2,    248.9,2,    248.1,2,    17.37,2,    19.35,2,     0.00,2,     1.17,2,    0.104,2,    0.078,2,    0.610,2,   2161.9,2,   2319.9,2,  3.8254
     316N142_3,  AR15,     6,  1,     14,     14,2,19940405,1811, -2.8915, -36.4503, 3507,   1869.5,   3.6309,  34.9800,2,  34.9911,4,    255.0,2,    254.7,2,    18.50,2,    18.83,2,     0.00,2,     1.13,2, -999.000,9, -999.000,9, -999.000,9,   2160.8,2,   2319.5,2,  3.4812
     316N142_3,  AR15,     6,  1,     13,     13,2,19940405,1811, -2.8915, -36.4503, 3507,   1869.8,   3.6322,  34.9805,2,  34.9827,2,    255.0,2,    254.7,2,    18.49,2,    18.80,2,     0.00,2,     1.13,2,    0.099,2,    0.053,2,    0.660,2,   2160.1,2,   2318.3,2,  3.4824
     316N142_3,  AR15,     6,  1,     12,     12,2,19940405,1811, -2.8915, -36.4503, 3507,   1971.1,   3.4619,  34.9736,2,  34.9721,2,    257.2,2,    257.4,2,    19.63,2,    18.76,2,     0.00,2,     1.13,2, -999.000,9,    0.047,2,    0.597,2,   2159.5,2,   2321.8,2,  3.3051
     316N142_3,  AR15,     6,  1,     11,     11,2,19940405,1811, -2.8915, -36.4503, 3507,   2123.0,   3.4073,  34.9711,2,  34.9703,2,    257.8,2,    258.4,2,    19.85,2,    18.72,2,     0.00,2,     1.12,2,    0.074,2,    0.041,2,    0.564,2,   -999.0,9,   -999.0,9,  3.2369
     316N142_3,  AR15,     6,  1,     10,     10,2,19940405,1811, -2.8915, -36.4503, 3507,   2275.1,   3.2698,  34.9616,2,  34.9602,2,    256.8,2,    256.9,2,    22.35,2,    19.10,2,     0.00,2,     1.15,2, -999.000,9, -999.000,9, -999.000,9,   -999.0,9,   -999.0,9,  3.0870
     316N142_3,  AR15,     6,  1,      9,      9,2,19940405,1811, -2.8915, -36.4503, 3507,   2427.6,   3.1516,  34.9542,2,  34.9547,2,    257.3,2,    256.9,2,    23.71,2,    19.14,2,     0.00,2,     1.15,2,    0.020,2,    0.014,2,    0.328,2,   2165.3,2,   2325.0,2,  2.9560
     316N142_3,  AR15,     6,  1,      8,      8,2,19940405,1811, -2.8915, -36.4503, 3507,   2580.0,   3.0112,  34.9480,2,  34.9480,2,    257.4,2,    257.8,2,    25.19,2,    19.02,2,     0.00,2,     1.17,2, -999.000,9, -999.000,9, -999.000,9,   -999.0,9,   -999.0,9,  2.8031
     316N142_3,  AR15,     6,  1,      7,      7,2,19940405,1811, -2.8915, -36.4503, 3507,   2732.8,   2.8878,  34.9389,2,  34.9380,2,    256.2,2,    256.2,2,    27.80,2,    19.40,2,     0.00,2,     1.19,2, -999.000,9, -999.000,9, -999.000,9,   2166.5,2,   2329.9,2,  2.6668
     316N142_3,  AR15,     6,  1,      6,      6,2,19940405,1811, -2.8915, -36.4503, 3507,   2885.1,   2.8364,  34.9384,2,  34.9402,2,    259.1,2,    259.3,2,    26.88,2,    18.95,2,     0.00,2,     1.17,2,    0.070,2,    0.047,2,    0.327,2,   -999.0,9,   -999.0,9,  2.6010
     316N142_3,  AR15,     6,  1,      5,      5,2,19940405,1811, -2.8915, -36.4503, 3507,   3037.9,   2.7261,  34.9315,2,  34.9288,2,    259.6,2,    259.6,2,    28.24,2,    18.91,2,     0.00,2,     1.17,2, -999.000,9, -999.000,9, -999.000,9,   2166.3,2,   2329.7,2,  2.4773
     316N142_3,  AR15,     6,  1,      4,      4,2,19940405,1811, -2.8915, -36.4503, 3507,   3190.3,   2.6167,  34.9223,2,  34.9183,2,    258.1,2,    257.9,2,    31.08,2,    19.37,2,     0.00,2,     1.19,2, -999.000,9, -999.000,9, -999.000,9,   -999.0,9,   -999.0,9,  2.3545
     316N142_3,  AR15,     6,  1,      3,      3,2,19940405,1811, -2.8915, -36.4503, 3507,   3342.2,   2.5634,  34.9171,2,  34.9166,2,    258.7,2,    257.6,2,    32.55,2,    19.66,2,     0.00,2,     1.21,2,    0.011,4,    0.029,2,    0.307,2,   2168.1,2,   2333.1,2,  2.2864
     316N142_3,  AR15,     6,  1,      2,      2,2,19940405,1811, -2.8915, -36.4503, 3507,   3455.3,   2.5078,  34.9151,2,  34.9146,2,    260.5,2,    261.8,2,    31.52,2,    19.37,2,     0.00,2,     1.19,2, -999.000,9, -999.000,9, -999.000,9,   -999.0,9,   -999.0,9,  2.2200
     316N142_3,  AR15,     6,  1,      1,      1,2,19940405,1811, -2.8915, -36.4503, 3507,   3551.7,   2.5187,  34.9153,2,  34.9128,2,    260.2,2,    260.0,2,    31.62,2,    19.50,2,     0.00,2,     1.19,2,    0.046,2,    0.033,6,    0.410,6,   2172.2,2,   2344.9,2,  2.2201