BOTTLE,20020814WHPSIOKJU
EXPOCODE,SECT_ID,STNNBR,CASTNO,SAMPNO,BTLNBR,BTLNBR_FLAG_W,DATE,TIME,LATITUDE,LONGITUDE,DEPTH,CTDPRS,CTDTMP,CTDSAL,CTDSAL_FLAG_W,SALNTY,SALNTY_FLAG_W,CTDOXY,CTDOXY_FLAG_W,OXYGEN,OXYGEN_FLAG_W,SILCAT,SILCAT_FLAG_W,NITRAT,NITRAT_FLAG_W,NITRIT,NITRIT_FLAG_W,PHSPHT,PHSPHT_FLAG_W,CFC-11,CFC-11_FLAG_W,CFC-12,CFC-12_FLAG_W,CCL4,CCL4_FLAG_W,TCARBN,TCARBN_FLAG_W,ALKALI,ALKALI_FLAG_W,THETA
,,,,,,,,,,,,DBAR,ITS-90,PSS-78,,PSS-78,,UMOL/KG,,UMOL/KG,,UMOL/KG,,UMOL/KG,,UMOL/KG,,UMOL/KG,,PMOL/KG,,PMOL/KG,,PMOL/KG,,UMOL/KG,,UMOL/KG,,DEG C
     316N142_3,  AR15,   153,  1,     35,     35,2,19940520,0159,-18.8987, -37.8558,  493,     10.6,  27.2115,  37.3809,2,  37.3833,2,    200.9,2,    202.6,2,     1.22,2,     0.05,2,     0.00,2,     0.06,2, -999.000,9, -999.000,9, -999.000,9,   -999.0,9,   -999.0,9, 27.2091
     316N142_3,  AR15,   153,  1,     39,     39,2,19940520,0159,-18.8987, -37.8558,  493,     10.7,  27.2085,  37.3814,2,  37.3829,2,    201.6,2,    201.5,2,     1.38,2,     0.05,2,     0.00,2,     0.06,2, -999.000,9, -999.000,9, -999.000,9,   -999.0,9,   -999.0,9, 27.2060
     316N142_3,  AR15,   153,  1,     37,     37,9,19940520,0159,-18.8987, -37.8558,  493,     40.5,  27.1986,  37.3905,2,-999.0000,9,    207.9,2,   -999.0,9,  -999.00,9,  -999.00,9,  -999.00,9,  -999.00,9, -999.000,9, -999.000,9, -999.000,9,   -999.0,9,   -999.0,9, 27.1892
     316N142_3,  AR15,   153,  1,     29,     29,9,19940520,0159,-18.8987, -37.8558,  493,     40.6,  27.1997,  37.3907,2,-999.0000,9,    207.9,2,   -999.0,9,  -999.00,9,  -999.00,9,  -999.00,9,  -999.00,9, -999.000,9, -999.000,9, -999.000,9,   -999.0,9,   -999.0,9, 27.1903
     316N142_3,  AR15,   153,  1,     31,     31,9,19940520,0159,-18.8987, -37.8558,  493,     40.7,  27.1984,  37.3904,2,-999.0000,9,    207.9,2,   -999.0,9,  -999.00,9,  -999.00,9,  -999.00,9,  -999.00,9, -999.000,9, -999.000,9, -999.000,9,   -999.0,9,   -999.0,9, 27.1890
     316N142_3,  AR15,   153,  1,     24,     24,9,19940520,0159,-18.8987, -37.8558,  493,     40.7,  27.1996,  37.3903,2,-999.0000,9,    207.9,2,   -999.0,9,  -999.00,9,  -999.00,9,  -999.00,9,  -999.00,9, -999.000,9, -999.000,9, -999.000,9,   -999.0,9,   -999.0,9, 27.1902
     316N142_3,  AR15,   153,  1,     25,     25,9,19940520,0159,-18.8987, -37.8558,  493,     40.7,  27.1994,  37.3901,2,-999.0000,9,    207.9,2,   -999.0,9,  -999.00,9,  -999.00,9,  -999.00,9,  -999.00,9, -999.000,9, -999.000,9, -999.000,9,   -999.0,9,   -999.0,9, 27.1900
     316N142_3,  AR15,   153,  1,     26,     26,9,19940520,0159,-18.8987, -37.8558,  493,     40.7,  27.1997,  37.3903,2,-999.0000,9,    207.9,2,   -999.0,9,  -999.00,9,  -999.00,9,  -999.00,9,  -999.00,9, -999.000,9, -999.000,9, -999.000,9,   -999.0,9,   -999.0,9, 27.1903
     316N142_3,  AR15,   153,  1,     41,     41,9,19940520,0159,-18.8987, -37.8558,  493,     40.8,  27.2006,  37.3904,2,-999.0000,9,    207.9,2,   -999.0,9,  -999.00,9,  -999.00,9,  -999.00,9,  -999.00,9, -999.000,9, -999.000,9, -999.000,9,   -999.0,9,   -999.0,9, 27.1912
     316N142_3,  AR15,   153,  1,     40,     40,2,19940520,0159,-18.8987, -37.8558,  493,     40.8,  27.2007,  37.3899,2,  37.3909,2,    207.9,2,    203.8,2,     1.37,2,     0.05,2,     0.00,2,     0.06,2, -999.000,9, -999.000,9, -999.000,9,   -999.0,9,   -999.0,9, 27.1913
     316N142_3,  AR15,   153,  1,     27,     27,9,19940520,0159,-18.8987, -37.8558,  493,     40.8,  27.2008,  37.3902,2,-999.0000,9,    207.9,2,   -999.0,9,  -999.00,9,  -999.00,9,  -999.00,9,  -999.00,9, -999.000,9, -999.000,9, -999.000,9,   -999.0,9,   -999.0,9, 27.1914
     316N142_3,  AR15,   153,  1,     38,     38,9,19940520,0159,-18.8987, -37.8558,  493,     40.9,  27.2010,  37.3907,2,-999.0000,9,    207.9,2,   -999.0,9,  -999.00,9,  -999.00,9,  -999.00,9,  -999.00,9, -999.000,9, -999.000,9, -999.000,9,   -999.0,9,   -999.0,9, 27.1915
     316N142_3,  AR15,   153,  1,     42,     42,9,19940520,0159,-18.8987, -37.8558,  493,     40.9,  27.2010,  37.3907,2,-999.0000,9,    207.9,2,   -999.0,9,  -999.00,9,  -999.00,9,  -999.00,9,  -999.00,9, -999.000,9, -999.000,9, -999.000,9,   -999.0,9,   -999.0,9, 27.1915
     316N142_3,  AR15,   153,  1,     28,     28,9,19940520,0159,-18.8987, -37.8558,  493,     40.9,  27.2013,  37.3904,2,-999.0000,9,    207.9,2,   -999.0,9,  -999.00,9,  -999.00,9,  -999.00,9,  -999.00,9, -999.000,9, -999.000,9, -999.000,9,   -999.0,9,   -999.0,9, 27.1918
     316N142_3,  AR15,   153,  1,     19,     19,9,19940520,0159,-18.8987, -37.8558,  493,     40.9,  27.2010,  37.3902,2,-999.0000,9,    207.9,2,   -999.0,9,  -999.00,9,  -999.00,9,  -999.00,9,  -999.00,9, -999.000,9, -999.000,9, -999.000,9,   -999.0,9,   -999.0,9, 27.1915
     316N142_3,  AR15,   153,  1,     22,     22,9,19940520,0159,-18.8987, -37.8558,  493,     40.9,  27.2002,  37.3903,2,-999.0000,9,    207.9,2,   -999.0,9,  -999.00,9,  -999.00,9,  -999.00,9,  -999.00,9, -999.000,9, -999.000,9, -999.000,9,   -999.0,9,   -999.0,9, 27.1907
     316N142_3,  AR15,   153,  1,     21,     21,9,19940520,0159,-18.8987, -37.8558,  493,     41.0,  27.2011,  37.3901,2,-999.0000,9,    207.9,2,   -999.0,9,  -999.00,9,  -999.00,9,  -999.00,9,  -999.00,9, -999.000,9, -999.000,9, -999.000,9,   -999.0,9,   -999.0,9, 27.1916
     316N142_3,  AR15,   153,  1,     23,     23,9,19940520,0159,-18.8987, -37.8558,  493,     41.0,  27.1997,  37.3901,2,-999.0000,9,    207.9,2,   -999.0,9,  -999.00,9,  -999.00,9,  -999.00,9,  -999.00,9, -999.000,9, -999.000,9, -999.000,9,   -999.0,9,   -999.0,9, 27.1902
     316N142_3,  AR15,   153,  1,     17,     17,2,19940520,0159,-18.8987, -37.8558,  493,     41.0,  27.2015,  37.3894,2,  37.3904,2,    207.9,2,    204.4,2,     1.52,2,     0.00,2,     0.00,2,     0.05,2, -999.000,9, -999.000,9, -999.000,9,   -999.0,9,   -999.0,9, 27.1920
     316N142_3,  AR15,   153,  1,     20,     20,9,19940520,0159,-18.8987, -37.8558,  493,     41.0,  27.2021,  37.3903,2,-999.0000,9,    207.9,2,   -999.0,9,  -999.00,9,  -999.00,9,  -999.00,9,  -999.00,9, -999.000,9, -999.000,9, -999.000,9,   -999.0,9,   -999.0,9, 27.1926
     316N142_3,  AR15,   153,  1,     16,     16,2,19940520,0159,-18.8987, -37.8558,  493,     66.4,  24.9525,  37.0878,2,  37.0881,2,    224.7,2,    230.9,2,     1.51,2,     0.00,2,     0.00,2,     0.12,2, -999.000,9, -999.000,9, -999.000,9,   -999.0,9,   -999.0,9, 24.9380
     316N142_3,  AR15,   153,  1,     15,     15,2,19940520,0159,-18.8987, -37.8558,  493,     92.5,  23.9194,  36.9811,2,  36.9841,2,    221.2,2,    218.6,2,     1.51,2,     0.00,2,     0.00,2,     0.14,2, -999.000,9, -999.000,9, -999.000,9,   -999.0,9,   -999.0,9, 23.8998
     316N142_3,  AR15,   153,  1,     14,     14,2,19940520,0159,-18.8987, -37.8558,  493,    120.5,  22.6231,  36.7664,2,  36.7727,2,    204.8,2,    204.7,2,     1.66,2,     0.48,2,     0.09,2,     0.17,2, -999.000,9, -999.000,9, -999.000,9,   -999.0,9,   -999.0,9, 22.5986
     316N142_3,  AR15,   153,  1,     13,     13,2,19940520,0159,-18.8987, -37.8558,  493,    142.8,  18.6480,  36.0553,4,  36.0221,2,   -999.0,5,    197.4,2,     2.28,2,     3.21,2,     0.02,2,     0.37,2, -999.000,9, -999.000,9, -999.000,9,   -999.0,9,   -999.0,9, 18.6227
     316N142_3,  AR15,   153,  1,     12,     12,2,19940520,0159,-18.8987, -37.8558,  493,    187.6,  16.8857,  35.7548,2,  35.7553,2,    199.2,2,    198.1,2,     2.75,2,     4.52,2,     0.01,2,     0.46,2, -999.000,9, -999.000,9, -999.000,9,   -999.0,9,   -999.0,9, 16.8547
     316N142_3,  AR15,   153,  1,     11,     11,2,19940520,0159,-18.8987, -37.8558,  493,    227.5,  16.1598,  35.6342,2,  35.6266,2,    197.9,2,    198.8,2,     2.90,2,     5.41,2,     0.01,2,     0.52,2, -999.000,9, -999.000,9, -999.000,9,   -999.0,9,   -999.0,9, 16.1233
     316N142_3,  AR15,   153,  1,     10,     10,2,19940520,0159,-18.8987, -37.8558,  493,    242.1,  15.0287,  35.4609,2,  35.4502,2,    199.2,2,    200.0,2,     3.36,2,     7.09,2,     0.00,2,     0.62,2, -999.000,9, -999.000,9, -999.000,9,   -999.0,9,   -999.0,9, 14.9918
     316N142_3,  AR15,   153,  1,      9,      9,2,19940520,0159,-18.8987, -37.8558,  493,    303.1,  14.2816,  35.3592,2,  35.3461,2,    198.8,2,    199.6,2,     3.83,2,     8.60,2,     0.00,2,     0.70,2, -999.000,9, -999.000,9, -999.000,9,   -999.0,9,   -999.0,9, 14.2369
     316N142_3,  AR15,   153,  1,      8,      8,2,19940520,0159,-18.8987, -37.8558,  493,    312.8,  13.5142,  35.2550,2,  35.2540,2,    197.3,2,    199.6,2,     4.29,2,     9.96,2,     0.00,2,     0.78,2, -999.000,9, -999.000,9, -999.000,9,   -999.0,9,   -999.0,9, 13.4698
     316N142_3,  AR15,   153,  1,      7,      7,2,19940520,0159,-18.8987, -37.8558,  493,    358.4,  13.0883,  35.1990,2,  35.1906,2,    199.5,2,    199.4,2,     4.76,2,    11.00,2,     0.00,2,     0.85,2, -999.000,9, -999.000,9, -999.000,9,   -999.0,9,   -999.0,9, 13.0384
     316N142_3,  AR15,   153,  1,      6,      6,2,19940520,0159,-18.8987, -37.8558,  493,    398.6,  12.5196,  35.1287,2,  35.1255,2,    199.7,2,    199.3,2,     5.22,2,    12.14,2,     0.00,2,     0.92,2, -999.000,9, -999.000,9, -999.000,9,   -999.0,9,   -999.0,9, 12.4657
     316N142_3,  AR15,   153,  1,      5,      5,2,19940520,0159,-18.8987, -37.8558,  493,    418.2,  11.1658,  34.9599,2,  34.9632,2,    195.9,2,    197.3,2,     6.78,2,    15.27,2,     0.00,2,     1.11,2, -999.000,9, -999.000,9, -999.000,9,   -999.0,9,   -999.0,9, 11.1133
     316N142_3,  AR15,   153,  1,      4,      4,2,19940520,0159,-18.8987, -37.8558,  493,    452.8,  10.9724,  34.9363,2,  34.9312,2,    196.6,2,    196.6,2,  -999.00,9,  -999.00,9,  -999.00,9,  -999.00,9, -999.000,9, -999.000,9, -999.000,9,   -999.0,9,   -999.0,9, 10.9160
     316N142_3,  AR15,   153,  1,      3,      3,2,19940520,0159,-18.8987, -37.8558,  493,    488.4,  10.1964,  34.8447,2,  34.8376,2,    195.1,2,    196.1,2,     8.49,2,    17.88,2,     0.00,2,     1.28,2, -999.000,9, -999.000,9, -999.000,9,   -999.0,9,   -999.0,9, 10.1383
     316N142_3,  AR15,   153,  1,      2,      2,2,19940520,0159,-18.8987, -37.8558,  493,    525.1,   7.1961,  34.5246,2,  34.5218,2,    196.5,3,    203.2,2,    14.90,2,    24.35,2,     0.00,2,     1.71,2, -999.000,9, -999.000,9, -999.000,9,   -999.0,9,   -999.0,9,  7.1453
     316N142_3,  AR15,   153,  1,      1,      1,2,19940520,0159,-18.8987, -37.8558,  493,    565.9,   6.9188,  34.4987,2,  34.5026,2,    200.3,3,    203.9,2,    15.51,2,    24.81,2,     0.00,2,     1.74,2, -999.000,9, -999.000,9, -999.000,9,   -999.0,9,   -999.0,9,  6.8652