BOTTLE,20020814WHPSIOKJU
EXPOCODE,SECT_ID,STNNBR,CASTNO,SAMPNO,BTLNBR,BTLNBR_FLAG_W,DATE,TIME,LATITUDE,LONGITUDE,DEPTH,CTDPRS,CTDTMP,CTDSAL,CTDSAL_FLAG_W,SALNTY,SALNTY_FLAG_W,CTDOXY,CTDOXY_FLAG_W,OXYGEN,OXYGEN_FLAG_W,SILCAT,SILCAT_FLAG_W,NITRAT,NITRAT_FLAG_W,NITRIT,NITRIT_FLAG_W,PHSPHT,PHSPHT_FLAG_W,CFC-11,CFC-11_FLAG_W,CFC-12,CFC-12_FLAG_W,CCL4,CCL4_FLAG_W,TCARBN,TCARBN_FLAG_W,ALKALI,ALKALI_FLAG_W,THETA
,,,,,,,,,,,,DBAR,ITS-90,PSS-78,,PSS-78,,UMOL/KG,,UMOL/KG,,UMOL/KG,,UMOL/KG,,UMOL/KG,,UMOL/KG,,PMOL/KG,,PMOL/KG,,PMOL/KG,,UMOL/KG,,UMOL/KG,,DEG C
     316N142_3,   A15,    52,  1,     39,     39,2,19940420,1608, -3.4007, -19.0000, 4680,      5.2,  28.4937,  35.5014,2,  35.5034,2,    205.1,4,    204.2,2,     1.72,2,     0.23,2,     0.00,2,     0.12,2, -999.000,9, -999.000,9, -999.000,9,   -999.0,9,   -999.0,9, 28.4925
     316N142_3,   A15,    52,  1,     35,     35,2,19940420,1608, -3.4007, -19.0000, 4680,     36.0,  25.9701,  35.8926,2,  35.9077,2,    195.4,4,    214.4,2,     1.83,2,     0.23,2,     0.00,2,     0.18,2, -999.000,9, -999.000,9, -999.000,9,   -999.0,9,   -999.0,9, 25.9620
     316N142_3,   A15,    52,  1,     38,     38,2,19940420,1608, -3.4007, -19.0000, 4680,     80.4,  14.4366,  35.4563,2,  35.4596,2,    103.2,2,     96.7,2,     8.16,2,    21.31,2,     0.09,2,     1.38,2, -999.000,9, -999.000,9, -999.000,9,   -999.0,9,   -999.0,9, 14.4247
     316N142_3,   A15,    52,  1,     33,     33,2,19940420,1608, -3.4007, -19.0000, 4680,    181.0,  13.1958,  35.3008,2,  35.3009,2,    117.9,2,    116.6,2,     9.21,2,    21.31,2,     0.01,2,     1.45,2, -999.000,9, -999.000,9, -999.000,9,   -999.0,9,   -999.0,9, 13.1706
     316N142_3,   A15,    52,  1,     41,     41,2,19940420,1608, -3.4007, -19.0000, 4680,    281.1,  11.8020,  35.1296,2,  35.1291,2,     83.7,2,     85.1,2,    11.71,2,    27.11,2,     0.01,2,     1.76,2, -999.000,9, -999.000,9, -999.000,9,   -999.0,9,   -999.0,9, 11.7655
     316N142_3,   A15,    52,  1,     31,     31,2,19940420,1608, -3.4007, -19.0000, 4680,    355.6,  10.3147,  34.9593,2,  34.9570,2,     71.4,2,     71.7,2,    14.48,2,    31.38,2,     0.01,2,     2.00,2, -999.000,9, -999.000,9, -999.000,9,   -999.0,9,   -999.0,9, 10.2723
     316N142_3,   A15,    52,  1,     37,     37,2,19940420,1608, -3.4007, -19.0000, 4680,    426.2,   9.0848,  34.8237,2,  34.8223,2,     77.0,2,     78.8,2,    16.98,2,    33.25,2,     0.00,2,     2.12,2, -999.000,9, -999.000,9, -999.000,9,   -999.0,9,   -999.0,9,  9.0377
     316N142_3,   A15,    52,  1,     29,     29,2,19940420,1608, -3.4007, -19.0000, 4680,    527.5,   6.9797,  34.6132,2,  34.6133,2,    113.4,2,    112.0,2,    21.60,2,    34.19,2,     0.00,2,     2.25,2, -999.000,9, -999.000,9, -999.000,9,   -999.0,9,   -999.0,9,  6.9295
     316N142_3,   A15,    52,  1,     28,     28,2,19940420,1608, -3.4007, -19.0000, 4680,    628.3,   5.5947,  34.5076,2,  34.5069,2,    131.6,2,    130.3,2,    27.29,2,    35.17,2,     0.00,2,     2.37,2, -999.000,9, -999.000,9, -999.000,9,   -999.0,9,   -999.0,9,  5.5412
     316N142_3,   A15,    52,  1,     27,     27,2,19940420,1608, -3.4007, -19.0000, 4680,    739.5,   4.7979,  34.4840,2,  34.4837,2,    146.0,2,    148.8,2,    31.65,2,    34.86,2,     0.00,2,     2.38,2, -999.000,9, -999.000,9, -999.000,9,   -999.0,9,   -999.0,9,  4.7388
     316N142_3,   A15,    52,  1,     26,     26,2,19940420,1608, -3.4007, -19.0000, 4680,    911.1,   4.4521,  34.5469,2,  34.5461,2,    151.3,2,    151.8,2,    33.89,2,    34.21,2,     0.00,2,     2.36,2, -999.000,9, -999.000,9, -999.000,9,   -999.0,9,   -999.0,9,  4.3806
     316N142_3,   A15,    52,  1,     25,     25,2,19940420,1608, -3.4007, -19.0000, 4680,   1062.5,   4.3771,  34.6664,2,  34.6667,2,    164.3,2,    163.6,2,    31.89,2,    31.66,2,     0.00,2,     2.19,2, -999.000,9, -999.000,9, -999.000,9,   -999.0,9,   -999.0,9,  4.2928
     316N142_3,   A15,    52,  1,     24,     24,2,19940420,1608, -3.4007, -19.0000, 4680,   1213.2,   4.3771,  34.7787,2,  34.7762,2,    178.9,2,    178.1,2,    28.30,2,    28.88,2,     0.00,2,     1.99,2, -999.000,9, -999.000,9, -999.000,9,   -999.0,9,   -999.0,9,  4.2793
     316N142_3,   A15,    52,  1,     23,     23,9,19940420,1608, -3.4007, -19.0000, 4680,   1364.9,   4.2724,  34.8790,2,-999.0000,9,    203.3,2,   -999.0,9,  -999.00,9,  -999.00,9,  -999.00,9,  -999.00,9, -999.000,9, -999.000,9, -999.000,9,   -999.0,9,   -999.0,9,  4.1618
     316N142_3,   A15,    52,  1,     22,     22,2,19940420,1608, -3.4007, -19.0000, 4680,   1516.2,   4.2004,  34.9539,2,  34.9536,2,    231.0,2,    226.8,2,    19.93,2,    22.01,2,     0.00,2,     1.53,2, -999.000,9, -999.000,9, -999.000,9,   -999.0,9,   -999.0,9,  4.0764
     316N142_3,   A15,    52,  1,     21,     21,2,19940420,1608, -3.4007, -19.0000, 4680,   1668.5,   3.9917,  34.9644,2,  34.9648,2,    239.6,2,    236.6,2,    19.79,2,    20.94,2,     0.00,2,     1.45,2, -999.000,9, -999.000,9, -999.000,9,   -999.0,9,   -999.0,9,  3.8561
     316N142_3,   A15,    52,  1,     20,     20,2,19940420,1608, -3.4007, -19.0000, 4680,   1794.3,   3.7915,  34.9674,2,  34.9689,2,    245.7,2,    244.7,2,    20.04,2,    20.20,2,     0.00,2,     1.39,2, -999.000,9, -999.000,9, -999.000,9,   -999.0,9,   -999.0,9,  3.6467
     316N142_3,   A15,    52,  1,     19,     19,2,19940420,1608, -3.4007, -19.0000, 4680,   1921.0,   3.6160,  34.9652,2,  34.9675,2,    247.0,2,    249.4,2,    20.82,2,    19.84,2,     0.00,2,     1.37,2, -999.000,9, -999.000,9, -999.000,9,   -999.0,9,   -999.0,9,  3.4617
     316N142_3,   A15,    52,  1,     40,     40,2,19940420,1608, -3.4007, -19.0000, 4680,   2073.5,   3.3990,  34.9504,2,  34.9522,2,    246.9,2,    247.2,2,    24.92,2,    20.40,2,     0.00,2,     1.41,2, -999.000,9, -999.000,9, -999.000,9,   -999.0,9,   -999.0,9,  3.2335
     316N142_3,   A15,    52,  1,     17,     17,2,19940420,1608, -3.4007, -19.0000, 4680,   2226.0,   3.2461,  34.9478,2,  34.9486,2,    248.7,2,    250.7,2,    25.71,2,    20.12,2,     0.00,2,     1.39,2, -999.000,9, -999.000,9, -999.000,9,   -999.0,9,   -999.0,9,  3.0685
     316N142_3,   A15,    52,  1,     16,     16,2,19940420,1608, -3.4007, -19.0000, 4680,   2375.8,   3.0429,  34.9322,2,  34.9319,2,    246.1,2,    245.9,2,    31.14,2,    21.01,2,     0.00,2,     1.44,2, -999.000,9, -999.000,9, -999.000,9,   -999.0,9,   -999.0,9,  2.8543
     316N142_3,   A15,    52,  1,     15,     15,2,19940420,1608, -3.4007, -19.0000, 4680,   2555.8,   2.8371,  34.9173,2,  34.9165,2,    242.0,2,    242.9,2,    36.43,2,    21.71,2,     0.00,2,     1.49,2, -999.000,9, -999.000,9, -999.000,9,   -999.0,9,   -999.0,9,  2.6348
     316N142_3,   A15,    52,  1,     14,     14,2,19940420,1608, -3.4007, -19.0000, 4680,   2733.3,   2.7649,  34.9127,2,  34.9128,2,    243.1,2,    242.8,2,    37.88,2,    21.81,2,     0.00,2,     1.51,2, -999.000,9, -999.000,9, -999.000,9,   -999.0,9,   -999.0,9,  2.5465
     316N142_3,   A15,    52,  1,     13,     13,2,19940420,1608, -3.4007, -19.0000, 4680,   2911.2,   2.7020,  34.9110,2,  34.9108,2,    246.0,2,    245.0,2,    37.88,2,    21.63,2,     0.00,2,     1.50,2, -999.000,9, -999.000,9, -999.000,9,   -999.0,9,   -999.0,9,  2.4669
     316N142_3,   A15,    52,  1,     12,     12,2,19940420,1608, -3.4007, -19.0000, 4680,   3090.0,   2.6372,  34.9084,2,  34.9084,2,    246.8,2,    246.6,2,    38.53,2,    21.54,2,     0.00,2,     1.49,2, -999.000,9, -999.000,9, -999.000,9,   -999.0,9,   -999.0,9,  2.3851
     316N142_3,   A15,    52,  1,     11,     11,2,19940420,1608, -3.4007, -19.0000, 4680,   3292.5,   2.6003,  34.9126,2,  34.9124,2,    254.0,2,    254.0,2,    35.47,2,    20.61,2,     0.00,2,     1.43,2, -999.000,9, -999.000,9, -999.000,9,   -999.0,9,   -999.0,9,  2.3278
     316N142_3,   A15,    52,  1,     10,     10,2,19940420,1608, -3.4007, -19.0000, 4680,   3498.3,   2.5263,  34.9099,2,  34.9102,2,    259.6,2,    260.0,4,    34.00,2,    20.10,2,     0.00,2,     1.39,2, -999.000,9, -999.000,9, -999.000,9,   -999.0,9,   -999.0,9,  2.2334
     316N142_3,   A15,    52,  1,      9,      9,2,19940420,1608, -3.4007, -19.0000, 4680,   3650.0,   2.4712,  34.9073,2,  34.9058,2,    260.7,2,    259.3,2,    33.99,2,    19.92,2,     0.00,2,     1.39,2, -999.000,9, -999.000,9, -999.000,9,   -999.0,9,   -999.0,9,  2.1631
     316N142_3,   A15,    52,  1,      8,      8,2,19940420,1608, -3.4007, -19.0000, 4680,   3802.8,   2.3608,  34.8964,2,  34.8962,2,    258.4,2,    258.8,2,    36.90,2,    20.25,2,     0.00,2,     1.42,2, -999.000,9, -999.000,9, -999.000,9,   -999.0,9,   -999.0,9,  2.0388
     316N142_3,   A15,    52,  1,      7,      7,2,19940420,1608, -3.4007, -19.0000, 4680,   3956.2,   2.0725,  34.8629,2,  34.8620,2,    249.1,2,    250.0,2,    51.63,2,    22.49,2,     0.00,2,     1.56,2, -999.000,9, -999.000,9, -999.000,9,   -999.0,9,   -999.0,9,  1.7413
     316N142_3,   A15,    52,  1,      6,      6,2,19940420,1608, -3.4007, -19.0000, 4680,   4109.9,   1.7798,  34.8317,2,  34.8313,2,    242.7,2,    245.1,2,    63.80,2,    24.17,2,     0.00,2,     1.68,2, -999.000,9, -999.000,9, -999.000,9,   -999.0,9,   -999.0,9,  1.4399
     316N142_3,   A15,    52,  1,      5,      5,2,19940420,1608, -3.4007, -19.0000, 4680,   4262.2,   1.3600,  34.7860,2,  34.7854,2,    234.5,2,    235.9,2,    81.47,2,    26.83,2,     0.00,2,     1.87,2, -999.000,9, -999.000,9, -999.000,9,   -999.0,9,   -999.0,9,  1.0156
     316N142_3,   A15,    52,  1,      4,      4,2,19940420,1608, -3.4007, -19.0000, 4680,   4415.5,   1.0874,  34.7554,2,  34.7567,2,    231.1,2,    230.9,2,    92.86,2,    28.56,2,     0.00,2,     2.00,2, -999.000,9, -999.000,9, -999.000,9,   -999.0,9,   -999.0,9,  0.7343
     316N142_3,   A15,    52,  1,      3,      3,2,19940420,1608, -3.4007, -19.0000, 4680,   4568.9,   0.9015,  34.7343,2,  34.7343,2,    229.0,3,    226.4,2,   100.82,2,    29.83,2,     0.00,2,     2.09,2, -999.000,9, -999.000,9, -999.000,9,   -999.0,9,   -999.0,9,  0.5371
     316N142_3,   A15,    52,  1,      2,      2,2,19940420,1608, -3.4007, -19.0000, 4680,   4721.7,   0.8410,  34.7262,2,  34.7262,2,    230.6,4,    224.8,2,   103.74,2,    30.30,2,     0.00,2,     2.12,2, -999.000,9, -999.000,9, -999.000,9,   -999.0,9,   -999.0,9,  0.4613
     316N142_3,   A15,    52,  1,      1,      1,2,19940420,1608, -3.4007, -19.0000, 4680,   4818.7,   0.8317,  34.7238,2,  34.7233,2,    230.8,4,    225.1,2,   104.47,2,    30.44,2,     0.00,2,     2.13,2, -999.000,9, -999.000,9, -999.000,9,   -999.0,9,   -999.0,9,  0.4410