BOTTLE,20020814WHPSIOKJU
EXPOCODE,SECT_ID,STNNBR,CASTNO,SAMPNO,BTLNBR,BTLNBR_FLAG_W,DATE,TIME,LATITUDE,LONGITUDE,DEPTH,CTDPRS,CTDTMP,CTDSAL,CTDSAL_FLAG_W,SALNTY,SALNTY_FLAG_W,CTDOXY,CTDOXY_FLAG_W,OXYGEN,OXYGEN_FLAG_W,SILCAT,SILCAT_FLAG_W,NITRAT,NITRAT_FLAG_W,NITRIT,NITRIT_FLAG_W,PHSPHT,PHSPHT_FLAG_W,CFC-11,CFC-11_FLAG_W,CFC-12,CFC-12_FLAG_W,CCL4,CCL4_FLAG_W,TCARBN,TCARBN_FLAG_W,ALKALI,ALKALI_FLAG_W,THETA
,,,,,,,,,,,,DBAR,ITS-90,PSS-78,,PSS-78,,UMOL/KG,,UMOL/KG,,UMOL/KG,,UMOL/KG,,UMOL/KG,,UMOL/KG,,PMOL/KG,,PMOL/KG,,PMOL/KG,,UMOL/KG,,UMOL/KG,,DEG C
     316N142_3,  AR15,   127,  1,     39,     39,2,19940513,1608,-17.5815, -26.9572, 5237,     10.8,  26.6423,  37.3269,2,  37.3270,2,    201.5,2,    202.5,2,     2.08,2,     0.00,2,     0.00,2,     0.14,2, -999.000,9, -999.000,9, -999.000,9,   -999.0,9,   -999.0,9, 26.6399
     316N142_3,  AR15,   127,  1,     35,     35,2,19940513,1608,-17.5815, -26.9572, 5237,     90.8,  23.1003,  36.6891,2,  36.6961,2,    223.9,2,    223.9,2,     2.06,2,     0.00,2,     0.00,2,     0.16,2, -999.000,9, -999.000,9, -999.000,9,   -999.0,9,   -999.0,9, 23.0815
     316N142_3,  AR15,   127,  1,     38,     38,2,19940513,1608,-17.5815, -26.9572, 5237,    201.4,  16.0097,  35.6075,2,  35.6047,2,    200.2,2,    191.7,2,     3.68,2,     4.50,2,     0.00,2,     0.61,2, -999.000,9, -999.000,9, -999.000,9,   -999.0,9,   -999.0,9, 15.9777
     316N142_3,  AR15,   127,  1,     33,     33,2,19940513,1608,-17.5815, -26.9572, 5237,    306.2,  12.5368,  35.1023,2,  35.1006,2,    194.1,2,    191.3,2,     6.05,2,    11.48,2,     0.00,2,     0.97,2, -999.000,9, -999.000,9, -999.000,9,   -999.0,9,   -999.0,9, 12.4955
     316N142_3,  AR15,   127,  1,     41,     41,2,19940513,1608,-17.5815, -26.9572, 5237,    425.1,   9.4923,  34.7934,2,  34.7940,2,    145.5,2,    144.7,2,    13.02,2,    24.68,2,     0.00,2,     1.67,2, -999.000,9, -999.000,9, -999.000,9,   -999.0,9,   -999.0,9,  9.4441
     316N142_3,  AR15,   127,  1,     31,     31,2,19940513,1608,-17.5815, -26.9572, 5237,    514.8,   7.6625,  34.6255,2,  34.6242,2,    147.5,2,    146.6,2,    17.78,2,    29.22,2,     0.00,2,     1.94,2, -999.000,9, -999.000,9, -999.000,9,   -999.0,9,   -999.0,9,  7.6109
     316N142_3,  AR15,   127,  1,     37,     37,2,19940513,1608,-17.5815, -26.9572, 5237,    616.4,   5.5938,  34.4550,2,  34.4544,2,    171.5,2,    171.8,2,    24.18,2,    31.69,2,     0.00,2,     2.09,2, -999.000,9, -999.000,9, -999.000,9,   -999.0,9,   -999.0,9,  5.5414
     316N142_3,  AR15,   127,  1,     29,     29,2,19940513,1608,-17.5815, -26.9572, 5237,    732.4,   4.3823,  34.3998,2,  34.3987,2,    182.3,2,    185.5,2,    31.64,2,    32.91,2,     0.00,2,     2.18,2, -999.000,9, -999.000,9, -999.000,9,   -999.0,9,   -999.0,9,  4.3263
     316N142_3,  AR15,   127,  1,     28,     28,2,19940513,1608,-17.5815, -26.9572, 5237,    858.5,   3.9038,  34.4295,2,  34.4281,2,    182.3,2,    183.8,2,    37.16,2,    33.54,2,     0.00,2,     2.23,2, -999.000,9, -999.000,9, -999.000,9,   -999.0,9,   -999.0,9,  3.8405
     316N142_3,  AR15,   127,  1,     27,     27,2,19940513,1608,-17.5815, -26.9572, 5237,   1011.0,   3.7046,  34.5217,2,  34.5203,2,    178.9,2,    181.8,2,    39.70,2,    33.05,2,     0.00,2,     2.19,2, -999.000,9, -999.000,9, -999.000,9,   -999.0,9,   -999.0,9,  3.6303
     316N142_3,  AR15,   127,  1,     26,     26,2,19940513,1608,-17.5815, -26.9572, 5237,   1161.2,   3.8496,  34.6604,2,  34.6593,2,    180.7,2,    185.4,2,    35.93,2,    30.80,2,     0.00,2,     2.05,2, -999.000,9, -999.000,9, -999.000,9,   -999.0,9,   -999.0,9,  3.7613
     316N142_3,  AR15,   127,  1,     25,     25,2,19940513,1608,-17.5815, -26.9572, 5237,   1310.7,   3.9655,  34.7760,2,  34.7763,2,    193.4,2,    194.9,2,    30.82,2,    27.80,2,     0.00,2,     1.88,2, -999.000,9, -999.000,9, -999.000,9,   -999.0,9,   -999.0,9,  3.8631
     316N142_3,  AR15,   127,  1,     24,     24,2,19940513,1608,-17.5815, -26.9572, 5237,   1472.0,   3.8751,  34.8512,2,  34.8517,2,    209.0,2,    211.3,2,    27.96,2,    25.07,2,     0.00,2,     1.69,2, -999.000,9, -999.000,9, -999.000,9,   -999.0,9,   -999.0,9,  3.7592
     316N142_3,  AR15,   127,  1,     23,     23,2,19940513,1608,-17.5815, -26.9572, 5237,   1633.6,   3.6452,  34.8891,2,  34.8896,2,    224.8,2,    225.2,2,    27.49,2,    23.06,2,     0.00,2,     1.58,2, -999.000,9, -999.000,9, -999.000,9,   -999.0,9,   -999.0,9,  3.5172
     316N142_3,  AR15,   127,  1,     22,     22,2,19940513,1608,-17.5815, -26.9572, 5237,   1794.6,   3.4202,  34.9060,2,  34.9053,2,    234.5,2,    234.4,2,    28.52,2,    22.03,2,     0.00,2,     1.51,2, -999.000,9, -999.000,9, -999.000,9,   -999.0,9,   -999.0,9,  3.2805
     316N142_3,  AR15,   127,  1,     21,     21,2,19940513,1608,-17.5815, -26.9572, 5237,   1947.3,   3.2857,  34.9218,2,  34.9212,2,    243.5,2,    241.6,2,    28.36,2,    21.00,2,     0.00,2,     1.44,2, -999.000,9, -999.000,9, -999.000,9,   -999.0,9,   -999.0,9,  3.1338
     316N142_3,  AR15,   127,  1,     20,     20,2,19940513,1608,-17.5815, -26.9572, 5237,   2098.5,   3.1386,  34.9238,2,  34.9238,2,    245.1,2,    244.9,2,    29.39,2,    20.63,2,     0.00,2,     1.42,2, -999.000,9, -999.000,9, -999.000,9,   -999.0,9,   -999.0,9,  2.9749
     316N142_3,  AR15,   127,  1,     19,     19,2,19940513,1608,-17.5815, -26.9572, 5237,   2264.0,   3.0101,  34.9190,2,  34.9189,2,    245.4,2,    245.5,2,    31.62,2,    20.92,2,     0.00,2,     1.43,2, -999.000,9, -999.000,9, -999.000,9,   -999.0,9,   -999.0,9,  2.8329
     316N142_3,  AR15,   127,  1,     40,     40,2,19940513,1608,-17.5815, -26.9572, 5237,   2427.6,   2.8718,  34.9092,2,  34.9100,2,    244.3,2,    244.0,2,    35.20,2,    21.22,2,     0.00,2,     1.46,2, -999.000,9, -999.000,9, -999.000,9,   -999.0,9,   -999.0,9,  2.6813
     316N142_3,  AR15,   127,  1,     17,     17,2,19940513,1608,-17.5815, -26.9572, 5237,   2632.7,   2.7667,  34.9015,2,  34.9016,2,    243.1,2,    242.7,2,    38.04,2,    21.71,2,     0.00,2,     1.49,2, -999.000,9, -999.000,9, -999.000,9,   -999.0,9,   -999.0,9,  2.5583
     316N142_3,  AR15,   127,  1,     16,     16,2,19940513,1608,-17.5815, -26.9572, 5237,   2785.1,   2.7149,  34.8978,2,  34.8982,2,    242.8,2,    243.0,2,    39.53,2,    22.20,2,     0.00,2,     1.50,2, -999.000,9, -999.000,9, -999.000,9,   -999.0,9,   -999.0,9,  2.4923
     316N142_3,  AR15,   127,  1,     15,     15,2,19940513,1608,-17.5815, -26.9572, 5237,   2938.0,   2.6959,  34.9004,2,  34.9000,2,    243.2,2,    244.0,2,    39.36,2,    21.77,2,     0.00,2,     1.49,2, -999.000,9, -999.000,9, -999.000,9,   -999.0,9,   -999.0,9,  2.4582
     316N142_3,  AR15,   127,  1,     14,     14,2,19940513,1608,-17.5815, -26.9572, 5237,   3080.6,   2.6793,  34.9053,2,  34.9055,2,    247.4,2,    246.9,2,    37.84,2,    21.39,2,     0.00,2,     1.44,2, -999.000,9, -999.000,9, -999.000,9,   -999.0,9,   -999.0,9,  2.4273
     316N142_3,  AR15,   127,  1,     13,     13,2,19940513,1608,-17.5815, -26.9572, 5237,   3212.8,   2.6447,  34.9054,2,  34.9057,2,    248.7,2,    248.8,2,    37.53,2,    21.22,2,     0.00,2,     1.43,2, -999.000,9, -999.000,9, -999.000,9,   -999.0,9,   -999.0,9,  2.3796
     316N142_3,  AR15,   127,  1,     12,     12,2,19940513,1608,-17.5815, -26.9572, 5237,   3447.7,   2.5382,  34.8997,2,  34.8998,2,    251.4,2,    250.3,2,    39.47,2,    21.52,2,     0.00,2,     1.45,2, -999.000,9, -999.000,9, -999.000,9,   -999.0,9,   -999.0,9,  2.2505
     316N142_3,  AR15,   127,  1,     11,     11,2,19940513,1608,-17.5815, -26.9572, 5237,   3599.9,   2.4155,  34.8890,2,  34.8894,2,    250.0,2,    249.7,2,    43.22,2,    22.08,2,     0.00,2,     1.48,2, -999.000,9, -999.000,9, -999.000,9,   -999.0,9,   -999.0,9,  2.1145
     316N142_3,  AR15,   127,  1,     10,     10,2,19940513,1608,-17.5815, -26.9572, 5237,   3753.2,   2.2402,  34.8717,2,  34.8715,2,    248.1,2,    247.5,2,    49.84,2,    22.78,2,     0.00,2,     1.53,2, -999.000,9, -999.000,9, -999.000,9,   -999.0,9,   -999.0,9,  1.9270
     316N142_3,  AR15,   127,  1,      9,      9,2,19940513,1608,-17.5815, -26.9572, 5237,   3905.9,   1.9829,  34.8467,2,  34.8462,2,    244.9,2,    244.4,2,    59.07,2,    24.09,2,     0.00,2,     1.62,2, -999.000,9, -999.000,9, -999.000,9,   -999.0,9,   -999.0,9,  1.6599
     316N142_3,  AR15,   127,  1,      8,      8,2,19940513,1608,-17.5815, -26.9572, 5237,   4059.2,   1.6747,  34.8141,2,  34.8138,2,    239.8,2,    239.0,2,    71.58,2,    26.07,2,     0.00,2,     1.74,2, -999.000,9, -999.000,9, -999.000,9,   -999.0,9,   -999.0,9,  1.3435
     316N142_3,  AR15,   127,  1,      7,      7,2,19940513,1608,-17.5815, -26.9572, 5237,   4210.5,   1.4450,  34.7903,2,  34.7900,2,    235.7,2,    235.6,2,    80.34,2,    27.31,2,     0.00,2,     1.82,2, -999.000,9, -999.000,9, -999.000,9,   -999.0,9,   -999.0,9,  1.1038
     316N142_3,  AR15,   127,  1,      6,      6,2,19940513,1608,-17.5815, -26.9572, 5237,   4362.7,   1.2526,  34.7698,2,  34.7704,2,    232.3,2,    232.9,2,    87.30,2,    28.16,2,     0.00,2,     1.91,2, -999.000,9, -999.000,9, -999.000,9,   -999.0,9,   -999.0,9,  0.9003
     316N142_3,  AR15,   127,  1,      5,      5,2,19940513,1608,-17.5815, -26.9572, 5237,   4568.8,   1.0704,  34.7498,2,  34.7496,2,    229.6,2,    229.8,2,    95.09,2,    29.61,2,     0.00,2,     1.97,2, -999.000,9, -999.000,9, -999.000,9,   -999.0,9,   -999.0,9,  0.7006
     316N142_3,  AR15,   127,  1,      4,      4,2,19940513,1608,-17.5815, -26.9572, 5237,   4774.7,   0.9401,  34.7349,2,  34.7349,2,    227.6,2,    227.5,2,   100.26,2,    30.46,2,     0.00,2,     2.03,2, -999.000,9, -999.000,9, -999.000,9,   -999.0,9,   -999.0,9,  0.5509
     316N142_3,  AR15,   127,  1,      3,      3,2,19940513,1608,-17.5815, -26.9572, 5237,   4980.3,   0.8217,  34.7207,2,  34.7206,2,    225.8,2,    225.6,2,   105.62,2,    31.18,2,     0.00,2,     2.08,2, -999.000,9, -999.000,9, -999.000,9,   -999.0,9,   -999.0,9,  0.4126
     316N142_3,  AR15,   127,  1,      2,      2,2,19940513,1608,-17.5815, -26.9572, 5237,   5184.7,   0.7448,  34.7107,2,  34.7109,2,    224.9,2,    224.5,2,   108.94,2,    31.49,2,     0.00,2,     2.10,2, -999.000,9,    0.028,2,    0.005,2,   -999.0,9,   -999.0,9,  0.3142
     316N142_3,  AR15,   127,  1,      1,      1,2,19940513,1608,-17.5815, -26.9572, 5237,   5391.0,   0.6747,  34.7008,2,  34.7015,2,    224.4,2,    223.2,2,   112.27,2,    32.07,2,     0.00,2,     2.15,2, -999.000,9,    0.025,2,    0.092,2,   -999.0,9,   -999.0,9,  0.2217