BOTTLE,20020814WHPSIOKJU
EXPOCODE,SECT_ID,STNNBR,CASTNO,SAMPNO,BTLNBR,BTLNBR_FLAG_W,DATE,TIME,LATITUDE,LONGITUDE,DEPTH,CTDPRS,CTDTMP,CTDSAL,CTDSAL_FLAG_W,SALNTY,SALNTY_FLAG_W,CTDOXY,CTDOXY_FLAG_W,OXYGEN,OXYGEN_FLAG_W,SILCAT,SILCAT_FLAG_W,NITRAT,NITRAT_FLAG_W,NITRIT,NITRIT_FLAG_W,PHSPHT,PHSPHT_FLAG_W,CFC-11,CFC-11_FLAG_W,CFC-12,CFC-12_FLAG_W,CCL4,CCL4_FLAG_W,TCARBN,TCARBN_FLAG_W,ALKALI,ALKALI_FLAG_W,THETA
,,,,,,,,,,,,DBAR,ITS-90,PSS-78,,PSS-78,,UMOL/KG,,UMOL/KG,,UMOL/KG,,UMOL/KG,,UMOL/KG,,UMOL/KG,,PMOL/KG,,PMOL/KG,,PMOL/KG,,UMOL/KG,,UMOL/KG,,DEG C
     316N142_3,   A15,    39,  1,     39,     39,2,19940416,2322,  1.9993, -19.0022, 5072,      4.8,  29.1440,  34.5538,2,  34.5474,2,    218.3,2,    218.2,2,     1.23,2,     0.14,2,     0.00,2,     0.06,2,    1.555,2,    0.970,9, -999.000,9,   1897.7,2,   -999.0,9, 29.1429
     316N142_3,   A15,    39,  1,     42,     42,9,19940416,2322,  1.9993, -19.0022, 5072,     39.8,  26.8349,  36.0848,2,-999.0000,9,    234.5,2,   -999.0,9,  -999.00,9,  -999.00,9,  -999.00,9,  -999.00,9, -999.000,9, -999.000,9, -999.000,9,   -999.0,9,   -999.0,9, 26.8258
     316N142_3,   A15,    39,  1,     38,     38,2,19940416,2322,  1.9993, -19.0022, 5072,     76.0,  15.3768,  35.5670,2,  35.5725,2,     93.6,2,     96.0,2,     7.35,2,    20.34,2,     0.06,2,     1.39,2,    1.327,6,    0.734,6,    0.236,6,   2175.5,2,   2326.9,2, 15.3651
     316N142_3,   A15,    39,  1,     33,     33,2,19940416,2322,  1.9993, -19.0022, 5072,    180.9,  13.1479,  35.2965,2,  35.2972,2,    129.7,2,    127.5,2,     8.78,2,    20.12,2,     0.01,2,     1.40,2,    1.259,2,    0.672,2,    0.313,2,   2164.1,2,   2318.5,2, 13.1228
     316N142_3,   A15,    39,  1,     41,     41,2,19940416,2322,  1.9993, -19.0022, 5072,    256.4,  12.2664,  35.1870,2,  35.1878,2,     98.4,2,     97.5,2,    10.78,2,    24.97,2,     0.00,2,     1.66,2,    0.864,2,    0.479,2,    0.368,2,   2188.7,2,   2310.7,2, 12.2323
     316N142_3,   A15,    39,  1,     31,     31,2,19940416,2322,  1.9993, -19.0022, 5072,    337.2,  10.6608,  35.0071,2,  35.0073,2,     90.5,2,     88.7,2,    13.44,2,    28.90,2,     0.00,2,     1.88,2,    0.624,2,    0.344,2,    0.497,2,   2204.7,2,   2302.9,2, 10.6198
     316N142_3,   A15,    39,  1,     37,     37,2,19940416,2322,  1.9993, -19.0022, 5072,    417.4,   9.0044,  34.8301,2,  34.8414,2,    105.2,2,    107.4,2,    16.00,2,    30.05,2,     0.00,2,     1.97,2,    0.449,2,    0.268,2,    0.293,2,   2202.9,2,   2296.8,2,  8.9586
     316N142_3,   A15,    39,  1,     29,     29,2,19940416,2322,  1.9993, -19.0022, 5072,    508.0,   7.4740,  34.6907,2,  34.6914,2,    106.5,2,    108.9,2,    20.56,2,    33.26,2,     0.00,2,     2.19,2, -999.000,9,    0.017,2,    0.086,2,   2215.5,2,   -999.0,9,  7.4238
     316N142_3,   A15,    39,  1,     28,     28,2,19940416,2322,  1.9993, -19.0022, 5072,    608.8,   5.8584,  34.5369,2,  34.5388,2,    140.1,2,    144.1,2,    25.35,2,    32.99,2,     0.00,2,     2.24,2,    0.202,2,    0.110,2,    0.310,2,   2208.3,2,   2289.6,2,  5.8054
     316N142_3,   A15,    39,  1,     27,     27,2,19940416,2322,  1.9993, -19.0022, 5072,    774.7,   5.0088,  34.5331,2,  34.5354,2,    140.4,2,    140.0,2,    30.46,2,    34.64,2,     0.00,2,     2.37,2,    0.052,4,    0.048,2,    0.081,2,   2219.7,2,   2296.0,2,  4.9454
     316N142_3,   A15,    39,  1,     26,     26,2,19940416,2322,  1.9993, -19.0022, 5072,    909.5,   4.6559,  34.5815,2,  34.5828,2,    148.9,2,    150.6,2,    31.78,2,    33.46,2,     0.00,2,     2.31,2,    0.014,4,    0.052,2,    0.099,2,   2218.7,2,   2299.9,2,  4.5830
     316N142_3,   A15,    39,  1,     25,     25,2,19940416,2322,  1.9993, -19.0022, 5072,   1061.8,   4.4985,  34.7496,2,  34.7533,2,    165.7,2,    170.8,2,    28.53,2,    29.80,2,     0.00,2,     2.06,2, -999.000,9, -999.000,9, -999.000,9,   2212.1,2,   2308.7,2,  4.4132
     316N142_3,   A15,    39,  1,     24,     24,2,19940416,2322,  1.9993, -19.0022, 5072,   1238.4,   4.5210,  34.8395,2,  34.8410,2,    187.9,2,    187.0,2,    21.93,2,    24.37,2,     0.00,2,     1.67,2,    0.000,4,    0.034,2,    0.283,2,   -999.0,9,   -999.0,9,  4.4195
     316N142_3,   A15,    39,  1,     23,     23,2,19940416,2322,  1.9993, -19.0022, 5072,   1415.3,   4.4408,  34.9116,2,  34.9160,2,    207.8,2,    206.8,2,    25.38,3,    27.11,3,     0.00,3,     1.87,3, -999.000,9,    0.126,4,    0.149,4,   2189.6,2,   2312.2,2,  4.3237
     316N142_3,   A15,    39,  1,     22,     22,2,19940416,2322,  1.9993, -19.0022, 5072,   1551.6,   4.3051,  34.9582,2,  34.9600,2,    227.9,2,    225.6,2,    19.67,2,    22.04,2,     0.00,2,     1.51,2, -999.000,9,    0.042,2,    0.328,2,   -999.0,9,   -999.0,9,  4.1767
     316N142_3,   A15,    39,  1,     21,     21,2,19940416,2322,  1.9993, -19.0022, 5072,   1667.5,   4.0846,  34.9645,2,  34.9701,2,    234.7,2,    233.1,2,    19.77,2,    21.26,2,     0.00,2,     1.46,2,    0.024,4,    0.029,6,    0.267,6,   2174.6,2,   2311.3,2,  3.9479
     316N142_3,   A15,    39,  1,     20,     20,2,19940416,2322,  1.9993, -19.0022, 5072,   1768.7,   3.8728,  34.9689,2,  34.9726,2,    244.8,2,    242.6,2,    19.87,2,    20.44,2,     0.00,2,     1.40,2, -999.000,9,    0.033,2,    0.449,2,   -999.0,9,   -999.0,9,  3.7293
     316N142_3,   A15,    39,  1,     19,     19,2,19940416,2322,  1.9993, -19.0022, 5072,   1869.4,   3.7132,  34.9711,2,  34.9780,2,    250.6,3,    248.8,2,    20.07,2,    19.90,2,     0.00,2,     1.36,2, -999.000,9,    0.022,2,    0.294,2,   2168.0,2,   2314.1,2,  3.5623
     316N142_3,   A15,    39,  1,     40,     40,2,19940416,2322,  1.9993, -19.0022, 5072,   2021.6,   3.5181,  34.9612,2,  34.9648,2,    251.6,3,    248.2,2,    22.51,2,    20.13,2,     0.00,2,     1.38,2, -999.000,9,    0.017,2,    0.179,2,   -999.0,9,   -999.0,9,  3.3557
     316N142_3,   A15,    39,  1,     17,     17,2,19940416,2322,  1.9993, -19.0022, 5072,   2224.5,   3.2686,  34.9482,2,  34.9508,2,    251.8,3,    248.8,2,    26.29,2,    20.45,2,     0.00,2,     1.40,2, -999.000,9, -999.000,9, -999.000,9,   2174.3,2,   2319.0,2,  3.0907
     316N142_3,   A15,    39,  1,     16,     16,2,19940416,2322,  1.9993, -19.0022, 5072,   2427.2,   3.0083,  34.9348,2,  34.9370,2,    250.4,2,    250.2,2,    30.62,2,    20.82,2,     0.00,2,     1.43,2, -999.000,9,    0.016,2,    0.061,2,   -999.0,9,   -999.0,9,  2.8154
     316N142_3,   A15,    39,  1,     15,     15,2,19940416,2322,  1.9993, -19.0022, 5072,   2629.3,   2.8551,  34.9245,2,  34.9264,2,    247.4,2,    247.9,2,    33.95,2,    21.24,2,     0.00,2,     1.44,2, -999.000,9, -999.000,9, -999.000,9,   2184.0,2,   2327.4,2,  2.6452
     316N142_3,   A15,    39,  1,     14,     14,2,19940416,2322,  1.9993, -19.0022, 5072,   2832.6,   2.7153,  34.9161,2,  34.9183,2,    245.9,2,    246.6,2,    36.72,2,    21.47,2,     0.00,2,     1.47,2, -999.000,9, -999.000,9, -999.000,9,   -999.0,9,   -999.0,9,  2.4878
     316N142_3,   A15,    39,  1,     13,     13,2,19940416,2322,  1.9993, -19.0022, 5072,   3036.2,   2.6141,  34.9095,2,  34.9120,2,    247.0,2,    250.2,4,    38.60,2,    21.56,2,     0.00,2,     1.47,2, -999.000,9, -999.000,9, -999.000,9,   -999.0,9,   -999.0,9,  2.3681
     316N142_3,   A15,    39,  1,     12,     12,2,19940416,2322,  1.9993, -19.0022, 5072,   3239.9,   2.5307,  34.9031,2,  34.9089,4,    244.1,2,    245.2,2,    41.03,2,    21.80,2,     0.00,2,     1.49,2, -999.000,9,    0.009,2,    0.000,2,   -999.0,9,   -999.0,9,  2.2654
     316N142_3,   A15,    39,  1,     11,     11,2,19940416,2322,  1.9993, -19.0022, 5072,   3444.0,   2.4586,  34.8985,2,  34.9024,4,    246.9,2,    246.9,2,    41.68,2,    21.71,2,     0.00,2,     1.49,2, -999.000,9, -999.000,9, -999.000,9,   2192.5,2,   2336.5,2,  2.1733
     316N142_3,   A15,    39,  1,     10,     10,2,19940416,2322,  1.9993, -19.0022, 5072,   3647.5,   2.4070,  34.8937,2,  34.8997,3,    247.3,2,    247.2,2,    42.89,2,    21.76,2,     0.00,2,     1.49,2, -999.000,9, -999.000,9, -999.000,9,   -999.0,9,   -999.0,9,  2.1009
     316N142_3,   A15,    39,  1,      9,      9,2,19940416,2322,  1.9993, -19.0022, 5072,   3851.5,   2.3863,  34.8910,2,  34.8926,2,    248.1,2,    248.8,2,    42.99,2,    21.62,2,     0.00,2,     1.48,2, -999.000,9,    0.012,2,    0.012,2,   2192.8,2,   2337.7,2,  2.0581
     316N142_3,   A15,    39,  1,      8,      8,2,19940416,2322,  1.9993, -19.0022, 5072,   4056.5,   2.3563,  34.8880,2,  34.8882,2,    249.3,2,    249.9,2,    43.64,2,    21.58,2,     0.00,2,     1.48,2, -999.000,9, -999.000,9, -999.000,9,   -999.0,9,   -999.0,9,  2.0057
     316N142_3,   A15,    39,  1,      7,      7,2,19940416,2322,  1.9993, -19.0022, 5072,   4230.0,   2.3224,  34.8837,2,  34.8839,2,    249.2,2,    250.5,2,    44.62,2,    21.67,2,     0.00,2,     1.49,2, -999.000,9,    0.025,2, -999.000,9,   2193.6,2,   2337.0,2,  1.9526
     316N142_3,   A15,    39,  1,      6,      6,2,19940416,2322,  1.9993, -19.0022, 5072,   4414.4,   2.2745,  34.8763,2,  34.8768,2,    245.3,2,    246.0,2,    48.94,2,    22.41,2,     0.00,2,     1.54,2, -999.000,9, -999.000,9, -999.000,9,   -999.0,9,   -999.0,9,  1.8845
     316N142_3,   A15,    39,  1,      5,      5,2,19940416,2322,  1.9993, -19.0022, 5072,   4587.7,   2.2527,  34.8722,2,  34.8735,2,    245.4,2,    245.8,2,    50.25,2,    22.60,2,     0.00,2,     1.56,2, -999.000,9,    0.015,2,    0.077,2,   2202.8,2,   2343.9,2,  1.8426
     316N142_3,   A15,    39,  1,      4,      4,2,19940416,2322,  1.9993, -19.0022, 5072,   4794.0,   2.2319,  34.8672,2,  34.8680,2,    245.0,2,    245.3,2,    52.12,2,    22.78,2,     0.00,2,     1.57,2, -999.000,9, -999.000,9, -999.000,9,   -999.0,9,   -999.0,9,  1.7973
     316N142_3,   A15,    39,  1,      3,      3,2,19940416,2322,  1.9993, -19.0022, 5072,   4927.1,   2.2320,  34.8660,2,  34.8666,2,    245.0,2,    244.8,2,    52.88,2,    22.93,2,     0.00,2,     1.58,2, -999.000,9,    0.033,2,    0.142,2,   2206.3,2,   2344.2,2,  1.7809
     316N142_3,   A15,    39,  1,      2,      2,2,19940416,2322,  1.9993, -19.0022, 5072,   5054.8,   2.2252,  34.8641,2,  34.8635,2,    245.4,2,    244.1,2,    53.41,2,    22.97,2,     0.00,2,     1.58,2, -999.000,9, -999.000,9, -999.000,9,   -999.0,9,   -999.0,9,  1.7583
     316N142_3,   A15,    39,  1,      1,      1,2,19940416,2322,  1.9993, -19.0022, 5072,   5189.6,   2.2306,  34.8626,2,  34.8631,2,    244.4,2,    245.1,2,    53.84,2,    23.02,2,     0.00,2,     1.59,2, -999.000,9,    0.030,2,    0.062,2,   2204.2,2,   2344.7,2,  1.7464