BOTTLE,20020814WHPSIOKJU
EXPOCODE,SECT_ID,STNNBR,CASTNO,SAMPNO,BTLNBR,BTLNBR_FLAG_W,DATE,TIME,LATITUDE,LONGITUDE,DEPTH,CTDPRS,CTDTMP,CTDSAL,CTDSAL_FLAG_W,SALNTY,SALNTY_FLAG_W,CTDOXY,CTDOXY_FLAG_W,OXYGEN,OXYGEN_FLAG_W,SILCAT,SILCAT_FLAG_W,NITRAT,NITRAT_FLAG_W,NITRIT,NITRIT_FLAG_W,PHSPHT,PHSPHT_FLAG_W,CFC-11,CFC-11_FLAG_W,CFC-12,CFC-12_FLAG_W,CCL4,CCL4_FLAG_W,TCARBN,TCARBN_FLAG_W,ALKALI,ALKALI_FLAG_W,THETA
,,,,,,,,,,,,DBAR,ITS-90,PSS-78,,PSS-78,,UMOL/KG,,UMOL/KG,,UMOL/KG,,UMOL/KG,,UMOL/KG,,UMOL/KG,,PMOL/KG,,PMOL/KG,,PMOL/KG,,UMOL/KG,,UMOL/KG,,DEG C
     316N142_3,   A15,    40,  1,     39,     39,2,19940417,0530,  1.5002, -19.0002, 4613,      8.7,  29.2190,  34.6647,2,  34.6602,2,    210.7,2,   -999.0,9,     1.65,2,     0.09,2,     0.01,2,     0.07,2, -999.000,9, -999.000,9, -999.000,9,   -999.0,9,   -999.0,9, 29.2169
     316N142_3,   A15,    40,  1,     42,     42,2,19940417,0530,  1.5002, -19.0002, 4613,     49.6,  25.3416,  36.0445,2,  36.0214,2,    210.0,2,    203.2,2,     2.18,2,     0.08,2,     0.01,2,     0.14,2, -999.000,9, -999.000,9, -999.000,9,   -999.0,9,   -999.0,9, 25.3307
     316N142_3,   A15,    40,  1,     38,     38,2,19940417,0530,  1.5002, -19.0002, 4613,     75.3,  16.5068,  35.6744,2,  35.6901,2,     93.5,2,     93.0,2,     6.05,2,    18.01,2,     0.16,2,     1.27,2, -999.000,9, -999.000,9, -999.000,9,   -999.0,9,   -999.0,9, 16.4946
     316N142_3,   A15,    40,  1,     33,     33,2,19940417,0530,  1.5002, -19.0002, 4613,    156.3,  13.5651,  35.3466,2,  35.3476,2,    103.6,2,    104.2,2,     9.36,2,    21.98,2,     0.01,2,     1.51,2, -999.000,9, -999.000,9, -999.000,9,   -999.0,9,   -999.0,9, 13.5429
     316N142_3,   A15,    40,  1,     41,     41,2,19940417,0530,  1.5002, -19.0002, 4613,    246.5,  12.0505,  35.1623,2,  35.1687,2,    103.5,2,    105.3,2,    11.00,2,    24.40,2,     0.01,2,     1.64,2, -999.000,9, -999.000,9, -999.000,9,   -999.0,9,   -999.0,9, 12.0181
     316N142_3,   A15,    40,  1,     31,     31,2,19940417,0530,  1.5002, -19.0002, 4613,    347.5,  10.3729,  34.9767,2,  34.9742,2,     89.1,2,     89.0,2,    14.53,2,    29.54,2,     0.01,2,     1.92,2, -999.000,9, -999.000,9, -999.000,9,   -999.0,9,   -999.0,9, 10.3313
     316N142_3,   A15,    40,  1,     37,     37,2,19940417,0530,  1.5002, -19.0002, 4613,    407.7,   9.3101,  34.8496,2,  34.8473,2,    102.3,2,    101.9,2,    16.39,2,    30.49,2,     0.01,2,     2.00,2, -999.000,9, -999.000,9, -999.000,9,   -999.0,9,   -999.0,9,  9.2644
     316N142_3,   A15,    40,  1,     29,     29,9,19940417,0530,  1.5002, -19.0002, 4613,    508.6,   6.8213,  34.6029,2,-999.0000,9,    128.6,2,   -999.0,9,  -999.00,9,  -999.00,9,  -999.00,9,  -999.00,9, -999.000,9, -999.000,9, -999.000,9,   -999.0,9,   -999.0,9,  6.7736
     316N142_3,   A15,    40,  1,     28,     28,2,19940417,0530,  1.5002, -19.0002, 4613,    608.3,   5.7182,  34.5241,2,  34.5244,2,    132.9,2,    140.5,2,    26.89,2,    33.78,2,     0.00,2,     2.30,2, -999.000,9, -999.000,9, -999.000,9,   -999.0,9,   -999.0,9,  5.6659
     316N142_3,   A15,    40,  1,     27,     27,2,19940417,0530,  1.5002, -19.0002, 4613,    760.2,   4.9523,  34.5076,2,  34.5068,2,    142.5,2,    147.3,2,    31.29,2,    34.37,2,     0.00,2,     2.36,2, -999.000,9, -999.000,9, -999.000,9,   -999.0,9,   -999.0,9,  4.8906
     316N142_3,   A15,    40,  1,     26,     26,2,19940417,0530,  1.5002, -19.0002, 4613,    860.0,   4.8104,  34.5431,2,  34.5421,2,    145.3,2,    148.4,2,    32.03,2,    34.00,2,     0.00,2,     2.34,2, -999.000,9, -999.000,9, -999.000,9,   -999.0,9,   -999.0,9,  4.7408
     316N142_3,   A15,    40,  1,     25,     25,2,19940417,0530,  1.5002, -19.0002, 4613,    981.4,   4.5622,  34.6752,2,  34.6763,2,    156.5,2,    157.4,2,    31.33,2,    31.95,2,     0.00,2,     2.23,2, -999.000,9, -999.000,9, -999.000,9,   -999.0,9,   -999.0,9,  4.4836
     316N142_3,   A15,    40,  1,     24,     24,2,19940417,0530,  1.5002, -19.0002, 4613,   1163.3,   4.5107,  34.7962,2,  34.7980,2,    178.4,2,    178.2,2,    27.32,2,    28.54,2,     0.00,2,     1.96,2, -999.000,9, -999.000,9, -999.000,9,   -999.0,9,   -999.0,9,  4.4162
     316N142_3,   A15,    40,  1,     23,     23,2,19940417,0530,  1.5002, -19.0002, 4613,   1314.6,   4.5092,  34.8719,2,  34.8737,2,    196.1,2,    194.9,2,    24.09,2,    26.00,2,     0.00,2,     1.80,2, -999.000,9, -999.000,9, -999.000,9,   -999.0,9,   -999.0,9,  4.4008
     316N142_3,   A15,    40,  1,     22,     22,2,19940417,0530,  1.5002, -19.0002, 4613,   1440.5,   4.3696,  34.9306,2,  34.9321,2,    217.0,2,    215.1,2,    21.30,2,    23.45,2,     0.00,2,     1.63,2, -999.000,9, -999.000,9, -999.000,9,   -999.0,9,   -999.0,9,  4.2508
     316N142_3,   A15,    40,  1,     21,     21,2,19940417,0530,  1.5002, -19.0002, 4613,   1565.0,   4.2377,  34.9644,2,  34.9665,2,    233.0,2,    229.9,2,    19.18,2,    21.49,2,     0.00,2,     1.49,2, -999.000,9, -999.000,9, -999.000,9,   -999.0,9,   -999.0,9,  4.1088
     316N142_3,   A15,    40,  1,     20,     20,2,19940417,0530,  1.5002, -19.0002, 4613,   1718.8,   4.0203,  34.9707,2,  34.9723,2,    240.2,2,    238.4,2,    19.04,2,    20.68,2,     0.00,2,     1.43,2, -999.000,9, -999.000,9, -999.000,9,   -999.0,9,   -999.0,9,  3.8796
     316N142_3,   A15,    40,  1,     19,     19,2,19940417,0530,  1.5002, -19.0002, 4613,   1819.5,   3.8322,  34.9711,2,  34.9734,2,    245.3,2,    244.3,2,    19.46,2,    20.17,2,     0.00,2,     1.40,2, -999.000,9, -999.000,9, -999.000,9,   -999.0,9,   -999.0,9,  3.6845
     316N142_3,   A15,    40,  1,     40,     40,2,19940417,0530,  1.5002, -19.0002, 4613,   1919.8,   3.6325,  34.9694,2,  34.9721,2,    252.7,2,    250.5,2,    20.10,2,    19.67,2,     0.00,2,     1.37,2, -999.000,9, -999.000,9, -999.000,9,   -999.0,9,   -999.0,9,  3.4781
     316N142_3,   A15,    40,  1,     17,     17,2,19940417,0530,  1.5002, -19.0002, 4613,   2121.0,   3.4107,  34.9561,2,  34.9583,2,    249.7,2,    248.6,2,    23.49,2,    20.04,2,     0.00,2,     1.40,2, -999.000,9, -999.000,9, -999.000,9,   -999.0,9,   -999.0,9,  3.2405
     316N142_3,   A15,    40,  1,     16,     16,2,19940417,0530,  1.5002, -19.0002, 4613,   2321.1,   3.0997,  34.9401,2,  34.9412,2,    248.8,2,    247.2,2,    28.74,2,    20.63,2,     0.00,2,     1.44,2, -999.000,9, -999.000,9, -999.000,9,   -999.0,9,   -999.0,9,  2.9154
     316N142_3,   A15,    40,  1,     15,     15,2,19940417,0530,  1.5002, -19.0002, 4613,   2524.3,   2.9026,  34.9293,2,  34.9301,2,    247.4,2,    247.4,2,    32.13,2,    20.85,2,     0.00,2,     1.46,2, -999.000,9, -999.000,9, -999.000,9,   -999.0,9,   -999.0,9,  2.7021
     316N142_3,   A15,    40,  1,     14,     14,2,19940417,0530,  1.5002, -19.0002, 4613,   2728.8,   2.8165,  34.9239,2,  34.9238,2,    247.4,2,    247.4,2,    33.85,2,    20.99,2,     0.00,2,     1.47,2, -999.000,9, -999.000,9, -999.000,9,   -999.0,9,   -999.0,9,  2.5975
     316N142_3,   A15,    40,  1,     13,     13,2,19940417,0530,  1.5002, -19.0002, 4613,   2933.7,   2.6747,  34.9142,2,  34.9148,2,    247.6,2,    251.9,4,    36.79,2,    21.22,2,     0.00,2,     1.48,2, -999.000,9, -999.000,9, -999.000,9,   -999.0,9,   -999.0,9,  2.4379
     316N142_3,   A15,    40,  1,     12,     12,2,19940417,0530,  1.5002, -19.0002, 4613,   3138.1,   2.5664,  34.9071,2,  34.9069,2,    246.9,2,    247.2,2,    39.06,2,    21.40,2,     0.00,2,     1.49,2, -999.000,9, -999.000,9, -999.000,9,   -999.0,9,   -999.0,9,  2.3110
     316N142_3,   A15,    40,  1,     11,     11,2,19940417,0530,  1.5002, -19.0002, 4613,   3342.7,   2.4733,  34.9008,2,  34.9008,2,    246.1,2,    247.3,2,    41.22,2,    21.58,2,     0.00,2,     1.50,2, -999.000,9, -999.000,9, -999.000,9,   -999.0,9,   -999.0,9,  2.1985
     316N142_3,   A15,    40,  1,     10,     10,2,19940417,0530,  1.5002, -19.0002, 4613,   3444.7,   2.4325,  34.8977,2,  34.8977,2,    247.7,2,    248.2,2,    41.29,2,    21.49,2,     0.00,2,     1.50,2, -999.000,9, -999.000,9, -999.000,9,   -999.0,9,   -999.0,9,  2.1478
     316N142_3,   A15,    40,  1,      9,      9,2,19940417,0530,  1.5002, -19.0002, 4613,   3596.7,   2.4109,  34.8955,2,  34.8960,2,    248.0,2,    249.0,2,    42.25,2,    21.53,2,     0.00,2,     1.50,2, -999.000,9, -999.000,9, -999.000,9,   -999.0,9,   -999.0,9,  2.1103
     316N142_3,   A15,    40,  1,      8,      8,2,19940417,0530,  1.5002, -19.0002, 4613,   3750.6,   2.3817,  34.8923,2,  34.8928,2,    248.9,2,    249.0,2,    43.09,2,    21.53,2,     0.00,2,     1.50,2, -999.000,9, -999.000,9, -999.000,9,   -999.0,9,   -999.0,9,  2.0649
     316N142_3,   A15,    40,  1,      7,      7,2,19940417,0530,  1.5002, -19.0002, 4613,   3904.1,   2.3706,  34.8918,2,  34.8921,2,    249.9,2,    251.5,2,    42.72,2,    21.35,2,     0.00,2,     1.50,2, -999.000,9, -999.000,9, -999.000,9,   -999.0,9,   -999.0,9,  2.0369
     316N142_3,   A15,    40,  1,      6,      6,2,19940417,0530,  1.5002, -19.0002, 4613,   4058.3,   2.3646,  34.8896,2,  34.8901,2,    251.8,2,    251.8,2,    42.80,2,    21.30,2,     0.00,2,     1.49,2, -999.000,9, -999.000,9, -999.000,9,   -999.0,9,   -999.0,9,  2.0136
     316N142_3,   A15,    40,  1,      5,      5,2,19940417,0530,  1.5002, -19.0002, 4613,   4211.3,   2.3423,  34.8862,2,  34.8852,2,    249.9,2,    249.8,2,    44.84,2,    21.67,2,     0.00,2,     1.51,2, -999.000,9, -999.000,9, -999.000,9,   -999.0,9,   -999.0,9,  1.9741
     316N142_3,   A15,    40,  1,      4,      4,2,19940417,0530,  1.5002, -19.0002, 4613,   4364.8,   2.3255,  34.8824,2,  34.8809,2,    247.0,2,    247.0,2,    47.31,2,    22.12,2,     0.00,2,     1.54,2, -999.000,9, -999.000,9, -999.000,9,   -999.0,9,   -999.0,9,  1.9398
     316N142_3,   A15,    40,  1,      3,      3,2,19940417,0530,  1.5002, -19.0002, 4613,   4517.5,   2.2734,  34.8765,2,  34.8740,2,    248.1,2,    247.5,2,    48.68,2,    22.26,2,     0.00,2,     1.55,2, -999.000,9, -999.000,9, -999.000,9,   -999.0,9,   -999.0,9,  1.8711
     316N142_3,   A15,    40,  1,      2,      2,2,19940417,0530,  1.5002, -19.0002, 4613,   4630.0,   2.2693,  34.8741,2,  34.8737,2,    248.0,2,    247.4,2,    49.30,2,    22.35,2,     0.00,2,     1.54,2, -999.000,9, -999.000,9, -999.000,9,   -999.0,9,   -999.0,9,  1.8536
     316N142_3,   A15,    40,  1,      1,      1,2,19940417,0530,  1.5002, -19.0002, 4613,   4724.9,   2.2181,  34.8680,2,  34.8674,2,    245.6,2,    246.1,2,    51.76,2,    22.71,2,     0.00,2,     1.57,2, -999.000,9, -999.000,9, -999.000,9,   -999.0,9,   -999.0,9,  1.7925