BOTTLE,20020814WHPSIOKJU
EXPOCODE,SECT_ID,STNNBR,CASTNO,SAMPNO,BTLNBR,BTLNBR_FLAG_W,DATE,TIME,LATITUDE,LONGITUDE,DEPTH,CTDPRS,CTDTMP,CTDSAL,CTDSAL_FLAG_W,SALNTY,SALNTY_FLAG_W,CTDOXY,CTDOXY_FLAG_W,OXYGEN,OXYGEN_FLAG_W,SILCAT,SILCAT_FLAG_W,NITRAT,NITRAT_FLAG_W,NITRIT,NITRIT_FLAG_W,PHSPHT,PHSPHT_FLAG_W,CFC-11,CFC-11_FLAG_W,CFC-12,CFC-12_FLAG_W,CCL4,CCL4_FLAG_W,TCARBN,TCARBN_FLAG_W,ALKALI,ALKALI_FLAG_W,THETA
,,,,,,,,,,,,DBAR,ITS-90,PSS-78,,PSS-78,,UMOL/KG,,UMOL/KG,,UMOL/KG,,UMOL/KG,,UMOL/KG,,UMOL/KG,,PMOL/KG,,PMOL/KG,,PMOL/KG,,UMOL/KG,,UMOL/KG,,DEG C
     316N142_3,   A15,    93,  1,     39,     39,2,19940501,1852,-24.2003, -19.0003, 4383,      5.9,  25.2594,  36.8769,2,  36.8777,2,    199.7,4,    207.9,2,     1.79,2,     0.02,2,     0.00,2,     0.14,2, -999.000,9, -999.000,9, -999.000,9,   -999.0,9,   -999.0,9, 25.2581
     316N142_3,   A15,    93,  1,     35,     35,2,19940501,1852,-24.2003, -19.0003, 4383,     74.7,  21.9520,  36.3414,2,  36.3376,2,    231.3,4,    236.1,2,     1.64,2,     0.02,2,     0.00,2,     0.12,2, -999.000,9, -999.000,9, -999.000,9,   -999.0,9,   -999.0,9, 21.9372
     316N142_3,   A15,    93,  1,     38,     38,2,19940501,1852,-24.2003, -19.0003, 4383,    135.0,  18.5614,  35.9644,2,  35.9661,2,    218.9,2,    218.2,2,     1.76,2,     0.01,2,     0.11,2,     0.22,2, -999.000,9, -999.000,9, -999.000,9,   -999.0,9,   -999.0,9, 18.5376
     316N142_3,   A15,    93,  1,     33,     33,2,19940501,1852,-24.2003, -19.0003, 4383,    205.2,  16.3248,  35.6193,2,  35.6155,2,    209.2,2,    210.2,2,     2.44,2,     3.03,2,     0.00,2,     0.42,2, -999.000,9, -999.000,9, -999.000,9,   -999.0,9,   -999.0,9, 16.2917
     316N142_3,   A15,    93,  1,     41,     41,2,19940501,1852,-24.2003, -19.0003, 4383,    286.1,  13.7659,  35.2479,2,  35.2475,2,    206.4,2,    204.4,2,     3.96,2,     8.41,2,     0.00,2,     0.72,2, -999.000,9, -999.000,9, -999.000,9,   -999.0,9,   -999.0,9, 13.7248
     316N142_3,   A15,    93,  1,     31,     31,2,19940501,1852,-24.2003, -19.0003, 4383,    366.2,  12.0912,  35.0463,2,  35.0426,2,    200.4,2,    200.1,2,     5.62,2,    12.76,2,     0.00,2,     0.98,2, -999.000,9, -999.000,9, -999.000,9,   -999.0,9,   -999.0,9, 12.0428
     316N142_3,   A15,    93,  1,     37,     37,2,19940501,1852,-24.2003, -19.0003, 4383,    446.1,  10.4263,  34.8527,2,  34.8550,2,    195.5,2,    195.5,2,     7.99,2,    17.08,2,     0.00,2,     1.24,2, -999.000,9, -999.000,9, -999.000,9,   -999.0,9,   -999.0,9, 10.3726
     316N142_3,   A15,    93,  1,     29,     29,2,19940501,1852,-24.2003, -19.0003, 4383,    517.3,   8.9584,  34.6979,2,  34.6961,2,    192.0,2,    188.6,2,    11.34,2,    21.39,2,     0.00,2,     1.50,2, -999.000,9, -999.000,9, -999.000,9,   -999.0,9,   -999.0,9,  8.9015
     316N142_3,   A15,    93,  1,     28,     28,2,19940501,1852,-24.2003, -19.0003, 4383,    587.1,   7.3196,  34.5424,2,  34.5439,2,    189.4,2,    189.0,2,    15.68,2,    25.32,2,     0.00,2,     1.76,2, -999.000,9, -999.000,9, -999.000,9,   -999.0,9,   -999.0,9,  7.2621
     316N142_3,   A15,    93,  1,     27,     27,2,19940501,1852,-24.2003, -19.0003, 4383,    698.3,   5.5454,  34.4048,2,  34.4047,2,    196.6,2,    197.2,2,    22.42,2,    28.94,2,     0.00,2,     1.99,2, -999.000,9, -999.000,9, -999.000,9,   -999.0,9,   -999.0,9,  5.4860
     316N142_3,   A15,    93,  1,     26,     26,2,19940501,1852,-24.2003, -19.0003, 4383,    809.7,   4.3767,  34.3594,2,  34.3583,2,    200.1,2,    201.5,2,    30.45,2,    30.90,2,     0.00,2,     2.14,2, -999.000,9, -999.000,9, -999.000,9,   -999.0,9,   -999.0,9,  4.3144
     316N142_3,   A15,    93,  1,     25,     25,2,19940501,1852,-24.2003, -19.0003, 4383,    909.0,   3.8076,  34.3980,2,  34.3967,2,    192.3,2,    192.0,2,    38.93,2,    32.32,2,     0.00,2,     2.22,2, -999.000,9, -999.000,9, -999.000,9,   -999.0,9,   -999.0,9,  3.7409
     316N142_3,   A15,    93,  1,     24,     24,2,19940501,1852,-24.2003, -19.0003, 4383,   1010.6,   3.4948,  34.4533,2,  34.4500,2,    187.2,2,    188.4,2,    44.61,2,    32.51,2,     0.00,2,     2.26,2, -999.000,9, -999.000,9, -999.000,9,   -999.0,9,   -999.0,9,  3.4223
     316N142_3,   A15,    93,  1,     23,     23,2,19940501,1852,-24.2003, -19.0003, 4383,   1111.6,   3.3613,  34.5314,2,  34.5301,2,    185.6,2,    185.7,2,    47.32,2,    31.92,2,     0.00,2,     2.21,2, -999.000,9, -999.000,9, -999.000,9,   -999.0,9,   -999.0,9,  3.2817
     316N142_3,   A15,    93,  1,     22,     22,2,19940501,1852,-24.2003, -19.0003, 4383,   1262.6,   3.2573,  34.6389,2,  34.6353,2,    191.5,2,    190.7,2,    47.45,2,    30.19,2,     0.00,2,     2.09,2, -999.000,9, -999.000,9, -999.000,9,   -999.0,9,   -999.0,9,  3.1662
     316N142_3,   A15,    93,  1,     21,     21,2,19940501,1852,-24.2003, -19.0003, 4383,   1464.1,   3.1256,  34.7401,2,  34.7383,2,    203.9,2,    204.0,2,    45.59,2,    27.66,2,     0.00,2,     1.92,2, -999.000,9, -999.000,9, -999.000,9,   -999.0,9,   -999.0,9,  3.0190
     316N142_3,   A15,    93,  1,     20,     20,2,19940501,1852,-24.2003, -19.0003, 4383,   1667.6,   3.0891,  34.8196,2,  34.8189,2,    218.6,2,    219.9,2,    40.18,2,    24.95,2,     0.00,2,     1.72,2, -999.000,9, -999.000,9, -999.000,9,   -999.0,9,   -999.0,9,  2.9652
     316N142_3,   A15,    93,  1,     40,     40,2,19940501,1852,-24.2003, -19.0003, 4383,   1869.4,   3.0745,  34.8756,2,  34.8747,2,    235.3,2,    234.3,2,    34.63,2,    22.70,2,     0.00,2,     1.56,2, -999.000,9, -999.000,9, -999.000,9,   -999.0,9,   -999.0,9,  2.9329
     316N142_3,   A15,    93,  1,     19,     19,2,19940501,1852,-24.2003, -19.0003, 4383,   1869.9,   3.0743,  34.8752,2,  34.8739,2,    235.3,2,    234.1,2,    34.77,2,    22.79,2,     0.00,2,     1.56,2, -999.000,9, -999.000,9, -999.000,9,   -999.0,9,   -999.0,9,  2.9326
     316N142_3,   A15,    93,  1,     17,     17,2,19940501,1852,-24.2003, -19.0003, 4383,   2021.6,   3.0755,  34.9030,2,  34.9029,2,    244.2,2,    242.2,2,    31.07,2,    21.45,2,     0.00,2,     1.47,2, -999.000,9, -999.000,9, -999.000,9,   -999.0,9,   -999.0,9,  2.9199
     316N142_3,   A15,    93,  1,     16,     16,2,19940501,1852,-24.2003, -19.0003, 4383,   2183.8,   3.0616,  34.9145,2,  34.9145,2,    247.7,2,    245.8,2,    30.07,2,    20.96,2,     0.00,2,     1.44,2, -999.000,9, -999.000,9, -999.000,9,   -999.0,9,   -999.0,9,  2.8911
     316N142_3,   A15,    93,  1,     15,     15,2,19940501,1852,-24.2003, -19.0003, 4383,   2326.7,   2.9801,  34.9258,2,  34.9247,2,    250.6,2,    250.0,2,    29.64,2,    20.47,2,     0.00,2,     1.38,2, -999.000,9, -999.000,9, -999.000,9,   -999.0,9,   -999.0,9,  2.7974
     316N142_3,   A15,    93,  1,     14,     14,2,19940501,1852,-24.2003, -19.0003, 4383,   2478.1,   2.9249,  34.9267,2,  34.9263,2,    251.4,2,    251.4,2,    30.20,2,    20.38,2,     0.00,2,     1.39,2, -999.000,9, -999.000,9, -999.000,9,   -999.0,9,   -999.0,9,  2.7285
     316N142_3,   A15,    93,  1,     13,     13,2,19940501,1852,-24.2003, -19.0003, 4383,   2632.0,   2.8573,  34.9242,2,  34.9243,2,    252.5,2,    251.5,2,    31.46,2,    20.43,2,     0.00,2,     1.40,2, -999.000,9, -999.000,9, -999.000,9,   -999.0,9,   -999.0,9,  2.6471
     316N142_3,   A15,    93,  1,     12,     12,2,19940501,1852,-24.2003, -19.0003, 4383,   2783.7,   2.7662,  34.9189,2,  34.9186,2,    251.8,2,    251.8,2,    33.30,2,    20.57,2,     0.00,2,     1.43,2, -999.000,9, -999.000,9, -999.000,9,   -999.0,9,   -999.0,9,  2.5427
     316N142_3,   A15,    93,  1,     11,     11,2,19940501,1852,-24.2003, -19.0003, 4383,   2936.0,   2.7082,  34.9145,2,  34.9139,2,    250.5,2,    251.4,2,    34.86,2,    20.67,2,     0.00,2,     1.42,2, -999.000,9, -999.000,9, -999.000,9,   -999.0,9,   -999.0,9,  2.4704
     316N142_3,   A15,    93,  1,     10,     10,2,19940501,1852,-24.2003, -19.0003, 4383,   3088.6,   2.6189,  34.9085,2,  34.9082,2,    250.8,2,    251.7,2,    36.99,2,    20.90,2,     0.00,2,     1.44,2, -999.000,9, -999.000,9, -999.000,9,   -999.0,9,   -999.0,9,  2.3674
     316N142_3,   A15,    93,  1,      9,      9,2,19940501,1852,-24.2003, -19.0003, 4383,   3242.8,   2.5010,  34.8974,2,  34.8972,2,    250.5,2,    250.7,2,    40.84,2,    21.40,2,     0.00,2,     1.48,2, -999.000,9, -999.000,9, -999.000,9,   -999.0,9,   -999.0,9,  2.2361
     316N142_3,   A15,    93,  1,      8,      8,2,19940501,1852,-24.2003, -19.0003, 4383,   3396.1,   2.3803,  34.8842,2,  34.8844,2,    247.8,2,    249.7,2,    45.70,2,    21.99,2,     0.00,2,     1.52,2, -999.000,9, -999.000,9, -999.000,9,   -999.0,9,   -999.0,9,  2.1021
     316N142_3,   A15,    93,  1,      7,      7,2,19940501,1852,-24.2003, -19.0003, 4383,   3549.5,   2.1543,  34.8617,2,  34.8606,2,    244.5,2,    245.6,2,    55.05,2,    23.16,2,     0.00,2,     1.61,2, -999.000,9, -999.000,9, -999.000,9,   -999.0,9,   -999.0,9,  1.8655
     316N142_3,   A15,    93,  1,      6,      6,2,19940501,1852,-24.2003, -19.0003, 4383,   3700.8,   1.9524,  34.8401,2,  34.8394,2,    242.4,2,    242.2,2,    62.86,2,    24.21,2,     0.00,2,     1.68,2, -999.000,9, -999.000,9, -999.000,9,   -999.0,9,   -999.0,9,  1.6527
     316N142_3,   A15,    93,  1,      5,      5,2,19940501,1852,-24.2003, -19.0003, 4383,   3854.5,   1.8329,  34.8273,2,  34.8280,2,    240.8,2,    244.5,4,    66.79,2,    24.66,2,     0.00,2,     1.72,2, -999.000,9, -999.000,9, -999.000,9,   -999.0,9,   -999.0,9,  1.5197
     316N142_3,   A15,    93,  1,      4,      4,2,19940501,1852,-24.2003, -19.0003, 4383,   4008.3,   1.6631,  34.8094,2,  34.8089,2,    237.9,2,    238.5,2,    73.23,2,    25.57,2,     0.00,2,     1.77,2, -999.000,9, -999.000,9, -999.000,9,   -999.0,9,   -999.0,9,  1.3379
     316N142_3,   A15,    93,  1,      3,      3,2,19940501,1852,-24.2003, -19.0003, 4383,   4160.8,   1.5497,  34.7973,2,  34.7966,2,    237.1,2,    235.0,4,    77.49,2,    26.17,2,     0.00,2,     1.82,2, -999.000,9, -999.000,9, -999.000,9,   -999.0,9,   -999.0,9,  1.2110
     316N142_3,   A15,    93,  1,      2,      2,2,19940501,1852,-24.2003, -19.0003, 4383,   4315.5,   1.4777,  34.7886,2,  34.7889,2,    236.2,2,    235.7,2,    80.15,2,    26.49,2,     0.00,2,     1.84,2, -999.000,9, -999.000,9, -999.000,9,   -999.0,9,   -999.0,9,  1.1238
     316N142_3,   A15,    93,  1,      1,      1,2,19940501,1852,-24.2003, -19.0003, 4383,   4463.3,   1.4489,  34.7849,2,  34.7840,2,    235.6,2,    234.2,2,    81.49,2,    26.76,2,     0.00,2,     1.85,2, -999.000,9, -999.000,9, -999.000,9,   -999.0,9,   -999.0,9,  1.0791