BOTTLE,20020814WHPSIOKJU
EXPOCODE,SECT_ID,STNNBR,CASTNO,SAMPNO,BTLNBR,BTLNBR_FLAG_W,DATE,TIME,LATITUDE,LONGITUDE,DEPTH,CTDPRS,CTDTMP,CTDSAL,CTDSAL_FLAG_W,SALNTY,SALNTY_FLAG_W,CTDOXY,CTDOXY_FLAG_W,OXYGEN,OXYGEN_FLAG_W,SILCAT,SILCAT_FLAG_W,NITRAT,NITRAT_FLAG_W,NITRIT,NITRIT_FLAG_W,PHSPHT,PHSPHT_FLAG_W,CFC-11,CFC-11_FLAG_W,CFC-12,CFC-12_FLAG_W,CCL4,CCL4_FLAG_W,TCARBN,TCARBN_FLAG_W,ALKALI,ALKALI_FLAG_W,THETA
,,,,,,,,,,,,DBAR,ITS-90,PSS-78,,PSS-78,,UMOL/KG,,UMOL/KG,,UMOL/KG,,UMOL/KG,,UMOL/KG,,UMOL/KG,,PMOL/KG,,PMOL/KG,,PMOL/KG,,UMOL/KG,,UMOL/KG,,DEG C
     316N142_3,   A15,   101,  1,     39,     39,2,19940503,2239,-28.1712, -18.9985, 4375,      6.3,  22.8374,  36.2387,2,  36.2365,2,    199.9,4,    216.7,2,     2.55,2,     0.08,2,     0.01,2,     0.09,2, -999.000,9, -999.000,9, -999.000,9,   -999.0,9,   -999.0,9, 22.8362
     316N142_3,   A15,   101,  1,     35,     35,2,19940503,2239,-28.1712, -18.9985, 4375,     70.0,  22.8460,  36.2381,2,  36.2361,2,    212.8,4,    217.6,2,     2.53,2,     0.08,2,     0.01,2,     0.09,2, -999.000,9, -999.000,9, -999.000,9,   -999.0,9,   -999.0,9, 22.8317
     316N142_3,   A15,   101,  1,     38,     38,2,19940503,2239,-28.1712, -18.9985, 4375,    104.9,  18.5163,  35.7948,2,  35.7917,2,    232.9,2,    235.7,2,     2.66,2,     0.08,2,     0.01,2,     0.16,2, -999.000,9, -999.000,9, -999.000,9,   -999.0,9,   -999.0,9, 18.4979
     316N142_3,   A15,   101,  1,     33,     33,2,19940503,2239,-28.1712, -18.9985, 4375,    150.1,  16.1677,  35.5319,2,  35.5328,2,    223.5,2,    218.5,2,     3.24,2,     1.75,2,     0.07,2,     0.35,2, -999.000,9, -999.000,9, -999.000,9,   -999.0,9,   -999.0,9, 16.1437
     316N142_3,   A15,   101,  1,     41,     41,2,19940503,2239,-28.1712, -18.9985, 4375,    195.5,  14.7068,  35.3398,2,  35.3379,2,    215.7,2,    213.7,2,     4.11,2,     5.64,2,     0.01,2,     0.53,2, -999.000,9, -999.000,9, -999.000,9,   -999.0,9,   -999.0,9, 14.6775
     316N142_3,   A15,   101,  1,     31,     31,2,19940503,2239,-28.1712, -18.9985, 4375,    265.5,  13.2782,  35.1680,2,  35.1646,2,    212.0,2,    210.9,2,     4.98,2,     8.83,2,     0.01,2,     0.70,2, -999.000,9, -999.000,9, -999.000,9,   -999.0,9,   -999.0,9, 13.2410
     316N142_3,   A15,   101,  1,     37,     37,2,19940503,2239,-28.1712, -18.9985, 4375,    346.8,  11.7420,  34.9939,2,  34.9912,2,    207.0,2,    204.6,2,     6.74,2,    13.25,2,     0.01,2,     0.96,2, -999.000,9, -999.000,9, -999.000,9,   -999.0,9,   -999.0,9, 11.6971
     316N142_3,   A15,   101,  1,     29,     29,2,19940503,2239,-28.1712, -18.9985, 4375,    426.4,  10.0977,  34.8123,2,  34.8040,2,    201.8,2,    201.7,2,     9.39,2,    17.59,2,     0.01,2,     1.23,2, -999.000,9, -999.000,9, -999.000,9,   -999.0,9,   -999.0,9, 10.0474
     316N142_3,   A15,   101,  1,     28,     28,2,19940503,2239,-28.1712, -18.9985, 4375,    497.0,   8.8982,  34.6800,2,  34.6745,2,    197.0,2,    198.6,2,    11.89,2,    20.74,2,     0.01,2,     1.44,2, -999.000,9, -999.000,9, -999.000,9,   -999.0,9,   -999.0,9,  8.8439
     316N142_3,   A15,   101,  1,     27,     27,2,19940503,2239,-28.1712, -18.9985, 4375,    587.0,   7.1082,  34.5012,2,  34.4992,2,    206.8,2,    207.1,2,    15.72,2,    24.54,2,     0.00,2,     1.68,2, -999.000,9, -999.000,9, -999.000,9,   -999.0,9,   -999.0,9,  7.0517
     316N142_3,   A15,   101,  1,     26,     26,2,19940503,2239,-28.1712, -18.9985, 4375,    676.9,   5.7072,  34.3867,2,  34.3851,2,    211.4,2,    213.6,2,    20.58,2,    27.34,2,     0.00,2,     1.86,2, -999.000,9, -999.000,9, -999.000,9,   -999.0,9,   -999.0,9,  5.6489
     316N142_3,   A15,   101,  1,     25,     25,2,19940503,2239,-28.1712, -18.9985, 4375,    765.8,   4.9307,  34.3423,2,  34.3406,2,    212.6,2,    216.0,2,    24.69,2,    28.82,2,     0.00,2,     1.96,2, -999.000,9, -999.000,9, -999.000,9,   -999.0,9,   -999.0,9,  4.8688
     316N142_3,   A15,   101,  1,     24,     24,2,19940503,2239,-28.1712, -18.9985, 4375,    816.4,   4.3312,  34.3364,2,  34.3338,2,    211.6,2,    211.0,2,    30.28,2,    30.11,2,     0.00,2,     2.05,2, -999.000,9, -999.000,9, -999.000,9,   -999.0,9,   -999.0,9,  4.2687
     316N142_3,   A15,   101,  1,     23,     23,2,19940503,2239,-28.1712, -18.9985, 4375,    907.2,   3.9084,  34.3488,2,  34.3475,2,    206.1,2,    206.3,2,    35.72,2,    31.03,2,     0.00,2,     2.12,2, -999.000,9, -999.000,9, -999.000,9,   -999.0,9,   -999.0,9,  3.8413
     316N142_3,   A15,   101,  1,     22,     22,2,19940503,2239,-28.1712, -18.9985, 4375,   1059.0,   3.3585,  34.4274,2,  34.4255,2,    192.4,2,    191.9,2,    46.96,2,    32.28,2,     0.00,2,     2.21,2, -999.000,9, -999.000,9, -999.000,9,   -999.0,9,   -999.0,9,  3.2833
     316N142_3,   A15,   101,  1,     21,     21,2,19940503,2239,-28.1712, -18.9985, 4375,   1210.9,   3.0990,  34.5233,2,  34.5210,2,    187.4,2,    186.0,2,    53.15,2,    31.96,2,     0.00,2,     2.19,2, -999.000,9, -999.000,9, -999.000,9,   -999.0,9,   -999.0,9,  3.0138
     316N142_3,   A15,   101,  1,     20,     20,2,19940503,2239,-28.1712, -18.9985, 4375,   1363.5,   2.9639,  34.6158,2,  34.6135,2,    189.1,2,    190.1,2,    54.55,2,    30.66,2,     0.00,2,     2.10,2, -999.000,9, -999.000,9, -999.000,9,   -999.0,9,   -999.0,9,  2.8676
     316N142_3,   A15,   101,  1,     19,     19,2,19940503,2239,-28.1712, -18.9985, 4375,   1514.7,   2.8726,  34.6938,2,  34.6900,2,    197.4,2,    198.7,2,    53.71,2,    29.09,2,     0.00,2,     1.97,2, -999.000,9, -999.000,9, -999.000,9,   -999.0,9,   -999.0,9,  2.7647
     316N142_3,   A15,   101,  1,     40,     40,2,19940503,2239,-28.1712, -18.9985, 4375,   1664.3,   2.8261,  34.7477,2,  34.7464,2,    205.9,2,    206.1,2,    51.98,2,    27.57,2,     0.00,2,     1.86,2, -999.000,9, -999.000,9, -999.000,9,   -999.0,9,   -999.0,9,  2.7061
     316N142_3,   A15,   101,  1,     17,     17,2,19940503,2239,-28.1712, -18.9985, 4375,   1817.9,   2.7995,  34.8053,2,  34.8035,2,    217.6,2,    219.2,2,    48.18,2,    25.64,2,     0.00,2,     1.73,2, -999.000,9, -999.000,9, -999.000,9,   -999.0,9,   -999.0,9,  2.6665
     316N142_3,   A15,   101,  1,     16,     16,2,19940503,2239,-28.1712, -18.9985, 4375,   1970.2,   2.8083,  34.8405,2,  34.8388,2,    227.1,2,    228.1,2,    44.98,2,    24.27,2,     0.00,2,     1.64,2, -999.000,9, -999.000,9, -999.000,9,   -999.0,9,   -999.0,9,  2.6616
     316N142_3,   A15,   101,  1,     15,     15,2,19940503,2239,-28.1712, -18.9985, 4375,   2199.5,   2.8672,  34.8864,2,  34.8850,2,    240.6,2,    240.1,2,    38.56,2,    22.35,2,     0.00,2,     1.50,2, -999.000,9, -999.000,9, -999.000,9,   -999.0,9,   -999.0,9,  2.6985
     316N142_3,   A15,   101,  1,     14,     14,2,19940503,2239,-28.1712, -18.9985, 4375,   2326.2,   2.8889,  34.9064,2,  34.9052,2,    246.0,2,    245.7,2,    35.55,2,    21.48,2,     0.00,2,     1.44,2, -999.000,9, -999.000,9, -999.000,9,   -999.0,9,   -999.0,9,  2.7078
     316N142_3,   A15,   101,  1,     13,     13,2,19940503,2239,-28.1712, -18.9985, 4375,   2478.8,   2.8685,  34.9127,2,  34.9121,2,    249.1,2,    248.0,2,    35.19,2,    21.16,2,     0.00,2,     1.43,2, -999.000,9, -999.000,9, -999.000,9,   -999.0,9,   -999.0,9,  2.6731
     316N142_3,   A15,   101,  1,     12,     12,2,19940503,2239,-28.1712, -18.9985, 4375,   2630.6,   2.8142,  34.9154,2,  34.9143,2,    250.6,2,    249.9,2,    35.57,2,    21.02,2,     0.00,2,     1.43,2, -999.000,9, -999.000,9, -999.000,9,   -999.0,9,   -999.0,9,  2.6050
     316N142_3,   A15,   101,  1,     11,     11,2,19940503,2239,-28.1712, -18.9985, 4375,   2783.3,   2.7739,  34.9156,2,  34.9145,2,    251.4,2,    250.6,2,    35.94,2,    20.93,2,     0.00,2,     1.42,2, -999.000,9, -999.000,9, -999.000,9,   -999.0,9,   -999.0,9,  2.5503
     316N142_3,   A15,   101,  1,     10,     10,2,19940503,2239,-28.1712, -18.9985, 4375,   2985.3,   2.6975,  34.9116,2,  34.9106,2,    251.4,2,    251.1,2,    37.19,2,    20.93,2,     0.00,2,     1.42,2, -999.000,9, -999.000,9, -999.000,9,   -999.0,9,   -999.0,9,  2.4549
     316N142_3,   A15,   101,  1,      9,      9,2,19940503,2239,-28.1712, -18.9985, 4375,   3187.8,   2.5303,  34.8993,2,  34.8996,2,    250.3,2,    250.8,2,    41.07,2,    21.30,2,     0.00,2,     1.45,2, -999.000,9, -999.000,9, -999.000,9,   -999.0,9,   -999.0,9,  2.2705
     316N142_3,   A15,   101,  1,      8,      8,2,19940503,2239,-28.1712, -18.9985, 4375,   3337.9,   2.3630,  34.8835,2,  34.8839,2,    249.1,2,    248.8,2,    46.11,2,    21.94,2,     0.00,2,     1.49,2, -999.000,9, -999.000,9, -999.000,9,   -999.0,9,   -999.0,9,  2.0914
     316N142_3,   A15,   101,  1,      7,      7,2,19940503,2239,-28.1712, -18.9985, 4375,   3491.3,   2.1206,  34.8595,2,  34.8595,2,    245.2,2,    245.4,2,    54.54,2,    23.13,2,     0.00,2,     1.58,2, -999.000,9, -999.000,9, -999.000,9,   -999.0,9,   -999.0,9,  1.8388
     316N142_3,   A15,   101,  1,      6,      6,2,19940503,2239,-28.1712, -18.9985, 4375,   3647.7,   1.8740,  34.8333,2,  34.8334,2,    241.2,2,    241.0,2,    63.72,2,    24.41,2,     0.00,2,     1.67,2, -999.000,9, -999.000,9, -999.000,9,   -999.0,9,   -999.0,9,  1.5820
     316N142_3,   A15,   101,  1,      5,      5,2,19940503,2239,-28.1712, -18.9985, 4375,   3802.2,   1.7358,  34.8181,2,  34.8179,2,    237.6,2,    238.3,2,    68.94,2,    25.10,2,     0.00,2,     1.73,2, -999.000,9, -999.000,9, -999.000,9,   -999.0,9,   -999.0,9,  1.4310
     316N142_3,   A15,   101,  1,      4,      4,2,19940503,2239,-28.1712, -18.9985, 4375,   3956.5,   1.6152,  34.8044,2,  34.8042,2,    236.1,2,    235.9,2,    73.73,2,    25.83,2,     0.00,2,     1.78,2, -999.000,9, -999.000,9, -999.000,9,   -999.0,9,   -999.0,9,  1.2971
     316N142_3,   A15,   101,  1,      3,      3,2,19940503,2239,-28.1712, -18.9985, 4375,   4160.1,   1.5126,  34.7913,2,  34.7904,2,    233.3,2,    233.5,2,    78.82,2,    26.62,2,     0.00,2,     1.82,2, -999.000,9, -999.000,9, -999.000,9,   -999.0,9,   -999.0,9,  1.1750
     316N142_3,   A15,   101,  1,      2,      2,2,19940503,2239,-28.1712, -18.9985, 4375,   4334.9,   1.4831,  34.7855,2,  34.7861,2,    233.1,2,    232.4,2,    81.38,2,    26.89,2,     0.00,2,     1.84,2, -999.000,9, -999.000,9, -999.000,9,   -999.0,9,   -999.0,9,  1.1268
     316N142_3,   A15,   101,  1,      1,      1,2,19940503,2239,-28.1712, -18.9985, 4375,   4459.7,   1.4720,  34.7831,2,  34.7832,2,    231.5,2,    232.0,2,    83.34,2,    27.17,2,     0.00,2,     1.87,2, -999.000,9, -999.000,9, -999.000,9,   -999.0,9,   -999.0,9,  1.1018