BOTTLE,20020814WHPSIOKJU
EXPOCODE,SECT_ID,STNNBR,CASTNO,SAMPNO,BTLNBR,BTLNBR_FLAG_W,DATE,TIME,LATITUDE,LONGITUDE,DEPTH,CTDPRS,CTDTMP,CTDSAL,CTDSAL_FLAG_W,SALNTY,SALNTY_FLAG_W,CTDOXY,CTDOXY_FLAG_W,OXYGEN,OXYGEN_FLAG_W,SILCAT,SILCAT_FLAG_W,NITRAT,NITRAT_FLAG_W,NITRIT,NITRIT_FLAG_W,PHSPHT,PHSPHT_FLAG_W,CFC-11,CFC-11_FLAG_W,CFC-12,CFC-12_FLAG_W,CCL4,CCL4_FLAG_W,TCARBN,TCARBN_FLAG_W,ALKALI,ALKALI_FLAG_W,THETA
,,,,,,,,,,,,DBAR,ITS-90,PSS-78,,PSS-78,,UMOL/KG,,UMOL/KG,,UMOL/KG,,UMOL/KG,,UMOL/KG,,UMOL/KG,,PMOL/KG,,PMOL/KG,,PMOL/KG,,UMOL/KG,,UMOL/KG,,DEG C
     316N142_3,   A15,    64,  1,     39,     39,2,19940423,2042, -9.5002, -18.9998, 4298,      9.4,  27.6530,  36.6073,2,  36.6084,2,    197.4,2,    198.1,2,     2.02,2,     0.15,2,     0.01,2,     0.15,2,    1.586,2,    0.968,2,    1.773,2,   2040.5,2,   2394.3,2, 27.6508
     316N142_3,   A15,    64,  1,     35,     35,2,19940423,2042, -9.5002, -18.9998, 4298,     64.8,  27.4940,  36.7165,2,  36.7177,2,    202.7,2,    199.6,2,     1.87,2,     0.15,2,     0.01,2,     0.15,2, -999.000,9, -999.000,9, -999.000,9,   2044.9,2,   2402.0,2, 27.4788
     316N142_3,   A15,    64,  1,     38,     38,2,19940423,2042, -9.5002, -18.9998, 4298,     85.2,  25.5231,  36.8070,2,  36.8052,2,    215.8,2,    216.8,2,     1.58,2,     0.16,2,     0.00,2,     0.16,2,    1.741,2,    1.070,9, -999.000,9,   2055.9,2,   2409.2,2, 25.5042
     316N142_3,   A15,    64,  1,     33,     33,2,19940423,2042, -9.5002, -18.9998, 4298,    156.1,  17.3294,  35.8871,2,  35.8862,2,    162.4,2,    149.6,2,     4.52,2,    11.48,2,     0.03,2,     0.89,2,    1.849,2,    1.060,2,    1.033,2,   2137.8,2,   2348.8,2, 17.3032
     316N142_3,   A15,    64,  1,     41,     41,2,19940423,2042, -9.5002, -18.9998, 4298,    216.6,  11.8663,  35.1577,2,  35.1591,2,    100.4,2,     89.7,2,    10.97,2,    26.14,2,     0.01,2,     1.72,2,    0.827,2,    0.455,2,    0.357,2,   2197.2,2,   2308.2,2, 11.8382
     316N142_3,   A15,    64,  1,     31,     31,2,19940423,2042, -9.5002, -18.9998, 4298,    281.1,   9.8488,  34.9185,2,  34.9030,2,     86.9,2,     83.8,2,    14.99,2,    31.18,2,     0.01,2,     2.01,2,    0.396,2,    0.204,2,    0.284,2,   2215.8,2,   2299.6,2,  9.8163
     316N142_3,   A15,    64,  1,     37,     37,2,19940423,2042, -9.5002, -18.9998, 4298,    397.2,   8.1416,  34.7237,2,  34.7227,2,    101.0,2,     95.2,2,    18.47,2,    33.56,2,     0.00,2,     2.17,2,    0.204,2,    0.124,2,    0.377,2,   2220.5,2,   2293.3,2,  8.1006
     316N142_3,   A15,    64,  1,     29,     29,2,19940423,2042, -9.5002, -18.9998, 4298,    497.0,   7.0159,  34.6189,2,  34.6193,2,    101.7,2,    102.7,2,    21.82,2,    35.32,2,     0.00,2,     2.30,2, -999.000,9, -999.000,9, -999.000,9,   2222.6,2,   2292.5,2,  6.9685
     316N142_3,   A15,    64,  1,     28,     28,2,19940423,2042, -9.5002, -18.9998, 4298,    597.3,   6.1378,  34.5521,2,  34.5535,2,    109.7,2,    107.8,2,    25.43,2,    36.56,2,     0.00,2,     2.41,2,    0.053,4,    0.028,2,    0.271,2,   2225.8,2,   2292.3,2,  6.0846
     316N142_3,   A15,    64,  1,     27,     27,2,19940423,2042, -9.5002, -18.9998, 4298,    698.1,   5.3260,  34.5048,2,  34.5036,2,    122.7,2,    123.3,2,    29.32,2,    36.62,2,     0.00,2,     2.44,2, -999.000,9, -999.000,9, -999.000,9,   -999.0,9,   -999.0,9,  5.2676
     316N142_3,   A15,    64,  1,     26,     26,2,19940423,2042, -9.5002, -18.9998, 4298,    788.3,   4.8125,  34.4879,2,  34.4879,2,    138.0,2,    137.3,2,    32.26,2,    36.06,2,     0.00,2,     2.42,2,    0.029,4,    0.021,2,    0.210,2,   -999.0,9,   -999.0,9,  4.7492
     316N142_3,   A15,    64,  1,     25,     25,2,19940423,2042, -9.5002, -18.9998, 4298,    899.3,   4.2551,  34.5192,2,  34.5203,2,    153.7,2,    155.1,2,    35.87,2,    34.55,2,     0.00,2,     2.33,2, -999.000,9, -999.000,9, -999.000,9,   -999.0,9,   -999.0,9,  4.1860
     316N142_3,   A15,    64,  1,     24,     24,2,19940423,2042, -9.5002, -18.9998, 4298,   1010.6,   4.1220,  34.5731,2,  34.5714,2,    160.9,2,    161.8,2,    35.99,2,    33.37,2,     0.00,2,     2.26,2,    0.030,4,    0.008,2,    0.051,2,   -999.0,9,   -999.0,9,  4.0444
     316N142_3,   A15,    64,  1,     23,     23,2,19940423,2042, -9.5002, -18.9998, 4298,   1109.1,   4.0766,  34.6617,2,  34.6596,2,    168.9,2,    171.4,2,    34.22,2,    31.43,2,     0.00,2,     2.15,2, -999.000,9, -999.000,9, -999.000,9,   -999.0,9,   -999.0,9,  3.9909
     316N142_3,   A15,    64,  1,     22,     22,2,19940423,2042, -9.5002, -18.9998, 4298,   1212.0,   4.1212,  34.7384,2,  34.7368,2,    177.9,2,    180.0,2,    31.51,2,    29.59,2,     0.00,2,     2.04,2, -999.000,9, -999.000,9, -999.000,9,   -999.0,9,   -999.0,9,  4.0260
     316N142_3,   A15,    64,  1,     21,     21,2,19940423,2042, -9.5002, -18.9998, 4298,   1313.3,   4.1489,  34.8131,2,  34.8119,2,    190.3,2,    193.2,2,    28.26,2,    27.32,2,     0.00,2,     1.86,2, -999.000,9,    0.007,2,    0.296,2,   -999.0,9,   -999.0,9,  4.0443
     316N142_3,   A15,    64,  1,     20,     20,2,19940423,2042, -9.5002, -18.9998, 4298,   1413.5,   4.1273,  34.8778,2,  34.8774,2,    206.5,2,    207.9,2,    25.29,2,    25.04,2,     0.00,2,     1.70,2, -999.000,9, -999.000,9, -999.000,9,   -999.0,9,   -999.0,9,  4.0138
     316N142_3,   A15,    64,  1,     19,     19,2,19940423,2042, -9.5002, -18.9998, 4298,   1514.9,   4.0908,  34.9198,2,  34.9193,2,    219.5,2,    220.6,2,    22.85,2,    23.20,2,     0.00,2,     1.57,2,    0.005,4,    0.013,6,    0.180,6,   -999.0,9,   -999.0,9,  3.9684
     316N142_3,   A15,    64,  1,     40,     40,2,19940423,2042, -9.5002, -18.9998, 4298,   1651.6,   3.9224,  34.9499,2,  34.9518,2,    235.3,2,    235.3,2,    21.35,2,    21.40,2,     0.00,2,     1.45,2, -999.000,9,    0.016,2,    0.247,2,   -999.0,9,   -999.0,9,  3.7893
     316N142_3,   A15,    64,  1,     17,     17,2,19940423,2042, -9.5002, -18.9998, 4298,   1793.1,   3.6915,  34.9609,2,  34.9612,2,    245.2,2,    245.6,2,    21.33,2,    20.31,2,     0.00,2,     1.37,2, -999.000,9, -999.000,9, -999.000,9,   -999.0,9,   -999.0,9,  3.5482
     316N142_3,   A15,    64,  1,     16,     16,2,19940423,2042, -9.5002, -18.9998, 4298,   1910.3,   3.4958,  34.9526,2,  34.9526,2,    247.7,2,    247.3,2,    23.60,2,    20.32,2,     0.00,2,     1.37,2, -999.000,9, -999.000,9, -999.000,9,   -999.0,9,   -999.0,9,  3.3443
     316N142_3,   A15,    64,  1,     15,     15,2,19940423,2042, -9.5002, -18.9998, 4298,   2031.3,   3.3425,  34.9469,2,  34.9473,2,    248.5,2,    248.6,2,    25.47,2,    20.42,2,     0.00,2,     1.37,4,    0.040,4,    0.015,2,    0.313,2,   -999.0,9,   -999.0,9,  3.1819
     316N142_3,   A15,    64,  1,     14,     14,2,19940423,2042, -9.5002, -18.9998, 4298,   2158.2,   3.1769,  34.9358,2,  34.9357,2,    246.6,2,    246.6,2,    28.94,2,    20.85,2,     0.00,2,     1.39,4, -999.000,9, -999.000,9, -999.000,9,   -999.0,9,   -999.0,9,  3.0069
     316N142_3,   A15,    64,  1,     13,     13,2,19940423,2042, -9.5002, -18.9998, 4298,   2316.9,   3.0255,  34.9266,2,  34.9286,2,    244.9,2,    245.4,2,    32.15,2,    21.19,2,     0.00,2,     1.41,4, -999.000,9, -999.000,9, -999.000,9,   -999.0,9,   -999.0,9,  2.8429
     316N142_3,   A15,    64,  1,     12,     12,2,19940423,2042, -9.5002, -18.9998, 4298,   2478.3,   2.8676,  34.9146,2,  34.9144,2,    244.2,2,    244.0,2,    36.30,2,    21.67,2,     0.00,2,     1.45,4, -999.000,9, -999.000,9, -999.000,9,   -999.0,9,   -999.0,9,  2.6723
     316N142_3,   A15,    64,  1,     11,     11,3,19940423,2042, -9.5002, -18.9998, 4298,   2681.3,   2.7724,  34.9074,2,  35.0561,4,    241.8,2,    234.1,4,    33.46,4,    20.25,4,     0.00,4,     1.37,4, -999.000,9, -999.000,9, -999.000,9,   -999.0,9,   -999.0,9,  2.5591
     316N142_3,   A15,    64,  1,     10,     10,2,19940423,2042, -9.5002, -18.9998, 4298,   2884.1,   2.7129,  34.9050,2,  34.9083,3,    243.5,2,    247.5,4,    39.89,2,    21.97,2,     0.00,2,     1.49,4, -999.000,9, -999.000,9, -999.000,9,   -999.0,9,   -999.0,9,  2.4803
     316N142_3,   A15,    64,  1,      9,      9,2,19940423,2042, -9.5002, -18.9998, 4298,   3088.3,   2.6494,  34.9051,2,  34.9046,2,    245.5,2,    245.7,2,    39.60,2,    21.69,2,     0.00,2,     1.47,4, -999.000,9,    0.006,2,    0.133,2,   -999.0,9,   -999.0,9,  2.3973
     316N142_3,   A15,    64,  1,      8,      8,2,19940423,2042, -9.5002, -18.9998, 4298,   3293.3,   2.6018,  34.9058,2,  34.9054,2,    247.9,2,    248.7,2,    38.92,2,    21.27,2,     0.00,2,     1.44,4, -999.000,9, -999.000,9, -999.000,9,   -999.0,9,   -999.0,9,  2.3292
     316N142_3,   A15,    64,  1,      7,      7,2,19940423,2042, -9.5002, -18.9998, 4298,   3486.6,   2.5090,  34.9002,2,  34.9002,2,    250.1,2,    250.5,2,    40.11,2,    21.37,2,     0.00,2,     1.50,2, -999.000,9,    0.001,2, -999.000,9,   -999.0,9,   -999.0,9,  2.2179
     316N142_3,   A15,    64,  1,      6,      6,2,19940423,2042, -9.5002, -18.9998, 4298,   3629.8,   2.3813,  34.8886,2,  34.8888,2,    250.0,2,    250.1,2,    43.85,2,    21.75,2,     0.00,2,     1.53,2, -999.000,9,    0.001,2,    0.133,2,   -999.0,9,   -999.0,9,  2.0778
     316N142_3,   A15,    64,  1,      5,      5,2,19940423,2042, -9.5002, -18.9998, 4298,   3803.1,   2.1777,  34.8662,2,  34.8664,2,    246.6,2,    247.2,2,    52.41,2,    23.00,2,     0.00,2,     1.62,2, -999.000,9, -999.000,9, -999.000,9,   -999.0,9,   -999.0,9,  1.8606
     316N142_3,   A15,    64,  1,      4,      4,2,19940423,2042, -9.5002, -18.9998, 4298,   3955.3,   2.0050,  34.8489,2,  34.8489,2,    243.9,2,    244.5,2,    58.82,2,    23.76,2,     0.00,2,     1.68,2, -999.000,9,    0.003,2,    0.142,2,   -999.0,9,   -999.0,9,  1.6759
     316N142_3,   A15,    64,  1,      3,      3,2,19940423,2042, -9.5002, -18.9998, 4298,   4099.2,   1.7692,  34.8250,2,  34.8243,2,    241.0,2,    241.0,2,    67.88,2,    25.05,2,     0.00,2,     1.76,2, -999.000,9, -999.000,9, -999.000,9,   -999.0,9,   -999.0,9,  1.4308
     316N142_3,   A15,    64,  1,      2,      2,2,19940423,2042, -9.5002, -18.9998, 4298,   4232.8,   1.4359,  34.7902,2,  34.7903,2,    235.9,2,    235.7,2,    81.08,2,    26.92,2,     0.00,2,     1.89,2, -999.000,9, -999.000,9, -999.000,9,   -999.0,9,   -999.0,9,  1.0925
     316N142_3,   A15,    64,  1,      1,      1,2,19940423,2042, -9.5002, -18.9998, 4298,   4389.6,   1.2822,  34.7730,2,  34.7754,2,    233.0,2,    232.8,2,    87.32,2,    27.88,2,     0.00,2,     1.96,2, -999.000,9,    0.004,2,    0.239,2,   -999.0,9,   -999.0,9,  0.9259