BOTTLE,20020814WHPSIOKJU
EXPOCODE,SECT_ID,STNNBR,CASTNO,SAMPNO,BTLNBR,BTLNBR_FLAG_W,DATE,TIME,LATITUDE,LONGITUDE,DEPTH,CTDPRS,CTDTMP,CTDSAL,CTDSAL_FLAG_W,SALNTY,SALNTY_FLAG_W,CTDOXY,CTDOXY_FLAG_W,OXYGEN,OXYGEN_FLAG_W,SILCAT,SILCAT_FLAG_W,NITRAT,NITRAT_FLAG_W,NITRIT,NITRIT_FLAG_W,PHSPHT,PHSPHT_FLAG_W,CFC-11,CFC-11_FLAG_W,CFC-12,CFC-12_FLAG_W,CCL4,CCL4_FLAG_W,TCARBN,TCARBN_FLAG_W,ALKALI,ALKALI_FLAG_W,THETA
,,,,,,,,,,,,DBAR,ITS-90,PSS-78,,PSS-78,,UMOL/KG,,UMOL/KG,,UMOL/KG,,UMOL/KG,,UMOL/KG,,UMOL/KG,,PMOL/KG,,PMOL/KG,,PMOL/KG,,UMOL/KG,,UMOL/KG,,DEG C
     316N142_3,   A15,   106,  1,     39,     39,2,19940505,0325,-30.5660, -18.9990, 3966,      6.3,  21.9867,  36.1523,2,  36.1527,2,    208.4,4,    219.5,2,     1.62,2,     0.09,2,     0.00,2,     0.12,2,    2.077,2,    1.176,2,    3.084,2,   2044.0,2,   2372.0,2, 21.9855
     316N142_3,   A15,   106,  1,     35,     35,2,19940505,0325,-30.5660, -18.9990, 3966,     49.7,  22.0074,  36.1566,2,  36.1549,2,    208.8,4,    219.7,2,     1.60,2,     0.14,2,     0.00,2,     0.10,2, -999.000,9, -999.000,9, -999.000,9,   2045.8,2,   2374.1,2, 21.9975
     316N142_3,   A15,   106,  1,     38,     38,2,19940505,0325,-30.5660, -18.9990, 3966,     78.6,  19.6443,  35.8911,2,  35.9111,2,    234.1,4,    239.7,2,  -999.00,9,  -999.00,9,  -999.00,9,  -999.00,9,    2.292,2,    1.358,2,    2.421,2,   -999.0,9,   -999.0,9, 19.6299
     316N142_3,   A15,   106,  1,     33,     33,2,19940505,0325,-30.5660, -18.9990, 3966,    154.6,  16.8383,  35.6931,2,  35.6902,2,    226.6,2,    224.6,2,     1.74,2,     0.27,2,     0.14,2,     0.20,2,    2.380,2,    1.400,2,    1.782,2,   2072.1,2,   2342.3,2, 16.8128
     316N142_3,   A15,   106,  1,     41,     41,2,19940505,0325,-30.5660, -18.9990, 3966,    254.9,  14.0482,  35.2921,2,  35.2918,2,    216.7,2,    215.7,2,     3.03,2,     6.13,2,     0.00,2,     0.53,2,    2.555,2,    1.429,2,    1.211,2,   2091.5,2,   2321.4,2, 14.0111
     316N142_3,   A15,   106,  1,     31,     31,2,19940505,0325,-30.5660, -18.9990, 3966,    355.1,  12.6096,  35.1378,2,  35.1329,2,    214.6,2,    212.9,2,     4.03,2,     9.98,2,     0.00,2,     0.77,2,    2.401,2,    1.335,2,    1.061,2,   2107.4,2,   2312.1,2, 12.5614
     316N142_3,   A15,   106,  1,     37,     37,2,19940505,0325,-30.5660, -18.9990, 3966,    456.0,  10.3903,  34.8474,2,  34.8458,2,    207.7,2,    206.7,2,     7.07,2,    15.94,2,     0.00,2,     1.14,2,    2.192,6,    1.183,6,    1.240,6,   2125.3,2,   2299.3,2, 10.3355
     316N142_3,   A15,   106,  1,     29,     29,2,19940505,0325,-30.5660, -18.9990, 3966,    567.2,   8.1202,  34.5954,2,  34.5922,2,    207.7,2,    208.1,2,    10.99,2,    21.65,2,     0.00,2,     1.50,2,    1.776,2,    0.997,2,    1.779,2,   2144.9,2,   2288.6,2,  8.0613
     316N142_3,   A15,   106,  1,     28,     28,2,19940505,0325,-30.5660, -18.9990, 3966,    668.1,   6.5984,  34.4479,2,  34.4468,2,    211.0,2,    212.9,2,    15.06,2,    25.11,2,     0.00,2,     1.74,2,    1.699,2,    0.908,2,    1.794,2,   2154.9,2,   2284.9,2,  6.5363
     316N142_3,   A15,   106,  1,     27,     27,2,19940505,0325,-30.5660, -18.9990, 3966,    767.8,   5.4109,  34.3488,2,  34.3466,2,    221.2,2,    222.0,2,    18.84,2,    27.29,2,     0.00,2,     1.89,2,    1.723,2,    0.852,2,    2.871,2,   2162.6,2,   2285.2,2,  5.3460
     316N142_3,   A15,   106,  1,     26,     26,2,19940505,0325,-30.5660, -18.9990, 3966,    867.9,   4.5186,  34.3011,2,  34.3004,2,    224.9,2,    225.6,2,    23.95,2,    28.93,2,     0.00,2,     2.01,2,    1.469,2,    0.731,2,    2.750,2,   2170.2,2,   2285.6,2,  4.4506
     316N142_3,   A15,   106,  1,     25,     25,2,19940505,0325,-30.5660, -18.9990, 3966,    938.6,   4.0486,  34.3017,2,  34.3000,2,    221.4,2,    221.7,2,    29.35,2,    30.15,2,     0.00,2,     2.09,2, -999.000,9, -999.000,9, -999.000,9,   2179.6,2,   2291.2,2,  3.9779
     316N142_3,   A15,   106,  1,     24,     24,2,19940505,0325,-30.5660, -18.9990, 3966,   1009.4,   3.6915,  34.3150,2,  34.3129,2,    214.5,2,    216.6,2,    34.63,2,    31.05,2,     0.00,2,     2.17,2,    1.018,2,    0.485,2,    2.405,2,   2189.0,2,   2297.4,2,  3.6178
     316N142_3,   A15,   106,  1,     23,     23,2,19940505,0325,-30.5660, -18.9990, 3966,   1110.4,   3.3334,  34.3624,2,  34.3609,2,    204.7,2,    205.3,2,    43.30,2,    32.18,2,     0.00,2,     2.24,2, -999.000,9, -999.000,9, -999.000,9,   2203.7,2,   2304.8,2,  3.2545
     316N142_3,   A15,   106,  1,     22,     22,2,19940505,0325,-30.5660, -18.9990, 3966,   1211.2,   3.1259,  34.4295,2,  34.4270,2,    194.0,2,    194.5,2,    50.69,2,    32.67,2,     0.00,2,     2.28,2,    0.320,2,    0.187,2,    1.379,2,   -999.0,9,   -999.0,9,  3.0407
     316N142_3,   A15,   106,  1,     21,     21,2,19940505,0325,-30.5660, -18.9990, 3966,   1312.5,   2.9750,  34.5114,2,  34.5075,2,    189.5,2,    188.1,2,    56.03,2,    32.49,2,     0.00,2,     2.28,2, -999.000,9,    0.102,6,    0.808,6,   2223.5,2,   2319.6,2,  2.8830
     316N142_3,   A15,   106,  1,     20,     20,2,19940505,0325,-30.5660, -18.9990, 3966,   1438.9,   2.8625,  34.5879,2,  34.5854,2,    189.5,2,    188.5,2,    58.26,2,    31.62,2,     0.00,2,     2.21,2, -999.000,9, -999.000,9, -999.000,9,   -999.0,9,   -999.0,9,  2.7612
     316N142_3,   A15,   106,  1,     19,     19,2,19940505,0325,-30.5660, -18.9990, 3966,   1565.4,   2.8053,  34.6537,2,  34.6519,2,    191.9,2,    193.1,2,    57.66,2,    30.33,2,     0.00,2,     2.12,2, -999.000,9,    0.019,2,    0.309,2,   2223.8,2,   2328.0,2,  2.6941
     316N142_3,   A15,   106,  1,     40,     40,2,19940505,0325,-30.5660, -18.9990, 3966,   1717.2,   2.7722,  34.7184,2,  34.7168,2,    202.3,2,    200.8,2,    55.73,2,    28.71,2,     0.00,2,     2.00,2, -999.000,9,    0.013,2,    0.104,2,   -999.0,9,   -999.0,9,  2.6485
     316N142_3,   A15,   106,  1,     17,     17,2,19940505,0325,-30.5660, -18.9990, 3966,   1868.4,   2.7104,  34.7703,2,  34.7696,2,    210.5,2,    210.8,2,    53.35,2,    27.00,2,     0.00,2,     1.88,2, -999.000,9, -999.000,9, -999.000,9,   2211.2,2,   2330.5,2,  2.5743
     316N142_3,   A15,   106,  1,     16,     16,2,19940505,0325,-30.5660, -18.9990, 3966,   2020.1,   2.6678,  34.8001,2,  34.7995,2,    218.5,2,    218.5,2,    51.57,2,    25.81,2,     0.00,2,     1.80,2, -999.000,9,    0.005,2,    0.147,2,   -999.0,9,   -999.0,9,  2.5189
     316N142_3,   A15,   106,  1,     15,     15,2,19940505,0325,-30.5660, -18.9990, 3966,   2172.4,   2.6552,  34.8249,2,  34.8254,2,    224.9,2,    225.0,2,    49.05,2,    24.89,2,     0.00,2,     1.73,2, -999.000,9, -999.000,9, -999.000,9,   2199.0,2,   2331.0,2,  2.4927
     316N142_3,   A15,   106,  1,     14,     14,2,19940505,0325,-30.5660, -18.9990, 3966,   2324.5,   2.6537,  34.8428,2,  34.8425,2,    230.9,2,    230.0,2,    46.98,2,    24.17,2,     0.00,2,     1.67,2, -999.000,9, -999.000,9, -999.000,9,   -999.0,9,   -999.0,9,  2.4771
     316N142_3,   A15,   106,  1,     13,     13,2,19940505,0325,-30.5660, -18.9990, 3966,   2478.4,   2.6672,  34.8624,2,  34.8615,2,    236.4,2,    235.6,2,    44.46,2,    23.39,2,     0.00,2,     1.62,2, -999.000,9,    0.010,2,    0.057,2,   2191.4,2,   2330.2,2,  2.4758
     316N142_3,   A15,   106,  1,     12,     12,2,19940505,0325,-30.5660, -18.9990, 3966,   2631.0,   2.6642,  34.8758,2,  34.8753,2,    238.9,2,    239.4,2,    42.83,2,    22.80,2,     0.00,2,     1.58,2, -999.000,9, -999.000,9, -999.000,9,   -999.0,9,   -999.0,9,  2.4580
     316N142_3,   A15,   106,  1,     11,     11,2,19940505,0325,-30.5660, -18.9990, 3966,   2783.7,   2.6577,  34.8865,2,  34.8863,2,    243.1,2,    243.0,2,    41.35,2,    22.25,2,     0.00,2,     1.54,2, -999.000,9, -999.000,9, -999.000,9,   2185.2,2,   2328.4,2,  2.4365
     316N142_3,   A15,   106,  1,     10,     10,2,19940505,0325,-30.5660, -18.9990, 3966,   2936.4,   2.6179,  34.8925,2,  34.8920,2,    246.2,2,    246.0,2,    41.35,2,    21.89,2,     0.00,2,     1.52,2, -999.000,9,    0.002,2,    0.027,2,   -999.0,9,   -999.0,9,  2.3821
     316N142_3,   A15,   106,  1,      9,      9,2,19940505,0325,-30.5660, -18.9990, 3966,   3089.4,   2.5081,  34.8857,2,  34.8863,2,    246.6,2,    245.9,2,    44.61,2,    22.27,2,     0.00,2,     1.55,2, -999.000,9, -999.000,9, -999.000,9,   2185.1,2,   2331.6,2,  2.2591
     316N142_3,   A15,   106,  1,      8,      8,2,19940505,0325,-30.5660, -18.9990, 3966,   3241.5,   2.3843,  34.8767,2,  34.8766,2,    245.5,2,    245.2,2,    48.91,2,    22.70,2,     0.00,2,     1.57,2, -999.000,9,    0.005,2,    0.117,2,   -999.0,9,   -999.0,9,  2.1223
     316N142_3,   A15,   106,  1,      7,      7,2,19940505,0325,-30.5660, -18.9990, 3966,   3395.1,   2.1997,  34.8617,2,  34.8613,2,    243.6,2,    243.7,2,    55.61,2,    23.50,2,     0.00,2,     1.63,2, -999.000,9, -999.000,9, -999.000,9,   2196.5,2,   2337.5,2,  1.9261
     316N142_3,   A15,   106,  1,      6,      6,2,19940505,0325,-30.5660, -18.9990, 3966,   3547.4,   2.0545,  34.8477,2,  34.8480,2,    242.2,2,    241.7,2,    61.75,2,    24.31,2,     0.00,2,     1.69,2, -999.000,9, -999.000,9, -999.000,9,   -999.0,9,   -999.0,9,  1.7684
     316N142_3,   A15,   106,  1,      5,      5,2,19940505,0325,-30.5660, -18.9990, 3966,   3674.6,   1.9487,  34.8366,2,  34.8378,2,    240.3,2,    240.1,2,    66.26,2,    24.83,2,     0.00,2,     1.73,2, -999.000,9, -999.000,9, -999.000,9,   2204.2,2,   2342.5,2,  1.6519
     316N142_3,   A15,   106,  1,      4,      4,2,19940505,0325,-30.5660, -18.9990, 3966,   3803.2,   1.8331,  34.8246,2,  34.8244,2,    237.7,2,    238.2,2,    71.24,2,    25.45,2,     0.00,2,     1.78,2, -999.000,9,    0.003,2,    0.001,2,   -999.0,9,   -999.0,9,  1.5255
     316N142_3,   A15,   106,  1,      3,      3,2,19940505,0325,-30.5660, -18.9990, 3966,   3929.8,   1.7404,  34.8143,2,  34.8136,2,    235.9,2,    236.4,2,    75.03,2,    25.98,2,     0.00,2,     1.81,2, -999.000,9, -999.000,9, -999.000,9,   2213.6,2,   2346.6,2,  1.4217
     316N142_3,   A15,   106,  1,      2,      2,2,19940505,0325,-30.5660, -18.9990, 3966,   4059.1,   1.6674,  34.8056,2,  34.8059,2,    234.8,2,    234.9,2,    77.77,2,    26.36,2,     0.00,2,     1.85,2, -999.000,9,    0.008,2,    0.067,2,   -999.0,9,   -999.0,9,  1.3365
     316N142_3,   A15,   106,  1,      1,      1,2,19940505,0325,-30.5660, -18.9990, 3966,   4146.4,   1.6642,  34.8040,2,  34.8077,3,    234.6,2,    234.6,2,    77.78,2,    26.42,2,     0.00,2,     1.84,2, -999.000,9,    0.007,2,    0.025,2,   2219.2,2,   2349.3,2,  1.3237