BOTTLE,20020814WHPSIOKJU
EXPOCODE,SECT_ID,STNNBR,CASTNO,SAMPNO,BTLNBR,BTLNBR_FLAG_W,DATE,TIME,LATITUDE,LONGITUDE,DEPTH,CTDPRS,CTDTMP,CTDSAL,CTDSAL_FLAG_W,SALNTY,SALNTY_FLAG_W,CTDOXY,CTDOXY_FLAG_W,OXYGEN,OXYGEN_FLAG_W,SILCAT,SILCAT_FLAG_W,NITRAT,NITRAT_FLAG_W,NITRIT,NITRIT_FLAG_W,PHSPHT,PHSPHT_FLAG_W,CFC-11,CFC-11_FLAG_W,CFC-12,CFC-12_FLAG_W,CCL4,CCL4_FLAG_W,TCARBN,TCARBN_FLAG_W,ALKALI,ALKALI_FLAG_W,THETA
,,,,,,,,,,,,DBAR,ITS-90,PSS-78,,PSS-78,,UMOL/KG,,UMOL/KG,,UMOL/KG,,UMOL/KG,,UMOL/KG,,UMOL/KG,,PMOL/KG,,PMOL/KG,,PMOL/KG,,UMOL/KG,,UMOL/KG,,DEG C
     316N142_3,  AR15,     7,  1,     36,     36,2,19940405,2331, -2.6132, -36.2023, 3705,      1.3,  28.7011,  35.5877,2,  35.5928,2,    215.5,2,    217.8,2,     1.47,2,     0.04,2,     0.00,2,     0.07,2, -999.000,9, -999.000,9, -999.000,9,   -999.0,9,   -999.0,9, 28.7008
     316N142_3,  AR15,     7,  1,     35,     35,9,19940405,2331, -2.6132, -36.2023, 3705,      1.4,  28.7082,  35.5874,2,-999.0000,9,    218.0,2,   -999.0,9,  -999.00,9,  -999.00,9,  -999.00,9,  -999.00,9, -999.000,9, -999.000,9, -999.000,9,   -999.0,9,   -999.0,9, 28.7079
     316N142_3,  AR15,     7,  1,     34,     34,9,19940405,2331, -2.6132, -36.2023, 3705,     58.1,  27.6511,  36.3132,2,-999.0000,9,    232.3,2,   -999.0,9,  -999.00,9,  -999.00,9,  -999.00,9,  -999.00,9, -999.000,9, -999.000,9, -999.000,9,   -999.0,9,   -999.0,9, 27.6375
     316N142_3,  AR15,     7,  1,     33,     33,2,19940405,2331, -2.6132, -36.2023, 3705,     88.6,  23.0110,  36.5783,2,  36.5658,2,    211.1,2,    198.2,2,     2.15,2,     1.66,2,     0.07,2,     0.26,2, -999.000,9, -999.000,9, -999.000,9,   -999.0,9,   -999.0,9, 22.9928
     316N142_3,  AR15,     7,  1,     32,     32,2,19940405,2331, -2.6132, -36.2023, 3705,    130.8,  13.6433,  35.3595,2,  35.3606,2,     99.3,2,     93.7,2,     9.03,2,    22.85,2,     0.01,2,     1.37,2, -999.000,9, -999.000,9, -999.000,9,   -999.0,9,   -999.0,9, 13.6247
     316N142_3,  AR15,     7,  1,     31,     31,2,19940405,2331, -2.6132, -36.2023, 3705,    206.3,  12.3151,  35.1885,2,  35.1981,2,    100.1,2,     94.5,2,    10.63,2,    24.81,2,     0.00,2,     1.52,2, -999.000,9, -999.000,9, -999.000,9,   -999.0,9,   -999.0,9, 12.2876
     316N142_3,  AR15,     7,  1,     30,     30,9,19940405,2331, -2.6132, -36.2023, 3705,    250.7,  11.0977,  35.0299,2,-999.0000,9,    133.5,2,   -999.0,9,  -999.00,9,  -999.00,9,  -999.00,9,  -999.00,9, -999.000,9, -999.000,9, -999.000,9,   -999.0,9,   -999.0,9, 11.0665
     316N142_3,  AR15,     7,  1,     29,     29,9,19940405,2331, -2.6132, -36.2023, 3705,    305.5,  10.8034,  34.9945,2,-999.0000,9,    127.2,2,   -999.0,9,  -999.00,9,  -999.00,9,  -999.00,9,  -999.00,9, -999.000,9, -999.000,9, -999.000,9,   -999.0,9,   -999.0,9, 10.7659
     316N142_3,  AR15,     7,  1,     28,     28,2,19940405,2331, -2.6132, -36.2023, 3705,    406.5,   8.5225,  34.7122,2,  34.7131,2,    161.4,2,    163.7,2,    14.99,2,    24.92,2,     0.00,2,     1.60,2, -999.000,9, -999.000,9, -999.000,9,   -999.0,9,   -999.0,9,  8.4794
     316N142_3,  AR15,     7,  1,     27,     27,2,19940405,2331, -2.6132, -36.2023, 3705,    507.1,   6.7254,  34.5515,2,  34.5516,2,    162.3,2,    162.9,2,    20.49,2,    29.19,2,     0.00,2,     1.90,2, -999.000,9, -999.000,9, -999.000,9,   -999.0,9,   -999.0,9,  6.6782
     316N142_3,  AR15,     7,  1,     26,     26,2,19940405,2331, -2.6132, -36.2023, 3705,    592.7,   5.4666,  34.4715,2,  34.4724,2,    161.8,2,    163.1,2,    26.10,2,    32.00,2,     0.00,2,     2.10,2, -999.000,9, -999.000,9, -999.000,9,   -999.0,9,   -999.0,9,  5.4169
     316N142_3,  AR15,     7,  1,     25,     25,2,19940405,2331, -2.6132, -36.2023, 3705,    708.3,   4.9199,  34.4745,2,  34.4730,2,    156.0,2,    159.7,2,    30.22,2,    33.32,2,     0.00,2,     2.21,2, -999.000,9, -999.000,9, -999.000,9,   -999.0,9,   -999.0,9,  4.8629
     316N142_3,  AR15,     7,  1,     24,     24,2,19940405,2331, -2.6132, -36.2023, 3705,    788.5,   4.4276,  34.4694,2,  34.4679,2,    165.8,2,    165.7,2,    33.54,2,    33.48,2,     0.00,2,     2.22,2, -999.000,9, -999.000,9, -999.000,9,   -999.0,9,   -999.0,9,  4.3667
     316N142_3,  AR15,     7,  1,     23,     23,2,19940405,2331, -2.6132, -36.2023, 3705,    888.9,   4.3123,  34.5323,2,  34.5307,2,    159.8,2,    162.9,2,    34.45,2,    33.13,2,     0.00,2,     2.22,2, -999.000,9, -999.000,9, -999.000,9,   -999.0,9,   -999.0,9,  4.2436
     316N142_3,  AR15,     7,  1,     22,     22,2,19940405,2331, -2.6132, -36.2023, 3705,   1049.9,   4.3274,  34.6447,2,  34.6443,2,    167.6,2,    168.5,2,    32.38,2,    31.23,2,     0.00,2,     2.09,2, -999.000,9, -999.000,9, -999.000,9,   -999.0,9,   -999.0,9,  4.2447
     316N142_3,  AR15,     7,  1,     21,     21,2,19940405,2331, -2.6132, -36.2023, 3705,   1190.2,   4.4152,  34.7892,2,  34.7887,2,    182.6,2,    181.8,2,    27.68,2,    28.14,2,     0.00,2,     1.85,2, -999.000,9, -999.000,9, -999.000,9,   -999.0,9,   -999.0,9,  4.3191
     316N142_3,  AR15,     7,  1,     20,     20,2,19940405,2331, -2.6132, -36.2023, 3705,   1291.9,   4.4596,  34.9386,2,  34.9390,2,    213.8,2,    214.8,2,    20.80,2,    23.00,2,     0.00,2,     1.49,2, -999.000,9, -999.000,9, -999.000,9,   -999.0,9,   -999.0,9,  4.3537
     316N142_3,  AR15,     7,  1,     19,     19,2,19940405,2331, -2.6132, -36.2023, 3705,   1403.1,   4.3429,  34.9670,2,  34.9677,2,    227.2,2,    231.1,2,    19.07,2,    21.41,2,     0.00,2,     1.37,2, -999.000,9, -999.000,9, -999.000,9,   -999.0,9,   -999.0,9,  4.2278
     316N142_3,  AR15,     7,  1,     18,     18,2,19940405,2331, -2.6132, -36.2023, 3705,   1514.3,   4.2216,  34.9752,2,  34.9768,2,    236.9,2,    235.2,2,    18.38,2,    20.70,2,     0.00,2,     1.32,2, -999.000,9, -999.000,9, -999.000,9,   -999.0,9,   -999.0,9,  4.0976
     316N142_3,  AR15,     7,  1,     17,     17,2,19940405,2331, -2.6132, -36.2023, 3705,   1614.7,   4.1544,  34.9837,2,  34.9845,2,    242.4,2,    241.0,2,    17.69,2,    19.99,2,     0.00,2,     1.27,2, -999.000,9, -999.000,9, -999.000,9,   -999.0,9,   -999.0,9,  4.0217
     316N142_3,  AR15,     7,  1,     16,     16,2,19940405,2331, -2.6132, -36.2023, 3705,   1715.1,   4.0066,  34.9841,2,  34.9823,2,    247.2,2,    245.7,2,    17.69,2,    19.60,2,     0.00,2,     1.25,2, -999.000,9, -999.000,9, -999.000,9,   -999.0,9,   -999.0,9,  3.8664
     316N142_3,  AR15,     7,  1,     15,     15,2,19940405,2331, -2.6132, -36.2023, 3705,   1816.9,   3.8915,  34.9867,2,  34.9848,2,    253.2,2,    251.2,2,    17.45,2,    19.00,2,     0.00,2,     1.20,2, -999.000,9, -999.000,9, -999.000,9,   -999.0,9,   -999.0,9,  3.7431
     316N142_3,  AR15,     7,  1,     14,     14,2,19940405,2331, -2.6132, -36.2023, 3705,   1917.2,   3.6246,  34.9792,2,  34.9789,2,    256.6,2,    256.3,2,    18.59,2,    18.66,2,     0.00,2,     1.18,2, -999.000,9, -999.000,9, -999.000,9,   -999.0,9,   -999.0,9,  3.4705
     316N142_3,  AR15,     7,  1,     13,     13,2,19940405,2331, -2.6132, -36.2023, 3705,   2171.2,   3.3530,  34.9659,2,  34.9663,2,    257.2,2,    256.9,2,    21.45,2,    18.93,2,     0.00,2,     1.20,2, -999.000,9, -999.000,9, -999.000,9,   -999.0,9,   -999.0,9,  3.1788
     316N142_3,  AR15,     7,  1,     12,     12,2,19940405,2331, -2.6132, -36.2023, 3705,   2323.0,   3.1898,  34.9563,2,  34.9561,2,    256.6,2,    257.0,2,    23.39,2,    19.08,2,     0.00,2,     1.21,2, -999.000,9, -999.000,9, -999.000,9,   -999.0,9,   -999.0,9,  3.0038
     316N142_3,  AR15,     7,  1,     11,     11,2,19940405,2331, -2.6132, -36.2023, 3705,   2475.7,   3.0610,  34.9497,2,  34.9477,2,    256.9,2,    256.2,2,    25.56,2,    19.35,2,     0.00,2,     1.23,2, -999.000,9, -999.000,9, -999.000,9,   -999.0,9,   -999.0,9,  2.8623
     316N142_3,  AR15,     7,  1,     10,     10,2,19940405,2331, -2.6132, -36.2023, 3705,   2627.4,   2.9646,  34.9453,2,  34.9435,2,    256.1,2,    258.2,2,    25.67,2,    19.18,2,     0.00,2,     1.21,2, -999.000,9, -999.000,9, -999.000,9,   -999.0,9,   -999.0,9,  2.7527
     316N142_3,  AR15,     7,  1,      9,      9,3,19940405,2331, -2.6132, -36.2023, 3705,   2779.9,   2.8552,  34.9367,2,  34.9557,4,    255.6,2,    226.2,4,    24.30,4,    21.01,4,     0.00,4,     1.35,4, -999.000,9, -999.000,9, -999.000,9,   -999.0,9,   -999.0,9,  2.6302
     316N142_3,  AR15,     7,  1,      8,      8,2,19940405,2331, -2.6132, -36.2023, 3705,   2905.2,   2.7534,  34.9268,2,  34.9260,2,    254.3,2,    303.3,4,    31.73,2,    20.14,2,     0.00,2,     1.29,2, -999.000,9, -999.000,9, -999.000,9,   -999.0,9,   -999.0,9,  2.5178
     316N142_3,  AR15,     7,  1,      7,      7,2,19940405,2331, -2.6132, -36.2023, 3705,   3032.5,   2.7469,  34.9301,2,  34.9321,2,    251.2,2,    257.7,2,    29.32,2,    19.53,2,     0.00,2,     1.24,2, -999.000,9, -999.000,9, -999.000,9,   -999.0,9,   -999.0,9,  2.4982
     316N142_3,  AR15,     7,  1,      6,      6,2,19940405,2331, -2.6132, -36.2023, 3705,   3184.1,   2.7022,  34.9288,2,  34.9278,2,    259.1,2,    260.0,2,    28.98,2,    19.36,2,     0.00,2,     1.23,2, -999.000,9, -999.000,9, -999.000,9,   -999.0,9,   -999.0,9,  2.4387
     316N142_3,  AR15,     7,  1,      5,      5,2,19940405,2331, -2.6132, -36.2023, 3705,   3337.9,   2.6008,  34.9182,2,  34.9195,2,    257.4,2,    256.8,2,    32.52,2,    20.01,2,     0.00,2,     1.27,2, -999.000,9, -999.000,9, -999.000,9,   -999.0,9,   -999.0,9,  2.3234
     316N142_3,  AR15,     7,  1,      4,      4,2,19940405,2331, -2.6132, -36.2023, 3705,   3440.3,   2.5620,  34.9162,2,  34.9146,2,    257.7,2,    257.7,2,    32.63,2,    19.84,2,     0.00,2,     1.26,2, -999.000,9, -999.000,9, -999.000,9,   -999.0,9,   -999.0,9,  2.2745
     316N142_3,  AR15,     7,  1,      3,      3,2,19940405,2331, -2.6132, -36.2023, 3705,   3542.3,   2.5316,  34.9152,2,  34.9146,2,    258.8,2,    259.3,2,    31.71,2,    19.56,2,     0.00,2,     1.24,2, -999.000,9, -999.000,9, -999.000,9,   -999.0,9,   -999.0,9,  2.2337
     316N142_3,  AR15,     7,  1,      2,      2,2,19940405,2331, -2.6132, -36.2023, 3705,   3654.0,   2.4176,  34.9076,2,  34.9061,2,    260.3,2,    117.0,4,    33.07,2,    19.50,2,     0.00,2,     1.25,2, -999.000,9, -999.000,9, -999.000,9,   -999.0,9,   -999.0,9,  2.1105
     316N142_3,  AR15,     7,  1,      1,      1,2,19940405,2331, -2.6132, -36.2023, 3705,   3752.8,   2.4183,  34.9069,2,  34.9063,2,    259.3,2,    259.9,2,    33.30,2,    19.49,2,     0.00,2,     1.25,2, -999.000,9, -999.000,9, -999.000,9,   -999.0,9,   -999.0,9,  2.1002