BOTTLE,20020814WHPSIOKJU
EXPOCODE,SECT_ID,STNNBR,CASTNO,SAMPNO,BTLNBR,BTLNBR_FLAG_W,DATE,TIME,LATITUDE,LONGITUDE,DEPTH,CTDPRS,CTDTMP,CTDSAL,CTDSAL_FLAG_W,SALNTY,SALNTY_FLAG_W,CTDOXY,CTDOXY_FLAG_W,OXYGEN,OXYGEN_FLAG_W,SILCAT,SILCAT_FLAG_W,NITRAT,NITRAT_FLAG_W,NITRIT,NITRIT_FLAG_W,PHSPHT,PHSPHT_FLAG_W,CFC-11,CFC-11_FLAG_W,CFC-12,CFC-12_FLAG_W,CCL4,CCL4_FLAG_W,TCARBN,TCARBN_FLAG_W,ALKALI,ALKALI_FLAG_W,THETA
,,,,,,,,,,,,DBAR,ITS-90,PSS-78,,PSS-78,,UMOL/KG,,UMOL/KG,,UMOL/KG,,UMOL/KG,,UMOL/KG,,UMOL/KG,,PMOL/KG,,PMOL/KG,,PMOL/KG,,UMOL/KG,,UMOL/KG,,DEG C
     316N142_3,  AR15,   131,  1,     39,     39,2,19940514,1648,-17.5652, -29.0025, 5044,     11.4,  26.7466,  37.3249,2,  37.3252,2,    201.7,2,    202.3,2,     1.76,2,     0.04,2,     0.01,2,     0.17,2, -999.000,9, -999.000,9, -999.000,9,   -999.0,9,   -999.0,9, 26.7439
     316N142_3,  AR15,   131,  1,     35,     35,2,19940514,1648,-17.5652, -29.0025, 5044,    101.6,  24.2096,  36.8963,2,  36.8890,2,    218.3,2,    219.0,2,     1.75,2,     0.00,2,     0.00,2,     0.19,2, -999.000,9, -999.000,9, -999.000,9,   -999.0,9,   -999.0,9, 24.1879
     316N142_3,  AR15,   131,  1,     38,     38,2,19940514,1648,-17.5652, -29.0025, 5044,    177.6,  19.9028,  36.2584,2,  36.2696,2,    206.3,2,    200.3,2,     2.05,2,     0.64,2,     0.13,2,     0.33,2, -999.000,9, -999.000,9, -999.000,9,   -999.0,9,   -999.0,9, 19.8699
     316N142_3,  AR15,   131,  1,     33,     33,2,19940514,1648,-17.5652, -29.0025, 5044,    267.9,  15.0106,  35.4571,2,  35.4504,2,    186.6,2,    183.9,2,     4.34,2,     9.22,2,     0.00,2,     0.76,2, -999.000,9, -999.000,9, -999.000,9,   -999.0,9,   -999.0,9, 14.9698
     316N142_3,  AR15,   131,  1,     41,     41,2,19940514,1648,-17.5652, -29.0025, 5044,    356.2,  12.1364,  35.0714,2,  35.0729,2,    160.7,2,    161.0,2,     7.71,2,    17.15,2,     0.00,2,     1.22,2, -999.000,9, -999.000,9, -999.000,9,   -999.0,9,   -999.0,9, 12.0893
     316N142_3,  AR15,   131,  1,     31,     31,2,19940514,1648,-17.5652, -29.0025, 5044,    456.8,   8.8344,  34.7253,2,  34.7286,2,    149.2,2,    145.5,2,    14.62,2,    25.82,2,     0.00,2,     1.76,2, -999.000,9, -999.000,9, -999.000,9,   -999.0,9,   -999.0,9,  8.7848
     316N142_3,  AR15,   131,  1,     37,     37,2,19940514,1648,-17.5652, -29.0025, 5044,    558.4,   6.4443,  34.5228,2,  34.5214,2,    159.5,2,    158.4,2,    21.22,2,    29.80,2,     0.00,2,     2.04,2, -999.000,9, -999.000,9, -999.000,9,   -999.0,9,   -999.0,9,  6.3934
     316N142_3,  AR15,   131,  1,     29,     29,2,19940514,1648,-17.5652, -29.0025, 5044,    647.2,   5.2427,  34.4434,2,  34.4422,2,    170.7,2,    168.7,2,    26.61,2,    31.37,2,     0.00,2,     2.16,2, -999.000,9, -999.000,9, -999.000,9,   -999.0,9,   -999.0,9,  5.1893
     316N142_3,  AR15,   131,  1,     28,     28,2,19940514,1648,-17.5652, -29.0025, 5044,    738.2,   4.4098,  34.4136,2,  34.4118,2,    177.2,2,    178.7,2,    32.15,2,    31.95,2,     0.00,2,     2.22,2, -999.000,9, -999.000,9, -999.000,9,   -999.0,9,   -999.0,9,  4.3531
     316N142_3,  AR15,   131,  1,     27,     27,2,19940514,1648,-17.5652, -29.0025, 5044,    860.9,   3.9242,  34.4432,2,  34.4428,2,    177.8,2,    180.3,2,    37.24,2,    32.22,2,     0.00,2,     2.25,2, -999.000,9, -999.000,9, -999.000,9,   -999.0,9,   -999.0,9,  3.8606
     316N142_3,  AR15,   131,  1,     26,     26,2,19940514,1648,-17.5652, -29.0025, 5044,    990.4,   3.7186,  34.5143,2,  34.5147,2,    178.9,2,    181.9,2,    39.25,2,    31.64,2,     0.00,2,     2.22,2, -999.000,9, -999.000,9, -999.000,9,   -999.0,9,   -999.0,9,  3.6459
     316N142_3,  AR15,   131,  1,     25,     25,2,19940514,1648,-17.5652, -29.0025, 5044,   1120.8,   3.7872,  34.6300,2,  34.6291,2,    181.6,2,    183.3,2,    36.92,2,    30.08,2,     0.00,2,     2.10,2, -999.000,9, -999.000,9, -999.000,9,   -999.0,9,   -999.0,9,  3.7030
     316N142_3,  AR15,   131,  1,     24,     24,2,19940514,1648,-17.5652, -29.0025, 5044,   1253.4,   3.8994,  34.7335,2,  34.7336,2,    189.3,2,    191.9,2,    32.89,2,    28.15,2,     0.00,2,     1.95,2, -999.000,9, -999.000,9, -999.000,9,   -999.0,9,   -999.0,9,  3.8027
     316N142_3,  AR15,   131,  1,     23,     23,2,19940514,1648,-17.5652, -29.0025, 5044,   1425.8,   3.8231,  34.8303,2,  34.8312,2,    206.8,2,    208.4,2,    29.64,2,    25.32,2,     0.00,2,     1.76,2, -999.000,9, -999.000,9, -999.000,9,   -999.0,9,   -999.0,9,  3.7118
     316N142_3,  AR15,   131,  1,     22,     22,2,19940514,1648,-17.5652, -29.0025, 5044,   1598.0,   3.6325,  34.8928,2,  34.8932,2,    224.7,2,    227.4,2,    27.47,2,    22.82,2,     0.00,2,     1.57,2, -999.000,9, -999.000,9, -999.000,9,   -999.0,9,   -999.0,9,  3.5079
     316N142_3,  AR15,   131,  1,     21,     21,2,19940514,1648,-17.5652, -29.0025, 5044,   1770.5,   3.4045,  34.9142,2,  34.9135,2,    238.5,2,    236.9,2,    27.77,2,    21.77,2,     0.00,2,     1.49,2, -999.000,9, -999.000,9, -999.000,9,   -999.0,9,   -999.0,9,  3.2672
     316N142_3,  AR15,   131,  1,     20,     20,2,19940514,1648,-17.5652, -29.0025, 5044,   1942.0,   3.1916,  34.9175,2,  34.9162,2,    242.5,2,    241.8,2,    29.92,2,    21.46,2,     0.00,2,     1.47,2, -999.000,9, -999.000,9, -999.000,9,   -999.0,9,   -999.0,9,  3.0416
     316N142_3,  AR15,   131,  1,     19,     19,2,19940514,1648,-17.5652, -29.0025, 5044,   2114.4,   3.0632,  34.9184,2,  34.9178,2,    245.8,2,    244.0,2,    31.30,2,    21.26,2,     0.00,2,     1.45,2, -999.000,9, -999.000,9, -999.000,9,   -999.0,9,   -999.0,9,  2.8992
     316N142_3,  AR15,   131,  1,     40,     40,2,19940514,1648,-17.5652, -29.0025, 5044,   2297.1,   2.9651,  34.9183,2,  34.9186,2,    247.1,2,    245.7,2,    32.69,2,    21.21,2,     0.00,2,     1.44,2, -999.000,9, -999.000,9, -999.000,9,   -999.0,9,   -999.0,9,  2.7855
     316N142_3,  AR15,   131,  1,     17,     17,2,19940514,1648,-17.5652, -29.0025, 5044,   2438.7,   2.9132,  34.9198,2,  34.9191,2,    248.6,2,    247.2,2,    32.83,2,    21.00,2,     0.00,2,     1.43,2, -999.000,9, -999.000,9, -999.000,9,   -999.0,9,   -999.0,9,  2.7209
     316N142_3,  AR15,   131,  1,     16,     16,2,19940514,1648,-17.5652, -29.0025, 5044,   2580.8,   2.8498,  34.9165,2,  34.9166,2,    247.6,2,    247.2,2,    34.22,2,    21.11,2,     0.00,2,     1.44,2, -999.000,9, -999.000,9, -999.000,9,   -999.0,9,   -999.0,9,  2.6448
     316N142_3,  AR15,   131,  1,     15,     15,2,19940514,1648,-17.5652, -29.0025, 5044,   2757.3,   2.7839,  34.9126,2,  34.9123,2,    248.6,2,    247.5,2,    35.76,2,    21.16,2,     0.00,2,     1.45,2, -999.000,9, -999.000,9, -999.000,9,   -999.0,9,   -999.0,9,  2.5627
     316N142_3,  AR15,   131,  1,     14,     14,2,19940514,1648,-17.5652, -29.0025, 5044,   2937.9,   2.7279,  34.9093,2,  34.9083,2,    246.9,2,    246.9,2,    37.30,2,    21.32,2,     0.00,2,     1.45,2, -999.000,9, -999.000,9, -999.000,9,   -999.0,9,   -999.0,9,  2.4895
     316N142_3,  AR15,   131,  1,     13,     13,2,19940514,1648,-17.5652, -29.0025, 5044,   3115.6,   2.6794,  34.9081,2,  34.9069,2,    247.2,2,    248.1,2,    37.60,2,    21.17,2,     0.00,2,     1.45,2, -999.000,9, -999.000,9, -999.000,9,   -999.0,9,   -999.0,9,  2.4237
     316N142_3,  AR15,   131,  1,     12,     12,2,19940514,1648,-17.5652, -29.0025, 5044,   3294.7,   2.6213,  34.9050,2,  34.9048,2,    248.5,2,    249.0,2,    38.06,2,    21.06,2,     0.00,2,     1.45,2, -999.000,9, -999.000,9, -999.000,9,   -999.0,9,   -999.0,9,  2.3481
     316N142_3,  AR15,   131,  1,     11,     11,2,19940514,1648,-17.5652, -29.0025, 5044,   3472.3,   2.5258,  34.8986,2,  34.8989,2,    250.0,2,    249.3,2,    40.07,2,    21.17,2,     0.00,2,     1.45,2, -999.000,9, -999.000,9, -999.000,9,   -999.0,9,   -999.0,9,  2.2358
     316N142_3,  AR15,   131,  1,     10,     10,2,19940514,1648,-17.5652, -29.0025, 5044,   3647.8,   2.3835,  34.8857,2,  34.8857,2,    248.7,2,    249.4,2,    44.09,2,    21.65,2,     0.00,2,     1.49,2, -999.000,9, -999.000,9, -999.000,9,   -999.0,9,   -999.0,9,  2.0780
     316N142_3,  AR15,   131,  1,      9,      9,2,19940514,1648,-17.5652, -29.0025, 5044,   3827.8,   2.1681,  34.8636,2,  34.8633,2,    246.1,2,    246.1,2,    52.33,2,    22.75,2,     0.00,2,     1.57,2, -999.000,9, -999.000,9, -999.000,9,   -999.0,9,   -999.0,9,  1.8486
     316N142_3,  AR15,   131,  1,      8,      8,2,19940514,1648,-17.5652, -29.0025, 5044,   3982.2,   1.9808,  34.8487,2,  34.8478,2,    246.3,2,    246.0,2,    57.01,2,    23.17,2,     0.00,2,     1.61,2, -999.000,9, -999.000,9, -999.000,9,   -999.0,9,   -999.0,9,  1.6493
     316N142_3,  AR15,   131,  1,      7,      7,2,19940514,1648,-17.5652, -29.0025, 5044,   4138.2,   1.7776,  34.8264,2,  34.8262,2,    242.7,2,    242.5,2,    65.31,2,    24.38,2,     0.00,2,     1.69,2, -999.000,9, -999.000,9, -999.000,9,   -999.0,9,   -999.0,9,  1.4346
     316N142_3,  AR15,   131,  1,      6,      6,2,19940514,1648,-17.5652, -29.0025, 5044,   4316.9,   1.5271,  34.7982,2,  34.7981,2,    237.4,2,    237.4,2,    76.35,2,    26.01,2,     0.00,2,     1.80,2, -999.000,9, -999.000,9, -999.000,9,   -999.0,9,   -999.0,9,  1.1714
     316N142_3,  AR15,   131,  1,      5,      5,2,19940514,1648,-17.5652, -29.0025, 5044,   4521.8,   1.3041,  34.7731,2,  34.7722,2,    232.7,2,    233.0,2,    85.88,2,    27.37,2,     0.00,2,     1.91,2, -999.000,9, -999.000,9, -999.000,9,   -999.0,9,   -999.0,9,  0.9321
     316N142_3,  AR15,   131,  1,      4,      4,2,19940514,1648,-17.5652, -29.0025, 5044,   4726.5,   1.0344,  34.7430,2,  34.7428,2,    229.2,2,    228.5,2,    97.90,2,    28.95,2,     0.00,2,     2.02,2, -999.000,9,    0.009,2,    0.348,2,   -999.0,9,   -999.0,9,  0.6476
     316N142_3,  AR15,   131,  1,      3,      3,2,19940514,1648,-17.5652, -29.0025, 5044,   4880.3,   0.6932,  34.7082,2,  34.7066,2,    224.3,2,    223.8,2,   112.18,2,    30.90,2,     0.00,2,     2.15,2, -999.000,9, -999.000,9, -999.000,9,   -999.0,9,   -999.0,9,  0.3002
     316N142_3,  AR15,   131,  1,      2,      2,2,19940514,1648,-17.5652, -29.0025, 5044,   5035.3,   0.4324,  34.6826,2,  34.6821,2,    222.3,2,    221.7,2,   122.87,2,    32.05,2,     0.00,2,     2.24,2, -999.000,9,    0.047,2,    0.339,2,   -999.0,9,   -999.0,9,  0.0305
     316N142_3,  AR15,   131,  1,      1,      1,2,19940514,1648,-17.5652, -29.0025, 5044,   5159.6,   0.4125,  34.6796,2,  34.6790,2,    221.4,2,    221.6,2,   123.86,2,    32.11,2,     0.00,2,     2.25,2, -999.000,9,    0.044,2,    0.555,2,   -999.0,9,   -999.0,9, -0.0032