BOTTLE,20020814WHPSIOKJU
EXPOCODE,SECT_ID,STNNBR,CASTNO,SAMPNO,BTLNBR,BTLNBR_FLAG_W,DATE,TIME,LATITUDE,LONGITUDE,DEPTH,CTDPRS,CTDTMP,CTDSAL,CTDSAL_FLAG_W,SALNTY,SALNTY_FLAG_W,CTDOXY,CTDOXY_FLAG_W,OXYGEN,OXYGEN_FLAG_W,SILCAT,SILCAT_FLAG_W,NITRAT,NITRAT_FLAG_W,NITRIT,NITRIT_FLAG_W,PHSPHT,PHSPHT_FLAG_W,CFC-11,CFC-11_FLAG_W,CFC-12,CFC-12_FLAG_W,CCL4,CCL4_FLAG_W,TCARBN,TCARBN_FLAG_W,ALKALI,ALKALI_FLAG_W,THETA
,,,,,,,,,,,,DBAR,ITS-90,PSS-78,,PSS-78,,UMOL/KG,,UMOL/KG,,UMOL/KG,,UMOL/KG,,UMOL/KG,,UMOL/KG,,PMOL/KG,,PMOL/KG,,PMOL/KG,,UMOL/KG,,UMOL/KG,,DEG C
     316N142_3,   A15,    74,  1,     39,     39,2,19940426,1423,-14.4508, -18.9998, 4285,      5.3,  26.4936,  37.0756,2,  37.0772,2,    199.9,2,    202.9,2,     2.56,2,     0.26,2,     0.01,2,     0.20,2,    1.747,2,    1.029,2,    2.199,2,   2076.8,2,   2425.2,2, 26.4924
     316N142_3,   A15,    74,  1,     35,     35,2,19940426,1423,-14.4508, -18.9998, 4285,     53.6,  26.3621,  37.0635,2,  37.0657,2,    205.2,2,    203.6,2,     2.26,2,     0.26,2,     0.00,2,     0.19,2,    1.772,6,    1.014,6,    2.157,6,   2076.3,2,   2428.0,2, 26.3499
     316N142_3,   A15,    74,  1,     38,     38,2,19940426,1423,-14.4508, -18.9998, 4285,     80.4,  23.6129,  36.6751,2,  36.6760,2,    225.7,2,    223.3,2,     2.10,2,     0.21,2,     0.00,2,     0.23,2,    1.962,2,    1.142,2,    1.472,2,   2075.2,2,   2403.9,2, 23.5960
     316N142_3,   A15,    74,  1,     33,     33,2,19940426,1423,-14.4508, -18.9998, 4285,    154.6,  18.6825,  36.0485,2,  36.0477,2,    205.7,2,    194.1,2,     2.88,2,     3.80,2,     0.15,2,     0.55,2,    2.253,2,    1.252,2,    1.021,2,   2106.9,2,   2361.2,2, 18.6551
     316N142_3,   A15,    74,  1,     41,     41,2,19940426,1423,-14.4508, -18.9998, 4285,    230.7,  14.0217,  35.3769,2,  35.3814,2,    146.6,2,    138.6,2,     6.74,2,    16.58,2,     0.01,2,     1.20,2,    1.814,2,    0.977,2,    0.415,2,   2155.3,2,   2320.9,2, 13.9882
     316N142_3,   A15,    74,  1,     31,     31,2,19940426,1423,-14.4508, -18.9998, 4285,    326.0,  10.1308,  34.9067,2,  34.9070,2,    102.3,2,     96.9,2,    13.69,2,    28.24,2,     0.00,2,     1.89,2,    0.695,6,    0.359,6,    0.341,6,   2208.3,2,   2294.2,2, 10.0924
     316N142_3,   A15,    74,  1,     37,     37,2,19940426,1423,-14.4508, -18.9998, 4285,    427.1,   7.7508,  34.6670,2,  34.6674,2,    122.8,2,    120.9,2,    18.65,2,    30.92,2,     0.00,2,     2.09,2,    0.303,2,    0.155,2,    0.354,2,   2208.1,2,   2293.9,2,  7.7080
     316N142_3,   A15,    74,  1,     29,     29,2,19940426,1423,-14.4508, -18.9998, 4285,    527.0,   6.2003,  34.5300,2,  34.5303,2,    137.9,2,    139.9,2,    23.35,2,    32.41,2,     0.00,2,     2.20,2,    0.143,2,    0.091,2,    0.438,2,   2211.3,2,   2290.4,2,  6.1533
     316N142_3,   A15,    74,  1,     28,     28,2,19940426,1423,-14.4508, -18.9998, 4285,    627.1,   5.1778,  34.4579,2,  34.4581,2,    154.2,2,    156.1,2,    28.06,2,    32.94,2,     0.00,2,     2.27,2,    0.131,2,    0.073,2,    0.442,2,   2211.8,2,   2291.6,2,  5.1264
     316N142_3,   A15,    74,  1,     27,     27,2,19940426,1423,-14.4508, -18.9998, 4285,    727.4,   4.6444,  34.4406,2,  34.4424,2,    159.8,2,    162.7,2,    31.71,2,    33.28,2,     0.00,2,     2.31,2,    0.111,2,    0.051,2,    0.336,2,   2215.7,2,   2296.3,2,  4.5873
     316N142_3,   A15,    74,  1,     26,     26,2,19940426,1423,-14.4508, -18.9998, 4285,    827.8,   4.2523,  34.4591,2,  34.4607,2,    162.8,2,    165.3,2,    35.22,2,    33.49,2,     0.00,2,     2.33,2,    0.102,2,    0.025,2,    0.285,2,   2220.2,2,   2300.2,2,  4.1891
     316N142_3,   A15,    74,  1,     25,     25,2,19940426,1423,-14.4508, -18.9998, 4285,    928.1,   3.9645,  34.4996,2,  34.5000,2,    170.2,2,    170.1,2,    37.93,2,    33.00,2,     0.00,2,     2.31,2, -999.000,9, -999.000,9, -999.000,9,   2220.6,2,   2304.6,2,  3.8950
     316N142_3,   A15,    74,  1,     24,     24,2,19940426,1423,-14.4508, -18.9998, 4285,   1049.2,   3.8510,  34.5830,2,  34.5826,2,    175.1,2,    174.8,2,    38.05,2,    31.82,2,     0.00,2,     2.22,2, -999.000,9, -999.000,9, -999.000,9,   2216.4,2,   2308.6,2,  3.7723
     316N142_3,   A15,    74,  1,     23,     23,2,19940426,1423,-14.4508, -18.9998, 4285,   1175.0,   3.8804,  34.6871,2,  34.6889,2,    181.2,2,    183.7,2,    35.18,2,    29.76,2,     0.00,2,     2.08,2,    0.023,4,    0.004,2,    0.065,2,   2211.8,2,   2311.4,2,  3.7907
     316N142_3,   A15,    74,  1,     22,     22,9,19940426,1423,-14.4508, -18.9998, 4285,   1322.3,   3.9835,  34.8045,2,-999.0000,9,    194.2,2,   -999.0,9,  -999.00,9,  -999.00,9,  -999.00,9,  -999.00,9, -999.000,9, -999.000,9, -999.000,9,   -999.0,9,   -999.0,9,  3.8798
     316N142_3,   A15,    74,  1,     21,     21,2,19940426,1423,-14.4508, -18.9998, 4285,   1404.1,   3.9488,  34.8407,2,  34.8407,2,    204.2,2,    206.3,2,    28.64,2,    25.66,2,     0.00,2,     1.78,2, -999.000,9,    0.006,2,    0.041,2,   2193.9,2,   2314.4,2,  3.8381
     316N142_3,   A15,    74,  1,     20,     20,2,19940426,1423,-14.4508, -18.9998, 4285,   1506.1,   3.8772,  34.8849,2,  34.8852,2,    214.9,2,    217.8,2,    26.59,2,    23.94,2,     0.00,2,     1.67,2, -999.000,9, -999.000,9, -999.000,9,   -999.0,9,   -999.0,9,  3.7581
     316N142_3,   A15,    74,  1,     19,     19,2,19940426,1423,-14.4508, -18.9998, 4285,   1605.2,   3.7758,  34.9052,2,  34.9071,2,    225.1,2,    226.1,2,    25.90,2,    22.90,2,     0.00,2,     1.59,2, -999.000,9,    0.012,2,    0.043,2,   2181.2,2,   2315.4,2,  3.6488
     316N142_3,   A15,    74,  1,     40,     40,2,19940426,1423,-14.4508, -18.9998, 4285,   1783.1,   3.4908,  34.9190,2,  34.9217,2,    236.4,2,    235.7,2,    27.24,2,    21.86,2,     0.00,2,     1.52,2, -999.000,9, -999.000,9, -999.000,9,   -999.0,9,   -999.0,9,  3.3511
     316N142_3,   A15,    74,  1,     17,     17,2,19940426,1423,-14.4508, -18.9998, 4285,   1860.2,   3.3944,  34.9204,2,  34.9209,2,    238.3,2,    238.3,2,    28.17,2,    21.70,2,     0.00,2,     1.51,2, -999.000,9,    0.010,2,    0.044,2,   2174.6,2,   2319.8,2,  3.2490
     316N142_3,   A15,    74,  1,     16,     16,2,19940426,1423,-14.4508, -18.9998, 4285,   1986.8,   3.2548,  34.9197,2,  34.9192,2,    241.1,2,    240.6,2,    29.79,2,    21.62,2,     0.00,2,     1.50,2, -999.000,9, -999.000,9, -999.000,9,   -999.0,9,   -999.0,9,  3.0997
     316N142_3,   A15,    74,  1,     15,     15,2,19940426,1423,-14.4508, -18.9998, 4285,   2115.4,   3.0991,  34.9146,2,  34.9147,2,    242.9,2,    241.4,2,    32.50,2,    21.77,2,     0.00,2,     1.51,2, -999.000,9,    0.003,2,    0.055,2,   2179.9,2,   2323.9,2,  2.9344
     316N142_3,   A15,    74,  1,     14,     14,2,19940426,1423,-14.4508, -18.9998, 4285,   2241.8,   2.9627,  34.9094,2,  34.9093,2,    241.1,2,    241.9,2,    34.95,2,    21.83,2,     0.00,2,     1.51,2, -999.000,9, -999.000,9, -999.000,9,   -999.0,9,   -999.0,9,  2.7884
     316N142_3,   A15,    74,  1,     13,     13,2,19940426,1423,-14.4508, -18.9998, 4285,   2417.8,   2.8383,  34.9030,2,  34.9030,2,    241.8,2,    242.0,2,    37.81,2,    22.02,2,     0.00,2,     1.53,2, -999.000,9, -999.000,9, -999.000,9,   2186.2,2,   2329.7,2,  2.6494
     316N142_3,   A15,    74,  1,     12,     12,2,19940426,1423,-14.4508, -18.9998, 4285,   2621.1,   2.7360,  34.8992,2,  34.8993,2,    241.9,2,    241.9,2,    40.13,2,    22.13,2,     0.00,2,     1.53,2, -999.000,9, -999.000,9, -999.000,9,   -999.0,9,   -999.0,9,  2.5293
     316N142_3,   A15,    74,  1,     11,     11,2,19940426,1423,-14.4508, -18.9998, 4285,   2826.1,   2.6883,  34.8974,2,  34.8994,2,    241.4,2,    241.6,2,    41.49,2,    22.19,2,     0.00,2,     1.54,2, -999.000,9,    0.015,2,    0.023,2,   2189.8,2,   2333.8,2,  2.4622
     316N142_3,   A15,    74,  1,     10,     10,2,19940426,1423,-14.4508, -18.9998, 4285,   3028.9,   2.6333,  34.8943,2,  34.8937,2,    241.6,2,    242.0,2,    43.13,2,    22.34,2,     0.00,2,     1.56,2, -999.000,9, -999.000,9, -999.000,9,   -999.0,9,   -999.0,9,  2.3877
     316N142_3,   A15,    74,  1,      9,      9,2,19940426,1423,-14.4508, -18.9998, 4285,   3231.4,   2.5887,  34.8945,2,  34.8947,2,    243.4,2,    243.9,2,    43.40,2,    22.22,2,     0.00,2,     1.55,2, -999.000,9, -999.000,9, -999.000,9,   2190.5,2,   2334.5,2,  2.3230
     316N142_3,   A15,    74,  1,      8,      8,2,19940426,1423,-14.4508, -18.9998, 4285,   3433.9,   2.4881,  34.8886,2,  34.8883,2,    244.0,2,    245.2,2,    45.46,2,    22.37,2,     0.00,2,     1.56,2, -999.000,9, -999.000,9, -999.000,9,   -999.0,9,   -999.0,9,  2.2032
     316N142_3,   A15,    74,  1,      7,      7,2,19940426,1423,-14.4508, -18.9998, 4285,   3588.6,   2.3572,  34.8756,2,  34.8744,2,    244.0,2,    243.7,2,    50.57,2,    23.02,2,     0.00,2,     1.60,2, -999.000,9, -999.000,9, -999.000,9,   2187.1,2,   2339.1,2,  2.0589
     316N142_3,   A15,    74,  1,      6,      6,2,19940426,1423,-14.4508, -18.9998, 4285,   3741.5,   2.2075,  34.8632,2,  34.8636,2,    243.6,2,    243.8,2,    54.87,2,    23.50,2,     0.00,2,     1.63,2, -999.000,9,    0.006,2,    0.015,2,   -999.0,9,   -999.0,9,  1.8964
     316N142_3,   A15,    74,  1,      5,      5,2,19940426,1423,-14.4508, -18.9998, 4285,   3897.0,   1.9066,  34.8344,2,  34.8341,2,    240.6,2,    243.8,4,    65.76,2,    24.94,2,     0.00,2,     1.73,2, -999.000,9, -999.000,9, -999.000,9,   2197.6,2,   2346.5,2,  1.5868
     316N142_3,   A15,    74,  1,      4,      4,2,19940426,1423,-14.4508, -18.9998, 4285,   4049.9,   1.6025,  34.8040,2,  34.8031,2,    237.0,2,    236.6,2,    77.35,2,    26.48,2,     0.00,2,     1.83,2, -999.000,9, -999.000,9, -999.000,9,   -999.0,9,   -999.0,9,  1.2745
     316N142_3,   A15,    74,  1,      3,      3,2,19940426,1423,-14.4508, -18.9998, 4285,   4203.4,   1.4878,  34.7917,2,  34.7908,2,    235.4,2,    235.0,2,    82.35,2,    27.05,2,     0.00,2,     1.89,2, -999.000,9, -999.000,9, -999.000,9,   2226.8,2,   2355.4,2,  1.1461
     316N142_3,   A15,    74,  1,      2,      2,2,19940426,1423,-14.4508, -18.9998, 4285,   4357.1,   1.3160,  34.7740,2,  34.7737,2,    233.2,2,    233.6,2,    89.11,2,    27.86,2,     0.00,2,     1.94,2, -999.000,9, -999.000,9, -999.000,9,   -999.0,9,   -999.0,9,  0.9623
     316N142_3,   A15,    74,  1,      1,      1,2,19940426,1423,-14.4508, -18.9998, 4285,   4472.2,   1.2939,  34.7709,2,  34.7704,2,    232.7,2,    231.9,2,    90.28,2,    28.01,2,     0.00,2,     1.96,2, -999.000,9,    0.010,2,    0.096,2,   2235.5,2,   2358.6,2,  0.9279