BOTTLE,20020814WHPSIOKJU
EXPOCODE,SECT_ID,STNNBR,CASTNO,SAMPNO,BTLNBR,BTLNBR_FLAG_W,DATE,TIME,LATITUDE,LONGITUDE,DEPTH,CTDPRS,CTDTMP,CTDSAL,CTDSAL_FLAG_W,SALNTY,SALNTY_FLAG_W,CTDOXY,CTDOXY_FLAG_W,OXYGEN,OXYGEN_FLAG_W,SILCAT,SILCAT_FLAG_W,NITRAT,NITRAT_FLAG_W,NITRIT,NITRIT_FLAG_W,PHSPHT,PHSPHT_FLAG_W,CFC-11,CFC-11_FLAG_W,CFC-12,CFC-12_FLAG_W,CCL4,CCL4_FLAG_W,TCARBN,TCARBN_FLAG_W,ALKALI,ALKALI_FLAG_W,THETA
,,,,,,,,,,,,DBAR,ITS-90,PSS-78,,PSS-78,,UMOL/KG,,UMOL/KG,,UMOL/KG,,UMOL/KG,,UMOL/KG,,UMOL/KG,,PMOL/KG,,PMOL/KG,,PMOL/KG,,UMOL/KG,,UMOL/KG,,DEG C
     316N142_3,  AR15,     9,  1,     35,     35,2,19940406,0956, -1.9300, -35.9540, 3817,      4.6,  28.5632,  35.6285,2,  35.6468,2,    198.6,2,    199.7,2,     1.79,2,     0.06,2,     0.00,2,     0.15,2, -999.000,9, -999.000,9, -999.000,9,   1983.6,2,   2337.4,2, 28.5621
     316N142_3,  AR15,     9,  1,     39,     39,2,19940406,0956, -1.9300, -35.9540, 3817,      4.8,  28.5613,  35.6304,2,  35.6370,2,    199.6,2,    199.6,2,    12.11,4,    26.49,4,     0.00,4,     1.87,4, -999.000,9, -999.000,9, -999.000,9,   -999.0,9,   -999.0,9, 28.5602
     316N142_3,  AR15,     9,  1,     38,     38,2,19940406,0956, -1.9300, -35.9540, 3817,     64.1,  26.9778,  36.3625,2,  36.3696,2,    209.8,2,    202.3,2,     1.67,2,     0.01,2,     0.00,2,     0.18,2, -999.000,9, -999.000,9, -999.000,9,   2038.1,2,   2385.3,2, 26.9630
     316N142_3,  AR15,     9,  1,     33,     33,2,19940406,0956, -1.9300, -35.9540, 3817,    105.3,  16.6597,  35.6319,4,  35.6859,2,   -999.0,5,    108.0,2,     6.13,2,    16.99,2,     0.07,2,     1.13,2, -999.000,9, -999.000,9, -999.000,9,   2161.7,2,   2339.4,2, 16.6425
     316N142_3,  AR15,     9,  1,     32,     32,2,19940406,0956, -1.9300, -35.9540, 3817,    155.4,  13.1610,  35.2963,2,  35.2961,2,     89.9,2,     90.7,2,     9.68,2,    23.86,2,     0.00,2,     1.52,2, -999.000,9, -999.000,9, -999.000,9,   2188.2,2,   2318.1,2, 13.1395
     316N142_3,  AR15,     9,  1,     31,     31,2,19940406,0956, -1.9300, -35.9540, 3817,    205.4,  12.3153,  35.1886,2,  35.1885,2,     95.2,2,     96.1,2,    10.59,2,    24.62,2,     0.00,2,     1.58,2, -999.000,9, -999.000,9, -999.000,9,   2190.2,2,   2315.2,2, 12.2879
     316N142_3,  AR15,     9,  1,     37,     37,2,19940406,0956, -1.9300, -35.9540, 3817,    255.5,  11.5077,  35.0974,2,  35.0913,2,     93.9,2,     91.7,2,    11.84,2,    26.46,3,     0.00,2,     1.83,3, -999.000,9, -999.000,9, -999.000,9,   2198.2,2,   2310.1,2, 11.4751
     316N142_3,  AR15,     9,  1,     29,     29,2,19940406,0956, -1.9300, -35.9540, 3817,    356.4,  10.1316,  34.9219,2,  34.9061,2,    101.2,2,    104.6,2,    14.13,2,    28.15,3,     0.00,2,     1.81,3, -999.000,9, -999.000,9, -999.000,9,   2199.6,2,   2303.7,2, 10.0896
     316N142_3,  AR15,     9,  1,     28,     28,2,19940406,0956, -1.9300, -35.9540, 3817,    407.0,   8.2726,  34.7050,2,  34.7055,2,    136.4,2,    143.9,2,    16.42,2,    27.52,3,     0.00,2,     1.84,3, -999.000,9, -999.000,9, -999.000,9,   -999.0,9,   2298.9,2,  8.2302
     316N142_3,  AR15,     9,  1,     27,     27,2,19940406,0956, -1.9300, -35.9540, 3817,    506.7,   7.1519,  34.6159,2,  34.6174,2,    138.4,2,    136.3,2,    20.19,2,    30.78,2,     0.00,2,     2.04,2, -999.000,9, -999.000,9, -999.000,9,   2200.1,2,   2297.2,2,  7.1031
     316N142_3,  AR15,     9,  1,     26,     26,2,19940406,0956, -1.9300, -35.9540, 3817,    607.1,   5.6753,  34.5062,2,  34.5057,2,    153.9,2,    150.8,2,    25.91,2,    32.43,2,     0.00,2,     2.21,2, -999.000,9, -999.000,9, -999.000,9,   2204.4,2,   2297.5,2,  5.6233
     316N142_3,  AR15,     9,  1,     25,     25,2,19940406,0956, -1.9300, -35.9540, 3817,    707.6,   5.3635,  34.5053,2,  34.5053,2,    146.8,2,    145.9,2,    28.08,2,    33.43,2,     0.00,2,     2.29,2, -999.000,9, -999.000,9, -999.000,9,   2212.2,2,   2298.6,2,  5.3041
     316N142_3,  AR15,     9,  1,     24,     24,2,19940406,0956, -1.9300, -35.9540, 3817,    808.1,   4.7060,  34.4849,2,  34.4849,2,    157.7,2,    160.9,2,    31.73,2,    32.90,2,     0.00,2,     2.27,2, -999.000,9, -999.000,9, -999.000,9,   2211.2,2,   2301.7,2,  4.6417
     316N142_3,  AR15,     9,  1,     23,     23,2,19940406,0956, -1.9300, -35.9540, 3817,    908.8,   4.3027,  34.5433,2,  34.5453,2,    166.2,2,    166.4,2,    33.89,2,    32.25,2,     0.00,2,     2.23,2, -999.000,9, -999.000,9, -999.000,9,   2213.5,2,   2307.8,2,  4.2324
     316N142_3,  AR15,     9,  1,     22,     22,2,19940406,0956, -1.9300, -35.9540, 3817,   1059.9,   4.4390,  34.6879,2,  34.6899,2,    170.8,2,    167.3,2,    30.56,2,    30.40,2,     0.00,2,     2.09,2, -999.000,9, -999.000,9, -999.000,9,   2211.8,2,   2312.2,2,  4.3545
     316N142_3,  AR15,     9,  1,     21,     21,3,19940406,0956, -1.9300, -35.9540, 3817,   1216.0,   4.5531,  34.8094,2,  34.8147,4,    187.6,2,   -999.0,9,    26.20,4,    27.27,4,     0.00,4,     1.87,4, -999.000,9, -999.000,9, -999.000,9,   -999.0,9,   -999.0,9,  4.4534
     316N142_3,  AR15,     9,  1,     20,     20,2,19940406,0956, -1.9300, -35.9540, 3817,   1362.8,   4.4065,  34.9588,2,  34.9603,2,    220.3,2,    224.2,2,    19.22,2,    21.63,2,     0.00,2,     1.44,2, -999.000,9, -999.000,9, -999.000,9,   2174.3,2,   2313.1,2,  4.2945
     316N142_3,  AR15,     9,  1,     19,     19,2,19940406,0956, -1.9300, -35.9540, 3817,   1514.4,   4.2316,  34.9739,2,  34.9758,2,    234.4,2,    234.9,2,    18.18,2,    20.51,2,     0.00,2,     1.36,2, -999.000,9, -999.000,9, -999.000,9,   2168.5,2,   2317.4,2,  4.1075
     316N142_3,  AR15,     9,  1,     18,     18,3,19940406,0956, -1.9300, -35.9540, 3817,   1665.3,   4.1207,  34.9835,2,  34.9705,4,    241.8,2,   -999.0,9,    17.49,4,    19.94,4,     0.00,4,     1.31,4, -999.000,9, -999.000,9, -999.000,9,   -999.0,9,   -999.0,9,  3.9837
     316N142_3,  AR15,     9,  1,     17,     17,2,19940406,0956, -1.9300, -35.9540, 3817,   1766.1,   4.0017,  34.9792,2,  34.9823,2,    245.1,2,    244.6,2,    17.94,2,    19.68,2,     0.00,2,     1.29,2, -999.000,9, -999.000,9, -999.000,9,   2164.6,2,   2317.1,2,  3.8567
     316N142_3,  AR15,     9,  1,     16,     16,2,19940406,0956, -1.9300, -35.9540, 3817,   1766.4,   4.0017,  34.9789,2,  34.9807,2,    245.1,2,    244.7,2,    17.93,2,    19.69,2,     0.00,2,     1.30,2, -999.000,9, -999.000,9, -999.000,9,   -999.0,9,   -999.0,9,  3.8567
     316N142_3,  AR15,     9,  1,     15,     15,2,19940406,0956, -1.9300, -35.9540, 3817,   1867.5,   3.8688,  34.9831,2,  34.9882,2,    249.4,2,    247.2,2,    17.58,2,    19.00,2,     0.00,2,     1.25,2, -999.000,9, -999.000,9, -999.000,9,   2161.2,2,   2316.8,2,  3.7159
     316N142_3,  AR15,     9,  1,     14,     14,2,19940406,0956, -1.9300, -35.9540, 3817,   1968.9,   3.7387,  34.9798,2,  34.9816,2,    254.0,2,    254.1,2,    18.14,2,    18.85,2,     0.00,2,     1.23,2, -999.000,9, -999.000,9, -999.000,9,   2161.8,2,   2316.6,2,  3.5780
     316N142_3,  AR15,     9,  1,     13,     13,2,19940406,0956, -1.9300, -35.9540, 3817,   2122.1,   3.5185,  34.9716,2,  34.9734,2,    256.2,2,    256.3,2,    19.62,2,    18.81,2,     0.00,2,     1.22,2, -999.000,9, -999.000,9, -999.000,9,   2161.9,2,   2314.7,2,  3.3464
     316N142_3,  AR15,     9,  1,     12,     12,2,19940406,0956, -1.9300, -35.9540, 3817,   2273.9,   3.3426,  34.9628,2,  34.9649,2,    256.8,2,    257.3,2,    21.44,2,    18.87,2,     0.00,2,     1.23,2, -999.000,9, -999.000,9, -999.000,9,   -999.0,9,   -999.0,9,  3.1586
     316N142_3,  AR15,     9,  1,     11,     11,2,19940406,0956, -1.9300, -35.9540, 3817,   2425.7,   3.1340,  34.9501,2,  34.9515,2,    255.6,2,    256.1,2,    24.63,2,    19.25,2,     0.00,2,     1.26,2, -999.000,9, -999.000,9, -999.000,9,   2168.8,2,   2320.2,2,  2.9389
     316N142_3,  AR15,     9,  1,     10,     10,2,19940406,0956, -1.9300, -35.9540, 3817,   2577.5,   2.9832,  34.9446,2,  34.9454,2,    255.2,2,    257.7,2,    25.77,2,    19.16,2,     0.00,2,     1.25,2, -999.000,9, -999.000,9, -999.000,9,   -999.0,9,   -999.0,9,  2.7759
     316N142_3,  AR15,     9,  1,      9,      9,2,19940406,0956, -1.9300, -35.9540, 3817,   2730.1,   2.8704,  34.9385,2,  34.9387,2,    258.3,2,    259.4,2,    26.45,2,    19.11,2,     0.00,2,     1.24,2, -999.000,9, -999.000,9, -999.000,9,   2166.0,2,   2324.3,2,  2.6501
     316N142_3,  AR15,     9,  1,      8,      8,2,19940406,0956, -1.9300, -35.9540, 3817,   2881.5,   2.7658,  34.9259,2,  34.9267,2,    255.1,2,    253.6,2,    31.69,2,    20.09,2,     0.00,2,     1.30,2, -999.000,9, -999.000,9, -999.000,9,   -999.0,9,   -999.0,9,  2.5324
     316N142_3,  AR15,     9,  1,      7,      7,2,19940406,0956, -1.9300, -35.9540, 3817,   3034.0,   2.6861,  34.9206,2,  34.9247,2,    254.4,2,    253.1,2,    32.48,2,    20.10,2,     0.00,2,     1.30,2, -999.000,9, -999.000,9, -999.000,9,   2177.7,2,   2331.8,2,  2.4387
     316N142_3,  AR15,     9,  1,      6,      6,2,19940406,0956, -1.9300, -35.9540, 3817,   3185.2,   2.6567,  34.9237,2,  34.9282,2,    259.8,2,    260.3,2,    29.39,2,    19.19,2,     0.00,2,     1.26,2, -999.000,9, -999.000,9, -999.000,9,   -999.0,9,   -999.0,9,  2.3941
     316N142_3,  AR15,     9,  1,      5,      5,2,19940406,0956, -1.9300, -35.9540, 3817,   3337.4,   2.6177,  34.9208,2,  34.9208,2,    260.7,2,    260.4,2,    30.07,2,    19.31,2,     0.00,2,     1.26,2, -999.000,9, -999.000,9, -999.000,9,   2172.3,2,   2328.5,2,  2.3399
     316N142_3,  AR15,     9,  1,      4,      4,2,19940406,0956, -1.9300, -35.9540, 3817,   3490.0,   2.5506,  34.9152,2,  34.9190,2,    260.8,2,    260.1,2,    31.65,2,    19.53,2,     0.00,2,     1.28,2, -999.000,9, -999.000,9, -999.000,9,   -999.0,9,   -999.0,9,  2.2580
     316N142_3,  AR15,     9,  1,      3,      3,2,19940406,0956, -1.9300, -35.9540, 3817,   3644.0,   2.4938,  34.9116,2,  34.9115,2,    262.0,2,    261.4,2,    31.87,2,    19.44,2,     0.00,2,     1.27,2, -999.000,9, -999.000,9, -999.000,9,   2170.6,2,   2329.0,2,  2.1858
     316N142_3,  AR15,     9,  1,      2,      2,2,19940406,0956, -1.9300, -35.9540, 3817,   3746.4,   2.4557,  34.9082,2,  34.9073,2,    262.3,2,    261.9,2,    32.44,2,    19.45,2,     0.00,2,     1.26,2,    0.022,2,    0.024,2,    0.374,2,   -999.0,9,   -999.0,9,  2.1373
     316N142_3,  AR15,     9,  1,      1,      1,2,19940406,0956, -1.9300, -35.9540, 3817,   3874.0,   2.1384,  34.8770,2,  34.8788,2,    256.3,3,    256.8,2,    43.38,2,    20.96,2,     0.00,2,     1.37,2,    0.105,2,    0.037,2,    0.419,2,   2184.7,2,   2338.7,2,  1.8144