BOTTLE,20020814WHPSIOKJU
EXPOCODE,SECT_ID,STNNBR,CASTNO,SAMPNO,BTLNBR,BTLNBR_FLAG_W,DATE,TIME,LATITUDE,LONGITUDE,DEPTH,CTDPRS,CTDTMP,CTDSAL,CTDSAL_FLAG_W,SALNTY,SALNTY_FLAG_W,CTDOXY,CTDOXY_FLAG_W,OXYGEN,OXYGEN_FLAG_W,SILCAT,SILCAT_FLAG_W,NITRAT,NITRAT_FLAG_W,NITRIT,NITRIT_FLAG_W,PHSPHT,PHSPHT_FLAG_W,CFC-11,CFC-11_FLAG_W,CFC-12,CFC-12_FLAG_W,CCL4,CCL4_FLAG_W,TCARBN,TCARBN_FLAG_W,ALKALI,ALKALI_FLAG_W,THETA
,,,,,,,,,,,,DBAR,ITS-90,PSS-78,,PSS-78,,UMOL/KG,,UMOL/KG,,UMOL/KG,,UMOL/KG,,UMOL/KG,,UMOL/KG,,PMOL/KG,,PMOL/KG,,PMOL/KG,,UMOL/KG,,UMOL/KG,,DEG C
     316N142_3,   A15,    45,  2,     39,     39,2,19940418,1359, -0.2823, -18.9990, 5115,      4.0,  28.1108,  36.0711,2,  36.0699,2,    221.1,2,    223.0,2,     1.87,2,     0.14,2,     0.00,2,     0.12,2,    1.755,2,    0.988,2,    1.223,2,   2010.5,2,   2357.6,2, 28.1099
     316N142_3,   A15,    45,  2,     42,     42,2,19940418,1359, -0.2823, -18.9990, 5115,     56.5,  24.1436,  36.3524,2,  36.3485,2,    218.1,2,    210.2,2,     1.98,2,     0.14,2,     0.00,2,     0.24,2, -999.000,9, -999.000,9, -999.000,9,   2065.4,2,   2378.3,2, 24.1316
     316N142_3,   A15,    45,  2,     38,     38,2,19940418,1359, -0.2823, -18.9990, 5115,    105.4,  14.1165,  35.4170,2,  35.4292,2,    165.9,2,    161.2,2,     6.77,2,    14.23,2,     0.02,2,     1.08,2,    1.616,2,    0.857,2,    0.593,2,   2142.1,2,   2322.9,2, 14.1012
     316N142_3,   A15,    45,  2,     33,     33,2,19940418,1359, -0.2823, -18.9990, 5115,    207.4,  12.8121,  35.2517,2,  35.2530,2,    125.8,2,    121.6,2,     9.42,2,    21.17,2,     0.01,2,     1.46,2,    1.239,2,    0.649,2,    0.387,2,   2171.3,2,   2311.9,2, 12.7838
     316N142_3,   A15,    45,  2,     41,     41,2,19940418,1359, -0.2823, -18.9990, 5115,    286.8,  10.1827,  34.9604,2,  34.9612,2,     83.2,2,     84.6,2,    14.61,2,    30.12,2,     0.00,2,     1.95,2,    0.503,2,    0.292,2,    0.362,2,   2212.5,2,   2296.8,2, 10.1489
     316N142_3,   A15,    45,  2,     31,     31,2,19940418,1359, -0.2823, -18.9990, 5115,    407.5,   8.2668,  34.7470,2,  34.7455,2,     96.4,2,    107.5,2,    18.07,2,    31.76,2,     0.00,2,     2.08,2,    0.360,2,    0.197,2,    0.403,2,   2207.7,2,   2293.0,2,  8.2243
     316N142_3,   A15,    45,  2,     37,     37,2,19940418,1359, -0.2823, -18.9990, 5115,    528.6,   6.8208,  34.6001,2,  34.6020,2,    124.0,2,    128.8,2,    21.65,2,    32.64,2,     0.00,2,     2.18,2,    0.333,2,    0.147,2,    0.472,2,   2210.0,2,   2286.9,2,  6.7712
     316N142_3,   A15,    45,  2,     29,     29,2,19940418,1359, -0.2823, -18.9990, 5115,    639.6,   5.7068,  34.5245,2,  34.5252,2,    134.6,2,    141.1,2,    26.18,2,    33.65,2,     0.00,2,     2.29,2,    0.220,2,    0.091,2,    0.480,2,   2212.2,2,   2289.7,2,  5.6517
     316N142_3,   A15,    45,  2,     28,     28,2,19940418,1359, -0.2823, -18.9990, 5115,    750.2,   5.1215,  34.4946,2,  34.4962,2,    147.6,2,    147.9,2,    29.23,2,    34.02,2,     0.00,2,     2.34,2,    0.066,4,    0.094,2,    0.510,2,   2214.4,2,   2291.7,2,  5.0597
     316N142_3,   A15,    45,  2,     27,     27,2,19940418,1359, -0.2823, -18.9990, 5115,    910.4,   4.4732,  34.5475,2,  34.5482,2,    155.8,2,    158.9,2,    32.95,2,    33.15,2,     0.00,2,     2.30,2, -999.000,9, -999.000,9, -999.000,9,   2214.5,2,   2297.8,2,  4.4016
     316N142_3,   A15,    45,  2,     26,     26,2,19940418,1359, -0.2823, -18.9990, 5115,   1062.3,   4.4718,  34.6834,2,  34.6844,2,    162.8,2,    164.0,2,    30.67,2,    31.24,2,     0.00,2,     2.16,2, -999.000,9, -999.000,9, -999.000,9,   2211.8,2,   2302.7,2,  4.3868
     316N142_3,   A15,    45,  2,     25,     25,2,19940418,1359, -0.2823, -18.9990, 5115,   1213.3,   4.4892,  34.7999,2,  34.8027,2,    174.3,2,    179.7,2,    27.05,2,    28.32,2,     0.00,2,     1.95,2,    0.076,4,    0.028,2,    0.221,2,   2195.7,2,   2306.0,2,  4.3904
     316N142_3,   A15,    45,  2,     24,     24,2,19940418,1359, -0.2823, -18.9990, 5115,   1364.9,   4.4839,  34.8809,2,  34.8825,2,    199.4,2,    198.2,2,    23.56,2,    25.40,2,     0.00,2,     1.76,2, -999.000,9, -999.000,9, -999.000,9,   -999.0,9,   -999.0,9,  4.3711
     316N142_3,   A15,    45,  2,     23,     23,2,19940418,1359, -0.2823, -18.9990, 5115,   1516.4,   4.2734,  34.9610,2,  34.9634,2,    228.0,2,    228.5,2,    19.41,2,    21.61,2,     0.00,2,     1.49,2, -999.000,9,    0.057,2,    0.435,2,   2172.9,2,   2308.7,2,  4.1486
     316N142_3,   A15,    45,  2,     22,     22,2,19940418,1359, -0.2823, -18.9990, 5115,   1669.0,   4.0064,  34.9779,2,  34.9801,2,    244.7,2,    243.7,2,    18.33,2,    20.02,2,     0.00,2,     1.38,2, -999.000,9,    0.055,2,    0.603,2,   -999.0,9,   -999.0,9,  3.8705
     316N142_3,   A15,    45,  2,     21,     21,2,19940418,1359, -0.2823, -18.9990, 5115,   1821.0,   3.7446,  34.9756,2,  34.9770,2,    251.1,2,    250.2,2,    19.24,2,    19.52,2,     0.00,2,     1.34,2, -999.000,9, -999.000,9, -999.000,9,   2162.7,2,   2311.0,2,  3.5978
     316N142_3,   A15,    45,  2,     20,     20,2,19940418,1359, -0.2823, -18.9990, 5115,   1972.8,   3.5199,  34.9643,2,  34.9658,2,    253.1,2,    250.5,2,    22.03,2,    19.80,2,     0.00,2,     1.36,2, -999.000,9,    0.031,2,    0.386,2,   -999.0,9,   -999.0,9,  3.3621
     316N142_3,   A15,    45,  2,     19,     19,2,19940418,1359, -0.2823, -18.9990, 5115,   2125.3,   3.3214,  34.9534,2,  34.9555,2,    251.2,2,    250.2,2,    24.95,2,    20.08,2,     0.00,2,     1.38,2, -999.000,9, -999.000,9, -999.000,9,   2167.5,2,   2314.9,2,  3.1521
     316N142_3,   A15,    45,  2,     40,     40,2,19940418,1359, -0.2823, -18.9990, 5115,   2327.1,   3.0981,  34.9407,2,  34.9421,2,    251.3,2,    254.2,4,    28.94,2,    20.44,2,     0.00,2,     1.41,2, -999.000,9, -999.000,9, -999.000,9,   -999.0,9,   -999.0,9,  2.9132
     316N142_3,   A15,    45,  2,     17,     17,2,19940418,1359, -0.2823, -18.9990, 5115,   2528.9,   2.9593,  34.9311,2,  34.9315,2,    248.0,2,    247.1,2,    32.40,2,    20.86,2,     0.00,2,     1.44,2, -999.000,9, -999.000,9, -999.000,9,   2177.6,2,   2320.8,2,  2.7574
     316N142_3,   A15,    45,  2,     16,     16,2,19940418,1359, -0.2823, -18.9990, 5115,   2731.8,   2.7816,  34.9178,2,  34.9183,2,    245.9,2,    282.5,4,    36.52,2,    21.41,2,     0.00,2,     1.47,2, -999.000,9, -999.000,9, -999.000,9,   -999.0,9,   -999.0,9,  2.5630
     316N142_3,   A15,    45,  2,     15,     15,2,19940418,1359, -0.2823, -18.9990, 5115,   2935.0,   2.6391,  34.9096,2,  34.9107,2,    246.5,2,    247.6,2,    38.51,2,    21.41,2,     0.00,2,     1.48,2, -999.000,9, -999.000,9, -999.000,9,   2184.5,2,   2328.2,2,  2.4029
     316N142_3,   A15,    45,  2,     14,     14,2,19940418,1359, -0.2823, -18.9990, 5115,   3138.2,   2.5751,  34.9064,2,  34.9071,2,    247.4,2,    247.7,2,    39.03,2,    21.32,2,     0.00,2,     1.48,2, -999.000,9, -999.000,9, -999.000,9,   -999.0,9,   -999.0,9,  2.3194
     316N142_3,   A15,    45,  2,     13,     13,2,19940418,1359, -0.2823, -18.9990, 5115,   3291.5,   2.5173,  34.9046,2,  34.9054,2,    249.7,2,    250.0,2,    38.62,2,    21.05,2,     0.00,2,     1.46,2, -999.000,9, -999.000,9, -999.000,9,   2183.9,2,   2328.0,2,  2.2468
     316N142_3,   A15,    45,  2,     12,     12,2,19940418,1359, -0.2823, -18.9990, 5115,   3446.2,   2.4584,  34.9024,2,  34.9024,2,    251.2,2,    253.2,2,    37.94,2,    20.73,2,     0.00,2,     1.44,2, -999.000,9, -999.000,9, -999.000,9,   -999.0,9,   -999.0,9,  2.1729
     316N142_3,   A15,    45,  2,     11,     11,2,19940418,1359, -0.2823, -18.9990, 5115,   3599.6,   2.4233,  34.9012,2,  34.9020,2,    255.1,2,    255.6,2,    36.99,2,    20.41,2,     0.00,2,     1.42,2, -999.000,9,    0.030,2,    0.260,2,   2180.6,2,   2324.7,2,  2.1220
     316N142_3,   A15,    45,  2,     10,     10,2,19940418,1359, -0.2823, -18.9990, 5115,   3751.8,   2.3386,  34.8951,2,  34.8961,2,    257.0,2,    257.6,2,    37.78,2,    20.32,2,     0.00,2,     1.42,2, -999.000,9,    0.050,2,    0.582,2,   -999.0,9,   -999.0,9,  2.0227
     316N142_3,   A15,    45,  2,      9,      9,2,19940418,1359, -0.2823, -18.9990, 5115,   3853.0,   2.3119,  34.8927,2,  34.8932,2,    258.4,2,    258.2,2,    38.03,2,    20.28,2,     0.00,2,     1.42,2, -999.000,9,    0.046,2,    0.388,2,   2178.3,2,   2325.2,2,  1.9855
     316N142_3,   A15,    45,  2,      8,      8,2,19940418,1359, -0.2823, -18.9990, 5115,   3952.6,   2.2251,  34.8834,2,  34.8845,2,    257.8,2,    257.5,2,    41.49,2,    20.69,2,     0.00,2,     1.45,2, -999.000,9,    0.046,2, -999.000,9,   -999.0,9,   -999.0,9,  1.8900
     316N142_3,   A15,    45,  2,      7,      7,2,19940418,1359, -0.2823, -18.9990, 5115,   4051.7,   2.0753,  34.8675,2,  34.8684,2,    254.2,2,    254.5,2,    47.74,2,    21.56,2,     0.00,2,     1.51,2, -999.000,9,    0.044,2,    0.457,2,   2189.4,2,   2331.2,2,  1.7333
     316N142_3,   A15,    45,  2,      6,      6,2,19940418,1359, -0.2823, -18.9990, 5115,   4148.0,   1.8644,  34.8435,2,  34.8452,2,    250.9,2,    249.6,2,    57.46,2,    22.98,2,     0.00,2,     1.61,2, -999.000,9,    0.035,2,    0.431,2,   -999.0,9,   -999.0,9,  1.5176
     316N142_3,   A15,    45,  2,      5,      5,2,19940418,1359, -0.2823, -18.9990, 5115,   4292.1,   1.4379,  34.7969,2,  34.7966,2,    239.3,2,    239.4,2,    77.14,2,    25.95,2,     0.00,2,     1.81,2, -999.000,9,    0.021,2,    0.378,2,   2222.4,2,   2350.4,2,  1.0878
     316N142_3,   A15,    45,  2,      4,      4,2,19940418,1359, -0.2823, -18.9990, 5115,   4438.1,   1.1961,  34.7688,2,  34.7691,2,    232.9,2,    233.4,2,    87.78,2,    27.56,2,     0.00,2,     1.94,2, -999.000,9, -999.000,9, -999.000,9,   -999.0,9,   -999.0,9,  0.8370
     316N142_3,   A15,    45,  2,      3,      3,2,19940418,1359, -0.2823, -18.9990, 5115,   4756.3,   1.0972,  34.7549,2,  34.7551,2,    229.3,2,    230.3,2,    93.39,2,    28.43,2,     0.00,2,     2.00,2, -999.000,9, -999.000,9, -999.000,9,   2240.9,2,   2361.1,2,  0.7049
     316N142_3,   A15,    45,  2,      2,      2,2,19940418,1359, -0.2823, -18.9990, 5115,   5076.4,   1.1041,  34.7512,2,  34.7510,2,    228.8,2,    229.2,2,    94.77,2,    28.66,2,     0.00,2,     2.00,2, -999.000,9, -999.000,9, -999.000,9,   -999.0,9,   -999.0,9,  0.6736
     316N142_3,   A15,    45,  2,      1,      1,2,19940418,1359, -0.2823, -18.9990, 5115,   5300.2,   1.1291,  34.7509,2,  34.7516,2,    229.2,2,    226.6,4,    95.01,2,    28.75,2,     0.00,2,     2.00,2, -999.000,9, -999.000,9, -999.000,9,   2242.1,2,   2362.6,2,  0.6705