BOTTLE,20020814WHPSIOKJU
EXPOCODE,SECT_ID,STNNBR,CASTNO,SAMPNO,BTLNBR,BTLNBR_FLAG_W,DATE,TIME,LATITUDE,LONGITUDE,DEPTH,CTDPRS,CTDTMP,CTDSAL,CTDSAL_FLAG_W,SALNTY,SALNTY_FLAG_W,CTDOXY,CTDOXY_FLAG_W,OXYGEN,OXYGEN_FLAG_W,SILCAT,SILCAT_FLAG_W,NITRAT,NITRAT_FLAG_W,NITRIT,NITRIT_FLAG_W,PHSPHT,PHSPHT_FLAG_W,CFC-11,CFC-11_FLAG_W,CFC-12,CFC-12_FLAG_W,CCL4,CCL4_FLAG_W,TCARBN,TCARBN_FLAG_W,ALKALI,ALKALI_FLAG_W,THETA
,,,,,,,,,,,,DBAR,ITS-90,PSS-78,,PSS-78,,UMOL/KG,,UMOL/KG,,UMOL/KG,,UMOL/KG,,UMOL/KG,,UMOL/KG,,PMOL/KG,,PMOL/KG,,PMOL/KG,,UMOL/KG,,UMOL/KG,,DEG C
     316N142_3,  AR15,    17,  1,     39,     39,2,19940408,0438,  0.0008, -35.9493, 4510,      2.9,  27.7439,  35.7939,2,  35.7973,2,    200.7,2,    200.9,2,     2.46,2,     0.06,2,     0.01,2,     0.11,2, -999.000,9, -999.000,9, -999.000,9,   1995.1,2,   2342.2,2, 27.7432
     316N142_3,  AR15,    17,  1,     35,     35,2,19940408,0438,  0.0008, -35.9493, 4510,     84.9,  23.2684,  36.2609,2,  36.2147,2,    196.3,2,    167.7,2,     3.30,2,     2.16,2,     0.21,2,     0.43,2, -999.000,9, -999.000,9, -999.000,9,   2096.3,2,   2368.0,2, 23.2509
     316N142_3,  AR15,    17,  1,     38,     38,2,19940408,0438,  0.0008, -35.9493, 4510,    125.9,  15.9949,  35.6906,2,  35.6970,2,    171.2,2,    169.3,2,     6.35,2,    10.20,2,     0.06,2,     0.80,2, -999.000,9, -999.000,9, -999.000,9,   2125.1,2,   2343.3,2, 15.9749
     316N142_3,  AR15,    17,  1,     33,     33,2,19940408,0438,  0.0008, -35.9493, 4510,    221.8,  12.3325,  35.1866,2,  35.1821,2,    154.0,2,    148.6,2,     9.90,2,    18.60,2,     0.02,2,     1.26,2, -999.000,9, -999.000,9, -999.000,9,   2155.3,2,   2320.2,2, 12.3030
     316N142_3,  AR15,    17,  1,     32,     32,2,19940408,0438,  0.0008, -35.9493, 4510,    322.9,   9.8114,  34.8875,2,  34.8841,2,    121.7,2,    133.5,2,    14.17,2,    25.82,2,     0.01,2,     1.66,2, -999.000,9, -999.000,9, -999.000,9,   2181.8,2,   2294.8,2,  9.7741
     316N142_3,  AR15,    17,  1,     31,     31,2,19940408,0438,  0.0008, -35.9493, 4510,    377.8,   8.1249,  34.7334,2,  34.7310,2,    112.1,2,    109.8,2,    19.31,2,    32.41,2,     0.00,2,     2.05,2, -999.000,9, -999.000,9, -999.000,9,   2210.3,2,   2293.8,2,  8.0860
     316N142_3,  AR15,    17,  1,     37,     37,2,19940408,0438,  0.0008, -35.9493, 4510,    407.6,   7.7306,  34.6858,2,  34.6924,2,    113.5,2,    115.9,2,    20.02,2,    32.38,2,     0.00,2,     2.07,2, -999.000,9, -999.000,9, -999.000,9,   2208.1,2,   2293.5,2,  7.6898
     316N142_3,  AR15,    17,  1,     29,     29,2,19940408,0438,  0.0008, -35.9493, 4510,    533.6,   6.3848,  34.5684,2,  34.5665,2,    130.4,2,    135.0,2,    24.29,2,    33.41,2,     0.00,2,     2.18,2, -999.000,9, -999.000,9, -999.000,9,   2209.7,2,   2287.2,2,  6.3364
     316N142_3,  AR15,    17,  1,     28,     28,2,19940408,0438,  0.0008, -35.9493, 4510,    634.6,   5.9037,  34.5293,2,  34.5278,2,    137.5,2,    142.8,2,    25.99,2,    33.70,2,     0.00,2,     2.21,2, -999.000,9, -999.000,9, -999.000,9,   2207.7,2,   2292.9,2,  5.8481
     316N142_3,  AR15,    17,  1,     27,     27,2,19940408,0438,  0.0008, -35.9493, 4510,    709.1,   5.4074,  34.5060,2,  34.5049,2,    148.0,2,    146.3,2,    28.54,2,    34.30,2,     0.00,2,     2.27,2, -999.000,9, -999.000,9, -999.000,9,   2213.7,2,   2294.3,2,  5.3476
     316N142_3,  AR15,    17,  1,     26,     26,2,19940408,0438,  0.0008, -35.9493, 4510,    859.0,   4.7094,  34.5408,2,  34.5402,2,    152.7,2,    152.6,2,    32.56,2,    34.27,2,     0.00,2,     2.29,2, -999.000,9, -999.000,9, -999.000,9,   2216.9,2,   2297.8,2,  4.6406
     316N142_3,  AR15,    17,  1,     25,     25,2,19940408,0438,  0.0008, -35.9493, 4510,   1010.9,   4.5327,  34.6774,2,  34.6770,2,    161.6,2,    162.0,2,    31.31,2,    31.93,2,     0.00,2,     2.13,2, -999.000,9, -999.000,9, -999.000,9,   2213.3,2,   2305.4,2,  4.4517
     316N142_3,  AR15,    17,  1,     24,     24,2,19940408,0438,  0.0008, -35.9493, 4510,   1112.3,   4.5016,  34.7289,2,  34.7304,2,    165.4,2,    168.8,2,    29.81,2,    30.42,2,     0.00,2,     2.03,2, -999.000,9, -999.000,9, -999.000,9,   2210.5,2,   2302.6,2,  4.4118
     316N142_3,  AR15,    17,  1,     23,     23,2,19940408,0438,  0.0008, -35.9493, 4510,   1283.8,   4.6228,  34.9334,2,  34.9336,2,    200.9,2,    207.4,2,    21.59,2,    23.68,2,     0.00,2,     1.57,2,    0.122,2,    0.041,2,    0.323,2,   2184.0,2,   2305.1,2,  4.5159
     316N142_3,  AR15,    17,  1,     22,     22,2,19940408,0438,  0.0008, -35.9493, 4510,   1415.7,   4.5032,  34.9458,2,  34.9489,2,    215.2,2,    214.9,2,    20.71,2,    22.91,2,     0.00,2,     1.50,2, -999.000,9,    0.044,2,    0.362,2,   2181.5,2,   2305.0,2,  4.3853
     316N142_3,  AR15,    17,  1,     21,     21,2,19940408,0438,  0.0008, -35.9493, 4510,   1567.4,   4.2750,  34.9668,2,  34.9694,2,    230.0,2,    230.0,2,    19.34,2,    21.20,2,     0.00,2,     1.39,2,    0.085,2,    0.050,2,    0.365,2,   2172.8,2,   -999.0,9,  4.1454
     316N142_3,  AR15,    17,  1,     20,     20,2,19940408,0438,  0.0008, -35.9493, 4510,   1719.1,   3.9543,  34.9835,2,  34.9826,2,    248.0,2,    246.9,2,    18.22,2,    19.22,2,     0.00,2,     1.26,2,    0.081,6,    0.055,6,    0.483,6,   2164.5,2,   2304.4,2,  3.8143
     316N142_3,  AR15,    17,  1,     19,     19,2,19940408,0438,  0.0008, -35.9493, 4510,   1870.9,   3.8061,  34.9886,2,  34.9889,2,    257.9,2,    256.1,2,    17.34,2,    18.20,2,     0.00,2,     1.20,2,    0.212,2,    0.102,2,    0.749,2,   2160.4,2,   2310.1,2,  3.6538
     316N142_3,  AR15,    17,  1,     18,     18,2,19940408,0438,  0.0008, -35.9493, 4510,   2022.3,   3.6122,  34.9801,2,  34.9863,4,    258.8,2,    257.4,2,    18.67,2,    18.34,2,     0.00,2,     1.21,2,    0.049,2,    0.060,2,    0.640,2,   2160.9,2,   2313.4,2,  3.4483
     316N142_3,  AR15,    17,  1,     17,     17,2,19940408,0438,  0.0008, -35.9493, 4510,   2174.7,   3.4442,  34.9666,2,  34.9690,2,    254.6,2,    253.9,2,    22.07,2,    19.12,2,     0.00,2,     1.26,2, -999.000,9, -999.000,9, -999.000,9,   2164.3,2,   2315.1,2,  3.2682
     316N142_3,  AR15,    17,  1,     16,     16,2,19940408,0438,  0.0008, -35.9493, 4510,   2376.5,   3.1199,  34.9486,2,  34.9488,2,    254.3,2,    252.8,2,    27.30,2,    19.74,2,     0.00,2,     1.30,2,    0.098,2,    0.024,2,    0.176,2,   -999.0,9,   -999.0,9,  2.9298
     316N142_3,  AR15,    17,  1,     15,     15,2,19940408,0438,  0.0008, -35.9493, 4510,   2579.9,   2.9906,  34.9481,2,  34.9488,2,    259.0,2,    259.2,2,    25.56,2,    18.88,2,     0.00,2,     1.24,2, -999.000,9, -999.000,9, -999.000,9,   2167.6,2,   2317.0,2,  2.7829
     316N142_3,  AR15,    17,  1,     14,     14,2,19940408,0438,  0.0008, -35.9493, 4510,   2782.2,   2.8676,  34.9377,2,  34.9383,2,    258.7,2,    257.7,2,    28.35,2,    19.28,2,     0.00,2,     1.27,2,    0.060,2,    0.041,2,    0.244,2,   -999.0,9,   -999.0,9,  2.6421
     316N142_3,  AR15,    17,  1,     13,     13,2,19940408,0438,  0.0008, -35.9493, 4510,   2986.7,   2.7389,  34.9294,2,  34.9295,2,    256.3,2,    257.4,2,    30.76,2,    19.48,2,     0.00,2,     1.28,2, -999.000,9, -999.000,9, -999.000,9,   2172.2,2,   -999.0,9,  2.4951
     316N142_3,  AR15,    17,  1,     12,     12,2,19940408,0438,  0.0008, -35.9493, 4510,   3216.7,   2.5869,  34.9149,2,  34.9136,2,    253.9,2,    253.6,2,    35.74,2,    20.20,2,     0.00,2,     1.34,2,    0.000,4,    0.015,2,    0.095,2,   -999.0,9,   -999.0,9,  2.3227
     316N142_3,  AR15,    17,  1,     11,     11,2,19940408,0438,  0.0008, -35.9493, 4510,   3393.5,   2.5292,  34.9172,2,  34.9171,2,    260.2,2,    261.5,2,    31.45,2,    19.08,2,     0.00,2,     1.26,2, -999.000,9, -999.000,9, -999.000,9,   2172.5,2,   2325.4,2,  2.2475
     316N142_3,  AR15,    17,  1,     10,     10,2,19940408,0438,  0.0008, -35.9493, 4510,   3547.0,   2.4151,  34.9099,2,  34.9098,2,    262.4,2,    263.2,2,    31.79,2,    18.90,2,     0.00,2,     1.25,2,    0.087,2,    0.070,2,    0.514,2,   -999.0,9,   -999.0,9,  2.1197
     316N142_3,  AR15,    17,  1,      9,      9,2,19940408,0438,  0.0008, -35.9493, 4510,   3699.2,   2.3651,  34.9055,2,  34.9071,2,    262.7,2,    263.6,2,    32.49,2,    19.00,2,     0.00,2,     1.25,2,    0.135,2,    0.068,2,    0.505,2,   2173.9,2,   2324.4,2,  2.0544
     316N142_3,  AR15,    17,  1,      8,      8,2,19940408,0438,  0.0008, -35.9493, 4510,   3851.5,   2.3389,  34.9025,2,  34.9035,2,    262.7,2,    263.3,2,    33.32,2,    19.03,2,     0.00,2,     1.25,2,    0.102,2,    0.080,2,    0.524,2,   -999.0,9,   -999.0,9,  2.0119
     316N142_3,  AR15,    17,  1,      7,      7,2,19940408,0438,  0.0008, -35.9493, 4510,   4004.8,   2.3116,  34.8989,2,  34.9024,2,    262.6,2,    262.6,2,    34.76,2,    19.17,2,     0.00,2,     1.27,2, -999.000,9,    0.060,2,    0.494,2,   2177.1,2,   2325.6,2,  1.9680
     316N142_3,  AR15,    17,  1,      6,      6,2,19940408,0438,  0.0008, -35.9493, 4510,   4107.5,   2.1548,  34.8797,2,  34.8794,2,    258.8,2,    257.8,2,    43.26,2,    20.62,2,     0.00,2,     1.37,2,    0.091,2,    0.052,2,    0.389,2,   -999.0,9,   -999.0,9,  1.8041
     316N142_3,  AR15,    17,  1,      5,      5,2,19940408,0438,  0.0008, -35.9493, 4510,   4210.4,   1.6522,  34.8226,2,  34.8231,2,    250.2,2,    244.2,2,    67.81,2,    24.58,2,     0.00,2,     1.65,2,    0.075,2,    0.026,2,    0.213,2,   2210.4,2,   2345.6,2,  1.3047
     316N142_3,  AR15,    17,  1,      4,      4,2,19940408,0438,  0.0008, -35.9493, 4510,   4312.3,   1.3504,  34.7881,2,  34.7873,2,    237.2,2,    236.7,2,    81.65,2,    26.74,2,     0.00,2,     1.80,2, -999.000,9, -999.000,9, -999.000,9,   -999.0,9,   -999.0,9,  1.0006
     316N142_3,  AR15,    17,  1,      3,      3,2,19940408,0438,  0.0008, -35.9493, 4510,   4415.9,   1.0820,  34.7574,2,  34.7580,2,    232.3,2,    230.6,2,    93.77,2,    28.64,2,     0.00,2,     1.94,2,    0.054,2,    0.012,2,    0.020,2,   2238.5,2,   2357.8,2,  0.7290
     316N142_3,  AR15,    17,  1,      2,      2,2,19940408,0438,  0.0008, -35.9493, 4510,   4518.6,   0.9770,  34.7449,2,  34.7455,2,    228.5,2,    228.0,2,    98.72,2,    29.29,2,     0.00,2,     2.00,2, -999.000,9,    0.023,2,    0.081,2,   -999.0,9,   -999.0,9,  0.6158
     316N142_3,  AR15,    17,  1,      1,      1,2,19940408,0438,  0.0008, -35.9493, 4510,   4597.2,   0.9614,  34.7420,2,  34.7410,2,    225.8,2,    227.3,2,    99.89,2,    29.57,2,     0.00,2,     2.01,2,    0.037,6,    0.018,6,    0.030,6,   2243.9,2,   2363.2,2,  0.5918