BOTTLE,20020814WHPSIOKJU
EXPOCODE,SECT_ID,STNNBR,CASTNO,SAMPNO,BTLNBR,BTLNBR_FLAG_W,DATE,TIME,LATITUDE,LONGITUDE,DEPTH,CTDPRS,CTDTMP,CTDSAL,CTDSAL_FLAG_W,SALNTY,SALNTY_FLAG_W,CTDOXY,CTDOXY_FLAG_W,OXYGEN,OXYGEN_FLAG_W,SILCAT,SILCAT_FLAG_W,NITRAT,NITRAT_FLAG_W,NITRIT,NITRIT_FLAG_W,PHSPHT,PHSPHT_FLAG_W,CFC-11,CFC-11_FLAG_W,CFC-12,CFC-12_FLAG_W,CCL4,CCL4_FLAG_W,TCARBN,TCARBN_FLAG_W,ALKALI,ALKALI_FLAG_W,THETA
,,,,,,,,,,,,DBAR,ITS-90,PSS-78,,PSS-78,,UMOL/KG,,UMOL/KG,,UMOL/KG,,UMOL/KG,,UMOL/KG,,UMOL/KG,,PMOL/KG,,PMOL/KG,,PMOL/KG,,UMOL/KG,,UMOL/KG,,DEG C
     316N142_3,  AR15,   144,  1,     39,     39,2,19940518,0214,-18.5750, -35.6672, 3973,     10.5,  26.9928,  37.3596,2,  37.3604,2,    193.3,4,    200.9,2,     1.79,2,     0.00,2,     0.01,2,     0.14,2,    1.667,2,    0.989,2,    1.698,2,   2077.6,2,   2448.5,2, 26.9904
     316N142_3,  AR15,   144,  1,     35,     35,2,19940518,0214,-18.5750, -35.6672, 3973,     83.8,  25.0656,  37.0937,2,  37.0936,2,    209.6,4,    221.1,2,     1.77,2,     0.00,2,     0.00,2,     0.13,2, -999.000,9, -999.000,9, -999.000,9,   2073.5,2,   2431.1,2, 25.0473
     316N142_3,  AR15,   144,  1,     38,     38,2,19940518,0214,-18.5750, -35.6672, 3973,    144.1,  21.5653,  36.5855,2,  36.5892,2,    202.9,2,    204.4,2,     1.76,2,     0.13,2,     0.14,2,     0.18,2,    2.222,2,    1.179,2,    1.313,2,   2083.5,2,   -999.0,9, 21.5370
     316N142_3,  AR15,   144,  1,     33,     33,9,19940518,0214,-18.5750, -35.6672, 3973,    214.9,  16.9497,  35.7659,2,-999.0000,9,    201.0,2,   -999.0,9,  -999.00,9,  -999.00,9,  -999.00,9,  -999.00,9, -999.000,9, -999.000,9, -999.000,9,   -999.0,9,   -999.0,9, 16.9141
     316N142_3,  AR15,   144,  1,     41,     41,2,19940518,0214,-18.5750, -35.6672, 3973,    314.8,  13.1411,  35.1994,2,  35.2140,2,    201.0,2,    196.7,2,     4.90,2,    10.80,2,     0.00,2,     0.83,2,    1.858,2,    1.147,2,    0.742,2,   2110.6,2,   2319.1,2, 13.0972
     316N142_3,  AR15,   144,  1,     31,     31,2,19940518,0214,-18.5750, -35.6672, 3973,    425.2,   9.8307,  34.8029,2,  34.8035,2,    188.4,2,    187.4,2,     9.79,2,    19.41,2,     0.00,2,     1.38,2, -999.000,9, -999.000,9, -999.000,9,   2145.0,2,   2300.6,2,  9.7814
     316N142_3,  AR15,   144,  1,     37,     37,2,19940518,0214,-18.5750, -35.6672, 3973,    536.1,   7.1650,  34.5312,2,  34.5308,2,    194.2,2,    193.5,2,    15.62,2,    25.19,2,     0.00,2,     1.75,2,    1.084,2,    0.604,2,    1.047,2,   2165.4,2,   2292.0,2,  7.1133
     316N142_3,  AR15,   144,  1,     29,     29,2,19940518,0214,-18.5750, -35.6672, 3973,    646.4,   5.4827,  34.3961,2,  34.3953,2,    199.8,2,    203.1,2,    21.30,2,    28.12,2,     0.00,2,     1.97,2, -999.000,9, -999.000,9, -999.000,9,   2177.1,2,   2292.2,2,  5.4283
     316N142_3,  AR15,   144,  1,     28,     28,2,19940518,0214,-18.5750, -35.6672, 3973,    754.2,   4.5054,  34.3689,2,  34.3679,2,    199.2,2,    199.4,2,    28.88,2,    30.27,2,     0.00,2,     2.12,2,    0.553,2,    0.323,2,    1.245,2,   -999.0,9,   -999.0,9,  4.4470
     316N142_3,  AR15,   144,  1,     27,     27,2,19940518,0214,-18.5750, -35.6672, 3973,    851.5,   3.9749,  34.3886,2,  34.3869,2,    192.9,2,    194.8,2,    34.88,2,    31.21,2,     0.00,2,     2.20,2,    0.317,2,    0.199,2,    0.919,2,   -999.0,9,   -999.0,9,  3.9118
     316N142_3,  AR15,   144,  1,     26,     26,2,19940518,0214,-18.5750, -35.6672, 3973,    952.0,   3.7539,  34.4346,2,  34.4331,2,    185.3,2,    187.8,2,    38.83,2,    31.78,2,     0.00,2,     2.24,2, -999.000,9, -999.000,9, -999.000,9,   -999.0,9,   -999.0,9,  3.6841
     316N142_3,  AR15,   144,  1,     25,     25,2,19940518,0214,-18.5750, -35.6672, 3973,   1055.5,   3.5945,  34.5173,2,  34.5164,2,    183.5,2,    185.5,2,    41.19,2,    31.31,2,     0.00,2,     2.21,2,    0.136,2,    0.058,2,    0.262,2,   -999.0,9,   -999.0,9,  3.5175
     316N142_3,  AR15,   144,  1,     24,     24,2,19940518,0214,-18.5750, -35.6672, 3973,   1158.4,   3.7714,  34.6408,2,  34.6392,2,    184.2,2,    185.1,2,    37.20,2,    29.83,2,     0.00,2,     2.09,2, -999.000,9, -999.000,9, -999.000,9,   -999.0,9,   -999.0,9,  3.6841
     316N142_3,  AR15,   144,  1,     23,     23,2,19940518,0214,-18.5750, -35.6672, 3973,   1260.0,   3.8573,  34.7044,2,  34.7030,2,    188.0,2,    189.4,2,    34.48,2,    28.62,2,     0.00,2,     1.99,2, -999.000,9,    0.016,2, -999.000,9,   -999.0,9,   -999.0,9,  3.7604
     316N142_3,  AR15,   144,  1,     22,     22,9,19940518,0214,-18.5750, -35.6672, 3973,   1362.1,   4.1513,  34.8243,2,-999.0000,9,    198.1,2,   -999.0,9,  -999.00,9,  -999.00,9,  -999.00,9,  -999.00,9, -999.000,9, -999.000,9, -999.000,9,   -999.0,9,   -999.0,9,  4.0423
     316N142_3,  AR15,   144,  1,     21,     21,2,19940518,0214,-18.5750, -35.6672, 3973,   1462.9,   4.2095,  34.8965,2,  34.8969,2,    211.0,2,    212.2,2,    23.22,2,    23.84,2,     0.00,2,     1.64,2, -999.000,9,    0.025,2,    0.054,2,   -999.0,9,   -999.0,9,  4.0905
     316N142_3,  AR15,   144,  1,     20,     20,2,19940518,0214,-18.5750, -35.6672, 3973,   1574.5,   4.1681,  34.9380,2,  34.9374,2,    225.4,2,    224.6,2,    20.83,2,    22.11,2,     0.00,2,     1.51,2, -999.000,9, -999.000,9, -999.000,9,   -999.0,9,   -999.0,9,  4.0392
     316N142_3,  AR15,   144,  1,     19,     19,2,19940518,0214,-18.5750, -35.6672, 3973,   1690.3,   4.0620,  34.9509,2,  34.9513,2,    233.3,2,    232.3,2,    20.18,2,    21.32,2,     0.00,2,     1.45,2, -999.000,9, -999.000,9, -999.000,9,   -999.0,9,   -999.0,9,  3.9235
     316N142_3,  AR15,   144,  1,     40,     40,2,19940518,0214,-18.5750, -35.6672, 3973,   1806.7,   3.8928,  34.9592,2,  34.9597,2,    240.6,2,    240.2,2,    20.32,2,    20.53,2,     0.00,2,     1.39,2, -999.000,9,    0.039,2,    0.444,2,   -999.0,9,   -999.0,9,  3.7455
     316N142_3,  AR15,   144,  1,     17,     17,2,19940518,0214,-18.5750, -35.6672, 3973,   1918.1,   3.7803,  34.9652,2,  34.9660,2,    246.8,2,    245.7,2,    19.99,2,    19.95,2,     0.00,2,     1.35,2, -999.000,9,    0.080,2,    0.404,2,   -999.0,9,   -999.0,9,  3.6239
     316N142_3,  AR15,   144,  1,     16,     16,2,19940518,0214,-18.5750, -35.6672, 3973,   2039.5,   3.6675,  34.9654,2,  34.9660,2,    249.5,2,    248.9,2,    20.44,2,    19.68,2,     0.00,2,     1.34,2, -999.000,9, -999.000,9, -999.000,9,   -999.0,9,   -999.0,9,  3.5011
     316N142_3,  AR15,   144,  1,     15,     15,2,19940518,0214,-18.5750, -35.6672, 3973,   2160.2,   3.4492,  34.9452,2,  34.9461,2,    248.9,2,    247.4,2,    24.06,2,    20.31,2,     0.00,2,     1.39,2, -999.000,9,    0.023,2,    0.098,2,   -999.0,9,   -999.0,9,  3.2746
     316N142_3,  AR15,   144,  1,     14,     14,2,19940518,0214,-18.5750, -35.6672, 3973,   2280.7,   3.3708,  34.9500,2,  34.9510,2,    249.6,2,    250.7,2,    24.04,2,    19.89,2,     0.00,2,     1.36,2, -999.000,9, -999.000,9, -999.000,9,   -999.0,9,   -999.0,9,  3.1858
     316N142_3,  AR15,   144,  1,     13,     13,2,19940518,0214,-18.5750, -35.6672, 3973,   2401.8,   3.2829,  34.9485,2,  34.9493,2,    251.9,2,    251.7,2,    24.65,2,    19.78,2,     0.00,2,     1.35,2, -999.000,9, -999.000,9, -999.000,9,   -999.0,9,   -999.0,9,  3.0875
     316N142_3,  AR15,   144,  1,     12,     12,2,19940518,0214,-18.5750, -35.6672, 3973,   2523.4,   3.1886,  34.9433,2,  34.9449,2,    251.2,2,    251.5,2,    26.05,2,    19.89,2,     0.00,2,     1.36,2, -999.000,9,    0.023,2,    0.233,2,   -999.0,9,   -999.0,9,  2.9829
     316N142_3,  AR15,   144,  1,     11,     11,2,19940518,0214,-18.5750, -35.6672, 3973,   2645.6,   3.0865,  34.9372,2,  34.9392,2,    251.1,2,    251.5,2,    27.77,2,    19.99,2,     0.00,2,     1.37,2, -999.000,9, -999.000,9, -999.000,9,   -999.0,9,   -999.0,9,  2.8704
     316N142_3,  AR15,   144,  1,     10,     10,2,19940518,0214,-18.5750, -35.6672, 3973,   2818.5,   2.9369,  34.9293,2,  34.9298,2,    251.3,2,    251.1,2,    30.28,2,    20.25,2,     0.00,2,     1.38,2, -999.000,9,    0.019,2,    0.158,2,   -999.0,9,   -999.0,9,  2.7063
     316N142_3,  AR15,   144,  1,      9,      9,2,19940518,0214,-18.5750, -35.6672, 3973,   2993.4,   2.8577,  34.9252,2,  34.9264,2,    251.5,2,    251.5,2,    31.36,2,    20.24,2,     0.00,2,     1.39,2, -999.000,9, -999.000,9, -999.000,9,   -999.0,9,   -999.0,9,  2.6108
     316N142_3,  AR15,   144,  1,      8,      8,2,19940518,0214,-18.5750, -35.6672, 3973,   3116.2,   2.8092,  34.9225,2,  34.9221,2,    251.2,2,    251.8,2,    31.97,2,    20.24,2,     0.00,2,     1.39,2, -999.000,9,    0.019,2,    0.078,2,   -999.0,9,   -999.0,9,  2.5505
     316N142_3,  AR15,   144,  1,      7,      7,2,19940518,0214,-18.5750, -35.6672, 3973,   3238.2,   2.7343,  34.9180,2,  34.9183,2,    251.7,2,    252.5,2,    33.06,2,    20.29,2,     0.00,2,     1.39,2, -999.000,9, -999.000,9, -999.000,9,   -999.0,9,   -999.0,9,  2.4643
     316N142_3,  AR15,   144,  1,      6,      6,2,19940518,0214,-18.5750, -35.6672, 3973,   3360.8,   2.5808,  34.9081,2,  34.9091,2,    252.6,2,    253.5,2,    35.57,2,    20.45,2,     0.00,2,     1.40,2, -999.000,9,    0.013,2,    0.156,2,   -999.0,9,   -999.0,9,  2.3015
     316N142_3,  AR15,   144,  1,      5,      5,2,19940518,0214,-18.5750, -35.6672, 3973,   3483.2,   2.4911,  34.9008,2,  34.9016,2,    252.9,2,    253.5,2,    37.76,2,    20.70,2,     0.00,2,     1.42,2, -999.000,9,    0.020,2,    0.371,2,   -999.0,9,   -999.0,9,  2.2008
     316N142_3,  AR15,   144,  1,      4,      4,2,19940518,0214,-18.5750, -35.6672, 3973,   3604.4,   2.2586,  34.8789,2,  34.8796,2,    251.5,2,    251.0,2,    45.34,2,    21.69,2,     0.00,2,     1.49,2, -999.000,9, -999.000,9, -999.000,9,   -999.0,9,   -999.0,9,  1.9611
     316N142_3,  AR15,   144,  1,      3,      3,2,19940518,0214,-18.5750, -35.6672, 3973,   3747.5,   1.7686,  34.8277,2,  34.8293,2,    243.7,2,    242.1,2,    64.92,2,    24.46,2,     0.00,2,     1.70,2, -999.000,9,    0.020,2,    0.131,2,   -999.0,9,   -999.0,9,  1.4688
     316N142_3,  AR15,   144,  1,      2,      2,2,19940518,0214,-18.5750, -35.6672, 3973,   3901.1,   1.3727,  34.7852,2,  34.7863,2,    236.1,2,    234.7,2,    81.64,2,    26.76,2,     0.00,2,     1.86,2, -999.000,9, -999.000,9, -999.000,9,   -999.0,9,   -999.0,9,  1.0673
     316N142_3,  AR15,   144,  1,      1,      1,2,19940518,0214,-18.5750, -35.6672, 3973,   4041.7,   1.0449,  34.7506,2,  34.7508,2,    229.2,2,    228.7,2,    95.29,2,    28.58,2,     0.00,2,     2.00,2, -999.000,9,    0.029,2,    0.136,2,   -999.0,9,   -999.0,9,  0.7340