BOTTLE,20020814WHPSIOKJU
EXPOCODE,SECT_ID,STNNBR,CASTNO,SAMPNO,BTLNBR,BTLNBR_FLAG_W,DATE,TIME,LATITUDE,LONGITUDE,DEPTH,CTDPRS,CTDTMP,CTDSAL,CTDSAL_FLAG_W,SALNTY,SALNTY_FLAG_W,CTDOXY,CTDOXY_FLAG_W,OXYGEN,OXYGEN_FLAG_W,SILCAT,SILCAT_FLAG_W,NITRAT,NITRAT_FLAG_W,NITRIT,NITRIT_FLAG_W,PHSPHT,PHSPHT_FLAG_W,CFC-11,CFC-11_FLAG_W,CFC-12,CFC-12_FLAG_W,CCL4,CCL4_FLAG_W,TCARBN,TCARBN_FLAG_W,ALKALI,ALKALI_FLAG_W,THETA
,,,,,,,,,,,,DBAR,ITS-90,PSS-78,,PSS-78,,UMOL/KG,,UMOL/KG,,UMOL/KG,,UMOL/KG,,UMOL/KG,,UMOL/KG,,PMOL/KG,,PMOL/KG,,PMOL/KG,,UMOL/KG,,UMOL/KG,,DEG C
     316N142_3,   A15,    75,  1,     39,     39,2,19940426,2235,-15.0683, -18.9997, 5388,      8.8,  26.3649,  37.0277,2,  37.0277,2,    201.7,2,    203.3,2,     1.57,2,     0.18,2,     0.00,2,     0.19,2, -999.000,9, -999.000,9, -999.000,9,   2075.4,2,   2420.3,2, 26.3629
     316N142_3,   A15,    75,  1,     35,     35,2,19940426,2235,-15.0683, -18.9997, 5388,     64.8,  25.8102,  36.9710,2,  36.9908,2,    209.6,2,    207.1,2,     1.41,2,     0.18,2,     0.00,2,     0.20,2, -999.000,9, -999.000,9, -999.000,9,   2074.5,2,   2417.8,2, 25.7957
     316N142_3,   A15,    75,  1,     38,     38,2,19940426,2235,-15.0683, -18.9997, 5388,     94.5,  23.8399,  36.7320,2,  36.7318,2,    225.9,2,    221.8,2,     1.40,2,     0.14,2,     0.00,2,     0.22,2, -999.000,9, -999.000,9, -999.000,9,   2075.0,2,   2406.4,2, 23.8200
     316N142_3,   A15,    75,  1,     33,     33,2,19940426,2235,-15.0683, -18.9997, 5388,    166.0,  18.9852,  36.0886,2,  36.0865,2,    209.7,2,    197.4,2,     2.23,2,     2.58,2,     0.19,2,     0.50,2, -999.000,9, -999.000,9, -999.000,9,   2104.2,2,   2364.6,2, 18.9554
     316N142_3,   A15,    75,  1,     41,     41,2,19940426,2235,-15.0683, -18.9997, 5388,    240.9,  13.3329,  35.2649,2,  35.2696,2,    152.8,2,    146.5,2,     6.86,2,    16.59,2,     0.00,2,     1.20,2, -999.000,9, -999.000,9, -999.000,9,   2151.5,2,   2312.0,2, 13.2991
     316N142_3,   A15,    75,  1,     31,     31,2,19940426,2235,-15.0683, -18.9997, 5388,    305.7,  11.4985,  35.0433,2,  35.0455,2,    125.4,2,    117.4,2,    10.51,2,    23.60,2,     0.00,2,     1.60,2, -999.000,9, -999.000,9, -999.000,9,   2181.3,2,   2301.4,2, 11.4595
     316N142_3,   A15,    75,  1,     37,     37,2,19940426,2235,-15.0683, -18.9997, 5388,    376.7,   9.4469,  34.8299,2,  34.8290,2,    101.3,2,    105.6,2,    15.30,2,    29.39,2,     0.00,2,     1.95,2, -999.000,9, -999.000,9, -999.000,9,   2203.8,2,   2293.7,2,  9.4044
     316N142_3,   A15,    75,  1,     29,     29,2,19940426,2235,-15.0683, -18.9997, 5388,    466.8,   7.6543,  34.6593,2,  34.6635,2,    118.5,2,    118.1,2,    19.39,2,    31.94,2,     0.00,2,     2.13,2, -999.000,9, -999.000,9, -999.000,9,   2209.9,2,   2291.4,2,  7.6077
     316N142_3,   A15,    75,  1,     28,     28,2,19940426,2235,-15.0683, -18.9997, 5388,    547.0,   6.1125,  34.5269,2,  34.5284,2,    134.8,2,    137.4,2,    24.20,2,    33.56,2,     0.00,2,     2.25,2, -999.000,9, -999.000,9, -999.000,9,   2212.2,2,   2289.3,2,  6.0640
     316N142_3,   A15,    75,  1,     27,     27,2,19940426,2235,-15.0683, -18.9997, 5388,    633.7,   5.1762,  34.4587,2,  34.4579,2,    158.5,2,    155.5,2,    28.45,2,    33.73,2,     0.00,2,     2.29,2, -999.000,9, -999.000,9, -999.000,9,   2211.6,2,   2290.9,2,  5.1243
     316N142_3,   A15,    75,  1,     26,     26,2,19940426,2235,-15.0683, -18.9997, 5388,    749.2,   4.5284,  34.4405,2,  34.4404,2,    161.4,2,    163.9,2,    33.14,2,    33.93,2,     0.00,2,     2.32,2, -999.000,9, -999.000,9, -999.000,9,   -999.0,9,   -999.0,9,  4.4702
     316N142_3,   A15,    75,  1,     25,     25,2,19940426,2235,-15.0683, -18.9997, 5388,    859.0,   4.1971,  34.4771,2,  34.4746,2,    159.8,2,    162.6,2,    36.42,2,    34.24,2,     0.00,2,     2.35,2, -999.000,9, -999.000,9, -999.000,9,   -999.0,9,   -999.0,9,  4.1317
     316N142_3,   A15,    75,  1,     24,     24,2,19940426,2235,-15.0683, -18.9997, 5388,   1008.5,   3.9128,  34.5586,2,  34.5571,2,    167.9,2,    169.8,2,    38.13,2,    32.88,2,     0.00,2,     2.27,2, -999.000,9, -999.000,9, -999.000,9,   -999.0,9,   -999.0,9,  3.8370
     316N142_3,   A15,    75,  1,     23,     23,2,19940426,2235,-15.0683, -18.9997, 5388,   1160.8,   3.8632,  34.6534,2,  34.6527,2,    178.1,2,    179.1,2,    36.28,2,    30.82,2,     0.00,2,     2.12,2, -999.000,9, -999.000,9, -999.000,9,   -999.0,9,   -999.0,9,  3.7749
     316N142_3,   A15,    75,  1,     22,     22,2,19940426,2235,-15.0683, -18.9997, 5388,   1303.1,   3.8690,  34.7818,2,  34.7811,2,    195.1,2,    197.3,2,    31.43,2,    27.41,2,     0.00,2,     1.90,2, -999.000,9, -999.000,9, -999.000,9,   -999.0,9,   -999.0,9,  3.7682
     316N142_3,   A15,    75,  1,     21,     21,2,19940426,2235,-15.0683, -18.9997, 5388,   1489.8,   3.8728,  34.8837,2,  34.8839,2,    218.0,2,    218.0,2,    26.17,2,    23.96,2,     0.00,2,     1.67,2, -999.000,9, -999.000,9, -999.000,9,   -999.0,9,   -999.0,9,  3.7552
     316N142_3,   A15,    75,  1,     20,     20,2,19940426,2235,-15.0683, -18.9997, 5388,   1666.8,   3.6642,  34.9183,2,  34.9187,2,    231.8,2,    232.4,2,    25.46,2,    22.20,2,     0.00,2,     1.54,2, -999.000,9, -999.000,9, -999.000,9,   -999.0,9,   -999.0,9,  3.5329
     316N142_3,   A15,    75,  1,     19,     19,2,19940426,2235,-15.0683, -18.9997, 5388,   1869.0,   3.3489,  34.9233,2,  34.9227,2,    240.7,2,    239.9,2,    28.44,2,    21.66,2,     0.00,2,     1.51,2, -999.000,9, -999.000,9, -999.000,9,   -999.0,9,   -999.0,9,  3.2034
     316N142_3,   A15,    75,  1,     40,     40,2,19940426,2235,-15.0683, -18.9997, 5388,   2071.3,   3.0852,  34.9144,2,  34.9126,2,    241.8,2,    241.4,2,    33.01,2,    21.90,2,     0.00,2,     1.52,2, -999.000,9, -999.000,9, -999.000,9,   -999.0,9,   -999.0,9,  2.9248
     316N142_3,   A15,    75,  1,     17,     17,2,19940426,2235,-15.0683, -18.9997, 5388,   2273.2,   2.9001,  34.9048,2,  34.9034,2,    241.8,2,    241.4,2,    38.01,2,    22.29,2,     0.00,2,     1.54,2, -999.000,9, -999.000,9, -999.000,9,   -999.0,9,   -999.0,9,  2.7239
     316N142_3,   A15,    75,  1,     16,     16,2,19940426,2235,-15.0683, -18.9997, 5388,   2477.3,   2.7961,  34.9003,2,  34.8987,2,    243.2,2,    241.7,2,    40.45,2,    22.49,2,     0.00,2,     1.55,2, -999.000,9, -999.000,9, -999.000,9,   -999.0,9,   -999.0,9,  2.6023
     316N142_3,   A15,    75,  1,     15,     15,2,19940426,2235,-15.0683, -18.9997, 5388,   2681.9,   2.7133,  34.8955,2,  34.8930,2,    242.7,2,    241.8,2,    42.61,2,    22.55,2,     0.00,2,     1.56,2, -999.000,9, -999.000,9, -999.000,9,   -999.0,9,   -999.0,9,  2.5010
     316N142_3,   A15,    75,  1,     14,     14,2,19940426,2235,-15.0683, -18.9997, 5388,   2885.3,   2.6588,  34.8924,2,  34.8904,2,    241.8,2,    241.8,2,    44.06,2,    22.65,2,     0.00,2,     1.57,2, -999.000,9, -999.000,9, -999.000,9,   -999.0,9,   -999.0,9,  2.4273
     316N142_3,   A15,    75,  1,     13,     13,2,19940426,2235,-15.0683, -18.9997, 5388,   3088.8,   2.6013,  34.8892,2,  34.8884,2,    242.2,2,    241.7,2,    45.36,2,    22.76,2,     0.00,2,     1.58,2, -999.000,9, -999.000,9, -999.000,9,   -999.0,9,   -999.0,9,  2.3503
     316N142_3,   A15,    75,  1,     12,     12,2,19940426,2235,-15.0683, -18.9997, 5388,   3291.8,   2.5382,  34.8878,2,  34.8875,2,    242.9,2,    242.6,2,    46.23,2,    22.72,2,     0.00,2,     1.57,2, -999.000,9, -999.000,9, -999.000,9,   -999.0,9,   -999.0,9,  2.2673
     316N142_3,   A15,    75,  1,     11,     11,2,19940426,2235,-15.0683, -18.9997, 5388,   3495.3,   2.3957,  34.8748,2,  34.8743,2,    242.4,2,    241.9,2,    51.15,2,    23.25,2,     0.00,2,     1.61,2, -999.000,9, -999.000,9, -999.000,9,   -999.0,9,   -999.0,9,  2.1065
     316N142_3,   A15,    75,  1,     10,     10,2,19940426,2235,-15.0683, -18.9997, 5388,   3699.6,   2.2292,  34.8642,2,  34.8627,2,    242.3,2,    243.4,2,    54.93,2,    23.54,2,     0.00,2,     1.63,2, -999.000,9, -999.000,9, -999.000,9,   -999.0,9,   -999.0,9,  1.9222
     316N142_3,   A15,    75,  1,      9,      9,2,19940426,2235,-15.0683, -18.9997, 5388,   3904.9,   1.8543,  34.8274,2,  34.8257,2,    238.8,2,    238.6,2,    69.10,2,    25.30,2,     0.00,2,     1.76,2, -999.000,9, -999.000,9, -999.000,9,   -999.0,9,   -999.0,9,  1.5350
     316N142_3,   A15,    75,  1,      8,      8,2,19940426,2235,-15.0683, -18.9997, 5388,   4111.0,   1.5423,  34.7977,2,  34.7974,2,    235.8,2,    235.7,2,    80.48,2,    26.68,2,     0.00,2,     1.86,2, -999.000,9,    0.004,2, -999.000,9,   -999.0,9,   -999.0,9,  1.2092
     316N142_3,   A15,    75,  1,      7,      7,2,19940426,2235,-15.0683, -18.9997, 5388,   4313.8,   1.3411,  34.7775,2,  34.7762,2,    233.1,2,    233.3,2,    88.55,2,    27.78,2,     0.00,2,     1.94,2, -999.000,9, -999.000,9, -999.000,9,   -999.0,9,   -999.0,9,  0.9915
     316N142_3,   A15,    75,  1,      6,      6,2,19940426,2235,-15.0683, -18.9997, 5388,   4519.0,   1.0189,  34.7451,2,  34.7447,2,    230.1,2,    229.4,2,   100.93,2,    29.44,2,     0.00,2,     2.05,2, -999.000,9, -999.000,9, -999.000,9,   -999.0,9,   -999.0,9,  0.6563
     316N142_3,   A15,    75,  1,      5,      5,2,19940426,2235,-15.0683, -18.9997, 5388,   4723.7,   0.9306,  34.7346,2,  34.7331,2,    227.6,2,    227.9,2,   105.83,2,    30.12,2,     0.00,2,     2.10,2, -999.000,9,    0.012,2, -999.000,9,   -999.0,9,   -999.0,9,  0.5476
     316N142_3,   A15,    75,  1,      4,      4,2,19940426,2235,-15.0683, -18.9997, 5388,   4929.2,   0.8850,  34.7280,2,  34.7262,2,    226.2,2,    226.9,2,   110.31,2,    30.61,2,     0.00,2,     2.14,2, -999.000,9, -999.000,9, -999.000,9,   -999.0,9,   -999.0,9,  0.4797
     316N142_3,   A15,    75,  1,      3,      3,2,19940426,2235,-15.0683, -18.9997, 5388,   5132.4,   0.8449,  34.7213,2,  34.7197,2,    225.9,2,    226.8,2,   113.43,2,    30.96,2,     0.00,2,     2.16,2, -999.000,9,    0.013,2, -999.000,9,   -999.0,9,   -999.0,9,  0.4169
     316N142_3,   A15,    75,  1,      2,      2,2,19940426,2235,-15.0683, -18.9997, 5388,   5339.6,   0.8713,  34.7212,2,  34.7207,2,    226.6,2,    226.1,2,   113.62,2,    30.93,2,     0.00,2,     2.16,2, -999.000,9, -999.000,9, -999.000,9,   -999.0,9,   -999.0,9,  0.4172
     316N142_3,   A15,    75,  1,      1,      1,2,19940426,2235,-15.0683, -18.9997, 5388,   5541.5,   0.8958,  34.7212,2,  34.7211,2,    227.0,2,    226.2,2,   113.35,2,    30.95,2,     0.00,2,     2.16,2, -999.000,9,    0.016,2, -999.000,9,   -999.0,9,   -999.0,9,  0.4160