BOTTLE,20020814WHPSIOKJU
EXPOCODE,SECT_ID,STNNBR,CASTNO,SAMPNO,BTLNBR,BTLNBR_FLAG_W,DATE,TIME,LATITUDE,LONGITUDE,DEPTH,CTDPRS,CTDTMP,CTDSAL,CTDSAL_FLAG_W,SALNTY,SALNTY_FLAG_W,CTDOXY,CTDOXY_FLAG_W,OXYGEN,OXYGEN_FLAG_W,SILCAT,SILCAT_FLAG_W,NITRAT,NITRAT_FLAG_W,NITRIT,NITRIT_FLAG_W,PHSPHT,PHSPHT_FLAG_W,CFC-11,CFC-11_FLAG_W,CFC-12,CFC-12_FLAG_W,CCL4,CCL4_FLAG_W,TCARBN,TCARBN_FLAG_W,ALKALI,ALKALI_FLAG_W,THETA
,,,,,,,,,,,,DBAR,ITS-90,PSS-78,,PSS-78,,UMOL/KG,,UMOL/KG,,UMOL/KG,,UMOL/KG,,UMOL/KG,,UMOL/KG,,PMOL/KG,,PMOL/KG,,PMOL/KG,,UMOL/KG,,UMOL/KG,,DEG C
     316N142_3,   A15,    85,  1,     39,     39,2,19940429,1602,-20.1325, -19.0008, 4671,      5.8,  26.0743,  36.9142,2,  36.9137,2,    208.0,2,    215.9,2,     1.46,2,     0.00,3,     0.00,2,     0.18,2, -999.000,9, -999.000,9, -999.000,9,   -999.0,9,   -999.0,9, 26.0729
     316N142_3,   A15,    85,  1,     35,     35,2,19940429,1602,-20.1325, -19.0008, 4671,     68.9,  23.8711,  36.5811,2,  36.5817,2,    224.4,2,    233.7,3,     1.46,2,     0.00,3,     0.00,2,     0.17,2, -999.000,9, -999.000,9, -999.000,9,   -999.0,9,   -999.0,9, 23.8566
     316N142_3,   A15,    85,  1,     38,     38,2,19940429,1602,-20.1325, -19.0008, 4671,    145.1,  18.9115,  36.0296,2,  36.0349,2,    222.5,2,    219.9,2,     1.73,2,     0.00,3,     0.07,2,     0.25,2, -999.000,9, -999.000,9, -999.000,9,   -999.0,9,   -999.0,9, 18.8855
     316N142_3,   A15,    85,  1,     33,     33,2,19940429,1602,-20.1325, -19.0008, 4671,    225.6,  15.2977,  35.4703,2,  35.4621,2,    206.9,2,    199.6,2,     3.39,2,     2.51,3,     0.01,2,     0.62,2, -999.000,9, -999.000,9, -999.000,9,   -999.0,9,   -999.0,9, 15.2629
     316N142_3,   A15,    85,  1,     41,     41,2,19940429,1602,-20.1325, -19.0008, 4671,    315.4,  12.4987,  35.0985,2,  35.0958,2,    190.9,2,    185.5,2,     5.90,2,    10.76,3,     0.00,2,     1.01,2, -999.000,9, -999.000,9, -999.000,9,   -999.0,9,   -999.0,9, 12.4562
     316N142_3,   A15,    85,  1,     31,     31,2,19940429,1602,-20.1325, -19.0008, 4671,    415.3,   9.8006,  34.8053,2,  34.8045,2,    162.3,2,    160.1,2,    11.19,2,    22.56,3,     0.00,2,     1.54,2, -999.000,9, -999.000,9, -999.000,9,   -999.0,9,   -999.0,9,  9.7526
     316N142_3,   A15,    85,  1,     37,     37,2,19940429,1602,-20.1325, -19.0008, 4671,    515.7,   7.9501,  34.6315,2,  34.6297,2,    154.8,2,    157.0,2,    16.08,2,    29.08,3,     0.00,2,     1.84,2, -999.000,9, -999.000,9, -999.000,9,   -999.0,9,   -999.0,9,  7.8973
     316N142_3,   A15,    85,  1,     29,     29,2,19940429,1602,-20.1325, -19.0008, 4671,    635.3,   5.9481,  34.4742,2,  34.4746,2,    168.8,2,    163.9,2,    22.93,2,    34.34,3,     0.00,2,     2.08,2, -999.000,9, -999.000,9, -999.000,9,   -999.0,9,   -999.0,9,  5.8923
     316N142_3,   A15,    85,  1,     28,     28,2,19940429,1602,-20.1325, -19.0008, 4671,    755.7,   4.4413,  34.4153,2,  34.4146,2,    175.4,2,    176.4,2,    32.20,2,    36.72,3,     0.00,2,     2.20,2, -999.000,9, -999.000,9, -999.000,9,   -999.0,9,   -999.0,9,  4.3830
     316N142_3,   A15,    85,  1,     27,     27,2,19940429,1602,-20.1325, -19.0008, 4671,    855.0,   4.0165,  34.4210,2,  34.4195,2,    182.4,2,    183.9,2,    36.27,2,    36.43,3,     0.00,2,     2.21,2, -999.000,9, -999.000,9, -999.000,9,   -999.0,9,   -999.0,9,  3.9527
     316N142_3,   A15,    85,  1,     26,     26,2,19940429,1602,-20.1325, -19.0008, 4671,    956.5,   3.6236,  34.4836,2,  34.4821,2,    184.1,2,    185.3,2,    41.49,2,    36.06,3,     0.00,2,     2.20,2, -999.000,9, -999.000,9, -999.000,9,   -999.0,9,   -999.0,9,  3.5543
     316N142_3,   A15,    85,  1,     25,     25,2,19940429,1602,-20.1325, -19.0008, 4671,   1081.6,   3.5871,  34.5888,2,  34.5866,2,    184.8,2,    186.6,2,    41.49,2,    34.25,3,     0.00,2,     2.12,2, -999.000,9, -999.000,9, -999.000,9,   -999.0,9,   -999.0,9,  3.5079
     316N142_3,   A15,    85,  1,     24,     24,2,19940429,1602,-20.1325, -19.0008, 4671,   1206.8,   3.7559,  34.7007,2,  34.6998,2,    190.5,2,    191.2,2,    36.54,2,    31.45,3,     0.00,2,     1.97,2, -999.000,9, -999.000,9, -999.000,9,   -999.0,9,   -999.0,9,  3.6646
     316N142_3,   A15,    85,  1,     23,     23,2,19940429,1602,-20.1325, -19.0008, 4671,   1332.5,   3.8011,  34.7878,2,  34.7872,2,    202.6,2,    201.3,2,    32.59,2,    28.39,3,     0.00,2,     1.83,2, -999.000,9, -999.000,9, -999.000,9,   -999.0,9,   -999.0,9,  3.6984
     316N142_3,   A15,    85,  1,     22,     22,2,19940429,1602,-20.1325, -19.0008, 4671,   1457.2,   3.7017,  34.8367,2,  34.8369,2,    214.1,2,    212.4,2,    31.32,2,    26.17,3,     0.00,2,     1.71,2, -999.000,9, -999.000,9, -999.000,9,   -999.0,9,   -999.0,9,  3.5890
     316N142_3,   A15,    85,  1,     21,     21,2,19940429,1602,-20.1325, -19.0008, 4671,   1609.5,   3.5740,  34.8801,2,  34.8805,2,    225.9,2,    225.4,2,    29.35,2,    23.76,3,     0.00,2,     1.59,2, -999.000,9, -999.000,9, -999.000,9,   -999.0,9,   -999.0,9,  3.4491
     316N142_3,   A15,    85,  1,     20,     20,2,19940429,1602,-20.1325, -19.0008, 4671,   1761.6,   3.4208,  34.9117,2,  34.9112,2,    237.8,2,    236.6,2,    27.94,2,    21.81,3,     0.00,2,     1.49,2, -999.000,9, -999.000,9, -999.000,9,   -999.0,9,   -999.0,9,  3.2841
     316N142_3,   A15,    85,  1,     19,     19,2,19940429,1602,-20.1325, -19.0008, 4671,   1912.9,   3.3404,  34.9232,2,  34.9230,2,    243.3,2,    242.3,2,    27.51,2,    20.95,3,     0.00,2,     1.44,2, -999.000,9, -999.000,9, -999.000,9,   -999.0,9,   -999.0,9,  3.1909
     316N142_3,   A15,    85,  1,     40,     40,2,19940429,1602,-20.1325, -19.0008, 4671,   2062.7,   3.2311,  34.9289,2,  34.9295,2,    247.1,2,    245.9,2,    27.93,2,    20.42,3,     0.00,2,     1.41,2, -999.000,9, -999.000,9, -999.000,9,   -999.0,9,   -999.0,9,  3.0693
     316N142_3,   A15,    85,  1,     17,     17,2,19940429,1602,-20.1325, -19.0008, 4671,   2213.6,   3.1172,  34.9300,2,  34.9297,2,    248.5,2,    248.6,2,    28.63,2,    20.06,3,     0.00,2,     1.39,2, -999.000,9, -999.000,9, -999.000,9,   -999.0,9,   -999.0,9,  2.9429
     316N142_3,   A15,    85,  1,     16,     16,2,19940429,1602,-20.1325, -19.0008, 4671,   2364.7,   3.0660,  34.9298,2,  34.9293,2,    250.1,2,    249.3,2,    29.19,2,    20.06,3,     0.00,2,     1.39,2, -999.000,9, -999.000,9, -999.000,9,   -999.0,9,   -999.0,9,  2.8781
     316N142_3,   A15,    85,  1,     15,     15,2,19940429,1602,-20.1325, -19.0008, 4671,   2518.1,   2.9839,  34.9273,2,  34.9262,2,    250.8,2,    249.9,2,    30.31,2,    20.10,3,     0.00,2,     1.40,2, -999.000,9, -999.000,9, -999.000,9,   -999.0,9,   -999.0,9,  2.7826
     316N142_3,   A15,    85,  1,     14,     14,2,19940429,1602,-20.1325, -19.0008, 4671,   2722.1,   2.8566,  34.9213,2,  34.9209,2,    249.8,2,    250.1,2,    32.42,2,    20.23,3,     0.00,2,     1.40,2, -999.000,9, -999.000,9, -999.000,9,   -999.0,9,   -999.0,9,  2.6374
     316N142_3,   A15,    85,  1,     13,     13,2,19940429,1602,-20.1325, -19.0008, 4671,   2932.4,   2.7803,  34.9173,2,  34.9164,2,    250.4,2,    250.3,2,    33.82,2,    20.39,3,     0.00,2,     1.40,2, -999.000,9, -999.000,9, -999.000,9,   -999.0,9,   -999.0,9,  2.5414
     316N142_3,   A15,    85,  1,     12,     12,2,19940429,1602,-20.1325, -19.0008, 4671,   3086.6,   2.7190,  34.9138,2,  34.9143,2,    250.8,2,    250.7,2,    34.81,2,    20.44,3,     0.00,2,     1.41,2, -999.000,9, -999.000,9, -999.000,9,   -999.0,9,   -999.0,9,  2.4654
     316N142_3,   A15,    85,  1,     11,     11,2,19940429,1602,-20.1325, -19.0008, 4671,   3236.6,   2.6325,  34.9083,2,  34.9086,2,    251.2,2,    251.2,2,    36.36,2,    20.60,3,     0.00,2,     1.41,2, -999.000,9, -999.000,9, -999.000,9,   -999.0,9,   -999.0,9,  2.3652
     316N142_3,   A15,    85,  1,     10,     10,2,19940429,1602,-20.1325, -19.0008, 4671,   3383.8,   2.5340,  34.9010,2,  34.9008,2,    251.6,2,    251.7,2,    38.62,2,    20.84,3,     0.00,2,     1.44,2, -999.000,9, -999.000,9, -999.000,9,   -999.0,9,   -999.0,9,  2.2533
     316N142_3,   A15,    85,  1,      9,      9,2,19940429,1602,-20.1325, -19.0008, 4671,   3536.5,   2.4173,  34.8910,2,  34.8900,2,    250.9,2,    250.9,2,    42.15,2,    21.37,3,     0.00,2,     1.47,2, -999.000,9, -999.000,9, -999.000,9,   -999.0,9,   -999.0,9,  2.1231
     316N142_3,   A15,    85,  1,      8,      8,2,19940429,1602,-20.1325, -19.0008, 4671,   3688.8,   2.1967,  34.8693,2,  34.8684,2,    248.3,2,    247.4,2,    50.25,2,    22.81,3,     0.00,2,     1.54,2, -999.000,9, -999.000,9, -999.000,9,   -999.0,9,   -999.0,9,  1.8917
     316N142_3,   A15,    85,  1,      7,      7,2,19940429,1602,-20.1325, -19.0008, 4671,   3843.5,   1.9659,  34.8447,2,  34.8439,2,    243.9,2,    243.8,2,    59.68,2,    24.53,3,     0.00,2,     1.63,2, -999.000,9, -999.000,9, -999.000,9,   -999.0,9,   -999.0,9,  1.6502
     316N142_3,   A15,    85,  1,      6,      6,2,19940429,1602,-20.1325, -19.0008, 4671,   3999.5,   1.6976,  34.8150,2,  34.8139,2,    240.0,2,    238.4,2,    71.22,2,    26.66,3,     0.00,2,     1.74,2, -999.000,9, -999.000,9, -999.000,9,   -999.0,9,   -999.0,9,  1.3723
     316N142_3,   A15,    85,  1,      5,      5,2,19940429,1602,-20.1325, -19.0008, 4671,   4154.2,   1.4343,  34.7892,2,  34.7884,2,    236.1,2,    235.6,2,    80.82,2,    28.30,3,     0.00,2,     1.83,2, -999.000,9, -999.000,9, -999.000,9,   -999.0,9,   -999.0,9,  1.0997
     316N142_3,   A15,    85,  1,      4,      4,2,19940429,1602,-20.1325, -19.0008, 4671,   4307.3,   1.2464,  34.7693,2,  34.7691,2,    233.0,2,    233.1,2,    88.17,2,    29.54,3,     0.00,2,     1.91,2, -999.000,9, -999.000,9, -999.000,9,   -999.0,9,   -999.0,9,  0.9005
     316N142_3,   A15,    85,  1,      3,      3,2,19940429,1602,-20.1325, -19.0008, 4671,   4487.9,   1.0922,  34.7528,2,  34.7519,2,    230.9,2,    230.6,2,    95.28,2,    30.74,3,     0.00,2,     1.97,2, -999.000,9, -999.000,9, -999.000,9,   -999.0,9,   -999.0,9,  0.7309
     316N142_3,   A15,    85,  1,      2,      2,2,19940429,1602,-20.1325, -19.0008, 4671,   4666.4,   0.9742,  34.7390,2,  34.7399,2,    229.1,2,    229.0,2,   100.95,2,    31.57,3,     0.00,2,     2.03,2, -999.000,9, -999.000,9, -999.000,9,   -999.0,9,   -999.0,9,  0.5964
     316N142_3,   A15,    85,  1,      1,      1,2,19940429,1602,-20.1325, -19.0008, 4671,   4852.5,   0.9757,  34.7371,2,  34.7372,2,    229.5,2,    228.5,2,   102.90,2,    31.63,3,     0.00,2,     2.03,2, -999.000,9, -999.000,9, -999.000,9,   -999.0,9,   -999.0,9,  0.5763