BOTTLE,20020814WHPSIOKJU
EXPOCODE,SECT_ID,STNNBR,CASTNO,SAMPNO,BTLNBR,BTLNBR_FLAG_W,DATE,TIME,LATITUDE,LONGITUDE,DEPTH,CTDPRS,CTDTMP,CTDSAL,CTDSAL_FLAG_W,SALNTY,SALNTY_FLAG_W,CTDOXY,CTDOXY_FLAG_W,OXYGEN,OXYGEN_FLAG_W,SILCAT,SILCAT_FLAG_W,NITRAT,NITRAT_FLAG_W,NITRIT,NITRIT_FLAG_W,PHSPHT,PHSPHT_FLAG_W,CFC-11,CFC-11_FLAG_W,CFC-12,CFC-12_FLAG_W,CCL4,CCL4_FLAG_W,TCARBN,TCARBN_FLAG_W,ALKALI,ALKALI_FLAG_W,THETA
,,,,,,,,,,,,DBAR,ITS-90,PSS-78,,PSS-78,,UMOL/KG,,UMOL/KG,,UMOL/KG,,UMOL/KG,,UMOL/KG,,UMOL/KG,,PMOL/KG,,PMOL/KG,,PMOL/KG,,UMOL/KG,,UMOL/KG,,DEG C
     316N142_3,  AR15,    19,  2,     39,     39,2,19940408,1815,  0.5005, -35.9500, 4517,      0.4,  28.1456,  36.1338,2,  36.1335,2,    213.9,2,    215.1,2,     1.80,2,     0.14,2,     0.00,2,     0.15,2,    1.713,2,    0.971,2,    2.082,2,   2013.4,2,   2359.0,2, 28.1455
     316N142_3,  AR15,    19,  2,     35,     35,2,19940408,1815,  0.5005, -35.9500, 4517,     83.8,  23.0753,  36.4561,2,  36.4441,2,    205.7,2,    184.9,2,     2.30,2,     2.10,2,     0.18,2,     0.38,2,    1.814,2,    1.031,2,    1.177,2,   2083.9,2,   2383.4,2, 23.0581
     316N142_3,  AR15,    19,  2,     38,     38,2,19940408,1815,  0.5005, -35.9500, 4517,    136.3,  13.9245,  35.4035,2,  35.4015,2,    166.1,2,    162.7,2,     7.17,2,    14.53,2,     0.02,2,     1.10,2, -999.000,9, -999.000,9, -999.000,9,   2139.8,2,   2321.9,2, 13.9048
     316N142_3,  AR15,    19,  2,     33,     33,2,19940408,1815,  0.5005, -35.9500, 4517,    191.6,  12.6738,  35.2275,2,  35.2194,2,    150.8,2,    152.2,2,     8.64,2,    17.71,2,     0.01,2,     1.29,2,    1.381,6,    0.750,6,    0.570,6,   2150.9,2,   2313.9,2, 12.6478
     316N142_3,  AR15,    19,  2,     32,     32,2,19940408,1815,  0.5005, -35.9500, 4517,    245.7,  12.3474,  35.1927,2,  35.1896,2,    147.4,2,    145.6,2,     9.14,2,    19.01,2,     0.01,2,     1.37,2, -999.000,9, -999.000,9, -999.000,9,   2158.4,2,   2308.1,2, 12.3147
     316N142_3,  AR15,    19,  2,     31,     31,2,19940408,1815,  0.5005, -35.9500, 4517,    302.1,  10.3756,  34.9507,2,  34.9487,2,    129.3,2,    143.5,2,    11.95,2,    22.92,2,     0.01,2,     1.60,2,    1.050,2,    0.563,2,    0.583,2,   2172.0,2,   2300.7,2, 10.3395
     316N142_3,  AR15,    19,  2,     37,     37,2,19940408,1815,  0.5005, -35.9500, 4517,    367.5,   8.7274,  34.7949,2,  34.7917,2,    122.3,2,    121.0,2,    16.22,2,    28.61,2,     0.01,2,     1.97,2, -999.000,9, -999.000,9, -999.000,9,   2199.6,2,   2294.7,2,  8.6879
     316N142_3,  AR15,    19,  2,     29,     29,2,19940408,1815,  0.5005, -35.9500, 4517,    458.1,   7.3383,  34.6534,2,  34.6504,2,    114.3,2,    120.1,2,    20.00,2,    31.64,2,     0.00,2,     2.15,2,    0.370,2,    0.176,2,    0.391,2,   2212.4,2,   2290.4,2,  7.2937
     316N142_3,  AR15,    19,  2,     28,     28,2,19940408,1815,  0.5005, -35.9500, 4517,    558.3,   6.3019,  34.5639,2,  34.5622,2,    134.6,2,    134.6,2,    23.30,2,    32.26,2,     0.00,2,     2.22,2,    0.234,2,    0.118,2,    0.419,2,   2210.4,2,   2291.6,2,  6.2516
     316N142_3,  AR15,    19,  2,     27,     27,2,19940408,1815,  0.5005, -35.9500, 4517,    684.7,   5.6124,  34.5087,2,  34.5062,2,    152.0,2,    149.9,2,    25.87,2,    32.22,2,     0.00,2,     2.25,2, -999.000,9, -999.000,9, -999.000,9,   2208.0,2,   2292.1,2,  5.5537
     316N142_3,  AR15,    19,  2,     26,     26,2,19940408,1815,  0.5005, -35.9500, 4517,    810.4,   4.8753,  34.5090,2,  34.5070,2,    152.1,2,    151.9,2,    30.51,2,    32.98,2,     0.00,2,     2.33,2,    0.116,2,    0.067,2,    0.302,2,   2216.5,2,   2296.3,2,  4.8097
     316N142_3,  AR15,    19,  2,     25,     25,2,19940408,1815,  0.5005, -35.9500, 4517,    937.0,   4.5164,  34.6307,2,  34.6361,2,    161.1,2,    159.2,2,    31.50,2,    31.67,2,     0.00,2,     2.24,2, -999.000,9, -999.000,9, -999.000,9,   2214.8,2,   2303.6,2,  4.4420
     316N142_3,  AR15,    19,  2,     24,     24,9,19940408,1815,  0.5005, -35.9500, 4517,   1062.8,   4.5086,  34.6871,2,-999.0000,9,    165.6,2,   -999.0,9,  -999.00,9,  -999.00,9,  -999.00,9,  -999.00,9, -999.000,9, -999.000,9, -999.000,9,   -999.0,9,   -999.0,9,  4.4232
     316N142_3,  AR15,    19,  2,     23,     23,2,19940408,1815,  0.5005, -35.9500, 4517,   1163.6,   4.5567,  34.7641,2,  34.7635,2,    172.2,2,    172.1,2,    28.11,2,    29.03,2,     0.00,2,     2.05,2, -999.000,9, -999.000,9, -999.000,9,   2207.7,2,   2309.6,2,  4.4618
     316N142_3,  AR15,    19,  2,     22,     22,2,19940408,1815,  0.5005, -35.9500, 4517,   1314.9,   4.6213,  34.9255,2,  34.9261,2,    201.9,2,    205.4,2,    21.43,2,    23.72,2,     0.00,2,     1.67,2,    0.074,2,    0.061,2,    0.321,2,   2187.2,2,   2310.5,2,  4.5116
     316N142_3,  AR15,    19,  2,     21,     21,2,19940408,1815,  0.5005, -35.9500, 4517,   1441.6,   4.3891,  34.9553,2,  34.9546,2,    222.9,2,    221.2,2,    19.75,2,    21.92,2,     0.00,2,     1.55,2, -999.000,9, -999.000,9, -999.000,9,   2178.9,2,   2309.4,2,  4.2700
     316N142_3,  AR15,    19,  2,     20,     20,2,19940408,1815,  0.5005, -35.9500, 4517,   1567.2,   4.2406,  34.9768,2,  34.9759,2,    232.1,2,    233.8,2,    18.30,2,    20.49,2,     0.00,2,     1.45,2,    0.037,2,    0.054,2,    0.487,2,   2171.9,2,   2309.3,2,  4.1114
     316N142_3,  AR15,    19,  2,     19,     19,2,19940408,1815,  0.5005, -35.9500, 4517,   1694.6,   4.0337,  34.9843,2,  34.9832,2,    243.5,2,    243.7,2,    17.83,2,    19.54,2,     0.00,2,     1.38,2,    0.075,2,    0.055,2,    0.423,2,   2167.7,2,   2310.4,2,  3.8951
     316N142_3,  AR15,    19,  2,     18,     18,2,19940408,1815,  0.5005, -35.9500, 4517,   1821.8,   3.8905,  34.9896,2,  34.9879,2,    253.0,2,    252.9,2,    16.75,2,    18.54,2,     0.00,2,     1.31,2,    0.079,6,    0.085,6,    0.722,6,   2162.4,2,   2311.3,2,  3.7417
     316N142_3,  AR15,    19,  2,     17,     17,2,19940408,1815,  0.5005, -35.9500, 4517,   1972.9,   3.6236,  34.9816,2,  34.9820,2,    257.8,2,    256.8,2,    18.11,2,    18.30,2,     0.00,2,     1.30,2,    0.144,2,    0.089,2,    0.630,2,   2162.6,2,   2317.0,2,  3.4642
     316N142_3,  AR15,    19,  2,     16,     16,2,19940408,1815,  0.5005, -35.9500, 4517,   2175.6,   3.2958,  34.9571,2,  34.9554,2,    253.0,2,    251.6,2,    23.97,2,    19.50,2,     0.00,2,     1.37,2, -999.000,9,    0.025,2,    0.175,2,   -999.0,9,   -999.0,9,  3.1222
     316N142_3,  AR15,    19,  2,     15,     15,2,19940408,1815,  0.5005, -35.9500, 4517,   2379.2,   3.0661,  34.9496,2,  34.9476,2,    253.7,2,    255.4,2,    25.57,2,    19.22,2,     0.00,2,     1.35,2, -999.000,9, -999.000,9, -999.000,9,   2169.4,2,   2319.7,2,  2.8767
     316N142_3,  AR15,    19,  2,     14,     14,2,19940408,1815,  0.5005, -35.9500, 4517,   2581.8,   2.9609,  34.9472,2,  34.9470,2,    259.5,2,    259.5,2,    24.61,2,    18.69,2,     0.00,2,     1.32,2, -999.000,9, -999.000,9, -999.000,9,   -999.0,9,   -999.0,9,  2.7536
     316N142_3,  AR15,    19,  2,     13,     13,2,19940408,1815,  0.5005, -35.9500, 4517,   2784.8,   2.8736,  34.9394,2,  34.9409,2,    258.2,2,    258.0,2,    27.06,2,    19.04,2,     0.00,2,     1.34,2,    0.035,2,    0.034,2,    0.191,2,   2169.0,2,   2321.3,2,  2.6477
     316N142_3,  AR15,    19,  2,     12,     12,2,19940408,1815,  0.5005, -35.9500, 4517,   2988.0,   2.7072,  34.9253,2,  34.9244,2,    255.3,2,    255.1,2,    31.59,2,    19.66,2,     0.00,2,     1.39,2, -999.000,9, -999.000,9, -999.000,9,   -999.0,9,   -999.0,9,  2.4640
     316N142_3,  AR15,    19,  2,     11,     11,2,19940408,1815,  0.5005, -35.9500, 4517,   3191.1,   2.5853,  34.9152,2,  34.9140,2,    254.1,2,    253.7,2,    34.41,2,    20.00,2,     0.00,2,     1.41,2, -999.000,9, -999.000,9, -999.000,9,   2178.5,2,   2328.9,2,  2.3238
     316N142_3,  AR15,    19,  2,     10,     10,2,19940408,1815,  0.5005, -35.9500, 4517,   3395.3,   2.5217,  34.9136,2,  34.9122,2,    257.1,2,    258.0,2,    32.97,2,    19.43,2,     0.00,2,     1.37,2,    0.072,2,    0.036,2,    0.246,2,   -999.0,9,   -999.0,9,  2.2400
     316N142_3,  AR15,    19,  2,      9,      9,2,19940408,1815,  0.5005, -35.9500, 4517,   3547.1,   2.4563,  34.9099,2,  34.9090,2,    260.3,2,    259.8,2,    32.99,2,    19.24,2,     0.00,2,     1.37,2,    0.076,2,    0.049,2,    0.300,2,   2175.4,2,   2323.8,2,  2.1599
     316N142_3,  AR15,    19,  2,      8,      8,2,19940408,1815,  0.5005, -35.9500, 4517,   3699.6,   2.3590,  34.9045,2,  34.9039,2,    261.3,2,    262.5,2,    32.64,2,    18.91,2,     0.00,2,     1.34,2,    0.118,2,    0.071,2,    0.482,2,   -999.0,9,   -999.0,9,  2.0484
     316N142_3,  AR15,    19,  2,      7,      7,2,19940408,1815,  0.5005, -35.9500, 4517,   3853.8,   2.3346,  34.9017,2,  34.9014,2,    262.7,2,    262.9,2,    33.15,2,    19.01,2,     0.00,2,     1.34,2, -999.000,9,    0.066,2,    0.492,2,   2175.4,2,   2325.4,2,  2.0074
     316N142_3,  AR15,    19,  2,      6,      6,2,19940408,1815,  0.5005, -35.9500, 4517,   4007.1,   2.2788,  34.8950,2,  34.8929,2,    261.8,2,    261.0,2,    36.83,2,    19.49,2,     0.00,2,     1.38,2,    0.108,2,    0.061,2,    0.474,2,   -999.0,9,   -999.0,9,  1.9359
     316N142_3,  AR15,    19,  2,      5,      5,2,19940408,1815,  0.5005, -35.9500, 4517,   4161.6,   1.7340,  34.8302,2,  34.8308,2,    251.7,2,    246.4,2,    64.18,2,    23.66,2,     0.00,2,     1.66,2,    0.017,4,    0.023,2,    0.217,2,   2208.3,2,   2341.4,2,  1.3895
     316N142_3,  AR15,    19,  2,      4,      4,2,19940408,1815,  0.5005, -35.9500, 4517,   4262.9,   1.2200,  34.7747,2,  34.7726,2,    235.7,2,    234.0,2,    88.37,2,    27.10,2,     0.00,2,     1.91,2, -999.000,9,    0.033,2,    0.113,2,   -999.0,9,   -999.0,9,  0.8798
     316N142_3,  AR15,    19,  2,      3,      3,2,19940408,1815,  0.5005, -35.9500, 4517,   4406.6,   1.1164,  34.7620,2,  34.7596,2,    230.4,2,    230.8,2,    93.90,2,    27.81,2,     0.00,2,     1.97,2, -999.000,9, -999.000,9, -999.000,9,   2238.5,2,   2357.1,2,  0.7634
     316N142_3,  AR15,    19,  2,      2,      2,2,19940408,1815,  0.5005, -35.9500, 4517,   4509.4,   0.9918,  34.7474,2,  34.7457,2,    227.5,2,    228.0,2,    99.54,2,    28.63,2,     0.00,2,     2.03,2, -999.000,9,    0.020,2,    0.044,2,   -999.0,9,   -999.0,9,  0.6311
     316N142_3,  AR15,    19,  2,      1,      1,2,19940408,1815,  0.5005, -35.9500, 4517,   4605.8,   0.9758,  34.7444,2,  34.7412,2,    226.7,2,    226.4,2,   100.55,2,    28.82,2,     0.00,2,     2.05,2,    0.025,2,    0.017,2,    0.020,2,   2246.2,2,   2360.5,2,  0.6048