BOTTLE,20020814WHPSIOKJU
EXPOCODE,SECT_ID,STNNBR,CASTNO,SAMPNO,BTLNBR,BTLNBR_FLAG_W,DATE,TIME,LATITUDE,LONGITUDE,DEPTH,CTDPRS,CTDTMP,CTDSAL,CTDSAL_FLAG_W,SALNTY,SALNTY_FLAG_W,CTDOXY,CTDOXY_FLAG_W,OXYGEN,OXYGEN_FLAG_W,SILCAT,SILCAT_FLAG_W,NITRAT,NITRAT_FLAG_W,NITRIT,NITRIT_FLAG_W,PHSPHT,PHSPHT_FLAG_W,CFC-11,CFC-11_FLAG_W,CFC-12,CFC-12_FLAG_W,CCL4,CCL4_FLAG_W,TCARBN,TCARBN_FLAG_W,ALKALI,ALKALI_FLAG_W,THETA
,,,,,,,,,,,,DBAR,ITS-90,PSS-78,,PSS-78,,UMOL/KG,,UMOL/KG,,UMOL/KG,,UMOL/KG,,UMOL/KG,,UMOL/KG,,PMOL/KG,,PMOL/KG,,PMOL/KG,,UMOL/KG,,UMOL/KG,,DEG C
     316N142_3,  AR15,   130,  1,     39,     39,2,19940514,1105,-17.4848, -28.5020, 5167,     10.2,  26.6615,  37.3179,2,  37.3185,2,    201.7,2,    202.3,2,     1.99,2,     0.00,2,     0.00,2,     0.16,2,    1.736,2,    0.987,2,    1.964,2,   2075.3,2,   2443.9,2, 26.6592
     316N142_3,  AR15,   130,  1,     35,     35,2,19940514,1105,-17.4848, -28.5020, 5167,    101.1,  24.6562,  37.0156,2,  37.0113,2,    217.7,2,    218.0,2,     1.81,2,     0.00,2,     0.00,2,     0.18,2,    1.963,2,    1.072,2,    1.620,2,   2079.2,2,   2427.3,2, 24.6343
     316N142_3,  AR15,   130,  1,     38,     38,2,19940514,1105,-17.4848, -28.5020, 5167,    185.8,  18.9931,  36.0931,2,  36.1106,2,    205.5,2,    200.1,2,     2.25,2,     0.28,2,     0.05,2,     0.40,2,    2.300,6,    1.238,6,    1.296,6,   2096.6,2,   2378.0,2, 18.9597
     316N142_3,  AR15,   130,  1,     33,     33,2,19940514,1105,-17.4848, -28.5020, 5167,    286.7,  13.8028,  35.2829,2,  35.2813,2,    178.4,2,    175.9,2,     5.49,2,    10.63,2,     0.00,2,     0.93,2, -999.000,9, -999.000,9, -999.000,9,   2124.3,2,   2314.7,2, 13.7616
     316N142_3,  AR15,   130,  1,     41,     41,2,19940514,1105,-17.4848, -28.5020, 5167,    387.4,  10.6403,  34.9000,2,  34.9010,2,    164.7,2,    160.9,2,     9.96,2,    20.06,2,     0.00,2,     1.42,2,    1.370,2,    0.684,2,    0.658,2,   2156.5,2,   2299.5,2, 10.5932
     316N142_3,  AR15,   130,  1,     31,     31,2,19940514,1105,-17.4848, -28.5020, 5167,    487.6,   7.9663,  34.6452,2,  34.6407,2,    152.8,2,    153.2,2,    16.77,2,    28.33,2,     0.00,2,     1.86,2, -999.000,9, -999.000,9, -999.000,9,   2181.8,2,   2291.4,2,  7.9164
     316N142_3,  AR15,   130,  1,     37,     37,2,19940514,1105,-17.4848, -28.5020, 5167,    623.2,   5.6312,  34.4633,2,  34.4634,2,    165.1,2,    165.8,2,    24.98,2,    32.82,2,     0.00,2,     2.12,2,    0.249,2,    0.140,2,    0.895,2,   -999.0,9,   -999.0,9,  5.5780
     316N142_3,  AR15,   130,  1,     29,     29,2,19940514,1105,-17.4848, -28.5020, 5167,    758.8,   4.3438,  34.4160,2,  34.4146,2,    175.4,2,    178.0,2,    33.52,2,    34.49,2,     0.00,2,     2.23,2, -999.000,9, -999.000,9, -999.000,9,   2205.8,2,   2282.2,2,  4.2859
     316N142_3,  AR15,   130,  1,     28,     28,2,19940514,1105,-17.4848, -28.5020, 5167,    875.0,   3.8828,  34.4468,2,  34.4440,2,    177.4,2,    180.0,2,    38.48,2,    34.43,2,     0.00,2,     2.26,2,    0.129,2,    0.044,2,    0.548,2,   2212.9,2,   2304.8,2,  3.8183
     316N142_3,  AR15,   130,  1,     27,     27,2,19940514,1105,-17.4848, -28.5020, 5167,    990.9,   3.7016,  34.5146,2,  34.5130,2,    180.3,2,    181.5,2,    40.48,2,    33.62,2,     0.00,2,     2.22,2, -999.000,9, -999.000,9, -999.000,9,   2215.0,2,   2310.6,2,  3.6290
     316N142_3,  AR15,   130,  1,     26,     26,2,19940514,1105,-17.4848, -28.5020, 5167,   1122.2,   3.8059,  34.6257,2,  34.6242,2,    181.3,2,    182.3,2,    37.48,2,    31.77,2,     0.00,2,     2.12,2, -999.000,9,    0.012,2,    0.136,2,   -999.0,9,   -999.0,9,  3.7214
     316N142_3,  AR15,   130,  1,     25,     25,9,19940514,1105,-17.4848, -28.5020, 5167,   1252.6,   3.9116,  34.7358,2,-999.0000,9,    189.8,2,   -999.0,9,  -999.00,9,  -999.00,9,  -999.00,9,  -999.00,9, -999.000,9, -999.000,9, -999.000,9,   -999.0,9,   -999.0,9,  3.8149
     316N142_3,  AR15,   130,  1,     24,     24,2,19940514,1105,-17.4848, -28.5020, 5167,   1385.0,   3.8851,  34.8174,2,  34.8186,2,    204.5,2,    204.3,2,    30.12,2,    26.40,2,     0.00,2,     1.79,2, -999.000,9, -999.000,9, -999.000,9,   -999.0,9,   -999.0,9,  3.7769
     316N142_3,  AR15,   130,  1,     23,     23,2,19940514,1105,-17.4848, -28.5020, 5167,   1556.3,   3.7379,  34.8872,2,  34.8874,2,    222.5,2,    222.8,2,    27.61,2,    23.23,2,     0.00,2,     1.60,2, -999.000,9,    0.010,2,    0.139,2,   2183.4,2,   2316.9,2,  3.6158
     316N142_3,  AR15,   130,  1,     22,     22,2,19940514,1105,-17.4848, -28.5020, 5167,   1728.8,   3.4983,  34.9146,2,  34.9145,2,    235.3,2,    235.6,2,    27.11,2,    21.66,2,     0.00,2,     1.49,2, -999.000,9, -999.000,9, -999.000,9,   -999.0,9,   -999.0,9,  3.3636
     316N142_3,  AR15,   130,  1,     21,     21,2,19940514,1105,-17.4848, -28.5020, 5167,   1910.1,   3.3581,  34.9359,2,  34.9361,2,    245.5,2,    245.7,2,    25.69,2,    20.08,2,     0.00,2,     1.41,2, -999.000,9,    0.013,2,    0.159,2,   2172.7,2,   2317.7,2,  3.2086
     316N142_3,  AR15,   130,  1,     20,     20,2,19940514,1105,-17.4848, -28.5020, 5167,   2032.8,   3.1791,  34.9244,2,  34.9237,2,    246.1,2,    244.2,2,    29.08,2,    20.64,2,     0.00,2,     1.44,2, -999.000,9,    0.009,2,    0.153,2,   -999.0,9,   -999.0,9,  3.0209
     316N142_3,  AR15,   130,  1,     19,     19,2,19940514,1105,-17.4848, -28.5020, 5167,   2155.9,   3.0752,  34.9232,2,  34.9235,2,    245.4,2,    245.4,2,    30.45,2,    20.58,2,     0.00,2,     1.43,2, -999.000,9, -999.000,9, -999.000,9,   2178.5,2,   2322.2,2,  2.9071
     316N142_3,  AR15,   130,  1,     40,     40,2,19940514,1105,-17.4848, -28.5020, 5167,   2301.9,   2.9942,  34.9238,2,  34.9237,2,    248.8,2,    247.2,2,    31.19,2,    20.38,2,     0.00,2,     1.42,2, -999.000,9, -999.000,9, -999.000,9,   -999.0,9,   -999.0,9,  2.8136
     316N142_3,  AR15,   130,  1,     17,     17,2,19940514,1105,-17.4848, -28.5020, 5167,   2477.3,   2.8547,  34.9090,2,  34.9083,2,    245.1,2,    244.1,2,    35.52,2,    21.15,2,     0.00,2,     1.47,2, -999.000,9, -999.000,9, -999.000,9,   2181.9,2,   2327.6,2,  2.6598
     316N142_3,  AR15,   130,  1,     16,     16,2,19940514,1105,-17.4848, -28.5020, 5167,   2631.1,   2.8032,  34.9079,2,  34.9072,2,    244.6,2,    244.3,2,    36.58,2,    21.29,2,     0.00,2,     1.48,2, -999.000,9,    0.004,2,    0.148,2,   -999.0,9,   -999.0,9,  2.5942
     316N142_3,  AR15,   130,  1,     15,     15,2,19940514,1105,-17.4848, -28.5020, 5167,   2809.4,   2.7503,  34.9066,2,  34.9056,2,    245.3,2,    244.9,2,    37.02,2,    21.23,2,     0.00,2,     1.47,2, -999.000,9, -999.000,9, -999.000,9,   2183.4,2,   2331.3,2,  2.5245
     316N142_3,  AR15,   130,  1,     14,     14,2,19940514,1105,-17.4848, -28.5020, 5167,   2987.9,   2.7113,  34.9072,2,  34.9066,2,    246.9,2,    246.5,2,    37.14,2,    21.17,2,     0.00,2,     1.46,2, -999.000,9, -999.000,9, -999.000,9,   -999.0,9,   -999.0,9,  2.4681
     316N142_3,  AR15,   130,  1,     13,     13,2,19940514,1105,-17.4848, -28.5020, 5167,   3190.8,   2.6443,  34.9041,2,  34.9048,2,    245.6,2,    247.6,2,    38.20,2,    21.39,2,     0.00,2,     1.46,2, -999.000,9,    0.009,2,    0.053,2,   2181.2,2,   2333.3,2,  2.3816
     316N142_3,  AR15,   130,  1,     12,     12,2,19940514,1105,-17.4848, -28.5020, 5167,   3395.5,   2.5698,  34.9028,2,  34.9030,2,    250.2,2,    250.7,2,    38.48,2,    21.12,2,     0.00,2,     1.45,2, -999.000,9, -999.000,9, -999.000,9,   -999.0,9,   -999.0,9,  2.2870
     316N142_3,  AR15,   130,  1,     11,     11,2,19940514,1105,-17.4848, -28.5020, 5167,   3599.3,   2.4341,  34.8926,2,  34.8938,2,    251.4,2,    251.3,2,    41.88,2,    21.34,2,     0.00,2,     1.46,2, -999.000,9,    0.016,2,    0.059,2,   2185.8,2,   2334.5,2,  2.1327
     316N142_3,  AR15,   130,  1,     10,     10,2,19940514,1105,-17.4848, -28.5020, 5167,   3803.7,   2.2139,  34.8710,2,  34.8704,2,    248.6,2,    249.1,2,    49.50,2,    22.53,2,     0.00,2,     1.53,2, -999.000,9, -999.000,9, -999.000,9,   -999.0,9,   -999.0,9,  1.8958
     316N142_3,  AR15,   130,  1,      9,      9,2,19940514,1105,-17.4848, -28.5020, 5167,   3981.8,   1.9063,  34.8370,2,  34.8370,2,    242.7,2,    242.2,2,    62.96,2,    24.76,3,     0.00,2,     1.67,2, -999.000,9,    0.006,2,    0.268,2,   2204.2,2,   2343.8,2,  1.5771
     316N142_3,  AR15,   130,  1,      8,      8,2,19940514,1105,-17.4848, -28.5020, 5167,   4160.9,   1.6540,  34.8127,2,  34.8117,2,    239.2,2,    239.4,2,    71.93,2,    26.09,3,     0.00,2,     1.76,2, -999.000,9, -999.000,9, -999.000,9,   -999.0,9,   -999.0,9,  1.3121
     316N142_3,  AR15,   130,  1,      7,      7,2,19940514,1105,-17.4848, -28.5020, 5167,   4314.1,   1.4603,  34.7910,2,  34.7926,2,    236.7,2,    235.8,2,    79.68,2,    27.36,3,     0.00,2,     1.84,2, -999.000,9, -999.000,9, -999.000,9,   2221.0,2,   2351.7,2,  1.1070
     316N142_3,  AR15,   130,  1,      6,      6,2,19940514,1105,-17.4848, -28.5020, 5167,   4467.7,   1.2570,  34.7690,2,  34.7701,2,    232.5,2,    232.4,2,    87.63,2,    28.42,3,     0.00,2,     1.93,2, -999.000,9, -999.000,9, -999.000,9,   -999.0,9,   -999.0,9,  0.8927
     316N142_3,  AR15,   130,  1,      5,      5,2,19940514,1105,-17.4848, -28.5020, 5167,   4621.8,   1.1011,  34.7520,2,  34.7520,2,    230.2,2,    229.8,2,    94.18,2,    29.40,3,     0.00,2,     1.99,2, -999.000,9,    0.010,2,    0.095,2,   2240.2,2,   2358.8,2,  0.7242
     316N142_3,  AR15,   130,  1,      4,      4,2,19940514,1105,-17.4848, -28.5020, 5167,   4800.7,   0.8926,  34.7290,2,  34.7288,2,    226.3,2,    226.6,2,   102.55,2,    30.74,3,     0.00,2,     2.08,2, -999.000,9, -999.000,9, -999.000,9,   -999.0,9,   -999.0,9,  0.5021
     316N142_3,  AR15,   130,  1,      3,      3,2,19940514,1105,-17.4848, -28.5020, 5167,   4980.9,   0.7107,  34.7098,2,  34.7090,2,    224.0,2,    224.0,2,   109.67,2,    31.80,3,     0.00,2,     2.15,2, -999.000,9, -999.000,9, -999.000,9,   2256.3,2,   2364.7,2,  0.3053
     316N142_3,  AR15,   130,  1,      2,      2,2,19940514,1105,-17.4848, -28.5020, 5167,   5134.9,   0.5610,  34.6933,2,  34.6939,2,    223.1,2,    222.3,2,   115.36,2,    32.65,3,     0.00,2,     2.21,2, -999.000,9,    0.035,2,    0.201,2,   -999.0,9,   -999.0,9,  0.1429
     316N142_3,  AR15,   130,  1,      1,      1,2,19940514,1105,-17.4848, -28.5020, 5167,   5293.3,   0.4586,  34.6814,2,  34.6823,2,    221.2,2,    221.4,2,   119.44,2,    33.57,3,     0.00,2,     2.24,2, -999.000,9,    0.044,6,    0.464,2,   2263.3,2,   2364.7,2,  0.0253