BOTTLE,20020814WHPSIOKJU
EXPOCODE,SECT_ID,STNNBR,CASTNO,SAMPNO,BTLNBR,BTLNBR_FLAG_W,DATE,TIME,LATITUDE,LONGITUDE,DEPTH,CTDPRS,CTDTMP,CTDSAL,CTDSAL_FLAG_W,SALNTY,SALNTY_FLAG_W,CTDOXY,CTDOXY_FLAG_W,OXYGEN,OXYGEN_FLAG_W,SILCAT,SILCAT_FLAG_W,NITRAT,NITRAT_FLAG_W,NITRIT,NITRIT_FLAG_W,PHSPHT,PHSPHT_FLAG_W,CFC-11,CFC-11_FLAG_W,CFC-12,CFC-12_FLAG_W,CCL4,CCL4_FLAG_W,TCARBN,TCARBN_FLAG_W,ALKALI,ALKALI_FLAG_W,THETA
,,,,,,,,,,,,DBAR,ITS-90,PSS-78,,PSS-78,,UMOL/KG,,UMOL/KG,,UMOL/KG,,UMOL/KG,,UMOL/KG,,UMOL/KG,,PMOL/KG,,PMOL/KG,,PMOL/KG,,UMOL/KG,,UMOL/KG,,DEG C
     316N142_3,  AR15,   119,  1,     39,     39,2,19940511,1045,-18.3067, -22.6995, 5223,      5.4,  26.1386,  37.1903,2,  37.1912,2,    205.6,2,    208.0,2,     1.67,2,     0.12,2,     0.00,2,     0.20,2, -999.000,9, -999.000,9, -999.000,9,   2078.0,2,   2436.5,2, 26.1373
     316N142_3,  AR15,   119,  1,     35,     35,2,19940511,1045,-18.3067, -22.6995, 5223,     54.7,  26.1224,  37.1897,2,  37.1898,2,    209.8,2,    208.4,2,     1.53,2,     0.12,2,     0.00,2,     0.20,2, -999.000,9, -999.000,9, -999.000,9,   2079.5,2,   2438.6,2, 26.1100
     316N142_3,  AR15,   119,  1,     38,     38,2,19940511,1045,-18.3067, -22.6995, 5223,    104.7,  23.1327,  36.6470,2,  36.6499,2,    234.5,2,    225.4,2,     1.51,2,     0.12,2,     0.00,2,     0.21,2, -999.000,9, -999.000,9, -999.000,9,   2076.4,2,   2403.0,2, 23.1110
     316N142_3,  AR15,   119,  1,     33,     33,2,19940511,1045,-18.3067, -22.6995, 5223,    205.8,  17.0514,  35.7689,2,  35.7601,2,    204.5,2,    196.0,2,     2.83,2,     3.39,2,     0.01,2,     0.54,2, -999.000,9, -999.000,9, -999.000,9,   2096.5,2,   2347.0,2, 17.0171
     316N142_3,  AR15,   119,  1,     41,     41,2,19940511,1045,-18.3067, -22.6995, 5223,    305.6,  13.0815,  35.1765,2,  35.1831,2,    183.2,2,    179.9,2,     5.59,2,    11.90,2,     0.00,2,     0.97,2, -999.000,9, -999.000,9, -999.000,9,   2122.8,2,   2311.6,2, 13.0391
     316N142_3,  AR15,   119,  1,     31,     31,2,19940511,1045,-18.3067, -22.6995, 5223,    415.8,   9.3928,  34.7728,2,  34.7792,2,    157.3,2,    153.9,2,    12.23,2,    23.82,2,     0.00,2,     1.62,2, -999.000,9, -999.000,9, -999.000,9,   2170.5,2,   2293.9,2,  9.3460
     316N142_3,  AR15,   119,  1,     37,     37,2,19940511,1045,-18.3067, -22.6995, 5223,    526.1,   6.9913,  34.5574,2,  34.5653,2,    158.9,2,    158.9,2,    18.40,2,    29.36,2,     0.00,2,     1.94,2, -999.000,9, -999.000,9, -999.000,9,   2188.8,2,   2290.4,2,  6.9412
     316N142_3,  AR15,   119,  1,     29,     29,2,19940511,1045,-18.3067, -22.6995, 5223,    637.3,   5.3197,  34.4464,2,  34.4451,2,    164.7,2,    168.8,2,    25.57,2,    32.61,2,     0.00,2,     2.15,2, -999.000,9, -999.000,9, -999.000,9,   2199.4,2,   2293.1,2,  5.2668
     316N142_3,  AR15,   119,  1,     28,     28,2,19940511,1045,-18.3067, -22.6995, 5223,    737.6,   4.4078,  34.4176,2,  34.4164,2,    173.9,2,    176.8,2,    31.91,2,    33.69,2,     0.00,2,     2.24,2, -999.000,9, -999.000,9, -999.000,9,   -999.0,9,   -999.0,9,  4.3512
     316N142_3,  AR15,   119,  1,     27,     27,2,19940511,1045,-18.3067, -22.6995, 5223,    889.1,   3.8360,  34.4646,2,  34.4615,2,    175.5,2,    179.5,2,    38.04,2,    33.84,2,     0.00,2,     2.25,2, -999.000,9, -999.000,9, -999.000,9,   -999.0,9,   -999.0,9,  3.7706
     316N142_3,  AR15,   119,  1,     26,     26,2,19940511,1045,-18.3067, -22.6995, 5223,   1010.6,   3.7166,  34.5399,2,  34.5378,2,    177.6,2,    180.1,2,    39.15,2,    33.11,2,     0.00,2,     2.21,2, -999.000,9, -999.000,9, -999.000,9,   -999.0,9,   -999.0,9,  3.6422
     316N142_3,  AR15,   119,  1,     25,     25,2,19940511,1045,-18.3067, -22.6995, 5223,   1146.5,   3.7545,  34.6360,2,  34.6348,2,    182.5,2,    183.9,2,    37.06,2,    31.38,2,     0.00,2,     2.10,2, -999.000,9, -999.000,9, -999.000,9,   -999.0,9,   -999.0,9,  3.6684
     316N142_3,  AR15,   119,  1,     24,     24,2,19940511,1045,-18.3067, -22.6995, 5223,   1262.6,   3.8065,  34.7242,2,  34.7206,2,    190.8,2,    191.2,2,    34.11,2,    29.41,2,     0.00,2,     1.98,2, -999.000,9, -999.000,9, -999.000,9,   -999.0,9,   -999.0,9,  3.7099
     316N142_3,  AR15,   119,  1,     23,     23,2,19940511,1045,-18.3067, -22.6995, 5223,   1404.3,   3.7686,  34.8118,2,  34.8108,2,    207.1,2,    205.4,2,    30.80,2,    26.56,2,     0.00,2,     1.80,2, -999.000,9, -999.000,9, -999.000,9,   -999.0,9,   -999.0,9,  3.6599
     316N142_3,  AR15,   119,  1,     22,     22,2,19940511,1045,-18.3067, -22.6995, 5223,   1546.4,   3.5945,  34.8604,2,  34.8579,2,    219.9,2,    218.8,2,    29.82,2,    24.52,2,     0.00,2,     1.67,2, -999.000,9, -999.000,9, -999.000,9,   -999.0,9,   -999.0,9,  3.4751
     316N142_3,  AR15,   119,  1,     21,     21,2,19940511,1045,-18.3067, -22.6995, 5223,   1696.4,   3.4224,  34.8943,2,  34.8921,2,    231.9,2,    230.9,2,    29.20,2,    22.72,2,     0.00,2,     1.57,2, -999.000,9, -999.000,9, -999.000,9,   -999.0,9,   -999.0,9,  3.2916
     316N142_3,  AR15,   119,  1,     20,     20,2,19940511,1045,-18.3067, -22.6995, 5223,   1839.2,   3.3082,  34.9129,2,  34.9131,2,    239.0,2,    238.6,2,    28.22,2,    21.49,2,     0.00,2,     1.50,2, -999.000,9, -999.000,9, -999.000,9,   -999.0,9,   -999.0,9,  3.1660
     316N142_3,  AR15,   119,  1,     19,     19,2,19940511,1045,-18.3067, -22.6995, 5223,   1972.0,   3.1672,  34.9165,2,  34.9160,2,    243.2,2,    241.8,2,    29.93,2,    21.25,2,     0.00,2,     1.48,2, -999.000,9, -999.000,9, -999.000,9,   -999.0,9,   -999.0,9,  3.0148
     316N142_3,  AR15,   119,  1,     40,     40,2,19940511,1045,-18.3067, -22.6995, 5223,   2173.8,   2.9605,  34.9093,2,  34.9087,2,    242.4,2,    242.3,2,    33.74,2,    21.51,2,     0.00,2,     1.49,2, -999.000,9, -999.000,9, -999.000,9,   -999.0,9,   -999.0,9,  2.7927
     316N142_3,  AR15,   119,  1,     17,     17,2,19940511,1045,-18.3067, -22.6995, 5223,   2377.8,   2.8201,  34.9048,2,  34.9038,2,    244.3,2,    242.7,2,    36.45,2,    21.59,2,     0.00,2,     1.50,2, -999.000,9, -999.000,9, -999.000,9,   -999.0,9,   -999.0,9,  2.6354
     316N142_3,  AR15,   119,  1,     16,     16,2,19940511,1045,-18.3067, -22.6995, 5223,   2580.7,   2.7592,  34.9010,2,  34.8989,2,    243.9,2,    242.5,2,    38.31,2,    21.79,2,     0.00,2,     1.51,2, -999.000,9, -999.000,9, -999.000,9,   -999.0,9,   -999.0,9,  2.5561
     316N142_3,  AR15,   119,  1,     15,     15,2,19940511,1045,-18.3067, -22.6995, 5223,   2783.2,   2.7122,  34.8993,2,  34.8965,2,    243.9,2,    242.8,2,    39.30,2,    21.81,2,     0.00,2,     1.52,2, -999.000,9, -999.000,9, -999.000,9,   -999.0,9,   -999.0,9,  2.4899
     316N142_3,  AR15,   119,  1,     14,     14,2,19940511,1045,-18.3067, -22.6995, 5223,   2987.0,   2.6693,  34.9000,2,  34.8979,2,    244.4,2,    244.4,2,    39.55,2,    21.63,2,     0.00,2,     1.50,2, -999.000,9, -999.000,9, -999.000,9,   -999.0,9,   -999.0,9,  2.4272
     316N142_3,  AR15,   119,  1,     13,     13,2,19940511,1045,-18.3067, -22.6995, 5223,   3119.4,   2.6512,  34.9015,2,  34.9006,2,    245.4,2,    245.8,2,    38.94,2,    21.40,2,     0.00,2,     1.49,2, -999.000,9, -999.000,9, -999.000,9,   -999.0,9,   -999.0,9,  2.3958
     316N142_3,  AR15,   119,  1,     12,     12,2,19940511,1045,-18.3067, -22.6995, 5223,   3250.9,   2.6122,  34.9011,2,  34.9012,2,    247.7,2,    247.4,2,    38.81,2,    21.22,2,     0.00,2,     1.48,2, -999.000,9, -999.000,9, -999.000,9,   -999.0,9,   -999.0,9,  2.3439
     316N142_3,  AR15,   119,  1,     11,     11,2,19940511,1045,-18.3067, -22.6995, 5223,   3445.9,   2.4739,  34.8900,2,  34.8896,2,    247.7,2,    247.2,2,    42.54,2,    21.67,2,     0.00,2,     1.51,2, -999.000,9, -999.000,9, -999.000,9,   -999.0,9,   -999.0,9,  2.1881
     316N142_3,  AR15,   119,  1,     10,     10,2,19940511,1045,-18.3067, -22.6995, 5223,   3649.0,   2.2531,  34.8720,2,  34.8707,2,    247.2,2,    246.7,2,    49.04,2,    22.57,2,     0.00,2,     1.56,2, -999.000,9, -999.000,9, -999.000,9,   -999.0,9,   -999.0,9,  1.9510
     316N142_3,  AR15,   119,  1,      9,      9,2,19940511,1045,-18.3067, -22.6995, 5223,   3854.4,   1.9928,  34.8470,2,  34.8458,2,    243.4,2,    244.0,2,    58.23,2,    23.97,2,     0.00,2,     1.65,2, -999.000,9, -999.000,9, -999.000,9,   -999.0,9,   -999.0,9,  1.6752
     316N142_3,  AR15,   119,  1,      8,      8,2,19940511,1045,-18.3067, -22.6995, 5223,   4058.4,   1.6420,  34.8111,2,  34.8106,2,    238.5,2,    238.6,2,    72.40,2,    26.06,2,     0.00,2,     1.77,2, -999.000,9, -999.000,9, -999.000,9,   -999.0,9,   -999.0,9,  1.3119
     316N142_3,  AR15,   119,  1,      7,      7,2,19940511,1045,-18.3067, -22.6995, 5223,   4262.2,   1.3679,  34.7824,2,  34.7817,2,    233.9,2,    234.2,2,    83.97,2,    27.78,2,     0.00,2,     1.89,2, -999.000,9, -999.000,9, -999.000,9,   -999.0,9,   -999.0,9,  1.0232
     316N142_3,  AR15,   119,  1,      6,      6,2,19940511,1045,-18.3067, -22.6995, 5223,   4466.9,   1.1449,  34.7579,2,  34.7589,2,    230.3,2,    231.2,2,    93.63,2,    29.25,2,     0.00,2,     1.97,2, -999.000,9, -999.000,9, -999.000,9,   -999.0,9,   -999.0,9,  0.7842
     316N142_3,  AR15,   119,  1,      5,      5,2,19940511,1045,-18.3067, -22.6995, 5223,   4672.7,   1.0186,  34.7439,2,  34.7434,2,    228.7,2,    229.1,2,    99.80,2,    30.15,2,     0.00,2,     2.03,2, -999.000,9, -999.000,9, -999.000,9,   -999.0,9,   -999.0,9,  0.6385
     316N142_3,  AR15,   119,  1,      4,      4,2,19940511,1045,-18.3067, -22.6995, 5223,   4878.6,   0.8651,  34.7266,2,  34.7259,2,    226.6,2,    226.5,2,   106.59,2,    30.99,2,     0.00,2,     2.10,2, -999.000,9, -999.000,9, -999.000,9,   -999.0,9,   -999.0,9,  0.4664
     316N142_3,  AR15,   119,  1,      3,      3,2,19940511,1045,-18.3067, -22.6995, 5223,   5133.4,   0.8079,  34.7176,2,  34.7169,2,    225.6,2,    225.5,2,   109.90,2,    31.52,2,     0.00,2,     2.13,2, -999.000,9, -999.000,9, -999.000,9,   -999.0,9,   -999.0,9,  0.3811
     316N142_3,  AR15,   119,  1,      2,      2,2,19940511,1045,-18.3067, -22.6995, 5223,   5392.2,   0.7980,  34.7132,2,  34.7145,2,    225.5,2,    224.9,2,   111.44,2,    31.66,2,     0.00,2,     2.14,2, -999.000,9, -999.000,9, -999.000,9,   -999.0,9,   -999.0,9,  0.3403
     316N142_3,  AR15,   119,  1,      1,      1,2,19940511,1045,-18.3067, -22.6995, 5223,   5575.9,   0.8053,  34.7114,2,  34.7119,2,    225.7,2,    224.6,2,   111.89,2,    31.75,2,     0.00,2,     2.15,2, -999.000,9, -999.000,9, -999.000,9,   -999.0,9,   -999.0,9,  0.3245