BOTTLE,20020814WHPSIOKJU
EXPOCODE,SECT_ID,STNNBR,CASTNO,SAMPNO,BTLNBR,BTLNBR_FLAG_W,DATE,TIME,LATITUDE,LONGITUDE,DEPTH,CTDPRS,CTDTMP,CTDSAL,CTDSAL_FLAG_W,SALNTY,SALNTY_FLAG_W,CTDOXY,CTDOXY_FLAG_W,OXYGEN,OXYGEN_FLAG_W,SILCAT,SILCAT_FLAG_W,NITRAT,NITRAT_FLAG_W,NITRIT,NITRIT_FLAG_W,PHSPHT,PHSPHT_FLAG_W,CFC-11,CFC-11_FLAG_W,CFC-12,CFC-12_FLAG_W,CCL4,CCL4_FLAG_W,TCARBN,TCARBN_FLAG_W,ALKALI,ALKALI_FLAG_W,THETA
,,,,,,,,,,,,DBAR,ITS-90,PSS-78,,PSS-78,,UMOL/KG,,UMOL/KG,,UMOL/KG,,UMOL/KG,,UMOL/KG,,UMOL/KG,,PMOL/KG,,PMOL/KG,,PMOL/KG,,UMOL/KG,,UMOL/KG,,DEG C
     316N142_3,  AR15,    16,  1,     39,     39,2,19940407,2341, -0.2483, -35.9485, 4497,      0.9,  27.8970,  35.6362,2,  35.6372,2,    211.3,3,    217.7,3,     2.20,2,     0.18,2,     0.00,2,     0.13,2, -999.000,9, -999.000,9, -999.000,9,   1985.3,2,   2340.3,2, 27.8968
     316N142_3,  AR15,    16,  1,     35,     35,2,19940407,2341, -0.2483, -35.9485, 4497,     68.9,  25.7791,  36.2687,2,  36.2660,2,    191.7,2,    196.7,2,     2.16,2,     0.13,2,     0.00,2,     0.19,2, -999.000,9, -999.000,9, -999.000,9,   2049.2,2,   2382.6,2, 25.7637
     316N142_3,  AR15,    16,  1,     38,     38,2,19940407,2341, -0.2483, -35.9485, 4497,    129.6,  16.1962,  35.7156,2,  35.7158,2,    170.9,2,    170.6,2,     5.88,2,    10.83,2,     0.04,2,     0.78,2, -999.000,9, -999.000,9, -999.000,9,   2123.5,2,   2351.2,2, 16.1754
     316N142_3,  AR15,    16,  1,     33,     33,2,19940407,2341, -0.2483, -35.9485, 4497,    191.8,  12.5894,  35.2184,2,  35.2001,2,    148.5,2,    148.8,2,     9.26,2,    18.57,2,     0.00,2,     1.24,2, -999.000,9, -999.000,9, -999.000,9,   2152.7,2,   2322.7,2, 12.5635
     316N142_3,  AR15,    16,  1,     32,     32,2,19940407,2341, -0.2483, -35.9485, 4497,    282.0,  11.6235,  35.1007,2,  35.0971,2,    114.8,2,    120.7,2,    11.34,2,    23.29,2,     0.00,2,     1.50,2, -999.000,9, -999.000,9, -999.000,9,   2177.7,2,   2316.8,2, 11.5873
     316N142_3,  AR15,    16,  1,     31,     31,2,19940407,2341, -0.2483, -35.9485, 4497,    348.1,   9.3083,  34.8325,2,  34.8248,2,    123.6,2,    129.7,2,    15.07,2,    26.98,2,     0.00,2,     1.76,2, -999.000,9, -999.000,9, -999.000,9,   2186.2,2,   2306.2,2,  9.2695
     316N142_3,  AR15,    16,  1,     37,     37,2,19940407,2341, -0.2483, -35.9485, 4497,    408.0,   7.8879,  34.7037,2,  34.7120,2,    114.2,2,    112.2,2,    18.91,2,    31.62,2,     0.00,2,     2.07,2, -999.000,9, -999.000,9, -999.000,9,   2207.0,2,   2302.9,2,  7.8466
     316N142_3,  AR15,    16,  1,     29,     29,2,19940407,2341, -0.2483, -35.9485, 4497,    534.2,   6.3770,  34.5692,2,  34.5697,2,    132.9,2,    133.1,2,    23.34,2,    32.78,2,     0.00,2,     2.20,2, -999.000,9, -999.000,9, -999.000,9,   2207.7,2,   2301.1,2,  6.3286
     316N142_3,  AR15,    16,  1,     28,     28,2,19940407,2341, -0.2483, -35.9485, 4497,    660.2,   5.6989,  34.5194,2,  34.5161,2,    143.8,2,    144.3,2,    26.13,2,    33.29,2,     0.00,2,     2.25,2, -999.000,9, -999.000,9, -999.000,9,   2207.0,2,   2302.5,2,  5.6420
     316N142_3,  AR15,    16,  1,     27,     27,2,19940407,2341, -0.2483, -35.9485, 4497,    760.6,   5.1245,  34.5057,2,  34.5033,2,    144.5,2,    146.8,2,    29.50,2,    34.10,2,     0.00,2,     2.33,2, -999.000,9, -999.000,9, -999.000,9,   2212.8,2,   2304.9,2,  5.0618
     316N142_3,  AR15,    16,  1,     26,     26,2,19940407,2341, -0.2483, -35.9485, 4497,    860.8,   4.6496,  34.5455,2,  34.6086,4,    151.2,2,    158.4,2,    31.58,2,    32.63,2,     0.00,2,     2.24,2, -999.000,9, -999.000,9, -999.000,9,   2213.0,2,   2312.4,2,  4.5810
     316N142_3,  AR15,    16,  1,     25,     25,2,19940407,2341, -0.2483, -35.9485, 4497,    987.1,   4.5130,  34.6576,2,  34.6248,4,    159.9,2,    159.0,2,    31.43,2,    32.43,2,     0.00,2,     2.23,2, -999.000,9, -999.000,9, -999.000,9,   2211.5,2,   -999.0,9,  4.4343
     316N142_3,  AR15,    16,  1,     24,     24,2,19940407,2341, -0.2483, -35.9485, 4497,   1113.3,   4.5086,  34.7167,2,  34.7142,2,    169.1,2,    166.3,2,    29.87,2,    30.73,2,     0.00,2,     2.11,2, -999.000,9, -999.000,9, -999.000,9,   2207.2,2,   2317.3,2,  4.4187
     316N142_3,  AR15,    16,  1,     23,     23,2,19940407,2341, -0.2483, -35.9485, 4497,   1263.7,   4.6508,  34.9140,2,  34.9144,2,    203.4,2,    201.2,2,    22.08,2,    24.65,2,     0.00,2,     1.67,2, -999.000,9, -999.000,9, -999.000,9,   -999.0,9,   -999.0,9,  4.5457
     316N142_3,  AR15,    16,  1,     22,     22,2,19940407,2341, -0.2483, -35.9485, 4497,   1415.0,   4.4393,  34.9491,2,  34.9482,2,    219.5,2,    218.5,2,    20.05,2,    22.62,2,     0.00,2,     1.53,2, -999.000,9, -999.000,9, -999.000,9,   -999.0,9,   -999.0,9,  4.3222
     316N142_3,  AR15,    16,  1,     21,     21,2,19940407,2341, -0.2483, -35.9485, 4497,   1567.8,   4.1725,  34.9782,2,  34.9771,2,    237.7,2,    237.2,2,    18.37,2,    20.59,2,     0.00,2,     1.38,2, -999.000,9, -999.000,9, -999.000,9,   -999.0,9,   -999.0,9,  4.0440
     316N142_3,  AR15,    16,  1,     20,     20,2,19940407,2341, -0.2483, -35.9485, 4497,   1719.9,   3.9247,  34.9855,2,  34.9846,2,    249.4,2,    248.9,2,    17.75,2,    19.44,2,     0.00,2,     1.28,2, -999.000,9, -999.000,9, -999.000,9,   -999.0,9,   -999.0,9,  3.7850
     316N142_3,  AR15,    16,  1,     19,     19,2,19940407,2341, -0.2483, -35.9485, 4497,   1871.0,   3.8169,  34.9888,2,  34.9882,2,    254.8,2,    255.4,2,    17.13,2,    18.67,2,     0.00,2,     1.21,2, -999.000,9, -999.000,9, -999.000,9,   -999.0,9,   -999.0,9,  3.6644
     316N142_3,  AR15,    16,  1,     18,     18,2,19940407,2341, -0.2483, -35.9485, 4497,   2023.2,   3.5785,  34.9778,2,  34.9776,2,    253.8,2,    256.9,2,    18.86,2,    18.77,2,     0.00,2,     1.23,2, -999.000,9, -999.000,9, -999.000,9,   -999.0,9,   -999.0,9,  3.4150
     316N142_3,  AR15,    16,  1,     17,     17,2,19940407,2341, -0.2483, -35.9485, 4497,   2175.7,   3.3853,  34.9642,2,  34.9646,2,    251.8,2,    254.1,2,    22.00,2,    19.30,2,     0.00,2,     1.27,2, -999.000,9, -999.000,9, -999.000,9,   -999.0,9,   -999.0,9,  3.2102
     316N142_3,  AR15,    16,  1,     16,     16,2,19940407,2341, -0.2483, -35.9485, 4497,   2377.0,   3.1521,  34.9507,2,  34.9516,2,    252.6,2,    253.8,2,    25.26,2,    19.63,2,     0.00,2,     1.29,2, -999.000,9, -999.000,9, -999.000,9,   -999.0,9,   -999.0,9,  2.9615
     316N142_3,  AR15,    16,  1,     15,     15,2,19940407,2341, -0.2483, -35.9485, 4497,   2580.1,   2.9932,  34.9485,2,  34.9381,4,    259.2,2,    259.5,2,    24.40,2,    18.91,2,     0.00,2,     1.25,2, -999.000,9, -999.000,9, -999.000,9,   -999.0,9,   -999.0,9,  2.7855
     316N142_3,  AR15,    16,  1,     14,     14,2,19940407,2341, -0.2483, -35.9485, 4497,   2782.3,   2.8800,  34.9401,2,  34.9396,2,    256.9,2,    259.0,2,    26.36,2,    19.06,2,     0.00,2,     1.26,2, -999.000,9, -999.000,9, -999.000,9,   -999.0,9,   -999.0,9,  2.6542
     316N142_3,  AR15,    16,  1,     13,     13,2,19940407,2341, -0.2483, -35.9485, 4497,   2984.9,   2.7597,  34.9298,2,  34.9290,2,    256.4,2,    256.9,2,    29.39,2,    19.54,2,     0.00,2,     1.28,2, -999.000,9, -999.000,9, -999.000,9,   -999.0,9,   -999.0,9,  2.5158
     316N142_3,  AR15,    16,  1,     12,     12,2,19940407,2341, -0.2483, -35.9485, 4497,   3188.5,   2.5883,  34.9140,2,  34.9217,4,    254.1,2,    252.9,2,    34.88,2,    20.35,2,     0.00,2,     1.33,2, -999.000,9, -999.000,9, -999.000,9,   -999.0,9,   -999.0,9,  2.3270
     316N142_3,  AR15,    16,  1,     11,     11,2,19940407,2341, -0.2483, -35.9485, 4497,   3340.0,   2.5403,  34.9176,2,  34.9159,2,    262.1,2,    260.8,2,    30.38,2,    19.20,2,     0.00,2,     1.26,2, -999.000,9, -999.000,9, -999.000,9,   -999.0,9,   -999.0,9,  2.2640
     316N142_3,  AR15,    16,  1,     10,     10,2,19940407,2341, -0.2483, -35.9485, 4497,   3493.2,   2.4864,  34.9136,2,  34.9121,2,    263.7,2,    261.9,2,    30.82,2,    19.15,2,     0.00,2,     1.26,2, -999.000,9, -999.000,9, -999.000,9,   -999.0,9,   -999.0,9,  2.1950
     316N142_3,  AR15,    16,  1,      9,      9,2,19940407,2341, -0.2483, -35.9485, 4497,   3646.6,   2.3736,  34.9065,2,  34.9049,2,    264.7,2,    263.2,2,    31.72,2,    19.10,2,     0.00,2,     1.27,2, -999.000,9, -999.000,9, -999.000,9,   -999.0,9,   -999.0,9,  2.0684
     316N142_3,  AR15,    16,  1,      8,      8,2,19940407,2341, -0.2483, -35.9485, 4497,   3810.8,   2.3454,  34.9033,2,  34.9031,2,    264.8,2,    263.3,2,    32.63,2,    19.20,2,     0.00,2,     1.27,2, -999.000,9, -999.000,9, -999.000,9,   -999.0,9,   -999.0,9,  2.0227
     316N142_3,  AR15,    16,  1,      7,      7,2,19940407,2341, -0.2483, -35.9485, 4497,   3985.0,   2.3121,  34.8991,2,  34.8968,2,    263.3,2,    262.8,2,    33.89,2,    19.39,2,     0.00,2,     1.28,2, -999.000,9, -999.000,9, -999.000,9,   -999.0,9,   -999.0,9,  1.9708
     316N142_3,  AR15,    16,  1,      6,      6,2,19940407,2341, -0.2483, -35.9485, 4497,   4138.1,   2.1204,  34.8760,2,  34.8779,4,    253.8,3,    257.5,2,    43.50,2,    20.88,2,     0.00,2,     1.37,2, -999.000,9, -999.000,9, -999.000,9,   -999.0,9,   -999.0,9,  1.7672
     316N142_3,  AR15,    16,  1,      5,      5,2,19940407,2341, -0.2483, -35.9485, 4497,   4220.5,   1.6041,  34.8169,2,  34.8133,4,    240.2,3,    243.3,2,    68.66,2,    24.90,2,     0.00,2,     1.65,2, -999.000,9,    0.021,2,    0.209,2,   -999.0,9,   -999.0,9,  1.2570
     316N142_3,  AR15,    16,  1,      4,      4,2,19940407,2341, -0.2483, -35.9485, 4497,   4311.1,   1.2836,  34.7795,2,  34.7769,2,    232.1,3,    234.5,2,    84.15,2,    27.39,2,     0.00,2,     1.85,2, -999.000,9, -999.000,9, -999.000,9,   -999.0,9,   -999.0,9,  0.9361
     316N142_3,  AR15,    16,  1,      3,      3,2,19940407,2341, -0.2483, -35.9485, 4497,   4397.8,   1.0792,  34.7566,2,  34.7533,4,    230.0,3,    229.3,2,    93.55,2,    29.06,2,     0.00,2,     1.93,2,    0.021,2,    0.006,2,    0.039,2,   -999.0,9,   -999.0,9,  0.7283
     316N142_3,  AR15,    16,  1,      2,      2,2,19940407,2341, -0.2483, -35.9485, 4497,   4514.4,   0.9817,  34.7448,2,  34.7437,2,    230.7,4,    226.2,2,    98.57,2,    29.36,2,     0.00,2,     1.99,2, -999.000,9, -999.000,9, -999.000,9,   -999.0,9,   -999.0,9,  0.6208
     316N142_3,  AR15,    16,  1,      1,      1,2,19940407,2341, -0.2483, -35.9485, 4497,   4581.8,   0.9603,  34.7412,2,  34.7406,2,    231.5,4,    225.8,2,   100.35,2,    29.66,2,     0.00,2,     1.99,2,    0.009,4,    0.017,2,    0.066,2,   -999.0,9,   -999.0,9,  0.5925