BOTTLE,20020814WHPSIOKJU
EXPOCODE,SECT_ID,STNNBR,CASTNO,SAMPNO,BTLNBR,BTLNBR_FLAG_W,DATE,TIME,LATITUDE,LONGITUDE,DEPTH,CTDPRS,CTDTMP,CTDSAL,CTDSAL_FLAG_W,SALNTY,SALNTY_FLAG_W,CTDOXY,CTDOXY_FLAG_W,OXYGEN,OXYGEN_FLAG_W,SILCAT,SILCAT_FLAG_W,NITRAT,NITRAT_FLAG_W,NITRIT,NITRIT_FLAG_W,PHSPHT,PHSPHT_FLAG_W,CFC-11,CFC-11_FLAG_W,CFC-12,CFC-12_FLAG_W,CCL4,CCL4_FLAG_W,TCARBN,TCARBN_FLAG_W,ALKALI,ALKALI_FLAG_W,THETA
,,,,,,,,,,,,DBAR,ITS-90,PSS-78,,PSS-78,,UMOL/KG,,UMOL/KG,,UMOL/KG,,UMOL/KG,,UMOL/KG,,UMOL/KG,,PMOL/KG,,PMOL/KG,,PMOL/KG,,UMOL/KG,,UMOL/KG,,DEG C
     316N142_3,   A15,    89,  1,     39,     39,2,19940430,1659,-22.0848, -18.9995, 4811,      7.2,  25.8388,  36.9753,2,  36.9745,2,    205.3,2,    206.4,2,     1.62,2,     0.06,2,     0.00,2,     0.13,2, -999.000,9, -999.000,9, -999.000,9,   -999.0,9,   -999.0,9, 25.8372
     316N142_3,   A15,    89,  1,     35,     35,2,19940430,1659,-22.0848, -18.9995, 4811,     80.4,  23.5802,  36.5728,2,  36.5954,2,    220.5,2,    226.7,2,     1.47,2,     0.07,2,     0.00,2,     0.10,2, -999.000,9, -999.000,9, -999.000,9,   -999.0,9,   -999.0,9, 23.5634
     316N142_3,   A15,    89,  1,     38,     38,2,19940430,1659,-22.0848, -18.9995, 4811,    136.1,  19.4317,  36.1098,2,  36.1128,2,    219.0,2,    219.9,2,     1.46,2,     0.06,2,     0.01,2,     0.19,2, -999.000,9, -999.000,9, -999.000,9,   -999.0,9,   -999.0,9, 19.4070
     316N142_3,   A15,    89,  1,     33,     33,2,19940430,1659,-22.0848, -18.9995, 4811,    206.1,  16.2681,  35.6177,2,  35.5941,2,    212.1,2,    208.1,2,     2.63,2,     3.12,2,     0.00,2,     0.44,2, -999.000,9, -999.000,9, -999.000,9,   -999.0,9,   -999.0,9, 16.2349
     316N142_3,   A15,    89,  1,     41,     41,2,19940430,1659,-22.0848, -18.9995, 4811,    306.7,  13.2426,  35.1818,2,  35.1858,2,    199.6,2,    200.4,2,     4.63,2,     9.53,2,     0.00,2,     0.80,2, -999.000,9, -999.000,9, -999.000,9,   -999.0,9,   -999.0,9, 13.1996
     316N142_3,   A15,    89,  1,     31,     31,2,19940430,1659,-22.0848, -18.9995, 4811,    407.0,  10.6990,  34.8918,2,  34.8785,2,    189.1,2,    188.5,2,     8.20,2,    16.93,2,     0.00,2,     1.23,2, -999.000,9, -999.000,9, -999.000,9,   -999.0,9,   -999.0,9, 10.6493
     316N142_3,   A15,    89,  1,     37,     37,2,19940430,1659,-22.0848, -18.9995, 4811,    508.0,   8.5462,  34.6623,2,  34.6655,2,    180.1,2,    180.6,2,    12.77,2,    22.83,2,     0.00,2,     1.57,2, -999.000,9, -999.000,9, -999.000,9,   -999.0,9,   -999.0,9,  8.4920
     316N142_3,   A15,    89,  1,     29,     29,2,19940430,1659,-22.0848, -18.9995, 4811,    598.2,   6.6314,  34.4989,2,  34.4972,2,    175.4,2,    178.5,2,    18.78,2,    27.90,2,     0.00,2,     1.89,2, -999.000,9, -999.000,9, -999.000,9,   -999.0,9,   -999.0,9,  6.5759
     316N142_3,   A15,    89,  1,     28,     28,2,19940430,1659,-22.0848, -18.9995, 4811,    668.8,   5.5906,  34.4272,2,  34.4261,2,    183.4,2,    183.8,2,    22.78,2,    29.78,2,     0.00,2,     2.01,2, -999.000,9, -999.000,9, -999.000,9,   -999.0,9,   -999.0,9,  5.5335
     316N142_3,   A15,    89,  1,     27,     27,2,19940430,1659,-22.0848, -18.9995, 4811,    729.3,   4.9720,  34.4019,2,  34.4026,2,    183.4,2,    182.5,2,    27.07,2,    31.33,2,     0.00,2,     2.11,2, -999.000,9, -999.000,9, -999.000,9,   -999.0,9,   -999.0,9,  4.9129
     316N142_3,   A15,    89,  1,     26,     26,2,19940430,1659,-22.0848, -18.9995, 4811,    779.6,   4.4375,  34.3767,2,  34.3761,2,    188.2,2,    192.5,2,    30.64,2,    31.56,2,     0.00,2,     2.12,2, -999.000,9, -999.000,9, -999.000,9,   -999.0,9,   -999.0,9,  4.3773
     316N142_3,   A15,    89,  1,     25,     25,2,19940430,1659,-22.0848, -18.9995, 4811,    859.7,   3.9152,  34.4062,2,  34.4057,2,    186.4,2,    187.4,2,    37.67,2,    32.65,2,     0.00,2,     2.20,2, -999.000,9, -999.000,9, -999.000,9,   -999.0,9,   -999.0,9,  3.8518
     316N142_3,   A15,    89,  1,     24,     24,2,19940430,1659,-22.0848, -18.9995, 4811,    970.8,   3.6407,  34.4743,2,  34.4722,2,    180.5,2,    182.6,2,    42.55,2,    32.83,2,     0.00,2,     2.22,2, -999.000,9, -999.000,9, -999.000,9,   -999.0,9,   -999.0,9,  3.5702
     316N142_3,   A15,    89,  1,     23,     23,2,19940430,1659,-22.0848, -18.9995, 4811,   1121.9,   3.5106,  34.5967,2,  34.5961,2,    184.3,2,    186.5,2,    43.54,2,    31.12,2,     0.00,2,     2.11,2, -999.000,9, -999.000,9, -999.000,9,   -999.0,9,   -999.0,9,  3.4288
     316N142_3,   A15,    89,  1,     22,     22,2,19940430,1659,-22.0848, -18.9995, 4811,   1233.0,   3.5620,  34.6823,2,  34.6817,2,    191.4,2,    192.2,2,    40.91,2,    29.37,2,     0.00,2,     2.00,2, -999.000,9, -999.000,9, -999.000,9,   -999.0,9,   -999.0,9,  3.4703
     316N142_3,   A15,    89,  1,     21,     21,2,19940430,1659,-22.0848, -18.9995, 4811,   1334.1,   3.5918,  34.7506,2,  34.7492,2,    198.5,2,    199.5,2,    38.00,2,    27.62,2,     0.00,2,     1.88,2, -999.000,9, -999.000,9, -999.000,9,   -999.0,9,   -999.0,9,  3.4911
     316N142_3,   A15,    89,  1,     20,     20,2,19940430,1659,-22.0848, -18.9995, 4811,   1415.0,   3.5463,  34.7810,2,  34.7804,2,    206.6,2,    204.5,2,    36.97,2,    26.68,2,     0.00,2,     1.81,2, -999.000,9, -999.000,9, -999.000,9,   -999.0,9,   -999.0,9,  3.4391
     316N142_3,   A15,    89,  1,     19,     19,2,19940430,1659,-22.0848, -18.9995, 4811,   1567.2,   3.4611,  34.8595,2,  34.8601,2,    222.3,2,    222.5,2,    32.64,2,    23.82,2,     0.00,2,     1.62,2, -999.000,9, -999.000,9, -999.000,9,   -999.0,9,   -999.0,9,  3.3414
     316N142_3,   A15,    89,  1,     40,     40,2,19940430,1659,-22.0848, -18.9995, 4811,   1719.2,   3.4192,  34.9065,2,  34.9069,2,    236.5,2,    236.5,2,    28.46,2,    21.71,2,     0.00,2,     1.47,2, -999.000,9, -999.000,9, -999.000,9,   -999.0,9,   -999.0,9,  3.2863
     316N142_3,   A15,    89,  1,     17,     17,2,19940430,1659,-22.0848, -18.9995, 4811,   1896.7,   3.3368,  34.9335,2,  34.9342,2,    246.3,2,    246.3,2,    25.58,2,    20.26,2,     0.00,2,     1.38,2, -999.000,9, -999.000,9, -999.000,9,   -999.0,9,   -999.0,9,  3.1889
     316N142_3,   A15,    89,  1,     16,     16,2,19940430,1659,-22.0848, -18.9995, 4811,   2073.8,   3.2440,  34.9412,2,  34.9415,2,    250.0,2,    250.6,2,    25.14,2,    19.79,2,     0.00,2,     1.35,2, -999.000,9, -999.000,9, -999.000,9,   -999.0,9,   -999.0,9,  3.0809
     316N142_3,   A15,    89,  1,     15,     15,2,19940430,1659,-22.0848, -18.9995, 4811,   2277.2,   3.1030,  34.9386,2,  34.9382,2,    252.9,2,    252.0,2,    26.69,2,    19.70,2,     0.00,2,     1.35,2, -999.000,9, -999.000,9, -999.000,9,   -999.0,9,   -999.0,9,  2.9228
     316N142_3,   A15,    89,  1,     14,     14,2,19940430,1659,-22.0848, -18.9995, 4811,   2469.6,   2.9819,  34.9320,2,  34.9323,2,    252.7,2,    251.9,2,    28.67,2,    19.93,2,     0.00,2,     1.36,2, -999.000,9, -999.000,9, -999.000,9,   -999.0,9,   -999.0,9,  2.7853
     316N142_3,   A15,    89,  1,     13,     13,2,19940430,1659,-22.0848, -18.9995, 4811,   2683.9,   2.8591,  34.9254,2,  34.9256,2,    252.3,2,    251.6,2,    31.08,2,    20.16,2,     0.00,2,     1.37,2, -999.000,9, -999.000,9, -999.000,9,   -999.0,9,   -999.0,9,  2.6437
     316N142_3,   A15,    89,  1,     12,     12,2,19940430,1659,-22.0848, -18.9995, 4811,   2887.6,   2.7719,  34.9204,2,  34.9205,2,    251.6,2,    252.2,2,    33.06,2,    20.30,2,     0.00,2,     1.38,2, -999.000,9, -999.000,9, -999.000,9,   -999.0,9,   -999.0,9,  2.5377
     316N142_3,   A15,    89,  1,     11,     11,2,19940430,1659,-22.0848, -18.9995, 4811,   3091.4,   2.6758,  34.9150,2,  34.9150,2,    252.6,2,    253.0,2,    34.76,2,    20.39,2,     0.00,2,     1.39,2, -999.000,9, -999.000,9, -999.000,9,   -999.0,9,   -999.0,9,  2.4227
     316N142_3,   A15,    89,  1,     10,     10,2,19940430,1659,-22.0848, -18.9995, 4811,   3295.5,   2.5699,  34.9068,2,  34.9066,2,    252.6,2,    253.1,2,    37.46,2,    20.66,2,     0.00,2,     1.41,2, -999.000,9, -999.000,9, -999.000,9,   -999.0,9,   -999.0,9,  2.2977
     316N142_3,   A15,    89,  1,      9,      9,2,19940430,1659,-22.0848, -18.9995, 4811,   3499.1,   2.4052,  34.8911,2,  34.8901,2,    251.2,2,    251.3,2,    43.31,2,    21.31,2,     0.00,2,     1.47,2, -999.000,9, -999.000,9, -999.000,9,   -999.0,9,   -999.0,9,  2.1154
     316N142_3,   A15,    89,  1,      8,      8,2,19940430,1659,-22.0848, -18.9995, 4811,   3652.0,   2.1728,  34.8650,2,  34.8646,2,    246.0,2,    246.5,2,    53.08,2,    22.75,2,     0.00,2,     1.56,2, -999.000,9, -999.000,9, -999.000,9,   -999.0,9,   -999.0,9,  1.8724
     316N142_3,   A15,    89,  1,      7,      7,2,19940430,1659,-22.0848, -18.9995, 4811,   3805.2,   1.9549,  34.8404,2,  34.8404,2,    242.8,2,    242.5,2,    61.60,2,    23.96,2,     0.00,2,     1.65,2, -999.000,9, -999.000,9, -999.000,9,   -999.0,9,   -999.0,9,  1.6438
     316N142_3,   A15,    89,  1,      6,      6,2,19940430,1659,-22.0848, -18.9995, 4811,   4009.7,   1.6350,  34.8082,2,  34.8082,2,    238.6,2,    238.0,2,    73.24,2,    25.59,2,     0.00,2,     1.76,2, -999.000,9, -999.000,9, -999.000,9,   -999.0,9,   -999.0,9,  1.3104
     316N142_3,   A15,    89,  1,      5,      5,2,19940430,1659,-22.0848, -18.9995, 4811,   4214.1,   1.3114,  34.7776,2,  34.7766,2,    234.5,2,    233.6,2,    84.40,2,    27.17,2,     0.00,2,     1.87,2, -999.000,9, -999.000,9, -999.000,9,   -999.0,9,   -999.0,9,  0.9738
     316N142_3,   A15,    89,  1,      4,      4,2,19940430,1659,-22.0848, -18.9995, 4811,   4419.2,   1.1865,  34.7616,2,  34.7621,2,    231.9,2,    231.6,2,    89.26,2,    27.92,2,     0.00,2,     1.92,2, -999.000,9, -999.000,9, -999.000,9,   -999.0,9,   -999.0,9,  0.8299
     316N142_3,   A15,    89,  1,      3,      3,2,19940430,1659,-22.0848, -18.9995, 4811,   4609.2,   1.0871,  34.7500,2,  34.7506,2,    230.8,2,    230.2,2,    93.24,2,    28.47,2,     0.00,2,     1.96,2, -999.000,9, -999.000,9, -999.000,9,   -999.0,9,   -999.0,9,  0.7121
     316N142_3,   A15,    89,  1,      2,      2,2,19940430,1659,-22.0848, -18.9995, 4811,   4763.5,   1.0861,  34.7478,2,  34.7488,2,    230.2,2,    230.2,2,    93.50,2,    28.52,2,     0.00,2,     1.97,2, -999.000,9, -999.000,9, -999.000,9,   -999.0,9,   -999.0,9,  0.6934
     316N142_3,   A15,    89,  1,      1,      1,2,19940430,1659,-22.0848, -18.9995, 4811,   4916.4,   1.0981,  34.7478,2,  34.7480,2,    230.0,2,    229.7,2,    94.05,2,    28.56,2,     0.00,2,     1.97,2, -999.000,9, -999.000,9, -999.000,9,   -999.0,9,   -999.0,9,  0.6870