BOTTLE,20020814WHPSIOKJU
#code : jjward hyd_to_exchange.pl 
#original files copied from HTML directory: 20020814
#original HYD file: a15hy.txt   Tue Jul 30 13:50:30 2002
#original SUM file: a15su.txt   Wed Mar 28 12:47:48 2001
EXPOCODE,SECT_ID,STNNBR,CASTNO,SAMPNO,BTLNBR,BTLNBR_FLAG_W,DATE,TIME,LATITUDE,LONGITUDE,DEPTH,CTDPRS,CTDTMP,CTDSAL,CTDSAL_FLAG_W,SALNTY,SALNTY_FLAG_W,CTDOXY,CTDOXY_FLAG_W,OXYGEN,OXYGEN_FLAG_W,SILCAT,SILCAT_FLAG_W,NITRAT,NITRAT_FLAG_W,NITRIT,NITRIT_FLAG_W,PHSPHT,PHSPHT_FLAG_W,CFC-11,CFC-11_FLAG_W,CFC-12,CFC-12_FLAG_W,CCL4,CCL4_FLAG_W,TCARBN,TCARBN_FLAG_W,ALKALI,ALKALI_FLAG_W,THETA
,,,,,,,,,,,,DBAR,ITS-90,PSS-78,,PSS-78,,UMOL/KG,,UMOL/KG,,UMOL/KG,,UMOL/KG,,UMOL/KG,,UMOL/KG,,PMOL/KG,,PMOL/KG,,PMOL/KG,,UMOL/KG,,UMOL/KG,,DEG C
     316N142_3,  AR15,     1,  1,     25,     25,9,19940404,2038, -3.9982, -37.4570,  212,      2.5,  28.8768,  36.0716,2,-999.0000,9,    206.9,2,   -999.0,9,  -999.00,9,  -999.00,9,  -999.00,9,  -999.00,9, -999.000,9, -999.000,9, -999.000,9,   -999.0,9,   -999.0,9, 28.8762
     316N142_3,  AR15,     1,  1,     19,     19,2,19940404,2038, -3.9982, -37.4570,  212,      2.6,  28.8601,  36.0728,2,  36.0734,2,    202.2,2,    200.5,2,     1.86,2,     0.12,2,     0.00,2,     0.08,2,    1.822,2,    1.034,2,    1.971,2,   -999.0,9,   -999.0,9, 28.8594
     316N142_3,  AR15,     1,  1,     20,     20,2,19940404,2038, -3.9982, -37.4570,  212,      2.6,  28.8703,  36.0723,2,  36.0829,2,    202.2,2,    200.4,2,     1.98,2,     0.17,2,     0.01,2,     0.13,2, -999.000,9, -999.000,9, -999.000,9,   -999.0,9,   -999.0,9, 28.8696
     316N142_3,  AR15,     1,  1,     24,     24,9,19940404,2038, -3.9982, -37.4570,  212,      2.6,  28.8818,  36.0710,2,-999.0000,9,    202.7,2,   -999.0,9,  -999.00,9,  -999.00,9,  -999.00,9,  -999.00,9, -999.000,9, -999.000,9, -999.000,9,   -999.0,9,   -999.0,9, 28.8811
     316N142_3,  AR15,     1,  1,     26,     26,9,19940404,2038, -3.9982, -37.4570,  212,      2.6,  28.8777,  36.0712,2,-999.0000,9,    202.2,2,   -999.0,9,  -999.00,9,  -999.00,9,  -999.00,9,  -999.00,9, -999.000,9, -999.000,9, -999.000,9,   -999.0,9,   -999.0,9, 28.8770
     316N142_3,  AR15,     1,  1,     30,     30,9,19940404,2038, -3.9982, -37.4570,  212,      2.6,  28.8761,  36.0721,2,-999.0000,9,    202.2,2,   -999.0,9,  -999.00,9,  -999.00,9,  -999.00,9,  -999.00,9, -999.000,9, -999.000,9, -999.000,9,   -999.0,9,   -999.0,9, 28.8754
     316N142_3,  AR15,     1,  1,     23,     23,9,19940404,2038, -3.9982, -37.4570,  212,      2.7,  28.8774,  36.0719,2,-999.0000,9,    202.2,2,   -999.0,9,  -999.00,9,  -999.00,9,  -999.00,9,  -999.00,9, -999.000,9, -999.000,9, -999.000,9,   -999.0,9,   -999.0,9, 28.8767
     316N142_3,  AR15,     1,  1,     21,     21,9,19940404,2038, -3.9982, -37.4570,  212,      2.7,  28.8806,  36.0716,2,-999.0000,9,    202.2,2,   -999.0,9,  -999.00,9,  -999.00,9,  -999.00,9,  -999.00,9, -999.000,9, -999.000,9, -999.000,9,   -999.0,9,   -999.0,9, 28.8799
     316N142_3,  AR15,     1,  1,     29,     29,9,19940404,2038, -3.9982, -37.4570,  212,      2.7,  28.8842,  36.0711,2,-999.0000,9,    202.7,2,   -999.0,9,  -999.00,9,  -999.00,9,  -999.00,9,  -999.00,9, -999.000,9, -999.000,9, -999.000,9,   -999.0,9,   -999.0,9, 28.8835
     316N142_3,  AR15,     1,  1,     31,     31,9,19940404,2038, -3.9982, -37.4570,  212,      2.7,  28.8793,  36.0712,2,-999.0000,9,    202.2,2,   -999.0,9,  -999.00,9,  -999.00,9,  -999.00,9,  -999.00,9, -999.000,9, -999.000,9, -999.000,9,   -999.0,9,   -999.0,9, 28.8786
     316N142_3,  AR15,     1,  1,     22,     22,9,19940404,2038, -3.9982, -37.4570,  212,      2.7,  28.8725,  36.0722,2,-999.0000,9,    202.2,2,   -999.0,9,  -999.00,9,  -999.00,9,  -999.00,9,  -999.00,9, -999.000,9, -999.000,9, -999.000,9,   -999.0,9,   -999.0,9, 28.8718
     316N142_3,  AR15,     1,  1,     34,     34,9,19940404,2038, -3.9982, -37.4570,  212,      2.7,  28.8593,  36.0729,2,-999.0000,9,    202.2,2,   -999.0,9,  -999.00,9,  -999.00,9,  -999.00,9,  -999.00,9, -999.000,9, -999.000,9, -999.000,9,   -999.0,9,   -999.0,9, 28.8586
     316N142_3,  AR15,     1,  1,     33,     33,9,19940404,2038, -3.9982, -37.4570,  212,      2.7,  28.8579,  36.0726,2,-999.0000,9,    202.2,2,   -999.0,9,  -999.00,9,  -999.00,9,  -999.00,9,  -999.00,9, -999.000,9, -999.000,9, -999.000,9,   -999.0,9,   -999.0,9, 28.8572
     316N142_3,  AR15,     1,  1,     32,     32,9,19940404,2038, -3.9982, -37.4570,  212,      2.7,  28.8741,  36.0712,2,-999.0000,9,    202.2,2,   -999.0,9,  -999.00,9,  -999.00,9,  -999.00,9,  -999.00,9, -999.000,9, -999.000,9, -999.000,9,   -999.0,9,   -999.0,9, 28.8734
     316N142_3,  AR15,     1,  1,     28,     28,9,19940404,2038, -3.9982, -37.4570,  212,      2.8,  28.8898,  36.0705,2,-999.0000,9,    202.7,2,   -999.0,9,  -999.00,9,  -999.00,9,  -999.00,9,  -999.00,9, -999.000,9, -999.000,9, -999.000,9,   -999.0,9,   -999.0,9, 28.8891
     316N142_3,  AR15,     1,  1,     36,     36,9,19940404,2038, -3.9982, -37.4570,  212,      2.8,  28.8790,  36.0711,2,-999.0000,9,    202.2,2,   -999.0,9,  -999.00,9,  -999.00,9,  -999.00,9,  -999.00,9, -999.000,9, -999.000,9, -999.000,9,   -999.0,9,   -999.0,9, 28.8783
     316N142_3,  AR15,     1,  1,     35,     35,9,19940404,2038, -3.9982, -37.4570,  212,      2.8,  28.8792,  36.0702,2,-999.0000,9,    202.2,2,   -999.0,9,  -999.00,9,  -999.00,9,  -999.00,9,  -999.00,9, -999.000,9, -999.000,9, -999.000,9,   -999.0,9,   -999.0,9, 28.8785
     316N142_3,  AR15,     1,  1,     27,     27,9,19940404,2038, -3.9982, -37.4570,  212,      2.8,  28.8832,  36.0712,2,-999.0000,9,    202.2,2,   -999.0,9,  -999.00,9,  -999.00,9,  -999.00,9,  -999.00,9, -999.000,9, -999.000,9, -999.000,9,   -999.0,9,   -999.0,9, 28.8825
     316N142_3,  AR15,     1,  1,     17,     17,2,19940404,2038, -3.9982, -37.4570,  212,     36.9,  28.4926,  36.7038,2,  36.7619,3,    203.3,2,    201.0,2,     1.73,2,     0.12,2,     0.00,2,     0.07,2, -999.000,9, -999.000,9, -999.000,9,   -999.0,9,   -999.0,9, 28.4838
     316N142_3,  AR15,     1,  1,     18,     18,9,19940404,2038, -3.9982, -37.4570,  212,     37.0,  28.4929,  36.6995,2,-999.0000,9,    203.2,2,   -999.0,9,  -999.00,9,  -999.00,9,  -999.00,9,  -999.00,9, -999.000,9, -999.000,9, -999.000,9,   -999.0,9,   -999.0,9, 28.4840
     316N142_3,  AR15,     1,  1,     16,     16,2,19940404,2038, -3.9982, -37.4570,  212,     57.2,  27.6183,  36.7785,2,  36.7871,2,    203.3,2,    204.5,2,     1.72,2,     0.21,2,     0.01,2,     0.07,2, -999.000,9, -999.000,9, -999.000,9,   -999.0,9,   -999.0,9, 27.6049
     316N142_3,  AR15,     1,  1,     15,     15,2,19940404,2038, -3.9982, -37.4570,  212,     57.3,  27.5709,  36.7792,2,  36.7871,2,    202.9,2,    204.4,2,     1.71,2,     0.21,2,     0.01,2,     0.07,2, -999.000,9, -999.000,9, -999.000,9,   -999.0,9,   -999.0,9, 27.5575
     316N142_3,  AR15,     1,  1,     14,     14,2,19940404,2038, -3.9982, -37.4570,  212,     77.1,  25.3654,  36.9222,2,  36.9184,2,    201.5,2,    202.0,2,     1.70,2,     0.62,2,     0.17,2,     0.12,2, -999.000,9, -999.000,9, -999.000,9,   -999.0,9,   -999.0,9, 25.3484
     316N142_3,  AR15,     1,  1,     13,     13,2,19940404,2038, -3.9982, -37.4570,  212,     77.2,  25.3667,  36.9215,2,  36.9160,2,    201.3,2,    203.1,2,     1.69,2,     0.56,2,     0.17,2,     0.12,2, -999.000,9, -999.000,9, -999.000,9,   -999.0,9,   -999.0,9, 25.3497
     316N142_3,  AR15,     1,  1,     11,     11,2,19940404,2038, -3.9982, -37.4570,  212,    106.9,  24.6359,  36.8951,2,  36.8912,2,    200.6,2,    201.1,2,     1.78,2,     0.81,2,     0.18,2,     0.13,2, -999.000,9, -999.000,9, -999.000,9,   -999.0,9,   -999.0,9, 24.6128
     316N142_3,  AR15,     1,  1,     12,     12,2,19940404,2038, -3.9982, -37.4570,  212,    107.1,  24.6313,  36.8943,2,  36.8932,2,    200.6,2,    201.1,2,     1.79,2,     0.81,2,     0.19,2,     0.14,2,    1.815,2,    1.036,2,    1.254,2,   -999.0,9,   -999.0,9, 24.6081
     316N142_3,  AR15,     1,  1,     10,     10,2,19940404,2038, -3.9982, -37.4570,  212,    142.8,  23.5694,  36.7786,2,  36.7830,2,    200.6,2,    199.1,2,     1.88,2,     1.39,2,     0.16,2,     0.17,2, -999.000,9, -999.000,9, -999.000,9,   -999.0,9,   -999.0,9, 23.5395
     316N142_3,  AR15,     1,  1,      9,      9,2,19940404,2038, -3.9982, -37.4570,  212,    143.1,  23.5645,  36.7787,2,  36.7729,2,    200.6,2,    199.1,2,     1.99,2,     1.54,2,     0.17,2,     0.18,2, -999.000,9, -999.000,9, -999.000,9,   -999.0,9,   -999.0,9, 23.5346
     316N142_3,  AR15,     1,  1,      7,      7,2,19940404,2038, -3.9982, -37.4570,  212,    158.5,  20.4278,  36.3674,2,  36.5403,4,    193.2,2,    195.3,2,     2.42,2,     2.87,2,     0.13,2,     0.27,2, -999.000,9, -999.000,9, -999.000,9,   -999.0,9,   -999.0,9, 20.3979
     316N142_3,  AR15,     1,  1,      8,      8,2,19940404,2038, -3.9982, -37.4570,  212,    158.8,  18.3146,  36.0157,2,  36.5062,4,    193.0,2,    195.4,2,     2.43,2,     3.09,2,     0.13,2,     0.27,2, -999.000,9, -999.000,9, -999.000,9,   -999.0,9,   -999.0,9, 18.2868
     316N142_3,  AR15,     1,  1,      6,      6,2,19940404,2038, -3.9982, -37.4570,  212,    181.5,  16.3324,  35.7215,2,  35.7204,2,    191.5,2,    190.4,2,     4.36,2,     7.73,2,     0.02,2,     0.56,2, -999.000,9, -999.000,9, -999.000,9,   -999.0,9,   -999.0,9, 16.3032
     316N142_3,  AR15,     1,  1,      5,      5,2,19940404,2038, -3.9982, -37.4570,  212,    181.6,  16.3310,  35.7216,2,  35.7194,2,    191.5,2,    190.2,2,     4.35,2,     7.78,2,     0.02,2,     0.57,2, -999.000,9, -999.000,9, -999.000,9,   -999.0,9,   -999.0,9, 16.3017
     316N142_3,  AR15,     1,  1,      4,      4,2,19940404,2038, -3.9982, -37.4570,  212,    213.7,  15.9033,  35.6614,2,  35.6579,2,    192.6,4,    189.4,2,     4.91,2,     8.82,2,     0.02,2,     0.63,2, -999.000,9, -999.000,9, -999.000,9,   -999.0,9,   -999.0,9, 15.8694
     316N142_3,  AR15,     1,  1,      3,      3,2,19940404,2038, -3.9982, -37.4570,  212,    213.7,  15.9107,  35.6620,2,  35.6556,2,    192.9,4,    189.3,2,     5.01,2,     8.92,2,     0.02,2,     0.64,2,    1.947,2,    1.021,2,    0.754,2,   -999.0,9,   -999.0,9, 15.8768
     316N142_3,  AR15,     1,  1,      2,      2,2,19940404,2038, -3.9982, -37.4570,  212,    228.8,  13.5217,  35.3202,2,  35.3340,2,    192.9,4,    185.8,2,     6.72,2,    12.70,2,     0.01,2,     0.86,2, -999.000,9, -999.000,9, -999.000,9,   -999.0,9,   -999.0,9, 13.4892
     316N142_3,  AR15,     1,  1,      1,      1,2,19940404,2038, -3.9982, -37.4570,  212,    229.0,  13.5368,  35.3229,2,  35.3457,2,    192.9,4,    186.0,2,     6.60,2,    12.54,2,     0.01,2,     0.86,2, -999.000,9, -999.000,9, -999.000,9,   -999.0,9,   -999.0,9, 13.5043