BOTTLE,20020814WHPSIOKJU
EXPOCODE,SECT_ID,STNNBR,CASTNO,SAMPNO,BTLNBR,BTLNBR_FLAG_W,DATE,TIME,LATITUDE,LONGITUDE,DEPTH,CTDPRS,CTDTMP,CTDSAL,CTDSAL_FLAG_W,SALNTY,SALNTY_FLAG_W,CTDOXY,CTDOXY_FLAG_W,OXYGEN,OXYGEN_FLAG_W,SILCAT,SILCAT_FLAG_W,NITRAT,NITRAT_FLAG_W,NITRIT,NITRIT_FLAG_W,PHSPHT,PHSPHT_FLAG_W,CFC-11,CFC-11_FLAG_W,CFC-12,CFC-12_FLAG_W,CCL4,CCL4_FLAG_W,TCARBN,TCARBN_FLAG_W,ALKALI,ALKALI_FLAG_W,THETA
,,,,,,,,,,,,DBAR,ITS-90,PSS-78,,PSS-78,,UMOL/KG,,UMOL/KG,,UMOL/KG,,UMOL/KG,,UMOL/KG,,UMOL/KG,,PMOL/KG,,PMOL/KG,,PMOL/KG,,UMOL/KG,,UMOL/KG,,DEG C
     316N142_3,  AR15,   147,  1,     39,     39,2,19940518,1901,-18.6563, -36.4877, 3793,     10.3,  27.3134,  37.4111,2,  37.4100,2,    183.1,4,    200.0,2,     1.90,2,     0.04,2,     0.00,2,     0.09,2, -999.000,9, -999.000,9, -999.000,9,   2071.0,2,   2445.4,2, 27.3110
     316N142_3,  AR15,   147,  1,     35,     35,2,19940518,1901,-18.6563, -36.4877, 3793,     89.9,  24.6329,  37.0246,2,  37.0165,2,    214.3,4,    220.3,2,     1.89,2,     0.04,2,     0.00,2,     0.13,2, -999.000,9, -999.000,9, -999.000,9,   2074.6,2,   2426.4,2, 24.6134
     316N142_3,  AR15,   147,  1,     38,     38,2,19940518,1901,-18.6563, -36.4877, 3793,    155.5,  20.3685,  36.3656,2,  36.3715,2,    196.2,2,    200.5,2,     2.03,2,     0.79,2,     0.03,2,     0.25,2, -999.000,9, -999.000,9, -999.000,9,   2089.8,2,   2384.1,2, 20.3392
     316N142_3,  AR15,   147,  1,     33,     33,2,19940518,1901,-18.6563, -36.4877, 3793,    230.4,  16.0803,  35.6143,2,  35.6078,2,    199.0,2,    198.8,2,     3.26,2,     5.39,2,     0.01,2,     0.52,2, -999.000,9, -999.000,9, -999.000,9,   2093.9,2,   2335.2,2, 16.0435
     316N142_3,  AR15,   147,  1,     41,     41,2,19940518,1901,-18.6563, -36.4877, 3793,    305.9,  13.6844,  35.2623,2,  35.2586,2,    199.3,2,    197.0,2,     4.64,2,     9.88,2,     0.00,2,     0.78,2, -999.000,9, -999.000,9, -999.000,9,   2106.3,2,   2314.5,2, 13.6406
     316N142_3,  AR15,   147,  1,     31,     31,2,19940518,1901,-18.6563, -36.4877, 3793,    380.8,  11.7233,  35.0206,2,  35.0163,2,    198.1,2,    192.3,2,     6.64,2,    14.67,2,     0.00,2,     1.07,2, -999.000,9, -999.000,9, -999.000,9,   2124.0,2,   2303.5,2, 11.6739
     316N142_3,  AR15,   147,  1,     37,     37,2,19940518,1901,-18.6563, -36.4877, 3793,    480.1,   9.2657,  34.7364,2,  34.7388,2,    189.7,2,    191.6,2,    10.34,2,    20.25,2,     0.00,2,     1.42,2, -999.000,9, -999.000,9, -999.000,9,   2146.2,2,   2294.4,2,  9.2119
     316N142_3,  AR15,   147,  1,     29,     29,2,19940518,1901,-18.6563, -36.4877, 3793,    576.2,   7.0154,  34.5148,2,  34.5133,2,    187.7,2,    194.9,2,    15.90,2,    25.36,2,     0.00,2,     1.76,2, -999.000,9, -999.000,9, -999.000,9,   2165.7,2,   2288.7,2,  6.9603
     316N142_3,  AR15,   147,  1,     28,     28,2,19940518,1901,-18.6563, -36.4877, 3793,    645.1,   5.8675,  34.4330,2,  34.4311,2,    196.0,2,    194.2,2,    20.53,2,    28.03,2,     0.00,2,     1.94,2, -999.000,9, -999.000,9, -999.000,9,   2178.8,2,   2289.2,2,  5.8112
     316N142_3,  AR15,   147,  1,     27,     27,2,19940518,1901,-18.6563, -36.4877, 3793,    725.0,   4.7538,  34.3740,2,  34.3725,2,    198.9,2,    199.0,2,    26.73,2,    29.91,2,     0.00,2,     2.08,2, -999.000,9, -999.000,9, -999.000,9,   2189.3,2,   2295.4,2,  4.6964
     316N142_3,  AR15,   147,  1,     26,     26,2,19940518,1901,-18.6563, -36.4877, 3793,    816.9,   4.1512,  34.3688,2,  34.3671,2,    199.8,2,    199.7,2,    32.15,2,    30.85,2,     0.00,2,     2.15,2, -999.000,9, -999.000,9, -999.000,9,   2196.5,2,   2297.8,2,  4.0898
     316N142_3,  AR15,   147,  1,     25,     25,2,19940518,1901,-18.6563, -36.4877, 3793,    933.3,   3.7893,  34.4030,2,  34.4008,2,    191.4,2,    193.9,2,    37.74,2,    31.69,2,     0.00,2,     2.21,2, -999.000,9, -999.000,9, -999.000,9,   2205.6,2,   2303.0,2,  3.7208
     316N142_3,  AR15,   147,  1,     24,     24,2,19940518,1901,-18.6563, -36.4877, 3793,   1057.0,   3.5667,  34.4620,2,  34.4608,2,    188.2,2,    189.6,2,    41.94,2,    31.95,2,     0.00,2,     2.22,2, -999.000,9, -999.000,9, -999.000,9,   2212.8,2,   2308.1,2,  3.4899
     316N142_3,  AR15,   147,  1,     23,     23,2,19940518,1901,-18.6563, -36.4877, 3793,   1095.8,   3.5541,  34.4950,2,  34.4974,2,    183.4,2,    187.1,2,    42.08,2,    31.75,2,     0.00,2,     2.20,2, -999.000,9, -999.000,9, -999.000,9,   2215.4,2,   2307.4,2,  3.4742
     316N142_3,  AR15,   147,  1,     22,     22,2,19940518,1901,-18.6563, -36.4877, 3793,   1184.7,   3.6068,  34.5678,2,  34.5668,2,    187.6,2,    186.3,2,    41.45,2,    31.02,2,     0.00,2,     2.15,2, -999.000,9, -999.000,9, -999.000,9,   -999.0,9,   -999.0,9,  3.5190
     316N142_3,  AR15,   147,  1,     21,     21,2,19940518,1901,-18.6563, -36.4877, 3793,   1274.5,   3.7151,  34.6401,2,  34.6384,2,    184.1,2,    188.0,2,    38.78,2,    29.92,2,     0.00,2,     2.07,2, -999.000,9, -999.000,9, -999.000,9,   2212.0,2,   2314.1,2,  3.6186
     316N142_3,  AR15,   147,  1,     20,     20,2,19940518,1901,-18.6563, -36.4877, 3793,   1346.8,   3.8651,  34.6967,2,  34.6961,2,    188.6,2,    189.6,2,    35.19,2,    28.88,2,     0.00,2,     2.00,2, -999.000,9, -999.000,9, -999.000,9,   -999.0,9,   -999.0,9,  3.7606
     316N142_3,  AR15,   147,  1,     19,     19,2,19940518,1901,-18.6563, -36.4877, 3793,   1458.3,   4.2376,  34.8223,2,  34.8223,2,    195.9,2,    196.0,2,    26.94,2,    26.43,2,     0.00,2,     1.80,2, -999.000,9, -999.000,9, -999.000,9,   2196.1,2,   -999.0,9,  4.1189
     316N142_3,  AR15,   147,  1,     40,     40,2,19940518,1901,-18.6563, -36.4877, 3793,   1565.1,   4.1988,  34.9106,2,  34.9115,2,    216.4,2,    216.9,2,    22.58,2,    23.30,2,     0.00,2,     1.59,2, -999.000,9, -999.000,9, -999.000,9,   -999.0,9,   -999.0,9,  4.0704
     316N142_3,  AR15,   147,  1,     17,     17,2,19940518,1901,-18.6563, -36.4877, 3793,   1682.8,   4.0713,  34.9461,2,  34.9463,2,    231.3,2,    230.9,2,    20.71,2,    21.53,2,     0.00,2,     1.45,2, -999.000,9, -999.000,9, -999.000,9,   2176.8,2,   2313.4,2,  3.9334
     316N142_3,  AR15,   147,  1,     16,     16,2,19940518,1901,-18.6563, -36.4877, 3793,   1780.4,   3.9214,  34.9572,2,  34.9577,2,    239.8,2,    239.0,2,    20.23,2,    20.64,2,     0.00,2,     1.40,2, -999.000,9, -999.000,9, -999.000,9,   -999.0,9,   -999.0,9,  3.7762
     316N142_3,  AR15,   147,  1,     15,     15,2,19940518,1901,-18.6563, -36.4877, 3793,   1873.2,   3.7217,  34.9635,2,  34.9640,2,    247.3,2,    246.7,2,    20.53,2,    19.97,2,     0.00,2,     1.34,2, -999.000,9, -999.000,9, -999.000,9,   2168.8,2,   2315.6,2,  3.5704
     316N142_3,  AR15,   147,  1,     14,     14,2,19940518,1901,-18.6563, -36.4877, 3793,   2018.0,   3.4644,  34.9580,2,  34.9585,2,    252.3,2,    250.9,2,    22.22,2,    19.71,2,     0.00,2,     1.33,2, -999.000,9, -999.000,9, -999.000,9,   -999.0,9,   -999.0,9,  3.3031
     316N142_3,  AR15,   147,  1,     13,     13,2,19940518,1901,-18.6563, -36.4877, 3793,   2197.0,   3.1902,  34.9473,2,  34.9467,2,    254.4,2,    252.3,2,    25.32,2,    19.76,2,     0.00,2,     1.33,2, -999.000,9, -999.000,9, -999.000,9,   2170.7,2,   2319.8,2,  3.0163
     316N142_3,  AR15,   147,  1,     12,     12,2,19940518,1901,-18.6563, -36.4877, 3793,   2373.7,   2.9635,  34.9346,2,  34.9371,2,    253.3,2,    251.8,2,    28.88,2,    20.08,2,     0.00,2,     1.37,2, -999.000,9, -999.000,9, -999.000,9,   -999.0,9,   -999.0,9,  2.7766
     316N142_3,  AR15,   147,  1,     11,     11,2,19940518,1901,-18.6563, -36.4877, 3793,   2524.4,   2.8227,  34.9267,2,  34.9274,2,    252.4,2,    252.1,2,    30.89,2,    20.23,2,     0.00,2,     1.37,2, -999.000,9, -999.000,9, -999.000,9,   2178.4,2,   2326.4,2,  2.6237
     316N142_3,  AR15,   147,  1,     10,     10,2,19940518,1901,-18.6563, -36.4877, 3793,   2674.1,   2.7189,  34.9210,2,  34.9204,2,    252.2,2,    252.7,2,    32.28,2,    20.29,2,     0.00,2,     1.38,2, -999.000,9, -999.000,9, -999.000,9,   -999.0,9,   -999.0,9,  2.5072
     316N142_3,  AR15,   147,  1,      9,      9,2,19940518,1901,-18.6563, -36.4877, 3793,   2823.5,   2.6641,  34.9191,2,  34.9184,2,    254.7,2,    253.8,2,    32.58,2,    20.24,2,     0.00,2,     1.37,2, -999.000,9, -999.000,9, -999.000,9,   2176.1,2,   2327.4,2,  2.4386
     316N142_3,  AR15,   147,  1,      8,      8,2,19940518,1901,-18.6563, -36.4877, 3793,   2973.2,   2.5244,  34.9081,2,  34.9080,2,    254.7,2,    254.3,2,    35.52,2,    20.45,2,     0.00,2,     1.39,2, -999.000,9, -999.000,9, -999.000,9,   -999.0,9,   -999.0,9,  2.2868
     316N142_3,  AR15,   147,  1,      7,      7,2,19940518,1901,-18.6563, -36.4877, 3793,   3124.0,   2.4014,  34.8973,2,  34.8976,2,    253.3,2,    253.4,2,    39.25,2,    20.93,2,     0.00,2,     1.42,2, -999.000,9, -999.000,9, -999.000,9,   2183.4,2,   2330.4,2,  2.1511
     316N142_3,  AR15,   147,  1,      6,      6,2,19940518,1901,-18.6563, -36.4877, 3793,   3277.0,   2.2582,  34.8826,2,  34.8823,2,    251.4,2,    251.7,2,    44.86,2,    21.66,2,     0.00,2,     1.48,2, -999.000,9, -999.000,9, -999.000,9,   -999.0,9,   -999.0,9,  1.9955
     316N142_3,  AR15,   147,  1,      5,      5,2,19940518,1901,-18.6563, -36.4877, 3793,   3430.3,   2.0468,  34.8602,2,  34.8597,2,    247.6,2,    248.6,2,    53.63,2,    22.92,2,     0.00,2,     1.57,2, -999.000,9, -999.000,9, -999.000,9,   2199.9,2,   2340.1,2,  1.7732
     316N142_3,  AR15,   147,  1,      4,      4,2,19940518,1901,-18.6563, -36.4877, 3793,   3586.5,   1.8461,  34.8386,2,  34.8377,2,    244.7,2,    243.8,2,    62.12,2,    24.12,2,     0.00,2,     1.66,2, -999.000,9, -999.000,9, -999.000,9,   -999.0,9,   -999.0,9,  1.5613
     316N142_3,  AR15,   147,  1,      3,      3,2,19940518,1901,-18.6563, -36.4877, 3793,   3691.1,   1.5720,  34.8086,2,  34.8089,2,    239.6,2,    238.5,2,    73.36,2,    25.65,2,     0.00,2,     1.77,2, -999.000,9, -999.000,9, -999.000,9,   2218.0,2,   2348.1,2,  1.2835
     316N142_3,  AR15,   147,  1,      2,      2,2,19940518,1901,-18.6563, -36.4877, 3793,   3794.5,   1.2725,  34.7770,2,  34.7771,2,    234.0,2,    233.6,2,    85.32,2,    27.32,2,     0.00,2,     1.89,2, -999.000,9, -999.000,9, -999.000,9,   -999.0,9,   -999.0,9,  0.9813
     316N142_3,  AR15,   147,  1,      1,      1,2,19940518,1901,-18.6563, -36.4877, 3793,   3855.7,   1.1272,  34.7608,2,  34.7610,2,    230.5,2,    230.6,2,    91.11,2,    28.06,2,     0.00,2,     1.95,2, -999.000,9, -999.000,9, -999.000,9,   2237.8,2,   2357.7,2,  0.8336