BOTTLE,20020814WHPSIOKJU
EXPOCODE,SECT_ID,STNNBR,CASTNO,SAMPNO,BTLNBR,BTLNBR_FLAG_W,DATE,TIME,LATITUDE,LONGITUDE,DEPTH,CTDPRS,CTDTMP,CTDSAL,CTDSAL_FLAG_W,SALNTY,SALNTY_FLAG_W,CTDOXY,CTDOXY_FLAG_W,OXYGEN,OXYGEN_FLAG_W,SILCAT,SILCAT_FLAG_W,NITRAT,NITRAT_FLAG_W,NITRIT,NITRIT_FLAG_W,PHSPHT,PHSPHT_FLAG_W,CFC-11,CFC-11_FLAG_W,CFC-12,CFC-12_FLAG_W,CCL4,CCL4_FLAG_W,TCARBN,TCARBN_FLAG_W,ALKALI,ALKALI_FLAG_W,THETA
,,,,,,,,,,,,DBAR,ITS-90,PSS-78,,PSS-78,,UMOL/KG,,UMOL/KG,,UMOL/KG,,UMOL/KG,,UMOL/KG,,UMOL/KG,,PMOL/KG,,PMOL/KG,,PMOL/KG,,UMOL/KG,,UMOL/KG,,DEG C
     316N142_3,   A15,    66,  1,     39,     39,2,19940424,0841,-10.4503, -19.0005, 4182,     10.1,  27.3526,  36.6179,2,  36.6199,2,    203.0,2,    202.8,2,     2.06,2,     0.18,2,     0.00,2,     0.13,2,    1.630,2,    0.979,2,    2.068,2,   2040.0,2,   2399.2,2, 27.3502
     316N142_3,   A15,    66,  1,     35,     35,2,19940424,0841,-10.4503, -19.0005, 4182,     45.6,  27.3489,  36.6209,2,  36.6225,2,    206.7,2,    202.3,2,     1.92,2,     0.18,2,     0.00,2,     0.13,2, -999.000,9, -999.000,9, -999.000,9,   2041.5,2,   2398.8,2, 27.3383
     316N142_3,   A15,    66,  1,     38,     38,2,19940424,0841,-10.4503, -19.0005, 4182,     65.2,  26.7187,  36.7087,2,  36.7111,2,    211.9,2,    212.6,2,     1.78,2,     0.18,2,     0.00,2,     0.13,2,    1.672,2,    1.018,2,    1.976,2,   2048.5,2,   2405.0,2, 26.7037
     316N142_3,   A15,    66,  1,     33,     33,2,19940424,0841,-10.4503, -19.0005, 4182,    155.3,  16.8593,  35.7947,2,  35.8247,2,    151.6,2,    147.9,2,     4.82,2,    12.21,2,     0.03,2,     0.94,2,    1.801,2,    1.037,2,    0.893,2,   2141.3,2,   2348.2,2, 16.8337
     316N142_3,   A15,    66,  1,     41,     41,2,19940424,0841,-10.4503, -19.0005, 4182,    221.1,  11.9238,  35.1345,2,  35.1523,2,     99.6,2,     93.2,2,    10.65,2,    25.35,2,     0.00,2,     1.69,2,    0.867,6,    0.520,6,    0.289,6,   2194.6,2,   2308.7,2, 11.8950
     316N142_3,   A15,    66,  1,     31,     31,2,19940424,0841,-10.4503, -19.0005, 4182,    286.3,   9.8281,  34.9109,2,  34.9120,2,     85.7,2,     85.2,2,    14.61,2,    30.59,2,     0.00,2,     1.99,2,    0.385,2,    0.229,2,    0.169,2,   2210.3,2,   2298.8,2,  9.7951
     316N142_3,   A15,    66,  1,     37,     37,2,19940424,0841,-10.4503, -19.0005, 4182,    396.5,   7.9552,  34.7122,2,  34.7093,2,     87.9,2,     86.1,2,    19.51,2,    34.79,2,     0.00,2,     2.25,2,    0.114,2,    0.088,2,    0.380,2,   2227.4,2,   2292.4,2,  7.9148
     316N142_3,   A15,    66,  1,     29,     29,2,19940424,0841,-10.4503, -19.0005, 4182,    456.8,   7.4174,  34.6557,2,  34.6542,2,     94.3,2,     96.1,2,    20.82,2,    35.04,2,     0.00,2,     2.28,2, -999.000,9, -999.000,9, -999.000,9,   2227.2,2,   2292.8,2,  7.3726
     316N142_3,   A15,    66,  1,     28,     28,2,19940424,0841,-10.4503, -19.0005, 4182,    587.3,   6.2733,  34.5490,2,  34.5460,2,    116.6,2,    123.4,2,    23.72,2,    34.62,2,     0.00,2,     2.30,2,    0.131,2,    0.077,2,    0.434,2,   2218.2,2,   2290.6,2,  6.2203
     316N142_3,   A15,    66,  1,     27,     27,2,19940424,0841,-10.4503, -19.0005, 4182,    677.4,   5.4370,  34.4936,2,  34.4920,2,    129.1,2,    133.6,2,    27.68,2,    35.28,2,     0.00,2,     2.37,2, -999.000,9, -999.000,9, -999.000,9,   2221.0,2,   2292.2,2,  5.3799
     316N142_3,   A15,    66,  1,     26,     26,2,19940424,0841,-10.4503, -19.0005, 4182,    768.4,   4.9689,  34.4826,2,  34.4837,2,    137.6,2,    137.2,2,    30.97,2,    35.76,2,     0.00,2,     2.41,2,    0.043,4,    0.020,2,    0.184,2,   2225.4,2,   2295.1,2,  4.9064
     316N142_3,   A15,    66,  1,     25,     25,2,19940424,0841,-10.4503, -19.0005, 4182,    884.0,   4.3830,  34.4966,2,  34.4969,2,    148.5,2,    151.0,2,    34.65,2,    34.91,2,     0.00,2,     2.38,2, -999.000,9, -999.000,9, -999.000,9,   2223.7,2,   2300.1,2,  4.3143
     316N142_3,   A15,    66,  1,     24,     24,2,19940424,0841,-10.4503, -19.0005, 4182,   1020.2,   4.0738,  34.5603,2,  34.5572,2,    161.4,2,    163.2,2,    36.22,2,    33.31,2,     0.00,2,     2.29,2,    0.020,4,    0.009,9, -999.000,9,   2220.9,2,   2305.8,2,  3.9958
     316N142_3,   A15,    66,  1,     23,     23,2,19940424,0841,-10.4503, -19.0005, 4182,   1161.6,   4.0274,  34.6679,2,  34.6719,2,    174.8,2,    175.8,2,    33.82,2,    30.72,2,     0.00,2,     2.12,2, -999.000,9, -999.000,9, -999.000,9,   2214.3,2,   2308.4,2,  3.9375
     316N142_3,   A15,    66,  1,     22,     22,2,19940424,0841,-10.4503, -19.0005, 4182,   1302.4,   4.1345,  34.7752,2,  34.7757,2,    188.0,2,    187.1,2,    29.30,2,    28.27,2,     0.00,2,     1.95,2, -999.000,9,    0.014,2,    0.041,2,   -999.0,9,   -999.0,9,  4.0311
     316N142_3,   A15,    66,  1,     21,     21,2,19940424,0841,-10.4503, -19.0005, 4182,   1434.4,   4.1361,  34.8800,2,  34.8789,2,    206.9,2,    208.6,2,    24.79,2,    24.82,2,     0.00,2,     1.69,2, -999.000,9, -999.000,9, -999.000,9,   2190.4,2,   2311.0,2,  4.0206
     316N142_3,   A15,    66,  1,     20,     20,2,19940424,0841,-10.4503, -19.0005, 4182,   1535.8,   4.0199,  34.9040,2,  34.9045,2,    220.0,2,    218.1,2,    23.84,2,    23.60,2,     0.00,2,     1.62,2, -999.000,9,    0.015,2,    0.241,2,   -999.0,9,   -999.0,9,  3.8963
     316N142_3,   A15,    66,  1,     19,     19,2,19940424,0841,-10.4503, -19.0005, 4182,   1636.4,   3.8628,  34.9226,2,  34.9228,2,    228.2,2,    227.5,2,    23.56,2,    22.56,2,     0.00,2,     1.53,2, -999.000,9, -999.000,9, -999.000,9,   2180.1,2,   2312.5,2,  3.7318
     316N142_3,   A15,    66,  1,     40,     40,2,19940424,0841,-10.4503, -19.0005, 4182,   1738.0,   3.8080,  34.9498,2,  34.9507,2,    241.1,2,    238.8,2,    21.70,2,    21.01,2,     0.00,2,     1.44,2, -999.000,9,    0.021,2,    0.196,2,   -999.0,9,   -999.0,9,  3.6682
     316N142_3,   A15,    66,  1,     17,     17,2,19940424,0841,-10.4503, -19.0005, 4182,   1839.1,   3.5506,  34.9489,2,  34.9497,2,    246.6,2,    245.2,2,    23.13,2,    20.54,2,     0.00,2,     1.41,2, -999.000,9,    0.015,2,    0.223,2,   2171.7,2,   2314.0,2,  3.4049
     316N142_3,   A15,    66,  1,     16,     16,2,19940424,0841,-10.4503, -19.0005, 4182,   1940.9,   3.4335,  34.9513,2,  34.9519,2,    248.5,2,    249.2,2,    23.77,2,    20.16,2,     0.00,2,     1.39,2, -999.000,9, -999.000,9, -999.000,9,   -999.0,9,   -999.0,9,  3.2800
     316N142_3,   A15,    66,  1,     15,     15,2,19940424,0841,-10.4503, -19.0005, 4182,   2072.6,   3.2468,  34.9448,2,  34.9464,2,    249.9,2,    247.7,2,    26.13,2,    20.30,2,     0.00,2,     1.39,2, -999.000,9,    0.009,6,    0.221,6,   2173.6,2,   2318.0,2,  3.0837
     316N142_3,   A15,    66,  1,     14,     14,2,19940424,0841,-10.4503, -19.0005, 4182,   2249.5,   3.0673,  34.9305,2,  34.9304,2,    247.5,2,    247.5,2,    30.20,2,    20.87,2,     0.00,2,     1.42,2, -999.000,9,    0.005,2,    0.076,2,   -999.0,9,   -999.0,9,  2.8904
     316N142_3,   A15,    66,  1,     13,     13,2,19940424,0841,-10.4503, -19.0005, 4182,   2427.1,   2.9318,  34.9220,2,  34.9218,2,    246.5,2,    246.4,2,    33.08,2,    21.16,2,     0.00,2,     1.46,2, -999.000,9, -999.000,9, -999.000,9,   2178.3,2,   2325.0,2,  2.7402
     316N142_3,   A15,    66,  1,     12,     12,2,19940424,0841,-10.4503, -19.0005, 4182,   2629.1,   2.8142,  34.9128,2,  34.9184,4,    245.5,2,    245.1,2,    36.48,2,    21.49,2,     0.00,2,     1.48,2, -999.000,9, -999.000,9, -999.000,9,   -999.0,9,   -999.0,9,  2.6052
     316N142_3,   A15,    66,  1,     11,     11,2,19940424,0841,-10.4503, -19.0005, 4182,   2832.9,   2.7282,  34.9067,2,  34.9086,2,    244.6,2,    244.8,2,    38.69,2,    21.78,2,     0.00,2,     1.50,2, -999.000,9,    0.008,6,    0.159,6,   2186.3,2,   2330.1,2,  2.5005
     316N142_3,   A15,    66,  1,     10,     10,2,19940424,0841,-10.4503, -19.0005, 4182,   2986.1,   2.6697,  34.9022,2,  34.9013,2,    244.3,2,    243.8,2,    40.38,2,    21.97,2,     0.00,2,     1.51,2, -999.000,9, -999.000,9, -999.000,9,   -999.0,9,   -999.0,9,  2.4277
     316N142_3,   A15,    66,  1,      9,      9,2,19940424,0841,-10.4503, -19.0005, 4182,   3139.2,   2.6252,  34.9019,2,  34.9026,2,    246.5,2,    245.7,2,    40.36,2,    21.78,2,     0.00,2,     1.50,2, -999.000,9, -999.000,9, -999.000,9,   2188.9,2,   2333.3,2,  2.3683
     316N142_3,   A15,    66,  1,      8,      8,2,19940424,0841,-10.4503, -19.0005, 4182,   3343.5,   2.5053,  34.8940,2,  34.8934,2,    246.8,2,    246.8,2,    42.83,2,    21.88,2,     0.00,2,     1.51,2, -999.000,9, -999.000,9, -999.000,9,   -999.0,9,   -999.0,9,  2.2297
     316N142_3,   A15,    66,  1,      7,      7,2,19940424,0841,-10.4503, -19.0005, 4182,   3445.7,   2.4824,  34.8967,2,  34.8963,2,    247.8,2,    249.9,2,    41.10,2,    21.46,2,     0.00,2,     1.48,2, -999.000,9, -999.000,9, -999.000,9,   2184.4,2,   2332.1,2,  2.1964
     316N142_3,   A15,    66,  1,      6,      6,2,19940424,0841,-10.4503, -19.0005, 4182,   3547.6,   2.4241,  34.8923,2,  34.8928,2,    250.2,2,    250.7,2,    42.39,2,    21.55,2,     0.00,2,     1.48,2, -999.000,9, -999.000,9, -999.000,9,   -999.0,9,   -999.0,9,  2.1285
     316N142_3,   A15,    66,  1,      5,      5,2,19940424,0841,-10.4503, -19.0005, 4182,   3649.4,   2.3647,  34.8871,2,  34.8873,2,    250.4,2,    250.4,2,    44.33,2,    21.79,2,     0.00,2,     1.50,2, -999.000,9, -999.000,9, -999.000,9,   2188.5,2,   2333.1,2,  2.0595
     316N142_3,   A15,    66,  1,      4,      4,2,19940424,0841,-10.4503, -19.0005, 4182,   3802.3,   2.2029,  34.8704,2,  34.8704,2,    248.7,2,    248.2,2,    50.47,2,    22.60,2,     0.00,2,     1.56,2, -999.000,9, -999.000,9, -999.000,9,   -999.0,9,   -999.0,9,  1.8852
     316N142_3,   A15,    66,  1,      3,      3,2,19940424,0841,-10.4503, -19.0005, 4182,   3955.4,   1.9645,  34.8461,2,  34.8436,2,    244.5,2,    244.0,2,    60.50,2,    24.02,2,     0.00,2,     1.66,2, -999.000,9, -999.000,9, -999.000,9,   2204.5,2,   2342.0,2,  1.6365
     316N142_3,   A15,    66,  1,      2,      2,2,19940424,0841,-10.4503, -19.0005, 4182,   4161.0,   1.5236,  34.7982,2,  34.7994,2,    237.3,2,    236.8,2,    77.05,2,    26.44,2,     0.00,2,     1.83,2, -999.000,9, -999.000,9, -999.000,9,   -999.0,9,   -999.0,9,  1.1855
     316N142_3,   A15,    66,  1,      1,      1,2,19940424,0841,-10.4503, -19.0005, 4182,   4300.8,   1.2960,  34.7750,2,  34.7775,2,    233.5,2,    233.2,2,    85.93,2,    27.76,2,     0.00,2,     1.93,2, -999.000,9,    0.010,2,    0.201,2,   2231.1,2,   2355.1,2,  0.9493