BOTTLE,20020814WHPSIOKJU
EXPOCODE,SECT_ID,STNNBR,CASTNO,SAMPNO,BTLNBR,BTLNBR_FLAG_W,DATE,TIME,LATITUDE,LONGITUDE,DEPTH,CTDPRS,CTDTMP,CTDSAL,CTDSAL_FLAG_W,SALNTY,SALNTY_FLAG_W,CTDOXY,CTDOXY_FLAG_W,OXYGEN,OXYGEN_FLAG_W,SILCAT,SILCAT_FLAG_W,NITRAT,NITRAT_FLAG_W,NITRIT,NITRIT_FLAG_W,PHSPHT,PHSPHT_FLAG_W,CFC-11,CFC-11_FLAG_W,CFC-12,CFC-12_FLAG_W,CCL4,CCL4_FLAG_W,TCARBN,TCARBN_FLAG_W,ALKALI,ALKALI_FLAG_W,THETA
,,,,,,,,,,,,DBAR,ITS-90,PSS-78,,PSS-78,,UMOL/KG,,UMOL/KG,,UMOL/KG,,UMOL/KG,,UMOL/KG,,UMOL/KG,,PMOL/KG,,PMOL/KG,,PMOL/KG,,UMOL/KG,,UMOL/KG,,DEG C
     316N142_3,  AR15,   151,  1,     39,     39,2,19940519,1719,-18.8205, -37.5275, 3362,     10.4,  27.3072,  37.4452,2,  37.4456,2,    199.6,2,    199.9,2,     2.24,2,     0.09,2,     0.00,2,     0.09,2, -999.000,9, -999.000,9, -999.000,9,   -999.0,9,   -999.0,9, 27.3047
     316N142_3,  AR15,   151,  1,     35,     35,2,19940519,1719,-18.8205, -37.5275, 3362,     59.0,  27.2741,  37.4457,2,  37.4192,2,    202.8,2,    201.9,2,     2.07,2,     0.04,2,     0.00,2,     0.09,2, -999.000,9, -999.000,9, -999.000,9,   -999.0,9,   -999.0,9, 27.2604
     316N142_3,  AR15,   151,  1,     38,     38,2,19940519,1719,-18.8205, -37.5275, 3362,     79.2,  24.5642,  37.0420,2,  37.0350,2,    218.2,2,    218.3,2,     2.06,2,     0.04,2,     0.00,2,     0.14,2, -999.000,9, -999.000,9, -999.000,9,   -999.0,9,   -999.0,9, 24.5471
     316N142_3,  AR15,   151,  1,     42,     42,3,19940519,1719,-18.8205, -37.5275, 3362,    164.9,  20.4719,  36.3746,2,  35.9010,4,    207.0,2,    199.9,4,     2.98,4,     3.76,4,     0.02,4,     0.43,4, -999.000,9, -999.000,9, -999.000,9,   -999.0,9,   -999.0,9, 20.4407
     316N142_3,  AR15,   151,  1,     41,     41,3,19940519,1719,-18.8205, -37.5275, 3362,    254.5,  15.5897,  35.5416,2,  35.8174,4,    200.6,2,    199.8,4,     3.12,4,     4.28,4,     0.02,4,     0.46,4, -999.000,9, -999.000,9, -999.000,9,   -999.0,9,   -999.0,9, 15.5499
     316N142_3,  AR15,   151,  1,     31,     31,2,19940519,1719,-18.8205, -37.5275, 3362,    334.9,  13.5130,  35.2490,2,  35.2393,2,    199.3,2,    197.8,2,     4.98,2,    10.26,2,     0.00,2,     0.80,2, -999.000,9, -999.000,9, -999.000,9,   -999.0,9,   -999.0,9, 13.4654
     316N142_3,  AR15,   151,  1,     37,     37,2,19940519,1719,-18.8205, -37.5275, 3362,    410.4,  11.2418,  34.9626,2,  34.9604,2,    193.3,2,    190.7,2,     7.47,2,    15.77,2,     0.00,2,     1.14,2, -999.000,9, -999.000,9, -999.000,9,   -999.0,9,   -999.0,9, 11.1900
     316N142_3,  AR15,   151,  1,     29,     29,2,19940519,1719,-18.8205, -37.5275, 3362,    486.0,   9.5080,  34.7660,2,  34.7606,2,    183.2,2,    183.6,2,    10.89,2,    20.50,2,     0.00,2,     1.45,2, -999.000,9, -999.000,9, -999.000,9,   -999.0,9,   -999.0,9,  9.4526
     316N142_3,  AR15,   151,  1,     28,     28,2,19940519,1719,-18.8205, -37.5275, 3362,    556.6,   7.8710,  34.5995,2,  34.5947,2,    188.4,2,    187.4,2,    14.31,2,    24.03,2,     0.00,2,     1.68,2, -999.000,9, -999.000,9, -999.000,9,   -999.0,9,   -999.0,9,  7.8142
     316N142_3,  AR15,   151,  1,     27,     27,2,19940519,1719,-18.8205, -37.5275, 3362,    626.6,   6.6137,  34.4909,2,  34.4835,2,    190.1,2,    192.1,2,    18.04,2,    26.57,2,     0.00,2,     1.85,2, -999.000,9, -999.000,9, -999.000,9,   -999.0,9,   -999.0,9,  6.5555
     316N142_3,  AR15,   151,  1,     26,     26,2,19940519,1719,-18.8205, -37.5275, 3362,    707.3,   5.1722,  34.3870,2,  34.3822,2,    195.2,2,    202.0,2,    23.64,2,    28.85,2,     0.00,2,     2.01,2, -999.000,9, -999.000,9, -999.000,9,   -999.0,9,   -999.0,9,  5.1140
     316N142_3,  AR15,   151,  1,     25,     25,2,19940519,1719,-18.8205, -37.5275, 3362,    788.1,   4.5014,  34.3568,2,  34.3555,2,    201.3,2,    204.8,2,    28.16,2,    29.88,2,     0.00,2,     2.09,2, -999.000,9, -999.000,9, -999.000,9,   -999.0,9,   -999.0,9,  4.4402
     316N142_3,  AR15,   151,  1,     24,     24,2,19940519,1719,-18.8205, -37.5275, 3362,    893.6,   3.9987,  34.3824,2,  34.3822,2,    192.0,2,    195.7,2,    34.87,2,    31.33,2,     0.00,2,     2.19,2, -999.000,9, -999.000,9, -999.000,9,   -999.0,9,   -999.0,9,  3.9320
     316N142_3,  AR15,   151,  1,     23,     23,2,19940519,1719,-18.8205, -37.5275, 3362,    999.9,   3.6076,  34.4395,2,  34.4382,2,    189.1,2,    190.4,2,    40.96,2,    31.79,2,     0.00,2,     2.23,2, -999.000,9, -999.000,9, -999.000,9,   -999.0,9,   -999.0,9,  3.5351
     316N142_3,  AR15,   151,  1,     22,     22,2,19940519,1719,-18.8205, -37.5275, 3362,   1111.2,   3.5039,  34.5105,2,  34.5282,3,    187.0,2,    187.7,2,    43.12,2,    31.47,2,     0.00,2,     2.21,2, -999.000,9, -999.000,9, -999.000,9,   -999.0,9,   -999.0,9,  3.4232
     316N142_3,  AR15,   151,  1,     21,     21,2,19940519,1719,-18.8205, -37.5275, 3362,   1217.4,   3.7376,  34.6380,2,  34.6377,2,    187.1,2,    186.8,2,    38.23,2,    29.85,2,     0.00,2,     2.08,2, -999.000,9, -999.000,9, -999.000,9,   -999.0,9,   -999.0,9,  3.6457
     316N142_3,  AR15,   151,  1,     20,     20,2,19940519,1719,-18.8205, -37.5275, 3362,   1323.3,   4.0201,  34.7551,2,  34.7552,2,    191.7,2,    191.7,2,    31.47,2,    27.82,2,     0.00,2,     1.93,2, -999.000,9, -999.000,9, -999.000,9,   -999.0,9,   -999.0,9,  3.9160
     316N142_3,  AR15,   151,  1,     19,     19,2,19940519,1719,-18.8205, -37.5275, 3362,   1424.6,   4.2470,  34.8555,2,  34.8557,2,    202.8,2,    202.0,2,    25.51,2,    25.38,2,     0.00,2,     1.74,2, -999.000,9, -999.000,9, -999.000,9,   -999.0,9,   -999.0,9,  4.1312
     316N142_3,  AR15,   151,  1,     40,     40,2,19940519,1719,-18.8205, -37.5275, 3362,   1535.7,   4.1770,  34.9134,2,  34.9141,2,    220.1,2,    218.2,2,    22.53,2,    23.09,2,     0.00,2,     1.58,2, -999.000,9,    0.033,2,    0.339,2,   -999.0,9,   -999.0,9,  4.0516
     316N142_3,  AR15,   151,  1,     17,     17,2,19940519,1719,-18.8205, -37.5275, 3362,   1646.8,   4.0383,  34.9551,2,  34.9553,2,    235.0,2,    234.9,2,    20.17,2,    21.01,2,     0.00,2,     1.43,2, -999.000,9, -999.000,9, -999.000,9,   -999.0,9,   -999.0,9,  3.9041
     316N142_3,  AR15,   151,  1,     16,     16,2,19940519,1719,-18.8205, -37.5275, 3362,   1767.8,   3.8404,  34.9692,2,  34.9701,2,    246.4,2,    245.5,2,    19.37,2,    19.81,2,     0.00,2,     1.35,2, -999.000,9,    0.042,2,    0.520,2,   -999.0,9,   -999.0,9,  3.6974
     316N142_3,  AR15,   151,  1,     15,     15,2,19940519,1719,-18.8205, -37.5275, 3362,   1889.8,   3.5971,  34.9647,2,  34.9655,2,    250.7,2,    250.5,2,    20.75,2,    19.55,2,     0.00,2,     1.33,2, -999.000,9,    0.040,2,    0.417,2,   -999.0,9,   -999.0,9,  3.4460
     316N142_3,  AR15,   151,  1,     14,     14,2,19940519,1719,-18.8205, -37.5275, 3362,   2011.7,   3.3961,  34.9540,2,  34.9534,2,    250.8,2,    250.9,2,    23.37,2,    19.81,2,     0.00,2,     1.35,2, -999.000,9, -999.000,9, -999.000,9,   -999.0,9,   -999.0,9,  3.2365
     316N142_3,  AR15,   151,  1,     13,     13,2,19940519,1719,-18.8205, -37.5275, 3362,   2133.3,   3.2148,  34.9483,2,  34.9488,2,    252.9,2,    252.3,2,    25.22,2,    19.80,2,     0.00,2,     1.35,2, -999.000,9,    0.022,2,    0.296,2,   -999.0,9,   -999.0,9,  3.0465
     316N142_3,  AR15,   151,  1,     12,     12,2,19940519,1719,-18.8205, -37.5275, 3362,   2255.2,   3.0578,  34.9396,2,  34.9398,2,    251.8,2,    251.9,2,    27.69,2,    20.01,2,     0.00,2,     1.36,2, -999.000,9, -999.000,9, -999.000,9,   -999.0,9,   -999.0,9,  2.8805
     316N142_3,  AR15,   151,  1,     11,     11,2,19940519,1719,-18.8205, -37.5275, 3362,   2377.5,   2.9446,  34.9321,2,  34.9331,2,    251.1,2,    251.2,2,    29.84,2,    20.31,2,     0.00,2,     1.38,2, -999.000,9,    0.025,2,    0.121,2,   -999.0,9,   -999.0,9,  2.7576
     316N142_3,  AR15,   151,  1,     10,     10,2,19940519,1719,-18.8205, -37.5275, 3362,   2499.2,   2.8701,  34.9268,2,  34.9273,2,    250.6,2,    250.8,2,    31.22,2,    20.46,2,     0.00,2,     1.39,2, -999.000,9,    0.015,2,    0.081,2,   -999.0,9,   -999.0,9,  2.6727
     316N142_3,  AR15,   151,  1,      9,      9,9,19940519,1719,-18.8205, -37.5275, 3362,   2621.1,   2.8197,  34.9238,2,-999.0000,9,    250.6,2,   -999.0,9,  -999.00,9,  -999.00,9,  -999.00,9,  -999.00,9, -999.000,9, -999.000,9, -999.000,9,   -999.0,9,   -999.0,9,  2.6113
     316N142_3,  AR15,   151,  1,      8,      8,2,19940519,1719,-18.8205, -37.5275, 3362,   2732.4,   2.7696,  34.9210,2,  34.9222,2,    251.4,2,    251.5,2,    32.91,2,    20.51,2,     0.00,2,     1.40,2, -999.000,9,    0.024,2,    0.046,2,   -999.0,9,   -999.0,9,  2.5512
     316N142_3,  AR15,   151,  1,      7,      7,2,19940519,1719,-18.8205, -37.5275, 3362,   2834.5,   2.7351,  34.9195,2,  34.9198,2,    251.9,2,    252.0,2,    33.35,2,    20.51,2,     0.00,2,     1.39,2, -999.000,9, -999.000,9, -999.000,9,   -999.0,9,   -999.0,9,  2.5070
     316N142_3,  AR15,   151,  1,      6,      6,2,19940519,1719,-18.8205, -37.5275, 3362,   2936.6,   2.7002,  34.9174,2,  34.9182,2,    252.3,2,    252.3,2,    33.79,2,    20.50,2,     0.00,2,     1.40,2, -999.000,9, -999.000,9, -999.000,9,   -999.0,9,   -999.0,9,  2.4625
     316N142_3,  AR15,   151,  1,      5,      5,2,19940519,1719,-18.8205, -37.5275, 3362,   3038.7,   2.6437,  34.9145,2,  34.9151,2,    253.5,2,    253.3,2,    34.23,2,    20.39,2,     0.00,2,     1.39,2, -999.000,9,    0.008,2,    0.218,2,   -999.0,9,   -999.0,9,  2.3968
     316N142_3,  AR15,   151,  1,      4,      4,2,19940519,1719,-18.8205, -37.5275, 3362,   3130.5,   2.5307,  34.9060,2,  34.9080,2,    253.6,2,    253.9,2,    36.23,2,    20.55,2,     0.00,2,     1.40,2, -999.000,9, -999.000,9, -999.000,9,   -999.0,9,   -999.0,9,  2.2768
     316N142_3,  AR15,   151,  1,      3,      3,2,19940519,1719,-18.8205, -37.5275, 3362,   3243.0,   2.4284,  34.8970,2,  34.8984,2,    253.4,2,    253.4,2,    39.16,2,    20.80,2,     0.00,2,     1.43,2, -999.000,9, -999.000,9, -999.000,9,   -999.0,9,   -999.0,9,  2.1652
     316N142_3,  AR15,   151,  1,      2,      2,2,19940519,1719,-18.8205, -37.5275, 3362,   3345.6,   2.2578,  34.8816,2,  34.8815,2,    251.8,2,    251.5,2,    45.06,2,    21.62,2,     0.00,2,     1.49,2, -999.000,9,    0.023,2,    0.001,2,   -999.0,9,   -999.0,9,  1.9880
     316N142_3,  AR15,   151,  1,      1,      1,2,19940519,1719,-18.8205, -37.5275, 3362,   3407.1,   2.0880,  34.8626,2,  34.8629,2,    249.4,2,    247.9,2,    52.22,2,    22.60,2,     0.00,2,     1.56,2, -999.000,9, -999.000,9, -999.000,9,   -999.0,9,   -999.0,9,  1.8159