BOTTLE,20020814WHPSIOKJU
EXPOCODE,SECT_ID,STNNBR,CASTNO,SAMPNO,BTLNBR,BTLNBR_FLAG_W,DATE,TIME,LATITUDE,LONGITUDE,DEPTH,CTDPRS,CTDTMP,CTDSAL,CTDSAL_FLAG_W,SALNTY,SALNTY_FLAG_W,CTDOXY,CTDOXY_FLAG_W,OXYGEN,OXYGEN_FLAG_W,SILCAT,SILCAT_FLAG_W,NITRAT,NITRAT_FLAG_W,NITRIT,NITRIT_FLAG_W,PHSPHT,PHSPHT_FLAG_W,CFC-11,CFC-11_FLAG_W,CFC-12,CFC-12_FLAG_W,CCL4,CCL4_FLAG_W,TCARBN,TCARBN_FLAG_W,ALKALI,ALKALI_FLAG_W,THETA
,,,,,,,,,,,,DBAR,ITS-90,PSS-78,,PSS-78,,UMOL/KG,,UMOL/KG,,UMOL/KG,,UMOL/KG,,UMOL/KG,,UMOL/KG,,PMOL/KG,,PMOL/KG,,PMOL/KG,,UMOL/KG,,UMOL/KG,,DEG C
     316N142_3,   A15,    69,  1,     39,     39,2,19940425,0347,-11.9835, -19.0000, 4556,      6.3,  26.9839,  36.9422,2,  36.9368,2,    200.1,2,    200.8,2,     2.35,2,     0.19,2,     0.00,2,     0.16,2, -999.000,9, -999.000,9, -999.000,9,   -999.0,9,   -999.0,9, 26.9824
     316N142_3,   A15,    69,  1,     35,     35,2,19940425,0347,-11.9835, -19.0000, 4556,     64.4,  24.6136,  36.7815,2,  36.7780,2,    214.3,2,    220.9,2,     2.20,2,     0.14,2,     0.00,2,     0.19,2, -999.000,9, -999.000,9, -999.000,9,   -999.0,9,   -999.0,9, 24.5997
     316N142_3,   A15,    69,  1,     38,     38,2,19940425,0347,-11.9835, -19.0000, 4556,    134.5,  19.9097,  36.2528,2,  36.2497,2,    190.8,2,    193.7,2,     2.84,2,     1.83,2,     0.26,2,     0.48,2, -999.000,9, -999.000,9, -999.000,9,   -999.0,9,   -999.0,9, 19.8848
     316N142_3,   A15,    69,  1,     33,     33,2,19940425,0347,-11.9835, -19.0000, 4556,    164.2,  16.5448,  35.7767,2,  35.7580,2,    150.1,2,    152.1,2,     5.60,2,    12.96,2,     0.02,2,     1.02,2, -999.000,9, -999.000,9, -999.000,9,   -999.0,9,   -999.0,9, 16.5181
     316N142_3,   A15,    69,  1,     41,     41,2,19940425,0347,-11.9835, -19.0000, 4556,    292.4,  10.6740,  34.9963,2,  34.9939,2,     85.4,2,     82.7,2,    13.63,2,    29.42,2,     0.00,2,     1.90,2, -999.000,9, -999.000,9, -999.000,9,   -999.0,9,   -999.0,9, 10.6385
     316N142_3,   A15,    69,  1,     31,     31,2,19940425,0347,-11.9835, -19.0000, 4556,    393.2,   8.7831,  34.7904,2,  34.7854,2,     97.6,2,     94.2,2,    17.43,2,    32.52,2,     0.00,2,     2.09,2, -999.000,9, -999.000,9, -999.000,9,   -999.0,9,   -999.0,9,  8.7407
     316N142_3,   A15,    69,  1,     37,     37,2,19940425,0347,-11.9835, -19.0000, 4556,    494.3,   7.1442,  34.6260,2,  34.6250,2,    107.8,2,    106.5,2,    21.76,2,    35.07,2,     0.00,2,     2.26,2, -999.000,9, -999.000,9, -999.000,9,   -999.0,9,   -999.0,9,  7.0966
     316N142_3,   A15,    69,  1,     29,     29,2,19940425,0347,-11.9835, -19.0000, 4556,    595.6,   6.0010,  34.5298,2,  34.5280,2,    122.0,2,    123.9,2,    25.82,2,    35.91,2,     0.00,2,     2.34,2, -999.000,9, -999.000,9, -999.000,9,   -999.0,9,   -999.0,9,  5.9485
     316N142_3,   A15,    69,  1,     28,     28,2,19940425,0347,-11.9835, -19.0000, 4556,    697.0,   5.1945,  34.4818,2,  34.4811,2,    131.5,2,    136.7,2,    29.75,2,    36.11,2,     0.00,2,     2.40,2, -999.000,9, -999.000,9, -999.000,9,   -999.0,9,   -999.0,9,  5.1369
     316N142_3,   A15,    69,  1,     27,     27,2,19940425,0347,-11.9835, -19.0000, 4556,    797.9,   4.6264,  34.4734,2,  34.4730,2,    144.5,2,    147.2,2,    33.54,2,    35.87,2,     0.00,2,     2.39,2, -999.000,9, -999.000,9, -999.000,9,   -999.0,9,   -999.0,9,  4.5634
     316N142_3,   A15,    69,  1,     26,     26,2,19940425,0347,-11.9835, -19.0000, 4556,    908.3,   4.2539,  34.5011,2,  34.5007,2,    153.2,2,    155.8,2,    36.01,2,    35.13,2,     0.00,2,     2.37,2, -999.000,9, -999.000,9, -999.000,9,   -999.0,9,   -999.0,9,  4.1840
     316N142_3,   A15,    69,  1,     25,     25,2,19940425,0347,-11.9835, -19.0000, 4556,   1019.0,   4.0048,  34.5640,2,  34.5610,2,    164.8,2,    165.7,2,    37.16,2,    33.56,2,     0.00,2,     2.28,2, -999.000,9, -999.000,9, -999.000,9,   -999.0,9,   -999.0,9,  3.9274
     316N142_3,   A15,    69,  1,     24,     24,2,19940425,0347,-11.9835, -19.0000, 4556,   1140.0,   3.9479,  34.6592,2,  34.6567,2,    173.9,2,    174.6,2,    35.41,2,    31.35,2,     0.00,2,     2.15,2, -999.000,9, -999.000,9, -999.000,9,   -999.0,9,   -999.0,9,  3.8606
     316N142_3,   A15,    69,  1,     23,     23,2,19940425,0347,-11.9835, -19.0000, 4556,   1261.6,   3.9945,  34.7601,2,  34.7604,2,    186.9,2,    187.8,2,    31.43,2,    28.70,2,     0.00,2,     1.98,2, -999.000,9, -999.000,9, -999.000,9,   -999.0,9,   -999.0,9,  3.8961
     316N142_3,   A15,    69,  1,     22,     22,2,19940425,0347,-11.9835, -19.0000, 4556,   1382.8,   3.9489,  34.8417,2,  34.8416,2,    201.7,2,    204.3,2,    28.11,2,    25.95,2,     0.00,2,     1.79,2, -999.000,9, -999.000,9, -999.000,9,   -999.0,9,   -999.0,9,  3.8401
     316N142_3,   A15,    69,  1,     21,     21,9,19940425,0347,-11.9835, -19.0000, 4556,   1504.9,   3.8429,  34.8777,2,-999.0000,9,    212.9,2,   -999.0,9,  -999.00,9,  -999.00,9,  -999.00,9,  -999.00,9, -999.000,9, -999.000,9, -999.000,9,   -999.0,9,   -999.0,9,  3.7242
     316N142_3,   A15,    69,  1,     20,     20,2,19940425,0347,-11.9835, -19.0000, 4556,   1626.0,   3.7030,  34.9070,2,  34.9061,2,    226.0,2,    225.8,2,    26.37,2,    22.90,2,     0.00,2,     1.59,2, -999.000,9, -999.000,9, -999.000,9,   -999.0,9,   -999.0,9,  3.5750
     316N142_3,   A15,    69,  1,     19,     19,2,19940425,0347,-11.9835, -19.0000, 4556,   1747.2,   3.4824,  34.9217,2,  34.9217,2,    235.0,2,    235.6,2,    27.26,2,    21.82,2,     0.00,2,     1.52,2, -999.000,9, -999.000,9, -999.000,9,   -999.0,9,   -999.0,9,  3.3461
     316N142_3,   A15,    69,  1,     40,     40,2,19940425,0347,-11.9835, -19.0000, 4556,   1867.8,   3.3154,  34.9254,2,  34.9246,2,    238.3,2,    240.4,2,    28.81,2,    21.43,2,     0.00,2,     1.49,2, -999.000,9, -999.000,9, -999.000,9,   -999.0,9,   -999.0,9,  3.1704
     316N142_3,   A15,    69,  1,     17,     17,2,19940425,0347,-11.9835, -19.0000, 4556,   1989.5,   3.2536,  34.9372,2,  34.9366,2,    246.4,2,    246.8,2,    27.59,2,    20.55,2,     0.00,2,     1.44,2, -999.000,9, -999.000,9, -999.000,9,   -999.0,9,   -999.0,9,  3.0982
     316N142_3,   A15,    69,  1,     16,     16,2,19940425,0347,-11.9835, -19.0000, 4556,   2121.5,   3.0892,  34.9268,2,  34.9260,2,    246.5,2,    246.0,2,    30.84,2,    20.94,2,     0.00,2,     1.46,2, -999.000,9, -999.000,9, -999.000,9,   -999.0,9,   -999.0,9,  2.9241
     316N142_3,   A15,    69,  1,     15,     15,2,19940425,0347,-11.9835, -19.0000, 4556,   2273.1,   2.9303,  34.9163,2,  34.9158,2,    246.3,2,    244.8,2,    34.48,2,    21.38,2,     0.00,2,     1.49,2, -999.000,9, -999.000,9, -999.000,9,   -999.0,9,   -999.0,9,  2.7535
     316N142_3,   A15,    69,  1,     14,     14,2,19940425,0347,-11.9835, -19.0000, 4556,   2451.4,   2.8244,  34.9087,2,  34.9083,2,    244.0,2,    243.7,2,    37.47,2,    21.68,2,     0.00,2,     1.50,2, -999.000,9, -999.000,9, -999.000,9,   -999.0,9,   -999.0,9,  2.6325
     316N142_3,   A15,    69,  1,     13,     13,2,19940425,0347,-11.9835, -19.0000, 4556,   2629.7,   2.7471,  34.9027,2,  34.9022,2,    243.5,2,    242.6,2,    39.92,2,    21.97,2,     0.00,2,     1.53,2, -999.000,9, -999.000,9, -999.000,9,   -999.0,9,   -999.0,9,  2.5393
     316N142_3,   A15,    69,  1,     12,     12,2,19940425,0347,-11.9835, -19.0000, 4556,   2833.6,   2.6924,  34.9008,2,  34.8997,2,    243.3,2,    242.6,2,    41.20,2,    22.12,2,     0.00,2,     1.53,2, -999.000,9, -999.000,9, -999.000,9,   -999.0,9,   -999.0,9,  2.4654
     316N142_3,   A15,    69,  1,     11,     11,2,19940425,0347,-11.9835, -19.0000, 4556,   3037.6,   2.6306,  34.8971,2,  34.8957,2,    244.5,2,    242.8,2,    42.86,2,    22.27,2,     0.00,2,     1.54,2, -999.000,9, -999.000,9, -999.000,9,   -999.0,9,   -999.0,9,  2.3842
     316N142_3,   A15,    69,  1,     10,     10,2,19940425,0347,-11.9835, -19.0000, 4556,   3241.2,   2.6008,  34.9033,2,  34.9016,2,    246.3,2,    248.2,2,    39.82,2,    21.48,2,     0.00,2,     1.48,2, -999.000,9, -999.000,9, -999.000,9,   -999.0,9,   -999.0,9,  2.3338
     316N142_3,   A15,    69,  1,      9,      9,2,19940425,0347,-11.9835, -19.0000, 4556,   3419.3,   2.5207,  34.8973,2,  34.8967,2,    249.1,2,    249.0,2,    41.61,2,    21.58,2,     0.00,2,     1.50,2, -999.000,9, -999.000,9, -999.000,9,   -999.0,9,   -999.0,9,  2.2366
     316N142_3,   A15,    69,  1,      8,      8,2,19940425,0347,-11.9835, -19.0000, 4556,   3598.2,   2.4161,  34.8901,2,  34.8888,2,    249.1,2,    249.7,2,    43.80,2,    21.73,2,     0.00,2,     1.51,2, -999.000,9, -999.000,9, -999.000,9,   -999.0,9,   -999.0,9,  2.1153
     316N142_3,   A15,    69,  1,      7,      7,2,19940425,0347,-11.9835, -19.0000, 4556,   3751.7,   2.3114,  34.8792,2,  34.8788,2,    248.6,2,    248.5,2,    47.55,2,    22.22,2,     0.00,2,     1.54,2, -999.000,9, -999.000,9, -999.000,9,   -999.0,9,   -999.0,9,  1.9964
     316N142_3,   A15,    69,  1,      6,      6,2,19940425,0347,-11.9835, -19.0000, 4556,   3904.3,   2.0887,  34.8570,2,  34.8568,2,    245.4,2,    245.8,2,    55.85,2,    23.30,2,     0.00,2,     1.62,2, -999.000,9, -999.000,9, -999.000,9,   -999.0,9,   -999.0,9,  1.7629
     316N142_3,   A15,    69,  1,      5,      5,2,19940425,0347,-11.9835, -19.0000, 4556,   4057.4,   1.8439,  34.8325,2,  34.8316,2,    242.2,2,    242.4,2,    65.28,2,    24.68,2,     0.00,2,     1.71,2, -999.000,9, -999.000,9, -999.000,9,   -999.0,9,   -999.0,9,  1.5080
     316N142_3,   A15,    69,  1,      4,      4,2,19940425,0347,-11.9835, -19.0000, 4556,   4262.3,   1.3454,  34.7805,2,  34.7821,2,    234.9,2,    234.6,2,    84.18,2,    27.53,2,     0.00,2,     1.90,2, -999.000,9, -999.000,9, -999.000,9,   -999.0,9,   -999.0,9,  1.0014
     316N142_3,   A15,    69,  1,      3,      3,2,19940425,0347,-11.9835, -19.0000, 4556,   4466.8,   1.0576,  34.7498,2,  34.7502,2,    230.9,2,    230.1,2,    94.92,2,    29.16,2,     0.00,2,     2.02,2, -999.000,9, -999.000,9, -999.000,9,   -999.0,9,   -999.0,9,  0.6997
     316N142_3,   A15,    69,  1,      2,      2,2,19940425,0347,-11.9835, -19.0000, 4556,   4621.1,   1.0302,  34.7450,2,  34.7461,2,    229.0,2,    229.3,2,    96.69,2,    29.40,2,     0.00,2,     2.03,2, -999.000,9, -999.000,9, -999.000,9,   -999.0,9,   -999.0,9,  0.6557
     316N142_3,   A15,    69,  1,      1,      1,2,19940425,0347,-11.9835, -19.0000, 4556,   4771.1,   1.0322,  34.7440,2,  34.7441,2,    229.1,2,    229.1,2,    96.99,2,    29.40,2,     0.00,2,     2.04,2, -999.000,9, -999.000,9, -999.000,9,   -999.0,9,   -999.0,9,  0.6403