BOTTLE,20020814WHPSIOKJU
EXPOCODE,SECT_ID,STNNBR,CASTNO,SAMPNO,BTLNBR,BTLNBR_FLAG_W,DATE,TIME,LATITUDE,LONGITUDE,DEPTH,CTDPRS,CTDTMP,CTDSAL,CTDSAL_FLAG_W,SALNTY,SALNTY_FLAG_W,CTDOXY,CTDOXY_FLAG_W,OXYGEN,OXYGEN_FLAG_W,SILCAT,SILCAT_FLAG_W,NITRAT,NITRAT_FLAG_W,NITRIT,NITRIT_FLAG_W,PHSPHT,PHSPHT_FLAG_W,CFC-11,CFC-11_FLAG_W,CFC-12,CFC-12_FLAG_W,CCL4,CCL4_FLAG_W,TCARBN,TCARBN_FLAG_W,ALKALI,ALKALI_FLAG_W,THETA
,,,,,,,,,,,,DBAR,ITS-90,PSS-78,,PSS-78,,UMOL/KG,,UMOL/KG,,UMOL/KG,,UMOL/KG,,UMOL/KG,,UMOL/KG,,PMOL/KG,,PMOL/KG,,PMOL/KG,,UMOL/KG,,UMOL/KG,,DEG C
     316N142_3,  AR15,   123,  1,     39,     39,2,19940512,1316,-17.9453, -24.8242, 5479,      6.7,  26.3462,  37.2421,2,  37.2430,2,    203.0,2,    203.5,2,     1.65,2,     0.00,2,     0.01,2,     0.19,2, -999.000,9, -999.000,9, -999.000,9,   -999.0,9,   -999.0,9, 26.3447
     316N142_3,  AR15,   123,  1,     35,     35,2,19940512,1316,-17.9453, -24.8242, 5479,    100.5,  23.1470,  36.6278,2,  36.6300,2,    225.1,2,    223.9,2,     1.63,2,     0.01,2,     0.01,2,     0.20,2, -999.000,9, -999.000,9, -999.000,9,   -999.0,9,   -999.0,9, 23.1262
     316N142_3,  AR15,   123,  1,     38,     38,2,19940512,1316,-17.9453, -24.8242, 5479,    205.6,  16.4987,  35.6764,2,  35.7081,2,    206.9,2,    198.4,2,     3.10,2,     2.82,2,     0.01,2,     0.53,2, -999.000,9, -999.000,9, -999.000,9,   -999.0,9,   -999.0,9, 16.4653
     316N142_3,  AR15,   123,  1,     33,     33,2,19940512,1316,-17.9453, -24.8242, 5479,    316.1,  12.4972,  35.0937,2,  35.0959,2,    194.1,2,    190.4,2,     5.90,2,    11.81,2,     0.01,2,     0.99,2, -999.000,9, -999.000,9, -999.000,9,   -999.0,9,   -999.0,9, 12.4546
     316N142_3,  AR15,   123,  1,     41,     41,2,19940512,1316,-17.9453, -24.8242, 5479,    427.2,   9.0031,  34.7237,2,  34.7222,2,    170.4,2,    162.5,2,    13.13,2,    23.89,2,     0.00,2,     1.64,2, -999.000,9, -999.000,9, -999.000,9,   -999.0,9,   -999.0,9,  8.9562
     316N142_3,  AR15,   123,  1,     31,     31,2,19940512,1316,-17.9453, -24.8242, 5479,    537.7,   6.6737,  34.5361,2,  34.5393,2,    155.1,2,    156.8,2,    20.24,2,    30.47,2,     0.00,2,     2.01,2, -999.000,9, -999.000,9, -999.000,9,   -999.0,9,   -999.0,9,  6.6238
     316N142_3,  AR15,   123,  1,     37,     37,2,19940512,1316,-17.9453, -24.8242, 5479,    623.2,   5.4917,  34.4532,2,  34.4564,2,    167.9,2,    167.2,2,    24.82,2,    32.11,2,     0.00,2,     2.13,2, -999.000,9, -999.000,9, -999.000,9,   -999.0,9,   -999.0,9,  5.4392
     316N142_3,  AR15,   123,  1,     29,     29,2,19940512,1316,-17.9453, -24.8242, 5479,    708.3,   4.6008,  34.4178,2,  34.4186,2,    174.6,2,    175.5,2,    30.45,2,    33.23,2,     0.00,2,     2.22,2, -999.000,9, -999.000,9, -999.000,9,   -999.0,9,   -999.0,9,  4.5455
     316N142_3,  AR15,   123,  1,     28,     28,2,19940512,1316,-17.9453, -24.8242, 5479,    884.6,   3.8332,  34.4639,2,  34.4625,2,    175.9,2,    179.5,2,    38.04,2,    33.46,2,     0.00,2,     2.25,2, -999.000,9, -999.000,9, -999.000,9,   -999.0,9,   -999.0,9,  3.7682
     316N142_3,  AR15,   123,  1,     27,     27,2,19940512,1316,-17.9453, -24.8242, 5479,   1061.5,   3.7099,  34.5745,2,  34.5743,2,    179.1,2,    181.3,2,    38.61,2,    32.06,2,     0.00,2,     2.16,2, -999.000,9, -999.000,9, -999.000,9,   -999.0,9,   -999.0,9,  3.6314
     316N142_3,  AR15,   123,  1,     26,     26,2,19940512,1316,-17.9453, -24.8242, 5479,   1222.8,   3.7931,  34.7047,2,  34.7043,2,    188.1,2,    189.2,2,    34.57,2,    29.31,2,     0.00,2,     1.99,2, -999.000,9, -999.000,9, -999.000,9,   -999.0,9,   -999.0,9,  3.7001
     316N142_3,  AR15,   123,  1,     25,     25,2,19940512,1316,-17.9453, -24.8242, 5479,   1384.0,   3.8211,  34.8046,2,  34.8050,2,    202.3,2,    203.3,2,    30.38,2,    26.30,2,     0.00,2,     1.81,2, -999.000,9, -999.000,9, -999.000,9,   -999.0,9,   -999.0,9,  3.7136
     316N142_3,  AR15,   123,  1,     24,     24,2,19940512,1316,-17.9453, -24.8242, 5479,   1536.4,   3.6353,  34.8623,2,  34.8631,2,    218.2,2,    218.8,2,    28.88,2,    24.00,2,     0.00,2,     1.65,2, -999.000,9, -999.000,9, -999.000,9,   -999.0,9,   -999.0,9,  3.5162
     316N142_3,  AR15,   123,  1,     23,     23,9,19940512,1316,-17.9453, -24.8242, 5479,   1698.2,   3.4449,  34.8981,2,-999.0000,9,    231.0,2,   -999.0,9,  -999.00,9,  -999.00,9,  -999.00,9,  -999.00,9, -999.000,9, -999.000,9, -999.000,9,   -999.0,9,   -999.0,9,  3.3136
     316N142_3,  AR15,   123,  1,     22,     22,2,19940512,1316,-17.9453, -24.8242, 5479,   1849.5,   3.2579,  34.9097,2,  34.9097,2,    239.1,2,    238.5,2,    29.46,2,    21.30,2,     0.00,2,     1.50,2, -999.000,9, -999.000,9, -999.000,9,   -999.0,9,   -999.0,9,  3.1154
     316N142_3,  AR15,   123,  1,     21,     21,2,19940512,1316,-17.9453, -24.8242, 5479,   2002.5,   3.1057,  34.9127,2,  34.9123,2,    241.5,2,    241.3,2,    30.93,2,    21.06,2,     0.00,2,     1.49,2, -999.000,9, -999.000,9, -999.000,9,   -999.0,9,   -999.0,9,  2.9514
     316N142_3,  AR15,   123,  1,     20,     20,2,19940512,1316,-17.9453, -24.8242, 5479,   2154.5,   2.9998,  34.9117,2,  34.9117,2,    243.3,2,    242.6,2,    32.55,2,    21.08,2,     0.00,2,     1.48,2, -999.000,9, -999.000,9, -999.000,9,   -999.0,9,   -999.0,9,  2.8331
     316N142_3,  AR15,   123,  1,     19,     19,2,19940512,1316,-17.9453, -24.8242, 5479,   2316.5,   2.9143,  34.9085,2,  34.9085,2,    243.2,2,    242.7,2,    34.32,2,    21.16,2,     0.00,2,     1.48,2, -999.000,9, -999.000,9, -999.000,9,   -999.0,9,   -999.0,9,  2.7337
     316N142_3,  AR15,   123,  1,     40,     40,2,19940512,1316,-17.9453, -24.8242, 5479,   2478.8,   2.8401,  34.9053,2,  34.9054,2,    244.3,2,    243.0,2,    35.94,2,    21.38,2,     0.00,2,     1.49,2, -999.000,9, -999.000,9, -999.000,9,   -999.0,9,   -999.0,9,  2.6453
     316N142_3,  AR15,   123,  1,     17,     17,2,19940512,1316,-17.9453, -24.8242, 5479,   2632.2,   2.7631,  34.9004,2,  34.9005,2,    242.1,2,    242.3,2,    38.01,2,    21.66,2,     0.00,2,     1.49,2, -999.000,9, -999.000,9, -999.000,9,   -999.0,9,   -999.0,9,  2.5548
     316N142_3,  AR15,   123,  1,     16,     16,2,19940512,1316,-17.9453, -24.8242, 5479,   2810.2,   2.7242,  34.9013,2,  34.9011,2,    243.4,2,    243.7,2,    38.44,2,    21.61,2,     0.00,2,     1.50,2, -999.000,9, -999.000,9, -999.000,9,   -999.0,9,   -999.0,9,  2.4989
     316N142_3,  AR15,   123,  1,     15,     15,2,19940512,1316,-17.9453, -24.8242, 5479,   2988.4,   2.6995,  34.9057,2,  34.9058,2,    243.6,2,    246.6,2,    37.38,2,    21.17,2,     0.00,2,     1.47,2, -999.000,9, -999.000,9, -999.000,9,   -999.0,9,   -999.0,9,  2.4566
     316N142_3,  AR15,   123,  1,     14,     14,2,19940512,1316,-17.9453, -24.8242, 5479,   3090.7,   2.6556,  34.9020,2,  34.9027,2,    247.4,2,    246.2,2,    38.56,2,    21.39,2,     0.00,2,     1.48,2, -999.000,9, -999.000,9, -999.000,9,   -999.0,9,   -999.0,9,  2.4031
     316N142_3,  AR15,   123,  1,     13,     13,2,19940512,1316,-17.9453, -24.8242, 5479,   3243.5,   2.5911,  34.8960,2,  34.8958,2,    245.5,2,    245.9,2,    41.08,2,    21.73,2,     0.00,2,     1.50,2, -999.000,9, -999.000,9, -999.000,9,   -999.0,9,   -999.0,9,  2.3241
     316N142_3,  AR15,   123,  1,     12,     12,2,19940512,1316,-17.9453, -24.8242, 5479,   3396.7,   2.5361,  34.8942,2,  34.8946,2,    246.6,2,    247.0,2,    41.36,2,    21.56,2,     0.00,2,     1.49,2, -999.000,9, -999.000,9, -999.000,9,   -999.0,9,   -999.0,9,  2.2540
     316N142_3,  AR15,   123,  1,     11,     11,2,19940512,1316,-17.9453, -24.8242, 5479,   3549.7,   2.4290,  34.8857,2,  34.8864,2,    246.6,2,    247.2,2,    44.19,2,    21.84,2,     0.00,2,     1.51,2, -999.000,9, -999.000,9, -999.000,9,   -999.0,9,   -999.0,9,  2.1331
     316N142_3,  AR15,   123,  1,     10,     10,2,19940512,1316,-17.9453, -24.8242, 5479,   3753.9,   2.1952,  34.8643,2,  34.8648,2,    245.2,2,    245.2,2,    51.81,2,    22.90,2,     0.00,2,     1.58,2, -999.000,9, -999.000,9, -999.000,9,   -999.0,9,   -999.0,9,  1.8831
     316N142_3,  AR15,   123,  1,      9,      9,2,19940512,1316,-17.9453, -24.8242, 5479,   3957.8,   1.8728,  34.8334,2,  34.8336,2,    241.0,2,    241.8,2,    63.10,2,    24.56,2,     0.00,2,     1.69,2, -999.000,9, -999.000,9, -999.000,9,   -999.0,9,   -999.0,9,  1.5471
     316N142_3,  AR15,   123,  1,      8,      8,2,19940512,1316,-17.9453, -24.8242, 5479,   4163.0,   1.5332,  34.7991,2,  34.7992,2,    236.2,2,    236.9,2,    75.85,2,    26.54,2,     0.00,2,     1.82,2, -999.000,9, -999.000,9, -999.000,9,   -999.0,9,   -999.0,9,  1.1946
     316N142_3,  AR15,   123,  1,      7,      7,2,19940512,1316,-17.9453, -24.8242, 5479,   4367.2,   1.2404,  34.7684,2,  34.7692,2,    232.1,2,    232.5,2,    86.89,2,    28.14,2,     0.00,2,     1.92,2, -999.000,9, -999.000,9, -999.000,9,   -999.0,9,   -999.0,9,  0.8880
     316N142_3,  AR15,   123,  1,      6,      6,2,19940512,1316,-17.9453, -24.8242, 5479,   4572.4,   1.0515,  34.7479,2,  34.7486,2,    229.8,2,    229.4,2,    94.76,2,    29.47,2,     0.00,2,     2.00,2, -999.000,9, -999.000,9, -999.000,9,   -999.0,9,   -999.0,9,  0.6819
     316N142_3,  AR15,   123,  1,      5,      5,2,19940512,1316,-17.9453, -24.8242, 5479,   4777.7,   0.8884,  34.7295,2,  34.7301,2,    226.7,2,    227.3,2,   101.30,2,    30.41,2,     0.00,2,     2.07,2, -999.000,9, -999.000,9, -999.000,9,   -999.0,9,   -999.0,9,  0.5007
     316N142_3,  AR15,   123,  1,      4,      4,2,19940512,1316,-17.9453, -24.8242, 5479,   4983.1,   0.7794,  34.7166,2,  34.7180,2,    225.2,2,    225.4,2,   106.14,2,    31.16,2,     0.00,2,     2.12,2, -999.000,9, -999.000,9, -999.000,9,   -999.0,9,   -999.0,9,  0.3714
     316N142_3,  AR15,   123,  1,      3,      3,2,19940512,1316,-17.9453, -24.8242, 5479,   5188.0,   0.7619,  34.7124,2,  34.7123,2,    225.0,2,    225.1,2,   107.38,2,    31.52,2,     0.00,2,     2.14,2, -999.000,9, -999.000,9, -999.000,9,   -999.0,9,   -999.0,9,  0.3303
     316N142_3,  AR15,   123,  1,      2,      2,2,19940512,1316,-17.9453, -24.8242, 5479,   5393.3,   0.7322,  34.7065,2,  34.7086,2,    224.5,2,    223.9,2,   109.57,2,    31.94,2,     0.00,2,     2.15,2, -999.000,9, -999.000,9, -999.000,9,   -999.0,9,   -999.0,9,  0.2768
     316N142_3,  AR15,   123,  1,      1,      1,2,19940512,1316,-17.9453, -24.8242, 5479,   5619.6,   0.7192,  34.7021,2,  34.7043,2,    224.7,2,    223.5,2,   111.29,2,    32.30,2,     0.00,2,     2.17,2, -999.000,9, -999.000,9, -999.000,9,   -999.0,9,   -999.0,9,  0.2363