BOTTLE,20020814WHPSIOKJU
EXPOCODE,SECT_ID,STNNBR,CASTNO,SAMPNO,BTLNBR,BTLNBR_FLAG_W,DATE,TIME,LATITUDE,LONGITUDE,DEPTH,CTDPRS,CTDTMP,CTDSAL,CTDSAL_FLAG_W,SALNTY,SALNTY_FLAG_W,CTDOXY,CTDOXY_FLAG_W,OXYGEN,OXYGEN_FLAG_W,SILCAT,SILCAT_FLAG_W,NITRAT,NITRAT_FLAG_W,NITRIT,NITRIT_FLAG_W,PHSPHT,PHSPHT_FLAG_W,CFC-11,CFC-11_FLAG_W,CFC-12,CFC-12_FLAG_W,CCL4,CCL4_FLAG_W,TCARBN,TCARBN_FLAG_W,ALKALI,ALKALI_FLAG_W,THETA
,,,,,,,,,,,,DBAR,ITS-90,PSS-78,,PSS-78,,UMOL/KG,,UMOL/KG,,UMOL/KG,,UMOL/KG,,UMOL/KG,,UMOL/KG,,PMOL/KG,,PMOL/KG,,PMOL/KG,,UMOL/KG,,UMOL/KG,,DEG C
     316N142_3,  AR15,   120,  1,     39,     39,2,19940511,1707,-18.2168, -23.2340, 5199,      5.8,  26.1991,  37.2401,2,  37.2407,2,    202.0,2,    204.3,2,     1.60,2,     0.05,2,     0.00,2,     0.19,2,    1.761,2,    0.980,2,    2.436,2,   2082.9,2,   2442.1,2, 26.1978
     316N142_3,  AR15,   120,  1,     35,     35,2,19940511,1707,-18.2168, -23.2340, 5199,     75.0,  26.0759,  37.2135,2,  37.2169,2,    209.7,2,    205.7,2,     1.46,2,     0.05,2,     0.00,2,     0.18,2, -999.000,9, -999.000,9, -999.000,9,   2081.2,2,   2438.5,2, 26.0590
     316N142_3,  AR15,   120,  1,     38,     38,2,19940511,1707,-18.2168, -23.2340, 5199,    100.3,  23.1450,  36.6744,2,  36.6690,2,    220.9,2,    221.0,2,     1.57,2,     0.05,2,     0.00,2,     0.20,2,    2.050,2,    1.164,2,    1.676,2,   2073.6,2,   2407.6,2, 23.1242
     316N142_3,  AR15,   120,  1,     33,     33,2,19940511,1707,-18.2168, -23.2340, 5199,    205.8,  16.4172,  35.6660,2,  35.6685,2,    197.2,2,    194.7,2,     3.04,2,     4.21,2,     0.01,2,     0.58,2, -999.000,9, -999.000,9, -999.000,9,   2100.9,2,   2339.9,2, 16.3838
     316N142_3,  AR15,   120,  1,     41,     41,2,19940511,1707,-18.2168, -23.2340, 5199,    306.2,  12.9669,  35.1615,2,  35.1679,2,    181.0,2,    179.7,2,     5.74,2,    12.20,2,     0.00,2,     0.99,2,    2.055,8,    1.297,4,    0.593,2,   2124.0,2,   2310.8,2, 12.9247
     316N142_3,  AR15,   120,  1,     31,     31,2,19940511,1707,-18.2168, -23.2340, 5199,    407.4,   9.7222,  34.7978,2,  34.8034,2,    163.0,2,    161.5,2,    11.41,2,    22.41,2,     0.00,2,     1.53,2, -999.000,9, -999.000,9, -999.000,9,   2160.2,2,   2296.7,2,  9.6754
     316N142_3,  AR15,   120,  1,     37,     37,2,19940511,1707,-18.2168, -23.2340, 5199,    506.4,   7.4037,  34.5948,2,  34.5907,2,    154.6,2,    155.4,2,    18.07,2,    29.40,2,     0.00,2,     1.92,2,    0.633,6,    0.330,6,    0.942,6,   2186.1,2,   2291.3,2,  7.3540
     316N142_3,  AR15,   120,  1,     29,     29,2,19940511,1707,-18.2168, -23.2340, 5199,    613.6,   5.7047,  34.4673,2,  34.4676,2,    165.0,2,    165.6,2,    24.38,2,    32.47,2,     0.00,2,     2.12,2,    0.372,2,    0.171,2,    0.772,2,   2196.5,2,   2295.0,2,  5.6521
     316N142_3,  AR15,   120,  1,     28,     28,2,19940511,1707,-18.2168, -23.2340, 5199,    718.2,   4.6514,  34.4187,2,  34.4182,2,    173.6,2,    175.2,2,    30.83,2,    33.76,2,     0.00,2,     2.21,2,    0.100,2,    0.093,2,    0.896,2,   -999.0,9,   -999.0,9,  4.5951
     316N142_3,  AR15,   120,  1,     27,     27,2,19940511,1707,-18.2168, -23.2340, 5199,    848.2,   4.0175,  34.4347,2,  34.4329,2,    177.6,2,    179.2,2,    36.80,2,    34.04,2,     0.00,2,     2.26,2, -999.000,9, -999.000,9, -999.000,9,   -999.0,9,   -999.0,9,  3.9543
     316N142_3,  AR15,   120,  1,     26,     26,2,19940511,1707,-18.2168, -23.2340, 5199,   1001.2,   3.7279,  34.5153,2,  34.5168,2,    179.1,2,    179.9,2,    40.03,2,    33.42,2,     0.00,2,     2.22,2,    0.051,4,    0.019,2,    0.430,2,   -999.0,9,   -999.0,9,  3.6542
     316N142_3,  AR15,   120,  1,     25,     25,2,19940511,1707,-18.2168, -23.2340, 5199,   1162.2,   3.7479,  34.6481,2,  34.6470,2,    183.5,2,    185.6,2,    37.38,2,    31.15,2,     0.00,2,     2.08,2, -999.000,9, -999.000,9, -999.000,9,   -999.0,9,   -999.0,9,  3.6605
     316N142_3,  AR15,   120,  1,     24,     24,2,19940511,1707,-18.2168, -23.2340, 5199,   1318.8,   3.8136,  34.7622,2,  34.7624,2,    196.1,2,    197.0,2,    33.24,2,    28.05,2,     0.00,2,     1.89,2, -999.000,9,    0.026,2,    0.108,2,   -999.0,9,   -999.0,9,  3.7120
     316N142_3,  AR15,   120,  1,     23,     23,2,19940511,1707,-18.2168, -23.2340, 5199,   1443.8,   3.7246,  34.8270,2,  34.8272,2,    210.0,2,    209.6,2,    30.72,2,    25.83,2,     0.00,2,     1.76,2, -999.000,9, -999.000,9, -999.000,9,   -999.0,9,   -999.0,9,  3.6129
     316N142_3,  AR15,   120,  1,     22,     22,2,19940511,1707,-18.2168, -23.2340, 5199,   1576.3,   3.6433,  34.8693,2,  34.8687,2,    223.9,2,    220.9,2,    29.33,2,    24.06,2,     0.00,2,     1.64,2, -999.000,9,    0.015,2,    0.358,2,   -999.0,9,   -999.0,9,  3.5206
     316N142_3,  AR15,   120,  1,     21,     21,2,19940511,1707,-18.2168, -23.2340, 5199,   1627.4,   3.5983,  34.8855,2,  34.8860,2,    227.1,2,    225.8,2,    28.44,2,    23.18,2,     0.00,2,     1.59,2, -999.000,9, -999.000,9, -999.000,9,   -999.0,9,   -999.0,9,  3.4715
     316N142_3,  AR15,   120,  1,     20,     20,2,19940511,1707,-18.2168, -23.2340, 5199,   1698.0,   3.5603,  34.9127,2,  34.9135,2,    234.7,2,    234.1,2,    26.69,2,    21.92,2,     0.00,2,     1.51,2, -999.000,9,    0.018,6,    0.172,6,   -999.0,9,   -999.0,9,  3.4275
     316N142_3,  AR15,   120,  1,     19,     19,2,19940511,1707,-18.2168, -23.2340, 5199,   1860.1,   3.3385,  34.9209,2,  34.9207,2,    240.2,2,    241.0,2,    27.66,2,    21.17,2,     0.00,2,     1.46,2, -999.000,9,    0.007,2,    0.048,2,   -999.0,9,   -999.0,9,  3.1939
     316N142_3,  AR15,   120,  1,     40,     40,2,19940511,1707,-18.2168, -23.2340, 5199,   2023.0,   3.1912,  34.9240,2,  34.9225,2,    243.3,2,    243.4,2,    29.26,2,    20.93,2,     0.00,2,     1.45,2, -999.000,9,    0.030,2,    0.104,2,   -999.0,9,   -999.0,9,  3.0337
     316N142_3,  AR15,   120,  1,     17,     17,9,19940511,1707,-18.2168, -23.2340, 5199,   2195.1,   3.0717,  34.9261,2,-999.0000,9,    248.5,2,   -999.0,9,  -999.00,9,  -999.00,9,  -999.00,9,  -999.00,9, -999.000,9, -999.000,9, -999.000,9,   -999.0,9,   -999.0,9,  2.8999
     316N142_3,  AR15,   120,  1,     16,     16,2,19940511,1707,-18.2168, -23.2340, 5199,   2357.5,   2.9393,  34.9161,2,  34.9158,2,    246.0,2,    245.4,2,    33.09,2,    21.00,2,     0.00,2,     1.45,2, -999.000,9,    0.009,2,    0.047,2,   -999.0,9,   -999.0,9,  2.7544
     316N142_3,  AR15,   120,  1,     15,     15,2,19940511,1707,-18.2168, -23.2340, 5199,   2528.5,   2.9459,  34.9281,2,  34.9276,2,    250.1,2,    250.8,2,    30.46,2,    20.12,2,     0.00,2,     1.40,2, -999.000,9, -999.000,9, -999.000,9,   -999.0,9,   -999.0,9,  2.7443
     316N142_3,  AR15,   120,  1,     14,     14,2,19940511,1707,-18.2168, -23.2340, 5199,   2732.5,   2.8393,  34.9222,2,  34.9221,2,    250.7,2,    250.4,2,    32.31,2,    20.32,2,     0.00,2,     1.42,2, -999.000,9,    0.004,2,    0.128,2,   -999.0,9,   -999.0,9,  2.6194
     316N142_3,  AR15,   120,  1,     13,     13,2,19940511,1707,-18.2168, -23.2340, 5199,   2937.0,   2.7521,  34.9181,2,  34.9174,2,    251.3,2,    251.1,2,    33.53,2,    20.27,2,     0.00,2,     1.41,2, -999.000,9, -999.000,9, -999.000,9,   -999.0,9,   -999.0,9,  2.5132
     316N142_3,  AR15,   120,  1,     12,     12,2,19940511,1707,-18.2168, -23.2340, 5199,   3139.3,   2.6747,  34.9131,2,  34.9129,2,    250.7,2,    251.7,2,    34.88,2,    20.48,2,     0.00,2,     1.42,2, -999.000,9,    0.017,2,    0.117,2,   -999.0,9,   -999.0,9,  2.4166
     316N142_3,  AR15,   120,  1,     11,     11,2,19940511,1707,-18.2168, -23.2340, 5199,   3343.2,   2.5323,  34.8977,2,  34.9001,2,    249.0,2,    249.7,2,    39.73,2,    21.20,2,     0.00,2,     1.47,2, -999.000,9, -999.000,9, -999.000,9,   -999.0,9,   -999.0,9,  2.2560
     316N142_3,  AR15,   120,  1,     10,     10,2,19940511,1707,-18.2168, -23.2340, 5199,   3544.7,   2.4121,  34.8908,2,  34.8909,2,    250.4,2,    251.0,2,    42.22,2,    21.40,2,     0.00,2,     1.47,2, -999.000,9,    0.044,4,    0.045,4,   -999.0,9,   -999.0,9,  2.1172
     316N142_3,  AR15,   120,  1,      9,      9,2,19940511,1707,-18.2168, -23.2340, 5199,   3758.0,   2.1319,  34.8597,2,  34.8593,2,    244.8,2,    245.1,2,    54.54,2,    23.34,2,     0.00,2,     1.60,2, -999.000,9, -999.000,9, -999.000,9,   -999.0,9,   -999.0,9,  1.8211
     316N142_3,  AR15,   120,  1,      8,      8,2,19940511,1707,-18.2168, -23.2340, 5199,   3973.6,   1.7304,  34.8204,2,  34.8208,2,    240.0,2,    239.9,2,    69.73,2,    25.74,2,     0.00,2,     1.73,2, -999.000,9,    0.017,2,    0.041,2,   -999.0,9,   -999.0,9,  1.4071
     316N142_3,  AR15,   120,  1,      7,      7,2,19940511,1707,-18.2168, -23.2340, 5199,   4189.1,   1.4249,  34.7882,2,  34.7880,2,    234.6,2,    235.2,2,    82.84,2,    27.68,2,     0.00,2,     1.86,2, -999.000,9, -999.000,9, -999.000,9,   -999.0,9,   -999.0,9,  1.0867
     316N142_3,  AR15,   120,  1,      6,      6,2,19940511,1707,-18.2168, -23.2340, 5199,   4405.9,   1.1803,  34.7623,2,  34.7623,2,    230.4,2,    231.8,2,    93.00,2,    29.18,2,     0.00,2,     1.95,2, -999.000,9,    0.010,2,    0.033,2,   -999.0,9,   -999.0,9,  0.8254
     316N142_3,  AR15,   120,  1,      5,      5,2,19940511,1707,-18.2168, -23.2340, 5199,   4622.3,   0.9840,  34.7411,2,  34.7407,2,    228.4,2,    228.8,2,   101.56,2,    30.49,2,     0.00,2,     2.04,2, -999.000,9, -999.000,9, -999.000,9,   -999.0,9,   -999.0,9,  0.6109
     316N142_3,  AR15,   120,  1,      4,      4,2,19940511,1707,-18.2168, -23.2340, 5199,   4828.5,   0.8481,  34.7255,2,  34.7256,2,    226.7,2,    226.6,2,   107.64,2,    31.15,2,     0.00,2,     2.10,2, -999.000,9,    0.009,2,    0.095,2,   -999.0,9,   -999.0,9,  0.4558
     316N142_3,  AR15,   120,  1,      3,      3,2,19940511,1707,-18.2168, -23.2340, 5199,   5085.8,   0.8093,  34.7179,2,  34.7184,2,    225.6,2,    225.5,2,   110.07,2,    31.56,2,     0.00,2,     2.12,2, -999.000,9, -999.000,9, -999.000,9,   -999.0,9,   -999.0,9,  0.3881
     316N142_3,  AR15,   120,  1,      2,      2,2,19940511,1707,-18.2168, -23.2340, 5199,   5341.3,   0.7658,  34.7110,2,  34.7115,2,    225.1,2,    224.7,2,   112.51,2,    31.97,2,     0.00,2,     2.14,2, -999.000,9,    0.012,2,    0.134,2,   -999.0,9,   -999.0,9,  0.3155
     316N142_3,  AR15,   120,  1,      1,      1,2,19940511,1707,-18.2168, -23.2340, 5199,   5543.0,   0.7484,  34.7058,2,  34.7066,2,    223.9,2,    223.9,2,   113.86,2,    32.18,2,     0.00,2,     2.16,2, -999.000,9,    0.016,2,    0.190,2,   -999.0,9,   -999.0,9,  0.2739