BOTTLE,20020814WHPSIOKJU
EXPOCODE,SECT_ID,STNNBR,CASTNO,SAMPNO,BTLNBR,BTLNBR_FLAG_W,DATE,TIME,LATITUDE,LONGITUDE,DEPTH,CTDPRS,CTDTMP,CTDSAL,CTDSAL_FLAG_W,SALNTY,SALNTY_FLAG_W,CTDOXY,CTDOXY_FLAG_W,OXYGEN,OXYGEN_FLAG_W,SILCAT,SILCAT_FLAG_W,NITRAT,NITRAT_FLAG_W,NITRIT,NITRIT_FLAG_W,PHSPHT,PHSPHT_FLAG_W,CFC-11,CFC-11_FLAG_W,CFC-12,CFC-12_FLAG_W,CCL4,CCL4_FLAG_W,TCARBN,TCARBN_FLAG_W,ALKALI,ALKALI_FLAG_W,THETA
,,,,,,,,,,,,DBAR,ITS-90,PSS-78,,PSS-78,,UMOL/KG,,UMOL/KG,,UMOL/KG,,UMOL/KG,,UMOL/KG,,UMOL/KG,,PMOL/KG,,PMOL/KG,,PMOL/KG,,UMOL/KG,,UMOL/KG,,DEG C
     316N142_3,  AR15,   134,  1,     39,     39,2,19940515,1109,-17.8022, -30.5590, 4773,     13.1,  26.9818,  37.4252,2,-999.0000,9,    197.1,2,    201.0,2,     1.74,2,     0.00,2,     0.00,2,     0.12,2,    1.575,2,    0.971,2,    1.773,2,   2072.4,2,   2452.9,2, 26.9788
     316N142_3,  AR15,   134,  1,     35,     35,2,19940515,1109,-17.8022, -30.5590, 4773,     97.1,  24.1674,  36.8977,2,  36.9077,2,    226.7,2,    221.7,2,     1.88,2,     0.00,2,     0.00,2,     0.18,2, -999.000,9, -999.000,9, -999.000,9,   2073.8,2,   2419.9,2, 24.1467
     316N142_3,  AR15,   134,  1,     38,     38,2,19940515,1109,-17.8022, -30.5590, 4773,    195.9,  17.6203,  35.8738,2,  35.8742,2,    199.3,2,    195.7,2,     2.80,2,     3.86,2,     0.01,2,     0.48,2,    2.376,2,    1.233,2,    0.677,2,   2097.5,2,   2350.9,2, 17.5870
     316N142_3,  AR15,   134,  1,     33,     33,2,19940515,1109,-17.8022, -30.5590, 4773,    295.4,  13.6001,  35.2539,2,  35.2643,2,    180.4,2,    176.9,2,     5.28,2,    12.33,2,     0.01,2,     0.94,2, -999.000,9, -999.000,9, -999.000,9,   2119.6,2,   2314.0,2, 13.5580
     316N142_3,  AR15,   134,  1,     41,     41,2,19940515,1109,-17.8022, -30.5590, 4773,    386.6,  10.9034,  34.9366,2,  34.9387,2,    161.5,2,    158.3,2,     9.32,2,    19.90,2,     0.00,2,     1.39,2,    1.453,2,    0.738,2,    0.537,2,   2153.8,2,   2299.5,2, 10.8556
     316N142_3,  AR15,   134,  1,     31,     31,2,19940515,1109,-17.8022, -30.5590, 4773,    486.1,   8.3711,  34.6842,2,  34.6804,2,    152.3,2,    149.2,2,    15.56,2,    26.56,2,     0.00,2,     1.82,2,    0.865,2,    0.424,2,    0.661,2,   2181.7,2,   2290.5,2,  8.3199
     316N142_3,  AR15,   134,  1,     37,     37,2,19940515,1109,-17.8022, -30.5590, 4773,    617.3,   5.7438,  34.4723,2,  34.4717,2,    162.3,2,    164.9,2,    23.98,2,    30.77,2,     0.00,2,     2.11,2, -999.000,9, -999.000,9, -999.000,9,   2197.1,2,   2290.5,2,  5.6906
     316N142_3,  AR15,   134,  1,     29,     29,2,19940515,1109,-17.8022, -30.5590, 4773,    747.7,   4.3847,  34.4162,2,  34.4141,2,    173.1,2,    177.8,2,    32.58,2,    32.15,2,     0.00,2,     2.24,2,    0.194,2,    0.076,2,    0.497,2,   2205.2,2,   2298.2,2,  4.3274
     316N142_3,  AR15,   134,  1,     28,     28,2,19940515,1109,-17.8022, -30.5590, 4773,    883.6,   3.8278,  34.4494,2,  34.4465,2,    180.5,2,    182.0,2,    38.52,2,    32.25,2,     0.00,2,     2.25,2, -999.000,9, -999.000,9, -999.000,9,   2211.8,2,   2303.0,2,  3.7630
     316N142_3,  AR15,   134,  1,     27,     27,2,19940515,1109,-17.8022, -30.5590, 4773,   1020.0,   3.7023,  34.5423,2,  34.5384,2,    179.3,2,    181.0,2,    39.91,2,    31.50,2,     0.00,2,     2.20,2,    0.064,4,    0.017,2,    0.255,2,   2216.5,2,   2307.9,2,  3.6273
     316N142_3,  AR15,   134,  1,     26,     26,2,19940515,1109,-17.8022, -30.5590, 4773,   1140.9,   3.7749,  34.6308,2,  34.6283,2,    181.6,2,    183.5,2,    37.52,2,    30.27,2,     0.00,2,     2.10,2, -999.000,9, -999.000,9, -999.000,9,   -999.0,9,   -999.0,9,  3.6891
     316N142_3,  AR15,   134,  1,     25,     25,2,19940515,1109,-17.8022, -30.5590, 4773,   1261.8,   3.8674,  34.7267,2,  34.7281,2,    188.4,2,    191.0,2,    34.04,2,    28.30,2,     0.00,2,     1.96,2, -999.000,9,    0.004,2,    0.081,2,   2205.5,2,   2311.0,2,  3.7702
     316N142_3,  AR15,   134,  1,     24,     24,2,19940515,1109,-17.8022, -30.5590, 4773,   1382.5,   3.9468,  34.8172,2,  34.8177,2,    201.2,2,    202.9,2,    29.48,2,    26.06,2,     0.00,2,     1.79,2, -999.000,9, -999.000,9, -999.000,9,   -999.0,9,   -999.0,9,  3.8381
     316N142_3,  AR15,   134,  1,     23,     23,2,19940515,1109,-17.8022, -30.5590, 4773,   1532.8,   3.8045,  34.8760,2,  34.8758,2,    218.2,2,    218.4,2,    27.57,2,    23.77,2,     0.00,2,     1.64,2, -999.000,9,    0.007,2,    0.141,2,   2185.3,2,   2313.7,2,  3.6838
     316N142_3,  AR15,   134,  1,     22,     22,2,19940515,1109,-17.8022, -30.5590, 4773,   1683.5,   3.7229,  34.9258,2,  34.9253,2,    234.0,2,    234.3,2,    24.58,2,    21.74,2,     0.00,2,     1.49,2, -999.000,9, -999.000,9, -999.000,9,   -999.0,9,   -999.0,9,  3.5894
     316N142_3,  AR15,   134,  1,     21,     21,2,19940515,1109,-17.8022, -30.5590, 4773,   1845.2,   3.5782,  34.9497,2,  34.9493,2,    246.0,2,    245.6,2,    22.84,2,    20.36,2,     0.00,2,     1.39,2, -999.000,9,    0.018,2,    0.395,2,   2171.2,2,   2314.6,2,  3.4316
     316N142_3,  AR15,   134,  1,     20,     20,2,19940515,1109,-17.8022, -30.5590, 4773,   1997.5,   3.3869,  34.9419,2,  34.9420,2,    247.3,2,    247.3,2,    24.85,2,    20.41,2,     0.00,2,     1.39,2, -999.000,9,    0.016,2,    0.243,2,   -999.0,9,   -999.0,9,  3.2288
     316N142_3,  AR15,   134,  1,     19,     19,2,19940515,1109,-17.8022, -30.5590, 4773,   2150.5,   3.2511,  34.9419,2,  34.9426,2,    249.9,2,    249.9,2,    25.92,2,    20.19,2,     0.00,2,     1.39,2, -999.000,9, -999.000,9, -999.000,9,   2171.0,2,   2317.8,2,  3.0806
     316N142_3,  AR15,   134,  1,     40,     40,2,19940515,1109,-17.8022, -30.5590, 4773,   2314.3,   3.1035,  34.9338,2,  34.9340,2,    250.6,2,    249.3,2,    28.55,2,    20.46,2,     0.00,2,     1.40,2, -999.000,9,    0.012,2,    0.156,2,   -999.0,9,   -999.0,9,  2.9198
     316N142_3,  AR15,   134,  1,     17,     17,9,19940515,1109,-17.8022, -30.5590, 4773,   2478.9,   2.9825,  34.9257,2,-999.0000,9,    249.8,2,   -999.0,9,  -999.00,9,  -999.00,9,  -999.00,9,  -999.00,9, -999.000,9, -999.000,9, -999.000,9,   -999.0,9,   -999.0,9,  2.7850
     316N142_3,  AR15,   134,  1,     16,     16,2,19940515,1109,-17.8022, -30.5590, 4773,   2629.9,   2.9053,  34.9214,2,  34.9208,2,    249.9,2,    249.2,2,    32.75,2,    20.88,2,     0.00,2,     1.42,2, -999.000,9, -999.000,9, -999.000,9,   -999.0,9,   -999.0,9,  2.6944
     316N142_3,  AR15,   134,  1,     15,     15,2,19940515,1109,-17.8022, -30.5590, 4773,   2792.7,   2.8200,  34.9146,2,  34.9132,2,    247.6,2,    247.5,2,    34.92,2,    21.14,2,     0.00,2,     1.45,2, -999.000,9,    0.006,2, -999.000,9,   -999.0,9,   2326.5,2,  2.5945
     316N142_3,  AR15,   134,  1,     14,     14,2,19940515,1109,-17.8022, -30.5590, 4773,   2984.5,   2.7672,  34.9140,2,  34.9124,2,    248.1,2,    248.7,2,    35.36,2,    21.03,2,     0.00,2,     1.45,2, -999.000,9, -999.000,9, -999.000,9,   -999.0,9,   -999.0,9,  2.5232
     316N142_3,  AR15,   134,  1,     13,     13,2,19940515,1109,-17.8022, -30.5590, 4773,   3155.6,   2.7218,  34.9142,2,  34.9140,2,    250.0,2,    250.6,2,    35.18,2,    20.71,2,     0.00,2,     1.43,2, -999.000,9, -999.000,9, -999.000,9,   2180.1,2,   2327.5,2,  2.4609
     316N142_3,  AR15,   134,  1,     12,     12,2,19940515,1109,-17.8022, -30.5590, 4773,   3339.8,   2.6608,  34.9109,2,  34.9103,2,    251.0,2,    251.3,2,    35.94,2,    20.76,2,     0.00,2,     1.43,2, -999.000,9,    0.009,2,    0.245,2,   -999.0,9,   -999.0,9,  2.3818
     316N142_3,  AR15,   134,  1,     11,     11,2,19940515,1109,-17.8022, -30.5590, 4773,   3525.1,   2.5743,  34.9050,2,  34.9036,2,    252.1,2,    252.6,2,    37.33,2,    20.76,2,     0.00,2,     1.44,2, -999.000,9, -999.000,9, -999.000,9,   -999.0,9,   -999.0,9,  2.2773
     316N142_3,  AR15,   134,  1,     10,     10,2,19940515,1109,-17.8022, -30.5590, 4773,   3709.5,   2.4405,  34.8934,2,  34.8920,2,    252.1,2,    252.4,2,    40.75,2,    21.13,2,     0.00,2,     1.46,2, -999.000,9,    0.013,2,    0.242,2,   -999.0,9,   -999.0,9,  2.1267
     316N142_3,  AR15,   134,  1,      9,      9,2,19940515,1109,-17.8022, -30.5590, 4773,   3841.2,   2.2617,  34.8764,2,  34.8752,2,    251.0,2,    250.5,2,    47.15,2,    21.93,2,     0.00,2,     1.52,2, -999.000,9, -999.000,9, -999.000,9,   2188.8,2,   2333.6,2,  1.9381
     316N142_3,  AR15,   134,  1,      8,      8,2,19940515,1109,-17.8022, -30.5590, 4773,   3975.6,   2.0232,  34.8516,2,  34.8504,2,    246.0,2,    246.1,2,    56.57,2,    23.20,2,     0.00,2,     1.62,2, -999.000,9,    0.004,2,    0.080,2,   -999.0,9,   -999.0,9,  1.6913
     316N142_3,  AR15,   134,  1,      7,      7,9,19940515,1109,-17.8022, -30.5590, 4773,   4109.1,   1.7352,  34.8205,2,-999.0000,9,    241.6,2,   -999.0,9,  -999.00,9,  -999.00,9,  -999.00,9,  -999.00,9, -999.000,9, -999.000,9, -999.000,9,   -999.0,9,   -999.0,9,  1.3967
     316N142_3,  AR15,   134,  1,      6,      6,2,19940515,1109,-17.8022, -30.5590, 4773,   4241.7,   1.4702,  34.7925,2,  34.7935,2,    236.2,2,    236.0,2,    79.27,2,    26.39,2,     0.00,2,     1.85,2, -999.000,9, -999.000,9, -999.000,9,   -999.0,9,   -999.0,9,  1.1248
     316N142_3,  AR15,   134,  1,      5,      5,2,19940515,1109,-17.8022, -30.5590, 4773,   4374.2,   1.2047,  34.7631,2,  34.7623,2,    231.7,2,    230.7,2,    90.97,2,    27.93,2,     0.00,2,     1.96,2, -999.000,9,    0.015,2,    0.133,2,   2234.9,2,   2355.3,2,  0.8525
     316N142_3,  AR15,   134,  1,      4,      4,2,19940515,1109,-17.8022, -30.5590, 4773,   4507.6,   0.9710,  34.7383,2,  34.7382,2,    228.2,2,    227.2,2,   100.02,2,    29.15,2,     0.00,2,     2.05,2, -999.000,9,    0.012,2,    0.036,2,   -999.0,9,   -999.0,9,  0.6113
     316N142_3,  AR15,   134,  1,      3,      3,2,19940515,1109,-17.8022, -30.5590, 4773,   4641.2,   0.6388,  34.7051,2,  34.7068,2,    223.9,2,    223.1,2,   111.93,2,    30.69,2,     0.00,2,     2.16,2, -999.000,9,    0.025,2,    0.091,2,   2254.4,2,   -999.0,9,  0.2749
     316N142_3,  AR15,   134,  1,      2,      2,2,19940515,1109,-17.8022, -30.5590, 4773,   4775.2,   0.3516,  34.6775,2,  34.6770,2,    220.8,2,    221.0,2,   122.65,2,    31.97,2,     0.00,2,     2.26,2, -999.000,9,    0.051,6,    0.293,2,   -999.0,9,   -999.0,9, -0.0178
     316N142_3,  AR15,   134,  1,      1,      1,2,19940515,1109,-17.8022, -30.5590, 4773,   4873.5,   0.3636,  34.6773,2,  34.6776,2,    220.3,2,    220.9,2,   122.61,2,    31.96,2,     0.00,2,     2.26,2, -999.000,9,    0.054,2,    0.356,2,   2265.4,2,   2363.7,2, -0.0173