BOTTLE,20020814WHPSIOKJU
EXPOCODE,SECT_ID,STNNBR,CASTNO,SAMPNO,BTLNBR,BTLNBR_FLAG_W,DATE,TIME,LATITUDE,LONGITUDE,DEPTH,CTDPRS,CTDTMP,CTDSAL,CTDSAL_FLAG_W,SALNTY,SALNTY_FLAG_W,CTDOXY,CTDOXY_FLAG_W,OXYGEN,OXYGEN_FLAG_W,SILCAT,SILCAT_FLAG_W,NITRAT,NITRAT_FLAG_W,NITRIT,NITRIT_FLAG_W,PHSPHT,PHSPHT_FLAG_W,CFC-11,CFC-11_FLAG_W,CFC-12,CFC-12_FLAG_W,CCL4,CCL4_FLAG_W,TCARBN,TCARBN_FLAG_W,ALKALI,ALKALI_FLAG_W,THETA
,,,,,,,,,,,,DBAR,ITS-90,PSS-78,,PSS-78,,UMOL/KG,,UMOL/KG,,UMOL/KG,,UMOL/KG,,UMOL/KG,,UMOL/KG,,PMOL/KG,,PMOL/KG,,PMOL/KG,,UMOL/KG,,UMOL/KG,,DEG C
     316N142_3,  AR15,    21,  1,     39,     39,2,19940409,0533,  0.8662, -35.9487, 4447,      2.6,  27.4927,  36.1943,2,  36.1937,2,    221.2,2,    222.4,2,     2.23,2,     0.09,2,     0.00,2,     0.18,2, -999.000,9, -999.000,9, -999.000,9,   2014.6,2,   2371.5,2, 27.4921
     316N142_3,  AR15,    21,  1,     35,     35,2,19940409,0533,  0.8662, -35.9487, 4447,     84.3,  22.7912,  36.4508,2,  36.4476,2,    206.3,2,    189.4,2,     2.82,2,     2.29,2,     0.17,2,     0.41,2, -999.000,9, -999.000,9, -999.000,9,   2084.8,2,   2390.2,2, 22.7740
     316N142_3,  AR15,    21,  1,     38,     38,2,19940409,0533,  0.8662, -35.9487, 4447,    135.6,  13.5578,  35.3548,2,  35.3543,2,    163.2,2,    160.3,2,     7.95,2,    15.34,2,     0.03,2,     1.15,2, -999.000,9, -999.000,9, -999.000,9,   2142.9,2,   2327.9,2, 13.5386
     316N142_3,  AR15,    21,  1,     33,     33,2,19940409,0533,  0.8662, -35.9487, 4447,    206.0,  12.4332,  35.1961,2,  35.1938,2,    156.4,2,    154.4,2,     9.29,2,    17.87,2,     0.01,2,     1.31,2, -999.000,9, -999.000,9, -999.000,9,   2152.0,2,   2318.4,2, 12.4056
     316N142_3,  AR15,    21,  1,     32,     32,2,19940409,0533,  0.8662, -35.9487, 4447,    276.1,  10.8557,  35.0243,2,  35.0241,2,    133.6,2,    124.1,2,    12.46,2,    24.15,2,     0.01,2,     1.66,2, -999.000,9, -999.000,9, -999.000,9,   -999.0,9,   -999.0,9, 10.8219
     316N142_3,  AR15,    21,  1,     31,     31,2,19940409,0533,  0.8662, -35.9487, 4447,    357.0,   9.2815,  34.8500,2,  34.8505,2,    133.9,2,    124.8,2,    15.51,2,    27.11,2,     0.00,2,     1.86,2, -999.000,9, -999.000,9, -999.000,9,   -999.0,9,   -999.0,9,  9.2417
     316N142_3,  AR15,    21,  1,     37,     37,2,19940409,0533,  0.8662, -35.9487, 4447,    427.2,   7.6961,  34.6875,2,  34.6903,2,    124.3,2,    122.0,2,    19.54,2,    30.77,2,     0.00,2,     2.11,2, -999.000,9, -999.000,9, -999.000,9,   -999.0,9,   -999.0,9,  7.6534
     316N142_3,  AR15,    21,  1,     29,     29,2,19940409,0533,  0.8662, -35.9487, 4447,    507.8,   6.8154,  34.6061,2,  34.6048,2,    126.2,2,    128.7,2,    22.46,2,    31.94,2,     0.00,2,     2.21,2, -999.000,9, -999.000,9, -999.000,9,   -999.0,9,   -999.0,9,  6.7678
     316N142_3,  AR15,    21,  1,     28,     28,2,19940409,0533,  0.8662, -35.9487, 4447,    643.1,   5.7498,  34.5274,2,  34.5256,2,    138.1,2,    141.5,2,    26.73,2,    32.73,2,     0.00,2,     2.31,2, -999.000,9, -999.000,9, -999.000,9,   -999.0,9,   -999.0,9,  5.6941
     316N142_3,  AR15,    21,  1,     27,     27,2,19940409,0533,  0.8662, -35.9487, 4447,    777.9,   5.1361,  34.5105,2,  34.5097,2,    147.1,2,    147.8,2,    30.02,2,    33.11,2,     0.00,2,     2.35,2, -999.000,9, -999.000,9, -999.000,9,   -999.0,9,   -999.0,9,  5.0718
     316N142_3,  AR15,    21,  1,     26,     26,2,19940409,0533,  0.8662, -35.9487, 4447,    977.8,   4.5385,  34.6489,2,  34.6493,2,    158.8,2,    159.7,2,    31.84,2,    31.34,2,     0.00,2,     2.25,2, -999.000,9, -999.000,9, -999.000,9,   -999.0,9,   -999.0,9,  4.4604
     316N142_3,  AR15,    21,  1,     25,     25,2,19940409,0533,  0.8662, -35.9487, 4447,   1078.6,   4.5348,  34.6974,2,  34.6984,2,    164.7,2,    163.4,2,    30.84,2,    30.46,2,     0.00,2,     2.18,2,    0.000,4,    0.008,2,    0.055,2,   -999.0,9,   -999.0,9,  4.4478
     316N142_3,  AR15,    21,  1,     24,     24,2,19940409,0533,  0.8662, -35.9487, 4447,   1231.1,   4.5589,  34.8174,2,  34.8191,2,    181.9,2,    181.6,2,    26.67,2,    27.23,2,     0.00,2,     1.97,2,    0.000,4,    0.017,2,    0.051,2,   -999.0,9,   -999.0,9,  4.4578
     316N142_3,  AR15,    21,  1,     23,     23,2,19940409,0533,  0.8662, -35.9487, 4447,   1332.0,   4.6120,  34.9304,2,  34.9308,2,    203.7,2,    205.8,2,    21.76,2,    23.52,2,     0.00,2,     1.71,2,    0.013,4,    0.040,2,    0.387,2,   -999.0,9,   -999.0,9,  4.5008
     316N142_3,  AR15,    21,  1,     22,     22,2,19940409,0533,  0.8662, -35.9487, 4447,   1465.1,   4.3612,  34.9642,2,  34.9671,2,    224.3,2,    225.5,2,    19.54,2,    21.40,2,     0.00,2,     1.56,2, -999.000,9,    0.044,2,    0.415,2,   -999.0,9,   -999.0,9,  4.2402
     316N142_3,  AR15,    21,  1,     21,     21,2,19940409,0533,  0.8662, -35.9487, 4447,   1565.9,   4.2272,  34.9771,2,  34.9785,2,    234.5,2,    234.9,2,    18.55,2,    20.37,2,     0.00,2,     1.47,2, -999.000,9,    0.057,2,    0.563,2,   -999.0,9,   -999.0,9,  4.0983
     316N142_3,  AR15,    21,  1,     20,     20,2,19940409,0533,  0.8662, -35.9487, 4447,   1717.9,   4.0154,  34.9832,2,  34.9871,2,    246.9,2,    244.8,2,    18.04,2,    19.42,2,     0.00,2,     1.27,2,    0.128,2,    0.058,6,    0.482,6,   -999.0,9,   -999.0,9,  3.8748
     316N142_3,  AR15,    21,  1,     19,     19,2,19940409,0533,  0.8662, -35.9487, 4447,   1891.0,   3.7516,  34.9857,2,  34.9857,2,    257.1,2,    255.7,2,    17.78,2,    18.43,2,     0.00,2,     1.24,2,    0.064,2,    0.076,2,    0.701,2,   -999.0,9,   -999.0,9,  3.5981
     316N142_3,  AR15,    21,  1,     18,     18,2,19940409,0533,  0.8662, -35.9487, 4447,   2093.0,   3.4863,  34.9714,2,  34.9767,4,    256.7,2,    255.4,2,    20.46,2,    18.76,2,     0.00,2,     1.37,2,    0.022,2,    0.048,2,    0.388,2,   -999.0,9,   -999.0,9,  3.3175
     316N142_3,  AR15,    21,  1,     17,     17,2,19940409,0533,  0.8662, -35.9487, 4447,   2326.3,   3.1911,  34.9544,2,  34.9554,2,    254.5,2,    254.6,2,    24.72,2,    19.19,2,     0.00,2,     1.40,2,    0.020,2,    0.029,2,    0.279,2,   -999.0,9,   -999.0,9,  3.0047
     316N142_3,  AR15,    21,  1,     16,     16,2,19940409,0533,  0.8662, -35.9487, 4447,   2468.4,   3.0379,  34.9479,2,  34.9502,2,    255.5,2,    255.8,2,    26.30,2,    19.19,2,     0.00,2,     1.40,2, -999.000,9, -999.000,9, -999.000,9,   -999.0,9,   -999.0,9,  2.8403
     316N142_3,  AR15,    21,  1,     15,     15,2,19940409,0533,  0.8662, -35.9487, 4447,   2631.0,   2.9299,  34.9420,2,  34.9433,2,    255.8,2,    256.5,2,    27.38,2,    19.15,2,     0.00,2,     1.40,2, -999.000,9,    0.019,2,    0.233,2,   -999.0,9,   -999.0,9,  2.7183
     316N142_3,  AR15,    21,  1,     14,     14,2,19940409,0533,  0.8662, -35.9487, 4447,   2834.1,   2.7725,  34.9277,2,  34.9262,2,    254.0,2,    252.7,2,    32.38,2,    19.91,2,     0.00,2,     1.45,2, -999.000,9, -999.000,9, -999.000,9,   -999.0,9,   -999.0,9,  2.5437
     316N142_3,  AR15,    21,  1,     13,     13,2,19940409,0533,  0.8662, -35.9487, 4447,   2986.6,   2.6921,  34.9242,2,  34.9242,2,    254.1,2,    254.6,2,    32.61,2,    19.72,2,     0.00,2,     1.45,2, -999.000,9,    0.015,2,    0.167,2,   -999.0,9,   -999.0,9,  2.4494
     316N142_3,  AR15,    21,  1,     12,     12,2,19940409,0533,  0.8662, -35.9487, 4447,   3191.0,   2.6139,  34.9199,2,  34.9183,2,    255.1,2,    256.0,2,    33.08,2,    19.68,2,     0.00,2,     1.44,2, -999.000,9, -999.000,9, -999.000,9,   -999.0,9,   -999.0,9,  2.3518
     316N142_3,  AR15,    21,  1,     11,     11,2,19940409,0533,  0.8662, -35.9487, 4447,   3343.9,   2.5434,  34.9145,2,  34.9137,2,    254.9,2,    256.9,2,    34.04,2,    19.77,2,     0.00,2,     1.44,2,    0.051,2,    0.025,2,    0.222,2,   -999.0,9,   -999.0,9,  2.2667
     316N142_3,  AR15,    21,  1,     10,     10,2,19940409,0533,  0.8662, -35.9487, 4447,   3546.9,   2.4368,  34.9100,2,  34.9094,2,    259.8,2,    261.1,2,    32.93,2,    19.16,2,     0.00,2,     1.41,2,    0.056,2,    0.038,2,    0.408,2,   -999.0,9,   -999.0,9,  2.1409
     316N142_3,  AR15,    21,  1,      9,      9,2,19940409,0533,  0.8662, -35.9487, 4447,   3648.4,   2.3871,  34.9065,2,  34.9050,2,    261.6,2,    261.6,2,    33.52,2,    19.11,2,     0.00,2,     1.40,2,    0.083,2,    0.045,2,    0.426,2,   -999.0,9,   -999.0,9,  2.0814
     316N142_3,  AR15,    21,  1,      8,      8,2,19940409,0533,  0.8662, -35.9487, 4447,   3750.8,   2.3230,  34.9024,2,  34.8989,2,    260.9,2,    262.7,2,    33.63,2,    19.02,2,     0.00,2,     1.39,2,    0.067,2,    0.073,2,    0.532,2,   -999.0,9,   -999.0,9,  2.0076
     316N142_3,  AR15,    21,  1,      7,      7,2,19940409,0533,  0.8662, -35.9487, 4447,   3934.6,   2.2845,  34.8957,2,  34.8945,2,    260.5,2,    260.6,2,    37.28,2,    19.59,2,     0.00,2,     1.44,2,    0.060,2,    0.059,2,    0.450,2,   -999.0,9,   -999.0,9,  1.9497
     316N142_3,  AR15,    21,  1,      6,      6,2,19940409,0533,  0.8662, -35.9487, 4447,   4026.5,   2.1987,  34.8846,2,  34.8837,2,    259.0,2,    257.8,2,    41.90,2,    20.26,2,     0.00,2,     1.48,2, -999.000,9,    0.042,2,    0.404,2,   -999.0,9,   -999.0,9,  1.8560
     316N142_3,  AR15,    21,  1,      5,      5,2,19940409,0533,  0.8662, -35.9487, 4447,   4117.5,   1.9785,  34.8595,2,  34.8587,2,    255.3,2,    252.4,2,    52.26,2,    21.77,2,     0.00,2,     1.59,2, -999.000,9,    0.037,2,    0.236,2,   -999.0,9,   -999.0,9,  1.6319
     316N142_3,  AR15,    21,  1,      4,      4,2,19940409,0533,  0.8662, -35.9487, 4447,   4208.5,   1.6725,  34.8254,2,  34.8225,2,    249.2,2,    244.8,2,    67.14,2,    23.90,2,     0.00,2,     1.75,2,    0.028,2,    0.028,2,    0.231,2,   -999.0,9,   -999.0,9,  1.3246
     316N142_3,  AR15,    21,  1,      3,      3,2,19940409,0533,  0.8662, -35.9487, 4447,   4300.8,   1.2207,  34.7740,2,  34.7762,2,    237.1,2,    233.8,2,    87.76,2,    26.91,2,     0.00,2,     1.96,2,    0.000,4,    0.022,2,    0.098,2,   -999.0,9,   -999.0,9,  0.8763
     316N142_3,  AR15,    21,  1,      2,      2,3,19940409,0533,  0.8662, -35.9487, 4447,   4403.9,   1.0553,  34.7551,2,  34.8682,4,    230.6,2,   -999.0,9,    60.39,4,    24.89,4,     0.00,4,     1.82,4, -999.000,9, -999.000,9, -999.000,9,   -999.0,9,   -999.0,9,  0.7045
     316N142_3,  AR15,    21,  1,      1,      1,2,19940409,0533,  0.8662, -35.9487, 4447,   4526.7,   0.9918,  34.7470,2,  34.7481,2,    227.0,2,    227.2,2,    98.58,2,    28.51,2,     0.00,2,     2.08,2,    0.044,6,    0.023,6,    0.099,6,   -999.0,9,   -999.0,9,  0.6292