BOTTLE,20020814WHPSIOKJU
EXPOCODE,SECT_ID,STNNBR,CASTNO,SAMPNO,BTLNBR,BTLNBR_FLAG_W,DATE,TIME,LATITUDE,LONGITUDE,DEPTH,CTDPRS,CTDTMP,CTDSAL,CTDSAL_FLAG_W,SALNTY,SALNTY_FLAG_W,CTDOXY,CTDOXY_FLAG_W,OXYGEN,OXYGEN_FLAG_W,SILCAT,SILCAT_FLAG_W,NITRAT,NITRAT_FLAG_W,NITRIT,NITRIT_FLAG_W,PHSPHT,PHSPHT_FLAG_W,CFC-11,CFC-11_FLAG_W,CFC-12,CFC-12_FLAG_W,CCL4,CCL4_FLAG_W,TCARBN,TCARBN_FLAG_W,ALKALI,ALKALI_FLAG_W,THETA
,,,,,,,,,,,,DBAR,ITS-90,PSS-78,,PSS-78,,UMOL/KG,,UMOL/KG,,UMOL/KG,,UMOL/KG,,UMOL/KG,,UMOL/KG,,PMOL/KG,,PMOL/KG,,PMOL/KG,,UMOL/KG,,UMOL/KG,,DEG C
     316N142_3,   A15,   109,  1,     39,     39,2,19940505,1947,-32.0003, -19.0003, 3879,      6.8,  19.9206,  35.6438,2,  35.6441,2,    227.2,2,    228.3,2,     1.54,2,     0.13,2,     0.00,2,     0.22,2, -999.000,9, -999.000,9, -999.000,9,   2040.9,2,   2344.4,2, 19.9194
     316N142_3,   A15,   109,  1,     35,     35,2,19940505,1947,-32.0003, -19.0003, 3879,     56.2,  19.6811,  35.6319,2,  35.6317,2,    227.4,2,    231.3,2,     1.38,2,     0.13,2,     0.00,2,     0.18,2, -999.000,9, -999.000,9, -999.000,9,   2041.1,2,   2342.5,2, 19.6709
     316N142_3,   A15,   109,  1,     38,     38,2,19940505,1947,-32.0003, -19.0003, 3879,     80.8,  17.0547,  35.4995,2,  35.5102,2,    254.2,2,    252.3,2,     1.37,2,     0.13,2,     0.00,2,     0.19,2,    2.512,2,    1.483,2,    2.940,2,   2050.5,2,   2337.0,2, 17.0413
     316N142_3,   A15,   109,  1,     33,     33,2,19940505,1947,-32.0003, -19.0003, 3879,    171.9,  14.2380,  35.3102,2,  35.3079,2,    220.8,2,    219.1,2,     2.54,2,     5.16,2,     0.01,2,     0.46,2,    2.449,2,    1.450,2,    1.306,2,   2087.3,2,   2323.9,2, 14.2129
     316N142_3,   A15,   109,  1,     41,     41,2,19940505,1947,-32.0003, -19.0003, 3879,    256.8,  13.2341,  35.2368,2,  35.2364,2,    217.9,2,    217.0,2,     3.26,2,     7.92,2,     0.00,2,     0.66,2, -999.000,9, -999.000,9, -999.000,9,   2098.8,2,   2319.5,2, 13.1982
     316N142_3,   A15,   109,  1,     31,     31,2,19940505,1947,-32.0003, -19.0003, 3879,    337.4,  12.0938,  35.0836,2,  35.0841,2,    215.5,2,    215.5,2,     4.13,2,    10.77,2,     0.00,2,     0.84,2,    2.295,2,    1.356,2,    1.055,2,   2109.4,2,   2312.9,2, 12.0492
     316N142_3,   A15,   109,  1,     37,     37,2,19940505,1947,-32.0003, -19.0003, 3879,    417.4,  10.8123,  34.9064,2,  34.9055,2,    210.8,2,    210.6,2,     5.73,2,    14.42,2,     0.00,2,     1.07,2,    2.521,2,    1.230,2,    1.351,2,   2120.3,2,   2304.9,2, 10.7610
     316N142_3,   A15,   109,  1,     29,     29,2,19940505,1947,-32.0003, -19.0003, 3879,    506.0,   9.0287,  34.6841,2,  34.6853,2,    212.0,2,    210.6,2,     8.36,2,    19.10,2,     0.00,2,     1.35,2, -999.000,9, -999.000,9, -999.000,9,   2134.7,2,   2294.2,2,  8.9729
     316N142_3,   A15,   109,  1,     28,     28,2,19940505,1947,-32.0003, -19.0003, 3879,    618.6,   6.8471,  34.4488,2,  34.4468,2,    219.7,2,    220.3,2,    12.16,2,    23.93,2,     0.00,2,     1.67,2,    2.107,6,    1.110,6,    2.638,6,   2143.8,2,   2284.7,2,  6.7887
     316N142_3,   A15,   109,  1,     27,     27,2,19940505,1947,-32.0003, -19.0003, 3879,    729.6,   5.2687,  34.3238,2,  34.3248,2,    224.4,2,    228.4,2,    17.58,2,    27.13,2,     0.00,2,     1.89,2,    1.800,2,    0.927,2,    3.233,2,   2147.1,2,   2283.9,2,  5.2081
     316N142_3,   A15,   109,  1,     26,     26,2,19940505,1947,-32.0003, -19.0003, 3879,    843.7,   4.1556,  34.2615,2,  34.2601,2,    236.9,2,    236.7,2,    23.59,2,    28.97,2,     0.00,2,     2.03,2,    1.656,2,    0.863,2,    3.497,2,   2166.5,2,   2283.9,2,  4.0921
     316N142_3,   A15,   109,  1,     25,     25,2,19940505,1947,-32.0003, -19.0003, 3879,    945.4,   3.6403,  34.2771,2,  34.2764,2,    229.6,2,    228.9,2,    30.35,2,    30.40,2,     0.00,2,     2.13,2,    1.272,2,    0.647,2,    2.911,2,   2180.6,2,   2290.5,2,  3.5721
     316N142_3,   A15,   109,  1,     24,     24,2,19940505,1947,-32.0003, -19.0003, 3879,   1053.1,   3.2672,  34.3175,2,  34.3164,2,    216.2,2,    216.8,2,    38.31,2,    31.68,2,     0.00,2,     2.24,2,    0.912,2,    0.438,2,    2.001,2,   2194.8,2,   2297.6,2,  3.1934
     316N142_3,   A15,   109,  1,     23,     23,2,19940505,1947,-32.0003, -19.0003, 3879,   1157.4,   3.0642,  34.3597,2,  34.3586,2,    205.2,2,    207.5,2,    44.66,2,    32.40,2,     0.00,2,     2.28,2,    0.642,2,    0.325,2,    1.682,2,   2206.2,2,   2302.7,2,  2.9839
     316N142_3,   A15,   109,  1,     22,     22,2,19940505,1947,-32.0003, -19.0003, 3879,   1263.2,   2.9231,  34.4332,2,  34.4342,2,    196.3,2,    196.5,2,    51.93,2,    32.78,2,     0.00,2,     2.31,2,    0.310,2,    0.178,2,    1.002,2,   -999.0,9,   -999.0,9,  2.8356
     316N142_3,   A15,   109,  1,     21,     21,2,19940505,1947,-32.0003, -19.0003, 3879,   1365.2,   2.8850,  34.5194,2,  34.5208,2,    189.7,2,    189.4,2,    56.53,2,    32.50,2,     0.00,2,     2.29,2,    0.110,2,    0.077,2,    0.576,2,   2224.3,2,   2317.4,2,  2.7896
     316N142_3,   A15,   109,  1,     20,     20,2,19940505,1947,-32.0003, -19.0003, 3879,   1466.1,   2.8259,  34.5815,2,  34.5795,2,    188.6,2,    188.0,2,    58.76,2,    31.99,2,     0.00,2,     2.26,2, -999.000,9,    0.049,2,    0.654,2,   -999.0,9,   -999.0,9,  2.7228
     316N142_3,   A15,   109,  1,     19,     19,2,19940505,1947,-32.0003, -19.0003, 3879,   1597.8,   2.8016,  34.6497,2,  34.6528,2,    190.9,2,    191.5,2,    59.20,2,    30.81,2,     0.00,2,     2.18,2, -999.000,9, -999.000,9, -999.000,9,   2226.3,2,   2324.7,2,  2.6878
     316N142_3,   A15,   109,  1,     40,     40,2,19940505,1947,-32.0003, -19.0003, 3879,   1729.0,   2.8016,  34.7058,2,  34.7045,2,    197.4,2,    196.8,2,    57.99,2,    29.53,2,     0.00,2,     2.09,2, -999.000,9,    0.016,2,    0.177,2,   -999.0,9,   -999.0,9,  2.6765
     316N142_3,   A15,   109,  1,     17,     17,2,19940505,1947,-32.0003, -19.0003, 3879,   1860.8,   2.8061,  34.7544,2,  34.7539,2,    205.5,2,    211.0,4,    55.15,2,    28.08,2,     0.00,2,     1.98,2, -999.000,9, -999.000,9, -999.000,9,   2214.9,2,   2328.2,2,  2.6694
     316N142_3,   A15,   109,  1,     16,     16,2,19940505,1947,-32.0003, -19.0003, 3879,   1992.8,   2.7955,  34.7948,2,  34.7950,2,    213.5,2,    204.8,4,    51.86,2,    26.57,2,     0.00,2,     1.88,2, -999.000,9,    0.020,2,    0.088,2,   -999.0,9,   -999.0,9,  2.6472
     316N142_3,   A15,   109,  1,     15,     15,2,19940505,1947,-32.0003, -19.0003, 3879,   2124.7,   2.7765,  34.8241,2,  34.8261,2,    221.4,2,    221.9,2,    48.73,2,    25.35,2,     0.00,2,     1.79,2, -999.000,9, -999.000,9, -999.000,9,   2200.3,2,   2327.0,2,  2.6164
     316N142_3,   A15,   109,  1,     14,     14,2,19940505,1947,-32.0003, -19.0003, 3879,   2257.1,   2.7360,  34.8403,2,  34.8459,2,    227.4,2,    227.5,2,    47.24,2,    24.56,2,     0.00,2,     1.75,2, -999.000,9,    0.006,2,    0.085,2,   -999.0,9,   -999.0,9,  2.5643
     316N142_3,   A15,   109,  1,     13,     13,2,19940505,1947,-32.0003, -19.0003, 3879,   2389.7,   2.7107,  34.8533,2,  34.8536,2,    232.3,2,    231.7,2,    45.75,2,    23.95,2,     0.00,2,     1.70,2, -999.000,9, -999.000,9, -999.000,9,   2193.2,2,   2328.1,2,  2.5269
     316N142_3,   A15,   109,  1,     12,     12,2,19940505,1947,-32.0003, -19.0003, 3879,   2519.7,   2.6874,  34.8627,2,  34.8625,2,    236.7,2,    235.2,2,    44.70,2,    23.48,2,     0.00,2,     1.66,2, -999.000,9,    0.006,2,    0.046,2,   -999.0,9,   -999.0,9,  2.4916
     316N142_3,   A15,   109,  1,     11,     11,3,19940505,1947,-32.0003, -19.0003, 3879,   2653.0,   2.6755,  34.8738,2,  34.9333,4,    239.1,2,    236.2,4,    39.07,4,    20.95,4,     0.00,4,     1.51,4, -999.000,9, -999.000,9, -999.000,9,   2178.7,2,   2332.3,2,  2.4669
     316N142_3,   A15,   109,  1,     10,     10,2,19940505,1947,-32.0003, -19.0003, 3879,   2784.9,   2.6656,  34.8833,2,  34.8828,2,    242.1,2,    241.9,2,    42.16,2,    22.50,2,     0.00,2,     1.59,2, -999.000,9,    0.002,2,    0.000,2,   -999.0,9,   -999.0,9,  2.4441
     316N142_3,   A15,   109,  1,      9,      9,2,19940505,1947,-32.0003, -19.0003, 3879,   2916.5,   2.6323,  34.8921,2,  34.8914,2,    245.3,2,    245.5,2,    41.27,2,    22.04,2,     0.00,2,     1.57,2, -999.000,9, -999.000,9, -999.000,9,   2182.5,2,   2331.0,2,  2.3983
     316N142_3,   A15,   109,  1,      8,      8,2,19940505,1947,-32.0003, -19.0003, 3879,   3051.2,   2.5668,  34.8907,2,  34.8915,2,    246.2,2,    246.4,2,    42.29,2,    22.05,2,     0.00,2,     1.57,2, -999.000,9,    0.004,6,    0.030,2,   -999.0,9,   -999.0,9,  2.3203
     316N142_3,   A15,   109,  1,      7,      7,2,19940505,1947,-32.0003, -19.0003, 3879,   3183.0,   2.4496,  34.8836,2,  34.8873,2,    246.2,2,    246.5,2,    45.69,2,    22.33,2,     0.00,2,     1.59,2, -999.000,9, -999.000,9, -999.000,9,   2186.3,2,   2334.4,2,  2.1922
     316N142_3,   A15,   109,  1,      6,      6,2,19940505,1947,-32.0003, -19.0003, 3879,   3313.7,   2.3070,  34.8712,2,  34.8720,2,    245.2,2,    244.8,2,    50.58,2,    22.90,2,     0.00,2,     1.62,2, -999.000,9,    0.010,2,    0.006,2,   -999.0,9,   -999.0,9,  2.0394
     316N142_3,   A15,   109,  1,      5,      5,2,19940505,1947,-32.0003, -19.0003, 3879,   3448.1,   2.1040,  34.8530,2,  34.8555,2,    243.2,2,    242.7,2,    57.88,2,    23.90,2,     0.00,2,     1.69,2, -999.000,9, -999.000,9, -999.000,9,   2199.1,2,   2341.1,2,  1.8273
     316N142_3,   A15,   109,  1,      4,      4,2,19940505,1947,-32.0003, -19.0003, 3879,   3600.9,   1.9367,  34.8357,2,  34.8374,2,    239.5,2,    239.9,2,    64.76,2,    24.75,2,     0.00,2,     1.76,2, -999.000,9,    0.003,2,    0.050,2,   -999.0,9,   -999.0,9,  1.6481
     316N142_3,   A15,   109,  1,      3,      3,2,19940505,1947,-32.0003, -19.0003, 3879,   3712.9,   1.8730,  34.8281,2,  34.8339,2,    238.4,2,    238.5,2,    67.45,2,    25.14,2,     0.00,2,     1.78,2, -999.000,9, -999.000,9, -999.000,9,   2208.7,2,   2347.5,2,  1.5741
     316N142_3,   A15,   109,  1,      2,      2,2,19940505,1947,-32.0003, -19.0003, 3879,   3855.9,   1.8427,  34.8241,2,  34.8267,3,    237.3,2,    237.8,2,    69.25,2,    25.33,2,     0.00,2,     1.81,2, -999.000,9,    0.007,2,    0.000,2,   -999.0,9,   -999.0,9,  1.5291
     316N142_3,   A15,   109,  1,      1,      1,2,19940505,1947,-32.0003, -19.0003, 3879,   3950.5,   1.8417,  34.8227,2,  34.8223,2,    237.4,2,    237.5,2,    69.84,2,    25.48,2,     0.00,2,     1.82,2, -999.000,9, -999.000,9, -999.000,9,   2211.8,2,   2348.3,2,  1.5178