BOTTLE,20020814WHPSIOKJU
EXPOCODE,SECT_ID,STNNBR,CASTNO,SAMPNO,BTLNBR,BTLNBR_FLAG_W,DATE,TIME,LATITUDE,LONGITUDE,DEPTH,CTDPRS,CTDTMP,CTDSAL,CTDSAL_FLAG_W,SALNTY,SALNTY_FLAG_W,CTDOXY,CTDOXY_FLAG_W,OXYGEN,OXYGEN_FLAG_W,SILCAT,SILCAT_FLAG_W,NITRAT,NITRAT_FLAG_W,NITRIT,NITRIT_FLAG_W,PHSPHT,PHSPHT_FLAG_W,CFC-11,CFC-11_FLAG_W,CFC-12,CFC-12_FLAG_W,CCL4,CCL4_FLAG_W,TCARBN,TCARBN_FLAG_W,ALKALI,ALKALI_FLAG_W,THETA
,,,,,,,,,,,,DBAR,ITS-90,PSS-78,,PSS-78,,UMOL/KG,,UMOL/KG,,UMOL/KG,,UMOL/KG,,UMOL/KG,,UMOL/KG,,PMOL/KG,,PMOL/KG,,PMOL/KG,,UMOL/KG,,UMOL/KG,,DEG C
     316N142_3,  AR15,    20,  1,     39,     39,2,19940409,0000,  0.6677, -35.9472, 4514,      1.0,  27.6665,  36.2009,2,  36.2000,2,    196.4,2,    199.9,2,     2.04,2,     0.10,2,     0.00,2,     0.17,2, -999.000,9, -999.000,9, -999.000,9,   -999.0,9,   -999.0,9, 27.6663
     316N142_3,  AR15,    20,  1,     35,     35,2,19940409,0000,  0.6677, -35.9472, 4514,     75.7,  24.6783,  36.5156,2,  36.5095,2,    180.3,2,    196.4,2,     2.16,2,     0.30,2,     0.09,2,     0.24,2, -999.000,9, -999.000,9, -999.000,9,   -999.0,9,   -999.0,9, 24.6619
     316N142_3,  AR15,    20,  1,     38,     38,2,19940409,0000,  0.6677, -35.9472, 4514,    126.9,  13.7413,  35.3763,2,  35.3746,2,    167.5,2,    161.4,2,     7.66,2,    14.91,2,     0.02,2,     1.13,2, -999.000,9, -999.000,9, -999.000,9,   -999.0,9,   -999.0,9, 13.7232
     316N142_3,  AR15,    20,  1,     33,     33,2,19940409,0000,  0.6677, -35.9472, 4514,    186.9,  12.5553,  35.2124,2,  35.2105,2,    153.8,2,    152.4,2,     9.01,2,    17.79,2,     0.01,2,     1.32,2, -999.000,9, -999.000,9, -999.000,9,   -999.0,9,   -999.0,9, 12.5301
     316N142_3,  AR15,    20,  1,     32,     32,2,19940409,0000,  0.6677, -35.9472, 4514,    247.4,  11.8814,  35.1410,2,  35.1445,2,    128.4,2,    127.9,2,    10.35,2,    21.66,2,     0.00,2,     1.53,2, -999.000,9, -999.000,9, -999.000,9,   -999.0,9,   -999.0,9, 11.8492
     316N142_3,  AR15,    20,  1,     31,     31,2,19940409,0000,  0.6677, -35.9472, 4514,    318.0,   9.8120,  34.8971,2,  34.8988,2,    130.0,2,    132.2,2,    13.78,2,    25.17,2,     0.00,2,     1.75,2, -999.000,9, -999.000,9, -999.000,9,   -999.0,9,   -999.0,9,  9.7753
     316N142_3,  AR15,    20,  1,     37,     37,2,19940409,0000,  0.6677, -35.9472, 4514,    383.7,   7.9142,  34.7064,2,  34.7085,2,    121.7,2,    119.7,2,    18.68,2,    30.42,2,     0.00,2,     2.09,2, -999.000,9, -999.000,9, -999.000,9,   -999.0,9,   -999.0,9,  7.8753
     316N142_3,  AR15,    20,  1,     29,     29,2,19940409,0000,  0.6677, -35.9472, 4514,    458.0,   7.2560,  34.6457,2,  34.6432,2,    122.8,2,    122.3,2,    20.64,2,    31.55,2,     0.00,2,     2.17,2, -999.000,9, -999.000,9, -999.000,9,   -999.0,9,   -999.0,9,  7.2116
     316N142_3,  AR15,    20,  1,     28,     28,2,19940409,0000,  0.6677, -35.9472, 4514,    558.8,   6.4213,  34.5713,2,  34.5711,2,    131.7,2,    132.6,2,    23.33,2,    32.21,2,     0.00,2,     2.26,2, -999.000,9, -999.000,9, -999.000,9,   -999.0,9,   -999.0,9,  6.3704
     316N142_3,  AR15,    20,  1,     27,     27,2,19940409,0000,  0.6677, -35.9472, 4514,    669.9,   5.5647,  34.5139,2,  34.5348,4,    145.0,2,    144.4,2,    26.88,2,    32.68,2,     0.00,2,     2.32,2, -999.000,9, -999.000,9, -999.000,9,   -999.0,9,   -999.0,9,  5.5076
     316N142_3,  AR15,    20,  1,     26,     26,9,19940409,0000,  0.6677, -35.9472, 4514,    775.2,   4.9760,  34.5084,2,-999.0000,9,    148.8,2,   -999.0,9,  -999.00,9,  -999.00,9,  -999.00,9,  -999.00,9, -999.000,9, -999.000,9, -999.000,9,   -999.0,9,   -999.0,9,  4.9128
     316N142_3,  AR15,    20,  1,     25,     25,2,19940409,0000,  0.6677, -35.9472, 4514,    911.3,   4.5275,  34.6503,2,  34.6511,2,    162.6,2,    160.0,2,    31.41,2,    31.36,2,     0.00,2,     2.24,2, -999.000,9, -999.000,9, -999.000,9,   -999.0,9,   -999.0,9,  4.4552
     316N142_3,  AR15,    20,  1,     24,     24,2,19940409,0000,  0.6677, -35.9472, 4514,   1012.4,   4.5106,  34.6856,2,  34.6880,2,    165.7,2,    163.0,2,    30.79,2,    30.61,2,     0.00,2,     2.19,2, -999.000,9, -999.000,9, -999.000,9,   -999.0,9,   -999.0,9,  4.4296
     316N142_3,  AR15,    20,  1,     23,     23,2,19940409,0000,  0.6677, -35.9472, 4514,   1113.1,   4.5510,  34.7574,2,  34.7666,2,    175.4,2,    171.1,2,    28.82,2,    29.05,2,     0.00,2,     2.08,2, -999.000,9, -999.000,9, -999.000,9,   -999.0,9,   -999.0,9,  4.4607
     316N142_3,  AR15,    20,  1,     22,     22,2,19940409,0000,  0.6677, -35.9472, 4514,   1264.1,   4.6421,  34.9029,2,  34.8951,2,    200.6,2,    195.9,2,    23.30,2,    24.99,2,     0.00,2,     1.79,2, -999.000,9, -999.000,9, -999.000,9,   -999.0,9,   -999.0,9,  4.5370
     316N142_3,  AR15,    20,  1,     21,     21,2,19940409,0000,  0.6677, -35.9472, 4514,   1416.0,   4.4000,  34.9600,2,  34.9604,2,    224.9,2,    222.8,2,    19.86,2,    21.76,2,     0.00,2,     1.56,2, -999.000,9, -999.000,9, -999.000,9,   -999.0,9,   -999.0,9,  4.2831
     316N142_3,  AR15,    20,  1,     20,     20,2,19940409,0000,  0.6677, -35.9472, 4514,   1568.2,   4.2299,  34.9789,2,  34.9846,4,    236.2,2,    235.8,2,    18.38,2,    20.29,2,     0.00,2,     1.47,2, -999.000,9, -999.000,9, -999.000,9,   -999.0,9,   -999.0,9,  4.1008
     316N142_3,  AR15,    20,  1,     19,     19,2,19940409,0000,  0.6677, -35.9472, 4514,   1719.6,   3.9974,  34.9842,2,  34.9840,2,    247.0,2,    245.6,2,    18.13,2,    19.43,2,     0.00,2,     1.37,2, -999.000,9, -999.000,9, -999.000,9,   -999.0,9,   -999.0,9,  3.8569
     316N142_3,  AR15,    20,  1,     18,     18,2,19940409,0000,  0.6677, -35.9472, 4514,   1870.5,   3.7638,  34.9842,2,  34.9861,2,    255.4,2,    256.4,2,    17.76,2,    18.34,2,     0.00,2,     1.31,2, -999.000,9, -999.000,9, -999.000,9,   -999.0,9,   -999.0,9,  3.6121
     316N142_3,  AR15,    20,  1,     17,     17,2,19940409,0000,  0.6677, -35.9472, 4514,   2023.3,   3.5477,  34.9762,2,  34.9763,2,    256.0,2,    258.3,2,    19.35,2,    18.53,2,     0.00,2,     1.32,2, -999.000,9, -999.000,9, -999.000,9,   -999.0,9,   -999.0,9,  3.3846
     316N142_3,  AR15,    20,  1,     16,     16,2,19940409,0000,  0.6677, -35.9472, 4514,   2225.6,   3.2224,  34.9524,2,  34.9513,2,    253.9,2,    253.8,2,    25.60,2,    19.53,2,     0.00,2,     1.39,2, -999.000,9, -999.000,9, -999.000,9,   -999.0,9,   -999.0,9,  3.0452
     316N142_3,  AR15,    20,  1,     15,     15,2,19940409,0000,  0.6677, -35.9472, 4514,   2428.5,   3.0689,  34.9488,2,  34.9473,2,    255.9,2,    255.7,2,    25.84,2,    19.15,2,     0.00,2,     1.36,2, -999.000,9, -999.000,9, -999.000,9,   -999.0,9,   -999.0,9,  2.8747
     316N142_3,  AR15,    20,  1,     14,     14,2,19940409,0000,  0.6677, -35.9472, 4514,   2631.0,   2.9246,  34.9427,2,  34.9430,2,    256.9,2,    258.0,2,    26.44,2,    18.96,2,     0.00,2,     1.36,2, -999.000,9, -999.000,9, -999.000,9,   -999.0,9,   -999.0,9,  2.7131
     316N142_3,  AR15,    20,  1,     13,     13,9,19940409,0000,  0.6677, -35.9472, 4514,   2835.7,   2.7776,  34.9272,2,-999.0000,9,    252.1,2,   -999.0,9,  -999.00,9,  -999.00,9,  -999.00,9,  -999.00,9, -999.000,9, -999.000,9, -999.000,9,   -999.0,9,   -999.0,9,  2.5486
     316N142_3,  AR15,    20,  1,     12,     12,2,19940409,0000,  0.6677, -35.9472, 4514,   3038.8,   2.6487,  34.9193,2,  34.9219,2,    253.3,2,    253.0,2,    33.92,2,    19.91,2,     0.00,2,     1.43,2, -999.000,9, -999.000,9, -999.000,9,   -999.0,9,   -999.0,9,  2.4016
     316N142_3,  AR15,    20,  1,     11,     11,2,19940409,0000,  0.6677, -35.9472, 4514,   3242.5,   2.5645,  34.9152,2,  34.9141,2,    255.7,2,    255.9,2,    33.67,2,    19.68,2,     0.00,2,     1.40,2, -999.000,9, -999.000,9, -999.000,9,   -999.0,9,   -999.0,9,  2.2981
     316N142_3,  AR15,    20,  1,     10,     10,2,19940409,0000,  0.6677, -35.9472, 4514,   3445.5,   2.4887,  34.9104,2,  34.9121,2,    258.2,2,    257.8,2,    34.03,2,    19.53,2,     0.00,2,     1.39,2, -999.000,9, -999.000,9, -999.000,9,   -999.0,9,   -999.0,9,  2.2024
     316N142_3,  AR15,    20,  1,      9,      9,2,19940409,0000,  0.6677, -35.9472, 4514,   3649.9,   2.3665,  34.9045,2,  34.9062,2,    262.1,2,    262.1,2,    33.17,2,    19.01,2,     0.00,2,     1.36,2, -999.000,9, -999.000,9, -999.000,9,   -999.0,9,   -999.0,9,  2.0612
     316N142_3,  AR15,    20,  1,      8,      8,2,19940409,0000,  0.6677, -35.9472, 4514,   3853.6,   2.3161,  34.9000,2,  34.8995,2,    262.8,2,    262.8,2,    33.90,2,    19.01,2,     0.00,2,     1.36,2, -999.000,9, -999.000,9, -999.000,9,   -999.0,9,   -999.0,9,  1.9895
     316N142_3,  AR15,    20,  1,      7,      7,2,19940409,0000,  0.6677, -35.9472, 4514,   3986.4,   2.2501,  34.8921,2,  34.8879,2,    259.0,2,    260.4,2,    38.18,2,    19.63,2,     0.00,2,     1.41,2, -999.000,9, -999.000,9, -999.000,9,   -999.0,9,   -999.0,9,  1.9104
     316N142_3,  AR15,    20,  1,      6,      6,2,19940409,0000,  0.6677, -35.9472, 4514,   4087.9,   2.1264,  34.8763,2,  34.8751,2,    252.5,3,    256.7,2,    45.29,2,    20.82,2,     0.00,2,     1.47,2, -999.000,9, -999.000,9, -999.000,9,   -999.0,9,   -999.0,9,  1.7787
     316N142_3,  AR15,    20,  1,      5,      5,2,19940409,0000,  0.6677, -35.9472, 4514,   4191.0,   1.6269,  34.8199,2,  34.8169,2,    241.4,3,    243.6,2,    70.05,2,    24.34,2,     0.00,2,     1.73,2, -999.000,9, -999.000,9, -999.000,9,   -999.0,9,   -999.0,9,  1.2824
     316N142_3,  AR15,    20,  1,      4,      4,2,19940409,0000,  0.6677, -35.9472, 4514,   4292.2,   1.3017,  34.7831,2,  34.7833,2,    233.7,3,    235.7,2,    85.37,2,    26.47,2,     0.00,2,     1.89,2, -999.000,9, -999.000,9, -999.000,9,   -999.0,9,   -999.0,9,  0.9557
     316N142_3,  AR15,    20,  1,      3,      3,2,19940409,0000,  0.6677, -35.9472, 4514,   4394.5,   1.0977,  34.7596,2,  34.7646,4,    231.1,3,    230.8,2,    94.93,2,    27.84,2,     0.00,2,     2.01,2, -999.000,9, -999.000,9, -999.000,9,   -999.0,9,   -999.0,9,  0.7466
     316N142_3,  AR15,    20,  1,      2,      2,2,19940409,0000,  0.6677, -35.9472, 4514,   4497.2,   1.0099,  34.7487,2,  34.7492,2,    231.4,4,    228.8,2,  -999.00,9,  -999.00,9,  -999.00,9,  -999.00,9,    0.058,2,    0.020,2,    0.059,2,   -999.0,9,   -999.0,9,  0.6500
     316N142_3,  AR15,    20,  1,      1,      1,2,19940409,0000,  0.6677, -35.9472, 4514,   4599.6,   0.9773,  34.7432,2,  34.7414,2,    230.8,4,    226.8,2,   101.06,2,    28.74,2,     0.00,2,     2.07,2,    0.019,4,    0.026,2,    0.071,2,   -999.0,9,   -999.0,9,  0.6069