BOTTLE,20020814WHPSIOKJU
EXPOCODE,SECT_ID,STNNBR,CASTNO,SAMPNO,BTLNBR,BTLNBR_FLAG_W,DATE,TIME,LATITUDE,LONGITUDE,DEPTH,CTDPRS,CTDTMP,CTDSAL,CTDSAL_FLAG_W,SALNTY,SALNTY_FLAG_W,CTDOXY,CTDOXY_FLAG_W,OXYGEN,OXYGEN_FLAG_W,SILCAT,SILCAT_FLAG_W,NITRAT,NITRAT_FLAG_W,NITRIT,NITRIT_FLAG_W,PHSPHT,PHSPHT_FLAG_W,CFC-11,CFC-11_FLAG_W,CFC-12,CFC-12_FLAG_W,CCL4,CCL4_FLAG_W,TCARBN,TCARBN_FLAG_W,ALKALI,ALKALI_FLAG_W,THETA
,,,,,,,,,,,,DBAR,ITS-90,PSS-78,,PSS-78,,UMOL/KG,,UMOL/KG,,UMOL/KG,,UMOL/KG,,UMOL/KG,,UMOL/KG,,PMOL/KG,,PMOL/KG,,PMOL/KG,,UMOL/KG,,UMOL/KG,,DEG C
     316N142_3,   A15,    71,  1,     39,     39,2,19940425,1923,-13.0645, -19.0033, 5071,      6.9,  26.9420,  36.7862,2,  36.7867,2,    200.2,2,    201.3,2,     2.20,2,     0.20,2,     0.00,2,     0.17,2, -999.000,9, -999.000,9, -999.000,9,   -999.0,9,   -999.0,9, 26.9404
     316N142_3,   A15,    71,  1,     35,     35,2,19940425,1923,-13.0645, -19.0033, 5071,     81.5,  24.6597,  36.8176,2,  36.8304,2,    227.6,2,    220.6,2,     1.92,2,     0.19,2,     0.01,2,     0.21,2, -999.000,9, -999.000,9, -999.000,9,   -999.0,9,   -999.0,9, 24.6421
     316N142_3,   A15,    71,  1,     38,     38,2,19940425,1923,-13.0645, -19.0033, 5071,    181.7,  16.8213,  35.7837,2,  35.7729,2,    179.8,2,    168.9,2,     4.38,2,     9.67,2,     0.02,2,     0.83,2, -999.000,9, -999.000,9, -999.000,9,   -999.0,9,   -999.0,9, 16.7914
     316N142_3,   A15,    71,  1,     33,     33,2,19940425,1923,-13.0645, -19.0033, 5071,    267.3,  11.9324,  35.0930,2,  35.0939,2,    131.0,2,    125.7,2,     9.71,2,    21.76,2,     0.01,2,     1.49,2, -999.000,9, -999.000,9, -999.000,9,   -999.0,9,   -999.0,9, 11.8975
     316N142_3,   A15,    71,  1,     41,     41,2,19940425,1923,-13.0645, -19.0033, 5071,    362.8,   9.4549,  34.8399,2,  34.8375,2,    103.6,2,    101.8,2,    15.43,2,    29.75,2,     0.01,2,     1.96,2, -999.000,9, -999.000,9, -999.000,9,   -999.0,9,   -999.0,9,  9.4140
     316N142_3,   A15,    71,  1,     31,     31,9,19940425,1923,-13.0645, -19.0033, 5071,    473.5,   6.7359,  34.5685,2,-999.0000,9,    136.3,2,   -999.0,9,  -999.00,9,  -999.00,9,  -999.00,9,  -999.00,9, -999.000,9, -999.000,9, -999.000,9,   -999.0,9,   -999.0,9,  6.6919
     316N142_3,   A15,    71,  1,     37,     37,2,19940425,1923,-13.0645, -19.0033, 5071,    608.9,   5.5486,  34.4819,2,  34.4835,2,    142.0,2,    144.2,2,    26.48,2,    34.13,2,     0.00,2,     2.29,2, -999.000,9, -999.000,9, -999.000,9,   -999.0,9,   -999.0,9,  5.4971
     316N142_3,   A15,    71,  1,     29,     29,2,19940425,1923,-13.0645, -19.0033, 5071,    749.1,   4.6598,  34.4608,2,  34.4595,2,    151.0,2,    152.2,2,    32.43,2,    34.87,2,     0.00,2,     2.37,2, -999.000,9, -999.000,9, -999.000,9,   -999.0,9,   -999.0,9,  4.6008
     316N142_3,   A15,    71,  1,     28,     28,2,19940425,1923,-13.0645, -19.0033, 5071,    884.7,   4.1525,  34.5003,2,  34.4976,2,    157.3,2,    160.2,2,    36.28,2,    34.16,2,     0.00,2,     2.35,2, -999.000,9, -999.000,9, -999.000,9,   -999.0,9,   -999.0,9,  4.0853
     316N142_3,   A15,    71,  1,     27,     27,2,19940425,1923,-13.0645, -19.0033, 5071,   1020.0,   3.9365,  34.5862,2,  34.5856,2,    168.0,2,    169.5,2,    36.88,2,    32.46,2,     0.00,2,     2.25,2, -999.000,9, -999.000,9, -999.000,9,   -999.0,9,   -999.0,9,  3.8595
     316N142_3,   A15,    71,  1,     26,     26,2,19940425,1923,-13.0645, -19.0033, 5071,   1161.5,   3.9186,  34.6808,2,  34.6792,2,    177.6,2,    179.5,2,    34.62,2,    30.41,2,     0.00,2,     2.11,2, -999.000,9, -999.000,9, -999.000,9,   -999.0,9,   -999.0,9,  3.8297
     316N142_3,   A15,    71,  1,     25,     25,2,19940425,1923,-13.0645, -19.0033, 5071,   1313.5,   3.9564,  34.8051,2,  34.8052,2,    194.7,2,    197.4,2,    29.51,2,    27.02,2,     0.00,2,     1.87,2, -999.000,9, -999.000,9, -999.000,9,   -999.0,9,   -999.0,9,  3.8537
     316N142_3,   A15,    71,  1,     24,     24,2,19940425,1923,-13.0645, -19.0033, 5071,   1465.5,   3.8738,  34.8776,2,  34.8783,2,    212.7,2,    214.3,2,    26.48,2,    24.40,2,     0.00,2,     1.69,2, -999.000,9, -999.000,9, -999.000,9,   -999.0,9,   -999.0,9,  3.7584
     316N142_3,   A15,    71,  1,     23,     23,2,19940425,1923,-13.0645, -19.0033, 5071,   1617.4,   3.7104,  34.9118,2,  34.9122,2,    226.3,2,    227.4,2,    25.53,2,    22.69,2,     0.00,2,     1.58,2, -999.000,9, -999.000,9, -999.000,9,   -999.0,9,   -999.0,9,  3.5831
     316N142_3,   A15,    71,  1,     22,     22,2,19940425,1923,-13.0645, -19.0033, 5071,   1769.5,   3.4995,  34.9196,2,  34.9197,2,    235.6,2,    234.5,2,    26.92,2,    21.98,2,     0.00,2,     1.54,2, -999.000,9, -999.000,9, -999.000,9,   -999.0,9,   -999.0,9,  3.3610
     316N142_3,   A15,    71,  1,     21,     21,2,19940425,1923,-13.0645, -19.0033, 5071,   1921.4,   3.3297,  34.9234,2,  34.9226,2,    239.9,2,    238.9,2,    28.56,2,    21.61,2,     0.00,2,     1.51,2, -999.000,9, -999.000,9, -999.000,9,   -999.0,9,   -999.0,9,  3.1796
     316N142_3,   A15,    71,  1,     20,     20,2,19940425,1923,-13.0645, -19.0033, 5071,   2072.9,   3.1618,  34.9197,2,  34.9193,2,    243.2,2,    241.4,2,    30.97,2,    21.57,2,     0.00,2,     1.50,2, -999.000,9, -999.000,9, -999.000,9,   -999.0,9,   -999.0,9,  3.0002
     316N142_3,   A15,    71,  1,     19,     19,2,19940425,1923,-13.0645, -19.0033, 5071,   2225.1,   3.0317,  34.9164,2,  34.9150,2,    243.9,2,    242.7,2,    33.12,2,    21.63,2,     0.00,2,     1.51,2, -999.000,9, -999.000,9, -999.000,9,   -999.0,9,   -999.0,9,  2.8578
     316N142_3,   A15,    71,  1,     40,     40,2,19940425,1923,-13.0645, -19.0033, 5071,   2378.4,   2.8916,  34.9087,2,  34.9101,2,    243.0,2,    242.5,2,    36.03,2,    21.83,2,     0.00,2,     1.51,2, -999.000,9, -999.000,9, -999.000,9,   -999.0,9,   -999.0,9,  2.7055
     316N142_3,   A15,    71,  1,     17,     17,2,19940425,1923,-13.0645, -19.0033, 5071,   2531.9,   2.8014,  34.9058,2,  34.9056,2,    243.4,2,    243.0,2,    37.79,2,    21.94,2,     0.00,2,     1.52,2, -999.000,9, -999.000,9, -999.000,9,   -999.0,9,   -999.0,9,  2.6022
     316N142_3,   A15,    71,  1,     16,     16,2,19940425,1923,-13.0645, -19.0033, 5071,   2682.4,   2.7629,  34.9047,2,  34.9038,2,    242.3,2,    243.3,2,    38.51,2,    21.99,2,     0.00,2,     1.53,2, -999.000,9, -999.000,9, -999.000,9,   -999.0,9,   -999.0,9,  2.5497
     316N142_3,   A15,    71,  1,     15,     15,2,19940425,1923,-13.0645, -19.0033, 5071,   2835.7,   2.6996,  34.8997,2,  34.8991,2,    242.5,2,    242.5,2,    40.51,2,    22.29,2,     0.00,2,     1.54,2, -999.000,9, -999.000,9, -999.000,9,   -999.0,9,   -999.0,9,  2.4723
     316N142_3,   A15,    71,  1,     14,     14,2,19940425,1923,-13.0645, -19.0033, 5071,   2988.6,   2.6553,  34.8986,2,  34.8983,2,    242.2,2,    243.0,2,    41.23,2,    22.26,2,     0.00,2,     1.54,2, -999.000,9, -999.000,9, -999.000,9,   -999.0,9,   -999.0,9,  2.4134
     316N142_3,   A15,    71,  1,     13,     13,2,19940425,1923,-13.0645, -19.0033, 5071,   3140.9,   2.6094,  34.8978,2,  34.8975,2,    244.2,2,    244.1,2,    41.69,2,    22.17,2,     0.00,2,     1.54,2, -999.000,9, -999.000,9, -999.000,9,   -999.0,9,   -999.0,9,  2.3527
     316N142_3,   A15,    71,  1,     12,     12,2,19940425,1923,-13.0645, -19.0033, 5071,   3344.0,   2.5084,  34.8927,2,  34.8926,2,    246.5,2,    246.3,2,    42.79,2,    22.09,2,     0.00,2,     1.53,2, -999.000,9, -999.000,9, -999.000,9,   -999.0,9,   -999.0,9,  2.2326
     316N142_3,   A15,    71,  1,     11,     11,3,19940425,1923,-13.0645, -19.0033, 5071,   3549.5,   2.3954,  34.8843,2,  35.0388,4,    247.0,2,    209.4,4,    29.28,4,    21.13,4,     0.01,4,     1.48,4, -999.000,9, -999.000,9, -999.000,9,   -999.0,9,   -999.0,9,  2.1003
     316N142_3,   A15,    71,  1,     10,     10,2,19940425,1923,-13.0645, -19.0033, 5071,   3754.2,   2.2113,  34.8691,2,  34.8681,2,    246.6,2,    246.8,2,    50.86,2,    22.93,2,     0.00,2,     1.59,2, -999.000,9, -999.000,9, -999.000,9,   -999.0,9,   -999.0,9,  1.8987
     316N142_3,   A15,    71,  1,      9,      9,2,19940425,1923,-13.0645, -19.0033, 5071,   3931.7,   1.8899,  34.8359,2,  34.8358,2,    241.9,2,    242.3,2,    63.01,2,    24.54,2,     0.00,2,     1.71,2, -999.000,9, -999.000,9, -999.000,9,   -999.0,9,   -999.0,9,  1.5667
     316N142_3,   A15,    71,  1,      8,      8,2,19940425,1923,-13.0645, -19.0033, 5071,   4112.0,   1.5577,  34.7996,2,  34.8002,2,    235.5,2,    235.7,2,    76.90,2,    26.62,2,     0.00,2,     1.86,2, -999.000,9,    0.059,4, -999.000,9,   -999.0,9,   -999.0,9,  1.2242
     316N142_3,   A15,    71,  1,      7,      7,2,19940425,1923,-13.0645, -19.0033, 5071,   4213.5,   1.4990,  34.7924,2,  34.7938,2,    234.4,2,    235.1,2,    79.05,2,    26.97,2,     0.00,2,     1.88,2, -999.000,9, -999.000,9, -999.000,9,   -999.0,9,   -999.0,9,  1.1559
     316N142_3,   A15,    71,  1,      6,      6,2,19940425,1923,-13.0645, -19.0033, 5071,   4366.2,   1.3289,  34.7758,2,  34.7745,2,    233.2,2,    233.0,2,    85.37,2,    27.81,2,     0.00,2,     1.94,2, -999.000,9, -999.000,9, -999.000,9,   -999.0,9,   -999.0,9,  0.9738
     316N142_3,   A15,    71,  1,      5,      5,2,19940425,1923,-13.0645, -19.0033, 5071,   4520.8,   1.0161,  34.7448,2,  34.7446,2,    229.0,2,    229.1,2,    95.46,2,    29.32,2,     0.00,2,     2.05,2, -999.000,9,    0.015,2,    0.000,2,   -999.0,9,   -999.0,9,  0.6534
     316N142_3,   A15,    71,  1,      4,      4,2,19940425,1923,-13.0645, -19.0033, 5071,   4674.2,   0.9330,  34.7348,2,  34.7348,2,    227.4,2,    227.8,2,    98.85,2,    29.87,2,     0.00,2,     2.08,2, -999.000,9, -999.000,9, -999.000,9,   -999.0,9,   -999.0,9,  0.5556
     316N142_3,   A15,    71,  1,      3,      3,2,19940425,1923,-13.0645, -19.0033, 5071,   4930.7,   0.8760,  34.7266,2,  34.7260,2,    226.6,2,    226.7,2,   101.37,2,    30.27,2,     0.00,2,     2.11,2, -999.000,9,    0.015,2,    0.155,2,   -999.0,9,   -999.0,9,  0.4708
     316N142_3,   A15,    71,  1,      2,      2,2,19940425,1923,-13.0645, -19.0033, 5071,   5085.1,   0.8860,  34.7254,2,  34.7258,2,    227.3,2,    226.7,2,   101.26,2,    30.33,2,     0.00,2,     2.12,2, -999.000,9, -999.000,9, -999.000,9,   -999.0,9,   -999.0,9,  0.4623
     316N142_3,   A15,    71,  1,      1,      1,2,19940425,1923,-13.0645, -19.0033, 5071,   5227.2,   0.8973,  34.7249,2,  34.7244,2,    227.5,2,    226.3,2,   101.27,2,    30.35,2,     0.00,2,     2.12,2, -999.000,9,    0.014,6,    0.056,6,   -999.0,9,   -999.0,9,  0.4561