BOTTLE,20020814WHPSIOKJU
EXPOCODE,SECT_ID,STNNBR,CASTNO,SAMPNO,BTLNBR,BTLNBR_FLAG_W,DATE,TIME,LATITUDE,LONGITUDE,DEPTH,CTDPRS,CTDTMP,CTDSAL,CTDSAL_FLAG_W,SALNTY,SALNTY_FLAG_W,CTDOXY,CTDOXY_FLAG_W,OXYGEN,OXYGEN_FLAG_W,SILCAT,SILCAT_FLAG_W,NITRAT,NITRAT_FLAG_W,NITRIT,NITRIT_FLAG_W,PHSPHT,PHSPHT_FLAG_W,CFC-11,CFC-11_FLAG_W,CFC-12,CFC-12_FLAG_W,CCL4,CCL4_FLAG_W,TCARBN,TCARBN_FLAG_W,ALKALI,ALKALI_FLAG_W,THETA
,,,,,,,,,,,,DBAR,ITS-90,PSS-78,,PSS-78,,UMOL/KG,,UMOL/KG,,UMOL/KG,,UMOL/KG,,UMOL/KG,,UMOL/KG,,PMOL/KG,,PMOL/KG,,PMOL/KG,,UMOL/KG,,UMOL/KG,,DEG C
     316N142_3,   A15,    49,  1,      6,      6,9,19940419,2040, -2.1973, -19.0000, 5483,      5.1,  28.5420,  35.6580,2,-999.0000,9,    218.2,2,   -999.0,9,  -999.00,9,  -999.00,9,  -999.00,9,  -999.00,9, -999.000,9, -999.000,9, -999.000,9,   -999.0,9,   -999.0,9, 28.5408
     316N142_3,   A15,    49,  1,      5,      5,2,19940419,2040, -2.1973, -19.0000, 5483,     46.0,  21.7697,  35.8510,2,  35.8550,2,    222.9,2,    193.2,2,     3.46,2,     2.05,2,     0.05,2,     0.46,2,    1.558,2,    0.901,2,    1.310,2,   2081.2,2,   2354.5,2, 21.7606
     316N142_3,   A15,    49,  1,      4,      4,2,19940419,2040, -2.1973, -19.0000, 5483,    101.7,  14.1087,  35.4228,2,  35.4221,2,    121.7,2,    123.4,2,     8.29,2,    19.35,2,     0.03,2,     1.34,2,    1.316,2,    0.744,6,    0.181,3,   2165.9,2,   2324.5,2, 14.0940
     316N142_3,   A15,    49,  1,      3,      3,2,19940419,2040, -2.1973, -19.0000, 5483,    206.0,  12.9032,  35.2645,2,  35.2641,2,     95.5,2,     86.9,2,    10.42,2,    24.95,2,     0.00,2,     1.66,2,    0.951,2,    0.538,2,    0.158,2,   2195.2,2,   2315.2,2, 12.8749
     316N142_3,   A15,    49,  1,      2,      2,2,19940419,2040, -2.1973, -19.0000, 5483,    307.3,  10.8211,  35.0176,2,  35.0175,2,     84.8,2,     80.4,2,    13.50,2,    29.50,2,     0.00,2,     1.92,2,    0.604,2,    0.335,2,    0.152,2,   2208.4,2,   2301.8,2, 10.7834
     316N142_3,   A15,    49,  1,      1,      1,2,19940419,2040, -2.1973, -19.0000, 5483,    382.5,   9.1943,  34.8377,2,  34.8369,2,     75.3,2,     84.5,2,    16.72,2,    32.51,2,     0.00,2,     2.12,2,    0.390,2,    0.214,2,    0.364,2,   2218.8,2,   2297.7,2,  9.1518
     316N142_3,   A15,    49,  1,     39,     39,2,19940419,2040, -2.1973, -19.0000, 5483,    455.7,   7.2477,  34.6342,2,  34.6360,2,    102.7,2,    108.2,2,    20.89,2,    34.02,2,     0.00,2,     2.27,2,    0.349,2,    0.135,2,    0.440,2,   2216.1,2,   2293.8,2,  7.2036
     316N142_3,   A15,    49,  1,     42,     42,2,19940419,2040, -2.1973, -19.0000, 5483,    554.6,   5.7546,  34.4991,2,  34.5011,2,    158.7,2,    156.7,2,    25.05,2,    32.25,2,     0.00,2,     2.24,2, -999.000,9, -999.000,9, -999.000,9,   2200.2,2,   2295.0,2,  5.7069
     316N142_3,   A15,    49,  1,     38,     38,2,19940419,2040, -2.1973, -19.0000, 5483,    680.9,   5.2791,  34.4962,2,  34.4964,2,    149.2,2,    149.1,2,    28.41,2,    33.90,2,     0.00,2,     2.34,2,    0.101,2,    0.079,2,    0.505,2,   2211.3,2,   2295.8,2,  5.2225
     316N142_3,   A15,    49,  1,     33,     33,2,19940419,2040, -2.1973, -19.0000, 5483,    809.8,   4.6482,  34.4845,2,  34.4868,2,    156.3,2,    153.2,2,    32.57,2,    34.47,2,     0.00,2,     2.41,2, -999.000,9, -999.000,9, -999.000,9,   -999.0,9,   -999.0,9,  4.5841
     316N142_3,   A15,    49,  1,     41,     41,2,19940419,2040, -2.1973, -19.0000, 5483,   1008.6,   4.3393,  34.6334,2,  34.6339,2,    159.0,2,    160.2,2,    32.69,2,    32.51,2,     0.00,2,     2.28,2,    0.006,4,    0.014,2,    0.140,2,   -999.0,9,   -999.0,9,  4.2601
     316N142_3,   A15,    49,  1,     31,     31,2,19940419,2040, -2.1973, -19.0000, 5483,   1187.4,   4.4262,  34.7852,2,  34.7870,2,    176.8,2,    179.8,2,    27.81,2,    28.77,2,     0.00,2,     2.02,2, -999.000,9, -999.000,9, -999.000,9,   -999.0,9,   -999.0,9,  4.3303
     316N142_3,   A15,    49,  1,     37,     37,2,19940419,2040, -2.1973, -19.0000, 5483,   1341.0,   4.5039,  34.9047,2,  34.9066,2,    201.8,2,    209.0,2,    22.52,2,    24.74,2,     0.00,2,     1.73,2, -999.000,9,    0.026,2,    0.320,2,   -999.0,9,   -999.0,9,  4.3931
     316N142_3,   A15,    49,  1,     29,     29,2,19940419,2040, -2.1973, -19.0000, 5483,   1467.5,   4.3976,  34.9468,2,  34.9475,2,    218.4,2,    220.2,2,    20.34,2,    22.69,2,     0.00,2,     1.58,2, -999.000,9,    0.044,2,    0.485,2,   -999.0,9,   -999.0,9,  4.2760
     316N142_3,   A15,    49,  1,     28,     28,2,19940419,2040, -2.1973, -19.0000, 5483,   1618.1,   4.0661,  34.9785,2,  34.9802,2,    241.9,2,    242.5,2,    18.16,2,    20.21,2,     0.00,2,     1.42,2, -999.000,9,    0.056,2,    0.504,2,   -999.0,9,   -999.0,9,  3.9342
     316N142_3,   A15,    49,  1,     27,     27,2,19940419,2040, -2.1973, -19.0000, 5483,   1745.9,   3.8571,  34.9767,2,  34.9786,2,    249.3,2,    247.9,2,    18.68,2,    19.74,2,     0.00,2,     1.39,2,    0.042,4,    0.039,6,    0.343,6,   -999.0,9,   -999.0,9,  3.7159
     316N142_3,   A15,    49,  1,     26,     26,2,19940419,2040, -2.1973, -19.0000, 5483,   1870.9,   3.7438,  34.9779,2,  34.9800,2,    254.1,2,    252.5,2,    18.39,2,    19.24,2,     0.00,2,     1.36,2, -999.000,9,    0.049,2,    0.362,2,   -999.0,9,   -999.0,9,  3.5923
     316N142_3,   A15,    49,  1,     25,     25,2,19940419,2040, -2.1973, -19.0000, 5483,   2022.6,   3.5424,  34.9678,2,  34.9700,2,    251.8,2,    252.9,2,    20.67,2,    19.47,2,     0.00,2,     1.37,2, -999.000,9,    0.033,2,    0.319,2,   -999.0,9,   -999.0,9,  3.3795
     316N142_3,   A15,    49,  1,     24,     24,2,19940419,2040, -2.1973, -19.0000, 5483,   2175.6,   3.2569,  34.9438,2,  34.9464,2,    245.9,2,    246.3,2,    27.27,2,    20.70,2,     0.00,2,     1.45,2, -999.000,9,    0.013,2,    0.080,2,   -999.0,9,   -999.0,9,  3.0839
     316N142_3,   A15,    49,  1,     23,     23,2,19940419,2040, -2.1973, -19.0000, 5483,   2379.0,   3.0396,  34.9334,2,  34.9345,2,    246.4,2,    246.7,2,    31.04,2,    20.94,2,     0.00,2,     1.48,2, -999.000,9, -999.000,9, -999.000,9,   -999.0,9,   -999.0,9,  2.8508
     316N142_3,   A15,    49,  1,     22,     22,2,19940419,2040, -2.1973, -19.0000, 5483,   2581.9,   2.8426,  34.9203,2,  34.9208,2,    244.2,2,    244.1,2,    35.48,2,    21.47,2,     0.00,2,     1.52,2, -999.000,9, -999.000,9, -999.000,9,   -999.0,9,   -999.0,9,  2.6376
     316N142_3,   A15,    49,  1,     21,     21,2,19940419,2040, -2.1973, -19.0000, 5483,   2785.1,   2.7357,  34.9137,2,  34.9137,2,    244.5,2,    244.6,2,    37.49,2,    21.66,2,     0.00,2,     1.53,2, -999.000,9,    0.006,2,    0.066,2,   -999.0,9,   -999.0,9,  2.5126
     316N142_3,   A15,    49,  1,     20,     20,2,19940419,2040, -2.1973, -19.0000, 5483,   2988.2,   2.6256,  34.9065,2,  34.9074,2,    244.8,2,    247.9,4,    39.77,2,    21.81,2,     0.00,2,     1.54,2, -999.000,9, -999.000,9, -999.000,9,   -999.0,9,   -999.0,9,  2.3843
     316N142_3,   A15,    49,  1,     19,     19,2,19940419,2040, -2.1973, -19.0000, 5483,   3193.0,   2.5767,  34.9047,2,  34.9049,2,    246.3,2,    246.7,2,    39.89,2,    21.67,2,     0.00,2,     1.53,2, -999.000,9, -999.000,9, -999.000,9,   -999.0,9,   -999.0,9,  2.3153
     316N142_3,   A15,    49,  1,     40,     40,2,19940419,2040, -2.1973, -19.0000, 5483,   3395.0,   2.5169,  34.9041,2,  34.9043,2,    251.6,2,    250.9,2,    38.52,2,    21.16,2,     0.00,2,     1.50,2, -999.000,9,    0.016,2,    0.219,2,   -999.0,9,   -999.0,9,  2.2354
     316N142_3,   A15,    49,  1,     17,     17,2,19940419,2040, -2.1973, -19.0000, 5483,   3599.5,   2.4604,  34.9035,2,  34.9047,2,    257.2,2,    256.1,2,    36.34,2,    20.51,2,     0.00,2,     1.44,2, -999.000,9,    0.026,2,    0.257,2,   -999.0,9,   -999.0,9,  2.1582
     316N142_3,   A15,    49,  1,     16,     16,2,19940419,2040, -2.1973, -19.0000, 5483,   3803.1,   2.3658,  34.8979,2,  34.8986,2,    258.8,2,    259.2,2,    36.60,2,    20.19,2,     0.00,2,     1.42,2, -999.000,9,    0.034,2,    0.445,2,   -999.0,9,   -999.0,9,  2.0436
     316N142_3,   A15,    49,  1,     15,     15,2,19940419,2040, -2.1973, -19.0000, 5483,   4006.9,   2.0441,  34.8641,2,  34.8648,2,    253.6,2,    253.1,2,    49.97,2,    22.03,2,     0.00,2,     1.55,2, -999.000,9,    0.042,2,    0.335,2,   -999.0,9,   -999.0,9,  1.7080
     316N142_3,   A15,    49,  1,     14,     14,2,19940419,2040, -2.1973, -19.0000, 5483,   4211.6,   1.5151,  34.8047,2,  34.8066,2,    242.8,2,    241.2,2,    73.75,2,    25.62,2,     0.00,2,     1.79,2, -999.000,9,    0.019,2,    0.152,2,   -999.0,9,   -999.0,9,  1.1716
     316N142_3,   A15,    49,  1,     13,     13,2,19940419,2040, -2.1973, -19.0000, 5483,   4416.3,   1.1172,  34.7602,2,  34.7608,2,    230.7,3,    231.0,2,    91.66,2,    28.40,2,     0.00,2,     2.00,2, -999.000,9, -999.000,9, -999.000,9,   -999.0,9,   -999.0,9,  0.7631
     316N142_3,   A15,    49,  1,     12,     12,2,19940419,2040, -2.1973, -19.0000, 5483,   4623.1,   0.8899,  34.7344,2,  34.7354,2,    225.0,3,    225.9,2,   101.22,2,    29.97,2,     0.00,2,     2.11,2, -999.000,9,    0.012,2,    0.012,2,   -999.0,9,   -999.0,9,  0.5198
     316N142_3,   A15,    49,  1,     11,     11,2,19940419,2040, -2.1973, -19.0000, 5483,   4827.4,   0.7925,  34.7214,2,  34.7203,2,    222.0,2,    223.8,2,   106.05,2,    30.68,2,     0.00,2,     2.17,2, -999.000,9, -999.000,9, -999.000,9,   -999.0,9,   -999.0,9,  0.4022
     316N142_3,   A15,    49,  1,     10,     10,2,19940419,2040, -2.1973, -19.0000, 5483,   5032.3,   0.7477,  34.7141,2,  34.7140,2,    222.0,2,    222.5,2,   108.24,2,    31.07,2,     0.00,2,     2.20,2, -999.000,9, -999.000,9, -999.000,9,   -999.0,9,   -999.0,9,  0.3350
     316N142_3,   A15,    49,  1,      9,      9,2,19940419,2040, -2.1973, -19.0000, 5483,   5236.4,   0.7263,  34.7094,2,  34.7085,2,    221.0,2,    221.8,2,   109.81,2,    31.36,2,     0.00,2,     2.23,2, -999.000,9,    0.015,2,    0.038,2,   -999.0,9,   -999.0,9,  0.2901
     316N142_3,   A15,    49,  1,      8,      8,2,19940419,2040, -2.1973, -19.0000, 5483,   5444.3,   0.7374,  34.7078,2,  34.7071,2,    222.0,2,    221.6,2,   109.93,2,    31.37,2,     0.00,2,     2.23,2, -999.000,9, -999.000,9, -999.000,9,   -999.0,9,   -999.0,9,  0.2755
     316N142_3,   A15,    49,  1,      7,      7,2,19940419,2040, -2.1973, -19.0000, 5483,   5616.3,   0.7536,  34.7066,2,  34.7065,2,    222.8,2,    221.4,2,   110.40,2,    31.52,2,     0.00,2,     2.25,2, -999.000,9,    0.016,2,    0.155,2,   -999.0,9,   -999.0,9,  0.2698