BOTTLE,20020814WHPSIOKJU
EXPOCODE,SECT_ID,STNNBR,CASTNO,SAMPNO,BTLNBR,BTLNBR_FLAG_W,DATE,TIME,LATITUDE,LONGITUDE,DEPTH,CTDPRS,CTDTMP,CTDSAL,CTDSAL_FLAG_W,SALNTY,SALNTY_FLAG_W,CTDOXY,CTDOXY_FLAG_W,OXYGEN,OXYGEN_FLAG_W,SILCAT,SILCAT_FLAG_W,NITRAT,NITRAT_FLAG_W,NITRIT,NITRIT_FLAG_W,PHSPHT,PHSPHT_FLAG_W,CFC-11,CFC-11_FLAG_W,CFC-12,CFC-12_FLAG_W,CCL4,CCL4_FLAG_W,TCARBN,TCARBN_FLAG_W,ALKALI,ALKALI_FLAG_W,THETA
,,,,,,,,,,,,DBAR,ITS-90,PSS-78,,PSS-78,,UMOL/KG,,UMOL/KG,,UMOL/KG,,UMOL/KG,,UMOL/KG,,UMOL/KG,,PMOL/KG,,PMOL/KG,,PMOL/KG,,UMOL/KG,,UMOL/KG,,DEG C
     316N142_3,  AR15,   141,  1,     39,     39,2,19940517,0957,-18.3772, -34.3948, 4269,     10.7,  26.8364,  37.4245,2,  37.4257,2,    199.7,2,    201.1,2,     1.63,2,     0.00,2,     0.00,2,     0.09,2, -999.000,9, -999.000,9, -999.000,9,   -999.0,9,   -999.0,9, 26.8339
     316N142_3,  AR15,   141,  1,     35,     35,2,19940517,0957,-18.3772, -34.3948, 4269,     89.9,  24.5519,  37.1041,2,  37.1012,2,    217.4,2,    213.6,2,     1.62,2,     0.05,2,     0.00,2,     0.14,2, -999.000,9, -999.000,9, -999.000,9,   -999.0,9,   -999.0,9, 24.5325
     316N142_3,  AR15,   141,  1,     38,     38,2,19940517,0957,-18.3772, -34.3948, 4269,    175.6,  19.3153,  36.1680,2,  36.1727,2,    208.1,2,    198.0,2,     2.23,2,     1.76,2,     0.01,2,     0.33,2, -999.000,9, -999.000,9, -999.000,9,   -999.0,9,   -999.0,9, 19.2834
     316N142_3,  AR15,   141,  1,     33,     33,2,19940517,0957,-18.3772, -34.3948, 4269,    265.7,  15.1236,  35.4593,2,  35.4544,2,    201.9,2,    199.4,2,     3.48,2,     6.72,2,     0.00,2,     0.60,2, -999.000,9, -999.000,9, -999.000,9,   -999.0,9,   -999.0,9, 15.0829
     316N142_3,  AR15,   141,  1,     41,     41,2,19940517,0957,-18.3772, -34.3948, 4269,    356.7,  12.4333,  35.0970,2,  35.0964,2,    183.0,2,    183.3,2,     6.15,2,    14.02,2,     0.00,2,     1.03,2, -999.000,9, -999.000,9, -999.000,9,   -999.0,9,   -999.0,9, 12.3853
     316N142_3,  AR15,   141,  1,     31,     31,2,19940517,0957,-18.3772, -34.3948, 4269,    446.6,   9.8432,  34.8075,2,  34.8068,2,    171.4,2,    168.5,2,    10.87,2,    21.27,2,     0.00,2,     1.48,2, -999.000,9, -999.000,9, -999.000,9,   -999.0,9,   -999.0,9,  9.7913
     316N142_3,  AR15,   141,  1,     37,     37,2,19940517,0957,-18.3772, -34.3948, 4269,    537.4,   7.5432,  34.5925,2,  34.5923,2,    168.9,2,    165.9,2,    16.69,2,    26.80,2,     0.00,2,     1.84,2, -999.000,9, -999.000,9, -999.000,9,   -999.0,9,   -999.0,9,  7.4898
     316N142_3,  AR15,   141,  1,     29,     29,2,19940517,0957,-18.3772, -34.3948, 4269,    622.5,   5.8207,  34.4357,2,  34.4355,2,    189.1,2,    189.9,2,    21.26,2,    28.47,2,     0.00,2,     1.98,2, -999.000,9, -999.000,9, -999.000,9,   -999.0,9,   -999.0,9,  5.7667
     316N142_3,  AR15,   141,  1,     28,     28,2,19940517,0957,-18.3772, -34.3948, 4269,    708.2,   4.6175,  34.3760,2,  34.3747,2,    196.0,2,    195.4,2,    28.53,2,    30.40,2,     0.00,2,     2.12,2, -999.000,9, -999.000,9, -999.000,9,   -999.0,9,   -999.0,9,  4.5622
     316N142_3,  AR15,   141,  1,     27,     27,2,19940517,0957,-18.3772, -34.3948, 4269,    844.0,   3.7013,  34.4151,2,  34.4098,2,    188.1,2,    190.0,2,    39.29,2,    31.80,2,     0.00,2,     2.23,2, -999.000,9, -999.000,9, -999.000,9,   -999.0,9,   -999.0,9,  3.6406
     316N142_3,  AR15,   141,  1,     26,     26,2,19940517,0957,-18.3772, -34.3948, 4269,    979.6,   3.4928,  34.5217,2,  34.5175,2,    184.9,2,    187.1,2,    43.09,2,    31.17,2,     0.00,2,     2.19,2, -999.000,9, -999.000,9, -999.000,9,   -999.0,9,   -999.0,9,  3.4227
     316N142_3,  AR15,   141,  1,     25,     25,2,19940517,0957,-18.3772, -34.3948, 4269,   1110.2,   3.7429,  34.6570,2,  34.6540,2,    186.6,2,    187.0,2,    37.20,2,    29.45,2,     0.00,2,     2.05,2, -999.000,9, -999.000,9, -999.000,9,   -999.0,9,   -999.0,9,  3.6599
     316N142_3,  AR15,   141,  1,     24,     24,2,19940517,0957,-18.3772, -34.3948, 4269,   1248.3,   4.0596,  34.8078,2,  34.8073,2,    196.3,2,    198.2,2,    28.78,2,    26.37,2,     0.00,2,     1.82,2, -999.000,9, -999.000,9, -999.000,9,   -999.0,9,   -999.0,9,  3.9616
     316N142_3,  AR15,   141,  1,     23,     23,2,19940517,0957,-18.3772, -34.3948, 4269,   1338.4,   4.0656,  34.8638,2,  34.8619,2,    208.1,2,    209.6,2,    26.08,2,    24.59,2,     0.00,2,     1.69,2, -999.000,9, -999.000,9, -999.000,9,   -999.0,9,   -999.0,9,  3.9595
     316N142_3,  AR15,   141,  1,     22,     22,2,19940517,0957,-18.3772, -34.3948, 4269,   1505.3,   3.9675,  34.9405,2,  34.9377,2,    230.9,2,    231.8,2,    21.32,2,    21.62,2,     0.00,2,     1.46,2, -999.000,9, -999.000,9, -999.000,9,   -999.0,9,   -999.0,9,  3.8473
     316N142_3,  AR15,   141,  1,     21,     21,2,19940517,0957,-18.3772, -34.3948, 4269,   1666.8,   3.8169,  34.9600,2,  34.9573,2,    242.8,2,    242.6,2,    20.21,2,    20.32,2,     0.00,2,     1.38,2, -999.000,9, -999.000,9, -999.000,9,   -999.0,9,   -999.0,9,  3.6836
     316N142_3,  AR15,   141,  1,     20,     20,2,19940517,0957,-18.3772, -34.3948, 4269,   1768.4,   3.6054,  34.9484,2,  34.9436,2,    245.3,2,    243.5,2,    22.88,2,    20.58,2,     0.00,2,     1.39,2, -999.000,9, -999.000,9, -999.000,9,   -999.0,9,   -999.0,9,  3.4655
     316N142_3,  AR15,   141,  1,     19,     19,2,19940517,0957,-18.3772, -34.3948, 4269,   1879.8,   3.5498,  34.9592,2,  34.9583,2,    249.6,2,    249.2,2,    21.44,2,    19.84,2,     0.00,2,     1.34,2, -999.000,9, -999.000,9, -999.000,9,   -999.0,9,   -999.0,9,  3.4003
     316N142_3,  AR15,   141,  1,     40,     40,2,19940517,0957,-18.3772, -34.3948, 4269,   2020.9,   3.4252,  34.9553,2,  34.9568,2,    251.7,2,    251.0,2,    22.54,2,    19.74,2,     0.00,2,     1.34,2, -999.000,9, -999.000,9, -999.000,9,   -999.0,9,   -999.0,9,  3.2643
     316N142_3,  AR15,   141,  1,     17,     17,2,19940517,0957,-18.3772, -34.3948, 4269,   2153.6,   3.2993,  34.9499,2,  34.9497,2,    252.4,2,    251.4,2,    24.26,2,    19.74,2,     0.00,2,     1.35,2, -999.000,9, -999.000,9, -999.000,9,   -999.0,9,   -999.0,9,  3.1277
     316N142_3,  AR15,   141,  1,     16,     16,2,19940517,0957,-18.3772, -34.3948, 4269,   2315.2,   3.1668,  34.9442,2,  34.9428,2,    252.7,2,    251.5,2,    25.99,2,    19.85,2,     0.00,2,     1.35,2, -999.000,9, -999.000,9, -999.000,9,   -999.0,9,   -999.0,9,  2.9819
     316N142_3,  AR15,   141,  1,     15,     15,2,19940517,0957,-18.3772, -34.3948, 4269,   2467.2,   3.0428,  34.9372,2,  34.9354,2,    251.8,2,    251.6,2,    28.35,2,    20.11,2,     0.00,2,     1.37,2, -999.000,9, -999.000,9, -999.000,9,   -999.0,9,   -999.0,9,  2.8453
     316N142_3,  AR15,   141,  1,     14,     14,2,19940517,0957,-18.3772, -34.3948, 4269,   2619.9,   2.9451,  34.9315,2,  34.9291,2,    251.5,2,    251.6,2,    29.92,2,    20.16,2,     0.00,2,     1.37,2, -999.000,9, -999.000,9, -999.000,9,   -999.0,9,   -999.0,9,  2.7344
     316N142_3,  AR15,   141,  1,     13,     13,2,19940517,0957,-18.3772, -34.3948, 4269,   2772.6,   2.8453,  34.9233,2,  34.9207,2,    250.4,2,    250.3,2,    31.96,2,    20.42,2,     0.00,2,     1.39,2, -999.000,9, -999.000,9, -999.000,9,   -999.0,9,   -999.0,9,  2.6213
     316N142_3,  AR15,   141,  1,     12,     12,2,19940517,0957,-18.3772, -34.3948, 4269,   2935.1,   2.7865,  34.9208,2,  34.9213,2,    251.0,2,    251.1,2,    32.74,2,    20.36,2,     0.00,2,     1.39,2, -999.000,9, -999.000,9, -999.000,9,   -999.0,9,   -999.0,9,  2.5472
     316N142_3,  AR15,   141,  1,     11,     11,2,19940517,0957,-18.3772, -34.3948, 4269,   3087.5,   2.7221,  34.9190,2,  34.9166,2,    253.0,2,    252.8,2,    33.05,2,    20.21,2,     0.00,2,     1.38,2, -999.000,9, -999.000,9, -999.000,9,   -999.0,9,   -999.0,9,  2.4683
     316N142_3,  AR15,   141,  1,     10,     10,2,19940517,0957,-18.3772, -34.3948, 4269,   3239.7,   2.6396,  34.9137,2,  34.9115,2,    252.9,2,    253.7,2,    34.14,2,    20.26,2,     0.00,2,     1.38,2, -999.000,9, -999.000,9, -999.000,9,   -999.0,9,   -999.0,9,  2.3718
     316N142_3,  AR15,   141,  1,      9,      9,2,19940517,0957,-18.3772, -34.3948, 4269,   3393.5,   2.5071,  34.9033,2,  34.9005,2,    253.7,2,    253.8,2,    37.14,2,    20.46,2,     0.00,2,     1.40,2, -999.000,9, -999.000,9, -999.000,9,   -999.0,9,   -999.0,9,  2.2260
     316N142_3,  AR15,   141,  1,      8,      8,2,19940517,0957,-18.3772, -34.3948, 4269,   3516.5,   2.3494,  34.8889,2,  34.8856,2,    252.0,2,    252.2,2,    42.06,2,    21.14,2,     0.00,2,     1.45,2, -999.000,9, -999.000,9, -999.000,9,   -999.0,9,   -999.0,9,  2.0590
     316N142_3,  AR15,   141,  1,      7,      7,2,19940517,0957,-18.3772, -34.3948, 4269,   3639.4,   2.1475,  34.8673,2,  34.8656,2,    249.4,2,    248.9,2,    49.85,2,    22.23,2,     0.00,2,     1.53,2, -999.000,9, -999.000,9, -999.000,9,   -999.0,9,   -999.0,9,  1.8491
     316N142_3,  AR15,   141,  1,      6,      6,2,19940517,0957,-18.3772, -34.3948, 4269,   3751.7,   1.9423,  34.8462,2,  34.8465,2,    246.0,2,    245.1,2,    58.30,2,    23.43,2,     0.00,2,     1.62,2, -999.000,9, -999.000,9, -999.000,9,   -999.0,9,   -999.0,9,  1.6373
     316N142_3,  AR15,   141,  1,      5,      5,2,19940517,0957,-18.3772, -34.3948, 4269,   3874.2,   1.6028,  34.8098,2,  34.8104,2,    240.0,2,    238.7,2,    71.96,2,    25.35,2,     0.00,2,     1.76,2, -999.000,9, -999.000,9, -999.000,9,   -999.0,9,   -999.0,9,  1.2939
     316N142_3,  AR15,   141,  1,      4,      4,2,19940517,0957,-18.3772, -34.3948, 4269,   3996.8,   1.2684,  34.7749,2,  34.7751,2,    233.9,2,    232.8,2,    85.75,2,    27.28,2,     0.00,2,     1.90,2, -999.000,9, -999.000,9, -999.000,9,   -999.0,9,   -999.0,9,  0.9558
     316N142_3,  AR15,   141,  1,      3,      3,2,19940517,0957,-18.3772, -34.3948, 4269,   4118.9,   1.0040,  34.7468,2,  34.7453,2,    228.9,2,    228.0,2,    96.71,2,    28.63,2,     0.00,2,     2.00,2, -999.000,9, -999.000,9, -999.000,9,   -999.0,9,   -999.0,9,  0.6860
     316N142_3,  AR15,   141,  1,      2,      2,2,19940517,0957,-18.3772, -34.3948, 4269,   4242.4,   0.7021,  34.7147,2,  34.7139,2,    224.8,2,    224.0,2,   108.11,2,    30.25,2,     0.00,2,     2.12,2, -999.000,9, -999.000,9, -999.000,9,   -999.0,9,   -999.0,9,  0.3799
     316N142_3,  AR15,   141,  1,      1,      1,2,19940517,0957,-18.3772, -34.3948, 4269,   4346.2,   0.6483,  34.7078,2,  34.7082,2,    222.5,2,    223.0,2,   110.93,2,    30.56,2,     0.00,2,     2.14,2, -999.000,9, -999.000,9, -999.000,9,   -999.0,9,   -999.0,9,  0.3166