BOTTLE,20020814WHPSIOKJU
EXPOCODE,SECT_ID,STNNBR,CASTNO,SAMPNO,BTLNBR,BTLNBR_FLAG_W,DATE,TIME,LATITUDE,LONGITUDE,DEPTH,CTDPRS,CTDTMP,CTDSAL,CTDSAL_FLAG_W,SALNTY,SALNTY_FLAG_W,CTDOXY,CTDOXY_FLAG_W,OXYGEN,OXYGEN_FLAG_W,SILCAT,SILCAT_FLAG_W,NITRAT,NITRAT_FLAG_W,NITRIT,NITRIT_FLAG_W,PHSPHT,PHSPHT_FLAG_W,CFC-11,CFC-11_FLAG_W,CFC-12,CFC-12_FLAG_W,CCL4,CCL4_FLAG_W,TCARBN,TCARBN_FLAG_W,ALKALI,ALKALI_FLAG_W,THETA
,,,,,,,,,,,,DBAR,ITS-90,PSS-78,,PSS-78,,UMOL/KG,,UMOL/KG,,UMOL/KG,,UMOL/KG,,UMOL/KG,,UMOL/KG,,PMOL/KG,,PMOL/KG,,PMOL/KG,,UMOL/KG,,UMOL/KG,,DEG C
     316N142_3,   A15,    36,  1,     39,     39,2,19940416,0434,  3.4998, -19.0007, 4885,      1.4,  29.0845,  35.2517,2,  35.2503,2,    212.6,2,    213.6,2,     1.53,2,     0.00,2,     0.00,2,     0.04,2, -999.000,9, -999.000,9, -999.000,9,   -999.0,9,   -999.0,9, 29.0842
     316N142_3,   A15,    36,  1,     42,     42,2,19940416,0434,  3.4998, -19.0007, 4885,     55.5,  17.5937,  35.7001,2,  35.6982,2,    119.6,2,    103.5,2,     5.32,2,    14.66,2,     0.32,2,     1.10,2, -999.000,9, -999.000,9, -999.000,9,   -999.0,9,   -999.0,9, 17.5843
     316N142_3,   A15,    36,  1,     38,     38,2,19940416,0434,  3.4998, -19.0007, 4885,    100.8,  15.4444,  35.5869,2,  35.5828,2,     87.8,2,     89.3,2,     7.81,2,    20.99,2,     0.03,2,     1.45,2, -999.000,9, -999.000,9, -999.000,9,   -999.0,9,   -999.0,9, 15.4288
     316N142_3,   A15,    36,  1,     33,     33,2,19940416,0434,  3.4998, -19.0007, 4885,    140.9,  14.7533,  35.5032,2,  35.5100,2,     99.8,2,    100.0,2,     8.02,2,    20.69,2,     0.02,2,     1.44,2, -999.000,9, -999.000,9, -999.000,9,   -999.0,9,   -999.0,9, 14.7322
     316N142_3,   A15,    36,  1,     41,     41,2,19940416,0434,  3.4998, -19.0007, 4885,    175.8,  14.0270,  35.4142,2,  35.4136,2,    124.8,2,    124.5,2,     8.01,2,    19.13,2,     0.02,2,     1.35,2, -999.000,9, -999.000,9, -999.000,9,   -999.0,9,   -999.0,9, 14.0014
     316N142_3,   A15,    36,  1,     31,     31,9,19940416,0434,  3.4998, -19.0007, 4885,    276.0,  12.5262,  35.2177,2,-999.0000,9,    121.8,2,   -999.0,9,  -999.00,9,  -999.00,9,  -999.00,9,  -999.00,9, -999.000,9, -999.000,9, -999.000,9,   -999.0,9,   -999.0,9, 12.4890
     316N142_3,   A15,    36,  1,     37,     37,2,19940416,0434,  3.4998, -19.0007, 4885,    376.4,   9.9401,  34.9470,2,  34.9505,2,     76.7,2,     73.8,2,    15.29,2,    31.72,2,     0.01,2,     2.05,2, -999.000,9, -999.000,9, -999.000,9,   -999.0,9,   -999.0,9,  9.8962
     316N142_3,   A15,    36,  1,     29,     29,9,19940416,0434,  3.4998, -19.0007, 4885,    456.2,   8.0892,  34.7533,2,-999.0000,9,     91.9,2,   -999.0,9,  -999.00,9,  -999.00,9,  -999.00,9,  -999.00,9, -999.000,9, -999.000,9, -999.000,9,   -999.0,9,   -999.0,9,  8.0421
     316N142_3,   A15,    36,  1,     28,     28,2,19940416,0434,  3.4998, -19.0007, 4885,    536.0,   6.7601,  34.6149,2,  34.6137,2,    115.5,2,    120.8,2,    22.57,2,    33.62,2,     0.00,2,     2.26,2, -999.000,9, -999.000,9, -999.000,9,   -999.0,9,   -999.0,9,  6.7099
     316N142_3,   A15,    36,  1,     27,     27,2,19940416,0434,  3.4998, -19.0007, 4885,    666.6,   5.5611,  34.5435,2,  34.5423,2,    125.6,2,    127.6,2,    28.01,2,    35.21,2,     0.00,2,     2.39,2, -999.000,9, -999.000,9, -999.000,9,   -999.0,9,   -999.0,9,  5.5043
     316N142_3,   A15,    36,  1,     26,     26,2,19940416,0434,  3.4998, -19.0007, 4885,    797.5,   4.9380,  34.5424,2,  34.5431,2,    134.0,2,    136.7,2,    31.27,2,    34.95,2,     0.00,2,     2.41,2, -999.000,9, -999.000,9, -999.000,9,   -999.0,9,   -999.0,9,  4.8731
     316N142_3,   A15,    36,  1,     25,     25,2,19940416,0434,  3.4998, -19.0007, 4885,    939.5,   4.6498,  34.6278,2,  34.6268,2,    144.4,2,    146.4,2,    31.59,2,    33.47,2,     0.00,2,     2.32,2, -999.000,9, -999.000,9, -999.000,9,   -999.0,9,   -999.0,9,  4.5743
     316N142_3,   A15,    36,  1,     24,     24,2,19940416,0434,  3.4998, -19.0007, 4885,   1061.6,   4.5593,  34.7034,2,  34.7026,2,    155.4,2,    157.0,2,    30.17,2,    31.63,2,     0.00,2,     2.20,2, -999.000,9, -999.000,9, -999.000,9,   -999.0,9,   -999.0,9,  4.4736
     316N142_3,   A15,    36,  1,     23,     23,2,19940416,0434,  3.4998, -19.0007, 4885,   1212.5,   4.4902,  34.8167,2,  34.8169,2,    175.0,2,    176.9,2,    26.68,2,    28.39,2,     0.00,2,     1.97,2, -999.000,9, -999.000,9, -999.000,9,   -999.0,9,   -999.0,9,  4.3914
     316N142_3,   A15,    36,  1,     22,     22,2,19940416,0434,  3.4998, -19.0007, 4885,   1389.9,   4.3336,  34.9265,2,  34.9270,2,    208.5,2,    210.3,2,    21.67,2,    23.83,2,     0.00,2,     1.64,2, -999.000,9, -999.000,9, -999.000,9,   -999.0,9,   -999.0,9,  4.2199
     316N142_3,   A15,    36,  1,     21,     21,2,19940416,0434,  3.4998, -19.0007, 4885,   1567.3,   4.1515,  34.9591,2,  34.9599,2,    227.5,2,    227.3,2,    19.70,2,    21.81,2,     0.00,2,     1.50,2, -999.000,9, -999.000,9, -999.000,9,   -999.0,9,   -999.0,9,  4.0234
     316N142_3,   A15,    36,  1,     20,     20,2,19940416,0434,  3.4998, -19.0007, 4885,   1719.1,   3.9369,  34.9674,2,  34.9698,2,    239.6,2,    238.3,2,    19.26,2,    20.73,2,     0.00,2,     1.43,2, -999.000,9, -999.000,9, -999.000,9,   -999.0,9,   -999.0,9,  3.7972
     316N142_3,   A15,    36,  1,     19,     19,2,19940416,0434,  3.4998, -19.0007, 4885,   1871.2,   3.7086,  34.9655,2,  34.9676,2,    244.6,2,    244.0,2,    20.45,2,    20.33,2,     0.00,2,     1.40,2, -999.000,9, -999.000,9, -999.000,9,   -999.0,9,   -999.0,9,  3.5577
     316N142_3,   A15,    36,  1,     40,     40,2,19940416,0434,  3.4998, -19.0007, 4885,   1972.4,   3.6034,  34.9635,2,  34.9657,2,    246.6,2,    245.9,2,    21.42,2,    20.24,2,     0.00,2,     1.40,2, -999.000,9, -999.000,9, -999.000,9,   -999.0,9,   -999.0,9,  3.4444
     316N142_3,   A15,    36,  1,     17,     17,2,19940416,0434,  3.4998, -19.0007, 4885,   2123.7,   3.3964,  34.9527,2,  34.9547,2,    245.7,2,    243.7,2,    24.58,2,    20.75,2,     0.00,2,     1.42,2, -999.000,9, -999.000,9, -999.000,9,   -999.0,9,   -999.0,9,  3.2262
     316N142_3,   A15,    36,  1,     16,     16,2,19940416,0434,  3.4998, -19.0007, 4885,   2327.0,   3.1341,  34.9419,2,  34.9423,2,    243.2,2,    244.0,2,    28.62,2,    21.02,2,     0.00,2,     1.44,2, -999.000,9, -999.000,9, -999.000,9,   -999.0,9,   -999.0,9,  2.9486
     316N142_3,   A15,    36,  1,     15,     15,2,19940416,0434,  3.4998, -19.0007, 4885,   2529.8,   2.9819,  34.9344,2,  34.9336,2,    243.7,2,    243.5,2,    31.45,2,    21.21,2,     0.00,2,     1.45,2, -999.000,9, -999.000,9, -999.000,9,   -999.0,9,   -999.0,9,  2.7794
     316N142_3,   A15,    36,  1,     14,     14,2,19940416,0434,  3.4998, -19.0007, 4885,   2733.7,   2.8357,  34.9259,2,  34.9266,2,    243.3,2,    242.8,2,    34.61,2,    21.48,2,     0.00,2,     1.47,2, -999.000,9, -999.000,9, -999.000,9,   -999.0,9,   -999.0,9,  2.6158
     316N142_3,   A15,    36,  1,     13,     13,2,19940416,0434,  3.4998, -19.0007, 4885,   2936.9,   2.6633,  34.9155,2,  34.9156,2,    243.1,2,    243.4,2,    37.88,2,    21.63,2,     0.00,2,     1.49,2, -999.000,9, -999.000,9, -999.000,9,   -999.0,9,   -999.0,9,  2.4264
     316N142_3,   A15,    36,  1,     12,     12,2,19940416,0434,  3.4998, -19.0007, 4885,   3140.2,   2.5628,  34.9072,2,  34.9079,2,    242.9,2,    243.8,2,    40.61,2,    21.81,2,     0.00,2,     1.50,2, -999.000,9, -999.000,9, -999.000,9,   -999.0,9,   -999.0,9,  2.3072
     316N142_3,   A15,    36,  1,     11,     11,2,19940416,0434,  3.4998, -19.0007, 4885,   3344.1,   2.5015,  34.9034,2,  34.9028,2,    244.1,2,    244.6,2,    41.48,2,    21.86,2,     0.00,2,     1.50,2, -999.000,9, -999.000,9, -999.000,9,   -999.0,9,   -999.0,9,  2.2258
     316N142_3,   A15,    36,  1,     10,     10,2,19940416,0434,  3.4998, -19.0007, 4885,   3548.0,   2.4442,  34.8983,2,  34.8985,2,    246.0,2,    246.1,2,    42.46,2,    21.82,2,     0.00,2,     1.49,2, -999.000,9, -999.000,9, -999.000,9,   -999.0,9,   -999.0,9,  2.1480
     316N142_3,   A15,    36,  1,      9,      9,2,19940416,0434,  3.4998, -19.0007, 4885,   3700.4,   2.4083,  34.8947,2,  34.8948,2,    246.2,2,    246.3,2,    43.45,2,    21.92,2,     0.00,2,     1.50,2, -999.000,9, -999.000,9, -999.000,9,   -999.0,9,   -999.0,9,  2.0964
     316N142_3,   A15,    36,  1,      7,      7,2,19940416,0434,  3.4998, -19.0007, 4885,   3904.6,   2.3631,  34.8901,2,  34.8895,2,    243.6,2,    243.7,2,    46.06,2,    22.29,2,     0.00,2,     1.53,2, -999.000,9, -999.000,9, -999.000,9,   -999.0,9,   -999.0,9,  2.0296
     316N142_3,   A15,    36,  1,      6,      6,2,19940416,0434,  3.4998, -19.0007, 4885,   4109.3,   2.3031,  34.8832,2,  34.8832,2,    244.1,2,    243.5,2,    48.46,2,    22.52,2,     0.00,2,     1.54,2, -999.000,9, -999.000,9, -999.000,9,   -999.0,9,   -999.0,9,  1.9479
     316N142_3,   A15,    36,  1,      5,      5,2,19940416,0434,  3.4998, -19.0007, 4885,   4313.3,   2.2584,  34.8774,2,  34.8766,2,    244.6,2,    244.6,2,    49.76,2,    22.62,2,     0.00,2,     1.55,2, -999.000,9, -999.000,9, -999.000,9,   -999.0,9,   -999.0,9,  1.8808
     316N142_3,   A15,    36,  1,      4,      4,2,19940416,0434,  3.4998, -19.0007, 4885,   4518.1,   2.2244,  34.8715,2,  34.8707,2,    244.7,2,    244.3,2,    51.72,2,    22.85,2,     0.00,2,     1.57,2, -999.000,9, -999.000,9, -999.000,9,   -999.0,9,   -999.0,9,  1.8236
     316N142_3,   A15,    36,  1,      3,      3,2,19940416,0434,  3.4998, -19.0007, 4885,   4723.7,   2.2023,  34.8663,2,  34.8664,2,    245.3,2,    244.1,2,    53.25,2,    22.99,2,     0.00,2,     1.58,2, -999.000,9, -999.000,9, -999.000,9,   -999.0,9,   -999.0,9,  1.7773
     316N142_3,   A15,    36,  1,      2,      2,2,19940416,0434,  3.4998, -19.0007, 4885,   4928.1,   2.2163,  34.8652,2,  34.8652,2,    245.1,2,    244.0,2,    53.47,2,    23.04,2,     0.00,2,     1.57,2, -999.000,9, -999.000,9, -999.000,9,   -999.0,9,   -999.0,9,  1.7656
     316N142_3,   A15,    36,  1,      1,      1,2,19940416,0434,  3.4998, -19.0007, 4885,   4990.2,   2.2234,  34.8654,2,  34.8652,2,    245.5,2,    244.4,2,    53.36,2,    23.00,2,     0.00,2,     1.57,2, -999.000,9, -999.000,9, -999.000,9,   -999.0,9,   -999.0,9,  1.7647