BOTTLE,20020814WHPSIOKJU
EXPOCODE,SECT_ID,STNNBR,CASTNO,SAMPNO,BTLNBR,BTLNBR_FLAG_W,DATE,TIME,LATITUDE,LONGITUDE,DEPTH,CTDPRS,CTDTMP,CTDSAL,CTDSAL_FLAG_W,SALNTY,SALNTY_FLAG_W,CTDOXY,CTDOXY_FLAG_W,OXYGEN,OXYGEN_FLAG_W,SILCAT,SILCAT_FLAG_W,NITRAT,NITRAT_FLAG_W,NITRIT,NITRIT_FLAG_W,PHSPHT,PHSPHT_FLAG_W,CFC-11,CFC-11_FLAG_W,CFC-12,CFC-12_FLAG_W,CCL4,CCL4_FLAG_W,TCARBN,TCARBN_FLAG_W,ALKALI,ALKALI_FLAG_W,THETA
,,,,,,,,,,,,DBAR,ITS-90,PSS-78,,PSS-78,,UMOL/KG,,UMOL/KG,,UMOL/KG,,UMOL/KG,,UMOL/KG,,UMOL/KG,,PMOL/KG,,PMOL/KG,,PMOL/KG,,UMOL/KG,,UMOL/KG,,DEG C
     316N142_3,  AR15,    14,  1,     39,     39,2,19940407,1234, -0.7517, -35.9478, 4438,      1.1,  28.2650,  35.7501,2,  35.7525,2,    199.8,2,    200.2,2,     2.71,2,     0.12,2,     0.01,2,     0.12,2, -999.000,9, -999.000,9, -999.000,9,   1986.0,2,   2349.4,2, 28.2647
     316N142_3,  AR15,    14,  1,     35,     35,2,19940407,1234, -0.7517, -35.9478, 4438,      1.1,  28.2625,  35.7496,2,  35.7527,2,    200.8,2,    200.5,2,     2.44,2,     0.13,2,     0.00,2,     0.10,2, -999.000,9, -999.000,9, -999.000,9,   1986.3,2,   2346.2,2, 28.2622
     316N142_3,  AR15,    14,  1,     38,     38,2,19940407,1234, -0.7517, -35.9478, 4438,     79.7,  21.7984,  36.1096,2,  36.1164,2,    180.4,2,    159.4,2,     3.60,2,     3.08,2,     0.33,2,     0.46,2, -999.000,9, -999.000,9, -999.000,9,   2106.8,2,   2376.2,2, 21.7827
     316N142_3,  AR15,    14,  1,     33,     33,2,19940407,1234, -0.7517, -35.9478, 4438,    145.4,  13.5739,  35.3482,2,  35.3365,2,    136.9,2,    135.7,2,     8.72,2,    18.30,2,     0.01,2,     1.17,2, -999.000,9, -999.000,9, -999.000,9,   2155.2,2,   2330.6,2, 13.5532
     316N142_3,  AR15,    14,  1,     32,     32,2,19940407,1234, -0.7517, -35.9478, 4438,    205.4,  11.6173,  35.1025,2,  35.1032,2,    140.7,2,    110.1,2,    11.80,2,    24.50,2,     0.01,2,     1.55,2, -999.000,9, -999.000,9, -999.000,9,   2182.6,2,   -999.0,9, 11.5911
     316N142_3,  AR15,    14,  1,     31,     31,2,19940407,1234, -0.7517, -35.9478, 4438,    336.3,   8.7898,  34.7847,2,  34.7843,2,    111.5,2,    118.3,2,    16.80,2,    29.36,2,     0.00,2,     1.87,2, -999.000,9, -999.000,9, -999.000,9,   2197.5,2,   2305.1,2,  8.7536
     316N142_3,  AR15,    14,  1,     37,     37,2,19940407,1234, -0.7517, -35.9478, 4438,    457.2,   6.6928,  34.5890,2,  34.5884,2,    154.0,2,    134.1,2,    22.65,2,    32.17,2,     0.00,2,     2.11,2, -999.000,9, -999.000,9, -999.000,9,   2205.0,2,   2301.6,2,  6.6505
     316N142_3,  AR15,    14,  1,     29,     29,2,19940407,1234, -0.7517, -35.9478, 4438,    506.9,   6.3991,  34.5653,2,  34.5664,2,    134.9,2,    138.2,2,    23.58,2,    32.23,2,     0.00,2,     2.14,2, -999.000,9, -999.000,9, -999.000,9,   2204.0,2,   2301.7,2,  6.3532
     316N142_3,  AR15,    14,  1,     28,     28,2,19940407,1234, -0.7517, -35.9478, 4438,    647.5,   5.6360,  34.5055,2,  34.5063,2,    151.7,2,    150.8,2,    26.55,2,    32.58,2,     0.00,2,     2.21,2, -999.000,9, -999.000,9, -999.000,9,   2205.0,2,   2301.5,2,  5.5806
     316N142_3,  AR15,    14,  1,     27,     27,2,19940407,1234, -0.7517, -35.9478, 4438,    758.4,   5.1043,  34.4894,2,  34.4906,2,    148.7,2,    154.0,2,    29.64,2,    33.24,2,     0.00,2,     2.26,2, -999.000,9, -999.000,9, -999.000,9,   2208.0,2,   2304.9,2,  5.0419
     316N142_3,  AR15,    14,  1,     26,     26,2,19940407,1234, -0.7517, -35.9478, 4438,    858.6,   4.6135,  34.5384,2,  34.5394,2,    157.6,2,    156.3,2,    32.61,2,    33.20,2,     0.00,2,     2.27,2, -999.000,9, -999.000,9, -999.000,9,   2212.6,2,   2307.1,2,  4.5453
     316N142_3,  AR15,    14,  1,     25,     25,2,19940407,1234, -0.7517, -35.9478, 4438,   1010.2,   4.4725,  34.6575,2,  34.6588,2,    163.9,2,    162.5,2,    31.75,2,    31.66,2,     0.00,2,     2.17,2, -999.000,9, -999.000,9, -999.000,9,   2212.0,2,   2313.2,2,  4.3921
     316N142_3,  AR15,    14,  1,     24,     24,2,19940407,1234, -0.7517, -35.9478, 4438,   1110.2,   4.5062,  34.7207,2,  34.7215,2,    170.7,2,    167.3,2,    30.16,2,    30.34,2,     0.00,2,     2.07,2, -999.000,9, -999.000,9, -999.000,9,   -999.0,9,   -999.0,9,  4.4166
     316N142_3,  AR15,    14,  1,     23,     23,2,19940407,1234, -0.7517, -35.9478, 4438,   1261.9,   4.6513,  34.8706,2,  34.8721,2,    189.3,2,    192.5,2,    24.25,2,    25.99,2,     0.00,2,     1.75,2, -999.000,9, -999.000,9, -999.000,9,   -999.0,9,   -999.0,9,  4.5464
     316N142_3,  AR15,    14,  1,     22,     22,2,19940407,1234, -0.7517, -35.9478, 4438,   1413.1,   4.3920,  34.9553,2,  34.9567,2,    218.0,2,    223.2,2,    20.02,2,    22.14,2,     0.00,2,     1.47,2, -999.000,9, -999.000,9, -999.000,9,   -999.0,9,   -999.0,9,  4.2755
     316N142_3,  AR15,    14,  1,     21,     21,2,19940407,1234, -0.7517, -35.9478, 4438,   1564.3,   4.1779,  34.9714,2,  34.9731,2,    236.4,2,    235.0,2,    19.15,2,    20.96,2,     0.00,2,     1.37,2, -999.000,9, -999.000,9, -999.000,9,   -999.0,9,   -999.0,9,  4.0497
     316N142_3,  AR15,    14,  1,     20,     20,2,19940407,1234, -0.7517, -35.9478, 4438,   1715.5,   3.9964,  34.9799,2,  34.9818,2,    246.7,2,    244.5,2,    18.64,2,    19.97,2,     0.00,2,     1.31,2, -999.000,9, -999.000,9, -999.000,9,   -999.0,9,   -999.0,9,  3.8563
     316N142_3,  AR15,    14,  1,     19,     19,2,19940407,1234, -0.7517, -35.9478, 4438,   1868.9,   3.8099,  34.9820,2,  34.9843,2,    254.9,2,    252.6,2,    18.37,2,    19.13,2,     0.00,2,     1.24,2, -999.000,9, -999.000,9, -999.000,9,   -999.0,9,   -999.0,9,  3.6578
     316N142_3,  AR15,    14,  1,     18,     18,2,19940407,1234, -0.7517, -35.9478, 4438,   2019.9,   3.5509,  34.9717,2,  34.9743,2,    258.1,2,    254.9,2,    20.39,2,    19.13,2,     0.00,2,     1.25,2, -999.000,9, -999.000,9, -999.000,9,   -999.0,9,   -999.0,9,  3.3881
     316N142_3,  AR15,    14,  1,     17,     17,2,19940407,1234, -0.7517, -35.9478, 4438,   2170.1,   3.4549,  34.9675,2,  34.9706,2,    255.6,2,    256.1,2,    21.08,2,    19.00,2,     0.00,2,     1.23,2, -999.000,9, -999.000,9, -999.000,9,   -999.0,9,   -999.0,9,  3.2792
     316N142_3,  AR15,    14,  1,     16,     16,2,19940407,1234, -0.7517, -35.9478, 4438,   2372.7,   3.1900,  34.9534,2,  34.9549,2,    257.7,2,    256.3,2,    24.30,2,    19.29,2,     0.00,2,     1.26,2, -999.000,9, -999.000,9, -999.000,9,   -999.0,9,   -999.0,9,  2.9991
     316N142_3,  AR15,    14,  1,     15,     15,2,19940407,1234, -0.7517, -35.9478, 4438,   2578.7,   2.9851,  34.9460,2,  34.9476,2,    258.9,2,    259.6,2,    25.00,2,    18.96,2,     0.00,2,     1.23,2, -999.000,9, -999.000,9, -999.000,9,   -999.0,9,   -999.0,9,  2.7777
     316N142_3,  AR15,    14,  1,     14,     14,2,19940407,1234, -0.7517, -35.9478, 4438,   2780.8,   2.8607,  34.9371,2,  34.9396,2,    261.2,2,    259.7,2,    26.65,2,    19.06,2,     0.00,2,     1.24,2, -999.000,9, -999.000,9, -999.000,9,   -999.0,9,   -999.0,9,  2.6355
     316N142_3,  AR15,    14,  1,     13,     13,2,19940407,1234, -0.7517, -35.9478, 4438,   2984.2,   2.7539,  34.9296,2,  34.9307,2,    259.8,2,    259.0,2,    28.68,2,    19.30,2,     0.00,2,     1.25,2, -999.000,9, -999.000,9, -999.000,9,   -999.0,9,   -999.0,9,  2.5102
     316N142_3,  AR15,    14,  1,     12,     12,2,19940407,1234, -0.7517, -35.9478, 4438,   3136.4,   2.6476,  34.9155,2,  34.9168,2,    254.2,2,    252.7,2,    34.55,2,    20.44,2,     0.00,2,     1.33,2, -999.000,9, -999.000,9, -999.000,9,   -999.0,9,   -999.0,9,  2.3904
     316N142_3,  AR15,    14,  1,     11,     11,2,19940407,1234, -0.7517, -35.9478, 4438,   3289.4,   2.6293,  34.9213,2,  34.9225,2,    260.2,2,    260.5,2,    29.95,2,    19.31,2,     0.00,2,     1.25,2, -999.000,9, -999.000,9, -999.000,9,   -999.0,9,   -999.0,9,  2.3564
     316N142_3,  AR15,    14,  1,     10,     10,2,19940407,1234, -0.7517, -35.9478, 4438,   3442.7,   2.4946,  34.9121,2,  34.9133,2,    261.2,2,    261.8,2,    31.13,2,    19.27,2,     0.00,2,     1.25,2, -999.000,9, -999.000,9, -999.000,9,   -999.0,9,   -999.0,9,  2.2085
     316N142_3,  AR15,    14,  1,      9,      9,2,19940407,1234, -0.7517, -35.9478, 4438,   3595.8,   2.4201,  34.9071,2,  34.9086,2,    262.0,2,    263.1,2,    32.07,2,    19.36,2,     0.00,2,     1.25,2, -999.000,9, -999.000,9, -999.000,9,   -999.0,9,   -999.0,9,  2.1193
     316N142_3,  AR15,    14,  1,      8,      8,2,19940407,1234, -0.7517, -35.9478, 4438,   3748.3,   2.3713,  34.9028,2,  34.9042,2,    263.0,2,    263.4,2,    32.89,2,    19.46,2,     0.00,2,     1.26,2, -999.000,9, -999.000,9, -999.000,9,   -999.0,9,   -999.0,9,  2.0550
     316N142_3,  AR15,    14,  1,      7,      7,2,19940407,1234, -0.7517, -35.9478, 4438,   3902.8,   2.3046,  34.8971,2,  34.8980,2,    262.7,2,    262.8,2,    34.43,2,    19.66,2,     0.00,2,     1.27,2, -999.000,9, -999.000,9, -999.000,9,   -999.0,9,   -999.0,9,  1.9728
     316N142_3,  AR15,    14,  1,      6,      6,2,19940407,1234, -0.7517, -35.9478, 4438,   4056.3,   2.2416,  34.8881,2,  34.8901,2,    261.1,2,    260.6,2,    38.88,2,    20.23,2,     0.00,2,     1.31,2, -999.000,9, -999.000,9, -999.000,9,   -999.0,9,   -999.0,9,  1.8942
     316N142_3,  AR15,    14,  1,      5,      5,2,19940407,1234, -0.7517, -35.9478, 4438,   4158.4,   2.1279,  34.8747,2,  34.8744,2,    257.9,3,    256.9,2,    45.62,2,    21.23,2,     0.00,2,     1.37,2, -999.000,9, -999.000,9, -999.000,9,   -999.0,9,   -999.0,9,  1.7721
     316N142_3,  AR15,    14,  1,      4,      4,2,19940407,1234, -0.7517, -35.9478, 4438,   4260.5,   1.5893,  34.8123,2,  34.8103,2,    243.9,3,    241.6,2,    72.46,2,    25.40,2,     0.00,2,     1.68,2, -999.000,9, -999.000,9, -999.000,9,   -999.0,9,   -999.0,9,  1.2381
     316N142_3,  AR15,    14,  1,      3,      3,2,19940407,1234, -0.7517, -35.9478, 4438,   4362.9,   1.2011,  34.7685,2,  34.7700,2,    234.3,3,    232.7,2,    89.51,2,    27.92,2,     0.00,2,     1.87,2, -999.000,9, -999.000,9, -999.000,9,   -999.0,9,   -999.0,9,  0.8503
     316N142_3,  AR15,    14,  1,      2,      2,2,19940407,1234, -0.7517, -35.9478, 4438,   4464.9,   1.0418,  34.7490,2,  34.7512,2,    230.2,3,    229.1,2,    96.88,2,    28.85,2,     0.00,2,     1.96,2,    0.060,2,    0.018,2,    0.057,2,   -999.0,9,   -999.0,9,  0.6847
     316N142_3,  AR15,    14,  1,      1,      1,2,19940407,1234, -0.7517, -35.9478, 4438,   4520.4,   0.9991,  34.7439,2,  34.7445,2,    226.3,3,    226.4,2,    99.10,2,    29.15,2,     0.00,2,     1.99,2,    0.005,4,    0.010,2,    0.077,2,   -999.0,9,   -999.0,9,  0.6370