BOTTLE,20020814WHPSIOKJU
EXPOCODE,SECT_ID,STNNBR,CASTNO,SAMPNO,BTLNBR,BTLNBR_FLAG_W,DATE,TIME,LATITUDE,LONGITUDE,DEPTH,CTDPRS,CTDTMP,CTDSAL,CTDSAL_FLAG_W,SALNTY,SALNTY_FLAG_W,CTDOXY,CTDOXY_FLAG_W,OXYGEN,OXYGEN_FLAG_W,SILCAT,SILCAT_FLAG_W,NITRAT,NITRAT_FLAG_W,NITRIT,NITRIT_FLAG_W,PHSPHT,PHSPHT_FLAG_W,CFC-11,CFC-11_FLAG_W,CFC-12,CFC-12_FLAG_W,CCL4,CCL4_FLAG_W,TCARBN,TCARBN_FLAG_W,ALKALI,ALKALI_FLAG_W,THETA
,,,,,,,,,,,,DBAR,ITS-90,PSS-78,,PSS-78,,UMOL/KG,,UMOL/KG,,UMOL/KG,,UMOL/KG,,UMOL/KG,,UMOL/KG,,PMOL/KG,,PMOL/KG,,PMOL/KG,,UMOL/KG,,UMOL/KG,,DEG C
     316N142_3,   A15,   105,  1,     39,     39,2,19940504,2150,-30.1100, -19.0005, 4275,      6.4,  22.0457,  36.1963,2,  36.1951,2,    204.2,4,    219.3,2,     1.78,2,     0.13,2,     0.00,2,     0.14,2, -999.000,9, -999.000,9, -999.000,9,   -999.0,9,   -999.0,9, 22.0444
     316N142_3,   A15,   105,  1,     35,     35,2,19940504,2150,-30.1100, -19.0005, 4275,     69.7,  22.0524,  36.1967,2,  36.1959,2,    212.9,4,    219.5,2,     1.76,2,     0.13,2,     0.00,2,     0.13,2, -999.000,9, -999.000,9, -999.000,9,   -999.0,9,   -999.0,9, 22.0385
     316N142_3,   A15,   105,  1,     38,     38,2,19940504,2150,-30.1100, -19.0005, 4275,     95.7,  19.5935,  35.8728,2,  35.8738,2,    232.1,2,    240.1,2,     1.75,2,     0.12,2,     0.00,2,     0.17,2, -999.000,9, -999.000,9, -999.000,9,   -999.0,9,   -999.0,9, 19.5760
     316N142_3,   A15,   105,  1,     33,     33,9,19940504,2150,-30.1100, -19.0005, 4275,    175.7,  16.1313,  35.5267,2,-999.0000,9,    224.6,2,   -999.0,9,  -999.00,9,  -999.00,9,  -999.00,9,  -999.00,9, -999.000,9, -999.000,9, -999.000,9,   -999.0,9,   -999.0,9, 16.1032
     316N142_3,   A15,   105,  1,     41,     41,2,19940504,2150,-30.1100, -19.0005, 4275,    255.8,  14.2249,  35.2791,2,  35.2794,2,    219.7,2,    215.7,2,     3.32,2,     5.99,2,     0.00,2,     0.57,2, -999.000,9, -999.000,9, -999.000,9,   -999.0,9,   -999.0,9, 14.1874
     316N142_3,   A15,   105,  1,     31,     31,2,19940504,2150,-30.1100, -19.0005, 4275,    336.6,  13.1696,  35.1773,2,  35.1889,2,    213.5,2,    213.7,2,     3.74,2,     8.36,2,     0.00,2,     0.72,2, -999.000,9, -999.000,9, -999.000,9,   -999.0,9,   -999.0,9, 13.1226
     316N142_3,   A15,   105,  1,     37,     37,2,19940504,2150,-30.1100, -19.0005, 4275,    416.1,  11.7710,  35.0223,2,  35.0257,2,    211.8,2,    210.3,2,     5.01,2,    12.09,2,     0.00,2,     0.94,2, -999.000,9, -999.000,9, -999.000,9,   -999.0,9,   -999.0,9, 11.7168
     316N142_3,   A15,   105,  1,     29,     29,2,19940504,2150,-30.1100, -19.0005, 4275,    496.8,  10.1920,  34.8256,2,  34.8244,2,    205.8,2,    207.3,2,     7.30,2,    16.33,2,     0.00,2,     1.20,2, -999.000,9, -999.000,9, -999.000,9,   -999.0,9,   -999.0,9, 10.1329
     316N142_3,   A15,   105,  1,     28,     28,2,19940504,2150,-30.1100, -19.0005, 4275,    577.9,   8.3347,  34.6149,2,  34.6117,2,    207.7,2,    207.2,2,    10.87,2,    21.17,2,     0.00,2,     1.50,2, -999.000,9, -999.000,9, -999.000,9,   -999.0,9,   -999.0,9,  8.2737
     316N142_3,   A15,   105,  1,     27,     27,2,19940504,2150,-30.1100, -19.0005, 4275,    657.8,   6.9274,  34.4847,2,  34.4760,2,    211.2,2,    212.5,2,    13.73,2,    24.14,2,     0.00,2,     1.68,2, -999.000,9, -999.000,9, -999.000,9,   -999.0,9,   -999.0,9,  6.8646
     316N142_3,   A15,   105,  1,     26,     26,2,19940504,2150,-30.1100, -19.0005, 4275,    739.0,   5.4757,  34.3497,2,  34.3486,2,    219.0,2,    223.9,2,    17.87,2,    26.81,2,     0.00,2,     1.85,2, -999.000,9, -999.000,9, -999.000,9,   -999.0,9,   -999.0,9,  5.4131
     316N142_3,   A15,   105,  1,     25,     25,2,19940504,2150,-30.1100, -19.0005, 4275,    807.5,   4.7952,  34.3114,2,  34.3104,2,    223.0,2,    226.1,2,    21.72,2,    28.14,2,     0.00,2,     1.95,2, -999.000,9, -999.000,9, -999.000,9,   -999.0,9,   -999.0,9,  4.7306
     316N142_3,   A15,   105,  1,     24,     24,2,19940504,2150,-30.1100, -19.0005, 4275,    869.3,   4.3448,  34.3181,2,  34.3165,2,    219.7,2,    217.9,2,    27.73,2,    29.71,2,     0.00,2,     2.06,2, -999.000,9, -999.000,9, -999.000,9,   -999.0,9,   -999.0,9,  4.2778
     316N142_3,   A15,   105,  1,     23,     23,2,19940504,2150,-30.1100, -19.0005, 4275,    968.8,   3.8113,  34.3464,2,  34.3443,2,    208.0,2,    207.3,2,    36.63,2,    31.34,2,     0.00,2,     2.18,2, -999.000,9, -999.000,9, -999.000,9,   -999.0,9,   -999.0,9,  3.7399
     316N142_3,   A15,   105,  1,     22,     22,2,19940504,2150,-30.1100, -19.0005, 4275,   1069.5,   3.5006,  34.3809,2,  34.3786,2,    201.6,2,    199.7,2,    43.09,2,    32.17,2,     0.00,2,     2.23,2, -999.000,9, -999.000,9, -999.000,9,   -999.0,9,   -999.0,9,  3.4235
     316N142_3,   A15,   105,  1,     21,     21,9,19940504,2150,-30.1100, -19.0005, 4275,   1190.8,   3.1913,  34.4532,2,-999.0000,9,    189.2,2,   -999.0,9,  -999.00,9,  -999.00,9,  -999.00,9,  -999.00,9, -999.000,9, -999.000,9, -999.000,9,   -999.0,9,   -999.0,9,  3.1070
     316N142_3,   A15,   105,  1,     20,     20,2,19940504,2150,-30.1100, -19.0005, 4275,   1312.7,   3.0156,  34.5210,2,  34.5205,2,    187.1,2,    187.7,2,    56.10,2,    32.41,2,     0.00,2,     2.25,2, -999.000,9, -999.000,9, -999.000,9,   -999.0,9,   -999.0,9,  2.9231
     316N142_3,   A15,   105,  1,     19,     19,2,19940504,2150,-30.1100, -19.0005, 4275,   1464.8,   2.8942,  34.6041,2,  34.6028,2,    190.7,2,    190.0,2,    58.23,2,    31.30,2,     0.00,2,     2.17,2, -999.000,9, -999.000,9, -999.000,9,   -999.0,9,   -999.0,9,  2.7904
     316N142_3,   A15,   105,  1,     40,     40,2,19940504,2150,-30.1100, -19.0005, 4275,   1616.9,   2.8204,  34.6772,2,  34.6756,2,    197.4,2,    195.6,2,    57.15,2,    29.74,2,     0.00,2,     2.06,2, -999.000,9, -999.000,9, -999.000,9,   -999.0,9,   -999.0,9,  2.7047
     316N142_3,   A15,   105,  1,     17,     17,2,19940504,2150,-30.1100, -19.0005, 4275,   1817.8,   2.7402,  34.7423,2,  34.7414,2,    207.9,2,    206.4,2,    55.06,2,    27.85,2,     0.00,2,     1.93,2, -999.000,9, -999.000,9, -999.000,9,   -999.0,9,   -999.0,9,  2.6082
     316N142_3,   A15,   105,  1,     16,     16,2,19940504,2150,-30.1100, -19.0005, 4275,   2022.4,   2.6670,  34.7937,2,  34.7924,2,    218.1,2,    217.6,2,    51.96,2,    26.02,2,     0.00,2,     1.81,2, -999.000,9, -999.000,9, -999.000,9,   -999.0,9,   -999.0,9,  2.5179
     316N142_3,   A15,   105,  1,     15,     15,2,19940504,2150,-30.1100, -19.0005, 4275,   2225.3,   2.6342,  34.8314,2,  34.8309,2,    227.9,2,    227.2,2,    48.29,2,    24.51,2,     0.00,2,     1.69,2, -999.000,9, -999.000,9, -999.000,9,   -999.0,9,   -999.0,9,  2.4672
     316N142_3,   A15,   105,  1,     14,     14,2,19940504,2150,-30.1100, -19.0005, 4275,   2428.4,   2.6395,  34.8516,2,  34.8505,2,    233.8,2,    232.8,2,    45.65,2,    23.64,2,     0.00,2,     1.63,2, -999.000,9, -999.000,9, -999.000,9,   -999.0,9,   -999.0,9,  2.4534
     316N142_3,   A15,   105,  1,     13,     13,2,19940504,2150,-30.1100, -19.0005, 4275,   2629.7,   2.6426,  34.8674,2,  34.8668,2,    238.4,2,    237.6,2,    43.30,2,    22.86,2,     0.00,2,     1.58,2, -999.000,9, -999.000,9, -999.000,9,   -999.0,9,   -999.0,9,  2.4370
     316N142_3,   A15,   105,  1,     12,     12,2,19940504,2150,-30.1100, -19.0005, 4275,   2834.8,   2.6193,  34.8824,2,  34.8825,2,    243.0,2,    243.1,2,    41.25,2,    22.14,2,     0.00,2,     1.53,2, -999.000,9, -999.000,9, -999.000,9,   -999.0,9,   -999.0,9,  2.3938
     316N142_3,   A15,   105,  1,     11,     11,2,19940504,2150,-30.1100, -19.0005, 4275,   2987.3,   2.6042,  34.8911,2,  34.8906,2,    245.7,2,    246.3,2,    39.77,2,    21.63,2,     0.00,2,     1.49,2, -999.000,9, -999.000,9, -999.000,9,   -999.0,9,   -999.0,9,  2.3636
     316N142_3,   A15,   105,  1,     10,     10,2,19940504,2150,-30.1100, -19.0005, 4275,   3141.0,   2.5004,  34.8891,2,  34.8886,2,    248.6,2,    247.7,2,    41.59,2,    21.64,2,     0.00,2,     1.49,2, -999.000,9, -999.000,9, -999.000,9,   -999.0,9,   -999.0,9,  2.2462
     316N142_3,   A15,   105,  1,      9,      9,2,19940504,2150,-30.1100, -19.0005, 4275,   3293.1,   2.3495,  34.8792,2,  34.8788,2,    247.5,2,    247.1,2,    45.71,2,    22.10,2,     0.00,2,     1.52,2, -999.000,9, -999.000,9, -999.000,9,   -999.0,9,   -999.0,9,  2.0830
     316N142_3,   A15,   105,  1,      8,      8,2,19940504,2150,-30.1100, -19.0005, 4275,   3445.9,   2.1923,  34.8630,2,  34.8623,2,    244.5,2,    244.7,2,    51.99,2,    22.97,2,     0.00,2,     1.58,2, -999.000,9, -999.000,9, -999.000,9,   -999.0,9,   -999.0,9,  1.9135
     316N142_3,   A15,   105,  1,      7,      7,2,19940504,2150,-30.1100, -19.0005, 4275,   3598.9,   1.9956,  34.8424,2,  34.8415,2,    242.3,2,    241.5,2,    60.18,2,    24.08,2,     0.00,2,     1.66,2, -999.000,9, -999.000,9, -999.000,9,   -999.0,9,   -999.0,9,  1.7056
     316N142_3,   A15,   105,  1,      6,      6,2,19940504,2150,-30.1100, -19.0005, 4275,   3752.2,   1.8359,  34.8258,2,  34.8254,2,    239.4,2,    239.0,2,    66.65,2,    24.91,2,     0.00,2,     1.72,2, -999.000,9, -999.000,9, -999.000,9,   -999.0,9,   -999.0,9,  1.5337
     316N142_3,   A15,   105,  1,      5,      5,2,19940504,2150,-30.1100, -19.0005, 4275,   3954.5,   1.6825,  34.8087,2,  34.8091,2,    236.3,2,    236.1,2,    73.59,2,    25.84,2,     0.00,2,     1.78,2, -999.000,9, -999.000,9, -999.000,9,   -999.0,9,   -999.0,9,  1.3626
     316N142_3,   A15,   105,  1,      4,      4,2,19940504,2150,-30.1100, -19.0005, 4275,   4158.2,   1.5633,  34.7947,2,  34.7942,2,    233.5,2,    233.8,2,    79.09,2,    26.62,2,     0.00,2,     1.84,2, -999.000,9, -999.000,9, -999.000,9,   -999.0,9,   -999.0,9,  1.2245
     316N142_3,   A15,   105,  1,      3,      3,2,19940504,2150,-30.1100, -19.0005, 4275,   4324.5,   1.4827,  34.7841,2,  34.7840,2,    232.3,2,    232.4,2,    83.29,2,    27.18,2,     0.00,2,     1.89,2, -999.000,9, -999.000,9, -999.000,9,   -999.0,9,   -999.0,9,  1.1276
     316N142_3,   A15,   105,  1,      2,      2,2,19940504,2150,-30.1100, -19.0005, 4275,   4497.0,   1.4815,  34.7817,2,  34.7820,2,    231.5,2,    232.2,2,    84.55,2,    27.32,2,     0.00,2,     1.90,2, -999.000,9, -999.000,9, -999.000,9,   -999.0,9,   -999.0,9,  1.1068
     316N142_3,   A15,   105,  1,      1,      1,2,19940504,2150,-30.1100, -19.0005, 4275,   4685.2,   1.4774,  34.7788,2,  34.7790,2,    231.7,2,    231.3,2,    85.95,2,    27.51,2,     0.00,2,     1.91,2, -999.000,9, -999.000,9, -999.000,9,   -999.0,9,   -999.0,9,  1.0809