BOTTLE,20020814WHPSIOKJU
EXPOCODE,SECT_ID,STNNBR,CASTNO,SAMPNO,BTLNBR,BTLNBR_FLAG_W,DATE,TIME,LATITUDE,LONGITUDE,DEPTH,CTDPRS,CTDTMP,CTDSAL,CTDSAL_FLAG_W,SALNTY,SALNTY_FLAG_W,CTDOXY,CTDOXY_FLAG_W,OXYGEN,OXYGEN_FLAG_W,SILCAT,SILCAT_FLAG_W,NITRAT,NITRAT_FLAG_W,NITRIT,NITRIT_FLAG_W,PHSPHT,PHSPHT_FLAG_W,CFC-11,CFC-11_FLAG_W,CFC-12,CFC-12_FLAG_W,CCL4,CCL4_FLAG_W,TCARBN,TCARBN_FLAG_W,ALKALI,ALKALI_FLAG_W,THETA
,,,,,,,,,,,,DBAR,ITS-90,PSS-78,,PSS-78,,UMOL/KG,,UMOL/KG,,UMOL/KG,,UMOL/KG,,UMOL/KG,,UMOL/KG,,PMOL/KG,,PMOL/KG,,PMOL/KG,,UMOL/KG,,UMOL/KG,,DEG C
     316N142_3,  AR15,     4,  1,     36,     36,2,19940405,0818, -3.4483, -36.9598, 2914,      3.1,  28.4980,  35.7893,2,  35.7996,2,    193.9,2,    196.6,2,     2.07,2,     0.09,2,     0.00,2,     0.10,2,    1.720,2,    0.897,2,    1.939,2,   1989.6,2,   2351.4,2, 28.4973
     316N142_3,  AR15,     4,  1,     35,     35,9,19940405,0818, -3.4483, -36.9598, 2914,      3.5,  28.4987,  35.7891,2,-999.0000,9,    194.9,2,   -999.0,9,  -999.00,9,  -999.00,9,  -999.00,9,  -999.00,9, -999.000,9, -999.000,9, -999.000,9,   -999.0,9,   -999.0,9, 28.4979
     316N142_3,  AR15,     4,  1,     34,     34,3,19940405,0818, -3.4483, -36.9598, 2914,     53.9,  28.8366,  36.5875,2,  36.6601,4,    204.3,2,   -999.0,9,     2.05,4,     0.09,4,     0.00,4,     0.09,4, -999.000,9, -999.000,9, -999.000,9,   -999.0,9,   -999.0,9, 28.8235
     316N142_3,  AR15,     4,  1,     33,     33,2,19940405,0818, -3.4483, -36.9598, 2914,    103.8,  22.6578,  36.7908,2,  36.7935,2,    209.8,2,    197.7,2,     2.04,2,     0.60,2,     0.07,2,     0.20,2,    2.084,2,    1.066,2,    1.043,2,   -999.0,9,   -999.0,9, 22.6367
     316N142_3,  AR15,     4,  1,     32,     32,2,19940405,0818, -3.4483, -36.9598, 2914,    154.9,  16.0533,  35.6513,2,  35.6573,2,    195.6,2,    180.3,2,     4.19,2,     8.24,2,     0.00,2,     0.58,2, -999.000,9, -999.000,9, -999.000,9,   -999.0,9,   -999.0,9, 16.0286
     316N142_3,  AR15,     4,  1,     31,     31,2,19940405,0818, -3.4483, -36.9598, 2914,    155.6,  16.0440,  35.6539,2,  35.6580,2,    192.6,2,    179.6,2,     4.18,2,     8.34,2,     0.00,2,     0.60,2,    2.016,2,    1.053,2,    0.554,2,   2107.9,2,   2346.5,2, 16.0192
     316N142_3,  AR15,     4,  1,     30,     30,3,19940405,0818, -3.4483, -36.9598, 2914,    206.5,  13.2967,  35.2385,2,  35.3346,4,    179.4,2,   -999.0,9,     5.76,4,    12.00,4,     0.00,4,     0.80,4, -999.000,9, -999.000,9, -999.000,9,   -999.0,9,   -999.0,9, 13.2678
     316N142_3,  AR15,     4,  1,     29,     29,2,19940405,0818, -3.4483, -36.9598, 2914,    255.2,  12.7714,  35.1823,2,  35.1869,2,    184.8,2,    183.6,2,     6.89,2,    13.68,2,     0.00,2,     0.91,2,    1.744,2,    0.952,2,    0.727,2,   2124.2,2,   2321.7,2, 12.7366
     316N142_3,  AR15,     4,  1,     28,     28,2,19940405,0818, -3.4483, -36.9598, 2914,    306.8,  11.5084,  35.0136,2,  34.9657,4,    183.9,2,    184.4,2,     8.13,2,    16.19,2,     0.00,2,     1.07,2, -999.000,9, -999.000,9, -999.000,9,   2131.5,2,   2313.5,2, 11.4692
     316N142_3,  AR15,     4,  1,     27,     27,2,19940405,0818, -3.4483, -36.9598, 2914,    405.8,   9.0297,  34.7580,2,  34.7294,4,    159.5,2,    161.9,2,    13.81,2,    23.90,2,     0.00,2,     1.55,2, -999.000,9, -999.000,9, -999.000,9,   -999.0,9,   -999.0,9,  8.9851
     316N142_3,  AR15,     4,  1,     26,     26,2,19940405,0818, -3.4483, -36.9598, 2914,    406.1,   9.0100,  34.7540,2,  34.7535,2,    159.5,2,    162.8,2,    13.79,2,    23.90,2,     0.00,2,     1.57,2,    1.081,2,    0.544,2,    1.019,2,   2166.9,2,   2304.7,2,  8.9655
     316N142_3,  AR15,     4,  1,     25,     25,2,19940405,0818, -3.4483, -36.9598, 2914,    505.3,   6.7787,  34.5447,2,  34.5445,2,    169.3,2,    170.5,2,    19.81,2,    27.97,2,     0.00,2,     1.86,2, -999.000,9, -999.000,9, -999.000,9,   2188.2,2,   2300.1,2,  6.7316
     316N142_3,  AR15,     4,  1,     24,     24,2,19940405,0818, -3.4483, -36.9598, 2914,    554.3,   6.7547,  34.5438,2,  34.5446,2,    164.7,2,    169.6,2,    19.91,2,    28.13,2,     0.00,2,     1.87,2, -999.000,9, -999.000,9, -999.000,9,   2184.5,2,   2300.9,2,  6.7028
     316N142_3,  AR15,     4,  1,     23,     23,2,19940405,0818, -3.4483, -36.9598, 2914,    602.1,   6.4346,  34.5282,2,  34.5257,2,    165.1,2,    162.7,2,    21.72,2,    29.57,2,     0.00,2,     1.98,2,    0.570,2,    0.322,2,    0.990,2,   2189.0,2,   2300.3,2,  6.3795
     316N142_3,  AR15,     4,  1,     22,     22,3,19940405,0818, -3.4483, -36.9598, 2914,    700.1,   4.8479,  34.4538,2,  34.4688,4,    161.7,2,   -999.0,9,    29.56,4,    32.09,4,     0.00,4,     2.18,4, -999.000,9, -999.000,9, -999.000,9,   -999.0,9,   -999.0,9,  4.7919
     316N142_3,  AR15,     4,  1,     21,     21,2,19940405,0818, -3.4483, -36.9598, 2914,    798.1,   4.5101,  34.4770,2,  34.4868,2,    166.2,2,    163.4,2,    33.07,2,    32.96,2,     0.00,2,     2.25,2,    0.060,2,    0.041,2,    0.360,2,   2224.6,2,   2308.1,2,  4.4478
     316N142_3,  AR15,     4,  1,     19,     19,2,19940405,0818, -3.4483, -36.9598, 2914,    896.7,   4.3408,  34.5303,2,  34.5315,2,    162.8,2,    162.6,2,    34.06,2,    32.63,2,     0.00,2,     2.26,2,    0.020,2,    0.013,2,    0.222,2,   2219.9,2,   2312.2,2,  4.2712
     316N142_3,  AR15,     4,  1,     20,     20,2,19940405,0818, -3.4483, -36.9598, 2914,    897.3,   4.3401,  34.5301,2,  34.5407,4,    162.2,2,    162.9,2,    33.96,2,    32.68,2,     0.00,2,     2.27,2, -999.000,9, -999.000,9, -999.000,9,   -999.0,9,   -999.0,9,  4.2705
     316N142_3,  AR15,     4,  1,     18,     18,2,19940405,0818, -3.4483, -36.9598, 2914,   1046.1,   4.3042,  34.6289,2,  34.6367,4,    166.0,2,    314.5,4,    32.68,2,    31.12,2,     0.00,2,     2.16,2, -999.000,9,    0.005,2,    0.000,2,   -999.0,9,   -999.0,9,  4.2220
     316N142_3,  AR15,     4,  1,     17,     17,2,19940405,0818, -3.4483, -36.9598, 2914,   1195.9,   4.4310,  34.7758,2,  34.7862,4,    180.8,2,    180.0,2,    27.89,2,    28.18,2,     0.00,2,     1.93,2,    0.019,4,    0.011,2,    0.000,2,   -999.0,9,   -999.0,9,  4.3344
     316N142_3,  AR15,     4,  1,     16,     16,2,19940405,0818, -3.4483, -36.9598, 2914,   1296.6,   4.4606,  34.8701,2,  34.8722,2,    198.3,2,    198.6,2,    23.89,2,    25.17,2,     0.00,2,     1.72,2, -999.000,9, -999.000,9, -999.000,9,   -999.0,9,   -999.0,9,  4.3544
     316N142_3,  AR15,     4,  1,     15,     15,2,19940405,0818, -3.4483, -36.9598, 2914,   1398.0,   4.3583,  34.9358,2,  34.9360,2,    215.9,2,    219.7,2,    20.58,2,    22.48,2,     0.00,2,     1.51,2,    0.052,2,    0.041,2,    0.433,2,   -999.0,9,   -999.0,9,  4.2436
     316N142_3,  AR15,     4,  1,     14,     14,2,19940405,0818, -3.4483, -36.9598, 2914,   1499.2,   4.2988,  34.9516,2,  34.9550,2,    229.1,2,    226.6,2,    19.66,2,    21.64,2,     0.00,2,     1.45,2, -999.000,9, -999.000,9, -999.000,9,   -999.0,9,   -999.0,9,  4.1754
     316N142_3,  AR15,     4,  1,     13,     13,2,19940405,0818, -3.4483, -36.9598, 2914,   1602.0,   4.2284,  34.9721,2,  34.9742,2,    231.6,2,    234.7,2,    18.51,2,    20.69,2,     0.00,2,     1.37,2,    0.057,2,    0.034,2,    0.514,2,   -999.0,9,   -999.0,9,  4.0961
     316N142_3,  AR15,     4,  1,     12,     12,2,19940405,0818, -3.4483, -36.9598, 2914,   1703.2,   4.0930,  34.9764,2,  34.9810,2,    241.7,2,    241.2,2,    18.38,2,    20.06,2,     0.00,2,     1.33,2,    0.102,2,    0.059,2,    0.588,2,   -999.0,9,   -999.0,9,  3.9528
     316N142_3,  AR15,     4,  1,     11,     11,2,19940405,0818, -3.4483, -36.9598, 2914,   1804.9,   3.7670,  34.9807,2,  34.9832,2,    252.7,2,    252.9,2,    18.48,2,    18.91,2,     0.00,2,     1.24,2,    0.129,2,    0.070,2,    0.669,2,   -999.0,9,   -999.0,9,  3.6214
     316N142_3,  AR15,     4,  1,     10,     10,2,19940405,0818, -3.4483, -36.9598, 2914,   1955.3,   3.3925,  34.9683,2,  34.9697,2,    255.9,2,    257.2,2,    20.74,2,    18.75,2,     0.00,2,     1.23,2,    0.056,2,    0.041,2,    0.437,2,   -999.0,9,   -999.0,9,  3.2382
     316N142_3,  AR15,     4,  1,      9,      9,2,19940405,0818, -3.4483, -36.9598, 2914,   2105.4,   3.3279,  34.9649,2,  34.9691,4,    258.3,2,    257.7,2,    21.52,2,    18.80,2,     0.00,2,     1.23,2,    0.030,2,    0.038,2,    0.454,2,   -999.0,9,   -999.0,9,  3.1604
     316N142_3,  AR15,     4,  1,      8,      8,2,19940405,0818, -3.4483, -36.9598, 2914,   2253.6,   3.1755,  34.9578,2,  34.9589,2,    258.6,2,    257.8,2,    23.10,2,    18.80,2,     0.00,2,     1.25,2, -999.000,9, -999.000,9, -999.000,9,   -999.0,9,   -999.0,9,  2.9964
     316N142_3,  AR15,     4,  1,      7,      7,2,19940405,0818, -3.4483, -36.9598, 2914,   2403.2,   3.0269,  34.9506,2,  34.9539,4,    260.3,2,    259.1,2,    24.33,2,    18.85,2,     0.00,2,     1.25,2,    0.026,2,    0.029,2,    0.313,2,   -999.0,9,   -999.0,9,  2.8359
     316N142_3,  AR15,     4,  1,      6,      6,2,19940405,0818, -3.4483, -36.9598, 2914,   2552.4,   2.9411,  34.9447,2,  34.9471,2,    256.7,2,    259.3,2,    25.45,2,    18.91,2,     0.00,2,     1.25,2, -999.000,9, -999.000,9, -999.000,9,   -999.0,9,   -999.0,9,  2.7370
     316N142_3,  AR15,     4,  1,      5,      5,2,19940405,0818, -3.4483, -36.9598, 2914,   2702.2,   2.8689,  34.9399,2,-999.0000,5,    259.3,2,    259.7,2,    26.35,2,    18.96,2,     0.00,2,     1.26,2, -999.000,9, -999.000,9, -999.000,9,   -999.0,9,   -999.0,9,  2.6514
     316N142_3,  AR15,     4,  1,      4,      4,2,19940405,0818, -3.4483, -36.9598, 2914,   2702.2,   2.8689,  34.9399,2,  34.9398,2,    259.3,2,    259.2,2,    26.33,2,    18.96,2,     0.00,2,     1.26,2, -999.000,9, -999.000,9, -999.000,9,   -999.0,9,   -999.0,9,  2.6514
     316N142_3,  AR15,     4,  1,      2,      2,2,19940405,0818, -3.4483, -36.9598, 2914,   2799.7,   2.8086,  34.9365,2,  34.9361,2,    260.1,2,    259.7,2,    27.21,2,    19.01,2,     0.00,2,     1.27,2, -999.000,9,    0.019,2,    0.307,2,   -999.0,9,   -999.0,9,  2.5825
     316N142_3,  AR15,     4,  1,      3,      3,2,19940405,0818, -3.4483, -36.9598, 2914,   2800.1,   2.8086,  34.9367,2,  34.9362,2,    260.1,2,    259.2,2,    27.23,2,    19.01,2,     0.00,2,     1.27,2, -999.000,9, -999.000,9, -999.000,9,   -999.0,9,   -999.0,9,  2.5825
     316N142_3,  AR15,     4,  1,      1,      1,2,19940405,0818, -3.4483, -36.9598, 2914,   2941.6,   2.7164,  34.9302,2,  34.9291,2,    257.4,2,    258.0,2,    28.45,2,    19.11,2,     0.00,2,     1.27,2,    0.063,2,    0.033,2,    0.289,2,   -999.0,9,   -999.0,9,  2.4778
     316N142_3,  AR15,     5,  1,     35,     35,3,19940405,1314, -3.1717, -36.7040, 3214,      2.1,  28.8071,  35.7623,2,-999.0000,9,    221.7,2,    225.5,4,  -999.00,9,  -999.00,9,  -999.00,9,  -999.00,9, -999.000,9, -999.000,9, -999.000,9,   -999.0,9,   -999.0,9, 28.8066
     316N142_3,  AR15,     5,  1,     36,     36,9,19940405,1314, -3.1717, -36.7040, 3214,      2.1,  28.8083,  35.7553,2,-999.0000,9,    222.8,2,   -999.0,9,  -999.00,9,  -999.00,9,  -999.00,9,  -999.00,9, -999.000,9, -999.000,9, -999.000,9,   -999.0,9,   -999.0,9, 28.8078
     316N142_3,  AR15,     5,  1,     34,     34,4,19940405,1314, -3.1717, -36.7040, 3214,     52.9,  28.7660,  36.1605,2,  36.2596,3,    226.1,2,    228.1,2,     1.73,2,     0.25,2,     0.00,2,     0.04,2, -999.000,9, -999.000,9, -999.000,9,   -999.0,9,   -999.0,9, 28.7532
     316N142_3,  AR15,     5,  1,     33,     33,4,19940405,1314, -3.1717, -36.7040, 3214,     72.3,  28.9193,  37.1147,2,  37.1185,2,    231.7,2,    224.8,2,     1.72,2,     0.26,2,     0.00,2,     0.01,2, -999.000,9, -999.000,9, -999.000,9,   -999.0,9,   -999.0,9, 28.9017
     316N142_3,  AR15,     5,  1,     32,     32,4,19940405,1314, -3.1717, -36.7040, 3214,     98.5,  23.7699,  36.8883,2,  36.8923,2,    232.1,2,    221.9,2,     1.59,2,     0.26,2,     0.00,2,     0.11,2, -999.000,9, -999.000,9, -999.000,9,   -999.0,9,   -999.0,9, 23.7492
     316N142_3,  AR15,     5,  1,     31,     31,4,19940405,1314, -3.1717, -36.7040, 3214,    145.0,  17.3688,  35.8814,2,  35.8832,2,    181.0,2,    169.8,2,     3.51,2,     7.78,2,     0.02,2,     0.56,2, -999.000,9, -999.000,9, -999.000,9,   -999.0,9,   -999.0,9, 17.3444
     316N142_3,  AR15,     5,  1,     30,     30,4,19940405,1314, -3.1717, -36.7040, 3214,    196.0,  12.1611,  35.1200,2,  35.1234,2,    166.2,2,    154.9,2,     8.04,2,    17.84,2,     0.00,2,     1.12,2, -999.000,9, -999.000,9, -999.000,9,   -999.0,9,   -999.0,9, 12.1353
     316N142_3,  AR15,     5,  1,     29,     29,4,19940405,1314, -3.1717, -36.7040, 3214,    302.9,  10.6009,  34.9334,2,  34.9327,2,    158.8,2,    159.6,2,    10.53,2,    20.54,2,     0.00,2,     1.31,2, -999.000,9, -999.000,9, -999.000,9,   -999.0,9,   -999.0,9, 10.5643
     316N142_3,  AR15,     5,  1,     28,     28,4,19940405,1314, -3.1717, -36.7040, 3214,    403.7,   8.9622,  34.7640,2,  34.7626,2,    152.4,2,    150.2,2,    14.26,2,    25.00,2,     0.00,2,     1.60,2, -999.000,9, -999.000,9, -999.000,9,   -999.0,9,   -999.0,9,  8.9181
     316N142_3,  AR15,     5,  1,     27,     27,4,19940405,1314, -3.1717, -36.7040, 3214,    505.6,   6.5846,  34.5409,2,  34.5409,2,    156.3,2,    158.2,2,    20.84,2,    29.10,2,     0.00,2,     1.90,2, -999.000,9, -999.000,9, -999.000,9,   -999.0,9,   -999.0,9,  6.5381
     316N142_3,  AR15,     5,  1,     26,     26,4,19940405,1314, -3.1717, -36.7040, 3214,    556.0,   6.1212,  34.5031,2,  34.5038,2,    162.3,2,    164.8,2,    22.53,2,    29.30,2,     0.00,2,     1.96,2, -999.000,9, -999.000,9, -999.000,9,   -999.0,9,   -999.0,9,  6.0719
     316N142_3,  AR15,     5,  1,     25,     25,4,19940405,1314, -3.1717, -36.7040, 3214,    604.0,   5.6484,  34.4686,2,  34.4681,2,    167.7,2,    169.3,2,    24.45,2,    29.97,2,     0.00,2,     1.99,2, -999.000,9, -999.000,9, -999.000,9,   -999.0,9,   -999.0,9,  5.5969
     316N142_3,  AR15,     5,  1,     24,     24,4,19940405,1314, -3.1717, -36.7040, 3214,    705.3,   5.0147,  34.4610,2,  34.4608,2,    157.6,2,    158.9,2,    28.99,2,    31.96,2,     0.00,2,     2.18,2, -999.000,9, -999.000,9, -999.000,9,   -999.0,9,   -999.0,9,  4.9574
     316N142_3,  AR15,     5,  1,     23,     23,4,19940405,1314, -3.1717, -36.7040, 3214,    806.8,   4.3893,  34.4747,2,  34.4799,2,    167.5,2,    165.8,2,    33.63,2,    31.94,2,     0.00,2,     2.20,2, -999.000,9, -999.000,9, -999.000,9,   -999.0,9,   -999.0,9,  4.3270
     316N142_3,  AR15,     5,  1,     22,     22,4,19940405,1314, -3.1717, -36.7040, 3214,    906.8,   4.3422,  34.5256,2,  34.5266,2,    159.6,2,    161.9,2,    34.08,2,    32.02,2,     0.00,2,     2.20,2, -999.000,9, -999.000,9, -999.000,9,   -999.0,9,   -999.0,9,  4.2718
     316N142_3,  AR15,     5,  1,     21,     21,4,19940405,1314, -3.1717, -36.7040, 3214,   1054.0,   4.2812,  34.6204,2,  34.6195,2,    167.5,2,    166.9,2,    33.04,2,    30.88,2,     0.00,2,     2.10,2, -999.000,9, -999.000,9, -999.000,9,   -999.0,9,   -999.0,9,  4.1986
     316N142_3,  AR15,     5,  1,     20,     20,9,19940405,1314, -3.1717, -36.7040, 3214,   1203.6,   4.4280,  34.7904,2,-999.0000,9,    181.3,2,   -999.0,9,  -999.00,9,  -999.00,9,  -999.00,9,  -999.00,9, -999.000,9, -999.000,9, -999.000,9,   -999.0,9,   -999.0,9,  4.3307
     316N142_3,  AR15,     5,  1,     19,     19,4,19940405,1314, -3.1717, -36.7040, 3214,   1354.2,   4.3882,  34.9507,2,  34.9514,2,    218.6,2,    221.4,2,    19.86,2,    21.62,2,     0.00,2,     1.40,2, -999.000,9, -999.000,9, -999.000,9,   -999.0,9,   -999.0,9,  4.2772
     316N142_3,  AR15,     5,  1,     18,     18,4,19940405,1314, -3.1717, -36.7040, 3214,   1453.5,   4.2320,  34.9671,2,  34.9679,2,    230.4,2,    232.4,2,    18.71,2,    20.46,2,     0.00,2,     1.31,2, -999.000,9, -999.000,9, -999.000,9,   -999.0,9,   -999.0,9,  4.1135
     316N142_3,  AR15,     5,  1,     17,     17,4,19940405,1314, -3.1717, -36.7040, 3214,   1554.7,   4.1134,  34.9776,2,  34.9785,2,    238.6,2,    239.3,2,    18.14,2,    19.78,2,     0.00,2,     1.25,2, -999.000,9, -999.000,9, -999.000,9,   -999.0,9,   -999.0,9,  3.9868
     316N142_3,  AR15,     5,  1,     16,     16,4,19940405,1314, -3.1717, -36.7040, 3214,   1656.1,   4.0805,  34.9826,2,  34.9829,2,    245.0,2,    243.0,2,    17.67,2,    19.47,2,     0.00,2,     1.22,2, -999.000,9, -999.000,9, -999.000,9,   -999.0,9,   -999.0,9,  3.9449
     316N142_3,  AR15,     5,  1,     15,     15,4,19940405,1314, -3.1717, -36.7040, 3214,   1758.4,   3.7276,  34.9844,2,  34.9854,2,    252.9,2,    255.1,4,    17.66,2,    18.24,2,     0.00,2,     1.17,2, -999.000,9, -999.000,9, -999.000,9,   -999.0,9,   -999.0,9,  3.5869
     316N142_3,  AR15,     5,  1,     14,     14,4,19940405,1314, -3.1717, -36.7040, 3214,   1860.2,   3.6727,  34.9815,2,  34.9846,2,    255.6,2,    256.7,2,    18.11,2,    18.03,2,     0.00,2,     1.16,2, -999.000,9, -999.000,9, -999.000,9,   -999.0,9,   -999.0,9,  3.5233
     316N142_3,  AR15,     5,  1,     13,     13,3,19940405,1314, -3.1717, -36.7040, 3214,   1860.4,   3.6729,  34.9817,2,  35.0813,4,    255.6,2,   -999.0,9,    17.07,4,    17.41,4,     0.00,4,     1.13,4, -999.000,9, -999.000,9, -999.000,9,   -999.0,9,   -999.0,9,  3.5234
     316N142_3,  AR15,     5,  1,     12,     12,4,19940405,1314, -3.1717, -36.7040, 3214,   1963.6,   3.4585,  34.9716,2,  34.9738,2,    258.5,2,    257.0,2,    19.90,2,    18.12,2,     0.00,2,     1.16,2, -999.000,9, -999.000,9, -999.000,9,   -999.0,9,   -999.0,9,  3.3024
     316N142_3,  AR15,     5,  1,     11,     11,4,19940405,1314, -3.1717, -36.7040, 3214,   2120.1,   3.3062,  34.9631,2,  34.9628,2,    256.3,2,    257.0,2,    21.71,2,    18.29,2,     0.00,2,     1.17,2, -999.000,9, -999.000,9, -999.000,9,   -999.0,9,   -999.0,9,  3.1377
     316N142_3,  AR15,     5,  1,     10,     10,4,19940405,1314, -3.1717, -36.7040, 3214,   2270.8,   3.1789,  34.9562,2,  34.9577,2,    257.5,2,   -999.0,5,    23.41,2,    18.47,2,     0.00,2,     1.19,2, -999.000,9, -999.000,9, -999.000,9,   -999.0,9,   -999.0,9,  2.9981
     316N142_3,  AR15,     5,  1,      9,      9,4,19940405,1314, -3.1717, -36.7040, 3214,   2422.4,   3.1095,  34.9534,2,  34.9541,2,    258.1,2,    257.7,2,    23.97,2,    18.37,2,     0.00,2,     1.19,2, -999.000,9, -999.000,9, -999.000,9,   -999.0,9,   -999.0,9,  2.9151
     316N142_3,  AR15,     5,  1,      8,      8,4,19940405,1314, -3.1717, -36.7040, 3214,   2573.3,   3.0503,  34.9492,2,  34.9518,2,    258.9,2,    259.1,2,    24.18,2,    18.27,2,     0.00,2,     1.19,2, -999.000,9, -999.000,9, -999.000,9,   -999.0,9,   -999.0,9,  2.8421
     316N142_3,  AR15,     5,  1,      7,      7,4,19940405,1314, -3.1717, -36.7040, 3214,   2725.6,   2.9205,  34.9432,2,  34.9443,2,    259.3,2,    259.1,2,    25.65,2,    18.30,2,     0.00,2,     1.19,2, -999.000,9, -999.000,9, -999.000,9,   -999.0,9,   -999.0,9,  2.6996
     316N142_3,  AR15,     5,  1,      6,      6,4,19940405,1314, -3.1717, -36.7040, 3214,   2879.1,   2.8184,  34.9372,2,  34.9349,3,    259.0,2,    259.7,2,    27.00,2,    18.33,2,     0.00,2,     1.18,2, -999.000,9, -999.000,9, -999.000,9,   -999.0,9,   -999.0,9,  2.5840
     316N142_3,  AR15,     5,  1,      2,      2,4,19940405,1314, -3.1717, -36.7040, 3214,   3130.2,   2.5713,  34.9195,2,  34.9183,2,    258.1,2,    258.2,2,    31.20,2,    18.64,2,     0.00,2,     1.20,2, -999.000,9, -999.000,9, -999.000,9,   -999.0,9,   -999.0,9,  2.3165
     316N142_3,  AR15,     5,  1,      1,      1,4,19940405,1314, -3.1717, -36.7040, 3214,   3251.9,   2.5562,  34.9175,2,  34.9178,2,    256.2,2,    256.9,2,    31.76,2,    18.67,2,     0.00,2,     1.22,2, -999.000,9, -999.000,9, -999.000,9,   -999.0,9,   -999.0,9,  2.2890