BOTTLE,20020814WHPSIOKJU
EXPOCODE,SECT_ID,STNNBR,CASTNO,SAMPNO,BTLNBR,BTLNBR_FLAG_W,DATE,TIME,LATITUDE,LONGITUDE,DEPTH,CTDPRS,CTDTMP,CTDSAL,CTDSAL_FLAG_W,SALNTY,SALNTY_FLAG_W,CTDOXY,CTDOXY_FLAG_W,OXYGEN,OXYGEN_FLAG_W,SILCAT,SILCAT_FLAG_W,NITRAT,NITRAT_FLAG_W,NITRIT,NITRIT_FLAG_W,PHSPHT,PHSPHT_FLAG_W,CFC-11,CFC-11_FLAG_W,CFC-12,CFC-12_FLAG_W,CCL4,CCL4_FLAG_W,TCARBN,TCARBN_FLAG_W,ALKALI,ALKALI_FLAG_W,THETA
,,,,,,,,,,,,DBAR,ITS-90,PSS-78,,PSS-78,,UMOL/KG,,UMOL/KG,,UMOL/KG,,UMOL/KG,,UMOL/KG,,UMOL/KG,,PMOL/KG,,PMOL/KG,,PMOL/KG,,UMOL/KG,,UMOL/KG,,DEG C
     316N142_3,   A15,    57,  1,     39,     39,2,19940422,0257, -5.9995, -19.0005, 4206,      7.3,  28.2442,  35.8400,2,  35.8413,2,    222.7,4,    207.0,2,     2.00,2,     0.18,2,     0.00,2,     0.09,2,    1.677,2,    0.934,2,    2.305,2,   2000.3,2,   2348.3,2, 28.2424
     316N142_3,   A15,    57,  1,     35,     35,2,19940422,0257, -5.9995, -19.0005, 4206,     46.4,  28.2415,  35.8720,2,  35.9004,2,    206.0,2,    205.3,2,     1.98,2,     0.18,2,     0.01,2,     0.09,2, -999.000,9, -999.000,9, -999.000,9,   2002.1,2,   2351.3,2, 28.2304
     316N142_3,   A15,    57,  1,     38,     38,2,19940422,0257, -5.9995, -19.0005, 4206,     71.5,  25.7653,  36.6540,2,  36.6562,2,    219.8,2,    223.4,2,     1.96,2,     0.18,2,     0.01,2,     0.11,2,    1.920,2,    1.046,2,    1.789,2,   2050.7,2,   2400.2,2, 25.7493
     316N142_3,   A15,    57,  1,     33,     33,2,19940422,0257, -5.9995, -19.0005, 4206,    137.7,  16.2825,  35.7119,2,  35.6875,2,    116.6,2,    115.9,2,     6.65,2,    17.21,2,     0.03,2,     1.19,2,    1.552,2,    0.825,2,    0.558,2,   2167.0,2,   2337.6,2, 16.2604
     316N142_3,   A15,    57,  1,     41,     41,2,19940422,0257, -5.9995, -19.0005, 4206,    218.1,  10.7625,  35.0197,2,  35.0192,2,     88.3,2,     86.2,2,    13.09,2,    28.65,2,     0.01,2,     1.84,2,    0.587,6,    0.334,6,    0.295,6,   2209.9,2,   2302.7,2, 10.7359
     316N142_3,   A15,    57,  1,     31,     31,2,19940422,0257, -5.9995, -19.0005, 4206,    297.9,   9.3843,  34.8560,2,  34.8520,2,     78.2,2,     79.0,2,    16.44,2,    32.52,2,     0.00,2,     2.06,2,    0.344,2,    0.181,2,    0.221,2,   2225.0,2,   2297.0,2,  9.3510
     316N142_3,   A15,    57,  1,     37,     37,2,19940422,0257, -5.9995, -19.0005, 4206,    347.0,   8.9349,  34.8081,2,  34.8057,2,     77.8,2,     79.4,2,    17.50,2,    33.41,2,     0.00,2,     2.12,2,    0.286,2,    0.209,9, -999.000,9,   2227.3,2,   2294.7,2,  8.8971
     316N142_3,   A15,    57,  1,     29,     29,2,19940422,0257, -5.9995, -19.0005, 4206,    481.0,   7.1775,  34.6385,2,  34.6369,2,     93.6,2,     94.3,2,    22.06,2,    35.74,2,     0.00,2,     2.29,2,    0.073,4,    0.073,6,    0.323,6,   2232.0,2,   2291.2,2,  7.1311
     316N142_3,   A15,    57,  1,     28,     28,9,19940422,0257, -5.9995, -19.0005, 4206,    585.5,   6.0671,  34.5422,2,-999.0000,9,    122.4,2,   -999.0,9,  -999.00,9,  -999.00,9,  -999.00,9,  -999.00,9, -999.000,9, -999.000,9, -999.000,9,   -999.0,9,   -999.0,9,  6.0153
     316N142_3,   A15,    57,  1,     27,     27,2,19940422,0257, -5.9995, -19.0005, 4206,    699.7,   5.2604,  34.4802,2,  34.4831,2,    147.0,2,    144.0,2,    28.77,2,    34.54,2,     0.00,2,     2.30,2,    0.068,4,    0.064,2,    0.166,2,   2218.7,2,   2294.5,2,  5.2022
     316N142_3,   A15,    57,  1,     26,     26,2,19940422,0257, -5.9995, -19.0005, 4206,    810.4,   4.5217,  34.4410,2,  34.4424,2,    168.1,2,    166.9,2,    32.93,2,    33.53,2,     0.00,2,     2.26,2,    0.139,2,    0.103,2,    0.620,2,   -999.0,9,   -999.0,9,  4.4584
     316N142_3,   A15,    57,  1,     25,     25,2,19940422,0257, -5.9995, -19.0005, 4206,    911.8,   4.1201,  34.4761,2,  34.4766,2,    170.0,2,    169.1,2,    36.67,2,    33.44,2,     0.00,2,     2.27,2,    0.038,4,    0.050,2,    0.319,2,   -999.0,9,   -999.0,9,  4.0509
     316N142_3,   A15,    57,  1,     24,     24,2,19940422,0257, -5.9995, -19.0005, 4206,    992.8,   4.0065,  34.5603,2,  34.5592,2,    170.4,2,    170.7,2,    37.05,2,    32.52,2,     0.00,2,     2.21,2, -999.000,9, -999.000,9, -999.000,9,   -999.0,9,   -999.0,9,  3.9313
     316N142_3,   A15,    57,  1,     23,     23,2,19940422,0257, -5.9995, -19.0005, 4206,   1138.9,   4.2383,  34.7497,2,  34.7512,2,    180.3,2,    180.6,2,    30.16,2,    29.03,2,     0.00,2,     1.96,2, -999.000,9, -999.000,9, -999.000,9,   -999.0,9,   -999.0,9,  4.1484
     316N142_3,   A15,    57,  1,     22,     22,2,19940422,0257, -5.9995, -19.0005, 4206,   1264.5,   4.3606,  34.8767,2,  34.8776,2,    204.4,2,    201.2,2,    24.22,2,    25.32,2,     0.00,2,     1.70,2, -999.000,9,    0.021,2, -999.000,9,   -999.0,9,   -999.0,9,  4.2582
     316N142_3,   A15,    57,  1,     21,     21,2,19940422,0257, -5.9995, -19.0005, 4206,   1414.5,   4.2899,  34.9378,2,  34.9409,2,    221.7,2,    220.1,2,    20.97,2,    22.77,2,     0.00,2,     1.52,2, -999.000,9,    0.030,2,    0.267,2,   -999.0,9,   -999.0,9,  4.1744
     316N142_3,   A15,    57,  1,     20,     20,2,19940422,0257, -5.9995, -19.0005, 4206,   1541.6,   4.1423,  34.9619,2,  34.9635,2,    235.7,2,    233.0,2,    19.46,2,    21.24,2,     0.00,2,     1.42,2, -999.000,9, -999.000,9, -999.000,9,   -999.0,9,   -999.0,9,  4.0166
     316N142_3,   A15,    57,  1,     19,     19,2,19940422,0257, -5.9995, -19.0005, 4206,   1668.5,   3.8453,  34.9656,2,  34.9673,2,    244.6,2,    243.3,2,    19.85,2,    20.36,2,     0.00,2,     1.36,2, -999.000,9,    0.023,2,    0.307,2,   -999.0,9,   -999.0,9,  3.7115
     316N142_3,   A15,    57,  1,     40,     40,2,19940422,0257, -5.9995, -19.0005, 4206,   1769.8,   3.7432,  34.9656,2,  34.9674,2,    247.7,2,    246.4,2,    20.23,2,    20.13,2,     0.00,2,     1.34,2, -999.000,9,    0.016,2,    0.385,2,   -999.0,9,   -999.0,9,  3.6013
     316N142_3,   A15,    57,  1,     17,     17,2,19940422,0257, -5.9995, -19.0005, 4206,   1895.7,   3.5499,  34.9588,2,  34.9613,2,    252.0,2,    248.3,2,    22.23,2,    20.08,2,     0.00,2,     1.34,2, -999.000,9,    0.048,4, -999.000,9,   -999.0,9,   -999.0,9,  3.3989
     316N142_3,   A15,    57,  1,     16,     16,2,19940422,0257, -5.9995, -19.0005, 4206,   2020.8,   3.3525,  34.9491,2,  34.9501,2,    247.7,2,    248.6,2,    25.17,2,    20.32,2,     0.00,2,     1.35,2, -999.000,9, -999.000,9, -999.000,9,   -999.0,9,   -999.0,9,  3.1927
     316N142_3,   A15,    57,  1,     15,     15,2,19940422,0257, -5.9995, -19.0005, 4206,   2173.6,   3.1343,  34.9337,2,  34.9357,2,    245.2,2,    245.3,2,    30.39,2,    21.02,2,     0.00,2,     1.41,2, -999.000,9,    0.007,2,    0.031,2,   -999.0,9,   -999.0,9,  2.9635
     316N142_3,   A15,    57,  1,     14,     14,2,19940422,0257, -5.9995, -19.0005, 4206,   2326.2,   2.9407,  34.9151,2,  34.9158,2,    240.9,2,    241.1,2,    36.29,2,    21.91,2,     0.00,2,     1.46,2, -999.000,9, -999.000,9, -999.000,9,   -999.0,9,   -999.0,9,  2.7587
     316N142_3,   A15,    57,  1,     13,     13,2,19940422,0257, -5.9995, -19.0005, 4206,   2479.4,   2.8267,  34.9105,2,  34.9146,4,    240.9,2,    241.4,2,    38.29,2,    22.01,2,     0.00,2,     1.47,2, -999.000,9, -999.000,9, -999.000,9,   -999.0,9,   -999.0,9,  2.6321
     316N142_3,   A15,    57,  1,     12,     12,2,19940422,0257, -5.9995, -19.0005, 4206,   2631.2,   2.7368,  34.9068,2,  34.9083,2,    241.5,2,    241.2,2,    40.28,2,    22.15,2,     0.00,2,     1.48,2, -999.000,9,    0.011,2, -999.000,9,   -999.0,9,   -999.0,9,  2.5290
     316N142_3,   A15,    57,  1,     11,     11,2,19940422,0257, -5.9995, -19.0005, 4206,   2782.8,   2.6916,  34.9040,2,  34.9049,2,    241.8,2,    241.5,2,    41.34,2,    22.20,2,     0.00,2,     1.49,2, -999.000,9, -999.000,9, -999.000,9,   -999.0,9,   -999.0,9,  2.4697
     316N142_3,   A15,    57,  1,     10,     10,2,19940422,0257, -5.9995, -19.0005, 4206,   2935.4,   2.6529,  34.9053,2,  34.9055,2,    244.4,2,    243.4,2,    40.91,2,    21.97,2,     0.00,2,     1.47,2, -999.000,9, -999.000,9, -999.000,9,   -999.0,9,   -999.0,9,  2.4164
     316N142_3,   A15,    57,  1,      9,      9,2,19940422,0257, -5.9995, -19.0005, 4206,   3114.3,   2.6250,  34.9109,2,  34.9098,2,    252.5,2,    249.3,2,    37.93,2,    21.19,2,     0.00,2,     1.42,2, -999.000,9, -999.000,9, -999.000,9,   -999.0,9,   -999.0,9,  2.3707
     316N142_3,   A15,    57,  1,      8,      8,2,19940422,0257, -5.9995, -19.0005, 4206,   3292.7,   2.5887,  34.9126,2,  34.9124,2,    254.4,2,    253.9,2,    35.63,2,    20.54,2,     0.00,2,     1.38,2, -999.000,9, -999.000,9, -999.000,9,   -999.0,9,   -999.0,9,  2.3164
     316N142_3,   A15,    57,  1,      7,      7,2,19940422,0257, -5.9995, -19.0005, 4206,   3446.1,   2.5509,  34.9099,2,  34.9100,2,    254.7,2,    255.1,2,    35.74,2,    20.35,2,     0.00,2,     1.40,2, -999.000,9, -999.000,9, -999.000,9,   -999.0,9,   -999.0,9,  2.2631
     316N142_3,   A15,    57,  1,      6,      6,2,19940422,0257, -5.9995, -19.0005, 4206,   3599.0,   2.4679,  34.9028,2,  34.9023,2,    256.5,2,    255.1,2,    35.58,2,    20.50,2,     0.00,2,     1.43,2, -999.000,9, -999.000,9, -999.000,9,   -999.0,9,   -999.0,9,  2.1655
     316N142_3,   A15,    57,  1,      5,      5,2,19940422,0257, -5.9995, -19.0005, 4206,   3752.6,   2.3557,  34.8909,2,  34.8940,3,    253.9,2,    253.6,2,    41.61,2,    21.01,2,     0.00,2,     1.48,2,    0.003,4,    0.012,2,    0.131,2,   -999.0,9,   -999.0,9,  2.0394
     316N142_3,   A15,    57,  1,      4,      4,2,19940422,0257, -5.9995, -19.0005, 4206,   3905.6,   2.2276,  34.8788,2,  34.8783,2,    252.4,2,    252.3,2,    46.02,2,    21.62,2,     0.00,2,     1.51,2, -999.000,9,    0.018,2,    0.158,2,   -999.0,9,   -999.0,9,  1.8977
     316N142_3,   A15,    57,  1,      3,      3,2,19940422,0257, -5.9995, -19.0005, 4206,   4058.7,   1.8337,  34.8373,2,  34.8385,2,    244.2,2,    245.2,2,    62.08,2,    23.91,2,     0.00,2,     1.67,2, -999.000,9,    0.015,2,    0.044,2,   -999.0,9,   -999.0,9,  1.4979
     316N142_3,   A15,    57,  1,      2,      2,2,19940422,0257, -5.9995, -19.0005, 4206,   4161.8,   1.6129,  34.8123,2,  34.8124,2,    241.6,2,    239.7,2,    72.32,2,    25.41,2,     0.00,2,     1.78,2, -999.000,9, -999.000,9, -999.000,9,   -999.0,9,   -999.0,9,  1.2721
     316N142_3,   A15,    57,  1,      1,      1,2,19940422,0257, -5.9995, -19.0005, 4206,   4277.8,   1.4250,  34.7909,2,  34.7923,2,    239.6,4,    236.2,2,    80.61,2,    26.63,2,     0.00,2,     1.86,2, -999.000,9, -999.000,9, -999.000,9,   -999.0,9,   -999.0,9,  1.0769