BOTTLE,20020814WHPSIOKJU
EXPOCODE,SECT_ID,STNNBR,CASTNO,SAMPNO,BTLNBR,BTLNBR_FLAG_W,DATE,TIME,LATITUDE,LONGITUDE,DEPTH,CTDPRS,CTDTMP,CTDSAL,CTDSAL_FLAG_W,SALNTY,SALNTY_FLAG_W,CTDOXY,CTDOXY_FLAG_W,OXYGEN,OXYGEN_FLAG_W,SILCAT,SILCAT_FLAG_W,NITRAT,NITRAT_FLAG_W,NITRIT,NITRIT_FLAG_W,PHSPHT,PHSPHT_FLAG_W,CFC-11,CFC-11_FLAG_W,CFC-12,CFC-12_FLAG_W,CCL4,CCL4_FLAG_W,TCARBN,TCARBN_FLAG_W,ALKALI,ALKALI_FLAG_W,THETA
,,,,,,,,,,,,DBAR,ITS-90,PSS-78,,PSS-78,,UMOL/KG,,UMOL/KG,,UMOL/KG,,UMOL/KG,,UMOL/KG,,UMOL/KG,,PMOL/KG,,PMOL/KG,,PMOL/KG,,UMOL/KG,,UMOL/KG,,DEG C
     316N142_3,  AR15,   114,  1,     39,     39,2,19940510,0207,-18.7603, -20.0478, 4624,      5.6,  25.7771,  37.0552,2,  37.0578,2,    203.9,2,    205.8,2,     1.35,2,     0.12,2,     0.00,2,     0.23,2,    1.650,2,    1.016,2,    2.512,2,   2076.9,2,   2431.5,2, 25.7759
     316N142_3,  AR15,   114,  1,     35,     35,2,19940510,0207,-18.7603, -20.0478, 4624,     76.1,  25.7887,  37.0552,2,  37.0558,2,    199.9,2,    206.4,2,     1.21,2,     0.12,2,     0.00,2,     0.22,2, -999.000,9, -999.000,9, -999.000,9,   2078.1,2,   2430.3,2, 25.7717
     316N142_3,  AR15,   114,  1,     38,     38,2,19940510,0207,-18.7603, -20.0478, 4624,    101.1,  22.8562,  36.5572,2,  36.5465,2,    226.8,2,    224.4,2,     1.32,2,     0.12,2,     0.00,2,     0.22,2,    2.043,2,    1.185,2,    2.226,2,   2066.8,2,   2398.4,2, 22.8356
     316N142_3,  AR15,   114,  1,     33,     33,2,19940510,0207,-18.7603, -20.0478, 4624,    205.9,  16.0177,  35.5923,2,  35.5907,2,    200.3,2,    195.4,2,     3.01,2,     5.03,2,     0.01,2,     0.62,2,    2.380,2,    1.289,2,    0.754,2,   2098.4,2,   2331.5,2, 15.9849
     316N142_3,  AR15,   114,  1,     41,     41,2,19940510,0207,-18.7603, -20.0478, 4624,    307.3,  12.4199,  35.1052,2,  35.1048,2,    170.8,2,    165.5,2,     6.79,2,    15.77,2,     0.00,2,     1.17,2,    1.861,2,    1.023,2,    0.768,2,   2135.1,2,   2306.6,2, 12.3786
     316N142_3,  AR15,   114,  1,     31,     31,2,19940510,0207,-18.7603, -20.0478, 4624,    406.5,   9.4177,  34.7701,2,  34.7697,2,    157.0,2,    155.2,2,    12.53,2,    24.13,2,     0.00,2,     1.65,2,    1.212,2,    0.630,2,    1.074,2,   2166.8,2,   2294.8,2,  9.3719
     316N142_3,  AR15,   114,  1,     37,     37,2,19940510,0207,-18.7603, -20.0478, 4624,    508.3,   7.4746,  34.5981,2,  34.5980,2,    150.4,2,    151.7,2,    18.02,2,    29.45,2,     0.00,2,     1.96,2,    0.700,2,    0.373,2,    0.925,2,   2184.3,2,   2291.6,2,  7.4244
     316N142_3,  AR15,   114,  1,     29,     29,2,19940510,0207,-18.7603, -20.0478, 4624,    618.4,   5.7609,  34.4736,2,  34.4733,2,    160.9,2,    162.1,2,    24.51,2,    32.52,2,     0.00,2,     2.15,2,    0.362,2,    0.189,2,    0.882,2,   2197.3,2,   2294.5,2,  5.7075
     316N142_3,  AR15,   114,  1,     28,     28,2,19940510,0207,-18.7603, -20.0478, 4624,    729.2,   4.6137,  34.4207,2,  34.4196,2,    170.8,2,    174.2,2,    31.14,2,    33.53,2,     0.00,2,     2.24,2,    0.148,2,    0.092,2,    0.751,2,   2202.3,2,   2297.2,2,  4.5566
     316N142_3,  AR15,   114,  1,     27,     27,2,19940510,0207,-18.7603, -20.0478, 4624,    849.3,   3.9414,  34.4330,2,  34.4323,2,    175.4,2,    181.6,2,    37.29,2,    33.55,2,     0.00,2,     2.26,2, -999.000,9, -999.000,9, -999.000,9,   2208.3,2,   2302.9,2,  3.8786
     316N142_3,  AR15,   114,  1,     26,     26,2,19940510,0207,-18.7603, -20.0478, 4624,    989.7,   3.7219,  34.5194,2,  34.5182,2,    178.4,2,    180.3,2,    39.62,2,    33.00,2,     0.00,2,     2.24,2,    0.076,4,    0.024,2,    0.426,2,   2212.3,2,   2308.4,2,  3.6492
     316N142_3,  AR15,   114,  1,     25,     25,2,19940510,0207,-18.7603, -20.0478, 4624,   1142.7,   3.7260,  34.6420,2,  34.6413,2,    184.7,2,    185.3,2,    37.48,2,    30.75,2,     0.00,2,     2.10,2,    0.015,4,    0.010,2,    0.053,2,   2206.2,2,   2312.3,2,  3.6405
     316N142_3,  AR15,   114,  1,     24,     24,2,19940510,0207,-18.7603, -20.0478, 4624,   1273.1,   3.7782,  34.7348,2,  34.7355,2,    192.5,2,    193.9,2,    33.74,2,    28.51,2,     0.00,2,     1.96,2, -999.000,9, -999.000,9, -999.000,9,   -999.0,9,   -999.0,9,  3.6809
     316N142_3,  AR15,   114,  1,     23,     23,2,19940510,0207,-18.7603, -20.0478, 4624,   1395.0,   3.7373,  34.8068,2,  34.8070,2,    206.1,2,    205.4,2,    31.25,2,    26.27,2,     0.00,2,     1.81,2, -999.000,9,    0.015,2, -999.000,9,   2191.5,2,   2314.9,2,  3.6298
     316N142_3,  AR15,   114,  1,     22,     22,2,19940510,0207,-18.7603, -20.0478, 4624,   1535.6,   3.6210,  34.8520,2,  34.8518,2,    217.1,2,    216.8,2,    29.99,2,    24.53,2,     0.00,2,     1.71,2, -999.000,9, -999.000,9, -999.000,9,   -999.0,9,   -999.0,9,  3.5022
     316N142_3,  AR15,   114,  1,     21,     21,2,19940510,0207,-18.7603, -20.0478, 4624,   1668.1,   3.4721,  34.8814,2,  34.8806,2,    228.0,2,    226.4,2,    29.72,2,    23.35,2,     0.00,2,     1.62,2, -999.000,9,    0.005,2,    0.011,2,   2181.3,2,   2318.7,2,  3.3432
     316N142_3,  AR15,   114,  1,     20,     20,2,19940510,0207,-18.7603, -20.0478, 4624,   1809.2,   3.2969,  34.8989,2,  34.8987,2,    235.8,2,    234.1,2,    30.19,2,    22.29,2,     0.00,2,     1.56,2, -999.000,9,    0.014,6,    0.203,6,   -999.0,9,   -999.0,9,  3.1575
     316N142_3,  AR15,   114,  1,     19,     19,2,19940510,0207,-18.7603, -20.0478, 4624,   1951.3,   3.1656,  34.9055,2,  34.9060,2,    239.2,2,    238.1,2,    31.52,2,    21.92,2,     0.00,2,     1.52,2, -999.000,9, -999.000,9, -999.000,9,   2176.5,2,   2323.2,2,  3.0152
     316N142_3,  AR15,   114,  1,     40,     40,2,19940510,0207,-18.7603, -20.0478, 4624,   2080.8,   3.0766,  34.9085,2,  34.9105,2,    241.7,2,    240.6,2,    32.47,2,    21.68,2,     0.00,2,     1.51,2, -999.000,9,    0.011,2,    0.280,2,   -999.0,9,   -999.0,9,  2.9155
     316N142_3,  AR15,   114,  1,     17,     17,2,19940510,0207,-18.7603, -20.0478, 4624,   2222.3,   2.9903,  34.9137,2,  34.9145,2,    243.1,2,    245.2,2,    32.82,2,    21.31,2,     0.00,2,     1.49,2, -999.000,9, -999.000,9, -999.000,9,   2178.5,2,   2326.5,2,  2.8174
     316N142_3,  AR15,   114,  1,     16,     16,2,19940510,0207,-18.7603, -20.0478, 4624,   2372.6,   2.9434,  34.9195,2,  34.9198,2,    247.6,2,    246.9,2,    32.42,2,    20.88,2,     0.00,2,     1.46,2, -999.000,9,    0.011,2, -999.000,9,   -999.0,9,   -999.0,9,  2.7570
     316N142_3,  AR15,   114,  1,     15,     15,2,19940510,0207,-18.7603, -20.0478, 4624,   2478.5,   2.8600,  34.9081,2,  34.9088,2,    244.6,2,    244.3,2,    35.84,2,    21.64,2,     0.00,2,     1.50,2, -999.000,9,    0.009,2,    0.126,2,   2181.6,2,   2328.9,2,  2.6648
     316N142_3,  AR15,   114,  1,     14,     14,2,19940510,0207,-18.7603, -20.0478, 4624,   2611.2,   2.8713,  34.9217,2,  34.9215,2,    249.4,2,    249.6,2,    32.37,2,    20.71,2,     0.00,2,     1.44,2, -999.000,9,    0.011,2,    0.079,2,   -999.0,9,   -999.0,9,  2.6629
     316N142_3,  AR15,   114,  1,     13,     13,2,19940510,0207,-18.7603, -20.0478, 4624,   2721.8,   2.7847,  34.9101,2,  34.9101,2,    245.7,2,    246.0,2,    36.28,2,    21.41,2,     0.00,2,     1.48,2, -999.000,9, -999.000,9, -999.000,9,   2179.9,2,   2333.3,2,  2.5671
     316N142_3,  AR15,   114,  1,     12,     12,2,19940510,0207,-18.7603, -20.0478, 4624,   2833.1,   2.7167,  34.9034,2,  34.9043,2,    245.2,2,    244.6,2,    38.85,2,    21.67,2,     0.00,2,     1.51,2, -999.000,9, -999.000,9, -999.000,9,   -999.0,9,   -999.0,9,  2.4892
     316N142_3,  AR15,   114,  1,     11,     11,2,19940510,0207,-18.7603, -20.0478, 4624,   3036.6,   2.6935,  34.9100,2,  34.9113,2,    249.0,2,    248.8,2,    36.48,2,    20.92,2,     0.00,2,     1.46,2, -999.000,9,    0.014,2,    0.192,2,   2178.9,2,   2330.3,2,  2.4457
     316N142_3,  AR15,   114,  1,     10,     10,2,19940510,0207,-18.7603, -20.0478, 4624,   3241.8,   2.6216,  34.9069,2,  34.9066,2,    250.4,2,    250.4,2,    37.19,2,    20.74,2,     0.00,2,     1.47,2, -999.000,9, -999.000,9, -999.000,9,   -999.0,9,   -999.0,9,  2.3540
     316N142_3,  AR15,   114,  1,      9,      9,2,19940510,0207,-18.7603, -20.0478, 4624,   3443.3,   2.4989,  34.8948,2,  34.8951,2,    248.4,2,    249.1,2,    41.11,2,    21.32,2,     0.00,2,     1.50,2, -999.000,9,    0.012,2,    0.045,2,   2184.3,2,   2333.6,2,  2.2127
     316N142_3,  AR15,   114,  1,      8,      8,2,19940510,0207,-18.7603, -20.0478, 4624,   3648.9,   2.2935,  34.8756,2,  34.8750,2,    245.4,2,    247.0,2,    48.14,2,    22.33,2,     0.00,2,     1.56,2, -999.000,9, -999.000,9, -999.000,9,   -999.0,9,   -999.0,9,  1.9903
     316N142_3,  AR15,   114,  1,      7,      7,2,19940510,0207,-18.7603, -20.0478, 4624,   3851.7,   1.9585,  34.8391,2,  34.8393,2,    241.0,2,    240.7,2,    62.00,2,    24.48,2,     0.00,2,     1.70,2, -999.000,9, -999.000,9, -999.000,9,   2204.8,2,   2344.0,2,  1.6422
     316N142_3,  AR15,   114,  1,      6,      6,2,19940510,0207,-18.7603, -20.0478, 4624,   4058.4,   1.6504,  34.8088,2,  34.8095,2,    236.9,2,    237.1,2,    73.27,2,    26.07,2,     0.00,2,     1.81,2, -999.000,9, -999.000,9, -999.000,9,   -999.0,9,   -999.0,9,  1.3200
     316N142_3,  AR15,   114,  1,      5,      5,2,19940510,0207,-18.7603, -20.0478, 4624,   4265.0,   1.3454,  34.7787,2,  34.7798,2,    233.6,2,    233.5,2,    84.05,2,    27.65,2,     0.00,2,     1.91,2, -999.000,9,    0.003,2, -999.000,9,   2227.2,2,   2353.9,2,  1.0011
     316N142_3,  AR15,   114,  1,      4,      4,2,19940510,0207,-18.7603, -20.0478, 4624,   4469.1,   1.2080,  34.7634,2,  34.7633,2,    231.3,2,    231.3,2,    90.41,2,    28.67,2,     0.00,2,     1.97,2, -999.000,9, -999.000,9, -999.000,9,   -999.0,9,   -999.0,9,  0.8450
     316N142_3,  AR15,   114,  1,      3,      3,2,19940510,0207,-18.7603, -20.0478, 4624,   4673.9,   1.0500,  34.7463,2,  34.7457,2,    229.0,2,    229.1,2,    97.08,2,    29.69,2,     0.00,2,     2.03,2, -999.000,9,    0.011,2,    0.108,2,   2239.8,2,   2358.8,2,  0.6688
     316N142_3,  AR15,   114,  1,      2,      2,2,19940510,0207,-18.7603, -20.0478, 4624,   4820.0,   0.9617,  34.7358,2,  34.7363,2,    228.2,2,    227.8,2,   101.69,2,    30.40,2,     0.00,2,     2.07,2, -999.000,9,    0.008,2,    0.266,2,   -999.0,9,   -999.0,9,  0.5665
     316N142_3,  AR15,   114,  1,      1,      1,2,19940510,0207,-18.7603, -20.0478, 4624,   4821.3,   0.9614,  34.7359,2,  34.7361,2,    227.9,2,    227.8,2,   101.91,2,    30.47,2,     0.00,2,     2.07,2, -999.000,9, -999.000,9, -999.000,9,   2241.1,2,   2358.7,2,  0.5661