BOTTLE,20020814WHPSIOKJU
EXPOCODE,SECT_ID,STNNBR,CASTNO,SAMPNO,BTLNBR,BTLNBR_FLAG_W,DATE,TIME,LATITUDE,LONGITUDE,DEPTH,CTDPRS,CTDTMP,CTDSAL,CTDSAL_FLAG_W,SALNTY,SALNTY_FLAG_W,CTDOXY,CTDOXY_FLAG_W,OXYGEN,OXYGEN_FLAG_W,SILCAT,SILCAT_FLAG_W,NITRAT,NITRAT_FLAG_W,NITRIT,NITRIT_FLAG_W,PHSPHT,PHSPHT_FLAG_W,CFC-11,CFC-11_FLAG_W,CFC-12,CFC-12_FLAG_W,CCL4,CCL4_FLAG_W,TCARBN,TCARBN_FLAG_W,ALKALI,ALKALI_FLAG_W,THETA
,,,,,,,,,,,,DBAR,ITS-90,PSS-78,,PSS-78,,UMOL/KG,,UMOL/KG,,UMOL/KG,,UMOL/KG,,UMOL/KG,,UMOL/KG,,PMOL/KG,,PMOL/KG,,PMOL/KG,,UMOL/KG,,UMOL/KG,,DEG C
     316N142_3,   A15,    81,  1,     39,     39,2,19940428,1517,-18.2083, -19.0018, 4054,      5.4,  26.3538,  37.0429,2,  37.0429,2,    203.1,2,    204.4,2,     1.70,2,     0.15,2,     0.00,2,     0.22,2, -999.000,9, -999.000,9, -999.000,9,   -999.0,9,   -999.0,9, 26.3526
     316N142_3,   A15,    81,  1,     35,     35,2,19940428,1517,-18.2083, -19.0018, 4054,     59.6,  24.5811,  36.7616,2,  36.7589,2,    214.1,2,    221.3,2,     1.69,2,     0.15,2,     0.00,2,     0.22,2, -999.000,9, -999.000,9, -999.000,9,   -999.0,9,   -999.0,9, 24.5682
     316N142_3,   A15,    81,  1,     38,     38,2,19940428,1517,-18.2083, -19.0018, 4054,     85.3,  21.9572,  36.4370,2,  36.4424,2,    226.7,2,    223.1,2,     1.67,2,     0.15,2,     0.00,2,     0.24,2, -999.000,9, -999.000,9, -999.000,9,   -999.0,9,   -999.0,9, 21.9403
     316N142_3,   A15,    81,  1,     33,     33,2,19940428,1517,-18.2083, -19.0018, 4054,    165.6,  18.4893,  35.9519,2,  35.9459,2,    210.2,2,    206.5,2,     2.36,2,     1.83,2,     0.11,2,     0.44,2, -999.000,9, -999.000,9, -999.000,9,   -999.0,9,   -999.0,9, 18.4602
     316N142_3,   A15,    81,  1,     41,     41,2,19940428,1517,-18.2083, -19.0018, 4054,    246.1,  14.4660,  35.3658,2,  35.3636,2,    187.5,2,    184.6,2,     4.62,2,     9.93,2,     0.00,2,     0.84,2, -999.000,9, -999.000,9, -999.000,9,   -999.0,9,   -999.0,9, 14.4295
     316N142_3,   A15,    81,  1,     31,     31,2,19940428,1517,-18.2083, -19.0018, 4054,    325.9,  11.7349,  35.0180,2,  35.0143,2,    167.1,2,    166.3,2,     7.73,2,    17.28,2,     0.00,2,     1.25,2, -999.000,9, -999.000,9, -999.000,9,   -999.0,9,   -999.0,9, 11.6927
     316N142_3,   A15,    81,  1,     37,     37,2,19940428,1517,-18.2083, -19.0018, 4054,    406.6,   9.6297,  34.7919,2,  34.7929,2,    157.3,2,    154.4,2,    11.84,2,    23.10,2,     0.00,2,     1.61,2, -999.000,9, -999.000,9, -999.000,9,   -999.0,9,   -999.0,9,  9.5833
     316N142_3,   A15,    81,  1,     29,     29,2,19940428,1517,-18.2083, -19.0018, 4054,    486.8,   7.8648,  34.6441,2,  34.6418,2,    143.3,2,    142.6,2,    17.23,2,    28.46,2,     0.00,2,     1.94,2, -999.000,9, -999.000,9, -999.000,9,   -999.0,9,   -999.0,9,  7.8154
     316N142_3,   A15,    81,  1,     28,     28,2,19940428,1517,-18.2083, -19.0018, 4054,    567.1,   5.9982,  34.5000,2,  34.4984,2,    151.3,2,    151.7,2,    23.64,2,    31.77,2,     0.00,2,     2.16,2, -999.000,9, -999.000,9, -999.000,9,   -999.0,9,   -999.0,9,  5.9484
     316N142_3,   A15,    81,  1,     27,     27,2,19940428,1517,-18.2083, -19.0018, 4054,    637.0,   5.0858,  34.4475,2,  34.4461,2,    159.8,2,    162.9,2,    28.21,2,    32.55,2,     0.00,2,     2.23,2, -999.000,9, -999.000,9, -999.000,9,   -999.0,9,   -999.0,9,  5.0341
     316N142_3,   A15,    81,  1,     26,     26,2,19940428,1517,-18.2083, -19.0018, 4054,    707.2,   4.5955,  34.4330,2,  34.4325,2,    168.2,2,    169.1,2,    31.35,2,    32.76,2,     0.00,2,     2.26,2, -999.000,9, -999.000,9, -999.000,9,   -999.0,9,   -999.0,9,  4.5403
     316N142_3,   A15,    81,  1,     25,     25,2,19940428,1517,-18.2083, -19.0018, 4054,    777.6,   4.1899,  34.4393,2,  34.4368,2,    172.6,2,    173.8,2,    34.78,2,    32.88,2,     0.00,2,     2.27,2, -999.000,9, -999.000,9, -999.000,9,   -999.0,9,   -999.0,9,  4.1313
     316N142_3,   A15,    81,  1,     24,     24,2,19940428,1517,-18.2083, -19.0018, 4054,    888.3,   3.7789,  34.5007,2,  34.4982,2,    176.8,2,    179.4,2,    39.23,2,    32.41,2,     0.00,2,     2.25,2, -999.000,9, -999.000,9, -999.000,9,   -999.0,9,   -999.0,9,  3.7140
     316N142_3,   A15,    81,  1,     23,     23,2,19940428,1517,-18.2083, -19.0018, 4054,   1008.2,   3.7040,  34.6063,2,  34.6039,2,    183.2,2,    183.4,2,    39.08,2,    30.99,2,     0.00,2,     2.15,2, -999.000,9, -999.000,9, -999.000,9,   -999.0,9,   -999.0,9,  3.6298
     316N142_3,   A15,    81,  1,     22,     22,2,19940428,1517,-18.2083, -19.0018, 4054,   1098.5,   3.7442,  34.7011,2,  34.6996,2,    189.7,2,    190.9,2,    36.49,2,    29.10,2,     0.00,2,     2.02,2, -999.000,9, -999.000,9, -999.000,9,   -999.0,9,   -999.0,9,  3.6621
     316N142_3,   A15,    81,  1,     21,     21,2,19940428,1517,-18.2083, -19.0018, 4054,   1183.8,   4.0586,  34.8361,2,  34.8360,2,    199.9,2,    203.6,2,    28.15,2,    25.78,2,     0.00,2,     1.79,2, -999.000,9, -999.000,9, -999.000,9,   -999.0,9,   -999.0,9,  3.9662
     316N142_3,   A15,    81,  1,     20,     20,2,19940428,1517,-18.2083, -19.0018, 4054,   1259.5,   4.2304,  34.8981,2,  34.8984,2,    209.6,2,    211.8,2,    22.85,2,    23.94,2,     0.00,2,     1.67,2, -999.000,9, -999.000,9, -999.000,9,   -999.0,9,   -999.0,9,  4.1296
     316N142_3,   A15,    81,  1,     19,     19,2,19940428,1517,-18.2083, -19.0018, 4054,   1359.5,   4.1757,  34.9469,2,  34.9470,2,    226.5,2,    227.5,2,    20.12,2,    21.77,2,     0.00,2,     1.52,2, -999.000,9, -999.000,9, -999.000,9,   -999.0,9,   -999.0,9,  4.0664
     316N142_3,   A15,    81,  1,     40,     40,2,19940428,1517,-18.2083, -19.0018, 4054,   1510.9,   3.9965,  34.9697,2,  34.9701,2,    240.5,2,    240.4,2,    18.82,2,    20.22,2,     0.00,2,     1.41,2, -999.000,9, -999.000,9, -999.000,9,   -999.0,9,   -999.0,9,  3.8753
     316N142_3,   A15,    81,  1,     17,     17,2,19940428,1517,-18.2083, -19.0018, 4054,   1662.3,   3.8399,  34.9757,2,  34.9760,2,    247.0,2,    248.3,2,    18.52,2,    19.42,2,     0.00,2,     1.35,2, -999.000,9, -999.000,9, -999.000,9,   -999.0,9,   -999.0,9,  3.7067
     316N142_3,   A15,    81,  1,     16,     16,2,19940428,1517,-18.2083, -19.0018, 4054,   1813.2,   3.7377,  34.9762,2,  34.9766,2,    252.4,2,    251.6,2,    18.66,2,    19.05,2,     0.00,2,     1.34,2, -999.000,9, -999.000,9, -999.000,9,   -999.0,9,   -999.0,9,  3.5918
     316N142_3,   A15,    81,  1,     15,     15,2,19940428,1517,-18.2083, -19.0018, 4054,   1962.9,   3.6876,  34.9750,2,  34.9752,2,    253.3,2,    252.9,2,    18.65,2,    18.97,2,     0.00,2,     1.33,2, -999.000,9, -999.000,9, -999.000,9,   -999.0,9,   -999.0,9,  3.5283
     316N142_3,   A15,    81,  1,     14,     14,2,19940428,1517,-18.2083, -19.0018, 4054,   2112.0,   3.6259,  34.9729,2,  34.9734,2,    254.3,2,    254.0,2,    19.35,2,    18.93,2,     0.00,2,     1.32,2, -999.000,9, -999.000,9, -999.000,9,   -999.0,9,   -999.0,9,  3.4531
     316N142_3,   A15,    81,  1,     13,     13,2,19940428,1517,-18.2083, -19.0018, 4054,   2263.1,   3.5747,  34.9696,2,  34.9701,2,    255.4,2,    254.3,2,    19.91,2,    18.99,2,     0.00,2,     1.32,2, -999.000,9, -999.000,9, -999.000,9,   -999.0,9,   -999.0,9,  3.3880
     316N142_3,   A15,    81,  1,     12,     12,2,19940428,1517,-18.2083, -19.0018, 4054,   2468.2,   3.3830,  34.9563,2,  34.9575,2,    254.0,2,    253.5,2,    22.63,2,    19.34,2,     0.00,2,     1.35,2, -999.000,9, -999.000,9, -999.000,9,   -999.0,9,   -999.0,9,  3.1792
     316N142_3,   A15,    81,  1,     11,     11,2,19940428,1517,-18.2083, -19.0018, 4054,   2676.1,   3.2259,  34.9459,2,  34.9477,2,    253.3,2,    252.9,2,    25.20,2,    19.59,2,     0.00,2,     1.36,2, -999.000,9, -999.000,9, -999.000,9,   -999.0,9,   -999.0,9,  3.0040
     316N142_3,   A15,    81,  1,     10,     10,2,19940428,1517,-18.2083, -19.0018, 4054,   2830.0,   3.0769,  34.9336,2,  34.9339,2,    251.5,2,    250.8,2,    28.50,2,    20.07,2,     0.00,2,     1.40,2, -999.000,9, -999.000,9, -999.000,9,   -999.0,9,   -999.0,9,  2.8422
     316N142_3,   A15,    81,  1,      9,      9,2,19940428,1517,-18.2083, -19.0018, 4054,   2983.5,   2.9650,  34.9232,2,  34.9237,2,    249.6,2,    249.5,2,    31.37,2,    20.47,2,     0.00,2,     1.43,2, -999.000,9, -999.000,9, -999.000,9,   -999.0,9,   -999.0,9,  2.7168
     316N142_3,   A15,    81,  1,      8,      8,2,19940428,1517,-18.2083, -19.0018, 4054,   3138.1,   2.8122,  34.9080,2,  34.9070,2,    245.3,2,    245.4,2,    36.56,2,    21.34,2,     0.00,2,     1.49,2, -999.000,9, -999.000,9, -999.000,9,   -999.0,9,   -999.0,9,  2.5512
     316N142_3,   A15,    81,  1,      7,      7,2,19940428,1517,-18.2083, -19.0018, 4054,   3322.6,   2.7142,  34.9128,2,  34.9123,2,    250.5,2,    251.0,2,    35.11,2,    20.63,2,     0.00,2,     1.44,2, -999.000,9, -999.000,9, -999.000,9,   -999.0,9,   -999.0,9,  2.4357
     316N142_3,   A15,    81,  1,      6,      6,2,19940428,1517,-18.2083, -19.0018, 4054,   3496.7,   2.6221,  34.9078,2,  34.9073,2,    250.3,2,    251.9,2,    36.55,2,    20.65,2,     0.00,2,     1.45,2, -999.000,9, -999.000,9, -999.000,9,   -999.0,9,   -999.0,9,  2.3271
     316N142_3,   A15,    81,  1,      5,      5,2,19940428,1517,-18.2083, -19.0018, 4054,   3648.8,   2.4733,  34.8926,2,  34.8916,2,    249.2,2,    249.8,2,    42.33,2,    21.47,2,     0.00,2,     1.50,2, -999.000,9, -999.000,9, -999.000,9,   -999.0,9,   -999.0,9,  2.1654
     316N142_3,   A15,    81,  1,      4,      4,2,19940428,1517,-18.2083, -19.0018, 4054,   3790.7,   2.2694,  34.8685,2,  34.8684,2,    244.3,2,    244.9,2,    51.49,2,    22.92,2,     0.00,2,     1.59,2, -999.000,9, -999.000,9, -999.000,9,   -999.0,9,   -999.0,9,  1.9513
     316N142_3,   A15,    81,  1,      3,      3,2,19940428,1517,-18.2083, -19.0018, 4054,   3923.7,   2.0291,  34.8461,2,  34.8443,2,    242.3,2,    242.0,2,    60.56,2,    24.08,2,     0.00,2,     1.67,2, -999.000,9, -999.000,9, -999.000,9,   -999.0,9,   -999.0,9,  1.7028
     316N142_3,   A15,    81,  1,      2,      2,2,19940428,1517,-18.2083, -19.0018, 4054,   4056.5,   1.8702,  34.8280,2,  34.8284,2,    238.9,2,    239.2,2,    67.49,2,    25.10,2,     0.00,2,     1.74,2, -999.000,9, -999.000,9, -999.000,9,   -999.0,9,   -999.0,9,  1.5336
     316N142_3,   A15,    81,  1,      1,      1,2,19940428,1517,-18.2083, -19.0018, 4054,   4192.1,   1.5403,  34.7957,2,  34.7971,2,    236.2,2,    235.6,2,    79.07,2,    26.60,2,     0.00,2,     1.85,2, -999.000,9, -999.000,9, -999.000,9,   -999.0,9,   -999.0,9,  1.1983