BOTTLE,20020814WHPSIOKJU
EXPOCODE,SECT_ID,STNNBR,CASTNO,SAMPNO,BTLNBR,BTLNBR_FLAG_W,DATE,TIME,LATITUDE,LONGITUDE,DEPTH,CTDPRS,CTDTMP,CTDSAL,CTDSAL_FLAG_W,SALNTY,SALNTY_FLAG_W,CTDOXY,CTDOXY_FLAG_W,OXYGEN,OXYGEN_FLAG_W,SILCAT,SILCAT_FLAG_W,NITRAT,NITRAT_FLAG_W,NITRIT,NITRIT_FLAG_W,PHSPHT,PHSPHT_FLAG_W,CFC-11,CFC-11_FLAG_W,CFC-12,CFC-12_FLAG_W,CCL4,CCL4_FLAG_W,TCARBN,TCARBN_FLAG_W,ALKALI,ALKALI_FLAG_W,THETA
,,,,,,,,,,,,DBAR,ITS-90,PSS-78,,PSS-78,,UMOL/KG,,UMOL/KG,,UMOL/KG,,UMOL/KG,,UMOL/KG,,UMOL/KG,,PMOL/KG,,PMOL/KG,,PMOL/KG,,UMOL/KG,,UMOL/KG,,DEG C
     316N142_3,  AR15,    26,  1,     39,     39,2,19940413,0356,  6.1848, -22.7773, 3883,   3793.3,   2.4016,  34.8939,2,  34.8945,2,    243.5,2,    244.5,2,    44.44,2,    21.48,2,     0.01,2,     1.42,2, -999.000,9, -999.000,9, -999.000,9,   -999.0,9,   -999.0,9,  2.0795
     316N142_3,  AR15,    26,  1,     35,     35,2,19940413,0356,  6.1848, -22.7773, 3883,   3793.5,   2.4017,  34.8938,2,  34.8934,2,    243.5,2,    244.6,2,    44.78,2,    21.43,2,     0.01,2,     1.42,2, -999.000,9, -999.000,9, -999.000,9,   -999.0,9,   -999.0,9,  2.0796
     316N142_3,  AR15,    26,  1,     38,     38,2,19940413,0356,  6.1848, -22.7773, 3883,   3793.8,   2.4017,  34.8937,2,  34.8943,2,    243.5,2,    244.7,2,    44.88,2,    21.52,2,     0.01,2,     1.42,2, -999.000,9, -999.000,9, -999.000,9,   -999.0,9,   -999.0,9,  2.0796
     316N142_3,  AR15,    26,  1,     33,     33,2,19940413,0356,  6.1848, -22.7773, 3883,   3793.8,   2.4017,  34.8937,2,  34.8951,2,    243.5,2,    244.3,2,    44.86,2,    21.46,2,     0.01,2,     1.43,2, -999.000,9, -999.000,9, -999.000,9,   -999.0,9,   -999.0,9,  2.0796
     316N142_3,  AR15,    26,  1,     41,     41,2,19940413,0356,  6.1848, -22.7773, 3883,   3794.0,   2.4018,  34.8939,2,  34.8989,4,    243.5,2,    244.6,2,    44.96,2,    21.51,2,     0.00,2,     1.42,2, -999.000,9, -999.000,9, -999.000,9,   -999.0,9,   -999.0,9,  2.0796
     316N142_3,  AR15,    26,  1,     37,     37,2,19940413,0356,  6.1848, -22.7773, 3883,   3794.1,   2.4018,  34.8938,2,  34.8953,2,    243.5,2,    244.2,2,    44.67,2,    21.50,2,     0.00,2,     1.44,2, -999.000,9, -999.000,9, -999.000,9,   -999.0,9,   -999.0,9,  2.0796
     316N142_3,  AR15,    26,  1,     28,     28,2,19940413,0356,  6.1848, -22.7773, 3883,   3794.1,   2.4018,  34.8938,2,  34.8940,2,    243.5,2,    244.4,2,    44.26,2,    21.49,2,     0.00,2,     1.44,2, -999.000,9, -999.000,9, -999.000,9,   -999.0,9,   -999.0,9,  2.0796
     316N142_3,  AR15,    26,  1,     26,     26,2,19940413,0356,  6.1848, -22.7773, 3883,   3794.1,   2.4018,  34.8938,2,  34.8943,2,    243.5,2,    244.6,2,    44.21,2,    21.47,2,     0.00,2,     1.43,2, -999.000,9, -999.000,9, -999.000,9,   -999.0,9,   -999.0,9,  2.0796
     316N142_3,  AR15,    26,  1,     31,     31,2,19940413,0356,  6.1848, -22.7773, 3883,   3794.2,   2.4019,  34.8941,2,  34.8940,2,    243.5,2,    244.4,2,    44.81,2,    21.51,2,     0.00,2,     1.43,2, -999.000,9, -999.000,9, -999.000,9,   -999.0,9,   -999.0,9,  2.0797
     316N142_3,  AR15,    26,  1,     21,     21,2,19940413,0356,  6.1848, -22.7773, 3883,   3794.2,   2.4018,  34.8942,2,  34.8928,2,    243.5,2,    244.6,2,    44.58,2,    21.48,2,     0.00,2,     1.43,2, -999.000,9, -999.000,9, -999.000,9,   -999.0,9,   -999.0,9,  2.0796
     316N142_3,  AR15,    26,  1,     29,     29,2,19940413,0356,  6.1848, -22.7773, 3883,   3794.3,   2.4020,  34.8939,2,  34.8940,2,    243.5,2,    244.5,2,    44.52,2,    21.49,2,     0.00,2,     1.42,2, -999.000,9, -999.000,9, -999.000,9,   -999.0,9,   -999.0,9,  2.0798
     316N142_3,  AR15,    26,  1,     27,     27,2,19940413,0356,  6.1848, -22.7773, 3883,   3794.3,   2.4018,  34.8942,2,  34.8937,2,    243.5,2,    244.5,2,    44.11,2,    21.48,2,     0.00,2,     1.43,2, -999.000,9, -999.000,9, -999.000,9,   -999.0,9,   -999.0,9,  2.0796
     316N142_3,  AR15,    26,  1,     24,     24,2,19940413,0356,  6.1848, -22.7773, 3883,   3794.3,   2.4019,  34.8937,2,  34.8934,2,    243.5,2,    244.4,2,    44.16,2,    21.50,2,     0.00,2,     1.43,2, -999.000,9, -999.000,9, -999.000,9,   -999.0,9,   -999.0,9,  2.0797
     316N142_3,  AR15,    26,  1,      1,      1,2,19940413,0356,  6.1848, -22.7773, 3883,   3794.5,   2.3990,  34.8935,2,  34.8924,2,    243.5,2,    244.7,2,    44.49,2,    21.48,2,     0.00,2,     1.46,2, -999.000,9, -999.000,9, -999.000,9,   -999.0,9,   -999.0,9,  2.0769
     316N142_3,  AR15,    26,  1,     25,     25,2,19940413,0356,  6.1848, -22.7773, 3883,   3794.5,   2.4018,  34.8942,2,  34.8947,2,    243.5,2,    244.6,2,    44.07,2,    21.42,2,     0.00,2,     1.43,2, -999.000,9, -999.000,9, -999.000,9,   -999.0,9,   -999.0,9,  2.0796
     316N142_3,  AR15,    26,  1,     15,     15,2,19940413,0356,  6.1848, -22.7773, 3883,   3794.6,   2.4018,  34.8941,2,  34.8926,2,    243.5,2,    244.4,2,    44.44,2,    21.54,2,     0.00,2,     1.44,2, -999.000,9, -999.000,9, -999.000,9,   -999.0,9,   -999.0,9,  2.0796
     316N142_3,  AR15,    26,  1,     19,     19,2,19940413,0356,  6.1848, -22.7773, 3883,   3794.6,   2.4018,  34.8941,2,  34.8932,2,    243.5,2,    244.5,2,    44.90,2,    21.52,2,     0.00,2,     1.43,2, -999.000,9, -999.000,9, -999.000,9,   -999.0,9,   -999.0,9,  2.0796
     316N142_3,  AR15,    26,  1,     40,     40,2,19940413,0356,  6.1848, -22.7773, 3883,   3794.6,   2.4017,  34.8942,2,  34.8949,2,    243.5,2,    244.5,2,    45.00,2,    21.51,2,     0.00,2,     1.44,2, -999.000,9, -999.000,9, -999.000,9,   -999.0,9,   -999.0,9,  2.0795
     316N142_3,  AR15,    26,  1,     20,     20,2,19940413,0356,  6.1848, -22.7773, 3883,   3794.6,   2.4018,  34.8941,2,  34.8922,2,    243.5,2,    244.4,2,    44.68,2,    21.48,2,     0.00,2,     1.43,2, -999.000,9, -999.000,9, -999.000,9,   -999.0,9,   -999.0,9,  2.0796
     316N142_3,  AR15,    26,  1,      4,      4,2,19940413,0356,  6.1848, -22.7773, 3883,   3794.6,   2.3988,  34.8937,2,  34.8937,2,    243.5,2,    244.7,2,    44.44,2,    21.41,2,     0.00,2,     1.46,2, -999.000,9, -999.000,9, -999.000,9,   -999.0,9,   -999.0,9,  2.0767
     316N142_3,  AR15,    26,  1,      2,      2,2,19940413,0356,  6.1848, -22.7773, 3883,   3794.7,   2.3991,  34.8934,2,  34.8918,2,    243.5,2,    244.7,2,    44.51,2,    21.44,2,     0.00,2,     1.46,2, -999.000,9, -999.000,9, -999.000,9,   -999.0,9,   -999.0,9,  2.0769
     316N142_3,  AR15,    26,  1,     22,     22,2,19940413,0356,  6.1848, -22.7773, 3883,   3794.7,   2.4019,  34.8940,2,  34.8943,2,    243.5,2,    244.4,2,    44.36,2,    21.49,2,     0.00,2,     1.43,2, -999.000,9, -999.000,9, -999.000,9,   -999.0,9,   -999.0,9,  2.0797
     316N142_3,  AR15,    26,  1,      9,      9,2,19940413,0356,  6.1848, -22.7773, 3883,   3794.7,   2.4010,  34.8937,2,  34.8943,2,    243.5,2,    244.8,2,    43.94,2,    21.45,2,     0.00,2,     1.45,2, -999.000,9, -999.000,9, -999.000,9,   -999.0,9,   -999.0,9,  2.0788
     316N142_3,  AR15,    26,  1,     17,     17,2,19940413,0356,  6.1848, -22.7773, 3883,   3794.8,   2.4019,  34.8939,2,  34.8936,2,    243.5,2,    244.4,2,    44.49,2,    21.50,2,     0.00,2,     1.43,2, -999.000,9, -999.000,9, -999.000,9,   -999.0,9,   -999.0,9,  2.0797
     316N142_3,  AR15,    26,  1,     14,     14,2,19940413,0356,  6.1848, -22.7773, 3883,   3794.9,   2.4020,  34.8938,2,  34.8941,2,    243.5,2,    244.4,2,    44.30,2,    21.53,2,     0.00,2,     1.44,2, -999.000,9, -999.000,9, -999.000,9,   -999.0,9,   -999.0,9,  2.0797
     316N142_3,  AR15,    26,  1,     16,     16,2,19940413,0356,  6.1848, -22.7773, 3883,   3795.0,   2.4018,  34.8939,2,  34.8949,2,    243.5,2,    244.7,2,    44.71,2,    21.49,2,     0.00,2,     1.45,2, -999.000,9, -999.000,9, -999.000,9,   -999.0,9,   -999.0,9,  2.0795
     316N142_3,  AR15,    26,  1,     12,     12,2,19940413,0356,  6.1848, -22.7773, 3883,   3795.0,   2.4016,  34.8938,2,  34.8937,2,    243.5,2,    244.5,2,    44.50,2,    21.51,2,     0.00,2,     2.09,4, -999.000,9, -999.000,9, -999.000,9,   -999.0,9,   -999.0,9,  2.0793
     316N142_3,  AR15,    26,  1,     23,     23,2,19940413,0356,  6.1848, -22.7773, 3883,   3795.0,   2.4018,  34.8939,2,  34.8937,2,    243.5,2,    244.5,2,    44.02,2,    21.45,2,     0.00,2,     1.43,2, -999.000,9, -999.000,9, -999.000,9,   -999.0,9,   -999.0,9,  2.0795
     316N142_3,  AR15,    26,  1,      8,      8,2,19940413,0356,  6.1848, -22.7773, 3883,   3795.0,   2.4010,  34.8938,2,  34.8928,2,    243.5,2,    244.4,2,    43.92,2,    21.44,2,     0.00,2,     1.46,2, -999.000,9, -999.000,9, -999.000,9,   -999.0,9,   -999.0,9,  2.0788
     316N142_3,  AR15,    26,  1,      7,      7,2,19940413,0356,  6.1848, -22.7773, 3883,   3795.1,   2.4007,  34.8939,2,  34.8940,2,    242.2,2,    244.5,2,    43.90,2,    21.48,2,     0.00,2,     1.45,2, -999.000,9, -999.000,9, -999.000,9,   -999.0,9,   -999.0,9,  2.0785
     316N142_3,  AR15,    26,  1,      5,      5,2,19940413,0356,  6.1848, -22.7773, 3883,   3795.2,   2.3992,  34.8937,2,  34.8932,2,    242.2,2,    244.7,2,    44.22,2,    21.51,2,     0.00,2,     1.46,2, -999.000,9, -999.000,9, -999.000,9,   -999.0,9,   -999.0,9,  2.0770
     316N142_3,  AR15,    26,  1,     13,     13,2,19940413,0356,  6.1848, -22.7773, 3883,   3795.2,   2.4018,  34.8939,2,  34.8945,2,    242.2,2,    244.6,2,    44.16,2,    21.38,2,     0.00,2,     1.44,2, -999.000,9, -999.000,9, -999.000,9,   -999.0,9,   -999.0,9,  2.0795
     316N142_3,  AR15,    26,  1,      3,      3,2,19940413,0356,  6.1848, -22.7773, 3883,   3795.2,   2.3993,  34.8940,2,  34.8906,2,    242.2,2,    244.7,2,    44.53,2,    21.45,2,     0.00,2,     1.46,2, -999.000,9, -999.000,9, -999.000,9,   -999.0,9,   -999.0,9,  2.0771
     316N142_3,  AR15,    26,  1,     10,     10,3,19940413,0356,  6.1848, -22.7773, 3883,   3795.4,   2.4011,  34.8940,2,  34.9154,4,    242.2,2,   -999.0,9,    40.45,4,    21.74,4,     0.00,4,     1.64,4, -999.000,9, -999.000,9, -999.000,9,   -999.0,9,   -999.0,9,  2.0788
     316N142_3,  AR15,    26,  1,     11,     11,2,19940413,0356,  6.1848, -22.7773, 3883,   3795.6,   2.4011,  34.8938,2,  34.8940,2,    242.2,2,    244.6,2,    44.11,2,    21.46,2,     0.00,2,     1.46,2, -999.000,9, -999.000,9, -999.000,9,   -999.0,9,   -999.0,9,  2.0788
     316N142_3,  AR15,    26,  1,      6,      6,2,19940413,0356,  6.1848, -22.7773, 3883,   3795.7,   2.4003,  34.8938,2,  34.8955,2,    242.2,2,    244.5,2,    44.12,2,    21.47,2,     0.00,2,     1.46,2, -999.000,9, -999.000,9, -999.000,9,   -999.0,9,   -999.0,9,  2.0780