BOTTLE,20020814WHPSIOKJU
EXPOCODE,SECT_ID,STNNBR,CASTNO,SAMPNO,BTLNBR,BTLNBR_FLAG_W,DATE,TIME,LATITUDE,LONGITUDE,DEPTH,CTDPRS,CTDTMP,CTDSAL,CTDSAL_FLAG_W,SALNTY,SALNTY_FLAG_W,CTDOXY,CTDOXY_FLAG_W,OXYGEN,OXYGEN_FLAG_W,SILCAT,SILCAT_FLAG_W,NITRAT,NITRAT_FLAG_W,NITRIT,NITRIT_FLAG_W,PHSPHT,PHSPHT_FLAG_W,CFC-11,CFC-11_FLAG_W,CFC-12,CFC-12_FLAG_W,CCL4,CCL4_FLAG_W,TCARBN,TCARBN_FLAG_W,ALKALI,ALKALI_FLAG_W,THETA
,,,,,,,,,,,,DBAR,ITS-90,PSS-78,,PSS-78,,UMOL/KG,,UMOL/KG,,UMOL/KG,,UMOL/KG,,UMOL/KG,,UMOL/KG,,PMOL/KG,,PMOL/KG,,PMOL/KG,,UMOL/KG,,UMOL/KG,,DEG C
     316N142_3,  AR15,   125,  1,     39,     39,2,19940513,0325,-17.7653, -25.8853, 5102,     10.9,  26.3368,  37.2912,2,  37.2938,2,    199.8,2,    203.2,2,     1.83,2,     0.05,2,     0.00,2,     0.17,2, -999.000,9, -999.000,9, -999.000,9,   -999.0,9,   -999.0,9, 26.3343
     316N142_3,  AR15,   125,  1,     35,     35,2,19940513,0325,-17.7653, -25.8853, 5102,     95.2,  23.8933,  36.8339,2,  36.8347,2,    222.9,2,    220.3,2,     1.81,2,     0.05,2,     0.00,2,     0.18,2, -999.000,9, -999.000,9, -999.000,9,   -999.0,9,   -999.0,9, 23.8732
     316N142_3,  AR15,   125,  1,     38,     38,2,19940513,0325,-17.7653, -25.8853, 5102,    155.5,  19.9176,  36.2335,2,  36.2376,2,    213.5,2,    208.0,2,     2.10,2,     0.00,2,     0.13,2,     0.28,2, -999.000,9, -999.000,9, -999.000,9,   -999.0,9,   -999.0,9, 19.8888
     316N142_3,  AR15,   125,  1,     33,     33,2,19940513,0325,-17.7653, -25.8853, 5102,    255.9,  14.6439,  35.3928,2,  35.3917,2,    193.4,2,    187.3,2,     4.49,2,     7.61,2,     0.00,2,     0.76,2, -999.000,9, -999.000,9, -999.000,9,   -999.0,9,   -999.0,9, 14.6055
     316N142_3,  AR15,   125,  1,     41,     41,2,19940513,0325,-17.7653, -25.8853, 5102,    356.0,  11.2856,  34.9738,2,  34.9728,2,    161.0,2,    158.8,2,     8.85,2,    18.55,2,     0.00,2,     1.34,2, -999.000,9, -999.000,9, -999.000,9,   -999.0,9,   -999.0,9, 11.2407
     316N142_3,  AR15,   125,  1,     31,     31,2,19940513,0325,-17.7653, -25.8853, 5102,    456.1,   8.9324,  34.7385,2,  34.7403,2,    147.4,2,    144.4,2,    14.26,2,    25.95,2,     0.00,2,     1.75,2, -999.000,9, -999.000,9, -999.000,9,   -999.0,9,   -999.0,9,  8.8825
     316N142_3,  AR15,   125,  1,     37,     37,2,19940513,0325,-17.7653, -25.8853, 5102,    536.9,   6.9332,  34.5618,2,  34.5626,2,    151.4,2,    151.7,2,    19.83,2,    30.13,2,     0.00,2,     2.00,2, -999.000,9, -999.000,9, -999.000,9,   -999.0,9,   -999.0,9,  6.8823
     316N142_3,  AR15,   125,  1,     29,     29,2,19940513,0325,-17.7653, -25.8853, 5102,    627.9,   5.3486,  34.4498,2,  34.4494,2,    163.5,2,    166.9,2,    25.87,2,    32.16,2,     0.00,2,     2.15,2, -999.000,9, -999.000,9, -999.000,9,   -999.0,9,   -999.0,9,  5.2964
     316N142_3,  AR15,   125,  1,     28,     28,2,19940513,0325,-17.7653, -25.8853, 5102,    718.1,   4.5111,  34.4170,2,  34.4163,2,    171.6,2,    176.0,2,    31.16,2,    33.10,2,     0.00,2,     2.21,2, -999.000,9, -999.000,9, -999.000,9,   -999.0,9,   -999.0,9,  4.4556
     316N142_3,  AR15,   125,  1,     27,     27,2,19940513,0325,-17.7653, -25.8853, 5102,    858.9,   3.9048,  34.4467,2,  34.4435,2,    176.6,2,    179.6,2,    37.22,2,    33.45,2,     0.00,2,     2.24,2, -999.000,9, -999.000,9, -999.000,9,   -999.0,9,   -999.0,9,  3.8415
     316N142_3,  AR15,   125,  1,     26,     26,2,19940513,0325,-17.7653, -25.8853, 5102,   1000.2,   3.6988,  34.5292,2,  34.5290,2,    180.4,2,    180.3,2,    39.49,2,    32.76,2,     0.00,2,     2.20,2, -999.000,9, -999.000,9, -999.000,9,   -999.0,9,   -999.0,9,  3.6254
     316N142_3,  AR15,   125,  1,     25,     25,2,19940513,0325,-17.7653, -25.8853, 5102,   1141.5,   3.7741,  34.6383,2,  34.6370,2,    184.7,2,    183.5,2,    36.90,2,    31.03,2,     0.00,2,     2.09,2, -999.000,9, -999.000,9, -999.000,9,   -999.0,9,   -999.0,9,  3.6882
     316N142_3,  AR15,   125,  1,     24,     24,2,19940513,0325,-17.7653, -25.8853, 5102,   1262.5,   3.8570,  34.7269,2,  34.7263,2,    192.1,2,    190.5,2,    33.55,2,    29.03,2,     0.00,2,     1.96,2, -999.000,9, -999.000,9, -999.000,9,   -999.0,9,   -999.0,9,  3.7599
     316N142_3,  AR15,   125,  1,     23,     23,2,19940513,0325,-17.7653, -25.8853, 5102,   1424.4,   3.8208,  34.8330,2,  34.8321,2,    210.8,2,    208.3,2,    29.45,2,    25.73,2,     0.00,2,     1.74,2, -999.000,9, -999.000,9, -999.000,9,   -999.0,9,   -999.0,9,  3.7097
     316N142_3,  AR15,   125,  1,     22,     22,2,19940513,0325,-17.7653, -25.8853, 5102,   1585.7,   3.6046,  34.8893,2,  34.8890,2,    225.9,2,    226.3,2,    27.92,2,    23.07,2,     0.00,2,     1.58,2, -999.000,9, -999.000,9, -999.000,9,   -999.0,9,   -999.0,9,  3.4815
     316N142_3,  AR15,   125,  1,     21,     21,2,19940513,0325,-17.7653, -25.8853, 5102,   1748.2,   3.4137,  34.9141,2,  34.9132,2,    236.1,2,    236.7,2,    27.77,2,    21.65,2,     0.00,2,     1.49,2, -999.000,9, -999.000,9, -999.000,9,   -999.0,9,   -999.0,9,  3.2783
     316N142_3,  AR15,   125,  1,     20,     20,2,19940513,0325,-17.7653, -25.8853, 5102,   1909.8,   3.2207,  34.9154,2,  34.9138,2,    240.1,2,    240.2,2,    29.73,2,    21.34,2,     0.00,2,     1.48,2, -999.000,9, -999.000,9, -999.000,9,   -999.0,9,   -999.0,9,  3.0732
     316N142_3,  AR15,   125,  1,     19,     19,2,19940513,0325,-17.7653, -25.8853, 5102,   2072.4,   3.1076,  34.9179,2,  34.9181,2,    244.5,2,    243.6,2,    30.63,2,    20.97,2,     0.00,2,     1.45,2, -999.000,9, -999.000,9, -999.000,9,   -999.0,9,   -999.0,9,  2.9468
     316N142_3,  AR15,   125,  1,     40,     40,2,19940513,0325,-17.7653, -25.8853, 5102,   2234.6,   2.9902,  34.9176,2,  34.9179,2,    245.4,2,    245.2,2,    31.99,2,    20.79,2,     0.00,2,     1.44,2, -999.000,9, -999.000,9, -999.000,9,   -999.0,9,   -999.0,9,  2.8161
     316N142_3,  AR15,   125,  1,     17,     17,2,19940513,0325,-17.7653, -25.8853, 5102,   2401.7,   2.9041,  34.9160,2,  34.9145,2,    246.7,2,    246.1,2,    33.20,2,    20.67,2,     0.00,2,     1.44,2, -999.000,9, -999.000,9, -999.000,9,   -999.0,9,   -999.0,9,  2.7155
     316N142_3,  AR15,   125,  1,     16,     16,2,19940513,0325,-17.7653, -25.8853, 5102,   2578.8,   2.8269,  34.9126,2,  34.9128,2,    247.3,2,    246.2,2,    34.72,2,    20.75,2,     0.00,2,     1.45,2, -999.000,9, -999.000,9, -999.000,9,   -999.0,9,   -999.0,9,  2.6226
     316N142_3,  AR15,   125,  1,     15,     15,2,19940513,0325,-17.7653, -25.8853, 5102,   2756.5,   2.7659,  34.9096,2,  34.9088,2,    247.0,2,    246.5,2,    35.93,2,    20.77,2,     0.00,2,     1.45,2, -999.000,9, -999.000,9, -999.000,9,   -999.0,9,   -999.0,9,  2.5452
     316N142_3,  AR15,   125,  1,     14,     14,2,19940513,0325,-17.7653, -25.8853, 5102,   2933.9,   2.7058,  34.9077,2,  34.9072,2,    247.2,2,    247.2,2,    36.69,2,    20.79,2,     0.00,2,     1.45,2, -999.000,9, -999.000,9, -999.000,9,   -999.0,9,   -999.0,9,  2.4683
     316N142_3,  AR15,   125,  1,     13,     13,2,19940513,0325,-17.7653, -25.8853, 5102,   3113.4,   2.6513,  34.9065,2,  34.9064,2,    248.1,2,    248.7,2,    36.84,2,    20.61,2,     0.00,2,     1.44,2, -999.000,9, -999.000,9, -999.000,9,   -999.0,9,   -999.0,9,  2.3965
     316N142_3,  AR15,   125,  1,     12,     12,2,19940513,0325,-17.7653, -25.8853, 5102,   3291.3,   2.5829,  34.9017,2,  34.9023,2,    249.0,2,    249.4,2,    38.21,2,    20.75,2,     0.00,2,     1.45,2, -999.000,9, -999.000,9, -999.000,9,   -999.0,9,   -999.0,9,  2.3110
     316N142_3,  AR15,   125,  1,     11,     11,2,19940513,0325,-17.7653, -25.8853, 5102,   3470.2,   2.4760,  34.8932,2,  34.8934,2,    249.8,2,    249.3,2,    41.26,2,    21.23,2,     0.00,2,     1.47,2, -999.000,9, -999.000,9, -999.000,9,   -999.0,9,   -999.0,9,  2.1875
     316N142_3,  AR15,   125,  1,     10,     10,2,19940513,0325,-17.7653, -25.8853, 5102,   3649.5,   2.3131,  34.8779,2,  34.8769,2,    248.7,2,    247.7,2,    46.92,2,    22.17,2,     0.00,2,     1.52,2, -999.000,9, -999.000,9, -999.000,9,   -999.0,9,   -999.0,9,  2.0093
     316N142_3,  AR15,   125,  1,      9,      9,2,19940513,0325,-17.7653, -25.8853, 5102,   3853.3,   2.0204,  34.8477,2,  34.8481,2,    243.6,2,    243.5,2,    58.14,2,    23.97,2,     0.00,2,     1.63,2, -999.000,9, -999.000,9, -999.000,9,   -999.0,9,   -999.0,9,  1.7021
     316N142_3,  AR15,   125,  1,      8,      8,2,19940513,0325,-17.7653, -25.8853, 5102,   4058.4,   1.6679,  34.8132,2,  34.8127,2,    238.8,2,    238.9,2,    71.47,2,    26.04,2,     0.00,2,     1.76,2, -999.000,9, -999.000,9, -999.000,9,   -999.0,9,   -999.0,9,  1.3370
     316N142_3,  AR15,   125,  1,      7,      7,2,19940513,0325,-17.7653, -25.8853, 5102,   4263.3,   1.3758,  34.7830,2,  34.7829,2,    234.4,2,    234.5,2,    83.52,2,    27.84,2,     0.00,2,     1.87,2, -999.000,9, -999.000,9, -999.000,9,   -999.0,9,   -999.0,9,  1.0309
     316N142_3,  AR15,   125,  1,      6,      6,2,19940513,0325,-17.7653, -25.8853, 5102,   4467.5,   1.1204,  34.7558,2,  34.7573,2,    229.7,2,    230.7,2,    93.80,2,    29.39,2,     0.00,2,     1.97,2, -999.000,9, -999.000,9, -999.000,9,   -999.0,9,   -999.0,9,  0.7604
     316N142_3,  AR15,   125,  1,      5,      5,2,19940513,0325,-17.7653, -25.8853, 5102,   4671.7,   0.9581,  34.7379,2,  34.7377,2,    227.6,2,    228.1,2,   100.81,2,    30.47,2,     0.00,2,     2.04,2, -999.000,9, -999.000,9, -999.000,9,   -999.0,9,   -999.0,9,  0.5802
     316N142_3,  AR15,   125,  1,      4,      4,2,19940513,0325,-17.7653, -25.8853, 5102,   4876.3,   0.8230,  34.7222,2,  34.7224,2,    226.2,2,    225.9,2,   106.76,2,    31.22,2,     0.00,2,     2.09,2, -999.000,9, -999.000,9, -999.000,9,   -999.0,9,   -999.0,9,  0.4260
     316N142_3,  AR15,   125,  1,      3,      3,2,19940513,0325,-17.7653, -25.8853, 5102,   5082.6,   0.7754,  34.7147,2,  34.7149,2,    225.1,2,    225.0,2,   108.70,2,    31.45,2,     0.00,2,     2.12,2, -999.000,9, -999.000,9, -999.000,9,   -999.0,9,   -999.0,9,  0.3558
     316N142_3,  AR15,   125,  1,      2,      2,2,19940513,0325,-17.7653, -25.8853, 5102,   5288.0,   0.7396,  34.7089,2,  34.7088,2,    224.9,2,    224.4,2,   111.14,2,    31.74,2,     0.00,2,     2.14,2, -999.000,9,    0.011,2,    0.458,2,   -999.0,9,   -999.0,9,  0.2967
     316N142_3,  AR15,   125,  1,      1,      1,2,19940513,0325,-17.7653, -25.8853, 5102,   5450.6,   0.7134,  34.7043,2,  34.7043,2,    224.0,2,    223.4,2,   112.61,2,    31.96,2,     0.00,2,     2.16,2, -999.000,9,    0.021,2,    0.109,2,   -999.0,9,   -999.0,9,  0.2516