BOTTLE,20020814WHPSIOKJU
EXPOCODE,SECT_ID,STNNBR,CASTNO,SAMPNO,BTLNBR,BTLNBR_FLAG_W,DATE,TIME,LATITUDE,LONGITUDE,DEPTH,CTDPRS,CTDTMP,CTDSAL,CTDSAL_FLAG_W,SALNTY,SALNTY_FLAG_W,CTDOXY,CTDOXY_FLAG_W,OXYGEN,OXYGEN_FLAG_W,SILCAT,SILCAT_FLAG_W,NITRAT,NITRAT_FLAG_W,NITRIT,NITRIT_FLAG_W,PHSPHT,PHSPHT_FLAG_W,CFC-11,CFC-11_FLAG_W,CFC-12,CFC-12_FLAG_W,CCL4,CCL4_FLAG_W,TCARBN,TCARBN_FLAG_W,ALKALI,ALKALI_FLAG_W,THETA
,,,,,,,,,,,,DBAR,ITS-90,PSS-78,,PSS-78,,UMOL/KG,,UMOL/KG,,UMOL/KG,,UMOL/KG,,UMOL/KG,,UMOL/KG,,PMOL/KG,,PMOL/KG,,PMOL/KG,,UMOL/KG,,UMOL/KG,,DEG C
     316N142_3,   A15,    80,  1,     35,     35,4,19940428,0845,-17.6837, -19.0002, 3796,      9.6,  26.0993,  37.0069,2,  37.0044,3,    198.2,4,    205.0,2,     2.00,2,     0.18,2,     0.00,2,     0.24,2, -999.000,9,    0.969,2,    1.797,2,   2079.1,2,   2430.8,2, 26.0971
     316N142_3,   A15,    80,  1,     38,     38,4,19940428,0845,-17.6837, -19.0002, 3796,     54.3,  26.0975,  37.0071,2,  37.0038,3,    208.9,2,    205.1,2,     1.84,2,     0.18,2,     0.00,2,     0.23,2,    1.534,2,    1.010,2,    0.938,2,   2075.4,2,   2431.0,2, 26.0852
     316N142_3,   A15,    80,  1,     33,     33,4,19940428,0845,-17.6837, -19.0002, 3796,     89.1,  23.4025,  36.5923,2,  36.5777,3,    224.3,2,    225.6,2,     1.96,2,     0.18,2,     0.00,2,     0.23,2,    2.023,2,    1.164,2,    1.748,2,   2068.5,2,   2405.2,2, 23.3839
     316N142_3,   A15,    80,  1,     41,     41,4,19940428,0845,-17.6837, -19.0002, 3796,    164.1,  18.5696,  35.9535,2,  35.9410,3,    208.8,2,    212.4,2,     2.52,2,     1.46,2,     0.14,2,     0.43,2,    2.183,6,    1.263,6,    0.982,6,   2088.3,2,   2364.4,2, 18.5406
     316N142_3,   A15,    80,  1,     31,     31,9,19940428,0845,-17.6837, -19.0002, 3796,    235.8,  14.7640,  35.4071,2,-999.0000,9,    188.5,2,   -999.0,9,  -999.00,9,  -999.00,9,  -999.00,9,  -999.00,9, -999.000,9, -999.000,9, -999.000,9,   -999.0,9,   -999.0,9, 14.7285
     316N142_3,   A15,    80,  1,     37,     37,4,19940428,0845,-17.6837, -19.0002, 3796,    305.0,  12.1932,  35.0724,2,  35.0693,3,    172.2,2,    167.9,2,     7.66,2,    16.18,2,     0.01,2,     1.19,2,    1.866,2,    0.961,2,    0.576,2,   2136.6,2,   -999.0,9, 12.1528
     316N142_3,   A15,    80,  1,     29,     29,2,19940428,0845,-17.6837, -19.0002, 3796,    380.0,  10.1609,  34.8555,2,  34.8524,4,    151.6,2,    149.4,2,    11.80,2,    22.78,2,     0.00,2,     1.58,2,    1.281,2,    0.665,2,    0.657,2,   2163.7,2,   2299.7,2, 10.1160
     316N142_3,   A15,    80,  1,     28,     28,2,19940428,0845,-17.6837, -19.0002, 3796,    454.7,   8.4626,  34.6958,2,  34.6932,4,    142.7,2,    141.9,2,    16.23,2,    27.49,2,     0.00,2,     1.88,2,    0.770,6,    0.433,6,    0.743,6,   2183.8,2,   2294.9,2,  8.4144
     316N142_3,   A15,    80,  1,     27,     27,2,19940428,0845,-17.6837, -19.0002, 3796,    545.7,   7.0058,  34.5742,2,  34.5711,3,    144.0,2,    143.8,2,    20.81,2,    30.70,2,     0.00,2,     2.08,2,    0.461,2,    0.259,2,    0.550,2,   2197.1,2,   2289.2,2,  6.9537
     316N142_3,   A15,    80,  1,     26,     26,2,19940428,0845,-17.6837, -19.0002, 3796,    637.3,   5.4057,  34.4639,2,  34.4613,3,    157.2,2,    159.2,2,    27.27,2,    32.68,2,     0.00,2,     2.23,2,    0.201,2,    0.104,2,    0.507,2,   -999.0,9,   -999.0,9,  5.3523
     316N142_3,   A15,    80,  1,     25,     25,2,19940428,0845,-17.6837, -19.0002, 3796,    838.6,   3.9069,  34.4596,2,  34.4574,3,    174.4,2,    178.4,2,    38.50,2,    33.02,2,     0.00,2,     2.28,2,    0.064,4,    0.046,2,    0.360,2,   -999.0,9,   -999.0,9,  3.8452
     316N142_3,   A15,    80,  1,     24,     24,2,19940428,0845,-17.6837, -19.0002, 3796,    948.1,   3.7964,  34.5403,2,  34.5362,3,    177.2,2,    176.8,2,    39.34,2,    32.40,2,     0.00,2,     2.25,2, -999.000,9, -999.000,9, -999.000,9,   -999.0,9,   -999.0,9,  3.7265
     316N142_3,   A15,    80,  1,     23,     23,2,19940428,0845,-17.6837, -19.0002, 3796,   1070.2,   3.7610,  34.6474,2,  34.6432,4,    180.3,2,    184.3,2,    37.58,2,    30.44,2,     0.00,2,     2.12,2, -999.000,9,    0.002,2,    0.147,2,   -999.0,9,   -999.0,9,  3.6812
     316N142_3,   A15,    80,  1,     22,     22,2,19940428,0845,-17.6837, -19.0002, 3796,   1221.1,   3.7920,  34.7131,2,  34.7076,3,    191.4,2,    190.1,2,    35.39,2,    29.05,2,     0.00,2,     2.02,2, -999.000,9, -999.000,9, -999.000,9,   -999.0,9,   -999.0,9,  3.6991
     316N142_3,   A15,    80,  1,     21,     21,2,19940428,0845,-17.6837, -19.0002, 3796,   1373.7,   3.7689,  34.8049,2,  34.8002,4,    203.0,2,    204.5,2,    31.90,2,    26.38,2,     0.00,2,     1.84,2, -999.000,9,    0.005,2,    0.134,2,   -999.0,9,   -999.0,9,  3.6629
     316N142_3,   A15,    80,  1,     20,     20,2,19940428,0845,-17.6837, -19.0002, 3796,   1495.2,   3.6454,  34.8545,2,  34.8520,3,    216.0,2,    216.9,2,    30.43,2,    24.62,2,     0.00,2,     1.72,2, -999.000,9, -999.000,9, -999.000,9,   -999.0,9,   -999.0,9,  3.5299
     316N142_3,   A15,    80,  1,     19,     19,2,19940428,0845,-17.6837, -19.0002, 3796,   1615.4,   3.5048,  34.8783,2,  34.8775,4,    224.8,2,    225.1,2,    30.55,2,    23.58,2,     0.00,2,     1.64,2, -999.000,9,    0.006,2,    0.097,2,   -999.0,9,   -999.0,9,  3.3803
     316N142_3,   A15,    80,  1,     40,     40,2,19940428,0845,-17.6837, -19.0002, 3796,   1726.1,   3.3674,  34.8949,2,  34.8950,3,    232.7,2,    232.0,2,    30.82,2,    22.73,2,     0.00,2,     1.59,2, -999.000,9, -999.000,9, -999.000,9,   -999.0,9,   -999.0,9,  3.2346
     316N142_3,   A15,    80,  1,     17,     17,2,19940428,0845,-17.6837, -19.0002, 3796,   1847.1,   3.2407,  34.9025,2,  34.9003,3,    237.0,2,    236.1,2,    31.80,2,    22.26,2,     0.00,2,     1.56,2, -999.000,9,    0.008,2,    0.033,2,   -999.0,9,   -999.0,9,  3.0987
     316N142_3,   A15,    80,  1,     16,     16,2,19940428,0845,-17.6837, -19.0002, 3796,   1968.9,   3.1430,  34.9069,2,  34.9007,4,    240.1,2,    239.3,2,    32.79,2,    22.02,2,     0.00,2,     1.53,2, -999.000,9,    0.015,2,    0.053,2,   -999.0,9,   -999.0,9,  2.9913
     316N142_3,   A15,    80,  1,     15,     15,2,19940428,0845,-17.6837, -19.0002, 3796,   2070.7,   3.0553,  34.9055,2,  34.9008,3,    240.0,2,    240.3,2,    34.20,2,    22.03,2,     0.00,2,     1.54,2, -999.000,9, -999.000,9, -999.000,9,   -999.0,9,   -999.0,9,  2.8955
     316N142_3,   A15,    80,  1,     14,     14,2,19940428,0845,-17.6837, -19.0002, 3796,   2172.8,   3.0149,  34.9085,2,  34.9030,3,    241.7,2,    241.9,2,    34.47,2,    21.84,2,     0.00,2,     1.53,2, -999.000,9,    0.003,2, -999.000,9,   -999.0,9,   -999.0,9,  2.8462
     316N142_3,   A15,    80,  1,     13,     13,2,19940428,0845,-17.6837, -19.0002, 3796,   2298.5,   2.9045,  34.9042,2,  34.9016,3,    242.2,2,    241.8,2,    36.75,2,    21.99,2,     0.00,2,     1.54,2, -999.000,9, -999.000,9, -999.000,9,   -999.0,9,   -999.0,9,  2.7258
     316N142_3,   A15,    80,  1,     12,     12,2,19940428,0845,-17.6837, -19.0002, 3796,   2427.2,   2.8576,  34.9020,2,  34.8992,3,    243.8,2,    241.9,2,    38.03,2,    22.09,2,     0.00,2,     1.54,2, -999.000,9, -999.000,9, -999.000,9,   -999.0,9,   -999.0,9,  2.6675
     316N142_3,   A15,    80,  1,     11,     11,9,19940428,0845,-17.6837, -19.0002, 3796,   2553.5,   2.8065,  34.9001,2,-999.0000,9,    243.5,2,   -999.0,9,  -999.00,9,  -999.00,9,  -999.00,9,  -999.00,9, -999.000,9, -999.000,9, -999.000,9,   -999.0,9,   -999.0,9,  2.6051
     316N142_3,   A15,    80,  1,     10,     10,2,19940428,0845,-17.6837, -19.0002, 3796,   2705.2,   2.7489,  34.8968,2,  34.8941,4,    242.6,2,    241.6,2,    40.89,2,    22.28,2,     0.00,2,     1.55,2, -999.000,9,    0.006,2,    0.002,2,   -999.0,9,   -999.0,9,  2.5336
     316N142_3,   A15,    80,  1,      9,      9,2,19940428,0845,-17.6837, -19.0002, 3796,   2832.1,   2.7201,  34.8954,2,  34.8892,3,    242.1,2,    241.8,2,    41.59,2,    22.34,2,     0.00,2,     1.56,2, -999.000,9, -999.000,9, -999.000,9,   -999.0,9,   -999.0,9,  2.4927
     316N142_3,   A15,    80,  1,      8,      8,2,19940428,0845,-17.6837, -19.0002, 3796,   2985.2,   2.6813,  34.8931,2,  34.8888,3,    241.9,2,    241.9,2,    42.58,2,    22.39,2,     0.00,2,     1.57,2, -999.000,9, -999.000,9, -999.000,9,   -999.0,9,   -999.0,9,  2.4392
     316N142_3,   A15,    80,  1,      7,      7,2,19940428,0845,-17.6837, -19.0002, 3796,   3137.5,   2.6464,  34.8917,2,  34.8931,3,    241.6,2,    242.4,2,    43.42,2,    22.39,2,     0.00,2,     1.56,2, -999.000,9, -999.000,9, -999.000,9,   -999.0,9,   -999.0,9,  2.3893
     316N142_3,   A15,    80,  1,      6,      6,2,19940428,0845,-17.6837, -19.0002, 3796,   3292.0,   2.5714,  34.8889,2,  34.8885,3,    242.6,2,    243.4,2,    44.55,2,    22.35,2,     0.00,2,     1.57,2, -999.000,9,    0.010,2,    0.020,2,   -999.0,9,   -999.0,9,  2.2997
     316N142_3,   A15,    80,  1,      5,      5,2,19940428,0845,-17.6837, -19.0002, 3796,   3445.2,   2.4497,  34.8793,2,  34.8767,3,    243.3,2,    243.0,2,    48.29,2,    22.78,2,     0.00,2,     1.59,2,    1.653,4, -999.000,9, -999.000,9,   -999.0,9,   -999.0,9,  2.1646
     316N142_3,   A15,    80,  1,      4,      4,2,19940428,0845,-17.6837, -19.0002, 3796,   3572.1,   2.3862,  34.8745,2,  34.8714,3,    242.8,2,    243.2,2,    50.15,2,    22.93,2,     0.00,2,     1.61,2, -999.000,9, -999.000,9, -999.000,9,   -999.0,9,   -999.0,9,  2.0890
     316N142_3,   A15,    80,  1,      3,      3,2,19940428,0845,-17.6837, -19.0002, 3796,   3698.4,   2.2374,  34.8617,2,  34.8580,4,    242.4,2,    242.2,2,    54.63,2,    23.55,2,     0.00,2,     1.64,2, -999.000,9, -999.000,9, -999.000,9,   -999.0,9,   -999.0,9,  1.9304
     316N142_3,   A15,    80,  1,      2,      2,2,19940428,0845,-17.6837, -19.0002, 3796,   3838.3,   1.9884,  34.8385,2,  34.8366,3,    239.9,2,    240.0,2,    63.66,2,    24.66,2,     0.00,2,     1.73,2, -999.000,9, -999.000,9, -999.000,9,   -999.0,9,   -999.0,9,  1.6727
     316N142_3,   A15,    80,  1,      1,      1,2,19940428,0845,-17.6837, -19.0002, 3796,   3990.9,   1.7783,  34.8185,2,  34.8168,3,    238.4,2,    237.9,2,    70.98,2,    25.62,2,     0.00,2,     1.79,2, -999.000,9,    0.009,2,    0.150,2,   -999.0,9,   -999.0,9,  1.4517