BOTTLE,20020814WHPSIOKJU
EXPOCODE,SECT_ID,STNNBR,CASTNO,SAMPNO,BTLNBR,BTLNBR_FLAG_W,DATE,TIME,LATITUDE,LONGITUDE,DEPTH,CTDPRS,CTDTMP,CTDSAL,CTDSAL_FLAG_W,SALNTY,SALNTY_FLAG_W,CTDOXY,CTDOXY_FLAG_W,OXYGEN,OXYGEN_FLAG_W,SILCAT,SILCAT_FLAG_W,NITRAT,NITRAT_FLAG_W,NITRIT,NITRIT_FLAG_W,PHSPHT,PHSPHT_FLAG_W,CFC-11,CFC-11_FLAG_W,CFC-12,CFC-12_FLAG_W,CCL4,CCL4_FLAG_W,TCARBN,TCARBN_FLAG_W,ALKALI,ALKALI_FLAG_W,THETA
,,,,,,,,,,,,DBAR,ITS-90,PSS-78,,PSS-78,,UMOL/KG,,UMOL/KG,,UMOL/KG,,UMOL/KG,,UMOL/KG,,UMOL/KG,,PMOL/KG,,PMOL/KG,,PMOL/KG,,UMOL/KG,,UMOL/KG,,DEG C
     316N142_3,   A15,    67,  1,     39,     39,2,19940424,1354,-10.9003, -19.0010, 4196,      5.1,  27.5669,  36.5113,2,  36.5127,2,    204.5,2,    205.1,2,     3.02,2,     0.14,2,     0.00,2,     0.14,2, -999.000,9, -999.000,9, -999.000,9,   2021.9,2,   2389.9,2, 27.5657
     316N142_3,   A15,    67,  1,     35,     35,2,19940424,1354,-10.9003, -19.0010, 4196,     57.1,  27.4101,  36.7247,2,  36.7250,2,    205.4,2,    205.8,2,     2.86,2,     0.15,2,     0.00,2,     0.16,2, -999.000,9, -999.000,9, -999.000,9,   2035.2,2,   2404.3,2, 27.3968
     316N142_3,   A15,    67,  1,     38,     38,2,19940424,1354,-10.9003, -19.0010, 4196,     88.6,  23.9639,  36.7268,2,  36.7385,2,    225.6,2,    229.1,2,     2.71,2,     0.15,2,     0.00,2,     0.18,2, -999.000,9, -999.000,9, -999.000,9,   2055.3,2,   2406.9,2, 23.9452
     316N142_3,   A15,    67,  1,     33,     33,2,19940424,1354,-10.9003, -19.0010, 4196,    149.2,  18.0471,  35.9980,2,  35.9914,2,    173.9,2,    172.8,2,     4.36,2,     7.37,2,     0.10,2,     0.72,2, -999.000,9, -999.000,9, -999.000,9,   2114.9,2,   2357.7,2, 18.0212
     316N142_3,   A15,    67,  1,     41,     41,2,19940424,1354,-10.9003, -19.0010, 4196,    204.4,  13.8149,  35.4025,2,  35.3942,2,    113.3,2,    110.7,2,     8.86,2,    20.40,2,     0.01,2,     1.40,2, -999.000,9, -999.000,9, -999.000,9,   2168.4,2,   2321.1,2, 13.7855
     316N142_3,   A15,    67,  1,     31,     31,2,19940424,1354,-10.9003, -19.0010, 4196,    274.8,  10.3914,  34.9759,2,  34.9788,2,     87.0,2,     86.3,2,    14.15,2,    29.11,2,     0.00,2,     1.91,2, -999.000,9, -999.000,9, -999.000,9,   2206.2,2,   2300.5,2, 10.3586
     316N142_3,   A15,    67,  1,     37,     37,2,19940424,1354,-10.9003, -19.0010, 4196,    395.1,   8.2347,  34.7379,2,  34.7371,2,     88.1,2,     87.9,2,    19.17,2,    33.83,2,     0.00,2,     2.19,2, -999.000,9, -999.000,9, -999.000,9,   2218.2,2,   2293.2,2,  8.1937
     316N142_3,   A15,    67,  1,     29,     29,2,19940424,1354,-10.9003, -19.0010, 4196,    515.6,   7.0019,  34.6174,2,  34.6152,2,     99.8,2,    102.4,2,    22.63,2,    35.30,2,     0.00,2,     2.31,2, -999.000,9, -999.000,9, -999.000,9,   2220.4,2,   2291.9,2,  6.9527
     316N142_3,   A15,    67,  1,     28,     28,2,19940424,1354,-10.9003, -19.0010, 4196,    635.7,   5.8242,  34.5155,2,  34.5137,2,    126.6,2,    128.3,2,    26.35,2,    34.94,2,     0.00,2,     2.34,2, -999.000,9, -999.000,9, -999.000,9,   2217.2,2,   2290.7,2,  5.7689
     316N142_3,   A15,    67,  1,     27,     27,2,19940424,1354,-10.9003, -19.0010, 4196,    726.8,   5.1860,  34.4789,2,  34.4764,2,    139.4,2,    139.4,2,    29.55,2,    35.00,2,     0.00,2,     2.37,2, -999.000,9, -999.000,9, -999.000,9,   -999.0,9,   -999.0,9,  5.1259
     316N142_3,   A15,    67,  1,     26,     26,2,19940424,1354,-10.9003, -19.0010, 4196,    807.0,   4.7356,  34.4745,2,  34.4740,2,    141.3,2,    145.3,2,    32.50,2,    35.15,2,     0.00,2,     2.39,2, -999.000,9, -999.000,9, -999.000,9,   -999.0,9,   -999.0,9,  4.6712
     316N142_3,   A15,    67,  1,     25,     25,2,19940424,1354,-10.9003, -19.0010, 4196,    882.4,   4.3049,  34.4646,2,  34.4625,2,    154.3,2,    161.3,2,    35.18,2,    34.03,2,     0.00,2,     2.35,2, -999.000,9, -999.000,9, -999.000,9,   -999.0,9,   -999.0,9,  4.2369
     316N142_3,   A15,    67,  1,     24,     24,2,19940424,1354,-10.9003, -19.0010, 4196,   1008.5,   4.0212,  34.5203,2,  34.5178,2,    165.6,2,    166.4,2,    37.60,2,    33.28,2,     0.00,2,     2.29,2, -999.000,9, -999.000,9, -999.000,9,   -999.0,9,   -999.0,9,  3.9446
     316N142_3,   A15,    67,  1,     23,     23,2,19940424,1354,-10.9003, -19.0010, 4196,   1160.7,   3.9857,  34.6618,2,  34.6599,2,    176.9,2,    176.6,2,    34.97,2,    30.60,2,     0.00,2,     2.12,2, -999.000,9, -999.000,9, -999.000,9,   -999.0,9,   -999.0,9,  3.8963
     316N142_3,   A15,    67,  1,     22,     22,2,19940424,1354,-10.9003, -19.0010, 4196,   1312.3,   4.1162,  34.7885,2,  34.7886,2,    191.1,2,    190.4,2,    29.51,2,    27.54,2,     0.00,2,     1.91,2, -999.000,9, -999.000,9, -999.000,9,   -999.0,9,   -999.0,9,  4.0121
     316N142_3,   A15,    67,  1,     21,     21,2,19940424,1354,-10.9003, -19.0010, 4196,   1463.7,   4.0491,  34.8925,2,  34.8919,2,    214.7,2,    213.9,2,    24.96,2,    24.01,2,     0.00,2,     1.65,2, -999.000,9, -999.000,9, -999.000,9,   -999.0,9,   -999.0,9,  3.9318
     316N142_3,   A15,    67,  1,     20,     20,2,19940424,1354,-10.9003, -19.0010, 4196,   1615.3,   3.8601,  34.9316,2,  34.9318,2,    231.0,2,    230.4,2,    23.50,2,    21.99,2,     0.00,2,     1.51,2, -999.000,9, -999.000,9, -999.000,9,   -999.0,9,   -999.0,9,  3.7310
     316N142_3,   A15,    67,  1,     19,     19,2,19940424,1354,-10.9003, -19.0010, 4196,   1767.9,   3.6498,  34.9457,2,  34.9483,2,    240.3,2,    241.0,2,    23.47,2,    20.82,2,     0.00,2,     1.44,2, -999.000,9, -999.000,9, -999.000,9,   -999.0,9,   -999.0,9,  3.5093
     316N142_3,   A15,    67,  1,     40,     40,2,19940424,1354,-10.9003, -19.0010, 4196,   1920.0,   3.4415,  34.9508,2,  34.9560,4,    248.8,2,    248.6,2,    24.21,2,    20.07,2,     0.00,2,     1.39,2, -999.000,9, -999.000,9, -999.000,9,   -999.0,9,   -999.0,9,  3.2898
     316N142_3,   A15,    67,  1,     17,     17,2,19940424,1354,-10.9003, -19.0010, 4196,   2071.8,   3.2258,  34.9410,2,  34.9397,2,    247.7,2,    248.2,2,    27.67,2,    20.45,2,     0.00,2,     1.41,2, -999.000,9, -999.000,9, -999.000,9,   -999.0,9,   -999.0,9,  3.0632
     316N142_3,   A15,    67,  1,     16,     16,2,19940424,1354,-10.9003, -19.0010, 4196,   2224.7,   3.1021,  34.9339,2,  34.9326,2,    248.3,2,    248.0,2,    29.70,2,    20.65,2,     0.00,2,     1.42,2, -999.000,9, -999.000,9, -999.000,9,   -999.0,9,   -999.0,9,  2.9270
     316N142_3,   A15,    67,  1,     15,     15,2,19940424,1354,-10.9003, -19.0010, 4196,   2426.7,   2.9695,  34.9238,2,  34.9226,2,    246.8,2,    246.4,2,    33.15,2,    21.13,2,     0.00,2,     1.45,2, -999.000,9, -999.000,9, -999.000,9,   -999.0,9,   -999.0,9,  2.7774
     316N142_3,   A15,    67,  1,     14,     14,9,19940424,1354,-10.9003, -19.0010, 4196,   2570.3,   2.8622,  34.9158,2,-999.0000,9,    245.9,2,   -999.0,9,  -999.00,9,  -999.00,9,  -999.00,9,  -999.00,9, -999.000,9, -999.000,9, -999.000,9,   -999.0,9,   -999.0,9,  2.6580
     316N142_3,   A15,    67,  1,     13,     13,2,19940424,1354,-10.9003, -19.0010, 4196,   2578.8,   2.8584,  34.9155,2,  34.9163,2,    244.9,2,    245.1,2,    35.95,2,    21.51,2,     0.00,2,     1.48,2, -999.000,9, -999.000,9, -999.000,9,   -999.0,9,   -999.0,9,  2.6534
     316N142_3,   A15,    67,  1,     12,     12,2,19940424,1354,-10.9003, -19.0010, 4196,   2730.0,   2.7756,  34.9089,2,  34.9078,2,    244.5,2,    244.0,2,    38.37,2,    21.75,2,     0.00,2,     1.49,2, -999.000,9, -999.000,9, -999.000,9,   -999.0,9,   -999.0,9,  2.5573
     316N142_3,   A15,    67,  1,     11,     11,2,19940424,1354,-10.9003, -19.0010, 4196,   2881.3,   2.7027,  34.9046,2,  34.9098,4,    244.1,2,    244.0,2,    40.01,2,    21.90,2,     0.00,2,     1.50,2, -999.000,9, -999.000,9, -999.000,9,   -999.0,9,   -999.0,9,  2.4706
     316N142_3,   A15,    67,  1,     10,     10,2,19940424,1354,-10.9003, -19.0010, 4196,   3034.6,   2.6357,  34.8989,2,  34.8980,2,    242.9,2,    243.3,2,    41.90,2,    22.19,2,     0.00,2,     1.52,2, -999.000,9, -999.000,9, -999.000,9,   -999.0,9,   -999.0,9,  2.3895
     316N142_3,   A15,    67,  1,      9,      9,2,19940424,1354,-10.9003, -19.0010, 4196,   3190.0,   2.5887,  34.8973,2,  34.8965,2,    245.0,2,    244.5,2,    42.38,2,    22.06,2,     0.00,2,     1.52,2, -999.000,9, -999.000,9, -999.000,9,   -999.0,9,   -999.0,9,  2.3274
     316N142_3,   A15,    67,  1,      8,      8,2,19940424,1354,-10.9003, -19.0010, 4196,   3342.7,   2.5267,  34.8961,2,  34.8969,2,    246.6,2,    247.0,2,    42.35,2,    21.83,2,     0.00,2,     1.50,2, -999.000,9, -999.000,9, -999.000,9,   -999.0,9,   -999.0,9,  2.2506
     316N142_3,   A15,    67,  1,      7,      7,2,19940424,1354,-10.9003, -19.0010, 4196,   3470.9,   2.4617,  34.8931,2,  34.8939,2,    248.0,2,    248.5,2,    42.96,2,    21.69,2,     0.00,2,     1.50,2, -999.000,9, -999.000,9, -999.000,9,   -999.0,9,   -999.0,9,  2.1735
     316N142_3,   A15,    67,  1,      6,      6,2,19940424,1354,-10.9003, -19.0010, 4196,   3598.7,   2.3419,  34.8834,2,  34.8849,2,    248.4,2,    249.0,2,    46.01,2,    22.03,2,     0.00,2,     1.52,2, -999.000,9, -999.000,9, -999.000,9,   -999.0,9,   -999.0,9,  2.0429
     316N142_3,   A15,    67,  1,      5,      5,2,19940424,1354,-10.9003, -19.0010, 4196,   3699.5,   2.2704,  34.8777,2,  34.8756,2,    249.4,2,    248.8,2,    48.03,2,    22.22,2,     0.00,2,     1.54,2, -999.000,9, -999.000,9, -999.000,9,   -999.0,9,   -999.0,9,  1.9623
     316N142_3,   A15,    67,  1,      4,      4,2,19940424,1354,-10.9003, -19.0010, 4196,   3876.8,   2.0069,  34.8492,2,  34.8507,2,    244.6,2,    244.1,2,    58.51,2,    23.75,2,     0.00,2,     1.64,2, -999.000,9, -999.000,9, -999.000,9,   -999.0,9,   -999.0,9,  1.6864
     316N142_3,   A15,    67,  1,      3,      3,2,19940424,1354,-10.9003, -19.0010, 4196,   4057.1,   1.7490,  34.8222,2,  34.8210,2,    240.7,2,    240.0,2,    68.80,2,    25.27,2,     0.00,2,     1.75,2, -999.000,9, -999.000,9, -999.000,9,   -999.0,9,   -999.0,9,  1.4159
     316N142_3,   A15,    67,  1,      2,      2,2,19940424,1354,-10.9003, -19.0010, 4196,   4262.7,   1.4914,  34.7946,2,  34.7950,2,    237.1,2,    236.4,2,    78.47,2,    26.65,2,     0.00,2,     1.85,2, -999.000,9, -999.000,9, -999.000,9,   -999.0,9,   -999.0,9,  1.1429
     316N142_3,   A15,    67,  1,      1,      1,2,19940424,1354,-10.9003, -19.0010, 4196,   4392.1,   1.3052,  34.7742,2,  34.7756,2,    234.5,2,    234.7,2,    85.39,2,    27.65,2,     0.00,2,     1.92,2, -999.000,9, -999.000,9, -999.000,9,   -999.0,9,   -999.0,9,  0.9479