BOTTLE,20020814WHPSIOKJU
EXPOCODE,SECT_ID,STNNBR,CASTNO,SAMPNO,BTLNBR,BTLNBR_FLAG_W,DATE,TIME,LATITUDE,LONGITUDE,DEPTH,CTDPRS,CTDTMP,CTDSAL,CTDSAL_FLAG_W,SALNTY,SALNTY_FLAG_W,CTDOXY,CTDOXY_FLAG_W,OXYGEN,OXYGEN_FLAG_W,SILCAT,SILCAT_FLAG_W,NITRAT,NITRAT_FLAG_W,NITRIT,NITRIT_FLAG_W,PHSPHT,PHSPHT_FLAG_W,CFC-11,CFC-11_FLAG_W,CFC-12,CFC-12_FLAG_W,CCL4,CCL4_FLAG_W,TCARBN,TCARBN_FLAG_W,ALKALI,ALKALI_FLAG_W,THETA
,,,,,,,,,,,,DBAR,ITS-90,PSS-78,,PSS-78,,UMOL/KG,,UMOL/KG,,UMOL/KG,,UMOL/KG,,UMOL/KG,,UMOL/KG,,PMOL/KG,,PMOL/KG,,PMOL/KG,,UMOL/KG,,UMOL/KG,,DEG C
     316N142_3,  AR15,   126,  1,     39,     39,2,19940513,0949,-17.6750, -26.4157, 5427,     10.2,  26.4466,  37.3006,2,  37.3016,2,    201.7,2,    203.0,2,     1.84,2,     0.00,2,     0.00,2,     0.17,2,    1.643,2,    1.007,2,    2.228,2,   2081.9,2,   2443.8,2, 26.4443
     316N142_3,  AR15,   126,  1,     35,     35,2,19940513,0949,-17.6750, -26.4157, 5427,    100.6,  23.7757,  36.8379,2,  36.8470,2,    227.4,2,    220.5,2,     1.83,2,     0.00,2,     0.00,2,     0.17,2,    1.956,2,    1.126,2,    1.558,2,   2075.2,2,   -999.0,9, 23.7545
     316N142_3,  AR15,   126,  1,     38,     38,2,19940513,0949,-17.6750, -26.4157, 5427,    205.6,  16.5812,  35.6824,2,  35.6876,2,    206.5,2,    201.3,2,     3.02,2,     2.49,2,     0.01,2,     0.49,2,    2.364,6,    1.284,6,    0.643,2,   2093.1,2,   2343.2,2, 16.5477
     316N142_3,  AR15,   126,  1,     33,     33,2,19940513,0949,-17.6750, -26.4157, 5427,    316.5,  12.2663,  35.0724,2,  35.0725,2,    183.7,2,    180.6,2,     6.78,2,    13.84,2,     0.00,2,     1.07,2,    2.007,2,    1.018,2,    0.665,2,   2129.0,2,   2304.9,2, 12.2242
     316N142_3,  AR15,   126,  1,     41,     41,2,19940513,0949,-17.6750, -26.4157, 5427,    427.8,   9.1544,  34.7257,2,  34.7360,2,    171.8,2,    172.8,2,    12.21,2,    22.37,2,     0.00,2,     1.55,2,    1.318,2,    0.712,2,    1.197,2,   2159.3,2,   2295.1,2,  9.1070
     316N142_3,  AR15,   126,  1,     31,     31,2,19940513,0949,-17.6750, -26.4157, 5427,    537.9,   6.8464,  34.5561,2,  34.5591,2,    150.2,2,    150.9,2,    20.36,2,    31.05,2,     0.00,2,     2.03,2,    0.431,2,    0.208,2,    0.603,2,   2191.0,2,   2291.4,2,  6.7958
     316N142_3,  AR15,   126,  1,     37,     37,2,19940513,0949,-17.6750, -26.4157, 5427,    637.7,   5.3087,  34.4425,2,  34.4426,2,    167.5,2,    170.4,2,    26.25,2,    32.73,2,     0.00,2,     2.16,2,    0.243,2,    0.146,6,    0.557,6,   2197.6,2,   -999.0,9,  5.2558
     316N142_3,  AR15,   126,  1,     29,     29,2,19940513,0949,-17.6750, -26.4157, 5427,    739.1,   4.4723,  34.4128,2,  34.4130,2,    174.9,2,    178.4,2,    31.69,2,    33.55,2,     0.00,2,     2.22,2,    0.151,2,    0.088,2,    0.946,2,   2204.6,2,   2295.6,2,  4.4153
     316N142_3,  AR15,   126,  1,     28,     28,2,19940513,0949,-17.6750, -26.4157, 5427,    880.0,   3.8406,  34.4520,2,  34.4490,2,    179.3,2,    181.3,2,    38.36,2,    33.71,2,     0.00,2,     2.25,2,    0.160,2,    0.042,2,    0.421,2,   2211.9,2,   -999.0,9,  3.7759
     316N142_3,  AR15,   126,  1,     27,     27,2,19940513,0949,-17.6750, -26.4157, 5427,   1021.0,   3.7160,  34.5457,2,  34.5429,2,    179.7,2,    180.9,2,    39.55,2,    32.68,2,     0.00,2,     2.20,2, -999.000,9, -999.000,9, -999.000,9,   -999.0,9,   -999.0,9,  3.6408
     316N142_3,  AR15,   126,  1,     26,     26,2,19940513,0949,-17.6750, -26.4157, 5427,   1162.2,   3.8509,  34.6731,2,  34.6718,2,    183.5,2,    185.0,2,    35.58,2,    30.52,2,     0.00,2,     2.05,2,    0.020,4,    0.007,2,    0.074,2,   -999.0,9,   -999.0,9,  3.7625
     316N142_3,  AR15,   126,  1,     25,     25,2,19940513,0949,-17.6750, -26.4157, 5427,   1292.9,   3.9535,  34.7744,2,  34.7742,2,    193.2,2,    194.6,2,    31.00,2,    27.88,2,     0.00,2,     1.89,2, -999.000,9, -999.000,9, -999.000,9,   -999.0,9,   -999.0,9,  3.8527
     316N142_3,  AR15,   126,  1,     24,     24,2,19940513,0949,-17.6750, -26.4157, 5427,   1465.2,   3.8463,  34.8550,2,  34.8557,2,    212.6,2,    212.2,2,    27.95,2,    24.92,2,     0.00,2,     1.70,2, -999.000,9,    0.031,2, -999.000,9,   -999.0,9,   -999.0,9,  3.7312
     316N142_3,  AR15,   126,  1,     23,     23,2,19940513,0949,-17.6750, -26.4157, 5427,   1637.4,   3.5807,  34.8901,2,  34.8918,2,    227.7,2,    226.7,2,    28.09,2,    23.01,2,     0.00,2,     1.57,2, -999.000,9, -999.000,9, -999.000,9,   2179.5,2,   2315.0,2,  3.4532
     316N142_3,  AR15,   126,  1,     22,     22,2,19940513,0949,-17.6750, -26.4157, 5427,   1809.1,   3.3390,  34.9074,2,  34.9061,2,    237.0,2,    235.7,2,    29.13,2,    21.96,2,     0.00,2,     1.51,2, -999.000,9, -999.000,9, -999.000,9,   -999.0,9,   -999.0,9,  3.1991
     316N142_3,  AR15,   126,  1,     21,     21,2,19940513,0949,-17.6750, -26.4157, 5427,   1970.7,   3.1954,  34.9193,2,  34.9183,2,    242.9,2,    242.1,2,    29.72,2,    21.18,2,     0.00,2,     1.46,2, -999.000,9,    0.004,2,    0.025,2,   2175.9,2,   2320.7,2,  3.0427
     316N142_3,  AR15,   126,  1,     20,     20,2,19940513,0949,-17.6750, -26.4157, 5427,   2107.7,   3.0335,  34.9129,2,  34.9122,2,    243.9,2,    242.4,2,    32.58,2,    21.34,2,     0.00,2,     1.47,2, -999.000,9, -999.000,9, -999.000,9,   -999.0,9,   -999.0,9,  2.8706
     316N142_3,  AR15,   126,  1,     19,     19,2,19940513,0949,-17.6750, -26.4157, 5427,   2244.7,   2.9289,  34.9097,2,  34.9094,2,    244.3,2,    244.1,2,    34.68,2,    21.35,2,     0.00,2,     1.48,2, -999.000,9, -999.000,9, -999.000,9,   2180.6,2,   2329.8,2,  2.7548
     316N142_3,  AR15,   126,  1,     40,     40,2,19940513,0949,-17.6750, -26.4157, 5427,   2398.2,   2.8785,  34.9122,2,  34.9136,2,    245.6,2,    244.8,2,    34.82,2,    21.17,2,     0.00,2,     1.46,2, -999.000,9,    0.025,2,    0.101,2,   -999.0,9,   -999.0,9,  2.6907
     316N142_3,  AR15,   126,  1,     17,     17,2,19940513,0949,-17.6750, -26.4157, 5427,   2550.1,   2.8209,  34.9112,2,  34.9108,2,    246.3,2,    245.6,2,    35.71,2,    21.19,2,     0.00,2,     1.46,2, -999.000,9, -999.000,9, -999.000,9,   2182.6,2,   2327.4,2,  2.6195
     316N142_3,  AR15,   126,  1,     16,     16,2,19940513,0949,-17.6750, -26.4157, 5427,   2733.3,   2.7593,  34.9067,2,  34.9059,2,    245.6,2,    244.9,2,    37.36,2,    21.41,2,     0.00,2,     1.46,2, -999.000,9, -999.000,9, -999.000,9,   -999.0,9,   -999.0,9,  2.5411
     316N142_3,  AR15,   126,  1,     15,     15,2,19940513,0949,-17.6750, -26.4157, 5427,   2937.6,   2.6964,  34.9040,2,  34.9031,2,    245.9,2,    245.2,2,    38.56,2,    21.36,2,     0.00,2,     1.48,2, -999.000,9,    0.005,2,    0.036,2,   2186.2,2,   2330.3,2,  2.4588
     316N142_3,  AR15,   126,  1,     14,     14,2,19940513,0949,-17.6750, -26.4157, 5427,   3140.4,   2.6458,  34.9038,2,  34.9039,2,    247.4,2,    247.2,2,    38.54,2,    21.18,2,     0.00,2,     1.46,2, -999.000,9, -999.000,9, -999.000,9,   -999.0,9,   -999.0,9,  2.3883
     316N142_3,  AR15,   126,  1,     13,     13,2,19940513,0949,-17.6750, -26.4157, 5427,   3344.5,   2.5714,  34.9018,2,  34.9019,2,    249.5,2,    249.6,2,    38.82,2,    21.00,2,     0.00,2,     1.46,2, -999.000,9,    0.011,2,    0.008,2,   2183.8,2,   2332.1,2,  2.2940
     316N142_3,  AR15,   126,  1,     12,     12,2,19940513,0949,-17.6750, -26.4157, 5427,   3548.6,   2.4304,  34.8893,2,  34.8897,2,    249.1,2,    249.0,2,    43.06,2,    21.42,2,     0.00,2,     1.49,2, -999.000,9, -999.000,9, -999.000,9,   -999.0,9,   -999.0,9,  2.1346
     316N142_3,  AR15,   126,  1,     11,     11,2,19940513,0949,-17.6750, -26.4157, 5427,   3752.4,   2.1690,  34.8635,2,  34.8642,2,    245.9,2,    245.9,2,    52.19,2,    22.78,2,     0.00,2,     1.58,2, -999.000,9,    0.010,2,    0.028,2,   2197.2,2,   2339.5,2,  1.8578
     316N142_3,  AR15,   126,  1,     10,     10,2,19940513,0949,-17.6750, -26.4157, 5427,   3956.6,   1.8796,  34.8333,2,  34.8335,2,    241.5,2,    241.8,2,    63.37,2,    24.61,2,     0.00,2,     1.68,2, -999.000,9, -999.000,9, -999.000,9,   -999.0,9,   -999.0,9,  1.5539
     316N142_3,  AR15,   126,  1,      9,      9,2,19940513,0949,-17.6750, -26.4157, 5427,   4161.5,   1.4803,  34.7947,2,  34.7939,2,    235.8,2,    236.2,2,    78.05,2,    26.99,2,     0.00,2,     1.84,2, -999.000,9,    0.026,2,    0.004,2,   2225.5,2,   2349.5,2,  1.1435
     316N142_3,  AR15,   126,  1,      8,      8,2,19940513,0949,-17.6750, -26.4157, 5427,   4366.1,   1.2349,  34.7681,2,  34.7676,2,    231.7,2,    232.3,2,    88.18,2,    28.57,2,     0.00,2,     1.93,2, -999.000,9, -999.000,9, -999.000,9,   -999.0,9,   -999.0,9,  0.8828
     316N142_3,  AR15,   126,  1,      7,      7,2,19940513,0949,-17.6750, -26.4157, 5427,   4570.5,   1.0295,  34.7457,2,  34.7462,2,    228.5,2,    229.1,2,    97.29,2,    29.94,2,     0.00,2,     2.02,2, -999.000,9,    0.013,2,    0.045,2,   2243.7,2,   2353.5,2,  0.6608
     316N142_3,  AR15,   126,  1,      6,      6,2,19940513,0949,-17.6750, -26.4157, 5427,   4775.3,   0.9188,  34.7326,2,  34.7334,2,    226.8,2,    227.1,2,   102.66,2,    30.84,2,     0.00,2,     2.06,2, -999.000,9, -999.000,9, -999.000,9,   -999.0,9,   -999.0,9,  0.5303
     316N142_3,  AR15,   126,  1,      5,      5,2,19940513,0949,-17.6750, -26.4157, 5427,   4981.0,   0.7992,  34.7188,2,  34.7192,2,    225.2,2,    225.4,2,   108.22,2,    31.81,2,     0.00,2,     2.12,2, -999.000,9,    0.012,2,    0.023,2,   2252.4,2,   2366.4,2,  0.3908
     316N142_3,  AR15,   126,  1,      4,      4,2,19940513,0949,-17.6750, -26.4157, 5427,   5186.1,   0.7428,  34.7107,2,  34.7110,2,    224.4,2,    224.4,2,   111.55,2,    32.25,2,     0.00,2,     2.15,2, -999.000,9, -999.000,9, -999.000,9,   -999.0,9,   -999.0,9,  0.3121
     316N142_3,  AR15,   126,  1,      3,      3,2,19940513,0949,-17.6750, -26.4157, 5427,   5391.9,   0.6818,  34.7021,2,  34.7023,2,    223.5,2,    223.3,2,   114.26,2,    32.61,2,     0.00,2,     2.17,2, -999.000,9,    0.017,2,    0.324,2,   2257.3,2,   2369.9,2,  0.2284
     316N142_3,  AR15,   126,  1,      2,      2,2,19940513,0949,-17.6750, -26.4157, 5427,   5598.2,   0.6615,  34.6971,2,  34.6976,2,    224.0,2,    222.8,2,   116.00,2,    32.91,2,     0.00,2,     2.19,2, -999.000,9,    0.026,2,    0.232,2,   -999.0,9,   -999.0,9,  0.1834
     316N142_3,  AR15,   126,  1,      1,      1,2,19940513,0949,-17.6750, -26.4157, 5427,   5761.0,   0.6316,  34.6919,2,  34.6927,2,    222.6,2,    222.3,2,   117.75,2,    33.01,2,     0.00,2,     2.21,2, -999.000,9,    0.028,2,    0.277,2,   2262.1,2,   2365.1,2,  0.1343