BOTTLE,20020814WHPSIOKJU
EXPOCODE,SECT_ID,STNNBR,CASTNO,SAMPNO,BTLNBR,BTLNBR_FLAG_W,DATE,TIME,LATITUDE,LONGITUDE,DEPTH,CTDPRS,CTDTMP,CTDSAL,CTDSAL_FLAG_W,SALNTY,SALNTY_FLAG_W,CTDOXY,CTDOXY_FLAG_W,OXYGEN,OXYGEN_FLAG_W,SILCAT,SILCAT_FLAG_W,NITRAT,NITRAT_FLAG_W,NITRIT,NITRIT_FLAG_W,PHSPHT,PHSPHT_FLAG_W,CFC-11,CFC-11_FLAG_W,CFC-12,CFC-12_FLAG_W,CCL4,CCL4_FLAG_W,TCARBN,TCARBN_FLAG_W,ALKALI,ALKALI_FLAG_W,THETA
,,,,,,,,,,,,DBAR,ITS-90,PSS-78,,PSS-78,,UMOL/KG,,UMOL/KG,,UMOL/KG,,UMOL/KG,,UMOL/KG,,UMOL/KG,,PMOL/KG,,PMOL/KG,,PMOL/KG,,UMOL/KG,,UMOL/KG,,DEG C
     316N142_3,  AR15,   132,  1,     39,     39,2,19940514,2301,-17.6437, -29.4823, 4934,     11.1,  26.8487,  37.3957,2,  37.3977,2,    200.7,2,    201.6,2,     2.04,2,     0.00,2,     0.00,2,     0.12,2, -999.000,9, -999.000,9, -999.000,9,   -999.0,9,   -999.0,9, 26.8461
     316N142_3,  AR15,   132,  1,     35,     35,2,19940514,2301,-17.6437, -29.4823, 4934,    105.5,  23.8800,  36.9173,2,  36.9200,2,    223.5,2,    214.8,2,     2.02,2,     0.00,2,     0.00,2,     0.17,2,    1.939,2,    1.139,2,    1.277,2,   2082.3,2,   2412.6,2, 23.8577
     316N142_3,  AR15,   132,  1,     38,     38,2,19940514,2301,-17.6437, -29.4823, 4934,    204.5,  17.7912,  35.8905,2,  35.8898,2,    203.9,2,    195.9,2,     2.94,2,     3.92,2,     0.00,2,     0.48,2,    2.290,2,    1.275,2,    0.817,2,   2099.0,2,   2352.4,2, 17.7561
     316N142_3,  AR15,   132,  1,     33,     33,2,19940514,2301,-17.6437, -29.4823, 4934,    305.3,  13.4422,  35.2340,2,  35.2328,2,    174.7,2,    172.3,2,     5.88,2,    13.31,2,     0.00,2,     0.98,2,    1.835,2,    1.076,2,    0.443,2,   2128.1,2,   2312.8,2, 13.3990
     316N142_3,  AR15,   132,  1,     41,     41,2,19940514,2301,-17.6437, -29.4823, 4934,    406.3,  10.5271,  34.8851,2,  34.8851,2,    167.0,2,    161.5,2,    10.08,2,    20.48,2,     0.00,2,     1.42,2, -999.000,9, -999.000,9, -999.000,9,   2155.4,2,   2297.5,2, 10.4780
     316N142_3,  AR15,   132,  1,     31,     31,2,19940514,2301,-17.6437, -29.4823, 4934,    527.3,   7.4975,  34.6088,2,  34.6077,2,    148.9,2,    148.6,2,    18.19,2,    28.57,2,     0.00,2,     1.94,2,    0.556,2,    0.281,2,    0.675,2,   2187.7,2,   2290.8,2,  7.4453
     316N142_3,  AR15,   132,  1,     37,     37,2,19940514,2301,-17.6437, -29.4823, 4934,    647.2,   5.5320,  34.4631,2,  34.4626,2,    161.7,2,    163.7,2,    25.38,2,    31.39,2,     0.00,2,     2.15,2,    0.255,2,    0.139,2,    0.582,2,   2200.1,2,   2292.4,2,  5.4772
     316N142_3,  AR15,   132,  1,     29,     29,3,19940514,2301,-17.6437, -29.4823, 4934,    769.3,   4.3705,  34.4170,2,  34.7094,4,    175.5,2,   -999.0,9,    28.19,4,    28.47,4,     0.00,4,     1.98,4, -999.000,9, -999.000,9, -999.000,9,   -999.0,9,   -999.0,9,  4.3115
     316N142_3,  AR15,   132,  1,     28,     28,2,19940514,2301,-17.6437, -29.4823, 4934,    939.2,   3.7945,  34.4673,2,  34.4691,2,    179.7,2,    181.0,2,    39.03,2,    32.21,2,     0.00,2,     2.25,2,    0.178,2,    0.080,2,    0.199,2,   2212.7,2,   2306.0,2,  3.7254
     316N142_3,  AR15,   132,  1,     27,     27,2,19940514,2301,-17.6437, -29.4823, 4934,   1111.5,   3.7241,  34.5985,2,  34.5977,2,    181.0,2,    182.1,2,    38.72,2,    30.83,2,     0.00,2,     2.15,2, -999.000,9, -999.000,9, -999.000,9,   2212.7,2,   2310.2,2,  3.6413
     316N142_3,  AR15,   132,  1,     26,     26,2,19940514,2301,-17.6437, -29.4823, 4934,   1230.8,   3.7882,  34.6955,2,  34.6970,2,    187.0,2,    188.5,2,    35.57,2,    29.08,2,     0.00,2,     2.01,2, -999.000,9, -999.000,9, -999.000,9,   -999.0,9,   -999.0,9,  3.6945
     316N142_3,  AR15,   132,  1,     25,     25,2,19940514,2301,-17.6437, -29.4823, 4934,   1358.3,   3.8523,  34.7982,2,  34.7979,2,    199.3,2,    201.5,2,    31.32,2,    26.59,2,     0.00,2,     1.83,2,    0.041,4,    0.014,6,    0.094,2,   2196.5,2,   2313.9,2,  3.7467
     316N142_3,  AR15,   132,  1,     24,     24,2,19940514,2301,-17.6437, -29.4823, 4934,   1514.6,   3.7496,  34.8777,2,  34.8768,2,    218.3,2,    219.9,2,    28.17,2,    23.89,2,     0.00,2,     1.63,2, -999.000,9, -999.000,9, -999.000,9,   -999.0,9,   -999.0,9,  3.6312
     316N142_3,  AR15,   132,  1,     23,     23,2,19940514,2301,-17.6437, -29.4823, 4934,   1665.9,   3.5541,  34.9093,2,  34.9096,2,    231.4,2,    233.3,2,    27.38,2,    22.19,2,     0.00,2,     1.52,2, -999.000,9, -999.000,9, -999.000,9,   2177.9,2,   2324.2,2,  3.4243
     316N142_3,  AR15,   132,  1,     22,     22,2,19940514,2301,-17.6437, -29.4823, 4934,   1818.8,   3.4666,  34.9392,2,  34.9405,2,    244.6,2,    245.1,2,    24.70,2,    20.65,2,     0.00,2,     1.40,2, -999.000,9, -999.000,9, -999.000,9,   -999.0,9,   -999.0,9,  3.3239
     316N142_3,  AR15,   132,  1,     21,     21,2,19940514,2301,-17.6437, -29.4823, 4934,   1980.4,   3.3248,  34.9428,2,  34.9444,2,    249.1,2,    248.8,2,    25.01,2,    20.23,2,     0.00,2,     1.37,2, -999.000,9,    0.015,2,    0.211,2,   2170.2,2,   2321.1,2,  3.1693
     316N142_3,  AR15,   132,  1,     20,     20,2,19940514,2301,-17.6437, -29.4823, 4934,   2122.9,   3.1842,  34.9383,2,  34.9385,2,    251.6,2,    250.0,2,    26.89,2,    20.29,2,     0.00,2,     1.38,2, -999.000,9, -999.000,9, -999.000,9,   -999.0,9,   -999.0,9,  3.0174
     316N142_3,  AR15,   132,  1,     19,     19,2,19940514,2301,-17.6437, -29.4823, 4934,   2276.0,   3.0546,  34.9317,2,  34.9324,2,    251.1,2,   -999.0,9,    28.93,2,    20.46,2,     0.00,2,     1.40,2, -999.000,9, -999.000,9, -999.000,9,   -999.0,9,   -999.0,9,  2.8754
     316N142_3,  AR15,   132,  1,     40,     40,2,19940514,2301,-17.6437, -29.4823, 4934,   2427.9,   2.9496,  34.9249,2,  34.9257,2,    249.3,2,    248.9,2,    30.98,2,    20.68,2,     0.00,2,     1.41,2, -999.000,9,    0.010,2,    0.317,2,   -999.0,9,   -999.0,9,  2.7577
     316N142_3,  AR15,   132,  1,     17,     17,2,19940514,2301,-17.6437, -29.4823, 4934,   2580.3,   2.8723,  34.9207,2,  34.9206,2,    249.6,2,    248.8,2,  -999.00,9,  -999.00,9,  -999.00,9,  -999.00,9, -999.000,9, -999.000,9, -999.000,9,   2179.0,2,   2330.3,2,  2.6669
     316N142_3,  AR15,   132,  1,     16,     16,2,19940514,2301,-17.6437, -29.4823, 4934,   2784.4,   2.7889,  34.9164,2,  34.9161,2,    249.5,2,    249.0,2,  -999.00,9,  -999.00,9,  -999.00,9,  -999.00,9, -999.000,9, -999.000,9, -999.000,9,   -999.0,9,   -999.0,9,  2.5649
     316N142_3,  AR15,   132,  1,     15,     15,2,19940514,2301,-17.6437, -29.4823, 4934,   2936.0,   2.7285,  34.9114,2,  34.9116,2,    249.2,2,    248.4,2,  -999.00,9,  -999.00,9,  -999.00,9,  -999.00,9, -999.000,9,    0.011,2, -999.000,9,   2181.8,2,   2331.0,2,  2.4903
     316N142_3,  AR15,   132,  1,     14,     14,2,19940514,2301,-17.6437, -29.4823, 4934,   3089.7,   2.6612,  34.9066,2,  34.9065,2,    247.5,2,    248.1,2,  -999.00,9,  -999.00,9,  -999.00,9,  -999.00,9, -999.000,9, -999.000,9, -999.000,9,   -999.0,9,   -999.0,9,  2.4086
     316N142_3,  AR15,   132,  1,     13,     13,2,19940514,2301,-17.6437, -29.4823, 4934,   3242.5,   2.6065,  34.9044,2,  34.9047,2,    249.2,2,    249.3,2,    37.93,2,    21.22,2,     0.00,2,     1.45,2, -999.000,9, -999.000,9, -999.000,9,   2182.8,2,   2334.5,2,  2.3392
     316N142_3,  AR15,   132,  1,     12,     12,2,19940514,2301,-17.6437, -29.4823, 4934,   3444.4,   2.5065,  34.8975,2,  34.8982,2,    249.9,2,    250.4,2,    39.83,2,    21.33,2,     0.00,2,     1.45,2, -999.000,9, -999.000,9, -999.000,9,   -999.0,9,   -999.0,9,  2.2200
     316N142_3,  AR15,   132,  1,     11,     11,2,19940514,2301,-17.6437, -29.4823, 4934,   3599.2,   2.3931,  34.8875,2,  34.8916,3,    250.4,2,    250.0,2,    43.15,2,    21.71,2,     0.00,2,     1.47,2, -999.000,9,    0.003,2,    0.119,2,   2187.4,2,   2333.1,2,  2.0927
     316N142_3,  AR15,   132,  1,     10,     10,2,19940514,2301,-17.6437, -29.4823, 4934,   3752.5,   2.2511,  34.8749,2,  34.8760,2,    248.7,2,    249.5,2,    47.76,2,    22.25,2,     0.00,2,     1.52,2, -999.000,9, -999.000,9, -999.000,9,   -999.0,9,   -999.0,9,  1.9377
     316N142_3,  AR15,   132,  1,      9,      9,2,19940514,2301,-17.6437, -29.4823, 4934,   3905.8,   2.0958,  34.8601,2,  34.8603,2,    247.6,2,    247.5,2,    53.66,2,    23.00,2,     0.00,2,     1.57,2, -999.000,9, -999.000,9, -999.000,9,   2195.3,2,   2337.5,2,  1.7696
     316N142_3,  AR15,   132,  1,      8,      8,2,19940514,2301,-17.6437, -29.4823, 4934,   4059.1,   1.9010,  34.8397,2,  34.8405,2,    245.4,2,    244.8,2,    61.18,2,    23.97,2,     0.00,2,     1.64,2, -999.000,9,    0.009,2,    0.054,2,   -999.0,9,   -999.0,9,  1.5633
     316N142_3,  AR15,   132,  1,      7,      7,2,19940514,2301,-17.6437, -29.4823, 4934,   4211.5,   1.6888,  34.8161,2,  34.8169,2,    241.1,2,    240.7,2,    71.00,2,    25.42,2,     0.00,2,     1.74,2, -999.000,9, -999.000,9, -999.000,9,   2214.7,2,   2346.4,2,  1.3401
     316N142_3,  AR15,   132,  1,      6,      6,2,19940514,2301,-17.6437, -29.4823, 4934,   4365.3,   1.4950,  34.7942,2,  34.7953,2,    237.0,2,    236.8,2,    79.76,2,    26.55,2,     0.00,2,     1.82,2, -999.000,9,    0.009,2, -999.000,9,   -999.0,9,   -999.0,9,  1.1348
     316N142_3,  AR15,   132,  1,      5,      5,2,19940514,2301,-17.6437, -29.4823, 4934,   4518.7,   1.2564,  34.7662,2,  34.7702,3,    232.3,2,    231.6,2,    90.53,2,    28.06,2,     0.00,2,     1.93,2, -999.000,9,    0.012,2,    0.149,2,   2234.6,2,   2354.7,2,  0.8863
     316N142_3,  AR15,   132,  1,      4,      4,2,19940514,2301,-17.6437, -29.4823, 4934,   4673.1,   0.9811,  34.7384,2,  34.7382,2,    227.5,2,    227.5,2,   100.92,2,    29.35,2,     0.00,2,     2.04,2, -999.000,9,    0.012,2,    0.074,2,   -999.0,9,   -999.0,9,  0.6023
     316N142_3,  AR15,   132,  1,      3,      3,2,19940514,2301,-17.6437, -29.4823, 4934,   4826.2,   0.5994,  34.6991,2,  34.7000,2,    222.9,2,    222.6,2,   115.26,2,    31.18,2,     0.00,2,     2.18,2, -999.000,9,    0.027,2,    0.375,2,   2255.8,2,   2363.2,2,  0.2159
     316N142_3,  AR15,   132,  1,      2,      2,2,19940514,2301,-17.6437, -29.4823, 4934,   4949.8,   0.3620,  34.6766,2,  34.6768,2,    221.3,2,    220.9,2,   123.37,2,    32.15,2,     0.00,2,     2.25,2, -999.000,9,    0.056,2,    0.390,2,   -999.0,9,   -999.0,9, -0.0276
     316N142_3,  AR15,   132,  1,      1,      1,2,19940514,2301,-17.6437, -29.4823, 4934,   5046.4,   0.3707,  34.6764,2,  34.6819,4,    220.3,2,    221.0,2,   123.24,2,    32.16,2,     0.00,2,     2.25,2, -999.000,9,    0.051,6,    0.441,6,   2263.3,2,   2365.0,2, -0.0304