BOTTLE,20020814WHPSIOKJU
EXPOCODE,SECT_ID,STNNBR,CASTNO,SAMPNO,BTLNBR,BTLNBR_FLAG_W,DATE,TIME,LATITUDE,LONGITUDE,DEPTH,CTDPRS,CTDTMP,CTDSAL,CTDSAL_FLAG_W,SALNTY,SALNTY_FLAG_W,CTDOXY,CTDOXY_FLAG_W,OXYGEN,OXYGEN_FLAG_W,SILCAT,SILCAT_FLAG_W,NITRAT,NITRAT_FLAG_W,NITRIT,NITRIT_FLAG_W,PHSPHT,PHSPHT_FLAG_W,CFC-11,CFC-11_FLAG_W,CFC-12,CFC-12_FLAG_W,CCL4,CCL4_FLAG_W,TCARBN,TCARBN_FLAG_W,ALKALI,ALKALI_FLAG_W,THETA
,,,,,,,,,,,,DBAR,ITS-90,PSS-78,,PSS-78,,UMOL/KG,,UMOL/KG,,UMOL/KG,,UMOL/KG,,UMOL/KG,,UMOL/KG,,PMOL/KG,,PMOL/KG,,PMOL/KG,,UMOL/KG,,UMOL/KG,,DEG C
     316N142_3,   A15,    63,  1,     39,     39,2,19940423,1453, -8.9998, -19.0000, 4304,      5.9,  27.7300,  36.3388,2,  36.3400,2,    198.2,2,    198.8,2,     2.07,2,     0.18,2,     0.01,2,     0.14,2, -999.000,9, -999.000,9, -999.000,9,   2026.2,2,   2377.1,2, 27.7286
     316N142_3,   A15,    63,  1,     35,     35,2,19940423,1453, -8.9998, -19.0000, 4304,     58.9,  27.3568,  36.7065,2,  36.7010,2,    206.8,2,    203.7,2,     1.91,2,     0.14,2,     0.01,2,     0.16,2, -999.000,9, -999.000,9, -999.000,9,   2047.7,2,   2397.2,2, 27.3431
     316N142_3,   A15,    63,  1,     38,     38,2,19940423,1453, -8.9998, -19.0000, 4304,     89.8,  24.9354,  36.8336,2,  36.8363,2,    223.2,2,    219.6,2,     1.75,2,     0.14,2,     0.01,2,     0.17,2, -999.000,9, -999.000,9, -999.000,9,   2063.6,2,   2410.3,2, 24.9158
     316N142_3,   A15,    63,  1,     33,     33,2,19940423,1453, -8.9998, -19.0000, 4304,    165.4,  16.0026,  35.7037,2,  35.6984,2,    143.9,2,    136.4,2,     6.01,2,    14.79,2,     0.02,2,     1.08,2, -999.000,9, -999.000,9, -999.000,9,   2154.2,2,   2336.2,2, 15.9763
     316N142_3,   A15,    63,  1,     41,     41,2,19940423,1453, -8.9998, -19.0000, 4304,    235.2,  11.5590,  35.1190,2,  35.1183,2,     91.3,2,     86.3,2,    11.87,2,    27.09,2,     0.01,2,     1.77,2, -999.000,9, -999.000,9, -999.000,9,   2202.4,2,   2303.1,2, 11.5290
     316N142_3,   A15,    63,  1,     31,     31,2,19940423,1453, -8.9998, -19.0000, 4304,    314.5,   9.4044,  34.8642,2,  34.8635,2,     87.8,2,     84.1,2,    16.01,2,    31.64,2,     0.01,2,     2.04,2, -999.000,9, -999.000,9, -999.000,9,   2217.2,2,   2294.2,2,  9.3691
     316N142_3,   A15,    63,  1,     37,     37,2,19940423,1453, -8.9998, -19.0000, 4304,    398.7,   7.9959,  34.7124,2,  34.7115,2,     94.0,2,     94.5,2,    19.21,2,    33.78,2,     0.00,2,     2.19,2, -999.000,9, -999.000,9, -999.000,9,   2221.9,2,   2290.5,2,  7.9552
     316N142_3,   A15,    63,  1,     29,     29,2,19940423,1453, -8.9998, -19.0000, 4304,    484.4,   7.1155,  34.6266,2,  34.6243,2,    100.8,2,    101.7,2,    21.88,2,    35.06,2,     0.00,2,     2.28,2, -999.000,9, -999.000,9, -999.000,9,   2225.3,2,   2288.9,2,  7.0690
     316N142_3,   A15,    63,  1,     28,     28,2,19940423,1453, -8.9998, -19.0000, 4304,    580.8,   6.4517,  34.5744,2,  34.5726,2,    104.4,2,    104.4,2,    24.41,2,    36.16,2,     0.00,2,     2.38,2, -999.000,9, -999.000,9, -999.000,9,   2229.6,2,   2285.9,2,  6.3986
     316N142_3,   A15,    63,  1,     27,     27,2,19940423,1453, -8.9998, -19.0000, 4304,    664.1,   5.6728,  34.5217,2,  34.5196,2,    119.1,2,    116.6,2,    27.75,2,    36.50,2,     0.00,2,     2.42,2, -999.000,9, -999.000,9, -999.000,9,   2230.8,2,   2290.9,2,  5.6156
     316N142_3,   A15,    63,  1,     26,     26,2,19940423,1453, -8.9998, -19.0000, 4304,    764.9,   4.9224,  34.4934,2,  34.4927,2,    131.2,2,    134.9,2,    31.77,2,    36.14,2,     0.00,2,     2.44,2, -999.000,9, -999.000,9, -999.000,9,   -999.0,9,   -999.0,9,  4.8605
     316N142_3,   A15,    63,  1,     25,     25,2,19940423,1453, -8.9998, -19.0000, 4304,    854.8,   4.4729,  34.4991,2,  34.4974,2,    143.7,2,    146.6,2,    34.44,2,    35.25,2,     0.00,2,     2.40,2, -999.000,9, -999.000,9, -999.000,9,   -999.0,9,   -999.0,9,  4.4061
     316N142_3,   A15,    63,  1,     24,     24,2,19940423,1453, -8.9998, -19.0000, 4304,    956.7,   4.1359,  34.5505,2,  34.5479,2,    158.5,2,    161.2,2,    36.04,2,    33.55,2,     0.00,2,     2.31,2, -999.000,9, -999.000,9, -999.000,9,   -999.0,9,   -999.0,9,  4.0628
     316N142_3,   A15,    63,  1,     23,     23,2,19940423,1453, -8.9998, -19.0000, 4304,   1058.8,   4.1100,  34.6195,2,  34.6172,2,    164.1,2,    165.9,2,    34.96,2,    32.33,2,     0.00,2,     2.22,2, -999.000,9, -999.000,9, -999.000,9,   -999.0,9,   -999.0,9,  4.0284
     316N142_3,   A15,    63,  1,     22,     22,2,19940423,1453, -8.9998, -19.0000, 4304,   1158.7,   4.1353,  34.6964,2,  34.6943,2,    170.2,2,    174.0,2,    32.66,2,    30.63,2,     0.00,2,     2.10,2, -999.000,9, -999.000,9, -999.000,9,   -999.0,9,   -999.0,9,  4.0447
     316N142_3,   A15,    63,  1,     21,     21,2,19940423,1453, -8.9998, -19.0000, 4304,   1260.0,   4.1344,  34.7806,2,  34.7788,2,    183.7,2,    187.0,2,    29.42,2,    28.22,2,     0.00,2,     1.91,2, -999.000,9, -999.000,9, -999.000,9,   -999.0,9,   -999.0,9,  4.0348
     316N142_3,   A15,    63,  1,     20,     20,2,19940423,1453, -8.9998, -19.0000, 4304,   1361.9,   4.1354,  34.8461,2,  34.8453,2,    198.4,2,    199.9,2,    26.45,2,    26.10,2,     0.00,2,     1.79,2, -999.000,9, -999.000,9, -999.000,9,   -999.0,9,   -999.0,9,  4.0265
     316N142_3,   A15,    63,  1,     19,     19,2,19940423,1453, -8.9998, -19.0000, 4304,   1463.2,   4.1292,  34.9006,2,  34.8999,2,    212.3,2,    214.3,2,    23.61,2,    24.02,2,     0.00,2,     1.66,2, -999.000,9, -999.000,9, -999.000,9,   -999.0,9,   -999.0,9,  4.0111
     316N142_3,   A15,    63,  1,     40,     40,2,19940423,1453, -8.9998, -19.0000, 4304,   1615.8,   3.9031,  34.9406,2,  34.9413,2,    232.2,2,    232.1,2,    22.11,2,    21.80,2,     0.00,2,     1.51,2, -999.000,9, -999.000,9, -999.000,9,   -999.0,9,   -999.0,9,  3.7735
     316N142_3,   A15,    63,  1,     17,     17,2,19940423,1453, -8.9998, -19.0000, 4304,   1768.2,   3.6749,  34.9510,2,  34.9513,2,    241.9,2,    241.8,2,    22.50,2,    20.81,2,     0.00,2,     1.44,2, -999.000,9, -999.000,9, -999.000,9,   -999.0,9,   -999.0,9,  3.5340
     316N142_3,   A15,    63,  1,     16,     16,2,19940423,1453, -8.9998, -19.0000, 4304,   1920.0,   3.4915,  34.9496,2,  34.9495,2,    246.7,2,    245.9,2,    23.97,2,    20.48,2,     0.00,2,     1.43,2, -999.000,9, -999.000,9, -999.000,9,   -999.0,9,   -999.0,9,  3.3392
     316N142_3,   A15,    63,  1,     15,     15,2,19940423,1453, -8.9998, -19.0000, 4304,   2073.1,   3.2948,  34.9393,2,  34.9377,2,    245.8,2,    245.6,2,    27.46,2,    20.77,2,     0.00,2,     1.44,2, -999.000,9, -999.000,9, -999.000,9,   -999.0,9,   -999.0,9,  3.1309
     316N142_3,   A15,    63,  1,     14,     14,2,19940423,1453, -8.9998, -19.0000, 4304,   2224.4,   3.1148,  34.9328,2,  34.9311,2,    246.2,2,    246.1,2,    30.28,2,    20.92,2,     0.00,2,     1.45,2, -999.000,9, -999.000,9, -999.000,9,   -999.0,9,   -999.0,9,  2.9395
     316N142_3,   A15,    63,  1,     13,     13,2,19940423,1453, -8.9998, -19.0000, 4304,   2377.2,   2.9242,  34.9186,2,  34.9171,2,    244.9,2,    245.4,2,    35.00,2,    21.54,2,     0.00,2,     1.49,2, -999.000,9, -999.000,9, -999.000,9,   -999.0,9,   -999.0,9,  2.7376
     316N142_3,   A15,    63,  1,     12,     12,2,19940423,1453, -8.9998, -19.0000, 4304,   2529.5,   2.8362,  34.9118,2,  34.9110,2,    244.0,2,    243.0,2,    37.42,2,    21.83,2,     0.00,2,     1.51,2, -999.000,9, -999.000,9, -999.000,9,   -999.0,9,   -999.0,9,  2.6365
     316N142_3,   A15,    63,  1,     11,     11,2,19940423,1453, -8.9998, -19.0000, 4304,   2733.9,   2.7500,  34.9057,2,  34.9047,2,    242.7,2,    242.8,2,    39.84,2,    22.07,2,     0.00,2,     1.53,2, -999.000,9, -999.000,9, -999.000,9,   -999.0,9,   -999.0,9,  2.5318
     316N142_3,   A15,    63,  1,     10,     10,2,19940423,1453, -8.9998, -19.0000, 4304,   2936.3,   2.6958,  34.9046,2,  34.9033,2,    244.2,2,    242.2,2,    40.51,2,    22.03,2,     0.00,2,     1.52,2, -999.000,9, -999.000,9, -999.000,9,   -999.0,9,   -999.0,9,  2.4583
     316N142_3,   A15,    63,  1,      9,      9,2,19940423,1453, -8.9998, -19.0000, 4304,   3139.2,   2.6432,  34.9049,2,  34.9037,2,    245.6,2,    245.8,2,    40.10,2,    21.70,2,     0.00,2,     1.50,2, -999.000,9, -999.000,9, -999.000,9,   -999.0,9,   -999.0,9,  2.3859
     316N142_3,   A15,    63,  1,      8,      8,2,19940423,1453, -8.9998, -19.0000, 4304,   3289.8,   2.5742,  34.9016,2,  34.9006,2,    248.3,2,    246.9,2,    41.18,2,    21.66,2,     0.00,2,     1.50,2, -999.000,9, -999.000,9, -999.000,9,   -999.0,9,   -999.0,9,  2.3026
     316N142_3,   A15,    63,  1,      7,      7,2,19940423,1453, -8.9998, -19.0000, 4304,   3442.8,   2.4988,  34.9006,2,  34.8980,2,    251.5,2,    252.1,2,    40.36,2,    21.24,2,     0.00,2,     1.48,2, -999.000,9, -999.000,9, -999.000,9,   -999.0,9,   -999.0,9,  2.2127
     316N142_3,   A15,    63,  1,      6,      6,2,19940423,1453, -8.9998, -19.0000, 4304,   3596.9,   2.4345,  34.8950,2,  34.8933,2,    250.8,2,    252.3,2,    41.98,2,    21.34,2,     0.00,2,     1.48,2, -999.000,9, -999.000,9, -999.000,9,   -999.0,9,   -999.0,9,  2.1333
     316N142_3,   A15,    63,  1,      5,      5,2,19940423,1453, -8.9998, -19.0000, 4304,   3750.2,   2.2747,  34.8788,2,  34.8760,2,    249.9,2,    249.8,2,    47.93,2,    22.11,2,     0.00,2,     1.53,2, -999.000,9, -999.000,9, -999.000,9,   -999.0,9,   -999.0,9,  1.9609
     316N142_3,   A15,    63,  1,      4,      4,2,19940423,1453, -8.9998, -19.0000, 4304,   3902.7,   2.1160,  34.8619,2,  34.8603,2,    247.3,2,    247.8,2,    54.56,2,    23.02,2,     0.00,2,     1.60,2, -999.000,9, -999.000,9, -999.000,9,   -999.0,9,   -999.0,9,  1.7896
     316N142_3,   A15,    63,  1,      3,      3,2,19940423,1453, -8.9998, -19.0000, 4304,   4056.9,   1.8938,  34.8377,2,  34.8361,2,    243.6,2,    243.6,2,    63.74,2,    24.35,2,     0.00,2,     1.69,2, -999.000,9, -999.000,9, -999.000,9,   -999.0,9,   -999.0,9,  1.5565
     316N142_3,   A15,    63,  1,      2,      2,2,19940423,1453, -8.9998, -19.0000, 4304,   4211.8,   1.6202,  34.8082,2,  34.8068,2,    238.7,2,    238.3,2,    75.16,2,    26.03,2,     0.00,2,     1.81,2, -999.000,9, -999.000,9, -999.000,9,   -999.0,9,   -999.0,9,  1.2736
     316N142_3,   A15,    63,  1,      1,      1,2,19940423,1453, -8.9998, -19.0000, 4304,   4376.0,   1.3576,  34.7801,2,  34.7801,2,    234.4,2,    233.7,2,    85.01,2,    27.37,2,     0.00,2,     1.91,2, -999.000,9, -999.000,9, -999.000,9,   -999.0,9,   -999.0,9,  1.0005