BOTTLE,20020814WHPSIOKJU
EXPOCODE,SECT_ID,STNNBR,CASTNO,SAMPNO,BTLNBR,BTLNBR_FLAG_W,DATE,TIME,LATITUDE,LONGITUDE,DEPTH,CTDPRS,CTDTMP,CTDSAL,CTDSAL_FLAG_W,SALNTY,SALNTY_FLAG_W,CTDOXY,CTDOXY_FLAG_W,OXYGEN,OXYGEN_FLAG_W,SILCAT,SILCAT_FLAG_W,NITRAT,NITRAT_FLAG_W,NITRIT,NITRIT_FLAG_W,PHSPHT,PHSPHT_FLAG_W,CFC-11,CFC-11_FLAG_W,CFC-12,CFC-12_FLAG_W,CCL4,CCL4_FLAG_W,TCARBN,TCARBN_FLAG_W,ALKALI,ALKALI_FLAG_W,THETA
,,,,,,,,,,,,DBAR,ITS-90,PSS-78,,PSS-78,,UMOL/KG,,UMOL/KG,,UMOL/KG,,UMOL/KG,,UMOL/KG,,UMOL/KG,,PMOL/KG,,PMOL/KG,,PMOL/KG,,UMOL/KG,,UMOL/KG,,DEG C
     316N142_3,  AR15,   137,  1,     39,     39,2,19940516,0911,-18.0233, -32.2455, 4573,     11.4,  27.2796,  37.4382,2,  37.4394,2,    197.5,2,    199.4,2,     1.95,2,     0.00,2,     0.00,2,     0.08,2, -999.000,9, -999.000,9, -999.000,9,   -999.0,9,   -999.0,9, 27.2770
     316N142_3,  AR15,   137,  1,     35,     35,2,19940516,0911,-18.0233, -32.2455, 4573,     96.0,  25.0162,  37.0469,2,  37.0409,2,    216.7,2,    221.6,2,     1.93,2,     0.00,2,     0.00,2,     0.14,2, -999.000,9, -999.000,9, -999.000,9,   -999.0,9,   -999.0,9, 24.9952
     316N142_3,  AR15,   137,  1,     38,     38,2,19940516,0911,-18.0233, -32.2455, 4573,    195.8,  19.1263,  36.1262,2,  36.1195,2,    204.7,2,    198.1,2,     2.40,2,     1.57,2,     0.02,2,     0.35,2, -999.000,9, -999.000,9, -999.000,9,   -999.0,9,   -999.0,9, 19.0909
     316N142_3,  AR15,   137,  1,     33,     33,2,19940516,0911,-18.0233, -32.2455, 4573,    286.6,  14.5377,  35.3799,2,  35.3792,2,    186.9,2,    184.5,2,     4.79,2,     9.81,2,     0.00,2,     0.78,2, -999.000,9, -999.000,9, -999.000,9,   -999.0,9,   -999.0,9, 14.4949
     316N142_3,  AR15,   137,  1,     41,     41,2,19940516,0911,-18.0233, -32.2455, 4573,    376.5,  11.5526,  34.9979,2,  35.0002,2,    165.7,2,   -999.0,9,     8.46,2,    17.82,2,     0.00,2,     1.26,2, -999.000,9, -999.000,9, -999.000,9,   -999.0,9,   -999.0,9, 11.5043
     316N142_3,  AR15,   137,  1,     31,     31,2,19940516,0911,-18.0233, -32.2455, 4573,    477.0,   8.4792,  34.6881,2,  34.6862,2,    157.8,2,    155.8,2,    15.02,2,    25.46,2,     0.00,2,     1.75,2, -999.000,9, -999.000,9, -999.000,9,   -999.0,9,   -999.0,9,  8.4285
     316N142_3,  AR15,   137,  1,     37,     37,2,19940516,0911,-18.0233, -32.2455, 4573,    587.8,   5.8279,  34.4544,2,  34.4544,2,    186.0,2,    179.2,2,    22.23,2,    29.16,2,     0.00,2,     2.02,2, -999.000,9, -999.000,9, -999.000,9,   -999.0,9,   -999.0,9,  5.7770
     316N142_3,  AR15,   137,  1,     29,     29,2,19940516,0911,-18.0233, -32.2455, 4573,    693.1,   4.6993,  34.4018,2,  34.4019,2,    183.1,2,    182.8,2,    29.28,2,    31.08,2,     0.00,2,     2.16,2, -999.000,9, -999.000,9, -999.000,9,   -999.0,9,   -999.0,9,  4.6448
     316N142_3,  AR15,   137,  1,     28,     28,2,19940516,0911,-18.0233, -32.2455, 4573,    805.9,   4.0764,  34.4170,2,  34.4127,2,    183.2,2,    182.8,2,    35.38,2,    31.94,2,     0.00,2,     2.24,2, -999.000,9, -999.000,9, -999.000,9,   -999.0,9,   -999.0,9,  4.0163
     316N142_3,  AR15,   137,  1,     27,     27,2,19940516,0911,-18.0233, -32.2455, 4573,    922.0,   3.7641,  34.4675,2,  34.4652,2,    179.2,2,    181.4,2,    39.23,2,    31.93,2,     0.00,2,     2.24,2, -999.000,9, -999.000,9, -999.000,9,   -999.0,9,   -999.0,9,  3.6966
     316N142_3,  AR15,   137,  1,     26,     26,2,19940516,0911,-18.0233, -32.2455, 4573,   1039.4,   3.6779,  34.5511,2,  34.5491,2,    180.4,2,    182.1,2,    39.85,2,    31.24,2,     0.00,2,     2.19,2, -999.000,9, -999.000,9, -999.000,9,   -999.0,9,   -999.0,9,  3.6014
     316N142_3,  AR15,   137,  1,     25,     25,2,19940516,0911,-18.0233, -32.2455, 4573,   1166.9,   3.8253,  34.6810,2,  34.6792,2,    186.1,2,    186.5,2,    35.47,2,    29.21,2,     0.00,2,     2.04,2, -999.000,9, -999.000,9, -999.000,9,   -999.0,9,   -999.0,9,  3.7367
     316N142_3,  AR15,   137,  1,     24,     24,2,19940516,0911,-18.0233, -32.2455, 4573,   1297.1,   4.1027,  34.8218,2,  34.8215,2,    197.0,2,    199.0,2,    27.89,2,    26.10,2,     0.00,2,     1.81,2, -999.000,9, -999.000,9, -999.000,9,   -999.0,9,   -999.0,9,  4.0000
     316N142_3,  AR15,   137,  1,     23,     23,2,19940516,0911,-18.0233, -32.2455, 4573,   1427.0,   3.9444,  34.8682,2,  34.8664,2,    212.4,2,    213.2,2,    26.74,2,    24.34,2,     0.00,2,     1.67,2, -999.000,9, -999.000,9, -999.000,9,   -999.0,9,   -999.0,9,  3.8317
     316N142_3,  AR15,   137,  1,     22,     22,2,19940516,0911,-18.0233, -32.2455, 4573,   1570.0,   3.8614,  34.9258,2,  34.9234,2,    228.1,2,    230.3,2,    23.19,2,    21.99,2,     0.00,2,     1.50,2, -999.000,9, -999.000,9, -999.000,9,   -999.0,9,   -999.0,9,  3.7365
     316N142_3,  AR15,   137,  1,     21,     21,2,19940516,0911,-18.0233, -32.2455, 4573,   1695.6,   3.6633,  34.9384,2,  34.9330,4,    236.8,2,    238.6,2,    23.81,2,    21.19,2,     0.00,2,     1.45,2, -999.000,9, -999.000,9, -999.000,9,   -999.0,9,   -999.0,9,  3.5293
     316N142_3,  AR15,   137,  1,     20,     20,2,19940516,0911,-18.0233, -32.2455, 4573,   1848.7,   3.5724,  34.9579,2,  34.9568,2,    248.9,2,    248.2,2,    21.71,2,    19.90,2,     0.00,2,     1.36,2, -999.000,9, -999.000,9, -999.000,9,   -999.0,9,   -999.0,9,  3.4255
     316N142_3,  AR15,   137,  1,     19,     19,2,19940516,0911,-18.0233, -32.2455, 4573,   1970.5,   3.4633,  34.9576,2,  34.9574,2,    251.6,2,    250.7,2,    22.49,2,    19.74,2,     0.00,2,     1.34,2, -999.000,9, -999.000,9, -999.000,9,   -999.0,9,   -999.0,9,  3.3065
     316N142_3,  AR15,   137,  1,     40,     40,2,19940516,0911,-18.0233, -32.2455, 4573,   2123.9,   3.2989,  34.9485,2,  34.9491,2,    252.1,2,    251.2,2,    24.71,2,    19.85,2,     0.00,2,     1.35,2, -999.000,9, -999.000,9, -999.000,9,   -999.0,9,   -999.0,9,  3.1301
     316N142_3,  AR15,   137,  1,     17,     17,2,19940516,0911,-18.0233, -32.2455, 4573,   2275.3,   3.1657,  34.9431,2,  34.9418,2,    251.6,2,    251.4,2,    26.46,2,    19.96,2,     0.00,2,     1.36,2, -999.000,9, -999.000,9, -999.000,9,   -999.0,9,   -999.0,9,  2.9847
     316N142_3,  AR15,   137,  1,     16,     16,2,19940516,0911,-18.0233, -32.2455, 4573,   2428.4,   3.0435,  34.9342,2,  34.9322,2,    251.5,2,    250.4,2,    28.69,2,    20.17,2,     0.00,2,     1.38,2, -999.000,9, -999.000,9, -999.000,9,   -999.0,9,   -999.0,9,  2.8498
     316N142_3,  AR15,   137,  1,     15,     15,2,19940516,0911,-18.0233, -32.2455, 4573,   2580.5,   2.9567,  34.9301,2,  34.9271,2,    249.5,2,    250.7,2,    30.27,2,    20.28,2,     0.00,2,     1.39,2, -999.000,9, -999.000,9, -999.000,9,   -999.0,9,   -999.0,9,  2.7497
     316N142_3,  AR15,   137,  1,     14,     14,2,19940516,0911,-18.0233, -32.2455, 4573,   2733.6,   2.8853,  34.9270,2,  34.9248,2,    249.6,2,    251.0,2,    31.06,2,    20.22,2,     0.00,2,     1.39,2, -999.000,9, -999.000,9, -999.000,9,   -999.0,9,   -999.0,9,  2.6644
     316N142_3,  AR15,   137,  1,     13,     13,2,19940516,0911,-18.0233, -32.2455, 4573,   2885.2,   2.8163,  34.9231,2,  34.9222,2,    250.8,2,    251.3,2,    32.16,2,    20.28,2,     0.00,2,     1.39,2, -999.000,9, -999.000,9, -999.000,9,   -999.0,9,   -999.0,9,  2.5814
     316N142_3,  AR15,   137,  1,     12,     12,2,19940516,0911,-18.0233, -32.2455, 4573,   3037.6,   2.7452,  34.9177,2,  34.9167,2,    251.2,2,    251.0,2,    33.75,2,    20.44,2,     0.00,2,     1.40,2, -999.000,9, -999.000,9, -999.000,9,   -999.0,9,   -999.0,9,  2.4961
     316N142_3,  AR15,   137,  1,     11,     11,2,19940516,0911,-18.0233, -32.2455, 4573,   3190.9,   2.6841,  34.9145,2,  34.9136,2,    251.7,2,    252.3,2,    34.21,2,    20.38,2,     0.00,2,     1.39,2, -999.000,9, -999.000,9, -999.000,9,   -999.0,9,   -999.0,9,  2.4204
     316N142_3,  AR15,   137,  1,     10,     10,2,19940516,0911,-18.0233, -32.2455, 4573,   3344.3,   2.6074,  34.9099,2,  34.9075,2,    251.6,2,    253.1,2,    35.47,2,    20.38,2,     0.00,2,     1.40,2, -999.000,9, -999.000,9, -999.000,9,   -999.0,9,   -999.0,9,  2.3292
     316N142_3,  AR15,   137,  1,      9,      9,2,19940516,0911,-18.0233, -32.2455, 4573,   3497.5,   2.4934,  34.8977,2,  34.8951,2,    249.5,2,    251.2,2,    39.63,2,    20.97,2,     0.00,2,     1.44,2, -999.000,9, -999.000,9, -999.000,9,   -999.0,9,   -999.0,9,  2.2015
     316N142_3,  AR15,   137,  1,      8,      8,2,19940516,0911,-18.0233, -32.2455, 4573,   3650.0,   2.3263,  34.8853,2,  34.8806,4,    251.0,2,    251.3,2,    43.31,2,    21.24,2,     0.00,2,     1.47,2, -999.000,9, -999.000,9, -999.000,9,   -999.0,9,   -999.0,9,  2.0221
     316N142_3,  AR15,   137,  1,      7,      7,2,19940516,0911,-18.0233, -32.2455, 4573,   3802.7,   2.1037,  34.8614,2,  34.8592,2,    247.5,2,    247.6,2,    52.33,2,    22.58,2,     0.00,2,     1.56,2, -999.000,9, -999.000,9, -999.000,9,   -999.0,9,   -999.0,9,  1.7887
     316N142_3,  AR15,   137,  1,      6,      6,2,19940516,0911,-18.0233, -32.2455, 4573,   3957.5,   1.8020,  34.8295,2,  34.8307,2,    243.1,2,    242.4,2,    64.32,2,    24.23,2,     0.00,2,     1.69,2, -999.000,9, -999.000,9, -999.000,9,   -999.0,9,   -999.0,9,  1.4784
     316N142_3,  AR15,   137,  1,      5,      5,2,19940516,0911,-18.0233, -32.2455, 4573,   4110.7,   1.4555,  34.7914,2,  34.7908,2,    236.0,2,    235.4,2,    79.33,2,    26.38,2,     0.00,2,     1.84,2, -999.000,9, -999.000,9, -999.000,9,   -999.0,9,   -999.0,9,  1.1251
     316N142_3,  AR15,   137,  1,      4,      4,2,19940516,0911,-18.0233, -32.2455, 4573,   4263.5,   1.1547,  34.7593,2,  34.7577,2,    230.7,2,    230.0,2,    91.85,2,    28.14,2,     0.00,2,     1.97,2, -999.000,9, -999.000,9, -999.000,9,   -999.0,9,   -999.0,9,  0.8164
     316N142_3,  AR15,   137,  1,      3,      3,2,19940516,0911,-18.0233, -32.2455, 4573,   4417.2,   0.8621,  34.7279,2,  34.7257,2,    225.6,2,    225.7,2,   103.31,2,    29.53,2,     0.00,2,     2.08,2, -999.000,9,    0.024,2,    0.298,2,   -999.0,9,   -999.0,9,  0.5159
     316N142_3,  AR15,   137,  1,      2,      2,2,19940516,0911,-18.0233, -32.2455, 4573,   4570.9,   0.5444,  34.6965,2,  34.6941,2,    221.5,2,    222.2,2,   115.23,2,    31.08,2,     0.00,2,     2.20,2, -999.000,9, -999.000,9, -999.000,9,   -999.0,9,   -999.0,9,  0.1914
     316N142_3,  AR15,   137,  1,      1,      1,2,19940516,0911,-18.0233, -32.2455, 4573,   4669.1,   0.5181,  34.6923,2,  34.6896,2,    220.3,2,    221.6,2,   116.89,2,    31.29,2,     0.00,2,     2.21,2, -999.000,9,    0.060,2,    0.297,2,   -999.0,9,   -999.0,9,  0.1550