BOTTLE,20020814WHPSIOKJU
EXPOCODE,SECT_ID,STNNBR,CASTNO,SAMPNO,BTLNBR,BTLNBR_FLAG_W,DATE,TIME,LATITUDE,LONGITUDE,DEPTH,CTDPRS,CTDTMP,CTDSAL,CTDSAL_FLAG_W,SALNTY,SALNTY_FLAG_W,CTDOXY,CTDOXY_FLAG_W,OXYGEN,OXYGEN_FLAG_W,SILCAT,SILCAT_FLAG_W,NITRAT,NITRAT_FLAG_W,NITRIT,NITRIT_FLAG_W,PHSPHT,PHSPHT_FLAG_W,CFC-11,CFC-11_FLAG_W,CFC-12,CFC-12_FLAG_W,CCL4,CCL4_FLAG_W,TCARBN,TCARBN_FLAG_W,ALKALI,ALKALI_FLAG_W,THETA
,,,,,,,,,,,,DBAR,ITS-90,PSS-78,,PSS-78,,UMOL/KG,,UMOL/KG,,UMOL/KG,,UMOL/KG,,UMOL/KG,,UMOL/KG,,PMOL/KG,,PMOL/KG,,PMOL/KG,,UMOL/KG,,UMOL/KG,,DEG C
     316N142_3,  AR15,   117,  1,     39,     39,2,19940510,2158,-18.4887, -21.6397, 5238,      6.0,  25.9464,  37.0964,2,  37.0974,2,    204.9,2,    205.3,2,     1.63,2,     0.13,2,     0.00,2,     0.21,2, -999.000,9, -999.000,9, -999.000,9,   -999.0,9,   -999.0,9, 25.9451
     316N142_3,  AR15,   117,  1,     35,     35,2,19940510,2158,-18.4887, -21.6397, 5238,     75.6,  25.9633,  37.1348,2,  37.1324,2,    207.0,2,    205.4,2,     1.50,2,     0.07,2,     0.00,2,     0.21,2, -999.000,9, -999.000,9, -999.000,9,   -999.0,9,   -999.0,9, 25.9464
     316N142_3,  AR15,   117,  1,     38,     38,2,19940510,2158,-18.4887, -21.6397, 5238,    101.7,  22.8482,  36.5452,2,  36.5487,2,    228.0,2,    227.0,2,     1.48,2,     0.07,2,     0.00,2,     0.21,2, -999.000,9, -999.000,9, -999.000,9,   -999.0,9,   -999.0,9, 22.8274
     316N142_3,  AR15,   117,  1,     33,     33,2,19940510,2158,-18.4887, -21.6397, 5238,    206.6,  15.9556,  35.5925,2,  35.5888,2,    199.8,2,    195.9,2,     3.26,2,     4.79,2,     0.00,2,     0.60,2, -999.000,9, -999.000,9, -999.000,9,   -999.0,9,   -999.0,9, 15.9228
     316N142_3,  AR15,   117,  1,     41,     41,2,19940510,2158,-18.4887, -21.6397, 5238,    306.9,  12.4122,  35.1109,2,  35.1168,2,    166.2,2,    161.2,2,     6.96,2,    15.92,2,     0.00,2,     1.19,2, -999.000,9, -999.000,9, -999.000,9,   -999.0,9,   -999.0,9, 12.3710
     316N142_3,  AR15,   117,  1,     31,     31,2,19940510,2158,-18.4887, -21.6397, 5238,    387.2,  10.4288,  34.8745,2,  34.8646,2,    162.9,2,    160.0,2,    10.19,2,    20.85,2,     0.00,2,     1.48,2, -999.000,9, -999.000,9, -999.000,9,   -999.0,9,   -999.0,9, 10.3823
     316N142_3,  AR15,   117,  1,     37,     37,2,19940510,2158,-18.4887, -21.6397, 5238,    508.0,   7.4885,  34.6087,2,  34.6061,2,    146.2,2,    145.2,2,    18.01,2,    29.79,2,     0.00,2,     1.97,2, -999.000,9, -999.000,9, -999.000,9,   -999.0,9,   -999.0,9,  7.4382
     316N142_3,  AR15,   117,  1,     29,     29,2,19940510,2158,-18.4887, -21.6397, 5238,    643.2,   5.5179,  34.4707,2,  34.4696,2,    154.5,2,    157.1,2,    25.37,2,    33.20,2,     0.00,2,     2.19,2, -999.000,9, -999.000,9, -999.000,9,   -999.0,9,   -999.0,9,  5.4635
     316N142_3,  AR15,   117,  1,     28,     28,2,19940510,2158,-18.4887, -21.6397, 5238,    778.6,   4.3389,  34.4252,2,  34.4222,2,    170.4,2,    175.5,2,    32.77,2,    33.72,2,     0.00,2,     2.25,2, -999.000,9, -999.000,9, -999.000,9,   -999.0,9,   -999.0,9,  4.2794
     316N142_3,  AR15,   117,  1,     27,     27,2,19940510,2158,-18.4887, -21.6397, 5238,    929.9,   3.8263,  34.4720,2,  34.4685,2,    178.1,2,    179.7,2,    38.14,2,    33.67,2,     0.00,2,     2.25,2, -999.000,9, -999.000,9, -999.000,9,   -999.0,9,   -999.0,9,  3.7577
     316N142_3,  AR15,   117,  1,     26,     26,2,19940510,2158,-18.4887, -21.6397, 5238,   1081.3,   3.6931,  34.5901,2,  34.5877,2,    180.4,2,    183.9,2,    38.62,2,    32.03,2,     0.00,2,     2.16,2, -999.000,9, -999.000,9, -999.000,9,   -999.0,9,   -999.0,9,  3.6131
     316N142_3,  AR15,   117,  1,     25,     25,2,19940510,2158,-18.4887, -21.6397, 5238,   1242.0,   3.7748,  34.7155,2,  34.7135,2,    191.6,2,    191.8,2,    34.46,2,    29.33,2,     0.00,2,     1.98,2, -999.000,9, -999.000,9, -999.000,9,   -999.0,9,   -999.0,9,  3.6803
     316N142_3,  AR15,   117,  1,     24,     24,2,19940510,2158,-18.4887, -21.6397, 5238,   1364.2,   3.7453,  34.7976,2,  34.7954,2,    203.9,2,    203.4,2,    31.41,2,    26.88,2,     0.00,2,     1.83,2, -999.000,9, -999.000,9, -999.000,9,   -999.0,9,   -999.0,9,  3.6404
     316N142_3,  AR15,   117,  1,     23,     23,2,19940510,2158,-18.4887, -21.6397, 5238,   1515.5,   3.6059,  34.8563,2,  34.8541,2,    217.2,2,    218.1,2,    29.82,2,    24.62,2,     0.00,2,     1.69,2, -999.000,9, -999.000,9, -999.000,9,   -999.0,9,   -999.0,9,  3.4891
     316N142_3,  AR15,   117,  1,     22,     22,2,19940510,2158,-18.4887, -21.6397, 5238,   1668.3,   3.4334,  34.8876,2,  34.8863,2,    228.5,2,    229.2,2,    29.57,2,    23.09,2,     0.00,2,     1.59,2, -999.000,9, -999.000,9, -999.000,9,   -999.0,9,   -999.0,9,  3.3050
     316N142_3,  AR15,   117,  1,     21,     21,2,19940510,2158,-18.4887, -21.6397, 5238,   1820.0,   3.3159,  34.9074,2,  34.9054,2,    238.3,2,    236.8,2,    29.20,2,    21.99,2,     0.00,2,     1.52,2, -999.000,9, -999.000,9, -999.000,9,   -999.0,9,   -999.0,9,  3.1753
     316N142_3,  AR15,   117,  1,     20,     20,2,19940510,2158,-18.4887, -21.6397, 5238,   1971.7,   3.1838,  34.9143,2,  34.9132,2,    242.8,2,    241.2,2,    29.93,2,    21.45,2,     0.00,2,     1.50,2, -999.000,9, -999.000,9, -999.000,9,   -999.0,9,   -999.0,9,  3.0312
     316N142_3,  AR15,   117,  1,     19,     19,2,19940510,2158,-18.4887, -21.6397, 5238,   2173.7,   3.0728,  34.9184,2,  34.9176,2,    244.4,2,    244.3,2,    30.78,2,    21.04,2,     0.00,2,     1.47,2, -999.000,9, -999.000,9, -999.000,9,   -999.0,9,   -999.0,9,  2.9031
     316N142_3,  AR15,   117,  1,     40,     40,2,19940510,2158,-18.4887, -21.6397, 5238,   2376.4,   2.9210,  34.9104,2,  34.9101,2,    244.6,2,    243.8,2,    34.08,2,    21.30,2,     0.00,2,     1.49,2, -999.000,9, -999.000,9, -999.000,9,   -999.0,9,   -999.0,9,  2.7346
     316N142_3,  AR15,   117,  1,     17,     17,2,19940510,2158,-18.4887, -21.6397, 5238,   2530.9,   2.8267,  34.9044,2,  34.9029,2,    243.7,2,    242.9,2,    36.41,2,    21.56,2,     0.00,2,     1.51,2, -999.000,9, -999.000,9, -999.000,9,   -999.0,9,   -999.0,9,  2.6271
     316N142_3,  AR15,   117,  1,     16,     16,2,19940510,2158,-18.4887, -21.6397, 5238,   2681.5,   2.8027,  34.9100,2,  34.9092,2,    246.0,2,    245.8,2,    35.42,2,    21.14,2,     0.00,2,     1.48,2, -999.000,9, -999.000,9, -999.000,9,   -999.0,9,   -999.0,9,  2.5887
     316N142_3,  AR15,   117,  1,     15,     15,2,19940510,2158,-18.4887, -21.6397, 5238,   2813.7,   2.7295,  34.9040,2,  34.9025,2,    244.9,2,    245.0,2,    37.51,2,    21.41,2,     0.00,2,     1.50,2, -999.000,9, -999.000,9, -999.000,9,   -999.0,9,   -999.0,9,  2.5037
     316N142_3,  AR15,   117,  1,     14,     14,2,19940510,2158,-18.4887, -21.6397, 5238,   2936.3,   2.6900,  34.9022,2,  34.9010,2,    245.8,2,    245.2,2,    38.37,2,    21.42,2,     0.00,2,     1.50,2, -999.000,9, -999.000,9, -999.000,9,   -999.0,9,   -999.0,9,  2.4526
     316N142_3,  AR15,   117,  1,     13,     13,2,19940510,2158,-18.4887, -21.6397, 5238,   3138.6,   2.6512,  34.9045,2,  34.9039,2,    247.6,2,    248.4,2,    37.51,2,    21.07,2,     0.00,2,     1.48,2, -999.000,9, -999.000,9, -999.000,9,   -999.0,9,   -999.0,9,  2.3938
     316N142_3,  AR15,   117,  1,     12,     12,2,19940510,2158,-18.4887, -21.6397, 5238,   3373.9,   2.5486,  34.8983,2,  34.8983,2,    249.5,2,    249.2,2,    39.23,2,    21.15,2,     0.00,2,     1.48,2, -999.000,9, -999.000,9, -999.000,9,   -999.0,9,   -999.0,9,  2.2686
     316N142_3,  AR15,   117,  1,     11,     11,9,19940510,2158,-18.4887, -21.6397, 5238,   3609.2,   2.3740,  34.8857,2,-999.0000,9,    250.0,2,   -999.0,9,  -999.00,9,  -999.00,9,  -999.00,9,  -999.00,9, -999.000,9, -999.000,9, -999.000,9,   -999.0,9,   -999.0,9,  2.0730
     316N142_3,  AR15,   117,  1,     10,     10,2,19940510,2158,-18.4887, -21.6397, 5238,   3782.9,   2.1104,  34.8592,2,  34.8594,2,    246.0,2,    246.5,2,    52.76,2,    23.03,2,     0.00,2,     1.60,2, -999.000,9, -999.000,9, -999.000,9,   -999.0,9,   -999.0,9,  1.7974
     316N142_3,  AR15,   117,  1,      9,      9,2,19940510,2158,-18.4887, -21.6397, 5238,   3955.3,   1.7450,  34.8225,2,  34.8209,2,    241.7,2,    240.7,2,    67.51,2,    25.29,2,     0.00,2,     1.74,2, -999.000,9, -999.000,9, -999.000,9,   -999.0,9,   -999.0,9,  1.4233
     316N142_3,  AR15,   117,  1,      8,      8,2,19940510,2158,-18.4887, -21.6397, 5238,   4161.2,   1.4591,  34.7918,2,  34.7907,2,    236.3,2,    235.8,2,    79.44,2,    27.18,2,     0.00,2,     1.85,2, -999.000,9, -999.000,9, -999.000,9,   -999.0,9,   -999.0,9,  1.1230
     316N142_3,  AR15,   117,  1,      7,      7,2,19940510,2158,-18.4887, -21.6397, 5238,   4366.5,   1.1692,  34.7619,2,  34.7611,2,    230.9,2,    231.5,2,    91.60,2,    28.89,2,     0.00,2,     1.97,2, -999.000,9, -999.000,9, -999.000,9,   -999.0,9,   -999.0,9,  0.8190
     316N142_3,  AR15,   117,  1,      6,      6,2,19940510,2158,-18.4887, -21.6397, 5238,   4569.1,   1.0238,  34.7458,2,  34.7450,2,    227.7,2,    229.6,2,    98.12,2,    29.91,2,     0.00,2,     2.03,2, -999.000,9, -999.000,9, -999.000,9,   -999.0,9,   -999.0,9,  0.6554
     316N142_3,  AR15,   117,  1,      5,      5,2,19940510,2158,-18.4887, -21.6397, 5238,   4775.0,   0.9572,  34.7367,2,  34.7364,2,    227.8,2,    228.1,2,   101.62,2,    30.43,2,     0.00,2,     2.07,2, -999.000,9, -999.000,9, -999.000,9,   -999.0,9,   -999.0,9,  0.5674
     316N142_3,  AR15,   117,  1,      4,      4,2,19940510,2158,-18.4887, -21.6397, 5238,   5011.8,   0.9102,  34.7292,2,  34.7276,2,    227.1,2,    227.5,2,   104.75,2,    30.83,2,     0.00,2,     2.09,2, -999.000,9, -999.000,9, -999.000,9,   -999.0,9,   -999.0,9,  0.4943
     316N142_3,  AR15,   117,  1,      3,      3,2,19940510,2158,-18.4887, -21.6397, 5238,   5268.0,   0.9062,  34.7255,2,  34.7256,2,    227.5,2,    226.8,2,   105.86,2,    31.04,2,     0.00,2,     2.10,2, -999.000,9, -999.000,9, -999.000,9,   -999.0,9,   -999.0,9,  0.4597
     316N142_3,  AR15,   117,  1,      2,      2,2,19940510,2158,-18.4887, -21.6397, 5238,   5495.3,   0.9292,  34.7242,2,  34.7258,2,    227.6,2,    226.8,2,   106.70,2,    31.06,2,     0.00,2,     2.10,2, -999.000,9, -999.000,9, -999.000,9,   -999.0,9,   -999.0,9,  0.4538
     316N142_3,  AR15,   117,  1,      1,      1,2,19940510,2158,-18.4887, -21.6397, 5238,   5677.4,   0.9512,  34.7240,2,  34.7247,2,    228.2,2,    226.9,2,   106.73,2,    31.02,2,     0.00,2,     2.11,2, -999.000,9, -999.000,9, -999.000,9,   -999.0,9,   -999.0,9,  0.4521