BOTTLE,20020814WHPSIOKJU
EXPOCODE,SECT_ID,STNNBR,CASTNO,SAMPNO,BTLNBR,BTLNBR_FLAG_W,DATE,TIME,LATITUDE,LONGITUDE,DEPTH,CTDPRS,CTDTMP,CTDSAL,CTDSAL_FLAG_W,SALNTY,SALNTY_FLAG_W,CTDOXY,CTDOXY_FLAG_W,OXYGEN,OXYGEN_FLAG_W,SILCAT,SILCAT_FLAG_W,NITRAT,NITRAT_FLAG_W,NITRIT,NITRIT_FLAG_W,PHSPHT,PHSPHT_FLAG_W,CFC-11,CFC-11_FLAG_W,CFC-12,CFC-12_FLAG_W,CCL4,CCL4_FLAG_W,TCARBN,TCARBN_FLAG_W,ALKALI,ALKALI_FLAG_W,THETA
,,,,,,,,,,,,DBAR,ITS-90,PSS-78,,PSS-78,,UMOL/KG,,UMOL/KG,,UMOL/KG,,UMOL/KG,,UMOL/KG,,UMOL/KG,,PMOL/KG,,PMOL/KG,,PMOL/KG,,UMOL/KG,,UMOL/KG,,DEG C
     316N142_3,   A15,    51,  1,     39,     39,2,19940420,1027, -3.0012, -19.0005, 4603,     10.5,  28.2683,  35.5536,2,  35.5628,2,    199.2,2,    200.2,2,     1.90,2,     0.18,2,     0.00,2,     0.10,2,    1.660,2,    0.954,2,    1.988,2,   1977.5,2,   2325.3,2, 28.2658
     316N142_3,   A15,    51,  1,     42,     42,9,19940420,1027, -3.0012, -19.0005, 4603,     36.3,  24.3021,  35.7365,2,-999.0000,9,    180.3,2,   -999.0,9,  -999.00,9,  -999.00,9,  -999.00,9,  -999.00,9, -999.000,9, -999.000,9, -999.000,9,   -999.0,9,   -999.0,9, 24.2943
     316N142_3,   A15,    51,  1,     38,     38,2,19940420,1027, -3.0012, -19.0005, 4603,     81.8,  15.2520,  35.5472,2,  35.5464,2,     95.3,2,     91.8,2,     7.72,2,    20.63,2,     0.18,2,     1.39,2,    1.318,2,    0.754,2,    0.286,2,   2175.8,2,   2326.6,2, 15.2395
     316N142_3,   A15,    51,  1,     33,     33,2,19940420,1027, -3.0012, -19.0005, 4603,    195.9,  13.2935,  35.3148,2,  35.3142,2,    132.2,2,    125.6,2,     9.17,2,    19.97,2,     0.01,2,     1.38,2,    1.407,2,    0.704,2,    0.372,2,   2165.4,2,   2318.9,2, 13.2661
     316N142_3,   A15,    51,  1,     41,     41,2,19940420,1027, -3.0012, -19.0005, 4603,    286.1,  12.0837,  35.1624,2,  35.1614,2,     82.9,2,     84.6,2,    11.67,2,    26.54,2,     0.00,2,     1.73,2,    0.859,6,    0.460,6,    0.205,2,   2199.1,2,   2307.9,2, 12.0460
     316N142_3,   A15,    51,  1,     31,     31,2,19940420,1027, -3.0012, -19.0005, 4603,    367.0,  10.2394,  34.9536,2,  34.9517,2,     73.8,2,     77.9,2,    14.84,2,    30.97,2,     0.00,2,     1.98,2,    0.564,2,    0.284,2,    0.262,2,   2217.8,2,   2303.5,2, 10.1959
     316N142_3,   A15,    51,  1,     37,     37,2,19940420,1027, -3.0012, -19.0005, 4603,    468.3,   8.1072,  34.7195,2,  34.7265,2,     85.1,2,     88.5,2,    19.34,2,    34.38,2,     0.00,2,     2.21,2,    0.270,2,    0.145,2,    0.150,2,   2227.9,2,   2295.9,2,  8.0588
     316N142_3,   A15,    51,  1,     29,     29,2,19940420,1027, -3.0012, -19.0005, 4603,    558.5,   6.1027,  34.5408,2,  34.5420,2,    121.8,2,    122.5,2,    25.02,2,    34.89,2,     0.00,2,     2.33,2,    0.194,2,    0.104,2,    0.453,2,   2218.8,2,   2292.8,2,  6.0532
     316N142_3,   A15,    51,  1,     28,     28,2,19940420,1027, -3.0012, -19.0005, 4603,    690.0,   4.9051,  34.4842,2,  34.4828,2,    143.3,2,    143.3,2,    31.10,2,    35.03,2,     0.00,2,     2.38,2,    0.129,2,    0.043,2,    0.164,2,   2219.1,2,   2299.8,2,  4.8497
     316N142_3,   A15,    51,  1,     27,     27,2,19940420,1027, -3.0012, -19.0005, 4603,    830.2,   4.4662,  34.5139,2,  34.5146,2,    154.3,2,    153.1,2,    33.86,2,    34.24,2,     0.00,2,     2.35,2, -999.000,9, -999.000,9, -999.000,9,   2220.1,2,   2301.8,2,  4.4015
     316N142_3,   A15,    51,  1,     26,     26,2,19940420,1027, -3.0012, -19.0005, 4603,   1013.3,   4.3693,  34.6152,2,  34.6162,2,    159.6,2,    157.4,2,    33.18,2,    32.83,2,     0.00,2,     2.26,2,    0.033,4,    0.018,2,    0.420,2,   2217.5,2,   2305.6,2,  4.2894
     316N142_3,   A15,    51,  1,     25,     25,2,19940420,1027, -3.0012, -19.0005, 4603,   1188.2,   4.3785,  34.7831,2,  34.7818,2,    180.6,2,    180.1,2,    28.26,2,    28.73,2,     0.00,2,     1.98,2, -999.000,9, -999.000,9, -999.000,9,   2203.5,2,   2309.9,2,  4.2829
     316N142_3,   A15,    51,  1,     24,     24,2,19940420,1027, -3.0012, -19.0005, 4603,   1365.8,   4.4947,  34.9083,2,  34.9082,2,    206.8,2,    205.7,2,    22.29,2,    24.44,2,     0.00,2,     1.68,2,    0.045,4,    0.041,2,    0.463,2,   -999.0,9,   -999.0,9,  4.3816
     316N142_3,   A15,    51,  1,     23,     23,2,19940420,1027, -3.0012, -19.0005, 4603,   1491.8,   4.1598,  34.9456,2,  34.9468,2,    227.6,2,    224.8,2,    20.82,2,    22.25,2,     0.00,2,     1.53,2, -999.000,9,    0.037,2,    0.173,2,   2177.4,2,   2313.3,2,  4.0386
     316N142_3,   A15,    51,  1,     22,     22,2,19940420,1027, -3.0012, -19.0005, 4603,   1618.9,   4.0166,  34.9674,2,  34.9684,2,    238.5,2,    238.1,2,    19.35,2,    20.71,2,     0.00,2,     1.42,2, -999.000,9,    0.040,2,    0.513,2,   -999.0,9,   -999.0,9,  3.8853
     316N142_3,   A15,    51,  1,     21,     21,2,19940420,1027, -3.0012, -19.0005, 4603,   1719.4,   3.8683,  34.9675,2,  34.9686,2,    243.0,2,    242.9,2,    19.99,2,    20.33,2,     0.00,2,     1.40,2, -999.000,9,    0.033,6,    0.210,6,   2168.2,2,   2314.4,2,  3.7295
     316N142_3,   A15,    51,  1,     20,     20,2,19940420,1027, -3.0012, -19.0005, 4603,   1820.5,   3.7068,  34.9667,2,  34.9680,2,    246.2,2,    247.2,2,    20.77,2,    20.05,2,     0.00,2,     1.37,2, -999.000,9,    0.039,2,    0.257,2,   -999.0,9,   -999.0,9,  3.5606
     316N142_3,   A15,    51,  1,     19,     19,2,19940420,1027, -3.0012, -19.0005, 4603,   1972.7,   3.4956,  34.9578,2,  34.9595,2,    246.6,2,    249.6,2,    23.27,2,    20.10,2,     0.00,2,     1.38,2, -999.000,9,    0.017,2,    0.215,2,   2168.2,2,   2319.2,2,  3.3382
     316N142_3,   A15,    51,  1,     40,     40,2,19940420,1027, -3.0012, -19.0005, 4603,   2124.9,   3.2971,  34.9512,2,  34.9864,4,    248.6,2,    252.4,2,    25.23,2,    20.05,2,     0.00,2,     1.38,2, -999.000,9,    0.012,2,    0.277,2,   -999.0,9,   -999.0,9,  3.1283
     316N142_3,   A15,    51,  1,     17,     17,2,19940420,1027, -3.0012, -19.0005, 4603,   2327.9,   3.0757,  34.9350,2,  34.9348,2,    245.6,2,    246.3,2,    30.37,2,    20.84,2,     0.00,2,     1.44,2, -999.000,9, -999.000,9, -999.000,9,   2177.1,2,   2324.3,2,  2.8912
     316N142_3,   A15,    51,  1,     16,     16,2,19940420,1027, -3.0012, -19.0005, 4603,   2531.2,   2.8735,  34.9199,2,  34.9519,4,    242.8,2,    243.1,2,    35.50,2,    21.54,2,     0.00,2,     1.48,2, -999.000,9, -999.000,9, -999.000,9,   -999.0,9,   -999.0,9,  2.6729
     316N142_3,   A15,    51,  1,     15,     15,2,19940420,1027, -3.0012, -19.0005, 4603,   2683.3,   2.7937,  34.9174,2,  34.9171,2,    245.0,2,    245.5,2,    36.41,2,    21.49,2,     0.00,2,     1.47,2, -999.000,9,    0.018,2, -999.000,9,   2183.5,2,   2330.6,2,  2.5797
     316N142_3,   A15,    51,  1,     14,     14,2,19940420,1027, -3.0012, -19.0005, 4603,   2835.0,   2.7150,  34.9112,2,  34.9110,2,    244.0,2,    243.8,2,    38.50,2,    21.72,2,     0.00,2,     1.49,2, -999.000,9, -999.000,9, -999.000,9,   -999.0,9,   -999.0,9,  2.4873
     316N142_3,   A15,    51,  1,     13,     13,2,19940420,1027, -3.0012, -19.0005, 4603,   2988.9,   2.6494,  34.9079,2,  34.9080,2,    245.8,2,    247.0,2,    39.41,2,    21.72,2,     0.00,2,     1.49,2, -999.000,9, -999.000,9, -999.000,9,   2189.6,2,   2335.3,2,  2.4075
     316N142_3,   A15,    51,  1,     12,     12,2,19940420,1027, -3.0012, -19.0005, 4603,   3140.7,   2.6096,  34.9094,2,  34.9084,2,    249.8,2,    251.0,2,    38.07,2,    21.25,2,     0.00,2,     1.47,2, -999.000,9,    0.011,2,    0.102,2,   -999.0,9,   -999.0,9,  2.3529
     316N142_3,   A15,    51,  1,     11,     11,2,19940420,1027, -3.0012, -19.0005, 4603,   3294.2,   2.5683,  34.9098,2,  34.9089,2,    254.5,2,    253.3,2,    36.60,2,    20.83,2,     0.00,2,     1.44,2, -999.000,9, -999.000,9, -999.000,9,   2180.8,2,   2331.4,2,  2.2964
     316N142_3,   A15,    51,  1,     10,     10,2,19940420,1027, -3.0012, -19.0005, 4603,   3447.8,   2.5364,  34.9111,2,  34.9103,2,    260.0,2,    259.1,2,    34.07,2,    20.18,2,     0.00,2,     1.39,2, -999.000,9, -999.000,9, -999.000,9,   -999.0,9,   -999.0,9,  2.2487
     316N142_3,   A15,    51,  1,      9,      9,2,19940420,1027, -3.0012, -19.0005, 4603,   3598.9,   2.4868,  34.9082,2,  34.9081,2,    260.5,2,    260.2,2,    33.79,2,    19.94,2,     0.00,2,     1.39,2, -999.000,9,    0.021,2,    0.305,2,   2173.2,2,   2325.2,2,  2.1839
     316N142_3,   A15,    51,  1,      8,      8,2,19940420,1027, -3.0012, -19.0005, 4603,   3752.4,   2.4104,  34.9020,2,  34.9024,2,    262.6,2,    261.2,2,    34.83,2,    19.80,2,     0.00,2,     1.38,2, -999.000,9,    0.028,2,    0.266,2,   -999.0,9,   -999.0,9,  2.0926
     316N142_3,   A15,    51,  1,      7,      7,2,19940420,1027, -3.0012, -19.0005, 4603,   3906.3,   2.1964,  34.8790,2,  34.8793,2,    255.7,2,    258.1,2,    43.77,2,    21.06,2,     0.00,2,     1.46,2, -999.000,9,    0.024,2,    0.198,2,   2182.2,2,   2333.4,2,  1.8673
     316N142_3,   A15,    51,  1,      6,      6,2,19940420,1027, -3.0012, -19.0005, 4603,   4058.6,   1.8700,  34.8422,2,  34.8429,2,    247.4,3,    251.6,2,    59.00,2,    23.38,2,     0.00,2,     1.62,2, -999.000,9,    0.012,2,    0.258,2,   -999.0,9,   -999.0,9,  1.5332
     316N142_3,   A15,    51,  1,      5,      5,2,19940420,1027, -3.0012, -19.0005, 4603,   4262.2,   1.3076,  34.7809,2,  34.7810,2,    233.9,3,    237.7,2,    83.75,2,    27.06,2,     0.00,2,     1.89,2, -999.000,9,    0.010,2, -999.000,9,   2229.6,2,   2359.7,2,  0.9648
     316N142_3,   A15,    51,  1,      4,      4,2,19940420,1027, -3.0012, -19.0005, 4603,   4466.5,   1.0139,  34.7477,2,  34.7479,2,    229.2,3,    230.6,2,    95.90,2,    29.01,2,     0.00,2,     2.02,2, -999.000,9, -999.000,9, -999.000,9,   -999.0,9,   -999.0,9,  0.6574
     316N142_3,   A15,    51,  1,      3,      3,2,19940420,1027, -3.0012, -19.0005, 4603,   4671.3,   0.8621,  34.7295,2,  34.7296,2,    228.1,2,    227.8,2,   102.54,2,    30.08,2,     0.00,2,     2.10,2, -999.000,9, -999.000,9, -999.000,9,   2251.6,2,   2369.5,2,  0.4874
     316N142_3,   A15,    51,  1,      2,      2,2,19940420,1027, -3.0012, -19.0005, 4603,   4877.3,   0.8088,  34.7217,2,  34.7214,2,    228.3,2,    227.7,2,   104.87,2,    30.50,2,     0.00,2,     2.13,2, -999.000,9, -999.000,9, -999.000,9,   -999.0,9,   -999.0,9,  0.4121
     316N142_3,   A15,    51,  1,      1,      1,2,19940420,1027, -3.0012, -19.0005, 4603,   5070.5,   0.7588,  34.7139,2,  34.7141,2,    229.5,2,    228.7,2,   107.41,2,    30.92,2,     0.00,2,     2.15,2, -999.000,9,    0.014,2, -999.000,9,   2255.5,2,   2371.1,2,  0.3412