BOTTLE,20020814WHPSIOKJU
EXPOCODE,SECT_ID,STNNBR,CASTNO,SAMPNO,BTLNBR,BTLNBR_FLAG_W,DATE,TIME,LATITUDE,LONGITUDE,DEPTH,CTDPRS,CTDTMP,CTDSAL,CTDSAL_FLAG_W,SALNTY,SALNTY_FLAG_W,CTDOXY,CTDOXY_FLAG_W,OXYGEN,OXYGEN_FLAG_W,SILCAT,SILCAT_FLAG_W,NITRAT,NITRAT_FLAG_W,NITRIT,NITRIT_FLAG_W,PHSPHT,PHSPHT_FLAG_W,CFC-11,CFC-11_FLAG_W,CFC-12,CFC-12_FLAG_W,CCL4,CCL4_FLAG_W,TCARBN,TCARBN_FLAG_W,ALKALI,ALKALI_FLAG_W,THETA
,,,,,,,,,,,,DBAR,ITS-90,PSS-78,,PSS-78,,UMOL/KG,,UMOL/KG,,UMOL/KG,,UMOL/KG,,UMOL/KG,,UMOL/KG,,PMOL/KG,,PMOL/KG,,PMOL/KG,,UMOL/KG,,UMOL/KG,,DEG C
     316N142_3,   A15,    38,  1,     39,     39,2,19940416,1702,  2.5005, -19.0002, 5054,      4.5,  29.0809,  34.5808,2,  34.5673,2,    208.8,2,    210.8,2,     1.50,2,     0.09,2,     0.00,2,     0.04,2, -999.000,9, -999.000,9, -999.000,9,   -999.0,9,   -999.0,9, 29.0798
     316N142_3,   A15,    38,  1,     42,     42,2,19940416,1702,  2.5005, -19.0002, 5054,     45.4,  27.1415,  35.9389,2,  35.9081,2,    235.5,2,    228.3,2,     1.60,2,     0.05,2,     0.00,2,     0.04,2, -999.000,9, -999.000,9, -999.000,9,   -999.0,9,   -999.0,9, 27.1310
     316N142_3,   A15,    38,  1,     38,     38,2,19940416,1702,  2.5005, -19.0002, 5054,    106.8,  14.2136,  35.4366,2,  35.4379,2,    107.5,2,    106.6,2,     8.38,2,    20.36,2,     0.02,2,     1.39,2, -999.000,9, -999.000,9, -999.000,9,   -999.0,9,   -999.0,9, 14.1980
     316N142_3,   A15,    38,  1,     33,     33,2,19940416,1702,  2.5005, -19.0002, 5054,    151.1,  13.5893,  35.3546,2,  35.3541,2,    123.3,2,    122.5,2,     8.69,2,    19.70,2,     0.01,2,     1.36,2, -999.000,9, -999.000,9, -999.000,9,   -999.0,9,   -999.0,9, 13.5679
     316N142_3,   A15,    38,  1,     41,     41,2,19940416,1702,  2.5005, -19.0002, 5054,    241.0,  12.6806,  35.2385,2,  35.2386,2,     98.3,2,    100.5,2,    10.48,2,    23.69,2,     0.01,2,     1.57,2, -999.000,9, -999.000,9, -999.000,9,   -999.0,9,   -999.0,9, 12.6478
     316N142_3,   A15,    38,  1,     31,     31,2,19940416,1702,  2.5005, -19.0002, 5054,    337.1,  10.4764,  34.9880,2,  34.9862,2,    101.8,2,    103.4,2,    13.65,2,    27.47,2,     0.01,2,     1.80,2, -999.000,9, -999.000,9, -999.000,9,   -999.0,9,   -999.0,9, 10.4358
     316N142_3,   A15,    38,  1,     37,     37,2,19940416,1702,  2.5005, -19.0002, 5054,    437.5,   7.9141,  34.7317,2,  34.7356,2,    105.0,2,    104.3,2,    19.48,2,    32.51,2,     0.00,2,     2.12,2, -999.000,9, -999.000,9, -999.000,9,   -999.0,9,   -999.0,9,  7.8696
     316N142_3,   A15,    38,  1,     29,     29,2,19940416,1702,  2.5005, -19.0002, 5054,    548.5,   6.5491,  34.6063,2,  34.5939,2,    126.9,2,    120.8,2,    23.71,2,    33.73,2,     0.00,2,     2.25,2, -999.000,9, -999.000,9, -999.000,9,   -999.0,9,   -999.0,9,  6.4987
     316N142_3,   A15,    38,  1,     28,     28,9,19940416,1702,  2.5005, -19.0002, 5054,    608.7,   5.9492,  34.5799,2,-999.0000,9,    118.2,2,   -999.0,9,  -999.00,9,  -999.00,9,  -999.00,9,  -999.00,9, -999.000,9, -999.000,9, -999.000,9,   -999.0,9,   -999.0,9,  5.8957
     316N142_3,   A15,    38,  1,     27,     27,2,19940416,1702,  2.5005, -19.0002, 5054,    740.2,   5.0006,  34.5313,2,  34.5285,2,    141.0,2,    142.2,2,    30.59,2,    34.32,2,     0.00,2,     2.35,2, -999.000,9, -999.000,9, -999.000,9,   -999.0,9,   -999.0,9,  4.9403
     316N142_3,   A15,    38,  1,     26,     26,2,19940416,1702,  2.5005, -19.0002, 5054,    861.7,   4.6747,  34.5699,2,  34.5701,2,    147.9,2,    143.2,2,    32.37,2,    34.10,2,     0.00,2,     2.37,2, -999.000,9, -999.000,9, -999.000,9,   -999.0,9,   -999.0,9,  4.6059
     316N142_3,   A15,    38,  1,     25,     25,2,19940416,1702,  2.5005, -19.0002, 5054,    988.2,   4.5687,  34.6707,2,  34.6721,2,    152.4,2,    152.0,2,    31.08,2,    32.27,2,     0.00,2,     2.23,2, -999.000,9, -999.000,9, -999.000,9,   -999.0,9,   -999.0,9,  4.4894
     316N142_3,   A15,    38,  1,     24,     24,9,19940416,1702,  2.5005, -19.0002, 5054,   1088.2,   4.5482,  34.7721,2,-999.0000,9,    168.8,2,   -999.0,9,  -999.00,9,  -999.00,9,  -999.00,9,  -999.00,9, -999.000,9, -999.000,9, -999.000,9,   -999.0,9,   -999.0,9,  4.4601
     316N142_3,   A15,    38,  1,     23,     23,2,19940416,1702,  2.5005, -19.0002, 5054,   1238.7,   4.5615,  34.8625,2,  34.8623,2,    192.1,2,    189.9,2,    24.17,2,    26.26,2,     0.00,2,     1.81,2, -999.000,9, -999.000,9, -999.000,9,   -999.0,9,   -999.0,9,  4.4595
     316N142_3,   A15,    38,  1,     22,     22,2,19940416,1702,  2.5005, -19.0002, 5054,   1388.9,   4.4290,  34.9230,2,  34.9235,2,    212.5,2,    210.1,2,    21.18,2,    23.62,2,     0.00,2,     1.63,2, -999.000,9, -999.000,9, -999.000,9,   -999.0,9,   -999.0,9,  4.3145
     316N142_3,   A15,    38,  1,     21,     21,2,19940416,1702,  2.5005, -19.0002, 5054,   1539.9,   4.2349,  34.9617,2,  34.9625,2,    227.8,2,    227.3,2,    19.26,2,    21.51,2,     0.00,2,     1.49,2, -999.000,9, -999.000,9, -999.000,9,   -999.0,9,   -999.0,9,  4.1084
     316N142_3,   A15,    38,  1,     20,     20,2,19940416,1702,  2.5005, -19.0002, 5054,   1657.5,   4.0518,  34.9671,2,  34.9670,2,    236.9,2,    234.8,2,    19.14,2,    20.80,2,     0.00,2,     1.44,2, -999.000,9, -999.000,9, -999.000,9,   -999.0,9,   -999.0,9,  3.9165
     316N142_3,   A15,    38,  1,     19,     19,2,19940416,1702,  2.5005, -19.0002, 5054,   1820.5,   3.7572,  34.9673,2,  34.9672,2,    244.1,2,    243.0,2,    20.18,2,    20.18,2,     0.00,2,     1.40,2, -999.000,9, -999.000,9, -999.000,9,   -999.0,9,   -999.0,9,  3.6103
     316N142_3,   A15,    38,  1,     40,     40,2,19940416,1702,  2.5005, -19.0002, 5054,   1974.1,   3.5695,  34.9630,2,  34.9638,2,    246.8,2,    246.6,2,    21.54,2,    19.96,2,     0.00,2,     1.38,2, -999.000,9, -999.000,9, -999.000,9,   -999.0,9,   -999.0,9,  3.4109
     316N142_3,   A15,    38,  1,     17,     17,2,19940416,1702,  2.5005, -19.0002, 5054,   2175.7,   3.3245,  34.9524,2,  34.9541,2,    248.5,2,    248.1,2,    24.39,2,    20.01,2,     0.00,2,     1.39,2, -999.000,9, -999.000,9, -999.000,9,   -999.0,9,   -999.0,9,  3.1504
     316N142_3,   A15,    38,  1,     16,     16,2,19940416,1702,  2.5005, -19.0002, 5054,   2377.0,   3.1008,  34.9406,2,  34.9413,2,    247.7,2,    248.0,2,    28.07,2,    20.28,2,     0.00,2,     1.41,2, -999.000,9, -999.000,9, -999.000,9,   -999.0,9,   -999.0,9,  2.9111
     316N142_3,   A15,    38,  1,     15,     15,2,19940416,1702,  2.5005, -19.0002, 5054,   2579.7,   2.9419,  34.9310,2,  34.9305,2,    246.1,2,    246.0,2,    31.33,2,    20.69,2,     0.00,2,     1.44,2, -999.000,9, -999.000,9, -999.000,9,   -999.0,9,   -999.0,9,  2.7352
     316N142_3,   A15,    38,  1,     14,     14,2,19940416,1702,  2.5005, -19.0002, 5054,   2784.7,   2.7513,  34.9186,2,  34.9193,2,    245.5,2,    244.3,2,    35.44,2,    21.10,2,     0.00,2,     1.46,2, -999.000,9, -999.000,9, -999.000,9,   -999.0,9,   -999.0,9,  2.5280
     316N142_3,   A15,    38,  1,     13,     13,2,19940416,1702,  2.5005, -19.0002, 5054,   2989.9,   2.6474,  34.9120,2,  34.9124,2,    244.8,2,    245.5,2,    37.21,2,    21.19,2,     0.00,2,     1.48,2, -999.000,9, -999.000,9, -999.000,9,   -999.0,9,   -999.0,9,  2.4054
     316N142_3,   A15,    38,  1,     12,     12,2,19940416,1702,  2.5005, -19.0002, 5054,   3192.1,   2.5512,  34.9055,2,  34.9057,2,    242.7,2,    243.7,2,    40.15,2,    21.56,2,     0.00,2,     1.50,2, -999.000,9, -999.000,9, -999.000,9,   -999.0,9,   -999.0,9,  2.2905
     316N142_3,   A15,    38,  1,     11,     11,2,19940416,1702,  2.5005, -19.0002, 5054,   3392.8,   2.4674,  34.9002,2,  34.8996,2,    246.0,2,    245.9,2,    40.97,2,    21.47,2,     0.00,2,     1.49,2, -999.000,9, -999.000,9, -999.000,9,   -999.0,9,   -999.0,9,  2.1874
     316N142_3,   A15,    38,  1,     10,     10,2,19940416,1702,  2.5005, -19.0002, 5054,   3596.6,   2.4402,  34.8975,2,  34.8972,2,    245.3,2,    246.1,2,    41.79,2,    21.52,2,     0.00,2,     1.49,2, -999.000,9, -999.000,9, -999.000,9,   -999.0,9,   -999.0,9,  2.1388
     316N142_3,   A15,    38,  1,      9,      9,2,19940416,1702,  2.5005, -19.0002, 5054,   3802.2,   2.4057,  34.8938,2,  34.8948,2,    245.8,2,    246.4,2,    42.93,2,    21.57,2,     0.00,2,     1.50,2, -999.000,9, -999.000,9, -999.000,9,   -999.0,9,   -999.0,9,  2.0825
     316N142_3,   A15,    38,  1,      8,      8,2,19940416,1702,  2.5005, -19.0002, 5054,   4005.5,   2.3724,  34.8894,2,  34.8897,2,    245.4,2,    245.9,2,    44.28,2,    21.71,2,     0.00,2,     1.51,2, -999.000,9, -999.000,9, -999.000,9,   -999.0,9,   -999.0,9,  2.0272
     316N142_3,   A15,    38,  1,      7,      7,2,19940416,1702,  2.5005, -19.0002, 5054,   4213.3,   2.3272,  34.8836,2,  34.8826,2,    244.7,2,    244.6,2,    46.36,2,    22.03,2,     0.00,2,     1.53,2, -999.000,9, -999.000,9, -999.000,9,   -999.0,9,   -999.0,9,  1.9592
     316N142_3,   A15,    38,  1,      6,      6,2,19940416,1702,  2.5005, -19.0002, 5054,   4418.1,   2.2836,  34.8778,2,  34.8771,2,    244.7,2,    244.5,2,    48.33,2,    22.26,2,     0.00,2,     1.54,2, -999.000,9, -999.000,9, -999.000,9,   -999.0,9,   -999.0,9,  1.8929
     316N142_3,   A15,    38,  1,      5,      5,2,19940416,1702,  2.5005, -19.0002, 5054,   4621.3,   2.2512,  34.8723,2,  34.8718,2,    243.6,2,    243.8,2,    50.40,2,    22.53,2,     0.00,2,     1.57,2, -999.000,9, -999.000,9, -999.000,9,   -999.0,9,   -999.0,9,  1.8371
     316N142_3,   A15,    38,  1,      4,      4,2,19940416,1702,  2.5005, -19.0002, 5054,   4827.5,   2.2354,  34.8685,2,  34.8674,2,    244.6,2,    244.1,2,    51.53,2,    22.63,2,     0.00,2,     1.58,2, -999.000,9, -999.000,9, -999.000,9,   -999.0,9,   -999.0,9,  1.7966
     316N142_3,   A15,    38,  1,      3,      3,2,19940416,1702,  2.5005, -19.0002, 5054,   4971.5,   2.2204,  34.8650,2,  34.8633,2,    244.9,2,    244.3,2,    52.45,2,    22.72,2,     0.00,2,     1.59,2, -999.000,9, -999.000,9, -999.000,9,   -999.0,9,   -999.0,9,  1.7642
     316N142_3,   A15,    38,  1,      2,      2,2,19940416,1702,  2.5005, -19.0002, 5054,   5085.3,   2.2289,  34.8643,2,  34.8635,2,    244.8,2,    242.9,3,    52.74,2,    22.73,2,     0.00,2,     1.59,2, -999.000,9, -999.000,9, -999.000,9,   -999.0,9,   -999.0,9,  1.7580
     316N142_3,   A15,    38,  1,      1,      1,2,19940416,1702,  2.5005, -19.0002, 5054,   5182.0,   2.2301,  34.8632,2,  34.8623,2,    245.4,2,    244.5,2,    52.92,2,    22.78,2,     0.00,2,     1.59,2, -999.000,9, -999.000,9, -999.000,9,   -999.0,9,   -999.0,9,  1.7469