BOTTLE,20020814WHPSIOKJU
EXPOCODE,SECT_ID,STNNBR,CASTNO,SAMPNO,BTLNBR,BTLNBR_FLAG_W,DATE,TIME,LATITUDE,LONGITUDE,DEPTH,CTDPRS,CTDTMP,CTDSAL,CTDSAL_FLAG_W,SALNTY,SALNTY_FLAG_W,CTDOXY,CTDOXY_FLAG_W,OXYGEN,OXYGEN_FLAG_W,SILCAT,SILCAT_FLAG_W,NITRAT,NITRAT_FLAG_W,NITRIT,NITRIT_FLAG_W,PHSPHT,PHSPHT_FLAG_W,CFC-11,CFC-11_FLAG_W,CFC-12,CFC-12_FLAG_W,CCL4,CCL4_FLAG_W,TCARBN,TCARBN_FLAG_W,ALKALI,ALKALI_FLAG_W,THETA
,,,,,,,,,,,,DBAR,ITS-90,PSS-78,,PSS-78,,UMOL/KG,,UMOL/KG,,UMOL/KG,,UMOL/KG,,UMOL/KG,,UMOL/KG,,PMOL/KG,,PMOL/KG,,PMOL/KG,,UMOL/KG,,UMOL/KG,,DEG C
     316N142_3,   A15,    92,  1,     39,     39,2,19940501,1146,-23.7003, -18.9990, 4924,     10.6,  25.3908,  36.9012,2,  36.9013,2,    196.3,4,    206.8,2,     1.67,2,     0.01,2,     0.00,2,     0.14,2,    1.774,2,    1.013,2,    2.743,2,   2068.8,2,   2421.6,2, 25.3884
     316N142_3,   A15,    92,  1,     35,     35,2,19940501,1146,-23.7003, -18.9990, 4924,     80.9,  22.5003,  36.4265,2,  36.4270,2,    230.6,4,    234.5,2,     1.51,2,     0.01,2,     0.00,2,     0.12,2,    2.083,2,    1.216,2,    2.101,2,   2057.7,2,   2392.0,2, 22.4840
     316N142_3,   A15,    92,  1,     38,     38,2,19940501,1146,-23.7003, -18.9990, 4924,    124.8,  19.4742,  36.0929,2,  36.0934,2,    220.7,2,    223.2,2,     1.64,2,     0.01,2,     0.00,2,     0.17,2,    2.241,2,    1.286,2,    1.792,2,   2069.8,2,   2371.6,2, 19.4515
     316N142_3,   A15,    92,  1,     33,     33,2,19940501,1146,-23.7003, -18.9990, 4924,    234.4,  15.2002,  35.4470,2,  35.4498,2,    210.2,2,    207.4,2,     3.01,2,     4.93,2,     0.00,2,     0.52,2,    2.294,2,    1.346,2,    0.443,2,   2090.9,2,   2330.6,2, 15.1642
     316N142_3,   A15,    92,  1,     41,     41,2,19940501,1146,-23.7003, -18.9990, 4924,    345.3,  12.5573,  35.1017,2,  35.1004,2,    203.6,2,    201.3,2,     5.08,2,    11.38,2,     0.00,2,     0.89,2,    2.159,6,    1.152,6,    0.947,6,   2113.9,2,   2311.3,2, 12.5106
     316N142_3,   A15,    92,  1,     31,     31,2,19940501,1146,-23.7003, -18.9990, 4924,    454.4,  10.4485,  34.8550,2,  34.8540,2,    195.5,2,    193.7,2,     8.13,2,    17.06,2,     0.00,2,     1.23,2,    1.757,2,    0.976,2,    1.355,2,   2133.8,2,   2300.9,2, 10.3937
     316N142_3,   A15,    92,  1,     37,     37,2,19940501,1146,-23.7003, -18.9990, 4924,    565.5,   8.0860,  34.6101,2,  34.6090,2,    188.2,2,    187.7,2,    13.55,2,    23.56,2,     0.00,2,     1.63,2,    1.387,2,    0.730,2,    1.273,2,   2160.5,2,   2294.2,2,  8.0274
     316N142_3,   A15,    92,  1,     29,     29,2,19940501,1146,-23.7003, -18.9990, 4924,    668.0,   6.1359,  34.4474,2,  34.4465,2,    190.9,2,    192.7,2,    19.67,2,    27.87,2,     0.00,2,     1.91,2,    1.063,2,    0.554,2,    1.917,2,   -999.0,9,   -999.0,9,  6.0762
     316N142_3,   A15,    92,  1,     28,     28,2,19940501,1146,-23.7003, -18.9990, 4924,    779.0,   4.7761,  34.3744,2,  34.3726,2,    194.4,2,    196.5,2,    27.49,2,    30.61,2,     0.00,2,     2.09,2,    0.830,6,    0.395,6,    1.610,6,   -999.0,9,   -999.0,9,  4.7139
     316N142_3,   A15,    92,  1,     27,     27,2,19940501,1146,-23.7003, -18.9990, 4924,    877.7,   4.0088,  34.3889,2,  34.3861,2,    192.2,2,    196.5,4,    36.60,2,    32.16,2,     0.00,2,     2.21,2,    0.578,2,    0.253,2,    1.411,2,   -999.0,9,   -999.0,9,  3.9433
     316N142_3,   A15,    92,  1,     26,     26,2,19940501,1146,-23.7003, -18.9990, 4924,    984.3,   3.5641,  34.4584,2,  34.4572,2,    184.1,2,    185.0,2,    44.05,2,    32.71,2,     0.00,2,     2.24,2,    0.317,2,    0.099,2,    0.832,2,   -999.0,9,   -999.0,9,  3.4931
     316N142_3,   A15,    92,  1,     25,     25,2,19940501,1146,-23.7003, -18.9990, 4924,   1130.8,   3.4205,  34.5506,2,  34.5490,2,    185.1,2,    202.0,4,    46.01,2,    31.79,2,     0.00,2,     2.19,2,    0.118,2,    0.050,2,    0.265,2,   -999.0,9,   -999.0,9,  3.3388
     316N142_3,   A15,    92,  1,     24,     24,2,19940501,1146,-23.7003, -18.9990, 4924,   1287.2,   3.3005,  34.6534,2,  34.6515,2,    191.4,2,    191.5,2,    46.00,2,    29.91,2,     0.00,2,     2.07,2,    0.051,4,    0.017,2,    0.118,2,   -999.0,9,   -999.0,9,  3.2069
     316N142_3,   A15,    92,  1,     23,     23,2,19940501,1146,-23.7003, -18.9990, 4924,   1434.0,   3.1659,  34.7340,2,  34.7332,2,    200.8,2,    202.7,2,    45.00,2,    27.86,2,     0.00,2,     1.92,2, -999.000,9, -999.000,9, -999.000,9,   -999.0,9,   -999.0,9,  3.0614
     316N142_3,   A15,    92,  1,     22,     22,2,19940501,1146,-23.7003, -18.9990, 4924,   1550.5,   3.1342,  34.7884,2,  34.7864,2,    209.9,2,    212.2,2,    42.02,2,    26.18,2,     0.00,2,     1.80,2, -999.000,9,    0.020,2,    0.115,2,   -999.0,9,   -999.0,9,  3.0200
     316N142_3,   A15,    92,  1,     21,     21,2,19940501,1146,-23.7003, -18.9990, 4924,   1685.0,   3.1439,  34.8293,2,  34.8280,2,    222.1,2,    221.3,2,    38.48,2,    24.69,2,     0.00,2,     1.69,2, -999.000,9, -999.000,9, -999.000,9,   -999.0,9,   -999.0,9,  3.0179
     316N142_3,   A15,    92,  1,     20,     20,2,19940501,1146,-23.7003, -18.9990, 4924,   1823.2,   3.1498,  34.8819,2,  34.8804,2,    235.2,2,    238.8,3,    33.13,2,    22.56,2,     0.00,2,     1.55,2, -999.000,9,    0.009,2,    0.162,2,   -999.0,9,   -999.0,9,  3.0113
     316N142_3,   A15,    92,  1,     19,     19,2,19940501,1146,-23.7003, -18.9990, 4924,   1961.1,   3.1363,  34.9095,2,  34.9081,2,    242.4,2,    242.9,2,    30.02,2,    21.30,2,     0.00,2,     1.46,2, -999.000,9, -999.000,9, -999.000,9,   -999.0,9,   -999.0,9,  2.9854
     316N142_3,   A15,    92,  1,     40,     40,2,19940501,1146,-23.7003, -18.9990, 4924,   2096.1,   3.1165,  34.9251,2,  34.9242,2,    247.8,2,    247.6,2,    28.05,2,    20.57,2,     0.00,2,     1.40,2, -999.000,9,    0.019,2,    0.224,2,   -999.0,9,   -999.0,9,  2.9533
     316N142_3,   A15,    92,  1,     17,     17,2,19940501,1146,-23.7003, -18.9990, 4924,   2220.3,   3.0390,  34.9275,2,  34.9261,2,    250.0,2,    249.4,2,    28.60,2,    20.39,2,     0.00,2,     1.39,2, -999.000,9,    0.012,2,    0.115,2,   -999.0,9,   -999.0,9,  2.8654
     316N142_3,   A15,    92,  1,     16,     16,2,19940501,1146,-23.7003, -18.9990, 4924,   2345.5,   2.9745,  34.9265,2,  34.9253,2,    251.0,2,    250.1,2,    29.56,2,    20.39,2,     0.00,2,     1.39,2, -999.000,9, -999.000,9, -999.000,9,   -999.0,9,   -999.0,9,  2.7901
     316N142_3,   A15,    92,  1,     15,     15,2,19940501,1146,-23.7003, -18.9990, 4924,   2471.3,   2.9114,  34.9251,2,  34.9233,2,    251.5,2,    250.4,2,    30.82,2,    20.48,2,     0.00,2,     1.40,2, -999.000,9, -999.000,9, -999.000,9,   -999.0,9,   -999.0,9,  2.7159
     316N142_3,   A15,    92,  1,     14,     14,2,19940501,1146,-23.7003, -18.9990, 4924,   2626.1,   2.8560,  34.9233,2,  34.9233,2,    252.0,2,    251.2,2,    31.79,2,    20.48,2,     0.00,2,     1.39,2, -999.000,9,    0.006,2,    0.077,2,   -999.0,9,   -999.0,9,  2.6464
     316N142_3,   A15,    92,  1,     13,     13,2,19940501,1146,-23.7003, -18.9990, 4924,   2831.9,   2.7517,  34.9165,2,  34.9155,2,    251.0,2,    250.8,2,    34.16,2,    20.71,2,     0.00,2,     1.42,2, -999.000,9, -999.000,9, -999.000,9,   -999.0,9,   -999.0,9,  2.5236
     316N142_3,   A15,    92,  1,     12,     12,2,19940501,1146,-23.7003, -18.9990, 4924,   3037.4,   2.6732,  34.9114,2,  34.9107,2,    251.0,2,    251.3,2,    36.12,2,    20.84,2,     0.00,2,     1.43,2, -999.000,9, -999.000,9, -999.000,9,   -999.0,9,   -999.0,9,  2.4258
     316N142_3,   A15,    92,  1,     11,     11,2,19940501,1146,-23.7003, -18.9990, 4924,   3240.8,   2.5621,  34.9022,2,  34.9017,2,    250.6,2,    251.0,2,    39.35,2,    21.16,2,     0.00,2,     1.45,2, -999.000,9,    0.005,2,    0.092,2,   -999.0,9,   -999.0,9,  2.2959
     316N142_3,   A15,    92,  1,     10,     10,2,19940501,1146,-23.7003, -18.9990, 4924,   3444.7,   2.3767,  34.8838,2,  34.8838,2,    247.8,2,    248.6,2,    45.70,2,    21.97,2,     0.00,2,     1.51,2, -999.000,9, -999.000,9, -999.000,9,   -999.0,9,   -999.0,9,  2.0934
     316N142_3,   A15,    92,  1,      9,      9,2,19940501,1146,-23.7003, -18.9990, 4924,   3649.1,   2.1418,  34.8598,2,  34.8583,2,    244.8,2,    245.0,2,    54.21,2,    23.19,2,     0.00,2,     1.60,2, -999.000,9, -999.000,9, -999.000,9,   -999.0,9,   -999.0,9,  1.8426
     316N142_3,   A15,    92,  1,      8,      8,2,19940501,1146,-23.7003, -18.9990, 4924,   3851.2,   1.8664,  34.8316,2,  34.8306,2,    240.7,2,    240.6,2,    64.64,2,    24.54,2,     0.00,2,     1.69,2, -999.000,9, -999.000,9, -999.000,9,   -999.0,9,   -999.0,9,  1.5526
     316N142_3,   A15,    92,  1,      7,      7,2,19940501,1146,-23.7003, -18.9990, 4924,   4056.3,   1.5882,  34.8024,2,  34.8023,2,    236.9,2,    236.6,2,    75.31,2,    25.99,2,     0.00,2,     1.80,2, -999.000,9,    0.010,2,    0.104,2,   -999.0,9,   -999.0,9,  1.2599
     316N142_3,   A15,    92,  1,      6,      6,2,19940501,1146,-23.7003, -18.9990, 4924,   4260.2,   1.4616,  34.7886,2,  34.7883,2,    234.9,2,    234.8,2,    80.25,2,    26.67,2,     0.00,2,     1.84,2, -999.000,9, -999.000,9, -999.000,9,   -999.0,9,   -999.0,9,  1.1144
     316N142_3,   A15,    92,  1,      5,      5,2,19940501,1146,-23.7003, -18.9990, 4924,   4440.9,   1.3369,  34.7752,2,  34.7746,2,    232.9,2,    232.9,2,    85.06,2,    27.39,2,     0.00,2,     1.89,2, -999.000,9, -999.000,9, -999.000,9,   -999.0,9,   -999.0,9,  0.9731
     316N142_3,   A15,    92,  1,      4,      4,2,19940501,1146,-23.7003, -18.9990, 4924,   4620.3,   1.1208,  34.7532,2,  34.7514,2,    230.4,2,    230.1,2,    93.15,2,    28.48,2,     0.00,2,     1.97,2, -999.000,9, -999.000,9, -999.000,9,   -999.0,9,   -999.0,9,  0.7435
     316N142_3,   A15,    92,  1,      3,      3,2,19940501,1146,-23.7003, -18.9990, 4924,   4774.7,   1.0193,  34.7422,2,  34.7408,2,    229.1,2,    228.8,2,    97.29,2,    29.02,2,     0.00,2,     2.01,2, -999.000,9,    0.016,2,    0.111,2,   -999.0,9,   -999.0,9,  0.6274
     316N142_3,   A15,    92,  1,      2,      2,2,19940501,1146,-23.7003, -18.9990, 4924,   4929.2,   1.0008,  34.7379,2,  34.7375,2,    229.1,2,    228.2,2,    99.07,2,    29.16,2,     0.00,2,     2.02,2, -999.000,9, -999.000,9, -999.000,9,   -999.0,9,   -999.0,9,  0.5915
     316N142_3,   A15,    92,  1,      1,      1,2,19940501,1146,-23.7003, -18.9990, 4924,   5068.1,   0.8991,  34.7272,2,  34.7267,2,    226.6,2,    226.4,2,   104.75,2,    29.84,2,     0.00,2,     2.06,2, -999.000,9,    0.006,2,    0.179,2,   -999.0,9,   -999.0,9,  0.4769