BOTTLE,20020814WHPSIOKJU
EXPOCODE,SECT_ID,STNNBR,CASTNO,SAMPNO,BTLNBR,BTLNBR_FLAG_W,DATE,TIME,LATITUDE,LONGITUDE,DEPTH,CTDPRS,CTDTMP,CTDSAL,CTDSAL_FLAG_W,SALNTY,SALNTY_FLAG_W,CTDOXY,CTDOXY_FLAG_W,OXYGEN,OXYGEN_FLAG_W,SILCAT,SILCAT_FLAG_W,NITRAT,NITRAT_FLAG_W,NITRIT,NITRIT_FLAG_W,PHSPHT,PHSPHT_FLAG_W,CFC-11,CFC-11_FLAG_W,CFC-12,CFC-12_FLAG_W,CCL4,CCL4_FLAG_W,TCARBN,TCARBN_FLAG_W,ALKALI,ALKALI_FLAG_W,THETA
,,,,,,,,,,,,DBAR,ITS-90,PSS-78,,PSS-78,,UMOL/KG,,UMOL/KG,,UMOL/KG,,UMOL/KG,,UMOL/KG,,UMOL/KG,,PMOL/KG,,PMOL/KG,,PMOL/KG,,UMOL/KG,,UMOL/KG,,DEG C
     316N142_3,  AR15,    15,  1,     39,     39,2,19940407,1719, -0.5018, -35.9477, 4476,      0.7,  28.0347,  35.6823,2,  35.6830,2,    199.2,2,    200.0,2,     1.61,2,     0.14,2,     0.00,2,     0.11,2,    1.720,2,    1.013,2,    1.954,2,   -999.0,9,   -999.0,9, 28.0346
     316N142_3,  AR15,    15,  1,     35,     35,2,19940407,1719, -0.5018, -35.9477, 4476,     59.4,  27.5207,  36.2492,2,  36.2487,2,    205.1,2,    205.3,2,     1.47,2,     0.14,2,     0.00,2,     0.12,2, -999.000,9,    0.159,3, -999.000,9,   -999.0,9,   -999.0,9, 27.5068
     316N142_3,  AR15,    15,  1,     38,     38,2,19940407,1719, -0.5018, -35.9477, 4476,    104.6,  16.6173,  35.7587,2,  35.7582,2,    160.8,2,    163.0,2,     5.04,2,    10.95,2,     0.02,2,     0.77,2, -999.000,9, -999.000,9, -999.000,9,   -999.0,9,   -999.0,9, 16.6003
     316N142_3,  AR15,    15,  1,     33,     33,2,19940407,1719, -0.5018, -35.9477, 4476,    186.5,  11.9688,  35.1338,2,  35.1337,2,    153.0,2,    150.7,2,     9.22,2,    19.16,2,     0.00,2,     1.26,2,    1.672,2,    0.987,2,    2.088,3,   -999.0,9,   -999.0,9, 11.9445
     316N142_3,  AR15,    15,  1,     32,     32,2,19940407,1719, -0.5018, -35.9477, 4476,    286.2,  11.0092,  35.0412,2,  35.0420,2,    114.5,2,    105.4,2,    12.08,2,    25.96,2,     0.00,2,     1.64,2, -999.000,9, -999.000,9, -999.000,9,   -999.0,9,   -999.0,9, 10.9737
     316N142_3,  AR15,    15,  1,     31,     31,2,19940407,1719, -0.5018, -35.9477, 4476,    406.8,   8.1214,  34.7160,2,  34.7152,2,    125.7,2,    121.7,2,    17.59,2,    30.38,2,     0.00,2,     1.95,2,    1.333,2,    0.676,2,    0.518,2,   -999.0,9,   -999.0,9,  8.0795
     316N142_3,  AR15,    15,  1,     37,     37,2,19940407,1719, -0.5018, -35.9477, 4476,    507.7,   6.5167,  34.5783,2,  34.5775,2,    133.9,2,    133.8,2,    22.62,2,    32.62,2,     0.00,2,     2.16,2, -999.000,9, -999.000,9, -999.000,9,   -999.0,9,   -999.0,9,  6.4702
     316N142_3,  AR15,    15,  1,     29,     29,2,19940407,1719, -0.5018, -35.9477, 4476,    607.7,   5.9493,  34.5274,2,  34.5278,2,    138.1,2,    145.8,2,    24.54,2,    32.69,2,     0.00,2,     2.17,2,    0.498,2,    0.261,2,    0.477,2,   -999.0,9,   -999.0,9,  5.8959
     316N142_3,  AR15,    15,  1,     28,     28,2,19940407,1719, -0.5018, -35.9477, 4476,    708.4,   5.2795,  34.4959,2,  34.4954,2,    146.9,2,    150.9,2,    28.15,2,    33.61,2,     0.00,2,     2.26,2, -999.000,9, -999.000,9, -999.000,9,   -999.0,9,   -999.0,9,  5.2204
     316N142_3,  AR15,    15,  1,     27,     27,2,19940407,1719, -0.5018, -35.9477, 4476,    808.8,   4.7714,  34.5116,2,  34.5115,2,    155.2,2,    154.3,2,    31.39,2,    33.88,2,     0.00,2,     2.28,2,    0.509,2,    0.264,2,    0.525,2,   -999.0,9,   -999.0,9,  4.7065
     316N142_3,  AR15,    15,  1,     26,     26,2,19940407,1719, -0.5018, -35.9477, 4476,    934.0,   4.5622,  34.5849,2,  34.5852,2,    153.7,2,    157.0,2,    32.23,2,    33.09,2,     0.00,2,     2.24,2, -999.000,9, -999.000,9, -999.000,9,   -999.0,9,   -999.0,9,  4.4878
     316N142_3,  AR15,    15,  1,     25,     25,2,19940407,1719, -0.5018, -35.9477, 4476,   1061.0,   4.4763,  34.6626,2,  34.6614,2,    161.0,2,    162.8,2,    31.27,2,    31.72,2,     0.00,2,     2.16,2,    0.000,4,    0.021,2,    0.044,2,   -999.0,9,   -999.0,9,  4.3914
     316N142_3,  AR15,    15,  1,     24,     24,2,19940407,1719, -0.5018, -35.9477, 4476,   1185.1,   4.5352,  34.7688,2,  34.7682,2,    174.1,2,    174.4,2,    28.01,2,    29.13,2,     0.00,2,     1.97,2, -999.000,9, -999.000,9, -999.000,9,   -999.0,9,   -999.0,9,  4.4385
     316N142_3,  AR15,    15,  1,     23,     23,2,19940407,1719, -0.5018, -35.9477, 4476,   1311.8,   4.6323,  34.9205,2,  34.9216,2,    202.2,2,    203.9,2,    21.49,2,    24.17,2,     0.00,2,     1.62,2, -999.000,9, -999.000,9, -999.000,9,   -999.0,9,   -999.0,9,  4.5228
     316N142_3,  AR15,    15,  1,     22,     22,2,19940407,1719, -0.5018, -35.9477, 4476,   1462.1,   4.3271,  34.9621,2,  34.9627,2,    228.1,2,    226.4,2,    19.06,2,    21.66,2,     0.00,2,     1.44,2,    0.095,2,    0.058,2,    0.358,2,   -999.0,9,   -999.0,9,  4.2068
     316N142_3,  AR15,    15,  1,     21,     21,2,19940407,1719, -0.5018, -35.9477, 4476,   1614.4,   4.1516,  34.9779,2,  34.9784,2,    240.0,2,    238.3,2,    17.96,2,    20.38,2,     0.00,2,     1.34,2,    0.138,2,    0.074,2,    0.446,2,   -999.0,9,   -999.0,9,  4.0190
     316N142_3,  AR15,    15,  1,     20,     20,2,19940407,1719, -0.5018, -35.9477, 4476,   1714.3,   3.9832,  34.9810,2,  34.9822,2,    246.1,2,    245.3,2,    17.83,2,    19.73,2,     0.00,2,     1.29,2,    0.059,2,    0.055,2,    0.471,2,   -999.0,9,   -999.0,9,  3.8433
     316N142_3,  AR15,    15,  1,     19,     19,2,19940407,1719, -0.5018, -35.9477, 4476,   1815.5,   3.8933,  34.9858,2,  34.9861,2,    251.6,2,    250.7,2,    17.22,2,    19.12,2,     0.00,2,     1.25,2,    0.128,2,    0.065,2,    0.554,2,   -999.0,9,   -999.0,9,  3.7450
     316N142_3,  AR15,    15,  1,     18,     18,9,19940407,1719, -0.5018, -35.9477, 4476,   1916.7,   3.7792,  34.9847,2,-999.0000,9,    257.5,2,   -999.0,9,  -999.00,9,  -999.00,9,  -999.00,9,  -999.00,9, -999.000,9, -999.000,9, -999.000,9,   -999.0,9,   -999.0,9,  3.6229
     316N142_3,  AR15,    15,  1,     17,     17,2,19940407,1719, -0.5018, -35.9477, 4476,   2069.4,   3.5187,  34.9695,2,  34.9696,2,    256.7,2,    253.2,2,    20.36,2,    19.23,2,     0.00,2,     1.26,2, -999.000,9,    0.027,2,    0.333,2,   -999.0,9,   -999.0,9,  3.3517
     316N142_3,  AR15,    15,  1,     16,     16,2,19940407,1719, -0.5018, -35.9477, 4476,   2272.0,   3.2375,  34.9558,2,  34.9550,2,    255.7,2,    254.4,2,    23.62,2,    19.43,2,     0.00,2,     1.28,2, -999.000,9, -999.000,9, -999.000,9,   -999.0,9,   -999.0,9,  3.0556
     316N142_3,  AR15,    15,  1,     15,     15,2,19940407,1719, -0.5018, -35.9477, 4476,   2474.3,   3.0751,  34.9488,2,  34.9482,2,    257.4,2,    256.5,2,    24.95,2,    19.34,2,     0.00,2,     1.27,2, -999.000,9, -999.000,9, -999.000,9,   -999.0,9,   -999.0,9,  2.8763
     316N142_3,  AR15,    15,  1,     14,     14,2,19940407,1719, -0.5018, -35.9477, 4476,   2675.9,   2.9466,  34.9448,2,  34.9448,2,    260.1,2,    259.7,2,    24.94,2,    18.97,2,     0.00,2,     1.25,2, -999.000,9, -999.000,9, -999.000,9,   -999.0,9,   -999.0,9,  2.7301
     316N142_3,  AR15,    15,  1,     13,     13,2,19940407,1719, -0.5018, -35.9477, 4476,   2877.8,   2.8297,  34.9347,2,  34.9281,4,    256.9,2,    257.6,2,    28.09,2,    19.41,2,     0.00,2,     1.28,2, -999.000,9, -999.000,9, -999.000,9,   -999.0,9,   -999.0,9,  2.5952
     316N142_3,  AR15,    15,  1,     12,     12,2,19940407,1719, -0.5018, -35.9477, 4476,   3080.7,   2.6872,  34.9226,2,  34.9179,4,    255.6,2,    254.9,2,    31.98,2,    20.09,2,     0.00,2,     1.31,2, -999.000,9, -999.000,9, -999.000,9,   -999.0,9,   -999.0,9,  2.4349
     316N142_3,  AR15,    15,  1,     11,     11,2,19940407,1719, -0.5018, -35.9477, 4476,   3233.3,   2.6148,  34.9196,2,  34.9128,4,    257.4,2,    257.7,2,    31.73,2,    19.82,2,     0.00,2,     1.30,2, -999.000,9, -999.000,9, -999.000,9,   -999.0,9,   -999.0,9,  2.3482
     316N142_3,  AR15,    15,  1,     10,     10,2,19940407,1719, -0.5018, -35.9477, 4476,   3385.3,   2.5833,  34.9192,2,  34.9130,4,    260.7,2,    260.6,2,    30.27,2,    19.49,2,     0.00,2,     1.26,2, -999.000,9, -999.000,9, -999.000,9,   -999.0,9,   -999.0,9,  2.3012
     316N142_3,  AR15,    15,  1,      9,      9,2,19940407,1719, -0.5018, -35.9477, 4476,   3538.1,   2.4544,  34.9107,2,  34.9106,2,    261.8,2,    262.0,2,    31.73,2,    19.55,2,     0.00,2,     1.27,2,    0.051,2,    0.051,2,    0.379,2,   -999.0,9,   -999.0,9,  2.1590
     316N142_3,  AR15,    15,  1,      8,      8,2,19940407,1719, -0.5018, -35.9477, 4476,   3691.2,   2.3794,  34.9056,2,  34.9067,2,    263.2,2,    263.0,2,    32.10,2,    19.47,2,     0.00,2,     1.26,2, -999.000,9, -999.000,9, -999.000,9,   -999.0,9,   -999.0,9,  2.0692
     316N142_3,  AR15,    15,  1,      7,      7,2,19940407,1719, -0.5018, -35.9477, 4476,   3844.0,   2.3413,  34.9023,2,  34.9024,2,    262.7,2,    263.6,2,    32.83,2,    19.52,2,     0.00,2,     1.26,2,    0.076,2,    0.075,6,    0.530,6,   -999.0,9,   -999.0,9,  2.0151
     316N142_3,  AR15,    15,  1,      6,      6,2,19940407,1719, -0.5018, -35.9477, 4476,   3996.1,   2.2288,  34.8881,2,  34.8890,2,    261.2,2,    259.7,2,    39.42,2,    20.49,2,     0.00,2,     1.33,2,    0.077,2,    0.052,2,    0.415,2,   -999.0,9,   -999.0,9,  1.8886
     316N142_3,  AR15,    15,  1,      5,      5,2,19940407,1719, -0.5018, -35.9477, 4476,   4148.9,   2.0990,  34.8719,2,  34.8725,2,    257.5,2,    256.7,2,    45.53,2,    21.32,2,     0.00,2,     1.39,2, -999.000,9, -999.000,9, -999.000,9,   -999.0,9,   -999.0,9,  1.7452
     316N142_3,  AR15,    15,  1,      4,      4,2,19940407,1719, -0.5018, -35.9477, 4476,   4250.1,   1.5728,  34.8123,2,  34.8109,2,    245.4,2,    241.7,2,    72.23,2,    25.33,2,     0.00,2,     1.68,2,    0.016,4,    0.013,2,    0.150,2,   -999.0,9,   -999.0,9,  1.2232
     316N142_3,  AR15,    15,  1,      3,      3,2,19940407,1719, -0.5018, -35.9477, 4476,   4352.8,   1.2163,  34.7713,2,  34.7726,2,    233.1,2,    232.8,2,    88.15,2,    27.68,2,     0.00,2,     1.87,2, -999.000,9, -999.000,9, -999.000,9,   -999.0,9,   -999.0,9,  0.8662
     316N142_3,  AR15,    15,  1,      2,      2,2,19940407,1719, -0.5018, -35.9477, 4476,   4453.7,   1.0454,  34.7511,2,  34.7527,2,    230.0,2,    229.5,2,    96.02,2,    28.77,2,     0.00,2,     1.96,2,    0.009,4,    0.020,2,    0.049,2,   -999.0,9,   -999.0,9,  0.6894
     316N142_3,  AR15,    15,  1,      1,      1,2,19940407,1719, -0.5018, -35.9477, 4476,   4564.9,   0.9782,  34.7421,2,  34.7449,2,    226.2,2,    226.1,2,    99.68,2,    29.33,2,     0.00,2,     2.01,2, -999.000,9, -999.000,9, -999.000,9,   -999.0,9,   -999.0,9,  0.6118