BOTTLE,20020814WHPSIOKJU
EXPOCODE,SECT_ID,STNNBR,CASTNO,SAMPNO,BTLNBR,BTLNBR_FLAG_W,DATE,TIME,LATITUDE,LONGITUDE,DEPTH,CTDPRS,CTDTMP,CTDSAL,CTDSAL_FLAG_W,SALNTY,SALNTY_FLAG_W,CTDOXY,CTDOXY_FLAG_W,OXYGEN,OXYGEN_FLAG_W,SILCAT,SILCAT_FLAG_W,NITRAT,NITRAT_FLAG_W,NITRIT,NITRIT_FLAG_W,PHSPHT,PHSPHT_FLAG_W,CFC-11,CFC-11_FLAG_W,CFC-12,CFC-12_FLAG_W,CCL4,CCL4_FLAG_W,TCARBN,TCARBN_FLAG_W,ALKALI,ALKALI_FLAG_W,THETA
,,,,,,,,,,,,DBAR,ITS-90,PSS-78,,PSS-78,,UMOL/KG,,UMOL/KG,,UMOL/KG,,UMOL/KG,,UMOL/KG,,UMOL/KG,,PMOL/KG,,PMOL/KG,,PMOL/KG,,UMOL/KG,,UMOL/KG,,DEG C
     316N142_3,   A15,    73,  1,     39,     39,2,19940426,0807,-13.9837, -19.0002, 4394,      6.4,  26.7410,  37.0142,2,  37.0146,2,    199.7,2,    200.6,2,     1.92,2,     0.28,2,     0.00,2,     0.19,2, -999.000,9, -999.000,9, -999.000,9,   -999.0,9,   -999.0,9, 26.7395
     316N142_3,   A15,    73,  1,     35,     35,2,19940426,0807,-13.9837, -19.0002, 4394,     58.6,  26.2461,  37.0196,2,  37.0013,2,    206.1,2,    208.2,2,     1.78,2,     0.23,2,     0.00,2,     0.21,2, -999.000,9, -999.000,9, -999.000,9,   -999.0,9,   -999.0,9, 26.2328
     316N142_3,   A15,    73,  1,     38,     38,2,19940426,0807,-13.9837, -19.0002, 4394,     89.1,  23.4298,  36.6937,2,  36.7052,2,    230.3,2,    223.0,2,     1.52,2,     0.23,2,     0.00,2,     0.23,2, -999.000,9, -999.000,9, -999.000,9,   -999.0,9,   -999.0,9, 23.4112
     316N142_3,   A15,    73,  1,     33,     33,2,19940426,0807,-13.9837, -19.0002, 4394,    168.6,  17.2291,  35.8343,2,  35.8287,2,    196.2,2,    177.8,2,     3.51,2,     7.90,2,     0.02,2,     0.72,2, -999.000,9, -999.000,9, -999.000,9,   -999.0,9,   -999.0,9, 17.2009
     316N142_3,   A15,    73,  1,     41,     41,2,19940426,0807,-13.9837, -19.0002, 4394,    243.5,  13.1613,  35.2800,2,  35.2652,2,    132.2,2,    127.8,2,     7.76,2,    19.36,2,     0.00,2,     1.32,2, -999.000,9, -999.000,9, -999.000,9,   -999.0,9,   -999.0,9, 13.1274
     316N142_3,   A15,    73,  1,     31,     31,2,19940426,0807,-13.9837, -19.0002, 4394,    344.4,   9.8665,  34.8701,2,  34.8637,2,    110.5,2,    105.4,2,    14.00,2,    28.35,2,     0.00,2,     1.84,2, -999.000,9, -999.000,9, -999.000,9,   -999.0,9,   -999.0,9,  9.8266
     316N142_3,   A15,    73,  1,     37,     37,2,19940426,0807,-13.9837, -19.0002, 4394,    455.5,   7.5034,  34.6449,2,  34.6470,2,    121.1,2,    119.6,2,    19.37,2,    32.02,2,     0.00,2,     2.09,2, -999.000,9, -999.000,9, -999.000,9,   -999.0,9,   -999.0,9,  7.4585
     316N142_3,   A15,    73,  1,     29,     29,2,19940426,0807,-13.9837, -19.0002, 4394,    565.2,   5.8134,  34.4997,2,  34.4950,2,    139.9,2,    145.5,2,    25.36,2,    33.41,2,     0.00,2,     2.21,2, -999.000,9, -999.000,9, -999.000,9,   -999.0,9,   -999.0,9,  5.7646
     316N142_3,   A15,    73,  1,     28,     28,2,19940426,0807,-13.9837, -19.0002, 4394,    675.6,   4.8837,  34.4473,2,  34.4506,2,    152.6,2,    156.6,2,    30.22,2,    33.94,2,     0.00,2,     2.27,2, -999.000,9, -999.000,9, -999.000,9,   -999.0,9,   -999.0,9,  4.8297
     316N142_3,   A15,    73,  1,     27,     27,2,19940426,0807,-13.9837, -19.0002, 4394,    756.6,   4.4838,  34.4484,2,  34.4485,2,    156.2,2,    161.5,2,    33.20,2,    34.13,2,     0.00,2,     2.30,2, -999.000,9, -999.000,9, -999.000,9,   -999.0,9,   -999.0,9,  4.4252
     316N142_3,   A15,    73,  1,     26,     26,2,19940426,0807,-13.9837, -19.0002, 4394,    858.0,   4.0242,  34.4709,2,  34.4693,2,    167.8,2,    171.3,2,    37.18,2,    33.52,2,     0.00,2,     2.29,2, -999.000,9, -999.000,9, -999.000,9,   -999.0,9,   -999.0,9,  3.9601
     316N142_3,   A15,    73,  1,     25,     25,2,19940426,0807,-13.9837, -19.0002, 4394,    957.5,   3.8815,  34.5263,2,  34.5244,2,    170.2,2,    172.5,2,    38.28,2,    32.91,2,     0.00,2,     2.25,2, -999.000,9, -999.000,9, -999.000,9,   -999.0,9,   -999.0,9,  3.8102
     316N142_3,   A15,    73,  1,     24,     24,2,19940426,0807,-13.9837, -19.0002, 4394,   1067.4,   3.8877,  34.6111,2,  34.6099,2,    175.4,2,    175.4,2,    36.89,2,    31.77,2,     0.00,2,     2.17,2, -999.000,9, -999.000,9, -999.000,9,   -999.0,9,   -999.0,9,  3.8072
     316N142_3,   A15,    73,  1,     23,     23,2,19940426,0807,-13.9837, -19.0002, 4394,   1182.8,   3.9277,  34.6937,2,  34.6914,2,    181.7,2,    181.0,2,    34.24,2,    30.06,2,     0.00,2,     2.06,2, -999.000,9, -999.000,9, -999.000,9,   -999.0,9,   -999.0,9,  3.8369
     316N142_3,   A15,    73,  1,     22,     22,2,19940426,0807,-13.9837, -19.0002, 4394,   1309.7,   3.9668,  34.8007,2,  34.8011,2,    195.6,2,    195.7,2,    29.73,2,    27.26,2,     0.00,2,     1.87,2, -999.000,9, -999.000,9, -999.000,9,   -999.0,9,   -999.0,9,  3.8644
     316N142_3,   A15,    73,  1,     21,     21,2,19940426,0807,-13.9837, -19.0002, 4394,   1437.3,   3.9382,  34.8677,2,  34.8664,2,    209.5,2,    210.4,2,    26.59,2,    24.93,2,     0.00,2,     1.72,2, -999.000,9, -999.000,9, -999.000,9,   -999.0,9,   -999.0,9,  3.8246
     316N142_3,   A15,    73,  1,     20,     20,2,19940426,0807,-13.9837, -19.0002, 4394,   1564.5,   3.8490,  34.9054,2,  34.9048,2,    222.7,2,    222.5,2,    24.95,2,    23.27,2,     0.00,2,     1.60,2, -999.000,9, -999.000,9, -999.000,9,   -999.0,9,   -999.0,9,  3.7248
     316N142_3,   A15,    73,  1,     19,     19,2,19940426,0807,-13.9837, -19.0002, 4394,   1691.5,   3.6577,  34.9255,2,  34.9231,2,    233.7,2,    233.9,2,    24.94,2,    21.94,2,     0.00,2,     1.52,2, -999.000,9, -999.000,9, -999.000,9,   -999.0,9,   -999.0,9,  3.5242
     316N142_3,   A15,    73,  1,     40,     40,2,19940426,0807,-13.9837, -19.0002, 4394,   1817.4,   3.4721,  34.9316,2,  34.9292,2,    240.9,2,    240.7,2,    25.67,2,    21.37,2,     0.00,2,     1.47,2, -999.000,9, -999.000,9, -999.000,9,   -999.0,9,   -999.0,9,  3.3295
     316N142_3,   A15,    73,  1,     17,     17,2,19940426,0807,-13.9837, -19.0002, 4394,   1942.5,   3.2354,  34.9217,2,  34.9203,2,    241.2,2,    241.1,2,    29.77,2,    21.61,2,     0.00,2,     1.48,2, -999.000,9, -999.000,9, -999.000,9,   -999.0,9,   -999.0,9,  3.0847
     316N142_3,   A15,    73,  1,     16,     16,2,19940426,0807,-13.9837, -19.0002, 4394,   2080.8,   3.0814,  34.9147,2,  34.9118,2,    241.8,2,    240.7,2,    32.74,2,    21.76,2,     0.00,2,     1.49,2, -999.000,9, -999.000,9, -999.000,9,   -999.0,9,   -999.0,9,  2.9202
     316N142_3,   A15,    73,  1,     15,     15,2,19940426,0807,-13.9837, -19.0002, 4394,   2222.5,   2.9566,  34.9094,2,  34.9069,2,    242.0,2,    241.9,2,    35.09,2,    21.95,2,     0.00,2,     1.51,2, -999.000,9, -999.000,9, -999.000,9,   -999.0,9,   -999.0,9,  2.7843
     316N142_3,   A15,    73,  1,     14,     14,2,19940426,0807,-13.9837, -19.0002, 4394,   2374.5,   2.8518,  34.9055,2,  34.9036,2,    242.4,2,    241.8,2,    37.18,2,    21.96,2,     0.00,2,     1.51,2, -999.000,9, -999.000,9, -999.000,9,   -999.0,9,   -999.0,9,  2.6668
     316N142_3,   A15,    73,  1,     13,     13,2,19940426,0807,-13.9837, -19.0002, 4394,   2528.0,   2.7906,  34.9026,2,  34.9018,2,    242.6,2,    242.2,2,    38.66,2,    22.06,2,     0.00,2,     1.52,2, -999.000,9, -999.000,9, -999.000,9,   -999.0,9,   -999.0,9,  2.5920
     316N142_3,   A15,    73,  1,     12,     12,2,19940426,0807,-13.9837, -19.0002, 4394,   2705.2,   2.7215,  34.8997,2,  34.8993,2,    242.9,2,    242.1,2,    40.26,2,    22.20,2,     0.00,2,     1.54,2, -999.000,9, -999.000,9, -999.000,9,   -999.0,9,   -999.0,9,  2.5068
     316N142_3,   A15,    73,  1,     11,     11,2,19940426,0807,-13.9837, -19.0002, 4394,   2884.7,   2.6722,  34.8983,2,  34.8981,2,    242.9,2,    242.7,2,    41.23,2,    22.21,2,     0.00,2,     1.52,2, -999.000,9, -999.000,9, -999.000,9,   -999.0,9,   -999.0,9,  2.4405
     316N142_3,   A15,    73,  1,     10,     10,2,19940426,0807,-13.9837, -19.0002, 4394,   3087.0,   2.6233,  34.8970,2,  34.8981,2,    244.1,2,    243.6,2,    42.08,2,    22.12,2,     0.00,2,     1.52,2, -999.000,9, -999.000,9, -999.000,9,   -999.0,9,   -999.0,9,  2.3719
     316N142_3,   A15,    73,  1,      9,      9,2,19940426,0807,-13.9837, -19.0002, 4394,   3291.2,   2.5536,  34.8951,2,  34.8965,2,    245.8,2,    245.7,2,    42.43,2,    21.98,2,     0.00,2,     1.51,2, -999.000,9, -999.000,9, -999.000,9,   -999.0,9,   -999.0,9,  2.2823
     316N142_3,   A15,    73,  1,      8,      8,2,19940426,0807,-13.9837, -19.0002, 4394,   3470.8,   2.4684,  34.8898,2,  34.8896,2,    246.9,2,    246.8,2,    44.03,2,    21.98,2,     0.00,2,     1.51,2, -999.000,9, -999.000,9, -999.000,9,   -999.0,9,   -999.0,9,  2.1801
     316N142_3,   A15,    73,  1,      7,      7,2,19940426,0807,-13.9837, -19.0002, 4394,   3647.5,   2.3174,  34.8763,2,  34.8780,2,    246.1,2,    246.5,2,    48.60,2,    22.51,2,     0.00,2,     1.55,2, -999.000,9, -999.000,9, -999.000,9,   -999.0,9,   -999.0,9,  2.0137
     316N142_3,   A15,    73,  1,      6,      6,2,19940426,0807,-13.9837, -19.0002, 4394,   3853.9,   1.9441,  34.8420,2,  34.8422,2,    243.0,2,    243.2,2,    60.94,2,    24.09,2,     0.00,2,     1.66,2, -999.000,9, -999.000,9, -999.000,9,   -999.0,9,   -999.0,9,  1.6279
     316N142_3,   A15,    73,  1,      5,      5,2,19940426,0807,-13.9837, -19.0002, 4394,   4056.9,   1.7272,  34.8167,2,  34.8184,2,    239.0,2,    238.9,2,    70.48,2,    25.43,2,     0.00,2,     1.76,2, -999.000,9, -999.000,9, -999.000,9,   -999.0,9,   -999.0,9,  1.3948
     316N142_3,   A15,    73,  1,      4,      4,2,19940426,0807,-13.9837, -19.0002, 4394,   4251.4,   1.4467,  34.7883,2,  34.7866,2,    235.1,2,    234.9,2,    81.07,2,    26.92,2,     0.00,2,     1.86,2, -999.000,9, -999.000,9, -999.000,9,   -999.0,9,   -999.0,9,  1.1009
     316N142_3,   A15,    73,  1,      3,      3,2,19940426,0807,-13.9837, -19.0002, 4394,   4439.7,   1.2350,  34.7657,2,  34.7663,2,    232.0,2,    231.9,2,    89.18,2,    28.07,2,     0.00,2,     1.95,2, -999.000,9, -999.000,9, -999.000,9,   -999.0,9,   -999.0,9,  0.8746
     316N142_3,   A15,    73,  1,      2,      2,2,19940426,0807,-13.9837, -19.0002, 4394,   4646.8,   1.2340,  34.7633,2,  34.7640,2,    231.5,2,    231.5,2,    90.19,2,    28.21,2,     0.00,2,     1.96,2, -999.000,9, -999.000,9, -999.000,9,   -999.0,9,   -999.0,9,  0.8499
     316N142_3,   A15,    73,  1,      1,      1,2,19940426,0807,-13.9837, -19.0002, 4394,   4699.0,   1.2400,  34.7630,2,  34.7644,2,    231.8,2,    231.5,2,    90.27,2,    28.32,2,     0.00,2,     1.96,2, -999.000,9, -999.000,9, -999.000,9,   -999.0,9,   -999.0,9,  0.8497