BOTTLE,20020814WHPSIOKJU
EXPOCODE,SECT_ID,STNNBR,CASTNO,SAMPNO,BTLNBR,BTLNBR_FLAG_W,DATE,TIME,LATITUDE,LONGITUDE,DEPTH,CTDPRS,CTDTMP,CTDSAL,CTDSAL_FLAG_W,SALNTY,SALNTY_FLAG_W,CTDOXY,CTDOXY_FLAG_W,OXYGEN,OXYGEN_FLAG_W,SILCAT,SILCAT_FLAG_W,NITRAT,NITRAT_FLAG_W,NITRIT,NITRIT_FLAG_W,PHSPHT,PHSPHT_FLAG_W,CFC-11,CFC-11_FLAG_W,CFC-12,CFC-12_FLAG_W,CCL4,CCL4_FLAG_W,TCARBN,TCARBN_FLAG_W,ALKALI,ALKALI_FLAG_W,THETA
,,,,,,,,,,,,DBAR,ITS-90,PSS-78,,PSS-78,,UMOL/KG,,UMOL/KG,,UMOL/KG,,UMOL/KG,,UMOL/KG,,UMOL/KG,,PMOL/KG,,PMOL/KG,,PMOL/KG,,UMOL/KG,,UMOL/KG,,DEG C
     316N142_3,   A15,    99,  1,     39,     39,2,19940503,1026,-27.2013, -19.0025, 4361,      7.3,  22.9697,  36.2669,2,  36.2683,2,    215.5,2,    216.5,2,     2.05,2,     0.08,2,     0.01,2,     0.19,2, -999.000,9, -999.000,9, -999.000,9,   2055.5,2,   2383.1,2, 22.9682
     316N142_3,   A15,    99,  1,     35,     35,2,19940503,1026,-27.2013, -19.0025, 4361,     60.7,  22.9486,  36.2617,2,  36.2578,2,    214.1,2,    217.1,2,     2.04,2,     0.04,2,     0.01,2,     0.16,2, -999.000,9, -999.000,9, -999.000,9,   2057.8,2,   2384.4,2, 22.9362
     316N142_3,   A15,    99,  1,     38,     38,2,19940503,1026,-27.2013, -19.0025, 4361,     90.6,  19.7467,  35.8887,2,  35.8927,2,    243.7,2,    241.5,2,     2.02,2,     0.04,2,     0.01,2,     0.17,2, -999.000,9, -999.000,9, -999.000,9,   2054.5,2,   2362.3,2, 19.7301
     316N142_3,   A15,    99,  1,     33,     33,2,19940503,1026,-27.2013, -19.0025, 4361,    146.0,  16.6376,  35.5920,2,  35.5934,2,    226.6,2,    226.7,2,     2.15,2,     0.27,2,     0.14,2,     0.26,2, -999.000,9, -999.000,9, -999.000,9,   2073.2,2,   2340.2,2, 16.6138
     316N142_3,   A15,    99,  1,     41,     41,2,19940503,1026,-27.2013, -19.0025, 4361,    205.8,  14.8348,  35.3630,2,  35.3611,2,    218.5,2,    216.8,2,     3.01,2,     4.48,2,     0.02,2,     0.47,2, -999.000,9, -999.000,9, -999.000,9,   2087.3,2,   2325.7,2, 14.8038
     316N142_3,   A15,    99,  1,     31,     31,2,19940503,1026,-27.2013, -19.0025, 4361,    276.0,  13.5748,  35.2106,2,  35.2102,2,    216.6,2,    212.8,2,     3.86,2,     7.58,2,     0.01,2,     0.66,2, -999.000,9, -999.000,9, -999.000,9,   2096.0,2,   2317.9,2, 13.5355
     316N142_3,   A15,    99,  1,     37,     37,2,19940503,1026,-27.2013, -19.0025, 4361,    366.4,  11.5241,  34.9762,2,  34.9749,2,    210.1,2,    206.6,2,     6.02,2,    13.22,2,     0.01,2,     0.98,2, -999.000,9, -999.000,9, -999.000,9,   2117.0,2,   2308.5,2, 11.4772
     316N142_3,   A15,    99,  1,     29,     29,2,19940503,1026,-27.2013, -19.0025, 4361,    457.1,   9.7840,  34.7755,2,  34.7748,2,    203.8,2,    200.7,2,     9.19,2,    18.06,2,     0.01,2,     1.29,2, -999.000,9, -999.000,9, -999.000,9,   2134.4,2,   2300.8,2,  9.7311
     316N142_3,   A15,    99,  1,     28,     28,2,19940503,1026,-27.2013, -19.0025, 4361,    547.1,   7.7431,  34.5664,2,  34.5629,2,    201.9,2,    200.5,2,    14.11,2,    23.40,2,     0.00,2,     1.62,2, -999.000,9, -999.000,9, -999.000,9,   2152.5,2,   2295.0,2,  7.6879
     316N142_3,   A15,    99,  1,     27,     27,2,19940503,1026,-27.2013, -19.0025, 4361,    668.9,   5.9637,  34.4124,2,  34.4110,2,    205.2,2,    207.8,2,    19.90,2,    27.21,2,     0.00,2,     1.91,2, -999.000,9, -999.000,9, -999.000,9,   2166.5,2,   2292.6,2,  5.9048
     316N142_3,   A15,    99,  1,     26,     26,2,19940503,1026,-27.2013, -19.0025, 4361,    788.5,   4.7031,  34.3436,2,  34.3438,2,    208.1,2,    210.6,2,    27.44,2,    29.75,2,     0.00,2,     2.10,2, -999.000,9, -999.000,9, -999.000,9,   -999.0,9,   -999.0,9,  4.6406
     316N142_3,   A15,    99,  1,     25,     25,2,19940503,1026,-27.2013, -19.0025, 4361,    907.9,   3.8496,  34.3677,2,  34.3659,2,    198.1,2,    198.9,2,    39.39,2,    32.02,2,     0.00,2,     2.27,2, -999.000,9, -999.000,9, -999.000,9,   -999.0,9,   -999.0,9,  3.7828
     316N142_3,   A15,    99,  1,     24,     24,2,19940503,1026,-27.2013, -19.0025, 4361,   1008.6,   3.4754,  34.4138,2,  34.4125,2,    188.9,2,    192.2,2,    46.99,2,    32.68,2,     0.00,2,     2.33,2, -999.000,9, -999.000,9, -999.000,9,   -999.0,9,   -999.0,9,  3.4032
     316N142_3,   A15,    99,  1,     23,     23,2,19940503,1026,-27.2013, -19.0025, 4361,   1119.9,   3.2092,  34.4827,2,  34.4811,2,    185.0,2,    186.6,2,    53.00,2,    32.69,2,     0.00,2,     2.32,2, -999.000,9, -999.000,9, -999.000,9,   -999.0,9,   -999.0,9,  3.1303
     316N142_3,   A15,    99,  1,     22,     22,2,19940503,1026,-27.2013, -19.0025, 4361,   1240.4,   3.0837,  34.5555,2,  34.5541,2,    185.6,2,    185.3,2,    55.19,2,    32.00,2,     0.00,2,     2.29,2, -999.000,9, -999.000,9, -999.000,9,   -999.0,9,   -999.0,9,  2.9962
     316N142_3,   A15,    99,  1,     21,     21,2,19940503,1026,-27.2013, -19.0025, 4361,   1361.4,   2.9638,  34.6326,2,  34.6308,2,    188.2,2,    190.1,2,    55.47,2,    30.62,2,     0.00,2,     2.18,2, -999.000,9, -999.000,9, -999.000,9,   -999.0,9,   -999.0,9,  2.8677
     316N142_3,   A15,    99,  1,     20,     20,2,19940503,1026,-27.2013, -19.0025, 4361,   1483.0,   2.8906,  34.6907,2,  34.6896,2,    197.6,2,    196.5,2,    54.71,2,    29.28,2,     0.00,2,     2.08,2, -999.000,9, -999.000,9, -999.000,9,   -999.0,9,   -999.0,9,  2.7851
     316N142_3,   A15,    99,  1,     19,     19,2,19940503,1026,-27.2013, -19.0025, 4361,   1604.3,   2.8412,  34.7440,2,  34.7424,2,    205.3,2,    204.8,2,    52.34,2,    27.77,2,     0.00,2,     1.97,2, -999.000,9, -999.000,9, -999.000,9,   -999.0,9,   -999.0,9,  2.7261
     316N142_3,   A15,    99,  1,     40,     40,2,19940503,1026,-27.2013, -19.0025, 4361,   1723.5,   2.8118,  34.7818,2,  34.7815,2,    214.3,2,    213.2,2,    49.67,2,    26.44,2,     0.00,2,     1.87,2, -999.000,9, -999.000,9, -999.000,9,   -999.0,9,   -999.0,9,  2.6869
     316N142_3,   A15,    99,  1,     17,     17,2,19940503,1026,-27.2013, -19.0025, 4361,   1844.9,   2.7986,  34.8183,2,  34.8165,2,    223.5,2,    222.0,2,    46.42,2,    25.03,2,     0.00,2,     1.78,2, -999.000,9, -999.000,9, -999.000,9,   -999.0,9,   -999.0,9,  2.6632
     316N142_3,   A15,    99,  1,     16,     16,2,19940503,1026,-27.2013, -19.0025, 4361,   1978.8,   2.9076,  34.8712,2,  34.8709,2,    233.4,2,    235.1,2,    38.36,2,    22.88,2,     0.00,2,     1.62,2, -999.000,9, -999.000,9, -999.000,9,   -999.0,9,   -999.0,9,  2.7585
     316N142_3,   A15,    99,  1,     15,     15,2,19940503,1026,-27.2013, -19.0025, 4361,   2112.4,   2.9012,  34.8873,2,  34.8870,2,    240.0,2,    239.8,2,    36.30,2,    22.15,2,     0.00,2,     1.56,2, -999.000,9, -999.000,9, -999.000,9,   -999.0,9,   -999.0,9,  2.7400
     316N142_3,   A15,    99,  1,     14,     14,2,19940503,1026,-27.2013, -19.0025, 4361,   2244.1,   2.9145,  34.9050,2,  34.9048,2,    245.1,2,    244.9,2,    33.65,2,    21.34,2,     0.00,2,     1.50,2, -999.000,9, -999.000,9, -999.000,9,   -999.0,9,   -999.0,9,  2.7408
     316N142_3,   A15,    99,  1,     13,     13,2,19940503,1026,-27.2013, -19.0025, 4361,   2376.0,   2.8909,  34.9156,2,  34.9158,2,    248.5,2,    248.2,2,    32.47,2,    20.79,2,     0.00,2,     1.46,2, -999.000,9, -999.000,9, -999.000,9,   -999.0,9,   -999.0,9,  2.7050
     316N142_3,   A15,    99,  1,     12,     12,2,19940503,1026,-27.2013, -19.0025, 4361,   2527.8,   2.8344,  34.9174,2,  34.9184,2,    250.6,2,    249.9,2,    33.04,2,    20.70,2,     0.00,2,     1.45,2, -999.000,9, -999.000,9, -999.000,9,   -999.0,9,   -999.0,9,  2.6349
     316N142_3,   A15,    99,  1,     11,     11,2,19940503,1026,-27.2013, -19.0025, 4361,   2680.4,   2.7918,  34.9174,2,  34.9182,2,    251.5,2,    250.5,2,    33.75,2,    20.71,2,     0.00,2,     1.44,2, -999.000,9, -999.000,9, -999.000,9,   -999.0,9,   -999.0,9,  2.5781
     316N142_3,   A15,    99,  1,     10,     10,2,19940503,1026,-27.2013, -19.0025, 4361,   2833.9,   2.7472,  34.9156,2,  34.9168,2,    250.9,2,    251.0,2,    34.61,2,    20.71,2,     0.00,2,     1.44,2, -999.000,9, -999.000,9, -999.000,9,   -999.0,9,   -999.0,9,  2.5190
     316N142_3,   A15,    99,  1,      9,      9,2,19940503,1026,-27.2013, -19.0025, 4361,   2985.8,   2.6615,  34.9106,2,  34.9108,2,    251.4,2,    252.7,4,    36.64,2,    20.95,2,     0.00,2,     1.47,2, -999.000,9, -999.000,9, -999.000,9,   -999.0,9,   -999.0,9,  2.4196
     316N142_3,   A15,    99,  1,      8,      8,2,19940503,1026,-27.2013, -19.0025, 4361,   3164.0,   2.5296,  34.9001,2,  34.9008,2,    249.9,2,    250.9,2,    40.57,2,    21.32,2,     0.00,2,     1.49,2, -999.000,9, -999.000,9, -999.000,9,   -999.0,9,   -999.0,9,  2.2723
     316N142_3,   A15,    99,  1,      7,      7,2,19940503,1026,-27.2013, -19.0025, 4361,   3342.6,   2.3666,  34.8846,2,  34.8850,2,    249.2,2,    249.0,2,    46.85,2,    22.11,2,     0.00,2,     1.54,2, -999.000,9, -999.000,9, -999.000,9,   -999.0,9,   -999.0,9,  2.0944
     316N142_3,   A15,    99,  1,      6,      6,2,19940503,1026,-27.2013, -19.0025, 4361,   3548.1,   2.0289,  34.8499,2,  34.8507,2,    244.0,2,    243.7,2,    60.69,2,    23.95,2,     0.00,2,     1.67,2, -999.000,9, -999.000,9, -999.000,9,   -999.0,9,   -999.0,9,  1.7434
     316N142_3,   A15,    99,  1,      5,      5,2,19940503,1026,-27.2013, -19.0025, 4361,   3752.0,   1.7831,  34.8234,2,  34.8244,2,    238.7,2,    239.6,2,    71.97,2,    25.43,2,     0.00,2,     1.77,2, -999.000,9, -999.000,9, -999.000,9,   -999.0,9,   -999.0,9,  1.4824
     316N142_3,   A15,    99,  1,      4,      4,2,19940503,1026,-27.2013, -19.0025, 4361,   3955.6,   1.6404,  34.8071,2,  34.8075,2,    237.0,2,    236.6,2,    78.99,2,    26.31,2,     0.00,2,     1.83,2, -999.000,9, -999.000,9, -999.000,9,   -999.0,9,   -999.0,9,  1.3216
     316N142_3,   A15,    99,  1,      3,      3,2,19940503,1026,-27.2013, -19.0025, 4361,   4159.4,   1.5543,  34.7964,2,  34.7967,2,    234.9,2,    234.6,2,    83.34,2,    26.82,2,     0.00,2,     1.88,2, -999.000,9, -999.000,9, -999.000,9,   -999.0,9,   -999.0,9,  1.2156
     316N142_3,   A15,    99,  1,      2,      2,2,19940503,1026,-27.2013, -19.0025, 4361,   4364.8,   1.5025,  34.7878,2,  34.7898,2,    233.8,2,    233.2,2,    85.74,2,    27.11,2,     0.00,2,     1.90,2, -999.000,9, -999.000,9, -999.000,9,   -999.0,9,   -999.0,9,  1.1422
     316N142_3,   A15,    99,  1,      1,      1,2,19940503,1026,-27.2013, -19.0025, 4361,   4545.9,   1.4959,  34.7849,2,  34.7857,2,    232.2,2,    232.5,2,    86.03,2,    27.30,2,     0.00,2,     1.93,2, -999.000,9, -999.000,9, -999.000,9,   -999.0,9,   -999.0,9,  1.1150