BOTTLE,20020814WHPSIOKJU
EXPOCODE,SECT_ID,STNNBR,CASTNO,SAMPNO,BTLNBR,BTLNBR_FLAG_W,DATE,TIME,LATITUDE,LONGITUDE,DEPTH,CTDPRS,CTDTMP,CTDSAL,CTDSAL_FLAG_W,SALNTY,SALNTY_FLAG_W,CTDOXY,CTDOXY_FLAG_W,OXYGEN,OXYGEN_FLAG_W,SILCAT,SILCAT_FLAG_W,NITRAT,NITRAT_FLAG_W,NITRIT,NITRIT_FLAG_W,PHSPHT,PHSPHT_FLAG_W,CFC-11,CFC-11_FLAG_W,CFC-12,CFC-12_FLAG_W,CCL4,CCL4_FLAG_W,TCARBN,TCARBN_FLAG_W,ALKALI,ALKALI_FLAG_W,THETA
,,,,,,,,,,,,DBAR,ITS-90,PSS-78,,PSS-78,,UMOL/KG,,UMOL/KG,,UMOL/KG,,UMOL/KG,,UMOL/KG,,UMOL/KG,,PMOL/KG,,PMOL/KG,,PMOL/KG,,UMOL/KG,,UMOL/KG,,DEG C
     316N142_3,   A15,    50,  1,     39,     39,2,19940420,0332, -2.5600, -19.0007, 5438,      5.6,  28.3657,  35.5843,2,  35.5851,2,    220.0,2,    221.9,2,     1.91,2,     0.18,2,     0.00,2,     0.14,2, -999.000,9, -999.000,9, -999.000,9,   -999.0,9,   -999.0,9, 28.3644
     316N142_3,   A15,    50,  1,     42,     42,2,19940420,0332, -2.5600, -19.0007, 5438,     42.6,  20.1639,  35.7287,2,  35.7307,2,    201.6,2,    177.6,2,     3.52,2,     5.99,2,     0.11,2,     0.69,2, -999.000,9, -999.000,9, -999.000,9,   -999.0,9,   -999.0,9, 20.1559
     316N142_3,   A15,    50,  1,     38,     38,2,19940420,0332, -2.5600, -19.0007, 5438,    102.5,  14.3112,  35.4467,2,  35.4466,2,    107.1,2,     96.7,2,     8.54,2,    21.45,2,     0.03,2,     1.47,2, -999.000,9, -999.000,9, -999.000,9,   -999.0,9,   -999.0,9, 14.2961
     316N142_3,   A15,    50,  1,     33,     33,2,19940420,0332, -2.5600, -19.0007, 5438,    206.8,  12.7883,  35.2498,2,  35.2481,2,     94.0,2,     85.4,2,    10.56,2,    25.22,2,     0.01,2,     1.70,2, -999.000,9, -999.000,9, -999.000,9,   -999.0,9,   -999.0,9, 12.7601
     316N142_3,   A15,    50,  1,     41,     41,2,19940420,0332, -2.5600, -19.0007, 5438,    307.9,  11.0597,  35.0424,2,  35.0384,2,     82.2,2,     80.9,2,    13.13,2,    28.88,2,     0.01,2,     1.90,2, -999.000,9, -999.000,9, -999.000,9,   -999.0,9,   -999.0,9, 11.0214
     316N142_3,   A15,    50,  1,     31,     31,2,19940420,0332, -2.5600, -19.0007, 5438,    394.2,   9.0672,  34.8251,2,  34.8233,2,     80.4,2,     73.8,2,    17.34,2,    33.97,2,     0.00,2,     2.19,2, -999.000,9, -999.000,9, -999.000,9,   -999.0,9,   -999.0,9,  9.0238
     316N142_3,   A15,    50,  1,     37,     37,2,19940420,0332, -2.5600, -19.0007, 5438,    470.0,   7.3543,  34.6414,2,  34.6456,2,    109.4,2,    109.9,2,    20.73,2,    33.51,2,     0.00,2,     2.26,2, -999.000,9, -999.000,9, -999.000,9,   -999.0,9,   -999.0,9,  7.3084
     316N142_3,   A15,    50,  1,     29,     29,2,19940420,0332, -2.5600, -19.0007, 5438,    560.6,   5.6886,  34.4953,2,  34.4953,2,    147.7,2,    146.9,2,    25.89,2,    33.39,2,     0.00,2,     2.29,2, -999.000,9, -999.000,9, -999.000,9,   -999.0,9,   -999.0,9,  5.6407
     316N142_3,   A15,    50,  1,     28,     28,2,19940420,0332, -2.5600, -19.0007, 5438,    660.7,   5.0007,  34.4626,2,  34.4596,2,    158.3,2,    166.6,2,    29.27,2,    33.02,2,     0.00,2,     2.29,2, -999.000,9, -999.000,9, -999.000,9,   -999.0,9,   -999.0,9,  4.9473
     316N142_3,   A15,    50,  1,     27,     27,2,19940420,0332, -2.5600, -19.0007, 5438,    852.4,   4.4752,  34.5226,2,  34.5226,2,    152.7,2,    153.8,2,    33.61,2,    34.02,2,     0.00,2,     2.38,2, -999.000,9, -999.000,9, -999.000,9,   -999.0,9,   -999.0,9,  4.4085
     316N142_3,   A15,    50,  1,     26,     26,2,19940420,0332, -2.5600, -19.0007, 5438,   1053.4,   4.3404,  34.6723,2,  34.6703,2,    161.4,2,    164.0,2,    31.96,2,    31.66,2,     0.00,2,     2.21,2, -999.000,9, -999.000,9, -999.000,9,   -999.0,9,   -999.0,9,  4.2572
     316N142_3,   A15,    50,  1,     25,     25,2,19940420,0332, -2.5600, -19.0007, 5438,   1195.7,   4.3887,  34.7750,2,  34.7741,2,    175.2,2,    177.7,2,    33.85,4,    34.13,4,     0.00,4,     2.37,4, -999.000,9, -999.000,9, -999.000,9,   -999.0,9,   -999.0,9,  4.2924
     316N142_3,   A15,    50,  1,     24,     24,2,19940420,0332, -2.5600, -19.0007, 5438,   1337.1,   4.4580,  34.8997,2,  34.9019,2,    202.5,2,    204.2,2,    22.80,2,    24.73,2,     0.00,2,     1.75,2, -999.000,9, -999.000,9, -999.000,9,   -999.0,9,   -999.0,9,  4.3480
     316N142_3,   A15,    50,  1,     23,     23,2,19940420,0332, -2.5600, -19.0007, 5438,   1499.1,   4.3767,  34.9517,2,  34.9539,2,    221.0,2,    222.8,2,    19.79,2,    22.32,2,     0.00,2,     1.57,2, -999.000,9, -999.000,9, -999.000,9,   -999.0,9,   -999.0,9,  4.2523
     316N142_3,   A15,    50,  1,     22,     22,2,19940420,0332, -2.5600, -19.0007, 5438,   1650.5,   4.0298,  34.9786,2,  34.9814,2,    245.5,2,    243.5,2,    18.01,2,    20.04,2,     0.00,2,     1.43,2, -999.000,9, -999.000,9, -999.000,9,   -999.0,9,   -999.0,9,  3.8954
     316N142_3,   A15,    50,  1,     21,     21,2,19940420,0332, -2.5600, -19.0007, 5438,   1762.3,   3.8262,  34.9758,2,  34.9767,2,    249.1,2,    248.4,2,    18.67,2,    19.67,2,     0.00,2,     1.40,2, -999.000,9, -999.000,9, -999.000,9,   -999.0,9,   -999.0,9,  3.6839
     316N142_3,   A15,    50,  1,     20,     20,2,19940420,0332, -2.5600, -19.0007, 5438,   1873.3,   3.7193,  34.9712,2,  34.9708,2,    250.3,2,    249.0,2,    19.74,2,    19.72,2,     0.00,2,     1.39,2, -999.000,9, -999.000,9, -999.000,9,   -999.0,9,   -999.0,9,  3.5680
     316N142_3,   A15,    50,  1,     19,     19,2,19940420,0332, -2.5600, -19.0007, 5438,   2024.4,   3.4404,  34.9537,2,  34.9564,2,    249.4,2,    246.6,2,    24.36,2,    20.35,2,     0.00,2,     1.44,2, -999.000,9, -999.000,9, -999.000,9,   -999.0,9,   -999.0,9,  3.2789
     316N142_3,   A15,    50,  1,     40,     40,2,19940420,0332, -2.5600, -19.0007, 5438,   2226.2,   3.1505,  34.9408,2,  34.9397,2,    248.0,2,    246.9,2,    28.97,2,    20.73,2,     0.00,2,     1.48,2, -999.000,9, -999.000,9, -999.000,9,   -999.0,9,   -999.0,9,  2.9744
     316N142_3,   A15,    50,  1,     17,     17,2,19940420,0332, -2.5600, -19.0007, 5438,   2428.7,   2.9823,  34.9311,3,  34.9295,2,   -999.0,5,    245.8,2,    32.22,2,    21.02,2,     0.00,2,     1.50,2, -999.000,9, -999.000,9, -999.000,9,   -999.0,9,   -999.0,9,  2.7897
     316N142_3,   A15,    50,  1,     16,     16,2,19940420,0332, -2.5600, -19.0007, 5438,   2631.9,   2.7868,  34.9161,3,  34.9135,2,   -999.0,5,    242.9,2,    37.51,2,    21.79,2,     0.00,2,     1.54,2, -999.000,9, -999.000,9, -999.000,9,   -999.0,9,   -999.0,9,  2.5780
     316N142_3,   A15,    50,  1,     15,     15,2,19940420,0332, -2.5600, -19.0007, 5438,   2835.3,   2.6726,  34.9127,3,  34.9094,2,   -999.0,5,    244.7,2,    38.72,2,    21.70,2,     0.00,2,     1.54,2, -999.000,9, -999.000,9, -999.000,9,   -999.0,9,   -999.0,9,  2.4458
     316N142_3,   A15,    50,  1,     14,     14,2,19940420,0332, -2.5600, -19.0007, 5438,   3039.2,   2.6018,  34.9102,3,  34.9056,2,   -999.0,5,    246.6,2,    39.11,2,    21.52,2,     0.00,2,     1.53,2, -999.000,9, -999.000,9, -999.000,9,   -999.0,9,   -999.0,9,  2.3558
     316N142_3,   A15,    50,  1,     13,     13,2,19940420,0332, -2.5600, -19.0007, 5438,   3243.3,   2.5452,  34.9115,3,  34.9072,2,   -999.0,5,    252.1,2,    36.92,2,    20.86,2,     0.00,2,     1.47,2, -999.000,9, -999.000,9, -999.000,9,   -999.0,9,   -999.0,9,  2.2791
     316N142_3,   A15,    50,  1,     12,     12,2,19940420,0332, -2.5600, -19.0007, 5438,   3446.3,   2.4923,  34.9116,3,  34.9105,3,   -999.0,5,    257.0,2,    34.73,2,    20.20,2,     0.00,2,     1.43,2, -999.000,9, -999.000,9, -999.000,9,   -999.0,9,   -999.0,9,  2.2059
     316N142_3,   A15,    50,  1,     11,     11,2,19940420,0332, -2.5600, -19.0007, 5438,   3650.6,   2.4152,  34.9095,3,  34.9042,2,   -999.0,5,    261.6,2,    33.21,2,    19.58,2,     0.00,2,     1.40,2, -999.000,9, -999.000,9, -999.000,9,   -999.0,9,   -999.0,9,  2.1085
     316N142_3,   A15,    50,  1,     10,     10,2,19940420,0332, -2.5600, -19.0007, 5438,   3854.7,   2.2498,  34.8926,3,  34.8883,2,   -999.0,5,    259.1,2,    39.19,2,    20.30,2,     0.00,2,     1.45,2, -999.000,9, -999.000,9, -999.000,9,   -999.0,9,   -999.0,9,  1.9249
     316N142_3,   A15,    50,  1,      9,      9,2,19940420,0332, -2.5600, -19.0007, 5438,   4059.1,   1.9281,  34.8496,2,  34.8497,2,    251.0,2,    250.6,2,    55.08,2,    22.75,2,     0.00,2,     1.62,2, -999.000,9, -999.000,9, -999.000,9,   -999.0,9,   -999.0,9,  1.5895
     316N142_3,   A15,    50,  1,      8,      8,2,19940420,0332, -2.5600, -19.0007, 5438,   4264.5,   1.3609,  34.7865,2,  34.7870,2,    238.8,2,    236.8,2,    80.40,2,    26.67,2,     0.00,2,     1.89,2, -999.000,9, -999.000,9, -999.000,9,   -999.0,9,   -999.0,9,  1.0162
     316N142_3,   A15,    50,  1,      7,      7,2,19940420,0332, -2.5600, -19.0007, 5438,   4468.3,   0.9744,  34.7440,2,  34.7432,2,    227.8,2,    227.7,2,    97.30,2,    29.26,2,     0.00,2,     2.06,2, -999.000,9, -999.000,9, -999.000,9,   -999.0,9,   -999.0,9,  0.6189
     316N142_3,   A15,    50,  1,      6,      6,2,19940420,0332, -2.5600, -19.0007, 5438,   4672.2,   0.8397,  34.7274,2,  34.7268,2,    223.6,2,    225.0,2,   103.25,2,    30.18,2,     0.00,2,     2.13,2, -999.000,9, -999.000,9, -999.000,9,   -999.0,9,   -999.0,9,  0.4657
     316N142_3,   A15,    50,  1,      5,      5,2,19940420,0332, -2.5600, -19.0007, 5438,   4877.3,   0.7992,  34.7209,2,  34.7203,2,    223.1,2,    223.9,2,   105.86,2,    30.53,2,     0.00,2,     2.18,2, -999.000,9, -999.000,9, -999.000,9,   -999.0,9,   -999.0,9,  0.4029
     316N142_3,   A15,    50,  1,      4,      4,2,19940420,0332, -2.5600, -19.0007, 5438,   5084.3,   0.7858,  34.7172,2,  34.7168,2,    223.0,2,    223.4,2,   106.71,2,    30.77,2,     0.00,2,     2.19,2, -999.000,9, -999.000,9, -999.000,9,   -999.0,9,   -999.0,9,  0.3656
     316N142_3,   A15,    50,  1,      3,      3,2,19940420,0332, -2.5600, -19.0007, 5438,   5288.3,   0.7908,  34.7150,2,  34.7148,2,    223.4,2,    223.1,2,   106.58,2,    30.97,2,     0.00,2,     2.19,2, -999.000,9, -999.000,9, -999.000,9,   -999.0,9,   -999.0,9,  0.3460
     316N142_3,   A15,    50,  1,      2,      2,2,19940420,0332, -2.5600, -19.0007, 5438,   5391.9,   0.7936,  34.7139,2,  34.7144,2,    224.1,2,    223.0,2,   107.18,2,    30.98,2,     0.00,2,     2.20,2, -999.000,9, -999.000,9, -999.000,9,   -999.0,9,   -999.0,9,  0.3360
     316N142_3,   A15,    50,  1,      1,      1,2,19940420,0332, -2.5600, -19.0007, 5438,   5565.0,   0.7893,  34.7112,2,  34.7109,2,    223.3,2,    222.2,2,   108.27,2,    31.19,2,     0.00,2,     2.22,2, -999.000,9, -999.000,9, -999.000,9,   -999.0,9,   -999.0,9,  0.3105