BOTTLE,20020814WHPSIOKJU
EXPOCODE,SECT_ID,STNNBR,CASTNO,SAMPNO,BTLNBR,BTLNBR_FLAG_W,DATE,TIME,LATITUDE,LONGITUDE,DEPTH,CTDPRS,CTDTMP,CTDSAL,CTDSAL_FLAG_W,SALNTY,SALNTY_FLAG_W,CTDOXY,CTDOXY_FLAG_W,OXYGEN,OXYGEN_FLAG_W,SILCAT,SILCAT_FLAG_W,NITRAT,NITRAT_FLAG_W,NITRIT,NITRIT_FLAG_W,PHSPHT,PHSPHT_FLAG_W,CFC-11,CFC-11_FLAG_W,CFC-12,CFC-12_FLAG_W,CCL4,CCL4_FLAG_W,TCARBN,TCARBN_FLAG_W,ALKALI,ALKALI_FLAG_W,THETA
,,,,,,,,,,,,DBAR,ITS-90,PSS-78,,PSS-78,,UMOL/KG,,UMOL/KG,,UMOL/KG,,UMOL/KG,,UMOL/KG,,UMOL/KG,,PMOL/KG,,PMOL/KG,,PMOL/KG,,UMOL/KG,,UMOL/KG,,DEG C
     316N142_3,   A15,    37,  1,     39,     39,2,19940416,1029,  3.0002, -18.9968, 4977,      4.9,  29.1113,  34.9092,2,  34.9122,2,    202.1,2,    203.4,2,     1.51,2,     0.05,2,     0.00,2,     0.03,2,    1.634,2,    0.972,2,    2.254,2,   1922.1,2,   2286.5,2, 29.1101
     316N142_3,   A15,    37,  1,     42,     42,9,19940416,1029,  3.0002, -18.9968, 4977,     54.7,  18.3967,  35.7042,2,-999.0000,9,    193.1,2,   -999.0,9,  -999.00,9,  -999.00,9,  -999.00,9,  -999.00,9, -999.000,9, -999.000,9, -999.000,9,   -999.0,9,   -999.0,9, 18.3871
     316N142_3,   A15,    37,  1,     38,     38,2,19940416,1029,  3.0002, -18.9968, 4977,     84.7,  15.5288,  35.5882,2,  35.5865,2,     88.7,2,     87.9,2,     7.62,2,    20.85,2,     0.03,2,     1.40,2, -999.000,9,    0.747,2,    0.185,2,   2181.9,2,   2332.1,2, 15.5156
     316N142_3,   A15,    37,  1,     33,     33,2,19940416,1029,  3.0002, -18.9968, 4977,    135.5,  13.9239,  35.3999,2,  35.3948,2,    104.5,2,    124.2,2,     8.26,2,    19.23,2,     0.01,2,     1.33,2, -999.000,9, -999.000,9, -999.000,9,   2165.3,2,   -999.0,9, 13.9043
     316N142_3,   A15,    37,  1,     41,     41,2,19940416,1029,  3.0002, -18.9968, 4977,    165.5,  13.5849,  35.3531,2,  35.3528,2,    123.6,2,    121.5,2,     8.68,2,    19.86,2,     0.01,2,     1.37,2,    1.284,6,    0.699,6,    0.299,6,   2167.8,2,   2323.6,2, 13.5615
     316N142_3,   A15,    37,  1,     31,     31,2,19940416,1029,  3.0002, -18.9968, 4977,    235.9,  12.9287,  35.2688,2,  35.2665,2,    115.0,2,    119.5,2,     9.42,2,    21.25,2,     0.01,2,     1.46,2,    1.105,2,    0.627,2,    0.456,2,   2172.8,2,   2319.5,2, 12.8962
     316N142_3,   A15,    37,  1,     37,     37,2,19940416,1029,  3.0002, -18.9968, 4977,    331.7,  11.2188,  35.0764,2,  35.0768,2,    104.8,2,    100.1,2,    12.31,2,    26.49,2,     0.01,2,     1.74,2,    0.743,2,    0.395,2,    0.304,2,   2197.2,2,   2313.4,2, 11.1771
     316N142_3,   A15,    37,  1,     29,     29,2,19940416,1029,  3.0002, -18.9968, 4977,    406.4,   9.2564,  34.8655,2,  34.8641,2,     97.9,2,     99.7,2,    16.07,2,    30.34,2,     0.01,2,     1.96,2,    0.448,2,    0.256,2,    0.360,2,   2210.1,2,   2300.8,2,  9.2111
     316N142_3,   A15,    37,  1,     28,     28,2,19940416,1029,  3.0002, -18.9968, 4977,    466.5,   7.8375,  34.7179,2,  34.7167,2,    104.6,2,    103.2,2,    19.82,2,    32.98,2,     0.00,2,     2.14,2,    0.189,2,    0.152,2,    0.357,2,   2219.5,2,   2296.1,2,  7.7903
     316N142_3,   A15,    37,  1,     27,     27,2,19940416,1029,  3.0002, -18.9968, 4977,    556.8,   6.5180,  34.6064,2,  34.6053,2,    108.3,2,    113.4,2,    24.22,2,    34.65,2,     0.00,2,     2.30,2,    0.085,4,    0.069,2,    0.317,2,   2222.2,2,   2295.6,2,  6.4668
     316N142_3,   A15,    37,  1,     26,     26,2,19940416,1029,  3.0002, -18.9968, 4977,    637.1,   5.8308,  34.5559,2,  34.5562,2,    126.4,2,    126.9,2,    26.80,2,    34.65,2,     0.00,2,     2.32,2,    0.097,4,    0.076,2,    0.436,2,   2220.1,2,   2293.2,2,  5.7753
     316N142_3,   A15,    37,  1,     25,     25,2,19940416,1029,  3.0002, -18.9968, 4977,    767.1,   4.9588,  34.5391,2,  34.5395,2,    135.0,2,    136.7,2,    31.20,2,    34.80,2,     0.00,2,     2.38,2,    0.026,4,    0.152,4,    0.138,4,   -999.0,9,   -999.0,9,  4.8964
     316N142_3,   A15,    37,  1,     24,     24,2,19940416,1029,  3.0002, -18.9968, 4977,    876.9,   4.7373,  34.5787,2,  34.5804,2,    142.3,2,    141.3,2,    32.15,2,    34.13,2,     0.00,2,     2.35,2, -999.000,9, -999.000,9, -999.000,9,   -999.0,9,   -999.0,9,  4.6667
     316N142_3,   A15,    37,  1,     23,     23,2,19940416,1029,  3.0002, -18.9968, 4977,   1007.7,   4.5387,  34.6795,2,  34.6812,2,    154.0,2,    154.7,2,    31.06,2,    31.90,2,     0.00,2,     2.20,2,    0.011,4,    0.017,2,    0.041,2,   -999.0,9,   -999.0,9,  4.4579
     316N142_3,   A15,    37,  1,     22,     22,2,19940416,1029,  3.0002, -18.9968, 4977,   1206.3,   4.4754,  34.8300,2,  34.8314,2,    181.3,2,    181.6,2,    26.20,2,    27.56,2,     0.00,2,     1.90,2, -999.000,9, -999.000,9, -999.000,9,   -999.0,9,   -999.0,9,  4.3773
     316N142_3,   A15,    37,  1,     21,     21,2,19940416,1029,  3.0002, -18.9968, 4977,   1406.8,   4.3410,  34.9161,2,  34.9177,2,    207.6,2,    206.7,2,    22.53,2,    24.12,2,     0.00,2,     1.66,2, -999.000,9,    0.021,2,    0.143,2,   -999.0,9,   -999.0,9,  4.2257
     316N142_3,   A15,    37,  1,     20,     20,2,19940416,1029,  3.0002, -18.9968, 4977,   1607.2,   4.0994,  34.9585,2,  34.9606,2,    230.4,2,    229.2,2,    19.93,2,    21.58,2,     0.00,2,     1.48,2, -999.000,9,    0.029,2,    0.227,2,   -999.0,9,   -999.0,9,  3.9682
     316N142_3,   A15,    37,  1,     19,     19,2,19940416,1029,  3.0002, -18.9968, 4977,   1805.8,   3.7905,  34.9636,2,  34.9667,2,    241.6,2,    240.5,2,    20.56,2,    20.51,2,     0.00,2,     1.41,2,    0.009,4,    0.019,6,    0.168,2,   -999.0,9,   -999.0,9,  3.6446
     316N142_3,   A15,    37,  1,     40,     40,2,19940416,1029,  3.0002, -18.9968, 4977,   2003.8,   3.5436,  34.9594,2,  34.9622,2,    245.6,2,    245.3,2,    22.38,2,    20.16,2,     0.00,2,     1.38,2, -999.000,9,    0.050,4,    0.231,4,   -999.0,9,   -999.0,9,  3.3825
     316N142_3,   A15,    37,  1,     17,     17,2,19940416,1029,  3.0002, -18.9968, 4977,   2202.1,   3.2956,  34.9497,2,  34.9524,2,    247.7,2,    247.2,2,    25.16,2,    20.21,2,     0.00,2,     1.39,2, -999.000,9,    0.020,2,    0.140,2,   -999.0,9,   -999.0,9,  3.1194
     316N142_3,   A15,    37,  1,     16,     16,2,19940416,1029,  3.0002, -18.9968, 4977,   2351.8,   3.1308,  34.9417,2,  34.9430,2,    246.9,2,    248.0,2,    27.95,2,    20.52,2,     0.00,2,     1.40,2, -999.000,9, -999.000,9, -999.000,9,   -999.0,9,   -999.0,9,  2.9430
     316N142_3,   A15,    37,  1,     15,     15,2,19940416,1029,  3.0002, -18.9968, 4977,   2504.7,   2.9821,  34.9325,2,  34.9341,2,    244.8,2,    248.1,3,    34.28,2,    21.11,2,     0.00,2,     1.46,2, -999.000,9,    0.023,2,    0.107,2,   -999.0,9,   -999.0,9,  2.7821
     316N142_3,   A15,    37,  1,     14,     14,2,19940416,1029,  3.0002, -18.9968, 4977,   2710.2,   2.8223,  34.9230,2,  34.9249,2,    245.4,2,    245.6,2,    37.28,4,    21.43,4,     0.00,4,     1.47,4, -999.000,9, -999.000,9, -999.000,9,   -999.0,9,   -999.0,9,  2.6050
     316N142_3,   A15,    37,  1,     13,     13,2,19940416,1029,  3.0002, -18.9968, 4977,   2917.0,   2.6978,  34.9150,2,  34.9170,2,    244.4,2,    245.5,2,    37.38,2,    21.43,2,     0.00,2,     1.47,2, -999.000,9,    0.019,2, -999.000,9,   -999.0,9,   -999.0,9,  2.4622
     316N142_3,   A15,    37,  1,     12,     12,2,19940416,1029,  3.0002, -18.9968, 4977,   3121.9,   2.5777,  34.9084,2,  34.9098,2,    243.7,2,    243.8,2,    39.40,2,    21.57,2,     0.00,2,     1.48,2, -999.000,9, -999.000,9, -999.000,9,   -999.0,9,   -999.0,9,  2.3237
     316N142_3,   A15,    37,  1,     11,     11,2,19940416,1029,  3.0002, -18.9968, 4977,   3326.3,   2.5258,  34.9029,2,  34.9039,2,    244.4,2,    244.1,2,    41.00,2,    21.66,2,     0.00,2,     1.49,2, -999.000,9,    0.027,2,    0.040,2,   -999.0,9,   -999.0,9,  2.2514
     316N142_3,   A15,    37,  1,     10,     10,2,19940416,1029,  3.0002, -18.9968, 4977,   3529.4,   2.4830,  34.9004,2,  34.9009,2,    244.8,2,    245.0,2,    41.74,2,    21.62,2,     0.00,2,     1.51,2, -999.000,9, -999.000,9, -999.000,9,   -999.0,9,   -999.0,9,  2.1879
     316N142_3,   A15,    37,  1,      9,      9,2,19940416,1029,  3.0002, -18.9968, 4977,   3734.2,   2.4285,  34.8946,2,  34.8956,2,    246.8,2,    246.8,2,    42.59,2,    21.58,2,     0.00,2,     1.49,2, -999.000,9,    0.095,4,    0.119,4,   -999.0,9,   -999.0,9,  2.1123
     316N142_3,   A15,    37,  1,      8,      8,2,19940416,1029,  3.0002, -18.9968, 4977,   3939.0,   2.3785,  34.8898,2,  34.8899,2,    244.5,2,    244.4,2,    45.15,2,    21.99,2,     0.00,2,     1.51,2, -999.000,9, -999.000,9, -999.000,9,   -999.0,9,   -999.0,9,  2.0407
     316N142_3,   A15,    37,  1,      7,      7,2,19940416,1029,  3.0002, -18.9968, 4977,   4144.4,   2.3044,  34.8816,2,  34.8821,2,    244.7,2,    245.4,2,    47.17,2,    22.08,2,     0.00,2,     1.53,2, -999.000,9,    0.039,4,    0.147,4,   -999.0,9,   -999.0,9,  1.9451
     316N142_3,   A15,    37,  1,      6,      6,2,19940416,1029,  3.0002, -18.9968, 4977,   4350.9,   2.2571,  34.8751,2,  34.8758,2,    245.6,2,    247.0,3,    49.51,2,    22.36,2,     0.00,2,     1.55,2, -999.000,9, -999.000,9, -999.000,9,   -999.0,9,   -999.0,9,  1.8751
     316N142_3,   A15,    37,  1,      5,      5,2,19940416,1029,  3.0002, -18.9968, 4977,   4555.5,   2.2343,  34.8707,2,  34.8711,2,    246.1,2,    245.5,2,    50.78,2,    22.50,2,     0.00,2,     1.55,2, -999.000,9,    0.043,4,    0.305,4,   -999.0,9,   -999.0,9,  1.8287
     316N142_3,   A15,    37,  1,      4,      4,2,19940416,1029,  3.0002, -18.9968, 4977,   4706.4,   2.2030,  34.8649,2,  34.8660,2,    246.3,2,    246.5,2,    52.37,2,    22.72,2,     0.00,2,     1.57,2, -999.000,9, -999.000,9, -999.000,9,   -999.0,9,   -999.0,9,  1.7801
     316N142_3,   A15,    37,  1,      3,      3,2,19940416,1029,  3.0002, -18.9968, 4977,   4860.4,   2.2199,  34.8650,2,  34.8656,2,    246.3,2,    247.5,2,    52.35,2,    22.59,2,     0.00,2,     1.56,2, -999.000,9, -999.000,9, -999.000,9,   -999.0,9,   -999.0,9,  1.7775
     316N142_3,   A15,    37,  1,      2,      2,2,19940416,1029,  3.0002, -18.9968, 4977,   5018.0,   2.2269,  34.8638,2,  34.8644,2,    246.4,2,    245.1,2,    52.98,2,    22.78,2,     0.00,2,     1.57,2, -999.000,9,    0.014,2,    0.152,2,   -999.0,9,   -999.0,9,  1.7646
     316N142_3,   A15,    37,  1,      1,      1,2,19940416,1029,  3.0002, -18.9968, 4977,   5083.8,   2.2356,  34.8635,2,  34.8648,2,    245.3,2,    244.9,2,    53.07,2,    22.78,2,     0.00,2,     1.58,2, -999.000,9,    0.027,2,    0.132,2,   -999.0,9,   -999.0,9,  1.7647