BOTTLE,20020814WHPSIOKJU
EXPOCODE,SECT_ID,STNNBR,CASTNO,SAMPNO,BTLNBR,BTLNBR_FLAG_W,DATE,TIME,LATITUDE,LONGITUDE,DEPTH,CTDPRS,CTDTMP,CTDSAL,CTDSAL_FLAG_W,SALNTY,SALNTY_FLAG_W,CTDOXY,CTDOXY_FLAG_W,OXYGEN,OXYGEN_FLAG_W,SILCAT,SILCAT_FLAG_W,NITRAT,NITRAT_FLAG_W,NITRIT,NITRIT_FLAG_W,PHSPHT,PHSPHT_FLAG_W,CFC-11,CFC-11_FLAG_W,CFC-12,CFC-12_FLAG_W,CCL4,CCL4_FLAG_W,TCARBN,TCARBN_FLAG_W,ALKALI,ALKALI_FLAG_W,THETA
,,,,,,,,,,,,DBAR,ITS-90,PSS-78,,PSS-78,,UMOL/KG,,UMOL/KG,,UMOL/KG,,UMOL/KG,,UMOL/KG,,UMOL/KG,,PMOL/KG,,PMOL/KG,,PMOL/KG,,UMOL/KG,,UMOL/KG,,DEG C
     316N142_3,  AR15,   152,  1,     39,     39,2,19940519,2221,-18.8850, -37.7965, 2040,     10.1,  27.2765,  37.4091,2,  37.4094,2,    200.6,2,    201.5,2,     1.80,2,     0.10,2,     0.00,2,     0.05,2,    1.694,6,    0.982,6,    1.985,6,   2060.0,2,   2447.5,2, 27.2742
     316N142_3,  AR15,   152,  1,     35,     35,2,19940519,2221,-18.8850, -37.7965, 2040,     68.5,  24.8045,  37.0993,2,  37.0923,2,    215.4,2,    217.2,2,     1.79,2,     0.04,2,     0.00,2,     0.13,2, -999.000,9, -999.000,9, -999.000,9,   2076.8,2,   2430.1,2, 24.7896
     316N142_3,  AR15,   152,  1,     38,     38,2,19940519,2221,-18.8850, -37.7965, 2040,    114.0,  20.9516,  36.4751,2,  36.4589,2,    198.7,2,    198.9,2,     2.09,2,     1.06,2,     0.02,2,     0.24,2,    2.339,2,    1.205,2,    0.814,2,   2089.1,2,   2388.0,2, 20.9297
     316N142_3,  AR15,   152,  1,     42,     42,3,19940519,2221,-18.8850, -37.7965, 2040,    169.2,  16.8011,  35.7381,2,  35.5369,4,    199.7,2,    199.5,4,     3.65,4,     6.44,4,     0.00,4,     0.56,4, -999.000,9, -999.000,9, -999.000,9,   2093.0,2,   2332.3,2, 16.7733
     316N142_3,  AR15,   152,  1,     41,     41,3,19940519,2221,-18.8850, -37.7965, 2040,    253.5,  14.3826,  35.3742,2,  35.5103,4,    201.0,2,    199.4,4,     3.63,4,     6.75,4,     0.00,4,     0.58,4,    2.331,2,    1.230,2,    0.501,2,   2098.0,2,   2331.5,2, 14.3451
     316N142_3,  AR15,   152,  1,     31,     31,2,19940519,2221,-18.8850, -37.7965, 2040,    323.0,  12.9774,  35.1876,2,  35.1907,2,    201.1,2,    199.7,2,     5.03,2,    11.02,2,     0.00,2,     0.84,2, -999.000,9, -999.000,9, -999.000,9,   2110.7,2,   2318.5,2, 12.9328
     316N142_3,  AR15,   152,  1,     37,     37,2,19940519,2221,-18.8850, -37.7965, 2040,    391.8,  11.1540,  34.9613,2,  34.9627,2,    199.4,2,    197.6,2,     7.05,2,    15.35,2,     0.00,2,     1.10,2,    1.920,2,    0.968,2,    0.871,2,   2125.3,2,   2303.4,2, 11.1049
     316N142_3,  AR15,   152,  1,     29,     29,2,19940519,2221,-18.8850, -37.7965, 2040,    461.7,   9.6911,  34.7813,2,  34.7875,2,    197.1,2,    194.6,2,     9.39,2,    18.99,2,     0.00,2,     1.34,2, -999.000,9, -999.000,9, -999.000,9,   2141.8,2,   2297.2,2,  9.6380
     316N142_3,  AR15,   152,  1,     28,     28,2,19940519,2221,-18.8850, -37.7965, 2040,    542.8,   8.2469,  34.6317,2,  34.6302,2,    190.2,2,    190.2,2,    12.97,2,    23.01,2,     0.00,2,     1.60,2,    1.343,2,    0.696,2,    2.144,4,   2156.5,2,   2292.7,2,  8.1901
     316N142_3,  AR15,   152,  1,     27,     27,2,19940519,2221,-18.8850, -37.7965, 2040,    603.6,   7.2324,  34.5366,2,  34.5374,2,    192.1,2,    191.0,2,    15.77,2,    25.45,2,     0.00,2,     1.76,2, -999.000,9, -999.000,9, -999.000,9,   2164.8,2,   2291.6,2,  7.1735
     316N142_3,  AR15,   152,  1,     26,     26,2,19940519,2221,-18.8850, -37.7965, 2040,    654.5,   5.6874,  34.4085,2,  34.4078,2,    203.8,2,    202.4,2,    20.61,2,    27.95,2,     0.00,2,     1.94,2, -999.000,9, -999.000,9, -999.000,9,   -999.0,9,   -999.0,9,  5.6312
     316N142_3,  AR15,   152,  1,     25,     25,2,19940519,2221,-18.8850, -37.7965, 2040,    705.5,   5.1705,  34.3750,2,  34.3747,2,    206.8,2,    206.1,2,    23.10,2,    28.84,2,     0.00,2,     2.01,2, -999.000,9, -999.000,9, -999.000,9,   -999.0,9,   -999.0,9,  5.1124
     316N142_3,  AR15,   152,  1,     24,     24,2,19940519,2221,-18.8850, -37.7965, 2040,    786.6,   4.7996,  34.3574,2,  34.3571,2,    208.4,2,    208.6,2,    25.44,2,    29.36,2,     0.00,2,     2.04,2, -999.000,9, -999.000,9, -999.000,9,   -999.0,9,   -999.0,9,  4.7367
     316N142_3,  AR15,   152,  1,     23,     23,2,19940519,2221,-18.8850, -37.7965, 2040,    846.3,   4.5935,  34.3559,2,  34.3567,2,    205.4,2,    207.3,2,    27.30,2,    29.78,2,     0.00,2,     2.07,2,    0.832,2,    0.396,2,    1.587,2,   -999.0,9,   -999.0,9,  4.5268
     316N142_3,  AR15,   152,  1,     22,     22,2,19940519,2221,-18.8850, -37.7965, 2040,    907.3,   4.2414,  34.3670,2,  34.3663,2,    203.6,2,    203.6,2,    31.51,2,    30.56,2,     0.00,2,     2.13,2, -999.000,9, -999.000,9, -999.000,9,   -999.0,9,   -999.0,9,  4.1719
     316N142_3,  AR15,   152,  1,     21,     21,2,19940519,2221,-18.8850, -37.7965, 2040,    957.6,   3.8678,  34.3890,2,  34.3879,2,    198.1,2,    197.1,2,    36.68,2,    31.44,2,     0.00,2,     2.20,2, -999.000,9, -999.000,9, -999.000,9,   -999.0,9,   -999.0,9,  3.7968
     316N142_3,  AR15,   152,  1,     20,     20,2,19940519,2221,-18.8850, -37.7965, 2040,   1017.9,   3.7752,  34.4014,2,  34.4002,2,    195.2,2,    195.1,2,    38.07,2,    31.59,2,     0.00,2,     2.21,2,    0.277,2,    0.162,2,    1.385,2,   -999.0,9,   -999.0,9,  3.7000
     316N142_3,  AR15,   152,  1,     19,     19,2,19940519,2221,-18.8850, -37.7965, 2040,   1088.3,   3.6100,  34.4408,2,  34.4398,2,    191.0,2,    191.2,2,    41.19,2,    31.75,2,     0.00,2,     2.22,2, -999.000,9, -999.000,9, -999.000,9,   -999.0,9,   -999.0,9,  3.5303
     316N142_3,  AR15,   152,  1,     40,     40,2,19940519,2221,-18.8850, -37.7965, 2040,   1158.7,   3.5336,  34.4830,2,  34.4825,2,    188.2,2,    188.4,2,    42.75,2,    31.64,2,     0.00,2,     2.21,2, -999.000,9, -999.000,9, -999.000,9,   -999.0,9,   -999.0,9,  3.4488
     316N142_3,  AR15,   152,  1,     17,     17,2,19940519,2221,-18.8850, -37.7965, 2040,   1229.1,   3.5637,  34.5266,2,  34.5280,2,    188.3,2,    187.7,2,    41.94,2,    31.12,2,     0.00,2,     2.18,2, -999.000,9,    0.058,2,    1.289,2,   -999.0,9,   -999.0,9,  3.4727
     316N142_3,  AR15,   152,  1,     16,     16,2,19940519,2221,-18.8850, -37.7965, 2040,   1299.8,   3.6855,  34.6173,2,  34.6169,2,    189.2,2,    188.1,2,    39.09,2,    29.92,2,     0.00,2,     2.09,2, -999.000,9, -999.000,9, -999.000,9,   -999.0,9,   -999.0,9,  3.5872
     316N142_3,  AR15,   152,  1,     15,     15,2,19940519,2221,-18.8850, -37.7965, 2040,   1370.6,   3.8337,  34.6898,2,  34.6881,2,    190.8,2,    191.0,2,    35.31,2,    28.67,2,     0.00,2,     1.99,2, -999.000,9, -999.000,9, -999.000,9,   -999.0,9,   -999.0,9,  3.7275
     316N142_3,  AR15,   152,  1,     14,     14,2,19940519,2221,-18.8850, -37.7965, 2040,   1442.1,   3.9457,  34.7390,2,  34.7376,2,    194.0,2,    193.2,2,    32.78,2,    27.78,2,     0.00,2,     1.93,2, -999.000,9,    0.021,2,    0.171,2,   -999.0,9,   -999.0,9,  3.8319
     316N142_3,  AR15,   152,  1,     13,     13,2,19940519,2221,-18.8850, -37.7965, 2040,   1514.3,   4.0416,  34.7906,2,  34.7902,2,    199.7,2,    198.1,2,    29.64,2,    26.53,2,     0.00,2,     1.84,2, -999.000,9, -999.000,9, -999.000,9,   -999.0,9,   -999.0,9,  3.9200
     316N142_3,  AR15,   152,  1,     12,     12,2,19940519,2221,-18.8850, -37.7965, 2040,   1565.1,   4.0917,  34.8236,2,  34.8245,2,    203.9,2,    202.9,2,    27.43,2,    25.59,2,     0.00,2,     1.77,2, -999.000,9,    0.018,2,    0.185,2,   -999.0,9,   -999.0,9,  3.9649
     316N142_3,  AR15,   152,  1,     11,     11,2,19940519,2221,-18.8850, -37.7965, 2040,   1615.3,   4.1120,  34.8605,2,  34.8573,2,    209.0,2,    208.7,2,    25.54,2,    24.54,2,     0.00,2,     1.70,2, -999.000,9, -999.000,9, -999.000,9,   -999.0,9,   -999.0,9,  3.9801
     316N142_3,  AR15,   152,  1,     10,     10,2,19940519,2221,-18.8850, -37.7965, 2040,   1686.5,   4.0174,  34.9283,2,  34.9269,2,    226.9,2,    227.5,2,    21.63,2,    21.89,2,     0.00,2,     1.50,2, -999.000,9,    0.046,2,    0.555,2,   -999.0,9,   -999.0,9,  3.8798
     316N142_3,  AR15,   152,  1,      9,      9,2,19940519,2221,-18.8850, -37.7965, 2040,   1756.7,   3.8624,  34.9443,2,  34.9455,2,    239.3,2,    236.8,2,    20.99,2,    20.79,2,     0.00,2,     1.42,2, -999.000,9, -999.000,9, -999.000,9,   -999.0,9,   -999.0,9,  3.7202
     316N142_3,  AR15,   152,  1,      8,      8,2,19940519,2221,-18.8850, -37.7965, 2040,   1807.5,   3.7301,  34.9530,2,  34.9548,2,    241.6,2,    242.6,2,    20.82,2,    20.22,2,     0.00,2,     1.37,2, -999.000,9,    0.038,2,    0.289,2,   -999.0,9,   -999.0,9,  3.5849
     316N142_3,  AR15,   152,  1,      7,      7,2,19940519,2221,-18.8850, -37.7965, 2040,   1858.6,   3.5935,  34.9557,2,  34.9563,2,    246.4,2,    246.8,2,    21.43,2,    19.85,2,     0.00,2,     1.35,2, -999.000,9, -999.000,9, -999.000,9,   -999.0,9,   -999.0,9,  3.4454
     316N142_3,  AR15,   152,  1,      6,      6,2,19940519,2221,-18.8850, -37.7965, 2040,   1909.5,   3.4456,  34.9547,2,  34.9565,2,    249.9,2,    249.8,2,    22.19,2,    19.69,2,     0.00,2,     1.33,2, -999.000,9,    0.027,2,    0.258,2,   -999.0,9,   -999.0,9,  3.2948
     316N142_3,  AR15,   152,  1,      5,      5,2,19940519,2221,-18.8850, -37.7965, 2040,   1970.7,   3.3561,  34.9509,2,  34.9532,2,    251.7,2,    250.7,2,    23.27,2,    19.69,2,     0.00,2,     1.33,2, -999.000,9, -999.000,9, -999.000,9,   -999.0,9,   -999.0,9,  3.2010
     316N142_3,  AR15,   152,  1,      4,      4,2,19940519,2221,-18.8850, -37.7965, 2040,   2021.5,   3.2479,  34.9484,2,  34.9491,2,    252.2,2,    251.3,2,    24.50,2,    19.79,2,     0.00,2,     1.35,2, -999.000,9, -999.000,9, -999.000,9,   -999.0,9,   -999.0,9,  3.0896
     316N142_3,  AR15,   152,  1,      3,      3,2,19940519,2221,-18.8850, -37.7965, 2040,   2072.3,   3.1553,  34.9443,2,  34.9448,2,    252.6,2,    251.6,2,    25.73,2,    19.90,2,     0.00,2,     1.35,2, -999.000,9,    0.027,2,    0.238,2,   -999.0,9,   -999.0,9,  2.9937
     316N142_3,  AR15,   152,  1,      2,      2,2,19940519,2221,-18.8850, -37.7965, 2040,   2122.8,   3.1169,  34.9424,2,  34.9442,2,    252.1,2,    252.1,2,    26.34,2,    19.95,2,     0.00,2,     1.36,2, -999.000,9, -999.000,9, -999.000,9,   -999.0,9,   -999.0,9,  2.9511
     316N142_3,  AR15,   152,  1,      1,      1,2,19940519,2221,-18.8850, -37.7965, 2040,   2257.0,   3.0160,  34.9364,2,  34.9371,2,    250.5,2,    251.8,2,    27.88,2,    20.05,2,     0.00,2,     1.37,2, -999.000,9,    0.014,2,    0.249,2,   -999.0,9,   -999.0,9,  2.8393