BOTTLE,20020814WHPSIOKJU
EXPOCODE,SECT_ID,STNNBR,CASTNO,SAMPNO,BTLNBR,BTLNBR_FLAG_W,DATE,TIME,LATITUDE,LONGITUDE,DEPTH,CTDPRS,CTDTMP,CTDSAL,CTDSAL_FLAG_W,SALNTY,SALNTY_FLAG_W,CTDOXY,CTDOXY_FLAG_W,OXYGEN,OXYGEN_FLAG_W,SILCAT,SILCAT_FLAG_W,NITRAT,NITRAT_FLAG_W,NITRIT,NITRIT_FLAG_W,PHSPHT,PHSPHT_FLAG_W,CFC-11,CFC-11_FLAG_W,CFC-12,CFC-12_FLAG_W,CCL4,CCL4_FLAG_W,TCARBN,TCARBN_FLAG_W,ALKALI,ALKALI_FLAG_W,THETA
,,,,,,,,,,,,DBAR,ITS-90,PSS-78,,PSS-78,,UMOL/KG,,UMOL/KG,,UMOL/KG,,UMOL/KG,,UMOL/KG,,UMOL/KG,,PMOL/KG,,PMOL/KG,,PMOL/KG,,UMOL/KG,,UMOL/KG,,DEG C
     316N142_3,   A15,    95,  1,     39,     39,2,19940502,0824,-25.2005, -18.9998, 4528,     10.7,  24.7092,  36.7552,2,  36.7533,2,    198.7,4,    209.6,2,     1.28,2,     0.00,2,     0.00,2,     0.14,2, -999.000,9, -999.000,9, -999.000,9,   2062.7,2,   2405.7,2, 24.7069
     316N142_3,   A15,    95,  1,     35,     35,2,19940502,0824,-25.2005, -18.9998, 4528,     82.6,  21.1281,  36.2535,2,  36.2649,2,    235.8,2,    234.5,2,     1.14,2,     0.00,2,     0.00,2,     0.14,2, -999.000,9, -999.000,9, -999.000,9,   2054.7,2,   2379.6,2, 21.1121
     316N142_3,   A15,    95,  1,     38,     38,2,19940502,0824,-25.2005, -18.9998, 4528,    135.1,  18.7374,  35.9658,2,  35.9695,2,    221.7,2,    223.0,2,     1.15,2,     0.01,2,     0.05,2,     0.20,2, -999.000,9, -999.000,9, -999.000,9,   2069.4,2,   2364.1,2, 18.7134
     316N142_3,   A15,    95,  1,     33,     33,2,19940502,0824,-25.2005, -18.9998, 4528,    246.6,  15.2908,  35.4564,2,  35.4551,2,    212.2,2,    209.7,2,     2.50,2,     4.80,2,     0.00,2,     0.53,2, -999.000,9, -999.000,9, -999.000,9,   2089.6,2,   2330.2,2, 15.2528
     316N142_3,   A15,    95,  1,     41,     41,2,19940502,0824,-25.2005, -18.9998, 4528,    355.1,  12.7552,  35.1271,2,  35.1266,2,    203.0,2,    201.6,2,     4.72,2,    11.25,2,     0.00,2,     0.89,2, -999.000,9, -999.000,9, -999.000,9,   2107.8,2,   2312.4,2, 12.7066
     316N142_3,   A15,    95,  1,     31,     31,2,19940502,0824,-25.2005, -18.9998, 4528,    464.1,  10.2874,  34.8380,2,  34.8352,2,    195.1,2,    194.5,2,     8.57,2,    17.89,2,     0.00,2,     1.30,2, -999.000,9, -999.000,9, -999.000,9,   2133.2,2,   2301.1,2, 10.2320
     316N142_3,   A15,    95,  1,     37,     37,2,19940502,0824,-25.2005, -18.9998, 4528,    564.5,   7.7499,  34.5794,2,  34.5836,2,    191.4,2,    190.6,2,    14.63,2,    24.44,2,     0.00,2,     1.71,2, -999.000,9, -999.000,9, -999.000,9,   2157.7,2,   2294.2,2,  7.6929
     316N142_3,   A15,    95,  1,     29,     29,2,19940502,0824,-25.2005, -18.9998, 4528,    666.2,   6.1152,  34.4396,2,  34.4387,2,    196.1,2,    198.0,2,    20.40,2,    27.99,2,     0.00,2,     1.94,2, -999.000,9, -999.000,9, -999.000,9,   2171.3,2,   2294.0,2,  6.0558
     316N142_3,   A15,    95,  1,     28,     28,2,19940502,0824,-25.2005, -18.9998, 4528,    784.8,   4.4856,  34.3618,2,  34.3587,2,    201.5,2,    201.2,2,    30.90,2,    31.09,2,     0.00,2,     2.16,2, -999.000,9, -999.000,9, -999.000,9,   -999.0,9,   -999.0,9,  4.4248
     316N142_3,   A15,    95,  1,     27,     27,2,19940502,0824,-25.2005, -18.9998, 4528,    898.3,   3.7955,  34.3836,2,  34.3809,2,    195.7,2,    195.7,2,    40.54,2,    32.48,2,     0.00,2,     2.26,2, -999.000,9, -999.000,9, -999.000,9,   -999.0,9,   -999.0,9,  3.7298
     316N142_3,   A15,    95,  1,     26,     26,2,19940502,0824,-25.2005, -18.9998, 4528,   1009.4,   3.4394,  34.4414,2,  34.4379,2,    188.7,2,    189.1,2,    47.37,2,    32.86,2,     0.00,2,     2.30,2, -999.000,9, -999.000,9, -999.000,9,   -999.0,9,   -999.0,9,  3.3674
     316N142_3,   A15,    95,  1,     25,     25,2,19940502,0824,-25.2005, -18.9998, 4528,   1131.0,   3.2217,  34.5243,2,  34.5239,2,    186.2,2,    185.7,2,    51.52,2,    32.39,2,     0.00,2,     2.26,2, -999.000,9, -999.000,9, -999.000,9,   -999.0,9,   -999.0,9,  3.1418
     316N142_3,   A15,    95,  1,     24,     24,2,19940502,0824,-25.2005, -18.9998, 4528,   1253.4,   3.1105,  34.6141,2,  34.6141,2,    187.2,2,    188.9,2,    52.10,2,    31.00,2,     0.00,2,     2.16,2, -999.000,9, -999.000,9, -999.000,9,   -999.0,9,   -999.0,9,  3.0216
     316N142_3,   A15,    95,  1,     23,     23,2,19940502,0824,-25.2005, -18.9998, 4528,   1372.7,   3.0820,  34.6760,2,  34.6736,2,    194.1,2,    194.4,2,    50.43,2,    29.75,2,     0.00,2,     2.07,2, -999.000,9, -999.000,9, -999.000,9,   -999.0,9,   -999.0,9,  2.9835
     316N142_3,   A15,    95,  1,     22,     22,2,19940502,0824,-25.2005, -18.9998, 4528,   1493.7,   3.0576,  34.7496,2,  34.7481,2,    205.8,2,    205.4,2,    46.69,2,    27.63,2,     0.00,2,     1.91,2, -999.000,9, -999.000,9, -999.000,9,   -999.0,9,   -999.0,9,  2.9492
     316N142_3,   A15,    95,  1,     21,     21,2,19940502,0824,-25.2005, -18.9998, 4528,   1615.1,   3.0650,  34.8024,2,  34.7998,2,    217.1,2,    215.7,2,    42.52,2,    25.88,2,     0.00,2,     1.80,2, -999.000,9, -999.000,9, -999.000,9,   -999.0,9,   -999.0,9,  2.9460
     316N142_3,   A15,    95,  1,     20,     20,2,19940502,0824,-25.2005, -18.9998, 4528,   1757.0,   3.0710,  34.8563,2,  34.8555,2,    227.5,2,    229.0,2,    37.32,2,    23.76,2,     0.00,2,     1.64,2, -999.000,9, -999.000,9, -999.000,9,   -999.0,9,   -999.0,9,  2.9395
     316N142_3,   A15,    95,  1,     19,     19,2,19940502,0824,-25.2005, -18.9998, 4528,   1900.7,   3.0655,  34.8863,2,  34.8858,2,    237.2,2,    237.2,2,    34.21,2,    22.57,2,     0.00,2,     1.56,2, -999.000,9, -999.000,9, -999.000,9,   -999.0,9,   -999.0,9,  2.9211
     316N142_3,   A15,    95,  1,     40,     40,2,19940502,0824,-25.2005, -18.9998, 4528,   2041.5,   3.0464,  34.9043,2,  34.9044,2,    244.6,2,    242.7,2,    32.58,2,    21.79,2,     0.00,2,     1.50,2, -999.000,9, -999.000,9, -999.000,9,   -999.0,9,   -999.0,9,  2.8894
     316N142_3,   A15,    95,  1,     17,     17,2,19940502,0824,-25.2005, -18.9998, 4528,   2185.5,   3.0080,  34.9157,2,  34.9154,2,    248.9,2,    246.4,2,    31.69,2,    21.29,2,     0.00,2,     1.46,2, -999.000,9, -999.000,9, -999.000,9,   -999.0,9,   -999.0,9,  2.8382
     316N142_3,   A15,    95,  1,     16,     16,2,19940502,0824,-25.2005, -18.9998, 4528,   2327.1,   2.9451,  34.9203,2,  34.9195,2,    248.3,2,    248.6,2,    32.12,2,    21.06,2,     0.00,2,     1.45,2, -999.000,9, -999.000,9, -999.000,9,   -999.0,9,   -999.0,9,  2.7630
     316N142_3,   A15,    95,  1,     15,     15,2,19940502,0824,-25.2005, -18.9998, 4528,   2478.0,   2.8725,  34.9196,2,  34.9199,2,    251.0,2,    249.8,2,    32.99,2,    21.02,2,     0.00,2,     1.45,2, -999.000,9, -999.000,9, -999.000,9,   -999.0,9,   -999.0,9,  2.6771
     316N142_3,   A15,    95,  1,     14,     14,2,19940502,0824,-25.2005, -18.9998, 4528,   2630.1,   2.8295,  34.9176,2,  34.9181,2,    251.1,2,    250.0,2,    33.86,2,    21.02,2,     0.00,2,     1.45,2, -999.000,9, -999.000,9, -999.000,9,   -999.0,9,   -999.0,9,  2.6200
     316N142_3,   A15,    95,  1,     13,     13,2,19940502,0824,-25.2005, -18.9998, 4528,   2783.0,   2.7568,  34.9141,2,  34.9146,2,    250.7,2,    249.8,2,    35.47,2,    21.16,2,     0.00,2,     1.45,2, -999.000,9, -999.000,9, -999.000,9,   -999.0,9,   -999.0,9,  2.5335
     316N142_3,   A15,    95,  1,     12,     12,2,19940502,0824,-25.2005, -18.9998, 4528,   2936.0,   2.6928,  34.9105,2,  34.9101,2,    249.9,2,    250.3,2,    37.08,2,    21.25,2,     0.00,2,     1.47,2, -999.000,9, -999.000,9, -999.000,9,   -999.0,9,   -999.0,9,  2.4554
     316N142_3,   A15,    95,  1,     11,     11,2,19940502,0824,-25.2005, -18.9998, 4528,   3087.8,   2.5952,  34.9031,2,  34.9030,2,    250.0,2,    249.8,2,    40.00,2,    21.53,2,     0.00,2,     1.48,2, -999.000,9, -999.000,9, -999.000,9,   -999.0,9,   -999.0,9,  2.3444
     316N142_3,   A15,    95,  1,     10,     10,2,19940502,0824,-25.2005, -18.9998, 4528,   3241.6,   2.4589,  34.8914,2,  34.8914,2,    249.1,2,    249.0,2,    44.41,2,    21.99,2,     0.00,2,     1.52,2, -999.000,9, -999.000,9, -999.000,9,   -999.0,9,   -999.0,9,  2.1952
     316N142_3,   A15,    95,  1,      9,      9,2,19940502,0824,-25.2005, -18.9998, 4528,   3395.2,   2.2531,  34.8712,2,  34.8712,2,    248.1,2,    246.7,2,    52.06,2,    22.95,2,     0.00,2,     1.59,2, -999.000,9, -999.000,9, -999.000,9,   -999.0,9,   -999.0,9,  1.9782
     316N142_3,   A15,    95,  1,      8,      8,2,19940502,0824,-25.2005, -18.9998, 4528,   3572.4,   2.0725,  34.8524,2,  34.8521,2,    243.8,2,    243.3,2,    59.01,2,    23.87,2,     0.00,2,     1.65,2, -999.000,9, -999.000,9, -999.000,9,   -999.0,9,   -999.0,9,  1.7834
     316N142_3,   A15,    95,  1,      7,      7,2,19940502,0824,-25.2005, -18.9998, 4528,   3751.3,   1.8964,  34.8342,2,  34.8339,2,    240.6,2,    241.1,2,    65.67,2,    24.75,2,     0.00,2,     1.72,2, -999.000,9, -999.000,9, -999.000,9,   -999.0,9,   -999.0,9,  1.5927
     316N142_3,   A15,    95,  1,      6,      6,2,19940502,0824,-25.2005, -18.9998, 4528,   3955.9,   1.7405,  34.8171,2,  34.8170,2,    238.9,2,    238.5,2,    71.32,2,    25.58,2,     0.00,2,     1.77,2, -999.000,9, -999.000,9, -999.000,9,   -999.0,9,   -999.0,9,  1.4189
     316N142_3,   A15,    95,  1,      5,      5,2,19940502,0824,-25.2005, -18.9998, 4528,   4160.6,   1.5998,  34.8017,2,  34.8018,2,    236.3,2,    236.2,2,    77.44,2,    26.31,2,     0.00,2,     1.83,2, -999.000,9, -999.000,9, -999.000,9,   -999.0,9,   -999.0,9,  1.2596
     316N142_3,   A15,    95,  1,      4,      4,2,19940502,0824,-25.2005, -18.9998, 4528,   4365.6,   1.5100,  34.7911,2,  34.7916,2,    235.5,2,    234.8,2,    80.86,2,    26.78,2,     0.00,2,     1.87,2, -999.000,9, -999.000,9, -999.000,9,   -999.0,9,   -999.0,9,  1.1494
     316N142_3,   A15,    95,  1,      3,      3,2,19940502,0824,-25.2005, -18.9998, 4528,   4544.3,   1.4834,  34.7869,2,  34.7871,2,    234.9,2,    234.2,2,    82.18,2,    27.01,2,     0.00,2,     1.89,2, -999.000,9, -999.000,9, -999.000,9,   -999.0,9,   -999.0,9,  1.1031
     316N142_3,   A15,    95,  1,      2,      2,2,19940502,0824,-25.2005, -18.9998, 4528,   4724.8,   1.4873,  34.7849,2,  34.7859,2,    234.8,2,    234.0,2,    82.89,2,    27.10,2,     0.00,2,     1.87,2, -999.000,9, -999.000,9, -999.000,9,   -999.0,9,   -999.0,9,  1.0858
     316N142_3,   A15,    95,  1,      1,      1,2,19940502,0824,-25.2005, -18.9998, 4528,   4877.2,   1.4430,  34.7792,2,  34.7796,2,    234.0,2,    233.2,2,    85.42,2,    27.42,2,     0.00,2,     1.90,2, -999.000,9, -999.000,9, -999.000,9,   -999.0,9,   -999.0,9,  1.0248