BOTTLE,20020814WHPSIOKJU
EXPOCODE,SECT_ID,STNNBR,CASTNO,SAMPNO,BTLNBR,BTLNBR_FLAG_W,DATE,TIME,LATITUDE,LONGITUDE,DEPTH,CTDPRS,CTDTMP,CTDSAL,CTDSAL_FLAG_W,SALNTY,SALNTY_FLAG_W,CTDOXY,CTDOXY_FLAG_W,OXYGEN,OXYGEN_FLAG_W,SILCAT,SILCAT_FLAG_W,NITRAT,NITRAT_FLAG_W,NITRIT,NITRIT_FLAG_W,PHSPHT,PHSPHT_FLAG_W,CFC-11,CFC-11_FLAG_W,CFC-12,CFC-12_FLAG_W,CCL4,CCL4_FLAG_W,TCARBN,TCARBN_FLAG_W,ALKALI,ALKALI_FLAG_W,THETA
,,,,,,,,,,,,DBAR,ITS-90,PSS-78,,PSS-78,,UMOL/KG,,UMOL/KG,,UMOL/KG,,UMOL/KG,,UMOL/KG,,UMOL/KG,,PMOL/KG,,PMOL/KG,,PMOL/KG,,UMOL/KG,,UMOL/KG,,DEG C
     316N142_3,  AR15,   145,  1,     39,     39,2,19940518,0800,-18.6018, -35.9390, 3956,     10.0,  26.9672,  37.3760,2,  37.3755,2,    198.7,2,    201.4,2,     2.09,2,     0.00,2,     0.00,2,     0.14,2, -999.000,9, -999.000,9, -999.000,9,   -999.0,9,   -999.0,9, 26.9649
     316N142_3,  AR15,   145,  1,     35,     35,2,19940518,0800,-18.6018, -35.9390, 3956,     79.0,  25.4548,  37.1307,2,  37.1297,2,    219.7,2,    218.5,2,     1.92,2,     0.00,2,     0.00,2,     0.12,2, -999.000,9, -999.000,9, -999.000,9,   -999.0,9,   -999.0,9, 25.4373
     316N142_3,  AR15,   145,  1,     38,     38,2,19940518,0800,-18.6018, -35.9390, 3956,    129.7,  22.6367,  36.7524,2,  36.7539,2,    219.1,2,    212.4,2,     1.90,2,     0.00,2,     0.00,2,     0.15,2, -999.000,9, -999.000,9, -999.000,9,   -999.0,9,   -999.0,9, 22.6103
     316N142_3,  AR15,   145,  1,     33,     33,2,19940518,0800,-18.6018, -35.9390, 3956,    249.7,  15.1211,  35.4806,2,  35.4790,2,    203.8,2,    198.9,2,     3.63,2,     6.98,2,     0.00,2,     0.59,2, -999.000,9, -999.000,9, -999.000,9,   -999.0,9,   -999.0,9, 15.0828
     316N142_3,  AR15,   145,  1,     41,     41,2,19940518,0800,-18.6018, -35.9390, 3956,    365.2,  12.1217,  35.0713,2,  35.0713,2,    200.6,2,    194.1,2,     6.00,2,    13.54,2,     0.00,2,     0.99,2, -999.000,9, -999.000,9, -999.000,9,   -999.0,9,   -999.0,9, 12.0733
     316N142_3,  AR15,   145,  1,     31,     31,2,19940518,0800,-18.6018, -35.9390, 3956,    455.4,   9.3065,  34.7442,2,  34.7429,2,    192.2,2,    188.5,2,    10.59,2,    20.62,2,     0.00,2,     1.44,2, -999.000,9, -999.000,9, -999.000,9,   -999.0,9,   -999.0,9,  9.2555
     316N142_3,  AR15,   145,  1,     37,     37,2,19940518,0800,-18.6018, -35.9390, 3956,    555.8,   7.0347,  34.5160,2,  34.5158,2,    194.6,2,    196.4,2,    15.83,2,    25.38,2,     0.00,2,     1.75,2, -999.000,9, -999.000,9, -999.000,9,   -999.0,9,   -999.0,9,  6.9816
     316N142_3,  AR15,   145,  1,     29,     29,2,19940518,0800,-18.6018, -35.9390, 3956,    645.4,   5.4447,  34.3998,2,  34.3991,2,    198.6,2,    200.4,2,    22.33,2,    28.71,2,     0.00,2,     1.98,2, -999.000,9, -999.000,9, -999.000,9,   -999.0,9,   -999.0,9,  5.3905
     316N142_3,  AR15,   145,  1,     28,     28,2,19940518,0800,-18.6018, -35.9390, 3956,    730.7,   4.6791,  34.3713,2,  34.3701,2,    196.2,2,    199.4,2,    27.73,2,    30.29,2,     0.00,2,     2.10,2, -999.000,9, -999.000,9, -999.000,9,   -999.0,9,   -999.0,9,  4.6216
     316N142_3,  AR15,   145,  1,     27,     27,2,19940518,0800,-18.6018, -35.9390, 3956,    835.8,   4.1795,  34.3829,2,  34.3819,2,    191.5,2,    193.7,2,    33.45,2,    31.55,2,     0.00,2,     2.19,2, -999.000,9, -999.000,9, -999.000,9,   -999.0,9,   -999.0,9,  4.1163
     316N142_3,  AR15,   145,  1,     26,     26,2,19940518,0800,-18.6018, -35.9390, 3956,    934.7,   3.8229,  34.4251,2,  34.4232,2,    185.7,2,    187.7,2,    38.85,2,    32.23,2,     0.00,2,     2.25,2, -999.000,9, -999.000,9, -999.000,9,   -999.0,9,   -999.0,9,  3.7540
     316N142_3,  AR15,   145,  1,     25,     25,2,19940518,0800,-18.6018, -35.9390, 3956,   1043.6,   3.5810,  34.4951,2,  34.4938,2,    186.8,2,    186.9,2,    42.66,2,    31.80,2,     0.00,2,     2.22,2, -999.000,9, -999.000,9, -999.000,9,   -999.0,9,   -999.0,9,  3.5051
     316N142_3,  AR15,   145,  1,     24,     24,2,19940518,0800,-18.6018, -35.9390, 3956,   1162.3,   3.6920,  34.6124,2,  34.6111,2,    186.7,2,    185.9,2,    39.91,2,    30.57,2,     0.00,2,     2.13,2, -999.000,9, -999.000,9, -999.000,9,   -999.0,9,   -999.0,9,  3.6052
     316N142_3,  AR15,   145,  1,     23,     23,2,19940518,0800,-18.6018, -35.9390, 3956,   1262.0,   3.8583,  34.6972,2,  34.6966,2,    188.7,2,    189.1,2,    35.73,2,    29.08,2,     0.00,2,     2.01,2, -999.000,9, -999.000,9, -999.000,9,   -999.0,9,   -999.0,9,  3.7613
     316N142_3,  AR15,   145,  1,     22,     22,2,19940518,0800,-18.6018, -35.9390, 3956,   1368.0,   4.2183,  34.8612,2,  34.8613,2,    203.9,2,    203.9,2,    25.51,2,    25.27,2,     0.00,2,     1.74,2, -999.000,9, -999.000,9, -999.000,9,   -999.0,9,   -999.0,9,  4.1080
     316N142_3,  AR15,   145,  1,     21,     21,2,19940518,0800,-18.6018, -35.9390, 3956,   1494.1,   4.1783,  34.9258,2,  34.9265,2,    222.3,2,    221.4,2,    21.67,2,    22.73,2,     0.00,2,     1.55,2, -999.000,9, -999.000,9, -999.000,9,   -999.0,9,   -999.0,9,  4.0567
     316N142_3,  AR15,   145,  1,     20,     20,2,19940518,0800,-18.6018, -35.9390, 3956,   1616.1,   4.0806,  34.9582,2,  34.9587,2,    234.3,2,    234.1,2,    19.74,2,    21.20,2,     0.00,2,     1.43,2, -999.000,9, -999.000,9, -999.000,9,   -999.0,9,   -999.0,9,  3.9488
     316N142_3,  AR15,   145,  1,     19,     19,9,19940518,0800,-18.6018, -35.9390, 3956,   1733.0,   3.8956,  34.9622,2,-999.0000,9,    243.0,2,   -999.0,9,  -999.00,9,  -999.00,9,  -999.00,9,  -999.00,9, -999.000,9, -999.000,9, -999.000,9,   -999.0,9,   -999.0,9,  3.7552
     316N142_3,  AR15,   145,  1,     40,     40,2,19940518,0800,-18.6018, -35.9390, 3956,   1848.8,   3.8013,  34.9655,2,  34.9666,2,    247.0,2,    245.1,2,    20.04,2,    20.14,2,     0.00,2,     1.36,2, -999.000,9, -999.000,9, -999.000,9,   -999.0,9,   -999.0,9,  3.6512
     316N142_3,  AR15,   145,  1,     17,     17,2,19940518,0800,-18.6018, -35.9390, 3956,   1969.1,   3.6274,  34.9646,2,  34.9648,2,    249.7,2,    249.6,2,    20.97,2,    19.76,2,     0.00,2,     1.33,2, -999.000,9, -999.000,9, -999.000,9,   -999.0,9,   -999.0,9,  3.4683
     316N142_3,  AR15,   145,  1,     16,     16,2,19940518,0800,-18.6018, -35.9390, 3956,   2093.9,   3.5148,  34.9608,2,  34.9613,2,    251.7,2,    250.8,2,    21.74,2,    19.71,2,     0.00,2,     1.33,2, -999.000,9, -999.000,9, -999.000,9,   -999.0,9,   -999.0,9,  3.3456
     316N142_3,  AR15,   145,  1,     15,     15,2,19940518,0800,-18.6018, -35.9390, 3956,   2219.2,   3.3801,  34.9552,2,  34.9560,2,    252.2,2,    252.0,2,    23.15,2,    19.75,2,     0.00,2,     1.33,2, -999.000,9, -999.000,9, -999.000,9,   -999.0,9,   -999.0,9,  3.2009
     316N142_3,  AR15,   145,  1,     14,     14,2,19940518,0800,-18.6018, -35.9390, 3956,   2343.0,   3.2248,  34.9479,2,  34.9487,2,    253.5,2,    252.3,2,    25.03,2,    19.86,2,     0.00,2,     1.34,2, -999.000,9, -999.000,9, -999.000,9,   -999.0,9,   -999.0,9,  3.0362
     316N142_3,  AR15,   145,  1,     13,     13,2,19940518,0800,-18.6018, -35.9390, 3956,   2468.3,   3.1097,  34.9409,2,  34.9418,2,    252.1,2,    252.0,2,    27.07,2,    20.11,2,     0.00,2,     1.35,2, -999.000,9, -999.000,9, -999.000,9,   -999.0,9,   -999.0,9,  2.9108
     316N142_3,  AR15,   145,  1,     12,     12,2,19940518,0800,-18.6018, -35.9390, 3956,   2595.0,   3.0047,  34.9355,2,  34.9361,2,    251.6,2,    252.1,2,    28.80,2,    20.32,2,     0.00,2,     1.37,2, -999.000,9, -999.000,9, -999.000,9,   -999.0,9,   -999.0,9,  2.7953
     316N142_3,  AR15,   145,  1,     11,     11,2,19940518,0800,-18.6018, -35.9390, 3956,   2722.6,   2.8709,  34.9267,2,  34.9265,2,    251.0,2,    251.0,2,    31.63,2,    20.63,2,     0.00,2,     1.39,2, -999.000,9, -999.000,9, -999.000,9,   -999.0,9,   -999.0,9,  2.6514
     316N142_3,  AR15,   145,  1,     10,     10,2,19940518,0800,-18.6018, -35.9390, 3956,   2852.0,   2.8195,  34.9243,2,  34.9240,2,    251.4,2,    251.6,2,    32.25,2,    20.62,2,     0.00,2,     1.40,2, -999.000,9, -999.000,9, -999.000,9,   -999.0,9,   -999.0,9,  2.5879
     316N142_3,  AR15,   145,  1,      9,      9,2,19940518,0800,-18.6018, -35.9390, 3956,   2990.1,   2.7557,  34.9204,2,  34.9198,2,    251.8,2,    252.0,2,    33.33,2,    20.67,2,     0.00,2,     1.40,2, -999.000,9, -999.000,9, -999.000,9,   -999.0,9,   -999.0,9,  2.5113
     316N142_3,  AR15,   145,  1,      8,      8,2,19940518,0800,-18.6018, -35.9390, 3956,   3122.8,   2.6946,  34.9169,2,  34.9173,2,    251.9,2,    252.4,2,    34.10,2,    20.56,2,     0.00,2,     1.40,2, -999.000,9, -999.000,9, -999.000,9,   -999.0,9,   -999.0,9,  2.4378
     316N142_3,  AR15,   145,  1,      7,      7,2,19940518,0800,-18.6018, -35.9390, 3956,   3249.4,   2.5615,  34.9087,2,  34.9081,2,    253.8,2,    253.8,2,    36.31,2,    20.71,2,     0.00,2,     1.41,2, -999.000,9, -999.000,9, -999.000,9,   -999.0,9,   -999.0,9,  2.2944
     316N142_3,  AR15,   145,  1,      6,      6,2,19940518,0800,-18.6018, -35.9390, 3956,   3359.6,   2.5232,  34.9060,2,  34.9071,2,    254.5,2,    254.5,2,    36.44,2,    20.60,2,     0.00,2,     1.41,2, -999.000,9, -999.000,9, -999.000,9,   -999.0,9,   -999.0,9,  2.2453
     316N142_3,  AR15,   145,  1,      5,      5,2,19940518,0800,-18.6018, -35.9390, 3956,   3498.2,   2.4203,  34.8965,2,  34.8967,2,    253.2,2,    253.9,2,    39.75,2,    21.02,2,     0.00,2,     1.43,2, -999.000,9, -999.000,9, -999.000,9,   -999.0,9,   -999.0,9,  2.1302
     316N142_3,  AR15,   145,  1,      4,      4,2,19940518,0800,-18.6018, -35.9390, 3956,   3620.3,   2.2323,  34.8758,2,  34.8770,2,    250.2,2,    250.3,2,    47.54,2,    22.12,2,     0.00,2,     1.52,2, -999.000,9, -999.000,9, -999.000,9,   -999.0,9,   -999.0,9,  1.9338
     316N142_3,  AR15,   145,  1,      3,      3,2,19940518,0800,-18.6018, -35.9390, 3956,   3755.6,   1.9536,  34.8470,2,  34.8466,2,    246.4,2,    245.4,2,    58.71,2,    23.69,2,     0.00,2,     1.62,2, -999.000,9, -999.000,9, -999.000,9,   -999.0,9,   -999.0,9,  1.6479
     316N142_3,  AR15,   145,  1,      2,      2,2,19940518,0800,-18.6018, -35.9390, 3956,   3900.5,   1.3611,  34.7896,2,  34.7836,4,    238.6,3,    234.3,2,    82.93,2,    26.99,2,     0.00,2,     1.88,2, -999.000,9, -999.000,9, -999.000,9,   -999.0,9,   -999.0,9,  1.0561
     316N142_3,  AR15,   145,  1,      1,      1,2,19940518,0800,-18.6018, -35.9390, 3956,   4028.2,   0.9114,  34.7375,2,  34.7398,2,    227.3,2,    226.8,2,   100.44,2,    29.35,2,     0.00,2,     2.05,2, -999.000,9, -999.000,9, -999.000,9,   -999.0,9,   -999.0,9,  0.6059