BOTTLE,20020814WHPSIOKJU
EXPOCODE,SECT_ID,STNNBR,CASTNO,SAMPNO,BTLNBR,BTLNBR_FLAG_W,DATE,TIME,LATITUDE,LONGITUDE,DEPTH,CTDPRS,CTDTMP,CTDSAL,CTDSAL_FLAG_W,SALNTY,SALNTY_FLAG_W,CTDOXY,CTDOXY_FLAG_W,OXYGEN,OXYGEN_FLAG_W,SILCAT,SILCAT_FLAG_W,NITRAT,NITRAT_FLAG_W,NITRIT,NITRIT_FLAG_W,PHSPHT,PHSPHT_FLAG_W,CFC-11,CFC-11_FLAG_W,CFC-12,CFC-12_FLAG_W,CCL4,CCL4_FLAG_W,TCARBN,TCARBN_FLAG_W,ALKALI,ALKALI_FLAG_W,THETA
,,,,,,,,,,,,DBAR,ITS-90,PSS-78,,PSS-78,,UMOL/KG,,UMOL/KG,,UMOL/KG,,UMOL/KG,,UMOL/KG,,UMOL/KG,,PMOL/KG,,PMOL/KG,,PMOL/KG,,UMOL/KG,,UMOL/KG,,DEG C
     316N142_3,   A15,    61,  1,     39,     39,2,19940423,0305, -8.0000, -19.0007, 4413,      8.7,  27.8872,  36.3502,2,  36.3522,2,    203.8,2,    205.4,2,     1.89,2,     0.19,2,     0.00,2,     0.13,2, -999.000,9, -999.000,9, -999.000,9,   -999.0,9,   -999.0,9, 27.8851
     316N142_3,   A15,    61,  1,     35,     35,2,19940423,0305, -8.0000, -19.0007, 4413,     50.6,  27.8001,  36.3680,2,  36.3979,2,    206.1,2,    203.5,2,     1.74,2,     0.19,2,     0.00,2,     0.13,2, -999.000,9, -999.000,9, -999.000,9,   -999.0,9,   -999.0,9, 27.7882
     316N142_3,   A15,    61,  1,     38,     38,2,19940423,0305, -8.0000, -19.0007, 4413,     85.1,  23.5478,  36.7161,2,  36.6869,2,    223.6,2,    216.9,2,     1.60,2,     0.19,2,     0.00,2,     0.19,2, -999.000,9, -999.000,9, -999.000,9,   -999.0,9,   -999.0,9, 23.5300
     316N142_3,   A15,    61,  1,     33,     33,2,19940423,0305, -8.0000, -19.0007, 4413,    185.7,  12.2077,  35.2037,2,  35.1976,2,     94.1,2,     88.5,2,    10.39,2,    25.78,2,     0.01,2,     1.70,2, -999.000,9, -999.000,9, -999.000,9,   -999.0,9,   -999.0,9, 12.1832
     316N142_3,   A15,    61,  1,     41,     41,2,19940423,0305, -8.0000, -19.0007, 4413,    235.4,  10.4133,  34.9670,2,  34.9674,2,    100.7,2,    108.3,2,    12.65,2,    27.03,2,     0.00,2,     1.78,2, -999.000,9, -999.000,9, -999.000,9,   -999.0,9,   -999.0,9, 10.3852
     316N142_3,   A15,    61,  1,     31,     31,2,19940423,0305, -8.0000, -19.0007, 4413,    333.8,   9.0851,  34.8228,2,  34.8201,2,     84.4,2,     79.9,2,    16.64,2,    33.24,2,     0.00,2,     2.12,2, -999.000,9, -999.000,9, -999.000,9,   -999.0,9,   -999.0,9,  9.0484
     316N142_3,   A15,    61,  1,     37,     37,2,19940423,0305, -8.0000, -19.0007, 4413,    413.9,   8.4006,  34.7525,2,  34.7501,2,     81.8,2,     84.1,2,    18.36,2,    34.34,2,     0.00,2,     2.20,2, -999.000,9, -999.000,9, -999.000,9,   -999.0,9,   -999.0,9,  8.3570
     316N142_3,   A15,    61,  1,     29,     29,2,19940423,0305, -8.0000, -19.0007, 4413,    524.1,   7.1590,  34.6367,2,  34.6345,2,     90.1,2,     92.6,2,    21.95,2,    36.21,2,     0.00,2,     2.34,2, -999.000,9, -999.000,9, -999.000,9,   -999.0,9,   -999.0,9,  7.1084
     316N142_3,   A15,    61,  1,     28,     28,2,19940423,0305, -8.0000, -19.0007, 4413,    651.3,   5.8841,  34.5322,2,  34.5278,2,    114.1,2,    116.8,2,    26.47,2,    36.36,2,     0.00,2,     2.41,2, -999.000,9, -999.000,9, -999.000,9,   -999.0,9,   -999.0,9,  5.8270
     316N142_3,   A15,    61,  1,     27,     27,2,19940423,0305, -8.0000, -19.0007, 4413,    707.5,   5.5183,  34.5132,2,  34.5105,2,    121.5,2,    120.2,2,    28.45,2,    36.66,2,     0.00,2,     2.43,2, -999.000,9, -999.000,9, -999.000,9,   -999.0,9,   -999.0,9,  5.4581
     316N142_3,   A15,    61,  1,     26,     26,2,19940423,0305, -8.0000, -19.0007, 4413,    778.5,   4.8934,  34.4739,2,  34.4740,2,    140.7,2,    143.6,2,    31.10,2,    35.39,2,     0.00,2,     2.36,2, -999.000,9, -999.000,9, -999.000,9,   -999.0,9,   -999.0,9,  4.8305
     316N142_3,   A15,    61,  1,     25,     25,2,19940423,0305, -8.0000, -19.0007, 4413,    893.6,   4.2580,  34.4997,2,  34.4977,2,    156.0,2,    158.3,2,    35.47,2,    34.40,2,     0.00,2,     2.34,2, -999.000,9, -999.000,9, -999.000,9,   -999.0,9,   -999.0,9,  4.1894
     316N142_3,   A15,    61,  1,     24,     24,2,19940423,0305, -8.0000, -19.0007, 4413,   1010.3,   4.0828,  34.5704,2,  34.5698,2,    165.2,2,    165.0,2,    35.98,2,    33.13,2,     0.00,2,     2.26,2, -999.000,9, -999.000,9, -999.000,9,   -999.0,9,   -999.0,9,  4.0056
     316N142_3,   A15,    61,  1,     23,     23,2,19940423,0305, -8.0000, -19.0007, 4413,   1140.8,   4.1364,  34.6938,2,  34.6926,2,    175.0,2,    173.7,2,    32.63,2,    30.72,2,     0.00,2,     2.14,2, -999.000,9, -999.000,9, -999.000,9,   -999.0,9,   -999.0,9,  4.0473
     316N142_3,   A15,    61,  1,     22,     22,2,19940423,0305, -8.0000, -19.0007, 4413,   1272.1,   4.1431,  34.8125,2,  34.8087,2,    190.5,2,    191.2,2,    28.07,2,    27.40,2,     0.00,2,     1.90,2, -999.000,9, -999.000,9, -999.000,9,   -999.0,9,   -999.0,9,  4.0422
     316N142_3,   A15,    61,  1,     21,     21,2,19940423,0305, -8.0000, -19.0007, 4413,   1402.7,   4.2000,  34.9039,2,  34.9021,2,    212.0,2,    211.8,2,    23.12,2,    24.18,2,     0.00,2,     1.68,2, -999.000,9, -999.000,9, -999.000,9,   -999.0,9,   -999.0,9,  4.0866
     316N142_3,   A15,    61,  1,     20,     20,2,19940423,0305, -8.0000, -19.0007, 4413,   1539.1,   4.0637,  34.9411,2,  34.9397,2,    227.9,2,    227.5,2,    21.11,2,    22.19,2,     0.00,2,     1.54,2, -999.000,9,    0.018,2,    0.189,2,   -999.0,9,   -999.0,9,  3.9393
     316N142_3,   A15,    61,  1,     19,     19,2,19940423,0305, -8.0000, -19.0007, 4413,   1665.3,   3.8849,  34.9484,2,  34.9505,2,    235.5,2,    234.9,2,    21.49,2,    21.44,2,     0.00,2,     1.49,2, -999.000,9,    0.011,2,    0.149,2,   -999.0,9,   -999.0,9,  3.7510
     316N142_3,   A15,    61,  1,     40,     40,2,19940423,0305, -8.0000, -19.0007, 4413,   1790.4,   3.6987,  34.9484,2,  34.9501,2,    239.3,2,    239.2,2,    22.80,2,    21.11,2,     0.00,2,     1.47,2, -999.000,9,    0.015,2,    0.053,2,   -999.0,9,   -999.0,9,  3.5556
     316N142_3,   A15,    61,  1,     17,     17,2,19940423,0305, -8.0000, -19.0007, 4413,   1915.6,   3.4951,  34.9391,2,  34.9391,2,    241.8,2,    239.9,2,    25.44,2,    21.26,2,     0.00,2,     1.49,2, -999.000,9, -999.000,9, -999.000,9,   -999.0,9,   -999.0,9,  3.3431
     316N142_3,   A15,    61,  1,     16,     16,2,19940423,0305, -8.0000, -19.0007, 4413,   2066.6,   3.3153,  34.9331,2,  34.9329,2,    242.2,2,    241.7,2,    28.35,2,    21.31,2,     0.00,2,     1.48,2, -999.000,9, -999.000,9, -999.000,9,   -999.0,9,   -999.0,9,  3.1518
     316N142_3,   A15,    61,  1,     15,     15,2,19940423,0305, -8.0000, -19.0007, 4413,   2218.8,   3.1344,  34.9276,2,  34.9282,2,    242.8,2,    242.9,2,    31.12,2,    21.46,2,     0.00,2,     1.49,2, -999.000,9, -999.000,9, -999.000,9,   -999.0,9,   -999.0,9,  2.9594
     316N142_3,   A15,    61,  1,     14,     14,2,19940423,0305, -8.0000, -19.0007, 4413,   2372.5,   2.9687,  34.9173,2,  34.9166,2,    242.0,2,    241.7,2,    34.96,2,    21.80,2,     0.00,2,     1.51,2, -999.000,9, -999.000,9, -999.000,9,   -999.0,9,   -999.0,9,  2.7818
     316N142_3,   A15,    61,  1,     13,     13,2,19940423,0305, -8.0000, -19.0007, 4413,   2552.5,   2.8519,  34.9114,2,  34.9111,2,    242.1,2,    241.8,2,    37.33,2,    21.95,2,     0.00,2,     1.53,2, -999.000,9, -999.000,9, -999.000,9,   -999.0,9,   -999.0,9,  2.6497
     316N142_3,   A15,    61,  1,     12,     12,2,19940423,0305, -8.0000, -19.0007, 4413,   2731.7,   2.7670,  34.9073,2,  34.9069,2,    241.5,2,    241.9,2,    38.90,2,    22.06,2,     0.00,2,     1.53,2, -999.000,9, -999.000,9, -999.000,9,   -999.0,9,   -999.0,9,  2.5488
     316N142_3,   A15,    61,  1,     11,     11,2,19940423,0305, -8.0000, -19.0007, 4413,   2884.3,   2.7005,  34.9053,2,  34.9067,2,    241.9,2,    243.0,2,    39.81,2,    22.02,2,     0.00,2,     1.53,2, -999.000,9, -999.000,9, -999.000,9,   -999.0,9,   -999.0,9,  2.4682
     316N142_3,   A15,    61,  1,     10,     10,2,19940423,0305, -8.0000, -19.0007, 4413,   3062.2,   2.6283,  34.9028,2,  34.9018,2,    245.1,2,    244.5,2,    40.32,2,    21.93,2,     0.00,2,     1.52,2, -999.000,9, -999.000,9, -999.000,9,   -999.0,9,   -999.0,9,  2.3794
     316N142_3,   A15,    61,  1,      9,      9,9,19940423,0305, -8.0000, -19.0007, 4413,   3241.0,   2.5816,  34.9035,2,-999.0000,9,    246.8,2,   -999.0,9,  -999.00,9,  -999.00,9,  -999.00,9,  -999.00,9, -999.000,9, -999.000,9, -999.000,9,   -999.0,9,   -999.0,9,  2.3150
     316N142_3,   A15,    61,  1,      8,      8,2,19940423,0305, -8.0000, -19.0007, 4413,   3393.2,   2.5348,  34.9023,2,  34.9021,2,    249.9,2,    250.3,2,    39.10,2,    21.17,2,     0.00,2,     1.49,2, -999.000,9,    0.004,2,    0.061,2,   -999.0,9,   -999.0,9,  2.2531
     316N142_3,   A15,    61,  1,      7,      7,2,19940423,0305, -8.0000, -19.0007, 4413,   3546.7,   2.4902,  34.9009,2,  34.9017,2,    251.5,2,    253.0,2,    38.42,2,    20.94,2,     0.00,2,     1.47,2, -999.000,9,    0.009,2,    0.045,2,   -999.0,9,   -999.0,9,  2.1930
     316N142_3,   A15,    61,  1,      6,      6,2,19940423,0305, -8.0000, -19.0007, 4413,   3675.1,   2.4107,  34.8923,2,  34.8933,2,    252.0,2,    252.2,2,    41.45,2,    21.38,2,     0.00,2,     1.50,2, -999.000,9,    0.025,2,    0.080,2,   -999.0,9,   -999.0,9,  2.1015
     316N142_3,   A15,    61,  1,      5,      5,2,19940423,0305, -8.0000, -19.0007, 4413,   3802.6,   2.2650,  34.8783,2,  34.8789,2,    249.4,2,    250.1,2,    46.73,2,    22.05,2,     0.00,2,     1.55,2, -999.000,9, -999.000,9, -999.000,9,   -999.0,9,   -999.0,9,  1.9456
     316N142_3,   A15,    61,  1,      4,      4,2,19940423,0305, -8.0000, -19.0007, 4413,   3980.6,   2.0140,  34.8538,2,  34.8557,2,    247.0,2,    246.2,2,    55.58,2,    23.30,2,     0.00,2,     1.63,2, -999.000,9, -999.000,9, -999.000,9,   -999.0,9,   -999.0,9,  1.6817
     316N142_3,   A15,    61,  1,      3,      3,2,19940423,0305, -8.0000, -19.0007, 4413,   4186.2,   1.6335,  34.8105,2,  34.8112,2,    239.1,2,    238.3,2,    72.79,2,    25.84,2,     0.00,2,     1.80,2, -999.000,9, -999.000,9, -999.000,9,   -999.0,9,   -999.0,9,  1.2894
     316N142_3,   A15,    61,  1,      2,      2,2,19940423,0305, -8.0000, -19.0007, 4413,   4390.7,   1.1369,  34.7593,2,  34.7599,2,    231.2,2,    231.0,2,    91.43,2,    28.62,2,     0.00,2,     2.00,2, -999.000,9, -999.000,9, -999.000,9,   -999.0,9,   -999.0,9,  0.7850
     316N142_3,   A15,    61,  1,      1,      1,2,19940423,0305, -8.0000, -19.0007, 4413,   4547.5,   0.9720,  34.7414,2,  34.7426,2,    229.1,2,    228.1,2,    97.64,2,    29.59,2,     0.00,2,     2.07,2, -999.000,9, -999.000,9, -999.000,9,   -999.0,9,   -999.0,9,  0.6077