BOTTLE,20020814WHPSIOKJU
EXPOCODE,SECT_ID,STNNBR,CASTNO,SAMPNO,BTLNBR,BTLNBR_FLAG_W,DATE,TIME,LATITUDE,LONGITUDE,DEPTH,CTDPRS,CTDTMP,CTDSAL,CTDSAL_FLAG_W,SALNTY,SALNTY_FLAG_W,CTDOXY,CTDOXY_FLAG_W,OXYGEN,OXYGEN_FLAG_W,SILCAT,SILCAT_FLAG_W,NITRAT,NITRAT_FLAG_W,NITRIT,NITRIT_FLAG_W,PHSPHT,PHSPHT_FLAG_W,CFC-11,CFC-11_FLAG_W,CFC-12,CFC-12_FLAG_W,CCL4,CCL4_FLAG_W,TCARBN,TCARBN_FLAG_W,ALKALI,ALKALI_FLAG_W,THETA
,,,,,,,,,,,,DBAR,ITS-90,PSS-78,,PSS-78,,UMOL/KG,,UMOL/KG,,UMOL/KG,,UMOL/KG,,UMOL/KG,,UMOL/KG,,PMOL/KG,,PMOL/KG,,PMOL/KG,,UMOL/KG,,UMOL/KG,,DEG C
     316N142_3,   A15,    55,  1,     39,     39,2,19940421,1347, -5.0015, -19.0023, 3706,      7.3,  28.1925,  35.5820,2,  35.5784,2,    219.3,4,    198.6,2,     2.07,2,     0.18,2,     0.00,2,     0.08,2,    1.639,2,    0.943,2,    2.394,2,   1979.7,2,   2435.3,2, 28.1907
     316N142_3,   A15,    55,  1,     35,     35,9,19940421,1347, -5.0015, -19.0023, 3706,     43.7,  28.3154,  35.8257,2,-999.0000,9,    209.6,2,   -999.0,9,  -999.00,9,  -999.00,9,  -999.00,9,  -999.00,9, -999.000,9, -999.000,9, -999.000,9,   -999.0,9,   -999.0,9, 28.3050
     316N142_3,   A15,    55,  1,     38,     38,2,19940421,1347, -5.0015, -19.0023, 3706,     83.4,  24.7648,  36.6735,2,  36.6768,2,    172.5,2,    216.3,2,     2.04,2,     0.18,2,     0.00,2,     0.14,2,    1.873,6,    1.078,6,    1.667,6,   2056.4,2,   2403.2,2, 24.7467
     316N142_3,   A15,    55,  1,     33,     33,2,19940421,1347, -5.0015, -19.0023, 3706,    134.5,  15.3633,  35.5928,2,  35.5953,2,    107.9,2,    108.5,2,     7.29,2,    18.89,2,     0.03,2,     1.31,2,    1.322,2,    0.720,2,    0.634,2,   2172.9,2,   2336.3,2, 15.3425
     316N142_3,   A15,    55,  1,     41,     41,2,19940421,1347, -5.0015, -19.0023, 3706,    225.1,  10.7999,  35.0155,2,  35.0210,2,     97.8,2,     93.0,2,    12.82,2,    27.60,2,     0.01,2,     1.80,2,    0.684,2,    0.373,2,    0.237,2,   2202.4,2,   2303.8,2, 10.7724
     316N142_3,   A15,    55,  1,     31,     31,2,19940421,1347, -5.0015, -19.0023, 3706,    306.3,   9.5305,  34.8644,2,  34.8640,2,     95.7,2,     93.5,2,    15.51,2,    30.39,2,     0.00,2,     1.96,2,    0.460,2,    0.249,2,    0.401,2,   2211.5,2,   2298.8,2,  9.4958
     316N142_3,   A15,    55,  1,     37,     37,2,19940421,1347, -5.0015, -19.0023, 3706,    385.8,   8.3868,  34.7536,2,  34.7517,2,     78.7,2,     79.0,2,    18.87,2,    34.43,2,     0.00,2,     2.21,2,    0.197,6,    0.127,6,    0.364,6,   2229.5,2,   2294.7,2,  8.3463
     316N142_3,   A15,    55,  1,     29,     29,2,19940421,1347, -5.0015, -19.0023, 3706,    465.3,   7.2168,  34.6416,2,  34.6414,2,     95.0,2,     93.8,2,    21.83,2,    35.37,2,     0.00,2,     2.30,2,    0.074,4,    0.085,2,    0.329,2,   2229.9,2,   2292.7,2,  7.1718
     316N142_3,   A15,    55,  1,     28,     28,2,19940421,1347, -5.0015, -19.0023, 3706,    557.3,   6.1874,  34.5460,2,  34.5475,2,    125.6,2,    125.2,2,    24.53,2,    34.28,2,     0.00,2,     2.28,2, -999.000,9, -999.000,9, -999.000,9,   2218.2,2,   2294.4,2,  6.1376
     316N142_3,   A15,    55,  1,     27,     27,2,19940421,1347, -5.0015, -19.0023, 3706,    657.2,   5.5078,  34.5021,2,  34.5012,2,    132.8,2,    133.3,2,    27.77,2,    34.94,2,     0.00,2,     2.35,2,    0.094,4,    0.054,9, -999.000,9,   2221.2,2,   2294.2,2,  5.4521
     316N142_3,   A15,    55,  1,     26,     26,2,19940421,1347, -5.0015, -19.0023, 3706,    773.7,   4.7563,  34.4775,2,  34.4778,2,    145.7,2,    145.5,2,    32.23,2,    34.91,2,     0.00,2,     2.38,2,    0.044,4,    0.034,2,    0.158,2,   2218.7,2,   2302.7,2,  4.6946
     316N142_3,   A15,    55,  1,     25,     25,2,19940421,1347, -5.0015, -19.0023, 3706,    909.5,   4.2608,  34.5257,2,  34.5269,2,    157.3,2,    157.4,2,    35.60,2,    33.76,2,     0.00,2,     2.32,2, -999.000,9, -999.000,9, -999.000,9,   2220.2,2,   2304.9,2,  4.1908
     316N142_3,   A15,    55,  1,     24,     24,2,19940421,1347, -5.0015, -19.0023, 3706,   1060.8,   4.1804,  34.6440,2,  34.6493,4,    169.2,2,    167.4,2,    33.96,2,    31.45,2,     0.00,2,     2.16,2,    0.026,4,    0.017,2,    0.040,2,   2210.4,2,   2305.0,2,  4.0979
     316N142_3,   A15,    55,  1,     23,     23,2,19940421,1347, -5.0015, -19.0023, 3706,   1212.8,   4.3463,  34.8205,2,  34.8212,2,    188.3,2,    188.2,2,    27.15,2,    27.29,2,     0.00,2,     1.85,2, -999.000,9, -999.000,9, -999.000,9,   2198.2,2,   2310.5,2,  4.2488
     316N142_3,   A15,    55,  1,     22,     22,2,19940421,1347, -5.0015, -19.0023, 3706,   1363.1,   4.3162,  34.9079,2,  34.9085,2,    210.3,2,    210.0,2,    22.78,2,    24.10,2,     0.00,2,     1.62,2, -999.000,9,    0.022,2,    0.259,2,   -999.0,9,   -999.0,9,  4.2052
     316N142_3,   A15,    55,  1,     21,     21,2,19940421,1347, -5.0015, -19.0023, 3706,   1515.0,   4.1564,  34.9522,2,  34.9532,2,    231.4,2,    228.5,2,    20.31,2,    21.75,2,     0.00,2,     1.48,2, -999.000,9,    0.026,2,    0.123,2,   2173.1,2,   2312.1,2,  4.0331
     316N142_3,   A15,    55,  1,     20,     20,2,19940421,1347, -5.0015, -19.0023, 3706,   1616.7,   4.0170,  34.9658,2,  34.9666,2,    239.8,2,    237.7,2,    19.61,2,    20.73,2,     0.00,2,     1.40,2, -999.000,9,    0.033,2,    0.516,2,   -999.0,9,   -999.0,9,  3.8859
     316N142_3,   A15,    55,  1,     19,     19,2,19940421,1347, -5.0015, -19.0023, 3706,   1717.3,   3.8968,  34.9711,2,  34.9719,2,    246.0,2,    244.5,2,    19.32,2,    20.09,2,     0.00,2,     1.38,2, -999.000,9,    0.037,2,    0.440,2,   2167.9,2,   2312.5,2,  3.7578
     316N142_3,   A15,    55,  1,     40,     40,2,19940421,1347, -5.0015, -19.0023, 3706,   1817.5,   3.7652,  34.9721,2,  34.9750,2,    250.1,2,    254.2,4,    19.57,2,    19.63,2,     0.00,2,     1.35,2, -999.000,9,    0.039,2,    0.429,2,   -999.0,9,   -999.0,9,  3.6185
     316N142_3,   A15,    55,  1,     17,     17,2,19940421,1347, -5.0015, -19.0023, 3706,   1918.8,   3.6041,  34.9665,2,  34.9687,2,    250.3,2,    250.4,2,    20.64,2,    19.60,2,     0.00,2,     1.35,2, -999.000,9,    0.056,2,    0.440,2,   2165.1,2,   2314.9,2,  3.4502
     316N142_3,   A15,    55,  1,     16,     16,2,19940421,1347, -5.0015, -19.0023, 3706,   2020.3,   3.4515,  34.9583,2,  34.9594,2,    251.5,2,    250.7,2,    22.80,2,    19.79,2,     0.00,2,     1.36,2, -999.000,9, -999.000,9, -999.000,9,   -999.0,9,   -999.0,9,  3.2902
     316N142_3,   A15,    55,  1,     15,     15,2,19940421,1347, -5.0015, -19.0023, 3706,   2109.5,   3.2569,  34.9428,2,  34.9445,2,    245.8,2,    248.3,2,    26.87,2,    20.40,2,     0.00,2,     1.40,2, -999.000,9, -999.000,9, -999.000,9,   2171.0,2,   2320.9,2,  3.0902
     316N142_3,   A15,    55,  1,     14,     14,2,19940421,1347, -5.0015, -19.0023, 3706,   2220.9,   3.0227,  34.9187,2,  34.9191,2,    240.0,2,    241.1,2,    34.34,2,    21.71,2,     0.00,2,     1.48,2, -999.000,9,    0.010,2, -999.000,9,   -999.0,9,   -999.0,9,  2.8494
     316N142_3,   A15,    55,  1,     13,     13,2,19940421,1347, -5.0015, -19.0023, 3706,   2322.7,   2.9715,  34.9246,2,  34.9248,2,    244.4,2,    245.2,2,    33.24,2,    21.30,2,     0.00,2,     1.46,2, -999.000,9, -999.000,9, -999.000,9,   2181.8,2,   2327.2,2,  2.7894
     316N142_3,   A15,    55,  1,     12,     12,2,19940421,1347, -5.0015, -19.0023, 3706,   2475.1,   2.8396,  34.9149,2,  34.9149,2,    241.9,2,    242.4,2,    36.77,2,    21.77,2,     0.00,2,     1.49,2, -999.000,9,    0.019,2,    0.281,2,   -999.0,9,   -999.0,9,  2.6451
     316N142_3,   A15,    55,  1,     11,     11,2,19940421,1347, -5.0015, -19.0023, 3706,   2629.6,   2.7703,  34.9110,2,  34.9106,2,    243.0,2,    242.1,2,    38.39,2,    21.88,2,     0.00,2,     1.51,2, -999.000,9, -999.000,9, -999.000,9,   2187.2,2,   2332.1,2,  2.5621
     316N142_3,   A15,    55,  1,     10,     10,2,19940421,1347, -5.0015, -19.0023, 3706,   2783.0,   2.7190,  34.9122,2,  34.9114,2,    244.4,2,    243.9,2,    38.11,2,    21.65,2,     0.00,2,     1.50,2, -999.000,9, -999.000,9, -999.000,9,   -999.0,9,   -999.0,9,  2.4965
     316N142_3,   A15,    55,  1,      9,      9,2,19940421,1347, -5.0015, -19.0023, 3706,   2933.8,   2.6610,  34.9099,2,  34.9088,2,    245.5,2,    246.6,2,    38.64,2,    21.52,2,     0.00,2,     1.50,2, -999.000,9,    0.008,2,    0.128,2,   2182.8,2,   2333.6,2,  2.4245
     316N142_3,   A15,    55,  1,      8,      8,2,19940421,1347, -5.0015, -19.0023, 3706,   3035.1,   2.6268,  34.9097,2,  34.9088,2,    247.0,2,    247.1,2,    38.62,2,    21.39,2,     0.00,2,     1.48,2, -999.000,9, -999.000,9, -999.000,9,   -999.0,9,   -999.0,9,  2.3806
     316N142_3,   A15,    55,  1,      7,      7,2,19940421,1347, -5.0015, -19.0023, 3706,   3137.4,   2.5802,  34.9063,2,  34.9058,2,    247.7,2,    247.8,2,    39.29,2,    21.40,2,     0.00,2,     1.49,2, -999.000,9, -999.000,9, -999.000,9,   2182.7,2,   2332.9,2,  2.3245
     316N142_3,   A15,    55,  1,      6,      6,2,19940421,1347, -5.0015, -19.0023, 3706,   3239.9,   2.5686,  34.9098,2,  34.9088,2,    251.6,2,    251.4,2,    36.96,2,    20.84,2,     0.00,2,     1.46,2, -999.000,9,    0.009,2,    0.111,2,   -999.0,9,   -999.0,9,  2.3024
     316N142_3,   A15,    55,  1,      5,      5,2,19940421,1347, -5.0015, -19.0023, 3706,   3392.0,   2.5347,  34.9103,2,  34.9091,2,    255.1,2,    255.0,2,    35.58,2,    20.39,2,     0.00,2,     1.43,2, -999.000,9, -999.000,9, -999.000,9,   2180.7,2,   2331.0,2,  2.2531
     316N142_3,   A15,    55,  1,      4,      4,2,19940421,1347, -5.0015, -19.0023, 3706,   3545.5,   2.4746,  34.9053,2,  34.9050,2,    256.7,2,    257.0,2,    35.97,2,    20.30,2,     0.00,2,     1.43,2, -999.000,9,    0.090,4,    0.215,4,   -999.0,9,   -999.0,9,  2.1779
     316N142_3,   A15,    55,  1,      3,      3,2,19940421,1347, -5.0015, -19.0023, 3706,   3698.3,   2.3511,  34.8958,2,  34.8956,2,    258.6,2,    257.0,2,    38.15,2,    20.35,2,     0.00,2,     1.43,2, -999.000,9,    0.033,2,    0.307,2,   2178.7,2,   2330.4,2,  2.0409
     316N142_3,   A15,    55,  1,      2,      2,2,19940421,1347, -5.0015, -19.0023, 3706,   3851.4,   2.1641,  34.8759,2,  34.8767,2,    256.5,2,    255.9,2,    45.11,2,    21.30,2,     0.00,2,     1.51,2, -999.000,9,    0.065,4,    0.394,4,   -999.0,9,   -999.0,9,  1.8421
     316N142_3,   A15,    55,  1,      1,      1,2,19940421,1347, -5.0015, -19.0023, 3706,   4025.0,   1.8046,  34.8355,2,  34.8359,2,    250.8,4,    245.4,2,    61.36,2,    23.73,2,     0.00,2,     1.68,2, -999.000,9,    0.029,2,    0.361,2,   2205.8,2,   2346.2,2,  1.4734