BOTTLE,20020814WHPSIOKJU
EXPOCODE,SECT_ID,STNNBR,CASTNO,SAMPNO,BTLNBR,BTLNBR_FLAG_W,DATE,TIME,LATITUDE,LONGITUDE,DEPTH,CTDPRS,CTDTMP,CTDSAL,CTDSAL_FLAG_W,SALNTY,SALNTY_FLAG_W,CTDOXY,CTDOXY_FLAG_W,OXYGEN,OXYGEN_FLAG_W,SILCAT,SILCAT_FLAG_W,NITRAT,NITRAT_FLAG_W,NITRIT,NITRIT_FLAG_W,PHSPHT,PHSPHT_FLAG_W,CFC-11,CFC-11_FLAG_W,CFC-12,CFC-12_FLAG_W,CCL4,CCL4_FLAG_W,TCARBN,TCARBN_FLAG_W,ALKALI,ALKALI_FLAG_W,THETA
,,,,,,,,,,,,DBAR,ITS-90,PSS-78,,PSS-78,,UMOL/KG,,UMOL/KG,,UMOL/KG,,UMOL/KG,,UMOL/KG,,UMOL/KG,,PMOL/KG,,PMOL/KG,,PMOL/KG,,UMOL/KG,,UMOL/KG,,DEG C
     316N142_3,  AR15,   136,  1,     39,     39,2,19940515,2304,-17.9485, -31.6647, 4624,     10.4,  27.3161,  37.4549,2,  37.4557,2,    187.6,4,    200.1,2,     1.72,2,     0.00,2,     0.01,2,     0.08,2,    1.776,2,    0.996,2,    1.815,2,   2067.4,2,   2453.7,2, 27.3136
     316N142_3,  AR15,   136,  1,     35,     35,2,19940515,2304,-17.9485, -31.6647, 4624,    108.8,  24.3336,  37.0567,2,  37.0587,2,    215.2,2,    212.7,2,     1.70,2,     0.00,2,     0.01,2,     0.15,2,    2.009,2,    1.137,2,    1.793,2,   2080.5,2,   2430.3,2, 24.3103
     316N142_3,  AR15,   136,  1,     38,     38,2,19940515,2304,-17.9485, -31.6647, 4624,    179.2,  19.6561,  36.2465,2,  36.2562,2,    194.5,2,    191.0,2,     2.15,2,     1.91,2,     0.02,2,     0.37,2, -999.000,9, -999.000,9, -999.000,9,   2099.8,2,   2372.7,2, 19.6232
     316N142_3,  AR15,   136,  1,     33,     33,2,19940515,2304,-17.9485, -31.6647, 4624,    259.7,  15.3328,  35.5051,2,  35.4879,2,    195.0,2,    192.3,2,     3.68,2,     7.38,2,     0.01,2,     0.66,2,    2.299,2,    1.211,2,    0.746,2,   2102.3,2,   2328.3,2, 15.2927
     316N142_3,  AR15,   136,  1,     41,     41,2,19940515,2304,-17.9485, -31.6647, 4624,    330.5,  12.7009,  35.1391,2,  35.1392,2,    171.4,2,    169.0,2,     6.63,2,    15.24,2,     0.01,2,     1.10,2, -999.000,9, -999.000,9, -999.000,9,   2134.0,2,   2310.6,2, 12.6558
     316N142_3,  AR15,   136,  1,     31,     31,2,19940515,2304,-17.9485, -31.6647, 4624,    410.5,  10.2199,  34.8553,2,  34.8574,2,    160.4,2,    158.4,2,    10.82,2,    21.57,2,     0.00,2,     1.50,2,    1.322,2,    0.656,2,    0.517,2,   2161.3,2,   2298.0,2, 10.1712
     316N142_3,  AR15,   136,  1,     37,     37,2,19940515,2304,-17.9485, -31.6647, 4624,    491.1,   8.1575,  34.6562,2,  34.6564,2,    156.3,2,    154.9,2,    15.79,2,    26.51,2,     0.00,2,     1.81,2, -999.000,9, -999.000,9, -999.000,9,   2180.0,2,   2292.5,2,  8.1065
     316N142_3,  AR15,   136,  1,     29,     29,2,19940515,2304,-17.9485, -31.6647, 4624,    571.6,   6.6363,  34.5303,2,  34.5284,2,    161.1,2,    160.9,2,    20.60,2,    29.27,2,     0.00,2,     2.00,2,    0.569,2,    0.253,2,    1.057,2,   2191.2,2,   2291.2,2,  6.5833
     316N142_3,  AR15,   136,  1,     28,     28,2,19940515,2304,-17.9485, -31.6647, 4624,    701.9,   4.7528,  34.4045,2,  34.4027,2,    180.5,2,    182.4,2,    29.02,2,    31.19,2,     0.00,2,     2.16,2,    0.370,2,    0.170,2,    0.945,2,   2194.7,2,   2294.0,2,  4.6973
     316N142_3,  AR15,   136,  1,     27,     27,2,19940515,2304,-17.9485, -31.6647, 4624,    837.7,   3.9699,  34.4226,2,  34.4208,2,    180.1,2,    183.3,2,    36.67,2,    32.04,2,     0.00,2,     2.24,2,    0.248,8,    0.080,6,    0.668,6,   2206.7,2,   2299.8,2,  3.9079
     316N142_3,  AR15,   136,  1,     26,     26,2,19940515,2304,-17.9485, -31.6647, 4624,    972.7,   3.6738,  34.4930,2,  34.4900,2,    183.2,2,    182.9,2,    40.41,2,    31.72,2,     0.00,2,     2.22,2, -999.000,9, -999.000,9, -999.000,9,   2212.5,2,   2306.9,2,  3.6028
     316N142_3,  AR15,   136,  1,     25,     25,2,19940515,2304,-17.9485, -31.6647, 4624,   1092.5,   3.6895,  34.5867,2,  34.5854,2,    182.6,2,    183.3,2,    39.44,2,    30.66,2,     0.00,2,     2.14,2,    0.053,4,    0.028,2,    0.429,2,   2214.7,2,   2310.7,2,  3.6086
     316N142_3,  AR15,   136,  1,     24,     24,2,19940515,2304,-17.9485, -31.6647, 4624,   1204.2,   3.8421,  34.6932,2,  34.6914,2,    188.1,2,    187.9,2,    35.18,2,    28.85,2,     0.00,2,     2.00,2, -999.000,9, -999.000,9, -999.000,9,   -999.0,9,   -999.0,9,  3.7502
     316N142_3,  AR15,   136,  1,     23,     23,2,19940515,2304,-17.9485, -31.6647, 4624,   1315.9,   3.9735,  34.7879,2,  34.7868,2,    198.6,2,    197.3,2,    30.46,2,    26.68,2,     0.00,2,     1.85,2, -999.000,9,    0.021,2,    0.106,2,   2198.4,2,   2311.3,2,  3.8705
     316N142_3,  AR15,   136,  1,     22,     22,2,19940515,2304,-17.9485, -31.6647, 4624,   1436.5,   3.9981,  34.8680,2,  34.8681,2,    215.2,2,    212.1,2,    26.37,2,    24.29,2,     0.00,2,     1.67,2, -999.000,9, -999.000,9, -999.000,9,   -999.0,9,   -999.0,9,  3.8839
     316N142_3,  AR15,   136,  1,     21,     21,2,19940515,2304,-17.9485, -31.6647, 4624,   1568.4,   3.8459,  34.9131,2,  34.9109,2,    227.4,2,    226.9,2,    24.63,2,    22.43,2,     0.00,2,     1.53,2, -999.000,9,    0.017,2,    0.209,2,   2180.4,2,   2311.9,2,  3.7214
     316N142_3,  AR15,   136,  1,     20,     20,2,19940515,2304,-17.9485, -31.6647, 4624,   1701.0,   3.7181,  34.9437,2,  34.9435,2,    239.4,2,    240.0,2,    22.42,2,    20.84,2,     0.00,2,     1.42,2, -999.000,9,    0.019,6,    0.177,6,   -999.0,9,   -999.0,9,  3.5830
     316N142_3,  AR15,   136,  1,     19,     19,2,19940515,2304,-17.9485, -31.6647, 4624,   1781.4,   3.5624,  34.9391,2,  34.9402,2,    242.7,2,    242.3,2,    23.80,2,    20.79,2,     0.00,2,     1.41,2, -999.000,9, -999.000,9, -999.000,9,   2171.4,2,   2314.8,2,  3.4219
     316N142_3,  AR15,   136,  1,     40,     40,2,19940515,2304,-17.9485, -31.6647, 4624,   1894.3,   3.4477,  34.9431,2,  34.9447,2,    246.7,2,    246.0,2,    24.09,2,    20.42,2,     0.00,2,     1.38,2, -999.000,9,    0.019,2,    0.133,2,   -999.0,9,   -999.0,9,  3.2983
     316N142_3,  AR15,   136,  1,     17,     17,2,19940515,2304,-17.9485, -31.6647, 4624,   2087.1,   3.2235,  34.9373,2,  34.9347,2,    248.5,2,    248.4,2,    26.72,2,    20.42,2,     0.00,2,     1.39,2, -999.000,9, -999.000,9, -999.000,9,   2171.8,2,   2317.4,2,  3.0595
     316N142_3,  AR15,   136,  1,     16,     16,2,19940515,2304,-17.9485, -31.6647, 4624,   2279.4,   3.0649,  34.9309,2,  34.9294,2,    251.0,2,    248.8,2,    29.19,2,    20.59,2,     0.00,2,     1.40,2, -999.000,9,    0.025,2,    0.133,2,   -999.0,9,   -999.0,9,  2.8852
     316N142_3,  AR15,   136,  1,     15,     15,2,19940515,2304,-17.9485, -31.6647, 4624,   2472.4,   2.9015,  34.9163,2,  34.9137,2,    247.3,2,    246.2,2,    33.54,2,    21.22,2,     0.00,2,     1.44,2, -999.000,9,    0.015,2,    0.208,2,   2180.5,2,   2323.2,2,  2.7061
     316N142_3,  AR15,   136,  1,     14,     14,2,19940515,2304,-17.9485, -31.6647, 4624,   2665.6,   2.8372,  34.9158,2,  34.9141,2,    248.6,2,    247.3,2,    34.46,2,    21.17,2,     0.00,2,     1.44,2, -999.000,9, -999.000,9, -999.000,9,   -999.0,9,   -999.0,9,  2.6241
     316N142_3,  AR15,   136,  1,     13,     13,2,19940515,2304,-17.9485, -31.6647, 4624,   2868.7,   2.7674,  34.9134,2,  34.9125,2,    248.9,2,    247.7,2,    35.84,2,    21.12,2,     0.00,2,     1.44,2, -999.000,9, -999.000,9, -999.000,9,   2181.8,2,   2326.2,2,  2.5353
     316N142_3,  AR15,   136,  1,     12,     12,2,19940515,2304,-17.9485, -31.6647, 4624,   3071.3,   2.7128,  34.9131,2,  34.9129,2,    250.0,2,    249.7,2,    35.50,2,    20.91,2,     0.00,2,     1.43,2, -999.000,9,    0.006,2,    0.084,2,   -999.0,9,   -999.0,9,  2.4609
     316N142_3,  AR15,   136,  1,     11,     11,2,19940515,2304,-17.9485, -31.6647, 4624,   3274.3,   2.6312,  34.9084,2,  34.9082,2,    251.2,2,    251.0,2,    36.73,2,    20.86,2,     0.00,2,     1.43,2, -999.000,9, -999.000,9, -999.000,9,   2180.0,2,   2327.2,2,  2.3599
     316N142_3,  AR15,   136,  1,     10,     10,2,19940515,2304,-17.9485, -31.6647, 4624,   3479.9,   2.5319,  34.9019,2,  34.9013,2,    251.9,2,    252.2,2,    38.27,2,    20.91,2,     0.00,2,     1.43,2, -999.000,9, -999.000,9, -999.000,9,   -999.0,9,   -999.0,9,  2.2409
     316N142_3,  AR15,   136,  1,      9,      9,2,19940515,2304,-17.9485, -31.6647, 4624,   3633.2,   2.4114,  34.8922,2,  34.8909,2,    252.3,2,    252.1,2,    41.22,2,    21.13,2,     0.00,2,     1.45,2, -999.000,9,    0.040,2,    0.099,2,   2186.0,2,   2330.8,2,  2.1068
     316N142_3,  AR15,   136,  1,      8,      8,2,19940515,2304,-17.9485, -31.6647, 4624,   3784.2,   2.2250,  34.8734,2,  34.8734,2,    249.1,2,    249.7,2,    47.93,2,    22.03,2,     0.00,2,     1.53,2, -999.000,9, -999.000,9, -999.000,9,   -999.0,9,   -999.0,9,  1.9087
     316N142_3,  AR15,   136,  1,      7,      7,2,19940515,2304,-17.9485, -31.6647, 4624,   3938.0,   1.9587,  34.8454,2,  34.8464,2,    245.3,2,    245.2,2,    58.30,2,    23.41,2,     0.00,2,     1.63,2, -999.000,9,    0.013,2,    0.184,2,   2204.5,2,   2340.3,2,  1.6328
     316N142_3,  AR15,   136,  1,      6,      6,2,19940515,2304,-17.9485, -31.6647, 4624,   4092.3,   1.6555,  34.8119,2,  34.8134,2,    240.3,2,    239.1,2,    71.26,2,    25.22,2,     0.00,2,     1.75,2, -999.000,9, -999.000,9, -999.000,9,   -999.0,9,   -999.0,9,  1.3212
     316N142_3,  AR15,   136,  1,      5,      5,2,19940515,2304,-17.9485, -31.6647, 4624,   4244.7,   1.2828,  34.7725,2,  34.7721,2,    232.9,2,    232.1,2,    86.27,2,    27.29,2,     0.00,2,     1.90,2, -999.000,9,    0.014,2,    0.049,2,   2232.2,2,   2353.6,2,  0.9427
     316N142_3,  AR15,   136,  1,      4,      4,2,19940515,2304,-17.9485, -31.6647, 4624,   4400.8,   0.9669,  34.7385,2,  34.7374,2,    227.6,2,    227.1,2,    98.68,2,    28.99,2,     0.00,2,     2.04,2, -999.000,9,    0.014,2,    0.113,2,   -999.0,9,   -999.0,9,  0.6193
     316N142_3,  AR15,   136,  1,      3,      3,2,19940515,2304,-17.9485, -31.6647, 4624,   4552.5,   0.5869,  34.7006,2,  34.7013,2,    222.7,2,    222.3,2,   113.05,2,    30.74,2,     0.00,2,     2.17,2, -999.000,9,    0.035,6,    0.290,6,   2258.3,2,   2362.8,2,  0.2346
     316N142_3,  AR15,   136,  1,      2,      2,2,19940515,2304,-17.9485, -31.6647, 4624,   4662.9,   0.4093,  34.6832,2,  34.6835,2,    221.5,2,    221.1,2,   119.29,2,    31.64,2,     0.00,2,     2.23,2, -999.000,9,    0.057,6,    0.452,6,   -999.0,9,   -999.0,9,  0.0506
     316N142_3,  AR15,   136,  1,      1,      1,2,19940515,2304,-17.9485, -31.6647, 4624,   4716.6,   0.4146,  34.6831,2,  34.6845,2,    221.2,2,    220.9,2,   119.92,2,    31.64,2,     0.00,2,     2.23,2, -999.000,9,    0.049,2,    0.297,2,   2263.3,2,   2361.4,2,  0.0497