BOTTLE,20020814WHPSIOKJU
EXPOCODE,SECT_ID,STNNBR,CASTNO,SAMPNO,BTLNBR,BTLNBR_FLAG_W,DATE,TIME,LATITUDE,LONGITUDE,DEPTH,CTDPRS,CTDTMP,CTDSAL,CTDSAL_FLAG_W,SALNTY,SALNTY_FLAG_W,CTDOXY,CTDOXY_FLAG_W,OXYGEN,OXYGEN_FLAG_W,SILCAT,SILCAT_FLAG_W,NITRAT,NITRAT_FLAG_W,NITRIT,NITRIT_FLAG_W,PHSPHT,PHSPHT_FLAG_W,CFC-11,CFC-11_FLAG_W,CFC-12,CFC-12_FLAG_W,CCL4,CCL4_FLAG_W,TCARBN,TCARBN_FLAG_W,ALKALI,ALKALI_FLAG_W,THETA
,,,,,,,,,,,,DBAR,ITS-90,PSS-78,,PSS-78,,UMOL/KG,,UMOL/KG,,UMOL/KG,,UMOL/KG,,UMOL/KG,,UMOL/KG,,PMOL/KG,,PMOL/KG,,PMOL/KG,,UMOL/KG,,UMOL/KG,,DEG C
     316N142_3,  AR15,   133,  1,     39,     39,2,19940515,0501,-17.7287, -30.0058, 4794,      9.5,  26.9442,  37.4198,2,  37.4196,2,    200.1,2,    200.8,2,     1.63,2,     0.00,2,     0.00,4,     0.13,2, -999.000,9, -999.000,9, -999.000,9,   -999.0,9,   -999.0,9, 26.9420
     316N142_3,  AR15,   133,  1,     35,     35,2,19940515,0501,-17.7287, -30.0058, 4794,     99.0,  24.3723,  36.9395,2,  36.9321,2,    221.0,2,    220.7,2,     1.62,2,     0.04,2,     0.01,4,     0.17,2, -999.000,9, -999.000,9, -999.000,9,   -999.0,9,   -999.0,9, 24.3511
     316N142_3,  AR15,   133,  1,     38,     38,2,19940515,0501,-17.7287, -30.0058, 4794,    204.4,  18.1217,  35.9569,2,  35.9561,2,    201.4,2,    194.3,2,     2.24,2,     3.55,2,     0.04,4,     0.47,2, -999.000,9, -999.000,9, -999.000,9,   -999.0,9,   -999.0,9, 18.0863
     316N142_3,  AR15,   133,  1,     33,     33,9,19940515,0501,-17.7287, -30.0058, 4794,    306.0,  12.9180,  35.1629,2,-999.0000,9,    178.0,2,   -999.0,9,  -999.00,9,  -999.00,9,  -999.00,9,  -999.00,9, -999.000,9, -999.000,9, -999.000,9,   -999.0,9,   -999.0,9, 12.8759
     316N142_3,  AR15,   133,  1,     41,     41,2,19940515,0501,-17.7287, -30.0058, 4794,    415.7,   9.8606,  34.8132,2,  34.8123,2,    167.1,2,    162.7,2,    11.07,2,    22.14,2,     0.06,4,     1.51,2, -999.000,9, -999.000,9, -999.000,9,   -999.0,9,   -999.0,9,  9.8123
     316N142_3,  AR15,   133,  1,     31,     31,2,19940515,0501,-17.7287, -30.0058, 4794,    526.5,   7.4090,  34.5982,2,  34.5949,2,    151.2,2,    150.8,2,    18.79,2,    29.00,2,     0.02,4,     1.95,2, -999.000,9, -999.000,9, -999.000,9,   -999.0,9,   -999.0,9,  7.3572
     316N142_3,  AR15,   133,  1,     37,     37,2,19940515,0501,-17.7287, -30.0058, 4794,    640.9,   5.6334,  34.4649,2,  34.4641,2,    164.5,2,    165.0,2,    25.09,2,    31.31,2,     0.00,2,     2.13,2, -999.000,9, -999.000,9, -999.000,9,   -999.0,9,   -999.0,9,  5.5786
     316N142_3,  AR15,   133,  1,     29,     29,2,19940515,0501,-17.7287, -30.0058, 4794,    757.3,   4.5294,  34.4199,2,  34.4176,2,    173.9,2,    175.0,2,    32.03,2,    32.33,2,     0.00,2,     2.23,2, -999.000,9, -999.000,9, -999.000,9,   -999.0,9,   -999.0,9,  4.4705
     316N142_3,  AR15,   133,  1,     28,     28,2,19940515,0501,-17.7287, -30.0058, 4794,    883.3,   3.8917,  34.4434,2,  34.4400,2,    178.8,2,    180.9,2,    37.86,2,    32.43,2,     0.00,2,     2.25,2, -999.000,9, -999.000,9, -999.000,9,   -999.0,9,   -999.0,9,  3.8265
     316N142_3,  AR15,   133,  1,     27,     27,2,19940515,0501,-17.7287, -30.0058, 4794,   1010.3,   3.6988,  34.5237,2,  34.5202,2,    179.3,2,    181.2,2,    40.05,2,    31.78,2,     0.00,2,     2.21,2, -999.000,9, -999.000,9, -999.000,9,   -999.0,9,   -999.0,9,  3.6246
     316N142_3,  AR15,   133,  1,     26,     26,2,19940515,0501,-17.7287, -30.0058, 4794,   1171.6,   3.8203,  34.6659,2,  34.6634,2,    184.5,2,    185.0,2,    36.05,2,    29.68,2,     0.00,2,     2.05,2, -999.000,9, -999.000,9, -999.000,9,   -999.0,9,   -999.0,9,  3.7314
     316N142_3,  AR15,   133,  1,     25,     25,2,19940515,0501,-17.7287, -30.0058, 4794,   1322.2,   3.9329,  34.7912,2,  34.7906,2,    198.5,2,    197.9,2,    30.48,2,    26.78,2,     0.00,2,     1.85,2, -999.000,9, -999.000,9, -999.000,9,   -999.0,9,   -999.0,9,  3.8298
     316N142_3,  AR15,   133,  1,     24,     24,2,19940515,0501,-17.7287, -30.0058, 4794,   1453.5,   3.9169,  34.8647,2,  34.8632,2,    213.0,2,    212.6,2,    26.98,2,    24.47,2,     0.00,2,     1.67,2, -999.000,9, -999.000,9, -999.000,9,   -999.0,9,   -999.0,9,  3.8021
     316N142_3,  AR15,   133,  1,     23,     23,2,19940515,0501,-17.7287, -30.0058, 4794,   1585.0,   3.7407,  34.9037,2,  34.9015,2,    227.4,2,    226.3,2,    25.69,2,    22.70,2,     0.00,2,     1.55,2, -999.000,9, -999.000,9, -999.000,9,   -999.0,9,   -999.0,9,  3.6160
     316N142_3,  AR15,   133,  1,     22,     22,2,19940515,0501,-17.7287, -30.0058, 4794,   1716.9,   3.5758,  34.9218,2,  34.9200,2,    236.5,2,    235.7,2,    25.19,2,    21.62,2,     0.00,2,     1.48,2, -999.000,9, -999.000,9, -999.000,9,   -999.0,9,   -999.0,9,  3.4411
     316N142_3,  AR15,   133,  1,     21,     21,2,19940515,0501,-17.7287, -30.0058, 4794,   1848.1,   3.4022,  34.9236,2,  34.9210,2,    241.1,2,    240.1,2,    26.58,2,    21.30,2,     0.00,2,     1.46,2, -999.000,9, -999.000,9, -999.000,9,   -999.0,9,   -999.0,9,  3.2578
     316N142_3,  AR15,   133,  1,     20,     20,2,19940515,0501,-17.7287, -30.0058, 4794,   1979.9,   3.2679,  34.9314,2,  34.9281,2,    245.2,2,    245.1,2,    26.87,2,    20.81,2,     0.00,2,     1.42,2, -999.000,9, -999.000,9, -999.000,9,   -999.0,9,   -999.0,9,  3.1132
     316N142_3,  AR15,   133,  1,     19,     19,2,19940515,0501,-17.7287, -30.0058, 4794,   2122.1,   3.1345,  34.9280,2,  34.9265,2,    247.5,2,    246.1,2,    28.89,2,    20.86,2,     0.00,2,     1.43,2, -999.000,9, -999.000,9, -999.000,9,   -999.0,9,   -999.0,9,  2.9687
     316N142_3,  AR15,   133,  1,     40,     40,2,19940515,0501,-17.7287, -30.0058, 4794,   2273.9,   3.0337,  34.9263,2,  34.9263,2,    246.2,2,    247.5,2,    30.27,2,    20.86,2,     0.00,2,     1.42,2, -999.000,9, -999.000,9, -999.000,9,   -999.0,9,   -999.0,9,  2.8551
     316N142_3,  AR15,   133,  1,     17,     17,2,19940515,0501,-17.7287, -30.0058, 4794,   2425.7,   2.9143,  34.9176,2,  34.9153,2,    246.5,2,    246.2,2,    33.39,2,    21.17,2,     0.00,2,     1.44,2, -999.000,9, -999.000,9, -999.000,9,   -999.0,9,   -999.0,9,  2.7232
     316N142_3,  AR15,   133,  1,     16,     16,2,19940515,0501,-17.7287, -30.0058, 4794,   2576.9,   2.8363,  34.9112,2,  34.9075,3,    245.6,2,    245.2,2,    35.57,2,    21.49,2,     0.00,2,     1.46,2, -999.000,9, -999.000,9, -999.000,9,   -999.0,9,   -999.0,9,  2.6320
     316N142_3,  AR15,   133,  1,     15,     15,2,19940515,0501,-17.7287, -30.0058, 4794,   2728.3,   2.7975,  34.9122,2,  34.9079,4,    246.4,2,    246.2,2,    35.85,2,    21.43,2,     0.00,2,     1.45,2, -999.000,9, -999.000,9, -999.000,9,   -999.0,9,   -999.0,9,  2.5789
     316N142_3,  AR15,   133,  1,     14,     14,2,19940515,0501,-17.7287, -30.0058, 4794,   2879.1,   2.7452,  34.9092,2,  34.9061,3,    246.1,2,    246.2,2,    36.92,2,    21.42,2,     0.00,2,     1.46,2, -999.000,9, -999.000,9, -999.000,9,   -999.0,9,   -999.0,9,  2.5124
     316N142_3,  AR15,   133,  1,     13,     13,2,19940515,0501,-17.7287, -30.0058, 4794,   3033.6,   2.6912,  34.9048,2,  34.9036,2,    245.7,2,    245.6,2,    38.78,2,    21.58,2,     0.00,2,     1.48,2, -999.000,9, -999.000,9, -999.000,9,   -999.0,9,   -999.0,9,  2.4438
     316N142_3,  AR15,   133,  1,     12,     12,2,19940515,0501,-17.7287, -30.0058, 4794,   3188.6,   2.6546,  34.9049,2,  34.9046,2,    246.4,2,    247.2,2,    38.59,2,    21.42,2,     0.00,2,     1.46,2, -999.000,9, -999.000,9, -999.000,9,   -999.0,9,   -999.0,9,  2.3918
     316N142_3,  AR15,   133,  1,     11,     11,2,19940515,0501,-17.7287, -30.0058, 4794,   3368.5,   2.5794,  34.9004,2,  34.8993,2,    248.0,2,    248.0,2,    39.97,2,    21.41,2,     0.00,2,     1.47,2, -999.000,9, -999.000,9, -999.000,9,   -999.0,9,   -999.0,9,  2.2992
     316N142_3,  AR15,   133,  1,     10,     10,2,19940515,0501,-17.7287, -30.0058, 4794,   3547.2,   2.4967,  34.8953,2,  34.8928,2,    249.2,2,    249.4,2,    41.04,2,    21.35,2,     0.00,2,     1.48,2, -999.000,9, -999.000,9, -999.000,9,   -999.0,9,   -999.0,9,  2.1993
     316N142_3,  AR15,   133,  1,      9,      9,2,19940515,0501,-17.7287, -30.0058, 4794,   3704.0,   2.3953,  34.8894,2,  34.8863,2,    250.8,2,    251.3,2,    42.26,2,    21.30,2,     0.00,2,     1.47,2, -999.000,9, -999.000,9, -999.000,9,   -999.0,9,   -999.0,9,  2.0833
     316N142_3,  AR15,   133,  1,      8,      8,2,19940515,0501,-17.7287, -30.0058, 4794,   3828.8,   2.2648,  34.8773,2,  34.8752,2,    249.4,2,    250.2,2,    46.32,2,    21.77,2,     0.00,2,     1.51,2, -999.000,9, -999.000,9, -999.000,9,   -999.0,9,   -999.0,9,  1.9425
     316N142_3,  AR15,   133,  1,      7,      7,2,19940515,0501,-17.7287, -30.0058, 4794,   3955.9,   2.1044,  34.8617,2,  34.8612,2,    247.7,2,    248.5,2,    51.64,2,    22.46,2,     0.00,2,     1.55,2, -999.000,9, -999.000,9, -999.000,9,   -999.0,9,   -999.0,9,  1.7724
     316N142_3,  AR15,   133,  1,      6,      6,2,19940515,0501,-17.7287, -30.0058, 4794,   4109.3,   1.8663,  34.8354,2,  34.8357,2,    243.7,2,    244.0,2,    61.73,2,    23.90,2,     0.00,2,     1.65,2, -999.000,9, -999.000,9, -999.000,9,   -999.0,9,   -999.0,9,  1.5239
     316N142_3,  AR15,   133,  1,      5,      5,2,19940515,0501,-17.7287, -30.0058, 4794,   4262.0,   1.6234,  34.8090,2,  34.8090,2,    239.0,2,    239.2,2,    72.02,2,    25.28,2,     0.00,2,     1.76,2, -999.000,9, -999.000,9, -999.000,9,   -999.0,9,   -999.0,9,  1.2710
     316N142_3,  AR15,   133,  1,      4,      4,2,19940515,0501,-17.7287, -30.0058, 4794,   4414.3,   1.3544,  34.7785,2,  34.7774,2,    234.2,2,    233.6,2,    83.99,2,    27.03,2,     0.00,2,     1.88,2, -999.000,9, -999.000,9, -999.000,9,   -999.0,9,   -999.0,9,  0.9931
     316N142_3,  AR15,   133,  1,      3,      3,2,19940515,0501,-17.7287, -30.0058, 4794,   4593.8,   0.9862,  34.7393,2,  34.7376,2,    228.4,2,    227.3,2,    99.48,2,    29.11,2,     0.00,2,     2.03,2, -999.000,9, -999.000,9, -999.000,9,   -999.0,9,   -999.0,9,  0.6162
     316N142_3,  AR15,   133,  1,      2,      2,2,19940515,0501,-17.7287, -30.0058, 4794,   4774.1,   0.4689,  34.6885,2,  34.6887,2,    223.2,2,    221.9,2,   118.15,2,    31.50,2,     0.00,2,     2.21,2, -999.000,9,    0.038,2,    0.273,2,   -999.0,9,   -999.0,9,  0.0957
     316N142_3,  AR15,   133,  1,      1,      1,2,19940515,0501,-17.7287, -30.0058, 4794,   4898.6,   0.3632,  34.6777,2,  34.6784,2,    221.3,2,    221.2,2,   122.39,2,    32.03,2,     0.00,2,     2.24,2, -999.000,9,    0.061,2,    0.365,2,   -999.0,9,   -999.0,9, -0.0206