BOTTLE,20020814WHPSIOKJU
EXPOCODE,SECT_ID,STNNBR,CASTNO,SAMPNO,BTLNBR,BTLNBR_FLAG_W,DATE,TIME,LATITUDE,LONGITUDE,DEPTH,CTDPRS,CTDTMP,CTDSAL,CTDSAL_FLAG_W,SALNTY,SALNTY_FLAG_W,CTDOXY,CTDOXY_FLAG_W,OXYGEN,OXYGEN_FLAG_W,SILCAT,SILCAT_FLAG_W,NITRAT,NITRAT_FLAG_W,NITRIT,NITRIT_FLAG_W,PHSPHT,PHSPHT_FLAG_W,CFC-11,CFC-11_FLAG_W,CFC-12,CFC-12_FLAG_W,CCL4,CCL4_FLAG_W,TCARBN,TCARBN_FLAG_W,ALKALI,ALKALI_FLAG_W,THETA
,,,,,,,,,,,,DBAR,ITS-90,PSS-78,,PSS-78,,UMOL/KG,,UMOL/KG,,UMOL/KG,,UMOL/KG,,UMOL/KG,,UMOL/KG,,PMOL/KG,,PMOL/KG,,PMOL/KG,,UMOL/KG,,UMOL/KG,,DEG C
     316N142_3,   A15,    32,  1,     39,     39,2,19940415,0352,  5.4995, -19.0002, 4800,      3.1,  28.7366,  35.9903,2,  35.9928,2,    203.8,2,    204.2,2,     2.02,2,     0.00,2,     0.00,2,     0.12,4, -999.000,9, -999.000,9, -999.000,9,   1968.4,2,   2348.6,2, 28.7359
     316N142_3,   A15,    32,  1,     35,     35,2,19940415,0352,  5.4995, -19.0002, 4800,     42.0,  24.6504,  36.0901,4,  36.0703,2,   -999.0,5,    194.9,2,     2.75,2,     0.00,2,     0.02,2,     0.16,4, -999.000,9, -999.000,9, -999.000,9,   2055.5,2,   2359.4,2, 24.6413
     316N142_3,   A15,    32,  1,     38,     38,2,19940415,0352,  5.4995, -19.0002, 4800,     85.9,  15.6172,  35.5761,2,  35.5887,2,     80.4,2,     80.0,2,     7.48,2,    21.26,2,     0.02,2,     1.46,4, -999.000,9, -999.000,9, -999.000,9,   2185.8,2,   2325.2,2, 15.6038
     316N142_3,   A15,    32,  1,     33,     33,2,19940415,0352,  5.4995, -19.0002, 4800,    125.8,  14.4309,  35.4568,2,  35.4608,2,     76.9,2,     79.5,2,     8.72,2,    22.87,2,     0.00,2,     1.58,4, -999.000,9, -999.000,9, -999.000,9,   2191.8,2,   2320.6,2, 14.4123
     316N142_3,   A15,    32,  1,     41,     41,2,19940415,0352,  5.4995, -19.0002, 4800,    175.7,  13.7133,  35.3729,2,  35.3825,2,     85.4,2,     87.0,2,     9.20,2,    22.92,2,     0.00,2,     1.60,4, -999.000,9, -999.000,9, -999.000,9,   2189.2,2,   2318.4,2, 13.6882
     316N142_3,   A15,    32,  1,     31,     31,2,19940415,0352,  5.4995, -19.0002, 4800,    231.5,  12.9196,  35.2805,2,  35.2823,2,     90.1,2,     87.6,2,    10.18,2,    24.13,2,     0.00,2,     1.68,4, -999.000,9, -999.000,9, -999.000,9,   2193.7,2,   2311.9,2, 12.8878
     316N142_3,   A15,    32,  1,     37,     37,2,19940415,0352,  5.4995, -19.0002, 4800,    287.3,  11.7945,  35.1668,2,  35.1635,2,     80.4,2,     78.6,2,    12.04,2,    26.91,2,     0.00,2,     1.83,4, -999.000,9, -999.000,9, -999.000,9,   2206.4,2,   2306.9,2, 11.7572
     316N142_3,   A15,    32,  1,     29,     29,2,19940415,0352,  5.4995, -19.0002, 4800,    356.5,  10.0205,  34.9888,2,  34.9913,2,     61.3,2,     58.0,2,    15.89,2,    32.31,2,     0.00,2,     2.13,4, -999.000,9, -999.000,9, -999.000,9,   2231.3,2,   2296.2,2,  9.9787
     316N142_3,   A15,    32,  1,     28,     28,2,19940415,0352,  5.4995, -19.0002, 4800,    447.8,   8.0972,  34.7918,2,  34.7947,2,     73.8,2,     75.3,2,    19.99,2,    34.24,2,     0.00,2,     2.30,4, -999.000,9, -999.000,9, -999.000,9,   2233.0,2,   2291.2,2,  8.0510
     316N142_3,   A15,    32,  1,     27,     27,2,19940415,0352,  5.4995, -19.0002, 4800,    537.3,   7.0381,  34.6884,2,  34.6885,2,     87.7,2,     92.8,2,    23.22,2,    34.66,2,     0.00,2,     2.38,4, -999.000,9, -999.000,9, -999.000,9,   2230.9,2,   2290.2,2,  6.9867
     316N142_3,   A15,    32,  1,     26,     26,2,19940415,0352,  5.4995, -19.0002, 4800,    629.0,   6.5183,  34.6599,2,  34.6630,2,     93.9,2,     94.0,2,    25.32,2,    35.48,2,     0.00,2,     2.46,4, -999.000,9, -999.000,9, -999.000,9,   2232.3,2,   2290.7,2,  6.4602
     316N142_3,   A15,    32,  1,     25,     25,2,19940415,0352,  5.4995, -19.0002, 4800,    729.4,   5.8829,  34.6302,2,  34.6334,2,    102.8,2,    104.1,2,    27.92,2,    35.58,2,     0.00,2,     2.50,4, -999.000,9, -999.000,9, -999.000,9,   2234.6,2,   2292.6,2,  5.8185
     316N142_3,   A15,    32,  1,     24,     24,2,19940415,0352,  5.4995, -19.0002, 4800,    829.5,   5.2494,  34.6069,2,  34.6143,2,    122.6,2,    121.3,2,    30.39,2,    34.71,2,     0.00,2,     2.47,4, -999.000,9, -999.000,9, -999.000,9,   2230.0,2,   2294.9,2,  5.1796
     316N142_3,   A15,    32,  1,     23,     23,2,19940415,0352,  5.4995, -19.0002, 4800,    930.6,   4.8466,  34.6298,2,  34.6330,2,    138.7,2,    139.0,2,    31.62,2,    33.11,2,     0.00,2,     2.39,4, -999.000,9, -999.000,9, -999.000,9,   2224.9,2,   2298.0,2,  4.7704
     316N142_3,   A15,    32,  1,     22,     22,2,19940415,0352,  5.4995, -19.0002, 4800,   1062.1,   4.6986,  34.7280,2,  34.7281,2,    152.9,2,    152.9,2,    29.98,2,    30.95,2,     0.00,2,     2.24,4, -999.000,9, -999.000,9, -999.000,9,   2217.6,2,   2302.8,2,  4.6117
     316N142_3,   A15,    32,  1,     21,     21,2,19940415,0352,  5.4995, -19.0002, 4800,   1213.3,   4.5963,  34.8371,2,  34.8377,2,    170.8,2,    170.7,2,    26.97,2,    28.10,2,     0.00,2,     2.03,4, -999.000,9, -999.000,9, -999.000,9,   2208.5,2,   2306.2,2,  4.4964
     316N142_3,   A15,    32,  1,     20,     20,2,19940415,0352,  5.4995, -19.0002, 4800,   1415.6,   4.2233,  34.9229,2,  34.9253,2,    207.5,2,    205.5,2,    23.34,2,    23.93,2,     0.00,2,     1.75,4, -999.000,9, -999.000,9, -999.000,9,   -999.0,9,   -999.0,9,  4.1085
     316N142_3,   A15,    32,  1,     19,     19,2,19940415,0352,  5.4995, -19.0002, 4800,   1617.4,   3.9415,  34.9527,2,  34.9573,2,    228.3,2,    227.1,2,    21.71,2,    21.65,2,     0.00,2,     1.58,4, -999.000,9, -999.000,9, -999.000,9,   2175.9,2,   -999.0,9,  3.8112
     316N142_3,   A15,    32,  1,     40,     40,2,19940415,0352,  5.4995, -19.0002, 4800,   1819.1,   3.6662,  34.9553,2,  34.9586,2,    237.2,2,    235.7,2,    22.69,2,    20.82,2,     0.00,2,     1.53,4, -999.000,9, -999.000,9, -999.000,9,   -999.0,9,   -999.0,9,  3.5208
     316N142_3,   A15,    32,  1,     17,     17,2,19940415,0352,  5.4995, -19.0002, 4800,   2022.3,   3.4235,  34.9496,2,  34.9527,2,    239.7,2,    238.7,2,    25.16,2,    20.59,2,     0.00,2,     1.51,4, -999.000,9, -999.000,9, -999.000,9,   2176.2,2,   2314.3,2,  3.2625
     316N142_3,   A15,    32,  1,     16,     16,2,19940415,0352,  5.4995, -19.0002, 4800,   2225.2,   3.2212,  34.9434,2,  34.9470,2,    241.6,2,    241.5,2,    27.75,2,    20.54,2,     0.00,2,     1.51,4, -999.000,9, -999.000,9, -999.000,9,   -999.0,9,   -999.0,9,  3.0441
     316N142_3,   A15,    32,  1,     15,     15,2,19940415,0352,  5.4995, -19.0002, 4800,   2377.4,   3.0832,  34.9388,2,  34.9411,2,    240.8,2,    240.6,2,    30.22,2,    20.68,2,     0.00,2,     1.52,4, -999.000,9, -999.000,9, -999.000,9,   2178.9,2,   2320.2,2,  2.8937
     316N142_3,   A15,    32,  1,     14,     14,2,19940415,0352,  5.4995, -19.0002, 4800,   2530.0,   2.9453,  34.9320,2,  34.9348,2,    240.4,2,    241.0,2,    32.69,2,    20.83,2,     0.00,2,     1.53,4, -999.000,9, -999.000,9, -999.000,9,   -999.0,9,   -999.0,9,  2.7434
     316N142_3,   A15,    32,  1,     13,     13,2,19940415,0352,  5.4995, -19.0002, 4800,   2682.7,   2.8327,  34.9264,2,  34.9289,2,    242.0,2,    241.9,2,    34.53,2,    20.92,2,     0.00,2,     1.53,4, -999.000,9, -999.000,9, -999.000,9,   2183.3,2,   2325.5,2,  2.6179
     316N142_3,   A15,    32,  1,     12,     12,2,19940415,0352,  5.4995, -19.0002, 4800,   2835.6,   2.7506,  34.9215,2,  34.9225,2,    242.9,2,    242.5,2,    36.13,2,    20.92,2,     0.00,2,     1.53,4, -999.000,9, -999.000,9, -999.000,9,   -999.0,9,   -999.0,9,  2.5222
     316N142_3,   A15,    32,  1,     11,     11,2,19940415,0352,  5.4995, -19.0002, 4800,   3038.1,   2.6579,  34.9154,2,  34.9191,4,    242.8,2,    242.3,2,    38.10,2,    21.02,2,     0.00,2,     1.54,4, -999.000,9, -999.000,9, -999.000,9,   2187.9,2,   2332.3,2,  2.4107
     316N142_3,   A15,    32,  1,     10,     10,2,19940415,0352,  5.4995, -19.0002, 4800,   3241.4,   2.5563,  34.9086,2,  34.9097,2,    242.8,2,    243.0,2,    40.56,2,    21.21,2,     0.00,2,     1.56,4, -999.000,9, -999.000,9, -999.000,9,   -999.0,9,   -999.0,9,  2.2903
     316N142_3,   A15,    32,  1,      9,      9,2,19940415,0352,  5.4995, -19.0002, 4800,   3444.7,   2.4898,  34.9030,2,  34.9053,2,    242.5,2,    243.0,2,    42.28,2,    21.30,2,     0.00,2,     1.56,4, -999.000,9, -999.000,9, -999.000,9,   2192.8,2,   2339.5,2,  2.2036
     316N142_3,   A15,    32,  1,      8,      8,2,19940415,0352,  5.4995, -19.0002, 4800,   3647.5,   2.4549,  34.8989,2,  34.9030,4,    243.2,2,    242.9,2,    43.50,2,    21.40,2,     0.00,2,     1.57,4, -999.000,9, -999.000,9, -999.000,9,   -999.0,9,   -999.0,9,  2.1476
     316N142_3,   A15,    32,  1,      7,      7,2,19940415,0352,  5.4995, -19.0002, 4800,   3850.7,   2.4147,  34.8942,2,  34.8963,2,    243.0,2,    242.5,2,    45.10,2,    21.54,2,     0.00,2,     1.57,4, -999.000,9, -999.000,9, -999.000,9,   2197.5,2,   2338.9,2,  2.0858
     316N142_3,   A15,    32,  1,      6,      6,2,19940415,0352,  5.4995, -19.0002, 4800,   4056.4,   2.3337,  34.8857,2,  34.8881,2,    242.8,2,    242.4,2,    47.81,2,    21.82,2,     0.00,2,     1.59,4, -999.000,9, -999.000,9, -999.000,9,   -999.0,9,   -999.0,9,  1.9837
     316N142_3,   A15,    32,  1,      5,      5,2,19940415,0352,  5.4995, -19.0002, 4800,   4262.0,   2.2630,  34.8774,2,  34.8810,4,    242.5,2,    242.2,2,    50.64,2,    22.10,2,     0.00,2,     1.61,4, -999.000,9, -999.000,9, -999.000,9,   2203.3,2,   2343.6,2,  1.8913
     316N142_3,   A15,    32,  1,      4,      4,2,19940415,0352,  5.4995, -19.0002, 4800,   4416.1,   2.2309,  34.8729,2,  34.8772,4,    242.7,2,    242.0,2,    52.23,2,    22.29,2,     0.00,2,     1.62,4, -999.000,9, -999.000,9, -999.000,9,   -999.0,9,   -999.0,9,  1.8420
     316N142_3,   A15,    32,  1,      3,      3,2,19940415,0352,  5.4995, -19.0002, 4800,   4569.0,   2.2269,  34.8699,2,  34.8723,2,    243.0,2,    242.2,2,    52.83,2,    22.39,2,     0.00,2,     1.63,4, -999.000,9, -999.000,9, -999.000,9,   2206.2,2,   2344.8,2,  1.8199
     316N142_3,   A15,    32,  1,      2,      2,2,19940415,0352,  5.4995, -19.0002, 4800,   4774.4,   2.2228,  34.8670,2,  34.8690,2,    243.4,2,    241.9,2,    54.05,2,    22.53,2,     0.00,2,     1.64,4, -999.000,9, -999.000,9, -999.000,9,   -999.0,9,   -999.0,9,  1.7910
     316N142_3,   A15,    32,  1,      1,      1,2,19940415,0352,  5.4995, -19.0002, 4800,   4917.7,   2.2400,  34.8672,2,  34.8786,4,    242.3,2,    241.8,2,    54.27,2,    22.49,2,     0.00,2,     1.63,4, -999.000,9, -999.000,9, -999.000,9,   2206.7,2,   2348.3,2,  1.7898