BOTTLE,20020814WHPSIOKJU
EXPOCODE,SECT_ID,STNNBR,CASTNO,SAMPNO,BTLNBR,BTLNBR_FLAG_W,DATE,TIME,LATITUDE,LONGITUDE,DEPTH,CTDPRS,CTDTMP,CTDSAL,CTDSAL_FLAG_W,SALNTY,SALNTY_FLAG_W,CTDOXY,CTDOXY_FLAG_W,OXYGEN,OXYGEN_FLAG_W,SILCAT,SILCAT_FLAG_W,NITRAT,NITRAT_FLAG_W,NITRIT,NITRIT_FLAG_W,PHSPHT,PHSPHT_FLAG_W,CFC-11,CFC-11_FLAG_W,CFC-12,CFC-12_FLAG_W,CCL4,CCL4_FLAG_W,TCARBN,TCARBN_FLAG_W,ALKALI,ALKALI_FLAG_W,THETA
,,,,,,,,,,,,DBAR,ITS-90,PSS-78,,PSS-78,,UMOL/KG,,UMOL/KG,,UMOL/KG,,UMOL/KG,,UMOL/KG,,UMOL/KG,,PMOL/KG,,PMOL/KG,,PMOL/KG,,UMOL/KG,,UMOL/KG,,DEG C
     316N142_3,  AR15,   113,  1,     39,     39,2,19940509,1944,-19.0047, -19.5282, 4558,      6.5,  25.5737,  36.9430,2,  36.9455,2,    205.8,2,    206.8,2,     1.56,2,     0.10,2,     0.00,2,     0.21,2, -999.000,9, -999.000,9, -999.000,9,   -999.0,9,   -999.0,9, 25.5722
     316N142_3,  AR15,   113,  1,     35,     35,2,19940509,1944,-19.0047, -19.5282, 4558,     57.4,  25.5129,  36.9336,2,  36.9410,2,    209.0,2,    207.3,2,     1.19,2,     0.10,2,     0.00,2,     0.21,2, -999.000,9, -999.000,9, -999.000,9,   -999.0,9,   -999.0,9, 25.5002
     316N142_3,  AR15,   113,  1,     38,     38,2,19940509,1944,-19.0047, -19.5282, 4558,     83.3,  22.9831,  36.5685,2,  36.5574,2,    229.6,2,    228.0,2,     1.54,2,     0.10,2,     0.00,2,     0.20,2, -999.000,9, -999.000,9, -999.000,9,   -999.0,9,   -999.0,9, 22.9660
     316N142_3,  AR15,   113,  1,     33,     33,2,19940509,1944,-19.0047, -19.5282, 4558,    187.7,  16.7882,  35.6896,2,  35.6758,2,    206.0,2,    200.2,2,     2.85,2,     3.11,2,     0.00,2,     0.53,2, -999.000,9, -999.000,9, -999.000,9,   -999.0,9,   -999.0,9, 16.7573
     316N142_3,  AR15,   113,  1,     41,     41,2,19940509,1944,-19.0047, -19.5282, 4558,    297.0,  12.5894,  35.1118,2,  35.1211,2,    184.1,2,    180.1,2,     5.96,2,    12.97,2,     0.00,2,     1.03,2, -999.000,9, -999.000,9, -999.000,9,   -999.0,9,   -999.0,9, 12.5492
     316N142_3,  AR15,   113,  1,     31,     31,2,19940509,1944,-19.0047, -19.5282, 4558,    408.8,   9.9155,  34.8249,2,  34.8233,2,    157.3,2,    152.2,2,    11.25,2,    23.03,2,     0.00,2,     1.59,2, -999.000,9, -999.000,9, -999.000,9,   -999.0,9,   -999.0,9,  9.8679
     316N142_3,  AR15,   113,  1,     37,     37,2,19940509,1944,-19.0047, -19.5282, 4558,    509.8,   7.5644,  34.6086,2,  34.6086,2,    147.6,2,    148.7,2,    17.52,2,    29.52,2,     0.00,2,     1.96,2, -999.000,9, -999.000,9, -999.000,9,   -999.0,9,   -999.0,9,  7.5137
     316N142_3,  AR15,   113,  1,     29,     29,2,19940509,1944,-19.0047, -19.5282, 4558,    629.4,   5.5076,  34.4667,2,  34.4664,2,    156.1,2,    157.1,2,    25.88,2,    33.73,2,     0.00,2,     2.21,2, -999.000,9, -999.000,9, -999.000,9,   -999.0,9,   -999.0,9,  5.4545
     316N142_3,  AR15,   113,  1,     28,     28,2,19940509,1944,-19.0047, -19.5282, 4558,    750.4,   4.6412,  34.4303,2,  34.4286,2,    169.4,2,    170.2,2,    31.10,2,    34.24,2,     0.00,2,     2.25,2, -999.000,9, -999.000,9, -999.000,9,   -999.0,9,   -999.0,9,  4.5822
     316N142_3,  AR15,   113,  1,     27,     27,2,19940509,1944,-19.0047, -19.5282, 4558,    830.9,   4.1934,  34.4394,2,  34.4372,2,    172.4,2,    173.7,2,    35.12,2,    34.44,2,     0.00,2,     2.28,2, -999.000,9, -999.000,9, -999.000,9,   -999.0,9,   -999.0,9,  4.1304
     316N142_3,  AR15,   113,  1,     26,     26,2,19940509,1944,-19.0047, -19.5282, 4558,    942.7,   3.8191,  34.4851,2,  34.4831,2,    177.4,2,    178.9,2,    38.91,2,    33.90,2,     0.00,2,     2.25,2, -999.000,9, -999.000,9, -999.000,9,   -999.0,9,   -999.0,9,  3.7495
     316N142_3,  AR15,   113,  1,     25,     25,2,19940509,1944,-19.0047, -19.5282, 4558,   1063.4,   3.6832,  34.5709,2,  34.5688,2,    182.8,2,    182.8,2,    39.88,2,    32.55,2,     0.00,2,     2.18,2, -999.000,9, -999.000,9, -999.000,9,   -999.0,9,   -999.0,9,  3.6048
     316N142_3,  AR15,   113,  1,     24,     24,2,19940509,1944,-19.0047, -19.5282, 4558,   1184.4,   3.7300,  34.6747,2,  34.6761,2,    187.3,2,    189.1,2,    36.81,2,    30.33,2,     0.00,2,     2.04,2, -999.000,9, -999.000,9, -999.000,9,   -999.0,9,   -999.0,9,  3.6409
     316N142_3,  AR15,   113,  1,     23,     23,2,19940509,1944,-19.0047, -19.5282, 4558,   1315.6,   3.7626,  34.7566,2,  34.7546,2,    198.2,2,    198.2,2,    33.87,2,    28.17,2,     0.00,2,     1.90,2, -999.000,9, -999.000,9, -999.000,9,   -999.0,9,   -999.0,9,  3.6618
     316N142_3,  AR15,   113,  1,     22,     22,2,19940509,1944,-19.0047, -19.5282, 4558,   1466.1,   3.6856,  34.8392,2,  34.8386,2,    212.9,2,    213.2,2,    30.45,2,    25.27,2,     0.00,2,     1.73,2, -999.000,9, -999.000,9, -999.000,9,   -999.0,9,   -999.0,9,  3.5723
     316N142_3,  AR15,   113,  1,     21,     21,2,19940509,1944,-19.0047, -19.5282, 4558,   1607.4,   3.5125,  34.8803,2,  34.8795,2,    226.6,2,    226.0,2,    29.46,2,    23.36,2,     0.00,2,     1.62,2, -999.000,9, -999.000,9, -999.000,9,   -999.0,9,   -999.0,9,  3.3886
     316N142_3,  AR15,   113,  1,     20,     20,2,19940509,1944,-19.0047, -19.5282, 4558,   1749.6,   3.3813,  34.9038,2,  34.9034,2,    234.8,2,    234.8,2,    28.60,2,    22.13,2,     0.00,2,     1.53,2, -999.000,9, -999.000,9, -999.000,9,   -999.0,9,   -999.0,9,  3.2462
     316N142_3,  AR15,   113,  1,     19,     19,2,19940509,1944,-19.0047, -19.5282, 4558,   1852.9,   3.3419,  34.9182,2,  34.9166,2,    237.8,2,    239.9,2,    27.87,2,    21.33,2,     0.00,2,     1.49,2, -999.000,9, -999.000,9, -999.000,9,   -999.0,9,   -999.0,9,  3.1979
     316N142_3,  AR15,   113,  1,     40,     40,2,19940509,1944,-19.0047, -19.5282, 4558,   2003.5,   3.1460,  34.9043,2,  34.9048,2,    239.5,2,    239.1,2,    31.76,2,    21.83,2,     0.00,2,     1.52,2, -999.000,9, -999.000,9, -999.000,9,   -999.0,9,   -999.0,9,  2.9911
     316N142_3,  AR15,   113,  1,     17,     17,2,19940509,1944,-19.0047, -19.5282, 4558,   2125.3,   3.0278,  34.9073,2,  34.9070,2,    241.9,2,    241.4,2,    33.10,2,    21.59,2,     0.00,2,     1.51,2, -999.000,9, -999.000,9, -999.000,9,   -999.0,9,   -999.0,9,  2.8634
     316N142_3,  AR15,   113,  1,     16,     16,2,19940509,1944,-19.0047, -19.5282, 4558,   2277.5,   2.9270,  34.9039,2,  34.9033,2,    242.7,2,    241.5,2,    35.30,2,    21.79,2,     0.00,2,     1.51,2, -999.000,9, -999.000,9, -999.000,9,   -999.0,9,   -999.0,9,  2.7499
     316N142_3,  AR15,   113,  1,     15,     15,2,19940509,1944,-19.0047, -19.5282, 4558,   2430.5,   2.8412,  34.9007,2,  34.9003,2,    242.4,2,    241.6,2,    37.02,2,    21.86,2,     0.00,2,     1.52,2, -999.000,9, -999.000,9, -999.000,9,   -999.0,9,   -999.0,9,  2.6511
     316N142_3,  AR15,   113,  1,     14,     14,2,19940509,1944,-19.0047, -19.5282, 4558,   2582.0,   2.7704,  34.8980,2,  34.8980,2,    241.6,2,    241.8,2,    38.86,2,    22.05,2,     0.00,2,     1.52,2, -999.000,9, -999.000,9, -999.000,9,   -999.0,9,   -999.0,9,  2.5669
     316N142_3,  AR15,   113,  1,     13,     13,2,19940509,1944,-19.0047, -19.5282, 4558,   2734.6,   2.7242,  34.8963,2,  34.8960,2,    241.8,2,    242.1,2,    39.96,2,    22.12,2,     0.00,2,     1.53,2, -999.000,9, -999.000,9, -999.000,9,   -999.0,9,   -999.0,9,  2.5065
     316N142_3,  AR15,   113,  1,     12,     12,2,19940509,1944,-19.0047, -19.5282, 4558,   2886.5,   2.6877,  34.8954,2,  34.8952,2,    242.2,2,    242.4,2,    40.70,2,    22.19,2,     0.00,2,     1.53,2, -999.000,9, -999.000,9, -999.000,9,   -999.0,9,   -999.0,9,  2.4555
     316N142_3,  AR15,   113,  1,     11,     11,2,19940509,1944,-19.0047, -19.5282, 4558,   3090.9,   2.6342,  34.8943,2,  34.8941,2,    243.8,2,    243.2,2,    41.68,2,    22.20,2,     0.00,2,     1.53,2, -999.000,9, -999.000,9, -999.000,9,   -999.0,9,   -999.0,9,  2.3822
     316N142_3,  AR15,   113,  1,     10,     10,2,19940509,1944,-19.0047, -19.5282, 4558,   3295.2,   2.5353,  34.8887,2,  34.8884,2,    245.1,2,    244.4,2,    44.02,2,    22.39,2,     0.00,2,     1.54,2, -999.000,9, -999.000,9, -999.000,9,   -999.0,9,   -999.0,9,  2.2641
     316N142_3,  AR15,   113,  1,      9,      9,2,19940509,1944,-19.0047, -19.5282, 4558,   3448.1,   2.4507,  34.8849,2,  34.8839,2,    244.2,2,    245.6,2,    45.63,2,    22.46,2,     0.00,2,     1.54,2, -999.000,9, -999.000,9, -999.000,9,   -999.0,9,   -999.0,9,  2.1653
     316N142_3,  AR15,   113,  1,      8,      8,2,19940509,1944,-19.0047, -19.5282, 4558,   3602.1,   2.2829,  34.8700,2,  34.8727,2,    248.1,2,    244.7,2,    49.97,2,    22.97,2,     0.00,2,     1.58,2, -999.000,9, -999.000,9, -999.000,9,   -999.0,9,   -999.0,9,  1.9851
     316N142_3,  AR15,   113,  1,      7,      7,2,19940509,1944,-19.0047, -19.5282, 4558,   3754.9,   2.1142,  34.8576,2,  34.8577,2,    244.5,2,    245.7,2,    55.59,2,    23.60,2,     0.00,2,     1.61,2, -999.000,9, -999.000,9, -999.000,9,   -999.0,9,   -999.0,9,  1.8042
     316N142_3,  AR15,   113,  1,      6,      6,2,19940509,1944,-19.0047, -19.5282, 4558,   3908.5,   1.8684,  34.8328,2,  34.8336,2,    242.2,2,    241.5,2,    64.91,2,    24.92,2,     0.00,2,     1.71,2, -999.000,9, -999.000,9, -999.000,9,   -999.0,9,   -999.0,9,  1.5483
     316N142_3,  AR15,   113,  1,      5,      5,2,19940509,1944,-19.0047, -19.5282, 4558,   4060.8,   1.6100,  34.8046,2,  34.8049,2,    237.1,2,    236.8,2,    75.88,2,    26.55,2,     0.00,2,     1.81,2, -999.000,9, -999.000,9, -999.000,9,   -999.0,9,   -999.0,9,  1.2806
     316N142_3,  AR15,   113,  1,      4,      4,2,19940509,1944,-19.0047, -19.5282, 4558,   4215.6,   1.4597,  34.7888,2,  34.7890,2,    235.1,2,    234.8,2,    81.69,2,    27.38,2,     0.00,2,     1.88,2, -999.000,9, -999.000,9, -999.000,9,   -999.0,9,   -999.0,9,  1.1175
     316N142_3,  AR15,   113,  1,      3,      3,2,19940509,1944,-19.0047, -19.5282, 4558,   4420.1,   1.2981,  34.7719,2,  34.7716,2,    234.0,2,    232.7,2,    88.35,2,    28.39,2,     0.00,2,     1.93,2, -999.000,9, -999.000,9, -999.000,9,   -999.0,9,   -999.0,9,  0.9379
     316N142_3,  AR15,   113,  1,      2,      2,2,19940509,1944,-19.0047, -19.5282, 4558,   4574.6,   1.1706,  34.7583,2,  34.7594,2,    231.6,2,    231.0,2,    93.49,2,    29.02,2,     0.00,2,     1.98,2, -999.000,9, -999.000,9, -999.000,9,   -999.0,9,   -999.0,9,  0.7968
     316N142_3,  AR15,   113,  1,      1,      1,2,19940509,1944,-19.0047, -19.5282, 4558,   4677.6,   1.0232,  34.7432,2,  34.7433,2,    230.9,2,    229.2,2,    98.80,2,    29.91,2,     0.00,2,     2.04,2, -999.000,9, -999.000,9, -999.000,9,   -999.0,9,   -999.0,9,  0.6424