BOTTLE,20020814WHPSIOKJU
EXPOCODE,SECT_ID,STNNBR,CASTNO,SAMPNO,BTLNBR,BTLNBR_FLAG_W,DATE,TIME,LATITUDE,LONGITUDE,DEPTH,CTDPRS,CTDTMP,CTDSAL,CTDSAL_FLAG_W,SALNTY,SALNTY_FLAG_W,CTDOXY,CTDOXY_FLAG_W,OXYGEN,OXYGEN_FLAG_W,SILCAT,SILCAT_FLAG_W,NITRAT,NITRAT_FLAG_W,NITRIT,NITRIT_FLAG_W,PHSPHT,PHSPHT_FLAG_W,CFC-11,CFC-11_FLAG_W,CFC-12,CFC-12_FLAG_W,CCL4,CCL4_FLAG_W,TCARBN,TCARBN_FLAG_W,ALKALI,ALKALI_FLAG_W,THETA
,,,,,,,,,,,,DBAR,ITS-90,PSS-78,,PSS-78,,UMOL/KG,,UMOL/KG,,UMOL/KG,,UMOL/KG,,UMOL/KG,,UMOL/KG,,PMOL/KG,,PMOL/KG,,PMOL/KG,,UMOL/KG,,UMOL/KG,,DEG C
     316N142_3,   A15,    83,  1,     39,     39,2,19940429,0410,-19.1657, -19.0010, 4667,      6.7,  26.2004,  37.0013,2,  37.0008,2,    202.4,2,    204.6,2,     1.66,2,     0.22,2,     0.00,2,     0.22,2, -999.000,9, -999.000,9, -999.000,9,   -999.0,9,   -999.0,9, 26.1989
     316N142_3,   A15,    83,  1,     35,     35,2,19940429,0410,-19.1657, -19.0010, 4667,     74.6,  23.0619,  36.5540,2,  36.5520,2,    232.0,2,    229.1,2,     1.80,2,     0.22,2,     0.00,2,     0.19,2, -999.000,9, -999.000,9, -999.000,9,   -999.0,9,   -999.0,9, 23.0466
     316N142_3,   A15,    83,  1,     38,     38,2,19940429,0410,-19.1657, -19.0010, 4667,    139.6,  20.0772,  36.2049,2,  36.2080,2,    221.9,2,    220.2,2,     2.08,2,     0.22,2,     0.00,2,     0.23,2, -999.000,9, -999.000,9, -999.000,9,   -999.0,9,   -999.0,9, 20.0512
     316N142_3,   A15,    83,  1,     33,     33,2,19940429,0410,-19.1657, -19.0010, 4667,    204.6,  15.8879,  35.5645,2,  35.5520,2,    213.0,2,    202.4,2,     3.23,2,     5.07,2,     0.00,2,     0.50,2, -999.000,9, -999.000,9, -999.000,9,   -999.0,9,   -999.0,9, 15.8556
     316N142_3,   A15,    83,  1,     41,     41,2,19940429,0410,-19.1657, -19.0010, 4667,    304.8,  12.5320,  35.1078,2,  35.1059,2,    185.7,2,    179.4,2,     6.26,2,    14.00,2,     0.00,2,     0.99,2, -999.000,9, -999.000,9, -999.000,9,   -999.0,9,   -999.0,9, 12.4909
     316N142_3,   A15,    83,  1,     31,     31,2,19940429,0410,-19.1657, -19.0010, 4667,    405.8,   9.9250,  34.8184,2,  34.8134,2,    162.0,2,    158.4,2,    11.19,2,    22.15,2,     0.00,2,     1.48,2, -999.000,9, -999.000,9, -999.000,9,   -999.0,9,   -999.0,9,  9.8778
     316N142_3,   A15,    83,  1,     37,     37,2,19940429,0410,-19.1657, -19.0010, 4667,    516.2,   7.4577,  34.5976,2,  34.5889,2,    149.9,2,    147.1,2,    18.15,2,    29.23,2,     0.00,2,     1.92,2, -999.000,9, -999.000,9, -999.000,9,   -999.0,9,   -999.0,9,  7.4067
     316N142_3,   A15,    83,  1,     29,     29,2,19940429,0410,-19.1657, -19.0010, 4667,    651.5,   5.3958,  34.4632,2,  34.4612,2,    155.1,2,    156.2,2,    26.87,2,    32.80,2,     0.00,2,     2.16,2, -999.000,9, -999.000,9, -999.000,9,   -999.0,9,   -999.0,9,  5.3412
     316N142_3,   A15,    83,  1,     28,     28,2,19940429,0410,-19.1657, -19.0010, 4667,    787.5,   4.3218,  34.4349,2,  34.4310,2,    168.2,2,    172.6,2,    34.17,2,    33.19,2,     0.00,2,     2.20,2, -999.000,9, -999.000,9, -999.000,9,   -999.0,9,   -999.0,9,  4.2616
     316N142_3,   A15,    83,  1,     27,     27,2,19940429,0410,-19.1657, -19.0010, 4667,    918.3,   3.8609,  34.4634,2,  34.4630,2,    177.6,2,    179.1,2,    38.99,2,    33.01,2,     0.00,2,     2.20,2, -999.000,9, -999.000,9, -999.000,9,   -999.0,9,   -999.0,9,  3.7930
     316N142_3,   A15,    83,  1,     26,     26,2,19940429,0410,-19.1657, -19.0010, 4667,   1059.3,   3.6948,  34.5531,2,  34.5514,2,    180.8,2,    181.9,2,    40.46,2,    31.90,2,     0.00,2,     2.13,2, -999.000,9, -999.000,9, -999.000,9,   -999.0,9,   -999.0,9,  3.6166
     316N142_3,   A15,    83,  1,     25,     25,2,19940429,0410,-19.1657, -19.0010, 4667,   1209.9,   3.7234,  34.6520,2,  34.6544,2,    187.5,2,    187.0,2,    38.41,2,    30.17,2,     0.00,2,     2.02,2, -999.000,9, -999.000,9, -999.000,9,   -999.0,9,   -999.0,9,  3.6323
     316N142_3,   A15,    83,  1,     24,     24,2,19940429,0410,-19.1657, -19.0010, 4667,   1360.6,   3.7662,  34.7637,2,  34.7615,2,    201.2,2,    198.4,2,    34.31,2,    27.63,2,     0.00,2,     1.85,2, -999.000,9, -999.000,9, -999.000,9,   -999.0,9,   -999.0,9,  3.6614
     316N142_3,   A15,    83,  1,     23,     23,2,19940429,0410,-19.1657, -19.0010, 4667,   1512.5,   3.6727,  34.8429,2,  34.8428,2,    218.7,2,    214.4,2,    31.09,2,    25.00,2,     0.00,2,     1.66,2, -999.000,9, -999.000,9, -999.000,9,   -999.0,9,   -999.0,9,  3.5554
     316N142_3,   A15,    83,  1,     22,     22,2,19940429,0410,-19.1657, -19.0010, 4667,   1663.8,   3.4762,  34.8909,2,  34.8895,2,    231.1,2,    229.6,2,    29.34,2,    22.86,2,     0.00,2,     1.53,2, -999.000,9, -999.000,9, -999.000,9,   -999.0,9,   -999.0,9,  3.3476
     316N142_3,   A15,    83,  1,     21,     21,2,19940429,0410,-19.1657, -19.0010, 4667,   1813.7,   3.3682,  34.9099,2,  34.9093,2,    236.8,2,    237.2,2,    28.76,2,    21.81,2,     0.00,2,     1.46,2, -999.000,9, -999.000,9, -999.000,9,   -999.0,9,   -999.0,9,  3.2275
     316N142_3,   A15,    83,  1,     20,     20,2,19940429,0410,-19.1657, -19.0010, 4667,   1964.7,   3.2306,  34.9193,2,  34.9198,2,    242.0,2,    242.2,2,    29.05,2,    21.15,2,     0.00,2,     1.42,2, -999.000,9, -999.000,9, -999.000,9,   -999.0,9,   -999.0,9,  3.0779
     316N142_3,   A15,    83,  1,     19,     19,2,19940429,0410,-19.1657, -19.0010, 4667,   2091.7,   3.1482,  34.9312,2,  34.9402,4,    247.5,2,    247.9,2,    28.17,2,    20.44,2,     0.00,2,     1.38,2, -999.000,9, -999.000,9, -999.000,9,   -999.0,9,   -999.0,9,  2.9850
     316N142_3,   A15,    83,  1,     40,     40,2,19940429,0410,-19.1657, -19.0010, 4667,   2219.9,   3.0164,  34.9226,2,  34.9235,2,    249.2,2,    247.2,2,    30.66,2,    20.68,2,     0.00,2,     1.40,2, -999.000,9, -999.000,9, -999.000,9,   -999.0,9,   -999.0,9,  2.8432
     316N142_3,   A15,    83,  1,     17,     17,2,19940429,0410,-19.1657, -19.0010, 4667,   2322.5,   2.9124,  34.9118,2,  34.9119,2,    245.7,2,    244.6,2,    34.17,2,    21.16,2,     0.00,2,     1.44,2, -999.000,9, -999.000,9, -999.000,9,   -999.0,9,   -999.0,9,  2.7313
     316N142_3,   A15,    83,  1,     16,     16,2,19940429,0410,-19.1657, -19.0010, 4667,   2424.3,   2.8904,  34.9141,2,  34.9150,2,    247.8,2,    246.0,2,    34.02,2,    21.07,2,     0.00,2,     1.44,2, -999.000,9, -999.000,9, -999.000,9,   -999.0,9,   -999.0,9,  2.6999
     316N142_3,   A15,    83,  1,     15,     15,2,19940429,0410,-19.1657, -19.0010, 4667,   2552.1,   2.7757,  34.9013,2,  34.9001,2,    244.5,2,    242.8,2,    38.72,2,    21.89,2,     0.00,2,     1.48,2, -999.000,9, -999.000,9, -999.000,9,   -999.0,9,   -999.0,9,  2.5750
     316N142_3,   A15,    83,  1,     14,     14,2,19940429,0410,-19.1657, -19.0010, 4667,   2679.1,   2.7706,  34.9066,2,  34.9060,2,    243.6,2,    244.9,2,    37.99,2,    21.61,2,     0.00,2,     1.47,2, -999.000,9, -999.000,9, -999.000,9,   -999.0,9,   -999.0,9,  2.5575
     316N142_3,   A15,    83,  1,     13,     13,2,19940429,0410,-19.1657, -19.0010, 4667,   2832.1,   2.7799,  34.9178,2,  34.9174,2,    244.3,2,    249.9,2,    34.76,2,    20.89,2,     0.00,2,     1.42,2, -999.000,9, -999.000,9, -999.000,9,   -999.0,9,   -999.0,9,  2.5512
     316N142_3,   A15,    83,  1,     12,     12,2,19940429,0410,-19.1657, -19.0010, 4667,   3036.5,   2.6946,  34.9134,2,  34.9134,2,    250.9,2,    250.9,2,    36.67,2,    20.94,2,     0.00,2,     1.42,2, -999.000,9, -999.000,9, -999.000,9,   -999.0,9,   -999.0,9,  2.4468
     316N142_3,   A15,    83,  1,     11,     11,2,19940429,0410,-19.1657, -19.0010, 4667,   3213.3,   2.6236,  34.9089,2,  34.9089,2,    251.4,2,    251.6,2,    38.14,2,    21.00,2,     0.00,2,     1.43,2, -999.000,9, -999.000,9, -999.000,9,   -999.0,9,   -999.0,9,  2.3589
     316N142_3,   A15,    83,  1,     10,     10,2,19940429,0410,-19.1657, -19.0010, 4667,   3366.5,   2.5071,  34.8994,2,  34.8989,2,    250.4,2,    251.2,2,    41.39,2,    21.29,2,     0.00,2,     1.46,2, -999.000,9, -999.000,9, -999.000,9,   -999.0,9,   -999.0,9,  2.2289
     316N142_3,   A15,    83,  1,      9,      9,2,19940429,0410,-19.1657, -19.0010, 4667,   3545.7,   2.3437,  34.8833,2,  34.8824,2,    248.4,2,    249.2,2,    47.44,2,    22.01,2,     0.00,2,     1.51,2, -999.000,9, -999.000,9, -999.000,9,   -999.0,9,   -999.0,9,  2.0504
     316N142_3,   A15,    83,  1,      8,      8,2,19940429,0410,-19.1657, -19.0010, 4667,   3749.7,   2.0184,  34.8490,2,  34.8482,2,    243.5,2,    243.8,2,    59.91,2,    23.69,2,     0.00,2,     1.63,2, -999.000,9, -999.000,9, -999.000,9,   -999.0,9,   -999.0,9,  1.7115
     316N142_3,   A15,    83,  1,      7,      7,2,19940429,0410,-19.1657, -19.0010, 4667,   3953.1,   1.6814,  34.8146,2,  34.8191,3,    238.2,2,    238.7,2,    72.95,2,    25.48,2,     0.00,2,     1.77,2, -999.000,9, -999.000,9, -999.000,9,   -999.0,9,   -999.0,9,  1.3617
     316N142_3,   A15,    83,  1,      6,      6,2,19940429,0410,-19.1657, -19.0010, 4667,   4156.8,   1.4175,  34.7867,2,  34.7858,2,    234.5,2,    234.7,2,    83.40,2,    26.78,2,     0.00,2,     1.87,2, -999.000,9, -999.000,9, -999.000,9,   -999.0,9,   -999.0,9,  1.0831
     316N142_3,   A15,    83,  1,      5,      5,2,19940429,0410,-19.1657, -19.0010, 4667,   4310.4,   1.2888,  34.7727,2,  34.7724,2,    233.3,2,    233.0,2,    88.60,2,    27.51,2,     0.00,2,     1.92,2, -999.000,9, -999.000,9, -999.000,9,   -999.0,9,   -999.0,9,  0.9412
     316N142_3,   A15,    83,  1,      4,      4,2,19940429,0410,-19.1657, -19.0010, 4667,   4465.2,   1.2341,  34.7658,2,  34.7643,2,    232.1,2,    232.0,2,    90.91,2,    27.66,2,     0.00,2,     1.95,2, -999.000,9, -999.000,9, -999.000,9,   -999.0,9,   -999.0,9,  0.8708
     316N142_3,   A15,    83,  1,      3,      3,2,19940429,0410,-19.1657, -19.0010, 4667,   4619.3,   1.2035,  34.7611,2,  34.7604,2,    231.8,2,    231.6,2,    93.23,2,    28.00,2,     0.00,2,     1.98,2, -999.000,9, -999.000,9, -999.000,9,   -999.0,9,   -999.0,9,  0.8235
     316N142_3,   A15,    83,  1,      2,      2,2,19940429,0410,-19.1657, -19.0010, 4667,   4774.0,   1.2067,  34.7596,2,  34.7626,4,    232.0,2,    231.3,2,    93.56,2,    28.06,2,     0.00,2,     1.98,2, -999.000,9, -999.000,9, -999.000,9,   -999.0,9,   -999.0,9,  0.8086
     316N142_3,   A15,    83,  1,      1,      1,2,19940429,0410,-19.1657, -19.0010, 4667,   4919.5,   1.2210,  34.7590,2,  34.7590,2,    231.0,2,    231.3,2,    94.50,2,    28.26,2,     0.00,2,     1.99,2, -999.000,9, -999.000,9, -999.000,9,   -999.0,9,   -999.0,9,  0.8054