BOTTLE,20020814WHPSIOKJU
EXPOCODE,SECT_ID,STNNBR,CASTNO,SAMPNO,BTLNBR,BTLNBR_FLAG_W,DATE,TIME,LATITUDE,LONGITUDE,DEPTH,CTDPRS,CTDTMP,CTDSAL,CTDSAL_FLAG_W,SALNTY,SALNTY_FLAG_W,CTDOXY,CTDOXY_FLAG_W,OXYGEN,OXYGEN_FLAG_W,SILCAT,SILCAT_FLAG_W,NITRAT,NITRAT_FLAG_W,NITRIT,NITRIT_FLAG_W,PHSPHT,PHSPHT_FLAG_W,CFC-11,CFC-11_FLAG_W,CFC-12,CFC-12_FLAG_W,CCL4,CCL4_FLAG_W,TCARBN,TCARBN_FLAG_W,ALKALI,ALKALI_FLAG_W,THETA
,,,,,,,,,,,,DBAR,ITS-90,PSS-78,,PSS-78,,UMOL/KG,,UMOL/KG,,UMOL/KG,,UMOL/KG,,UMOL/KG,,UMOL/KG,,PMOL/KG,,PMOL/KG,,PMOL/KG,,UMOL/KG,,UMOL/KG,,DEG C
     316N142_3,   A15,    76,  1,     39,     39,2,19940427,0541,-15.5828, -19.0003, 4431,      5.0,  26.3308,  37.1218,2,  37.1200,2,    188.0,4,    203.3,2,     1.65,2,     0.22,2,     0.00,2,     0.22,2,    1.718,2,    1.009,2,    1.949,2,   2078.2,2,   2430.3,2, 26.3297
     316N142_3,   A15,    76,  1,     35,     35,2,19940427,0541,-15.5828, -19.0003, 4431,     52.6,  26.3367,  37.1218,2,  37.1194,2,    200.6,2,    203.3,2,     1.63,2,     0.22,2,     0.00,2,     0.21,2, -999.000,9, -999.000,9, -999.000,9,   2075.9,2,   2430.7,2, 26.3248
     316N142_3,   A15,    76,  1,     38,     38,2,19940427,0541,-15.5828, -19.0003, 4431,     83.5,  24.0823,  36.7185,2,  36.7258,2,    223.7,2,    222.5,2,     1.47,2,     0.17,2,     0.00,2,     0.23,2,    1.997,2,    1.129,2,    1.489,2,   2069.4,2,   2406.3,2, 24.0646
     316N142_3,   A15,    76,  1,     33,     33,2,19940427,0541,-15.5828, -19.0003, 4431,    154.5,  18.4607,  35.9692,2,  35.9689,2,    203.8,2,    204.3,2,     2.15,2,     1.94,2,     0.16,2,     0.46,2,    2.331,2,    1.259,2,    1.131,2,   2093.8,2,   2358.6,2, 18.4336
     316N142_3,   A15,    76,  1,     41,     41,2,19940427,0541,-15.5828, -19.0003, 4431,    234.3,  14.3195,  35.3917,2,  35.4040,2,    167.2,2,    162.6,2,     5.20,2,    12.98,2,     0.01,2,     1.02,2,    2.036,2,    1.099,2,    0.546,2,   2130.9,2,   2320.9,2, 14.2850
     316N142_3,   A15,    76,  1,     31,     31,2,19940427,0541,-15.5828, -19.0003, 4431,    303.7,  11.6548,  35.0285,2,  35.0219,2,    154.9,2,    151.3,2,     8.53,2,    19.29,2,     0.00,2,     1.37,2,    1.553,2,    0.848,2,    0.723,2,   2152.6,2,   2301.4,2, 11.6157
     316N142_3,   A15,    76,  1,     37,     37,2,19940427,0541,-15.5828, -19.0003, 4431,    375.0,   9.8672,  34.8404,2,  34.8429,2,    137.6,2,    139.2,2,    12.28,2,    24.28,2,     0.00,2,     1.68,2,    1.010,6,    0.548,6,    0.675,6,   2172.6,2,   2294.8,2,  9.8237
     316N142_3,   A15,    76,  1,     29,     29,2,19940427,0541,-15.5828, -19.0003, 4431,    455.5,   7.5235,  34.6239,2,  34.6164,2,    142.5,2,    142.3,2,    18.56,2,    29.63,2,     0.00,2,     2.01,2,    0.448,2,    0.210,2,    0.566,2,   2191.4,2,   2290.4,2,  7.4785
     316N142_3,   A15,    76,  1,     28,     28,2,19940427,0541,-15.5828, -19.0003, 4431,    565.2,   5.6376,  34.4681,2,  34.4664,2,    163.5,2,    166.3,2,    24.15,2,    31.27,2,     0.00,2,     2.14,2,    0.255,2,    0.130,2,    0.695,2,   2192.5,2,   2289.3,2,  5.5895
     316N142_3,   A15,    76,  1,     27,     27,2,19940427,0541,-15.5828, -19.0003, 4431,    674.9,   4.6764,  34.4226,2,  34.4202,2,    172.2,2,    173.3,2,    30.46,2,    32.64,2,     0.00,2,     2.25,2,    0.173,2,    0.072,2,    0.635,2,   -999.0,9,   -999.0,9,  4.6236
     316N142_3,   A15,    76,  1,     26,     26,2,19940427,0541,-15.5828, -19.0003, 4431,    784.7,   4.1516,  34.4391,2,  34.4362,2,    172.5,2,    174.1,2,    35.38,2,    33.22,2,     0.00,2,     2.29,2,    0.077,4,    0.049,2,    0.468,2,   -999.0,9,   -999.0,9,  4.0927
     316N142_3,   A15,    76,  1,     25,     25,2,19940427,0541,-15.5828, -19.0003, 4431,    895.6,   3.9130,  34.4774,2,  34.4747,2,    174.2,2,    175.2,2,    37.63,2,    33.05,2,     0.00,2,     2.29,2, -999.000,9, -999.000,9, -999.000,9,   -999.0,9,   -999.0,9,  3.8466
     316N142_3,   A15,    76,  1,     24,     24,2,19940427,0541,-15.5828, -19.0003, 4431,   1008.6,   3.8291,  34.5506,2,  34.5470,2,    172.9,2,    175.0,2,  -999.00,5,  -999.00,5,  -999.00,5,  -999.00,5, -999.000,9, -999.000,9, -999.000,9,   -999.0,9,   -999.0,9,  3.7539
     316N142_3,   A15,    76,  1,     23,     23,2,19940427,0541,-15.5828, -19.0003, 4431,   1134.1,   3.8335,  34.6472,2,  34.6447,2,    179.6,2,    179.5,2,    36.62,2,    30.78,2,     0.00,2,     2.13,2,    0.052,4,    0.007,2,    0.037,2,   -999.0,9,   -999.0,9,  3.7477
     316N142_3,   A15,    76,  1,     22,     22,2,19940427,0541,-15.5828, -19.0003, 4431,   1261.8,   3.8323,  34.7341,2,  34.7287,2,    189.8,2,    189.5,2,    33.79,2,    28.78,2,     0.00,2,     2.00,2, -999.000,9, -999.000,9, -999.000,9,   -999.0,9,   -999.0,9,  3.7355
     316N142_3,   A15,    76,  1,     21,     21,2,19940427,0541,-15.5828, -19.0003, 4431,   1387.4,   3.7847,  34.8137,2,  34.8102,2,    203.6,2,    204.8,2,    30.82,2,    26.24,2,     0.00,2,     1.82,2, -999.000,9, -999.000,9, -999.000,9,   -999.0,9,   -999.0,9,  3.6773
     316N142_3,   A15,    76,  1,     20,     20,2,19940427,0541,-15.5828, -19.0003, 4431,   1513.9,   3.6677,  34.8527,2,  34.8520,2,    216.4,2,    215.5,2,    29.82,2,    24.76,2,     0.00,2,     1.72,2, -999.000,9,    0.012,2,    0.052,2,   -999.0,9,   -999.0,9,  3.5503
     316N142_3,   A15,    76,  1,     19,     19,2,19940427,0541,-15.5828, -19.0003, 4431,   1639.3,   3.5234,  34.8948,2,  34.8936,2,    228.9,2,    228.6,2,    28.69,2,    23.01,2,     0.00,2,     1.60,2, -999.000,9,    0.006,2,    0.130,2,   -999.0,9,   -999.0,9,  3.3965
     316N142_3,   A15,    76,  1,     40,     40,2,19940427,0541,-15.5828, -19.0003, 4431,   1766.0,   3.3916,  34.9104,2,  34.9091,2,    235.3,2,    235.0,2,    29.10,2,    22.23,2,     0.00,2,     1.55,2, -999.000,9,    0.007,2,    0.165,2,   -999.0,9,   -999.0,9,  3.2549
     316N142_3,   A15,    76,  1,     17,     17,2,19940427,0541,-15.5828, -19.0003, 4431,   1889.9,   3.2195,  34.9075,2,  34.9062,2,    235.9,2,    237.3,2,    31.49,2,    22.15,2,     0.00,2,     1.54,2, -999.000,9, -999.000,9, -999.000,9,   -999.0,9,   -999.0,9,  3.0739
     316N142_3,   A15,    76,  1,     16,     16,2,19940427,0541,-15.5828, -19.0003, 4431,   2018.7,   3.0886,  34.9064,2,  34.9036,2,    240.3,2,    239.3,2,    36.14,4,    22.07,4,     0.00,4,     1.54,4, -999.000,9,    0.006,2, -999.000,9,   -999.0,9,   -999.0,9,  2.9331
     316N142_3,   A15,    76,  1,     15,     15,2,19940427,0541,-15.5828, -19.0003, 4431,   2172.3,   2.9439,  34.9050,2,  34.9056,2,    242.3,2,    241.1,2,    36.13,2,    22.12,2,     0.00,2,     1.53,2, -999.000,9, -999.000,9, -999.000,9,   -999.0,9,   -999.0,9,  2.7765
     316N142_3,   A15,    76,  1,     14,     14,2,19940427,0541,-15.5828, -19.0003, 4431,   2324.1,   2.8569,  34.9020,2,  34.9001,2,    242.6,2,    241.4,2,    38.25,2,    22.22,2,     0.00,2,     1.55,2, -999.000,9, -999.000,9, -999.000,9,   -999.0,9,   -999.0,9,  2.6766
     316N142_3,   A15,    76,  1,     13,     13,2,19940427,0541,-15.5828, -19.0003, 4431,   2502.0,   2.7687,  34.8985,2,  34.9060,4,    241.0,2,    241.5,2,    40.09,2,    22.33,2,     0.00,2,     1.55,2, -999.000,9,    0.011,2,    0.065,2,   -999.0,9,   -999.0,9,  2.5730
     316N142_3,   A15,    76,  1,     12,     12,2,19940427,0541,-15.5828, -19.0003, 4431,   2678.7,   2.7163,  34.8966,2,  34.8948,2,    242.4,2,    241.6,2,    41.50,2,    22.43,2,     0.00,2,     1.55,2, -999.000,9, -999.000,9, -999.000,9,   -999.0,9,   -999.0,9,  2.5043
     316N142_3,   A15,    76,  1,     11,     11,2,19940427,0541,-15.5828, -19.0003, 4431,   2859.6,   2.6692,  34.8944,2,  34.8942,2,    243.0,2,    241.4,2,    42.63,2,    22.44,2,     0.00,2,     1.56,2, -999.000,9, -999.000,9, -999.000,9,   -999.0,9,   -999.0,9,  2.4401
     316N142_3,   A15,    76,  1,     10,     10,2,19940427,0541,-15.5828, -19.0003, 4431,   3034.5,   2.6135,  34.8922,2,  34.8899,2,    242.2,2,    241.4,2,    43.34,2,    22.54,2,     0.00,2,     1.56,2, -999.000,9,    0.006,2,    0.145,2,   -999.0,9,   -999.0,9,  2.3678
     316N142_3,   A15,    76,  1,      9,      9,2,19940427,0541,-15.5828, -19.0003, 4431,   3214.8,   2.5536,  34.8892,2,  34.8872,2,    242.6,2,    242.4,2,    45.47,2,    22.55,2,     0.00,2,     1.57,2, -999.000,9, -999.000,9, -999.000,9,   -999.0,9,   -999.0,9,  2.2904
     316N142_3,   A15,    76,  1,      8,      8,2,19940427,0541,-15.5828, -19.0003, 4431,   3392.0,   2.4426,  34.8813,2,  34.8801,2,    243.1,2,    243.1,2,    48.18,2,    22.75,2,     0.00,2,     1.59,2, -999.000,9,    0.013,2,    0.000,2,   -999.0,9,   -999.0,9,  2.1634
     316N142_3,   A15,    76,  1,      7,      7,2,19940427,0541,-15.5828, -19.0003, 4431,   3569.1,   2.2976,  34.8700,2,  34.8695,2,    243.4,2,    243.0,2,    52.61,2,    23.27,2,     0.00,2,     1.63,2, -999.000,9, -999.000,9, -999.000,9,   -999.0,9,   -999.0,9,  2.0030
     316N142_3,   A15,    76,  1,      6,      6,2,19940427,0541,-15.5828, -19.0003, 4431,   3747.6,   2.0925,  34.8503,2,  34.8489,2,    240.7,2,    241.1,2,    59.79,2,    24.12,2,     0.00,2,     1.69,2, -999.000,9, -999.000,9, -999.000,9,   -999.0,9,   -999.0,9,  1.7839
     316N142_3,   A15,    76,  1,      5,      5,2,19940427,0541,-15.5828, -19.0003, 4431,   3927.4,   1.8114,  34.8245,2,  34.8234,2,    238.9,2,    238.7,2,    69.49,2,    25.39,2,     0.00,2,     1.78,2, -999.000,9, -999.000,9, -999.000,9,   -999.0,9,   -999.0,9,  1.4909
     316N142_3,   A15,    76,  1,      4,      4,2,19940427,0541,-15.5828, -19.0003, 4431,   4106.8,   1.5537,  34.7990,2,  34.7983,2,    236.2,2,    236.1,2,    79.27,2,    26.58,2,     0.00,2,     1.86,2, -999.000,9,    0.008,2,    0.039,2,   -999.0,9,   -999.0,9,  1.2209
     316N142_3,   A15,    76,  1,      3,      3,2,19940427,0541,-15.5828, -19.0003, 4431,   4286.8,   1.3432,  34.7776,2,  34.7839,4,    233.8,2,    233.4,2,    87.38,2,    27.71,2,     0.00,2,     1.94,2, -999.000,9, -999.000,9, -999.000,9,   -999.0,9,   -999.0,9,  0.9966
     316N142_3,   A15,    76,  1,      2,      2,2,19940427,0541,-15.5828, -19.0003, 4431,   4441.0,   1.2734,  34.7694,2,  34.7720,2,    232.2,2,    232.2,2,    90.65,2,    28.15,2,     0.00,2,     1.98,2, -999.000,9, -999.000,9, -999.000,9,   -999.0,9,   -999.0,9,  0.9116
     316N142_3,   A15,    76,  1,      1,      1,2,19940427,0541,-15.5828, -19.0003, 4431,   4590.1,   1.2170,  34.7620,2,  34.7625,2,    231.0,2,    231.3,2,    93.78,2,    28.54,2,     0.00,2,     2.00,2, -999.000,9,    0.005,2,    0.000,2,   -999.0,9,   -999.0,9,  0.8400
     316N142_3,   A15,    77,  1,     35,     35,4,19940427,1231,-16.1495, -18.9995, 4418,      5.5,  26.3177,  37.0950,2,  37.0954,2,    195.3,4,    205.5,2,     1.99,2,     0.13,2,     0.00,2,     0.23,2, -999.000,9, -999.000,9, -999.000,9,   -999.0,9,   -999.0,9, 26.3164
     316N142_3,   A15,    77,  1,     38,     38,4,19940427,1231,-16.1495, -18.9995, 4418,     61.1,  26.1872,  37.0923,2,  37.0919,2,    202.6,2,    204.0,2,     1.83,2,     0.13,2,     0.00,2,     0.22,2, -999.000,9, -999.000,9, -999.000,9,   -999.0,9,   -999.0,9, 26.1734
     316N142_3,   A15,    77,  1,     33,     33,4,19940427,1231,-16.1495, -18.9995, 4418,     91.1,  23.9492,  36.6856,2,  36.6963,2,    223.9,2,    222.3,2,     1.81,2,     0.08,2,     0.00,2,     0.23,2, -999.000,9, -999.000,9, -999.000,9,   -999.0,9,   -999.0,9, 23.9299
     316N142_3,   A15,    77,  1,     41,     41,4,19940427,1231,-16.1495, -18.9995, 4418,    149.9,  19.5568,  36.1125,2,  36.1209,2,    211.6,2,    211.3,2,     2.22,2,     0.33,2,     0.17,2,     0.37,2, -999.000,9, -999.000,9, -999.000,9,   -999.0,9,   -999.0,9, 19.5294
     316N142_3,   A15,    77,  1,     31,     31,4,19940427,1231,-16.1495, -18.9995, 4418,    230.0,  14.4312,  35.3632,2,  35.3611,2,    189.5,2,    188.6,2,     4.74,2,     9.35,2,     0.01,2,     0.82,2, -999.000,9, -999.000,9, -999.000,9,   -999.0,9,   -999.0,9, 14.3971
     316N142_3,   A15,    77,  1,     37,     37,4,19940427,1231,-16.1495, -18.9995, 4418,    300.7,  11.7273,  35.0256,2,  35.0260,2,    162.4,2,    160.0,2,     8.38,2,    18.17,2,     0.00,2,     1.31,2, -999.000,9, -999.000,9, -999.000,9,   -999.0,9,   -999.0,9, 11.6884
     316N142_3,   A15,    77,  1,     28,     28,2,19940427,1231,-16.1495, -18.9995, 4418,    539.8,   6.3341,  34.5253,2,  34.5286,2,    153.9,2,    150.3,2,    22.58,2,    31.49,2,     0.00,2,     2.12,2, -999.000,9, -999.000,9, -999.000,9,   -999.0,9,   -999.0,9,  6.2854
     316N142_3,   A15,    77,  1,     27,     27,2,19940427,1231,-16.1495, -18.9995, 4418,    629.7,   5.0831,  34.4361,2,  34.4353,2,    168.4,2,    170.9,2,    27.92,2,    32.30,2,     0.00,2,     2.20,2, -999.000,9, -999.000,9, -999.000,9,   -999.0,9,   -999.0,9,  5.0320
     316N142_3,   A15,    77,  1,     26,     26,2,19940427,1231,-16.1495, -18.9995, 4418,    726.0,   4.3309,  34.4128,2,  34.4113,2,    176.9,2,    180.2,2,    32.98,2,    32.73,2,     0.00,2,     2.26,2, -999.000,9, -999.000,9, -999.000,9,   -999.0,9,   -999.0,9,  4.2757
     316N142_3,   A15,    77,  1,     25,     25,2,19940427,1231,-16.1495, -18.9995, 4418,    831.7,   3.9527,  34.4438,2,  34.4423,2,    178.4,2,    179.6,2,    37.34,2,    32.97,2,     0.00,2,     2.28,2, -999.000,9, -999.000,9, -999.000,9,   -999.0,9,   -999.0,9,  3.8912
     316N142_3,   A15,    77,  1,     24,     24,2,19940427,1231,-16.1495, -18.9995, 4418,    963.4,   3.7843,  34.5198,2,  34.5196,2,    179.6,2,    178.6,2,    39.15,2,    32.40,2,     0.00,2,     2.25,2, -999.000,9, -999.000,9, -999.000,9,   -999.0,9,   -999.0,9,  3.7132
     316N142_3,   A15,    77,  1,     23,     23,2,19940427,1231,-16.1495, -18.9995, 4418,   1099.5,   3.7906,  34.6309,2,  34.6296,2,    183.7,2,    181.5,2,    36.99,2,    30.70,2,     0.00,2,     2.14,2, -999.000,9, -999.000,9, -999.000,9,   -999.0,9,   -999.0,9,  3.7081
     316N142_3,   A15,    77,  1,     22,     22,2,19940427,1231,-16.1495, -18.9995, 4418,   1236.8,   3.8382,  34.7220,2,  34.7206,2,    190.4,2,    189.5,2,    33.71,2,    28.68,2,     0.00,2,     2.01,2, -999.000,9, -999.000,9, -999.000,9,   -999.0,9,   -999.0,9,  3.7435
     316N142_3,   A15,    77,  1,     21,     21,2,19940427,1231,-16.1495, -18.9995, 4418,   1377.4,   3.7957,  34.8119,2,  34.8105,2,    202.9,2,    203.9,2,    30.57,2,    26.14,2,     0.00,2,     1.84,2, -999.000,9, -999.000,9, -999.000,9,   -999.0,9,   -999.0,9,  3.6890
     316N142_3,   A15,    77,  1,     20,     20,2,19940427,1231,-16.1495, -18.9995, 4418,   1515.5,   3.6275,  34.8688,2,  34.8689,2,    217.1,2,    220.6,2,    29.14,2,    23.90,2,     0.00,2,     1.68,2, -999.000,9, -999.000,9, -999.000,9,   -999.0,9,   -999.0,9,  3.5104
     316N142_3,   A15,    77,  1,     19,     19,2,19940427,1231,-16.1495, -18.9995, 4418,   1639.5,   3.4857,  34.8903,2,  34.8889,2,    229.3,2,    228.5,2,    29.11,2,    22.92,2,     0.00,2,     1.61,2, -999.000,9, -999.000,9, -999.000,9,   -999.0,9,   -999.0,9,  3.3592
     316N142_3,   A15,    77,  1,     40,     40,2,19940427,1231,-16.1495, -18.9995, 4418,   1767.0,   3.3502,  34.9011,2,  34.9013,2,    234.4,2,    234.0,2,    29.79,2,    22.26,2,     0.00,2,     1.57,2, -999.000,9, -999.000,9, -999.000,9,   -999.0,9,   -999.0,9,  3.2140
     316N142_3,   A15,    77,  1,     17,     17,2,19940427,1231,-16.1495, -18.9995, 4418,   1894.8,   3.1815,  34.9061,2,  34.9058,2,    238.6,2,    237.4,2,    31.73,2,    22.03,2,     0.00,2,     1.55,2, -999.000,9, -999.000,9, -999.000,9,   -999.0,9,   -999.0,9,  3.0360
     316N142_3,   A15,    77,  1,     16,     16,2,19940427,1231,-16.1495, -18.9995, 4418,   2020.1,   3.0540,  34.9067,2,  34.9068,2,    240.4,2,    239.6,2,    33.68,2,    21.94,2,     0.00,2,     1.54,2, -999.000,9, -999.000,9, -999.000,9,   -999.0,9,   -999.0,9,  2.8989
     316N142_3,   A15,    77,  1,     15,     15,2,19940427,1231,-16.1495, -18.9995, 4418,   2147.0,   2.9500,  34.9038,2,  34.9031,2,    241.4,2,    240.6,2,    35.90,2,    21.99,2,     0.00,2,     1.55,2, -999.000,9, -999.000,9, -999.000,9,   -999.0,9,   -999.0,9,  2.7848
     316N142_3,   A15,    77,  1,     14,     14,2,19940427,1231,-16.1495, -18.9995, 4418,   2299.0,   2.8668,  34.9014,2,  34.9013,2,    242.3,2,    241.2,2,    37.85,2,    22.04,2,     0.00,2,     1.55,2, -999.000,9, -999.000,9, -999.000,9,   -999.0,9,   -999.0,9,  2.6887
     316N142_3,   A15,    77,  1,     13,     13,2,19940427,1231,-16.1495, -18.9995, 4418,   2478.7,   2.8083,  34.8997,2,  34.8993,2,    243.0,2,    241.3,2,    39.23,2,    22.13,2,     0.00,2,     1.56,2, -999.000,9, -999.000,9, -999.000,9,   -999.0,9,   -999.0,9,  2.6141
     316N142_3,   A15,    77,  1,     12,     12,2,19940427,1231,-16.1495, -18.9995, 4418,   2655.3,   2.7378,  34.8964,2,  34.8964,2,    241.1,2,    241.0,2,    41.04,2,    22.28,2,     0.00,2,     1.57,2, -999.000,9, -999.000,9, -999.000,9,   -999.0,9,   -999.0,9,  2.5277
     316N142_3,   A15,    77,  1,     11,     11,9,19940427,1231,-16.1495, -18.9995, 4418,   2833.9,   2.6871,  34.8940,2,-999.0000,9,    241.7,2,   -999.0,9,  -999.00,9,  -999.00,9,  -999.00,9,  -999.00,9, -999.000,9, -999.000,9, -999.000,9,   -999.0,9,   -999.0,9,  2.4602
     316N142_3,   A15,    77,  1,     10,     10,2,19940427,1231,-16.1495, -18.9995, 4418,   2985.9,   2.6442,  34.8923,2,  34.8919,2,    240.7,2,    240.5,2,    43.69,2,    22.38,2,     0.00,2,     1.58,2, -999.000,9, -999.000,9, -999.000,9,   -999.0,9,   -999.0,9,  2.4028
     316N142_3,   A15,    77,  1,      9,      9,2,19940427,1231,-16.1495, -18.9995, 4418,   3138.7,   2.5795,  34.8888,2,  34.8884,2,    241.4,2,    241.8,2,    44.79,2,    22.47,2,     0.00,2,     1.59,2, -999.000,9, -999.000,9, -999.000,9,   -999.0,9,   -999.0,9,  2.3237
     316N142_3,   A15,    77,  1,      8,      8,2,19940427,1231,-16.1495, -18.9995, 4418,   3291.9,   2.4985,  34.8846,2,  34.8846,2,    242.9,2,    243.1,2,    46.03,2,    22.52,2,     0.00,2,     1.58,2, -999.000,9, -999.000,9, -999.000,9,   -999.0,9,   -999.0,9,  2.2286
     316N142_3,   A15,    77,  1,      7,      7,2,19940427,1231,-16.1495, -18.9995, 4418,   3444.6,   2.3876,  34.8765,2,  34.8762,2,    241.7,2,    242.7,2,    49.11,2,    22.81,2,     0.00,2,     1.61,2, -999.000,9, -999.000,9, -999.000,9,   -999.0,9,   -999.0,9,  2.1041
     316N142_3,   A15,    77,  1,      6,      6,2,19940427,1231,-16.1495, -18.9995, 4418,   3622.9,   2.2300,  34.8630,2,  34.8632,2,    241.4,2,    242.1,2,    53.90,2,    23.38,2,     0.00,2,     1.65,2, -999.000,9, -999.000,9, -999.000,9,   -999.0,9,   -999.0,9,  1.9314
     316N142_3,   A15,    77,  1,      5,      5,2,19940427,1231,-16.1495, -18.9995, 4418,   3828.1,   1.9850,  34.8414,2,  34.8432,2,    241.0,2,    241.1,2,    61.28,2,    24.18,2,     0.00,2,     1.71,2, -999.000,9, -999.000,9, -999.000,9,   -999.0,9,   -999.0,9,  1.6705
     316N142_3,   A15,    77,  1,      4,      4,2,19940427,1231,-16.1495, -18.9995, 4418,   4032.3,   1.6767,  34.8119,2,  34.8126,2,    237.6,2,    237.8,2,    72.44,2,    25.64,2,     0.00,2,     1.81,2, -999.000,9, -999.000,9, -999.000,9,   -999.0,9,   -999.0,9,  1.3484
     316N142_3,   A15,    77,  1,      3,      3,2,19940427,1231,-16.1495, -18.9995, 4418,   4238.3,   1.3948,  34.7828,2,  34.7822,2,    234.3,2,    234.1,2,    83.56,2,    27.15,2,     0.00,2,     1.92,2, -999.000,9, -999.000,9, -999.000,9,   -999.0,9,   -999.0,9,  1.0521
     316N142_3,   A15,    77,  1,      2,      2,2,19940427,1231,-16.1495, -18.9995, 4418,   4442.8,   1.2752,  34.7691,2,  34.7706,2,    232.6,2,    232.2,2,    88.33,2,    27.86,2,     0.00,2,     1.97,2, -999.000,9, -999.000,9, -999.000,9,   -999.0,9,   -999.0,9,  0.9132
     316N142_3,   A15,    77,  1,      1,      1,2,19940427,1231,-16.1495, -18.9995, 4418,   4590.0,   1.1679,  34.7578,2,  34.7580,2,    231.5,2,    231.1,2,    92.98,2,    28.43,2,     0.00,2,     2.01,2, -999.000,9, -999.000,9, -999.000,9,   -999.0,9,   -999.0,9,  0.7925