BOTTLE,20020814WHPSIOKJU
EXPOCODE,SECT_ID,STNNBR,CASTNO,SAMPNO,BTLNBR,BTLNBR_FLAG_W,DATE,TIME,LATITUDE,LONGITUDE,DEPTH,CTDPRS,CTDTMP,CTDSAL,CTDSAL_FLAG_W,SALNTY,SALNTY_FLAG_W,CTDOXY,CTDOXY_FLAG_W,OXYGEN,OXYGEN_FLAG_W,SILCAT,SILCAT_FLAG_W,NITRAT,NITRAT_FLAG_W,NITRIT,NITRIT_FLAG_W,PHSPHT,PHSPHT_FLAG_W,CFC-11,CFC-11_FLAG_W,CFC-12,CFC-12_FLAG_W,CCL4,CCL4_FLAG_W,TCARBN,TCARBN_FLAG_W,ALKALI,ALKALI_FLAG_W,THETA
,,,,,,,,,,,,DBAR,ITS-90,PSS-78,,PSS-78,,UMOL/KG,,UMOL/KG,,UMOL/KG,,UMOL/KG,,UMOL/KG,,UMOL/KG,,PMOL/KG,,PMOL/KG,,PMOL/KG,,UMOL/KG,,UMOL/KG,,DEG C
     316N142_3,   A15,   107,  1,     39,     39,2,19940505,0841,-31.0333, -19.0005, 3624,      7.2,  20.2463,  35.6442,2,  35.6425,2,    218.3,4,    226.7,2,     1.76,2,     0.13,2,     0.01,2,     0.18,2, -999.000,9, -999.000,9, -999.000,9,   2035.1,2,   2341.8,2, 20.2450
     316N142_3,   A15,   107,  1,     35,     35,2,19940505,0841,-31.0333, -19.0005, 3624,     64.0,  20.2394,  35.6396,2,  35.6379,2,    211.1,4,    226.7,2,     1.61,2,     0.08,2,     0.01,2,     0.14,2, -999.000,9, -999.000,9, -999.000,9,   2035.4,2,   2341.0,2, 20.2275
     316N142_3,   A15,   107,  1,     38,     38,2,19940505,0841,-31.0333, -19.0005, 3624,     79.6,  19.2160,  35.6705,2,  35.6736,2,    217.1,2,    238.0,2,     1.59,2,     0.09,2,     0.00,2,     0.14,2, -999.000,9, -999.000,9, -999.000,9,   2043.2,2,   2343.3,2, 19.2016
     316N142_3,   A15,   107,  1,     33,     33,2,19940505,0841,-31.0333, -19.0005, 3624,    129.3,  15.3675,  35.4179,2,  35.4161,2,    228.9,2,    233.3,2,     1.87,2,     0.69,2,     0.23,2,     0.26,2, -999.000,9, -999.000,9, -999.000,9,   2073.2,2,   2330.8,2, 15.3476
     316N142_3,   A15,   107,  1,     41,     41,2,19940505,0841,-31.0333, -19.0005, 3624,    179.9,  14.5098,  35.3562,2,  35.3563,2,    223.8,2,    222.6,2,     2.43,2,     4.20,2,     0.01,2,     0.43,2, -999.000,9, -999.000,9, -999.000,9,   2083.3,2,   2326.4,2, 14.4831
     316N142_3,   A15,   107,  1,     31,     31,2,19940505,0841,-31.0333, -19.0005, 3624,    255.9,  13.6575,  35.3152,2,  35.3134,2,    215.0,2,    214.8,2,     3.43,2,     7.51,2,     0.00,2,     0.62,2, -999.000,9, -999.000,9, -999.000,9,   2096.7,2,   2324.5,2, 13.6209
     316N142_3,   A15,   107,  1,     37,     37,2,19940505,0841,-31.0333, -19.0005, 3624,    356.0,  12.3013,  35.1330,2,  35.1332,2,    213.9,2,    212.4,2,     4.43,2,    10.86,2,     0.00,2,     0.84,2, -999.000,9, -999.000,9, -999.000,9,   2108.6,2,   2314.9,2, 12.2537
     316N142_3,   A15,   107,  1,     29,     29,2,19940505,0841,-31.0333, -19.0005, 3624,    456.4,  10.1265,  34.8220,2,  34.8200,2,    209.9,2,    207.0,2,     7.32,2,    16.64,2,     0.00,2,     1.20,2, -999.000,9, -999.000,9, -999.000,9,   2126.4,2,   2299.3,2, 10.0725
     316N142_3,   A15,   107,  1,     28,     28,2,19940505,0841,-31.0333, -19.0005, 3624,    556.4,   7.9345,  34.5664,2,  34.5553,2,    214.3,2,    212.1,2,    10.94,2,    22.03,2,     0.00,2,     1.54,2, -999.000,9, -999.000,9, -999.000,9,   2141.9,2,   2289.4,2,  7.8775
     316N142_3,   A15,   107,  1,     27,     27,2,19940505,0841,-31.0333, -19.0005, 3624,    657.7,   6.1904,  34.4028,2,  34.4038,2,    218.8,2,    219.2,2,    15.15,2,    25.50,2,     0.00,2,     1.78,2, -999.000,9, -999.000,9, -999.000,9,   2153.5,2,   2286.7,2,  6.1314
     316N142_3,   A15,   107,  1,     26,     26,2,19940505,0841,-31.0333, -19.0005, 3624,    747.8,   5.1883,  34.3336,2,  34.3325,2,    220.7,2,    223.8,2,    19.65,2,    27.50,2,     0.00,2,     1.92,2, -999.000,9, -999.000,9, -999.000,9,   -999.0,9,   -999.0,9,  5.1265
     316N142_3,   A15,   107,  1,     25,     25,2,19940505,0841,-31.0333, -19.0005, 3624,    848.5,   4.1814,  34.2669,2,  34.2661,2,    233.6,2,    234.9,2,    23.57,2,    28.81,2,     0.00,2,     2.02,2, -999.000,9, -999.000,9, -999.000,9,   -999.0,9,   -999.0,9,  4.1173
     316N142_3,   A15,   107,  1,     24,     24,2,19940505,0841,-31.0333, -19.0005, 3624,    949.5,   3.7500,  34.2950,2,  34.2937,2,    221.6,2,    222.5,2,    31.15,2,    30.40,2,     0.00,2,     2.14,2, -999.000,9, -999.000,9, -999.000,9,   -999.0,9,   -999.0,9,  3.6807
     316N142_3,   A15,   107,  1,     23,     23,2,19940505,0841,-31.0333, -19.0005, 3624,   1061.1,   3.4492,  34.3327,2,  34.3317,2,    209.5,2,    211.8,2,    38.16,2,    31.48,2,     0.00,2,     2.21,2, -999.000,9, -999.000,9, -999.000,9,   -999.0,9,   -999.0,9,  3.3732
     316N142_3,   A15,   107,  1,     22,     22,2,19940505,0841,-31.0333, -19.0005, 3624,   1191.7,   3.1515,  34.4209,2,  34.4192,2,    194.7,2,    195.7,2,    48.44,2,    32.42,2,     0.00,2,     2.30,2, -999.000,9, -999.000,9, -999.000,9,   -999.0,9,   -999.0,9,  3.0676
     316N142_3,   A15,   107,  1,     21,     21,2,19940505,0841,-31.0333, -19.0005, 3624,   1323.1,   2.9654,  34.5138,2,  34.5124,2,    188.5,2,    188.7,2,    54.93,2,    32.25,2,     0.00,2,     2.29,2, -999.000,9, -999.000,9, -999.000,9,   -999.0,9,   -999.0,9,  2.8726
     316N142_3,   A15,   107,  1,     20,     20,2,19940505,0841,-31.0333, -19.0005, 3624,   1444.5,   2.8808,  34.5833,2,  34.5816,2,    188.9,2,    188.7,2,    56.99,2,    31.51,2,     0.00,2,     2.23,2, -999.000,9, -999.000,9, -999.000,9,   -999.0,9,   -999.0,9,  2.7789
     316N142_3,   A15,   107,  1,     19,     19,2,19940505,0841,-31.0333, -19.0005, 3624,   1565.6,   2.8052,  34.6501,2,  34.6490,2,    193.0,2,    193.4,2,    57.43,2,    30.31,2,     0.00,2,     2.15,2, -999.000,9, -999.000,9, -999.000,9,   -999.0,9,   -999.0,9,  2.6940
     316N142_3,   A15,   107,  1,     40,     40,2,19940505,0841,-31.0333, -19.0005, 3624,   1677.3,   2.7665,  34.7040,2,  34.7034,2,    198.6,2,    199.5,2,    56.53,2,    29.06,2,     0.00,2,     2.06,2, -999.000,9, -999.000,9, -999.000,9,   -999.0,9,   -999.0,9,  2.6463
     316N142_3,   A15,   107,  1,     17,     17,2,19940505,0841,-31.0333, -19.0005, 3624,   1789.1,   2.7247,  34.7436,2,  34.7446,2,    205.7,2,    206.4,2,    55.04,2,    27.86,2,     0.00,2,     1.97,2, -999.000,9, -999.000,9, -999.000,9,   -999.0,9,   -999.0,9,  2.5953
     316N142_3,   A15,   107,  1,     16,     16,2,19940505,0841,-31.0333, -19.0005, 3624,   1911.2,   2.6930,  34.7750,2,  34.7740,2,    212.8,2,    212.5,2,    53.56,2,    26.90,2,     0.00,2,     1.90,2, -999.000,9, -999.000,9, -999.000,9,   -999.0,9,   -999.0,9,  2.5534
     316N142_3,   A15,   107,  1,     15,     15,2,19940505,0841,-31.0333, -19.0005, 3624,   2032.3,   2.6752,  34.8033,2,  34.8029,2,    218.5,2,    219.0,2,    51.48,2,    25.84,2,     0.00,2,     1.83,2, -999.000,9, -999.000,9, -999.000,9,   -999.0,9,   -999.0,9,  2.5251
     316N142_3,   A15,   107,  1,     14,     14,2,19940505,0841,-31.0333, -19.0005, 3624,   2154.6,   2.6573,  34.8204,2,  34.8196,2,    224.1,2,    223.6,2,    50.14,2,    25.16,2,     0.00,2,     1.78,2, -999.000,9, -999.000,9, -999.000,9,   -999.0,9,   -999.0,9,  2.4964
     316N142_3,   A15,   107,  1,     13,     13,2,19940505,0841,-31.0333, -19.0005, 3624,   2276.6,   2.6441,  34.8357,2,  34.8361,2,    228.9,2,    228.1,2,    48.51,2,    24.52,2,     0.00,2,     1.73,2, -999.000,9, -999.000,9, -999.000,9,   -999.0,9,   -999.0,9,  2.4722
     316N142_3,   A15,   107,  1,     12,     12,2,19940505,0841,-31.0333, -19.0005, 3624,   2397.7,   2.6442,  34.8518,2,  34.8512,2,    232.6,2,    232.5,2,    46.73,2,    23.83,2,     0.00,2,     1.69,2, -999.000,9, -999.000,9, -999.000,9,   -999.0,9,   -999.0,9,  2.4609
     316N142_3,   A15,   107,  1,     11,     11,2,19940505,0841,-31.0333, -19.0005, 3624,   2509.4,   2.6492,  34.8609,2,  34.8596,2,    235.3,2,    235.2,2,    45.40,2,    23.47,2,     0.00,2,     1.64,2, -999.000,9, -999.000,9, -999.000,9,   -999.0,9,   -999.0,9,  2.4551
     316N142_3,   A15,   107,  1,     10,     10,2,19940505,0841,-31.0333, -19.0005, 3624,   2643.2,   2.6512,  34.8740,2,  34.8722,2,    240.2,2,    239.1,2,    43.63,2,    22.88,2,     0.00,2,     1.61,2, -999.000,9, -999.000,9, -999.000,9,   -999.0,9,   -999.0,9,  2.4441
     316N142_3,   A15,   107,  1,      9,      9,2,19940505,0841,-31.0333, -19.0005, 3624,   2764.3,   2.6483,  34.8818,2,  34.8814,2,    241.8,2,    241.8,2,    42.29,2,    22.47,2,     0.00,2,     1.59,2, -999.000,9, -999.000,9, -999.000,9,   -999.0,9,   -999.0,9,  2.4293
     316N142_3,   A15,   107,  1,      8,      8,2,19940505,0841,-31.0333, -19.0005, 3624,   2885.8,   2.6252,  34.8872,2,  34.8871,2,    244.0,2,    244.0,2,    41.84,2,    22.15,2,     0.00,2,     1.56,2, -999.000,9, -999.000,9, -999.000,9,   -999.0,9,   -999.0,9,  2.3944
     316N142_3,   A15,   107,  1,      7,      7,2,19940505,0841,-31.0333, -19.0005, 3624,   3007.7,   2.5787,  34.8898,2,  34.8896,2,    246.3,2,    245.8,2,    42.13,2,    21.98,2,     0.00,2,     1.56,2, -999.000,9, -999.000,9, -999.000,9,   -999.0,9,   -999.0,9,  2.3364
     316N142_3,   A15,   107,  1,      6,      6,2,19940505,0841,-31.0333, -19.0005, 3624,   3129.4,   2.5051,  34.8881,2,  34.8894,2,    246.7,2,    246.6,2,    43.74,2,    22.03,2,     0.00,2,     1.56,2, -999.000,9, -999.000,9, -999.000,9,   -999.0,9,   -999.0,9,  2.2520
     316N142_3,   A15,   107,  1,      5,      5,2,19940505,0841,-31.0333, -19.0005, 3624,   3252.4,   2.4031,  34.8812,2,  34.8816,2,    246.8,2,    246.5,2,    46.83,2,    22.36,2,     0.00,2,     1.57,2, -999.000,9, -999.000,9, -999.000,9,   -999.0,9,   -999.0,9,  2.1396
     316N142_3,   A15,   107,  1,      4,      4,2,19940505,0841,-31.0333, -19.0005, 3624,   3374.1,   2.2706,  34.8695,2,  34.8702,2,    245.5,2,    245.3,2,    51.41,2,    22.93,2,     0.00,2,     1.62,2, -999.000,9, -999.000,9, -999.000,9,   -999.0,9,   -999.0,9,  1.9975
     316N142_3,   A15,   107,  1,      3,      3,2,19940505,0841,-31.0333, -19.0005, 3624,   3506.8,   2.0878,  34.8519,2,  34.8521,2,    243.0,2,    242.8,2,    58.38,2,    23.78,2,     0.00,2,     1.69,2, -999.000,9, -999.000,9, -999.000,9,   -999.0,9,   -999.0,9,  1.8053
     316N142_3,   A15,   107,  1,      2,      2,2,19940505,0841,-31.0333, -19.0005, 3624,   3650.4,   1.9476,  34.8363,2,  34.8376,2,    241.2,2,    240.4,2,    64.34,2,    24.62,2,     0.00,2,     1.74,2, -999.000,9, -999.000,9, -999.000,9,   -999.0,9,   -999.0,9,  1.6534
     316N142_3,   A15,   107,  1,      1,      1,2,19940505,0841,-31.0333, -19.0005, 3624,   3745.9,   1.8544,  34.8265,2,  34.8271,2,    239.3,2,    239.1,2,    68.07,2,    25.10,2,     0.00,2,     1.78,2, -999.000,9, -999.000,9, -999.000,9,   -999.0,9,   -999.0,9,  1.5524