BOTTLE,20020814WHPSIOKJU
EXPOCODE,SECT_ID,STNNBR,CASTNO,SAMPNO,BTLNBR,BTLNBR_FLAG_W,DATE,TIME,LATITUDE,LONGITUDE,DEPTH,CTDPRS,CTDTMP,CTDSAL,CTDSAL_FLAG_W,SALNTY,SALNTY_FLAG_W,CTDOXY,CTDOXY_FLAG_W,OXYGEN,OXYGEN_FLAG_W,SILCAT,SILCAT_FLAG_W,NITRAT,NITRAT_FLAG_W,NITRIT,NITRIT_FLAG_W,PHSPHT,PHSPHT_FLAG_W,CFC-11,CFC-11_FLAG_W,CFC-12,CFC-12_FLAG_W,CCL4,CCL4_FLAG_W,TCARBN,TCARBN_FLAG_W,ALKALI,ALKALI_FLAG_W,THETA
,,,,,,,,,,,,DBAR,ITS-90,PSS-78,,PSS-78,,UMOL/KG,,UMOL/KG,,UMOL/KG,,UMOL/KG,,UMOL/KG,,UMOL/KG,,PMOL/KG,,PMOL/KG,,PMOL/KG,,UMOL/KG,,UMOL/KG,,DEG C
     316N142_3,  AR15,     3,  1,     35,     35,9,19940405,0351, -3.7332, -37.2040, 2342,      1.9,  28.6835,  36.0672,2,-999.0000,9,    194.7,2,   -999.0,9,  -999.00,9,  -999.00,9,  -999.00,9,  -999.00,9, -999.000,9, -999.000,9, -999.000,9,   -999.0,9,   -999.0,9, 28.6831
     316N142_3,  AR15,     3,  1,     36,     36,2,19940405,0351, -3.7332, -37.2040, 2342,      2.0,  28.6817,  36.0666,2,  36.0746,2,    195.6,2,    196.6,2,     1.68,2,     0.10,2,     0.00,2,     0.11,2, -999.000,9, -999.000,9, -999.000,9,   -999.0,9,   -999.0,9, 28.6813
     316N142_3,  AR15,     3,  1,     34,     34,3,19940405,0351, -3.7332, -37.2040, 2342,     52.4,  28.3604,  36.7121,2,  36.7554,4,    203.5,2,   -999.0,9,     1.67,4,     0.09,4,     0.00,4,     0.11,4, -999.000,9, -999.000,9, -999.000,9,   -999.0,9,   -999.0,9, 28.3479
     316N142_3,  AR15,     3,  1,     33,     33,2,19940405,0351, -3.7332, -37.2040, 2342,     82.5,  24.3683,  36.9841,2,  36.9924,2,    210.7,2,    208.1,2,     1.56,2,     0.09,2,     0.00,2,     0.16,2, -999.000,9, -999.000,9, -999.000,9,   -999.0,9,   -999.0,9, 24.3506
     316N142_3,  AR15,     3,  1,     32,     32,2,19940405,0351, -3.7332, -37.2040, 2342,    133.5,  20.7204,  36.4394,2,  36.4413,2,    200.1,2,    195.1,2,     2.58,2,     3.22,2,     0.04,2,     0.31,2, -999.000,9, -999.000,9, -999.000,9,   -999.0,9,   -999.0,9, 20.6949
     316N142_3,  AR15,     3,  1,     31,     31,2,19940405,0351, -3.7332, -37.2040, 2342,    174.4,  17.2530,  35.8709,4,  35.8190,2,   -999.0,5,    190.8,2,     3.95,2,     7.09,2,     0.02,2,     0.54,2, -999.000,9, -999.000,9, -999.000,9,   -999.0,9,   -999.0,9, 17.2238
     316N142_3,  AR15,     3,  1,     30,     30,2,19940405,0351, -3.7332, -37.2040, 2342,    240.5,  13.4723,  35.2800,2,  35.2510,2,    187.2,2,    186.8,2,     6.13,2,    12.52,2,     0.01,2,     0.84,2, -999.000,9, -999.000,9, -999.000,9,   -999.0,9,   -999.0,9, 13.4383
     316N142_3,  AR15,     3,  1,     29,     29,2,19940405,0351, -3.7332, -37.2040, 2342,    285.2,  11.6538,  35.0493,2,  35.0433,2,    185.0,2,    180.4,2,     8.42,2,    16.32,2,     0.00,2,     1.09,2, -999.000,9, -999.000,9, -999.000,9,   -999.0,9,   -999.0,9, 11.6172
     316N142_3,  AR15,     3,  1,     27,     27,2,19940405,0351, -3.7332, -37.2040, 2342,    355.3,  10.6382,  34.9230,2,  34.9239,2,    171.1,2,    172.3,2,    10.01,2,    19.19,2,     0.00,2,     1.27,2, -999.000,9, -999.000,9, -999.000,9,   -999.0,9,   -999.0,9, 10.5950
     316N142_3,  AR15,     3,  1,     28,     28,2,19940405,0351, -3.7332, -37.2040, 2342,    355.8,  10.6388,  34.9233,2,  34.9255,2,    171.1,2,    172.0,2,    10.02,2,    19.19,2,     0.00,2,     1.27,2, -999.000,9, -999.000,9, -999.000,9,   -999.0,9,   -999.0,9, 10.5956
     316N142_3,  AR15,     3,  1,     26,     26,9,19940405,0351, -3.7332, -37.2040, 2342,    456.0,   7.5178,  34.6083,2,-999.0000,9,    166.0,2,   -999.0,9,  -999.00,9,  -999.00,9,  -999.00,9,  -999.00,9, -999.000,9, -999.000,9, -999.000,9,   -999.0,9,   -999.0,9,  7.4727
     316N142_3,  AR15,     3,  1,     25,     25,2,19940405,0351, -3.7332, -37.2040, 2342,    456.0,   7.5134,  34.6084,2,  34.6068,2,    165.9,2,    169.4,2,    17.46,2,    26.48,2,     0.00,2,     1.76,2, -999.000,9, -999.000,9, -999.000,9,   -999.0,9,   -999.0,9,  7.4684
     316N142_3,  AR15,     3,  1,     23,     23,2,19940405,0351, -3.7332, -37.2040, 2342,    556.2,   7.1986,  34.5856,2,  34.5845,2,    160.5,2,    161.3,2,    18.72,2,    28.01,2,     0.00,2,     1.88,2, -999.000,9, -999.000,9, -999.000,9,   -999.0,9,   -999.0,9,  7.1447
     316N142_3,  AR15,     3,  1,     24,     24,2,19940405,0351, -3.7332, -37.2040, 2342,    556.6,   7.2014,  34.5859,2,  34.5860,2,    160.5,2,    162.5,2,    18.61,2,    27.85,2,     0.00,2,     1.86,2, -999.000,9, -999.000,9, -999.000,9,   -999.0,9,   -999.0,9,  7.1474
     316N142_3,  AR15,     3,  1,     22,     22,2,19940405,0351, -3.7332, -37.2040, 2342,    646.8,   5.5143,  34.4620,2,  34.4639,2,    162.0,2,    168.2,2,    25.37,2,    30.82,2,     0.00,2,     2.07,2, -999.000,9, -999.000,9, -999.000,9,   -999.0,9,   -999.0,9,  5.4595
     316N142_3,  AR15,     3,  1,     21,     21,3,19940405,0351, -3.7332, -37.2040, 2342,    646.9,   5.4515,  34.4460,2,  34.4585,4,    162.0,2,    170.5,4,    25.82,4,    30.77,4,     0.00,4,     2.07,4, -999.000,9, -999.000,9, -999.000,9,   -999.0,9,   -999.0,9,  5.3971
     316N142_3,  AR15,     3,  1,     19,     19,2,19940405,0351, -3.7332, -37.2040, 2342,    707.2,   4.7332,  34.4264,2,  34.4256,2,    175.6,2,    179.8,2,    30.06,2,    31.10,2,     0.00,2,     2.14,2, -999.000,9, -999.000,9, -999.000,9,   -999.0,9,   -999.0,9,  4.6773
     316N142_3,  AR15,     3,  1,     20,     20,2,19940405,0351, -3.7332, -37.2040, 2342,    707.6,   4.7334,  34.4263,2,  34.4257,2,    175.6,2,    179.8,2,    29.95,2,    31.15,2,     0.00,2,     2.13,2, -999.000,9, -999.000,9, -999.000,9,   -999.0,9,   -999.0,9,  4.6775
     316N142_3,  AR15,     3,  1,     18,     18,2,19940405,0351, -3.7332, -37.2040, 2342,    807.5,   4.4725,  34.4706,2,  34.4745,2,    164.1,2,    164.5,2,    33.26,2,    32.92,2,     0.00,2,     2.26,2, -999.000,9, -999.000,9, -999.000,9,   -999.0,9,   -999.0,9,  4.4097
     316N142_3,  AR15,     3,  1,     17,     17,2,19940405,0351, -3.7332, -37.2040, 2342,    807.7,   4.4733,  34.4706,2,  34.4745,2,    164.1,2,    164.5,2,    33.26,2,    33.03,2,     0.00,2,     2.26,2, -999.000,9, -999.000,9, -999.000,9,   -999.0,9,   -999.0,9,  4.4105
     316N142_3,  AR15,     3,  1,     16,     16,2,19940405,0351, -3.7332, -37.2040, 2342,    907.6,   4.2504,  34.5033,2,  34.5036,2,    169.7,2,    169.2,2,    34.63,2,    32.49,2,     0.00,2,     2.23,2, -999.000,9, -999.000,9, -999.000,9,   -999.0,9,   -999.0,9,  4.1806
     316N142_3,  AR15,     3,  1,     15,     15,2,19940405,0351, -3.7332, -37.2040, 2342,    907.6,   4.2505,  34.5033,2,  34.5032,2,    169.7,2,    169.2,2,    34.74,2,    32.49,2,     0.00,2,     2.24,2, -999.000,9, -999.000,9, -999.000,9,   -999.0,9,   -999.0,9,  4.1807
     316N142_3,  AR15,     3,  1,     13,     13,2,19940405,0351, -3.7332, -37.2040, 2342,   1058.4,   4.2632,  34.6211,2,  34.6215,2,    172.1,2,    168.4,2,    33.24,2,    31.21,2,     0.00,2,     2.15,2, -999.000,9, -999.000,9, -999.000,9,   -999.0,9,   -999.0,9,  4.1803
     316N142_3,  AR15,     3,  1,     14,     14,2,19940405,0351, -3.7332, -37.2040, 2342,   1058.7,   4.2637,  34.6216,2,  34.6221,2,    172.1,2,    168.4,2,    33.24,2,    31.20,2,     0.00,2,     2.15,2, -999.000,9, -999.000,9, -999.000,9,   -999.0,9,   -999.0,9,  4.1808
     316N142_3,  AR15,     3,  1,     12,     12,2,19940405,0351, -3.7332, -37.2040, 2342,   1208.9,   4.4161,  34.7871,2,  34.7876,2,    184.6,2,    183.3,2,    27.50,2,    27.70,2,     0.00,2,     1.90,2, -999.000,9, -999.000,9, -999.000,9,   -999.0,9,   -999.0,9,  4.3183
     316N142_3,  AR15,     3,  1,     11,     11,2,19940405,0351, -3.7332, -37.2040, 2342,   1361.4,   4.4156,  34.9044,2,  34.9041,2,    209.1,2,    208.4,2,    22.22,2,    23.80,2,     0.00,2,     1.60,2, -999.000,9, -999.000,9, -999.000,9,   -999.0,9,   -999.0,9,  4.3037
     316N142_3,  AR15,     3,  1,     10,     10,2,19940405,0351, -3.7332, -37.2040, 2342,   1513.2,   4.2735,  34.9548,2,  34.9552,2,    228.5,2,    228.3,2,    19.34,2,    21.29,2,     0.00,2,     1.41,2, -999.000,9, -999.000,9, -999.000,9,   -999.0,9,   -999.0,9,  4.1490
     316N142_3,  AR15,     3,  1,      9,      9,2,19940405,0351, -3.7332, -37.2040, 2342,   1664.9,   4.0946,  34.9720,2,  34.9728,2,    240.2,2,    239.5,2,    18.54,2,    20.03,2,     0.00,2,     1.33,2,    0.073,2,    0.044,2,    0.493,2,   -999.0,9,   -999.0,9,  3.9580
     316N142_3,  AR15,     3,  1,      7,      7,2,19940405,0351, -3.7332, -37.2040, 2342,   1766.2,   3.8767,  34.9804,2,  34.9823,2,    249.7,2,    249.0,2,    18.18,2,    19.09,2,     0.00,2,     1.39,4,    0.079,2,    0.054,2,    0.536,2,   -999.0,9,   -999.0,9,  3.7333
     316N142_3,  AR15,     3,  1,      8,      8,2,19940405,0351, -3.7332, -37.2040, 2342,   1766.3,   3.8769,  34.9804,2,  34.9827,2,    249.7,2,    249.3,2,    18.07,2,    19.09,2,     0.00,2,     1.25,2,    0.101,2,    0.060,2,    0.720,2,   -999.0,9,   -999.0,9,  3.7335
     316N142_3,  AR15,     3,  1,      6,      6,2,19940405,0351, -3.7332, -37.2040, 2342,   1868.0,   3.6163,  34.9757,2,  34.9770,2,    255.6,2,    255.1,2,    18.98,2,    18.62,2,     0.00,2,     1.56,4,    0.071,2,    0.036,2,    0.451,2,   -999.0,9,   -999.0,9,  3.4669
     316N142_3,  AR15,     3,  1,      5,      5,2,19940405,0351, -3.7332, -37.2040, 2342,   1868.1,   3.6174,  34.9758,2,  34.9790,2,    255.6,2,    255.1,2,    18.97,2,    18.62,2,     0.00,2,     1.19,2,    0.072,2,    0.038,2,    0.302,2,   -999.0,9,   -999.0,9,  3.4680
     316N142_3,  AR15,     3,  1,      4,      4,2,19940405,0351, -3.7332, -37.2040, 2342,   1969.4,   3.4398,  34.9700,2,  34.9706,2,    256.9,2,    257.3,2,    20.00,2,    18.52,2,     0.00,2,     1.20,2, -999.000,9, -999.000,9, -999.000,9,   -999.0,9,   -999.0,9,  3.2835
     316N142_3,  AR15,     3,  1,      3,      3,2,19940405,0351, -3.7332, -37.2040, 2342,   2121.5,   3.3209,  34.9645,2,  34.9651,2,    257.8,2,    257.9,2,    21.14,2,    18.57,2,     0.00,2,     1.20,2, -999.000,9, -999.000,9, -999.000,9,   -999.0,9,   -999.0,9,  3.1520
     316N142_3,  AR15,     3,  1,      2,      2,2,19940405,0351, -3.7332, -37.2040, 2342,   2272.9,   3.1589,  34.9567,2,  34.9559,2,    257.0,2,    256.6,2,    23.09,2,    18.78,2,     0.00,2,     1.21,2, -999.000,9, -999.000,9, -999.000,9,   -999.0,9,   -999.0,9,  2.9782
     316N142_3,  AR15,     3,  1,      1,      1,2,19940405,0351, -3.7332, -37.2040, 2342,   2355.4,   3.1183,  34.9534,2,  34.9539,2,    257.5,2,    257.4,2,    23.77,2,    18.83,2,     0.00,2,     1.21,2, -999.000,9, -999.000,9, -999.000,9,   -999.0,9,   -999.0,9,  2.9303