BOTTLE,20020814WHPSIOKJU
EXPOCODE,SECT_ID,STNNBR,CASTNO,SAMPNO,BTLNBR,BTLNBR_FLAG_W,DATE,TIME,LATITUDE,LONGITUDE,DEPTH,CTDPRS,CTDTMP,CTDSAL,CTDSAL_FLAG_W,SALNTY,SALNTY_FLAG_W,CTDOXY,CTDOXY_FLAG_W,OXYGEN,OXYGEN_FLAG_W,SILCAT,SILCAT_FLAG_W,NITRAT,NITRAT_FLAG_W,NITRIT,NITRIT_FLAG_W,PHSPHT,PHSPHT_FLAG_W,CFC-11,CFC-11_FLAG_W,CFC-12,CFC-12_FLAG_W,CCL4,CCL4_FLAG_W,TCARBN,TCARBN_FLAG_W,ALKALI,ALKALI_FLAG_W,THETA
,,,,,,,,,,,,DBAR,ITS-90,PSS-78,,PSS-78,,UMOL/KG,,UMOL/KG,,UMOL/KG,,UMOL/KG,,UMOL/KG,,UMOL/KG,,PMOL/KG,,PMOL/KG,,PMOL/KG,,UMOL/KG,,UMOL/KG,,DEG C
     316N142_3,   A15,    42,  1,     39,     39,2,19940417,1750,  0.4972, -19.0028, 5278,      9.7,  29.0262,  35.0694,2,  35.0703,2,    199.7,2,    200.3,2,     1.78,2,     0.09,2,     0.00,2,     0.06,2, -999.000,9, -999.000,9, -999.000,9,   -999.0,9,   -999.0,9, 29.0239
     316N142_3,   A15,    42,  1,     42,     42,2,19940417,1750,  0.4972, -19.0028, 5278,     60.3,  23.8312,  36.4529,2,  36.4374,2,    194.8,2,    197.0,2,     2.30,2,     0.14,2,     0.04,2,     0.22,2, -999.000,9, -999.000,9, -999.000,9,   -999.0,9,   -999.0,9, 23.8185
     316N142_3,   A15,    42,  1,     38,     38,2,19940417,1750,  0.4972, -19.0028, 5278,    101.2,  15.1836,  35.5752,2,  35.5861,2,    167.9,2,    167.6,2,     5.85,2,    12.02,2,     0.05,2,     0.94,2, -999.000,9, -999.000,9, -999.000,9,   -999.0,9,   -999.0,9, 15.1681
     316N142_3,   A15,    42,  1,     33,     33,2,19940417,1750,  0.4972, -19.0028, 5278,    136.1,  13.8749,  35.3888,2,  35.3851,2,    159.8,2,    159.8,2,     7.13,2,    15.05,2,     0.02,2,     1.13,2, -999.000,9, -999.000,9, -999.000,9,   -999.0,9,   -999.0,9, 13.8553
     316N142_3,   A15,    42,  1,     41,     41,2,19940417,1750,  0.4972, -19.0028, 5278,    256.4,  12.4952,  35.2149,2,  35.2138,2,    114.7,2,    112.3,2,    10.03,2,    22.69,2,     0.01,2,     1.55,2, -999.000,9, -999.000,9, -999.000,9,   -999.0,9,   -999.0,9, 12.4607
     316N142_3,   A15,    42,  1,     31,     31,2,19940417,1750,  0.4972, -19.0028, 5278,    317.3,   9.8748,  34.9234,2,  34.9227,2,     91.1,2,     88.5,2,    14.98,2,    30.24,2,     0.00,2,     1.97,2, -999.000,9, -999.000,9, -999.000,9,   -999.0,9,   -999.0,9,  9.8381
     316N142_3,   A15,    42,  1,     37,     37,2,19940417,1750,  0.4972, -19.0028, 5278,    402.4,   8.3218,  34.7526,2,  34.7533,2,    105.3,2,    107.7,2,    17.89,2,    31.43,2,     0.00,2,     2.08,2, -999.000,9, -999.000,9, -999.000,9,   -999.0,9,   -999.0,9,  8.2797
     316N142_3,   A15,    42,  1,     29,     29,2,19940417,1750,  0.4972, -19.0028, 5278,    528.8,   6.7494,  34.5968,2,  34.5942,2,    123.1,2,    130.0,2,    21.99,2,    32.53,2,     0.00,2,     2.20,2, -999.000,9, -999.000,9, -999.000,9,   -999.0,9,   -999.0,9,  6.7000
     316N142_3,   A15,    42,  1,     28,     28,2,19940417,1750,  0.4972, -19.0028, 5278,    643.6,   5.7197,  34.5265,2,  34.5246,2,    138.0,2,    139.8,2,    26.31,2,    33.53,2,     0.00,2,     2.30,2, -999.000,9, -999.000,9, -999.000,9,   -999.0,9,   -999.0,9,  5.6641
     316N142_3,   A15,    42,  1,     27,     27,2,19940417,1750,  0.4972, -19.0028, 5278,    730.1,   5.2657,  34.5079,2,  34.5081,2,    143.3,2,    144.4,2,    28.68,2,    33.90,2,     0.00,2,     2.34,2, -999.000,9, -999.000,9, -999.000,9,   -999.0,9,   -999.0,9,  5.2048
     316N142_3,   A15,    42,  1,     26,     26,2,19940417,1750,  0.4972, -19.0028, 5278,    810.7,   4.7845,  34.5149,2,  34.5146,2,    145.5,2,    150.0,2,    31.59,2,    33.90,2,     0.00,2,     2.35,2, -999.000,9, -999.000,9, -999.000,9,   -999.0,9,   -999.0,9,  4.7194
     316N142_3,   A15,    42,  1,     25,     25,2,19940417,1750,  0.4972, -19.0028, 5278,    936.7,   4.5195,  34.6074,2,  34.6083,2,    155.6,2,    156.9,2,    32.01,2,    32.53,2,     0.00,2,     2.26,2, -999.000,9, -999.000,9, -999.000,9,   -999.0,9,   -999.0,9,  4.4452
     316N142_3,   A15,    42,  1,     24,     24,2,19940417,1750,  0.4972, -19.0028, 5278,   1063.4,   4.4873,  34.6680,2,  34.6673,2,    162.6,2,    160.9,2,    30.92,2,    31.49,2,     0.00,2,     2.19,2, -999.000,9, -999.000,9, -999.000,9,   -999.0,9,   -999.0,9,  4.4021
     316N142_3,   A15,    42,  1,     23,     23,2,19940417,1750,  0.4972, -19.0028, 5278,   1188.9,   4.4730,  34.7634,2,  34.7636,2,    178.4,2,    172.7,2,    28.52,2,    29.27,2,     0.00,2,     2.03,2, -999.000,9, -999.000,9, -999.000,9,   -999.0,9,   -999.0,9,  4.3766
     316N142_3,   A15,    42,  1,     22,     22,2,19940417,1750,  0.4972, -19.0028, 5278,   1315.1,   4.4798,  34.8794,2,  34.8816,2,    200.4,2,    198.1,2,    23.63,2,    25.36,2,     0.00,2,     1.75,2, -999.000,9, -999.000,9, -999.000,9,   -999.0,9,   -999.0,9,  4.3716
     316N142_3,   A15,    42,  1,     21,     21,2,19940417,1750,  0.4972, -19.0028, 5278,   1466.0,   4.3681,  34.9509,2,  34.9510,2,    221.7,2,    221.3,2,    20.04,2,    22.36,2,     0.00,2,     1.53,2, -999.000,9, -999.000,9, -999.000,9,   -999.0,9,   -999.0,9,  4.2469
     316N142_3,   A15,    42,  1,     20,     20,2,19940417,1750,  0.4972, -19.0028, 5278,   1617.1,   4.0392,  34.9727,2,  34.9730,2,    239.4,2,    238.8,2,    18.94,2,    20.50,2,     0.00,2,     1.42,2, -999.000,9, -999.000,9, -999.000,9,   -999.0,9,   -999.0,9,  3.9078
     316N142_3,   A15,    42,  1,     19,     19,2,19940417,1750,  0.4972, -19.0028, 5278,   1769.5,   3.8755,  34.9765,2,  34.9760,2,    246.9,2,    246.5,2,    18.71,2,    19.77,2,     0.00,2,     1.36,2, -999.000,9, -999.000,9, -999.000,9,   -999.0,9,   -999.0,9,  3.7319
     316N142_3,   A15,    42,  1,     40,     40,2,19940417,1750,  0.4972, -19.0028, 5278,   1921.4,   3.6411,  34.9724,2,  34.9740,2,    252.9,2,    251.9,2,    19.89,2,    19.41,2,     0.00,2,     1.33,2, -999.000,9, -999.000,9, -999.000,9,   -999.0,9,   -999.0,9,  3.4864
     316N142_3,   A15,    42,  1,     17,     17,2,19940417,1750,  0.4972, -19.0028, 5278,   2124.5,   3.2869,  34.9516,2,  34.9520,2,    249.2,2,    249.2,2,    25.52,2,    20.09,2,     0.00,2,     1.38,2, -999.000,9, -999.000,9, -999.000,9,   -999.0,9,   -999.0,9,  3.1183
     316N142_3,   A15,    42,  1,     16,     16,2,19940417,1750,  0.4972, -19.0028, 5278,   2327.7,   3.1295,  34.9428,2,  34.9421,2,    249.1,2,    248.4,2,    28.44,2,    20.41,2,     0.00,2,     1.41,2, -999.000,9, -999.000,9, -999.000,9,   -999.0,9,   -999.0,9,  2.9440
     316N142_3,   A15,    42,  1,     15,     15,2,19940417,1750,  0.4972, -19.0028, 5278,   2531.5,   2.9201,  34.9307,2,  34.9296,2,    247.5,2,    252.4,4,    31.90,2,    20.73,2,     0.00,2,     1.43,2, -999.000,9, -999.000,9, -999.000,9,   -999.0,9,   -999.0,9,  2.7185
     316N142_3,   A15,    42,  1,     14,     14,2,19940417,1750,  0.4972, -19.0028, 5278,   2733.9,   2.7919,  34.9221,2,  34.9213,2,    247.1,2,    247.2,2,    34.72,2,    21.00,2,     0.00,2,     1.44,2, -999.000,9, -999.000,9, -999.000,9,   -999.0,9,   -999.0,9,  2.5729
     316N142_3,   A15,    42,  1,     13,     13,2,19940417,1750,  0.4972, -19.0028, 5278,   2937.4,   2.6648,  34.9125,2,  34.9120,2,    246.1,2,    245.9,2,    37.75,2,    21.37,2,     0.00,2,     1.47,2, -999.000,9, -999.000,9, -999.000,9,   -999.0,9,   -999.0,9,  2.4278
     316N142_3,   A15,    42,  1,     12,     12,2,19940417,1750,  0.4972, -19.0028, 5278,   3140.5,   2.5692,  34.9074,2,  34.9079,2,    246.7,2,    247.7,2,    38.82,2,    21.28,2,     0.00,2,     1.47,2, -999.000,9, -999.000,9, -999.000,9,   -999.0,9,   -999.0,9,  2.3134
     316N142_3,   A15,    42,  1,     11,     11,2,19940417,1750,  0.4972, -19.0028, 5278,   3343.3,   2.4736,  34.9018,2,  34.9016,2,    248.4,2,    249.1,2,    40.12,2,    21.19,2,     0.00,2,     1.46,2, -999.000,9, -999.000,9, -999.000,9,   -999.0,9,   -999.0,9,  2.1987
     316N142_3,   A15,    42,  1,     10,     10,2,19940417,1750,  0.4972, -19.0028, 5278,   3547.5,   2.4482,  34.8999,2,  34.8998,2,    249.7,2,    249.6,2,    40.00,2,    21.06,2,     0.00,2,     1.45,2, -999.000,9, -999.000,9, -999.000,9,   -999.0,9,   -999.0,9,  2.1520
     316N142_3,   A15,    42,  1,      9,      9,2,19940417,1750,  0.4972, -19.0028, 5278,   3751.6,   2.4167,  34.8976,2,  34.8977,2,    252.7,2,    253.2,2,    38.80,2,    20.69,2,     0.00,2,     1.44,2, -999.000,9, -999.000,9, -999.000,9,   -999.0,9,   -999.0,9,  2.0988
     316N142_3,   A15,    42,  1,      8,      8,2,19940417,1750,  0.4972, -19.0028, 5278,   3956.8,   2.4002,  34.8964,2,  34.8961,2,    254.3,2,    254.7,2,    38.57,2,    20.51,2,     0.00,2,     1.43,2, -999.000,9, -999.000,9, -999.000,9,   -999.0,9,   -999.0,9,  2.0597
     316N142_3,   A15,    42,  1,      7,      7,2,19940417,1750,  0.4972, -19.0028, 5278,   4162.1,   2.3325,  34.8895,2,  34.8884,2,    254.1,2,    254.8,2,    40.96,2,    20.79,2,     0.00,2,     1.45,2, -999.000,9, -999.000,9, -999.000,9,   -999.0,9,   -999.0,9,  1.9703
     316N142_3,   A15,    42,  1,      6,      6,2,19940417,1750,  0.4972, -19.0028, 5278,   4365.4,   2.3072,  34.8839,2,  34.8833,2,    253.3,2,    252.6,2,    43.45,2,    21.20,2,     0.00,2,     1.47,2, -999.000,9, -999.000,9, -999.000,9,   -999.0,9,   -999.0,9,  1.9219
     316N142_3,   A15,    42,  1,      5,      5,2,19940417,1750,  0.4972, -19.0028, 5278,   4569.8,   2.2696,  34.8777,2,  34.8772,2,    251.9,2,    252.4,2,    45.50,2,    21.47,2,     0.00,2,     1.49,2, -999.000,9, -999.000,9, -999.000,9,   -999.0,9,   -999.0,9,  1.8611
     316N142_3,   A15,    42,  1,      4,      4,2,19940417,1750,  0.4972, -19.0028, 5278,   4748.5,   2.2251,  34.8691,3,  34.8688,2,   -999.0,5,    248.3,2,    50.16,2,    22.25,2,     0.00,2,     1.55,2, -999.000,9, -999.000,9, -999.000,9,   -999.0,9,   -999.0,9,  1.7963
     316N142_3,   A15,    42,  1,      3,      3,2,19940417,1750,  0.4972, -19.0028, 5278,   4925.7,   2.2134,  34.8646,2,  34.8639,2,    246.8,2,    246.7,2,    52.10,2,    22.57,2,     0.00,2,     1.57,2, -999.000,9, -999.000,9, -999.000,9,   -999.0,9,   -999.0,9,  1.7631
     316N142_3,   A15,    42,  1,      2,      2,2,19940417,1750,  0.4972, -19.0028, 5278,   5105.7,   2.2146,  34.8622,2,  34.8621,2,    246.4,2,    245.6,2,    53.18,2,    22.75,2,     0.00,2,     1.58,2, -999.000,9, -999.000,9, -999.000,9,   -999.0,9,   -999.0,9,  1.7417
     316N142_3,   A15,    42,  1,      1,      1,2,19940417,1750,  0.4972, -19.0028, 5278,   5282.9,   2.2344,  34.8619,2,  34.8619,2,    246.9,2,    246.0,2,    53.50,2,    22.80,2,     0.00,2,     1.58,2, -999.000,9, -999.000,9, -999.000,9,   -999.0,9,   -999.0,9,  1.7381