BOTTLE,20020814WHPSIOKJU
EXPOCODE,SECT_ID,STNNBR,CASTNO,SAMPNO,BTLNBR,BTLNBR_FLAG_W,DATE,TIME,LATITUDE,LONGITUDE,DEPTH,CTDPRS,CTDTMP,CTDSAL,CTDSAL_FLAG_W,SALNTY,SALNTY_FLAG_W,CTDOXY,CTDOXY_FLAG_W,OXYGEN,OXYGEN_FLAG_W,SILCAT,SILCAT_FLAG_W,NITRAT,NITRAT_FLAG_W,NITRIT,NITRIT_FLAG_W,PHSPHT,PHSPHT_FLAG_W,CFC-11,CFC-11_FLAG_W,CFC-12,CFC-12_FLAG_W,CCL4,CCL4_FLAG_W,TCARBN,TCARBN_FLAG_W,ALKALI,ALKALI_FLAG_W,THETA
,,,,,,,,,,,,DBAR,ITS-90,PSS-78,,PSS-78,,UMOL/KG,,UMOL/KG,,UMOL/KG,,UMOL/KG,,UMOL/KG,,UMOL/KG,,PMOL/KG,,PMOL/KG,,PMOL/KG,,UMOL/KG,,UMOL/KG,,DEG C
     316N142_3,   A15,    88,  1,     39,     39,2,19940430,1043,-21.5418, -19.0005, 4521,      8.6,  25.9725,  36.9674,2,  36.9671,2,    209.0,2,    209.6,2,     1.65,2,     0.09,2,     0.00,2,     0.19,2,    1.904,2,    1.023,2,    2.457,2,   -999.0,9,   -999.0,9, 25.9706
     316N142_3,   A15,    88,  1,     35,     35,2,19940430,1043,-21.5418, -19.0005, 4521,     79.0,  23.2933,  36.6034,2,  36.5967,2,    237.0,2,    230.8,2,     1.63,2,     0.00,2,     0.00,2,     0.17,2,    2.004,6,    1.176,6,    2.218,6,   2062.2,2,   2400.6,2, 23.2769
     316N142_3,   A15,    88,  1,     38,     38,9,19940430,1043,-21.5418, -19.0005, 4521,    114.0,  21.5918,  36.4216,2,-999.0000,9,    230.9,2,   -999.0,9,  -999.00,9,  -999.00,9,  -999.00,9,  -999.00,9, -999.000,9, -999.000,9, -999.000,9,   -999.0,9,   -999.0,9, 21.5694
     316N142_3,   A15,    88,  1,     33,     33,2,19940430,1043,-21.5418, -19.0005, 4521,    224.3,  16.1339,  35.6045,2,  35.5980,2,    214.2,2,    204.8,2,     3.08,2,     3.66,2,     0.00,2,     0.52,2,    2.431,2,    1.321,2,    0.893,2,   2090.5,2,   2337.8,2, 16.0980
     316N142_3,   A15,    88,  1,     41,     41,2,19940430,1043,-21.5418, -19.0005, 4521,    335.0,  12.8334,  35.1366,2,  35.1368,2,    194.2,2,    192.3,2,     5.84,2,    11.54,2,     0.00,2,     0.94,2,    2.071,2,    1.133,2,    0.660,2,   2114.7,2,   2314.1,2, 12.7874
     316N142_3,   A15,    88,  1,     31,     31,2,19940430,1043,-21.5418, -19.0005, 4521,    446.1,   9.4569,  34.7580,2,  34.7569,2,    177.6,2,    174.6,2,    11.80,2,    21.50,2,     0.00,2,     1.51,2,    1.450,2,    0.781,2,    1.070,2,   2156.2,2,   2299.0,2,  9.4064
     316N142_3,   A15,    88,  1,     37,     37,2,19940430,1043,-21.5418, -19.0005, 4521,    531.3,   7.9718,  34.6112,2,  34.6077,2,    178.0,2,    176.4,2,    15.58,2,    25.21,2,     0.00,2,     1.74,2,    1.218,2,    0.621,2,    1.472,2,   2168.8,2,   2297.1,2,  7.9172
     316N142_3,   A15,    88,  1,     29,     29,2,19940430,1043,-21.5418, -19.0005, 4521,    617.0,   6.1650,  34.4523,2,  34.4554,2,    184.0,2,    185.9,2,    21.12,2,    28.74,2,     0.00,2,     1.96,2,    1.010,2,    0.510,2,    1.543,2,   2178.8,2,   2294.1,2,  6.1099
     316N142_3,   A15,    88,  1,     28,     28,2,19940430,1043,-21.5418, -19.0005, 4521,    707.6,   4.9576,  34.4010,2,  34.4021,2,    182.6,2,    184.0,2,    28.13,2,    31.46,2,     0.00,2,     2.13,2,    0.598,6,    0.268,6,    1.436,6,   -999.0,9,   -999.0,9,  4.9005
     316N142_3,   A15,    88,  1,     27,     27,2,19940430,1043,-21.5418, -19.0005, 4521,    818.0,   4.1971,  34.4173,2,  34.4174,2,    179.1,2,    179.4,2,    35.74,2,    33.06,2,     0.00,2,     2.24,2,    0.238,2,    0.101,2,    0.803,2,   -999.0,9,   -999.0,9,  4.1352
     316N142_3,   A15,    88,  1,     26,     26,2,19940430,1043,-21.5418, -19.0005, 4521,    958.3,   3.7426,  34.4776,2,  34.4779,2,    180.3,2,    180.9,2,    41.17,2,    32.87,2,     0.00,2,     2.23,2,    0.095,4,    0.041,2,    0.384,2,   -999.0,9,   -999.0,9,  3.6724
     316N142_3,   A15,    88,  1,     25,     25,2,19940430,1043,-21.5418, -19.0005, 4521,   1108.4,   3.5554,  34.5803,2,  34.5822,2,    184.8,2,    185.0,2,    42.77,2,    31.46,2,     0.00,2,     2.12,2,    0.090,4,    0.028,2,    0.316,2,   -999.0,9,   -999.0,9,  3.4743
     316N142_3,   A15,    88,  1,     24,     24,2,19940430,1043,-21.5418, -19.0005, 4521,   1261.8,   3.5668,  34.7104,2,  34.7115,2,    195.0,2,    195.0,2,    40.10,2,    28.89,2,     0.00,2,     1.95,2, -999.000,9, -999.000,9, -999.000,9,   -999.0,9,   -999.0,9,  3.4726
     316N142_3,   A15,    88,  1,     23,     23,9,19940430,1043,-21.5418, -19.0005, 4521,   1413.7,   3.5309,  34.8043,2,-999.0000,9,    208.5,2,   -999.0,9,  -999.00,9,  -999.00,9,  -999.00,9,  -999.00,9, -999.000,9, -999.000,9, -999.000,9,   -999.0,9,   -999.0,9,  3.4240
     316N142_3,   A15,    88,  1,     22,     22,2,19940430,1043,-21.5418, -19.0005, 4521,   1564.8,   3.5107,  34.8682,2,  34.8684,2,    220.7,2,    240.1,4,    32.30,2,    23.87,2,     0.00,2,     1.62,2, -999.000,9,    0.024,2,    0.129,2,   -999.0,9,   -999.0,9,  3.3906
     316N142_3,   A15,    88,  1,     21,     21,2,19940430,1043,-21.5418, -19.0005, 4521,   1691.3,   3.4611,  34.9031,2,  34.9016,2,    232.1,2,    233.7,2,    29.80,2,    22.48,2,     0.00,2,     1.51,2, -999.000,9, -999.000,9, -999.000,9,   -999.0,9,   -999.0,9,  3.3302
     316N142_3,   A15,    88,  1,     20,     20,2,19940430,1043,-21.5418, -19.0005, 4521,   1818.0,   3.4361,  34.9208,2,  34.9242,2,    239.5,2,    240.3,2,    28.03,2,    21.57,2,     0.00,2,     1.45,2, -999.000,9,    0.018,2,    0.153,2,   -999.0,9,   -999.0,9,  3.2940
     316N142_3,   A15,    88,  1,     19,     19,2,19940430,1043,-21.5418, -19.0005, 4521,   1944.2,   3.3430,  34.9316,2,  34.9328,2,    246.0,2,    245.3,2,    27.57,2,    20.95,2,     0.00,2,     1.42,2, -999.000,9, -999.000,9, -999.000,9,   -999.0,9,   -999.0,9,  3.1906
     316N142_3,   A15,    88,  1,     40,     40,2,19940430,1043,-21.5418, -19.0005, 4521,   2071.1,   3.2228,  34.9365,2,  34.9369,2,    250.1,2,    249.0,2,    28.15,2,    20.43,2,     0.00,2,     1.41,2, -999.000,9,    0.008,2,    0.102,2,   -999.0,9,   -999.0,9,  3.0603
     316N142_3,   A15,    88,  1,     17,     17,2,19940430,1043,-21.5418, -19.0005, 4521,   2248.2,   3.0347,  34.9254,2,  34.9249,2,    248.9,2,    248.0,2,    31.79,2,    20.76,2,     0.00,2,     1.42,2, -999.000,9, -999.000,9, -999.000,9,   -999.0,9,   -999.0,9,  2.8585
     316N142_3,   A15,    88,  1,     16,     16,2,19940430,1043,-21.5418, -19.0005, 4521,   2436.8,   2.9766,  34.9300,2,  34.9295,2,    251.2,2,    250.9,2,    31.05,2,    20.34,2,     0.00,2,     1.39,2, -999.000,9, -999.000,9, -999.000,9,   -999.0,9,   -999.0,9,  2.7833
     316N142_3,   A15,    88,  1,     15,     15,2,19940430,1043,-21.5418, -19.0005, 4521,   2559.1,   2.9218,  34.9267,2,  34.9261,2,    251.1,2,    250.7,2,    31.91,2,    20.39,2,     0.00,2,     1.38,2, -999.000,9, -999.000,9, -999.000,9,   -999.0,9,   -999.0,9,  2.7175
     316N142_3,   A15,    88,  1,     14,     14,2,19940430,1043,-21.5418, -19.0005, 4521,   2681.0,   2.8494,  34.9216,2,  34.9222,2,    251.0,2,    250.4,2,    33.51,2,    20.58,2,     0.00,2,     1.39,2, -999.000,9,    0.006,2,    0.158,2,   -999.0,9,   -999.0,9,  2.6345
     316N142_3,   A15,    88,  1,     13,     13,2,19940430,1043,-21.5418, -19.0005, 4521,   2834.8,   2.7927,  34.9177,2,  34.9187,2,    250.3,2,    250.1,2,    34.82,2,    20.73,2,     0.00,2,     1.42,2, -999.000,9, -999.000,9, -999.000,9,   -999.0,9,   -999.0,9,  2.5635
     316N142_3,   A15,    88,  1,     12,     12,2,19940430,1043,-21.5418, -19.0005, 4521,   2988.2,   2.7434,  34.9150,2,  34.9151,2,    250.4,2,    250.1,2,    35.68,2,    20.73,2,     0.00,2,     1.40,2, -999.000,9, -999.000,9, -999.000,9,   -999.0,9,   -999.0,9,  2.4995
     316N142_3,   A15,    88,  1,     11,     11,2,19940430,1043,-21.5418, -19.0005, 4521,   3166.3,   2.6532,  34.9082,2,  34.9100,2,    249.5,2,    250.2,2,    37.58,2,    20.88,2,     0.00,2,     1.42,2, -999.000,9,    0.001,2,    0.068,2,   -999.0,9,   -999.0,9,  2.3928
     316N142_3,   A15,    88,  1,     10,     10,2,19940430,1043,-21.5418, -19.0005, 4521,   3344.5,   2.5148,  34.8965,2,  34.8978,2,    249.0,2,    249.7,2,    41.53,2,    21.36,2,     0.00,2,     1.45,2, -999.000,9, -999.000,9, -999.000,9,   -999.0,9,   -999.0,9,  2.2388
     316N142_3,   A15,    88,  1,      9,      9,2,19940430,1043,-21.5418, -19.0005, 4521,   3522.5,   2.3284,  34.8784,2,  34.8782,2,    247.3,2,    247.2,2,    48.30,2,    22.28,2,     0.00,2,     1.51,2, -999.000,9, -999.000,9, -999.000,9,   -999.0,9,   -999.0,9,  2.0380
     316N142_3,   A15,    88,  1,      8,      8,2,19940430,1043,-21.5418, -19.0005, 4521,   3702.0,   2.0581,  34.8525,2,  34.8535,2,    243.9,2,    243.9,2,    58.51,2,    23.77,2,     0.00,2,     1.61,2, -999.000,9,    0.006,2,    0.025,2,   -999.0,9,   -999.0,9,  1.7554
     316N142_3,   A15,    88,  1,      7,      7,2,19940430,1043,-21.5418, -19.0005, 4521,   3854.8,   1.8185,  34.8279,2,  34.8281,2,    240.7,2,    240.3,2,    68.93,2,    25.16,2,     0.00,2,     1.71,2, -999.000,9, -999.000,9, -999.000,9,   -999.0,9,   -999.0,9,  1.5057
     316N142_3,   A15,    88,  1,      6,      6,2,19940430,1043,-21.5418, -19.0005, 4521,   4007.1,   1.6238,  34.8074,2,  34.8108,3,    237.0,2,    237.4,2,    78.09,2,    26.37,2,     0.00,2,     1.78,2, -999.000,9, -999.000,9, -999.000,9,   -999.0,9,   -999.0,9,  1.2999
     316N142_3,   A15,    88,  1,      5,      5,2,19940430,1043,-21.5418, -19.0005, 4521,   4160.8,   1.4590,  34.7904,2,  34.7906,2,    235.8,2,    235.2,2,    85.65,2,    27.33,2,     0.00,2,     1.86,2, -999.000,9,    0.005,2,    0.000,2,   -999.0,9,   -999.0,9,  1.1229
     316N142_3,   A15,    88,  1,      4,      4,2,19940430,1043,-21.5418, -19.0005, 4521,   4315.0,   1.3522,  34.7783,2,  34.7806,2,    234.0,2,    233.6,2,    90.35,2,    27.77,2,     0.00,2,     1.90,2, -999.000,9, -999.000,9, -999.000,9,   -999.0,9,   -999.0,9,  1.0021
     316N142_3,   A15,    88,  1,      3,      3,2,19940430,1043,-21.5418, -19.0005, 4521,   4468.7,   1.2379,  34.7661,2,  34.7673,2,    233.1,2,    232.1,2,    94.62,2,    28.35,2,     0.00,2,     1.94,2, -999.000,9, -999.000,9, -999.000,9,   -999.0,9,   -999.0,9,  0.8741
     316N142_3,   A15,    88,  1,      2,      2,2,19940430,1043,-21.5418, -19.0005, 4521,   4623.0,   1.1383,  34.7553,2,  34.7553,2,    230.3,2,    230.6,2,    97.83,2,    28.83,2,     0.00,2,     1.97,2, -999.000,9, -999.000,9, -999.000,9,   -999.0,9,   -999.0,9,  0.7601
     316N142_3,   A15,    88,  1,      1,      1,2,19940430,1043,-21.5418, -19.0005, 4521,   4764.6,   1.1045,  34.7501,2,  34.7522,2,    229.3,2,    229.8,2,    99.04,2,    28.98,2,     0.00,2,     1.98,2, -999.000,9,    0.006,2,    0.033,2,   -999.0,9,   -999.0,9,  0.7110