BOTTLE,20020814WHPSIOKJU
EXPOCODE,SECT_ID,STNNBR,CASTNO,SAMPNO,BTLNBR,BTLNBR_FLAG_W,DATE,TIME,LATITUDE,LONGITUDE,DEPTH,CTDPRS,CTDTMP,CTDSAL,CTDSAL_FLAG_W,SALNTY,SALNTY_FLAG_W,CTDOXY,CTDOXY_FLAG_W,OXYGEN,OXYGEN_FLAG_W,SILCAT,SILCAT_FLAG_W,NITRAT,NITRAT_FLAG_W,NITRIT,NITRIT_FLAG_W,PHSPHT,PHSPHT_FLAG_W,CFC-11,CFC-11_FLAG_W,CFC-12,CFC-12_FLAG_W,CCL4,CCL4_FLAG_W,TCARBN,TCARBN_FLAG_W,ALKALI,ALKALI_FLAG_W,THETA
,,,,,,,,,,,,DBAR,ITS-90,PSS-78,,PSS-78,,UMOL/KG,,UMOL/KG,,UMOL/KG,,UMOL/KG,,UMOL/KG,,UMOL/KG,,PMOL/KG,,PMOL/KG,,PMOL/KG,,UMOL/KG,,UMOL/KG,,DEG C
     316N142_3,  AR15,   140,  1,     39,     39,2,19940517,0429,-18.3030, -33.9237, 4341,     10.4,  27.0137,  37.3973,2,  37.3973,2,    190.0,4,    200.7,2,     1.81,2,     0.00,2,     0.00,2,     0.13,2, -999.000,9, -999.000,9, -999.000,9,   2078.9,2,   2451.2,2, 27.0113
     316N142_3,  AR15,   140,  1,     35,     35,2,19940517,0429,-18.3030, -33.9237, 4341,     79.5,  24.5003,  36.9844,2,  36.9796,2,    219.1,4,    222.6,2,     1.63,2,     0.00,2,     0.00,2,     0.12,2, -999.000,9, -999.000,9, -999.000,9,   2070.0,2,   2422.0,2, 24.4831
     316N142_3,  AR15,   140,  1,     38,     38,2,19940517,0429,-18.3030, -33.9237, 4341,    180.0,  19.0817,  36.1145,2,  36.1178,2,    204.1,2,    200.8,2,     2.10,2,     1.25,2,     0.02,2,     0.33,2, -999.000,9, -999.000,9, -999.000,9,   2091.5,2,   2368.4,2, 19.0493
     316N142_3,  AR15,   140,  1,     33,     33,2,19940517,0429,-18.3030, -33.9237, 4341,    275.7,  14.7291,  35.4183,2,  35.4276,2,    185.4,2,    180.4,2,     4.47,2,    10.02,2,     0.00,2,     0.80,2, -999.000,9, -999.000,9, -999.000,9,   2116.2,2,   2324.6,2, 14.6877
     316N142_3,  AR15,   140,  1,     41,     41,2,19940517,0429,-18.3030, -33.9237, 4341,    371.3,  11.8050,  35.0305,2,  35.0252,2,    168.4,2,    166.1,2,     7.80,2,    17.45,2,     0.00,2,     1.24,2, -999.000,9, -999.000,9, -999.000,9,   2142.2,2,   2304.5,2, 11.7568
     316N142_3,  AR15,   140,  1,     31,     31,2,19940517,0429,-18.3030, -33.9237, 4341,    481.7,   8.6073,  34.6920,2,  34.6798,2,    176.4,2,    174.4,2,    13.36,2,    23.56,2,     0.00,2,     1.64,2, -999.000,9, -999.000,9, -999.000,9,   2163.3,2,   2294.1,2,  8.5557
     316N142_3,  AR15,   140,  1,     37,     37,2,19940517,0429,-18.3030, -33.9237, 4341,    536.6,   7.3934,  34.5904,2,  34.5913,2,    161.6,2,    158.8,2,    17.96,2,    27.91,2,     0.00,2,     1.92,2, -999.000,9, -999.000,9, -999.000,9,   2182.2,2,   2292.7,2,  7.3406
     316N142_3,  AR15,   140,  1,     29,     29,2,19940517,0429,-18.3030, -33.9237, 4341,    626.7,   5.4392,  34.4092,2,  34.4088,2,    188.8,2,    193.8,2,    23.20,2,    29.08,2,     0.00,2,     2.03,2, -999.000,9, -999.000,9, -999.000,9,   2182.4,2,   2281.9,2,  5.3866
     316N142_3,  AR15,   140,  1,     28,     28,2,19940517,0429,-18.3030, -33.9237, 4341,    717.8,   4.5479,  34.3767,2,  34.3759,2,    192.3,2,    194.7,2,    29.56,2,    30.67,2,     0.00,2,     2.14,2,    0.486,2,    0.267,2,    1.651,2,   2191.1,2,   2295.5,2,  4.4922
     316N142_3,  AR15,   140,  1,     27,     27,2,19940517,0429,-18.3030, -33.9237, 4341,    853.8,   3.8496,  34.4182,2,  34.4175,2,    184.9,2,    187.2,2,    38.48,2,    31.94,2,     0.00,2,     2.25,2, -999.000,9, -999.000,9, -999.000,9,   2209.7,2,   2305.4,2,  3.7870
     316N142_3,  AR15,   140,  1,     26,     26,2,19940517,0429,-18.3030, -33.9237, 4341,    989.2,   3.5337,  34.5067,2,  34.5069,2,    185.4,2,    186.6,2,    42.92,2,    31.45,2,     0.00,2,     2.22,2, -999.000,9, -999.000,9, -999.000,9,   2214.0,2,   2310.9,2,  3.4625
     316N142_3,  AR15,   140,  1,     25,     25,2,19940517,0429,-18.3030, -33.9237, 4341,   1120.2,   3.6786,  34.6366,2,  34.6353,2,    189.3,2,    188.1,2,    39.21,2,    29.75,2,     0.00,2,     2.09,2, -999.000,9, -999.000,9, -999.000,9,   2211.6,2,   2313.8,2,  3.5953
     316N142_3,  AR15,   140,  1,     24,     24,2,19940517,0429,-18.3030, -33.9237, 4341,   1241.4,   3.9344,  34.7757,2,  34.7764,2,    197.7,2,    196.8,2,    31.68,2,    27.03,2,     0.00,2,     1.88,2, -999.000,9, -999.000,9, -999.000,9,   -999.0,9,   -999.0,9,  3.8383
     316N142_3,  AR15,   140,  1,     23,     23,2,19940517,0429,-18.3030, -33.9237, 4341,   1363.3,   3.9922,  34.8700,2,  34.8695,2,    212.8,2,    212.5,2,    26.87,2,    24.32,2,     0.00,2,     1.68,2, -999.000,9,    0.023,2,    0.201,2,   2189.1,2,   2311.5,2,  3.8846
     316N142_3,  AR15,   140,  1,     22,     22,2,19940517,0429,-18.3030, -33.9237, 4341,   1520.2,   3.8531,  34.9236,2,  34.9228,2,    229.8,2,    229.5,2,    23.83,2,    22.04,2,     0.00,2,     1.51,2, -999.000,9, -999.000,9, -999.000,9,   -999.0,9,   -999.0,9,  3.7328
     316N142_3,  AR15,   140,  1,     21,     21,2,19940517,0429,-18.3030, -33.9237, 4341,   1676.7,   3.6613,  34.9485,2,  34.9483,2,    242.7,2,    242.3,2,    22.53,2,    20.55,2,     0.00,2,     1.40,2, -999.000,9,    0.026,2, -999.000,9,   2169.9,2,   2314.3,2,  3.5290
     316N142_3,  AR15,   140,  1,     20,     20,2,19940517,0429,-18.3030, -33.9237, 4341,   1834.6,   3.4929,  34.9504,2,  34.9513,2,    248.2,2,    247.4,2,    22.98,2,    20.07,2,     0.00,2,     1.38,2, -999.000,9, -999.000,9, -999.000,9,   -999.0,9,   -999.0,9,  3.3485
     316N142_3,  AR15,   140,  1,     19,     19,2,19940517,0429,-18.3030, -33.9237, 4341,   1990.4,   3.3705,  34.9527,2,  34.9542,2,    251.2,2,    250.9,2,    23.28,2,    19.69,2,     0.00,2,     1.35,2, -999.000,9,    0.029,2,    0.570,2,   2166.7,2,   2316.0,2,  3.2133
     316N142_3,  AR15,   140,  1,     40,     40,2,19940517,0429,-18.3030, -33.9237, 4341,   2123.3,   3.2121,  34.9407,2,  34.9417,2,    250.0,2,    249.5,2,    26.27,2,    20.17,2,     0.00,2,     1.38,2, -999.000,9, -999.000,9, -999.000,9,   -999.0,9,   -999.0,9,  3.0448
     316N142_3,  AR15,   140,  1,     17,     17,2,19940517,0429,-18.3030, -33.9237, 4341,   2249.6,   3.1283,  34.9394,2,  34.9397,2,    250.0,2,    250.6,2,    27.20,2,    20.22,2,     0.00,2,     1.38,2, -999.000,9,    0.017,2,    0.184,2,   2174.2,2,   2321.1,2,  2.9504
     316N142_3,  AR15,   140,  1,     16,     16,2,19940517,0429,-18.3030, -33.9237, 4341,   2375.3,   3.0166,  34.9315,2,  34.9315,2,    250.5,2,    249.9,2,    29.55,2,    20.58,2,     0.00,2,     1.40,2, -999.000,9, -999.000,9, -999.000,9,   -999.0,9,   -999.0,9,  2.8286
     316N142_3,  AR15,   140,  1,     15,     15,2,19940517,0429,-18.3030, -33.9237, 4341,   2502.9,   2.9362,  34.9269,2,  34.9266,2,    249.4,2,    249.7,2,    31.43,2,    20.63,2,     0.00,2,     1.41,2, -999.000,9, -999.000,9, -999.000,9,   2174.2,2,   2322.7,2,  2.7372
     316N142_3,  AR15,   140,  1,     14,     14,2,19940517,0429,-18.3030, -33.9237, 4341,   2628.9,   2.8492,  34.9193,2,  34.9193,2,    248.7,2,    248.1,2,    33.79,2,    20.95,2,     0.00,2,     1.44,2, -999.000,9,    0.016,2,    0.051,2,   -999.0,9,   -999.0,9,  2.6395
     316N142_3,  AR15,   140,  1,     13,     13,2,19940517,0429,-18.3030, -33.9237, 4341,   2756.1,   2.8025,  34.9174,2,  34.9177,2,    248.1,2,    248.5,2,    34.40,2,    20.94,2,     0.00,2,     1.43,2, -999.000,9, -999.000,9, -999.000,9,   2178.1,2,   2326.3,2,  2.5810
     316N142_3,  AR15,   140,  1,     12,     12,2,19940517,0429,-18.3030, -33.9237, 4341,   2893.7,   2.7683,  34.9192,2,  34.9195,2,    250.0,2,    250.7,2,    33.57,2,    20.68,2,     0.00,2,     1.41,2, -999.000,9,    0.011,2,    0.141,2,   -999.0,9,   -999.0,9,  2.5336
     316N142_3,  AR15,   140,  1,     11,     11,2,19940517,0429,-18.3030, -33.9237, 4341,   3036.3,   2.6944,  34.9147,2,  34.9154,2,    250.8,2,    251.0,2,    34.98,2,    20.67,2,     0.00,2,     1.42,2, -999.000,9, -999.000,9, -999.000,9,   2178.2,2,   2328.8,2,  2.4466
     316N142_3,  AR15,   140,  1,     10,     10,2,19940517,0429,-18.3030, -33.9237, 4341,   3188.8,   2.6340,  34.9126,2,  34.9119,2,    252.2,2,    252.6,2,    35.26,2,    20.56,2,     0.00,2,     1.41,2, -999.000,9,    0.014,2,    0.026,2,   -999.0,9,   -999.0,9,  2.3717
     316N142_3,  AR15,   140,  1,      9,      9,2,19940517,0429,-18.3030, -33.9237, 4341,   3341.2,   2.5454,  34.9058,2,  34.9052,2,    252.1,2,    253.0,2,    36.98,2,    20.72,2,     0.00,2,     1.42,2, -999.000,9,    0.028,2,    0.159,2,   2179.3,2,   2329.0,2,  2.2690
     316N142_3,  AR15,   140,  1,      8,      8,2,19940517,0429,-18.3030, -33.9237, 4341,   3494.0,   2.4086,  34.8945,2,  34.8946,2,    252.6,2,    252.9,2,    39.97,2,    20.87,2,     0.00,2,     1.44,2, -999.000,9,    0.017,2, -999.000,9,   -999.0,9,   -999.0,9,  2.1192
     316N142_3,  AR15,   140,  1,      7,      7,2,19940517,0429,-18.3030, -33.9237, 4341,   3637.6,   2.1918,  34.8721,2,  34.8722,2,    249.3,2,    249.5,2,    48.36,2,    22.09,2,     0.00,2,     1.53,2, -999.000,9, -999.000,9, -999.000,9,   2192.4,2,   2336.1,2,  1.8924
     316N142_3,  AR15,   140,  1,      6,      6,2,19940517,0429,-18.3030, -33.9237, 4341,   3781.7,   1.8810,  34.8389,2,  34.8391,2,    244.1,2,    243.5,2,    60.78,2,    23.83,2,     0.00,2,     1.67,2, -999.000,9,    0.026,2,    0.022,2,   -999.0,9,   -999.0,9,  1.5743
     316N142_3,  AR15,   140,  1,      5,      5,2,19940517,0429,-18.3030, -33.9237, 4341,   3914.1,   1.5327,  34.8023,2,  34.8035,2,    238.0,2,    237.5,2,    74.41,2,    25.79,2,     0.00,2,     1.80,2, -999.000,9, -999.000,9, -999.000,9,   2221.9,2,   -999.0,9,  1.2214
     316N142_3,  AR15,   140,  1,      4,      4,2,19940517,0429,-18.3030, -33.9237, 4341,   4046.6,   1.2710,  34.7741,2,  34.7751,2,    233.4,2,    232.8,2,    85.39,2,    27.21,2,     0.00,2,     1.91,2, -999.000,9, -999.000,9, -999.000,9,   -999.0,9,   -999.0,9,  0.9530
     316N142_3,  AR15,   140,  1,      3,      3,2,19940517,0429,-18.3030, -33.9237, 4341,   4179.5,   0.9664,  34.7414,2,  34.7415,2,    228.7,2,    227.5,2,    98.25,2,    29.00,2,     0.00,2,     2.04,2, -999.000,9,    0.014,2,    0.155,2,   2241.9,2,   2357.3,2,  0.6430
     316N142_3,  AR15,   140,  1,      2,      2,2,19940517,0429,-18.3030, -33.9237, 4341,   4313.1,   0.6199,  34.7058,2,  34.7060,2,    223.9,2,    223.1,2,   111.75,2,    30.75,2,     0.00,2,     2.17,2, -999.000,9, -999.000,9, -999.000,9,   -999.0,9,   -999.0,9,  0.2927
     316N142_3,  AR15,   140,  1,      1,      1,2,19940517,0429,-18.3030, -33.9237, 4341,   4422.4,   0.5282,  34.6954,2,  34.6970,2,    221.2,2,    221.7,2,   115.36,2,    31.27,2,     0.00,2,     2.21,2, -999.000,9, -999.000,9, -999.000,9,   2259.4,2,   2361.8,2,  0.1920