BOTTLE,20020814WHPSIOKJU
EXPOCODE,SECT_ID,STNNBR,CASTNO,SAMPNO,BTLNBR,BTLNBR_FLAG_W,DATE,TIME,LATITUDE,LONGITUDE,DEPTH,CTDPRS,CTDTMP,CTDSAL,CTDSAL_FLAG_W,SALNTY,SALNTY_FLAG_W,CTDOXY,CTDOXY_FLAG_W,OXYGEN,OXYGEN_FLAG_W,SILCAT,SILCAT_FLAG_W,NITRAT,NITRAT_FLAG_W,NITRIT,NITRIT_FLAG_W,PHSPHT,PHSPHT_FLAG_W,CFC-11,CFC-11_FLAG_W,CFC-12,CFC-12_FLAG_W,CCL4,CCL4_FLAG_W,TCARBN,TCARBN_FLAG_W,ALKALI,ALKALI_FLAG_W,THETA
,,,,,,,,,,,,DBAR,ITS-90,PSS-78,,PSS-78,,UMOL/KG,,UMOL/KG,,UMOL/KG,,UMOL/KG,,UMOL/KG,,UMOL/KG,,PMOL/KG,,PMOL/KG,,PMOL/KG,,UMOL/KG,,UMOL/KG,,DEG C
     316N142_3,   A15,    46,  1,     39,     39,2,19940418,2059, -0.3373, -18.9975, 5718,      8.9,  27.8784,  36.0402,2,  36.0426,2,    206.8,2,    208.3,2,     2.12,2,     0.13,2,     0.01,2,     0.12,2, -999.000,9, -999.000,9, -999.000,9,   -999.0,9,   -999.0,9, 27.8763
     316N142_3,   A15,    46,  1,     42,     42,2,19940418,2059, -0.3373, -18.9975, 5718,     64.0,  26.0379,  36.4107,2,  36.4111,2,    211.4,2,    205.8,2,     1.96,2,     0.09,2,     0.00,2,     0.16,2, -999.000,9, -999.000,9, -999.000,9,   -999.0,9,   -999.0,9, 26.0235
     316N142_3,   A15,    46,  1,     38,     38,2,19940418,2059, -0.3373, -18.9975, 5718,    115.7,  14.4838,  35.4747,2,  35.4843,2,    166.9,2,    160.5,2,     6.62,2,    13.75,2,     0.04,2,     1.05,2, -999.000,9, -999.000,9, -999.000,9,   -999.0,9,   -999.0,9, 14.4666
     316N142_3,   A15,    46,  1,     33,     33,2,19940418,2059, -0.3373, -18.9975, 5718,    196.8,  13.0636,  35.2831,2,  35.2822,2,    137.8,2,    134.7,2,     8.87,2,    19.35,2,     0.01,2,     1.36,2, -999.000,9, -999.000,9, -999.000,9,   -999.0,9,   -999.0,9, 13.0363
     316N142_3,   A15,    46,  1,     41,     41,2,19940418,2059, -0.3373, -18.9975, 5718,    277.0,  11.0183,  35.0478,2,  35.0601,2,     83.1,2,     80.2,2,    13.13,2,    28.83,2,     0.01,2,     1.87,2, -999.000,9, -999.000,9, -999.000,9,   -999.0,9,   -999.0,9, 10.9840
     316N142_3,   A15,    46,  1,     31,     31,2,19940418,2059, -0.3373, -18.9975, 5718,    397.4,   8.7264,  34.7938,2,  34.7921,2,     94.2,2,    102.4,2,    17.26,2,    31.96,2,     0.01,2,     2.08,2, -999.000,9, -999.000,9, -999.000,9,   -999.0,9,   -999.0,9,  8.6837
     316N142_3,   A15,    46,  1,     37,     37,2,19940418,2059, -0.3373, -18.9975, 5718,    508.1,   6.9538,  34.6092,2,  34.6107,2,    124.6,2,    130.4,2,    21.12,2,    32.30,2,     0.00,2,     2.16,2, -999.000,9, -999.000,9, -999.000,9,   -999.0,9,   -999.0,9,  6.9056
     316N142_3,   A15,    46,  1,     29,     29,2,19940418,2059, -0.3373, -18.9975, 5718,    628.7,   5.7701,  34.5213,2,  34.5218,2,    139.6,2,    139.8,2,    25.92,2,    33.87,2,     0.00,2,     2.30,2, -999.000,9, -999.000,9, -999.000,9,   -999.0,9,   -999.0,9,  5.7156
     316N142_3,   A15,    46,  1,     28,     28,2,19940418,2059, -0.3373, -18.9975, 5718,    744.9,   5.1086,  34.4865,2,  34.4874,2,    150.9,2,    151.4,2,    29.38,2,    33.92,2,     0.00,2,     2.32,2, -999.000,9, -999.000,9, -999.000,9,   -999.0,9,   -999.0,9,  5.0474
     316N142_3,   A15,    46,  1,     27,     27,2,19940418,2059, -0.3373, -18.9975, 5718,    911.0,   4.4980,  34.5427,2,  34.5432,2,    157.9,2,    158.6,2,    32.84,2,    33.32,2,     0.00,2,     2.31,2, -999.000,9, -999.000,9, -999.000,9,   -999.0,9,   -999.0,9,  4.4261
     316N142_3,   A15,    46,  1,     26,     26,2,19940418,2059, -0.3373, -18.9975, 5718,   1062.1,   4.4691,  34.6653,2,  34.6660,2,    163.4,2,    162.4,2,    31.08,2,    31.71,2,     0.00,2,     2.20,2, -999.000,9, -999.000,9, -999.000,9,   -999.0,9,   -999.0,9,  4.3842
     316N142_3,   A15,    46,  1,     25,     25,2,19940418,2059, -0.3373, -18.9975, 5718,   1212.7,   4.4857,  34.7874,2,  34.7908,2,    173.4,2,    178.0,2,    27.32,2,    28.67,2,     0.00,2,     1.99,2, -999.000,9, -999.000,9, -999.000,9,   -999.0,9,   -999.0,9,  4.3870
     316N142_3,   A15,    46,  1,     24,     24,2,19940418,2059, -0.3373, -18.9975, 5718,   1364.9,   4.4836,  34.8849,2,  34.8862,2,    200.0,2,    199.4,2,    23.15,2,    25.31,2,     0.00,2,     1.76,2, -999.000,9, -999.000,9, -999.000,9,   -999.0,9,   -999.0,9,  4.3708
     316N142_3,   A15,    46,  1,     23,     23,2,19940418,2059, -0.3373, -18.9975, 5718,   1516.5,   4.2634,  34.9621,2,  34.9641,2,    230.2,2,    229.2,2,    19.12,2,    21.59,2,     0.00,2,     1.49,2, -999.000,9, -999.000,9, -999.000,9,   -999.0,9,   -999.0,9,  4.1387
     316N142_3,   A15,    46,  1,     22,     22,2,19940418,2059, -0.3373, -18.9975, 5718,   1718.3,   3.8447,  34.9747,2,  34.9781,2,    250.1,2,    247.1,2,    18.71,2,    19.74,2,     0.00,2,     1.37,2, -999.000,9, -999.000,9, -999.000,9,   -999.0,9,   -999.0,9,  3.7063
     316N142_3,   A15,    46,  1,     21,     21,2,19940418,2059, -0.3373, -18.9975, 5718,   1921.0,   3.5441,  34.9665,2,  34.9683,2,    253.4,2,    251.4,2,    20.96,2,    19.61,2,     0.00,2,     1.36,2, -999.000,9, -999.000,9, -999.000,9,   -999.0,9,   -999.0,9,  3.3908
     316N142_3,   A15,    46,  1,     20,     20,2,19940418,2059, -0.3373, -18.9975, 5718,   2123.6,   3.4054,  34.9552,2,  34.9587,2,    251.5,2,    249.4,2,    23.76,2,    20.03,2,     0.00,2,     1.39,2, -999.000,9, -999.000,9, -999.000,9,   -999.0,9,   -999.0,9,  3.2350
     316N142_3,   A15,    46,  1,     19,     19,2,19940418,2059, -0.3373, -18.9975, 5718,   2326.8,   3.1489,  34.9435,2,  34.9457,2,    251.9,2,    250.6,2,    27.35,2,    20.21,2,     0.00,2,     1.40,2, -999.000,9, -999.000,9, -999.000,9,   -999.0,9,   -999.0,9,  2.9632
     316N142_3,   A15,    46,  1,     40,     40,2,19940418,2059, -0.3373, -18.9975, 5718,   2529.3,   2.9595,  34.9294,2,  34.9329,2,    248.9,2,    247.4,2,    32.02,2,    20.86,2,     0.00,2,     1.45,2, -999.000,9, -999.000,9, -999.000,9,   -999.0,9,   -999.0,9,  2.7575
     316N142_3,   A15,    46,  1,     17,     17,2,19940418,2059, -0.3373, -18.9975, 5718,   2732.7,   2.7584,  34.9169,2,  34.9660,4,    245.7,2,    245.7,2,    36.68,2,    21.37,2,     0.00,2,     1.49,2, -999.000,9, -999.000,9, -999.000,9,   -999.0,9,   -999.0,9,  2.5402
     316N142_3,   A15,    46,  1,     16,     16,2,19940418,2059, -0.3373, -18.9975, 5718,   2936.0,   2.6406,  34.9097,2,  34.9103,2,    246.6,2,    246.4,2,    38.41,2,    21.42,2,     0.00,2,     1.49,2, -999.000,9, -999.000,9, -999.000,9,   -999.0,9,   -999.0,9,  2.4043
     316N142_3,   A15,    46,  1,     15,     15,2,19940418,2059, -0.3373, -18.9975, 5718,   3139.6,   2.5799,  34.9057,2,  34.9066,2,    247.5,2,    247.6,2,    39.20,2,    21.38,2,     0.00,2,     1.49,2, -999.000,9, -999.000,9, -999.000,9,   -999.0,9,   -999.0,9,  2.3240
     316N142_3,   A15,    46,  1,     14,     14,2,19940418,2059, -0.3373, -18.9975, 5718,   3343.2,   2.5018,  34.9028,2,  34.9038,2,    251.5,2,    251.2,2,    38.65,2,    20.96,2,     0.00,2,     1.46,2, -999.000,9, -999.000,9, -999.000,9,   -999.0,9,   -999.0,9,  2.2262
     316N142_3,   A15,    46,  1,     13,     13,2,19940418,2059, -0.3373, -18.9975, 5718,   3546.9,   2.4243,  34.9000,2,  34.9005,2,    255.9,2,    255.8,2,    37.43,2,    20.41,2,     0.00,2,     1.43,2, -999.000,9, -999.000,9, -999.000,9,   -999.0,9,   -999.0,9,  2.1288
     316N142_3,   A15,    46,  1,     12,     12,2,19940418,2059, -0.3373, -18.9975, 5718,   3750.0,   2.3455,  34.8959,2,  34.8970,2,    257.4,2,    258.9,2,    37.15,2,    20.18,2,     0.00,2,     1.42,2, -999.000,9, -999.000,9, -999.000,9,   -999.0,9,   -999.0,9,  2.0297
     316N142_3,   A15,    46,  1,     11,     11,2,19940418,2059, -0.3373, -18.9975, 5718,   3954.2,   2.2030,  34.8806,2,  34.8822,2,    256.8,2,    257.4,2,    42.22,2,    20.83,2,     0.00,2,     1.45,2, -999.000,9, -999.000,9, -999.000,9,   -999.0,9,   -999.0,9,  1.8683
     316N142_3,   A15,    46,  1,     10,     10,2,19940418,2059, -0.3373, -18.9975, 5718,   4158.1,   1.9066,  34.8475,2,  34.8492,2,    250.5,2,    250.5,2,    55.57,2,    22.72,2,     0.00,2,     1.59,2, -999.000,9, -999.000,9, -999.000,9,   -999.0,9,   -999.0,9,  1.5574
     316N142_3,   A15,    46,  1,      9,      9,2,19940418,2059, -0.3373, -18.9975, 5718,   4363.8,   1.2876,  34.7790,2,  34.7814,2,    235.6,2,    235.8,2,    83.72,2,    26.92,2,     0.00,2,     1.90,2, -999.000,9, -999.000,9, -999.000,9,   -999.0,9,   -999.0,9,  0.9340
     316N142_3,   A15,    46,  1,      8,      8,2,19940418,2059, -0.3373, -18.9975, 5718,   4568.6,   1.1528,  34.7620,2,  34.7629,2,    230.8,2,    232.1,2,    89.78,2,    28.03,2,     0.00,2,     1.98,2, -999.000,9, -999.000,9, -999.000,9,   -999.0,9,   -999.0,9,  0.7803
     316N142_3,   A15,    46,  1,      7,      7,2,19940418,2059, -0.3373, -18.9975, 5718,   4773.6,   1.1118,  34.7554,2,  34.7556,2,    229.3,2,    230.4,2,    92.59,2,    28.45,2,     0.00,2,     2.01,2, -999.000,9, -999.000,9, -999.000,9,   -999.0,9,   -999.0,9,  0.7170
     316N142_3,   A15,    46,  1,      6,      6,2,19940418,2059, -0.3373, -18.9975, 5718,   4977.9,   1.0999,  34.7514,2,  34.7523,2,    228.4,2,    229.7,2,    93.73,2,    28.64,2,     0.00,2,     2.02,2, -999.000,9, -999.000,9, -999.000,9,   -999.0,9,   -999.0,9,  0.6814
     316N142_3,   A15,    46,  1,      5,      5,2,19940418,2059, -0.3373, -18.9975, 5718,   5182.2,   1.1185,  34.7506,2,  34.7515,2,    229.3,2,    229.5,2,    93.97,2,    28.68,2,     0.00,2,     2.02,2, -999.000,9, -999.000,9, -999.000,9,   -999.0,9,   -999.0,9,  0.6747
     316N142_3,   A15,    46,  1,      4,      4,2,19940418,2059, -0.3373, -18.9975, 5718,   5388.8,   1.1430,  34.7507,2,  34.7509,2,    229.4,2,    229.5,2,    94.35,2,    28.69,2,     0.00,2,     2.03,2, -999.000,9, -999.000,9, -999.000,9,   -999.0,9,   -999.0,9,  0.6729
     316N142_3,   A15,    46,  1,      3,      3,2,19940418,2059, -0.3373, -18.9975, 5718,   5594.4,   1.1665,  34.7501,2,  34.7502,2,    229.9,2,    229.4,2,    94.21,2,    28.73,2,     0.00,2,     2.02,2, -999.000,9, -999.000,9, -999.000,9,   -999.0,9,   -999.0,9,  0.6696
     316N142_3,   A15,    46,  1,      2,      2,2,19940418,2059, -0.3373, -18.9975, 5718,   5851.9,   1.1988,  34.7509,2,  34.7502,2,    230.3,2,    229.9,2,    94.97,2,    28.74,2,     0.00,2,     2.04,2, -999.000,9, -999.000,9, -999.000,9,   -999.0,9,   -999.0,9,  0.6676
     316N142_3,   A15,    46,  1,      1,      1,2,19940418,2059, -0.3373, -18.9975, 5718,   6034.1,   1.2229,  34.7503,2,  34.7506,2,    230.5,2,    229.2,2,    95.21,2,    28.74,2,     0.00,2,     2.03,2, -999.000,9, -999.000,9, -999.000,9,   -999.0,9,   -999.0,9,  0.6669