BOTTLE,20020814WHPSIOKJU
EXPOCODE,SECT_ID,STNNBR,CASTNO,SAMPNO,BTLNBR,BTLNBR_FLAG_W,DATE,TIME,LATITUDE,LONGITUDE,DEPTH,CTDPRS,CTDTMP,CTDSAL,CTDSAL_FLAG_W,SALNTY,SALNTY_FLAG_W,CTDOXY,CTDOXY_FLAG_W,OXYGEN,OXYGEN_FLAG_W,SILCAT,SILCAT_FLAG_W,NITRAT,NITRAT_FLAG_W,NITRIT,NITRIT_FLAG_W,PHSPHT,PHSPHT_FLAG_W,CFC-11,CFC-11_FLAG_W,CFC-12,CFC-12_FLAG_W,CCL4,CCL4_FLAG_W,TCARBN,TCARBN_FLAG_W,ALKALI,ALKALI_FLAG_W,THETA
,,,,,,,,,,,,DBAR,ITS-90,PSS-78,,PSS-78,,UMOL/KG,,UMOL/KG,,UMOL/KG,,UMOL/KG,,UMOL/KG,,UMOL/KG,,PMOL/KG,,PMOL/KG,,PMOL/KG,,UMOL/KG,,UMOL/KG,,DEG C
     316N142_3,   A15,   102,  1,     39,     39,2,19940504,0440,-28.6660, -19.0005, 4337,      6.3,  22.8179,  36.3032,2,  36.3022,2,    203.9,4,    216.6,2,     2.68,2,     0.11,2,     0.01,2,     0.12,2,    2.074,2,    1.154,2,    2.878,2,   2057.4,2,   2386.3,2, 22.8167
     316N142_3,   A15,   102,  1,     35,     35,2,19940504,0440,-28.6660, -19.0005, 4337,     53.6,  22.8252,  36.3018,2,  36.2993,2,    207.9,4,    216.8,2,     2.51,2,     0.12,2,     0.01,2,     0.11,2, -999.000,9, -999.000,9, -999.000,9,   2057.0,2,   2384.2,2, 22.8143
     316N142_3,   A15,   102,  1,     38,     38,2,19940504,0440,-28.6660, -19.0005, 4337,     89.1,  19.9562,  35.8987,2,  35.9091,2,    243.6,4,    241.7,2,     2.64,2,     0.12,2,     0.01,2,     0.15,2,    2.302,2,    1.317,2,    3.070,2,   2054.4,2,   2358.9,2, 19.9397
     316N142_3,   A15,   102,  1,     33,     33,2,19940504,0440,-28.6660, -19.0005, 4337,    174.6,  15.6038,  35.4589,2,  35.4571,2,    220.3,2,    217.3,2,     3.52,2,     3.11,2,     0.02,2,     0.43,2,    2.779,2,    1.470,2,    1.240,2,   2083.6,2,   2328.0,2, 15.5765
     316N142_3,   A15,   102,  1,     41,     41,2,19940504,0440,-28.6660, -19.0005, 4337,    249.7,  13.9796,  35.2404,2,  35.2331,2,    212.8,2,    210.5,2,     4.70,2,     7.41,2,     0.01,2,     0.66,2,    2.503,6,    1.411,6,    0.797,6,   2096.2,2,   2315.8,2, 13.9434
     316N142_3,   A15,   102,  1,     31,     31,2,19940504,0440,-28.6660, -19.0005, 4337,    324.9,  12.4232,  35.0730,2,  35.0624,2,    207.7,2,    205.9,2,     6.17,2,    11.53,2,     0.01,2,     0.89,2,    2.480,2,    1.302,2,    0.987,2,   2112.2,2,   2309.8,2, 12.3796
     316N142_3,   A15,   102,  1,     37,     37,2,19940504,0440,-28.6660, -19.0005, 4337,    400.7,  11.1166,  34.9181,2,  34.9178,2,    204.4,2,    202.0,2,     7.95,2,    14.96,2,     0.01,2,     1.10,2, -999.000,9, -999.000,9, -999.000,9,   2124.6,2,   2304.0,2, 11.0665
     316N142_3,   A15,   102,  1,     29,     29,2,19940504,0440,-28.6660, -19.0005, 4337,    476.2,   9.5521,  34.7444,2,  34.7421,2,    201.0,2,    201.0,2,    10.48,2,    18.85,2,     0.01,2,     1.34,2,    2.077,2,    1.081,2,    1.470,2,   2138.8,2,   2300.9,2,  9.4977
     316N142_3,   A15,   102,  1,     28,     28,2,19940504,0440,-28.6660, -19.0005, 4337,    556.4,   7.8808,  34.5767,2,  34.5686,2,    200.9,2,    200.8,2,    14.35,2,    23.21,2,     0.00,2,     1.61,2, -999.000,9, -999.000,9, -999.000,9,   2153.4,2,   2288.2,2,  7.8240
     316N142_3,   A15,   102,  1,     27,     27,2,19940504,0440,-28.6660, -19.0005, 4337,    626.3,   6.8105,  34.4787,2,  34.4737,2,    202.2,2,    202.7,2,    17.48,2,    25.65,2,     0.00,2,     1.77,2,    1.562,2,    0.842,2,    2.247,2,   2162.2,2,   2286.8,2,  6.7514
     316N142_3,   A15,   102,  1,     26,     26,2,19940504,0440,-28.6660, -19.0005, 4337,    697.2,   5.8991,  34.4058,2,  34.4045,2,    205.2,2,    207.4,2,    20.45,2,    27.36,2,     0.00,2,     1.88,2, -999.000,9, -999.000,9, -999.000,9,   2169.1,2,   2288.0,2,  5.8379
     316N142_3,   A15,   102,  1,     25,     25,2,19940504,0440,-28.6660, -19.0005, 4337,    772.6,   4.9211,  34.3495,2,  34.3487,2,    211.9,2,    210.1,2,    25.68,2,    29.26,2,     0.00,2,     2.00,2,    1.263,2,    0.637,2,    2.591,2,   2178.4,2,   2290.0,2,  4.8587
     316N142_3,   A15,   102,  1,     24,     24,2,19940504,0440,-28.6660, -19.0005, 4337,    817.4,   4.3786,  34.3323,2,  34.3296,2,    207.6,2,    212.6,2,    29.56,2,    30.00,2,     0.00,2,     2.06,2,    1.005,2,    0.552,2,    1.862,2,   2184.0,2,   2291.0,2,  4.3157
     316N142_3,   A15,   102,  1,     23,     23,2,19940504,0440,-28.6660, -19.0005, 4337,    908.3,   3.8718,  34.3543,2,  34.3516,2,    202.9,2,    203.6,2,    37.05,2,    31.31,2,     0.00,2,     2.15,2,    0.835,2,    0.396,2,    1.966,2,   2196.9,2,   2297.6,2,  3.8049
     316N142_3,   A15,   102,  1,     22,     22,2,19940504,0440,-28.6660, -19.0005, 4337,   1039.7,   3.4122,  34.4090,2,  34.4064,2,    194.0,2,    194.4,2,    46.08,2,    32.20,2,     0.00,2,     2.21,2,    0.563,2,    0.222,2,    1.751,2,   2211.9,2,   2304.8,2,  3.3381
     316N142_3,   A15,   102,  1,     21,     21,2,19940504,0440,-28.6660, -19.0005, 4337,   1170.4,   3.1217,  34.4839,2,  34.4813,2,    186.1,2,    188.0,2,    53.01,2,    32.35,2,     0.00,2,     2.22,2,    0.314,2,    0.116,2,    0.757,2,   2223.0,2,   2314.7,2,  3.0397
     316N142_3,   A15,   102,  1,     20,     20,2,19940504,0440,-28.6660, -19.0005, 4337,   1291.5,   2.9791,  34.5540,2,  34.5515,2,    186.8,2,    186.9,2,    56.00,2,    31.79,2,     0.00,2,     2.18,2,    0.167,6,    0.068,6,    0.535,6,   -999.0,9,   -999.0,9,  2.8886
     316N142_3,   A15,   102,  1,     19,     19,2,19940504,0440,-28.6660, -19.0005, 4337,   1422.9,   2.8830,  34.6344,2,  34.6309,2,    192.5,2,    191.1,2,    56.86,2,    30.55,2,     0.00,2,     2.09,2,    0.082,4,    0.035,2,    0.254,2,   2226.5,2,   2323.9,2,  2.7827
     316N142_3,   A15,   102,  1,     40,     40,2,19940504,0440,-28.6660, -19.0005, 4337,   1575.2,   2.8905,  34.7024,2,  34.7037,2,    198.0,2,    197.8,2,    54.54,2,    29.02,2,     0.00,2,     1.97,2, -999.000,9,    0.014,2,    0.190,2,   -999.0,9,   -999.0,9,  2.7773
     316N142_3,   A15,   102,  1,     17,     17,2,19940504,0440,-28.6660, -19.0005, 4337,   1756.7,   2.7706,  34.7638,2,  34.7606,2,    210.7,2,    209.2,2,    53.58,2,    27.23,2,     0.00,2,     1.84,2, -999.000,9, -999.000,9, -999.000,9,   2210.6,2,   2329.6,2,  2.6434
     316N142_3,   A15,   102,  1,     16,     16,2,19940504,0440,-28.6660, -19.0005, 4337,   1939.1,   2.7071,  34.8066,2,  34.8024,2,    219.5,2,    219.7,2,    51.41,2,    25.71,2,     0.00,2,     1.74,2, -999.000,9, -999.000,9, -999.000,9,   -999.0,9,   -999.0,9,  2.5648
     316N142_3,   A15,   102,  1,     15,     15,2,19940504,0440,-28.6660, -19.0005, 4337,   2121.6,   2.7186,  34.8442,2,  34.8414,2,    229.7,2,    230.3,2,    47.14,2,    24.20,2,     0.00,2,     1.62,2, -999.000,9, -999.000,9, -999.000,9,   2194.9,2,   2326.4,2,  2.5596
     316N142_3,   A15,   102,  1,     14,     14,2,19940504,0440,-28.6660, -19.0005, 4337,   2304.8,   2.7925,  34.8780,2,  34.8752,2,    239.3,2,    238.8,2,    41.67,2,    22.73,2,     0.00,2,     1.53,2, -999.000,9, -999.000,9, -999.000,9,   -999.0,9,   -999.0,9,  2.6153
     316N142_3,   A15,   102,  1,     13,     13,2,19940504,0440,-28.6660, -19.0005, 4337,   2497.7,   2.8250,  34.9018,2,  34.8996,2,    247.0,2,    245.2,2,    37.87,2,    21.72,2,     0.00,2,     1.45,2, -999.000,9, -999.000,9, -999.000,9,   2180.1,2,   2324.8,2,  2.6287
     316N142_3,   A15,   102,  1,     12,     12,2,19940504,0440,-28.6660, -19.0005, 4337,   2700.6,   2.7602,  34.9055,2,  34.9041,2,    248.1,2,    247.3,2,    38.44,2,    21.50,2,     0.00,2,     1.44,2, -999.000,9, -999.000,9, -999.000,9,   -999.0,9,   -999.0,9,  2.5452
     316N142_3,   A15,   102,  1,     11,     11,2,19940504,0440,-28.6660, -19.0005, 4337,   2903.9,   2.7263,  34.9103,2,  34.9094,2,    249.7,2,    249.7,2,    38.25,2,    21.23,2,     0.00,2,     1.42,2, -999.000,9,    0.012,2,    0.046,2,   2178.1,2,   2326.6,2,  2.4914
     316N142_3,   A15,   102,  1,     10,     10,2,19940504,0440,-28.6660, -19.0005, 4337,   3088.1,   2.6126,  34.9037,2,  34.9027,2,    250.2,2,    250.1,2,    41.52,2,    21.51,2,     0.00,2,     1.44,2, -999.000,9, -999.000,9, -999.000,9,   -999.0,9,   -999.0,9,  2.3613
     316N142_3,   A15,   102,  1,      9,      9,2,19940504,0440,-28.6660, -19.0005, 4337,   3240.0,   2.5108,  34.8959,2,  34.8913,4,    249.4,2,    249.7,2,    44.63,2,    21.79,2,     0.00,2,     1.46,2, -999.000,9, -999.000,9, -999.000,9,   2184.2,2,   2332.0,2,  2.2460
     316N142_3,   A15,   102,  1,      8,      8,2,19940504,0440,-28.6660, -19.0005, 4337,   3393.6,   2.3433,  34.8805,2,  34.8775,2,    247.3,2,    247.6,2,    50.47,2,    22.49,2,     0.00,2,     1.51,2, -999.000,9, -999.000,9, -999.000,9,   -999.0,9,   -999.0,9,  2.0663
     316N142_3,   A15,   102,  1,      7,      7,2,19940504,0440,-28.6660, -19.0005, 4337,   3547.0,   2.1062,  34.8568,2,  34.8557,2,    244.0,2,    244.2,2,    59.19,2,    23.65,2,     0.00,2,     1.59,2, -999.000,9, -999.000,9, -999.000,9,   2197.1,2,   2335.1,2,  1.8189
     316N142_3,   A15,   102,  1,      6,      6,2,19940504,0440,-28.6660, -19.0005, 4337,   3699.5,   1.8784,  34.8336,2,  34.8333,2,    241.5,2,    240.9,2,    67.81,2,    24.76,2,     0.00,2,     1.67,2, -999.000,9, -999.000,9, -999.000,9,   -999.0,9,   -999.0,9,  1.5807
     316N142_3,   A15,   102,  1,      5,      5,2,19940504,0440,-28.6660, -19.0005, 4337,   3853.0,   1.7186,  34.8155,2,  34.8137,2,    237.5,2,    237.5,2,    74.32,2,    25.64,2,     0.00,2,     1.74,2, -999.000,9, -999.000,9, -999.000,9,   2214.0,2,   2344.9,2,  1.4088
     316N142_3,   A15,   102,  1,      4,      4,2,19940504,0440,-28.6660, -19.0005, 4337,   4005.8,   1.6230,  34.8041,2,  34.8034,2,    236.3,2,    235.6,2,    78.26,2,    26.16,2,     0.00,2,     1.77,2, -999.000,9, -999.000,9, -999.000,9,   -999.0,9,   -999.0,9,  1.2992
     316N142_3,   A15,   102,  1,      3,      3,2,19940504,0440,-28.6660, -19.0005, 4337,   4160.2,   1.5384,  34.7935,2,  34.7867,4,    233.7,2,    233.5,2,    82.05,2,    26.81,2,     0.00,2,     1.80,2, -999.000,9, -999.000,9, -999.000,9,   2223.6,2,   2349.9,2,  1.2000
     316N142_3,   A15,   102,  1,      2,      2,2,19940504,0440,-28.6660, -19.0005, 4337,   4313.7,   1.5054,  34.7879,2,  34.7855,2,    232.6,2,    232.7,2,    83.69,2,    27.01,2,     0.00,2,     1.83,2, -999.000,9, -999.000,9, -999.000,9,   -999.0,9,   -999.0,9,  1.1508
     316N142_3,   A15,   102,  1,      1,      1,2,19940504,0440,-28.6660, -19.0005, 4337,   4412.1,   1.5021,  34.7864,2,  34.7857,2,    231.0,2,    232.3,2,    83.94,2,    27.06,2,     0.00,2,     1.83,2, -999.000,9,    0.015,2,    0.016,2,   2226.0,2,   2352.7,2,  1.1364