BOTTLE,20020814WHPSIOKJU
EXPOCODE,SECT_ID,STNNBR,CASTNO,SAMPNO,BTLNBR,BTLNBR_FLAG_W,DATE,TIME,LATITUDE,LONGITUDE,DEPTH,CTDPRS,CTDTMP,CTDSAL,CTDSAL_FLAG_W,SALNTY,SALNTY_FLAG_W,CTDOXY,CTDOXY_FLAG_W,OXYGEN,OXYGEN_FLAG_W,SILCAT,SILCAT_FLAG_W,NITRAT,NITRAT_FLAG_W,NITRIT,NITRIT_FLAG_W,PHSPHT,PHSPHT_FLAG_W,CFC-11,CFC-11_FLAG_W,CFC-12,CFC-12_FLAG_W,CCL4,CCL4_FLAG_W,TCARBN,TCARBN_FLAG_W,ALKALI,ALKALI_FLAG_W,THETA
,,,,,,,,,,,,DBAR,ITS-90,PSS-78,,PSS-78,,UMOL/KG,,UMOL/KG,,UMOL/KG,,UMOL/KG,,UMOL/KG,,UMOL/KG,,PMOL/KG,,PMOL/KG,,PMOL/KG,,UMOL/KG,,UMOL/KG,,DEG C
     316N142_3,  AR15,   111,  1,     39,     39,2,19940509,0541,-18.7082, -18.4683, 4455,      6.2,  25.4809,  36.9783,2,  36.9808,2,    205.3,2,    206.6,2,     1.02,2,     0.11,2,     0.00,2,     0.21,2, -999.000,9, -999.000,9, -999.000,9,   2076.0,2,   2426.3,2, 25.4795
     316N142_3,  AR15,   111,  1,     35,     35,2,19940509,0541,-18.7082, -18.4683, 4455,     56.4,  25.4903,  36.9775,2,  36.9794,2,    201.4,2,    206.7,2,     1.01,2,     0.11,2,     0.00,2,     0.20,2, -999.000,9, -999.000,9, -999.000,9,   2076.5,2,   2426.2,2, 25.4778
     316N142_3,  AR15,   111,  1,     38,     38,2,19940509,0541,-18.7082, -18.4683, 4455,     87.0,  22.8192,  36.5161,2,  36.5183,2,    228.2,2,    227.4,2,     1.14,2,     0.11,2,     0.00,2,     0.20,2, -999.000,9, -999.000,9, -999.000,9,   2066.8,2,   2394.2,2, 22.8015
     316N142_3,  AR15,   111,  1,     33,     33,9,19940509,0541,-18.7082, -18.4683, 4455,    187.0,  17.4014,  35.7814,2,-999.0000,9,    205.8,2,   -999.0,9,  -999.00,9,  -999.00,9,  -999.00,9,  -999.00,9, -999.000,9, -999.000,9, -999.000,9,   -999.0,9,   -999.0,9, 17.3699
     316N142_3,  AR15,   111,  1,     41,     41,2,19940509,0541,-18.7082, -18.4683, 4455,    286.5,  13.0026,  35.1625,2,  35.1633,2,    178.7,2,    178.0,2,     5.48,2,    12.77,2,     0.00,2,     0.98,2, -999.000,9, -999.000,9, -999.000,9,   2123.6,2,   2307.1,2, 12.9630
     316N142_3,  AR15,   111,  1,     31,     31,2,19940509,0541,-18.7082, -18.4683, 4455,    385.6,  10.3694,  34.8692,2,  34.8681,2,    158.9,2,    155.6,2,    10.24,2,    21.62,2,     0.00,2,     1.49,2, -999.000,9, -999.000,9, -999.000,9,   2158.4,2,   2294.2,2, 10.3232
     316N142_3,  AR15,   111,  1,     37,     37,2,19940509,0541,-18.7082, -18.4683, 4455,    488.0,   7.9871,  34.6516,2,  34.6539,2,    144.9,2,    143.2,2,    17.11,2,    28.91,2,     0.00,2,     1.91,2, -999.000,9, -999.000,9, -999.000,9,   2186.6,2,   2289.2,2,  7.9371
     316N142_3,  AR15,   111,  1,     29,     29,2,19940509,0541,-18.7082, -18.4683, 4455,    608.6,   5.8421,  34.4911,2,  34.4911,2,    150.6,2,    152.6,2,    24.41,2,    32.92,2,     0.00,2,     2.17,2, -999.000,9, -999.000,9, -999.000,9,   2202.0,2,   2290.4,2,  5.7892
     316N142_3,  AR15,   111,  1,     28,     28,2,19940509,0541,-18.7082, -18.4683, 4455,    750.1,   4.4303,  34.4275,2,  34.4272,2,    170.8,2,    172.2,2,    32.71,2,    33.91,2,     0.00,2,     2.24,2, -999.000,9, -999.000,9, -999.000,9,   -999.0,9,   -999.0,9,  4.3725
     316N142_3,  AR15,   111,  1,     27,     27,2,19940509,0541,-18.7082, -18.4683, 4455,    860.9,   4.0119,  34.4512,2,  34.4501,2,    174.8,2,    176.0,2,    36.63,2,    33.85,2,     0.00,2,     2.25,2, -999.000,9, -999.000,9, -999.000,9,   -999.0,9,   -999.0,9,  3.9476
     316N142_3,  AR15,   111,  1,     26,     26,2,19940509,0541,-18.7082, -18.4683, 4455,    971.4,   3.7586,  34.4972,2,  34.4980,2,    179.1,2,    179.8,2,    39.29,2,    33.13,2,     0.00,2,     2.22,2, -999.000,9, -999.000,9, -999.000,9,   -999.0,9,   -999.0,9,  3.6871
     316N142_3,  AR15,   111,  1,     25,     25,2,19940509,0541,-18.7082, -18.4683, 4455,   1072.1,   3.6824,  34.5520,2,  34.5505,2,    181.0,2,    181.7,2,    39.67,2,    32.35,2,     0.00,2,     2.17,2, -999.000,9, -999.000,9, -999.000,9,   -999.0,9,   -999.0,9,  3.6033
     316N142_3,  AR15,   111,  1,     24,     24,2,19940509,0541,-18.7082, -18.4683, 4455,   1183.6,   3.7256,  34.6542,2,  34.6536,2,    186.2,2,    186.9,2,    38.22,2,    30.35,2,     0.00,2,     2.04,2, -999.000,9, -999.000,9, -999.000,9,   -999.0,9,   -999.0,9,  3.6366
     316N142_3,  AR15,   111,  1,     23,     23,2,19940509,0541,-18.7082, -18.4683, 4455,   1263.7,   3.8540,  34.7211,2,  34.7205,2,    191.1,2,    191.0,2,    34.24,2,    29.02,2,     0.00,2,     1.94,2, -999.000,9, -999.000,9, -999.000,9,   -999.0,9,   -999.0,9,  3.7568
     316N142_3,  AR15,   111,  1,     22,     22,2,19940509,0541,-18.7082, -18.4683, 4455,   1333.2,   3.8530,  34.7541,2,  34.7547,2,    194.7,2,    194.9,2,    32.94,2,    28.06,2,     0.00,2,     1.89,2, -999.000,9, -999.000,9, -999.000,9,   -999.0,9,   -999.0,9,  3.7497
     316N142_3,  AR15,   111,  1,     21,     21,2,19940509,0541,-18.7082, -18.4683, 4455,   1463.5,   3.8122,  34.8231,2,  34.8234,2,    208.2,2,    207.1,2,    30.51,2,    25.87,2,     0.00,2,     1.74,2, -999.000,9, -999.000,9, -999.000,9,   -999.0,9,   -999.0,9,  3.6977
     316N142_3,  AR15,   111,  1,     20,     20,2,19940509,0541,-18.7082, -18.4683, 4455,   1613.0,   3.6660,  34.8784,2,  34.8797,2,    223.5,2,    222.8,2,    28.24,2,    23.57,2,     0.00,2,     1.59,2, -999.000,9, -999.000,9, -999.000,9,   -999.0,9,   -999.0,9,  3.5397
     316N142_3,  AR15,   111,  1,     19,     19,2,19940509,0541,-18.7082, -18.4683, 4455,   1813.2,   3.4443,  34.9104,2,  34.9117,2,    236.5,2,    235.9,2,    27.45,2,    21.81,2,     0.00,2,     1.47,2, -999.000,9, -999.000,9, -999.000,9,   -999.0,9,   -999.0,9,  3.3025
     316N142_3,  AR15,   111,  1,     40,     40,2,19940509,0541,-18.7082, -18.4683, 4455,   1995.1,   3.2363,  34.9237,2,  34.9245,2,    243.1,2,    243.6,2,    28.12,2,    20.96,2,     0.00,2,     1.42,2, -999.000,9, -999.000,9, -999.000,9,   -999.0,9,   -999.0,9,  3.0807
     316N142_3,  AR15,   111,  1,     17,     17,2,19940509,0541,-18.7082, -18.4683, 4455,   2167.2,   3.0807,  34.9220,2,  34.9225,2,    246.2,2,    245.6,2,    30.04,2,    20.88,2,     0.00,2,     1.42,2, -999.000,9, -999.000,9, -999.000,9,   -999.0,9,   -999.0,9,  2.9114
     316N142_3,  AR15,   111,  1,     16,     16,2,19940509,0541,-18.7082, -18.4683, 4455,   2280.5,   2.9706,  34.9158,2,  34.9162,2,    245.3,2,    245.1,2,    32.39,2,    21.13,2,     0.00,2,     1.43,2, -999.000,9, -999.000,9, -999.000,9,   -999.0,9,   -999.0,9,  2.7925
     316N142_3,  AR15,   111,  1,     15,     15,2,19940509,0541,-18.7082, -18.4683, 4455,   2391.2,   2.8981,  34.9140,2,  34.9148,2,    246.4,2,    245.6,2,    33.48,2,    21.13,2,     0.00,2,     1.43,2, -999.000,9, -999.000,9, -999.000,9,   -999.0,9,   -999.0,9,  2.7106
     316N142_3,  AR15,   111,  1,     14,     14,2,19940509,0541,-18.7082, -18.4683, 4455,   2553.2,   2.8611,  34.9195,2,  34.9195,2,    249.0,2,    248.2,2,    32.89,2,    20.77,2,     0.00,2,     1.46,2, -999.000,9, -999.000,9, -999.000,9,   -999.0,9,   -999.0,9,  2.6586
     316N142_3,  AR15,   111,  1,     13,     13,2,19940509,0541,-18.7082, -18.4683, 4455,   2726.6,   2.6932,  34.8958,2,  34.8957,2,    242.8,2,    241.9,2,    40.13,2,    22.18,2,     0.00,2,     1.55,2, -999.000,9, -999.000,9, -999.000,9,   -999.0,9,   -999.0,9,  2.4769
     316N142_3,  AR15,   111,  1,     12,     12,2,19940509,0541,-18.7082, -18.4683, 4455,   2880.1,   2.6536,  34.8948,2,  34.8947,2,    242.9,2,    242.5,2,    41.07,2,    22.31,2,     0.00,2,     1.55,2, -999.000,9, -999.000,9, -999.000,9,   -999.0,9,   -999.0,9,  2.4228
     316N142_3,  AR15,   111,  1,     11,     11,2,19940509,0541,-18.7082, -18.4683, 4455,   3032.9,   2.5718,  34.8879,2,  34.8890,2,    242.5,2,    242.0,2,    43.84,2,    22.68,2,     0.00,2,     1.57,2, -999.000,9, -999.000,9, -999.000,9,   -999.0,9,   -999.0,9,  2.3271
     316N142_3,  AR15,   111,  1,     10,     10,2,19940509,0541,-18.7082, -18.4683, 4455,   3186.8,   2.4591,  34.8840,2,  34.8845,2,    243.3,2,    243.9,2,    45.48,2,    22.56,2,     0.00,2,     1.57,2, -999.000,9, -999.000,9, -999.000,9,   -999.0,9,   -999.0,9,  2.2011
     316N142_3,  AR15,   111,  1,      9,      9,2,19940509,0541,-18.7082, -18.4683, 4455,   3341.2,   2.2376,  34.8651,2,  34.8636,2,    242.6,2,    242.3,2,    52.61,2,    23.73,2,     0.00,2,     1.63,2, -999.000,9, -999.000,9, -999.000,9,   -999.0,9,   -999.0,9,  1.9688
     316N142_3,  AR15,   111,  1,      8,      8,2,19940509,0541,-18.7082, -18.4683, 4455,   3546.0,   2.0559,  34.8483,2,  34.8481,2,    240.7,2,    240.9,2,    58.92,2,    24.53,2,     0.00,2,     1.68,2, -999.000,9, -999.000,9, -999.000,9,   -999.0,9,   -999.0,9,  1.7701
     316N142_3,  AR15,   111,  1,      7,      7,2,19940509,0541,-18.7082, -18.4683, 4455,   3698.8,   1.8837,  34.8321,2,  34.8328,2,    239.3,2,    239.3,2,    65.26,2,    25.40,2,     0.00,2,     1.74,2, -999.000,9, -999.000,9, -999.000,9,   -999.0,9,   -999.0,9,  1.5861
     316N142_3,  AR15,   111,  1,      6,      6,2,19940509,0541,-18.7082, -18.4683, 4455,   3852.3,   1.7760,  34.8209,2,  34.8217,2,    238.3,2,    238.1,2,    69.48,2,    25.89,2,     0.00,2,     1.77,2, -999.000,9, -999.000,9, -999.000,9,   -999.0,9,   -999.0,9,  1.4647
     316N142_3,  AR15,   111,  1,      5,      5,2,19940509,0541,-18.7082, -18.4683, 4455,   4004.4,   1.5111,  34.7954,2,  34.7952,2,    235.5,2,    235.3,2,    79.89,2,    27.19,2,     0.00,2,     1.86,2, -999.000,9, -999.000,9, -999.000,9,   -999.0,9,   -999.0,9,  1.1907
     316N142_3,  AR15,   111,  1,      4,      4,2,19940509,0541,-18.7082, -18.4683, 4455,   4157.4,   1.4290,  34.7864,2,  34.7858,2,    233.9,2,    234.2,2,    83.44,2,    27.68,2,     0.00,2,     1.89,2, -999.000,9, -999.000,9, -999.000,9,   -999.0,9,   -999.0,9,  1.0942
     316N142_3,  AR15,   111,  1,      3,      3,2,19940509,0541,-18.7082, -18.4683, 4455,   4361.5,   1.1348,  34.7572,2,  34.7561,2,    231.4,2,    230.6,2,    94.28,2,    29.28,2,     0.00,2,     1.99,2, -999.000,9, -999.000,9, -999.000,9,   -999.0,9,   -999.0,9,  0.7863
     316N142_3,  AR15,   111,  1,      2,      2,2,19940509,0541,-18.7082, -18.4683, 4455,   4565.6,   0.9483,  34.7373,2,  34.7390,2,    228.5,2,    228.1,2,   101.26,2,    30.27,2,     0.00,2,     2.06,2, -999.000,9, -999.000,9, -999.000,9,   -999.0,9,   -999.0,9,  0.5828
     316N142_3,  AR15,   111,  1,      1,      1,2,19940509,0541,-18.7082, -18.4683, 4455,   4743.6,   0.9341,  34.7340,2,  34.7345,2,    227.6,2,    227.6,2,   102.07,2,    30.40,2,     0.00,2,     2.07,2, -999.000,9, -999.000,9, -999.000,9,   -999.0,9,   -999.0,9,  0.5487