BOTTLE,20020814WHPSIOKJU
EXPOCODE,SECT_ID,STNNBR,CASTNO,SAMPNO,BTLNBR,BTLNBR_FLAG_W,DATE,TIME,LATITUDE,LONGITUDE,DEPTH,CTDPRS,CTDTMP,CTDSAL,CTDSAL_FLAG_W,SALNTY,SALNTY_FLAG_W,CTDOXY,CTDOXY_FLAG_W,OXYGEN,OXYGEN_FLAG_W,SILCAT,SILCAT_FLAG_W,NITRAT,NITRAT_FLAG_W,NITRIT,NITRIT_FLAG_W,PHSPHT,PHSPHT_FLAG_W,CFC-11,CFC-11_FLAG_W,CFC-12,CFC-12_FLAG_W,CCL4,CCL4_FLAG_W,TCARBN,TCARBN_FLAG_W,ALKALI,ALKALI_FLAG_W,THETA
,,,,,,,,,,,,DBAR,ITS-90,PSS-78,,PSS-78,,UMOL/KG,,UMOL/KG,,UMOL/KG,,UMOL/KG,,UMOL/KG,,UMOL/KG,,PMOL/KG,,PMOL/KG,,PMOL/KG,,UMOL/KG,,UMOL/KG,,DEG C
     316N142_3,  AR15,    12,  1,     39,     39,2,19940406,2306, -1.3345, -35.9435, 4431,      0.8,  28.4443,  35.6765,2,  35.6822,2,    201.0,2,    201.9,2,     2.08,2,     0.08,2,     0.01,2,     0.10,2, -999.000,9, -999.000,9, -999.000,9,   1985.7,2,   2332.8,2, 28.4441
     316N142_3,  AR15,    12,  1,     35,     35,2,19940406,2306, -1.3345, -35.9435, 4431,     65.8,  24.4871,  36.2380,2,  36.2234,2,    197.3,2,    187.3,2,     2.42,2,     0.28,2,     0.04,2,     0.23,2, -999.000,9, -999.000,9, -999.000,9,   2071.6,2,   2373.0,2, 24.4730
     316N142_3,  AR15,    12,  1,     38,     38,2,19940406,2306, -1.3345, -35.9435, 4431,    106.3,  16.5539,  35.6786,4,  35.6550,2,   -999.0,5,    104.9,2,     6.45,2,    17.88,2,     0.05,2,     1.15,2, -999.000,9, -999.000,9, -999.000,9,   2168.4,2,   2334.9,2, 16.5366
     316N142_3,  AR15,    12,  1,     33,     33,2,19940406,2306, -1.3345, -35.9435, 4431,    147.0,  13.1881,  35.3015,2,  35.3014,2,    121.0,2,    111.7,2,     9.17,2,    21.34,2,     0.01,2,     1.36,2, -999.000,9, -999.000,9, -999.000,9,   2175.8,2,   2319.4,2, 13.1677
     316N142_3,  AR15,    12,  1,     32,     32,2,19940406,2306, -1.3345, -35.9435, 4431,    242.5,  11.7400,  35.1177,2,  35.1207,2,     98.5,2,     96.6,2,    11.53,2,    25.64,2,     0.01,2,     1.62,2, -999.000,9, -999.000,9, -999.000,9,   -999.0,9,   2306.6,2, 11.7087
     316N142_3,  AR15,    12,  1,     31,     31,2,19940406,2306, -1.3345, -35.9435, 4431,    337.6,   9.8977,  34.9006,2,  34.9054,2,    102.7,2,    106.9,2,    14.37,2,    28.23,2,     0.00,2,     1.79,2, -999.000,9, -999.000,9, -999.000,9,   2201.5,2,   2294.4,2,  9.8586
     316N142_3,  AR15,    12,  1,     37,     37,2,19940406,2306, -1.3345, -35.9435, 4431,    438.1,   7.3539,  34.6148,2,  34.6184,2,    150.9,2,    151.4,2,    18.87,2,    28.72,2,     0.00,2,     1.96,2, -999.000,9, -999.000,9, -999.000,9,   2189.9,2,   2293.3,2,  7.3113
     316N142_3,  AR15,    12,  1,     29,     29,2,19940406,2306, -1.3345, -35.9435, 4431,    518.7,   6.3699,  34.5307,2,  34.5320,2,    160.1,2,    160.9,2,    21.95,2,    29.93,2,     0.00,2,     2.00,2, -999.000,9, -999.000,9, -999.000,9,   2194.2,2,   2290.6,2,  6.3230
     316N142_3,  AR15,    12,  1,     28,     28,2,19940406,2306, -1.3345, -35.9435, 4431,    628.1,   5.5987,  34.5049,2,  34.5057,2,    145.9,2,    149.1,2,    26.44,2,    32.72,2,     0.00,2,     2.19,2, -999.000,9, -999.000,9, -999.000,9,   2208.4,2,   2292.5,2,  5.5452
     316N142_3,  AR15,    12,  1,     27,     27,2,19940406,2306, -1.3345, -35.9435, 4431,    743.0,   5.0409,  34.4828,2,  34.4839,2,    150.9,2,    157.0,2,    29.51,2,    33.02,2,     0.00,2,     2.22,2, -999.000,9, -999.000,9, -999.000,9,   2208.6,2,   2295.0,2,  4.9801
     316N142_3,  AR15,    12,  1,     26,     26,2,19940406,2306, -1.3345, -35.9435, 4431,    857.5,   4.5960,  34.5169,2,  34.5187,2,    156.6,3,    159.1,2,    32.58,2,    33.27,2,     0.00,2,     2.25,2, -999.000,9, -999.000,9, -999.000,9,   2215.1,2,   2301.3,2,  4.5280
     316N142_3,  AR15,    12,  1,     25,     25,2,19940406,2306, -1.3345, -35.9435, 4431,    983.5,   4.4840,  34.6538,2,  34.6680,2,    163.1,2,    163.0,2,    31.62,2,    31.68,2,     0.00,2,     2.14,2, -999.000,9, -999.000,9, -999.000,9,   2214.4,2,   2306.9,2,  4.4058
     316N142_3,  AR15,    12,  1,     24,     24,2,19940406,2306, -1.3345, -35.9435, 4431,   1110.8,   4.5146,  34.7360,2,  34.7439,2,    170.2,2,    169.1,2,    29.59,2,    30.12,2,     0.00,2,     2.01,2, -999.000,9, -999.000,9, -999.000,9,   -999.0,9,   -999.0,9,  4.4249
     316N142_3,  AR15,    12,  1,     23,     23,2,19940406,2306, -1.3345, -35.9435, 4431,   1262.5,   4.5760,  34.8176,2,  34.8184,2,    186.6,2,    182.8,2,    26.38,2,    27.66,2,     0.00,2,     1.84,2, -999.000,9, -999.000,9, -999.000,9,   -999.0,9,   -999.0,9,  4.4718
     316N142_3,  AR15,    12,  1,     22,     22,2,19940406,2306, -1.3345, -35.9435, 4431,   1409.6,   4.4199,  34.9590,2,  34.9616,2,    226.0,2,    223.1,2,    19.49,2,    21.92,2,     0.00,2,     1.45,2, -999.000,9, -999.000,9, -999.000,9,   -999.0,9,   -999.0,9,  4.3034
     316N142_3,  AR15,    12,  1,     21,     21,2,19940406,2306, -1.3345, -35.9435, 4431,   1559.3,   4.1889,  34.9743,2,  34.9770,2,    239.1,2,    236.2,2,    18.42,2,    20.51,2,     0.00,2,     1.34,2,    0.042,2,    0.045,2,    0.479,2,   -999.0,9,   -999.0,9,  4.0610
     316N142_3,  AR15,    12,  1,     20,     20,2,19940406,2306, -1.3345, -35.9435, 4431,   1717.7,   4.0244,  34.9831,2,  34.9844,2,    249.1,2,    246.0,2,    17.58,2,    19.48,2,     0.00,2,     1.26,2,    0.064,2,    0.056,2,    0.530,2,   -999.0,9,   -999.0,9,  3.8837
     316N142_3,  AR15,    12,  1,     19,     19,2,19940406,2306, -1.3345, -35.9435, 4431,   1870.3,   3.7305,  34.9799,2,  34.9817,2,    253.2,2,    253.9,2,    18.16,2,    18.82,2,     0.00,2,     1.21,2,    0.029,2,    0.047,2,    0.553,2,   -999.0,9,   -999.0,9,  3.5793
     316N142_3,  AR15,    12,  1,     18,     18,9,19940406,2306, -1.3345, -35.9435, 4431,   2022.7,   3.5615,  34.9737,2,-999.0000,9,    257.6,2,   -999.0,9,  -999.00,9,  -999.00,9,  -999.00,9,  -999.00,9, -999.000,9, -999.000,9, -999.000,9,   -999.0,9,   -999.0,9,  3.3983
     316N142_3,  AR15,    12,  1,     17,     17,2,19940406,2306, -1.3345, -35.9435, 4431,   2174.6,   3.4173,  34.9664,2,  34.9675,2,    257.9,2,    256.6,2,    20.52,2,    18.78,2,     0.00,2,     1.21,2, -999.000,9, -999.000,9, -999.000,9,   -999.0,9,   -999.0,9,  3.2418
     316N142_3,  AR15,    12,  1,     16,     16,2,19940406,2306, -1.3345, -35.9435, 4431,   2377.0,   3.0924,  34.9491,2,  34.9522,2,    257.0,2,    255.9,2,    24.65,2,    19.06,2,     0.00,2,     1.23,2, -999.000,9, -999.000,9, -999.000,9,   -999.0,9,   -999.0,9,  2.9028
     316N142_3,  AR15,    12,  1,     15,     15,2,19940406,2306, -1.3345, -35.9435, 4431,   2580.3,   2.9238,  34.9422,2,  34.9424,2,    258.1,2,    259.5,2,    25.46,2,    18.87,2,     0.00,2,     1.22,2, -999.000,9, -999.000,9, -999.000,9,   -999.0,9,   -999.0,9,  2.7173
     316N142_3,  AR15,    12,  1,     14,     14,2,19940406,2306, -1.3345, -35.9435, 4431,   2783.0,   2.7739,  34.9320,2,  34.9318,2,    259.3,2,    259.7,2,    27.46,2,    19.01,2,     0.00,2,     1.23,2, -999.000,9, -999.000,9, -999.000,9,   -999.0,9,   -999.0,9,  2.5502
     316N142_3,  AR15,    12,  1,     13,     13,2,19940406,2306, -1.3345, -35.9435, 4431,   2987.2,   2.7071,  34.9253,2,  34.9255,2,    256.8,2,    257.5,2,    30.05,2,    19.48,2,     0.00,2,     1.26,2, -999.000,9, -999.000,9, -999.000,9,   -999.0,9,   -999.0,9,  2.4640
     316N142_3,  AR15,    12,  1,     12,     12,2,19940406,2306, -1.3345, -35.9435, 4431,   3139.1,   2.6763,  34.9232,2,  34.9235,2,    257.5,2,    258.5,2,    30.28,2,    19.43,2,     0.00,2,     1.25,2, -999.000,9, -999.000,9, -999.000,9,   -999.0,9,   -999.0,9,  2.4181
     316N142_3,  AR15,    12,  1,     11,     11,2,19940406,2306, -1.3345, -35.9435, 4431,   3291.3,   2.5638,  34.9172,2,  34.9174,2,    259.7,2,    260.3,2,    30.74,2,    19.34,2,     0.00,2,     1.25,2, -999.000,9, -999.000,9, -999.000,9,   -999.0,9,   -999.0,9,  2.2923
     316N142_3,  AR15,    12,  1,     10,     10,2,19940406,2306, -1.3345, -35.9435, 4431,   3443.6,   2.4950,  34.9123,2,  34.9119,2,    261.2,2,    261.1,2,    31.67,2,    19.43,2,     0.00,2,     1.25,2, -999.000,9, -999.000,9, -999.000,9,   -999.0,9,   -999.0,9,  2.2088
     316N142_3,  AR15,    12,  1,      9,      9,2,19940406,2306, -1.3345, -35.9435, 4431,   3596.1,   2.4291,  34.9078,2,  34.9088,2,    262.2,2,    262.9,2,    31.66,2,    19.20,2,     0.00,2,     1.23,2, -999.000,9, -999.000,9, -999.000,9,   -999.0,9,   -999.0,9,  2.1280
     316N142_3,  AR15,    12,  1,      8,      8,2,19940406,2306, -1.3345, -35.9435, 4431,   3750.4,   2.3639,  34.9029,2,  34.9041,2,    263.5,2,    263.4,2,    32.59,2,    19.15,2,     0.00,2,     1.24,2,    0.069,2,    0.061,2,    0.525,2,   -999.0,9,   -999.0,9,  2.0476
     316N142_3,  AR15,    12,  1,      7,      7,2,19940406,2306, -1.3345, -35.9435, 4431,   3903.6,   2.3092,  34.8971,2,  34.8974,2,    263.2,2,    262.4,2,    34.11,2,    19.34,2,     0.00,2,     1.25,2,    0.083,2,    0.067,2,    0.545,2,   -999.0,9,   -999.0,9,  1.9772
     316N142_3,  AR15,    12,  1,      6,      6,2,19940406,2306, -1.3345, -35.9435, 4431,   4056.4,   2.0395,  34.8658,2,  34.8663,2,    257.0,2,    255.3,2,    47.45,2,    21.26,2,     0.00,2,     1.40,2,    0.071,2,    0.048,2,    0.358,2,   -999.0,9,   -999.0,9,  1.6980
     316N142_3,  AR15,    12,  1,      5,      5,2,19940406,2306, -1.3345, -35.9435, 4431,   4159.0,   1.7090,  34.8255,2,  34.8239,2,    246.6,2,    244.4,2,    66.13,2,    24.14,2,     0.00,2,     1.61,2, -999.000,9, -999.000,9, -999.000,9,   -999.0,9,   -999.0,9,  1.3656
     316N142_3,  AR15,    12,  1,      4,      4,2,19940406,2306, -1.3345, -35.9435, 4431,   4261.0,   1.3818,  34.7896,2,  34.7905,2,    237.6,2,    236.6,2,    80.49,2,    26.18,2,     0.00,2,     1.79,2, -999.000,9, -999.000,9, -999.000,9,   -999.0,9,   -999.0,9,  1.0368
     316N142_3,  AR15,    12,  1,      3,      3,2,19940406,2306, -1.3345, -35.9435, 4431,   4363.7,   1.2220,  34.7697,2,  34.7698,2,    232.3,2,    232.8,2,    88.00,2,    27.29,2,     0.00,2,     1.86,2, -999.000,9, -999.000,9, -999.000,9,   -999.0,9,   -999.0,9,  0.8705
     316N142_3,  AR15,    12,  1,      2,      2,2,19940406,2306, -1.3345, -35.9435, 4431,   4456.2,   1.1095,  34.7560,2,  34.7555,2,    229.1,2,    229.5,2,    93.62,2,    28.00,2,     0.00,2,     1.92,2, -999.000,9, -999.000,9, -999.000,9,   -999.0,9,   -999.0,9,  0.7512
     316N142_3,  AR15,    12,  1,      1,      1,2,19940406,2306, -1.3345, -35.9435, 4431,   4511.3,   1.0616,  34.7503,2,  34.7516,2,    227.7,2,    228.0,2,    95.53,2,    28.39,2,     0.00,2,     1.96,2, -999.000,9, -999.000,9, -999.000,9,   -999.0,9,   -999.0,9,  0.6986