BOTTLE,20020814WHPSIOKJU
EXPOCODE,SECT_ID,STNNBR,CASTNO,SAMPNO,BTLNBR,BTLNBR_FLAG_W,DATE,TIME,LATITUDE,LONGITUDE,DEPTH,CTDPRS,CTDTMP,CTDSAL,CTDSAL_FLAG_W,SALNTY,SALNTY_FLAG_W,CTDOXY,CTDOXY_FLAG_W,OXYGEN,OXYGEN_FLAG_W,SILCAT,SILCAT_FLAG_W,NITRAT,NITRAT_FLAG_W,NITRIT,NITRIT_FLAG_W,PHSPHT,PHSPHT_FLAG_W,CFC-11,CFC-11_FLAG_W,CFC-12,CFC-12_FLAG_W,CCL4,CCL4_FLAG_W,TCARBN,TCARBN_FLAG_W,ALKALI,ALKALI_FLAG_W,THETA
,,,,,,,,,,,,DBAR,ITS-90,PSS-78,,PSS-78,,UMOL/KG,,UMOL/KG,,UMOL/KG,,UMOL/KG,,UMOL/KG,,UMOL/KG,,PMOL/KG,,PMOL/KG,,PMOL/KG,,UMOL/KG,,UMOL/KG,,DEG C
     316N142_3,   A15,    31,  1,     39,     39,2,19940414,2200,  6.0003, -19.0032, 4601,      1.6,  28.6629,  35.9556,2,  35.9596,2,    212.9,2,    213.9,2,     2.08,2,     0.00,2,     0.00,2,     0.13,2,    1.776,2,    1.016,2,    2.127,2,   -999.0,9,   -999.0,9, 28.6626
     316N142_3,   A15,    31,  1,     35,     35,9,19940414,2200,  6.0003, -19.0032, 4601,     34.9,  24.6832,  36.0932,2,-999.0000,9,    232.9,2,   -999.0,9,  -999.00,9,  -999.00,9,  -999.00,9,  -999.00,9, -999.000,9, -999.000,9, -999.000,9,   -999.0,9,   -999.0,9, 24.6757
     316N142_3,   A15,    31,  1,     38,     38,2,19940414,2200,  6.0003, -19.0032, 4601,     75.9,  18.0500,  35.7737,2,  35.7783,2,     83.2,2,     89.9,2,     5.90,2,    16.09,2,     0.10,2,     1.15,2,    1.396,2,    0.784,2,    0.483,2,   -999.0,9,   -999.0,9, 18.0369
     316N142_3,   A15,    31,  1,     33,     33,2,19940414,2200,  6.0003, -19.0032, 4601,    136.2,  14.5113,  35.4677,2,  35.4676,2,     78.7,2,     80.1,2,     8.86,2,    22.42,2,     0.01,2,     1.55,2,    1.165,6,    0.659,6,    0.215,6,   -999.0,9,   -999.0,9, 14.4910
     316N142_3,   A15,    31,  1,     41,     41,2,19940414,2200,  6.0003, -19.0032, 4601,    181.7,  13.7529,  35.3793,2,  35.3812,2,     78.2,2,     79.2,2,     9.60,2,    23.53,2,     0.00,2,     1.63,2,    1.004,2,    0.593,2,    0.196,2,   -999.0,9,   -999.0,9, 13.7269
     316N142_3,   A15,    31,  1,     31,     31,2,19940414,2200,  6.0003, -19.0032, 4601,    247.2,  12.4844,  35.2450,2,  35.2434,2,     72.7,2,     72.8,2,    11.32,2,    25.70,2,     0.00,2,     1.75,2,    0.777,2,    0.405,2,    0.174,2,   -999.0,9,   -999.0,9, 12.4512
     316N142_3,   A15,    31,  1,     37,     37,2,19940414,2200,  6.0003, -19.0032, 4601,    306.2,  11.4673,  35.1725,2,  35.1740,2,     68.0,2,     65.1,2,    13.05,2,    28.49,2,     0.00,2,     1.90,2,    0.532,2,    0.336,2,    0.152,2,   -999.0,9,   -999.0,9, 11.4282
     316N142_3,   A15,    31,  1,     29,     29,2,19940414,2200,  6.0003, -19.0032, 4601,    356.3,  10.3152,  35.0647,2,  35.0663,2,     53.9,2,     50.2,2,    15.88,2,    32.14,2,     0.00,2,     2.11,2,    0.349,2,    0.200,2,    0.147,2,   -999.0,9,   -999.0,9, 10.2727
     316N142_3,   A15,    31,  1,     28,     28,2,19940414,2200,  6.0003, -19.0032, 4601,    405.6,   9.3489,  34.9557,2,  34.9549,2,     52.3,2,     51.7,2,    17.85,2,    33.83,2,     0.00,2,     2.23,2,    0.226,2,    0.146,6,    0.120,6,   -999.0,9,   -999.0,9,  9.3033
     316N142_3,   A15,    31,  1,     27,     27,2,19940414,2200,  6.0003, -19.0032, 4601,    505.7,   7.8600,  34.7922,2,  34.7905,2,     73.5,2,     73.5,2,    21.18,2,    34.61,2,     0.00,2,     2.33,2, -999.000,9, -999.000,9, -999.000,9,   -999.0,9,   -999.0,9,  7.8085
     316N142_3,   A15,    31,  1,     26,     26,2,19940414,2200,  6.0003, -19.0032, 4601,    606.5,   6.7654,  34.6929,2,  34.6926,2,     81.9,2,     82.6,2,    25.00,2,    35.70,2,     0.00,2,     2.46,2,    0.038,4,    0.046,2,    0.149,2,   -999.0,9,   -999.0,9,  6.7082
     316N142_3,   A15,    31,  1,     25,     25,2,19940414,2200,  6.0003, -19.0032, 4601,    707.8,   6.1058,  34.6611,2,  34.6612,2,     93.6,2,     94.1,2,    27.34,2,    35.66,2,     0.00,2,     2.49,2, -999.000,9, -999.000,9, -999.000,9,   -999.0,9,   -999.0,9,  6.0422
     316N142_3,   A15,    31,  1,     24,     24,2,19940414,2200,  6.0003, -19.0032, 4601,    798.4,   5.5867,  34.6556,2,  34.6561,2,    103.8,2,    107.6,2,    29.42,2,    34.85,2,     0.00,2,     2.47,2,    0.040,4,    0.044,2,    0.050,2,   -999.0,9,   -999.0,9,  5.5176
     316N142_3,   A15,    31,  1,     23,     23,2,19940414,2200,  6.0003, -19.0032, 4601,    884.2,   5.0920,  34.6548,2,  34.6545,2,    122.6,2,    127.4,2,    30.77,2,    33.40,2,     0.00,2,     2.40,2,    0.001,4,    0.021,2,    0.112,2,   -999.0,9,   -999.0,9,  5.0182
     316N142_3,   A15,    31,  1,     22,     22,2,19940414,2200,  6.0003, -19.0032, 4601,   1015.7,   4.8501,  34.7209,2,  34.7204,2,    139.9,2,    142.7,2,    30.15,2,    31.44,2,     0.00,2,     2.27,2,    0.004,4,    0.023,2,    0.043,2,   -999.0,9,   -999.0,9,  4.7661
     316N142_3,   A15,    31,  1,     21,     21,2,19940414,2200,  6.0003, -19.0032, 4601,   1148.4,   4.6507,  34.8216,2,  34.8211,2,    161.4,2,    165.9,2,    27.55,2,    28.25,2,     0.00,2,     2.04,2, -999.000,9, -999.000,9, -999.000,9,   -999.0,9,   -999.0,9,  4.5563
     316N142_3,   A15,    31,  1,     20,     20,2,19940414,2200,  6.0003, -19.0032, 4601,   1289.3,   4.3719,  34.8898,2,  34.8907,2,    182.8,2,    188.7,2,    25.44,2,    25.50,2,     0.00,2,     1.85,2, -999.000,9,    0.053,4,    0.090,4,   -999.0,9,   -999.0,9,  4.2671
     316N142_3,   A15,    31,  1,     19,     19,2,19940414,2200,  6.0003, -19.0032, 4601,   1430.7,   4.1801,  34.9316,2,  34.9343,2,    207.2,2,    208.6,2,    23.59,2,    23.25,2,     0.00,2,     1.69,2, -999.000,9, -999.000,9, -999.000,9,   -999.0,9,   -999.0,9,  4.0643
     316N142_3,   A15,    31,  1,     40,     40,2,19940414,2200,  6.0003, -19.0032, 4601,   1567.4,   4.0333,  34.9443,2,  34.9461,2,    222.6,2,    219.5,2,    22.84,2,    22.10,2,     0.00,2,     1.61,2, -999.000,9,    0.027,2,    0.095,2,   -999.0,9,   -999.0,9,  3.9066
     316N142_3,   A15,    31,  1,     17,     17,2,19940414,2200,  6.0003, -19.0032, 4601,   1668.1,   3.8845,  34.9562,2,  34.9573,2,    231.2,2,    230.2,2,    22.10,2,    20.99,2,     0.00,2,     1.53,2, -999.000,9,    0.032,2,    0.100,2,   -999.0,9,   -999.0,9,  3.7503
     316N142_3,   A15,    31,  1,     16,     16,2,19940414,2200,  6.0003, -19.0032, 4601,   1770.2,   3.7251,  34.9533,2,  34.9559,2,    233.8,2,    232.8,2,    23.20,2,    20.90,2,     0.00,2,     1.50,2, -999.000,9,    0.026,2,    0.055,2,   -999.0,9,   -999.0,9,  3.5834
     316N142_3,   A15,    31,  1,     15,     15,2,19940414,2200,  6.0003, -19.0032, 4601,   1922.4,   3.5296,  34.9516,2,  34.9516,2,    236.9,2,    235.9,2,    24.92,2,    20.67,2,     0.00,2,     1.50,2, -999.000,9,    0.058,4,    0.048,4,   -999.0,9,   -999.0,9,  3.3764
     316N142_3,   A15,    31,  1,     14,     14,2,19940414,2200,  6.0003, -19.0032, 4601,   2124.2,   3.2947,  34.9466,2,  34.9486,2,    241.1,2,    240.1,2,    27.25,2,    20.44,2,     0.00,2,     1.48,2, -999.000,9, -999.000,9, -999.000,9,   -999.0,9,   -999.0,9,  3.1260
     316N142_3,   A15,    31,  1,     13,     13,2,19940414,2200,  6.0003, -19.0032, 4601,   2326.3,   3.0825,  34.9398,2,  34.9404,2,    242.9,2,    241.9,2,    30.32,2,    20.40,2,     0.00,2,     1.49,2, -999.000,9, -999.000,9, -999.000,9,   -999.0,9,   -999.0,9,  2.8980
     316N142_3,   A15,    31,  1,     12,     12,2,19940414,2200,  6.0003, -19.0032, 4601,   2530.2,   2.9283,  34.9322,2,  34.9329,2,    242.8,2,    242.3,2,    33.14,2,    20.44,2,     0.00,2,     1.49,2, -999.000,9, -999.000,9, -999.000,9,   -999.0,9,   -999.0,9,  2.7267
     316N142_3,   A15,    31,  1,     11,     11,2,19940414,2200,  6.0003, -19.0032, 4601,   2734.3,   2.7978,  34.9250,2,  34.9251,2,    242.8,2,    242.5,2,    35.47,2,    20.58,2,     0.00,2,     1.50,2, -999.000,9,    0.078,4,    0.036,4,   -999.0,9,   -999.0,9,  2.5786
     316N142_3,   A15,    31,  1,     10,     10,2,19940414,2200,  6.0003, -19.0032, 4601,   2936.7,   2.6796,  34.9180,2,  34.9178,2,    243.1,2,    242.9,2,    37.79,2,    20.72,2,     0.00,2,     1.51,2, -999.000,9, -999.000,9, -999.000,9,   -999.0,9,   -999.0,9,  2.4423
     316N142_3,   A15,    31,  1,      9,      9,2,19940414,2200,  6.0003, -19.0032, 4601,   3139.7,   2.6006,  34.9127,2,  34.9113,2,    241.9,2,    242.9,2,    39.63,2,    20.86,2,     0.00,2,     1.51,2, -999.000,9, -999.000,9, -999.000,9,   -999.0,9,   -999.0,9,  2.3442
     316N142_3,   A15,    31,  1,      8,      8,2,19940414,2200,  6.0003, -19.0032, 4601,   3344.4,   2.5169,  34.9070,2,  34.9063,2,    242.6,2,    242.4,2,    41.83,2,    21.00,2,     0.00,2,     1.52,2, -999.000,9, -999.000,9, -999.000,9,   -999.0,9,   -999.0,9,  2.2408
     316N142_3,   A15,    31,  1,      7,      7,2,19940414,2200,  6.0003, -19.0032, 4601,   3548.4,   2.4611,  34.9005,2,  34.9002,2,    243.3,2,    243.5,2,    43.17,2,    21.05,2,     0.00,2,     1.52,2, -999.000,9,    0.066,4,    0.002,4,   -999.0,9,   -999.0,9,  2.1644
     316N142_3,   A15,    31,  1,      6,      6,2,19940414,2200,  6.0003, -19.0032, 4601,   3752.6,   2.4124,  34.8958,2,  34.9033,4,    243.3,2,    242.9,2,    44.76,2,    21.15,2,     0.00,2,     1.53,2, -999.000,9, -999.000,9, -999.000,9,   -999.0,9,   -999.0,9,  2.0946
     316N142_3,   A15,    31,  1,      5,      5,2,19940414,2200,  6.0003, -19.0032, 4601,   3955.8,   2.3915,  34.8927,2,  34.8923,2,    242.7,2,    242.6,2,    45.98,2,    21.33,2,     0.00,2,     1.54,2, -999.000,9, -999.000,9, -999.000,9,   -999.0,9,   -999.0,9,  2.0514
     316N142_3,   A15,    31,  1,      4,      4,2,19940414,2200,  6.0003, -19.0032, 4601,   4160.3,   2.3567,  34.8880,2,  34.8886,2,    243.0,2,    242.4,2,    47.44,2,    21.47,2,     0.00,2,     1.55,2, -999.000,9,    0.051,4,    0.066,4,   -999.0,9,   -999.0,9,  1.9941
     316N142_3,   A15,    31,  1,      3,      3,2,19940414,2200,  6.0003, -19.0032, 4601,   4364.9,   2.3109,  34.8820,2,  34.8821,2,    242.3,2,    241.8,2,    49.89,2,    21.71,2,     0.00,2,     1.56,2, -999.000,9, -999.000,9, -999.000,9,   -999.0,9,   -999.0,9,  1.9256
     316N142_3,   A15,    31,  1,      2,      2,2,19940414,2200,  6.0003, -19.0032, 4601,   4570.2,   2.2549,  34.8740,2,  34.8725,2,    242.3,2,    242.0,2,    52.09,2,    21.99,2,     0.00,2,     1.58,2, -999.000,9,    0.013,2,    0.053,2,   -999.0,9,   -999.0,9,  1.8469
     316N142_3,   A15,    31,  1,      1,      1,2,19940414,2200,  6.0003, -19.0032, 4601,   4719.1,   2.2239,  34.8685,2,  34.8682,2,    241.9,2,    241.8,2,    53.67,2,    22.17,2,     0.00,2,     1.59,2, -999.000,9,    0.050,4,    0.171,4,   -999.0,9,   -999.0,9,  1.7988