BOTTLE,20020814WHPSIOKJU
EXPOCODE,SECT_ID,STNNBR,CASTNO,SAMPNO,BTLNBR,BTLNBR_FLAG_W,DATE,TIME,LATITUDE,LONGITUDE,DEPTH,CTDPRS,CTDTMP,CTDSAL,CTDSAL_FLAG_W,SALNTY,SALNTY_FLAG_W,CTDOXY,CTDOXY_FLAG_W,OXYGEN,OXYGEN_FLAG_W,SILCAT,SILCAT_FLAG_W,NITRAT,NITRAT_FLAG_W,NITRIT,NITRIT_FLAG_W,PHSPHT,PHSPHT_FLAG_W,CFC-11,CFC-11_FLAG_W,CFC-12,CFC-12_FLAG_W,CCL4,CCL4_FLAG_W,TCARBN,TCARBN_FLAG_W,ALKALI,ALKALI_FLAG_W,THETA
,,,,,,,,,,,,DBAR,ITS-90,PSS-78,,PSS-78,,UMOL/KG,,UMOL/KG,,UMOL/KG,,UMOL/KG,,UMOL/KG,,UMOL/KG,,PMOL/KG,,PMOL/KG,,PMOL/KG,,UMOL/KG,,UMOL/KG,,DEG C
     316N142_3,   A15,    62,  1,     39,     39,2,19940423,0914, -8.5000, -19.0002, 4436,      5.6,  27.6798,  36.3507,2,  36.3522,2,    200.4,2,    201.9,2,     1.80,2,     0.15,2,     0.00,2,     0.13,2,    1.583,2,    0.992,2,    2.058,2,   2025.3,2,   2376.9,2, 27.6785
     316N142_3,   A15,    62,  1,     35,     35,2,19940423,0914, -8.5000, -19.0002, 4436,     44.3,  27.6789,  36.3529,2,  36.3531,2,    198.8,2,    198.9,2,     1.65,2,     0.15,2,     0.00,2,     0.12,2,    0.006,4, -999.000,9, -999.000,9,   2026.5,2,   2381.1,2, 27.6685
     316N142_3,   A15,    62,  1,     38,     38,2,19940423,0914, -8.5000, -19.0002, 4436,     80.4,  25.2815,  36.7175,2,  36.7292,2,    220.6,2,    218.1,2,     1.50,2,     0.15,2,     0.00,2,     0.15,2,    1.891,2,    1.095,2,    1.725,2,   2055.0,2,   2402.0,2, 25.2639
     316N142_3,   A15,    62,  1,     33,     33,2,19940423,0914, -8.5000, -19.0002, 4436,    126.1,  19.4474,  36.1621,2,  36.2828,2,    182.2,2,    186.6,2,     2.43,2,     3.09,2,     0.31,2,     0.52,2, -999.000,9, -999.000,9, -999.000,9,   2108.9,2,   2375.9,2, 19.4245
     316N142_3,   A15,    62,  1,     41,     41,2,19940423,0914, -8.5000, -19.0002, 4436,    180.1,  13.5542,  35.3676,2,  35.3833,2,    105.2,2,    101.0,2,     8.35,2,    21.90,2,     0.01,2,     1.48,2,    1.149,6,    0.637,6,    0.386,6,   2185.7,2,   2319.5,2, 13.5286
     316N142_3,   A15,    62,  1,     31,     31,2,19940423,0914, -8.5000, -19.0002, 4436,    235.5,  10.9267,  35.0246,2,  35.0162,2,    112.5,2,    112.6,2,    11.30,2,    25.37,2,     0.00,2,     1.68,2,    0.747,2,    0.463,2,    0.346,2,   2190.3,2,   2301.8,2, 10.8977
     316N142_3,   A15,    62,  1,     37,     37,2,19940423,0914, -8.5000, -19.0002, 4436,    315.5,   9.0366,  34.8044,2,  34.8051,2,    108.8,2,    108.7,2,    15.46,2,    30.06,2,     0.00,2,     1.95,2,    0.456,2,    0.268,2,    0.554,2,   2206.1,2,   2293.6,2,  9.0021
     316N142_3,   A15,    62,  1,     29,     29,2,19940423,0914, -8.5000, -19.0002, 4436,    395.9,   8.1811,  34.7241,2,  34.7214,2,     95.1,2,     95.3,2,    18.40,2,    33.61,2,     0.00,2,     2.15,2,    0.244,2,    0.141,2,    0.416,2,   2221.4,2,   2291.1,2,  8.1401
     316N142_3,   A15,    62,  1,     28,     28,2,19940423,0914, -8.5000, -19.0002, 4436,    537.4,   6.6920,  34.5949,2,  34.5938,2,    101.4,2,    102.4,2,    22.83,2,    35.93,2,     0.00,2,     2.33,2,    0.075,4,    0.054,2,    0.344,2,   2225.4,2,   2287.4,2,  6.6420
     316N142_3,   A15,    62,  1,     27,     27,2,19940423,0914, -8.5000, -19.0002, 4436,    657.5,   5.5919,  34.5127,2,  34.5114,2,    116.6,2,    122.7,2,    27.25,2,    36.18,2,     0.00,2,     2.40,2,    0.048,4,    0.035,2,    0.460,2,   2224.0,2,   2289.3,2,  5.5358
     316N142_3,   A15,    62,  1,     26,     26,2,19940423,0914, -8.5000, -19.0002, 4436,    777.4,   4.8801,  34.4935,2,  34.4915,2,    135.4,2,    134.6,2,    31.67,2,    36.14,2,     0.00,2,     2.43,2,    0.023,4,    0.012,2,    0.126,2,   -999.0,9,   -999.0,9,  4.8173
     316N142_3,   A15,    62,  1,     25,     25,2,19940423,0914, -8.5000, -19.0002, 4436,    890.9,   4.4417,  34.5024,2,  34.5011,2,    147.1,2,    148.1,2,    34.48,2,    35.20,2,     0.00,2,     2.38,2, -999.000,9,    0.023,2,    0.425,2,   2226.2,2,   2295.4,2,  4.3719
     316N142_3,   A15,    62,  1,     24,     24,2,19940423,0914, -8.5000, -19.0002, 4436,   1005.4,   4.1767,  34.5678,2,  34.5664,2,    158.7,2,    159.6,2,    35.13,2,    33.54,2,     0.00,2,     2.29,2, -999.000,9, -999.000,9, -999.000,9,   -999.0,9,   -999.0,9,  4.0991
     316N142_3,   A15,    62,  1,     23,     23,2,19940423,0914, -8.5000, -19.0002, 4436,   1147.2,   4.1314,  34.7067,2,  34.7062,2,    173.6,2,    175.8,2,    32.02,2,    30.33,2,     0.00,2,     2.07,2,    0.005,4,    0.009,2,    0.005,2,   2213.2,2,   2303.9,2,  4.0418
     316N142_3,   A15,    62,  1,     22,     22,2,19940423,0914, -8.5000, -19.0002, 4436,   1289.6,   4.1308,  34.8139,2,  34.8120,2,    190.8,2,    193.4,2,    27.84,2,    27.31,2,     0.00,2,     1.86,2, -999.000,9, -999.000,9, -999.000,9,   -999.0,9,   -999.0,9,  4.0285
     316N142_3,   A15,    62,  1,     21,     21,2,19940423,0914, -8.5000, -19.0002, 4436,   1431.2,   4.0968,  34.8970,2,  34.8978,2,    210.9,2,    214.0,2,    23.79,2,    24.09,2,     0.00,2,     1.64,2, -999.000,9,    0.009,2,    0.242,2,   2186.8,2,   2308.7,2,  3.9820
     316N142_3,   A15,    62,  1,     20,     20,2,19940423,0914, -8.5000, -19.0002, 4436,   1563.8,   3.9880,  34.9438,2,  34.9436,2,    227.3,2,    230.9,2,    21.35,2,    21.83,2,     0.00,2,     1.50,2, -999.000,9,    0.039,4,    0.313,4,   -999.0,9,   -999.0,9,  3.8621
     316N142_3,   A15,    62,  1,     19,     19,2,19940423,0914, -8.5000, -19.0002, 4436,   1697.4,   3.7564,  34.9516,2,  34.9515,2,    240.2,2,    239.3,2,    21.88,2,    21.03,2,     0.00,2,     1.44,2, -999.000,9,    0.015,6,    0.126,6,   2172.6,2,   2311.3,2,  3.6211
     316N142_3,   A15,    62,  1,     40,     40,2,19940423,0914, -8.5000, -19.0002, 4436,   1727.7,   3.7183,  34.9501,2,  34.9507,2,    240.3,2,    239.7,2,    22.40,2,    21.13,2,     0.00,2,     1.44,3, -999.000,9, -999.000,9, -999.000,9,   -999.0,9,   -999.0,9,  3.5807
     316N142_3,   A15,    62,  1,     17,     17,2,19940423,0914, -8.5000, -19.0002, 4436,   1878.8,   3.5332,  34.9452,2,  34.9454,2,    242.9,2,    242.0,2,    24.39,2,    20.99,2,     0.00,2,     1.43,3, -999.000,9,    0.023,2,    0.267,2,   2174.2,2,   2315.4,2,  3.3841
     316N142_3,   A15,    62,  1,     16,     16,2,19940423,0914, -8.5000, -19.0002, 4436,   2041.2,   3.3242,  34.9346,2,  34.9346,2,    244.6,2,    242.1,2,    28.13,2,    21.23,2,     0.00,2,     1.45,3, -999.000,9, -999.000,9, -999.000,9,   -999.0,9,   -999.0,9,  3.1630
     316N142_3,   A15,    62,  1,     15,     15,2,19940423,0914, -8.5000, -19.0002, 4436,   2203.5,   3.1127,  34.9273,2,  34.9251,2,    243.9,2,    242.9,2,    31.47,2,    21.38,2,     0.00,2,     1.46,3, -999.000,9,    0.006,2,    0.177,2,   2181.5,2,   2323.0,2,  2.9394
     316N142_3,   A15,    62,  1,     14,     14,2,19940423,0914, -8.5000, -19.0002, 4436,   2386.8,   2.9432,  34.9163,2,  34.9149,2,    241.7,2,    241.3,2,    35.47,2,    21.81,2,     0.00,2,     1.49,3, -999.000,9, -999.000,9, -999.000,9,   -999.0,9,   -999.0,9,  2.7554
     316N142_3,   A15,    62,  1,     13,     13,2,19940423,0914, -8.5000, -19.0002, 4436,   2579.9,   2.8395,  34.9108,2,  34.9118,2,    242.1,2,    241.2,2,    37.73,2,    22.00,2,     0.00,2,     1.50,3, -999.000,9, -999.000,9, -999.000,9,   2187.7,2,   2330.4,2,  2.6348
     316N142_3,   A15,    62,  1,     12,     12,2,19940423,0914, -8.5000, -19.0002, 4436,   2762.9,   2.7599,  34.9076,2,  34.9067,2,    243.4,2,    241.9,2,    39.19,2,    22.05,2,     0.00,2,     1.50,3, -999.000,9,    0.007,2, -999.000,9,   -999.0,9,   -999.0,9,  2.5387
     316N142_3,   A15,    62,  1,     11,     11,2,19940423,0914, -8.5000, -19.0002, 4436,   2944.1,   2.6746,  34.9044,2,  34.9043,2,    243.4,2,    243.4,2,    40.38,2,    21.96,2,     0.00,2,     1.51,3, -999.000,9, -999.000,9, -999.000,9,   2187.7,2,   2331.3,2,  2.4368
     316N142_3,   A15,    62,  1,     10,     10,2,19940423,0914, -8.5000, -19.0002, 4436,   3118.7,   2.5922,  34.9028,2,  34.9016,2,    245.7,2,    245.6,2,    40.49,2,    21.73,2,     0.00,2,     1.49,3, -999.000,9, -999.000,9, -999.000,9,   -999.0,9,   -999.0,9,  2.3382
     316N142_3,   A15,    62,  1,      9,      9,2,19940423,0914, -8.5000, -19.0002, 4436,   3272.0,   2.5597,  34.9021,2,  34.9014,2,    247.9,2,    247.8,2,    40.20,2,    21.54,2,     0.00,2,     1.48,2, -999.000,9,    0.012,2,    0.022,2,   2186.5,2,   2332.0,2,  2.2903
     316N142_3,   A15,    62,  1,      8,      8,2,19940423,0914, -8.5000, -19.0002, 4436,   3425.0,   2.4796,  34.8981,2,  34.8967,2,    249.8,2,    249.5,2,    40.99,2,    21.40,2,     0.00,2,     1.47,2, -999.000,9, -999.000,9, -999.000,9,   -999.0,9,   -999.0,9,  2.1959
     316N142_3,   A15,    62,  1,      7,      7,2,19940423,0914, -8.5000, -19.0002, 4436,   3566.8,   2.3758,  34.8869,2,  34.8862,2,    247.9,2,    248.0,2,    44.98,2,    21.98,2,     0.00,2,     1.52,2, -999.000,9,    0.006,2,    0.083,2,   2191.1,2,   2334.1,2,  2.0793
     316N142_3,   A15,    62,  1,      6,      6,2,19940423,0914, -8.5000, -19.0002, 4436,   3710.7,   2.3244,  34.8811,2,  34.8807,2,    247.3,2,    247.1,2,    47.10,2,    22.22,2,     0.00,2,     1.54,2, -999.000,9, -999.000,9, -999.000,9,   -999.0,9,   -999.0,9,  2.0136
     316N142_3,   A15,    62,  1,      5,      5,2,19940423,0914, -8.5000, -19.0002, 4436,   3854.3,   2.1991,  34.8696,2,  34.8687,2,    246.7,2,    247.0,2,    50.95,2,    22.70,2,     0.00,2,     1.56,2, -999.000,9,    0.009,2,    0.057,2,   2196.2,2,   2336.2,2,  1.8757
     316N142_3,   A15,    62,  1,      4,      4,2,19940423,0914, -8.5000, -19.0002, 4436,   4036.9,   1.8379,  34.8307,2,  34.8308,2,    242.4,2,    240.3,2,    65.45,2,    24.79,2,     0.00,2,     1.71,2, -999.000,9, -999.000,9, -999.000,9,   -999.0,9,   -999.0,9,  1.5044
     316N142_3,   A15,    62,  1,      3,      3,2,19940423,0914, -8.5000, -19.0002, 4436,   4237.5,   1.5683,  34.8023,2,  34.8033,2,    237.2,2,    236.9,2,    76.38,2,    26.31,2,     0.00,2,     1.83,2, -999.000,9,    0.003,2, -999.000,9,   2223.1,2,   2348.3,2,  1.2204
     316N142_3,   A15,    62,  1,      2,      2,2,19940423,0914, -8.5000, -19.0002, 4436,   4441.7,   0.9843,  34.7444,2,  34.7441,2,    229.7,2,    228.6,2,    98.09,2,    29.36,2,     0.00,2,     2.04,2, -999.000,9, -999.000,9, -999.000,9,   -999.0,9,   -999.0,9,  0.6315
     316N142_3,   A15,    62,  1,      1,      1,2,19940423,0914, -8.5000, -19.0002, 4436,   4579.7,   0.9155,  34.7360,2,  34.7364,2,    228.0,2,    227.0,2,   100.66,2,    29.79,2,     0.00,2,     2.08,2, -999.000,9,    0.025,2,    0.011,2,   2246.7,2,   2377.8,2,  0.5495