BOTTLE,20020814WHPSIOKJU
EXPOCODE,SECT_ID,STNNBR,CASTNO,SAMPNO,BTLNBR,BTLNBR_FLAG_W,DATE,TIME,LATITUDE,LONGITUDE,DEPTH,CTDPRS,CTDTMP,CTDSAL,CTDSAL_FLAG_W,SALNTY,SALNTY_FLAG_W,CTDOXY,CTDOXY_FLAG_W,OXYGEN,OXYGEN_FLAG_W,SILCAT,SILCAT_FLAG_W,NITRAT,NITRAT_FLAG_W,NITRIT,NITRIT_FLAG_W,PHSPHT,PHSPHT_FLAG_W,CFC-11,CFC-11_FLAG_W,CFC-12,CFC-12_FLAG_W,CCL4,CCL4_FLAG_W,TCARBN,TCARBN_FLAG_W,ALKALI,ALKALI_FLAG_W,THETA
,,,,,,,,,,,,DBAR,ITS-90,PSS-78,,PSS-78,,UMOL/KG,,UMOL/KG,,UMOL/KG,,UMOL/KG,,UMOL/KG,,UMOL/KG,,PMOL/KG,,PMOL/KG,,PMOL/KG,,UMOL/KG,,UMOL/KG,,DEG C
     316N142_3,   A15,   108,  2,     39,     39,2,19940505,1406,-31.5012, -19.0003, 4339,      7.1,  20.2385,  35.6400,2,  35.6383,2,    227.9,2,    227.4,2,     1.90,2,     0.13,2,     0.00,2,     0.16,2, -999.000,9, -999.000,9, -999.000,9,   2034.0,2,   2338.0,2, 20.2372
     316N142_3,   A15,   108,  2,     35,     35,2,19940505,1406,-31.5012, -19.0003, 4339,     59.9,  19.8036,  35.5727,2,  35.5709,2,    223.6,2,    228.7,2,     1.74,2,     0.13,2,     0.00,2,     0.14,2, -999.000,9, -999.000,9, -999.000,9,   2035.4,2,   2337.5,2, 19.7926
     316N142_3,   A15,   108,  2,     38,     38,2,19940505,1406,-31.5012, -19.0003, 4339,     80.1,  17.5340,  35.6041,2,  35.6034,2,    244.4,2,    249.0,2,     1.73,2,     0.13,2,     0.01,2,     0.16,2, -999.000,9, -999.000,9, -999.000,9,   2049.5,2,   2339.8,2, 17.5205
     316N142_3,   A15,   108,  2,     33,     33,2,19940505,1406,-31.5012, -19.0003, 4339,    130.5,  15.3827,  35.4348,2,  35.4376,2,    233.5,2,    231.8,2,     2.00,2,     0.95,2,     0.19,2,     0.29,2, -999.000,9, -999.000,9, -999.000,9,   -999.0,9,   -999.0,9, 15.3626
     316N142_3,   A15,   108,  2,     41,     41,2,19940505,1406,-31.5012, -19.0003, 4339,    180.5,  14.5974,  35.3826,2,  35.3764,2,    224.0,2,    223.6,2,     2.42,2,     3.94,2,     0.01,2,     0.43,2, -999.000,9, -999.000,9, -999.000,9,   -999.0,9,   -999.0,9, 14.5705
     316N142_3,   A15,   108,  2,     31,     31,2,19940505,1406,-31.5012, -19.0003, 4339,    265.5,  13.4353,  35.2616,2,  35.2538,2,    213.3,2,    215.1,2,     3.56,2,     7.80,2,     0.01,2,     0.65,2, -999.000,9, -999.000,9, -999.000,9,   -999.0,9,   -999.0,9, 13.3978
     316N142_3,   A15,   108,  2,     37,     37,2,19940505,1406,-31.5012, -19.0003, 4339,    374.4,  11.6242,  35.0230,2,  35.0219,2,    211.3,2,    214.5,2,     4.99,2,    12.08,2,     0.01,2,     0.92,2, -999.000,9, -999.000,9, -999.000,9,   -999.0,9,   -999.0,9, 11.5760
     316N142_3,   A15,   108,  2,     29,     29,2,19940505,1406,-31.5012, -19.0003, 4339,    481.7,   9.5252,  34.7471,2,  34.7466,2,    207.2,2,    208.2,2,     8.15,2,    17.97,2,     0.01,2,     1.28,2, -999.000,9, -999.000,9, -999.000,9,   2130.3,2,   2296.2,2,  9.4703
     316N142_3,   A15,   108,  2,     28,     28,9,19940505,1406,-31.5012, -19.0003, 4339,    593.2,   7.1347,  34.4793,2,-999.0000,9,    219.2,2,   -999.0,9,  -999.00,9,  -999.00,9,  -999.00,9,  -999.00,9, -999.000,9, -999.000,9, -999.000,9,   -999.0,9,   -999.0,9,  7.0774
     316N142_3,   A15,   108,  2,     27,     27,2,19940505,1406,-31.5012, -19.0003, 4339,    702.2,   5.6213,  34.3416,2,  34.3424,2,    233.2,2,    229.3,2,    15.50,2,    25.97,2,     0.00,2,     1.79,2, -999.000,9, -999.000,9, -999.000,9,   2155.6,2,   2284.0,2,  5.5611
     316N142_3,   A15,   108,  2,     26,     26,2,19940505,1406,-31.5012, -19.0003, 4339,    810.3,   4.6563,  34.2829,2,  34.2817,2,    236.9,2,    235.0,2,    20.11,2,    27.78,2,     0.00,2,     1.93,2, -999.000,9, -999.000,9, -999.000,9,   -999.0,9,   -999.0,9,  4.5924
     316N142_3,   A15,   108,  2,     25,     25,2,19940505,1406,-31.5012, -19.0003, 4339,    880.0,   4.1627,  34.2691,2,  34.2662,2,    234.1,2,    234.9,2,    23.71,2,    28.81,2,     0.00,2,     2.01,2, -999.000,9, -999.000,9, -999.000,9,   -999.0,9,   -999.0,9,  4.0961
     316N142_3,   A15,   108,  2,     24,     24,2,19940505,1406,-31.5012, -19.0003, 4339,    987.1,   3.6338,  34.2810,2,  34.2793,2,    224.3,2,    226.6,2,    30.80,2,    30.31,2,     0.00,2,     2.12,2, -999.000,9, -999.000,9, -999.000,9,   -999.0,9,   -999.0,9,  3.5624
     316N142_3,   A15,   108,  2,     23,     23,2,19940505,1406,-31.5012, -19.0003, 4339,   1096.3,   3.3199,  34.3438,2,  34.3412,2,    209.4,2,    209.5,2,    40.37,2,    31.67,2,     0.00,2,     2.22,2, -999.000,9, -999.000,9, -999.000,9,   -999.0,9,   -999.0,9,  3.2423
     316N142_3,   A15,   108,  2,     22,     22,2,19940505,1406,-31.5012, -19.0003, 4339,   1225.0,   3.0410,  34.4330,2,  34.4315,2,    196.4,2,    195.2,2,    49.98,2,    32.43,2,     0.00,2,     2.28,2, -999.000,9, -999.000,9, -999.000,9,   -999.0,9,   -999.0,9,  2.9554
     316N142_3,   A15,   108,  2,     21,     21,2,19940505,1406,-31.5012, -19.0003, 4339,   1353.8,   2.9088,  34.5192,2,  34.5168,2,    190.0,2,    189.1,2,    55.38,2,    32.15,2,     0.00,2,     2.26,2, -999.000,9, -999.000,9, -999.000,9,   -999.0,9,   -999.0,9,  2.8140
     316N142_3,   A15,   108,  2,     20,     20,2,19940505,1406,-31.5012, -19.0003, 4339,   1505.0,   2.8264,  34.6157,2,  34.6137,2,    190.5,2,    191.5,2,    57.56,2,    30.95,2,     0.00,2,     2.17,2, -999.000,9,    0.025,2,    0.350,2,   -999.0,9,   -999.0,9,  2.7201
     316N142_3,   A15,   108,  2,     19,     19,2,19940505,1406,-31.5012, -19.0003, 4339,   1662.7,   2.7853,  34.6938,2,  34.6923,2,    196.4,2,    196.9,2,    56.79,2,    29.37,2,     0.00,2,     2.06,2, -999.000,9,    0.015,2,    0.253,2,   -999.0,9,   -999.0,9,  2.6661
     316N142_3,   A15,   108,  2,     40,     40,2,19940505,1406,-31.5012, -19.0003, 4339,   1819.1,   2.7771,  34.7499,2,  34.7482,2,    205.2,2,    205.0,2,    54.56,2,    27.79,2,     0.00,2,     1.96,2, -999.000,9,    0.006,2,    0.154,2,   -999.0,9,   -999.0,9,  2.6445
     316N142_3,   A15,   108,  2,     17,     17,2,19940505,1406,-31.5012, -19.0003, 4339,   1971.6,   2.7343,  34.7909,2,  34.7892,2,    214.6,2,    214.7,2,    51.75,2,    26.32,2,     0.00,2,     1.84,2, -999.000,9,    0.008,2,    0.159,2,   -999.0,9,   -999.0,9,  2.5887
     316N142_3,   A15,   108,  2,     16,     16,2,19940505,1406,-31.5012, -19.0003, 4339,   2122.8,   2.6778,  34.8141,2,  34.8134,2,    222.2,2,    222.0,2,    50.12,2,    25.30,2,     0.00,2,     1.78,2, -999.000,9,    0.006,2,    0.076,2,   -999.0,9,   -999.0,9,  2.5195
     316N142_3,   A15,   108,  2,     15,     15,2,19940505,1406,-31.5012, -19.0003, 4339,   2275.8,   2.6454,  34.8340,2,  34.8334,2,    228.8,2,    227.8,2,    48.34,2,    24.48,2,     0.00,2,     1.71,2, -999.000,9, -999.000,9, -999.000,9,   -999.0,9,   -999.0,9,  2.4735
     316N142_3,   A15,   108,  2,     14,     14,2,19940505,1406,-31.5012, -19.0003, 4339,   2428.6,   2.6372,  34.8515,2,  34.8505,2,    233.3,2,    233.0,2,    46.41,2,    23.74,2,     0.00,2,     1.66,2, -999.000,9, -999.000,9, -999.000,9,   -999.0,9,   -999.0,9,  2.4511
     316N142_3,   A15,   108,  2,     13,     13,2,19940505,1406,-31.5012, -19.0003, 4339,   2580.6,   2.6452,  34.8638,2,  34.8630,2,    237.0,2,    236.4,2,    44.64,2,    23.19,2,     0.00,2,     1.62,2, -999.000,9, -999.000,9, -999.000,9,   -999.0,9,   -999.0,9,  2.4443
     316N142_3,   A15,   108,  2,     12,     12,2,19940505,1406,-31.5012, -19.0003, 4339,   2733.0,   2.6487,  34.8772,2,  34.8762,2,    240.9,2,    240.5,2,    42.72,2,    22.55,2,     0.00,2,     1.58,2, -999.000,9, -999.000,9, -999.000,9,   -999.0,9,   -999.0,9,  2.4328
     316N142_3,   A15,   108,  2,     11,     11,2,19940505,1406,-31.5012, -19.0003, 4339,   2884.5,   2.6339,  34.8866,2,  34.8856,2,    244.3,2,    243.9,2,    41.39,2,    22.05,2,     0.00,2,     1.54,2, -999.000,9, -999.000,9, -999.000,9,   -999.0,9,   -999.0,9,  2.4031
     316N142_3,   A15,   108,  2,     10,     10,2,19940505,1406,-31.5012, -19.0003, 4339,   3038.7,   2.5907,  34.8913,2,  34.8897,2,    244.8,2,    246.1,2,    41.37,2,    21.78,2,     0.00,2,     1.52,2, -999.000,9, -999.000,9, -999.000,9,   -999.0,9,   -999.0,9,  2.3451
     316N142_3,   A15,   108,  2,      9,      9,2,19940505,1406,-31.5012, -19.0003, 4339,   3190.7,   2.5054,  34.8876,2,  34.8867,2,    246.0,2,    246.8,2,    43.24,2,    21.88,2,     0.00,2,     1.53,2, -999.000,9, -999.000,9, -999.000,9,   -999.0,9,   -999.0,9,  2.2459
     316N142_3,   A15,   108,  2,      8,      8,2,19940505,1406,-31.5012, -19.0003, 4339,   3342.4,   2.3369,  34.8754,2,  34.8744,2,    245.7,2,    245.9,2,    48.61,2,    22.49,2,     0.00,2,     1.58,2, -999.000,9, -999.000,9, -999.000,9,   -999.0,9,   -999.0,9,  2.0655
     316N142_3,   A15,   108,  2,      7,      7,2,19940505,1406,-31.5012, -19.0003, 4339,   3494.3,   2.1358,  34.8569,2,  34.8555,2,    243.4,2,    243.5,2,    55.75,2,    23.42,2,     0.00,2,     1.64,2, -999.000,9, -999.000,9, -999.000,9,   -999.0,9,   -999.0,9,  1.8534
     316N142_3,   A15,   108,  2,      6,      6,2,19940505,1406,-31.5012, -19.0003, 4339,   3645.3,   1.9544,  34.8383,2,  34.8372,2,    240.6,2,    240.5,2,    63.07,2,    24.36,2,     0.00,2,     1.71,2, -999.000,9, -999.000,9, -999.000,9,   -999.0,9,   -999.0,9,  1.6606
     316N142_3,   A15,   108,  2,      5,      5,2,19940505,1406,-31.5012, -19.0003, 4339,   3798.4,   1.7987,  34.8211,2,  34.8201,2,    238.4,2,    237.7,2,    69.39,2,    25.25,2,     0.00,2,     1.78,2, -999.000,9,    0.005,2,    0.020,2,   -999.0,9,   -999.0,9,  1.4926
     316N142_3,   A15,   108,  2,      4,      4,2,19940505,1406,-31.5012, -19.0003, 4339,   3952.0,   1.7377,  34.8135,2,  34.8129,2,    236.0,2,    237.4,3,    72.33,2,    25.63,2,     0.00,2,     1.80,2, -999.000,9, -999.000,9, -999.000,9,   -999.0,9,   -999.0,9,  1.4166
     316N142_3,   A15,   108,  2,      3,      3,2,19940505,1406,-31.5012, -19.0003, 4339,   4107.5,   1.6965,  34.8080,2,  34.8072,2,    235.0,2,    235.4,2,    74.53,2,    25.96,2,     0.00,2,     1.82,2, -999.000,9, -999.000,9, -999.000,9,   -999.0,9,   -999.0,9,  1.3593
     316N142_3,   A15,   108,  2,      2,      2,2,19940505,1406,-31.5012, -19.0003, 4339,   4263.0,   1.6828,  34.8048,2,  34.8048,2,    234.5,2,    235.1,2,    75.69,2,    26.11,2,     0.00,2,     1.83,2, -999.000,9, -999.000,9, -999.000,9,   -999.0,9,   -999.0,9,  1.3286
     316N142_3,   A15,   108,  2,      1,      1,2,19940505,1406,-31.5012, -19.0003, 4339,   4420.7,   1.6791,  34.8026,2,  34.8024,2,    234.1,2,    234.2,2,    76.55,2,    26.26,2,     0.00,2,     1.85,2, -999.000,9,    0.002,2,    0.203,2,   -999.0,9,   -999.0,9,  1.3069