BOTTLE,20020814WHPSIOKJU
EXPOCODE,SECT_ID,STNNBR,CASTNO,SAMPNO,BTLNBR,BTLNBR_FLAG_W,DATE,TIME,LATITUDE,LONGITUDE,DEPTH,CTDPRS,CTDTMP,CTDSAL,CTDSAL_FLAG_W,SALNTY,SALNTY_FLAG_W,CTDOXY,CTDOXY_FLAG_W,OXYGEN,OXYGEN_FLAG_W,SILCAT,SILCAT_FLAG_W,NITRAT,NITRAT_FLAG_W,NITRIT,NITRIT_FLAG_W,PHSPHT,PHSPHT_FLAG_W,CFC-11,CFC-11_FLAG_W,CFC-12,CFC-12_FLAG_W,CCL4,CCL4_FLAG_W,TCARBN,TCARBN_FLAG_W,ALKALI,ALKALI_FLAG_W,THETA
,,,,,,,,,,,,DBAR,ITS-90,PSS-78,,PSS-78,,UMOL/KG,,UMOL/KG,,UMOL/KG,,UMOL/KG,,UMOL/KG,,UMOL/KG,,PMOL/KG,,PMOL/KG,,PMOL/KG,,UMOL/KG,,UMOL/KG,,DEG C
     316N142_3,  AR15,     2,  1,     36,     36,2,19940404,2328, -3.8717, -37.3320, 1726,      0.4,  28.8174,  36.0849,2,  36.0920,2,    204.9,4,    215.8,2,     1.85,2,     0.10,2,     0.00,2,     0.10,2,    1.672,2,    0.887,2,    1.990,2,   2008.1,2,   2368.4,2, 28.8173
     316N142_3,  AR15,     2,  1,     35,     35,2,19940404,2328, -3.8717, -37.3320, 1726,      0.5,  28.8153,  36.0844,2,  36.0922,2,    205.7,4,    214.0,2,     1.73,2,     0.10,2,     0.00,2,     0.09,2, -999.000,9, -999.000,9, -999.000,9,   -999.0,9,   -999.0,9, 28.8151
     316N142_3,  AR15,     2,  1,     34,     34,3,19940404,2328, -3.8717, -37.3320, 1726,     51.5,  27.8591,  36.9109,2,-999.0000,9,    214.9,2,   -999.0,9,     1.71,4,     0.10,4,     0.00,4,     0.10,4, -999.000,9, -999.000,9, -999.000,9,   -999.0,9,   -999.0,9, 27.8470
     316N142_3,  AR15,     2,  1,     33,     33,2,19940404,2328, -3.8717, -37.3320, 1726,     51.7,  27.8424,  36.9130,2,  36.9173,2,    215.2,2,    215.2,2,     1.59,2,     0.10,2,     0.00,2,     0.08,2,    1.947,2,    1.011,2,    1.177,2,   2050.3,2,   2424.3,2, 27.8302
     316N142_3,  AR15,     2,  1,     31,     31,2,19940404,2328, -3.8717, -37.3320, 1726,    102.4,  24.3294,  36.8827,2,  36.8840,2,    211.3,2,    211.1,2,     1.79,2,     0.99,2,     0.10,2,     0.15,2,    1.774,2,    0.949,2,    1.651,2,   2082.4,2,   2424.3,2, 24.3074
     316N142_3,  AR15,     2,  1,     32,     32,2,19940404,2328, -3.8717, -37.3320, 1726,    102.7,  24.3356,  36.8848,2,  36.8872,2,    211.0,2,    212.1,2,     1.92,2,     1.00,2,     0.10,2,     0.15,2, -999.000,9, -999.000,9, -999.000,9,   -999.0,9,   -999.0,9, 24.3136
     316N142_3,  AR15,     2,  1,     29,     29,3,19940404,2328, -3.8717, -37.3320, 1726,    152.5,  21.4933,  36.5243,2,-999.0000,9,    205.0,2,   -999.0,9,     2.35,4,     2.62,4,     0.09,4,     0.27,4, -999.000,9, -999.000,9, -999.000,9,   -999.0,9,   -999.0,9, 21.4634
     316N142_3,  AR15,     2,  1,     30,     30,9,19940404,2328, -3.8717, -37.3320, 1726,    152.8,  21.6167,  36.5407,2,-999.0000,9,    204.9,2,   -999.0,9,  -999.00,9,  -999.00,9,  -999.00,9,  -999.00,9, -999.000,9, -999.000,9, -999.000,9,   -999.0,9,   -999.0,9, 21.5866
     316N142_3,  AR15,     2,  1,     28,     28,2,19940404,2328, -3.8717, -37.3320, 1726,    203.9,  15.1121,  35.5318,2,  35.5317,2,    189.3,2,    188.5,2,     4.86,2,     9.50,2,     0.01,2,     0.67,2,    2.015,2,    0.999,2,    0.701,2,   -999.0,9,   -999.0,9, 15.0810
     316N142_3,  AR15,     2,  1,     27,     27,2,19940404,2328, -3.8717, -37.3320, 1726,    204.0,  15.1112,  35.5327,2,  35.5295,2,    189.1,2,    188.7,2,     4.85,2,     9.50,2,     0.01,2,     0.67,2, -999.000,9, -999.000,9, -999.000,9,   2115.1,2,   2342.2,2, 15.0800
     316N142_3,  AR15,     2,  1,     25,     25,2,19940404,2328, -3.8717, -37.3320, 1726,    254.1,  13.1870,  35.2731,2,  35.2736,2,    183.2,2,    183.4,2,     7.12,2,    13.53,2,     0.01,2,     0.91,2,    1.599,2,    0.891,2,    0.652,2,   2127.8,2,   2329.6,2, 13.1516
     316N142_3,  AR15,     2,  1,     26,     26,2,19940404,2328, -3.8717, -37.3320, 1726,    254.2,  13.3630,  35.2925,2,  35.2870,2,    184.5,2,    183.7,2,     6.90,2,    13.32,2,     0.01,2,     0.89,2, -999.000,9, -999.000,9, -999.000,9,   -999.0,9,   -999.0,9, 13.3272
     316N142_3,  AR15,     2,  1,     24,     24,2,19940404,2328, -3.8717, -37.3320, 1726,    354.8,  10.0551,  34.8547,2,  34.8433,2,    178.1,2,    178.8,2,    11.00,2,    20.19,2,     0.00,2,     1.33,2,    1.454,6,    0.680,6,    0.863,6,   -999.0,9,   -999.0,9, 10.0135
     316N142_3,  AR15,     2,  1,     23,     23,2,19940404,2328, -3.8717, -37.3320, 1726,    355.1,   9.9697,  34.8495,2,  34.8353,2,    177.9,2,    178.0,2,    11.10,2,    20.40,2,     0.00,2,     1.35,2, -999.000,9, -999.000,9, -999.000,9,   2152.2,2,   2308.2,2,  9.9283
     316N142_3,  AR15,     2,  1,     21,     21,2,19940404,2328, -3.8717, -37.3320, 1726,    430.4,   8.2638,  34.6893,2,  34.6847,2,    161.0,2,    160.8,2,    15.77,2,    26.04,2,     0.00,2,     1.70,2,    0.921,2,    0.428,2,    0.873,2,   2174.8,2,   2301.4,2,  8.2189
     316N142_3,  AR15,     2,  1,     22,     22,2,19940404,2328, -3.8717, -37.3320, 1726,    430.7,   8.2946,  34.6939,2,  34.6880,2,    161.0,2,    160.0,2,    15.67,2,    26.04,2,     0.00,2,     1.70,2, -999.000,9, -999.000,9, -999.000,9,   -999.0,9,   -999.0,9,  8.2496
     316N142_3,  AR15,     2,  1,     20,     20,3,19940404,2328, -3.8717, -37.3320, 1726,    505.4,   7.5788,  34.6210,2,  34.8457,4,    161.5,2,   -999.0,9,    15.41,4,    23.87,4,     0.00,4,     1.59,4, -999.000,9, -999.000,9, -999.000,9,   -999.0,9,   -999.0,9,  7.5285
     316N142_3,  AR15,     2,  1,     19,     19,2,19940404,2328, -3.8717, -37.3320, 1726,    595.8,   6.6736,  34.5527,2,  34.5509,2,    148.1,2,    154.6,2,    20.77,2,    30.24,2,     0.00,2,     1.98,2, -999.000,9, -999.000,9, -999.000,9,   -999.0,9,   -999.0,9,  6.6180
     316N142_3,  AR15,     2,  1,     18,     18,2,19940404,2328, -3.8717, -37.3320, 1726,    595.9,   6.6734,  34.5524,2,  34.5464,2,    148.1,2,    155.2,2,    20.87,2,    30.19,2,     0.00,2,     2.00,2,    0.467,2,    0.285,2,    0.887,2,   2192.7,2,   2297.7,2,  6.6178
     316N142_3,  AR15,     2,  1,     16,     16,2,19940404,2328, -3.8717, -37.3320, 1726,    726.8,   4.6552,  34.4286,2,  34.4406,3,    176.4,2,    179.1,2,    30.56,2,    31.80,2,     0.00,2,     2.14,2,    0.308,2,    0.153,2,    0.864,2,   2202.4,2,   2300.5,2,  4.5982
     316N142_3,  AR15,     2,  1,     17,     17,3,19940404,2328, -3.8717, -37.3320, 1726,    727.4,   4.6574,  34.4284,2,  34.5276,4,    176.4,2,    179.2,4,    28.98,4,    30.40,4,     0.00,4,     2.05,4, -999.000,9, -999.000,9, -999.000,9,   -999.0,9,   -999.0,9,  4.6003
     316N142_3,  AR15,     2,  1,     14,     14,2,19940404,2328, -3.8717, -37.3320, 1726,    807.8,   4.4847,  34.4520,2,  34.4701,3,    169.6,2,    170.9,2,    32.35,2,    32.67,2,     0.00,2,     2.20,2,    0.146,2,    0.079,2,    0.637,2,   2211.0,2,   2301.8,2,  4.4218
     316N142_3,  AR15,     2,  1,     15,     15,2,19940404,2328, -3.8717, -37.3320, 1726,    807.9,   4.4875,  34.4517,2,  34.4548,2,    169.1,2,    170.9,2,    32.49,2,    32.66,2,     0.00,2,     2.19,2, -999.000,9, -999.000,9, -999.000,9,   -999.0,9,   -999.0,9,  4.4246
     316N142_3,  AR15,     2,  1,     12,     12,2,19940404,2328, -3.8717, -37.3320, 1726,    908.3,   4.2491,  34.4987,2,  34.5131,4,    169.1,2,    169.1,2,    34.60,2,    32.67,2,     0.00,2,     2.22,2,    0.080,2,    0.045,2,    0.353,2,   2216.7,2,   2307.8,2,  4.1793
     316N142_3,  AR15,     2,  1,     13,     13,2,19940404,2328, -3.8717, -37.3320, 1726,    909.2,   4.2496,  34.4971,2,  34.5019,2,    169.1,2,    169.1,2,    34.51,2,    32.67,2,     0.00,2,     2.21,2, -999.000,9, -999.000,9, -999.000,9,   -999.0,9,   -999.0,9,  4.1797
     316N142_3,  AR15,     2,  1,     11,     11,2,19940404,2328, -3.8717, -37.3320, 1726,   1009.5,   4.2314,  34.5990,2,  34.5925,2,    169.5,2,    167.7,2,    33.55,2,    31.75,2,     0.00,2,     2.15,2, -999.000,9, -999.000,9, -999.000,9,   -999.0,9,   -999.0,9,  4.1530
     316N142_3,  AR15,     2,  1,     10,     10,2,19940404,2328, -3.8717, -37.3320, 1726,   1009.6,   4.2318,  34.5994,2,  34.5962,2,    169.5,2,    167.7,2,    33.53,2,    31.75,2,     0.00,2,     2.15,2, -999.000,9, -999.000,9, -999.000,9,   2217.4,2,   2308.9,2,  4.1534
     316N142_3,  AR15,     2,  1,      9,      9,2,19940404,2328, -3.8717, -37.3320, 1726,   1109.9,   4.3911,  34.7246,2,  34.7198,2,    174.6,2,    173.5,2,    29.63,2,    29.61,2,     0.00,2,     1.99,2, -999.000,9, -999.000,9, -999.000,9,   -999.0,9,   -999.0,9,  4.3025
     316N142_3,  AR15,     2,  1,      8,      8,2,19940404,2328, -3.8717, -37.3320, 1726,   1110.0,   4.3910,  34.7245,2,  34.7234,2,    174.6,2,    173.7,2,    29.49,2,    29.50,2,     0.00,2,     1.99,2,    0.032,2,    0.024,2,    0.084,2,   2210.4,2,   2313.3,2,  4.3023
     316N142_3,  AR15,     2,  1,      7,      7,2,19940404,2328, -3.8717, -37.3320, 1726,   1210.5,   4.4143,  34.8024,2,  34.8001,2,    186.5,2,    185.4,2,    26.62,2,    27.38,2,     0.00,2,     1.85,2, -999.000,9, -999.000,9, -999.000,9,   2201.7,2,   2315.0,2,  4.3164
     316N142_3,  AR15,     2,  1,      6,      6,2,19940404,2328, -3.8717, -37.3320, 1726,   1362.3,   4.4509,  34.8815,2,  34.8852,2,    201.8,2,    201.4,2,    23.18,2,    24.89,2,     0.00,2,     1.65,2,    0.044,2,    0.029,2,    0.293,2,   2191.0,2,   2316.0,2,  4.3387
     316N142_3,  AR15,     2,  1,      5,      5,2,19940404,2328, -3.8717, -37.3320, 1726,   1514.0,   4.2304,  34.9578,2,  34.9551,2,    227.4,2,    228.8,2,    19.28,2,    21.42,2,     0.00,2,     1.39,2, -999.000,9, -999.000,9, -999.000,9,   2175.8,2,   -999.0,9,  4.1064
     316N142_3,  AR15,     2,  1,      4,      4,2,19940404,2328, -3.8717, -37.3320, 1726,   1514.0,   4.2313,  34.9580,2,  34.9586,2,    227.4,2,    228.8,2,    19.26,2,    21.36,2,     0.00,2,     1.37,2,    0.041,2,    0.032,2,    0.473,2,   -999.0,9,   -999.0,9,  4.1073
     316N142_3,  AR15,     2,  1,      3,      3,2,19940404,2328, -3.8717, -37.3320, 1726,   1641.5,   4.0815,  34.9702,2,  34.9667,2,    236.6,2,    237.3,2,    18.68,2,    20.42,2,     0.00,2,     1.32,2, -999.000,9, -999.000,9, -999.000,9,   2172.2,2,   2316.5,2,  3.9473
     316N142_3,  AR15,     2,  1,      2,      2,2,19940404,2328, -3.8717, -37.3320, 1726,   1641.7,   4.0805,  34.9702,2,  34.9685,2,    236.6,2,    237.3,2,    18.78,2,    20.37,2,     0.00,2,     1.32,2,    0.042,2,    0.035,2,    0.514,2,   -999.0,9,   -999.0,9,  3.9463
     316N142_3,  AR15,     2,  1,      1,      1,2,19940404,2328, -3.8717, -37.3320, 1726,   1742.6,   3.7381,  34.9766,2,  34.9801,2,    246.3,2,    247.9,2,    19.10,2,    19.47,2,     0.01,4,     1.24,2,    0.036,2,    0.031,2,    0.478,2,   2166.6,2,   2318.5,2,  3.5987