BOTTLE,20020814WHPSIOKJU
EXPOCODE,SECT_ID,STNNBR,CASTNO,SAMPNO,BTLNBR,BTLNBR_FLAG_W,DATE,TIME,LATITUDE,LONGITUDE,DEPTH,CTDPRS,CTDTMP,CTDSAL,CTDSAL_FLAG_W,SALNTY,SALNTY_FLAG_W,CTDOXY,CTDOXY_FLAG_W,OXYGEN,OXYGEN_FLAG_W,SILCAT,SILCAT_FLAG_W,NITRAT,NITRAT_FLAG_W,NITRIT,NITRIT_FLAG_W,PHSPHT,PHSPHT_FLAG_W,CFC-11,CFC-11_FLAG_W,CFC-12,CFC-12_FLAG_W,CCL4,CCL4_FLAG_W,TCARBN,TCARBN_FLAG_W,ALKALI,ALKALI_FLAG_W,THETA
,,,,,,,,,,,,DBAR,ITS-90,PSS-78,,PSS-78,,UMOL/KG,,UMOL/KG,,UMOL/KG,,UMOL/KG,,UMOL/KG,,UMOL/KG,,PMOL/KG,,PMOL/KG,,PMOL/KG,,UMOL/KG,,UMOL/KG,,DEG C
     316N142_3,   A15,   104,  1,     39,     39,2,19940504,1524,-29.5670, -19.0015, 4118,      6.9,  22.3898,  36.2327,2,  36.2321,2,    195.7,4,    219.2,2,     2.02,2,     0.13,2,     0.00,2,     0.14,2,    2.131,2,    1.147,2,    2.529,2,   2055.6,2,   2378.4,2, 22.3884
     316N142_3,   A15,   104,  1,     35,     35,2,19940504,1524,-29.5670, -19.0015, 4118,     74.6,  22.2604,  36.2073,2,  36.2060,2,    205.4,4,    218.9,2,     1.86,2,     0.09,2,     0.00,2,     0.12,2, -999.000,9, -999.000,9, -999.000,9,   2053.6,2,   2376.2,2, 22.2455
     316N142_3,   A15,   104,  1,     38,     38,2,19940504,1524,-29.5670, -19.0015, 4118,     99.8,  19.0245,  35.8062,2,  35.8043,2,    231.4,4,    219.7,4,     1.99,2,     0.09,2,     0.00,2,     0.17,2,    2.549,2,    1.355,2,    1.968,2,   2052.4,2,   2350.7,2, 19.0066
     316N142_3,   A15,   104,  1,     33,     33,2,19940504,1524,-29.5670, -19.0015, 4118,    175.6,  16.1754,  35.5477,2,  35.5404,2,    223.3,2,    219.4,2,     2.55,2,     1.84,2,     0.02,2,     0.38,2,    2.686,2,    1.429,2,    1.261,2,   2079.3,2,   2334.4,2, 16.1473
     316N142_3,   A15,   104,  1,     41,     41,2,19940504,1524,-29.5670, -19.0015, 4118,    245.6,  14.5533,  35.3237,2,  35.3205,2,    216.5,2,    215.0,2,     3.39,2,     5.57,2,     0.00,2,     0.57,2,    2.795,2,    1.420,2,    0.943,2,   2088.6,2,   2320.9,2, 14.5167
     316N142_3,   A15,   104,  1,     31,     31,2,19940504,1524,-29.5670, -19.0015, 4118,    315.9,  13.0495,  35.1466,2,  35.1411,2,    212.0,2,    210.2,2,     4.37,2,     9.25,2,     0.00,2,     0.77,2, -999.000,9, -999.000,9, -999.000,9,   2098.9,2,   2310.6,2, 13.0057
     316N142_3,   A15,   104,  1,     37,     37,2,19940504,1524,-29.5670, -19.0015, 4118,    386.4,  11.7370,  35.0013,2,  35.0002,2,    207.6,2,    206.6,2,     5.63,2,    12.70,2,     0.00,2,     0.97,2,    2.393,6,    1.239,6,    1.087,6,   2116.2,2,   2306.3,2, 11.6869
     316N142_3,   A15,   104,  1,     29,     29,2,19940504,1524,-29.5670, -19.0015, 4118,    456.7,  10.4181,  34.8511,2,  34.8476,2,    203.8,2,    204.4,2,     7.47,2,    16.06,2,     0.00,2,     1.17,2,    2.273,2,    1.145,2,    1.101,2,   2128.7,2,   2300.6,2, 10.3631
     316N142_3,   A15,   104,  1,     28,     28,2,19940504,1524,-29.5670, -19.0015, 4118,    522.5,   9.2402,  34.7103,2,  34.7062,2,    199.8,2,    200.6,2,     9.87,2,    19.48,2,     0.00,2,     1.38,2, -999.000,9, -999.000,9, -999.000,9,   2141.4,2,   2293.9,2,  9.1816
     316N142_3,   A15,   104,  1,     27,     27,2,19940504,1524,-29.5670, -19.0015, 4118,    587.4,   8.1419,  34.5977,2,  34.5946,2,    200.6,2,    202.0,2,    12.28,2,    22.17,2,     0.00,2,     1.55,2,    1.900,2,    0.947,2,    1.523,2,   2151.1,2,   2290.4,2,  8.0807
     316N142_3,   A15,   104,  1,     26,     26,2,19940504,1524,-29.5670, -19.0015, 4118,    677.7,   6.6937,  34.4557,2,  34.4544,2,    210.6,2,    212.9,2,    14.96,2,    24.87,2,     0.00,2,     1.72,2, -999.000,9, -999.000,9, -999.000,9,   -999.0,9,   -999.0,9,  6.6301
     316N142_3,   A15,   104,  1,     25,     25,2,19940504,1524,-29.5670, -19.0015, 4118,    758.2,   5.4196,  34.3574,2,  34.3556,2,    220.2,2,    218.6,2,    19.65,2,    27.40,2,     0.00,2,     1.88,2,    1.737,2,    0.851,2,    2.490,2,   -999.0,9,   -999.0,9,  5.3555
     316N142_3,   A15,   104,  1,     24,     24,2,19940504,1524,-29.5670, -19.0015, 4118,    838.2,   4.5633,  34.3141,2,  34.3129,2,    218.5,2,    222.6,2,    24.90,2,    29.06,2,     0.00,2,     1.99,2,    1.363,6,    0.703,6,    2.631,6,   -999.0,9,   -999.0,9,  4.4975
     316N142_3,   A15,   104,  1,     23,     23,2,19940504,1524,-29.5670, -19.0015, 4118,    927.7,   4.1078,  34.3260,2,  34.3241,2,    212.1,2,    213.6,2,    31.31,2,    30.45,2,     0.00,2,     2.10,2, -999.000,9, -999.000,9, -999.000,9,   -999.0,9,   -999.0,9,  4.0376
     316N142_3,   A15,   104,  1,     22,     22,2,19940504,1524,-29.5670, -19.0015, 4118,   1027.1,   3.5275,  34.3424,2,  34.3406,2,    209.0,2,    209.2,2,    39.16,2,    31.62,2,     0.00,2,     2.18,2,    0.716,2,    0.386,2,    1.951,2,   -999.0,9,   -999.0,9,  3.4536
     316N142_3,   A15,   104,  1,     21,     21,2,19940504,1524,-29.5670, -19.0015, 4118,   1166.0,   3.1570,  34.4305,2,  34.4278,2,    193.7,2,    195.7,2,    50.35,2,    32.64,2,     0.00,2,     2.25,2,    0.361,2,    0.198,2,    1.031,2,   -999.0,9,   -999.0,9,  3.0751
     316N142_3,   A15,   104,  1,     20,     20,2,19940504,1524,-29.5670, -19.0015, 4118,   1309.6,   2.9649,  34.5265,2,  34.5254,2,    187.6,2,    188.0,2,    56.82,2,    32.33,2,     0.00,2,     2.23,2,    0.165,2,    0.078,2,    0.575,2,   -999.0,9,   -999.0,9,  2.8732
     316N142_3,   A15,   104,  1,     19,     19,2,19940504,1524,-29.5670, -19.0015, 4118,   1500.0,   2.8871,  34.6338,2,  34.6329,2,    190.3,2,    191.5,2,    57.22,2,    30.67,2,     0.00,2,     2.12,2, -999.000,9, -999.000,9, -999.000,9,   -999.0,9,   -999.0,9,  2.7804
     316N142_3,   A15,   104,  1,     40,     40,2,19940504,1524,-29.5670, -19.0015, 4118,   1687.7,   2.7726,  34.7224,2,  34.7208,2,    202.4,2,    202.2,2,    55.59,2,    28.51,2,     0.00,2,     1.97,2,    0.066,4,    0.015,2,    0.246,2,   -999.0,9,   -999.0,9,  2.6514
     316N142_3,   A15,   104,  1,     17,     17,2,19940504,1524,-29.5670, -19.0015, 4118,   1859.7,   2.7099,  34.7680,2,  34.7673,2,    210.6,2,    210.8,2,    53.39,2,    27.01,2,     0.00,2,     1.85,2, -999.000,9, -999.000,9, -999.000,9,   -999.0,9,   -999.0,9,  2.5746
     316N142_3,   A15,   104,  1,     16,     16,2,19940504,1524,-29.5670, -19.0015, 4118,   2022.6,   2.6928,  34.8092,2,  34.8085,2,    221.5,2,    220.9,2,    49.46,2,    25.45,2,     0.00,2,     1.75,2, -999.000,9, -999.000,9, -999.000,9,   -999.0,9,   -999.0,9,  2.5433
     316N142_3,   A15,   104,  1,     15,     15,2,19940504,1524,-29.5670, -19.0015, 4118,   2144.9,   2.6618,  34.8279,2,  34.8273,2,    227.2,2,    226.4,2,    47.70,2,    24.68,2,     0.00,2,     1.70,2, -999.000,9,    0.002,2,    0.126,2,   -999.0,9,   -999.0,9,  2.5017
     316N142_3,   A15,   104,  1,     14,     14,2,19940504,1524,-29.5670, -19.0015, 4118,   2246.9,   2.7326,  34.8560,2,  34.8556,2,    233.0,2,    233.4,2,    42.65,2,    23.41,2,     0.00,2,     1.60,2, -999.000,9, -999.000,9, -999.000,9,   -999.0,9,   -999.0,9,  2.5618
     316N142_3,   A15,   104,  1,     13,     13,2,19940504,1524,-29.5670, -19.0015, 4118,   2449.2,   2.7633,  34.8827,2,  34.8825,2,    241.0,2,    240.4,2,    38.61,2,    22.22,2,     0.00,2,     1.52,2, -999.000,9,    0.007,2,    0.060,2,   -999.0,9,   -999.0,9,  2.5729
     316N142_3,   A15,   104,  1,     12,     12,2,19940504,1524,-29.5670, -19.0015, 4118,   2565.5,   2.7621,  34.8904,2,  34.8894,2,    243.2,2,    243.4,2,    37.59,2,    21.87,2,     0.00,2,     1.49,2, -999.000,9, -999.000,9, -999.000,9,   -999.0,9,   -999.0,9,  2.5604
     316N142_3,   A15,   104,  1,     11,     11,2,19940504,1524,-29.5670, -19.0015, 4118,   2733.1,   2.7631,  34.9033,2,  34.9022,2,    246.4,2,    246.8,2,    35.28,2,    21.19,2,     0.00,2,     1.44,2, -999.000,9, -999.000,9, -999.000,9,   -999.0,9,   -999.0,9,  2.5448
     316N142_3,   A15,   104,  1,     10,     10,2,19940504,1524,-29.5670, -19.0015, 4118,   2885.4,   2.7323,  34.9100,2,  34.9088,2,    249.6,2,    250.1,2,    34.39,2,    20.83,2,     0.00,2,     1.41,2, -999.000,9, -999.000,9, -999.000,9,   -999.0,9,   -999.0,9,  2.4992
     316N142_3,   A15,   104,  1,      9,      9,2,19940504,1524,-29.5670, -19.0015, 4118,   3037.1,   2.6697,  34.9079,2,  34.9067,2,    250.4,2,    250.4,2,    35.79,2,    20.88,2,     0.00,2,     1.41,2, -999.000,9,    0.005,2,    0.064,2,   -999.0,9,   -999.0,9,  2.4224
     316N142_3,   A15,   104,  1,      8,      8,2,19940504,1524,-29.5670, -19.0015, 4118,   3187.7,   2.5790,  34.9010,2,  34.9006,2,    249.9,2,    250.5,2,    38.34,2,    21.16,2,     0.00,2,     1.43,2, -999.000,9, -999.000,9, -999.000,9,   -999.0,9,   -999.0,9,  2.3180
     316N142_3,   A15,   104,  1,      7,      7,2,19940504,1524,-29.5670, -19.0015, 4118,   3337.5,   2.4195,  34.8874,2,  34.8870,2,    248.5,2,    248.8,2,    43.74,2,    21.81,2,     0.00,2,     1.48,2, -999.000,9, -999.000,9, -999.000,9,   -999.0,9,   -999.0,9,  2.1466
     316N142_3,   A15,   104,  1,      6,      6,2,19940504,1524,-29.5670, -19.0015, 4118,   3487.3,   2.2292,  34.8690,2,  34.8694,2,    245.6,2,    247.0,2,    50.45,2,    22.73,2,     0.00,2,     1.54,2, -999.000,9, -999.000,9, -999.000,9,   -999.0,9,   -999.0,9,  1.9452
     316N142_3,   A15,   104,  1,      5,      5,2,19940504,1524,-29.5670, -19.0015, 4118,   3639.9,   2.0291,  34.8480,2,  34.8478,2,    242.9,2,    242.8,2,    58.63,2,    23.84,2,     0.00,2,     1.61,2, -999.000,9, -999.000,9, -999.000,9,   -999.0,9,   -999.0,9,  1.7338
     316N142_3,   A15,   104,  1,      4,      4,2,19940504,1524,-29.5670, -19.0015, 4118,   3797.4,   1.7946,  34.8234,2,  34.8228,2,    239.1,2,    239.5,2,    68.45,2,    25.18,2,     0.00,2,     1.71,2, -999.000,9, -999.000,9, -999.000,9,   -999.0,9,   -999.0,9,  1.4887
     316N142_3,   A15,   104,  1,      3,      3,2,19940504,1524,-29.5670, -19.0015, 4118,   3954.0,   1.6650,  34.8082,2,  34.8079,2,    236.6,2,    236.7,2,    74.69,2,    25.97,2,     0.00,2,     1.77,2, -999.000,9, -999.000,9, -999.000,9,   -999.0,9,   -999.0,9,  1.3457
     316N142_3,   A15,   104,  1,      2,      2,2,19940504,1524,-29.5670, -19.0015, 4118,   4110.4,   1.5738,  34.7973,2,  34.7967,2,    234.3,2,    234.4,2,    79.78,2,    26.68,2,     0.00,2,     1.82,2, -999.000,9, -999.000,9, -999.000,9,   -999.0,9,   -999.0,9,  1.2400
     316N142_3,   A15,   104,  1,      1,      1,2,19940504,1524,-29.5670, -19.0015, 4118,   4241.9,   1.5678,  34.7945,2,  34.7951,2,    234.0,2,    234.0,2,    81.36,2,    26.82,2,     0.00,2,     1.83,2, -999.000,9,    0.011,2,    0.040,2,   -999.0,9,   -999.0,9,  1.2195