BOTTLE,20020814WHPSIOKJU
EXPOCODE,SECT_ID,STNNBR,CASTNO,SAMPNO,BTLNBR,BTLNBR_FLAG_W,DATE,TIME,LATITUDE,LONGITUDE,DEPTH,CTDPRS,CTDTMP,CTDSAL,CTDSAL_FLAG_W,SALNTY,SALNTY_FLAG_W,CTDOXY,CTDOXY_FLAG_W,OXYGEN,OXYGEN_FLAG_W,SILCAT,SILCAT_FLAG_W,NITRAT,NITRAT_FLAG_W,NITRIT,NITRIT_FLAG_W,PHSPHT,PHSPHT_FLAG_W,CFC-11,CFC-11_FLAG_W,CFC-12,CFC-12_FLAG_W,CCL4,CCL4_FLAG_W,TCARBN,TCARBN_FLAG_W,ALKALI,ALKALI_FLAG_W,THETA
,,,,,,,,,,,,DBAR,ITS-90,PSS-78,,PSS-78,,UMOL/KG,,UMOL/KG,,UMOL/KG,,UMOL/KG,,UMOL/KG,,UMOL/KG,,PMOL/KG,,PMOL/KG,,PMOL/KG,,UMOL/KG,,UMOL/KG,,DEG C
     316N142_3,  AR15,   148,  1,     39,     39,2,19940519,0032,-18.6815, -36.7597, 3750,      2.3,  27.2299,  37.4162,2,  37.4156,2,    191.4,4,    199.7,2,     2.16,2,     0.05,2,     0.00,2,     0.11,2,    1.665,2,    0.970,2,    2.079,2,   2076.0,2,   2453.5,2, 27.2294
     316N142_3,  AR15,   148,  1,     35,     35,2,19940519,0032,-18.6815, -36.7597, 3750,     94.4,  23.8845,  36.9641,2,  36.9439,2,    209.0,4,    213.6,2,     1.99,2,     0.05,2,     0.00,2,     0.10,2, -999.000,9, -999.000,9, -999.000,9,   2073.8,2,   2422.6,2, 23.8645
     316N142_3,  AR15,   148,  1,     38,     38,2,19940519,0032,-18.6815, -36.7597, 3750,    154.5,  21.0511,  36.4941,2,  36.4960,2,    206.9,2,    202.3,2,     1.97,2,     0.47,2,     0.05,2,     0.20,2,    2.113,2,    1.210,2,    1.118,2,   2086.5,2,   2391.5,2, 21.0213
     316N142_3,  AR15,   148,  1,     33,     33,2,19940519,0032,-18.6815, -36.7597, 3750,    235.1,  16.3998,  35.6687,2,  35.6501,2,    200.8,2,    202.5,2,     3.19,2,     5.23,2,     0.00,2,     0.49,2, -999.000,9, -999.000,9, -999.000,9,   2094.0,2,   2341.1,2, 16.3617
     316N142_3,  AR15,   148,  1,     41,     41,2,19940519,0032,-18.6815, -36.7597, 3750,    315.6,  13.9151,  35.2947,2,  35.2898,2,    198.8,2,    195.9,2,     4.41,2,     9.53,2,     0.00,2,     0.75,2,    2.038,6,    1.162,6,    0.501,6,   2107.5,2,   2320.6,2, 13.8694
     316N142_3,  AR15,   148,  1,     31,     31,2,19940519,0032,-18.6815, -36.7597, 3750,    396.0,  11.3410,  34.9759,2,  34.9669,2,    188.3,2,    190.3,2,     7.33,2,    15.86,2,     0.00,2,     1.14,2, -999.000,9, -999.000,9, -999.000,9,   2130.8,2,   2306.1,2, 11.2908
     316N142_3,  AR15,   148,  1,     37,     37,2,19940519,0032,-18.6815, -36.7597, 3750,    486.3,   9.2087,  34.7346,2,  34.7275,2,    190.4,2,    184.5,2,    11.34,2,    21.36,2,     0.00,2,     1.49,2,    1.446,2,    0.729,2,    0.912,2,   2152.6,2,   2296.8,2,  9.1544
     316N142_3,  AR15,   148,  1,     29,     29,2,19940519,0032,-18.6815, -36.7597, 3750,    576.8,   7.3499,  34.5506,2,  34.5451,2,    185.9,2,    186.2,2,    16.13,2,    25.67,2,     0.00,2,     1.78,2, -999.000,9, -999.000,9, -999.000,9,   2169.2,2,   2293.1,2,  7.2933
     316N142_3,  AR15,   148,  1,     28,     28,2,19940519,0032,-18.6815, -36.7597, 3750,    657.1,   5.7003,  34.4114,2,  34.4102,2,    195.0,2,    201.0,2,    20.61,2,    27.96,2,     0.00,2,     1.94,2,    0.988,2,    0.500,2,    1.693,2,   2173.9,2,   2289.3,2,  5.6438
     316N142_3,  AR15,   148,  1,     27,     27,2,19940519,0032,-18.6815, -36.7597, 3750,    722.1,   4.8095,  34.3723,2,  34.3724,2,    204.6,2,    199.6,2,    26.50,2,    29.88,2,     0.00,2,     2.08,2,    0.691,2,    0.362,2,    1.531,2,   -999.0,9,   -999.0,9,  4.7520
     316N142_3,  AR15,   148,  1,     26,     26,2,19940519,0032,-18.6815, -36.7597, 3750,    868.1,   3.8234,  34.3859,2,  34.3853,2,    195.6,2,    197.0,2,    36.92,2,    31.49,2,     0.00,2,     2.21,2,    0.389,2,    0.190,2,    1.091,2,   -999.0,9,   -999.0,9,  3.7599
     316N142_3,  AR15,   148,  1,     25,     25,9,19940519,0032,-18.6815, -36.7597, 3750,   1009.2,   3.6849,  34.4109,2,-999.0000,9,    191.8,2,   -999.0,9,  -999.00,9,  -999.00,9,  -999.00,9,  -999.00,9, -999.000,9, -999.000,9, -999.000,9,   -999.0,9,   -999.0,9,  3.6111
     316N142_3,  AR15,   148,  1,     24,     24,2,19940519,0032,-18.6815, -36.7597, 3750,   1178.5,   3.5298,  34.5259,2,  34.5239,2,    187.8,2,    187.3,2,    43.14,2,    31.33,2,     0.00,2,     2.21,2, -999.000,9, -999.000,9, -999.000,9,   -999.0,9,   -999.0,9,  3.4433
     316N142_3,  AR15,   148,  1,     23,     23,2,19940519,0032,-18.6815, -36.7597, 3750,   1287.5,   3.7390,  34.6461,2,  34.6447,2,    187.1,2,    187.8,2,    38.28,2,    29.78,2,     0.00,2,     2.08,2,    0.061,4,    0.026,2,    0.147,2,   -999.0,9,   -999.0,9,  3.6411
     316N142_3,  AR15,   148,  1,     22,     22,2,19940519,0032,-18.6815, -36.7597, 3750,   1417.8,   4.2220,  34.7949,2,  34.7946,2,    192.9,2,    191.2,2,    28.29,2,    27.18,2,     0.00,2,     1.88,2, -999.000,9, -999.000,9, -999.000,9,   -999.0,9,   -999.0,9,  4.1072
     316N142_3,  AR15,   148,  1,     21,     21,2,19940519,0032,-18.6815, -36.7597, 3750,   1548.6,   4.2134,  34.8892,2,  34.8888,2,    210.3,2,    210.6,2,    23.77,2,    24.12,2,     0.00,2,     1.66,2, -999.000,9,    0.016,2,    0.283,2,   -999.0,9,   -999.0,9,  4.0864
     316N142_3,  AR15,   148,  1,     20,     20,2,19940519,0032,-18.6815, -36.7597, 3750,   1679.3,   4.0992,  34.9296,2,  34.9309,2,    225.2,2,    225.5,2,    21.73,2,    22.25,2,     0.00,2,     1.52,2, -999.000,9, -999.000,9, -999.000,9,   -999.0,9,   -999.0,9,  3.9613
     316N142_3,  AR15,   148,  1,     19,     19,2,19940519,0032,-18.6815, -36.7597, 3750,   1811.4,   3.8831,  34.9608,2,  34.9617,2,    244.0,2,    241.0,2,    20.00,2,    20.39,2,     0.00,2,     1.38,2, -999.000,9,    0.040,6,    0.299,6,   -999.0,9,   -999.0,9,  3.7355
     316N142_3,  AR15,   148,  1,     40,     40,2,19940519,0032,-18.6815, -36.7597, 3750,   1915.5,   3.6931,  34.9607,2,  34.9617,2,    246.9,2,    246.2,2,    20.92,2,    19.97,2,     0.00,2,     1.35,2, -999.000,9,    0.030,2,    0.253,2,   -999.0,9,   -999.0,9,  3.5383
     316N142_3,  AR15,   148,  1,     17,     17,2,19940519,0032,-18.6815, -36.7597, 3750,   2028.6,   3.4952,  34.9573,2,  34.9577,2,    250.8,2,    249.4,2,    22.30,2,    19.77,2,     0.00,2,     1.34,2, -999.000,9, -999.000,9, -999.000,9,   -999.0,9,   -999.0,9,  3.3325
     316N142_3,  AR15,   148,  1,     16,     16,2,19940519,0032,-18.6815, -36.7597, 3750,   2145.8,   3.2586,  34.9494,2,  34.9507,2,    253.3,2,    251.8,2,    24.46,2,    19.72,2,     0.00,2,     1.34,2, -999.000,9,    0.036,2,    0.510,2,   -999.0,9,   -999.0,9,  3.0884
     316N142_3,  AR15,   148,  1,     15,     15,2,19940519,0032,-18.6815, -36.7597, 3750,   2273.3,   3.1425,  34.9448,2,  34.9444,2,    251.8,2,    252.5,2,    26.15,2,    19.82,2,     0.00,2,     1.35,2, -999.000,9, -999.000,9, -999.000,9,   -999.0,9,   -999.0,9,  2.9621
     316N142_3,  AR15,   148,  1,     14,     14,2,19940519,0032,-18.6815, -36.7597, 3750,   2381.4,   2.9570,  34.9344,2,  34.9341,2,    251.7,2,    251.8,2,    28.94,2,    20.08,2,     0.00,2,     1.36,2, -999.000,9,    0.031,2,    0.166,2,   -999.0,9,   -999.0,9,  2.7694
     316N142_3,  AR15,   148,  1,     13,     13,2,19940519,0032,-18.6815, -36.7597, 3750,   2503.1,   2.8204,  34.9263,2,  34.9255,2,    251.4,2,    251.7,2,    31.10,2,    20.29,2,     0.00,2,     1.38,2, -999.000,9, -999.000,9, -999.000,9,   -999.0,9,   -999.0,9,  2.6235
     316N142_3,  AR15,   148,  1,     12,     12,2,19940519,0032,-18.6815, -36.7597, 3750,   2625.1,   2.7330,  34.9215,2,  34.9216,2,    252.4,2,    252.0,2,    32.49,2,    20.35,2,     0.00,2,     1.39,2, -999.000,9,    0.018,2,    0.148,2,   -999.0,9,   -999.0,9,  2.5258
     316N142_3,  AR15,   148,  1,     11,     11,2,19940519,0032,-18.6815, -36.7597, 3750,   2748.3,   2.6166,  34.9149,2,  34.9164,2,    252.7,2,    253.3,2,    34.04,2,    20.40,2,     0.00,2,     1.39,2, -999.000,9, -999.000,9, -999.000,9,   -999.0,9,   -999.0,9,  2.3997
     316N142_3,  AR15,   148,  1,     10,     10,2,19940519,0032,-18.6815, -36.7597, 3750,   2871.1,   2.5772,  34.9126,2,  34.9127,2,    252.7,2,    253.5,2,    34.96,2,    20.45,2,     0.00,2,     1.40,2, -999.000,9,    0.014,2,    0.212,2,   -999.0,9,   -999.0,9,  2.3487
     316N142_3,  AR15,   148,  1,      9,      9,2,19940519,0032,-18.6815, -36.7597, 3750,   2994.4,   2.4511,  34.9017,2,  34.9027,2,    252.4,2,    253.1,2,    38.38,2,    20.82,2,     0.00,2,     1.43,2, -999.000,9, -999.000,9, -999.000,9,   -999.0,9,   -999.0,9,  2.2130
     316N142_3,  AR15,   148,  1,      8,      8,2,19940519,0032,-18.6815, -36.7597, 3750,   3116.7,   2.2949,  34.8870,2,  34.8871,2,    251.4,2,    251.5,2,    43.53,2,    21.49,2,     0.00,2,     1.48,2, -999.000,9,    0.018,2,    0.226,2,   -999.0,9,   -999.0,9,  2.0478
     316N142_3,  AR15,   148,  1,      7,      7,2,19940519,0032,-18.6815, -36.7597, 3750,   3239.6,   2.1758,  34.8738,2,  34.8744,2,    249.3,2,    249.6,2,    48.69,2,    22.17,2,     0.00,2,     1.53,2, -999.000,9, -999.000,9, -999.000,9,   -999.0,9,   -999.0,9,  1.9189
     316N142_3,  AR15,   148,  1,      6,      6,2,19940519,0032,-18.6815, -36.7597, 3750,   3341.5,   2.0725,  34.8636,2,  34.8633,2,    248.3,2,    247.9,2,    52.61,2,    22.69,2,     0.00,2,     1.57,2, -999.000,9,    0.011,2,    0.225,2,   -999.0,9,   -999.0,9,  1.8076
     316N142_3,  AR15,   148,  1,      5,      5,2,19940519,0032,-18.6815, -36.7597, 3750,   3443.7,   1.9029,  34.8359,2,  34.8455,3,    245.7,2,    244.9,2,    59.69,2,    23.68,2,     0.00,2,     1.64,2, -999.000,9, -999.000,9, -999.000,9,   -999.0,9,   -999.0,9,  1.6317
     316N142_3,  AR15,   148,  1,      4,      4,2,19940519,0032,-18.6815, -36.7597, 3750,   3545.6,   1.7698,  34.8309,2,  34.8307,2,    242.6,2,    242.5,2,    65.22,2,    24.41,2,     0.00,2,     1.70,2, -999.000,9, -999.000,9, -999.000,9,   -999.0,9,   -999.0,9,  1.4913
     316N142_3,  AR15,   148,  1,      3,      3,2,19940519,0032,-18.6815, -36.7597, 3750,   3646.9,   1.4856,  34.8003,2,  34.7995,2,    238.5,2,    237.1,2,    76.67,2,    26.02,2,     0.00,2,     1.81,2, -999.000,9,    0.012,2,    0.175,2,   -999.0,9,   -999.0,9,  1.2040
     316N142_3,  AR15,   148,  1,      2,      2,2,19940519,0032,-18.6815, -36.7597, 3750,   3748.7,   1.2671,  34.7769,2,  34.7771,2,    234.8,2,    233.0,2,    85.32,2,    27.27,2,     0.00,2,     1.91,2, -999.000,9, -999.000,9, -999.000,9,   -999.0,9,   -999.0,9,  0.9808
     316N142_3,  AR15,   148,  1,      1,      1,2,19940519,0032,-18.6815, -36.7597, 3750,   3809.6,   0.9457,  34.7418,2,  34.7427,2,    227.9,2,    227.7,2,    98.25,2,    28.99,2,     0.00,2,     2.03,2, -999.000,9,    0.017,2,    0.122,2,   -999.0,9,   -999.0,9,  0.6620