BOTTLE,20090513PRINUNIVRMK
EXPOCODE,STNNBR,CASTNO,BTLNBR,BTLNBR_FLAG_W,DATE,LATITUDE,LONGITUDE,DEPTH,CTDPRS,CTDTMP,CTDSAL,CTDSAL_FLAG_W,SALNTY,SALNTY_FLAG_W,OXYGEN,OXYGEN_FLAG_W,SILCAT,SILCAT_FLAG_W,NITRAT,NITRAT_FLAG_W,NITRIT,NITRIT_FLAG_W,PHSPHT,PHSPHT_FLAG_W,CFC-11,CFC-11_FLAG_W,CFC-12,CFC-12_FLAG_W,TCARBN,TCARBN_FLAG_W,ALKALI,ALKALI_FLAG_W,PH_SWS,PH_TEMP,PH_SWS_FLAG_W,ID,THETA
,,,,,,,,METERS,DBARS,ITS-90,PSS-78,,PSS-78,,UMOL/KG,,UMOL/KG,,UMOL/KG,,UMOL/KG,,UMOL/KG,,PMOL/KG,,PMOL/KG,,UMOL/KG,,UMOL/KG,,,DEGC,,,DEGC
  06MT20030723,   533,  1,      1,2,20030814, 52.9500, -22.3420, 3969,   4035.8,   2.5227,  34.9081,2,  34.9061,2,    240.9,2,    43.05,2,    22.11,2,     0.01,2,     1.48,2, -999.000,9, -999.000,9,   2202.7,2,   2349.2,2,   7.7374,    25.00,2,    86001,   2.1696
  06MT20030723,   533,  1,      2,2,20030814, 52.9500, -22.3420, 3969,   4035.6,   2.5227,  34.9084,2,-999.0000,9,    241.2,2,    42.84,2,    22.12,2,     0.00,2,     1.47,2,    0.076,3,    0.036,2,   -999.0,5,   -999.0,5,-999.0000,  -999.00,9,    86002,   2.1696
  06MT20030723,   533,  1,      3,2,20030814, 52.9500, -22.3420, 3969,   3861.0,   2.5556,  34.9134,2,-999.0000,9,    243.1,2,    41.26,2,    21.74,2,     0.00,2,     1.44,2,    0.180,3,    0.082,2,   2199.6,2,   2345.7,2,   7.7344,    25.00,2,    86003,   2.2216
  06MT20030723,   533,  1,      4,2,20030814, 52.9500, -22.3420, 3969,   3656.0,   2.6112,  34.9211,2,-999.0000,9,    246.7,2,    37.34,2,    20.93,2,     0.00,2,     1.40,2,    0.399,3,    0.197,2,   2196.1,2,   2340.9,2,   7.7344,    25.00,2,    86004,   2.2987
  06MT20030723,   533,  1,      5,2,20030814, 52.9500, -22.3420, 3969,   3345.2,   2.7527,  34.9383,2,-999.0000,9,    257.9,2,    27.16,2,    18.90,2,     0.00,2,     1.25,2,    1.068,3,    0.536,2,   2181.8,2,   2324.5,2,   7.7334,    25.00,2,    86005,   2.4707
  06MT20030723,   533,  1,      6,2,20030814, 52.9500, -22.3420, 3969,   3036.6,   2.8979,  34.9436,2,-999.0000,9,    264.9,2,    20.54,2,    17.77,2,     0.00,2,     1.17,2,    1.367,3,    0.693,2,   2172.6,2,   2313.4,2,   7.7344,    25.00,2,    86006,   2.6454
  06MT20030723,   533,  1,      7,2,20030814, 52.9500, -22.3420, 3969,   2728.6,   3.0573,  34.9357,2,  34.9368,2,   -999.0,5,    14.34,2,    16.79,2,     0.00,2,     1.10,2,    1.907,3,    0.946,2,   2162.8,2,   2303.3,2,   7.7354,    25.00,2,    86007,   2.8334
  06MT20030723,   533,  1,      8,2,20030814, 52.9500, -22.3420, 3969,   2421.8,   3.1597,  34.9105,2,-999.0000,9,    279.8,2,    11.62,2,    16.56,2,     0.00,2,     1.09,2,    2.402,3,    1.197,2,   2158.7,2,   2300.4,2,   7.7364,    25.00,2,    86008,   2.9646
  06MT20030723,   533,  1,      9,2,20030814, 52.9500, -22.3420, 3969,   2117.6,   3.2211,  34.8895,2,-999.0000,9,    283.8,2,    10.54,2,    16.80,2,     0.00,2,     1.09,2, -999.000,9, -999.000,9,   2158.1,2,   2297.0,2,   7.7345,    25.00,2,    86009,   3.0544
  06MT20030723,   533,  1,     10,2,20030814, 52.9500, -22.3420, 3969,   2107.7,   3.2244,  34.8893,2,-999.0000,9,    284.0,2,    10.49,2,    16.81,2,     0.00,2,     1.08,2, -999.000,9, -999.000,9,   2157.2,2,   2297.9,2,   7.7335,    25.00,2,    86010,   3.0586
  06MT20030723,   533,  1,     11,2,20030814, 52.9500, -22.3420, 3969,   1811.2,   3.3958,  34.8916,2,-999.0000,9,    280.6,2,    10.35,2,    17.08,2,     0.00,2,     1.10,2,    2.965,3,    1.470,2,   2158.8,2,   2295.4,2,   7.7315,    25.00,2,    86011,   3.2549
  06MT20030723,   533,  1,     12,2,20030814, 52.9500, -22.3420, 3969,   1516.7,   3.7025,  34.9066,2,  34.9039,0,    274.2,2,    10.07,2,    16.99,2,     0.00,2,     1.10,2,    3.126,3,    1.561,2,   2160.2,2,   2297.4,2,   7.7275,    25.00,2,    86012,   3.5843
  06MT20030723,   533,  1,     13,2,20030814, 52.9500, -22.3420, 3969,   1205.1,   4.1117,  34.9231,2,-999.0000,9,    266.3,2,     9.81,2,    17.49,2,     0.00,2,     1.12,2,    3.247,3,    1.657,2,   2163.3,2,   2299.5,2,   7.7226,    25.00,2,    86013,   4.0168
  06MT20030723,   533,  1,     14,2,20030814, 52.9500, -22.3420, 3969,   1125.2,   4.3121,  34.9396,2,-999.0000,9,    262.3,2,     9.78,2,    17.60,2,     0.00,2,     1.13,2,    3.274,3,    1.673,2,   2165.3,2,   2299.0,2,   7.7197,    25.00,2,    86014,   4.2224
  06MT20030723,   533,  1,     15,2,20030814, 52.9500, -22.3420, 3969,   1023.7,   4.5829,  34.9457,2,-999.0000,9,    254.4,2,     9.89,2,    17.90,2,     0.00,2,     1.14,2,    3.253,3,    1.672,2,   2167.1,2,   2300.6,2,   7.7147,    25.00,2,    86015,   4.4999
  06MT20030723,   533,  1,     16,2,20030814, 52.9500, -22.3420, 3969,    814.6,   6.6375,  35.1630,2,-999.0000,9,    218.0,2,    10.15,2,    18.72,2,     0.00,2,     1.19,2,    2.293,3,    1.188,2,   2177.6,2,   2315.0,2,   7.7216,    25.00,2,    86016,   6.5598
  06MT20030723,   533,  1,     17,2,20030814, 52.9500, -22.3420, 3969,    601.4,   8.3802,  35.2113,2,-999.0000,9,    197.0,2,     9.14,2,    18.61,2,     0.00,2,     1.15,2,    2.161,3,    1.131,2,   2176.5,2,   2317.6,2,   7.7314,    25.00,2,    86017,   8.3159
  06MT20030723,   533,  1,     18,2,20030814, 52.9500, -22.3420, 3969,    426.2,   9.7163,  35.2802,2,  35.2378,0,    247.1,2,     4.88,2,    13.05,2,     0.01,2,     0.80,2,    3.299,3,    1.849,2,   2141.8,2,   2314.2,2,   7.8075,    25.00,2,    86018,   9.6670
  06MT20030723,   533,  1,     19,2,20030814, 52.9500, -22.3420, 3969,    205.4,  10.9944,  35.4672,2,-999.0000,9,    248.6,2,     3.03,2,    10.64,2,     0.02,2,     0.62,2,    3.250,3,    1.848,2,   2133.5,2,   2325.2,2,   7.8430,    25.00,2,    86019,  10.9689
  06MT20030723,   533,  1,     20,2,20030814, 52.9500, -22.3420, 3969,     95.7,  12.0987,  35.6219,2,-999.0000,9,    238.9,2,     2.43,2,     9.82,2,     0.03,2,     0.55,2,    3.068,3,    1.771,2,   2130.1,2,   2337.1,2,   7.8658,    25.00,2,    86020,  12.0861
  06MT20030723,   533,  1,     21,2,20030814, 52.9500, -22.3420, 3969,     70.8,  12.6992,  35.6868,2,-999.0000,9,    239.8,2,     1.31,2,     5.00,2,     0.18,2,     0.45,2,    3.113,3,    1.782,2,   2121.3,2,   2337.0,2,   7.8856,    25.00,2,    86021,  12.6896
  06MT20030723,   533,  1,     22,2,20030814, 52.9500, -22.3420, 3969,     25.1,  14.7759,  35.4759,2,-999.0000,9,    267.6,2,     0.00,2,     0.00,2,     0.02,2,     0.07,2,    2.965,3,    1.733,2,   2053.5,2,   2332.3,2,   8.0046,    25.00,2,    86022,  14.7721
  06MT20030723,   534,  1,      1,2,20030814, 52.4820, -21.3580, 3837,   3902.0,   2.5031,  34.9077,2,-999.0000,9,    240.5,2,    44.76,2,    22.15,2,     0.01,2,     1.48,2, -999.000,9, -999.000,9,   2205.4,2,   2347.6,2,-999.0000,  -999.00,9,    87001,   2.1659
  06MT20030723,   534,  1,      2,2,20030814, 52.4820, -21.3580, 3837,   3901.6,   2.5030,  34.9079,2,-999.0000,9,    240.7,2,    44.76,2,    22.17,2,     0.01,2,     1.47,2,    0.084,3,    0.044,2,   -999.0,5,   -999.0,5,-999.0000,  -999.00,9,    87002,   2.1658
  06MT20030723,   534,  1,      3,2,20030814, 52.4820, -21.3580, 3837,   3796.6,   2.5072,  34.9091,2,-999.0000,9,    240.7,2,    43.74,2,    22.09,2,     0.00,2,     1.47,2,    0.104,3,    0.053,2,   2203.9,2,   2347.9,2,-999.0000,  -999.00,9,    87003,   2.1818
  06MT20030723,   534,  1,      4,2,20030814, 52.4820, -21.3580, 3837,   3558.1,   2.5869,  34.9197,2,  34.9187,2,    246.7,2,    38.61,2,    21.06,2,     0.00,2,     1.41,2,    0.347,3,    0.170,2,   -999.0,5,   -999.0,5,-999.0000,  -999.00,9,    87004,   2.2859
  06MT20030723,   534,  1,      5,2,20030814, 52.4820, -21.3580, 3837,   3248.6,   2.7527,  34.9374,2,-999.0000,9,    257.1,2,    28.11,2,    19.05,2,     0.00,2,     1.26,2,    0.987,3,    0.501,2,   -999.0,5,   -999.0,5,-999.0000,  -999.00,9,    87005,   2.4811
  06MT20030723,   534,  1,      6,2,20030814, 52.4820, -21.3580, 3837,   2946.1,   2.9069,  34.9441,2,-999.0000,9,    265.8,2,    19.99,2,    17.61,2,     0.00,2,     1.15,2,    1.444,3,    0.727,2,   -999.0,5,   -999.0,5,-999.0000,  -999.00,9,    87006,   2.6637
  06MT20030723,   534,  1,      7,2,20030814, 52.4820, -21.3580, 3837,   2637.5,   3.0832,  34.9331,2,-999.0000,9,    273.4,2,    12.00,2,    16.78,2,     0.00,2,     1.08,2,    1.848,3,    0.921,2,   -999.0,5,   -999.0,5,-999.0000,  -999.00,9,    87007,   2.8680
  06MT20030723,   534,  1,      8,2,20030814, 52.4820, -21.3580, 3837,   2329.9,   3.1753,  34.9086,2,  34.9059,2,    278.6,2,    14.61,2,    16.91,2,     0.00,2,     1.09,2,    2.326,3,    1.144,2,   -999.0,5,   -999.0,5,-999.0000,  -999.00,9,    87008,   2.9890
  06MT20030723,   534,  1,      9,2,20030814, 52.4820, -21.3580, 3837,   2023.8,   3.2456,  34.8891,2,-999.0000,9,    282.4,2,    10.79,2,    16.92,2,     0.00,2,     1.08,2,    2.874,3,    1.417,2,   -999.0,5,   -999.0,5,-999.0000,  -999.00,9,    87009,   3.0873
  06MT20030723,   534,  1,     10,2,20030814, 52.4820, -21.3580, 3837,   2005.4,   3.2555,  34.8891,2,-999.0000,9,    282.1,2,    10.62,2,    16.95,2,     0.00,2,     1.08,2, -999.000,9, -999.000,9,   -999.0,5,   -999.0,5,-999.0000,  -999.00,9,    87010,   3.0988
  06MT20030723,   534,  1,     11,2,20030814, 52.4820, -21.3580, 3837,   1743.1,   3.4513,  34.8967,2,-999.0000,9,    278.4,2,    10.50,2,    17.22,2,     0.00,2,     1.10,2,    2.887,3,    1.428,2,   -999.0,5,   -999.0,5,-999.0000,  -999.00,9,    87011,   3.3159
  06MT20030723,   534,  1,     12,2,20030814, 52.4820, -21.3580, 3837,   1528.1,   3.6834,  34.9096,2,-999.0000,9,    272.9,2,    10.45,2,    17.42,2,     0.00,2,     1.11,2,    2.882,3,    1.443,2,   -999.0,5,   -999.0,5,-999.0000,  -999.00,9,    87012,   3.5644
  06MT20030723,   534,  1,     13,2,20030814, 52.4820, -21.3580, 3837,   1413.4,   3.7928,  34.9139,2,  34.9090,2,    271.7,2,    10.31,2,    17.46,2,     0.00,2,     1.11,2,    2.986,3,    1.497,2,   -999.0,5,   -999.0,5,-999.0000,  -999.00,9,    87013,   3.6828
  06MT20030723,   534,  1,     14,2,20030814, 52.4820, -21.3580, 3837,   1240.1,   4.1273,  34.9401,2,-999.0000,9,    263.3,2,    10.18,2,    17.64,2,     0.00,2,     1.13,2,    2.963,3,    1.508,2,   -999.0,5,   -999.0,5,-999.0000,  -999.00,9,    87014,   4.0291
  06MT20030723,   534,  1,     15,2,20030814, 52.4820, -21.3580, 3837,   1070.3,   4.9030,  35.0281,2,-999.0000,9,    248.1,2,    10.42,2,    18.02,2,     0.01,2,     1.14,2,    2.655,3,    1.355,2,   -999.0,5,   -999.0,5,-999.0000,  -999.00,9,    87015,   4.8132
  06MT20030723,   534,  1,     16,2,20030814, 52.4820, -21.3580, 3837,    969.8,   5.5664,  35.0909,2,-999.0000,9,    236.0,2,    10.51,2,    18.14,2,     0.00,2,     1.16,2,    2.439,3,    1.254,2,   -999.0,5,   -999.0,5,-999.0000,  -999.00,9,    87016,   5.4807
  06MT20030723,   534,  1,     17,2,20030814, 52.4820, -21.3580, 3837,    883.6,   5.8057,  35.1010,2,-999.0000,9,    228.8,2,    10.28,2,    18.04,2,     0.00,2,     1.16,2, -999.000,9, -999.000,9,   -999.0,5,   -999.0,5,-999.0000,  -999.00,9,    87017,   5.7266
  06MT20030723,   534,  1,     18,2,20030814, 52.4820, -21.3580, 3837,    754.5,   6.9666,  35.2251,2,-999.0000,9,    208.6,2,    10.06,2,    18.42,2,     0.00,2,     1.14,2,    2.008,3,    1.041,2,   -999.0,5,   -999.0,5,-999.0000,  -999.00,9,    87018,   6.8930
  06MT20030723,   534,  1,     19,2,20030814, 52.4820, -21.3580, 3837,    493.0,   8.7827,  35.2053,2,-999.0000,9,    207.5,2,     8.31,2,    17.09,2,     0.01,2,     1.07,2,    2.485,3,    1.353,2,   -999.0,5,   -999.0,5,-999.0000,  -999.00,9,    87019,   8.7288
  06MT20030723,   534,  1,     20,2,20030814, 52.4820, -21.3580, 3837,    298.3,   9.9929,  35.2889,2,-999.0000,9,    243.1,2,     4.82,2,    12.91,2,     0.01,2,     0.83,2,    3.200,3,    1.811,2,   -999.0,5,   -999.0,5,-999.0000,  -999.00,9,    87020,   9.9580
  06MT20030723,   534,  1,     21,2,20030814, 52.4820, -21.3580, 3837,    109.1,  11.8199,  35.5701,2,-999.0000,9,    239.3,2,     2.67,2,     9.94,2,     0.03,2,     0.55,2,    3.006,3,    1.744,2,   -999.0,5,   -999.0,5,-999.0000,  -999.00,9,    87021,  11.8058
  06MT20030723,   534,  1,     22,2,20030814, 52.4820, -21.3580, 3837,      7.0,  14.8715,  35.2178,2,  35.1638,0,    274.2,2,     0.03,2,     0.12,2,     0.04,2,     0.13,2,    3.010,3,    1.751,2,   -999.0,5,   -999.0,5,-999.0000,  -999.00,9,    87022,  14.8705
  06MT20030723,   535,  1,      1,2,20030814, 52.0170, -20.3670, 3674,   3730.0,   2.4787,  34.9072,2,  34.9047,2,    240.5,2,    44.49,2,    22.29,2,     0.01,2,     1.45,2, -999.000,9, -999.000,9,   2202.1,2,   2350.7,2,   7.7354,    25.00,2,    88001,   2.1615
  06MT20030723,   535,  1,      2,2,20030814, 52.0170, -20.3670, 3674,   3730.1,   2.4787,  34.9075,2,-999.0000,9,    240.3,2,    44.52,2,    22.34,2,     0.01,2,     1.44,2,    0.080,3,    0.039,2,   -999.0,5,   -999.0,5,-999.0000,  -999.00,9,    88002,   2.1615
  06MT20030723,   535,  1,      3,2,20030814, 52.0170, -20.3670, 3674,   3660.2,   2.4732,  34.9075,2,-999.0000,9,    239.7,2,    44.18,2,    22.27,2,     0.01,2,     1.43,2,    0.082,3,    0.038,2,   2202.2,2,   2350.6,2,   7.7354,    25.00,2,    88003,   2.1639
  06MT20030723,   535,  1,      4,2,20030814, 52.0170, -20.3670, 3674,   3346.1,   2.5951,  34.9215,2,-999.0000,9,    246.7,2,    37.47,2,    20.92,2,     0.01,2,     1.35,2,    0.386,3,    0.183,2,   2192.3,2,   2340.7,2,   7.7354,    25.00,2,    88004,   2.3169
  06MT20030723,   535,  1,      5,2,20030814, 52.0170, -20.3670, 3674,   3037.5,   2.7792,  34.9389,2,-999.0000,9,    256.8,2,    27.31,2,    18.99,2,     0.01,2,     1.22,2,    0.944,3,    0.468,2,   2178.9,2,   2324.5,2,   7.7364,    25.00,2,    88005,   2.5293
  06MT20030723,   535,  1,      6,2,20030814, 52.0170, -20.3670, 3674,   2709.3,   3.0324,  34.9381,2,  34.9323,2,    267.6,2,    17.72,2,    17.49,2,     0.01,2,     1.08,2,    1.584,3,    0.782,2,   2165.6,2,   2309.7,2,   7.7364,    25.00,2,    88006,   2.8110
  06MT20030723,   535,  1,      7,2,20030814, 52.0170, -20.3670, 3674,   2417.7,   3.1495,  34.9185,2,-999.0000,9,    276.6,2,    12.73,2,    16.41,2,     0.01,2,     1.04,2,    2.178,3,    1.068,2,   2155.9,2,   2303.8,2,   7.7374,    25.00,2,    88007,   2.9550
  06MT20030723,   535,  1,      8,2,20030814, 52.0170, -20.3670, 3674,   2119.6,   3.2144,  34.8912,2,-999.0000,9,    281.8,2,    10.89,2,    16.83,2,     0.01,2,     1.04,2,    4.037,4,    1.387,2,   2154.6,2,   2297.2,2,   7.7335,    25.00,2,    88008,   3.0476
  06MT20030723,   535,  1,      9,2,20030814, 52.0170, -20.3670, 3674,   1814.9,   3.3901,  34.8921,2,  34.8908,2,    279.7,2,    10.60,2,    17.12,2,     0.01,2,     1.07,2,    2.943,3,    1.425,2,   2156.1,2,   2297.4,2,   7.7295,    25.00,2,    88009,   3.2490
  06MT20030723,   535,  1,     10,2,20030814, 52.0170, -20.3670, 3674,   1759.5,   3.4396,  34.8952,2,-999.0000,9,    278.9,2,    10.70,2,    17.19,2,     0.01,2,     1.05,2, -999.000,9, -999.000,9,   2158.5,2,   2297.1,2,   7.7305,    25.00,2,    88010,   3.3028
  06MT20030723,   535,  1,     11,2,20030814, 52.0170, -20.3670, 3674,   1506.7,   3.7164,  34.9106,2,-999.0000,9,    272.5,2,    10.56,2,    17.40,2,     0.01,2,     1.08,2,    2.978,3,    1.464,2,   2158.6,2,   2297.4,2,   7.7285,    25.00,2,    88011,   3.5989
  06MT20030723,   535,  1,     12,2,20030814, 52.0170, -20.3670, 3674,   1359.3,   3.9333,  34.9221,2,-999.0000,9,    268.0,2,    10.45,2,    17.52,2,     0.01,2,     1.08,2,    3.121,3,    1.542,2,   2160.4,2,   2301.2,2,   7.7226,    25.00,2,    88012,   3.8266
  06MT20030723,   535,  1,     13,2,20030814, 52.0170, -20.3670, 3674,   1265.9,   4.1321,  34.9356,2,-999.0000,9,    264.1,2,    10.33,2,    17.51,2,     0.01,2,     1.08,2,    3.126,3,    1.556,2,   2161.4,2,   2299.0,2,   7.7206,    25.00,2,    88013,   4.0316
  06MT20030723,   535,  1,     14,2,20030814, 52.0170, -20.3670, 3674,   1159.4,   4.4790,  34.9669,2,-999.0000,9,    256.4,2,    10.33,2,    17.83,2,     0.01,2,     1.09,2,    3.017,3,    1.513,2,   2164.5,2,   2303.3,2,   7.7226,    25.00,2,    88014,   4.3848
  06MT20030723,   535,  1,     15,2,20030814, 52.0170, -20.3670, 3674,   1057.8,   5.0542,  35.0316,2,-999.0000,9,    243.9,2,    10.60,2,    17.97,2,     0.01,2,     1.09,2,    2.739,3,    1.380,2,   2169.4,2,   2306.3,2,   7.7196,    25.00,2,    88015,   4.9643
  06MT20030723,   535,  1,     16,2,20030814, 52.0170, -20.3670, 3674,    963.8,   5.7999,  35.1149,2,-999.0000,9,    230.7,2,    10.53,2,    18.36,2,     0.01,2,     1.12,2,    2.481,3,    1.246,2,   2173.0,2,   2312.9,2,   7.7324,    25.00,2,    88016,   5.7131
  06MT20030723,   535,  1,     17,2,20030814, 52.0170, -20.3670, 3674,    735.3,   7.5516,  35.1819,2,-999.0000,9,    204.2,2,     9.74,2,    18.25,2,     0.01,2,     1.13,2,    2.191,3,    1.123,2,   2176.9,2,   2320.6,2,   7.7275,    25.00,2,    88017,   7.4768
  06MT20030723,   535,  1,     18,2,20030814, 52.0170, -20.3670, 3674,    409.9,  10.2050,  35.3717,2,  35.3657,2,    247.5,2,     4.15,2,    12.10,2,     0.02,2,     0.67,2,    3.316,3,    1.832,2,   2136.0,2,   2326.6,2,   7.8233,    25.00,2,    88018,  10.1561
  06MT20030723,   535,  1,     19,2,20030814, 52.0170, -20.3670, 3674,    216.3,  10.9343,  35.4580,2,-999.0000,9,    246.7,2,     3.31,2,    10.86,2,     0.06,2,     0.60,2,    3.245,3,    1.821,2,   2131.4,2,   2326.3,2,   7.8420,    25.00,2,    88019,  10.9076
  06MT20030723,   535,  1,     20,2,20030814, 52.0170, -20.3670, 3674,    112.9,  11.7398,  35.5672,2,-999.0000,9,    241.7,2,     2.56,2,    10.13,2,     0.04,2,     0.54,2,    3.192,3,    1.816,2,   2132.7,2,   2331.6,2,   7.8569,    25.00,2,    88020,  11.7252
  06MT20030723,   535,  1,     21,2,20030814, 52.0170, -20.3670, 3674,     85.4,  11.9694,  35.5508,2,-999.0000,9,    246.0,2,     1.04,2,     8.37,2,     0.52,2,     0.45,2, -999.000,9, -999.000,9,   2119.8,2,   2333.5,2,   7.8727,    25.00,2,    88021,  11.9583
  06MT20030723,   535,  1,     22,2,20030814, 52.0170, -20.3670, 3674,     17.1,  15.4812,  35.4854,2,-999.0000,9,    263.5,2,     0.00,2,     0.00,2,     0.01,2,     0.04,2,    2.918,3,    1.678,2,   2048.8,2,   2333.5,2,   8.0146,    25.00,2,    88022,  15.4786