BOTTLE,20090513PRINUNIVRMK
EXPOCODE,STNNBR,CASTNO,BTLNBR,BTLNBR_FLAG_W,DATE,LATITUDE,LONGITUDE,DEPTH,CTDPRS,CTDTMP,CTDSAL,CTDSAL_FLAG_W,SALNTY,SALNTY_FLAG_W,OXYGEN,OXYGEN_FLAG_W,SILCAT,SILCAT_FLAG_W,NITRAT,NITRAT_FLAG_W,NITRIT,NITRIT_FLAG_W,PHSPHT,PHSPHT_FLAG_W,CFC-11,CFC-11_FLAG_W,CFC-12,CFC-12_FLAG_W,TCARBN,TCARBN_FLAG_W,ALKALI,ALKALI_FLAG_W,PH_SWS,PH_TEMP,PH_SWS_FLAG_W,ID,THETA
,,,,,,,,METERS,DBARS,ITS-90,PSS-78,,PSS-78,,UMOL/KG,,UMOL/KG,,UMOL/KG,,UMOL/KG,,UMOL/KG,,PMOL/KG,,PMOL/KG,,UMOL/KG,,UMOL/KG,,,DEGC,,,DEGC
  06MT20030723,   539,  1,      1,2,20030816, 50.1410, -16.3830, 4704,   4815.1,   2.5520,  34.9015,2,-999.0000,9,    241.9,2,    44.66,2,    22.40,2,     0.01,2,     1.44,2, -999.000,9, -999.000,9,   2202.6,2,   2350.8,2,   7.7374,    25.00,2,    92001,   2.1041
  06MT20030723,   539,  1,      2,2,20030816, 50.1410, -16.3830, 4704,   4815.8,   2.5518,  34.9017,2,-999.0000,9,    242.0,2,    45.10,2,    22.40,2,     0.00,2,     1.45,2,    0.059,3,    0.022,2,   -999.0,5,   -999.0,5,-999.0000,  -999.00,9,    92002,   2.1038
  06MT20030723,   539,  1,      3,2,20030816, 50.1410, -16.3830, 4704,   4689.2,   2.5431,  34.9029,2,-999.0000,9,    241.2,2,    44.98,2,    22.41,2,     0.00,2,     1.45,2,    0.059,3,    0.020,2,   2202.9,2,   2352.3,2,   7.7354,    25.00,2,    92003,   2.1112
  06MT20030723,   539,  1,      4,2,20030816, 50.1410, -16.3830, 4704,   4173.3,   2.5239,  34.9072,2,  34.9039,2,    241.7,2,    43.10,2,    22.23,2,     0.00,2,     1.43,2,    0.065,3,    0.026,2,   2198.4,2,   2350.6,2,   7.7374,    25.00,2,    92004,   2.1548
  06MT20030723,   539,  1,      5,2,20030816, 50.1410, -16.3830, 4704,   3659.8,   2.5754,  34.9177,2,-999.0000,9,    243.7,2,    39.92,2,    21.70,2,     0.00,2,     1.39,2,    0.076,3,    0.040,2,   2193.6,2,   2344.4,2,   7.7334,    25.00,2,    92005,   2.2634
  06MT20030723,   539,  1,      6,2,20030816, 50.1410, -16.3830, 4704,   3137.2,   2.7506,  34.9356,2,-999.0000,9,    250.2,2,    32.64,2,    20.48,2,     0.00,2,     1.28,2,    0.242,3,    0.122,2,   2183.0,2,   2335.4,2,   7.7384,    25.00,2,    92006,   2.4909
  06MT20030723,   539,  1,      7,2,20030816, 50.1410, -16.3830, 4704,   2635.6,   3.0488,  34.9478,2,  34.9484,2,    259.2,2,    22.13,2,    18.64,2,     0.00,2,     1.17,2,    0.812,3,    0.391,2,   2172.8,2,   2319.8,2,   7.7374,    25.00,2,    92007,   2.8344
  06MT20030723,   539,  1,      8,2,20030816, 50.1410, -16.3830, 4704,   2185.9,   3.3010,  34.9190,2,-999.0000,9,    274.0,2,    12.99,2,    17.25,2,     0.00,2,     1.06,2,    2.002,3,    0.970,2,   2156.4,2,   2303.6,2,   7.7344,    25.00,2,    92008,   3.1264
  06MT20030723,   539,  1,      9,2,20030816, 50.1410, -16.3830, 4704,   1923.4,   3.4232,  34.9019,2,-999.0000,9,   -999.0,5,  -999.00,5,  -999.00,5,  -999.00,5,  -999.00,5, -999.000,9, -999.000,9,   -999.0,5,   -999.0,5,-999.0000,  -999.00,9,    92009,   3.2716
  06MT20030723,   539,  1,     10,2,20030816, 50.1410, -16.3830, 4704,   1922.2,   3.4262,  34.9028,2,-999.0000,9,    278.4,2,    10.98,2,    17.20,2,     0.00,2,     1.05,2, -999.000,9, -999.000,9,   2156.6,2,   2298.6,2,   7.7325,    25.00,2,    92010,   3.2747
  06MT20030723,   539,  1,     11,2,20030816, 50.1410, -16.3830, 4704,   1718.3,   3.6771,  34.9171,2,-999.0000,9,    272.5,2,    10.90,2,    17.33,2,     0.00,2,     1.07,2,    2.637,3,    1.271,2,   2156.4,2,   2297.8,2,   7.7275,    25.00,2,    92011,   3.5409
  06MT20030723,   539,  1,     12,2,20030816, 50.1410, -16.3830, 4704,   1498.1,   4.1731,  34.9677,2,-999.0000,9,    260.9,2,    10.65,2,    17.56,2,     0.00,2,     1.09,2,    2.508,3,    1.213,2,   2159.5,2,   2302.3,2,   7.7266,    25.00,2,    92012,   4.0511
  06MT20030723,   539,  1,     13,2,20030816, 50.1410, -16.3830, 4704,   1423.4,   4.5424,  35.0177,2,-999.0000,9,    254.5,2,    10.70,2,    17.93,2,     0.00,2,     1.08,2,    2.425,3,    1.175,2,   2166.2,2,   2305.6,2,   7.7256,    25.00,2,    92013,   4.4232
  06MT20030723,   539,  1,     14,2,20030816, 50.1410, -16.3830, 4704,   1317.2,   5.0815,  35.0819,2,  35.0645,2,    244.9,2,    10.92,2,    18.14,2,     0.00,2,     1.10,2,    2.321,3,    1.142,2,   2170.2,2,   2311.6,2,   7.7265,    25.00,2,    92014,   4.9668
  06MT20030723,   539,  1,     15,2,20030816, 50.1410, -16.3830, 4704,   1212.1,   5.9759,  35.2085,2,-999.0000,9,    229.3,2,    10.95,2,    18.12,2,     0.00,2,     1.08,2,    1.944,3,    0.956,2,   2176.5,2,   2320.2,2,   7.7344,    25.00,2,    92015,   5.8629
  06MT20030723,   539,  1,     16,2,20030816, 50.1410, -16.3830, 4704,   1101.4,   6.4156,  35.2411,2,-999.0000,9,    223.2,2,    10.34,2,    18.23,2,     0.00,2,     1.09,2,    2.033,3,    1.011,2,   2177.7,2,   2322.8,2,   7.7324,    25.00,2,    92016,   6.3101
  06MT20030723,   539,  1,     17,2,20030816, 50.1410, -16.3830, 4704,    921.7,   7.4859,  35.2715,2,-999.0000,9,    210.3,2,     9.85,2,    18.45,2,     0.00,2,     1.10,2,    2.147,3,    1.092,2,   2179.4,2,   2322.2,2,   7.7295,    25.00,2,    92017,   7.3914
  06MT20030723,   539,  1,     18,2,20030816, 50.1410, -16.3830, 4704,    606.5,   9.2416,  35.2534,2,-999.0000,9,    204.8,2,     7.37,2,    16.98,2,     0.01,2,     0.98,2,    2.523,3,    1.327,2,   2163.8,2,   2318.6,2,   7.7561,    25.00,2,    92018,   9.1728
  06MT20030723,   539,  1,     19,2,20030816, 50.1410, -16.3830, 4704,    300.9,  10.8280,  35.4354,2,  35.4359,2,    247.3,2,     3.38,2,    11.01,2,     0.04,2,     0.59,2,    3.248,3,    1.811,2,   2134.1,2,   2326.8,2,   7.8381,    25.00,2,    92019,  10.7909
  06MT20030723,   539,  1,     20,2,20030816, 50.1410, -16.3830, 4704,     86.5,  12.1136,  35.5135,2,-999.0000,9,    242.4,2,     1.06,2,     8.67,2,     0.07,2,     0.43,2,    3.259,3,    1.850,2,   2124.6,2,   2334.4,2,   7.8688,    25.00,2,    92020,  12.1022
  06MT20030723,   539,  1,     21,2,20030816, 50.1410, -16.3830, 4704,     78.0,  12.5176,  35.5409,2,-999.0000,9,    247.0,2,     0.17,2,     5.11,2,     0.66,2,     0.31,2,    3.303,3,    1.857,2,   2113.3,2,   2335.3,2,   7.8955,    25.00,2,    92021,  12.5071
  06MT20030723,   539,  1,     22,2,20030816, 50.1410, -16.3830, 4704,     12.4,  16.8252,  35.4390,2,-999.0000,9,    253.8,2,     0.00,2,     0.00,2,     0.01,2,     0.02,2,    2.819,3,    1.639,2,   2049.0,2,   2332.9,2,   8.0086,    25.00,2,    92022,  16.8232
  06MT20030723,   540,  1,      1,2,20030816, 49.6740, -15.4250, 4626,   4739.3,   2.5406,  34.9015,2,  34.9063,2,    241.0,2,    44.94,2,    22.54,2,     0.01,2,     1.47,2, -999.000,9, -999.000,9,   2202.7,2,   2353.4,2,   7.7364,    25.00,2,    93001,   2.1025
  06MT20030723,   540,  1,      2,2,20030816, 49.6740, -15.4250, 4626,   4738.4,   2.5404,  34.9018,2,-999.0000,9,    241.6,2,    45.02,2,    22.54,2,     0.01,2,     1.48,2,    0.063,3,    0.021,2,   -999.0,5,   -999.0,5,-999.0000,  -999.00,9,    93002,   2.1025
  06MT20030723,   540,  1,      3,2,20030816, 49.6740, -15.4250, 4626,   4585.3,   2.5297,  34.9025,2,-999.0000,9,    242.7,2,    44.41,2,    22.48,2,     0.01,2,     1.47,2,    0.062,3,    0.023,2,   -999.0,5,   -999.0,5,-999.0000,  -999.00,9,    93003,   2.1110
  06MT20030723,   540,  1,      4,2,20030816, 49.6740, -15.4250, 4626,   4172.7,   2.5317,  34.9076,2,-999.0000,9,    243.1,2,    43.68,2,    22.23,2,     0.01,2,     1.46,2,    0.057,3,    0.028,2,   2199.1,2,   2347.8,2,   7.7384,    25.00,2,    93004,   2.1624
  06MT20030723,   540,  1,      5,2,20030816, 49.6740, -15.4250, 4626,   3765.6,   2.5829,  34.9173,2,-999.0000,9,    244.0,2,    40.35,2,    21.87,2,     0.00,2,     1.43,2,    0.065,3,    0.032,2,   2195.9,2,   2342.3,2,   7.7374,    25.00,2,    93005,   2.2589
  06MT20030723,   540,  1,      6,2,20030816, 49.6740, -15.4250, 4626,   3379.5,   2.6981,  34.9303,2,  34.9205,0,    247.1,2,    35.35,2,    21.06,2,     0.00,2,     1.38,2,    0.142,3,    0.071,2,   -999.0,5,   -999.0,5,-999.0000,  -999.00,9,    93006,   2.4137
  06MT20030723,   540,  1,      7,2,20030816, 49.6740, -15.4250, 4626,   2966.0,   2.8961,  34.9458,2,-999.0000,9,    251.0,2,    30.11,2,    20.12,2,     0.00,2,     1.29,2,    0.306,3,    0.147,2,   2181.9,2,   2331.6,2,   7.7403,    25.00,2,    93007,   2.6510
  06MT20030723,   540,  1,      8,2,20030816, 49.6740, -15.4250, 4626,   2532.7,   3.1166,  34.9395,2,-999.0000,9,    263.9,2,    19.42,2,    18.17,2,     0.00,2,     1.16,2,    1.108,3,    0.539,2,   2168.1,2,   2314.5,2,   7.7374,    25.00,2,    93008,   2.9113
  06MT20030723,   540,  1,      9,2,20030816, 49.6740, -15.4250, 4626,   2430.5,   3.1695,  34.9313,2,-999.0000,9,    267.4,2,    17.19,2,    17.84,2,     0.00,2,     1.14,2,    1.345,3,    0.652,2,   2170.4,2,   -999.0,5,-999.0000,  -999.00,9,    93009,   2.9733
  06MT20030723,   540,  1,     10,2,20030816, 49.6740, -15.4250, 4626,   2431.1,   3.1692,  34.9309,2,-999.0000,9,    268.1,2,    16.70,2,    17.78,2,     0.00,2,     1.13,2, -999.000,9, -999.000,9,   -999.0,5,   2310.4,2,   7.7374,    25.00,2,    93010,   2.9730
  06MT20030723,   540,  1,     11,2,20030816, 49.6740, -15.4250, 4626,   2243.7,   3.2882,  34.9202,2,-999.0000,9,    273.0,2,    14.11,2,    17.45,2,     0.00,2,     1.11,2,    1.921,3,    0.932,2,   -999.0,5,   -999.0,5,-999.0000,  -999.00,9,    93011,   3.1082
  06MT20030723,   540,  1,     12,2,20030816, 49.6740, -15.4250, 4626,   2148.2,   3.3356,  34.9124,2,-999.0000,9,    276.4,2,    12.55,2,    17.33,2,     0.00,2,     1.10,2,    2.250,3,    1.083,2,   2157.7,2,   2302.8,2,   7.7344,    25.00,2,    93012,   3.1641
  06MT20030723,   540,  1,     13,2,20030816, 49.6740, -15.4250, 4626,   1944.9,   3.5892,  34.9207,2,-999.0000,9,    273.5,2,    11.28,2,    17.46,2,     0.00,2,     1.10,2,    2.466,3,    1.179,2,   2158.3,2,   2300.7,2,   7.7305,    25.00,2,    93013,   3.4331
  06MT20030723,   540,  1,     14,2,20030816, 49.6740, -15.4250, 4626,   1743.9,   3.8623,  34.9322,2,  34.9277,2,    269.6,2,    10.51,2,    17.27,2,     0.00,2,     1.10,2,    2.697,3,    1.293,2,   2159.6,2,   2300.3,2,   7.7256,    25.00,2,    93014,   3.7213
  06MT20030723,   540,  1,     15,2,20030816, 49.6740, -15.4250, 4626,   1546.3,   4.3523,  34.9802,2,-999.0000,9,    258.8,2,    10.43,2,    17.94,2,     0.00,2,     1.12,2,    2.733,3,    1.330,2,   2162.7,2,   2303.5,2,   7.7226,    25.00,2,    93015,   4.2237
  06MT20030723,   540,  1,     16,2,20030816, 49.6740, -15.4250, 4626,   1417.3,   5.1068,  35.0767,2,-999.0000,9,    244.7,2,    10.66,2,    18.21,2,     0.00,2,     1.13,2,    2.367,3,    1.167,2,   2175.7,2,   2309.5,2,   7.7255,    25.00,2,    93016,   4.9821
  06MT20030723,   540,  1,     17,2,20030816, 49.6740, -15.4250, 4626,   1321.2,   5.7084,  35.1545,2,-999.0000,9,    234.2,2,    10.48,2,    18.30,2,     0.00,2,     1.13,2,    2.200,3,    1.084,2,   2172.7,2,   2316.8,2,   7.7285,    25.00,2,    93017,   5.5869
  06MT20030723,   540,  1,     18,2,20030816, 49.6740, -15.4250, 4626,   1204.4,   6.3989,  35.2106,2,-999.0000,9,    223.0,2,    10.41,2,    18.36,2,     0.00,2,     1.11,2,    2.102,3,    1.050,2,   2176.8,2,   2320.6,2,   7.7314,    25.00,2,    93018,   6.2829
  06MT20030723,   540,  1,     19,2,20030816, 49.6740, -15.4250, 4626,   1113.3,   7.1274,  35.2929,2,-999.0000,9,    212.2,2,     9.95,2,    18.44,2,     0.00,2,     1.10,2,    2.058,3,    1.043,2,   2186.9,2,   2327.2,2,   7.7324,    25.00,2,    93019,   7.0147
  06MT20030723,   540,  1,     20,2,20030816, 49.6740, -15.4250, 4626,    810.9,   9.2924,  35.4041,2,-999.0000,9,    193.6,2,     8.07,2,    17.48,2,     0.00,2,     1.01,2,    2.104,3,    1.094,2,   2173.6,2,   2329.0,2,   7.7521,    25.00,2,    93020,   9.1990
  06MT20030723,   540,  1,     21,2,20030816, 49.6740, -15.4250, 4626,    383.2,  11.2682,  35.5419,2,-999.0000,9,    242.7,2,     2.92,2,    10.24,2,     0.01,2,     0.53,2,    3.303,3,    1.818,2,   2134.8,2,   2329.8,2,   7.8391,    25.00,2,    93021,  11.2195
  06MT20030723,   540,  1,     22,2,20030816, 49.6740, -15.4250, 4626,     24.5,  16.4515,  35.6155,2,  35.6095,2,    252.5,2,     0.00,2,     0.00,2,     0.01,2,     0.04,2,    2.797,3,    1.613,2,   2050.5,2,   2342.4,2,   8.0175,    25.00,2,    93022,  16.4475
  06MT20030723,   541,  1,      1,2,20030816, 49.2090, -14.4410, 4500,   4605.1,   2.5191,  34.9008,2,-999.0000,9,    242.3,2,    45.43,2,    22.72,2,     0.01,2,     1.47,2, -999.000,9, -999.000,9,   2202.7,2,   2354.0,2,   7.7384,    25.00,2,    94001,   2.0983
  06MT20030723,   541,  1,      2,2,20030816, 49.2090, -14.4410, 4500,   4605.4,   2.5190,  34.9007,2,-999.0000,9,    241.6,2,    45.58,2,    22.46,2,     0.01,2,     1.48,2,    0.115,3,    0.049,2,   -999.0,5,   -999.0,5,-999.0000,  -999.00,9,    94002,   2.0982
  06MT20030723,   541,  1,      3,2,20030816, 49.2090, -14.4410, 4500,   4483.1,   2.5121,  34.9023,2,-999.0000,9,    241.6,2,    44.46,2,    22.02,2,     0.00,2,     1.48,2,    0.060,3,    0.023,2,   2202.8,2,   2350.7,2,   7.7394,    25.00,2,    94003,   2.1064
  06MT20030723,   541,  1,      4,2,20030816, 49.2090, -14.4410, 4500,   4055.3,   2.5129,  34.9069,2,  34.9087,2,    243.6,2,    43.12,2,    22.19,2,     0.00,2,     1.46,2,    0.059,3,    0.028,2,   2199.0,2,   2347.0,2,   7.7384,    25.00,2,    94004,   2.1578
  06MT20030723,   541,  1,      5,2,20030816, 49.2090, -14.4410, 4500,   3657.3,   2.5556,  34.9161,2,-999.0000,9,    244.3,2,    40.83,2,    22.01,2,     0.00,2,     1.44,2,    0.068,3,    0.038,2,   2195.4,2,   2344.8,2,   7.7364,    25.00,2,    94005,   2.2444
  06MT20030723,   541,  1,      6,2,20030816, 49.2090, -14.4410, 4500,   3246.4,   2.6598,  34.9280,2,-999.0000,9,    257.7,2,    35.10,2,    21.08,2,     0.01,2,     1.38,2, -999.000,9, -999.000,9,   2188.6,2,   2338.3,2,   7.7433,    25.00,2,    94006,   2.3906
  06MT20030723,   541,  1,      7,2,20030816, 49.2090, -14.4410, 4500,   2838.9,   2.8390,  34.9434,2,  34.9454,2,    252.4,2,    30.57,2,    20.05,2,     0.00,2,     1.31,2,    0.282,3,    0.137,2,   2182.6,2,   2328.5,2,   7.7403,    25.00,2,    94007,   2.6082
  06MT20030723,   541,  1,      8,2,20030816, 49.2090, -14.4410, 4500,   2445.9,   3.0970,  34.9529,2,-999.0000,9,    258.3,2,    23.38,2,    18.83,2,     0.00,2,     1.22,2,    0.646,3,    0.316,2,   2173.0,2,   2319.2,2,   7.7394,    25.00,2,    94008,   2.9005
  06MT20030723,   541,  1,      9,2,20030816, 49.2090, -14.4410, 4500,   2125.7,   3.2946,  34.9408,2,-999.0000,9,   -999.0,5,  -999.00,5,  -999.00,5,  -999.00,5,  -999.00,5, -999.000,9, -999.000,9,   -999.0,5,   -999.0,5,-999.0000,  -999.00,9,    94009,   3.1258
  06MT20030723,   541,  1,     10,2,20030816, 49.2090, -14.4410, 4500,   2114.3,   3.3320,  34.9459,2,  34.9386,2,    266.7,2,    16.81,2,    18.10,2,     0.00,2,     1.16,2,    1.390,3,    0.680,2,   2164.6,2,   2313.8,2,   7.7384,    25.00,2,    94010,   3.1637
  06MT20030723,   541,  1,     11,2,20030816, 49.2090, -14.4410, 4500,   1938.2,   3.4833,  34.9389,2,-999.0000,9,    269.3,2,    14.29,2,    17.86,2,     0.00,2,     1.12,2,    1.829,3,    0.892,2,   2161.7,2,   2304.9,2,   7.7374,    25.00,2,    94011,   3.3293
  06MT20030723,   541,  1,     12,2,20030816, 49.2090, -14.4410, 4500,   1718.3,   3.9903,  34.9787,2,-999.0000,9,    263.2,2,    12.81,2,    17.86,2,     0.00,2,     1.12,2,    2.023,3,    0.984,2,   2164.0,2,   2307.8,2,   7.7325,    25.00,2,    94012,   3.8499
  06MT20030723,   541,  1,     13,2,20030816, 49.2090, -14.4410, 4500,   1530.3,   5.1004,  35.1199,2,-999.0000,9,    244.5,2,    12.46,2,    18.05,2,     0.00,2,     1.11,2,    1.834,3,    0.917,2,   2171.2,2,   2318.2,2,   7.7334,    25.00,2,    94013,   4.9645
  06MT20030723,   541,  1,     14,2,20030816, 49.2090, -14.4410, 4500,   1315.3,   6.5883,  35.3071,2,-999.0000,9,    222.8,2,    10.69,2,    18.09,2,     0.00,2,     1.09,2,    1.783,3,    0.888,2,   2178.1,2,   2326.1,2,   7.7413,    25.00,2,    94014,   6.4586
  06MT20030723,   541,  1,     15,2,20030816, 49.2090, -14.4410, 4500,   1238.5,   7.2900,  35.4042,2,-999.0000,9,    213.9,2,     9.20,2,    17.98,2,     0.00,2,     1.08,2,    1.763,3,    0.885,2,   2181.1,2,   2333.2,2,   7.7452,    25.00,2,    94015,   7.1620
  06MT20030723,   541,  1,     16,2,20030816, 49.2090, -14.4410, 4500,   1005.6,   8.5218,  35.4700,2,-999.0000,9,    197.7,2,     9.28,2,    18.05,2,     0.00,2,     1.07,2,    1.814,3,    0.922,2,   2182.9,2,   2338.4,2,   7.7491,    25.00,2,    94016,   8.4103
  06MT20030723,   541,  1,     17,2,20030816, 49.2090, -14.4410, 4500,    790.6,   9.9111,  35.5386,2,  35.5908,0,    192.9,2,     7.15,2,    16.16,2,     0.00,2,     0.94,2,    2.035,3,    1.051,2,   2176.5,2,   2338.9,2,   7.7738,    25.00,2,    94017,   9.8165
  06MT20030723,   541,  1,     18,2,20030816, 49.2090, -14.4410, 4500,    511.7,  10.8777,  35.5062,2,-999.0000,9,    229.0,2,     3.74,2,    12.42,2,     0.01,2,     0.68,2,    3.106,3,    1.677,2,   2144.8,2,   2328.7,2,   7.8183,    25.00,2,    94018,  10.8138
  06MT20030723,   541,  1,     19,2,20030816, 49.2090, -14.4410, 4500,    185.3,  11.6536,  35.5953,2,-999.0000,9,    246.0,2,     1.96,2,     9.65,2,     0.02,2,     0.51,2,    3.294,3,    1.818,2,   2130.9,2,   2333.2,2,   7.8529,    25.00,2,    94019,  11.6297
  06MT20030723,   541,  1,     20,2,20030816, 49.2090, -14.4410, 4500,    105.3,  12.0815,  35.6303,2,-999.0000,9,    240.7,2,     1.13,2,     8.86,2,     0.04,2,     0.45,2,    3.314,3,    1.844,2,   2129.5,2,   2334.5,2,   7.8618,    25.00,2,    94020,  12.0677
  06MT20030723,   541,  1,     21,2,20030816, 49.2090, -14.4410, 4500,     66.8,  12.4658,  35.5999,2,-999.0000,9,    236.8,2,     0.70,2,     7.50,2,     0.61,2,     0.36,2,    3.274,3,    1.835,2,   2123.7,2,   2334.0,2,   7.8707,    25.00,2,    94021,  12.4569
  06MT20030723,   541,  1,     22,2,20030816, 49.2090, -14.4410, 4500,     10.5,  18.4243,  35.6214,2,-999.0000,9,    242.5,2,     0.00,2,     0.00,2,     0.01,2,     0.16,2,    2.605,3,    1.520,2,   2049.5,2,   2343.2,2,   8.0215,    25.00,2,    94022,  18.4225