BOTTLE,20090513PRINUNIVRMK
EXPOCODE,STNNBR,CASTNO,BTLNBR,BTLNBR_FLAG_W,DATE,LATITUDE,LONGITUDE,DEPTH,CTDPRS,CTDTMP,CTDSAL,CTDSAL_FLAG_W,SALNTY,SALNTY_FLAG_W,OXYGEN,OXYGEN_FLAG_W,SILCAT,SILCAT_FLAG_W,NITRAT,NITRAT_FLAG_W,NITRIT,NITRIT_FLAG_W,PHSPHT,PHSPHT_FLAG_W,CFC-11,CFC-11_FLAG_W,CFC-12,CFC-12_FLAG_W,TCARBN,TCARBN_FLAG_W,ALKALI,ALKALI_FLAG_W,PH_SWS,PH_TEMP,PH_SWS_FLAG_W,ID,THETA
,,,,,,,,METERS,DBARS,ITS-90,PSS-78,,PSS-78,,UMOL/KG,,UMOL/KG,,UMOL/KG,,UMOL/KG,,UMOL/KG,,PMOL/KG,,PMOL/KG,,UMOL/KG,,UMOL/KG,,,DEGC,,,DEGC
  06MT20030723,   548,  1,      1,2,20030818, 47.9820, -20.0490, 4300,   4392.4,   2.5573,  34.9075,2,-999.0000,9,    241.9,2,    42.98,2,    22.58,2,     0.00,2,     1.47,2, -999.000,9, -999.000,9,   2203.9,2,   2349.8,2,   7.7374,    25.00,2,   101001,   2.1611
  06MT20030723,   548,  1,      2,2,20030818, 47.9820, -20.0490, 4300,   4392.2,   2.5572,  34.9073,2,-999.0000,9,    242.1,2,    43.81,2,    22.59,2,     0.00,2,     1.47,2,    0.065,3,    0.029,2,   -999.0,5,   -999.0,5,-999.0000,  -999.00,9,   101002,   2.1610
  06MT20030723,   548,  1,      3,2,20030818, 47.9820, -20.0490, 4300,   4274.7,   2.5501,  34.9082,2,-999.0000,9,    241.6,2,    43.59,2,    22.32,2,     0.00,2,     1.46,2,    0.068,3,    0.028,2,   2204.3,2,   2348.1,2,   7.7364,    25.00,2,   101003,   2.1682
  06MT20030723,   548,  1,      4,2,20030818, 47.9820, -20.0490, 4300,   3863.6,   2.5484,  34.9127,2,  34.9138,2,    244.0,2,    42.00,2,    21.87,2,     0.00,2,     1.43,2,    0.104,3,    0.050,2,   2202.7,2,   2345.2,2,   7.7354,    25.00,2,   101004,   2.2143
  06MT20030723,   548,  1,      5,2,20030818, 47.9820, -20.0490, 4300,   3453.4,   2.6199,  34.9234,2,-999.0000,9,    247.2,2,    36.75,2,    21.05,2,     0.00,2,     1.38,2,    0.227,3,    0.111,2,   2194.8,2,   2342.7,2,   7.7344,    25.00,2,   101005,   2.3295
  06MT20030723,   548,  1,      6,2,20030818, 47.9820, -20.0490, 4300,   3043.8,   2.8050,  34.9400,2,-999.0000,9,    266.7,4,    19.16,2,    17.91,2,     0.00,2,     1.14,2, -999.000,9, -999.000,9,   -999.0,5,   -999.0,5,-999.0000,  -999.00,9,   101006,   2.5538
  06MT20030723,   548,  1,      7,2,20030818, 47.9820, -20.0490, 4300,   2736.0,   2.9637,  34.9424,2,  34.9443,2,    266.6,2,    19.10,2,    17.94,2,     0.00,2,     1.16,2,    1.259,3,    0.625,2,   2171.2,2,   2313.8,2,   7.7364,    25.00,2,   101007,   2.7409
  06MT20030723,   548,  1,      8,2,20030818, 47.9820, -20.0490, 4300,   2319.2,   3.1678,  34.9203,2,-999.0000,9,    275.9,2,    13.04,2,    16.85,2,     0.00,2,     1.09,2,    1.951,3,    0.963,2,   2160.1,2,   2301.9,2,   7.7354,    25.00,2,   101008,   2.9826
  06MT20030723,   548,  1,      9,2,20030818, 47.9820, -20.0490, 4300,   2126.8,   3.2224,  34.9013,2,-999.0000,9,    281.2,2,    11.51,2,    17.14,2,     0.00,2,     1.08,2,    2.432,3,    1.197,2,   2159.4,2,   2299.0,2,   7.7354,    25.00,2,   101009,   3.0548
  06MT20030723,   548,  1,     10,2,20030818, 47.9820, -20.0490, 4300,   2124.0,   3.2224,  34.9010,2,-999.0000,9,    280.7,2,    11.41,2,    17.14,2,     0.00,2,     1.09,2, -999.000,9, -999.000,9,   2157.8,2,   2297.3,2,   7.7364,    25.00,2,   101010,   3.0550
  06MT20030723,   548,  1,     11,2,20030818, 47.9820, -20.0490, 4300,   1908.2,   3.3124,  34.8928,2,-999.0000,9,    281.9,2,    10.71,2,    17.18,2,     0.00,2,     1.09,2,    2.698,3,    1.328,2,   2157.8,2,   2296.6,2,   7.7315,    25.00,2,   101011,   3.1638
  06MT20030723,   548,  1,     12,2,20030818, 47.9820, -20.0490, 4300,   1724.0,   3.4978,  34.9017,2,-999.0000,9,    278.1,2,    10.60,2,    17.23,2,     0.00,2,     1.11,2, -999.000,9, -999.000,9,   2158.6,2,   2296.8,2,   7.7295,    25.00,2,   101012,   3.3635
  06MT20030723,   548,  1,     13,2,20030818, 47.9820, -20.0490, 4300,   1538.5,   3.7794,  34.9239,2,-999.0000,9,    271.2,2,    10.58,2,    17.48,2,     0.00,2,     1.12,2,    2.621,3,    1.310,2,   2161.8,2,   2296.5,2,   7.7256,    25.00,2,   101013,   3.6583
  06MT20030723,   548,  1,     14,2,20030818, 47.9820, -20.0490, 4300,   1420.0,   3.9734,  34.9407,2,-999.0000,9,    268.3,2,    10.61,2,    17.65,2,     0.00,2,     1.12,2,    2.651,3,    1.330,2,   2163.2,2,   2299.4,2,   7.7246,    25.00,2,   101014,   3.8608
  06MT20030723,   548,  1,     15,2,20030818, 47.9820, -20.0490, 4300,   1348.8,   4.1535,  34.9570,2,  34.9555,2,    263.4,2,    10.62,2,    17.90,2,     0.00,2,     1.14,2,    2.647,3,    1.332,2,   2164.8,2,   2301.0,2,   7.7226,    25.00,2,   101015,   4.0454
  06MT20030723,   548,  1,     16,2,20030818, 47.9820, -20.0490, 4300,   1279.5,   4.4156,  34.9814,2,-999.0000,9,    257.6,2,    10.44,2,    18.07,2,     0.00,2,     1.14,2,    2.637,3,    1.326,2,   2168.5,2,   2302.2,2,   7.7236,    25.00,2,   101016,   4.3111
  06MT20030723,   548,  1,     17,2,20030818, 47.9820, -20.0490, 4300,   1207.2,   4.7254,  35.0149,2,-999.0000,9,    251.6,2,    10.50,2,    18.20,2,     0.00,2,     1.15,2,    2.563,3,    1.301,2,   2168.3,2,   2306.8,2,   7.7236,    25.00,2,   101017,   4.6245
  06MT20030723,   548,  1,     18,2,20030818, 47.9820, -20.0490, 4300,   1061.5,   5.5168,  35.1017,2,-999.0000,9,    237.6,2,    10.32,2,    18.48,2,     0.00,2,     1.15,2,    2.384,3,    1.223,2,   2174.3,2,   2310.5,2,   7.7236,    25.00,2,   101018,   5.4227
  06MT20030723,   548,  1,     19,2,20030818, 47.9820, -20.0490, 4300,    815.0,   6.9772,  35.1755,2,-999.0000,9,    209.4,2,     9.95,2,    19.08,2,     0.00,2,     1.23,2,    2.073,3,    1.075,2,   2180.2,2,   2315.5,2,   7.7216,    25.00,2,   101019,   6.8974
  06MT20030723,   548,  1,     20,2,20030818, 47.9820, -20.0490, 4300,    473.6,   9.5627,  35.2521,2,-999.0000,9,    207.5,2,     6.90,2,    16.36,2,     0.01,2,     0.96,2,    2.562,3,    1.417,2,   2160.6,2,   2317.2,2,   7.7670,    25.00,2,   101020,   9.5083
  06MT20030723,   548,  1,     21,2,20030818, 47.9820, -20.0490, 4300,    198.0,  11.5872,  35.5466,2,-999.0000,9,    239.9,2,     2.94,2,    10.37,2,     0.01,2,     0.58,2,    3.086,3,    1.763,2,   2134.0,2,   2332.8,2,   7.8480,    25.00,2,   101021,  11.5618
  06MT20030723,   548,  1,     22,2,20030818, 47.9820, -20.0490, 4300,     12.9,  16.7775,  35.4762,2,  35.4829,2,    251.6,2,     0.00,2,     0.00,2,     0.01,2,     0.04,2,    2.695,3,    1.599,2,   2048.8,2,   2331.7,2,   8.0136,    25.00,2,   101022,  16.7754
  06MT20030723,   549,  1,      1,2,20030818, 47.8330, -21.1850, 4446,   4543.5,   2.5673,  34.9064,2,  34.9094,2,    241.5,2,    44.15,2,    22.17,2,     0.00,2,     1.36,2, -999.000,9, -999.000,9,   2204.8,2,   2346.4,2,   7.7364,    25.00,2,   102001,   2.1525
  06MT20030723,   549,  1,      2,2,20030818, 47.8330, -21.1850, 4446,   4543.7,   2.5675,  34.9066,2,-999.0000,9,   -999.0,5,  -999.00,5,  -999.00,5,  -999.00,5,  -999.00,5,    0.066,3,    0.028,2,   -999.0,5,   -999.0,5,-999.0000,  -999.00,9,   102002,   2.1527
  06MT20030723,   549,  1,      3,2,20030818, 47.8330, -21.1850, 4446,   4376.7,   2.5699,  34.9085,2,-999.0000,9,    241.3,2,    43.53,2,    21.99,2,     0.00,2,     1.43,2,    0.066,3,    0.034,2,   2203.1,2,   2346.0,2,   7.7364,    25.00,2,   102003,   2.1752
  06MT20030723,   549,  1,      4,2,20030818, 47.8330, -21.1850, 4446,   3965.5,   2.5743,  34.9138,2,-999.0000,9,   -999.0,5,  -999.00,5,  -999.00,5,  -999.00,5,  -999.00,5,    0.124,3,    0.063,2,   -999.0,5,   -999.0,5,-999.0000,  -999.00,9,   102004,   2.2278
  06MT20030723,   549,  1,      5,2,20030818, 47.8330, -21.1850, 4446,   3554.1,   2.6659,  34.9265,2,-999.0000,9,   -999.0,5,  -999.00,5,  -999.00,5,  -999.00,5,  -999.00,5,    0.283,3,    0.144,2,   -999.0,5,   -999.0,5,-999.0000,  -999.00,9,   102005,   2.3633
  06MT20030723,   549,  1,      6,2,20030818, 47.8330, -21.1850, 4446,   3071.6,   2.8947,  34.9427,2,-999.0000,9,   -999.0,5,  -999.00,5,  -999.00,5,  -999.00,5,  -999.00,5, -999.000,9, -999.000,9,   -999.0,5,   -999.0,5,-999.0000,  -999.00,9,   102006,   2.6386
  06MT20030723,   549,  1,      7,2,20030818, 47.8330, -21.1850, 4446,   2740.9,   3.0815,  34.9362,2,  34.9358,2,    269.5,2,  -999.00,5,  -999.00,5,  -999.00,5,  -999.00,5,    1.454,3,    0.734,2,   -999.0,5,   -999.0,5,-999.0000,  -999.00,9,   102007,   2.8559
  06MT20030723,   549,  1,      8,2,20030818, 47.8330, -21.1850, 4446,   2328.5,   3.2235,  34.9027,2,-999.0000,9,   -999.0,5,  -999.00,5,  -999.00,5,  -999.00,5,  -999.00,5,    2.275,3,    1.139,2,   -999.0,5,   -999.0,5,-999.0000,  -999.00,9,   102008,   3.0365
  06MT20030723,   549,  1,      9,2,20030818, 47.8330, -21.1850, 4446,   2146.8,   3.2826,  34.8917,2,-999.0000,9,   -999.0,5,  -999.00,5,  -999.00,5,  -999.00,5,  -999.00,5,    2.608,3,    1.302,2,   -999.0,5,   -999.0,5,-999.0000,  -999.00,9,   102009,   3.1121
  06MT20030723,   549,  1,     10,2,20030818, 47.8330, -21.1850, 4446,   2145.3,   3.2830,  34.8920,2,-999.0000,9,   -999.0,5,  -999.00,5,  -999.00,5,  -999.00,5,  -999.00,5, -999.000,9, -999.000,9,   -999.0,5,   -999.0,5,-999.0000,  -999.00,9,   102010,   3.1127
  06MT20030723,   549,  1,     11,2,20030818, 47.8330, -21.1850, 4446,   1949.1,   3.4064,  34.8948,2,-999.0000,9,    279.8,2,  -999.00,5,  -999.00,5,  -999.00,5,  -999.00,5,    2.758,3,    1.383,2,   -999.0,5,   -999.0,5,-999.0000,  -999.00,9,   102011,   3.2527
  06MT20030723,   549,  1,     12,2,20030818, 47.8330, -21.1850, 4446,   1685.6,   3.6390,  34.9051,2,-999.0000,9,   -999.0,5,  -999.00,5,  -999.00,5,  -999.00,5,  -999.00,5,    2.829,3,    1.428,2,   -999.0,5,   -999.0,5,-999.0000,  -999.00,9,   102012,   3.5064
  06MT20030723,   549,  1,     13,2,20030818, 47.8330, -21.1850, 4446,   1425.2,   4.2325,  34.9633,2,  34.9657,2,   -999.0,5,  -999.00,5,  -999.00,5,  -999.00,5,  -999.00,5,    2.626,3,    1.333,2,   -999.0,5,   -999.0,5,-999.0000,  -999.00,9,   102013,   4.1166
  06MT20030723,   549,  1,     14,2,20030818, 47.8330, -21.1850, 4446,   1295.8,   4.6064,  34.9960,2,-999.0000,9,   -999.0,5,  -999.00,5,  -999.00,5,  -999.00,5,  -999.00,5,    2.673,3,    1.372,2,   -999.0,5,   -999.0,5,-999.0000,  -999.00,9,   102014,   4.4985
  06MT20030723,   549,  1,     15,2,20030818, 47.8330, -21.1850, 4446,   1217.0,   5.1721,  35.0712,2,-999.0000,9,   -999.0,5,  -999.00,5,  -999.00,5,  -999.00,5,  -999.00,5,    2.443,3,    1.254,2,   -999.0,5,   -999.0,5,-999.0000,  -999.00,9,   102015,   5.0661
  06MT20030723,   549,  1,     16,2,20030818, 47.8330, -21.1850, 4446,   1149.8,   5.6290,  35.1271,2,-999.0000,9,   -999.0,5,  -999.00,5,  -999.00,5,  -999.00,5,  -999.00,5,    2.287,3,    1.173,2,   -999.0,5,   -999.0,5,-999.0000,  -999.00,9,   102016,   5.5254
  06MT20030723,   549,  1,     17,2,20030818, 47.8330, -21.1850, 4446,   1061.0,   6.0106,  35.1524,2,-999.0000,9,    227.7,2,  -999.00,5,  -999.00,5,  -999.00,5,  -999.00,5,    2.220,3,    1.150,2,   -999.0,5,   -999.0,5,-999.0000,  -999.00,9,   102017,   5.9126
  06MT20030723,   549,  1,     18,2,20030818, 47.8330, -21.1850, 4446,    873.0,   7.1825,  35.1740,2,-999.0000,9,   -999.0,5,  -999.00,5,  -999.00,5,  -999.00,5,  -999.00,5,    2.086,3,    1.091,2,   -999.0,5,   -999.0,5,-999.0000,  -999.00,9,   102018,   7.0953
  06MT20030723,   549,  1,     19,2,20030818, 47.8330, -21.1850, 4446,    512.0,  10.5463,  35.3776,2,-999.0000,9,   -999.0,5,  -999.00,5,  -999.00,5,  -999.00,5,  -999.00,5,    3.108,3,    1.792,2,   -999.0,5,   -999.0,5,-999.0000,  -999.00,9,   102019,  10.4836
  06MT20030723,   549,  1,     20,2,20030818, 47.8330, -21.1850, 4446,    299.0,  11.9249,  35.5977,2,  35.5918,2,   -999.0,5,  -999.00,5,  -999.00,5,  -999.00,5,  -999.00,5,    2.887,3,    1.683,2,   -999.0,5,   -999.0,5,-999.0000,  -999.00,9,   102020,  11.8856
  06MT20030723,   549,  1,     21,2,20030818, 47.8330, -21.1850, 4446,    101.1,  13.5507,  35.8480,2,-999.0000,9,   -999.0,5,  -999.00,5,  -999.00,5,  -999.00,5,  -999.00,5,    2.781,3,    1.637,2,   -999.0,5,   -999.0,5,-999.0000,  -999.00,9,   102021,  13.5363
  06MT20030723,   549,  1,     22,2,20030818, 47.8330, -21.1850, 4446,     15.1,  17.0621,  35.6426,2,-999.0000,9,    246.7,2,  -999.00,5,  -999.00,5,  -999.00,5,  -999.00,5,    2.612,3,    1.565,2,   -999.0,5,   -999.0,5,-999.0000,  -999.00,9,   102022,  17.0596
  06MT20030723,   550,  1,      1,2,20030819, 47.7080, -22.0610, 4440,   4533.7,   2.5941,  34.9090,2,  34.9059,2,    241.4,2,    43.42,2,    21.97,2,     0.01,2,     1.42,2, -999.000,9, -999.000,9,   2198.7,2,   2347.5,2,   7.7354,    25.00,2,   103001,   2.1797
  06MT20030723,   550,  1,      2,2,20030819, 47.7080, -22.0610, 4440,   4533.0,   2.5941,  34.9087,2,-999.0000,9,    241.6,2,    43.23,2,    21.61,2,     0.01,2,     1.40,2,    0.072,3,    0.034,2,   -999.0,5,   -999.0,5,-999.0000,  -999.00,9,   103002,   2.1797
  06MT20030723,   550,  1,      3,2,20030819, 47.7080, -22.0610, 4440,   4379.9,   2.5865,  34.9099,2,-999.0000,9,    241.6,2,    42.74,2,    21.80,2,     0.01,2,     1.39,2,    0.082,3,    0.039,2,   2201.1,2,   2347.2,2,   7.7344,    25.00,2,   103003,   2.1909
  06MT20030723,   550,  1,      4,2,20030819, 47.7080, -22.0610, 4440,   3952.7,   2.5822,  34.9142,2,-999.0000,9,    245.0,2,    40.14,2,    21.68,2,     0.01,2,     1.35,2,    0.152,3,    0.081,2,   2197.1,2,   2340.0,2,   7.7354,    25.00,2,   103004,   2.2370
  06MT20030723,   550,  1,      5,2,20030819, 47.7080, -22.0610, 4440,   3544.4,   2.6637,  34.9257,2,-999.0000,9,    249.4,2,    34.51,2,    20.63,2,     0.01,2,     1.31,2,    0.361,3,    0.189,2,   2189.8,2,   2332.8,2,   7.7384,    25.00,2,   103005,   2.3622
  06MT20030723,   550,  1,      6,2,20030819, 47.7080, -22.0610, 4440,   3154.0,   2.8423,  34.9409,2,-999.0000,9,    247.6,4,     0.27,4,     0.87,4,     0.03,4,     0.06,4, -999.000,9, -999.000,9,   -999.0,5,   2341.2,4,   7.9987,    25.00,3,   103006,   2.5787
  06MT20030723,   550,  1,      7,2,20030819, 47.7080, -22.0610, 4440,   2736.8,   3.0896,  34.9365,2,  34.9327,2,    271.1,2,    15.95,2,    17.29,2,     0.01,2,     1.06,2,    1.503,3,    0.768,2,   2164.8,2,   2303.5,2,   7.7364,    25.00,2,   103007,   2.8642
  06MT20030723,   550,  1,      8,2,20030819, 47.7080, -22.0610, 4440,   2431.1,   3.1857,  34.9103,2,-999.0000,9,    279.2,2,    11.91,2,    16.95,2,     0.01,2,     1.03,2,    2.214,3,    1.127,2,   2155.8,2,   2299.2,2,   7.7374,    25.00,2,   103008,   2.9893
  06MT20030723,   550,  1,      9,2,20030819, 47.7080, -22.0610, 4440,   2226.8,   3.2216,  34.8916,2,-999.0000,9,    283.4,2,    10.59,2,    16.98,2,     0.00,2,     1.03,2,    2.658,3,    1.363,2,   2159.4,2,   2299.5,2,   7.7345,    25.00,2,   103009,   3.0445
  06MT20030723,   550,  1,     10,2,20030819, 47.7080, -22.0610, 4440,   2220.3,   3.2211,  34.8911,2,-999.0000,9,    283.0,2,    10.74,2,    16.88,2,     0.00,2,     1.02,2, -999.000,9, -999.000,9,   2153.5,2,   2295.1,2,   7.7345,    25.00,2,   103010,   3.0446
  06MT20030723,   550,  1,     11,2,20030819, 47.7080, -22.0610, 4440,   1999.6,   3.3059,  34.8865,2,-999.0000,9,    283.3,2,    10.36,2,    16.92,2,     0.00,2,     1.02,2,    2.806,3,    1.432,2,   2155.5,2,   2295.6,2,   7.7335,    25.00,2,   103011,   3.1490
  06MT20030723,   550,  1,     12,2,20030819, 47.7080, -22.0610, 4440,   1824.4,   3.4502,  34.8929,2,  34.8892,2,    280.4,2,    10.29,2,    17.09,2,     0.00,2,     1.04,2,    2.815,3,    1.438,2,   2157.4,2,   2300.2,2,   7.7285,    25.00,2,   103012,   3.3074
  06MT20030723,   550,  1,     13,2,20030819, 47.7080, -22.0610, 4440,   1645.0,   3.6493,  34.9052,2,-999.0000,9,    276.8,2,    10.37,2,    17.05,2,     0.00,2,     1.05,2,    2.805,3,    1.440,2,   2157.6,2,   2297.5,2,   7.7275,    25.00,2,   103013,   3.5202
  06MT20030723,   550,  1,     14,2,20030819, 47.7080, -22.0610, 4440,   1443.2,   4.0972,  34.9446,2,-999.0000,9,    266.0,2,    10.36,2,    17.60,2,     0.00,2,     1.07,2,    2.722,3,    1.415,2,   2161.6,2,   2298.2,2,   7.7236,    25.00,2,   103014,   3.9811
  06MT20030723,   550,  1,     15,2,20030819, 47.7080, -22.0610, 4440,   1326.2,   4.5008,  34.9856,2,-999.0000,9,    256.6,2,    10.32,2,    17.89,2,     0.00,2,     1.08,2,    2.643,3,    1.375,2,   2164.9,2,   2301.0,2,   7.7206,    25.00,2,   103015,   4.3911
  06MT20030723,   550,  1,     16,2,20030819, 47.7080, -22.0610, 4440,   1244.4,   4.8331,  35.0249,2,-999.0000,9,    250.8,2,    10.19,2,    18.11,2,     0.00,2,     1.09,2,    2.530,3,    1.324,2,   2175.4,2,   2304.4,2,   7.7236,    25.00,2,   103016,   4.7278
  06MT20030723,   550,  1,     17,2,20030819, 47.7080, -22.0610, 4440,   1173.6,   5.1650,  35.0617,2,-999.0000,9,    244.0,2,    10.16,2,    18.27,2,     0.00,2,     1.10,2,    2.407,3,    1.253,2,   2169.8,2,   2307.5,2,   7.7236,    25.00,2,   103017,   5.0632
  06MT20030723,   550,  1,     18,2,20030819, 47.7080, -22.0610, 4440,   1105.9,   5.7368,  35.1213,2,-999.0000,9,    234.0,2,    10.04,2,    18.36,2,     0.00,2,     1.09,2,    2.261,3,    1.173,2,   2173.2,2,   2317.7,2,   7.7255,    25.00,2,   103018,   5.6366
  06MT20030723,   550,  1,     19,2,20030819, 47.7080, -22.0610, 4440,    675.6,   9.1246,  35.2530,2,  35.2512,2,    195.0,2,     8.19,2,    17.95,2,     0.01,2,     1.03,2,    2.174,3,    1.201,2,   2169.2,2,   2318.6,2,   7.7452,    25.00,2,   103019,   9.0483
  06MT20030723,   550,  1,     20,2,20030819, 47.7080, -22.0610, 4440,    201.5,  12.8038,  35.7402,2,-999.0000,9,    237.6,2,     2.46,2,     8.77,2,     0.01,2,     0.52,2,    2.850,3,    1.694,2,   2125.8,2,   2339.8,2,   7.8806,    25.00,2,   103020,  12.7762
  06MT20030723,   550,  1,     21,2,20030819, 47.7080, -22.0610, 4440,     98.4,  13.4386,  35.8340,2,-999.0000,9,    235.4,2,     2.16,2,     7.79,2,     0.02,2,     0.39,2,    2.833,3,    1.698,2,   2122.4,2,   2341.4,2,   7.8935,    25.00,2,   103021,  13.4247
  06MT20030723,   550,  1,     22,2,20030819, 47.7080, -22.0610, 4440,      8.8,  17.1179,  35.6522,2,-999.0000,9,    247.5,2,     0.00,2,     0.00,2,     0.00,2,     0.03,2,    2.591,3,    1.569,2,   2059.0,2,   2336.1,2,   8.0026,    25.00,2,   103022,  17.1164