BOTTLE,20090513PRINUNIVRMK
EXPOCODE,STNNBR,CASTNO,BTLNBR,BTLNBR_FLAG_W,DATE,LATITUDE,LONGITUDE,DEPTH,CTDPRS,CTDTMP,CTDSAL,CTDSAL_FLAG_W,SALNTY,SALNTY_FLAG_W,OXYGEN,OXYGEN_FLAG_W,SILCAT,SILCAT_FLAG_W,NITRAT,NITRAT_FLAG_W,NITRIT,NITRIT_FLAG_W,PHSPHT,PHSPHT_FLAG_W,CFC-11,CFC-11_FLAG_W,CFC-12,CFC-12_FLAG_W,TCARBN,TCARBN_FLAG_W,ALKALI,ALKALI_FLAG_W,PH_SWS,PH_TEMP,PH_SWS_FLAG_W,ID,THETA
,,,,,,,,METERS,DBARS,ITS-90,PSS-78,,PSS-78,,UMOL/KG,,UMOL/KG,,UMOL/KG,,UMOL/KG,,UMOL/KG,,PMOL/KG,,PMOL/KG,,UMOL/KG,,UMOL/KG,,,DEGC,,,DEGC
  06MT20030723,   464,  1,      1,2,20030728, 58.8570, -50.3500, 3452,   3548.8,   1.5435,  34.8803,2,  34.8788,2,    296.7,2,  -999.00,5,  -999.00,5,  -999.00,5,  -999.00,5, -999.000,9, -999.000,9,   -999.0,5,   -999.0,5,-999.0000,  -999.00,9,    15001,   1.2701
  06MT20030723,   464,  1,      2,2,20030728, 58.8570, -50.3500, 3452,   3548.6,   1.5437,  34.8804,2,-999.0000,9,   -999.0,5,  -999.00,5,  -999.00,5,  -999.00,5,  -999.00,5,    3.800,3,    1.937,2,   -999.0,5,   -999.0,5,-999.0000,  -999.00,9,    15002,   1.2703
  06MT20030723,   464,  1,      3,2,20030728, 58.8570, -50.3500, 3452,   3406.6,   1.8116,  34.8792,2,-999.0000,9,   -999.0,5,  -999.00,5,  -999.00,5,  -999.00,5,  -999.00,5,    3.655,3,    1.865,2,   -999.0,5,   -999.0,5,-999.0000,  -999.00,9,    15003,   1.5461
  06MT20030723,   464,  1,      4,2,20030728, 58.8570, -50.3500, 3452,   3251.1,   2.2252,  34.8906,2,-999.0000,9,   -999.0,5,  -999.00,5,  -999.00,5,  -999.00,5,  -999.00,5, -999.000,9, -999.000,9,   -999.0,5,   -999.0,5,-999.0000,  -999.00,9,    15004,   1.9659
  06MT20030723,   464,  1,      5,2,20030728, 58.8570, -50.3500, 3452,   3151.1,   2.3951,  34.8971,2,-999.0000,9,   -999.0,5,  -999.00,5,  -999.00,5,  -999.00,5,  -999.00,5,    2.576,3,    1.327,2,   -999.0,5,   -999.0,5,-999.0000,  -999.00,9,    15005,   2.1421
  06MT20030723,   464,  1,      6,2,20030728, 58.8570, -50.3500, 3452,   2892.8,   2.6985,  34.9075,2,-999.0000,9,   -999.0,5,  -999.00,5,  -999.00,5,  -999.00,5,  -999.00,5,    2.467,3,    1.258,2,   -999.0,5,   -999.0,5,-999.0000,  -999.00,9,    15006,   2.4653
  06MT20030723,   464,  1,      7,2,20030728, 58.8570, -50.3500, 3452,   2738.8,   2.8183,  34.9034,2,-999.0000,9,   -999.0,5,  -999.00,5,  -999.00,5,  -999.00,5,  -999.00,5, -999.000,9, -999.000,9,   -999.0,5,   -999.0,5,-999.0000,  -999.00,9,    15007,   2.5983
  06MT20030723,   464,  1,      8,2,20030728, 58.8570, -50.3500, 3452,   2699.1,   2.8502,  34.9032,2,-999.0000,9,   -999.0,5,  -999.00,5,  -999.00,5,  -999.00,5,  -999.00,5,    2.668,3,    1.372,2,   -999.0,5,   -999.0,5,-999.0000,  -999.00,9,    15008,   2.6335
  06MT20030723,   464,  1,      9,2,20030728, 58.8570, -50.3500, 3452,   2435.9,   3.0107,  34.8976,2,-999.0000,9,    283.9,2,  -999.00,5,  -999.00,5,  -999.00,5,  -999.00,5,    2.770,3,    1.425,2,   -999.0,5,   -999.0,5,-999.0000,  -999.00,9,    15009,   2.8170
  06MT20030723,   464,  1,     10,2,20030728, 58.8570, -50.3500, 3452,   2278.8,   3.1054,  34.8956,2,-999.0000,9,   -999.0,5,  -999.00,5,  -999.00,5,  -999.00,5,  -999.00,5, -999.000,9, -999.000,9,   -999.0,5,   -999.0,5,-999.0000,  -999.00,9,    15010,   2.9252
  06MT20030723,   464,  1,     11,2,20030728, 58.8570, -50.3500, 3452,   2179.6,   3.1556,  34.8935,2,-999.0000,9,   -999.0,5,  -999.00,5,  -999.00,5,  -999.00,5,  -999.00,5,    3.198,3,    1.637,2,   -999.0,5,   -999.0,5,-999.0000,  -999.00,9,    15011,   2.9840
  06MT20030723,   464,  1,     12,2,20030728, 58.8570, -50.3500, 3452,   1915.5,   3.2942,  34.8918,2,-999.0000,9,    284.3,2,  -999.00,5,  -999.00,5,  -999.00,5,  -999.00,5,    3.377,3,    1.721,2,   -999.0,5,   -999.0,5,-999.0000,  -999.00,9,    15012,   3.1452
  06MT20030723,   464,  1,     13,2,20030728, 58.8570, -50.3500, 3452,   1769.4,   3.4137,  34.8992,2,-999.0000,9,   -999.0,5,  -999.00,5,  -999.00,5,  -999.00,5,  -999.00,5, -999.000,9, -999.000,9,   -999.0,5,   -999.0,5,-999.0000,  -999.00,9,    15013,   3.2764
  06MT20030723,   464,  1,     14,2,20030728, 58.8570, -50.3500, 3452,   1667.5,   3.4480,  34.8952,2,-999.0000,9,   -999.0,5,  -999.00,5,  -999.00,5,  -999.00,5,  -999.00,5,    3.366,3,    1.741,2,   -999.0,5,   -999.0,5,-999.0000,  -999.00,9,    15014,   3.3194
  06MT20030723,   464,  1,     15,2,20030728, 58.8570, -50.3500, 3452,   1362.8,   3.3581,  34.8583,2,-999.0000,9,   -999.0,5,  -999.00,5,  -999.00,5,  -999.00,5,  -999.00,5,    4.088,3,    2.186,2,   -999.0,5,   -999.0,5,-999.0000,  -999.00,9,    15015,   3.2572
  06MT20030723,   464,  1,     16,2,20030728, 58.8570, -50.3500, 3452,   1109.2,   3.2917,  34.8419,2,-999.0000,9,    312.5,4,  -999.00,5,  -999.00,5,  -999.00,5,  -999.00,5, -999.000,9, -999.000,9,   -999.0,5,   -999.0,5,-999.0000,  -999.00,9,    15016,   3.2123
  06MT20030723,   464,  1,     17,2,20030728, 58.8570, -50.3500, 3452,    907.8,   3.3507,  34.8460,2,-999.0000,9,   -999.0,5,  -999.00,5,  -999.00,5,  -999.00,5,  -999.00,5,    4.428,3,    2.423,2,   -999.0,5,   -999.0,5,-999.0000,  -999.00,9,    15017,   3.2867
  06MT20030723,   464,  1,     18,2,20030728, 58.8570, -50.3500, 3452,    702.0,   3.4739,  34.8565,2,  34.8548,2,   -999.0,5,  -999.00,5,  -999.00,5,  -999.00,5,  -999.00,5,    4.324,3,    2.369,2,   -999.0,5,   -999.0,5,-999.0000,  -999.00,9,    15018,   3.4248
  06MT20030723,   464,  1,     19,2,20030728, 58.8570, -50.3500, 3452,    500.8,   3.5936,  34.8569,2,-999.0000,9,   -999.0,5,  -999.00,5,  -999.00,5,  -999.00,5,  -999.00,5,    4.394,3,    2.421,2,   -999.0,5,   -999.0,5,-999.0000,  -999.00,9,    15019,   3.5589
  06MT20030723,   464,  1,     20,2,20030728, 58.8570, -50.3500, 3452,    353.6,   3.7627,  34.8590,2,-999.0000,9,   -999.0,5,  -999.00,5,  -999.00,5,  -999.00,5,  -999.00,5, -999.000,9, -999.000,9,   -999.0,5,   -999.0,5,-999.0000,  -999.00,9,    15020,   3.7381
  06MT20030723,   464,  1,     21,2,20030728, 58.8570, -50.3500, 3452,     94.4,   4.5499,  34.8424,2,-999.0000,9,   -999.0,5,  -999.00,5,  -999.00,5,  -999.00,5,  -999.00,5, -999.000,9, -999.000,9,   -999.0,5,   -999.0,5,-999.0000,  -999.00,9,    15021,   4.5429
  06MT20030723,   464,  1,     22,2,20030728, 58.8570, -50.3500, 3452,     18.4,   7.7856,  34.7006,2,-999.0000,9,    310.5,2,  -999.00,5,  -999.00,5,  -999.00,5,  -999.00,5,    4.386,3,    2.520,2,   -999.0,5,   -999.0,5,-999.0000,  -999.00,9,    15022,   7.7838
  06MT20030723,   465,  1,      1,2,20030728, 58.8500, -51.3680, 3452,   3540.1,   1.5461,  34.8799,2,-999.0000,9,    297.3,2,     9.80,2,    13.91,2,     0.02,2,     0.89,2, -999.000,9, -999.000,9,   -999.0,5,   -999.0,5,   7.7098,    25.00,2,    16001,   1.2735
  06MT20030723,   465,  1,      2,2,20030728, 58.8500, -51.3680, 3452,   3540.2,   1.5460,  34.8797,2,-999.0000,9,    297.6,2,     9.79,2,    13.77,2,     0.02,2,     0.89,2, -999.000,9, -999.000,9,   -999.0,5,   2299.1,2,-999.0000,  -999.00,9,    16002,   1.2734
  06MT20030723,   465,  1,      3,2,20030728, 58.8500, -51.3680, 3452,   3455.2,   1.6814,  34.8767,2,-999.0000,9,    297.6,2,    10.16,2,    13.96,2,     0.01,2,     0.90,2,    3.700,3,    1.931,2,   -999.0,5,   2298.0,2,   7.7108,    25.00,2,    16003,   1.4142
  06MT20030723,   465,  1,      4,2,20030728, 58.8500, -51.3680, 3452,   3257.5,   2.2056,  34.8896,2,-999.0000,9,    291.6,2,    11.13,2,    14.60,2,     0.00,2,     0.94,2,    3.174,3,    1.669,2,   -999.0,5,   2302.1,2,   7.7157,    25.00,2,    16004,   1.9461
  06MT20030723,   465,  1,      5,2,20030728, 58.8500, -51.3680, 3452,   3151.2,   2.3788,  34.8964,2,  34.8953,2,    286.8,2,    12.20,2,    15.26,2,     0.01,2,     0.98,2,    2.664,3,    1.372,2,   -999.0,5,   2302.1,2,   7.7157,    25.00,2,    16005,   2.1262
  06MT20030723,   465,  1,      6,2,20030728, 58.8500, -51.3680, 3452,   2896.4,   2.7220,  34.9071,2,-999.0000,9,    283.1,2,    11.89,2,    15.66,2,     0.00,2,     1.01,2,    2.449,3,    1.260,2,   -999.0,5,   2303.1,2,   7.7206,    25.00,2,    16006,   2.4880
  06MT20030723,   465,  1,      7,2,20030728, 58.8500, -51.3680, 3452,   2526.5,   2.9679,  34.8995,2,-999.0000,9,    284.3,2,    10.97,2,    15.77,2,     0.00,2,     1.01,2,    2.670,3,    1.369,2,   -999.0,5,   2299.6,2,   7.7138,    25.00,2,    16007,   2.7661
  06MT20030723,   465,  1,      8,2,20030728, 58.8500, -51.3680, 3452,   2280.4,   3.0805,  34.8878,2,-999.0000,9,    285.1,2,    10.43,2,    16.21,2,     0.00,2,     1.03,2,    2.946,3,    1.529,2,   -999.0,5,   2300.6,2,   7.7177,    25.00,2,    16008,   2.9006
  06MT20030723,   465,  1,      9,2,20030728, 58.8500, -51.3680, 3452,   2119.4,   3.1118,  34.8777,2,-999.0000,9,    287.9,2,    10.10,2,    16.32,2,     0.00,2,     1.01,2,    3.249,3,    1.637,2,   -999.0,5,   2299.2,2,   7.7157,    25.00,2,    16009,   2.9467
  06MT20030723,   465,  1,     10,2,20030728, 58.8500, -51.3680, 3452,   1933.9,   3.2102,  34.8793,2,  34.8772,2,    286.9,2,     9.94,2,    16.32,2,     0.00,2,     1.03,2,    3.465,3,    1.749,2,   -999.0,5,   2300.6,2,   7.7147,    25.00,2,    16010,   3.0608
  06MT20030723,   465,  1,     11,2,20030728, 58.8500, -51.3680, 3452,   1667.9,   3.4269,  34.8887,2,-999.0000,9,    282.4,2,     9.78,2,    16.55,2,     0.01,2,     1.05,2,    3.474,3,    1.779,2,   -999.0,5,   2297.6,2,   7.7059,    25.00,2,    16011,   3.2986
  06MT20030723,   465,  1,     12,2,20030728, 58.8500, -51.3680, 3452,   1414.2,   3.3197,  34.8493,2,-999.0000,9,    293.6,2,     8.69,2,    15.94,2,     0.00,2,     1.02,2,    4.209,3,    2.231,2,   -999.0,5,   2296.5,2,   7.7128,    25.00,2,    16012,   3.2148
  06MT20030723,   465,  1,     13,2,20030728, 58.8500, -51.3680, 3452,   1160.5,   3.2369,  34.8327,2,-999.0000,9,    300.6,2,     8.09,2,    15.63,2,     0.00,2,     1.00,2,    4.534,3,    2.440,2,   -999.0,5,   2297.9,2,   7.7128,    25.00,2,    16013,   3.1539
  06MT20030723,   465,  1,     14,2,20030728, 58.8500, -51.3680, 3452,   1004.5,   3.2086,  34.8274,2,-999.0000,9,    302.0,2,  -999.00,5,    15.73,2,     0.00,2,     1.00,2,    4.609,3,    2.499,2,   -999.0,5,   2294.4,2,   7.7108,    25.00,2,    16014,   3.1382
  06MT20030723,   465,  1,     15,2,20030728, 58.8500, -51.3680, 3452,    908.9,   3.2111,  34.8273,2,-999.0000,9,    302.5,2,     8.05,2,    15.72,2,     0.00,2,     1.00,2,    4.647,3,    2.522,2,   -999.0,5,   2297.2,2,   7.7148,    25.00,2,    16015,   3.1480
  06MT20030723,   465,  1,     16,2,20030728, 58.8500, -51.3680, 3452,    805.7,   3.2156,  34.8276,2,-999.0000,9,    302.0,2,  -999.00,5,    15.66,2,     0.01,2,     1.00,2, -999.000,9, -999.000,9,   -999.0,5,   2294.9,2,   7.7108,    25.00,2,    16016,   3.1603
  06MT20030723,   465,  1,     17,2,20030728, 58.8500, -51.3680, 3452,    701.9,   3.2502,  34.8313,2,-999.0000,9,    301.4,2,     8.01,2,    15.63,2,     0.01,2,     1.00,2,    4.625,3,    2.512,2,   -999.0,5,   2295.2,2,   7.7138,    25.00,2,    16017,   3.2024
  06MT20030723,   465,  1,     18,2,20030728, 58.8500, -51.3680, 3452,    607.7,   3.3173,  34.8361,2,-999.0000,9,    299.5,2,     8.03,2,    15.46,2,     0.01,2,     1.00,2,    4.552,3,    2.480,2,   -999.0,5,   2295.6,2,   7.7148,    25.00,2,    16018,   3.2760
  06MT20030723,   465,  1,     19,2,20030728, 58.8500, -51.3680, 3452,    510.9,   3.4042,  34.8432,2,-999.0000,9,    298.4,2,     7.91,2,    15.74,2,     0.01,2,     1.00,2,    4.563,3,    2.495,2,   -999.0,5,   2296.8,2,   7.7147,    25.00,2,    16019,   3.3695
  06MT20030723,   465,  1,     20,2,20030728, 58.8500, -51.3680, 3452,    393.7,   3.6230,  34.8571,2,-999.0000,9,    295.2,2,     7.91,2,    15.86,2,     0.01,2,     0.98,2,    4.436,3,    2.410,2,   -999.0,5,   2298.0,2,   7.7147,    25.00,2,    16020,   3.5960
  06MT20030723,   465,  1,     21,2,20030728, 58.8500, -51.3680, 3452,    200.6,   3.9411,  34.8670,2,-999.0000,9,    291.8,2,     7.39,2,    15.76,2,     0.01,2,     0.95,2,    4.477,3,    2.469,2,   -999.0,5,   2298.6,2,   7.7128,    25.00,2,    16021,   3.9271
  06MT20030723,   465,  1,     22,2,20030728, 58.8500, -51.3680, 3452,     12.7,   8.8678,  34.6579,2,-999.0000,9,    308.7,2,     1.02,2,     1.40,2,     0.08,2,     0.24,2,    4.461,3,    2.515,2,   -999.0,5,   2302.4,2,   7.9154,    25.00,2,    16022,   8.8665
  06MT20030723,   466,  1,      1,2,20030728, 58.8270, -52.3860, 3502,   3513.1,   1.4854,  34.8849,2,-999.0000,9,    298.4,2,     8.88,2,    13.80,2,     0.00,2,     0.89,2, -999.000,9, -999.000,9,   -999.0,5,   2297.1,2,   7.7108,    25.00,2,    17001,   1.2171
  06MT20030723,   466,  1,      2,2,20030728, 58.8270, -52.3860, 3502,   3512.9,   1.4854,  34.8848,2,-999.0000,9,    298.4,2,     8.90,2,    13.75,2,     0.00,2,     0.90,2,    3.770,3,    1.953,2,   -999.0,5,   2297.3,2,-999.0000,  -999.00,9,    17002,   1.2171
  06MT20030723,   466,  1,      3,2,20030728, 58.8270, -52.3860, 3502,   3456.5,   1.4997,  34.8851,2,-999.0000,9,    298.0,2,     8.93,2,    13.84,2,     0.00,2,     0.89,2,    3.794,3,    1.965,2,   2157.6,2,   2299.9,2,   7.7118,    25.00,2,    17003,   1.2368
  06MT20030723,   466,  1,      4,2,20030728, 58.8270, -52.3860, 3502,   3250.4,   2.0005,  34.8845,2,-999.0000,9,    293.5,2,    10.41,2,    14.45,2,     0.00,2,     0.95,2,    3.362,3,    1.747,2,   2156.1,2,   2301.6,2,   7.7157,    25.00,2,    17004,   1.7465
  06MT20030723,   466,  1,      5,2,20030728, 58.8270, -52.3860, 3502,   3096.3,   2.3022,  34.8961,2,-999.0000,9,    286.5,2,    12.68,2,    15.15,2,     0.00,2,     1.00,2, -999.000,9, -999.000,9,   -999.0,5,   2304.0,2,   7.7187,    25.00,2,    17005,   2.0570
  06MT20030723,   466,  1,      6,2,20030728, 58.8270, -52.3860, 3502,   2839.8,   2.6874,  34.9101,2,  34.8951,0,    281.8,2,    12.46,2,    15.59,2,     0.00,2,     1.00,2,    2.346,3,    1.194,2,   -999.0,5,   2303.0,2,   7.7216,    25.00,2,    17006,   2.4598
  06MT20030723,   466,  1,      7,2,20030728, 58.8270, -52.3860, 3502,   2636.8,   2.8465,  34.9063,2,-999.0000,9,    282.1,2,    11.61,2,    15.77,2,     0.00,2,     1.03,2,    2.517,3,    1.272,2,   -999.0,5,   2301.1,2,   7.7206,    25.00,2,    17007,   2.6361
  06MT20030723,   466,  1,      8,2,20030728, 58.8270, -52.3860, 3502,   2483.5,   2.9552,  34.9039,2,-999.0000,9,    282.3,2,    11.03,2,    15.78,2,     0.00,2,     1.02,2,    2.634,3,    1.360,2,   -999.0,5,   2300.6,2,   7.7197,    25.00,2,    17008,   2.7578
  06MT20030723,   466,  1,      9,2,20030728, 58.8270, -52.3860, 3502,   2104.5,   3.0969,  34.8859,2,-999.0000,9,    285.2,2,    10.29,2,    15.94,2,     0.00,2,     1.04,2,    3.093,3,    1.582,2,   -999.0,5,   2299.4,2,   7.7256,    25.00,2,    17009,   2.9334
  06MT20030723,   466,  1,     10,2,20030728, 58.8270, -52.3860, 3502,   1813.1,   3.2099,  34.8835,2,-999.0000,9,    285.5,2,     9.96,2,    16.34,2,     0.00,2,     1.05,2,    3.408,3,    1.726,2,   -999.0,5,   2298.9,2,   7.7147,    25.00,2,    17010,   3.0714
  06MT20030723,   466,  1,     11,2,20030728, 58.8270, -52.3860, 3502,   1566.2,   3.4144,  34.8961,2,  34.8985,2,    281.6,2,     9.89,2,    16.34,2,     0.00,2,     1.06,2,    3.411,3,    1.737,2,   -999.0,5,   2294.3,2,   7.7118,    25.00,2,    17011,   3.2952
  06MT20030723,   466,  1,     12,2,20030728, 58.8270, -52.3860, 3502,   1362.2,   3.5139,  34.8957,2,-999.0000,9,    280.1,2,     9.69,2,    16.22,2,     0.00,2,     1.05,2,    3.368,3,    1.783,2,   -999.0,5,   2298.6,2,   7.7108,    25.00,2,    17012,   3.4113
  06MT20030723,   466,  1,     13,2,20030728, 58.8270, -52.3860, 3502,   1185.2,   3.4928,  34.8808,2,-999.0000,9,    284.4,2,     9.29,2,    15.95,2,     0.01,2,     1.06,2,    3.762,3,    2.006,2,   -999.0,5,   2299.0,2,   7.7128,    25.00,2,    17013,   3.4053
  06MT20030723,   466,  1,     14,2,20030728, 58.8270, -52.3860, 3502,   1007.3,   3.5279,  34.8764,2,-999.0000,9,    286.3,2,     8.99,2,    15.91,2,     0.00,2,     1.04,2,    3.918,3,    2.112,2,   -999.0,5,   2296.6,2,   7.7118,    25.00,2,    17014,   3.4547
  06MT20030723,   466,  1,     15,2,20030728, 58.8270, -52.3860, 3502,    853.5,   3.6446,  34.8831,2,-999.0000,9,    285.2,2,     8.86,2,    15.97,2,     0.01,2,     1.02,2,    3.953,3,    2.149,2,   -999.0,5,   2298.5,2,   7.7128,    25.00,2,    17015,   3.5828
  06MT20030723,   466,  1,     16,2,20030728, 58.8270, -52.3860, 3502,    645.6,   3.7096,  34.8760,2,  34.8772,2,    288.8,2,     8.43,2,    15.96,2,     0.01,2,     1.03,2,    4.152,3,    2.266,2,   2155.8,2,   2298.2,2,   7.7157,    25.00,2,    17016,   3.6635
  06MT20030723,   466,  1,     17,2,20030728, 58.8270, -52.3860, 3502,    480.9,   3.8778,  34.8822,2,-999.0000,9,    289.6,2,     8.48,2,    15.81,2,     0.01,2,     1.01,2,    4.180,3,    2.279,2,   2154.3,2,   2298.9,2,   7.7167,    25.00,2,    17017,   3.8435
  06MT20030723,   466,  1,     18,2,20030728, 58.8270, -52.3860, 3502,    340.1,   4.0305,  34.8815,2,-999.0000,9,    291.9,2,     7.83,2,    15.68,2,     0.01,2,     1.01,2,    4.385,3,    2.452,2,   -999.0,5,   2298.2,2,   7.7147,    25.00,2,    17018,   4.0062
  06MT20030723,   466,  1,     19,2,20030728, 58.8270, -52.3860, 3502,    221.6,   4.3501,  34.8829,2,-999.0000,9,    291.0,2,     7.44,2,    15.48,2,     0.03,2,     0.97,2,    4.447,3,    2.541,2,   -999.0,5,   2301.6,2,   7.5234,    25.00,3,    17019,   4.3339
  06MT20030723,   466,  1,     20,2,20030728, 58.8270, -52.3860, 3502,     85.9,   5.0871,  34.8520,2,-999.0000,9,    300.3,2,     6.25,2,    10.17,2,     0.37,2,     0.81,2,    4.583,3,    2.624,2,   -999.0,5,   2304.4,2,   7.7769,    25.00,2,    17020,   5.0804
  06MT20030723,   466,  1,     21,2,20030728, 58.8270, -52.3860, 3502,     82.6,   5.1925,  34.8679,2,-999.0000,9,    304.3,2,     4.85,2,     7.12,2,     0.21,2,     0.70,2, -999.000,9, -999.000,9,   -999.0,5,   2306.6,2,   7.8026,    25.00,2,    17021,   5.1860
  06MT20030723,   466,  1,     22,2,20030728, 58.8270, -52.3860, 3502,     15.4,   9.0664,  34.7050,2,  34.6958,2,    316.3,2,     0.35,2,     0.61,2,     0.06,2,     0.20,2,    4.134,3,    2.379,2,   -999.0,5,   2301.4,2,   7.9412,    25.00,2,    17022,   9.0647