BOTTLE,20090513PRINUNIVRMK
EXPOCODE,STNNBR,CASTNO,BTLNBR,BTLNBR_FLAG_W,DATE,LATITUDE,LONGITUDE,DEPTH,CTDPRS,CTDTMP,CTDSAL,CTDSAL_FLAG_W,SALNTY,SALNTY_FLAG_W,OXYGEN,OXYGEN_FLAG_W,SILCAT,SILCAT_FLAG_W,NITRAT,NITRAT_FLAG_W,NITRIT,NITRIT_FLAG_W,PHSPHT,PHSPHT_FLAG_W,CFC-11,CFC-11_FLAG_W,CFC-12,CFC-12_FLAG_W,TCARBN,TCARBN_FLAG_W,ALKALI,ALKALI_FLAG_W,PH_SWS,PH_TEMP,PH_SWS_FLAG_W,ID,THETA
,,,,,,,,METERS,DBARS,ITS-90,PSS-78,,PSS-78,,UMOL/KG,,UMOL/KG,,UMOL/KG,,UMOL/KG,,UMOL/KG,,PMOL/KG,,PMOL/KG,,UMOL/KG,,UMOL/KG,,,DEGC,,,DEGC
  06MT20030723,   458,  1,      1,2,20030726, 58.9370, -44.2540, 1860,   1841.5,   2.9299,  34.9049,2,  34.9088,2,    285.2,2,    10.77,2,    15.50,2,     0.01,2,     1.01,2, -999.000,9, -999.000,9,   2156.4,2,   2307.4,2,   7.7157,    25.00,2,     9001,   2.7927
  06MT20030723,   458,  1,      2,2,20030726, 58.9370, -44.2540, 1860,   1841.3,   2.9294,  34.9059,2,-999.0000,9,    284.6,2,    10.74,2,    15.53,2,     0.01,2,     1.01,2,    3.033,3,    1.558,2,   -999.0,5,   -999.0,5,-999.0000,  -999.00,9,     9002,   2.7922
  06MT20030723,   458,  1,      3,2,20030726, 58.9370, -44.2540, 1860,   1822.1,   2.9278,  34.9056,2,-999.0000,9,    284.4,2,    10.70,2,    15.46,2,     0.01,2,     1.01,2, -999.000,9, -999.000,9,   2155.7,2,   2304.5,2,   7.7147,    25.00,2,     9003,   2.7923
  06MT20030723,   458,  1,      4,2,20030726, 58.9370, -44.2540, 1860,   1719.1,   3.0780,  34.9046,2,-999.0000,9,    284.4,2,    10.38,2,    15.89,2,     0.00,2,     1.03,2,    3.078,3,    1.565,2,   -999.0,5,   2298.8,2,   7.7157,    25.00,2,     9004,   2.9496
  06MT20030723,   458,  1,      5,2,20030726, 58.9370, -44.2540, 1860,   1617.3,   3.1631,  34.8994,2,-999.0000,9,    284.7,2,    10.27,2,    15.99,2,     0.00,2,     1.04,2, -999.000,9, -999.000,9,   2149.8,3,   2305.6,2,   7.7157,    25.00,2,     9005,   3.0425
  06MT20030723,   458,  1,      6,2,20030726, 58.9370, -44.2540, 1860,   1521.0,   3.2516,  34.8981,2,  34.8989,2,    285.0,2,    10.20,2,    16.14,2,     0.00,2,     1.06,2,    3.278,3,    1.664,2,   2155.4,2,   2304.0,2,   7.7108,    25.00,2,     9006,   3.1383
  06MT20030723,   458,  1,      7,2,20030726, 58.9370, -44.2540, 1860,   1419.2,   3.3781,  34.9042,2,-999.0000,9,   -999.0,5,  -999.00,5,  -999.00,5,  -999.00,5,  -999.00,5, -999.000,9, -999.000,9,   -999.0,5,   -999.0,5,-999.0000,  -999.00,9,     9007,   3.2720
  06MT20030723,   458,  1,      8,2,20030726, 58.9370, -44.2540, 1860,   1342.7,   3.4764,  34.9120,2,-999.0000,9,    281.1,2,     9.99,2,    16.15,2,     0.00,2,     1.06,2,    3.322,3,    1.701,2,   2157.0,2,   2301.0,2,   7.7108,    25.00,2,     9008,   3.3758
  06MT20030723,   458,  1,      9,2,20030726, 58.9370, -44.2540, 1860,   1226.1,   3.6180,  34.9197,2,-999.0000,9,    279.3,2,     9.81,2,    16.22,2,     0.00,2,     1.06,2, -999.000,9, -999.000,9,   2156.0,2,   2306.1,2,   7.7118,    25.00,2,     9009,   3.5259
  06MT20030723,   458,  1,     10,2,20030726, 58.9370, -44.2540, 1860,   1109.5,   3.6802,  34.9144,2,-999.0000,9,    277.7,2,     9.78,2,    16.35,2,     0.00,2,     1.07,2,    3.397,3,    1.754,2,   2158.2,2,   2300.5,2,   7.7069,    25.00,2,     9010,   3.5973
  06MT20030723,   458,  1,     11,2,20030726, 58.9370, -44.2540, 1860,   1008.2,   3.7612,  34.9103,2,-999.0000,9,    278.9,2,     9.42,2,    16.00,2,     0.00,2,     1.05,2, -999.000,9, -999.000,9,   2158.2,2,   2299.3,2,   7.7098,    25.00,2,     9011,   3.6860
  06MT20030723,   458,  1,     12,2,20030726, 58.9370, -44.2540, 1860,    913.4,   3.8686,  34.9098,2,-999.0000,9,    279.7,2,     9.06,2,    16.05,2,     0.00,2,     1.05,2,    3.766,3,    2.000,2,   2158.4,2,   2304.5,2,   7.7157,    25.00,2,     9012,   3.8004
  06MT20030723,   458,  1,     13,2,20030726, 58.9370, -44.2540, 1860,    807.3,   3.9743,  34.9008,2,-999.0000,9,    279.0,2,     9.08,2,    16.12,2,     0.00,2,     1.05,2, -999.000,9, -999.000,9,   2161.5,2,   2303.9,2,   7.7078,    25.00,2,     9013,   3.9140
  06MT20030723,   458,  1,     14,2,20030726, 58.9370, -44.2540, 1860,    716.5,   4.1485,  34.9111,2,-999.0000,9,    278.1,2,     8.98,2,    16.48,2,     0.00,2,     1.07,2,    3.866,3,    2.045,2,   2159.0,2,   2302.8,2,   7.7078,    25.00,2,     9014,   4.0945
  06MT20030723,   458,  1,     15,2,20030726, 58.9370, -44.2540, 1860,    612.1,   4.5746,  34.9447,2,  34.9430,2,    276.1,2,     8.51,2,    15.81,2,     0.00,2,     1.02,2, -999.000,9, -999.000,9,   2156.8,2,   2306.7,2,   7.7167,    25.00,2,     9015,   4.5269
  06MT20030723,   458,  1,     16,2,20030726, 58.9370, -44.2540, 1860,    498.9,   4.8653,  34.9490,2,-999.0000,9,    275.4,2,     8.23,2,    15.60,2,     0.01,2,     1.01,2,    3.840,3,    2.087,2,   2155.4,2,   2306.3,2,   7.7236,    25.00,2,     9016,   4.8257
  06MT20030723,   458,  1,     17,2,20030726, 58.9370, -44.2540, 1860,    427.7,   5.1014,  34.9644,2,-999.0000,9,    280.1,2,     7.84,2,    15.57,2,     0.01,2,     1.01,2, -999.000,9, -999.000,9,   2152.9,2,   2311.2,2,   7.7275,    25.00,2,     9017,   5.0669
  06MT20030723,   458,  1,     18,2,20030726, 58.9370, -44.2540, 1860,    299.2,   5.5153,  34.9857,2,-999.0000,9,    281.7,2,     7.50,2,    15.13,2,     0.01,2,     0.99,2, -999.000,9, -999.000,9,   2148.2,2,   2306.3,2,   7.7344,    25.00,2,     9018,   5.4905
  06MT20030723,   458,  1,     19,2,20030726, 58.9370, -44.2540, 1860,    191.2,   5.9927,  35.0213,2,-999.0000,9,    284.8,2,     6.92,2,    14.80,2,     0.01,2,     0.94,2,    4.085,3,    2.276,2,   2148.0,2,   2310.8,2,   7.7463,    25.00,2,     9019,   5.9763
  06MT20030723,   458,  1,     20,2,20030726, 58.9370, -44.2540, 1860,    101.5,   6.5849,  35.0321,2,-999.0000,9,    286.6,2,     4.62,2,    13.44,2,     0.29,2,     0.85,2, -999.000,9, -999.000,9,   2138.9,2,   2309.4,2,   7.7690,    25.00,2,     9020,   6.5758
  06MT20030723,   458,  1,     21,2,20030726, 58.9370, -44.2540, 1860,     64.1,   7.0901,  35.0495,2,-999.0000,9,    291.0,2,     3.13,2,    11.40,2,     0.30,2,     0.75,2, -999.000,9, -999.000,9,   2129.3,2,   2310.9,2,   7.7877,    25.00,2,     9021,   7.0841
  06MT20030723,   458,  1,     22,2,20030726, 58.9370, -44.2540, 1860,     22.1,   8.2076,  34.9052,2,  34.9233,2,    302.1,2,     1.38,2,     8.16,2,     0.15,2,     0.53,2,    4.143,3,    2.321,2,   2103.4,2,   2307.4,2,   7.8372,    25.00,2,     9022,   8.2054
  06MT20030723,   459,  1,      1,2,20030727, 58.9170, -45.2680, 2482,   2469.1,   2.3001,  34.8962,2,  34.8989,2,    289.6,2,  -999.00,5,  -999.00,5,  -999.00,5,  -999.00,5, -999.000,9, -999.000,9,   -999.0,5,   -999.0,5,-999.0000,  -999.00,9,    10001,   2.1161
  06MT20030723,   459,  1,      2,2,20030727, 58.9170, -45.2680, 2482,   2469.0,   2.2988,  34.8962,2,-999.0000,9,   -999.0,5,  -999.00,5,  -999.00,5,  -999.00,5,  -999.00,5, -999.000,9, -999.000,9,   -999.0,5,   -999.0,5,-999.0000,  -999.00,9,    10002,   2.1148
  06MT20030723,   459,  1,      3,2,20030727, 58.9170, -45.2680, 2482,   2329.5,   2.3832,  34.8998,2,-999.0000,9,   -999.0,5,  -999.00,5,  -999.00,5,  -999.00,5,  -999.00,5,    3.065,3,    1.590,2,   -999.0,5,   -999.0,5,-999.0000,  -999.00,9,    10003,   2.2106
  06MT20030723,   459,  1,      4,2,20030727, 58.9170, -45.2680, 2482,   2233.2,   2.5728,  34.9121,2,-999.0000,9,   -999.0,5,  -999.00,5,  -999.00,5,  -999.00,5,  -999.00,5, -999.000,9, -999.000,9,   -999.0,5,   -999.0,5,-999.0000,  -999.00,9,    10004,   2.4057
  06MT20030723,   459,  1,      5,2,20030727, 58.9170, -45.2680, 2482,   2024.9,   2.7813,  34.9051,2,-999.0000,9,   -999.0,5,  -999.00,5,  -999.00,5,  -999.00,5,  -999.00,5,    2.957,3,    1.548,2,   -999.0,5,   -999.0,5,-999.0000,  -999.00,9,    10005,   2.6299
  06MT20030723,   459,  1,      6,2,20030727, 58.9170, -45.2680, 2482,   1923.1,   2.9068,  34.9051,2,-999.0000,9,   -999.0,5,  -999.00,5,  -999.00,5,  -999.00,5,  -999.00,5,    3.004,3,    1.558,2,   -999.0,5,   -999.0,5,-999.0000,  -999.00,9,    10006,   2.7626
  06MT20030723,   459,  1,      7,2,20030727, 58.9170, -45.2680, 2482,   1828.7,   3.0457,  34.9056,2,  34.9036,2,   -999.0,5,  -999.00,5,  -999.00,5,  -999.00,5,  -999.00,5, -999.000,9, -999.000,9,   -999.0,5,   -999.0,5,-999.0000,  -999.00,9,    10007,   2.9080
  06MT20030723,   459,  1,      8,2,20030727, 58.9170, -45.2680, 2482,   1722.3,   3.1729,  34.9030,2,-999.0000,9,    284.4,2,  -999.00,5,  -999.00,5,  -999.00,5,  -999.00,5,    3.264,3,    1.707,2,   -999.0,5,   -999.0,5,-999.0000,  -999.00,9,    10008,   3.0430
  06MT20030723,   459,  1,      9,2,20030727, 58.9170, -45.2680, 2482,   1626.7,   3.2994,  34.9062,2,-999.0000,9,   -999.0,5,  -999.00,5,  -999.00,5,  -999.00,5,  -999.00,5, -999.000,9, -999.000,9,   -999.0,5,   -999.0,5,-999.0000,  -999.00,9,    10009,   3.1763
  06MT20030723,   459,  1,     10,2,20030727, 58.9170, -45.2680, 2482,   1432.2,   3.4937,  34.9119,2,-999.0000,9,   -999.0,5,  -999.00,5,  -999.00,5,  -999.00,5,  -999.00,5, -999.000,9, -999.000,9,   -999.0,5,   -999.0,5,-999.0000,  -999.00,9,    10010,   3.3853
  06MT20030723,   459,  1,     11,2,20030727, 58.9170, -45.2680, 2482,   1222.4,   3.7115,  34.9185,2,-999.0000,9,    278.8,2,  -999.00,5,  -999.00,5,  -999.00,5,  -999.00,5, -999.000,9, -999.000,9,   -999.0,5,   -999.0,5,-999.0000,  -999.00,9,    10011,   3.6188
  06MT20030723,   459,  1,     12,2,20030727, 58.9170, -45.2680, 2482,   1024.4,   3.7360,  34.8908,2,-999.0000,9,   -999.0,5,  -999.00,5,  -999.00,5,  -999.00,5,  -999.00,5,    3.822,3,    2.026,2,   -999.0,5,   -999.0,5,-999.0000,  -999.00,9,    10012,   3.6597
  06MT20030723,   459,  1,     13,2,20030727, 58.9170, -45.2680, 2482,    911.0,   3.9806,  34.9148,2,  34.9095,2,   -999.0,5,  -999.00,5,  -999.00,5,  -999.00,5,  -999.00,5, -999.000,9, -999.000,9,   -999.0,5,   -999.0,5,-999.0000,  -999.00,9,    10013,   3.9118
  06MT20030723,   459,  1,     14,2,20030727, 58.9170, -45.2680, 2482,    824.3,   4.1763,  34.9202,2,-999.0000,9,    277.7,2,  -999.00,5,  -999.00,5,  -999.00,5,  -999.00,5,    3.820,3,    2.031,2,   -999.0,5,   -999.0,5,-999.0000,  -999.00,9,    10014,   4.1133
  06MT20030723,   459,  1,     15,2,20030727, 58.9170, -45.2680, 2482,    711.5,   4.4493,  34.9316,2,-999.0000,9,   -999.0,5,  -999.00,5,  -999.00,5,  -999.00,5,  -999.00,5, -999.000,9, -999.000,9,   -999.0,5,   -999.0,5,-999.0000,  -999.00,9,    10015,   4.3940
  06MT20030723,   459,  1,     16,2,20030727, 58.9170, -45.2680, 2482,    620.3,   4.6843,  34.9414,2,-999.0000,9,   -999.0,5,  -999.00,5,  -999.00,5,  -999.00,5,  -999.00,5, -999.000,9, -999.000,9,   -999.0,5,   -999.0,5,-999.0000,  -999.00,9,    10016,   4.6354
  06MT20030723,   459,  1,     17,2,20030727, 58.9170, -45.2680, 2482,    513.3,   4.9837,  34.9559,2,-999.0000,9,   -999.0,5,  -999.00,5,  -999.00,5,  -999.00,5,  -999.00,5,    3.820,3,    2.120,2,   -999.0,5,   -999.0,5,-999.0000,  -999.00,9,    10017,   4.9424
  06MT20030723,   459,  1,     18,2,20030727, 58.9170, -45.2680, 2482,    299.3,   5.5619,  34.9916,2,-999.0000,9,   -999.0,5,  -999.00,5,  -999.00,5,  -999.00,5,  -999.00,5, -999.000,9, -999.000,9,   -999.0,5,   -999.0,5,-999.0000,  -999.00,9,    10018,   5.5369
  06MT20030723,   459,  1,     19,2,20030727, 58.9170, -45.2680, 2482,    199.0,   5.8956,  35.0142,2,-999.0000,9,   -999.0,5,  -999.00,5,  -999.00,5,  -999.00,5,  -999.00,5,    4.147,3,    2.356,2,   -999.0,5,   -999.0,5,-999.0000,  -999.00,9,    10019,   5.8786
  06MT20030723,   459,  1,     20,2,20030727, 58.9170, -45.2680, 2482,     93.8,   6.8591,  35.0246,2,-999.0000,9,   -999.0,5,  -999.00,5,  -999.00,5,  -999.00,5,  -999.00,5, -999.000,9, -999.000,9,   -999.0,5,   -999.0,5,-999.0000,  -999.00,9,    10020,   6.8505
  06MT20030723,   459,  1,     21,2,20030727, 58.9170, -45.2680, 2482,     66.9,   7.4568,  35.0048,2,  35.0162,2,   -999.0,5,  -999.00,5,  -999.00,5,  -999.00,5,  -999.00,5, -999.000,9, -999.000,9,   -999.0,5,   -999.0,5,-999.0000,  -999.00,9,    10021,   7.4504
  06MT20030723,   459,  1,     22,2,20030727, 58.9170, -45.2680, 2482,      2.1,   8.4875,  34.9836,2,-999.0000,9,    297.6,2,  -999.00,5,  -999.00,5,  -999.00,5,  -999.00,5,    4.053,3,    2.340,2,   -999.0,5,   -999.0,5,-999.0000,  -999.00,9,    10022,   8.4873
  06MT20030723,   460,  1,      1,2,20030727, 58.9090, -46.2850, 2713,   2697.4,   2.0748,  34.8891,2,  34.8873,2,    292.3,2,    10.00,2,    14.55,2,     0.01,2,     0.91,2, -999.000,9, -999.000,9,   2157.2,2,   2296.9,2,   7.7108,    25.00,2,    11001,   1.8737
  06MT20030723,   460,  1,      2,2,20030727, 58.9090, -46.2850, 2713,   2695.5,   2.0766,  34.8889,2,-999.0000,9,   -999.0,5,  -999.00,5,  -999.00,5,  -999.00,5,  -999.00,5, -999.000,9, -999.000,9,   -999.0,5,   -999.0,5,-999.0000,  -999.00,9,    11002,   1.8756
  06MT20030723,   460,  1,      3,2,20030727, 58.9090, -46.2850, 2713,   2534.6,   2.3867,  34.9015,2,-999.0000,9,    285.9,2,    12.10,2,    15.40,2,     0.00,2,     0.97,2,    2.723,3,    1.405,2,   2160.9,2,   2307.3,2,   7.7167,    25.00,2,    11003,   2.1949
  06MT20030723,   460,  1,      4,2,20030727, 58.9090, -46.2850, 2713,   2432.2,   2.5404,  34.9083,2,-999.0000,9,    283.6,2,    12.51,2,    15.40,2,     0.00,2,     1.00,2,    2.478,3,    1.293,2,   2161.0,2,   2305.2,2,   7.7187,    25.00,2,    11004,   2.3554
  06MT20030723,   460,  1,      5,2,20030727, 58.9090, -46.2850, 2713,   2330.6,   2.6813,  34.9147,2,-999.0000,9,    282.2,2,    12.24,2,    15.57,2,     0.00,2,     1.00,2, -999.000,9, -999.000,9,   2161.8,2,   2309.1,2,   7.7177,    25.00,2,    11005,   2.5034
  06MT20030723,   460,  1,      6,2,20030727, 58.9090, -46.2850, 2713,   2134.8,   2.8420,  34.9073,2,-999.0000,9,    282.7,2,    11.37,2,    15.81,2,     0.00,2,     1.01,2,    2.567,3,    1.329,2,   2157.9,2,   2305.0,2,   7.7167,    25.00,2,    11006,   2.6796
  06MT20030723,   460,  1,      7,2,20030727, 58.9090, -46.2850, 2713,   1927.5,   2.9846,  34.8979,2,-999.0000,9,    283.9,2,    10.76,2,    15.82,2,     0.00,2,     1.01,2,    2.787,3,    1.426,2,   2158.8,2,   2306.9,2,   7.7167,    25.00,2,    11007,   2.8390
  06MT20030723,   460,  1,      8,2,20030727, 58.9090, -46.2850, 2713,   1679.1,   3.1002,  34.8882,2,-999.0000,9,    286.2,2,    10.15,2,    16.06,2,     0.00,2,     1.02,2,    3.231,3,    1.638,2,   2158.2,2,   2304.4,2,   7.7147,    25.00,2,    11008,   2.9750
  06MT20030723,   460,  1,      9,2,20030727, 58.9090, -46.2850, 2713,   1414.2,   3.3379,  34.8988,2,  34.8971,2,    283.5,2,     9.90,2,    16.10,2,     0.00,2,     1.01,2,    3.354,3,    1.701,2,   2159.4,2,   2301.5,2,   7.7118,    25.00,2,    11009,   3.2327
  06MT20030723,   460,  1,     10,2,20030727, 58.9090, -46.2850, 2713,   1277.5,   3.4412,  34.8983,2,-999.0000,9,    280.8,2,     9.99,2,    16.67,2,     0.00,2,     1.03,2,    3.378,3,    1.714,2,   2161.5,2,   2304.6,2,   7.7088,    25.00,2,    11010,   3.3465
  06MT20030723,   460,  1,     11,2,20030727, 58.9090, -46.2850, 2713,   1104.1,   3.5291,  34.8952,2,-999.0000,9,    280.9,2,     9.61,2,    16.40,2,     0.00,2,     1.02,2, -999.000,9, -999.000,9,   2161.8,2,   2305.4,2,   7.7098,    25.00,2,    11011,   3.4480
  06MT20030723,   460,  1,     12,2,20030727, 58.9090, -46.2850, 2713,   1032.3,   3.4770,  34.8789,2,-999.0000,9,    286.9,2,     9.05,2,    15.95,2,     0.00,2,     1.00,2,    4.020,3,    2.090,2,   2157.9,2,   2311.1,5,   7.7078,    25.00,2,    11012,   3.4022
  06MT20030723,   460,  1,     13,2,20030727, 58.9090, -46.2850, 2713,    908.9,   3.4216,  34.8585,2,-999.0000,9,    291.9,2,     8.67,2,    15.97,2,     0.00,2,     1.00,2, -999.000,9, -999.000,9,   2160.8,2,   2301.8,2,   7.7088,    25.00,2,    11013,   3.3570
  06MT20030723,   460,  1,     14,2,20030727, 58.9090, -46.2850, 2713,    807.6,   3.4575,  34.8600,2,-999.0000,9,    292.4,2,     8.61,2,    16.13,2,     0.00,2,     0.99,2,    4.311,3,    2.268,2,   2158.6,2,   2303.4,2,   7.7078,    25.00,2,    11014,   3.4005
  06MT20030723,   460,  1,     15,2,20030727, 58.9090, -46.2850, 2713,    681.1,   3.5898,  34.8647,2,-999.0000,9,    292.0,2,     8.38,2,    15.91,2,     0.00,2,     1.00,2, -999.000,9, -999.000,9,   2158.6,2,   2303.0,2,   7.7078,    25.00,2,    11015,   3.5417
  06MT20030723,   460,  1,     16,2,20030727, 58.9090, -46.2850, 2713,    573.0,   3.7079,  34.8677,2,-999.0000,9,    293.0,2,     8.31,2,    15.79,2,     0.01,2,     1.01,2,    4.390,3,    2.343,2,   2160.1,2,   2305.1,2,-999.0000,  -999.00,9,    11016,   3.6674
  06MT20030723,   460,  1,     17,2,20030727, 58.9090, -46.2850, 2713,    444.1,   3.9673,  34.8883,2,-999.0000,9,    291.8,2,     8.25,2,    16.02,2,     0.01,2,     0.99,2,    4.353,3,    2.335,2,   2159.2,2,   -999.0,5,   7.7128,    25.00,2,    11017,   3.9354
  06MT20030723,   460,  1,     18,2,20030727, 58.9090, -46.2850, 2713,    298.0,   4.3479,  34.9012,2,-999.0000,9,    291.0,2,     7.99,2,    15.85,2,     0.01,2,     0.99,2, -999.000,9, -999.000,9,   2157.8,2,   2303.9,2,   7.7177,    25.00,2,    11018,   4.3259
  06MT20030723,   460,  1,     19,2,20030727, 58.9090, -46.2850, 2713,    201.0,   4.7546,  34.9169,2,  34.9181,2,    288.9,2,     7.85,2,    15.60,2,     0.01,2,     0.97,2, -999.000,9, -999.000,9,   2156.2,2,   2303.4,2,   7.7206,    25.00,2,    11019,   4.7393
  06MT20030723,   460,  1,     20,2,20030727, 58.9090, -46.2850, 2713,     95.3,   5.3645,  34.9415,2,-999.0000,9,    292.8,2,     6.44,2,    14.78,2,     0.20,2,     0.93,2,    4.498,3,    2.473,2,   2154.4,2,   2304.1,2,   7.7384,    25.00,2,    11020,   5.3568
  06MT20030723,   460,  1,     21,2,20030727, 58.9090, -46.2850, 2713,     59.9,   6.4875,  34.8853,2,-999.0000,9,    296.9,2,     2.77,2,    11.55,2,     0.22,2,     0.77,2, -999.000,9, -999.000,9,   2135.9,2,   2307.9,2,   7.7749,    25.00,2,    11021,   6.4822
  06MT20030723,   460,  1,     22,2,20030727, 58.9090, -46.2850, 2713,     29.6,   8.2323,  34.8086,2,  34.8147,2,    301.7,2,     0.64,2,     8.82,2,     0.15,2,     0.57,2,    4.347,3,    2.387,2,   2110.1,2,   2308.3,2,   7.8214,    25.00,2,    11022,   8.2293