BOTTLE,20090513PRINUNIVRMK
EXPOCODE,STNNBR,CASTNO,BTLNBR,BTLNBR_FLAG_W,DATE,LATITUDE,LONGITUDE,DEPTH,CTDPRS,CTDTMP,CTDSAL,CTDSAL_FLAG_W,SALNTY,SALNTY_FLAG_W,OXYGEN,OXYGEN_FLAG_W,SILCAT,SILCAT_FLAG_W,NITRAT,NITRAT_FLAG_W,NITRIT,NITRIT_FLAG_W,PHSPHT,PHSPHT_FLAG_W,CFC-11,CFC-11_FLAG_W,CFC-12,CFC-12_FLAG_W,TCARBN,TCARBN_FLAG_W,ALKALI,ALKALI_FLAG_W,PH_SWS,PH_TEMP,PH_SWS_FLAG_W,ID,THETA
,,,,,,,,METERS,DBARS,ITS-90,PSS-78,,PSS-78,,UMOL/KG,,UMOL/KG,,UMOL/KG,,UMOL/KG,,UMOL/KG,,PMOL/KG,,PMOL/KG,,UMOL/KG,,UMOL/KG,,,DEGC,,,DEGC
  06MT20030723,   576,  1,      1,2,20030825, 47.0000, -42.0590, 4220,   4243.4,   2.0046,  34.8791,2,  34.9053,0,    278.1,2,    10.52,2,    16.97,2,     0.01,2,     1.05,2, -999.000,9, -999.000,9,   2157.4,2,   2300.3,2,   7.7325,    25.00,2,   129001,   1.6426
  06MT20030723,   576,  1,      2,2,20030825, 47.0000, -42.0590, 4220,   4243.1,   2.0047,  34.8790,2,-999.0000,9,    292.0,2,    13.51,2,    15.44,2,     0.01,2,     0.95,2,    3.001,3,    1.617,2,   -999.0,5,   -999.0,5,-999.0000,  -999.00,9,   129002,   1.6427
  06MT20030723,   576,  1,      3,2,20030825, 47.0000, -42.0590, 4220,   4172.4,   1.9972,  34.8795,2,-999.0000,9,    292.9,2,    13.52,2,    15.24,2,     0.01,2,     0.96,2,    2.968,3,    1.586,2,   -999.0,5,   -999.0,5,-999.0000,  -999.00,9,   129003,   1.6435
  06MT20030723,   576,  1,      4,2,20030825, 47.0000, -42.0590, 4220,   4070.1,   2.0791,  34.8823,2,-999.0000,9,    289.8,2,    14.87,2,    15.52,2,     0.01,2,     0.99,2,    2.709,3,    1.437,2,   -999.0,5,   -999.0,5,-999.0000,  -999.00,9,   129004,   1.7347
  06MT20030723,   576,  1,      5,2,20030825, 47.0000, -42.0590, 4220,   3754.5,   2.1819,  34.8882,2,-999.0000,9,    283.4,2,    17.54,2,    16.71,2,     0.01,2,     1.05,2,    2.091,3,    1.105,2,   2160.7,2,   -999.0,5,   7.7404,    25.00,2,   129005,   1.8699
  06MT20030723,   576,  1,      6,2,20030825, 47.0000, -42.0590, 4220,   3451.8,   2.2906,  34.8946,2,-999.0000,9,    281.8,2,    17.74,2,    16.45,2,     0.00,2,     1.05,2,    1.771,3,    0.922,2,   -999.0,5,   -999.0,5,-999.0000,  -999.00,9,   129006,   2.0086
  06MT20030723,   576,  1,      7,2,20030825, 47.0000, -42.0590, 4220,   3153.1,   2.4704,  34.8999,2,-999.0000,9,    285.5,2,    13.18,2,    16.05,2,     0.01,2,     1.01,2,    2.299,3,    1.223,2,   -999.0,5,   -999.0,5,-999.0000,  -999.00,9,   129007,   2.2155
  06MT20030723,   576,  1,      8,2,20030825, 47.0000, -42.0590, 4220,   2839.2,   2.6821,  34.8972,2,-999.0000,9,    284.2,2,    11.85,2,    16.31,2,     0.01,2,     1.02,2,    2.298,3,    1.219,2,   2154.8,2,   -999.0,5,   7.7394,    25.00,2,   129008,   2.4547
  06MT20030723,   576,  1,      9,2,20030825, 47.0000, -42.0590, 4220,   2524.2,   2.8399,  34.9026,2,  34.9028,2,    282.8,2,    11.78,2,    16.21,2,     0.00,2,     1.02,2,    2.329,3,    1.226,2,   -999.0,5,   -999.0,5,-999.0000,  -999.00,9,   129009,   2.6407
  06MT20030723,   576,  1,     10,2,20030825, 47.0000, -42.0590, 4220,   2226.5,   3.0172,  34.8938,2,-999.0000,9,    285.3,2,    10.53,2,    16.63,2,     0.01,2,     1.01,2,    2.777,3,    1.463,2,   -999.0,5,   -999.0,5,-999.0000,  -999.00,9,   129010,   2.8435
  06MT20030723,   576,  1,     11,2,20030825, 47.0000, -42.0590, 4220,   2033.0,   3.1089,  34.8860,2,-999.0000,9,    282.6,2,    10.33,2,    16.69,2,     0.00,2,     1.04,2,    2.795,3,    1.484,2,   2153.2,2,   -999.0,5,   7.7364,    25.00,2,   129011,   2.9518
  06MT20030723,   576,  1,     12,2,20030825, 47.0000, -42.0590, 4220,   1818.2,   3.2072,  34.8879,2,-999.0000,9,    284.9,2,    10.36,2,    17.15,2,     0.00,2,     1.06,2,    2.682,3,    1.416,2,   -999.0,5,   -999.0,5,-999.0000,  -999.00,9,   129012,   3.0683
  06MT20030723,   576,  1,     13,2,20030825, 47.0000, -42.0590, 4220,   1624.6,   3.2939,  34.8894,2,-999.0000,9,    279.4,2,    10.08,2,    17.41,2,     0.00,2,     1.05,2,    2.764,3,    1.450,2,   -999.0,5,   -999.0,5,   7.7354,    25.00,2,   129013,   3.1711
  06MT20030723,   576,  1,     14,2,20030825, 47.0000, -42.0590, 4220,   1412.2,   3.4050,  34.8917,2,-999.0000,9,    281.0,2,    10.06,2,    17.56,2,     0.00,2,     1.05,2,    2.864,3,    1.524,2,   -999.0,5,   -999.0,5,-999.0000,  -999.00,9,   129014,   3.2993
  06MT20030723,   576,  1,     15,2,20030825, 47.0000, -42.0590, 4220,   1308.2,   3.5118,  34.8997,2,-999.0000,9,    279.5,2,     9.94,2,    17.33,2,     0.00,2,     1.05,2,    2.882,3,    1.552,2,   -999.0,5,   -999.0,5,-999.0000,  -999.00,9,   129015,   3.4138
  06MT20030723,   576,  1,     16,2,20030825, 47.0000, -42.0590, 4220,   1201.8,   3.5551,  34.9006,2,-999.0000,9,    278.2,2,     9.76,2,    17.45,2,     0.00,2,     1.05,2,    2.861,3,    1.542,2,   2156.6,2,   2299.8,2,   7.7275,    25.00,2,   129016,   3.4656
  06MT20030723,   576,  1,     17,2,20030825, 47.0000, -42.0590, 4220,   1108.7,   3.6222,  34.9011,2,  34.9049,2,    278.1,2,     9.45,2,    17.47,2,     0.00,2,     1.05,2,    3.019,3,    1.634,2,   -999.0,5,   -999.0,5,-999.0000,  -999.00,9,   129017,   3.5399
  06MT20030723,   576,  1,     18,2,20030825, 47.0000, -42.0590, 4220,    977.4,   3.6569,  34.8974,2,-999.0000,9,    279.1,2,     9.33,2,    17.30,2,     0.00,2,     1.05,2,    3.084,3,    1.664,2,   -999.0,5,   -999.0,5,-999.0000,  -999.00,9,   129018,   3.5851
  06MT20030723,   576,  1,     19,2,20030825, 47.0000, -42.0590, 4220,    792.5,   3.7892,  34.9010,2,-999.0000,9,    277.6,2,     9.05,2,    17.19,2,     0.00,2,     1.04,2,    3.400,3,    1.842,2,   2158.0,2,   2300.4,2,   7.7325,    25.00,2,   129019,   3.7312
  06MT20030723,   576,  1,     20,2,20030825, 47.0000, -42.0590, 4220,    628.4,   3.8030,  34.8854,2,-999.0000,9,    279.0,2,     8.42,2,    17.18,2,     0.00,2,     1.02,2,    3.506,3,    1.951,2,   2157.5,2,   2299.6,2,   7.7276,    25.00,2,   129020,   3.7578
  06MT20030723,   576,  1,     21,2,20030825, 47.0000, -42.0590, 4220,    200.9,   4.8666,  34.8737,2,-999.0000,9,    254.6,2,     8.89,2,    16.95,2,     0.02,2,     1.05,2,    3.251,3,    1.818,2,   -999.0,5,   2299.4,2,   7.7285,    25.00,2,   129021,   4.8511
  06MT20030723,   576,  1,     22,2,20030825, 47.0000, -42.0590, 4220,     11.9,  14.7195,  34.0420,2,  34.0166,0,    266.4,2,     0.08,2,     0.01,2,     0.02,2,     0.04,2,    3.030,3,    1.810,2,   2008.7,2,   2262.6,2,   7.9859,    25.00,2,   129022,  14.7177
  06MT20030723,   578,  1,      1,2,20030825, 47.0000, -42.4010, 3900,   3926.4,   1.9731,  34.8789,2,-999.0000,9,   -999.0,5,  -999.00,5,  -999.00,5,  -999.00,5,  -999.00,5, -999.000,9, -999.000,9,   -999.0,5,   -999.0,5,   7.7354,    25.00,2,   131001,   1.6478
  06MT20030723,   578,  1,      2,2,20030825, 47.0000, -42.4010, 3900,   3926.1,   1.9727,  34.8796,2,  34.8809,2,    291.1,2,    13.88,2,    15.37,2,     0.01,2,     0.96,2,    2.904,3,    1.557,2,   2159.1,2,   2296.5,2,-999.0000,  -999.00,9,   131002,   1.6474
  06MT20030723,   578,  1,      3,2,20030825, 47.0000, -42.4010, 3900,   3863.7,   2.0103,  34.8809,2,-999.0000,9,    289.5,2,    14.67,2,    15.57,2,     0.01,2,     0.99,2,    2.777,3,    1.476,2,   2159.8,2,   2292.6,4,   7.7354,    25.00,2,   131003,   1.6909
  06MT20030723,   578,  1,      4,2,20030825, 47.0000, -42.4010, 3900,   3786.2,   2.0416,  34.8827,2,-999.0000,9,    287.8,2,    15.82,2,    15.98,2,     0.01,2,     0.99,2,    2.609,3,    1.388,2,   2159.1,2,   2307.1,2,   7.7374,    25.00,2,   131004,   1.7299
  06MT20030723,   578,  1,      5,2,20030825, 47.0000, -42.4010, 3900,   3555.0,   2.1295,  34.8869,2,-999.0000,9,    283.5,2,    17.74,2,    16.59,2,     0.00,2,     1.04,2,    2.139,3,    1.140,2,   2161.2,2,   2308.1,2,   7.7384,    25.00,2,   131005,   1.8405
  06MT20030723,   578,  1,      6,2,20030825, 47.0000, -42.4010, 3900,   3247.5,   2.2263,  34.8912,2,  34.8790,0,    283.4,2,    16.32,2,    16.29,2,     0.00,2,     1.04,2,    2.105,3,    1.118,2,   2158.9,2,   2309.4,2,   7.7384,    25.00,2,   131006,   1.9673
  06MT20030723,   578,  1,      7,2,20030825, 47.0000, -42.4010, 3900,   2941.2,   2.4680,  34.9017,2,-999.0000,9,    280.5,2,    15.82,2,    16.72,2,     0.00,2,     1.05,2,    1.828,3,    0.956,2,   2158.6,2,   2308.4,2,-999.0000,  -999.00,9,   131007,   2.2348
  06MT20030723,   578,  1,      8,2,20030825, 47.0000, -42.4010, 3900,   2533.1,   2.8118,  34.9096,2,-999.0000,9,    278.9,2,    13.60,2,    17.09,2,     0.00,2,     1.05,2,    1.799,3,    0.944,2,   2156.2,2,   2306.0,2,   7.7433,    25.00,2,   131008,   2.6122
  06MT20030723,   578,  1,      9,2,20030825, 47.0000, -42.4010, 3900,   2227.2,   3.0390,  34.9169,2,-999.0000,9,    277.2,2,    13.82,2,    17.50,2,     0.00,2,     1.09,2,    1.648,3,    0.853,2,   2156.8,2,   2313.6,2,   7.7423,    25.00,2,   131009,   2.8648
  06MT20030723,   578,  1,     10,2,20030825, 47.0000, -42.4010, 3900,   2010.0,   3.1093,  34.9043,2,-999.0000,9,    283.6,2,    12.42,2,    17.22,2,     0.00,2,     1.07,2,    2.066,3,    1.062,2,   2156.0,2,   2303.7,2,   7.7414,    25.00,2,   131010,   2.9543
  06MT20030723,   578,  1,     11,2,20030825, 47.0000, -42.4010, 3900,   1689.4,   3.2070,  34.8878,2,  34.8947,2,    279.7,2,    10.43,2,    17.10,2,     0.00,2,     1.06,2,    2.733,3,    1.457,2,   2154.3,2,   2301.0,2,   7.7364,    25.00,2,   131011,   3.0795
  06MT20030723,   578,  1,     12,2,20030825, 47.0000, -42.4010, 3900,   1440.7,   3.3568,  34.8939,2,-999.0000,9,   -999.0,5,  -999.00,5,  -999.00,5,  -999.00,5,  -999.00,5,    3.104,3,    1.634,2,   -999.0,5,   -999.0,5,-999.0000,  -999.00,9,   131012,   3.2492
  06MT20030723,   578,  1,     13,2,20030825, 47.0000, -42.4010, 3900,   1210.1,   3.3761,  34.8780,2,-999.0000,9,    283.9,2,     9.70,2,    17.02,2,     0.01,2,     1.05,2,    3.392,3,    1.819,2,   2155.1,2,   2299.1,2,   7.7305,    25.00,2,   131013,   3.2877
  06MT20030723,   578,  1,     14,2,20030825, 47.0000, -42.4010, 3900,   1010.4,   3.4512,  34.8713,2,-999.0000,9,    288.7,2,     8.69,2,    16.83,2,     0.00,2,     1.02,2,    3.849,3,    2.123,2,   2154.9,2,   2295.9,2,   7.7295,    25.00,2,   131014,   3.3783
  06MT20030723,   578,  1,     15,2,20030825, 47.0000, -42.4010, 3900,    774.6,   3.3913,  34.8446,2,-999.0000,9,    294.4,2,     8.42,2,    16.59,2,     0.01,2,     1.01,2,    4.012,3,    2.255,2,   2154.5,2,   2295.8,2,   7.7315,    25.00,2,   131015,   3.3372
  06MT20030723,   578,  1,     16,2,20030825, 47.0000, -42.4010, 3900,    673.6,   3.3783,  34.8327,2,-999.0000,9,   -999.0,5,  -999.00,5,  -999.00,5,  -999.00,5,  -999.00,5, -999.000,9, -999.000,9,   -999.0,5,   -999.0,5,-999.0000,  -999.00,9,   131016,   3.3319
  06MT20030723,   578,  1,     17,2,20030825, 47.0000, -42.4010, 3900,    608.0,   3.4185,  34.8331,2,-999.0000,9,    294.0,2,     8.40,2,    16.48,2,     0.01,2,     1.01,2,    4.134,3,    2.337,2,   2153.1,2,   2295.5,2,   7.7295,    25.00,2,   131017,   3.3767
  06MT20030723,   578,  1,     18,2,20030825, 47.0000, -42.4010, 3900,    526.4,   3.4103,  34.8225,2,-999.0000,9,    286.3,2,     8.71,2,    16.95,2,     0.00,2,     1.02,2,    3.864,3,    2.163,2,   2155.8,2,   2298.4,2,   7.7285,    25.00,2,   131018,   3.3745
  06MT20030723,   578,  1,     19,2,20030825, 47.0000, -42.4010, 3900,    428.3,   3.5456,  34.8314,2,  34.8561,0,    284.5,2,     8.62,2,    17.10,2,     0.01,2,     1.02,2,    3.856,3,    2.161,2,   2156.7,2,   2253.7,4,   7.7286,    25.00,2,   131019,   3.5164
  06MT20030723,   578,  1,     20,2,20030825, 47.0000, -42.4010, 3900,    173.2,   4.7627,  34.8261,2,-999.0000,9,    253.0,2,     9.68,2,    18.25,2,     0.01,2,     1.11,2,    3.063,3,    1.724,2,   2165.3,2,   2302.1,2,   7.7157,    25.00,2,   131020,   4.7495
  06MT20030723,   578,  1,     21,2,20030825, 47.0000, -42.4010, 3900,     97.1,   5.7284,  34.6828,2,-999.0000,9,    252.6,2,     7.56,2,    15.59,2,     0.01,2,     0.99,2, -999.000,9, -999.000,9,   2152.8,2,   2293.1,2,   7.7256,    25.00,2,   131021,   5.7204
  06MT20030723,   578,  1,     22,2,20030825, 47.0000, -42.4010, 3900,     14.2,  15.4757,  34.1745,2,-999.0000,9,    269.0,2,     0.20,2,     0.04,2,     0.02,2,     0.06,2,    3.158,3,    1.894,2,   2031.1,2,   2284.4,2,   7.9770,    25.00,2,   131022,  15.4735
  06MT20030723,   580,  1,      1,2,20030825, 47.0000, -42.7580, 3613,   3627.3,   1.9423,  34.8784,2,-999.0000,9,    293.2,2,    12.97,2,    15.14,2,     0.01,2,     0.93,2, -999.000,9, -999.000,9,   -999.0,5,   2301.8,2,   7.7325,    25.00,2,   133001,   1.6504
  06MT20030723,   580,  1,      2,2,20030825, 47.0000, -42.7580, 3613,   3627.2,   1.9418,  34.8785,2,-999.0000,9,    293.9,2,    13.06,2,    15.24,2,     0.01,2,     0.95,2,    3.084,3,    1.632,2,   -999.0,5,   -999.0,5,-999.0000,  -999.00,9,   133002,   1.6499
  06MT20030723,   580,  1,      3,2,20030825, 47.0000, -42.7580, 3613,   3556.2,   2.0443,  34.8828,2,-999.0000,9,    290.4,2,    13.88,2,    15.72,2,     0.01,2,     0.97,2,    2.788,3,    1.459,2,   -999.0,5,   2301.3,2,   7.7354,    25.00,2,   133003,   1.7574
  06MT20030723,   580,  1,      4,2,20030825, 47.0000, -42.7580, 3613,   3452.8,   2.1318,  34.8867,2,-999.0000,9,    286.5,2,    16.04,2,    16.26,2,     0.01,2,     1.01,2,    2.381,3,    1.257,2,   -999.0,5,   2304.6,2,   7.7374,    25.00,2,   133004,   1.8536
  06MT20030723,   580,  1,      5,2,20030825, 47.0000, -42.7580, 3613,   3256.3,   2.2325,  34.8923,2,-999.0000,9,    283.4,2,    17.50,2,    16.61,2,     0.00,2,     1.04,2,    2.020,3,    1.061,2,   -999.0,5,   -999.0,5,-999.0000,  -999.00,9,   133005,   1.9724
  06MT20030723,   580,  1,      6,2,20030825, 47.0000, -42.7580, 3613,   2953.4,   2.4859,  34.9026,2,-999.0000,9,    280.2,2,    16.29,2,    16.98,2,     0.00,2,     1.06,2,    1.728,3,    0.899,2,   -999.0,5,   -999.0,5,-999.0000,  -999.00,9,   133006,   2.2511
  06MT20030723,   580,  1,      7,2,20030825, 47.0000, -42.7580, 3613,   2637.0,   2.7388,  34.9084,2,-999.0000,9,    280.1,2,    14.17,2,    16.96,2,     0.00,2,     1.05,2,    1.852,3,    0.965,2,   -999.0,5,   -999.0,5,-999.0000,  -999.00,9,   133007,   2.5304
  06MT20030723,   580,  1,      8,2,20030825, 47.0000, -42.7580, 3613,   2339.1,   2.9434,  34.9076,2,-999.0000,9,    280.8,2,    12.91,2,    16.81,2,     0.00,2,     1.05,2,    2.013,3,    1.057,2,   -999.0,5,   -999.0,5,-999.0000,  -999.00,9,   133008,   2.7602
  06MT20030723,   580,  1,      9,2,20030825, 47.0000, -42.7580, 3613,   2034.6,   3.0762,  34.8991,2,-999.0000,9,    282.2,2,    11.89,2,    16.67,2,     0.00,2,     1.04,2,    2.254,3,    1.175,2,   -999.0,5,   2300.5,2,   7.7394,    25.00,2,   133009,   2.9194
  06MT20030723,   580,  1,     10,2,20030825, 47.0000, -42.7580, 3613,   1840.7,   3.1282,  34.8889,2,-999.0000,9,    285.5,2,    10.87,2,    17.10,2,     0.01,2,     1.05,2,    2.842,3,    1.493,2,   -999.0,5,   -999.0,5,-999.0000,  -999.00,9,   133010,   2.9883
  06MT20030723,   580,  1,     11,2,20030825, 47.0000, -42.7580, 3613,   1636.7,   3.2270,  34.8881,2,-999.0000,9,    284.5,2,    10.70,2,    17.23,2,     0.00,2,     1.06,2,    2.816,3,    1.475,2,   -999.0,5,   -999.0,5,-999.0000,  -999.00,9,   133011,   3.1039
  06MT20030723,   580,  1,     12,2,20030825, 47.0000, -42.7580, 3613,   1297.5,   3.4385,  34.9022,2,-999.0000,9,    280.7,2,    10.48,2,    17.34,2,     0.00,2,     1.05,2, -999.000,9, -999.000,9,   -999.0,5,   2298.8,2,   7.7315,    25.00,2,   133012,   3.3421
  06MT20030723,   580,  1,     13,2,20030825, 47.0000, -42.7580, 3613,   1131.5,   3.5484,  34.8979,2,-999.0000,9,    282.1,2,    10.16,2,    17.24,2,     0.00,2,     1.06,2,    3.179,3,    1.711,2,   -999.0,5,   -999.0,5,-999.0000,  -999.00,9,   133013,   3.4648
  06MT20030723,   580,  1,     14,2,20030825, 47.0000, -42.7580, 3613,    897.0,   3.4686,  34.8634,2,-999.0000,9,    290.0,2,     8.82,2,    16.87,2,     0.00,2,     1.03,2,    3.865,3,    2.147,2,   -999.0,5,   -999.0,5,-999.0000,  -999.00,9,   133014,   3.4046
  06MT20030723,   580,  1,     15,2,20030825, 47.0000, -42.7580, 3613,    799.1,   3.4691,  34.8545,2,-999.0000,9,    291.4,2,     8.66,2,    16.78,2,     0.00,2,     1.03,2,    3.976,3,    2.230,2,   -999.0,5,   -999.0,5,-999.0000,  -999.00,9,   133015,   3.4127
  06MT20030723,   580,  1,     16,2,20030825, 47.0000, -42.7580, 3613,    676.6,   3.4858,  34.8469,2,-999.0000,9,    291.4,2,     8.67,2,    16.74,2,     0.00,2,     1.04,2,    3.971,3,    2.222,2,   -999.0,5,   -999.0,5,-999.0000,  -999.00,9,   133016,   3.4386
  06MT20030723,   580,  1,     17,2,20030825, 47.0000, -42.7580, 3613,    591.8,   3.7573,  34.8793,2,-999.0000,9,    278.8,2,     9.31,2,    17.52,2,     0.00,2,     1.06,2,    3.456,3,    1.925,2,   -999.0,5,   2301.8,2,   7.7305,    25.00,2,   133017,   3.7151
  06MT20030723,   580,  1,     18,2,20030825, 47.0000, -42.7580, 3613,    491.3,   4.0044,  34.9026,2,-999.0000,9,    288.2,2,     9.19,2,    17.63,2,     0.00,2,     1.07,2,    3.366,3,    1.865,2,   -999.0,5,   2302.2,2,   7.7275,    25.00,2,   133018,   3.9688
  06MT20030723,   580,  1,     19,2,20030825, 47.0000, -42.7580, 3613,    390.7,   3.9132,  34.8585,2,-999.0000,9,    288.2,2,     8.90,2,    16.85,2,     0.01,2,     1.06,2,    3.581,4,    2.019,2,   -999.0,5,   2299.5,2,   7.7266,    25.00,2,   133019,   3.8855
  06MT20030723,   580,  1,     20,2,20030825, 47.0000, -42.7580, 3613,    301.0,   3.9596,  34.8372,2,-999.0000,9,    282.2,2,     8.51,2,    17.03,2,     0.01,2,     1.04,2,    3.896,3,    2.227,2,   -999.0,5,   2295.7,2,   7.7236,    25.00,2,   133020,   3.9384
  06MT20030723,   580,  1,     21,2,20030825, 47.0000, -42.7580, 3613,    103.1,   5.6658,  34.7902,2,-999.0000,9,    235.9,2,     9.22,2,    17.76,2,     0.01,2,     1.12,2,    3.042,3,    1.726,2,   -999.0,5,   2298.1,2,   7.7059,    25.00,2,   133021,   5.6573
  06MT20030723,   580,  1,     22,2,20030825, 47.0000, -42.7580, 3613,     11.6,  14.9498,  34.0218,2,-999.0000,9,    277.2,2,     0.11,2,     0.13,2,     0.03,2,     0.08,2,    3.065,3,    1.869,2,   -999.0,5,   2270.0,2,   7.9681,    25.00,2,   133022,  14.9481