BOTTLE,20090513PRINUNIVRMK
EXPOCODE,STNNBR,CASTNO,BTLNBR,BTLNBR_FLAG_W,DATE,LATITUDE,LONGITUDE,DEPTH,CTDPRS,CTDTMP,CTDSAL,CTDSAL_FLAG_W,SALNTY,SALNTY_FLAG_W,OXYGEN,OXYGEN_FLAG_W,SILCAT,SILCAT_FLAG_W,NITRAT,NITRAT_FLAG_W,NITRIT,NITRIT_FLAG_W,PHSPHT,PHSPHT_FLAG_W,CFC-11,CFC-11_FLAG_W,CFC-12,CFC-12_FLAG_W,TCARBN,TCARBN_FLAG_W,ALKALI,ALKALI_FLAG_W,PH_SWS,PH_TEMP,PH_SWS_FLAG_W,ID,THETA
,,,,,,,,METERS,DBARS,ITS-90,PSS-78,,PSS-78,,UMOL/KG,,UMOL/KG,,UMOL/KG,,UMOL/KG,,UMOL/KG,,PMOL/KG,,PMOL/KG,,UMOL/KG,,UMOL/KG,,,DEGC,,,DEGC
  06MT20030723,   560,  1,      1,2,20030821, 46.5920, -30.7920, 3431,   3447.4,   2.6563,  34.9139,2,-999.0000,9,    274.2,2,    17.31,2,    16.47,2,     0.00,2,     1.02,2, -999.000,9, -999.000,9,   2162.3,2,   2306.6,2,-999.0000,  -999.00,9,   113001,   2.3657
  06MT20030723,   560,  1,      2,2,20030821, 46.5920, -30.7920, 3431,   3447.4,   2.6560,  34.9147,2,-999.0000,9,    274.1,2,    17.29,2,    16.44,2,     0.00,2,     1.02,2,    1.571,3,    0.779,2,   -999.0,5,   -999.0,5,   7.7384,    25.00,2,   113002,   2.3654
  06MT20030723,   560,  1,      3,2,20030821, 46.5920, -30.7920, 3431,   3245.2,   2.7325,  34.9171,2,  34.9193,2,    274.0,2,    16.51,2,    16.59,2,     0.00,2,     1.02,2,    1.586,3,    0.783,2,   2162.4,2,   2307.0,2,   7.7384,    25.00,2,   113003,   2.4618
  06MT20030723,   560,  1,      4,2,20030821, 46.5920, -30.7920, 3431,   2942.2,   2.8864,  34.9182,2,-999.0000,9,    274.4,2,    15.39,2,    16.24,2,     0.00,2,     1.01,2,    1.642,3,    0.810,2,   2160.0,2,   2302.7,2,   7.7384,    25.00,2,   113004,   2.6441
  06MT20030723,   560,  1,      5,2,20030821, 46.5920, -30.7920, 3431,   2731.4,   3.0175,  34.9173,2,-999.0000,9,    274.6,2,    14.79,2,    16.67,2,     0.00,2,     1.03,2,    1.796,3,    0.887,2,   2160.9,2,   2303.8,2,   7.7374,    25.00,2,   113005,   2.7942
  06MT20030723,   560,  1,      6,2,20030821, 46.5920, -30.7920, 3431,   2634.7,   3.0682,  34.9143,2,-999.0000,9,    274.9,2,    14.32,2,    16.84,2,     0.00,2,     1.04,2, -999.000,9, -999.000,9,   2157.6,2,   2301.5,2,   7.7384,    25.00,2,   113006,   2.8537
  06MT20030723,   560,  1,      7,2,20030821, 46.5920, -30.7920, 3431,   2529.1,   3.1204,  34.9121,2,  34.9128,2,    275.7,2,    13.78,2,    16.97,2,     0.00,2,     1.02,2,    2.021,3,    0.988,2,   2159.8,2,   2306.6,2,   7.7364,    25.00,2,   113007,   2.9154
  06MT20030723,   560,  1,      8,2,20030821, 46.5920, -30.7920, 3431,   2222.4,   3.2319,  34.9010,2,-999.0000,9,    278.8,2,    11.71,2,    16.79,2,     0.00,2,     1.03,2,    2.374,3,    1.170,2,   2157.8,2,   2299.0,2,   7.7345,    25.00,2,   113008,   3.0550
  06MT20030723,   560,  1,      9,2,20030821, 46.5920, -30.7920, 3431,   1918.7,   3.3805,  34.8979,2,-999.0000,9,    278.8,2,    11.23,2,    16.99,2,     0.00,2,     1.04,2,    2.650,3,    1.311,2,   2156.8,2,   2298.4,2,   7.7325,    25.00,2,   113009,   3.2300
  06MT20030723,   560,  1,     10,2,20030821, 46.5920, -30.7920, 3431,   1810.6,   3.4409,  34.8984,2,-999.0000,9,   -999.0,5,    10.84,2,    17.18,2,     0.00,2,     1.04,2, -999.000,9, -999.000,9,   -999.0,5,   -999.0,5,-999.0000,  -999.00,9,   113010,   3.2995
  06MT20030723,   560,  1,     11,2,20030821, 46.5920, -30.7920, 3431,   1717.6,   3.5093,  34.9015,2,-999.0000,9,    276.6,2,    10.83,2,    17.22,2,     0.00,2,     1.04,2, -999.000,9, -999.000,9,   2156.2,2,   2299.1,2,   7.7315,    25.00,2,   113011,   3.3754
  06MT20030723,   560,  1,     12,2,20030821, 46.5920, -30.7920, 3431,   1607.4,   3.6234,  34.9087,2,-999.0000,9,    274.5,2,    10.46,2,    17.12,2,     0.00,2,     1.06,2,    2.782,3,    1.384,2,   2158.3,2,   2297.7,2,   7.7285,    25.00,2,   113012,   3.4980
  06MT20030723,   560,  1,     13,2,20030821, 46.5920, -30.7920, 3431,   1331.8,   4.0235,  34.9395,2,  34.9445,2,    267.0,2,     9.95,2,    17.45,2,     0.00,2,     1.05,2,    2.754,3,    1.408,2,   2161.7,2,   2300.5,2,   7.7256,    25.00,2,   113013,   3.9182
  06MT20030723,   560,  1,     14,2,20030821, 46.5920, -30.7920, 3431,   1239.3,   4.3574,  34.9779,2,-999.0000,9,    259.5,2,    10.27,2,    17.17,2,     0.00,2,     1.05,2, -999.000,9, -999.000,9,   2161.2,2,   2302.0,2,   7.7305,    25.00,2,   113014,   4.2571
  06MT20030723,   560,  1,     15,2,20030821, 46.5920, -30.7920, 3431,   1157.3,   4.7029,  35.0171,2,-999.0000,9,    251.1,2,    10.52,2,    17.93,2,     0.00,2,     1.09,2,    2.305,3,    1.187,2,   2166.8,2,   2306.3,2,   7.7265,    25.00,2,   113015,   4.6068
  06MT20030723,   560,  1,     16,2,20030821, 46.5920, -30.7920, 3431,   1070.9,   5.0515,  35.0375,2,-999.0000,9,    245.3,2,    10.17,2,    17.98,2,     0.00,2,     1.09,2,    2.408,3,    1.217,2,   2167.4,2,   2307.6,2,   7.7265,    25.00,2,   113016,   4.9604
  06MT20030723,   560,  1,     17,2,20030821, 46.5920, -30.7920, 3431,    804.5,   6.5174,  35.0127,2,  35.0938,2,    214.8,2,     9.88,2,    19.00,2,     0.00,2,     1.13,2,    2.154,3,    1.100,2,   2175.5,2,   2311.7,2,   7.7167,    25.00,2,   113017,   6.4415
  06MT20030723,   560,  1,     18,2,20030821, 46.5920, -30.7920, 3431,    497.2,   9.8015,  35.2815,2,-999.0000,9,    209.8,2,     6.24,2,    15.27,2,     0.01,2,     0.91,2,    2.557,3,    1.423,2,   2155.5,2,   2318.6,2,   7.7788,    25.00,2,   113018,   9.7434
  06MT20030723,   560,  1,     19,2,20030821, 46.5920, -30.7920, 3431,    178.0,  13.2258,  35.8098,2,-999.0000,9,    238.0,2,     2.25,2,     8.21,2,     0.01,2,     0.42,2,    2.860,3,    1.657,2,   2122.0,2,   2344.5,2,   7.8915,    25.00,2,   113019,  13.2009
  06MT20030723,   560,  1,     20,2,20030821, 46.5920, -30.7920, 3431,     91.4,  13.9309,  35.8980,2,-999.0000,9,    234.4,2,     1.95,2,     7.48,2,     0.02,2,     0.39,2, -999.000,9, -999.000,9,   2119.3,2,   2356.6,2,   7.9083,    25.00,2,   113020,  13.9177
  06MT20030723,   560,  1,     21,2,20030821, 46.5920, -30.7920, 3431,     58.9,  14.2755,  35.7047,2,-999.0000,9,    234.0,2,     0.90,2,     4.84,2,     0.15,2,     0.29,2, -999.000,9, -999.000,9,   2100.9,2,   2351.1,2,   7.9391,    25.00,2,   113021,  14.2669
  06MT20030723,   560,  1,     22,2,20030821, 46.5920, -30.7920, 3431,     21.8,  18.6827,  35.7350,2,-999.0000,9,    237.6,2,     0.08,2,     0.00,2,     0.01,2,     0.02,2,    2.463,3,    1.494,2,   2052.5,2,   2344.4,2,   8.0215,    25.00,2,   113022,  18.6789
  06MT20030723,   561,  1,      1,2,20030821, 46.5660, -31.5670, 3764,   3788.7,   2.4033,  34.9014,2,  34.9053,2,    277.0,2,    19.23,2,    16.72,2,     0.01,2,     1.03,2, -999.000,9, -999.000,9,   -999.0,5,   -999.0,5,-999.0000,  -999.00,9,   114001,   2.0815
  06MT20030723,   561,  1,      2,2,20030821, 46.5660, -31.5670, 3764,   3789.2,   2.4005,  34.9019,2,-999.0000,9,    277.7,2,    19.12,2,    16.85,2,     0.01,2,     1.03,2,    1.599,3,    0.797,2,   -999.0,5,   -999.0,5,-999.0000,  -999.00,9,   114002,   2.0788
  06MT20030723,   561,  1,      3,2,20030821, 46.5660, -31.5670, 3764,   3658.9,   2.4609,  34.9059,2,-999.0000,9,    276.6,2,    18.56,2,    16.99,2,     0.01,2,     1.02,2,    1.512,3,    0.748,2,   -999.0,5,   -999.0,5,-999.0000,  -999.00,9,   114003,   2.1520
  06MT20030723,   561,  1,      4,2,20030821, 46.5660, -31.5670, 3764,   3350.6,   2.6363,  34.9137,2,-999.0000,9,    275.7,2,    17.78,2,    16.96,2,     0.01,2,     1.02,2,    1.521,3,    0.739,2,   -999.0,5,   -999.0,5,-999.0000,  -999.00,9,   114004,   2.3566
  06MT20030723,   561,  1,      5,2,20030821, 46.5660, -31.5670, 3764,   3042.1,   2.8037,  34.9179,2,-999.0000,9,    275.0,2,    16.47,2,    17.01,2,     0.01,2,     1.03,2,    1.546,3,    0.764,2,   -999.0,5,   -999.0,5,-999.0000,  -999.00,9,   114005,   2.5528
  06MT20030723,   561,  1,      6,2,20030821, 46.5660, -31.5670, 3764,   2838.7,   2.9101,  34.9176,2,  34.9238,2,    275.4,2,    15.22,2,    17.06,2,     0.01,2,     1.04,2, -999.000,9, -999.000,9,   -999.0,5,   -999.0,5,-999.0000,  -999.00,9,   114006,   2.6780
  06MT20030723,   561,  1,      7,2,20030821, 46.5660, -31.5670, 3764,   2738.3,   2.9763,  34.9171,2,-999.0000,9,    276.2,2,    14.63,2,    16.93,2,     0.01,2,     1.02,2,    1.694,3,    0.831,2,   -999.0,5,   -999.0,5,-999.0000,  -999.00,9,   114007,   2.7531
  06MT20030723,   561,  1,      8,2,20030821, 46.5660, -31.5670, 3764,   2531.9,   3.0785,  34.9124,2,-999.0000,9,    277.4,2,    13.62,2,    16.89,2,     0.00,2,     1.01,2,    1.886,3,    0.927,2,   -999.0,5,   -999.0,5,-999.0000,  -999.00,9,   114008,   2.8740
  06MT20030723,   561,  1,      9,2,20030821, 46.5660, -31.5670, 3764,   2242.7,   3.1805,  34.8986,2,-999.0000,9,    281.2,2,    12.16,2,    17.04,2,     0.00,2,     1.01,2,    2.349,3,    1.146,2,   -999.0,5,   -999.0,5,-999.0000,  -999.00,9,   114009,   3.0025
  06MT20030723,   561,  1,     10,2,20030821, 46.5660, -31.5670, 3764,   2132.3,   3.2177,  34.8944,2,-999.0000,9,    281.2,2,    11.86,2,    17.13,2,     0.00,2,     1.04,2,    2.440,3,    1.200,2,   -999.0,5,   -999.0,5,-999.0000,  -999.00,9,   114010,   3.0496
  06MT20030723,   561,  1,     11,2,20030821, 46.5660, -31.5670, 3764,   1920.0,   3.3377,  34.8998,2,  34.9039,2,    279.3,2,    11.59,2,    17.24,2,     0.00,2,     1.04,2, -999.000,9, -999.000,9,   -999.0,5,   -999.0,5,-999.0000,  -999.00,9,   114011,   3.1876
  06MT20030723,   561,  1,     12,2,20030821, 46.5660, -31.5670, 3764,   1717.3,   3.4910,  34.9097,2,-999.0000,9,    276.4,2,    11.51,2,    17.31,2,     0.00,2,     1.04,2,    2.468,3,    1.232,2,   -999.0,5,   -999.0,5,-999.0000,  -999.00,9,   114012,   3.3574
  06MT20030723,   561,  1,     13,2,20030821, 46.5660, -31.5670, 3764,   1542.9,   3.6885,  34.9262,2,-999.0000,9,    273.1,2,    10.88,2,    17.46,2,     0.00,2,     1.04,2,    2.525,3,    1.249,2,   -999.0,5,   -999.0,5,-999.0000,  -999.00,9,   114013,   3.5681
  06MT20030723,   561,  1,     14,2,20030821, 46.5660, -31.5670, 3764,   1364.2,   3.8346,  34.9283,2,-999.0000,9,    270.5,2,    10.86,2,    17.18,2,     0.00,2,     1.04,2, -999.000,9, -999.000,9,   -999.0,5,   -999.0,5,-999.0000,  -999.00,9,   114014,   3.7284
  06MT20030723,   561,  1,     15,2,20030821, 46.5660, -31.5670, 3764,   1237.1,   3.9607,  34.9333,2,-999.0000,9,    267.9,2,    10.44,2,    17.47,2,     0.00,2,     1.05,2,    2.693,3,    1.375,2,   -999.0,5,   -999.0,5,-999.0000,  -999.00,9,   114015,   3.8644
  06MT20030723,   561,  1,     16,2,20030821, 46.5660, -31.5670, 3764,   1158.4,   4.0421,  34.9332,2,-999.0000,9,   -999.0,5,  -999.00,5,  -999.00,5,  -999.00,5,  -999.00,5, -999.000,9, -999.000,9,   -999.0,5,   -999.0,5,-999.0000,  -999.00,9,   114016,   3.9519
  06MT20030723,   561,  1,     17,2,20030821, 46.5660, -31.5670, 3764,   1070.9,   4.2261,  34.9498,2,-999.0000,9,    263.3,2,    10.20,2,    17.78,2,     0.00,2,     1.06,2,    2.927,3,    1.498,2,   -999.0,5,   -999.0,5,-999.0000,  -999.00,9,   114017,   4.1418
  06MT20030723,   561,  1,     18,2,20030821, 46.5660, -31.5670, 3764,    968.4,   4.5328,  34.9703,2,-999.0000,9,    256.9,2,    10.25,2,    18.10,2,     0.00,2,     1.05,2,    2.879,3,    1.476,2,   -999.0,5,   -999.0,5,-999.0000,  -999.00,9,   114018,   4.4550
  06MT20030723,   561,  1,     19,2,20030821, 46.5660, -31.5670, 3764,    711.2,   5.2830,  34.9575,2,-999.0000,9,    235.3,2,    10.41,2,    18.71,2,     0.01,2,     1.10,2,    2.760,3,    1.449,2,   -999.0,5,   -999.0,5,-999.0000,  -999.00,9,   114019,   5.2232
  06MT20030723,   561,  1,     20,2,20030821, 46.5660, -31.5670, 3764,    510.8,   6.9597,  34.9884,2,-999.0000,9,    205.7,2,    10.26,2,    19.60,2,     0.01,2,     1.16,2,    2.288,3,    1.211,2,   -999.0,5,   -999.0,5,-999.0000,  -999.00,9,   114020,   6.9109
  06MT20030723,   561,  1,     21,2,20030821, 46.5660, -31.5670, 3764,    210.0,  10.8069,  35.4087,2,-999.0000,9,    230.1,2,     4.47,2,    12.52,2,     0.01,2,     0.69,2,    2.883,3,    1.635,2,   -999.0,5,   -999.0,5,-999.0000,  -999.00,9,   114021,  10.7812
  06MT20030723,   561,  1,     22,2,20030821, 46.5660, -31.5670, 3764,     22.4,  18.4664,  35.5891,2,  35.5785,2,    240.3,2,     0.05,2,     0.02,2,     0.02,2,     0.01,2,    2.494,3,    1.502,2,   -999.0,5,   -999.0,5,-999.0000,  -999.00,9,   114022,  18.4625
  06MT20030723,   562,  1,      1,2,20030821, 46.5420, -32.3490, 3999,   4070.5,   2.3511,  34.8969,2,  34.9002,2,    277.4,2,    20.00,2,    16.37,2,     0.01,2,     1.02,2, -999.000,9, -999.000,9,   2164.0,2,   2308.5,2,   7.7354,    25.00,2,   115001,   1.9989
  06MT20030723,   562,  1,      2,2,20030821, 46.5420, -32.3490, 3999,   4070.9,   2.3513,  34.8969,2,-999.0000,9,    277.4,2,    19.98,2,    16.88,2,     0.00,2,     1.00,2, -999.000,9, -999.000,9,   -999.0,5,   -999.0,5,-999.0000,  -999.00,9,   115002,   1.9990
  06MT20030723,   562,  1,      3,2,20030821, 46.5420, -32.3490, 3999,   3966.5,   2.3514,  34.8980,2,-999.0000,9,    277.6,2,    19.77,2,    16.85,2,     0.01,2,     1.03,2,    1.679,3,    0.840,2,   2165.2,2,   2311.3,2,   7.7384,    25.00,2,   115003,   2.0111
  06MT20030723,   562,  1,      4,2,20030821, 46.5420, -32.3490, 3999,   3761.7,   2.3870,  34.9012,2,-999.0000,9,    276.6,2,    19.35,2,    16.84,2,     0.01,2,     1.02,2,    1.604,3,    0.800,2,   2162.3,2,   2306.9,2,   7.7384,    25.00,2,   115004,   2.0687
  06MT20030723,   562,  1,      5,2,20030821, 46.5420, -32.3490, 3999,   3553.1,   2.5011,  34.9080,2,-999.0000,9,    275.4,2,    18.77,2,    16.80,2,     0.01,2,     1.02,2,    1.528,3,    0.759,2,   2163.7,2,   2306.6,2,   7.7394,    25.00,2,   115005,   2.2028
  06MT20030723,   562,  1,      6,2,20030821, 46.5420, -32.3490, 3999,   3252.8,   2.6674,  34.9120,2,  34.9033,2,    276.4,2,    16.75,2,    16.83,2,     0.00,2,     1.00,2,    1.507,3,    0.750,2,   2158.1,2,   2300.4,2,   7.7414,    25.00,2,   115006,   2.3975
  06MT20030723,   562,  1,      7,2,20030821, 46.5420, -32.3490, 3999,   2942.3,   2.8938,  34.9160,2,-999.0000,9,    276.7,2,    14.53,2,    16.75,2,     0.00,2,     1.00,2,    1.699,3,    0.849,2,   2157.9,2,   2302.6,2,   7.7394,    25.00,2,   115007,   2.6514
  06MT20030723,   562,  1,      8,2,20030821, 46.5420, -32.3490, 3999,   2630.1,   3.0645,  34.9095,2,-999.0000,9,    277.7,2,    13.44,2,    16.71,2,     0.01,2,     1.01,2,    1.948,3,    0.966,2,   2157.0,2,   2301.4,2,   7.7384,    25.00,2,   115008,   2.8505
  06MT20030723,   562,  1,      9,2,20030821, 46.5420, -32.3490, 3999,   2324.3,   3.1341,  34.8927,2,-999.0000,9,    283.0,2,    11.30,2,    16.61,2,     0.00,2,     0.98,2,    2.724,3,    1.366,2,   2155.6,2,   2296.6,2,   7.7364,    25.00,2,   115009,   2.9491
  06MT20030723,   562,  1,     10,2,20030821, 46.5420, -32.3490, 3999,   2117.8,   3.2310,  34.8896,2,-999.0000,9,    282.5,2,    11.29,2,    16.53,2,     0.01,2,     0.98,2,    2.813,3,    1.400,2,   2154.7,2,   2295.2,2,   7.7364,    25.00,2,   115010,   3.0641
  06MT20030723,   562,  1,     11,2,20030821, 46.5420, -32.3490, 3999,   1907.4,   3.3659,  34.8966,2,  34.8994,2,    280.2,2,    11.30,2,    17.25,2,     0.01,2,     1.02,2,    2.650,3,    1.300,2,   2157.2,2,   2296.3,2,   7.7335,    25.00,2,   115011,   3.2166
  06MT20030723,   562,  1,     12,2,20030821, 46.5420, -32.3490, 3999,   1814.6,   3.4555,  34.9041,2,-999.0000,9,    277.7,2,    11.25,2,    17.14,2,     0.01,2,     1.05,2, -999.000,9, -999.000,9,   2153.9,2,   2293.8,2,   7.7335,    25.00,2,   115012,   3.3135
  06MT20030723,   562,  1,     13,2,20030821, 46.5420, -32.3490, 3999,   1619.8,   3.6964,  34.9265,2,-999.0000,9,    272.1,2,    11.34,2,    17.38,2,     0.01,2,     1.01,2,    2.351,3,    1.171,2,   2159.4,2,   2303.7,2,   7.7315,    25.00,2,   115013,   3.5690
  06MT20030723,   562,  1,     14,2,20030821, 46.5420, -32.3490, 3999,   1465.6,   3.8586,  34.9358,2,-999.0000,9,    269.2,2,    10.87,2,    17.59,2,     0.00,2,     1.01,2,    2.407,3,    1.218,2,   2158.2,2,   2299.4,2,   7.7325,    25.00,2,   115014,   3.7431
  06MT20030723,   562,  1,     15,2,20030821, 46.5420, -32.3490, 3999,   1362.6,   4.0068,  34.9473,2,-999.0000,9,    267.0,2,    10.74,2,    17.37,2,     0.01,2,     1.02,2,    2.552,3,    1.299,2,   2161.4,2,   2302.5,2,   7.7285,    25.00,2,   115015,   3.8989
  06MT20030723,   562,  1,     16,2,20030821, 46.5420, -32.3490, 3999,   1242.4,   3.9378,  34.9220,2,-999.0000,9,    271.1,2,    10.23,2,    17.25,2,     0.00,2,     1.02,2,    3.122,3,    1.608,2,   2161.3,2,   2298.0,2,   7.7275,    25.00,2,   115016,   3.8413
  06MT20030723,   562,  1,     17,2,20030821, 46.5420, -32.3490, 3999,   1132.7,   3.9873,  34.9132,2,-999.0000,9,    272.7,2,     9.56,2,    17.32,2,     0.00,2,     0.99,2,    3.334,3,    1.760,2,   2160.1,2,   2298.7,2,   7.7266,    25.00,2,   115017,   3.8998
  06MT20030723,   562,  1,     18,2,20030821, 46.5420, -32.3490, 3999,    846.9,   4.8095,  34.9465,2,-999.0000,9,    250.4,2,     9.99,2,    17.81,2,     0.01,2,     1.06,2,    2.995,3,    1.570,2,   2166.7,2,   2299.9,2,   7.7177,    25.00,2,   115018,   4.7405
  06MT20030723,   562,  1,     19,2,20030821, 46.5420, -32.3490, 3999,    518.1,   8.0845,  35.1294,2,  35.1330,2,    188.6,2,    10.19,2,    19.68,2,     0.01,2,     1.17,2,    1.895,3,    0.993,2,   2175.3,2,   2311.2,2,   7.7167,    25.00,2,   115019,   8.0305
  06MT20030723,   562,  1,     20,2,20030821, 46.5420, -32.3490, 3999,    198.7,  12.1654,  35.6086,2,-999.0000,9,    231.3,2,     3.83,2,    11.07,2,     0.02,2,     0.55,2,    2.762,3,    1.605,2,   2133.4,2,   2335.8,2,   7.8559,    25.00,2,   115020,  12.1391
  06MT20030723,   562,  1,     21,2,20030821, 46.5420, -32.3490, 3999,    102.7,  12.6433,  35.5726,2,-999.0000,9,    232.8,2,     1.54,2,     8.51,2,     0.03,2,     0.42,2, -999.000,9, -999.000,9,   2123.0,2,   2332.6,2,   7.8806,    25.00,2,   115021,  12.6294
  06MT20030723,   562,  1,     22,2,20030821, 46.5420, -32.3490, 3999,     28.7,  18.2605,  35.7091,2,-999.0000,9,    240.7,2,     0.21,2,     0.00,2,     0.01,2,     0.02,2,    2.451,3,    1.513,2,   2043.5,2,   2332.6,2,   8.0235,    25.00,2,   115022,  18.2555