BOTTLE,20090513PRINUNIVRMK
EXPOCODE,STNNBR,CASTNO,BTLNBR,BTLNBR_FLAG_W,DATE,LATITUDE,LONGITUDE,DEPTH,CTDPRS,CTDTMP,CTDSAL,CTDSAL_FLAG_W,SALNTY,SALNTY_FLAG_W,OXYGEN,OXYGEN_FLAG_W,SILCAT,SILCAT_FLAG_W,NITRAT,NITRAT_FLAG_W,NITRIT,NITRIT_FLAG_W,PHSPHT,PHSPHT_FLAG_W,CFC-11,CFC-11_FLAG_W,CFC-12,CFC-12_FLAG_W,TCARBN,TCARBN_FLAG_W,ALKALI,ALKALI_FLAG_W,PH_SWS,PH_TEMP,PH_SWS_FLAG_W,ID,THETA
,,,,,,,,METERS,DBARS,ITS-90,PSS-78,,PSS-78,,UMOL/KG,,UMOL/KG,,UMOL/KG,,UMOL/KG,,UMOL/KG,,PMOL/KG,,PMOL/KG,,UMOL/KG,,UMOL/KG,,,DEGC,,,DEGC
  06MT20030723,   494,  1,      1,2,20030803, 51.2250, -41.0500, 4150,   4212.2,   1.9609,  34.8806,2,  34.8778,2,    291.9,2,    12.85,2,    14.39,2,     0.00,2,     0.97,2, -999.000,9, -999.000,9,   2160.0,2,   2318.0,2,-999.0000,  -999.00,9,    45001,   1.6037
  06MT20030723,   494,  1,      2,2,20030803, 51.2250, -41.0500, 4150,   4212.2,   1.9609,  34.8806,2,-999.0000,9,    291.7,2,    12.90,2,    14.61,2,     0.00,2,     0.98,2, -999.000,9, -999.000,9,   -999.0,5,   -999.0,5,   7.7187,    25.00,2,    45002,   1.6037
  06MT20030723,   494,  1,      3,2,20030803, 51.2250, -41.0500, 4150,   3967.9,   2.0953,  34.8858,2,-999.0000,9,    286.8,2,    15.54,2,    15.32,2,     0.00,2,     1.02,2, -999.000,9, -999.000,9,   2160.3,2,   2316.2,2,   7.7216,    25.00,2,    45003,   1.7620
  06MT20030723,   494,  1,      4,2,20030803, 51.2250, -41.0500, 4150,   3659.6,   2.2312,  34.8925,2,-999.0000,9,    283.8,2,    16.06,2,    15.92,2,     0.00,2,     1.04,2,    2.325,3,    1.160,2,   2161.6,2,   2317.7,2,   7.7236,    25.00,2,    45004,   1.9283
  06MT20030723,   494,  1,      5,2,20030803, 51.2250, -41.0500, 4150,   3351.0,   2.4120,  34.9003,2,-999.0000,9,    281.7,2,    15.34,2,    15.91,2,     0.00,2,     1.05,2,    2.135,3,    1.066,2,   2161.0,2,   2315.4,2,   7.7236,    25.00,2,    45005,   2.1377
  06MT20030723,   494,  1,      6,2,20030803, 51.2250, -41.0500, 4150,   3044.4,   2.6586,  34.9068,2,-999.0000,9,    281.3,2,    13.68,2,    15.97,2,     0.00,2,     1.05,2,    2.156,3,    1.074,2,   2158.6,2,   2315.2,2,   7.7256,    25.00,2,    45006,   2.4107
  06MT20030723,   494,  1,      7,2,20030803, 51.2250, -41.0500, 4150,   2730.2,   2.8762,  34.9091,2,-999.0000,9,    281.2,2,    12.70,2,    16.04,2,     0.00,2,     1.06,2,    2.217,3,    1.102,2,   2156.8,2,   2311.5,2,   7.7246,    25.00,2,    45007,   2.6558
  06MT20030723,   494,  1,      8,2,20030803, 51.2250, -41.0500, 4150,   2429.5,   3.0377,  34.9011,2,  34.9024,2,    281.8,2,    11.61,2,    16.04,2,     0.00,2,     1.05,2,    2.545,3,    1.270,2,   2157.4,2,   2311.2,2,   7.7216,    25.00,2,    45008,   2.8441
  06MT20030723,   494,  1,      9,2,20030803, 51.2250, -41.0500, 4150,   2227.1,   3.1187,  34.8962,2,-999.0000,9,    282.9,2,    11.32,2,    16.53,2,     0.00,2,     1.08,2,    2.737,3,    1.354,2,   2156.6,2,   2310.2,2,   7.7226,    25.00,2,    45009,   2.9432
  06MT20030723,   494,  1,     10,2,20030803, 51.2250, -41.0500, 4150,   2026.2,   3.1680,  34.8894,2,-999.0000,9,    284.0,2,    10.93,2,    16.48,2,     0.00,2,     1.09,2,    2.954,3,    1.457,2,   2154.9,2,   2311.5,2,   7.7226,    25.00,2,    45010,   3.0106
  06MT20030723,   494,  1,     11,2,20030803, 51.2250, -41.0500, 4150,   1802.8,   3.2723,  34.8887,2,-999.0000,9,    282.8,2,    10.69,2,    16.87,2,     0.00,2,     1.10,2,    3.076,3,    1.525,2,   2155.8,2,   2304.8,2,   7.7177,    25.00,2,    45011,   3.1339
  06MT20030723,   494,  1,     12,2,20030803, 51.2250, -41.0500, 4150,   1607.0,   3.4166,  34.8955,2,-999.0000,9,   -999.0,5,  -999.00,5,  -999.00,5,  -999.00,5,  -999.00,5, -999.000,9, -999.000,9,   -999.0,5,   -999.0,5,-999.0000,  -999.00,9,    45012,   3.2938
  06MT20030723,   494,  1,     13,2,20030803, 51.2250, -41.0500, 4150,   1412.8,   3.5336,  34.8990,2,-999.0000,9,    279.9,2,    10.27,2,    16.94,2,     0.00,2,     1.10,2,    3.286,3,    1.659,2,   2158.6,2,   2312.0,2,   7.7177,    25.00,2,    45013,   3.4264
  06MT20030723,   494,  1,     14,2,20030803, 51.2250, -41.0500, 4150,   1211.4,   3.5877,  34.8899,2,-999.0000,9,    281.8,2,     9.73,2,    16.86,2,     0.00,2,     1.09,2,    3.591,3,    1.842,2,   2157.1,2,   2309.0,2,   7.7157,    25.00,2,    45014,   3.4972
  06MT20030723,   494,  1,     15,2,20030803, 51.2250, -41.0500, 4150,   1018.4,   3.6612,  34.8860,2,-999.0000,9,    281.9,2,     9.36,2,    16.79,2,     0.00,2,     1.07,2,    3.817,3,    1.968,2,   2158.2,2,   2311.7,2,   7.7128,    25.00,2,    45015,   3.5860
  06MT20030723,   494,  1,     16,2,20030803, 51.2250, -41.0500, 4150,    823.9,   3.7823,  34.8819,2,-999.0000,9,    281.1,2,     9.12,2,    16.61,2,     0.01,2,     1.08,2,    4.005,3,    2.084,2,   2158.1,2,   2310.7,2,   7.7118,    25.00,2,    45016,   3.7219
  06MT20030723,   494,  1,     17,2,20030803, 51.2250, -41.0500, 4150,    602.1,   4.0446,  34.8795,2,  34.8818,2,    274.5,2,     9.08,2,    16.78,2,     0.01,2,     1.10,2,    3.925,3,    2.058,2,   2161.5,2,   2312.7,2,   7.7069,    25.00,2,    45017,   4.0003
  06MT20030723,   494,  1,     18,2,20030803, 51.2250, -41.0500, 4150,    400.7,   5.2874,  34.9445,2,-999.0000,9,    236.8,2,    10.68,2,    18.06,2,     0.02,2,     1.20,2,    2.780,3,    1.462,2,   2173.5,2,   2314.4,2,   7.6970,    25.00,2,    45018,   5.2546
  06MT20030723,   494,  1,     19,2,20030803, 51.2250, -41.0500, 4150,    205.1,   7.0624,  34.9222,2,-999.0000,9,    238.6,2,     8.51,2,    16.41,2,     0.02,2,     1.07,2,    3.334,3,    1.808,2,   2155.8,2,   2312.9,2,   7.7256,    25.00,2,    45019,   7.0431
  06MT20030723,   494,  1,     20,2,20030803, 51.2250, -41.0500, 4150,     88.8,   9.1203,  35.0126,2,  35.0449,0,    232.0,2,     5.68,2,    13.42,2,     0.02,2,     0.85,2,    3.287,3,    1.801,2,   2140.3,2,   2316.4,2,   7.7788,    25.00,2,    45020,   9.1106
  06MT20030723,   494,  1,     21,2,20030803, 51.2250, -41.0500, 4150,     72.8,  10.1682,  35.1553,2,-999.0000,9,    242.4,2,     3.69,2,    10.53,2,     0.04,2,     0.63,2,    3.366,3,    1.871,2,   2126.6,2,   2321.3,2,   7.8223,    25.00,2,    45021,  10.1597
  06MT20030723,   494,  1,     22,2,20030803, 51.2250, -41.0500, 4150,     12.3,  13.1648,  34.7990,2,-999.0000,9,    272.5,2,     0.53,2,     0.00,2,     0.03,2,     0.15,2,    3.336,3,    1.888,2,   2043.3,2,   2303.8,2,   7.9690,    25.00,2,    45022,  13.1631
  06MT20030723,   495,  1,      1,2,20030804, 50.5330, -40.9650, 4378,   4463.6,   2.0527,  34.8824,2,-999.0000,9,    289.6,2,  -999.00,5,  -999.00,5,  -999.00,5,  -999.00,5, -999.000,9, -999.000,9,   -999.0,5,   -999.0,5,-999.0000,  -999.00,9,    46001,   1.6635
  06MT20030723,   495,  1,      2,2,20030804, 50.5330, -40.9650, 4378,   4463.3,   2.0524,  34.8828,2,-999.0000,9,   -999.0,5,  -999.00,5,  -999.00,5,  -999.00,5,  -999.00,5,    3.105,3,    1.561,2,   -999.0,5,   -999.0,5,-999.0000,  -999.00,9,    46002,   1.6632
  06MT20030723,   495,  1,      3,2,20030804, 50.5330, -40.9650, 4378,   4274.3,   2.1502,  34.8877,2,-999.0000,9,   -999.0,5,  -999.00,5,  -999.00,5,  -999.00,5,  -999.00,5,    2.626,3,    1.312,2,   -999.0,5,   -999.0,5,-999.0000,  -999.00,9,    46003,   1.7802
  06MT20030723,   495,  1,      4,2,20030804, 50.5330, -40.9650, 4378,   3969.1,   2.2822,  34.8944,2,-999.0000,9,   -999.0,5,  -999.00,5,  -999.00,5,  -999.00,5,  -999.00,5,    1.950,3,    0.985,2,   -999.0,5,   -999.0,5,-999.0000,  -999.00,9,    46004,   1.9435
  06MT20030723,   495,  1,      5,2,20030804, 50.5330, -40.9650, 4378,   3610.9,   2.4908,  34.9039,2,  34.9126,0,   -999.0,5,  -999.00,5,  -999.00,5,  -999.00,5,  -999.00,5,    1.864,3,    0.940,2,   -999.0,5,   -999.0,5,-999.0000,  -999.00,9,    46005,   2.1865
  06MT20030723,   495,  1,      6,2,20030804, 50.5330, -40.9650, 4378,   3251.5,   2.7974,  34.9129,2,-999.0000,9,    278.1,2,  -999.00,5,  -999.00,5,  -999.00,5,  -999.00,5,    1.800,3,    0.903,2,   -999.0,5,   -999.0,5,-999.0000,  -999.00,9,    46006,   2.5246
  06MT20030723,   495,  1,      7,2,20030804, 50.5330, -40.9650, 4378,   2951.1,   2.9836,  34.9120,2,-999.0000,9,   -999.0,5,  -999.00,5,  -999.00,5,  -999.00,5,  -999.00,5,    2.006,3,    0.995,2,   -999.0,5,   -999.0,5,-999.0000,  -999.00,9,    46007,   2.7384
  06MT20030723,   495,  1,      8,2,20030804, 50.5330, -40.9650, 4378,   2629.3,   3.1111,  34.9038,2,-999.0000,9,   -999.0,5,  -999.00,5,  -999.00,5,  -999.00,5,  -999.00,5,    2.333,3,    1.154,2,   -999.0,5,   -999.0,5,-999.0000,  -999.00,9,    46008,   2.8963
  06MT20030723,   495,  1,      9,2,20030804, 50.5330, -40.9650, 4378,   2328.4,   3.2130,  34.8953,2,-999.0000,9,   -999.0,5,  -999.00,5,  -999.00,5,  -999.00,5,  -999.00,5,    2.682,3,    1.324,2,   -999.0,5,   -999.0,5,-999.0000,  -999.00,9,    46009,   3.0262
  06MT20030723,   495,  1,     10,2,20030804, 50.5330, -40.9650, 4378,   2044.0,   3.3783,  34.8983,2,  34.8972,2,    280.8,2,  -999.00,5,  -999.00,5,  -999.00,5,  -999.00,5,    2.861,3,    1.406,2,   -999.0,5,   -999.0,5,-999.0000,  -999.00,9,    46010,   3.2161
  06MT20030723,   495,  1,     11,2,20030804, 50.5330, -40.9650, 4378,   1717.5,   3.5718,  34.9063,2,-999.0000,9,   -999.0,5,  -999.00,5,  -999.00,5,  -999.00,5,  -999.00,5,    2.952,3,    1.478,2,   -999.0,5,   -999.0,5,-999.0000,  -999.00,9,    46011,   3.4371
  06MT20030723,   495,  1,     12,2,20030804, 50.5330, -40.9650, 4378,   1463.7,   3.6876,  34.9029,2,-999.0000,9,   -999.0,5,  -999.00,5,  -999.00,5,  -999.00,5,  -999.00,5,    3.370,3,    1.723,2,   -999.0,5,   -999.0,5,-999.0000,  -999.00,9,    46012,   3.5743
  06MT20030723,   495,  1,     13,2,20030804, 50.5330, -40.9650, 4378,   1223.4,   3.8540,  34.9031,2,  34.9002,2,   -999.0,5,  -999.00,5,  -999.00,5,  -999.00,5,  -999.00,5,    3.620,3,    1.859,2,   -999.0,5,   -999.0,5,-999.0000,  -999.00,9,    46013,   3.7599
  06MT20030723,   495,  1,     14,2,20030804, 50.5330, -40.9650, 4378,   1028.0,   4.0846,  34.9126,2,-999.0000,9,   -999.0,5,  -999.00,5,  -999.00,5,  -999.00,5,  -999.00,5,    3.284,3,    1.686,2,   -999.0,5,   -999.0,5,-999.0000,  -999.00,9,    46014,   4.0052
  06MT20030723,   495,  1,     15,2,20030804, 50.5330, -40.9650, 4378,    936.7,   4.4080,  34.9415,2,-999.0000,9,    267.5,2,  -999.00,5,  -999.00,5,  -999.00,5,  -999.00,5,    3.506,3,    1.835,2,   -999.0,5,   -999.0,5,-999.0000,  -999.00,9,    46015,   4.3339
  06MT20030723,   495,  1,     16,2,20030804, 50.5330, -40.9650, 4378,    799.6,   4.4392,  34.8835,2,-999.0000,9,   -999.0,5,  -999.00,5,  -999.00,5,  -999.00,5,  -999.00,5,    3.542,3,    1.856,2,   -999.0,5,   -999.0,5,-999.0000,  -999.00,9,    46016,   4.3767
  06MT20030723,   495,  1,     17,2,20030804, 50.5330, -40.9650, 4378,    673.9,   5.4959,  34.9355,2,-999.0000,9,   -999.0,5,  -999.00,5,  -999.00,5,  -999.00,5,  -999.00,5,    2.748,3,    1.446,2,   -999.0,5,   -999.0,5,-999.0000,  -999.00,9,    46017,   5.4383
  06MT20030723,   495,  1,     18,2,20030804, 50.5330, -40.9650, 4378,    547.9,   6.7979,  34.9315,2,-999.0000,9,   -999.0,5,  -999.00,5,  -999.00,5,  -999.00,5,  -999.00,5,    2.228,3,    1.179,2,   -999.0,5,   -999.0,5,-999.0000,  -999.00,9,    46018,   6.7462
  06MT20030723,   495,  1,     19,2,20030804, 50.5330, -40.9650, 4378,    402.5,   9.4671,  35.1940,2,-999.0000,9,   -999.0,5,  -999.00,5,  -999.00,5,  -999.00,5,  -999.00,5,    2.504,3,    1.391,2,   -999.0,5,   -999.0,5,-999.0000,  -999.00,9,    46019,   9.4213
  06MT20030723,   495,  1,     20,2,20030804, 50.5330, -40.9650, 4378,    258.8,  11.9636,  35.6067,2,-999.0000,9,   -999.0,5,  -999.00,5,  -999.00,5,  -999.00,5,  -999.00,5,    2.781,3,    1.600,2,   -999.0,5,   -999.0,5,-999.0000,  -999.00,9,    46020,  11.9296
  06MT20030723,   495,  1,     21,2,20030804, 50.5330, -40.9650, 4378,    117.0,  13.2142,  35.6944,2,-999.0000,9,   -999.0,5,  -999.00,5,  -999.00,5,  -999.00,5,  -999.00,5,    2.778,3,    1.585,2,   -999.0,5,   -999.0,5,-999.0000,  -999.00,9,    46021,  13.1979
  06MT20030723,   495,  1,     22,2,20030804, 50.5330, -40.9650, 4378,     34.7,  14.8234,  35.4182,2,-999.0000,9,    258.8,2,  -999.00,5,  -999.00,5,  -999.00,5,  -999.00,5,    2.858,3,    1.662,2,   -999.0,5,   -999.0,5,-999.0000,  -999.00,9,    46022,  14.8182
  06MT20030723,   496,  1,      1,2,20030804, 49.8310, -40.8810, 4420,   4474.3,   1.9191,  34.8792,2,  34.8776,2,    294.6,2,    11.71,2,    14.35,2,     0.01,2,     0.94,2, -999.000,9, -999.000,9,   2160.3,2,   2300.4,2,   7.7147,    25.00,2,    47001,   1.5328
  06MT20030723,   496,  1,      2,2,20030804, 49.8310, -40.8810, 4420,   4474.0,   1.9191,  34.8791,2,-999.0000,9,    295.3,2,    11.72,2,    14.39,2,     0.01,2,     0.94,2,    3.550,3,    1.794,2,   -999.0,5,   -999.0,5,-999.0000,  -999.00,9,    47002,   1.5328
  06MT20030723,   496,  1,      3,2,20030804, 49.8310, -40.8810, 4420,   4379.0,   1.9843,  34.8806,2,-999.0000,9,    294.2,2,    12.16,2,    14.61,2,     0.01,2,     0.96,2,    3.433,3,    1.733,2,   2160.0,2,   2311.6,2,   7.7167,    25.00,2,    47003,   1.6071
  06MT20030723,   496,  1,      4,2,20030804, 49.8310, -40.8810, 4420,   4057.8,   2.1589,  34.8883,2,-999.0000,9,    286.2,2,    15.70,2,    15.47,2,     0.00,2,     1.02,2,    2.612,3,    1.326,2,   2164.0,2,   2302.2,5,   7.7207,    25.00,2,    47004,   1.8136
  06MT20030723,   496,  1,      5,2,20030804, 49.8310, -40.8810, 4420,   3672.3,   2.3840,  34.8993,2,-999.0000,9,    280.3,2,    17.48,2,    16.09,2,     0.00,2,     1.06,2,    1.870,3,    0.932,2,   2164.0,2,   2315.9,2,   7.7137,    25.00,2,    47005,   2.0757
  06MT20030723,   496,  1,      6,2,20030804, 49.8310, -40.8810, 4420,   3335.5,   2.5996,  34.9046,2,-999.0000,9,   -999.0,5,    12.78,2,    15.60,2,     0.01,2,     1.03,2, -999.000,9, -999.000,9,   2158.1,2,   2308.6,2,   7.7266,    25.00,2,    47006,   2.3225
  06MT20030723,   496,  1,      7,2,20030804, 49.8310, -40.8810, 4420,   3045.1,   2.8368,  34.9082,2,  34.9089,2,    281.2,2,    12.86,2,    15.96,2,     0.00,2,     1.04,2,    2.255,3,    1.125,2,   2161.9,2,   2310.4,2,   7.7216,    25.00,2,    47007,   2.5850
  06MT20030723,   496,  1,      8,2,20030804, 49.8310, -40.8810, 4420,   2735.0,   3.0156,  34.9036,2,-999.0000,9,    281.0,2,    11.95,2,    15.93,2,     0.00,2,     1.05,2,    2.404,3,    1.199,2,   2159.2,2,   2306.5,2,   7.7236,    25.00,2,    47008,   2.7920
  06MT20030723,   496,  1,      9,2,20030804, 49.8310, -40.8810, 4420,   2416.2,   3.1439,  34.8952,2,-999.0000,9,    281.9,2,    11.43,2,    16.50,2,     0.00,2,     1.06,2,    2.606,3,    1.299,2,   2158.1,2,   2307.2,2,   7.7206,    25.00,2,    47009,   2.9497
  06MT20030723,   496,  1,     10,2,20030804, 49.8310, -40.8810, 4420,   2100.6,   3.2405,  34.8916,2,-999.0000,9,    282.5,2,    10.97,2,    16.69,2,     0.00,2,     1.07,2,    2.864,3,    1.428,2,   2159.9,2,   2313.3,2,   7.7266,    25.00,2,    47010,   3.0751
  06MT20030723,   496,  1,     11,2,20030804, 49.8310, -40.8810, 4420,   1841.4,   3.3857,  34.8938,2,-999.0000,9,    280.6,2,    10.79,2,    16.63,2,     0.00,2,     1.07,2, -999.000,9, -999.000,9,   2160.9,2,   2311.8,2,   7.7167,    25.00,2,    47011,   3.2422
  06MT20030723,   496,  1,     12,2,20030804, 49.8310, -40.8810, 4420,   1639.2,   3.5533,  34.9063,2,  34.9016,2,    278.2,2,    10.49,2,    16.74,2,     0.00,2,     1.08,2,    3.053,3,    1.552,2,   2161.5,2,   2311.6,2,   7.7137,    25.00,2,    47012,   3.4259
  06MT20030723,   496,  1,     13,2,20030804, 49.8310, -40.8810, 4420,   1401.4,   3.5922,  34.8900,2,-999.0000,9,    280.8,2,     9.79,2,    16.43,2,     0.00,2,     1.07,2,    3.490,3,    1.791,2,   2160.8,2,   2308.6,2,   7.7128,    25.00,2,    47013,   3.4854
  06MT20030723,   496,  1,     14,2,20030804, 49.8310, -40.8810, 4420,   1107.0,   3.7233,  34.8850,2,-999.0000,9,    283.1,2,     9.30,2,    16.54,2,     0.00,2,     1.06,2,    3.865,3,    2.005,2,   2159.8,2,   2303.9,2,   7.7098,    25.00,2,    47014,   3.6403
  06MT20030723,   496,  1,     15,2,20030804, 49.8310, -40.8810, 4420,    807.2,   4.0496,  34.8934,2,-999.0000,9,    275.5,2,     9.30,2,    16.26,2,     0.01,2,     1.06,2,    3.800,3,    1.993,2,   2162.2,2,   2305.8,2,   7.7078,    25.00,2,    47015,   3.9889
  06MT20030723,   496,  1,     16,2,20030804, 49.8310, -40.8810, 4420,    706.9,   4.2924,  34.8983,2,-999.0000,9,    269.0,2,     9.39,2,    16.81,2,     0.01,2,     1.07,2,    3.641,3,    1.921,2,   2164.2,2,   2303.4,2,   7.7069,    25.00,2,    47016,   4.2384
  06MT20030723,   496,  1,     17,2,20030804, 49.8310, -40.8810, 4420,    555.5,   4.8172,  34.8903,2,  34.8902,2,    256.9,2,     9.67,2,    17.23,2,     0.01,2,     1.12,2,    3.432,3,    1.820,2,   2166.4,2,   2308.0,2,   7.7019,    25.00,2,    47017,   4.7731
  06MT20030723,   496,  1,     18,2,20030804, 49.8310, -40.8810, 4420,    414.0,   6.0533,  34.9293,2,-999.0000,9,    227.8,2,    10.23,2,    18.33,2,     0.02,2,     1.19,2,    2.853,3,    1.521,2,   2171.0,2,   2311.4,2,   7.6970,    25.00,2,    47018,   6.0169
  06MT20030723,   496,  1,     19,2,20030804, 49.8310, -40.8810, 4420,    213.5,   8.3443,  35.0172,2,-999.0000,9,    226.2,2,     7.49,2,    15.91,2,     0.02,2,     0.99,2,    3.105,3,    1.688,2,   2155.8,2,   2308.3,2,   7.7433,    25.00,2,    47019,   8.3221
  06MT20030723,   496,  1,     20,2,20030804, 49.8310, -40.8810, 4420,     92.8,  10.3704,  35.0627,2,-999.0000,9,    238.6,2,     3.63,2,    10.41,2,     0.07,2,     0.63,2,    3.375,3,    1.865,2,   2125.6,2,   2317.0,2,   7.8203,    25.00,2,    47020,  10.3594
  06MT20030723,   496,  1,     21,2,20030804, 49.8310, -40.8810, 4420,     69.1,  11.4301,  35.0222,2,-999.0000,9,    256.4,2,     1.43,2,     4.50,2,     0.32,2,     0.37,2,    3.478,3,    1.948,2,   2096.8,2,   2319.5,2,   7.8817,    25.00,2,    47021,  11.4214
  06MT20030723,   496,  1,     22,2,20030804, 49.8310, -40.8810, 4420,     11.0,  12.9031,  34.8708,2,-999.0000,9,    269.7,2,     0.42,2,     0.78,2,     0.08,2,     0.15,2,    3.335,3,    1.888,2,   2060.8,2,   2318.7,2,   7.9501,    25.00,2,    47022,  12.9016