BOTTLE,20090513PRINUNIVRMK
EXPOCODE,STNNBR,CASTNO,BTLNBR,BTLNBR_FLAG_W,DATE,LATITUDE,LONGITUDE,DEPTH,CTDPRS,CTDTMP,CTDSAL,CTDSAL_FLAG_W,SALNTY,SALNTY_FLAG_W,OXYGEN,OXYGEN_FLAG_W,SILCAT,SILCAT_FLAG_W,NITRAT,NITRAT_FLAG_W,NITRIT,NITRIT_FLAG_W,PHSPHT,PHSPHT_FLAG_W,CFC-11,CFC-11_FLAG_W,CFC-12,CFC-12_FLAG_W,TCARBN,TCARBN_FLAG_W,ALKALI,ALKALI_FLAG_W,PH_SWS,PH_TEMP,PH_SWS_FLAG_W,ID,THETA
,,,,,,,,METERS,DBARS,ITS-90,PSS-78,,PSS-78,,UMOL/KG,,UMOL/KG,,UMOL/KG,,UMOL/KG,,UMOL/KG,,PMOL/KG,,PMOL/KG,,UMOL/KG,,UMOL/KG,,,DEGC,,,DEGC
  06MT20030723,   473,  1,      1,2,20030729, 56.8010, -51.3800, 3614,   3614.5,   1.5460,  34.8808,2,-999.0000,9,    297.0,2,     9.56,2,    13.91,2,     0.01,2,     0.93,2, -999.000,9, -999.000,9,   2158.4,2,   2297.1,2,-999.0000,  -999.00,9,    24001,   1.2657
  06MT20030723,   473,  1,      2,2,20030729, 56.8010, -51.3800, 3614,   3614.4,   1.5455,  34.8812,2,-999.0000,9,    296.6,2,     9.67,2,    13.82,2,     0.01,2,     0.93,2,    3.717,3,    1.961,2,   -999.0,5,   -999.0,5,-999.0000,  -999.00,9,    24002,   1.2652
  06MT20030723,   473,  1,      3,2,20030729, 56.8010, -51.3800, 3614,   3558.0,   1.6378,  34.8741,2,-999.0000,9,    297.1,2,    10.40,2,    14.00,2,     0.01,2,     0.94,2, -999.000,9, -999.000,9,   2158.7,2,   2299.4,2,-999.0000,  -999.00,9,    24003,   1.3610
  06MT20030723,   473,  1,      4,2,20030729, 56.8010, -51.3800, 3614,   3310.6,   2.2564,  34.8896,2,-999.0000,9,    288.4,2,    12.01,2,    15.11,2,     0.00,2,     1.01,2, -999.000,9, -999.000,9,   2157.3,2,   2302.9,2,-999.0000,  -999.00,9,    24004,   1.9901
  06MT20030723,   473,  1,      5,2,20030729, 56.8010, -51.3800, 3614,   3046.0,   2.6339,  34.9021,2,-999.0000,9,    283.7,2,    11.98,2,    15.55,2,     0.00,2,     1.04,2,    2.598,3,    1.341,2,   2158.4,2,   2303.6,2,-999.0000,  -999.00,9,    24005,   2.3864
  06MT20030723,   473,  1,      6,2,20030729, 56.8010, -51.3800, 3614,   2828.7,   2.8354,  34.9050,2,-999.0000,9,    282.6,2,    11.55,2,    15.75,2,     0.00,2,     1.05,2,    2.521,3,    1.297,2,   2155.8,2,   2308.8,2,-999.0000,  -999.00,9,    24006,   2.6059
  06MT20030723,   473,  1,      7,2,20030729, 56.8010, -51.3800, 3614,   2636.9,   2.9574,  34.8982,2,  34.9026,2,    283.4,2,    11.14,2,    15.92,2,     0.00,2,     1.05,2, -999.000,9, -999.000,9,   2156.2,2,   2300.2,2,-999.0000,  -999.00,9,    24007,   2.7448
  06MT20030723,   473,  1,      8,2,20030729, 56.8010, -51.3800, 3614,   2433.0,   3.0594,  34.8915,2,-999.0000,9,    283.7,2,    10.66,2,    15.99,2,     0.00,2,     1.07,2, -999.000,9, -999.000,9,   2156.6,2,   2302.9,2,-999.0000,  -999.00,9,    24008,   2.8651
  06MT20030723,   473,  1,      9,2,20030729, 56.8010, -51.3800, 3614,   2228.7,   3.1083,  34.8804,2,-999.0000,9,    286.5,2,    10.39,2,    16.16,2,     0.00,2,     1.08,2, -999.000,9, -999.000,9,   2155.4,2,   2305.0,2,-999.0000,  -999.00,9,    24009,   2.9329
  06MT20030723,   473,  1,     10,2,20030729, 56.8010, -51.3800, 3614,   2023.7,   3.1563,  34.8738,2,-999.0000,9,    287.4,2,    10.25,2,    16.55,2,     0.00,2,     1.09,2,    3.294,3,    1.677,2,   2155.1,2,   2302.8,2,-999.0000,  -999.00,9,    24010,   2.9994
  06MT20030723,   473,  1,     11,2,20030729, 56.8010, -51.3800, 3614,   1846.5,   3.2570,  34.8785,2,-999.0000,9,    285.1,2,    10.15,2,    16.59,2,     0.00,2,     1.09,2,    3.392,3,    1.725,2,   2156.6,2,   2302.0,2,-999.0000,  -999.00,9,    24011,   3.1149
  06MT20030723,   473,  1,     12,2,20030729, 56.8010, -51.3800, 3614,   1608.4,   3.3996,  34.8826,2,  34.8847,2,    282.3,2,    10.03,2,    16.72,2,     0.00,2,     1.10,2,    3.430,3,    1.775,2,   2157.6,2,   2300.9,2,-999.0000,  -999.00,9,    24012,   3.2769
  06MT20030723,   473,  1,     13,2,20030729, 56.8010, -51.3800, 3614,   1388.4,   3.3745,  34.8619,2,-999.0000,9,    288.0,2,     9.26,2,    16.19,2,     0.00,2,     1.08,2,    3.870,3,    2.044,2,   2156.5,2,   2298.4,2,-999.0000,  -999.00,9,    24013,   3.2712
  06MT20030723,   473,  1,     14,2,20030729, 56.8010, -51.3800, 3614,   1174.1,   3.2545,  34.8362,2,-999.0000,9,    298.3,2,     8.39,2,    15.79,2,     0.00,2,     1.05,2,    4.453,3,    2.408,2,   2155.2,2,   2299.1,2,-999.0000,  -999.00,9,    24014,   3.1702
  06MT20030723,   473,  1,     15,2,20030729, 56.8010, -51.3800, 3614,    954.8,   3.2224,  34.8291,2,-999.0000,9,    300.2,2,     8.25,2,    15.63,2,     0.00,2,     1.04,2,    4.550,3,    2.471,2,   2153.4,2,   2296.3,2,-999.0000,  -999.00,9,    24015,   3.1557
  06MT20030723,   473,  1,     16,2,20030729, 56.8010, -51.3800, 3614,    753.9,   3.2232,  34.8279,2,-999.0000,9,    300.6,2,     8.14,2,    15.70,2,     0.00,2,     1.04,2, -999.000,9, -999.000,9,   2153.7,2,   2298.6,2,-999.0000,  -999.00,9,    24016,   3.1717
  06MT20030723,   473,  1,     17,2,20030729, 56.8010, -51.3800, 3614,    573.9,   3.2067,  34.8231,2,-999.0000,9,    301.4,2,     8.02,2,    15.73,2,     0.00,2,     1.04,2,    4.574,3,    2.501,2,   2154.4,2,   2296.5,2,-999.0000,  -999.00,9,    24017,   3.1684
  06MT20030723,   473,  1,     18,2,20030729, 56.8010, -51.3800, 3614,    421.6,   3.2181,  34.8205,2,-999.0000,9,    301.7,2,  -999.00,5,    15.69,2,     0.01,2,     1.03,2,    4.671,3,    2.560,2,   2153.6,2,   2295.3,2,-999.0000,  -999.00,9,    24018,   3.1904
  06MT20030723,   473,  1,     19,2,20030729, 56.8010, -51.3800, 3614,    317.2,   3.3001,  34.8252,2,-999.0000,9,    302.0,2,     7.84,2,    15.72,2,     0.01,2,     1.03,2,    4.588,3,    2.504,2,   2155.1,2,   2298.0,2,-999.0000,  -999.00,9,    24019,   3.2793
  06MT20030723,   473,  1,     20,2,20030729, 56.8010, -51.3800, 3614,    145.7,   3.3798,  34.8039,2,-999.0000,9,    302.1,2,     7.69,2,    15.93,2,     0.12,2,     1.03,2,    4.812,3,    2.648,2,   2155.9,2,   2296.0,2,-999.0000,  -999.00,9,    24020,   3.3704
  06MT20030723,   473,  1,     21,2,20030729, 56.8010, -51.3800, 3614,     76.6,   4.1200,  34.7935,2,-999.0000,9,    309.7,2,     7.37,2,    11.29,2,     0.21,2,     0.91,2, -999.000,9, -999.000,9,   2145.4,2,   2298.1,2,-999.0000,  -999.00,9,    24021,   4.1146
  06MT20030723,   473,  1,     22,2,20030729, 56.8010, -51.3800, 3614,     17.7,   8.1590,  34.6872,2,-999.0000,9,    319.8,2,     0.24,2,     0.41,2,     0.06,2,     0.16,2,    4.324,3,    2.457,2,   2059.0,2,   2297.4,2,-999.0000,  -999.00,9,    24022,   8.1572
  06MT20030723,   474,  1,      1,2,20030730, 56.3910, -50.7840, 3658,   3671.7,   1.7991,  34.8781,2,  34.8774,2,    295.0,2,  -999.00,5,  -999.00,5,  -999.00,5,  -999.00,5, -999.000,9, -999.000,9,   -999.0,5,   -999.0,5,-999.0000,  -999.00,9,    25001,   1.5062
  06MT20030723,   474,  1,      2,2,20030730, 56.3910, -50.7840, 3658,   3671.2,   1.7979,  34.8790,2,-999.0000,9,   -999.0,5,  -999.00,5,  -999.00,5,  -999.00,5,  -999.00,5,    3.540,3,    1.831,2,   -999.0,5,   -999.0,5,-999.0000,  -999.00,9,    25002,   1.5051
  06MT20030723,   474,  1,      3,2,20030730, 56.3910, -50.7840, 3658,   3614.9,   1.8612,  34.8808,2,-999.0000,9,   -999.0,5,  -999.00,5,  -999.00,5,  -999.00,5,  -999.00,5, -999.000,9, -999.000,9,   -999.0,5,   -999.0,5,-999.0000,  -999.00,9,    25003,   1.5727
  06MT20030723,   474,  1,      4,2,20030730, 56.3910, -50.7840, 3658,   3460.0,   2.0860,  34.8871,2,-999.0000,9,   -999.0,5,  -999.00,5,  -999.00,5,  -999.00,5,  -999.00,5,    3.020,3,    1.574,2,   -999.0,5,   -999.0,5,-999.0000,  -999.00,9,    25004,   1.8082
  06MT20030723,   474,  1,      5,2,20030730, 56.3910, -50.7840, 3658,   3305.0,   2.2122,  34.8925,2,-999.0000,9,   -999.0,5,  -999.00,5,  -999.00,5,  -999.00,5,  -999.00,5, -999.000,9, -999.000,9,   -999.0,5,   -999.0,5,-999.0000,  -999.00,9,    25005,   1.9476
  06MT20030723,   474,  1,      6,2,20030730, 56.3910, -50.7840, 3658,   3147.3,   2.3062,  34.8971,2,-999.0000,9,   -999.0,5,  -999.00,5,  -999.00,5,  -999.00,5,  -999.00,5, -999.000,9, -999.000,9,   -999.0,5,   -999.0,5,-999.0000,  -999.00,9,    25006,   2.0557
  06MT20030723,   474,  1,      7,2,20030730, 56.3910, -50.7840, 3658,   2946.5,   2.5847,  34.9109,2,-999.0000,9,    280.7,2,  -999.00,5,  -999.00,5,  -999.00,5,  -999.00,5, -999.000,9, -999.000,9,   -999.0,5,   -999.0,5,-999.0000,  -999.00,9,    25007,   2.3485
  06MT20030723,   474,  1,      8,2,20030730, 56.3910, -50.7840, 3658,   2738.5,   2.7998,  34.9177,2,-999.0000,9,   -999.0,5,  -999.00,5,  -999.00,5,  -999.00,5,  -999.00,5, -999.000,9, -999.000,9,   -999.0,5,   -999.0,5,-999.0000,  -999.00,9,    25008,   2.5801
  06MT20030723,   474,  1,      9,2,20030730, 56.3910, -50.7840, 3658,   2535.2,   2.9149,  34.9088,2,-999.0000,9,   -999.0,5,  -999.00,5,  -999.00,5,  -999.00,5,  -999.00,5,    2.290,3,    1.169,2,   -999.0,5,   -999.0,5,-999.0000,  -999.00,9,    25009,   2.7132
  06MT20030723,   474,  1,     10,2,20030730, 56.3910, -50.7840, 3658,   2227.4,   3.0499,  34.8951,2,-999.0000,9,   -999.0,5,  -999.00,5,  -999.00,5,  -999.00,5,  -999.00,5,    2.678,3,    1.376,2,   -999.0,5,   -999.0,5,-999.0000,  -999.00,9,    25010,   2.8755
  06MT20030723,   474,  1,     11,2,20030730, 56.3910, -50.7840, 3658,   2022.9,   3.0997,  34.8827,2,  34.8849,2,   -999.0,5,  -999.00,5,  -999.00,5,  -999.00,5,  -999.00,5,    3.059,3,    1.565,2,   -999.0,5,   -999.0,5,-999.0000,  -999.00,9,    25011,   2.9437
  06MT20030723,   474,  1,     12,2,20030730, 56.3910, -50.7840, 3658,   1725.3,   3.2105,  34.8807,2,-999.0000,9,    285.3,2,  -999.00,5,  -999.00,5,  -999.00,5,  -999.00,5,    3.240,3,    1.650,2,   -999.0,5,   -999.0,5,-999.0000,  -999.00,9,    25012,   3.0799
  06MT20030723,   474,  1,     13,2,20030730, 56.3910, -50.7840, 3658,   1413.3,   3.3854,  34.8842,2,-999.0000,9,   -999.0,5,  -999.00,5,  -999.00,5,  -999.00,5,  -999.00,5,    3.252,3,    1.722,2,   -999.0,5,   -999.0,5,-999.0000,  -999.00,9,    25013,   3.2798
  06MT20030723,   474,  1,     14,2,20030730, 56.3910, -50.7840, 3658,   1160.0,   3.4073,  34.8650,2,-999.0000,9,   -999.0,5,  -999.00,5,  -999.00,5,  -999.00,5,  -999.00,5,    3.877,3,    2.051,2,   -999.0,5,   -999.0,5,-999.0000,  -999.00,9,    25014,   3.3227
  06MT20030723,   474,  1,     15,2,20030730, 56.3910, -50.7840, 3658,    979.0,   3.3654,  34.8527,2,-999.0000,9,   -999.0,5,  -999.00,5,  -999.00,5,  -999.00,5,  -999.00,5,    4.107,3,    2.189,2,   -999.0,5,   -999.0,5,-999.0000,  -999.00,9,    25015,   3.2957
  06MT20030723,   474,  1,     16,2,20030730, 56.3910, -50.7840, 3658,    767.0,   3.2876,  34.8352,2,-999.0000,9,   -999.0,5,  -999.00,5,  -999.00,5,  -999.00,5,  -999.00,5,    4.445,3,    2.416,2,   -999.0,5,   -999.0,5,-999.0000,  -999.00,9,    25016,   3.2347
  06MT20030723,   474,  1,     17,2,20030730, 56.3910, -50.7840, 3658,    524.8,   3.3377,  34.8334,2,-999.0000,9,    297.6,2,  -999.00,5,  -999.00,5,  -999.00,5,  -999.00,5,    4.495,3,    2.447,2,   -999.0,5,   -999.0,5,-999.0000,  -999.00,9,    25017,   3.3023
  06MT20030723,   474,  1,     18,2,20030730, 56.3910, -50.7840, 3658,    288.3,   3.3775,  34.8209,2,-999.0000,9,   -999.0,5,  -999.00,5,  -999.00,5,  -999.00,5,  -999.00,5,    4.598,3,    2.531,2,   -999.0,5,   -999.0,5,-999.0000,  -999.00,9,    25018,   3.3585
  06MT20030723,   474,  1,     19,2,20030730, 56.3910, -50.7840, 3658,    197.5,   3.3839,  34.8089,2,-999.0000,9,   -999.0,5,  -999.00,5,  -999.00,5,  -999.00,5,  -999.00,5,    4.694,3,    2.609,2,   -999.0,5,   -999.0,5,-999.0000,  -999.00,9,    25019,   3.3710
  06MT20030723,   474,  1,     20,2,20030730, 56.3910, -50.7840, 3658,    101.0,   3.5716,  34.7771,2,-999.0000,9,   -999.0,5,  -999.00,5,  -999.00,5,  -999.00,5,  -999.00,5,    4.822,3,    2.682,2,   -999.0,5,   -999.0,5,-999.0000,  -999.00,9,    25020,   3.5650
  06MT20030723,   474,  1,     21,2,20030730, 56.3910, -50.7840, 3658,     71.7,   3.9731,  34.7817,2,  34.9723,0,   -999.0,5,  -999.00,5,  -999.00,5,  -999.00,5,  -999.00,5, -999.000,9, -999.000,9,   -999.0,5,   -999.0,5,-999.0000,  -999.00,9,    25021,   3.9682
  06MT20030723,   474,  1,     22,2,20030730, 56.3910, -50.7840, 3658,     18.3,   9.9588,  34.5856,2,-999.0000,9,    291.9,2,  -999.00,5,  -999.00,5,  -999.00,5,  -999.00,5,    3.791,3,    2.279,2,   -999.0,5,   -999.0,5,-999.0000,  -999.00,9,    25022,   9.9567
  06MT20030723,   475,  1,      1,2,20030730, 55.9920, -50.1740, 3710,   3715.9,   1.5813,  34.8822,2,  34.8798,2,    297.0,2,     9.57,2,    13.90,2,     0.01,2,     0.94,2, -999.000,9, -999.000,9,   2160.9,2,   2300.8,2,-999.0000,  -999.00,9,    26001,   1.2894
  06MT20030723,   475,  1,      2,2,20030730, 55.9920, -50.1740, 3710,   3715.5,   1.5815,  34.8824,2,-999.0000,9,    296.6,2,     9.63,2,    13.91,2,     0.01,2,     0.94,2, -999.000,9, -999.000,9,   -999.0,5,   -999.0,5,-999.0000,  -999.00,9,    26002,   1.2896
  06MT20030723,   475,  1,      3,2,20030730, 55.9920, -50.1740, 3710,   3662.8,   1.6855,  34.8773,2,-999.0000,9,    296.6,2,    10.38,2,    14.00,2,     0.01,2,     0.95,2, -999.000,9, -999.000,9,   2159.4,2,   2299.3,2,-999.0000,  -999.00,9,    26003,   1.3965
  06MT20030723,   475,  1,      4,2,20030730, 55.9920, -50.1740, 3710,   3456.8,   2.2172,  34.8928,2,-999.0000,9,    287.0,2,    13.85,2,    15.38,2,     0.01,2,     1.02,2, -999.000,9, -999.000,9,   2160.8,2,   2301.2,2,-999.0000,  -999.00,9,    26004,   1.9365
  06MT20030723,   475,  1,      5,2,20030730, 55.9920, -50.1740, 3710,   3248.8,   2.4541,  34.9060,2,-999.0000,9,    282.1,2,    14.85,2,    15.95,2,     0.01,2,     1.07,2, -999.000,9, -999.000,9,   2160.2,2,   2302.7,2,-999.0000,  -999.00,9,    26005,   2.1896
  06MT20030723,   475,  1,      6,2,20030730, 55.9920, -50.1740, 3710,   3044.3,   2.6691,  34.9150,2,  34.9150,2,    279.9,2,    13.50,2,    16.00,2,     0.01,2,     1.06,2, -999.000,9, -999.000,9,   2160.6,2,   -999.0,5,-999.0000,  -999.00,9,    26006,   2.4210
  06MT20030723,   475,  1,      7,2,20030730, 55.9920, -50.1740, 3710,   2840.6,   2.8098,  34.9125,2,-999.0000,9,    281.2,2,    12.28,2,    15.96,2,     0.01,2,     1.06,2, -999.000,9, -999.000,9,   2159.4,2,   2305.1,2,-999.0000,  -999.00,9,    26007,   2.5796
  06MT20030723,   475,  1,      8,2,20030730, 55.9920, -50.1740, 3710,   2649.0,   2.9258,  34.9070,2,-999.0000,9,    281.6,2,    11.44,2,    15.94,2,     0.01,2,     1.05,2, -999.000,9, -999.000,9,   2158.5,2,   2300.5,2,-999.0000,  -999.00,9,    26008,   2.7126
  06MT20030723,   475,  1,      9,2,20030730, 55.9920, -50.1740, 3710,   2431.0,   3.0265,  34.8996,2,-999.0000,9,    284.3,2,    11.06,2,    16.15,2,     0.00,2,     1.07,2, -999.000,9, -999.000,9,   2157.8,2,   2299.6,2,-999.0000,  -999.00,9,    26009,   2.8330
  06MT20030723,   475,  1,     10,2,20030730, 55.9920, -50.1740, 3710,   2125.7,   3.1024,  34.8819,2,-999.0000,9,   -999.0,5,    10.30,2,    16.37,2,     0.01,2,     1.08,2, -999.000,9, -999.000,9,   2156.7,2,   2298.1,2,-999.0000,  -999.00,9,    26010,   2.9368
  06MT20030723,   475,  1,     11,2,20030730, 55.9920, -50.1740, 3710,   1870.2,   3.1867,  34.8765,2,-999.0000,9,    286.5,2,    10.04,2,    16.45,2,     0.01,2,     1.08,2, -999.000,9, -999.000,9,   2159.9,2,   2302.1,2,-999.0000,  -999.00,9,    26011,   3.0434
  06MT20030723,   475,  1,     12,2,20030730, 55.9920, -50.1740, 3710,   1667.1,   3.3303,  34.8836,2,-999.0000,9,    282.7,2,    10.00,2,    16.55,2,     0.01,2,     1.09,2,    3.403,3,    1.705,2,   2159.7,2,   2299.2,2,-999.0000,  -999.00,9,    26012,   3.2033
  06MT20030723,   475,  1,     13,2,20030730, 55.9920, -50.1740, 3710,   1453.1,   3.4366,  34.8806,2,-999.0000,9,    283.5,2,     9.70,2,    16.46,2,     0.01,2,     1.08,2,    3.560,3,    1.815,2,   2159.3,2,   2300.7,2,-999.0000,  -999.00,9,    26013,   3.3271
  06MT20030723,   475,  1,     14,2,20030730, 55.9920, -50.1740, 3710,   1238.3,   3.3327,  34.8510,2,-999.0000,9,    291.8,2,     8.82,2,    16.02,2,     0.00,2,     1.06,2,    4.267,3,    2.254,2,   2157.7,2,   2296.4,2,-999.0000,  -999.00,9,    26014,   3.2424
  06MT20030723,   475,  1,     15,2,20030730, 55.9920, -50.1740, 3710,   1063.0,   3.2994,  34.8405,2,-999.0000,9,    295.6,2,     8.49,2,    15.71,2,     0.01,2,     1.05,2,    4.460,3,    2.368,2,   2157.2,2,   2295.0,2,-999.0000,  -999.00,9,    26015,   3.2236
  06MT20030723,   475,  1,     16,2,20030730, 55.9920, -50.1740, 3710,    786.8,   3.3363,  34.8266,2,  34.8422,0,    295.6,2,     8.49,2,    15.95,2,     0.01,2,     1.05,2,    4.392,3,    2.335,2,   2156.7,2,   2301.2,2,-999.0000,  -999.00,9,    26016,   3.2817
  06MT20030723,   475,  1,     17,2,20030730, 55.9920, -50.1740, 3710,    602.1,   3.3345,  34.8341,2,-999.0000,9,    297.3,2,     8.28,2,    15.96,2,     0.01,2,     1.04,2, -999.000,9, -999.000,9,   2155.9,2,   2296.4,2,-999.0000,  -999.00,9,    26017,   3.2936
  06MT20030723,   475,  1,     18,2,20030730, 55.9920, -50.1740, 3710,    329.6,   3.4042,  34.8232,2,-999.0000,9,    292.8,2,     8.36,2,    16.09,2,     0.01,2,     1.05,2,    4.468,3,    2.417,2,   2157.6,2,   2293.9,2,-999.0000,  -999.00,9,    26018,   3.3823
  06MT20030723,   475,  1,     19,2,20030730, 55.9920, -50.1740, 3710,    258.8,   3.3323,  34.8002,2,-999.0000,9,    297.3,2,     8.11,2,    15.84,2,     0.03,2,     1.04,2,    4.672,3,    2.521,2,   2157.4,2,   -999.0,5,-999.0000,  -999.00,9,    26019,   3.3154
  06MT20030723,   475,  1,     20,2,20030730, 55.9920, -50.1740, 3710,    102.9,   3.7763,  34.7853,2,-999.0000,9,    304.0,2,     7.69,2,    14.77,2,     0.57,2,     1.01,2,    4.976,3,    2.720,2,   2152.5,2,   2293.9,2,-999.0000,  -999.00,9,    26020,   3.7694
  06MT20030723,   475,  1,     21,2,20030730, 55.9920, -50.1740, 3710,     74.9,   4.3042,  34.7939,2,-999.0000,9,    308.4,2,     7.24,2,    11.22,2,     0.32,2,     0.91,2,    5.123,3,    2.793,2,   2144.3,2,   2299.2,2,-999.0000,  -999.00,9,    26021,   4.2988
  06MT20030723,   475,  1,     22,2,20030730, 55.9920, -50.1740, 3710,     17.2,   9.4430,  34.6408,2,-999.0000,9,    297.1,2,     0.40,2,     3.56,2,     0.09,2,     0.35,2,    4.188,3,    2.364,2,   2083.4,2,   2292.1,2,-999.0000,  -999.00,9,    26022,   9.4411