BOTTLE,20090513PRINUNIVRMK
EXPOCODE,STNNBR,CASTNO,BTLNBR,BTLNBR_FLAG_W,DATE,LATITUDE,LONGITUDE,DEPTH,CTDPRS,CTDTMP,CTDSAL,CTDSAL_FLAG_W,SALNTY,SALNTY_FLAG_W,OXYGEN,OXYGEN_FLAG_W,SILCAT,SILCAT_FLAG_W,NITRAT,NITRAT_FLAG_W,NITRIT,NITRIT_FLAG_W,PHSPHT,PHSPHT_FLAG_W,CFC-11,CFC-11_FLAG_W,CFC-12,CFC-12_FLAG_W,TCARBN,TCARBN_FLAG_W,ALKALI,ALKALI_FLAG_W,PH_SWS,PH_TEMP,PH_SWS_FLAG_W,ID,THETA
,,,,,,,,METERS,DBARS,ITS-90,PSS-78,,PSS-78,,UMOL/KG,,UMOL/KG,,UMOL/KG,,UMOL/KG,,UMOL/KG,,PMOL/KG,,PMOL/KG,,UMOL/KG,,UMOL/KG,,,DEGC,,,DEGC
  06MT20030723,   451,  1,      1,2,20030725, 61.1830, -32.4830, 2676,   2682.3,   2.9228,  34.9225,2,  34.9080,0,    279.7,2,    12.49,2,    15.92,2,     0.00,2,     1.04,2, -999.000,9, -999.000,9,   -999.0,5,   -999.0,5,-999.0000,  -999.00,9,     3001,   2.7063
  06MT20030723,   451,  1,      2,2,20030725, 61.1830, -32.4830, 2676,   2682.4,   2.9228,  34.9226,2,-999.0000,9,    279.6,2,    12.53,2,    15.89,2,     0.00,2,     1.04,2,    2.393,3,    1.227,2,   -999.0,5,   -999.0,5,-999.0000,  -999.00,9,     3002,   2.7063
  06MT20030723,   451,  1,      3,2,20030725, 61.1830, -32.4830, 2676,   2535.6,   2.9494,  34.9234,2,-999.0000,9,    281.0,2,    12.38,2,    15.89,2,     0.00,2,     1.03,2,    2.316,3,    1.191,2,   -999.0,5,   -999.0,5,-999.0000,  -999.00,9,     3003,   2.7469
  06MT20030723,   451,  1,      4,2,20030725, 61.1830, -32.4830, 2676,   2331.0,   2.9901,  34.9255,2,-999.0000,9,    279.8,2,    12.75,2,    15.97,2,     0.00,2,     1.04,2,    2.316,3,    1.169,2,   -999.0,5,   -999.0,5,-999.0000,  -999.00,9,     3004,   2.8068
  06MT20030723,   451,  1,      5,2,20030725, 61.1830, -32.4830, 2676,   2128.2,   3.1127,  34.9271,2,-999.0000,9,    279.3,2,    11.54,2,    16.06,2,     0.00,2,     1.04,2,    2.422,3,    1.261,2,   -999.0,5,   -999.0,5,-999.0000,  -999.00,9,     3005,   2.9466
  06MT20030723,   451,  1,      6,2,20030725, 61.1830, -32.4830, 2676,   2024.1,   3.1754,  34.9292,2,-999.0000,9,    279.7,2,    11.44,2,    16.15,2,     0.00,2,     1.05,2,    2.589,3,    1.336,2,   -999.0,5,   -999.0,5,-999.0000,  -999.00,9,     3006,   3.0180
  06MT20030723,   451,  1,      7,2,20030725, 61.1830, -32.4830, 2676,   1923.1,   3.1607,  34.9186,2,-999.0000,9,    280.9,2,    10.94,2,    16.21,2,     0.00,2,     1.05,2,    2.642,3,    1.391,2,   -999.0,5,   -999.0,5,-999.0000,  -999.00,9,     3007,   3.0128
  06MT20030723,   451,  1,      8,2,20030725, 61.1830, -32.4830, 2676,   1721.8,   3.2108,  34.9091,2,  34.9036,2,    284.0,2,    10.48,2,    16.27,2,     0.00,2,     1.06,2,    2.940,3,    1.546,2,   -999.0,5,   -999.0,5,-999.0000,  -999.00,9,     3008,   3.0804
  06MT20030723,   451,  1,      9,2,20030725, 61.1830, -32.4830, 2676,   1517.6,   3.4278,  34.9276,2,-999.0000,9,    279.2,2,    10.33,2,    16.31,2,     0.00,2,     1.06,2,    2.944,3,    1.546,2,   -999.0,5,   -999.0,5,-999.0000,  -999.00,9,     3009,   3.3126
  06MT20030723,   451,  1,     10,2,20030725, 61.1830, -32.4830, 2676,   1330.8,   3.5895,  34.9392,2,-999.0000,9,   -999.0,5,  -999.00,5,  -999.00,5,  -999.00,5,  -999.00,5, -999.000,9, -999.000,9,   -999.0,5,   -999.0,5,-999.0000,  -999.00,9,     3010,   3.4887
  06MT20030723,   451,  1,     11,2,20030725, 61.1830, -32.4830, 2676,   1222.0,   3.6187,  34.9369,2,-999.0000,9,    276.2,2,     9.49,2,    16.60,2,     0.00,2,     1.08,2,    2.998,3,    1.604,2,   -999.0,5,   -999.0,5,-999.0000,  -999.00,9,     3011,   3.5269
  06MT20030723,   451,  1,     12,2,20030725, 61.1830, -32.4830, 2676,   1095.9,   3.7504,  34.9400,2,-999.0000,9,    274.0,2,    10.22,2,    16.57,2,     0.00,2,     1.07,2,    2.966,3,    1.574,2,   -999.0,5,   -999.0,5,-999.0000,  -999.00,9,     3012,   3.6680
  06MT20030723,   451,  1,     13,2,20030725, 61.1830, -32.4830, 2676,    809.0,   3.7956,  34.9050,2,-999.0000,9,    278.0,2,    10.54,2,    16.62,2,     0.00,2,     1.08,2,    3.549,3,    1.934,2,   -999.0,5,   -999.0,5,-999.0000,  -999.00,9,     3013,   3.7363
  06MT20030723,   451,  1,     14,2,20030725, 61.1830, -32.4830, 2676,    704.6,   3.9370,  34.9106,2,-999.0000,9,    276.4,2,     9.53,2,    16.48,2,     0.01,2,     1.09,2,    3.540,3,    1.947,2,   -999.0,5,   -999.0,5,-999.0000,  -999.00,9,     3014,   3.8851
  06MT20030723,   451,  1,     15,2,20030725, 61.1830, -32.4830, 2676,    605.6,   4.0728,  34.8978,2,  34.9066,2,    276.3,2,     9.33,2,    16.95,2,     0.00,2,     1.09,2,    3.707,3,    2.047,2,   -999.0,5,   -999.0,5,-999.0000,  -999.00,9,     3015,   4.0280
  06MT20030723,   451,  1,     16,2,20030725, 61.1830, -32.4830, 2676,    489.9,   4.6574,  34.9634,2,-999.0000,9,    261.4,2,     9.70,2,    17.16,2,     0.00,2,     1.10,2,    3.236,3,    1.765,2,   -999.0,5,   -999.0,5,-999.0000,  -999.00,9,     3016,   4.6193
  06MT20030723,   451,  1,     17,2,20030725, 61.1830, -32.4830, 2676,    401.7,   4.6729,  34.9309,2,-999.0000,9,    273.9,2,     8.90,2,    16.71,2,     0.01,2,     1.08,2,    3.600,3,    2.040,2,   -999.0,5,   -999.0,5,-999.0000,  -999.00,9,     3017,   4.6419
  06MT20030723,   451,  1,     18,2,20030725, 61.1830, -32.4830, 2676,    299.4,   5.0239,  34.9450,2,-999.0000,9,    271.5,2,     8.77,2,    16.76,2,     0.01,2,     1.07,2,    3.636,3,    2.068,2,   -999.0,5,   -999.0,5,-999.0000,  -999.00,9,     3018,   5.0002
  06MT20030723,   451,  1,     19,2,20030725, 61.1830, -32.4830, 2676,    214.5,   5.3939,  34.9606,2,-999.0000,9,    277.0,2,     8.05,2,    16.09,2,     0.01,2,     1.04,2,    3.776,4,    2.229,2,   -999.0,5,   -999.0,5,-999.0000,  -999.00,9,     3019,   5.3764
  06MT20030723,   451,  1,     20,2,20030725, 61.1830, -32.4830, 2676,    104.7,   6.0272,  34.9997,2,-999.0000,9,    276.8,2,     7.46,2,    15.64,2,     0.01,2,     1.00,2,    3.829,4,    2.242,2,   -999.0,5,   -999.0,5,-999.0000,  -999.00,9,     3020,   6.0182
  06MT20030723,   451,  1,     21,2,20030725, 61.1830, -32.4830, 2676,     54.6,   7.2469,  34.9881,2,-999.0000,9,    289.8,2,     1.52,2,     9.83,2,     0.22,2,     0.73,2,    4.004,4,    2.376,2,   -999.0,5,   -999.0,5,-999.0000,  -999.00,9,     3021,   7.2417
  06MT20030723,   451,  1,     22,2,20030725, 61.1830, -32.4830, 2676,     14.8,  10.5434,  34.9337,2,  34.9330,2,    284.3,2,     0.39,2,     6.29,2,     0.11,2,     0.39,2, -999.000,9, -999.000,9,   -999.0,5,   -999.0,5,-999.0000,  -999.00,9,     3022,  10.5416
  06MT20030723,   452,  1,      1,2,20030725, 60.7010, -34.2420, 3035,   3048.5,   1.6371,  34.8871,2,  34.8861,2,    297.6,2,     8.91,2,    13.80,2,     0.01,2,     0.95,2, -999.000,9, -999.000,9,   -999.0,5,   2302.0,5,   7.7098,    25.00,2,     4001,   1.4115
  06MT20030723,   452,  1,      2,2,20030725, 60.7010, -34.2420, 3035,   3048.5,   1.6371,  34.8871,2,-999.0000,9,    297.6,2,     8.95,2,    13.86,2,     0.01,2,     0.96,2, -999.000,9, -999.000,9,   -999.0,5,   2299.1,2,   7.7088,    25.00,2,     4002,   1.4115
  06MT20030723,   452,  1,      3,2,20030725, 60.7010, -34.2420, 3035,   2949.6,   2.1010,  34.8950,2,-999.0000,9,    292.3,2,    10.12,2,    14.37,2,     0.01,2,     0.99,2, -999.000,9, -999.000,9,   -999.0,5,   2299.5,2,   7.7098,    25.00,2,     4003,   1.8749
  06MT20030723,   452,  1,      4,2,20030725, 60.7010, -34.2420, 3035,   2739.6,   2.5743,  34.9131,2,-999.0000,9,    283.9,2,    12.16,2,    15.48,2,     0.00,2,     1.04,2, -999.000,9, -999.000,9,   -999.0,5,   2299.8,2,   7.7147,    25.00,2,     4004,   2.3590
  06MT20030723,   452,  1,      5,2,20030725, 60.7010, -34.2420, 3035,   2535.1,   2.8187,  34.9222,2,-999.0000,9,    280.2,2,    12.63,2,    15.89,2,     0.00,2,     1.07,2, -999.000,9, -999.000,9,   -999.0,5,   2302.6,2,   7.7167,    25.00,2,     4005,   2.6187
  06MT20030723,   452,  1,      6,2,20030725, 60.7010, -34.2420, 3035,   2279.8,   2.9995,  34.9261,2,-999.0000,9,    279.3,2,    12.59,2,    16.10,2,     0.00,2,     1.08,2, -999.000,9, -999.000,9,   -999.0,5,   2304.1,2,-999.0000,  -999.00,9,     4006,   2.8209
  06MT20030723,   452,  1,      7,2,20030725, 60.7010, -34.2420, 3035,   2023.6,   3.1495,  34.9284,2,  34.9274,2,    280.0,2,    11.90,2,    15.96,2,     0.00,2,     1.09,2, -999.000,9, -999.000,9,   -999.0,5,   2299.2,2,   7.7137,    25.00,2,     4007,   2.9925
  06MT20030723,   452,  1,      8,2,20030725, 60.7010, -34.2420, 3035,   1820.8,   3.2143,  34.9196,2,-999.0000,9,    282.1,2,    10.91,2,    16.26,2,     0.00,2,     1.09,2, -999.000,9, -999.000,9,   -999.0,5,   2300.0,2,   7.7138,    25.00,2,     4008,   3.0750
  06MT20030723,   452,  1,      9,2,20030725, 60.7010, -34.2420, 3035,   1646.5,   3.3429,  34.9261,2,-999.0000,9,    281.1,2,    10.50,2,    16.13,2,     0.00,2,     1.08,2, -999.000,9, -999.000,9,   -999.0,5,   2303.1,2,   7.7108,    25.00,2,     4009,   3.2174
  06MT20030723,   452,  1,     10,2,20030725, 60.7010, -34.2420, 3035,   1506.9,   3.3938,  34.9221,2,-999.0000,9,   -999.0,5,  -999.00,5,  -999.00,5,  -999.00,5,  -999.00,5, -999.000,9, -999.000,9,   -999.0,5,   -999.0,5,-999.0000,  -999.00,9,     4010,   3.2800
  06MT20030723,   452,  1,     11,2,20030725, 60.7010, -34.2420, 3035,   1413.8,   3.4570,  34.9253,2,  34.9231,2,    280.2,2,    10.26,2,    16.33,2,     0.00,2,     1.09,2, -999.000,9, -999.000,9,   -999.0,5,   2299.0,2,   7.7108,    25.00,2,     4011,   3.3505
  06MT20030723,   452,  1,     12,2,20030725, 60.7010, -34.2420, 3035,   1194.2,   3.5061,  34.9116,2,-999.0000,9,    278.1,2,    10.25,2,    16.55,2,     0.00,2,     1.10,2, -999.000,9, -999.000,9,   -999.0,5,   2297.2,2,   7.7078,    25.00,2,     4012,   3.4177
  06MT20030723,   452,  1,     13,2,20030725, 60.7010, -34.2420, 3035,   1008.9,   3.6053,  34.9058,2,-999.0000,9,    278.0,2,     9.96,2,    16.57,2,     0.00,2,     1.10,2, -999.000,9, -999.000,9,   -999.0,5,   2300.2,2,   7.7059,    25.00,2,     4013,   3.5313
  06MT20030723,   452,  1,     14,2,20030725, 60.7010, -34.2420, 3035,    805.0,   3.6485,  34.8867,2,-999.0000,9,    282.7,2,     9.37,2,    16.27,2,     0.01,2,     1.09,2, -999.000,9, -999.000,9,   -999.0,5,   2301.1,2,   7.7049,    25.00,2,     4014,   3.5905
  06MT20030723,   452,  1,     15,2,20030725, 60.7010, -34.2420, 3035,    688.9,   3.9574,  34.9128,2,-999.0000,9,    274.9,2,     9.53,2,    16.74,2,     0.00,2,     1.11,2, -999.000,9, -999.000,9,   -999.0,5,   2302.7,2,   7.7029,    25.00,2,     4015,   3.9066
  06MT20030723,   452,  1,     16,2,20030725, 60.7010, -34.2420, 3035,    603.2,   4.1437,  34.9250,2,-999.0000,9,    274.2,2,     9.30,2,    16.85,2,     0.00,2,     1.11,2, -999.000,9, -999.000,9,   -999.0,5,   2303.3,2,   7.7019,    25.00,2,     4016,   4.0988
  06MT20030723,   452,  1,     17,2,20030725, 60.7010, -34.2420, 3035,    518.7,   4.3364,  34.9212,2,-999.0000,9,    276.6,2,     8.93,2,    16.66,2,     0.00,2,     1.10,2, -999.000,9, -999.000,9,   -999.0,5,   2302.4,2,   7.7059,    25.00,2,     4017,   4.2973
  06MT20030723,   452,  1,     18,2,20030725, 60.7010, -34.2420, 3035,    399.0,   4.9284,  34.9717,2,-999.0000,9,    255.5,3,     9.72,2,    17.15,2,     0.00,2,     1.14,2, -999.000,9, -999.000,9,   -999.0,5,   2309.8,2,   7.7000,    25.00,2,     4018,   4.8968
  06MT20030723,   452,  1,     19,2,20030725, 60.7010, -34.2420, 3035,    207.3,   5.4799,  34.9513,2,-999.0000,9,    276.5,2,     7.90,2,    15.92,2,     0.01,2,     1.04,2, -999.000,9, -999.000,9,   -999.0,5,   2302.6,2,   7.7216,    25.00,2,     4019,   5.4629
  06MT20030723,   452,  1,     20,2,20030725, 60.7010, -34.2420, 3035,     89.6,   6.6975,  35.0291,2,-999.0000,9,    276.8,2,     6.33,2,    14.73,2,     0.07,2,     0.93,2, -999.000,9, -999.000,9,   -999.0,5,   2308.5,2,   7.7453,    25.00,2,     4020,   6.6894
  06MT20030723,   452,  1,     21,2,20030725, 60.7010, -34.2420, 3035,     22.4,  10.5319,  34.9448,2,  34.9422,2,    284.3,2,     0.33,2,     5.84,2,     0.11,2,     0.37,2, -999.000,9, -999.000,9,   -999.0,5,   2292.6,2,   7.8599,    25.00,2,     4021,  10.5292
  06MT20030723,   453,  1,      1,2,20030725, 59.8740, -37.1950, 3100,   3135.5,   1.6039,  34.8885,2,  34.8871,2,    299.8,2,     8.68,2,    13.71,2,     0.01,2,     0.92,2, -999.000,9, -999.000,9,   2155.5,2,   2300.1,2,-999.0000,  -999.00,9,     5001,   1.3706
  06MT20030723,   453,  1,      2,2,20030725, 59.8740, -37.1950, 3100,   3132.0,   1.6468,  34.8884,2,-999.0000,9,    299.5,2,     8.69,2,    13.70,2,     0.01,2,     0.92,2,    3.682,3,    1.954,2,   -999.0,5,   -999.0,5,-999.0000,  -999.00,9,     5002,   1.4128
  06MT20030723,   453,  1,      3,2,20030725, 59.8740, -37.1950, 3100,   3043.9,   2.2080,  34.8932,2,-999.0000,9,    291.3,2,    10.23,2,    14.64,2,     0.01,2,     1.01,2,    3.232,3,    1.705,2,   2155.5,2,   2303.0,2,-999.0000,  -999.00,9,     5003,   1.9702
  06MT20030723,   453,  1,      4,2,20030725, 59.8740, -37.1950, 3100,   2841.9,   2.7349,  34.9218,2,-999.0000,9,    282.1,2,    13.04,2,    15.83,2,     0.00,2,     1.06,2,    2.264,3,    1.183,2,   2156.0,2,   2304.0,2,-999.0000,  -999.00,9,     5004,   2.5061
  06MT20030723,   453,  1,      5,2,20030725, 59.8740, -37.1950, 3100,   2633.1,   2.8950,  34.9180,2,-999.0000,9,    258.8,3,    12.07,2,    15.86,2,     0.00,2,     1.04,2,    2.383,3,    1.243,2,   2157.2,2,   2305.0,2,-999.0000,  -999.00,9,     5005,   2.6839
  06MT20030723,   453,  1,      6,2,20030725, 59.8740, -37.1950, 3100,   2433.8,   3.0598,  34.9236,2,  34.9304,2,    279.3,2,    11.90,2,    16.15,2,     0.00,2,     1.07,2,    2.337,3,    1.218,2,   2157.0,2,   2316.2,5,-999.0000,  -999.00,9,     5006,   2.8653
  06MT20030723,   453,  1,      7,2,20030725, 59.8740, -37.1950, 3100,   2229.3,   3.1435,  34.9162,2,-999.0000,9,    281.8,2,    11.19,2,    16.19,2,     0.00,2,     1.07,2,    2.644,3,    1.368,2,   2156.2,2,   2305.4,2,-999.0000,  -999.00,9,     5007,   2.9673
  06MT20030723,   453,  1,      8,2,20030725, 59.8740, -37.1950, 3100,   2042.0,   3.1903,  34.9066,2,-999.0000,9,    284.4,2,    10.62,2,    16.35,2,     0.00,2,     1.06,2,    2.979,3,    1.521,2,   2154.7,2,   2302.3,2,-999.0000,  -999.00,9,     5008,   3.0311
  06MT20030723,   453,  1,      9,2,20030725, 59.8740, -37.1950, 3100,   1829.2,   3.2183,  34.8921,2,-999.0000,9,    262.6,3,    10.36,2,    16.55,2,     0.00,2,     1.10,2,    3.164,3,    1.639,2,   2155.0,2,   2302.0,2,-999.0000,  -999.00,9,     5009,   3.0782
  06MT20030723,   453,  1,     10,2,20030725, 59.8740, -37.1950, 3100,   1634.9,   3.3613,  34.8945,2,-999.0000,9,   -999.0,5,  -999.00,5,  -999.00,5,  -999.00,5,  -999.00,5, -999.000,9, -999.000,9,   -999.0,5,   -999.0,5,-999.0000,  -999.00,9,     5010,   3.2367
  06MT20030723,   453,  1,     11,2,20030725, 59.8740, -37.1950, 3100,   1419.3,   3.5099,  34.8962,2,  34.9030,2,    267.4,3,    10.13,2,    16.88,2,     0.00,2,     1.10,2,    3.344,3,    1.757,2,   2157.6,2,   2300.7,2,-999.0000,  -999.00,9,     5011,   3.4024
  06MT20030723,   453,  1,     12,2,20030725, 59.8740, -37.1950, 3100,   1215.8,   3.5099,  34.8772,2,-999.0000,9,    258.5,3,     9.47,2,    16.45,2,     0.00,2,     1.08,2,    3.867,3,    2.052,2,   2157.2,2,   2303.4,2,-999.0000,  -999.00,9,     5012,   3.4197
  06MT20030723,   453,  1,     13,2,20030725, 59.8740, -37.1950, 3100,   1005.0,   3.5609,  34.8639,2,-999.0000,9,    281.9,2,     9.06,2,    16.31,2,     0.01,2,     1.07,2,    4.132,3,    2.226,2,   2156.1,2,   2301.9,2,-999.0000,  -999.00,9,     5013,   3.4876
  06MT20030723,   453,  1,     14,2,20030725, 59.8740, -37.1950, 3100,    914.3,   3.7352,  34.8805,2,-999.0000,9,    285.0,2,     9.16,2,    16.40,2,     0.00,2,     1.09,2,    4.049,3,    2.187,2,   2157.9,2,   2301.6,2,-999.0000,  -999.00,9,     5014,   3.6679
  06MT20030723,   453,  1,     15,2,20030725, 59.8740, -37.1950, 3100,    791.3,   3.7778,  34.8703,2,-999.0000,9,    286.5,2,     8.96,2,    16.56,2,     0.00,2,     1.09,2,    4.199,3,    2.255,2,   2157.1,2,   2299.3,2,-999.0000,  -999.00,9,     5015,   3.7200
  06MT20030723,   453,  1,     16,2,20030725, 59.8740, -37.1950, 3100,    704.4,   3.8934,  34.8769,2,  34.8716,2,    289.9,2,     8.72,2,    16.24,2,     0.00,2,     1.08,2,    4.298,3,    2.317,2,   2155.1,2,   2301.9,2,-999.0000,  -999.00,9,     5016,   3.8418
  06MT20030723,   453,  1,     17,2,20030725, 59.8740, -37.1950, 3100,    608.1,   4.0960,  34.8862,2,-999.0000,9,    287.5,2,     8.67,2,    16.37,2,     0.00,2,     1.06,2, -999.000,9, -999.000,9,   2155.7,2,   2301.3,2,-999.0000,  -999.00,9,     5017,   4.0509
  06MT20030723,   453,  1,     18,2,20030725, 59.8740, -37.1950, 3100,    400.2,   4.3057,  34.8597,2,-999.0000,9,    292.6,2,     8.04,2,    15.99,2,     0.01,2,     1.05,2,    4.426,3,    2.436,2,   2151.6,2,   2304.3,2,-999.0000,  -999.00,9,     5018,   4.2760
  06MT20030723,   453,  1,     19,2,20030725, 59.8740, -37.1950, 3100,    183.7,   5.2239,  34.9197,2,-999.0000,9,    285.2,2,     7.77,2,    15.70,2,     0.01,2,     1.02,2,    4.216,3,    2.332,2,   2151.1,2,   2302.4,2,-999.0000,  -999.00,9,     5019,   5.2092
  06MT20030723,   453,  1,     20,2,20030725, 59.8740, -37.1950, 3100,    107.7,   5.9842,  34.9820,2,-999.0000,9,    278.1,2,     7.63,2,    15.61,2,     0.01,2,     1.01,2,    4.020,3,    2.248,2,   2149.9,2,   -999.0,5,-999.0000,  -999.00,9,     5020,   5.9750
  06MT20030723,   453,  1,     21,2,20030725, 59.8740, -37.1950, 3100,     77.1,   6.2652,  34.9921,2,  34.9808,2,    279.7,2,     6.99,2,    15.15,2,     0.06,2,     0.96,2,    4.125,3,    2.336,2,   2148.3,2,   2309.1,2,-999.0000,  -999.00,9,     5021,   6.2585
  06MT20030723,   453,  1,     22,2,20030725, 59.8740, -37.1950, 3100,     12.9,  10.7362,  34.8952,2,-999.0000,9,    288.0,2,     0.54,2,     6.19,2,     0.11,2,     0.37,2,    3.734,3,    2.193,2,   2079.8,2,   2290.9,2,-999.0000,  -999.00,9,     5022,  10.7346