BOTTLE,20090513PRINUNIVRMK
EXPOCODE,STNNBR,CASTNO,BTLNBR,BTLNBR_FLAG_W,DATE,LATITUDE,LONGITUDE,DEPTH,CTDPRS,CTDTMP,CTDSAL,CTDSAL_FLAG_W,SALNTY,SALNTY_FLAG_W,OXYGEN,OXYGEN_FLAG_W,SILCAT,SILCAT_FLAG_W,NITRAT,NITRAT_FLAG_W,NITRIT,NITRIT_FLAG_W,PHSPHT,PHSPHT_FLAG_W,CFC-11,CFC-11_FLAG_W,CFC-12,CFC-12_FLAG_W,TCARBN,TCARBN_FLAG_W,ALKALI,ALKALI_FLAG_W,PH_SWS,PH_TEMP,PH_SWS_FLAG_W,ID,THETA
,,,,,,,,METERS,DBARS,ITS-90,PSS-78,,PSS-78,,UMOL/KG,,UMOL/KG,,UMOL/KG,,UMOL/KG,,UMOL/KG,,PMOL/KG,,PMOL/KG,,UMOL/KG,,UMOL/KG,,,DEGC,,,DEGC
  06MT20030723,   542,  1,      1,2,20030816, 48.9090, -13.2990, 3724,   3795.5,   2.5047,  34.9086,2,  34.9114,2,    241.9,2,    42.96,2,    22.10,2,     0.00,2,     1.43,2, -999.000,9, -999.000,9,   2200.0,2,   2347.9,2,   7.7364,    25.00,2,    95001,   2.1794
  06MT20030723,   542,  1,      2,2,20030816, 48.9090, -13.2990, 3724,   3794.6,   2.5049,  34.9083,2,-999.0000,9,    242.1,2,    42.70,2,    22.14,2,     0.00,2,     1.43,2,    0.065,3,    0.029,2,   -999.0,5,   -999.0,5,-999.0000,  -999.00,9,    95002,   2.1798
  06MT20030723,   542,  1,      3,2,20030816, 48.9090, -13.2990, 3724,   3656.4,   2.5417,  34.9135,2,-999.0000,9,    243.1,2,    42.15,2,    21.90,2,     0.00,2,     1.41,2,    0.063,3,    0.033,2,   2197.9,2,   2346.7,2,   7.7374,    25.00,2,    95003,   2.2310
  06MT20030723,   542,  1,      4,2,20030816, 48.9090, -13.2990, 3724,   3349.5,   2.6606,  34.9258,2,-999.0000,9,    245.3,2,    37.09,2,    21.26,2,     0.00,2,     1.37,2,    0.136,3,    0.068,2,   2192.1,2,   2338.7,2,   7.7384,    25.00,2,    95004,   2.3804
  06MT20030723,   542,  1,      5,2,20030816, 48.9090, -13.2990, 3724,   3040.8,   2.7613,  34.9351,2,-999.0000,9,    246.7,2,    35.48,2,    20.90,2,     0.00,2,     1.34,2,    0.173,3,    0.081,2,   2188.1,2,   2337.6,2,   7.7403,    25.00,2,    95005,   2.5114
  06MT20030723,   542,  1,      6,2,20030816, 48.9090, -13.2990, 3724,   2733.8,   2.9398,  34.9479,2,-999.0000,9,    244.4,4,     0.72,4,     0.67,4,     0.00,4,     0.08,4, -999.000,9, -999.000,9,   2055.7,4,   2338.1,4,   8.0116,    25.00,4,    95006,   2.7176
  06MT20030723,   542,  1,      7,2,20030816, 48.9090, -13.2990, 3724,   2522.1,   3.1052,  34.9547,2,  34.9584,2,    254.2,2,    25.97,2,    19.46,2,     0.00,2,     1.25,2,    0.566,3,    0.268,2,   2178.1,2,   2323.8,2,   7.7394,    25.00,2,    95007,   2.9010
  06MT20030723,   542,  1,      8,2,20030816, 48.9090, -13.2990, 3724,   2328.9,   3.2968,  34.9562,2,-999.0000,9,    259.3,2,    21.60,2,    18.68,2,     0.00,2,     1.19,2,    0.922,3,    0.457,2,   2169.4,2,   2315.1,2,   7.7384,    25.00,2,    95008,   3.1083
  06MT20030723,   542,  1,      9,2,20030816, 48.9090, -13.2990, 3724,   2115.7,   3.3622,  34.9357,2,-999.0000,9,    269.2,2,    15.85,2,    17.29,2,     0.00,2,     1.12,2,    1.676,3,    0.820,2,   2161.0,2,   2307.8,2,   7.7374,    25.00,2,    95009,   3.1933
  06MT20030723,   542,  1,     10,2,20030816, 48.9090, -13.2990, 3724,   2094.5,   3.3591,  34.9315,2,-999.0000,9,    269.5,2,    15.51,2,    17.65,2,     0.00,2,     1.12,2, -999.000,9, -999.000,9,   -999.0,5,   -999.0,5,-999.0000,  -999.00,9,    95010,   3.1923
  06MT20030723,   542,  1,     11,2,20030816, 48.9090, -13.2990, 3724,   1914.4,   3.4896,  34.9262,2,-999.0000,9,    273.0,2,    13.26,2,    17.49,2,     0.00,2,     1.09,2,    2.219,3,    1.071,2,   2159.3,2,   2301.2,2,   7.7354,    25.00,2,    95011,   3.3378
  06MT20030723,   542,  1,     12,2,20030816, 48.9090, -13.2990, 3724,   1708.2,   3.8428,  34.9465,2,-999.0000,9,    267.3,2,    12.04,2,    17.65,2,     0.00,2,     1.11,2,    2.381,3,    1.145,2,   2160.0,2,   2304.3,2,   7.7295,    25.00,2,    95012,   3.7054
  06MT20030723,   542,  1,     13,2,20030816, 48.9090, -13.2990, 3724,   1489.9,   4.9182,  35.0893,2,  35.0911,2,    248.1,2,    12.04,2,    17.77,2,     0.00,2,     1.11,2,    1.957,3,    0.956,2,   2167.2,2,   2313.0,2,   7.7334,    25.00,2,    95013,   4.7884
  06MT20030723,   542,  1,     14,2,20030816, 48.9090, -13.2990, 3724,   1441.6,   5.1754,  35.1165,2,-999.0000,9,    242.7,2,    11.63,2,    18.02,2,     0.00,2,     1.10,2,    2.056,3,    1.016,2,   2169.9,2,   2312.8,2,   7.7324,    25.00,2,    95014,   5.0475
  06MT20030723,   542,  1,     15,2,20030816, 48.9090, -13.2990, 3724,   1327.2,   5.9153,  35.2117,2,-999.0000,9,    231.1,2,    11.47,2,    18.05,2,     0.00,2,     1.09,2,    1.907,3,    0.943,2,   2174.4,2,   2323.7,2,   7.7374,    25.00,2,    95015,   5.7911
  06MT20030723,   542,  1,     16,2,20030816, 48.9090, -13.2990, 3724,   1226.6,   6.7121,  35.3272,2,-999.0000,9,    219.7,2,    11.17,2,    17.98,2,     0.01,2,     1.07,2,    1.776,3,    0.882,2,   2179.9,2,   2329.4,2,   7.7403,    25.00,2,    95016,   6.5907
  06MT20030723,   542,  1,     17,2,20030816, 48.9090, -13.2990, 3724,   1005.4,   8.5888,  35.5630,2,-999.0000,9,    198.2,2,     9.85,2,    17.61,2,     0.00,2,     1.01,2,    1.690,3,    0.862,2,   2184.7,2,   2340.2,2,   7.7560,    25.00,2,    95017,   8.4767
  06MT20030723,   542,  1,     18,2,20030816, 48.9090, -13.2990, 3724,    855.3,   9.2067,  35.5125,2,-999.0000,9,    191.5,2,     9.07,2,    17.86,2,     0.00,2,     1.02,2,    1.875,3,    0.965,2,   2181.7,2,   2334.2,2,   7.7521,    25.00,2,    95018,   9.1084
  06MT20030723,   542,  1,     19,2,20030816, 48.9090, -13.2990, 3724,    680.9,   9.8054,  35.4471,2,-999.0000,9,    192.3,2,     7.61,2,    16.87,2,     0.04,2,     0.93,2,    2.182,3,    1.144,2,   2171.4,2,   2328.8,2,   7.7620,    25.00,2,    95019,   9.7250
  06MT20030723,   542,  1,     20,2,20030816, 48.9090, -13.2990, 3724,    386.3,  11.1964,  35.5324,2,-999.0000,9,    238.9,2,     3.18,2,    10.95,2,     0.02,2,     0.56,2,    3.186,3,    1.757,2,   2136.7,2,   2328.6,2,   7.8351,    25.00,2,    95020,  11.1475
  06MT20030723,   542,  1,     21,2,20030816, 48.9090, -13.2990, 3724,    100.7,  12.3653,  35.6820,2,  35.6626,0,    238.6,2,     1.58,2,     8.09,2,     0.03,2,     0.39,2,    3.309,3,    1.864,2,   2126.3,2,   2333.5,2,   7.8678,    25.00,2,    95021,  12.3519
  06MT20030723,   542,  1,     22,2,20030816, 48.9090, -13.2990, 3724,     17.6,  18.6578,  35.6661,2,-999.0000,9,    241.2,2,     0.03,2,     0.00,2,     0.00,2,     0.04,2,    2.609,3,    1.523,2,   2055.9,2,   2339.7,2,   8.0106,    25.00,2,    95022,  18.6547
  06MT20030723,   543,  1,      1,2,20030817, 48.7500, -14.4270, 4521,   4629.5,   2.5183,  34.9002,2,  34.9008,2,    242.3,2,    44.68,2,    22.64,2,     0.01,2,     1.51,2, -999.000,9, -999.000,9,   2203.4,2,   2348.7,2,   7.7384,    25.00,2,    96001,   2.0945
  06MT20030723,   543,  1,      2,2,20030817, 48.7500, -14.4270, 4521,   4629.4,   2.5183,  34.9000,2,-999.0000,9,    242.5,2,    45.22,2,    22.66,2,     0.01,2,     1.51,2,    0.069,3,    0.021,2,   -999.0,5,   -999.0,5,-999.0000,  -999.00,9,    96002,   2.0945
  06MT20030723,   543,  1,      3,2,20030817, 48.7500, -14.4270, 4521,   4575.9,   2.5152,  34.9007,2,-999.0000,9,    242.7,2,    44.82,2,    22.66,2,     0.01,2,     1.51,2,    0.066,3,    0.022,2,   2203.1,2,   2348.2,2,   7.7374,    25.00,2,    96003,   2.0981
  06MT20030723,   543,  1,      4,2,20030817, 48.7500, -14.4270, 4521,   4223.6,   2.5098,  34.9045,2,-999.0000,9,    244.0,2,    43.58,2,    22.20,2,     0.00,2,     1.50,2,    0.060,3,    0.024,2,   -999.0,5,   -999.0,5,-999.0000,  -999.00,9,    96004,   2.1351
  06MT20030723,   543,  1,      5,2,20030817, 48.7500, -14.4270, 4521,   3761.3,   2.5387,  34.9127,2,-999.0000,9,    243.8,2,    41.24,2,    21.95,2,     0.00,2,     1.48,2,    0.058,3,    0.032,2,   -999.0,5,   -999.0,5,-999.0000,  -999.00,9,    96005,   2.2164
  06MT20030723,   543,  1,      6,2,20030817, 48.7500, -14.4270, 4521,   3299.8,   2.6417,  34.9261,2,  34.9203,2,    246.6,2,    36.96,2,    21.41,2,     0.00,2,     1.42,2,    0.102,3,    0.058,2,   -999.0,5,   -999.0,5,-999.0000,  -999.00,9,    96006,   2.3673
  06MT20030723,   543,  1,      7,2,20030817, 48.7500, -14.4270, 4521,   2839.7,   2.8501,  34.9425,2,-999.0000,9,    250.6,2,    30.85,2,    20.37,2,     0.00,2,     1.34,2,    0.253,3,    0.121,2,   -999.0,5,   -999.0,5,-999.0000,  -999.00,9,    96007,   2.6190
  06MT20030723,   543,  1,      8,2,20030817, 48.7500, -14.4270, 4521,   2379.9,   3.1498,  34.9507,2,-999.0000,9,    253.3,2,    20.99,2,    18.83,2,     0.00,2,     1.23,2,    0.819,3,    0.407,2,   -999.0,5,   -999.0,5,   7.7394,    25.00,2,    96008,   2.9589
  06MT20030723,   543,  1,      9,2,20030817, 48.7500, -14.4270, 4521,   2118.2,   3.2846,  34.9273,2,-999.0000,9,    272.9,2,    13.28,2,    17.02,2,     0.00,2,     1.09,2,    1.834,3,    0.904,2,   -999.0,5,   -999.0,5,-999.0000,  -999.00,9,    96009,   3.1167
  06MT20030723,   543,  1,     10,2,20030817, 48.7500, -14.4270, 4521,   2118.5,   3.2810,  34.9274,2,-999.0000,9,    262.6,4,     0.30,4,     1.21,4,     0.00,4,     0.12,4, -999.000,9, -999.000,9,   -999.0,5,   -999.0,5,-999.0000,  -999.00,9,    96010,   3.1131
  06MT20030723,   543,  1,     11,2,20030817, 48.7500, -14.4270, 4521,   1866.6,   3.5069,  34.9214,2,  34.9193,2,    274.4,2,    11.98,2,    17.46,2,     0.00,2,     1.14,2,    2.307,3,    1.121,2,   -999.0,5,   -999.0,5,-999.0000,  -999.00,9,    96011,   3.3593
  06MT20030723,   543,  1,     12,2,20030817, 48.7500, -14.4270, 4521,   1596.1,   4.0706,  34.9629,2,-999.0000,9,    264.1,2,    11.14,2,    17.96,2,     0.00,2,     1.15,2,    2.331,3,    1.135,2,   -999.0,5,   -999.0,5,-999.0000,  -999.00,9,    96012,   3.9407
  06MT20030723,   543,  1,     13,2,20030817, 48.7500, -14.4270, 4521,   1423.9,   4.6935,  35.0011,2,-999.0000,9,    252.3,2,    10.62,2,    18.26,2,     0.00,2,     1.17,2,    2.455,3,    1.220,2,   -999.0,5,   -999.0,5,-999.0000,  -999.00,9,    96013,   4.5727
  06MT20030723,   543,  1,     14,2,20030817, 48.7500, -14.4270, 4521,   1310.4,   5.2689,  35.0956,2,-999.0000,9,    244.0,2,    10.65,2,    18.22,2,     0.00,2,     1.17,2,    2.311,3,    1.145,2,   -999.0,5,   -999.0,5,-999.0000,  -999.00,9,    96014,   5.1529
  06MT20030723,   543,  1,     15,2,20030817, 48.7500, -14.4270, 4521,   1205.1,   6.2192,  35.2206,2,-999.0000,9,    227.0,2,    10.56,2,    18.24,2,     0.00,2,     1.17,2,    2.010,3,    0.998,2,   -999.0,5,   -999.0,5,-999.0000,  -999.00,9,    96015,   6.1047
  06MT20030723,   543,  1,     16,2,20030817, 48.7500, -14.4270, 4521,   1001.1,   8.0497,  35.4590,2,-999.0000,9,    204.7,2,     9.68,2,    18.16,2,     0.00,2,     1.13,2,    1.783,3,    0.908,2,   -999.0,5,   -999.0,5,-999.0000,  -999.00,9,    96016,   7.9421
  06MT20030723,   543,  1,     17,2,20030817, 48.7500, -14.4270, 4521,    803.7,   9.3008,  35.4876,2,-999.0000,9,    191.5,2,     8.50,2,    18.06,2,     0.00,2,     1.09,2,    1.968,3,    0.971,2,   -999.0,5,   -999.0,5,-999.0000,  -999.00,9,    96017,   9.2081
  06MT20030723,   543,  1,     18,2,20030817, 48.7500, -14.4270, 4521,    624.8,  10.1724,  35.4576,2,  35.4584,2,    196.1,2,     6.63,2,    16.31,2,     0.00,2,     0.97,2,    2.392,3,    1.266,2,   -999.0,5,   -999.0,5,-999.0000,  -999.00,9,    96018,  10.0971
  06MT20030723,   543,  1,     19,2,20030817, 48.7500, -14.4270, 4521,    400.2,  11.1642,  35.5291,2,-999.0000,9,    235.7,2,     3.39,2,    11.43,2,     0.01,2,     0.65,2,    3.164,3,    1.746,2,   -999.0,5,   -999.0,5,-999.0000,  -999.00,9,    96019,  11.1136
  06MT20030723,   543,  1,     20,2,20030817, 48.7500, -14.4270, 4521,    193.8,  11.8962,  35.6184,2,-999.0000,9,    245.2,2,     2.12,2,     9.40,2,     0.02,2,     0.52,2,    3.271,3,    1.838,2,   -999.0,5,   -999.0,5,-999.0000,  -999.00,9,    96020,  11.8709
  06MT20030723,   543,  1,     21,2,20030817, 48.7500, -14.4270, 4521,     99.9,  12.6206,  35.7252,2,-999.0000,9,    240.4,2,     2.01,2,     7.95,2,     0.02,2,     0.43,2,    3.154,3,    1.776,2,   -999.0,5,   -999.0,5,-999.0000,  -999.00,9,    96021,  12.6071
  06MT20030723,   543,  1,     22,2,20030817, 48.7500, -14.4270, 4521,     12.2,  18.3463,  35.6229,2,-999.0000,9,    239.8,2,     0.05,2,     0.00,2,     0.01,2,     0.05,2,    2.545,3,    1.527,2,   -999.0,5,   -999.0,5,-999.0000,  -999.00,9,    96022,  18.3442
  06MT20030723,   544,  1,      1,2,20030817, 48.6000, -15.5500, 4803,   4921.7,   2.5648,  34.9016,2,-999.0000,9,    241.9,2,    44.83,2,    22.53,2,     0.00,2,     1.49,2, -999.000,9, -999.000,9,   2203.1,2,   2348.7,2,   7.7374,    25.00,2,    97001,   2.1031
  06MT20030723,   544,  1,      2,2,20030817, 48.6000, -15.5500, 4803,   4920.8,   2.5650,  34.9012,2,-999.0000,9,    243.5,2,    45.16,2,    22.49,2,     0.01,2,     1.50,2,    0.057,3,    0.021,2,   -999.0,5,   -999.0,5,-999.0000,  -999.00,9,    97002,   2.1034
  06MT20030723,   544,  1,      3,2,20030817, 48.6000, -15.5500, 4803,   4788.8,   2.5564,  34.9022,2,-999.0000,9,    242.7,2,    43.70,2,    22.22,2,     0.00,2,     1.49,2,    0.056,3,    0.024,2,   2203.0,2,   2349.3,2,   7.7364,    25.00,2,    97003,   2.1117
  06MT20030723,   544,  1,      4,2,20030817, 48.6000, -15.5500, 4803,   4379.2,   2.5370,  34.9057,2,-999.0000,9,    243.1,2,    43.22,2,    22.01,2,     0.00,2,     1.49,2,    0.051,3,    0.025,2,   2204.3,2,   2349.7,2,   7.7374,    25.00,2,    97004,   2.1430
  06MT20030723,   544,  1,      5,2,20030817, 48.6000, -15.5500, 4803,   3970.6,   2.5524,  34.9122,2,-999.0000,9,    243.3,2,    41.63,2,    21.75,2,     0.00,2,     1.46,2,    0.060,3,    0.031,2,   2199.4,2,   2344.6,2,   7.7374,    25.00,2,    97005,   2.2059
  06MT20030723,   544,  1,      6,2,20030817, 48.6000, -15.5500, 4803,   3557.0,   2.6195,  34.9225,2,-999.0000,9,    254.4,4,    26.59,4,    18.92,4,     0.00,2,     1.27,2, -999.000,9, -999.000,9,   2177.3,4,   2324.4,4,   7.7394,    25.00,2,    97006,   2.3177
  06MT20030723,   544,  1,      7,2,20030817, 48.6000, -15.5500, 4803,   3146.6,   2.7693,  34.9371,2,-999.0000,9,    249.6,2,    32.40,2,    20.42,2,     0.00,2,     1.35,2,    0.218,3,    0.112,2,   2186.8,2,   2331.7,2,   7.7403,    25.00,2,    97007,   2.5081
  06MT20030723,   544,  1,      8,2,20030817, 48.6000, -15.5500, 4803,   2740.1,   2.9962,  34.9508,2,-999.0000,9,    254.7,2,    26.09,2,    18.94,2,     0.00,2,     1.27,2,    0.450,3,    0.230,2,   2178.6,2,   2322.5,2,-999.0000,  -999.00,9,    97008,   2.7723
  06MT20030723,   544,  1,      9,2,20030817, 48.6000, -15.5500, 4803,   2328.8,   3.2165,  34.9288,2,-999.0000,9,    269.6,2,    15.85,2,    17.51,2,     0.00,2,     1.14,2,    1.502,3,    0.741,2,   2163.0,2,   2304.8,2,   7.7384,    25.00,2,    97009,   3.0295
  06MT20030723,   544,  1,     10,2,20030817, 48.6000, -15.5500, 4803,   2326.4,   3.2161,  34.9287,2,-999.0000,9,   -999.0,5,  -999.00,5,  -999.00,5,  -999.00,5,  -999.00,5, -999.000,9, -999.000,9,   -999.0,5,   -999.0,5,-999.0000,  -999.00,9,    97010,   3.0293
  06MT20030723,   544,  1,     11,2,20030817, 48.6000, -15.5500, 4803,   2123.8,   3.2810,  34.9090,2,-999.0000,9,    277.1,2,    12.46,2,    17.09,2,     0.00,2,     1.11,2,    2.188,3,    1.073,2,   2158.7,2,   2299.9,2,   7.7344,    25.00,2,    97011,   3.1127
  06MT20030723,   544,  1,     12,2,20030817, 48.6000, -15.5500, 4803,   1921.6,   3.4011,  34.9014,2,-999.0000,9,    278.6,2,    11.22,2,    17.17,2,     0.00,2,     1.13,2,    2.614,3,    1.285,2,   2157.9,2,   2297.9,2,   7.7305,    25.00,2,    97012,   3.2500
  06MT20030723,   544,  1,     13,2,20030817, 48.6000, -15.5500, 4803,   1709.3,   3.7034,  34.9192,2,-999.0000,9,    271.7,2,    11.17,2,    17.35,2,     0.00,2,     1.14,2,    2.534,3,    1.247,2,   2160.2,2,   2299.7,2,   7.7285,    25.00,2,    97013,   3.5677
  06MT20030723,   544,  1,     14,2,20030817, 48.6000, -15.5500, 4803,   1504.3,   4.2201,  34.9697,2,-999.0000,9,    261.4,2,    10.91,2,    17.80,2,     0.00,2,     1.15,2,    2.503,3,    1.242,2,   2164.0,2,   2301.4,2,   7.7216,    25.00,2,    97014,   4.0970
  06MT20030723,   544,  1,     15,2,20030817, 48.6000, -15.5500, 4803,   1369.7,   4.7730,  35.0267,2,-999.0000,9,    249.3,2,    10.77,2,    17.98,2,     0.00,2,     1.17,2,    2.404,3,    1.198,2,   2168.6,2,   2306.8,2,   7.7246,    25.00,2,    97015,   4.6564
  06MT20030723,   544,  1,     16,2,20030817, 48.6000, -15.5500, 4803,   1234.6,   5.5494,  35.1262,2,-999.0000,9,    237.3,2,    10.81,2,    18.20,2,     0.00,2,     1.16,2,    2.209,3,    1.107,2,   2172.8,2,   2314.1,2,   7.7275,    25.00,2,    97016,   5.4382
  06MT20030723,   544,  1,     17,2,20030817, 48.6000, -15.5500, 4803,   1164.0,   6.1526,  35.2126,2,-999.0000,9,    227.4,2,    10.70,2,    17.98,2,     0.00,2,     1.15,2,    2.113,3,    1.070,2,   2176.2,2,   2318.6,2,   7.7295,    25.00,2,    97017,   6.0429
  06MT20030723,   544,  1,     18,2,20030817, 48.6000, -15.5500, 4803,   1013.2,   7.6448,  35.4181,2,-999.0000,9,    208.0,2,     9.94,2,    17.80,2,     0.00,2,     1.11,2,    1.786,3,    0.910,2,   2182.8,2,   2334.1,2,   7.7442,    25.00,2,    97018,   7.5389
  06MT20030723,   544,  1,     19,2,20030817, 48.6000, -15.5500, 4803,    774.7,   8.4709,  35.3394,2,-999.0000,9,    194.6,2,     9.40,2,    18.16,2,     0.01,2,     1.13,2,    1.970,3,    1.025,2,   2179.2,2,   2329.5,2,   7.7363,    25.00,2,    97019,   8.3865
  06MT20030723,   544,  1,     20,2,20030817, 48.6000, -15.5500, 4803,    485.0,  10.2541,  35.3861,2,-999.0000,9,    207.9,2,     6.20,2,    15.07,2,     0.01,2,     0.89,2,    2.639,3,    1.450,2,   2157.6,2,   2323.0,2,   7.7808,    25.00,2,    97020,  10.1958
  06MT20030723,   544,  1,     21,2,20030817, 48.6000, -15.5500, 4803,    284.5,  11.2114,  35.5226,2,-999.0000,9,    246.1,2,     3.26,2,    10.32,2,     0.01,2,     0.57,2,    3.225,3,    1.816,2,   2133.4,2,   2331.0,2,   7.8450,    25.00,2,    97021,  11.1755
  06MT20030723,   544,  1,     22,2,20030817, 48.6000, -15.5500, 4803,      4.3,  18.0397,  35.6425,2,  35.6152,0,    243.4,2,     0.00,2,     0.00,2,     0.01,2,     0.02,2,    2.574,3,    1.529,2,   2050.7,2,   2341.6,2,   8.0195,    25.00,2,    97022,  18.0390