BOTTLE,20090513PRINUNIVRMK
EXPOCODE,STNNBR,CASTNO,BTLNBR,BTLNBR_FLAG_W,DATE,LATITUDE,LONGITUDE,DEPTH,CTDPRS,CTDTMP,CTDSAL,CTDSAL_FLAG_W,SALNTY,SALNTY_FLAG_W,OXYGEN,OXYGEN_FLAG_W,SILCAT,SILCAT_FLAG_W,NITRAT,NITRAT_FLAG_W,NITRIT,NITRIT_FLAG_W,PHSPHT,PHSPHT_FLAG_W,CFC-11,CFC-11_FLAG_W,CFC-12,CFC-12_FLAG_W,TCARBN,TCARBN_FLAG_W,ALKALI,ALKALI_FLAG_W,PH_SWS,PH_TEMP,PH_SWS_FLAG_W,ID,THETA
,,,,,,,,METERS,DBARS,ITS-90,PSS-78,,PSS-78,,UMOL/KG,,UMOL/KG,,UMOL/KG,,UMOL/KG,,UMOL/KG,,PMOL/KG,,PMOL/KG,,UMOL/KG,,UMOL/KG,,,DEGC,,,DEGC
  06MT20030723,   554,  1,      1,2,20030820, 47.2580, -25.3320, 2827,   2856.1,   2.9746,  34.9290,2,  34.9293,2,    267.9,2,    18.79,2,    17.52,2,     0.01,2,     1.11,2, -999.000,9, -999.000,9,   2166.6,2,   2314.0,2,   7.7354,    25.00,2,   107001,   2.7393
  06MT20030723,   554,  1,      2,2,20030820, 47.2580, -25.3320, 2827,   2856.3,   2.9745,  34.9290,2,-999.0000,9,    268.3,2,    18.85,2,    17.58,2,     0.00,2,     1.11,2,    1.634,3,    0.802,2,   -999.0,5,   -999.0,5,-999.0000,  -999.00,9,   107002,   2.7392
  06MT20030723,   554,  1,      3,2,20030820, 47.2580, -25.3320, 2827,   2736.8,   3.0023,  34.9275,2,-999.0000,9,    270.1,2,    17.25,2,    17.36,2,     0.01,2,     1.09,2, -999.000,9, -999.000,9,   2168.1,2,   2312.7,2,   7.7325,    25.00,2,   107003,   2.7787
  06MT20030723,   554,  1,      4,2,20030820, 47.2580, -25.3320, 2827,   2584.0,   3.0705,  34.9214,2,-999.0000,9,    273.4,2,    14.69,2,    16.99,2,     0.01,2,     1.07,2,    1.933,3,    0.943,2,   2163.1,2,   2310.6,2,   7.7354,    25.00,2,   107004,   2.8610
  06MT20030723,   554,  1,      5,2,20030820, 47.2580, -25.3320, 2827,   2431.8,   3.1135,  34.9152,2,-999.0000,9,    276.1,2,    13.76,2,    16.96,2,     0.01,2,     1.06,2,    2.139,3,    1.037,2,   2161.2,2,   2307.3,2,   7.7344,    25.00,2,   107005,   2.9183
  06MT20030723,   554,  1,      6,2,20030820, 47.2580, -25.3320, 2827,   2429.7,   3.1140,  34.9147,2,-999.0000,9,    276.8,2,    13.35,2,    16.91,2,     0.00,2,     1.04,2, -999.000,9, -999.000,9,   2159.4,2,   2304.0,2,   7.7364,    25.00,2,   107006,   2.9190
  06MT20030723,   554,  1,      7,2,20030820, 47.2580, -25.3320, 2827,   2227.5,   3.1780,  34.9054,2,-999.0000,9,    278.4,2,    12.01,2,    16.98,2,     0.00,2,     1.04,2,    2.384,3,    1.156,2,   2159.7,2,   2304.3,2,   7.7325,    25.00,2,   107007,   3.0015
  06MT20030723,   554,  1,      8,2,20030820, 47.2580, -25.3320, 2827,   2023.1,   3.2284,  34.8971,2,-999.0000,9,    280.1,2,  -999.00,5,  -999.00,5,  -999.00,5,  -999.00,5,    2.647,3,    1.282,2,   2158.0,2,   2301.3,2,   7.7335,    25.00,2,   107008,   3.0704
  06MT20030723,   554,  1,      9,2,20030820, 47.2580, -25.3320, 2827,   1819.2,   3.3265,  34.8953,2,-999.0000,9,    280.7,2,    10.96,2,    17.10,2,     0.01,2,     1.06,2,    2.782,3,    1.352,2,   2158.9,2,   2300.9,2,   7.7325,    25.00,2,   107009,   3.1858
  06MT20030723,   554,  1,     10,2,20030820, 47.2580, -25.3320, 2827,   1817.2,   3.3265,  34.8950,2,-999.0000,9,    280.3,2,    10.74,2,    17.02,2,     0.00,2,     1.04,2, -999.000,9, -999.000,9,   2158.2,2,   2301.5,2,   7.7325,    25.00,2,   107010,   3.1860
  06MT20030723,   554,  1,     11,2,20030820, 47.2580, -25.3320, 2827,   1614.9,   3.4818,  34.9027,2,  34.9016,2,    277.1,2,    10.53,2,    17.15,2,     0.00,2,     1.05,2,    2.744,3,    1.336,2,   2158.8,2,   2301.5,2,   7.7295,    25.00,2,   107011,   3.3575
  06MT20030723,   554,  1,     12,2,20030820, 47.2580, -25.3320, 2827,   1415.0,   3.7164,  34.9114,2,-999.0000,9,    277.3,2,    10.33,2,    17.34,2,     0.01,2,     1.08,2,    2.971,3,    1.466,2,   2161.4,2,   2301.2,2,   7.7256,    25.00,2,   107012,   3.6070
  06MT20030723,   554,  1,     13,2,20030820, 47.2580, -25.3320, 2827,   1311.7,   3.8655,  34.9194,2,-999.0000,9,    270.3,2,    10.24,2,    17.28,2,     0.02,2,     1.07,2,    3.060,3,    1.523,2,   2165.7,2,   2302.5,2,   7.7236,    25.00,2,   107013,   3.7636
  06MT20030723,   554,  1,     14,2,20030820, 47.2580, -25.3320, 2827,   1234.0,   3.9718,  34.9222,2,-999.0000,9,    268.3,2,    10.09,2,    17.40,2,     0.00,2,     1.07,2,    3.104,3,    1.548,2,   2163.4,2,   2300.8,2,   7.7226,    25.00,2,   107014,   3.8757
  06MT20030723,   554,  1,     15,2,20030820, 47.2580, -25.3320, 2827,   1122.5,   4.1839,  34.9353,2,-999.0000,9,    264.3,2,     9.96,2,    17.51,2,     0.02,2,     1.08,2,    3.094,3,    1.544,2,   2164.9,2,   2302.8,2,   7.7206,    25.00,2,   107015,   4.0955
  06MT20030723,   554,  1,     16,2,20030820, 47.2580, -25.3320, 2827,   1003.8,   4.3720,  34.9350,2,-999.0000,9,    261.1,2,     9.89,2,    17.53,2,     0.00,2,     1.07,2,    3.343,3,    1.707,2,   2165.6,2,   2303.9,2,   7.7187,    25.00,2,   107016,   4.2924
  06MT20030723,   554,  1,     17,2,20030820, 47.2580, -25.3320, 2827,    824.6,   5.2099,  34.9748,2,  34.9730,2,    239.0,2,    10.08,2,    18.35,2,     0.00,2,     1.12,2,    3.048,3,    1.510,2,   2172.3,2,   2304.9,2,   7.7108,    25.00,2,   107017,   5.1403
  06MT20030723,   554,  1,     18,2,20030820, 47.2580, -25.3320, 2827,    493.0,   8.2312,  35.0613,2,-999.0000,9,    224.4,2,     7.97,2,    16.72,2,     0.01,2,     1.00,2,    2.907,3,    1.559,2,   2159.8,2,   2312.4,2,   7.7502,    25.00,2,   107018,   8.1794
  06MT20030723,   554,  1,     19,2,20030820, 47.2580, -25.3320, 2827,    193.5,  11.9822,  35.6012,2,-999.0000,9,    227.4,2,     3.84,2,    11.18,2,     0.05,2,     0.59,2,    2.883,3,    1.610,2,   2137.6,2,   2337.4,2,   7.8499,    25.00,2,   107019,  11.9568
  06MT20030723,   554,  1,     20,2,20030820, 47.2580, -25.3320, 2827,    115.8,  13.1992,  35.7812,2,-999.0000,9,    230.8,2,     2.53,2,     8.91,2,     0.03,2,     0.45,2, -999.000,9, -999.000,9,   2127.4,2,   2346.2,2,   7.8826,    25.00,2,   107020,  13.1830
  06MT20030723,   554,  1,     21,2,20030820, 47.2580, -25.3320, 2827,     73.1,  14.0906,  35.8870,2,  35.8158,0,    226.9,2,     2.11,2,     8.20,2,     0.06,2,     0.41,2, -999.000,9, -999.000,9,   2127.9,2,   2349.8,2,   7.8915,    25.00,2,   107021,  14.0799
  06MT20030723,   554,  1,     22,2,20030820, 47.2580, -25.3320, 2827,     22.5,  16.5380,  35.6612,2,-999.0000,9,    251.1,2,     0.00,2,     0.00,2,     0.00,2,     0.05,2,    2.759,3,    1.601,2,   2054.8,2,   2343.8,2,   8.0135,    25.00,2,   107022,  16.5344
  06MT20030723,   555,  1,      1,2,20030820, 47.0500, -26.3990, 2812,   2811.8,   2.9993,  34.9279,2,  34.9273,2,    268.8,2,    18.96,2,    17.69,2,     0.01,2,     1.11,2, -999.000,9, -999.000,9,   -999.0,5,   -999.0,5,-999.0000,  -999.00,9,   108001,   2.7681
  06MT20030723,   555,  1,      2,2,20030820, 47.0500, -26.3990, 2812,   2812.2,   2.9997,  34.9275,2,-999.0000,9,    269.2,2,    18.80,2,    17.66,2,     0.01,2,     1.11,2,    1.566,3,    0.772,2,   -999.0,5,   -999.0,5,-999.0000,  -999.00,9,   108002,   2.7684
  06MT20030723,   555,  1,      3,2,20030820, 47.0500, -26.3990, 2812,   2733.2,   3.0532,  34.9239,2,-999.0000,9,    271.1,2,    16.94,2,    17.34,2,     0.01,2,     1.10,2,    1.724,3,    0.845,2,   -999.0,5,   -999.0,5,-999.0000,  -999.00,9,   108003,   2.8290
  06MT20030723,   555,  1,      4,2,20030820, 47.0500, -26.3990, 2812,   2478.3,   3.1510,  34.9102,2,-999.0000,9,    277.1,2,    13.64,2,    17.03,2,     0.01,2,     1.05,2,    2.198,3,    1.070,2,   -999.0,5,   -999.0,5,-999.0000,  -999.00,9,   108004,   2.9505
  06MT20030723,   555,  1,      5,2,20030820, 47.0500, -26.3990, 2812,   2223.8,   3.1889,  34.9058,2,  34.9045,2,    278.4,2,    13.10,2,    17.05,2,     0.01,2,     1.05,2,    2.328,3,    1.126,2,   -999.0,5,   -999.0,5,-999.0000,  -999.00,9,   108005,   3.0126
  06MT20030723,   555,  1,      6,2,20030820, 47.0500, -26.3990, 2812,   2221.6,   3.1892,  34.9055,2,-999.0000,9,    279.1,2,    13.04,2,    17.02,2,     0.01,2,     1.05,2, -999.000,9, -999.000,9,   -999.0,5,   -999.0,5,-999.0000,  -999.00,9,   108006,   3.0131
  06MT20030723,   555,  1,      7,2,20030820, 47.0500, -26.3990, 2812,   2017.8,   3.2391,  34.9020,2,-999.0000,9,    278.4,2,    12.41,2,    17.13,2,     0.00,2,     1.05,2,    2.478,3,    1.197,2,   -999.0,5,   -999.0,5,-999.0000,  -999.00,9,   108007,   3.0814
  06MT20030723,   555,  1,      8,2,20030820, 47.0500, -26.3990, 2812,   1838.8,   3.3191,  34.8971,2,-999.0000,9,    279.6,2,    11.45,2,    17.00,2,     0.00,2,     1.06,2,    2.731,3,    1.323,2,   -999.0,5,   -999.0,5,-999.0000,  -999.00,9,   108008,   3.1768
  06MT20030723,   555,  1,      9,2,20030820, 47.0500, -26.3990, 2812,   1616.0,   3.4414,  34.8993,2,-999.0000,9,    278.8,2,    10.98,2,    17.07,2,     0.00,2,     1.06,2,    2.838,3,    1.395,2,   -999.0,5,   -999.0,5,-999.0000,  -999.00,9,   108009,   3.3175
  06MT20030723,   555,  1,     10,2,20030820, 47.0500, -26.3990, 2812,   1613.4,   3.4415,  34.8996,2,-999.0000,9,    278.9,2,    10.98,2,    17.23,2,     0.00,2,     1.05,2, -999.000,9, -999.000,9,   -999.0,5,   -999.0,5,-999.0000,  -999.00,9,   108010,   3.3178
  06MT20030723,   555,  1,     11,2,20030820, 47.0500, -26.3990, 2812,   1433.2,   3.5998,  34.9060,2,-999.0000,9,    275.7,2,    10.68,2,    17.31,2,     0.00,2,     1.06,2,    2.882,3,    1.408,2,   -999.0,5,   -999.0,5,-999.0000,  -999.00,9,   108011,   3.4901
  06MT20030723,   555,  1,     12,2,20030820, 47.0500, -26.3990, 2812,   1318.3,   3.7015,  34.9071,2,  34.9073,2,    274.0,2,    10.40,2,    17.20,2,     0.00,2,     1.06,2,    2.957,3,    1.461,2,   -999.0,5,   -999.0,5,-999.0000,  -999.00,9,   108012,   3.6007
  06MT20030723,   555,  1,     13,2,20030820, 47.0500, -26.3990, 2812,   1205.9,   3.8032,  34.9099,2,-999.0000,9,    273.1,2,    10.09,2,    17.22,2,     0.00,2,     1.06,2,    3.205,3,    1.607,2,   -999.0,5,   -999.0,5,-999.0000,  -999.00,9,   108013,   3.7111
  06MT20030723,   555,  1,     14,2,20030820, 47.0500, -26.3990, 2812,   1113.3,   3.8761,  34.9096,2,-999.0000,9,    263.7,2,     8.66,2,    15.78,2,     0.02,2,     0.96,2,    3.265,3,    1.683,2,   -999.0,5,   -999.0,5,-999.0000,  -999.00,9,   108014,   3.7912
  06MT20030723,   555,  1,     15,2,20030820, 47.0500, -26.3990, 2812,   1006.2,   4.0996,  34.9237,2,-999.0000,9,    261.6,2,    10.09,2,    17.33,2,     0.00,2,     1.07,2,    3.319,3,    1.676,2,   -999.0,5,   -999.0,5,-999.0000,  -999.00,9,   108015,   4.0219
  06MT20030723,   555,  1,     16,2,20030820, 47.0500, -26.3990, 2812,    907.1,   4.3250,  34.9402,2,-999.0000,9,    263.5,2,    10.02,2,    17.58,2,     0.00,2,     1.09,2,    3.251,3,    1.647,2,   -999.0,5,   -999.0,5,-999.0000,  -999.00,9,   108016,   4.2541
  06MT20030723,   555,  1,     17,2,20030820, 47.0500, -26.3990, 2812,    793.6,   4.7010,  34.9660,2,-999.0000,9,    252.5,2,    10.09,2,    17.83,2,     0.00,2,     1.10,2,    3.070,3,    1.559,2,   -999.0,5,   -999.0,5,-999.0000,  -999.00,9,   108017,   4.6373
  06MT20030723,   555,  1,     18,2,20030820, 47.0500, -26.3990, 2812,    678.9,   5.8850,  35.1098,2,-999.0000,9,    229.0,2,    10.27,2,    18.46,2,     0.00,2,     1.11,2,    2.381,3,    1.200,2,   -999.0,5,   -999.0,5,-999.0000,  -999.00,9,   108018,   5.8248
  06MT20030723,   555,  1,     19,2,20030820, 47.0500, -26.3990, 2812,    497.7,   6.3458,  34.9631,2,  34.9610,2,    222.4,2,    10.01,2,    19.01,2,     0.00,2,     1.16,2,    2.670,3,    1.411,2,   -999.0,5,   -999.0,5,-999.0000,  -999.00,9,   108019,   6.3006
  06MT20030723,   555,  1,     20,2,20030820, 47.0500, -26.3990, 2812,    297.8,   8.2238,  35.0709,2,-999.0000,9,    244.8,2,     6.78,2,    15.29,2,     0.01,2,     0.90,2, -999.000,9, -999.000,9,   -999.0,5,   -999.0,5,-999.0000,  -999.00,9,   108020,   8.1929
  06MT20030723,   555,  1,     21,2,20030820, 47.0500, -26.3990, 2812,     98.5,  10.7251,  35.3005,2,-999.0000,9,    250.6,2,     1.77,2,    10.21,2,     0.28,2,     0.57,2,    3.412,3,    1.907,2,   -999.0,5,   -999.0,5,-999.0000,  -999.00,9,   108021,  10.7132
  06MT20030723,   555,  1,     22,2,20030820, 47.0500, -26.3990, 2812,     26.3,  16.2798,  35.3567,2,-999.0000,9,    258.8,2,     0.00,2,     0.00,2,     0.01,2,     0.04,2,    2.912,3,    1.664,2,   -999.0,5,   -999.0,5,-999.0000,  -999.00,9,   108022,  16.2756
  06MT20030723,   556,  1,      1,2,20030820, 46.8240, -27.6330, 2411,   2430.3,   3.2604,  34.9123,2,-999.0000,9,    275.1,2,    14.11,2,    17.19,2,     0.00,2,     1.06,2, -999.000,9, -999.000,9,   2160.5,2,   2307.6,2,   7.7344,    25.00,2,   109001,   3.0627
  06MT20030723,   556,  1,      2,2,20030820, 46.8240, -27.6330, 2411,   2430.5,   3.2604,  34.9121,2,-999.0000,9,    275.5,2,    13.95,2,    17.21,2,     0.00,2,     1.05,2,    2.163,3,    1.056,2,   -999.0,5,   -999.0,5,-999.0000,  -999.00,9,   109002,   3.0627
  06MT20030723,   556,  1,      3,2,20030820, 46.8240, -27.6330, 2411,   2325.5,   3.3331,  34.9082,2,-999.0000,9,    276.1,2,    13.38,2,    17.39,2,     0.00,2,     1.07,2,    2.304,3,    1.122,2,   2160.6,2,   2303.8,2,   7.7285,    25.00,2,   109003,   3.1445
  06MT20030723,   556,  1,      4,2,20030820, 46.8240, -27.6330, 2411,   2248.2,   3.3998,  34.9053,2,-999.0000,9,    276.6,2,    12.48,2,    17.41,2,     0.00,2,     1.06,2,    2.530,3,    1.243,2,   2159.7,2,   2302.3,2,   7.7305,    25.00,2,   109004,   3.2176
  06MT20030723,   556,  1,      5,2,20030820, 46.8240, -27.6330, 2411,   2020.0,   3.4510,  34.9044,2,  34.9004,2,    276.8,2,    11.66,2,    17.25,2,     0.00,2,     1.05,2,    2.679,3,    1.313,2,   2160.0,2,   2301.9,2,   7.7305,    25.00,2,   109005,   3.2899
  06MT20030723,   556,  1,      6,2,20030820, 46.8240, -27.6330, 2411,   1840.4,   3.5288,  34.9024,2,-999.0000,9,    276.8,2,    11.11,2,    17.35,2,     0.00,2,     1.06,2,    2.844,3,    1.400,2,   2157.7,2,   2300.4,2,   7.7285,    25.00,2,   109006,   3.3834
  06MT20030723,   556,  1,      7,2,20030820, 46.8240, -27.6330, 2411,   1610.2,   3.7008,  34.9063,2,-999.0000,9,    274.8,2,    10.36,2,    17.43,2,     0.00,2,     1.06,2,    3.068,3,    1.521,2,   2160.2,2,   2298.2,2,   7.7275,    25.00,2,   109007,   3.5742
  06MT20030723,   556,  1,      8,2,20030820, 46.8240, -27.6330, 2411,   1426.3,   4.0397,  34.9282,2,-999.0000,9,    268.6,2,    10.38,2,    17.49,2,     0.00,2,     1.07,2,    3.109,3,    1.551,2,   2160.7,2,   2300.0,2,   7.7226,    25.00,2,   109008,   3.9258
  06MT20030723,   556,  1,      9,2,20030820, 46.8240, -27.6330, 2411,   1315.0,   4.1330,  34.9302,2,-999.0000,9,    266.0,2,    10.43,2,    17.49,2,     0.00,2,     1.08,2,    3.191,3,    1.597,2,   2162.8,2,   2297.9,2,   7.7216,    25.00,2,   109009,   4.0282
  06MT20030723,   556,  1,     10,2,20030820, 46.8240, -27.6330, 2411,   1314.9,   4.1372,  34.9268,2,-999.0000,9,    265.8,2,    10.31,2,    17.72,2,     0.00,2,     1.08,2, -999.000,9, -999.000,9,   -999.0,5,   -999.0,5,-999.0000,  -999.00,9,   109010,   4.0323
  06MT20030723,   556,  1,     11,2,20030820, 46.8240, -27.6330, 2411,   1186.3,   4.4230,  34.9385,2,-999.0000,9,    261.4,2,    10.19,2,    17.88,2,     0.00,2,     1.10,2,    3.278,3,    1.656,2,   2163.8,2,   2314.8,4,   7.7187,    25.00,2,   109011,   4.3269
  06MT20030723,   556,  1,     12,2,20030820, 46.8240, -27.6330, 2411,   1110.8,   4.6493,  34.9422,2,-999.0000,9,    253.8,2,    10.64,2,    17.97,2,     0.00,2,     1.12,2,    3.216,3,    1.648,2,   2167.6,2,   2300.5,2,   7.7157,    25.00,2,   109012,   4.5580
  06MT20030723,   556,  1,     13,2,20030820, 46.8240, -27.6330, 2411,   1005.9,   5.1668,  34.9609,2,  34.9504,0,    241.6,2,    10.42,2,    18.53,2,     0.01,2,     1.15,2,    3.030,3,    1.550,2,   2169.4,2,   2302.5,2,   7.7108,    25.00,2,   109013,   5.0809
  06MT20030723,   556,  1,     14,2,20030820, 46.8240, -27.6330, 2411,    886.4,   6.3495,  35.0272,2,-999.0000,9,    218.7,2,    10.60,2,    19.31,2,     0.00,2,     1.19,2, -999.000,9, -999.000,9,   2172.9,2,   2309.3,2,   7.7118,    25.00,2,   109014,   6.2666
  06MT20030723,   556,  1,     15,2,20030820, 46.8240, -27.6330, 2411,    805.3,   7.5498,  35.0851,2,-999.0000,9,    202.9,2,    10.22,2,    19.26,2,     0.01,2,     1.20,2,    2.308,3,    1.217,2,   2172.1,2,   2306.5,2,   7.7186,    25.00,2,   109015,   7.4677
  06MT20030723,   556,  1,     16,2,20030820, 46.8240, -27.6330, 2411,    714.4,   8.8807,  35.1762,2,-999.0000,9,    203.5,2,     8.31,2,    17.90,2,     0.00,2,     1.09,2, -999.000,9, -999.000,9,   2164.2,2,   2315.4,2,   7.7462,    25.00,2,   109016,   8.8012
  06MT20030723,   556,  1,     17,2,20030820, 46.8240, -27.6330, 2411,    596.8,  10.0177,  35.2964,2,-999.0000,9,    229.2,2,     5.57,2,    14.21,2,     0.01,2,     0.83,2,    2.944,3,    1.612,2,   2149.1,2,   2321.6,2,   7.8005,    25.00,2,   109017,   9.9467
  06MT20030723,   556,  1,     18,2,20030820, 46.8240, -27.6330, 2411,    407.7,  11.4523,  35.5146,2,-999.0000,9,    232.7,2,     3.90,2,    11.64,2,     0.01,2,     0.66,2,    2.974,3,    1.650,2,   2136.4,2,   2330.5,2,   7.8410,    25.00,2,   109018,  11.3999
  06MT20030723,   556,  1,     19,2,20030820, 46.8240, -27.6330, 2411,    203.7,  13.1242,  35.7874,2,-999.0000,9,    236.7,2,     2.48,2,     8.71,2,     0.02,2,     0.44,2,    2.978,3,    1.694,2,   2124.8,2,   2345.7,2,   7.8875,    25.00,2,   109019,  13.0958
  06MT20030723,   556,  1,     20,2,20030820, 46.8240, -27.6330, 2411,     92.5,  13.7624,  35.8488,2,-999.0000,9,    231.3,2,     1.99,2,     8.07,2,     0.02,2,     0.39,2,    2.915,3,    1.651,2,   2122.6,2,   2349.6,2,   7.8994,    25.00,2,   109020,  13.7491
  06MT20030723,   556,  1,     21,2,20030820, 46.8240, -27.6330, 2411,     72.4,  14.2183,  35.8965,2,-999.0000,9,    229.7,2,     1.46,2,     6.78,2,     0.10,2,     0.34,2,    2.830,3,    1.637,2,   2115.7,2,   2351.3,2,   7.9123,    25.00,2,   109021,  14.2077
  06MT20030723,   556,  1,     22,2,20030820, 46.8240, -27.6330, 2411,      8.2,  17.8790,  35.8296,2,  35.8079,0,    241.2,2,     0.08,2,     0.00,2,     0.00,2,     0.04,2,    2.586,3,    1.514,2,   2059.4,2,   2354.2,2,   8.0165,    25.00,2,   109022,  17.8776