BOTTLE,20090513PRINUNIVRMK
EXPOCODE,STNNBR,CASTNO,BTLNBR,BTLNBR_FLAG_W,DATE,LATITUDE,LONGITUDE,DEPTH,CTDPRS,CTDTMP,CTDSAL,CTDSAL_FLAG_W,SALNTY,SALNTY_FLAG_W,OXYGEN,OXYGEN_FLAG_W,SILCAT,SILCAT_FLAG_W,NITRAT,NITRAT_FLAG_W,NITRIT,NITRIT_FLAG_W,PHSPHT,PHSPHT_FLAG_W,CFC-11,CFC-11_FLAG_W,CFC-12,CFC-12_FLAG_W,TCARBN,TCARBN_FLAG_W,ALKALI,ALKALI_FLAG_W,PH_SWS,PH_TEMP,PH_SWS_FLAG_W,ID,THETA
,,,,,,,,METERS,DBARS,ITS-90,PSS-78,,PSS-78,,UMOL/KG,,UMOL/KG,,UMOL/KG,,UMOL/KG,,UMOL/KG,,PMOL/KG,,PMOL/KG,,UMOL/KG,,UMOL/KG,,,DEGC,,,DEGC
  06MT20030723,   520,  1,      1,2,20030810, 55.3920, -30.2660, 2636,   2585.2,   2.9138,  34.9679,2,  34.9675,2,    273.7,2,    13.87,2,    16.31,2,     0.00,2,     1.04,2, -999.000,9, -999.000,9,   2164.9,2,   2304.2,2,   7.7226,    25.00,2,    74001,   2.7069
  06MT20030723,   520,  1,      2,2,20030810, 55.3920, -30.2660, 2636,   2585.0,   2.9139,  34.9675,2,-999.0000,9,    273.7,2,    13.95,2,    16.29,2,     0.00,2,     1.03,2,    2.357,3,    1.189,2,   -999.0,5,   -999.0,5,-999.0000,  -999.00,9,    74002,   2.7070
  06MT20030723,   520,  1,      3,2,20030810, 55.3920, -30.2660, 2636,   2534.3,   2.9322,  34.9671,2,-999.0000,9,    274.5,2,    13.53,2,    16.26,2,     0.00,2,     1.03,2,    2.436,3,    1.224,2,   2163.8,2,   2307.1,2,   7.7226,    25.00,2,    74003,   2.7300
  06MT20030723,   520,  1,      4,2,20030810, 55.3920, -30.2660, 2636,   2431.4,   2.9539,  34.9661,2,-999.0000,9,    272.9,2,    13.25,2,    16.21,2,     0.00,2,     1.03,2,    2.366,3,    1.198,2,   2161.6,2,   2306.0,2,   7.7246,    25.00,2,    74004,   2.7614
  06MT20030723,   520,  1,      5,2,20030810, 55.3920, -30.2660, 2636,   2330.4,   3.0319,  34.9631,2,-999.0000,9,    271.5,2,    12.46,2,    16.24,2,     0.00,2,     1.03,2,    2.404,3,    1.202,2,   2161.3,2,   2305.0,2,   7.7236,    25.00,2,    74005,   2.8478
  06MT20030723,   520,  1,      6,2,20030810, 55.3920, -30.2660, 2636,   2125.9,   3.1705,  34.9480,2,-999.0000,9,    276.7,2,    11.50,2,    16.35,2,     0.00,2,     1.03,2,    2.392,3,    1.192,2,   2161.6,2,   2294.0,2,   7.7295,    25.00,2,    74006,   3.0036
  06MT20030723,   520,  1,      7,2,20030810, 55.3920, -30.2660, 2636,   1922.4,   3.1721,  34.9129,2,-999.0000,9,    279.7,2,    11.16,2,    16.63,2,     0.00,2,     1.05,2,    2.582,3,    1.264,2,   2156.1,2,   2303.0,2,   7.7266,    25.00,2,    74007,   3.0242
  06MT20030723,   520,  1,      8,2,20030810, 55.3920, -30.2660, 2636,   1719.2,   3.1924,  34.8908,2,-999.0000,9,    283.7,2,    10.53,2,    16.83,2,     0.00,2,     1.06,2,    2.992,3,    1.464,2,   2156.3,2,   2297.1,2,   7.7246,    25.00,2,    74008,   3.0625
  06MT20030723,   520,  1,      9,2,20030810, 55.3920, -30.2660, 2636,   1517.6,   3.3128,  34.8910,2,  34.8955,2,    281.5,2,    10.59,2,    17.02,2,     0.00,2,     1.08,2,    3.074,3,    1.500,2,   2155.7,2,   2296.3,2,   7.7216,    25.00,2,    74009,   3.1990
  06MT20030723,   520,  1,     10,2,20030810, 55.3920, -30.2660, 2636,   1311.8,   3.4885,  34.8978,2,-999.0000,9,    279.1,2,    10.49,2,    16.96,2,     0.00,2,     1.09,2,    3.097,3,    1.529,2,   2157.1,2,   2284.0,4,   7.7197,    25.00,2,    74010,   3.3904
  06MT20030723,   520,  1,     11,2,20030810, 55.3920, -30.2660, 2636,   1219.8,   3.5934,  34.9021,2,-999.0000,9,    280.2,2,    10.42,2,    17.32,2,     0.00,2,     1.10,2,    3.150,3,    1.570,2,   2159.1,2,   2300.3,2,   7.7177,    25.00,2,    74011,   3.5021
  06MT20030723,   520,  1,     12,2,20030810, 55.3920, -30.2660, 2636,   1109.0,   3.7018,  34.9058,2,-999.0000,9,    277.0,2,    10.34,2,    17.40,2,     0.00,2,     1.10,2,    3.081,3,    1.537,2,   2159.6,2,   2297.9,2,   7.7167,    25.00,2,    74012,   3.6188
  06MT20030723,   520,  1,     13,2,20030810, 55.3920, -30.2660, 2636,   1039.6,   3.7739,  34.9088,2,-999.0000,9,    273.1,4,    10.28,4,    17.47,4,     0.00,2,     1.08,4,    3.238,3,    1.623,2,   2164.1,4,   2294.2,4,   7.7147,    25.00,2,    74013,   3.6960
  06MT20030723,   520,  1,     14,2,20030810, 55.3920, -30.2660, 2636,    957.6,   3.8564,  34.9105,2,-999.0000,9,    271.1,2,    10.14,2,    17.49,2,     0.00,2,     1.10,2,    3.290,3,    1.657,2,   2160.7,2,   2300.4,2,   7.7118,    25.00,2,    74014,   3.7847
  06MT20030723,   520,  1,     15,2,20030810, 55.3920, -30.2660, 2636,    882.6,   3.9475,  34.9132,2,  34.9120,2,    270.4,2,     9.86,2,    17.46,2,     0.00,2,     1.10,2,    3.484,3,    1.777,2,   2161.6,2,   2298.4,2,   7.7118,    25.00,2,    74015,   3.8812
  06MT20030723,   520,  1,     16,2,20030810, 55.3920, -30.2660, 2636,    754.3,   4.1682,  34.9156,2,-999.0000,9,    263.2,2,     9.81,2,    17.62,2,     0.00,2,     1.11,2,    3.513,3,    1.799,2,   2163.9,2,   2299.1,2,   7.7069,    25.00,2,    74016,   4.1110
  06MT20030723,   520,  1,     17,2,20030810, 55.3920, -30.2660, 2636,    620.1,   4.6387,  34.9332,2,-999.0000,9,    251.9,2,    10.06,2,    18.26,2,     0.00,2,     1.15,2,    3.263,3,    1.688,2,   2167.7,2,   2299.6,2,   7.6990,    25.00,2,    74017,   4.5900
  06MT20030723,   520,  1,     18,2,20030810, 55.3920, -30.2660, 2636,    391.2,   5.8974,  34.9392,2,-999.0000,9,    230.1,2,     9.68,2,    18.61,2,     0.00,2,     1.17,2,    3.031,3,    1.614,2,   2168.7,2,   2303.1,2,   7.6970,    25.00,2,    74018,   5.8635
  06MT20030723,   520,  1,     19,2,20030810, 55.3920, -30.2660, 2636,    207.1,   6.9608,  34.8933,2,-999.0000,9,    267.8,2,     6.73,2,    14.77,2,     0.01,2,     0.95,2,    3.893,3,    2.148,2,   2147.6,2,   2300.2,2,   7.7601,    25.00,2,    74019,   6.9415
  06MT20030723,   520,  1,     20,2,20030810, 55.3920, -30.2660, 2636,    100.8,   7.9850,  34.9713,2,  34.9740,2,    267.1,2,     5.58,2,    13.51,2,     0.02,2,     0.84,2,    3.870,3,    2.153,2,   2137.1,2,   2302.4,2,   7.7769,    25.00,2,    74020,   7.9749
  06MT20030723,   520,  1,     21,2,20030810, 55.3920, -30.2660, 2636,     73.1,   8.5219,  35.0119,2,-999.0000,9,    268.5,2,     3.32,2,    11.95,2,     0.02,2,     0.74,2,    3.844,3,    2.134,2,   2128.8,2,   2309.8,2,   7.7986,    25.00,2,    74021,   8.5143
  06MT20030723,   520,  1,     22,2,20030810, 55.3920, -30.2660, 2636,     16.9,  11.7110,  34.9443,2,-999.0000,9,    273.4,2,     0.44,2,     4.15,2,     0.13,2,     0.28,2,    3.493,3,    1.983,2,   2073.6,2,   2297.0,2,   7.9035,    25.00,2,    74022,  11.7088
  06MT20030723,   521,  1,      1,2,20030810, 55.5080, -28.9740, 2987,   3005.2,   2.7464,  34.9613,2,  34.9628,2,    267.8,2,    20.00,2,    16.86,2,     0.01,2,     1.11,2, -999.000,9, -999.000,9,   -999.0,5,   -999.0,5,-999.0000,  -999.00,9,    75001,   2.5004
  06MT20030723,   521,  1,      2,2,20030810, 55.5080, -28.9740, 2987,   3005.5,   2.7466,  34.9614,2,-999.0000,9,    267.8,2,    20.05,2,    16.87,2,     0.01,2,     1.11,2,    2.053,3,    1.041,2,   -999.0,5,   -999.0,5,-999.0000,  -999.00,9,    75002,   2.5006
  06MT20030723,   521,  1,      3,2,20030810, 55.5080, -28.9740, 2987,   2943.5,   2.7463,  34.9562,2,-999.0000,9,    266.2,2,    21.18,2,    17.42,2,     0.00,2,     1.14,2,    1.875,3,    0.946,2,   -999.0,5,   -999.0,5,-999.0000,  -999.00,9,    75003,   2.5067
  06MT20030723,   521,  1,      4,2,20030810, 55.5080, -28.9740, 2987,   2840.6,   2.8183,  34.9670,2,-999.0000,9,    272.9,2,    15.47,2,    16.36,2,     0.00,2,     1.06,2,    2.329,3,    1.173,2,   -999.0,5,   -999.0,5,-999.0000,  -999.00,9,    75004,   2.5877
  06MT20030723,   521,  1,      5,2,20030810, 55.5080, -28.9740, 2987,   2636.5,   2.9420,  34.9717,2,-999.0000,9,    275.2,2,    12.80,2,    16.00,2,     0.00,2,     1.03,2,    2.504,3,    1.276,2,   -999.0,5,   -999.0,5,-999.0000,  -999.00,9,    75005,   2.7295
  06MT20030723,   521,  1,      6,2,20030810, 55.5080, -28.9740, 2987,   2419.7,   3.1002,  34.9617,2,-999.0000,9,    275.8,2,    12.09,2,    16.10,2,     0.00,2,     1.03,2,    2.397,3,    1.213,2,   -999.0,5,   -999.0,5,-999.0000,  -999.00,9,    75006,   2.9062
  06MT20030723,   521,  1,      7,2,20030810, 55.5080, -28.9740, 2987,   2228.2,   3.1854,  34.9377,2,-999.0000,9,    278.0,2,    11.71,2,    16.31,2,     0.00,2,     1.06,2,    2.382,3,    1.192,2,   -999.0,5,   -999.0,5,-999.0000,  -999.00,9,    75007,   3.0086
  06MT20030723,   521,  1,      8,2,20030810, 55.5080, -28.9740, 2987,   2009.5,   3.1899,  34.9066,2,  34.9100,2,    281.4,2,    11.05,2,    16.60,2,     0.00,2,     1.07,2,    2.664,3,    1.311,2,   -999.0,5,   -999.0,5,-999.0000,  -999.00,9,    75008,   3.0337
  06MT20030723,   521,  1,      9,2,20030810, 55.5080, -28.9740, 2987,   1831.9,   3.2072,  34.8902,2,-999.0000,9,    283.3,2,    10.67,2,    16.76,2,     0.00,2,     1.08,2,    3.000,3,    1.476,2,   -999.0,5,   -999.0,5,-999.0000,  -999.00,9,    75009,   3.0670
  06MT20030723,   521,  1,     10,2,20030810, 55.5080, -28.9740, 2987,   1633.1,   3.3150,  34.8891,2,-999.0000,9,    281.6,2,    10.51,2,    16.94,2,     0.00,2,     1.09,2,    3.088,3,    1.522,2,   -999.0,5,   -999.0,5,-999.0000,  -999.00,9,    75010,   3.1912
  06MT20030723,   521,  1,     11,2,20030810, 55.5080, -28.9740, 2987,   1413.9,   3.4958,  34.8966,2,-999.0000,9,    277.4,2,    10.47,2,    17.15,2,     0.00,2,     1.10,2,    3.068,3,    1.520,2,   -999.0,5,   -999.0,5,-999.0000,  -999.00,9,    75011,   3.3889
  06MT20030723,   521,  1,     12,2,20030810, 55.5080, -28.9740, 2987,   1210.8,   3.6847,  34.9031,2,  34.9026,2,    274.2,2,    10.24,2,    17.22,2,     0.00,2,     1.11,2,    3.248,3,    1.635,2,   -999.0,5,   -999.0,5,-999.0000,  -999.00,9,    75012,   3.5933
  06MT20030723,   521,  1,     13,2,20030810, 55.5080, -28.9740, 2987,   1059.3,   3.8570,  34.9097,2,-999.0000,9,    270.8,2,     9.95,2,    17.32,2,     0.00,2,     1.11,2,    3.325,3,    1.683,2,   -999.0,5,   -999.0,5,-999.0000,  -999.00,9,    75013,   3.7768
  06MT20030723,   521,  1,     14,2,20030810, 55.5080, -28.9740, 2987,    905.5,   4.1040,  34.9206,2,-999.0000,9,    265.2,2,    10.22,2,    17.52,2,     0.00,2,     1.13,2,    3.348,3,    1.698,2,   -999.0,5,   -999.0,5,-999.0000,  -999.00,9,    75014,   4.0348
  06MT20030723,   521,  1,     15,2,20030810, 55.5080, -28.9740, 2987,    838.5,   4.2956,  34.9343,2,-999.0000,9,    260.4,2,    10.23,2,    17.66,2,     0.00,2,     1.15,2,    3.271,3,    1.681,2,   -999.0,5,   -999.0,5,-999.0000,  -999.00,9,    75015,   4.2307
  06MT20030723,   521,  1,     16,2,20030810, 55.5080, -28.9740, 2987,    770.3,   4.4885,  34.9459,2,-999.0000,9,    256.2,2,    10.32,2,    17.80,2,     0.00,2,     1.16,2,    3.228,3,    1.666,2,   -999.0,5,   -999.0,5,-999.0000,  -999.00,9,    75016,   4.4281
  06MT20030723,   521,  1,     17,2,20030810, 55.5080, -28.9740, 2987,    699.2,   4.9360,  34.9844,2,-999.0000,9,    247.8,2,    10.48,2,    18.12,2,     0.00,2,     1.17,2,    3.055,3,    1.581,2,   -999.0,5,   -999.0,5,-999.0000,  -999.00,9,    75017,   4.8791
  06MT20030723,   521,  1,     18,2,20030810, 55.5080, -28.9740, 2987,    613.0,   5.3997,  35.0086,2,-999.0000,9,    235.4,2,    10.54,2,    18.35,2,     0.00,2,     1.19,2,    2.838,3,    1.489,2,   -999.0,5,   -999.0,5,-999.0000,  -999.00,9,    75018,   5.3480
  06MT20030723,   521,  1,     19,2,20030810, 55.5080, -28.9740, 2987,    509.6,   6.0521,  35.0071,2,-999.0000,9,    223.5,2,    10.38,2,    18.63,2,     0.01,2,     1.20,2,    2.744,3,    1.460,2,   -999.0,5,   -999.0,5,-999.0000,  -999.00,9,    75019,   6.0069
  06MT20030723,   521,  1,     20,2,20030810, 55.5080, -28.9740, 2987,    299.5,   7.7357,  35.0630,2,  35.0637,2,    225.6,2,     8.35,2,    16.87,2,     0.01,2,     1.07,2,    2.926,3,    1.599,2,   -999.0,5,   -999.0,5,-999.0000,  -999.00,9,    75020,   7.7057
  06MT20030723,   521,  1,     21,2,20030810, 55.5080, -28.9740, 2987,    100.7,   8.8806,  35.1266,2,-999.0000,9,    263.5,2,     4.92,2,    12.29,2,     0.02,2,     0.77,2,    3.696,3,    2.073,2,   -999.0,5,   -999.0,5,-999.0000,  -999.00,9,    75021,   8.8698
  06MT20030723,   521,  1,     22,2,20030810, 55.5080, -28.9740, 2987,      2.5,  12.0761,  35.1099,2,-999.0000,9,    279.2,2,     0.06,2,     2.77,2,     0.14,2,     0.21,2,    3.365,3,    1.921,2,   -999.0,5,   -999.0,5,-999.0000,  -999.00,9,    75022,  12.0758
  06MT20030723,   522,  1,      1,2,20030810, 55.6980, -27.6490, 2764,   2763.3,   2.7316,  34.9728,2,-999.0000,9,    274.6,2,    15.17,2,    16.06,2,     0.01,2,     1.05,2, -999.000,9, -999.000,9,   2166.8,2,   2305.7,2,   7.7187,    25.00,2,    76001,   2.5105
  06MT20030723,   522,  1,      2,2,20030810, 55.6980, -27.6490, 2764,   2762.5,   2.7316,  34.9724,2,-999.0000,9,    276.8,2,    15.22,2,    16.06,2,     0.01,2,     1.06,2,    2.636,3,    1.311,2,   -999.0,5,   -999.0,5,-999.0000,  -999.00,9,    76002,   2.5106
  06MT20030723,   522,  1,      3,2,20030810, 55.6980, -27.6490, 2764,   2737.9,   2.7352,  34.9717,2,-999.0000,9,    275.5,2,    15.44,2,    16.12,2,     0.01,2,     1.06,2,    2.582,3,    1.287,2,   2165.8,2,   2304.4,2,   7.7187,    25.00,2,    76003,   2.5166
  06MT20030723,   522,  1,      4,2,20030810, 55.6980, -27.6490, 2764,   2638.3,   2.7360,  34.9602,2,  34.9563,2,    271.0,2,    18.49,2,    16.79,2,     0.00,2,     1.11,2, -999.000,9, -999.000,9,   2169.0,2,   2309.8,2,   7.7216,    25.00,2,    76004,   2.5273
  06MT20030723,   522,  1,      5,2,20030810, 55.6980, -27.6490, 2764,   2533.5,   2.7731,  34.9579,2,-999.0000,9,    271.3,2,    17.55,2,    16.65,2,     0.00,2,     1.10,2,    2.077,3,    1.057,2,   2166.8,2,   2311.8,2,   7.7246,    25.00,2,    76005,   2.5740
  06MT20030723,   522,  1,      6,2,20030810, 55.6980, -27.6490, 2764,   2331.5,   2.9505,  34.9603,2,-999.0000,9,    274.0,2,    14.66,2,    16.40,2,     0.00,2,     1.07,2,    2.165,3,    1.100,2,   2162.5,2,   2305.1,2,   7.7266,    25.00,2,    76006,   2.7677
  06MT20030723,   522,  1,      7,2,20030810, 55.6980, -27.6490, 2764,   2125.9,   3.1580,  34.9442,2,-999.0000,9,    277.0,2,    12.37,2,    16.32,2,     0.00,2,     1.07,2,    2.329,3,    1.177,2,   2158.0,2,   2300.1,2,   7.7285,    25.00,2,    76007,   2.9913
  06MT20030723,   522,  1,      8,2,20030810, 55.6980, -27.6490, 2764,   1984.9,   3.2054,  34.9238,2,-999.0000,9,    279.1,2,    11.65,2,    16.50,2,     0.00,2,     1.08,2,    2.453,3,    1.215,2,   2155.5,2,   2297.3,2,   7.7285,    25.00,2,    76008,   3.0512
  06MT20030723,   522,  1,      9,2,20030810, 55.6980, -27.6490, 2764,   1719.0,   3.2373,  34.8948,2,  34.8917,2,    283.8,2,    10.85,2,    16.78,2,     0.00,2,     1.09,2,    2.988,3,    1.459,2,   2154.9,2,   2296.7,2,   7.7266,    25.00,2,    76009,   3.1068
  06MT20030723,   522,  1,     10,2,20030810, 55.6980, -27.6490, 2764,   1515.5,   3.3721,  34.8941,2,-999.0000,9,   -999.0,5,  -999.00,5,  -999.00,5,  -999.00,5,  -999.00,5, -999.000,9, -999.000,9,   -999.0,5,   -999.0,5,-999.0000,  -999.00,9,    76010,   3.2578
  06MT20030723,   522,  1,     11,2,20030810, 55.6980, -27.6490, 2764,   1300.1,   3.5684,  34.9016,2,-999.0000,9,    276.1,2,    10.66,2,    17.22,2,     0.00,2,     1.12,2,    3.075,3,    1.515,2,   2157.8,2,   2296.5,2,   7.7197,    25.00,2,    76011,   3.4705
  06MT20030723,   522,  1,     12,2,20030810, 55.6980, -27.6490, 2764,   1112.8,   3.8057,  34.9146,2,-999.0000,9,    270.7,2,    10.47,2,    17.40,2,     0.00,2,     1.12,2,    3.112,3,    1.561,2,   2158.7,2,   2294.4,2,   7.7147,    25.00,2,    76012,   3.7215
  06MT20030723,   522,  1,     13,2,20030810, 55.6980, -27.6490, 2764,   1014.6,   3.9767,  34.9229,2,-999.0000,9,    267.7,2,    10.51,2,    17.54,2,     0.00,2,     1.14,2,    3.050,3,    1.550,2,   2160.6,2,   2298.9,2,   7.7128,    25.00,2,    76013,   3.8993
  06MT20030723,   522,  1,     14,2,20030810, 55.6980, -27.6490, 2764,    907.8,   4.1788,  34.9368,2,-999.0000,9,   -999.0,5,    10.30,2,    17.43,2,     0.00,2,     1.14,2, -999.000,9, -999.000,9,   2162.8,2,   2298.8,2,   7.7118,    25.00,2,    76014,   4.1088
  06MT20030723,   522,  1,     15,2,20030810, 55.6980, -27.6490, 2764,    820.4,   4.3972,  34.9444,2,  34.9466,2,    258.2,2,    10.38,2,    17.70,2,     0.00,2,     1.14,2,    3.144,3,    1.604,2,   2165.4,2,   2299.3,2,   7.7088,    25.00,2,    76015,   4.3331
  06MT20030723,   522,  1,     16,2,20030810, 55.6980, -27.6490, 2764,    736.9,   4.6252,  34.9606,2,-999.0000,9,    252.4,2,    10.40,2,    18.00,2,     0.00,2,     1.16,2,    3.061,3,    1.597,2,   2166.6,2,   2305.2,2,   7.7068,    25.00,2,    76016,   4.5668
  06MT20030723,   522,  1,     17,2,20030810, 55.6980, -27.6490, 2764,    657.9,   4.8915,  34.9726,2,-999.0000,9,    245.6,2,    10.36,2,    18.25,2,     0.00,2,     1.17,2,    3.040,3,    1.583,2,   2169.0,2,   2298.0,2,   7.7029,    25.00,2,    76017,   4.8384
  06MT20030723,   522,  1,     18,2,20030810, 55.6980, -27.6490, 2764,    384.5,   6.4959,  34.9879,2,-999.0000,9,    218.9,2,    10.06,2,    18.71,2,     0.00,2,     1.19,2,    2.657,3,    1.424,2,   2172.3,2,   2304.4,2,   7.7059,    25.00,2,    76018,   6.4609
  06MT20030723,   522,  1,     19,2,20030810, 55.6980, -27.6490, 2764,    190.4,   7.9108,  35.0083,2,-999.0000,9,    256.4,2,     6.34,2,    14.38,2,     0.01,2,     0.91,2, -999.000,9, -999.000,9,   2143.1,2,   2302.1,2,   7.7680,    25.00,2,    76019,   7.8917
  06MT20030723,   522,  1,     20,2,20030810, 55.6980, -27.6490, 2764,    107.2,   8.5116,  35.0598,2,-999.0000,9,    266.2,2,     5.26,2,    12.83,2,     0.02,2,     0.80,2,    3.786,3,    2.110,2,   2135.6,2,   2308.6,2,   7.7897,    25.00,2,    76020,   8.5004
  06MT20030723,   522,  1,     21,2,20030810, 55.6980, -27.6490, 2764,     91.9,   8.7119,  35.0853,2,-999.0000,9,    266.3,2,     4.20,2,    12.05,2,     0.02,2,     0.74,2, -999.000,9, -999.000,9,   2131.1,2,   2302.3,2,   7.7956,    25.00,2,    76021,   8.7022
  06MT20030723,   522,  1,     22,2,20030810, 55.6980, -27.6490, 2764,     14.0,  12.2719,  35.0406,2,-999.0000,9,    273.4,2,     0.24,2,     2.87,2,     0.12,2,     0.24,2,    3.430,3,    1.940,2,   2073.4,2,   2305.1,2,   7.9243,    25.00,2,    76022,  12.2701