BOTTLE,20090513PRINUNIVRMK
EXPOCODE,STNNBR,CASTNO,BTLNBR,BTLNBR_FLAG_W,DATE,LATITUDE,LONGITUDE,DEPTH,CTDPRS,CTDTMP,CTDSAL,CTDSAL_FLAG_W,SALNTY,SALNTY_FLAG_W,OXYGEN,OXYGEN_FLAG_W,SILCAT,SILCAT_FLAG_W,NITRAT,NITRAT_FLAG_W,NITRIT,NITRIT_FLAG_W,PHSPHT,PHSPHT_FLAG_W,CFC-11,CFC-11_FLAG_W,CFC-12,CFC-12_FLAG_W,TCARBN,TCARBN_FLAG_W,ALKALI,ALKALI_FLAG_W,PH_SWS,PH_TEMP,PH_SWS_FLAG_W,ID,THETA
,,,,,,,,METERS,DBARS,ITS-90,PSS-78,,PSS-78,,UMOL/KG,,UMOL/KG,,UMOL/KG,,UMOL/KG,,UMOL/KG,,PMOL/KG,,PMOL/KG,,UMOL/KG,,UMOL/KG,,,DEGC,,,DEGC
  06MT20030723,   470,  1,      1,2,20030729, 58.0080, -53.1990, 3500,   3523.3,   1.6449,  34.8744,2,  34.8835,0,    296.1,2,  -999.00,5,  -999.00,5,  -999.00,5,  -999.00,5, -999.000,9, -999.000,9,   -999.0,5,   -999.0,5,-999.0000,  -999.00,9,    21001,   1.3716
  06MT20030723,   470,  1,      2,2,20030729, 58.0080, -53.1990, 3500,   3522.9,   1.6459,  34.8750,2,-999.0000,9,   -999.0,5,  -999.00,5,  -999.00,5,  -999.00,5,  -999.00,5,    3.766,3,    1.960,2,   -999.0,5,   -999.0,5,-999.0000,  -999.00,9,    21002,   1.3726
  06MT20030723,   470,  1,      3,2,20030729, 58.0080, -53.1990, 3500,   3455.5,   1.7649,  34.8756,2,-999.0000,9,   -999.0,5,  -999.00,5,  -999.00,5,  -999.00,5,  -999.00,5,    3.650,3,    1.907,2,   -999.0,5,   -999.0,5,-999.0000,  -999.00,9,    21003,   1.4956
  06MT20030723,   470,  1,      4,2,20030729, 58.0080, -53.1990, 3500,   3353.5,   2.0396,  34.8824,2,-999.0000,9,   -999.0,5,  -999.00,5,  -999.00,5,  -999.00,5,  -999.00,5, -999.000,9, -999.000,9,   -999.0,5,   -999.0,5,-999.0000,  -999.00,9,    21004,   1.7741
  06MT20030723,   470,  1,      5,2,20030729, 58.0080, -53.1990, 3500,   3254.7,   2.2834,  34.8907,2,-999.0000,9,   -999.0,5,  -999.00,5,  -999.00,5,  -999.00,5,  -999.00,5, -999.000,9, -999.000,9,   -999.0,5,   -999.0,5,-999.0000,  -999.00,9,    21005,   2.0223
  06MT20030723,   470,  1,      6,2,20030729, 58.0080, -53.1990, 3500,   3053.1,   2.5792,  34.9020,2,-999.0000,9,   -999.0,5,  -999.00,5,  -999.00,5,  -999.00,5,  -999.00,5, -999.000,9, -999.000,9,   -999.0,5,   -999.0,5,-999.0000,  -999.00,9,    21006,   2.3322
  06MT20030723,   470,  1,      7,2,20030729, 58.0080, -53.1990, 3500,   2841.3,   2.7770,  34.9055,2,-999.0000,9,   -999.0,5,  -999.00,5,  -999.00,5,  -999.00,5,  -999.00,5, -999.000,9, -999.000,9,   -999.0,5,   -999.0,5,-999.0000,  -999.00,9,    21007,   2.5474
  06MT20030723,   470,  1,      8,2,20030729, 58.0080, -53.1990, 3500,   2739.5,   2.8477,  34.9011,2,  34.9028,2,   -999.0,5,  -999.00,5,  -999.00,5,  -999.00,5,  -999.00,5, -999.000,9, -999.000,9,   -999.0,5,   -999.0,5,-999.0000,  -999.00,9,    21008,   2.6270
  06MT20030723,   470,  1,      9,2,20030729, 58.0080, -53.1990, 3500,   2539.2,   2.9918,  34.8975,2,-999.0000,9,   -999.0,5,  -999.00,5,  -999.00,5,  -999.00,5,  -999.00,5, -999.000,9, -999.000,9,   -999.0,5,   -999.0,5,-999.0000,  -999.00,9,    21009,   2.7883
  06MT20030723,   470,  1,     10,2,20030729, 58.0080, -53.1990, 3500,   2382.4,   3.0639,  34.8920,2,-999.0000,9,    284.6,2,  -999.00,5,  -999.00,5,  -999.00,5,  -999.00,5,    2.919,3,    1.487,2,   -999.0,5,   -999.0,5,-999.0000,  -999.00,9,    21010,   2.8745
  06MT20030723,   470,  1,     11,2,20030729, 58.0080, -53.1990, 3500,   2126.4,   3.1315,  34.8800,2,-999.0000,9,   -999.0,5,  -999.00,5,  -999.00,5,  -999.00,5,  -999.00,5,    3.346,3,    1.701,2,   -999.0,5,   -999.0,5,-999.0000,  -999.00,9,    21011,   2.9654
  06MT20030723,   470,  1,     12,2,20030729, 58.0080, -53.1990, 3500,   1823.3,   3.3052,  34.8841,2,  34.8839,2,   -999.0,5,  -999.00,5,  -999.00,5,  -999.00,5,  -999.00,5,    3.445,3,    1.752,2,   -999.0,5,   -999.0,5,-999.0000,  -999.00,9,    21012,   3.1645
  06MT20030723,   470,  1,     13,2,20030729, 58.0080, -53.1990, 3500,   1515.9,   3.4527,  34.8799,2,-999.0000,9,   -999.0,5,  -999.00,5,  -999.00,5,  -999.00,5,  -999.00,5,    3.687,3,    1.927,2,   -999.0,5,   -999.0,5,-999.0000,  -999.00,9,    21013,   3.3375
  06MT20030723,   470,  1,     14,2,20030729, 58.0080, -53.1990, 3500,   1270.6,   3.2602,  34.8374,2,-999.0000,9,    300.6,2,  -999.00,5,  -999.00,5,  -999.00,5,  -999.00,5,    4.567,3,    2.467,2,   -999.0,5,   -999.0,5,-999.0000,  -999.00,9,    21014,   3.1680
  06MT20030723,   470,  1,     15,2,20030729, 58.0080, -53.1990, 3500,   1008.0,   3.2545,  34.8335,2,-999.0000,9,   -999.0,5,  -999.00,5,  -999.00,5,  -999.00,5,  -999.00,5,    4.620,3,    2.508,2,   -999.0,5,   -999.0,5,-999.0000,  -999.00,9,    21015,   3.1834
  06MT20030723,   470,  1,     16,2,20030729, 58.0080, -53.1990, 3500,    905.9,   3.2459,  34.8319,2,-999.0000,9,   -999.0,5,  -999.00,5,  -999.00,5,  -999.00,5,  -999.00,5, -999.000,9, -999.000,9,   -999.0,5,   -999.0,5,-999.0000,  -999.00,9,    21016,   3.1828
  06MT20030723,   470,  1,     17,2,20030729, 58.0080, -53.1990, 3500,    754.6,   3.2649,  34.8320,2,-999.0000,9,    299.0,2,  -999.00,5,  -999.00,5,  -999.00,5,  -999.00,5,    4.603,3,    2.480,2,   -999.0,5,   -999.0,5,-999.0000,  -999.00,9,    21017,   3.2131
  06MT20030723,   470,  1,     18,2,20030729, 58.0080, -53.1990, 3500,    612.9,   3.2927,  34.8321,2,  34.8361,2,   -999.0,5,  -999.00,5,  -999.00,5,  -999.00,5,  -999.00,5, -999.000,9, -999.000,9,   -999.0,5,   -999.0,5,-999.0000,  -999.00,9,    21018,   3.2512
  06MT20030723,   470,  1,     19,2,20030729, 58.0080, -53.1990, 3500,    445.2,   3.3130,  34.8269,2,-999.0000,9,   -999.0,5,  -999.00,5,  -999.00,5,  -999.00,5,  -999.00,5,    4.582,3,    2.473,2,   -999.0,5,   -999.0,5,-999.0000,  -999.00,9,    21019,   3.2834
  06MT20030723,   470,  1,     20,2,20030729, 58.0080, -53.1990, 3500,    385.2,   3.3669,  34.8318,2,-999.0000,9,   -999.0,5,  -999.00,5,  -999.00,5,  -999.00,5,  -999.00,5,    4.542,3,    2.461,2,   -999.0,5,   -999.0,5,-999.0000,  -999.00,9,    21020,   3.3413
  06MT20030723,   470,  1,     21,2,20030729, 58.0080, -53.1990, 3500,    223.2,   3.3431,  34.8100,2,-999.0000,9,   -999.0,5,  -999.00,5,  -999.00,5,  -999.00,5,  -999.00,5, -999.000,9, -999.000,9,   -999.0,5,   -999.0,5,-999.0000,  -999.00,9,    21021,   3.3286
  06MT20030723,   470,  1,     22,2,20030729, 58.0080, -53.1990, 3500,     32.6,   7.5827,  34.6912,2,-999.0000,9,    321.2,2,  -999.00,5,  -999.00,5,  -999.00,5,  -999.00,5,    4.441,3,    2.467,2,   -999.0,5,   -999.0,5,-999.0000,  -999.00,9,    21022,   7.5796
  06MT20030723,   471,  1,      1,2,20030729, 57.5990, -52.5920, 3542,   3545.2,   1.6123,  34.8741,2,-999.0000,9,    296.5,2,    10.62,2,    14.01,2,     0.00,2,     0.96,2, -999.000,9, -999.000,9,   2159.1,2,   2303.3,2,   7.7128,    25.00,2,    22001,   1.3375
  06MT20030723,   471,  1,      2,2,20030729, 57.5990, -52.5920, 3542,   3545.0,   1.6122,  34.8745,2,-999.0000,9,    295.7,2,    10.63,2,    14.03,2,     0.00,2,     0.98,2, -999.000,9, -999.000,9,   -999.0,5,   -999.0,5,-999.0000,  -999.00,9,    22002,   1.3374
  06MT20030723,   471,  1,      3,2,20030729, 57.5990, -52.5920, 3542,   3456.2,   1.7332,  34.8765,2,-999.0000,9,    296.6,2,    10.08,2,    13.98,2,     0.00,2,     0.96,2, -999.000,9, -999.000,9,   2157.8,2,   2302.7,2,-999.0000,  -999.00,9,    22003,   1.4646
  06MT20030723,   471,  1,      4,2,20030729, 57.5990, -52.5920, 3542,   3254.1,   2.3218,  34.8925,2,-999.0000,9,    287.5,2,    12.15,2,    15.19,2,     0.00,2,     1.01,2, -999.000,9, -999.000,9,   2157.3,2,   2307.8,2,   7.7206,    25.00,2,    22004,   2.0599
  06MT20030723,   471,  1,      5,2,20030729, 57.5990, -52.5920, 3542,   3046.0,   2.6056,  34.9056,2,  34.9030,2,    283.7,2,    12.08,2,    15.57,2,     0.00,2,     1.05,2,    2.532,3,    1.282,2,   2157.5,2,   2306.9,2,   7.7216,    25.00,2,    22005,   2.3588
  06MT20030723,   471,  1,      6,2,20030729, 57.5990, -52.5920, 3542,   2841.4,   2.7977,  34.9014,2,-999.0000,9,    283.1,2,    11.28,2,    15.67,2,     0.00,2,     1.05,2,    2.640,3,    1.358,2,   2156.3,2,   2305.8,2,   7.7216,    25.00,2,    22006,   2.5677
  06MT20030723,   471,  1,      7,2,20030729, 57.5990, -52.5920, 3542,   2647.3,   2.9593,  34.9015,2,-999.0000,9,    282.9,2,    11.00,2,    15.84,2,     0.00,2,     1.07,2, -999.000,9, -999.000,9,   2157.5,2,   2306.0,2,   7.7206,    25.00,2,    22007,   2.7457
  06MT20030723,   471,  1,      8,2,20030729, 57.5990, -52.5920, 3542,   2432.2,   3.0716,  34.8944,2,-999.0000,9,    283.7,2,    10.79,2,    16.21,2,     0.00,2,     1.08,2,    2.823,3,    1.431,2,   2155.2,2,   2304.7,2,   7.7206,    25.00,2,    22008,   2.8772
  06MT20030723,   471,  1,      9,2,20030729, 57.5990, -52.5920, 3542,   2228.2,   3.1125,  34.8805,2,  34.8831,2,    286.5,2,    10.17,2,    16.24,2,     0.00,2,     1.10,2,    3.225,3,    1.616,2,   2157.3,2,   2303.7,2,-999.0000,  -999.00,9,    22009,   2.9371
  06MT20030723,   471,  1,     10,2,20030729, 57.5990, -52.5920, 3542,   2030.9,   3.1747,  34.8760,2,-999.0000,9,    287.4,2,    10.03,2,    16.48,2,     0.00,2,     1.09,2,    3.414,3,    1.719,2,   2156.3,2,   2302.6,2,-999.0000,  -999.00,9,    22010,   3.0169
  06MT20030723,   471,  1,     11,2,20030729, 57.5990, -52.5920, 3542,   1823.6,   3.3069,  34.8821,2,-999.0000,9,    284.2,2,    10.02,2,    16.60,2,     0.00,2,     1.09,2,    3.325,3,    1.685,2,   2156.4,2,   2303.1,2,   7.7138,    25.00,2,    22011,   3.1662
  06MT20030723,   471,  1,     12,2,20030729, 57.5990, -52.5920, 3542,   1616.7,   3.4396,  34.8832,2,-999.0000,9,    281.8,2,     9.86,2,    16.59,2,     0.00,2,     1.10,2,    3.407,3,    1.751,2,   2158.5,2,   2303.2,2,   7.7118,    25.00,2,    22012,   3.3157
  06MT20030723,   471,  1,     13,2,20030729, 57.5990, -52.5920, 3542,   1412.8,   3.3637,  34.8584,2,-999.0000,9,    292.1,2,     8.82,2,    16.05,2,     0.00,2,     1.08,2,    4.145,3,    2.184,2,   2157.7,2,   2303.3,2,   7.7128,    25.00,2,    22013,   3.2585
  06MT20030723,   471,  1,     14,2,20030729, 57.5990, -52.5920, 3542,   1229.8,   3.2429,  34.8341,2,-999.0000,9,    300.1,2,     8.20,2,    15.68,2,     0.01,2,     1.04,2,    4.590,3,    2.466,2,   2155.5,2,   2299.4,2,   7.7157,    25.00,2,    22014,   3.1542
  06MT20030723,   471,  1,     15,2,20030729, 57.5990, -52.5920, 3542,   1007.6,   3.2129,  34.8277,2,-999.0000,9,    301.6,2,     8.11,2,    15.60,2,     0.00,2,     1.04,2,    4.615,3,    2.510,2,   2154.6,2,   2298.6,2,-999.0000,  -999.00,9,    22015,   3.1422
  06MT20030723,   471,  1,     16,2,20030729, 57.5990, -52.5920, 3542,    814.4,   3.2391,  34.8342,2,  34.8845,0,    299.7,2,     8.17,2,    15.68,2,     0.01,2,     1.05,2,    4.592,3,    2.492,2,   2154.1,2,   2300.4,2,   7.7157,    25.00,2,    22016,   3.1830
  06MT20030723,   471,  1,     17,2,20030729, 57.5990, -52.5920, 3542,    572.3,   3.2478,  34.8281,2,-999.0000,9,    299.1,2,     8.13,2,    15.61,2,     0.00,2,     1.04,2,    4.592,3,    2.501,2,   2149.7,2,   2301.1,2,   7.7138,    25.00,2,    22017,   3.2094
  06MT20030723,   471,  1,     18,2,20030729, 57.5990, -52.5920, 3542,    403.1,   3.2703,  34.8221,2,-999.0000,9,    299.9,2,     8.14,2,    15.81,2,     0.01,2,     1.04,2,    4.577,3,    2.498,2,   2153.8,2,   2301.1,2,-999.0000,  -999.00,9,    22018,   3.2437
  06MT20030723,   471,  1,     19,2,20030729, 57.5990, -52.5920, 3542,    188.1,   3.4431,  34.8158,2,-999.0000,9,    300.2,2,     7.97,2,    15.69,2,     0.01,2,     1.03,2,    4.776,3,    2.610,2,   2154.9,2,   2297.8,2,   7.7148,    25.00,2,    22019,   3.4308
  06MT20030723,   471,  1,     20,2,20030729, 57.5990, -52.5920, 3542,     95.7,   4.1015,  34.8330,2,-999.0000,9,    290.2,2,     7.84,2,    15.71,2,     0.03,2,     1.03,2,    4.527,3,    2.538,2,   2154.3,2,   2299.6,2,   7.7157,    25.00,2,    22020,   4.0948
  06MT20030723,   471,  1,     21,2,20030729, 57.5990, -52.5920, 3542,     58.8,   4.3225,  34.7584,2,-999.0000,9,   -999.0,5,  -999.00,5,  -999.00,5,  -999.00,5,  -999.00,5, -999.000,9, -999.000,9,   -999.0,5,   -999.0,5,-999.0000,  -999.00,9,    22021,   4.3183
  06MT20030723,   471,  1,     22,2,20030729, 57.5990, -52.5920, 3542,     17.6,   9.5720,  34.6713,2,  34.7064,0,    330.5,2,     7.31,2,    15.56,2,     0.14,2,     0.98,2,    4.074,3,    2.293,2,   2054.5,2,   2304.3,2,-999.0000,  -999.00,9,    22022,   9.5700
  06MT20030723,   472,  1,      1,2,20030729, 57.2000, -51.9840, 3540,   3561.1,   1.5331,  34.8833,2,  34.8816,2,    298.1,2,  -999.00,5,  -999.00,5,  -999.00,5,  -999.00,5, -999.000,9, -999.000,9,   -999.0,5,   -999.0,5,-999.0000,  -999.00,9,    23001,   1.2586
  06MT20030723,   472,  1,      2,2,20030729, 57.2000, -51.9840, 3540,   3561.2,   1.5333,  34.8829,2,-999.0000,9,   -999.0,5,  -999.00,5,  -999.00,5,  -999.00,5,  -999.00,5, -999.000,9, -999.000,9,   -999.0,5,   -999.0,5,-999.0000,  -999.00,9,    23002,   1.2588
  06MT20030723,   472,  1,      3,2,20030729, 57.2000, -51.9840, 3540,   3520.9,   1.5999,  34.8788,2,-999.0000,9,   -999.0,5,  -999.00,5,  -999.00,5,  -999.00,5,  -999.00,5, -999.000,9, -999.000,9,   -999.0,5,   -999.0,5,-999.0000,  -999.00,9,    23003,   1.3279
  06MT20030723,   472,  1,      4,2,20030729, 57.2000, -51.9840, 3540,   3302.5,   2.1962,  34.8890,2,-999.0000,9,   -999.0,5,  -999.00,5,  -999.00,5,  -999.00,5,  -999.00,5, -999.000,9, -999.000,9,   -999.0,5,   -999.0,5,-999.0000,  -999.00,9,    23004,   1.9322
  06MT20030723,   472,  1,      5,2,20030729, 57.2000, -51.9840, 3540,   3148.6,   2.4931,  34.9005,2,-999.0000,9,   -999.0,5,  -999.00,5,  -999.00,5,  -999.00,5,  -999.00,5, -999.000,9, -999.000,9,   -999.0,5,   -999.0,5,-999.0000,  -999.00,9,    23005,   2.2382
  06MT20030723,   472,  1,      6,2,20030729, 57.2000, -51.9840, 3540,   2945.1,   2.7258,  34.9072,2,-999.0000,9,   -999.0,5,  -999.00,5,  -999.00,5,  -999.00,5,  -999.00,5,    2.420,3,    1.259,2,   -999.0,5,   -999.0,5,-999.0000,  -999.00,9,    23006,   2.4867
  06MT20030723,   472,  1,      7,2,20030729, 57.2000, -51.9840, 3540,   2739.2,   2.8867,  34.9034,2,-999.0000,9,    283.0,2,  -999.00,5,  -999.00,5,  -999.00,5,  -999.00,5, -999.000,9, -999.000,9,   -999.0,5,   -999.0,5,-999.0000,  -999.00,9,    23007,   2.6652
  06MT20030723,   472,  1,      8,2,20030729, 57.2000, -51.9840, 3540,   2534.4,   3.0183,  34.8995,2,  34.9000,2,   -999.0,5,  -999.00,5,  -999.00,5,  -999.00,5,  -999.00,5,    2.664,3,    1.374,2,   -999.0,5,   -999.0,5,-999.0000,  -999.00,9,    23008,   2.8148
  06MT20030723,   472,  1,      9,2,20030729, 57.2000, -51.9840, 3540,   2328.1,   3.0888,  34.8876,2,-999.0000,9,   -999.0,5,  -999.00,5,  -999.00,5,  -999.00,5,  -999.00,5, -999.000,9, -999.000,9,   -999.0,5,   -999.0,5,-999.0000,  -999.00,9,    23009,   2.9042
  06MT20030723,   472,  1,     10,2,20030729, 57.2000, -51.9840, 3540,   2122.1,   3.1350,  34.8759,2,-999.0000,9,   -999.0,5,  -999.00,5,  -999.00,5,  -999.00,5,  -999.00,5,    3.356,3,    1.710,2,   -999.0,5,   -999.0,5,-999.0000,  -999.00,9,    23010,   2.9693
  06MT20030723,   472,  1,     11,2,20030729, 57.2000, -51.9840, 3540,   1974.1,   3.2132,  34.8776,2,-999.0000,9,   -999.0,5,  -999.00,5,  -999.00,5,  -999.00,5,  -999.00,5, -999.000,9, -999.000,9,   -999.0,5,   -999.0,5,-999.0000,  -999.00,9,    23011,   3.0600
  06MT20030723,   472,  1,     12,2,20030729, 57.2000, -51.9840, 3540,   1825.6,   3.3035,  34.8804,2,-999.0000,9,    284.2,2,  -999.00,5,  -999.00,5,  -999.00,5,  -999.00,5,    3.384,3,    1.739,2,   -999.0,5,   -999.0,5,-999.0000,  -999.00,9,    23012,   3.1626
  06MT20030723,   472,  1,     13,2,20030729, 57.2000, -51.9840, 3540,   1593.0,   3.4423,  34.8820,2,-999.0000,9,   -999.0,5,  -999.00,5,  -999.00,5,  -999.00,5,  -999.00,5,    3.635,3,    1.876,2,   -999.0,5,   -999.0,5,-999.0000,  -999.00,9,    23013,   3.3205
  06MT20030723,   472,  1,     14,2,20030729, 57.2000, -51.9840, 3540,   1355.4,   3.2836,  34.8415,2,  34.8438,2,   -999.0,5,  -999.00,5,  -999.00,5,  -999.00,5,  -999.00,5,    4.406,3,    2.366,2,   -999.0,5,   -999.0,5,-999.0000,  -999.00,9,    23014,   3.1841
  06MT20030723,   472,  1,     15,2,20030729, 57.2000, -51.9840, 3540,   1134.3,   3.2315,  34.8304,2,-999.0000,9,   -999.0,5,  -999.00,5,  -999.00,5,  -999.00,5,  -999.00,5,    4.741,3,    2.553,2,   -999.0,5,   -999.0,5,-999.0000,  -999.00,9,    23015,   3.1506
  06MT20030723,   472,  1,     16,2,20030729, 57.2000, -51.9840, 3540,    900.3,   3.2278,  34.8291,2,-999.0000,9,   -999.0,5,  -999.00,5,  -999.00,5,  -999.00,5,  -999.00,5,    4.617,3,    2.516,2,   -999.0,5,   -999.0,5,-999.0000,  -999.00,9,    23016,   3.1653
  06MT20030723,   472,  1,     17,2,20030729, 57.2000, -51.9840, 3540,    733.1,   3.2278,  34.8268,2,-999.0000,9,   -999.0,5,  -999.00,5,  -999.00,5,  -999.00,5,  -999.00,5,    4.636,3,    2.520,2,   -999.0,5,   -999.0,5,-999.0000,  -999.00,9,    23017,   3.1778
  06MT20030723,   472,  1,     18,2,20030729, 57.2000, -51.9840, 3540,    524.9,   3.2709,  34.8248,2,-999.0000,9,    301.0,2,  -999.00,5,  -999.00,5,  -999.00,5,  -999.00,5,    4.693,3,    2.563,2,   -999.0,5,   -999.0,5,-999.0000,  -999.00,9,    23018,   3.2358
  06MT20030723,   472,  1,     19,2,20030729, 57.2000, -51.9840, 3540,    405.0,   3.5004,  34.8447,2,-999.0000,9,   -999.0,5,  -999.00,5,  -999.00,5,  -999.00,5,  -999.00,5,    4.643,3,    2.543,2,   -999.0,5,   -999.0,5,-999.0000,  -999.00,9,    23019,   3.4730
  06MT20030723,   472,  1,     20,2,20030729, 57.2000, -51.9840, 3540,    261.3,   3.7995,  34.8580,2,  34.8619,2,   -999.0,5,  -999.00,5,  -999.00,5,  -999.00,5,  -999.00,5,    4.570,3,    2.525,2,   -999.0,5,   -999.0,5,-999.0000,  -999.00,9,    23020,   3.7815
  06MT20030723,   472,  1,     21,2,20030729, 57.2000, -51.9840, 3540,    108.8,   4.4688,  34.8867,2,-999.0000,9,   -999.0,5,  -999.00,5,  -999.00,5,  -999.00,5,  -999.00,5,    4.438,3,    2.469,2,   -999.0,5,   -999.0,5,-999.0000,  -999.00,9,    23021,   4.4608
  06MT20030723,   472,  1,     22,2,20030729, 57.2000, -51.9840, 3540,      3.3,  10.5585,  34.7558,2,-999.0000,9,    307.1,2,  -999.00,5,  -999.00,5,  -999.00,5,  -999.00,5,    4.019,3,    2.291,2,   -999.0,5,   -999.0,5,-999.0000,  -999.00,9,    23022,  10.5581