BOTTLE,20090513PRINUNIVRMK
EXPOCODE,STNNBR,CASTNO,BTLNBR,BTLNBR_FLAG_W,DATE,LATITUDE,LONGITUDE,DEPTH,CTDPRS,CTDTMP,CTDSAL,CTDSAL_FLAG_W,SALNTY,SALNTY_FLAG_W,OXYGEN,OXYGEN_FLAG_W,SILCAT,SILCAT_FLAG_W,NITRAT,NITRAT_FLAG_W,NITRIT,NITRIT_FLAG_W,PHSPHT,PHSPHT_FLAG_W,CFC-11,CFC-11_FLAG_W,CFC-12,CFC-12_FLAG_W,TCARBN,TCARBN_FLAG_W,ALKALI,ALKALI_FLAG_W,PH_SWS,PH_TEMP,PH_SWS_FLAG_W,ID,THETA
,,,,,,,,METERS,DBARS,ITS-90,PSS-78,,PSS-78,,UMOL/KG,,UMOL/KG,,UMOL/KG,,UMOL/KG,,UMOL/KG,,PMOL/KG,,PMOL/KG,,UMOL/KG,,UMOL/KG,,,DEGC,,,DEGC
  06MT20030723,   517,  1,      1,2,20030809, 53.1160, -30.2980, 3145,   2963.5,   2.8039,  34.9603,2,-999.0000,9,    269.6,2,    17.85,2,    16.83,2,     0.00,2,     1.11,2, -999.000,9, -999.000,9,   -999.0,5,   -999.0,5,-999.0000,  -999.00,9,    71001,   2.5610
  06MT20030723,   517,  1,      2,2,20030809, 53.1160, -30.2980, 3145,   3127.0,   2.7638,  34.9549,2,-999.0000,9,   -999.0,5,  -999.00,5,  -999.00,5,  -999.00,5,  -999.00,5,    1.803,3,    0.918,2,   -999.0,5,   -999.0,5,-999.0000,  -999.00,9,    71002,   2.5047
  06MT20030723,   517,  1,      3,2,20030809, 53.1160, -30.2980, 3145,   3024.6,   2.7922,  34.9594,2,-999.0000,9,   -999.0,5,  -999.00,5,  -999.00,5,  -999.00,5,  -999.00,5,    2.009,3,    1.015,2,   -999.0,5,   -999.0,5,-999.0000,  -999.00,9,    71003,   2.5432
  06MT20030723,   517,  1,      4,2,20030809, 53.1160, -30.2980, 3145,   2841.4,   2.8145,  34.9598,2,-999.0000,9,    270.0,2,    17.14,2,    16.51,2,     0.00,2,     1.10,2,    2.060,3,    1.039,2,   -999.0,5,   -999.0,5,-999.0000,  -999.00,9,    71004,   2.5839
  06MT20030723,   517,  1,      5,2,20030809, 53.1160, -30.2980, 3145,   2631.5,   2.8598,  34.9566,2,-999.0000,9,    272.2,2,    15.36,2,    16.55,2,     0.00,2,     1.09,2,    2.104,3,    1.060,2,   -999.0,5,   -999.0,5,-999.0000,  -999.00,9,    71005,   2.6494
  06MT20030723,   517,  1,      6,2,20030809, 53.1160, -30.2980, 3145,   2431.8,   2.9379,  34.9512,2,-999.0000,9,   -999.0,5,  -999.00,5,  -999.00,5,  -999.00,5,  -999.00,5,    2.111,3,    1.057,2,   -999.0,5,   -999.0,5,-999.0000,  -999.00,9,    71006,   2.7457
  06MT20030723,   517,  1,      7,2,20030809, 53.1160, -30.2980, 3145,   2226.9,   3.0125,  34.9389,2,-999.0000,9,    276.6,2,    12.48,2,    16.35,2,     0.00,2,     1.07,2,    2.252,3,    1.117,2,   -999.0,5,   -999.0,5,-999.0000,  -999.00,9,    71007,   2.8386
  06MT20030723,   517,  1,      8,2,20030809, 53.1160, -30.2980, 3145,   2128.4,   3.0298,  34.9295,2,-999.0000,9,    277.3,2,    12.16,2,    16.32,2,     0.00,2,     1.07,2,    2.245,3,    1.111,2,   -999.0,5,   -999.0,5,-999.0000,  -999.00,9,    71008,   2.8649
  06MT20030723,   517,  1,      9,2,20030809, 53.1160, -30.2980, 3145,   2022.6,   3.0684,  34.9246,2,-999.0000,9,   -999.0,5,  -999.00,5,  -999.00,5,  -999.00,5,  -999.00,5,    2.326,3,    1.157,2,   -999.0,5,   -999.0,5,-999.0000,  -999.00,9,    71009,   2.9128
  06MT20030723,   517,  1,     10,2,20030809, 53.1160, -30.2980, 3145,   1826.9,   3.1310,  34.9113,2,-999.0000,9,    275.7,2,     9.84,2,    17.15,2,     0.00,2,     1.10,2, -999.000,9, -999.000,9,   -999.0,5,   -999.0,5,-999.0000,  -999.00,9,    71010,   2.9923
  06MT20030723,   517,  1,     11,2,20030809, 53.1160, -30.2980, 3145,   1615.8,   3.2010,  34.8967,2,-999.0000,9,   -999.0,5,  -999.00,5,  -999.00,5,  -999.00,5,  -999.00,5,    2.979,3,    1.472,2,   -999.0,5,   -999.0,5,-999.0000,  -999.00,9,    71011,   3.0801
  06MT20030723,   517,  1,     12,2,20030809, 53.1160, -30.2980, 3145,   1413.8,   3.2779,  34.8880,2,-999.0000,9,    282.3,2,     9.95,2,    16.99,2,     0.00,2,     1.10,2,    3.122,3,    1.545,2,   -999.0,5,   -999.0,5,-999.0000,  -999.00,9,    71012,   3.1734
  06MT20030723,   517,  1,     13,2,20030809, 53.1160, -30.2980, 3145,   1212.0,   3.4461,  34.8964,2,-999.0000,9,   -999.0,5,  -999.00,5,  -999.00,5,  -999.00,5,  -999.00,5,    3.181,3,    1.583,2,   -999.0,5,   -999.0,5,-999.0000,  -999.00,9,    71013,   3.3568
  06MT20030723,   517,  1,     14,2,20030809, 53.1160, -30.2980, 3145,   1110.5,   3.5805,  34.9026,2,-999.0000,9,    275.7,2,     9.91,2,    17.20,2,     0.00,2,     1.10,2,    3.164,3,    1.574,2,   -999.0,5,   -999.0,5,-999.0000,  -999.00,9,    71014,   3.4984
  06MT20030723,   517,  1,     15,2,20030809, 53.1160, -30.2980, 3145,    980.0,   3.7080,  34.9040,2,-999.0000,9,   -999.0,5,  -999.00,5,  -999.00,5,  -999.00,5,  -999.00,5,    3.326,3,    1.681,2,   -999.0,5,   -999.0,5,-999.0000,  -999.00,9,    71015,   3.6355
  06MT20030723,   517,  1,     16,2,20030809, 53.1160, -30.2980, 3145,    815.2,   3.9036,  34.9062,2,-999.0000,9,    271.3,2,     9.44,2,    17.30,2,     0.00,2,     1.10,2,    3.425,3,    1.805,2,   -999.0,5,   -999.0,5,-999.0000,  -999.00,9,    71016,   3.8431
  06MT20030723,   517,  1,     17,2,20030809, 53.1160, -30.2980, 3145,    731.0,   4.0460,  34.9102,2,-999.0000,9,   -999.0,5,  -999.00,5,  -999.00,5,  -999.00,5,  -999.00,5,    3.516,3,    1.803,2,   -999.0,5,   -999.0,5,-999.0000,  -999.00,9,    71017,   3.9914
  06MT20030723,   517,  1,     18,2,20030809, 53.1160, -30.2980, 3145,    655.3,   4.2277,  34.9185,2,-999.0000,9,    262.7,2,     9.34,2,    17.62,2,     0.00,2,     1.11,2,    3.474,3,    1.783,2,   -999.0,5,   -999.0,5,-999.0000,  -999.00,9,    71018,   4.1782
  06MT20030723,   517,  1,     19,2,20030809, 53.1160, -30.2980, 3145,    513.3,   4.5977,  34.9198,2,-999.0000,9,   -999.0,5,  -999.00,5,  -999.00,5,  -999.00,5,  -999.00,5,    3.363,3,    1.777,2,   -999.0,5,   -999.0,5,-999.0000,  -999.00,9,    71019,   4.5580
  06MT20030723,   517,  1,     20,2,20030809, 53.1160, -30.2980, 3145,    297.4,   5.5927,  34.8881,2,  34.8949,2,    240.8,2,     8.49,2,    17.74,2,     0.01,2,     1.12,2,    3.360,3,    1.808,2,   -999.0,5,   -999.0,5,-999.0000,  -999.00,9,    71020,   5.5679
  06MT20030723,   517,  1,     21,2,20030809, 53.1160, -30.2980, 3145,    101.6,   6.9169,  34.8618,2,-999.0000,9,   -999.0,5,  -999.00,5,  -999.00,5,  -999.00,5,  -999.00,5,    4.167,3,    2.296,2,   -999.0,5,   -999.0,5,-999.0000,  -999.00,9,    71021,   6.9075
  06MT20030723,   517,  1,     22,2,20030809, 53.1160, -30.2980, 3145,     12.4,  12.1647,  34.7816,2,-999.0000,9,    277.8,2,     0.69,2,     3.43,2,     0.11,2,     0.26,2,    3.408,3,    1.948,2,   -999.0,5,   -999.0,5,-999.0000,  -999.00,9,    71022,  12.1631
  06MT20030723,   518,  1,      1,2,20030809, 53.8750, -30.2880, 3094,   3103.8,   2.8060,  34.9594,2,-999.0000,9,    268.7,2,    19.18,2,    16.92,2,     0.01,2,     1.12,2, -999.000,9, -999.000,9,   2170.5,2,   2314.6,2,   7.7206,    25.00,2,    72001,   2.5484
  06MT20030723,   518,  1,      2,2,20030809, 53.8750, -30.2880, 3094,   3104.5,   2.8060,  34.9595,2,-999.0000,9,    269.2,2,    19.19,2,    16.91,2,     0.01,2,     1.12,2,    2.038,3,    1.045,2,   -999.0,5,   -999.0,5,-999.0000,  -999.00,9,    72002,   2.5484
  06MT20030723,   518,  1,      3,2,20030809, 53.8750, -30.2880, 3094,   3044.8,   2.8006,  34.9593,2,-999.0000,9,    270.1,2,    18.95,2,    16.65,2,     0.00,2,     1.11,2,    2.027,3,    1.033,2,   2170.5,2,   2312.9,2,   7.7206,    25.00,2,    72003,   2.5493
  06MT20030723,   518,  1,      4,2,20030809, 53.8750, -30.2880, 3094,   2942.9,   2.8116,  34.9586,2,  34.9590,2,    270.0,2,    18.17,2,    16.83,2,     0.00,2,     1.10,2,    2.026,3,    1.029,2,   2168.6,2,   2313.4,2,   7.7216,    25.00,2,    72004,   2.5707
  06MT20030723,   518,  1,      5,2,20030809, 53.8750, -30.2880, 3094,   2745.1,   2.8821,  34.9603,2,-999.0000,9,    272.4,2,    15.67,2,    16.48,2,     0.00,2,     1.08,2,    2.109,3,    1.066,2,   2165.0,2,   2310.9,2,   7.7236,    25.00,2,    72005,   2.6599
  06MT20030723,   518,  1,      6,2,20030809, 53.8750, -30.2880, 3094,   2533.5,   2.9639,  34.9545,2,-999.0000,9,    274.4,2,    13.78,2,    16.29,2,     0.00,2,     1.06,2,    2.176,3,    1.096,2,   2161.6,2,   2307.2,2,   7.7246,    25.00,2,    72006,   2.7612
  06MT20030723,   518,  1,      7,2,20030809, 53.8750, -30.2880, 3094,   2227.4,   3.0644,  34.9354,2,-999.0000,9,    277.0,2,    12.22,2,    16.31,2,     0.01,2,     1.07,2,    2.273,3,    1.140,2,   2158.2,2,   2303.4,2,   7.7266,    25.00,2,    72007,   2.8897
  06MT20030723,   518,  1,      8,2,20030809, 53.8750, -30.2880, 3094,   1940.5,   3.1227,  34.9121,2,  34.9149,2,    279.5,2,    11.50,2,    16.53,2,     0.00,2,     1.08,2,    2.502,3,    1.251,2,   2155.0,2,   2301.1,2,   7.7256,    25.00,2,    72008,   2.9738
  06MT20030723,   518,  1,      9,2,20030809, 53.8750, -30.2880, 3094,   1748.3,   3.1508,  34.8996,2,-999.0000,9,    282.4,2,    10.83,2,    16.57,2,     0.00,2,     1.08,2,    2.836,3,    1.401,2,   2154.7,2,   2298.8,2,   7.7256,    25.00,2,    72009,   3.0189
  06MT20030723,   518,  1,     10,2,20030809, 53.8750, -30.2880, 3094,   1546.3,   3.2086,  34.8890,2,-999.0000,9,    272.2,4,     9.68,4,    17.12,4,     0.00,4,     1.10,4, -999.000,9, -999.000,9,   2160.7,4,   2296.4,4,   7.7118,    25.00,2,    72010,   3.0936
  06MT20030723,   518,  1,     11,2,20030809, 53.8750, -30.2880, 3094,   1339.0,   3.3754,  34.8943,2,  34.8194,2,    281.1,2,    10.34,2,    16.91,2,     0.00,2,     1.08,2,    3.131,3,    1.539,2,   2155.8,2,   2297.9,2,   7.7197,    25.00,2,    72011,   3.2764
  06MT20030723,   518,  1,     12,2,20030809, 53.8750, -30.2880, 3094,   1126.6,   3.5556,  34.8991,2,-999.0000,9,    276.5,2,    10.18,2,    17.01,2,     0.00,2,     1.09,2,    3.230,3,    1.605,2,   2157.4,2,   2300.0,2,   7.7167,    25.00,2,    72012,   3.4724
  06MT20030723,   518,  1,     13,2,20030809, 53.8750, -30.2880, 3094,    881.6,   3.7669,  34.8974,2,-999.0000,9,    272.2,2,     9.93,2,    17.23,2,     0.00,2,     1.10,2,    3.397,3,    1.715,2,   2160.7,2,   2300.1,2,   7.7128,    25.00,2,    72013,   3.7020
  06MT20030723,   518,  1,     14,2,20030809, 53.8750, -30.2880, 3094,    787.0,   3.9007,  34.9012,2,-999.0000,9,    272.5,2,     9.55,2,    16.89,2,     0.00,2,     1.09,2,    3.635,3,    1.855,2,   2160.5,2,   2300.5,2,   7.7118,    25.00,2,    72014,   3.8425
  06MT20030723,   518,  1,     15,2,20030809, 53.8750, -30.2880, 3094,    702.0,   4.0541,  34.9078,2,-999.0000,9,    266.8,2,     9.73,2,    17.49,2,     0.00,2,     1.12,2,    3.552,3,    1.821,2,   2162.9,2,   2298.2,2,   7.7088,    25.00,2,    72015,   4.0018
  06MT20030723,   518,  1,     16,2,20030809, 53.8750, -30.2880, 3094,    556.6,   4.4750,  34.9260,2,-999.0000,9,    254.2,2,    10.02,2,    17.90,2,     0.00,2,     1.16,2,    3.478,3,    1.799,2,   2165.4,2,   2299.9,2,   7.7029,    25.00,2,    72016,   4.4323
  06MT20030723,   518,  1,     17,2,20030809, 53.8750, -30.2880, 3094,    394.4,   5.1980,  34.9216,2,-999.0000,9,    239.6,2,    10.04,2,    18.28,2,     0.00,2,     1.18,2,    3.195,3,    1.667,2,   2169.0,2,   2298.8,2,   7.6960,    25.00,2,    72017,   5.1660
  06MT20030723,   518,  1,     18,2,20030809, 53.8750, -30.2880, 3094,    305.3,   5.9823,  34.9255,2,-999.0000,9,    231.4,2,     7.66,2,    15.49,3,     0.01,2,     1.03,2,    3.170,3,    1.694,2,   2168.5,2,   2302.8,2,   7.7019,    25.00,2,    72018,   5.9559
  06MT20030723,   518,  1,     19,2,20030809, 53.8750, -30.2880, 3094,    202.9,   6.5857,  34.8751,2,-999.0000,9,    257.3,2,     9.16,2,    18.16,2,     0.00,2,     1.18,2,    3.711,3,    2.012,2,   2149.1,2,   2299.4,2,   7.7394,    25.00,2,    72019,   6.5674
  06MT20030723,   518,  1,     20,2,20030809, 53.8750, -30.2880, 3094,     96.9,   6.9743,  34.8573,2,-999.0000,9,    275.9,2,     5.96,2,    13.68,2,     0.01,2,     0.88,2,    4.089,3,    2.264,2,   2137.7,2,   2299.2,2,   7.7650,    25.00,2,    72020,   6.9653
  06MT20030723,   518,  1,     21,2,20030809, 53.8750, -30.2880, 3094,     68.8,   7.1752,  34.8585,2,-999.0000,9,    276.1,2,     5.74,2,    13.34,2,     0.02,2,     0.86,2,    4.120,3,    2.260,2,   2136.6,2,   2298.2,2,   7.7729,    25.00,2,    72021,   7.1687
  06MT20030723,   518,  1,     22,2,20030809, 53.8750, -30.2880, 3094,     14.0,  12.0208,  34.8178,2,  34.8915,2,    275.6,2,     0.68,2,     3.46,2,     0.13,2,     0.27,2,    3.857,3,    2.167,2,   2066.2,2,   2295.2,2,   7.9174,    25.00,2,    72022,  12.0190
  06MT20030723,   519,  1,      1,2,20030810, 54.6340, -30.2730, 3012,   3006.2,   2.7920,  34.9694,2,-999.0000,9,    272.4,2,  -999.00,5,  -999.00,5,  -999.00,5,  -999.00,5, -999.000,9, -999.000,9,   -999.0,5,   -999.0,5,-999.0000,  -999.00,9,    73001,   2.5449
  06MT20030723,   519,  1,      2,2,20030810, 54.6340, -30.2730, 3012,   3004.2,   2.7919,  34.9693,2,-999.0000,9,   -999.0,5,  -999.00,5,  -999.00,5,  -999.00,5,  -999.00,5,    2.460,3,    1.249,2,   -999.0,5,   -999.0,5,-999.0000,  -999.00,9,    73002,   2.5450
  06MT20030723,   519,  1,      3,2,20030810, 54.6340, -30.2730, 3012,   2929.7,   2.7769,  34.9651,2,-999.0000,9,   -999.0,5,  -999.00,5,  -999.00,5,  -999.00,5,  -999.00,5,    2.314,3,    1.175,2,   -999.0,5,   -999.0,5,-999.0000,  -999.00,9,    73003,   2.5380
  06MT20030723,   519,  1,      4,2,20030810, 54.6340, -30.2730, 3012,   2636.6,   2.8426,  34.9660,2,-999.0000,9,   -999.0,5,  -999.00,5,  -999.00,5,  -999.00,5,  -999.00,5,    2.263,3,    1.143,2,   -999.0,5,   -999.0,5,-999.0000,  -999.00,9,    73004,   2.6320
  06MT20030723,   519,  1,      5,2,20030810, 54.6340, -30.2730, 3012,   2328.8,   3.0663,  34.9638,2,  34.9671,2,   -999.0,5,  -999.00,5,  -999.00,5,  -999.00,5,  -999.00,5,    2.418,3,    1.214,2,   -999.0,5,   -999.0,5,-999.0000,  -999.00,9,    73005,   2.8817
  06MT20030723,   519,  1,      6,2,20030810, 54.6340, -30.2730, 3012,   2023.1,   3.2062,  34.9363,2,-999.0000,9,    278.1,2,  -999.00,5,  -999.00,5,  -999.00,5,  -999.00,5,    2.468,3,    1.235,2,   -999.0,5,   -999.0,5,-999.0000,  -999.00,9,    73006,   3.0484
  06MT20030723,   519,  1,      7,2,20030810, 54.6340, -30.2730, 3012,   1822.4,   3.2094,  34.9065,2,-999.0000,9,   -999.0,5,  -999.00,5,  -999.00,5,  -999.00,5,  -999.00,5,    2.850,3,    1.405,2,   -999.0,5,   -999.0,5,-999.0000,  -999.00,9,    73007,   3.0700
  06MT20030723,   519,  1,      8,2,20030810, 54.6340, -30.2730, 3012,   1617.2,   3.2748,  34.8962,2,  34.8961,2,   -999.0,5,  -999.00,5,  -999.00,5,  -999.00,5,  -999.00,5,    3.065,3,    1.509,2,   -999.0,5,   -999.0,5,-999.0000,  -999.00,9,    73008,   3.1528
  06MT20030723,   519,  1,      9,2,20030810, 54.6340, -30.2730, 3012,   1413.9,   3.3933,  34.8955,2,-999.0000,9,   -999.0,5,  -999.00,5,  -999.00,5,  -999.00,5,  -999.00,5,    3.086,3,    1.521,2,   -999.0,5,   -999.0,5,-999.0000,  -999.00,9,    73009,   3.2876
  06MT20030723,   519,  1,     10,2,20030810, 54.6340, -30.2730, 3012,   1209.7,   3.5645,  34.9015,2,-999.0000,9,    275.4,2,  -999.00,5,  -999.00,5,  -999.00,5,  -999.00,5,    3.138,3,    1.563,2,   -999.0,5,   -999.0,5,-999.0000,  -999.00,9,    73010,   3.4743
  06MT20030723,   519,  1,     11,2,20030810, 54.6340, -30.2730, 3012,   1058.5,   3.7183,  34.9069,2,-999.0000,9,   -999.0,5,  -999.00,5,  -999.00,5,  -999.00,5,  -999.00,5,    3.238,3,    1.644,2,   -999.0,5,   -999.0,5,-999.0000,  -999.00,9,    73011,   3.6393
  06MT20030723,   519,  1,     12,2,20030810, 54.6340, -30.2730, 3012,    955.8,   3.7930,  34.9059,2,-999.0000,9,   -999.0,5,  -999.00,5,  -999.00,5,  -999.00,5,  -999.00,5,    3.369,3,    1.707,2,   -999.0,5,   -999.0,5,-999.0000,  -999.00,9,    73012,   3.7219
  06MT20030723,   519,  1,     13,2,20030810, 54.6340, -30.2730, 3012,    877.6,   3.8195,  34.8992,2,-999.0000,9,   -999.0,5,  -999.00,5,  -999.00,5,  -999.00,5,  -999.00,5,    3.518,3,    1.806,2,   -999.0,5,   -999.0,5,-999.0000,  -999.00,9,    73013,   3.7545
  06MT20030723,   519,  1,     14,2,20030810, 54.6340, -30.2730, 3012,    819.7,   3.9212,  34.9020,2,-999.0000,9,   -999.0,5,  -999.00,5,  -999.00,5,  -999.00,5,  -999.00,5,    3.590,3,    1.849,2,   -999.0,5,   -999.0,5,-999.0000,  -999.00,9,    73014,   3.8602
  06MT20030723,   519,  1,     15,2,20030810, 54.6340, -30.2730, 3012,    744.6,   4.0804,  34.9135,2,-999.0000,9,    266.0,2,  -999.00,5,  -999.00,5,  -999.00,5,  -999.00,5,    3.455,3,    1.771,2,   -999.0,5,   -999.0,5,-999.0000,  -999.00,9,    73015,   4.0245
  06MT20030723,   519,  1,     16,2,20030810, 54.6340, -30.2730, 3012,    668.7,   4.2561,  34.9210,2,-999.0000,9,   -999.0,5,  -999.00,5,  -999.00,5,  -999.00,5,  -999.00,5,    3.419,3,    1.751,2,   -999.0,5,   -999.0,5,-999.0000,  -999.00,9,    73016,   4.2054
  06MT20030723,   519,  1,     17,2,20030810, 54.6340, -30.2730, 3012,    592.3,   4.4997,  34.9337,2,  34.9315,2,   -999.0,5,  -999.00,5,  -999.00,5,  -999.00,5,  -999.00,5,    3.334,3,    1.707,2,   -999.0,5,   -999.0,5,-999.0000,  -999.00,9,    73017,   4.4540
  06MT20030723,   519,  1,     18,2,20030810, 54.6340, -30.2730, 3012,    517.2,   4.7876,  34.9466,2,-999.0000,9,   -999.0,5,  -999.00,5,  -999.00,5,  -999.00,5,  -999.00,5,    3.121,3,    1.632,2,   -999.0,5,   -999.0,5,-999.0000,  -999.00,9,    73018,   4.7468
  06MT20030723,   519,  1,     19,2,20030810, 54.6340, -30.2730, 3012,    415.7,   5.2223,  34.9436,2,-999.0000,9,   -999.0,5,  -999.00,5,  -999.00,5,  -999.00,5,  -999.00,5,    3.019,3,    1.592,2,   -999.0,5,   -999.0,5,-999.0000,  -999.00,9,    73019,   5.1884
  06MT20030723,   519,  1,     20,2,20030810, 54.6340, -30.2730, 3012,    210.6,   6.3841,  34.8988,2,-999.0000,9,   -999.0,5,  -999.00,5,  -999.00,5,  -999.00,5,  -999.00,5,    3.331,3,    1.824,2,   -999.0,5,   -999.0,5,-999.0000,  -999.00,9,    73020,   6.3654
  06MT20030723,   519,  1,     21,2,20030810, 54.6340, -30.2730, 3012,    106.8,   7.0224,  34.8842,2,-999.0000,9,   -999.0,5,  -999.00,5,  -999.00,5,  -999.00,5,  -999.00,5,    3.921,3,    2.167,2,   -999.0,5,   -999.0,5,-999.0000,  -999.00,9,    73021,   7.0125
  06MT20030723,   519,  1,     22,2,20030810, 54.6340, -30.2730, 3012,     14.8,  12.0402,  34.8495,2,-999.0000,9,    274.7,2,  -999.00,5,  -999.00,5,  -999.00,5,  -999.00,5,    3.398,3,    1.965,2,   -999.0,5,   -999.0,5,-999.0000,  -999.00,9,    73022,  12.0383