BOTTLE,20090513PRINUNIVRMK
EXPOCODE,STNNBR,CASTNO,BTLNBR,BTLNBR_FLAG_W,DATE,LATITUDE,LONGITUDE,DEPTH,CTDPRS,CTDTMP,CTDSAL,CTDSAL_FLAG_W,SALNTY,SALNTY_FLAG_W,OXYGEN,OXYGEN_FLAG_W,SILCAT,SILCAT_FLAG_W,NITRAT,NITRAT_FLAG_W,NITRIT,NITRIT_FLAG_W,PHSPHT,PHSPHT_FLAG_W,CFC-11,CFC-11_FLAG_W,CFC-12,CFC-12_FLAG_W,TCARBN,TCARBN_FLAG_W,ALKALI,ALKALI_FLAG_W,PH_SWS,PH_TEMP,PH_SWS_FLAG_W,ID,THETA
,,,,,,,,METERS,DBARS,ITS-90,PSS-78,,PSS-78,,UMOL/KG,,UMOL/KG,,UMOL/KG,,UMOL/KG,,UMOL/KG,,PMOL/KG,,PMOL/KG,,UMOL/KG,,UMOL/KG,,,DEGC,,,DEGC
  06MT20030723,   510,  1,      1,2,20030808, 49.7910, -26.6750, 3544,   3570.5,   2.7202,  34.9309,2,-999.0000,9,    254.0,2,  -999.00,5,  -999.00,5,  -999.00,5,  -999.00,5, -999.000,9, -999.000,9,   -999.0,5,   -999.0,5,-999.0000,  -999.00,9,    65001,   2.4144
  06MT20030723,   510,  1,      2,2,20030808, 49.7910, -26.6750, 3544,   3570.4,   2.7186,  34.9319,2,-999.0000,9,   -999.0,5,  -999.00,5,  -999.00,5,  -999.00,5,  -999.00,5,    0.805,3,    0.413,2,   -999.0,5,   -999.0,5,-999.0000,  -999.00,9,    65002,   2.4128
  06MT20030723,   510,  1,      3,2,20030808, 49.7910, -26.6750, 3544,   3453.6,   2.7138,  34.9318,2,-999.0000,9,   -999.0,5,  -999.00,5,  -999.00,5,  -999.00,5,  -999.00,5,    0.841,3,    0.436,2,   -999.0,5,   -999.0,5,-999.0000,  -999.00,9,    65003,   2.4210
  06MT20030723,   510,  1,      4,2,20030808, 49.7910, -26.6750, 3544,   3246.9,   2.7673,  34.9375,2,  34.9340,2,   -999.0,5,  -999.00,5,  -999.00,5,  -999.00,5,  -999.00,5,    1.167,3,    0.596,2,   -999.0,5,   -999.0,5,-999.0000,  -999.00,9,    65004,   2.4956
  06MT20030723,   510,  1,      5,2,20030808, 49.7910, -26.6750, 3544,   2944.1,   2.8642,  34.9410,2,-999.0000,9,   -999.0,5,  -999.00,5,  -999.00,5,  -999.00,5,  -999.00,5,    1.530,3,    0.779,2,   -999.0,5,   -999.0,5,-999.0000,  -999.00,9,    65005,   2.6221
  06MT20030723,   510,  1,      6,2,20030808, 49.7910, -26.6750, 3544,   2634.5,   3.0019,  34.9357,2,  34.9350,2,   -999.0,5,  -999.00,5,  -999.00,5,  -999.00,5,  -999.00,5,    1.720,3,    0.867,2,   -999.0,5,   -999.0,5,-999.0000,  -999.00,9,    65006,   2.7886
  06MT20030723,   510,  1,      7,2,20030808, 49.7910, -26.6750, 3544,   2326.3,   3.1344,  34.9167,2,-999.0000,9,   -999.0,5,  -999.00,5,  -999.00,5,  -999.00,5,  -999.00,5,    2.112,3,    1.054,2,   -999.0,5,   -999.0,5,-999.0000,  -999.00,9,    65007,   2.9491
  06MT20030723,   510,  1,      8,2,20030808, 49.7910, -26.6750, 3544,   2023.2,   3.2034,  34.8925,2,-999.0000,9,    282.6,2,  -999.00,5,  -999.00,5,  -999.00,5,  -999.00,5,    2.641,3,    1.322,2,   -999.0,5,   -999.0,5,-999.0000,  -999.00,9,    65008,   3.0458
  06MT20030723,   510,  1,      9,2,20030808, 49.7910, -26.6750, 3544,   1822.3,   3.2739,  34.8892,2,-999.0000,9,   -999.0,5,  -999.00,5,  -999.00,5,  -999.00,5,  -999.00,5,    2.766,3,    1.386,2,   -999.0,5,   -999.0,5,-999.0000,  -999.00,9,    65009,   3.1337
  06MT20030723,   510,  1,     10,2,20030808, 49.7910, -26.6750, 3544,   1616.4,   3.4048,  34.8946,2,-999.0000,9,   -999.0,5,  -999.00,5,  -999.00,5,  -999.00,5,  -999.00,5, -999.000,9, -999.000,9,   -999.0,5,   -999.0,5,-999.0000,  -999.00,9,    65010,   3.2813
  06MT20030723,   510,  1,     11,2,20030808, 49.7910, -26.6750, 3544,   1441.8,   3.5658,  34.9031,2,  34.9008,2,   -999.0,5,  -999.00,5,  -999.00,5,  -999.00,5,  -999.00,5,    2.865,3,    1.458,2,   -999.0,5,   -999.0,5,-999.0000,  -999.00,9,    65011,   3.4558
  06MT20030723,   510,  1,     12,2,20030808, 49.7910, -26.6750, 3544,   1339.7,   3.6758,  34.9093,2,-999.0000,9,   -999.0,5,  -999.00,5,  -999.00,5,  -999.00,5,  -999.00,5,    2.873,3,    1.461,2,   -999.0,5,   -999.0,5,-999.0000,  -999.00,9,    65012,   3.5734
  06MT20030723,   510,  1,     13,2,20030808, 49.7910, -26.6750, 3544,   1236.1,   3.7876,  34.9140,2,-999.0000,9,   -999.0,5,  -999.00,5,  -999.00,5,  -999.00,5,  -999.00,5,    2.967,3,    1.527,2,   -999.0,5,   -999.0,5,-999.0000,  -999.00,9,    65013,   3.6930
  06MT20030723,   510,  1,     14,2,20030808, 49.7910, -26.6750, 3544,   1114.7,   3.9215,  34.9187,2,-999.0000,9,   -999.0,5,  -999.00,5,  -999.00,5,  -999.00,5,  -999.00,5,    3.093,3,    1.605,2,   -999.0,5,   -999.0,5,-999.0000,  -999.00,9,    65014,   3.8361
  06MT20030723,   510,  1,     15,2,20030808, 49.7910, -26.6750, 3544,   1040.1,   3.9958,  34.9193,2,-999.0000,9,    269.1,2,  -999.00,5,  -999.00,5,  -999.00,5,  -999.00,5,    3.234,3,    1.692,2,   -999.0,5,   -999.0,5,-999.0000,  -999.00,9,    65015,   3.9161
  06MT20030723,   510,  1,     16,2,20030808, 49.7910, -26.6750, 3544,    960.6,   4.0776,  34.9216,2,-999.0000,9,   -999.0,5,  -999.00,5,  -999.00,5,  -999.00,5,  -999.00,5,    3.296,3,    1.734,2,   -999.0,5,   -999.0,5,-999.0000,  -999.00,9,    65016,   4.0040
  06MT20030723,   510,  1,     17,2,20030808, 49.7910, -26.6750, 3544,    899.5,   4.2880,  34.9429,2,-999.0000,9,   -999.0,5,  -999.00,5,  -999.00,5,  -999.00,5,  -999.00,5,    3.264,3,    1.700,2,   -999.0,5,   -999.0,5,-999.0000,  -999.00,9,    65017,   4.2180
  06MT20030723,   510,  1,     18,2,20030808, 49.7910, -26.6750, 3544,    711.4,   5.4353,  35.0599,2,-999.0000,9,   -999.0,5,  -999.00,5,  -999.00,5,  -999.00,5,  -999.00,5,    2.471,3,    1.299,2,   -999.0,5,   -999.0,5,-999.0000,  -999.00,9,    65018,   5.3745
  06MT20030723,   510,  1,     19,2,20030808, 49.7910, -26.6750, 3544,    529.7,   6.0304,  35.0053,2,-999.0000,9,    221.2,2,  -999.00,5,  -999.00,5,  -999.00,5,  -999.00,5,    2.499,3,    1.335,2,   -999.0,5,   -999.0,5,-999.0000,  -999.00,9,    65019,   5.9835
  06MT20030723,   510,  1,     20,2,20030808, 49.7910, -26.6750, 3544,    374.8,   7.2398,  35.0149,2,  35.0005,0,   -999.0,5,  -999.00,5,  -999.00,5,  -999.00,5,  -999.00,5,    2.750,3,    1.525,2,   -999.0,5,   -999.0,5,-999.0000,  -999.00,9,    65020,   7.2035
  06MT20030723,   510,  1,     21,2,20030808, 49.7910, -26.6750, 3544,    113.4,   9.7277,  35.2519,2,-999.0000,9,   -999.0,5,  -999.00,5,  -999.00,5,  -999.00,5,  -999.00,5,    3.394,3,    1.968,2,   -999.0,5,   -999.0,5,-999.0000,  -999.00,9,    65021,   9.7148
  06MT20030723,   510,  1,     22,2,20030808, 49.7910, -26.6750, 3544,     11.7,  14.9476,  35.3015,2,-999.0000,9,    281.5,2,  -999.00,5,  -999.00,5,  -999.00,5,  -999.00,5,    2.948,3,    1.743,2,   -999.0,5,   -999.0,5,-999.0000,  -999.00,9,    65022,  14.9458
  06MT20030723,   511,  1,      1,2,20030808, 50.3420, -27.2840, 3833,   3854.3,   2.6940,  34.9265,2,-999.0000,9,    250.4,2,    34.76,2,    20.27,2,     0.01,2,     1.22,2, -999.000,9, -999.000,9,   2191.3,2,   2335.9,2,   7.7246,    25.00,2,    66001,   2.3569
  06MT20030723,   511,  1,      2,2,20030808, 50.3420, -27.2840, 3833,   3853.5,   2.6939,  34.9263,2,-999.0000,9,    249.7,2,    34.83,2,    20.26,2,     0.00,2,     1.23,2,    0.573,3,    0.299,2,   -999.0,5,   -999.0,5,-999.0000,  -999.00,9,    66002,   2.3569
  06MT20030723,   511,  1,      3,2,20030808, 50.3420, -27.2840, 3833,   3761.2,   2.7098,  34.9293,2,-999.0000,9,    252.0,2,    32.99,2,    19.99,2,     0.00,2,     1.19,2,    0.656,3,    0.338,2,   2187.5,2,   2334.9,2,   7.7246,    25.00,2,    66003,   2.3829
  06MT20030723,   511,  1,      4,2,20030808, 50.3420, -27.2840, 3833,   3456.8,   2.7699,  34.9378,2,-999.0000,9,    261.4,2,    25.41,2,    18.45,2,     0.00,2,     1.06,2,    1.184,3,    0.609,2,   2177.0,2,   2319.3,2,   7.7236,    25.00,2,    66004,   2.4753
  06MT20030723,   511,  1,      5,2,20030808, 50.3420, -27.2840, 3833,   3146.6,   2.8387,  34.9399,2,  34.9382,2,    265.2,2,    21.78,2,    17.76,2,     0.01,2,     1.01,2,    1.484,3,    0.759,2,   2172.4,2,   2316.0,2,   7.7246,    25.00,2,    66005,   2.5760
  06MT20030723,   511,  1,      6,2,20030808, 50.3420, -27.2840, 3833,   2860.6,   2.9038,  34.9375,2,-999.0000,9,    270.4,2,    18.41,2,    17.20,2,     0.00,2,     0.97,2,    1.705,3,    0.863,2,   2167.9,2,   2312.2,2,   7.7246,    25.00,2,    66006,   2.6695
  06MT20030723,   511,  1,      7,2,20030808, 50.3420, -27.2840, 3833,   2530.6,   3.0972,  34.9273,2,-999.0000,9,    275.2,2,    14.37,2,    16.85,2,     0.00,2,     0.98,2,    1.851,3,    0.932,2,   2159.9,2,   2304.9,2,   7.7275,    25.00,2,    66007,   2.8925
  06MT20030723,   511,  1,      8,2,20030808, 50.3420, -27.2840, 3833,   2228.8,   3.1750,  34.9058,2,  34.8982,2,    279.5,2,    12.07,2,    16.80,2,     0.00,2,     0.96,2,    2.314,3,    1.159,2,   2156.0,2,   2300.9,2,   7.7275,    25.00,2,    66008,   2.9984
  06MT20030723,   511,  1,      9,2,20030808, 50.3420, -27.2840, 3833,   2021.3,   3.2095,  34.8921,2,-999.0000,9,    283.3,2,    11.08,2,    16.83,2,     0.00,2,     0.94,2,    2.654,3,    1.350,2,   2156.5,2,   2297.9,2,   7.7236,    25.00,2,    66009,   3.0520
  06MT20030723,   511,  1,     10,2,20030808, 50.3420, -27.2840, 3833,   1801.0,   3.2917,  34.8886,2,-999.0000,9,    282.1,2,    10.55,2,    16.91,2,     0.00,2,     0.91,2,    2.869,3,    1.454,2,   2154.8,2,   2297.5,2,   7.7216,    25.00,2,    66010,   3.1532
  06MT20030723,   511,  1,     11,2,20030808, 50.3420, -27.2840, 3833,   1613.6,   3.4617,  34.8970,2,-999.0000,9,    278.8,2,    10.30,2,    16.91,2,     0.00,2,     0.91,2,    2.866,3,    1.448,2,   2156.5,2,   2296.8,2,   7.7197,    25.00,2,    66011,   3.3378
  06MT20030723,   511,  1,     12,2,20030808, 50.3420, -27.2840, 3833,   1410.6,   3.6448,  34.9062,2,-999.0000,9,   -999.0,5,  -999.00,5,  -999.00,5,  -999.00,5,  -999.00,5,    2.945,3,    1.512,2,   2157.6,2,   2296.1,2,   7.7147,    25.00,2,    66012,   3.5366
  06MT20030723,   511,  1,     13,2,20030808, 50.3420, -27.2840, 3833,   1193.3,   3.8604,  34.9120,2,-999.0000,9,    271.7,2,    10.07,2,    17.37,2,     0.00,2,     0.96,2,    3.100,3,    1.612,2,   2159.6,2,   2298.3,2,   7.7138,    25.00,2,    66013,   3.7688
  06MT20030723,   511,  1,     14,2,20030808, 50.3420, -27.2840, 3833,   1064.6,   4.1603,  34.9376,2,-999.0000,9,    267.0,2,     9.91,2,    17.40,2,     0.00,2,     0.98,2,    3.189,3,    1.663,2,   2162.7,2,   2298.1,2,   7.7108,    25.00,2,    66014,   4.0772
  06MT20030723,   511,  1,     15,2,20030808, 50.3420, -27.2840, 3833,    951.3,   4.5479,  34.9763,2,-999.0000,9,    254.9,2,    10.24,2,    17.58,2,     0.00,2,     1.01,2,    2.894,3,    1.512,2,   2167.2,2,   2306.6,2,   7.7108,    25.00,2,    66015,   4.4715
  06MT20030723,   511,  1,     16,2,20030808, 50.3420, -27.2840, 3833,    847.5,   4.6663,  34.9720,2,-999.0000,9,    252.8,2,    10.06,2,    17.79,2,     0.00,2,     0.97,2,    3.091,3,    1.643,2,   2167.2,2,   2301.7,2,   7.7059,    25.00,2,    66016,   4.5981
  06MT20030723,   511,  1,     17,2,20030808, 50.3420, -27.2840, 3833,    651.6,   5.8130,  35.0264,2,  35.0720,0,    222.8,2,    10.70,2,    18.68,2,     0.00,2,     1.04,2,    2.402,3,    1.265,2,   2174.0,2,   2311.2,2,-999.0000,  -999.00,9,    66017,   5.7557
  06MT20030723,   511,  1,     18,2,20030808, 50.3420, -27.2840, 3833,    406.2,   7.8914,  35.0305,2,-999.0000,9,    239.5,2,     7.63,2,    16.07,2,     0.01,2,     0.86,2,    3.097,3,    1.749,2,   2152.9,2,   2307.9,2,   7.7482,    25.00,2,    66018,   7.8500
  06MT20030723,   511,  1,     19,2,20030808, 50.3420, -27.2840, 3833,    203.8,  10.0763,  35.3087,2,-999.0000,9,    241.3,2,     4.76,2,    13.09,2,     0.01,2,     0.64,2,    3.098,3,    1.782,2,   2140.7,2,   2319.5,2,   7.8025,    25.00,2,    66019,  10.0524
  06MT20030723,   511,  1,     20,2,20030808, 50.3420, -27.2840, 3833,     97.2,  11.4317,  35.5098,2,-999.0000,9,    240.8,2,     3.00,2,    10.79,2,     0.02,2,     0.51,2,    3.040,3,    1.778,2,   2131.9,2,   2330.1,2,   7.8381,    25.00,2,    66020,  11.4194
  06MT20030723,   511,  1,     21,2,20030808, 50.3420, -27.2840, 3833,     68.7,  11.4943,  35.3796,2,-999.0000,9,    247.8,2,     1.70,2,     8.98,2,     0.22,2,     0.42,2,    3.186,3,    1.871,2,   2123.1,2,   2328.1,2,   7.8510,    25.00,2,    66021,  11.4856
  06MT20030723,   511,  1,     22,2,20030808, 50.3420, -27.2840, 3833,     23.6,  14.5912,  35.2798,2,  35.2898,2,    282.3,2,     0.00,2,     0.06,2,     0.03,2,     0.06,2,    2.992,3,    1.765,2,   2034.5,2,   2327.2,2,   8.0186,    25.00,2,    66022,  14.5877
  06MT20030723,   512,  1,      1,2,20030808, 50.9000, -27.8830, 3245,   3260.3,   2.8640,  34.9417,2,-999.0000,9,   -999.0,5,  -999.00,5,  -999.00,5,  -999.00,5,  -999.00,5, -999.000,9, -999.000,9,   -999.0,5,   -999.0,5,-999.0000,  -999.00,9,    67001,   2.5885
  06MT20030723,   512,  1,      2,2,20030808, 50.9000, -27.8830, 3245,   3259.6,   2.8637,  34.9421,2,  34.9417,2,    267.4,2,  -999.00,5,  -999.00,5,  -999.00,5,  -999.00,5,    1.593,3,    0.808,2,   -999.0,5,   -999.0,5,-999.0000,  -999.00,9,    67002,   2.5883
  06MT20030723,   512,  1,      3,2,20030808, 50.9000, -27.8830, 3245,   3146.9,   2.8788,  34.9418,2,-999.0000,9,   -999.0,5,  -999.00,5,  -999.00,5,  -999.00,5,  -999.00,5,    1.654,3,    0.845,2,   -999.0,5,   -999.0,5,-999.0000,  -999.00,9,    67003,   2.6151
  06MT20030723,   512,  1,      4,2,20030808, 50.9000, -27.8830, 3245,   2943.5,   2.9247,  34.9395,2,-999.0000,9,   -999.0,5,  -999.00,5,  -999.00,5,  -999.00,5,  -999.00,5,    1.761,3,    0.891,2,   -999.0,5,   -999.0,5,-999.0000,  -999.00,9,    67004,   2.6814
  06MT20030723,   512,  1,      5,2,20030808, 50.9000, -27.8830, 3245,   2736.8,   2.9814,  34.9358,2,-999.0000,9,   -999.0,5,  -999.00,5,  -999.00,5,  -999.00,5,  -999.00,5,    1.908,3,    0.966,2,   -999.0,5,   -999.0,5,-999.0000,  -999.00,9,    67005,   2.7582
  06MT20030723,   512,  1,      6,2,20030808, 50.9000, -27.8830, 3245,   2532.8,   3.0566,  34.9247,2,-999.0000,9,   -999.0,5,  -999.00,5,  -999.00,5,  -999.00,5,  -999.00,5,    2.106,3,    1.066,2,   -999.0,5,   -999.0,5,-999.0000,  -999.00,9,    67006,   2.8524
  06MT20030723,   512,  1,      7,2,20030808, 50.9000, -27.8830, 3245,   2327.5,   3.1223,  34.9125,2,  34.9116,2,   -999.0,5,  -999.00,5,  -999.00,5,  -999.00,5,  -999.00,5,    2.280,3,    1.150,2,   -999.0,5,   -999.0,5,-999.0000,  -999.00,9,    67007,   2.9371
  06MT20030723,   512,  1,      8,2,20030808, 50.9000, -27.8830, 3245,   2125.7,   3.1575,  34.8977,2,-999.0000,9,    281.2,2,  -999.00,5,  -999.00,5,  -999.00,5,  -999.00,5,    2.596,3,    1.320,2,   -999.0,5,   -999.0,5,-999.0000,  -999.00,9,    67008,   2.9910
  06MT20030723,   512,  1,      9,2,20030808, 50.9000, -27.8830, 3245,   1918.9,   3.2119,  34.8908,2,-999.0000,9,   -999.0,5,  -999.00,5,  -999.00,5,  -999.00,5,  -999.00,5,    2.763,3,    1.408,2,   -999.0,5,   -999.0,5,-999.0000,  -999.00,9,    67009,   3.0638
  06MT20030723,   512,  1,     10,2,20030808, 50.9000, -27.8830, 3245,   1718.3,   3.2990,  34.8897,2,-999.0000,9,   -999.0,5,  -999.00,5,  -999.00,5,  -999.00,5,  -999.00,5,    2.844,3,    1.454,2,   -999.0,5,   -999.0,5,-999.0000,  -999.00,9,    67010,   3.1678
  06MT20030723,   512,  1,     11,2,20030808, 50.9000, -27.8830, 3245,   1516.5,   3.4839,  34.8976,2,-999.0000,9,   -999.0,5,  -999.00,5,  -999.00,5,  -999.00,5,  -999.00,5,    2.923,3,    1.509,2,   -999.0,5,   -999.0,5,-999.0000,  -999.00,9,    67011,   3.3683
  06MT20030723,   512,  1,     12,2,20030808, 50.9000, -27.8830, 3245,   1312.1,   3.6858,  34.9078,2,  34.9053,2,    273.4,2,  -999.00,5,  -999.00,5,  -999.00,5,  -999.00,5,    2.948,3,    1.528,2,   -999.0,5,   -999.0,5,-999.0000,  -999.00,9,    67012,   3.5857
  06MT20030723,   512,  1,     13,2,20030808, 50.9000, -27.8830, 3245,   1221.6,   3.7970,  34.9132,2,-999.0000,9,   -999.0,5,  -999.00,5,  -999.00,5,  -999.00,5,  -999.00,5,    3.027,3,    1.577,2,   -999.0,5,   -999.0,5,-999.0000,  -999.00,9,    67013,   3.7036
  06MT20030723,   512,  1,     14,2,20030808, 50.9000, -27.8830, 3245,   1109.0,   3.9035,  34.9133,2,-999.0000,9,   -999.0,5,  -999.00,5,  -999.00,5,  -999.00,5,  -999.00,5,    3.198,3,    1.683,2,   -999.0,5,   -999.0,5,-999.0000,  -999.00,9,    67014,   3.8187
  06MT20030723,   512,  1,     15,2,20030808, 50.9000, -27.8830, 3245,   1003.9,   3.9445,  34.9084,2,-999.0000,9,   -999.0,5,  -999.00,5,  -999.00,5,  -999.00,5,  -999.00,5,    3.437,3,    1.830,2,   -999.0,5,   -999.0,5,-999.0000,  -999.00,9,    67015,   3.8683
  06MT20030723,   512,  1,     16,2,20030808, 50.9000, -27.8830, 3245,    907.8,   4.2132,  34.9334,2,-999.0000,9,    264.0,2,  -999.00,5,  -999.00,5,  -999.00,5,  -999.00,5,    3.151,3,    1.659,2,   -999.0,5,   -999.0,5,-999.0000,  -999.00,9,    67016,   4.1430
  06MT20030723,   512,  1,     17,2,20030808, 50.9000, -27.8830, 3245,    824.1,   4.4321,  34.9426,2,-999.0000,9,   -999.0,5,  -999.00,5,  -999.00,5,  -999.00,5,  -999.00,5,    3.103,3,    1.648,2,   -999.0,5,   -999.0,5,-999.0000,  -999.00,9,    67017,   4.3675
  06MT20030723,   512,  1,     18,2,20030808, 50.9000, -27.8830, 3245,    655.6,   4.9592,  34.9583,2,-999.0000,9,   -999.0,5,  -999.00,5,  -999.00,5,  -999.00,5,  -999.00,5,    2.881,3,    1.555,2,   -999.0,5,   -999.0,5,-999.0000,  -999.00,9,    67018,   4.9059
  06MT20030723,   512,  1,     19,2,20030808, 50.9000, -27.8830, 3245,    526.7,   5.9321,  34.9665,2,-999.0000,9,   -999.0,5,  -999.00,5,  -999.00,5,  -999.00,5,  -999.00,5,    2.548,3,    1.383,2,   -999.0,5,   -999.0,5,-999.0000,  -999.00,9,    67019,   5.8859
  06MT20030723,   512,  1,     20,2,20030808, 50.9000, -27.8830, 3245,    360.4,   7.2578,  34.9817,2,  34.9722,2,   -999.0,5,  -999.00,5,  -999.00,5,  -999.00,5,  -999.00,5,    2.918,3,    1.658,2,   -999.0,5,   -999.0,5,-999.0000,  -999.00,9,    67020,   7.2229
  06MT20030723,   512,  1,     21,2,20030808, 50.9000, -27.8830, 3245,     93.8,   9.9131,  35.2406,2,-999.0000,9,   -999.0,5,  -999.00,5,  -999.00,5,  -999.00,5,  -999.00,5,    3.265,3,    1.913,2,   -999.0,5,   -999.0,5,-999.0000,  -999.00,9,    67021,   9.9023
  06MT20030723,   512,  1,     22,2,20030808, 50.9000, -27.8830, 3245,     13.9,  13.5515,  35.1724,2,-999.0000,9,    302.4,2,  -999.00,5,  -999.00,5,  -999.00,5,  -999.00,5,    3.110,3,    1.872,2,   -999.0,5,   -999.0,5,-999.0000,  -999.00,9,    67022,  13.5495