BOTTLE,20090513PRINUNIVRMK
EXPOCODE,STNNBR,CASTNO,BTLNBR,BTLNBR_FLAG_W,DATE,LATITUDE,LONGITUDE,DEPTH,CTDPRS,CTDTMP,CTDSAL,CTDSAL_FLAG_W,SALNTY,SALNTY_FLAG_W,OXYGEN,OXYGEN_FLAG_W,SILCAT,SILCAT_FLAG_W,NITRAT,NITRAT_FLAG_W,NITRIT,NITRIT_FLAG_W,PHSPHT,PHSPHT_FLAG_W,CFC-11,CFC-11_FLAG_W,CFC-12,CFC-12_FLAG_W,TCARBN,TCARBN_FLAG_W,ALKALI,ALKALI_FLAG_W,PH_SWS,PH_TEMP,PH_SWS_FLAG_W,ID,THETA
,,,,,,,,METERS,DBARS,ITS-90,PSS-78,,PSS-78,,UMOL/KG,,UMOL/KG,,UMOL/KG,,UMOL/KG,,UMOL/KG,,PMOL/KG,,PMOL/KG,,UMOL/KG,,UMOL/KG,,,DEGC,,,DEGC
  06MT20030723,   526,  1,      1,2,20030811, 56.4820, -22.3330, 2110,   2117.4,   3.1103,  34.9234,2,  34.9224,2,    278.8,2,    13.72,2,    16.96,2,     0.01,2,     1.09,2, -999.000,9, -999.000,9,   2161.9,2,   2299.8,2,   7.7275,    25.00,2,    80001,   2.9452
  06MT20030723,   526,  1,      2,2,20030811, 56.4820, -22.3330, 2110,   2117.1,   3.1103,  34.9231,2,-999.0000,9,    277.7,2,    13.55,2,    16.99,2,     0.01,2,     1.09,2,    2.336,3,    1.135,2,   -999.0,5,   -999.0,5,-999.0000,  -999.00,9,    80002,   2.9453
  06MT20030723,   526,  1,      3,2,20030811, 56.4820, -22.3330, 2110,   2024.8,   3.2248,  34.9017,2,-999.0000,9,    281.8,2,    11.74,2,    16.98,2,     0.00,2,     1.10,2,    2.773,3,    1.340,2,   2154.5,2,   2297.6,2,   7.7266,    25.00,2,    80003,   3.0667
  06MT20030723,   526,  1,      4,2,20030811, 56.4820, -22.3330, 2110,   1924.0,   3.2952,  34.8957,2,-999.0000,9,    282.4,2,    11.11,2,    16.72,2,     0.00,2,     1.10,2,    2.920,3,    1.403,2,   2154.5,2,   2296.0,2,   7.7256,    25.00,2,    80004,   3.1454
  06MT20030723,   526,  1,      5,2,20030811, 56.4820, -22.3330, 2110,   1821.9,   3.4031,  34.8971,2,  34.8937,2,    280.1,2,    10.98,2,    17.22,2,     0.00,2,     1.11,2,    2.945,3,    1.419,2,   2155.7,2,   2296.6,2,   7.7236,    25.00,2,    80005,   3.2612
  06MT20030723,   526,  1,      6,2,20030811, 56.4820, -22.3330, 2110,   1718.7,   3.4690,  34.8995,2,-999.0000,9,    280.4,2,    10.97,2,    17.37,2,     0.00,2,     1.11,2,    2.941,3,    1.418,2,   2159.4,2,   2297.1,2,   7.7246,    25.00,2,    80006,   3.3355
  06MT20030723,   526,  1,      7,2,20030811, 56.4820, -22.3330, 2110,   1614.0,   3.5761,  34.9042,2,-999.0000,9,    276.1,2,    11.14,2,    17.31,2,     0.00,2,     1.12,2, -999.000,9, -999.000,9,   2156.9,2,   2296.4,2,   7.7216,    25.00,2,    80007,   3.4507
  06MT20030723,   526,  1,      8,2,20030811, 56.4820, -22.3330, 2110,   1517.3,   3.6813,  34.9098,2,-999.0000,9,    274.9,2,    10.81,2,    17.51,2,     0.00,2,     1.13,2,    2.962,3,    1.449,2,   2161.0,2,   2283.5,4,   7.7187,    25.00,2,    80008,   3.5633
  06MT20030723,   526,  1,      9,2,20030811, 56.4820, -22.3330, 2110,   1413.8,   3.8864,  34.9232,2,-999.0000,9,    270.0,2,    10.96,2,    17.63,2,     0.00,2,     1.14,2,    2.959,3,    1.438,2,   2161.2,2,   2298.1,2,   7.7167,    25.00,2,    80009,   3.7753
  06MT20030723,   526,  1,     10,2,20030811, 56.4820, -22.3330, 2110,   1308.4,   4.0882,  34.9380,2,-999.0000,9,    268.3,2,    10.85,2,    17.37,2,     0.00,2,     1.14,2,    2.932,3,    1.461,2,   2161.9,2,   2296.8,2,   7.7147,    25.00,2,    80010,   3.9844
  06MT20030723,   526,  1,     11,2,20030811, 56.4820, -22.3330, 2110,   1307.8,   4.0912,  34.9381,2,-999.0000,9,    265.2,2,    10.65,2,    17.76,2,     0.00,2,     1.14,2, -999.000,9, -999.000,9,   2164.8,2,   2298.1,2,   7.7147,    25.00,2,    80011,   3.9874
  06MT20030723,   526,  1,     12,2,20030811, 56.4820, -22.3330, 2110,   1097.8,   4.8443,  35.0005,2,-999.0000,9,    249.6,2,    10.95,2,    18.13,2,     0.00,2,     1.16,2,    2.743,3,    1.386,2,   2169.3,2,   2300.3,2,   7.7118,    25.00,2,    80012,   4.7525
  06MT20030723,   526,  1,     13,2,20030811, 56.4820, -22.3330, 2110,   1010.9,   5.3923,  35.0578,2,-999.0000,9,    240.1,2,    11.02,2,    18.35,2,     0.00,2,     1.16,2, -999.000,9, -999.000,9,   2172.2,2,   2305.8,2,   7.7127,    25.00,2,    80013,   5.3041
  06MT20030723,   526,  1,     14,2,20030811, 56.4820, -22.3330, 2110,    929.5,   5.7466,  35.0618,2,-999.0000,9,    231.1,2,    10.68,2,    18.67,2,     0.00,2,     1.18,2,    2.612,3,    1.335,2,   2171.8,2,   2302.1,2,   7.7098,    25.00,2,    80014,   5.6635
  06MT20030723,   526,  1,     15,2,20030811, 56.4820, -22.3330, 2110,    818.9,   6.3848,  35.0960,2,-999.0000,9,    218.8,2,    10.55,2,    18.90,2,     0.01,2,     1.19,2,    2.472,3,    1.285,2,   2176.9,2,   2314.6,2,   7.7088,    25.00,2,    80015,   6.3083
  06MT20030723,   526,  1,     16,2,20030811, 56.4820, -22.3330, 2110,    703.4,   7.5550,  35.2137,2,-999.0000,9,    205.7,2,    10.08,2,    18.82,2,     0.01,2,     1.18,2,    2.211,3,    1.134,2,   2175.7,2,   2321.6,2,   7.7186,    25.00,2,    80016,   7.4836
  06MT20030723,   526,  1,     17,2,20030811, 56.4820, -22.3330, 2110,    603.1,   7.7339,  35.1403,2,  35.1582,0,    204.7,2,     9.52,2,    18.58,2,     0.00,2,     1.16,2,    2.349,3,    1.230,2,   2172.5,2,   2313.2,2,   7.7206,    25.00,2,    80017,   7.6723
  06MT20030723,   526,  1,     18,2,20030811, 56.4820, -22.3330, 2110,    403.6,   8.8822,  35.1525,2,-999.0000,9,    240.4,2,     5.85,2,    14.28,2,     0.01,2,     0.89,2,    3.272,3,    1.781,2,   2146.4,2,   2309.2,2,   7.7798,    25.00,2,    80018,   8.8381
  06MT20030723,   526,  1,     19,2,20030811, 56.4820, -22.3330, 2110,    198.1,  10.1614,  35.3312,2,-999.0000,9,    249.6,2,     4.11,2,    11.91,2,     0.03,2,     0.71,2,    3.402,3,    1.880,2,   2134.8,2,   2318.0,2,   7.8154,    25.00,2,    80019,  10.1381
  06MT20030723,   526,  1,     20,2,20030811, 56.4820, -22.3330, 2110,    108.8,  10.8735,  35.4360,2,-999.0000,9,    250.5,2,     3.01,2,    10.83,2,     0.03,2,     0.62,2,    3.386,3,    1.891,2,   2133.3,2,   2324.4,2,   7.8341,    25.00,2,    80020,  10.8602
  06MT20030723,   526,  1,     21,2,20030811, 56.4820, -22.3330, 2110,     69.7,  10.9787,  35.4020,2,-999.0000,9,    250.5,2,     2.21,2,    10.18,2,     0.05,2,     0.58,2,    3.418,3,    1.907,2,   2130.3,2,   2324.5,2,   7.8401,    25.00,2,    80021,  10.9701
  06MT20030723,   526,  1,     22,2,20030811, 56.4820, -22.3330, 2110,     16.0,  12.7124,  35.1747,2,-999.0000,9,    264.0,2,     0.20,2,     4.62,2,     0.17,2,     0.26,2,    3.341,3,    1.875,2,   2088.7,2,   2318.8,2,   7.9084,    25.00,2,    80022,  12.7102
  06MT20030723,   527,  1,      1,2,20030812, 56.6680, -21.0270, 1723,   1726.0,   3.3694,  34.8990,2,-999.0000,9,    277.8,2,    11.86,2,    17.15,2,     0.01,2,     1.10,2, -999.000,9, -999.000,9,   2158.7,2,   2296.1,2,   7.7226,    25.00,2,    81001,   3.2366
  06MT20030723,   527,  1,      2,2,20030812, 56.6680, -21.0270, 1723,   1726.9,   3.3692,  34.8988,2,-999.0000,9,    278.1,2,    11.78,2,    17.16,2,     0.00,2,     1.11,2,    2.869,3,    1.386,2,   -999.0,5,   -999.0,5,-999.0000,  -999.00,9,    81002,   3.2363
  06MT20030723,   527,  1,      3,2,20030812, 56.6680, -21.0270, 1723,   1721.1,   3.3755,  34.8997,2,  34.9002,2,    278.0,2,    11.72,2,    16.86,2,     0.01,2,     1.11,2,    2.883,3,    1.387,2,   2159.4,2,   2299.7,2,   7.7216,    25.00,2,    81003,   3.2430
  06MT20030723,   527,  1,      4,2,20030812, 56.6680, -21.0270, 1723,   1668.3,   3.5818,  34.9087,2,-999.0000,9,    274.6,2,    11.58,2,    17.34,2,     0.01,2,     1.11,2,    2.870,3,    1.393,2,   2160.5,2,   2300.1,2,   7.7216,    25.00,2,    81004,   3.4514
  06MT20030723,   527,  1,      5,2,20030812, 56.6680, -21.0270, 1723,   1616.7,   3.6529,  34.9108,2,-999.0000,9,    272.9,2,    11.13,2,    17.39,2,     0.00,2,     1.12,2,    2.899,3,    1.401,2,   2159.9,2,   2298.5,2,   7.7187,    25.00,2,    81005,   3.5263
  06MT20030723,   527,  1,      6,2,20030812, 56.6680, -21.0270, 1723,   1523.7,   3.7574,  34.9144,2,  34.9108,2,    271.7,2,    10.67,2,    17.17,2,     0.00,2,     1.10,2,    3.006,3,    1.465,2,   2159.6,2,   2298.2,2,   7.7167,    25.00,2,    81006,   3.6379
  06MT20030723,   527,  1,      7,2,20030812, 56.6680, -21.0270, 1723,   1410.8,   3.9260,  34.9240,2,-999.0000,9,    267.9,2,    10.55,2,    17.58,2,     0.00,2,     1.11,2,    3.016,3,    1.480,2,   2161.0,2,   2298.0,2,   7.7177,    25.00,2,    81007,   3.8147
  06MT20030723,   527,  1,      8,2,20030812, 56.6680, -21.0270, 1723,   1310.7,   4.0803,  34.9330,2,-999.0000,9,    264.8,2,    10.51,2,    17.63,2,     0.00,2,     1.11,2,    3.060,3,    1.503,2,   2162.9,2,   2299.6,2,   7.7137,    25.00,2,    81008,   3.9764
  06MT20030723,   527,  1,      9,2,20030812, 56.6680, -21.0270, 1723,   1211.1,   4.3136,  34.9502,2,-999.0000,9,    260.0,2,    10.42,2,    17.79,2,     0.00,2,     1.12,2,    3.097,3,    1.545,2,   2164.4,2,   2299.2,2,   7.7137,    25.00,2,    81009,   4.2163
  06MT20030723,   527,  1,     10,2,20030812, 56.6680, -21.0270, 1723,   1114.9,   4.7914,  35.0035,2,-999.0000,9,    250.1,2,    10.70,2,    18.06,2,     0.00,2,     1.12,2,    2.838,3,    1.399,2,   2167.8,2,   2311.1,2,   7.5772,    25.00,3,    81010,   4.6984
  06MT20030723,   527,  1,     11,2,20030812, 56.6680, -21.0270, 1723,   1012.4,   5.2499,  35.0385,2,-999.0000,9,    215.2,4,    10.59,4,    18.88,4,     0.01,4,     1.18,4, -999.000,9, -999.000,9,   2176.4,4,   2313.7,4,   7.7118,    25.00,2,    81011,   5.1627
  06MT20030723,   527,  1,     12,2,20030812, 56.6680, -21.0270, 1723,    913.7,   5.6560,  35.0522,2,  35.0499,2,    272.9,4,    10.60,2,    18.59,2,     0.01,2,     1.18,2,    2.652,3,    1.341,2,   2173.3,2,   2298.3,4,   7.7088,    25.00,2,    81012,   5.5751
  06MT20030723,   527,  1,     13,2,20030812, 56.6680, -21.0270, 1723,    803.5,   6.6017,  35.1263,2,-999.0000,9,    215.8,2,    10.51,2,    18.84,2,     0.02,2,     1.18,2,    2.383,3,    1.216,2,   2176.0,2,   2314.7,2,   7.7108,    25.00,2,    81013,   6.5254
  06MT20030723,   527,  1,     14,2,20030812, 56.6680, -21.0270, 1723,    704.2,   7.6073,  35.2178,2,-999.0000,9,    203.4,2,    10.08,2,    18.92,2,     0.01,2,     1.16,2,    2.205,3,    1.134,2,   2177.7,2,   2326.1,2,   7.7176,    25.00,2,    81014,   7.5355
  06MT20030723,   527,  1,     15,2,20030812, 56.6680, -21.0270, 1723,    615.1,   8.0169,  35.1567,2,-999.0000,9,    206.8,2,     9.25,2,    17.91,2,     0.02,2,     1.13,2,    2.484,3,    1.307,2,   2170.4,2,   2311.8,2,   7.7255,    25.00,2,    81015,   7.9527
  06MT20030723,   527,  1,     16,2,20030812, 56.6680, -21.0270, 1723,    495.3,   8.8305,  35.1977,2,-999.0000,9,    217.6,2,     7.51,2,    16.59,2,     0.01,2,     1.02,2,    2.788,3,    1.497,2,   2159.5,2,   2314.8,2,   7.7541,    25.00,2,    81016,   8.7762
  06MT20030723,   527,  1,     17,2,20030812, 56.6680, -21.0270, 1723,    409.1,   9.2228,  35.2000,2,-999.0000,9,    245.1,2,     5.44,2,    13.71,2,     0.01,2,     0.84,2,    3.336,3,    1.834,2,   2142.0,2,   2312.6,2,   7.7887,    25.00,2,    81017,   9.1770
  06MT20030723,   527,  1,     18,2,20030812, 56.6680, -21.0270, 1723,    304.7,  10.0312,  35.3182,2,-999.0000,9,    249.4,2,     4.40,2,    12.30,2,     0.02,2,     0.73,2,    3.367,3,    1.875,2,   2136.5,2,   2319.4,2,   7.8124,    25.00,2,    81018,   9.9954
  06MT20030723,   527,  1,     19,2,20030812, 56.6680, -21.0270, 1723,    201.8,  10.3945,  35.3690,2,-999.0000,9,    250.4,2,     3.51,2,    11.44,2,     0.04,2,     0.65,2,    3.351,3,    1.871,2,   2133.7,2,   2321.6,2,   7.8242,    25.00,2,    81019,  10.3704
  06MT20030723,   527,  1,     20,2,20030812, 56.6680, -21.0270, 1723,     99.1,  10.9390,  35.4379,2,-999.0000,9,    249.1,2,     2.32,2,    10.40,2,     0.03,2,     0.60,2,    3.276,3,    1.856,2,   2129.2,2,   2325.3,2,   7.8391,    25.00,2,    81020,  10.9268
  06MT20030723,   527,  1,     21,2,20030812, 56.6680, -21.0270, 1723,     62.9,  11.2813,  35.4460,2,  35.4379,2,    249.7,2,     0.94,2,     9.08,2,     0.32,2,     0.52,2,    3.374,3,    1.909,2,   2123.1,2,   2325.7,2,   7.8539,    25.00,2,    81021,  11.2734
  06MT20030723,   527,  1,     22,2,20030812, 56.6680, -21.0270, 1723,     13.2,  13.4204,  35.1983,2,-999.0000,9,    261.8,2,     0.00,2,     2.53,2,     0.10,2,     0.17,2,    3.167,3,    1.817,2,   2072.2,2,   2316.1,2,   7.9392,    25.00,2,    81022,  13.4186
  06MT20030723,   529,  1,      1,2,20030813, 54.8170, -26.3010, 3400,   3406.0,   2.7423,  34.9491,2,  34.9513,2,    260.5,2,    24.80,2,    17.93,2,     0.01,2,     1.15,2, -999.000,9, -999.000,9,   2177.0,2,   2320.5,2,   7.7256,    25.00,2,    82001,   2.4539
  06MT20030723,   529,  1,      2,2,20030813, 54.8170, -26.3010, 3400,   3405.9,   2.7422,  34.9492,2,-999.0000,9,    262.8,2,    24.81,2,    18.21,2,     0.00,2,     1.16,2,    1.569,3,    0.800,2,   -999.0,5,   -999.0,5,-999.0000,  -999.00,9,    82002,   2.4538
  06MT20030723,   529,  1,      3,2,20030813, 54.8170, -26.3010, 3400,   3249.8,   2.7524,  34.9465,2,-999.0000,9,    264.7,2,    23.96,2,    18.13,2,     0.01,2,     1.16,2,    1.492,3,    0.760,2,   2179.9,2,   2325.3,2,   7.7275,    25.00,2,    82003,   2.4806
  06MT20030723,   529,  1,      4,2,20030813, 54.8170, -26.3010, 3400,   3147.3,   2.7781,  34.9472,2,-999.0000,9,    266.9,2,    21.85,2,    17.79,2,     0.01,2,     1.14,2,    1.573,3,    0.794,2,   2173.0,2,   2316.0,2,   7.7275,    25.00,2,    82004,   2.5166
  06MT20030723,   529,  1,      5,2,20030813, 54.8170, -26.3010, 3400,   2841.4,   2.9495,  34.9488,2,-999.0000,9,    272.7,2,    16.02,2,    16.81,2,     0.01,2,     1.09,2,    1.870,3,    0.944,2,   2167.2,2,   2309.8,2,   7.7305,    25.00,2,    82005,   2.7162
  06MT20030723,   529,  1,      6,2,20030813, 54.8170, -26.3010, 3400,   2533.4,   3.0672,  34.9311,2,  34.9321,2,    278.1,2,    12.97,2,    16.52,2,     0.00,2,     1.04,2,    2.159,3,    1.077,2,   2158.6,2,   2302.2,2,   7.7315,    25.00,2,    82006,   2.8627
  06MT20030723,   529,  1,      7,2,20030813, 54.8170, -26.3010, 3400,   2329.5,   3.1128,  34.9181,2,-999.0000,9,    280.7,2,    11.97,2,    16.64,2,     0.00,2,     1.04,2,    2.316,3,    1.151,2,   2157.7,2,   2301.7,2,   7.7305,    25.00,2,    82007,   2.9275
  06MT20030723,   529,  1,      8,2,20030813, 54.8170, -26.3010, 3400,   2038.8,   3.1607,  34.8976,2,-999.0000,9,    283.2,2,    11.15,2,    16.78,2,     0.00,2,     1.06,2,    2.722,3,    1.354,2,   2155.6,2,   2302.9,2,   7.7295,    25.00,2,    82008,   3.0023
  06MT20030723,   529,  1,      9,2,20030813, 54.8170, -26.3010, 3400,   1831.5,   3.2167,  34.8881,2,-999.0000,9,    285.7,2,    10.71,2,    16.90,2,     0.00,2,     1.08,2,    2.959,3,    1.474,2,   2156.0,2,   2300.8,2,   7.7295,    25.00,2,    82009,   3.0765
  06MT20030723,   529,  1,     10,2,20030813, 54.8170, -26.3010, 3400,   1832.0,   3.2160,  34.8882,2,-999.0000,9,    285.0,2,    10.74,2,    16.92,2,     0.00,2,     1.28,4, -999.000,9, -999.000,9,   2155.4,2,   2295.8,2,   7.7256,    25.00,2,    82010,   3.0757
  06MT20030723,   529,  1,     11,2,20030813, 54.8170, -26.3010, 3400,   1639.3,   3.3561,  34.8927,2,  34.8927,2,    283.3,2,    10.44,2,    17.02,2,     0.00,2,     1.07,2,    3.112,3,    1.552,2,   2158.4,2,   2298.5,2,   7.7266,    25.00,2,    82011,   3.2312
  06MT20030723,   529,  1,     12,2,20030813, 54.8170, -26.3010, 3400,   1413.1,   3.4432,  34.8956,2,-999.0000,9,    280.5,2,    10.42,2,    17.15,2,     0.00,2,     1.09,2,    3.052,3,    1.527,2,   2159.6,2,   2296.6,2,   7.7226,    25.00,2,    82012,   3.3370
  06MT20030723,   529,  1,     13,2,20030813, 54.8170, -26.3010, 3400,   1212.5,   3.6056,  34.8974,2,-999.0000,9,    278.5,2,    10.18,2,    17.18,2,     0.00,2,     1.07,2,    3.261,3,    1.652,2,   2157.1,2,   2300.4,2,   7.7197,    25.00,2,    82013,   3.5148
  06MT20030723,   529,  1,     14,2,20030813, 54.8170, -26.3010, 3400,   1009.4,   3.7595,  34.8994,2,-999.0000,9,    277.6,2,     9.89,2,    17.12,2,     0.00,2,     1.08,2,    3.522,3,    1.804,2,   2158.8,2,   2298.2,2,   7.7226,    25.00,2,    82014,   3.6843
  06MT20030723,   529,  1,     15,2,20030813, 54.8170, -26.3010, 3400,    894.0,   3.8479,  34.9016,2,-999.0000,9,    276.9,2,     9.80,2,    17.17,2,     0.00,2,     1.08,2,    3.610,3,    1.866,2,   2160.8,2,   2295.3,2,   7.7197,    25.00,2,    82015,   3.7814
  06MT20030723,   529,  1,     16,2,20030813, 54.8170, -26.3010, 3400,    796.8,   4.0858,  34.9156,2,-999.0000,9,    267.4,2,     9.58,2,    17.40,2,     0.00,2,     1.10,2,    3.490,3,    1.796,2,   2160.5,2,   2297.0,2,   7.7177,    25.00,2,    82016,   4.0256
  06MT20030723,   529,  1,     17,2,20030813, 54.8170, -26.3010, 3400,    685.6,   4.2594,  34.9177,2,-999.0000,9,    270.5,2,     9.64,2,    17.55,2,     0.00,2,     1.12,2,    3.469,3,    1.797,2,   2162.3,2,   2297.9,2,   7.7157,    25.00,2,    82017,   4.2073
  06MT20030723,   529,  1,     18,2,20030813, 54.8170, -26.3010, 3400,    496.8,   5.3757,  34.9861,2,-999.0000,9,    244.0,2,     9.96,2,    18.39,2,     0.00,2,     1.16,2,    2.971,3,    1.558,2,   2169.7,2,   2306.8,2,   7.7049,    25.00,2,    82018,   5.3343
  06MT20030723,   529,  1,     19,2,20030813, 54.8170, -26.3010, 3400,    187.9,   7.0709,  34.9195,2,  34.9207,2,    260.9,2,     7.12,2,    15.55,2,     0.01,2,     0.99,2,    3.606,3,    1.984,2,   2148.6,2,   2302.5,2,   7.7483,    25.00,2,    82019,   7.0532
  06MT20030723,   529,  1,     20,2,20030813, 54.8170, -26.3010, 3400,    111.7,   7.9507,  34.9672,2,-999.0000,9,    273.6,2,     3.37,2,    12.37,2,     0.01,2,     0.75,2,    3.956,3,    2.223,2,   2130.8,2,   2303.0,2,   7.7966,    25.00,2,    82020,   7.9395
  06MT20030723,   529,  1,     21,2,20030813, 54.8170, -26.3010, 3400,     79.8,   9.2187,  35.0148,2,-999.0000,9,    268.9,2,     1.82,2,    10.38,2,     0.36,2,     0.63,2, -999.000,9, -999.000,9,   2121.3,2,   2306.7,2,   7.8243,    25.00,2,    82021,   9.2100
  06MT20030723,   529,  1,     22,2,20030813, 54.8170, -26.3010, 3400,     17.1,  12.8324,  35.0224,2,-999.0000,9,    275.1,2,     0.27,2,     1.94,2,     0.10,2,     0.17,2,    3.300,3,    1.895,2,   2063.1,2,   2311.8,2,   7.9442,    25.00,2,    82022,  12.8301