BOTTLE,20090513PRINUNIVRMK
EXPOCODE,STNNBR,CASTNO,BTLNBR,BTLNBR_FLAG_W,DATE,LATITUDE,LONGITUDE,DEPTH,CTDPRS,CTDTMP,CTDSAL,CTDSAL_FLAG_W,SALNTY,SALNTY_FLAG_W,OXYGEN,OXYGEN_FLAG_W,SILCAT,SILCAT_FLAG_W,NITRAT,NITRAT_FLAG_W,NITRIT,NITRIT_FLAG_W,PHSPHT,PHSPHT_FLAG_W,CFC-11,CFC-11_FLAG_W,CFC-12,CFC-12_FLAG_W,TCARBN,TCARBN_FLAG_W,ALKALI,ALKALI_FLAG_W,PH_SWS,PH_TEMP,PH_SWS_FLAG_W,ID,THETA
,,,,,,,,METERS,DBARS,ITS-90,PSS-78,,PSS-78,,UMOL/KG,,UMOL/KG,,UMOL/KG,,UMOL/KG,,UMOL/KG,,PMOL/KG,,PMOL/KG,,UMOL/KG,,UMOL/KG,,,DEGC,,,DEGC
  06MT20030723,   545,  1,      1,2,20030817, 48.4410, -16.6750, 4664,   4746.4,   2.5549,  34.9029,2,  34.9031,2,    242.3,2,    45.18,2,    22.67,2,     0.01,2,     1.48,2, -999.000,9, -999.000,9,   2203.1,2,   2349.6,2,-999.0000,  -999.00,9,    98001,   2.1155
  06MT20030723,   545,  1,      2,2,20030817, 48.4410, -16.6750, 4664,   4746.4,   2.5551,  34.9030,2,-999.0000,9,    243.0,2,    44.94,2,    22.33,2,     0.01,2,     1.47,2,    0.050,3,    0.021,2,   -999.0,5,   -999.0,5,   7.7364,    25.00,2,    98002,   2.1157
  06MT20030723,   545,  1,      3,2,20030817, 48.4410, -16.6750, 4664,   4584.0,   2.5363,  34.9030,2,-999.0000,9,    242.1,2,    44.83,2,    22.64,2,     0.01,2,     1.47,2,    0.049,3,    0.021,2,   2202.8,2,   2347.8,2,   7.7364,    25.00,2,    98003,   2.1175
  06MT20030723,   545,  1,      4,2,20030817, 48.4410, -16.6750, 4664,   4118.1,   2.5324,  34.9082,2,-999.0000,9,    243.6,2,    43.52,2,    22.40,2,     0.01,2,     1.46,2,    0.047,3,    0.021,2,   -999.0,5,   -999.0,5,-999.0000,  -999.00,9,    98004,   2.1694
  06MT20030723,   545,  1,      5,2,20030817, 48.4410, -16.6750, 4664,   3655.0,   2.5915,  34.9191,2,-999.0000,9,    245.3,2,    40.05,2,    21.89,2,     0.01,2,     1.42,2,    0.081,3,    0.042,2,   -999.0,5,   -999.0,5,-999.0000,  -999.00,9,    98005,   2.2796
  06MT20030723,   545,  1,      6,2,20030817, 48.4410, -16.6750, 4664,   3193.0,   2.7719,  34.9373,2,-999.0000,9,    251.2,2,    32.55,2,    20.56,2,     0.00,2,     1.33,2, -999.000,9, -999.000,9,   -999.0,5,   -999.0,5,-999.0000,  -999.00,9,    98006,   2.5058
  06MT20030723,   545,  1,      7,2,20030817, 48.4410, -16.6750, 4664,   2743.6,   3.0757,  34.9525,2,  34.9512,2,    258.3,2,    23.87,2,    19.00,2,     0.01,2,     1.23,2,    0.596,3,    0.305,2,   -999.0,5,   -999.0,5,-999.0000,  -999.00,9,    98007,   2.8498
  06MT20030723,   545,  1,      8,2,20030817, 48.4410, -16.6750, 4664,   2418.2,   3.2610,  34.9368,2,-999.0000,9,    269.0,2,    16.53,2,    17.78,2,     0.00,2,     1.14,2,    1.212,3,    0.610,2,   2164.6,2,   2309.6,2,   7.7394,    25.00,2,    98008,   3.0644
  06MT20030723,   545,  1,      9,2,20030817, 48.4410, -16.6750, 4664,   2153.8,   3.3560,  34.9091,2,-999.0000,9,    277.4,2,    12.34,2,    17.29,2,     0.00,2,     1.09,2,    2.036,3,    1.001,2,   2158.8,2,   2300.2,2,   7.7344,    25.00,2,    98009,   3.1836
  06MT20030723,   545,  1,     10,2,20030817, 48.4410, -16.6750, 4664,   2149.4,   3.3570,  34.9092,2,-999.0000,9,   -999.0,5,  -999.00,5,  -999.00,5,  -999.00,5,  -999.00,5, -999.000,9, -999.000,9,   -999.0,5,   -999.0,5,-999.0000,  -999.00,9,    98010,   3.1850
  06MT20030723,   545,  1,     11,2,20030817, 48.4410, -16.6750, 4664,   1978.6,   3.5050,  34.9092,2,-999.0000,9,    278.0,2,    10.98,2,    17.33,2,     0.00,2,     1.10,2,    2.356,3,    1.172,2,   2159.4,2,   2298.3,2,   7.7315,    25.00,2,    98011,   3.3470
  06MT20030723,   545,  1,     12,2,20030817, 48.4410, -16.6750, 4664,   1828.8,   3.7562,  34.9280,2,-999.0000,9,    272.3,2,    10.75,2,    17.73,2,     0.00,2,     1.12,2,    2.316,3,    1.139,2,   -999.0,5,   -999.0,5,-999.0000,  -999.00,9,    98012,   3.6087
  06MT20030723,   545,  1,     13,2,20030817, 48.4410, -16.6750, 4664,   1672.0,   4.0842,  34.9651,2,-999.0000,9,    264.8,2,    10.76,2,    17.60,2,     0.00,2,     1.13,2,    2.291,3,    1.127,2,   2163.2,2,   2299.7,2,   7.7275,    25.00,2,    98013,   3.9471
  06MT20030723,   545,  1,     14,2,20030817, 48.4410, -16.6750, 4664,   1512.6,   4.6094,  35.0280,2,-999.0000,9,    256.4,2,    10.63,2,    18.19,2,     0.00,2,     1.12,2,    2.233,3,    1.114,2,   -999.0,5,   -999.0,5,-999.0000,  -999.00,9,    98014,   4.4810
  06MT20030723,   545,  1,     15,2,20030817, 48.4410, -16.6750, 4664,   1346.5,   5.7852,  35.1986,2,  35.1980,2,    234.2,2,    10.64,2,    18.40,2,     0.00,2,     1.12,2,    1.944,3,    0.987,2,   2174.6,2,   2318.5,2,   7.7334,    25.00,2,    98015,   5.6603
  06MT20030723,   545,  1,     16,2,20030817, 48.4410, -16.6750, 4664,   1251.1,   6.6394,  35.3125,2,-999.0000,9,    221.8,2,    10.18,2,    18.40,2,     0.00,2,     1.10,2,    1.824,3,    0.927,2,   -999.0,5,   -999.0,5,-999.0000,  -999.00,9,    98016,   6.5161
  06MT20030723,   545,  1,     17,2,20030817, 48.4410, -16.6750, 4664,   1141.8,   7.9198,  35.5116,2,-999.0000,9,    208.1,2,     9.60,2,    18.06,2,     0.00,2,     1.07,2,    1.657,3,    0.852,2,   2185.3,2,   2339.6,2,   7.7511,    25.00,2,    98017,   7.7971
  06MT20030723,   545,  1,     18,2,20030817, 48.4410, -16.6750, 4664,    770.9,   9.6450,  35.5048,2,-999.0000,9,    191.0,2,     7.91,2,    17.44,2,     0.00,2,     1.01,2,    1.930,3,    1.024,2,   2179.6,2,   2335.7,2,   7.7610,    25.00,2,    98018,   9.5543
  06MT20030723,   545,  1,     19,2,20030817, 48.4410, -16.6750, 4664,    491.2,  11.0013,  35.5083,2,  35.5122,2,    249.7,2,     3.60,2,    11.94,2,     0.01,2,     0.65,2,    3.066,3,    1.712,2,   -999.0,5,   -999.0,5,-999.0000,  -999.00,9,    98019,  10.9396
  06MT20030723,   545,  1,     20,2,20030817, 48.4410, -16.6750, 4664,    182.5,  12.2462,  35.6680,2,-999.0000,9,    242.5,2,     2.11,2,     9.11,2,     0.01,2,     0.49,2,    3.115,3,    1.771,2,   2128.8,2,   2334.9,2,   7.8658,    25.00,2,    98020,  12.2219
  06MT20030723,   545,  1,     21,2,20030817, 48.4410, -16.6750, 4664,    105.5,  12.6409,  35.7067,2,-999.0000,9,    241.3,2,     1.82,2,     7.83,2,     0.02,2,     0.41,2,    3.147,3,    1.799,2,   2126.5,2,   2337.9,2,   7.8747,    25.00,2,    98021,  12.6266
  06MT20030723,   545,  1,     22,2,20030817, 48.4410, -16.6750, 4664,     22.1,  18.3947,  35.6365,2,-999.0000,9,    246.6,2,     0.00,2,     0.21,2,     0.05,2,     0.05,2,    2.650,3,    1.558,2,   2062.0,2,   2339.0,2,   7.9987,    25.00,2,    98022,  18.3908
  06MT20030723,   546,  1,      1,2,20030818, 48.2910, -17.7990, 3931,   3993.5,   2.5062,  34.9069,2,  34.9071,2,    241.4,2,    43.69,2,    22.27,2,     0.01,2,     1.44,2, -999.000,9, -999.000,9,   2203.9,2,   2350.1,2,   7.7325,    25.00,2,    99001,   2.1584
  06MT20030723,   546,  1,      2,2,20030818, 48.2910, -17.7990, 3931,   3993.6,   2.5057,  34.9071,2,-999.0000,9,    241.6,2,    43.93,2,    22.00,2,     0.01,2,     1.42,2,    0.060,3,    0.031,2,   -999.0,5,   -999.0,5,-999.0000,  -999.00,9,    99002,   2.1579
  06MT20030723,   546,  1,      3,2,20030818, 48.2910, -17.7990, 3931,   3863.8,   2.5118,  34.9089,2,-999.0000,9,    242.1,2,    43.01,2,    21.89,2,     0.01,2,     1.42,2,    0.069,3,    0.037,2,   2201.2,2,   2347.3,2,   7.7344,    25.00,2,    99003,   2.1787
  06MT20030723,   546,  1,      4,2,20030818, 48.2910, -17.7990, 3931,   3760.9,   2.5164,  34.9102,2,-999.0000,9,    243.6,2,    42.32,2,    21.76,2,     0.01,2,     1.41,2,    0.074,3,    0.033,2,   2201.0,2,   2345.4,2,   7.7334,    25.00,2,    99004,   2.1947
  06MT20030723,   546,  1,      5,2,20030818, 48.2910, -17.7990, 3931,   3556.2,   2.5442,  34.9155,2,-999.0000,9,    243.8,2,    40.39,2,    21.42,2,     0.01,2,     1.40,2,    0.106,3,    0.051,2,   2198.9,2,   2342.9,2,   7.7344,    25.00,2,    99005,   2.2445
  06MT20030723,   546,  1,      6,2,20030818, 48.2910, -17.7990, 3931,   3351.4,   2.6246,  34.9248,2,-999.0000,9,   -999.0,5,  -999.00,5,  -999.00,5,  -999.00,5,  -999.00,5, -999.000,9, -999.000,9,   -999.0,5,   -999.0,5,-999.0000,  -999.00,9,    99006,   2.3451
  06MT20030723,   546,  1,      7,2,20030818, 48.2910, -17.7990, 3931,   3045.4,   2.7883,  34.9393,2,  34.9382,2,    254.2,2,    29.93,2,    19.81,2,     0.01,2,     1.26,2,    0.485,3,    0.252,2,   2184.2,2,   2330.4,2,   7.7364,    25.00,2,    99007,   2.5373
  06MT20030723,   546,  1,      8,2,20030818, 48.2910, -17.7990, 3931,   2742.6,   2.9992,  34.9486,2,-999.0000,9,    258.3,2,    24.08,2,    18.90,2,     0.01,2,     1.20,2,    0.660,3,    0.341,2,   2176.2,2,   2319.6,2,   7.7364,    25.00,2,    99008,   2.7750
  06MT20030723,   546,  1,      9,2,20030818, 48.2910, -17.7990, 3931,   2417.2,   3.1899,  34.9367,2,-999.0000,9,    268.3,2,    16.47,2,    17.60,2,     0.01,2,  -999.00,2,    1.314,3,    0.676,2,   2164.1,2,   -999.0,5,-999.0000,  -999.00,9,    99009,   2.9947
  06MT20030723,   546,  1,     10,2,20030818, 48.2910, -17.7990, 3931,   2417.2,   3.1899,  34.9367,2,-999.0000,9,   -999.0,5,  -999.00,5,  -999.00,5,  -999.00,5,     1.10,5, -999.000,9, -999.000,9,   -999.0,5,   -999.0,5,   7.7374,    25.00,2,    99010,   2.9947
  06MT20030723,   546,  1,     11,2,20030818, 48.2910, -17.7990, 3931,   2109.9,   3.3138,  34.9110,2,-999.0000,9,    278.0,2,    12.09,2,    17.18,2,     0.01,2,     1.06,2,    2.222,3,    1.131,2,   2157.7,2,   2298.8,2,   7.7325,    25.00,2,    99011,   3.1463
  06MT20030723,   546,  1,     12,2,20030818, 48.2910, -17.7990, 3931,   1890.9,   3.4260,  34.9002,2,  35.1437,0,    277.7,2,    11.07,2,    17.24,2,     0.01,2,     1.05,2,    2.559,3,    1.296,2,   2157.8,2,   2301.1,2,   7.7295,    25.00,2,    99012,   3.2774
  06MT20030723,   546,  1,     13,2,20030818, 48.2910, -17.7990, 3931,   1703.3,   3.7837,  34.9332,2,-999.0000,9,    270.3,2,    10.92,2,    17.51,2,     0.01,2,     1.07,2,    2.384,3,    1.214,2,   2159.7,2,   2299.1,2,   7.7275,    25.00,2,    99013,   3.6475
  06MT20030723,   546,  1,     14,2,20030818, 48.2910, -17.7990, 3931,   1702.3,   3.7884,  34.9333,2,-999.0000,9,    270.1,2,    10.92,2,    17.59,2,     0.00,2,     1.05,2,    2.364,3,    1.204,2,   2160.0,2,   -999.0,5,   7.7265,    25.00,2,    99014,   3.6522
  06MT20030723,   546,  1,     15,2,20030818, 48.2910, -17.7990, 3931,   1487.5,   4.3144,  34.9866,2,-999.0000,9,    258.5,2,    10.78,2,    17.84,2,     0.03,2,     1.07,2,    2.340,3,    1.192,2,   2164.9,2,   2301.2,2,   7.7256,    25.00,2,    99015,   4.1918
  06MT20030723,   546,  1,     16,2,20030818, 48.2910, -17.7990, 3931,   1259.3,   5.5701,  35.1486,2,-999.0000,9,    235.9,2,    10.73,2,    18.18,2,     0.00,2,     1.09,2,    2.102,3,    1.077,2,   2172.9,2,   2313.5,2,   7.7295,    25.00,2,    99016,   5.4562
  06MT20030723,   546,  1,     17,2,20030818, 48.2910, -17.7990, 3931,   1159.6,   6.3115,  35.2408,2,-999.0000,9,    224.7,2,    10.50,2,    18.10,2,     0.00,2,     1.09,2,    1.992,3,    1.027,2,   2177.8,2,   2322.2,2,-999.0000,  -999.00,9,    99017,   6.2008
  06MT20030723,   546,  1,     18,2,20030818, 48.2910, -17.7990, 3931,   1057.4,   7.2625,  35.3566,2,-999.0000,9,    213.0,2,    10.30,2,    17.91,2,     0.00,2,     1.06,2,    1.779,3,    0.920,2,   2181.7,2,   2329.2,2,   7.7423,    25.00,2,    99018,   7.1547
  06MT20030723,   546,  1,     19,2,20030818, 48.2910, -17.7990, 3931,    703.3,   9.4660,  35.4435,2,-999.0000,9,    192.3,2,     8.42,2,    17.14,2,     0.03,2,     0.99,2,    2.033,3,    1.088,2,   2174.5,2,   2330.9,2,   7.7541,    25.00,2,    99019,   9.3845
  06MT20030723,   546,  1,     20,2,20030818, 48.2910, -17.7990, 3931,    371.3,  11.0427,  35.5101,2,  35.5040,2,    239.8,2,     3.80,2,    10.74,2,     0.02,2,     0.57,2,    3.083,3,    1.780,2,   2138.8,2,   2327.5,2,   7.7304,    25.00,2,    99020,  10.9962
  06MT20030723,   547,  1,      1,2,20030818, 48.1410, -18.9350, 4052,   4127.9,   2.5093,  34.9058,2,  34.9216,0,    274.7,4,    15.19,4,    17.00,3,     0.01,2,     1.09,3, -999.000,9, -999.000,9,   -999.0,5,   -999.0,5,-999.0000,  -999.00,9,   100001,   2.1459
  06MT20030723,   547,  1,      2,2,20030818, 48.1410, -18.9350, 4052,   4128.5,   2.5098,  34.9058,2,-999.0000,9,    241.2,2,    43.16,2,    22.11,2,     0.01,2,     1.47,2,    0.059,3,    0.028,2,   -999.0,5,   -999.0,5,-999.0000,  -999.00,9,   100002,   2.1463
  06MT20030723,   547,  1,      3,2,20030818, 48.1410, -18.9350, 4052,   4070.1,   2.5072,  34.9066,2,-999.0000,9,    241.2,2,    43.01,2,    22.30,2,     0.01,2,     1.46,2,    0.065,3,    0.025,2,   -999.0,5,   -999.0,5,-999.0000,  -999.00,9,   100003,   2.1506
  06MT20030723,   547,  1,      4,2,20030818, 48.1410, -18.9350, 4052,   3862.5,   2.5180,  34.9095,2,-999.0000,9,    242.1,2,    42.09,2,    22.12,2,     0.01,2,     1.43,2,    0.072,3,    0.034,2,   -999.0,5,   -999.0,5,-999.0000,  -999.00,9,   100004,   2.1848
  06MT20030723,   547,  1,      5,2,20030818, 48.1410, -18.9350, 4052,   3453.8,   2.5711,  34.9192,2,  34.9207,2,    245.1,2,    38.54,2,    21.46,2,     0.01,2,     1.40,2,    0.177,3,    0.088,2,   2196.6,2,   2341.9,2,   7.7394,    25.00,2,   100005,   2.2818
  06MT20030723,   547,  1,      6,2,20030818, 48.1410, -18.9350, 4052,   3045.1,   2.7773,  34.9385,2,-999.0000,9,    258.5,2,    24.10,2,    18.95,2,     0.00,2,     1.21,2,    0.700,3,    0.341,2,   -999.0,5,   -999.0,5,-999.0000,  -999.00,9,   100006,   2.5266
  06MT20030723,   547,  1,      7,2,20030818, 48.1410, -18.9350, 4052,   2821.3,   2.9182,  34.9445,2,-999.0000,9,    258.8,2,    23.87,2,    18.74,2,     0.00,2,     1.22,2,    0.694,3,    0.339,2,   -999.0,5,   -999.0,5,-999.0000,  -999.00,9,   100007,   2.6876
  06MT20030723,   547,  1,      8,2,20030818, 48.1410, -18.9350, 4052,   2422.1,   3.1399,  34.9253,2,  34.9266,2,    274.5,2,    13.54,2,    16.93,2,     0.00,2,     1.07,2,    1.843,3,    0.894,2,   -999.0,5,   -999.0,5,-999.0000,  -999.00,9,   100008,   2.9451
  06MT20030723,   547,  1,      9,2,20030818, 48.1410, -18.9350, 4052,   2000.1,   3.2335,  34.8895,2,-999.0000,9,    283.0,2,    10.78,2,    16.83,2,     0.00,2,     1.07,2,    2.797,3,    1.362,2,   -999.0,5,   -999.0,5,-999.0000,  -999.00,9,   100009,   3.0776
  06MT20030723,   547,  1,     10,2,20030818, 48.1410, -18.9350, 4052,   1999.8,   3.2340,  34.8896,2,-999.0000,9,    283.0,2,    10.74,2,    16.85,2,     0.00,2,     1.06,2, -999.000,9, -999.000,9,   -999.0,5,   -999.0,5,-999.0000,  -999.00,9,   100010,   3.0781
  06MT20030723,   547,  1,     11,2,20030818, 48.1410, -18.9350, 4052,   1797.1,   3.3806,  34.8926,2,-999.0000,9,    280.7,2,    10.51,2,    17.10,2,     0.00,2,     1.08,2,    2.818,3,    1.369,2,   -999.0,5,   -999.0,5,-999.0000,  -999.00,9,   100011,   3.2412
  06MT20030723,   547,  1,     12,2,20030818, 48.1410, -18.9350, 4052,   1609.6,   3.6030,  34.9068,2,-999.0000,9,    275.4,2,    10.41,2,    17.46,2,     0.00,2,     1.09,2,    2.791,3,    1.361,2,   -999.0,5,   -999.0,5,-999.0000,  -999.00,9,   100012,   3.4777
  06MT20030723,   547,  1,     13,2,20030818, 48.1410, -18.9350, 4052,   1460.5,   3.8956,  34.9326,2,-999.0000,9,    268.9,2,    10.29,2,    17.75,2,     0.00,2,     1.10,2,    2.708,3,    1.321,2,   -999.0,5,   -999.0,5,-999.0000,  -999.00,9,   100013,   3.7802
  06MT20030723,   547,  1,     14,2,20030818, 48.1410, -18.9350, 4052,   1292.7,   4.2337,  34.9589,2,-999.0000,9,    261.4,2,    10.22,2,    17.85,2,     0.00,2,     1.12,2,    2.750,3,    1.354,2,   -999.0,5,   -999.0,5,-999.0000,  -999.00,9,   100014,   4.1298
  06MT20030723,   547,  1,     15,2,20030818, 48.1410, -18.9350, 4052,   1211.1,   4.6307,  35.0011,2,-999.0000,9,    253.4,2,    10.09,2,    18.05,2,     0.00,2,     1.11,2,    2.768,3,    1.373,2,   -999.0,5,   -999.0,5,-999.0000,  -999.00,9,   100015,   4.5304
  06MT20030723,   547,  1,     16,2,20030818, 48.1410, -18.9350, 4052,   1129.4,   5.0873,  35.0477,2,-999.0000,9,    245.5,2,    10.19,2,    18.27,2,     0.00,2,     1.12,2,    2.741,3,    1.368,2,   -999.0,5,   -999.0,5,-999.0000,  -999.00,9,   100016,   4.9904
  06MT20030723,   547,  1,     17,2,20030818, 48.1410, -18.9350, 4052,    961.7,   6.2226,  35.1716,2,-999.0000,9,    224.7,2,    10.11,2,    18.69,2,     0.00,2,     1.14,2,    2.295,3,    1.146,2,   2176.5,2,   2315.7,2,   7.7255,    25.00,2,   100017,   6.1329
  06MT20030723,   547,  1,     18,2,20030818, 48.1410, -18.9350, 4052,    711.4,   7.5176,  35.1233,2,  35.1212,2,    203.4,2,     9.51,2,    19.05,2,     0.00,2,     1.16,2,    2.373,3,    1.228,2,   -999.0,5,   -999.0,5,-999.0000,  -999.00,9,   100018,   7.4456
  06MT20030723,   547,  1,     19,2,20030818, 48.1410, -18.9350, 4052,    461.5,  10.3839,  35.3954,2,-999.0000,9,    236.2,2,     4.59,2,    12.87,2,     0.01,2,     0.72,2,    3.091,3,    1.705,2,   -999.0,5,   -999.0,5,-999.0000,  -999.00,9,   100019,  10.3281
  06MT20030723,   547,  1,     20,2,20030818, 48.1410, -18.9350, 4052,    184.3,  11.6616,  35.5634,2,-999.0000,9,    242.0,2,     2.89,2,    10.40,2,     0.01,2,     0.55,2,    3.168,3,    1.777,2,   -999.0,5,   2331.3,2,   7.8539,    25.00,2,   100020,  11.6379
  06MT20030723,   547,  1,     21,2,20030818, 48.1410, -18.9350, 4052,    101.6,  12.4549,  35.6691,2,-999.0000,9,    240.8,2,     2.36,2,     8.94,2,     0.02,2,     0.47,2,    3.112,3,    1.745,2,   -999.0,5,   -999.0,5,-999.0000,  -999.00,9,   100021,  12.4413
  06MT20030723,   547,  1,     22,2,20030818, 48.1410, -18.9350, 4052,     23.1,  17.1476,  35.5052,2,-999.0000,9,    247.5,2,     0.00,2,     0.03,2,     0.02,2,     0.04,2,    2.770,3,    1.602,2,   2056.4,2,   2334.7,2,   8.0017,    25.00,2,   100022,  17.1438