BOTTLE,20090513PRINUNIVRMK
EXPOCODE,STNNBR,CASTNO,BTLNBR,BTLNBR_FLAG_W,DATE,LATITUDE,LONGITUDE,DEPTH,CTDPRS,CTDTMP,CTDSAL,CTDSAL_FLAG_W,SALNTY,SALNTY_FLAG_W,OXYGEN,OXYGEN_FLAG_W,SILCAT,SILCAT_FLAG_W,NITRAT,NITRAT_FLAG_W,NITRIT,NITRIT_FLAG_W,PHSPHT,PHSPHT_FLAG_W,CFC-11,CFC-11_FLAG_W,CFC-12,CFC-12_FLAG_W,TCARBN,TCARBN_FLAG_W,ALKALI,ALKALI_FLAG_W,PH_SWS,PH_TEMP,PH_SWS_FLAG_W,ID,THETA
,,,,,,,,METERS,DBARS,ITS-90,PSS-78,,PSS-78,,UMOL/KG,,UMOL/KG,,UMOL/KG,,UMOL/KG,,UMOL/KG,,PMOL/KG,,PMOL/KG,,UMOL/KG,,UMOL/KG,,,DEGC,,,DEGC
  06MT20030723,   523,  1,      1,2,20030811, 55.9010, -26.3150, 3186,   3210.4,   2.7737,  34.9753,2,  34.9781,2,    274.6,2,  -999.00,5,  -999.00,5,  -999.00,5,  -999.00,5, -999.000,9, -999.000,9,   -999.0,5,   -999.0,5,-999.0000,  -999.00,9,    77001,   2.5055
  06MT20030723,   523,  1,      2,2,20030811, 55.9010, -26.3150, 3186,   3211.0,   2.7738,  34.9754,2,-999.0000,9,   -999.0,5,  -999.00,5,  -999.00,5,  -999.00,5,  -999.00,5,    2.633,3,    1.326,2,   -999.0,5,   -999.0,5,-999.0000,  -999.00,9,    77002,   2.5055
  06MT20030723,   523,  1,      3,2,20030811, 55.9010, -26.3150, 3186,   3147.9,   2.7638,  34.9629,2,-999.0000,9,   -999.0,5,  -999.00,5,  -999.00,5,  -999.00,5,  -999.00,5,    2.259,3,    1.140,2,   -999.0,5,   -999.0,5,-999.0000,  -999.00,9,    77003,   2.5025
  06MT20030723,   523,  1,      4,2,20030811, 55.9010, -26.3150, 3186,   3075.3,   2.7692,  34.9580,2,-999.0000,9,   -999.0,5,  -999.00,5,  -999.00,5,  -999.00,5,  -999.00,5,    1.855,3,    0.936,2,   -999.0,5,   -999.0,5,-999.0000,  -999.00,9,    77004,   2.5154
  06MT20030723,   523,  1,      5,2,20030811, 55.9010, -26.3150, 3186,   2662.9,   3.0149,  34.9521,2,-999.0000,9,   -999.0,5,  -999.00,5,  -999.00,5,  -999.00,5,  -999.00,5,    2.033,3,    1.021,2,   -999.0,5,   -999.0,5,-999.0000,  -999.00,9,    77005,   2.7984
  06MT20030723,   523,  1,      6,2,20030811, 55.9010, -26.3150, 3186,   2538.8,   3.0597,  34.9373,2,-999.0000,9,   -999.0,5,  -999.00,5,  -999.00,5,  -999.00,5,  -999.00,5,    2.044,3,    1.010,2,   -999.0,5,   -999.0,5,-999.0000,  -999.00,9,    77006,   2.8548
  06MT20030723,   523,  1,      7,2,20030811, 55.9010, -26.3150, 3186,   2277.5,   3.1481,  34.9128,2,  34.9173,2,   -999.0,5,  -999.00,5,  -999.00,5,  -999.00,5,  -999.00,5,    2.430,3,    1.183,2,   -999.0,5,   -999.0,5,-999.0000,  -999.00,9,    77007,   2.9672
  06MT20030723,   523,  1,      8,2,20030811, 55.9010, -26.3150, 3186,   2023.1,   3.1888,  34.8921,2,-999.0000,9,    285.0,2,  -999.00,5,  -999.00,5,  -999.00,5,  -999.00,5,    2.904,3,    1.403,2,   -999.0,5,   -999.0,5,-999.0000,  -999.00,9,    77008,   3.0314
  06MT20030723,   523,  1,      9,2,20030811, 55.9010, -26.3150, 3186,   1821.5,   3.2550,  34.8872,2,-999.0000,9,   -999.0,5,  -999.00,5,  -999.00,5,  -999.00,5,  -999.00,5,    3.078,3,    1.489,2,   -999.0,5,   -999.0,5,-999.0000,  -999.00,9,    77009,   3.1151
  06MT20030723,   523,  1,     10,2,20030811, 55.9010, -26.3150, 3186,   1614.9,   3.3889,  34.8924,2,-999.0000,9,   -999.0,5,  -999.00,5,  -999.00,5,  -999.00,5,  -999.00,5, -999.000,9, -999.000,9,   -999.0,5,   -999.0,5,-999.0000,  -999.00,9,    77010,   3.2657
  06MT20030723,   523,  1,     11,2,20030811, 55.9010, -26.3150, 3186,   1349.5,   3.6196,  34.9032,2,  34.9026,2,   -999.0,5,  -999.00,5,  -999.00,5,  -999.00,5,  -999.00,5,    3.053,3,    1.483,2,   -999.0,5,   -999.0,5,-999.0000,  -999.00,9,    77011,   3.5170
  06MT20030723,   523,  1,     12,2,20030811, 55.9010, -26.3150, 3186,   1210.0,   3.7355,  34.9073,2,-999.0000,9,   -999.0,5,  -999.00,5,  -999.00,5,  -999.00,5,  -999.00,5,    3.182,3,    1.560,2,   -999.0,5,   -999.0,5,-999.0000,  -999.00,9,    77012,   3.6437
  06MT20030723,   523,  1,     13,2,20030811, 55.9010, -26.3150, 3186,   1105.5,   3.8607,  34.9130,2,-999.0000,9,   -999.0,5,  -999.00,5,  -999.00,5,  -999.00,5,  -999.00,5,    3.205,3,    1.579,2,   -999.0,5,   -999.0,5,-999.0000,  -999.00,9,    77013,   3.7766
  06MT20030723,   523,  1,     14,2,20030811, 55.9010, -26.3150, 3186,    988.1,   4.0242,  34.9204,2,-999.0000,9,    266.6,2,  -999.00,5,  -999.00,5,  -999.00,5,  -999.00,5,    3.296,3,    1.638,2,   -999.0,5,   -999.0,5,-999.0000,  -999.00,9,    77014,   3.9486
  06MT20030723,   523,  1,     15,2,20030811, 55.9010, -26.3150, 3186,    826.7,   4.3755,  34.9422,2,-999.0000,9,   -999.0,5,  -999.00,5,  -999.00,5,  -999.00,5,  -999.00,5,    3.286,3,    1.647,2,   -999.0,5,   -999.0,5,-999.0000,  -999.00,9,    77015,   4.3110
  06MT20030723,   523,  1,     16,2,20030811, 55.9010, -26.3150, 3186,    753.5,   4.7584,  34.9718,2,-999.0000,9,   -999.0,5,  -999.00,5,  -999.00,5,  -999.00,5,  -999.00,5,    3.108,3,    1.557,2,   -999.0,5,   -999.0,5,-999.0000,  -999.00,9,    77016,   4.6978
  06MT20030723,   523,  1,     17,2,20030811, 55.9010, -26.3150, 3186,    683.3,   5.0182,  34.9871,2,-999.0000,9,    243.4,2,  -999.00,5,  -999.00,5,  -999.00,5,  -999.00,5,    2.937,3,    1.479,2,   -999.0,5,   -999.0,5,-999.0000,  -999.00,9,    77017,   4.9622
  06MT20030723,   523,  1,     18,2,20030811, 55.9010, -26.3150, 3186,    598.9,   5.6441,  35.0375,2,-999.0000,9,   -999.0,5,  -999.00,5,  -999.00,5,  -999.00,5,  -999.00,5,    2.673,3,    1.355,2,   -999.0,5,   -999.0,5,-999.0000,  -999.00,9,    77018,   5.5925
  06MT20030723,   523,  1,     19,2,20030811, 55.9010, -26.3150, 3186,    503.1,   6.1318,  35.0229,2,-999.0000,9,   -999.0,5,  -999.00,5,  -999.00,5,  -999.00,5,  -999.00,5,    2.591,3,    1.364,2,   -999.0,5,   -999.0,5,-999.0000,  -999.00,9,    77019,   6.0869
  06MT20030723,   523,  1,     20,2,20030811, 55.9010, -26.3150, 3186,    405.3,   6.6011,  35.0020,2,-999.0000,9,   -999.0,5,  -999.00,5,  -999.00,5,  -999.00,5,  -999.00,5,    2.807,3,    1.457,2,   -999.0,5,   -999.0,5,-999.0000,  -999.00,9,    77020,   6.5638
  06MT20030723,   523,  1,     21,2,20030811, 55.9010, -26.3150, 3186,    145.1,   8.4096,  35.0478,2,-999.0000,9,   -999.0,5,  -999.00,5,  -999.00,5,  -999.00,5,  -999.00,5,    3.774,3,    2.062,2,   -999.0,5,   -999.0,5,-999.0000,  -999.00,9,    77021,   8.3945
  06MT20030723,   523,  1,     22,2,20030811, 55.9010, -26.3150, 3186,     20.5,  12.6628,  35.0582,2,  35.0877,2,    269.3,2,  -999.00,5,  -999.00,5,  -999.00,5,  -999.00,5,    3.312,3,    1.893,2,   -999.0,5,   -999.0,5,-999.0000,  -999.00,9,    77022,  12.6600
  06MT20030723,   524,  1,      1,2,20030811, 56.0910, -24.9900, 3335,   3367.8,   2.7765,  34.9772,2,  34.9752,2,    278.2,2,    13.20,2,    15.79,2,     0.01,2,     1.02,2, -999.000,9, -999.000,9,   2167.4,2,   2306.5,2,   7.7187,    25.00,2,    78001,   2.4913
  06MT20030723,   524,  1,      2,2,20030811, 56.0910, -24.9900, 3335,   3367.6,   2.7765,  34.9772,2,-999.0000,9,    280.4,2,    13.25,2,    15.83,2,     0.01,2,     1.03,2, -999.000,9, -999.000,9,   -999.0,5,   -999.0,5,-999.0000,  -999.00,9,    78002,   2.4913
  06MT20030723,   524,  1,      3,2,20030811, 56.0910, -24.9900, 3335,   3250.4,   2.7960,  34.9721,2,-999.0000,9,    279.4,2,    14.42,2,    16.11,2,     0.01,2,     1.04,2,    2.591,3,    1.289,2,   2167.4,2,   2305.1,2,   7.7206,    25.00,2,    78003,   2.5230
  06MT20030723,   524,  1,      4,2,20030811, 56.0910, -24.9900, 3335,   3149.0,   2.8268,  34.9659,2,-999.0000,9,    273.7,2,    15.88,2,    16.40,2,     0.00,2,     1.06,2, -999.000,9, -999.000,9,   2167.2,2,   2308.7,2,   7.7216,    25.00,2,    78004,   2.5640
  06MT20030723,   524,  1,      5,2,20030811, 56.0910, -24.9900, 3335,   2948.3,   2.9757,  34.9666,2,-999.0000,9,    274.9,2,    13.71,2,    16.27,2,     0.00,2,     1.05,2,    2.405,3,    1.195,2,   2163.8,2,   2305.8,2,   7.7256,    25.00,2,    78005,   2.7307
  06MT20030723,   524,  1,      6,2,20030811, 56.0910, -24.9900, 3335,   2636.9,   3.0828,  34.9409,2,-999.0000,9,    275.3,2,    13.56,2,    16.62,2,     0.00,2,     1.07,2,    2.098,3,    1.030,2,   2161.8,2,   2303.4,2,   7.7305,    25.00,2,    78006,   2.8677
  06MT20030723,   524,  1,      7,2,20030811, 56.0910, -24.9900, 3335,   2328.5,   3.1453,  34.9141,2,-999.0000,9,    279.3,2,    11.95,2,    16.70,2,     0.00,2,     1.08,2,    2.426,3,    1.181,2,   2158.0,2,   2299.6,2,   7.7295,    25.00,2,    78007,   2.9596
  06MT20030723,   524,  1,      8,2,20030811, 56.0910, -24.9900, 3335,   2127.9,   3.1669,  34.8996,2,-999.0000,9,    284.7,2,    11.05,2,    16.73,2,     0.00,2,     1.07,2,    2.782,3,    1.345,2,   2156.4,2,   2297.4,2,   7.7295,    25.00,2,    78008,   3.0000
  06MT20030723,   524,  1,      9,2,20030811, 56.0910, -24.9900, 3335,   1920.1,   3.2103,  34.8890,2,  34.8890,2,    283.8,2,    10.60,2,    16.86,2,     0.00,2,     1.08,2,    3.020,3,    1.457,2,   -999.0,5,   2296.3,2,   7.7266,    25.00,2,    78009,   3.0621
  06MT20030723,   524,  1,     10,2,20030811, 56.0910, -24.9900, 3335,   1717.4,   3.3131,  34.8887,2,-999.0000,9,    282.1,2,    10.47,2,    17.03,2,     0.00,2,     1.08,2,    3.091,3,    1.492,2,   2156.5,2,   2298.7,2,   7.7226,    25.00,2,    78010,   3.1818
  06MT20030723,   524,  1,     11,2,20030811, 56.0910, -24.9900, 3335,   1509.9,   3.4685,  34.8977,2,-999.0000,9,    278.0,2,    10.31,2,    17.17,2,     0.00,2,     1.10,2,    3.052,3,    1.481,2,   2156.5,2,   2298.8,2,   7.7216,    25.00,2,    78011,   3.3536
  06MT20030723,   524,  1,     12,2,20030811, 56.0910, -24.9900, 3335,   1309.4,   3.7174,  34.9134,2,-999.0000,9,    271.6,2,    10.60,2,    17.42,2,     0.00,2,     1.12,2,    2.973,3,    1.456,2,   2157.4,2,   2297.9,2,   7.7197,    25.00,2,    78012,   3.6172
  06MT20030723,   524,  1,     13,2,20030811, 56.0910, -24.9900, 3335,   1110.8,   3.9771,  34.9258,2,  34.9242,2,    266.7,2,    10.30,2,    17.56,2,     0.00,2,     1.13,2,    3.109,3,    1.540,2,   2161.1,2,   2301.0,2,   7.7157,    25.00,2,    78013,   3.8915
  06MT20030723,   524,  1,     14,2,20030811, 56.0910, -24.9900, 3335,    987.7,   4.0994,  34.9253,2,-999.0000,9,   -999.0,5,    10.00,2,    17.49,2,     0.01,2,     1.15,2, -999.000,9, -999.000,9,   2162.7,2,   -999.0,5,-999.0000,  -999.00,9,    78014,   4.0233
  06MT20030723,   524,  1,     15,2,20030811, 56.0910, -24.9900, 3335,    858.2,   4.5765,  34.9702,2,-999.0000,9,    253.1,2,    10.09,2,    17.95,2,     0.00,2,     1.15,2,    3.023,3,    1.528,2,   2166.6,2,   2301.2,2,   7.7098,    25.00,2,    78015,   4.5080
  06MT20030723,   524,  1,     16,2,20030811, 56.0910, -24.9900, 3335,    760.3,   4.9511,  34.9972,2,-999.0000,9,    244.9,2,    10.04,2,    18.14,2,     0.00,2,     1.16,2,    2.929,3,    1.480,2,   2169.5,2,   2303.1,2,   7.7068,    25.00,2,    78016,   4.8887
  06MT20030723,   524,  1,     17,2,20030811, 56.0910, -24.9900, 3335,    631.2,   5.8535,  35.0663,2,-999.0000,9,    230.5,2,     9.63,2,    18.12,2,     0.01,2,     1.13,2,    2.704,3,    1.386,2,   2174.5,2,   2307.6,2,   7.7078,    25.00,2,    78017,   5.7979
  06MT20030723,   524,  1,     18,2,20030811, 56.0910, -24.9900, 3335,    410.5,   7.2532,  34.9811,2,-999.0000,9,    226.1,2,     8.58,2,    17.58,2,     0.01,2,     1.11,2,    2.971,3,    1.600,2,   2164.7,2,   2307.3,2,   7.7216,    25.00,2,    78018,   7.2134
  06MT20030723,   524,  1,     19,2,20030811, 56.0910, -24.9900, 3335,    201.9,   8.3306,  35.0373,2,  35.0338,2,    257.8,2,     5.65,2,    13.65,2,     0.01,2,     0.85,2,    3.691,3,    2.026,2,   2141.4,2,   2304.4,2,   7.7778,    25.00,2,    78019,   8.3096
  06MT20030723,   524,  1,     20,2,20030811, 56.0910, -24.9900, 3335,     97.9,   9.4427,  35.1724,2,-999.0000,9,    257.5,2,     4.07,2,    12.11,2,     0.01,2,     0.74,2,    3.607,3,    2.020,2,   2135.8,2,   2316.4,2,   7.8065,    25.00,2,    78020,   9.4318
  06MT20030723,   524,  1,     21,2,20030811, 56.0910, -24.9900, 3335,     83.0,   9.6308,  35.1932,2,-999.0000,9,    259.5,2,     2.78,2,    11.01,2,     0.02,2,     0.65,2,    3.694,3,    2.070,2,   2129.6,2,   2310.6,2,   7.8183,    25.00,2,    78021,   9.6214
  06MT20030723,   524,  1,     22,2,20030811, 56.0910, -24.9900, 3335,     25.3,  12.7062,  35.1291,2,-999.0000,9,    267.1,2,     0.16,2,     2.22,2,     0.10,2,     0.15,2,    3.256,3,    1.862,2,   2071.2,2,   2308.7,2,   7.9382,    25.00,2,    78022,  12.7028
  06MT20030723,   525,  1,      1,2,20030811, 56.2920, -23.6310, 2731,   2746.6,   2.7748,  34.9545,2,-999.0000,9,    266.4,2,    20.59,2,    17.16,2,     0.01,2,     1.14,2, -999.000,9, -999.000,9,   -999.0,5,   -999.0,5,-999.0000,  -999.00,9,    79001,   2.5546
  06MT20030723,   525,  1,      2,2,20030811, 56.2920, -23.6310, 2731,   2747.5,   2.7750,  34.9546,2,-999.0000,9,    266.8,2,    20.46,2,    17.42,2,     0.01,2,     1.14,2,    1.870,3,    0.934,2,   -999.0,5,   -999.0,5,-999.0000,  -999.00,9,    79002,   2.5547
  06MT20030723,   525,  1,      3,2,20030811, 56.2920, -23.6310, 2731,   2636.3,   2.9201,  34.9569,2,-999.0000,9,    272.1,2,    16.39,2,    16.88,2,     0.00,2,     1.10,2,    2.021,3,    1.013,2,   -999.0,5,   -999.0,5,-999.0000,  -999.00,9,    79003,   2.7081
  06MT20030723,   525,  1,      4,2,20030811, 56.2920, -23.6310, 2731,   2534.5,   2.9693,  34.9484,2,-999.0000,9,    271.5,2,    15.78,2,    16.93,2,     0.00,2,     1.10,2,    1.942,3,    0.961,2,   -999.0,5,   -999.0,5,-999.0000,  -999.00,9,    79004,   2.7665
  06MT20030723,   525,  1,      5,2,20030811, 56.2920, -23.6310, 2731,   2431.3,   3.0755,  34.9346,2,-999.0000,9,    274.2,2,    14.57,2,    16.85,2,     0.01,2,     1.09,2,    2.059,3,    1.015,2,   -999.0,5,   -999.0,5,-999.0000,  -999.00,9,    79005,   2.8809
  06MT20030723,   525,  1,      6,2,20030811, 56.2920, -23.6310, 2731,   2331.8,   3.1856,  34.9146,2,-999.0000,9,    277.2,2,    12.66,2,    16.86,2,     0.00,2,     1.10,2,    2.336,3,    1.151,2,   -999.0,5,   -999.0,5,-999.0000,  -999.00,9,    79006,   2.9989
  06MT20030723,   525,  1,      7,2,20030811, 56.2920, -23.6310, 2731,   2136.0,   3.2395,  34.8973,2,-999.0000,9,    283.4,2,    11.35,2,    17.00,2,     0.00,2,     1.09,2,    2.802,3,    1.363,2,   -999.0,5,   -999.0,5,-999.0000,  -999.00,9,    79007,   3.0707
  06MT20030723,   525,  1,      8,2,20030811, 56.2920, -23.6310, 2731,   1924.1,   3.3392,  34.8902,2,-999.0000,9,    281.8,2,    10.59,2,    17.05,2,     0.00,2,     1.10,2,    3.081,3,    1.485,2,   -999.0,5,   -999.0,5,-999.0000,  -999.00,9,    79008,   3.1888
  06MT20030723,   525,  1,      9,2,20030811, 56.2920, -23.6310, 2731,   1722.9,   3.5020,  34.8990,2,-999.0000,9,    277.4,2,    10.74,2,    17.31,2,     0.00,2,     1.12,2,    2.972,3,    1.446,2,   -999.0,5,   -999.0,5,-999.0000,  -999.00,9,    79009,   3.3677
  06MT20030723,   525,  1,     10,2,20030811, 56.2920, -23.6310, 2731,   1721.7,   3.5034,  34.8990,2,-999.0000,9,   -999.0,5,  -999.00,5,  -999.00,5,  -999.00,5,  -999.00,5, -999.000,9, -999.000,9,   -999.0,5,   -999.0,5,-999.0000,  -999.00,9,    79010,   3.3692
  06MT20030723,   525,  1,     11,2,20030811, 56.2920, -23.6310, 2731,   1531.3,   3.6619,  34.9042,2,  34.9067,2,    274.4,2,    10.54,2,    17.38,2,     0.00,2,     1.12,2, -999.000,9, -999.000,9,   -999.0,5,   -999.0,5,-999.0000,  -999.00,9,    79011,   3.5429
  06MT20030723,   525,  1,     12,2,20030811, 56.2920, -23.6310, 2731,   1503.4,   3.6824,  34.9046,2,-999.0000,9,    274.2,2,    10.11,2,    17.37,2,     0.00,2,     1.13,2,    3.138,3,    1.542,2,   -999.0,5,   -999.0,5,-999.0000,  -999.00,9,    79012,   3.5656
  06MT20030723,   525,  1,     13,2,20030811, 56.2920, -23.6310, 2731,   1124.5,   4.2552,  34.9348,2,-999.0000,9,    262.2,2,    10.17,2,    17.75,2,     0.00,2,     1.14,2,    3.296,3,    1.656,2,   -999.0,5,   -999.0,5,-999.0000,  -999.00,9,    79013,   4.1661
  06MT20030723,   525,  1,     14,2,20030811, 56.2920, -23.6310, 2731,   1004.8,   4.6438,  34.9617,2,-999.0000,9,   -999.0,5,    10.31,2,    18.06,2,     0.00,2,     1.16,2, -999.000,9, -999.000,9,   -999.0,5,   -999.0,5,-999.0000,  -999.00,9,    79014,   4.5620
  06MT20030723,   525,  1,     15,2,20030811, 56.2920, -23.6310, 2731,    923.2,   5.0055,  34.9939,2,  34.9950,2,    243.0,2,    10.14,2,    18.35,2,     0.00,2,     1.18,2,    2.961,3,    1.499,2,   -999.0,5,   -999.0,5,-999.0000,  -999.00,9,    79015,   4.9283
  06MT20030723,   525,  1,     16,2,20030811, 56.2920, -23.6310, 2731,    818.9,   5.7054,  35.0447,2,-999.0000,9,    230.3,2,    10.33,2,    18.72,2,     0.00,2,     1.20,2,    2.753,3,    1.405,2,   -999.0,5,   -999.0,5,-999.0000,  -999.00,9,    79016,   5.6331
  06MT20030723,   525,  1,     17,2,20030811, 56.2920, -23.6310, 2731,    711.1,   6.7902,  35.1379,2,-999.0000,9,    217.0,2,     9.99,2,    18.55,2,     0.00,2,     1.19,2,    2.473,3,    1.272,2,   -999.0,5,   -999.0,5,-999.0000,  -999.00,9,    79017,   6.7221
  06MT20030723,   525,  1,     18,2,20030811, 56.2920, -23.6310, 2731,    494.5,   7.8636,  35.1125,2,-999.0000,9,    210.8,2,     6.25,2,    14.31,2,     0.01,2,     0.93,2,    3.556,3,    1.926,2,   -999.0,5,   -999.0,5,-999.0000,  -999.00,9,    79018,   7.8130
  06MT20030723,   525,  1,     19,2,20030811, 56.2920, -23.6310, 2731,    295.4,   9.0386,  35.2131,2,-999.0000,9,    232.2,2,     4.19,2,    12.32,2,     0.01,2,     0.75,2,    3.746,3,    2.053,2,   -999.0,5,   -999.0,5,-999.0000,  -999.00,9,    79019,   9.0061
  06MT20030723,   525,  1,     20,2,20030811, 56.2920, -23.6310, 2731,    195.0,   9.5745,  35.2552,2,-999.0000,9,    254.1,2,     4.11,2,    12.38,2,     0.03,2,     0.75,2,    3.554,3,    1.957,2,   -999.0,5,   -999.0,5,-999.0000,  -999.00,9,    79020,   9.5524
  06MT20030723,   525,  1,     21,2,20030811, 56.2920, -23.6310, 2731,     96.3,  10.3629,  35.3336,2,-999.0000,9,    254.1,2,     2.50,2,    10.75,2,     0.08,2,     0.65,2,    3.503,3,    1.936,2,   -999.0,5,   -999.0,5,-999.0000,  -999.00,9,    79021,  10.3515
  06MT20030723,   525,  1,     22,2,20030811, 56.2920, -23.6310, 2731,     13.6,  13.1751,  35.2072,2,  35.2039,2,    263.1,2,     0.00,2,     2.91,2,     0.11,2,     0.20,2,    3.278,3,    1.838,2,   -999.0,5,   -999.0,5,-999.0000,  -999.00,9,    79022,  13.1732