BOTTLE,20090513PRINUNIVRMK
EXPOCODE,STNNBR,CASTNO,BTLNBR,BTLNBR_FLAG_W,DATE,LATITUDE,LONGITUDE,DEPTH,CTDPRS,CTDTMP,CTDSAL,CTDSAL_FLAG_W,SALNTY,SALNTY_FLAG_W,OXYGEN,OXYGEN_FLAG_W,SILCAT,SILCAT_FLAG_W,NITRAT,NITRAT_FLAG_W,NITRIT,NITRIT_FLAG_W,PHSPHT,PHSPHT_FLAG_W,CFC-11,CFC-11_FLAG_W,CFC-12,CFC-12_FLAG_W,TCARBN,TCARBN_FLAG_W,ALKALI,ALKALI_FLAG_W,PH_SWS,PH_TEMP,PH_SWS_FLAG_W,ID,THETA
,,,,,,,,METERS,DBARS,ITS-90,PSS-78,,PSS-78,,UMOL/KG,,UMOL/KG,,UMOL/KG,,UMOL/KG,,UMOL/KG,,PMOL/KG,,PMOL/KG,,UMOL/KG,,UMOL/KG,,,DEGC,,,DEGC
  06MT20030723,   491,  1,      1,2,20030803, 53.3100, -41.2990, 3441,   3470.9,   2.3570,  34.9026,2,-999.0000,9,    281.0,2,  -999.00,5,  -999.00,5,  -999.00,5,  -999.00,5, -999.000,9, -999.000,9,   -999.0,5,   -999.0,5,-999.0000,  -999.00,9,    42001,   2.0713
  06MT20030723,   491,  1,      2,2,20030803, 53.3100, -41.2990, 3441,   3470.6,   2.3568,  34.9026,2,-999.0000,9,   -999.0,5,  -999.00,5,  -999.00,5,  -999.00,5,  -999.00,5,    2.136,3,    1.084,2,   -999.0,5,   -999.0,5,-999.0000,  -999.00,9,    42002,   2.0711
  06MT20030723,   491,  1,      3,2,20030803, 53.3100, -41.2990, 3441,   3454.4,   2.3586,  34.9029,2,-999.0000,9,   -999.0,5,  -999.00,5,  -999.00,5,  -999.00,5,  -999.00,5,    2.110,3,    1.072,2,   -999.0,5,   -999.0,5,-999.0000,  -999.00,9,    42003,   2.0746
  06MT20030723,   491,  1,      4,2,20030803, 53.3100, -41.2990, 3441,   3146.4,   2.6084,  34.9225,2,  34.9193,2,   -999.0,5,  -999.00,5,  -999.00,5,  -999.00,5,  -999.00,5,    1.908,3,    0.965,2,   -999.0,5,   -999.0,5,-999.0000,  -999.00,9,    42004,   2.3510
  06MT20030723,   491,  1,      5,2,20030803, 53.3100, -41.2990, 3441,   2837.2,   2.7232,  34.9163,2,-999.0000,9,   -999.0,5,  -999.00,5,  -999.00,5,  -999.00,5,  -999.00,5,    2.057,3,    1.048,2,   -999.0,5,   -999.0,5,-999.0000,  -999.00,9,    42005,   2.4951
  06MT20030723,   491,  1,      6,2,20030803, 53.3100, -41.2990, 3441,   2530.8,   2.8865,  34.9170,2,-999.0000,9,   -999.0,5,  -999.00,5,  -999.00,5,  -999.00,5,  -999.00,5,    2.185,3,    1.112,2,   -999.0,5,   -999.0,5,-999.0000,  -999.00,9,    42006,   2.6857
  06MT20030723,   491,  1,      7,2,20030803, 53.3100, -41.2990, 3441,   2227.5,   3.0441,  34.9085,2,-999.0000,9,    281.0,2,  -999.00,5,  -999.00,5,  -999.00,5,  -999.00,5,    2.456,3,    1.232,2,   -999.0,5,   -999.0,5,-999.0000,  -999.00,9,    42007,   2.8698
  06MT20030723,   491,  1,      8,2,20030803, 53.3100, -41.2990, 3441,   2034.6,   3.0883,  34.8977,2,  34.8965,2,   -999.0,5,  -999.00,5,  -999.00,5,  -999.00,5,  -999.00,5,    2.718,3,    1.378,2,   -999.0,5,   -999.0,5,-999.0000,  -999.00,9,    42008,   2.9314
  06MT20030723,   491,  1,      9,2,20030803, 53.3100, -41.2990, 3441,   1821.9,   3.1306,  34.8854,2,-999.0000,9,   -999.0,5,  -999.00,5,  -999.00,5,  -999.00,5,  -999.00,5,    3.005,3,    1.518,2,   -999.0,5,   -999.0,5,-999.0000,  -999.00,9,    42009,   2.9924
  06MT20030723,   491,  1,     10,2,20030803, 53.3100, -41.2990, 3441,   1609.3,   3.2389,  34.8867,2,-999.0000,9,   -999.0,5,  -999.00,5,  -999.00,5,  -999.00,5,  -999.00,5,    3.036,3,    1.539,2,   -999.0,5,   -999.0,5,-999.0000,  -999.00,9,    42010,   3.1181
  06MT20030723,   491,  1,     11,2,20030803, 53.3100, -41.2990, 3441,   1413.2,   3.3714,  34.8945,2,-999.0000,9,    281.0,2,  -999.00,5,  -999.00,5,  -999.00,5,  -999.00,5,    2.979,3,    1.518,2,   -999.0,5,   -999.0,5,-999.0000,  -999.00,9,    42011,   3.2660
  06MT20030723,   491,  1,     12,2,20030803, 53.3100, -41.2990, 3441,   1216.0,   3.4439,  34.8881,2,-999.0000,9,   -999.0,5,  -999.00,5,  -999.00,5,  -999.00,5,  -999.00,5,    3.365,3,    1.748,2,   -999.0,5,   -999.0,5,-999.0000,  -999.00,9,    42012,   3.3543
  06MT20030723,   491,  1,     13,2,20030803, 53.3100, -41.2990, 3441,   1058.2,   3.4456,  34.8731,2,  34.8729,2,   -999.0,5,  -999.00,5,  -999.00,5,  -999.00,5,  -999.00,5,    3.795,3,    2.011,2,   -999.0,5,   -999.0,5,-999.0000,  -999.00,9,    42013,   3.3689
  06MT20030723,   491,  1,     14,2,20030803, 53.3100, -41.2990, 3441,    910.3,   3.5761,  34.8821,2,-999.0000,9,   -999.0,5,  -999.00,5,  -999.00,5,  -999.00,5,  -999.00,5, -999.000,9, -999.000,9,   -999.0,5,   -999.0,5,-999.0000,  -999.00,9,    42014,   3.5102
  06MT20030723,   491,  1,     15,2,20030803, 53.3100, -41.2990, 3441,    753.6,   3.6443,  34.8775,2,-999.0000,9,   -999.0,5,  -999.00,5,  -999.00,5,  -999.00,5,  -999.00,5,    3.901,3,    2.074,2,   -999.0,5,   -999.0,5,-999.0000,  -999.00,9,    42015,   3.5903
  06MT20030723,   491,  1,     16,2,20030803, 53.3100, -41.2990, 3441,    595.0,   3.8250,  34.8849,2,-999.0000,9,    277.3,2,  -999.00,5,  -999.00,5,  -999.00,5,  -999.00,5,    3.807,3,    2.031,2,   -999.0,5,   -999.0,5,-999.0000,  -999.00,9,    42016,   3.7822
  06MT20030723,   491,  1,     17,2,20030803, 53.3100, -41.2990, 3441,    485.8,   4.0049,  34.8830,2,-999.0000,9,   -999.0,5,  -999.00,5,  -999.00,5,  -999.00,5,  -999.00,5,    3.755,3,    2.025,2,   -999.0,5,   -999.0,5,-999.0000,  -999.00,9,    42017,   3.9697
  06MT20030723,   491,  1,     18,2,20030803, 53.3100, -41.2990, 3441,    366.3,   4.2969,  34.8784,2,-999.0000,9,   -999.0,5,  -999.00,5,  -999.00,5,  -999.00,5,  -999.00,5,    3.613,3,    1.942,2,   -999.0,5,   -999.0,5,-999.0000,  -999.00,9,    42018,   4.2699
  06MT20030723,   491,  1,     19,2,20030803, 53.3100, -41.2990, 3441,    195.3,   4.5269,  34.7855,2,-999.0000,9,   -999.0,5,  -999.00,5,  -999.00,5,  -999.00,5,  -999.00,5,    3.820,3,    2.118,2,   -999.0,5,   -999.0,5,-999.0000,  -999.00,9,    42019,   4.5124
  06MT20030723,   491,  1,     20,2,20030803, 53.3100, -41.2990, 3441,    101.5,   5.4198,  34.8422,2,-999.0000,9,   -999.0,5,  -999.00,5,  -999.00,5,  -999.00,5,  -999.00,5,    4.157,3,    2.355,2,   -999.0,5,   -999.0,5,-999.0000,  -999.00,9,    42020,   5.4116
  06MT20030723,   491,  1,     21,2,20030803, 53.3100, -41.2990, 3441,     82.6,   5.6779,  34.8487,2,-999.0000,9,   -999.0,5,  -999.00,5,  -999.00,5,  -999.00,5,  -999.00,5, -999.000,9, -999.000,9,   -999.0,5,   -999.0,5,-999.0000,  -999.00,9,    42021,   5.6711
  06MT20030723,   491,  1,     22,2,20030803, 53.3100, -41.2990, 3441,     29.0,  10.0213,  34.6383,2,-999.0000,9,    287.0,2,  -999.00,5,  -999.00,5,  -999.00,5,  -999.00,5,    3.770,3,    2.183,2,   -999.0,5,   -999.0,5,-999.0000,  -999.00,9,    42022,  10.0180
  06MT20030723,   492,  1,      1,2,20030803, 52.6170, -41.2140, 3900,   3975.5,   2.1123,  34.8865,2,  34.8861,2,    288.3,2,    14.69,2,    15.48,2,     0.00,2,     1.02,2, -999.000,9, -999.000,9,   2159.6,2,   2318.5,2,   7.7177,    25.00,2,    43001,   1.7776
  06MT20030723,   492,  1,      2,2,20030803, 52.6170, -41.2140, 3900,   3975.4,   2.1122,  34.8868,2,-999.0000,9,    287.6,2,    14.73,2,    15.52,2,     0.00,2,     1.02,2,    2.719,3,    1.389,2,   -999.0,5,   -999.0,5,-999.0000,  -999.00,9,    43002,   1.7775
  06MT20030723,   492,  1,      3,2,20030803, 52.6170, -41.2140, 3900,   3660.4,   2.2971,  34.8966,2,-999.0000,9,    283.3,2,    16.34,2,    16.12,2,     0.00,2,     1.06,2,    2.127,3,    1.074,2,   2160.5,2,   2317.2,2,   7.7226,    25.00,2,    43003,   1.9924
  06MT20030723,   492,  1,      4,2,20030803, 52.6170, -41.2140, 3900,   3404.2,   2.4049,  34.9032,2,-999.0000,9,    281.1,2,    16.25,2,    16.15,2,     0.00,2,     1.07,2,    1.966,3,    0.988,2,   2160.8,2,   2315.7,2,   7.7236,    25.00,2,    43004,   2.1251
  06MT20030723,   492,  1,      5,2,20030803, 52.6170, -41.2140, 3900,   3146.8,   2.5740,  34.9097,2,-999.0000,9,    280.3,2,    15.08,2,    16.02,2,     0.00,2,     1.07,2,    1.931,3,    0.973,2,   2159.7,2,   2314.0,2,   7.7236,    25.00,2,    43005,   2.3174
  06MT20030723,   492,  1,      6,2,20030803, 52.6170, -41.2140, 3900,   2840.4,   2.7693,  34.9117,2,-999.0000,9,    279.4,2,    13.49,2,    16.22,2,     0.00,2,     1.07,2,    2.007,3,    1.017,2,   2157.7,2,   2313.2,2,-999.0000,  -999.00,9,    43006,   2.5400
  06MT20030723,   492,  1,      7,2,20030803, 52.6170, -41.2140, 3900,   2638.8,   2.9152,  34.9078,2,-999.0000,9,    280.7,2,    12.44,2,    16.29,2,     0.00,2,     1.07,2,    2.215,3,    1.110,2,   2158.2,2,   2314.0,2,   7.7226,    25.00,2,    43007,   2.7032
  06MT20030723,   492,  1,      8,2,20030803, 52.6170, -41.2140, 3900,   2227.8,   3.0908,  34.8941,2,-999.0000,9,    282.8,2,    11.12,2,    16.47,2,     0.00,2,     1.07,2,    2.670,3,    1.347,2,   2155.9,2,   2313.0,2,   7.7216,    25.00,2,    43008,   2.9157
  06MT20030723,   492,  1,      9,2,20030803, 52.6170, -41.2140, 3900,   1984.2,   3.1575,  34.8852,2,-999.0000,9,    285.7,2,    10.68,2,    16.62,2,     0.00,2,     1.08,2,    3.008,3,    1.520,2,   2155.2,2,   2306.8,2,   7.7197,    25.00,2,    43009,   3.0042
  06MT20030723,   492,  1,     10,2,20030803, 52.6170, -41.2140, 3900,   1719.1,   3.2828,  34.8870,2,-999.0000,9,    283.5,2,    10.48,2,    16.69,2,     0.00,2,     1.09,2,    3.117,3,    1.583,2,   2156.6,2,   2305.6,2,   7.7167,    25.00,2,    43010,   3.1518
  06MT20030723,   492,  1,     11,2,20030803, 52.6170, -41.2140, 3900,   1533.3,   3.4206,  34.8937,2,  34.8932,2,    280.2,2,    10.36,2,    16.78,2,     0.00,2,     1.10,2,    3.148,3,    1.617,2,   2158.1,2,   2308.7,2,   7.7147,    25.00,2,    43011,   3.3042
  06MT20030723,   492,  1,     12,2,20030803, 52.6170, -41.2140, 3900,   1210.3,   3.5258,  34.8849,2,-999.0000,9,    283.2,2,     9.58,2,    16.35,2,     0.00,2,     1.07,2,    3.575,3,    1.871,2,   2157.4,2,   2311.1,2,   7.7138,    25.00,2,    43012,   3.4359
  06MT20030723,   492,  1,     13,2,20030803, 52.6170, -41.2140, 3900,   1058.7,   3.5768,  34.8765,2,-999.0000,9,    284.4,2,     9.21,2,    16.32,2,     0.00,2,     1.07,2,    3.857,3,    2.037,2,   2158.1,2,   2306.2,2,   7.7118,    25.00,2,    43013,   3.4990
  06MT20030723,   492,  1,     14,2,20030803, 52.6170, -41.2140, 3900,    908.4,   3.6625,  34.8790,2,-999.0000,9,   -999.0,5,     9.19,2,    16.29,2,     0.01,2,     1.07,2, -999.000,9, -999.000,9,   2156.4,2,   2307.9,2,   7.7128,    25.00,2,    43014,   3.5962
  06MT20030723,   492,  1,     15,2,20030803, 52.6170, -41.2140, 3900,    736.8,   3.8742,  34.8914,2,  34.8894,2,    277.4,2,     9.27,2,    16.66,2,     0.00,2,     1.08,2,    3.798,3,    2.021,2,   2160.4,2,   2307.4,2,   7.7088,    25.00,2,    43015,   3.8202
  06MT20030723,   492,  1,     16,2,20030803, 52.6170, -41.2140, 3900,    590.6,   4.1047,  34.8931,2,-999.0000,9,    270.6,2,     9.38,2,    16.97,2,     0.01,2,     1.10,2,    3.729,3,    1.992,2,   2160.7,2,   2309.5,2,   7.7029,    25.00,2,    43016,   4.0610
  06MT20030723,   492,  1,     17,2,20030803, 52.6170, -41.2140, 3900,    493.3,   4.3639,  34.8909,2,-999.0000,9,    269.6,2,     9.24,2,    16.93,2,     0.01,2,     1.11,2,    3.656,3,    1.979,2,   2161.6,2,   2314.4,2,   7.7049,    25.00,2,    43017,   4.3267
  06MT20030723,   492,  1,     18,2,20030803, 52.6170, -41.2140, 3900,    349.2,   4.9831,  34.8460,2,-999.0000,9,    262.3,2,     8.84,2,    16.54,2,     0.01,2,     1.08,2,    3.737,3,    2.049,2,   2157.5,2,   2302.3,2,   7.7138,    25.00,2,    43018,   4.9555
  06MT20030723,   492,  1,     19,2,20030803, 52.6170, -41.2140, 3900,    221.8,   6.2753,  34.9054,2,-999.0000,9,    263.2,2,     8.29,2,    15.96,2,     0.01,2,     1.04,2,    3.678,3,    2.055,2,   2152.7,2,   2310.6,2,   7.7305,    25.00,2,    43019,   6.2557
  06MT20030723,   492,  1,     20,2,20030803, 52.6170, -41.2140, 3900,     99.4,   8.4063,  35.0909,2,-999.0000,9,    246.8,2,     6.82,2,    14.31,2,     0.02,2,     0.91,2,    3.351,3,    1.910,2,   2146.2,2,   2318.8,2,   7.7670,    25.00,2,    43020,   8.3960
  06MT20030723,   492,  1,     21,2,20030803, 52.6170, -41.2140, 3900,     71.3,   9.2842,  35.1593,2,-999.0000,9,    252.8,2,     3.62,2,    11.18,2,     0.29,2,     0.71,2,    3.564,3,    2.028,2,   2127.8,2,   2314.1,2,   7.8094,    25.00,2,    43021,   9.2763
  06MT20030723,   492,  1,     22,2,20030803, 52.6170, -41.2140, 3900,     14.4,  11.9346,  35.1746,2,  35.1671,0,    276.5,2,     1.34,2,     4.65,2,     0.13,2,     0.34,2,    3.384,3,    1.969,2,   2080.6,2,   2319.6,2,   7.9184,    25.00,2,    43022,  11.9327
  06MT20030723,   493,  1,      1,2,20030803, 51.9250, -41.1320, 3480,   3509.6,   2.3533,  34.9019,2,-999.0000,9,    280.1,2,  -999.00,5,  -999.00,5,  -999.00,5,  -999.00,5, -999.000,9, -999.000,9,   -999.0,5,   -999.0,5,-999.0000,  -999.00,9,    44001,   2.0635
  06MT20030723,   493,  1,      2,2,20030803, 51.9250, -41.1320, 3480,   3508.9,   2.3526,  34.9018,2,-999.0000,9,   -999.0,5,  -999.00,5,  -999.00,5,  -999.00,5,  -999.00,5,    1.998,3,    0.999,2,   -999.0,5,   -999.0,5,-999.0000,  -999.00,9,    44002,   2.0629
  06MT20030723,   493,  1,      3,2,20030803, 51.9250, -41.1320, 3480,   3454.8,   2.3552,  34.9022,2,-999.0000,9,   -999.0,5,  -999.00,5,  -999.00,5,  -999.00,5,  -999.00,5, -999.000,9, -999.000,9,   -999.0,5,   -999.0,5,-999.0000,  -999.00,9,    44003,   2.0712
  06MT20030723,   493,  1,      4,2,20030803, 51.9250, -41.1320, 3480,   3249.6,   2.4317,  34.9064,2,  34.9061,2,   -999.0,5,  -999.00,5,  -999.00,5,  -999.00,5,  -999.00,5,    1.898,3,    0.952,2,   -999.0,5,   -999.0,5,-999.0000,  -999.00,9,    44004,   2.1676
  06MT20030723,   493,  1,      5,2,20030803, 51.9250, -41.1320, 3480,   2944.0,   2.7068,  34.9112,2,-999.0000,9,   -999.0,5,  -999.00,5,  -999.00,5,  -999.00,5,  -999.00,5,    2.023,3,    1.014,2,   -999.0,5,   -999.0,5,-999.0000,  -999.00,9,    44005,   2.4682
  06MT20030723,   493,  1,      6,2,20030803, 51.9250, -41.1320, 3480,   2635.3,   2.9065,  34.9064,2,-999.0000,9,    280.5,2,  -999.00,5,  -999.00,5,  -999.00,5,  -999.00,5,    2.336,3,    1.185,2,   -999.0,5,   -999.0,5,-999.0000,  -999.00,9,    44006,   2.6950
  06MT20030723,   493,  1,      7,2,20030803, 51.9250, -41.1320, 3480,   2328.4,   3.0543,  34.9004,2,  34.8985,2,   -999.0,5,  -999.00,5,  -999.00,5,  -999.00,5,  -999.00,5,    2.497,3,    1.253,2,   -999.0,5,   -999.0,5,-999.0000,  -999.00,9,    44007,   2.8702
  06MT20030723,   493,  1,      8,2,20030803, 51.9250, -41.1320, 3480,   2023.2,   3.1502,  34.8885,2,-999.0000,9,   -999.0,5,  -999.00,5,  -999.00,5,  -999.00,5,  -999.00,5,    2.864,3,    1.435,2,   -999.0,5,   -999.0,5,-999.0000,  -999.00,9,    44008,   2.9934
  06MT20030723,   493,  1,      9,2,20030803, 51.9250, -41.1320, 3480,   1712.8,   3.3123,  34.8909,2,-999.0000,9,   -999.0,5,  -999.00,5,  -999.00,5,  -999.00,5,  -999.00,5,    3.027,3,    1.533,2,   -999.0,5,   -999.0,5,-999.0000,  -999.00,9,    44009,   3.1814
  06MT20030723,   493,  1,     10,2,20030803, 51.9250, -41.1320, 3480,   1411.6,   3.4937,  34.8955,2,-999.0000,9,    279.8,2,  -999.00,5,  -999.00,5,  -999.00,5,  -999.00,5,    3.240,3,    1.657,2,   -999.0,5,   -999.0,5,-999.0000,  -999.00,9,    44010,   3.3871
  06MT20030723,   493,  1,     11,2,20030803, 51.9250, -41.1320, 3480,   1210.3,   3.5214,  34.8832,2,  34.8857,2,   -999.0,5,  -999.00,5,  -999.00,5,  -999.00,5,  -999.00,5,    3.597,3,    1.876,2,   -999.0,5,   -999.0,5,-999.0000,  -999.00,9,    44011,   3.4316
  06MT20030723,   493,  1,     12,2,20030803, 51.9250, -41.1320, 3480,   1053.1,   3.5817,  34.8839,2,-999.0000,9,   -999.0,5,  -999.00,5,  -999.00,5,  -999.00,5,  -999.00,5, -999.000,9, -999.000,9,   -999.0,5,   -999.0,5,-999.0000,  -999.00,9,    44012,   3.5043
  06MT20030723,   493,  1,     13,2,20030803, 51.9250, -41.1320, 3480,    929.9,   3.6627,  34.8826,2,-999.0000,9,   -999.0,5,  -999.00,5,  -999.00,5,  -999.00,5,  -999.00,5,    3.767,3,    1.983,2,   -999.0,5,   -999.0,5,-999.0000,  -999.00,9,    44013,   3.5947
  06MT20030723,   493,  1,     14,2,20030803, 51.9250, -41.1320, 3480,    804.4,   3.7857,  34.8903,2,-999.0000,9,   -999.0,5,  -999.00,5,  -999.00,5,  -999.00,5,  -999.00,5, -999.000,9, -999.000,9,   -999.0,5,   -999.0,5,-999.0000,  -999.00,9,    44014,   3.7268
  06MT20030723,   493,  1,     15,2,20030803, 51.9250, -41.1320, 3480,    680.1,   3.9317,  34.8947,2,-999.0000,9,    274.7,2,  -999.00,5,  -999.00,5,  -999.00,5,  -999.00,5,    3.731,3,    2.004,2,   -999.0,5,   -999.0,5,-999.0000,  -999.00,9,    44015,   3.8818
  06MT20030723,   493,  1,     16,2,20030803, 51.9250, -41.1320, 3480,    551.8,   4.1080,  34.8918,2,-999.0000,9,   -999.0,5,  -999.00,5,  -999.00,5,  -999.00,5,  -999.00,5,    3.664,3,    1.963,2,   -999.0,5,   -999.0,5,-999.0000,  -999.00,9,    44016,   4.0673
  06MT20030723,   493,  1,     17,2,20030803, 51.9250, -41.1320, 3480,    425.4,   4.1982,  34.8528,2,-999.0000,9,   -999.0,5,  -999.00,5,  -999.00,5,  -999.00,5,  -999.00,5,    3.759,3,    2.052,2,   -999.0,5,   -999.0,5,-999.0000,  -999.00,9,    44017,   4.1670
  06MT20030723,   493,  1,     18,2,20030803, 51.9250, -41.1320, 3480,    301.0,   4.7856,  34.8332,2,-999.0000,9,   -999.0,5,  -999.00,5,  -999.00,5,  -999.00,5,  -999.00,5,    3.743,3,    2.072,2,   -999.0,5,   -999.0,5,-999.0000,  -999.00,9,    44018,   4.7624
  06MT20030723,   493,  1,     19,2,20030803, 51.9250, -41.1320, 3480,    219.4,   5.5404,  34.8567,2,-999.0000,9,   -999.0,5,  -999.00,5,  -999.00,5,  -999.00,5,  -999.00,5,    3.693,3,    2.076,2,   -999.0,5,   -999.0,5,-999.0000,  -999.00,9,    44019,   5.5223
  06MT20030723,   493,  1,     20,2,20030803, 51.9250, -41.1320, 3480,    104.4,   7.9002,  35.0209,2,-999.0000,9,   -999.0,5,  -999.00,5,  -999.00,5,  -999.00,5,  -999.00,5,    3.383,3,    1.908,2,   -999.0,5,   -999.0,5,-999.0000,  -999.00,9,    44020,   7.8898
  06MT20030723,   493,  1,     21,2,20030803, 51.9250, -41.1320, 3480,     69.3,   8.2751,  34.9484,2,-999.0000,9,   -999.0,5,  -999.00,5,  -999.00,5,  -999.00,5,  -999.00,5,    3.530,3,    2.007,2,   -999.0,5,   -999.0,5,-999.0000,  -999.00,9,    44021,   8.2680
  06MT20030723,   493,  1,     22,2,20030803, 51.9250, -41.1320, 3480,     21.2,  12.0842,  34.9205,2,-999.0000,9,    274.7,2,  -999.00,5,  -999.00,5,  -999.00,5,  -999.00,5, -999.000,9, -999.000,9,   -999.0,5,   -999.0,5,-999.0000,  -999.00,9,    44022,  12.0814