BOTTLE,20090513PRINUNIVRMK
EXPOCODE,STNNBR,CASTNO,BTLNBR,BTLNBR_FLAG_W,DATE,LATITUDE,LONGITUDE,DEPTH,CTDPRS,CTDTMP,CTDSAL,CTDSAL_FLAG_W,SALNTY,SALNTY_FLAG_W,OXYGEN,OXYGEN_FLAG_W,SILCAT,SILCAT_FLAG_W,NITRAT,NITRAT_FLAG_W,NITRIT,NITRIT_FLAG_W,PHSPHT,PHSPHT_FLAG_W,CFC-11,CFC-11_FLAG_W,CFC-12,CFC-12_FLAG_W,TCARBN,TCARBN_FLAG_W,ALKALI,ALKALI_FLAG_W,PH_SWS,PH_TEMP,PH_SWS_FLAG_W,ID,THETA
,,,,,,,,METERS,DBARS,ITS-90,PSS-78,,PSS-78,,UMOL/KG,,UMOL/KG,,UMOL/KG,,UMOL/KG,,UMOL/KG,,PMOL/KG,,PMOL/KG,,UMOL/KG,,UMOL/KG,,,DEGC,,,DEGC
  06MT20030723,   530,  1,      1,2,20030813, 54.3500, -25.3090, 2942,   2963.9,   2.7016,  34.9357,2,-999.0000,9,    257.8,2,    28.66,2,    19.11,2,     0.00,2,     1.27,2, -999.000,9, -999.000,9,   -999.0,5,   -999.0,5,-999.0000,  -999.00,9,    83001,   2.4610
  06MT20030723,   530,  1,      2,2,20030813, 54.3500, -25.3090, 2942,   2964.0,   2.7015,  34.9361,2,-999.0000,9,    257.9,2,    28.47,2,    19.02,2,     0.00,2,     1.27,2,    1.058,3,    0.542,2,   -999.0,5,   -999.0,5,-999.0000,  -999.00,9,    83002,   2.4609
  06MT20030723,   530,  1,      3,2,20030813, 54.3500, -25.3090, 2942,   2738.1,   2.9155,  34.9416,2,-999.0000,9,    265.6,2,    19.40,2,    17.67,2,     0.00,2,     1.15,2,    1.487,3,    0.750,2,   -999.0,5,   -999.0,5,-999.0000,  -999.00,9,    83003,   2.6934
  06MT20030723,   530,  1,      4,2,20030813, 54.3500, -25.3090, 2942,   2635.7,   3.0065,  34.9389,2,-999.0000,9,    272.4,2,    15.62,2,    16.64,2,     0.00,2,     1.10,2,    1.834,3,    0.927,2,   -999.0,5,   -999.0,5,-999.0000,  -999.00,9,    83004,   2.7929
  06MT20030723,   530,  1,      5,2,20030813, 54.3500, -25.3090, 2942,   2432.2,   3.0782,  34.9295,2,-999.0000,9,    275.4,2,    13.92,2,    16.77,2,     0.00,2,     1.10,2,    1.994,3,    0.998,2,   -999.0,5,   -999.0,5,-999.0000,  -999.00,9,    83005,   2.8835
  06MT20030723,   530,  1,      6,2,20030813, 54.3500, -25.3090, 2942,   2228.2,   3.1341,  34.9168,2,  34.9053,0,    274.9,2,    13.76,2,    16.52,2,     0.00,2,     1.11,2,    2.143,3,    1.071,2,   -999.0,5,   -999.0,5,-999.0000,  -999.00,9,    83006,   2.9582
  06MT20030723,   530,  1,      7,2,20030813, 54.3500, -25.3090, 2942,   2024.3,   3.1659,  34.8999,2,-999.0000,9,    281.6,2,    11.38,2,    16.77,2,     0.00,2,     1.08,2, -999.000,9, -999.000,9,   -999.0,5,   -999.0,5,-999.0000,  -999.00,9,    83007,   3.0087
  06MT20030723,   530,  1,      8,2,20030813, 54.3500, -25.3090, 2942,   1821.6,   3.2237,  34.8887,2,-999.0000,9,    282.3,2,    10.88,2,    16.92,2,     0.00,2,     1.10,2,    2.811,3,    1.404,2,   -999.0,5,   -999.0,5,-999.0000,  -999.00,9,    83008,   3.0843
  06MT20030723,   530,  1,      9,2,20030813, 54.3500, -25.3090, 2942,   1609.2,   3.3425,  34.8900,2,-999.0000,9,    281.1,2,    10.58,2,    17.04,2,     0.00,2,     1.11,2,    2.928,3,    1.462,2,   -999.0,5,   -999.0,5,-999.0000,  -999.00,9,    83009,   3.2204
  06MT20030723,   530,  1,     10,2,20030813, 54.3500, -25.3090, 2942,   1606.3,   3.3446,  34.8903,2,-999.0000,9,   -999.0,5,  -999.00,5,  -999.00,5,  -999.00,5,  -999.00,5, -999.000,9, -999.000,9,   -999.0,5,   -999.0,5,-999.0000,  -999.00,9,    83010,   3.2228
  06MT20030723,   530,  1,     11,2,20030813, 54.3500, -25.3090, 2942,   1413.5,   3.5145,  34.9006,2,-999.0000,9,    276.6,2,    10.58,2,    17.25,2,     0.00,2,     1.12,2,    2.849,3,    1.433,2,   -999.0,5,   -999.0,5,-999.0000,  -999.00,9,    83011,   3.4075
  06MT20030723,   530,  1,     12,2,20030813, 54.3500, -25.3090, 2942,   1199.1,   3.7434,  34.9132,2,  34.9102,2,    272.5,2,    10.39,2,    17.41,2,     0.00,2,     1.12,2,    2.952,3,    1.489,2,   -999.0,5,   -999.0,5,-999.0000,  -999.00,9,    83012,   3.6524
  06MT20030723,   530,  1,     13,2,20030813, 54.3500, -25.3090, 2942,    988.0,   4.0538,  34.9315,2,-999.0000,9,    265.0,2,    10.32,2,    17.60,2,     0.00,2,     1.14,2,    3.022,3,    1.543,2,   -999.0,5,   -999.0,5,-999.0000,  -999.00,9,    83013,   3.9780
  06MT20030723,   530,  1,     14,2,20030813, 54.3500, -25.3090, 2942,    931.8,   4.2242,  34.9443,2,-999.0000,9,    263.8,2,    10.25,2,    17.61,2,     0.00,2,     1.13,2,    3.130,3,    1.607,2,   -999.0,5,   -999.0,5,-999.0000,  -999.00,9,    83014,   4.1519
  06MT20030723,   530,  1,     15,2,20030813, 54.3500, -25.3090, 2942,    864.5,   4.4185,  34.9610,2,-999.0000,9,    258.5,2,    10.27,2,    17.70,2,     0.00,2,     1.15,2,    3.015,3,    1.547,2,   -999.0,5,   -999.0,5,-999.0000,  -999.00,9,    83015,   4.3505
  06MT20030723,   530,  1,     16,2,20030813, 54.3500, -25.3090, 2942,    791.7,   4.8112,  35.0016,2,-999.0000,9,    250.3,2,    10.39,2,    17.97,2,     0.00,2,     1.17,2,    2.898,3,    1.495,2,   -999.0,5,   -999.0,5,-999.0000,  -999.00,9,    83016,   4.7469
  06MT20030723,   530,  1,     17,2,20030813, 54.3500, -25.3090, 2942,    719.2,   5.1926,  35.0426,2,-999.0000,9,    244.2,2,    10.43,2,    18.12,2,     0.00,2,     1.16,2,    2.691,3,    1.394,2,   -999.0,5,   -999.0,5,-999.0000,  -999.00,9,    83017,   5.1324
  06MT20030723,   530,  1,     18,2,20030813, 54.3500, -25.3090, 2942,    627.5,   5.6031,  35.0600,2,-999.0000,9,    232.8,2,    10.46,2,    18.42,2,     0.00,2,     1.18,2,    2.597,3,    1.359,2,   -999.0,5,   -999.0,5,-999.0000,  -999.00,9,    83018,   5.5490
  06MT20030723,   530,  1,     19,2,20030813, 54.3500, -25.3090, 2942,    400.2,   6.5306,  34.9582,2,-999.0000,9,    218.0,2,     9.91,2,    18.73,2,     0.01,2,     1.20,2,    2.648,3,    1.420,2,   -999.0,5,   -999.0,5,-999.0000,  -999.00,9,    83019,   6.4940
  06MT20030723,   530,  1,     20,2,20030813, 54.3500, -25.3090, 2942,    310.7,   6.9876,  34.9238,2,-999.0000,9,    231.6,2,     8.44,2,    17.18,2,     0.01,2,     1.10,2,    3.086,3,    1.733,2,   -999.0,5,   -999.0,5,-999.0000,  -999.00,9,    83020,   6.9583
  06MT20030723,   530,  1,     21,2,20030813, 54.3500, -25.3090, 2942,    103.5,   9.6567,  35.2277,2,-999.0000,9,    256.8,2,     4.05,2,    11.86,2,     0.02,2,     0.72,2, -999.000,9, -999.000,9,   -999.0,5,   -999.0,5,-999.0000,  -999.00,9,    83021,   9.6450
  06MT20030723,   530,  1,     22,2,20030813, 54.3500, -25.3090, 2942,     10.3,  12.9489,  35.0953,2,  35.0811,2,    271.1,2,     0.19,2,     2.31,2,     0.10,2,     0.18,2,    3.205,3,    1.891,2,   -999.0,5,   -999.0,5,-999.0000,  -999.00,9,    83022,  12.9475
  06MT20030723,   531,  1,      1,2,20030813, 53.8830, -24.3170, 3500,   3500.8,   2.6620,  34.9287,2,  34.9285,2,    252.8,2,    33.50,2,    20.01,2,     0.01,2,     1.32,2, -999.000,9, -999.000,9,   2188.7,2,   2335.3,2,   7.7285,    25.00,2,    84001,   2.3653
  06MT20030723,   531,  1,      2,2,20030813, 53.8830, -24.3170, 3500,   3500.5,   2.6619,  34.9289,2,-999.0000,9,    165.5,4,    33.39,2,    20.01,2,     0.01,2,     1.32,2,    0.788,3,    0.389,2,   -999.0,5,   -999.0,5,-999.0000,  -999.00,9,    84002,   2.3653
  06MT20030723,   531,  1,      3,2,20030813, 53.8830, -24.3170, 3500,   3347.9,   2.6400,  34.9278,2,-999.0000,9,    252.5,2,    33.44,2,    20.03,2,     0.01,2,     1.33,2,    0.743,3,    0.366,2,   2188.3,2,   2334.1,2,   7.7354,    25.00,2,    84003,   2.3605
  06MT20030723,   531,  1,      4,2,20030813, 53.8830, -24.3170, 3500,   3145.0,   2.7496,  34.9425,2,-999.0000,9,    264.6,2,    24.43,2,    17.76,2,     0.00,2,     1.19,2,    1.389,3,    0.697,2,   2175.4,2,   2320.8,2,   7.7335,    25.00,2,    84004,   2.4890
  06MT20030723,   531,  1,      5,2,20030813, 53.8830, -24.3170, 3500,   2837.8,   2.8155,  34.9405,2,  34.9399,2,    263.0,2,    23.00,2,    18.17,2,     0.00,2,     1.19,2,    1.312,3,    0.656,2,   2174.6,2,   2320.4,2,   7.7364,    25.00,2,    84005,   2.5853
  06MT20030723,   531,  1,      6,2,20030813, 53.8830, -24.3170, 3500,   2530.2,   3.0181,  34.9366,2,-999.0000,9,    273.6,2,    15.84,2,    17.07,2,     0.00,2,     1.12,2,    1.747,3,    0.876,2,   2163.4,2,   2310.7,2,   7.7374,    25.00,2,    84006,   2.8148
  06MT20030723,   531,  1,      7,2,20030813, 53.8830, -24.3170, 3500,   2221.5,   3.1197,  34.9195,2,-999.0000,9,    283.9,2,    12.58,2,    16.74,2,     0.00,2,     1.08,2,    2.162,3,    1.063,2,   2157.8,2,   2303.4,2,   7.7374,    25.00,2,    84007,   2.9447
  06MT20030723,   531,  1,      8,2,20030813, 53.8830, -24.3170, 3500,   1894.8,   3.1720,  34.8944,2,-999.0000,9,    286.5,2,    10.91,2,    16.79,2,     0.00,2,     1.08,2,    2.746,3,    1.359,2,   2155.9,2,   2300.4,2,   7.7345,    25.00,2,    84008,   3.0266
  06MT20030723,   531,  1,      9,2,20030813, 53.8830, -24.3170, 3500,   1708.0,   3.2372,  34.8872,2,  34.8884,2,    284.7,2,    10.51,2,    16.88,2,     0.00,2,     1.09,2,    2.932,3,    1.446,2,   2155.8,2,   2299.0,2,   7.7266,    25.00,2,    84009,   3.1077
  06MT20030723,   531,  1,     10,2,20030813, 53.8830, -24.3170, 3500,   1707.8,   3.2378,  34.8873,2,-999.0000,9,   -999.0,5,    10.48,2,    16.88,2,     0.01,2,     1.10,2, -999.000,9, -999.000,9,   -999.0,5,   -999.0,5,-999.0000,  -999.00,9,    84010,   3.1083
  06MT20030723,   531,  1,     11,2,20030813, 53.8830, -24.3170, 3500,   1459.8,   3.4253,  34.8933,2,-999.0000,9,    279.7,2,    10.41,2,    17.13,2,     0.00,2,     1.10,2,    2.938,3,    1.460,2,   2157.4,2,   2298.7,2,   7.7246,    25.00,2,    84011,   3.3153
  06MT20030723,   531,  1,     12,2,20030813, 53.8830, -24.3170, 3500,   1205.9,   3.6482,  34.9045,2,-999.0000,9,    275.1,2,    10.49,2,    17.13,2,     0.00,2,     1.09,2,    3.024,3,    1.514,2,   2159.4,2,   2298.4,2,   7.7275,    25.00,2,    84012,   3.5575
  06MT20030723,   531,  1,     13,2,20030813, 53.8830, -24.3170, 3500,    992.5,   3.9188,  34.9216,2,-999.0000,9,    270.0,2,    10.40,2,    17.31,2,     0.00,2,     1.11,2,    3.056,3,    1.477,2,   2161.5,2,   2299.9,2,   7.7256,    25.00,2,    84013,   3.8437
  06MT20030723,   531,  1,     14,2,20030813, 53.8830, -24.3170, 3500,    908.1,   4.0637,  34.9280,2,-999.0000,9,    272.5,2,    10.21,2,    17.50,2,     0.00,2,     1.10,2,    3.136,3,    1.592,2,   2162.8,2,   2302.5,2,   7.7177,    25.00,2,    84014,   3.9945
  06MT20030723,   531,  1,     15,2,20030813, 53.8830, -24.3170, 3500,    813.6,   4.2887,  34.9424,2,-999.0000,9,    260.9,2,    10.25,2,    17.28,2,     0.00,2,     1.15,2,    3.077,3,    1.567,2,   2164.7,2,   2301.8,2,   7.7197,    25.00,2,    84015,   4.2259
  06MT20030723,   531,  1,     16,2,20030813, 53.8830, -24.3170, 3500,    706.3,   4.7135,  34.9860,2,  34.9734,0,    252.1,2,    10.29,2,    17.92,2,     0.00,2,     1.14,2,    2.970,3,    1.520,2,   2167.0,2,   2303.5,2,   7.7128,    25.00,2,    84016,   4.6571
  06MT20030723,   531,  1,     17,2,20030813, 53.8830, -24.3170, 3500,    603.0,   5.2708,  35.0394,2,-999.0000,9,    245.6,2,    10.17,2,    18.14,2,     0.00,2,     1.16,2, -999.000,9, -999.000,9,   2169.6,2,   2306.7,2,   7.7187,    25.00,2,    84017,   5.2205
  06MT20030723,   531,  1,     18,2,20030813, 53.8830, -24.3170, 3500,    406.3,   5.5374,  34.9035,2,-999.0000,9,    235.0,2,     9.87,2,    18.52,2,     0.01,2,     1.22,2,    3.032,3,    1.607,2,   2169.7,2,   2300.6,2,   7.7069,    25.00,2,    84018,   5.5033
  06MT20030723,   531,  1,     19,2,20030813, 53.8830, -24.3170, 3500,    206.2,   7.3597,  34.9729,2,-999.0000,9,    265.1,2,     7.05,2,    15.12,2,     0.01,2,     0.96,2, -999.000,9, -999.000,9,   2146.9,2,   2303.8,2,   7.7640,    25.00,2,    84019,   7.3398
  06MT20030723,   531,  1,     20,2,20030813, 53.8830, -24.3170, 3500,    105.3,   8.7515,  35.1114,2,-999.0000,9,    257.5,2,     4.79,2,    13.48,2,     0.02,2,     0.81,2,    3.527,3,    1.978,2,   2138.7,2,   2314.2,2,   7.7946,    25.00,2,    84020,   8.7403
  06MT20030723,   531,  1,     21,2,20030813, 53.8830, -24.3170, 3500,     69.0,   9.5112,  35.1700,2,-999.0000,9,    256.4,2,     3.06,2,    11.73,2,     0.04,2,     0.70,2, -999.000,9, -999.000,9,   2129.4,2,   2317.5,2,   7.8253,    25.00,2,    84021,   9.5035
  06MT20030723,   531,  1,     22,2,20030813, 53.8830, -24.3170, 3500,     18.4,  12.6064,  34.7831,2,-999.0000,9,    279.2,2,     0.77,2,     3.71,2,     0.11,2,     0.27,2,    3.393,3,    1.928,2,   2058.2,2,   2293.4,2,   7.9303,    25.00,2,    84022,  12.6039
  06MT20030723,   532,  1,      1,2,20030814, 53.4180, -23.3320, 3957,   4034.8,   2.5121,  34.9071,2,  34.9079,2,   -999.0,5,  -999.00,5,  -999.00,5,  -999.00,5,  -999.00,5, -999.000,9, -999.000,9,   -999.0,5,   -999.0,5,-999.0000,  -999.00,9,    85001,   2.1594
  06MT20030723,   532,  1,      2,2,20030814, 53.4180, -23.3320, 3957,   4034.2,   2.5118,  34.9074,2,-999.0000,9,    240.9,2,  -999.00,5,  -999.00,5,  -999.00,5,  -999.00,5,    0.431,3,    0.211,2,   -999.0,5,   -999.0,5,-999.0000,  -999.00,9,    85002,   2.1592
  06MT20030723,   532,  1,      3,2,20030814, 53.4180, -23.3320, 3957,   3713.3,   2.5679,  34.9163,2,-999.0000,9,   -999.0,5,  -999.00,5,  -999.00,5,  -999.00,5,  -999.00,5,    0.498,3,    0.244,2,   -999.0,5,   -999.0,5,-999.0000,  -999.00,9,    85003,   2.2502
  06MT20030723,   532,  1,      4,2,20030814, 53.4180, -23.3320, 3957,   3455.2,   2.6536,  34.9280,2,-999.0000,9,   -999.0,5,  -999.00,5,  -999.00,5,  -999.00,5,  -999.00,5,    0.664,3,    0.327,2,   -999.0,5,   -999.0,5,-999.0000,  -999.00,9,    85004,   2.3621
  06MT20030723,   532,  1,      5,2,20030814, 53.4180, -23.3320, 3957,   3143.5,   2.7823,  34.9397,2,  34.9393,2,   -999.0,5,  -999.00,5,  -999.00,5,  -999.00,5,  -999.00,5,    1.182,3,    0.595,2,   -999.0,5,   -999.0,5,-999.0000,  -999.00,9,    85005,   2.5212
  06MT20030723,   532,  1,      6,2,20030814, 53.4180, -23.3320, 3957,   2831.9,   2.9394,  34.9418,2,-999.0000,9,   -999.0,5,  -999.00,5,  -999.00,5,  -999.00,5,  -999.00,5,    1.613,3,    0.810,2,   -999.0,5,   -999.0,5,-999.0000,  -999.00,9,    85006,   2.7073
  06MT20030723,   532,  1,      7,2,20030814, 53.4180, -23.3320, 3957,   2533.7,   3.0832,  34.9305,2,-999.0000,9,   -999.0,5,  -999.00,5,  -999.00,5,  -999.00,5,  -999.00,5,    1.980,3,    0.985,2,   -999.0,5,   -999.0,5,-999.0000,  -999.00,9,    85007,   2.8784
  06MT20030723,   532,  1,      8,2,20030814, 53.4180, -23.3320, 3957,   2216.3,   3.1775,  34.9063,2,-999.0000,9,   -999.0,5,  -999.00,5,  -999.00,5,  -999.00,5,  -999.00,5,    2.428,3,    1.196,2,   -999.0,5,   -999.0,5,-999.0000,  -999.00,9,    85008,   3.0021
  06MT20030723,   532,  1,      9,2,20030814, 53.4180, -23.3320, 3957,   1922.8,   3.2451,  34.8887,2,-999.0000,9,    282.5,2,  -999.00,5,  -999.00,5,  -999.00,5,  -999.00,5,    2.899,3,    1.434,2,   -999.0,5,   -999.0,5,-999.0000,  -999.00,9,    85009,   3.0961
  06MT20030723,   532,  1,     10,2,20030814, 53.4180, -23.3320, 3957,   1920.1,   3.2474,  34.8888,2,-999.0000,9,   -999.0,5,  -999.00,5,  -999.00,5,  -999.00,5,  -999.00,5, -999.000,9, -999.000,9,   -999.0,5,   -999.0,5,-999.0000,  -999.00,9,    85010,   3.0987
  06MT20030723,   532,  1,     11,2,20030814, 53.4180, -23.3320, 3957,   1718.9,   3.3740,  34.8922,2,-999.0000,9,   -999.0,5,  -999.00,5,  -999.00,5,  -999.00,5,  -999.00,5,    2.918,3,    1.447,2,   -999.0,5,   -999.0,5,-999.0000,  -999.00,9,    85011,   3.2418
  06MT20030723,   532,  1,     12,2,20030814, 53.4180, -23.3320, 3957,   1532.7,   3.5457,  34.8986,2,-999.0000,9,   -999.0,5,  -999.00,5,  -999.00,5,  -999.00,5,  -999.00,5,    3.068,3,    1.526,2,   -999.0,5,   -999.0,5,-999.0000,  -999.00,9,    85012,   3.4279
  06MT20030723,   532,  1,     13,2,20030814, 53.4180, -23.3320, 3957,   1260.6,   3.9485,  34.9319,2,-999.0000,9,   -999.0,5,  -999.00,5,  -999.00,5,  -999.00,5,  -999.00,5,    2.964,3,    1.481,2,   -999.0,5,   -999.0,5,-999.0000,  -999.00,9,    85013,   3.8503
  06MT20030723,   532,  1,     14,2,20030814, 53.4180, -23.3320, 3957,   1159.6,   3.9008,  34.9089,2,-999.0000,9,   -999.0,5,  -999.00,5,  -999.00,5,  -999.00,5,  -999.00,5,    3.405,3,    1.741,2,   -999.0,5,   -999.0,5,-999.0000,  -999.00,9,    85014,   3.8118
  06MT20030723,   532,  1,     15,2,20030814, 53.4180, -23.3320, 3957,   1039.2,   4.3298,  34.9552,2,-999.0000,9,   -999.0,5,  -999.00,5,  -999.00,5,  -999.00,5,  -999.00,5,    3.015,3,    1.531,2,   -999.0,5,   -999.0,5,-999.0000,  -999.00,9,    85015,   4.2475
  06MT20030723,   532,  1,     16,2,20030814, 53.4180, -23.3320, 3957,    943.0,   4.6872,  34.9866,2,  34.9858,2,    252.5,2,  -999.00,5,  -999.00,5,  -999.00,5,  -999.00,5,    2.938,3,    1.504,2,   -999.0,5,   -999.0,5,-999.0000,  -999.00,9,    85016,   4.6105
  06MT20030723,   532,  1,     17,2,20030814, 53.4180, -23.3320, 3957,    861.4,   4.8377,  34.9856,2,-999.0000,9,   -999.0,5,  -999.00,5,  -999.00,5,  -999.00,5,  -999.00,5,    2.983,3,    1.549,2,   -999.0,5,   -999.0,5,-999.0000,  -999.00,9,    85017,   4.7672
  06MT20030723,   532,  1,     18,2,20030814, 53.4180, -23.3320, 3957,    757.5,   6.8558,  35.2865,2,-999.0000,9,   -999.0,5,  -999.00,5,  -999.00,5,  -999.00,5,  -999.00,5,    1.933,3,    0.990,2,   -999.0,5,   -999.0,5,-999.0000,  -999.00,9,    85018,   6.7824
  06MT20030723,   532,  1,     19,2,20030814, 53.4180, -23.3320, 3957,    636.8,   7.2529,  35.2825,2,-999.0000,9,   -999.0,5,  -999.00,5,  -999.00,5,  -999.00,5,  -999.00,5,    1.950,3,    1.008,2,   -999.0,5,   -999.0,5,-999.0000,  -999.00,9,    85019,   7.1899
  06MT20030723,   532,  1,     20,2,20030814, 53.4180, -23.3320, 3957,    407.3,   8.0727,  35.0523,2,-999.0000,9,    228.7,2,  -999.00,5,  -999.00,5,  -999.00,5,  -999.00,5,    2.975,3,    1.655,2,   -999.0,5,   -999.0,5,-999.0000,  -999.00,9,    85020,   8.0307
  06MT20030723,   532,  1,     21,2,20030814, 53.4180, -23.3320, 3957,     94.0,  11.3532,  35.4329,2,  35.4913,0,   -999.0,5,  -999.00,5,  -999.00,5,  -999.00,5,  -999.00,5,    3.107,3,    1.792,2,   -999.0,5,   -999.0,5,-999.0000,  -999.00,9,    85021,  11.3414
  06MT20030723,   532,  1,     22,2,20030814, 53.4180, -23.3320, 3957,     11.8,  15.2768,  35.4448,2,-999.0000,9,    259.7,2,  -999.00,5,  -999.00,5,  -999.00,5,  -999.00,5,    2.840,3,    1.675,2,   -999.0,5,   -999.0,5,-999.0000,  -999.00,9,    85022,  15.2750