BOTTLE,20090513PRINUNIVRMK
EXPOCODE,STNNBR,CASTNO,BTLNBR,BTLNBR_FLAG_W,DATE,LATITUDE,LONGITUDE,DEPTH,CTDPRS,CTDTMP,CTDSAL,CTDSAL_FLAG_W,SALNTY,SALNTY_FLAG_W,OXYGEN,OXYGEN_FLAG_W,SILCAT,SILCAT_FLAG_W,NITRAT,NITRAT_FLAG_W,NITRIT,NITRIT_FLAG_W,PHSPHT,PHSPHT_FLAG_W,CFC-11,CFC-11_FLAG_W,CFC-12,CFC-12_FLAG_W,TCARBN,TCARBN_FLAG_W,ALKALI,ALKALI_FLAG_W,PH_SWS,PH_TEMP,PH_SWS_FLAG_W,ID,THETA
,,,,,,,,METERS,DBARS,ITS-90,PSS-78,,PSS-78,,UMOL/KG,,UMOL/KG,,UMOL/KG,,UMOL/KG,,UMOL/KG,,PMOL/KG,,PMOL/KG,,UMOL/KG,,UMOL/KG,,,DEGC,,,DEGC
  06MT20030723,   572,  1,      1,2,20030824, 47.0020, -41.4260, 4360,   4404.6,   2.0693,  34.8813,2,  34.8827,2,    289.1,2,    14.81,2,    15.63,2,     0.01,2,     0.98,2, -999.000,9, -999.000,9,   2159.5,2,   2306.7,2,   7.7335,    25.00,2,   125001,   1.6865
  06MT20030723,   572,  1,      2,2,20030824, 47.0020, -41.4260, 4360,   4405.3,   2.0693,  34.8813,2,-999.0000,9,    288.9,2,    14.96,2,    15.63,2,     0.00,2,     0.98,2, -999.000,9, -999.000,9,   -999.0,5,   -999.0,5,-999.0000,  -999.00,9,   125002,   1.6865
  06MT20030723,   572,  1,      3,2,20030824, 47.0020, -41.4260, 4360,   4381.4,   2.0768,  34.8801,2,  34.8823,2,    288.0,2,    15.34,2,    15.54,2,     0.00,2,     0.98,2,    2.807,3,    1.478,2,   2160.6,2,   2304.4,2,   7.7335,    25.00,2,   125003,   1.6965
  06MT20030723,   572,  1,      4,2,20030824, 47.0020, -41.4260, 4360,   4173.2,   2.1743,  34.8863,2,-999.0000,9,    282.3,2,    18.62,2,    16.62,2,     0.00,2,     1.04,2,    2.128,3,    1.099,2,   2162.6,2,   2307.4,2,   7.7374,    25.00,2,   125004,   1.8154
  06MT20030723,   572,  1,      5,2,20030824, 47.0020, -41.4260, 4360,   3974.1,   2.2350,  34.8901,2,-999.0000,9,    279.5,2,    19.83,2,    17.06,2,     0.00,2,     1.08,2,    1.835,3,    0.941,2,   2163.5,2,   2313.6,2,   7.7374,    25.00,2,   125005,   1.8971
  06MT20030723,   572,  1,      6,2,20030824, 47.0020, -41.4260, 4360,   3554.7,   2.4306,  34.9012,2,-999.0000,9,    276.1,2,    20.03,2,    17.19,2,     0.00,2,     1.11,2,    1.398,3,    0.710,2,   2162.4,2,   2309.9,2,   7.7433,    25.00,2,   125006,   2.1340
  06MT20030723,   572,  1,      7,2,20030824, 47.0020, -41.4260, 4360,   3146.0,   2.6942,  34.9075,2,-999.0000,9,    277.7,2,    15.33,2,    16.92,2,     0.00,2,     1.07,2, -999.000,9, -999.000,9,   2157.7,2,   2303.9,2,   7.7414,    25.00,2,   125007,   2.4350
  06MT20030723,   572,  1,      8,2,20030824, 47.0020, -41.4260, 4360,   2750.3,   2.9008,  34.8977,2,-999.0000,9,    280.3,2,    12.43,2,    16.69,2,     0.00,2,     1.05,2,    2.199,3,    1.137,2,   2155.7,2,   2301.0,2,   7.7374,    25.00,2,   125008,   2.6780
  06MT20030723,   572,  1,      9,2,20030824, 47.0020, -41.4260, 4360,   2316.8,   3.0948,  34.8856,2,-999.0000,9,    285.5,2,    10.58,2,    16.47,2,     0.00,2,     1.05,2,    2.975,3,    1.529,2,   2153.9,2,   2301.0,2,   7.7364,    25.00,2,   125009,   2.9112
  06MT20030723,   572,  1,     10,2,20030824, 47.0020, -41.4260, 4360,   1843.7,   3.3817,  34.8925,2,-999.0000,9,    281.8,2,    10.09,2,    16.93,2,     0.00,2,     1.08,2, -999.000,9, -999.000,9,   2154.8,2,   2297.0,2,   7.7295,    25.00,2,   125010,   3.2381
  06MT20030723,   572,  1,     11,2,20030824, 47.0020, -41.4260, 4360,   1638.4,   3.4732,  34.8894,2,-999.0000,9,   -999.0,5,     9.57,2,    16.52,2,     0.01,2,     1.04,2, -999.000,9, -999.000,9,   -999.0,5,   -999.0,5,-999.0000,  -999.00,9,   125011,   3.3469
  06MT20030723,   572,  1,     12,2,20030824, 47.0020, -41.4260, 4360,   1521.8,   3.4372,  34.8706,2,-999.0000,9,    285.2,2,     9.46,2,    16.86,2,     0.00,2,     1.07,2,    3.679,3,    1.931,2,   2154.8,2,   2296.5,2,   7.7315,    25.00,2,   125012,   3.3217
  06MT20030723,   572,  1,     13,2,20030824, 47.0020, -41.4260, 4360,   1412.9,   3.4323,  34.8610,2,-999.0000,9,    289.9,2,     8.96,2,    16.45,2,     0.00,2,     1.05,2,    3.991,3,    2.135,2,   2155.0,2,   2296.7,2,   7.7295,    25.00,2,   125013,   3.3263
  06MT20030723,   572,  1,     14,2,20030824, 47.0020, -41.4260, 4360,   1290.6,   3.3998,  34.8475,2,-999.0000,9,    294.3,2,     8.52,2,    16.32,2,     0.00,2,     1.04,2,    4.186,3,    2.282,2,   2153.0,2,   2296.0,2,   7.7285,    25.00,2,   125014,   3.3045
  06MT20030723,   572,  1,     15,2,20030824, 47.0020, -41.4260, 4360,   1238.4,   3.3683,  34.8387,2,-999.0000,9,    296.4,2,     8.25,2,    16.26,2,     0.00,2,     1.03,2,    4.220,3,    2.334,2,   2152.4,2,   2297.5,2,   7.7285,    25.00,2,   125015,   3.2777
  06MT20030723,   572,  1,     16,2,20030824, 47.0020, -41.4260, 4360,   1112.6,   3.3942,  34.8329,2,-999.0000,9,    296.7,2,     8.23,2,    16.18,2,     0.01,2,     1.03,2,    4.285,3,    2.347,2,   2153.8,2,   2294.2,2,   7.7305,    25.00,2,   125016,   3.3136
  06MT20030723,   572,  1,     17,2,20030824, 47.0020, -41.4260, 4360,   1033.4,   3.4261,  34.8316,2,-999.0000,9,    295.4,2,     8.28,2,    16.39,2,     0.01,2,     1.04,2,    4.260,3,    2.363,2,   2153.7,2,   2296.9,2,   7.7276,    25.00,2,   125017,   3.3517
  06MT20030723,   572,  1,     18,2,20030824, 47.0020, -41.4260, 4360,    681.1,   4.1825,  34.8555,2,  34.8815,0,    272.1,2,     9.52,2,    17.34,2,     0.01,2,     1.09,2,    3.561,3,    1.950,2,   2160.0,2,   2299.9,2,   7.7246,    25.00,2,   125018,   4.1312
  06MT20030723,   572,  1,     19,2,20030824, 47.0020, -41.4260, 4360,    507.9,   5.1965,  34.8128,2,-999.0000,9,    243.6,2,     9.67,2,    18.07,2,     0.01,2,     1.16,2,    3.083,3,    1.733,2,   2164.4,2,   2300.5,2,   7.7079,    25.00,2,   125019,   5.1550
  06MT20030723,   572,  1,     20,2,20030824, 47.0020, -41.4260, 4360,    199.7,  10.8430,  35.2154,2,-999.0000,9,    195.2,2,     6.13,2,    15.02,2,     0.02,2,     0.92,2,    2.336,3,    1.362,2,   2148.1,2,   2320.2,2,   7.7936,    25.00,2,   125020,  10.8185
  06MT20030723,   572,  1,     21,2,20030824, 47.0020, -41.4260, 4360,    129.1,  11.5874,  35.2898,2,-999.0000,9,    223.8,2,     2.82,2,     9.11,2,     0.14,2,     0.57,2,    3.022,3,    1.742,2,   2120.6,2,   2322.8,2,   7.8510,    25.00,2,   125021,  11.5709
  06MT20030723,   572,  1,     22,2,20030824, 47.0020, -41.4260, 4360,      5.9,  16.6747,  33.3288,2,-999.0000,9,    249.4,2,     0.00,2,     0.03,2,     0.01,2,     0.17,2,    2.678,3,    1.596,2,   2005.0,2,   2251.0,2,   7.9711,    25.00,2,   125022,  16.6738
  06MT20030723,   573,  1,      1,2,20030824, 46.9840, -41.0330, 4500,   4571.7,   2.0647,  34.8799,2,-999.0000,9,    285.9,2,  -999.00,5,  -999.00,5,  -999.00,5,  -999.00,5, -999.000,9, -999.000,9,   -999.0,5,   -999.0,5,-999.0000,  -999.00,9,   126001,   1.6623
  06MT20030723,   573,  1,      2,2,20030824, 46.9840, -41.0330, 4500,   4571.6,   2.0639,  34.8798,2,-999.0000,9,    291.6,2,    13.90,2,    15.51,2,     0.01,2,     0.96,2,    2.928,3,    1.543,2,   -999.0,5,   -999.0,5,-999.0000,  -999.00,9,   126002,   1.6615
  06MT20030723,   573,  1,      3,2,20030824, 46.9840, -41.0330, 4500,   4275.9,   2.2095,  34.8876,2,-999.0000,9,    283.1,2,    18.17,2,    16.31,2,     0.01,2,     1.04,2,    2.082,3,    1.079,2,   -999.0,5,   -999.0,5,-999.0000,  -999.00,9,   126003,   1.8376
  06MT20030723,   573,  1,      4,2,20030824, 46.9840, -41.0330, 4500,   3762.5,   2.4135,  34.8990,2,-999.0000,9,    279.5,2,    18.70,2,    16.61,2,     0.00,2,     1.08,2, -999.000,9, -999.000,9,   -999.0,5,   -999.0,5,-999.0000,  -999.00,9,   126004,   2.0944
  06MT20030723,   573,  1,      5,2,20030824, 46.9840, -41.0330, 4500,   3762.4,   2.4135,  34.8987,2,-999.0000,9,    278.6,2,    18.88,2,    17.11,2,     0.00,2,     1.09,2,    1.559,3,    0.805,2,   -999.0,5,   -999.0,5,-999.0000,  -999.00,9,   126005,   2.0944
  06MT20030723,   573,  1,      6,2,20030824, 46.9840, -41.0330, 4500,   3451.3,   2.6186,  34.9040,2,-999.0000,9,    280.7,2,    14.97,2,    16.45,2,     0.00,2,     1.16,2,    1.858,3,    0.964,2,   -999.0,5,   -999.0,5,-999.0000,  -999.00,9,   126006,   2.3285
  06MT20030723,   573,  1,      7,2,20030824, 46.9840, -41.0330, 4500,   3131.6,   2.8531,  34.9096,2,-999.0000,9,    284.7,2,    13.48,2,    16.70,2,     0.00,2,     1.06,2,    1.854,3,    0.954,2,   -999.0,5,   -999.0,5,-999.0000,  -999.00,9,   126007,   2.5918
  06MT20030723,   573,  1,      8,2,20030824, 46.9840, -41.0330, 4500,   2835.3,   3.0265,  34.9078,2,  34.9075,2,    280.3,2,    12.19,2,    16.83,2,     0.00,2,     1.07,2,    2.058,3,    1.071,2,   -999.0,5,   -999.0,5,-999.0000,  -999.00,9,   126008,   2.7924
  06MT20030723,   573,  1,      9,2,20030824, 46.9840, -41.0330, 4500,   2623.6,   3.1116,  34.8998,2,-999.0000,9,    282.2,2,    11.25,2,    16.91,2,     0.00,2,     1.08,2, -999.000,9, -999.000,9,   -999.0,5,   -999.0,5,-999.0000,  -999.00,9,   126009,   2.8974
  06MT20030723,   573,  1,     10,2,20030824, 46.9840, -41.0330, 4500,   2422.2,   3.1908,  34.8939,2,-999.0000,9,    284.6,2,    11.33,2,    16.52,2,     0.00,2,     1.08,2,    2.548,3,    1.321,2,   -999.0,5,   -999.0,5,-999.0000,  -999.00,9,   126010,   2.9952
  06MT20030723,   573,  1,     11,2,20030824, 46.9840, -41.0330, 4500,   2215.2,   3.2755,  34.8905,2,-999.0000,9,    284.0,2,    10.97,2,    17.10,2,     0.01,2,     1.08,2,    2.731,3,    1.427,2,   -999.0,5,   -999.0,5,-999.0000,  -999.00,9,   126011,   3.0986
  06MT20030723,   573,  1,     12,2,20030824, 46.9840, -41.0330, 4500,   2007.6,   3.4052,  34.8966,2,-999.0000,9,    280.7,2,    10.92,2,    17.39,2,     0.01,2,     1.09,2,    2.647,3,    1.376,2,   -999.0,5,   -999.0,5,-999.0000,  -999.00,9,   126012,   3.2460
  06MT20030723,   573,  1,     13,2,20030824, 46.9840, -41.0330, 4500,   1808.0,   3.5398,  34.9025,2,-999.0000,9,    279.2,2,    10.53,2,    17.43,2,     0.01,2,     1.08,2,    2.754,3,    1.439,2,   -999.0,5,   -999.0,5,-999.0000,  -999.00,9,   126013,   3.3972
  06MT20030723,   573,  1,     14,2,20030824, 46.9840, -41.0330, 4500,   1603.3,   3.6631,  34.9029,2,-999.0000,9,    277.2,2,    10.19,2,    17.20,2,     0.00,2,     1.08,2,    2.969,3,    1.576,2,   -999.0,5,   -999.0,5,-999.0000,  -999.00,9,   126014,   3.5376
  06MT20030723,   573,  1,     15,2,20030824, 46.9840, -41.0330, 4500,   1381.9,   3.8277,  34.9074,2,  34.9126,2,    278.1,2,     9.93,2,    17.35,2,     0.01,2,     1.08,2,    3.018,3,    1.606,2,   -999.0,5,   -999.0,5,-999.0000,  -999.00,9,   126015,   3.7201
  06MT20030723,   573,  1,     16,2,20030824, 46.9840, -41.0330, 4500,   1288.7,   3.9035,  34.9073,2,-999.0000,9,    276.0,2,     9.68,2,    17.40,2,     0.01,2,     1.07,2, -999.000,9, -999.000,9,   -999.0,5,   -999.0,5,-999.0000,  -999.00,9,   126016,   3.8033
  06MT20030723,   573,  1,     17,2,20030824, 46.9840, -41.0330, 4500,   1203.7,   4.1181,  34.9291,2,-999.0000,9,    271.1,2,     9.49,2,    16.98,2,     0.01,2,     1.09,2,    3.159,3,    1.704,2,   -999.0,5,   -999.0,5,-999.0000,  -999.00,9,   126017,   4.0233
  06MT20030723,   573,  1,     18,2,20030824, 46.9840, -41.0330, 4500,   1108.9,   4.1782,  34.9228,2,-999.0000,9,    270.3,2,     9.46,2,    17.56,2,     0.00,2,     1.08,2,    3.241,3,    1.782,2,   -999.0,5,   -999.0,5,-999.0000,  -999.00,9,   126018,   4.0911
  06MT20030723,   573,  1,     19,2,20030824, 46.9840, -41.0330, 4500,    805.0,   5.4777,  34.9668,2,-999.0000,9,    231.1,2,    10.43,2,    19.24,2,     0.00,2,     1.18,2,    2.473,3,    1.349,2,   -999.0,5,   -999.0,5,-999.0000,  -999.00,9,   126019,   5.4082
  06MT20030723,   573,  1,     20,2,20030824, 46.9840, -41.0330, 4500,    498.0,   9.5776,  35.2196,2,-999.0000,9,    201.5,2,     7.62,2,    16.76,2,     0.01,2,     1.04,2,    2.211,3,    1.286,2,   -999.0,5,   -999.0,5,-999.0000,  -999.00,9,   126020,   9.5203
  06MT20030723,   573,  1,     21,2,20030824, 46.9840, -41.0330, 4500,    101.9,  15.1468,  36.0062,2,-999.0000,9,    209.4,2,     1.77,2,     7.27,2,     0.02,2,     0.37,2,    2.394,3,    1.443,2,   -999.0,5,   -999.0,5,-999.0000,  -999.00,9,   126021,  15.1312
  06MT20030723,   573,  1,     22,2,20030824, 46.9840, -41.0330, 4500,     13.3,  19.3906,  35.5766,2,  35.6865,0,    232.6,2,     0.03,2,     0.00,2,     0.01,2,     0.00,2,    2.155,3,    1.356,2,   -999.0,5,   -999.0,5,-999.0000,  -999.00,9,   126022,  19.3882
  06MT20030723,   574,  1,      1,2,20030825, 47.0010, -41.6270, 4291,   4336.0,   2.0702,  34.8817,2,-999.0000,9,   -999.0,5,  -999.00,5,  -999.00,5,  -999.00,5,  -999.00,5, -999.000,9, -999.000,9,   -999.0,5,   -999.0,5,   7.7344,    25.00,2,   127001,   1.6955
  06MT20030723,   574,  1,      2,2,20030825, 47.0010, -41.6270, 4291,   4336.0,   2.0702,  34.8817,2,  34.8898,2,    289.8,2,    15.24,2,    15.57,2,     0.00,2,     0.96,2,    2.724,3,    1.429,2,   2162.8,2,   2305.0,2,-999.0000,  -999.00,9,   127002,   1.6954
  06MT20030723,   574,  1,      3,2,20030825, 47.0010, -41.6270, 4291,   4275.4,   2.1209,  34.8834,2,-999.0000,9,    287.0,2,    16.99,2,    16.03,2,     0.01,2,     1.00,2,    2.460,3,    1.288,2,   2165.0,2,   2306.6,2,   7.7364,    25.00,2,   127003,   1.7517
  06MT20030723,   574,  1,      4,2,20030825, 47.0010, -41.6270, 4291,   4068.9,   2.1986,  34.8872,2,-999.0000,9,    281.4,2,    20.95,2,    17.14,2,     0.01,2,     1.08,2, -999.000,9, -999.000,9,   2165.9,2,   2312.4,2,   7.7394,    25.00,2,   127004,   1.8509
  06MT20030723,   574,  1,      5,2,20030825, 47.0010, -41.6270, 4291,   3763.7,   2.2412,  34.8915,2,-999.0000,9,    276.6,2,    22.62,2,    17.77,2,     0.00,2,     1.10,2,    1.392,3,    0.720,2,   2168.2,2,   2313.2,2,   7.7384,    25.00,2,   127005,   1.9266
  06MT20030723,   574,  1,      6,2,20030825, 47.0010, -41.6270, 4291,   3443.4,   2.3737,  34.8997,2,-999.0000,9,    278.4,2,    19.29,2,    17.09,2,     0.00,2,     1.08,2,    1.483,3,    0.763,2,   2163.6,2,   2311.1,2,   7.7423,    25.00,2,   127006,   2.0905
  06MT20030723,   574,  1,      7,2,20030825, 47.0010, -41.6270, 4291,   3134.9,   2.5588,  34.9040,2,  34.9014,2,    281.8,2,    14.73,2,    16.53,2,     0.00,2,     1.02,2,    1.964,3,    1.015,2,   2159.6,2,   -999.0,5,   7.7413,    25.00,2,   127007,   2.3038
  06MT20030723,   574,  1,      8,2,20030825, 47.0010, -41.6270, 4291,   2841.1,   2.7611,  34.8993,2,-999.0000,9,    284.0,2,    11.53,2,    16.18,2,     0.01,2,     0.97,2,    2.506,3,    1.314,2,   2156.2,2,   2300.1,2,   7.7384,    25.00,2,   127008,   2.5319
  06MT20030723,   574,  1,      9,2,20030825, 47.0010, -41.6270, 4291,   2536.3,   2.9596,  34.8944,2,-999.0000,9,    287.3,2,    10.91,2,    16.38,2,     0.01,2,     0.98,2,    2.721,3,    1.417,2,   2155.4,2,   2298.5,2,   7.7374,    25.00,2,   127009,   2.7570
  06MT20030723,   574,  1,     10,2,20030825, 47.0010, -41.6270, 4291,   2333.8,   3.0522,  34.8948,2,-999.0000,9,    286.8,2,    10.99,2,    16.34,2,     0.01,2,     0.99,2,    2.668,3,    1.379,2,   2156.2,2,   2300.8,2,   7.7384,    25.00,2,   127010,   2.8676
  06MT20030723,   574,  1,     11,2,20030825, 47.0010, -41.6270, 4291,   2022.6,   3.1932,  34.8890,2,-999.0000,9,    284.5,2,    10.98,2,    17.08,2,     0.01,2,     1.02,2,    2.714,3,    1.404,2,   2155.3,2,   2299.7,2,   7.7364,    25.00,2,   127011,   3.0358
  06MT20030723,   574,  1,     12,2,20030825, 47.0010, -41.6270, 4291,   1819.9,   3.2987,  34.8923,2,-999.0000,9,    282.9,2,    10.91,2,    17.30,2,     0.01,2,     1.04,2,    2.746,3,    1.421,2,   2157.2,2,   2297.1,2,   7.7345,    25.00,2,   127012,   3.1584
  06MT20030723,   574,  1,     13,2,20030825, 47.0010, -41.6270, 4291,   1616.3,   3.4234,  34.8967,2,  34.9010,2,    280.2,2,    10.63,2,    17.33,2,     0.01,2,     1.04,2,    2.802,3,    1.450,2,   2158.4,2,   2298.4,2,   7.7315,    25.00,2,   127013,   3.2997
  06MT20030723,   574,  1,     14,2,20030825, 47.0010, -41.6270, 4291,   1412.7,   3.5564,  34.9020,2,-999.0000,9,    279.0,2,    10.37,2,    17.29,2,     0.01,2,     1.04,2,    2.902,3,    1.524,2,   2158.4,2,   2299.6,2,   7.7315,    25.00,2,   127014,   3.4490
  06MT20030723,   574,  1,     15,2,20030825, 47.0010, -41.6270, 4291,   1209.4,   3.6620,  34.9018,2,-999.0000,9,    278.6,2,     9.91,2,    16.84,2,     0.01,2,     1.04,2,    3.062,3,    1.626,2,   2160.0,2,   2300.6,2,   7.7315,    25.00,2,   127015,   3.5709
  06MT20030723,   574,  1,     16,2,20030825, 47.0010, -41.6270, 4291,   1110.8,   3.7299,  34.9047,2,-999.0000,9,   -999.0,5,  -999.00,5,  -999.00,5,  -999.00,5,  -999.00,5, -999.000,9, -999.000,9,   -999.0,5,   -999.0,5,-999.0000,  -999.00,9,   127016,   3.6465
  06MT20030723,   574,  1,     17,2,20030825, 47.0010, -41.6270, 4291,   1007.5,   3.7645,  34.9021,2,-999.0000,9,    279.2,2,     9.46,2,    17.36,2,     0.00,2,     1.03,2,    3.344,3,    1.804,2,   2159.4,2,   2301.0,2,   7.7305,    25.00,2,   127017,   3.6894
  06MT20030723,   574,  1,     18,2,20030825, 47.0010, -41.6270, 4291,    672.2,   3.6498,  34.8475,2,-999.0000,9,    276.3,2,     9.22,2,    17.36,2,     0.01,2,     1.05,2,    3.443,4,    1.881,4,   2160.7,2,   2300.4,2,   7.7276,    25.00,2,   127018,   3.6021
  06MT20030723,   574,  1,     19,2,20030825, 47.0010, -41.6270, 4291,    438.4,   3.4387,  34.7613,2,  34.7730,0,    294.3,2,     7.91,2,    16.09,2,     0.04,2,     0.98,2,    4.357,3,    2.462,2,   2154.8,2,   2292.3,2,   7.7256,    25.00,2,   127019,   3.4092
  06MT20030723,   574,  1,     20,2,20030825, 47.0010, -41.6270, 4291,    221.3,   4.4592,  34.5940,2,-999.0000,9,    270.9,2,     7.34,2,    15.39,2,     0.18,2,     0.99,2, -999.000,9, -999.000,9,   2153.6,2,   2286.4,2,   7.7168,    25.00,2,   127020,   4.4429
  06MT20030723,   574,  1,     21,2,20030825, 47.0010, -41.6270, 4291,     84.3,   3.1802,  33.8656,2,-999.0000,9,    296.6,2,     3.12,2,     7.67,2,     0.24,2,     0.64,2, -999.000,9, -999.000,9,   2111.7,2,   2268.3,2,   7.7770,    25.00,2,   127021,   3.1751
  06MT20030723,   574,  1,     22,2,20030825, 47.0010, -41.6270, 4291,     24.9,  13.5448,  33.7821,2,-999.0000,9,    275.3,2,     0.11,2,     0.01,2,     0.01,2,     0.07,2,    3.219,3,    1.895,2,   2014.2,2,   2255.6,2,   7.9612,    25.00,2,   127022,  13.5413