BOTTLE,20090513PRINUNIVRMK
EXPOCODE,STNNBR,CASTNO,BTLNBR,BTLNBR_FLAG_W,DATE,LATITUDE,LONGITUDE,DEPTH,CTDPRS,CTDTMP,CTDSAL,CTDSAL_FLAG_W,SALNTY,SALNTY_FLAG_W,OXYGEN,OXYGEN_FLAG_W,SILCAT,SILCAT_FLAG_W,NITRAT,NITRAT_FLAG_W,NITRIT,NITRIT_FLAG_W,PHSPHT,PHSPHT_FLAG_W,CFC-11,CFC-11_FLAG_W,CFC-12,CFC-12_FLAG_W,TCARBN,TCARBN_FLAG_W,ALKALI,ALKALI_FLAG_W,PH_SWS,PH_TEMP,PH_SWS_FLAG_W,ID,THETA
,,,,,,,,METERS,DBARS,ITS-90,PSS-78,,PSS-78,,UMOL/KG,,UMOL/KG,,UMOL/KG,,UMOL/KG,,UMOL/KG,,PMOL/KG,,PMOL/KG,,UMOL/KG,,UMOL/KG,,,DEGC,,,DEGC
  06MT20030723,   467,  1,      1,2,20030728, 58.8260, -53.4020, 3430,   3436.8,   1.5930,  34.8763,2,  34.8755,2,    296.6,2,  -999.00,5,  -999.00,5,  -999.00,5,  -999.00,5, -999.000,9, -999.000,9,   -999.0,5,   -999.0,5,-999.0000,  -999.00,9,    18001,   1.3298
  06MT20030723,   467,  1,      2,2,20030728, 58.8260, -53.4020, 3430,   3436.8,   1.5930,  34.8763,2,-999.0000,9,   -999.0,5,  -999.00,5,  -999.00,5,  -999.00,5,  -999.00,5, -999.000,9, -999.000,9,   -999.0,5,   -999.0,5,-999.0000,  -999.00,9,    18002,   1.3298
  06MT20030723,   467,  1,      3,2,20030728, 58.8260, -53.4020, 3430,   3353.9,   1.7293,  34.8785,2,-999.0000,9,   -999.0,5,  -999.00,5,  -999.00,5,  -999.00,5,  -999.00,5, -999.000,9, -999.000,9,   -999.0,5,   -999.0,5,-999.0000,  -999.00,9,    18003,   1.4713
  06MT20030723,   467,  1,      4,2,20030728, 58.8260, -53.4020, 3430,   3249.5,   2.0350,  34.8854,2,-999.0000,9,   -999.0,5,  -999.00,5,  -999.00,5,  -999.00,5,  -999.00,5, -999.000,9, -999.000,9,   -999.0,5,   -999.0,5,-999.0000,  -999.00,9,    18004,   1.7803
  06MT20030723,   467,  1,      5,2,20030728, 58.8260, -53.4020, 3430,   2949.9,   2.5844,  34.9032,2,-999.0000,9,   -999.0,5,  -999.00,5,  -999.00,5,  -999.00,5,  -999.00,5,    2.549,3,    1.299,2,   -999.0,5,   -999.0,5,-999.0000,  -999.00,9,    18005,   2.3479
  06MT20030723,   467,  1,      6,2,20030728, 58.8260, -53.4020, 3430,   2741.0,   2.8012,  34.9047,2,-999.0000,9,   -999.0,5,  -999.00,5,  -999.00,5,  -999.00,5,  -999.00,5, -999.000,9, -999.000,9,   -999.0,5,   -999.0,5,-999.0000,  -999.00,9,    18006,   2.5813
  06MT20030723,   467,  1,      7,2,20030728, 58.8260, -53.4020, 3430,   2592.3,   2.9090,  34.9010,2,-999.0000,9,    283.5,2,  -999.00,5,  -999.00,5,  -999.00,5,  -999.00,5,    2.633,3,    1.367,2,   -999.0,5,   -999.0,5,-999.0000,  -999.00,9,    18007,   2.7018
  06MT20030723,   467,  1,      8,2,20030728, 58.8260, -53.4020, 3430,   2228.9,   3.0973,  34.8872,2,  34.8873,2,   -999.0,5,  -999.00,5,  -999.00,5,  -999.00,5,  -999.00,5,    3.029,3,    1.579,2,   -999.0,5,   -999.0,5,-999.0000,  -999.00,9,    18008,   2.9220
  06MT20030723,   467,  1,      9,2,20030728, 58.8260, -53.4020, 3430,   1978.1,   3.1923,  34.8805,2,-999.0000,9,   -999.0,5,  -999.00,5,  -999.00,5,  -999.00,5,  -999.00,5,    3.325,3,    1.710,2,   -999.0,5,   -999.0,5,-999.0000,  -999.00,9,    18009,   3.0391
  06MT20030723,   467,  1,     10,2,20030728, 58.8260, -53.4020, 3430,   1803.2,   3.3490,  34.8892,2,-999.0000,9,   -999.0,5,  -999.00,5,  -999.00,5,  -999.00,5,  -999.00,5,    3.409,3,    1.767,2,   -999.0,5,   -999.0,5,-999.0000,  -999.00,9,    18010,   3.2095
  06MT20030723,   467,  1,     11,2,20030728, 58.8260, -53.4020, 3430,   1569.4,   3.4626,  34.8812,2,-999.0000,9,   -999.0,5,  -999.00,5,  -999.00,5,  -999.00,5,  -999.00,5,    3.554,3,    1.876,2,   -999.0,5,   -999.0,5,-999.0000,  -999.00,9,    18011,   3.3426
  06MT20030723,   467,  1,     12,2,20030728, 58.8260, -53.4020, 3430,   1312.9,   3.2458,  34.8350,2,-999.0000,9,   -999.0,5,  -999.00,5,  -999.00,5,  -999.00,5,  -999.00,5,    4.432,3,    2.442,2,   -999.0,5,   -999.0,5,-999.0000,  -999.00,9,    18012,   3.1502
  06MT20030723,   467,  1,     13,2,20030728, 58.8260, -53.4020, 3430,   1213.1,   3.2313,  34.8325,2,-999.0000,9,    300.8,2,  -999.00,5,  -999.00,5,  -999.00,5,  -999.00,5,    4.456,3,    2.467,2,   -999.0,5,   -999.0,5,-999.0000,  -999.00,9,    18013,   3.1441
  06MT20030723,   467,  1,     14,2,20030728, 58.8260, -53.4020, 3430,   1038.1,   3.2567,  34.8352,2,  34.8340,2,   -999.0,5,  -999.00,5,  -999.00,5,  -999.00,5,  -999.00,5,    4.485,3,    2.493,2,   -999.0,5,   -999.0,5,-999.0000,  -999.00,9,    18014,   3.1832
  06MT20030723,   467,  1,     15,2,20030728, 58.8260, -53.4020, 3430,    910.8,   3.2780,  34.8372,2,-999.0000,9,   -999.0,5,  -999.00,5,  -999.00,5,  -999.00,5,  -999.00,5,    4.434,3,    2.475,2,   -999.0,5,   -999.0,5,-999.0000,  -999.00,9,    18015,   3.2143
  06MT20030723,   467,  1,     16,2,20030728, 58.8260, -53.4020, 3430,    723.4,   3.3390,  34.8393,2,-999.0000,9,   -999.0,5,  -999.00,5,  -999.00,5,  -999.00,5,  -999.00,5,    4.456,3,    2.492,2,   -999.0,5,   -999.0,5,-999.0000,  -999.00,9,    18016,   3.2891
  06MT20030723,   467,  1,     17,2,20030728, 58.8260, -53.4020, 3430,    618.4,   3.4489,  34.8466,2,-999.0000,9,   -999.0,5,  -999.00,5,  -999.00,5,  -999.00,5,  -999.00,5,    4.333,3,    2.441,2,   -999.0,5,   -999.0,5,-999.0000,  -999.00,9,    18017,   3.4062
  06MT20030723,   467,  1,     18,2,20030728, 58.8260, -53.4020, 3430,    450.2,   3.5605,  34.8456,2,-999.0000,9,    296.9,2,  -999.00,5,  -999.00,5,  -999.00,5,  -999.00,5,    4.295,3,    2.440,2,   -999.0,5,   -999.0,5,-999.0000,  -999.00,9,    18018,   3.5296
  06MT20030723,   467,  1,     19,2,20030728, 58.8260, -53.4020, 3430,    310.2,   3.8889,  34.8621,2,  34.8619,2,   -999.0,5,  -999.00,5,  -999.00,5,  -999.00,5,  -999.00,5,    4.433,3,    2.533,2,   -999.0,5,   -999.0,5,-999.0000,  -999.00,9,    18019,   3.8671
  06MT20030723,   467,  1,     20,2,20030728, 58.8260, -53.4020, 3430,    158.2,   4.5128,  34.8721,2,-999.0000,9,   -999.0,5,  -999.00,5,  -999.00,5,  -999.00,5,  -999.00,5, -999.000,9, -999.000,9,   -999.0,5,   -999.0,5,-999.0000,  -999.00,9,    18020,   4.5011
  06MT20030723,   467,  1,     21,2,20030728, 58.8260, -53.4020, 3430,     93.2,   4.4685,  34.8124,2,-999.0000,9,   -999.0,5,  -999.00,5,  -999.00,5,  -999.00,5,  -999.00,5,    4.321,3,    2.507,2,   -999.0,5,   -999.0,5,-999.0000,  -999.00,9,    18021,   4.4617
  06MT20030723,   467,  1,     22,2,20030728, 58.8260, -53.4020, 3430,     12.8,   8.3549,  34.5437,2,-999.0000,9,    318.7,2,  -999.00,5,  -999.00,5,  -999.00,5,  -999.00,5,    4.218,3,    2.485,2,   -999.0,5,   -999.0,5,-999.0000,  -999.00,9,    18022,   8.3536
  06MT20030723,   468,  1,      1,2,20030728, 58.8160, -54.4120, 3430,   3433.8,   1.5751,  34.8760,2,-999.0000,9,    296.5,2,    10.17,2,    13.98,2,     0.01,2,     0.90,2, -999.000,9, -999.000,9,   -999.0,5,   -999.0,5,-999.0000,  -999.00,9,    19001,   1.3127
  06MT20030723,   468,  1,      2,2,20030728, 58.8160, -54.4120, 3430,   3434.4,   1.5749,  34.8769,2,-999.0000,9,    297.1,2,    10.15,2,    13.95,2,     0.01,2,     0.91,2,    3.745,3,    1.955,2,   -999.0,5,   -999.0,5,-999.0000,  -999.00,9,    19002,   1.3124
  06MT20030723,   468,  1,      3,2,20030728, 58.8160, -54.4120, 3430,   3356.3,   1.6528,  34.8766,2,-999.0000,9,    297.1,2,    10.26,2,    14.00,2,     0.01,2,     0.91,2,    3.710,3,    1.928,2,   -999.0,5,   -999.0,5,-999.0000,  -999.00,9,    19003,   1.3964
  06MT20030723,   468,  1,      4,2,20030728, 58.8160, -54.4120, 3430,   3149.2,   2.2055,  34.8902,2,  34.8869,2,    289.8,2,    11.49,2,    14.90,2,     0.00,2,     0.97,2, -999.000,9, -999.000,9,   -999.0,5,   -999.0,5,-999.0000,  -999.00,9,    19004,   1.9571
  06MT20030723,   468,  1,      5,2,20030728, 58.8160, -54.4120, 3430,   2944.7,   2.5891,  34.9051,2,-999.0000,9,    283.7,2,    12.07,2,    15.55,2,     0.00,2,     1.01,2, -999.000,9, -999.000,9,   -999.0,5,   -999.0,5,-999.0000,  -999.00,9,    19005,   2.3530
  06MT20030723,   468,  1,      6,2,20030728, 58.8160, -54.4120, 3430,   2743.2,   2.7848,  34.9050,2,-999.0000,9,    283.1,2,    11.31,2,    15.43,2,     0.00,2,     1.01,2, -999.000,9, -999.000,9,   -999.0,5,   -999.0,5,-999.0000,  -999.00,9,    19006,   2.5650
  06MT20030723,   468,  1,      7,2,20030728, 58.8160, -54.4120, 3430,   2535.6,   2.9338,  34.9007,2,-999.0000,9,    282.9,2,    11.01,2,    15.83,2,     0.00,2,     1.02,2,    2.689,3,    1.373,2,   -999.0,5,   -999.0,5,-999.0000,  -999.00,9,    19007,   2.7317
  06MT20030723,   468,  1,      8,2,20030728, 58.8160, -54.4120, 3430,   2331.0,   3.0532,  34.8935,2,-999.0000,9,    284.7,2,    10.41,2,    16.01,2,     0.00,2,     1.01,2, -999.000,9, -999.000,9,   -999.0,5,   -999.0,5,-999.0000,  -999.00,9,    19008,   2.8689
  06MT20030723,   468,  1,      9,2,20030728, 58.8160, -54.4120, 3430,   2131.9,   3.1242,  34.8843,2,-999.0000,9,    286.5,2,    10.08,2,    16.21,2,     0.00,2,     1.04,2,    3.193,3,    1.614,2,   -999.0,5,   -999.0,5,-999.0000,  -999.00,9,    19009,   2.9577
  06MT20030723,   468,  1,     10,2,20030728, 58.8160, -54.4120, 3430,   1936.2,   3.2203,  34.8834,2,  34.8833,2,    285.9,2,     9.85,2,    16.41,2,     0.00,2,     1.05,2,    3.400,3,    1.726,2,   -999.0,5,   -999.0,5,-999.0000,  -999.00,9,    19010,   3.0705
  06MT20030723,   468,  1,     11,2,20030728, 58.8160, -54.4120, 3430,   1733.1,   3.3866,  34.8926,2,-999.0000,9,    285.5,2,     9.73,2,    16.50,2,     0.00,2,     1.04,2,    3.460,3,    1.766,2,   -999.0,5,   -999.0,5,-999.0000,  -999.00,9,    19011,   3.2529
  06MT20030723,   468,  1,     12,2,20030728, 58.8160, -54.4120, 3430,   1515.2,   3.4294,  34.8752,2,-999.0000,9,    285.0,2,     9.38,2,    16.48,2,     0.00,2,     1.05,2,    3.770,3,    1.956,2,   -999.0,5,   -999.0,5,-999.0000,  -999.00,9,    19012,   3.3146
  06MT20030723,   468,  1,     13,2,20030728, 58.8160, -54.4120, 3430,   1312.7,   3.2667,  34.8378,2,-999.0000,9,    298.8,2,     8.18,2,    15.66,2,     0.00,2,     1.01,2,    4.502,3,    2.427,2,   -999.0,5,   -999.0,5,-999.0000,  -999.00,9,    19013,   3.1709
  06MT20030723,   468,  1,     14,2,20030728, 58.8160, -54.4120, 3430,   1109.3,   3.2410,  34.8317,2,-999.0000,9,    301.1,2,     8.08,2,    15.49,2,     0.00,2,     1.01,2,    4.601,3,    2.499,2,   -999.0,5,   -999.0,5,-999.0000,  -999.00,9,    19014,   3.1620
  06MT20030723,   468,  1,     15,2,20030728, 58.8160, -54.4120, 3430,    908.6,   3.2438,  34.8296,2,-999.0000,9,    301.2,2,     8.02,2,    15.55,2,     0.00,2,     1.01,2, -999.000,9, -999.000,9,   -999.0,5,   -999.0,5,-999.0000,  -999.00,9,    19015,   3.1805
  06MT20030723,   468,  1,     16,2,20030728, 58.8160, -54.4120, 3430,    674.8,   3.3567,  34.8349,2,  34.8381,2,    298.8,2,     7.95,2,    15.66,2,     0.01,2,     1.01,2,    4.583,3,    2.490,2,   -999.0,5,   -999.0,5,-999.0000,  -999.00,9,    19016,   3.3103
  06MT20030723,   468,  1,     17,2,20030728, 58.8160, -54.4120, 3430,    490.5,   3.6818,  34.8616,2,-999.0000,9,    292.3,2,     7.96,2,    15.49,2,     0.01,2,     1.01,2,    4.374,3,    2.390,2,   -999.0,5,   -999.0,5,-999.0000,  -999.00,9,    19017,   3.6475
  06MT20030723,   468,  1,     18,2,20030728, 58.8160, -54.4120, 3430,    305.1,   4.0419,  34.8712,2,-999.0000,9,    290.6,2,     7.63,2,    15.38,2,     0.00,2,     0.99,2,    4.291,3,    2.379,2,   -999.0,5,   -999.0,5,-999.0000,  -999.00,9,    19018,   4.0201
  06MT20030723,   468,  1,     19,2,20030728, 58.8160, -54.4120, 3430,    206.2,   4.2331,  34.8601,2,-999.0000,9,    289.6,2,     7.25,2,    15.34,2,     0.01,2,     0.97,2,    4.374,3,    2.402,2,   -999.0,5,   -999.0,5,-999.0000,  -999.00,9,    19019,   4.2182
  06MT20030723,   468,  1,     20,2,20030728, 58.8160, -54.4120, 3430,     98.1,   4.3792,  34.8052,2,-999.0000,9,    290.6,2,     6.19,2,    14.49,2,     0.01,2,     0.90,2,    4.485,3,    2.501,2,   -999.0,5,   -999.0,5,-999.0000,  -999.00,9,    19020,   4.3721
  06MT20030723,   468,  1,     21,2,20030728, 58.8160, -54.4120, 3430,     55.2,   4.2783,  34.6363,2,  34.7374,0,    296.7,2,     4.81,2,    11.60,2,     0.38,2,     0.76,2, -999.000,9, -999.000,9,   -999.0,5,   -999.0,5,-999.0000,  -999.00,9,    19021,   4.2744
  06MT20030723,   468,  1,     22,2,20030728, 58.8160, -54.4120, 3430,     25.1,   8.0051,  34.5348,2,-999.0000,9,    322.0,2,     0.51,2,     0.48,2,     0.06,2,     0.18,2,    4.385,3,    2.486,2,   -999.0,5,   -999.0,5,-999.0000,  -999.00,9,    19022,   8.0026
  06MT20030723,   469,  1,      1,2,20030729, 58.4070, -53.8020, 3460,   3463.8,   1.6026,  34.8776,2,-999.0000,9,    297.0,2,     9.88,2,    13.85,2,     0.01,2,     0.89,2, -999.000,9, -999.000,9,   2157.5,2,   2296.3,2,   7.7088,    25.00,2,    20001,   1.3364
  06MT20030723,   469,  1,      2,2,20030729, 58.4070, -53.8020, 3460,   3462.8,   1.6021,  34.8784,2,-999.0000,9,    297.1,2,     9.87,2,    14.05,2,     0.01,2,     0.89,2, -999.000,9, -999.000,9,   -999.0,5,   -999.0,5,-999.0000,  -999.00,9,    20002,   1.3360
  06MT20030723,   469,  1,      3,2,20030729, 58.4070, -53.8020, 3460,   3354.3,   1.8221,  34.8798,2,-999.0000,9,    294.6,2,     9.70,2,    14.44,2,     0.01,2,     0.90,2, -999.000,9, -999.000,9,   2156.6,2,   2297.4,2,   7.7118,    25.00,2,    20003,   1.5618
  06MT20030723,   469,  1,      4,2,20030729, 58.4070, -53.8020, 3460,   3149.1,   2.3797,  34.8959,2,  34.8936,2,    287.9,2,    11.61,2,    14.96,2,     0.00,2,     0.96,2, -999.000,9, -999.000,9,   2155.9,2,   2301.5,2,   7.7197,    25.00,2,    20004,   2.1273
  06MT20030723,   469,  1,      5,2,20030729, 58.4070, -53.8020, 3460,   3045.7,   2.5346,  34.9013,2,-999.0000,9,    285.1,2,    11.75,2,    15.41,2,     0.00,2,     0.99,2, -999.000,9, -999.000,9,   2156.7,2,   -999.0,5,   7.7167,    25.00,2,    20005,   2.2894
  06MT20030723,   469,  1,      6,2,20030729, 58.4070, -53.8020, 3460,   2945.5,   2.6539,  34.9048,2,-999.0000,9,    284.5,2,    11.73,2,    15.56,2,     0.00,2,     0.99,2, -999.000,9, -999.000,9,   2157.4,2,   2295.3,5,   7.7207,    25.00,2,    20006,   2.4163
  06MT20030723,   469,  1,      7,2,20030729, 58.4070, -53.8020, 3460,   2738.5,   2.8558,  34.9025,2,-999.0000,9,   -999.0,5,    10.62,2,    15.69,2,     0.00,2,     0.99,2, -999.000,9, -999.000,9,   -999.0,5,   -999.0,5,-999.0000,  -999.00,9,    20007,   2.6350
  06MT20030723,   469,  1,      8,2,20030729, 58.4070, -53.8020, 3460,   2585.8,   2.9642,  34.8999,2,-999.0000,9,    283.7,2,    10.62,2,    15.95,2,     0.00,2,     1.00,2, -999.000,9, -999.000,9,   2154.8,2,   2298.8,2,   7.7207,    25.00,2,    20008,   2.7566
  06MT20030723,   469,  1,      9,2,20030729, 58.4070, -53.8020, 3460,   2432.8,   3.0559,  34.8949,2,  34.8949,2,    284.7,2,    10.41,2,    16.10,2,     0.00,2,     1.01,2,    2.948,3,    1.509,2,   2155.2,2,   2300.9,2,   7.7197,    25.00,2,    20009,   2.8617
  06MT20030723,   469,  1,     10,2,20030729, 58.4070, -53.8020, 3460,   2127.6,   3.1697,  34.8809,2,-999.0000,9,    287.4,2,  -999.00,5,  -999.00,5,  -999.00,5,  -999.00,5,    3.352,3,    1.698,2,   2154.1,2,   2300.3,2,-999.0000,  -999.00,9,    20010,   3.0029
  06MT20030723,   469,  1,     11,2,20030729, 58.4070, -53.8020, 3460,   1824.3,   3.3806,  34.8876,2,-999.0000,9,    282.8,2,     9.80,2,    16.66,2,     0.00,2,     1.01,2,    3.450,3,    1.772,2,   2157.1,2,   2299.2,2,   7.7226,    25.00,2,    20011,   3.2388
  06MT20030723,   469,  1,     12,2,20030729, 58.4070, -53.8020, 3460,   1560.7,   3.3866,  34.8616,2,-999.0000,9,    291.3,2,     8.70,2,    16.17,2,     0.00,2,     1.00,2, -999.000,9, -999.000,9,   2155.0,2,   2298.0,2,   7.7118,    25.00,2,    20012,   3.2683
  06MT20030723,   469,  1,     13,2,20030729, 58.4070, -53.8020, 3460,   1362.8,   3.2651,  34.8376,2,  34.8373,2,    300.6,2,     8.08,2,    15.77,2,     0.00,2,     0.96,2,    4.532,3,    2.450,2,   2150.6,2,   2299.2,2,   7.7128,    25.00,2,    20013,   3.1652
  06MT20030723,   469,  1,     14,2,20030729, 58.4070, -53.8020, 3460,   1114.4,   3.2597,  34.8343,2,-999.0000,9,    301.1,2,     8.04,2,    15.70,2,     0.00,2,     0.97,2,    4.590,3,    2.497,2,   2152.6,2,   2295.6,5,   7.7167,    25.00,2,    20014,   3.1802
  06MT20030723,   469,  1,     15,2,20030729, 58.4070, -53.8020, 3460,    908.5,   3.3286,  34.8412,2,-999.0000,9,    299.3,2,     8.04,2,    15.74,2,     0.00,2,     0.98,2,    4.535,3,    2.453,2,   2153.0,2,   2298.9,2,   7.7157,    25.00,2,    20015,   3.2647
  06MT20030723,   469,  1,     16,2,20030729, 58.4070, -53.8020, 3460,    729.2,   3.4480,  34.8456,2,-999.0000,9,    296.7,2,     8.03,2,    15.69,2,     0.01,2,     0.98,2,    4.477,3,    2.437,2,   2152.9,2,   2297.7,2,   7.7138,    25.00,2,    20016,   3.3970
  06MT20030723,   469,  1,     17,2,20030729, 58.4070, -53.8020, 3460,    607.7,   3.5435,  34.8474,2,-999.0000,9,    295.0,2,  -999.00,5,    15.69,2,     0.01,2,     0.97,2,    4.418,3,    2.407,2,   2153.2,2,   2296.3,2,   7.7187,    25.00,2,    20017,   3.5011
  06MT20030723,   469,  1,     18,2,20030729, 58.4070, -53.8020, 3460,    476.5,   3.7868,  34.8592,2,-999.0000,9,    293.6,2,     7.74,2,    15.67,2,     0.01,2,     0.97,2,    4.456,3,    2.432,2,   2152.9,2,   2297.0,2,   7.7167,    25.00,2,    20018,   3.7531
  06MT20030723,   469,  1,     19,2,20030729, 58.4070, -53.8020, 3460,    347.4,   4.2333,  34.8813,2,-999.0000,9,    290.2,2,     7.51,2,    15.64,2,     0.01,2,     0.96,2,    4.293,3,    2.353,2,   2152.2,2,   2297.1,2,   7.7216,    25.00,2,    20019,   4.2079
  06MT20030723,   469,  1,     20,2,20030729, 58.4070, -53.8020, 3460,    231.7,   4.5860,  34.8817,2,-999.0000,9,    289.8,2,     6.87,2,    15.29,2,     0.01,2,     0.92,2,    4.385,3,    2.425,2,   2149.5,2,   2297.8,2,   7.7266,    25.00,2,    20020,   4.5686
  06MT20030723,   469,  1,     21,2,20030729, 58.4070, -53.8020, 3460,    134.3,   4.6153,  34.8338,2,  34.8835,0,    291.8,2,     6.18,2,    14.66,2,     0.01,2,     0.84,2,    4.435,3,    2.479,2,   2145.7,2,   2297.5,2,   7.7345,    25.00,2,    20021,   4.6053
  06MT20030723,   469,  1,     22,2,20030729, 58.4070, -53.8020, 3460,     12.3,   8.3841,  34.4642,2,-999.0000,9,    322.5,2,     0.30,2,     0.23,2,     0.04,2,     0.15,2,    4.403,3,    2.488,2,   2050.8,2,   2287.2,2,   7.9194,    25.00,2,    20022,   8.3828