BOTTLE,20090513PRINUNIVRMK
EXPOCODE,STNNBR,CASTNO,BTLNBR,BTLNBR_FLAG_W,DATE,LATITUDE,LONGITUDE,DEPTH,CTDPRS,CTDTMP,CTDSAL,CTDSAL_FLAG_W,SALNTY,SALNTY_FLAG_W,OXYGEN,OXYGEN_FLAG_W,SILCAT,SILCAT_FLAG_W,NITRAT,NITRAT_FLAG_W,NITRIT,NITRIT_FLAG_W,PHSPHT,PHSPHT_FLAG_W,CFC-11,CFC-11_FLAG_W,CFC-12,CFC-12_FLAG_W,TCARBN,TCARBN_FLAG_W,ALKALI,ALKALI_FLAG_W,PH_SWS,PH_TEMP,PH_SWS_FLAG_W,ID,THETA
,,,,,,,,METERS,DBARS,ITS-90,PSS-78,,PSS-78,,UMOL/KG,,UMOL/KG,,UMOL/KG,,UMOL/KG,,UMOL/KG,,PMOL/KG,,PMOL/KG,,UMOL/KG,,UMOL/KG,,,DEGC,,,DEGC
  06MT20030723,   536,  1,      1,2,20030815, 51.5490, -19.3820, 4224,   4330.6,   2.5109,  34.9033,2,  34.8972,2,    240.4,2,    44.91,2,    22.50,2,     0.00,2,     1.48,2, -999.000,9, -999.000,9,   2203.6,2,   2351.5,2,   7.7354,    25.00,2,    89001,   2.1236
  06MT20030723,   536,  1,      2,2,20030815, 51.5490, -19.3820, 4224,   4330.3,   2.5108,  34.9035,2,-999.0000,9,    240.3,2,    45.10,2,    22.51,2,     0.00,2,     1.48,2,    0.057,3,    0.022,2,   -999.0,5,   -999.0,5,-999.0000,  -999.00,9,    89002,   2.1235
  06MT20030723,   536,  1,      3,2,20030815, 51.5490, -19.3820, 4224,   4275.3,   2.5054,  34.9035,2,-999.0000,9,    240.6,2,    45.03,2,    22.22,2,     0.00,2,     1.48,2,    0.063,3,    0.025,2,   2203.0,2,   2351.1,2,   7.7354,    25.00,2,    89003,   2.1248
  06MT20030723,   536,  1,      4,2,20030815, 51.5490, -19.3820, 4224,   3967.2,   2.5021,  34.9073,2,-999.0000,9,   -999.0,5,  -999.00,5,  -999.00,5,  -999.00,5,  -999.00,5,    0.061,3,    0.029,2,   -999.0,5,   -999.0,5,-999.0000,  -999.00,9,    89004,   2.1575
  06MT20030723,   536,  1,      5,2,20030815, 51.5490, -19.3820, 4224,   3659.1,   2.5447,  34.9145,2,-999.0000,9,   -999.0,5,  -999.00,5,  -999.00,5,  -999.00,5,  -999.00,5,    0.079,3,    0.044,2,   -999.0,5,   -999.0,5,-999.0000,  -999.00,9,    89005,   2.2336
  06MT20030723,   536,  1,      6,2,20030815, 51.5490, -19.3820, 4224,   3350.0,   2.6314,  34.9248,2,-999.0000,9,    246.3,2,  -999.00,5,  -999.00,5,  -999.00,5,  -999.00,5,    0.207,3,    0.101,2,   -999.0,5,   -999.0,5,-999.0000,  -999.00,9,    89006,   2.3519
  06MT20030723,   536,  1,      7,2,20030815, 51.5490, -19.3820, 4224,   3043.9,   2.7917,  34.9391,2,  34.9321,2,   -999.0,5,  -999.00,5,  -999.00,5,  -999.00,5,  -999.00,5,    0.517,3,    0.257,2,   -999.0,5,   -999.0,5,-999.0000,  -999.00,9,    89007,   2.5409
  06MT20030723,   536,  1,      8,2,20030815, 51.5490, -19.3820, 4224,   2736.2,   2.9847,  34.9400,2,-999.0000,9,   -999.0,5,  -999.00,5,  -999.00,5,  -999.00,5,  -999.00,5,    1.370,3,    0.685,2,   -999.0,5,   -999.0,5,-999.0000,  -999.00,9,    89008,   2.7614
  06MT20030723,   536,  1,      9,2,20030815, 51.5490, -19.3820, 4224,   2431.3,   3.1638,  34.9226,2,-999.0000,9,    274.5,2,  -999.00,5,  -999.00,5,  -999.00,5,  -999.00,5,    1.989,3,    0.973,2,   -999.0,5,   -999.0,5,-999.0000,  -999.00,9,    89009,   2.9677
  06MT20030723,   536,  1,     10,2,20030815, 51.5490, -19.3820, 4224,   2429.1,   3.1654,  34.9219,2,-999.0000,9,   -999.0,5,  -999.00,5,  -999.00,5,  -999.00,5,  -999.00,5, -999.000,9, -999.000,9,   -999.0,5,   -999.0,5,-999.0000,  -999.00,9,    89010,   2.9695
  06MT20030723,   536,  1,     11,2,20030815, 51.5490, -19.3820, 4224,   2147.5,   3.2522,  34.8955,2,  34.8904,2,   -999.0,5,  -999.00,5,  -999.00,5,  -999.00,5,  -999.00,5,    2.773,3,    1.360,2,   -999.0,5,   -999.0,5,-999.0000,  -999.00,9,    89011,   3.0822
  06MT20030723,   536,  1,     12,2,20030815, 51.5490, -19.3820, 4224,   1823.8,   3.4866,  34.9002,2,-999.0000,9,   -999.0,5,  -999.00,5,  -999.00,5,  -999.00,5,  -999.00,5,    2.757,3,    1.349,2,   -999.0,5,   -999.0,5,-999.0000,  -999.00,9,    89012,   3.3433
  06MT20030723,   536,  1,     13,2,20030815, 51.5490, -19.3820, 4224,   1513.6,   3.8805,  34.9277,2,-999.0000,9,   -999.0,5,  -999.00,5,  -999.00,5,  -999.00,5,  -999.00,5,    2.789,3,    1.387,2,   -999.0,5,   -999.0,5,-999.0000,  -999.00,9,    89013,   3.7605
  06MT20030723,   536,  1,     14,2,20030815, 51.5490, -19.3820, 4224,   1409.1,   4.0406,  34.9358,2,-999.0000,9,   -999.0,5,  -999.00,5,  -999.00,5,  -999.00,5,  -999.00,5,    2.985,3,    1.480,2,   -999.0,5,   -999.0,5,-999.0000,  -999.00,9,    89014,   3.9282
  06MT20030723,   536,  1,     15,2,20030815, 51.5490, -19.3820, 4224,   1241.0,   4.6470,  35.0035,2,-999.0000,9,    252.8,2,  -999.00,5,  -999.00,5,  -999.00,5,  -999.00,5,    2.725,3,    1.360,2,   -999.0,5,   -999.0,5,-999.0000,  -999.00,9,    89015,   4.5438
  06MT20030723,   536,  1,     16,2,20030815, 51.5490, -19.3820, 4224,   1154.3,   5.0392,  35.0433,2,-999.0000,9,   -999.0,5,  -999.00,5,  -999.00,5,  -999.00,5,  -999.00,5,    2.633,3,    1.317,2,   -999.0,5,   -999.0,5,-999.0000,  -999.00,9,    89016,   4.9404
  06MT20030723,   536,  1,     17,2,20030815, 51.5490, -19.3820, 4224,   1037.7,   5.6617,  35.0992,2,-999.0000,9,   -999.0,5,  -999.00,5,  -999.00,5,  -999.00,5,  -999.00,5,    2.529,3,    1.288,2,   -999.0,5,   -999.0,5,-999.0000,  -999.00,9,    89017,   5.5688
  06MT20030723,   536,  1,     18,2,20030815, 51.5490, -19.3820, 4224,    944.0,   6.3160,  35.1644,2,-999.0000,9,   -999.0,5,  -999.00,5,  -999.00,5,  -999.00,5,  -999.00,5,    2.325,3,    1.193,2,   -999.0,5,   -999.0,5,-999.0000,  -999.00,9,    89018,   6.2274
  06MT20030723,   536,  1,     19,2,20030815, 51.5490, -19.3820, 4224,    799.8,   7.3928,  35.2270,2,  35.2144,0,   -999.0,5,  -999.00,5,  -999.00,5,  -999.00,5,  -999.00,5,    2.163,3,    1.103,2,   -999.0,5,   -999.0,5,-999.0000,  -999.00,9,    89019,   7.3120
  06MT20030723,   536,  1,     20,2,20030815, 51.5490, -19.3820, 4224,    508.5,   9.2761,  35.2202,2,-999.0000,9,   -999.0,5,  -999.00,5,  -999.00,5,  -999.00,5,  -999.00,5,    2.937,3,    1.597,2,   -999.0,5,   -999.0,5,-999.0000,  -999.00,9,    89020,   9.2187
  06MT20030723,   536,  1,     21,2,20030815, 51.5490, -19.3820, 4224,    215.4,  11.2870,  35.5176,2,-999.0000,9,   -999.0,5,  -999.00,5,  -999.00,5,  -999.00,5,  -999.00,5,    3.211,3,    1.831,2,   -999.0,5,   -999.0,5,-999.0000,  -999.00,9,    89021,  11.2598
  06MT20030723,   536,  1,     22,2,20030815, 51.5490, -19.3820, 4224,      9.5,  15.6498,  35.4310,2,-999.0000,9,    260.9,2,  -999.00,5,  -999.00,5,  -999.00,5,  -999.00,5,    2.872,3,    1.679,2,   -999.0,5,   -999.0,5,-999.0000,  -999.00,9,    89022,  15.6483
  06MT20030723,   537,  1,      1,2,20030815, 51.0750, -18.3910, 4696,   4807.7,   2.5638,  34.9030,2,  34.9022,2,    241.4,2,    45.54,2,    21.74,2,     0.01,2,     1.49,2, -999.000,9, -999.000,9,   2203.4,2,   2353.5,2,   7.7364,    25.00,2,    90001,   2.1165
  06MT20030723,   537,  1,      2,2,20030815, 51.0750, -18.3910, 4696,   4807.4,   2.5638,  34.9029,2,-999.0000,9,    240.7,2,    45.39,2,    22.38,2,     0.00,2,     1.48,2,    0.056,3,    0.019,2,   -999.0,5,   -999.0,5,-999.0000,  -999.00,9,    90002,   2.1165
  06MT20030723,   537,  1,      3,2,20030815, 51.0750, -18.3910, 4696,   4687.0,   2.5524,  34.9039,2,-999.0000,9,    240.7,2,    45.17,2,    22.31,2,     0.00,2,     1.48,2,    0.056,3,    0.016,2,   2203.0,2,   2352.7,2,   7.7364,    25.00,2,    90003,   2.1204
  06MT20030723,   537,  1,      4,2,20030815, 51.0750, -18.3910, 4696,   4658.5,   2.5505,  34.9040,2,-999.0000,9,    240.8,2,    44.75,2,    22.30,2,     0.00,2,     1.47,2,    0.060,3,    0.024,2,   2203.0,2,   2352.1,2,   7.7354,    25.00,2,    90004,   2.1221
  06MT20030723,   537,  1,      5,2,20030815, 51.0750, -18.3910, 4696,   3858.2,   2.5439,  34.9125,2,-999.0000,9,    243.1,2,    41.85,2,    21.90,2,     0.00,2,     1.45,2,    0.061,3,    0.031,2,   2197.9,2,   2348.8,2,   7.7374,    25.00,2,    90005,   2.2105
  06MT20030723,   537,  1,      6,2,20030815, 51.0750, -18.3910, 4696,   3456.5,   2.6314,  34.9248,2,-999.0000,9,    245.7,2,    37.49,2,    21.17,2,     0.00,2,     1.40,2,    0.125,3,    0.064,2,   2192.7,2,   2341.2,2,   7.7394,    25.00,2,    90006,   2.3403
  06MT20030723,   537,  1,      7,2,20030815, 51.0750, -18.3910, 4696,   3033.8,   2.8137,  34.9403,2,  34.9380,2,    251.9,2,    30.40,2,    19.96,2,     0.00,2,     1.32,2,    0.446,3,    0.217,2,   2184.2,2,   2333.2,2,   7.7384,    25.00,2,    90007,   2.5634
  06MT20030723,   537,  1,      8,2,20030815, 51.0750, -18.3910, 4696,   2638.4,   3.0567,  34.9477,2,-999.0000,9,    259.7,2,    22.42,2,    18.51,2,     0.00,2,     1.21,2,    0.880,3,    0.424,2,   2173.0,2,   2320.7,2,   7.7384,    25.00,2,    90008,   2.8419
  06MT20030723,   537,  1,      9,2,20030815, 51.0750, -18.3910, 4696,   2226.5,   3.2605,  34.9160,2,-999.0000,9,    273.7,2,    14.16,2,    17.22,2,     0.00,2,     1.10,2,    2.000,3,    0.964,2,   2161.2,2,   2305.9,2,   7.7354,    25.00,2,    90009,   3.0827
  06MT20030723,   537,  1,     10,2,20030815, 51.0750, -18.3910, 4696,   2222.9,   3.2640,  34.9147,2,-999.0000,9,    274.7,2,    13.53,2,    17.18,2,     0.00,2,     1.10,2, -999.000,9, -999.000,9,   2159.6,2,   2302.9,2,   7.7364,    25.00,2,    90010,   3.0865
  06MT20030723,   537,  1,     11,2,20030815, 51.0750, -18.3910, 4696,   2025.1,   3.3559,  34.9013,2,-999.0000,9,    277.8,2,    11.82,2,    17.15,2,     0.00,2,     1.09,2,    2.593,3,    1.238,2,   2157.2,2,   2301.1,2,   7.7335,    25.00,2,    90011,   3.1958
  06MT20030723,   537,  1,     12,2,20030815, 51.0750, -18.3910, 4696,   1747.6,   3.7129,  34.9215,2,-999.0000,9,    272.2,2,    11.05,2,    17.40,2,     0.00,2,     1.10,2,    2.713,3,    1.308,2,   2159.6,2,   2307.8,2,   7.7275,    25.00,2,    90012,   3.5736
  06MT20030723,   537,  1,     13,2,20030815, 51.0750, -18.3910, 4696,   1430.3,   4.3929,  34.9815,2,-999.0000,9,    257.8,2,    10.87,2,    17.82,2,     0.00,2,     1.12,2,    2.640,3,    1.288,2,   2165.3,2,   2305.6,2,   7.7246,    25.00,2,    90013,   4.2747
  06MT20030723,   537,  1,     14,2,20030815, 51.0750, -18.3910, 4696,   1317.8,   5.1367,  35.0791,2,-999.0000,9,    243.5,2,    10.93,2,    18.09,2,     0.00,2,     1.14,2,    2.386,3,    1.166,2,   2170.4,2,   2312.3,2,   7.7265,    25.00,2,    90014,   5.0213
  06MT20030723,   537,  1,     15,2,20030815, 51.0750, -18.3910, 4696,   1220.5,   5.9477,  35.1883,2,  35.1771,0,    230.2,2,    10.94,2,    18.21,2,     0.00,2,     1.12,2,    2.070,3,    1.034,2,   2175.3,2,   2321.2,2,   7.7295,    25.00,2,    90015,   5.8341
  06MT20030723,   537,  1,     16,2,20030815, 51.0750, -18.3910, 4696,   1109.5,   6.5718,  35.2462,2,-999.0000,9,    220.8,2,    10.51,2,    18.23,2,     0.00,2,     1.12,2,    2.073,3,    1.036,2,   2176.9,2,   2326.2,2,   7.7334,    25.00,2,    90016,   6.4642
  06MT20030723,   537,  1,     17,2,20030815, 51.0750, -18.3910, 4696,    916.6,   8.7696,  35.5491,2,-999.0000,9,    195.1,2,     9.09,2,    17.54,2,     0.00,2,     1.04,2,    1.732,3,    0.887,2,   2185.2,2,   2344.8,2,   7.7560,    25.00,2,    90017,   8.6667
  06MT20030723,   537,  1,     18,2,20030815, 51.0750, -18.3910, 4696,    594.5,   9.8013,  35.3778,2,-999.0000,9,    197.4,2,     7.18,2,    16.69,2,     0.01,2,     0.99,2,    2.363,3,    1.237,2,   2168.4,2,   2327.4,2,   7.7610,    25.00,2,    90018,   9.7314
  06MT20030723,   537,  1,     19,2,20030815, 51.0750, -18.3910, 4696,    307.4,  11.1055,  35.4930,2,-999.0000,9,    244.5,2,     3.11,2,    10.77,2,     0.01,2,     0.60,2,    3.262,3,    1.814,2,   2133.1,2,   2330.2,2,   7.8420,    25.00,2,    90019,  11.0670
  06MT20030723,   537,  1,     20,2,20030815, 51.0750, -18.3910, 4696,     99.4,  11.9622,  35.5623,2,-999.0000,9,    241.6,2,     1.21,2,     9.17,2,     0.06,2,     0.50,2,    3.275,3,    1.834,2,   2126.9,2,   2334.0,2,   7.8628,    25.00,2,    90020,  11.9492
  06MT20030723,   537,  1,     21,2,20030815, 51.0750, -18.3910, 4696,     69.7,  12.5377,  35.5337,2,  35.5586,0,    241.6,2,     0.41,2,     6.42,2,     1.27,2,     0.39,2,    3.282,3,    1.849,2,   2117.8,2,   2337.3,2,   7.8856,    25.00,2,    90021,  12.5283
  06MT20030723,   537,  1,     22,2,20030815, 51.0750, -18.3910, 4696,     24.6,  16.2335,  35.4379,2,-999.0000,9,    258.3,2,     0.00,2,     0.06,2,     0.02,2,     0.04,2,    2.849,3,    1.638,2,   2049.4,2,   2332.2,2,   8.0106,    25.00,2,    90022,  16.2296
  06MT20030723,   538,  1,      1,2,20030815, 50.6090, -17.4000, 4750,   4861.7,   2.5691,  34.9028,2,-999.0000,9,    251.4,4,     1.88,4,     0.80,4,     0.04,2,     0.11,4, -999.000,9, -999.000,9,   2057.5,4,   2342.1,4,   8.0047,    25.00,3,    91001,   2.1148
  06MT20030723,   538,  1,      2,2,20030815, 50.6090, -17.4000, 4750,   4861.6,   2.5692,  34.9029,2,-999.0000,9,    242.0,2,    45.31,2,    22.40,2,     0.01,2,     1.48,2, -999.000,9, -999.000,9,   -999.0,5,   -999.0,5,-999.0000,  -999.00,9,    91002,   2.1149
  06MT20030723,   538,  1,      3,2,20030815, 50.6090, -17.4000, 4750,   4689.6,   2.5501,  34.9033,2,-999.0000,9,    242.7,2,    45.42,2,    22.39,2,     0.00,2,     1.48,2,    0.054,3,    0.021,2,   -999.0,5,   -999.0,5,-999.0000,  -999.00,9,    91003,   2.1179
  06MT20030723,   538,  1,      4,2,20030815, 50.6090, -17.4000, 4750,   4379.2,   2.5314,  34.9056,2,  34.9039,2,    242.7,2,    44.26,2,    22.33,2,     0.01,2,     1.48,2,    0.055,3,    0.021,2,   -999.0,5,   -999.0,5,-999.0000,  -999.00,9,    91004,   2.1376
  06MT20030723,   538,  1,      5,2,20030815, 50.6090, -17.4000, 4750,   3954.3,   2.5435,  34.9114,2,-999.0000,9,    242.9,2,    42.47,2,    22.03,2,     0.01,2,     1.46,2,    0.057,3,    0.027,2,   2200.2,2,   2349.5,2,   7.7384,    25.00,2,    91005,   2.1992
  06MT20030723,   538,  1,      6,2,20030815, 50.6090, -17.4000, 4750,   3527.2,   2.6079,  34.9219,2,-999.0000,9,    245.3,2,    39.11,2,    21.38,2,     0.01,2,     1.40,2,    0.103,3,    0.054,2,   -999.0,5,   -999.0,5,-999.0000,  -999.00,9,    91006,   2.3097
  06MT20030723,   538,  1,      7,2,20030815, 50.6090, -17.4000, 4750,   3125.1,   2.7824,  34.9382,2,-999.0000,9,    251.0,2,    32.36,2,    20.18,2,     0.00,2,     1.32,2,    0.311,3,    0.147,2,   2186.9,2,   2332.5,2,   7.7384,    25.00,2,    91007,   2.5232
  06MT20030723,   538,  1,      8,2,20030815, 50.6090, -17.4000, 4750,   2705.7,   3.0321,  34.9487,2,  34.9472,2,    257.9,2,    25.58,2,    19.21,2,     0.00,2,     1.24,2,    0.645,3,    0.316,2,   2177.8,2,   2323.9,2,   7.7404,    25.00,2,    91008,   2.8110
  06MT20030723,   538,  1,      9,2,20030815, 50.6090, -17.4000, 4750,   2401.8,   3.1819,  34.9424,2,-999.0000,9,    264.1,2,    19.98,2,    18.25,2,     0.00,2,     1.17,2,    1.156,3,    0.580,2,   2170.1,2,   2314.1,2,   7.7394,    25.00,2,    91009,   2.9883
  06MT20030723,   538,  1,     10,2,20030815, 50.6090, -17.4000, 4750,   2400.0,   3.1819,  34.9421,2,-999.0000,9,    264.8,2,    19.61,2,    18.17,2,     0.00,2,     1.18,2, -999.000,9, -999.000,9,   -999.0,5,   -999.0,5,-999.0000,  -999.00,9,    91010,   2.9885
  06MT20030723,   538,  1,     11,2,20030815, 50.6090, -17.4000, 4750,   2123.8,   3.2424,  34.9049,2,  34.9006,2,    281.0,2,    12.13,2,    17.03,2,     0.00,2,     1.08,2,    2.536,3,    1.221,2,   -999.0,5,   -999.0,5,-999.0000,  -999.00,9,    91011,   3.0747
  06MT20030723,   538,  1,     12,2,20030815, 50.6090, -17.4000, 4750,   1897.8,   3.3574,  34.8946,2,-999.0000,9,    280.8,2,    11.23,2,    17.15,2,     0.00,2,     1.08,2,    2.797,3,    1.352,2,   2157.6,2,   2298.7,2,   7.7325,    25.00,2,    91012,   3.2091
  06MT20030723,   538,  1,     13,2,20030815, 50.6090, -17.4000, 4750,   1696.5,   3.5868,  34.9072,2,-999.0000,9,    275.2,2,    11.14,2,    17.41,2,     0.00,2,     1.10,2,    2.737,3,    1.340,2,   -999.0,5,   -999.0,5,-999.0000,  -999.00,9,    91013,   3.4538
  06MT20030723,   538,  1,     14,2,20030815, 50.6090, -17.4000, 4750,   1497.7,   3.9483,  34.9385,2,-999.0000,9,    267.3,2,    11.09,2,    17.68,2,     0.00,2,     1.11,2,    2.707,3,    1.319,2,   -999.0,5,   -999.0,5,-999.0000,  -999.00,9,    91014,   3.8289
  06MT20030723,   538,  1,     15,2,20030815, 50.6090, -17.4000, 4750,   1387.1,   4.2961,  34.9741,2,-999.0000,9,    259.7,2,    10.99,2,    17.40,2,     0.00,2,     1.11,2,    2.633,3,    1.295,2,   -999.0,5,   -999.0,5,-999.0000,  -999.00,9,    91015,   4.1830
  06MT20030723,   538,  1,     16,2,20030815, 50.6090, -17.4000, 4750,   1266.3,   5.0885,  35.0776,2,-999.0000,9,    246.0,2,    11.13,2,    18.12,2,     0.00,2,     1.13,2,    2.407,3,    1.181,2,   2170.8,2,   2311.5,2,   7.7255,    25.00,2,    91016,   4.9786
  06MT20030723,   538,  1,     17,2,20030815, 50.6090, -17.4000, 4750,   1196.6,   5.5231,  35.1275,2,-999.0000,9,   -999.0,5,  -999.00,5,  -999.00,5,  -999.00,5,  -999.00,5, -999.000,9, -999.000,9,   -999.0,5,   -999.0,5,-999.0000,  -999.00,9,    91017,   5.4158
  06MT20030723,   538,  1,     18,2,20030815, 50.6090, -17.4000, 4750,   1102.3,   6.3298,  35.2369,2,-999.0000,9,    224.0,2,    10.91,2,    18.28,2,     0.00,2,     1.12,2,    2.023,3,    1.019,2,   -999.0,5,   -999.0,5,-999.0000,  -999.00,9,    91018,   6.2249
  06MT20030723,   538,  1,     19,2,20030815, 50.6090, -17.4000, 4750,    887.5,   8.0017,  35.3887,2,-999.0000,9,    202.5,2,     9.88,2,    18.19,2,     0.00,2,     1.08,2,    1.872,3,    0.946,2,   2183.0,2,   2331.6,2,   7.7423,    25.00,2,    91019,   7.9074
  06MT20030723,   538,  1,     20,2,20030815, 50.6090, -17.4000, 4750,    600.1,   9.3689,  35.2932,2,  35.2916,2,    200.3,2,     7.72,2,    17.07,2,     0.00,2,     0.99,2,    2.416,3,    1.275,2,   -999.0,5,   -999.0,5,-999.0000,  -999.00,9,    91020,   9.3003
  06MT20030723,   538,  1,     21,2,20030815, 50.6090, -17.4000, 4750,    295.1,  11.2124,  35.5114,2,-999.0000,9,    243.4,2,     3.46,2,    10.54,2,     0.01,2,     0.56,2,    3.225,3,    1.784,2,   -999.0,5,   -999.0,5,-999.0000,  -999.00,9,    91021,  11.1752
  06MT20030723,   538,  1,     22,2,20030815, 50.6090, -17.4000, 4750,     11.4,  16.8364,  35.4664,2,-999.0000,9,    251.5,2,     0.00,2,     0.03,2,     0.02,2,     0.04,2,    2.786,3,    1.601,2,   2053.9,2,   2333.9,2,   8.0086,    25.00,2,    91022,  16.8345