BOTTLE,20090513PRINUNIVRMK
EXPOCODE,STNNBR,CASTNO,BTLNBR,BTLNBR_FLAG_W,DATE,LATITUDE,LONGITUDE,DEPTH,CTDPRS,CTDTMP,CTDSAL,CTDSAL_FLAG_W,SALNTY,SALNTY_FLAG_W,OXYGEN,OXYGEN_FLAG_W,SILCAT,SILCAT_FLAG_W,NITRAT,NITRAT_FLAG_W,NITRIT,NITRIT_FLAG_W,PHSPHT,PHSPHT_FLAG_W,CFC-11,CFC-11_FLAG_W,CFC-12,CFC-12_FLAG_W,TCARBN,TCARBN_FLAG_W,ALKALI,ALKALI_FLAG_W,PH_SWS,PH_TEMP,PH_SWS_FLAG_W,ID,THETA
,,,,,,,,METERS,DBARS,ITS-90,PSS-78,,PSS-78,,UMOL/KG,,UMOL/KG,,UMOL/KG,,UMOL/KG,,UMOL/KG,,PMOL/KG,,PMOL/KG,,UMOL/KG,,UMOL/KG,,,DEGC,,,DEGC
  06MT20030723,   563,  1,      1,2,20030822, 46.5160, -33.1250, 3873,   3910.2,   2.2465,  34.8918,2,  34.8965,2,   -999.0,5,  -999.00,5,  -999.00,5,  -999.00,5,  -999.00,5, -999.000,9, -999.000,9,   -999.0,5,   -999.0,5,-999.0000,  -999.00,9,   116001,   1.9154
  06MT20030723,   563,  1,      2,2,20030822, 46.5160, -33.1250, 3873,   3909.8,   2.2438,  34.8932,2,-999.0000,9,    279.8,2,  -999.00,5,  -999.00,5,  -999.00,5,  -999.00,5,    1.770,3,    0.885,2,   -999.0,5,   -999.0,5,-999.0000,  -999.00,9,   116002,   1.9128
  06MT20030723,   563,  1,      3,2,20030822, 46.5160, -33.1250, 3873,   3760.5,   2.3537,  34.9000,2,-999.0000,9,   -999.0,5,  -999.00,5,  -999.00,5,  -999.00,5,  -999.00,5,    1.623,3,    0.806,2,   -999.0,5,   -999.0,5,-999.0000,  -999.00,9,   116003,   2.0364
  06MT20030723,   563,  1,      4,2,20030822, 46.5160, -33.1250, 3873,   3453.5,   2.5289,  34.9083,2,-999.0000,9,   -999.0,5,  -999.00,5,  -999.00,5,  -999.00,5,  -999.00,5,    1.416,3,    0.708,2,   -999.0,5,   -999.0,5,-999.0000,  -999.00,9,   116004,   2.2408
  06MT20030723,   563,  1,      5,2,20030822, 46.5160, -33.1250, 3873,   3141.6,   2.7363,  34.9129,2,-999.0000,9,    277.4,2,  -999.00,5,  -999.00,5,  -999.00,5,  -999.00,5,    1.574,3,    0.785,2,   -999.0,5,   -999.0,5,-999.0000,  -999.00,9,   116005,   2.4765
  06MT20030723,   563,  1,      6,2,20030822, 46.5160, -33.1250, 3873,   2834.5,   2.9211,  34.9102,2,-999.0000,9,   -999.0,5,  -999.00,5,  -999.00,5,  -999.00,5,  -999.00,5,    1.939,3,    0.973,2,   -999.0,5,   -999.0,5,-999.0000,  -999.00,9,   116006,   2.6892
  06MT20030723,   563,  1,      7,2,20030822, 46.5160, -33.1250, 3873,   2532.9,   3.0883,  34.9056,2,-999.0000,9,   -999.0,5,  -999.00,5,  -999.00,5,  -999.00,5,  -999.00,5,    2.154,3,    1.067,2,   -999.0,5,   -999.0,5,-999.0000,  -999.00,9,   116007,   2.8836
  06MT20030723,   563,  1,      8,2,20030822, 46.5160, -33.1250, 3873,   2218.9,   3.1792,  34.8903,2,  34.8945,2,   -999.0,5,  -999.00,5,  -999.00,5,  -999.00,5,  -999.00,5,    2.684,3,    1.341,2,   -999.0,5,   -999.0,5,-999.0000,  -999.00,9,   116008,   3.0035
  06MT20030723,   563,  1,      9,2,20030822, 46.5160, -33.1250, 3873,   2035.4,   3.2608,  34.8876,2,-999.0000,9,    283.5,2,  -999.00,5,  -999.00,5,  -999.00,5,  -999.00,5,    2.869,3,    1.426,2,   -999.0,5,   -999.0,5,-999.0000,  -999.00,9,   116009,   3.1012
  06MT20030723,   563,  1,     10,2,20030822, 46.5160, -33.1250, 3873,   1837.6,   3.4014,  34.8976,2,-999.0000,9,   -999.0,5,  -999.00,5,  -999.00,5,  -999.00,5,  -999.00,5,    2.769,3,    1.386,2,   -999.0,5,   -999.0,5,-999.0000,  -999.00,9,   116010,   3.2580
  06MT20030723,   563,  1,     11,2,20030822, 46.5160, -33.1250, 3873,   1644.9,   3.5603,  34.9083,2,-999.0000,9,   -999.0,5,  -999.00,5,  -999.00,5,  -999.00,5,  -999.00,5, -999.000,9, -999.000,9,   -999.0,5,   -999.0,5,-999.0000,  -999.00,9,   116011,   3.4323
  06MT20030723,   563,  1,     12,2,20030822, 46.5160, -33.1250, 3873,   1430.4,   3.7159,  34.9118,2,-999.0000,9,   -999.0,5,  -999.00,5,  -999.00,5,  -999.00,5,  -999.00,5,    2.972,3,    1.515,2,   -999.0,5,   -999.0,5,-999.0000,  -999.00,9,   116012,   3.6052
  06MT20030723,   563,  1,     13,2,20030822, 46.5160, -33.1250, 3873,   1207.8,   3.9955,  34.9398,2,  34.9350,2,   -999.0,5,  -999.00,5,  -999.00,5,  -999.00,5,  -999.00,5,    2.875,3,    1.478,2,   -999.0,5,   -999.0,5,-999.0000,  -999.00,9,   116013,   3.9014
  06MT20030723,   563,  1,     14,2,20030822, 46.5160, -33.1250, 3873,   1083.9,   4.0893,  34.9296,2,-999.0000,9,   -999.0,5,  -999.00,5,  -999.00,5,  -999.00,5,  -999.00,5,    2.999,3,    1.548,2,   -999.0,5,   -999.0,5,-999.0000,  -999.00,9,   116014,   4.0051
  06MT20030723,   563,  1,     15,2,20030822, 46.5160, -33.1250, 3873,   1012.1,   4.1945,  34.9297,2,-999.0000,9,   -999.0,5,  -999.00,5,  -999.00,5,  -999.00,5,  -999.00,5,    3.209,3,    1.664,2,   -999.0,5,   -999.0,5,-999.0000,  -999.00,9,   116015,   4.1156
  06MT20030723,   563,  1,     16,2,20030822, 46.5160, -33.1250, 3873,    913.9,   4.4932,  34.9511,2,-999.0000,9,   -999.0,5,  -999.00,5,  -999.00,5,  -999.00,5,  -999.00,5,    3.083,3,    1.623,2,   -999.0,5,   -999.0,5,-999.0000,  -999.00,9,   116016,   4.4205
  06MT20030723,   563,  1,     17,2,20030822, 46.5160, -33.1250, 3873,    830.6,   4.7496,  34.9554,2,-999.0000,9,    252.0,2,  -999.00,5,  -999.00,5,  -999.00,5,  -999.00,5,    2.961,3,    1.574,2,   -999.0,5,   -999.0,5,-999.0000,  -999.00,9,   116017,   4.6824
  06MT20030723,   563,  1,     18,2,20030822, 46.5160, -33.1250, 3873,    712.4,   5.2878,  34.9707,2,-999.0000,9,   -999.0,5,  -999.00,5,  -999.00,5,  -999.00,5,  -999.00,5, -999.000,9, -999.000,9,   -999.0,5,   -999.0,5,-999.0000,  -999.00,9,   116018,   5.2278
  06MT20030723,   563,  1,     19,2,20030822, 46.5160, -33.1250, 3873,    610.9,   5.7884,  34.9344,2,-999.0000,9,   -999.0,5,  -999.00,5,  -999.00,5,  -999.00,5,  -999.00,5,    2.618,3,    1.404,2,   -999.0,5,   -999.0,5,-999.0000,  -999.00,9,   116019,   5.7351
  06MT20030723,   563,  1,     20,2,20030822, 46.5160, -33.1250, 3873,    406.5,   8.6643,  35.1306,2,-999.0000,9,   -999.0,5,  -999.00,5,  -999.00,5,  -999.00,5,  -999.00,5,    2.878,3,    1.625,2,   -999.0,5,   -999.0,5,-999.0000,  -999.00,9,   116020,   8.6205
  06MT20030723,   563,  1,     21,2,20030822, 46.5160, -33.1250, 3873,     91.7,  12.4416,  35.5572,2,  35.6158,0,   -999.0,5,  -999.00,5,  -999.00,5,  -999.00,5,  -999.00,5, -999.000,9, -999.000,9,   -999.0,5,   -999.0,5,-999.0000,  -999.00,9,   116021,  12.4293
  06MT20030723,   563,  1,     22,2,20030822, 46.5160, -33.1250, 3873,      2.0,  17.5800,  35.3087,2,-999.0000,9,    244.9,2,  -999.00,5,  -999.00,5,  -999.00,5,  -999.00,5,    2.570,3,    1.562,2,   -999.0,5,   -999.0,5,-999.0000,  -999.00,9,   116022,  17.5797
  06MT20030723,   564,  1,      1,2,20030822, 46.5580, -34.1570, 4285,   4356.3,   2.2357,  34.8890,2,  34.8947,2,    280.7,2,    19.26,2,    16.44,2,     0.00,2,     1.01,2, -999.000,9, -999.000,9,   2165.6,2,   2313.7,2,   7.7364,    25.00,2,   117001,   1.8535
  06MT20030723,   564,  1,      2,2,20030822, 46.5580, -34.1570, 4285,   4356.0,   2.2357,  34.8888,2,-999.0000,9,    281.0,2,    18.99,2,    16.59,2,     0.00,2,     1.00,2,    2.010,3,    1.030,2,   -999.0,5,   -999.0,5,-999.0000,  -999.00,9,   117002,   1.8536
  06MT20030723,   564,  1,      3,2,20030822, 46.5580, -34.1570, 4285,   4276.3,   2.2401,  34.8895,2,-999.0000,9,    281.0,2,    18.83,2,    16.59,2,     0.00,2,     1.01,2,    1.958,3,    1.003,2,   2162.9,2,   2313.4,2,   7.7364,    25.00,2,   117003,   1.8672
  06MT20030723,   564,  1,      4,2,20030822, 46.5580, -34.1570, 4285,   3834.7,   2.3050,  34.8957,2,-999.0000,9,    278.4,2,    19.24,2,    16.87,2,     0.00,2,     1.07,2,    1.694,3,    0.856,2,   2162.6,2,   2316.3,2,   7.7404,    25.00,2,   117004,   1.9808
  06MT20030723,   564,  1,      5,2,20030822, 46.5580, -34.1570, 4285,   3454.7,   2.5423,  34.9095,2,-999.0000,9,    275.4,2,    18.29,2,    16.94,2,     0.00,2,     1.03,2,    1.373,3,    0.691,2,   2162.2,2,   2311.7,2,   7.7423,    25.00,2,   117005,   2.2537
  06MT20030723,   564,  1,      6,2,20030822, 46.5580, -34.1570, 4285,   3136.4,   2.7466,  34.9157,2,  34.9110,2,    277.7,2,    15.08,2,    16.76,2,     0.00,2,     1.01,2,    1.610,3,    0.817,2,   2158.9,2,   2307.3,2,   7.7423,    25.00,2,   117006,   2.4872
  06MT20030723,   564,  1,      7,2,20030822, 46.5580, -34.1570, 4285,   2798.7,   3.0003,  34.9203,2,-999.0000,9,    276.7,2,    13.32,2,    16.79,2,     0.00,2,     1.01,2,    1.832,3,    0.919,2,   2158.4,2,   2305.8,2,   7.7394,    25.00,2,   117007,   2.7704
  06MT20030723,   564,  1,      8,2,20030822, 46.5580, -34.1570, 4285,   2532.6,   3.1044,  34.9071,2,-999.0000,9,    279.2,2,    12.30,2,    17.00,2,     0.00,2,     1.02,2, -999.000,9, -999.000,9,   2157.8,2,   2305.3,2,   7.7394,    25.00,2,   117008,   2.8994
  06MT20030723,   564,  1,      9,2,20030822, 46.5580, -34.1570, 4285,   2225.4,   3.1796,  34.8886,2,-999.0000,9,    283.9,2,    11.14,2,    16.90,2,     0.00,2,     1.01,2,    2.687,3,    1.356,2,   2157.4,2,   2299.6,2,   7.7364,    25.00,2,   117009,   3.0033
  06MT20030723,   564,  1,     10,2,20030822, 46.5580, -34.1570, 4285,   1931.3,   3.2957,  34.8873,2,-999.0000,9,    283.0,2,    10.62,2,    16.98,2,     0.00,2,     1.00,2,    2.838,3,    1.434,2,   2153.9,2,   2300.9,2,   7.7354,    25.00,2,   117010,   3.1452
  06MT20030723,   564,  1,     11,2,20030822, 46.5580, -34.1570, 4285,   1686.5,   3.4988,  34.8989,2,-999.0000,9,   -999.0,5,  -999.00,5,  -999.00,5,  -999.00,5,  -999.00,5, -999.000,9, -999.000,9,   -999.0,5,   -999.0,5,-999.0000,  -999.00,9,   117011,   3.3679
  06MT20030723,   564,  1,     12,2,20030822, 46.5580, -34.1570, 4285,   1414.4,   3.6852,  34.9033,2,  34.9061,2,    276.4,2,    10.05,2,    17.24,2,     0.00,2,     1.01,2,    3.030,3,    1.567,2,   2159.0,2,   2305.5,2,   7.7285,    25.00,2,   117012,   3.5762
  06MT20030723,   564,  1,     13,2,20030822, 46.5580, -34.1570, 4285,   1172.6,   4.0779,  34.9358,2,-999.0000,9,    267.5,2,    10.04,2,    17.59,2,     0.00,2,     1.04,2,    2.916,3,    1.509,2,   2162.6,2,   2302.9,2,   7.7275,    25.00,2,   117013,   3.9861
  06MT20030723,   564,  1,     14,2,20030822, 46.5580, -34.1570, 4285,   1085.9,   4.2411,  34.9485,2,-999.0000,9,    264.6,2,     9.57,2,    17.35,2,     0.00,2,     1.05,2,    2.996,3,    1.584,2,   2162.3,2,   2306.2,2,   7.7256,    25.00,2,   117014,   4.1554
  06MT20030723,   564,  1,     15,2,20030822, 46.5580, -34.1570, 4285,    955.3,   4.5267,  34.9703,2,-999.0000,9,    257.1,2,    10.08,2,    17.71,2,     0.00,2,     1.07,2,    2.808,3,    1.481,2,   2165.2,2,   2304.9,2,   7.7256,    25.00,2,   117015,   4.4501
  06MT20030723,   564,  1,     16,2,20030822, 46.5580, -34.1570, 4285,    876.3,   4.8881,  34.9943,2,-999.0000,9,    251.2,2,    10.00,2,    18.13,2,     0.00,2,     1.09,2,    2.840,3,    1.499,2,   2166.5,2,   2306.4,2,   7.7206,    25.00,2,   117016,   4.8159
  06MT20030723,   564,  1,     17,2,20030822, 46.5580, -34.1570, 4285,    679.9,   5.5380,  34.9734,2,  34.9921,0,    231.4,2,    10.27,2,    18.74,2,     0.00,2,     1.14,2,    2.557,3,    1.358,2,   2171.9,2,   2307.0,2,   7.7088,    25.00,2,   117017,   5.4796
  06MT20030723,   564,  1,     18,2,20030822, 46.5580, -34.1570, 4285,    414.9,   8.7934,  35.1453,2,-999.0000,9,    224.4,2,     7.03,2,    16.21,2,     0.01,2,     0.96,2,    2.776,3,    1.557,2,   2155.8,2,   -999.0,5,   7.7650,    25.00,2,   117018,   8.7483
  06MT20030723,   564,  1,     19,2,20030822, 46.5580, -34.1570, 4285,    184.4,  11.7189,  35.5530,2,-999.0000,9,    232.5,2,     3.38,2,    11.36,2,     0.01,2,     0.60,2,    2.846,3,    1.656,2,   2135.4,2,   2341.1,2,   7.8480,    25.00,2,   117019,  11.6951
  06MT20030723,   564,  1,     20,2,20030822, 46.5580, -34.1570, 4285,     95.6,  12.5187,  35.5712,2,-999.0000,9,    225.8,2,     2.34,2,     9.86,2,     0.03,2,     0.53,2,    2.787,3,    1.633,2,   2126.8,2,   2337.2,2,   7.8688,    25.00,2,   117020,  12.5059
  06MT20030723,   564,  1,     21,2,20030822, 46.5580, -34.1570, 4285,     67.0,  13.0442,  35.6011,2,-999.0000,9,    230.1,2,     1.29,2,     6.79,2,     0.26,2,     0.41,2, -999.000,9, -999.000,9,   2118.9,2,   2339.2,2,   7.8886,    25.00,2,   117021,  13.0350
  06MT20030723,   564,  1,     22,2,20030822, 46.5580, -34.1570, 4285,     19.5,  16.9603,  35.3110,2,-999.0000,9,    249.7,2,     0.19,2,     0.05,2,     0.03,2,     0.06,2,    2.656,3,    1.603,2,   2044.9,2,   2332.6,2,   8.0156,    25.00,2,   117022,  16.9571
  06MT20030723,   565,  1,      1,2,20030822, 46.6160, -35.1410, 4365,   4416.4,   2.1556,  34.8846,2,  34.8850,2,    285.7,2,    17.04,2,    16.02,2,     0.01,2,     0.95,2, -999.000,9, -999.000,9,   -999.0,5,   -999.0,5,-999.0000,  -999.00,9,   118001,   1.7688
  06MT20030723,   565,  1,      2,2,20030822, 46.6160, -35.1410, 4365,   4416.5,   2.1556,  34.8848,2,-999.0000,9,    285.9,2,    17.10,2,    15.95,2,     0.01,2,     0.96,2,    2.511,3,    1.268,2,   -999.0,5,   -999.0,5,-999.0000,  -999.00,9,   118002,   1.7688
  06MT20030723,   565,  1,      3,2,20030822, 46.6160, -35.1410, 4365,   4275.1,   2.1931,  34.8874,2,-999.0000,9,    283.4,2,    18.54,2,    16.40,2,     0.01,2,     0.99,2, -999.000,9, -999.000,9,   -999.0,5,   -999.0,5,-999.0000,  -999.00,9,   118003,   1.8218
  06MT20030723,   565,  1,      4,2,20030822, 46.6160, -35.1410, 4365,   3958.5,   2.2904,  34.8937,2,-999.0000,9,    279.3,2,    20.01,2,    16.89,2,     0.01,2,     1.02,2,    1.816,3,    0.880,2,   -999.0,5,   -999.0,5,-999.0000,  -999.00,9,   118004,   1.9527
  06MT20030723,   565,  1,      5,2,20030822, 46.6160, -35.1410, 4365,   3661.3,   2.4240,  34.9028,2,-999.0000,9,    277.3,2,    19.08,2,    17.04,2,     0.01,2,     1.01,2, -999.000,9, -999.000,9,   -999.0,5,   -999.0,5,-999.0000,  -999.00,9,   118005,   2.1159
  06MT20030723,   565,  1,      6,2,20030822, 46.6160, -35.1410, 4365,   3353.5,   2.6157,  34.9084,2,-999.0000,9,    278.1,2,    16.30,2,    16.64,2,     0.01,2,     0.98,2,    1.658,3,    0.814,2,   -999.0,5,   -999.0,5,-999.0000,  -999.00,9,   118006,   2.3362
  06MT20030723,   565,  1,      7,2,20030822, 46.6160, -35.1410, 4365,   3045.0,   2.8618,  34.9139,2,-999.0000,9,    278.1,2,    14.37,2,    16.65,2,     0.01,2,     0.99,2,    1.762,3,    0.868,2,   -999.0,5,   -999.0,5,-999.0000,  -999.00,9,   118007,   2.6094
  06MT20030723,   565,  1,      8,2,20030822, 46.6160, -35.1410, 4365,   2735.6,   3.0329,  34.9116,2,-999.0000,9,    277.7,2,    13.62,2,    16.92,2,     0.00,2,     1.01,2,    1.883,3,    0.925,2,   -999.0,5,   -999.0,5,-999.0000,  -999.00,9,   118008,   2.8089
  06MT20030723,   565,  1,      9,2,20030822, 46.6160, -35.1410, 4365,   2436.5,   3.1650,  34.9002,2,  34.9016,2,    280.7,2,    12.19,2,    17.08,2,     0.00,2,     1.01,2, -999.000,9, -999.000,9,   -999.0,5,   -999.0,5,-999.0000,  -999.00,9,   118009,   2.9684
  06MT20030723,   565,  1,     10,2,20030822, 46.6160, -35.1410, 4365,   2125.2,   3.2219,  34.8858,2,-999.0000,9,    284.8,2,    11.02,2,    16.74,2,     0.01,2,     1.02,2, -999.000,9, -999.000,9,   -999.0,5,   -999.0,5,-999.0000,  -999.00,9,   118010,   3.0545
  06MT20030723,   565,  1,     11,2,20030822, 46.6160, -35.1410, 4365,   1826.6,   3.4123,  34.8932,2,-999.0000,9,    280.7,2,    10.67,2,    17.09,2,     0.00,2,     1.03,2, -999.000,9, -999.000,9,   -999.0,5,   -999.0,5,-999.0000,  -999.00,9,   118011,   3.2698
  06MT20030723,   565,  1,     12,2,20030822, 46.6160, -35.1410, 4365,   1634.1,   3.5860,  34.9020,2,-999.0000,9,    277.3,2,    10.54,2,    17.19,2,     0.00,2,     1.03,2,    3.010,3,    1.478,2,   -999.0,5,   -999.0,5,-999.0000,  -999.00,9,   118012,   3.4587
  06MT20030723,   565,  1,     13,2,20030822, 46.6160, -35.1410, 4365,   1416.4,   3.7564,  34.9093,2,-999.0000,9,    277.7,2,    10.66,2,    17.27,2,     0.01,2,     1.03,2,    2.974,3,    1.455,2,   -999.0,5,   -999.0,5,-999.0000,  -999.00,9,   118013,   3.6465
  06MT20030723,   565,  1,     14,2,20030822, 46.6160, -35.1410, 4365,   1338.8,   3.8529,  34.9115,2,-999.0000,9,    274.7,2,     9.90,2,    17.38,2,     0.00,2,     1.02,2,    3.361,3,    1.682,2,   -999.0,5,   -999.0,5,-999.0000,  -999.00,9,   118014,   3.7488
  06MT20030723,   565,  1,     15,2,20030822, 46.6160, -35.1410, 4365,   1177.8,   4.1830,  34.9401,2,  34.9393,2,    266.6,2,    10.13,2,    17.65,2,     0.00,2,     1.02,2,    3.130,3,    1.583,2,   -999.0,5,   -999.0,5,-999.0000,  -999.00,9,   118015,   4.0898
  06MT20030723,   565,  1,     16,2,20030822, 46.6160, -35.1410, 4365,   1023.1,   4.4723,  34.9523,2,-999.0000,9,   -999.0,5,  -999.00,5,  -999.00,5,  -999.00,5,  -999.00,5, -999.000,9, -999.000,9,   -999.0,5,   -999.0,5,-999.0000,  -999.00,9,   118016,   4.3902
  06MT20030723,   565,  1,     17,2,20030822, 46.6160, -35.1410, 4365,    964.2,   4.6135,  34.9565,2,-999.0000,9,    257.0,2,    10.13,2,    17.92,2,     0.00,2,     1.05,2,    3.118,3,    1.600,2,   -999.0,5,   -999.0,5,-999.0000,  -999.00,9,   118017,   4.5355
  06MT20030723,   565,  1,     18,2,20030822, 46.6160, -35.1410, 4365,    853.5,   5.2383,  35.0130,2,-999.0000,9,    239.0,2,    10.58,2,    18.47,2,     0.00,2,     1.08,2,    2.610,3,    1.336,2,   -999.0,5,   -999.0,5,-999.0000,  -999.00,9,   118018,   5.1658
  06MT20030723,   565,  1,     19,2,20030822, 46.6160, -35.1410, 4365,    689.7,   5.9463,  35.0013,2,-999.0000,9,    221.0,2,    11.21,2,    19.29,2,     0.00,2,     1.15,2, -999.000,9, -999.000,9,   -999.0,5,   -999.0,5,-999.0000,  -999.00,9,   118019,   5.8848
  06MT20030723,   565,  1,     20,2,20030822, 46.6160, -35.1410, 4365,    399.6,   9.8825,  35.2737,2,-999.0000,9,    203.9,2,     7.62,2,    16.86,2,     0.01,2,     0.95,2, -999.000,9, -999.000,9,   -999.0,5,   -999.0,5,-999.0000,  -999.00,9,   118020,   9.8358
  06MT20030723,   565,  1,     21,2,20030822, 46.6160, -35.1410, 4365,    201.2,  12.2266,  35.6227,2,-999.0000,9,    226.1,2,     4.06,2,    11.01,2,     0.01,2,     0.61,2, -999.000,9, -999.000,9,   -999.0,5,   -999.0,5,-999.0000,  -999.00,9,   118021,  12.1998
  06MT20030723,   565,  1,     22,2,20030822, 46.6160, -35.1410, 4365,     19.3,  17.9802,  35.6517,2,  35.5436,0,    243.4,2,     0.21,2,     0.00,2,     0.02,2,     0.03,2,    2.570,3,    1.506,2,   -999.0,5,   -999.0,5,-999.0000,  -999.00,9,   118022,  17.9769