BOTTLE,20090513PRINUNIVRMK
EXPOCODE,STNNBR,CASTNO,BTLNBR,BTLNBR_FLAG_W,DATE,LATITUDE,LONGITUDE,DEPTH,CTDPRS,CTDTMP,CTDSAL,CTDSAL_FLAG_W,SALNTY,SALNTY_FLAG_W,OXYGEN,OXYGEN_FLAG_W,SILCAT,SILCAT_FLAG_W,NITRAT,NITRAT_FLAG_W,NITRIT,NITRIT_FLAG_W,PHSPHT,PHSPHT_FLAG_W,CFC-11,CFC-11_FLAG_W,CFC-12,CFC-12_FLAG_W,TCARBN,TCARBN_FLAG_W,ALKALI,ALKALI_FLAG_W,PH_SWS,PH_TEMP,PH_SWS_FLAG_W,ID,THETA
,,,,,,,,METERS,DBARS,ITS-90,PSS-78,,PSS-78,,UMOL/KG,,UMOL/KG,,UMOL/KG,,UMOL/KG,,UMOL/KG,,PMOL/KG,,PMOL/KG,,UMOL/KG,,UMOL/KG,,,DEGC,,,DEGC
  06MT20030723,   551,  1,      1,2,20030819, 47.5990, -22.8670, 4167,   4236.3,   2.5659,  34.9094,2,-999.0000,9,    243.2,2,    42.94,2,    21.98,2,     0.00,2,     1.44,2, -999.000,9, -999.000,9,   -999.0,5,   -999.0,5,-999.0000,  -999.00,9,   104001,   2.1881
  06MT20030723,   551,  1,      2,2,20030819, 47.5990, -22.8670, 4167,   4236.0,   2.5654,  34.9100,2,-999.0000,9,    242.5,2,    43.08,2,    22.44,2,     0.00,2,     1.45,2, -999.000,9, -999.000,9,   2200.9,2,   2346.0,2,   7.7334,    25.00,2,   104002,   2.1876
  06MT20030723,   551,  1,      3,2,20030819, 47.5990, -22.8670, 4167,   4068.7,   2.5605,  34.9113,2,-999.0000,9,    242.7,2,    42.07,2,    22.23,2,     0.00,2,     1.44,2,    0.110,3,    0.052,2,   2199.9,2,   2350.0,2,   7.7354,    25.00,2,   104003,   2.2025
  06MT20030723,   551,  1,      4,2,20030819, 47.5990, -22.8670, 4167,   3658.2,   2.6224,  34.9215,2,-999.0000,9,    247.2,2,    37.20,2,    21.03,2,     0.00,2,     1.36,2,    0.292,3,    0.136,2,   -999.0,5,   -999.0,5,-999.0000,  -999.00,9,   104004,   2.3094
  06MT20030723,   551,  1,      5,2,20030819, 47.5990, -22.8670, 4167,   3246.2,   2.7881,  34.9371,2,  34.9384,2,    256.0,2,    27.80,2,    19.58,2,     0.00,2,     1.26,2,    0.702,3,    0.339,2,   -999.0,5,   -999.0,5,-999.0000,  -999.00,9,   104005,   2.5159
  06MT20030723,   551,  1,      6,2,20030819, 47.5990, -22.8670, 4167,   2728.4,   3.0855,  34.9380,2,-999.0000,9,    275.9,2,    12.96,2,    17.06,2,     0.00,2,     1.07,2,    1.954,3,    0.925,2,   -999.0,5,   -999.0,5,-999.0000,  -999.00,9,   104006,   2.8610
  06MT20030723,   551,  1,      7,2,20030819, 47.5990, -22.8670, 4167,   2421.2,   3.2000,  34.9136,2,-999.0000,9,    275.7,2,    13.18,2,    17.08,2,     0.00,2,     1.08,2,    1.964,3,    0.939,2,   -999.0,5,   -999.0,5,-999.0000,  -999.00,9,   104007,   3.0043
  06MT20030723,   551,  1,      8,2,20030819, 47.5990, -22.8670, 4167,   2225.8,   3.2404,  34.8962,2,  34.9002,2,    281.1,2,    11.27,2,    16.96,2,     0.00,2,     1.08,2,    2.533,3,    1.217,2,   -999.0,5,   -999.0,5,-999.0000,  -999.00,9,   104008,   3.0630
  06MT20030723,   551,  1,      9,2,20030819, 47.5990, -22.8670, 4167,   2016.9,   3.3370,  34.8926,2,-999.0000,9,    281.2,2,    10.65,2,    17.24,2,     0.00,2,     1.08,2,    2.676,3,    1.280,2,   -999.0,5,   -999.0,5,-999.0000,  -999.00,9,   104009,   3.1780
  06MT20030723,   551,  1,     10,2,20030819, 47.5990, -22.8670, 4167,   2016.9,   3.3370,  34.8926,2,-999.0000,9,    281.2,2,    10.74,2,    17.27,2,     0.00,2,     1.07,2, -999.000,9, -999.000,9,   -999.0,5,   -999.0,5,-999.0000,  -999.00,9,   104010,   3.1780
  06MT20030723,   551,  1,     11,2,20030819, 47.5990, -22.8670, 4167,   1799.1,   3.5107,  34.9018,2,-999.0000,9,    277.4,2,    10.58,2,    17.54,2,     0.00,2,     1.07,2,    2.669,3,    1.289,2,   -999.0,5,   -999.0,5,-999.0000,  -999.00,9,   104011,   3.3694
  06MT20030723,   551,  1,     12,2,20030819, 47.5990, -22.8670, 4167,   1614.0,   3.7473,  34.9210,2,-999.0000,9,    271.8,2,    10.49,2,    17.79,2,     0.00,2,     1.11,2,    2.645,3,    1.282,2,   -999.0,5,   -999.0,5,-999.0000,  -999.00,9,   104012,   3.6198
  06MT20030723,   551,  1,     13,2,20030819, 47.5990, -22.8670, 4167,   1431.4,   4.0640,  34.9442,2,-999.0000,9,    264.8,2,    10.29,2,    17.92,2,     0.00,2,     1.11,2,    2.817,3,    1.398,2,   -999.0,5,   -999.0,5,-999.0000,  -999.00,9,   104013,   3.9494
  06MT20030723,   551,  1,     14,2,20030819, 47.5990, -22.8670, 4167,   1337.2,   4.1948,  34.9470,2,-999.0000,9,    263.7,2,    10.02,2,    17.85,2,     0.00,2,     1.11,2,    2.990,3,    1.487,2,   -999.0,5,   -999.0,5,-999.0000,  -999.00,9,   104014,   4.0873
  06MT20030723,   551,  1,     15,2,20030819, 47.5990, -22.8670, 4167,   1257.5,   4.4723,  34.9748,2,-999.0000,9,    241.6,2,    10.29,2,    18.58,2,     0.00,2,     1.15,2,    2.610,3,    1.303,2,   -999.0,5,   -999.0,5,-999.0000,  -999.00,9,   104015,   4.3692
  06MT20030723,   551,  1,     16,2,20030819, 47.5990, -22.8670, 4167,   1166.3,   4.7848,  35.0067,2,  35.0047,2,    250.5,2,    10.30,2,    18.33,2,     0.00,2,     1.14,2,    2.782,3,    1.388,2,   -999.0,5,   -999.0,5,-999.0000,  -999.00,9,   104016,   4.6872
  06MT20030723,   551,  1,     17,2,20030819, 47.5990, -22.8670, 4167,   1069.5,   5.3754,  35.0689,2,-999.0000,9,    239.0,2,    10.43,2,    18.34,2,     0.00,2,     1.16,2,    2.600,3,    1.283,2,   -999.0,5,   -999.0,5,-999.0000,  -999.00,9,   104017,   5.2817
  06MT20030723,   551,  1,     18,2,20030819, 47.5990, -22.8670, 4167,    861.9,   7.1655,  35.2051,2,-999.0000,9,    208.0,2,    10.11,2,    18.86,2,     0.00,2,     1.17,2,    2.181,3,    1.094,2,   -999.0,5,   -999.0,5,-999.0000,  -999.00,9,   104018,   7.0796
  06MT20030723,   551,  1,     19,2,20030819, 47.5990, -22.8670, 4167,    624.7,   9.3149,  35.2709,2,-999.0000,9,    196.0,2,     7.88,2,    17.52,2,     0.01,2,     1.05,2,    2.350,3,    1.231,2,   -999.0,5,   -999.0,5,-999.0000,  -999.00,9,   104019,   9.2437
  06MT20030723,   551,  1,     20,2,20030819, 47.5990, -22.8670, 4167,    429.0,  11.2369,  35.5092,2,-999.0000,9,    237.1,2,     3.78,2,    11.61,2,     0.01,2,     0.64,2, -999.000,9, -999.000,9,   -999.0,5,   -999.0,5,-999.0000,  -999.00,9,   104020,  11.1824
  06MT20030723,   551,  1,     21,2,20030819, 47.5990, -22.8670, 4167,    143.8,  12.9362,  35.7620,2,-999.0000,9,    236.8,2,     2.50,2,     8.41,2,     0.01,2,     0.43,2,    3.007,3,    1.703,2,   -999.0,5,   -999.0,5,-999.0000,  -999.00,9,   104021,  12.9164
  06MT20030723,   551,  1,     22,2,20030819, 47.5990, -22.8670, 4167,     10.2,  17.1436,  35.6000,2,  35.6052,2,    247.5,2,     0.03,2,     0.02,2,     0.01,2,     0.05,2,    2.705,3,    1.560,2,   -999.0,5,   -999.0,5,-999.0000,  -999.00,9,   104022,  17.1419
  06MT20030723,   552,  1,      1,2,20030819, 47.4830, -23.6920, 3894,   3940.1,   2.6072,  34.9166,2,  34.9171,2,    245.5,2,    39.50,2,    21.45,2,     0.01,2,     1.39,2, -999.000,9, -999.000,9,   2197.1,2,   2340.9,2,   7.7374,    25.00,2,   105001,   2.2627
  06MT20030723,   552,  1,      2,2,20030819, 47.4830, -23.6920, 3894,   3939.8,   2.6075,  34.9165,2,-999.0000,9,    245.7,2,    39.44,2,    21.31,2,     0.01,2,     1.39,2, -999.000,9, -999.000,9,   -999.0,5,   -999.0,5,-999.0000,  -999.00,9,   105002,   2.2630
  06MT20030723,   552,  1,      3,2,20030819, 47.4830, -23.6920, 3894,   3863.7,   2.6179,  34.9185,2,-999.0000,9,    246.0,2,    38.73,2,    21.21,2,     0.01,2,     1.38,2,    0.282,3,    0.140,2,   2197.7,2,   2344.8,2,   7.7364,    25.00,2,   105003,   2.2819
  06MT20030723,   552,  1,      4,2,20030819, 47.4830, -23.6920, 3894,   3555.1,   2.6661,  34.9255,2,-999.0000,9,    250.4,2,    37.61,2,    21.30,2,     0.01,2,     1.37,2,    0.501,3,    0.244,2,   2190.2,2,   2340.0,2,   7.7364,    25.00,2,   105004,   2.3634
  06MT20030723,   552,  1,      5,2,20030819, 47.4830, -23.6920, 3894,   3247.3,   2.8009,  34.9368,2,-999.0000,9,    259.9,2,    25.69,2,    18.73,2,     0.00,2,     1.20,2,    0.980,3,    0.477,2,   2178.9,2,   2326.3,2,   7.7374,    25.00,2,   105005,   2.5283
  06MT20030723,   552,  1,      6,2,20030819, 47.4830, -23.6920, 3894,   3145.6,   2.8490,  34.9394,2,-999.0000,9,   -999.0,5,  -999.00,5,  -999.00,5,  -999.00,5,  -999.00,5, -999.000,9, -999.000,9,   -999.0,5,   -999.0,5,-999.0000,  -999.00,9,   105006,   2.5861
  06MT20030723,   552,  1,      7,2,20030819, 47.4830, -23.6920, 3894,   2837.3,   3.0207,  34.9392,2,-999.0000,9,    269.3,2,    17.19,2,    17.30,2,     0.00,2,     1.10,2,    1.487,3,    0.719,2,   2167.4,2,   2308.2,2,   7.7384,    25.00,2,   105007,   2.7864
  06MT20030723,   552,  1,      8,2,20030819, 47.4830, -23.6920, 3894,   2534.1,   3.1429,  34.9213,2,  34.9220,2,    275.9,2,    13.00,2,    16.83,2,     0.00,2,     1.06,2,    1.980,3,    0.957,2,   2158.9,2,   2302.8,2,   7.7384,    25.00,2,   105008,   2.9370
  06MT20030723,   552,  1,      9,2,20030819, 47.4830, -23.6920, 3894,   2219.8,   3.2284,  34.8978,2,-999.0000,9,    282.1,2,    10.99,2,    16.82,2,     0.00,2,     1.05,2,    2.583,3,    1.243,2,   2156.7,2,   2298.6,2,   7.7354,    25.00,2,   105009,   3.0518
  06MT20030723,   552,  1,     10,2,20030819, 47.4830, -23.6920, 3894,   2217.2,   3.2294,  34.8970,2,-999.0000,9,    282.1,2,    10.48,2,    16.86,2,     0.00,2,     1.05,2, -999.000,9, -999.000,9,   -999.0,5,   -999.0,5,-999.0000,  -999.00,9,   105010,   3.0531
  06MT20030723,   552,  1,     11,2,20030819, 47.4830, -23.6920, 3894,   2022.9,   3.3123,  34.8913,2,-999.0000,9,    281.9,2,    10.43,2,    16.93,2,     0.00,2,     1.06,2,    2.775,3,    1.348,2,   2156.4,2,   2296.7,2,   7.7335,    25.00,2,   105011,   3.1531
  06MT20030723,   552,  1,     12,2,20030819, 47.4830, -23.6920, 3894,   1819.4,   3.5083,  34.9007,2,-999.0000,9,    277.7,2,    10.35,2,    17.25,2,     0.00,2,     1.06,2,    2.744,3,    1.330,2,   2159.2,2,   2296.5,2,   7.7295,    25.00,2,   105012,   3.3651
  06MT20030723,   552,  1,     13,2,20030819, 47.4830, -23.6920, 3894,   1613.1,   3.7269,  34.9167,2,  34.9128,2,    272.6,2,    10.23,2,    17.38,2,     0.00,2,     1.08,2,    2.702,3,    1.307,2,   2160.3,2,   2301.0,2,   7.7275,    25.00,2,   105013,   3.5997
  06MT20030723,   552,  1,     14,2,20030819, 47.4830, -23.6920, 3894,   1433.7,   4.0577,  34.9455,2,-999.0000,9,    265.6,2,     9.80,2,    17.35,2,     0.00,2,     1.08,2,    2.682,3,    1.316,2,   2163.3,2,   2299.2,2,   7.7266,    25.00,2,   105014,   3.9429
  06MT20030723,   552,  1,     15,2,20030819, 47.4830, -23.6920, 3894,   1357.4,   4.2643,  34.9622,2,-999.0000,9,    224.8,4,     3.86,4,    11.26,4,     0.01,4,     0.62,4, -999.000,9, -999.000,9,   2135.5,4,   2336.1,4,   7.8550,    25.00,3,   105015,   4.1542
  06MT20030723,   552,  1,     16,2,20030819, 47.4830, -23.6920, 3894,   1242.6,   4.6438,  34.9972,2,-999.0000,9,    254.0,2,    10.02,2,    17.87,2,     0.00,2,     1.10,2,    2.740,3,    1.366,2,   2167.4,2,   2303.3,2,   7.7226,    25.00,2,   105016,   4.5404
  06MT20030723,   552,  1,     17,2,20030819, 47.4830, -23.6920, 3894,   1130.7,   5.5122,  35.1017,2,-999.0000,9,    239.0,2,    10.29,2,    18.15,2,     0.00,2,     1.11,2,    2.501,3,    1.242,2,   2173.4,2,   2316.0,2,   7.7246,    25.00,2,   105017,   5.4115
  06MT20030723,   552,  1,     18,2,20030819, 47.4830, -23.6920, 3894,    814.6,   7.7083,  35.2137,2,  35.2150,2,    196.1,2,     9.40,2,    18.91,2,     0.00,2,     1.14,2,    1.994,3,    1.012,2,   2178.8,2,   2316.7,2,   7.7245,    25.00,2,   105018,   7.6241
  06MT20030723,   552,  1,     19,2,20030819, 47.4830, -23.6920, 3894,    499.6,  11.0387,  35.4775,2,-999.0000,9,    254.7,2,     3.07,2,    10.31,2,     0.01,2,     0.57,2,    3.296,3,    1.863,2,   2130.4,2,   2328.4,2,   7.8519,    25.00,2,   105019,  10.9758
  06MT20030723,   552,  1,     20,2,20030819, 47.4830, -23.6920, 3894,    194.4,  13.3202,  35.8078,2,-999.0000,9,    232.2,2,     2.31,2,     8.43,2,     0.01,2,     0.45,2,    2.909,3,    1.650,2,   2125.2,2,   2343.9,2,   7.8875,    25.00,2,   105020,  13.2928
  06MT20030723,   552,  1,     21,2,20030819, 47.4830, -23.6920, 3894,     96.1,  14.1940,  35.9401,2,-999.0000,9,    230.5,2,     1.87,2,     7.10,2,     0.02,2,     0.38,2,    2.842,3,    1.626,2,   2120.2,2,   2351.3,2,   7.9083,    25.00,2,   105021,  14.1799
  06MT20030723,   552,  1,     22,2,20030819, 47.4830, -23.6920, 3894,      9.1,  18.2461,  35.7136,2,-999.0000,9,    241.2,2,     0.13,2,     0.03,2,     0.01,2,     0.01,2,    2.559,3,    1.487,2,   2061.5,2,   2352.1,2,   8.0125,    25.00,2,   105022,  18.2445
  06MT20030723,   553,  1,      1,2,20030819, 47.3700, -24.4910, 3348,   3340.2,   2.8006,  34.9334,2,  34.9329,2,    257.8,2,    26.67,2,    19.03,2,     0.00,2,  -999.00,2, -999.000,9, -999.000,9,   -999.0,5,   -999.0,5,-999.0000,  -999.00,9,   106001,   2.5180
  06MT20030723,   553,  1,      2,2,20030819, 47.3700, -24.4910, 3348,   3340.2,   2.8006,  34.9334,2,-999.0000,9,   -999.0,5,  -999.00,5,  -999.00,5,  -999.00,5,     1.20,5, -999.000,9, -999.000,9,   -999.0,5,   -999.0,5,-999.0000,  -999.00,9,   106002,   2.5180
  06MT20030723,   553,  1,      3,2,20030819, 47.3700, -24.4910, 3348,   3247.4,   2.8226,  34.9341,2,-999.0000,9,    259.9,2,    25.25,2,    18.70,2,     0.00,2,     1.14,2,    0.994,3,    0.497,2,   -999.0,5,   -999.0,5,-999.0000,  -999.00,9,   106003,   2.5495
  06MT20030723,   553,  1,      4,2,20030819, 47.3700, -24.4910, 3348,   3044.6,   2.9008,  34.9359,2,-999.0000,9,   -999.0,5,  -999.00,5,  -999.00,5,  -999.00,5,  -999.00,5,    1.191,3,    0.599,2,   -999.0,5,   -999.0,5,-999.0000,  -999.00,9,   106004,   2.6475
  06MT20030723,   553,  1,      5,2,20030819, 47.3700, -24.4910, 3348,   2838.8,   2.9937,  34.9337,2,-999.0000,9,    269.2,2,  -999.00,5,  -999.00,5,  -999.00,5,  -999.00,5,    1.463,3,    0.730,2,   -999.0,5,   -999.0,5,-999.0000,  -999.00,9,   106005,   2.7598
  06MT20030723,   553,  1,      6,2,20030819, 47.3700, -24.4910, 3348,   2679.4,   3.0652,  34.9292,2,-999.0000,9,   -999.0,5,  -999.00,5,  -999.00,5,  -999.00,5,  -999.00,5, -999.000,9, -999.000,9,   -999.0,5,   -999.0,5,-999.0000,  -999.00,9,   106006,   2.8462
  06MT20030723,   553,  1,      7,2,20030819, 47.3700, -24.4910, 3348,   2534.0,   3.1276,  34.9191,2,-999.0000,9,   -999.0,5,  -999.00,5,  -999.00,5,  -999.00,5,  -999.00,5,    1.955,3,    0.964,2,   -999.0,5,   -999.0,5,-999.0000,  -999.00,9,   106007,   2.9220
  06MT20030723,   553,  1,      8,2,20030819, 47.3700, -24.4910, 3348,   2327.6,   3.1987,  34.9049,2,-999.0000,9,   -999.0,5,  -999.00,5,  -999.00,5,  -999.00,5,  -999.00,5,    2.290,3,    1.147,2,   -999.0,5,   -999.0,5,-999.0000,  -999.00,9,   106008,   3.0122
  06MT20030723,   553,  1,      9,2,20030819, 47.3700, -24.4910, 3348,   2120.3,   3.2543,  34.8925,2,  34.8984,2,   -999.0,5,  -999.00,5,  -999.00,5,  -999.00,5,  -999.00,5,    2.663,3,    1.317,2,   -999.0,5,   -999.0,5,-999.0000,  -999.00,9,   106009,   3.0868
  06MT20030723,   553,  1,     10,2,20030819, 47.3700, -24.4910, 3348,   2120.1,   3.2546,  34.8922,2,-999.0000,9,   -999.0,5,  -999.00,5,  -999.00,5,  -999.00,5,  -999.00,5, -999.000,9, -999.000,9,   -999.0,5,   -999.0,5,-999.0000,  -999.00,9,   106010,   3.0871
  06MT20030723,   553,  1,     11,2,20030819, 47.3700, -24.4910, 3348,   1914.2,   3.3779,  34.8932,2,-999.0000,9,   -999.0,5,  -999.00,5,  -999.00,5,  -999.00,5,  -999.00,5,    2.751,3,    1.358,2,   -999.0,5,   -999.0,5,-999.0000,  -999.00,9,   106011,   3.2278
  06MT20030723,   553,  1,     12,2,20030819, 47.3700, -24.4910, 3348,   1718.0,   3.5947,  34.9065,2,-999.0000,9,   -999.0,5,  -999.00,5,  -999.00,5,  -999.00,5,  -999.00,5,    2.690,3,    1.325,2,   -999.0,5,   -999.0,5,-999.0000,  -999.00,9,   106012,   3.4597
  06MT20030723,   553,  1,     13,2,20030819, 47.3700, -24.4910, 3348,   1516.6,   3.8978,  34.9306,2,-999.0000,9,    268.6,2,  -999.00,5,  -999.00,5,  -999.00,5,  -999.00,5,    2.701,3,    1.343,2,   -999.0,5,   -999.0,5,-999.0000,  -999.00,9,   106013,   3.7773
  06MT20030723,   553,  1,     14,2,20030819, 47.3700, -24.4910, 3348,   1430.4,   4.1155,  34.9518,2,-999.0000,9,   -999.0,5,  -999.00,5,  -999.00,5,  -999.00,5,  -999.00,5, -999.000,9, -999.000,9,   -999.0,5,   -999.0,5,-999.0000,  -999.00,9,   106014,   4.0004
  06MT20030723,   553,  1,     15,2,20030819, 47.3700, -24.4910, 3348,   1306.2,   4.4650,  34.9889,2,-999.0000,9,   -999.0,5,  -999.00,5,  -999.00,5,  -999.00,5,  -999.00,5, -999.000,9, -999.000,9,   -999.0,5,   -999.0,5,-999.0000,  -999.00,9,   106015,   4.3575
  06MT20030723,   553,  1,     16,2,20030819, 47.3700, -24.4910, 3348,   1207.0,   4.9414,  35.0421,2,-999.0000,9,   -999.0,5,  -999.00,5,  -999.00,5,  -999.00,5,  -999.00,5,    2.556,3,    1.289,2,   -999.0,5,   -999.0,5,-999.0000,  -999.00,9,   106016,   4.8385
  06MT20030723,   553,  1,     17,2,20030819, 47.3700, -24.4910, 3348,   1119.7,   5.6655,  35.1383,2,  35.1395,2,   -999.0,5,  -999.00,5,  -999.00,5,  -999.00,5,  -999.00,5,    2.291,3,    1.153,2,   -999.0,5,   -999.0,5,-999.0000,  -999.00,9,   106017,   5.5645
  06MT20030723,   553,  1,     18,2,20030819, 47.3700, -24.4910, 3348,    996.7,   6.1778,  35.1728,2,-999.0000,9,   -999.0,5,  -999.00,5,  -999.00,5,  -999.00,5,  -999.00,5,    2.195,3,    1.117,2,   -999.0,5,   -999.0,5,-999.0000,  -999.00,9,   106018,   6.0849
  06MT20030723,   553,  1,     19,2,20030819, 47.3700, -24.4910, 3348,    756.2,   7.9828,  35.2183,2,-999.0000,9,    194.8,2,  -999.00,5,  -999.00,5,  -999.00,5,  -999.00,5,    1.924,3,    0.999,2,   -999.0,5,   -999.0,5,-999.0000,  -999.00,9,   106019,   7.9034
  06MT20030723,   553,  1,     20,2,20030819, 47.3700, -24.4910, 3348,    412.9,  11.2458,  35.4856,2,-999.0000,9,   -999.0,5,  -999.00,5,  -999.00,5,  -999.00,5,  -999.00,5,    2.860,3,    1.632,2,   -999.0,5,   -999.0,5,-999.0000,  -999.00,9,   106020,  11.1934
  06MT20030723,   553,  1,     21,2,20030819, 47.3700, -24.4910, 3348,     98.3,  14.0077,  35.9016,2,  35.8911,0,   -999.0,5,  -999.00,5,  -999.00,5,  -999.00,5,  -999.00,5, -999.000,9, -999.000,9,   -999.0,5,   -999.0,5,-999.0000,  -999.00,9,   106021,  13.9934
  06MT20030723,   553,  1,     22,2,20030819, 47.3700, -24.4910, 3348,     28.7,  18.4745,  35.7540,2,-999.0000,9,    238.9,2,  -999.00,5,  -999.00,5,  -999.00,5,  -999.00,5,    2.487,3,    1.470,2,   -999.0,5,   -999.0,5,-999.0000,  -999.00,9,   106022,  18.4695