BOTTLE,20090513PRINUNIVRMK
EXPOCODE,STNNBR,CASTNO,BTLNBR,BTLNBR_FLAG_W,DATE,LATITUDE,LONGITUDE,DEPTH,CTDPRS,CTDTMP,CTDSAL,CTDSAL_FLAG_W,SALNTY,SALNTY_FLAG_W,OXYGEN,OXYGEN_FLAG_W,SILCAT,SILCAT_FLAG_W,NITRAT,NITRAT_FLAG_W,NITRIT,NITRIT_FLAG_W,PHSPHT,PHSPHT_FLAG_W,CFC-11,CFC-11_FLAG_W,CFC-12,CFC-12_FLAG_W,TCARBN,TCARBN_FLAG_W,ALKALI,ALKALI_FLAG_W,PH_SWS,PH_TEMP,PH_SWS_FLAG_W,ID,THETA
,,,,,,,,METERS,DBARS,ITS-90,PSS-78,,PSS-78,,UMOL/KG,,UMOL/KG,,UMOL/KG,,UMOL/KG,,UMOL/KG,,PMOL/KG,,PMOL/KG,,UMOL/KG,,UMOL/KG,,,DEGC,,,DEGC
  06MT20030723,   482,  1,      1,2,20030731, 55.4010, -45.1730, 3456,   3443.8,   2.3118,  34.8993,2,  34.8985,2,    281.0,2,    16.74,2,    15.97,2,     0.01,2,     1.04,2, -999.000,9, -999.000,9,   2163.1,2,   2315.6,2,   7.7187,    25.00,2,    33001,   2.0301
  06MT20030723,   482,  1,      2,2,20030731, 55.4010, -45.1730, 3456,   3443.4,   2.3128,  34.8993,2,-999.0000,9,    280.9,2,    16.71,2,    16.11,2,     0.01,2,     1.05,2, -999.000,9, -999.000,9,   -999.0,5,   -999.0,5,-999.0000,  -999.00,9,    33002,   2.0311
  06MT20030723,   482,  1,      3,2,20030731, 55.4010, -45.1730, 3456,   3352.7,   2.4032,  34.9055,2,-999.0000,9,    280.4,2,    16.33,2,    16.10,2,     0.01,2,     1.06,2, -999.000,9, -999.000,9,   2162.1,2,   2314.5,2,   7.7216,    25.00,2,    33003,   2.1289
  06MT20030723,   482,  1,      4,2,20030731, 55.4010, -45.1730, 3456,   3250.1,   2.4885,  34.9113,2,-999.0000,9,    280.2,2,    15.84,2,    16.11,2,     0.00,2,     1.07,2, -999.000,9, -999.000,9,   2162.9,2,   2312.9,2,   7.7216,    25.00,2,    33004,   2.2230
  06MT20030723,   482,  1,      5,2,20030731, 55.4010, -45.1730, 3456,   3045.7,   2.6551,  34.9235,2,-999.0000,9,    278.1,2,    14.89,2,    16.06,2,     0.00,2,     1.07,2,    1.924,3,    0.981,2,   2160.0,2,   2314.5,2,   7.7246,    25.00,2,    33005,   2.4071
  06MT20030723,   482,  1,      6,2,20030731, 55.4010, -45.1730, 3456,   2841.6,   2.7900,  34.9273,2,-999.0000,9,   -999.0,5,  -999.00,5,  -999.00,5,  -999.00,5,  -999.00,5, -999.000,9, -999.000,9,   -999.0,5,   -999.0,5,-999.0000,  -999.00,9,    33006,   2.5600
  06MT20030723,   482,  1,      7,2,20030731, 55.4010, -45.1730, 3456,   2636.2,   2.8724,  34.9243,2,-999.0000,9,    278.8,2,    12.91,2,    16.22,2,     0.00,2,     1.06,2,    2.066,3,    1.050,2,   2159.0,2,   2313.1,2,   7.7226,    25.00,2,    33007,   2.6614
  06MT20030723,   482,  1,      8,2,20030731, 55.4010, -45.1730, 3456,   2435.1,   2.9774,  34.9203,2,  34.9185,2,    279.1,2,    12.24,2,    16.26,2,     0.00,2,     1.06,2,    2.198,3,    1.123,2,   2157.9,2,   2308.8,2,   7.7236,    25.00,2,    33008,   2.7843
  06MT20030723,   482,  1,      9,2,20030731, 55.4010, -45.1730, 3456,   2226.4,   3.0319,  34.9081,2,-999.0000,9,    281.1,2,    11.56,2,    16.22,2,     0.00,2,     1.07,2,    2.364,3,    1.212,2,   2158.4,2,   2305.1,2,   7.7226,    25.00,2,    33009,   2.8579
  06MT20030723,   482,  1,     10,2,20030731, 55.4010, -45.1730, 3456,   2023.4,   3.0868,  34.8955,2,-999.0000,9,    283.0,2,    11.02,2,    16.40,2,     0.00,2,     1.07,2,    2.695,3,    1.367,2,   2157.1,2,   2308.0,2,   7.7197,    25.00,2,    33010,   2.9309
  06MT20030723,   482,  1,     11,2,20030731, 55.4010, -45.1730, 3456,   1822.0,   3.1067,  34.8821,2,-999.0000,9,    286.1,2,    10.52,2,    16.51,2,     0.00,2,     1.06,2,    3.050,3,    1.536,2,   2157.8,2,   2302.3,2,   7.7197,    25.00,2,    33011,   2.9688
  06MT20030723,   482,  1,     12,2,20030731, 55.4010, -45.1730, 3456,   1623.0,   3.1424,  34.8738,2,-999.0000,9,    287.7,2,    10.12,2,    16.66,2,     0.00,2,     1.07,2,    3.382,3,    1.697,2,   2156.1,2,   2302.6,2,   7.7167,    25.00,2,    33012,   3.0216
  06MT20030723,   482,  1,     13,2,20030731, 55.4010, -45.1730, 3456,   1413.5,   3.2656,  34.8807,2,-999.0000,9,    284.4,2,    10.17,2,    16.81,2,     0.00,2,     1.09,2,    3.309,3,    1.679,2,   2156.8,2,   2306.7,2,   7.7147,    25.00,2,    33013,   3.1613
  06MT20030723,   482,  1,     14,2,20030731, 55.4010, -45.1730, 3456,   1213.2,   3.3968,  34.8851,2,-999.0000,9,    281.8,2,    10.01,2,    16.78,2,     0.00,2,     1.10,2,    3.360,3,    1.723,2,   2158.2,2,   2300.6,2,   7.7118,    25.00,2,    33014,   3.3079
  06MT20030723,   482,  1,     15,2,20030731, 55.4010, -45.1730, 3456,   1008.0,   3.4519,  34.8748,2,-999.0000,9,    282.8,2,     9.46,2,    16.66,2,     0.00,2,     1.08,2,    3.773,3,    1.965,2,   2158.6,2,   2303.9,2,   7.7118,    25.00,2,    33015,   3.3792
  06MT20030723,   482,  1,     16,2,20030731, 55.4010, -45.1730, 3456,    802.6,   3.4440,  34.8591,2,  34.8623,2,    287.4,2,     8.94,2,    16.33,2,     0.00,2,     1.05,2,    4.008,3,    2.139,2,   2158.4,2,   2304.1,2,   7.7118,    25.00,2,    33016,   3.3875
  06MT20030723,   482,  1,     17,2,20030731, 55.4010, -45.1730, 3456,    591.6,   3.4497,  34.8496,2,-999.0000,9,    291.8,2,     8.48,2,    16.16,2,     0.01,2,     1.05,2,    4.356,3,    2.343,2,   2156.2,2,   -999.0,5,   7.7108,    25.00,2,    33017,   3.4090
  06MT20030723,   482,  1,     18,2,20030731, 55.4010, -45.1730, 3456,    400.7,   3.5431,  34.8477,2,-999.0000,9,    287.8,2,     8.58,2,    16.58,2,     0.01,2,     1.06,2,    4.268,3,    2.284,2,   2158.4,2,   2310.2,2,   7.7059,    25.00,2,    33018,   3.5158
  06MT20030723,   482,  1,     19,2,20030731, 55.4010, -45.1730, 3456,    224.4,   3.5517,  34.8185,2,-999.0000,9,    299.2,2,     7.79,2,    16.00,2,     0.03,2,     1.04,2,    4.662,3,    2.572,2,   2155.2,2,   2300.8,2,   7.7079,    25.00,2,    33019,   3.5367
  06MT20030723,   482,  1,     20,2,20030731, 55.4010, -45.1730, 3456,    110.5,   3.7466,  34.7724,2,-999.0000,9,    299.9,2,     7.65,2,    15.59,2,     0.09,2,     1.02,2,    4.561,3,    2.521,2,   2152.1,2,   2298.6,2,   7.7138,    25.00,2,    33020,   3.7392
  06MT20030723,   482,  1,     21,2,20030731, 55.4010, -45.1730, 3456,     79.0,   4.1958,  34.7760,2,-999.0000,9,    305.7,2,     7.22,2,    13.86,2,     0.34,2,     1.00,2, -999.000,9, -999.000,9,   2151.8,2,   2297.0,2,   7.7236,    25.00,2,    33021,   4.1902
  06MT20030723,   482,  1,     22,2,20030731, 55.4010, -45.1730, 3456,     18.2,   9.5985,  34.6261,2,  34.6578,2,    287.2,2,     0.26,2,     6.39,2,     0.11,2,     0.53,2,    3.956,3,    2.243,2,   2095.7,2,   2291.6,2,   7.8431,    25.00,2,    33022,   9.5965
  06MT20030723,   483,  1,      1,2,20030801, 55.7750, -44.2990, 3243,   3250.5,   2.1737,  34.8952,2,-999.0000,9,   -999.0,5,  -999.00,5,  -999.00,5,  -999.00,5,  -999.00,5, -999.000,9, -999.000,9,   -999.0,5,   -999.0,5,-999.0000,  -999.00,9,    34001,   1.9156
  06MT20030723,   483,  1,      2,2,20030801, 55.7750, -44.2990, 3243,   3251.4,   2.1618,  34.8940,2,-999.0000,9,    285.0,2,  -999.00,5,  -999.00,5,  -999.00,5,  -999.00,5,    2.594,3,    1.333,2,   -999.0,5,   -999.0,5,-999.0000,  -999.00,9,    34002,   1.9039
  06MT20030723,   483,  1,      3,2,20030801, 55.7750, -44.2990, 3243,   3223.6,   2.2756,  34.8995,2,-999.0000,9,   -999.0,5,  -999.00,5,  -999.00,5,  -999.00,5,  -999.00,5, -999.000,9, -999.000,9,   -999.0,5,   -999.0,5,-999.0000,  -999.00,9,    34003,   2.0179
  06MT20030723,   483,  1,      4,2,20030801, 55.7750, -44.2990, 3243,   3147.3,   2.3870,  34.9051,2,-999.0000,9,   -999.0,5,  -999.00,5,  -999.00,5,  -999.00,5,  -999.00,5,    2.186,3,    1.108,2,   -999.0,5,   -999.0,5,-999.0000,  -999.00,9,    34004,   2.1346
  06MT20030723,   483,  1,      5,2,20030801, 55.7750, -44.2990, 3243,   2947.7,   2.5565,  34.9107,2,-999.0000,9,   -999.0,5,  -999.00,5,  -999.00,5,  -999.00,5,  -999.00,5,    2.251,3,    1.148,2,   -999.0,5,   -999.0,5,-999.0000,  -999.00,9,    34005,   2.3207
  06MT20030723,   483,  1,      6,2,20030801, 55.7750, -44.2990, 3243,   2735.0,   2.7638,  34.9195,2,-999.0000,9,   -999.0,5,  -999.00,5,  -999.00,5,  -999.00,5,  -999.00,5, -999.000,9, -999.000,9,   -999.0,5,   -999.0,5,-999.0000,  -999.00,9,    34006,   2.5451
  06MT20030723,   483,  1,      7,2,20030801, 55.7750, -44.2990, 3243,   2532.8,   2.8732,  34.9137,2,-999.0000,9,    279.8,2,  -999.00,5,  -999.00,5,  -999.00,5,  -999.00,5,    2.195,3,    1.120,2,   -999.0,5,   -999.0,5,-999.0000,  -999.00,9,    34007,   2.6725
  06MT20030723,   483,  1,      8,2,20030801, 55.7750, -44.2990, 3243,   2329.5,   2.9691,  34.9070,2,-999.0000,9,   -999.0,5,  -999.00,5,  -999.00,5,  -999.00,5,  -999.00,5,    2.352,3,    1.191,2,   -999.0,5,   -999.0,5,-999.0000,  -999.00,9,    34008,   2.7863
  06MT20030723,   483,  1,      9,2,20030801, 55.7750, -44.2990, 3243,   2131.7,   3.0424,  34.8980,2,-999.0000,9,   -999.0,5,  -999.00,5,  -999.00,5,  -999.00,5,  -999.00,5,    2.582,3,    1.308,2,   -999.0,5,   -999.0,5,-999.0000,  -999.00,9,    34009,   2.8772
  06MT20030723,   483,  1,     10,2,20030801, 55.7750, -44.2990, 3243,   1943.9,   3.0733,  34.8860,2,-999.0000,9,   -999.0,5,  -999.00,5,  -999.00,5,  -999.00,5,  -999.00,5,    3.042,3,    1.526,2,   -999.0,5,   -999.0,5,-999.0000,  -999.00,9,    34010,   2.9249
  06MT20030723,   483,  1,     11,2,20030801, 55.7750, -44.2990, 3243,   1725.5,   3.1032,  34.8734,2,-999.0000,9,   -999.0,5,  -999.00,5,  -999.00,5,  -999.00,5,  -999.00,5,    3.370,3,    1.719,2,   -999.0,5,   -999.0,5,-999.0000,  -999.00,9,    34011,   2.9740
  06MT20030723,   483,  1,     12,2,20030801, 55.7750, -44.2990, 3243,   1542.8,   3.2037,  34.8786,2,-999.0000,9,    286.2,2,  -999.00,5,  -999.00,5,  -999.00,5,  -999.00,5,    3.392,3,    1.712,2,   -999.0,5,   -999.0,5,-999.0000,  -999.00,9,    34012,   3.0891
  06MT20030723,   483,  1,     13,2,20030801, 55.7750, -44.2990, 3243,   1324.6,   3.3538,  34.8838,2,  34.8839,2,   -999.0,5,  -999.00,5,  -999.00,5,  -999.00,5,  -999.00,5,    3.383,3,    1.718,2,   -999.0,5,   -999.0,5,-999.0000,  -999.00,9,    34013,   3.2561
  06MT20030723,   483,  1,     14,2,20030801, 55.7750, -44.2990, 3243,   1210.7,   3.4252,  34.8826,2,-999.0000,9,   -999.0,5,  -999.00,5,  -999.00,5,  -999.00,5,  -999.00,5, -999.000,9, -999.000,9,   -999.0,5,   -999.0,5,-999.0000,  -999.00,9,    34014,   3.3362
  06MT20030723,   483,  1,     15,2,20030801, 55.7750, -44.2990, 3243,   1113.2,   3.4802,  34.8833,2,-999.0000,9,   -999.0,5,  -999.00,5,  -999.00,5,  -999.00,5,  -999.00,5,    3.493,3,    1.792,2,   -999.0,5,   -999.0,5,-999.0000,  -999.00,9,    34015,   3.3988
  06MT20030723,   483,  1,     16,2,20030801, 55.7750, -44.2990, 3243,    928.9,   3.4647,  34.8680,2,-999.0000,9,    285.9,2,  -999.00,5,  -999.00,5,  -999.00,5,  -999.00,5,    3.983,3,    2.093,2,   -999.0,5,   -999.0,5,-999.0000,  -999.00,9,    34016,   3.3982
  06MT20030723,   483,  1,     17,2,20030801, 55.7750, -44.2990, 3243,    729.7,   3.5448,  34.8650,2,-999.0000,9,   -999.0,5,  -999.00,5,  -999.00,5,  -999.00,5,  -999.00,5,    4.114,3,    2.178,2,   -999.0,5,   -999.0,5,-999.0000,  -999.00,9,    34017,   3.4932
  06MT20030723,   483,  1,     18,2,20030801, 55.7750, -44.2990, 3243,    489.6,   3.6139,  34.8521,2,-999.0000,9,   -999.0,5,  -999.00,5,  -999.00,5,  -999.00,5,  -999.00,5,    4.065,3,    2.177,2,   -999.0,5,   -999.0,5,-999.0000,  -999.00,9,    34018,   3.5799
  06MT20030723,   483,  1,     19,2,20030801, 55.7750, -44.2990, 3243,    301.5,   3.4531,  34.7898,2,  34.7919,2,   -999.0,5,  -999.00,5,  -999.00,5,  -999.00,5,  -999.00,5,    4.655,3,    2.523,2,   -999.0,5,   -999.0,5,-999.0000,  -999.00,9,    34019,   3.4331
  06MT20030723,   483,  1,     20,2,20030801, 55.7750, -44.2990, 3243,     98.2,   4.1795,  34.7670,2,-999.0000,9,   -999.0,5,  -999.00,5,  -999.00,5,  -999.00,5,  -999.00,5,    4.722,3,    2.608,2,   -999.0,5,   -999.0,5,-999.0000,  -999.00,9,    34020,   4.1726
  06MT20030723,   483,  1,     21,2,20030801, 55.7750, -44.2990, 3243,     76.5,   4.3727,  34.7706,2,-999.0000,9,   -999.0,5,  -999.00,5,  -999.00,5,  -999.00,5,  -999.00,5, -999.000,9, -999.000,9,   -999.0,5,   -999.0,5,-999.0000,  -999.00,9,    34021,   4.3672
  06MT20030723,   483,  1,     22,2,20030801, 55.7750, -44.2990, 3243,     24.7,   9.3884,  34.6317,2,-999.0000,9,    289.9,2,  -999.00,5,  -999.00,5,  -999.00,5,  -999.00,5,    4.099,3,    2.341,2,   -999.0,5,   -999.0,5,-999.0000,  -999.00,9,    34022,   9.3857
  06MT20030723,   484,  1,      1,2,20030801, 56.1480, -43.4450, 3415,   3440.0,   1.8109,  34.8847,2,-999.0000,9,    298.7,2,     8.23,2,    15.95,2,     0.00,2,     1.03,2, -999.000,9, -999.000,9,   2147.5,5,   -999.0,5,   7.7118,    25.00,2,    35001,   1.5420
  06MT20030723,   484,  1,      2,2,20030801, 56.1480, -43.4450, 3415,   3440.2,   1.8106,  34.8848,2,-999.0000,9,    294.0,2,    10.66,2,    14.38,2,     0.00,2,     0.93,2,    3.428,3,    1.785,2,   -999.0,5,   2297.4,3,-999.0000,  -999.00,9,    35002,   1.5417
  06MT20030723,   484,  1,      3,2,20030801, 56.1480, -43.4450, 3415,   3357.3,   2.0257,  34.8880,2,-999.0000,9,    289.8,2,    12.33,2,    14.96,2,     0.00,2,     0.97,2,    3.092,3,    1.592,2,   2149.4,5,   2308.6,2,-999.0000,  -999.00,9,    35003,   1.7601
  06MT20030723,   484,  1,      4,2,20030801, 56.1480, -43.4450, 3415,   3256.9,   2.2107,  34.8955,2,-999.0000,9,    287.0,2,    13.60,2,    15.23,2,     0.00,2,     0.98,2, -999.000,9, -999.000,9,   2150.1,5,   2310.1,2,   7.7433,    25.00,3,    35004,   1.9511
  06MT20030723,   484,  1,      5,2,20030801, 56.1480, -43.4450, 3415,   3045.7,   2.4530,  34.9080,2,-999.0000,9,    282.3,2,    14.87,2,    15.87,2,     0.00,2,     1.03,2,    2.096,3,    1.058,2,   2152.4,5,   2311.3,2,   7.7216,    25.00,2,    35005,   2.2095
  06MT20030723,   484,  1,      6,2,20030801, 56.1480, -43.4450, 3415,   2861.8,   2.6119,  34.9158,2,  34.9128,2,    280.4,2,    14.08,2,    16.01,2,     0.00,2,     1.03,2,    2.077,3,    1.047,2,   2150.0,5,   2311.7,2,-999.0000,  -999.00,9,    35006,   2.3837
  06MT20030723,   484,  1,      7,2,20030801, 56.1480, -43.4450, 3415,   2636.0,   2.7582,  34.9199,2,-999.0000,9,    281.6,2,    13.08,2,    16.05,2,     0.00,2,     1.03,2,    2.132,3,    1.083,2,   2150.4,5,   2311.2,2,   7.7246,    25.00,2,    35007,   2.5495
  06MT20030723,   484,  1,      8,2,20030801, 56.1480, -43.4450, 3415,   2445.4,   2.8724,  34.9157,2,-999.0000,9,    280.5,2,    12.34,2,    16.11,2,     0.00,2,     1.03,2,    2.205,3,    1.115,2,   2150.0,5,   2307.7,2,-999.0000,  -999.00,9,    35008,   2.6802
  06MT20030723,   484,  1,      9,2,20030801, 56.1480, -43.4450, 3415,   2231.1,   2.9891,  34.9121,2,-999.0000,9,    281.5,2,    11.73,2,    16.07,2,     0.00,2,     1.05,2,    2.308,3,    1.173,2,   2150.9,5,   2313.9,2,-999.0000,  -999.00,9,    35009,   2.8153
  06MT20030723,   484,  1,     10,2,20030801, 56.1480, -43.4450, 3415,   2049.5,   3.0384,  34.9005,2,-999.0000,9,    283.0,2,    11.12,2,    16.14,2,     0.00,2,     1.04,2,    2.639,3,    1.328,2,   2146.9,5,   2308.6,2,-999.0000,  -999.00,9,    35010,   2.8808
  06MT20030723,   484,  1,     11,2,20030801, 56.1480, -43.4450, 3415,   1820.9,   3.0805,  34.8898,2,-999.0000,9,    285.1,2,    10.43,2,    16.38,2,     0.00,2,     1.04,2,    2.987,3,    1.493,2,   2149.3,5,   2306.0,2,   7.7197,    25.00,2,    35011,   2.9431
  06MT20030723,   484,  1,     12,2,20030801, 56.1480, -43.4450, 3415,   1618.2,   3.1014,  34.8795,2,  34.8019,0,    298.4,4,     8.28,3,    16.35,2,     0.02,2,     1.03,2, -999.000,9, -999.000,9,   2144.9,5,   2300.3,2,-999.0000,  -999.00,9,    35012,   2.9815
  06MT20030723,   484,  1,     13,2,20030801, 56.1480, -43.4450, 3415,   1392.2,   3.2124,  34.8826,2,-999.0000,9,   -999.0,5,  -999.00,5,  -999.00,5,  -999.00,5,  -999.00,5, -999.000,9, -999.000,9,   -999.0,5,   -999.0,5,-999.0000,  -999.00,9,    35013,   3.1105
  06MT20030723,   484,  1,     14,2,20030801, 56.1480, -43.4450, 3415,   1183.0,   3.3545,  34.8890,2,-999.0000,9,    281.8,2,    10.18,2,    16.89,2,     0.00,2,     1.05,2,    3.173,3,    1.604,2,   2151.7,5,   2306.2,2,-999.0000,  -999.00,9,    35014,   3.2685
  06MT20030723,   484,  1,     15,2,20030801, 56.1480, -43.4450, 3415,   1024.1,   3.5014,  34.8958,2,-999.0000,9,    278.8,2,     9.93,2,    16.79,2,     0.00,2,     1.06,2,    3.329,3,    1.714,2,   2149.6,5,   2305.7,2,-999.0000,  -999.00,9,    35015,   3.4270
  06MT20030723,   484,  1,     16,2,20030801, 56.1480, -43.4450, 3415,    813.9,   3.5148,  34.8794,2,-999.0000,9,    284.2,2,     9.23,2,    16.44,2,     0.00,2,     1.07,2,    3.818,3,    2.038,2,   2149.9,5,   2305.3,2,-999.0000,  -999.00,9,    35016,   3.4569
  06MT20030723,   484,  1,     17,2,20030801, 56.1480, -43.4450, 3415,    630.6,   3.6291,  34.8785,2,  34.8737,0,    285.0,2,     8.92,2,    16.67,2,     0.01,2,     1.04,2,    4.039,3,    2.143,2,   2150.5,5,   2306.6,2,   7.7088,    25.00,2,    35017,   3.5846
  06MT20030723,   484,  1,     18,2,20030801, 56.1480, -43.4450, 3415,    399.8,   3.8096,  34.8761,2,-999.0000,9,    275.7,4,     9.05,2,    17.05,2,     0.01,2,     1.06,2,    3.831,3,    2.052,2,   2153.9,5,   2302.5,2,   7.7010,    25.00,2,    35018,   3.7815
  06MT20030723,   484,  1,     19,2,20030801, 56.1480, -43.4450, 3415,    175.3,   3.7056,  34.7894,2,-999.0000,9,    299.2,2,     7.73,2,    15.98,2,     0.03,2,     1.02,2,    4.717,3,    2.577,2,   2144.3,5,   2299.6,2,-999.0000,  -999.00,9,    35019,   3.6938
  06MT20030723,   484,  1,     20,2,20030801, 56.1480, -43.4450, 3415,    109.8,   4.2812,  34.7859,2,-999.0000,9,   -999.0,5,  -999.00,5,  -999.00,5,  -999.00,5,  -999.00,5, -999.000,9, -999.000,9,   -999.0,5,   -999.0,5,-999.0000,  -999.00,9,    35020,   4.2733
  06MT20030723,   484,  1,     21,2,20030801, 56.1480, -43.4450, 3415,     81.3,   5.0353,  34.7869,2,  34.7683,0,    301.7,2,     5.17,2,    12.52,2,     0.30,2,     0.94,2,    4.868,3,    2.693,2,   2137.9,5,   2302.0,2,   7.7384,    25.00,2,    35021,   5.0290
  06MT20030723,   484,  1,     22,2,20030801, 56.1480, -43.4450, 3415,     29.3,   8.9998,  34.6944,2,-999.0000,9,    289.9,2,     0.26,2,     7.37,2,     0.11,2,     0.52,2,    4.025,3,    2.312,2,   2097.1,5,   2298.0,2,   7.8313,    25.00,2,    35022,   8.9967