BOTTLE,20090513PRINUNIVRMK
EXPOCODE,STNNBR,CASTNO,BTLNBR,BTLNBR_FLAG_W,DATE,LATITUDE,LONGITUDE,DEPTH,CTDPRS,CTDTMP,CTDSAL,CTDSAL_FLAG_W,SALNTY,SALNTY_FLAG_W,OXYGEN,OXYGEN_FLAG_W,SILCAT,SILCAT_FLAG_W,NITRAT,NITRAT_FLAG_W,NITRIT,NITRIT_FLAG_W,PHSPHT,PHSPHT_FLAG_W,CFC-11,CFC-11_FLAG_W,CFC-12,CFC-12_FLAG_W,TCARBN,TCARBN_FLAG_W,ALKALI,ALKALI_FLAG_W,PH_SWS,PH_TEMP,PH_SWS_FLAG_W,ID,THETA
,,,,,,,,METERS,DBARS,ITS-90,PSS-78,,PSS-78,,UMOL/KG,,UMOL/KG,,UMOL/KG,,UMOL/KG,,UMOL/KG,,PMOL/KG,,PMOL/KG,,UMOL/KG,,UMOL/KG,,,DEGC,,,DEGC
  06MT20030723,   503,  1,      1,2,20030806, 49.4500, -31.9560, 3590,   3491.4,   2.5978,  34.9164,2,-999.0000,9,    275.1,2,    17.56,2,    16.64,2,     0.00,2,     1.01,2, -999.000,9, -999.000,9,   -999.0,5,   -999.0,5,-999.0000,  -999.00,9,    54001,   2.3038
  06MT20030723,   503,  1,      2,2,20030806, 49.4500, -31.9560, 3590,   3491.5,   2.5977,  34.9167,2,-999.0000,9,    275.4,2,    17.66,2,    16.55,2,     0.01,2,     1.01,2,    1.617,3,    0.796,2,   -999.0,5,   -999.0,5,-999.0000,  -999.00,9,    54002,   2.3037
  06MT20030723,   503,  1,      3,2,20030806, 49.4500, -31.9560, 3590,   3373.4,   2.6836,  34.9212,2,-999.0000,9,    276.5,2,    16.62,2,    16.56,2,     0.00,2,     0.99,2,    1.671,3,    0.819,2,   -999.0,5,   -999.0,5,-999.0000,  -999.00,9,    54003,   2.4003
  06MT20030723,   503,  1,      4,2,20030806, 49.4500, -31.9560, 3590,   3247.0,   2.7571,  34.9245,2,  34.9238,2,    275.1,2,    15.96,2,    16.65,2,     0.00,2,     1.01,2,    1.664,3,    0.812,2,   -999.0,5,   -999.0,5,-999.0000,  -999.00,9,    54004,   2.4856
  06MT20030723,   503,  1,      5,2,20030806, 49.4500, -31.9560, 3590,   3051.6,   2.8869,  34.9246,2,-999.0000,9,    276.5,2,    14.84,2,    16.60,2,     0.00,2,     1.00,2,    1.712,3,    0.844,2,   -999.0,5,   -999.0,5,-999.0000,  -999.00,9,    54005,   2.6332
  06MT20030723,   503,  1,      6,2,20030806, 49.4500, -31.9560, 3590,   2740.4,   3.0352,  34.9147,2,-999.0000,9,    277.7,2,    13.26,2,    16.54,2,     0.00,2,     1.00,2,    1.935,3,    0.947,2,   -999.0,5,   -999.0,5,-999.0000,  -999.00,9,    54006,   2.8106
  06MT20030723,   503,  1,      7,2,20030806, 49.4500, -31.9560, 3590,   2430.8,   3.1407,  34.8994,2,-999.0000,9,    281.6,2,    11.55,2,    16.34,2,     0.00,2,     0.98,2,    2.553,3,    1.254,2,   -999.0,5,   -999.0,5,-999.0000,  -999.00,9,    54007,   2.9451
  06MT20030723,   503,  1,      8,2,20030806, 49.4500, -31.9560, 3590,   2233.8,   3.1808,  34.8882,2,-999.0000,9,    284.7,2,    10.87,2,    16.56,2,     0.00,2,     1.01,2,    2.959,3,    1.455,2,   -999.0,5,   -999.0,5,-999.0000,  -999.00,9,    54008,   3.0037
  06MT20030723,   503,  1,      9,2,20030806, 49.4500, -31.9560, 3590,   2024.4,   3.2537,  34.8856,2,-999.0000,9,    284.3,2,    10.76,2,    16.72,2,     0.00,2,     1.01,2,    3.078,3,    1.523,2,   -999.0,5,   -999.0,5,-999.0000,  -999.00,9,    54009,   3.0952
  06MT20030723,   503,  1,     10,2,20030806, 49.4500, -31.9560, 3590,   1817.7,   3.3982,  34.8947,2,  34.9521,0,    256.6,3,    10.34,2,    17.39,2,     0.00,2,     1.04,2, -999.000,9, -999.000,9,   -999.0,5,   -999.0,5,-999.0000,  -999.00,9,    54010,   3.2567
  06MT20030723,   503,  1,     11,2,20030806, 49.4500, -31.9560, 3590,   1617.8,   3.5427,  34.9022,2,-999.0000,9,    277.4,2,    10.73,2,    17.21,2,     0.00,2,     1.03,2,    2.961,3,    1.464,2,   -999.0,5,   -999.0,5,-999.0000,  -999.00,9,    54011,   3.4174
  06MT20030723,   503,  1,     12,2,20030806, 49.4500, -31.9560, 3590,   1413.2,   3.6822,  34.9065,2,-999.0000,9,   -999.0,5,  -999.00,5,  -999.00,5,  -999.00,5,  -999.00,5, -999.000,9, -999.000,9,   -999.0,5,   -999.0,5,-999.0000,  -999.00,9,    54012,   3.5734
  06MT20030723,   503,  1,     13,2,20030806, 49.4500, -31.9560, 3590,   1196.6,   3.8222,  34.9057,2,-999.0000,9,    273.6,2,    10.18,2,    17.17,2,     0.00,2,     1.03,2,    3.358,3,    1.704,2,   -999.0,5,   -999.0,5,-999.0000,  -999.00,9,    54013,   3.7307
  06MT20030723,   503,  1,     14,2,20030806, 49.4500, -31.9560, 3590,   1131.8,   3.9413,  34.9163,2,-999.0000,9,    271.1,2,     9.98,2,    17.22,2,     0.00,2,     1.03,2,    3.358,3,    1.718,2,   -999.0,5,   -999.0,5,-999.0000,  -999.00,9,    54014,   3.8543
  06MT20030723,   503,  1,     15,2,20030806, 49.4500, -31.9560, 3590,   1009.8,   4.1392,  34.9261,2,-999.0000,9,    267.7,2,    10.06,2,    17.37,2,     0.00,2,     1.05,2,    3.285,3,    1.701,2,   -999.0,5,   -999.0,5,-999.0000,  -999.00,9,    54015,   4.0609
  06MT20030723,   503,  1,     16,2,20030806, 49.4500, -31.9560, 3590,    847.5,   4.5700,  34.9563,2,  34.9557,2,    255.8,2,    10.33,2,    17.53,2,     0.00,2,     1.06,2,    3.098,3,    1.605,2,   -999.0,5,   -999.0,5,-999.0000,  -999.00,9,    54016,   4.5025
  06MT20030723,   503,  1,     17,2,20030806, 49.4500, -31.9560, 3590,    755.0,   5.0556,  34.9981,2,-999.0000,9,    243.7,2,    10.61,2,    18.07,2,     0.01,2,     1.08,2,    2.838,3,    1.491,2,   -999.0,5,   -999.0,5,-999.0000,  -999.00,9,    54017,   4.9931
  06MT20030723,   503,  1,     18,2,20030806, 49.4500, -31.9560, 3590,    653.8,   5.3770,  34.9296,2,-999.0000,9,    234.5,2,    10.55,2,    18.46,2,     0.01,2,     1.12,2,    2.832,3,    1.504,2,   -999.0,5,   -999.0,5,-999.0000,  -999.00,9,    54018,   5.3218
  06MT20030723,   503,  1,     19,2,20030806, 49.4500, -31.9560, 3590,    423.5,   8.1077,  35.0691,2,-999.0000,9,    229.5,2,     8.28,2,    16.74,2,     0.01,2,     0.99,2,    2.952,3,    1.643,2,   -999.0,5,   -999.0,5,-999.0000,  -999.00,9,    54019,   8.0638
  06MT20030723,   503,  1,     20,2,20030806, 49.4500, -31.9560, 3590,    257.9,  10.0933,  35.2851,2,-999.0000,9,    224.7,2,     5.88,2,    13.78,2,     0.01,2,     0.76,2,    2.842,3,    1.619,2,   -999.0,5,   -999.0,5,-999.0000,  -999.00,9,    54020,  10.0630
  06MT20030723,   503,  1,     21,2,20030806, 49.4500, -31.9560, 3590,    101.3,  11.9830,  35.5075,2,  35.5128,2,    222.4,2,     3.86,2,    11.00,2,     0.02,2,     0.55,2,    2.791,3,    1.606,2,   -999.0,5,   -999.0,5,-999.0000,  -999.00,9,    54021,  11.9698
  06MT20030723,   503,  1,     22,2,20030806, 49.4500, -31.9560, 3590,     18.5,  15.6410,  35.5462,2,-999.0000,9,    255.0,2,     0.24,2,     0.00,2,     0.02,2,     0.05,2,    2.810,3,    1.663,2,   -999.0,5,   -999.0,5,-999.0000,  -999.00,9,    54022,  15.6381
  06MT20030723,   504,  1,      1,2,20030806, 49.4010, -30.6840, 3598,   3758.7,   2.5783,  34.9146,2,-999.0000,9,   -999.0,5,  -999.00,5,  -999.00,5,  -999.00,5,  -999.00,5, -999.000,9, -999.000,9,   -999.0,5,   -999.0,5,-999.0000,  -999.00,9,    55001,   2.2552
  06MT20030723,   504,  1,      2,2,20030806, 49.4010, -30.6840, 3598,   3759.0,   2.5787,  34.9143,2,-999.0000,9,    277.8,2,    17.72,2,    16.45,2,     0.00,2,     1.01,2,    1.731,3,    0.851,2,   -999.0,5,   2318.7,2,   7.7266,    25.00,2,    55002,   2.2556
  06MT20030723,   504,  1,      3,2,20030806, 49.4010, -30.6840, 3598,   3453.1,   2.7035,  34.9221,2,-999.0000,9,    275.0,2,    16.54,2,    16.19,2,     0.00,2,     1.01,2, -999.000,9, -999.000,9,   2162.6,2,   2320.3,2,   7.7295,    25.00,2,    55003,   2.4111
  06MT20030723,   504,  1,      4,2,20030806, 49.4010, -30.6840, 3598,   3198.7,   2.8415,  34.9246,2,-999.0000,9,    274.6,2,    15.18,2,    16.44,2,     0.00,2,     1.02,2,    1.700,3,    0.840,2,   2160.7,2,   2318.2,2,   7.7295,    25.00,2,    55004,   2.5732
  06MT20030723,   504,  1,      5,2,20030806, 49.4010, -30.6840, 3598,   2940.9,   2.9761,  34.9201,2,-999.0000,9,    276.0,2,    13.60,2,    16.48,2,     0.00,2,     1.00,2,    1.856,3,    0.924,2,   -999.0,5,   2323.6,2,   7.7246,    25.00,2,    55005,   2.7321
  06MT20030723,   504,  1,      6,2,20030806, 49.4010, -30.6840, 3598,   2636.5,   3.0807,  34.9064,2,-999.0000,9,    278.5,2,    12.54,2,    16.53,2,     0.00,2,     1.01,2,    2.200,3,    1.088,2,   2157.8,2,   2318.8,2,   7.7266,    25.00,2,    55006,   2.8658
  06MT20030723,   504,  1,      7,2,20030806, 49.4010, -30.6840, 3598,   2328.1,   3.1416,  34.8898,2,-999.0000,9,   -999.0,5,  -999.00,5,  -999.00,5,  -999.00,5,  -999.00,5, -999.000,9, -999.000,9,   -999.0,5,   -999.0,5,-999.0000,  -999.00,9,    55007,   2.9561
  06MT20030723,   504,  1,      8,2,20030806, 49.4010, -30.6840, 3598,   2125.7,   3.1761,  34.8834,2,  34.8856,2,    283.7,2,    10.83,2,    16.72,2,     0.00,2,     1.02,2,    2.960,3,    1.473,2,   2155.2,2,   2308.5,2,   7.7216,    25.00,2,    55008,   3.0093
  06MT20030723,   504,  1,      9,2,20030806, 49.4010, -30.6840, 3598,   1921.4,   3.2780,  34.8870,2,-999.0000,9,    282.9,2,    10.71,2,    16.96,2,     0.00,2,     1.04,2,    2.969,3,    1.487,2,   2156.2,2,   2312.7,2,   7.7226,    25.00,2,    55009,   3.1287
  06MT20030723,   504,  1,     10,2,20030806, 49.4010, -30.6840, 3598,   1723.1,   3.4291,  34.8945,2,-999.0000,9,    280.1,2,    10.70,2,    17.04,2,     0.00,2,     1.03,2,    2.915,3,    1.462,2,   2157.0,2,   2311.8,2,   7.7384,    25.00,3,    55010,   3.2958
  06MT20030723,   504,  1,     11,2,20030806, 49.4010, -30.6840, 3598,   1533.4,   3.5821,  34.9028,2,-999.0000,9,    276.1,2,    10.47,2,    17.10,2,     0.00,2,     1.03,2, -999.000,9, -999.000,9,   2157.6,2,   2311.3,2,   7.7187,    25.00,2,    55011,   3.4638
  06MT20030723,   504,  1,     12,2,20030806, 49.4010, -30.6840, 3598,   1323.0,   3.7130,  34.9029,2,-999.0000,9,    242.9,4,    10.57,4,    17.90,4,     0.00,4,     1.09,4, -999.000,9, -999.000,9,   2169.2,4,   2315.1,4,   7.7029,    25.00,3,    55012,   3.6117
  06MT20030723,   504,  1,     13,2,20030806, 49.4010, -30.6840, 3598,   1220.2,   3.7741,  34.9021,2,  34.9029,2,    276.7,2,     9.88,2,    16.78,2,     0.00,2,     1.02,2,    3.448,3,    1.799,2,   2158.7,2,   2309.3,2,   7.7167,    25.00,2,    55013,   3.6811
  06MT20030723,   504,  1,     14,2,20030806, 49.4010, -30.6840, 3598,   1060.4,   3.9470,  34.9040,2,-999.0000,9,    273.9,2,     9.67,2,    16.87,2,     0.00,2,     1.04,2,    3.608,3,    1.906,2,   -999.0,5,   2312.9,2,   7.7118,    25.00,2,    55014,   3.8660
  06MT20030723,   504,  1,     15,2,20030806, 49.4010, -30.6840, 3598,    912.9,   4.6281,  34.9726,2,-999.0000,9,    254.9,2,    10.32,2,    17.53,2,     0.00,2,     1.09,2,    2.886,3,    1.513,2,   2165.2,2,   2314.8,2,   7.7098,    25.00,2,    55015,   4.5545
  06MT20030723,   504,  1,     16,2,20030806, 49.4010, -30.6840, 3598,    769.6,   5.0552,  34.9804,2,-999.0000,9,    243.3,2,    10.36,2,    17.98,2,     0.00,2,     1.10,2,    2.840,3,    1.506,2,   2169.0,2,   2319.7,2,   7.7039,    25.00,2,    55016,   4.9914
  06MT20030723,   504,  1,     17,2,20030806, 49.4010, -30.6840, 3598,    613.5,   6.5481,  35.0955,2,-999.0000,9,   -999.0,5,  -999.00,5,  -999.00,5,  -999.00,5,  -999.00,5, -999.000,9, -999.000,9,   -999.0,5,   -999.0,5,-999.0000,  -999.00,9,    55017,   6.4909
  06MT20030723,   504,  1,     18,2,20030806, 49.4010, -30.6840, 3598,    442.1,   7.9709,  35.0991,2,-999.0000,9,    198.4,2,     9.80,2,    18.88,2,     0.01,2,     1.15,2,    2.205,3,    1.211,2,   2172.5,2,   2323.8,2,-999.0000,  -999.00,9,    55018,   7.9255
  06MT20030723,   504,  1,     19,2,20030806, 49.4010, -30.6840, 3598,    195.3,  10.6866,  35.4078,2,  35.3846,0,    240.9,2,     4.65,2,    12.09,2,     0.01,2,     0.67,2,    2.997,3,    1.771,2,   2137.8,2,   2332.1,2,   7.8153,    25.00,2,    55019,  10.6628
  06MT20030723,   504,  1,     20,2,20030806, 49.4010, -30.6840, 3598,    106.4,  11.7281,  35.5520,2,-999.0000,9,    240.4,2,     2.77,2,    10.05,2,     0.02,2,     0.53,2,    3.018,3,    1.786,2,   2130.2,2,   2341.2,2,   7.8460,    25.00,2,    55020,  11.7144
  06MT20030723,   504,  1,     21,2,20030806, 49.4010, -30.6840, 3598,     72.0,  12.7265,  35.5919,2,-999.0000,9,   -999.0,5,  -999.00,5,  -999.00,5,  -999.00,5,  -999.00,5, -999.000,9, -999.000,9,   -999.0,5,   -999.0,5,-999.0000,  -999.00,9,    55021,  12.7167
  06MT20030723,   504,  1,     22,2,20030806, 49.4010, -30.6840, 3598,     24.4,  15.2183,  35.5747,2,-999.0000,9,   -999.0,5,  -999.00,5,  -999.00,5,  -999.00,5,  -999.00,5, -999.000,9, -999.000,9,   -999.0,5,   -999.0,5,-999.0000,  -999.00,9,    55022,  15.2146
  06MT20030723,   505,  1,      1,2,20030806, 49.3660, -29.7500, 3270,   3308.1,   2.7635,  34.9224,2,  34.9222,2,   -999.0,9,  -999.00,9,  -999.00,9,  -999.00,9,  -999.00,9, -999.000,9, -999.000,9,   -999.0,9,   -999.0,9,-999.0000,  -999.00,9,     -999,   2.4853
  06MT20030723,   505,  1,      2,2,20030806, 49.3660, -29.7500, 3270,   3308.6,   2.7642,  34.9222,2,-999.0000,9,    274.5,2,    15.64,2,    16.93,2,     0.00,2,     1.02,2,    1.775,3,    0.888,2,   -999.0,5,   -999.0,5,-999.0000,  -999.00,9,    57002,   2.4860
  06MT20030723,   505,  1,      3,2,20030806, 49.3660, -29.7500, 3270,   3248.9,   2.8047,  34.9226,2,-999.0000,9,    274.5,2,    15.52,2,    16.94,2,     0.01,2,     1.01,2,    1.785,3,    0.899,2,   2163.8,2,   2312.0,2,-999.0000,  -999.00,9,    57003,   2.5319
  06MT20030723,   505,  1,      4,2,20030806, 49.3660, -29.7500, 3270,   3039.2,   2.8963,  34.9222,2,-999.0000,9,    274.6,2,    15.12,2,    17.01,2,     0.00,2,     1.02,2,    1.816,3,    0.911,2,   2162.6,2,   2315.6,2,-999.0000,  -999.00,9,    57004,   2.6437
  06MT20030723,   505,  1,      5,2,20030806, 49.3660, -29.7500, 3270,   2739.5,   3.0529,  34.9169,2,  34.9171,2,    276.5,2,    13.88,2,    16.96,2,     0.00,2,     1.05,2,    1.977,3,    0.979,2,   2160.8,2,   2310.9,2,-999.0000,  -999.00,9,    57005,   2.8280
  06MT20030723,   505,  1,      6,2,20030806, 49.3660, -29.7500, 3270,   2427.4,   3.1731,  34.9083,2,-999.0000,9,    279.0,2,    12.26,2,    17.05,2,     0.00,2,     1.03,2, -999.000,9, -999.000,9,   2158.9,2,   2309.4,2,-999.0000,  -999.00,9,    57006,   2.9773
  06MT20030723,   505,  1,      7,2,20030806, 49.3660, -29.7500, 3270,   2232.9,   3.2613,  34.9022,2,-999.0000,9,    278.8,2,    11.15,2,    17.19,2,     0.00,2,     1.02,2,    2.494,3,    1.234,2,   2158.2,2,   2306.8,2,-999.0000,  -999.00,9,    57007,   3.0829
  06MT20030723,   505,  1,      8,2,20030806, 49.3660, -29.7500, 3270,   2023.0,   3.3352,  34.8990,2,-999.0000,9,    276.8,2,    10.72,2,    17.04,2,     0.00,2,     1.02,2,    2.663,3,    1.321,2,   2158.6,2,   2310.6,2,-999.0000,  -999.00,9,    57008,   3.1756
  06MT20030723,   505,  1,      9,2,20030806, 49.3660, -29.7500, 3270,   1820.8,   3.4370,  34.9007,2,-999.0000,9,    274.6,2,    10.33,2,    17.30,2,     0.00,2,     1.02,2,    2.771,3,    1.374,2,   2160.5,2,   2304.9,2,-999.0000,  -999.00,9,    57009,   3.2947
  06MT20030723,   505,  1,     10,2,20030806, 49.3660, -29.7500, 3270,   1611.1,   3.5955,  34.9052,2,-999.0000,9,    251.1,4,     5.23,4,    11.95,4,     0.01,4,     0.68,4, -999.000,9, -999.000,9,   2135.4,4,   2328.2,4,-999.0000,  -999.00,9,    57010,   3.4701
  06MT20030723,   505,  1,     11,2,20030806, 49.3660, -29.7500, 3270,   1515.4,   3.7066,  34.9118,2,  34.9102,2,    268.0,2,     9.95,2,    17.04,2,     0.00,2,     1.04,2,    2.909,3,    1.468,2,   2162.7,2,   2304.0,2,-999.0000,  -999.00,9,    57011,   3.5885
  06MT20030723,   505,  1,     12,2,20030806, 49.3660, -29.7500, 3270,   1402.9,   3.8304,  34.9152,2,-999.0000,9,    260.4,2,    10.12,2,    17.56,2,     0.00,2,     1.05,2, -999.000,9, -999.000,9,   2164.8,2,   2311.1,2,-999.0000,  -999.00,9,    57012,   3.7209
  06MT20030723,   505,  1,     13,2,20030806, 49.3660, -29.7500, 3270,   1308.3,   3.8963,  34.9148,2,-999.0000,9,    246.9,2,    10.39,2,    18.09,2,     0.00,2,     1.06,2,    3.213,3,    1.634,2,   2169.5,2,   2313.3,2,-999.0000,  -999.00,9,    57013,   3.7944
  06MT20030723,   505,  1,     14,2,20030806, 49.3660, -29.7500, 3270,   1225.9,   4.2148,  34.9455,2,-999.0000,9,    244.4,2,    10.48,2,    18.25,2,     0.00,2,     1.10,2,    3.093,3,    1.580,2,   2169.9,2,   2318.9,2,-999.0000,  -999.00,9,    57014,   4.1171
  06MT20030723,   505,  1,     15,2,20030806, 49.3660, -29.7500, 3270,   1112.4,   4.6487,  34.9927,2,-999.0000,9,    238.4,2,    10.75,2,    19.04,2,     0.00,2,     1.14,2,    2.614,3,    1.343,2,   2174.0,2,   2321.6,2,-999.0000,  -999.00,9,    57015,   4.5572
  06MT20030723,   505,  1,     16,2,20030806, 49.3660, -29.7500, 3270,   1031.8,   4.7489,  34.9833,2,-999.0000,9,    217.6,2,    10.61,2,    19.25,2,     0.00,2,     1.16,2,    2.936,3,    1.526,2,   2174.1,2,   2319.9,2,-999.0000,  -999.00,9,    57016,   4.6639
  06MT20030723,   505,  1,     17,2,20030806, 49.3660, -29.7500, 3270,    924.3,   5.0675,  34.9943,2,-999.0000,9,    217.3,2,     8.10,2,    17.09,2,     0.00,2,     0.98,2, -999.000,9, -999.000,9,   2161.0,2,   2321.6,2,-999.0000,  -999.00,9,    57017,   4.9898
  06MT20030723,   505,  1,     18,2,20030806, 49.3660, -29.7500, 3270,    852.5,   5.4321,  34.9965,2,-999.0000,9,    252.9,2,     4.21,2,    11.37,2,     0.01,2,     0.60,2,    2.704,3,    1.406,2,   2133.8,2,   2331.1,2,-999.0000,  -999.00,9,    57018,   5.3585
  06MT20030723,   505,  1,     19,2,20030806, 49.3660, -29.7500, 3270,    694.6,   6.7392,  35.0369,2,-999.0000,9,    252.7,2,     2.80,2,    10.26,2,     0.01,2,     0.51,2,    2.358,3,    1.244,2,   2129.3,2,   2341.7,2,-999.0000,  -999.00,9,    57019,   6.6731
  06MT20030723,   505,  1,     20,2,20030806, 49.3660, -29.7500, 3270,    414.2,   9.9592,  35.2953,2,  35.2747,0,    245.9,2,     1.63,2,     9.39,2,     0.03,2,     0.45,2,    2.763,3,    1.569,2,   2126.5,2,   2336.4,2,-999.0000,  -999.00,9,    57020,   9.9105
  06MT20030723,   505,  1,     21,2,20030806, 49.3660, -29.7500, 3270,     82.2,  12.8994,  35.6897,2,-999.0000,9,    246.9,2,     0.34,2,     4.54,2,     0.41,2,     0.25,2,    2.724,3,    1.586,2,   2106.8,2,   2343.4,2,-999.0000,  -999.00,9,    57021,  12.8881
  06MT20030723,   505,  1,     22,2,20030806, 49.3660, -29.7500, 3270,      7.8,  15.6910,  35.6480,2,-999.0000,9,    283.6,2,     0.05,2,     0.00,2,     0.03,2,     0.07,2,    2.845,3,    1.682,2,   2037.6,2,   -999.0,5,-999.0000,  -999.00,9,    57022,  15.6898