BOTTLE,20090513PRINUNIVRMK
EXPOCODE,STNNBR,CASTNO,BTLNBR,BTLNBR_FLAG_W,DATE,LATITUDE,LONGITUDE,DEPTH,CTDPRS,CTDTMP,CTDSAL,CTDSAL_FLAG_W,SALNTY,SALNTY_FLAG_W,OXYGEN,OXYGEN_FLAG_W,SILCAT,SILCAT_FLAG_W,NITRAT,NITRAT_FLAG_W,NITRIT,NITRIT_FLAG_W,PHSPHT,PHSPHT_FLAG_W,CFC-11,CFC-11_FLAG_W,CFC-12,CFC-12_FLAG_W,TCARBN,TCARBN_FLAG_W,ALKALI,ALKALI_FLAG_W,PH_SWS,PH_TEMP,PH_SWS_FLAG_W,ID,THETA
,,,,,,,,METERS,DBARS,ITS-90,PSS-78,,PSS-78,,UMOL/KG,,UMOL/KG,,UMOL/KG,,UMOL/KG,,UMOL/KG,,PMOL/KG,,PMOL/KG,,UMOL/KG,,UMOL/KG,,,DEGC,,,DEGC
  06MT20030723,   500,  1,      1,2,20030805, 49.6140, -35.7830, 4250,   4030.3,   2.2607,  34.8938,2,  34.8937,2,    279.6,2,    18.21,2,    16.23,2,     0.01,2,     1.01,2, -999.000,9, -999.000,9,   2161.4,2,   2319.7,2,   7.7266,    25.00,2,    51001,   1.9156
  06MT20030723,   500,  1,      2,2,20030805, 49.6140, -35.7830, 4250,   4030.7,   2.2606,  34.8937,2,-999.0000,9,    279.9,2,    18.19,2,    15.95,2,     0.01,2,     1.04,2,    2.023,3,    0.998,2,   -999.0,5,   -999.0,5,-999.0000,  -999.00,9,    51002,   1.9155
  06MT20030723,   500,  1,      3,2,20030805, 49.6140, -35.7830, 4250,   3966.6,   2.2645,  34.8943,2,-999.0000,9,    279.9,2,    18.11,2,    16.09,2,     0.00,2,     1.03,2,    2.033,3,    1.003,2,   2162.0,2,   2323.7,2,   7.7246,    25.00,2,    51003,   1.9266
  06MT20030723,   500,  1,      4,2,20030805, 49.6140, -35.7830, 4250,   3660.9,   2.3153,  34.8978,2,-999.0000,9,    278.8,2,    17.92,2,    16.17,2,     0.00,2,     1.03,2,    1.837,3,    0.903,2,   2160.6,2,   2322.3,2,   7.7275,    25.00,2,    51004,   2.0100
  06MT20030723,   500,  1,      5,2,20030805, 49.6140, -35.7830, 4250,   3353.9,   2.5712,  34.9089,2,-999.0000,9,    277.2,2,    16.36,2,    16.52,2,     0.00,2,     1.04,2,    1.700,3,    0.843,2,   2157.2,2,   2321.5,2,   7.7285,    25.00,2,    51005,   2.2928
  06MT20030723,   500,  1,      6,2,20030805, 49.6140, -35.7830, 4250,   3074.3,   2.8085,  34.9130,2,-999.0000,9,    278.1,2,    13.88,2,    16.10,2,     0.00,2,     1.03,2,    1.915,3,    0.945,2,   2155.4,2,   2325.4,2,   7.7266,    25.00,2,    51006,   2.5542
  06MT20030723,   500,  1,      7,2,20030805, 49.6140, -35.7830, 4250,   2869.0,   2.9399,  34.9127,2,-999.0000,9,    278.0,2,    12.97,2,    16.24,2,     0.00,2,     1.03,2,    2.039,3,    1.001,2,   2155.4,2,   2313.0,2,   7.7216,    25.00,2,    51007,   2.7041
  06MT20030723,   500,  1,      8,2,20030805, 49.6140, -35.7830, 4250,   2502.0,   3.1090,  34.9001,2,  34.9016,2,    280.5,2,    11.80,2,    16.31,2,     0.00,2,     1.03,2,    2.448,3,    1.198,2,   2159.1,2,   2310.2,2,   7.7246,    25.00,2,    51008,   2.9070
  06MT20030723,   500,  1,      9,2,20030805, 49.6140, -35.7830, 4250,   2118.2,   3.2027,  34.8892,2,-999.0000,9,    282.4,2,    10.96,2,    16.61,2,     0.00,2,     1.03,2,    2.885,3,    1.416,2,   2153.4,2,   2312.4,2,   7.7236,    25.00,2,    51009,   3.0362
  06MT20030723,   500,  1,     10,2,20030805, 49.6140, -35.7830, 4250,   1817.0,   3.3600,  34.8932,2,  34.8929,2,    280.6,2,    10.68,2,    16.66,2,     0.00,2,     1.05,2,    2.936,3,    1.448,2,   2158.6,2,   2311.6,2,   7.7187,    25.00,2,    51010,   3.2191
  06MT20030723,   500,  1,     11,2,20030805, 49.6140, -35.7830, 4250,   1599.6,   3.5107,  34.9013,2,-999.0000,9,    278.0,2,    10.47,2,    17.06,2,     0.00,2,     1.05,2,    2.985,3,    1.491,2,   2155.3,2,   2317.1,2,   7.7147,    25.00,2,    51011,   3.3874
  06MT20030723,   500,  1,     12,2,20030805, 49.6140, -35.7830, 4250,   1428.3,   3.6371,  34.9067,2,-999.0000,9,    277.4,2,    10.09,2,    16.94,2,     0.00,2,     1.06,2,    3.240,3,    1.643,2,   2161.4,2,   2306.8,2,   7.7147,    25.00,2,    51012,   3.5274
  06MT20030723,   500,  1,     13,2,20030805, 49.6140, -35.7830, 4250,   1238.1,   3.7593,  34.9055,2,-999.0000,9,    277.2,2,     9.70,2,    16.82,2,     0.00,2,     1.04,2,    3.526,3,    1.811,2,   2157.2,2,   2313.0,2,   7.7266,    25.00,2,    51013,   3.6649
  06MT20030723,   500,  1,     14,2,20030805, 49.6140, -35.7830, 4250,   1031.6,   3.8757,  34.9021,2,-999.0000,9,    278.9,2,     9.37,2,    16.45,2,     0.00,2,     1.02,2,    3.809,3,    1.963,2,   2161.0,2,   2314.4,2,   7.7108,    25.00,2,    51014,   3.7977
  06MT20030723,   500,  1,     15,2,20030805, 49.6140, -35.7830, 4250,    874.4,   4.1158,  34.9112,2,  34.9124,2,    269.6,2,     9.70,2,    16.94,2,     0.00,2,     1.07,2,    3.539,3,    1.834,2,   2159.4,2,   2314.3,2,   7.7069,    25.00,2,    51015,   4.0491
  06MT20030723,   500,  1,     16,2,20030805, 49.6140, -35.7830, 4250,    759.3,   4.4570,  34.9236,2,-999.0000,9,    259.7,2,     9.73,2,    17.39,2,     0.01,2,     1.09,2,    3.446,3,    1.808,2,   2167.1,2,   2311.8,2,   7.7019,    25.00,2,    51016,   4.3977
  06MT20030723,   500,  1,     17,2,20030805, 49.6140, -35.7830, 4250,    599.0,   5.1351,  34.8976,2,-999.0000,9,    241.9,2,    10.02,2,    17.90,2,     0.01,2,     1.12,2,    3.150,3,    1.673,2,   2169.6,2,   2312.8,2,   7.6970,    25.00,2,    51017,   5.0859
  06MT20030723,   500,  1,     18,2,20030805, 49.6140, -35.7830, 4250,    388.3,   7.4771,  34.9956,2,-999.0000,9,    217.6,2,     9.53,2,    18.20,2,     0.01,2,     1.11,2,    2.648,3,    1.424,2,   2163.4,2,   2314.6,2,   7.7127,    25.00,2,    51018,   7.4388
  06MT20030723,   500,  1,     19,2,20030805, 49.6140, -35.7830, 4250,    193.9,  10.9418,  35.3892,2,-999.0000,9,    212.6,2,     6.23,2,    14.42,2,     0.01,2,     0.83,2,    2.688,3,    1.501,2,   2145.9,2,   2334.8,2,   7.7847,    25.00,2,    51019,  10.9179
  06MT20030723,   500,  1,     20,2,20030805, 49.6140, -35.7830, 4250,     94.0,  11.6622,  35.3343,2,-999.0000,9,    223.3,2,     4.40,2,    11.58,2,     0.02,2,     0.66,2,    2.992,3,    1.663,2,   2135.2,2,   2332.2,2,   7.8193,    25.00,2,    51020,  11.6502
  06MT20030723,   500,  1,     21,2,20030805, 49.6140, -35.7830, 4250,     65.3,  12.5879,  35.5434,2,-999.0000,9,    224.1,2,     3.26,2,     9.73,2,     0.02,2,     0.54,2,    2.891,3,    1.629,2,   2124.2,2,   2337.2,2,   7.8509,    25.00,2,    51021,  12.5791
  06MT20030723,   500,  1,     22,2,20030805, 49.6140, -35.7830, 4250,     12.9,  14.4229,  35.0480,2,-999.0000,9,    261.3,2,     0.52,2,     0.01,2,     0.03,2,     0.04,2,    3.062,3,    1.779,2,   2142.0,2,   2321.0,2,   7.9749,    25.00,2,    51022,  14.4210
  06MT20030723,   501,  1,      1,2,20030805, 49.5680, -34.5070, 4400,   4488.0,   2.2768,  34.8919,2,-999.0000,9,    281.5,2,    17.82,2,    16.28,2,     0.01,2,     1.01,2, -999.000,9, -999.000,9,   -999.0,5,   -999.0,5,-999.0000,  -999.00,9,    52001,   1.8778
  06MT20030723,   501,  1,      2,2,20030805, 49.5680, -34.5070, 4400,   4487.9,   2.2768,  34.8921,2,-999.0000,9,    281.8,2,    17.61,2,    16.04,2,     0.01,2,     1.00,2,    2.140,3,    1.062,2,   -999.0,5,   -999.0,5,-999.0000,  -999.00,9,    52002,   1.8778
  06MT20030723,   501,  1,      3,2,20030805, 49.5680, -34.5070, 4400,   4171.9,   2.2873,  34.8946,2,-999.0000,9,     83.8,4,    18.20,2,    16.25,2,     0.00,2,     1.00,2,    1.936,3,    0.962,2,   -999.0,5,   -999.0,5,-999.0000,  -999.00,9,    52003,   1.9252
  06MT20030723,   501,  1,      4,2,20030805, 49.5680, -34.5070, 4400,   3877.7,   2.3208,  34.8987,2,-999.0000,9,    283.4,2,    18.19,2,    16.39,2,     0.00,2,     1.01,2,    1.825,3,    0.897,2,   -999.0,5,   -999.0,5,-999.0000,  -999.00,9,    52004,   1.9913
  06MT20030723,   501,  1,      5,2,20030805, 49.5680, -34.5070, 4400,   3556.9,   2.4511,  34.9059,2,  34.9069,2,    277.6,2,    17.60,2,    16.60,2,     0.00,2,     1.03,2,    1.624,3,    0.804,2,   -999.0,5,   -999.0,5,-999.0000,  -999.00,9,    52005,   2.1537
  06MT20030723,   501,  1,      6,2,20030805, 49.5680, -34.5070, 4400,   3349.2,   2.6007,  34.9141,2,-999.0000,9,    276.7,2,    16.51,2,    16.33,2,     0.00,2,     1.02,2,    1.551,3,    0.763,2,   -999.0,5,   -999.0,5,-999.0000,  -999.00,9,    52006,   2.3220
  06MT20030723,   501,  1,      7,2,20030805, 49.5680, -34.5070, 4400,   3045.0,   2.8064,  34.9162,2,-999.0000,9,    277.4,2,    14.37,2,    16.56,2,     0.00,2,     1.01,2,    1.745,3,    0.859,2,   -999.0,5,   -999.0,5,-999.0000,  -999.00,9,    52007,   2.5552
  06MT20030723,   501,  1,      8,2,20030805, 49.5680, -34.5070, 4400,   2731.0,   2.9823,  34.9167,2,-999.0000,9,    276.8,2,    13.26,2,    16.63,2,     0.00,2,     1.02,2,    1.867,3,    0.928,2,   -999.0,5,   -999.0,5,-999.0000,  -999.00,9,    52008,   2.7597
  06MT20030723,   501,  1,      9,2,20030805, 49.5680, -34.5070, 4400,   2424.1,   3.1048,  34.9059,2,-999.0000,9,    279.2,2,    12.23,2,    16.56,2,     0.00,2,     1.04,2,    2.219,3,    1.101,2,   -999.0,5,   -999.0,5,-999.0000,  -999.00,9,    52009,   2.9105
  06MT20030723,   501,  1,     10,2,20030805, 49.5680, -34.5070, 4400,   2112.5,   3.1762,  34.8896,2,  34.8894,2,    283.0,2,    11.22,2,    16.70,2,     0.00,2,     1.05,2,    2.788,3,    1.362,2,   -999.0,5,   -999.0,5,-999.0000,  -999.00,9,    52010,   3.0107
  06MT20030723,   501,  1,     11,2,20030805, 49.5680, -34.5070, 4400,   1914.5,   3.2422,  34.8860,2,-999.0000,9,    282.8,2,    10.80,2,    16.84,2,     0.00,2,     1.06,2,    2.971,3,    1.460,2,   -999.0,5,   -999.0,5,-999.0000,  -999.00,9,    52011,   3.0941
  06MT20030723,   501,  1,     12,2,20030805, 49.5680, -34.5070, 4400,   1615.9,   3.4475,  34.8961,2,-999.0000,9,   -999.0,5,  -999.00,5,  -999.00,5,  -999.00,5,  -999.00,5, -999.000,9, -999.000,9,   -999.0,5,   -999.0,5,-999.0000,  -999.00,9,    52012,   3.3235
  06MT20030723,   501,  1,     13,2,20030805, 49.5680, -34.5070, 4400,   1397.2,   3.5750,  34.8967,2,-999.0000,9,    278.5,2,    10.28,2,    16.81,2,     0.00,2,     1.06,2,    3.272,3,    1.653,2,   -999.0,5,   -999.0,5,-999.0000,  -999.00,9,    52013,   3.4687
  06MT20030723,   501,  1,     14,2,20030805, 49.5680, -34.5070, 4400,    993.0,   3.9412,  34.9035,2,  34.9148,0,    272.0,2,     9.93,2,    16.98,2,     0.01,2,     1.09,2,    3.501,3,    1.799,2,   -999.0,5,   -999.0,5,-999.0000,  -999.00,9,    52014,   3.8659
  06MT20030723,   501,  1,     15,2,20030805, 49.5680, -34.5070, 4400,    992.8,   3.9515,  34.9033,2,-999.0000,9,    272.3,2,     9.93,2,    16.79,2,     0.00,2,     1.08,2,    3.529,3,    1.802,2,   -999.0,5,   -999.0,5,-999.0000,  -999.00,9,    52015,   3.8761
  06MT20030723,   501,  1,     16,2,20030805, 49.5680, -34.5070, 4400,    904.8,   4.1461,  34.9302,2,-999.0000,9,    266.9,2,     9.96,2,    17.20,2,     0.01,2,     1.08,2, -999.000,9, -999.000,9,   -999.0,5,   -999.0,5,-999.0000,  -999.00,9,    52016,   4.0766
  06MT20030723,   501,  1,     17,2,20030805, 49.5680, -34.5070, 4400,    794.0,   4.3800,  34.9423,2,-999.0000,9,    312.3,4,    10.11,2,    17.44,2,     0.00,2,     1.08,2, -999.000,9, -999.000,9,   -999.0,5,   -999.0,5,-999.0000,  -999.00,9,    52017,   4.3182
  06MT20030723,   501,  1,     18,2,20030805, 49.5680, -34.5070, 4400,    650.6,   4.8812,  34.9703,2,-999.0000,9,    246.3,2,    10.47,2,    17.86,2,     0.01,2,     1.14,2,    2.969,3,    1.548,2,   -999.0,5,   -999.0,5,-999.0000,  -999.00,9,    52018,   4.8287
  06MT20030723,   501,  1,     19,2,20030805, 49.5680, -34.5070, 4400,    510.7,   5.6105,  34.9238,2,-999.0000,9,    228.1,2,    10.63,2,    18.66,2,     0.01,2,     1.18,2,    2.728,3,    1.450,2,   -999.0,5,   -999.0,5,-999.0000,  -999.00,9,    52019,   5.5670
  06MT20030723,   501,  1,     20,2,20030805, 49.5680, -34.5070, 4400,    363.6,   7.2260,  34.9794,2,-999.0000,9,    216.4,2,     9.78,2,    17.82,2,     0.02,2,     1.10,2,    2.606,3,    1.420,2,   -999.0,5,   -999.0,5,-999.0000,  -999.00,9,    52020,   7.1909
  06MT20030723,   501,  1,     21,2,20030805, 49.5680, -34.5070, 4400,     84.1,  11.7341,  35.5224,2,-999.0000,9,    233.1,2,     3.27,2,    10.33,2,     0.03,2,     0.54,2,    2.959,3,    1.700,2,   -999.0,5,   -999.0,5,-999.0000,  -999.00,9,    52021,  11.7233
  06MT20030723,   501,  1,     22,2,20030805, 49.5680, -34.5070, 4400,      3.4,  16.2597,  35.5491,2,  35.5053,0,    254.1,2,     0.21,2,     0.03,2,     0.02,2,     0.04,2,    2.785,3,    1.636,2,   -999.0,5,   -999.0,5,-999.0000,  -999.00,9,    52022,  16.2592
  06MT20030723,   502,  1,      1,2,20030805, 49.5070, -33.2340, 4081,   4107.3,   2.3074,  34.8969,2,  34.8959,2,    278.2,2,    19.10,2,    16.37,2,     0.01,2,     1.03,2, -999.000,9, -999.000,9,   2161.9,2,   2318.0,2,   7.7266,    25.00,2,    53001,   1.9522
  06MT20030723,   502,  1,      2,2,20030805, 49.5070, -33.2340, 4081,   4107.4,   2.3074,  34.8968,2,-999.0000,9,    278.6,2,    19.10,2,    16.55,2,     0.01,2,     1.03,2,    1.910,3,    0.942,2,   -999.0,5,   -999.0,5,-999.0000,  -999.00,9,    53002,   1.9522
  06MT20030723,   502,  1,      3,2,20030805, 49.5070, -33.2340, 4081,   3761.4,   2.4412,  34.9067,2,-999.0000,9,    276.5,2,    18.41,2,    16.68,2,     0.00,2,     1.02,2,    1.619,3,    0.800,2,   2162.4,2,   2316.1,2,   7.7285,    25.00,2,    53003,   2.1215
  06MT20030723,   502,  1,      4,2,20030805, 49.5070, -33.2340, 4081,   3452.1,   2.6472,  34.9174,2,-999.0000,9,    275.1,2,    16.69,2,    16.49,2,     0.00,2,     1.02,2,    1.519,3,    0.752,2,   2161.5,2,   2314.8,2,   7.7305,    25.00,2,    53004,   2.3563
  06MT20030723,   502,  1,      5,2,20030805, 49.5070, -33.2340, 4081,   3145.5,   2.8485,  34.9228,2,-999.0000,9,    275.1,2,    14.76,2,    16.71,2,     0.00,2,     1.03,2,    1.665,3,    0.824,2,   2158.7,2,   2316.3,2,   7.7295,    25.00,2,    53005,   2.5858
  06MT20030723,   502,  1,      6,2,20030805, 49.5070, -33.2340, 4081,   2838.4,   3.0052,  34.9166,2,  34.9165,2,    276.7,2,    13.22,2,    16.75,2,     0.00,2,     1.03,2,    1.881,3,    0.927,2,   2156.0,2,   2314.2,2,   7.7295,    25.00,2,    53006,   2.7712
  06MT20030723,   502,  1,      7,2,20030805, 49.5070, -33.2340, 4081,   2532.3,   3.1209,  34.9047,2,-999.0000,9,   -999.0,5,  -999.00,5,  -999.00,5,  -999.00,5,  -999.00,5, -999.000,9, -999.000,9,   -999.0,5,   -999.0,5,-999.0000,  -999.00,9,    53007,   2.9157
  06MT20030723,   502,  1,      8,2,20030805, 49.5070, -33.2340, 4081,   2238.0,   3.1683,  34.8862,2,-999.0000,9,    283.7,2,    10.77,2,    16.61,2,     0.00,2,     1.02,2,    2.976,3,    1.463,2,   2153.5,2,   2315.2,2,   7.7236,    25.00,2,    53008,   2.9910
  06MT20030723,   502,  1,      9,2,20030805, 49.5070, -33.2340, 4081,   2053.6,   3.2579,  34.8886,2,-999.0000,9,    283.3,2,    10.98,2,    16.82,2,     0.00,2,     1.02,2,    2.957,3,    1.454,2,   2152.1,2,   2306.7,2,   7.7216,    25.00,2,    53009,   3.0966
  06MT20030723,   502,  1,     10,2,20030805, 49.5070, -33.2340, 4081,   1833.9,   3.4053,  34.8985,2,-999.0000,9,    279.6,2,    10.78,2,    17.09,2,     0.00,2,     1.02,2,    2.891,3,    1.424,2,   2154.9,2,   2313.6,2,   7.7197,    25.00,2,    53010,   3.2622
  06MT20030723,   502,  1,     11,2,20030805, 49.5070, -33.2340, 4081,   1532.8,   3.6137,  34.9050,2,  34.9069,2,    276.6,2,    10.43,2,    17.16,2,     0.00,2,     1.05,2,    3.051,3,    1.542,2,   2156.6,2,   2304.9,2,   7.7187,    25.00,2,    53011,   3.4951
  06MT20030723,   502,  1,     12,2,20030805, 49.5070, -33.2340, 4081,   1308.6,   3.7668,  34.9100,2,-999.0000,9,   -999.0,5,  -999.00,5,  -999.00,5,  -999.00,5,  -999.00,5, -999.000,9, -999.000,9,   -999.0,5,   -999.0,5,-999.0000,  -999.00,9,    53012,   3.6662
  06MT20030723,   502,  1,     13,2,20030805, 49.5070, -33.2340, 4081,   1219.0,   3.8634,  34.9125,2,-999.0000,9,    272.7,2,    10.10,2,    17.19,2,     0.00,2,     1.06,2,    3.306,3,    1.686,2,   2160.0,2,   2311.1,2,   7.7157,    25.00,2,    53013,   3.7696
  06MT20030723,   502,  1,     14,2,20030805, 49.5070, -33.2340, 4081,   1121.4,   3.9858,  34.9184,2,-999.0000,9,    270.7,2,    10.05,2,    17.25,2,     0.00,2,     1.05,2,    3.385,3,    1.721,2,   2162.3,2,   2306.1,2,   7.7147,    25.00,2,    53014,   3.8993
  06MT20030723,   502,  1,     15,2,20030805, 49.5070, -33.2340, 4081,    958.8,   4.3268,  34.9392,2,-999.0000,9,    261.8,2,    10.17,2,    17.63,2,     0.00,2,     1.08,2, -999.000,9, -999.000,9,   2163.2,2,   2312.1,2,   7.7108,    25.00,2,    53015,   4.2514
  06MT20030723,   502,  1,     16,2,20030805, 49.5070, -33.2340, 4081,    872.7,   4.5990,  34.9528,2,-999.0000,9,    254.2,2,    10.21,2,    17.92,2,     0.00,2,     1.10,2,    3.160,3,    1.629,2,   2164.7,2,   2312.4,2,   7.7068,    25.00,2,    53016,   4.5291
  06MT20030723,   502,  1,     17,2,20030805, 49.5070, -33.2340, 4081,    609.4,   5.4386,  34.8892,2,  34.8949,2,    235.1,2,    10.32,2,    18.44,2,     0.01,2,     1.17,2,    2.999,3,    1.603,2,   2166.5,2,   2309.0,2,   7.6980,    25.00,2,    53017,   5.3871
  06MT20030723,   502,  1,     18,2,20030805, 49.5070, -33.2340, 4081,    442.3,   7.5536,  35.0068,2,-999.0000,9,    234.5,2,     8.75,2,    16.74,2,     0.01,2,     1.02,2,    3.056,3,    1.691,2,   2156.6,2,   2313.9,2,   7.7364,    25.00,2,    53018,   7.5096
  06MT20030723,   502,  1,     19,2,20030805, 49.5070, -33.2340, 4081,    200.8,  11.5592,  35.5325,2,-999.0000,9,    229.9,2,     4.55,2,    11.93,2,     0.02,2,     0.63,2,    2.815,3,    1.614,2,   2134.2,2,   2339.8,2,   7.8321,    25.00,2,    53019,  11.5335
  06MT20030723,   502,  1,     20,2,20030805, 49.5070, -33.2340, 4081,    127.8,  12.1214,  35.5718,2,-999.0000,9,    226.5,2,     3.89,2,    11.15,2,     0.02,2,     0.58,2,    2.784,3,    1.585,2,   2131.8,2,   2341.7,2,   7.8460,    25.00,2,    53020,  12.1046
  06MT20030723,   502,  1,     21,2,20030805, 49.5070, -33.2340, 4081,     88.6,  12.4280,  35.5667,2,-999.0000,9,    221.0,2,     3.60,2,    10.64,2,     0.03,2,     0.52,2,    2.719,3,    1.576,2,   2129.4,2,   2341.3,2,   7.8519,    25.00,2,    53021,  12.4162
  06MT20030723,   502,  1,     22,2,20030805, 49.5070, -33.2340, 4081,     25.5,  15.0828,  35.3690,2,-999.0000,9,    261.8,2,     0.31,2,     0.08,2,     0.04,2,     0.03,2,    2.842,3,    1.677,2,   2050.1,2,   2338.7,2,   7.9997,    25.00,2,    53022,  15.0789