BOTTLE,20090513PRINUNIVRMK
EXPOCODE,STNNBR,CASTNO,BTLNBR,BTLNBR_FLAG_W,DATE,LATITUDE,LONGITUDE,DEPTH,CTDPRS,CTDTMP,CTDSAL,CTDSAL_FLAG_W,SALNTY,SALNTY_FLAG_W,OXYGEN,OXYGEN_FLAG_W,SILCAT,SILCAT_FLAG_W,NITRAT,NITRAT_FLAG_W,NITRIT,NITRIT_FLAG_W,PHSPHT,PHSPHT_FLAG_W,CFC-11,CFC-11_FLAG_W,CFC-12,CFC-12_FLAG_W,TCARBN,TCARBN_FLAG_W,ALKALI,ALKALI_FLAG_W,PH_SWS,PH_TEMP,PH_SWS_FLAG_W,ID,THETA
,,,,,,,,METERS,DBARS,ITS-90,PSS-78,,PSS-78,,UMOL/KG,,UMOL/KG,,UMOL/KG,,UMOL/KG,,UMOL/KG,,PMOL/KG,,PMOL/KG,,UMOL/KG,,UMOL/KG,,,DEGC,,,DEGC
  06MT20030723,   455,  1,      1,2,20030726, 58.9650, -41.2140, 2878,   2855.7,   1.4382,  34.8875,2,-999.0000,9,    301.7,2,     8.19,2,    13.54,2,     0.01,2,     0.87,2, -999.000,9, -999.000,9,   2155.0,2,   2295.0,2,-999.0000,  -999.00,9,     6001,   1.2352
  06MT20030723,   455,  1,      2,2,20030726, 58.9650, -41.2140, 2878,   2851.3,   1.4420,  34.8865,2,-999.0000,9,    301.7,2,     8.11,2,    13.59,2,     0.01,2,     0.88,2,    3.836,3,    1.981,2,   -999.0,5,   2302.3,2,-999.0000,  -999.00,9,     6002,   1.2394
  06MT20030723,   455,  1,      3,2,20030726, 58.9650, -41.2140, 2878,   2842.5,   1.4478,  34.8872,2,-999.0000,9,    302.0,2,     8.06,2,    13.42,2,     0.01,2,     0.87,2,    3.822,3,    1.993,2,   2154.3,2,   2305.9,2,-999.0000,  -999.00,9,     6003,   1.2459
  06MT20030723,   455,  1,      4,2,20030726, 58.9650, -41.2140, 2878,   2745.5,   1.6451,  34.8855,2,  34.8844,2,    300.5,2,     8.07,2,    13.68,2,     0.01,2,     0.88,2,    3.814,3,    1.987,2,   2153.6,2,   2299.7,2,-999.0000,  -999.00,9,     6004,   1.4481
  06MT20030723,   455,  1,      5,2,20030726, 58.9650, -41.2140, 2878,   2643.3,   1.9212,  34.8879,2,-999.0000,9,    298.0,2,     8.34,2,    13.88,2,     0.01,2,     0.89,2,    3.693,3,    1.933,2,   2154.9,2,   2302.5,2,-999.0000,  -999.00,9,     6005,   1.7282
  06MT20030723,   455,  1,      6,2,20030726, 58.9650, -41.2140, 2878,   2438.0,   2.6194,  34.9172,2,-999.0000,9,    281.6,2,    12.84,2,    15.60,2,     0.00,2,     1.00,2,    2.359,3,    1.197,2,   2157.6,2,   2305.3,2,-999.0000,  -999.00,9,     6006,   2.4324
  06MT20030723,   455,  1,      7,2,20030726, 58.9650, -41.2140, 2878,   2237.1,   2.8403,  34.9174,2,-999.0000,9,    280.5,2,    12.15,2,    15.82,2,     0.00,2,     1.01,2,    2.326,3,    1.180,2,   2156.8,2,   2300.3,2,-999.0000,  -999.00,9,     6007,   2.6684
  06MT20030723,   455,  1,      8,2,20030726, 58.9650, -41.2140, 2878,   2023.8,   3.0107,  34.9110,2,-999.0000,9,    281.3,2,    11.33,2,    16.06,2,     0.00,2,     1.02,2,    2.534,3,    1.301,2,   2157.7,2,   2306.1,2,-999.0000,  -999.00,9,     6008,   2.8559
  06MT20030723,   455,  1,      9,2,20030726, 58.9650, -41.2140, 2878,   1854.1,   3.1272,  34.9108,2,-999.0000,9,    282.4,2,    10.73,2,    16.20,2,     0.00,2,     1.01,2,    2.741,3,    1.401,2,   2156.1,2,   2310.2,5,-999.0000,  -999.00,9,     6009,   2.9861
  06MT20030723,   455,  1,     10,2,20030726, 58.9650, -41.2140, 2878,   1823.0,   3.1352,  34.9090,2,-999.0000,9,   -999.0,5,  -999.00,5,  -999.00,5,  -999.00,5,  -999.00,5, -999.000,9, -999.000,9,   -999.0,5,   -999.0,5,-999.0000,  -999.00,9,     6010,   2.9968
  06MT20030723,   455,  1,     11,2,20030726, 58.9650, -41.2140, 2878,   1617.1,   3.1612,  34.8932,2,  34.8956,2,    285.1,2,    10.18,2,    16.27,2,     0.00,2,     1.01,2,    3.140,3,    1.610,2,   2155.0,2,   2305.9,2,-999.0000,  -999.00,9,     6011,   3.0406
  06MT20030723,   455,  1,     12,2,20030726, 58.9650, -41.2140, 2878,   1437.5,   3.2611,  34.8931,2,-999.0000,9,    284.3,2,    10.13,2,    16.59,2,     0.00,2,     1.03,2,    3.268,3,    1.683,2,   2154.6,2,   2300.6,2,-999.0000,  -999.00,9,     6012,   3.1548
  06MT20030723,   455,  1,     13,2,20030726, 58.9650, -41.2140, 2878,   1213.4,   3.3932,  34.8945,2,-999.0000,9,    281.6,2,    10.11,2,    16.44,2,     0.00,2,     1.05,2,    3.296,3,    1.698,2,   2156.7,2,   2304.4,2,-999.0000,  -999.00,9,     6013,   3.3043
  06MT20030723,   455,  1,     14,2,20030726, 58.9650, -41.2140, 2878,   1117.4,   3.4713,  34.8963,2,-999.0000,9,    280.0,2,    10.01,2,    16.73,2,     0.00,2,     1.04,2,    3.355,3,    1.751,2,   2156.2,2,   2302.6,2,-999.0000,  -999.00,9,     6014,   3.3896
  06MT20030723,   455,  1,     15,2,20030726, 58.9650, -41.2140, 2878,   1008.3,   3.4937,  34.8845,2,-999.0000,9,    281.4,2,     9.72,2,    16.59,2,     0.00,2,     1.03,2,    3.573,3,    1.870,2,   2158.4,2,   2306.7,2,-999.0000,  -999.00,9,     6015,   3.4206
  06MT20030723,   455,  1,     16,2,20030726, 58.9650, -41.2140, 2878,    908.8,   3.4710,  34.8709,2,-999.0000,9,    278.8,2,     9.31,2,    16.33,2,     0.00,2,     1.01,2, -999.000,9, -999.000,9,   2157.8,2,   2296.1,2,-999.0000,  -999.00,9,     6016,   3.4060
  06MT20030723,   455,  1,     17,2,20030726, 58.9650, -41.2140, 2878,    785.1,   3.5003,  34.8639,2,-999.0000,9,    285.3,2,     9.10,2,    16.41,2,     0.00,2,     1.00,2,    4.026,3,    2.164,2,   2157.5,2,   2298.1,2,-999.0000,  -999.00,9,     6017,   3.4447
  06MT20030723,   455,  1,     18,2,20030726, 58.9650, -41.2140, 2878,    603.4,   3.8248,  34.8933,2,-999.0000,9,    279.8,2,     9.03,2,    16.47,2,     0.00,2,     1.00,2,    3.869,3,    2.085,2,   2158.6,2,   2308.1,2,-999.0000,  -999.00,9,     6018,   3.7814
  06MT20030723,   455,  1,     19,2,20030726, 58.9650, -41.2140, 2878,    390.2,   4.1268,  34.8892,2,  34.9115,2,    281.5,2,     8.59,2,    16.46,2,     0.00,2,     0.98,2,    4.021,3,    2.203,2,   2156.8,2,   2307.1,2,-999.0000,  -999.00,9,     6019,   4.0984
  06MT20030723,   455,  1,     20,2,20030726, 58.9650, -41.2140, 2878,    224.8,   4.6927,  34.9233,2,-999.0000,9,    291.1,2,     7.99,2,    16.06,2,     0.01,2,     0.97,2,    4.319,3,    2.444,2,   2151.6,2,   2304.8,2,-999.0000,  -999.00,9,     6020,   4.6756
  06MT20030723,   455,  1,     21,2,20030726, 58.9650, -41.2140, 2878,     94.0,   5.3109,  34.9431,2,-999.0000,9,    288.0,2,     7.11,2,    15.65,2,     0.02,2,     0.94,2,    4.319,3,    2.444,2,   2152.1,2,   2312.8,2,-999.0000,  -999.00,9,     6021,   5.3034
  06MT20030723,   455,  1,     22,2,20030726, 58.9650, -41.2140, 2878,     18.7,   8.9204,  34.8300,2,  34.8244,2,    297.6,2,     0.50,2,     7.87,2,     0.13,2,     0.50,2, -999.000,9, -999.000,9,   2100.2,2,   2298.3,2,-999.0000,  -999.00,9,     6022,   8.9184
  06MT20030723,   456,  1,      1,2,20030726, 58.9490, -42.2330, 2381,   2390.1,   1.8839,  34.8862,2,  34.8850,2,    297.2,2,  -999.00,5,  -999.00,5,  -999.00,5,  -999.00,5, -999.000,9, -999.000,9,   -999.0,5,   -999.0,5,-999.0000,  -999.00,9,     7001,   1.7147
  06MT20030723,   456,  1,      2,2,20030726, 58.9490, -42.2330, 2381,   2390.5,   1.8837,  34.8860,2,-999.0000,9,   -999.0,5,  -999.00,5,  -999.00,5,  -999.00,5,  -999.00,5,    3.590,3,    1.962,2,   -999.0,5,   -999.0,5,-999.0000,  -999.00,9,     7002,   1.7144
  06MT20030723,   456,  1,      3,2,20030726, 58.9490, -42.2330, 2381,   2227.9,   2.3253,  34.8950,2,-999.0000,9,   -999.0,5,  -999.00,5,  -999.00,5,  -999.00,5,  -999.00,5,    3.350,3,    1.782,4,   -999.0,5,   -999.0,5,-999.0000,  -999.00,9,     7003,   2.1629
  06MT20030723,   456,  1,      4,2,20030726, 58.9490, -42.2330, 2381,   2128.6,   2.5686,  34.9005,2,-999.0000,9,   -999.0,5,  -999.00,5,  -999.00,5,  -999.00,5,  -999.00,5, -999.000,9, -999.000,9,   -999.0,5,   -999.0,5,-999.0000,  -999.00,9,     7004,   2.4112
  06MT20030723,   456,  1,      5,2,20030726, 58.9490, -42.2330, 2381,   2028.2,   2.7818,  34.9162,2,  34.9135,2,   -999.0,5,  -999.00,5,  -999.00,5,  -999.00,5,  -999.00,5,    2.487,3,    1.325,2,   -999.0,5,   -999.0,5,-999.0000,  -999.00,9,     7005,   2.6300
  06MT20030723,   456,  1,      6,2,20030726, 58.9490, -42.2330, 2381,   1909.9,   2.9814,  34.9200,2,-999.0000,9,    280.3,2,  -999.00,5,  -999.00,5,  -999.00,5,  -999.00,5, -999.000,9, -999.000,9,   -999.0,5,   -999.0,5,-999.0000,  -999.00,9,     7006,   2.8373
  06MT20030723,   456,  1,      7,2,20030726, 58.9490, -42.2330, 2381,   1767.2,   3.0913,  34.9092,2,-999.0000,9,   -999.0,5,  -999.00,5,  -999.00,5,  -999.00,5,  -999.00,5, -999.000,9, -999.000,9,   -999.0,5,   -999.0,5,-999.0000,  -999.00,9,     7007,   2.9584
  06MT20030723,   456,  1,      8,2,20030726, 58.9490, -42.2330, 2381,   1608.3,   3.1832,  34.8982,2,-999.0000,9,   -999.0,5,  -999.00,5,  -999.00,5,  -999.00,5,  -999.00,5,    3.176,3,    1.662,2,   -999.0,5,   -999.0,5,-999.0000,  -999.00,9,     7008,   3.0631
  06MT20030723,   456,  1,      9,2,20030726, 58.9490, -42.2330, 2381,   1456.2,   3.3227,  34.9016,2,-999.0000,9,   -999.0,5,  -999.00,5,  -999.00,5,  -999.00,5,  -999.00,5,    3.333,3,    1.745,2,   -999.0,5,   -999.0,5,-999.0000,  -999.00,9,     7009,   3.2141
  06MT20030723,   456,  1,     10,2,20030726, 58.9490, -42.2330, 2381,   1447.6,   3.3269,  34.9019,2,  34.9021,2,    282.5,2,  -999.00,5,  -999.00,5,  -999.00,5,  -999.00,5,    3.276,3,    1.694,2,   -999.0,5,   -999.0,5,-999.0000,  -999.00,9,     7010,   3.2190
  06MT20030723,   456,  1,     11,2,20030726, 58.9490, -42.2330, 2381,   1197.5,   3.6020,  34.9162,2,-999.0000,9,   -999.0,5,  -999.00,5,  -999.00,5,  -999.00,5,  -999.00,5, -999.000,9, -999.000,9,   -999.0,5,   -999.0,5,-999.0000,  -999.00,9,     7011,   3.5124
  06MT20030723,   456,  1,     12,2,20030726, 58.9490, -42.2330, 2381,   1109.7,   3.6574,  34.9120,2,-999.0000,9,   -999.0,5,  -999.00,5,  -999.00,5,  -999.00,5,  -999.00,5, -999.000,9, -999.000,9,   -999.0,5,   -999.0,5,-999.0000,  -999.00,9,     7012,   3.5747
  06MT20030723,   456,  1,     13,2,20030726, 58.9490, -42.2330, 2381,    988.6,   3.6966,  34.8970,2,-999.0000,9,   -999.0,5,  -999.00,5,  -999.00,5,  -999.00,5,  -999.00,5,    3.704,3,    1.980,2,   -999.0,5,   -999.0,5,-999.0000,  -999.00,9,     7013,   3.6235
  06MT20030723,   456,  1,     14,2,20030726, 58.9490, -42.2330, 2381,    881.2,   3.7248,  34.8875,2,-999.0000,9,   -999.0,5,  -999.00,5,  -999.00,5,  -999.00,5,  -999.00,5, -999.000,9, -999.000,9,   -999.0,5,   -999.0,5,-999.0000,  -999.00,9,     7014,   3.6602
  06MT20030723,   456,  1,     15,2,20030726, 58.9490, -42.2330, 2381,    775.3,   3.9223,  34.9008,2,-999.0000,9,   -999.0,5,  -999.00,5,  -999.00,5,  -999.00,5,  -999.00,5,    3.902,3,    2.104,2,   -999.0,5,   -999.0,5,-999.0000,  -999.00,9,     7015,   3.8649
  06MT20030723,   456,  1,     16,2,20030726, 58.9490, -42.2330, 2381,    673.8,   4.2935,  34.9251,2,-999.0000,9,    276.8,2,  -999.00,5,  -999.00,5,  -999.00,5,  -999.00,5, -999.000,9, -999.000,9,   -999.0,5,   -999.0,5,-999.0000,  -999.00,9,     7016,   4.2422
  06MT20030723,   456,  1,     17,2,20030726, 58.9490, -42.2330, 2381,    624.3,   4.4530,  34.9310,2,  34.9324,2,   -999.0,5,  -999.00,5,  -999.00,5,  -999.00,5,  -999.00,5,    3.834,3,    2.095,2,   -999.0,5,   -999.0,5,-999.0000,  -999.00,9,     7017,   4.4049
  06MT20030723,   456,  1,     18,2,20030726, 58.9490, -42.2330, 2381,    422.0,   5.1523,  34.9652,2,-999.0000,9,   -999.0,5,  -999.00,5,  -999.00,5,  -999.00,5,  -999.00,5,    3.975,3,    2.214,2,   -999.0,5,   -999.0,5,-999.0000,  -999.00,9,     7018,   5.1181
  06MT20030723,   456,  1,     19,2,20030726, 58.9490, -42.2330, 2381,    328.6,   5.4772,  34.9870,2,-999.0000,9,   -999.0,5,  -999.00,5,  -999.00,5,  -999.00,5,  -999.00,5, -999.000,9, -999.000,9,   -999.0,5,   -999.0,5,-999.0000,  -999.00,9,     7019,   5.4499
  06MT20030723,   456,  1,     20,2,20030726, 58.9490, -42.2330, 2381,    228.0,   5.8668,  35.0213,2,-999.0000,9,   -999.0,5,  -999.00,5,  -999.00,5,  -999.00,5,  -999.00,5,    4.111,3,    2.325,2,   -999.0,5,   -999.0,5,-999.0000,  -999.00,9,     7020,   5.8474
  06MT20030723,   456,  1,     21,2,20030726, 58.9490, -42.2330, 2381,    126.5,   6.3885,  35.0655,2,-999.0000,9,   -999.0,5,  -999.00,5,  -999.00,5,  -999.00,5,  -999.00,5, -999.000,9, -999.000,9,   -999.0,5,   -999.0,5,-999.0000,  -999.00,9,     7021,   6.3773
  06MT20030723,   456,  1,     22,2,20030726, 58.9490, -42.2330, 2381,     19.3,   7.9676,  35.0205,2,-999.0000,9,    298.4,2,  -999.00,5,  -999.00,5,  -999.00,5,  -999.00,5,    4.160,3,    2.361,2,   -999.0,5,   -999.0,5,-999.0000,  -999.00,9,     7022,   7.9657
  06MT20030723,   457,  1,      1,2,20030726, 58.9410, -43.2530, 1742,   1718.9,   2.6506,  34.9010,2,-999.0000,9,    288.4,2,    10.25,2,    14.89,2,     0.01,2,     1.00,2, -999.000,9, -999.000,9,   -999.0,5,   -999.0,5,-999.0000,  -999.00,9,     8001,   2.5278
  06MT20030723,   457,  1,      2,2,20030726, 58.9410, -43.2530, 1742,   1582.4,   2.9942,  34.9041,2,-999.0000,9,    285.0,2,    10.53,2,    15.57,2,     0.00,2,     1.03,2, -999.000,9, -999.000,9,   -999.0,5,   -999.0,5,-999.0000,  -999.00,9,     8002,   2.8786
  06MT20030723,   457,  1,      3,2,20030726, 58.9410, -43.2530, 1742,   1577.6,   3.0102,  34.9046,2,-999.0000,9,    284.4,2,    10.17,2,    15.78,2,     0.00,2,     1.01,2, -999.000,9, -999.000,9,   -999.0,5,   -999.0,5,-999.0000,  -999.00,9,     8003,   2.8948
  06MT20030723,   457,  1,      4,2,20030726, 58.9410, -43.2530, 1742,   1558.6,   3.0418,  34.9036,2,-999.0000,9,    284.4,2,    10.06,2,    15.64,2,     0.00,2,     1.02,2, -999.000,9, -999.000,9,   -999.0,5,   -999.0,5,-999.0000,  -999.00,9,     8004,   2.9277
  06MT20030723,   457,  1,      5,2,20030726, 58.9410, -43.2530, 1742,   1517.3,   3.1268,  34.9030,2,-999.0000,9,    284.7,2,     9.88,2,    15.73,2,     0.00,2,     1.02,2, -999.000,9, -999.000,9,   -999.0,5,   -999.0,5,-999.0000,  -999.00,9,     8005,   3.0152
  06MT20030723,   457,  1,      6,2,20030726, 58.9410, -43.2530, 1742,   1414.3,   3.3232,  34.9088,2,-999.0000,9,    282.2,2,     9.76,2,    15.85,2,     0.00,2,     1.03,2,    3.378,3,    1.729,2,   -999.0,5,   -999.0,5,-999.0000,  -999.00,9,     8006,   3.2181
  06MT20030723,   457,  1,      7,2,20030726, 58.9410, -43.2530, 1742,   1318.8,   3.4426,  34.9120,2,-999.0000,9,    281.7,2,     9.65,2,    15.98,2,     0.00,2,     1.03,2, -999.000,9, -999.000,9,   -999.0,5,   -999.0,5,-999.0000,  -999.00,9,     8007,   3.3444
  06MT20030723,   457,  1,      8,2,20030726, 58.9410, -43.2530, 1742,   1213.1,   3.5080,  34.9143,2,  34.9164,2,    280.1,2,     9.60,2,    15.95,2,     0.00,2,     1.03,2,    3.448,3,    1.790,2,   -999.0,5,   -999.0,5,-999.0000,  -999.00,9,     8008,   3.4180
  06MT20030723,   457,  1,      9,2,20030726, 58.9410, -43.2530, 1742,   1098.7,   3.5777,  34.9157,2,-999.0000,9,    279.8,2,     9.52,2,    15.39,2,     0.00,2,     1.04,2, -999.000,9, -999.000,9,   -999.0,5,   -999.0,5,-999.0000,  -999.00,9,     8009,   3.4966
  06MT20030723,   457,  1,     10,2,20030726, 58.9410, -43.2530, 1742,   1093.6,   3.5790,  34.9147,2,-999.0000,9,    279.7,2,     9.50,2,    15.91,2,     0.00,2,     1.04,2, -999.000,9, -999.000,9,   -999.0,5,   -999.0,5,-999.0000,  -999.00,9,     8010,   3.4983
  06MT20030723,   457,  1,     11,2,20030726, 58.9410, -43.2530, 1742,    990.4,   3.6509,  34.9158,2,-999.0000,9,    279.3,2,     9.40,2,    15.98,2,     0.00,2,     1.04,2,    3.542,3,    1.845,2,   -999.0,5,   -999.0,5,-999.0000,  -999.00,9,     8011,   3.5780
  06MT20030723,   457,  1,     12,2,20030726, 58.9410, -43.2530, 1742,    896.6,   3.7628,  34.9130,2,-999.0000,9,    279.3,2,     9.19,2,    16.13,2,     0.00,2,     1.04,2, -999.000,9, -999.000,9,   -999.0,5,   -999.0,5,-999.0000,  -999.00,9,     8012,   3.6967
  06MT20030723,   457,  1,     13,2,20030726, 58.9410, -43.2530, 1742,    792.5,   3.9684,  34.9176,2,-999.0000,9,    278.6,2,     8.99,2,    16.00,2,     0.01,2,     1.03,2,    3.719,3,    1.958,2,   -999.0,5,   -999.0,5,-999.0000,  -999.00,9,     8013,   3.9093
  06MT20030723,   457,  1,     14,2,20030726, 58.9410, -43.2530, 1742,    696.0,   4.1801,  34.9284,2,-999.0000,9,    278.1,2,     8.78,2,    15.92,2,     0.00,2,     1.02,2, -999.000,9, -999.000,9,   -999.0,5,   -999.0,5,-999.0000,  -999.00,9,     8014,   4.1276
  06MT20030723,   457,  1,     15,2,20030726, 58.9410, -43.2530, 1742,    603.8,   4.3739,  34.9334,2,-999.0000,9,    277.0,2,     8.88,2,    15.68,2,     0.01,2,     1.02,2,    3.779,3,    2.024,2,   -999.0,5,   -999.0,5,-999.0000,  -999.00,9,     8015,   4.3278
  06MT20030723,   457,  1,     16,2,20030726, 58.9410, -43.2530, 1742,    494.7,   4.6757,  34.9426,2,-999.0000,9,    276.6,2,     8.25,2,    15.73,2,     0.01,2,     1.01,2, -999.000,9, -999.000,9,   -999.0,5,   -999.0,5,-999.0000,  -999.00,9,     8016,   4.6372
  06MT20030723,   457,  1,     17,2,20030726, 58.9410, -43.2530, 1742,    390.2,   4.9647,  34.9529,2,  34.9512,2,    277.4,2,     7.88,2,    15.54,2,     0.00,2,     1.01,2, -999.000,9, -999.000,9,   -999.0,5,   -999.0,5,-999.0000,  -999.00,9,     8017,   4.9337
  06MT20030723,   457,  1,     18,2,20030726, 58.9410, -43.2530, 1742,    298.4,   5.2921,  34.9647,2,-999.0000,9,    285.8,2,     7.49,2,    15.46,2,     0.01,2,     0.99,2,    4.215,3,    2.324,2,   -999.0,5,   -999.0,5,-999.0000,  -999.00,9,     8018,   5.2679
  06MT20030723,   457,  1,     19,2,20030726, 58.9410, -43.2530, 1742,    195.8,   5.9502,  35.0205,2,-999.0000,9,    283.8,2,     6.85,2,    14.80,2,     0.01,2,     0.95,2, -999.000,9, -999.000,9,   -999.0,5,   -999.0,5,-999.0000,  -999.00,9,     8019,   5.9334
  06MT20030723,   457,  1,     20,2,20030726, 58.9410, -43.2530, 1742,     93.8,   6.8862,  35.0895,2,-999.0000,9,    282.4,2,     5.03,2,    13.68,2,     0.12,2,     0.84,2,    4.112,3,    2.312,2,   -999.0,5,   -999.0,5,-999.0000,  -999.00,9,     8020,   6.8775
  06MT20030723,   457,  1,     21,2,20030726, 58.9410, -43.2530, 1742,     70.8,   7.2053,  35.0865,2,  35.1042,2,    285.7,2,     3.54,2,    12.02,2,     0.32,2,     0.74,2, -999.000,9, -999.000,9,   -999.0,5,   -999.0,5,-999.0000,  -999.00,9,     8021,   7.1986
  06MT20030723,   457,  1,     22,2,20030726, 58.9410, -43.2530, 1742,     25.9,   8.4947,  34.9480,2,-999.0000,9,    308.4,2,     0.98,2,     7.39,2,     0.15,2,     0.44,2,    4.133,3,    2.333,2,   -999.0,5,   -999.0,5,-999.0000,  -999.00,9,     8022,   8.4920