BOTTLE,20090513PRINUNIVRMK
EXPOCODE,STNNBR,CASTNO,BTLNBR,BTLNBR_FLAG_W,DATE,LATITUDE,LONGITUDE,DEPTH,CTDPRS,CTDTMP,CTDSAL,CTDSAL_FLAG_W,SALNTY,SALNTY_FLAG_W,OXYGEN,OXYGEN_FLAG_W,SILCAT,SILCAT_FLAG_W,NITRAT,NITRAT_FLAG_W,NITRIT,NITRIT_FLAG_W,PHSPHT,PHSPHT_FLAG_W,CFC-11,CFC-11_FLAG_W,CFC-12,CFC-12_FLAG_W,TCARBN,TCARBN_FLAG_W,ALKALI,ALKALI_FLAG_W,PH_SWS,PH_TEMP,PH_SWS_FLAG_W,ID,THETA
,,,,,,,,METERS,DBARS,ITS-90,PSS-78,,PSS-78,,UMOL/KG,,UMOL/KG,,UMOL/KG,,UMOL/KG,,UMOL/KG,,PMOL/KG,,PMOL/KG,,UMOL/KG,,UMOL/KG,,,DEGC,,,DEGC
  06MT20030723,   461,  1,      1,2,20030727, 58.8930, -47.2990, 3024,   3004.0,   1.6784,  34.8860,2,  34.8849,2,    297.4,2,  -999.00,5,  -999.00,5,  -999.00,5,  -999.00,5, -999.000,9, -999.000,9,   -999.0,5,   -999.0,5,-999.0000,  -999.00,9,    12001,   1.4562
  06MT20030723,   461,  1,      2,2,20030727, 58.8930, -47.2990, 3024,   3001.3,   1.6840,  34.8855,2,-999.0000,9,   -999.0,5,  -999.00,5,  -999.00,5,  -999.00,5,  -999.00,5,    3.516,3,    1.912,2,   -999.0,5,   -999.0,5,-999.0000,  -999.00,9,    12002,   1.4620
  06MT20030723,   461,  1,      3,2,20030727, 58.8930, -47.2990, 3024,   2844.5,   1.9701,  34.8869,2,-999.0000,9,   -999.0,5,  -999.00,5,  -999.00,5,  -999.00,5,  -999.00,5,    3.296,3,    1.774,2,   -999.0,5,   -999.0,5,-999.0000,  -999.00,9,    12003,   1.7570
  06MT20030723,   461,  1,      4,2,20030727, 58.8930, -47.2990, 3024,   2712.6,   2.1485,  34.8885,2,-999.0000,9,   -999.0,5,  -999.00,5,  -999.00,5,  -999.00,5,  -999.00,5,    3.311,3,    1.780,2,   -999.0,5,   -999.0,5,-999.0000,  -999.00,9,    12004,   1.9444
  06MT20030723,   461,  1,      5,2,20030727, 58.8930, -47.2990, 3024,   2587.0,   2.2949,  34.8973,2,-999.0000,9,   -999.0,5,  -999.00,5,  -999.00,5,  -999.00,5,  -999.00,5,    2.788,3,    1.486,2,   -999.0,5,   -999.0,5,-999.0000,  -999.00,9,    12005,   2.0999
  06MT20030723,   461,  1,      6,2,20030727, 58.8930, -47.2990, 3024,   2335.2,   2.6278,  34.9070,2,-999.0000,9,   -999.0,5,  -999.00,5,  -999.00,5,  -999.00,5,  -999.00,5,    2.629,3,    1.402,2,   -999.0,5,   -999.0,5,-999.0000,  -999.00,9,    12006,   2.4504
  06MT20030723,   461,  1,      7,2,20030727, 58.8930, -47.2990, 3024,   2229.0,   2.7355,  34.9062,2,-999.0000,9,   -999.0,5,  -999.00,5,  -999.00,5,  -999.00,5,  -999.00,5,    2.531,3,    1.342,2,   -999.0,5,   -999.0,5,-999.0000,  -999.00,9,    12007,   2.5662
  06MT20030723,   461,  1,      8,2,20030727, 58.8930, -47.2990, 3024,   2075.3,   2.8979,  34.9061,2,-999.0000,9,   -999.0,5,  -999.00,5,  -999.00,5,  -999.00,5,  -999.00,5,    2.553,3,    1.355,2,   -999.0,5,   -999.0,5,-999.0000,  -999.00,9,    12008,   2.7401
  06MT20030723,   461,  1,      9,2,20030727, 58.8930, -47.2990, 3024,   1930.6,   2.9995,  34.8994,2,-999.0000,9,    283.9,2,  -999.00,5,  -999.00,5,  -999.00,5,  -999.00,5, -999.000,9, -999.000,9,   -999.0,5,   -999.0,5,-999.0000,  -999.00,9,    12009,   2.8534
  06MT20030723,   461,  1,     10,2,20030727, 58.8930, -47.2990, 3024,   1818.7,   3.0633,  34.8939,2,-999.0000,9,   -999.0,5,  -999.00,5,  -999.00,5,  -999.00,5,  -999.00,5,    2.967,3,    1.570,2,   -999.0,5,   -999.0,5,-999.0000,  -999.00,9,    12010,   2.9263
  06MT20030723,   461,  1,     11,2,20030727, 58.8930, -47.2990, 3024,   1617.0,   3.1883,  34.8926,2,-999.0000,9,   -999.0,5,  -999.00,5,  -999.00,5,  -999.00,5,  -999.00,5, -999.000,9, -999.000,9,   -999.0,5,   -999.0,5,-999.0000,  -999.00,9,    12011,   3.0674
  06MT20030723,   461,  1,     12,2,20030727, 58.8930, -47.2990, 3024,   1414.3,   3.2700,  34.8839,2,-999.0000,9,    284.3,2,  -999.00,5,  -999.00,5,  -999.00,5,  -999.00,5,    3.258,3,    1.716,2,   -999.0,5,   -999.0,5,-999.0000,  -999.00,9,    12012,   3.1656
  06MT20030723,   461,  1,     13,2,20030727, 58.8930, -47.2990, 3024,   1216.0,   3.5050,  34.8976,2,-999.0000,9,   -999.0,5,  -999.00,5,  -999.00,5,  -999.00,5,  -999.00,5,    3.334,3,    1.769,2,   -999.0,5,   -999.0,5,-999.0000,  -999.00,9,    12013,   3.4148
  06MT20030723,   461,  1,     14,2,20030727, 58.8930, -47.2990, 3024,    983.0,   3.4146,  34.8616,2,-999.0000,9,   -999.0,5,  -999.00,5,  -999.00,5,  -999.00,5,  -999.00,5,    3.890,3,    2.119,2,   -999.0,5,   -999.0,5,-999.0000,  -999.00,9,    12014,   3.3442
  06MT20030723,   461,  1,     15,2,20030727, 58.8930, -47.2990, 3024,    815.5,   3.6018,  34.8712,2,-999.0000,9,   -999.0,5,  -999.00,5,  -999.00,5,  -999.00,5,  -999.00,5,    3.920,3,    2.160,2,   -999.0,5,   -999.0,5,-999.0000,  -999.00,9,    12015,   3.5432
  06MT20030723,   461,  1,     16,2,20030727, 58.8930, -47.2990, 3024,    733.5,   3.6656,  34.8794,2,-999.0000,9,    288.4,2,  -999.00,5,  -999.00,5,  -999.00,5,  -999.00,5,    3.977,3,    2.212,2,   -999.0,5,   -999.0,5,-999.0000,  -999.00,9,    12016,   3.6130
  06MT20030723,   461,  1,     17,2,20030727, 58.8930, -47.2990, 3024,    606.3,   3.8172,  34.8864,2,  34.8855,2,   -999.0,5,  -999.00,5,  -999.00,5,  -999.00,5,  -999.00,5,    3.949,3,    2.212,2,   -999.0,5,   -999.0,5,-999.0000,  -999.00,9,    12017,   3.7736
  06MT20030723,   461,  1,     18,2,20030727, 58.8930, -47.2990, 3024,    404.6,   4.1689,  34.8883,2,-999.0000,9,   -999.0,5,  -999.00,5,  -999.00,5,  -999.00,5,  -999.00,5,    4.037,3,    2.309,2,   -999.0,5,   -999.0,5,-999.0000,  -999.00,9,    12018,   4.1393
  06MT20030723,   461,  1,     19,2,20030727, 58.8930, -47.2990, 3024,    291.0,   4.6006,  34.9170,2,-999.0000,9,   -999.0,5,  -999.00,5,  -999.00,5,  -999.00,5,  -999.00,5, -999.000,9, -999.000,9,   -999.0,5,   -999.0,5,-999.0000,  -999.00,9,    12019,   4.5786
  06MT20030723,   461,  1,     20,2,20030727, 58.8930, -47.2990, 3024,    194.9,   4.9904,  34.9278,2,-999.0000,9,   -999.0,5,  -999.00,5,  -999.00,5,  -999.00,5,  -999.00,5,    3.995,3,    2.293,2,   -999.0,5,   -999.0,5,-999.0000,  -999.00,9,    12020,   4.9752
  06MT20030723,   461,  1,     21,2,20030727, 58.8930, -47.2990, 3024,     96.1,   5.4514,  34.9327,2,  34.9256,2,   -999.0,5,  -999.00,5,  -999.00,5,  -999.00,5,  -999.00,5, -999.000,9, -999.000,9,   -999.0,5,   -999.0,5,-999.0000,  -999.00,9,    12021,   5.4436
  06MT20030723,   461,  1,     22,2,20030727, 58.8930, -47.2990, 3024,     19.0,   8.8400,  34.7650,2,-999.0000,9,    302.8,2,  -999.00,5,  -999.00,5,  -999.00,5,  -999.00,5,    4.073,3,    2.376,2,   -999.0,5,   -999.0,5,-999.0000,  -999.00,9,    12022,   8.8380
  06MT20030723,   462,  1,      1,2,20030727, 58.8810, -48.3140, 3380,   3385.9,   1.5106,  34.8861,2,  34.8851,2,    299.0,2,  -999.00,5,  -999.00,5,  -999.00,5,  -999.00,5, -999.000,9, -999.000,9,   -999.0,5,   -999.0,5,-999.0000,  -999.00,9,    13001,   1.2546
  06MT20030723,   462,  1,      2,2,20030727, 58.8810, -48.3140, 3380,   3385.9,   1.5104,  34.8865,2,-999.0000,9,   -999.0,5,  -999.00,5,  -999.00,5,  -999.00,5,  -999.00,5,    3.739,3,    1.968,2,   -999.0,5,   -999.0,5,-999.0000,  -999.00,9,    13002,   1.2544
  06MT20030723,   462,  1,      3,2,20030727, 58.8810, -48.3140, 3380,   3300.0,   1.6816,  34.8854,2,-999.0000,9,   -999.0,5,  -999.00,5,  -999.00,5,  -999.00,5,  -999.00,5,    3.694,3,    1.966,2,   -999.0,5,   -999.0,5,-999.0000,  -999.00,9,    13003,   1.4301
  06MT20030723,   462,  1,      4,2,20030727, 58.8810, -48.3140, 3380,   3147.8,   2.0367,  34.8880,2,-999.0000,9,   -999.0,5,  -999.00,5,  -999.00,5,  -999.00,5,  -999.00,5,    3.266,3,    1.765,2,   -999.0,5,   -999.0,5,-999.0000,  -999.00,9,    13004,   1.7923
  06MT20030723,   462,  1,      5,2,20030727, 58.8810, -48.3140, 3380,   2997.0,   2.4003,  34.9007,2,-999.0000,9,   -999.0,5,  -999.00,5,  -999.00,5,  -999.00,5,  -999.00,5,    2.521,3,    1.327,2,   -999.0,5,   -999.0,5,-999.0000,  -999.00,9,    13005,   2.1630
  06MT20030723,   462,  1,      6,2,20030727, 58.8810, -48.3140, 3380,   2841.2,   2.6955,  34.9103,2,-999.0000,9,   -999.0,5,  -999.00,5,  -999.00,5,  -999.00,5,  -999.00,5,    2.377,3,    1.249,2,   -999.0,5,   -999.0,5,-999.0000,  -999.00,9,    13006,   2.4676
  06MT20030723,   462,  1,      7,2,20030727, 58.8810, -48.3140, 3380,   2646.5,   2.9687,  34.9066,2,-999.0000,9,   -999.0,5,  -999.00,5,  -999.00,5,  -999.00,5,  -999.00,5,    2.677,3,    1.394,2,   -999.0,5,   -999.0,5,-999.0000,  -999.00,9,    13007,   2.7549
  06MT20030723,   462,  1,      8,2,20030727, 58.8810, -48.3140, 3380,   2432.9,   3.0940,  34.9015,2,  34.9014,2,   -999.0,5,  -999.00,5,  -999.00,5,  -999.00,5,  -999.00,5, -999.000,9, -999.000,9,   -999.0,5,   -999.0,5,-999.0000,  -999.00,9,    13008,   2.8991
  06MT20030723,   462,  1,      9,2,20030727, 58.8810, -48.3140, 3380,   2228.9,   3.1537,  34.9016,2,-999.0000,9,    284.2,2,  -999.00,5,  -999.00,5,  -999.00,5,  -999.00,5,    3.143,3,    1.627,2,   -999.0,5,   -999.0,5,-999.0000,  -999.00,9,    13009,   2.9775
  06MT20030723,   462,  1,     10,2,20030727, 58.8810, -48.3140, 3380,   2024.8,   3.2046,  34.9019,2,-999.0000,9,   -999.0,5,  -999.00,5,  -999.00,5,  -999.00,5,  -999.00,5,    3.305,3,    1.717,2,   -999.0,5,   -999.0,5,-999.0000,  -999.00,9,    13010,   3.0468
  06MT20030723,   462,  1,     11,2,20030727, 58.8810, -48.3140, 3380,   1823.2,   3.2610,  34.9024,2,-999.0000,9,   -999.0,5,  -999.00,5,  -999.00,5,  -999.00,5,  -999.00,5, -999.000,9, -999.000,9,   -999.0,5,   -999.0,5,-999.0000,  -999.00,9,    13011,   3.1209
  06MT20030723,   462,  1,     12,2,20030727, 58.8810, -48.3140, 3380,   1617.2,   3.3621,  34.9034,2,-999.0000,9,    282.5,2,  -999.00,5,  -999.00,5,  -999.00,5,  -999.00,5,    3.330,3,    1.740,2,   -999.0,5,   -999.0,5,-999.0000,  -999.00,9,    13012,   3.2390
  06MT20030723,   462,  1,     13,2,20030727, 58.8810, -48.3140, 3380,   1423.1,   3.3994,  34.8676,2,-999.0000,9,   -999.0,5,  -999.00,5,  -999.00,5,  -999.00,5,  -999.00,5,    3.738,3,    1.973,2,   -999.0,5,   -999.0,5,-999.0000,  -999.00,9,    13013,   3.2929
  06MT20030723,   462,  1,     14,2,20030727, 58.8810, -48.3140, 3380,   1212.7,   3.2292,  34.8333,2,  34.8340,2,   -999.0,5,  -999.00,5,  -999.00,5,  -999.00,5,  -999.00,5,    4.591,3,    2.504,2,   -999.0,5,   -999.0,5,-999.0000,  -999.00,9,    13014,   3.1420
  06MT20030723,   462,  1,     15,2,20030727, 58.8810, -48.3140, 3380,   1109.4,   3.2175,  34.8301,2,-999.0000,9,   -999.0,5,  -999.00,5,  -999.00,5,  -999.00,5,  -999.00,5, -999.000,9, -999.000,9,   -999.0,5,   -999.0,5,-999.0000,  -999.00,9,    13015,   3.1387
  06MT20030723,   462,  1,     16,2,20030727, 58.8810, -48.3140, 3380,   1008.1,   3.2119,  34.8280,2,-999.0000,9,    302.5,2,  -999.00,5,  -999.00,5,  -999.00,5,  -999.00,5,    4.655,3,    2.540,2,   -999.0,5,   -999.0,5,-999.0000,  -999.00,9,    13016,   3.1412
  06MT20030723,   462,  1,     17,2,20030727, 58.8810, -48.3140, 3380,    809.4,   3.2434,  34.8304,2,-999.0000,9,   -999.0,5,  -999.00,5,  -999.00,5,  -999.00,5,  -999.00,5,    4.659,3,    2.562,2,   -999.0,5,   -999.0,5,-999.0000,  -999.00,9,    13017,   3.1876
  06MT20030723,   462,  1,     18,2,20030727, 58.8810, -48.3140, 3380,    716.6,   3.2969,  34.8333,2,-999.0000,9,   -999.0,5,  -999.00,5,  -999.00,5,  -999.00,5,  -999.00,5,    4.603,3,    2.518,2,   -999.0,5,   -999.0,5,-999.0000,  -999.00,9,    13018,   3.2478
  06MT20030723,   462,  1,     19,2,20030727, 58.8810, -48.3140, 3380,    628.6,   3.4378,  34.8448,2,-999.0000,9,   -999.0,5,  -999.00,5,  -999.00,5,  -999.00,5,  -999.00,5,    4.544,3,    2.486,2,   -999.0,5,   -999.0,5,-999.0000,  -999.00,9,    13019,   3.3944
  06MT20030723,   462,  1,     20,2,20030727, 58.8810, -48.3140, 3380,    414.7,   3.9360,  34.8731,2,-999.0000,9,   -999.0,5,  -999.00,5,  -999.00,5,  -999.00,5,  -999.00,5,    4.155,3,    2.266,2,   -999.0,5,   -999.0,5,-999.0000,  -999.00,9,    13020,   3.9064
  06MT20030723,   462,  1,     21,2,20030727, 58.8810, -48.3140, 3380,    231.1,   4.5813,  34.9089,2,-999.0000,9,   -999.0,5,  -999.00,5,  -999.00,5,  -999.00,5,  -999.00,5, -999.000,9, -999.000,9,   -999.0,5,   -999.0,5,-999.0000,  -999.00,9,    13021,   4.5639
  06MT20030723,   462,  1,     22,2,20030727, 58.8810, -48.3140, 3380,     11.0,   8.6065,  34.5939,2,  34.6034,2,    309.4,2,  -999.00,5,  -999.00,5,  -999.00,5,  -999.00,5,    4.193,3,    2.361,2,   -999.0,5,   -999.0,5,-999.0000,  -999.00,9,    13022,   8.6054
  06MT20030723,   463,  1,      1,2,20030727, 58.8680, -49.3370, 3488,   3494.8,   1.4879,  34.8851,2,-999.0000,9,    298.4,2,     9.03,2,    13.83,2,     0.03,2,     0.93,2, -999.000,9, -999.000,9,   2161.4,2,   2299.4,2,   7.7098,    25.00,2,    14001,   1.2214
  06MT20030723,   463,  1,      2,2,20030727, 58.8680, -49.3370, 3488,   3494.6,   1.4877,  34.8849,2,-999.0000,9,    298.4,2,     9.05,2,    13.81,2,     0.03,2,     0.93,2, -999.000,9, -999.000,9,   -999.0,5,   -999.0,5,-999.0000,  -999.00,9,    14002,   1.2212
  06MT20030723,   463,  1,      3,2,20030727, 58.8680, -49.3370, 3488,   3353.5,   1.7815,  34.8803,2,-999.0000,9,    296.6,2,     9.77,2,    14.17,2,     0.01,2,     0.95,2, -999.000,9, -999.000,9,   2157.7,2,   2305.2,2,   7.7138,    25.00,2,    14003,   1.5222
  06MT20030723,   463,  1,      4,2,20030727, 58.8680, -49.3370, 3488,   3144.7,   2.3151,  34.8939,2,-999.0000,9,    287.9,2,    12.06,2,    15.13,2,     0.01,2,     1.01,2, -999.000,9, -999.000,9,   2160.8,2,   2317.9,4,   7.7187,    25.00,2,    14004,   2.0646
  06MT20030723,   463,  1,      5,2,20030727, 58.8680, -49.3370, 3488,   2987.8,   2.5495,  34.9024,2,  34.9030,2,    284.6,2,    12.47,2,    15.57,2,     0.01,2,     1.03,2, -999.000,9, -999.000,9,   2162.5,2,   -999.0,5,   7.7206,    25.00,2,    14005,   2.3099
  06MT20030723,   463,  1,      6,2,20030727, 58.8680, -49.3370, 3488,   2743.5,   2.7985,  34.9049,2,-999.0000,9,    283.5,2,    11.52,2,    15.63,2,     0.00,2,     1.05,2, -999.000,9, -999.000,9,   2162.2,2,   2310.0,4,   7.7197,    25.00,2,    14006,   2.5784
  06MT20030723,   463,  1,      7,2,20030727, 58.8680, -49.3370, 3488,   2501.3,   2.9580,  34.9009,2,-999.0000,9,    283.4,2,    11.14,2,    15.91,2,     0.00,2,     1.06,2, -999.000,9, -999.000,9,   2159.0,2,   2300.2,2,   7.7187,    25.00,2,    14007,   2.7588
  06MT20030723,   463,  1,      8,2,20030727, 58.8680, -49.3370, 3488,   2146.5,   3.0929,  34.8856,2,-999.0000,9,    286.5,2,    10.27,2,    16.28,2,     0.00,2,     1.06,2, -999.000,9, -999.000,9,   2161.4,2,   2312.1,4,   7.7177,    25.00,2,    14008,   2.9255
  06MT20030723,   463,  1,      9,2,20030727, 58.8680, -49.3370, 3488,   1889.6,   3.1805,  34.8752,2,-999.0000,9,    287.5,2,    10.35,2,    16.23,2,     0.00,2,     1.06,2, -999.000,9, -999.000,9,   2159.3,2,   2304.1,2,   7.7147,    25.00,2,    14009,   3.0355
  06MT20030723,   463,  1,     10,2,20030727, 58.8680, -49.3370, 3488,   1673.6,   3.3090,  34.8836,2,  34.8820,2,    284.5,2,    10.06,2,    16.65,2,     0.00,2,     1.09,2,    3.381,3,    1.759,2,   2160.0,2,   2297.5,2,   7.7128,    25.00,2,    14010,   3.1817
  06MT20030723,   463,  1,     11,2,20030727, 58.8680, -49.3370, 3488,   1671.5,   3.3115,  34.8831,2,-999.0000,9,    285.1,2,    10.05,2,    16.45,2,     0.00,2,     1.08,2, -999.000,9, -999.000,9,   2156.2,2,   2305.9,4,   7.7128,    25.00,2,    14011,   3.1843
  06MT20030723,   463,  1,     12,2,20030727, 58.8680, -49.3370, 3488,   1508.4,   3.4232,  34.8868,2,-999.0000,9,    282.7,2,     9.97,2,    16.38,2,     0.00,2,     1.08,2, -999.000,9, -999.000,9,   2157.4,2,   2305.0,4,   7.7167,    25.00,2,    14012,   3.3090
  06MT20030723,   463,  1,     13,2,20030727, 58.8680, -49.3370, 3488,   1342.6,   3.3680,  34.8639,2,-999.0000,9,    291.1,2,     9.01,2,    16.05,2,     0.00,2,     1.06,2, -999.000,9, -999.000,9,   2160.1,2,   2305.6,4,   7.7128,    25.00,2,    14013,   3.2686
  06MT20030723,   463,  1,     14,2,20030727, 58.8680, -49.3370, 3488,   1105.9,   3.3156,  34.8480,2,-999.0000,9,    298.3,2,     8.46,2,    15.69,2,     0.00,2,     1.05,2, -999.000,9, -999.000,9,   2155.7,2,   2297.9,2,   7.7157,    25.00,2,    14014,   3.2362
  06MT20030723,   463,  1,     15,2,20030727, 58.8680, -49.3370, 3488,   1008.3,   3.2475,  34.8353,2,-999.0000,9,    300.7,2,     8.31,2,    15.74,2,     0.00,2,     1.04,2,    4.456,3,    2.437,2,   2158.5,2,   2308.6,4,   7.7128,    25.00,2,    14015,   3.1764
  06MT20030723,   463,  1,     16,2,20030727, 58.8680, -49.3370, 3488,    902.0,   3.2661,  34.8360,2,-999.0000,9,    299.7,2,     8.33,2,    15.73,2,     0.01,2,     1.03,2, -999.000,9, -999.000,9,   2159.7,2,   2297.2,2,   7.7128,    25.00,2,    14016,   3.2031
  06MT20030723,   463,  1,     17,2,20030727, 58.8680, -49.3370, 3488,    715.2,   3.3364,  34.8422,2,-999.0000,9,    300.0,2,     8.21,2,    15.80,2,     0.00,2,     1.03,2, -999.000,9, -999.000,9,   2159.0,2,   2297.1,2,   7.7138,    25.00,2,    14017,   3.2871
  06MT20030723,   463,  1,     18,2,20030727, 58.8680, -49.3370, 3488,    516.6,   3.5150,  34.8571,2,-999.0000,9,    294.5,2,     8.25,2,    15.57,2,     0.01,2,     1.01,2, -999.000,9, -999.000,9,   2159.5,2,   2297.4,2,   7.7138,    25.00,2,    14018,   3.4795
  06MT20030723,   463,  1,     19,2,20030727, 58.8680, -49.3370, 3488,    277.5,   3.7279,  34.8540,2,-999.0000,9,    296.5,2,     7.79,2,    15.84,2,     0.01,2,     1.01,2, -999.000,9, -999.000,9,   2158.5,2,   2306.6,2,   7.7138,    25.00,2,    14019,   3.7089
  06MT20030723,   463,  1,     20,2,20030727, 58.8680, -49.3370, 3488,    103.6,   4.4937,  34.8158,2,-999.0000,9,    298.4,2,     6.47,2,    12.11,2,     0.42,2,     0.86,2, -999.000,9, -999.000,9,   2151.8,2,   2309.6,2,   7.7483,    25.00,2,    14020,   4.4861
  06MT20030723,   463,  1,     21,2,20030727, 58.8680, -49.3370, 3488,     85.8,   4.7472,  34.7858,2,-999.0000,9,    302.9,2,     5.02,2,     7.91,2,     0.29,2,     0.73,2, -999.000,9, -999.000,9,   2134.5,2,   2311.2,2,   7.7878,    25.00,2,    14021,   4.7408
  06MT20030723,   463,  1,     22,2,20030727, 58.8680, -49.3370, 3488,     13.5,   9.6206,  34.6340,2,-999.0000,9,    306.0,2,     0.40,2,     0.00,2,     0.04,2,     0.16,2,    3.912,3,    2.392,2,   2050.6,2,   2300.5,2,   7.9382,    25.00,2,    14022,   9.6191