BOTTLE,20090513PRINUNIVRMK
EXPOCODE,STNNBR,CASTNO,BTLNBR,BTLNBR_FLAG_W,DATE,LATITUDE,LONGITUDE,DEPTH,CTDPRS,CTDTMP,CTDSAL,CTDSAL_FLAG_W,SALNTY,SALNTY_FLAG_W,OXYGEN,OXYGEN_FLAG_W,SILCAT,SILCAT_FLAG_W,NITRAT,NITRAT_FLAG_W,NITRIT,NITRIT_FLAG_W,PHSPHT,PHSPHT_FLAG_W,CFC-11,CFC-11_FLAG_W,CFC-12,CFC-12_FLAG_W,TCARBN,TCARBN_FLAG_W,ALKALI,ALKALI_FLAG_W,PH_SWS,PH_TEMP,PH_SWS_FLAG_W,ID,THETA
,,,,,,,,METERS,DBARS,ITS-90,PSS-78,,PSS-78,,UMOL/KG,,UMOL/KG,,UMOL/KG,,UMOL/KG,,UMOL/KG,,PMOL/KG,,PMOL/KG,,UMOL/KG,,UMOL/KG,,,DEGC,,,DEGC
  06MT20030723,   566,  1,      1,2,20030822, 46.6840, -36.1180, 4155,   4200.7,   2.0970,  34.8832,2,  34.8864,2,    288.4,2,    16.31,2,    15.83,2,     0.00,2,     0.97,2, -999.000,9, -999.000,9,   2147.9,4,   2303.3,4,   7.7354,    25.00,2,   119001,   1.7371
  06MT20030723,   566,  1,      2,2,20030822, 46.6840, -36.1180, 4155,   4199.5,   2.0970,  34.8835,2,-999.0000,9,    287.3,2,    15.48,2,    15.83,2,     0.00,2,     0.98,2,    2.716,3,    1.334,2,   -999.0,5,   -999.0,5,   8.0265,    25.00,3,   119002,   1.7373
  06MT20030723,   566,  1,      3,2,20030822, 46.6840, -36.1180, 4155,   4173.1,   2.0959,  34.8837,2,-999.0000,9,    287.8,2,    16.18,2,    15.94,2,     0.01,2,     1.00,2,    2.674,3,    1.324,2,   2161.3,2,   2308.1,4,   7.7325,    25.00,2,   119003,   1.7393
  06MT20030723,   566,  1,      4,2,20030822, 46.6840, -36.1180, 4155,   4070.1,   2.1417,  34.8861,2,-999.0000,9,    287.1,2,    17.42,2,    16.33,2,     0.01,2,     1.00,2,    2.369,3,    1.172,2,   2162.9,2,   2303.3,4,   7.7364,    25.00,2,   119004,   1.7955
  06MT20030723,   566,  1,      5,2,20030822, 46.6840, -36.1180, 4155,   3759.3,   2.2480,  34.8923,2,-999.0000,9,    279.3,2,    20.32,2,    16.97,2,     0.00,2,     1.02,2,    1.763,3,    0.880,2,   2162.1,2,   2304.0,4,   7.7404,    25.00,2,   119005,   1.9337
  06MT20030723,   566,  1,      6,2,20030822, 46.6840, -36.1180, 4155,   3360.8,   2.4944,  34.9047,2,  34.9073,2,    280.5,2,    17.51,2,    16.84,2,     0.00,2,     1.02,2,    1.698,3,    0.836,2,   2161.4,2,   2300.8,4,   7.7384,    25.00,2,   119006,   2.2171
  06MT20030723,   566,  1,      7,2,20030822, 46.6840, -36.1180, 4155,   3046.7,   2.7365,  34.9111,2,-999.0000,9,    279.4,2,    14.82,2,    16.72,2,     0.01,2,     1.00,2,    1.781,3,    0.876,2,   2157.4,2,   2299.9,4,   7.7433,    25.00,2,   119007,   2.4867
  06MT20030723,   566,  1,      8,2,20030822, 46.6840, -36.1180, 4155,   2728.7,   2.9417,  34.9079,2,-999.0000,9,    282.4,2,    12.73,2,    16.66,2,     0.01,2,     1.01,2,    2.194,3,    1.080,2,   2155.5,2,   2299.7,4,   7.7404,    25.00,2,   119008,   2.7202
  06MT20030723,   566,  1,      9,2,20030822, 46.6840, -36.1180, 4155,   2402.6,   3.1076,  34.8989,2,-999.0000,9,    280.7,2,    12.15,2,    16.39,2,     0.01,2,     1.00,2,    2.311,3,    1.133,2,   2155.9,2,   2295.5,4,   7.7384,    25.00,2,   119009,   2.9154
  06MT20030723,   566,  1,     10,2,20030822, 46.6840, -36.1180, 4155,   2118.7,   3.1948,  34.8887,2,-999.0000,9,    285.7,2,    10.94,2,    16.93,2,     0.01,2,     1.00,2,    2.885,3,    1.391,2,   2151.9,2,   2296.4,4,   7.7364,    25.00,2,   119010,   3.0284
  06MT20030723,   566,  1,     11,2,20030822, 46.6840, -36.1180, 4155,   1917.4,   3.3040,  34.8898,2,-999.0000,9,    282.9,2,    10.94,2,    17.18,2,     0.00,2,     1.00,2,    2.904,3,    1.419,2,   2154.2,2,   2296.6,4,   7.7345,    25.00,2,   119011,   3.1547
  06MT20030723,   566,  1,     12,2,20030822, 46.6840, -36.1180, 4155,   1638.5,   3.4829,  34.8984,2,  34.9055,2,    279.5,2,    10.67,2,    17.28,2,     0.00,2,     0.99,2,    2.952,3,    1.450,2,   2157.6,2,   2293.3,4,   7.7305,    25.00,2,   119012,   3.3565
  06MT20030723,   566,  1,     13,2,20030822, 46.6840, -36.1180, 4155,   1387.4,   3.6795,  34.9045,2,-999.0000,9,    277.7,2,    10.23,2,    16.94,2,     0.01,2,     1.01,2,    3.196,3,    1.605,2,   2158.4,2,   2293.3,4,   7.7295,    25.00,2,   119013,   3.5730
  06MT20030723,   566,  1,     14,2,20030822, 46.6840, -36.1180, 4155,   1208.9,   3.8172,  34.9082,2,-999.0000,9,    276.1,2,     9.79,2,    17.12,2,     0.00,2,     1.01,2,    3.449,3,    1.747,2,   -999.0,5,   2297.1,4,   7.7266,    25.00,2,   119014,   3.7247
  06MT20030723,   566,  1,     15,2,20030822, 46.6840, -36.1180, 4155,   1109.7,   3.9247,  34.9134,2,-999.0000,9,    274.4,2,     9.63,2,    16.72,2,     0.02,2,     1.02,2,    3.508,3,    1.787,2,   2159.1,2,   2300.2,4,   7.7206,    25.00,2,   119015,   3.8397
  06MT20030723,   566,  1,     16,2,20030822, 46.6840, -36.1180, 4155,    980.9,   4.1373,  34.9248,2,-999.0000,9,    269.6,2,     9.91,2,    17.51,2,     0.00,2,     1.03,2,    3.364,3,    1.725,2,   2161.2,2,   2297.5,4,   7.7246,    25.00,2,   119016,   4.0615
  06MT20030723,   566,  1,     17,2,20030822, 46.6840, -36.1180, 4155,    894.8,   4.3692,  34.9399,2,-999.0000,9,    262.8,2,     9.91,2,    17.35,2,     0.00,2,     1.05,2,    3.313,3,    1.707,2,   2162.2,2,   2299.0,4,   7.7226,    25.00,2,   119017,   4.2990
  06MT20030723,   566,  1,     18,2,20030822, 46.6840, -36.1180, 4155,    724.6,   5.1584,  35.0001,2,-999.0000,9,    240.4,2,    10.40,2,    18.56,2,     0.00,2,     1.12,2,    2.805,3,    1.442,2,   2166.4,2,   2299.1,4,   7.7147,    25.00,2,   119018,   5.0980
  06MT20030723,   566,  1,     19,2,20030822, 46.6840, -36.1180, 4155,    559.7,   5.9118,  34.9603,2,  34.9553,2,    221.8,2,    10.41,2,    18.54,2,     0.02,2,     1.14,2,    2.638,3,    1.360,2,   2169.6,2,   2301.0,4,   7.7059,    25.00,2,   119019,   5.8626
  06MT20030723,   566,  1,     20,2,20030822, 46.6840, -36.1180, 4155,    202.3,  10.5193,  35.3694,2,-999.0000,9,    233.1,2,     5.19,2,    13.35,2,     0.01,2,     0.69,2,    3.009,3,    1.653,2,   2137.7,2,   2319.5,4,   7.8173,    25.00,2,   119020,  10.4949
  06MT20030723,   566,  1,     21,2,20030822, 46.6840, -36.1180, 4155,    111.7,  11.6613,  35.5039,2,-999.0000,9,    231.4,2,     3.61,2,    11.14,2,     0.02,2,     0.57,2,    3.024,3,    1.677,2,   2140.8,2,   2326.2,4,   7.8430,    25.00,2,   119021,  11.6470
  06MT20030723,   566,  1,     22,2,20030822, 46.6840, -36.1180, 4155,     21.6,  18.8175,  35.5300,2,-999.0000,9,    235.3,2,     0.12,2,     0.00,2,     0.01,2,     0.03,2,    2.522,3,    1.479,2,   2041.8,2,   2330.4,4,   8.0245,    25.00,2,   119022,  18.8137
  06MT20030723,   567,  1,      1,2,20030823, 46.7420, -37.0990, 4590,   4638.7,   2.1693,  34.8845,2,  34.8864,2,   -999.0,5,  -999.00,5,  -999.00,5,  -999.00,5,  -999.00,5, -999.000,9, -999.000,9,   -999.0,5,   -999.0,5,-999.0000,  -999.00,9,   120001,   1.7555
  06MT20030723,   567,  1,      2,2,20030823, 46.7420, -37.0990, 4590,   4639.3,   2.1691,  34.8846,2,-999.0000,9,    287.0,2,  -999.00,5,  -999.00,5,  -999.00,5,  -999.00,5,    2.574,3,    1.328,2,   -999.0,5,   -999.0,5,-999.0000,  -999.00,9,   120002,   1.7552
  06MT20030723,   567,  1,      3,2,20030823, 46.7420, -37.0990, 4590,   4482.5,   2.1899,  34.8861,2,-999.0000,9,   -999.0,5,  -999.00,5,  -999.00,5,  -999.00,5,  -999.00,5,    2.359,3,    1.245,2,   -999.0,5,   -999.0,5,-999.0000,  -999.00,9,   120003,   1.7942
  06MT20030723,   567,  1,      4,2,20030823, 46.7420, -37.0990, 4590,   4157.7,   2.2510,  34.8903,2,-999.0000,9,   -999.0,5,  -999.00,5,  -999.00,5,  -999.00,5,  -999.00,5,    1.924,3,    0.987,2,   -999.0,5,   -999.0,5,-999.0000,  -999.00,9,   120004,   1.8916
  06MT20030723,   567,  1,      5,2,20030823, 46.7420, -37.0990, 4590,   3767.3,   2.4068,  34.8991,2,  34.9006,2,   -999.0,5,  -999.00,5,  -999.00,5,  -999.00,5,  -999.00,5,    1.638,3,    0.829,2,   -999.0,5,   -999.0,5,-999.0000,  -999.00,9,   120005,   2.0874
  06MT20030723,   567,  1,      6,2,20030823, 46.7420, -37.0990, 4590,   3346.3,   2.7118,  34.9096,2,-999.0000,9,   -999.0,5,  -999.00,5,  -999.00,5,  -999.00,5,  -999.00,5,    1.772,3,    0.909,2,   -999.0,5,   -999.0,5,-999.0000,  -999.00,9,   120006,   2.4308
  06MT20030723,   567,  1,      7,2,20030823, 46.7420, -37.0990, 4590,   2926.8,   2.9735,  34.9076,2,-999.0000,9,   -999.0,5,  -999.00,5,  -999.00,5,  -999.00,5,  -999.00,5,    2.103,3,    1.077,2,   -999.0,5,   -999.0,5,-999.0000,  -999.00,9,   120007,   2.7311
  06MT20030723,   567,  1,      8,2,20030823, 46.7420, -37.0990, 4590,   2624.2,   3.1109,  34.8984,2,-999.0000,9,   -999.0,5,  -999.00,5,  -999.00,5,  -999.00,5,  -999.00,5,    2.463,3,    1.252,2,   -999.0,5,   -999.0,5,-999.0000,  -999.00,9,   120008,   2.8967
  06MT20030723,   567,  1,      9,2,20030823, 46.7420, -37.0990, 4590,   2324.7,   3.2229,  34.8906,2,-999.0000,9,    283.7,2,  -999.00,5,  -999.00,5,  -999.00,5,  -999.00,5,    2.766,3,    1.399,2,   -999.0,5,   -999.0,5,-999.0000,  -999.00,9,   120009,   3.0363
  06MT20030723,   567,  1,     10,2,20030823, 46.7420, -37.0990, 4590,   2016.2,   3.4039,  34.8970,2,  34.8906,2,   -999.0,5,  -999.00,5,  -999.00,5,  -999.00,5,  -999.00,5,    2.782,3,    1.422,2,   -999.0,5,   -999.0,5,-999.0000,  -999.00,9,   120010,   3.2439
  06MT20030723,   567,  1,     11,2,20030823, 46.7420, -37.0990, 4590,   1944.9,   3.4393,  34.8989,2,-999.0000,9,   -999.0,5,  -999.00,5,  -999.00,5,  -999.00,5,  -999.00,5,    3.000,3,    1.540,2,   -999.0,5,   -999.0,5,-999.0000,  -999.00,9,   120011,   3.2855
  06MT20030723,   567,  1,     12,2,20030823, 46.7420, -37.0990, 4590,   1709.7,   3.6163,  34.9023,2,-999.0000,9,   -999.0,5,  -999.00,5,  -999.00,5,  -999.00,5,  -999.00,5,    3.004,3,    1.552,2,   -999.0,5,   -999.0,5,-999.0000,  -999.00,9,   120012,   3.4818
  06MT20030723,   567,  1,     13,2,20030823, 46.7420, -37.0990, 4590,   1460.3,   3.7045,  34.8952,2,-999.0000,9,    280.6,2,  -999.00,5,  -999.00,5,  -999.00,5,  -999.00,5,    3.428,3,    1.806,2,   -999.0,5,   -999.0,5,-999.0000,  -999.00,9,   120013,   3.5913
  06MT20030723,   567,  1,     14,2,20030823, 46.7420, -37.0990, 4590,   1177.8,   3.9405,  34.8998,2,-999.0000,9,   -999.0,5,  -999.00,5,  -999.00,5,  -999.00,5,  -999.00,5,    3.524,3,    1.878,2,   -999.0,5,   -999.0,5,-999.0000,  -999.00,9,   120014,   3.8496
  06MT20030723,   567,  1,     15,2,20030823, 46.7420, -37.0990, 4590,   1080.2,   4.0200,  34.8940,2,-999.0000,9,   -999.0,5,  -999.00,5,  -999.00,5,  -999.00,5,  -999.00,5,    3.597,3,    1.934,2,   -999.0,5,   -999.0,5,-999.0000,  -999.00,9,   120015,   3.9367
  06MT20030723,   567,  1,     16,2,20030823, 46.7420, -37.0990, 4590,    993.1,   4.2364,  34.9044,2,-999.0000,9,   -999.0,5,  -999.00,5,  -999.00,5,  -999.00,5,  -999.00,5,    3.500,3,    1.884,2,   -999.0,5,   -999.0,5,-999.0000,  -999.00,9,   120016,   4.1588
  06MT20030723,   567,  1,     17,2,20030823, 46.7420, -37.0990, 4590,    894.6,   4.4695,  34.9119,2,-999.0000,9,   -999.0,5,  -999.00,5,  -999.00,5,  -999.00,5,  -999.00,5,    3.395,3,    1.823,2,   -999.0,5,   -999.0,5,-999.0000,  -999.00,9,   120017,   4.3987
  06MT20030723,   567,  1,     18,2,20030823, 46.7420, -37.0990, 4590,    800.4,   5.0813,  34.9279,2,-999.0000,9,   -999.0,5,  -999.00,5,  -999.00,5,  -999.00,5,  -999.00,5,    2.968,3,    1.596,2,   -999.0,5,   -999.0,5,-999.0000,  -999.00,9,   120018,   5.0147
  06MT20030723,   567,  1,     19,2,20030823, 46.7420, -37.0990, 4590,    690.7,   6.2192,  34.9396,2,-999.0000,9,    223.8,2,  -999.00,5,  -999.00,5,  -999.00,5,  -999.00,5,    2.694,3,    1.453,2,   -999.0,5,   -999.0,5,-999.0000,  -999.00,9,   120019,   6.1563
  06MT20030723,   567,  1,     20,2,20030823, 46.7420, -37.0990, 4590,    287.4,  12.2739,  35.6654,2,-999.0000,9,   -999.0,5,  -999.00,5,  -999.00,5,  -999.00,5,  -999.00,5,    2.857,3,    1.661,2,   -999.0,5,   -999.0,5,-999.0000,  -999.00,9,   120020,  12.2354
  06MT20030723,   567,  1,     21,2,20030823, 46.7420, -37.0990, 4590,    128.0,  14.5970,  35.9645,2,  35.9249,0,   -999.0,5,  -999.00,5,  -999.00,5,  -999.00,5,  -999.00,5,    2.632,3,    1.523,2,   -999.0,5,   -999.0,5,-999.0000,  -999.00,9,   120021,  14.5779
  06MT20030723,   567,  1,     22,2,20030823, 46.7420, -37.0990, 4590,     17.4,  18.0051,  35.5840,2,-999.0000,9,    244.9,2,  -999.00,5,  -999.00,5,  -999.00,5,  -999.00,5,    2.616,3,    1.541,2,   -999.0,5,   -999.0,5,-999.0000,  -999.00,9,   120022,  18.0021
  06MT20030723,   568,  1,      1,2,20030823, 46.8070, -38.0810, 4563,   4552.7,   2.1713,  34.8850,2,  34.8874,2,    285.9,2,    16.28,2,    16.01,2,     0.01,2,     1.03,2, -999.000,9, -999.000,9,   2161.0,2,   2308.4,2,   7.7354,    25.00,2,   121001,   1.7678
  06MT20030723,   568,  1,      2,2,20030823, 46.8070, -38.0810, 4563,   4553.2,   2.1713,  34.8847,2,-999.0000,9,    285.8,2,    16.31,2,    15.96,2,     0.01,2,     1.04,2,    2.510,3,    1.274,2,   -999.0,5,   -999.0,5,-999.0000,  -999.00,9,   121002,   1.7677
  06MT20030723,   568,  1,      3,2,20030823, 46.8070, -38.0810, 4563,   4481.4,   2.1800,  34.8857,2,-999.0000,9,    285.1,2,    16.70,2,    15.93,2,     0.01,2,     1.05,2,    2.454,3,    1.252,2,   2161.5,2,   2308.3,2,   7.7374,    25.00,2,   121003,   1.7848
  06MT20030723,   568,  1,      4,2,20030823, 46.8070, -38.0810, 4563,   4272.7,   2.2776,  34.8911,2,-999.0000,9,    281.4,2,    18.09,2,    16.60,2,     0.00,2,     1.06,2,    1.969,3,    1.000,2,   2163.0,2,   2309.9,2,   7.7384,    25.00,2,   121004,   1.9041
  06MT20030723,   568,  1,      5,2,20030823, 46.8070, -38.0810, 4563,   3862.4,   2.4021,  34.8977,2,-999.0000,9,    279.5,2,    17.54,2,    16.83,2,     0.00,2,     1.08,2,    1.749,3,    0.875,2,   2162.9,2,   2309.8,2,   7.7394,    25.00,2,   121005,   2.0722
  06MT20030723,   568,  1,      6,2,20030823, 46.8070, -38.0810, 4563,   3464.2,   2.6457,  34.9082,2,-999.0000,9,   -999.0,5,  -999.00,5,  -999.00,5,  -999.00,5,  -999.00,5, -999.000,9, -999.000,9,   -999.0,5,   -999.0,5,-999.0000,  -999.00,9,   121006,   2.3535
  06MT20030723,   568,  1,      7,2,20030823, 46.8070, -38.0810, 4563,   3051.5,   2.8726,  34.9107,2,-999.0000,9,    279.1,2,    13.44,2,    16.53,2,     0.00,2,     1.05,2,    1.860,3,    0.937,2,   2157.8,2,   2304.0,2,   7.7384,    25.00,2,   121007,   2.6193
  06MT20030723,   568,  1,      8,2,20030823, 46.8070, -38.0810, 4563,   2627.4,   3.0801,  34.9012,2,  34.9079,2,    281.3,2,    11.47,2,    16.55,2,     0.00,2,     1.04,2,    2.358,3,    1.179,2,   2156.2,2,   2301.8,2,   7.7374,    25.00,2,   121008,   2.8661
  06MT20030723,   568,  1,      9,2,20030823, 46.8070, -38.0810, 4563,   2422.6,   3.1472,  34.8944,2,-999.0000,9,    282.7,2,    10.85,2,    16.78,2,     0.00,2,     1.04,2,    2.630,3,    1.317,2,   2156.5,2,   2302.0,2,   7.7364,    25.00,2,   121009,   2.9524
  06MT20030723,   568,  1,     10,2,20030823, 46.8070, -38.0810, 4563,   2125.8,   3.2791,  34.8907,2,-999.0000,9,    282.7,2,    10.23,2,    17.03,2,     0.00,2,     1.08,2,    2.914,3,    1.461,2,   2155.4,2,   2298.2,2,   7.7335,    25.00,2,   121010,   3.1107
  06MT20030723,   568,  1,     11,2,20030823, 46.8070, -38.0810, 4563,   1848.1,   3.4266,  34.8939,2,-999.0000,9,    280.9,2,    10.20,2,    17.01,2,     0.00,2,     1.07,2,    2.956,3,    1.484,2,   2157.0,2,   2299.1,2,   7.7325,    25.00,2,   121011,   3.2819
  06MT20030723,   568,  1,     12,2,20030823, 46.8070, -38.0810, 4563,   1603.5,   3.5759,  34.8952,2,-999.0000,9,    279.3,2,     9.59,2,    16.91,2,     0.00,2,     1.07,2,    3.181,3,    1.621,2,   2157.3,2,   2300.8,2,   7.7295,    25.00,2,   121012,   3.4515
  06MT20030723,   568,  1,     13,2,20030823, 46.8070, -38.0810, 4563,   1439.0,   3.7071,  34.9025,2,  34.9059,2,    279.2,2,     9.72,2,    16.99,2,     0.00,2,     1.07,2,    3.383,3,    1.759,2,   2157.9,2,   2302.5,2,   7.7295,    25.00,2,   121013,   3.5958
  06MT20030723,   568,  1,     14,2,20030823, 46.8070, -38.0810, 4563,   1339.8,   3.7833,  34.9058,2,-999.0000,9,    279.5,2,     9.15,2,    17.10,2,     0.00,2,     1.08,2,    3.495,3,    1.818,2,   2157.6,2,   2300.2,2,   7.7256,    25.00,2,   121014,   3.6798
  06MT20030723,   568,  1,     15,2,20030823, 46.8070, -38.0810, 4563,   1239.2,   3.8754,  34.9109,2,-999.0000,9,    276.8,2,     9.07,2,    17.25,2,     0.00,2,     1.09,2,    3.469,3,    1.826,2,   2161.1,2,   2300.9,2,   7.7275,    25.00,2,   121015,   3.7798
  06MT20030723,   568,  1,     16,2,20030823, 46.8070, -38.0810, 4563,   1122.9,   3.9467,  34.9031,2,-999.0000,9,    275.6,2,     8.91,2,    16.98,2,     0.00,2,     1.09,2,    3.556,3,    1.882,2,   2160.1,2,   2299.3,2,   7.7256,    25.00,2,   121016,   3.8604
  06MT20030723,   568,  1,     17,2,20030823, 46.8070, -38.0810, 4563,   1013.9,   4.0645,  34.9042,2,-999.0000,9,    273.4,2,     8.77,2,    17.21,2,     0.00,2,     1.07,2,    3.531,3,    1.884,2,   2160.6,2,   2297.7,2,   7.7246,    25.00,2,   121017,   3.9865
  06MT20030723,   568,  1,     18,2,20030823, 46.8070, -38.0810, 4563,    705.0,   4.9568,  34.8895,2,-999.0000,9,    253.3,2,     8.94,2,    17.90,2,     0.01,2,     1.11,2,    3.285,3,    1.762,2,   2164.5,2,   2302.7,2,   7.7177,    25.00,2,   121018,   4.8994
  06MT20030723,   568,  1,     19,2,20030823, 46.8070, -38.0810, 4563,    395.5,   9.1368,  35.1501,2,-999.0000,9,    211.1,2,     7.61,2,    17.22,2,     0.01,2,     1.05,2,    2.505,3,    1.397,2,   2158.5,2,   2316.3,2,   7.7601,    25.00,2,   121019,   9.0928
  06MT20030723,   568,  1,     20,2,20030823, 46.8070, -38.0810, 4563,    190.0,  12.2056,  35.5430,2,  35.5866,0,    213.7,2,     3.91,2,    12.05,2,     0.01,2,     0.69,2,    2.598,3,    1.489,2,   2137.7,2,   2336.2,2,   7.8440,    25.00,2,   121020,  12.1804
  06MT20030723,   568,  1,     21,2,20030823, 46.8070, -38.0810, 4563,    114.3,  13.5971,  35.6605,2,-999.0000,9,    220.2,2,     2.03,2,     7.91,2,     0.02,2,     0.46,2,    2.794,3,    1.603,2,   2119.7,2,   2343.8,2,   7.8876,    25.00,2,   121021,  13.5808
  06MT20030723,   568,  1,     22,2,20030823, 46.8070, -38.0810, 4563,      9.7,  16.7087,  35.2796,2,-999.0000,9,    249.4,2,     0.16,2,     0.05,2,     0.02,2,     0.05,2,    2.695,3,    1.588,2,   2043.1,2,   2325.2,2,   8.0106,    25.00,2,   121022,  16.7071