BOTTLE,20090513PRINUNIVRMK
EXPOCODE,STNNBR,CASTNO,BTLNBR,BTLNBR_FLAG_W,DATE,LATITUDE,LONGITUDE,DEPTH,CTDPRS,CTDTMP,CTDSAL,CTDSAL_FLAG_W,SALNTY,SALNTY_FLAG_W,OXYGEN,OXYGEN_FLAG_W,SILCAT,SILCAT_FLAG_W,NITRAT,NITRAT_FLAG_W,NITRIT,NITRIT_FLAG_W,PHSPHT,PHSPHT_FLAG_W,CFC-11,CFC-11_FLAG_W,CFC-12,CFC-12_FLAG_W,TCARBN,TCARBN_FLAG_W,ALKALI,ALKALI_FLAG_W,PH_SWS,PH_TEMP,PH_SWS_FLAG_W,ID,THETA
,,,,,,,,METERS,DBARS,ITS-90,PSS-78,,PSS-78,,UMOL/KG,,UMOL/KG,,UMOL/KG,,UMOL/KG,,UMOL/KG,,PMOL/KG,,PMOL/KG,,UMOL/KG,,UMOL/KG,,,DEGC,,,DEGC
  06MT20030723,   557,  1,      1,2,20030820, 46.6670, -28.4680, 2800,   2953.3,   3.0413,  34.9142,2,  34.9161,2,   -999.0,5,  -999.00,5,  -999.00,5,  -999.00,5,  -999.00,5, -999.000,9, -999.000,9,   -999.0,5,   -999.0,5,-999.0000,  -999.00,9,   110001,   2.7946
  06MT20030723,   557,  1,      2,2,20030820, 46.6670, -28.4680, 2800,   2953.3,   3.0389,  34.9139,2,-999.0000,9,    274.4,2,  -999.00,5,  -999.00,5,  -999.00,5,  -999.00,5,    1.868,3,    0.925,2,   -999.0,5,   -999.0,5,-999.0000,  -999.00,9,   110002,   2.7923
  06MT20030723,   557,  1,      3,2,20030820, 46.6670, -28.4680, 2800,   2837.4,   3.1449,  34.9134,2,-999.0000,9,    275.1,2,  -999.00,5,  -999.00,5,  -999.00,5,  -999.00,5,    1.955,3,    0.965,2,   -999.0,5,   -999.0,5,-999.0000,  -999.00,9,   110003,   2.9081
  06MT20030723,   557,  1,      4,2,20030820, 46.6670, -28.4680, 2800,   2739.6,   3.1924,  34.9117,2,  34.9116,2,   -999.0,5,  -999.00,5,  -999.00,5,  -999.00,5,  -999.00,5,    2.045,3,    1.016,2,   -999.0,5,   -999.0,5,-999.0000,  -999.00,9,   110004,   2.9648
  06MT20030723,   557,  1,      5,2,20030820, 46.6670, -28.4680, 2800,   2529.9,   3.2637,  34.9087,2,-999.0000,9,   -999.0,5,  -999.00,5,  -999.00,5,  -999.00,5,  -999.00,5,    2.198,3,    1.083,2,   -999.0,5,   -999.0,5,-999.0000,  -999.00,9,   110005,   3.0560
  06MT20030723,   557,  1,      6,2,20030820, 46.6670, -28.4680, 2800,   2430.3,   3.3087,  34.9065,2,-999.0000,9,   -999.0,5,  -999.00,5,  -999.00,5,  -999.00,5,  -999.00,5, -999.000,9, -999.000,9,   -999.0,5,   -999.0,5,-999.0000,  -999.00,9,   110006,   3.1102
  06MT20030723,   557,  1,      7,2,20030820, 46.6670, -28.4680, 2800,   2328.3,   3.3434,  34.9052,2,-999.0000,9,   -999.0,5,  -999.00,5,  -999.00,5,  -999.00,5,  -999.00,5,    2.312,3,    1.130,2,   -999.0,5,   -999.0,5,-999.0000,  -999.00,9,   110007,   3.1543
  06MT20030723,   557,  1,      8,2,20030820, 46.6670, -28.4680, 2800,   2124.3,   3.4713,  34.9080,2,-999.0000,9,   -999.0,5,  -999.00,5,  -999.00,5,  -999.00,5,  -999.00,5,    2.433,3,    1.205,2,   -999.0,5,   -999.0,5,-999.0000,  -999.00,9,   110008,   3.2999
  06MT20030723,   557,  1,      9,2,20030820, 46.6670, -28.4680, 2800,   1921.6,   3.6658,  34.9178,2,  34.9157,2,    274.4,2,  -999.00,5,  -999.00,5,  -999.00,5,  -999.00,5,    2.514,3,    1.255,2,   -999.0,5,   -999.0,5,-999.0000,  -999.00,9,   110009,   3.5108
  06MT20030723,   557,  1,     10,2,20030820, 46.6670, -28.4680, 2800,   1918.9,   3.6681,  34.9174,2,-999.0000,9,   -999.0,5,  -999.00,5,  -999.00,5,  -999.00,5,  -999.00,5, -999.000,9, -999.000,9,   -999.0,5,   -999.0,5,-999.0000,  -999.00,9,   110010,   3.5134
  06MT20030723,   557,  1,     11,2,20030820, 46.6670, -28.4680, 2800,   1716.9,   3.9004,  34.9310,2,-999.0000,9,   -999.0,5,  -999.00,5,  -999.00,5,  -999.00,5,  -999.00,5,    2.655,3,    1.330,2,   -999.0,5,   -999.0,5,-999.0000,  -999.00,9,   110011,   3.7615
  06MT20030723,   557,  1,     12,2,20030820, 46.6670, -28.4680, 2800,   1509.2,   4.1984,  34.9403,2,-999.0000,9,   -999.0,5,  -999.00,5,  -999.00,5,  -999.00,5,  -999.00,5,    2.896,3,    1.452,2,   -999.0,5,   -999.0,5,-999.0000,  -999.00,9,   110012,   4.0752
  06MT20030723,   557,  1,     13,2,20030820, 46.6670, -28.4680, 2800,   1293.6,   4.8770,  34.9902,2,-999.0000,9,   -999.0,5,  -999.00,5,  -999.00,5,  -999.00,5,  -999.00,5,    2.829,3,    1.451,2,   -999.0,5,   -999.0,5,-999.0000,  -999.00,9,   110013,   4.7667
  06MT20030723,   557,  1,     14,2,20030820, 46.6670, -28.4680, 2800,   1206.6,   5.1060,  34.9812,2,-999.0000,9,   -999.0,5,  -999.00,5,  -999.00,5,  -999.00,5,  -999.00,5, -999.000,9, -999.000,9,   -999.0,5,   -999.0,5,-999.0000,  -999.00,9,   110014,   5.0018
  06MT20030723,   557,  1,     15,2,20030820, 46.6670, -28.4680, 2800,   1111.4,   5.9302,  34.9996,2,-999.0000,9,   -999.0,5,  -999.00,5,  -999.00,5,  -999.00,5,  -999.00,5,    2.611,3,    1.371,2,   -999.0,5,   -999.0,5,-999.0000,  -999.00,9,   110015,   5.8281
  06MT20030723,   557,  1,     16,2,20030820, 46.6670, -28.4680, 2800,   1018.1,   7.2329,  35.0840,2,  35.0700,0,   -999.0,5,  -999.00,5,  -999.00,5,  -999.00,5,  -999.00,5,    2.312,3,    1.210,2,   -999.0,5,   -999.0,5,-999.0000,  -999.00,9,   110016,   7.1300
  06MT20030723,   557,  1,     17,2,20030820, 46.6670, -28.4680, 2800,    910.7,   8.8132,  35.1785,2,-999.0000,9,    212.3,2,  -999.00,5,  -999.00,5,  -999.00,5,  -999.00,5,    2.578,3,    1.396,2,   -999.0,5,   -999.0,5,-999.0000,  -999.00,9,   110017,   8.7112
  06MT20030723,   557,  1,     18,2,20030820, 46.6670, -28.4680, 2800,    802.3,  10.4458,  35.3923,2,-999.0000,9,   -999.0,5,  -999.00,5,  -999.00,5,  -999.00,5,  -999.00,5,    3.314,3,    1.854,2,   -999.0,5,   -999.0,5,-999.0000,  -999.00,9,   110018,  10.3469
  06MT20030723,   557,  1,     19,2,20030820, 46.6670, -28.4680, 2800,    709.8,  10.9763,  35.4834,2,-999.0000,9,   -999.0,5,  -999.00,5,  -999.00,5,  -999.00,5,  -999.00,5, -999.000,9, -999.000,9,   -999.0,5,   -999.0,5,-999.0000,  -999.00,9,   110019,  10.8864
  06MT20030723,   557,  1,     20,2,20030820, 46.6670, -28.4680, 2800,    399.4,  11.1994,  35.5330,2,-999.0000,9,    258.3,2,  -999.00,5,  -999.00,5,  -999.00,5,  -999.00,5,    3.362,3,    1.900,2,   -999.0,5,   -999.0,5,-999.0000,  -999.00,9,   110020,  11.1488
  06MT20030723,   557,  1,     21,2,20030820, 46.6670, -28.4680, 2800,    105.1,  13.0820,  35.7760,2,-999.0000,9,   -999.0,5,  -999.00,5,  -999.00,5,  -999.00,5,  -999.00,5,    2.898,3,    1.646,2,   -999.0,5,   -999.0,5,-999.0000,  -999.00,9,   110021,  13.0674
  06MT20030723,   557,  1,     22,2,20030820, 46.6670, -28.4680, 2800,     12.4,  17.3173,  35.6292,2,  35.6324,2,    250.6,2,  -999.00,5,  -999.00,5,  -999.00,5,  -999.00,5,    2.698,3,    1.581,2,   -999.0,5,   -999.0,5,-999.0000,  -999.00,9,   110022,  17.3152
  06MT20030723,   558,  1,      1,2,20030820, 46.6420, -29.2420, 3700,   3307.6,   2.7497,  34.9178,2,-999.0000,9,    274.2,2,    16.56,2,    16.78,2,     0.00,2,     1.07,2, -999.000,9, -999.000,9,   2165.8,2,   2306.8,2,   7.7384,    25.00,2,   111001,   2.4719
  06MT20030723,   558,  1,      2,2,20030820, 46.6420, -29.2420, 3700,   3307.5,   2.7493,  34.9177,2,-999.0000,9,    274.6,2,    16.89,2,    16.49,2,     0.00,2,     1.05,2,    1.642,3,    0.814,2,   -999.0,5,   -999.0,5,-999.0000,  -999.00,9,   111002,   2.4716
  06MT20030723,   558,  1,      3,2,20030820, 46.6420, -29.2420, 3700,   3142.6,   2.8290,  34.9147,2,-999.0000,9,    275.1,2,    16.50,2,    16.75,2,     0.01,2,     1.08,2,    1.693,3,    0.832,2,   2165.8,2,   2305.8,2,   7.7364,    25.00,2,   111003,   2.5670
  06MT20030723,   558,  1,      4,2,20030820, 46.6420, -29.2420, 3700,   2839.8,   3.1119,  34.9143,2,-999.0000,9,    275.2,2,    14.87,2,    16.65,2,     0.01,2,     1.05,2,    1.908,3,    0.942,2,   2163.0,2,   2303.1,2,   7.7354,    25.00,2,   111004,   2.8756
  06MT20030723,   558,  1,      5,2,20030820, 46.6420, -29.2420, 3700,   2626.3,   3.2124,  34.9105,2,-999.0000,9,    275.0,2,    14.11,2,    17.23,2,     0.00,2,     1.09,2,    2.047,3,    1.007,2,   2161.7,2,   2301.9,2,   7.7344,    25.00,2,   111005,   2.9960
  06MT20030723,   558,  1,      6,2,20030820, 46.6420, -29.2420, 3700,   2430.9,   3.2897,  34.9095,2,  34.8939,0,    275.9,2,    13.10,2,    16.68,2,     0.01,2,     1.07,2, -999.000,9, -999.000,9,   2159.6,2,   2298.9,2,   7.7345,    25.00,2,   111006,   3.0914
  06MT20030723,   558,  1,      7,2,20030820, 46.6420, -29.2420, 3700,   2277.3,   3.3382,  34.9049,2,-999.0000,9,    276.7,2,    12.45,2,    16.72,2,     0.01,2,     1.07,2,    2.338,3,    1.139,2,   2160.6,2,   2299.6,2,   7.7335,    25.00,2,   111007,   3.1542
  06MT20030723,   558,  1,      8,2,20030820, 46.6420, -29.2420, 3700,   2016.8,   3.5014,  34.9076,2,-999.0000,9,    275.9,2,    11.45,2,    17.28,2,     0.01,2,     1.07,2,    2.499,3,    1.223,2,   2160.7,2,   2297.4,2,   7.7315,    25.00,2,   111008,   3.3399
  06MT20030723,   558,  1,      9,2,20030820, 46.6420, -29.2420, 3700,   1757.7,   3.7776,  34.9260,2,-999.0000,9,    271.0,2,    10.93,2,    17.38,2,     0.01,2,     1.07,2,    2.552,3,    1.262,2,   2162.0,2,   2309.2,4,   7.7305,    25.00,2,   111009,   3.6365
  06MT20030723,   558,  1,     10,2,20030820, 46.6420, -29.2420, 3700,   1493.9,   4.0866,  34.9396,2,-999.0000,9,    266.3,2,    10.48,2,    17.03,2,     0.01,2,     1.07,2, -999.000,9, -999.000,9,   2163.9,2,   2299.2,2,   7.7266,    25.00,2,   111010,   3.9660
  06MT20030723,   558,  1,     11,2,20030820, 46.6420, -29.2420, 3700,   1405.6,   4.2413,  34.9440,2,  34.9451,2,    262.6,2,    10.27,2,    17.52,2,     0.01,2,     1.09,2,    2.997,3,    1.504,2,   2164.6,2,   2301.5,2,   7.7236,    25.00,2,   111011,   4.1271
  06MT20030723,   558,  1,     12,2,20030820, 46.6420, -29.2420, 3700,   1307.4,   4.7159,  34.9958,2,-999.0000,9,    251.9,2,    10.59,2,    17.90,2,     0.01,2,     1.11,2,    2.640,3,    1.317,2,   2168.8,2,   2303.6,2,   7.7206,    25.00,2,   111012,   4.6058
  06MT20030723,   558,  1,     13,2,20030820, 46.6420, -29.2420, 3700,   1221.8,   5.1944,  35.0433,2,-999.0000,9,    243.5,2,    10.68,2,    17.94,2,     0.01,2,     1.11,2,    2.539,3,    1.281,2,   2171.2,2,   2305.4,2,   7.7216,    25.00,2,   111013,   5.0878
  06MT20030723,   558,  1,     14,2,20030820, 46.6420, -29.2420, 3700,   1127.9,   5.7613,  35.0750,2,-999.0000,9,    229.3,2,    10.36,2,    18.43,2,     0.01,2,     1.13,2, -999.000,9, -999.000,9,   2173.9,2,   2309.2,2,   7.7206,    25.00,2,   111014,   5.6588
  06MT20030723,   558,  1,     15,2,20030820, 46.6420, -29.2420, 3700,    935.9,   7.1916,  35.1058,2,-999.0000,9,    202.5,2,    10.43,2,    18.87,2,     0.01,2,     1.17,2,    2.115,3,    1.096,2,   2178.3,2,   2311.2,2,   7.7147,    25.00,2,   111015,   7.0978
  06MT20030723,   558,  1,     16,2,20030820, 46.6420, -29.2420, 3700,    819.5,   8.3857,  35.1474,2,-999.0000,9,    201.3,2,     9.61,2,    18.52,2,     0.01,2,     1.10,2,    2.316,3,    1.239,2,   2170.8,2,   2314.4,2,   7.7364,    25.00,2,   111016,   8.2970
  06MT20030723,   558,  1,     17,2,20030820, 46.6420, -29.2420, 3700,    718.8,   9.4510,  35.2311,2,-999.0000,9,    213.5,2,     6.95,2,    16.05,2,     0.01,2,     0.96,2,    2.613,3,    1.420,2,   2158.1,2,   2315.1,2,   7.7679,    25.00,2,   111017,   9.3680
  06MT20030723,   558,  1,     18,2,20030820, 46.6420, -29.2420, 3700,    418.3,  11.2727,  35.4877,2,  35.4763,2,    237.6,2,     3.51,2,    11.52,2,     0.01,2,     0.63,2,    3.059,3,    1.715,2,   2137.3,2,   2326.1,2,   7.8401,    25.00,2,   111018,  11.2195
  06MT20030723,   558,  1,     19,2,20030820, 46.6420, -29.2420, 3700,    198.1,  13.1856,  35.8031,2,-999.0000,9,    237.2,2,     2.41,2,     8.42,2,     0.05,2,     0.41,2, -999.000,9, -999.000,9,   2125.8,2,   2341.6,2,   7.8885,    25.00,2,   111019,  13.1579
  06MT20030723,   558,  1,     20,2,20030820, 46.6420, -29.2420, 3700,     89.9,  13.7915,  35.9071,2,-999.0000,9,    236.7,2,     2.16,2,     7.61,2,     0.03,2,     0.37,2,    2.892,3,    1.654,2,   2121.9,2,   2349.2,2,   7.9044,    25.00,2,   111020,  13.7786
  06MT20030723,   558,  1,     21,2,20030820, 46.6420, -29.2420, 3700,     64.6,  14.1993,  35.9280,2,-999.0000,9,    231.4,2,     1.82,2,     7.05,2,     0.05,2,     0.35,2, -999.000,9, -999.000,9,   2120.3,2,   2350.8,2,   7.9093,    25.00,2,   111021,  14.1898
  06MT20030723,   558,  1,     22,2,20030820, 46.6420, -29.2420, 3700,     13.7,  17.9600,  35.8557,2,-999.0000,9,    242.0,2,     0.06,2,     0.00,2,     0.00,2,     0.00,2,    2.603,3,    1.528,2,   2061.8,2,   2348.4,2,   8.0115,    25.00,2,   111022,  17.9576
  06MT20030723,   559,  1,      1,2,20030821, 46.6180, -30.0150, 3400,   3568.6,   2.7164,  34.9174,2,  34.9171,2,   -999.0,5,  -999.00,5,  -999.00,5,  -999.00,5,  -999.00,5, -999.000,9, -999.000,9,   -999.0,5,   -999.0,5,-999.0000,  -999.00,9,   112001,   2.4110
  06MT20030723,   559,  1,      2,2,20030821, 46.6180, -30.0150, 3400,   3568.6,   2.7164,  34.9174,2,-999.0000,9,    275.3,2,  -999.00,5,  -999.00,5,  -999.00,5,  -999.00,5,    1.700,3,    0.840,2,   -999.0,5,   -999.0,5,-999.0000,  -999.00,9,   112002,   2.4110
  06MT20030723,   559,  1,      3,2,20030821, 46.6180, -30.0150, 3400,   3350.5,   2.7178,  34.9178,2,-999.0000,9,   -999.0,5,  -999.00,5,  -999.00,5,  -999.00,5,  -999.00,5, -999.000,9, -999.000,9,   -999.0,5,   -999.0,5,-999.0000,  -999.00,9,   112003,   2.4362
  06MT20030723,   559,  1,      4,2,20030821, 46.6180, -30.0150, 3400,   3051.7,   2.8678,  34.9187,2,-999.0000,9,   -999.0,5,  -999.00,5,  -999.00,5,  -999.00,5,  -999.00,5,    1.720,3,    0.848,2,   -999.0,5,   -999.0,5,-999.0000,  -999.00,9,   112004,   2.6145
  06MT20030723,   559,  1,      5,2,20030821, 46.6180, -30.0150, 3400,   2735.6,   3.0587,  34.9167,2,-999.0000,9,    275.4,2,  -999.00,5,  -999.00,5,  -999.00,5,  -999.00,5,    1.906,3,    0.943,2,   -999.0,5,   -999.0,5,-999.0000,  -999.00,9,   112005,   2.8341
  06MT20030723,   559,  1,      6,2,20030821, 46.6180, -30.0150, 3400,   2733.8,   3.0584,  34.9156,2,-999.0000,9,   -999.0,5,  -999.00,5,  -999.00,5,  -999.00,5,  -999.00,5, -999.000,9, -999.000,9,   -999.0,5,   -999.0,5,-999.0000,  -999.00,9,   112006,   2.8340
  06MT20030723,   559,  1,      7,2,20030821, 46.6180, -30.0150, 3400,   2533.3,   3.1474,  34.9100,2,-999.0000,9,   -999.0,5,  -999.00,5,  -999.00,5,  -999.00,5,  -999.00,5,    2.159,3,    1.054,2,   -999.0,5,   -999.0,5,-999.0000,  -999.00,9,   112007,   2.9415
  06MT20030723,   559,  1,      8,2,20030821, 46.6180, -30.0150, 3400,   2229.1,   3.3113,  34.9063,2,  34.8998,2,   -999.0,5,  -999.00,5,  -999.00,5,  -999.00,5,  -999.00,5,    2.333,3,    1.145,2,   -999.0,5,   -999.0,5,-999.0000,  -999.00,9,   112008,   3.1325
  06MT20030723,   559,  1,      9,2,20030821, 46.6180, -30.0150, 3400,   2025.5,   3.4648,  34.9146,2,-999.0000,9,    273.9,2,  -999.00,5,  -999.00,5,  -999.00,5,  -999.00,5,    2.283,3,    1.130,2,   -999.0,5,   -999.0,5,-999.0000,  -999.00,9,   112009,   3.3030
  06MT20030723,   559,  1,     10,2,20030821, 46.6180, -30.0150, 3400,   2019.1,   3.4721,  34.9157,2,-999.0000,9,   -999.0,5,  -999.00,5,  -999.00,5,  -999.00,5,  -999.00,5, -999.000,9, -999.000,9,   -999.0,5,   -999.0,5,-999.0000,  -999.00,9,   112010,   3.3107
  06MT20030723,   559,  1,     11,2,20030821, 46.6180, -30.0150, 3400,   1829.7,   3.6223,  34.9231,2,-999.0000,9,   -999.0,5,  -999.00,5,  -999.00,5,  -999.00,5,  -999.00,5,    2.373,3,    1.174,2,   -999.0,5,   -999.0,5,-999.0000,  -999.00,9,   112011,   3.4766
  06MT20030723,   559,  1,     12,2,20030821, 46.6180, -30.0150, 3400,   1614.7,   3.8132,  34.9333,2,-999.0000,9,   -999.0,5,  -999.00,5,  -999.00,5,  -999.00,5,  -999.00,5,    2.503,3,    1.238,2,   -999.0,5,   -999.0,5,-999.0000,  -999.00,9,   112012,   3.6848
  06MT20030723,   559,  1,     13,2,20030821, 46.6180, -30.0150, 3400,   1438.6,   4.2344,  34.9653,2,-999.0000,9,   -999.0,5,  -999.00,5,  -999.00,5,  -999.00,5,  -999.00,5,    2.634,3,    1.312,2,   -999.0,5,   -999.0,5,-999.0000,  -999.00,9,   112013,   4.1172
  06MT20030723,   559,  1,     14,2,20030821, 46.6180, -30.0150, 3400,   1315.5,   4.4773,  34.9870,2,-999.0000,9,   -999.0,5,  -999.00,5,  -999.00,5,  -999.00,5,  -999.00,5, -999.000,9, -999.000,9,   -999.0,5,   -999.0,5,-999.0000,  -999.00,9,   112014,   4.3689
  06MT20030723,   559,  1,     15,2,20030821, 46.6180, -30.0150, 3400,   1213.9,   4.9821,  35.0439,2,  35.0401,2,   -999.0,5,  -999.00,5,  -999.00,5,  -999.00,5,  -999.00,5,    2.482,3,    1.256,2,   -999.0,5,   -999.0,5,-999.0000,  -999.00,9,   112015,   4.8782
  06MT20030723,   559,  1,     16,2,20030821, 46.6180, -30.0150, 3400,   1119.8,   5.2440,  35.0450,2,-999.0000,9,    241.8,2,  -999.00,5,  -999.00,5,  -999.00,5,  -999.00,5,    2.467,3,    1.262,2,   -999.0,5,   -999.0,5,-999.0000,  -999.00,9,   112016,   5.1467
  06MT20030723,   559,  1,     17,2,20030821, 46.6180, -30.0150, 3400,   1006.2,   5.7662,  35.0704,2,-999.0000,9,   -999.0,5,  -999.00,5,  -999.00,5,  -999.00,5,  -999.00,5,    2.397,3,    1.236,2,   -999.0,5,   -999.0,5,-999.0000,  -999.00,9,   112017,   5.6756
  06MT20030723,   559,  1,     18,2,20030821, 46.6180, -30.0150, 3400,    894.8,   6.3223,  35.0398,2,-999.0000,9,   -999.0,5,  -999.00,5,  -999.00,5,  -999.00,5,  -999.00,5,    2.357,3,    1.208,2,   -999.0,5,   -999.0,5,-999.0000,  -999.00,9,   112018,   6.2387
  06MT20030723,   559,  1,     19,2,20030821, 46.6180, -30.0150, 3400,    721.1,   8.4205,  35.1406,2,-999.0000,9,   -999.0,5,  -999.00,5,  -999.00,5,  -999.00,5,  -999.00,5,    2.517,3,    1.365,2,   -999.0,5,   -999.0,5,-999.0000,  -999.00,9,   112019,   8.3427
  06MT20030723,   559,  1,     20,2,20030821, 46.6180, -30.0150, 3400,    421.4,  11.0271,  35.4752,2,-999.0000,9,   -999.0,5,  -999.00,5,  -999.00,5,  -999.00,5,  -999.00,5, -999.000,9, -999.000,9,   -999.0,5,   -999.0,5,-999.0000,  -999.00,9,   112020,  10.9742
  06MT20030723,   559,  1,     21,2,20030821, 46.6180, -30.0150, 3400,    101.5,  13.0273,  35.6493,2,  35.6431,2,   -999.0,5,  -999.00,5,  -999.00,5,  -999.00,5,  -999.00,5,    3.088,3, -999.000,9,   -999.0,5,   -999.0,5,-999.0000,  -999.00,9,   112021,  13.0133
  06MT20030723,   559,  1,     22,2,20030821, 46.6180, -30.0150, 3400,     18.9,  17.3033,  35.6378,2,-999.0000,9,    245.6,2,  -999.00,5,  -999.00,5,  -999.00,5,  -999.00,5,    2.698,3,    1.588,2,   -999.0,5,   -999.0,5,-999.0000,  -999.00,9,   112022,  17.3001