BOTTLE,20090513PRINUNIVRMK
EXPOCODE,STNNBR,CASTNO,BTLNBR,BTLNBR_FLAG_W,DATE,LATITUDE,LONGITUDE,DEPTH,CTDPRS,CTDTMP,CTDSAL,CTDSAL_FLAG_W,SALNTY,SALNTY_FLAG_W,OXYGEN,OXYGEN_FLAG_W,SILCAT,SILCAT_FLAG_W,NITRAT,NITRAT_FLAG_W,NITRIT,NITRIT_FLAG_W,PHSPHT,PHSPHT_FLAG_W,CFC-11,CFC-11_FLAG_W,CFC-12,CFC-12_FLAG_W,TCARBN,TCARBN_FLAG_W,ALKALI,ALKALI_FLAG_W,PH_SWS,PH_TEMP,PH_SWS_FLAG_W,ID,THETA
,,,,,,,,METERS,DBARS,ITS-90,PSS-78,,PSS-78,,UMOL/KG,,UMOL/KG,,UMOL/KG,,UMOL/KG,,UMOL/KG,,PMOL/KG,,PMOL/KG,,UMOL/KG,,UMOL/KG,,,DEGC,,,DEGC
  06MT20030723,   488,  1,      1,2,20030802, 55.4330, -41.5490, 3100,   3107.9,   2.5822,  34.9208,2,  34.9191,2,    279.2,2,    15.90,2,    16.14,2,     0.00,2,     1.01,2, -999.000,9, -999.000,9,   2160.4,2,   2314.0,2,   7.7236,    25.00,2,    39001,   2.3294
  06MT20030723,   488,  1,      2,2,20030802, 55.4330, -41.5490, 3100,   3107.4,   2.5824,  34.9204,2,-999.0000,9,    279.0,2,    15.99,2,    16.14,2,     0.00,2,     1.01,2, -999.000,9, -999.000,9,   -999.0,5,   -999.0,5,-999.0000,  -999.00,9,    39002,   2.3296
  06MT20030723,   488,  1,      3,2,20030802, 55.4330, -41.5490, 3100,   3046.3,   2.6036,  34.9228,2,-999.0000,9,    278.4,2,    15.89,2,    16.26,2,     0.00,2,     1.01,2, -999.000,9, -999.000,9,   2161.0,2,   2312.1,2,   7.7187,    25.00,2,    39003,   2.3567
  06MT20030723,   488,  1,      4,2,20030802, 55.4330, -41.5490, 3100,   2949.3,   2.6572,  34.9268,2,-999.0000,9,    278.8,2,    15.50,2,    16.29,2,     0.00,2,     1.00,2, -999.000,9, -999.000,9,   2160.9,2,   2314.1,2,   7.7226,    25.00,2,    39004,   2.4191
  06MT20030723,   488,  1,      5,2,20030802, 55.4330, -41.5490, 3100,   2841.1,   2.7379,  34.9301,2,-999.0000,9,    278.1,2,    14.26,2,    16.19,2,     0.00,2,     1.00,2, -999.000,9, -999.000,9,   2160.5,2,   2315.4,2,   7.7226,    25.00,2,    39005,   2.5091
  06MT20030723,   488,  1,      6,2,20030802, 55.4330, -41.5490, 3100,   2738.8,   2.8346,  34.9356,2,-999.0000,9,    278.1,2,    13.77,2,    16.20,2,     0.00,2,     1.01,2, -999.000,9, -999.000,9,   2160.4,2,   2307.8,2,   7.7187,    25.00,2,    39006,   2.6141
  06MT20030723,   488,  1,      7,2,20030802, 55.4330, -41.5490, 3100,   2636.3,   2.8822,  34.9360,2,-999.0000,9,    279.7,2,    13.26,2,    16.23,2,     0.00,2,     0.99,2, -999.000,9, -999.000,9,   2157.8,2,   2310.2,2,   7.7236,    25.00,2,    39007,   2.6710
  06MT20030723,   488,  1,      8,2,20030802, 55.4330, -41.5490, 3100,   2446.4,   2.9453,  34.9224,2,-999.0000,9,    283.2,2,    12.48,2,    16.10,2,     0.00,2,     0.98,2, -999.000,9, -999.000,9,   2157.2,2,   2310.0,2,   7.7206,    25.00,2,    39008,   2.7516
  06MT20030723,   488,  1,      9,2,20030802, 55.4330, -41.5490, 3100,   2230.6,   2.9964,  34.9124,2,  34.9154,2,    286.1,2,    11.84,2,    16.13,2,     0.00,2,     1.01,2,    2.278,3,    1.157,2,   2156.2,2,   2309.8,2,   7.7226,    25.00,2,    39009,   2.8225
  06MT20030723,   488,  1,     10,2,20030802, 55.4330, -41.5490, 3100,   2025.0,   3.1031,  34.9062,2,-999.0000,9,    284.5,2,    11.24,2,    16.40,2,     0.00,2,     1.01,2,    2.572,3,    1.308,2,   2155.4,2,   2307.0,2,   7.7197,    25.00,2,    39010,   2.9468
  06MT20030723,   488,  1,     11,2,20030802, 55.4330, -41.5490, 3100,   1822.6,   3.1035,  34.8913,2,-999.0000,9,    285.5,2,    10.70,2,    16.43,2,     0.00,2,     1.01,2,    2.916,3,    1.488,2,   2154.8,2,   2302.7,2,   7.7187,    25.00,2,    39011,   2.9656
  06MT20030723,   488,  1,     12,2,20030802, 55.4330, -41.5490, 3100,   1617.1,   3.1735,  34.8854,2,-999.0000,9,    286.8,2,    10.34,2,    16.64,2,     0.00,2,     1.00,2, -999.000,9, -999.000,9,   2155.6,2,   2307.3,2,   7.7138,    25.00,2,    39012,   3.0528
  06MT20030723,   488,  1,     13,2,20030802, 55.4330, -41.5490, 3100,   1428.0,   3.2648,  34.8870,2,-999.0000,9,    285.3,2,    10.27,2,    16.69,2,     0.00,2,     1.01,2,    3.250,3,    1.659,2,   2155.6,2,   2301.9,2,   7.7128,    25.00,2,    39013,   3.1593
  06MT20030723,   488,  1,     14,2,20030802, 55.4330, -41.5490, 3100,   1213.1,   3.3922,  34.8868,2,-999.0000,9,    283.1,2,    10.18,2,    16.93,2,     0.00,2,     1.02,2,    3.274,3,    1.675,2,   2156.6,2,   2308.8,2,   7.7108,    25.00,2,    39014,   3.3033
  06MT20030723,   488,  1,     15,2,20030802, 55.4330, -41.5490, 3100,   1008.0,   3.4841,  34.8843,2,-999.0000,9,    281.5,2,     9.88,2,    16.93,2,     0.01,2,     1.02,2,    3.479,3,    1.805,2,   2157.7,2,   2302.6,2,   7.7088,    25.00,2,    39015,   3.4111
  06MT20030723,   488,  1,     16,2,20030802, 55.4330, -41.5490, 3100,    784.1,   3.4813,  34.8652,2,  34.8676,2,    285.4,2,     9.16,2,    16.43,2,     0.01,2,     1.00,2,    3.930,3,    2.066,2,   2157.3,2,   2306.1,2,   7.7098,    25.00,2,    39016,   3.4259
  06MT20030723,   488,  1,     17,2,20030802, 55.4330, -41.5490, 3100,    616.6,   3.6439,  34.8730,2,-999.0000,9,    282.2,2,     9.19,2,    16.52,2,     0.01,2,     0.99,2,    3.892,3,    2.068,2,   2157.4,2,   2302.7,2,   7.7069,    25.00,2,    39017,   3.6004
  06MT20030723,   488,  1,     18,2,20030802, 55.4330, -41.5490, 3100,    406.6,   3.7682,  34.8657,2,-999.0000,9,    280.7,2,     8.97,2,    16.93,2,     0.01,2,     1.01,2,    4.043,3,    2.171,2,   2159.8,2,   2302.7,2,   7.7000,    25.00,2,    39018,   3.7398
  06MT20030723,   488,  1,     19,2,20030802, 55.4330, -41.5490, 3100,    189.5,   3.6498,  34.7908,2,-999.0000,9,    297.3,2,  -999.00,5,    16.20,2,     0.02,2,     0.98,2,    4.682,3,    2.566,2,   2152.8,2,   2298.3,2,   7.7079,    25.00,2,    39019,   3.6371
  06MT20030723,   488,  1,     20,2,20030802, 55.4330, -41.5490, 3100,     99.0,   4.0595,  34.7816,2,  34.7799,2,   -999.0,5,     7.70,2,    15.72,2,     0.18,2,     0.98,2, -999.000,9, -999.000,9,   2150.9,2,   2297.8,2,   7.7128,    25.00,2,    39020,   4.0526
  06MT20030723,   488,  1,     21,2,20030802, 55.4330, -41.5490, 3100,     60.7,   4.8319,  34.7327,2,-999.0000,9,    303.9,2,     5.27,2,    12.11,2,     0.29,2,     0.89,2,    4.892,3,    2.715,2,   2144.0,2,   2300.6,2,   7.7394,    25.00,2,    39021,   4.8273
  06MT20030723,   488,  1,     22,2,20030802, 55.4330, -41.5490, 3100,     11.2,   9.3566,  34.6701,2,-999.0000,9,    286.3,2,     0.30,2,     6.92,2,     0.12,2,     0.46,2,    4.021,3,    2.297,2,   2096.1,2,   2293.0,2,   7.8362,    25.00,2,    39022,   9.3554
  06MT20030723,   489,  1,      1,2,20030802, 54.7000, -41.4650, 3249,   3270.2,   2.6532,  34.9253,2,-999.0000,9,    276.9,2,  -999.00,5,  -999.00,5,  -999.00,5,  -999.00,5, -999.000,9, -999.000,9,   -999.0,5,   -999.0,5,-999.0000,  -999.00,9,    40001,   2.3817
  06MT20030723,   489,  1,      2,2,20030802, 54.7000, -41.4650, 3249,   3271.1,   2.6534,  34.9251,2,-999.0000,9,   -999.0,5,  -999.00,5,  -999.00,5,  -999.00,5,  -999.00,5,    1.934,3,    0.972,2,   -999.0,5,   -999.0,5,-999.0000,  -999.00,9,    40002,   2.3818
  06MT20030723,   489,  1,      3,2,20030802, 54.7000, -41.4650, 3249,   3240.2,   2.6593,  34.9255,2,-999.0000,9,   -999.0,5,  -999.00,5,  -999.00,5,  -999.00,5,  -999.00,5,    1.952,3,    0.984,2,   -999.0,5,   -999.0,5,-999.0000,  -999.00,9,    40003,   2.3908
  06MT20030723,   489,  1,      4,2,20030802, 54.7000, -41.4650, 3249,   3044.3,   2.7851,  34.9372,2,-999.0000,9,   -999.0,5,  -999.00,5,  -999.00,5,  -999.00,5,  -999.00,5,    1.982,3,    1.004,2,   -999.0,5,   -999.0,5,-999.0000,  -999.00,9,    40004,   2.5343
  06MT20030723,   489,  1,      5,2,20030802, 54.7000, -41.4650, 3249,   2688.8,   2.9639,  34.9415,2,  34.9416,2,   -999.0,5,  -999.00,5,  -999.00,5,  -999.00,5,  -999.00,5,    2.188,3,    1.116,2,   -999.0,5,   -999.0,5,-999.0000,  -999.00,9,    40005,   2.7458
  06MT20030723,   489,  1,      6,2,20030802, 54.7000, -41.4650, 3249,   2432.4,   2.9946,  34.9307,2,-999.0000,9,    277.6,2,  -999.00,5,  -999.00,5,  -999.00,5,  -999.00,5,    2.194,3,    1.115,2,   -999.0,5,   -999.0,5,-999.0000,  -999.00,9,    40006,   2.8014
  06MT20030723,   489,  1,      7,2,20030802, 54.7000, -41.4650, 3249,   2128.3,   3.1051,  34.9153,2,-999.0000,9,   -999.0,5,  -999.00,5,  -999.00,5,  -999.00,5,  -999.00,5,    2.475,3,    1.248,2,   -999.0,5,   -999.0,5,-999.0000,  -999.00,9,    40007,   2.9391
  06MT20030723,   489,  1,      8,2,20030802, 54.7000, -41.4650, 3249,   1921.4,   3.1378,  34.9009,2,-999.0000,9,   -999.0,5,  -999.00,5,  -999.00,5,  -999.00,5,  -999.00,5,    2.791,3,    1.409,2,   -999.0,5,   -999.0,5,-999.0000,  -999.00,9,    40008,   2.9905
  06MT20030723,   489,  1,      9,2,20030802, 54.7000, -41.4650, 3249,   1717.2,   3.1558,  34.8843,2,-999.0000,9,   -999.0,5,  -999.00,5,  -999.00,5,  -999.00,5,  -999.00,5,    3.066,3,    1.547,2,   -999.0,5,   -999.0,5,-999.0000,  -999.00,9,    40009,   3.0266
  06MT20030723,   489,  1,     10,2,20030802, 54.7000, -41.4650, 3249,   1516.2,   3.2601,  34.8843,2,-999.0000,9,   -999.0,5,  -999.00,5,  -999.00,5,  -999.00,5,  -999.00,5,    3.247,3,    1.640,2,   -999.0,5,   -999.0,5,-999.0000,  -999.00,9,    40010,   3.1471
  06MT20030723,   489,  1,     11,2,20030802, 54.7000, -41.4650, 3249,   1310.7,   3.4064,  34.8903,2,-999.0000,9,    279.8,2,  -999.00,5,  -999.00,5,  -999.00,5,  -999.00,5,    3.205,3,    1.631,2,   -999.0,5,   -999.0,5,-999.0000,  -999.00,9,    40011,   3.3093
  06MT20030723,   489,  1,     12,2,20030802, 54.7000, -41.4650, 3249,   1108.3,   3.5176,  34.8882,2,-999.0000,9,   -999.0,5,  -999.00,5,  -999.00,5,  -999.00,5,  -999.00,5, -999.000,9, -999.000,9,   -999.0,5,   -999.0,5,-999.0000,  -999.00,9,    40012,   3.4362
  06MT20030723,   489,  1,     13,2,20030802, 54.7000, -41.4650, 3249,    908.4,   3.5006,  34.8645,2,  34.8641,2,   -999.0,5,  -999.00,5,  -999.00,5,  -999.00,5,  -999.00,5,    4.001,3,    2.138,2,   -999.0,5,   -999.0,5,-999.0000,  -999.00,9,    40013,   3.4355
  06MT20030723,   489,  1,     14,2,20030802, 54.7000, -41.4650, 3249,    781.8,   3.4895,  34.8530,2,-999.0000,9,   -999.0,5,  -999.00,5,  -999.00,5,  -999.00,5,  -999.00,5, -999.000,9, -999.000,9,   -999.0,5,   -999.0,5,-999.0000,  -999.00,9,    40014,   3.4343
  06MT20030723,   489,  1,     15,2,20030802, 54.7000, -41.4650, 3249,    671.7,   3.6011,  34.8589,2,-999.0000,9,   -999.0,5,  -999.00,5,  -999.00,5,  -999.00,5,  -999.00,5,    4.249,3,    2.257,2,   -999.0,5,   -999.0,5,-999.0000,  -999.00,9,    40015,   3.5536
  06MT20030723,   489,  1,     16,2,20030802, 54.7000, -41.4650, 3249,    581.9,   3.6470,  34.8564,2,-999.0000,9,    287.1,2,  -999.00,5,  -999.00,5,  -999.00,5,  -999.00,5,    4.275,3,    2.293,2,   -999.0,5,   -999.0,5,-999.0000,  -999.00,9,    40016,   3.6061
  06MT20030723,   489,  1,     17,2,20030802, 54.7000, -41.4650, 3249,    450.6,   3.7817,  34.8460,2,-999.0000,9,   -999.0,5,  -999.00,5,  -999.00,5,  -999.00,5,  -999.00,5,    4.197,3,    2.265,2,   -999.0,5,   -999.0,5,-999.0000,  -999.00,9,    40017,   3.7500
  06MT20030723,   489,  1,     18,2,20030802, 54.7000, -41.4650, 3249,    316.4,   4.2541,  34.8481,2,-999.0000,9,   -999.0,5,  -999.00,5,  -999.00,5,  -999.00,5,  -999.00,5,    3.962,3,    2.167,2,   -999.0,5,   -999.0,5,-999.0000,  -999.00,9,    40018,   4.2310
  06MT20030723,   489,  1,     19,2,20030802, 54.7000, -41.4650, 3249,    197.0,   4.4408,  34.7999,2,-999.0000,9,   -999.0,5,  -999.00,5,  -999.00,5,  -999.00,5,  -999.00,5,    4.398,3,    2.464,2,   -999.0,5,   -999.0,5,-999.0000,  -999.00,9,    40019,   4.4263
  06MT20030723,   489,  1,     20,2,20030802, 54.7000, -41.4650, 3249,    117.4,   5.0720,  34.7986,2,-999.0000,9,   -999.0,5,  -999.00,5,  -999.00,5,  -999.00,5,  -999.00,5, -999.000,9, -999.000,9,   -999.0,5,   -999.0,5,-999.0000,  -999.00,9,    40020,   5.0629
  06MT20030723,   489,  1,     21,2,20030802, 54.7000, -41.4650, 3249,     83.9,   5.5536,  34.8308,2,-999.0000,9,   -999.0,5,  -999.00,5,  -999.00,5,  -999.00,5,  -999.00,5,    4.302,3,    2.435,2,   -999.0,5,   -999.0,5,-999.0000,  -999.00,9,    40021,   5.5468
  06MT20030723,   489,  1,     22,2,20030802, 54.7000, -41.4650, 3249,     31.1,   9.7461,  34.7343,2,  34.8074,0,    285.2,2,  -999.00,5,  -999.00,5,  -999.00,5,  -999.00,5,    3.828,3,    2.218,2,   -999.0,5,   -999.0,5,-999.0000,  -999.00,9,    40022,   9.7426
  06MT20030723,   490,  1,      1,2,20030802, 54.0080, -41.3850, 3250,   3687.3,   2.3581,  34.9008,2,  34.9004,2,    285.5,2,    16.21,2,    16.18,2,     0.01,2,     1.06,2, -999.000,9, -999.000,9,   -999.0,5,   -999.0,5,-999.0000,  -999.00,9,    41001,   2.0488
  06MT20030723,   490,  1,      2,2,20030802, 54.0080, -41.3850, 3250,   3688.6,   2.3585,  34.9006,2,-999.0000,9,    281.3,2,    16.16,2,    16.14,2,     0.00,2,     1.07,2,    2.156,3,    1.100,2,   2163.8,2,   2313.2,2,-999.0000,  -999.00,9,    41002,   2.0491
  06MT20030723,   490,  1,      3,2,20030802, 54.0080, -41.3850, 3250,   3457.1,   2.5537,  34.9154,2,-999.0000,9,    279.4,2,    15.79,2,    16.09,2,     0.00,2,     1.08,2,    1.897,3,    0.963,2,   2163.5,2,   2313.7,2,-999.0000,  -999.00,9,    41003,   2.2645
  06MT20030723,   490,  1,      4,2,20030802, 54.0080, -41.3850, 3250,   3146.4,   2.8075,  34.9411,2,-999.0000,9,    276.5,2,    12.64,2,    16.05,2,     0.00,2,     1.07,2,    1.964,3,    1.004,2,   2166.2,2,   2318.9,2,   7.7197,    25.00,2,    41004,   2.5455
  06MT20030723,   490,  1,      5,2,20030802, 54.0080, -41.3850, 3250,   2841.4,   2.9404,  34.9477,2,-999.0000,9,    276.8,2,    13.27,2,    16.14,2,     0.01,2,     1.06,2,    2.187,3,    1.113,2,   2163.3,2,   2315.3,2,   7.7206,    25.00,2,    41005,   2.7073
  06MT20030723,   490,  1,      6,2,20030802, 54.0080, -41.3850, 3250,   2584.9,   2.9418,  34.9251,2,-999.0000,9,    279.0,2,    12.51,2,    16.24,2,     0.00,2,     1.06,2,    2.194,3,    1.122,2,   2159.4,2,   2308.9,2,   7.7216,    25.00,2,    41006,   2.7346
  06MT20030723,   490,  1,      7,2,20030802, 54.0080, -41.3850, 3250,   2228.6,   3.0764,  34.9136,2,-999.0000,9,    280.2,2,    11.61,2,    16.38,2,     0.00,2,     1.08,2,    2.402,3,    1.215,2,   2158.0,2,   2310.3,2,   7.7197,    25.00,2,    41007,   2.9014
  06MT20030723,   490,  1,      8,2,20030802, 54.0080, -41.3850, 3250,   1977.0,   3.1380,  34.9009,2,-999.0000,9,    282.8,2,    10.81,2,    16.60,2,     0.00,2,     1.09,2,    2.768,3,    1.401,2,   2158.4,2,   2304.5,2,   7.7206,    25.00,2,    41008,   2.9856
  06MT20030723,   490,  1,      9,2,20030802, 54.0080, -41.3850, 3250,   1719.3,   3.1807,  34.8834,2,  34.8861,2,    286.5,2,    10.29,2,    16.71,2,     0.00,2,     1.09,2,    3.158,3,    1.592,2,   2154.2,2,   2311.4,2,   7.7157,    25.00,2,    41009,   3.0510
  06MT20030723,   490,  1,     10,2,20030802, 54.0080, -41.3850, 3250,   1510.3,   3.2723,  34.8843,2,-999.0000,9,    283.5,2,    10.29,2,    16.83,2,     0.00,2,     1.10,2, -999.000,9, -999.000,9,   2158.5,2,   2306.1,2,   7.7157,    25.00,2,    41010,   3.1597
  06MT20030723,   490,  1,     11,2,20030802, 54.0080, -41.3850, 3250,   1297.4,   3.4277,  34.8904,2,-999.0000,9,    279.7,2,    10.19,2,    16.69,2,     0.00,2,     1.10,2,    3.202,3,    1.638,2,   2160.0,2,   2309.7,2,   7.7128,    25.00,2,    41011,   3.3315
  06MT20030723,   490,  1,     12,2,20030802, 54.0080, -41.3850, 3250,   1107.3,   3.5385,  34.8832,2,-999.0000,9,    280.1,2,     9.85,2,    16.72,2,     0.00,2,     1.10,2,    3.540,3,    1.837,2,   2162.1,2,   2306.1,2,-999.0000,  -999.00,9,    41012,   3.4570
  06MT20030723,   490,  1,     13,2,20030802, 54.0080, -41.3850, 3250,    974.8,   3.5437,  34.8709,2,-999.0000,9,    282.1,2,  -999.00,5,  -999.00,5,  -999.00,5,  -999.00,5,    3.767,3,    1.971,2,   2161.0,2,   2304.2,2,   7.7088,    25.00,2,    41013,   3.4730
  06MT20030723,   490,  1,     14,2,20030802, 54.0080, -41.3850, 3250,    854.6,   3.5924,  34.8663,2,-999.0000,9,    284.0,2,     9.43,2,    16.74,2,     0.00,2,     1.09,2, -999.000,9, -999.000,9,   2159.7,2,   2309.4,2,   7.7088,    25.00,2,    41014,   3.5309
  06MT20030723,   490,  1,     15,2,20030802, 54.0080, -41.3850, 3250,    758.2,   3.7203,  34.8747,2,-999.0000,9,    281.0,2,     9.34,2,    16.81,2,     0.01,2,     1.10,2,    4.002,3,    2.129,2,   2160.6,2,   2306.1,2,-999.0000,  -999.00,9,    41015,   3.6655
  06MT20030723,   490,  1,     16,2,20030802, 54.0080, -41.3850, 3250,    607.8,   3.9157,  34.8818,2,-999.0000,9,    274.0,2,     9.32,2,    17.12,2,     0.01,2,     1.12,2,    3.922,3,    2.096,2,   2160.0,2,   2316.4,2,   7.7019,    25.00,2,    41016,   3.8715
  06MT20030723,   490,  1,     17,2,20030802, 54.0080, -41.3850, 3250,    490.0,   4.1282,  34.8719,2,-999.0000,9,    270.0,2,     9.17,2,    17.27,2,     0.01,2,     1.13,2, -999.000,9, -999.000,9,   2161.5,2,   2312.8,2,   7.6960,    25.00,2,    41017,   4.0922
  06MT20030723,   490,  1,     18,2,20030802, 54.0080, -41.3850, 3250,    316.9,   4.2049,  34.7932,2,-999.0000,9,    288.3,2,     7.93,2,    16.08,2,     0.01,2,     1.04,2,    4.348,3,    2.388,2,   2153.8,2,   2302.2,2,   7.7138,    25.00,2,    41018,   4.1819
  06MT20030723,   490,  1,     19,2,20030802, 54.0080, -41.3850, 3250,    197.3,   4.4816,  34.7617,2,-999.0000,9,    294.6,2,     7.37,2,    15.20,2,     0.01,2,     1.02,2,    4.556,3,    2.519,2,   2152.0,2,   2303.6,2,   7.7236,    25.00,2,    41019,   4.4670
  06MT20030723,   490,  1,     20,2,20030802, 54.0080, -41.3850, 3250,    111.8,   5.1137,  34.7819,2,-999.0000,9,    292.5,2,     7.21,2,    14.87,2,     0.02,2,     1.00,2,    4.498,3,    2.506,2,   2145.5,2,   2297.2,2,   7.7335,    25.00,2,    41020,   5.1050
  06MT20030723,   490,  1,     21,2,20030802, 54.0080, -41.3850, 3250,     61.8,   5.7070,  34.8173,2,  34.8092,0,    289.6,2,     7.12,2,    14.99,2,     0.07,2,     1.00,2,    4.430,3,    2.481,2,   2144.1,2,   2302.3,2,   7.7364,    25.00,2,    41021,   5.7019
  06MT20030723,   490,  1,     22,2,20030802, 54.0080, -41.3850, 3250,     14.1,   9.6307,  34.6609,2,-999.0000,9,    289.0,2,     0.40,2,     6.33,2,     0.16,2,     0.48,2,    3.911,3,    2.221,2,   2087.6,2,   2298.6,2,   7.8590,    25.00,2,    41022,   9.6291