BOTTLE,20090513PRINUNIVRMK
EXPOCODE,STNNBR,CASTNO,BTLNBR,BTLNBR_FLAG_W,DATE,LATITUDE,LONGITUDE,DEPTH,CTDPRS,CTDTMP,CTDSAL,CTDSAL_FLAG_W,SALNTY,SALNTY_FLAG_W,OXYGEN,OXYGEN_FLAG_W,SILCAT,SILCAT_FLAG_W,NITRAT,NITRAT_FLAG_W,NITRIT,NITRIT_FLAG_W,PHSPHT,PHSPHT_FLAG_W,CFC-11,CFC-11_FLAG_W,CFC-12,CFC-12_FLAG_W,TCARBN,TCARBN_FLAG_W,ALKALI,ALKALI_FLAG_W,PH_SWS,PH_TEMP,PH_SWS_FLAG_W,ID,THETA
,,,,,,,,METERS,DBARS,ITS-90,PSS-78,,PSS-78,,UMOL/KG,,UMOL/KG,,UMOL/KG,,UMOL/KG,,UMOL/KG,,PMOL/KG,,PMOL/KG,,UMOL/KG,,UMOL/KG,,,DEGC,,,DEGC
  06MT20030723,   569,  1,      1,2,20030823, 46.8660, -39.0650, 4588,   4673.7,   2.1427,  34.8827,2,  34.8874,2,    299.6,2,    15.32,2,    15.35,2,     0.01,2,     0.99,2, -999.000,9, -999.000,9,   -999.0,5,   -999.0,5,-999.0000,  -999.00,9,   122001,   1.7255
  06MT20030723,   569,  1,      2,2,20030823, 46.8660, -39.0650, 4588,   4673.9,   2.1425,  34.8829,2,-999.0000,9,    291.1,2,    15.53,2,    15.79,2,     0.01,2,     0.99,2,    2.676,3,    1.375,2,   -999.0,5,   -999.0,5,-999.0000,  -999.00,9,   122002,   1.7253
  06MT20030723,   569,  1,      3,2,20030823, 46.8660, -39.0650, 4588,   4476.3,   2.2132,  34.8870,2,-999.0000,9,    283.6,2,    17.61,2,    16.17,2,     0.01,2,     1.03,2,    2.230,3,    1.143,2,   -999.0,5,   -999.0,5,-999.0000,  -999.00,9,   122003,   1.8175
  06MT20030723,   569,  1,      4,2,20030823, 46.8660, -39.0650, 4588,   4171.2,   2.2977,  34.8927,2,-999.0000,9,    281.0,2,    18.46,2,    16.72,2,     0.01,2,     1.05,2,    1.845,3,    0.938,2,   -999.0,5,   -999.0,5,-999.0000,  -999.00,9,   122004,   1.9354
  06MT20030723,   569,  1,      5,2,20030823, 46.8660, -39.0650, 4588,   3760.7,   2.5074,  34.9036,2,-999.0000,9,    277.3,2,    18.26,2,    16.93,2,     0.01,2,     1.06,2,    1.457,3,    0.729,2,   -999.0,5,   -999.0,5,-999.0000,  -999.00,9,   122005,   2.1860
  06MT20030723,   569,  1,      6,2,20030823, 46.8660, -39.0650, 4588,   3337.5,   2.8036,  34.9087,2,-999.0000,9,    279.3,2,    13.99,2,    16.53,2,     0.01,2,     1.02,2,    1.856,3,    0.941,2,   -999.0,5,   -999.0,5,-999.0000,  -999.00,9,   122006,   2.5214
  06MT20030723,   569,  1,      7,2,20030823, 46.8660, -39.0650, 4588,   2948.2,   3.0614,  34.9053,2,  34.9089,2,    281.8,2,    12.22,2,    16.76,2,     0.01,2,     1.03,2,    2.179,3,    1.119,2,   -999.0,5,   -999.0,5,-999.0000,  -999.00,9,   122007,   2.8149
  06MT20030723,   569,  1,      8,2,20030823, 46.8660, -39.0650, 4588,   2523.3,   3.2184,  34.8926,2,-999.0000,9,    283.1,2,    10.98,2,    16.99,2,     0.00,2,     1.03,2,    2.663,3,    1.342,2,   -999.0,5,   -999.0,5,-999.0000,  -999.00,9,   122008,   3.0123
  06MT20030723,   569,  1,      9,2,20030823, 46.8660, -39.0650, 4588,   2227.8,   3.3658,  34.8941,2,-999.0000,9,    282.2,2,    10.43,2,    17.10,2,     0.00,2,     1.06,2,    2.864,3,    1.453,2,   -999.0,5,   -999.0,5,-999.0000,  -999.00,9,   122009,   3.1862
  06MT20030723,   569,  1,     10,2,20030823, 46.8660, -39.0650, 4588,   2037.4,   3.5086,  34.9001,2,-999.0000,9,    279.6,2,    10.32,2,    17.02,2,     0.01,2,     1.07,2,    2.883,3,    1.469,2,   -999.0,5,   -999.0,5,-999.0000,  -999.00,9,   122010,   3.3450
  06MT20030723,   569,  1,     11,2,20030823, 46.8660, -39.0650, 4588,   1813.3,   3.6329,  34.9002,2,-999.0000,9,    279.0,2,    10.13,2,    17.15,2,     0.01,2,     1.05,2,    3.062,3,    1.578,2,   -999.0,5,   -999.0,5,-999.0000,  -999.00,9,   122011,   3.4886
  06MT20030723,   569,  1,     12,2,20030823, 46.8660, -39.0650, 4588,   1607.9,   3.7658,  34.9025,2,-999.0000,9,    278.0,2,     9.70,2,    17.17,2,     0.00,2,     1.04,2,    3.320,3,    1.743,2,   -999.0,5,   -999.0,5,-999.0000,  -999.00,9,   122012,   3.6387
  06MT20030723,   569,  1,     13,2,20030823, 46.8660, -39.0650, 4588,   1504.7,   3.8679,  34.9082,2,-999.0000,9,    276.0,2,     9.58,2,    17.24,2,     0.00,2,     1.04,2,    3.310,3,    1.743,2,   -999.0,5,   -999.0,5,-999.0000,  -999.00,9,   122013,   3.7489
  06MT20030723,   569,  1,     14,2,20030823, 46.8660, -39.0650, 4588,   1415.2,   3.9985,  34.9147,2,-999.0000,9,    273.1,2,     9.67,2,    17.25,2,     0.00,2,     1.07,2,    3.221,3,    1.693,2,   -999.0,5,   -999.0,5,-999.0000,  -999.00,9,   122014,   3.8861
  06MT20030723,   569,  1,     15,2,20030823, 46.8660, -39.0650, 4588,   1292.0,   4.1719,  34.9221,2,-999.0000,9,    269.5,2,     9.69,2,    17.33,2,     0.00,2,     1.09,2,    3.202,3,    1.695,2,   -999.0,5,   -999.0,5,-999.0000,  -999.00,9,   122015,   4.0687
  06MT20030723,   569,  1,     16,2,20030823, 46.8660, -39.0650, 4588,   1171.5,   4.3674,  34.9319,2,  34.9449,2,    262.6,2,     9.87,2,    17.75,2,     0.00,2,     1.09,2,    3.233,3,    1.719,2,   -999.0,5,   -999.0,5,-999.0000,  -999.00,9,   122016,   4.2731
  06MT20030723,   569,  1,     17,2,20030823, 46.8660, -39.0650, 4588,   1077.6,   4.7299,  34.9501,2,-999.0000,9,    253.1,2,     9.92,2,    18.18,2,     0.00,2,     1.11,2,    2.954,3,    1.562,2,   -999.0,5,   -999.0,5,-999.0000,  -999.00,9,   122017,   4.6409
  06MT20030723,   569,  1,     18,2,20030823, 46.8660, -39.0650, 4588,   1002.8,   4.9699,  34.9484,2,-999.0000,9,    248.3,2,     9.86,2,    18.22,2,     0.00,2,     1.11,2,    2.885,3,    1.543,2,   -999.0,5,   -999.0,5,-999.0000,  -999.00,9,   122018,   4.8858
  06MT20030723,   569,  1,     19,2,20030823, 46.8660, -39.0650, 4588,    794.9,   6.7317,  34.9519,2,-999.0000,9,    211.1,2,    10.03,2,    19.22,2,     0.01,2,     1.18,2,    2.418,3,    1.309,2,   -999.0,5,   -999.0,5,-999.0000,  -999.00,9,   122019,   6.6557
  06MT20030723,   569,  1,     20,2,20030823, 46.8660, -39.0650, 4588,    510.5,  11.5695,  35.5307,2,-999.0000,9,    231.7,2,     4.23,2,    11.96,2,     0.01,2,     0.64,2,    2.687,3,    1.559,2,   -999.0,5,   -999.0,5,-999.0000,  -999.00,9,   122020,  11.5032
  06MT20030723,   569,  1,     21,2,20030823, 46.8660, -39.0650, 4588,    213.2,  13.3244,  35.6894,2,-999.0000,9,    215.2,2,     2.93,2,     9.81,2,     0.02,2,     0.54,2,    2.588,3,    1.523,2,   -999.0,5,   -999.0,5,-999.0000,  -999.00,9,   122021,  13.2944
  06MT20030723,   569,  1,     22,2,20030823, 46.8660, -39.0650, 4588,     27.2,  18.4716,  35.6894,2,  35.6547,0,    237.6,2,     0.06,2,     0.03,2,     0.01,2,     0.02,2,    2.359,3,    1.431,2,   -999.0,5,   -999.0,5,-999.0000,  -999.00,9,   122022,  18.4668
  06MT20030723,   570,  1,      1,2,20030824, 46.9240, -40.0480, 4560,   4637.9,   2.1503,  34.8834,2,  34.8884,2,    286.3,2,    16.40,2,    15.87,2,     0.01,2,     1.01,2, -999.000,9, -999.000,9,   2161.5,2,   2305.2,2,   7.7354,    25.00,2,   123001,   1.7372
  06MT20030723,   570,  1,      2,2,20030824, 46.9240, -40.0480, 4560,   4637.3,   2.1500,  34.8836,2,-999.0000,9,    287.0,2,    16.52,2,    16.05,2,     0.00,2,     1.01,2,    2.559,3,    1.347,2,   -999.0,5,   -999.0,5,-999.0000,  -999.00,9,   123002,   1.7370
  06MT20030723,   570,  1,      3,2,20030824, 46.9240, -40.0480, 4560,   4482.0,   2.2114,  34.8866,2,-999.0000,9,    282.1,2,    19.56,2,    16.70,2,     0.00,2,     1.07,2,    2.018,3,    1.063,2,   2164.9,2,   2308.1,2,   7.7364,    25.00,2,   123003,   1.8151
  06MT20030723,   570,  1,      4,2,20030824, 46.9240, -40.0480, 4560,   4274.7,   2.2681,  34.8907,2,-999.0000,9,    280.5,2,    19.14,2,    16.63,2,     0.01,2,     1.07,2, -999.000,9, -999.000,9,   2164.1,2,   2309.9,2,   7.7394,    25.00,2,   123004,   1.8946
  06MT20030723,   570,  1,      5,2,20030824, 46.9240, -40.0480, 4560,   3862.0,   2.4497,  34.9003,2,-999.0000,9,    278.6,2,    18.19,2,    16.91,2,     0.01,2,     1.09,2,    1.614,3,    0.829,2,   2164.3,2,   2308.9,2,   7.7404,    25.00,2,   123005,   2.1185
  06MT20030723,   570,  1,      6,2,20030824, 46.9240, -40.0480, 4560,   3481.0,   2.7578,  34.9087,2,  34.9029,2,   -999.0,5,  -999.00,5,  -999.00,5,  -999.00,5,  -999.00,5,    1.756,3,    0.909,2,   -999.0,5,   -999.0,5,-999.0000,  -999.00,9,   123006,   2.4611
  06MT20030723,   570,  1,      7,2,20030824, 46.9240, -40.0480, 4560,   3064.3,   3.0107,  34.9086,2,-999.0000,9,    279.6,2,    13.07,2,    16.90,2,     0.01,2,     1.06,2,    1.977,3,    1.019,2,   2157.3,2,   2301.0,2,   7.7394,    25.00,2,   123007,   2.7530
  06MT20030723,   570,  1,      8,2,20030824, 46.9240, -40.0480, 4560,   2839.0,   3.1200,  34.9032,2,-999.0000,9,    280.3,2,    12.26,2,    16.72,2,     0.00,2,     1.06,2,    2.186,3,    1.121,2,   2158.7,2,   2299.1,2,   7.7384,    25.00,2,   123008,   2.8836
  06MT20030723,   570,  1,      9,2,20030824, 46.9240, -40.0480, 4560,   2531.8,   3.2150,  34.8908,2,-999.0000,9,    283.7,2,    11.06,2,    16.90,2,     0.01,2,     1.06,2,    2.718,3,    1.404,2,   2157.1,2,   2298.6,2,   7.7354,    25.00,2,   123009,   3.0081
  06MT20030723,   570,  1,     10,2,20030824, 46.9240, -40.0480, 4560,   2328.8,   3.3100,  34.8903,2,-999.0000,9,   -999.0,5,  -999.00,5,  -999.00,5,  -999.00,5,  -999.00,5, -999.000,9, -999.000,9,   -999.0,5,   -999.0,5,-999.0000,  -999.00,9,   123010,   3.1215
  06MT20030723,   570,  1,     11,2,20030824, 46.9240, -40.0480, 4560,   2021.4,   3.5137,  34.8983,2,-999.0000,9,    279.5,2,    10.39,2,    17.25,2,     0.00,2,     1.07,2,    2.895,3,    1.521,2,   2158.1,2,   2297.2,2,   7.7285,    25.00,2,   123011,   3.3516
  06MT20030723,   570,  1,     12,2,20030824, 46.9240, -40.0480, 4560,   1799.7,   3.6365,  34.8964,2,  34.9055,0,    277.4,2,    10.03,2,    17.28,2,     0.01,2,     1.07,2,    2.982,3,    1.573,2,   2158.5,2,   2299.5,2,   7.7285,    25.00,2,   123012,   3.4934
  06MT20030723,   570,  1,     13,2,20030824, 46.9240, -40.0480, 4560,   1498.8,   3.9146,  34.9119,2,-999.0000,9,    274.1,2,     9.85,2,    17.15,2,     0.01,2,     1.06,2,    3.193,3,    1.709,2,   2159.3,2,   2299.6,2,   7.7266,    25.00,2,   123013,   3.7956
  06MT20030723,   570,  1,     14,2,20030824, 46.9240, -40.0480, 4560,   1249.7,   4.2579,  34.9072,2,-999.0000,9,    267.0,2,     9.97,2,    17.52,2,     0.00,2,     1.09,2,    3.261,3,    1.763,2,   2162.6,2,   2301.3,2,   7.7246,    25.00,2,   123014,   4.1577
  06MT20030723,   570,  1,     15,2,20030824, 46.9240, -40.0480, 4560,   1221.9,   4.2655,  34.9095,2,-999.0000,9,    270.0,2,     9.42,2,    17.31,2,     0.00,2,     1.07,2,    3.431,3,    1.888,2,   2161.4,2,   2301.3,2,   7.7246,    25.00,2,   123015,   4.1677
  06MT20030723,   570,  1,     16,2,20030824, 46.9240, -40.0480, 4560,   1123.6,   4.7486,  34.9483,2,-999.0000,9,    252.9,2,    10.16,2,    18.13,2,     0.00,2,     1.14,2,    2.932,3,    1.601,2,   2168.0,2,   2302.2,2,   7.7187,    25.00,2,   123016,   4.6553
  06MT20030723,   570,  1,     17,2,20030824, 46.9240, -40.0480, 4560,    985.4,   5.1438,  34.9130,2,-999.0000,9,    242.3,2,    10.33,2,    18.78,2,     0.00,2,     1.16,2,    2.739,3,    1.481,2,   2171.5,2,   2302.9,2,   7.7157,    25.00,2,   123017,   5.0601
  06MT20030723,   570,  1,     18,2,20030824, 46.9240, -40.0480, 4560,    904.6,   6.0235,  34.9418,2,-999.0000,9,    226.2,2,    10.08,2,    19.10,2,     0.00,2,     1.19,2,    2.587,3,    1.419,2,   2171.6,2,   2303.7,2,   7.7078,    25.00,2,   123018,   5.9411
  06MT20030723,   570,  1,     19,2,20030824, 46.9240, -40.0480, 4560,    586.2,  10.8283,  35.4045,2,  35.3929,0,    226.9,2,     5.22,2,    13.29,2,     0.02,2,     0.78,2,    2.641,3,    1.566,2,   2145.7,2,   2326.2,2,   7.8163,    25.00,2,   123019,  10.7551
  06MT20030723,   570,  1,     20,2,20030824, 46.9240, -40.0480, 4560,    191.9,  13.4715,  35.7498,2,-999.0000,9,    223.6,2,     2.36,2,     9.01,2,     0.01,2,     0.47,2,    2.616,3,    1.574,2,   2122.7,2,   2343.7,2,   7.8905,    25.00,2,   123020,  13.4443
  06MT20030723,   570,  1,     21,2,20030824, 46.9240, -40.0480, 4560,     88.5,  14.9250,  36.0098,2,-999.0000,9,    226.4,2,     1.31,2,     6.19,2,     0.02,2,     0.30,2, -999.000,9, -999.000,9,   2111.4,2,   2357.0,2,   7.9341,    25.00,2,   123021,  14.9116
  06MT20030723,   570,  1,     22,2,20030824, 46.9240, -40.0480, 4560,      9.7,  17.8650,  35.8080,2,-999.0000,9,    240.8,2,     0.29,2,     0.05,2,     0.00,2,     0.01,2,    2.375,3,    1.474,2,   2054.9,2,   2351.1,2,   8.0225,    25.00,2,   123022,  17.8633
  06MT20030723,   571,  1,      1,2,20030824, 46.9510, -40.5090, 4550,   4625.5,   2.0719,  34.8800,2,  34.8803,2,   -999.0,5,  -999.00,5,  -999.00,5,  -999.00,5,  -999.00,5, -999.000,9, -999.000,9,   -999.0,5,   -999.0,5,-999.0000,  -999.00,9,   124001,   1.6628
  06MT20030723,   571,  1,      2,2,20030824, 46.9510, -40.5090, 4550,   4625.2,   2.0720,  34.8804,2,-999.0000,9,    291.3,2,  -999.00,5,  -999.00,5,  -999.00,5,  -999.00,5,    2.974,3,    1.540,2,   -999.0,5,   -999.0,5,-999.0000,  -999.00,9,   124002,   1.6629
  06MT20030723,   571,  1,      3,2,20030824, 46.9510, -40.5090, 4550,   4482.1,   2.1767,  34.8851,2,-999.0000,9,   -999.0,5,  -999.00,5,  -999.00,5,  -999.00,5,  -999.00,5,    2.353,3,    1.219,2,   -999.0,5,   -999.0,5,-999.0000,  -999.00,9,   124003,   1.7815
  06MT20030723,   571,  1,      4,2,20030824, 46.9510, -40.5090, 4550,   4163.9,   2.2815,  34.8914,2,-999.0000,9,   -999.0,5,  -999.00,5,  -999.00,5,  -999.00,5,  -999.00,5,    1.851,3,    0.950,2,   -999.0,5,   -999.0,5,-999.0000,  -999.00,9,   124004,   1.9205
  06MT20030723,   571,  1,      5,2,20030824, 46.9510, -40.5090, 4550,   3955.2,   2.3805,  34.8962,2,-999.0000,9,    279.7,2,  -999.00,5,  -999.00,5,  -999.00,5,  -999.00,5,    1.758,3,    0.898,2,   -999.0,5,   -999.0,5,-999.0000,  -999.00,9,   124005,   2.0406
  06MT20030723,   571,  1,      6,2,20030824, 46.9510, -40.5090, 4550,   3534.2,   2.6632,  34.9066,2,-999.0000,9,   -999.0,5,  -999.00,5,  -999.00,5,  -999.00,5,  -999.00,5,    1.744,3,    0.909,2,   -999.0,5,   -999.0,5,-999.0000,  -999.00,9,   124006,   2.3630
  06MT20030723,   571,  1,      7,2,20030824, 46.9510, -40.5090, 4550,   3134.1,   2.9486,  34.9097,2,-999.0000,9,   -999.0,5,  -999.00,5,  -999.00,5,  -999.00,5,  -999.00,5, -999.000,9, -999.000,9,   -999.0,5,   -999.0,5,-999.0000,  -999.00,9,   124007,   2.6849
  06MT20030723,   571,  1,      8,2,20030824, 46.9510, -40.5090, 4550,   2725.1,   3.1323,  34.8995,2,-999.0000,9,   -999.0,5,  -999.00,5,  -999.00,5,  -999.00,5,  -999.00,5,    2.280,3,    1.184,2,   -999.0,5,   -999.0,5,-999.0000,  -999.00,9,   124008,   2.9074
  06MT20030723,   571,  1,      9,2,20030824, 46.9510, -40.5090, 4550,   2318.6,   3.2786,  34.8874,2,  34.8874,2,   -999.0,5,  -999.00,5,  -999.00,5,  -999.00,5,  -999.00,5,    2.770,3,    1.411,2,   -999.0,5,   -999.0,5,-999.0000,  -999.00,9,   124009,   3.0917
  06MT20030723,   571,  1,     10,2,20030824, 46.9510, -40.5090, 4550,   2117.0,   3.4084,  34.8955,2,-999.0000,9,   -999.0,5,  -999.00,5,  -999.00,5,  -999.00,5,  -999.00,5,    2.734,3,    1.411,2,   -999.0,5,   -999.0,5,-999.0000,  -999.00,9,   124010,   3.2388
  06MT20030723,   571,  1,     11,2,20030824, 46.9510, -40.5090, 4550,   1910.0,   3.5610,  34.9018,2,-999.0000,9,    278.4,2,  -999.00,5,  -999.00,5,  -999.00,5,  -999.00,5,    2.810,3,    1.456,2,   -999.0,5,   -999.0,5,-999.0000,  -999.00,9,   124011,   3.4087
  06MT20030723,   571,  1,     12,2,20030824, 46.9510, -40.5090, 4550,   1717.6,   3.6896,  34.9056,2,-999.0000,9,   -999.0,5,  -999.00,5,  -999.00,5,  -999.00,5,  -999.00,5,    3.018,3,    1.588,2,   -999.0,5,   -999.0,5,-999.0000,  -999.00,9,   124012,   3.5534
  06MT20030723,   571,  1,     13,2,20030824, 46.9510, -40.5090, 4550,   1618.9,   3.7504,  34.9051,2,-999.0000,9,   -999.0,5,  -999.00,5,  -999.00,5,  -999.00,5,  -999.00,5,    3.126,3,    1.652,2,   -999.0,5,   -999.0,5,-999.0000,  -999.00,9,   124013,   3.6224
  06MT20030723,   571,  1,     14,2,20030824, 46.9510, -40.5090, 4550,   1503.4,   3.8244,  34.9034,2,-999.0000,9,   -999.0,5,  -999.00,5,  -999.00,5,  -999.00,5,  -999.00,5,    3.252,3,    1.732,2,   -999.0,5,   -999.0,5,-999.0000,  -999.00,9,   124014,   3.7060
  06MT20030723,   571,  1,     15,2,20030824, 46.9510, -40.5090, 4550,   1405.6,   3.9360,  34.9101,2,-999.0000,9,   -999.0,5,  -999.00,5,  -999.00,5,  -999.00,5,  -999.00,5,    3.288,3,    1.765,2,   -999.0,5,   -999.0,5,-999.0000,  -999.00,9,   124015,   3.8251
  06MT20030723,   571,  1,     16,2,20030824, 46.9510, -40.5090, 4550,   1197.2,   4.1966,  34.9150,2,  34.9220,2,   -999.0,5,  -999.00,5,  -999.00,5,  -999.00,5,  -999.00,5,    3.296,3,    1.780,2,   -999.0,5,   -999.0,5,-999.0000,  -999.00,9,   124016,   4.1016
  06MT20030723,   571,  1,     17,2,20030824, 46.9510, -40.5090, 4550,   1111.9,   4.4052,  34.9196,2,-999.0000,9,    266.5,2,  -999.00,5,  -999.00,5,  -999.00,5,  -999.00,5,    3.265,3,    1.773,2,   -999.0,5,   -999.0,5,-999.0000,  -999.00,9,   124017,   4.3159
  06MT20030723,   571,  1,     18,2,20030824, 46.9510, -40.5090, 4550,   1010.0,   4.9397,  34.9604,2,-999.0000,9,   -999.0,5,  -999.00,5,  -999.00,5,  -999.00,5,  -999.00,5,    2.802,3,    1.532,2,   -999.0,5,   -999.0,5,-999.0000,  -999.00,9,   124018,   4.8552
  06MT20030723,   571,  1,     19,2,20030824, 46.9510, -40.5090, 4550,    693.7,   7.6993,  35.0167,2,-999.0000,9,   -999.0,5,  -999.00,5,  -999.00,5,  -999.00,5,  -999.00,5,    2.193,3,    1.242,2,   -999.0,5,   -999.0,5,-999.0000,  -999.00,9,   124019,   7.6284
  06MT20030723,   571,  1,     20,2,20030824, 46.9510, -40.5090, 4550,    396.2,  11.7518,  35.5758,2,-999.0000,9,   -999.0,5,  -999.00,5,  -999.00,5,  -999.00,5,  -999.00,5,    2.878,3,    1.737,2,   -999.0,5,   -999.0,5,-999.0000,  -999.00,9,   124020,  11.7001
  06MT20030723,   571,  1,     21,2,20030824, 46.9510, -40.5090, 4550,    105.2,  14.3570,  35.8693,2,  35.8611,0,   -999.0,5,  -999.00,5,  -999.00,5,  -999.00,5,  -999.00,5,    2.576,3,    1.549,2,   -999.0,5,   -999.0,5,-999.0000,  -999.00,9,   124021,  14.3415
  06MT20030723,   571,  1,     22,2,20030824, 46.9510, -40.5090, 4550,      2.1,  18.1100,  35.7635,2,-999.0000,9,    240.4,2,  -999.00,5,  -999.00,5,  -999.00,5,  -999.00,5,    2.366,3,    1.468,2,   -999.0,5,   -999.0,5,-999.0000,  -999.00,9,   124022,  18.1096