BOTTLE,20090513PRINUNIVRMK
EXPOCODE,STNNBR,CASTNO,BTLNBR,BTLNBR_FLAG_W,DATE,LATITUDE,LONGITUDE,DEPTH,CTDPRS,CTDTMP,CTDSAL,CTDSAL_FLAG_W,SALNTY,SALNTY_FLAG_W,OXYGEN,OXYGEN_FLAG_W,SILCAT,SILCAT_FLAG_W,NITRAT,NITRAT_FLAG_W,NITRIT,NITRIT_FLAG_W,PHSPHT,PHSPHT_FLAG_W,CFC-11,CFC-11_FLAG_W,CFC-12,CFC-12_FLAG_W,TCARBN,TCARBN_FLAG_W,ALKALI,ALKALI_FLAG_W,PH_SWS,PH_TEMP,PH_SWS_FLAG_W,ID,THETA
,,,,,,,,METERS,DBARS,ITS-90,PSS-78,,PSS-78,,UMOL/KG,,UMOL/KG,,UMOL/KG,,UMOL/KG,,UMOL/KG,,PMOL/KG,,PMOL/KG,,UMOL/KG,,UMOL/KG,,,DEGC,,,DEGC
  06MT20030723,   485,  1,      1,2,20030801, 56.5250, -42.5750, 3247,   3216.4,   2.4989,  34.8990,2,  34.9067,0,    282.3,2,  -999.00,5,  -999.00,5,  -999.00,5,  -999.00,5, -999.000,9, -999.000,9,   -999.0,5,   -999.0,5,-999.0000,  -999.00,9,    36001,   2.2368
  06MT20030723,   485,  1,      2,2,20030801, 56.5250, -42.5750, 3247,   3216.4,   2.4989,  34.8990,2,-999.0000,9,   -999.0,5,  -999.00,5,  -999.00,5,  -999.00,5,  -999.00,5,    2.045,3,    1.032,2,   -999.0,5,   -999.0,5,-999.0000,  -999.00,9,    36002,   2.2368
  06MT20030723,   485,  1,      3,2,20030801, 56.5250, -42.5750, 3247,   2945.7,   2.7491,  34.9267,2,-999.0000,9,   -999.0,5,  -999.00,5,  -999.00,5,  -999.00,5,  -999.00,5,    2.025,3,    1.023,2,   -999.0,5,   -999.0,5,-999.0000,  -999.00,9,    36003,   2.5094
  06MT20030723,   485,  1,      4,2,20030801, 56.5250, -42.5750, 3247,   2739.4,   2.8621,  34.9305,2,-999.0000,9,   -999.0,5,  -999.00,5,  -999.00,5,  -999.00,5,  -999.00,5,    2.083,3,    1.052,2,   -999.0,5,   -999.0,5,-999.0000,  -999.00,9,    36004,   2.6410
  06MT20030723,   485,  1,      5,2,20030801, 56.5250, -42.5750, 3247,   2636.1,   2.9278,  34.9325,2,-999.0000,9,   -999.0,5,  -999.00,5,  -999.00,5,  -999.00,5,  -999.00,5,    2.112,3,    1.066,2,   -999.0,5,   -999.0,5,-999.0000,  -999.00,9,    36005,   2.7157
  06MT20030723,   485,  1,      6,2,20030801, 56.5250, -42.5750, 3247,   2435.8,   2.9834,  34.9207,2,-999.0000,9,    280.3,2,  -999.00,5,  -999.00,5,  -999.00,5,  -999.00,5,    2.174,3,    1.095,2,   -999.0,5,   -999.0,5,-999.0000,  -999.00,9,    36006,   2.7901
  06MT20030723,   485,  1,      7,2,20030801, 56.5250, -42.5750, 3247,   2254.2,   3.0916,  34.9178,2,-999.0000,9,   -999.0,5,  -999.00,5,  -999.00,5,  -999.00,5,  -999.00,5,    2.399,3,    1.197,2,   -999.0,5,   -999.0,5,-999.0000,  -999.00,9,    36007,   2.9139
  06MT20030723,   485,  1,      8,2,20030801, 56.5250, -42.5750, 3247,   2024.8,   3.0938,  34.8958,2,  34.8979,2,   -999.0,5,  -999.00,5,  -999.00,5,  -999.00,5,  -999.00,5,    2.753,3,    1.389,2,   -999.0,5,   -999.0,5,-999.0000,  -999.00,9,    36008,   2.9377
  06MT20030723,   485,  1,      9,2,20030801, 56.5250, -42.5750, 3247,   1823.1,   3.1168,  34.8782,2,-999.0000,9,    287.6,2,  -999.00,5,  -999.00,5,  -999.00,5,  -999.00,5,    3.212,3,    1.616,2,   -999.0,5,   -999.0,5,-999.0000,  -999.00,9,    36009,   2.9787
  06MT20030723,   485,  1,     10,2,20030801, 56.5250, -42.5750, 3247,   1624.6,   3.2006,  34.8795,2,-999.0000,9,   -999.0,5,  -999.00,5,  -999.00,5,  -999.00,5,  -999.00,5,    3.317,3,    1.679,2,   -999.0,5,   -999.0,5,-999.0000,  -999.00,9,    36010,   3.0789
  06MT20030723,   485,  1,     11,2,20030801, 56.5250, -42.5750, 3247,   1425.8,   3.3336,  34.8872,2,-999.0000,9,   -999.0,5,  -999.00,5,  -999.00,5,  -999.00,5,  -999.00,5,    3.240,3,    1.651,2,   -999.0,5,   -999.0,5,-999.0000,  -999.00,9,    36011,   3.2275
  06MT20030723,   485,  1,     12,2,20030801, 56.5250, -42.5750, 3247,   1235.8,   3.4726,  34.8865,2,-999.0000,9,   -999.0,5,  -999.00,5,  -999.00,5,  -999.00,5,  -999.00,5, -999.000,9, -999.000,9,   -999.0,5,   -999.0,5,-999.0000,  -999.00,9,    36012,   3.3811
  06MT20030723,   485,  1,     13,2,20030801, 56.5250, -42.5750, 3247,   1135.9,   3.5077,  34.8801,2,-999.0000,9,    291.6,2,  -999.00,5,  -999.00,5,  -999.00,5,  -999.00,5,    3.533,3,    1.828,2,   -999.0,5,   -999.0,5,-999.0000,  -999.00,9,    36013,   3.4242
  06MT20030723,   485,  1,     14,2,20030801, 56.5250, -42.5750, 3247,   1020.7,   3.3741,  34.8530,2,-999.0000,9,   -999.0,5,  -999.00,5,  -999.00,5,  -999.00,5,  -999.00,5,    4.194,3,    2.238,2,   -999.0,5,   -999.0,5,-999.0000,  -999.00,9,    36014,   3.3010
  06MT20030723,   485,  1,     15,2,20030801, 56.5250, -42.5750, 3247,    828.6,   3.4880,  34.8576,2,-999.0000,9,   -999.0,5,  -999.00,5,  -999.00,5,  -999.00,5,  -999.00,5,    4.340,3,    2.337,2,   -999.0,5,   -999.0,5,-999.0000,  -999.00,9,    36015,   3.4292
  06MT20030723,   485,  1,     16,2,20030801, 56.5250, -42.5750, 3247,    705.6,   3.5128,  34.8537,2,-999.0000,9,   -999.0,5,  -999.00,5,  -999.00,5,  -999.00,5,  -999.00,5,    4.313,3,    2.325,2,   -999.0,5,   -999.0,5,-999.0000,  -999.00,9,    36016,   3.4632
  06MT20030723,   485,  1,     17,2,20030801, 56.5250, -42.5750, 3247,    604.0,   3.6777,  34.8709,2,-999.0000,9,   -999.0,5,  -999.00,5,  -999.00,5,  -999.00,5,  -999.00,5,    4.072,3,    2.180,2,   -999.0,5,   -999.0,5,-999.0000,  -999.00,9,    36017,   3.6350
  06MT20030723,   485,  1,     18,2,20030801, 56.5250, -42.5750, 3247,    399.9,   4.0453,  34.8876,2,-999.0000,9,   -999.0,5,  -999.00,5,  -999.00,5,  -999.00,5,  -999.00,5,    3.744,3,    2.004,2,   -999.0,5,   -999.0,5,-999.0000,  -999.00,9,    36018,   4.0165
  06MT20030723,   485,  1,     19,2,20030801, 56.5250, -42.5750, 3247,    200.4,   4.5376,  34.8569,2,  34.8574,2,   -999.0,5,  -999.00,5,  -999.00,5,  -999.00,5,  -999.00,5,    4.065,3,    2.236,2,   -999.0,5,   -999.0,5,-999.0000,  -999.00,9,    36019,   4.5227
  06MT20030723,   485,  1,     20,2,20030801, 56.5250, -42.5750, 3247,    127.8,   4.9721,  34.8675,2,-999.0000,9,   -999.0,5,  -999.00,5,  -999.00,5,  -999.00,5,  -999.00,5,    4.368,3,    2.436,2,   -999.0,5,   -999.0,5,-999.0000,  -999.00,9,    36020,   4.9622
  06MT20030723,   485,  1,     21,2,20030801, 56.5250, -42.5750, 3247,     78.3,   5.2811,  34.8448,2,-999.0000,9,   -999.0,5,  -999.00,5,  -999.00,5,  -999.00,5,  -999.00,5,    4.385,3,    2.452,2,   -999.0,5,   -999.0,5,-999.0000,  -999.00,9,    36021,   5.2749
  06MT20030723,   485,  1,     22,2,20030801, 56.5250, -42.5750, 3247,     24.5,   8.9003,  34.7416,2,-999.0000,9,    293.6,2,  -999.00,5,  -999.00,5,  -999.00,5,  -999.00,5,    4.013,3,    2.297,2,   -999.0,5,   -999.0,5,-999.0000,  -999.00,9,    36022,   8.8977
  06MT20030723,   486,  1,      1,2,20030801, 56.9000, -41.7160, 3370,   3369.0,   2.2604,  34.8986,2,  34.8961,2,    285.1,2,    13.91,2,    15.43,2,     0.01,2,     0.98,2, -999.000,9, -999.000,9,   2158.8,2,   2311.7,2,   7.7167,    25.00,2,    37001,   1.9879
  06MT20030723,   486,  1,      2,2,20030801, 56.9000, -41.7160, 3370,   3366.1,   2.2672,  34.8987,2,-999.0000,9,    287.1,2,    14.03,2,    15.37,2,     0.00,2,     0.97,2,    2.570,3,    1.321,2,   -999.0,5,   -999.0,5,-999.0000,  -999.00,9,    37002,   1.9948
  06MT20030723,   486,  1,      3,2,20030801, 56.9000, -41.7160, 3370,   3354.0,   2.2816,  34.9001,2,-999.0000,9,    284.8,2,    14.12,2,    15.48,2,     0.00,2,     0.97,2,    2.550,3,    1.307,2,   2158.4,2,   2311.8,2,   7.7167,    25.00,2,    37003,   2.0101
  06MT20030723,   486,  1,      4,2,20030801, 56.9000, -41.7160, 3370,   3150.0,   2.6301,  34.9194,2,-999.0000,9,    280.6,2,    14.85,2,    16.11,2,     0.00,2,     1.02,2,    2.014,3,    1.030,2,   2159.4,2,   2315.1,2,   7.7167,    25.00,2,    37004,   2.3718
  06MT20030723,   486,  1,      5,2,20030801, 56.9000, -41.7160, 3370,   2892.1,   2.7984,  34.9286,2,-999.0000,9,    277.8,2,    13.79,2,    16.25,2,     0.00,2,     1.03,2,    2.032,3,    1.042,2,   2158.8,2,   2314.6,2,   7.7197,    25.00,2,    37005,   2.5631
  06MT20030723,   486,  1,      6,2,20030801, 56.9000, -41.7160, 3370,   2635.2,   2.9474,  34.9339,2,-999.0000,9,    277.7,2,    12.99,2,    16.26,2,     0.00,2,     1.03,2,    2.089,3,    1.074,2,   2157.2,2,   2316.7,2,   7.7206,    25.00,2,    37006,   2.7351
  06MT20030723,   486,  1,      7,2,20030801, 56.9000, -41.7160, 3370,   2430.9,   3.0515,  34.9293,2,  34.9305,2,    278.8,2,    12.23,2,    16.20,2,     0.00,2,     1.01,2,    2.226,3,    1.129,2,   2157.9,2,   2315.1,2,   7.7197,    25.00,2,    37007,   2.8574
  06MT20030723,   486,  1,      8,2,20030801, 56.9000, -41.7160, 3370,   2124.3,   3.1700,  34.9189,2,-999.0000,9,    281.0,2,    11.05,2,    16.20,2,     0.01,2,     1.01,2,    2.626,3,    1.337,2,   2155.1,2,   2310.6,2,   7.7177,    25.00,2,    37008,   3.0034
  06MT20030723,   486,  1,      9,2,20030801, 56.9000, -41.7160, 3370,   1821.9,   3.1401,  34.8827,2,-999.0000,9,    289.8,2,    10.29,2,    16.53,2,     0.00,2,     1.02,2,    3.189,3,    1.620,2,   2153.6,2,   2307.0,2,   7.7157,    25.00,2,    37009,   3.0018
  06MT20030723,   486,  1,     10,2,20030801, 56.9000, -41.7160, 3370,   1614.9,   3.3024,  34.8919,2,-999.0000,9,    283.5,2,    10.30,2,    16.76,2,     0.00,2,     1.04,2,    3.162,3,    1.605,2,   2155.6,2,   2305.6,2,   7.7098,    25.00,2,    37010,   3.1803
  06MT20030723,   486,  1,     11,2,20030801, 56.9000, -41.7160, 3370,   1408.7,   3.4944,  34.8984,2,-999.0000,9,    279.2,2,    10.17,2,    16.93,2,     0.00,2,     1.03,2,    3.259,3,    1.662,2,   2157.3,2,   2310.8,2,   7.7078,    25.00,2,    37011,   3.3880
  06MT20030723,   486,  1,     12,2,20030801, 56.9000, -41.7160, 3370,   1251.5,   3.4531,  34.8743,2,-999.0000,9,   -999.0,5,  -999.00,5,  -999.00,5,  -999.00,5,  -999.00,5, -999.000,9, -999.000,9,   -999.0,5,   -999.0,5,-999.0000,  -999.00,9,    37012,   3.3605
  06MT20030723,   486,  1,     13,2,20030801, 56.9000, -41.7160, 3370,   1097.9,   3.3531,  34.8470,2,  34.8483,2,    292.5,2,     8.78,2,    16.21,2,     0.01,2,     1.02,2,    4.234,3,    2.258,2,   2154.6,2,   2306.8,2,   7.7098,    25.00,2,    37013,   3.2741
  06MT20030723,   486,  1,     14,2,20030801, 56.9000, -41.7160, 3370,    956.6,   3.3978,  34.8459,2,-999.0000,9,    295.0,2,     8.45,2,    15.95,2,     0.01,2,     1.00,2, -999.000,9, -999.000,9,   2154.3,2,   2309.6,2,   7.7098,    25.00,2,    37014,   3.3296
  06MT20030723,   486,  1,     15,2,20030801, 56.9000, -41.7160, 3370,    804.2,   3.4672,  34.8468,2,-999.0000,9,    296.1,2,     8.35,2,    15.97,2,     0.00,2,     0.98,2,    4.462,3,    2.417,2,   2153.7,2,   2304.3,2,   7.7059,    25.00,2,    37015,   3.4104
  06MT20030723,   486,  1,     16,2,20030801, 56.9000, -41.7160, 3370,    664.3,   3.5690,  34.8500,2,-999.0000,9,    299.0,2,     8.07,2,    15.99,2,     0.01,2,     0.98,2,    4.534,3,    2.495,2,   2153.0,2,   2302.9,2,   7.7108,    25.00,2,    37016,   3.5223
  06MT20030723,   486,  1,     17,2,20030801, 56.9000, -41.7160, 3370,    486.8,   3.8387,  34.8548,2,-999.0000,9,    288.2,2,     8.51,2,    16.57,2,     0.00,2,     1.01,2, -999.000,9, -999.000,9,   2157.4,2,   2305.6,2,   7.7059,    25.00,2,    37017,   3.8041
  06MT20030723,   486,  1,     18,2,20030801, 56.9000, -41.7160, 3370,    350.8,   4.5053,  34.8984,2,-999.0000,9,    272.6,2,     8.76,2,    16.96,2,     0.00,2,     1.03,2,    3.883,3,    2.120,2,   2159.3,2,   2309.5,2,   7.7049,    25.00,2,    37018,   4.4789
  06MT20030723,   486,  1,     19,2,20030801, 56.9000, -41.7160, 3370,    202.1,   5.0534,  34.8843,2,-999.0000,9,    273.7,2,     8.01,2,    16.24,2,     0.01,2,     1.00,2,    3.993,3,    2.208,2,   2154.9,2,   2313.7,2,   7.7157,    25.00,2,    37019,   5.0375
  06MT20030723,   486,  1,     20,2,20030801, 56.9000, -41.7160, 3370,    114.8,   5.7867,  34.9071,2,-999.0000,9,   -999.0,5,  -999.00,5,  -999.00,5,  -999.00,5,  -999.00,5, -999.000,9, -999.000,9,   2147.0,2,   2310.4,2,   7.7394,    25.00,2,    37020,   5.7771
  06MT20030723,   486,  1,     21,2,20030801, 56.9000, -41.7160, 3370,     71.8,   6.1599,  34.9296,2,-999.0000,9,    283.7,2,     6.62,2,    14.57,2,     0.03,2,     0.88,2,    4.174,3,    2.343,2,   2144.9,2,   2310.8,2,   7.7473,    25.00,2,    37021,   6.1537
  06MT20030723,   486,  1,     22,2,20030801, 56.9000, -41.7160, 3370,     14.3,   9.3130,  34.8222,2,-999.0000,9,    289.0,2,     1.11,2,     7.43,2,     0.15,2,     0.43,2,    3.952,3,    2.258,2,   2094.3,2,   2299.0,2,   7.8451,    25.00,2,    37022,   9.3114
  06MT20030723,   487,  1,      1,2,20030802, 56.1660, -41.6410, 3237,   3262.7,   2.5362,  34.9129,2,-999.0000,9,    279.8,2,  -999.00,5,  -999.00,5,  -999.00,5,  -999.00,5, -999.000,9, -999.000,9,   -999.0,5,   -999.0,5,-999.0000,  -999.00,9,    38001,   2.2683
  06MT20030723,   487,  1,      2,2,20030802, 56.1660, -41.6410, 3237,   3261.9,   2.5362,  34.9139,2,-999.0000,9,   -999.0,5,  -999.00,5,  -999.00,5,  -999.00,5,  -999.00,5,    2.051,3,    1.052,2,   -999.0,5,   -999.0,5,-999.0000,  -999.00,9,    38002,   2.2683
  06MT20030723,   487,  1,      3,2,20030802, 56.1660, -41.6410, 3237,   3250.6,   2.5381,  34.9146,2,-999.0000,9,   -999.0,5,  -999.00,5,  -999.00,5,  -999.00,5,  -999.00,5,    2.029,3,    1.041,2,   -999.0,5,   -999.0,5,-999.0000,  -999.00,9,    38003,   2.2714
  06MT20030723,   487,  1,      4,2,20030802, 56.1660, -41.6410, 3237,   3146.6,   2.6330,  34.9199,2,-999.0000,9,   -999.0,5,  -999.00,5,  -999.00,5,  -999.00,5,  -999.00,5,    1.984,3,    1.020,2,   -999.0,5,   -999.0,5,-999.0000,  -999.00,9,    38004,   2.3750
  06MT20030723,   487,  1,      5,2,20030802, 56.1660, -41.6410, 3237,   2945.9,   2.7514,  34.9271,2,  34.9178,0,   -999.0,5,  -999.00,5,  -999.00,5,  -999.00,5,  -999.00,5,    2.017,3,    1.028,2,   -999.0,5,   -999.0,5,-999.0000,  -999.00,9,    38005,   2.5116
  06MT20030723,   487,  1,      6,2,20030802, 56.1660, -41.6410, 3237,   2747.0,   2.9039,  34.9275,2,-999.0000,9,   -999.0,5,  -999.00,5,  -999.00,5,  -999.00,5,  -999.00,5,    2.084,3,    1.074,2,   -999.0,5,   -999.0,5,-999.0000,  -999.00,9,    38006,   2.6812
  06MT20030723,   487,  1,      7,2,20030802, 56.1660, -41.6410, 3237,   2501.0,   2.9585,  34.9148,2,-999.0000,9,    279.6,2,  -999.00,5,  -999.00,5,  -999.00,5,  -999.00,5,    2.213,3,    1.132,2,   -999.0,5,   -999.0,5,-999.0000,  -999.00,9,    38007,   2.7593
  06MT20030723,   487,  1,      8,2,20030802, 56.1660, -41.6410, 3237,   2329.8,   3.0270,  34.9089,2,-999.0000,9,   -999.0,5,  -999.00,5,  -999.00,5,  -999.00,5,  -999.00,5,    2.402,3,    1.222,2,   -999.0,5,   -999.0,5,-999.0000,  -999.00,9,    38008,   2.8432
  06MT20030723,   487,  1,      9,2,20030802, 56.1660, -41.6410, 3237,   2119.2,   3.1296,  34.8985,2,-999.0000,9,   -999.0,5,  -999.00,5,  -999.00,5,  -999.00,5,  -999.00,5,    2.794,3,    1.422,2,   -999.0,5,   -999.0,5,-999.0000,  -999.00,9,    38009,   2.9641
  06MT20030723,   487,  1,     10,2,20030802, 56.1660, -41.6410, 3237,   1918.1,   3.1845,  34.8889,2,-999.0000,9,   -999.0,5,  -999.00,5,  -999.00,5,  -999.00,5,  -999.00,5,    3.117,3,    1.570,2,   -999.0,5,   -999.0,5,-999.0000,  -999.00,9,    38010,   3.0368
  06MT20030723,   487,  1,     11,2,20030802, 56.1660, -41.6410, 3237,   1727.6,   3.2459,  34.8876,2,-999.0000,9,   -999.0,5,  -999.00,5,  -999.00,5,  -999.00,5,  -999.00,5, -999.000,9, -999.000,9,   -999.0,5,   -999.0,5,-999.0000,  -999.00,9,    38011,   3.1146
  06MT20030723,   487,  1,     12,2,20030802, 56.1660, -41.6410, 3237,   1613.5,   3.2859,  34.8833,2,  34.8816,2,    284.6,2,  -999.00,5,  -999.00,5,  -999.00,5,  -999.00,5,    3.296,3,    1.672,2,   -999.0,5,   -999.0,5,-999.0000,  -999.00,9,    38012,   3.1642
  06MT20030723,   487,  1,     13,2,20030802, 56.1660, -41.6410, 3237,   1310.9,   3.4762,  34.8845,2,-999.0000,9,   -999.0,5,  -999.00,5,  -999.00,5,  -999.00,5,  -999.00,5,    3.481,3,    1.795,2,   -999.0,5,   -999.0,5,-999.0000,  -999.00,9,    38013,   3.3784
  06MT20030723,   487,  1,     14,2,20030802, 56.1660, -41.6410, 3237,   1109.6,   3.3908,  34.8556,2,-999.0000,9,   -999.0,5,  -999.00,5,  -999.00,5,  -999.00,5,  -999.00,5,    4.167,3,    2.198,2,   -999.0,5,   -999.0,5,-999.0000,  -999.00,9,    38014,   3.3105
  06MT20030723,   487,  1,     15,2,20030802, 56.1660, -41.6410, 3237,    907.5,   3.4347,  34.8508,2,-999.0000,9,   -999.0,5,  -999.00,5,  -999.00,5,  -999.00,5,  -999.00,5,    4.340,3,    2.320,2,   -999.0,5,   -999.0,5,-999.0000,  -999.00,9,    38015,   3.3701
  06MT20030723,   487,  1,     16,2,20030802, 56.1660, -41.6410, 3237,    787.0,   3.4833,  34.8502,2,-999.0000,9,   -999.0,5,  -999.00,5,  -999.00,5,  -999.00,5,  -999.00,5,    4.371,3,    2.356,2,   -999.0,5,   -999.0,5,-999.0000,  -999.00,9,    38016,   3.4277
  06MT20030723,   487,  1,     17,2,20030802, 56.1660, -41.6410, 3237,    690.8,   3.5405,  34.8474,2,-999.0000,9,    291.5,2,  -999.00,5,  -999.00,5,  -999.00,5,  -999.00,5,    4.362,3,    2.352,2,   -999.0,5,   -999.0,5,-999.0000,  -999.00,9,    38017,   3.4919
  06MT20030723,   487,  1,     18,2,20030802, 56.1660, -41.6410, 3237,    505.0,   3.5922,  34.8379,2,  34.8239,0,   -999.0,5,  -999.00,5,  -999.00,5,  -999.00,5,  -999.00,5,    4.461,3,    2.427,2,   -999.0,5,   -999.0,5,-999.0000,  -999.00,9,    38018,   3.5572
  06MT20030723,   487,  1,     19,2,20030802, 56.1660, -41.6410, 3237,    323.3,   3.8511,  34.8194,2,-999.0000,9,   -999.0,5,  -999.00,5,  -999.00,5,  -999.00,5,  -999.00,5,    4.463,3,    2.437,2,   -999.0,5,   -999.0,5,-999.0000,  -999.00,9,    38019,   3.8285
  06MT20030723,   487,  1,     20,2,20030802, 56.1660, -41.6410, 3237,    204.3,   3.9533,  34.7960,2,-999.0000,9,   -999.0,5,  -999.00,5,  -999.00,5,  -999.00,5,  -999.00,5, -999.000,9, -999.000,9,   -999.0,5,   -999.0,5,-999.0000,  -999.00,9,    38020,   3.9391
  06MT20030723,   487,  1,     21,2,20030802, 56.1660, -41.6410, 3237,    119.3,   4.5123,  34.8079,2,-999.0000,9,   -999.0,5,  -999.00,5,  -999.00,5,  -999.00,5,  -999.00,5,    4.606,3,    2.562,2,   -999.0,5,   -999.0,5,-999.0000,  -999.00,9,    38021,   4.5035
  06MT20030723,   487,  1,     22,2,20030802, 56.1660, -41.6410, 3237,     25.0,   9.5211,  34.7952,2,  34.7999,2,    286.7,2,  -999.00,5,  -999.00,5,  -999.00,5,  -999.00,5,    3.866,3,    2.236,2,   -999.0,5,   -999.0,5,-999.0000,  -999.00,9,    38022,   9.5183