BOTTLE,20090513PRINUNIVRMK
EXPOCODE,STNNBR,CASTNO,BTLNBR,BTLNBR_FLAG_W,DATE,LATITUDE,LONGITUDE,DEPTH,CTDPRS,CTDTMP,CTDSAL,CTDSAL_FLAG_W,SALNTY,SALNTY_FLAG_W,OXYGEN,OXYGEN_FLAG_W,SILCAT,SILCAT_FLAG_W,NITRAT,NITRAT_FLAG_W,NITRIT,NITRIT_FLAG_W,PHSPHT,PHSPHT_FLAG_W,CFC-11,CFC-11_FLAG_W,CFC-12,CFC-12_FLAG_W,TCARBN,TCARBN_FLAG_W,ALKALI,ALKALI_FLAG_W,PH_SWS,PH_TEMP,PH_SWS_FLAG_W,ID,THETA
,,,,,,,,METERS,DBARS,ITS-90,PSS-78,,PSS-78,,UMOL/KG,,UMOL/KG,,UMOL/KG,,UMOL/KG,,UMOL/KG,,PMOL/KG,,PMOL/KG,,UMOL/KG,,UMOL/KG,,,DEGC,,,DEGC
  06MT20030723,   513,  1,      1,2,20030808, 51.4580, -28.4910, 3450,   3461.8,   2.7910,  34.9393,2,  34.9368,2,    215.4,4,    24.60,2,    18.38,2,     0.00,2,     1.22,2, -999.000,9, -999.000,9,   2174.2,2,   2320.1,2,   7.7226,    25.00,2,    68001,   2.4954
  06MT20030723,   513,  1,      2,2,20030808, 51.4580, -28.4910, 3450,   3461.0,   2.7925,  34.9393,2,-999.0000,9,    263.7,2,    24.68,2,    18.14,2,     0.00,2,     1.21,2,    1.363,3,    0.695,2,   -999.0,5,   -999.0,5,-999.0000,  -999.00,9,    68002,   2.4969
  06MT20030723,   513,  1,      3,2,20030808, 51.4580, -28.4910, 3450,   3349.3,   2.8091,  34.9416,2,-999.0000,9,    266.6,2,    22.96,2,    17.80,2,     0.00,2,     1.19,2,    1.454,3,    0.742,2,   2172.6,2,   2318.4,2,   7.7256,    25.00,2,    68003,   2.5253
  06MT20030723,   513,  1,      4,2,20030808, 51.4580, -28.4910, 3450,   3042.7,   2.8917,  34.9429,2,-999.0000,9,    271.0,2,    18.44,2,    17.15,2,     0.00,2,     1.13,2,    1.736,3,    0.875,2,   2165.8,2,   2312.8,2,   7.7256,    25.00,2,    68004,   2.6387
  06MT20030723,   513,  1,      5,2,20030808, 51.4580, -28.4910, 3450,   2734.7,   2.9868,  34.9321,2,-999.0000,9,    274.4,2,    15.36,2,    16.90,2,     0.00,2,     1.13,2,    1.960,3,    0.992,2,   2161.2,2,   2314.2,2,   7.7266,    25.00,2,    68005,   2.7637
  06MT20030723,   513,  1,      6,2,20030808, 51.4580, -28.4910, 3450,   2429.7,   3.0526,  34.9208,2,-999.0000,9,    278.1,2,    13.53,2,    16.68,2,     0.00,2,     1.08,2,    2.189,3,    1.110,2,   2157.8,2,   2307.0,2,   7.7266,    25.00,2,    68006,   2.8586
  06MT20030723,   513,  1,      7,2,20030808, 51.4580, -28.4910, 3450,   2124.5,   3.1371,  34.9036,2,  34.9071,2,    280.7,2,    11.93,2,    16.73,2,     0.00,2,     1.07,2,    2.483,3,    1.245,2,   2155.6,2,   2304.4,2,   7.7246,    25.00,2,    68007,   2.9710
  06MT20030723,   513,  1,      8,2,20030808, 51.4580, -28.4910, 3450,   1820.6,   3.2200,  34.8886,2,-999.0000,9,    283.2,2,    10.94,2,    16.97,2,     0.00,2,     1.10,2,    2.864,3,    1.448,2,   2154.5,2,   2298.0,2,   7.7236,    25.00,2,    68008,   3.0807
  06MT20030723,   513,  1,      9,2,20030808, 51.4580, -28.4910, 3450,   1611.7,   3.3407,  34.8910,2,-999.0000,9,    281.9,2,    10.70,2,    17.12,2,     0.00,2,     1.11,2,    2.942,3,    1.504,2,   2155.4,2,   2296.7,2,   7.7236,    25.00,2,    68009,   3.2184
  06MT20030723,   513,  1,     10,2,20030808, 51.4580, -28.4910, 3450,   1408.6,   3.4937,  34.8985,2,-999.0000,9,    279.6,2,    10.62,2,    17.30,2,     0.00,2,     1.11,2,    2.916,3,    1.497,2,   2156.8,2,   2300.0,2,   7.7177,    25.00,2,    68010,   3.3873
  06MT20030723,   513,  1,     11,2,20030808, 51.4580, -28.4910, 3450,   1214.3,   3.6739,  34.9075,2,-999.0000,9,    274.4,2,    10.46,2,    17.40,2,     0.00,2,     1.13,2,    2.922,3,    1.510,2,   2158.9,2,   2300.4,2,   7.7167,    25.00,2,    68011,   3.5823
  06MT20030723,   513,  1,     12,2,20030808, 51.4580, -28.4910, 3450,   1076.0,   3.8002,  34.9121,2,-999.0000,9,    272.0,2,    10.33,2,    17.47,2,     0.00,2,     1.12,2,    3.060,3,    1.580,2,   2159.4,2,   2300.4,2,   7.7157,    25.00,2,    68012,   3.7191
  06MT20030723,   513,  1,     13,2,20030808, 51.4580, -28.4910, 3450,   1003.5,   3.9108,  34.9164,2,  34.9161,2,    270.8,2,    10.20,2,    17.47,2,     0.00,2,     1.11,2,    3.183,3,    1.651,2,   2160.2,2,   2301.0,2,   7.7138,    25.00,2,    68013,   3.8348
  06MT20030723,   513,  1,     14,2,20030808, 51.4580, -28.4910, 3450,    910.5,   4.0308,  34.9175,2,-999.0000,9,    270.3,2,    10.38,2,    17.29,2,     0.00,2,     1.12,2,    3.290,3,    1.740,2,   2160.9,2,   2301.7,2,   7.7137,    25.00,2,    68014,   3.9617
  06MT20030723,   513,  1,     15,2,20030808, 51.4580, -28.4910, 3450,    814.7,   4.2239,  34.9373,2,-999.0000,9,    265.5,2,    10.07,2,    17.43,2,     0.00,2,     1.14,2,    3.231,3,    1.702,2,   2162.2,2,   2300.4,2,   7.7108,    25.00,2,    68015,   4.1614
  06MT20030723,   513,  1,     16,2,20030808, 51.4580, -28.4910, 3450,    690.3,   4.5605,  34.9568,2,-999.0000,9,    256.0,2,    10.12,2,    17.69,2,     0.00,2,     1.16,2,    3.069,3,    1.626,2,   2165.6,2,   2302.2,2,   7.7078,    25.00,2,    68016,   4.5064
  06MT20030723,   513,  1,     17,2,20030808, 51.4580, -28.4910, 3450,    605.4,   4.6587,  34.9322,2,-999.0000,9,    252.3,2,     9.89,2,    18.01,2,     0.01,2,     1.17,2,    3.223,3,    1.721,2,   2165.6,2,   2302.3,2,   7.7000,    25.00,2,    68017,   4.6112
  06MT20030723,   513,  1,     18,2,20030808, 51.4580, -28.4910, 3450,    404.0,   5.7899,  34.9201,2,-999.0000,9,    230.5,2,    10.01,2,    18.59,2,     0.01,2,     1.22,2,    2.911,3,    1.590,2,   2169.0,2,   2301.6,2,   7.6950,    25.00,2,    68018,   5.7552
  06MT20030723,   513,  1,     19,2,20030808, 51.4580, -28.4910, 3450,    300.5,   6.7202,  34.9176,2,-999.0000,9,    232.7,2,     9.06,2,    17.69,2,     0.01,2,     1.15,2,    3.028,3,    1.688,2,   2161.5,2,   2299.6,2,   7.7108,    25.00,2,    68019,   6.6925
  06MT20030723,   513,  1,     20,2,20030808, 51.4580, -28.4910, 3450,    100.8,   8.9920,  35.1471,2,  35.1401,2,    260.2,2,     3.79,2,    12.54,2,     0.02,2,     0.79,2,    3.500,3,    2.020,2,   2134.2,2,   2312.7,2,   7.8025,    25.00,2,    68020,   8.9811
  06MT20030723,   513,  1,     21,2,20030808, 51.4580, -28.4910, 3450,     60.1,   9.8702,  35.1210,2,-999.0000,9,    264.9,2,     1.65,2,     8.94,2,     0.38,2,     0.62,2,    3.580,3,    2.060,2,   2119.4,2,   2313.9,2,   7.8362,    25.00,2,    68021,   9.8633
  06MT20030723,   513,  1,     22,2,20030808, 51.4580, -28.4910, 3450,     24.8,  13.2414,  35.2472,2,-999.0000,9,    287.7,2,     0.03,2,     0.73,2,     0.06,2,     0.13,2,    3.130,3,    1.846,2,   2042.2,2,   2313.6,2,   7.9848,    25.00,2,    68022,  13.2380
  06MT20030723,   514,  1,      1,2,20030809, 52.0070, -29.0910, 3810,   3837.3,   2.6645,  34.9250,2,-999.0000,9,   -999.0,5,  -999.00,5,  -999.00,5,  -999.00,5,  -999.00,5, -999.000,9, -999.000,9,   -999.0,5,   -999.0,5,-999.0000,  -999.00,9,    69001,   2.3302
  06MT20030723,   514,  1,      2,2,20030809, 52.0070, -29.0910, 3810,   3837.3,   2.6644,  34.9252,2,-999.0000,9,    274.8,2,  -999.00,5,  -999.00,5,  -999.00,5,  -999.00,5,    1.810,3,    0.921,2,   -999.0,5,   -999.0,5,-999.0000,  -999.00,9,    69002,   2.3301
  06MT20030723,   514,  1,      3,2,20030809, 52.0070, -29.0910, 3810,   3455.3,   2.7705,  34.9378,2,-999.0000,9,   -999.0,5,  -999.00,5,  -999.00,5,  -999.00,5,  -999.00,5,    1.838,3,    0.935,2,   -999.0,5,   -999.0,5,-999.0000,  -999.00,9,    69003,   2.4761
  06MT20030723,   514,  1,      4,2,20030809, 52.0070, -29.0910, 3810,   3200.2,   2.8748,  34.9460,2,-999.0000,9,   -999.0,5,  -999.00,5,  -999.00,5,  -999.00,5,  -999.00,5,    1.830,3,    0.930,2,   -999.0,5,   -999.0,5,-999.0000,  -999.00,9,    69004,   2.6055
  06MT20030723,   514,  1,      5,2,20030809, 52.0070, -29.0910, 3810,   2839.0,   3.0159,  34.9423,2,-999.0000,9,   -999.0,5,  -999.00,5,  -999.00,5,  -999.00,5,  -999.00,5,    2.104,3,    1.069,2,   -999.0,5,   -999.0,5,-999.0000,  -999.00,9,    69005,   2.7815
  06MT20030723,   514,  1,      6,2,20030809, 52.0070, -29.0910, 3810,   2584.4,   3.0491,  34.9250,2,-999.0000,9,    277.2,2,  -999.00,5,  -999.00,5,  -999.00,5,  -999.00,5,    2.172,3,    1.109,2,   -999.0,5,   -999.0,5,-999.0000,  -999.00,9,    69006,   2.8399
  06MT20030723,   514,  1,      7,2,20030809, 52.0070, -29.0910, 3810,   2329.3,   3.0957,  34.9110,2,  34.9102,2,   -999.0,5,  -999.00,5,  -999.00,5,  -999.00,5,  -999.00,5,    2.348,3,    1.191,2,   -999.0,5,   -999.0,5,-999.0000,  -999.00,9,    69007,   2.9108
  06MT20030723,   514,  1,      8,2,20030809, 52.0070, -29.0910, 3810,   2126.7,   3.1487,  34.8970,2,-999.0000,9,   -999.0,5,  -999.00,5,  -999.00,5,  -999.00,5,  -999.00,5,    2.660,3,    1.350,2,   -999.0,5,   -999.0,5,-999.0000,  -999.00,9,    69008,   2.9822
  06MT20030723,   514,  1,      9,2,20030809, 52.0070, -29.0910, 3810,   1918.7,   3.2053,  34.8904,2,-999.0000,9,   -999.0,5,  -999.00,5,  -999.00,5,  -999.00,5,  -999.00,5,    2.876,3,    1.460,2,   -999.0,5,   -999.0,5,-999.0000,  -999.00,9,    69009,   3.0573
  06MT20030723,   514,  1,     10,2,20030809, 52.0070, -29.0910, 3810,   1709.8,   3.2887,  34.8898,2,-999.0000,9,   -999.0,5,  -999.00,5,  -999.00,5,  -999.00,5,  -999.00,5,    2.958,3,    1.503,2,   -999.0,5,   -999.0,5,-999.0000,  -999.00,9,    69010,   3.1584
  06MT20030723,   514,  1,     11,2,20030809, 52.0070, -29.0910, 3810,   1508.4,   3.4137,  34.8932,2,-999.0000,9,    279.7,2,  -999.00,5,  -999.00,5,  -999.00,5,  -999.00,5,    3.024,3,    1.557,2,   -999.0,5,   -999.0,5,-999.0000,  -999.00,9,    69011,   3.2996
  06MT20030723,   514,  1,     12,2,20030809, 52.0070, -29.0910, 3810,   1310.9,   3.5554,  34.8945,2,  34.8959,2,   -999.0,5,  -999.00,5,  -999.00,5,  -999.00,5,  -999.00,5,    3.232,3,    1.677,2,   -999.0,5,   -999.0,5,-999.0000,  -999.00,9,    69012,   3.4568
  06MT20030723,   514,  1,     13,2,20030809, 52.0070, -29.0910, 3810,   1193.2,   3.6128,  34.8912,2,-999.0000,9,   -999.0,5,  -999.00,5,  -999.00,5,  -999.00,5,  -999.00,5,    3.324,3,    1.732,2,   -999.0,5,   -999.0,5,-999.0000,  -999.00,9,    69013,   3.5236
  06MT20030723,   514,  1,     14,2,20030809, 52.0070, -29.0910, 3810,   1098.5,   3.6392,  34.8884,2,-999.0000,9,   -999.0,5,  -999.00,5,  -999.00,5,  -999.00,5,  -999.00,5,    3.523,3,    1.862,2,   -999.0,5,   -999.0,5,-999.0000,  -999.00,9,    69014,   3.5576
  06MT20030723,   514,  1,     15,2,20030809, 52.0070, -29.0910, 3810,   1006.7,   3.7199,  34.8918,2,-999.0000,9,    278.0,2,  -999.00,5,  -999.00,5,  -999.00,5,  -999.00,5,    3.557,3,    1.883,2,   -999.0,5,   -999.0,5,-999.0000,  -999.00,9,    69015,   3.6452
  06MT20030723,   514,  1,     16,2,20030809, 52.0070, -29.0910, 3810,    906.9,   3.8045,  34.8937,2,-999.0000,9,   -999.0,5,  -999.00,5,  -999.00,5,  -999.00,5,  -999.00,5,    3.616,3,    1.932,2,   -999.0,5,   -999.0,5,-999.0000,  -999.00,9,    69016,   3.7373
  06MT20030723,   514,  1,     17,2,20030809, 52.0070, -29.0910, 3810,    804.7,   3.9791,  34.9040,2,-999.0000,9,   -999.0,5,  -999.00,5,  -999.00,5,  -999.00,5,  -999.00,5,    3.583,3,    1.915,2,   -999.0,5,   -999.0,5,-999.0000,  -999.00,9,    69017,   3.9190
  06MT20030723,   514,  1,     18,2,20030809, 52.0070, -29.0910, 3810,    734.4,   4.1009,  34.9064,2,-999.0000,9,   -999.0,5,  -999.00,5,  -999.00,5,  -999.00,5,  -999.00,5,    3.512,3,    1.873,2,   -999.0,5,   -999.0,5,-999.0000,  -999.00,9,    69018,   4.0457
  06MT20030723,   514,  1,     19,2,20030809, 52.0070, -29.0910, 3810,    538.6,   4.8018,  34.9245,2,  34.9224,2,   -999.0,5,  -999.00,5,  -999.00,5,  -999.00,5,  -999.00,5,    3.086,3,    1.648,2,   -999.0,5,   -999.0,5,-999.0000,  -999.00,9,    69019,   4.7592
  06MT20030723,   514,  1,     20,2,20030809, 52.0070, -29.0910, 3810,    354.1,   5.9845,  34.8866,2,-999.0000,9,   -999.0,5,  -999.00,5,  -999.00,5,  -999.00,5,  -999.00,5,    3.042,3,    1.685,2,   -999.0,5,   -999.0,5,-999.0000,  -999.00,9,    69020,   5.9537
  06MT20030723,   514,  1,     21,2,20030809, 52.0070, -29.0910, 3810,    109.6,   8.8573,  35.1248,2,-999.0000,9,   -999.0,5,  -999.00,5,  -999.00,5,  -999.00,5,  -999.00,5,    3.449,3,    1.999,2,   -999.0,5,   -999.0,5,-999.0000,  -999.00,9,    69021,   8.8455
  06MT20030723,   514,  1,     22,2,20030809, 52.0070, -29.0910, 3810,     20.2,  12.0555,  35.0273,2,-999.0000,9,    276.8,2,  -999.00,5,  -999.00,5,  -999.00,5,  -999.00,5,    3.360,3,    1.973,2,   -999.0,5,   -999.0,5,-999.0000,  -999.00,9,    69022,  12.0529
  06MT20030723,   515,  1,      1,2,20030809, 52.5660, -29.7010, 3500,   3487.0,   2.7919,  34.9476,2,  34.9466,2,    264.6,2,    23.17,2,    17.87,2,     0.00,2,     1.17,2, -999.000,9, -999.000,9,   2174.6,2,   2321.1,2,   7.7226,    25.00,2,    70001,   2.4934
  06MT20030723,   515,  1,      2,2,20030809, 52.5660, -29.7010, 3500,   3486.8,   2.7903,  34.9482,2,-999.0000,9,    264.6,2,    22.91,2,    17.81,2,     0.00,2,     1.15,2,    1.592,3,    0.815,2,   -999.0,5,   -999.0,5,-999.0000,  -999.00,9,    70002,   2.4919
  06MT20030723,   515,  1,      3,2,20030809, 52.5660, -29.7010, 3500,   3352.1,   2.8496,  34.9527,2,-999.0000,9,    269.6,2,    18.48,2,    17.05,2,     0.00,2,     1.10,2,    1.802,3,    0.933,2,   2169.3,2,   2313.6,2,   7.7226,    25.00,2,    70003,   2.5645
  06MT20030723,   515,  1,      4,2,20030809, 52.5660, -29.7010, 3500,   3140.8,   2.9009,  34.9554,2,-999.0000,9,    274.2,2,    14.82,2,    16.41,2,     0.00,2,     1.06,2,    2.129,3,    1.083,2,   2163.3,2,   2306.0,2,   7.7246,    25.00,2,    70004,   2.6373
  06MT20030723,   515,  1,      5,2,20030809, 52.5660, -29.7010, 3500,   2944.7,   2.9530,  34.9519,2,-999.0000,9,    275.1,2,    13.70,2,    16.35,2,     0.00,2,     1.07,2,    2.158,3,    1.109,2,   2161.6,2,   2301.4,2,   7.7246,    25.00,2,    70005,   2.7089
  06MT20030723,   515,  1,      6,2,20030809, 52.5660, -29.7010, 3500,   2636.2,   2.9923,  34.9440,2,  34.9391,2,    277.7,2,    13.02,2,    16.37,2,     0.00,2,     1.05,2,    2.165,3,    1.106,2,   2160.3,2,   2304.7,2,   7.7256,    25.00,2,    70006,   2.7790
  06MT20030723,   515,  1,      7,2,20030809, 52.5660, -29.7010, 3500,   2336.9,   3.1141,  34.9315,2,-999.0000,9,    279.7,2,    12.05,2,    16.53,2,     0.00,2,     1.06,2,    2.296,3,    1.172,2,   2157.0,2,   2300.0,2,   7.7266,    25.00,2,    70007,   2.9280
  06MT20030723,   515,  1,      8,2,20030809, 52.5660, -29.7010, 3500,   2125.5,   3.1361,  34.8995,2,-999.0000,9,    282.3,2,    11.06,2,    16.67,2,     0.00,2,     1.08,2,    2.639,3,    1.355,2,   2156.0,2,   2302.4,2,   7.7256,    25.00,2,    70008,   2.9699
  06MT20030723,   515,  1,      9,2,20030809, 52.5660, -29.7010, 3500,   1921.1,   3.1479,  34.8905,2,-999.0000,9,    284.3,2,    10.61,2,    16.35,2,     0.00,2,     1.09,2,    2.853,3,    1.449,2,   2154.9,2,   2302.3,2,   7.7236,    25.00,2,    70009,   3.0005
  06MT20030723,   515,  1,     10,2,20030809, 52.5660, -29.7010, 3500,   1718.4,   3.2535,  34.8876,2,-999.0000,9,   -999.0,5,  -999.00,5,  -999.00,5,  -999.00,5,  -999.00,5, -999.000,9, -999.000,9,   -999.0,5,   -999.0,5,-999.0000,  -999.00,9,    70010,   3.1229
  06MT20030723,   515,  1,     11,2,20030809, 52.5660, -29.7010, 3500,   1512.4,   3.3943,  34.8925,2,  34.8935,2,    280.6,2,    10.06,2,    17.05,2,     0.00,2,     1.10,2,    3.023,3,    1.563,2,   2156.7,2,   2296.9,2,   7.7197,    25.00,2,    70011,   3.2801
  06MT20030723,   515,  1,     12,2,20030809, 52.5660, -29.7010, 3500,   1311.2,   3.5327,  34.8973,2,-999.0000,9,    278.8,2,    10.00,2,    16.99,2,     0.00,2,     1.10,2,    3.100,3,    1.612,2,   2157.4,2,   2297.6,2,   7.7187,    25.00,2,    70012,   3.4343
  06MT20030723,   515,  1,     13,2,20030809, 52.5660, -29.7010, 3500,   1106.2,   3.6074,  34.8912,2,-999.0000,9,    280.3,2,     9.79,2,    16.80,2,     0.00,2,     1.08,2,    3.421,3,    1.816,2,   2157.0,2,   2295.7,2,   7.7177,    25.00,2,    70013,   3.5254
  06MT20030723,   515,  1,     14,2,20030809, 52.5660, -29.7010, 3500,   1026.3,   3.6518,  34.8901,2,-999.0000,9,    280.8,2,     9.40,2,    16.75,2,     0.00,2,     1.09,2,    3.542,3,    1.882,2,   2157.1,2,   2298.3,2,   7.7167,    25.00,2,    70014,   3.5760
  06MT20030723,   515,  1,     15,2,20030809, 52.5660, -29.7010, 3500,    937.1,   3.6996,  34.8889,2,-999.0000,9,    278.8,2,     9.39,2,    16.81,2,     0.00,2,     1.10,2,    3.462,3,    1.842,2,   2158.1,2,   2296.4,2,   7.7167,    25.00,2,    70015,   3.6307
  06MT20030723,   515,  1,     16,2,20030809, 52.5660, -29.7010, 3500,    904.5,   3.7587,  34.8931,2,-999.0000,9,    278.8,2,     9.24,2,    16.77,2,     0.00,2,     1.09,2,    3.645,3,    1.947,2,   2157.7,2,   2300.1,2,   7.7167,    25.00,2,    70016,   3.6920
  06MT20030723,   515,  1,     17,2,20030809, 52.5660, -29.7010, 3500,    657.6,   4.1809,  34.9141,2,-999.0000,9,    267.3,2,     9.38,2,    17.34,2,     0.00,2,     1.11,2,    3.476,3,    1.872,2,   2161.7,2,   2302.5,2,   7.7098,    25.00,2,    70017,   4.1315
  06MT20030723,   515,  1,     18,2,20030809, 52.5660, -29.7010, 3500,    395.2,   5.2771,  34.9180,2,-999.0000,9,    233.7,2,    10.09,2,    18.72,2,     0.01,2,     1.22,2,    2.855,3,    1.554,2,   2170.3,2,   2300.7,2,   7.6941,    25.00,2,    70018,   5.2448
  06MT20030723,   515,  1,     19,2,20030809, 52.5660, -29.7010, 3500,    196.2,   7.1605,  34.9596,2,-999.0000,9,    263.2,2,     7.14,2,    15.35,2,     0.01,2,     0.99,2,    3.535,3,    2.015,2,   2147.1,2,   2299.7,2,   7.7522,    25.00,2,    70019,   7.1419
  06MT20030723,   515,  1,     20,2,20030809, 52.5660, -29.7010, 3500,    109.7,   8.6315,  35.1255,2,-999.0000,9,    250.9,2,     5.67,2,    14.25,2,     0.01,2,     0.89,2,    3.285,3,    1.905,2,   2144.4,2,   2311.5,2,   7.7808,    25.00,2,    70020,   8.6199
  06MT20030723,   515,  1,     21,2,20030809, 52.5660, -29.7010, 3500,     78.3,   9.1373,  35.1514,2,  35.1417,2,    254.5,2,     3.42,2,    12.39,2,     0.02,2,     0.76,2,    3.366,3,    1.953,2,   2133.3,2,   2315.1,2,   7.8055,    25.00,2,    70021,   9.1287
  06MT20030723,   515,  1,     22,2,20030809, 52.5660, -29.7010, 3500,     12.1,  12.3315,  34.9596,2,-999.0000,9,    277.8,2,     0.61,2,     4.34,2,     0.11,2,     0.30,2,    3.316,3,    1.952,2,   2068.9,2,   2304.0,2,   7.9223,    25.00,2,    70022,  12.3299