BOTTLE,20090513PRINUNIVRMK
EXPOCODE,STNNBR,CASTNO,BTLNBR,BTLNBR_FLAG_W,DATE,LATITUDE,LONGITUDE,DEPTH,CTDPRS,CTDTMP,CTDSAL,CTDSAL_FLAG_W,SALNTY,SALNTY_FLAG_W,OXYGEN,OXYGEN_FLAG_W,SILCAT,SILCAT_FLAG_W,NITRAT,NITRAT_FLAG_W,NITRIT,NITRIT_FLAG_W,PHSPHT,PHSPHT_FLAG_W,CFC-11,CFC-11_FLAG_W,CFC-12,CFC-12_FLAG_W,TCARBN,TCARBN_FLAG_W,ALKALI,ALKALI_FLAG_W,PH_SWS,PH_TEMP,PH_SWS_FLAG_W,ID,THETA
,,,,,,,,METERS,DBARS,ITS-90,PSS-78,,PSS-78,,UMOL/KG,,UMOL/KG,,UMOL/KG,,UMOL/KG,,UMOL/KG,,PMOL/KG,,PMOL/KG,,UMOL/KG,,UMOL/KG,,,DEGC,,,DEGC
  06MT20030723,   479,  1,      1,2,20030731, 54.2670, -47.7570, 3800,   3858.9,   1.8672,  34.8791,2,  34.8776,2,    293.6,2,  -999.00,5,  -999.00,5,  -999.00,5,  -999.00,5, -999.000,9, -999.000,9,   -999.0,5,   -999.0,5,-999.0000,  -999.00,9,    30001,   1.5523
  06MT20030723,   479,  1,      2,2,20030731, 54.2670, -47.7570, 3800,   3857.4,   1.8686,  34.8789,2,-999.0000,9,   -999.0,5,  -999.00,5,  -999.00,5,  -999.00,5,  -999.00,5, -999.000,9, -999.000,9,   -999.0,5,   -999.0,5,-999.0000,  -999.00,9,    30002,   1.5538
  06MT20030723,   479,  1,      3,2,20030731, 54.2670, -47.7570, 3800,   3713.9,   1.9726,  34.8821,2,-999.0000,9,   -999.0,5,  -999.00,5,  -999.00,5,  -999.00,5,  -999.00,5, -999.000,9, -999.000,9,   -999.0,5,   -999.0,5,-999.0000,  -999.00,9,    30003,   1.6706
  06MT20030723,   479,  1,      4,2,20030731, 54.2670, -47.7570, 3800,   3455.9,   2.2079,  34.8925,2,-999.0000,9,   -999.0,5,  -999.00,5,  -999.00,5,  -999.00,5,  -999.00,5, -999.000,9, -999.000,9,   -999.0,5,   -999.0,5,-999.0000,  -999.00,9,    30004,   1.9275
  06MT20030723,   479,  1,      5,2,20030731, 54.2670, -47.7570, 3800,   3250.9,   2.3539,  34.8992,2,-999.0000,9,   -999.0,5,  -999.00,5,  -999.00,5,  -999.00,5,  -999.00,5,    2.237,3,    1.144,2,   -999.0,5,   -999.0,5,-999.0000,  -999.00,9,    30005,   2.0915
  06MT20030723,   479,  1,      6,2,20030731, 54.2670, -47.7570, 3800,   3046.2,   2.5348,  34.9089,2,-999.0000,9,    281.2,2,  -999.00,5,  -999.00,5,  -999.00,5,  -999.00,5, -999.000,9, -999.000,9,   -999.0,5,   -999.0,5,-999.0000,  -999.00,9,    30006,   2.2895
  06MT20030723,   479,  1,      7,2,20030731, 54.2670, -47.7570, 3800,   2843.7,   2.6926,  34.9153,2,-999.0000,9,   -999.0,5,  -999.00,5,  -999.00,5,  -999.00,5,  -999.00,5, -999.000,9, -999.000,9,   -999.0,5,   -999.0,5,-999.0000,  -999.00,9,    30007,   2.4645
  06MT20030723,   479,  1,      8,2,20030731, 54.2670, -47.7570, 3800,   2664.3,   2.8143,  34.9161,2,-999.0000,9,   -999.0,5,  -999.00,5,  -999.00,5,  -999.00,5,  -999.00,5,    2.330,3,    1.181,2,   -999.0,5,   -999.0,5,-999.0000,  -999.00,9,    30008,   2.6017
  06MT20030723,   479,  1,      9,2,20030731, 54.2670, -47.7570, 3800,   2432.2,   2.9160,  34.9049,2,-999.0000,9,   -999.0,5,  -999.00,5,  -999.00,5,  -999.00,5,  -999.00,5,    2.358,3,    1.189,2,   -999.0,5,   -999.0,5,-999.0000,  -999.00,9,    30009,   2.7243
  06MT20030723,   479,  1,     10,2,20030731, 54.2670, -47.7570, 3800,   2222.3,   2.9979,  34.8986,2,-999.0000,9,   -999.0,5,  -999.00,5,  -999.00,5,  -999.00,5,  -999.00,5, -999.000,9, -999.000,9,   -999.0,5,   -999.0,5,-999.0000,  -999.00,9,    30010,   2.8249
  06MT20030723,   479,  1,     11,2,20030731, 54.2670, -47.7570, 3800,   2023.4,   3.0657,  34.8883,2,  34.8875,2,    285.1,2,  -999.00,5,  -999.00,5,  -999.00,5,  -999.00,5,    2.990,3,    1.496,2,   -999.0,5,   -999.0,5,-999.0000,  -999.00,9,    30011,   2.9102
  06MT20030723,   479,  1,     12,2,20030731, 54.2670, -47.7570, 3800,   1814.5,   3.1246,  34.8803,2,-999.0000,9,   -999.0,5,  -999.00,5,  -999.00,5,  -999.00,5,  -999.00,5,    3.217,3,    1.610,2,   -999.0,5,   -999.0,5,-999.0000,  -999.00,9,    30012,   2.9872
  06MT20030723,   479,  1,     13,2,20030731, 54.2670, -47.7570, 3800,   1600.9,   3.2202,  34.8812,2,-999.0000,9,   -999.0,5,  -999.00,5,  -999.00,5,  -999.00,5,  -999.00,5,    3.307,3,    1.655,2,   -999.0,5,   -999.0,5,-999.0000,  -999.00,9,    30013,   3.1004
  06MT20030723,   479,  1,     14,2,20030731, 54.2670, -47.7570, 3800,   1361.7,   3.3702,  34.8853,2,-999.0000,9,   -999.0,5,  -999.00,5,  -999.00,5,  -999.00,5,  -999.00,5,    3.460,3,    1.755,2,   -999.0,5,   -999.0,5,-999.0000,  -999.00,9,    30014,   3.2692
  06MT20030723,   479,  1,     15,2,20030731, 54.2670, -47.7570, 3800,   1130.4,   3.4191,  34.8710,2,-999.0000,9,   -999.0,5,  -999.00,5,  -999.00,5,  -999.00,5,  -999.00,5,    3.914,3,    2.035,2,   -999.0,5,   -999.0,5,-999.0000,  -999.00,9,    30015,   3.3368
  06MT20030723,   479,  1,     16,2,20030731, 54.2670, -47.7570, 3800,    898.9,   3.4079,  34.8569,2,-999.0000,9,   -999.0,5,  -999.00,5,  -999.00,5,  -999.00,5,  -999.00,5,    4.183,3,    2.200,2,   -999.0,5,   -999.0,5,-999.0000,  -999.00,9,    30016,   3.3442
  06MT20030723,   479,  1,     17,2,20030731, 54.2670, -47.7570, 3800,    656.7,   3.4899,  34.8596,2,  34.8556,2,   -999.0,5,  -999.00,5,  -999.00,5,  -999.00,5,  -999.00,5,    4.249,3,    2.244,2,   -999.0,5,   -999.0,5,-999.0000,  -999.00,9,    30017,   3.4441
  06MT20030723,   479,  1,     18,2,20030731, 54.2670, -47.7570, 3800,    512.0,   3.5459,  34.8520,2,-999.0000,9,   -999.0,5,  -999.00,5,  -999.00,5,  -999.00,5,  -999.00,5,    4.293,3,    2.270,2,   -999.0,5,   -999.0,5,-999.0000,  -999.00,9,    30018,   3.5106
  06MT20030723,   479,  1,     19,2,20030731, 54.2670, -47.7570, 3800,    299.8,   3.5366,  34.8224,2,-999.0000,9,    289.2,2,  -999.00,5,  -999.00,5,  -999.00,5,  -999.00,5,    4.380,3,    2.334,2,   -999.0,5,   -999.0,5,-999.0000,  -999.00,9,    30019,   3.5165
  06MT20030723,   479,  1,     20,2,20030731, 54.2670, -47.7570, 3800,     96.2,   4.1788,  34.7939,2,  34.9640,0,   -999.0,5,  -999.00,5,  -999.00,5,  -999.00,5,  -999.00,5, -999.000,9, -999.000,9,   -999.0,5,   -999.0,5,-999.0000,  -999.00,9,    30020,   4.1720
  06MT20030723,   479,  1,     21,2,20030731, 54.2670, -47.7570, 3800,     76.8,   4.5707,  34.7668,2,-999.0000,9,   -999.0,5,  -999.00,5,  -999.00,5,  -999.00,5,  -999.00,5,    4.833,3,    2.637,2,   -999.0,5,   -999.0,5,-999.0000,  -999.00,9,    30021,   4.5650
  06MT20030723,   479,  1,     22,2,20030731, 54.2670, -47.7570, 3800,     19.2,  10.0952,  34.6463,2,-999.0000,9,    287.5,2,  -999.00,5,  -999.00,5,  -999.00,5,  -999.00,5,    3.849,3,    2.170,2,   -999.0,5,   -999.0,5,-999.0000,  -999.00,9,    30022,  10.0930
  06MT20030723,   480,  1,      1,2,20030731, 54.6410, -46.8930, 3400,   3496.9,   2.2410,  34.8956,2,  34.8959,2,    283.3,2,    15.81,2,    15.69,2,     0.01,2,     1.03,2, -999.000,9, -999.000,9,   2161.2,2,   2309.0,2,   7.7167,    25.00,2,    31001,   1.9554
  06MT20030723,   480,  1,      2,2,20030731, 54.6410, -46.8930, 3400,   3496.0,   2.2411,  34.8957,2,-999.0000,9,    283.5,2,    15.78,2,    15.73,2,     0.01,2,     1.04,2,    2.346,3,    1.196,2,   -999.0,5,   -999.0,5,-999.0000,  -999.00,9,    31002,   1.9556
  06MT20030723,   480,  1,      3,2,20030731, 54.6410, -46.8930, 3400,   3457.4,   2.2771,  34.8974,2,-999.0000,9,   -999.0,5,  -999.00,5,  -999.00,5,  -999.00,5,  -999.00,5, -999.000,9, -999.000,9,   -999.0,5,   -999.0,5,-999.0000,  -999.00,9,    31003,   1.9948
  06MT20030723,   480,  1,      4,2,20030731, 54.6410, -46.8930, 3400,   3148.3,   2.5213,  34.9102,2,-999.0000,9,    280.6,2,    14.89,2,    15.98,2,     0.00,2,     1.06,2,    2.027,3,    1.026,2,   2158.5,2,   2309.2,2,-999.0000,  -999.00,9,    31004,   2.2657
  06MT20030723,   480,  1,      5,2,20030731, 54.6410, -46.8930, 3400,   2943.9,   2.7191,  34.9284,2,-999.0000,9,    278.1,2,    14.43,2,    16.18,2,     0.00,2,     1.05,2,    2.022,3,    1.024,2,   2160.6,2,   2313.8,2,   7.7216,    25.00,2,    31005,   2.4802
  06MT20030723,   480,  1,      6,2,20030731, 54.6410, -46.8930, 3400,   2649.2,   2.8638,  34.9281,2,-999.0000,9,    279.0,2,    12.74,2,    16.03,2,     0.00,2,     1.04,2, -999.000,9, -999.000,9,   -999.0,5,   -999.0,5,-999.0000,  -999.00,9,    31006,   2.6517
  06MT20030723,   480,  1,      7,2,20030731, 54.6410, -46.8930, 3400,   2431.0,   2.9317,  34.9168,2,-999.0000,9,   -999.0,5,    12.21,2,    16.15,2,     0.00,2,     1.05,2, -999.000,9, -999.000,9,   -999.0,5,   -999.0,5,-999.0000,  -999.00,9,    31007,   2.7398
  06MT20030723,   480,  1,      8,2,20030731, 54.6410, -46.8930, 3400,   2227.7,   2.9957,  34.9030,2,  34.9018,2,    281.8,2,    11.36,2,    16.16,2,     0.00,2,     1.06,2,    2.501,3,    1.273,2,   2155.0,2,   2303.5,2,   7.7216,    25.00,2,    31008,   2.8222
  06MT20030723,   480,  1,      9,2,20030731, 54.6410, -46.8930, 3400,   2017.7,   3.0532,  34.8913,2,-999.0000,9,    284.3,2,    10.82,2,    16.25,2,     0.00,2,     1.06,2,    2.853,3,    1.431,2,   2153.6,2,   2300.5,2,   7.7246,    25.00,2,    31009,   2.8984
  06MT20030723,   480,  1,     10,2,20030731, 54.6410, -46.8930, 3400,   1823.1,   3.0705,  34.8797,2,-999.0000,9,    287.9,2,    10.29,2,    16.32,2,     0.00,2,     1.06,2,    3.216,3,    1.610,2,   2153.0,2,   2303.7,2,   7.7246,    25.00,2,    31010,   2.9330
  06MT20030723,   480,  1,     11,2,20030731, 54.6410, -46.8930, 3400,   1616.3,   3.1458,  34.8782,2,-999.0000,9,   -999.0,5,  -999.00,5,  -999.00,5,  -999.00,5,  -999.00,5, -999.000,9, -999.000,9,   -999.0,5,   -999.0,5,-999.0000,  -999.00,9,    31011,   3.0255
  06MT20030723,   480,  1,     12,2,20030731, 54.6410, -46.8930, 3400,   1413.5,   3.2583,  34.8817,2,  34.8829,2,    283.7,2,    10.25,2,    16.74,2,     0.00,2,     1.07,2,    3.260,3,    1.660,2,   2155.5,2,   2304.7,2,   7.7157,    25.00,2,    31012,   3.1541
  06MT20030723,   480,  1,     13,2,20030731, 54.6410, -46.8930, 3400,   1212.1,   3.3803,  34.8870,2,-999.0000,9,    282.1,2,    10.07,2,    16.85,2,     0.00,2,     1.07,2,    3.300,3,    1.692,2,   2157.1,2,   2301.5,2,   7.7108,    25.00,2,    31013,   3.2916
  06MT20030723,   480,  1,     14,2,20030731, 54.6410, -46.8930, 3400,   1014.0,   3.4409,  34.8787,2,-999.0000,9,    283.1,2,     9.55,2,    16.72,2,     0.00,2,     1.07,2,    3.630,3,    1.878,2,   2156.6,2,   2301.3,2,   7.7108,    25.00,2,    31014,   3.3678
  06MT20030723,   480,  1,     15,2,20030731, 54.6410, -46.8930, 3400,    806.4,   3.4350,  34.8637,2,-999.0000,9,    286.9,2,     9.14,2,    16.38,2,     0.00,2,     1.05,2,    4.014,3,    2.126,2,   2155.0,2,   2302.1,2,   7.7088,    25.00,2,    31015,   3.3782
  06MT20030723,   480,  1,     16,2,20030731, 54.6410, -46.8930, 3400,    603.2,   3.5605,  34.8675,2,-999.0000,9,    285.4,2,     9.00,2,    16.48,2,     0.01,2,     1.05,2,    4.055,3,    2.149,2,   2157.2,2,   2308.6,2,   7.7098,    25.00,2,    31016,   3.5184
  06MT20030723,   480,  1,     17,2,20030731, 54.6410, -46.8930, 3400,    394.5,   3.5809,  34.8521,2,  34.8515,2,    285.5,2,     8.80,2,    16.51,2,     0.01,2,     1.06,2,    4.239,3,    2.286,2,   2157.4,2,   2298.4,2,   7.7019,    25.00,2,    31017,   3.5539
  06MT20030723,   480,  1,     18,2,20030731, 54.6410, -46.8930, 3400,    201.2,   3.4650,  34.7953,2,-999.0000,9,    294.0,2,     8.33,2,    16.17,2,     0.02,2,     1.05,2,    4.457,3,    2.451,2,   2154.5,2,   2297.2,2,   7.7325,    25.00,2,    31018,   3.4518
  06MT20030723,   480,  1,     19,2,20030731, 54.6410, -46.8930, 3400,    151.9,   3.4856,  34.7728,2,-999.0000,9,    301.1,2,     8.02,2,    15.85,2,     0.02,2,     1.03,2, -999.000,9, -999.000,9,   2153.5,2,   2296.3,2,   7.7088,    25.00,2,    31019,   3.4756
  06MT20030723,   480,  1,     20,2,20030731, 54.6410, -46.8930, 3400,    104.7,   3.7114,  34.7621,2,-999.0000,9,    303.5,2,     7.79,2,    15.58,2,     0.08,2,     1.02,2,    4.927,3,    2.712,2,   2150.3,2,   2294.8,2,   7.7128,    25.00,2,    31020,   3.7044
  06MT20030723,   480,  1,     21,2,20030731, 54.6410, -46.8930, 3400,     72.7,   4.0557,  34.7638,2,-999.0000,9,    306.1,2,     7.55,2,    14.84,2,     0.76,2,     1.00,2, -999.000,9, -999.000,9,   2149.0,2,   2295.1,2,   7.7226,    25.00,2,    31021,   4.0507
  06MT20030723,   480,  1,     22,2,20030731, 54.6410, -46.8930, 3400,     15.9,   9.3538,  34.6393,2,-999.0000,9,    287.7,2,     0.64,2,     6.58,2,     0.12,2,     0.51,2,    4.073,3,    2.301,2,   2093.1,2,   2289.3,2,   7.8441,    25.00,2,    31022,   9.3521
  06MT20030723,   481,  1,      1,2,20030731, 55.0160, -46.0330, 3466,   3452.7,   2.2783,  34.8977,2,-999.0000,9,    282.3,2,  -999.00,5,  -999.00,5,  -999.00,5,  -999.00,5, -999.000,9, -999.000,9,   -999.0,5,   -999.0,5,-999.0000,  -999.00,9,    32001,   1.9965
  06MT20030723,   481,  1,      2,2,20030731, 55.0160, -46.0330, 3466,   3453.3,   2.2781,  34.8975,2,-999.0000,9,   -999.0,5,  -999.00,5,  -999.00,5,  -999.00,5,  -999.00,5,    2.393,3,    1.230,2,   -999.0,5,   -999.0,5,-999.0000,  -999.00,9,    32002,   1.9962
  06MT20030723,   481,  1,      3,2,20030731, 55.0160, -46.0330, 3466,   3403.9,   2.3425,  34.9022,2,-999.0000,9,   -999.0,5,  -999.00,5,  -999.00,5,  -999.00,5,  -999.00,5, -999.000,9, -999.000,9,   -999.0,5,   -999.0,5,-999.0000,  -999.00,9,    32003,   2.0643
  06MT20030723,   481,  1,      4,2,20030731, 55.0160, -46.0330, 3466,   3254.3,   2.4855,  34.9110,2,-999.0000,9,   -999.0,5,  -999.00,5,  -999.00,5,  -999.00,5,  -999.00,5,    1.986,3,    1.002,2,   -999.0,5,   -999.0,5,-999.0000,  -999.00,9,    32004,   2.2196
  06MT20030723,   481,  1,      5,2,20030731, 55.0160, -46.0330, 3466,   2948.3,   2.7541,  34.9293,2,  34.9231,2,   -999.0,5,  -999.00,5,  -999.00,5,  -999.00,5,  -999.00,5,    1.986,3,    1.011,2,   -999.0,5,   -999.0,5,-999.0000,  -999.00,9,    32005,   2.5140
  06MT20030723,   481,  1,      6,2,20030731, 55.0160, -46.0330, 3466,   2690.2,   2.9013,  34.9339,2,-999.0000,9,   -999.0,5,  -999.00,5,  -999.00,5,  -999.00,5,  -999.00,5, -999.000,9, -999.000,9,   -999.0,5,   -999.0,5,-999.0000,  -999.00,9,    32006,   2.6843
  06MT20030723,   481,  1,      7,2,20030731, 55.0160, -46.0330, 3466,   2329.1,   3.0198,  34.9137,2,-999.0000,9,   -999.0,5,  -999.00,5,  -999.00,5,  -999.00,5,  -999.00,5,    2.313,3,    1.172,2,   -999.0,5,   -999.0,5,-999.0000,  -999.00,9,    32007,   2.8362
  06MT20030723,   481,  1,      8,2,20030731, 55.0160, -46.0330, 3466,   2181.5,   3.0701,  34.9054,2,-999.0000,9,    281.7,2,  -999.00,5,  -999.00,5,  -999.00,5,  -999.00,5,    2.518,3,    1.279,2,   -999.0,5,   -999.0,5,-999.0000,  -999.00,9,    32008,   2.8997
  06MT20030723,   481,  1,      9,2,20030731, 55.0160, -46.0330, 3466,   2024.5,   3.0962,  34.8941,2,-999.0000,9,   -999.0,5,  -999.00,5,  -999.00,5,  -999.00,5,  -999.00,5, -999.000,9, -999.000,9,   -999.0,5,   -999.0,5,-999.0000,  -999.00,9,    32009,   2.9401
  06MT20030723,   481,  1,     10,2,20030731, 55.0160, -46.0330, 3466,   1822.4,   3.1133,  34.8804,2,  34.8890,0,   -999.0,5,  -999.00,5,  -999.00,5,  -999.00,5,  -999.00,5,    3.371,3,    1.707,2,   -999.0,5,   -999.0,5,-999.0000,  -999.00,9,    32010,   2.9753
  06MT20030723,   481,  1,     11,2,20030731, 55.0160, -46.0330, 3466,   1727.9,   3.1348,  34.8774,2,-999.0000,9,   -999.0,5,  -999.00,5,  -999.00,5,  -999.00,5,  -999.00,5, -999.000,9, -999.000,9,   -999.0,5,   -999.0,5,-999.0000,  -999.00,9,    32011,   3.0049
  06MT20030723,   481,  1,     12,2,20030731, 55.0160, -46.0330, 3466,   1618.1,   3.1720,  34.8778,2,-999.0000,9,   -999.0,5,  -999.00,5,  -999.00,5,  -999.00,5,  -999.00,5,    3.346,3,    1.688,2,   -999.0,5,   -999.0,5,-999.0000,  -999.00,9,    32012,   3.0513
  06MT20030723,   481,  1,     13,2,20030731, 55.0160, -46.0330, 3466,   1467.4,   3.2637,  34.8818,2,-999.0000,9,    284.3,2,  -999.00,5,  -999.00,5,  -999.00,5,  -999.00,5,    3.308,3,    1.674,2,   -999.0,5,   -999.0,5,-999.0000,  -999.00,9,    32013,   3.1548
  06MT20030723,   481,  1,     14,2,20030731, 55.0160, -46.0330, 3466,   1307.8,   3.3801,  34.8863,2,-999.0000,9,   -999.0,5,  -999.00,5,  -999.00,5,  -999.00,5,  -999.00,5,    3.349,3,    1.707,2,   -999.0,5,   -999.0,5,-999.0000,  -999.00,9,    32014,   3.2835
  06MT20030723,   481,  1,     15,2,20030731, 55.0160, -46.0330, 3466,   1226.0,   3.4278,  34.8863,2,-999.0000,9,   -999.0,5,  -999.00,5,  -999.00,5,  -999.00,5,  -999.00,5,    3.434,3,    1.754,2,   -999.0,5,   -999.0,5,-999.0000,  -999.00,9,    32015,   3.3375
  06MT20030723,   481,  1,     16,2,20030731, 55.0160, -46.0330, 3466,   1056.8,   3.4437,  34.8733,2,  34.8766,2,   -999.0,5,  -999.00,5,  -999.00,5,  -999.00,5,  -999.00,5,    3.709,3,    1.916,2,   -999.0,5,   -999.0,5,-999.0000,  -999.00,9,    32016,   3.3672
  06MT20030723,   481,  1,     17,2,20030731, 55.0160, -46.0330, 3466,    856.0,   3.4648,  34.8626,2,-999.0000,9,   -999.0,5,  -999.00,5,  -999.00,5,  -999.00,5,  -999.00,5,    4.071,3,    2.145,2,   -999.0,5,   -999.0,5,-999.0000,  -999.00,9,    32017,   3.4040
  06MT20030723,   481,  1,     18,2,20030731, 55.0160, -46.0330, 3466,    662.7,   3.5773,  34.8640,2,-999.0000,9,    285.9,2,  -999.00,5,  -999.00,5,  -999.00,5,  -999.00,5,    4.172,3,    2.217,2,   -999.0,5,   -999.0,5,-999.0000,  -999.00,9,    32018,   3.5306
  06MT20030723,   481,  1,     19,2,20030731, 55.0160, -46.0330, 3466,    481.2,   3.4417,  34.8289,2,-999.0000,9,   -999.0,5,  -999.00,5,  -999.00,5,  -999.00,5,  -999.00,5,    4.435,3,    2.371,2,   -999.0,5,   -999.0,5,-999.0000,  -999.00,9,    32019,   3.4090
  06MT20030723,   481,  1,     20,2,20030731, 55.0160, -46.0330, 3466,    250.7,   3.5241,  34.7957,2,-999.0000,9,   -999.0,5,  -999.00,5,  -999.00,5,  -999.00,5,  -999.00,5,    4.554,3,    2.458,2,   -999.0,5,   -999.0,5,-999.0000,  -999.00,9,    32020,   3.5074
  06MT20030723,   481,  1,     21,2,20030731, 55.0160, -46.0330, 3466,    149.8,   3.7738,  34.7634,2,-999.0000,9,   -999.0,5,  -999.00,5,  -999.00,5,  -999.00,5,  -999.00,5,    4.677,3,    2.566,2,   -999.0,5,   -999.0,5,-999.0000,  -999.00,9,    32021,   3.7636
  06MT20030723,   481,  1,     22,2,20030731, 55.0160, -46.0330, 3466,     16.7,   9.5873,  34.6457,2,  34.6578,2,    288.1,2,  -999.00,5,  -999.00,5,  -999.00,5,  -999.00,5, -999.000,9, -999.000,9,   -999.0,5,   -999.0,5,-999.0000,  -999.00,9,    32022,   9.5854