BOTTLE,20090513PRINUNIVRMK
EXPOCODE,STNNBR,CASTNO,BTLNBR,BTLNBR_FLAG_W,DATE,LATITUDE,LONGITUDE,DEPTH,CTDPRS,CTDTMP,CTDSAL,CTDSAL_FLAG_W,SALNTY,SALNTY_FLAG_W,OXYGEN,OXYGEN_FLAG_W,SILCAT,SILCAT_FLAG_W,NITRAT,NITRAT_FLAG_W,NITRIT,NITRIT_FLAG_W,PHSPHT,PHSPHT_FLAG_W,CFC-11,CFC-11_FLAG_W,CFC-12,CFC-12_FLAG_W,TCARBN,TCARBN_FLAG_W,ALKALI,ALKALI_FLAG_W,PH_SWS,PH_TEMP,PH_SWS_FLAG_W,ID,THETA
,,,,,,,,METERS,DBARS,ITS-90,PSS-78,,PSS-78,,UMOL/KG,,UMOL/KG,,UMOL/KG,,UMOL/KG,,UMOL/KG,,PMOL/KG,,PMOL/KG,,UMOL/KG,,UMOL/KG,,,DEGC,,,DEGC
  06MT20030723,   476,  1,      1,2,20030730, 55.5830, -49.5760, 3711,   3707.4,   1.7201,  34.8795,2,-999.0000,9,    295.6,2,  -999.00,5,  -999.00,5,  -999.00,5,  -999.00,5, -999.000,9, -999.000,9,   -999.0,5,   -999.0,5,-999.0000,  -999.00,9,    27001,   1.4254
  06MT20030723,   476,  1,      2,2,20030730, 55.5830, -49.5760, 3711,   3707.2,   1.7202,  34.8800,2,-999.0000,9,   -999.0,5,  -999.00,5,  -999.00,5,  -999.00,5,  -999.00,5,    3.716,3,    1.908,2,   -999.0,5,   -999.0,5,-999.0000,  -999.00,9,    27002,   1.4256
  06MT20030723,   476,  1,      3,2,20030730, 55.5830, -49.5760, 3711,   3656.3,   1.7783,  34.8798,2,-999.0000,9,   -999.0,5,  -999.00,5,  -999.00,5,  -999.00,5,  -999.00,5, -999.000,9, -999.000,9,   -999.0,5,   -999.0,5,-999.0000,  -999.00,9,    27003,   1.4876
  06MT20030723,   476,  1,      4,2,20030730, 55.5830, -49.5760, 3711,   3462.9,   2.2208,  34.8897,2,  34.8882,2,   -999.0,5,  -999.00,5,  -999.00,5,  -999.00,5,  -999.00,5,    2.873,3,    1.447,2,   -999.0,5,   -999.0,5,-999.0000,  -999.00,9,    27004,   1.9393
  06MT20030723,   476,  1,      5,2,20030730, 55.5830, -49.5760, 3711,   3205.2,   2.5428,  34.9049,2,-999.0000,9,   -999.0,5,  -999.00,5,  -999.00,5,  -999.00,5,  -999.00,5,    2.346,3,    1.188,2,   -999.0,5,   -999.0,5,-999.0000,  -999.00,9,    27005,   2.2808
  06MT20030723,   476,  1,      6,2,20030730, 55.5830, -49.5760, 3711,   2942.1,   2.8108,  34.9238,2,-999.0000,9,    278.5,2,  -999.00,5,  -999.00,5,  -999.00,5,  -999.00,5,    2.115,3,    1.052,2,   -999.0,5,   -999.0,5,-999.0000,  -999.00,9,    27006,   2.5701
  06MT20030723,   476,  1,      7,2,20030730, 55.5830, -49.5760, 3711,   2695.5,   2.9436,  34.9103,2,  34.9085,2,   -999.0,5,  -999.00,5,  -999.00,5,  -999.00,5,  -999.00,5,    2.364,3,    1.175,2,   -999.0,5,   -999.0,5,-999.0000,  -999.00,9,    27007,   2.7254
  06MT20030723,   476,  1,      8,2,20030730, 55.5830, -49.5760, 3711,   2406.7,   3.0693,  34.8986,2,-999.0000,9,   -999.0,5,  -999.00,5,  -999.00,5,  -999.00,5,  -999.00,5,    2.661,3,    1.332,2,   -999.0,5,   -999.0,5,-999.0000,  -999.00,9,    27008,   2.8774
  06MT20030723,   476,  1,      9,2,20030730, 55.5830, -49.5760, 3711,   2126.6,   3.1125,  34.8813,2,-999.0000,9,   -999.0,5,  -999.00,5,  -999.00,5,  -999.00,5,  -999.00,5,    3.071,3,    1.536,2,   -999.0,5,   -999.0,5,-999.0000,  -999.00,9,    27009,   2.9467
  06MT20030723,   476,  1,     10,2,20030730, 55.5830, -49.5760, 3711,   1924.3,   3.1695,  34.8781,2,-999.0000,9,   -999.0,5,  -999.00,5,  -999.00,5,  -999.00,5,  -999.00,5, -999.000,9, -999.000,9,   -999.0,5,   -999.0,5,-999.0000,  -999.00,9,    27010,   3.0215
  06MT20030723,   476,  1,     11,2,20030730, 55.5830, -49.5760, 3711,   1736.2,   3.2889,  34.8825,2,-999.0000,9,   -999.0,5,  -999.00,5,  -999.00,5,  -999.00,5,  -999.00,5,    3.323,3,    1.676,2,   -999.0,5,   -999.0,5,-999.0000,  -999.00,9,    27011,   3.1563
  06MT20030723,   476,  1,     12,2,20030730, 55.5830, -49.5760, 3711,   1516.9,   3.4165,  34.8839,2,-999.0000,9,    281.9,2,  -999.00,5,  -999.00,5,  -999.00,5,  -999.00,5,    3.443,3,    1.743,2,   -999.0,5,   -999.0,5,-999.0000,  -999.00,9,    27012,   3.3016
  06MT20030723,   476,  1,     13,2,20030730, 55.5830, -49.5760, 3711,   1301.6,   3.3642,  34.8587,2,  34.8609,2,   -999.0,5,  -999.00,5,  -999.00,5,  -999.00,5,  -999.00,5,    4.133,3,    2.163,2,   -999.0,5,   -999.0,5,-999.0000,  -999.00,9,    27013,   3.2683
  06MT20030723,   476,  1,     14,2,20030730, 55.5830, -49.5760, 3711,   1082.5,   3.2515,  34.8342,2,-999.0000,9,    299.2,2,  -999.00,5,  -999.00,5,  -999.00,5,  -999.00,5,    4.465,3,    2.363,2,   -999.0,5,   -999.0,5,-999.0000,  -999.00,9,    27014,   3.1746
  06MT20030723,   476,  1,     15,2,20030730, 55.5830, -49.5760, 3711,    880.4,   3.2600,  34.8316,2,-999.0000,9,   -999.0,5,  -999.00,5,  -999.00,5,  -999.00,5,  -999.00,5,    4.608,3,    2.456,2,   -999.0,5,   -999.0,5,-999.0000,  -999.00,9,    27015,   3.1988
  06MT20030723,   476,  1,     16,2,20030730, 55.5830, -49.5760, 3711,    766.7,   3.2613,  34.8297,2,-999.0000,9,   -999.0,5,  -999.00,5,  -999.00,5,  -999.00,5,  -999.00,5,    4.555,3,    2.418,2,   -999.0,5,   -999.0,5,-999.0000,  -999.00,9,    27016,   3.2086
  06MT20030723,   476,  1,     17,2,20030730, 55.5830, -49.5760, 3711,    577.7,   3.2920,  34.8272,2,-999.0000,9,   -999.0,5,  -999.00,5,  -999.00,5,  -999.00,5,  -999.00,5,    4.695,3,    2.507,2,   -999.0,5,   -999.0,5,-999.0000,  -999.00,9,    27017,   3.2530
  06MT20030723,   476,  1,     18,2,20030730, 55.5830, -49.5760, 3711,    348.0,   3.3142,  34.8144,2,-999.0000,9,   -999.0,5,  -999.00,5,  -999.00,5,  -999.00,5,  -999.00,5,    4.554,3,    2.429,2,   -999.0,5,   -999.0,5,-999.0000,  -999.00,9,    27018,   3.2913
  06MT20030723,   476,  1,     19,2,20030730, 55.5830, -49.5760, 3711,    197.9,   3.4096,  34.8016,2,-999.0000,9,   -999.0,5,  -999.00,5,  -999.00,5,  -999.00,5,  -999.00,5,    4.787,3,    2.576,2,   -999.0,5,   -999.0,5,-999.0000,  -999.00,9,    27019,   3.3967
  06MT20030723,   476,  1,     20,2,20030730, 55.5830, -49.5760, 3711,    109.6,   3.7586,  34.7983,2,-999.0000,9,   -999.0,5,  -999.00,5,  -999.00,5,  -999.00,5,  -999.00,5, -999.000,9, -999.000,9,   -999.0,5,   -999.0,5,-999.0000,  -999.00,9,    27020,   3.7512
  06MT20030723,   476,  1,     21,2,20030730, 55.5830, -49.5760, 3711,     61.3,   4.3074,  34.7870,2,  34.7909,2,   -999.0,5,  -999.00,5,  -999.00,5,  -999.00,5,  -999.00,5, -999.000,9, -999.000,9,   -999.0,5,   -999.0,5,-999.0000,  -999.00,9,    27021,   4.3030
  06MT20030723,   476,  1,     22,2,20030730, 55.5830, -49.5760, 3711,      3.8,   9.4816,  34.6700,2,-999.0000,9,    295.6,2,  -999.00,5,  -999.00,5,  -999.00,5,  -999.00,5,    4.096,3,    2.294,2,   -999.0,5,   -999.0,5,-999.0000,  -999.00,9,    27022,   9.4812
  06MT20030723,   477,  1,      1,2,20030730, 55.1830, -48.9650, 3780,   3745.2,   1.7047,  34.8797,2,  34.8790,2,    296.0,2,    10.12,2,    14.02,2,     0.01,2,     0.95,2, -999.000,9, -999.000,9,   2157.2,2,   2299.2,2,-999.0000,  -999.00,9,    28001,   1.4064
  06MT20030723,   477,  1,      2,2,20030730, 55.1830, -48.9650, 3780,   3743.8,   1.7090,  34.8802,2,-999.0000,9,    296.2,2,    10.13,2,    14.12,2,     0.01,2,     0.96,2, -999.000,9, -999.000,9,   -999.0,5,   -999.0,5,-999.0000,  -999.00,9,    28002,   1.4107
  06MT20030723,   477,  1,      3,2,20030730, 55.1830, -48.9650, 3780,   3715.1,   1.7198,  34.8776,2,-999.0000,9,    297.1,2,    10.55,2,    14.12,2,     0.01,2,     0.97,2, -999.000,9, -999.000,9,   2155.6,2,   2303.0,2,-999.0000,  -999.00,9,    28003,   1.4243
  06MT20030723,   477,  1,      4,2,20030730, 55.1830, -48.9650, 3780,   3555.4,   2.0654,  34.8866,2,-999.0000,9,    289.4,2,    13.60,2,    15.16,2,     0.01,2,     1.02,2, -999.000,9, -999.000,9,   2161.4,2,   2306.0,2,-999.0000,  -999.00,9,    28004,   1.7780
  06MT20030723,   477,  1,      5,2,20030730, 55.1830, -48.9650, 3780,   3248.9,   2.4319,  34.9049,2,-999.0000,9,    281.9,2,    15.06,2,    15.91,2,     0.01,2,     1.07,2, -999.000,9, -999.000,9,   2156.7,2,   2308.2,2,-999.0000,  -999.00,9,    28005,   2.1679
  06MT20030723,   477,  1,      6,2,20030730, 55.1830, -48.9650, 3780,   2993.3,   2.6659,  34.9193,2,-999.0000,9,    279.4,2,    14.10,2,    15.97,2,     0.00,2,     1.08,2, -999.000,9, -999.000,9,   2158.3,2,   2310.5,2,-999.0000,  -999.00,9,    28006,   2.4231
  06MT20030723,   477,  1,      7,2,20030730, 55.1830, -48.9650, 3780,   2736.7,   2.8211,  34.9191,2,-999.0000,9,    280.2,2,    12.89,2,    16.05,2,     0.01,2,     1.07,2,    2.147,3,    1.095,2,   2156.2,2,   2305.1,2,-999.0000,  -999.00,9,    28007,   2.6011
  06MT20030723,   477,  1,      8,2,20030730, 55.1830, -48.9650, 3780,   2437.6,   2.9721,  34.9081,2,-999.0000,9,    281.0,2,    11.73,2,    16.22,2,     0.01,2,     1.07,2, -999.000,9, -999.000,9,   2157.5,2,   2308.7,2,-999.0000,  -999.00,9,    28008,   2.7789
  06MT20030723,   477,  1,      9,2,20030730, 55.1830, -48.9650, 3780,   2227.4,   3.0466,  34.8990,2,  34.9008,2,    282.9,2,    11.12,2,    16.28,2,     0.00,2,     1.08,2,    2.625,3,    1.335,2,   2158.4,2,   2304.3,2,-999.0000,  -999.00,9,    28009,   2.8723
  06MT20030723,   477,  1,     10,2,20030730, 55.1830, -48.9650, 3780,   2023.3,   3.0781,  34.8865,2,-999.0000,9,    285.5,2,    10.55,2,    16.27,2,     0.00,2,     1.08,2,    3.002,3,    1.523,2,   2156.9,2,   2300.9,2,-999.0000,  -999.00,9,    28010,   2.9224
  06MT20030723,   477,  1,     11,2,20030730, 55.1830, -48.9650, 3780,   1830.8,   3.1309,  34.8810,2,-999.0000,9,    286.9,2,    10.37,2,    16.50,2,     0.00,2,     1.09,2,    3.201,3,    1.620,2,   2152.3,2,   2302.2,2,-999.0000,  -999.00,9,    28011,   2.9919
  06MT20030723,   477,  1,     12,2,20030730, 55.1830, -48.9650, 3780,   1615.1,   3.1995,  34.8784,2,  34.8790,2,    285.5,2,    10.16,2,    16.68,2,     0.00,2,     1.10,2,    3.334,3,    1.684,2,   2154.8,2,   2301.8,2,-999.0000,  -999.00,9,    28012,   3.0787
  06MT20030723,   477,  1,     13,2,20030730, 55.1830, -48.9650, 3780,   1376.0,   3.3647,  34.8861,2,-999.0000,9,    283.0,2,    10.14,2,    16.81,2,     0.00,2,     1.11,2,    3.324,3,    1.693,2,   2158.8,2,   2298.9,2,-999.0000,  -999.00,9,    28013,   3.2625
  06MT20030723,   477,  1,     14,2,20030730, 55.1830, -48.9650, 3780,   1161.2,   3.4547,  34.8827,2,-999.0000,9,    282.1,2,     9.79,2,    16.56,2,     0.00,2,     1.09,2,    3.506,3,    1.818,2,   2156.2,2,   2303.1,2,-999.0000,  -999.00,9,    28014,   3.3696
  06MT20030723,   477,  1,     15,2,20030730, 55.1830, -48.9650, 3780,    957.4,   3.4469,  34.8675,2,-999.0000,9,    286.9,2,     9.26,2,    16.35,2,     0.00,2,     1.08,2,    3.900,3,    2.043,2,   2153.7,2,   2300.1,2,-999.0000,  -999.00,9,    28015,   3.3783
  06MT20030723,   477,  1,     16,2,20030730, 55.1830, -48.9650, 3780,    753.4,   3.4660,  34.8586,2,-999.0000,9,    288.3,2,     8.96,2,    16.27,2,     0.01,2,     1.08,2,    4.137,3,    2.194,2,   2157.4,2,   2301.5,2,-999.0000,  -999.00,9,    28016,   3.4131
  06MT20030723,   477,  1,     17,2,20030730, 55.1830, -48.9650, 3780,    645.6,   3.4942,  34.8568,2,  34.8576,2,    288.7,2,     8.74,2,    16.23,2,     0.01,2,     1.07,2,    4.243,3,    2.268,2,   2162.3,2,   2302.8,2,-999.0000,  -999.00,9,    28017,   3.4493
  06MT20030723,   477,  1,     18,2,20030730, 55.1830, -48.9650, 3780,    401.3,   3.6000,  34.8519,2,-999.0000,9,    285.1,2,     8.25,2,    16.03,2,     0.01,2,     1.05,2,    4.193,3,    2.246,2,   2157.7,2,   2303.2,2,-999.0000,  -999.00,9,    28018,   3.5725
  06MT20030723,   477,  1,     19,2,20030730, 55.1830, -48.9650, 3780,    243.9,   3.4258,  34.8009,2,-999.0000,9,    294.6,2,     8.58,2,    16.26,2,     0.01,2,     1.06,2,    4.586,3,    2.492,2,   2161.2,2,   2299.8,2,-999.0000,  -999.00,9,    28019,   3.4097
  06MT20030723,   477,  1,     20,2,20030730, 55.1830, -48.9650, 3780,    113.3,   3.7389,  34.7785,2,-999.0000,9,   -999.0,5,  -999.00,5,  -999.00,5,  -999.00,5,  -999.00,5, -999.000,9, -999.000,9,   -999.0,5,   -999.0,5,-999.0000,  -999.00,9,    28020,   3.7313
  06MT20030723,   477,  1,     21,2,20030730, 55.1830, -48.9650, 3780,     64.8,   4.7006,  34.7709,2,-999.0000,9,    307.9,2,     7.16,2,    11.74,2,     0.32,2,     0.94,2, -999.000,9, -999.000,9,   2143.6,2,   2299.9,2,-999.0000,  -999.00,9,    28021,   4.6958
  06MT20030723,   477,  1,     22,2,20030730, 55.1830, -48.9650, 3780,     12.1,  10.1048,  35.3699,2,-999.0000,9,    288.1,2,     0.43,2,     3.89,2,     0.09,2,     0.35,2,    3.931,3,    2.219,2,   2081.4,2,   2292.6,2,-999.0000,  -999.00,9,    28022,  10.1034
  06MT20030723,   478,  1,      1,2,20030730, 54.7810, -48.3580, 3790,   3840.3,   1.7687,  34.8776,2,-999.0000,9,    294.8,2,  -999.00,5,  -999.00,5,  -999.00,5,  -999.00,5, -999.000,9, -999.000,9,   -999.0,5,   -999.0,5,-999.0000,  -999.00,9,    29001,   1.4585
  06MT20030723,   478,  1,      2,2,20030730, 54.7810, -48.3580, 3790,   3839.6,   1.7685,  34.8785,2,-999.0000,9,   -999.0,5,  -999.00,5,  -999.00,5,  -999.00,5,  -999.00,5, -999.000,9, -999.000,9,   -999.0,5,   -999.0,5,-999.0000,  -999.00,9,    29002,   1.4583
  06MT20030723,   478,  1,      3,2,20030730, 54.7810, -48.3580, 3790,   3746.4,   2.0421,  34.8854,2,-999.0000,9,   -999.0,5,  -999.00,5,  -999.00,5,  -999.00,5,  -999.00,5, -999.000,9, -999.000,9,   -999.0,5,   -999.0,5,-999.0000,  -999.00,9,    29003,   1.7347
  06MT20030723,   478,  1,      4,2,20030730, 54.7810, -48.3580, 3790,   3557.0,   2.2529,  34.8949,2,  34.8953,2,   -999.0,5,  -999.00,5,  -999.00,5,  -999.00,5,  -999.00,5, -999.000,9, -999.000,9,   -999.0,5,   -999.0,5,-999.0000,  -999.00,9,    29004,   1.9605
  06MT20030723,   478,  1,      5,2,20030730, 54.7810, -48.3580, 3790,   3273.2,   2.5339,  34.9076,2,-999.0000,9,   -999.0,5,  -999.00,5,  -999.00,5,  -999.00,5,  -999.00,5, -999.000,9, -999.000,9,   -999.0,5,   -999.0,5,-999.0000,  -999.00,9,    29005,   2.2649
  06MT20030723,   478,  1,      6,2,20030730, 54.7810, -48.3580, 3790,   2945.4,   2.8124,  34.9222,2,-999.0000,9,   -999.0,5,  -999.00,5,  -999.00,5,  -999.00,5,  -999.00,5, -999.000,9, -999.000,9,   -999.0,5,   -999.0,5,-999.0000,  -999.00,9,    29006,   2.5714
  06MT20030723,   478,  1,      7,2,20030730, 54.7810, -48.3580, 3790,   2737.6,   2.9020,  34.9123,2,-999.0000,9,   -999.0,5,  -999.00,5,  -999.00,5,  -999.00,5,  -999.00,5, -999.000,9, -999.000,9,   -999.0,5,   -999.0,5,-999.0000,  -999.00,9,    29007,   2.6804
  06MT20030723,   478,  1,      8,2,20030730, 54.7810, -48.3580, 3790,   2552.0,   3.0025,  34.9072,2,-999.0000,9,    281.9,2,  -999.00,5,  -999.00,5,  -999.00,5,  -999.00,5, -999.000,9, -999.000,9,   -999.0,5,   -999.0,5,-999.0000,  -999.00,9,    29008,   2.7975
  06MT20030723,   478,  1,      9,2,20030730, 54.7810, -48.3580, 3790,   2330.3,   3.0792,  34.8958,2,-999.0000,9,   -999.0,5,  -999.00,5,  -999.00,5,  -999.00,5,  -999.00,5,    2.653,3,    1.340,2,   -999.0,5,   -999.0,5,-999.0000,  -999.00,9,    29009,   2.8945
  06MT20030723,   478,  1,     10,2,20030730, 54.7810, -48.3580, 3790,   2126.2,   3.1159,  34.8799,2,-999.0000,9,   -999.0,5,  -999.00,5,  -999.00,5,  -999.00,5,  -999.00,5,    3.145,3,    1.583,2,   -999.0,5,   -999.0,5,-999.0000,  -999.00,9,    29010,   2.9501
  06MT20030723,   478,  1,     11,2,20030730, 54.7810, -48.3580, 3790,   1973.5,   3.1822,  34.8792,2,-999.0000,9,   -999.0,5,  -999.00,5,  -999.00,5,  -999.00,5,  -999.00,5,    3.254,3,    1.644,2,   -999.0,5,   -999.0,5,-999.0000,  -999.00,9,    29011,   3.0295
  06MT20030723,   478,  1,     12,2,20030730, 54.7810, -48.3580, 3790,   1822.5,   3.2469,  34.8784,2,-999.0000,9,   -999.0,5,  -999.00,5,  -999.00,5,  -999.00,5,  -999.00,5,    3.296,3,    1.670,2,   -999.0,5,   -999.0,5,-999.0000,  -999.00,9,    29012,   3.1071
  06MT20030723,   478,  1,     13,2,20030730, 54.7810, -48.3580, 3790,   1669.6,   3.3622,  34.8826,2,-999.0000,9,    282.8,2,  -999.00,5,  -999.00,5,  -999.00,5,  -999.00,5,    3.229,3,    1.649,2,   -999.0,5,   -999.0,5,-999.0000,  -999.00,9,    29013,   3.2346
  06MT20030723,   478,  1,     14,2,20030730, 54.7810, -48.3580, 3790,   1421.4,   3.2969,  34.8470,2,-999.0000,9,   -999.0,5,  -999.00,5,  -999.00,5,  -999.00,5,  -999.00,5,    4.199,3,    2.206,2,   -999.0,5,   -999.0,5,-999.0000,  -999.00,9,    29014,   3.1917
  06MT20030723,   478,  1,     15,2,20030730, 54.7810, -48.3580, 3790,   1160.0,   3.2203,  34.8289,2,  34.8287,2,   -999.0,5,  -999.00,5,  -999.00,5,  -999.00,5,  -999.00,5,    4.587,3,    2.454,2,   -999.0,5,   -999.0,5,-999.0000,  -999.00,9,    29015,   3.1375
  06MT20030723,   478,  1,     16,2,20030730, 54.7810, -48.3580, 3790,    905.7,   3.2432,  34.8282,2,-999.0000,9,   -999.0,5,  -999.00,5,  -999.00,5,  -999.00,5,  -999.00,5,    4.565,3,    2.466,2,   -999.0,5,   -999.0,5,-999.0000,  -999.00,9,    29016,   3.1801
  06MT20030723,   478,  1,     17,2,20030730, 54.7810, -48.3580, 3790,    740.8,   3.2941,  34.8306,2,-999.0000,9,   -999.0,5,  -999.00,5,  -999.00,5,  -999.00,5,  -999.00,5,    4.584,3,    2.474,2,   -999.0,5,   -999.0,5,-999.0000,  -999.00,9,    29017,   3.2432
  06MT20030723,   478,  1,     18,2,20030730, 54.7810, -48.3580, 3790,    503.0,   3.4427,  34.8379,2,-999.0000,9,    293.2,2,  -999.00,5,  -999.00,5,  -999.00,5,  -999.00,5,    4.351,3,    2.373,2,   -999.0,5,   -999.0,5,-999.0000,  -999.00,9,    29018,   3.4085
  06MT20030723,   478,  1,     19,2,20030730, 54.7810, -48.3580, 3790,    379.2,   3.3514,  34.8176,2,-999.0000,9,   -999.0,5,  -999.00,5,  -999.00,5,  -999.00,5,  -999.00,5,    4.562,3,    2.485,2,   -999.0,5,   -999.0,5,-999.0000,  -999.00,9,    29019,   3.3262
  06MT20030723,   478,  1,     20,2,20030730, 54.7810, -48.3580, 3790,    203.9,   3.2927,  34.7732,2,-999.0000,9,   -999.0,5,  -999.00,5,  -999.00,5,  -999.00,5,  -999.00,5, -999.000,9, -999.000,9,   -999.0,5,   -999.0,5,-999.0000,  -999.00,9,    29020,   3.2796
  06MT20030723,   478,  1,     21,2,20030730, 54.7810, -48.3580, 3790,    118.4,   3.6426,  34.7745,2,-999.0000,9,   -999.0,5,  -999.00,5,  -999.00,5,  -999.00,5,  -999.00,5, -999.000,9, -999.000,9,   -999.0,5,   -999.0,5,-999.0000,  -999.00,9,    29021,   3.6347
  06MT20030723,   478,  1,     22,2,20030730, 54.7810, -48.3580, 3790,     14.5,   9.5847,  34.6587,2,  34.6561,2,    292.2,2,  -999.00,5,  -999.00,5,  -999.00,5,  -999.00,5,    4.850,3,    2.669,2,   -999.0,5,   -999.0,5,-999.0000,  -999.00,9,    29022,   9.5831