BOTTLE,20090513PRINUNIVRMK
EXPOCODE,STNNBR,CASTNO,BTLNBR,BTLNBR_FLAG_W,DATE,LATITUDE,LONGITUDE,DEPTH,CTDPRS,CTDTMP,CTDSAL,CTDSAL_FLAG_W,SALNTY,SALNTY_FLAG_W,OXYGEN,OXYGEN_FLAG_W,SILCAT,SILCAT_FLAG_W,NITRAT,NITRAT_FLAG_W,NITRIT,NITRIT_FLAG_W,PHSPHT,PHSPHT_FLAG_W,CFC-11,CFC-11_FLAG_W,CFC-12,CFC-12_FLAG_W,TCARBN,TCARBN_FLAG_W,ALKALI,ALKALI_FLAG_W,PH_SWS,PH_TEMP,PH_SWS_FLAG_W,ID,THETA
,,,,,,,,METERS,DBARS,ITS-90,PSS-78,,PSS-78,,UMOL/KG,,UMOL/KG,,UMOL/KG,,UMOL/KG,,UMOL/KG,,PMOL/KG,,PMOL/KG,,UMOL/KG,,UMOL/KG,,,DEGC,,,DEGC
  06MT20030723,   506,  1,      1,2,20030806, 49.3350, -28.8090, 3324,   3340.5,   2.9463,  34.9231,2,-999.0000,9,    277.4,2,    15.62,2,    16.93,2,     0.01,2,     1.02,2, -999.000,9, -999.000,9,   2162.2,2,   2312.7,2,   7.7197,    25.00,2,    57001,   2.6603
  06MT20030723,   506,  1,      2,2,20030806, 49.3350, -28.8090, 3324,   3340.4,   2.9462,  34.9229,2,-999.0000,9,   -999.0,9,  -999.00,9,  -999.00,9,  -999.00,9,  -999.00,9,    1.878,3,    0.932,2,   -999.0,9,   -999.0,9,-999.0000,  -999.00,9,     -999,   2.6602
  06MT20030723,   506,  1,      3,2,20030806, 49.3350, -28.8090, 3324,   3248.6,   2.9440,  34.9230,2,-999.0000,9,   -999.0,9,  -999.00,9,  -999.00,9,  -999.00,9,  -999.00,9,    1.882,3,    0.947,2,   -999.0,9,   -999.0,9,-999.0000,  -999.00,9,     -999,   2.6680
  06MT20030723,   506,  1,      4,2,20030806, 49.3350, -28.8090, 3324,   2943.5,   2.9774,  34.9204,2,-999.0000,9,   -999.0,9,  -999.00,9,  -999.00,9,  -999.00,9,  -999.00,9,    1.926,3,    0.954,2,   -999.0,9,   -999.0,9,-999.0000,  -999.00,9,     -999,   2.7331
  06MT20030723,   506,  1,      5,2,20030806, 49.3350, -28.8090, 3324,   2630.9,   3.1111,  34.9105,2,-999.0000,9,   -999.0,9,  -999.00,9,  -999.00,9,  -999.00,9,  -999.00,9,    2.196,3,    1.089,2,   -999.0,9,   -999.0,9,-999.0000,  -999.00,9,     -999,   2.8961
  06MT20030723,   506,  1,      6,2,20030806, 49.3350, -28.8090, 3324,   2327.7,   3.2472,  34.9011,2,-999.0000,9,   -999.0,9,  -999.00,9,  -999.00,9,  -999.00,9,  -999.00,9,    2.527,3,    1.260,2,   -999.0,9,   -999.0,9,-999.0000,  -999.00,9,     -999,   3.0599
  06MT20030723,   506,  1,      7,2,20030806, 49.3350, -28.8090, 3324,   2020.7,   3.3889,  34.8969,2,  34.8994,2,   -999.0,9,  -999.00,9,  -999.00,9,  -999.00,9,  -999.00,9,    2.796,3,    1.392,2,   -999.0,9,   -999.0,9,-999.0000,  -999.00,9,     -999,   3.2287
  06MT20030723,   506,  1,      8,2,20030806, 49.3350, -28.8090, 3324,   1820.0,   3.5115,  34.9007,2,-999.0000,9,   -999.0,9,  -999.00,9,  -999.00,9,  -999.00,9,  -999.00,9,    2.871,3,    1.449,2,   -999.0,9,   -999.0,9,-999.0000,  -999.00,9,     -999,   3.3682
  06MT20030723,   506,  1,      9,2,20030806, 49.3350, -28.8090, 3324,   1612.3,   3.6698,  34.9073,2,-999.0000,9,   -999.0,9,  -999.00,9,  -999.00,9,  -999.00,9,  -999.00,9,    2.948,3,    1.496,2,   -999.0,9,   -999.0,9,-999.0000,  -999.00,9,     -999,   3.5434
  06MT20030723,   506,  1,     10,2,20030806, 49.3350, -28.8090, 3324,   1406.7,   3.8339,  34.9048,2,-999.0000,9,   -999.0,9,  -999.00,9,  -999.00,9,  -999.00,9,  -999.00,9, -999.000,9, -999.000,9,   -999.0,9,   -999.0,9,-999.0000,  -999.00,9,     -999,   3.7240
  06MT20030723,   506,  1,     11,2,20030806, 49.3350, -28.8090, 3324,   1211.0,   4.1325,  34.9210,2,-999.0000,9,   -999.0,9,  -999.00,9,  -999.00,9,  -999.00,9,  -999.00,9,    3.385,3,    1.747,2,   -999.0,9,   -999.0,9,-999.0000,  -999.00,9,     -999,   4.0369
  06MT20030723,   506,  1,     12,2,20030806, 49.3350, -28.8090, 3324,   1108.0,   4.4212,  34.9408,2,-999.0000,9,   -999.0,9,  -999.00,9,  -999.00,9,  -999.00,9,  -999.00,9,    3.260,3,    1.694,2,   -999.0,9,   -999.0,9,-999.0000,  -999.00,9,     -999,   4.3321
  06MT20030723,   506,  1,     13,2,20030806, 49.3350, -28.8090, 3324,   1015.5,   4.9889,  34.9896,2,  34.9803,0,   -999.0,9,  -999.00,9,  -999.00,9,  -999.00,9,  -999.00,9,    2.846,3,    1.489,2,   -999.0,9,   -999.0,9,-999.0000,  -999.00,9,     -999,   4.9035
  06MT20030723,   506,  1,     14,2,20030806, 49.3350, -28.8090, 3324,    959.2,   5.1267,  34.9853,2,-999.0000,9,   -999.0,9,  -999.00,9,  -999.00,9,  -999.00,9,  -999.00,9,    2.819,3,    1.478,2,   -999.0,9,   -999.0,9,-999.0000,  -999.00,9,     -999,   5.0454
  06MT20030723,   506,  1,     15,2,20030806, 49.3350, -28.8090, 3324,    862.1,   5.8098,  34.9886,2,-999.0000,9,   -999.0,9,  -999.00,9,  -999.00,9,  -999.00,9,  -999.00,9,    2.615,3,    1.389,2,   -999.0,9,   -999.0,9,-999.0000,  -999.00,9,     -999,   5.7329
  06MT20030723,   506,  1,     16,2,20030806, 49.3350, -28.8090, 3324,    811.2,   6.3277,  34.9969,2,-999.0000,9,   -999.0,9,  -999.00,9,  -999.00,9,  -999.00,9,  -999.00,9,    2.505,3,    1.328,2,   -999.0,9,   -999.0,9,-999.0000,  -999.00,9,     -999,   6.2524
  06MT20030723,   506,  1,     17,2,20030806, 49.3350, -28.8090, 3324,    597.9,   8.4938,  35.1193,2,-999.0000,9,   -999.0,9,  -999.00,9,  -999.00,9,  -999.00,9,  -999.00,9,    2.654,3,    1.479,2,   -999.0,9,   -999.0,9,-999.0000,  -999.00,9,     -999,   8.4294
  06MT20030723,   506,  1,     18,2,20030806, 49.3350, -28.8090, 3324,    403.8,  10.3981,  35.3582,2,-999.0000,9,   -999.0,9,  -999.00,9,  -999.00,9,  -999.00,9,  -999.00,9,    3.215,3,    1.876,2,   -999.0,9,   -999.0,9,-999.0000,  -999.00,9,     -999,  10.3494
  06MT20030723,   506,  1,     19,2,20030806, 49.3350, -28.8090, 3324,    176.0,  11.0882,  35.4764,2,-999.0000,9,   -999.0,9,  -999.00,9,  -999.00,9,  -999.00,9,  -999.00,9,    3.240,3,    1.874,2,   -999.0,9,   -999.0,9,-999.0000,  -999.00,9,     -999,  11.0663
  06MT20030723,   506,  1,     20,2,20030806, 49.3350, -28.8090, 3324,    102.6,  11.6953,  35.5252,2,-999.0000,9,   -999.0,9,  -999.00,9,  -999.00,9,  -999.00,9,  -999.00,9,    3.170,3,    1.857,2,   -999.0,9,   -999.0,9,-999.0000,  -999.00,9,     -999,  11.6821
  06MT20030723,   506,  1,     21,2,20030806, 49.3350, -28.8090, 3324,     53.2,  12.7722,  35.5411,2,  35.5239,0,   -999.0,9,  -999.00,9,  -999.00,9,  -999.00,9,  -999.00,9,    3.185,3,    1.852,2,   -999.0,9,   -999.0,9,-999.0000,  -999.00,9,     -999,  12.7650
  06MT20030723,   506,  1,     22,2,20030806, 49.3350, -28.8090, 3324,     19.1,  14.4561,  35.5279,2,-999.0000,9,   -999.0,9,  -999.00,9,  -999.00,9,  -999.00,9,  -999.00,9,    2.967,3,    1.737,2,   -999.0,9,   -999.0,9,-999.0000,  -999.00,9,     -999,  14.4533
  06MT20030723,   507,  1,      1,2,20030807, 49.3000, -27.8650, 3064,   3089.1,   3.0701,  34.9209,2,  34.9187,2,    273.7,2,    16.04,2,    17.11,2,     0.01,2,     1.01,2, -999.000,9, -999.000,9,   2160.9,2,   2307.4,2,   7.7216,    25.00,2,    62001,   2.8084
  06MT20030723,   507,  1,      2,2,20030807, 49.3000, -27.8650, 3064,   3088.3,   3.0703,  34.9210,2,-999.0000,9,    273.2,2,    15.96,2,    16.97,2,     0.01,2,     1.02,2,    1.990,3,    0.990,2,   -999.0,5,   -999.0,5,-999.0000,  -999.00,9,    62002,   2.8087
  06MT20030723,   507,  1,      3,2,20030807, 49.3000, -27.8650, 3064,   2943.3,   3.0953,  34.9169,2,-999.0000,9,    274.5,2,    15.17,2,    16.69,2,     0.00,2,     1.01,2,    2.102,3,    1.038,2,   2161.6,2,   2306.8,2,   7.7266,    25.00,2,    62003,   2.8485
  06MT20030723,   507,  1,      4,2,20030807, 49.3000, -27.8650, 3064,   2647.0,   3.1187,  34.9099,2,-999.0000,9,    277.0,2,    13.59,2,    16.83,2,     0.00,2,     0.99,2,    2.296,3,    1.139,2,   2158.8,2,   2306.6,2,   7.7246,    25.00,2,    62004,   2.9020
  06MT20030723,   507,  1,      5,2,20030807, 49.3000, -27.8650, 3064,   2315.8,   3.2127,  34.8920,2,-999.0000,9,    281.9,2,    11.16,2,    16.82,2,     0.00,2,     0.98,2,    2.846,3,    1.407,2,   2154.7,2,   2299.3,2,   7.7246,    25.00,2,    62005,   3.0271
  06MT20030723,   507,  1,      6,2,20030807, 49.3000, -27.8650, 3064,   2109.1,   3.2544,  34.8883,2,-999.0000,9,    275.3,2,    10.25,2,    16.32,2,     0.01,2,     0.97,2,    2.963,3,    1.494,2,   2153.4,2,   2302.7,2,   7.7364,    25.00,2,    62006,   3.0880
  06MT20030723,   507,  1,      7,2,20030807, 49.3000, -27.8650, 3064,   1868.2,   3.4228,  34.8937,2,-999.0000,9,    273.4,2,    10.69,2,    16.86,2,     0.00,2,     1.00,2,    2.973,3,    1.467,2,   2155.7,2,   2296.8,2,   7.7167,    25.00,2,    62007,   3.2763
  06MT20030723,   507,  1,      8,2,20030807, 49.3000, -27.8650, 3064,   1708.3,   3.5457,  34.9002,2,-999.0000,9,    282.3,2,    10.61,2,    17.01,2,     0.00,2,     1.01,2,    3.012,3,    1.494,2,   2158.0,2,   2300.4,2,   7.7207,    25.00,2,    62008,   3.4122
  06MT20030723,   507,  1,      9,2,20030807, 49.3000, -27.8650, 3064,   1616.5,   3.6561,  34.9059,2,  34.9976,0,    230.2,4,    10.77,4,    18.51,4,     0.00,4,     1.09,4, -999.000,9, -999.000,9,   2170.7,4,   2306.9,4,   7.6999,    25.00,3,    62009,   3.5295
  06MT20030723,   507,  1,     10,2,20030807, 49.3000, -27.8650, 3064,   1419.0,   3.8204,  34.9115,2,-999.0000,9,    272.2,2,    10.17,2,    17.20,2,     0.00,2,     1.01,2,    3.222,3,    1.620,2,   2158.1,2,   2298.9,2,   7.7177,    25.00,2,    62010,   3.7096
  06MT20030723,   507,  1,     11,2,20030807, 49.3000, -27.8650, 3064,   1240.8,   4.0772,  34.9269,2,-999.0000,9,    268.0,2,    10.02,2,    17.01,2,     0.00,2,     1.01,2,    3.367,3,    1.712,2,   2160.6,2,   2300.2,2,   7.7128,    25.00,2,    62011,   3.9795
  06MT20030723,   507,  1,     12,2,20030807, 49.3000, -27.8650, 3064,   1136.4,   4.3127,  34.9453,2,-999.0000,9,    262.2,2,    10.08,2,    17.58,2,     0.00,2,     1.04,2,    3.225,3,    1.638,2,   2161.6,2,   2302.8,2,   7.7108,    25.00,2,    62012,   4.2220
  06MT20030723,   507,  1,     13,2,20030807, 49.3000, -27.8650, 3064,   1017.2,   4.7117,  34.9601,2,-999.0000,9,    252.8,2,    10.36,2,    17.73,2,     0.00,2,     1.05,2,    3.094,3,    1.575,2,   2166.1,2,   2303.2,2,   7.7088,    25.00,2,    62013,   4.6283
  06MT20030723,   507,  1,     14,2,20030807, 49.3000, -27.8650, 3064,    936.0,   5.0828,  34.9724,2,-999.0000,9,    241.2,2,    10.63,2,    18.15,2,     0.00,2,     1.09,2,    2.951,3,    1.516,2,   2168.1,2,   2304.4,2,   7.7039,    25.00,2,    62014,   5.0039
  06MT20030723,   507,  1,     15,2,20030807, 49.3000, -27.8650, 3064,    834.8,   6.0099,  35.0524,2,  35.0013,0,    227.9,2,    10.76,2,    18.63,2,     0.00,2,     1.12,2,    2.666,3,    1.358,2,   2171.3,2,   2307.0,2,   7.7019,    25.00,2,    62015,   5.9342
  06MT20030723,   507,  1,     16,2,20030807, 49.3000, -27.8650, 3064,    721.3,   6.8458,  35.0792,2,-999.0000,9,    207.8,2,    10.87,2,    19.29,2,     0.00,2,     1.16,2,    2.255,3,    1.148,2,   2174.6,2,   2311.6,2,   7.7039,    25.00,2,    62016,   6.7764
  06MT20030723,   507,  1,     17,2,20030807, 49.3000, -27.8650, 3064,    600.6,   7.6808,  35.0820,2,-999.0000,9,    202.8,2,    10.01,2,    19.04,2,     0.00,2,     1.12,2,    2.408,3,    1.242,2,   2171.1,2,   2310.5,2,   7.7423,    25.00,2,    62017,   7.6198
  06MT20030723,   507,  1,     18,2,20030807, 49.3000, -27.8650, 3064,    387.8,  10.0666,  35.3027,2,-999.0000,9,    225.2,2,     6.12,2,    14.44,2,     0.01,2,     0.78,2,    2.837,3,    1.544,2,   2146.2,2,   2320.0,2,   7.7867,    25.00,2,    62018,  10.0208
  06MT20030723,   507,  1,     19,2,20030807, 49.3000, -27.8650, 3064,    195.3,  11.6419,  35.5519,2,-999.0000,9,    231.7,2,     3.85,2,    11.40,2,     0.02,2,     0.55,2,    3.026,3,    1.684,2,   2134.0,2,   2332.2,2,   7.8371,    25.00,2,    62019,  11.6168
  06MT20030723,   507,  1,     20,2,20030807, 49.3000, -27.8650, 3064,    109.7,  12.6732,  35.6953,2,-999.0000,9,    233.5,2,     2.49,2,     9.50,2,     0.03,2,     0.43,2,    3.038,3,    1.687,2,   2126.5,2,   2339.4,2,   7.8638,    25.00,2,    62020,  12.6583
  06MT20030723,   507,  1,     21,2,20030807, 49.3000, -27.8650, 3064,     77.9,  13.2489,  35.6430,2,-999.0000,9,    238.4,2,     0.97,2,     6.41,2,     0.57,2,     0.28,2,    3.115,3,    1.748,2,   2110.5,2,   2339.3,2,   7.8985,    25.00,2,    62021,  13.2380
  06MT20030723,   507,  1,     22,2,20030807, 49.3000, -27.8650, 3064,     15.1,  14.9272,  35.6190,2,-999.0000,9,    275.1,2,     0.00,2,     0.00,2,     0.02,2,     0.03,2,    3.014,3,    1.685,2,   2042.3,2,   2345.7,2,   8.0284,    25.00,2,    62022,  14.9249
  06MT20030723,   509,  1,      1,2,20030807, 49.2340, -26.0670, 3651,   3659.7,   2.6771,  34.9256,2,  34.9240,2,    250.1,2,    34.75,2,    20.32,2,     0.01,2,     1.21,2, -999.000,9, -999.000,9,   2190.0,2,   2337.6,2,   7.7265,    25.00,2,    64001,   2.3625
  06MT20030723,   509,  1,      2,2,20030807, 49.2340, -26.0670, 3651,   3660.3,   2.6775,  34.9259,2,-999.0000,9,    249.3,2,    34.60,2,    20.40,2,     0.00,2,     1.23,2,    0.535,3,    0.266,2,   -999.0,5,   -999.0,5,-999.0000,  -999.00,9,    64002,   2.3628
  06MT20030723,   509,  1,      3,2,20030807, 49.2340, -26.0670, 3651,   3453.4,   2.6804,  34.9280,2,-999.0000,9,    252.0,2,    32.37,2,    20.08,2,     0.00,2,     1.20,2,    0.628,3,    0.318,2,   2185.8,2,   2333.9,2,   7.7256,    25.00,2,    64003,   2.3885
  06MT20030723,   509,  1,      4,2,20030807, 49.2340, -26.0670, 3651,   3198.3,   2.7789,  34.9369,2,-999.0000,9,    259.1,2,    25.95,2,    18.68,2,     0.00,2,     1.13,2,    1.080,3,    0.549,2,   2177.8,2,   2325.0,2,   7.7246,    25.00,2,    64004,   2.5121
  06MT20030723,   509,  1,      5,2,20030807, 49.2340, -26.0670, 3651,   2719.0,   2.9911,  34.9312,2,-999.0000,9,    271.6,2,    15.77,2,    16.92,2,     0.00,2,     1.00,2,    1.836,3,    0.920,2,   2163.6,2,   2309.5,2,-999.0000,  -999.00,9,    64005,   2.7695
  06MT20030723,   509,  1,      6,2,20030807, 49.2340, -26.0670, 3651,   2431.2,   3.1166,  34.9182,2,-999.0000,9,    267.6,2,    11.01,2,    16.06,2,     0.01,2,     0.90,2,    2.615,3,    1.371,2,   2153.0,3,   2305.1,2,   7.7423,    25.00,3,    64006,   2.9214
  06MT20030723,   509,  1,      7,2,20030807, 49.2340, -26.0670, 3651,   2132.5,   3.1726,  34.8977,2,-999.0000,9,    281.2,2,    11.57,2,    16.75,2,     0.00,2,     0.93,2,    2.592,3,    1.290,2,   2156.8,2,   2309.1,2,-999.0000,  -999.00,9,    64007,   3.0052
  06MT20030723,   509,  1,      8,2,20030807, 49.2340, -26.0670, 3651,   1941.6,   3.2522,  34.8908,2,  34.8900,2,    281.4,2,    10.98,2,    16.92,2,     0.00,2,     0.96,2,    2.837,3,    1.415,2,   2155.7,2,   2300.6,2,   7.7226,    25.00,2,    64008,   3.1014
  06MT20030723,   509,  1,      9,2,20030807, 49.2340, -26.0670, 3651,   1715.7,   3.3835,  34.8935,2,-999.0000,9,    280.6,2,    10.54,2,    16.93,2,     0.00,2,     0.99,2,    2.875,3,    1.432,2,   2154.7,2,   2298.7,2,   7.7216,    25.00,2,    64009,   3.2514
  06MT20030723,   509,  1,     10,2,20030807, 49.2340, -26.0670, 3651,   1532.1,   3.5535,  34.9025,2,-999.0000,9,    223.2,4,     8.53,4,    16.90,4,     0.01,4,     0.98,4, -999.000,9, -999.000,9,   2159.4,4,   2310.7,4,   7.7384,    25.00,3,    64010,   3.4357
  06MT20030723,   509,  1,     11,2,20030807, 49.2340, -26.0670, 3651,   1307.3,   3.7166,  34.9051,2,-999.0000,9,    275.2,2,    10.11,2,    17.09,2,     0.00,2,     0.96,2,    3.141,3,    1.607,2,   2158.4,2,   2300.2,2,   7.7157,    25.00,2,    64011,   3.6166
  06MT20030723,   509,  1,     12,2,20030807, 49.2340, -26.0670, 3651,   1211.4,   3.7970,  34.9041,2,-999.0000,9,    274.2,2,     9.85,2,    17.11,2,     0.00,2,     0.96,2,    3.411,3,    1.755,2,   2163.8,2,   2298.1,2,   7.7138,    25.00,2,    64012,   3.7045
  06MT20030723,   509,  1,     13,2,20030807, 49.2340, -26.0670, 3651,   1090.1,   4.0445,  34.9227,2,  34.9130,0,    270.8,2,     9.92,2,    17.28,2,     0.00,2,     0.95,2,    3.303,3,    1.702,2,   2160.2,2,   2300.0,2,   7.7118,    25.00,2,    64013,   3.9601
  06MT20030723,   509,  1,     14,2,20030807, 49.2340, -26.0670, 3651,    994.1,   4.1169,  34.9133,2,-999.0000,9,    269.3,2,     9.76,2,    17.31,2,     0.00,2,     0.99,2,    3.475,3,    1.803,2,   2162.7,2,   2299.0,2,   7.7128,    25.00,2,    64014,   4.0401
  06MT20030723,   509,  1,     15,2,20030807, 49.2340, -26.0670, 3651,    882.6,   4.4279,  34.9323,2,-999.0000,9,    259.0,2,     9.84,2,    17.66,2,     0.00,2,     1.01,2,    3.335,3,    1.746,2,   2164.0,2,   2298.3,2,   7.7078,    25.00,2,    64015,   4.3584
  06MT20030723,   509,  1,     16,2,20030807, 49.2340, -26.0670, 3651,    805.8,   4.9353,  34.9696,2,-999.0000,9,    246.7,2,    10.35,2,    17.94,2,     0.00,2,     1.03,2,    2.985,3,    1.565,2,   2167.1,2,   2309.0,2,-999.0000,  -999.00,9,    64016,   4.8691
  06MT20030723,   509,  1,     17,2,20030807, 49.2340, -26.0670, 3651,    621.3,   6.0217,  34.9782,2,-999.0000,9,    223.3,2,    10.34,2,    18.55,2,     0.00,2,     1.06,2,    2.649,3,    1.404,2,   2172.2,2,   2304.8,2,   7.6960,    25.00,2,    64017,   5.9663
  06MT20030723,   509,  1,     18,2,20030807, 49.2340, -26.0670, 3651,    398.7,   8.5475,  35.1260,2,-999.0000,9,    215.3,2,     8.24,2,    17.21,2,     0.01,2,     0.92,2,    2.625,3,    1.452,2,   2158.7,2,   2313.0,2,   7.7413,    25.00,2,    64018,   8.5049
  06MT20030723,   509,  1,     19,2,20030807, 49.2340, -26.0670, 3651,    194.5,  10.8809,  35.4402,2,-999.0000,9,    214.0,2,     5.26,2,    14.03,2,     0.02,2,     0.66,2,    2.670,3,    1.517,2,   2147.6,2,   2327.3,2,   7.7966,    25.00,2,    64019,  10.8570
  06MT20030723,   509,  1,     20,2,20030807, 49.2340, -26.0670, 3651,     98.5,  11.8997,  35.5882,2,-999.0000,9,    238.0,2,     2.85,2,    10.43,2,     0.03,2,     0.44,2,    3.005,3,    1.750,2,   2129.8,2,   2333.8,2,   7.8499,    25.00,2,    64020,  11.8869
  06MT20030723,   509,  1,     21,2,20030807, 49.2340, -26.0670, 3651,     82.0,  12.2674,  35.6116,2,  35.6083,2,    238.9,2,     1.94,2,     9.10,2,     0.04,2,     0.35,2,    3.061,3,    1.774,2,   2124.0,2,   2339.5,2,   7.8608,    25.00,2,    64021,  12.2565
  06MT20030723,   509,  1,     22,2,20030807, 49.2340, -26.0670, 3651,     20.1,  14.9410,  35.2546,2,-999.0000,9,    289.9,2,     0.05,2,     0.03,2,     0.04,2,     0.05,2,    3.030,3,    1.772,2,   2026.6,2,   2329.6,2,   8.0315,    25.00,2,    64022,  14.9380