BOTTLE,20090513PRINUNIVRMK
EXPOCODE,STNNBR,CASTNO,BTLNBR,BTLNBR_FLAG_W,DATE,LATITUDE,LONGITUDE,DEPTH,CTDPRS,CTDTMP,CTDSAL,CTDSAL_FLAG_W,SALNTY,SALNTY_FLAG_W,OXYGEN,OXYGEN_FLAG_W,SILCAT,SILCAT_FLAG_W,NITRAT,NITRAT_FLAG_W,NITRIT,NITRIT_FLAG_W,PHSPHT,PHSPHT_FLAG_W,CFC-11,CFC-11_FLAG_W,CFC-12,CFC-12_FLAG_W,TCARBN,TCARBN_FLAG_W,ALKALI,ALKALI_FLAG_W,PH_SWS,PH_TEMP,PH_SWS_FLAG_W,ID,THETA
,,,,,,,,METERS,DBARS,ITS-90,PSS-78,,PSS-78,,UMOL/KG,,UMOL/KG,,UMOL/KG,,UMOL/KG,,UMOL/KG,,PMOL/KG,,PMOL/KG,,UMOL/KG,,UMOL/KG,,,DEGC,,,DEGC
  06MT20030723,   497,  1,      1,2,20030804, 49.7830, -39.6080, 4441,   4496.4,   1.9601,  34.8797,2,-999.0000,9,    292.9,2,    12.16,2,    14.67,2,     0.01,2,     0.97,2, -999.000,9, -999.000,9,   -999.0,5,   -999.0,5,-999.0000,  -999.00,9,    48001,   1.5699
  06MT20030723,   497,  1,      2,2,20030804, 49.7830, -39.6080, 4441,   4495.6,   1.9601,  34.8800,2,-999.0000,9,    293.0,2,    12.22,2,    14.58,2,     0.01,2,     0.97,2,    3.441,3,    1.723,2,   -999.0,5,   -999.0,5,-999.0000,  -999.00,9,    48002,   1.5700
  06MT20030723,   497,  1,      3,2,20030804, 49.7830, -39.6080, 4441,   4171.7,   2.0073,  34.8821,2,  34.8829,2,    290.7,2,    13.08,2,    14.71,2,     0.00,2,     0.99,2,    3.229,3,    1.612,2,   -999.0,5,   -999.0,5,-999.0000,  -999.00,9,    48003,   1.6534
  06MT20030723,   497,  1,      4,2,20030804, 49.7830, -39.6080, 4441,   3744.7,   2.2293,  34.8928,2,-999.0000,9,    282.4,2,    17.00,2,    15.99,2,     0.00,2,     1.05,2,    2.214,3,    1.107,2,   -999.0,5,   -999.0,5,-999.0000,  -999.00,9,    48004,   1.9171
  06MT20030723,   497,  1,      5,2,20030804, 49.7830, -39.6080, 4441,   3454.4,   2.4068,  34.9002,2,-999.0000,9,    281.2,2,    16.09,2,    16.20,2,     0.00,2,     1.05,2,    2.024,3,    1.011,2,   -999.0,5,   -999.0,5,-999.0000,  -999.00,9,    48005,   2.1216
  06MT20030723,   497,  1,      6,2,20030804, 49.7830, -39.6080, 4441,   3148.5,   2.6235,  34.9071,2,-999.0000,9,   -999.0,5,  -999.00,5,  -999.00,5,  -999.00,5,  -999.00,5, -999.000,9, -999.000,9,   -999.0,5,   -999.0,5,-999.0000,  -999.00,9,    48006,   2.3656
  06MT20030723,   497,  1,      7,2,20030804, 49.7830, -39.6080, 4441,   2840.0,   2.8670,  34.9081,2,-999.0000,9,    280.2,2,    12.49,2,    15.90,2,     0.00,2,     1.04,2,    2.298,3,    1.153,2,   -999.0,5,   -999.0,5,-999.0000,  -999.00,9,    48007,   2.6357
  06MT20030723,   497,  1,      8,2,20030804, 49.7830, -39.6080, 4441,   2534.2,   3.0235,  34.9046,2,  34.9073,2,    280.0,2,    12.09,2,    16.49,2,     0.00,2,     1.06,2,    2.346,3,    1.179,2,   -999.0,5,   -999.0,5,-999.0000,  -999.00,9,    48008,   2.8199
  06MT20030723,   497,  1,      9,2,20030804, 49.7830, -39.6080, 4441,   2226.2,   3.1263,  34.8934,2,-999.0000,9,    282.9,2,    11.13,2,    16.53,2,     0.00,2,     1.06,2,    2.817,3,    1.402,2,   -999.0,5,   -999.0,5,-999.0000,  -999.00,9,    48009,   2.9508
  06MT20030723,   497,  1,     10,2,20030804, 49.7830, -39.6080, 4441,   2023.0,   3.2097,  34.8908,2,-999.0000,9,    283.0,2,    10.67,2,    16.34,2,     0.00,2,     1.06,2,    3.013,3,    1.500,2,   -999.0,5,   -999.0,5,-999.0000,  -999.00,9,    48010,   3.0520
  06MT20030723,   497,  1,     11,2,20030804, 49.7830, -39.6080, 4441,   1822.0,   3.2907,  34.8917,2,-999.0000,9,    281.9,2,    10.77,2,    16.56,2,     0.00,2,     1.09,2,    3.009,3,    1.500,2,   -999.0,5,   -999.0,5,-999.0000,  -999.00,9,    48011,   3.1503
  06MT20030723,   497,  1,     12,2,20030804, 49.7830, -39.6080, 4441,   1616.2,   3.4210,  34.8950,2,-999.0000,9,    281.8,2,     9.57,2,    16.56,2,     0.00,2,     1.07,2, -999.000,9, -999.000,9,   -999.0,5,   -999.0,5,-999.0000,  -999.00,9,    48012,   3.2973
  06MT20030723,   497,  1,     13,2,20030804, 49.7830, -39.6080, 4441,   1407.9,   3.5487,  34.8987,2,-999.0000,9,    278.5,2,    10.17,2,    16.79,2,     0.00,2,     1.08,2,    3.216,3,    1.624,2,   -999.0,5,   -999.0,5,-999.0000,  -999.00,9,    48013,   3.4418
  06MT20030723,   497,  1,     14,2,20030804, 49.7830, -39.6080, 4441,   1242.0,   3.5774,  34.8907,2,-999.0000,9,    280.8,2,     9.60,2,    16.59,2,     0.00,2,     1.05,2,    3.573,3,    1.829,2,   -999.0,5,   -999.0,5,-999.0000,  -999.00,9,    48014,   3.4844
  06MT20030723,   497,  1,     15,2,20030804, 49.7830, -39.6080, 4441,   1137.5,   3.6493,  34.8913,2,-999.0000,9,    281.5,2,     9.40,2,    16.56,2,     0.00,2,     1.05,2,    3.687,3,    1.897,2,   -999.0,5,   -999.0,5,-999.0000,  -999.00,9,    48015,   3.5644
  06MT20030723,   497,  1,     16,2,20030804, 49.7830, -39.6080, 4441,   1025.3,   3.7248,  34.8957,2,  34.8978,2,    279.4,2,     9.41,2,    16.67,2,     0.01,2,     1.07,2,    3.678,3,    1.892,2,   -999.0,5,   -999.0,5,-999.0000,  -999.00,9,    48016,   3.6485
  06MT20030723,   497,  1,     17,2,20030804, 49.7830, -39.6080, 4441,    812.0,   3.8621,  34.8961,2,-999.0000,9,    277.3,2,     9.22,2,    16.67,2,     0.00,2,     1.08,2,    3.796,3,    1.965,2,   -999.0,5,   -999.0,5,-999.0000,  -999.00,9,    48017,   3.8021
  06MT20030723,   497,  1,     18,2,20030804, 49.7830, -39.6080, 4441,    689.0,   3.9350,  34.8883,2,-999.0000,9,    274.8,2,     9.25,2,    16.78,2,     0.00,2,     1.06,2,    3.718,3,    1.949,2,   -999.0,5,   -999.0,5,-999.0000,  -999.00,9,    48018,   3.8844
  06MT20030723,   497,  1,     19,2,20030804, 49.7830, -39.6080, 4441,    623.7,   4.0536,  34.8916,2,-999.0000,9,    274.1,2,     9.14,2,    16.73,2,     0.01,2,     1.06,2,    3.790,3,    2.000,2,   -999.0,5,   -999.0,5,-999.0000,  -999.00,9,    48019,   4.0075
  06MT20030723,   497,  1,     20,2,20030804, 49.7830, -39.6080, 4441,    356.0,   4.9566,  34.8587,2,-999.0000,9,    267.1,2,     8.78,2,    16.28,2,     0.02,2,     1.04,2,    3.815,3,    2.044,2,   -999.0,5,   -999.0,5,-999.0000,  -999.00,9,    48020,   4.9285
  06MT20030723,   497,  1,     21,2,20030804, 49.7830, -39.6080, 4441,     87.7,   8.5813,  34.9090,2,  35.0647,0,    229.0,2,     5.87,2,    13.50,2,     0.05,2,     0.83,2,    3.130,3,    1.749,2,   -999.0,5,   -999.0,5,-999.0000,  -999.00,9,    48021,   8.5721
  06MT20030723,   497,  1,     22,2,20030804, 49.7830, -39.6080, 4441,      8.3,  13.7495,  34.8132,2,-999.0000,9,    270.3,2,     0.44,2,     0.00,2,     0.03,2,     0.07,2,    3.263,3,    1.857,2,   -999.0,5,   -999.0,5,-999.0000,  -999.00,9,    48022,  13.7483
  06MT20030723,   498,  1,      1,2,20030804, 49.7240, -38.3320, 4578,   4282.8,   2.1606,  34.8873,2,-999.0000,9,    283.7,2,    17.30,2,    15.60,2,     0.00,2,     1.03,2, -999.000,9, -999.000,9,   2161.3,2,   2323.9,2,   7.7216,    25.00,2,    49001,   1.7893
  06MT20030723,   498,  1,      2,2,20030804, 49.7240, -38.3320, 4578,   4282.6,   2.1609,  34.8874,2,-999.0000,9,    283.5,2,    17.30,2,    15.65,2,     0.00,2,     1.04,2,    2.434,3,    1.220,2,   -999.0,5,   -999.0,5,-999.0000,  -999.00,9,    49002,   1.7897
  06MT20030723,   498,  1,      3,2,20030804, 49.7240, -38.3320, 4578,   4064.9,   2.1869,  34.8897,2,-999.0000,9,    282.3,2,    18.16,2,    16.10,2,     0.00,2,     1.06,2,    2.215,3,    1.122,2,   2163.9,2,   2319.3,2,   7.7236,    25.00,2,    49003,   1.8400
  06MT20030723,   498,  1,      4,2,20030804, 49.7240, -38.3320, 4578,   3758.9,   2.2859,  34.8957,2,  34.8980,2,    279.2,2,    18.90,2,    16.47,2,     0.00,2,     1.07,2,    1.874,3,    0.954,2,   2164.5,2,   2317.5,2,   7.7256,    25.00,2,    49004,   1.9706
  06MT20030723,   498,  1,      5,2,20030804, 49.7240, -38.3320, 4578,   3400.9,   2.5022,  34.9040,2,-999.0000,9,    277.8,2,    17.22,2,    16.33,2,     0.00,2,     1.07,2,    1.716,3,    0.868,2,   2161.8,2,   2312.8,2,   7.7285,    25.00,2,    49005,   2.2204
  06MT20030723,   498,  1,      6,2,20030804, 49.7240, -38.3320, 4578,   3053.5,   2.7456,  34.9124,2,-999.0000,9,    278.1,2,    14.91,2,    16.04,2,     0.00,2,     1.07,2,    1.831,3,    0.923,2,   2158.1,2,   2316.2,2,   7.7285,    25.00,2,    49006,   2.4949
  06MT20030723,   498,  1,      7,2,20030804, 49.7240, -38.3320, 4578,   2735.9,   2.9255,  34.9101,2,-999.0000,9,    279.3,2,    13.17,2,    16.33,2,     0.00,2,     1.07,2,    2.040,3,    1.022,2,   2158.4,2,   2309.4,2,   7.7275,    25.00,2,    49007,   2.7036
  06MT20030723,   498,  1,      8,2,20030804, 49.7240, -38.3320, 4578,   2431.2,   3.0625,  34.9010,2,-999.0000,9,    281.4,2,    11.75,2,    16.45,2,     0.00,2,     1.06,2, -999.000,9, -999.000,9,   2155.0,2,   2312.3,2,   7.7256,    25.00,2,    49008,   2.8683
  06MT20030723,   498,  1,      9,2,20030804, 49.7240, -38.3320, 4578,   2134.1,   3.1455,  34.8891,2,  34.8906,2,    284.7,2,    10.98,2,    16.51,2,     0.00,2,     1.06,2,    2.916,3,    1.449,2,   2155.6,2,   2313.8,2,   7.7187,    25.00,2,    49009,   2.9784
  06MT20030723,   498,  1,     10,2,20030804, 49.7240, -38.3320, 4578,   1949.9,   3.2330,  34.8899,2,-999.0000,9,    283.5,2,    10.72,2,    16.61,2,     0.00,2,     1.08,2,    3.052,3,    1.520,2,   2155.2,2,   2307.9,2,   7.7206,    25.00,2,    49010,   3.0817
  06MT20030723,   498,  1,     11,2,20030804, 49.7240, -38.3320, 4578,   1672.1,   3.3971,  34.8939,2,-999.0000,9,    280.6,2,    10.51,2,    16.81,2,     0.00,2,     1.09,2,    3.115,3,    1.555,2,   2156.1,2,   2311.4,2,   7.7177,    25.00,2,    49011,   3.2688
  06MT20030723,   498,  1,     12,2,20030804, 49.7240, -38.3320, 4578,   1409.4,   3.5279,  34.8928,2,-999.0000,9,    280.5,2,    10.08,2,    16.80,2,     0.00,2,     1.07,2,    3.350,3,    1.708,2,   2156.7,2,   2314.2,2,   7.7157,    25.00,2,    49012,   3.4211
  06MT20030723,   498,  1,     13,2,20030804, 49.7240, -38.3320, 4578,   1209.2,   3.5693,  34.8842,2,  34.8852,2,    283.5,2,     9.52,2,    16.10,2,     0.00,2,     1.05,2,    3.694,3,    1.906,2,   2157.1,2,   2310.1,2,   7.7157,    25.00,2,    49013,   3.4791
  06MT20030723,   498,  1,     14,2,20030804, 49.7240, -38.3320, 4578,   1077.8,   3.6191,  34.8828,2,-999.0000,9,    281.3,2,     9.53,2,    16.38,2,     0.00,2,     1.06,2,    3.745,3,    1.942,2,   2156.9,2,   2304.8,2,   7.7147,    25.00,2,    49014,   3.5394
  06MT20030723,   498,  1,     15,2,20030804, 49.7240, -38.3320, 4578,    953.3,   3.7480,  34.8876,2,-999.0000,9,    280.1,2,     9.33,2,    16.56,2,     0.00,2,     1.07,2,    3.837,3,    1.990,2,   2158.1,2,   2301.3,2,   7.7147,    25.00,2,    49015,   3.6774
  06MT20030723,   498,  1,     16,2,20030804, 49.7240, -38.3320, 4578,    844.7,   3.8577,  34.8896,2,-999.0000,9,    279.7,2,     9.17,2,    16.57,2,     0.01,2,     1.07,2,    3.920,3,    2.066,2,   2160.1,2,   2307.6,2,   7.7118,    25.00,2,    49016,   3.7952
  06MT20030723,   498,  1,     17,2,20030804, 49.7240, -38.3320, 4578,    646.3,   4.0472,  34.8860,2,-999.0000,9,    274.5,2,     9.22,2,    16.46,2,     0.01,2,     1.05,2,    3.852,3,    2.036,2,   2161.2,2,   2316.2,2,   7.7098,    25.00,2,    49017,   3.9994
  06MT20030723,   498,  1,     18,2,20030804, 49.7240, -38.3320, 4578,    390.6,   5.1661,  34.8651,2,  34.8715,2,    249.7,2,     9.70,2,    17.52,2,     0.02,2,     1.11,2,    3.026,3,    1.642,2,   2164.4,2,   2309.2,2,   7.7039,    25.00,2,    49018,   5.1345
  06MT20030723,   498,  1,     19,2,20030804, 49.7240, -38.3320, 4578,    193.7,   7.8757,  35.0106,2,-999.0000,9,    219.4,2,     8.88,2,    17.56,2,     0.02,2,     1.09,2,    2.688,3,    1.510,2,   2161.4,2,   2323.0,2,   7.7295,    25.00,2,    49019,   7.8563
  06MT20030723,   498,  1,     20,2,20030804, 49.7240, -38.3320, 4578,     97.8,  10.1100,  35.2509,2,-999.0000,9,    232.5,2,     5.05,2,    12.37,2,     0.04,2,     0.74,2,    3.020,3,    1.713,2,   2137.9,2,   2322.8,2,   7.8045,    25.00,2,    49020,  10.0986
  06MT20030723,   498,  1,     21,2,20030804, 49.7240, -38.3320, 4578,     72.3,  11.0360,  35.3165,2,-999.0000,9,    250.1,2,     2.99,2,     8.63,2,     0.31,2,     0.50,2,    3.254,3,    1.886,2,   2118.7,2,   2325.4,2,   7.8539,    25.00,2,    49021,  11.0271
  06MT20030723,   498,  1,     22,2,20030804, 49.7240, -38.3320, 4578,     14.9,  13.7716,  34.9816,2,-999.0000,9,    273.4,2,     0.23,2,     0.01,2,     0.04,2,     0.07,2,    3.138,3,    1.821,2,   2046.9,2,   2313.9,2,   7.9769,    25.00,2,    49022,  13.7695
  06MT20030723,   499,  1,      1,2,20030805, 49.6760, -37.0580, 4360,   4449.0,   2.2401,  34.8904,2,  34.8902,2,    282.3,2,    17.58,2,    16.15,2,     0.00,2,     1.01,2, -999.000,9, -999.000,9,   -999.0,5,   -999.0,5,-999.0000,  -999.00,9,    50001,   1.8469
  06MT20030723,   499,  1,      2,2,20030805, 49.6760, -37.0580, 4360,   4449.2,   2.2401,  34.8905,2,-999.0000,9,    282.6,2,    17.65,2,    16.19,2,     0.00,2,     1.01,2,    2.261,3,    1.133,2,   -999.0,5,   -999.0,5,-999.0000,  -999.00,9,    50002,   1.8468
  06MT20030723,   499,  1,      3,2,20030805, 49.6760, -37.0580, 4360,   4378.6,   2.2453,  34.8912,2,-999.0000,9,    281.8,2,    17.91,2,    16.26,2,     0.00,2,     1.03,2,    2.190,3,    1.095,2,   -999.0,5,   -999.0,5,-999.0000,  -999.00,9,    50003,   1.8602
  06MT20030723,   499,  1,      4,2,20030805, 49.6760, -37.0580, 4360,   4224.2,   2.2489,  34.8924,2,-999.0000,9,    281.9,2,    18.11,2,    16.12,2,     0.00,2,     1.04,2,    2.069,3,    1.037,2,   -999.0,5,   -999.0,5,-999.0000,  -999.00,9,    50004,   1.8818
  06MT20030723,   499,  1,      5,2,20030805, 49.6760, -37.0580, 4360,   3864.4,   2.3445,  34.8989,2,-999.0000,9,    279.0,2,    18.25,2,    16.57,2,     0.00,2,     1.05,2,    1.784,3,    0.890,2,   -999.0,5,   -999.0,5,-999.0000,  -999.00,9,    50005,   2.0159
  06MT20030723,   499,  1,      6,2,20030805, 49.6760, -37.0580, 4360,   3550.4,   2.5622,  34.9091,2,-999.0000,9,    276.7,2,    17.17,2,    16.56,2,     0.00,2,     1.04,2,    1.578,3,    0.784,2,   -999.0,5,   -999.0,5,-999.0000,  -999.00,9,    50006,   2.2627
  06MT20030723,   499,  1,      7,2,20030805, 49.6760, -37.0580, 4360,   3248.3,   2.7883,  34.9138,2,-999.0000,9,    278.0,2,    14.65,2,    16.24,2,     0.00,2,     1.04,2,    1.802,3,    0.900,2,   -999.0,5,   -999.0,5,-999.0000,  -999.00,9,    50007,   2.5160
  06MT20030723,   499,  1,      8,2,20030805, 49.6760, -37.0580, 4360,   2943.0,   2.9785,  34.9142,2,  34.9146,2,    277.7,2,    13.31,2,    16.54,2,     0.00,2,     1.04,2,    1.922,3,    0.953,2,   -999.0,5,   -999.0,5,-999.0000,  -999.00,9,    50008,   2.7342
  06MT20030723,   499,  1,      9,2,20030805, 49.6760, -37.0580, 4360,   2584.5,   3.1027,  34.9026,2,-999.0000,9,    280.6,2,    12.04,2,    16.34,2,     0.00,2,     1.05,2,    2.347,3,    1.169,2,   -999.0,5,   -999.0,5,-999.0000,  -999.00,9,    50009,   2.8926
  06MT20030723,   499,  1,     10,2,20030805, 49.6760, -37.0580, 4360,   2227.7,   3.2073,  34.8871,2,-999.0000,9,    283.5,2,    11.07,2,    16.54,2,     0.00,2,     1.05,2,    2.867,3,    1.422,2,   -999.0,5,   -999.0,5,-999.0000,  -999.00,9,    50010,   3.0303
  06MT20030723,   499,  1,     11,2,20030805, 49.6760, -37.0580, 4360,   1920.7,   3.3677,  34.8943,2,-999.0000,9,    283.3,2,    10.84,2,    16.55,2,     0.00,2,     1.06,2,    2.879,3,    1.433,2,   -999.0,5,   -999.0,5,-999.0000,  -999.00,9,    50011,   3.2172
  06MT20030723,   499,  1,     12,2,20030805, 49.6760, -37.0580, 4360,   1717.6,   3.4912,  34.8970,2,-999.0000,9,   -999.0,5,  -999.00,5,  -999.00,5,  -999.00,5,  -999.00,5, -999.000,9, -999.000,9,   -999.0,5,   -999.0,5,-999.0000,  -999.00,9,    50012,   3.3576
  06MT20030723,   499,  1,     13,2,20030805, 49.6760, -37.0580, 4360,   1516.8,   3.6339,  34.9030,2,  34.9039,2,    276.7,2,    10.33,2,    16.98,2,     0.00,2,     1.09,2,    3.220,3,    1.630,2,   -999.0,5,   -999.0,5,-999.0000,  -999.00,9,    50013,   3.5165
  06MT20030723,   499,  1,     14,2,20030805, 49.6760, -37.0580, 4360,   1208.3,   3.8532,  34.9040,2,-999.0000,9,    274.8,2,     9.92,2,    16.93,2,     0.00,2,     1.06,2,    3.537,3,    1.824,2,   -999.0,5,   -999.0,5,-999.0000,  -999.00,9,    50014,   3.7604
  06MT20030723,   499,  1,     15,2,20030805, 49.6760, -37.0580, 4360,   1073.8,   4.1057,  34.9244,2,-999.0000,9,    267.7,2,    10.13,2,    17.16,2,     0.00,2,     1.08,2,    3.346,3,    1.724,2,   -999.0,5,   -999.0,5,-999.0000,  -999.00,9,    50015,   4.0222
  06MT20030723,   499,  1,     16,2,20030805, 49.6760, -37.0580, 4360,    946.0,   4.3658,  34.9347,2,-999.0000,9,    262.2,2,    10.12,2,    17.42,2,     0.00,2,     1.09,2,    3.303,3,    1.717,2,   -999.0,5,   -999.0,5,-999.0000,  -999.00,9,    50016,   4.2913
  06MT20030723,   499,  1,     17,2,20030805, 49.6760, -37.0580, 4360,    833.6,   4.8178,  34.9652,2,-999.0000,9,    247.8,2,    10.47,2,    17.82,2,     0.00,2,     1.14,2,    3.003,3,    1.575,2,   -999.0,5,   -999.0,5,-999.0000,  -999.00,9,    50017,   4.7499
  06MT20030723,   499,  1,     18,2,20030805, 49.6760, -37.0580, 4360,    653.6,   5.9480,  34.9769,2,-999.0000,9,    226.5,2,    10.88,2,    18.61,2,     0.01,2,     1.19,2,    2.578,3,    1.369,2,   -999.0,5,   -999.0,5,-999.0000,  -999.00,9,    50018,   5.8899
  06MT20030723,   499,  1,     19,2,20030805, 49.6760, -37.0580, 4360,    503.5,   7.4008,  34.9956,2,-999.0000,9,    227.6,2,     9.24,2,    17.03,2,     0.01,2,     1.09,2,    2.854,3,    1.589,2,   -999.0,5,   -999.0,5,-999.0000,  -999.00,9,    50019,   7.3511
  06MT20030723,   499,  1,     20,2,20030805, 49.6760, -37.0580, 4360,    299.8,  10.6780,  35.3735,2,-999.0000,9,    223.7,2,     5.63,2,    13.33,2,     0.02,2,     0.76,2,    2.772,3,    1.579,2,   -999.0,5,   -999.0,5,-999.0000,  -999.00,9,    50020,  10.6414
  06MT20030723,   499,  1,     21,2,20030805, 49.6760, -37.0580, 4360,    108.7,  12.7504,  35.6057,2,-999.0000,9,    224.1,2,     3.02,2,     9.39,2,     0.03,2,     0.48,2,    2.776,3,    1.594,2,   -999.0,5,   -999.0,5,-999.0000,  -999.00,9,    50021,  12.7356
  06MT20030723,   499,  1,     22,2,20030805, 49.6760, -37.0580, 4360,      8.4,  15.4280,  35.4727,2,  35.4736,2,    260.4,2,     0.32,2,     0.00,2,     0.03,2,     0.04,2,    2.855,3,    1.694,2,   -999.0,5,   -999.0,5,-999.0000,  -999.00,9,    50022,  15.4267