BOTTLE,20070829WHPSIODBK
EXPOCODE,SECT_ID,STNNBR,CASTNO,SAMPNO,BTLNBR,BTLNBR_FLAG_W,DATE,TIME,LATITUDE,LONGITUDE,DEPTH,CTDRAW,CTDPRS,CTDTMP,CTDSAL,CTDSAL_FLAG_W,SALNTY,SALNTY_FLAG_W,CTDOXY,CTDOXY_FLAG_W,THETA,OXYGEN,OXYGEN_FLAG_W,SILCAT,SILCAT_FLAG_W,NO2+NO3,NO2+NO3_FLAG_W,PHSPHT,PHSPHT_FLAG_W
,,,,,,,,,,,,,DBAR,DEGC,PSS-78,,PSS-78,,UMOL/KG,,DEGC,UMOL/KG,,UMOL/KG,,UMOL/KG,,UMOL/KG,
  09AR20020126, AIS01,    39,  1,     12,     16,2,20020214,1750,-69.2877,  75.2305,  740,   -999,     12.0,  -0.6120,  33.5690,4,  33.5890,2,    396.5,3, -0.6120,    370.8,2,    27.50,3,    17.35,2,     0.91,2
  09AR20020126, AIS01,    39,  1,     11,     11,2,20020214,1750,-69.2877,  75.2305,  740,   -999,     41.7,  -0.5160,  33.7220,2,  33.7230,2,    368.7,2, -0.5170,    364.3,2,    29.30,3,    18.57,2,     1.01,2
  09AR20020126, AIS01,    39,  1,     10,     10,2,20020214,1750,-69.2877,  75.2305,  740,   -999,     72.9,  -0.4920,  33.7850,2,  33.7960,3,    356.7,2, -0.4940,    359.7,2,    31.60,3,    19.49,2,     1.28,2
  09AR20020126, AIS01,    39,  1,      9,     17,2,20020214,1750,-69.2877,  75.2305,  740,   -999,    122.4,  -1.4510,  34.1110,2,  34.1190,3,    348.7,2, -1.4540,    354.5,2,    40.60,3,    27.12,2,     1.90,2
  09AR20020126, AIS01,    39,  1,      8,      8,2,20020214,1750,-69.2877,  75.2305,  740,   -999,    151.9,  -1.6370,  34.2150,2,  34.2140,2,    347.4,2, -1.6410,    350.9,2,    42.00,3,    28.78,2,     1.97,2
  09AR20020126, AIS01,    39,  1,      7,      7,2,20020214,1750,-69.2877,  75.2305,  740,   -999,    207.2,  -1.7220,  34.3290,4,  34.3120,2,    346.0,2, -1.7270,    344.3,2,    45.10,3,    29.64,2,     1.95,2
  09AR20020126, AIS01,    39,  1,      6,     24,2,20020214,1750,-69.2877,  75.2305,  740,   -999,    302.0,  -1.8260,  34.4050,2,  34.4050,2,    336.3,2, -1.8330,    332.9,2,    44.40,3,    30.58,2,     1.99,2
  09AR20020126, AIS01,    39,  1,      5,    105,2,20020214,1750,-69.2877,  75.2305,  740,   -999,    402.4,  -1.8800,  34.4490,2,  34.4470,2,    327.2,2, -1.8890,    324.9,2,    44.70,3,    30.75,2,     2.00,2
  09AR20020126, AIS01,    39,  1,      4,      4,2,20020214,1750,-69.2877,  75.2305,  740,   -999,    451.9,  -1.9380,  34.4610,2,  34.4590,2,    322.4,2, -1.9490,    319.3,2,    47.70,3,    31.18,2,     2.03,2
  09AR20020126, AIS01,    39,  1,      3,     21,2,20020214,1750,-69.2877,  75.2305,  740,   -999,    552.7,  -1.8620,  34.4890,2,  34.4880,2,    317.0,2, -1.8760,    318.6,2,    50.50,3,    31.28,2,     2.05,2
  09AR20020126, AIS01,    39,  1,      2,      2,2,20020214,1750,-69.2877,  75.2305,  740,   -999,    649.2,  -1.8740,  34.5070,2,  34.5080,2,    320.2,2, -1.8910,    322.4,2,    52.40,3,    31.13,2,     1.99,2
  09AR20020126, AIS01,    39,  1,      1,      1,2,20020214,1750,-69.2877,  75.2305,  740,   -999,    723.8,  -1.8900,  34.5320,2,  34.5230,3,    322.2,2, -1.9090,    322.7,2,    52.40,3,    31.22,2,     2.01,2
  09AR20020126, AIS01,    40,  1,     12,     16,2,20020214,2004,-69.3033,  75.3645,  632,   -999,     11.3,  -0.5800,  33.4340,4,  33.4320,2,    375.3,3, -0.5800,    375.8,2,    27.60,3,    15.22,2,     1.06,2
  09AR20020126, AIS01,    40,  1,     11,     11,2,20020214,2004,-69.3033,  75.3645,  632,   -999,     41.3,  -0.5110,  33.6100,2,  33.6130,2,    371.0,2, -0.5120,    369.8,2,    30.00,3,    17.10,2,     1.05,2
  09AR20020126, AIS01,    40,  1,     10,     10,2,20020214,2004,-69.3033,  75.3645,  632,   -999,     81.1,  -0.4780,  33.6950,2,  33.7120,2,    363.7,2, -0.4810,    365.2,2,    30.20,3,    18.27,2,     1.08,2
  09AR20020126, AIS01,    40,  1,      9,     17,2,20020214,2004,-69.3033,  75.3645,  632,   -999,    122.0,  -1.4690,  34.0860,2,  34.0890,2,    356.5,2, -1.4720,    356.0,2,    42.90,3,    26.74,2,     1.92,2
  09AR20020126, AIS01,    40,  1,      8,      8,2,20020214,2004,-69.3033,  75.3645,  632,   -999,    151.0,  -1.5810,  34.1570,2,  34.1550,2,    351.7,2, -1.5850,    353.3,2,    44.80,3,    27.85,2,     1.94,2
  09AR20020126, AIS01,    40,  1,      7,      7,2,20020214,2004,-69.3033,  75.3645,  632,   -999,    201.0,  -1.6650,  34.2520,2,  34.2530,2,    345.0,2, -1.6700,    347.8,2,    47.30,3,    28.85,2,     1.96,2
  09AR20020126, AIS01,    40,  1,      6,     24,2,20020214,2004,-69.3033,  75.3645,  632,   -999,    251.1,  -1.7360,  34.3530,2,  34.3530,2,    341.9,2, -1.7420,    342.9,2,    48.80,3,    29.72,2,     1.96,2
  09AR20020126, AIS01,    40,  1,      5,    105,2,20020214,2004,-69.3033,  75.3645,  632,   -999,    301.2,  -1.7840,  34.3980,2,  34.3980,2,    335.1,2, -1.7910,    336.1,2,    48.80,3,    30.28,2,     1.93,2
  09AR20020126, AIS01,    40,  1,      4,      4,2,20020214,2004,-69.3033,  75.3645,  632,   -999,    381.4,  -1.8440,  34.4300,2,  34.4290,2,    331.1,2, -1.8530,    328.9,2,    52.00,3,    30.42,2,     1.94,2
  09AR20020126, AIS01,    40,  1,      3,     21,2,20020214,2004,-69.3033,  75.3645,  632,   -999,    471.0,  -1.8880,  34.4530,2,  34.4520,2,    326.2,2, -1.8990,    325.2,2,    47.10,3,    30.57,2,     1.97,2
  09AR20020126, AIS01,    40,  1,      2,      2,2,20020214,2004,-69.3033,  75.3645,  632,   -999,    551.9,  -1.8780,  34.4790,2,  34.4780,2,    321.6,2, -1.8920,    322.1,2,    56.10,3,    30.79,2,     2.00,2
  09AR20020126, AIS01,    40,  1,      1,      1,2,20020214,2004,-69.3033,  75.3645,  632,   -999,    622.4,  -1.8650,  34.5040,2,  34.5030,2,    318.6,2, -1.8810,    319.5,2,    58.20,3,    30.95,2,     2.00,2
  09AR20020126, AIS01,    41,  1,     12,     16,2,20020215,1854,-68.6250,  72.3712,  488,   -999,     10.5,  -1.7690,  32.9310,3,  33.0650,4,    406.7,3, -1.7700,    402.7,2,    31.10,3,    18.13,2,     0.96,2
  09AR20020126, AIS01,    41,  1,     11,     11,2,20020215,1854,-68.6250,  72.3712,  488,   -999,     20.7,  -1.7960,  33.5730,3,  33.6130,4,    376.2,3, -1.7970,    381.7,2,    42.00,3,    23.81,2,     1.45,2
  09AR20020126, AIS01,    41,  1,     10,     10,2,20020215,1854,-68.6250,  72.3712,  488,   -999,     40.3,  -1.8310,  33.9470,3,  33.9560,2,    360.9,2, -1.8320,    360.9,2,    48.00,3,    26.92,2,     1.75,2
  09AR20020126, AIS01,    41,  1,      9,     17,2,20020215,1854,-68.6250,  72.3712,  488,   -999,     80.4,  -1.8360,  34.1500,2,  34.1540,2,    349.9,2, -1.8380,    349.1,2,    50.50,3,    28.64,2,     1.87,2
  09AR20020126, AIS01,    41,  1,      8,      8,2,20020215,1854,-68.6250,  72.3712,  488,   -999,    120.4,  -1.8330,  34.2420,2,  34.2420,2,    342.6,2, -1.8360,    342.9,2,    46.70,3,    29.11,2,     1.91,2
  09AR20020126, AIS01,    41,  1,      7,      7,2,20020215,1854,-68.6250,  72.3712,  488,   -999,    160.6,  -1.8440,  34.3240,2,  34.3230,2,    338.0,2, -1.8480,    337.0,2,    49.40,3,    29.73,2,     1.95,2
  09AR20020126, AIS01,    41,  1,      6,     24,2,20020215,1854,-68.6250,  72.3712,  488,   -999,    200.4,  -1.8500,  34.3910,2,  34.3900,2,    333.2,2, -1.8550,    329.5,2,    51.30,3,    30.34,2,     1.96,2
  09AR20020126, AIS01,    41,  1,      5,    105,2,20020215,1854,-68.6250,  72.3712,  488,   -999,    240.2,  -2.0270,  34.4310,2,  34.4300,2,    327.4,2, -2.0320,    327.3,2,    52.80,3,    30.79,2,     1.99,2
  09AR20020126, AIS01,    41,  1,      4,      4,2,20020215,1854,-68.6250,  72.3712,  488,   -999,    300.6,  -2.0730,  34.4460,2,  34.4450,2,    326.0,2, -2.0790,    326.3,2,    55.70,3,    30.95,2,     1.98,2
  09AR20020126, AIS01,    41,  1,      3,     21,2,20020215,1854,-68.6250,  72.3712,  488,   -999,    360.7,  -2.0610,  34.4600,2,  34.4610,2,    325.2,2, -2.0690,    325.2,2,    55.30,3,    31.02,2,     2.00,2
  09AR20020126, AIS01,    41,  1,      2,      2,4,20020215,1854,-68.6250,  72.3712,  488,   -999,    420.2,  -2.0010,  34.4890,2,-999.0000,9,    325.0,2, -2.0110,   -999.0,9,  -999.00,9,  -999.00,9,  -999.00,9
  09AR20020126, AIS01,    41,  1,      1,      1,2,20020215,1854,-68.6250,  72.3712,  488,   -999,    476.7,  -1.9280,  34.5180,2,  34.5190,2,    323.9,2, -1.9390,    325.4,2,    56.10,3,    30.90,2,     1.99,2
  09AR20020126, AIS01,    42,  1,     12,     16,2,20020215,2027,-68.6045,  72.4100,  478,   -999,     11.3,  -1.7890,  32.8410,2,  32.8570,2,    422.6,3, -1.7900,    409.5,2,    26.40,2,    15.87,2,     0.71,2
  09AR20020126, AIS01,    42,  1,     11,     11,2,20020215,2027,-68.6045,  72.4100,  478,   -999,     21.4,  -1.7860,  33.1750,4,  33.1820,2,    406.2,2, -1.7870,    408.6,2,    32.90,2,    19.21,2,     1.04,2
  09AR20020126, AIS01,    42,  1,     10,     10,2,20020215,2027,-68.6045,  72.4100,  478,   -999,     41.6,  -1.7360,  33.9730,2,  33.9800,2,    360.4,2, -1.7370,    357.8,2,    49.80,2,    26.77,2,     1.79,2
  09AR20020126, AIS01,    42,  1,      9,     17,2,20020215,2027,-68.6045,  72.4100,  478,   -999,     81.2,  -1.8280,  34.1120,2,  34.2620,4,    348.4,2, -1.8300,    342.7,2,    56.00,2,    29.28,2,     1.86,2
  09AR20020126, AIS01,    42,  1,      8,      8,2,20020215,2027,-68.6045,  72.4100,  478,   -999,    122.0,  -1.8310,  34.2650,2,  34.2600,2,    339.2,2, -1.8340,    342.0,2,    55.80,2,    29.35,2,     1.86,2
  09AR20020126, AIS01,    42,  1,      7,      7,2,20020215,2027,-68.6045,  72.4100,  478,   -999,    161.3,  -1.8250,  34.3620,2,  34.3640,2,    329.3,2, -1.8290,    331.9,2,    56.80,2,    30.09,2,     1.90,2
  09AR20020126, AIS01,    42,  1,      6,     24,2,20020215,2027,-68.6045,  72.4100,  478,   -999,    201.5,  -1.9000,  34.4240,2,  34.4240,2,    327.4,2, -1.9050,    327.9,2,    58.60,2,    30.60,2,     1.90,2
  09AR20020126, AIS01,    42,  1,      5,    105,2,20020215,2027,-68.6045,  72.4100,  478,   -999,    241.9,  -2.0720,  34.4410,2,  34.4390,2,    326.8,2, -2.0770,    326.2,2,    61.40,2,    31.00,2,     1.97,2
  09AR20020126, AIS01,    42,  1,      4,      4,2,20020215,2027,-68.6045,  72.4100,  478,   -999,    301.4,  -2.1010,  34.4460,2,  34.4440,2,    325.6,2, -2.1070,    326.3,2,    60.20,2,    31.09,2,     1.96,2
  09AR20020126, AIS01,    42,  1,      3,     21,2,20020215,2027,-68.6045,  72.4100,  478,   -999,    362.0,  -2.0700,  34.4560,2,  34.4560,2,    326.9,2, -2.0780,    325.7,2,    61.30,2,    31.00,2,     1.96,2
  09AR20020126, AIS01,    42,  1,      2,      2,2,20020215,2027,-68.6045,  72.4100,  478,   -999,    422.1,  -1.9930,  34.4900,2,  34.4900,2,    326.0,2, -2.0030,    325.8,2,    60.90,2,    30.99,2,     1.95,2
  09AR20020126, AIS01,    42,  1,      1,      1,2,20020215,2027,-68.6045,  72.4100,  478,   -999,    467.7,  -1.9520,  34.5060,2,  34.5040,2,    324.8,2, -1.9630,    324.1,2,    61.30,2,    30.97,2,     1.94,2
  09AR20020126, AIS01,    43,  1,     12,     16,2,20020215,2150,-68.5852,  72.4397,  493,   -999,     11.0,  -1.7490,  32.7960,2,-999.0000,9,    416.8,3, -1.7500,    407.2,2,    23.80,2,    15.48,2,     0.68,2
  09AR20020126, AIS01,    43,  1,     11,     11,2,20020215,2150,-68.5852,  72.4397,  493,   -999,     21.5,  -1.7780,  32.9830,2,-999.0000,9,    405.0,2, -1.7790,    405.7,2,    27.20,2,    17.39,2,     0.88,2
  09AR20020126, AIS01,    43,  1,     10,     10,2,20020215,2150,-68.5852,  72.4397,  493,   -999,     41.0,  -1.6550,  33.8860,2,-999.0000,9,    362.5,2, -1.6560,    362.4,2,    48.70,2,    26.06,2,     1.84,2
  09AR20020126, AIS01,    43,  1,      9,     17,2,20020215,2150,-68.5852,  72.4397,  493,   -999,     80.9,  -1.7400,  34.1760,2,-999.0000,9,    352.5,2, -1.7420,    337.6,2,    57.10,2,    29.94,2,     1.93,2
  09AR20020126, AIS01,    43,  1,      8,      8,2,20020215,2150,-68.5852,  72.4397,  493,   -999,    120.9,  -1.8250,  34.3000,2,  34.3060,2,    336.5,2, -1.8280,    337.3,2,    57.10,2,    29.98,2,     1.93,2
  09AR20020126, AIS01,    43,  1,      7,      7,2,20020215,2150,-68.5852,  72.4397,  493,   -999,    162.4,  -1.8930,  34.3960,2,  34.3970,2,    331.3,2, -1.8970,    329.1,2,    58.10,2,    30.77,2,     1.95,2
  09AR20020126, AIS01,    43,  1,      6,     24,2,20020215,2150,-68.5852,  72.4397,  493,   -999,    201.1,  -1.8920,  34.4350,2,  34.4350,2,    329.8,2, -1.8970,    328.1,2,    59.50,2,    30.91,2,     1.96,2
  09AR20020126, AIS01,    43,  1,      5,    105,2,20020215,2150,-68.5852,  72.4397,  493,   -999,    241.3,  -2.1050,  34.4430,2,  34.4400,2,    329.1,2, -2.1100,    326.4,2,    60.60,2,    31.32,2,     2.00,2
  09AR20020126, AIS01,    43,  1,      4,      4,2,20020215,2150,-68.5852,  72.4397,  493,   -999,    301.3,  -2.1060,  34.4430,2,  34.4410,2,    320.2,2, -2.1120,    326.3,2,    61.40,2,    31.33,2,     2.03,2
  09AR20020126, AIS01,    43,  1,      3,     21,2,20020215,2150,-68.5852,  72.4397,  493,   -999,    361.4,  -2.0910,  34.4520,2,  34.4520,2,    326.2,2, -2.0990,    326.1,2,    62.60,2,    31.36,2,     2.04,2
  09AR20020126, AIS01,    43,  1,      2,      2,2,20020215,2150,-68.5852,  72.4397,  493,   -999,    420.7,  -1.9920,  34.4890,2,  34.4890,2,    328.8,2, -2.0020,    325.6,2,    62.50,2,    31.22,2,     2.02,2
  09AR20020126, AIS01,    43,  1,      1,      1,2,20020215,2150,-68.5852,  72.4397,  493,   -999,    482.4,  -1.9430,  34.5080,2,  34.5060,2,    324.9,2, -1.9540,    325.0,2,    61.10,2,    31.33,2,     2.00,2
  09AR20020126, AIS01,    44,  1,     12,     16,2,20020216,0022,-68.5652,  72.4807,  514,   -999,     11.4,  -1.6170,  32.9620,3,  32.4980,4,    404.8,3, -1.6180,    403.9,2,    25.60,2,    16.45,2,     0.83,2
  09AR20020126, AIS01,    44,  1,     11,     11,2,20020216,0022,-68.5652,  72.4807,  514,   -999,     21.3,  -1.5290,  33.1590,2,  33.2240,2,    398.9,2, -1.5300,    399.1,2,    30.30,2,    18.42,2,     1.04,2
  09AR20020126, AIS01,    44,  1,     10,     10,2,20020216,0022,-68.5652,  72.4807,  514,   -999,     41.6,  -1.6210,  33.9820,2,  34.0120,2,    352.8,2, -1.6220,    356.0,2,    52.00,2,    27.31,2,     1.88,2
  09AR20020126, AIS01,    44,  1,      9,     17,2,20020216,0022,-68.5652,  72.4807,  514,   -999,     81.5,  -1.8230,  34.2720,2,  34.2800,2,    340.0,2, -1.8250,    339.3,2,    54.00,2,    30.03,2,     1.96,2
  09AR20020126, AIS01,    44,  1,      8,      8,2,20020216,0022,-68.5652,  72.4807,  514,   -999,    121.7,  -1.8540,  34.3940,2,  34.3940,2,    332.4,2, -1.8570,    330.4,2,    57.70,2,    30.92,2,     1.99,2
  09AR20020126, AIS01,    44,  1,      7,      7,2,20020216,0022,-68.5652,  72.4807,  514,   -999,    162.1,  -1.8610,  34.4190,2,  34.4180,2,    328.0,2, -1.8650,    330.2,2,    58.00,2,    30.93,2,     1.99,2
  09AR20020126, AIS01,    44,  1,      6,     24,2,20020216,0022,-68.5652,  72.4807,  514,   -999,    201.3,  -2.0840,  34.4300,2,  34.4310,2,    328.1,2, -2.0880,    326.9,2,    61.80,2,    31.37,2,     2.02,2
  09AR20020126, AIS01,    44,  1,      5,    105,2,20020216,0022,-68.5652,  72.4807,  514,   -999,    241.6,  -2.1050,  34.4340,2,  34.4340,2,    326.8,2, -2.1100,    326.7,2,    65.30,2,    31.51,2,     2.04,2
  09AR20020126, AIS01,    44,  1,      4,      4,2,20020216,0022,-68.5652,  72.4807,  514,   -999,    301.8,  -2.1110,  34.4400,2,  34.4400,2,    326.5,2, -2.1170,    325.6,2,    63.10,2,    31.48,2,     2.03,2
  09AR20020126, AIS01,    44,  1,      3,     21,2,20020216,0022,-68.5652,  72.4807,  514,   -999,    361.0,  -2.0720,  34.4560,2,  34.4580,2,    326.2,2, -2.0800,    326.2,2,    61.60,2,    31.49,2,     2.02,2
  09AR20020126, AIS01,    44,  1,      2,      2,2,20020216,0022,-68.5652,  72.4807,  514,   -999,    421.5,  -1.9950,  34.4940,2,  34.4920,2,    324.6,2, -2.0050,    325.7,2,    62.20,2,    31.49,2,     2.05,2
  09AR20020126, AIS01,    44,  1,      1,      1,2,20020216,0022,-68.5652,  72.4807,  514,   -999,    504.2,  -1.9070,  34.5240,2,  34.5220,2,    325.0,2, -1.9190,    323.7,2,    60.00,2,    31.41,2,     2.01,2
  09AR20020126, AIS01,    45,  1,     12,     16,2,20020216,0157,-68.5452,  72.5305,  579,   -999,     11.6,  -1.6610,  32.8180,3,  32.8740,2,    393.8,3, -1.6620,    398.9,2,    23.30,2,    15.78,2,     0.71,2
  09AR20020126, AIS01,    45,  1,     11,     11,2,20020216,0157,-68.5452,  72.5305,  579,   -999,     21.4,  -1.7010,  33.4200,4,  33.6560,2,    380.5,2, -1.7020,    377.4,2,    41.20,2,    23.41,2,     1.50,2
  09AR20020126, AIS01,    45,  1,     10,     10,2,20020216,0157,-68.5452,  72.5305,  579,   -999,     41.4,  -1.8150,  34.0520,2,  34.0860,2,    354.9,2, -1.8160,    352.1,2,    54.20,2,    28.40,2,     1.87,2
  09AR20020126, AIS01,    45,  1,      9,     17,2,20020216,0157,-68.5452,  72.5305,  579,   -999,     81.9,  -1.8070,  34.3690,2,  34.3710,2,    335.2,2, -1.8090,    334.6,2,    57.80,2,    30.70,2,     1.97,2
  09AR20020126, AIS01,    45,  1,      8,      8,2,20020216,0157,-68.5452,  72.5305,  579,   -999,    121.6,  -1.8670,  34.4030,2,  34.4030,2,    330.0,2, -1.8700,    329.1,2,    59.90,2,    31.02,2,     1.99,2
  09AR20020126, AIS01,    45,  1,      7,      7,2,20020216,0157,-68.5452,  72.5305,  579,   -999,    161.5,  -1.8860,  34.4140,2,  34.4140,2,    327.5,2, -1.8900,    328.8,2,    58.00,2,    31.01,2,     1.98,2
  09AR20020126, AIS01,    45,  1,      6,     24,2,20020216,0157,-68.5452,  72.5305,  579,   -999,    201.3,  -1.8730,  34.4240,2,  34.4240,2,    328.1,2, -1.8780,    329.0,2,    59.50,2,    30.94,2,     1.99,2
  09AR20020126, AIS01,    45,  1,      5,    105,2,20020216,0157,-68.5452,  72.5305,  579,   -999,    241.6,  -1.9270,  34.4320,2,  34.4310,2,    327.3,2, -1.9320,    327.5,2,    59.80,2,    31.04,2,     1.98,2
  09AR20020126, AIS01,    45,  1,      4,      4,2,20020216,0157,-68.5452,  72.5305,  579,   -999,    301.8,  -1.8650,  34.4500,2,  34.4490,2,    325.9,2, -1.8720,    327.7,2,    59.40,2,    30.95,2,     1.99,2
  09AR20020126, AIS01,    45,  1,      3,     21,2,20020216,0157,-68.5452,  72.5305,  579,   -999,    361.5,  -2.0560,  34.4590,2,  34.4600,2,    324.2,2, -2.0640,    325.3,2,    63.50,2,    31.48,2,     2.03,2
  09AR20020126, AIS01,    45,  1,      2,      2,2,20020216,0157,-68.5452,  72.5305,  579,   -999,    420.5,  -1.9940,  34.4900,2,  34.4900,2,    322.9,2, -2.0040,    325.3,2,    62.80,2,    31.43,2,     2.03,2
  09AR20020126, AIS01,    45,  1,      1,      1,2,20020216,0157,-68.5452,  72.5305,  579,   -999,    568.6,  -1.9060,  34.5240,2,  34.5220,2,    327.2,2, -1.9200,    324.9,2,    62.80,2,    31.37,2,     2.03,2