BOTTLE,20070829WHPSIODBK
EXPOCODE,SECT_ID,STNNBR,CASTNO,SAMPNO,BTLNBR,BTLNBR_FLAG_W,DATE,TIME,LATITUDE,LONGITUDE,DEPTH,CTDRAW,CTDPRS,CTDTMP,CTDSAL,CTDSAL_FLAG_W,SALNTY,SALNTY_FLAG_W,CTDOXY,CTDOXY_FLAG_W,THETA,OXYGEN,OXYGEN_FLAG_W,SILCAT,SILCAT_FLAG_W,NO2+NO3,NO2+NO3_FLAG_W,PHSPHT,PHSPHT_FLAG_W
,,,,,,,,,,,,,DBAR,DEGC,PSS-78,,PSS-78,,UMOL/KG,,DEGC,UMOL/KG,,UMOL/KG,,UMOL/KG,,UMOL/KG,
  09AR20020126, AIS01,    46,  1,     12,     16,2,20020221,1733,-69.0350,  73.8092,  700,   -999,     11.1,  -0.9710,  33.2910,4,  33.2470,2,    408.1,3, -0.9720,    372.9,2,    28.20,2,    15.60,2,     1.08,2
  09AR20020126, AIS01,    46,  1,     11,     11,2,20020221,1733,-69.0350,  73.8092,  700,   -999,     25.4,  -0.5730,  33.5520,2,  33.5460,2,    369.4,2, -0.5740,    370.7,2,    30.70,2,    16.79,2,     1.16,2
  09AR20020126, AIS01,    46,  1,     10,     10,2,20020221,1733,-69.0350,  73.8092,  700,   -999,     51.6,  -0.5440,  33.7000,2,  33.7020,2,    363.8,2, -0.5460,    361.4,2,    32.50,2,    19.11,2,     1.23,2
  09AR20020126, AIS01,    46,  1,      9,     17,2,20020221,1733,-69.0350,  73.8092,  700,   -999,     75.4,  -0.7540,  33.8330,2,  33.8250,2,    353.7,2, -0.7560,    355.6,2,    37.90,2,    21.40,2,     1.45,2
  09AR20020126, AIS01,    46,  1,      8,      8,2,20020221,1733,-69.0350,  73.8092,  700,   -999,    100.8,  -0.8910,  33.9680,2,  33.9830,2,    354.1,2, -0.8940,    353.2,2,    48.10,2,    23.28,2,     1.67,2
  09AR20020126, AIS01,    46,  1,      7,      7,2,20020221,1733,-69.0350,  73.8092,  700,   -999,    152.6,  -1.6690,  34.2310,2,  34.2250,2,    345.9,2, -1.6730,    348.1,2,    55.40,2,    29.19,2,     1.94,2
  09AR20020126, AIS01,    46,  1,      6,     24,2,20020221,1733,-69.0350,  73.8092,  700,   -999,    200.5,  -1.7640,  34.3440,2,  34.3460,2,    338.7,2, -1.7690,    339.5,2,    57.70,2,    30.27,2,     1.96,2
  09AR20020126, AIS01,    46,  1,      5,    105,2,20020221,1733,-69.0350,  73.8092,  700,   -999,    301.2,  -1.8500,  34.4150,2,  34.4150,2,    331.7,2, -1.8570,    330.2,2,    59.00,2,    30.90,2,     1.98,2
  09AR20020126, AIS01,    46,  1,      4,      4,2,20020221,1733,-69.0350,  73.8092,  700,   -999,    400.7,  -1.8940,  34.4430,2,  34.4430,2,    326.8,2, -1.9030,    326.6,2,    57.20,2,    31.01,2,     1.99,2
  09AR20020126, AIS01,    46,  1,      3,     21,2,20020221,1733,-69.0350,  73.8092,  700,   -999,    501.4,  -1.8910,  34.4700,2,  34.4700,2,    324.6,2, -1.9030,    322.2,2,    60.60,2,    31.00,2,     2.01,2
  09AR20020126, AIS01,    46,  1,      2,      2,2,20020221,1733,-69.0350,  73.8092,  700,   -999,    613.4,  -1.9330,  34.4960,2,  34.4960,2,    326.1,2, -1.9480,    323.3,2,    63.80,2,    31.55,2,     2.04,2
  09AR20020126, AIS01,    46,  1,      1,      1,2,20020221,1733,-69.0350,  73.8092,  700,   -999,    691.4,  -1.8970,  34.5520,2,  34.5520,2,    319.2,2, -1.9150,    323.2,2,    65.60,2,    31.44,2,     2.03,2
  09AR20020126, AIS01,    47,  1,     12,     16,2,20020221,1940,-69.1195,  73.9552,  710,   -999,     12.3,  -1.4130,  32.7630,4,  32.9350,2,    380.6,3, -1.4140,    380.1,2,    24.50,2,    13.66,2,     0.96,2
  09AR20020126, AIS01,    47,  1,     11,     11,2,20020221,1940,-69.1195,  73.9552,  710,   -999,     27.2,  -0.7500,  33.4300,3,  33.4340,2,    372.2,2, -0.7510,    369.6,2,    28.90,2,    16.46,2,     1.13,2
  09AR20020126, AIS01,    47,  1,     10,     10,2,20020221,1940,-69.1195,  73.9552,  710,   -999,     51.8,  -0.8980,  33.6740,2,  33.6760,2,    367.3,2, -0.9000,    368.9,2,    37.00,2,    20.09,2,     1.38,2
  09AR20020126, AIS01,    47,  1,      9,     17,2,20020221,1940,-69.1195,  73.9552,  710,   -999,     76.6,  -1.2850,  33.7900,3,  33.8230,2,    366.2,2, -1.2870,    367.4,2,    29.10,2,    15.52,2,     1.24,2
  09AR20020126, AIS01,    47,  1,      8,      8,2,20020221,1940,-69.1195,  73.9552,  710,   -999,    101.9,  -1.4260,  34.0320,2,  34.0420,2,    353.7,2, -1.4290,    354.1,2,    31.90,2,    17.07,2,     1.46,2
  09AR20020126, AIS01,    47,  1,      7,      7,2,20020221,1940,-69.1195,  73.9552,  710,   -999,    151.1,  -1.7460,  34.2340,2,  34.2350,2,    346.9,2, -1.7500,    346.1,2,    32.80,2,    17.30,2,     1.28,2
  09AR20020126, AIS01,    47,  1,      6,     24,2,20020221,1940,-69.1195,  73.9552,  710,   -999,    201.8,  -1.7790,  34.3630,2,  34.3650,2,    339.0,2, -1.7840,    337.4,2,    55.80,2,    30.25,2,     1.96,2
  09AR20020126, AIS01,    47,  1,      5,    105,2,20020221,1940,-69.1195,  73.9552,  710,   -999,    272.4,  -1.8720,  34.4030,2,  34.4000,2,    329.8,2, -1.8780,    329.6,2,    51.90,2,    29.83,2,     1.69,4
  09AR20020126, AIS01,    47,  1,      4,      4,2,20020221,1940,-69.1195,  73.9552,  710,   -999,    383.0,  -1.8940,  34.4370,2,  34.4370,2,    327.2,2, -1.9030,    325.6,2,    62.20,2,    30.88,2,     1.97,2
  09AR20020126, AIS01,    47,  1,      3,     21,2,20020221,1940,-69.1195,  73.9552,  710,   -999,    501.4,  -1.8940,  34.4680,2,  34.4680,2,    323.5,2, -1.9060,    323.2,2,    61.60,2,    30.99,2,     1.96,2
  09AR20020126, AIS01,    47,  1,      2,      2,2,20020221,1940,-69.1195,  73.9552,  710,   -999,    603.4,  -1.8920,  34.4960,2,  34.4950,2,    320.4,2, -1.9070,    323.1,2,    63.40,2,    31.18,2,     1.99,2
  09AR20020126, AIS01,    47,  1,      1,      1,2,20020221,1940,-69.1195,  73.9552,  710,   -999,    701.6,  -1.8990,  34.5500,2,  34.5470,2,    324.7,2, -1.9170,    324.0,2,    52.80,3,    31.22,2,     2.02,2
  09AR20020126, AIS01,    48,  1,     12,     16,2,20020221,2145,-69.1982,  74.0348,  672,   -999,     11.1,  -1.6930,  32.9410,2,  32.9690,2,    378.8,3, -1.6940,    379.2,2,    21.00,2,    11.79,2,     0.85,2
  09AR20020126, AIS01,    48,  1,     11,     11,2,20020221,2145,-69.1982,  74.0348,  672,   -999,     26.4,  -0.5760,  33.4440,2,  33.4550,2,    371.2,2, -0.5770,    371.3,2,    29.00,2,    15.70,2,     1.14,2
  09AR20020126, AIS01,    48,  1,     10,     10,2,20020221,2145,-69.1982,  74.0348,  672,   -999,     51.3,  -0.5200,  33.6980,2,  33.6990,2,    358.9,2, -0.5220,    360.9,2,    27.00,2,    14.83,2,     1.02,2
  09AR20020126, AIS01,    48,  1,      9,     17,2,20020221,2145,-69.1982,  74.0348,  672,   -999,     76.4,  -0.7170,  33.8590,2,  33.8630,2,    354.6,2, -0.7190,    352.7,2,    27.00,2,    13.60,2,     1.07,2
  09AR20020126, AIS01,    48,  1,      8,      8,2,20020221,2145,-69.1982,  74.0348,  672,   -999,    111.7,  -1.6340,  34.0790,2,  34.0770,2,    351.7,2, -1.6370,    353.0,2,    53.60,2,    27.25,2,     1.91,2
  09AR20020126, AIS01,    48,  1,      7,      7,2,20020221,2145,-69.1982,  74.0348,  672,   -999,    161.2,  -1.7740,  34.2210,2,  34.2220,2,    345.5,2, -1.7780,    346.8,2,    60.20,2,    29.00,2,     1.92,2
  09AR20020126, AIS01,    48,  1,      6,     24,2,20020221,2145,-69.1982,  74.0348,  672,   -999,    231.5,  -1.7870,  34.3650,2,  34.3660,2,    336.3,2, -1.7920,    337.8,2,    53.80,3,    30.31,2,     1.95,2
  09AR20020126, AIS01,    48,  1,      5,    105,2,20020221,2145,-69.1982,  74.0348,  672,   -999,    281.4,  -1.8380,  34.4060,2,  34.4350,3,    332.3,2, -1.8440,    331.4,2,    63.10,2,    30.69,2,     1.97,2
  09AR20020126, AIS01,    48,  1,      4,      4,2,20020221,2145,-69.1982,  74.0348,  672,   -999,    401.3,  -1.8860,  34.4360,2,  34.4360,2,    328.8,2, -1.8950,    328.3,2,    63.10,2,    30.78,2,     1.96,2
  09AR20020126, AIS01,    48,  1,      3,     21,2,20020221,2145,-69.1982,  74.0348,  672,   -999,    521.7,  -1.8930,  34.4690,2,  34.4690,2,    324.2,2, -1.9060,    323.4,2,    64.80,2,    31.02,2,     1.99,2
  09AR20020126, AIS01,    48,  1,      2,      2,2,20020221,2145,-69.1982,  74.0348,  672,   -999,    601.2,  -1.9200,  34.5040,2,  34.5050,2,    324.2,2, -1.9350,    323.8,2,    62.20,2,    31.19,2,     2.00,2
  09AR20020126, AIS01,    48,  1,      1,      1,2,20020221,2145,-69.1982,  74.0348,  672,   -999,    661.3,  -1.9110,  34.5320,2,  34.5310,2,    323.5,2, -1.9280,    324.1,2,    58.90,2,    31.20,2,     2.00,2
  09AR20020126, AIS01,    49,  1,     12,     16,2,20020221,2344,-69.2565,  74.2713,  756,   -999,     11.4,  -0.8860,  33.2430,4,  33.2660,2,    368.2,3, -0.8860,    375.5,2,    15.50,4,     8.51,4,     0.83,4
  09AR20020126, AIS01,    49,  1,     11,     11,2,20020221,2344,-69.2565,  74.2713,  756,   -999,     26.4,  -0.4840,  33.5650,3,  33.5940,2,    365.3,2, -0.4850,    363.9,2,    31.40,2,    16.93,2,     1.19,2
  09AR20020126, AIS01,    49,  1,     10,     10,2,20020221,2344,-69.2565,  74.2713,  756,   -999,     51.3,  -0.6050,  33.7520,2,  33.7730,2,    354.9,2, -0.6070,    356.9,2,    22.10,4,    11.29,4,     0.90,4
  09AR20020126, AIS01,    49,  1,      9,     17,2,20020221,2344,-69.2565,  74.2713,  756,   -999,     76.6,  -1.1740,  33.9590,3,  33.9670,2,    355.8,2, -1.1760,    356.1,2,    48.40,2,    24.23,2,     1.82,2
  09AR20020126, AIS01,    49,  1,      8,      8,2,20020221,2344,-69.2565,  74.2713,  756,   -999,    101.5,  -1.5620,  34.1170,2,  34.1180,2,    350.8,2, -1.5650,    353.0,2,    54.70,2,    27.69,2,     1.93,2
  09AR20020126, AIS01,    49,  1,      7,      7,2,20020221,2344,-69.2565,  74.2713,  756,   -999,    151.2,  -1.7130,  34.2310,2,  34.2290,2,    346.7,2, -1.7170,    349.2,2,    57.10,2,    29.24,2,     1.92,2
  09AR20020126, AIS01,    49,  1,      6,     24,2,20020221,2344,-69.2565,  74.2713,  756,   -999,    201.3,  -1.7470,  34.3320,2,  34.3400,2,    341.9,2, -1.7520,    342.0,2,    35.50,4,    17.81,4,     1.31,4
  09AR20020126, AIS01,    49,  1,      5,    105,2,20020221,2344,-69.2565,  74.2713,  756,   -999,    321.9,  -1.8420,  34.4220,2,  34.4190,2,    330.9,2, -1.8490,    330.9,2,    50.40,4,    26.26,4,     1.64,4
  09AR20020126, AIS01,    49,  1,      4,      4,2,20020221,2344,-69.2565,  74.2713,  756,   -999,    441.1,  -1.9110,  34.4560,2,  34.4560,2,    327.1,2, -1.9210,    321.9,2,    41.10,4,    18.47,4,     1.25,4
  09AR20020126, AIS01,    49,  1,      3,     21,2,20020221,2344,-69.2565,  74.2713,  756,   -999,    531.5,  -1.8910,  34.4800,2,  34.4790,2,    325.2,2, -1.9040,    321.8,2,    62.10,2,    31.23,2,     1.97,2
  09AR20020126, AIS01,    49,  1,      2,      2,2,20020221,2344,-69.2565,  74.2713,  756,   -999,    631.6,  -1.8830,  34.5040,2,  34.5030,2,    325.9,2, -1.8990,    323.6,2,    48.50,4,    22.48,4,     1.57,4
  09AR20020126, AIS01,    49,  1,      1,      1,2,20020221,2344,-69.2565,  74.2713,  756,   -999,    748.7,  -1.8910,  34.5570,2,  34.5550,2,    319.7,2, -1.9110,    320.2,2,    67.00,2,    31.32,2,     2.03,2
  09AR20020126, AIS01,    50,  1,     12,     16,2,20020222,0217,-69.3107,  74.4282,  772,   -999,     10.6,  -0.3610,  33.4210,4,  33.4310,2,    377.5,3, -0.3610,    374.4,2,    26.80,2,    14.67,2,     1.09,2
  09AR20020126, AIS01,    50,  1,     11,     11,2,20020222,0217,-69.3107,  74.4282,  772,   -999,     21.1,  -0.1630,  33.6160,2,  33.6370,2,    370.9,2, -0.1640,    370.6,2,    14.40,2,     7.62,2,     0.78,2
  09AR20020126, AIS01,    50,  1,     10,     10,2,20020222,0217,-69.3107,  74.4282,  772,   -999,     42.1,  -0.6790,  33.7700,2,  33.7690,2,    366.1,2, -0.6800,    373.0,2,    15.80,2,     8.54,2,     0.74,2
  09AR20020126, AIS01,    50,  1,      9,     17,2,20020222,0217,-69.3107,  74.4282,  772,   -999,     62.0,  -0.8630,  33.8200,2,  33.8190,2,    361.3,2, -0.8650,    360.7,2,    39.40,2,    22.01,2,     1.34,2
  09AR20020126, AIS01,    50,  1,      8,      8,2,20020222,0217,-69.3107,  74.4282,  772,   -999,     81.2,  -0.9400,  33.8750,2,  33.8770,2,    354.2,2, -0.9420,    355.8,2,    40.90,2,    22.52,2,     1.47,2
  09AR20020126, AIS01,    50,  1,      7,      7,2,20020222,0217,-69.3107,  74.4282,  772,   -999,    131.4,  -1.6060,  34.1960,2,  34.1990,2,    349.3,2, -1.6090,    351.1,2,    58.00,2,    28.58,2,     1.95,2
  09AR20020126, AIS01,    50,  1,      6,     24,2,20020222,0217,-69.3107,  74.4282,  772,   -999,    202.2,  -1.7310,  34.3410,2,  34.3420,2,    340.8,2, -1.7360,    342.7,2,    59.10,2,    30.10,2,     1.98,2
  09AR20020126, AIS01,    50,  1,      5,    105,2,20020222,0217,-69.3107,  74.4282,  772,   -999,    262.4,  -1.8650,  34.4000,2,  34.4000,2,    336.2,2, -1.8710,    330.8,2,    61.00,2,    30.72,2,     1.96,2
  09AR20020126, AIS01,    50,  1,      4,      4,2,20020222,0217,-69.3107,  74.4282,  772,   -999,    401.9,  -1.8900,  34.4420,2,  34.4430,2,    329.3,2, -1.8990,    326.3,2,    40.30,4,    17.69,4,     1.38,4
  09AR20020126, AIS01,    50,  1,      3,     21,2,20020222,0217,-69.3107,  74.4282,  772,   -999,    502.4,  -1.8880,  34.4680,2,  34.4680,2,    327.1,2, -1.9000,    322.2,2,    63.60,2,    31.37,2,     2.01,2
  09AR20020126, AIS01,    50,  1,      2,      2,2,20020222,0217,-69.3107,  74.4282,  772,   -999,    594.4,  -1.8860,  34.4920,2,  34.4920,2,    326.0,2, -1.9010,    323.0,2,    63.90,2,    31.27,2,     2.01,2
  09AR20020126, AIS01,    50,  1,      1,      1,2,20020222,0217,-69.3107,  74.4282,  772,   -999,    765.5,  -1.8910,  34.5570,2,  34.5570,2,    321.8,2, -1.9110,    320.7,2,    70.20,2,    31.39,2,     2.07,2
  09AR20020126, AIS01,    51,  1,     12,     16,2,20020222,0813,-69.3660,  74.5677,  768,   -999,     11.0,  -0.3890,  33.3420,4,  33.4280,2,   -999.0,5, -0.3890,    375.2,2,    25.70,2,    14.52,2,     1.06,2
  09AR20020126, AIS01,    51,  1,     11,     11,2,20020222,0813,-69.3660,  74.5677,  768,   -999,     41.1,  -0.6750,  33.6670,2,  33.6950,2,   -999.0,5, -0.6760,    370.1,2,    33.60,2,    19.22,2,     1.14,2
  09AR20020126, AIS01,    51,  1,     10,     10,2,20020222,0813,-69.3660,  74.5677,  768,   -999,     80.9,  -0.9140,  33.8210,2,  33.8350,2,   -999.0,5, -0.9160,    359.7,2,    25.80,4,    13.57,4,     1.04,4
  09AR20020126, AIS01,    51,  1,      9,     17,2,20020222,0813,-69.3660,  74.5677,  768,   -999,    121.2,  -1.2850,  34.1250,2,  34.1220,2,   -999.0,5, -1.2880,    350.4,2,    55.60,2,    26.23,2,     1.89,2
  09AR20020126, AIS01,    51,  1,      8,      8,2,20020222,0813,-69.3660,  74.5677,  768,   -999,    161.4,  -1.7220,  34.2390,2,  34.2390,2,   -999.0,5, -1.7260,    348.7,2,    58.90,2,    29.27,2,     1.94,2
  09AR20020126, AIS01,    51,  1,      7,      7,2,20020222,0813,-69.3660,  74.5677,  768,   -999,    201.2,  -1.7750,  34.3290,2,  34.3340,2,   -999.0,5, -1.7800,    342.8,2,    59.20,2,    29.99,2,     1.96,2
  09AR20020126, AIS01,    51,  1,      6,     24,2,20020222,0813,-69.3660,  74.5677,  768,   -999,    301.3,  -1.8870,  34.4100,2,  34.4090,2,   -999.0,5, -1.8940,    328.5,2,    36.00,4,    16.99,4,     1.44,4
  09AR20020126, AIS01,    51,  1,      5,    105,2,20020222,0813,-69.3660,  74.5677,  768,   -999,    401.0,  -1.8920,  34.4400,2,  34.4400,2,   -999.0,5, -1.9010,    324.9,2,    60.80,2,    30.90,2,     1.98,2
  09AR20020126, AIS01,    51,  1,      4,      4,2,20020222,0813,-69.3660,  74.5677,  768,   -999,    501.3,  -1.8870,  34.4650,2,  34.4640,2,   -999.0,5, -1.8990,    321.6,2,    33.00,4,    15.04,4,     1.37,4
  09AR20020126, AIS01,    51,  1,      3,     21,2,20020222,0813,-69.3660,  74.5677,  768,   -999,    601.1,  -1.8800,  34.4850,2,  34.4860,2,   -999.0,5, -1.8950,    321.2,2,    44.60,4,    19.81,4,     1.55,4
  09AR20020126, AIS01,    51,  1,      2,      2,2,20020222,0813,-69.3660,  74.5677,  768,   -999,    700.1,  -1.8830,  34.5140,2,  34.5150,2,   -999.0,5, -1.9010,    322.5,2,    46.90,4,    21.84,4,     1.68,4
  09AR20020126, AIS01,    51,  1,      1,      1,2,20020222,0813,-69.3660,  74.5677,  768,   -999,    764.6,  -1.8900,  34.5540,2,  34.5550,2,   -999.0,5, -1.9100,    321.0,2,    69.60,2,    31.22,2,     2.01,2
  09AR20020126, AIS01,    52,  1,     12,     16,2,20020222,1009,-69.4317,  74.8020,  329,   -999,     10.8,  -0.7610,  33.1730,4,  33.1790,2,    406.1,3, -0.7610,    376.5,2,  -999.00,9,  -999.00,9,  -999.00,9
  09AR20020126, AIS01,    52,  1,     11,     11,2,20020222,1009,-69.4317,  74.8020,  329,   -999,     25.9,  -0.5090,  33.4920,3,  33.5020,2,    373.6,2, -0.5100,    368.8,2,  -999.00,9,  -999.00,9,  -999.00,9
  09AR20020126, AIS01,    52,  1,     10,     10,2,20020222,1009,-69.4317,  74.8020,  329,   -999,     51.0,  -0.5110,  33.7040,2,  33.7140,2,    363.6,2, -0.5130,    363.5,2,  -999.00,9,  -999.00,9,  -999.00,9
  09AR20020126, AIS01,    52,  1,      9,     17,2,20020222,1009,-69.4317,  74.8020,  329,   -999,     75.9,  -0.7890,  33.7870,2,  33.7920,2,    362.0,2, -0.7910,    367.1,2,  -999.00,9,  -999.00,9,  -999.00,9
  09AR20020126, AIS01,    52,  1,      8,      8,2,20020222,1009,-69.4317,  74.8020,  329,   -999,    100.8,  -1.0900,  33.9310,3,  33.9430,2,    358.9,2, -1.0930,    360.4,2,  -999.00,9,  -999.00,9,  -999.00,9
  09AR20020126, AIS01,    52,  1,      7,      7,2,20020222,1009,-69.4317,  74.8020,  329,   -999,    130.6,  -1.5360,  34.1030,2,  34.1030,2,    354.0,2, -1.5390,    353.9,2,  -999.00,9,  -999.00,9,  -999.00,9
  09AR20020126, AIS01,    52,  1,      6,     24,2,20020222,1009,-69.4317,  74.8020,  329,   -999,    161.0,  -1.6550,  34.1780,2,  34.1770,2,    350.6,2, -1.6590,    351.4,2,  -999.00,9,  -999.00,9,  -999.00,9
  09AR20020126, AIS01,    52,  1,      5,    105,2,20020222,1009,-69.4317,  74.8020,  329,   -999,    191.0,  -1.7540,  34.2490,2,  34.2460,2,    344.3,2, -1.7580,    347.8,2,  -999.00,9,  -999.00,9,  -999.00,9
  09AR20020126, AIS01,    52,  1,      4,      4,2,20020222,1009,-69.4317,  74.8020,  329,   -999,    220.4,  -1.8420,  34.3660,2,  34.3660,2,    336.7,2, -1.8470,    335.6,2,  -999.00,9,  -999.00,9,  -999.00,9
  09AR20020126, AIS01,    52,  1,      3,     21,2,20020222,1009,-69.4317,  74.8020,  329,   -999,    250.9,  -1.8730,  34.4030,2,  34.4050,2,    333.4,2, -1.8790,    329.9,2,  -999.00,9,  -999.00,9,  -999.00,9
  09AR20020126, AIS01,    52,  1,      2,      2,2,20020222,1009,-69.4317,  74.8020,  329,   -999,    301.1,  -1.8680,  34.4210,2,  34.4230,2,    328.4,2, -1.8750,    328.3,2,  -999.00,9,  -999.00,9,  -999.00,9
  09AR20020126, AIS01,    52,  1,      1,      1,2,20020222,1009,-69.4317,  74.8020,  329,   -999,    330.9,  -1.8710,  34.4250,2,  34.4260,2,    328.2,2, -1.8790,    328.2,2,  -999.00,9,  -999.00,9,  -999.00,9