BOTTLE,20070829WHPSIODBK
EXPOCODE,SECT_ID,STNNBR,CASTNO,SAMPNO,BTLNBR,BTLNBR_FLAG_W,DATE,TIME,LATITUDE,LONGITUDE,DEPTH,CTDRAW,CTDPRS,CTDTMP,CTDSAL,CTDSAL_FLAG_W,SALNTY,SALNTY_FLAG_W,CTDOXY,CTDOXY_FLAG_W,THETA,OXYGEN,OXYGEN_FLAG_W,SILCAT,SILCAT_FLAG_W,NO2+NO3,NO2+NO3_FLAG_W,PHSPHT,PHSPHT_FLAG_W
,,,,,,,,,,,,,DBAR,DEGC,PSS-78,,PSS-78,,UMOL/KG,,DEGC,UMOL/KG,,UMOL/KG,,UMOL/KG,,UMOL/KG,
  09AR20020126, AIS01,    32,  1,     12,     16,2,20020213,0730,-68.8170,  73.3457,  778,   -999,     10.2,  -1.6720,  32.9050,4,  32.9080,2,    481.9,3, -1.6730,    412.3,2,    27.00,2,    16.31,2,     0.85,2
  09AR20020126, AIS01,    32,  1,     11,     11,2,20020213,0730,-68.8170,  73.3457,  778,   -999,     26.2,  -1.6160,  33.4830,4,  33.4450,2,    389.4,2, -1.6170,    392.5,2,    36.10,2,    21.04,2,     1.31,2
  09AR20020126, AIS01,    32,  1,     10,     10,2,20020213,0730,-68.8170,  73.3457,  778,   -999,     50.5,  -1.7170,  34.0500,2,  34.0750,2,    356.9,2, -1.7180,    353.5,2,    49.80,2,    27.07,2,     1.87,2
  09AR20020126, AIS01,    32,  1,      9,     17,2,20020213,0730,-68.8170,  73.3457,  778,   -999,    100.7,  -1.7790,  34.2700,2,  34.2690,2,    346.6,2, -1.7810,    345.0,2,    53.60,2,    29.11,2,     1.57,4
  09AR20020126, AIS01,    32,  1,      8,      8,2,20020213,0730,-68.8170,  73.3457,  778,   -999,    150.0,  -1.8060,  34.3200,2,  34.3230,2,    340.1,2, -1.8090,    340.1,2,    55.50,2,    29.39,2,     1.93,2
  09AR20020126, AIS01,    32,  1,      7,      7,2,20020213,0730,-68.8170,  73.3457,  778,   -999,    250.7,  -1.9000,  34.4120,2,  34.4120,2,    325.6,2, -1.9060,    327.9,2,    57.10,2,    30.37,2,     1.96,2
  09AR20020126, AIS01,    32,  1,      6,     24,2,20020213,0730,-68.8170,  73.3457,  778,   -999,    361.3,  -1.9960,  34.4390,2,  34.4400,2,    322.7,2, -2.0040,    326.4,2,    58.10,2,    30.54,2,     2.00,2
  09AR20020126, AIS01,    32,  1,      5,    105,2,20020213,0730,-68.8170,  73.3457,  778,   -999,    421.4,  -1.9110,  34.4570,2,  34.4560,2,    323.2,2, -1.9210,    325.3,2,    59.80,2,    30.67,2,     1.98,2
  09AR20020126, AIS01,    32,  1,      4,      4,2,20020213,0730,-68.8170,  73.3457,  778,   -999,    501.1,  -1.9000,  34.4770,2,  34.4780,2,    321.4,2, -1.9120,    324.2,2,    60.80,2,    30.59,2,     2.00,2
  09AR20020126, AIS01,    32,  1,      3,     21,2,20020213,0730,-68.8170,  73.3457,  778,   -999,    600.4,  -1.8590,  34.5020,2,  34.5300,3,    321.3,2, -1.8740,    321.7,2,    60.90,2,    30.66,2,     2.01,2
  09AR20020126, AIS01,    32,  1,      2,      2,2,20020213,0730,-68.8170,  73.3457,  778,   -999,    708.1,  -1.9100,  34.5290,2,  34.5280,2,    321.9,2, -1.9280,    324.4,2,    60.30,2,    30.51,2,     2.00,2
  09AR20020126, AIS01,    32,  1,      1,      1,2,20020213,0730,-68.8170,  73.3457,  778,   -999,    772.0,  -1.8870,  34.5810,2,  34.5810,2,    325.2,2, -1.9080,    321.5,2,    66.60,2,    30.73,2,     1.95,2
  09AR20020126, AIS01,    33,  1,     12,     16,2,20020213,1235,-68.9502,  73.6572,  737,   -999,     11.3,  -1.1350,  32.8830,4,  32.9510,2,    417.2,3, -1.1360,    386.2,2,    17.80,2,    13.67,2,     0.63,2
  09AR20020126, AIS01,    33,  1,     11,     11,2,20020213,1235,-68.9502,  73.6572,  737,   -999,     25.6,  -0.7430,  33.7000,4,  33.7690,2,    369.1,2, -0.7440,    369.2,2,    36.90,2,    20.83,2,     1.54,2
  09AR20020126, AIS01,    33,  1,     10,     10,2,20020213,1235,-68.9502,  73.6572,  737,   -999,     50.7,  -1.7530,  34.0270,2,  34.0500,2,    353.4,2, -1.7540,    353.8,2,    52.80,2,    27.42,2,     1.85,2
  09AR20020126, AIS01,    33,  1,      9,     17,2,20020213,1235,-68.9502,  73.6572,  737,   -999,     81.0,  -1.7970,  34.2320,2,  34.2550,2,    342.3,2, -1.7990,    343.1,2,    56.60,2,    28.63,2,     1.90,2
  09AR20020126, AIS01,    33,  1,      8,      8,2,20020213,1235,-68.9502,  73.6572,  737,   -999,    121.3,  -1.8150,  34.3750,2,  34.3760,2,    334.0,2, -1.8180,    333.2,2,    59.00,2,    30.17,2,     1.93,2
  09AR20020126, AIS01,    33,  1,      7,      7,2,20020213,1235,-68.9502,  73.6572,  737,   -999,    200.9,  -1.8650,  34.4230,2,  34.4210,2,    330.2,2, -1.8700,    329.4,2,    58.30,2,    30.42,2,     1.96,2
  09AR20020126, AIS01,    33,  1,      6,     24,2,20020213,1235,-68.9502,  73.6572,  737,   -999,    300.9,  -1.8810,  34.4530,2,  34.4520,2,    326.7,2, -1.8880,    327.0,2,    57.10,2,    30.35,2,     1.96,2
  09AR20020126, AIS01,    33,  1,      5,    105,2,20020213,1235,-68.9502,  73.6572,  737,   -999,    400.7,  -1.8920,  34.4710,2,  34.4710,2,    322.7,2, -1.9010,    322.5,2,    63.50,2,    30.61,2,     1.97,2
  09AR20020126, AIS01,    33,  1,      4,      4,2,20020213,1235,-68.9502,  73.6572,  737,   -999,    501.5,  -1.9090,  34.4940,2,  34.4940,2,    322.9,2, -1.9210,    324.1,2,    63.20,2,    30.63,2,     2.00,2
  09AR20020126, AIS01,    33,  1,      3,     21,2,20020213,1235,-68.9502,  73.6572,  737,   -999,    600.4,  -1.8970,  34.5130,2,  34.5120,2,    322.4,2, -1.9120,    323.9,2,    62.10,2,    30.95,2,     1.99,2
  09AR20020126, AIS01,    33,  1,      2,      2,2,20020213,1235,-68.9502,  73.6572,  737,   -999,    702.3,  -1.8870,  34.5440,2,  34.5410,2,    321.8,2, -1.9050,    323.4,2,    64.50,2,    31.02,2,     1.96,2
  09AR20020126, AIS01,    33,  1,      1,      1,2,20020213,1235,-68.9502,  73.6572,  737,   -999,    734.8,  -1.8910,  34.5530,2,  34.5520,2,    324.4,2, -1.9100,    321.7,2,    64.10,2,    31.03,2,     2.01,2
  09AR20020126, AIS01,    34,  1,     12,     16,2,20020213,1518,-69.0422,  73.8305,  696,   -999,     10.0,  -1.0680,  33.2130,3,  33.2810,2,    389.0,3, -1.0680,    388.0,2,    24.70,2,    16.09,2,     0.83,2
  09AR20020126, AIS01,    34,  1,     11,     11,2,20020213,1518,-69.0422,  73.8305,  696,   -999,     25.0,  -0.7200,  33.6790,4,  33.5090,2,    379.6,2, -0.7210,    381.7,2,    28.40,2,    17.40,2,     1.10,2
  09AR20020126, AIS01,    34,  1,     10,     10,2,20020213,1518,-69.0422,  73.8305,  696,   -999,     51.3,  -1.7360,  34.1200,2,  34.1340,2,    346.1,2, -1.7370,    349.5,2,    51.60,2,    28.12,2,     1.90,2
  09AR20020126, AIS01,    34,  1,      9,     17,2,20020213,1518,-69.0422,  73.8305,  696,   -999,     81.5,  -1.7430,  34.2360,2,  34.2470,2,    343.2,2, -1.7450,    345.6,2,    50.30,2,    29.00,2,     1.91,2
  09AR20020126, AIS01,    34,  1,      8,      8,2,20020213,1518,-69.0422,  73.8305,  696,   -999,    120.8,  -1.7550,  34.3420,2,  34.3460,2,    340.5,2, -1.7580,    341.3,2,    57.90,2,    30.06,2,     1.86,3
  09AR20020126, AIS01,    34,  1,      7,      7,2,20020213,1518,-69.0422,  73.8305,  696,   -999,    161.1,  -1.7950,  34.3890,2,  34.3900,2,    337.3,2, -1.7990,    335.3,2,    59.30,2,    30.49,2,     1.97,2
  09AR20020126, AIS01,    34,  1,      6,     24,2,20020213,1518,-69.0422,  73.8305,  696,   -999,    201.5,  -1.8330,  34.4100,2,  34.4110,2,    333.5,2, -1.8380,    336.0,2,    57.50,2,    30.36,2,     1.94,2
  09AR20020126, AIS01,    34,  1,      5,    105,2,20020213,1518,-69.0422,  73.8305,  696,   -999,    301.6,  -1.8640,  34.4490,2,  34.4480,2,    329.9,2, -1.8710,    328.5,2,    59.80,2,    30.59,2,     1.97,2
  09AR20020126, AIS01,    34,  1,      4,      4,2,20020213,1518,-69.0422,  73.8305,  696,   -999,    401.4,  -1.8960,  34.4730,2,  34.4710,2,    326.1,2, -1.9050,    323.7,2,    63.20,2,    31.01,2,     1.98,2
  09AR20020126, AIS01,    34,  1,      3,     21,2,20020213,1518,-69.0422,  73.8305,  696,   -999,    500.8,  -1.9000,  34.4920,2,  34.4920,2,    324.5,2, -1.9120,    324.3,2,    61.00,2,    30.95,2,     2.00,2
  09AR20020126, AIS01,    34,  1,      2,      2,2,20020213,1518,-69.0422,  73.8305,  696,   -999,    605.7,  -1.8960,  34.5140,2,  34.5140,2,    323.2,2, -1.9110,    324.3,2,    61.00,2,    30.93,2,     1.95,2
  09AR20020126, AIS01,    34,  1,      1,      1,2,20020213,1518,-69.0422,  73.8305,  696,   -999,    691.4,  -1.8960,  34.5530,2,  34.5480,2,    321.4,2, -1.9140,    323.3,2,    66.10,2,    31.19,2,     2.00,2
  09AR20020126, AIS01,    35,  1,     12,     16,2,20020213,1839,-69.0862,  74.1265,  674,   -999,     10.6,  -1.8080,  33.3210,4,  33.4190,2,    397.4,3, -1.8090,    397.1,2,    39.30,2,    21.75,2,     1.26,2
  09AR20020126, AIS01,    35,  1,     11,     11,2,20020213,1839,-69.0862,  74.1265,  674,   -999,     25.5,  -1.8300,  33.6560,2,  33.7050,2,    377.0,2, -1.8310,    379.8,2,    45.20,2,    24.54,2,     1.55,2
  09AR20020126, AIS01,    35,  1,     10,     10,2,20020213,1839,-69.0862,  74.1265,  674,   -999,     50.9,  -1.7790,  34.1030,2,  34.1260,2,    355.2,2, -1.7800,    353.8,2,    53.50,2,    28.12,2,     1.86,2
  09AR20020126, AIS01,    35,  1,      9,     17,2,20020213,1839,-69.0862,  74.1265,  674,   -999,     80.5,  -1.7200,  34.2360,2,  34.2400,2,    350.3,2, -1.7220,    348.1,2,    56.30,2,    29.18,2,     1.90,2
  09AR20020126, AIS01,    35,  1,      8,      8,2,20020213,1839,-69.0862,  74.1265,  674,   -999,    121.2,  -1.7480,  34.3060,2,  34.3040,2,    343.3,2, -1.7510,    344.0,2,    58.80,2,    29.43,2,     1.94,2
  09AR20020126, AIS01,    35,  1,      7,      7,2,20020213,1839,-69.0862,  74.1265,  674,   -999,    180.5,  -1.8040,  34.3690,2,  34.3690,2,    336.9,2, -1.8080,    336.4,2,    59.10,2,    30.43,2,     1.97,2
  09AR20020126, AIS01,    35,  1,      6,     24,2,20020213,1839,-69.0862,  74.1265,  674,   -999,    240.8,  -1.9890,  34.3950,2,  34.3920,2,    328.0,2, -1.9940,    327.2,2,    57.20,2,    30.69,2,     1.97,2
  09AR20020126, AIS01,    35,  1,      5,    105,2,20020213,1839,-69.0862,  74.1265,  674,   -999,    300.4,  -1.9730,  34.4110,2,  34.4090,2,    325.3,2, -1.9800,    326.9,2,    59.80,2,    30.80,2,     2.04,2
  09AR20020126, AIS01,    35,  1,      4,      4,2,20020213,1839,-69.0862,  74.1265,  674,   -999,    400.9,  -1.9960,  34.4440,2,  34.4440,2,    321.5,2, -2.0050,    324.6,2,    63.80,2,    31.25,2,     1.99,2
  09AR20020126, AIS01,    35,  1,      3,     21,2,20020213,1839,-69.0862,  74.1265,  674,   -999,    500.1,  -1.9080,  34.4760,2,  34.4770,2,    322.9,2, -1.9200,    322.7,2,    63.90,2,    31.17,2,     1.99,2
  09AR20020126, AIS01,    35,  1,      2,      2,2,20020213,1839,-69.0862,  74.1265,  674,   -999,    600.7,  -1.9380,  34.5050,2,  34.5060,2,    325.5,2, -1.9530,    324.4,2,    64.40,2,    31.23,2,     1.95,2
  09AR20020126, AIS01,    35,  1,      1,      1,2,20020213,1839,-69.0862,  74.1265,  674,   -999,    664.8,  -1.9000,  34.5480,2,  34.5470,2,    323.5,2, -1.9170,    323.9,2,    63.10,2,    31.07,2,     1.98,2
  09AR20020126, AIS01,    36,  1,     12,     16,2,20020214,0756,-68.9900,  75.3237,  707,   -999,     11.0,  -0.9100,  33.3700,2,  33.3690,2,   -999.0,5, -0.9100,   -999.0,9,  -999.00,9,  -999.00,9,  -999.00,9
  09AR20020126, AIS01,    36,  1,     11,     11,2,20020214,0756,-68.9900,  75.3237,  707,   -999,     26.5,  -1.7230,  34.0600,3,  34.0750,2,   -999.0,5, -1.7240,   -999.0,9,  -999.00,9,  -999.00,9,  -999.00,9
  09AR20020126, AIS01,    36,  1,     10,     10,2,20020214,0756,-68.9900,  75.3237,  707,   -999,     50.2,  -1.7560,  34.2250,2,  34.2470,2,   -999.0,5, -1.7570,   -999.0,9,  -999.00,9,  -999.00,9,  -999.00,9
  09AR20020126, AIS01,    36,  1,      9,     17,2,20020214,0756,-68.9900,  75.3237,  707,   -999,     76.0,  -1.7700,  34.3460,2,  34.3940,3,   -999.0,5, -1.7720,   -999.0,9,  -999.00,9,  -999.00,9,  -999.00,9
  09AR20020126, AIS01,    36,  1,      8,      8,2,20020214,0756,-68.9900,  75.3237,  707,   -999,    101.4,  -1.8120,  34.3920,2,  34.3940,2,   -999.0,5, -1.8140,   -999.0,9,  -999.00,9,  -999.00,9,  -999.00,9
  09AR20020126, AIS01,    36,  1,      7,      7,2,20020214,0756,-68.9900,  75.3237,  707,   -999,    150.9,  -1.8540,  34.4220,2,  34.4230,2,   -999.0,5, -1.8570,   -999.0,9,  -999.00,9,  -999.00,9,  -999.00,9
  09AR20020126, AIS01,    36,  1,      6,     24,2,20020214,0756,-68.9900,  75.3237,  707,   -999,    202.0,  -1.8790,  34.4380,2,  34.4400,2,   -999.0,5, -1.8840,   -999.0,9,  -999.00,9,  -999.00,9,  -999.00,9
  09AR20020126, AIS01,    36,  1,      5,    105,2,20020214,0756,-68.9900,  75.3237,  707,   -999,    301.7,  -1.8800,  34.4580,2,  34.4590,2,   -999.0,5, -1.8870,   -999.0,9,  -999.00,9,  -999.00,9,  -999.00,9
  09AR20020126, AIS01,    36,  1,      4,      4,2,20020214,0756,-68.9900,  75.3237,  707,   -999,    401.2,  -1.9040,  34.4780,2,  34.4800,2,   -999.0,5, -1.9130,   -999.0,9,  -999.00,9,  -999.00,9,  -999.00,9
  09AR20020126, AIS01,    36,  1,      3,     21,2,20020214,0756,-68.9900,  75.3237,  707,   -999,    501.2,  -1.8870,  34.4980,2,  34.5020,2,   -999.0,5, -1.8990,   -999.0,9,  -999.00,9,  -999.00,9,  -999.00,9
  09AR20020126, AIS01,    36,  1,      2,      2,2,20020214,0756,-68.9900,  75.3237,  707,   -999,    602.6,  -1.8970,  34.5140,2,  34.5170,2,   -999.0,5, -1.9120,   -999.0,9,  -999.00,9,  -999.00,9,  -999.00,9
  09AR20020126, AIS01,    36,  1,      1,      1,2,20020214,0756,-68.9900,  75.3237,  707,   -999,    702.7,  -1.8980,  34.5450,2,  34.5490,2,   -999.0,5, -1.9160,   -999.0,9,  -999.00,9,  -999.00,9,  -999.00,9
  09AR20020126, AIS01,    37,  1,     12,     16,2,20020214,1148,-69.0797,  74.8810,  783,   -999,      9.9,  -1.4600,  32.9650,4,  33.0340,2,    454.3,3, -1.4610,    375.7,2,    25.10,2,    15.49,2,     0.74,2
  09AR20020126, AIS01,    37,  1,     11,     11,2,20020214,1148,-69.0797,  74.8810,  783,   -999,     40.4,  -0.7320,  33.9080,2,  33.9540,2,    356.2,2, -0.7330,    356.6,2,  -999.00,9,  -999.00,9,  -999.00,9
  09AR20020126, AIS01,    37,  1,     10,     10,2,20020214,1148,-69.0797,  74.8810,  783,   -999,     80.1,  -1.6590,  34.2280,2,  34.2340,2,    348.6,2, -1.6610,    348.1,2,    58.40,2,    29.03,2,     1.94,2
  09AR20020126, AIS01,    37,  1,      9,     17,2,20020214,1148,-69.0797,  74.8810,  783,   -999,    120.8,  -1.7320,  34.3200,2,  34.3220,2,    345.6,2, -1.7350,    345.6,2,    58.40,2,    29.80,2,     1.91,2
  09AR20020126, AIS01,    37,  1,      8,      8,2,20020214,1148,-69.0797,  74.8810,  783,   -999,    161.2,  -1.7840,  34.3790,2,  34.3780,2,    337.5,2, -1.7880,    337.5,2,    60.30,2,    30.62,2,     1.94,2
  09AR20020126, AIS01,    37,  1,      7,      7,2,20020214,1148,-69.0797,  74.8810,  783,   -999,    200.5,  -1.8520,  34.4010,2,  34.4010,2,    332.4,2, -1.8570,    330.7,2,    60.00,2,    30.76,2,     1.95,2
  09AR20020126, AIS01,    37,  1,      6,     24,2,20020214,1148,-69.0797,  74.8810,  783,   -999,    301.9,  -1.8580,  34.4290,2,  34.4300,2,    330.0,2, -1.8650,    329.0,2,    59.60,2,    30.73,2,     1.92,2
  09AR20020126, AIS01,    37,  1,      5,    105,2,20020214,1148,-69.0797,  74.8810,  783,   -999,    400.6,  -1.8930,  34.4540,2,  34.4540,2,    325.4,2, -1.9020,    325.8,2,    60.90,2,    31.01,2,     1.97,2
  09AR20020126, AIS01,    37,  1,      4,      4,2,20020214,1148,-69.0797,  74.8810,  783,   -999,    500.5,  -1.8900,  34.4800,2,  34.4810,2,    322.6,2, -1.9020,    322.4,2,    63.80,2,    31.21,2,     1.99,2
  09AR20020126, AIS01,    37,  1,      3,     21,2,20020214,1148,-69.0797,  74.8810,  783,   -999,    601.0,  -1.8590,  34.4970,2,  34.4990,2,    321.1,2, -1.8740,    320.7,2,  -999.00,9,  -999.00,9,  -999.00,9
  09AR20020126, AIS01,    37,  1,      2,      2,2,20020214,1148,-69.0797,  74.8810,  783,   -999,    701.8,  -1.8620,  34.5160,2,  34.5160,2,    322.8,2, -1.8800,    321.3,2,    66.10,2,    31.36,2,     1.99,2
  09AR20020126, AIS01,    37,  1,      1,      1,2,20020214,1148,-69.0797,  74.8810,  783,   -999,    779.3,  -1.8930,  34.5480,2,  34.5450,2,    323.4,2, -1.9140,    323.7,2,    67.80,2,    31.29,2,     2.01,2
  09AR20020126, AIS01,    38,  1,     12,     16,2,20020214,1511,-69.1732,  75.0647,  745,   -999,     10.8,  -0.6560,  33.4970,2,  33.5670,3,    415.6,3, -0.6560,    370.2,2,    23.00,2,    16.98,2,     0.75,2
  09AR20020126, AIS01,    38,  1,     11,     11,2,20020214,1511,-69.1732,  75.0647,  745,   -999,     40.9,  -0.5480,  33.7670,2,  33.8140,3,    355.2,2, -0.5490,    355.3,2,    35.80,2,    20.97,2,     1.39,2
  09AR20020126, AIS01,    38,  1,     10,     10,2,20020214,1511,-69.1732,  75.0647,  745,   -999,     80.8,  -1.6390,  34.2000,2,  34.2190,3,    346.6,2, -1.6410,    344.2,2,    55.70,2,    28.62,2,     1.98,2
  09AR20020126, AIS01,    38,  1,      9,     17,2,20020214,1511,-69.1732,  75.0647,  745,   -999,    121.0,  -1.7210,  34.3170,2,  34.3180,2,    342.1,2, -1.7240,    343.8,2,    55.00,2,    29.76,2,     1.96,2
  09AR20020126, AIS01,    38,  1,      8,      8,2,20020214,1511,-69.1732,  75.0647,  745,   -999,    160.4,  -1.7620,  34.3740,2,  34.3770,2,    337.6,2, -1.7660,    338.5,2,    58.40,2,    30.44,2,     1.96,2
  09AR20020126, AIS01,    38,  1,      7,      7,2,20020214,1511,-69.1732,  75.0647,  745,   -999,    200.4,  -1.7520,  34.3960,2,  34.3970,2,    335.1,2, -1.7570,    338.9,2,    57.10,2,    30.51,2,     1.96,2
  09AR20020126, AIS01,    38,  1,      6,     24,2,20020214,1511,-69.1732,  75.0647,  745,   -999,    301.1,  -1.8610,  34.4290,2,  34.4300,2,    329.3,2, -1.8680,    329.0,2,    60.00,2,    30.67,2,     1.97,2
  09AR20020126, AIS01,    38,  1,      5,    105,2,20020214,1511,-69.1732,  75.0647,  745,   -999,    401.2,  -1.8980,  34.4530,2,  34.4530,2,    325.3,2, -1.9070,    324.3,2,    60.40,2,    30.96,2,     1.99,2
  09AR20020126, AIS01,    38,  1,      4,      4,2,20020214,1511,-69.1732,  75.0647,  745,   -999,    500.6,  -1.9030,  34.4730,2,  34.4840,3,    322.5,2, -1.9150,    319.2,2,    62.30,2,    31.44,2,     2.06,2
  09AR20020126, AIS01,    38,  1,      3,     21,2,20020214,1511,-69.1732,  75.0647,  745,   -999,    602.4,  -1.8680,  34.4880,2,  34.4900,2,    322.2,2, -1.8830,    320.5,2,    63.50,2,    31.26,2,     2.00,2
  09AR20020126, AIS01,    38,  1,      2,      2,2,20020214,1511,-69.1732,  75.0647,  745,   -999,    697.9,  -1.9010,  34.5400,2,  34.5400,2,    320.5,2, -1.9190,    322.1,2,    64.60,2,    31.19,2,     2.03,2
  09AR20020126, AIS01,    38,  1,      1,      1,2,20020214,1511,-69.1732,  75.0647,  745,   -999,    743.1,  -1.8930,  34.5570,2,  34.5570,2,    318.6,2, -1.9130,    319.3,2,    67.20,2,    31.26,2,     2.04,2