BOTTLE,20070829WHPSIODBK
EXPOCODE,SECT_ID,STNNBR,CASTNO,SAMPNO,BTLNBR,BTLNBR_FLAG_W,DATE,TIME,LATITUDE,LONGITUDE,DEPTH,CTDRAW,CTDPRS,CTDTMP,CTDSAL,CTDSAL_FLAG_W,SALNTY,SALNTY_FLAG_W,CTDOXY,CTDOXY_FLAG_W,THETA,OXYGEN,OXYGEN_FLAG_W,SILCAT,SILCAT_FLAG_W,NO2+NO3,NO2+NO3_FLAG_W,PHSPHT,PHSPHT_FLAG_W
,,,,,,,,,,,,,DBAR,DEGC,PSS-78,,PSS-78,,UMOL/KG,,DEGC,UMOL/KG,,UMOL/KG,,UMOL/KG,,UMOL/KG,
  09AR20020126, AIS01,    24,  1,     12,     16,2,20020212,0506,-68.5822,  71.9512,  436,   -999,     10.8,  -1.8490,  33.9600,2,  33.9620,2,    393.3,3, -1.8500,    365.5,2,    50.20,2,    27.03,2,     1.73,2
  09AR20020126, AIS01,    24,  1,     11,     11,2,20020212,0506,-68.5822,  71.9512,  436,   -999,     32.5,  -1.8230,  34.1020,2,  34.0910,2,    349.5,2, -1.8240,    349.7,2,    54.30,2,    28.53,2,     1.87,2
  09AR20020126, AIS01,    24,  1,     10,     10,2,20020212,0506,-68.5822,  71.9512,  436,   -999,     62.3,  -1.8090,  34.2430,2,  34.2360,2,    341.2,2, -1.8110,    341.5,2,    55.90,2,    29.28,2,     1.91,2
  09AR20020126, AIS01,    24,  1,      9,     17,2,20020212,0506,-68.5822,  71.9512,  436,   -999,     91.4,  -1.8330,  34.3270,2,  34.3310,2,    335.0,2, -1.8350,    334.5,2,    57.60,2,    30.09,2,     1.96,2
  09AR20020126, AIS01,    24,  1,      8,      8,2,20020212,0506,-68.5822,  71.9512,  436,   -999,    121.1,  -1.8260,  34.3450,2,  34.3500,2,    331.7,2, -1.8290,    332.7,2,    58.20,2,    30.27,2,     1.96,2
  09AR20020126, AIS01,    24,  1,      7,      7,2,20020212,0506,-68.5822,  71.9512,  436,   -999,    161.7,  -1.9880,  34.4260,2,  34.4260,2,    325.8,2, -1.9920,    326.9,2,    63.20,3,    31.03,2,     1.97,2
  09AR20020126, AIS01,    24,  1,      6,     24,2,20020212,0506,-68.5822,  71.9512,  436,   -999,    201.0,  -2.0240,  34.4390,2,  34.4410,2,    326.8,2, -2.0280,    326.1,2,    62.00,2,    31.14,2,     2.00,2
  09AR20020126, AIS01,    24,  1,      5,    105,2,20020212,0506,-68.5822,  71.9512,  436,   -999,    251.4,  -2.0220,  34.4550,2,  34.4550,2,    325.2,2, -2.0270,    325.7,2,    63.40,2,    31.34,2,     2.01,2
  09AR20020126, AIS01,    24,  1,      4,      4,2,20020212,0506,-68.5822,  71.9512,  436,   -999,    301.2,  -1.9780,  34.4750,2,  34.4740,2,    324.7,2, -1.9850,    324.4,2,    64.30,2,    31.27,2,     2.00,2
  09AR20020126, AIS01,    24,  1,      3,     21,2,20020212,0506,-68.5822,  71.9512,  436,   -999,    351.2,  -1.9380,  34.5010,2,  34.5000,2,    324.3,2, -1.9460,    324.5,2,    63.50,2,    31.30,2,     2.00,2
  09AR20020126, AIS01,    24,  1,      2,      2,2,20020212,0506,-68.5822,  71.9512,  436,   -999,    393.2,  -1.9380,  34.5140,2,  34.5120,2,    326.1,2, -1.9470,    325.4,2,    62.60,2,    31.32,2,     2.00,2
  09AR20020126, AIS01,    24,  1,      1,      1,2,20020212,0506,-68.5822,  71.9512,  436,   -999,    432.7,  -1.9200,  34.5270,2,  34.5260,2,    325.7,2, -1.9300,    325.5,2,    63.70,2,    31.31,2,     2.01,2
  09AR20020126, AIS01,    25,  1,     12,     16,2,20020212,0730,-68.5872,  72.2142,  501,   -999,     10.9,  -1.8430,  33.8240,2,  33.8240,2,    369.6,3, -1.8440,    367.9,2,    48.20,2,    26.42,2,     1.59,2
  09AR20020126, AIS01,    25,  1,     11,     11,2,20020212,0730,-68.5872,  72.2142,  501,   -999,     27.6,  -1.8570,  33.8310,2,  33.8400,2,    365.7,2, -1.8580,    367.7,2,    49.00,2,    26.57,2,     1.66,2
  09AR20020126, AIS01,    25,  1,     10,     10,2,20020212,0730,-68.5872,  72.2142,  501,   -999,     50.8,  -1.7900,  34.1140,2,  34.1700,4,    346.0,2, -1.7910,    345.7,2,    54.80,2,    28.86,2,     1.87,2
  09AR20020126, AIS01,    25,  1,      9,     17,2,20020212,0730,-68.5872,  72.2142,  501,   -999,     90.4,  -1.7900,  34.3400,2,  34.3440,2,    333.7,2, -1.7920,    334.0,2,    56.90,2,    30.28,2,     1.95,2
  09AR20020126, AIS01,    25,  1,      8,      8,2,20020212,0730,-68.5872,  72.2142,  501,   -999,    119.8,  -1.8170,  34.3880,2,  34.3930,2,    329.7,2, -1.8200,    330.4,2,    58.80,2,    30.75,2,     1.97,2
  09AR20020126, AIS01,    25,  1,      7,      7,2,20020212,0730,-68.5872,  72.2142,  501,   -999,    160.6,  -1.8450,  34.4200,2,  34.4370,4,    329.4,2, -1.8490,    327.5,2,    60.20,2,    30.98,2,     1.99,2
  09AR20020126, AIS01,    25,  1,      6,     24,2,20020212,0730,-68.5872,  72.2142,  501,   -999,    200.7,  -1.9060,  34.4370,2,  34.4370,2,    326.5,2, -1.9110,    327.6,2,    60.70,2,    30.86,2,     1.99,2
  09AR20020126, AIS01,    25,  1,      5,    105,2,20020212,0730,-68.5872,  72.2142,  501,   -999,    300.5,  -2.0030,  34.4550,2,  34.4550,2,    326.5,2, -2.0100,    326.2,2,    63.30,2,    31.22,2,     2.01,2
  09AR20020126, AIS01,    25,  1,      4,      4,2,20020212,0730,-68.5872,  72.2142,  501,   -999,    350.8,  -1.9580,  34.4750,2,  34.4760,2,    326.1,2, -1.9660,    325.5,2,    62.60,2,    31.32,2,     2.03,2
  09AR20020126, AIS01,    25,  1,      3,     21,2,20020212,0730,-68.5872,  72.2142,  501,   -999,    400.7,  -1.9900,  34.5000,2,  34.4990,2,    327.4,2, -1.9990,    326.5,2,    63.70,2,    31.35,2,     2.02,2
  09AR20020126, AIS01,    25,  1,      2,      2,2,20020212,0730,-68.5872,  72.2142,  501,   -999,    451.3,  -1.9550,  34.5150,2,  34.5120,2,    325.3,2, -1.9660,    325.9,2,    63.10,2,    31.43,2,     2.01,2
  09AR20020126, AIS01,    25,  1,      1,      1,2,20020212,0730,-68.5872,  72.2142,  501,   -999,    500.3,  -1.9250,  34.5270,2,  34.5250,2,    324.7,2, -1.9370,    325.8,2,    63.20,2,    31.33,2,     2.00,2
  09AR20020126, AIS01,    26,  1,     12,     16,4,20020212,1542,-68.5837,  72.4577,  502,   -999,     10.7,  -1.8440,  33.7090,2,-999.0000,9,    434.8,3, -1.8450,   -999.0,9,  -999.00,9,  -999.00,9,  -999.00,9
  09AR20020126, AIS01,    26,  1,     11,     11,2,20020212,1542,-68.5837,  72.4577,  502,   -999,     42.0,  -1.8470,  34.0980,2,  34.1110,4,    351.6,2, -1.8480,    351.6,2,    56.30,2,    28.59,2,     1.92,2
  09AR20020126, AIS01,    26,  1,     10,     10,2,20020212,1542,-68.5837,  72.4577,  502,   -999,     83.0,  -1.8340,  34.2460,2,  34.2440,2,    342.3,2, -1.8360,    343.7,2,    57.90,2,    29.51,2,     1.89,3
  09AR20020126, AIS01,    26,  1,      9,     17,2,20020212,1542,-68.5837,  72.4577,  502,   -999,    120.6,  -1.8180,  34.3230,2,  34.3280,2,    336.3,2, -1.8210,    336.0,2,    59.30,2,    30.15,2,     1.95,2
  09AR20020126, AIS01,    26,  1,      8,      8,2,20020212,1542,-68.5837,  72.4577,  502,   -999,    160.8,  -1.8420,  34.3800,2,  34.3800,2,    332.5,2, -1.8460,    330.7,2,    59.80,2,    30.69,2,     1.99,2
  09AR20020126, AIS01,    26,  1,      7,      7,2,20020212,1542,-68.5837,  72.4577,  502,   -999,    201.9,  -1.8810,  34.3980,2,  34.4360,4,    328.5,2, -1.8860,    328.6,2,    60.80,2,    30.94,2,     1.99,2
  09AR20020126, AIS01,    26,  1,      6,     24,2,20020212,1542,-68.5837,  72.4577,  502,   -999,    250.8,  -1.8580,  34.4380,2,  34.4360,2,    326.3,2, -1.8640,    328.3,2,    60.00,2,    30.90,2,     2.00,2
  09AR20020126, AIS01,    26,  1,      5,    105,2,20020212,1542,-68.5837,  72.4577,  502,   -999,    301.3,  -2.0140,  34.4470,2,  34.4460,2,    325.9,2, -2.0210,    326.7,2,    62.00,2,    31.31,2,     2.02,2
  09AR20020126, AIS01,    26,  1,      4,      4,2,20020212,1542,-68.5837,  72.4577,  502,   -999,    350.7,  -2.0060,  34.4550,2,  34.4530,2,    325.1,2, -2.0140,    325.9,2,    63.60,2,    31.30,2,     2.03,2
  09AR20020126, AIS01,    26,  1,      3,     21,2,20020212,1542,-68.5837,  72.4577,  502,   -999,    401.4,  -1.9970,  34.4710,2,  34.4720,2,    326.0,2, -2.0060,    325.1,2,    63.40,2,    31.36,2,     1.98,3
  09AR20020126, AIS01,    26,  1,      2,      2,2,20020212,1542,-68.5837,  72.4577,  502,   -999,    451.3,  -1.9870,  34.4950,2,  34.4980,2,    326.7,2, -1.9970,    325.6,2,    63.80,2,    31.37,2,     1.97,3
  09AR20020126, AIS01,    26,  1,      1,      1,2,20020212,1542,-68.5837,  72.4577,  502,   -999,    494.0,  -1.9470,  34.5130,2,  34.5110,2,    325.4,2, -1.9590,    326.6,2,    63.70,2,    31.33,2,     2.02,2
  09AR20020126, AIS01,    27,  1,     12,     16,2,20020212,1744,-68.6467,  72.7200,  510,   -999,     11.9,  -1.8350,  33.8290,3,  33.8950,4,    366.5,3, -1.8360,    364.6,2,    50.10,2,    26.76,2,     1.73,2
  09AR20020126, AIS01,    27,  1,     11,     11,2,20020212,1744,-68.6467,  72.7200,  510,   -999,     22.3,  -1.8000,  34.0360,2,  34.0480,4,    375.6,3, -1.8010,    354.9,2,    53.10,2,    27.99,2,     1.84,2
  09AR20020126, AIS01,    27,  1,     10,     10,2,20020212,1744,-68.6467,  72.7200,  510,   -999,     42.0,  -1.8430,  34.1100,2,  34.1160,4,    349.5,2, -1.8440,    352.4,2,    52.10,2,    28.38,2,     1.89,2
  09AR20020126, AIS01,    27,  1,      9,     17,2,20020212,1744,-68.6467,  72.7200,  510,   -999,     62.3,  -1.8470,  34.1590,2,  34.1680,4,    344.7,2, -1.8490,    347.9,2,    54.70,2,    28.80,2,     1.92,2
  09AR20020126, AIS01,    27,  1,      8,      8,2,20020212,1744,-68.6467,  72.7200,  510,   -999,     81.8,  -1.8230,  34.2010,2,  34.2210,4,    345.7,2, -1.8250,    345.3,2,    58.90,2,    29.05,2,     1.91,2
  09AR20020126, AIS01,    27,  1,      7,      7,2,20020212,1744,-68.6467,  72.7200,  510,   -999,    103.5,  -1.8280,  34.2770,2,  34.3510,4,    342.8,2, -1.8300,    336.2,4,    57.70,3,    30.22,3,     1.95,3
  09AR20020126, AIS01,    27,  1,      6,     24,2,20020212,1744,-68.6467,  72.7200,  510,   -999,    152.0,  -1.8250,  34.3410,2,  34.3510,3,    338.2,2, -1.8290,    336.4,2,    59.10,2,    30.27,2,     1.91,2
  09AR20020126, AIS01,    27,  1,      5,    105,2,20020212,1744,-68.6467,  72.7200,  510,   -999,    183.2,  -1.8340,  34.3720,2,  34.3710,2,    335.7,2, -1.8380,    334.1,2,    58.10,2,    30.48,2,     1.97,2
  09AR20020126, AIS01,    27,  1,      4,      4,2,20020212,1744,-68.6467,  72.7200,  510,   -999,    232.4,  -2.1040,  34.4360,2,  34.4370,2,    328.9,2, -2.1090,    326.4,2,    61.40,2,    31.18,2,     2.03,2
  09AR20020126, AIS01,    27,  1,      3,     21,2,20020212,1744,-68.6467,  72.7200,  510,   -999,    352.3,  -2.1050,  34.4430,2,  34.4430,2,    324.5,2, -2.1130,    326.1,2,    62.80,2,    31.24,2,     1.98,2
  09AR20020126, AIS01,    27,  1,      2,      2,2,20020212,1744,-68.6467,  72.7200,  510,   -999,    452.5,  -1.9730,  34.4970,2,  34.4960,2,    324.6,2, -1.9840,    325.5,2,    62.00,2,    31.10,2,     1.99,2
  09AR20020126, AIS01,    27,  1,      1,      1,2,20020212,1744,-68.6467,  72.7200,  510,   -999,    500.3,  -1.9200,  34.5180,2,  34.5180,2,    324.8,2, -1.9320,    324.7,2,    61.60,2,    31.11,2,     2.01,2
  09AR20020126, AIS01,    28,  1,     12,     16,2,20020212,1931,-68.7027,  72.9227,  700,   -999,     11.1,  -1.8310,  33.1930,4,  33.2320,4,    407.0,3, -1.8320,    409.0,2,    35.10,2,    19.97,2,     1.09,2
  09AR20020126, AIS01,    28,  1,     11,     11,2,20020212,1931,-68.7027,  72.9227,  700,   -999,     26.4,  -1.8220,  33.7600,2,  33.7780,4,    372.3,2, -1.8230,    371.5,2,    47.90,2,    25.59,2,     1.60,2
  09AR20020126, AIS01,    28,  1,     10,     10,2,20020212,1931,-68.7027,  72.9227,  700,   -999,     51.4,  -1.8380,  34.0950,2,  34.1120,4,    354.4,2, -1.8390,    353.7,2,    54.90,2,    28.35,2,     1.88,2
  09AR20020126, AIS01,    28,  1,      9,     17,2,20020212,1931,-68.7027,  72.9227,  700,   -999,    102.0,  -1.8220,  34.1780,2,  34.1990,4,    348.3,2, -1.8240,    347.6,2,    56.90,2,    28.91,2,     1.89,2
  09AR20020126, AIS01,    28,  1,      8,      8,2,20020212,1931,-68.7027,  72.9227,  700,   -999,    151.2,  -1.8160,  34.3660,2,  34.3710,2,    334.2,2, -1.8200,    333.3,2,    56.50,2,    30.37,2,     1.96,2
  09AR20020126, AIS01,    28,  1,      7,      7,2,20020212,1931,-68.7027,  72.9227,  700,   -999,    201.6,  -1.8610,  34.4010,2,  34.3990,2,    327.1,2, -1.8660,    329.0,2,    58.30,2,    30.63,2,     1.96,2
  09AR20020126, AIS01,    28,  1,      6,     24,2,20020212,1931,-68.7027,  72.9227,  700,   -999,    252.3,  -1.8680,  34.4170,2,  34.4140,2,    329.1,2, -1.8740,    329.3,2,    59.60,2,    30.61,2,     1.96,2
  09AR20020126, AIS01,    28,  1,      5,    105,2,20020212,1931,-68.7027,  72.9227,  700,   -999,    351.8,  -2.1130,  34.4380,2,  34.4360,2,    327.5,2, -2.1200,    326.6,2,    62.20,2,    31.13,2,     2.03,2
  09AR20020126, AIS01,    28,  1,      4,      4,2,20020212,1931,-68.7027,  72.9227,  700,   -999,    402.1,  -2.1090,  34.4400,2,  34.4380,2,    326.6,2, -2.1180,    326.7,2,    62.00,2,    31.14,2,     1.99,2
  09AR20020126, AIS01,    28,  1,      3,     21,2,20020212,1931,-68.7027,  72.9227,  700,   -999,    501.3,  -2.0110,  34.4750,2,  34.4750,2,    325.7,2, -2.0230,    324.9,2,    62.10,2,    31.15,2,     2.01,2
  09AR20020126, AIS01,    28,  1,      2,      2,2,20020212,1931,-68.7027,  72.9227,  700,   -999,    600.7,  -1.9760,  34.5190,2,  34.5170,2,    327.2,2, -1.9910,    325.5,2,    62.90,2,    31.09,2,     1.98,2
  09AR20020126, AIS01,    28,  1,      1,      1,2,20020212,1931,-68.7027,  72.9227,  700,   -999,    688.5,  -1.9000,  34.5650,2,  34.5630,2,    324.2,2, -1.9180,    324.5,2,    63.20,2,    31.25,2,     2.01,2
  09AR20020126, AIS01,    29,  1,     12,     16,2,20020212,2207,-68.7550,  73.1375,  788,   -999,     11.3,  -1.8080,  32.9390,2,  33.1200,4,    404.5,3, -1.8090,    405.0,2,    32.50,2,    18.89,2,     1.02,2
  09AR20020126, AIS01,    29,  1,     11,     11,2,20020212,2207,-68.7550,  73.1375,  788,   -999,     26.2,  -1.8250,  33.3740,2,  33.4620,4,    388.8,2, -1.8260,    391.0,2,    42.30,2,    22.59,2,     1.33,2
  09AR20020126, AIS01,    29,  1,     10,     10,2,20020212,2207,-68.7550,  73.1375,  788,   -999,     51.9,  -1.8380,  34.1210,2,  34.1230,2,    358.4,2, -1.8390,    352.5,2,    56.10,2,    28.44,2,     1.89,2
  09AR20020126, AIS01,    29,  1,      9,     17,2,20020212,2207,-68.7550,  73.1375,  788,   -999,    102.0,  -1.8070,  34.2360,2,  34.2370,2,    345.7,2, -1.8090,    346.4,2,    56.90,2,    29.21,2,     1.93,2
  09AR20020126, AIS01,    29,  1,      8,      8,2,20020212,2207,-68.7550,  73.1375,  788,   -999,    131.8,  -1.7980,  34.2850,2,  34.2860,2,    342.8,2, -1.8010,    343.2,2,    56.40,2,    29.52,2,     1.94,2
  09AR20020126, AIS01,    29,  1,      7,      7,2,20020212,2207,-68.7550,  73.1375,  788,   -999,    201.8,  -1.8720,  34.4010,2,  34.4020,2,    330.4,2, -1.8770,    328.5,2,    58.80,2,    30.75,2,     1.99,2
  09AR20020126, AIS01,    29,  1,      6,     24,2,20020212,2207,-68.7550,  73.1375,  788,   -999,    251.7,  -1.9730,  34.4090,2,  34.4080,2,    326.3,2, -1.9790,    326.7,2,    58.70,2,    30.95,2,     2.00,2
  09AR20020126, AIS01,    29,  1,      5,    105,2,20020212,2207,-68.7550,  73.1375,  788,   -999,    352.0,  -1.8810,  34.4330,2,  34.4330,2,    325.5,2, -1.8890,    327.7,2,    56.30,3,    30.65,2,     1.98,2
  09AR20020126, AIS01,    29,  1,      4,      4,2,20020212,2207,-68.7550,  73.1375,  788,   -999,    402.4,  -1.9170,  34.4440,2,  34.4440,2,    323.5,2, -1.9260,    326.4,2,    61.20,2,    30.92,2,     2.00,2
  09AR20020126, AIS01,    29,  1,      3,     21,2,20020212,2207,-68.7550,  73.1375,  788,   -999,    501.6,  -1.8820,  34.4740,2,  34.4750,2,    321.3,2, -1.8940,    322.9,2,    61.30,2,    31.07,2,     2.01,2
  09AR20020126, AIS01,    29,  1,      2,      2,2,20020212,2207,-68.7550,  73.1375,  788,   -999,    603.1,  -1.8920,  34.4980,2,  34.4980,2,    322.5,2, -1.9070,    323.6,2,    61.80,2,    31.07,2,     2.02,2
  09AR20020126, AIS01,    29,  1,      1,      1,2,20020212,2207,-68.7550,  73.1375,  788,   -999,    778.1,  -1.9010,  34.5570,2,  34.5550,2,    324.1,2, -1.9220,    320.9,2,    63.50,2,    31.23,2,     1.79,4
  09AR20020126, AIS01,    31,  1,     12,     16,2,20020213,0332,-68.8675,  73.4877,  774,   -999,     11.0,  -1.6390,  32.9140,3,  33.0050,4,    371.5,3, -1.6400,    399.6,2,    24.90,2,    15.75,2,     0.83,2
  09AR20020126, AIS01,    31,  1,     11,     11,2,20020213,0332,-68.8675,  73.4877,  774,   -999,     26.1,  -1.3960,  33.6980,4,  33.7350,2,    374.0,2, -1.3970,    373.5,2,    38.20,2,    22.91,2,     1.56,2
  09AR20020126, AIS01,    31,  1,     10,     10,2,20020213,0332,-68.8675,  73.4877,  774,   -999,     50.9,  -1.6730,  34.0910,2,  34.1080,2,    349.1,2, -1.6740,    350.5,2,    50.80,2,    27.53,2,     1.91,2
  09AR20020126, AIS01,    31,  1,      9,     17,2,20020213,0332,-68.8675,  73.4877,  774,   -999,    101.3,  -1.8310,  34.2800,2,  34.2810,2,    342.0,2, -1.8330,    342.4,2,    52.50,2,    29.33,2,     1.89,2
  09AR20020126, AIS01,    31,  1,      8,      8,2,20020213,0332,-68.8675,  73.4877,  774,   -999,    121.1,  -1.8300,  34.3090,2,  34.3080,2,    340.4,2, -1.8330,    340.3,2,    52.90,2,    29.50,2,     1.93,2
  09AR20020126, AIS01,    31,  1,      7,      7,2,20020213,0332,-68.8675,  73.4877,  774,   -999,    251.2,  -1.9040,  34.4350,2,  34.4330,2,    327.4,2, -1.9100,    327.0,2,    56.80,2,    30.54,2,     1.94,2
  09AR20020126, AIS01,    31,  1,      6,     24,2,20020213,0332,-68.8675,  73.4877,  774,   -999,    361.3,  -1.8940,  34.4590,2,  34.4590,2,    323.6,2, -1.9020,    323.4,2,    55.40,2,    30.58,2,     1.98,2
  09AR20020126, AIS01,    31,  1,      5,    105,2,20020213,0332,-68.8675,  73.4877,  774,   -999,    421.2,  -1.9020,  34.4700,2,  34.4620,3,    322.8,2, -1.9120,    323.1,2,    60.30,2,    30.75,2,     1.99,2
  09AR20020126, AIS01,    31,  1,      4,      4,2,20020213,0332,-68.8675,  73.4877,  774,   -999,    521.0,  -1.8890,  34.4970,2,  34.4960,2,    322.7,2, -1.9020,    322.6,2,    60.70,2,    30.86,2,     2.01,2
  09AR20020126, AIS01,    31,  1,      3,     21,2,20020213,0332,-68.8675,  73.4877,  774,   -999,    601.1,  -1.8910,  34.5100,2,  34.5100,2,    323.1,2, -1.9060,    324.2,2,    59.50,2,    30.76,2,     1.99,2
  09AR20020126, AIS01,    31,  1,      2,      2,4,20020213,0332,-68.8675,  73.4877,  774,   -999,    701.5,  -1.9040,  34.5300,2,-999.0000,9,    323.5,2, -1.9220,   -999.0,9,  -999.00,9,  -999.00,9,  -999.00,9
  09AR20020126, AIS01,    31,  1,      1,      1,2,20020213,0332,-68.8675,  73.4877,  774,   -999,    770.3,  -1.8970,  34.5630,2,  34.5620,2,    322.8,2, -1.9180,    322.2,2,    61.60,2,    30.63,2,     2.02,2