BOTTLE,20070829WHPSIODBK
EXPOCODE,SECT_ID,STNNBR,CASTNO,SAMPNO,BTLNBR,BTLNBR_FLAG_W,DATE,TIME,LATITUDE,LONGITUDE,DEPTH,CTDRAW,CTDPRS,CTDTMP,CTDSAL,CTDSAL_FLAG_W,SALNTY,SALNTY_FLAG_W,CTDOXY,CTDOXY_FLAG_W,THETA,OXYGEN,OXYGEN_FLAG_W,SILCAT,SILCAT_FLAG_W,NO2+NO3,NO2+NO3_FLAG_W,PHSPHT,PHSPHT_FLAG_W
,,,,,,,,,,,,,DBAR,DEGC,PSS-78,,PSS-78,,UMOL/KG,,DEGC,UMOL/KG,,UMOL/KG,,UMOL/KG,,UMOL/KG,
  09AR20020126, AIS01,    10,  1,     12,     12,2,20020209,1848,-68.5432,  71.9432,  433,   -999,     10.5,  -1.7360,  33.5900,2,  33.5910,2,    376.7,3, -1.7370,    377.8,2,    44.40,2,    24.90,2,     1.42,2
  09AR20020126, AIS01,    10,  1,     11,     11,2,20020209,1848,-68.5432,  71.9432,  433,   -999,     25.2,  -1.8120,  33.6860,2,  33.6970,2,    359.1,3, -1.8130,    372.8,2,    46.80,2,    25.50,2,     1.49,2
  09AR20020126, AIS01,    10,  1,     10,     10,2,20020209,1848,-68.5432,  71.9432,  433,   -999,     49.6,  -1.8050,  34.2830,2,  34.2810,2,    339.2,2, -1.8060,    339.0,2,    59.60,2,    29.50,2,     1.87,2
  09AR20020126, AIS01,    10,  1,      9,      9,2,20020209,1848,-68.5432,  71.9432,  433,   -999,     75.5,  -1.8270,  34.3600,2,  34.3600,2,    334.3,2, -1.8290,    331.7,2,    58.50,2,    30.18,2,     1.91,2
  09AR20020126, AIS01,    10,  1,      8,      8,2,20020209,1848,-68.5432,  71.9432,  433,   -999,     99.9,  -1.8840,  34.3970,2,  34.3960,2,    328.7,2, -1.8860,    328.6,2,    58.50,2,    30.57,2,     1.89,2
  09AR20020126, AIS01,    10,  1,      7,      7,2,20020209,1848,-68.5432,  71.9432,  433,   -999,    149.6,  -1.8990,  34.4210,2,  34.4200,2,    328.4,2, -1.9020,    327.8,2,    59.20,2,    30.62,2,     1.97,2
  09AR20020126, AIS01,    10,  1,      6,      6,2,20020209,1848,-68.5432,  71.9432,  433,   -999,    200.0,  -2.0290,  34.4430,2,  34.4420,2,    325.7,2, -2.0330,    326.1,2,    61.80,2,    31.09,2,     1.93,2
  09AR20020126, AIS01,    10,  1,      5,    105,2,20020209,1848,-68.5432,  71.9432,  433,   -999,    249.7,  -2.0240,  34.4470,2,  34.4500,2,    323.5,2, -2.0290,    326.1,2,    61.40,2,    31.06,2,     1.92,2
  09AR20020126, AIS01,    10,  1,      4,      4,2,20020209,1848,-68.5432,  71.9432,  433,   -999,    299.5,  -1.9950,  34.4570,2,  34.4570,2,    324.8,2, -2.0020,    325.2,2,    61.60,2,    31.11,2,     1.94,2
  09AR20020126, AIS01,    10,  1,      3,    103,2,20020209,1848,-68.5432,  71.9432,  433,   -999,    349.5,  -2.0130,  34.4820,2,  34.4810,2,    325.9,2, -2.0210,   -999.0,9,    62.90,2,    31.18,2,     1.95,2
  09AR20020126, AIS01,    10,  1,      2,      2,2,20020209,1848,-68.5432,  71.9432,  433,   -999,    399.7,  -1.9560,  34.5060,2,  34.5050,2,    325.7,2, -1.9650,    325.3,2,    62.40,2,    31.15,2,     1.96,2
  09AR20020126, AIS01,    10,  1,      1,      1,2,20020209,1848,-68.5432,  71.9432,  433,   -999,    427.5,  -1.9310,  34.5220,2,  34.5220,2,    326.4,2, -1.9410,    324.8,2,    62.80,2,    31.14,2,     1.96,2
  09AR20020126, AIS01,    11,  1,     12,     12,2,20020209,2048,-68.5832,  72.2267,  492,   -999,      9.4,  -1.8550,  33.8650,2,  33.8650,2,    352.0,3, -1.8560,    371.3,2,    47.80,2,    26.34,2,     1.55,2
  09AR20020126, AIS01,    11,  1,     11,     11,2,20020209,2048,-68.5832,  72.2267,  492,   -999,     24.7,  -1.8500,  33.8790,2,  33.8800,2,    370.2,2, -1.8510,    369.0,2,    48.00,2,    26.40,2,     1.64,2
  09AR20020126, AIS01,    11,  1,     10,     10,2,20020209,2048,-68.5832,  72.2267,  492,   -999,     50.4,  -1.8340,  33.9710,2,  33.9600,2,    356.5,2, -1.8350,    360.5,2,    51.70,2,    27.32,2,     1.70,2
  09AR20020126, AIS01,    11,  1,      9,      9,2,20020209,2048,-68.5832,  72.2267,  492,   -999,     99.4,  -1.8340,  34.3650,2,  34.3640,2,    335.6,2, -1.8360,    331.9,2,    58.40,2,    30.53,2,     1.91,2
  09AR20020126, AIS01,    11,  1,      8,      8,2,20020209,2048,-68.5832,  72.2267,  492,   -999,    149.6,  -1.8960,  34.4030,2,  34.4020,2,    328.9,2, -1.8990,    327.5,2,    60.00,2,    30.80,2,     1.92,2
  09AR20020126, AIS01,    11,  1,      7,      7,2,20020209,2048,-68.5832,  72.2267,  492,   -999,    200.0,  -2.0070,  34.4380,2,  34.4370,2,    326.1,2, -2.0110,    326.5,2,    62.60,2,    31.17,2,     1.96,2
  09AR20020126, AIS01,    11,  1,      6,      6,2,20020209,2048,-68.5832,  72.2267,  492,   -999,    250.3,  -2.0280,  34.4440,2,  34.4430,2,    324.5,2, -2.0330,    326.6,2,    62.00,2,    31.19,2,     1.92,2
  09AR20020126, AIS01,    11,  1,      5,    105,2,20020209,2048,-68.5832,  72.2267,  492,   -999,    300.4,  -2.0340,  34.4540,2,  34.4520,2,    321.8,2, -2.0410,    325.7,2,    62.60,2,    31.39,2,     1.97,2
  09AR20020126, AIS01,    11,  1,      4,      4,2,20020209,2048,-68.5832,  72.2267,  492,   -999,    349.8,  -1.9930,  34.4690,2,  34.4690,2,    326.3,2, -2.0010,    324.4,2,    61.70,2,    31.42,2,     1.88,3
  09AR20020126, AIS01,    11,  1,      3,    103,2,20020209,2048,-68.5832,  72.2267,  492,   -999,    399.6,  -1.9950,  34.4970,2,  34.4970,2,    327.0,2, -2.0040,    325.8,2,    56.40,3,    31.40,2,     1.95,2
  09AR20020126, AIS01,    11,  1,      2,      2,2,20020209,2048,-68.5832,  72.2267,  492,   -999,    453.6,  -1.9310,  34.5170,2,  34.5180,2,    327.7,2, -1.9420,    325.5,2,    62.80,2,    31.42,2,     1.96,2
  09AR20020126, AIS01,    11,  1,      1,      1,2,20020209,2048,-68.5832,  72.2267,  492,   -999,    485.5,  -1.9250,  34.5230,2,  34.5230,2,    324.8,2, -1.9370,    327.4,2,    62.20,2,    31.42,2,     1.93,2
  09AR20020126, AIS01,    12,  1,     12,     12,2,20020210,0151,-68.5812,  71.9390,  440,   -999,     10.4,  -1.8560,  33.8360,2,  33.8360,2,   -999.0,5, -1.8570,    370.0,2,    48.10,2,    26.12,2,     1.56,2
  09AR20020126, AIS01,    12,  1,     11,     11,2,20020210,0151,-68.5812,  71.9390,  440,   -999,     25.5,  -1.8480,  33.8430,2,  33.8380,2,   -999.0,5, -1.8490,    369.9,2,    47.90,2,    26.04,2,     1.63,2
  09AR20020126, AIS01,    12,  1,     10,     10,2,20020210,0151,-68.5812,  71.9390,  440,   -999,     50.9,  -1.7850,  34.1720,2,  34.1850,2,   -999.0,5, -1.7860,    345.9,2,    53.90,2,    28.57,2,     1.80,2
  09AR20020126, AIS01,    12,  1,      9,      9,2,20020210,0151,-68.5812,  71.9390,  440,   -999,     76.1,  -1.8280,  34.3530,2,  34.3550,2,   -999.0,5, -1.8300,    332.3,2,    58.00,2,    29.93,2,     1.90,2
  09AR20020126, AIS01,    12,  1,      8,      8,4,20020210,0151,-68.5812,  71.9390,  440,   -999,    101.1,  -1.8590,  34.3930,2,-999.0000,9,   -999.0,5, -1.8610,   -999.0,9,  -999.00,9,  -999.00,9,  -999.00,9
  09AR20020126, AIS01,    12,  1,      7,      7,2,20020210,0151,-68.5812,  71.9390,  440,   -999,    150.9,  -1.9030,  34.4220,2,  34.4240,2,   -999.0,5, -1.9060,    327.3,2,  -999.00,9,  -999.00,9,  -999.00,9
  09AR20020126, AIS01,    12,  1,      6,      6,2,20020210,0151,-68.5812,  71.9390,  440,   -999,    200.6,  -2.0040,  34.4400,2,-999.0000,9,   -999.0,5, -2.0080,   -999.0,9,  -999.00,9,  -999.00,9,  -999.00,9
  09AR20020126, AIS01,    12,  1,      5,    105,2,20020210,0151,-68.5812,  71.9390,  440,   -999,    250.6,  -2.0360,  34.4500,2,-999.0000,9,   -999.0,5, -2.0410,   -999.0,9,  -999.00,9,  -999.00,9,  -999.00,9
  09AR20020126, AIS01,    12,  1,      4,      4,2,20020210,0151,-68.5812,  71.9390,  440,   -999,    300.7,  -2.0530,  34.4580,2,-999.0000,9,   -999.0,5, -2.0590,   -999.0,9,  -999.00,9,  -999.00,9,  -999.00,9
  09AR20020126, AIS01,    12,  1,      3,    103,2,20020210,0151,-68.5812,  71.9390,  440,   -999,    351.8,  -2.0130,  34.4850,2,  34.4870,2,   -999.0,5, -2.0210,    324.8,2,  -999.00,9,  -999.00,9,  -999.00,9
  09AR20020126, AIS01,    12,  1,      2,      2,2,20020210,0151,-68.5812,  71.9390,  440,   -999,    402.5,  -1.9250,  34.5250,2,-999.0000,9,   -999.0,5, -1.9340,   -999.0,9,  -999.00,9,  -999.00,9,  -999.00,9
  09AR20020126, AIS01,    12,  1,      1,      1,2,20020210,0151,-68.5812,  71.9390,  440,   -999,    441.4,  -1.9210,  34.5280,2,-999.0000,9,   -999.0,5, -1.9310,   -999.0,9,  -999.00,9,  -999.00,9,  -999.00,9
  09AR20020126, AIS01,    13,  1,     12,     12,2,20020210,0419,-68.5765,  71.9442,  437,   -999,     10.3,  -1.8540,  33.8350,2,  33.8350,2,    370.1,3, -1.8550,    370.5,2,    44.20,3,    26.01,2,     1.59,2
  09AR20020126, AIS01,    13,  1,     11,     11,2,20020210,0419,-68.5765,  71.9442,  437,   -999,     26.3,  -1.8500,  33.8370,2,  33.8380,2,    335.1,3, -1.8510,    369.9,2,    44.40,3,    26.06,2,     1.62,2
  09AR20020126, AIS01,    13,  1,     10,     10,2,20020210,0419,-68.5765,  71.9442,  437,   -999,     52.2,  -1.7890,  34.2340,2,  34.2320,2,    336.7,2, -1.7900,    342.4,2,    50.50,3,    29.02,2,     1.80,2
  09AR20020126, AIS01,    13,  1,      9,      9,2,20020210,0419,-68.5765,  71.9442,  437,   -999,     77.1,  -1.8270,  34.3570,2,  34.3540,2,    334.0,2, -1.8290,    331.8,2,    50.90,3,    29.92,2,     1.91,2
  09AR20020126, AIS01,    13,  1,      8,      8,2,20020210,0419,-68.5765,  71.9442,  437,   -999,    101.5,  -1.8620,  34.3920,2,  34.3910,2,    330.2,2, -1.8640,    328.8,2,    51.40,3,    30.42,2,     1.93,2
  09AR20020126, AIS01,    13,  1,      7,      7,2,20020210,0419,-68.5765,  71.9442,  437,   -999,    151.0,  -1.8800,  34.4220,2,  34.4220,2,    329.5,2, -1.8830,    326.7,2,    54.20,3,    30.60,2,     1.93,2
  09AR20020126, AIS01,    13,  1,      6,      6,2,20020210,0419,-68.5765,  71.9442,  437,   -999,    201.6,  -2.0050,  34.4370,2,  34.4380,2,    323.3,2, -2.0090,    326.0,2,    55.40,3,    30.94,2,     1.96,2
  09AR20020126, AIS01,    13,  1,      5,    105,2,20020210,0419,-68.5765,  71.9442,  437,   -999,    252.0,  -2.0380,  34.4510,2,  34.4520,2,    323.4,2, -2.0430,    325.4,2,    57.20,3,    31.02,2,     1.92,2
  09AR20020126, AIS01,    13,  1,      4,      4,2,20020210,0419,-68.5765,  71.9442,  437,   -999,    301.1,  -2.0240,  34.4600,2,  34.4600,2,    323.0,2, -2.0310,    324.2,2,    58.90,3,    31.11,2,     1.92,2
  09AR20020126, AIS01,    13,  1,      3,    103,2,20020210,0419,-68.5765,  71.9442,  437,   -999,    351.0,  -2.0180,  34.4840,2,  34.4840,2,    324.6,2, -2.0260,    325.7,2,    58.80,3,    31.09,2,     1.91,2
  09AR20020126, AIS01,    13,  1,      2,      2,4,20020210,0419,-68.5765,  71.9442,  437,   -999,    401.7,  -1.9320,  34.5210,2,  34.4330,2,    324.9,2, -1.9410,    333.1,4,    55.80,3,    30.62,4,     1.92,4
  09AR20020126, AIS01,    13,  1,      1,      1,2,20020210,0419,-68.5765,  71.9442,  437,   -999,    427.1,  -1.9270,  34.5230,2,  34.5220,2,    325.6,2, -1.9370,    325.2,2,    57.70,3,    31.26,2,     1.98,2
  09AR20020126, AIS01,    14,  1,     12,     12,2,20020210,0736,-68.5777,  71.6007,  485,   -999,     11.1,  -1.8350,  33.8600,2,  33.8600,2,   -999.0,5, -1.8360,   -999.0,9,  -999.00,9,  -999.00,9,  -999.00,9
  09AR20020126, AIS01,    14,  1,     11,     11,2,20020210,0736,-68.5777,  71.6007,  485,   -999,     11.1,  -1.8300,  33.8580,2,-999.0000,9,   -999.0,5, -1.8310,   -999.0,9,  -999.00,9,  -999.00,9,  -999.00,9
  09AR20020126, AIS01,    14,  1,     10,     10,2,20020210,0736,-68.5777,  71.6007,  485,   -999,     51.4,  -1.8410,  34.3320,2,  34.3390,2,   -999.0,5, -1.8420,   -999.0,9,  -999.00,9,  -999.00,9,  -999.00,9
  09AR20020126, AIS01,    14,  1,      9,      9,2,20020210,0736,-68.5777,  71.6007,  485,   -999,     51.4,  -1.8420,  34.3360,2,-999.0000,9,   -999.0,5, -1.8430,   -999.0,9,  -999.00,9,  -999.00,9,  -999.00,9
  09AR20020126, AIS01,    14,  1,      8,      8,2,20020210,0736,-68.5777,  71.6007,  485,   -999,    100.9,  -1.8700,  34.4100,2,  34.4110,2,   -999.0,5, -1.8720,   -999.0,9,  -999.00,9,  -999.00,9,  -999.00,9
  09AR20020126, AIS01,    14,  1,      7,      7,2,20020210,0736,-68.5777,  71.6007,  485,   -999,    100.9,  -1.8710,  34.4110,2,-999.0000,9,   -999.0,5, -1.8730,   -999.0,9,  -999.00,9,  -999.00,9,  -999.00,9
  09AR20020126, AIS01,    14,  1,      6,      6,2,20020210,0736,-68.5777,  71.6007,  485,   -999,    202.1,  -1.9160,  34.4530,2,  34.4530,2,   -999.0,5, -1.9210,   -999.0,9,  -999.00,9,  -999.00,9,  -999.00,9
  09AR20020126, AIS01,    14,  1,      5,    105,2,20020210,0736,-68.5777,  71.6007,  485,   -999,    202.1,  -1.9140,  34.4530,2,-999.0000,9,   -999.0,5, -1.9190,   -999.0,9,  -999.00,9,  -999.00,9,  -999.00,9
  09AR20020126, AIS01,    14,  1,      4,      4,2,20020210,0736,-68.5777,  71.6007,  485,   -999,    349.7,  -1.8830,  34.4890,2,  34.4900,2,   -999.0,5, -1.8910,   -999.0,9,  -999.00,9,  -999.00,9,  -999.00,9
  09AR20020126, AIS01,    14,  1,      3,    103,2,20020210,0736,-68.5777,  71.6007,  485,   -999,    349.7,  -1.8820,  34.4870,2,-999.0000,9,   -999.0,5, -1.8900,   -999.0,9,  -999.00,9,  -999.00,9,  -999.00,9
  09AR20020126, AIS01,    14,  1,      1,      1,2,20020210,0736,-68.5777,  71.6007,  485,   -999,    480.5,  -1.9200,  34.5290,2,-999.0000,9,   -999.0,5, -1.9320,   -999.0,9,  -999.00,9,  -999.00,9,  -999.00,9
  09AR20020126, AIS01,    14,  1,      2,      2,2,20020210,0736,-68.5777,  71.6007,  485,   -999,    481.0,  -1.9200,  34.5300,2,  34.5300,2,   -999.0,5, -1.9320,   -999.0,9,  -999.00,9,  -999.00,9,  -999.00,9
  09AR20020126, AIS01,    15,  1,     12,     12,2,20020210,0851,-68.5812,  71.6087,  483,   -999,     10.9,  -1.8450,  33.8550,2,  33.8540,2,   -999.0,5, -1.8460,   -999.0,9,  -999.00,9,  -999.00,9,  -999.00,9
  09AR20020126, AIS01,    15,  1,     11,     11,2,20020210,0851,-68.5812,  71.6087,  483,   -999,     11.0,  -1.8460,  33.8530,2,-999.0000,9,   -999.0,5, -1.8470,   -999.0,9,  -999.00,9,  -999.00,9,  -999.00,9
  09AR20020126, AIS01,    15,  1,     10,     10,2,20020210,0851,-68.5812,  71.6087,  483,   -999,     11.1,  -1.8450,  33.8520,2,-999.0000,9,   -999.0,5, -1.8460,   -999.0,9,  -999.00,9,  -999.00,9,  -999.00,9
  09AR20020126, AIS01,    15,  1,      7,      7,2,20020210,0851,-68.5812,  71.6087,  483,   -999,     51.5,  -1.8460,  34.3430,3,-999.0000,9,   -999.0,5, -1.8470,   -999.0,9,  -999.00,9,  -999.00,9,  -999.00,9
  09AR20020126, AIS01,    15,  1,      9,      9,2,20020210,0851,-68.5812,  71.6087,  483,   -999,     51.7,  -1.8440,  34.3320,2,  34.3470,2,   -999.0,5, -1.8450,   -999.0,9,  -999.00,9,  -999.00,9,  -999.00,9
  09AR20020126, AIS01,    15,  1,      8,      8,2,20020210,0851,-68.5812,  71.6087,  483,   -999,     51.7,  -1.8450,  34.3400,2,-999.0000,9,   -999.0,5, -1.8460,   -999.0,9,  -999.00,9,  -999.00,9,  -999.00,9
  09AR20020126, AIS01,    15,  1,      5,      5,2,20020210,0851,-68.5812,  71.6087,  483,   -999,    201.7,  -1.8850,  34.4530,2,-999.0000,9,   -999.0,5, -1.8900,   -999.0,9,  -999.00,9,  -999.00,9,  -999.00,9
  09AR20020126, AIS01,    15,  1,      6,      6,2,20020210,0851,-68.5812,  71.6087,  483,   -999,    201.9,  -1.8980,  34.4540,2,  34.4530,2,   -999.0,5, -1.9030,   -999.0,9,  -999.00,9,  -999.00,9,  -999.00,9
  09AR20020126, AIS01,    15,  1,      4,      4,2,20020210,0851,-68.5812,  71.6087,  483,   -999,    201.9,  -1.8850,  34.4540,2,-999.0000,9,   -999.0,5, -1.8900,   -999.0,9,  -999.00,9,  -999.00,9,  -999.00,9
  09AR20020126, AIS01,    15,  1,      3,    103,2,20020210,0851,-68.5812,  71.6087,  483,   -999,    475.4,  -1.9170,  34.5320,2,  34.5310,2,   -999.0,5, -1.9280,   -999.0,9,  -999.00,9,  -999.00,9,  -999.00,9
  09AR20020126, AIS01,    15,  1,      2,      2,2,20020210,0851,-68.5812,  71.6087,  483,   -999,    475.4,  -1.9170,  34.5320,2,-999.0000,9,   -999.0,5, -1.9280,   -999.0,9,  -999.00,9,  -999.00,9,  -999.00,9
  09AR20020126, AIS01,    15,  1,      1,      1,2,20020210,0851,-68.5812,  71.6087,  483,   -999,    476.3,  -1.9150,  34.5330,2,-999.0000,9,   -999.0,5, -1.9260,   -999.0,9,  -999.00,9,  -999.00,9,  -999.00,9
  09AR20020126, AIS01,    16,  1,     11,     11,2,20020210,0950,-68.5812,  71.6117,  481,   -999,     11.9,  -1.8470,  33.8270,2,-999.0000,9,   -999.0,5, -1.8480,   -999.0,9,  -999.00,9,  -999.00,9,  -999.00,9
  09AR20020126, AIS01,    16,  1,     12,     12,2,20020210,0950,-68.5812,  71.6117,  481,   -999,     12.0,  -1.8520,  33.8240,3,-999.0000,9,   -999.0,5, -1.8530,   -999.0,9,  -999.00,9,  -999.00,9,  -999.00,9
  09AR20020126, AIS01,    16,  1,     10,     10,2,20020210,0950,-68.5812,  71.6117,  481,   -999,     12.9,  -1.8440,  33.8270,2,-999.0000,9,   -999.0,5, -1.8450,   -999.0,9,  -999.00,9,  -999.00,9,  -999.00,9
  09AR20020126, AIS01,    16,  1,      8,      8,2,20020210,0950,-68.5812,  71.6117,  481,   -999,     52.0,  -1.8460,  34.3390,3,-999.0000,9,   -999.0,5, -1.8470,   -999.0,9,  -999.00,9,  -999.00,9,  -999.00,9
  09AR20020126, AIS01,    16,  1,      7,      7,2,20020210,0950,-68.5812,  71.6117,  481,   -999,     52.1,  -1.8470,  34.3370,4,-999.0000,9,   -999.0,5, -1.8480,   -999.0,9,  -999.00,9,  -999.00,9,  -999.00,9
  09AR20020126, AIS01,    16,  1,      9,      9,2,20020210,0950,-68.5812,  71.6117,  481,   -999,     52.4,  -1.8490,  34.3500,2,-999.0000,9,   -999.0,5, -1.8500,   -999.0,9,  -999.00,9,  -999.00,9,  -999.00,9
  09AR20020126, AIS01,    16,  1,      5,      5,2,20020210,0950,-68.5812,  71.6117,  481,   -999,    201.7,  -1.9070,  34.4540,2,-999.0000,9,   -999.0,5, -1.9120,   -999.0,9,  -999.00,9,  -999.00,9,  -999.00,9
  09AR20020126, AIS01,    16,  1,      6,      6,2,20020210,0950,-68.5812,  71.6117,  481,   -999,    202.0,  -1.9070,  34.4550,2,-999.0000,9,   -999.0,5, -1.9120,   -999.0,9,  -999.00,9,  -999.00,9,  -999.00,9
  09AR20020126, AIS01,    16,  1,      4,      4,2,20020210,0950,-68.5812,  71.6117,  481,   -999,    202.6,  -1.8970,  34.4550,2,-999.0000,9,   -999.0,5, -1.9020,   -999.0,9,  -999.00,9,  -999.00,9,  -999.00,9
  09AR20020126, AIS01,    16,  1,      1,      1,2,20020210,0950,-68.5812,  71.6117,  481,   -999,    476.5,  -1.9140,  34.5360,2,-999.0000,9,   -999.0,5, -1.9250,   -999.0,9,  -999.00,9,  -999.00,9,  -999.00,9
  09AR20020126, AIS01,    16,  1,      2,      2,2,20020210,0950,-68.5812,  71.6117,  481,   -999,    478.6,  -1.9120,  34.5370,2,-999.0000,9,   -999.0,5, -1.9230,   -999.0,9,  -999.00,9,  -999.00,9,  -999.00,9
  09AR20020126, AIS01,    16,  1,      3,    103,2,20020210,0950,-68.5812,  71.6117,  481,   -999,    479.4,  -1.9110,  34.5400,2,-999.0000,9,   -999.0,5, -1.9230,   -999.0,9,  -999.00,9,  -999.00,9,  -999.00,9