BOTTLE,20070829WHPSIODBK
#code : jjward hyd_to_exchange.pl 
#original files copied from HTML directory: 20070829
#original HYD file: ais01_09AR20020126hy.txt   Wed Aug 22 09:37:38 2007
#original SUM file: ais01_09AR20020126su.txt   Wed Aug 29 14:09:10 2007
EXPOCODE,SECT_ID,STNNBR,CASTNO,SAMPNO,BTLNBR,BTLNBR_FLAG_W,DATE,TIME,LATITUDE,LONGITUDE,DEPTH,CTDRAW,CTDPRS,CTDTMP,CTDSAL,CTDSAL_FLAG_W,SALNTY,SALNTY_FLAG_W,CTDOXY,CTDOXY_FLAG_W,THETA,OXYGEN,OXYGEN_FLAG_W,SILCAT,SILCAT_FLAG_W,NO2+NO3,NO2+NO3_FLAG_W,PHSPHT,PHSPHT_FLAG_W
,,,,,,,,,,,,,DBAR,DEGC,PSS-78,,PSS-78,,UMOL/KG,,DEGC,UMOL/KG,,UMOL/KG,,UMOL/KG,,UMOL/KG,
  09AR20020126, AIS01,     3,  1,     12,     12,2,20020209,0215,-68.4597,  70.2700,  358,   -999,     10.5,  -1.7910,  34.0800,2,  34.0820,2,    363.2,3, -1.7920,    364.1,2,    50.70,2,    26.48,2,     1.63,2
  09AR20020126, AIS01,     3,  1,     11,     11,2,20020209,0215,-68.4597,  70.2700,  358,   -999,     26.6,  -1.7540,  34.0920,2,  34.0920,2,    361.6,2, -1.7550,    360.0,2,    52.60,2,    27.24,2,     1.72,2
  09AR20020126, AIS01,     3,  1,     10,     10,2,20020209,0215,-68.4597,  70.2700,  358,   -999,     52.2,  -1.7890,  34.0990,2,  34.0970,2,    361.2,2, -1.7900,    363.7,2,    47.80,2,    26.61,2,     1.67,2
  09AR20020126, AIS01,     3,  1,      9,      9,2,20020209,0215,-68.4597,  70.2700,  358,   -999,     74.9,  -1.6400,  34.2030,2,  34.2040,2,    346.6,2, -1.6420,    348.2,2,    55.20,2,    28.44,2,     1.82,2
  09AR20020126, AIS01,     3,  1,      8,      8,2,20020209,0215,-68.4597,  70.2700,  358,   -999,    102.2,  -1.9070,  34.4060,2,  34.4110,2,    330.8,2, -1.9090,    329.0,2,    58.00,2,    30.36,2,     1.93,2
  09AR20020126, AIS01,     3,  1,      7,      7,2,20020209,0215,-68.4597,  70.2700,  358,   -999,    126.0,  -1.9500,  34.4370,2,  34.4360,2,    327.5,2, -1.9530,    327.7,2,    60.50,2,    30.58,2,     1.93,2
  09AR20020126, AIS01,     3,  1,      6,      6,2,20020209,0215,-68.4597,  70.2700,  358,   -999,    150.7,  -1.9690,  34.4440,2,  34.4450,2,    325.7,2, -1.9720,    326.9,2,    59.60,2,    30.66,2,     1.92,2
  09AR20020126, AIS01,     3,  1,      5,    105,2,20020209,0215,-68.4597,  70.2700,  358,   -999,    200.8,  -1.9790,  34.4520,2,  34.4520,2,    326.2,2, -1.9830,    327.0,2,    59.90,2,    30.85,2,     1.95,2
  09AR20020126, AIS01,     3,  1,      4,      4,2,20020209,0215,-68.4597,  70.2700,  358,   -999,    251.4,  -1.9880,  34.4670,2,  34.4670,2,    325.3,2, -1.9940,   -999.0,9,    62.00,2,    30.91,2,     1.94,2
  09AR20020126, AIS01,     3,  1,      3,    103,2,20020209,0215,-68.4597,  70.2700,  358,   -999,    292.1,  -1.9910,  34.4700,2,  34.4680,2,   -999.0,5, -1.9970,    326.5,2,    62.40,2,    30.90,2,     1.93,2
  09AR20020126, AIS01,     3,  1,      2,      2,2,20020209,0215,-68.4597,  70.2700,  358,   -999,    318.1,  -1.9910,  34.4710,2,  34.4710,2,    326.2,2, -1.9980,    325.6,2,    62.60,2,    30.98,2,     1.94,2
  09AR20020126, AIS01,     3,  1,      1,      1,2,20020209,0215,-68.4597,  70.2700,  358,   -999,    351.0,  -1.9800,  34.4740,2,  34.4740,2,    324.3,2, -1.9880,    325.5,2,    61.00,2,    30.98,2,     1.97,2
  09AR20020126, AIS01,     4,  1,     12,     12,2,20020209,0439,-68.4852,  70.3557, 1151,   -999,     11.8,  -1.8160,  34.0800,2,  34.0810,2,    392.9,3, -1.8170,    370.0,2,    47.80,2,    25.77,2,     1.54,2
  09AR20020126, AIS01,     4,  1,     11,     11,2,20020209,0439,-68.4852,  70.3557, 1151,   -999,     39.2,  -1.8160,  34.0930,2,  34.0920,2,    364.5,2, -1.8170,    365.5,2,    49.70,2,    26.49,2,     1.59,2
  09AR20020126, AIS01,     4,  1,     10,     10,2,20020209,0439,-68.4852,  70.3557, 1151,   -999,     80.5,  -1.7660,  34.1770,2,  34.1770,2,    350.5,2, -1.7680,    352.0,2,    50.20,2,    27.79,2,     1.72,2
  09AR20020126, AIS01,     4,  1,      9,      9,2,20020209,0439,-68.4852,  70.3557, 1151,   -999,    120.6,  -1.8450,  34.4040,2,  34.4060,2,    332.2,2, -1.8480,    327.6,2,    59.90,2,    30.24,2,     1.90,2
  09AR20020126, AIS01,     4,  1,      8,      8,2,20020209,0439,-68.4852,  70.3557, 1151,   -999,    159.8,  -1.9180,  34.4370,2,  34.4360,2,    326.1,2, -1.9220,    326.7,2,    58.90,2,    30.65,2,     1.94,2
  09AR20020126, AIS01,     4,  1,      7,      7,2,20020209,0439,-68.4852,  70.3557, 1151,   -999,    200.6,  -1.9610,  34.4510,2,  34.4500,2,    323.3,2, -1.9650,    325.5,2,    62.90,2,    30.90,2,     1.96,2
  09AR20020126, AIS01,     4,  1,      6,      6,2,20020209,0439,-68.4852,  70.3557, 1151,   -999,    300.4,  -1.9240,  34.4750,2,  34.4730,2,    323.6,2, -1.9310,    323.1,2,    61.80,2,    30.94,2,     1.96,2
  09AR20020126, AIS01,     4,  1,      5,    105,2,20020209,0439,-68.4852,  70.3557, 1151,   -999,    403.5,  -1.9270,  34.4900,2,  34.4910,2,    324.7,2, -1.9360,    322.5,2,    66.10,2,    31.12,2,     1.96,2
  09AR20020126, AIS01,     4,  1,      4,      4,2,20020209,0439,-68.4852,  70.3557, 1151,   -999,    599.7,  -1.9070,  34.5240,2,  34.5230,2,    322.4,2, -1.9220,    324.9,2,    65.40,2,    31.14,2,     1.97,2
  09AR20020126, AIS01,     4,  1,      3,    103,2,20020209,0439,-68.4852,  70.3557, 1151,   -999,    799.0,  -1.8760,  34.5480,2,  34.5480,2,    322.7,2, -1.8980,    324.0,2,    57.70,3,    32.19,3,     2.02,3
  09AR20020126, AIS01,     4,  1,      2,      2,2,20020209,0439,-68.4852,  70.3557, 1151,   -999,   1003.3,  -1.8640,  34.5760,2,  34.5760,2,    327.8,2, -1.8930,    324.0,2,    64.70,2,    31.01,2,     1.98,2
  09AR20020126, AIS01,     4,  1,      1,      1,2,20020209,0439,-68.4852,  70.3557, 1151,   -999,   1151.5,  -1.8590,  34.5920,2,  34.5920,2,   -999.0,5, -1.8940,    324.4,2,    64.00,2,    31.24,2,     1.98,2
  09AR20020126, AIS01,     5,  1,     12,     12,2,20020209,0745,-68.5047,  70.6530,  885,   -999,      9.8,  -1.8450,  34.0550,2,  34.0560,2,    369.7,3, -1.8460,    369.7,2,    46.60,2,    25.79,2,     1.50,2
  09AR20020126, AIS01,     5,  1,     11,     11,2,20020209,0745,-68.5047,  70.6530,  885,   -999,     40.6,  -1.8580,  34.0910,2,  34.1030,2,    341.3,3, -1.8590,    359.3,2,    49.10,2,    26.97,2,     1.59,2
  09AR20020126, AIS01,     5,  1,     10,     10,2,20020209,0745,-68.5047,  70.6530,  885,   -999,     79.7,  -1.8380,  34.4130,2,  34.4130,2,    325.7,2, -1.8400,    324.8,2,    58.70,2,    30.55,2,     1.89,2
  09AR20020126, AIS01,     5,  1,      9,      9,2,20020209,0745,-68.5047,  70.6530,  885,   -999,    119.8,  -1.8660,  34.4490,2,  34.4480,2,    323.7,2, -1.8690,    323.0,2,    62.80,2,    30.93,2,     1.94,2
  09AR20020126, AIS01,     5,  1,      8,      8,2,20020209,0745,-68.5047,  70.6530,  885,   -999,    160.4,  -1.9180,  34.4660,2,  34.4650,2,    322.8,2, -1.9220,    324.3,2,    61.90,2,    31.22,2,     1.90,3
  09AR20020126, AIS01,     5,  1,      7,      7,2,20020209,0745,-68.5047,  70.6530,  885,   -999,    201.1,  -1.9190,  34.4750,2,  34.4740,2,    320.7,2, -1.9240,    322.9,2,    61.30,2,    31.17,2,     1.95,2
  09AR20020126, AIS01,     5,  1,      6,      6,2,20020209,0745,-68.5047,  70.6530,  885,   -999,    300.4,  -1.8760,  34.5000,2,  34.4990,2,    321.2,2, -1.8830,    322.2,2,    62.50,2,    31.19,2,     1.93,2
  09AR20020126, AIS01,     5,  1,      5,    105,2,20020209,0745,-68.5047,  70.6530,  885,   -999,    400.6,  -1.8670,  34.5190,2,  34.5180,2,    320.8,2, -1.8770,    321.7,2,    61.80,2,    31.29,2,     1.93,2
  09AR20020126, AIS01,     5,  1,      4,      4,2,20020209,0745,-68.5047,  70.6530,  885,   -999,    550.6,  -1.8850,  34.5380,2,  34.5380,2,    324.1,2, -1.8990,    323.9,2,    64.70,2,    31.20,2,     1.93,2
  09AR20020126, AIS01,     5,  1,      3,    103,2,20020209,0745,-68.5047,  70.6530,  885,   -999,    699.7,  -1.8760,  34.5520,2,  34.5510,2,    324.9,2, -1.8940,    323.5,2,    62.80,2,    31.26,2,     1.94,2
  09AR20020126, AIS01,     5,  1,      2,      2,2,20020209,0745,-68.5047,  70.6530,  885,   -999,    819.4,  -1.8710,  34.5680,2,  34.5670,2,    325.7,2, -1.8930,    324.4,2,    62.70,2,    31.23,2,     1.95,2
  09AR20020126, AIS01,     5,  1,      1,      1,2,20020209,0745,-68.5047,  70.6530,  885,   -999,    883.5,  -1.8690,  34.5740,2,  34.5730,2,    323.9,2, -1.8940,    325.2,2,    62.00,2,    31.34,2,     1.96,2
  09AR20020126, AIS01,     6,  1,     12,     12,2,20020209,1039,-68.5062,  70.7947,  752,   -999,     11.4,  -1.8470,  33.9790,2,  33.9790,2,    373.2,3, -1.8480,    373.1,2,    47.10,2,    25.44,2,     1.50,2
  09AR20020126, AIS01,     6,  1,     11,     11,2,20020209,1039,-68.5062,  70.7947,  752,   -999,     41.6,  -1.8630,  33.9840,2,  33.9930,2,    348.6,3, -1.8640,    367.8,2,    46.60,2,    25.85,2,     1.53,2
  09AR20020126, AIS01,     6,  1,     10,     10,2,20020209,1039,-68.5062,  70.7947,  752,   -999,     80.7,  -1.8080,  34.3830,2,  34.3840,2,    328.4,2, -1.8100,    327.3,2,    57.80,2,    30.36,2,     1.89,2
  09AR20020126, AIS01,     6,  1,      9,      9,2,20020209,1039,-68.5062,  70.7947,  752,   -999,    121.1,  -1.8470,  34.4290,2,  34.4290,2,    324.6,2, -1.8500,    323.6,2,    59.40,2,    30.68,2,     1.91,2
  09AR20020126, AIS01,     6,  1,      8,      8,2,20020209,1039,-68.5062,  70.7947,  752,   -999,    161.3,  -1.8750,  34.4600,2,  34.4610,2,    322.2,2, -1.8790,    322.1,2,    61.20,2,    30.97,2,     1.96,2
  09AR20020126, AIS01,     6,  1,      7,      7,2,20020209,1039,-68.5062,  70.7947,  752,   -999,    201.7,  -1.8690,  34.4790,2,  34.4790,2,    321.6,2, -1.8740,    320.8,2,    62.10,2,    31.11,2,     1.93,2
  09AR20020126, AIS01,     6,  1,      6,      6,2,20020209,1039,-68.5062,  70.7947,  752,   -999,    300.8,  -1.8840,  34.5030,2,  34.5040,2,    319.6,2, -1.8910,    322.2,2,    62.80,2,    31.15,2,     1.95,2
  09AR20020126, AIS01,     6,  1,      5,    105,2,20020209,1039,-68.5062,  70.7947,  752,   -999,    401.6,  -1.8670,  34.5230,2,  34.5230,2,    320.3,2, -1.8770,    321.8,2,    63.10,2,    31.12,2,     1.96,2
  09AR20020126, AIS01,     6,  1,      4,      4,2,20020209,1039,-68.5062,  70.7947,  752,   -999,    502.0,  -1.8760,  34.5370,2,  34.5370,2,    320.5,2, -1.8880,    322.4,2,    62.20,2,    31.27,2,     1.95,2
  09AR20020126, AIS01,     6,  1,      3,    103,2,20020209,1039,-68.5062,  70.7947,  752,   -999,    600.8,  -1.8790,  34.5540,2,  34.5550,2,    323.0,2, -1.8940,    323.6,2,    62.40,2,    31.21,2,     1.94,2
  09AR20020126, AIS01,     6,  1,      2,      2,2,20020209,1039,-68.5062,  70.7947,  752,   -999,    700.0,  -1.8750,  34.5730,2,  34.5730,2,    325.7,2, -1.8930,    323.8,2,    63.20,2,    31.25,2,     1.93,2
  09AR20020126, AIS01,     6,  1,      1,      1,2,20020209,1039,-68.5062,  70.7947,  752,   -999,    749.4,  -1.8740,  34.5780,2,  34.5780,2,    325.8,2, -1.8940,    324.2,2,    62.60,2,    31.29,2,     1.97,2
  09AR20020126, AIS01,     7,  1,     12,     12,2,20020209,1311,-68.5363,  71.1357,  594,   -999,     10.2,  -1.7560,  33.8520,3,  33.8540,2,    372.4,3, -1.7570,    373.1,2,    45.90,2,    25.64,2,     1.45,2
  09AR20020126, AIS01,     7,  1,     11,     11,2,20020209,1311,-68.5363,  71.1357,  594,   -999,     25.5,  -1.7350,  33.9120,2,  33.9100,2,    340.2,3, -1.7360,    371.0,2,    47.20,2,    25.91,2,     1.52,2
  09AR20020126, AIS01,     7,  1,     10,     10,2,20020209,1311,-68.5363,  71.1357,  594,   -999,     61.6,  -1.8300,  34.3810,2,  34.3820,2,    329.7,2, -1.8320,    329.4,2,    57.90,2,    30.34,2,     1.89,2
  09AR20020126, AIS01,     7,  1,      9,      9,2,20020209,1311,-68.5363,  71.1357,  594,   -999,    101.0,  -1.8700,  34.4180,2,  34.4180,2,    327.2,2, -1.8720,    327.1,2,    58.50,2,    30.80,2,     1.88,2
  09AR20020126, AIS01,     7,  1,      8,      8,2,20020209,1311,-68.5363,  71.1357,  594,   -999,    140.2,  -1.9000,  34.4360,2,  34.4360,2,    325.6,2, -1.9030,    327.8,2,    59.20,2,    30.87,2,     1.91,2
  09AR20020126, AIS01,     7,  1,      7,      7,2,20020209,1311,-68.5363,  71.1357,  594,   -999,    181.2,  -1.9310,  34.4470,2,  34.4470,2,    326.0,2, -1.9350,    327.0,2,    59.70,2,    30.91,2,     1.91,2
  09AR20020126, AIS01,     7,  1,      6,      6,2,20020209,1311,-68.5363,  71.1357,  594,   -999,    251.4,  -2.0540,  34.4520,2,  34.4530,2,    325.9,2, -2.0590,    326.5,2,    63.00,2,    31.16,2,     1.96,2
  09AR20020126, AIS01,     7,  1,      5,    105,2,20020209,1311,-68.5363,  71.1357,  594,   -999,    301.5,  -2.0340,  34.4630,2,  34.4630,2,    325.6,2, -2.0410,    326.4,2,    61.10,2,    31.26,2,     1.95,2
  09AR20020126, AIS01,     7,  1,      4,      4,2,20020209,1311,-68.5363,  71.1357,  594,   -999,    401.4,  -1.9620,  34.5080,2,  34.5080,2,    325.4,2, -1.9710,    325.7,2,    62.10,2,    31.21,2,     1.94,2
  09AR20020126, AIS01,     7,  1,      3,    103,2,20020209,1311,-68.5363,  71.1357,  594,   -999,    480.2,  -1.9420,  34.5180,2,  34.5180,2,    325.9,2, -1.9530,    325.9,2,    61.90,2,    31.12,2,     1.95,2
  09AR20020126, AIS01,     7,  1,      2,      2,2,20020209,1311,-68.5363,  71.1357,  594,   -999,    540.7,  -1.9110,  34.5360,2,  34.5350,2,    326.1,2, -1.9240,    325.3,2,    61.60,2,    31.20,2,     1.96,2
  09AR20020126, AIS01,     7,  1,      1,      1,2,20020209,1311,-68.5363,  71.1357,  594,   -999,    592.3,  -1.9060,  34.5410,2,  34.5420,2,    326.7,2, -1.9210,    325.0,2,    63.10,2,    31.22,2,     1.98,2
  09AR20020126, AIS01,     8,  1,     12,     12,2,20020209,1510,-68.5567,  71.3970,  389,   -999,     10.4,  -1.7860,  33.8490,2,  33.8370,3,    374.3,3, -1.7870,    374.6,2,    43.00,2,    25.57,2,     1.47,2
  09AR20020126, AIS01,     8,  1,     11,     11,2,20020209,1510,-68.5567,  71.3970,  389,   -999,     26.2,  -1.7700,  33.9330,2,  33.9310,2,    335.8,3, -1.7710,    370.0,2,    46.40,2,    26.19,2,     1.58,2
  09AR20020126, AIS01,     8,  1,     10,     10,2,20020209,1510,-68.5567,  71.3970,  389,   -999,     51.0,  -1.7810,  34.3440,2,  34.3430,2,    332.7,2, -1.7820,    335.0,2,    52.90,2,    29.76,2,     1.89,2
  09AR20020126, AIS01,     8,  1,      9,      9,2,20020209,1510,-68.5567,  71.3970,  389,   -999,     76.1,  -1.8580,  34.3950,2,  34.3950,2,    330.0,2, -1.8600,    328.6,2,    52.80,2,    30.70,2,     1.93,2
  09AR20020126, AIS01,     8,  1,      8,      8,2,20020209,1510,-68.5567,  71.3970,  389,   -999,    101.8,  -1.8770,  34.4070,2,  34.4090,2,    329.1,2, -1.8790,    327.8,2,    55.00,2,    30.67,2,     1.92,2
  09AR20020126, AIS01,     8,  1,      7,      7,2,20020209,1510,-68.5567,  71.3970,  389,   -999,    141.6,  -1.9160,  34.4270,2,  34.4280,2,    327.5,2, -1.9190,    327.6,2,    56.70,2,    30.76,2,     1.95,2
  09AR20020126, AIS01,     8,  1,      6,      6,2,20020209,1510,-68.5567,  71.3970,  389,   -999,    181.2,  -2.0170,  34.4390,2,  34.4400,2,    326.4,2, -2.0210,    326.7,2,    60.10,2,    31.16,2,     1.94,2
  09AR20020126, AIS01,     8,  1,      5,    105,2,20020209,1510,-68.5567,  71.3970,  389,   -999,    221.5,  -2.0420,  34.4450,2,  34.4460,2,    325.4,2, -2.0470,    326.8,2,    59.50,2,    31.14,2,     1.99,2
  09AR20020126, AIS01,     8,  1,      4,      4,2,20020209,1510,-68.5567,  71.3970,  389,   -999,    261.3,  -2.0610,  34.4500,2,  34.4500,2,    325.1,2, -2.0670,    326.3,2,    58.50,2,    31.32,2,     1.99,2
  09AR20020126, AIS01,     8,  1,      3,    103,2,20020209,1510,-68.5567,  71.3970,  389,   -999,    300.1,  -1.9660,  34.4580,2,  34.4580,2,    325.1,2, -1.9730,    325.1,2,    59.20,2,    31.26,2,     1.93,2
  09AR20020126, AIS01,     8,  1,      2,      2,2,20020209,1510,-68.5567,  71.3970,  389,   -999,    352.4,  -1.9010,  34.4790,2,  34.4800,2,    323.1,2, -1.9090,    323.0,2,    60.90,2,    31.23,2,     1.93,2
  09AR20020126, AIS01,     8,  1,      1,      1,2,20020209,1510,-68.5567,  71.3970,  389,   -999,    382.9,  -1.9060,  34.4910,2,  34.4920,2,    323.8,2, -1.9150,    321.9,2,    58.00,2,    31.66,2,     1.98,2
  09AR20020126, AIS01,     9,  1,     12,     12,2,20020209,1651,-68.5787,  71.5957,  485,   -999,     11.0,  -1.7310,  33.8330,2,  33.8310,2,    371.1,3, -1.7320,    371.1,2,    46.60,2,    25.74,2,     1.55,2
  09AR20020126, AIS01,     9,  1,     11,     11,2,20020209,1651,-68.5787,  71.5957,  485,   -999,     26.9,  -1.7570,  33.8630,4,  33.8730,2,    327.2,3, -1.7580,    368.2,2,    48.70,2,    26.23,2,     1.61,2
  09AR20020126, AIS01,     9,  1,     10,     10,2,20020209,1651,-68.5787,  71.5957,  485,   -999,     52.1,  -1.8060,  34.3300,2,  34.3280,2,    334.4,2, -1.8070,    334.7,2,    57.20,2,    29.58,2,     1.89,2
  09AR20020126, AIS01,     9,  1,      9,      9,2,20020209,1651,-68.5787,  71.5957,  485,   -999,    101.1,  -1.8850,  34.4080,2,  34.4090,2,    328.6,2, -1.8870,    327.6,2,    58.50,2,    30.57,2,     2.07,3
  09AR20020126, AIS01,     9,  1,      8,      8,2,20020209,1651,-68.5787,  71.5957,  485,   -999,    151.4,  -1.9210,  34.4310,2,  34.4320,2,    326.9,2, -1.9240,    327.1,2,    62.60,2,    30.71,2,     1.96,2
  09AR20020126, AIS01,     9,  1,      7,      7,2,20020209,1651,-68.5787,  71.5957,  485,   -999,    201.6,  -2.0310,  34.4420,2,  34.4420,2,    326.3,2, -2.0350,    326.4,2,    61.50,2,    30.83,2,     1.96,2
  09AR20020126, AIS01,     9,  1,      6,      6,2,20020209,1651,-68.5787,  71.5957,  485,   -999,    251.4,  -2.0560,  34.4480,2,  34.4480,2,    326.3,2, -2.0610,    326.1,2,    61.00,2,    31.16,2,     1.97,2
  09AR20020126, AIS01,     9,  1,      5,    105,2,20020209,1651,-68.5787,  71.5957,  485,   -999,    301.3,  -2.0370,  34.4540,2,  34.4550,2,    326.1,2, -2.0440,    325.9,2,    60.30,2,    30.92,2,     1.99,2
  09AR20020126, AIS01,     9,  1,      4,      4,2,20020209,1651,-68.5787,  71.5957,  485,   -999,    351.7,  -2.0300,  34.4770,2,  34.4790,2,    326.1,2, -2.0380,    325.9,2,    62.10,2,    31.00,2,     1.97,2
  09AR20020126, AIS01,     9,  1,      3,    103,2,20020209,1651,-68.5787,  71.5957,  485,   -999,    402.0,  -1.9990,  34.4950,2,  34.4950,2,    326.7,2, -2.0080,    326.2,2,    62.00,2,    31.05,2,     1.97,2
  09AR20020126, AIS01,     9,  1,      2,      2,2,20020209,1651,-68.5787,  71.5957,  485,   -999,    453.3,  -1.9490,  34.5160,2,  34.5170,2,    326.2,2, -1.9600,    325.7,2,    61.00,2,    31.05,2,     1.97,2
  09AR20020126, AIS01,     9,  1,      1,      1,2,20020209,1651,-68.5787,  71.5957,  485,   -999,    480.0,  -1.9230,  34.5260,2,  34.5270,2,    325.1,2, -1.9340,    325.4,2,    61.50,2,    31.16,2,     1.97,2