BOTTLE,20070829WHPSIODBK
EXPOCODE,SECT_ID,STNNBR,CASTNO,SAMPNO,BTLNBR,BTLNBR_FLAG_W,DATE,TIME,LATITUDE,LONGITUDE,DEPTH,CTDRAW,CTDPRS,CTDTMP,CTDSAL,CTDSAL_FLAG_W,SALNTY,SALNTY_FLAG_W,CTDOXY,CTDOXY_FLAG_W,THETA,OXYGEN,OXYGEN_FLAG_W,SILCAT,SILCAT_FLAG_W,NO2+NO3,NO2+NO3_FLAG_W,PHSPHT,PHSPHT_FLAG_W
,,,,,,,,,,,,,DBAR,DEGC,PSS-78,,PSS-78,,UMOL/KG,,DEGC,UMOL/KG,,UMOL/KG,,UMOL/KG,,UMOL/KG,
  09AR20020126, AIS01,    53,  1,     12,     16,2,20020227,0228,-64.6852,  73.0087, 3490,   -999,     15.9,   0.4520,  33.8450,2,  33.8440,2,   -999.0,5,  0.4520,   -999.0,9,  -999.00,9,  -999.00,9,  -999.00,9
  09AR20020126, AIS01,    53,  1,     11,     11,2,20020227,0228,-64.6852,  73.0087, 3490,   -999,     71.1,  -1.1230,  34.1960,2,  34.1800,2,   -999.0,5, -1.1250,   -999.0,9,  -999.00,9,  -999.00,9,  -999.00,9
  09AR20020126, AIS01,    53,  1,     10,     10,2,20020227,0228,-64.6852,  73.0087, 3490,   -999,    131.5,   0.0330,  34.4710,2,  34.4710,2,   -999.0,5,  0.0280,   -999.0,9,  -999.00,9,  -999.00,9,  -999.00,9
  09AR20020126, AIS01,    53,  1,      9,     17,2,20020227,0228,-64.6852,  73.0087, 3490,   -999,    176.3,   1.0540,  34.5840,2,  34.5840,2,   -999.0,5,  1.0460,   -999.0,9,  -999.00,9,  -999.00,9,  -999.00,9
  09AR20020126, AIS01,    53,  1,      8,      8,2,20020227,0228,-64.6852,  73.0087, 3490,   -999,    236.0,   1.3750,  34.6480,3,  34.6450,2,   -999.0,5,  1.3640,   -999.0,9,  -999.00,9,  -999.00,9,  -999.00,9
  09AR20020126, AIS01,    53,  1,      7,      7,2,20020227,0228,-64.6852,  73.0087, 3490,   -999,    284.7,   1.0580,  34.6370,2,  34.6360,2,   -999.0,5,  1.0450,   -999.0,9,  -999.00,9,  -999.00,9,  -999.00,9
  09AR20020126, AIS01,    53,  1,      6,     24,2,20020227,0228,-64.6852,  73.0087, 3490,   -999,    521.2,   1.3510,  34.7120,2,  34.7130,2,   -999.0,5,  1.3250,   -999.0,9,  -999.00,9,  -999.00,9,  -999.00,9
  09AR20020126, AIS01,    53,  1,      5,    105,2,20020227,0228,-64.6852,  73.0087, 3490,   -999,    751.3,   1.1580,  34.7200,2,  34.7200,2,   -999.0,5,  1.1200,   -999.0,9,  -999.00,9,  -999.00,9,  -999.00,9
  09AR20020126, AIS01,    53,  1,      4,      4,2,20020227,0228,-64.6852,  73.0087, 3490,   -999,   1001.9,   0.9650,  34.7150,2,  34.7160,2,   -999.0,5,  0.9130,   -999.0,9,  -999.00,9,  -999.00,9,  -999.00,9
  09AR20020126, AIS01,    53,  1,      3,     21,2,20020227,0228,-64.6852,  73.0087, 3490,   -999,   1201.0,   0.7710,  34.7040,2,  34.7050,2,   -999.0,5,  0.7080,   -999.0,9,  -999.00,9,  -999.00,9,  -999.00,9
  09AR20020126, AIS01,    53,  1,      2,      2,2,20020227,0228,-64.6852,  73.0087, 3490,   -999,   1600.8,   0.4870,  34.6910,2,  34.6900,2,   -999.0,5,  0.4020,   -999.0,9,  -999.00,9,  -999.00,9,  -999.00,9
  09AR20020126, AIS01,    53,  1,      1,      1,2,20020227,0228,-64.6852,  73.0087, 3490,   -999,   2002.2,   0.2940,  34.6830,2,  34.6830,2,   -999.0,5,  0.1840,   -999.0,9,  -999.00,9,  -999.00,9,  -999.00,9
  09AR20020126, AIS01,    54,  1,     12,     16,2,20020227,0612,-64.5522,  73.5885, 3500,   -999,     11.7,   0.5470,  33.8490,2,  33.8500,2,   -999.0,5,  0.5470,   -999.0,9,  -999.00,9,  -999.00,9,  -999.00,9
  09AR20020126, AIS01,    54,  1,     11,     11,2,20020227,0612,-64.5522,  73.5885, 3500,   -999,     31.6,   0.5390,  33.8500,2,  33.8510,2,   -999.0,5,  0.5380,   -999.0,9,  -999.00,9,  -999.00,9,  -999.00,9
  09AR20020126, AIS01,    54,  1,     10,     10,2,20020227,0612,-64.5522,  73.5885, 3500,   -999,     82.1,  -1.5040,  34.2250,2,  34.2210,2,   -999.0,5, -1.5060,   -999.0,9,  -999.00,9,  -999.00,9,  -999.00,9
  09AR20020126, AIS01,    54,  1,      9,     17,2,20020227,0612,-64.5522,  73.5885, 3500,   -999,    204.1,   0.4590,  34.5670,2,  34.5650,2,   -999.0,5,  0.4510,   -999.0,9,  -999.00,9,  -999.00,9,  -999.00,9
  09AR20020126, AIS01,    54,  1,      8,      8,2,20020227,0612,-64.5522,  73.5885, 3500,   -999,    251.5,   0.8990,  34.6290,2,  34.6310,2,   -999.0,5,  0.8880,   -999.0,9,  -999.00,9,  -999.00,9,  -999.00,9
  09AR20020126, AIS01,    54,  1,      7,      7,2,20020227,0612,-64.5522,  73.5885, 3500,   -999,    302.1,   1.0640,  34.6630,2,  34.6620,2,   -999.0,5,  1.0500,   -999.0,9,  -999.00,9,  -999.00,9,  -999.00,9
  09AR20020126, AIS01,    54,  1,      6,     24,2,20020227,0612,-64.5522,  73.5885, 3500,   -999,    402.8,   1.0990,  34.6850,2,  34.6860,2,   -999.0,5,  1.0800,   -999.0,9,  -999.00,9,  -999.00,9,  -999.00,9
  09AR20020126, AIS01,    54,  1,      5,    105,2,20020227,0612,-64.5522,  73.5885, 3500,   -999,    632.0,   1.0240,  34.7020,2,  34.7030,2,   -999.0,5,  0.9930,   -999.0,9,  -999.00,9,  -999.00,9,  -999.00,9
  09AR20020126, AIS01,    54,  1,      4,      4,2,20020227,0612,-64.5522,  73.5885, 3500,   -999,    901.6,   0.8840,  34.7070,2,  34.7080,2,   -999.0,5,  0.8390,   -999.0,9,  -999.00,9,  -999.00,9,  -999.00,9
  09AR20020126, AIS01,    54,  1,      3,     21,2,20020227,0612,-64.5522,  73.5885, 3500,   -999,   1202.8,   0.6610,  34.6990,2,  34.6980,2,   -999.0,5,  0.5990,   -999.0,9,  -999.00,9,  -999.00,9,  -999.00,9
  09AR20020126, AIS01,    54,  1,      2,      2,2,20020227,0612,-64.5522,  73.5885, 3500,   -999,   1602.8,   0.4280,  34.6880,2,  34.6870,2,   -999.0,5,  0.3430,   -999.0,9,  -999.00,9,  -999.00,9,  -999.00,9
  09AR20020126, AIS01,    54,  1,      1,      1,2,20020227,0612,-64.5522,  73.5885, 3500,   -999,   2002.5,   0.2350,  34.6800,2,  34.6800,2,   -999.0,5,  0.1250,   -999.0,9,  -999.00,9,  -999.00,9,  -999.00,9
  09AR20020126, AIS01,    55,  1,     12,     16,2,20020227,0811,-64.5410,  73.5375, 3500,   -999,     11.3,   0.5410,  33.8560,2,  33.8560,2,   -999.0,5,  0.5410,   -999.0,9,  -999.00,9,  -999.00,9,  -999.00,9
  09AR20020126, AIS01,    55,  1,     11,     11,2,20020227,0811,-64.5410,  73.5375, 3500,   -999,     36.8,   0.5200,  33.8590,2,  33.8600,2,   -999.0,5,  0.5190,   -999.0,9,  -999.00,9,  -999.00,9,  -999.00,9
  09AR20020126, AIS01,    55,  1,     10,     10,2,20020227,0811,-64.5410,  73.5375, 3500,   -999,     81.7,  -1.4500,  34.3070,2,  34.3070,2,   -999.0,5, -1.4520,   -999.0,9,  -999.00,9,  -999.00,9,  -999.00,9
  09AR20020126, AIS01,    55,  1,      9,     17,2,20020227,0811,-64.5410,  73.5375, 3500,   -999,    120.3,  -1.0210,  34.4020,2,  34.4010,2,   -999.0,5, -1.0240,   -999.0,9,  -999.00,9,  -999.00,9,  -999.00,9
  09AR20020126, AIS01,    55,  1,      8,      8,2,20020227,0811,-64.5410,  73.5375, 3500,   -999,    201.0,   0.6710,  34.5980,2,  34.5980,2,   -999.0,5,  0.6630,   -999.0,9,  -999.00,9,  -999.00,9,  -999.00,9
  09AR20020126, AIS01,    55,  1,      7,      7,2,20020227,0811,-64.5410,  73.5375, 3500,   -999,    251.7,   0.9980,  34.6480,2,  34.6470,2,   -999.0,5,  0.9870,   -999.0,9,  -999.00,9,  -999.00,9,  -999.00,9
  09AR20020126, AIS01,    55,  1,      6,     24,2,20020227,0811,-64.5410,  73.5375, 3500,   -999,    301.0,   1.1060,  34.6690,2,  34.6710,2,   -999.0,5,  1.0920,   -999.0,9,  -999.00,9,  -999.00,9,  -999.00,9
  09AR20020126, AIS01,    55,  1,      5,    105,2,20020227,0811,-64.5410,  73.5375, 3500,   -999,    402.5,   1.1700,  34.6940,2,  34.6930,2,   -999.0,5,  1.1510,   -999.0,9,  -999.00,9,  -999.00,9,  -999.00,9
  09AR20020126, AIS01,    55,  1,      4,      4,2,20020227,0811,-64.5410,  73.5375, 3500,   -999,    551.1,   1.1920,  34.7150,2,  34.7170,2,   -999.0,5,  1.1650,   -999.0,9,  -999.00,9,  -999.00,9,  -999.00,9
  09AR20020126, AIS01,    55,  1,      3,     21,2,20020227,0811,-64.5410,  73.5375, 3500,   -999,    701.2,   1.0330,  34.7110,2,  34.7110,2,   -999.0,5,  0.9980,   -999.0,9,  -999.00,9,  -999.00,9,  -999.00,9
  09AR20020126, AIS01,    55,  1,      2,      2,2,20020227,0811,-64.5410,  73.5375, 3500,   -999,   1104.3,   0.7260,  34.7030,2,  34.7030,2,   -999.0,5,  0.6700,   -999.0,9,  -999.00,9,  -999.00,9,  -999.00,9
  09AR20020126, AIS01,    55,  1,      1,      1,2,20020227,0811,-64.5410,  73.5375, 3500,   -999,   1502.5,   0.4810,  34.6910,2,  34.6910,2,   -999.0,5,  0.4020,   -999.0,9,  -999.00,9,  -999.00,9,  -999.00,9