BOTTLE,20070829WHPSIODBK
EXPOCODE,SECT_ID,STNNBR,CASTNO,SAMPNO,BTLNBR,BTLNBR_FLAG_W,DATE,TIME,LATITUDE,LONGITUDE,DEPTH,CTDRAW,CTDPRS,CTDTMP,CTDSAL,CTDSAL_FLAG_W,SALNTY,SALNTY_FLAG_W,CTDOXY,CTDOXY_FLAG_W,THETA,OXYGEN,OXYGEN_FLAG_W,SILCAT,SILCAT_FLAG_W,NO2+NO3,NO2+NO3_FLAG_W,PHSPHT,PHSPHT_FLAG_W
,,,,,,,,,,,,,DBAR,DEGC,PSS-78,,PSS-78,,UMOL/KG,,DEGC,UMOL/KG,,UMOL/KG,,UMOL/KG,,UMOL/KG,
  09AR20020126, AIS01,    17,  1,     12,     16,2,20020211,1545,-68.4607,  70.2868,  446,   -999,     10.4,  -1.8330,  33.9960,2,  34.0140,2,    365.8,3, -1.8340,    362.0,2,    54.20,2,    28.05,2,     1.73,2
  09AR20020126, AIS01,    17,  1,     11,     11,2,20020211,1545,-68.4607,  70.2868,  446,   -999,     25.3,  -1.8070,  34.0590,2,  34.0730,2,    356.8,2, -1.8080,    353.2,2,    53.10,2,    27.89,2,     1.73,2
  09AR20020126, AIS01,    17,  1,     10,     10,2,20020211,1545,-68.4607,  70.2868,  446,   -999,     51.2,  -1.7750,  34.1320,2,  34.1430,2,    341.1,2, -1.7760,    350.8,2,    52.00,2,    28.12,2,     1.74,2
  09AR20020126, AIS01,    17,  1,      9,     17,2,20020211,1545,-68.4607,  70.2868,  446,   -999,     80.0,  -1.8600,  34.3960,2,  34.3990,2,    332.0,2, -1.8620,    328.9,2,    56.30,2,    30.29,2,     1.90,2
  09AR20020126, AIS01,    17,  1,      8,      8,2,20020211,1545,-68.4607,  70.2868,  446,   -999,    120.6,  -1.9070,  34.4280,2,  34.4270,2,    328.1,2, -1.9100,    327.1,2,    57.60,2,    30.76,2,     1.92,2
  09AR20020126, AIS01,    17,  1,      7,      7,4,20020211,1545,-68.4607,  70.2868,  446,   -999,    160.3,  -1.9990,  34.4500,2,-999.0000,9,    327.5,2, -2.0030,   -999.0,9,  -999.00,9,  -999.00,9,  -999.00,9
  09AR20020126, AIS01,    17,  1,      6,     24,2,20020211,1545,-68.4607,  70.2868,  446,   -999,    199.6,  -2.0020,  34.4600,2,  34.4600,2,    326.7,2, -2.0060,    326.2,2,  -999.00,9,  -999.00,9,  -999.00,9
  09AR20020126, AIS01,    17,  1,      5,    105,4,20020211,1545,-68.4607,  70.2868,  446,   -999,    300.5,  -2.0080,  34.4730,2,-999.0000,9,    325.7,2, -2.0150,   -999.0,9,    59.70,2,    31.25,3,     1.89,3
  09AR20020126, AIS01,    17,  1,      4,      4,2,20020211,1545,-68.4607,  70.2868,  446,   -999,    350.7,  -2.0090,  34.4730,2,  34.4710,2,    324.9,2, -2.0170,    326.9,2,    59.80,2,    31.03,2,     1.92,2
  09AR20020126, AIS01,    17,  1,      3,     21,2,20020211,1545,-68.4607,  70.2868,  446,   -999,    401.5,  -2.0130,  34.4730,2,  34.4730,2,    325.7,2, -2.0220,    326.6,2,    60.50,2,    31.34,2,     1.96,2
  09AR20020126, AIS01,    17,  1,      2,      2,2,20020211,1545,-68.4607,  70.2868,  446,   -999,    448.2,  -2.0040,  34.4740,2,  34.4750,2,    327.3,2, -2.0140,    326.2,2,    62.20,2,    31.17,2,     1.97,2
  09AR20020126, AIS01,    17,  1,      1,      1,2,20020211,1545,-68.4607,  70.2868,  446,   -999,    502.9,  -1.9930,  34.4780,2,  34.4750,2,   -999.0,5, -2.0050,    326.5,2,    60.00,2,    31.13,2,     1.97,2
  09AR20020126, AIS01,    18,  1,     12,     16,2,20020211,1751,-68.4742,  70.3295,  733,   -999,     12.0,  -1.8250,  34.0480,2,  34.0460,2,    362.7,3, -1.8260,    362.2,2,    50.00,2,    26.92,2,     1.62,2
  09AR20020126, AIS01,    18,  1,     11,     11,2,20020211,1751,-68.4742,  70.3295,  733,   -999,     26.9,  -1.8190,  34.0450,2,  34.0570,2,    350.0,2, -1.8200,    366.7,2,    50.80,2,    27.34,2,     1.69,2
  09AR20020126, AIS01,    18,  1,     10,     10,2,20020211,1751,-68.4742,  70.3295,  733,   -999,     51.8,  -1.6810,  34.1610,2,  34.1680,2,    344.1,2, -1.6820,    346.8,2,    54.50,2,    28.71,2,     1.84,2
  09AR20020126, AIS01,    18,  1,      9,     17,2,20020211,1751,-68.4742,  70.3295,  733,   -999,     76.5,  -1.8160,  34.3480,2,  34.3560,2,    336.2,2, -1.8180,    333.4,2,    56.20,2,    29.64,2,     1.87,2
  09AR20020126, AIS01,    18,  1,      8,      8,2,20020211,1751,-68.4742,  70.3295,  733,   -999,    102.1,  -1.8510,  34.3960,2,  34.3960,2,    332.4,2, -1.8530,    329.1,2,    56.40,2,    30.69,2,     1.91,2
  09AR20020126, AIS01,    18,  1,      7,      7,2,20020211,1751,-68.4742,  70.3295,  733,   -999,    202.4,  -1.9310,  34.4330,2,  34.4720,4,    325.6,2, -1.9360,    323.6,2,    60.60,2,    31.04,2,     1.92,2
  09AR20020126, AIS01,    18,  1,      6,     24,2,20020211,1751,-68.4742,  70.3295,  733,   -999,    301.6,  -1.9220,  34.4720,2,  34.4730,2,    322.1,2, -1.9290,    322.9,2,    61.20,2,    31.30,2,     1.93,2
  09AR20020126, AIS01,    18,  1,      5,    105,2,20020211,1751,-68.4742,  70.3295,  733,   -999,    401.6,  -1.9700,  34.4790,2,  34.4810,2,    322.0,2, -1.9790,    325.6,2,    60.80,2,    31.16,2,     1.98,2
  09AR20020126, AIS01,    18,  1,      4,      4,2,20020211,1751,-68.4742,  70.3295,  733,   -999,    501.6,  -1.9620,  34.4930,2,  34.4930,2,    323.6,2, -1.9740,    325.8,2,    61.00,2,    31.20,2,     1.95,2
  09AR20020126, AIS01,    18,  1,      3,     21,2,20020211,1751,-68.4742,  70.3295,  733,   -999,    601.4,  -1.9000,  34.5090,2,  34.5110,2,    323.0,2, -1.9150,    323.3,2,    60.60,2,    31.26,2,     1.98,2
  09AR20020126, AIS01,    18,  1,      2,      2,2,20020211,1751,-68.4742,  70.3295,  733,   -999,    700.1,  -1.8770,  34.5270,2,  34.5280,2,    323.4,2, -1.8950,    322.5,2,    60.60,2,    31.29,2,     1.98,2
  09AR20020126, AIS01,    18,  1,      1,      1,2,20020211,1751,-68.4742,  70.3295,  733,   -999,    712.6,  -1.8730,  34.5270,2,  34.5280,2,    324.0,2, -1.8920,    320.6,2,    60.50,2,    31.18,2,     1.97,2
  09AR20020126, AIS01,    19,  1,     12,     16,2,20020211,1950,-68.5010,  70.6530,  881,   -999,     12.0,  -1.8540,  33.9240,2,  33.9230,2,    370.3,3, -1.8550,    369.9,2,    46.50,2,    25.65,2,     1.52,2
  09AR20020126, AIS01,    19,  1,     11,     11,2,20020211,1950,-68.5010,  70.6530,  881,   -999,     26.6,  -1.8510,  33.9240,2,  33.9250,2,    352.9,2, -1.8520,    368.7,2,    46.40,2,    25.53,2,     1.43,2
  09AR20020126, AIS01,    19,  1,     10,     10,2,20020211,1950,-68.5010,  70.6530,  881,   -999,     51.7,  -1.8480,  33.9650,2,  34.0530,4,    345.0,2, -1.8490,    350.2,2,    46.50,2,    27.22,2,     1.65,2
  09AR20020126, AIS01,    19,  1,      9,     17,2,20020211,1950,-68.5010,  70.6530,  881,   -999,    101.7,  -1.8340,  34.4110,2,  34.4120,2,    329.6,2, -1.8360,    324.6,2,    56.60,2,    30.24,2,     2.00,2
  09AR20020126, AIS01,    19,  1,      8,      8,2,20020211,1950,-68.5010,  70.6530,  881,   -999,    201.7,  -1.8940,  34.4610,2,  34.4610,2,    323.2,2, -1.8990,    322.6,2,    59.10,2,    31.01,2,     1.98,2
  09AR20020126, AIS01,    19,  1,      7,      7,2,20020211,1950,-68.5010,  70.6530,  881,   -999,    301.9,  -1.8410,  34.4900,2,  34.4890,2,    319.5,2, -1.8480,    319.8,2,    59.80,2,    31.01,2,     1.99,2
  09AR20020126, AIS01,    19,  1,      6,     24,2,20020211,1950,-68.5010,  70.6530,  881,   -999,    401.9,  -1.8500,  34.5140,2,  34.5160,2,    320.1,2, -1.8600,    320.4,2,    61.90,2,    31.30,2,     1.99,2
  09AR20020126, AIS01,    19,  1,      5,    105,2,20020211,1950,-68.5010,  70.6530,  881,   -999,    501.5,  -1.8700,  34.5280,2,  34.5280,2,    319.0,2, -1.8820,    321.8,2,    62.30,2,    31.25,2,     1.97,2
  09AR20020126, AIS01,    19,  1,      4,      4,2,20020211,1950,-68.5010,  70.6530,  881,   -999,    601.9,  -1.8790,  34.5420,2,  34.5420,2,    322.3,2, -1.8940,    322.6,2,    60.90,2,    31.21,2,     1.99,2
  09AR20020126, AIS01,    19,  1,      3,     21,2,20020211,1950,-68.5010,  70.6530,  881,   -999,    702.0,  -1.8770,  34.5570,2,  34.5560,2,    323.2,2, -1.8950,    323.6,2,    60.10,2,    31.16,2,     1.99,2
  09AR20020126, AIS01,    19,  1,      2,      2,2,20020211,1950,-68.5010,  70.6530,  881,   -999,    801.6,  -1.8740,  34.5700,2,  34.5690,2,    324.6,2, -1.8960,    323.9,2,    60.80,2,    31.12,2,     1.96,2
  09AR20020126, AIS01,    19,  1,      1,      1,2,20020211,1950,-68.5010,  70.6530,  881,   -999,    877.1,  -1.8700,  34.5760,2,  34.5760,2,    325.1,2, -1.8940,    323.6,2,    61.80,2,    31.21,2,     1.98,2
  09AR20020126, AIS01,    20,  1,     12,     16,2,20020211,2149,-68.5012,  70.8107,  775,   -999,     10.3,  -1.8660,  33.9170,2,  33.9170,2,   -999.0,5, -1.8670,    370.1,2,    45.50,2,    25.38,2,     1.46,2
  09AR20020126, AIS01,    20,  1,     11,     11,2,20020211,2149,-68.5012,  70.8107,  775,   -999,     24.9,  -1.8630,  33.9190,2,  33.9250,2,   -999.0,5, -1.8640,    370.1,2,    44.70,2,    25.32,2,     1.43,2
  09AR20020126, AIS01,    20,  1,     10,     10,2,20020211,2149,-68.5012,  70.8107,  775,   -999,     61.0,  -1.6870,  34.3520,2,  34.3540,2,   -999.0,5, -1.6890,    331.2,2,    57.60,2,    29.76,2,     1.94,2
  09AR20020126, AIS01,    20,  1,      9,     17,2,20020211,2149,-68.5012,  70.8107,  775,   -999,     80.4,  -1.8100,  34.3930,2,  34.3920,2,   -999.0,5, -1.8120,    325.5,2,    57.90,2,    30.29,2,     1.95,2
  09AR20020126, AIS01,    20,  1,      8,      8,2,20020211,2149,-68.5012,  70.8107,  775,   -999,    100.8,  -1.8330,  34.4070,2,  34.4050,2,   -999.0,5, -1.8350,    325.0,2,    57.20,2,    30.42,2,     1.97,2
  09AR20020126, AIS01,    20,  1,      7,      7,2,20020211,2149,-68.5012,  70.8107,  775,   -999,    200.2,  -1.9020,  34.4630,2,  34.4970,4,   -999.0,5, -1.9070,    320.9,2,    62.10,2,    31.17,2,     2.01,2
  09AR20020126, AIS01,    20,  1,      6,     24,2,20020211,2149,-68.5012,  70.8107,  775,   -999,    300.1,  -1.8640,  34.4970,2,  34.4970,2,   -999.0,5, -1.8710,    322.1,2,    58.30,3,    31.24,2,     2.00,2
  09AR20020126, AIS01,    20,  1,      5,    105,2,20020211,2149,-68.5012,  70.8107,  775,   -999,    402.1,  -1.8640,  34.5180,2,  34.5160,2,   -999.0,5, -1.8740,    321.2,2,    60.70,2,    31.38,2,     2.01,2
  09AR20020126, AIS01,    20,  1,      4,      4,2,20020211,2149,-68.5012,  70.8107,  775,   -999,    499.4,  -1.8750,  34.5340,2,  34.5320,2,   -999.0,5, -1.8870,    321.9,2,    61.30,2,    31.38,2,     2.02,2
  09AR20020126, AIS01,    20,  1,      3,     21,2,20020211,2149,-68.5012,  70.8107,  775,   -999,    599.4,  -1.8800,  34.5480,2,  34.5480,2,   -999.0,5, -1.8950,    322.9,2,    60.50,2,    31.25,2,     2.02,2
  09AR20020126, AIS01,    20,  1,      2,      2,2,20020211,2149,-68.5012,  70.8107,  775,   -999,    697.9,  -1.8770,  34.5620,2,  34.5600,2,   -999.0,5, -1.8950,    323.7,2,    59.50,2,    31.41,2,     2.01,2
  09AR20020126, AIS01,    20,  1,      1,      1,2,20020211,2149,-68.5012,  70.8107,  775,   -999,    770.4,  -1.8740,  34.5740,2,  34.5730,2,   -999.0,5, -1.8950,    324.1,2,    61.30,2,    31.22,2,     2.01,2
  09AR20020126, AIS01,    21,  1,     12,     16,2,20020212,0005,-68.5348,  71.1402,  591,   -999,     11.3,  -1.8760,  33.8810,2,  33.8830,2,    369.4,3, -1.8770,    371.4,2,    47.90,2,    26.08,2,     1.61,2
  09AR20020126, AIS01,    21,  1,     11,     11,2,20020212,0005,-68.5348,  71.1402,  591,   -999,     27.2,  -1.8610,  33.8890,2,  33.8870,2,    365.4,2, -1.8620,    370.4,2,    46.70,2,    26.30,2,     1.60,2
  09AR20020126, AIS01,    21,  1,     10,     10,2,20020212,0005,-68.5348,  71.1402,  591,   -999,     51.3,  -1.8260,  34.0570,2,  34.1460,4,    350.8,2, -1.8270,    342.5,2,    51.30,2,    28.49,2,     1.81,2
  09AR20020126, AIS01,    21,  1,      9,     17,2,20020212,0005,-68.5348,  71.1402,  591,   -999,     77.3,  -1.8190,  34.3780,2,  34.3780,2,    328.9,2, -1.8210,    324.4,2,    58.50,2,    30.52,2,     1.95,2
  09AR20020126, AIS01,    21,  1,      8,      8,2,20020212,0005,-68.5348,  71.1402,  591,   -999,    101.8,  -1.8240,  34.4220,2,  34.4210,2,    325.0,2, -1.8260,    324.2,2,    59.60,2,    30.64,2,     1.97,2
  09AR20020126, AIS01,    21,  1,      7,      7,2,20020212,0005,-68.5348,  71.1402,  591,   -999,    151.6,  -1.8750,  34.4510,2,  34.4520,2,    321.5,2, -1.8780,    323.9,2,    60.10,2,    31.02,2,     1.99,2
  09AR20020126, AIS01,    21,  1,      6,     24,2,20020212,0005,-68.5348,  71.1402,  591,   -999,    201.7,  -1.8730,  34.4620,2,  34.4620,2,    320.2,2, -1.8780,    322.0,2,    60.30,2,    31.24,2,     1.99,2
  09AR20020126, AIS01,    21,  1,      5,    105,2,20020212,0005,-68.5348,  71.1402,  591,   -999,    252.1,  -1.8880,  34.4720,2,  34.4720,2,    318.9,2, -1.8940,    322.6,2,    61.00,2,    31.21,2,     2.01,2
  09AR20020126, AIS01,    21,  1,      4,      4,2,20020212,0005,-68.5348,  71.1402,  591,   -999,    302.3,  -1.9120,  34.4830,2,  34.4840,2,    322.4,2, -1.9190,    322.1,2,    62.80,2,    31.26,2,     2.02,2
  09AR20020126, AIS01,    21,  1,      3,     21,2,20020212,0005,-68.5348,  71.1402,  591,   -999,    402.1,  -1.8820,  34.5120,2,  34.5120,2,    323.4,2, -1.8920,    322.8,2,    63.40,2,    31.35,2,     2.02,2
  09AR20020126, AIS01,    21,  1,      2,      2,2,20020212,0005,-68.5348,  71.1402,  591,   -999,    498.6,  -1.8880,  34.5280,2,  34.5300,2,    323.3,2, -1.9000,    322.7,2,    62.70,2,    31.40,2,     2.03,2
  09AR20020126, AIS01,    21,  1,      1,      1,2,20020212,0005,-68.5348,  71.1402,  591,   -999,    590.0,  -1.8950,  34.5430,2,  34.5440,2,    324.5,2, -1.9100,    323.9,2,    61.80,2,    31.38,2,     2.02,2
  09AR20020126, AIS01,    22,  1,     12,     16,2,20020212,0145,-68.5557,  71.3992,  400,   -999,     12.6,  -1.8470,  33.7310,2,  33.7340,2,    379.0,3, -1.8480,    375.4,2,    44.10,2,    25.37,2,     1.44,2
  09AR20020126, AIS01,    22,  1,     11,     11,2,20020212,0145,-68.5557,  71.3992,  400,   -999,     22.2,  -1.8470,  33.7310,2,  33.7860,4,    366.4,2, -1.8480,    368.3,2,    43.90,2,    26.09,2,     1.50,2
  09AR20020126, AIS01,    22,  1,     10,     10,2,20020212,0145,-68.5557,  71.3992,  400,   -999,     42.0,  -1.8270,  33.9310,2,  34.0070,4,    343.3,2, -1.8280,    350.8,2,    49.70,2,    27.83,2,     1.69,2
  09AR20020126, AIS01,    22,  1,      9,     17,2,20020212,0145,-68.5557,  71.3992,  400,   -999,     62.3,  -1.8380,  34.3700,2,  34.3730,2,    319.4,2, -1.8400,    320.1,2,    58.40,2,    30.49,2,     1.95,2
  09AR20020126, AIS01,    22,  1,      8,      8,2,20020212,0145,-68.5557,  71.3992,  400,   -999,     82.0,  -1.8240,  34.4080,2,  34.4110,2,    328.9,2, -1.8260,    322.5,2,    58.60,2,    30.74,2,     1.96,2
  09AR20020126, AIS01,    22,  1,      7,      7,2,20020212,0145,-68.5557,  71.3992,  400,   -999,    102.6,  -1.8130,  34.4300,2,  34.4540,4,    325.7,2, -1.8150,    324.0,2,    58.80,2,    31.06,2,     1.99,2
  09AR20020126, AIS01,    22,  1,      6,     24,2,20020212,0145,-68.5557,  71.3992,  400,   -999,    152.9,  -1.8970,  34.4540,2,  34.4540,2,    322.8,2, -1.9000,    324.4,2,    59.60,2,    31.29,2,     1.99,2
  09AR20020126, AIS01,    22,  1,      5,    105,2,20020212,0145,-68.5557,  71.3992,  400,   -999,    202.1,  -1.8600,  34.4700,2,  34.4680,2,    320.6,2, -1.8650,    321.0,2,    60.30,2,    31.19,2,     1.98,2
  09AR20020126, AIS01,    22,  1,      4,      4,2,20020212,0145,-68.5557,  71.3992,  400,   -999,    251.9,  -1.8570,  34.4840,2,  34.4840,2,    321.1,2, -1.8630,    320.4,2,    60.90,2,    31.29,2,     2.00,2
  09AR20020126, AIS01,    22,  1,      3,     21,2,20020212,0145,-68.5557,  71.3992,  400,   -999,    302.0,  -1.8480,  34.4970,2,  34.4970,2,    320.9,2, -1.8550,    320.9,2,    62.60,2,    31.34,2,     2.02,2
  09AR20020126, AIS01,    22,  1,      2,      2,2,20020212,0145,-68.5557,  71.3992,  400,   -999,    353.1,  -1.9390,  34.5070,2,  34.5060,2,    325.6,2, -1.9470,    324.8,2,    62.70,2,    31.27,2,     2.01,2
  09AR20020126, AIS01,    22,  1,      1,      1,2,20020212,0145,-68.5557,  71.3992,  400,   -999,    386.1,  -1.9360,  34.5080,2,  34.5080,2,    323.7,2, -1.9450,    323.5,2,    62.10,2,    31.31,2,     2.01,2
  09AR20020126, AIS01,    23,  1,     12,     16,2,20020212,0313,-68.5802,  71.6007,  480,   -999,     11.4,  -1.8380,  33.5960,2,  33.5900,2,    387.4,3, -1.8390,    383.6,2,    41.50,2,    24.27,2,     1.34,2
  09AR20020126, AIS01,    23,  1,     11,     11,2,20020212,0313,-68.5802,  71.6007,  480,   -999,     21.9,  -1.8450,  33.6220,2,  33.6430,4,    383.2,3, -1.8460,    381.2,2,    43.20,2,    24.53,2,     1.40,2
  09AR20020126, AIS01,    23,  1,     10,     10,2,20020212,0313,-68.5802,  71.6007,  480,   -999,     41.5,  -1.8170,  34.3560,2,  34.3580,2,    330.1,2, -1.8180,    331.0,2,    55.70,2,    30.15,2,     1.96,2
  09AR20020126, AIS01,    23,  1,      9,     17,2,20020212,0313,-68.5802,  71.6007,  480,   -999,     61.7,  -1.7890,  34.3820,2,  34.3830,2,    336.7,2, -1.7910,    330.2,2,    57.40,2,    30.54,2,     1.97,2
  09AR20020126, AIS01,    23,  1,      8,      8,2,20020212,0313,-68.5802,  71.6007,  480,   -999,     81.6,  -1.7960,  34.3920,2,  34.3910,2,    329.0,2, -1.7980,    331.1,2,    58.90,2,    30.75,2,     1.97,2
  09AR20020126, AIS01,    23,  1,      7,      7,2,20020212,0313,-68.5802,  71.6007,  480,   -999,    101.6,  -1.8190,  34.4060,2,  34.4050,2,    329.5,2, -1.8210,    331.7,2,    57.90,2,    30.92,2,     1.98,2
  09AR20020126, AIS01,    23,  1,      6,     24,2,20020212,0313,-68.5802,  71.6007,  480,   -999,    151.4,  -1.9000,  34.4310,2,  34.4310,2,    328.1,2, -1.9030,    327.5,2,    59.50,2,    30.84,2,     1.98,2
  09AR20020126, AIS01,    23,  1,      5,    105,2,20020212,0313,-68.5802,  71.6007,  480,   -999,    201.4,  -1.9950,  34.4440,2,  34.4420,2,    324.8,2, -1.9990,    326.7,2,    60.10,2,    31.13,2,     2.01,2
  09AR20020126, AIS01,    23,  1,      4,      4,2,20020212,0313,-68.5802,  71.6007,  480,   -999,    251.8,  -1.9780,  34.4500,2,  34.4490,2,    324.7,2, -1.9840,    326.4,2,    59.90,2,    30.94,2,     2.00,2
  09AR20020126, AIS01,    23,  1,      3,     21,2,20020212,0313,-68.5802,  71.6007,  480,   -999,    301.5,  -2.0070,  34.4600,2,  34.4580,2,    325.1,2, -2.0140,    325.0,2,    62.30,2,    31.14,2,     2.00,2
  09AR20020126, AIS01,    23,  1,      2,      2,2,20020212,0313,-68.5802,  71.6007,  480,   -999,    401.2,  -1.9490,  34.4900,2,  34.4890,2,    326.6,2, -1.9580,    324.2,2,    63.70,2,    31.20,2,     2.01,2
  09AR20020126, AIS01,    23,  1,      1,      1,2,20020212,0313,-68.5802,  71.6007,  480,   -999,    474.2,  -1.9270,  34.5210,2,  34.5200,2,    328.0,2, -1.9380,    325.9,2,    61.70,2,    31.33,2,     2.02,2