BOTTLE,20141031SIOCCHAMB
EXPOCODE,SECT_ID,STNNBR,CASTNO,SAMPNO,BTLNBR,BTLNBR_FLAG_W,DATE,TIME,LATITUDE,LONGITUDE,DEPTH,CTDPRS,CTDTMP,CTDSAL,CTDSAL_FLAG_W,SALNTY,SALNTY_FLAG_W,CTDOXY,CTDOXY_FLAG_W,OXYGEN,OXYGEN_FLAG_W,SILCAT,SILCAT_FLAG_W,PHSPHT,PHSPHT_FLAG_W,REVPRS,CTDRAW,THETA,NO2+NO3,NO2+NO3_FLAG_W,REVTMP
,,,,,,,,,,,METERS,DBAR,ITS-90,PSS-78,,PSS-78,,UMOL/KG,,UMOL/KG,,UMOL/KG,,UMOL/KG,,DBAR,DBAR,ITS-90,UMOL/KG,,DEG C
33KB20130516,       PRS2,       2,         16,         19,       8019,2,20130519,       0858,  22.749833,-157.9995000,       4739,     4.8,  25.2178,  34.8586,2,  34.8583,2,    208.4,2,   208.3,2, -999.00,9, -999.00,9,  -999.0,       4,    25.2168, -999.00,9,     -999.0
33KB20130516,       PRS2,       2,         16,         18,       8018,2,20130519,       0858,  22.749833,-157.9995000,       4739,   120.4,  22.5579,  35.3933,2,  35.3961,2,    214.4,2,   214.9,2, -999.00,9, -999.00,9,  -999.0,     120,    22.5336, -999.00,9,     -999.0
33KB20130516,       PRS2,       2,         16,         17,       8017,2,20130519,       0858,  22.749833,-157.9995000,       4739,   525.7,   7.0447,  34.0504,2,  34.0517,2,    114.7,2,   117.1,2, -999.00,9, -999.00,9,  -999.0,     525,     6.9949, -999.00,9,     -999.0
33KB20130516,       PRS2,       2,         16,         16,       8016,2,20130519,       0858,  22.749833,-157.9995000,       4739,   820.1,   4.4558,  34.3282,2,  34.3242,2,     32.1,2,    31.5,2, -999.00,9, -999.00,9,  -999.0,     820,     4.3922, -999.00,9,     -999.0
33KB20130516,       PRS2,       2,         16,         15,       8015,2,20130519,       0858,  22.749833,-157.9995000,       4739,  1000.3,   4.0548,  34.4736,2,-999.0000,5,     43.6,2,  -999.0,5, -999.00,9, -999.00,9,  -999.0,    1001,     3.9787, -999.00,9,     -999.0
33KB20130516,       PRS2,       2,         16,         14,       8014,2,20130519,       0858,  22.749833,-157.9995000,       4739,  2000.3,   2.1922,  34.6140,2,-999.0000,5,     86.3,2,  -999.0,5, -999.00,9, -999.00,9,  -999.0,    2000,     2.0528, -999.00,9,     -999.0
33KB20130516,       PRS2,       2,         16,         13,       8025,2,20130519,       0858,  22.749833,-157.9995000,       4739,  2000.5,   2.1922,  34.6140,2,  34.6142,2,     86.3,2,    86.4,2, -999.00,9, -999.00,9,  -999.0,    2000,     2.0529, -999.00,9,     -999.0
33KB20130516,       PRS2,       2,         16,         12,       8012,2,20130519,       0858,  22.749833,-157.9995000,       4739,  2000.4,   2.1922,  34.6140,2,  34.6144,2,     86.3,2,    86.7,2, -999.00,9, -999.00,9,  -999.0,    2000,     2.0529, -999.00,9,     -999.0
33KB20130516,       PRS2,       2,         16,         11,       8011,2,20130519,       0858,  22.749833,-157.9995000,       4739,  2400.2,   1.8224,  34.6422,2,  34.6415,2,    103.6,2,   104.3,2, -999.00,9, -999.00,9,  -999.0,    2400,     1.6544, -999.00,9,     -999.0
33KB20130516,       PRS2,       2,         16,         10,       8010,2,20130519,       0858,  22.749833,-157.9995000,       4739,  2900.7,   1.5908,  34.6633,2,  34.6633,2,    119.7,2,   121.0,2, -999.00,9, -999.00,9,  -999.0,    2901,     1.3815, -999.00,9,     -999.0
33KB20130516,       PRS2,       2,         16,          9,       8009,2,20130519,       0858,  22.749833,-157.9995000,       4739,  2999.7,   1.5618,  34.6664,2,-999.0000,5,    123.2,2,  -999.0,5, -999.00,9, -999.00,9,  -999.0,    2998,     1.3437, -999.00,9,     -999.0
33KB20130516,       PRS2,       2,         16,          8,       8008,2,20130519,       0858,  22.749833,-157.9995000,       4739,  2999.9,   1.5616,  34.6663,2,  34.6643,2,    123.2,2,   123.9,2, -999.00,9, -999.00,9,  -999.0,    2998,     1.3435, -999.00,9,     -999.0
33KB20130516,       PRS2,       2,         16,          7,       8026,2,20130519,       0858,  22.749833,-157.9995000,       4739,  3401.4,   1.4860,  34.6763,2,  34.6765,2,    135.6,2,   135.7,2, -999.00,9, -999.00,9,  -999.0,    3401,     1.2303, -999.00,9,     -999.0
33KB20130516,       PRS2,       2,         16,          6,       8006,2,20130519,       0858,  22.749833,-157.9995000,       4739,  3901.9,   1.4620,  34.6826,2,  34.6826,2,    145.0,2,   145.2,2, -999.00,9, -999.00,9,  -999.0,    3901,     1.1548, -999.00,9,     -999.0
33KB20130516,       PRS2,       2,         16,          5,       8005,2,20130519,       0858,  22.749833,-157.9995000,       4739,  4001.0,   1.4634,  34.6836,2,-999.0000,5,    146.7,2,  -999.0,5, -999.00,9, -999.00,9,  -999.0,    4001,     1.1455, -999.00,9,     -999.0
33KB20130516,       PRS2,       2,         16,          4,       8004,2,20130519,       0858,  22.749833,-157.9995000,       4739,  4000.7,   1.4633,  34.6836,2,  34.6830,2,    146.7,2,   146.6,2, -999.00,9, -999.00,9,  -999.0,    4000,     1.1453, -999.00,9,     -999.0
33KB20130516,       PRS2,       2,         16,          3,       8003,2,20130519,       0858,  22.749833,-157.9995000,       4739,  4500.0,   1.4902,  34.6863,2,  34.6867,2,    151.5,2,  -999.0,5, -999.00,9, -999.00,9,  -999.0,    4499,     1.1155, -999.00,9,     -999.0
33KB20130516,       PRS2,       2,         16,          2,       8002,2,20130519,       0858,  22.749833,-157.9995000,       4739,  4499.6,   1.4901,  34.6865,2,  34.6857,2,    151.3,2,   151.2,2, -999.00,9, -999.00,9,  -999.0,    4498,     1.1155, -999.00,9,     -999.0
33KB20130516,       PRS2,       2,         16,          1,       8001,2,20130519,       0858,  22.749833,-157.9995000,       4739,  4803.9,   1.5218,  34.6865,2,  34.6869,2,    151.8,2,   152.0,2, -999.00,9, -999.00,9,  -999.0,    4803,     1.1105, -999.00,9,     -999.0
33KB20130516,       PRS2,       6,          1,         13,       8025,2,20130520,       0638,  21.846667,-158.3641667,       2429,     7.0,  25.1973,  35.0277,2,  35.0274,2,    208.5,1,  -999.0,9, -999.00,9, -999.00,9,  -999.0,       7,    25.1957, -999.00,9,     -999.0
33KB20130516,       PRS2,       6,          1,         12,       8012,2,20130520,       0638,  21.846667,-158.3641667,       2429,    26.1,  25.1826,  35.0237,2,  35.0224,2,    208.4,1,  -999.0,9, -999.00,9, -999.00,9,  -999.0,      26,    25.1769, -999.00,9,     -999.0
33KB20130516,       PRS2,       6,          1,         11,       8011,2,20130520,       0638,  21.846667,-158.3641667,       2429,    45.7,  24.5502,  35.1403,2,  35.1423,2,    214.4,1,  -999.0,9, -999.00,9, -999.00,9,  -999.0,      46,    24.5405, -999.00,9,     -999.0
33KB20130516,       PRS2,       6,          1,         10,       8010,2,20130520,       0638,  21.846667,-158.3641667,       2429,    75.3,  23.3921,  35.1650,2,  35.1654,2,    211.8,1,  -999.0,9, -999.00,9, -999.00,9,  -999.0,      75,    23.3765, -999.00,9,     -999.0
33KB20130516,       PRS2,       6,          1,          9,       8009,2,20130520,       0638,  21.846667,-158.3641667,       2429,    98.9,  22.7012,  35.1727,2,  35.1711,2,    210.2,1,  -999.0,9, -999.00,9, -999.00,9,  -999.0,      99,    22.6812, -999.00,9,     -999.0
33KB20130516,       PRS2,       6,          1,          8,       8008,2,20130520,       0638,  21.846667,-158.3641667,       2429,   125.9,  21.2050,  35.0880,2,  35.0911,2,    201.9,1,  -999.0,9, -999.00,9, -999.00,9,  -999.0,     125,    21.1807, -999.00,9,     -999.0
33KB20130516,       PRS2,       6,          1,          7,       8026,2,20130520,       0638,  21.846667,-158.3641667,       2429,   148.9,  20.1935,  35.0061,2,  35.0089,2,    192.5,1,  -999.0,9, -999.00,9, -999.00,9,  -999.0,     149,    20.1658, -999.00,9,     -999.0
33KB20130516,       PRS2,       6,          1,          6,       8006,2,20130520,       0638,  21.846667,-158.3641667,       2429,   175.9,  18.7000,  34.8095,2,  34.8106,2,    186.9,1,  -999.0,9, -999.00,9, -999.00,9,  -999.0,     176,    18.6690, -999.00,9,     -999.0
33KB20130516,       PRS2,       6,          1,          5,       8005,2,20130520,       0638,  21.846667,-158.3641667,       2429,   501.0,   6.3760,  34.1397,2,  34.1487,3,     67.4,1,  -999.0,9, -999.00,9, -999.00,9,  -999.0,     501,     6.3310, -999.00,9,     -999.0
33KB20130516,       PRS2,       6,          1,          4,       8004,2,20130520,       0638,  21.846667,-158.3641667,       2429,  1000.7,   4.0944,  34.4955,2,  34.4950,2,     44.6,1,  -999.0,9, -999.00,9, -999.00,9,  -999.0,    1001,     4.0179, -999.00,9,     -999.0
33KB20130516,       PRS2,       6,          1,          3,       8003,2,20130520,       0638,  21.846667,-158.3641667,       2429,  1500.1,   2.8392,  34.5754,2,  34.5759,2,     67.3,1,  -999.0,9, -999.00,9, -999.00,9,  -999.0,    1499,     2.7332, -999.00,9,     -999.0
33KB20130516,       PRS2,       6,          1,          2,       8002,2,20130520,       0638,  21.846667,-158.3641667,       2429,  2002.0,   2.2048,  34.6151,2,  34.6146,2,     88.6,1,  -999.0,9, -999.00,9, -999.00,9,  -999.0,    2001,     2.0651, -999.00,9,     -999.0
33KB20130516,       PRS2,       6,          1,          1,       8001,2,20130520,       0638,  21.846667,-158.3641667,       2429,  2444.6,   1.8479,  34.6425,2,  34.6437,2,    105.8,1,  -999.0,9, -999.00,9, -999.00,9,  -999.0,    2444,     1.6755, -999.00,9,     -999.0
33KB20130516,       PRS2,      10,          1,         24,       8024,2,20130517,       0028,  21.325333,-158.3246667,       2660,     9.1,  25.2363,  35.0831,2,  35.0821,2,    206.2,2,   209.1,2, -999.00,9, -999.00,9,  -999.0,       9,    25.2343, -999.00,9,     -999.0
33KB20130516,       PRS2,      10,          1,         23,       8023,2,20130517,       0028,  21.325333,-158.3246667,       2660,     9.1,  25.2358,  35.0828,2,-999.0000,5,    206.2,2,   208.0,2, -999.00,9, -999.00,9,  -999.0,       8,    25.2338, -999.00,9,     -999.0
33KB20130516,       PRS2,      10,          1,         22,       8022,2,20130517,       0028,  21.325333,-158.3246667,       2660,    25.5,  25.3122,  35.2074,2,  35.2079,2,    211.6,2,   209.2,2, -999.00,9, -999.00,9,  -999.0,      26,    25.3066, -999.00,9,     -999.0
33KB20130516,       PRS2,      10,          1,         21,       8021,2,20130517,       0028,  21.325333,-158.3246667,       2660,    45.1,  25.1493,  35.1961,2,  35.1949,2,    210.3,2,   209.5,2, -999.00,9, -999.00,9,  -999.0,      44,    25.1395, -999.00,9,     -999.0
33KB20130516,       PRS2,      10,          1,         20,       8020,2,20130517,       0028,  21.325333,-158.3246667,       2660,    62.0,  24.1865,  35.1172,2,  35.1156,2,    214.8,2,   213.5,2, -999.00,9, -999.00,9,  -999.0,      61,    24.1733, -999.00,9,     -999.0
33KB20130516,       PRS2,      10,          1,         19,       8019,2,20130517,       0028,  21.325333,-158.3246667,       2660,    75.0,  23.5759,  35.2349,2,  35.4202,4,    215.0,3,   214.2,2, -999.00,9, -999.00,9,  -999.0,      75,    23.5603, -999.00,9,     -999.0
33KB20130516,       PRS2,      10,          1,         18,       8018,2,20130517,       0028,  21.325333,-158.3246667,       2660,   100.2,  22.7621,  35.4159,2,  35.4208,2,    217.6,2,   216.5,2, -999.00,9, -999.00,9,  -999.0,     100,    22.7418, -999.00,9,     -999.0
33KB20130516,       PRS2,      10,          1,         17,       8017,2,20130517,       0028,  21.325333,-158.3246667,       2660,   115.2,  22.5150,  35.4032,2,  35.3977,2,    217.0,2,   215.0,2, -999.00,9, -999.00,9,  -999.0,     115,    22.4918, -999.00,9,     -999.0
33KB20130516,       PRS2,      10,          1,         16,       8016,2,20130517,       0028,  21.325333,-158.3246667,       2660,   125.0,  21.5651,  35.2078,2,  35.2373,3,    207.3,3,   208.6,2, -999.00,9, -999.00,9,  -999.0,     124,    21.5407, -999.00,9,     -999.0
33KB20130516,       PRS2,      10,          1,         15,       8015,2,20130517,       0028,  21.325333,-158.3246667,       2660,   149.9,  20.3874,  35.1180,2,  35.1187,2,    201.8,2,   201.7,2, -999.00,9, -999.00,9,  -999.0,     149,    20.3593, -999.00,9,     -999.0
33KB20130516,       PRS2,      10,          1,         14,       8014,2,20130517,       0028,  21.325333,-158.3246667,       2660,   175.2,  19.5732,  35.0269,2,  35.0124,2,    200.9,2,   195.5,2, -999.00,9, -999.00,9,  -999.0,     175,    19.5413, -999.00,9,     -999.0
33KB20130516,       PRS2,      10,          1,         13,       8025,2,20130517,       0028,  21.325333,-158.3246667,       2660,   199.9,  18.4574,  34.8728,2,  34.8639,2,    190.4,2,   193.2,2, -999.00,9, -999.00,9,  -999.0,     199,    18.4225, -999.00,9,     -999.0
33KB20130516,       PRS2,      10,          1,         12,       8012,2,20130517,       0028,  21.325333,-158.3246667,       2660,   225.8,  16.6605,  34.6007,2,  34.5565,3,    189.9,3,   186.0,2, -999.00,9, -999.00,9,  -999.0,     225,    16.6238, -999.00,9,     -999.0
33KB20130516,       PRS2,      10,          1,         11,       8011,2,20130517,       0028,  21.325333,-158.3246667,       2660,   250.1,  13.9848,  34.2637,2,  34.2466,2,    175.2,2,   181.0,2, -999.00,9, -999.00,9,  -999.0,     251,    13.9489, -999.00,9,     -999.0
33KB20130516,       PRS2,      10,          1,         10,       8010,2,20130517,       0028,  21.325333,-158.3246667,       2660,   301.1,  11.0748,  34.1618,2,  34.1624,2,    185.4,2,   185.6,2, -999.00,9, -999.00,9,  -999.0,     301,    11.0377, -999.00,9,     -999.0
33KB20130516,       PRS2,      10,          1,          9,       8009,2,20130517,       0028,  21.325333,-158.3246667,       2660,   350.2,   9.1573,  34.1104,2,  34.1127,2,    159.3,2,   155.1,2, -999.00,9, -999.00,9,  -999.0,     350,     9.1189, -999.00,9,     -999.0
33KB20130516,       PRS2,      10,          1,          8,       8008,2,20130517,       0028,  21.325333,-158.3246667,       2660,   400.7,   7.7799,  34.0966,2,  34.0956,2,    109.4,2,   114.7,2, -999.00,9, -999.00,9,  -999.0,     400,     7.7400, -999.00,9,     -999.0
33KB20130516,       PRS2,      10,          1,          7,       8026,2,20130517,       0028,  21.325333,-158.3246667,       2660,   500.7,   6.3725,  34.1942,2,  34.1962,2,     53.3,2,    53.2,2, -999.00,9, -999.00,9,  -999.0,     500,     6.3276, -999.00,9,     -999.0
33KB20130516,       PRS2,      10,          1,          6,       8006,2,20130517,       0028,  21.325333,-158.3246667,       2660,   600.4,   5.8574,  34.2674,2,  34.2719,2,     39.6,2,    38.4,2, -999.00,9, -999.00,9,  -999.0,     600,     5.8054, -999.00,9,     -999.0
33KB20130516,       PRS2,      10,          1,          5,       8005,2,20130517,       0028,  21.325333,-158.3246667,       2660,   700.3,   5.3240,  34.3839,2,  34.3843,2,     36.2,2,    35.8,2, -999.00,9, -999.00,9,  -999.0,     700,     5.2656, -999.00,9,     -999.0
33KB20130516,       PRS2,      10,          1,          4,       8004,2,20130517,       0028,  21.325333,-158.3246667,       2660,   751.3,   5.1358,  34.4235,2,  34.4249,2,     39.0,2,    38.7,2, -999.00,9, -999.00,9,  -999.0,     751,     5.0739, -999.00,9,     -999.0
33KB20130516,       PRS2,      10,          1,          3,       8003,2,20130517,       0028,  21.325333,-158.3246667,       2660,   900.1,   4.5475,  34.4831,2,  34.4840,2,     42.6,2,    42.2,2, -999.00,9, -999.00,9,  -999.0,     900,     4.4763, -999.00,9,     -999.0
33KB20130516,       PRS2,      10,          1,          2,       8002,2,20130517,       0028,  21.325333,-158.3246667,       2660,   900.1,   4.5475,  34.4830,2,  34.4842,2,     42.6,2,    42.4,2, -999.00,9, -999.00,9,  -999.0,     900,     4.4763, -999.00,9,     -999.0
33KB20130516,       PRS2,      10,          1,          1,       8001,2,20130517,       0028,  21.325333,-158.3246667,       2660,  1019.8,   4.0295,  34.5026,2,  34.5029,2,     46.1,2,    46.6,2, -999.00,9, -999.00,9,  -999.0,    1020,     3.9519, -999.00,9,     -999.0