BOTTLE,20141031SIOCCHAMB
EXPOCODE,SECT_ID,STNNBR,CASTNO,SAMPNO,BTLNBR,BTLNBR_FLAG_W,DATE,TIME,LATITUDE,LONGITUDE,DEPTH,CTDPRS,CTDTMP,CTDSAL,CTDSAL_FLAG_W,SALNTY,SALNTY_FLAG_W,CTDOXY,CTDOXY_FLAG_W,OXYGEN,OXYGEN_FLAG_W,SILCAT,SILCAT_FLAG_W,PHSPHT,PHSPHT_FLAG_W,REVPRS,CTDRAW,THETA,NO2+NO3,NO2+NO3_FLAG_W,REVTMP
,,,,,,,,,,,METERS,DBAR,ITS-90,PSS-78,,PSS-78,,UMOL/KG,,UMOL/KG,,UMOL/KG,,UMOL/KG,,DBAR,DBAR,ITS-90,UMOL/KG,,DEG C
33KB20130516,       PRS2,       2,         13,         24,       8024,2,20130518,       2345,  22.747333,-157.9765000,       4735,     6.6,  25.4195,  34.8688,2,  34.8682,2,    206.1,1,  -999.0,9, -999.00,9, -999.00,9,  -999.0,       6,    25.4180, -999.00,9,     -999.0
33KB20130516,       PRS2,       2,         13,         23,       8023,2,20130518,       2345,  22.747333,-157.9765000,       4735,    25.2,  25.0552,  34.8612,2,  34.8607,2,    207.2,1,  -999.0,9, -999.00,9, -999.00,9,  -999.0,      26,    25.0497, -999.00,9,     -999.0
33KB20130516,       PRS2,       2,         13,         22,       8022,2,20130518,       2345,  22.747333,-157.9765000,       4735,    46.0,  24.7478,  34.9538,2,-999.0000,5,    210.8,1,  -999.0,9, -999.00,9, -999.00,9,  -999.0,      46,    24.7379, -999.00,9,     -999.0
33KB20130516,       PRS2,       2,         13,         21,       8021,2,20130518,       2345,  22.747333,-157.9765000,       4735,    45.8,  24.6778,  34.9743,2,  34.9652,2,    211.8,1,  -999.0,9, -999.00,9, -999.00,9,  -999.0,      47,    24.6679, -999.00,9,     -999.0
33KB20130516,       PRS2,       2,         13,         20,       8020,2,20130518,       2345,  22.747333,-157.9765000,       4735,    73.7,  23.7218,  35.3062,2,  35.2924,3,    215.0,1,  -999.0,9, -999.00,9, -999.00,9,  -999.0,      73,    23.7064, -999.00,9,     -999.0
33KB20130516,       PRS2,       2,         13,         19,       8019,2,20130518,       2345,  22.747333,-157.9765000,       4735,   100.1,  22.8812,  35.3918,2,  35.3882,2,    216.8,1,  -999.0,9, -999.00,9, -999.00,9,  -999.0,     101,    22.8608, -999.00,9,     -999.0
33KB20130516,       PRS2,       2,         13,         18,       8018,2,20130518,       2345,  22.747333,-157.9765000,       4735,   126.2,  22.4198,  35.3908,2,  35.3920,2,    211.3,1,  -999.0,9, -999.00,9, -999.00,9,  -999.0,     125,    22.3944, -999.00,9,     -999.0
33KB20130516,       PRS2,       2,         13,         17,       8017,2,20130518,       2345,  22.747333,-157.9765000,       4735,   150.5,  21.9717,  35.3408,2,  35.3366,2,    210.3,1,  -999.0,9, -999.00,9, -999.00,9,  -999.0,     149,    21.9420, -999.00,9,     -999.0
33KB20130516,       PRS2,       2,         13,         16,       8016,2,20130518,       2345,  22.747333,-157.9765000,       4735,   201.1,  20.1576,  35.1565,2,-999.0000,5,    200.3,1,  -999.0,9, -999.00,9, -999.00,9,  -999.0,     200,    20.1201, -999.00,9,     -999.0
33KB20130516,       PRS2,       2,         13,         15,       8015,2,20130518,       2345,  22.747333,-157.9765000,       4735,   201.2,  20.1425,  35.1547,2,-999.0000,5,    200.2,1,  -999.0,9, -999.00,9, -999.00,9,  -999.0,     199,    20.1051, -999.00,9,     -999.0
33KB20130516,       PRS2,       2,         13,         14,       8014,2,20130518,       2345,  22.747333,-157.9765000,       4735,   250.9,  17.2849,  34.6890,2,  34.6710,2,    191.3,1,  -999.0,9, -999.00,9, -999.00,9,  -999.0,     250,    17.2430, -999.00,9,     -999.0
33KB20130516,       PRS2,       2,         13,         13,       8025,2,20130518,       2345,  22.747333,-157.9765000,       4735,   299.4,  14.0221,  34.3488,2,-999.0000,5,    198.4,1,  -999.0,9, -999.00,9, -999.00,9,  -999.0,     300,    13.9789, -999.00,9,     -999.0
33KB20130516,       PRS2,       2,         13,         12,       8012,2,20130518,       2345,  22.747333,-157.9765000,       4735,   299.5,  14.0079,  34.3455,2,-999.0000,5,    198.3,1,  -999.0,9, -999.00,9, -999.00,9,  -999.0,     298,    13.9647, -999.00,9,     -999.0
33KB20130516,       PRS2,       2,         13,         11,       8011,2,20130518,       2345,  22.747333,-157.9765000,       4735,   350.9,  11.8409,  34.2431,2,  34.2442,2,    209.4,1,  -999.0,9, -999.00,9, -999.00,9,  -999.0,     351,    11.7956, -999.00,9,     -999.0
33KB20130516,       PRS2,       2,         13,         10,       8010,2,20130518,       2345,  22.747333,-157.9765000,       4735,   401.1,  10.0213,  34.1536,2,-999.0000,5,    195.4,1,  -999.0,9, -999.00,9, -999.00,9,  -999.0,     402,     9.9747, -999.00,9,     -999.0
33KB20130516,       PRS2,       2,         13,          9,       8009,2,20130518,       2345,  22.747333,-157.9765000,       4735,   500.8,   7.5934,  34.0501,2,-999.0000,5,    139.5,1,  -999.0,9, -999.00,9, -999.00,9,  -999.0,     501,     7.5440, -999.00,9,     -999.0
33KB20130516,       PRS2,       2,         13,          8,       8008,2,20130518,       2345,  22.747333,-157.9765000,       4735,   500.9,   7.5874,  34.0503,2,-999.0000,5,    139.3,1,  -999.0,9, -999.00,9, -999.00,9,  -999.0,     501,     7.5379, -999.00,9,     -999.0
33KB20130516,       PRS2,       2,         13,          7,       8026,2,20130518,       2345,  22.747333,-157.9765000,       4735,   539.2,   6.4718,  34.0462,2,  34.0494,2,    103.6,1,  -999.0,9, -999.00,9, -999.00,9,  -999.0,     539,     6.4230, -999.00,9,     -999.0
33KB20130516,       PRS2,       2,         13,          6,       8006,2,20130518,       2345,  22.747333,-157.9765000,       4735,   600.8,   5.7217,  34.0896,2,-999.0000,5,     71.5,1,  -999.0,9, -999.00,9, -999.00,9,  -999.0,     601,     5.6705, -999.00,9,     -999.0
33KB20130516,       PRS2,       2,         13,          5,       8005,2,20130518,       2345,  22.747333,-157.9765000,       4735,   700.5,   4.9708,  34.1916,2,-999.0000,5,     39.8,1,  -999.0,9, -999.00,9, -999.00,9,  -999.0,     699,     4.9144, -999.00,9,     -999.0
33KB20130516,       PRS2,       2,         13,          4,       8004,2,20130518,       2345,  22.747333,-157.9765000,       4735,   769.6,   4.6028,  34.2768,2,-999.0000,5,     31.8,1,  -999.0,9, -999.00,9, -999.00,9,  -999.0,     769,     4.5426, -999.00,9,     -999.0
33KB20130516,       PRS2,       2,         13,          3,       8003,2,20130518,       2345,  22.747333,-157.9765000,       4735,   800.5,   4.5217,  34.3090,2,-999.0000,5,     31.1,1,  -999.0,9, -999.00,9, -999.00,9,  -999.0,     800,     4.4594, -999.00,9,     -999.0
33KB20130516,       PRS2,       2,         13,          2,       8002,2,20130518,       2345,  22.747333,-157.9765000,       4735,   899.9,   4.3164,  34.3871,2,-999.0000,5,     35.6,1,  -999.0,9, -999.00,9, -999.00,9,  -999.0,     901,     4.2470, -999.00,9,     -999.0
33KB20130516,       PRS2,       2,         13,          1,       8001,2,20130518,       2345,  22.747333,-157.9765000,       4735,  1020.0,   3.9950,  34.4543,2,  34.4575,2,     43.1,1,  -999.0,9, -999.00,9, -999.00,9,  -999.0,    1020,     3.9178, -999.00,9,     -999.0
33KB20130516,       PRS2,       2,         14,         16,       8016,2,20130519,       0250,  22.750167,-157.9991667,       4742,     7.0,  25.5739,  34.8620,2,-999.0000,5,    207.4,1,  -999.0,9, -999.00,9, -999.00,9,  -999.0,       7,    25.5724, -999.00,9,     -999.0
33KB20130516,       PRS2,       2,         14,         15,       8015,2,20130519,       0250,  22.750167,-157.9991667,       4742,    24.8,  25.0253,  34.8653,2,  34.8652,2,    208.6,1,  -999.0,9, -999.00,9, -999.00,9,  -999.0,      25,    25.0199, -999.00,9,     -999.0
33KB20130516,       PRS2,       2,         14,         14,       8014,2,20130519,       0250,  22.750167,-157.9991667,       4742,    24.8,  25.0247,  34.8657,2,-999.0000,5,    208.6,1,  -999.0,9, -999.00,9, -999.00,9,  -999.0,      25,    25.0194, -999.00,9,     -999.0
33KB20130516,       PRS2,       2,         14,         13,       8025,2,20130519,       0250,  22.750167,-157.9991667,       4742,    24.6,  25.0258,  34.8655,2,-999.0000,5,    208.6,1,  -999.0,9, -999.00,9, -999.00,9,  -999.0,      24,    25.0205, -999.00,9,     -999.0
33KB20130516,       PRS2,       2,         14,         12,       8012,2,20130519,       0250,  22.750167,-157.9991667,       4742,    24.3,  25.0273,  34.8655,2,-999.0000,5,    208.4,1,  -999.0,9, -999.00,9, -999.00,9,  -999.0,      23,    25.0221, -999.00,9,     -999.0
33KB20130516,       PRS2,       2,         14,         11,       8011,2,20130519,       0250,  22.750167,-157.9991667,       4742,    24.3,  25.0284,  34.8656,2,-999.0000,5,    208.4,1,  -999.0,9, -999.00,9, -999.00,9,  -999.0,      24,    25.0231, -999.00,9,     -999.0
33KB20130516,       PRS2,       2,         14,         10,       8010,2,20130519,       0250,  22.750167,-157.9991667,       4742,    45.1,  24.8530,  34.9086,2,-999.0000,5,    210.6,1,  -999.0,9, -999.00,9, -999.00,9,  -999.0,      45,    24.8433, -999.00,9,     -999.0
33KB20130516,       PRS2,       2,         14,          9,       8009,2,20130519,       0250,  22.750167,-157.9991667,       4742,    45.2,  24.8541,  34.9087,2,-999.0000,5,    210.7,1,  -999.0,9, -999.00,9, -999.00,9,  -999.0,      45,    24.8443, -999.00,9,     -999.0
33KB20130516,       PRS2,       2,         14,          8,       8008,2,20130519,       0250,  22.750167,-157.9991667,       4742,    75.3,  24.0676,  35.1039,2,-999.0000,5,    216.3,1,  -999.0,9, -999.00,9, -999.00,9,  -999.0,      76,    24.0518, -999.00,9,     -999.0
33KB20130516,       PRS2,       2,         14,          7,       8026,2,20130519,       0250,  22.750167,-157.9991667,       4742,    99.4,  22.8241,  35.2216,2,-999.0000,5,    214.9,1,  -999.0,9, -999.00,9, -999.00,9,  -999.0,      98,    22.8039, -999.00,9,     -999.0
33KB20130516,       PRS2,       2,         14,          6,       8006,2,20130519,       0250,  22.750167,-157.9991667,       4742,   124.4,  22.3799,  35.3843,2,-999.0000,5,    212.0,1,  -999.0,9, -999.00,9, -999.00,9,  -999.0,     125,    22.3549, -999.00,9,     -999.0
33KB20130516,       PRS2,       2,         14,          5,       8005,2,20130519,       0250,  22.750167,-157.9991667,       4742,   134.4,  22.0108,  35.3455,2,  35.3453,2,    210.0,1,  -999.0,9, -999.00,9, -999.00,9,  -999.0,     133,    21.9842, -999.00,9,     -999.0
33KB20130516,       PRS2,       2,         14,          4,       8004,2,20130519,       0250,  22.750167,-157.9991667,       4742,   150.7,  21.3995,  35.3135,2,-999.0000,5,    208.9,1,  -999.0,9, -999.00,9, -999.00,9,  -999.0,     150,    21.3703, -999.00,9,     -999.0
33KB20130516,       PRS2,       2,         14,          3,       8003,2,20130519,       0250,  22.750167,-157.9991667,       4742,   175.1,  20.8412,  35.2415,2,-999.0000,5,    208.4,1,  -999.0,9, -999.00,9, -999.00,9,  -999.0,     174,    20.8078, -999.00,9,     -999.0
33KB20130516,       PRS2,       2,         14,          2,       8002,2,20130519,       0250,  22.750167,-157.9991667,       4742,   525.5,   7.0626,  34.0602,2,  34.0594,2,    114.9,1,  -999.0,9, -999.00,9, -999.00,9,  -999.0,     525,     7.0128, -999.00,9,     -999.0
33KB20130516,       PRS2,       2,         14,          1,       8001,2,20130519,       0250,  22.750167,-157.9991667,       4742,  1019.9,   3.8806,  34.4856,2,  34.4868,2,     46.6,1,  -999.0,9, -999.00,9, -999.00,9,  -999.0,    1019,     3.8042, -999.00,9,     -999.0
33KB20130516,       PRS2,       2,         15,         22,       8022,2,20130519,       0550,  22.749833,-158.0000000,       4743,     7.7,  25.1163,  34.8669,2,  34.8656,2,    208.5,1,  -999.0,9, -999.00,9, -999.00,9,  -999.0,       8,    25.1146, -999.00,9,     -999.0
33KB20130516,       PRS2,       2,         15,         21,       8021,2,20130519,       0550,  22.749833,-158.0000000,       4743,     7.8,  25.1195,  34.8670,2,-999.0000,5,    208.6,1,  -999.0,9, -999.00,9, -999.00,9,  -999.0,       8,    25.1178, -999.00,9,     -999.0
33KB20130516,       PRS2,       2,         15,         20,       8020,2,20130519,       0550,  22.749833,-158.0000000,       4743,    25.3,  24.9351,  34.8703,2,  34.8690,2,    208.5,1,  -999.0,9, -999.00,9, -999.00,9,  -999.0,      24,    24.9296, -999.00,9,     -999.0
33KB20130516,       PRS2,       2,         15,         19,       8019,2,20130519,       0550,  22.749833,-158.0000000,       4743,    25.3,  24.9342,  34.8702,2,  34.8713,2,    208.3,1,  -999.0,9, -999.00,9, -999.00,9,  -999.0,      24,    24.9287, -999.00,9,     -999.0
33KB20130516,       PRS2,       2,         15,         18,       8018,2,20130519,       0550,  22.749833,-158.0000000,       4743,    45.4,  24.1780,  34.9325,2,  34.9307,2,    215.8,1,  -999.0,9, -999.00,9, -999.00,9,  -999.0,      45,    24.1684, -999.00,9,     -999.0
33KB20130516,       PRS2,       2,         15,         17,       8017,2,20130519,       0550,  22.749833,-158.0000000,       4743,    45.6,  24.1657,  34.9330,2,  34.9303,2,    216.3,1,  -999.0,9, -999.00,9, -999.00,9,  -999.0,      45,    24.1561, -999.00,9,     -999.0
33KB20130516,       PRS2,       2,         15,         16,       8016,2,20130519,       0550,  22.749833,-158.0000000,       4743,    59.8,  24.0873,  35.0927,2,  35.0967,2,    216.5,1,  -999.0,9, -999.00,9, -999.00,9,  -999.0,      60,    24.0747, -999.00,9,     -999.0
33KB20130516,       PRS2,       2,         15,         15,       8015,2,20130519,       0550,  22.749833,-158.0000000,       4743,    75.7,  23.7734,  35.3363,2,  35.3602,3,    214.2,1,  -999.0,9, -999.00,9, -999.00,9,  -999.0,      75,    23.7575, -999.00,9,     -999.0
33KB20130516,       PRS2,       2,         15,         14,       8014,2,20130519,       0550,  22.749833,-158.0000000,       4743,    75.4,  23.7200,  35.3392,2,  35.3508,2,    213.3,1,  -999.0,9, -999.00,9, -999.00,9,  -999.0,      74,    23.7042, -999.00,9,     -999.0
33KB20130516,       PRS2,       2,         15,         13,       8025,2,20130519,       0550,  22.749833,-158.0000000,       4743,    85.9,  22.7769,  35.2018,2,  35.2002,2,    213.4,1,  -999.0,9, -999.00,9, -999.00,9,  -999.0,      87,    22.7595, -999.00,9,     -999.0
33KB20130516,       PRS2,       2,         15,         12,       8012,2,20130519,       0550,  22.749833,-158.0000000,       4743,    99.4,  22.8489,  35.3879,2,  35.3945,2,    217.3,1,  -999.0,9, -999.00,9, -999.00,9,  -999.0,      99,    22.8287, -999.00,9,     -999.0
33KB20130516,       PRS2,       2,         15,         11,       8011,2,20130519,       0550,  22.749833,-158.0000000,       4743,    99.4,  22.8485,  35.3887,2,  35.3977,2,    217.1,1,  -999.0,9, -999.00,9, -999.00,9,  -999.0,     100,    22.8283, -999.00,9,     -999.0
33KB20130516,       PRS2,       2,         15,         10,       8010,2,20130519,       0550,  22.749833,-158.0000000,       4743,   115.3,  22.4696,  35.3922,2,  35.3934,2,    213.9,1,  -999.0,9, -999.00,9, -999.00,9,  -999.0,     114,    22.4464, -999.00,9,     -999.0
33KB20130516,       PRS2,       2,         15,          9,       8009,2,20130519,       0550,  22.749833,-158.0000000,       4743,   125.4,  22.2401,  35.3733,2,  35.3703,2,    211.1,1,  -999.0,9, -999.00,9, -999.00,9,  -999.0,     125,    22.2151, -999.00,9,     -999.0
33KB20130516,       PRS2,       2,         15,          8,       8008,2,20130519,       0550,  22.749833,-158.0000000,       4743,   125.5,  22.2209,  35.3693,2,  35.3666,2,    211.3,1,  -999.0,9, -999.00,9, -999.00,9,  -999.0,     125,    22.1959, -999.00,9,     -999.0
33KB20130516,       PRS2,       2,         15,          7,       8026,2,20130519,       0550,  22.749833,-158.0000000,       4743,   135.7,  21.9728,  35.3419,2,  35.3409,2,    210.5,1,  -999.0,9, -999.00,9, -999.00,9,  -999.0,     135,    21.9460, -999.00,9,     -999.0
33KB20130516,       PRS2,       2,         15,          6,       8006,2,20130519,       0550,  22.749833,-158.0000000,       4743,   150.1,  21.5038,  35.3157,2,  35.3163,2,    211.6,1,  -999.0,9, -999.00,9, -999.00,9,  -999.0,     150,    21.4746, -999.00,9,     -999.0
33KB20130516,       PRS2,       2,         15,          5,       8005,2,20130519,       0550,  22.749833,-158.0000000,       4743,   150.0,  21.4932,  35.3133,2,  35.3153,2,    211.5,1,  -999.0,9, -999.00,9, -999.00,9,  -999.0,     150,    21.4640, -999.00,9,     -999.0
33KB20130516,       PRS2,       2,         15,          4,       8004,2,20130519,       0550,  22.749833,-158.0000000,       4743,   174.5,  20.9113,  35.2538,2,  35.2601,2,    202.6,1,  -999.0,9, -999.00,9, -999.00,9,  -999.0,     174,    20.8780, -999.00,9,     -999.0
33KB20130516,       PRS2,       2,         15,          3,       8003,2,20130519,       0550,  22.749833,-158.0000000,       4743,   174.6,  20.9085,  35.2516,2,  35.2582,2,    202.8,1,  -999.0,9, -999.00,9, -999.00,9,  -999.0,     173,    20.8752, -999.00,9,     -999.0
33KB20130516,       PRS2,       2,         15,          2,       8002,2,20130519,       0550,  22.749833,-158.0000000,       4743,   520.5,   7.1433,  34.0419,2,  34.0419,2,    124.3,1,  -999.0,9, -999.00,9, -999.00,9,  -999.0,     520,     7.0937, -999.00,9,     -999.0
33KB20130516,       PRS2,       2,         15,          1,       8001,2,20130519,       0550,  22.749833,-158.0000000,       4743,  1020.3,   3.9848,  34.4811,2,  34.4799,2,     44.8,1,  -999.0,9, -999.00,9, -999.00,9,  -999.0,    1019,     3.9076, -999.00,9,     -999.0