BOTTLE,20141031SIOCCHAMB
EXPOCODE,SECT_ID,STNNBR,CASTNO,SAMPNO,BTLNBR,BTLNBR_FLAG_W,DATE,TIME,LATITUDE,LONGITUDE,DEPTH,CTDPRS,CTDTMP,CTDSAL,CTDSAL_FLAG_W,SALNTY,SALNTY_FLAG_W,CTDOXY,CTDOXY_FLAG_W,OXYGEN,OXYGEN_FLAG_W,SILCAT,SILCAT_FLAG_W,PHSPHT,PHSPHT_FLAG_W,REVPRS,CTDRAW,THETA,NO2+NO3,NO2+NO3_FLAG_W,REVTMP
,,,,,,,,,,,METERS,DBAR,ITS-90,PSS-78,,PSS-78,,UMOL/KG,,UMOL/KG,,UMOL/KG,,UMOL/KG,,DBAR,DBAR,ITS-90,UMOL/KG,,DEG C
33KB20130516,       PRS2,       2,          4,         24,       8024,2,20130517,       2145,  22.749833,-157.9998333,       4743,     7.8,  25.0038,  34.8813,2,  34.8820,2,    208.9,2,   209.5,2,    1.31,2,    0.18,3,  -999.0,       8,    25.0021,    0.02,2,     -999.0
33KB20130516,       PRS2,       2,          4,         23,       8023,2,20130517,       2145,  22.749833,-157.9998333,       4743,    45.8,  24.8654,  34.8789,2,  34.8804,2,    209.8,2,   209.7,2,    1.25,2,    0.18,3,  -999.0,      45,    24.8556,    0.01,2,     -999.0
33KB20130516,       PRS2,       2,          4,         22,       8022,2,20130517,       2145,  22.749833,-157.9998333,       4743,    72.7,  23.8097,  35.2568,2,  35.2639,2,    216.9,2,   215.4,2,    1.28,2,    0.10,2,  -999.0,      73,    23.7944,    0.04,2,     -999.0
33KB20130516,       PRS2,       2,          4,         21,       8021,2,20130517,       2145,  22.749833,-157.9998333,       4743,   114.9,  22.5706,  35.3499,2,  35.3545,2,    214.2,2,   214.6,2,    1.33,2,    0.09,2,  -999.0,     115,    22.5474,    0.06,2,     -999.0
33KB20130516,       PRS2,       2,          4,         20,       8020,2,20130517,       2145,  22.749833,-157.9998333,       4743,   153.3,  22.0738,  35.3631,2,  35.3630,2,    212.3,2,   211.9,2,    1.38,2,    0.06,2,  -999.0,     153,    22.0433,    0.04,2,     -999.0
33KB20130516,       PRS2,       2,          4,         19,       8019,2,20130517,       2145,  22.749833,-157.9998333,       4743,   187.1,  20.8676,  35.3310,2,  35.3319,2,    213.0,2,   214.7,2,    1.71,2,    0.05,2,  -999.0,     187,    20.8319,    0.27,2,     -999.0
33KB20130516,       PRS2,       2,          4,         18,       8018,2,20130517,       2145,  22.749833,-157.9998333,       4743,   221.7,  18.4902,  34.8935,2,  34.8845,2,    189.4,2,   196.8,2,    3.29,2,    0.27,2,  -999.0,     221,    18.4515,    3.11,2,     -999.0
33KB20130516,       PRS2,       2,          4,         17,       8017,2,20130517,       2145,  22.749833,-157.9998333,       4743,   272.1,  15.4886,  34.5243,2,  34.5433,2,    198.2,2,   199.6,2,    5.71,2,    0.45,2,  -999.0,     273,    15.4466,    5.82,2,     -999.0
33KB20130516,       PRS2,       2,          4,         16,       8016,2,20130517,       2145,  22.749833,-157.9998333,       4743,   336.4,  12.2158,  34.2460,2,  34.2462,2,    209.6,2,   208.7,2,   22.87,4,    0.77,2,  -999.0,     336,    12.1715,   10.58,2,     -999.0
33KB20130516,       PRS2,       2,          4,         15,       8015,2,20130517,       2145,  22.749833,-157.9998333,       4743,   395.1,  10.4762,  34.1628,2,  34.1675,2,    202.1,2,  -999.0,5,   17.09,2,    1.04,2,  -999.0,     394,    10.4290,   14.58,2,     -999.0
33KB20130516,       PRS2,       2,          4,         14,       8014,2,20130517,       2145,  22.749833,-157.9998333,       4743,   429.7,   9.5914,  34.1160,2,  34.1117,2,    193.8,2,  -999.0,5,   22.85,2,    1.26,2,  -999.0,     429,     9.5427,   17.71,2,     -999.0
33KB20130516,       PRS2,       2,          4,         13,       8025,2,20130517,       2145,  22.749833,-157.9998333,       4743,   464.7,   8.7823,  34.0747,2,  34.0715,2,    176.8,2,   175.3,2,   29.27,2,    1.48,2,  -999.0,     464,     8.7324,   20.85,2,     -999.0
33KB20130516,       PRS2,       2,          4,         12,       8012,2,20130517,       2145,  22.749833,-157.9998333,       4743,   521.8,   7.1816,  34.0435,2,  34.0449,2,    127.5,2,   126.7,2,   46.70,2,    2.01,2,  -999.0,     521,     7.1316,   27.95,2,     -999.0
33KB20130516,       PRS2,       2,          4,         11,       8011,2,20130517,       2145,  22.749833,-157.9998333,       4743,   559.4,   6.4794,  34.0397,2,  34.0501,4,    106.7,3,   100.5,2,   57.48,2,    2.29,2,  -999.0,     559,     6.4287,   31.65,2,     -999.0
33KB20130516,       PRS2,       2,          4,         10,       8010,2,20130517,       2145,  22.749833,-157.9998333,       4743,   600.9,   5.9918,  34.0871,2,  34.0882,2,     75.1,2,    74.5,2,   65.96,2,    2.51,2,  -999.0,     600,     5.9393,   34.69,2,     -999.0
33KB20130516,       PRS2,       2,          4,          9,       8009,2,20130517,       2145,  22.749833,-157.9998333,       4743,   650.1,   5.4860,  34.1199,2,  34.1209,2,     57.8,2,    57.7,2,   75.73,2,    2.70,2,  -999.0,     650,     5.4314,   37.06,2,     -999.0
33KB20130516,       PRS2,       2,          4,          8,       8008,2,20130517,       2145,  22.749833,-157.9998333,       4743,   704.5,   5.2348,  34.2223,2,  34.2193,2,     39.1,2,    38.5,2,   83.60,2,    2.87,2,  -999.0,     704,     5.1767,   39.05,2,     -999.0
33KB20130516,       PRS2,       2,          4,          7,       8026,2,20130517,       2145,  22.749833,-157.9998333,       4743,   765.1,   4.9397,  34.3070,2,  34.3086,2,     33.1,2,    32.6,2,   90.78,2,    2.92,2,  -999.0,     765,     4.8779,   39.94,2,     -999.0
33KB20130516,       PRS2,       2,          4,          6,       8006,2,20130517,       2145,  22.749833,-157.9998333,       4743,   810.7,   4.7072,  34.3449,2,  34.3441,2,     33.1,2,    33.4,2,   95.60,2,    2.97,2,  -999.0,     810,     4.6428,   40.32,2,     -999.0
33KB20130516,       PRS2,       2,          4,          5,       8005,2,20130517,       2145,  22.749833,-157.9998333,       4743,   855.8,   4.6147,  34.3997,2,  34.3986,2,     36.8,2,    43.5,4,   97.98,2,    2.94,2,  -999.0,     855,     4.5469,   40.45,2,     -999.0
33KB20130516,       PRS2,       2,          4,          4,       8004,2,20130517,       2145,  22.749833,-157.9998333,       4743,   895.6,   4.4551,  34.4236,2,  34.4235,2,     37.7,2,    37.6,2,  100.88,2,    2.98,2,  -999.0,     895,     4.3850,   40.67,2,     -999.0
33KB20130516,       PRS2,       2,          4,          3,       8003,2,20130517,       2145,  22.749833,-157.9998333,       4743,   938.4,   4.3655,  34.4342,2,  34.4343,2,     39.0,2,    39.6,2,  102.90,2,    2.98,2,  -999.0,     938,     4.2924,   40.83,2,     -999.0
33KB20130516,       PRS2,       2,          4,          2,       8002,2,20130517,       2145,  22.749833,-157.9998333,       4743,   978.9,   4.1820,  34.4421,2,  34.4414,2,     40.7,2,    41.0,2,  106.41,2,    2.99,2,  -999.0,     978,     4.1069,   40.80,2,     -999.0
33KB20130516,       PRS2,       2,          4,          1,       8001,2,20130517,       2145,  22.749833,-157.9998333,       4743,  1020.0,   4.0457,  34.4701,2,  34.4724,2,     43.7,2,    44.0,2,  109.08,2,    2.97,2,  -999.0,    1019,     3.9681,   40.70,2,     -999.0
33KB20130516,       PRS2,       2,          5,         24,       8024,2,20130518,       0033,  22.750333,-157.9940000,       4740,     7.3,  24.9890,  34.8805,2,  34.8806,2,    209.2,1,  -999.0,9, -999.00,9, -999.00,9,  -999.0,       7,    24.9875, -999.00,9,     -999.0
33KB20130516,       PRS2,       2,          5,         23,       8023,2,20130518,       0033,  22.750333,-157.9940000,       4740,     7.3,  24.9905,  34.8806,2,-999.0000,5,    209.2,1,  -999.0,9, -999.00,9, -999.00,9,  -999.0,       8,    24.9889, -999.00,9,     -999.0
33KB20130516,       PRS2,       2,          5,         22,       8022,2,20130518,       0033,  22.750333,-157.9940000,       4740,    28.7,  24.8753,  34.8788,2,-999.0000,5,    209.2,1,  -999.0,9, -999.00,9, -999.00,9,  -999.0,      29,    24.8691, -999.00,9,     -999.0
33KB20130516,       PRS2,       2,          5,         21,       8021,2,20130518,       0033,  22.750333,-157.9940000,       4740,    23.7,  24.8827,  34.8792,2,  34.8786,2,    209.6,1,  -999.0,9, -999.00,9, -999.00,9,  -999.0,      24,    24.8776, -999.00,9,     -999.0
33KB20130516,       PRS2,       2,          5,         20,       8020,2,20130518,       0033,  22.750333,-157.9940000,       4740,    24.7,  24.8790,  34.8786,2,-999.0000,5,    209.8,1,  -999.0,9, -999.00,9, -999.00,9,  -999.0,      25,    24.8737, -999.00,9,     -999.0
33KB20130516,       PRS2,       2,          5,         19,       8019,2,20130518,       0033,  22.750333,-157.9940000,       4740,    45.5,  24.3295,  34.9504,2,  34.9547,2,    214.5,1,  -999.0,9, -999.00,9, -999.00,9,  -999.0,      44,    24.3199, -999.00,9,     -999.0
33KB20130516,       PRS2,       2,          5,         18,       8018,2,20130518,       0033,  22.750333,-157.9940000,       4740,    45.5,  24.2720,  34.9587,2,-999.0000,5,    214.8,1,  -999.0,9, -999.00,9, -999.00,9,  -999.0,      45,    24.2624, -999.00,9,     -999.0
33KB20130516,       PRS2,       2,          5,         17,       8017,2,20130518,       0033,  22.750333,-157.9940000,       4740,    75.8,  23.6094,  35.3096,2,  35.2907,3,    214.8,1,  -999.0,9, -999.00,9, -999.00,9,  -999.0,      75,    23.5937, -999.00,9,     -999.0
33KB20130516,       PRS2,       2,          5,         16,       8016,2,20130518,       0033,  22.750333,-157.9940000,       4740,    75.8,  23.6118,  35.3094,2,-999.0000,5,    214.9,1,  -999.0,9, -999.00,9, -999.00,9,  -999.0,      75,    23.5960, -999.00,9,     -999.0
33KB20130516,       PRS2,       2,          5,         15,       8015,2,20130518,       0033,  22.750333,-157.9940000,       4740,   101.5,  22.5337,  35.2960,2,  35.2915,2,    215.3,1,  -999.0,9, -999.00,9, -999.00,9,  -999.0,     101,    22.5132, -999.00,9,     -999.0
33KB20130516,       PRS2,       2,          5,         14,       8014,2,20130518,       0033,  22.750333,-157.9940000,       4740,   101.6,  22.5195,  35.2881,2,-999.0000,5,    215.2,1,  -999.0,9, -999.00,9, -999.00,9,  -999.0,     100,    22.4991, -999.00,9,     -999.0
33KB20130516,       PRS2,       2,          5,         13,       8025,2,20130518,       0033,  22.750333,-157.9940000,       4740,   120.6,  22.4977,  35.3934,2,-999.0000,5,    214.1,1,  -999.0,9, -999.00,9, -999.00,9,  -999.0,     121,    22.4735, -999.00,9,     -999.0
33KB20130516,       PRS2,       2,          5,         12,       8012,2,20130518,       0033,  22.750333,-157.9940000,       4740,   125.7,  22.3841,  35.3850,2,  35.3815,2,    212.4,1,  -999.0,9, -999.00,9, -999.00,9,  -999.0,     125,    22.3588, -999.00,9,     -999.0
33KB20130516,       PRS2,       2,          5,         11,       8011,2,20130518,       0033,  22.750333,-157.9940000,       4740,   125.8,  22.3810,  35.3849,2,-999.0000,5,    212.5,1,  -999.0,9, -999.00,9, -999.00,9,  -999.0,     126,    22.3558, -999.00,9,     -999.0
33KB20130516,       PRS2,       2,          5,         10,       8010,2,20130518,       0033,  22.750333,-157.9940000,       4740,   150.6,  21.5600,  35.3440,2,  35.3484,2,    209.7,1,  -999.0,9, -999.00,9, -999.00,9,  -999.0,     150,    21.5306, -999.00,9,     -999.0
33KB20130516,       PRS2,       2,          5,          9,       8009,2,20130518,       0033,  22.750333,-157.9940000,       4740,   150.6,  21.5600,  35.3439,2,-999.0000,5,    209.7,1,  -999.0,9, -999.00,9, -999.00,9,  -999.0,     151,    21.5306, -999.00,9,     -999.0
33KB20130516,       PRS2,       2,          5,          8,       8008,2,20130518,       0033,  22.750333,-157.9940000,       4740,   173.1,  21.0553,  35.3577,2,  35.3498,2,    214.3,1,  -999.0,9, -999.00,9, -999.00,9,  -999.0,     172,    21.0220, -999.00,9,     -999.0
33KB20130516,       PRS2,       2,          5,          7,       8026,2,20130518,       0033,  22.750333,-157.9940000,       4740,   173.0,  21.0441,  35.3543,2,-999.0000,5,    214.1,1,  -999.0,9, -999.00,9, -999.00,9,  -999.0,     172,    21.0109, -999.00,9,     -999.0
33KB20130516,       PRS2,       2,          5,          6,       8006,2,20130518,       0033,  22.750333,-157.9940000,       4740,   201.5,  20.3557,  35.2268,2,  35.1884,4,    208.6,1,  -999.0,9, -999.00,9, -999.00,9,  -999.0,     202,    20.3179, -999.00,9,     -999.0
33KB20130516,       PRS2,       2,          5,          5,       8005,2,20130518,       0033,  22.750333,-157.9940000,       4740,   250.9,  16.1109,  34.5971,2,  34.5816,2,    199.2,1,  -999.0,9, -999.00,9, -999.00,9,  -999.0,     251,    16.0711, -999.00,9,     -999.0
33KB20130516,       PRS2,       2,          5,          4,       8004,2,20130518,       0033,  22.750333,-157.9940000,       4740,   350.6,  11.5581,  34.2289,2,  34.2311,2,    209.8,1,  -999.0,9, -999.00,9, -999.00,9,  -999.0,     350,    11.5135, -999.00,9,     -999.0
33KB20130516,       PRS2,       2,          5,          3,       8003,2,20130518,       0033,  22.750333,-157.9940000,       4740,   350.6,  11.5580,  34.2288,2,  34.2328,2,    209.7,1,  -999.0,9, -999.00,9, -999.00,9,  -999.0,     350,    11.5134, -999.00,9,     -999.0
33KB20130516,       PRS2,       2,          5,          2,       8002,2,20130518,       0033,  22.750333,-157.9940000,       4740,   531.3,   7.0136,  34.0396,2,  34.0431,2,    120.0,1,  -999.0,9, -999.00,9, -999.00,9,  -999.0,     530,     6.9634, -999.00,9,     -999.0
33KB20130516,       PRS2,       2,          5,          1,       8001,2,20130518,       0033,  22.750333,-157.9940000,       4740,  1019.9,   4.0269,  34.4727,2,  34.4742,2,     44.0,1,  -999.0,9, -999.00,9, -999.00,9,  -999.0,    1019,     3.9494, -999.00,9,     -999.0
33KB20130516,       PRS2,       2,          6,         24,       8024,2,20130518,       0251,  22.749833,-157.9940000,       4740,     7.1,  24.9791,  34.8800,2,-999.0000,5,    209.2,2,  -999.0,5, -999.00,9, -999.00,9,  -999.0,       7,    24.9775, -999.00,9,     -999.0
33KB20130516,       PRS2,       2,          6,         23,       8023,2,20130518,       0251,  22.749833,-157.9940000,       4740,    25.1,  24.9378,  34.8798,2,-999.0000,5,    209.9,2,  -999.0,5, -999.00,9, -999.00,9,  -999.0,      24,    24.9323, -999.00,9,     -999.0
33KB20130516,       PRS2,       2,          6,         22,       8022,2,20130518,       0251,  22.749833,-157.9940000,       4740,    25.5,  24.9167,  34.8785,2,-999.0000,5,    210.4,2,  -999.0,5, -999.00,9, -999.00,9,  -999.0,      26,    24.9112, -999.00,9,     -999.0
33KB20130516,       PRS2,       2,          6,         21,       8021,2,20130518,       0251,  22.749833,-157.9940000,       4740,    25.3,  24.9165,  34.8785,2,-999.0000,5,    210.4,2,  -999.0,5, -999.00,9, -999.00,9,  -999.0,      25,    24.9110, -999.00,9,     -999.0
33KB20130516,       PRS2,       2,          6,         20,       8020,2,20130518,       0251,  22.749833,-157.9940000,       4740,    25.3,  24.9146,  34.8782,2,-999.0000,5,    210.3,2,  -999.0,5, -999.00,9, -999.00,9,  -999.0,      25,    24.9091, -999.00,9,     -999.0
33KB20130516,       PRS2,       2,          6,         19,       8019,2,20130518,       0251,  22.749833,-157.9940000,       4740,    25.1,  24.9105,  34.8780,2,-999.0000,5,    210.1,2,  -999.0,5, -999.00,9, -999.00,9,  -999.0,      24,    24.9050, -999.00,9,     -999.0
33KB20130516,       PRS2,       2,          6,         18,       8018,2,20130518,       0251,  22.749833,-157.9940000,       4740,    25.2,  24.9087,  34.8781,2,-999.0000,5,    210.1,2,  -999.0,5, -999.00,9, -999.00,9,  -999.0,      24,    24.9033, -999.00,9,     -999.0
33KB20130516,       PRS2,       2,          6,         17,       8017,2,20130518,       0251,  22.749833,-157.9940000,       4740,    25.3,  24.9066,  34.8781,2,  34.8786,2,    210.2,2,  -999.0,5, -999.00,9, -999.00,9,  -999.0,      25,    24.9011, -999.00,9,     -999.0
33KB20130516,       PRS2,       2,          6,         16,       8016,2,20130518,       0251,  22.749833,-157.9940000,       4740,    46.0,  24.7279,  34.9063,2,  34.8841,4,    211.6,3,  -999.0,5, -999.00,9, -999.00,9,  -999.0,      46,    24.7180, -999.00,9,     -999.0
33KB20130516,       PRS2,       2,          6,         15,       8015,2,20130518,       0251,  22.749833,-157.9940000,       4740,    74.6,  23.8641,  35.2886,2,  35.2688,3,    216.4,3,  -999.0,5, -999.00,9, -999.00,9,  -999.0,      75,    23.8484, -999.00,9,     -999.0
33KB20130516,       PRS2,       2,          6,         14,       8014,2,20130518,       0251,  22.749833,-157.9940000,       4740,   100.8,  22.5582,  35.2521,2,  35.2668,3,    214.8,3,  -999.0,5, -999.00,9, -999.00,9,  -999.0,     100,    22.5379, -999.00,9,     -999.0
33KB20130516,       PRS2,       2,          6,         13,       8025,2,20130518,       0251,  22.749833,-157.9940000,       4740,   124.9,  22.3174,  35.3776,2,  35.3776,2,    213.3,2,  -999.0,5, -999.00,9, -999.00,9,  -999.0,     124,    22.2924, -999.00,9,     -999.0
33KB20130516,       PRS2,       2,          6,         12,       8012,2,20130518,       0251,  22.749833,-157.9940000,       4740,   149.2,  21.6991,  35.3191,2,  35.3327,2,    209.7,2,  -999.0,5, -999.00,9, -999.00,9,  -999.0,     150,    21.6699, -999.00,9,     -999.0
33KB20130516,       PRS2,       2,          6,         11,       8011,2,20130518,       0251,  22.749833,-157.9940000,       4740,   174.7,  21.1012,  35.3666,2,  35.3744,2,    215.1,2,  -999.0,5, -999.00,9, -999.00,9,  -999.0,     174,    21.0676, -999.00,9,     -999.0
33KB20130516,       PRS2,       2,          6,         10,       8010,2,20130518,       0251,  22.749833,-157.9940000,       4740,   200.8,  20.2858,  35.2091,2,  35.1868,3,    206.7,3,  -999.0,5, -999.00,9, -999.00,9,  -999.0,     200,    20.2482, -999.00,9,     -999.0
33KB20130516,       PRS2,       2,          6,          9,       8009,2,20130518,       0251,  22.749833,-157.9940000,       4740,   249.9,  16.4725,  34.6376,2,  34.6311,2,    197.5,2,  -999.0,5, -999.00,9, -999.00,9,  -999.0,     249,    16.4322, -999.00,9,     -999.0
33KB20130516,       PRS2,       2,          6,          8,       8008,2,20130518,       0251,  22.749833,-157.9940000,       4740,   350.7,  11.7610,  34.2483,2,  34.2466,2,    208.9,2,  -999.0,5, -999.00,9, -999.00,9,  -999.0,     351,    11.7159, -999.00,9,     -999.0
33KB20130516,       PRS2,       2,          6,          7,       8026,2,20130518,       0251,  22.749833,-157.9940000,       4740,   350.8,  11.7565,  34.2479,2,  34.2452,2,    209.0,2,  -999.0,5, -999.00,9, -999.00,9,  -999.0,     351,    11.7114, -999.00,9,     -999.0
33KB20130516,       PRS2,       2,          6,          6,       8006,2,20130518,       0251,  22.749833,-157.9940000,       4740,   400.8,  10.0184,  34.1354,2,  34.1423,2,    198.8,2,   199.0,2, -999.00,9, -999.00,9,  -999.0,     401,     9.9719, -999.00,9,     -999.0
33KB20130516,       PRS2,       2,          6,          5,       8005,2,20130518,       0251,  22.749833,-157.9940000,       4740,   525.3,   7.0205,  34.0447,2,  34.0405,2,    120.0,2,  -999.0,5, -999.00,9, -999.00,9,  -999.0,     525,     6.9709, -999.00,9,     -999.0
33KB20130516,       PRS2,       2,          6,          4,       8004,2,20130518,       0251,  22.749833,-157.9940000,       4740,   701.7,   5.0799,  34.2005,2,  34.2007,2,     38.7,2,    38.8,2, -999.00,9, -999.00,9,  -999.0,     701,     5.0228, -999.00,9,     -999.0
33KB20130516,       PRS2,       2,          6,          3,       8003,2,20130518,       0251,  22.749833,-157.9940000,       4740,   800.3,   4.7224,  34.3582,2,  34.3580,2,     34.5,2,    34.2,2, -999.00,9, -999.00,9,  -999.0,     799,     4.6588, -999.00,9,     -999.0
33KB20130516,       PRS2,       2,          6,          2,       8002,2,20130518,       0251,  22.749833,-157.9940000,       4740,  1020.4,   3.9537,  34.4726,2,  34.4624,4,     44.8,3,  -999.0,5, -999.00,9, -999.00,9,  -999.0,    1020,     3.8767, -999.00,9,     -999.0
33KB20130516,       PRS2,       2,          6,          1,       8001,2,20130518,       0251,  22.749833,-157.9940000,       4740,  1020.2,   3.9542,  34.4725,2,  34.4728,2,     44.9,2,    44.9,2, -999.00,9, -999.00,9,  -999.0,    1022,     3.8773, -999.00,9,     -999.0