BOTTLE,20141031SIOCCHAMB
EXPOCODE,SECT_ID,STNNBR,CASTNO,SAMPNO,BTLNBR,BTLNBR_FLAG_W,DATE,TIME,LATITUDE,LONGITUDE,DEPTH,CTDPRS,CTDTMP,CTDSAL,CTDSAL_FLAG_W,SALNTY,SALNTY_FLAG_W,CTDOXY,CTDOXY_FLAG_W,OXYGEN,OXYGEN_FLAG_W,SILCAT,SILCAT_FLAG_W,PHSPHT,PHSPHT_FLAG_W,REVPRS,CTDRAW,THETA,NO2+NO3,NO2+NO3_FLAG_W,REVTMP
,,,,,,,,,,,METERS,DBAR,ITS-90,PSS-78,,PSS-78,,UMOL/KG,,UMOL/KG,,UMOL/KG,,UMOL/KG,,DBAR,DBAR,ITS-90,UMOL/KG,,DEG C
33KB20130516,       PRS2,       2,          1,         24,       8024,2,20130517,       1039,  22.750333,-158.0176667,       4743,    28.2,  24.9010,  34.8798,2,-999.0000,9,    211.4,1,  -999.0,9, -999.00,9, -999.00,9,  -999.0,      29,    24.8949, -999.00,9,     -999.0
33KB20130516,       PRS2,       2,          1,         23,       8023,2,20130517,       1039,  22.750333,-158.0176667,       4743,    28.2,  24.9015,  34.8798,2,-999.0000,9,    211.3,1,  -999.0,9, -999.00,9, -999.00,9,  -999.0,      29,    24.8954, -999.00,9,     -999.0
33KB20130516,       PRS2,       2,          1,         22,       8022,2,20130517,       1039,  22.750333,-158.0176667,       4743,    28.1,  24.9012,  34.8799,2,-999.0000,9,    211.2,1,  -999.0,9, -999.00,9, -999.00,9,  -999.0,      28,    24.8952, -999.00,9,     -999.0
33KB20130516,       PRS2,       2,          1,         21,       8021,2,20130517,       1039,  22.750333,-158.0176667,       4743,    28.1,  24.9012,  34.8799,2,-999.0000,9,    211.0,1,  -999.0,9, -999.00,9, -999.00,9,  -999.0,      28,    24.8951, -999.00,9,     -999.0
33KB20130516,       PRS2,       2,          1,         20,       8020,2,20130517,       1039,  22.750333,-158.0176667,       4743,    28.1,  24.9004,  34.8800,2,-999.0000,9,    210.9,1,  -999.0,9, -999.00,9, -999.00,9,  -999.0,      27,    24.8943, -999.00,9,     -999.0
33KB20130516,       PRS2,       2,          1,         19,       8019,2,20130517,       1039,  22.750333,-158.0176667,       4743,    28.1,  24.8974,  34.8799,2,-999.0000,9,    209.5,1,  -999.0,9, -999.00,9, -999.00,9,  -999.0,      28,    24.8913, -999.00,9,     -999.0
33KB20130516,       PRS2,       2,          1,         18,       8018,2,20130517,       1039,  22.750333,-158.0176667,       4743,    28.1,  24.8974,  34.8799,2,-999.0000,9,    209.6,1,  -999.0,9, -999.00,9, -999.00,9,  -999.0,      28,    24.8914, -999.00,9,     -999.0
33KB20130516,       PRS2,       2,          1,         17,       8017,2,20130517,       1039,  22.750333,-158.0176667,       4743,    28.1,  24.8982,  34.8798,2,-999.0000,9,    209.7,1,  -999.0,9, -999.00,9, -999.00,9,  -999.0,      28,    24.8921, -999.00,9,     -999.0
33KB20130516,       PRS2,       2,          1,         16,       8016,2,20130517,       1039,  22.750333,-158.0176667,       4743,    28.2,  24.8981,  34.8799,2,-999.0000,9,    209.9,1,  -999.0,9, -999.00,9, -999.00,9,  -999.0,      28,    24.8920, -999.00,9,     -999.0
33KB20130516,       PRS2,       2,          1,         15,       8015,2,20130517,       1039,  22.750333,-158.0176667,       4743,    28.1,  24.8982,  34.8798,2,-999.0000,9,    210.2,1,  -999.0,9, -999.00,9, -999.00,9,  -999.0,      27,    24.8921, -999.00,9,     -999.0
33KB20130516,       PRS2,       2,          1,         14,       8014,2,20130517,       1039,  22.750333,-158.0176667,       4743,    28.0,  24.8982,  34.8798,2,-999.0000,9,    210.5,1,  -999.0,9, -999.00,9, -999.00,9,  -999.0,      27,    24.8922, -999.00,9,     -999.0
33KB20130516,       PRS2,       2,          1,         13,       8025,2,20130517,       1039,  22.750333,-158.0176667,       4743,    28.1,  24.8982,  34.8798,2,-999.0000,9,    210.7,1,  -999.0,9, -999.00,9, -999.00,9,  -999.0,      27,    24.8921, -999.00,9,     -999.0
33KB20130516,       PRS2,       2,          1,         12,       8012,2,20130517,       1039,  22.750333,-158.0176667,       4743,    28.2,  24.8982,  34.8797,2,-999.0000,9,    211.0,1,  -999.0,9, -999.00,9, -999.00,9,  -999.0,      28,    24.8922, -999.00,9,     -999.0
33KB20130516,       PRS2,       2,          1,         11,       8011,2,20130517,       1039,  22.750333,-158.0176667,       4743,    28.3,  24.8982,  34.8798,2,-999.0000,9,    211.3,1,  -999.0,9, -999.00,9, -999.00,9,  -999.0,      28,    24.8921, -999.00,9,     -999.0
33KB20130516,       PRS2,       2,          1,         10,       8010,2,20130517,       1039,  22.750333,-158.0176667,       4743,    28.3,  24.8983,  34.8797,2,-999.0000,9,    211.5,1,  -999.0,9, -999.00,9, -999.00,9,  -999.0,      29,    24.8922, -999.00,9,     -999.0
33KB20130516,       PRS2,       2,          1,          9,       8009,2,20130517,       1039,  22.750333,-158.0176667,       4743,    28.3,  24.8992,  34.8797,2,-999.0000,9,    211.6,1,  -999.0,9, -999.00,9, -999.00,9,  -999.0,      29,    24.8931, -999.00,9,     -999.0
33KB20130516,       PRS2,       2,          1,          8,       8008,2,20130517,       1039,  22.750333,-158.0176667,       4743,    28.2,  24.9004,  34.8798,2,-999.0000,9,    211.5,1,  -999.0,9, -999.00,9, -999.00,9,  -999.0,      27,    24.8943, -999.00,9,     -999.0
33KB20130516,       PRS2,       2,          1,          7,       8026,2,20130517,       1039,  22.750333,-158.0176667,       4743,    28.1,  24.9014,  34.8796,2,-999.0000,9,    211.2,1,  -999.0,9, -999.00,9, -999.00,9,  -999.0,      28,    24.8953, -999.00,9,     -999.0
33KB20130516,       PRS2,       2,          1,          6,       8006,2,20130517,       1039,  22.750333,-158.0176667,       4743,    28.2,  24.9019,  34.8796,2,-999.0000,9,    210.9,1,  -999.0,9, -999.00,9, -999.00,9,  -999.0,      28,    24.8958, -999.00,9,     -999.0
33KB20130516,       PRS2,       2,          1,          5,       8005,2,20130517,       1039,  22.750333,-158.0176667,       4743,    28.4,  24.9023,  34.8796,2,-999.0000,9,    210.5,1,  -999.0,9, -999.00,9, -999.00,9,  -999.0,      27,    24.8962, -999.00,9,     -999.0
33KB20130516,       PRS2,       2,          1,          4,       8004,2,20130517,       1039,  22.750333,-158.0176667,       4743,    28.2,  24.9034,  34.8802,2,-999.0000,9,    210.1,1,  -999.0,9, -999.00,9, -999.00,9,  -999.0,      28,    24.8973, -999.00,9,     -999.0
33KB20130516,       PRS2,       2,          1,          3,       8003,2,20130517,       1039,  22.750333,-158.0176667,       4743,    28.2,  24.9072,  34.8816,2,-999.0000,9,    209.8,1,  -999.0,9, -999.00,9, -999.00,9,  -999.0,      28,    24.9011, -999.00,9,     -999.0
33KB20130516,       PRS2,       2,          1,          2,       8002,4,20130517,       1039,  22.750333,-158.0176667,       4743,    28.3,  24.9080,  34.8814,2,-999.0000,9,    209.6,1,  -999.0,9, -999.00,9, -999.00,9,  -999.0,      28,    24.9019, -999.00,9,     -999.0
33KB20130516,       PRS2,       2,          1,          1,       8001,2,20130517,       1039,  22.750333,-158.0176667,       4743,    28.1,  24.9081,  34.8819,2,-999.0000,9,    209.4,1,  -999.0,9, -999.00,9, -999.00,9,  -999.0,      28,    24.9020, -999.00,9,     -999.0
33KB20130516,       PRS2,       2,          2,         24,       8024,2,20130517,       1251,  22.749667,-158.0176667,       4743,     7.2,  24.8713,  34.8783,2,  34.8780,2,    210.2,1,  -999.0,9, -999.00,9, -999.00,9,  -999.0,       7,    24.8697, -999.00,9,     -999.0
33KB20130516,       PRS2,       2,          2,         23,       8023,2,20130517,       1251,  22.749667,-158.0176667,       4743,     7.3,  24.8712,  34.8782,2,  34.8776,2,    210.1,1,  -999.0,9, -999.00,9, -999.00,9,  -999.0,       7,    24.8696, -999.00,9,     -999.0
33KB20130516,       PRS2,       2,          2,         22,       8022,2,20130517,       1251,  22.749667,-158.0176667,       4743,     7.3,  24.8712,  34.8784,2,  34.8778,2,    210.2,1,  -999.0,9, -999.00,9, -999.00,9,  -999.0,       6,    24.8696, -999.00,9,     -999.0
33KB20130516,       PRS2,       2,          2,         21,       8021,2,20130517,       1251,  22.749667,-158.0176667,       4743,    25.2,  24.8744,  34.8777,2,-999.0000,5,    210.3,1,  -999.0,9, -999.00,9, -999.00,9,  -999.0,      25,    24.8690, -999.00,9,     -999.0
33KB20130516,       PRS2,       2,          2,         20,       8020,2,20130517,       1251,  22.749667,-158.0176667,       4743,    25.3,  24.8739,  34.8778,2,  34.8774,2,    210.4,1,  -999.0,9, -999.00,9, -999.00,9,  -999.0,      25,    24.8685, -999.00,9,     -999.0
33KB20130516,       PRS2,       2,          2,         19,       8019,2,20130517,       1251,  22.749667,-158.0176667,       4743,    25.0,  24.8737,  34.8778,2,  34.8778,2,    210.7,1,  -999.0,9, -999.00,9, -999.00,9,  -999.0,      25,    24.8683, -999.00,9,     -999.0
33KB20130516,       PRS2,       2,          2,         18,       8018,2,20130517,       1251,  22.749667,-158.0176667,       4743,    25.0,  24.8732,  34.8776,2,  34.8772,2,    210.9,1,  -999.0,9, -999.00,9, -999.00,9,  -999.0,      25,    24.8678, -999.00,9,     -999.0
33KB20130516,       PRS2,       2,          2,         17,       8017,2,20130517,       1251,  22.749667,-158.0176667,       4743,    45.5,  24.3920,  34.9934,2,  34.9669,3,    214.5,1,  -999.0,9, -999.00,9, -999.00,9,  -999.0,      45,    24.3823, -999.00,9,     -999.0
33KB20130516,       PRS2,       2,          2,         16,       8016,2,20130517,       1251,  22.749667,-158.0176667,       4743,    45.6,  24.3868,  35.0097,2,  34.9803,3,    214.9,1,  -999.0,9, -999.00,9, -999.00,9,  -999.0,      46,    24.3771, -999.00,9,     -999.0
33KB20130516,       PRS2,       2,          2,         15,       8015,2,20130517,       1251,  22.749667,-158.0176667,       4743,    45.3,  24.3835,  35.0198,2,  35.0114,2,    214.8,1,  -999.0,9, -999.00,9, -999.00,9,  -999.0,      45,    24.3738, -999.00,9,     -999.0
33KB20130516,       PRS2,       2,          2,         14,       8014,2,20130517,       1251,  22.749667,-158.0176667,       4743,    75.5,  23.2764,  35.1057,2,  35.1219,3,    215.5,1,  -999.0,9, -999.00,9, -999.00,9,  -999.0,      75,    23.2609, -999.00,9,     -999.0
33KB20130516,       PRS2,       2,          2,         13,       8025,2,20130517,       1251,  22.749667,-158.0176667,       4743,    75.5,  23.2757,  35.1056,2,  35.1248,3,    215.5,1,  -999.0,9, -999.00,9, -999.00,9,  -999.0,      75,    23.2601, -999.00,9,     -999.0
33KB20130516,       PRS2,       2,          2,         12,       8012,2,20130517,       1251,  22.749667,-158.0176667,       4743,    75.5,  23.2717,  35.1088,2,  35.1278,3,    215.6,1,  -999.0,9, -999.00,9, -999.00,9,  -999.0,      75,    23.2561, -999.00,9,     -999.0
33KB20130516,       PRS2,       2,          2,         11,       8011,2,20130517,       1251,  22.749667,-158.0176667,       4743,   100.5,  23.0668,  35.3958,2,  35.3949,2,    216.7,1,  -999.0,9, -999.00,9, -999.00,9,  -999.0,     100,    23.0462, -999.00,9,     -999.0
33KB20130516,       PRS2,       2,          2,         10,       8010,2,20130517,       1251,  22.749667,-158.0176667,       4743,   100.5,  23.0498,  35.3922,2,  35.3963,2,    216.4,1,  -999.0,9, -999.00,9, -999.00,9,  -999.0,     100,    23.0292, -999.00,9,     -999.0
33KB20130516,       PRS2,       2,          2,          9,       8009,2,20130517,       1251,  22.749667,-158.0176667,       4743,   100.4,  23.0074,  35.3868,2,  35.3957,2,    216.0,1,  -999.0,9, -999.00,9, -999.00,9,  -999.0,     100,    22.9869, -999.00,9,     -999.0
33KB20130516,       PRS2,       2,          2,          8,       8008,2,20130517,       1251,  22.749667,-158.0176667,       4743,   124.8,  21.8846,  35.2306,2,  35.2355,2,    208.9,1,  -999.0,9, -999.00,9, -999.00,9,  -999.0,     125,    21.8600, -999.00,9,     -999.0
33KB20130516,       PRS2,       2,          2,          7,       8026,2,20130517,       1251,  22.749667,-158.0176667,       4743,   124.8,  21.8845,  35.2307,2,  35.2410,2,    208.8,1,  -999.0,9, -999.00,9, -999.00,9,  -999.0,     124,    21.8599, -999.00,9,     -999.0
33KB20130516,       PRS2,       2,          2,          6,       8006,2,20130517,       1251,  22.749667,-158.0176667,       4743,   124.8,  21.8675,  35.2309,2,  35.2379,2,    208.8,1,  -999.0,9, -999.00,9, -999.00,9,  -999.0,     125,    21.8429, -999.00,9,     -999.0
33KB20130516,       PRS2,       2,          2,          5,       8005,2,20130517,       1251,  22.749667,-158.0176667,       4743,   149.8,  21.3509,  35.3871,2,  35.3878,2,    215.8,1,  -999.0,9, -999.00,9, -999.00,9,  -999.0,     149,    21.3218, -999.00,9,     -999.0
33KB20130516,       PRS2,       2,          2,          4,       8004,2,20130517,       1251,  22.749667,-158.0176667,       4743,   175.6,  20.7652,  35.3137,2,  35.3212,2,    216.5,1,  -999.0,9, -999.00,9, -999.00,9,  -999.0,     175,    20.7318, -999.00,9,     -999.0
33KB20130516,       PRS2,       2,          2,          3,       8003,2,20130517,       1251,  22.749667,-158.0176667,       4743,   521.1,   7.0533,  34.0306,2,  34.0325,2,    129.7,1,  -999.0,9, -999.00,9, -999.00,9,  -999.0,     521,     7.0039, -999.00,9,     -999.0
33KB20130516,       PRS2,       2,          2,          2,       8002,2,20130517,       1251,  22.749667,-158.0176667,       4743,   600.8,   5.9117,  34.1103,2,  34.1078,2,     67.4,1,  -999.0,9, -999.00,9, -999.00,9,  -999.0,     600,     5.8596, -999.00,9,     -999.0
33KB20130516,       PRS2,       2,          2,          1,       8001,2,20130517,       1251,  22.749667,-158.0176667,       4743,  1023.9,   3.8810,  34.4738,2,  34.4775,2,     46.4,1,  -999.0,9, -999.00,9, -999.00,9,  -999.0,    1025,     3.8044, -999.00,9,     -999.0
33KB20130516,       PRS2,       2,          3,         24,       8024,2,20130517,       1542,  22.750167,-157.9993333,       4741,     8.4,  24.8600,  34.8815,2,  34.8812,2,    215.4,2,   209.0,2,    1.22,2,    0.20,3,  -999.0,       8,    24.8582,    0.03,2,     -999.0
33KB20130516,       PRS2,       2,          3,         23,       8023,2,20130517,       1542,  22.750167,-157.9993333,       4741,   499.6,   7.9024,  34.0422,2,  34.0419,2,    157.1,2,   155.3,2,   37.56,2,    1.77,2,  -999.0,     499,     7.8519,   24.36,2,     -999.0
33KB20130516,       PRS2,       2,          3,         22,       8022,2,20130517,       1542,  22.750167,-157.9993333,       4741,   751.1,   5.0303,  34.3017,2,  34.3025,2,     33.8,2,    32.9,2,   88.94,2,    2.93,2,  -999.0,     752,     4.9691,   39.93,2,     -999.0
33KB20130516,       PRS2,       2,          3,         21,       8021,2,20130517,       1542,  22.750167,-157.9993333,       4741,  1000.6,   3.9599,  34.4677,2,  34.4663,2,     44.5,2,    44.5,2,  110.62,2,    2.95,2,  -999.0,     999,     3.8845,   40.94,2,     -999.0
33KB20130516,       PRS2,       2,          3,         20,       8020,2,20130517,       1542,  22.750167,-157.9993333,       4741,  1201.5,   3.4541,  34.5196,2,  34.5197,2,     55.5,2,    55.0,2,  121.55,2,    3.07,3,  -999.0,    1201,     3.3664,   40.68,2,     -999.0
33KB20130516,       PRS2,       2,          3,         19,       8019,2,20130517,       1542,  22.750167,-157.9993333,       4741,  1401.2,   3.0774,  34.5567,2,  34.5561,2,     61.6,2,    61.7,2,  129.63,2,    3.10,3,  -999.0,    1400,     2.9769,   40.79,2,     -999.0
33KB20130516,       PRS2,       2,          3,         18,       8018,2,20130517,       1542,  22.750167,-157.9993333,       4741,  1599.6,   2.7116,  34.5801,2,  34.5800,2,     70.7,2,    70.8,2,  137.67,2,    2.93,3,  -999.0,    1599,     2.5989,   40.28,2,     -999.0
33KB20130516,       PRS2,       2,          3,         17,       8017,2,20130517,       1542,  22.750167,-157.9993333,       4741,  1799.8,   2.3843,  34.5960,2,  34.5954,2,     79.4,2,    79.2,2,  145.38,2,    2.86,3,  -999.0,    1799,     2.2592,   39.88,2,     -999.0
33KB20130516,       PRS2,       2,          3,         16,       8016,2,20130517,       1542,  22.750167,-157.9993333,       4741,  1999.9,   2.1459,  34.6168,2,  34.6170,2,     88.3,2,    88.7,2,  150.36,2,    2.82,3,  -999.0,    2001,     2.0073,   39.12,2,     -999.0
33KB20130516,       PRS2,       2,          3,         15,       8015,2,20130517,       1542,  22.750167,-157.9993333,       4741,  2200.1,   1.9715,  34.6310,2,  34.6309,2,     97.2,2,    97.4,2,  153.42,2,    3.01,3,  -999.0,    2200,     1.8184,   38.89,2,     -999.0
33KB20130516,       PRS2,       2,          3,         14,       8014,2,20130517,       1542,  22.750167,-157.9993333,       4741,  2399.7,   1.8353,  34.6417,2,  34.6411,2,    103.6,2,   103.6,2,  156.42,2,    2.93,3,  -999.0,    2400,     1.6671,   38.51,2,     -999.0
33KB20130516,       PRS2,       2,          3,         13,       8025,2,20130517,       1542,  22.750167,-157.9993333,       4741,  2599.9,   1.7163,  34.6519,2,  34.6513,2,    111.3,2,   111.3,2,  158.04,2,    2.73,3,  -999.0,    2599,     1.5323,   38.00,2,     -999.0
33KB20130516,       PRS2,       2,          3,         12,       8012,2,20130517,       1542,  22.750167,-157.9993333,       4741,  2799.5,   1.6180,  34.6609,2,  34.6606,2,    117.8,2,   118.3,2,  159.88,2,    2.65,2,  -999.0,    2800,     1.4176,   37.76,2,     -999.0
33KB20130516,       PRS2,       2,          3,         11,       8011,2,20130517,       1542,  22.750167,-157.9993333,       4741,  3001.1,   1.5631,  34.6661,2,  34.6651,2,    123.3,2,   123.3,2,  159.72,2,    2.74,3,  -999.0,    3001,     1.3449,   37.13,2,     -999.0
33KB20130516,       PRS2,       2,          3,         10,       8010,2,20130517,       1542,  22.750167,-157.9993333,       4741,  3200.9,   1.5234,  34.6716,2,  34.6716,2,    129.5,2,   130.3,2,  158.50,2,    2.69,3,  -999.0,    3202,     1.2867,   36.96,2,     -999.0
33KB20130516,       PRS2,       2,          3,          9,       8009,2,20130517,       1542,  22.750167,-157.9993333,       4741,  3400.9,   1.4872,  34.6763,2,  34.6763,2,    135.6,2,   135.9,2,  157.42,2,    2.58,2,  -999.0,    3401,     1.2314,   37.03,2,     -999.0
33KB20130516,       PRS2,       2,          3,          8,       8008,2,20130517,       1542,  22.750167,-157.9993333,       4741,  3599.4,   1.4633,  34.6803,2,  34.6816,2,    141.0,2,   140.8,2,  155.83,2,    2.60,3,  -999.0,    3600,     1.1879,   36.18,2,     -999.0
33KB20130516,       PRS2,       2,          3,          7,       8026,2,20130517,       1542,  22.750167,-157.9993333,       4741,  3799.8,   1.4551,  34.6827,2,  34.6836,2,    144.9,2,   144.5,2,  153.71,2,    2.61,3,  -999.0,    3800,     1.1590,   35.85,2,     -999.0
33KB20130516,       PRS2,       2,          3,          6,       8006,2,20130517,       1542,  22.750167,-157.9993333,       4741,  3998.8,   1.4555,  34.6844,2,  34.6851,2,    147.9,2,   147.8,2,  152.36,2,    2.55,3,  -999.0,    3998,     1.1380,   35.74,2,     -999.0
33KB20130516,       PRS2,       2,          3,          5,       8005,2,20130517,       1542,  22.750167,-157.9993333,       4741,  4199.2,   1.4645,  34.6856,2,  34.6865,2,    150.1,2,   149.6,2,  151.89,2,    2.54,3,  -999.0,    4199,     1.1247,   35.55,2,     -999.0
33KB20130516,       PRS2,       2,          3,          4,       8004,2,20130517,       1542,  22.750167,-157.9993333,       4741,  4399.8,   1.4788,  34.6864,2,  34.6869,2,    151.4,2,   150.9,2,  150.61,2,    2.48,2,  -999.0,    4401,     1.1160,   35.57,2,     -999.0
33KB20130516,       PRS2,       2,          3,          3,       8003,2,20130517,       1542,  22.750167,-157.9993333,       4741,  4501.0,   1.4883,  34.6868,2,-999.0000,5,    151.8,2,   151.4,2,  150.71,2,    2.51,3,  -999.0,    4500,     1.1136,   35.44,2,     -999.0
33KB20130516,       PRS2,       2,          3,          2,       8002,2,20130517,       1542,  22.750167,-157.9993333,       4741,  4599.1,   1.4964,  34.6869,2,  34.6873,2,    152.3,2,   151.5,2,  150.24,2,    2.47,2,  -999.0,    4599,     1.1101,   35.46,2,     -999.0
33KB20130516,       PRS2,       2,          3,          1,       8001,2,20130517,       1542,  22.750167,-157.9993333,       4741,  4809.5,   1.5221,  34.6870,2,  34.6879,2,    152.3,2,   152.5,2,  149.89,2,    2.47,2,  -999.0,    4808,     1.1101,   35.41,2,     -999.0