BOTTLE,20141031SIOCCHAMB
EXPOCODE,SECT_ID,STNNBR,CASTNO,SAMPNO,BTLNBR,BTLNBR_FLAG_W,DATE,TIME,LATITUDE,LONGITUDE,DEPTH,CTDPRS,CTDTMP,CTDSAL,CTDSAL_FLAG_W,SALNTY,SALNTY_FLAG_W,CTDOXY,CTDOXY_FLAG_W,OXYGEN,OXYGEN_FLAG_W,SILCAT,SILCAT_FLAG_W,PHSPHT,PHSPHT_FLAG_W,REVPRS,CTDRAW,THETA,NO2+NO3,NO2+NO3_FLAG_W,REVTMP
,,,,,,,,,,,METERS,DBAR,ITS-90,PSS-78,,PSS-78,,UMOL/KG,,UMOL/KG,,UMOL/KG,,UMOL/KG,,DBAR,DBAR,ITS-90,UMOL/KG,,DEG C
33KB20130516,       PRS2,       2,         10,         14,       8014,2,20130518,       1451,  22.750500,-157.9995000,       4741,     7.5,  24.9658,  34.8603,2,  34.8623,2,    207.6,2,  -999.0,5, -999.00,9, -999.00,9,  -999.0,       7,    24.9642, -999.00,9,     -999.0
33KB20130516,       PRS2,       2,         10,         13,       8025,2,20130518,       1451,  22.750500,-157.9995000,       4741,     7.3,  24.9663,  34.8630,2,-999.0000,5,    207.7,2,  -999.0,5, -999.00,9, -999.00,9,  -999.0,       8,    24.9647, -999.00,9,     -999.0
33KB20130516,       PRS2,       2,         10,         12,       8012,2,20130518,       1451,  22.750500,-157.9995000,       4741,     7.3,  24.9642,  34.8669,2,-999.0000,5,    207.4,2,  -999.0,5, -999.00,9, -999.00,9,  -999.0,       7,    24.9626, -999.00,9,     -999.0
33KB20130516,       PRS2,       2,         10,         11,       8011,2,20130518,       1451,  22.750500,-157.9995000,       4741,     7.1,  24.9626,  34.8668,2,-999.0000,5,    207.4,2,  -999.0,5, -999.00,9, -999.00,9,  -999.0,       6,    24.9611, -999.00,9,     -999.0
33KB20130516,       PRS2,       2,         10,         10,       8010,2,20130518,       1451,  22.750500,-157.9995000,       4741,     7.2,  24.9620,  34.8672,2,-999.0000,5,    207.5,2,  -999.0,5, -999.00,9, -999.00,9,  -999.0,       6,    24.9605, -999.00,9,     -999.0
33KB20130516,       PRS2,       2,         10,          9,       8009,2,20130518,       1451,  22.750500,-157.9995000,       4741,     7.0,  24.9608,  34.8682,2,-999.0000,5,    207.6,2,  -999.0,5, -999.00,9, -999.00,9,  -999.0,       7,    24.9593, -999.00,9,     -999.0
33KB20130516,       PRS2,       2,         10,          8,       8008,2,20130518,       1451,  22.750500,-157.9995000,       4741,     7.1,  24.9575,  34.8705,2,-999.0000,5,    208.2,2,  -999.0,5, -999.00,9, -999.00,9,  -999.0,       5,    24.9560, -999.00,9,     -999.0
33KB20130516,       PRS2,       2,         10,          7,       8026,2,20130518,       1451,  22.750500,-157.9995000,       4741,   500.2,   7.4080,  34.0341,2,  34.0343,2,    142.0,2,  -999.0,5, -999.00,9, -999.00,9,  -999.0,     500,     7.3593, -999.00,9,     -999.0
33KB20130516,       PRS2,       2,         10,          6,       8006,2,20130518,       1451,  22.750500,-157.9995000,       4741,   900.0,   4.2787,  34.4396,2,  34.4387,2,     40.1,2,    39.4,2, -999.00,9, -999.00,9,  -999.0,     900,     4.2094, -999.00,9,     -999.0
33KB20130516,       PRS2,       2,         10,          5,       8005,2,20130518,       1451,  22.750500,-157.9995000,       4741,  1020.4,   3.8997,  34.4742,2,  34.4742,2,     45.9,2,  -999.0,5, -999.00,9, -999.00,9,  -999.0,    1021,     3.8232, -999.00,9,     -999.0
33KB20130516,       PRS2,       2,         10,          4,       8004,2,20130518,       1451,  22.750500,-157.9995000,       4741,  1249.4,   3.3875,  34.5303,2,  34.5296,2,     56.0,2,    55.9,2, -999.00,9, -999.00,9,  -999.0,    1250,     3.2964, -999.00,9,     -999.0
33KB20130516,       PRS2,       2,         10,          3,       8003,2,20130518,       1451,  22.750500,-157.9995000,       4741,  1500.8,   2.8536,  34.5653,2,  34.5657,2,     66.9,2,    67.1,2, -999.00,9, -999.00,9,  -999.0,    1500,     2.7474, -999.00,9,     -999.0
33KB20130516,       PRS2,       2,         10,          2,       8002,2,20130518,       1451,  22.750500,-157.9995000,       4741,  1699.8,   2.5068,  34.5884,2,  34.5881,2,     75.8,2,  -999.0,5, -999.00,9, -999.00,9,  -999.0,    1700,     2.3883, -999.00,9,     -999.0
33KB20130516,       PRS2,       2,         10,          1,       8001,2,20130518,       1451,  22.750500,-157.9995000,       4741,  1699.6,   2.5069,  34.5883,2,  34.5899,2,     75.8,2,    76.2,2, -999.00,9, -999.00,9,  -999.0,    1699,     2.3885, -999.00,9,     -999.0
33KB20130516,       PRS2,       2,         11,         18,       8018,2,20130518,       1751,  22.749667,-157.9996667,       4741,     7.4,  24.9941,  34.8666,2,-999.0000,5,    210.1,1,  -999.0,9, -999.00,9, -999.00,9,  -999.0,       7,    24.9925, -999.00,9,     -999.0
33KB20130516,       PRS2,       2,         11,         17,       8017,2,20130518,       1751,  22.749667,-157.9996667,       4741,     7.4,  24.9943,  34.8667,2,  34.8664,2,    209.7,1,  -999.0,9, -999.00,9, -999.00,9,  -999.0,       6,    24.9926, -999.00,9,     -999.0
33KB20130516,       PRS2,       2,         11,         16,       8016,2,20130518,       1751,  22.749667,-157.9996667,       4741,    25.5,  24.8227,  34.8785,2,-999.0000,5,    209.1,1,  -999.0,9, -999.00,9, -999.00,9,  -999.0,      25,    24.8172, -999.00,9,     -999.0
33KB20130516,       PRS2,       2,         11,         15,       8015,2,20130518,       1751,  22.749667,-157.9996667,       4741,    25.4,  24.8191,  34.8785,2,  34.8792,2,    209.2,1,  -999.0,9, -999.00,9, -999.00,9,  -999.0,      25,    24.8136, -999.00,9,     -999.0
33KB20130516,       PRS2,       2,         11,         14,       8014,2,20130518,       1751,  22.749667,-157.9996667,       4741,    45.0,  23.8811,  35.1056,2,-999.0000,5,    215.8,1,  -999.0,9, -999.00,9, -999.00,9,  -999.0,      45,    23.8717, -999.00,9,     -999.0
33KB20130516,       PRS2,       2,         11,         13,       8025,2,20130518,       1751,  22.749667,-157.9996667,       4741,    45.2,  23.8789,  35.1046,2,  35.1266,3,    215.9,1,  -999.0,9, -999.00,9, -999.00,9,  -999.0,      45,    23.8694, -999.00,9,     -999.0
33KB20130516,       PRS2,       2,         11,         12,       8012,2,20130518,       1751,  22.749667,-157.9996667,       4741,    76.7,  23.7805,  35.3667,2,-999.0000,5,    213.7,1,  -999.0,9, -999.00,9, -999.00,9,  -999.0,      77,    23.7644, -999.00,9,     -999.0
33KB20130516,       PRS2,       2,         11,         11,       8011,2,20130518,       1751,  22.749667,-157.9996667,       4741,    76.6,  23.7842,  35.3672,2,  35.3591,2,    213.8,1,  -999.0,9, -999.00,9, -999.00,9,  -999.0,      77,    23.7681, -999.00,9,     -999.0
33KB20130516,       PRS2,       2,         11,         10,       8010,2,20130518,       1751,  22.749667,-157.9996667,       4741,   100.5,  22.7975,  35.2016,2,-999.0000,5,    214.7,1,  -999.0,9, -999.00,9, -999.00,9,  -999.0,     101,    22.7770, -999.00,9,     -999.0
33KB20130516,       PRS2,       2,         11,          9,       8009,2,20130518,       1751,  22.749667,-157.9996667,       4741,   100.7,  22.8020,  35.2067,2,  35.2069,2,    215.0,1,  -999.0,9, -999.00,9, -999.00,9,  -999.0,     101,    22.7815, -999.00,9,     -999.0
33KB20130516,       PRS2,       2,         11,          8,       8008,2,20130518,       1751,  22.749667,-157.9996667,       4741,   125.6,  22.6383,  35.4071,2,-999.0000,5,    213.3,1,  -999.0,9, -999.00,9, -999.00,9,  -999.0,     126,    22.6129, -999.00,9,     -999.0
33KB20130516,       PRS2,       2,         11,          7,       8026,2,20130518,       1751,  22.749667,-157.9996667,       4741,   125.4,  22.6378,  35.4076,2,  35.4044,2,    213.3,1,  -999.0,9, -999.00,9, -999.00,9,  -999.0,     126,    22.6124, -999.00,9,     -999.0
33KB20130516,       PRS2,       2,         11,          6,       8006,2,20130518,       1751,  22.749667,-157.9996667,       4741,   150.9,  21.9910,  35.3448,2,-999.0000,5,    210.9,1,  -999.0,9, -999.00,9, -999.00,9,  -999.0,     150,    21.9611, -999.00,9,     -999.0
33KB20130516,       PRS2,       2,         11,          5,       8005,2,20130518,       1751,  22.749667,-157.9996667,       4741,   150.8,  21.9804,  35.3442,2,  35.3437,2,    211.2,1,  -999.0,9, -999.00,9, -999.00,9,  -999.0,     150,    21.9505, -999.00,9,     -999.0
33KB20130516,       PRS2,       2,         11,          4,       8004,2,20130518,       1751,  22.749667,-157.9996667,       4741,   175.4,  21.3253,  35.3251,2,-999.0000,5,    210.1,1,  -999.0,9, -999.00,9, -999.00,9,  -999.0,     176,    21.2913, -999.00,9,     -999.0
33KB20130516,       PRS2,       2,         11,          3,       8003,2,20130518,       1751,  22.749667,-157.9996667,       4741,   175.5,  21.3379,  35.3247,2,  35.3242,2,    210.0,1,  -999.0,9, -999.00,9, -999.00,9,  -999.0,     176,    21.3039, -999.00,9,     -999.0
33KB20130516,       PRS2,       2,         11,          2,       8002,2,20130518,       1751,  22.749667,-157.9996667,       4741,   500.1,   7.4794,  34.0330,2,  34.0590,4,    144.9,1,  -999.0,9, -999.00,9, -999.00,9,  -999.0,     500,     7.4305, -999.00,9,     -999.0
33KB20130516,       PRS2,       2,         11,          1,       8001,2,20130518,       1751,  22.749667,-157.9996667,       4741,  1019.5,   3.9535,  34.4718,2,  34.4720,2,     44.7,1,  -999.0,9, -999.00,9, -999.00,9,  -999.0,    1020,     3.8766, -999.00,9,     -999.0
33KB20130516,       PRS2,       2,         12,         24,       8024,2,20130518,       2053,  22.749833,-157.9871667,       4739,     8.4,  25.0388,  34.8653,2,  34.8646,2,    207.2,2,  -999.0,5, -999.00,9, -999.00,9,  -999.0,       8,    25.0370, -999.00,9,     -999.0
33KB20130516,       PRS2,       2,         12,         23,       8023,2,20130518,       2053,  22.749833,-157.9871667,       4739,     8.3,  25.0393,  34.8653,2,  34.8642,2,    207.3,2,   208.4,2, -999.00,9, -999.00,9,  -999.0,       8,    25.0375, -999.00,9,     -999.0
33KB20130516,       PRS2,       2,         12,         22,       8022,2,20130518,       2053,  22.749833,-157.9871667,       4739,     8.3,  25.0403,  34.8651,2,-999.0000,5,    207.4,2,  -999.0,5, -999.00,9, -999.00,9,  -999.0,       8,    25.0385, -999.00,9,     -999.0
33KB20130516,       PRS2,       2,         12,         21,       8021,2,20130518,       2053,  22.749833,-157.9871667,       4739,     8.4,  25.0387,  34.8656,2,-999.0000,5,    207.5,2,  -999.0,5, -999.00,9, -999.00,9,  -999.0,       8,    25.0369, -999.00,9,     -999.0
33KB20130516,       PRS2,       2,         12,         20,       8020,2,20130518,       2053,  22.749833,-157.9871667,       4739,    25.7,  24.8786,  34.8773,2,-999.0000,5,    208.5,2,  -999.0,5, -999.00,9, -999.00,9,  -999.0,      25,    24.8731, -999.00,9,     -999.0
33KB20130516,       PRS2,       2,         12,         19,       8019,2,20130518,       2053,  22.749833,-157.9871667,       4739,    25.8,  24.8785,  34.8774,2,-999.0000,5,    208.5,2,  -999.0,5, -999.00,9, -999.00,9,  -999.0,      26,    24.8729, -999.00,9,     -999.0
33KB20130516,       PRS2,       2,         12,         18,       8018,2,20130518,       2053,  22.749833,-157.9871667,       4739,    45.4,  23.9762,  35.0702,2,-999.0000,5,    214.7,2,  -999.0,5, -999.00,9, -999.00,9,  -999.0,      44,    23.9666, -999.00,9,     -999.0
33KB20130516,       PRS2,       2,         12,         17,       8017,2,20130518,       2053,  22.749833,-157.9871667,       4739,    45.1,  23.9436,  35.0939,2,-999.0000,5,    215.3,2,  -999.0,5, -999.00,9, -999.00,9,  -999.0,      45,    23.9341, -999.00,9,     -999.0
33KB20130516,       PRS2,       2,         12,         16,       8016,2,20130518,       2053,  22.749833,-157.9871667,       4739,    74.5,  22.9694,  35.1657,2,-999.0000,5,    213.8,2,  -999.0,5, -999.00,9, -999.00,9,  -999.0,      75,    22.9542, -999.00,9,     -999.0
33KB20130516,       PRS2,       2,         12,         15,       8015,2,20130518,       2053,  22.749833,-157.9871667,       4739,    74.5,  22.9686,  35.1635,2,-999.0000,5,    214.1,2,  -999.0,5, -999.00,9, -999.00,9,  -999.0,      75,    22.9535, -999.00,9,     -999.0
33KB20130516,       PRS2,       2,         12,         14,       8014,2,20130518,       2053,  22.749833,-157.9871667,       4739,   100.4,  22.8347,  35.3037,2,  35.3058,2,    216.2,2,   215.8,2, -999.00,9, -999.00,9,  -999.0,     101,    22.8143, -999.00,9,     -999.0
33KB20130516,       PRS2,       2,         12,         13,       8025,2,20130518,       2053,  22.749833,-157.9871667,       4739,   100.6,  22.8352,  35.3053,2,-999.0000,5,    216.3,2,  -999.0,5, -999.00,9, -999.00,9,  -999.0,     100,    22.8148, -999.00,9,     -999.0
33KB20130516,       PRS2,       2,         12,         12,       8012,2,20130518,       2053,  22.749833,-157.9871667,       4739,   100.6,  22.8348,  35.3049,2,-999.0000,5,    216.3,2,  -999.0,5, -999.00,9, -999.00,9,  -999.0,     100,    22.8143, -999.00,9,     -999.0
33KB20130516,       PRS2,       2,         12,         11,       8011,2,20130518,       2053,  22.749833,-157.9871667,       4739,   125.8,  22.5827,  35.4000,2,-999.0000,5,    213.4,2,  -999.0,5, -999.00,9, -999.00,9,  -999.0,     125,    22.5573, -999.00,9,     -999.0
33KB20130516,       PRS2,       2,         12,         10,       8010,2,20130518,       2053,  22.749833,-157.9871667,       4739,   125.5,  22.5498,  35.4002,2,-999.0000,5,    213.2,2,  -999.0,5, -999.00,9, -999.00,9,  -999.0,     124,    22.5245, -999.00,9,     -999.0
33KB20130516,       PRS2,       2,         12,          9,       8009,2,20130518,       2053,  22.749833,-157.9871667,       4739,   150.3,  22.0549,  35.3541,2,-999.0000,5,    211.0,2,  -999.0,5, -999.00,9, -999.00,9,  -999.0,     150,    22.0251, -999.00,9,     -999.0
33KB20130516,       PRS2,       2,         12,          8,       8008,2,20130518,       2053,  22.749833,-157.9871667,       4739,   150.5,  22.0434,  35.3519,2,-999.0000,5,    210.8,2,  -999.0,5, -999.00,9, -999.00,9,  -999.0,     149,    22.0135, -999.00,9,     -999.0
33KB20130516,       PRS2,       2,         12,          7,       8026,2,20130518,       2053,  22.749833,-157.9871667,       4739,   175.3,  21.4148,  35.3196,2,-999.0000,5,    210.0,2,  -999.0,5, -999.00,9, -999.00,9,  -999.0,     174,    21.3808, -999.00,9,     -999.0
33KB20130516,       PRS2,       2,         12,          6,       8006,2,20130518,       2053,  22.749833,-157.9871667,       4739,   175.4,  21.3603,  35.3149,2,-999.0000,5,    209.8,2,  -999.0,5, -999.00,9, -999.00,9,  -999.0,     175,    21.3263, -999.00,9,     -999.0
33KB20130516,       PRS2,       2,         12,          5,       8005,2,20130518,       2053,  22.749833,-157.9871667,       4739,   250.4,  16.8334,  34.6332,2,  34.6380,2,    191.3,2,   192.8,2, -999.00,9, -999.00,9,  -999.0,     250,    16.7924, -999.00,9,     -999.0
33KB20130516,       PRS2,       2,         12,          4,       8004,2,20130518,       2053,  22.749833,-157.9871667,       4739,   520.0,   7.2657,  34.0400,2,  34.0488,4,    130.1,3,  -999.0,5, -999.00,9, -999.00,9,  -999.0,     520,     7.2156, -999.00,9,     -999.0
33KB20130516,       PRS2,       2,         12,          3,       8003,2,20130518,       2053,  22.749833,-157.9871667,       4739,   550.1,   6.6620,  34.0450,2,  34.0458,2,    112.4,2,  -999.0,5, -999.00,9, -999.00,9,  -999.0,     550,     6.6114, -999.00,9,     -999.0
33KB20130516,       PRS2,       2,         12,          2,       8002,2,20130518,       2053,  22.749833,-157.9871667,       4739,   550.0,   6.6257,  34.0459,2,  34.0450,2,    111.6,2,   109.5,2, -999.00,9, -999.00,9,  -999.0,     550,     6.5752, -999.00,9,     -999.0
33KB20130516,       PRS2,       2,         12,          1,       8001,2,20130518,       2053,  22.749833,-157.9871667,       4739,  1018.7,   4.0786,  34.4674,2,  34.4650,2,     42.6,2,  -999.0,5, -999.00,9, -999.00,9,  -999.0,    1019,     4.0008, -999.00,9,     -999.0