BOTTLE,20141031SIOCCHAMB
EXPOCODE,SECT_ID,STNNBR,CASTNO,SAMPNO,BTLNBR,BTLNBR_FLAG_W,DATE,TIME,LATITUDE,LONGITUDE,DEPTH,CTDPRS,CTDTMP,CTDSAL,CTDSAL_FLAG_W,SALNTY,SALNTY_FLAG_W,CTDOXY,CTDOXY_FLAG_W,OXYGEN,OXYGEN_FLAG_W,SILCAT,SILCAT_FLAG_W,PHSPHT,PHSPHT_FLAG_W,REVPRS,CTDRAW,THETA,NO2+NO3,NO2+NO3_FLAG_W,REVTMP
,,,,,,,,,,,METERS,DBAR,ITS-90,PSS-78,,PSS-78,,UMOL/KG,,UMOL/KG,,UMOL/KG,,UMOL/KG,,DBAR,DBAR,ITS-90,UMOL/KG,,DEG C
33KB20130516,       PRS2,       2,          7,         23,       8023,2,20130518,       0555,  22.764167,-158.0203333,       4741,     9.1,  24.9492,  34.8855,2,  34.8855,2,    209.5,2,  -999.0,5, -999.00,9, -999.00,9,  -999.0,       9,    24.9472, -999.00,9,     -999.0
33KB20130516,       PRS2,       2,          7,         22,       8022,2,20130518,       0555,  22.764167,-158.0203333,       4741,     8.8,  24.9505,  34.8856,2,  34.8855,2,    209.5,2,   209.5,2, -999.00,9, -999.00,9,  -999.0,       8,    24.9485, -999.00,9,     -999.0
33KB20130516,       PRS2,       2,          7,         21,       8021,2,20130518,       0555,  22.764167,-158.0203333,       4741,    18.8,  24.9146,  34.8860,2,  34.8851,2,    209.1,2,  -999.0,5, -999.00,9, -999.00,9,  -999.0,      19,    24.9105, -999.00,9,     -999.0
33KB20130516,       PRS2,       2,          7,         20,       8020,2,20130518,       0555,  22.764167,-158.0203333,       4741,    25.7,  24.8749,  34.8855,2,  34.8851,2,    209.1,2,  -999.0,5, -999.00,9, -999.00,9,  -999.0,      26,    24.8694, -999.00,9,     -999.0
33KB20130516,       PRS2,       2,          7,         19,       8019,2,20130518,       0555,  22.764167,-158.0203333,       4741,    25.7,  24.8748,  34.8856,2,  34.8863,2,    209.0,2,   209.9,2, -999.00,9, -999.00,9,  -999.0,      24,    24.8693, -999.00,9,     -999.0
33KB20130516,       PRS2,       2,          7,         18,       8018,2,20130518,       0555,  22.764167,-158.0203333,       4741,    35.3,  24.8629,  34.8873,2,  34.8965,2,    210.5,2,  -999.0,5, -999.00,9, -999.00,9,  -999.0,      36,    24.8553, -999.00,9,     -999.0
33KB20130516,       PRS2,       2,          7,         17,       8017,2,20130518,       0555,  22.764167,-158.0203333,       4741,    44.4,  24.3896,  35.0574,2,  35.0644,2,    215.6,2,   215.0,2, -999.00,9, -999.00,9,  -999.0,      44,    24.3802, -999.00,9,     -999.0
33KB20130516,       PRS2,       2,          7,         16,       8016,2,20130518,       0555,  22.764167,-158.0203333,       4741,    59.2,  23.3834,  35.0214,2,  35.0470,3,    215.5,3,  -999.0,5, -999.00,9, -999.00,9,  -999.0,      58,    23.3712, -999.00,9,     -999.0
33KB20130516,       PRS2,       2,          7,         15,       8015,2,20130518,       0555,  22.764167,-158.0203333,       4741,    74.6,  22.9688,  35.1849,2,  35.2193,3,    215.4,3,   215.2,2, -999.00,9, -999.00,9,  -999.0,      74,    22.9536, -999.00,9,     -999.0
33KB20130516,       PRS2,       2,          7,         14,       8014,2,20130518,       0555,  22.764167,-158.0203333,       4741,    85.6,  22.6359,  35.3477,2,  35.3360,2,    215.4,2,   213.9,2, -999.00,9, -999.00,9,  -999.0,      85,    22.6186, -999.00,9,     -999.0
33KB20130516,       PRS2,       2,          7,         13,       8025,2,20130518,       0555,  22.764167,-158.0203333,       4741,    89.9,  22.4235,  35.3190,2,  35.3194,2,    212.7,2,  -999.0,5, -999.00,9, -999.00,9,  -999.0,      90,    22.4055, -999.00,9,     -999.0
33KB20130516,       PRS2,       2,          7,         12,       8012,2,20130518,       0555,  22.764167,-158.0203333,       4741,   100.1,  22.3464,  35.3348,2,  35.3358,2,    213.1,2,   211.6,2, -999.00,9, -999.00,9,  -999.0,     100,    22.3264, -999.00,9,     -999.0
33KB20130516,       PRS2,       2,          7,         11,       8011,2,20130518,       0555,  22.764167,-158.0203333,       4741,   109.8,  22.2742,  35.3550,2,  35.3512,2,    210.2,2,  -999.0,5, -999.00,9, -999.00,9,  -999.0,     110,    22.2523, -999.00,9,     -999.0
33KB20130516,       PRS2,       2,          7,         10,       8010,2,20130518,       0555,  22.764167,-158.0203333,       4741,   115.0,  22.1457,  35.3664,2,  35.3585,2,    211.0,2,   210.9,2, -999.00,9, -999.00,9,  -999.0,     116,    22.1228, -999.00,9,     -999.0
33KB20130516,       PRS2,       2,          7,          9,       8009,2,20130518,       0555,  22.764167,-158.0203333,       4741,   125.9,  21.9794,  35.3531,2,  35.3504,2,    211.5,2,   211.0,2, -999.00,9, -999.00,9,  -999.0,     126,    21.9545, -999.00,9,     -999.0
33KB20130516,       PRS2,       2,          7,          8,       8008,2,20130518,       0555,  22.764167,-158.0203333,       4741,   130.1,  21.7846,  35.3399,2,  35.3394,2,    211.1,2,  -999.0,5, -999.00,9, -999.00,9,  -999.0,     130,    21.7590, -999.00,9,     -999.0
33KB20130516,       PRS2,       2,          7,          7,       8026,2,20130518,       0555,  22.764167,-158.0203333,       4741,   150.1,  21.3748,  35.3942,2,  35.3936,2,    213.7,2,   214.4,2, -999.00,9, -999.00,9,  -999.0,     150,    21.3456, -999.00,9,     -999.0
33KB20130516,       PRS2,       2,          7,          6,       8006,2,20130518,       0555,  22.764167,-158.0203333,       4741,   165.2,  21.0782,  35.3604,2,  35.3634,2,    213.3,2,   213.2,2, -999.00,9, -999.00,9,  -999.0,     165,    21.0465, -999.00,9,     -999.0
33KB20130516,       PRS2,       2,          7,          5,       8005,2,20130518,       0555,  22.764167,-158.0203333,       4741,   175.8,  20.9914,  35.3468,2,  35.3480,2,    213.7,2,   213.6,2, -999.00,9, -999.00,9,  -999.0,     176,    20.9577, -999.00,9,     -999.0
33KB20130516,       PRS2,       2,          7,          4,       8004,2,20130518,       0555,  22.764167,-158.0203333,       4741,   200.2,  20.4333,  35.2452,2,  35.2394,2,    209.8,2,   210.5,2, -999.00,9, -999.00,9,  -999.0,     200,    20.3957, -999.00,9,     -999.0
33KB20130516,       PRS2,       2,          7,          3,       8003,2,20130518,       0555,  22.764167,-158.0203333,       4741,   540.3,   6.8182,  34.0287,2,  34.0292,2,    121.5,2,   122.8,2, -999.00,9, -999.00,9,  -999.0,     539,     6.7679, -999.00,9,     -999.0
33KB20130516,       PRS2,       2,          7,          2,       8002,2,20130518,       0555,  22.764167,-158.0203333,       4741,   800.4,   4.9781,  34.3435,2,  34.3447,2,     33.9,2,    33.9,2, -999.00,9, -999.00,9,  -999.0,     800,     4.9130, -999.00,9,     -999.0
33KB20130516,       PRS2,       2,          7,          1,       8001,2,20130518,       0555,  22.764167,-158.0203333,       4741,  1020.3,   3.9986,  34.4629,2,  34.4656,2,     43.8,2,    43.8,2, -999.00,9, -999.00,9,  -999.0,    1020,     3.9214, -999.00,9,     -999.0
33KB20130516,       PRS2,       2,          8,         23,       8023,2,20130518,       0907,  22.767000,-157.9996667,       4731,     8.2,  24.9250,  34.8848,2,  34.8845,2,    209.6,1,  -999.0,9, -999.00,9, -999.00,9,  -999.0,       8,    24.9232, -999.00,9,     -999.0
33KB20130516,       PRS2,       2,          8,         22,       8022,2,20130518,       0907,  22.767000,-157.9996667,       4731,    25.5,  24.9114,  34.8841,2,-999.0000,5,    209.3,1,  -999.0,9, -999.00,9, -999.00,9,  -999.0,      26,    24.9059, -999.00,9,     -999.0
33KB20130516,       PRS2,       2,          8,         21,       8021,2,20130518,       0907,  22.767000,-157.9996667,       4731,    25.5,  24.9095,  34.8841,2,  34.8867,2,    209.3,1,  -999.0,9, -999.00,9, -999.00,9,  -999.0,      25,    24.9040, -999.00,9,     -999.0
33KB20130516,       PRS2,       2,          8,         20,       8020,2,20130518,       0907,  22.767000,-157.9996667,       4731,    46.3,  24.0088,  35.0029,2,-999.0000,5,    216.3,1,  -999.0,9, -999.00,9, -999.00,9,  -999.0,      45,    23.9990, -999.00,9,     -999.0
33KB20130516,       PRS2,       2,          8,         19,       8019,2,20130518,       0907,  22.767000,-157.9996667,       4731,    46.2,  23.9791,  34.9989,2,  35.0171,3,    216.3,1,  -999.0,9, -999.00,9, -999.00,9,  -999.0,      46,    23.9694, -999.00,9,     -999.0
33KB20130516,       PRS2,       2,          8,         18,       8018,2,20130518,       0907,  22.767000,-157.9996667,       4731,    75.7,  23.7606,  35.2716,2,-999.0000,5,    215.2,1,  -999.0,9, -999.00,9, -999.00,9,  -999.0,      74,    23.7447, -999.00,9,     -999.0
33KB20130516,       PRS2,       2,          8,         17,       8017,2,20130518,       0907,  22.767000,-157.9996667,       4731,    75.6,  23.7566,  35.2697,2,  35.2597,2,    215.1,1,  -999.0,9, -999.00,9, -999.00,9,  -999.0,      75,    23.7408, -999.00,9,     -999.0
33KB20130516,       PRS2,       2,          8,         16,       8016,2,20130518,       0907,  22.767000,-157.9996667,       4731,   100.6,  22.4711,  35.2453,2,  35.2546,2,    213.8,1,  -999.0,9, -999.00,9, -999.00,9,  -999.0,     100,    22.4509, -999.00,9,     -999.0
33KB20130516,       PRS2,       2,          8,         15,       8015,2,20130518,       0907,  22.767000,-157.9996667,       4731,   125.2,  22.3251,  35.3784,2,-999.0000,5,    212.7,1,  -999.0,9, -999.00,9, -999.00,9,  -999.0,     125,    22.3000, -999.00,9,     -999.0
33KB20130516,       PRS2,       2,          8,         14,       8014,2,20130518,       0907,  22.767000,-157.9996667,       4731,   125.3,  22.3234,  35.3788,2,  35.3752,2,    212.5,1,  -999.0,9, -999.00,9, -999.00,9,  -999.0,     125,    22.2983, -999.00,9,     -999.0
33KB20130516,       PRS2,       2,          8,         13,       8025,2,20130518,       0907,  22.767000,-157.9996667,       4731,   151.0,  21.9178,  35.3402,2,  35.3374,2,    211.1,1,  -999.0,9, -999.00,9, -999.00,9,  -999.0,     151,    21.8879, -999.00,9,     -999.0
33KB20130516,       PRS2,       2,          8,         12,       8012,2,20130518,       0907,  22.767000,-157.9996667,       4731,   175.0,  21.3083,  35.3735,2,-999.0000,5,    214.4,1,  -999.0,9, -999.00,9, -999.00,9,  -999.0,     175,    21.2744, -999.00,9,     -999.0
33KB20130516,       PRS2,       2,          8,         11,       8011,2,20130518,       0907,  22.767000,-157.9996667,       4731,   175.2,  21.3079,  35.3736,2,  35.3719,2,    214.5,1,  -999.0,9, -999.00,9, -999.00,9,  -999.0,     175,    21.2740, -999.00,9,     -999.0
33KB20130516,       PRS2,       2,          8,         10,       8010,2,20130518,       0907,  22.767000,-157.9996667,       4731,   175.0,  21.3057,  35.3738,2,-999.0000,5,    214.5,1,  -999.0,9, -999.00,9, -999.00,9,  -999.0,     175,    21.2718, -999.00,9,     -999.0
33KB20130516,       PRS2,       2,          8,          9,       8009,2,20130518,       0907,  22.767000,-157.9996667,       4731,   225.2,  18.9164,  34.9595,2,-999.0000,5,    192.7,1,  -999.0,9, -999.00,9, -999.00,9,  -999.0,     226,    18.8763, -999.00,9,     -999.0
33KB20130516,       PRS2,       2,          8,          8,       8008,2,20130518,       0907,  22.767000,-157.9996667,       4731,   251.4,  17.2694,  34.7324,2,-999.0000,5,    197.5,1,  -999.0,9, -999.00,9, -999.00,9,  -999.0,     251,    17.2274, -999.00,9,     -999.0
33KB20130516,       PRS2,       2,          8,          7,       8026,2,20130518,       0907,  22.767000,-157.9996667,       4731,   300.8,  13.6752,  34.3493,2,-999.0000,5,    204.1,1,  -999.0,9, -999.00,9, -999.00,9,  -999.0,     301,    13.6325, -999.00,9,     -999.0
33KB20130516,       PRS2,       2,          8,          6,       8006,2,20130518,       0907,  22.767000,-157.9996667,       4731,   349.6,  11.8331,  34.2475,2,-999.0000,5,    208.0,1,  -999.0,9, -999.00,9, -999.00,9,  -999.0,     350,    11.7880, -999.00,9,     -999.0
33KB20130516,       PRS2,       2,          8,          5,       8005,2,20130518,       0907,  22.767000,-157.9996667,       4731,   401.1,  10.4258,  34.1642,2,-999.0000,5,    201.8,1,  -999.0,9, -999.00,9, -999.00,9,  -999.0,     402,    10.3780, -999.00,9,     -999.0
33KB20130516,       PRS2,       2,          8,          4,       8004,2,20130518,       0907,  22.767000,-157.9996667,       4731,   501.3,   7.5809,  34.0355,2,-999.0000,5,    147.6,1,  -999.0,9, -999.00,9, -999.00,9,  -999.0,     502,     7.5315, -999.00,9,     -999.0
33KB20130516,       PRS2,       2,          8,          3,       8003,2,20130518,       0907,  22.767000,-157.9996667,       4731,   530.5,   7.0420,  34.0323,2,  34.0337,2,    125.9,1,  -999.0,9, -999.00,9, -999.00,9,  -999.0,     531,     6.9918, -999.00,9,     -999.0
33KB20130516,       PRS2,       2,          8,          2,       8002,2,20130518,       0907,  22.767000,-157.9996667,       4731,   551.2,   6.6642,  34.0342,2,-999.0000,5,    118.3,1,  -999.0,9, -999.00,9, -999.00,9,  -999.0,     550,     6.6135, -999.00,9,     -999.0
33KB20130516,       PRS2,       2,          8,          1,       8001,2,20130518,       0907,  22.767000,-157.9996667,       4731,  1019.7,   4.0357,  34.4739,2,  34.4760,2,     43.8,1,  -999.0,9, -999.00,9, -999.00,9,  -999.0,    1019,     3.9582, -999.00,9,     -999.0
33KB20130516,       PRS2,       2,          9,         22,       8022,2,20130518,       1148,  22.769167,-157.9986667,       4732,     7.3,  24.9025,  34.8801,2,  34.8800,2,    208.3,1,  -999.0,9, -999.00,9, -999.00,9,  -999.0,       7,    24.9009, -999.00,9,     -999.0
33KB20130516,       PRS2,       2,          9,         21,       8021,2,20130518,       1148,  22.769167,-157.9986667,       4732,     7.3,  24.9026,  34.8803,2,  34.8798,2,    208.2,1,  -999.0,9, -999.00,9, -999.00,9,  -999.0,       7,    24.9010, -999.00,9,     -999.0
33KB20130516,       PRS2,       2,          9,         20,       8020,2,20130518,       1148,  22.769167,-157.9986667,       4732,    25.8,  24.9073,  34.8804,2,-999.0000,5,    208.0,1,  -999.0,9, -999.00,9, -999.00,9,  -999.0,      25,    24.9017, -999.00,9,     -999.0
33KB20130516,       PRS2,       2,          9,         19,       8019,2,20130518,       1148,  22.769167,-157.9986667,       4732,    25.8,  24.9074,  34.8806,2,  34.8800,2,    207.8,1,  -999.0,9, -999.00,9, -999.00,9,  -999.0,      25,    24.9018, -999.00,9,     -999.0
33KB20130516,       PRS2,       2,          9,         18,       8018,2,20130518,       1148,  22.769167,-157.9986667,       4732,    25.8,  24.9072,  34.8803,2,  34.8798,2,    207.7,1,  -999.0,9, -999.00,9, -999.00,9,  -999.0,      25,    24.9016, -999.00,9,     -999.0
33KB20130516,       PRS2,       2,          9,         17,       8017,2,20130518,       1148,  22.769167,-157.9986667,       4732,    45.7,  24.8725,  34.9033,2,  34.9087,2,    209.8,1,  -999.0,9, -999.00,9, -999.00,9,  -999.0,      45,    24.8626, -999.00,9,     -999.0
33KB20130516,       PRS2,       2,          9,         16,       8016,2,20130518,       1148,  22.769167,-157.9986667,       4732,    45.6,  24.8699,  34.9040,2,  34.9122,2,    209.7,1,  -999.0,9, -999.00,9, -999.00,9,  -999.0,      45,    24.8601, -999.00,9,     -999.0
33KB20130516,       PRS2,       2,          9,         15,       8015,2,20130518,       1148,  22.769167,-157.9986667,       4732,    74.6,  23.8033,  35.0995,2,  35.0919,2,    215.9,1,  -999.0,9, -999.00,9, -999.00,9,  -999.0,      75,    23.7876, -999.00,9,     -999.0
33KB20130516,       PRS2,       2,          9,         14,       8014,2,20130518,       1148,  22.769167,-157.9986667,       4732,    74.7,  23.7374,  35.0946,2,  35.0978,2,    215.4,1,  -999.0,9, -999.00,9, -999.00,9,  -999.0,      75,    23.7218, -999.00,9,     -999.0
33KB20130516,       PRS2,       2,          9,         13,       8025,2,20130518,       1148,  22.769167,-157.9986667,       4732,   100.1,  23.4635,  35.3410,2,  35.3177,3,    216.3,1,  -999.0,9, -999.00,9, -999.00,9,  -999.0,     100,    23.4428, -999.00,9,     -999.0
33KB20130516,       PRS2,       2,          9,         12,       8012,2,20130518,       1148,  22.769167,-157.9986667,       4732,   100.1,  23.4771,  35.3499,2,  35.3092,3,    216.4,1,  -999.0,9, -999.00,9, -999.00,9,  -999.0,      99,    23.4564, -999.00,9,     -999.0
33KB20130516,       PRS2,       2,          9,         11,       8011,2,20130518,       1148,  22.769167,-157.9986667,       4732,   125.2,  22.2745,  35.3768,2,  35.3737,2,    213.4,1,  -999.0,9, -999.00,9, -999.00,9,  -999.0,     125,    22.2495, -999.00,9,     -999.0
33KB20130516,       PRS2,       2,          9,         10,       8010,2,20130518,       1148,  22.769167,-157.9986667,       4732,   125.2,  22.2742,  35.3766,2,  35.3740,2,    213.4,1,  -999.0,9, -999.00,9, -999.00,9,  -999.0,     125,    22.2492, -999.00,9,     -999.0
33KB20130516,       PRS2,       2,          9,          9,       8009,2,20130518,       1148,  22.769167,-157.9986667,       4732,   201.5,  20.1165,  35.1779,2,-999.0000,5,    207.2,1,  -999.0,9, -999.00,9, -999.00,9,  -999.0,     201,    20.0790, -999.00,9,     -999.0
33KB20130516,       PRS2,       2,          9,          8,       8008,2,20130518,       1148,  22.769167,-157.9986667,       4732,   509.5,   7.1417,  34.0303,2,  34.0304,2,    131.1,1,  -999.0,9, -999.00,9, -999.00,9,  -999.0,     510,     7.0931, -999.00,9,     -999.0
33KB20130516,       PRS2,       2,          9,          7,       8026,2,20130518,       1148,  22.769167,-157.9986667,       4732,   600.6,   5.8534,  34.0919,2,-999.0000,5,     70.5,1,  -999.0,9, -999.00,9, -999.00,9,  -999.0,     600,     5.8016, -999.00,9,     -999.0
33KB20130516,       PRS2,       2,          9,          6,       8006,2,20130518,       1148,  22.769167,-157.9986667,       4732,   651.0,   5.1391,  34.1530,2,-999.0000,5,     48.6,1,  -999.0,9, -999.00,9, -999.00,9,  -999.0,     651,     5.0862, -999.00,9,     -999.0
33KB20130516,       PRS2,       2,          9,          5,       8005,2,20130518,       1148,  22.769167,-157.9986667,       4732,   699.3,   5.0049,  34.2308,2,-999.0000,5,     37.3,1,  -999.0,9, -999.00,9, -999.00,9,  -999.0,     698,     4.9485, -999.00,9,     -999.0
33KB20130516,       PRS2,       2,          9,          4,       8004,2,20130518,       1148,  22.769167,-157.9986667,       4732,   771.6,   4.7460,  34.3126,2,-999.0000,5,     32.6,1,  -999.0,9, -999.00,9, -999.00,9,  -999.0,     771,     4.6848, -999.00,9,     -999.0
33KB20130516,       PRS2,       2,          9,          3,       8003,2,20130518,       1148,  22.769167,-157.9986667,       4732,   801.4,   4.7083,  34.3323,2,-999.0000,5,     32.3,1,  -999.0,9, -999.00,9, -999.00,9,  -999.0,     801,     4.6447, -999.00,9,     -999.0
33KB20130516,       PRS2,       2,          9,          2,       8002,2,20130518,       1148,  22.769167,-157.9986667,       4732,   901.2,   4.5031,  34.4285,2,-999.0000,5,     38.5,1,  -999.0,9, -999.00,9, -999.00,9,  -999.0,     901,     4.4322, -999.00,9,     -999.0
33KB20130516,       PRS2,       2,          9,          1,       8001,2,20130518,       1148,  22.769167,-157.9986667,       4732,  1020.3,   4.0648,  34.4720,2,  34.4748,2,     43.2,1,  -999.0,9, -999.00,9, -999.00,9,  -999.0,    1020,     3.9870, -999.00,9,     -999.0