BOTTLE,20110318CCHDOSIODM
EXPOCODE,SECT_ID,STNNBR,CASTNO,SAMPNO,BTLNBR,BTLNBR_FLAG_W,DATE,TIME,LATITUDE,LONGITUDE,DEPTH,CTDRAW,CTDPRS,CTDTMP,CTDSAL,CTDSAL_FLAG_W,SALNTY,SALNTY_FLAG_W,CTDOXY,CTDOXY_FLAG_W,OXYGEN,OXYGEN_FLAG_W,SILCAT,SILCAT_FLAG_W,NITRAT,NITRAT_FLAG_W,NITRIT,NITRIT_FLAG_W,PHSPHT,PHSPHT_FLAG_W,CFC-11,CFC-11_FLAG_W,CFC-12,CFC-12_FLAG_W,TCARBN,TCARBN_FLAG_W,ALKALI,ALKALI_FLAG_W,PCO2,PCO2_FLAG_W,THETA,REVPRS,REVPRS_FLAG_W,REVTMP,REVTMP_FLAG_W
,,,,,,,,,,,METERS,DBAR,DBAR,ITS-90,PSS-78,,PSS-78,,UMOL/KG,,UMOL/KG,,UMOL/KG,,UMOL/KG,,UMOL/KG,,UMOL/KG,,PMOL/KG,,PMOL/KG,,UMOL/KG,,UMOL/KG,,UATM,,DEG C,DBAR,,ITS-90,
318MHYDROS4, A16C, 347, 1, 1, 1, 2, 19890401, 0143, -12.7300, -25.0250, 5569,  -999.00,      4.2,  27.8514,  36.8900, 2,  36.8930, 2,   -999.0, 9,   -999.0, 9,  -999.00, 9,  -999.00, 9,  -999.00, 9,  -999.00, 9, -999.000, 9, -999.000, 9,   2037.0, 2,   -999.0, 9,    277.5, 2,  27.8504,   -999.0, 9, -999.000, 9
318MHYDROS4, A16C, 347, 1, 2, 2, 2, 19890401, 0143, -12.7300, -25.0250, 5569,  -999.00,      4.4,  27.8485,  36.8902, 2,  36.8920, 2,   -999.0, 9,    210.6, 2,     2.73, 2,     0.00, 2,     0.00, 2,     0.09, 2, -999.000, 9, -999.000, 9,   -999.0, 9,   -999.0, 9,   -999.0, 9,  27.8475,   -999.0, 9, -999.000, 9
318MHYDROS4, A16C, 347, 1, 3, 3, 2, 19890401, 0143, -12.7300, -25.0250, 5569,  -999.00,     37.4,  26.4572,  36.7705, 2,  36.8050, 2,   -999.0, 9,    222.3, 2,     2.63, 2,     0.00, 2,     0.00, 2,     0.08, 2, -999.000, 9, -999.000, 9,   2038.7, 2,   2408.8, 2,    278.2, 2,  26.4487,   -999.0, 9, -999.000, 9
318MHYDROS4, A16C, 347, 1, 71, 71, 2, 19890401, 0143, -12.7300, -25.0250, 5569,  -999.00,     58.3,  24.9511,  36.9030, 2,  36.9130, 2,   -999.0, 9,    230.9, 2,     2.44, 2,     0.00, 2,     0.00, 2,     0.11, 2, -999.000, 9, -999.000, 9,   2067.0, 2,   -999.0, 9,   -999.0, 9,  24.9384,   -999.0, 9, -999.000, 9
318MHYDROS4, A16C, 347, 1, 5, 5, 2, 19890401, 0143, -12.7300, -25.0250, 5569,  -999.00,    109.8,  22.5721,  36.7674, 2,  36.7670, 2,   -999.0, 9,    221.3, 2,     2.34, 2,     0.00, 2,     0.00, 2,     0.20, 2, -999.000, 9, -999.000, 9,   -999.0, 9,   -999.0, 9,   -999.0, 9,  22.5498,   -999.0, 9, -999.000, 9
318MHYDROS4, A16C, 347, 1, 6, 6, 2, 19890401, 0143, -12.7300, -25.0250, 5569,  -999.00,    161.1,  17.8248,  35.9427, 2,  35.9340, 2,   -999.0, 9,    169.7, 2,     3.91, 2,     7.81, 2,     0.03, 2,     0.72, 2, -999.000, 9, -999.000, 9,   -999.0, 9,   -999.0, 9,   -999.0, 9,  17.7971,   -999.0, 9, -999.000, 9
318MHYDROS4, A16C, 347, 1, 7, 7, 2, 19890401, 0143, -12.7300, -25.0250, 5569,  -999.00,    211.9,  13.8301,  35.3410, 2,  35.3460, 2,   -999.0, 9,   -999.0, 9,     7.03, 2,    16.41, 2,     0.01, 2,     1.18, 2, -999.000, 9, -999.000, 9,   2131.2, 2,   -999.0, 9,   -999.0, 9,  13.7996,   -999.0, 9, -999.000, 9
318MHYDROS4, A16C, 347, 1, 8, 8, 2, 19890401, 0143, -12.7300, -25.0250, 5569,  -999.00,    263.1,  11.9178,  35.1185, 2,  35.1100, 2,   -999.0, 9,    115.8, 2,     9.38, 2,    22.77, 2,     0.01, 2,     1.53, 2, -999.000, 9, -999.000, 9,   2182.2, 2,   -999.0, 9,   -999.0, 9,  11.8834,   -999.0, 9, -999.000, 9
318MHYDROS4, A16C, 347, 1, 9, 9, 2, 19890401, 0143, -12.7300, -25.0250, 5569,  -999.00,    313.7,   9.5628,  34.8450, 2,  34.8420, 2,   -999.0, 9,    116.9, 2,    13.78, 2,    27.56, 2,     0.01, 2,     1.82, 2, -999.000, 9, -999.000, 9,   2183.4, 2,   -999.0, 9,   -999.0, 9,   9.5273,   -999.0, 9, -999.000, 9
318MHYDROS4, A16C, 347, 1, 10, 10, 2, 19890401, 0143, -12.7300, -25.0250, 5569,  -999.00,    415.3,   7.4412,  34.6315, 2,  34.6320, 2,   -999.0, 9,    131.6, 2,    18.38, 2,    30.89, 2,     0.00, 2,     2.03, 2, -999.000, 9, -999.000, 9,   -999.0, 9,   -999.0, 9,   -999.0, 9,   7.4005,   -999.0, 9, -999.000, 9
318MHYDROS4, A16C, 347, 1, 11, 11, 2, 19890401, 0143, -12.7300, -25.0250, 5569,  -999.00,    517.2,   6.1381,  34.5194, 2,  34.5220, 2,   -999.0, 9,    139.4, 2,    22.87, 2,    33.14, 2,     0.00, 2,     2.20, 2, -999.000, 9, -999.000, 9,   2198.7, 2,   -999.0, 9,   -999.0, 9,   6.0923,   -999.0, 9, -999.000, 9
318MHYDROS4, A16C, 347, 1, 12, 12, 2, 19890401, 0143, -12.7300, -25.0250, 5569,  -999.00,    669.5,   5.0898,  34.4588, 2,  34.4580, 2,   -999.0, 9,    151.6, 2,    28.35, 2,    34.31, 2,     0.00, 2,     2.30, 2, -999.000, 9, -999.000, 9,   2200.4, 2,   -999.0, 9,   -999.0, 9,   5.0352,   -999.0, 9, -999.000, 9
318MHYDROS4, A16C, 347, 1, 13, 13, 2, 19890401, 0143, -12.7300, -25.0250, 5569,  -999.00,    821.4,   4.3548,  34.4493, 2,  34.4480, 2,   -999.0, 9,    163.0, 2,    33.82, 2,    34.22, 2,     0.00, 2,     2.31, 2, -999.000, 9, -999.000, 9,   2205.5, 2,   -999.0, 9,   -999.0, 9,   4.2915,   -999.0, 9, -999.000, 9
318MHYDROS4, A16C, 347, 1, 14, 14, 2, 19890401, 0143, -12.7300, -25.0250, 5569,  -999.00,    973.9,   3.8900,  34.4930, 2,  34.4920, 2,   -999.0, 9,    174.8, 2,    38.22, 2,    33.04, 2,     0.00, 2,     2.24, 2, -999.000, 9, -999.000, 9,   2207.6, 2,   -999.0, 9,   -999.0, 9,   3.8174,   -999.0, 9, -999.000, 9
318MHYDROS4, A16C, 347, 1, 15, 15, 2, 19890401, 0143, -12.7300, -25.0250, 5569,  -999.00,   1127.3,   3.8708,  34.6208, 2,  34.6180, 2,   -999.0, 9,    177.5, 2,    36.65, 2,    31.38, 2,     0.00, 2,     2.12, 2, -999.000, 9, -999.000, 9,   2197.7, 2,   -999.0, 9,   -999.0, 9,   3.7854,   -999.0, 9, -999.000, 9
318MHYDROS4, A16C, 347, 1, 16, 16, 2, 19890401, 0143, -12.7300, -25.0250, 5569,  -999.00,   1331.7,   3.9975,  34.8002, 2,  34.7970, 2,   -999.0, 9,    195.2, 2,    29.22, 2,    27.17, 2,     0.00, 2,     1.84, 2, -999.000, 9, -999.000, 9,   2186.8, 2,   -999.0, 9,   -999.0, 9,   3.8929,   -999.0, 9, -999.000, 9
318MHYDROS4, A16C, 347, 1, 17, 17, 2, 19890401, 0143, -12.7300, -25.0250, 5569,  -999.00,   1536.2,   3.9109,  34.8934, 2,  34.8920, 2,   -999.0, 9,    218.4, 2,    25.12, 2,    23.65, 2,     0.00, 2,     1.59, 2, -999.000, 9, -999.000, 9,   2168.8, 2,   -999.0, 9,   -999.0, 9,   3.7886,   -999.0, 9, -999.000, 9
318MHYDROS4, A16C, 347, 1, 18, 18, 2, 19890401, 0143, -12.7300, -25.0250, 5569,  -999.00,   1741.3,   3.7064,  34.9321, 2,  34.9310, 2,   -999.0, 9,    235.3, 2,    23.84, 2,    21.50, 2,     0.00, 2,     1.45, 2, -999.000, 9, -999.000, 9,   -999.0, 9,   -999.0, 9,   -999.0, 9,   3.5677,   -999.0, 9, -999.000, 9
318MHYDROS4, A16C, 347, 1, 19, 19, 2, 19890401, 0143, -12.7300, -25.0250, 5569,  -999.00,   1946.9,   3.3579,  34.9296, 2,  34.9290, 2,   -999.0, 9,    242.7, 2,    27.46, 2,    21.01, 2,     0.00, 2,     1.43, 2, -999.000, 9, -999.000, 9,   2168.8, 2,   -999.0, 9,   -999.0, 9,   3.2050,   -999.0, 9, -999.000, 9
318MHYDROS4, A16C, 347, 1, 20, 20, 2, 19890401, 0143, -12.7300, -25.0250, 5569,  -999.00,   2151.3,   3.0495,  34.9143, 2,  34.9140, 2,   -999.0, 9,    242.4, 2,    33.13, 2,    21.50, 2,     0.00, 2,     1.46, 2, -999.000, 9, -999.000, 9,   -999.0, 9,   -999.0, 9,   -999.0, 9,   2.8822,   -999.0, 9, -999.000, 9
318MHYDROS4, A16C, 347, 1, 21, 21, 2, 19890401, 0143, -12.7300, -25.0250, 5569,  -999.00,   2407.8,   2.8694,  34.9066, 2,  34.9060, 2,   -999.0, 9,    242.0, 2,    37.23, 2,    21.79, 2,     0.00, 2,     1.47, 2, -999.000, 9, -999.000, 9,   2175.9, 2,   -999.0, 9,   -999.0, 9,   2.6809,   -999.0, 9, -999.000, 9
318MHYDROS4, A16C, 347, 1, 22, 22, 2, 19890401, 0143, -12.7300, -25.0250, 5569,  -999.00,   2667.8,   2.7505,  34.9017, 2,  34.9000, 2,   -999.0, 9,    242.7, 2,    40.17, 2,    21.99, 2,     0.00, 2,     1.49, 2, -999.000, 9, -999.000, 9,   -999.0, 9,   -999.0, 9,   -999.0, 9,   2.5389,   -999.0, 9, -999.000, 9
318MHYDROS4, A16C, 347, 1, 23, 23, 2, 19890401, 0143, -12.7300, -25.0250, 5569,  -999.00,   2926.1,   2.6689,  34.8998, 2,  34.8980, 2,   -999.0, 9,    243.2, 2,    41.63, 2,    21.99, 2,     0.00, 2,     1.49, 2, -999.000, 9, -999.000, 9,   2179.5, 2,   -999.0, 9,   -999.0, 9,   2.4330,   -999.0, 9, -999.000, 9
318MHYDROS4, A16C, 347, 1, 24, 24, 2, 19890401, 0143, -12.7300, -25.0250, 5569,  -999.00,   3184.8,   2.5886,  34.8989, 2,  34.8980, 2,   -999.0, 9,    246.7, 2,    41.92, 2,    21.60, 2,     0.00, 2,     1.47, 2, -999.000, 9, -999.000, 9,   -999.0, 9,   -999.0, 9,   -999.0, 9,   2.3278,   -999.0, 9, -999.000, 9
318MHYDROS4, A16C, 347, 1, 25, 25, 2, 19890401, 0143, -12.7300, -25.0250, 5569,  -999.00,   3445.5,   2.5075,  34.8982, 2,  34.8980, 2,   -999.0, 9,    249.7, 2,    41.05, 2,    21.21, 2,     0.00, 2,     1.45, 2, -999.000, 9, -999.000, 9,   2181.3, 2,   -999.0, 9,   -999.0, 9,   2.2209,   -999.0, 9, -999.000, 9
318MHYDROS4, A16C, 347, 1, 26, 26, 2, 19890401, 0143, -12.7300, -25.0250, 5569,  -999.00,   3600.5,   2.3816,  34.8852, 2,  34.8840, 2,   -999.0, 9,    248.7, 2,    45.83, 2,    21.79, 2,     0.00, 2,     1.50, 2, -999.000, 9, -999.000, 9,   -999.0, 9,   -999.0, 9,   -999.0, 9,   2.0814,   -999.0, 9, -999.000, 9
318MHYDROS4, A16C, 347, 1, 27, 27, 2, 19890401, 0143, -12.7300, -25.0250, 5569,  -999.00,   3807.1,   2.1378,  34.8625, 2,  34.8630, 2,   -999.0, 9,    246.8, 2,    54.34, 2,    22.97, 2,     0.00, 2,     1.55, 2, -999.000, 9, -999.000, 9,   2186.0, 2,   -999.0, 9,   -999.0, 9,   1.8214,   -999.0, 9, -999.000, 9
318MHYDROS4, A16C, 347, 1, 28, 28, 2, 19890401, 0143, -12.7300, -25.0250, 5569,  -999.00,   4013.4,   1.7881,  34.8264, 2,  34.8250, 2,   -999.0, 9,    241.5, 2,    68.12, 2,    24.82, 2,     0.00, 2,     1.69, 2, -999.000, 9, -999.000, 9,   -999.0, 9,   -999.0, 9,   -999.0, 9,   1.4587,   -999.0, 9, -999.000, 9
318MHYDROS4, A16C, 347, 1, 29, 29, 2, 19890401, 0143, -12.7300, -25.0250, 5569,  -999.00,   4220.5,   1.3858,  34.7851, 2,  34.7830, 2,   -999.0, 9,    235.6, 2,    84.05, 2,    27.07, 2,     0.00, 2,     1.85, 2, -999.000, 9, -999.000, 9,   2213.5, 2,   -999.0, 9,   -999.0, 9,   1.0453,   -999.0, 9, -999.000, 9
318MHYDROS4, A16C, 347, 1, 30, 30, 2, 19890401, 0143, -12.7300, -25.0250, 5569,  -999.00,   4428.6,   1.0834,  34.7538, 2,  34.7530, 2,   -999.0, 9,    231.1, 2,    95.98, 2,    28.83, 2,     0.00, 2,     1.97, 2, -999.000, 9, -999.000, 9,   -999.0, 9,   -999.0, 9,   -999.0, 9,   0.7290,   -999.0, 9, -999.000, 9
318MHYDROS4, A16C, 347, 1, 31, 31, 2, 19890401, 0143, -12.7300, -25.0250, 5569,  -999.00,   4637.4,   0.9608,  34.7400, 2,  34.7380, 2,   -999.0, 9,    229.2, 2,   101.94, 2,    29.42, 2,     0.00, 2,     2.01, 2, -999.000, 9, -999.000, 9,   2235.3, 2,   -999.0, 9,   -999.0, 9,   0.5867,   -999.0, 9, -999.000, 9
318MHYDROS4, A16C, 347, 1, 32, 32, 2, 19890401, 0143, -12.7300, -25.0250, 5569,  -999.00,   4847.0,   0.8401,  34.7258, 2,  34.7240, 2,   -999.0, 9,    226.8, 2,   106.93, 2,    30.20, 2,     0.00, 2,     2.06, 2, -999.000, 9, -999.000, 9,   -999.0, 9,   -999.0, 9,   -999.0, 9,   0.4459,   -999.0, 9, -999.000, 9
318MHYDROS4, A16C, 347, 1, 33, 33, 2, 19890401, 0143, -12.7300, -25.0250, 5569,  -999.00,   5055.1,   0.7959,  34.7196, 2,  34.7190, 2,   -999.0, 9,    225.3, 2,   109.76, 2,    30.59, 2,     0.00, 2,     2.09, 2, -999.000, 9, -999.000, 9,   2244.4, 2,   -999.0, 9,   -999.0, 9,   0.3788,   -999.0, 9, -999.000, 9
318MHYDROS4, A16C, 347, 1, 34, 34, 2, 19890401, 0143, -12.7300, -25.0250, 5569,  -999.00,   5264.9,   0.7509,  34.7124, 2,  34.7110, 2,   -999.0, 9,    225.0, 2,   113.18, 2,    30.98, 2,     0.00, 2,     2.11, 2, -999.000, 9, -999.000, 9,   -999.0, 9,   -999.0, 9,   -999.0, 9,   0.3104,   -999.0, 9, -999.000, 9
318MHYDROS4, A16C, 347, 1, 35, 35, 2, 19890401, 0143, -12.7300, -25.0250, 5569,  -999.00,   5473.7,   0.7361,  34.7080, 2,  34.7070, 2,   -999.0, 9,    224.1, 2,   114.06, 2,    31.18, 2,     0.00, 2,     2.14, 2, -999.000, 9, -999.000, 9,   2246.8, 2,   -999.0, 9,   -999.0, 9,   0.2706,   5474.7, 2,    0.723, 2
318MHYDROS4, A16C, 347, 1, 36, 36, 2, 19890401, 0143, -12.7300, -25.0250, 5569,  -999.00,   5619.8,   0.7494,  34.7074, 2,  34.7060, 2,   -999.0, 9,    223.5, 2,   114.84, 2,    31.28, 2,     0.00, 2,     2.15, 2, -999.000, 9, -999.000, 9,   2247.2, 2,   -999.0, 9,   -999.0, 9,   0.2653,   -999.0, 9, -999.000, 9