BOTTLE,20110318CCHDOSIODM
EXPOCODE,SECT_ID,STNNBR,CASTNO,SAMPNO,BTLNBR,BTLNBR_FLAG_W,DATE,TIME,LATITUDE,LONGITUDE,DEPTH,CTDRAW,CTDPRS,CTDTMP,CTDSAL,CTDSAL_FLAG_W,SALNTY,SALNTY_FLAG_W,CTDOXY,CTDOXY_FLAG_W,OXYGEN,OXYGEN_FLAG_W,SILCAT,SILCAT_FLAG_W,NITRAT,NITRAT_FLAG_W,NITRIT,NITRIT_FLAG_W,PHSPHT,PHSPHT_FLAG_W,CFC-11,CFC-11_FLAG_W,CFC-12,CFC-12_FLAG_W,TCARBN,TCARBN_FLAG_W,ALKALI,ALKALI_FLAG_W,PCO2,PCO2_FLAG_W,THETA,REVPRS,REVPRS_FLAG_W,REVTMP,REVTMP_FLAG_W
,,,,,,,,,,,METERS,DBAR,DBAR,ITS-90,PSS-78,,PSS-78,,UMOL/KG,,UMOL/KG,,UMOL/KG,,UMOL/KG,,UMOL/KG,,UMOL/KG,,PMOL/KG,,PMOL/KG,,UMOL/KG,,UMOL/KG,,UATM,,DEG C,DBAR,,ITS-90,
318MHYDROS4, A16C, 331, 1, 2, 2, 2, 19890326, 1447, -22.0483, -25.0083, 5156,  -999.00,     10.0,  27.7070,  37.1291, 2,  37.1320, 2,   -999.0, 9,    208.3, 2,     1.58, 2,     0.00, 2,     0.00, 2,     0.12, 2,    1.507, 2,    0.809, 2,   2049.1, 2,   2420.0, 2,    282.6, 2,  27.7047,   -999.0, 9, -999.000, 9
318MHYDROS4, A16C, 331, 1, 1, 1, 2, 19890326, 1447, -22.0483, -25.0083, 5156,  -999.00,     10.1,  27.7138,  37.1290, 2,  37.1330, 2,   -999.0, 9,   -999.0, 9,     1.39, 2,     0.00, 2,     0.00, 2,     0.13, 2, -999.000, 9, -999.000, 9,   2069.3, 2,   2451.3, 2,    277.2, 2,  27.7114,   -999.0, 9, -999.000, 9
318MHYDROS4, A16C, 331, 1, 3, 3, 2, 19890326, 1447, -22.0483, -25.0083, 5156,  -999.00,     37.1,  27.6260,  37.1284, 2,  37.1274, 2,   -999.0, 9,    209.6, 2,     1.78, 2,     0.00, 2,     0.00, 2,     0.12, 2, -999.000, 9, -999.000, 9,   -999.0, 9,   -999.0, 9,   -999.0, 9,  27.6173,   -999.0, 9, -999.000, 9
318MHYDROS4, A16C, 331, 1, 71, 71, 2, 19890326, 1447, -22.0483, -25.0083, 5156,  -999.00,     68.0,  23.2312,  36.7808, 2,  36.7754, 2,   -999.0, 9,    228.6, 2,     1.98, 2,     0.00, 2,     0.00, 2,     0.14, 2, -999.000, 9, -999.000, 9,   2064.2, 2,   -999.0, 9,   -999.0, 9,  23.2171,   -999.0, 9, -999.000, 9
318MHYDROS4, A16C, 331, 1, 5, 5, 2, 19890326, 1447, -22.0483, -25.0083, 5156,  -999.00,    109.0,  21.8259,  36.6764, 2,  36.6769, 2,   -999.0, 9,    219.2, 2,     1.98, 2,     0.00, 2,     0.00, 2,     0.15, 2,    1.820, 2,    0.954, 2,   -999.0, 9,   -999.0, 9,   -999.0, 9,  21.8043,   -999.0, 9, -999.000, 9
318MHYDROS4, A16C, 331, 1, 6, 6, 2, 19890326, 1447, -22.0483, -25.0083, 5156,  -999.00,    160.3,  19.9445,  36.3053, 2,  36.2967, 2,   -999.0, 9,    211.0, 2,     1.98, 2,     0.06, 2,     0.11, 2,     0.20, 2, -999.000, 9, -999.000, 9,   2079.9, 2,   -999.0, 9,   -999.0, 9,  19.9147,   -999.0, 9, -999.000, 9
318MHYDROS4, A16C, 331, 1, 7, 7, 2, 19890326, 1447, -22.0483, -25.0083, 5156,  -999.00,    211.2,  16.8464,  35.7137, 2,  35.7114, 2,   -999.0, 9,    207.4, 2,     2.57, 2,     2.56, 2,     0.01, 2,     0.40, 2, -999.000, 9, -999.000, 9,   -999.0, 9,   -999.0, 9,   -999.0, 9,  16.8115,   -999.0, 9, -999.000, 9
318MHYDROS4, A16C, 331, 1, 8, 8, 2, 19890326, 1447, -22.0483, -25.0083, 5156,  -999.00,    312.5,  13.6406,  35.2307, 2,  35.2319, 2,   -999.0, 9,    204.7, 2,     3.92, 2,     8.69, 2,     0.00, 2,     0.72, 2,    1.845, 2,    0.958, 2,   2095.7, 2,   -999.0, 9,   -999.0, 9,  13.5959,   -999.0, 9, -999.000, 9
318MHYDROS4, A16C, 331, 1, 9, 9, 2, 19890326, 1447, -22.0483, -25.0083, 5156,  -999.00,    414.3,  11.0108,  34.9234, 2,  34.9214, 2,   -999.0, 9,    191.3, 2,     7.60, 2,    16.21, 2,     0.00, 2,     1.18, 2, -999.000, 9, -999.000, 9,   2119.2, 2,   -999.0, 9,   -999.0, 9,  10.9592,   -999.0, 9, -999.000, 9
318MHYDROS4, A16C, 331, 1, 10, 10, 2, 19890326, 1447, -22.0483, -25.0083, 5156,  -999.00,    515.9,   8.2996,  34.6395, 2,  34.6400, 2,   -999.0, 9,    184.0, 2,    13.58, 2,    23.47, 2,     0.00, 2,     1.63, 2,    0.812, 2,    0.423, 2,   2146.4, 2,   -999.0, 9,   -999.0, 9,   8.2454,   -999.0, 9, -999.000, 9
318MHYDROS4, A16C, 331, 1, 11, 11, 2, 19890326, 1447, -22.0483, -25.0083, 5156,  -999.00,    616.8,   6.1256,  34.4515, 2,  34.4536, 2,   -999.0, 9,    193.0, 2,    19.95, 2,    27.77, 2,     0.00, 2,     1.91, 2,    0.533, 2,    0.288, 2,   2168.4, 2,   -999.0, 9,   -999.0, 9,   6.0706,   -999.0, 9, -999.000, 9
318MHYDROS4, A16C, 331, 1, 12, 12, 2, 19890326, 1447, -22.0483, -25.0083, 5156,  -999.00,    718.0,   4.9341,  34.3834, 2,  34.3832, 2,   -999.0, 9,    195.2, 2,    26.70, 2,    30.32, 2,     0.00, 2,     2.07, 2,    0.336, 2,    0.190, 2,   2179.7, 2,   -999.0, 9,   -999.0, 9,   4.8763,   -999.0, 9, -999.000, 9
318MHYDROS4, A16C, 331, 1, 36, 36, 2, 19890326, 1447, -22.0483, -25.0083, 5156,  -999.00,    820.3,   4.1814,  34.4098, 2,  34.4100, 2,   -999.0, 9,    182.0, 2,    35.45, 2,    32.67, 2,     0.00, 2,     2.23, 2,    0.070, 2,    0.037, 2,   2256.8, 4,   -999.0, 9,   -999.0, 9,   4.1194,   -999.0, 9, -999.000, 9
318MHYDROS4, A16C, 331, 1, 13, 13, 2, 19890326, 1447, -22.0483, -25.0083, 5156,  -999.00,    922.5,   3.7662,  34.4615, 2,  34.4607, 2,   -999.0, 9,    184.8, 2,    40.58, 2,    32.83, 2,     0.00, 2,     2.24, 2,    0.096, 2,    0.067, 2,   2190.3, 2,   -999.0, 9,   -999.0, 9,   3.6987,   -999.0, 9, -999.000, 9
318MHYDROS4, A16C, 331, 1, 14, 14, 2, 19890326, 1447, -22.0483, -25.0083, 5156,  -999.00,   1025.0,   3.5840,  34.5167, 2,  34.5161, 2,   -999.0, 9,    183.9, 2,    43.64, 2,    32.19, 2,     0.00, 2,     2.21, 2, -999.000, 9, -999.000, 9,   2205.6, 2,   -999.0, 9,   -999.0, 9,   3.5096,   -999.0, 9, -999.000, 9
318MHYDROS4, A16C, 331, 1, 15, 15, 2, 19890326, 1447, -22.0483, -25.0083, 5156,  -999.00,   1229.2,   3.5425,  34.6555, 2,  34.6550, 2,   -999.0, 9,    192.1, 2,    42.85, 2,    30.06, 2,     0.00, 2,     2.06, 2,    0.067, 2,    0.037, 2,   2210.5, 2,   -999.0, 9,   -999.0, 9,   3.4514,   -999.0, 9, -999.000, 9
318MHYDROS4, A16C, 331, 1, 16, 16, 2, 19890326, 1447, -22.0483, -25.0083, 5156,  -999.00,   1434.5,   3.4185,  34.7825, 2,  34.7819, 2,   -999.0, 9,    207.5, 2,    40.52, 2,    26.90, 2,     0.00, 2,     1.83, 2,    0.000, 2,    0.008, 2,   2220.6, 2,   -999.0, 9,   -999.0, 9,   3.3110,   -999.0, 9, -999.000, 9
318MHYDROS4, A16C, 331, 1, 17, 17, 2, 19890326, 1447, -22.0483, -25.0083, 5156,  -999.00,   1640.5,   3.4613,  34.8943, 2,  34.8936, 2,   -999.0, 9,    231.7, 2,    30.69, 2,    22.73, 2,     0.00, 2,     1.54, 2, -999.000, 9, -999.000, 9,   2210.6, 2,   -999.0, 9,   -999.0, 9,   3.3350,   -999.0, 9, -999.000, 9
318MHYDROS4, A16C, 331, 1, 18, 18, 2, 19890326, 1447, -22.0483, -25.0083, 5156,  -999.00,   1846.3,   3.4228,  34.9405, 2,  34.9405, 2,   -999.0, 9,    247.2, 2,    24.71, 2,    20.51, 2,     0.00, 2,     1.38, 2, -999.000, 9, -999.000, 9,   2192.1, 2,   -999.0, 9,   -999.0, 9,   3.2782,   -999.0, 9, -999.000, 9
318MHYDROS4, A16C, 331, 1, 19, 19, 2, 19890326, 1447, -22.0483, -25.0083, 5156,  -999.00,   2052.3,   3.2952,  34.9471, 2,  34.9468, 2,   -999.0, 9,    252.2, 2,    24.51, 2,    20.00, 2,     0.00, 2,     1.34, 2, -999.000, 9, -999.000, 9,   -999.0, 9,   -999.0, 9,   -999.0, 9,   3.1333,   -999.0, 9, -999.000, 9
318MHYDROS4, A16C, 331, 1, 20, 20, 2, 19890326, 1447, -22.0483, -25.0083, 5156,  -999.00,   2259.3,   3.1181,  34.9398, 2,  34.9397, 2,   -999.0, 9,    252.5, 2,    27.00, 2,    20.08, 2,     0.00, 2,     1.35, 2, -999.000, 9, -999.000, 9,   2157.8, 2,   -999.0, 9,   -999.0, 9,   2.9395,   -999.0, 9, -999.000, 9
318MHYDROS4, A16C, 331, 1, 21, 21, 2, 19890326, 1447, -22.0483, -25.0083, 5156,  -999.00,   2466.5,   2.9688,  34.9313, 2,  34.9306, 2,   -999.0, 9,    252.0, 2,    30.07, 2,    20.33, 2,     0.00, 2,     1.36, 2, -999.000, 9, -999.000, 9,   -999.0, 9,   -999.0, 9,   -999.0, 9,   2.7728,   -999.0, 9, -999.000, 9
318MHYDROS4, A16C, 331, 1, 22, 22, 2, 19890326, 1447, -22.0483, -25.0083, 5156,  -999.00,   2674.2,   2.8612,  34.9252, 2,  34.9243, 2,   -999.0, 9,    252.0, 2,    32.17, 2,    20.50, 2,     0.00, 2,     1.37, 2, -999.000, 9, -999.000, 9,   2172.9, 2,   -999.0, 9,   -999.0, 9,   2.6467,   -999.0, 9, -999.000, 9
318MHYDROS4, A16C, 331, 1, 23, 23, 2, 19890326, 1447, -22.0483, -25.0083, 5156,  -999.00,   2881.9,   2.7616,  34.9194, 2,  34.9194, 2,   -999.0, 9,    252.4, 2,    33.69, 2,    20.54, 2,     0.00, 2,     1.38, 2, -999.000, 9, -999.000, 9,   -999.0, 9,   -999.0, 9,   -999.0, 9,   2.5282,   -999.0, 9, -999.000, 9
318MHYDROS4, A16C, 331, 1, 24, 24, 2, 19890326, 1447, -22.0483, -25.0083, 5156,  -999.00,   3090.0,   2.6875,  34.9151, 2,  34.9149, 2,   -999.0, 9,    253.1, 2,    35.21, 2,    20.63, 2,     0.00, 2,     1.38, 2, -999.000, 9, -999.000, 9,   2179.7, 2,   -999.0, 9,   -999.0, 9,   2.4342,   -999.0, 9, -999.000, 9
318MHYDROS4, A16C, 331, 1, 25, 25, 2, 19890326, 1447, -22.0483, -25.0083, 5156,  -999.00,   3297.3,   2.5718,  34.9072, 2, -999.0000, 9,   -999.0, 9,    253.6, 2,    37.31, 2,    20.80, 2,     0.00, 2,     1.40, 2, -999.000, 9, -999.000, 9,   -999.0, 9,   -999.0, 9,   -999.0, 9,   2.2994,   -999.0, 9, -999.000, 9
318MHYDROS4, A16C, 331, 1, 26, 26, 2, 19890326, 1447, -22.0483, -25.0083, 5156,  -999.00,   3505.1,   2.3583,  34.8881, 2,  34.8877, 2,   -999.0, 9,    252.1, 2,    44.38, 2,    21.64, 2,     0.00, 2,     1.46, 2, -999.000, 9, -999.000, 9,   2182.6, 2,   -999.0, 9,   -999.0, 9,   2.0690,   -999.0, 9, -999.000, 9
318MHYDROS4, A16C, 331, 1, 27, 27, 2, 19890326, 1447, -22.0483, -25.0083, 5156,  -999.00,   3713.2,   2.1720,  34.8685, 2,  34.8686, 2,   -999.0, 9,    249.3, 2,    51.64, 2,    22.49, 2,     0.00, 2,     1.54, 2, -999.000, 9, -999.000, 9,   -999.0, 9,   -999.0, 9,   -999.0, 9,   1.8650,   -999.0, 9, -999.000, 9
318MHYDROS4, A16C, 331, 1, 28, 28, 2, 19890326, 1447, -22.0483, -25.0083, 5156,  -999.00,   3920.8,   1.8881,  34.8377, 2,  34.8388, 2,   -999.0, 9,    244.3, 2,    63.30, 2,    24.19, 2,     0.00, 2,     1.65, 2, -999.000, 9, -999.000, 9,   2204.9, 2,   -999.0, 9,   -999.0, 9,   1.5661,   -999.0, 9, -999.000, 9
318MHYDROS4, A16C, 331, 1, 29, 29, 2, 19890326, 1447, -22.0483, -25.0083, 5156,  -999.00,   4129.0,   1.6049,  34.8081, 2,  34.8085, 2,   -999.0, 9,    239.4, 2,    74.37, 2,    25.72, 2,     0.00, 2,     1.76, 2, -999.000, 9, -999.000, 9,   -999.0, 9,   -999.0, 9,   -999.0, 9,   1.2680,   -999.0, 9, -999.000, 9
318MHYDROS4, A16C, 331, 1, 30, 30, 2, 19890326, 1447, -22.0483, -25.0083, 5156,  -999.00,   4336.7,   1.3846,  34.7840, 2,  34.7837, 2,   -999.0, 9,    235.7, 2,    84.28, 2,    27.00, 2,     0.00, 2,     1.86, 2, -999.000, 9, -999.000, 9,   2227.7, 2,   -999.0, 9,   -999.0, 9,   1.0312,   -999.0, 9, -999.000, 9
318MHYDROS4, A16C, 331, 1, 31, 31, 2, 19890326, 1447, -22.0483, -25.0083, 5156,  -999.00,   4544.6,   1.1420,  34.7576, 2,  34.7577, 2,   -999.0, 9,    231.4, 2,    94.57, 2,    28.48, 2,     0.00, 2,     1.96, 2, -999.000, 9, -999.000, 9,   -999.0, 9,   -999.0, 9,   -999.0, 9,   0.7726,   -999.0, 9, -999.000, 9
318MHYDROS4, A16C, 331, 1, 32, 32, 2, 19890326, 1447, -22.0483, -25.0083, 5156,  -999.00,   4752.4,   0.9827,  34.7403, 2,  34.7392, 2,   -999.0, 9,    228.7, 2,   101.21, 2,    29.33, 2,     0.00, 2,     2.02, 2, -999.000, 9, -999.000, 9,   2240.8, 2,   -999.0, 9,   -999.0, 9,   0.5947,   -999.0, 9, -999.000, 9
318MHYDROS4, A16C, 331, 1, 33, 33, 2, 19890326, 1447, -22.0483, -25.0083, 5156,  -999.00,   4960.6,   0.8250,  34.7225, 2,  34.7215, 2,   -999.0, 9,    226.4, 2,   107.47, 2,    30.17, 2,     0.00, 2,     2.07, 2, -999.000, 9, -999.000, 9,   -999.0, 9,   -999.0, 9,   -999.0, 9,   0.4181,   -999.0, 9, -999.000, 9
318MHYDROS4, A16C, 331, 1, 34, 34, 2, 19890326, 1447, -22.0483, -25.0083, 5156,  -999.00,   5167.8,   0.7656,  34.7145, 2,  34.7130, 2,   -999.0, 9,    225.7, 2,   110.67, 2,    30.64, 2,     0.00, 2,     2.11, 2,    0.001, 2,    0.006, 2,   2243.3, 2,   -999.0, 9,   -999.0, 9,   0.3362,   -999.0, 9, -999.000, 9
318MHYDROS4, A16C, 331, 1, 35, 35, 2, 19890326, 1447, -22.0483, -25.0083, 5156,  -999.00,   5275.8,   0.7563,  34.7119, 2,  34.7113, 2,   -999.0, 9,    224.6, 2,   112.14, 2,    30.80, 2,     0.00, 2,     2.13, 2,    0.006, 2,    0.007, 2,   -999.0, 9,   -999.0, 9,   -999.0, 9,   0.3142,   5270.2, 2,    0.750, 2