BOTTLE,20110318CCHDOSIODM
EXPOCODE,SECT_ID,STNNBR,CASTNO,SAMPNO,BTLNBR,BTLNBR_FLAG_W,DATE,TIME,LATITUDE,LONGITUDE,DEPTH,CTDRAW,CTDPRS,CTDTMP,CTDSAL,CTDSAL_FLAG_W,SALNTY,SALNTY_FLAG_W,CTDOXY,CTDOXY_FLAG_W,OXYGEN,OXYGEN_FLAG_W,SILCAT,SILCAT_FLAG_W,NITRAT,NITRAT_FLAG_W,NITRIT,NITRIT_FLAG_W,PHSPHT,PHSPHT_FLAG_W,CFC-11,CFC-11_FLAG_W,CFC-12,CFC-12_FLAG_W,TCARBN,TCARBN_FLAG_W,ALKALI,ALKALI_FLAG_W,PCO2,PCO2_FLAG_W,THETA,REVPRS,REVPRS_FLAG_W,REVTMP,REVTMP_FLAG_W
,,,,,,,,,,,METERS,DBAR,DBAR,ITS-90,PSS-78,,PSS-78,,UMOL/KG,,UMOL/KG,,UMOL/KG,,UMOL/KG,,UMOL/KG,,UMOL/KG,,PMOL/KG,,PMOL/KG,,UMOL/KG,,UMOL/KG,,UATM,,DEG C,DBAR,,ITS-90,
318MHYDROS4, A16C, 342, 1, 1, 1, 2, 19890330, 1458, -15.6600, -25.0067, 5373,  -999.00,      1.6,  27.7171,  37.2170, 2,  37.2190, 2,   -999.0, 9,    202.1, 2,     2.05, 2,     0.00, 2,     0.00, 2,     0.18, 2,    1.535, 2,    0.802, 2,   2071.1, 2,   2436.2, 2,    294.9, 2,  27.7167,   -999.0, 9, -999.000, 9
318MHYDROS4, A16C, 342, 1, 2, 2, 2, 19890330, 1458, -15.6600, -25.0067, 5373,  -999.00,     37.6,  27.5957,  37.2100, 2,  37.2090, 2,   -999.0, 9,    201.8, 2,     2.05, 2,     0.00, 2,     0.00, 2,     0.18, 2, -999.000, 9, -999.000, 9,   2072.7, 2,   2441.7, 2,    291.3, 2,  27.5869,   -999.0, 9, -999.000, 9
318MHYDROS4, A16C, 342, 1, 3, 3, 2, 19890330, 1458, -15.6600, -25.0067, 5373,  -999.00,     68.2,  24.7742,  36.8699, 2,  36.8770, 2,   -999.0, 9,    224.5, 2,     2.05, 2,     0.00, 2,     0.00, 2,     0.19, 2,    1.808, 2,    0.916, 2,   -999.0, 9,   -999.0, 9,   -999.0, 9,  24.7594,   -999.0, 9, -999.000, 9
318MHYDROS4, A16C, 342, 1, 71, 71, 2, 19890330, 1458, -15.6600, -25.0067, 5373,  -999.00,    109.3,  23.2901,  36.7960, 2,  36.7970, 2,   -999.0, 9,    221.3, 2,     2.05, 2,     0.00, 2,     0.00, 2,     0.21, 2,    1.845, 2,    0.952, 2,   2066.5, 2,   2413.5, 2,    309.4, 2,  23.2674,   -999.0, 9, -999.000, 9
318MHYDROS4, A16C, 342, 1, 5, 5, 2, 19890330, 1458, -15.6600, -25.0067, 5373,  -999.00,    161.1,  21.8698,  36.6328, 2,  36.6170, 2,   -999.0, 9,    203.3, 2,     2.05, 2,     0.10, 2,     0.19, 2,     0.29, 2, -999.000, 9, -999.000, 9,   -999.0, 9,   -999.0, 9,   -999.0, 9,  21.8378,   -999.0, 9, -999.000, 9
318MHYDROS4, A16C, 342, 1, 6, 6, 2, 19890330, 1458, -15.6600, -25.0067, 5373,  -999.00,    212.2,  17.1234,  35.7660, 2,  35.7610, 2,   -999.0, 9,    188.1, 2,     3.13, 2,     5.86, 2,     0.02, 2,     0.61, 2,    1.949, 2,    0.933, 2,   2096.7, 2,   2345.5, 2,    455.1, 2,  17.0880,   -999.0, 9, -999.000, 9
318MHYDROS4, A16C, 342, 1, 7, 7, 2, 19890330, 1458, -15.6600, -25.0067, 5373,  -999.00,    262.5,  13.8574,  35.2947, 2,  35.2960, 2,   -999.0, 9,    160.4, 2,     5.47, 2,    14.17, 2,     0.00, 2,     1.03, 2, -999.000, 9, -999.000, 9,   2128.0, 2,   2317.7, 2,    610.0, 2,  13.8195,   -999.0, 9, -999.000, 9
318MHYDROS4, A16C, 342, 1, 8, 8, 2, 19890330, 1458, -15.6600, -25.0067, 5373,  -999.00,    314.3,  11.8372,  35.0620, 2,  35.0640, 2,   -999.0, 9,    136.6, 2,     8.79, 2,    20.72, 2,     0.00, 2,     1.40, 2,    0.944, 2,    0.487, 2,   2157.3, 2,   2307.6, 2,    767.1, 2,  11.7963,   -999.0, 9, -999.000, 9
318MHYDROS4, A16C, 342, 1, 9, 9, 2, 19890330, 1458, -15.6600, -25.0067, 5373,  -999.00,    416.2,   9.0068,  34.7585, 2,  34.7540, 2,   -999.0, 9,    134.5, 2,    14.27, 2,    27.07, 2,     0.00, 2,     1.80, 2,    0.377, 2,    0.197, 2,   2182.2, 2,   2301.0, 2,    936.9, 2,   8.9612,   -999.0, 9, -999.000, 9
318MHYDROS4, A16C, 342, 1, 10, 10, 2, 19890330, 1458, -15.6600, -25.0067, 5373,  -999.00,    518.3,   6.3573,  34.5173, 2,  34.5210, 2,   -999.0, 9,    158.5, 2,    21.02, 2,    30.50, 2,     0.00, 2,     2.03, 2,    0.129, 2,    0.081, 2,   2188.2, 2,   2296.9, 2,    999.6, 2,   6.3105,   -999.0, 9, -999.000, 9
318MHYDROS4, A16C, 342, 1, 11, 11, 2, 19890330, 1458, -15.6600, -25.0067, 5373,  -999.00,    620.6,   5.2529,  34.4309, 2,  34.4360, 2,   -999.0, 9,    176.7, 2,    25.22, 2,    31.19, 2,     0.00, 2,     2.09, 2,    0.115, 2,    0.056, 2,   2187.2, 2,   2297.2, 2,    990.4, 2,   5.2018,   -999.0, 9, -999.000, 9
318MHYDROS4, A16C, 342, 1, 12, 12, 2, 19890330, 1458, -15.6600, -25.0067, 5373,  -999.00,    722.6,   4.5292,  34.4054, 2,  34.4060, 2,   -999.0, 9,    180.8, 2,    30.70, 2,    32.26, 2,     0.00, 2,     2.18, 2,    0.074, 2,    0.051, 2,   2196.8, 2,   2303.3, 2,   1020.4, 2,   4.4732,   -999.0, 9, -999.000, 9
318MHYDROS4, A16C, 342, 1, 13, 13, 2, 19890330, 1458, -15.6600, -25.0067, 5373,  -999.00,    824.3,   4.0097,  34.4237, 2,  34.4200, 2,   -999.0, 9,    182.2, 2,    36.17, 2,    32.85, 2,     0.00, 2,     2.23, 2,    0.048, 2,    0.019, 2,   2204.6, 2,   2306.4, 2,   1058.2, 2,   3.9485,   -999.0, 9, -999.000, 9
318MHYDROS4, A16C, 342, 1, 14, 14, 2, 19890330, 1458, -15.6600, -25.0067, 5373,  -999.00,    926.5,   3.7870,  34.4758, 2,  34.4730, 2,   -999.0, 9,    180.4, 2,    39.49, 2,    32.85, 2,     0.00, 2,     2.23, 2,    0.025, 2,    0.011, 2,   2209.0, 2,   2312.3, 2,   1052.8, 2,   3.7190,   -999.0, 9, -999.000, 9
318MHYDROS4, A16C, 342, 1, 15, 15, 2, 19890330, 1458, -15.6600, -25.0067, 5373,  -999.00,   1131.8,   3.8369,  34.6435, 2,  34.6420, 2,   -999.0, 9,    182.8, 2,    36.85, 2,    30.69, 2,     0.00, 2,     2.07, 2, -999.000, 9, -999.000, 9,   2201.8, 2,   2311.5, 2,   1008.0, 2,   3.7513,   -999.0, 9, -999.000, 9
318MHYDROS4, A16C, 342, 1, 16, 16, 2, 19890330, 1458, -15.6600, -25.0067, 5373,  -999.00,   1336.6,   4.0005,  34.8240, 2,  34.8210, 2,   -999.0, 9,    202.1, 2,    28.83, 2,    26.29, 2,     0.00, 2,     1.77, 2,    0.001, 2,    0.005, 2,   -999.0, 9,   -999.0, 9,   -999.0, 9,   3.8953,   -999.0, 9, -999.000, 9
318MHYDROS4, A16C, 342, 1, 17, 17, 2, 19890330, 1458, -15.6600, -25.0067, 5373,  -999.00,   1542.2,   3.8037,  34.8939, 2,  34.8940, 2,   -999.0, 9,    223.3, 2,    26.09, 2,    23.45, 2,     0.00, 2,     1.56, 2,    0.011, 2, -999.000, 9,   2180.0, 2,   2319.9, 2,    827.5, 2,   3.6821,   -999.0, 9, -999.000, 9
318MHYDROS4, A16C, 342, 1, 18, 18, 2, 19890330, 1458, -15.6600, -25.0067, 5373,  -999.00,   1747.9,   3.4774,  34.9131, 2,  34.9130, 2,   -999.0, 9,    236.5, 2,    27.07, 2,    22.09, 2,     0.00, 2,     1.48, 2,    0.001, 2, -999.000, 9,   -999.0, 9,   -999.0, 9,   -999.0, 9,   3.3412,   -999.0, 9, -999.000, 9
318MHYDROS4, A16C, 342, 1, 19, 19, 2, 19890330, 1458, -15.6600, -25.0067, 5373,  -999.00,   1953.4,   3.1583,  34.9146, 2,  34.9140, 2,   -999.0, 9,    242.4, 2,    30.88, 2,    21.60, 2,     0.00, 2,     1.45, 2, -999.000, 9,    0.000, 2,   2175.2, 2,   2326.7, 2,    772.5, 2,   3.0077,   -999.0, 9, -999.000, 9
318MHYDROS4, A16C, 342, 1, 20, 20, 2, 19890330, 1458, -15.6600, -25.0067, 5373,  -999.00,   2160.2,   2.9450,  34.9078, 2,  34.9090, 2,   -999.0, 9,    242.8, 2,    34.89, 2,    21.79, 2,     0.00, 2,     1.46, 2, -999.000, 9, -999.000, 9,   -999.0, 9,   -999.0, 9,   -999.0, 9,   2.7786,   -999.0, 9, -999.000, 9
318MHYDROS4, A16C, 342, 1, 21, 21, 2, 19890330, 1458, -15.6600, -25.0067, 5373,  -999.00,   2366.4,   2.8112,  34.9024, 2,  34.9030, 2,   -999.0, 9,    243.0, 2,    37.82, 2,    21.89, 2,     0.00, 2,     1.48, 2, -999.000, 9, -999.000, 9,   2179.1, 2,   2331.3, 2,    772.8, 2,   2.6277,   -999.0, 9, -999.000, 9
318MHYDROS4, A16C, 342, 1, 22, 22, 2, 19890330, 1458, -15.6600, -25.0067, 5373,  -999.00,   2573.0,   2.7500,  34.8999, 2,  34.9000, 2,   -999.0, 9,    244.4, 2,    39.68, 2,    21.99, 2,     0.00, 2,     1.49, 2, -999.000, 9, -999.000, 9,   -999.0, 9,   -999.0, 9,   -999.0, 9,   2.5477,   -999.0, 9, -999.000, 9
318MHYDROS4, A16C, 342, 1, 23, 23, 2, 19890330, 1458, -15.6600, -25.0067, 5373,  -999.00,   2779.6,   2.6815,  34.8973, 2,  34.8980, 2,   -999.0, 9,    243.4, 2,    41.14, 2,    22.09, 2,     0.00, 2,     1.49, 2, -999.000, 9, -999.000, 9,   2181.9, 2,   2332.9, 2,    779.9, 2,   2.4601,   -999.0, 9, -999.000, 9
318MHYDROS4, A16C, 342, 1, 24, 24, 2, 19890330, 1458, -15.6600, -25.0067, 5373,  -999.00,   2986.1,   2.6418,  34.8960, 2,  34.8960, 2,   -999.0, 9,    243.4, 2,    41.83, 2,    22.18, 2,     0.00, 2,     1.49, 2, -999.000, 9, -999.000, 9,   -999.0, 9,   -999.0, 9,   -999.0, 9,   2.4004,   -999.0, 9, -999.000, 9
318MHYDROS4, A16C, 342, 1, 25, 25, 2, 19890330, 1458, -15.6600, -25.0067, 5373,  -999.00,   3192.4,   2.5941,  34.8947, 2,  34.8950, 2,   -999.0, 9,    244.7, 2,    42.71, 2,    21.99, 2,     0.00, 2,     1.49, 2, -999.000, 9, -999.000, 9,   2184.9, 2,   2340.2, 2,    763.2, 2,   2.3324,   -999.0, 9, -999.000, 9
318MHYDROS4, A16C, 342, 1, 26, 26, 2, 19890330, 1458, -15.6600, -25.0067, 5373,  -999.00,   3399.9,   2.5247,  34.8919, 2,  34.8920, 2,   -999.0, 9,    246.5, 2,    43.29, 2,    21.99, 2,     0.00, 2,     1.48, 2, -999.000, 9, -999.000, 9,   -999.0, 9,   -999.0, 9,   -999.0, 9,   2.2426,   -999.0, 9, -999.000, 9
318MHYDROS4, A16C, 342, 1, 27, 27, 2, 19890330, 1458, -15.6600, -25.0067, 5373,  -999.00,   3607.2,   2.3511,  34.8786, 2,  34.8810, 2,   -999.0, 9,    246.6, 2,    47.89, 2,    22.38, 2,     0.00, 2,     1.51, 2, -999.000, 9, -999.000, 9,   2190.6, 2,   2340.9, 2,    788.3, 2,   2.0510,   -999.0, 9, -999.000, 9
318MHYDROS4, A16C, 342, 1, 28, 28, 2, 19890330, 1458, -15.6600, -25.0067, 5373,  -999.00,   3815.0,   2.0147,  34.8480, 2,  34.8480, 2,   -999.0, 9,    244.1, 2,    59.91, 2,    23.94, 2,     0.00, 2,     1.61, 2, -999.000, 9, -999.000, 9,   -999.0, 9,   -999.0, 9,   -999.0, 9,   1.7008,   -999.0, 9, -999.000, 9
318MHYDROS4, A16C, 342, 1, 29, 29, 2, 19890330, 1458, -15.6600, -25.0067, 5373,  -999.00,   4022.7,   1.6639,  34.8131, 2,  34.8120, 2,   -999.0, 9,    240.1, 2,    74.37, 2,    25.70, 2,     0.00, 2,     1.74, 2, -999.000, 9, -999.000, 9,   2209.4, 2,   2349.3, 2,    851.5, 2,   1.3371,   -999.0, 9, -999.000, 9
318MHYDROS4, A16C, 342, 1, 30, 30, 2, 19890330, 1458, -15.6600, -25.0067, 5373,  -999.00,   4231.1,   1.3418,  34.7804, 2,  34.7810, 2,   -999.0, 9,    234.9, 2,    87.57, 2,    27.46, 2,     0.00, 2,     1.87, 2, -999.000, 9, -999.000, 9,   -999.0, 9,   -999.0, 9,   -999.0, 9,   1.0014,   -999.0, 9, -999.000, 9
318MHYDROS4, A16C, 342, 1, 31, 31, 2, 19890330, 1458, -15.6600, -25.0067, 5373,  -999.00,   4438.6,   1.0845,  34.7534, 2,  34.7550, 2,   -999.0, 9,    231.0, 2,    97.83, 2,    28.73, 2,     0.00, 2,     1.96, 2, -999.000, 9, -999.000, 9,   2235.6, 2,   2369.1, 2,    903.3, 2,   0.7289,   -999.0, 9, -999.000, 9
318MHYDROS4, A16C, 342, 1, 32, 32, 2, 19890330, 1458, -15.6600, -25.0067, 5373,  -999.00,   4646.9,   0.9763,  34.7410, 2,  34.7410, 2,   -999.0, 9,    229.3, 2,   102.33, 2,    29.32, 2,     0.00, 2,     2.01, 2, -999.000, 9, -999.000, 9,   -999.0, 9,   -999.0, 9,   -999.0, 9,   0.6006,   -999.0, 9, -999.000, 9
318MHYDROS4, A16C, 342, 1, 33, 33, 2, 19890330, 1458, -15.6600, -25.0067, 5373,  -999.00,   4855.0,   0.8476,  34.7266, 2,  34.7270, 2,   -999.0, 9,    227.4, 2,   107.71, 2,    30.01, 2,     0.00, 2,     2.06, 2, -999.000, 9, -999.000, 9,   2242.6, 2,   2366.2, 2,    963.0, 2,   0.4522,   -999.0, 9, -999.000, 9
318MHYDROS4, A16C, 342, 1, 34, 34, 2, 19890330, 1458, -15.6600, -25.0067, 5373,  -999.00,   5063.8,   0.8001,  34.7193, 2,  34.7190, 2,   -999.0, 9,    226.2, 2,   110.84, 2,    30.49, 2,     0.00, 2,     2.08, 2, -999.000, 9, -999.000, 9,   -999.0, 9,   -999.0, 9,   -999.0, 9,   0.3818,   -999.0, 9, -999.000, 9
318MHYDROS4, A16C, 342, 1, 35, 35, 2, 19890330, 1458, -15.6600, -25.0067, 5373,  -999.00,   5272.6,   0.7330,  34.7099, 2,  34.7100, 2,   -999.0, 9,    224.8, 2,   113.38, 2,    30.89, 2,     0.00, 2,     2.12, 2, -999.000, 9, -999.000, 9,   2247.5, 2,   2367.3, 2,    989.1, 2,   0.2922,   5270.0, 2,    0.725, 2
318MHYDROS4, A16C, 342, 1, 36, 36, 2, 19890330, 1458, -15.6600, -25.0067, 5373,  -999.00,   5448.7,   0.6445,  34.6990, 2,  34.6990, 2,   -999.0, 9,    223.4, 2,   118.07, 2,    31.37, 2,     0.00, 2,     2.16, 2,    0.012, 2,    0.009, 2,   2251.7, 2,   2372.1, 2,    989.3, 2,   0.1855,   -999.0, 9, -999.000, 9