BOTTLE,20110318CCHDOSIODM
EXPOCODE,SECT_ID,STNNBR,CASTNO,SAMPNO,BTLNBR,BTLNBR_FLAG_W,DATE,TIME,LATITUDE,LONGITUDE,DEPTH,CTDRAW,CTDPRS,CTDTMP,CTDSAL,CTDSAL_FLAG_W,SALNTY,SALNTY_FLAG_W,CTDOXY,CTDOXY_FLAG_W,OXYGEN,OXYGEN_FLAG_W,SILCAT,SILCAT_FLAG_W,NITRAT,NITRAT_FLAG_W,NITRIT,NITRIT_FLAG_W,PHSPHT,PHSPHT_FLAG_W,CFC-11,CFC-11_FLAG_W,CFC-12,CFC-12_FLAG_W,TCARBN,TCARBN_FLAG_W,ALKALI,ALKALI_FLAG_W,PCO2,PCO2_FLAG_W,THETA,REVPRS,REVPRS_FLAG_W,REVTMP,REVTMP_FLAG_W
,,,,,,,,,,,METERS,DBAR,DBAR,ITS-90,PSS-78,,PSS-78,,UMOL/KG,,UMOL/KG,,UMOL/KG,,UMOL/KG,,UMOL/KG,,UMOL/KG,,PMOL/KG,,PMOL/KG,,UMOL/KG,,UMOL/KG,,UATM,,DEG C,DBAR,,ITS-90,
318MHYDROS4, A16C, 356, 1, 1, 1, 2, 19890404, 0526, -7.4867, -25.0050, 5739,  -999.00,      1.1,  28.3606,  36.2339, 2,  36.2390, 2,   -999.0, 9,    204.3, 2,     1.85, 2,     0.00, 2,     0.00, 2,     0.12, 2,    1.532, 2,    0.780, 2,   2026.5, 2,   2379.1, 2,    288.1, 2,  28.3603,   -999.0, 9, -999.000, 9
318MHYDROS4, A16C, 356, 1, 2, 2, 2, 19890404, 0526, -7.4867, -25.0050, 5739,  -999.00,     47.6,  28.1812,  36.5979, 2,  36.5880, 2,   -999.0, 9,    211.6, 2,     2.05, 2,     0.00, 2,     0.00, 2,     0.10, 2, -999.000, 9, -999.000, 9,   2035.3, 2,   2396.1, 2,    284.8, 2,  28.1699,   -999.0, 9, -999.000, 9
318MHYDROS4, A16C, 356, 1, 3, 3, 2, 19890404, 0526, -7.4867, -25.0050, 5739,  -999.00,     99.1,  23.4418,  36.8634, 2,  36.8780, 2,   -999.0, 9,    213.0, 2,     2.05, 2,     0.00, 2,     0.00, 2,     0.18, 2,    1.771, 2,    0.896, 2,   -999.0, 9,   -999.0, 9,   -999.0, 9,  23.4211,   -999.0, 9, -999.000, 9
318MHYDROS4, A16C, 356, 1, 71, 71, 2, 19890404, 0526, -7.4867, -25.0050, 5739,  -999.00,    135.4,  18.8422,  36.1270, 2,  36.0460, 2,   -999.0, 9,    151.5, 2,     4.00, 2,     8.69, 2,     0.10, 2,     0.79, 2,    1.506, 2,    0.753, 2,   2130.3, 2,   2333.2, 3,    581.8, 2,  18.8180,   -999.0, 9, -999.000, 9
318MHYDROS4, A16C, 356, 1, 5, 5, 2, 19890404, 0526, -7.4867, -25.0050, 5739,  -999.00,    161.3,  14.9970,  35.5553, 2,  35.5200, 2,   -999.0, 9,    116.6, 2,     6.84, 2,    18.07, 2,     0.02, 2,     1.27, 2, -999.000, 9, -999.000, 9,   -999.0, 9,   -999.0, 9,   -999.0, 9,  14.9725,   -999.0, 9, -999.000, 9
318MHYDROS4, A16C, 356, 1, 6, 6, 2, 19890404, 0526, -7.4867, -25.0050, 5739,  -999.00,    181.5,  11.9881,  35.1696, 2,  35.1580, 2,   -999.0, 9,    103.1, 2,     9.58, 2,    24.43, 2,     0.01, 2,     1.62, 2,    0.617, 2,    0.318, 2,   -999.0, 9,   -999.0, 9,   -999.0, 9,  11.9644,   -999.0, 9, -999.000, 9
318MHYDROS4, A16C, 356, 1, 7, 7, 2, 19890404, 0526, -7.4867, -25.0050, 5739,  -999.00,    212.3,  10.5602,  34.9927, 2,  34.9950, 2,   -999.0, 9,     93.9, 2,    12.41, 2,    28.05, 2,     0.01, 2,     1.83, 2,    0.367, 2,    0.192, 2,   2201.5, 2,   2319.4, 2,    959.1, 2,  10.5346,   -999.0, 9, -999.000, 9
318MHYDROS4, A16C, 356, 1, 8, 8, 2, 19890404, 0526, -7.4867, -25.0050, 5739,  -999.00,    313.7,   9.1179,  34.8185, 2,  34.8180, 2,   -999.0, 9,     90.9, 2,    15.73, 2,    31.86, 2,     0.00, 2,     2.04, 2,    0.182, 2,    0.105, 2,   2212.4, 2,   2307.4, 2,   1113.6, 2,   9.0834,   -999.0, 9, -999.000, 9
318MHYDROS4, A16C, 356, 1, 9, 9, 2, 19890404, 0526, -7.4867, -25.0050, 5739,  -999.00,    415.8,   7.8314,  34.6882, 2,  34.6890, 2,   -999.0, 9,     94.8, 2,    18.86, 2,    34.40, 2,     0.00, 2,     2.23, 2,    0.098, 2,    0.058, 2,   2227.1, 2,   2317.8, 2,   1155.4, 2,   7.7894,   -999.0, 9, -999.000, 9
318MHYDROS4, A16C, 356, 1, 10, 10, 2, 19890404, 0526, -7.4867, -25.0050, 5739,  -999.00,    517.9,   6.7753,  34.5971, 2,  34.5990, 2,   -999.0, 9,     99.6, 2,    22.19, 2,    36.07, 2,     0.00, 2,     2.36, 2,    0.041, 2,    0.024, 2,   -999.0, 9,   -999.0, 9,   -999.0, 9,   6.7269,   -999.0, 9, -999.000, 9
318MHYDROS4, A16C, 356, 1, 11, 11, 2, 19890404, 0526, -7.4867, -25.0050, 5739,  -999.00,    619.6,   5.8764,  34.5332, 2,  34.5370, 2,   -999.0, 9,    111.3, 2,    25.71, 2,    36.85, 2,     0.00, 2,     2.43, 2,    0.015, 2,    0.016, 2,   2232.1, 2,   2309.8, 2,   1263.7, 2,   5.8223,   -999.0, 9, -999.000, 9
318MHYDROS4, A16C, 356, 1, 12, 12, 2, 19890404, 0526, -7.4867, -25.0050, 5739,  -999.00,    772.7,   4.7368,  34.4734, 2,  34.4740, 2,   -999.0, 9,    144.3, 2,    31.58, 2,    35.49, 2,     0.00, 2,     2.39, 2,    0.009, 2,    0.011, 2,   -999.0, 9,   -999.0, 9,   -999.0, 9,   4.6753,   -999.0, 9, -999.000, 9
318MHYDROS4, A16C, 356, 1, 13, 13, 2, 19890404, 0526, -7.4867, -25.0050, 5739,  -999.00,    926.2,   4.2134,  34.4954, 2,  34.4930, 2,   -999.0, 9,    160.0, 2,    35.19, 2,    34.12, 2,     0.00, 2,     2.32, 2,    0.007, 2,    0.005, 2,   2221.1, 2,   2318.8, 2,   1099.7, 2,   4.1423,   -999.0, 9, -999.000, 9
318MHYDROS4, A16C, 356, 1, 14, 14, 2, 19890404, 0526, -7.4867, -25.0050, 5739,  -999.00,   1079.9,   4.0750,  34.6227, 2,  34.6190, 2,   -999.0, 9,    167.8, 2,    34.21, 2,    32.06, 2,     0.00, 2,     2.19, 2,    0.000, 2,    0.002, 2,   -999.0, 9,   -999.0, 9,   -999.0, 9,   3.9918,   -999.0, 9, -999.000, 9
318MHYDROS4, A16C, 356, 1, 15, 15, 2, 19890404, 0526, -7.4867, -25.0050, 5739,  -999.00,   1233.9,   4.1959,  34.8014, 2,  34.7990, 2,   -999.0, 9,    188.6, 2,    27.46, 2,    27.76, 2,     0.00, 2,     1.89, 2,    0.000, 2,    0.000, 2,   2201.6, 2,   2321.7, 2,    945.2, 2,   4.0979,   -999.0, 9, -999.000, 9
318MHYDROS4, A16C, 356, 1, 16, 16, 2, 19890404, 0526, -7.4867, -25.0050, 5739,  -999.00,   1439.2,   4.2355,  34.9260, 2,  34.9250, 2,   -999.0, 9,    218.1, 2,    21.01, 2,    23.16, 2,     0.00, 2,     1.55, 2,    0.007, 2,    0.005, 2,   -999.0, 9,   -999.0, 9,   -999.0, 9,   4.1184,   -999.0, 9, -999.000, 9
318MHYDROS4, A16C, 356, 1, 17, 17, 2, 19890404, 0526, -7.4867, -25.0050, 5739,  -999.00,   1645.0,   3.9545,  34.9577, 2,  34.9590, 2,   -999.0, 9,    237.7, 2,    19.45, 2,    20.72, 2,     0.00, 2,     1.41, 2,    0.006, 2,    0.008, 2,   -999.0, 9,   -999.0, 9,   -999.0, 9,   3.8215,   -999.0, 9, -999.000, 9
318MHYDROS4, A16C, 356, 1, 18, 18, 2, 19890404, 0526, -7.4867, -25.0050, 5739,  -999.00,   1850.5,   3.5343,  34.9424, 2,  34.9420, 2,   -999.0, 9,    241.6, 2,    24.53, 2,    21.01, 2,     0.00, 2,     1.41, 2,    0.000, 2,    0.000, 2,   2178.0, 2,   2331.1, 2,    766.4, 2,   3.3878,   -999.0, 9, -999.000, 9
318MHYDROS4, A16C, 356, 1, 19, 19, 2, 19890404, 0526, -7.4867, -25.0050, 5739,  -999.00,   2056.3,   3.2610,  34.9330, 2,  34.9330, 2,   -999.0, 9,    243.8, 2,    28.24, 2,    20.82, 2,     0.00, 2,     1.43, 2,    0.000, 2,    0.002, 2,   -999.0, 9,   -999.0, 9,   -999.0, 9,   3.0993,   -999.0, 9, -999.000, 9
318MHYDROS4, A16C, 356, 1, 20, 20, 2, 19890404, 0526, -7.4867, -25.0050, 5739,  -999.00,   2262.4,   3.0593,  34.9229, 2,  34.9250, 2,   -999.0, 9,    243.3, 2,    31.86, 2,    21.30, 2,     0.00, 2,     1.44, 2,    0.000, 2,    0.000, 2,   -999.0, 9,   -999.0, 9,   -999.0, 9,   2.8813,   -999.0, 9, -999.000, 9
318MHYDROS4, A16C, 356, 1, 21, 21, 2, 19890404, 0526, -7.4867, -25.0050, 5739,  -999.00,   2521.0,   2.8677,  34.9139, 2,  34.9130, 2,   -999.0, 9,    243.7, 2,    35.77, 2,    21.50, 2,     0.00, 2,     1.47, 2, -999.000, 9, -999.000, 9,   2187.8, 2,   2341.4, 2,    771.2, 2,   2.6683,   -999.0, 9, -999.000, 9
318MHYDROS4, A16C, 356, 1, 22, 22, 2, 19890404, 0526, -7.4867, -25.0050, 5739,  -999.00,   2779.7,   2.7366,  34.9079, 2,  34.9080, 2,   -999.0, 9,    244.6, 2,    38.02, 2,    21.50, 2,     0.00, 2,     1.47, 2, -999.000, 9, -999.000, 9,   -999.0, 9,   -999.0, 9,   -999.0, 9,   2.5141,   -999.0, 9, -999.000, 9
318MHYDROS4, A16C, 356, 1, 23, 23, 2, 19890404, 0526, -7.4867, -25.0050, 5739,  -999.00,   3038.9,   2.6470,  34.9064, 2,  34.9070, 2,   -999.0, 9,    246.8, 2,    38.21, 2,    21.11, 2,     0.00, 2,     1.45, 2,    0.000, 2,    0.001, 2,   -999.0, 9,   -999.0, 9,   -999.0, 9,   2.4000,   -999.0, 9, -999.000, 9
318MHYDROS4, A16C, 356, 1, 24, 24, 2, 19890404, 0526, -7.4867, -25.0050, 5739,  -999.00,   3298.1,   2.5755,  34.9078, 2,  34.9080, 2,   -999.0, 9,    252.4, 2,    36.45, 2,    20.62, 2,     0.00, 2,     1.41, 2, -999.000, 9, -999.000, 9,   2178.6, 2,   2336.5, 2,    747.8, 2,   2.3029,   -999.0, 9, -999.000, 9
318MHYDROS4, A16C, 356, 1, 25, 25, 2, 19890404, 0526, -7.4867, -25.0050, 5739,  -999.00,   3505.8,   2.5067,  34.9059, 2, -999.0000, 9,   -999.0, 9,    255.5, 2,    35.28, 2,    19.84, 2,     0.00, 2,     1.37, 2,    0.001, 2,    0.003, 2,   -999.0, 9,   -999.0, 9,   -999.0, 9,   2.2135,   -999.0, 9, -999.000, 9
318MHYDROS4, A16C, 356, 1, 26, 26, 2, 19890404, 0526, -7.4867, -25.0050, 5739,  -999.00,   3713.0,   2.3490,  34.8915, 2,  34.8920, 2,   -999.0, 9,    255.9, 2,    39.97, 2,    20.82, 2,     0.00, 2,     1.41, 2, -999.000, 9, -999.000, 9,   -999.0, 9,   -999.0, 9,   -999.0, 9,   2.0373,   -999.0, 9, -999.000, 9
318MHYDROS4, A16C, 356, 1, 27, 27, 2, 19890404, 0526, -7.4867, -25.0050, 5739,  -999.00,   3920.9,   2.0356,  34.8557, 2,  34.8570, 2,   -999.0, 9,    247.7, 2,    54.83, 2,    22.77, 2,     0.00, 2,     1.55, 2, -999.000, 9, -999.000, 9,   2198.7, 2,   2347.9, 2,    798.7, 2,   1.7094,   -999.0, 9, -999.000, 9
318MHYDROS4, A16C, 356, 1, 28, 28, 2, 19890404, 0526, -7.4867, -25.0050, 5739,  -999.00,   4129.0,   1.6321,  34.8133, 2,  34.8130, 2,   -999.0, 9,    240.7, 2,    71.74, 2,    25.21, 2,     0.00, 2,     1.73, 2,    0.000, 2,    0.004, 2,   -999.0, 9,   -999.0, 9,   -999.0, 9,   1.2944,   -999.0, 9, -999.000, 9
318MHYDROS4, A16C, 356, 1, 29, 29, 2, 19890404, 0526, -7.4867, -25.0050, 5739,  -999.00,   4337.5,   1.1830,  34.7654, 2,  34.7660, 2,   -999.0, 9,    232.9, 2,    89.82, 2,    27.85, 2,     0.00, 2,     1.93, 2, -999.000, 9, -999.000, 9,   -999.0, 9,   -999.0, 9,   -999.0, 9,   0.8357,   -999.0, 9, -999.000, 9
318MHYDROS4, A16C, 356, 1, 30, 30, 2, 19890404, 0526, -7.4867, -25.0050, 5739,  -999.00,   4545.5,   0.9275,  34.7382, 2,  34.7380, 2,   -999.0, 9,    228.5, 2,   100.38, 2,    29.42, 2,     0.00, 2,     2.04, 2, -999.000, 9, -999.000, 9,   2249.8, 2,   2378.1, 2,    940.1, 2,   0.5649,   -999.0, 9, -999.000, 9
318MHYDROS4, A16C, 356, 1, 31, 31, 2, 19890404, 0526, -7.4867, -25.0050, 5739,  -999.00,   4753.7,   0.8239,  34.7256, 2,  34.7250, 2,   -999.0, 9,    226.4, 2,   106.73, 2,    30.01, 2,     0.00, 2,     2.09, 2,    0.001, 2,    0.006, 2,   -999.0, 9,   -999.0, 9,   -999.0, 9,   0.4411,   -999.0, 9, -999.000, 9
318MHYDROS4, A16C, 356, 1, 32, 32, 2, 19890404, 0526, -7.4867, -25.0050, 5739,  -999.00,   4962.3,   0.7686,  34.7174, 2,  34.7160, 2,   -999.0, 9,    224.6, 2,   109.76, 2,    30.10, 2,     0.00, 2,     2.13, 2, -999.000, 9, -999.000, 9,   -999.0, 9,   -999.0, 9,   -999.0, 9,   0.3634,   -999.0, 9, -999.000, 9
318MHYDROS4, A16C, 356, 1, 33, 33, 2, 19890404, 0526, -7.4867, -25.0050, 5739,  -999.00,   5223.1,   0.7109,  34.7085, 2,  34.7090, 2,   -999.0, 9,    223.3, 2,   113.87, 2,    30.79, 2,     0.00, 2,     2.18, 2,    0.000, 2,    0.002, 2,   2258.5, 2,   2382.5, 2,    972.5, 2,   0.2769,   -999.0, 9, -999.000, 9
318MHYDROS4, A16C, 356, 1, 34, 34, 2, 19890404, 0526, -7.4867, -25.0050, 5739,  -999.00,   5484.9,   0.6678,  34.7008, 2,  34.6990, 2,   -999.0, 9,    222.5, 2,   117.39, 2,    31.37, 2,     0.00, 2,     2.20, 2, -999.000, 9, -999.000, 9,   -999.0, 9,   -999.0, 9,   -999.0, 9,   0.2035,   -999.0, 9, -999.000, 9
318MHYDROS4, A16C, 356, 1, 35, 35, 2, 19890404, 0526, -7.4867, -25.0050, 5739,  -999.00,   5693.8,   0.6808,  34.6997, 2,  34.6990, 2,   -999.0, 9,    222.5, 2,   117.78, 2,    31.37, 2,     0.00, 2,     2.20, 2,    0.003, 2,    0.003, 2,   -999.0, 9,   -999.0, 9,   -999.0, 9,   0.1900,   5691.9, 2,    0.672, 2
318MHYDROS4, A16C, 356, 1, 36, 36, 2, 19890404, 0526, -7.4867, -25.0050, 5739,  -999.00,   5884.2,   0.7012,  34.6987, 2,  34.6970, 2,   -999.0, 9,    222.5, 2,   117.78, 2,    31.47, 2,     0.00, 2,     2.21, 2,    0.001, 2,    0.008, 2,   2262.2, 2,   2381.9, 2,   1000.6, 2,   0.1855,   -999.0, 9, -999.000, 9