BOTTLE,20110318CCHDOSIODM
EXPOCODE,SECT_ID,STNNBR,CASTNO,SAMPNO,BTLNBR,BTLNBR_FLAG_W,DATE,TIME,LATITUDE,LONGITUDE,DEPTH,CTDRAW,CTDPRS,CTDTMP,CTDSAL,CTDSAL_FLAG_W,SALNTY,SALNTY_FLAG_W,CTDOXY,CTDOXY_FLAG_W,OXYGEN,OXYGEN_FLAG_W,SILCAT,SILCAT_FLAG_W,NITRAT,NITRAT_FLAG_W,NITRIT,NITRIT_FLAG_W,PHSPHT,PHSPHT_FLAG_W,CFC-11,CFC-11_FLAG_W,CFC-12,CFC-12_FLAG_W,TCARBN,TCARBN_FLAG_W,ALKALI,ALKALI_FLAG_W,PCO2,PCO2_FLAG_W,THETA,REVPRS,REVPRS_FLAG_W,REVTMP,REVTMP_FLAG_W
,,,,,,,,,,,METERS,DBAR,DBAR,ITS-90,PSS-78,,PSS-78,,UMOL/KG,,UMOL/KG,,UMOL/KG,,UMOL/KG,,UMOL/KG,,UMOL/KG,,PMOL/KG,,PMOL/KG,,UMOL/KG,,UMOL/KG,,UATM,,DEG C,DBAR,,ITS-90,
318MHYDROS4, A16C, 339, 1, 1, 1, 2, 19890329, 0700, -17.3800, -24.9950, 5075,  -999.00,      5.2,  27.7480,  37.1918, 2,  37.1951, 2,   -999.0, 9,   -999.0, 9,  -999.00, 9,  -999.00, 9,  -999.00, 9,  -999.00, 9, -999.000, 9, -999.000, 9,   2071.3, 2,   -999.0, 9,    291.0, 2,  27.7468,   -999.0, 9, -999.000, 9
318MHYDROS4, A16C, 339, 1, 2, 2, 2, 19890329, 0700, -17.3800, -24.9950, 5075,  -999.00,      5.3,  27.7490,  37.1924, 2,  37.1959, 2,   -999.0, 9,    206.3, 2,     1.46, 2,     0.00, 2,     0.00, 2,     0.17, 2, -999.000, 9, -999.000, 9,   -999.0, 9,   -999.0, 9,   -999.0, 9,  27.7478,   -999.0, 9, -999.000, 9
318MHYDROS4, A16C, 339, 1, 3, 3, 2, 19890329, 0700, -17.3800, -24.9950, 5075,  -999.00,     37.4,  27.7310,  37.1922, 2,  37.1873, 2,   -999.0, 9,    206.3, 2,     1.85, 2,     0.00, 2,     0.00, 2,     0.17, 2, -999.000, 9, -999.000, 9,   2073.9, 2,   2442.9, 2,    291.3, 2,  27.7222,   -999.0, 9, -999.000, 9
318MHYDROS4, A16C, 339, 1, 71, 71, 2, 19890329, 0700, -17.3800, -24.9950, 5075,  -999.00,     68.2,  25.1390,  36.9583, 2,  36.9440, 2,   -999.0, 9,    228.8, 2,     1.85, 2,     0.00, 2,     0.00, 2,     0.19, 2, -999.000, 9, -999.000, 9,   2077.1, 2,   -999.0, 9,   -999.0, 9,  25.1240,   -999.0, 9, -999.000, 9
318MHYDROS4, A16C, 339, 1, 5, 5, 2, 19890329, 0700, -17.3800, -24.9950, 5075,  -999.00,    109.4,  23.0441,  36.8335, 2,  36.8367, 2,   -999.0, 9,    219.5, 2,     1.85, 2,     0.00, 2,     0.00, 2,     0.19, 2, -999.000, 9, -999.000, 9,   2090.0, 2,   -999.0, 9,   -999.0, 9,  23.0216,   -999.0, 9, -999.000, 9
318MHYDROS4, A16C, 339, 1, 6, 6, 2, 19890329, 0700, -17.3800, -24.9950, 5075,  -999.00,    160.9,  20.5845,  36.3897, 2,  36.3820, 2,   -999.0, 9,    205.9, 2,     1.85, 2,     0.29, 2,     0.12, 2,     0.26, 2, -999.000, 9, -999.000, 9,   2093.5, 2,   -999.0, 9,   -999.0, 9,  20.5539,   -999.0, 9, -999.000, 9
318MHYDROS4, A16C, 339, 1, 7, 7, 2, 19890329, 0700, -17.3800, -24.9950, 5075,  -999.00,    212.1,  16.9334,  35.7224, 2,  35.7036, 2,   -999.0, 9,    198.0, 2,     2.64, 2,     4.30, 2,     0.01, 2,     0.51, 2, -999.000, 9, -999.000, 9,   2129.5, 2,   -999.0, 9,   -999.0, 9,  16.8983,   -999.0, 9, -999.000, 9
318MHYDROS4, A16C, 339, 1, 8, 8, 2, 19890329, 0700, -17.3800, -24.9950, 5075,  -999.00,    263.1,  14.2644,  35.3202, 2,  35.3125, 2,   -999.0, 9,    182.3, 2,     4.40, 2,    10.75, 2,     0.00, 2,     0.84, 2, -999.000, 9, -999.000, 9,   2161.1, 2,   -999.0, 9,   -999.0, 9,  14.2257,   -999.0, 9, -999.000, 9
318MHYDROS4, A16C, 339, 1, 9, 9, 2, 19890329, 0700, -17.3800, -24.9950, 5075,  -999.00,    313.8,  12.5442,  35.1084, 2,  35.1020, 2,   -999.0, 9,    169.7, 2,     6.35, 2,    15.54, 2,     0.00, 2,     1.12, 2, -999.000, 9, -999.000, 9,   2191.6, 2,   -999.0, 9,   -999.0, 9,  12.5018,   -999.0, 9, -999.000, 9
318MHYDROS4, A16C, 339, 1, 10, 10, 2, 19890329, 0700, -17.3800, -24.9950, 5075,  -999.00,    415.9,   9.8825,  34.8249, 2,  34.8252, 2,   -999.0, 9,    155.7, 2,    11.14, 2,    22.77, 2,     0.00, 2,     1.54, 2, -999.000, 9, -999.000, 9,   2197.7, 2,   -999.0, 9,   -999.0, 9,   9.8342,   -999.0, 9, -999.000, 9
318MHYDROS4, A16C, 339, 1, 11, 11, 2, 19890329, 0700, -17.3800, -24.9950, 5075,  -999.00,    517.9,   7.5569,  34.6117, 2,  34.6140, 2,   -999.0, 9,    148.7, 2,    17.89, 2,    29.03, 2,     0.00, 2,     1.95, 2, -999.000, 9, -999.000, 9,   2207.1, 2,   -999.0, 9,   -999.0, 9,   7.5054,   -999.0, 9, -999.000, 9
318MHYDROS4, A16C, 339, 1, 12, 12, 2, 19890329, 0700, -17.3800, -24.9950, 5075,  -999.00,    620.0,   5.6272,  34.4676, 2,  34.4714, 2,   -999.0, 9,    159.6, 2,    24.93, 2,    32.26, 2,     0.00, 2,     2.15, 2, -999.000, 9, -999.000, 9,   -999.0, 9,   -999.0, 9,   -999.0, 9,   5.5743,   -999.0, 9, -999.000, 9
318MHYDROS4, A16C, 339, 1, 13, 13, 2, 19890329, 0700, -17.3800, -24.9950, 5075,  -999.00,    722.0,   4.5050,  34.4211, 2,  34.4239, 2,   -999.0, 9,    173.5, 2,    31.87, 2,    33.04, 2,     0.00, 2,     2.24, 2, -999.000, 9, -999.000, 9,   2212.2, 2,   -999.0, 9,   -999.0, 9,   4.4492,   -999.0, 9, -999.000, 9
318MHYDROS4, A16C, 339, 1, 14, 14, 2, 19890329, 0700, -17.3800, -24.9950, 5075,  -999.00,    823.5,   3.9595,  34.4328, 2,  34.4315, 2,   -999.0, 9,    181.3, 2,    36.86, 2,    32.95, 2,     0.00, 2,     2.25, 2, -999.000, 9, -999.000, 9,   2218.2, 2,   -999.0, 9,   -999.0, 9,   3.8986,   -999.0, 9, -999.000, 9
318MHYDROS4, A16C, 339, 1, 15, 15, 2, 19890329, 0700, -17.3800, -24.9950, 5075,  -999.00,    926.2,   3.7586,  34.4806, 2,  34.4781, 2,   -999.0, 9,    180.8, 2,    39.49, 2,    32.85, 2,     0.00, 2,     2.24, 2, -999.000, 9, -999.000, 9,   2208.6, 2,   -999.0, 9,   -999.0, 9,   3.6908,   -999.0, 9, -999.000, 9
318MHYDROS4, A16C, 339, 1, 16, 16, 2, 19890329, 0700, -17.3800, -24.9950, 5075,  -999.00,   1028.5,   3.7186,  34.5436, 2,  34.5422, 2,   -999.0, 9,    180.8, 2,    39.59, 2,    32.26, 2,     0.00, 2,     2.19, 2, -999.000, 9, -999.000, 9,   -999.0, 9,   -999.0, 9,   -999.0, 9,   3.6428,   -999.0, 9, -999.000, 9
318MHYDROS4, A16C, 339, 1, 17, 17, 2, 19890329, 0700, -17.3800, -24.9950, 5075,  -999.00,   1233.7,   3.8206,  34.7135, 2,  34.7111, 2,   -999.0, 9,    190.4, 2,    34.40, 2,    29.32, 2,     0.00, 2,     1.97, 2, -999.000, 9, -999.000, 9,   2181.2, 2,   -999.0, 9,   -999.0, 9,   3.7263,   -999.0, 9, -999.000, 9
318MHYDROS4, A16C, 339, 1, 18, 18, 2, 19890329, 0700, -17.3800, -24.9950, 5075,  -999.00,   1439.7,   3.7926,  34.8313, 2,  34.8296, 2,   -999.0, 9,    209.5, 2,    30.00, 2,    25.90, 2,     0.00, 2,     1.74, 2, -999.000, 9, -999.000, 9,   -999.0, 9,   -999.0, 9,   -999.0, 9,   3.6804,   -999.0, 9, -999.000, 9
318MHYDROS4, A16C, 339, 1, 19, 19, 2, 19890329, 0700, -17.3800, -24.9950, 5075,  -999.00,   1645.5,   3.5078,  34.8898, 2,  34.8895, 2,   -999.0, 9,    229.0, 2,    28.83, 2,    23.36, 2,     0.00, 2,     1.55, 2, -999.000, 9, -999.000, 9,   2176.3, 2,   -999.0, 9,   -999.0, 9,   3.3805,   -999.0, 9, -999.000, 9
318MHYDROS4, A16C, 339, 1, 20, 20, 2, 19890329, 0700, -17.3800, -24.9950, 5075,  -999.00,   1851.3,   3.2850,  34.9171, 2,  34.9157, 2,   -999.0, 9,    241.6, 2,    28.63, 2,    21.79, 2,     0.00, 2,     1.45, 2, -999.000, 9, -999.000, 9,   -999.0, 9,   -999.0, 9,   -999.0, 9,   3.1419,   -999.0, 9, -999.000, 9
318MHYDROS4, A16C, 339, 1, 21, 21, 2, 19890329, 0700, -17.3800, -24.9950, 5075,  -999.00,   2057.3,   3.0722,  34.9164, 2,  34.9163, 2,   -999.0, 9,    244.6, 2,    31.47, 2,    21.60, 2,     0.00, 2,     1.45, 2, -999.000, 9, -999.000, 9,   2177.6, 2,   -999.0, 9,   -999.0, 9,   2.9133,   -999.0, 9, -999.000, 9
318MHYDROS4, A16C, 339, 1, 22, 22, 2, 19890329, 0700, -17.3800, -24.9950, 5075,  -999.00,   2263.0,   2.9173,  34.9084, 2,  34.9066, 2,   -999.0, 9,    243.8, 2,    35.67, 2,    21.99, 2,     0.00, 2,     1.48, 2, -999.000, 9, -999.000, 9,   -999.0, 9,   -999.0, 9,   -999.0, 9,   2.7417,   -999.0, 9, -999.000, 9
318MHYDROS4, A16C, 339, 1, 23, 23, 2, 19890329, 0700, -17.3800, -24.9950, 5075,  -999.00,   2469.1,   2.8184,  34.9038, 2,  34.9027, 2,   -999.0, 9,    243.7, 2,    37.82, 2,    21.70, 2,     0.00, 2,     1.49, 2, -999.000, 9, -999.000, 9,   2178.5, 2,   -999.0, 9,   -999.0, 9,   2.6249,   -999.0, 9, -999.000, 9
318MHYDROS4, A16C, 339, 1, 24, 24, 2, 19890329, 0700, -17.3800, -24.9950, 5075,  -999.00,   2727.7,   2.7414,  34.9002, 2,  34.9004, 2,   -999.0, 9,    243.7, 2,    39.58, 2,    21.79, 2,     0.00, 2,     1.50, 2, -999.000, 9, -999.000, 9,   -999.0, 9,   -999.0, 9,   -999.0, 9,   2.5241,   -999.0, 9, -999.000, 9
318MHYDROS4, A16C, 339, 1, 25, 25, 2, 19890329, 0700, -17.3800, -24.9950, 5075,  -999.00,   2987.3,   2.6785,  34.9008, 2,  34.9013, 2,   -999.0, 9,    245.5, 2,    40.26, 2,    22.09, 2,     0.00, 2,     1.49, 2, -999.000, 9, -999.000, 9,   2183.8, 2,   -999.0, 9,   -999.0, 9,   2.4361,   -999.0, 9, -999.000, 9
318MHYDROS4, A16C, 339, 1, 26, 26, 2, 19890329, 0700, -17.3800, -24.9950, 5075,  -999.00,   3194.7,   2.6325,  34.9025, 2,  34.9018, 2,   -999.0, 9,    248.5, 2,    39.58, 2,    21.79, 2,     0.00, 2,     1.45, 2, -999.000, 9, -999.000, 9,   -999.0, 9,   -999.0, 9,   -999.0, 9,   2.3696,   -999.0, 9, -999.000, 9
318MHYDROS4, A16C, 339, 1, 27, 27, 2, 19890329, 0700, -17.3800, -24.9950, 5075,  -999.00,   3401.4,   2.5516,  34.9022, 2,  34.9030, 2,   -999.0, 9,    252.0, 2,    39.19, 2,    21.30, 2,     0.00, 2,     1.42, 2, -999.000, 9, -999.000, 9,   2192.5, 2,   -999.0, 9,   -999.0, 9,   2.2686,   -999.0, 9, -999.000, 9
318MHYDROS4, A16C, 339, 1, 28, 28, 2, 19890329, 0700, -17.3800, -24.9950, 5075,  -999.00,   3608.3,   2.3587,  34.8851, 2,  34.8835, 2,   -999.0, 9,    250.3, 2,    45.44, 2,    22.18, 2,     0.00, 2,     1.49, 2, -999.000, 9, -999.000, 9,   -999.0, 9,   -999.0, 9,   -999.0, 9,   2.0582,   -999.0, 9, -999.000, 9
318MHYDROS4, A16C, 339, 1, 29, 29, 2, 19890329, 0700, -17.3800, -24.9950, 5075,  -999.00,   3816.3,   2.0530,  34.8535, 2,  34.8527, 2,   -999.0, 9,    245.5, 2,    57.46, 2,    23.85, 2,     0.00, 2,     1.61, 2, -999.000, 9, -999.000, 9,   2218.0, 2,   -999.0, 9,   -999.0, 9,   1.7379,   -999.0, 9, -999.000, 9
318MHYDROS4, A16C, 339, 1, 30, 30, 2, 19890329, 0700, -17.3800, -24.9950, 5075,  -999.00,   4024.6,   1.6273,  34.8108, 2,  34.8108, 2,   -999.0, 9,    239.4, 2,    72.71, 2,    26.00, 2,     0.00, 2,     1.76, 2, -999.000, 9, -999.000, 9,   -999.0, 9,   -999.0, 9,   -999.0, 9,   1.3013,   -999.0, 9, -999.000, 9
318MHYDROS4, A16C, 339, 1, 31, 31, 2, 19890329, 0700, -17.3800, -24.9950, 5075,  -999.00,   4232.7,   1.3596,  34.7823, 2,  34.7817, 2,   -999.0, 9,    235.5, 2,    84.74, 2,    27.46, 2,     0.00, 2,     1.87, 2, -999.000, 9, -999.000, 9,   2239.6, 2,   -999.0, 9,   -999.0, 9,   1.0185,   -999.0, 9, -999.000, 9
318MHYDROS4, A16C, 339, 1, 32, 32, 2, 19890329, 0700, -17.3800, -24.9950, 5075,  -999.00,   4441.2,   1.0758,  34.7532, 2,  34.7518, 2,   -999.0, 9,    231.1, 2,    96.37, 2,    29.13, 2,     0.00, 2,     1.99, 2, -999.000, 9, -999.000, 9,   -999.0, 9,   -999.0, 9,   -999.0, 9,   0.7202,   -999.0, 9, -999.000, 9
318MHYDROS4, A16C, 339, 1, 33, 33, 2, 19890329, 0700, -17.3800, -24.9950, 5075,  -999.00,   4650.5,   0.9120,  34.7352, 2,  34.7337, 2,   -999.0, 9,    228.1, 2,   103.41, 2,    29.81, 2,     0.00, 2,     2.05, 2, -999.000, 9, -999.000, 9,   2250.6, 2,   -999.0, 9,   -999.0, 9,   0.5380,   -999.0, 9, -999.000, 9
318MHYDROS4, A16C, 339, 1, 34, 34, 2, 19890329, 0700, -17.3800, -24.9950, 5075,  -999.00,   4859.3,   0.8050,  34.7216, 2,  34.7199, 2,   -999.0, 9,    226.8, 2,   108.39, 2,    30.59, 2,     0.00, 2,     2.10, 2,    0.008, 2,    0.011, 2,   -999.0, 9,   -999.0, 9,   -999.0, 9,   0.4106,   -999.0, 9, -999.000, 9
318MHYDROS4, A16C, 339, 1, 35, 35, 2, 19890329, 0700, -17.3800, -24.9950, 5075,  -999.00,   5068.5,   0.7891,  34.7182, 2,  34.7160, 2,   -999.0, 9,    225.9, 2,   110.64, 2,    30.89, 2,     0.00, 2,     2.12, 2,    0.003, 2,    0.003, 2,   2258.2, 2,   -999.0, 9,   -999.0, 9,   0.3707,   5065.9, 2,    0.777, 2
318MHYDROS4, A16C, 339, 1, 36, 36, 2, 19890329, 0700, -17.3800, -24.9950, 5075,  -999.00,   5189.4,   0.7611,  34.7148, 2,  34.7119, 2,   -999.0, 9,    225.5, 2,   112.50, 2,    31.08, 2,     0.00, 2,     2.15, 2,    0.004, 2,    0.003, 2,   2254.9, 2,   -999.0, 9,   -999.0, 9,   0.3293,   -999.0, 9, -999.000, 9