BOTTLE,20110318CCHDOSIODM
EXPOCODE,SECT_ID,STNNBR,CASTNO,SAMPNO,BTLNBR,BTLNBR_FLAG_W,DATE,TIME,LATITUDE,LONGITUDE,DEPTH,CTDRAW,CTDPRS,CTDTMP,CTDSAL,CTDSAL_FLAG_W,SALNTY,SALNTY_FLAG_W,CTDOXY,CTDOXY_FLAG_W,OXYGEN,OXYGEN_FLAG_W,SILCAT,SILCAT_FLAG_W,NITRAT,NITRAT_FLAG_W,NITRIT,NITRIT_FLAG_W,PHSPHT,PHSPHT_FLAG_W,CFC-11,CFC-11_FLAG_W,CFC-12,CFC-12_FLAG_W,TCARBN,TCARBN_FLAG_W,ALKALI,ALKALI_FLAG_W,PCO2,PCO2_FLAG_W,THETA,REVPRS,REVPRS_FLAG_W,REVTMP,REVTMP_FLAG_W
,,,,,,,,,,,METERS,DBAR,DBAR,ITS-90,PSS-78,,PSS-78,,UMOL/KG,,UMOL/KG,,UMOL/KG,,UMOL/KG,,UMOL/KG,,UMOL/KG,,PMOL/KG,,PMOL/KG,,UMOL/KG,,UMOL/KG,,UATM,,DEG C,DBAR,,ITS-90,
318MHYDROS4, A16C, 359, 1, 1, 1, 2, 19890405, 0304, -5.7217, -24.9950, 5438,  -999.00,      3.2,  28.6897,  36.0926, 2,  36.0950, 2,   -999.0, 9,   -999.0, 9,  -999.00, 9,  -999.00, 9,  -999.00, 9,  -999.00, 9, -999.000, 9, -999.000, 9,   2009.0, 2,   -999.0, 9,    287.2, 2,  28.6889,   -999.0, 9, -999.000, 9
318MHYDROS4, A16C, 359, 1, 2, 2, 2, 19890405, 0304, -5.7217, -24.9950, 5438,  -999.00,      3.2,  28.6900,  36.0924, 2,  36.0950, 2,   -999.0, 9,    209.5, 2,     2.34, 2,     0.00, 2,     0.00, 2,     0.09, 2, -999.000, 9, -999.000, 9,   -999.0, 9,   -999.0, 9,   -999.0, 9,  28.6892,   -999.0, 9, -999.000, 9
318MHYDROS4, A16C, 359, 1, 3, 3, 2, 19890405, 0304, -5.7217, -24.9950, 5438,  -999.00,     36.6,  27.3613,  36.2692, 2,  36.2780, 2,   -999.0, 9,    220.3, 2,     2.83, 2,     0.00, 2,     0.00, 2,     0.12, 2, -999.000, 9, -999.000, 9,   2029.8, 2,   2375.2, 2,    296.8, 2,  27.3528,   -999.0, 9, -999.000, 9
318MHYDROS4, A16C, 359, 1, 71, 71, 2, 19890405, 0304, -5.7217, -24.9950, 5438,  -999.00,     98.6,  23.0090,  36.4304, 2,  36.4630, 2,   -999.0, 9,    198.2, 2,     2.83, 2,     0.78, 2,     0.06, 2,     0.24, 2, -999.000, 9, -999.000, 9,   -999.0, 9,   -999.0, 9,   -999.0, 9,  22.9888,   -999.0, 9, -999.000, 9
318MHYDROS4, A16C, 359, 1, 5, 5, 2, 19890405, 0304, -5.7217, -24.9950, 5438,  -999.00,    129.4,  16.9274,  35.7622, 2,  35.7520, 2,   -999.0, 9,    110.1, 2,     6.35, 2,    17.19, 2,     0.03, 2,     1.21, 2, -999.000, 9, -999.000, 9,   2136.5, 2,   -999.0, 9,   -999.0, 9,  16.9061,   -999.0, 9, -999.000, 9
318MHYDROS4, A16C, 359, 1, 6, 6, 2, 19890405, 0304, -5.7217, -24.9950, 5438,  -999.00,    150.4,  14.3111,  35.4686, 2,  35.4400, 2,   -999.0, 9,     98.8, 2,     8.11, 2,    21.98, 2,     0.01, 2,     1.48, 2, -999.000, 9, -999.000, 9,   -999.0, 9,   -999.0, 9,   -999.0, 9,  14.2890,   -999.0, 9, -999.000, 9
318MHYDROS4, A16C, 359, 1, 7, 7, 2, 19890405, 0304, -5.7217, -24.9950, 5438,  -999.00,    252.3,  10.1780,  34.9432, 2,  34.9390, 2,   -999.0, 9,     91.8, 2,    13.39, 2,    29.51, 2,     0.00, 2,     1.90, 2, -999.000, 9, -999.000, 9,   2185.2, 2,   -999.0, 9,   -999.0, 9,  10.1483,   -999.0, 9, -999.000, 9
318MHYDROS4, A16C, 359, 1, 8, 8, 2, 19890405, 0304, -5.7217, -24.9950, 5438,  -999.00,    354.3,   8.5775,  34.7679, 2,  34.7670, 2,   -999.0, 9,     82.2, 2,    17.20, 2,    34.01, 2,     0.00, 2,     2.19, 2, -999.000, 9, -999.000, 9,   2171.3, 3,   -999.0, 9,   -999.0, 9,   8.5399,   -999.0, 9, -999.000, 9
318MHYDROS4, A16C, 359, 1, 9, 9, 2, 19890405, 0304, -5.7217, -24.9950, 5438,  -999.00,    517.4,   6.4264,  34.5728, 2,  34.5700, 2,   -999.0, 9,    107.4, 2,    23.26, 2,    35.87, 2,     0.00, 2,     2.37, 2, -999.000, 9, -999.000, 9,   2226.7, 2,   -999.0, 9,   -999.0, 9,   6.3794,   -999.0, 9, -999.000, 9
318MHYDROS4, A16C, 359, 1, 10, 10, 2, 19890405, 0304, -5.7217, -24.9950, 5438,  -999.00,    619.5,   5.4640,  34.4997, 2,  34.4960, 2,   -999.0, 9,    131.7, 2,    27.08, 2,    35.58, 2,     0.00, 2,     2.40, 2, -999.000, 9, -999.000, 9,   2229.4, 2,   -999.0, 9,   -999.0, 9,   5.4119,   -999.0, 9, -999.000, 9
318MHYDROS4, A16C, 359, 1, 11, 11, 2, 19890405, 0304, -5.7217, -24.9950, 5438,  -999.00,    721.6,   4.7951,  34.4615, 2,  34.4610, 2,   -999.0, 9,    152.2, 2,    30.60, 2,    34.70, 2,     0.00, 2,     2.35, 2, -999.000, 9, -999.000, 9,   2228.5, 2,   -999.0, 9,   -999.0, 9,   4.7377,   -999.0, 9, -999.000, 9
318MHYDROS4, A16C, 359, 1, 12, 12, 2, 19890405, 0304, -5.7217, -24.9950, 5438,  -999.00,    874.8,   4.1261,  34.4837, 2,  34.4830, 2,   -999.0, 9,    166.9, 2,    35.29, 2,    33.82, 2,     0.00, 2,     2.32, 2, -999.000, 9, -999.000, 9,   -999.0, 9,   -999.0, 9,   -999.0, 9,   4.0599,   -999.0, 9, -999.000, 9
318MHYDROS4, A16C, 359, 1, 13, 13, 2, 19890405, 0304, -5.7217, -24.9950, 5438,  -999.00,   1028.7,   4.1287,  34.6368, 2,  34.6280, 2,   -999.0, 9,    169.9, 2,    33.33, 2,    31.67, 2,     0.00, 2,     2.18, 2, -999.000, 9, -999.000, 9,   2221.8, 2,   -999.0, 9,   -999.0, 9,   4.0494,   -999.0, 9, -999.000, 9
318MHYDROS4, A16C, 359, 1, 14, 14, 2, 19890405, 0304, -5.7217, -24.9950, 5438,  -999.00,   1182.3,   4.3617,  34.8051, 2,  34.8020, 2,   -999.0, 9,    186.4, 2,    26.39, 2,    27.56, 2,     0.00, 2,     1.90, 2, -999.000, 9, -999.000, 9,   -999.0, 9,   -999.0, 9,   -999.0, 9,   4.2667,   -999.0, 9, -999.000, 9
318MHYDROS4, A16C, 359, 1, 15, 15, 2, 19890405, 0304, -5.7217, -24.9950, 5438,  -999.00,   1336.0,   4.3926,  34.8825, 2,  34.8780, 2,   -999.0, 9,    202.5, 2,    23.26, 2,    25.31, 2,     0.00, 2,     1.72, 2,    0.007, 2,    0.008, 2,   2206.8, 2,   -999.0, 9,   -999.0, 9,   4.2834,   -999.0, 9, -999.000, 9
318MHYDROS4, A16C, 359, 1, 16, 16, 2, 19890405, 0304, -5.7217, -24.9950, 5438,  -999.00,   1542.3,   4.2076,  34.9509, 2,  34.9490, 2,   -999.0, 9,    229.0, 2,    19.35, 2,    22.09, 2,     0.00, 2,     1.49, 2,    0.020, 2,    0.007, 2,   -999.0, 9,   -999.0, 9,   -999.0, 9,   4.0811,   -999.0, 9, -999.000, 9
318MHYDROS4, A16C, 359, 1, 17, 17, 2, 19890405, 0304, -5.7217, -24.9950, 5438,  -999.00,   1748.3,   3.8922,  34.9676, 2,  34.9670, 2,   -999.0, 9,    244.6, 2,    18.66, 2,    20.42, 2,     0.00, 2,     1.34, 2,    0.014, 2,    0.012, 2,   2171.2, 2,   -999.0, 9,   -999.0, 9,   3.7504,   -999.0, 9, -999.000, 9
318MHYDROS4, A16C, 359, 1, 18, 18, 2, 19890405, 0304, -5.7217, -24.9950, 5438,  -999.00,   1984.7,   3.4936,  34.9492, 2,  34.9480, 2,   -999.0, 9,    247.2, 2,    23.45, 2,    20.03, 2,     0.00, 2,     1.37, 2, -999.000, 9, -999.000, 9,   2211.1, 3,   -999.0, 9,   -999.0, 9,   3.3351,   -999.0, 9, -999.000, 9
318MHYDROS4, A16C, 359, 1, 19, 19, 2, 19890405, 0304, -5.7217, -24.9950, 5438,  -999.00,   2160.5,   3.2056,  34.9381, 2,  34.9370, 2,   -999.0, 9,    248.5, 2,    27.26, 2,    20.42, 2,     0.00, 2,     1.39, 2, -999.000, 9, -999.000, 9,   -999.0, 9,   -999.0, 9,   -999.0, 9,   3.0350,   -999.0, 9, -999.000, 9
318MHYDROS4, A16C, 359, 1, 20, 20, 2, 19890405, 0304, -5.7217, -24.9950, 5438,  -999.00,   2315.2,   3.0566,  34.9314, 2,  34.9310, 2,   -999.0, 9,    249.0, 2,    30.20, 2,    20.62, 2,     0.00, 2,     1.40, 2, -999.000, 9, -999.000, 9,   -999.0, 9,   -999.0, 9,   -999.0, 9,   2.8736,   -999.0, 9, -999.000, 9
318MHYDROS4, A16C, 359, 1, 21, 21, 2, 19890405, 0304, -5.7217, -24.9950, 5438,  -999.00,   2470.3,   2.8916,  34.9215, 2,  34.9210, 2,   -999.0, 9,    247.2, 2,    33.13, 2,    21.01, 2,     0.00, 2,     1.43, 2, -999.000, 9, -999.000, 9,   2183.8, 2,   -999.0, 9,   -999.0, 9,   2.6966,   -999.0, 9, -999.000, 9
318MHYDROS4, A16C, 359, 1, 22, 22, 2, 19890405, 0304, -5.7217, -24.9950, 5438,  -999.00,   2676.7,   2.7876,  34.9193, 2,  34.9190, 2,   -999.0, 9,    249.8, 2,    34.01, 2,    21.11, 2,     0.00, 2,     1.43, 2, -999.000, 9, -999.000, 9,   -999.0, 9,   -999.0, 9,   -999.0, 9,   2.5743,   -999.0, 9, -999.000, 9
318MHYDROS4, A16C, 359, 1, 23, 23, 2, 19890405, 0304, -5.7217, -24.9950, 5438,  -999.00,   2884.0,   2.7182,  34.9186, 2,  34.9190, 2,   -999.0, 9,    252.4, 2,    34.01, 2,    20.82, 2,     0.00, 2,     1.40, 2, -999.000, 9, -999.000, 9,   -999.0, 9,   -999.0, 9,   -999.0, 9,   2.4855,   -999.0, 9, -999.000, 9
318MHYDROS4, A16C, 359, 1, 24, 24, 2, 19890405, 0304, -5.7217, -24.9950, 5438,  -999.00,   3091.0,   2.6638,  34.9180, 2,  34.9170, 2,   -999.0, 9,    255.5, 2,    32.74, 2,    20.33, 2,     0.00, 2,     1.38, 2, -999.000, 9, -999.000, 9,   2186.4, 2,   -999.0, 9,   -999.0, 9,   2.4110,   -999.0, 9, -999.000, 9
318MHYDROS4, A16C, 359, 1, 25, 25, 2, 19890405, 0304, -5.7217, -24.9950, 5438,  -999.00,   3297.9,   2.5992,  34.9154, 2,  34.9160, 2,   -999.0, 9,    258.1, 2,    32.35, 2,    19.84, 2,     0.00, 2,     1.36, 2, -999.000, 9, -999.000, 9,   -999.0, 9,   -999.0, 9,   -999.0, 9,   2.3261,   -999.0, 9, -999.000, 9
318MHYDROS4, A16C, 359, 1, 26, 26, 2, 19890405, 0304, -5.7217, -24.9950, 5438,  -999.00,   3504.7,   2.5413,  34.9121, 2,  34.9110, 2,   -999.0, 9,    260.7, 2,    32.54, 2,    19.84, 2,     0.00, 2,     1.34, 2, -999.000, 9, -999.000, 9,   -999.0, 9,   -999.0, 9,   -999.0, 9,   2.2473,   -999.0, 9, -999.000, 9
318MHYDROS4, A16C, 359, 1, 27, 27, 2, 19890405, 0304, -5.7217, -24.9950, 5438,  -999.00,   3711.6,   2.4348,  34.9039, 2,  34.9040, 2,   -999.0, 9,    262.0, 2,    34.11, 2,    19.94, 2,     0.00, 2,     1.35, 2, -999.000, 9, -999.000, 9,   2173.4, 2,   -999.0, 9,   -999.0, 9,   2.1208,   -999.0, 9, -999.000, 9
318MHYDROS4, A16C, 359, 1, 28, 28, 2, 19890405, 0304, -5.7217, -24.9950, 5438,  -999.00,   3919.3,   2.0826,  34.8666, 2,  34.8670, 2,   -999.0, 9,    255.0, 2,    48.38, 2,    22.09, 2,     0.00, 2,     1.50, 2, -999.000, 9, -999.000, 9,   -999.0, 9,   -999.0, 9,   -999.0, 9,   1.7552,   -999.0, 9, -999.000, 9
318MHYDROS4, A16C, 359, 1, 29, 29, 2, 19890405, 0304, -5.7217, -24.9950, 5438,  -999.00,   4127.2,   1.5452,  34.8069, 2,  34.8060, 2,   -999.0, 9,    241.6, 2,    73.50, 2,    25.90, 2,     0.00, 2,     1.76, 2, -999.000, 9, -999.000, 9,   -999.0, 9,   -999.0, 9,   -999.0, 9,   1.2103,   -999.0, 9, -999.000, 9
318MHYDROS4, A16C, 359, 1, 30, 30, 2, 19890405, 0304, -5.7217, -24.9950, 5438,  -999.00,   4335.2,   1.1370,  34.7629, 2,  34.7610, 2,   -999.0, 9,    233.3, 2,    92.95, 2,    28.05, 2,     0.00, 2,     1.94, 2, -999.000, 9, -999.000, 9,   2226.2, 2,   -999.0, 9,   -999.0, 9,   0.7913,   -999.0, 9, -999.000, 9
318MHYDROS4, A16C, 359, 1, 31, 31, 2, 19890405, 0304, -5.7217, -24.9950, 5438,  -999.00,   4542.5,   0.9337,  34.7399, 2,  34.7390, 2,   -999.0, 9,    229.4, 2,   102.62, 2,    29.42, 2,     0.00, 2,     2.04, 2, -999.000, 9, -999.000, 9,   -999.0, 9,   -999.0, 9,   -999.0, 9,   0.5713,   -999.0, 9, -999.000, 9
318MHYDROS4, A16C, 359, 1, 32, 32, 2, 19890405, 0304, -5.7217, -24.9950, 5438,  -999.00,   4751.1,   0.8209,  34.7257, 2,  34.7230, 2,   -999.0, 9,    226.8, 2,   109.08, 2,    29.91, 2,     0.00, 2,     2.11, 2, -999.000, 9, -999.000, 9,   -999.0, 9,   -999.0, 9,   -999.0, 9,   0.4385,   -999.0, 9, -999.000, 9
318MHYDROS4, A16C, 359, 1, 33, 33, 2, 19890405, 0304, -5.7217, -24.9950, 5438,  -999.00,   4959.3,   0.7666,  34.7174, 2,  34.7170, 2,   -999.0, 9,    225.5, 2,   111.62, 2,    31.08, 2,     0.00, 2,     2.14, 2, -999.000, 9, -999.000, 9,   2248.6, 2,   -999.0, 9,   -999.0, 9,   0.3618,   -999.0, 9, -999.000, 9
318MHYDROS4, A16C, 359, 1, 34, 34, 2, 19890405, 0304, -5.7217, -24.9950, 5438,  -999.00,   5167.7,   0.7276,  34.7110, 2,  34.7080, 2,   -999.0, 9,    225.1, 2,   113.77, 2,    31.28, 2,     0.00, 2,     2.16, 2, -999.000, 9, -999.000, 9,   -999.0, 9,   -999.0, 9,   -999.0, 9,   0.2996,   -999.0, 9, -999.000, 9
318MHYDROS4, A16C, 359, 1, 35, 35, 2, 19890405, 0304, -5.7217, -24.9950, 5438,  -999.00,   5377.6,   0.6885,  34.7041, 2,  34.7020, 2,   -999.0, 9,    224.2, 2,   116.21, 2,    31.86, 2,     0.00, 2,     2.19, 2, -999.000, 9, -999.000, 9,   -999.0, 9,   -999.0, 9,   -999.0, 9,   0.2366,   5377.2, 2,    0.683, 2
318MHYDROS4, A16C, 359, 1, 36, 36, 2, 19890405, 0304, -5.7217, -24.9950, 5438,  -999.00,   5582.1,   0.6936,  34.7027, 2,  34.7000, 2,   -999.0, 9,    223.8, 2,   118.17, 2,    32.06, 2,     0.00, 2,     2.21, 2, -999.000, 9, -999.000, 9,   2254.4, 2,   -999.0, 9,   -999.0, 9,   0.2164,   -999.0, 9, -999.000, 9