BOTTLE,20110318CCHDOSIODM
EXPOCODE,SECT_ID,STNNBR,CASTNO,SAMPNO,BTLNBR,BTLNBR_FLAG_W,DATE,TIME,LATITUDE,LONGITUDE,DEPTH,CTDRAW,CTDPRS,CTDTMP,CTDSAL,CTDSAL_FLAG_W,SALNTY,SALNTY_FLAG_W,CTDOXY,CTDOXY_FLAG_W,OXYGEN,OXYGEN_FLAG_W,SILCAT,SILCAT_FLAG_W,NITRAT,NITRAT_FLAG_W,NITRIT,NITRIT_FLAG_W,PHSPHT,PHSPHT_FLAG_W,CFC-11,CFC-11_FLAG_W,CFC-12,CFC-12_FLAG_W,TCARBN,TCARBN_FLAG_W,ALKALI,ALKALI_FLAG_W,PCO2,PCO2_FLAG_W,THETA,REVPRS,REVPRS_FLAG_W,REVTMP,REVTMP_FLAG_W
,,,,,,,,,,,METERS,DBAR,DBAR,ITS-90,PSS-78,,PSS-78,,UMOL/KG,,UMOL/KG,,UMOL/KG,,UMOL/KG,,UMOL/KG,,UMOL/KG,,PMOL/KG,,PMOL/KG,,UMOL/KG,,UMOL/KG,,UATM,,DEG C,DBAR,,ITS-90,
318MHYDROS4, A16C, 335, 1, 1, 1, 2, 19890328, 0325, -19.7500, -25.0083, 5564,  -999.00,      4.1,  27.9586,  37.2520, 2,  37.2541, 2,   -999.0, 9,   -999.0, 9,  -999.00, 9,  -999.00, 9,  -999.00, 9,  -999.00, 9, -999.000, 9, -999.000, 9,   2074.5, 2,   -999.0, 9,    282.9, 2,  27.9577,   -999.0, 9, -999.000, 9
318MHYDROS4, A16C, 335, 1, 2, 2, 2, 19890328, 0325, -19.7500, -25.0083, 5564,  -999.00,      4.2,  27.9564,  37.2515, 2,  37.2539, 2,   -999.0, 9,    198.3, 2,     2.98, 2,     0.00, 2,     0.00, 2,     0.17, 2, -999.000, 9, -999.000, 9,   -999.0, 9,   -999.0, 9,   -999.0, 9,  27.9554,   -999.0, 9, -999.000, 9
318MHYDROS4, A16C, 335, 1, 3, 3, 2, 19890328, 0325, -19.7500, -25.0083, 5564,  -999.00,     36.4,  27.7196,  37.2304, 2,  37.2264, 2,   -999.0, 9,    201.8, 2,     3.35, 2,     0.00, 2,     0.00, 2,     0.17, 2, -999.000, 9, -999.000, 9,   2074.4, 2,   2447.9, 2,    287.5, 2,  27.7110,   -999.0, 9, -999.000, 9
318MHYDROS4, A16C, 335, 1, 71, 71, 2, 19890328, 0325, -19.7500, -25.0083, 5564,  -999.00,     67.1,  24.1081,  36.9581, 2,  36.9529, 2,   -999.0, 9,    223.0, 2,     3.34, 2,     0.00, 2,     0.00, 2,     0.18, 2, -999.000, 9, -999.000, 9,   2076.2, 2,   -999.0, 9,   -999.0, 9,  24.0939,   -999.0, 9, -999.000, 9
318MHYDROS4, A16C, 335, 1, 5, 5, 2, 19890328, 0325, -19.7500, -25.0083, 5564,  -999.00,    108.2,  22.6228,  36.8033, 2,  36.8032, 2,   -999.0, 9,    214.9, 2,     3.13, 2,     0.00, 2,     0.00, 2,     0.19, 2, -999.000, 9, -999.000, 9,   -999.0, 9,   -999.0, 9,   -999.0, 9,  22.6008,   -999.0, 9, -999.000, 9
318MHYDROS4, A16C, 335, 1, 6, 6, 2, 19890328, 0325, -19.7500, -25.0083, 5564,  -999.00,    159.5,  21.4880,  36.6217, 2,  36.6111, 2,   -999.0, 9,    212.3, 2,     3.12, 2,     0.00, 2,     0.04, 2,     0.18, 2, -999.000, 9, -999.000, 9,   2085.1, 2,   -999.0, 9,   -999.0, 9,  21.4568,   -999.0, 9, -999.000, 9
318MHYDROS4, A16C, 335, 1, 7, 7, 2, 19890328, 0325, -19.7500, -25.0083, 5564,  -999.00,    210.1,  18.3582,  36.0035, 2,  35.9950, 2,   -999.0, 9,    205.8, 2,     3.30, 2,     1.24, 2,     0.01, 2,     0.32, 2, -999.000, 9, -999.000, 9,   2086.1, 2,   -999.0, 9,   -999.0, 9,  18.3214,   -999.0, 9, -999.000, 9
318MHYDROS4, A16C, 335, 1, 8, 8, 2, 19890328, 0325, -19.7500, -25.0083, 5564,  -999.00,    261.6,  15.5791,  35.4984, 2,  35.5070, 2,   -999.0, 9,    206.1, 2,     3.87, 2,     4.68, 2,     0.01, 2,     0.51, 2, -999.000, 9, -999.000, 9,   2099.5, 2,   -999.0, 9,   -999.0, 9,  15.5382,   -999.0, 9, -999.000, 9
318MHYDROS4, A16C, 335, 1, 9, 9, 2, 19890328, 0325, -19.7500, -25.0083, 5564,  -999.00,    312.7,  13.9041,  35.2756, 2,  35.2655, 2,   -999.0, 9,    192.4, 2,     5.20, 2,     9.89, 2,     0.00, 2,     0.80, 2, -999.000, 9, -999.000, 9,   2132.5, 2,   -999.0, 9,   -999.0, 9,  13.8589,   -999.0, 9, -999.000, 9
318MHYDROS4, A16C, 335, 1, 10, 10, 2, 19890328, 0325, -19.7500, -25.0083, 5564,  -999.00,    414.6,  10.8053,  34.9158, 2, -999.0000, 9,   -999.0, 9,   -999.0, 9,  -999.00, 9,  -999.00, 9,  -999.00, 9,  -999.00, 9, -999.000, 9, -999.000, 9,   2160.0, 2,   -999.0, 9,   -999.0, 9,  10.7543,   -999.0, 9, -999.000, 9
318MHYDROS4, A16C, 335, 1, 11, 11, 2, 19890328, 0325, -19.7500, -25.0083, 5564,  -999.00,    517.0,   8.5528,  34.6898, 2,  34.6900, 2,   -999.0, 9,    159.3, 2,    15.38, 2,    25.55, 2,     0.00, 2,     1.74, 2, -999.000, 9, -999.000, 9,   2180.6, 2,   -999.0, 9,   -999.0, 9,   8.4975,   -999.0, 9, -999.000, 9
318MHYDROS4, A16C, 335, 1, 12, 12, 2, 19890328, 0325, -19.7500, -25.0083, 5564,  -999.00,    619.2,   6.3325,  34.4936, 2,  34.4983, 2,   -999.0, 9,    172.3, 2,    21.33, 2,    29.47, 2,     0.00, 2,     1.99, 2, -999.000, 9, -999.000, 9,   2191.1, 2,   -999.0, 9,   -999.0, 9,   6.2764,   -999.0, 9, -999.000, 9
318MHYDROS4, A16C, 335, 1, 13, 13, 2, 19890328, 0325, -19.7500, -25.0083, 5564,  -999.00,    822.8,   4.1176,  34.3849, 2,  34.3850, 2,   -999.0, 9,    191.7, 2,    34.96, 2,    32.04, 2,     0.00, 2,     2.19, 2, -999.000, 9, -999.000, 9,   2201.6, 2,   -999.0, 9,   -999.0, 9,   4.0559,   -999.0, 9, -999.000, 9
318MHYDROS4, A16C, 335, 1, 14, 14, 2, 19890328, 0325, -19.7500, -25.0083, 5564,  -999.00,   1027.7,   3.5416,  34.4888, 2,  34.4877, 2,   -999.0, 9,    186.5, 2,    43.79, 2,    32.32, 2,     0.00, 2,     2.22, 2, -999.000, 9, -999.000, 9,   2207.9, 2,   -999.0, 9,   -999.0, 9,   3.4673,   -999.0, 9, -999.000, 9
318MHYDROS4, A16C, 335, 1, 15, 15, 2, 19890328, 0325, -19.7500, -25.0083, 5564,  -999.00,   1233.3,   3.7618,  34.7109, 2,  34.7044, 2,   -999.0, 9,    191.9, 2,    38.00, 2,    29.07, 2,     0.00, 2,     1.98, 2, -999.000, 9, -999.000, 9,   2205.7, 2,   -999.0, 9,   -999.0, 9,   3.6682,   -999.0, 9, -999.000, 9
318MHYDROS4, A16C, 335, 1, 16, 16, 2, 19890328, 0325, -19.7500, -25.0083, 5564,  -999.00,   1439.3,   3.7295,  34.8359, 2,  34.8363, 2,   -999.0, 9,    211.8, 2,    32.41, 2,    25.35, 2,     0.00, 2,     1.71, 2, -999.000, 9, -999.000, 9,   -999.0, 9,   -999.0, 9,   -999.0, 9,   3.6181,   -999.0, 9, -999.000, 9
318MHYDROS4, A16C, 335, 1, 17, 17, 2, 19890328, 0325, -19.7500, -25.0083, 5564,  -999.00,   1644.8,   3.5655,  34.8977, 2,  34.8979, 2,   -999.0, 9,    230.6, 2,    29.13, 2,    22.84, 2,     0.00, 2,     1.53, 2, -999.000, 9, -999.000, 9,   2197.2, 2,   -999.0, 9,   -999.0, 9,   3.4375,   -999.0, 9, -999.000, 9
318MHYDROS4, A16C, 335, 1, 18, 18, 2, 19890328, 0325, -19.7500, -25.0083, 5564,  -999.00,   1851.0,   3.4274,  34.9324, 2,  34.9339, 2,   -999.0, 9,    245.1, 2,    26.23, 2,    21.02, 2,     0.00, 2,     1.40, 2, -999.000, 9, -999.000, 9,   -999.0, 9,   -999.0, 9,   -999.0, 9,   3.2823,   -999.0, 9, -999.000, 9
318MHYDROS4, A16C, 335, 1, 19, 19, 2, 19890328, 0325, -19.7500, -25.0083, 5564,  -999.00,   2057.6,   3.2499,  34.9390, 2,  34.9396, 2,   -999.0, 9,    250.5, 2,    26.41, 2,    20.40, 2,     0.00, 2,     1.37, 2, -999.000, 9, -999.000, 9,   2174.1, 2,   -999.0, 9,   -999.0, 9,   3.0882,   -999.0, 9, -999.000, 9
318MHYDROS4, A16C, 335, 1, 20, 20, 2, 19890328, 0325, -19.7500, -25.0083, 5564,  -999.00,   2263.6,   3.1122,  34.9363, 2,  34.9378, 2,   -999.0, 9,    251.9, 2,    28.12, 2,    20.26, 2,     0.00, 2,     1.36, 2, -999.000, 9, -999.000, 9,   -999.0, 9,   -999.0, 9,   -999.0, 9,   2.9333,   -999.0, 9, -999.000, 9
318MHYDROS4, A16C, 335, 1, 21, 21, 2, 19890328, 0325, -19.7500, -25.0083, 5564,  -999.00,   2521.9,   2.9503,  34.9287, 2,  34.9298, 2,   -999.0, 9,    252.1, 2,    30.99, 2,    20.55, 2,     0.00, 2,     1.37, 2, -999.000, 9, -999.000, 9,   2170.8, 2,   -999.0, 9,   -999.0, 9,   2.7492,   -999.0, 9, -999.000, 9
318MHYDROS4, A16C, 335, 1, 22, 22, 2, 19890328, 0325, -19.7500, -25.0083, 5564,  -999.00,   2779.8,   2.8002,  34.9204, 2,  34.9211, 2,   -999.0, 9,    252.0, 2,    33.66, 2,    20.72, 2,     0.00, 2,     1.39, 2, -999.000, 9, -999.000, 9,   -999.0, 9,   -999.0, 9,   -999.0, 9,   2.5763,   -999.0, 9, -999.000, 9
318MHYDROS4, A16C, 335, 1, 23, 23, 2, 19890328, 0325, -19.7500, -25.0083, 5564,  -999.00,   3037.7,   2.6779,  34.9141, 2,  34.9152, 2,   -999.0, 9,    253.0, 2,    35.56, 2,    20.74, 2,     0.00, 2,     1.39, 2, -999.000, 9, -999.000, 9,   2172.5, 2,   -999.0, 9,   -999.0, 9,   2.4303,   -999.0, 9, -999.000, 9
318MHYDROS4, A16C, 335, 1, 24, 24, 2, 19890328, 0325, -19.7500, -25.0083, 5564,  -999.00,   3295.6,   2.5492,  34.9047, 2,  34.9052, 2,   -999.0, 9,    253.1, 2,    38.04, 2,    20.91, 2,     0.00, 2,     1.42, 2, -999.000, 9, -999.000, 9,   -999.0, 9,   -999.0, 9,   -999.0, 9,   2.2775,   -999.0, 9, -999.000, 9
318MHYDROS4, A16C, 335, 1, 25, 25, 2, 19890328, 0325, -19.7500, -25.0083, 5564,  -999.00,   3502.3,   2.3705,  34.8883, 2,  34.8909, 2,   -999.0, 9,    252.7, 2,    44.36, 2,    21.62, 2,     0.00, 2,     1.46, 2, -999.000, 9, -999.000, 9,   2168.8, 2,   -999.0, 9,   -999.0, 9,   2.0812,   -999.0, 9, -999.000, 9
318MHYDROS4, A16C, 335, 1, 26, 26, 2, 19890328, 0325, -19.7500, -25.0083, 5564,  -999.00,   3710.0,   2.1347,  34.8644, 2,  34.8645, 2,   -999.0, 9,    248.3, 2,    53.56, 2,    22.90, 2,     0.00, 2,     1.54, 2, -999.000, 9, -999.000, 9,   -999.0, 9,   -999.0, 9,   -999.0, 9,   1.8290,   -999.0, 9, -999.000, 9
318MHYDROS4, A16C, 335, 1, 27, 27, 2, 19890328, 0325, -19.7500, -25.0083, 5564,  -999.00,   3918.2,   1.8859,  34.8382, 2,  34.8394, 2,   -999.0, 9,    245.1, 2,    63.33, 2,    24.09, 2,     0.00, 2,     1.65, 2, -999.000, 9, -999.000, 9,   2175.3, 2,   -999.0, 9,   -999.0, 9,   1.5643,   -999.0, 9, -999.000, 9
318MHYDROS4, A16C, 335, 1, 28, 28, 2, 19890328, 0325, -19.7500, -25.0083, 5564,  -999.00,   4126.4,   1.5749,  34.8049, 2,  34.8052, 2,   -999.0, 9,    238.9, 2,    77.13, 2,    25.92, 2,     0.00, 2,     1.78, 2, -999.000, 9, -999.000, 9,   -999.0, 9,   -999.0, 9,   -999.0, 9,   1.2392,   -999.0, 9, -999.000, 9
318MHYDROS4, A16C, 335, 1, 29, 29, 2, 19890328, 0325, -19.7500, -25.0083, 5564,  -999.00,   4335.2,   1.2971,  34.7753, 2,  34.7769, 2,   -999.0, 9,    234.6, 2,    88.81, 2,    27.49, 2,     0.00, 2,     1.89, 2, -999.000, 9, -999.000, 9,   2193.4, 2,   -999.0, 9,   -999.0, 9,   0.9465,   -999.0, 9, -999.000, 9
318MHYDROS4, A16C, 335, 1, 30, 30, 2, 19890328, 0325, -19.7500, -25.0083, 5564,  -999.00,   4542.9,   1.0925,  34.7533, 2,  34.7560, 2,   -999.0, 9,    231.6, 2,    97.04, 2,    28.63, 2,     0.00, 2,     1.97, 2, -999.000, 9, -999.000, 9,   -999.0, 9,   -999.0, 9,   -999.0, 9,   0.7249,   -999.0, 9, -999.000, 9
318MHYDROS4, A16C, 335, 1, 31, 31, 2, 19890328, 0325, -19.7500, -25.0083, 5564,  -999.00,   4750.9,   0.9544,  34.7374, 2,  34.7376, 2,   -999.0, 9,    228.7, 2,   103.93, 2,    29.51, 2,     0.00, 2,     2.03, 2, -999.000, 9, -999.000, 9,   2220.9, 2,   -999.0, 9,   -999.0, 9,   0.5675,   -999.0, 9, -999.000, 9
318MHYDROS4, A16C, 335, 1, 32, 32, 2, 19890328, 0325, -19.7500, -25.0083, 5564,  -999.00,   4959.0,   0.8568,  34.7254, 2,  34.7260, 2,   -999.0, 9,    227.1, 2,   107.74, 2,    30.13, 2,     0.00, 2,     2.08, 2, -999.000, 9, -999.000, 9,   -999.0, 9,   -999.0, 9,   -999.0, 9,   0.4490,   -999.0, 9, -999.000, 9
318MHYDROS4, A16C, 335, 1, 33, 33, 2, 19890328, 0325, -19.7500, -25.0083, 5564,  -999.00,   5166.9,   0.7737,  34.7147, 2,  34.7152, 2,   -999.0, 9,    225.9, 2,   111.94, 2,    30.67, 2,     0.00, 2,     2.11, 2, -999.000, 9, -999.000, 9,   2239.4, 2,   -999.0, 9,   -999.0, 9,   0.3441,   -999.0, 9, -999.000, 9
318MHYDROS4, A16C, 335, 1, 34, 34, 2, 19890328, 0325, -19.7500, -25.0083, 5564,  -999.00,   5376.1,   0.7211,  34.7072, 2,  34.7079, 2,   -999.0, 9,    224.7, 2,   113.64, 2,    30.95, 2,     0.00, 2,     2.14, 2, -999.000, 9,    0.006, 2,   -999.0, 9,   -999.0, 9,   -999.0, 9,   0.2682,   -999.0, 9, -999.000, 9
318MHYDROS4, A16C, 335, 1, 35, 35, 2, 19890328, 0325, -19.7500, -25.0083, 5564,  -999.00,   5586.2,   0.6961,  34.7019, 2,  34.7014, 2,   -999.0, 9,    223.9, 2,   115.92, 2,    31.32, 2,     0.00, 2,     2.16, 2,    0.010, 2,    0.009, 2,   2247.7, 2,   -999.0, 9,   -999.0, 9,   0.2183,   5584.5, 2,    0.689, 2
318MHYDROS4, A16C, 335, 1, 36, 36, 2, 19890328, 0325, -19.7500, -25.0083, 5564,  -999.00,   5709.5,   0.6801,  34.6991, 2,  34.6987, 2,   -999.0, 9,    223.5, 2,   118.01, 2,    31.47, 2,     0.00, 2,     2.17, 2,    0.009, 2,    0.003, 2,   2247.6, 2,   -999.0, 9,   -999.0, 9,   0.1874,   -999.0, 9, -999.000, 9