BOTTLE,20110318CCHDOSIODM
EXPOCODE,SECT_ID,STNNBR,CASTNO,SAMPNO,BTLNBR,BTLNBR_FLAG_W,DATE,TIME,LATITUDE,LONGITUDE,DEPTH,CTDRAW,CTDPRS,CTDTMP,CTDSAL,CTDSAL_FLAG_W,SALNTY,SALNTY_FLAG_W,CTDOXY,CTDOXY_FLAG_W,OXYGEN,OXYGEN_FLAG_W,SILCAT,SILCAT_FLAG_W,NITRAT,NITRAT_FLAG_W,NITRIT,NITRIT_FLAG_W,PHSPHT,PHSPHT_FLAG_W,CFC-11,CFC-11_FLAG_W,CFC-12,CFC-12_FLAG_W,TCARBN,TCARBN_FLAG_W,ALKALI,ALKALI_FLAG_W,PCO2,PCO2_FLAG_W,THETA,REVPRS,REVPRS_FLAG_W,REVTMP,REVTMP_FLAG_W
,,,,,,,,,,,METERS,DBAR,DBAR,ITS-90,PSS-78,,PSS-78,,UMOL/KG,,UMOL/KG,,UMOL/KG,,UMOL/KG,,UMOL/KG,,UMOL/KG,,PMOL/KG,,PMOL/KG,,UMOL/KG,,UMOL/KG,,UATM,,DEG C,DBAR,,ITS-90,
318MHYDROS4, A16C, 315, 1, 2, 2, 2, 19890321, 1304, -31.3917, -24.9983, 4566,  -999.00,      5.9,  23.3234,  35.9192, 2,  35.9200, 2,   -999.0, 9,    218.4, 2,     1.46, 2,     0.00, 2,     0.00, 2,     0.09, 2, -999.000, 9, -999.000, 9,   2028.0, 2,   2354.1, 2,    314.7, 2,  23.3222,   -999.0, 9, -999.000, 9
318MHYDROS4, A16C, 315, 1, 1, 1, 2, 19890321, 1304, -31.3917, -24.9983, 4566,  -999.00,      6.0,  23.3232,  35.9190, 2, -999.0000, 9,   -999.0, 9,   -999.0, 9,  -999.00, 9,  -999.00, 9,  -999.00, 9,  -999.00, 9, -999.000, 9, -999.000, 9,   -999.0, 9,   -999.0, 9,   -999.0, 9,  23.3220,   -999.0, 9, -999.000, 9
318MHYDROS4, A16C, 315, 1, 3, 3, 2, 19890321, 1304, -31.3917, -24.9983, 4566,  -999.00,     29.7,  23.2517,  35.9349, 2,  35.9370, 2,   -999.0, 9,    218.8, 2,     1.46, 2,     0.00, 2,     0.00, 2,     0.07, 2, -999.000, 9, -999.000, 9,   2022.5, 2,   2353.7, 2,    307.4, 2,  23.2456,   -999.0, 9, -999.000, 9
318MHYDROS4, A16C, 315, 1, 71, 71, 2, 19890321, 1304, -31.3917, -24.9983, 4566,  -999.00,     60.5,  19.7297,  36.0752, 2,  36.0730, 2,   -999.0, 9,    236.9, 2,     1.56, 2,     0.00, 2,     0.00, 2,     0.12, 2,    2.091, 2,    1.047, 2,   2069.4, 2,   -999.0, 9,   -999.0, 9,  19.7186,   -999.0, 9, -999.000, 9
318MHYDROS4, A16C, 315, 1, 5, 5, 2, 19890321, 1304, -31.3917, -24.9983, 4566,  -999.00,     96.3,  17.4133,  35.7711, 2,  35.7670, 2,   -999.0, 9,    226.8, 2,     1.56, 2,     0.00, 2,     0.08, 2,     0.19, 2, -999.000, 9, -999.000, 9,   -999.0, 9,   -999.0, 9,   -999.0, 9,  17.3971,   -999.0, 9, -999.000, 9
318MHYDROS4, A16C, 315, 1, 6, 6, 2, 19890321, 1304, -31.3917, -24.9983, 4566,  -999.00,    147.4,  15.6714,  35.5131, 2,  35.5100, 2,   -999.0, 9,    213.7, 2,     2.74, 2,     3.32, 2,     0.01, 2,     0.43, 2,    2.109, 2,    1.060, 2,   -999.0, 9,   -999.0, 9,   -999.0, 9,  15.6483,   -999.0, 9, -999.000, 9
318MHYDROS4, A16C, 315, 1, 7, 7, 2, 19890321, 1304, -31.3917, -24.9983, 4566,  -999.00,    198.4,  14.4081,  35.3502, 2,  35.3500, 2,   -999.0, 9,    212.3, 2,     3.13, 2,     5.96, 2,     0.00, 2,     0.65, 2, -999.000, 9, -999.000, 9,   -999.0, 9,   -999.0, 9,   -999.0, 9,  14.3788,   -999.0, 9, -999.000, 9
318MHYDROS4, A16C, 315, 1, 8, 8, 2, 19890321, 1304, -31.3917, -24.9983, 4566,  -999.00,    249.1,  14.1485,  35.4144, 2,  35.4110, 2,   -999.0, 9,    220.1, 2,     2.74, 2,     5.86, 2,     0.00, 2,     0.54, 2,    2.181, 2,    1.088, 2,   2095.8, 2,   -999.0, 9,   -999.0, 9,  14.1121,   -999.0, 9, -999.000, 9
318MHYDROS4, A16C, 315, 1, 9, 9, 2, 19890321, 1304, -31.3917, -24.9983, 4566,  -999.00,    299.7,  13.5145,  35.3277, 2,  35.3230, 2,   -999.0, 9,    223.6, 2,     2.74, 2,     6.74, 2,     0.00, 2,     0.60, 2,    2.205, 2,    1.089, 2,   -999.0, 9,   -999.0, 9,   -999.0, 9,  13.4719,   -999.0, 9, -999.000, 9
318MHYDROS4, A16C, 315, 1, 10, 10, 2, 19890321, 1304, -31.3917, -24.9983, 4566,  -999.00,    371.5,  12.3897,  35.1510, 2,  35.1500, 2,   -999.0, 9,    223.2, 2,     3.32, 2,     9.18, 2,     0.00, 2,     0.75, 2, -999.000, 9, -999.000, 9,   2102.4, 2,   -999.0, 9,   -999.0, 9,  12.3398,   -999.0, 9, -999.000, 9
318MHYDROS4, A16C, 315, 1, 11, 11, 2, 19890321, 1304, -31.3917, -24.9983, 4566,  -999.00,    412.3,  11.6979,  35.0396, 2,  35.0370, 2,   -999.0, 9,    213.6, 2,     4.49, 2,    12.12, 2,     0.00, 2,     0.91, 2,    1.892, 2,    0.923, 2,   2129.6, 2,   -999.0, 9,   -999.0, 9,  11.6445,   -999.0, 9, -999.000, 9
318MHYDROS4, A16C, 315, 1, 12, 12, 2, 19890321, 1304, -31.3917, -24.9983, 4566,  -999.00,    545.4,   8.7447,  34.6539, 2,  34.6560, 2,   -999.0, 9,    211.8, 2,     8.60, 2,    19.84, 2,     0.00, 2,     1.38, 2,    1.614, 2,    0.773, 2,   2141.1, 2,   -999.0, 9,   -999.0, 9,   8.6855,   -999.0, 9, -999.000, 9
318MHYDROS4, A16C, 315, 1, 13, 13, 2, 19890321, 1304, -31.3917, -24.9983, 4566,  -999.00,    637.4,   6.8117,  34.4536, 2,  34.4530, 2,   -999.0, 9,    217.9, 2,    12.51, 2,    23.85, 2,     0.00, 2,     1.64, 2,    1.412, 2,    0.683, 2,   2149.9, 2,   -999.0, 9,   -999.0, 9,   6.7515,   -999.0, 9, -999.000, 9
318MHYDROS4, A16C, 315, 1, 14, 14, 2, 19890321, 1304, -31.3917, -24.9983, 4566,  -999.00,    744.9,   5.1887,  34.3234, 2,  34.3220, 2,   -999.0, 9,    229.1, 2,    17.21, 2,    26.89, 2,     0.00, 2,     1.84, 2,    1.231, 2,    0.579, 2,   2161.0, 2,   -999.0, 9,   -999.0, 9,   5.1272,   -999.0, 9, -999.000, 9
318MHYDROS4, A16C, 315, 1, 15, 15, 2, 19890321, 1304, -31.3917, -24.9983, 4566,  -999.00,    846.7,   4.3008,  34.2665, 2,  34.2650, 2,   -999.0, 9,    237.8, 2,    21.12, 2,    28.26, 2,     0.00, 2,     1.94, 2,    1.268, 2,    0.598, 2,   2172.2, 2,   -999.0, 9,   -999.0, 9,   4.2361,   -999.0, 9, -999.000, 9
318MHYDROS4, A16C, 315, 1, 16, 16, 2, 19890321, 1304, -31.3917, -24.9983, 4566,  -999.00,    949.2,   3.7863,  34.2728, 2,  34.2700, 2,   -999.0, 9,    229.1, 2,    27.57, 2,    30.21, 2,     0.00, 2,     2.05, 2,    0.832, 2,    0.410, 2,   2189.6, 2,   -999.0, 9,   -999.0, 9,   3.7168,   -999.0, 9, -999.000, 9
318MHYDROS4, A16C, 315, 1, 17, 17, 2, 19890321, 1304, -31.3917, -24.9983, 4566,  -999.00,   1046.8,   3.3570,  34.2994, 2,  34.2980, 2,   -999.0, 9,    220.0, 2,    35.39, 2,    31.68, 2,     0.00, 2,     2.17, 2,    0.606, 2,    0.301, 2,   2199.9, 2,   -999.0, 9,   -999.0, 9,   3.2830,   -999.0, 9, -999.000, 9
318MHYDROS4, A16C, 315, 1, 18, 18, 2, 19890321, 1304, -31.3917, -24.9983, 4566,  -999.00,   1149.0,   3.0917,  34.3627, 2,  34.3610, 2,   -999.0, 9,    205.2, 2,    44.39, 2,    32.95, 2,     0.00, 2,     2.27, 2,    0.325, 2,    0.167, 2,   -999.0, 9,   -999.0, 9,   -999.0, 9,   3.0118,   -999.0, 9, -999.000, 9
318MHYDROS4, A16C, 315, 1, 19, 19, 2, 19890321, 1304, -31.3917, -24.9983, 4566,  -999.00,   1251.5,   2.9761,  34.4406, 2,  34.4390, 2,   -999.0, 9,    193.9, 2,    51.62, 2,    33.24, 2,     0.00, 2,     2.28, 2, -999.000, 9, -999.000, 9,   2217.5, 2,   -999.0, 9,   -999.0, 9,   2.8891,   -999.0, 9, -999.000, 9
318MHYDROS4, A16C, 315, 1, 20, 20, 2, 19890321, 1304, -31.3917, -24.9983, 4566,  -999.00,   1394.6,   2.8668,  34.5405, 2,  34.5400, 2,   -999.0, 9,    189.5, 2,    56.31, 2,    32.65, 2,     0.00, 2,     2.25, 2, -999.000, 9, -999.000, 9,   2224.5, 2,   -999.0, 9,   -999.0, 9,   2.7692,   -999.0, 9, -999.000, 9
318MHYDROS4, A16C, 315, 1, 21, 21, 2, 19890321, 1304, -31.3917, -24.9983, 4566,  -999.00,   1600.8,   2.8008,  34.6438, 2,  34.6440, 2,   -999.0, 9,    192.1, 2,    57.67, 2,    31.08, 2,     0.00, 2,     2.12, 2, -999.000, 9, -999.000, 9,   2225.2, 2,   -999.0, 9,   -999.0, 9,   2.6867,   -999.0, 9, -999.000, 9
318MHYDROS4, A16C, 315, 1, 22, 22, 2, 19890321, 1304, -31.3917, -24.9983, 4566,  -999.00,   1795.1,   2.7883,  34.7371, 2,  34.7360, 2,   -999.0, 9,    204.7, 2,    55.32, 2,    28.83, 2,     0.00, 2,     1.93, 2, -999.000, 9, -999.000, 9,   2221.9, 2,   -999.0, 9,   -999.0, 9,   2.6576,   -999.0, 9, -999.000, 9
318MHYDROS4, A16C, 315, 1, 23, 23, 2, 19890321, 1304, -31.3917, -24.9983, 4566,  -999.00,   2024.7,   2.7525,  34.7997, 2,  34.7990, 2,   -999.0, 9,    216.8, 2,    50.33, 2,    26.78, 2,     0.00, 2,     1.79, 2, -999.000, 9, -999.000, 9,   -999.0, 9,   -999.0, 9,   -999.0, 9,   2.6019,   -999.0, 9, -999.000, 9
318MHYDROS4, A16C, 315, 1, 24, 24, 2, 19890321, 1304, -31.3917, -24.9983, 4566,  -999.00,   2212.8,   2.6894,  34.8285, 2,  34.8260, 2,   -999.0, 9,    225.9, 2,    48.96, 2,    25.41, 2,     0.00, 2,     1.72, 2, -999.000, 9, -999.000, 9,   2205.6, 2,   -999.0, 9,   -999.0, 9,   2.5226,   -999.0, 9, -999.000, 9
318MHYDROS4, A16C, 315, 1, 25, 25, 2, 19890321, 1304, -31.3917, -24.9983, 4566,  -999.00,   2412.0,   2.7170,  34.8603, 2,  34.8600, 2,   -999.0, 9,    234.6, 2,    44.17, 2,    24.04, 2,     0.00, 2,     1.61, 2, -999.000, 9, -999.000, 9,   -999.0, 9,   -999.0, 9,   -999.0, 9,   2.5310,   -999.0, 9, -999.000, 9
318MHYDROS4, A16C, 315, 1, 26, 26, 2, 19890321, 1304, -31.3917, -24.9983, 4566,  -999.00,   2608.9,   2.7257,  34.8819, 2,  34.8800, 2,   -999.0, 9,    241.1, 2,    41.05, 2,    22.97, 2,     0.00, 2,     1.53, 2, -999.000, 9, -999.000, 9,   2188.3, 2,   -999.0, 9,   -999.0, 9,   2.5205,   -999.0, 9, -999.000, 9
318MHYDROS4, A16C, 315, 1, 27, 27, 2, 19890321, 1304, -31.3917, -24.9983, 4566,  -999.00,   2810.8,   2.7051,  34.8954, 2,  34.8950, 2,   -999.0, 9,    245.9, 2,    38.90, 2,    22.18, 2,     0.00, 2,     1.49, 2, -999.000, 9, -999.000, 9,   -999.0, 9,   -999.0, 9,   -999.0, 9,   2.4802,   -999.0, 9, -999.000, 9
318MHYDROS4, A16C, 315, 1, 28, 28, 2, 19890321, 1304, -31.3917, -24.9983, 4566,  -999.00,   3006.4,   2.6406,  34.8987, 2,  34.8970, 2,   -999.0, 9,    248.1, 2,    39.29, 2,    21.99, 2,     0.00, 2,     1.47, 2, -999.000, 9, -999.000, 9,   2179.3, 2,   -999.0, 9,   -999.0, 9,   2.3971,   -999.0, 9, -999.000, 9
318MHYDROS4, A16C, 315, 1, 29, 29, 2, 19890321, 1304, -31.3917, -24.9983, 4566,  -999.00,   3201.7,   2.5023,  34.8894, 2,  34.8890, 2,   -999.0, 9,   -999.0, 9,    43.10, 2,    22.38, 2,     0.00, 2,     1.48, 2, -999.000, 9, -999.000, 9,   2178.1, 2,   -999.0, 9,   -999.0, 9,   2.2417,   -999.0, 9, -999.000, 9
318MHYDROS4, A16C, 315, 1, 30, 30, 2, 19890321, 1304, -31.3917, -24.9983, 4566,  -999.00,   3394.6,   2.3225,  34.8753, 2,  34.8740, 2,   -999.0, 9,    246.4, 2,    48.96, 2,    22.77, 2,     0.00, 2,     1.51, 2, -999.000, 9, -999.000, 9,   2179.0, 2,   -999.0, 9,   -999.0, 9,   2.0459,   -999.0, 9, -999.000, 9
318MHYDROS4, A16C, 315, 1, 31, 31, 2, 19890321, 1304, -31.3917, -24.9983, 4566,  -999.00,   3588.9,   2.0573,  34.8506, 2,  34.8490, 2,   -999.0, 9,    242.9, 2,    58.54, 2,    24.14, 2,     0.00, 2,     1.60, 2, -999.000, 9, -999.000, 9,   2187.3, 2,   -999.0, 9,   -999.0, 9,   1.7668,   -999.0, 9, -999.000, 9
318MHYDROS4, A16C, 315, 1, 32, 32, 2, 19890321, 1304, -31.3917, -24.9983, 4566,  -999.00,   3804.3,   1.7166,  34.8129, 2,  34.8120, 2,   -999.0, 9,    236.4, 2,    73.01, 2,    26.09, 2,     0.00, 2,     1.75, 2,    0.003, 2,    0.005, 2,   -999.0, 9,   -999.0, 9,   -999.0, 9,   1.4121,   -999.0, 9, -999.000, 9
318MHYDROS4, A16C, 315, 1, 33, 33, 2, 19890321, 1304, -31.3917, -24.9983, 4566,  -999.00,   4003.4,   1.4044,  34.7792, 2,  34.7790, 2,   -999.0, 9,    230.3, 2,    86.69, 2,    28.25, 2,     0.00, 2,     1.89, 2, -999.000, 9, -999.000, 9,   2215.6, 2,   -999.0, 9,   -999.0, 9,   1.0873,   -999.0, 9, -999.000, 9
318MHYDROS4, A16C, 315, 1, 34, 34, 2, 19890321, 1304, -31.3917, -24.9983, 4566,  -999.00,   4201.6,   1.2536,  34.7612, 2,  34.7600, 2,   -999.0, 9,    226.4, 2,    94.32, 2,    29.22, 2,     0.00, 2,     1.97, 2, -999.000, 9, -999.000, 9,   -999.0, 9,   -999.0, 9,   -999.0, 9,   0.9192,   -999.0, 9, -999.000, 9
318MHYDROS4, A16C, 315, 1, 35, 35, 2, 19890321, 1304, -31.3917, -24.9983, 4566,  -999.00,   4400.0,   1.1468,  34.7474, 2,  34.7460, 2,   -999.0, 9,    223.8, 2,   100.47, 2,    30.01, 2,     0.00, 2,     2.03, 2,    0.011, 2,    0.008, 2,   -999.0, 9,   -999.0, 9,   -999.0, 9,   0.7936,   4400.7, 2,    1.143, 2
318MHYDROS4, A16C, 315, 1, 36, 36, 2, 19890321, 1304, -31.3917, -24.9983, 4566,  -999.00,   4655.4,   1.0928,  34.7386, 2,  34.7370, 2,   -999.0, 9,    222.5, 2,   102.43, 2,    30.49, 2,     0.00, 2,     2.06, 2,    0.014, 2,    0.010, 2,   2234.7, 2,   -999.0, 9,   -999.0, 9,   0.7124,   -999.0, 9, -999.000, 9