BOTTLE,20110318CCHDOSIODM
EXPOCODE,SECT_ID,STNNBR,CASTNO,SAMPNO,BTLNBR,BTLNBR_FLAG_W,DATE,TIME,LATITUDE,LONGITUDE,DEPTH,CTDRAW,CTDPRS,CTDTMP,CTDSAL,CTDSAL_FLAG_W,SALNTY,SALNTY_FLAG_W,CTDOXY,CTDOXY_FLAG_W,OXYGEN,OXYGEN_FLAG_W,SILCAT,SILCAT_FLAG_W,NITRAT,NITRAT_FLAG_W,NITRIT,NITRIT_FLAG_W,PHSPHT,PHSPHT_FLAG_W,CFC-11,CFC-11_FLAG_W,CFC-12,CFC-12_FLAG_W,TCARBN,TCARBN_FLAG_W,ALKALI,ALKALI_FLAG_W,PCO2,PCO2_FLAG_W,THETA,REVPRS,REVPRS_FLAG_W,REVTMP,REVTMP_FLAG_W
,,,,,,,,,,,METERS,DBAR,DBAR,ITS-90,PSS-78,,PSS-78,,UMOL/KG,,UMOL/KG,,UMOL/KG,,UMOL/KG,,UMOL/KG,,UMOL/KG,,PMOL/KG,,PMOL/KG,,UMOL/KG,,UMOL/KG,,UATM,,DEG C,DBAR,,ITS-90,
318MHYDROS4, A16C, 322, 1, 1, 1, 2, 19890324, 0005, -27.2933, -24.9883, 4828,  -999.00,      1.9,  25.3399,  36.3029, 2,  36.3070, 2,   -999.0, 9,    208.4, 2,     0.88, 2,     0.00, 2,     0.00, 2,     0.06, 2,    1.680, 2,    0.848, 2,   2034.8, 2,   -999.0, 9,   -999.0, 9,  25.3395,   -999.0, 9, -999.000, 9
318MHYDROS4, A16C, 322, 1, 2, 2, 2, 19890324, 0005, -27.2933, -24.9883, 4828,  -999.00,     35.7,  25.2884,  36.3663, 2,  36.3710, 2,   -999.0, 9,    213.2, 2,     0.88, 2,     0.00, 2,     0.00, 2,     0.06, 2, -999.000, 9, -999.000, 9,   2037.5, 2,   2384.1, 2,    298.1, 2,  25.2805,   -999.0, 9, -999.000, 9
318MHYDROS4, A16C, 322, 1, 3, 3, 2, 19890324, 0005, -27.2933, -24.9883, 4828,  -999.00,     66.3,  20.6027,  36.2565, 2,  36.2380, 2,   -999.0, 9,    235.6, 2,     1.07, 2,     0.00, 2,     0.00, 2,     0.12, 2,    2.054, 2,    1.040, 2,   -999.0, 9,   -999.0, 9,   -999.0, 9,  20.5901,   -999.0, 9, -999.000, 9
318MHYDROS4, A16C, 322, 1, 71, 71, 2, 19890324, 0005, -27.2933, -24.9883, 4828,  -999.00,    107.4,  18.6683,  35.9876, 2,  35.9810, 2,   -999.0, 9,    224.2, 2,     1.46, 2,     0.00, 2,     0.05, 2,     0.18, 2,    2.105, 2,    1.042, 2,   2061.6, 2,   2361.6, 2,    358.8, 2,  18.6493,   -999.0, 9, -999.000, 9
318MHYDROS4, A16C, 322, 1, 5, 5, 2, 19890324, 0005, -27.2933, -24.9883, 4828,  -999.00,    158.7,  17.0449,  35.7307, 2,  35.7210, 2,   -999.0, 9,    218.9, 2,     1.47, 2,     0.88, 2,     0.02, 2,     0.27, 2, -999.000, 9, -999.000, 9,   -999.0, 9,   -999.0, 9,   -999.0, 9,  17.0185,   -999.0, 9, -999.000, 9
318MHYDROS4, A16C, 322, 1, 6, 6, 2, 19890324, 0005, -27.2933, -24.9883, 4828,  -999.00,    209.7,  15.8179,  35.5405, 2,  35.5370, 2,   -999.0, 9,    214.5, 2,     2.05, 2,     3.03, 2,     0.01, 2,     0.40, 2,    2.140, 2,    1.056, 2,   2072.9, 2,   2328.9, 2,    429.3, 2,  15.7848,   -999.0, 9, -999.000, 9
318MHYDROS4, A16C, 322, 1, 7, 7, 2, 19890324, 0005, -27.2933, -24.9883, 4828,  -999.00,    260.5,  14.7338,  35.4396, 2,  35.4370, 2,   -999.0, 9,    221.5, 2,     2.05, 2,     4.10, 2,     0.00, 2,     0.46, 2, -999.000, 9, -999.000, 9,   -999.0, 9,   -999.0, 9,   -999.0, 9,  14.6946,   -999.0, 9, -999.000, 9
318MHYDROS4, A16C, 322, 1, 8, 8, 2, 19890324, 0005, -27.2933, -24.9883, 4828,  -999.00,    311.5,  13.8535,  35.3194, 2,  35.3230, 2,   -999.0, 9,    214.1, 2,     2.83, 2,     6.84, 2,     0.00, 2,     0.62, 2,    2.004, 2,    0.984, 2,   2086.6, 2,   2320.8, 2,    476.0, 2,  13.8085,   -999.0, 9, -999.000, 9
318MHYDROS4, A16C, 322, 1, 9, 9, 2, 19890324, 0005, -27.2933, -24.9883, 4828,  -999.00,    413.4,  12.1223,  35.0783, 2,  35.0810, 2,   -999.0, 9,    206.6, 2,     4.79, 2,    11.63, 2,     0.00, 2,     0.91, 2,    1.728, 2,    0.836, 2,   2109.2, 2,   2315.8, 2,    549.6, 2,  12.0674,   -999.0, 9, -999.000, 9
318MHYDROS4, A16C, 322, 1, 10, 10, 2, 19890324, 0005, -27.2933, -24.9883, 4828,  -999.00,    515.3,  10.0208,  34.8104, 2,  34.8130, 2,   -999.0, 9,    204.0, 2,     7.33, 2,    17.01, 2,     0.00, 2,     1.22, 2,    1.518, 2,    0.728, 2,   2132.3, 2,   2308.7, 2,    648.9, 2,   9.9601,   -999.0, 9, -999.000, 9
318MHYDROS4, A16C, 322, 1, 11, 11, 2, 19890324, 0005, -27.2933, -24.9883, 4828,  -999.00,    617.9,   7.4115,  34.5288, 2,  34.5330, 2,   -999.0, 9,    205.7, 2,    13.00, 2,    23.75, 2,     0.00, 2,     1.63, 2,    1.152, 2,    0.556, 2,   2149.7, 2,   2293.9, 2,    782.8, 2,   7.3504,   -999.0, 9, -999.000, 9
318MHYDROS4, A16C, 322, 1, 12, 12, 2, 19890324, 0005, -27.2933, -24.9883, 4828,  -999.00,    720.2,   5.7804,  34.3924, 2,  34.3950, 2,   -999.0, 9,    211.7, 2,    18.48, 2,    27.08, 2,     0.00, 2,     1.86, 2,    0.929, 2,    0.430, 2,   2141.8, 2,   2274.0, 3,    835.5, 2,   5.7177,   -999.0, 9, -999.000, 9
318MHYDROS4, A16C, 322, 1, 13, 13, 2, 19890324, 0005, -27.2933, -24.9883, 4828,  -999.00,    822.7,   4.6436,  34.3307, 2,  34.3320, 2,   -999.0, 9,    215.6, 2,    24.54, 2,    29.33, 2,     0.00, 2,     2.01, 2,    0.746, 2,    0.354, 2,   2171.7, 2,   2297.6, 2,    886.5, 2,   4.5786,   -999.0, 9, -999.000, 9
318MHYDROS4, A16C, 322, 1, 14, 14, 2, 19890324, 0005, -27.2933, -24.9883, 4828,  -999.00,    924.9,   4.0038,  34.3456, 2,  34.3450, 2,   -999.0, 9,    204.8, 2,    34.12, 2,    31.48, 2,     0.00, 2,     2.16, 2,    0.408, 2,    0.204, 2,   2193.3, 2,   2308.0, 2,    966.4, 2,   3.9346,   -999.0, 9, -999.000, 9
318MHYDROS4, A16C, 322, 1, 15, 15, 2, 19890324, 0005, -27.2933, -24.9883, 4828,  -999.00,   1027.5,   3.6033,  34.3808, 2,  34.3800, 2,   -999.0, 9,    197.8, 2,    41.75, 2,    32.46, 2,     0.00, 2,     2.23, 2,    0.251, 2,    0.127, 2,   2204.8, 2,   2314.8, 2,   1004.9, 2,   3.5287,   -999.0, 9, -999.000, 9
318MHYDROS4, A16C, 322, 1, 16, 16, 2, 19890324, 0005, -27.2933, -24.9883, 4828,  -999.00,   1130.2,   3.3287,  34.4491, 2,  34.4470, 2,   -999.0, 9,    189.1, 2,    49.07, 2,    32.94, 2,     0.00, 2,     2.26, 2,    0.115, 2,    0.065, 2,   2214.1, 2,   2318.3, 2,   1051.3, 2,   3.2481,   -999.0, 9, -999.000, 9
318MHYDROS4, A16C, 322, 1, 17, 17, 2, 19890324, 0005, -27.2933, -24.9883, 4828,  -999.00,   1233.0,   3.1483,  34.5200, 2,  34.5180, 2,   -999.0, 9,    186.0, 2,    53.08, 2,    32.55, 2,     0.00, 2,     2.23, 2,    0.054, 2,    0.031, 2,   2226.6, 2,   2332.8, 2,   1048.3, 2,   3.0609,   -999.0, 9, -999.000, 9
318MHYDROS4, A16C, 322, 1, 18, 18, 2, 19890324, 0005, -27.2933, -24.9883, 4828,  -999.00,   1336.1,   3.0502,  34.5870, 2,  34.5880, 2,   -999.0, 9,    187.3, 2,    54.84, 2,    31.77, 2,     0.00, 2,     2.15, 2,    0.026, 2,    0.019, 2,   2219.8, 2,   2328.0, 2,   1031.6, 2,   2.9553,   -999.0, 9, -999.000, 9
318MHYDROS4, A16C, 322, 1, 19, 19, 2, 19890324, 0005, -27.2933, -24.9883, 4828,  -999.00,   1439.0,   2.9848,  34.6393, 2,  34.6400, 2,   -999.0, 9,    191.2, 2,    54.64, 2,    30.69, 2,     0.00, 2,     2.10, 2,    0.013, 2,    0.003, 2,   2221.4, 2,   2333.0, 2,   1011.7, 2,   2.8821,   -999.0, 9, -999.000, 9
318MHYDROS4, A16C, 322, 1, 20, 20, 2, 19890324, 0005, -27.2933, -24.9883, 4828,  -999.00,   1645.3,   2.9152,  34.7325, 2,  34.7330, 2,   -999.0, 9,    203.4, 2,    51.70, 2,    28.34, 2,     0.00, 2,     1.93, 2,    0.001, 2,    0.001, 2,   2212.9, 2,   2335.5, 2,    940.9, 2,   2.7957,   -999.0, 9, -999.000, 9
318MHYDROS4, A16C, 322, 1, 21, 21, 2, 19890324, 0005, -27.2933, -24.9883, 4828,  -999.00,   1851.1,   2.8464,  34.8039, 2,  34.8030, 2,   -999.0, 9,    218.6, 2,    47.60, 2,    25.90, 2,     0.00, 2,     1.75, 2,    0.000, 2,    0.000, 2,   2199.1, 2,   2332.8, 2,    872.2, 2,   2.7099,   -999.0, 9, -999.000, 9
318MHYDROS4, A16C, 322, 1, 22, 22, 2, 19890324, 0005, -27.2933, -24.9883, 4828,  -999.00,   2057.2,   2.8605,  34.8540, 2,  34.8540, 2,   -999.0, 9,    232.5, 2,    41.63, 2,    23.75, 2,     0.00, 2,     1.59, 2,    0.002, 2, -999.000, 9,   2173.2, 2,   2314.3, 3,    819.7, 2,   2.7052,   -999.0, 9, -999.000, 9
318MHYDROS4, A16C, 322, 1, 23, 23, 2, 19890324, 0005, -27.2933, -24.9883, 4828,  -999.00,   2264.2,   2.8761,  34.8889, 2,  34.8880, 2,   -999.0, 9,    241.1, 2,    36.94, 2,    22.18, 2,     0.00, 2,     1.50, 2,    0.001, 2,    0.000, 2,   2160.0, 2,   2307.9, 3,    780.9, 2,   2.7012,   -999.0, 9, -999.000, 9
318MHYDROS4, A16C, 322, 1, 24, 24, 2, 19890324, 0005, -27.2933, -24.9883, 4828,  -999.00,   2470.9,   2.8710,  34.9069, 2,  34.9070, 2,   -999.0, 9,    247.2, 2,    34.40, 2,    21.30, 2,     0.00, 2,     1.45, 2,    0.000, 2,    0.000, 2,   2173.5, 2,   2304.6, 3,    867.5, 2,   2.6764,   -999.0, 9, -999.000, 9
318MHYDROS4, A16C, 322, 1, 25, 25, 2, 19890324, 0005, -27.2933, -24.9883, 4828,  -999.00,   2677.9,   2.8149,  34.9151, 2,  34.9150, 2,   -999.0, 9,    250.3, 2,    34.40, 2,    20.82, 2,     0.00, 2,     1.40, 2, -999.000, 9, -999.000, 9,   2175.2, 2,   2330.7, 2,    755.6, 2,   2.6009,   -999.0, 9, -999.000, 9
318MHYDROS4, A16C, 322, 1, 26, 26, 2, 19890324, 0005, -27.2933, -24.9883, 4828,  -999.00,   2884.4,   2.7412,  34.9156, 2,  34.9140, 2,   -999.0, 9,    251.6, 2,    34.59, 2,    20.72, 2,     0.00, 2,     1.36, 2,    0.000, 2,    0.000, 2,   2175.7, 2,   2331.5, 2,    754.5, 2,   2.5080,   -999.0, 9, -999.000, 9
318MHYDROS4, A16C, 322, 1, 27, 27, 2, 19890324, 0005, -27.2933, -24.9883, 4828,  -999.00,   3091.8,   2.6298,  34.9102, 2,  34.9100, 2,   -999.0, 9,    252.9, 2,    36.84, 2,    20.72, 2,     0.00, 2,     1.39, 2, -999.000, 9, -999.000, 9,   2174.3, 2,   2330.9, 2,    751.0, 2,   2.3777,   -999.0, 9, -999.000, 9
318MHYDROS4, A16C, 322, 1, 28, 28, 2, 19890324, 0005, -27.2933, -24.9883, 4828,  -999.00,   3298.6,   2.4742,  34.8980, 2,  34.8980, 2,   -999.0, 9,    252.4, 2,    40.36, 2,    21.21, 2,     0.00, 2,     1.41, 2,    0.002, 2,    0.003, 2,   2179.9, 2,   2338.2, 2,    747.2, 2,   2.2041,   -999.0, 9, -999.000, 9
318MHYDROS4, A16C, 322, 1, 29, 29, 2, 19890324, 0005, -27.2933, -24.9883, 4828,  -999.00,   3505.9,   2.2862,  34.8793, 2,  34.8790, 2,   -999.0, 9,    249.8, 2,    47.79, 2,    22.09, 2,     0.00, 2,     1.48, 2, -999.000, 9, -999.000, 9,   2183.6, 2,   2336.2, 2,    774.4, 2,   1.9986,   -999.0, 9, -999.000, 9
318MHYDROS4, A16C, 322, 1, 30, 30, 2, 19890324, 0005, -27.2933, -24.9883, 4828,  -999.00,   3713.7,   2.0341,  34.8530, 2,  34.8530, 2,   -999.0, 9,    245.9, 2,    58.15, 2,    23.46, 2,     0.00, 2,     1.57, 2,    0.002, 2,    0.003, 2,   -999.0, 9,   -999.0, 9,    800.9, 2,   1.7307,   -999.0, 9, -999.000, 9
318MHYDROS4, A16C, 322, 1, 31, 31, 2, 19890324, 0005, -27.2933, -24.9883, 4828,  -999.00,   3922.0,   1.7435,  34.8217, 2,  34.8210, 2,   -999.0, 9,    240.7, 2,    70.86, 2,    25.21, 2,     0.00, 2,     1.70, 2, -999.000, 9, -999.000, 9,   2192.3, 2,   2332.2, 3,    841.1, 2,   1.4255,   -999.0, 9, -999.000, 9
318MHYDROS4, A16C, 322, 1, 32, 32, 2, 19890324, 0005, -27.2933, -24.9883, 4828,  -999.00,   4130.2,   1.4627,  34.7913, 2,  34.7920, 2,   -999.0, 9,    236.4, 2,    82.68, 2,    26.88, 2,     0.00, 2,     1.81, 2,    0.005, 2, -999.000, 9,   -999.0, 9,   -999.0, 9,    870.3, 2,   1.1299,   -999.0, 9, -999.000, 9
318MHYDROS4, A16C, 322, 1, 33, 33, 2, 19890324, 0005, -27.2933, -24.9883, 4828,  -999.00,   4338.7,   1.3077,  34.7749, 2,  34.7740, 2,   -999.0, 9,    232.9, 2,    88.94, 2,    27.76, 2,     0.00, 2,     1.88, 2,    0.001, 2,    0.000, 2,   2225.5, 2,   2358.9, 2,    895.7, 2,   0.9564,   -999.0, 9, -999.000, 9
318MHYDROS4, A16C, 322, 1, 34, 34, 2, 19890324, 0005, -27.2933, -24.9883, 4828,  -999.00,   4547.3,   1.1745,  34.7593, 2,  34.7580, 2,   -999.0, 9,    230.7, 2,    95.00, 2,    28.64, 2,     0.00, 2,     1.95, 2,    0.001, 2,    0.000, 2,   -999.0, 9,   -999.0, 9,    915.5, 2,   0.8038,   -999.0, 9, -999.000, 9
318MHYDROS4, A16C, 322, 1, 35, 35, 2, 19890324, 0005, -27.2933, -24.9883, 4828,  -999.00,   4755.4,   1.1145,  34.7515, 2,  34.7510, 2,   -999.0, 9,    229.8, 2,    98.42, 2,    29.03, 2,     0.00, 2,     1.96, 2,    0.000, 2,    0.000, 2,   2237.0, 2,   2365.5, 2,    930.3, 2,   0.7217,   4752.3, 2,    1.114, 2
318MHYDROS4, A16C, 322, 1, 36, 36, 2, 19890324, 0005, -27.2933, -24.9883, 4828,  -999.00,   4970.3,   1.0551,  34.7434, 2,  34.7420, 2,   -999.0, 9,    228.5, 2,   101.16, 2,    29.42, 2,     0.00, 2,     2.00, 2,    0.000, 2,    0.001, 2,   2241.3, 2,   2369.4, 2,    936.0, 2,   0.6391,   -999.0, 9, -999.000, 9