BOTTLE,20110318CCHDOSIODM
EXPOCODE,SECT_ID,STNNBR,CASTNO,SAMPNO,BTLNBR,BTLNBR_FLAG_W,DATE,TIME,LATITUDE,LONGITUDE,DEPTH,CTDRAW,CTDPRS,CTDTMP,CTDSAL,CTDSAL_FLAG_W,SALNTY,SALNTY_FLAG_W,CTDOXY,CTDOXY_FLAG_W,OXYGEN,OXYGEN_FLAG_W,SILCAT,SILCAT_FLAG_W,NITRAT,NITRAT_FLAG_W,NITRIT,NITRIT_FLAG_W,PHSPHT,PHSPHT_FLAG_W,CFC-11,CFC-11_FLAG_W,CFC-12,CFC-12_FLAG_W,TCARBN,TCARBN_FLAG_W,ALKALI,ALKALI_FLAG_W,PCO2,PCO2_FLAG_W,THETA,REVPRS,REVPRS_FLAG_W,REVTMP,REVTMP_FLAG_W
,,,,,,,,,,,METERS,DBAR,DBAR,ITS-90,PSS-78,,PSS-78,,UMOL/KG,,UMOL/KG,,UMOL/KG,,UMOL/KG,,UMOL/KG,,UMOL/KG,,PMOL/KG,,PMOL/KG,,UMOL/KG,,UMOL/KG,,UATM,,DEG C,DBAR,,ITS-90,
318MHYDROS4, A16C, 355, 1, 2, 2, 2, 19890403, 2229, -8.0683, -25.0050, 5682,  -999.00,     11.0,  28.3632,  36.4892, 2,  36.4919, 2,   -999.0, 9,    197.3, 2,     2.90, 2,     0.08, 2,     0.00, 2,     0.11, 2, -999.000, 9, -999.000, 9,   -999.0, 9,   -999.0, 9,   -999.0, 9,  28.3605,   -999.0, 9, -999.000, 9
318MHYDROS4, A16C, 355, 1, 1, 1, 2, 19890403, 2229, -8.0683, -25.0050, 5682,  -999.00,     11.0,  28.3632,  36.4892, 2,  36.4941, 2,   -999.0, 9,   -999.0, 9,     2.36, 2,     0.08, 2,     0.00, 2,     0.12, 2, -999.000, 9, -999.000, 9,   2029.1, 2,   2389.5, 2,    282.9, 2,  28.3605,   -999.0, 9, -999.000, 9
318MHYDROS4, A16C, 355, 1, 3, 3, 2, 19890403, 2229, -8.0683, -25.0050, 5682,  -999.00,     42.4,  28.2553,  36.5144, 2,  36.5153, 2,   -999.0, 9,    198.1, 2,     2.37, 2,     0.08, 2,     0.00, 2,     0.10, 2, -999.000, 9, -999.000, 9,   2054.0, 2,   -999.0, 9,   -999.0, 9,  28.2452,   -999.0, 9, -999.000, 9
318MHYDROS4, A16C, 355, 1, 71, 71, 2, 19890403, 2229, -8.0683, -25.0050, 5682,  -999.00,     69.0,  26.9393,  36.6859, 2,  36.7472, 2,   -999.0, 9,    212.4, 2,     2.19, 2,     0.08, 2,     0.00, 2,     0.07, 2, -999.000, 9, -999.000, 9,   2077.8, 2,   -999.0, 9,   -999.0, 9,  26.9234,   -999.0, 9, -999.000, 9
318MHYDROS4, A16C, 355, 1, 5, 5, 2, 19890403, 2229, -8.0683, -25.0050, 5682,  -999.00,     99.3,  23.9611,  36.9120, 2,  36.9068, 2,   -999.0, 9,    215.1, 2,     2.01, 2,     0.08, 2,     0.00, 2,     0.14, 2, -999.000, 9, -999.000, 9,   -999.0, 9,   -999.0, 9,   -999.0, 9,  23.9401,   -999.0, 9, -999.000, 9
318MHYDROS4, A16C, 355, 1, 6, 6, 2, 19890403, 2229, -8.0683, -25.0050, 5682,  -999.00,    130.9,  20.2238,  36.3032, 2,  36.2664, 2,   -999.0, 9,    159.0, 2,     3.27, 2,     5.50, 2,     0.17, 2,     0.63, 2, -999.000, 9, -999.000, 9,   2175.7, 2,   -999.0, 9,   -999.0, 9,  20.1992,   -999.0, 9, -999.000, 9
318MHYDROS4, A16C, 355, 1, 7, 7, 2, 19890403, 2229, -8.0683, -25.0050, 5682,  -999.00,    161.7,  16.3471,  35.7497, 2,  35.7118, 2,   -999.0, 9,    133.2, 2,     5.07, 2,    13.96, 2,     0.02, 2,     1.06, 2, -999.000, 9, -999.000, 9,   -999.0, 9,   -999.0, 9,   -999.0, 9,  16.3210,   -999.0, 9, -999.000, 9
318MHYDROS4, A16C, 355, 1, 8, 8, 2, 19890403, 2229, -8.0683, -25.0050, 5682,  -999.00,    212.6,  12.7102,  35.2446, 2,  35.2445, 2,   -999.0, 9,    108.8, 2,     8.65, 2,    22.48, 2,     0.00, 2,     1.51, 2, -999.000, 9, -999.000, 9,   2212.7, 2,   -999.0, 9,   -999.0, 9,  12.6813,   -999.0, 9, -999.000, 9
318MHYDROS4, A16C, 355, 1, 9, 9, 2, 19890403, 2229, -8.0683, -25.0050, 5682,  -999.00,    262.8,  10.1886,  34.9365, 2,  34.9535, 2,   -999.0, 9,    107.6, 2,    12.06, 2,    26.89, 2,     0.00, 2,     1.78, 2, -999.000, 9, -999.000, 9,   2223.3, 2,   -999.0, 9,   -999.0, 9,  10.1576,   -999.0, 9, -999.000, 9
318MHYDROS4, A16C, 355, 1, 10, 10, 2, 19890403, 2229, -8.0683, -25.0050, 5682,  -999.00,    313.8,   8.5220,  34.7563, 2,  34.7593, 2,   -999.0, 9,    105.7, 2,    16.00, 2,    31.06, 2,     0.00, 2,     2.03, 2, -999.000, 9, -999.000, 9,   2229.4, 2,   -999.0, 9,   -999.0, 9,   8.4889,   -999.0, 9, -999.000, 9
318MHYDROS4, A16C, 355, 1, 11, 11, 2, 19890403, 2229, -8.0683, -25.0050, 5682,  -999.00,    467.3,   6.8317,  34.5922, 2,  34.5960, 2,   -999.0, 9,    113.6, 2,    21.02, 2,    34.20, 2,     0.00, 2,     2.25, 2, -999.000, 9, -999.000, 9,   -999.0, 9,   -999.0, 9,   -999.0, 9,   6.7880,   -999.0, 9, -999.000, 9
318MHYDROS4, A16C, 355, 1, 12, 12, 2, 19890403, 2229, -8.0683, -25.0050, 5682,  -999.00,    620.1,   5.6192,  34.4952, 2,  34.4988, 2,   -999.0, 9,    136.9, 2,    25.31, 2,    34.46, 2,     0.00, 2,     2.32, 2, -999.000, 9, -999.000, 9,   2218.4, 2,   -999.0, 9,   -999.0, 9,   5.5663,   -999.0, 9, -999.000, 9
318MHYDROS4, A16C, 355, 1, 13, 13, 2, 19890403, 2229, -8.0683, -25.0050, 5682,  -999.00,    824.6,   4.4309,  34.4677, 2,  34.4681, 2,   -999.0, 9,    155.1, 2,    33.00, 2,    34.50, 2,     0.00, 2,     2.36, 2, -999.000, 9, -999.000, 9,   2217.0, 2,   -999.0, 9,   -999.0, 9,   4.3669,   -999.0, 9, -999.000, 9
318MHYDROS4, A16C, 355, 1, 14, 14, 2, 19890403, 2229, -8.0683, -25.0050, 5682,  -999.00,   1029.3,   4.0125,  34.5803, 2,  34.5788, 2,   -999.0, 9,    167.1, 2,    35.68, 2,    32.47, 2,     0.00, 2,     2.24, 2, -999.000, 9, -999.000, 9,   2202.2, 2,   -999.0, 9,   -999.0, 9,   3.9342,   -999.0, 9, -999.000, 9
318MHYDROS4, A16C, 355, 1, 15, 15, 2, 19890403, 2229, -8.0683, -25.0050, 5682,  -999.00,   1234.5,   4.1460,  34.7769, 2,  34.7735, 2,   -999.0, 9,    185.6, 2,    28.51, 2,    28.33, 2,     0.00, 2,     1.93, 2, -999.000, 9, -999.000, 9,   2183.1, 2,   -999.0, 9,   -999.0, 9,   4.0485,   -999.0, 9, -999.000, 9
318MHYDROS4, A16C, 355, 1, 16, 16, 2, 19890403, 2229, -8.0683, -25.0050, 5682,  -999.00,   1440.5,   4.1573,  34.8981, 2,  34.8960, 2,   -999.0, 9,    211.9, 2,    22.96, 2,    24.11, 2,     0.00, 2,     1.63, 2,    0.000, 2,    0.001, 2,   -999.0, 9,   -999.0, 9,   -999.0, 9,   4.0410,   -999.0, 9, -999.000, 9
318MHYDROS4, A16C, 355, 1, 17, 17, 2, 19890403, 2229, -8.0683, -25.0050, 5682,  -999.00,   1646.4,   3.8995,  34.9485, 2,  34.9497, 2,   -999.0, 9,    236.5, 2,    20.45, 2,    21.22, 2,     0.00, 2,     1.43, 2,    0.000, 2,    0.001, 2,   2166.2, 2,   -999.0, 9,   -999.0, 9,   3.7671,   -999.0, 9, -999.000, 9
318MHYDROS4, A16C, 355, 1, 18, 18, 2, 19890403, 2229, -8.0683, -25.0050, 5682,  -999.00,   1852.3,   3.5859,  34.9472, 2,  34.9482, 2,   -999.0, 9,    242.9, 2,    22.77, 2,    20.78, 2,     0.00, 2,     1.40, 2,    0.000, 2,    0.000, 2,   -999.0, 9,   -999.0, 9,   -999.0, 9,   3.4385,   -999.0, 9, -999.000, 9
318MHYDROS4, A16C, 355, 1, 19, 19, 2, 19890403, 2229, -8.0683, -25.0050, 5682,  -999.00,   2058.2,   3.2955,  34.9354, 2,  34.9365, 2,   -999.0, 9,    243.7, 2,    27.41, 2,    20.99, 2,     0.00, 2,     1.42, 2, -999.000, 9, -999.000, 9,   2177.8, 2,   -999.0, 9,   -999.0, 9,   3.1331,   -999.0, 9, -999.000, 9
318MHYDROS4, A16C, 355, 1, 20, 20, 2, 19890403, 2229, -8.0683, -25.0050, 5682,  -999.00,   2264.6,   3.0830,  34.9247, 2,  34.9255, 2,   -999.0, 9,    243.9, 2,    31.51, 2,    21.21, 2,     0.00, 2,     1.44, 2, -999.000, 9, -999.000, 9,   -999.0, 9,   -999.0, 9,   -999.0, 9,   2.9045,   -999.0, 9, -999.000, 9
318MHYDROS4, A16C, 355, 1, 21, 21, 2, 19890403, 2229, -8.0683, -25.0050, 5682,  -999.00,   2471.2,   2.9301,  34.9183, 2,  34.9186, 2,   -999.0, 9,    244.8, 2,    33.83, 2,    21.25, 2,     0.00, 2,     1.45, 2, -999.000, 9, -999.000, 9,   2184.9, 2,   -999.0, 9,   -999.0, 9,   2.7343,   -999.0, 9, -999.000, 9
318MHYDROS4, A16C, 355, 1, 22, 22, 2, 19890403, 2229, -8.0683, -25.0050, 5682,  -999.00,   2677.4,   2.7992,  34.9126, 2,  34.9133, 2,   -999.0, 9,    244.6, 2,    36.14, 2,    21.46, 2,     0.00, 2,     1.45, 2, -999.000, 9, -999.000, 9,   -999.0, 9,   -999.0, 9,   -999.0, 9,   2.5856,   -999.0, 9, -999.000, 9
318MHYDROS4, A16C, 355, 1, 23, 23, 2, 19890403, 2229, -8.0683, -25.0050, 5682,  -999.00,   2884.3,   2.7227,  34.9093, 2,  34.9101, 2,   -999.0, 9,    246.8, 2,    37.20, 2,    21.50, 2,     0.00, 2,     1.45, 2, -999.000, 9, -999.000, 9,   2181.8, 2,   -999.0, 9,   -999.0, 9,   2.4900,   -999.0, 9, -999.000, 9
318MHYDROS4, A16C, 355, 1, 24, 24, 2, 19890403, 2229, -8.0683, -25.0050, 5682,  -999.00,   3091.1,   2.6626,  34.9088, 2,  34.9094, 2,   -999.0, 9,    248.2, 2,    37.37, 2,    21.24, 2,     0.00, 2,     1.44, 2, -999.000, 9, -999.000, 9,   -999.0, 9,   -999.0, 9,   -999.0, 9,   2.4098,   -999.0, 9, -999.000, 9
318MHYDROS4, A16C, 355, 1, 25, 25, 2, 19890403, 2229, -8.0683, -25.0050, 5682,  -999.00,   3298.3,   2.5972,  34.9080, 2,  34.9103, 2,   -999.0, 9,    252.3, 2,    36.29, 2,    20.81, 2,     0.00, 2,     1.40, 2, -999.000, 9, -999.000, 9,   2179.8, 2,   -999.0, 9,   -999.0, 9,   2.3242,   -999.0, 9, -999.000, 9
318MHYDROS4, A16C, 355, 1, 26, 26, 2, 19890403, 2229, -8.0683, -25.0050, 5682,  -999.00,   3505.7,   2.5045,  34.9027, 2,  34.9031, 2,   -999.0, 9,    254.6, 2,    37.35, 2,    20.80, 2,     0.00, 2,     1.40, 2, -999.000, 9, -999.000, 9,   -999.0, 9,   -999.0, 9,   -999.0, 9,   2.2114,   -999.0, 9, -999.000, 9
318MHYDROS4, A16C, 355, 1, 27, 27, 2, 19890403, 2229, -8.0683, -25.0050, 5682,  -999.00,   3713.3,   2.3500,  34.8901, 2,  34.8912, 2,   -999.0, 9,    255.1, 2,    40.90, 2,    20.97, 2,     0.00, 2,     1.44, 2, -999.000, 9, -999.000, 9,   2197.4, 2,   -999.0, 9,   -999.0, 9,   2.0382,   -999.0, 9, -999.000, 9
318MHYDROS4, A16C, 355, 1, 28, 28, 2, 19890403, 2229, -8.0683, -25.0050, 5682,  -999.00,   3921.6,   2.0969,  34.8624, 2,  34.8625, 2,   -999.0, 9,    249.5, 2,    52.47, 2,    22.52, 2,     0.00, 2,     1.55, 2, -999.000, 9, -999.000, 9,   -999.0, 9,   -999.0, 9,   -999.0, 9,   1.7690,   -999.0, 9, -999.000, 9
318MHYDROS4, A16C, 355, 1, 29, 29, 2, 19890403, 2229, -8.0683, -25.0050, 5682,  -999.00,   4130.1,   1.6038,  34.8094, 2,  34.8105, 2,   -999.0, 9,    239.5, 2,    73.46, 2,    25.53, 2,     0.00, 2,     1.76, 2, -999.000, 9, -999.000, 9,   2231.6, 2,   -999.0, 9,   -999.0, 9,   1.2668,   -999.0, 9, -999.000, 9
318MHYDROS4, A16C, 355, 1, 30, 30, 2, 19890403, 2229, -8.0683, -25.0050, 5682,  -999.00,   4338.3,   1.2339,  34.7706, 2,  34.7707, 2,   -999.0, 9,    234.0, 2,    89.63, 2,    27.68, 2,     0.00, 2,     1.91, 2, -999.000, 9, -999.000, 9,   -999.0, 9,   -999.0, 9,   -999.0, 9,   0.8849,   -999.0, 9, -999.000, 9
318MHYDROS4, A16C, 355, 1, 31, 31, 2, 19890403, 2229, -8.0683, -25.0050, 5682,  -999.00,   4546.6,   0.9327,  34.7380, 2,  34.7376, 2,   -999.0, 9,    228.0, 2,   101.88, 2,    29.40, 2,     0.00, 2,     2.04, 2, -999.000, 9, -999.000, 9,   2252.1, 2,   -999.0, 9,   -999.0, 9,   0.5698,   -999.0, 9, -999.000, 9
318MHYDROS4, A16C, 355, 1, 32, 32, 2, 19890403, 2229, -8.0683, -25.0050, 5682,  -999.00,   4807.5,   0.8043,  34.7225, 2,  34.7223, 2,   -999.0, 9,    226.1, 2,   108.79, 2,    30.25, 2,     0.00, 2,     2.10, 2, -999.000, 9, -999.000, 9,   -999.0, 9,   -999.0, 9,   -999.0, 9,   0.4159,   -999.0, 9, -999.000, 9
318MHYDROS4, A16C, 355, 1, 33, 33, 2, 19890403, 2229, -8.0683, -25.0050, 5682,  -999.00,   5120.4,   0.7364,  34.7120, 2,  34.7097, 2,   -999.0, 9,    223.7, 2,   112.67, 2,    30.76, 2,     0.00, 2,     2.14, 2, -999.000, 9, -999.000, 9,   2257.5, 2,   -999.0, 9,   -999.0, 9,   0.3137,   -999.0, 9, -999.000, 9
318MHYDROS4, A16C, 355, 1, 34, 34, 2, 19890403, 2229, -8.0683, -25.0050, 5682,  -999.00,   5354.7,   0.6847,  34.7042, 2,  34.7038, 2,   -999.0, 9,    223.1, 2,   115.48, 2,    31.15, 2,     0.00, 2,     2.17, 2, -999.000, 9, -999.000, 9,   -999.0, 9,   -999.0, 9,   -999.0, 9,   0.2357,   -999.0, 9, -999.000, 9
318MHYDROS4, A16C, 355, 1, 35, 35, 2, 19890403, 2229, -8.0683, -25.0050, 5682,  -999.00,   5590.8,   0.6764,  34.7005, 2,  34.6999, 2,   -999.0, 9,    222.8, 2,   116.87, 2,    31.40, 2,     0.00, 2,     2.19, 2,    0.003, 2,    0.003, 2,   2255.6, 2,   -999.0, 9,   -999.0, 9,   0.1986,   5587.7, 2,    0.667, 2
318MHYDROS4, A16C, 355, 1, 36, 36, 2, 19890403, 2229, -8.0683, -25.0050, 5682,  -999.00,   5831.8,   0.6946,  34.6983, 2,  34.6987, 2,   -999.0, 9,    222.2, 2,   117.01, 2,    31.57, 2,     0.00, 2,     2.20, 2,    0.000, 2,    0.002, 2,   2260.1, 2,   -999.0, 9,   -999.0, 9,   0.1859,   -999.0, 9, -999.000, 9