BOTTLE,20110318CCHDOSIODM
EXPOCODE,SECT_ID,STNNBR,CASTNO,SAMPNO,BTLNBR,BTLNBR_FLAG_W,DATE,TIME,LATITUDE,LONGITUDE,DEPTH,CTDRAW,CTDPRS,CTDTMP,CTDSAL,CTDSAL_FLAG_W,SALNTY,SALNTY_FLAG_W,CTDOXY,CTDOXY_FLAG_W,OXYGEN,OXYGEN_FLAG_W,SILCAT,SILCAT_FLAG_W,NITRAT,NITRAT_FLAG_W,NITRIT,NITRIT_FLAG_W,PHSPHT,PHSPHT_FLAG_W,CFC-11,CFC-11_FLAG_W,CFC-12,CFC-12_FLAG_W,TCARBN,TCARBN_FLAG_W,ALKALI,ALKALI_FLAG_W,PCO2,PCO2_FLAG_W,THETA,REVPRS,REVPRS_FLAG_W,REVTMP,REVTMP_FLAG_W
,,,,,,,,,,,METERS,DBAR,DBAR,ITS-90,PSS-78,,PSS-78,,UMOL/KG,,UMOL/KG,,UMOL/KG,,UMOL/KG,,UMOL/KG,,UMOL/KG,,PMOL/KG,,PMOL/KG,,UMOL/KG,,UMOL/KG,,UATM,,DEG C,DBAR,,ITS-90,
318MHYDROS4, A16C, 368, 1, 1, 1, 2, 19890407, 1214, -1.0200, -24.9950, 3229,  -999.00,      3.4,  28.2158,  35.7886, 2,  35.7910, 2,   -999.0, 9,   -999.0, 9,     1.46, 2,     0.00, 2,     0.00, 2,     0.05, 2, -999.000, 9, -999.000, 9,   1990.0, 2,   -999.0, 9,   -999.0, 9,  28.2150,   -999.0, 9, -999.000, 9
318MHYDROS4, A16C, 368, 1, 2, 2, 2, 19890407, 1214, -1.0200, -24.9950, 3229,  -999.00,      3.5,  28.2009,  35.7896, 2,  35.7910, 2,   -999.0, 9,    201.3, 2,     1.66, 2,     0.00, 2,     0.00, 2,     0.05, 2,    1.531, 2,    0.786, 2,   -999.0, 9,   -999.0, 9,   -999.0, 9,  28.2001,   -999.0, 9, -999.000, 9
318MHYDROS4, A16C, 368, 1, 3, 3, 2, 19890407, 1214, -1.0200, -24.9950, 3229,  -999.00,     29.1,  27.8643,  35.9011, 2,  35.9040, 2,   -999.0, 9,    204.3, 2,     1.66, 2,     0.00, 2,     0.00, 2,     0.05, 2, -999.000, 9, -999.000, 9,   1995.5, 2,   2347.2, 2,    278.2, 2,  27.8575,   -999.0, 9, -999.000, 9
318MHYDROS4, A16C, 368, 1, 71, 71, 2, 19890407, 1214, -1.0200, -24.9950, 3229,  -999.00,     55.0,  27.2094,  36.1372, 2,  36.1240, 2,   -999.0, 9,    204.6, 2,     1.66, 2,     0.00, 2,     0.00, 2,     0.08, 2, -999.000, 9, -999.000, 9,   2148.2, 3,   -999.0, 9,   -999.0, 9,  27.1967,   -999.0, 9, -999.000, 9
318MHYDROS4, A16C, 368, 1, 5, 5, 2, 19890407, 1214, -1.0200, -24.9950, 3229,  -999.00,     70.8,  21.7463,  36.0890, 2,  36.0410, 2,   -999.0, 9,    151.2, 2,     3.42, 2,     5.66, 2,     0.31, 2,     0.64, 2, -999.000, 9, -999.000, 9,   2116.8, 2,   2363.5, 2,    470.4, 2,  21.7324,   -999.0, 9, -999.000, 9
318MHYDROS4, A16C, 368, 1, 6, 6, 2, 19890407, 1214, -1.0200, -24.9950, 3229,  -999.00,     85.7,  17.4548,  35.7844, 2,  35.7760, 2,   -999.0, 9,    129.3, 2,     5.18, 2,    13.97, 2,     0.08, 2,     1.04, 2, -999.000, 9, -999.000, 9,   -999.0, 9,   -999.0, 9,   -999.0, 9,  17.4403,   -999.0, 9, -999.000, 9
318MHYDROS4, A16C, 368, 1, 7, 7, 2, 19890407, 1214, -1.0200, -24.9950, 3229,  -999.00,     99.7,  15.9505,  35.6448, 2,  35.6200, 2,   -999.0, 9,    132.3, 2,     5.86, 2,    15.53, 2,     0.05, 2,     1.11, 2,    1.121, 2,    0.590, 2,   -999.0, 9,   -999.0, 9,   -999.0, 9,  15.9347,   -999.0, 9, -999.000, 9
318MHYDROS4, A16C, 368, 1, 8, 8, 2, 19890407, 1214, -1.0200, -24.9950, 3229,  -999.00,    132.0,  13.6793,  35.3597, 2,  35.3580, 2,   -999.0, 9,    147.0, 2,     7.13, 2,    16.71, 2,     0.01, 2,     1.18, 2, -999.000, 9, -999.000, 9,   -999.0, 9,   -999.0, 9,   -999.0, 9,  13.6605,   -999.0, 9, -999.000, 9
318MHYDROS4, A16C, 368, 1, 9, 9, 2, 19890407, 1214, -1.0200, -24.9950, 3229,  -999.00,    158.0,  13.4922,  35.3363, 2,  35.3340, 2,   -999.0, 9,    135.7, 2,     7.82, 2,    18.46, 2,     0.01, 2,     1.28, 2, -999.000, 9, -999.000, 9,   2157.6, 2,   2327.7, 2,    692.6, 2,  13.4699,   -999.0, 9, -999.000, 9
318MHYDROS4, A16C, 368, 1, 10, 10, 2, 19890407, 1214, -1.0200, -24.9950, 3229,  -999.00,    208.4,  13.1348,  35.2917, 2,  35.2900, 2,   -999.0, 9,    111.4, 2,     9.09, 2,    21.98, 2,     0.01, 2,     1.47, 2,    0.753, 2,    0.398, 2,   -999.0, 9,   -999.0, 9,   -999.0, 9,  13.1058,   -999.0, 9, -999.000, 9
318MHYDROS4, A16C, 368, 1, 11, 11, 2, 19890407, 1214, -1.0200, -24.9950, 3229,  -999.00,    259.7,  11.8756,  35.1390, 2,  35.1390, 2,   -999.0, 9,     89.6, 2,    10.85, 2,    26.58, 2,     0.00, 2,     1.72, 2, -999.000, 9, -999.000, 9,   2194.7, 2,   2313.1, 2,    953.5, 2,  11.8418,   -999.0, 9, -999.000, 9
318MHYDROS4, A16C, 368, 1, 12, 12, 2, 19890407, 1214, -1.0200, -24.9950, 3229,  -999.00,    336.7,   9.1981,  34.8259, 2,  34.8390, 2,   -999.0, 9,    104.8, 2,    15.05, 2,    30.10, 2,     0.00, 2,     1.94, 2,    0.269, 2,    0.153, 2,   -999.0, 9,   -999.0, 9,   -999.0, 9,   9.1608,   -999.0, 9, -999.000, 9
318MHYDROS4, A16C, 368, 1, 13, 13, 2, 19890407, 1214, -1.0200, -24.9950, 3229,  -999.00,    377.4,   8.2582,  34.7283, 2,  34.7300, 2,   -999.0, 9,    126.1, 2,    16.91, 2,    30.01, 2,     0.00, 2,     1.96, 2, -999.000, 9, -999.000, 9,   2197.6, 2,   2304.9, 2,   1017.9, 2,   8.2190,   -999.0, 9, -999.000, 9
318MHYDROS4, A16C, 368, 1, 14, 14, 2, 19890407, 1214, -1.0200, -24.9950, 3229,  -999.00,    418.1,   7.9562,  34.7060, 2,  34.7070, 2,   -999.0, 9,    114.8, 2,    18.28, 2,    32.16, 2,     0.00, 2,     2.09, 2,    0.153, 2,    0.089, 2,   -999.0, 9,   -999.0, 9,   -999.0, 9,   7.9136,   -999.0, 9, -999.000, 9
318MHYDROS4, A16C, 368, 1, 15, 15, 2, 19890407, 1214, -1.0200, -24.9950, 3229,  -999.00,    494.7,   7.0604,  34.6214, 2,  34.6240, 2,   -999.0, 9,    125.7, 2,    20.82, 2,    32.65, 2,     0.00, 2,     2.15, 2,    0.118, 2,    0.075, 2,   2209.3, 2,   -999.0, 9,   -999.0, 9,   7.0132,   -999.0, 9, -999.000, 9
318MHYDROS4, A16C, 368, 1, 16, 16, 2, 19890407, 1214, -1.0200, -24.9950, 3229,  -999.00,    596.8,   5.7728,  34.5052, 2,  34.5070, 2,   -999.0, 9,    154.3, 2,    24.83, 2,    32.26, 2,     0.00, 2,     2.19, 2,    0.146, 2,    0.076, 2,   2203.2, 2,   -999.0, 9,   -999.0, 9,   5.7213,   -999.0, 9, -999.000, 9
318MHYDROS4, A16C, 368, 1, 17, 17, 2, 19890407, 1214, -1.0200, -24.9950, 3229,  -999.00,    667.6,   5.2926,  34.4968, 2,  34.4970, 2,   -999.0, 9,    149.6, 2,    28.06, 2,    33.82, 2,     0.00, 2,     2.29, 2,    0.047, 2,    0.039, 2,   2211.5, 2,   -999.0, 9,   -999.0, 9,   5.2371,   -999.0, 9, -999.000, 9
318MHYDROS4, A16C, 368, 1, 18, 18, 2, 19890407, 1214, -1.0200, -24.9950, 3229,  -999.00,    769.8,   4.7064,  34.4869, 2,  34.4880, 2,   -999.0, 9,    158.2, 2,    31.09, 2,    33.73, 2,     0.00, 2,     2.30, 2,    0.034, 2,    0.023, 2,   2213.2, 2,   -999.0, 9,   -999.0, 9,   4.6453,   -999.0, 9, -999.000, 9
318MHYDROS4, A16C, 368, 1, 19, 19, 2, 19890407, 1214, -1.0200, -24.9950, 3229,  -999.00,    872.3,   4.5943,  34.5305, 2,  34.5310, 2,   -999.0, 9,    154.8, 2,    31.77, 2,    33.92, 2,     0.00, 2,     2.32, 2,    0.007, 2,    0.009, 2,   2218.8, 2,   -999.0, 9,   -999.0, 9,   4.5251,   -999.0, 9, -999.000, 9
318MHYDROS4, A16C, 368, 1, 20, 20, 2, 19890407, 1214, -1.0200, -24.9950, 3229,  -999.00,    923.0,   4.5267,  34.5619, 2,  34.5630, 2,   -999.0, 9,    157.4, 2,    32.16, 2,    33.33, 2,     0.00, 2,     2.29, 2,    0.003, 2,    0.007, 2,   -999.0, 9,   -999.0, 9,   -999.0, 9,   4.4536,   -999.0, 9, -999.000, 9
318MHYDROS4, A16C, 368, 1, 21, 21, 2, 19890407, 1214, -1.0200, -24.9950, 3229,  -999.00,   1025.4,   4.3422,  34.6102, 2,  34.6120, 2,   -999.0, 9,    165.2, 2,    32.16, 2,    32.16, 2,     0.00, 2,     2.20, 2,    0.001, 2,    0.007, 2,   2214.6, 2,   -999.0, 9,   -999.0, 9,   4.2615,   -999.0, 9, -999.000, 9
318MHYDROS4, A16C, 368, 1, 22, 22, 2, 19890407, 1214, -1.0200, -24.9950, 3229,  -999.00,   1128.2,   4.4581,  34.7319, 2,  34.7330, 2,   -999.0, 9,    170.8, 2,    28.54, 2,    30.01, 2,     0.00, 2,     2.07, 2, -999.000, 9,    0.005, 2,   -999.0, 9,   -999.0, 9,   -999.0, 9,   4.3673,   -999.0, 9, -999.000, 9
318MHYDROS4, A16C, 368, 1, 23, 23, 2, 19890407, 1214, -1.0200, -24.9950, 3229,  -999.00,   1231.1,   4.4734,  34.8144, 2,  34.8150, 2,   -999.0, 9,    184.7, 2,    25.90, 2,    27.66, 2,     0.00, 2,     1.90, 2,    0.004, 2,    0.005, 2,   -999.0, 9,   -999.0, 9,   -999.0, 9,   4.3730,   -999.0, 9, -999.000, 9
318MHYDROS4, A16C, 368, 1, 24, 24, 2, 19890407, 1214, -1.0200, -24.9950, 3229,  -999.00,   1334.3,   4.4259,  34.9235, 2,  34.9240, 2,   -999.0, 9,    212.9, 2,    21.01, 2,    23.55, 2,     0.00, 2,     1.60, 2,    0.014, 2,    0.020, 2,   2168.0, 2,   -999.0, 9,   -999.0, 9,   4.3164,   -999.0, 9, -999.000, 9
318MHYDROS4, A16C, 368, 1, 25, 25, 2, 19890407, 1214, -1.0200, -24.9950, 3229,  -999.00,   1437.1,   4.2534,  34.9525, 2,  34.9540, 2,   -999.0, 9,    226.8, 2,    19.64, 2,    21.89, 2,     0.00, 2,     1.49, 2,    0.023, 2,    0.012, 2,   2180.2, 2,   -999.0, 9,   -999.0, 9,   4.1362,   -999.0, 9, -999.000, 9
318MHYDROS4, A16C, 368, 1, 26, 26, 2, 19890407, 1214, -1.0200, -24.9950, 3229,  -999.00,   1540.7,   4.1543,  34.9677, 2,  34.9690, 2,   -999.0, 9,    235.9, 2,    18.37, 2,    20.81, 2,     0.00, 2,     1.41, 2,    0.024, 2,    0.024, 2,   -999.0, 9,   -999.0, 9,   -999.0, 9,   4.0286,   -999.0, 9, -999.000, 9
318MHYDROS4, A16C, 368, 1, 27, 27, 2, 19890407, 1214, -1.0200, -24.9950, 3229,  -999.00,   1643.5,   4.0614,  34.9727, 2,  34.9720, 2,   -999.0, 9,    241.2, 2,    17.98, 2,    20.33, 2,     0.00, 2,     1.37, 2,    0.021, 2,    0.014, 2,   -999.0, 9,   -999.0, 9,   -999.0, 9,   3.9272,   -999.0, 9, -999.000, 9
318MHYDROS4, A16C, 368, 1, 28, 28, 2, 19890407, 1214, -1.0200, -24.9950, 3229,  -999.00,   1747.0,   4.0355,  34.9841, 2,  34.9850, 2,   -999.0, 9,    247.7, 2,    16.91, 2,    19.54, 2,     0.00, 2,     1.32, 2,    0.050, 2,    0.033, 2,   2174.3, 2,   -999.0, 9,   -999.0, 9,   3.8919,   -999.0, 9, -999.000, 9
318MHYDROS4, A16C, 368, 1, 29, 29, 2, 19890407, 1214, -1.0200, -24.9950, 3229,  -999.00,   1849.8,   3.8221,  34.9776, 2,  34.9790, 2,   -999.0, 9,    251.6, 2,    17.79, 2,    19.35, 2,     0.00, 2,     1.31, 2,    0.028, 2,    0.020, 2,   -999.0, 9,   -999.0, 9,   -999.0, 9,   3.6715,   -999.0, 9, -999.000, 9
318MHYDROS4, A16C, 368, 1, 30, 30, 2, 19890407, 1214, -1.0200, -24.9950, 3229,  -999.00,   2056.2,   3.4699,  34.9618, 2,  34.9630, 2,   -999.0, 9,    252.4, 2,    21.40, 2,    19.74, 2,     0.00, 2,     1.32, 2,    0.009, 2,    0.006, 2,   -999.0, 9,   -999.0, 9,   -999.0, 9,   3.3050,   -999.0, 9, -999.000, 9
318MHYDROS4, A16C, 368, 1, 31, 31, 2, 19890407, 1214, -1.0200, -24.9950, 3229,  -999.00,   2262.6,   3.1732,  34.9455, 2,  34.9460, 2,   -999.0, 9,    251.6, 2,    26.58, 2,    20.23, 2,     0.00, 2,     1.36, 2, -999.000, 9, -999.000, 9,   2181.1, 2,   -999.0, 9,   -999.0, 9,   2.9933,   -999.0, 9, -999.000, 9
318MHYDROS4, A16C, 368, 1, 32, 32, 2, 19890407, 1214, -1.0200, -24.9950, 3229,  -999.00,   2469.0,   3.0072,  34.9367, 2,  34.9370, 2,   -999.0, 9,    252.4, 2,    28.63, 2,    20.23, 2,     0.00, 2,     1.37, 2, -999.000, 9, -999.000, 9,   -999.0, 9,   -999.0, 9,   -999.0, 9,   2.8102,   -999.0, 9, -999.000, 9
318MHYDROS4, A16C, 368, 1, 33, 33, 2, 19890407, 1214, -1.0200, -24.9950, 3229,  -999.00,   2675.4,   2.8734,  34.9291, 2,  34.9310, 2,   -999.0, 9,    252.9, 2,    30.98, 2,    20.23, 2,     0.00, 2,     1.37, 2, -999.000, 9, -999.000, 9,   2234.3, 4,   -999.0, 9,   -999.0, 9,   2.6585,   -999.0, 9, -999.000, 9
318MHYDROS4, A16C, 368, 1, 34, 34, 2, 19890407, 1214, -1.0200, -24.9950, 3229,  -999.00,   2882.4,   2.7645,  34.9214, 2,  34.9210, 2,   -999.0, 9,    252.9, 2,    33.62, 2,    20.52, 2,     0.00, 2,     1.39, 2, -999.000, 9, -999.000, 9,   -999.0, 9,   -999.0, 9,   -999.0, 9,   2.5310,   -999.0, 9, -999.000, 9
318MHYDROS4, A16C, 368, 1, 35, 35, 2, 19890407, 1214, -1.0200, -24.9950, 3229,  -999.00,   3089.8,   2.5946,  34.9114, 2,  34.9110, 2,   -999.0, 9,    254.6, 2,    35.67, 2,    20.62, 2,     0.00, 2,     1.39, 2, -999.000, 9, -999.000, 9,   -999.0, 9,   -999.0, 9,   -999.0, 9,   2.3435,   3078.3, 2,    2.589, 2
318MHYDROS4, A16C, 368, 1, 36, 36, 2, 19890407, 1214, -1.0200, -24.9950, 3229,  -999.00,   3265.4,   2.5461,  34.9082, 2,  34.9090, 2,   -999.0, 9,    255.5, 2,    35.57, 2,    20.52, 2,     0.00, 2,     1.40, 2, -999.000, 9, -999.000, 9,   2255.8, 4,   -999.0, 9,   -999.0, 9,   2.2777,   -999.0, 9, -999.000, 9