BOTTLE,20110318CCHDOSIODM
EXPOCODE,SECT_ID,STNNBR,CASTNO,SAMPNO,BTLNBR,BTLNBR_FLAG_W,DATE,TIME,LATITUDE,LONGITUDE,DEPTH,CTDRAW,CTDPRS,CTDTMP,CTDSAL,CTDSAL_FLAG_W,SALNTY,SALNTY_FLAG_W,CTDOXY,CTDOXY_FLAG_W,OXYGEN,OXYGEN_FLAG_W,SILCAT,SILCAT_FLAG_W,NITRAT,NITRAT_FLAG_W,NITRIT,NITRIT_FLAG_W,PHSPHT,PHSPHT_FLAG_W,CFC-11,CFC-11_FLAG_W,CFC-12,CFC-12_FLAG_W,TCARBN,TCARBN_FLAG_W,ALKALI,ALKALI_FLAG_W,PCO2,PCO2_FLAG_W,THETA,REVPRS,REVPRS_FLAG_W,REVTMP,REVTMP_FLAG_W
,,,,,,,,,,,METERS,DBAR,DBAR,ITS-90,PSS-78,,PSS-78,,UMOL/KG,,UMOL/KG,,UMOL/KG,,UMOL/KG,,UMOL/KG,,UMOL/KG,,PMOL/KG,,PMOL/KG,,UMOL/KG,,UMOL/KG,,UATM,,DEG C,DBAR,,ITS-90,
318MHYDROS4, A16C, 320, 1, 1, 1, 2, 19890323, 0923, -28.4900, -25.0383, 4919,  -999.00,      1.6,  24.4000,  36.2159, 2,  36.2160, 2,   -999.0, 9,    211.9, 2,     1.46, 2,     0.00, 2,     0.00, 2,     0.11, 2,    1.753, 2,    0.872, 2,   2031.6, 2,   2370.3, 2,    303.9, 2,  24.3997,   -999.0, 9, -999.000, 9
318MHYDROS4, A16C, 320, 1, 2, 2, 2, 19890323, 0923, -28.4900, -25.0383, 4919,  -999.00,     30.8,  24.2670,  36.2113, 2,  36.2120, 2,   -999.0, 9,    211.4, 2,     1.46, 2,     0.00, 2,     0.00, 2,     0.09, 2, -999.000, 9, -999.000, 9,   2031.3, 2,   2373.8, 2,    299.6, 2,  24.2605,   -999.0, 9, -999.000, 9
318MHYDROS4, A16C, 320, 1, 3, 3, 2, 19890323, 0923, -28.4900, -25.0383, 4919,  -999.00,     56.4,  19.6547,  36.0227, 2,  36.0200, 2,   -999.0, 9,    241.2, 2,     1.66, 2,     0.00, 2,     0.00, 2,     0.14, 2,    2.126, 2,    1.056, 2,   -999.0, 9,   -999.0, 9,   -999.0, 9,  19.6444,   -999.0, 9, -999.000, 9
318MHYDROS4, A16C, 320, 1, 71, 71, 2, 19890323, 0923, -28.4900, -25.0383, 4919,  -999.00,     96.4,  17.8172,  35.8524, 2,  35.8510, 2,   -999.0, 9,    232.9, 2,     1.66, 2,     0.00, 2,     0.00, 2,     0.16, 2,    2.187, 2,    1.084, 2,   2050.3, 2,   2349.6, 2,    355.0, 2,  17.8007,   -999.0, 9, -999.000, 9
318MHYDROS4, A16C, 320, 1, 5, 5, 2, 19890323, 0923, -28.4900, -25.0383, 4919,  -999.00,    153.0,  16.9044,  35.7252, 2,  35.7230, 2,   -999.0, 9,    225.9, 2,     1.66, 2,     0.78, 2,     0.01, 2,     0.21, 2, -999.000, 9, -999.000, 9,   -999.0, 9,   -999.0, 9,   -999.0, 9,  16.8792,   -999.0, 9, -999.000, 9
318MHYDROS4, A16C, 320, 1, 6, 6, 2, 19890323, 0923, -28.4900, -25.0383, 4919,  -999.00,    198.8,  15.6089,  35.5397, 2,  35.5370, 2,   -999.0, 9,    229.3, 2,     1.86, 2,     1.86, 2,     0.01, 2,     0.28, 2,    2.364, 2,    1.157, 2,   2063.7, 2,   2335.4, 2,    398.4, 2,  15.5778,   -999.0, 9, -999.000, 9
318MHYDROS4, A16C, 320, 1, 7, 7, 2, 19890323, 0923, -28.4900, -25.0383, 4919,  -999.00,    249.7,  15.1530,  35.5129, 2,  35.5100, 2,   -999.0, 9,    235.4, 2,     1.86, 2,     1.76, 2,     0.01, 2,     0.26, 2, -999.000, 9, -999.000, 9,   -999.0, 9,   -999.0, 9,   -999.0, 9,  15.1148,   -999.0, 9, -999.000, 9
318MHYDROS4, A16C, 320, 1, 8, 8, 2, 19890323, 0923, -28.4900, -25.0383, 4919,  -999.00,    294.7,  14.9301,  35.4991, 2,  35.4970, 2,   -999.0, 9,    236.3, 2,     1.86, 2,     2.15, 2,     0.01, 2,     0.28, 2,    2.477, 2,    1.199, 2,   2064.7, 2,   2332.6, 2,    404.6, 2,  14.8853,   -999.0, 9, -999.000, 9
318MHYDROS4, A16C, 320, 1, 9, 9, 2, 19890323, 0923, -28.4900, -25.0383, 4919,  -999.00,    392.7,  14.4423,  35.4559, 2,  35.4530, 2,   -999.0, 9,    236.7, 2,     1.95, 2,     3.22, 2,     0.00, 2,     0.35, 2,    2.516, 2,    1.205, 2,   2067.7, 2,   2325.1, 2,    423.8, 2,  14.3838,   -999.0, 9, -999.000, 9
318MHYDROS4, A16C, 320, 1, 10, 10, 2, 19890323, 0923, -28.4900, -25.0383, 4919,  -999.00,    489.7,  13.1609,  35.2611, 2,  35.2590, 2,   -999.0, 9,    221.0, 2,     3.42, 2,     8.01, 2,     0.00, 2,     0.64, 2,    2.202, 2,    1.061, 2,   2098.0, 2,   2328.7, 2,    487.4, 2,  13.0921,   -999.0, 9, -999.000, 9
318MHYDROS4, A16C, 320, 1, 11, 11, 2, 19890323, 0923, -28.4900, -25.0383, 4919,  -999.00,    596.8,   9.7986,  34.7846, 2,  34.7860, 2,   -999.0, 9,    208.8, 2,     7.53, 2,    17.40, 2,     0.00, 2,     1.19, 2,    1.637, 2,    0.781, 2,   2135.4, 2,   2310.8, 2,    653.1, 2,   9.7290,   -999.0, 9, -999.000, 9
318MHYDROS4, A16C, 320, 1, 12, 12, 2, 19890323, 0923, -28.4900, -25.0383, 4919,  -999.00,    703.3,   7.5629,  34.5319, 2,  34.5320, 2,   -999.0, 9,    213.1, 2,    11.34, 2,    22.68, 2,     0.00, 2,     1.52, 2,    1.446, 2,    0.663, 2,   2132.0, 2,   2284.9, 2,    734.7, 2,   7.4922,   -999.0, 9, -999.000, 9
318MHYDROS4, A16C, 320, 1, 13, 13, 2, 19890323, 0923, -28.4900, -25.0383, 4919,  -999.00,    801.0,   5.4274,  34.3353, 2,  34.3370, 2,   -999.0, 9,    228.7, 2,    16.52, 2,    26.40, 2,     0.00, 2,     1.79, 2,    1.339, 2,    0.617, 2,   2153.9, 2,   2290.2, 2,    820.0, 2,   5.3594,   -999.0, 9, -999.000, 9
318MHYDROS4, A16C, 320, 1, 14, 14, 2, 19890323, 0923, -28.4900, -25.0383, 4919,  -999.00,    898.3,   4.3142,  34.2713, 2,  34.2710, 2,   -999.0, 9,    234.8, 2,    22.10, 2,    28.55, 2,     0.00, 2,     1.94, 2,    1.159, 2,    0.525, 2,   2161.4, 2,   2291.6, 2,    855.8, 2,   4.2451,   -999.0, 9, -999.000, 9
318MHYDROS4, A16C, 320, 1, 15, 15, 2, 19890323, 0923, -28.4900, -25.0383, 4919,  -999.00,    997.0,   3.8965,  34.3071, 2,  34.3020, 2,   -999.0, 9,    219.1, 2,    30.99, 2,    30.60, 2,     0.00, 2,     2.07, 2,    0.681, 2,    0.322, 2,   -999.0, 9,   -999.0, 9,   -999.0, 9,   3.8222,   -999.0, 9, -999.000, 9
318MHYDROS4, A16C, 320, 1, 16, 16, 2, 19890323, 0923, -28.4900, -25.0383, 4919,  -999.00,   1213.0,   3.1721,  34.4270, 2,  34.4230, 2,   -999.0, 9,    194.7, 2,    48.78, 2,    32.65, 2,     0.00, 2,     2.25, 2,    0.184, 2,    0.098, 2,   2210.6, 2,   2316.5, 2,   1037.4, 2,   3.0862,   -999.0, 9, -999.000, 9
318MHYDROS4, A16C, 320, 1, 17, 17, 2, 19890323, 0923, -28.4900, -25.0383, 4919,  -999.00,   1429.1,   2.9622,  34.5628, 2,  34.5640, 2,   -999.0, 9,    187.8, 2,    55.72, 2,    31.87, 2,     0.00, 2,     2.19, 2,    0.040, 2,    0.025, 2,   2221.9, 2,   2330.9, 2,   1027.9, 2,   2.8607,   -999.0, 9, -999.000, 9
318MHYDROS4, A16C, 320, 1, 18, 18, 2, 19890323, 0923, -28.4900, -25.0383, 4919,  -999.00,   1598.4,   2.8863,  34.6726, 2,  34.6720, 2,   -999.0, 9,    194.3, 2,    55.52, 2,    30.10, 2,     0.00, 2,     2.06, 2,    0.012, 2,    0.005, 2,   2217.1, 2,   2332.3, 2,    987.2, 2,   2.7713,   -999.0, 9, -999.000, 9
318MHYDROS4, A16C, 320, 1, 19, 19, 2, 19890323, 0923, -28.4900, -25.0383, 4919,  -999.00,   1805.7,   2.8164,  34.7472, 2,  34.7460, 2,   -999.0, 9,    206.0, 2,    53.17, 2,    27.95, 2,     0.00, 2,     1.92, 2,    0.003, 2,    0.000, 2,   -999.0, 9,   -999.0, 9,   -999.0, 9,   2.6843,   -999.0, 9, -999.000, 9
318MHYDROS4, A16C, 320, 1, 20, 20, 2, 19890323, 0923, -28.4900, -25.0383, 4919,  -999.00,   2000.4,   2.7634,  34.8052, 2,  34.8050, 2,   -999.0, 9,    219.9, 2,    48.38, 2,    25.80, 2,     0.00, 2,     1.76, 2,    0.001, 2,    0.000, 2,   2199.5, 2,   2333.5, 2,    871.0, 2,   2.6148,   -999.0, 9, -999.000, 9
318MHYDROS4, A16C, 320, 1, 21, 21, 2, 19890323, 0923, -28.4900, -25.0383, 4919,  -999.00,   2203.0,   2.7824,  34.8512, 2,  34.8510, 2,   -999.0, 9,    231.6, 2,    43.29, 2,    23.94, 2,     0.00, 2,     1.63, 2,    0.000, 2,    0.000, 2,   -999.0, 9,   -999.0, 9,   -999.0, 9,   2.6149,   -999.0, 9, -999.000, 9
318MHYDROS4, A16C, 320, 1, 22, 22, 2, 19890323, 0923, -28.4900, -25.0383, 4919,  -999.00,   2402.0,   2.8184,  34.8834, 2,  34.8820, 2,   -999.0, 9,    240.7, 2,    38.70, 2,    22.58, 2,     0.00, 2,     1.52, 2,    0.001, 2,    0.000, 2,   2178.5, 2,   2327.1, 2,    788.2, 2,   2.6314,   -999.0, 9, -999.000, 9
318MHYDROS4, A16C, 320, 1, 23, 23, 2, 19890323, 0923, -28.4900, -25.0383, 4919,  -999.00,   2603.0,   2.8333,  34.9035, 2,  34.9020, 2,   -999.0, 9,    247.2, 2,    35.77, 2,    21.60, 2,     0.00, 2,     1.46, 2,    0.000, 2,    0.000, 2,   -999.0, 9,   -999.0, 9,   -999.0, 9,   2.6265,   -999.0, 9, -999.000, 9
318MHYDROS4, A16C, 320, 1, 24, 24, 2, 19890323, 0923, -28.4900, -25.0383, 4919,  -999.00,   2802.9,   2.7964,  34.9114, 2,  34.9110, 2,   -999.0, 9,    250.3, 2,    34.69, 2,    21.11, 2,     0.00, 2,     1.43, 2,    0.000, 2,    0.000, 2,   2171.2, 2,   2326.8, 2,    753.4, 2,   2.5703,   -999.0, 9, -999.000, 9
318MHYDROS4, A16C, 320, 1, 25, 25, 2, 19890323, 0923, -28.4900, -25.0383, 4919,  -999.00,   3001.0,   2.6985,  34.9105, 2,  34.9110, 2,   -999.0, 9,    251.1, 2,    35.77, 2,    21.01, 2,     0.00, 2,     1.42, 2, -999.000, 9, -999.000, 9,   2173.6, 2,   2329.8, 2,    752.3, 2,   2.4542,   -999.0, 9, -999.000, 9
318MHYDROS4, A16C, 320, 1, 26, 26, 2, 19890323, 0923, -28.4900, -25.0383, 4919,  -999.00,   3203.5,   2.5606,  34.9005, 2,  34.9010, 2,   -999.0, 9,    251.6, 2,    39.68, 2,    21.30, 2,     0.00, 2,     1.43, 2,    0.000, 2,    0.000, 2,   2180.6, 2,   2336.6, 2,    757.3, 2,   2.2984,   -999.0, 9, -999.000, 9
318MHYDROS4, A16C, 320, 1, 27, 27, 2, 19890323, 0923, -28.4900, -25.0383, 4919,  -999.00,   3403.9,   2.3677,  34.8837, 2,  34.8830, 2,   -999.0, 9,    249.4, 2,    45.74, 2,    22.09, 2,     0.00, 2,     1.50, 2, -999.000, 9, -999.000, 9,   -999.0, 9,   -999.0, 9,   -999.0, 9,   2.0890,   -999.0, 9, -999.000, 9
318MHYDROS4, A16C, 320, 1, 28, 28, 2, 19890323, 0923, -28.4900, -25.0383, 4919,  -999.00,   3602.3,   2.1129,  34.8594, 2,  34.8570, 2,   -999.0, 9,    245.5, 2,    55.71, 2,    23.36, 2,     0.00, 2,     1.58, 2,    0.000, 2,    0.000, 2,   2190.1, 2,   2337.8, 2,    800.7, 2,   1.8195,   -999.0, 9, -999.000, 9
318MHYDROS4, A16C, 320, 1, 29, 29, 2, 19890323, 0923, -28.4900, -25.0383, 4919,  -999.00,   3769.3,   1.9121,  34.8380, 2,  34.8380, 2,   -999.0, 9,    242.9, 2,    63.43, 2,    24.53, 2,     0.00, 2,     1.67, 2, -999.000, 9, -999.000, 9,   -999.0, 9,   -999.0, 9,   -999.0, 9,   1.6060,   -999.0, 9, -999.000, 9
318MHYDROS4, A16C, 320, 1, 30, 30, 2, 19890323, 0923, -28.4900, -25.0383, 4919,  -999.00,   4002.0,   1.5334,  34.7955, 2,  34.7970, 2,   -999.0, 9,    235.1, 2,    80.04, 2,    26.58, 2,     0.00, 2,     1.83, 2,    0.001, 2,    0.000, 2,   2214.5, 2,   2352.9, 2,    862.9, 2,   1.2127,   -999.0, 9, -999.000, 9
318MHYDROS4, A16C, 320, 1, 31, 31, 2, 19890323, 0923, -28.4900, -25.0383, 4919,  -999.00,   4199.8,   1.3726,  34.7785, 2,  34.7780, 2,   -999.0, 9,    232.4, 2,    87.18, 2,    27.66, 2,     0.00, 2,     1.91, 2, -999.000, 9, -999.000, 9,   -999.0, 9,   -999.0, 9,   -999.0, 9,   1.0348,   -999.0, 9, -999.000, 9
318MHYDROS4, A16C, 320, 1, 32, 32, 2, 19890323, 0923, -28.4900, -25.0383, 4919,  -999.00,   4397.7,   1.2776,  34.7656, 2,  34.7650, 2,   -999.0, 9,    229.8, 2,    93.24, 2,    28.34, 2,     0.00, 2,     1.96, 2,    0.002, 2, -999.000, 9,   2227.5, 2,   2362.2, 2,    891.9, 2,   0.9206,   -999.0, 9, -999.000, 9
318MHYDROS4, A16C, 320, 1, 33, 33, 2, 19890323, 0923, -28.4900, -25.0383, 4919,  -999.00,   4596.9,   1.2417,  34.7604, 2,  34.7590, 2,   -999.0, 9,    229.0, 2,    94.61, 2,    28.73, 2,     0.00, 2,     1.99, 2, -999.000, 9, -999.000, 9,   -999.0, 9,   -999.0, 9,   -999.0, 9,   0.8631,   -999.0, 9, -999.000, 9
318MHYDROS4, A16C, 320, 1, 34, 34, 2, 19890323, 0923, -28.4900, -25.0383, 4919,  -999.00,   4806.3,   1.2307,  34.7575, 2,  34.7570, 2,   -999.0, 9,    229.0, 2,    95.20, 2,    28.73, 2,     0.00, 2,     1.99, 2,    0.007, 2,    0.005, 2,   2232.5, 2,   2362.4, 2,    920.0, 2,   0.8281,   -999.0, 9, -999.000, 9
318MHYDROS4, A16C, 320, 1, 35, 35, 2, 19890323, 0923, -28.4900, -25.0383, 4919,  -999.00,   5005.1,   1.2177,  34.7535, 2,  34.7550, 2,   -999.0, 9,    228.5, 2,    95.78, 2,    28.83, 2,     0.00, 2,     1.99, 2,    0.004, 2,    0.003, 2,   -999.0, 9,   -999.0, 9,   -999.0, 9,   0.7919,   5002.6, 2,    1.210, 2
318MHYDROS4, A16C, 320, 1, 36, 36, 2, 19890323, 0923, -28.4900, -25.0383, 4919,  -999.00,   5130.1,   1.1877,  34.7530, 2,  34.7510, 2,   -999.0, 9,    229.0, 2,    96.96, 2,    28.83, 2,     0.00, 2,     1.99, 2,    0.003, 2,    0.002, 2,   2231.0, 2,   2362.3, 2,    912.2, 2,   0.7479,   -999.0, 9, -999.000, 9