BOTTLE,20110318CCHDOSIODM
EXPOCODE,SECT_ID,STNNBR,CASTNO,SAMPNO,BTLNBR,BTLNBR_FLAG_W,DATE,TIME,LATITUDE,LONGITUDE,DEPTH,CTDRAW,CTDPRS,CTDTMP,CTDSAL,CTDSAL_FLAG_W,SALNTY,SALNTY_FLAG_W,CTDOXY,CTDOXY_FLAG_W,OXYGEN,OXYGEN_FLAG_W,SILCAT,SILCAT_FLAG_W,NITRAT,NITRAT_FLAG_W,NITRIT,NITRIT_FLAG_W,PHSPHT,PHSPHT_FLAG_W,CFC-11,CFC-11_FLAG_W,CFC-12,CFC-12_FLAG_W,TCARBN,TCARBN_FLAG_W,ALKALI,ALKALI_FLAG_W,PCO2,PCO2_FLAG_W,THETA,REVPRS,REVPRS_FLAG_W,REVTMP,REVTMP_FLAG_W
,,,,,,,,,,,METERS,DBAR,DBAR,ITS-90,PSS-78,,PSS-78,,UMOL/KG,,UMOL/KG,,UMOL/KG,,UMOL/KG,,UMOL/KG,,UMOL/KG,,PMOL/KG,,PMOL/KG,,UMOL/KG,,UMOL/KG,,UATM,,DEG C,DBAR,,ITS-90,
318MHYDROS4, A16C, 333, 1, 1, 1, 2, 19890327, 1314, -20.8933, -24.9983, 4939,  -999.00,      1.4,  27.9846,  37.2464, 2,  37.2470, 2,   -999.0, 9,    199.9, 2,     1.66, 2,     0.00, 2,     0.00, 2,     0.16, 2, -999.000, 9, -999.000, 9,   2071.3, 2,   2442.5, 2,    288.9, 2,  27.9843,   -999.0, 9, -999.000, 9
318MHYDROS4, A16C, 333, 1, 2, 2, 2, 19890327, 1314, -20.8933, -24.9983, 4939,  -999.00,     38.0,  27.7289,  37.2180, 2,  37.2000, 2,   -999.0, 9,    203.3, 2,     2.05, 2,     0.00, 2,     0.00, 2,     0.15, 2, -999.000, 9, -999.000, 9,   2073.2, 2,   2445.7, 2,    287.8, 2,  27.7200,   -999.0, 9, -999.000, 9
318MHYDROS4, A16C, 333, 1, 3, 3, 2, 19890327, 1314, -20.8933, -24.9983, 4939,  -999.00,     68.4,  23.7237,  36.7904, 2,  36.7920, 2,   -999.0, 9,    229.0, 2,     2.34, 2,     0.00, 2,     0.00, 2,     0.16, 2, -999.000, 9, -999.000, 9,   -999.0, 9,   -999.0, 9,   -999.0, 9,  23.7093,   -999.0, 9, -999.000, 9
318MHYDROS4, A16C, 333, 1, 71, 71, 2, 19890327, 1314, -20.8933, -24.9983, 4939,  -999.00,    109.7,  21.8357,  36.6421, 2,  36.6470, 2,   -999.0, 9,    221.1, 2,     2.54, 2,     0.00, 2,     0.00, 2,     0.16, 2, -999.000, 9, -999.000, 9,   -999.0, 9,   -999.0, 9,   -999.0, 9,  21.8139,   -999.0, 9, -999.000, 9
318MHYDROS4, A16C, 333, 1, 5, 5, 2, 19890327, 1314, -20.8933, -24.9983, 4939,  -999.00,    161.2,  20.3013,  36.3636, 2,  36.3670, 2,   -999.0, 9,    212.6, 2,     2.54, 2,     0.00, 2,     0.07, 2,     0.20, 2, -999.000, 9, -999.000, 9,   -999.0, 9,   -999.0, 9,   -999.0, 9,  20.2709,   -999.0, 9, -999.000, 9
318MHYDROS4, A16C, 333, 1, 6, 6, 2, 19890327, 1314, -20.8933, -24.9983, 4939,  -999.00,    212.0,  16.5777,  35.6636, 2,  35.6530, 2,   -999.0, 9,    206.3, 2,     3.03, 2,     3.32, 2,     0.02, 2,     0.43, 2, -999.000, 9, -999.000, 9,   -999.0, 9,   -999.0, 9,   -999.0, 9,  16.5432,   -999.0, 9, -999.000, 9
318MHYDROS4, A16C, 333, 1, 7, 7, 2, 19890327, 1314, -20.8933, -24.9983, 4939,  -999.00,    262.7,  14.7857,  35.3829, 2,  35.3820, 2,   -999.0, 9,    206.2, 2,     3.61, 2,     6.45, 2,     0.01, 2,     0.60, 2, -999.000, 9, -999.000, 9,   -999.0, 9,   -999.0, 9,   -999.0, 9,  14.7461,   -999.0, 9, -999.000, 9
318MHYDROS4, A16C, 333, 1, 8, 8, 2, 19890327, 1314, -20.8933, -24.9983, 4939,  -999.00,    313.8,  13.0407,  35.1569, 2,  35.1580, 2,   -999.0, 9,    198.9, 2,     4.89, 2,    10.75, 2,     0.01, 2,     0.84, 2, -999.000, 9, -999.000, 9,   -999.0, 9,   -999.0, 9,   -999.0, 9,  12.9972,   -999.0, 9, -999.000, 9
318MHYDROS4, A16C, 333, 1, 9, 9, 2, 19890327, 1314, -20.8933, -24.9983, 4939,  -999.00,    364.9,  11.8474,  35.0215, 2,  35.0210, 2,   -999.0, 9,    191.7, 2,     6.55, 2,    14.27, 2,     0.01, 2,     1.06, 2, -999.000, 9, -999.000, 9,   -999.0, 9,   -999.0, 9,   -999.0, 9,  11.7998,   -999.0, 9, -999.000, 9
318MHYDROS4, A16C, 333, 1, 10, 10, 2, 19890327, 1314, -20.8933, -24.9983, 4939,  -999.00,    415.8,  10.9332,  34.9177, 2,  34.9200, 2,   -999.0, 9,    187.5, 2,     8.21, 2,    16.91, 2,     0.01, 2,     1.22, 2, -999.000, 9, -999.000, 9,   -999.0, 9,   -999.0, 9,   -999.0, 9,  10.8816,   -999.0, 9, -999.000, 9
318MHYDROS4, A16C, 333, 1, 11, 11, 2, 19890327, 1314, -20.8933, -24.9983, 4939,  -999.00,    518.5,   8.4084,  34.6544, 2,  34.6610, 2,   -999.0, 9,    177.4, 2,    13.88, 2,    23.75, 2,     0.00, 2,     1.63, 2, -999.000, 9, -999.000, 9,   -999.0, 9,   -999.0, 9,   -999.0, 9,   8.3535,   -999.0, 9, -999.000, 9
318MHYDROS4, A16C, 333, 1, 12, 12, 2, 19890327, 1314, -20.8933, -24.9983, 4939,  -999.00,    620.4,   6.5865,  34.4958, 2,  34.5010, 2,   -999.0, 9,    181.7, 2,    19.36, 2,    27.86, 2,     0.00, 2,     1.90, 2, -999.000, 9, -999.000, 9,   -999.0, 9,   -999.0, 9,   -999.0, 9,   6.5290,   -999.0, 9, -999.000, 9
318MHYDROS4, A16C, 333, 1, 13, 13, 2, 19890327, 1314, -20.8933, -24.9983, 4939,  -999.00,    722.4,   4.8922,  34.3933, 2,  34.3940, 2,   -999.0, 9,    189.8, 2,    27.37, 2,    30.70, 2,     0.00, 2,     2.10, 2, -999.000, 9, -999.000, 9,   -999.0, 9,   -999.0, 9,   -999.0, 9,   4.8342,   -999.0, 9, -999.000, 9
318MHYDROS4, A16C, 333, 1, 14, 14, 2, 19890327, 1314, -20.8933, -24.9983, 4939,  -999.00,    824.7,   4.1174,  34.4026, 2,  34.4020, 2,   -999.0, 9,    185.9, 2,    35.29, 2,    32.36, 2,     0.00, 2,     2.20, 2, -999.000, 9, -999.000, 9,   -999.0, 9,   -999.0, 9,   -999.0, 9,   4.0555,   -999.0, 9, -999.000, 9
318MHYDROS4, A16C, 333, 1, 15, 15, 2, 19890327, 1314, -20.8933, -24.9983, 4939,  -999.00,    927.1,   3.7118,  34.4468, 2,  34.4450, 2,   -999.0, 9,    185.6, 2,    40.77, 2,    32.46, 2,     0.00, 2,     2.24, 2, -999.000, 9, -999.000, 9,   -999.0, 9,   -999.0, 9,   -999.0, 9,   3.6444,   -999.0, 9, -999.000, 9
318MHYDROS4, A16C, 333, 1, 16, 16, 2, 19890327, 1314, -20.8933, -24.9983, 4939,  -999.00,   1029.6,   3.5529,  34.5081, 2,  34.5070, 2,   -999.0, 9,    185.0, 2,    43.50, 2,    32.06, 2,     0.00, 2,     2.20, 2, -999.000, 9, -999.000, 9,   -999.0, 9,   -999.0, 9,   -999.0, 9,   3.4783,   -999.0, 9, -999.000, 9
318MHYDROS4, A16C, 333, 1, 17, 17, 2, 19890327, 1314, -20.8933, -24.9983, 4939,  -999.00,   1132.4,   3.5375,  34.5960, 2,  34.5960, 2,   -999.0, 9,    187.4, 2,    43.11, 2,    30.89, 2,     0.00, 2,     2.12, 2, -999.000, 9, -999.000, 9,   -999.0, 9,   -999.0, 9,   -999.0, 9,   3.4545,   -999.0, 9, -999.000, 9
318MHYDROS4, A16C, 333, 1, 18, 18, 2, 19890327, 1314, -20.8933, -24.9983, 4939,  -999.00,   1337.9,   3.5731,  34.7541, 2, -999.0000, 9,   -999.0, 9,    200.4, 2,    39.88, 2,    27.76, 2,     0.00, 2,     1.89, 2, -999.000, 9, -999.000, 9,   -999.0, 9,   -999.0, 9,   -999.0, 9,   3.4723,   -999.0, 9, -999.000, 9
318MHYDROS4, A16C, 333, 1, 19, 19, 2, 19890327, 1314, -20.8933, -24.9983, 4939,  -999.00,   1543.7,   3.5422,  34.8744, 2,  34.8740, 2,   -999.0, 9,    224.7, 2,    31.96, 2,    23.65, 2,     0.00, 2,     1.60, 2, -999.000, 9, -999.000, 9,   -999.0, 9,   -999.0, 9,   -999.0, 9,   3.4236,   -999.0, 9, -999.000, 9
318MHYDROS4, A16C, 333, 1, 20, 20, 2, 19890327, 1314, -20.8933, -24.9983, 4939,  -999.00,   1749.7,   3.4639,  34.9225, 2,  34.9220, 2,   -999.0, 9,    240.0, 2,    26.87, 2,    21.50, 2,     0.00, 2,     1.44, 2, -999.000, 9, -999.000, 9,   -999.0, 9,   -999.0, 9,   -999.0, 9,   3.3277,   -999.0, 9, -999.000, 9
318MHYDROS4, A16C, 333, 1, 21, 21, 2, 19890327, 1314, -20.8933, -24.9983, 4939,  -999.00,   1955.9,   3.3134,  34.9385, 2,  34.9360, 2,   -999.0, 9,    248.6, 2,    25.90, 2,    20.52, 2,     0.00, 2,     1.38, 2, -999.000, 9, -999.000, 9,   -999.0, 9,   -999.0, 9,   -999.0, 9,   3.1602,   -999.0, 9, -999.000, 9
318MHYDROS4, A16C, 333, 1, 22, 22, 2, 19890327, 1314, -20.8933, -24.9983, 4939,  -999.00,   2162.5,   3.1783,  34.9412, 2,  34.9410, 2,   -999.0, 9,    252.3, 2,    26.48, 2,    20.13, 2,     0.00, 2,     1.34, 2, -999.000, 9, -999.000, 9,   -999.0, 9,   -999.0, 9,   -999.0, 9,   3.0078,   -999.0, 9, -999.000, 9
318MHYDROS4, A16C, 333, 1, 23, 23, 2, 19890327, 1314, -20.8933, -24.9983, 4939,  -999.00,   2368.9,   3.0400,  34.9362, 2,  34.9360, 2,   -999.0, 9,    253.4, 2,    28.54, 2,    20.13, 2,     0.00, 2,     1.34, 2, -999.000, 9, -999.000, 9,   -999.0, 9,   -999.0, 9,   -999.0, 9,   2.8521,   -999.0, 9, -999.000, 9
318MHYDROS4, A16C, 333, 1, 24, 24, 2, 19890327, 1314, -20.8933, -24.9983, 4939,  -999.00,   2575.6,   2.9224,  34.9293, 2,  34.9300, 2,   -999.0, 9,    253.0, 2,    30.59, 2,    20.23, 2,     0.00, 2,     1.37, 2, -999.000, 9, -999.000, 9,   -999.0, 9,   -999.0, 9,   -999.0, 9,   2.7165,   -999.0, 9, -999.000, 9
318MHYDROS4, A16C, 333, 1, 25, 25, 2, 19890327, 1314, -20.8933, -24.9983, 4939,  -999.00,   2782.5,   2.8144,  34.9227, 2,  34.9240, 2,   -999.0, 9,    253.0, 2,    32.64, 2,    20.52, 2,     0.00, 2,     1.37, 2, -999.000, 9, -999.000, 9,   -999.0, 9,   -999.0, 9,   -999.0, 9,   2.5899,   -999.0, 9, -999.000, 9
318MHYDROS4, A16C, 333, 1, 26, 26, 2, 19890327, 1314, -20.8933, -24.9983, 4939,  -999.00,   2989.4,   2.7267,  34.9175, 2,  34.9170, 2,   -999.0, 9,    252.7, 2,    34.11, 2,    20.52, 2,     0.00, 2,     1.37, 2, -999.000, 9, -999.000, 9,   -999.0, 9,   -999.0, 9,   -999.0, 9,   2.4831,   -999.0, 9, -999.000, 9
318MHYDROS4, A16C, 333, 1, 27, 27, 2, 19890327, 1314, -20.8933, -24.9983, 4939,  -999.00,   3197.6,   2.6364,  34.9122, 2,  34.9140, 2,   -999.0, 9,    253.8, 2,    35.38, 2,    20.52, 2,     0.00, 2,     1.38, 2, -999.000, 9, -999.000, 9,   -999.0, 9,   -999.0, 9,   -999.0, 9,   2.3731,   -999.0, 9, -999.000, 9
318MHYDROS4, A16C, 333, 1, 28, 28, 2, 19890327, 1314, -20.8933, -24.9983, 4939,  -999.00,   3404.5,   2.5139,  34.9023, 2,  34.9030, 2,   -999.0, 9,    253.8, 2,    38.80, 2,    20.91, 2,     0.00, 2,     1.41, 2, -999.000, 9, -999.000, 9,   -999.0, 9,   -999.0, 9,   -999.0, 9,   2.2315,   -999.0, 9, -999.000, 9
318MHYDROS4, A16C, 333, 1, 29, 29, 2, 19890327, 1314, -20.8933, -24.9983, 4939,  -999.00,   3612.6,   2.3135,  34.8838, 2,  34.8840, 2,   -999.0, 9,    251.5, 2,    45.54, 2,    21.79, 2,     0.00, 2,     1.47, 2, -999.000, 9, -999.000, 9,   -999.0, 9,   -999.0, 9,   -999.0, 9,   2.0137,   -999.0, 9, -999.000, 9
318MHYDROS4, A16C, 333, 1, 30, 30, 2, 19890327, 1314, -20.8933, -24.9983, 4939,  -999.00,   3820.3,   2.0235,  34.8542, 2,  34.8540, 2,   -999.0, 9,    246.9, 2,    57.17, 2,    23.26, 2,     0.00, 2,     1.57, 2, -999.000, 9, -999.000, 9,   -999.0, 9,   -999.0, 9,   -999.0, 9,   1.7088,   -999.0, 9, -999.000, 9
318MHYDROS4, A16C, 333, 1, 31, 31, 2, 19890327, 1314, -20.8933, -24.9983, 4939,  -999.00,   4028.3,   1.7465,  34.8240, 2,  34.8240, 2,   -999.0, 9,    241.5, 2,    69.98, 2,    25.02, 2,     0.00, 2,     1.70, 2, -999.000, 9, -999.000, 9,   -999.0, 9,   -999.0, 9,   -999.0, 9,   1.4167,   -999.0, 9, -999.000, 9
318MHYDROS4, A16C, 333, 1, 32, 32, 2, 19890327, 1314, -20.8933, -24.9983, 4939,  -999.00,   4236.3,   1.4716,  34.7934, 2,  34.7930, 2,   -999.0, 9,    236.9, 2,    82.88, 2,    26.78, 2,     0.00, 2,     1.83, 2, -999.000, 9, -999.000, 9,   -999.0, 9,   -999.0, 9,   -999.0, 9,   1.1267,   -999.0, 9, -999.000, 9
318MHYDROS4, A16C, 333, 1, 33, 33, 2, 19890327, 1314, -20.8933, -24.9983, 4939,  -999.00,   4444.7,   1.1518,  34.7607, 2,  34.7630, 2,   -999.0, 9,    232.0, 2,    95.49, 2,    28.34, 2,     0.00, 2,     1.95, 2, -999.000, 9, -999.000, 9,   -999.0, 9,   -999.0, 9,   -999.0, 9,   0.7934,   -999.0, 9, -999.000, 9
318MHYDROS4, A16C, 333, 1, 34, 34, 2, 19890327, 1314, -20.8933, -24.9983, 4939,  -999.00,   4653.0,   0.9530,  34.7391, 2,  34.7380, 2,   -999.0, 9,    228.4, 2,   103.70, 2,    29.61, 2,     0.00, 2,     2.03, 2,    0.000, 2,    0.000, 2,   -999.0, 9,   -999.0, 9,   -999.0, 9,   0.5774,   -999.0, 9, -999.000, 9
318MHYDROS4, A16C, 333, 1, 35, 35, 2, 19890327, 1314, -20.8933, -24.9983, 4939,  -999.00,   4861.7,   0.8556,  34.7276, 2,  34.7260, 2,   -999.0, 9,    227.3, 2,   108.49, 2,    30.10, 2,     0.00, 2,     2.07, 2,    0.002, 2,    0.005, 2,   -999.0, 9,   -999.0, 9,   -999.0, 9,   0.4592,   4861.7, 2,    0.851, 2
318MHYDROS4, A16C, 333, 1, 36, 36, 2, 19890327, 1314, -20.8933, -24.9983, 4939,  -999.00,   5070.8,   0.7601,  34.7159, 2,  34.7140, 2,   -999.0, 9,    225.5, 2,   112.40, 2,    30.79, 2,     0.00, 2,     2.12, 2,    0.003, 2,    0.008, 2,   -999.0, 9,   -999.0, 9,   -999.0, 9,   0.3424,   -999.0, 9, -999.000, 9