BOTTLE,20110318CCHDOSIODM
EXPOCODE,SECT_ID,STNNBR,CASTNO,SAMPNO,BTLNBR,BTLNBR_FLAG_W,DATE,TIME,LATITUDE,LONGITUDE,DEPTH,CTDRAW,CTDPRS,CTDTMP,CTDSAL,CTDSAL_FLAG_W,SALNTY,SALNTY_FLAG_W,CTDOXY,CTDOXY_FLAG_W,OXYGEN,OXYGEN_FLAG_W,SILCAT,SILCAT_FLAG_W,NITRAT,NITRAT_FLAG_W,NITRIT,NITRIT_FLAG_W,PHSPHT,PHSPHT_FLAG_W,CFC-11,CFC-11_FLAG_W,CFC-12,CFC-12_FLAG_W,TCARBN,TCARBN_FLAG_W,ALKALI,ALKALI_FLAG_W,PCO2,PCO2_FLAG_W,THETA,REVPRS,REVPRS_FLAG_W,REVTMP,REVTMP_FLAG_W
,,,,,,,,,,,METERS,DBAR,DBAR,ITS-90,PSS-78,,PSS-78,,UMOL/KG,,UMOL/KG,,UMOL/KG,,UMOL/KG,,UMOL/KG,,UMOL/KG,,PMOL/KG,,PMOL/KG,,UMOL/KG,,UMOL/KG,,UATM,,DEG C,DBAR,,ITS-90,
318MHYDROS4, A16C, 371, 1, 5, 5, 2, 19890408, 0204, 0.0117, -25.0217, 3262,  -999.00,      0.8,  27.8676,  35.7067, 2,  35.7090, 2,   -999.0, 9,    202.1, 2,     1.95, 2,     0.00, 2,     0.00, 2,     0.04, 2,    1.582, 2,    0.807, 2,   1976.1, 2,   -999.0, 9,   -999.0, 9,  27.8674,   -999.0, 9, -999.000, 9
318MHYDROS4, A16C, 371, 1, 6, 6, 2, 19890408, 0204, 0.0117, -25.0217, 3262,  -999.00,     33.2,  27.6146,  35.9916, 2,  35.9960, 2,   -999.0, 9,    204.2, 2,     1.95, 2,     0.00, 2,     0.00, 2,     0.05, 2, -999.000, 9, -999.000, 9,   1998.4, 2,   -999.0, 9,   -999.0, 9,  27.6068,   -999.0, 9, -999.000, 9
318MHYDROS4, A16C, 371, 1, 7, 7, 2, 19890408, 0204, 0.0117, -25.0217, 3262,  -999.00,     58.7,  26.8036,  36.2756, 2,  36.2860, 2,   -999.0, 9,    205.0, 2,     1.95, 2,     0.00, 2,     0.00, 2,     0.09, 2, -999.000, 9, -999.000, 9,   -999.0, 9,   -999.0, 9,   -999.0, 9,  26.7901,   -999.0, 9, -999.000, 9
318MHYDROS4, A16C, 371, 1, 8, 8, 2, 19890408, 0204, 0.0117, -25.0217, 3262,  -999.00,     68.8,  25.1376,  36.5419, 2,  36.5300, 2,   -999.0, 9,    202.3, 2,     1.95, 2,     0.00, 2,     0.05, 2,     0.16, 2,    1.578, 2,    0.799, 2,   2058.5, 2,   2401.9, 2,    308.8, 2,  25.1225,   -999.0, 9, -999.000, 9
318MHYDROS4, A16C, 371, 1, 9, 9, 2, 19890408, 0204, 0.0117, -25.0217, 3262,  -999.00,     85.3,  17.8925,  35.9604, 2,  35.9600, 2,   -999.0, 9,    162.4, 2,     4.59, 2,     9.57, 2,     0.06, 2,     0.75, 2, -999.000, 9, -999.000, 9,   -999.0, 9,   -999.0, 9,   -999.0, 9,  17.8779,   -999.0, 9, -999.000, 9
318MHYDROS4, A16C, 371, 1, 10, 10, 2, 19890408, 0204, 0.0117, -25.0217, 3262,  -999.00,    121.7,  15.8014,  35.6709, 2,  35.6580, 2,   -999.0, 9,    159.7, 2,     5.47, 2,    12.40, 2,     0.02, 2,     0.93, 2,    1.330, 2,    0.661, 2,   2130.0, 2,   2346.0, 2,    542.2, 2,  15.7823,   -999.0, 9, -999.000, 9
318MHYDROS4, A16C, 371, 1, 11, 11, 2, 19890408, 0204, 0.0117, -25.0217, 3262,  -999.00,    162.4,  13.6635,  35.3575, 2,  35.3570, 2,   -999.0, 9,    149.2, 2,     7.13, 2,    16.51, 2,     0.01, 2,     1.16, 2, -999.000, 9, -999.000, 9,   -999.0, 9,   -999.0, 9,   -999.0, 9,  13.6403,   -999.0, 9, -999.000, 9
318MHYDROS4, A16C, 371, 1, 12, 12, 2, 19890408, 0204, 0.0117, -25.0217, 3262,  -999.00,    198.4,  13.5237,  35.3389, 2,  35.3390, 2,   -999.0, 9,    139.6, 2,     7.52, 2,    17.98, 2,     0.01, 2,     1.24, 2,    1.033, 2,    0.512, 2,   2147.2, 2,   2324.4, 2,    662.1, 2,  13.4956,   -999.0, 9, -999.000, 9
318MHYDROS4, A16C, 371, 1, 13, 13, 2, 19890408, 0204, 0.0117, -25.0217, 3262,  -999.00,    249.3,  13.4374,  35.3281, 2,  35.3320, 2,   -999.0, 9,    130.9, 2,     8.01, 2,    19.05, 2,     0.00, 2,     1.30, 2, -999.000, 9, -999.000, 9,   -999.0, 9,   -999.0, 9,   -999.0, 9,  13.4021,   -999.0, 9, -999.000, 9
318MHYDROS4, A16C, 371, 1, 14, 14, 2, 19890408, 0204, 0.0117, -25.0217, 3262,  -999.00,    300.0,  11.2310,  35.0636, 2,  35.0710, 2,   -999.0, 9,     97.9, 2,    12.02, 2,    26.97, 2,     0.00, 2,     1.74, 2,    0.471, 2,    0.242, 2,   2196.6, 2,   2316.8, 2,    942.8, 2,  11.1933,   -999.0, 9, -999.000, 9
318MHYDROS4, A16C, 371, 1, 15, 15, 2, 19890408, 0204, 0.0117, -25.0217, 3262,  -999.00,    340.9,   9.9651,  34.9229, 2,  34.9420, 2,   -999.0, 9,     96.5, 2,    13.97, 2,    29.32, 2,     0.00, 2,     1.88, 2, -999.000, 9, -999.000, 9,   -999.0, 9,   -999.0, 9,   -999.0, 9,   9.9254,   -999.0, 9, -999.000, 9
318MHYDROS4, A16C, 371, 1, 16, 16, 2, 19890408, 0204, 0.0117, -25.0217, 3262,  -999.00,    397.3,   8.7466,  34.7885, 2,  34.7890, 2,   -999.0, 9,    111.8, 2,    16.22, 2,    30.59, 2,     0.00, 2,     1.97, 2,    0.254, 2,    0.134, 2,   2204.8, 2,   2309.0, 2,   1043.8, 2,   8.7038,   -999.0, 9, -999.000, 9
318MHYDROS4, A16C, 371, 1, 17, 17, 2, 19890408, 0204, 0.0117, -25.0217, 3262,  -999.00,    514.5,   6.7586,  34.5939, 2,  34.5960, 2,   -999.0, 9,    132.6, 2,    21.50, 2,    32.65, 2,     0.00, 2,     2.17, 2,    0.127, 2,    0.065, 2,   2206.6, 2,   2303.6, 2,   1092.8, 2,   6.7106,   -999.0, 9, -999.000, 9
318MHYDROS4, A16C, 371, 1, 18, 18, 2, 19890408, 0204, 0.0117, -25.0217, 3262,  -999.00,    565.3,   6.3579,  34.5586, 2,  34.5600, 2,   -999.0, 9,    142.6, 2,    22.68, 2,    32.36, 2,     0.00, 2,     2.15, 2,    0.130, 2,    0.070, 2,   -999.0, 9,   -999.0, 9,   -999.0, 9,   6.3067,   -999.0, 9, -999.000, 9
318MHYDROS4, A16C, 371, 1, 19, 19, 2, 19890408, 0204, 0.0117, -25.0217, 3262,  -999.00,    667.4,   5.2871,  34.5030, 2,  34.5030, 2,   -999.0, 9,    146.5, 2,    28.15, 2,    34.12, 2,     0.00, 2,     2.31, 2,    0.044, 2,    0.021, 2,   2214.4, 2,   2308.0, 2,   1123.6, 2,   5.2316,   -999.0, 9, -999.000, 9
318MHYDROS4, A16C, 371, 1, 20, 20, 2, 19890408, 0204, 0.0117, -25.0217, 3262,  -999.00,    820.3,   4.7539,  34.5098, 2,  34.5110, 2,   -999.0, 9,    151.7, 2,    31.48, 2,    34.21, 2,     0.00, 2,     2.33, 2,    0.017, 2,    0.010, 2,   2212.6, 2,   2305.8, 2,   1126.6, 2,   4.6881,   -999.0, 9, -999.000, 9
318MHYDROS4, A16C, 371, 1, 21, 21, 2, 19890408, 0204, 0.0117, -25.0217, 3262,  -999.00,    974.0,   4.4722,  34.5859, 2,  34.5870, 2,   -999.0, 9,    159.5, 2,    32.16, 2,    32.94, 2,     0.00, 2,     2.24, 2,    0.006, 2,    0.005, 2,   2215.5, 2,   2313.2, 2,   1096.6, 2,   4.3950,   -999.0, 9, -999.000, 9
318MHYDROS4, A16C, 371, 1, 22, 22, 2, 19890408, 0204, 0.0117, -25.0217, 3262,  -999.00,   1075.8,   4.4572,  34.6945, 2,  34.7020, 2,   -999.0, 9,    168.2, 2,    29.52, 2,    30.79, 2,     0.00, 2,     2.09, 2,    0.005, 2,    0.003, 2,   2211.5, 2,   2318.5, 2,   1031.7, 2,   4.3711,   -999.0, 9, -999.000, 9
318MHYDROS4, A16C, 371, 1, 23, 23, 2, 19890408, 0204, 0.0117, -25.0217, 3262,  -999.00,   1228.6,   4.5363,  34.8798, 2,  34.8800, 2,   -999.0, 9,    198.6, 2,    22.77, 2,    25.51, 2,     0.00, 2,     1.71, 2,    0.018, 2,    0.010, 2,   -999.0, 9,   -999.0, 9,   -999.0, 9,   4.4355,   -999.0, 9, -999.000, 9
318MHYDROS4, A16C, 371, 1, 24, 24, 2, 19890408, 0204, 0.0117, -25.0217, 3262,  -999.00,   1331.4,   4.4878,  34.9299, 2,  34.9330, 2,   -999.0, 9,    213.4, 2,    20.52, 2,    23.45, 2,     0.00, 2,     1.58, 2,    0.025, 2,    0.017, 2,   2181.6, 2,   2320.8, 2,    831.6, 2,   4.3779,   -999.0, 9, -999.000, 9
318MHYDROS4, A16C, 371, 1, 25, 25, 2, 19890408, 0204, 0.0117, -25.0217, 3262,  -999.00,   1435.1,   4.3017,  34.9543, 2,  34.9560, 2,   -999.0, 9,    227.3, 2,    19.15, 2,    21.99, 2,     0.00, 2,     1.47, 2,    0.026, 2,    0.016, 2,   -999.0, 9,   -999.0, 9,   -999.0, 9,   4.1842,   -999.0, 9, -999.000, 9
318MHYDROS4, A16C, 371, 1, 26, 26, 2, 19890408, 0204, 0.0117, -25.0217, 3262,  -999.00,   1538.8,   4.1716,  34.9676, 2,  34.9700, 2,   -999.0, 9,    236.4, 2,    18.27, 2,    20.91, 2,     0.00, 2,     1.40, 2,    0.025, 2,    0.016, 2,   2171.1, 2,   2323.6, 2,    765.0, 2,   4.0459,   -999.0, 9, -999.000, 9
318MHYDROS4, A16C, 371, 1, 27, 27, 2, 19890408, 0204, 0.0117, -25.0217, 3262,  -999.00,   1642.0,   4.0678,  34.9721, 2,  34.9740, 2,   -999.0, 9,    241.6, 2,    18.08, 2,    20.42, 2,     0.00, 2,     1.36, 2,    0.022, 2,    0.015, 2,   2171.7, 2,   2324.2, 2,    764.7, 2,   3.9336,   -999.0, 9, -999.000, 9
318MHYDROS4, A16C, 371, 1, 28, 28, 2, 19890408, 0204, 0.0117, -25.0217, 3262,  -999.00,   1744.9,   3.9532,  34.9771, 2, -999.0000, 9,   -999.0, 9,    247.2, 2,    17.69, 2,    19.84, 2,     0.00, 2,     1.32, 2,    0.027, 2,    0.027, 2,   2167.1, 2,   2324.1, 2,    743.3, 2,   3.8108,   -999.0, 9, -999.000, 9
318MHYDROS4, A16C, 371, 1, 29, 29, 2, 19890408, 0204, 0.0117, -25.0217, 3262,  -999.00,   1847.4,   3.7770,  34.9801, 2,  34.9820, 2,   -999.0, 9,    255.1, 2,    17.88, 2,    19.06, 2,     0.00, 2,     1.28, 2,    0.036, 2,    0.020, 2,   2161.5, 2,   2322.7, 2,    723.6, 2,   3.6273,   1847.0, 2,    3.770, 2
318MHYDROS4, A16C, 371, 1, 30, 30, 2, 19890408, 0204, 0.0117, -25.0217, 3262,  -999.00,   2053.8,   3.5809,  34.9683, 2,  34.9700, 2,   -999.0, 9,    255.1, 2,    20.33, 2,    19.45, 2,     0.00, 2,     1.30, 2,    0.013, 2,    0.007, 2,   -999.0, 9,   -999.0, 9,   -999.0, 9,   3.4144,   -999.0, 9, -999.000, 9
318MHYDROS4, A16C, 371, 1, 31, 31, 2, 19890408, 0204, 0.0117, -25.0217, 3262,  -999.00,   2260.6,   3.1571,  34.9440, 2,  34.9460, 2,   -999.0, 9,    251.6, 2,    27.26, 2,    20.23, 2,     0.00, 2,     1.36, 2, -999.000, 9, -999.000, 9,   2168.7, 2,   2324.0, 2,    752.4, 2,   2.9776,   -999.0, 9, -999.000, 9
318MHYDROS4, A16C, 371, 1, 32, 32, 2, 19890408, 0204, 0.0117, -25.0217, 3262,  -999.00,   2467.1,   2.9517,  34.9326, 2,  34.9340, 2,   -999.0, 9,    252.0, 2,    30.78, 2,    20.52, 2,     0.00, 2,     1.38, 2,    0.000, 2,    0.001, 2,   -999.0, 9,   -999.0, 9,   -999.0, 9,   2.7559,   -999.0, 9, -999.000, 9
318MHYDROS4, A16C, 371, 1, 33, 33, 2, 19890408, 0204, 0.0117, -25.0217, 3262,  -999.00,   2674.2,   2.8336,  34.9254, 2,  34.9250, 2,   -999.0, 9,    252.0, 2,    32.35, 2,    20.52, 2,     0.00, 2,     1.39, 2, -999.000, 9, -999.000, 9,   2174.6, 2,   2331.7, 2,    748.5, 2,   2.6197,   -999.0, 9, -999.000, 9
318MHYDROS4, A16C, 371, 1, 34, 34, 2, 19890408, 0204, 0.0117, -25.0217, 3262,  -999.00,   2880.5,   2.7224,  34.9185, 2,  34.9190, 2,   -999.0, 9,    252.4, 2,    34.59, 2,    20.72, 2,     0.00, 2,     1.39, 2,    0.002, 2,    0.003, 2,   -999.0, 9,   -999.0, 9,   -999.0, 9,   2.4900,   -999.0, 9, -999.000, 9
318MHYDROS4, A16C, 371, 1, 35, 35, 2, 19890408, 0204, 0.0117, -25.0217, 3262,  -999.00,   3087.8,   2.6381,  34.9126, 2,  34.9130, 2,   -999.0, 9,    252.4, 2,    36.35, 2,    20.72, 2,     0.00, 2,     1.40, 2, -999.000, 9, -999.000, 9,   2181.9, 2,   -999.0, 9,   -999.0, 9,   2.3862,   3078.8, 2,    2.628, 2
318MHYDROS4, A16C, 371, 1, 36, 36, 2, 19890408, 0204, 0.0117, -25.0217, 3262,  -999.00,   3285.1,   2.6013,  34.9100, 2,  34.9090, 2,   -999.0, 9,    252.0, 2,    37.04, 2,    20.72, 2,     0.00, 2,     1.40, 2,    0.002, 2,    0.008, 2,   -999.0, 9,   -999.0, 9,    739.2, 2,   2.3296,   -999.0, 9, -999.000, 9