BOTTLE,20110318CCHDOSIODM
EXPOCODE,SECT_ID,STNNBR,CASTNO,SAMPNO,BTLNBR,BTLNBR_FLAG_W,DATE,TIME,LATITUDE,LONGITUDE,DEPTH,CTDRAW,CTDPRS,CTDTMP,CTDSAL,CTDSAL_FLAG_W,SALNTY,SALNTY_FLAG_W,CTDOXY,CTDOXY_FLAG_W,OXYGEN,OXYGEN_FLAG_W,SILCAT,SILCAT_FLAG_W,NITRAT,NITRAT_FLAG_W,NITRIT,NITRIT_FLAG_W,PHSPHT,PHSPHT_FLAG_W,CFC-11,CFC-11_FLAG_W,CFC-12,CFC-12_FLAG_W,TCARBN,TCARBN_FLAG_W,ALKALI,ALKALI_FLAG_W,PCO2,PCO2_FLAG_W,THETA,REVPRS,REVPRS_FLAG_W,REVTMP,REVTMP_FLAG_W
,,,,,,,,,,,METERS,DBAR,DBAR,ITS-90,PSS-78,,PSS-78,,UMOL/KG,,UMOL/KG,,UMOL/KG,,UMOL/KG,,UMOL/KG,,UMOL/KG,,PMOL/KG,,PMOL/KG,,UMOL/KG,,UMOL/KG,,UATM,,DEG C,DBAR,,ITS-90,
318MHYDROS4, A16C, 378, 1, 1, 1, 2, 19890412, 1619, 0.6483, -36.5033, 4508,  -999.00,      1.0,  27.2395,  36.2327, 2,  36.2350, 2,   -999.0, 9,    202.0, 2,     1.76, 2,     0.00, 2,     0.00, 2,     0.07, 2,    1.610, 2,    0.803, 2,   2014.8, 2,   2376.1, 2,    276.2, 2,  27.2393,   -999.0, 9, -999.000, 9
318MHYDROS4, A16C, 378, 1, 2, 2, 2, 19890412, 1619, 0.6483, -36.5033, 4508,  -999.00,     37.0,  26.8601,  36.3430, 2,  36.3380, 2,   -999.0, 9,    202.8, 2,     1.76, 2,     0.00, 2,     0.00, 2,     0.08, 2, -999.000, 9, -999.000, 9,   2025.5, 2,   2389.3, 2,    277.3, 2,  26.8516,   -999.0, 9, -999.000, 9
318MHYDROS4, A16C, 378, 1, 3, 3, 2, 19890412, 1619, 0.6483, -36.5033, 4508,  -999.00,     77.1,  24.1350,  36.5730, 2,  36.5740, 2,   -999.0, 9,    192.2, 2,     2.34, 2,     1.07, 2,     0.30, 2,     0.24, 2, -999.000, 9, -999.000, 9,   2064.9, 2,   -999.0, 9,   -999.0, 9,  24.1186,   -999.0, 9, -999.000, 9
318MHYDROS4, A16C, 378, 1, 71, 71, 2, 19890412, 1619, 0.6483, -36.5033, 4508,  -999.00,    109.0,  16.5847,  35.7991, 2,  35.8030, 2,   -999.0, 9,    155.4, 2,     5.27, 2,    12.01, 2,     0.08, 2,     0.89, 2,    1.357, 2,    0.660, 2,   -999.0, 9,   -999.0, 9,   -999.0, 9,  16.5670,   -999.0, 9, -999.000, 9
318MHYDROS4, A16C, 378, 1, 5, 5, 2, 19890412, 1619, 0.6483, -36.5033, 4508,  -999.00,    139.7,  13.8900,  35.4041, 2,  35.4020, 2,   -999.0, 9,    122.7, 2,     7.82, 2,    19.44, 2,     0.04, 2,     1.30, 2, -999.000, 9, -999.000, 9,   2161.8, 2,   -999.0, 9,   -999.0, 9,  13.8698,   -999.0, 9, -999.000, 9
318MHYDROS4, A16C, 378, 1, 6, 6, 2, 19890412, 1619, 0.6483, -36.5033, 4508,  -999.00,    180.8,  12.7521,  35.2523, 2,  35.2460, 2,   -999.0, 9,    132.7, 2,     8.50, 2,    20.22, 2,     0.01, 2,     1.36, 2, -999.000, 9, -999.000, 9,   2163.8, 2,   -999.0, 9,   -999.0, 9,  12.7275,   -999.0, 9, -999.000, 9
318MHYDROS4, A16C, 378, 1, 7, 7, 2, 19890412, 1619, 0.6483, -36.5033, 4508,  -999.00,    211.6,  11.7282,  35.1178, 2,  35.1180, 2,   -999.0, 9,    124.8, 2,    10.16, 2,    22.86, 2,     0.01, 2,     1.53, 2,    0.742, 2,    0.395, 2,   -999.0, 9,   -999.0, 9,   -999.0, 9,  11.7009,   -999.0, 9, -999.000, 9
318MHYDROS4, A16C, 378, 1, 8, 8, 2, 19890412, 1619, 0.6483, -36.5033, 4508,  -999.00,    274.8,  10.4381,  34.9691, 2,  34.9680, 2,   -999.0, 9,    123.9, 2,    12.51, 2,    25.70, 2,     0.01, 2,     1.69, 2, -999.000, 9, -999.000, 9,   2180.5, 2,   -999.0, 9,   -999.0, 9,  10.4052,   -999.0, 9, -999.000, 9
318MHYDROS4, A16C, 378, 1, 9, 9, 2, 19890412, 1619, 0.6483, -36.5033, 4508,  -999.00,    328.2,   9.5183,  34.8733, 2,  34.8730, 2,   -999.0, 9,    104.4, 2,    14.95, 2,    29.81, 2,     0.01, 2,     1.93, 2,    0.301, 2,    0.162, 2,   -999.0, 9,   -999.0, 9,   -999.0, 9,   9.4812,   -999.0, 9, -999.000, 9
318MHYDROS4, A16C, 378, 1, 10, 10, 2, 19890412, 1619, 0.6483, -36.5033, 4508,  -999.00,    415.2,   8.4310,  34.7537, 2,  34.7560, 2,   -999.0, 9,    111.8, 2,    17.30, 2,    31.28, 2,     0.01, 2,     2.04, 2,    0.214, 2,    0.126, 2,   2204.2, 2,   -999.0, 9,   -999.0, 9,   8.3872,   -999.0, 9, -999.000, 9
318MHYDROS4, A16C, 378, 1, 11, 11, 2, 19890412, 1619, 0.6483, -36.5033, 4508,  -999.00,    517.3,   7.1171,  34.6205, 2,  34.6240, 2,   -999.0, 9,    143.9, 2,    20.04, 2,    30.69, 2,     0.00, 2,     2.05, 2,    0.236, 2,    0.128, 2,   2191.7, 2,   -999.0, 9,   -999.0, 9,   7.0674,   -999.0, 9, -999.000, 9
318MHYDROS4, A16C, 378, 1, 12, 12, 2, 19890412, 1619, 0.6483, -36.5033, 4508,  -999.00,    618.6,   5.8830,  34.5380, 2,  34.5380, 2,   -999.0, 9,    142.6, 2,    25.51, 2,    33.53, 2,     0.00, 2,     2.26, 2,    0.081, 2,    0.047, 2,   2207.5, 2,   -999.0, 9,   -999.0, 9,   5.8290,   -999.0, 9, -999.000, 9
318MHYDROS4, A16C, 378, 1, 13, 13, 2, 19890412, 1619, 0.6483, -36.5033, 4508,  -999.00,    719.4,   5.2017,  34.5049, 2,  34.5020, 2,   -999.0, 9,    148.2, 2,    28.84, 2,    34.12, 2,     0.00, 2,     2.33, 2,    0.040, 2,    0.027, 2,   -999.0, 9,   -999.0, 9,   -999.0, 9,   5.1421,   -999.0, 9, -999.000, 9
318MHYDROS4, A16C, 378, 1, 14, 14, 2, 19890412, 1619, 0.6483, -36.5033, 4508,  -999.00,    821.9,   4.8051,  34.5145, 2,  34.5130, 2,   -999.0, 9,    152.6, 2,    31.57, 2,    34.31, 2,     0.00, 2,     2.35, 2, -999.000, 9, -999.000, 9,   2213.6, 2,   -999.0, 9,   -999.0, 9,   4.7389,   -999.0, 9, -999.000, 9
318MHYDROS4, A16C, 378, 1, 15, 15, 2, 19890412, 1619, 0.6483, -36.5033, 4508,  -999.00,    924.2,   4.5891,  34.5578, 2,  34.5530, 2,   -999.0, 9,    156.1, 2,    32.75, 2,    33.72, 2,     0.00, 2,     2.32, 2,    0.014, 2,    0.010, 2,   -999.0, 9,   -999.0, 9,   -999.0, 9,   4.5154,   -999.0, 9, -999.000, 9
318MHYDROS4, A16C, 378, 1, 16, 16, 2, 19890412, 1619, 0.6483, -36.5033, 4508,  -999.00,   1027.1,   4.5288,  34.6831, 2,  34.6810, 2,   -999.0, 9,    163.4, 2,    30.69, 2,    31.57, 2,     0.00, 2,     2.18, 2, -999.000, 9, -999.000, 9,   2211.8, 2,   -999.0, 9,   -999.0, 9,   4.4464,   -999.0, 9, -999.000, 9
318MHYDROS4, A16C, 378, 1, 17, 17, 2, 19890412, 1619, 0.6483, -36.5033, 4508,  -999.00,   1233.3,   4.6218,  34.8364, 2,  34.8350, 2,   -999.0, 9,    184.7, 2,    25.41, 2,    27.66, 2,     0.00, 2,     1.89, 2,    0.014, 2,    0.008, 2,   -999.0, 9,   -999.0, 9,   -999.0, 9,   4.5198,   -999.0, 9, -999.000, 9
318MHYDROS4, A16C, 378, 1, 18, 18, 2, 19890412, 1619, 0.6483, -36.5033, 4508,  -999.00,   1336.4,   4.4394,  34.9544, 2,  34.9540, 2,   -999.0, 9,    221.2, 2,    20.03, 2,    22.48, 2,     0.00, 2,     1.52, 2, -999.000, 9, -999.000, 9,   2177.0, 2,   -999.0, 9,   -999.0, 9,   4.3295,   -999.0, 9, -999.000, 9
318MHYDROS4, A16C, 378, 1, 19, 19, 2, 19890412, 1619, 0.6483, -36.5033, 4508,  -999.00,   1439.3,   4.2986,  34.9677, 2,  34.9670, 2,   -999.0, 9,    230.7, 2,    18.76, 2,    21.50, 2,     0.00, 2,     1.46, 2,    0.035, 2,    0.023, 2,   -999.0, 9,   -999.0, 9,   -999.0, 9,   4.1807,   -999.0, 9, -999.000, 9
318MHYDROS4, A16C, 378, 1, 20, 20, 2, 19890412, 1619, 0.6483, -36.5033, 4508,  -999.00,   1542.4,   4.1458,  34.9678, 2,  34.9670, 2,   -999.0, 9,    235.5, 2,    19.15, 2,    21.21, 2,     0.00, 2,     1.43, 2,    0.024, 2,    0.020, 2,   2164.5, 2,   -999.0, 9,   -999.0, 9,   4.0201,   -999.0, 9, -999.000, 9
318MHYDROS4, A16C, 378, 1, 21, 21, 2, 19890412, 1619, 0.6483, -36.5033, 4508,  -999.00,   1645.2,   4.0214,  34.9790, 2,  34.9780, 2,   -999.0, 9,    245.5, 2,    18.08, 2,    20.03, 2,     0.00, 2,     1.36, 2,    0.033, 2,    0.024, 2,   2162.5, 2,   -999.0, 9,   -999.0, 9,   3.8875,   -999.0, 9, -999.000, 9
318MHYDROS4, A16C, 378, 1, 22, 22, 2, 19890412, 1619, 0.6483, -36.5033, 4508,  -999.00,   1748.7,   3.9587,  34.9896, 2,  34.9890, 2,   -999.0, 9,    253.3, 2,    17.00, 2,    19.15, 2,     0.00, 2,     1.29, 2,    0.070, 2,    0.036, 2,   2163.6, 2,   -999.0, 9,   -999.0, 9,   3.8158,   -999.0, 9, -999.000, 9
318MHYDROS4, A16C, 378, 1, 23, 23, 2, 19890412, 1619, 0.6483, -36.5033, 4508,  -999.00,   1852.4,   3.8843,  34.9876, 2,  34.9870, 2,   -999.0, 9,    254.6, 2,    17.10, 2,    19.06, 2,     0.00, 2,     1.28, 2,    0.065, 2,    0.050, 2,   -999.0, 9,   -999.0, 9,   -999.0, 9,   3.7327,   -999.0, 9, -999.000, 9
318MHYDROS4, A16C, 378, 1, 24, 24, 2, 19890412, 1619, 0.6483, -36.5033, 4508,  -999.00,   2058.1,   3.4548,  34.9674, 2,  34.9670, 2,   -999.0, 9,    256.8, 2,    21.01, 2,    19.35, 2,     0.00, 2,     1.30, 2, -999.000, 9, -999.000, 9,   2162.0, 2,   -999.0, 9,   -999.0, 9,   3.2899,   -999.0, 9, -999.000, 9
318MHYDROS4, A16C, 378, 1, 25, 25, 2, 19890412, 1619, 0.6483, -36.5033, 4508,  -999.00,   2265.1,   3.2156,  34.9550, 2,  34.9560, 2,   -999.0, 9,    256.8, 2,    23.94, 2,    19.54, 2,     0.00, 2,     1.32, 2,    0.015, 2, -999.000, 9,   -999.0, 9,   -999.0, 9,   -999.0, 9,   3.0347,   -999.0, 9, -999.000, 9
318MHYDROS4, A16C, 378, 1, 26, 26, 2, 19890412, 1619, 0.6483, -36.5033, 4508,  -999.00,   2470.8,   3.1231,  34.9539, 2,  34.9530, 2,   -999.0, 9,    260.7, 2,    23.55, 2,    19.06, 2,     0.00, 2,     1.29, 2, -999.000, 9, -999.000, 9,   2162.4, 2,   -999.0, 9,   -999.0, 9,   2.9238,   -999.0, 9, -999.000, 9
318MHYDROS4, A16C, 378, 1, 27, 27, 2, 19890412, 1619, 0.6483, -36.5033, 4508,  -999.00,   2677.6,   2.9311,  34.9390, 2,  34.9390, 2,   -999.0, 9,    258.1, 2,    28.05, 2,    19.84, 2,     0.00, 2,     1.34, 2,    0.009, 2,    0.009, 2,   -999.0, 9,   -999.0, 9,   -999.0, 9,   2.7148,   -999.0, 9, -999.000, 9
318MHYDROS4, A16C, 378, 1, 28, 28, 2, 19890412, 1619, 0.6483, -36.5033, 4508,  -999.00,   2884.4,   2.7599,  34.9252, 2,  34.9250, 2,   -999.0, 9,    255.5, 2,    32.25, 2,    20.42, 2,     0.00, 2,     1.38, 2, -999.000, 9, -999.000, 9,   2172.9, 2,   -999.0, 9,   -999.0, 9,   2.5263,   -999.0, 9, -999.000, 9
318MHYDROS4, A16C, 378, 1, 29, 29, 2, 19890412, 1619, 0.6483, -36.5033, 4508,  -999.00,   3091.6,   2.6733,  34.9195, 2,  34.9190, 2,   -999.0, 9,    255.9, 2,    33.72, 2,    20.33, 2,     0.00, 2,     1.39, 2,    0.010, 2, -999.000, 9,   -999.0, 9,   -999.0, 9,   -999.0, 9,   2.4202,   3095.0, 2,    2.666, 2
318MHYDROS4, A16C, 378, 1, 30, 30, 2, 19890412, 1619, 0.6483, -36.5033, 4508,  -999.00,   3298.4,   2.5916,  34.9134, 2,  34.9130, 2,   -999.0, 9,    255.9, 2,    34.89, 2,    20.33, 2,     0.00, 2,     1.39, 2, -999.000, 9, -999.000, 9,   2177.0, 2,   -999.0, 9,   -999.0, 9,   2.3187,   -999.0, 9, -999.000, 9
318MHYDROS4, A16C, 378, 1, 31, 31, 2, 19890412, 1619, 0.6483, -36.5033, 4508,  -999.00,   3505.8,   2.4852,  34.9078, 2,  34.9080, 2,   -999.0, 9,    258.9, 2,    35.08, 2,    20.03, 2,     0.00, 2,     1.38, 2,    0.007, 2,    0.013, 2,   -999.0, 9,   -999.0, 9,   -999.0, 9,   2.1926,   -999.0, 9, -999.000, 9
318MHYDROS4, A16C, 378, 1, 32, 32, 2, 19890412, 1619, 0.6483, -36.5033, 4508,  -999.00,   3713.4,   2.4007,  34.9057, 2,  34.9060, 2,   -999.0, 9,    264.2, 2,    32.64, 2,    19.35, 2,     0.00, 2,     1.33, 2,    0.037, 2,    0.019, 2,   2171.4, 2,   -999.0, 9,   -999.0, 9,   2.0874,   -999.0, 9, -999.000, 9
318MHYDROS4, A16C, 378, 1, 33, 33, 2, 19890412, 1619, 0.6483, -36.5033, 4508,  -999.00,   3921.0,   2.3399,  34.8999, 2,  34.9020, 2,   -999.0, 9,    264.2, 2,    33.91, 2,    19.45, 2,     0.00, 2,     1.33, 2,    0.035, 2,    0.032, 2,   -999.0, 9,   -999.0, 9,   -999.0, 9,   2.0051,   -999.0, 9, -999.000, 9
318MHYDROS4, A16C, 378, 1, 34, 34, 2, 19890412, 1619, 0.6483, -36.5033, 4508,  -999.00,   4128.4,   1.8641,  34.8452, 2,  34.8460, 2,   -999.0, 9,    251.6, 2,    57.07, 2,    22.87, 2,     0.00, 2,     1.57, 2, -999.000, 9, -999.000, 9,   2197.0, 2,   -999.0, 9,   -999.0, 9,   1.5196,   -999.0, 9, -999.000, 9
318MHYDROS4, A16C, 378, 1, 35, 35, 2, 19890412, 1619, 0.6483, -36.5033, 4508,  -999.00,   4337.3,   1.1263,  34.7617, 2,  34.7610, 2,   -999.0, 9,    233.3, 2,    94.51, 2,    28.44, 2,     0.00, 2,     1.95, 2, -999.000, 9, -999.000, 9,   -999.0, 9,   -999.0, 9,   -999.0, 9,   0.7807,   4327.4, 2,    1.128, 2
318MHYDROS4, A16C, 378, 1, 36, 36, 2, 19890412, 1619, 0.6483, -36.5033, 4508,  -999.00,   4589.2,   0.9971,  34.7441, 2,  34.7430, 2,   -999.0, 9,    228.1, 2,   100.67, 2,    29.32, 2,     0.00, 2,     2.03, 2,    0.000, 2,    0.006, 2,   2244.9, 2,   -999.0, 9,   -999.0, 9,   0.6273,   -999.0, 9, -999.000, 9