BOTTLE,20110318CCHDOSIODM
EXPOCODE,SECT_ID,STNNBR,CASTNO,SAMPNO,BTLNBR,BTLNBR_FLAG_W,DATE,TIME,LATITUDE,LONGITUDE,DEPTH,CTDRAW,CTDPRS,CTDTMP,CTDSAL,CTDSAL_FLAG_W,SALNTY,SALNTY_FLAG_W,CTDOXY,CTDOXY_FLAG_W,OXYGEN,OXYGEN_FLAG_W,SILCAT,SILCAT_FLAG_W,NITRAT,NITRAT_FLAG_W,NITRIT,NITRIT_FLAG_W,PHSPHT,PHSPHT_FLAG_W,CFC-11,CFC-11_FLAG_W,CFC-12,CFC-12_FLAG_W,TCARBN,TCARBN_FLAG_W,ALKALI,ALKALI_FLAG_W,PCO2,PCO2_FLAG_W,THETA,REVPRS,REVPRS_FLAG_W,REVTMP,REVTMP_FLAG_W
,,,,,,,,,,,METERS,DBAR,DBAR,ITS-90,PSS-78,,PSS-78,,UMOL/KG,,UMOL/KG,,UMOL/KG,,UMOL/KG,,UMOL/KG,,UMOL/KG,,PMOL/KG,,PMOL/KG,,UMOL/KG,,UMOL/KG,,UATM,,DEG C,DBAR,,ITS-90,
318MHYDROS4, A16C, 372, 1, 71, 71, 2, 19890408, 0646, 0.3433, -25.0000, 3493,  -999.00,      0.9,  27.6637,  35.6206, 2,  35.6990, 2,   -999.0, 9,    212.6, 2,     1.56, 2,     0.00, 2,     0.00, 2,     0.03, 2, -999.000, 9, -999.000, 9,   1982.5, 2,   2343.2, 2,    264.6, 2,  27.6635,   -999.0, 9, -999.000, 9
318MHYDROS4, A16C, 372, 1, 5, 5, 2, 19890408, 0646, 0.3433, -25.0000, 3493,  -999.00,     33.7,  27.5237,  36.0452, 2,  36.0480, 2,   -999.0, 9,    216.0, 2,     1.56, 2,     0.00, 2,     0.00, 2,     0.04, 2, -999.000, 9, -999.000, 9,   2006.2, 2,   2360.9, 2,    279.0, 2,  27.5158,   -999.0, 9, -999.000, 9
318MHYDROS4, A16C, 372, 1, 6, 6, 2, 19890408, 0646, 0.3433, -25.0000, 3493,  -999.00,     54.6,  27.3726,  36.1103, 2,  36.1420, 2,   -999.0, 9,    216.0, 2,     1.56, 2,     0.00, 2,     0.00, 2,     0.06, 2, -999.000, 9, -999.000, 9,   -999.0, 9,   -999.0, 9,   -999.0, 9,  27.3599,   -999.0, 9, -999.000, 9
318MHYDROS4, A16C, 372, 1, 7, 7, 2, 19890408, 0646, 0.3433, -25.0000, 3493,  -999.00,     75.1,  23.2812,  36.5162, 2,  36.5250, 2,   -999.0, 9,    190.8, 2,     2.05, 2,     1.46, 2,     0.31, 2,     0.30, 2, -999.000, 9, -999.000, 9,   -999.0, 9,   -999.0, 9,   -999.0, 9,  23.2656,   -999.0, 9, -999.000, 9
318MHYDROS4, A16C, 372, 1, 8, 8, 2, 19890408, 0646, 0.3433, -25.0000, 3493,  -999.00,     91.1,  18.8318,  36.0644, 2,  36.0580, 2,   -999.0, 9,   -999.0, 9,     3.81, 2,     8.20, 2,     0.08, 2,     0.67, 2, -999.000, 9, -999.000, 9,   -999.0, 9,   -999.0, 9,   -999.0, 9,  18.8156,   -999.0, 9, -999.000, 9
318MHYDROS4, A16C, 372, 1, 9, 9, 2, 19890408, 0646, 0.3433, -25.0000, 3493,  -999.00,    122.2,  15.6850,  35.6501, 2,  35.6440, 2,   -999.0, 9,    159.7, 2,     5.18, 2,    12.40, 2,     0.02, 2,     0.93, 2, -999.000, 9, -999.000, 9,   -999.0, 9,   -999.0, 9,   -999.0, 9,  15.6658,   -999.0, 9, -999.000, 9
318MHYDROS4, A16C, 372, 1, 10, 10, 2, 19890408, 0646, 0.3433, -25.0000, 3493,  -999.00,    173.4,  13.5494,  35.3423, 2,  35.3410, 2,   -999.0, 9,    142.3, 2,     7.13, 2,    17.58, 2,     0.01, 2,     1.21, 2, -999.000, 9, -999.000, 9,   -999.0, 9,   -999.0, 9,   -999.0, 9,  13.5248,   -999.0, 9, -999.000, 9
318MHYDROS4, A16C, 372, 1, 11, 11, 2, 19890408, 0646, 0.3433, -25.0000, 3493,  -999.00,    229.2,  13.2750,  35.3085, 2,  35.3100, 2,   -999.0, 9,    117.9, 2,     8.30, 2,    20.81, 2,     0.00, 2,     1.40, 2, -999.000, 9, -999.000, 9,   -999.0, 9,   -999.0, 9,   -999.0, 9,  13.2429,   -999.0, 9, -999.000, 9
318MHYDROS4, A16C, 372, 1, 12, 12, 2, 19890408, 0646, 0.3433, -25.0000, 3493,  -999.00,    269.3,  11.4119,  35.0867, 2,  35.0860, 2,   -999.0, 9,     92.6, 2,    11.43, 2,    27.07, 2,     0.00, 2,     1.74, 2, -999.000, 9, -999.000, 9,   -999.0, 9,   -999.0, 9,   -999.0, 9,  11.3778,   -999.0, 9, -999.000, 9
318MHYDROS4, A16C, 372, 1, 13, 13, 2, 19890408, 0646, 0.3433, -25.0000, 3493,  -999.00,    325.3,   9.6489,  34.8883, 2,  34.8950, 2,   -999.0, 9,    106.1, 2,    13.88, 2,    29.02, 2,     0.00, 2,     1.87, 2, -999.000, 9, -999.000, 9,   -999.0, 9,   -999.0, 9,   -999.0, 9,   9.6117,   -999.0, 9, -999.000, 9
318MHYDROS4, A16C, 372, 1, 14, 14, 2, 19890408, 0646, 0.3433, -25.0000, 3493,  -999.00,    448.5,   8.0078,  34.7111, 2,  34.7160, 2,   -999.0, 9,    115.7, 2,    17.59, 2,    31.57, 2,     0.00, 2,     2.05, 2, -999.000, 9, -999.000, 9,   -999.0, 9,   -999.0, 9,   -999.0, 9,   7.9619,   -999.0, 9, -999.000, 9
318MHYDROS4, A16C, 372, 1, 15, 15, 2, 19890408, 0646, 0.3433, -25.0000, 3493,  -999.00,    525.1,   6.5152,  34.5720, 2,  34.5730, 2,   -999.0, 9,    138.3, 2,    21.90, 2,    32.45, 2,     0.00, 2,     2.15, 2, -999.000, 9, -999.000, 9,   -999.0, 9,   -999.0, 9,   -999.0, 9,   6.4671,   -999.0, 9, -999.000, 9
318MHYDROS4, A16C, 372, 1, 16, 16, 2, 19890408, 0646, 0.3433, -25.0000, 3493,  -999.00,    616.3,   5.6688,  34.5151, 2,  34.5190, 2,   -999.0, 9,    144.3, 2,    25.61, 2,    33.53, 2,     0.00, 2,     2.25, 2, -999.000, 9, -999.000, 9,   -999.0, 9,   -999.0, 9,   -999.0, 9,   5.6160,   -999.0, 9, -999.000, 9
318MHYDROS4, A16C, 372, 1, 17, 17, 2, 19890408, 0646, 0.3433, -25.0000, 3493,  -999.00,    719.0,   5.2321,  34.5017, 2,  34.5020, 2,   -999.0, 9,    146.5, 2,    28.06, 2,    34.12, 2,     0.00, 2,     2.30, 2, -999.000, 9, -999.000, 9,   -999.0, 9,   -999.0, 9,   -999.0, 9,   5.1724,   -999.0, 9, -999.000, 9
318MHYDROS4, A16C, 372, 1, 18, 18, 2, 19890408, 0646, 0.3433, -25.0000, 3493,  -999.00,    871.7,   4.6235,  34.5313, 2,  34.5320, 2,   -999.0, 9,    152.1, 2,    31.87, 2,    34.02, 2,     0.00, 2,     2.32, 2, -999.000, 9, -999.000, 9,   -999.0, 9,   -999.0, 9,   -999.0, 9,   4.5541,   -999.0, 9, -999.000, 9
318MHYDROS4, A16C, 372, 1, 19, 19, 2, 19890408, 0646, 0.3433, -25.0000, 3493,  -999.00,   1024.8,   4.5325,  34.6349, 2,  34.6350, 2,   -999.0, 9,    159.5, 2,    30.99, 2,    32.26, 2,     0.00, 2,     2.21, 2, -999.000, 9, -999.000, 9,   -999.0, 9,   -999.0, 9,   -999.0, 9,   4.4504,   -999.0, 9, -999.000, 9
318MHYDROS4, A16C, 372, 1, 20, 20, 2, 19890408, 0646, 0.3433, -25.0000, 3493,  -999.00,   1126.5,   4.4652,  34.7436, 2,  34.7430, 2,   -999.0, 9,    171.2, 2,    28.34, 2,    29.91, 2,     0.00, 2,     2.04, 2, -999.000, 9, -999.000, 9,   -999.0, 9,   -999.0, 9,   -999.0, 9,   4.3744,   -999.0, 9, -999.000, 9
318MHYDROS4, A16C, 372, 1, 21, 21, 2, 19890408, 0646, 0.3433, -25.0000, 3493,  -999.00,   1229.6,   4.5083,  34.8040, 2,  34.8040, 2,   -999.0, 9,    182.1, 2,    25.90, 2,    28.15, 2,     0.00, 2,     1.90, 2, -999.000, 9, -999.000, 9,   -999.0, 9,   -999.0, 9,   -999.0, 9,   4.4078,   -999.0, 9, -999.000, 9
318MHYDROS4, A16C, 372, 1, 22, 22, 2, 19890408, 0646, 0.3433, -25.0000, 3493,  -999.00,   1332.3,   4.5746,  34.9047, 2,  34.9050, 2,   -999.0, 9,    202.5, 2,    21.40, 2,    24.63, 2,     0.00, 2,     1.66, 2, -999.000, 9, -999.000, 9,   -999.0, 9,   -999.0, 9,   -999.0, 9,   4.4638,   -999.0, 9, -999.000, 9
318MHYDROS4, A16C, 372, 1, 23, 23, 2, 19890408, 0646, 0.3433, -25.0000, 3493,  -999.00,   1434.6,   4.3062,  34.9546, 2,  34.9550, 2,   -999.0, 9,   -999.0, 9,    18.76, 2,    21.99, 2,     0.00, 2,     1.46, 2,    0.024, 2,    0.016, 2,   -999.0, 9,   -999.0, 9,   -999.0, 9,   4.1886,   -999.0, 9, -999.000, 9
318MHYDROS4, A16C, 372, 1, 24, 24, 2, 19890408, 0646, 0.3433, -25.0000, 3493,  -999.00,   1537.5,   4.1650,  34.9660, 2,  34.9670, 2,   -999.0, 9,    235.1, 2,    18.08, 2,    21.01, 2,     0.00, 2,     1.40, 2,    0.020, 2,    0.017, 2,   -999.0, 9,   -999.0, 9,   -999.0, 9,   4.0395,   -999.0, 9, -999.000, 9
318MHYDROS4, A16C, 372, 1, 25, 25, 2, 19890408, 0646, 0.3433, -25.0000, 3493,  -999.00,   1640.9,   4.0335,  34.9733, 2,  34.9750, 2,   -999.0, 9,    242.0, 2,    17.49, 2,    20.23, 2,     0.00, 2,     1.35, 2,    0.022, 2,    0.016, 2,   -999.0, 9,   -999.0, 9,   -999.0, 9,   3.8999,   -999.0, 9, -999.000, 9
318MHYDROS4, A16C, 372, 1, 26, 26, 2, 19890408, 0646, 0.3433, -25.0000, 3493,  -999.00,   1743.4,   3.8339,  34.9802, 2,  34.9810, 2,   -999.0, 9,    252.4, 2,    17.20, 2,    19.25, 2,     0.00, 2,     1.28, 2,    0.033, 2,    0.020, 2,   -999.0, 9,   -999.0, 9,   -999.0, 9,   3.6932,   -999.0, 9, -999.000, 9
318MHYDROS4, A16C, 372, 1, 27, 27, 2, 19890408, 0646, 0.3433, -25.0000, 3493,  -999.00,   1846.4,   3.6255,  34.9721, 2,  34.9730, 2,   -999.0, 9,    254.6, 2,    18.76, 2,    19.25, 2,     0.00, 2,     1.28, 2,    0.021, 2,    0.017, 2,   -999.0, 9,   -999.0, 9,   -999.0, 9,   3.4780,   -999.0, 9, -999.000, 9
318MHYDROS4, A16C, 372, 1, 28, 28, 2, 19890408, 0646, 0.3433, -25.0000, 3493,  -999.00,   2051.4,   3.3697,  34.9564, 2,  34.9570, 2,   -999.0, 9,    252.0, 2,    22.77, 2,    19.84, 2,     0.00, 2,     1.33, 2, -999.000, 9, -999.000, 9,   -999.0, 9,   -999.0, 9,   -999.0, 9,   3.2067,   -999.0, 9, -999.000, 9
318MHYDROS4, A16C, 372, 1, 29, 29, 2, 19890408, 0646, 0.3433, -25.0000, 3493,  -999.00,   2256.2,   3.1360,  34.9427, 2,  34.9440, 2,   -999.0, 9,   -999.0, 9,    27.17, 2,    20.42, 2,     0.00, 2,     1.38, 2, -999.000, 9, -999.000, 9,   -999.0, 9,   -999.0, 9,   -999.0, 9,   2.9573,   2254.4, 2,    3.127, 2
318MHYDROS4, A16C, 372, 1, 30, 30, 2, 19890408, 0646, 0.3433, -25.0000, 3493,  -999.00,   2464.9,   2.9645,  34.9332, 2,  34.9350, 2,   -999.0, 9,    251.1, 2,    30.49, 2,    20.42, 2,     0.00, 2,     1.38, 2, -999.000, 9, -999.000, 9,   -999.0, 9,   -999.0, 9,   -999.0, 9,   2.7687,   -999.0, 9, -999.000, 9
318MHYDROS4, A16C, 372, 1, 31, 31, 2, 19890408, 0646, 0.3433, -25.0000, 3493,  -999.00,   2671.9,   2.8437,  34.9259, 2,  34.9270, 2,   -999.0, 9,    251.1, 2,    32.35, 2,    20.62, 2,     0.00, 2,     1.39, 2, -999.000, 9, -999.000, 9,   -999.0, 9,   -999.0, 9,   -999.0, 9,   2.6298,   -999.0, 9, -999.000, 9
318MHYDROS4, A16C, 372, 1, 32, 32, 2, 19890408, 0646, 0.3433, -25.0000, 3493,  -999.00,   2877.2,   2.7525,  34.9197, 2,  34.9200, 2,   -999.0, 9,    251.6, 2,    34.50, 2,    20.82, 2,     0.00, 2,     1.39, 2, -999.000, 9, -999.000, 9,   -999.0, 9,   -999.0, 9,   -999.0, 9,   2.5198,   -999.0, 9, -999.000, 9
318MHYDROS4, A16C, 372, 1, 33, 33, 2, 19890408, 0646, 0.3433, -25.0000, 3493,  -999.00,   3084.9,   2.5793,  34.9086, 2,  34.9100, 2,   -999.0, 9,    251.6, 2,    37.14, 2,    20.91, 2,     0.01, 2,     1.41, 2, -999.000, 9, -999.000, 9,   -999.0, 9,   -999.0, 9,   -999.0, 9,   2.3291,   -999.0, 9, -999.000, 9
318MHYDROS4, A16C, 372, 1, 34, 34, 2, 19890408, 0646, 0.3433, -25.0000, 3493,  -999.00,   3292.8,   2.5247,  34.9045, 2,  34.9050, 2,   -999.0, 9,    252.9, 2,    38.11, 2,    20.82, 2,     0.00, 2,     1.40, 2, -999.000, 9, -999.000, 9,   -999.0, 9,   -999.0, 9,   -999.0, 9,   2.2539,   -999.0, 9, -999.000, 9
318MHYDROS4, A16C, 372, 1, 35, 35, 2, 19890408, 0646, 0.3433, -25.0000, 3493,  -999.00,   3499.3,   2.4646,  34.9001, 2,  34.9000, 2,   -999.0, 9,    253.3, 2,    38.80, 2,    20.91, 2,     0.00, 2,     1.41, 2, -999.000, 9, -999.000, 9,   -999.0, 9,   -999.0, 9,   -999.0, 9,   2.1732,   3491.1, 2,    2.456, 2
318MHYDROS4, A16C, 372, 1, 36, 36, 2, 19890408, 0646, 0.3433, -25.0000, 3493,  -999.00,   3587.5,   2.4558,  34.8990, 2,  34.9010, 2,   -999.0, 9,    253.3, 2,    39.38, 2,    20.82, 2,     0.00, 2,     1.41, 2, -999.000, 9, -999.000, 9,   -999.0, 9,   -999.0, 9,   -999.0, 9,   2.1551,   -999.0, 9, -999.000, 9