BOTTLE,20110318CCHDOSIODM
EXPOCODE,SECT_ID,STNNBR,CASTNO,SAMPNO,BTLNBR,BTLNBR_FLAG_W,DATE,TIME,LATITUDE,LONGITUDE,DEPTH,CTDRAW,CTDPRS,CTDTMP,CTDSAL,CTDSAL_FLAG_W,SALNTY,SALNTY_FLAG_W,CTDOXY,CTDOXY_FLAG_W,OXYGEN,OXYGEN_FLAG_W,SILCAT,SILCAT_FLAG_W,NITRAT,NITRAT_FLAG_W,NITRIT,NITRIT_FLAG_W,PHSPHT,PHSPHT_FLAG_W,CFC-11,CFC-11_FLAG_W,CFC-12,CFC-12_FLAG_W,TCARBN,TCARBN_FLAG_W,ALKALI,ALKALI_FLAG_W,PCO2,PCO2_FLAG_W,THETA,REVPRS,REVPRS_FLAG_W,REVTMP,REVTMP_FLAG_W
,,,,,,,,,,,METERS,DBAR,DBAR,ITS-90,PSS-78,,PSS-78,,UMOL/KG,,UMOL/KG,,UMOL/KG,,UMOL/KG,,UMOL/KG,,UMOL/KG,,PMOL/KG,,PMOL/KG,,UMOL/KG,,UMOL/KG,,UATM,,DEG C,DBAR,,ITS-90,
318MHYDROS4, A16C, 319, 1, 1, 1, 2, 19890323, 0154, -29.0533, -25.0317, 5224,  -999.00,      3.9,  25.1534,  36.6323, 2,  36.6320, 2,   -999.0, 9,    213.7, 2,     1.70, 2,     0.00, 2,     0.00, 2,     0.07, 2, -999.000, 9, -999.000, 9,   -999.0, 9,   -999.0, 9,   -999.0, 9,  25.1525,   -999.0, 9, -999.000, 9
318MHYDROS4, A16C, 319, 1, 2, 2, 2, 19890323, 0154, -29.0533, -25.0317, 5224,  -999.00,      5.1,  25.1539,  36.6311, 2, -999.0000, 9,   -999.0, 9,   -999.0, 9,  -999.00, 9,  -999.00, 9,  -999.00, 9,  -999.00, 9, -999.000, 9, -999.000, 9,   2038.9, 2,   -999.0, 9,    287.4, 2,  25.1528,   -999.0, 9, -999.000, 9
318MHYDROS4, A16C, 319, 1, 3, 3, 2, 19890323, 0154, -29.0533, -25.0317, 5224,  -999.00,     31.5,  25.0998,  36.6245, 2,  36.6250, 2,   -999.0, 9,    214.2, 2,     1.68, 2,     0.00, 2,     0.00, 2,     0.05, 2, -999.000, 9, -999.000, 9,   2039.2, 2,   2396.3, 2,    289.6, 2,  25.0929,   -999.0, 9, -999.000, 9
318MHYDROS4, A16C, 319, 1, 71, 71, 2, 19890323, 0154, -29.0533, -25.0317, 5224,  -999.00,     57.5,  21.6011,  36.3322, 2,  36.3450, 2,   -999.0, 9,    236.7, 2,     1.87, 2,     0.00, 2,     0.00, 2,     0.08, 2, -999.000, 9, -999.000, 9,   -999.0, 9,   -999.0, 9,   -999.0, 9,  21.5898,   -999.0, 9, -999.000, 9
318MHYDROS4, A16C, 319, 1, 5, 5, 2, 19890323, 0154, -29.0533, -25.0317, 5224,  -999.00,     98.0,  19.3479,  36.1295, 2,  36.1320, 2,   -999.0, 9,    223.9, 2,     1.86, 2,     0.00, 2,     0.00, 2,     0.10, 2, -999.000, 9, -999.000, 9,   -999.0, 9,   -999.0, 9,   -999.0, 9,  19.3301,   -999.0, 9, -999.000, 9
318MHYDROS4, A16C, 319, 1, 6, 6, 2, 19890323, 0154, -29.0533, -25.0317, 5224,  -999.00,    154.0,  17.4435,  35.8083, 2,  35.8100, 2,   -999.0, 9,    226.5, 2,     1.85, 2,     0.23, 2,     0.05, 2,     0.15, 2, -999.000, 9, -999.000, 9,   2075.8, 2,   -999.0, 9,   -999.0, 9,  17.4175,   -999.0, 9, -999.000, 9
318MHYDROS4, A16C, 319, 1, 7, 7, 2, 19890323, 0154, -29.0533, -25.0317, 5224,  -999.00,    200.6,  16.5204,  35.6572, 2,  35.6590, 2,   -999.0, 9,    223.2, 2,     2.03, 2,     1.33, 2,     0.01, 2,     0.20, 2, -999.000, 9, -999.000, 9,   -999.0, 9,   -999.0, 9,   -999.0, 9,  16.4877,   -999.0, 9, -999.000, 9
318MHYDROS4, A16C, 319, 1, 8, 8, 2, 19890323, 0154, -29.0533, -25.0317, 5224,  -999.00,    302.1,  14.5298,  35.4117, 2,  35.4110, 2,   -999.0, 9,    218.5, 2,     2.62, 2,     5.17, 2,     0.00, 2,     0.43, 2, -999.000, 9, -999.000, 9,   2089.1, 2,   -999.0, 9,   -999.0, 9,  14.4847,   -999.0, 9, -999.000, 9
318MHYDROS4, A16C, 319, 1, 9, 9, 2, 19890323, 0154, -29.0533, -25.0317, 5224,  -999.00,    393.3,  13.3356,  35.2803, 2,  35.2780, 2,   -999.0, 9,    219.5, 2,     3.61, 2,     7.82, 2,     0.00, 2,     0.58, 2, -999.000, 9, -999.000, 9,   2108.5, 2,   -999.0, 9,   -999.0, 9,  13.2800,   -999.0, 9, -999.000, 9
318MHYDROS4, A16C, 319, 1, 10, 10, 2, 19890323, 0154, -29.0533, -25.0317, 5224,  -999.00,    496.0,  11.4194,  34.9928, 2,  34.9920, 2,   -999.0, 9,    210.7, 2,     5.59, 2,    13.10, 2,     0.00, 2,     0.89, 2, -999.000, 9, -999.000, 9,   2144.6, 2,   -999.0, 9,   -999.0, 9,  11.3559,   -999.0, 9, -999.000, 9
318MHYDROS4, A16C, 319, 1, 11, 11, 2, 19890323, 0154, -29.0533, -25.0317, 5224,  -999.00,    598.7,   9.2363,  34.7188, 2,  34.7170, 2,   -999.0, 9,    202.8, 2,     9.37, 2,    19.34, 2,     0.00, 2,     1.28, 2, -999.000, 9, -999.000, 9,   2150.6, 2,   -999.0, 9,   -999.0, 9,   9.1690,   -999.0, 9, -999.000, 9
318MHYDROS4, A16C, 319, 1, 12, 12, 2, 19890323, 0154, -29.0533, -25.0317, 5224,  -999.00,    696.5,   6.7264,  34.4514, 2,  34.4500, 2,   -999.0, 9,    216.9, 2,    13.76, 2,    24.40, 2,     0.00, 2,     1.62, 2, -999.000, 9, -999.000, 9,   2158.2, 2,   -999.0, 9,   -999.0, 9,   6.6608,   -999.0, 9, -999.000, 9
318MHYDROS4, A16C, 319, 1, 13, 13, 2, 19890323, 0154, -29.0533, -25.0317, 5224,  -999.00,    798.1,   5.3175,  34.3357, 2,  34.3360, 2,   -999.0, 9,    226.5, 2,    17.74, 2,    26.77, 2,     0.00, 2,     1.80, 2, -999.000, 9, -999.000, 9,   2164.9, 2,   -999.0, 9,   -999.0, 9,   5.2505,   -999.0, 9, -999.000, 9
318MHYDROS4, A16C, 319, 1, 14, 14, 2, 19890323, 0154, -29.0533, -25.0317, 5224,  -999.00,    899.6,   4.4612,  34.3155, 2,  34.3150, 2,   -999.0, 9,    219.4, 2,    25.52, 2,    29.35, 2,     0.00, 2,     2.01, 2, -999.000, 9, -999.000, 9,   2175.9, 2,   -999.0, 9,   -999.0, 9,   4.3909,   -999.0, 9, -999.000, 9
318MHYDROS4, A16C, 319, 1, 15, 15, 2, 19890323, 0154, -29.0533, -25.0317, 5224,  -999.00,    995.6,   3.8840,  34.3230, 2,  34.3210, 2,   -999.0, 9,    213.1, 2,    32.69, 2,    30.84, 2,     0.00, 2,     2.16, 2, -999.000, 9, -999.000, 9,   -999.0, 9,   -999.0, 9,   -999.0, 9,   3.8099,   -999.0, 9, -999.000, 9
318MHYDROS4, A16C, 319, 1, 16, 16, 2, 19890323, 0154, -29.0533, -25.0317, 5224,  -999.00,   1195.8,   3.2482,  34.4274, 2, -999.0000, 9,   -999.0, 9,   -999.0, 9,  -999.00, 9,  -999.00, 9,  -999.00, 9,  -999.00, 9, -999.000, 9, -999.000, 9,   2221.0, 2,   -999.0, 9,   -999.0, 9,   3.1631,   -999.0, 9, -999.000, 9
318MHYDROS4, A16C, 319, 1, 17, 17, 2, 19890323, 0154, -29.0533, -25.0317, 5224,  -999.00,   1398.4,   3.0108,  34.5424, 2,  34.5410, 2,   -999.0, 9,    187.4, 2,    55.44, 2,    32.28, 2,     0.00, 2,     2.26, 2, -999.000, 9, -999.000, 9,   2220.4, 2,   -999.0, 9,   -999.0, 9,   2.9113,   -999.0, 9, -999.000, 9
318MHYDROS4, A16C, 319, 1, 18, 18, 2, 19890323, 0154, -29.0533, -25.0317, 5224,  -999.00,   1599.7,   2.8974,  34.6676, 2,  34.6660, 2,   -999.0, 9,    194.2, 2,    56.82, 2,    30.13, 2,     0.00, 2,     2.10, 2, -999.000, 9, -999.000, 9,   2213.5, 2,   -999.0, 9,   -999.0, 9,   2.7822,   -999.0, 9, -999.000, 9
318MHYDROS4, A16C, 319, 1, 19, 19, 2, 19890323, 0154, -29.0533, -25.0317, 5224,  -999.00,   1801.1,   2.8233,  34.7495, 2,  34.7490, 2,   -999.0, 9,    206.5, 2,    53.20, 2,    27.89, 2,     0.00, 2,     1.95, 2, -999.000, 9, -999.000, 9,   -999.0, 9,   -999.0, 9,   -999.0, 9,   2.6915,   -999.0, 9, -999.000, 9
318MHYDROS4, A16C, 319, 1, 20, 20, 2, 19890323, 0154, -29.0533, -25.0317, 5224,  -999.00,   1996.5,   2.7647,  34.8007, 2,  34.7990, 2,   -999.0, 9,    218.4, 2,    49.79, 2,    26.00, 2,     0.00, 2,     1.80, 2, -999.000, 9, -999.000, 9,   2193.2, 2,   -999.0, 9,   -999.0, 9,   2.6164,   -999.0, 9, -999.000, 9
318MHYDROS4, A16C, 319, 1, 21, 21, 2, 19890323, 0154, -29.0533, -25.0317, 5224,  -999.00,   2192.4,   2.7488,  34.8417, 2,  34.8400, 2,   -999.0, 9,    229.5, 2,    45.78, 2,    24.38, 2,     0.00, 2,     1.69, 2, -999.000, 9, -999.000, 9,   -999.0, 9,   -999.0, 9,   -999.0, 9,   2.5829,   -999.0, 9, -999.000, 9
318MHYDROS4, A16C, 319, 1, 22, 22, 2, 19890323, 0154, -29.0533, -25.0317, 5224,  -999.00,   2393.7,   2.7833,  34.8752, 2,  34.8740, 2,   -999.0, 9,    238.5, 2,    40.78, 2,    22.79, 2,     0.00, 2,     1.59, 2, -999.000, 9, -999.000, 9,   2181.7, 2,   -999.0, 9,   -999.0, 9,   2.5978,   -999.0, 9, -999.000, 9
318MHYDROS4, A16C, 319, 1, 23, 23, 2, 19890323, 0154, -29.0533, -25.0317, 5224,  -999.00,   2599.9,   2.8083,  34.9001, 2,  34.8990, 2,   -999.0, 9,    245.4, 2,    36.77, 2,    21.74, 2,     0.00, 2,     1.50, 2, -999.000, 9, -999.000, 9,   -999.0, 9,   -999.0, 9,   -999.0, 9,   2.6023,   -999.0, 9, -999.000, 9
318MHYDROS4, A16C, 319, 1, 24, 24, 2, 19890323, 0154, -29.0533, -25.0317, 5224,  -999.00,   2801.2,   2.7868,  34.9108, 2,  34.9090, 2,   -999.0, 9,    249.1, 2,    35.36, 2,    21.12, 2,     0.00, 2,     1.45, 2, -999.000, 9, -999.000, 9,   2172.3, 2,   -999.0, 9,   -999.0, 9,   2.5611,   -999.0, 9, -999.000, 9
318MHYDROS4, A16C, 319, 1, 25, 25, 2, 19890323, 0154, -29.0533, -25.0317, 5224,  -999.00,   2997.2,   2.7271,  34.9114, 2,  34.9110, 2,   -999.0, 9,    250.7, 2,    35.94, 2,    20.94, 2,     0.00, 2,     1.44, 2, -999.000, 9, -999.000, 9,   2176.4, 2,   -999.0, 9,   -999.0, 9,   2.4827,   -999.0, 9, -999.000, 9
318MHYDROS4, A16C, 319, 1, 26, 26, 2, 19890323, 0154, -29.0533, -25.0317, 5224,  -999.00,   3192.8,   2.5913,  34.9029, 2,  34.9010, 2,   -999.0, 9,    251.0, 2,    39.72, 2,    21.34, 2,     0.00, 2,     1.46, 2, -999.000, 9, -999.000, 9,   2184.4, 2,   -999.0, 9,   -999.0, 9,   2.3296,   -999.0, 9, -999.000, 9
318MHYDROS4, A16C, 319, 1, 27, 27, 2, 19890323, 0154, -29.0533, -25.0317, 5224,  -999.00,   3394.1,   2.4172,  34.8875, 2,  34.8870, 2,   -999.0, 9,    249.4, 2,    45.69, 2,    22.17, 2,     0.00, 2,     1.52, 2, -999.000, 9, -999.000, 9,   -999.0, 9,   -999.0, 9,   -999.0, 9,   2.1383,   -999.0, 9, -999.000, 9
318MHYDROS4, A16C, 319, 1, 28, 28, 2, 19890323, 0154, -29.0533, -25.0317, 5224,  -999.00,   3598.2,   2.1290,  34.8597, 2,  34.8580, 2,   -999.0, 9,    245.5, 2,    56.45, 2,    23.35, 2,     0.00, 2,     1.61, 2, -999.000, 9, -999.000, 9,   2206.4, 2,   -999.0, 9,   -999.0, 9,   1.8356,   -999.0, 9, -999.000, 9
318MHYDROS4, A16C, 319, 1, 29, 29, 2, 19890323, 0154, -29.0533, -25.0317, 5224,  -999.00,   3793.2,   1.7586,  34.8219, 2,  34.8200, 2,   -999.0, 9,    239.1, 2,    71.28, 2,    25.36, 2,     0.00, 2,     1.72, 2, -999.000, 9, -999.000, 9,   -999.0, 9,   -999.0, 9,   -999.0, 9,   1.4542,   -999.0, 9, -999.000, 9
318MHYDROS4, A16C, 319, 1, 30, 30, 2, 19890323, 0154, -29.0533, -25.0317, 5224,  -999.00,   3994.9,   1.4851,  34.7918, 2,  34.7910, 2,   -999.0, 9,    233.9, 2,    83.23, 2,    27.02, 2,     0.00, 2,     1.85, 2, -999.000, 9, -999.000, 9,   2229.1, 2,   -999.0, 9,   -999.0, 9,   1.1665,   -999.0, 9, -999.000, 9
318MHYDROS4, A16C, 319, 1, 31, 31, 2, 19890323, 0154, -29.0533, -25.0317, 5224,  -999.00,   4198.5,   1.3374,  34.7746, 2,  34.7740, 2,   -999.0, 9,    231.1, 2,    89.12, 2,    27.91, 2,     0.00, 2,  -999.00, 9, -999.000, 9, -999.000, 9,   -999.0, 9,   -999.0, 9,   -999.0, 9,   1.0008,   -999.0, 9, -999.000, 9
318MHYDROS4, A16C, 319, 1, 32, 32, 2, 19890323, 0154, -29.0533, -25.0317, 5224,  -999.00,   4407.6,   1.2834,  34.7669, 2,  34.7640, 2,   -999.0, 9,    229.5, 2,    91.50, 2,    28.30, 2,     0.00, 2,  -999.00, 9, -999.000, 9, -999.000, 9,   2237.8, 2,   -999.0, 9,   -999.0, 9,   0.9251,   -999.0, 9, -999.000, 9
318MHYDROS4, A16C, 319, 1, 33, 33, 2, 19890323, 0154, -29.0533, -25.0317, 5224,  -999.00,   4601.8,   1.2392,  34.7597, 2,  34.7590, 2,   -999.0, 9,    227.5, 2,    94.27, 2,    28.61, 2,     0.00, 2,  -999.00, 9, -999.000, 9, -999.000, 9,   -999.0, 9,   -999.0, 9,   -999.0, 9,   0.8601,   -999.0, 9, -999.000, 9
318MHYDROS4, A16C, 319, 1, 34, 34, 2, 19890323, 0154, -29.0533, -25.0317, 5224,  -999.00,   4795.3,   1.2217,  34.7559, 2,  34.7540, 2,   -999.0, 9,    227.8, 2,  -999.00, 9,  -999.00, 9,  -999.00, 9,  -999.00, 9, -999.000, 9, -999.000, 9,   2238.8, 2,   -999.0, 9,   -999.0, 9,   0.8207,   -999.0, 9, -999.000, 9
318MHYDROS4, A16C, 319, 1, 35, 35, 2, 19890323, 0154, -29.0533, -25.0317, 5224,  -999.00,   5103.8,   1.2291,  34.7535, 2,  34.7520, 2,   -999.0, 9,    227.3, 2,    96.45, 2,    28.91, 2,     0.00, 2,  -999.00, 9, -999.000, 9, -999.000, 9,   -999.0, 9,   -999.0, 9,   -999.0, 9,   0.7910,   5102.4, 2,    1.228, 2
318MHYDROS4, A16C, 319, 1, 36, 36, 2, 19890323, 0154, -29.0533, -25.0317, 5224,  -999.00,   5348.0,   1.2551,  34.7534, 2,  34.7510, 2,   -999.0, 9,    227.0, 2,    97.03, 2,    29.04, 2,     0.00, 2,  -999.00, 9, -999.000, 9, -999.000, 9,   2237.0, 2,   -999.0, 9,   -999.0, 9,   0.7860,   -999.0, 9, -999.000, 9