BOTTLE,20110318CCHDOSIODM
EXPOCODE,SECT_ID,STNNBR,CASTNO,SAMPNO,BTLNBR,BTLNBR_FLAG_W,DATE,TIME,LATITUDE,LONGITUDE,DEPTH,CTDRAW,CTDPRS,CTDTMP,CTDSAL,CTDSAL_FLAG_W,SALNTY,SALNTY_FLAG_W,CTDOXY,CTDOXY_FLAG_W,OXYGEN,OXYGEN_FLAG_W,SILCAT,SILCAT_FLAG_W,NITRAT,NITRAT_FLAG_W,NITRIT,NITRIT_FLAG_W,PHSPHT,PHSPHT_FLAG_W,CFC-11,CFC-11_FLAG_W,CFC-12,CFC-12_FLAG_W,TCARBN,TCARBN_FLAG_W,ALKALI,ALKALI_FLAG_W,PCO2,PCO2_FLAG_W,THETA,REVPRS,REVPRS_FLAG_W,REVTMP,REVTMP_FLAG_W
,,,,,,,,,,,METERS,DBAR,DBAR,ITS-90,PSS-78,,PSS-78,,UMOL/KG,,UMOL/KG,,UMOL/KG,,UMOL/KG,,UMOL/KG,,UMOL/KG,,PMOL/KG,,PMOL/KG,,UMOL/KG,,UMOL/KG,,UATM,,DEG C,DBAR,,ITS-90,
318MHYDROS4, A16C, 325, 1, 1, 1, 2, 19890324, 2041, -25.5683, -25.0033, 4960,  -999.00,      1.5,  26.4618,  36.6109, 2,  36.6138, 2,   -999.0, 9,    205.2, 2,     1.56, 2,     0.00, 2,     0.00, 2,     0.10, 2, -999.000, 9, -999.000, 9,   2049.3, 2,   2404.4, 2,    294.4, 2,  26.4614,   -999.0, 9, -999.000, 9
318MHYDROS4, A16C, 325, 1, 2, 2, 2, 19890324, 2041, -25.5683, -25.0033, 4960,  -999.00,     37.5,  23.8356,  36.4499, 2,  36.4206, 2,   -999.0, 9,    234.1, 2,     1.56, 2,     0.00, 2,     0.00, 2,     0.11, 2, -999.000, 9, -999.000, 9,   2048.8, 2,   2385.8, 2,    312.2, 2,  23.8277,   -999.0, 9, -999.000, 9
318MHYDROS4, A16C, 325, 1, 3, 3, 2, 19890324, 2041, -25.5683, -25.0033, 4960,  -999.00,     68.5,  21.0536,  36.3337, 2,  36.3376, 2,   -999.0, 9,    235.4, 2,     1.56, 2,     0.00, 2,     0.00, 2,     0.13, 2, -999.000, 9, -999.000, 9,   -999.0, 9,   -999.0, 9,   -999.0, 9,  21.0404,   -999.0, 9, -999.000, 9
318MHYDROS4, A16C, 325, 1, 71, 71, 2, 19890324, 2041, -25.5683, -25.0033, 4960,  -999.00,    109.5,  19.3761,  36.1143, 2,  36.1102, 2,   -999.0, 9,    227.6, 2,     1.56, 2,     0.00, 2,     0.00, 2,     0.15, 2, -999.000, 9, -999.000, 9,   2056.6, 2,   -999.0, 9,   -999.0, 9,  19.3562,   -999.0, 9, -999.000, 9
318MHYDROS4, A16C, 325, 1, 5, 5, 2, 19890324, 2041, -25.5683, -25.0033, 4960,  -999.00,    160.4,  17.3426,  35.7659, 2,  35.7452, 2,   -999.0, 9,    216.5, 2,     1.76, 2,     0.98, 2,     0.02, 2,     0.28, 2, -999.000, 9, -999.000, 9,   -999.0, 9,   -999.0, 9,   -999.0, 9,  17.3156,   -999.0, 9, -999.000, 9
318MHYDROS4, A16C, 325, 1, 6, 6, 2, 19890324, 2041, -25.5683, -25.0033, 4960,  -999.00,    211.2,  15.8684,  35.5487, 2,  35.5409, 2,   -999.0, 9,    218.5, 2,     1.76, 2,     2.64, 2,     0.01, 2,     0.36, 2, -999.000, 9, -999.000, 9,   2079.0, 2,   -999.0, 9,   -999.0, 9,  15.8350,   -999.0, 9, -999.000, 9
318MHYDROS4, A16C, 325, 1, 7, 7, 2, 19890324, 2041, -25.5683, -25.0033, 4960,  -999.00,    262.3,  14.5867,  35.3454, 2,  35.3408, 2,   -999.0, 9,    210.5, 2,     2.93, 2,     6.15, 2,     0.01, 2,     0.58, 2, -999.000, 9, -999.000, 9,   -999.0, 9,   -999.0, 9,   -999.0, 9,  14.5475,   -999.0, 9, -999.000, 9
318MHYDROS4, A16C, 325, 1, 8, 8, 2, 19890324, 2041, -25.5683, -25.0033, 4960,  -999.00,    313.7,  13.6304,  35.2684, 2,  35.2578, 2,   -999.0, 9,    211.5, 2,     3.52, 2,     8.01, 2,     0.01, 2,     0.66, 2, -999.000, 9, -999.000, 9,   -999.0, 9,   -999.0, 9,   -999.0, 9,  13.5855,   -999.0, 9, -999.000, 9
318MHYDROS4, A16C, 325, 1, 9, 9, 2, 19890324, 2041, -25.5683, -25.0033, 4960,  -999.00,    416.2,  11.5844,  35.0067, 2,  34.9977, 2,   -999.0, 9,    205.9, 2,     5.57, 2,    13.29, 2,     0.00, 2,     0.98, 2, -999.000, 9, -999.000, 9,   2100.3, 2,   -999.0, 9,   -999.0, 9,  11.5309,   -999.0, 9, -999.000, 9
318MHYDROS4, A16C, 325, 1, 10, 10, 2, 19890324, 2041, -25.5683, -25.0033, 4960,  -999.00,    518.2,   9.3130,  34.7291, 2,  34.7271, 2,   -999.0, 9,    205.6, 2,     9.29, 2,    19.25, 2,     0.00, 2,     1.35, 2, -999.000, 9, -999.000, 9,   2126.8, 2,   -999.0, 9,   -999.0, 9,   9.2546,   -999.0, 9, -999.000, 9
318MHYDROS4, A16C, 325, 1, 11, 11, 2, 19890324, 2041, -25.5683, -25.0033, 4960,  -999.00,    620.2,   7.1524,  34.5122, 2,  34.5133, 2,   -999.0, 9,    203.6, 2,    14.66, 2,    24.63, 2,     0.00, 2,     1.70, 2, -999.000, 9, -999.000, 9,   2152.8, 2,   -999.0, 9,   -999.0, 9,   7.0923,   -999.0, 9, -999.000, 9
318MHYDROS4, A16C, 325, 1, 12, 12, 2, 19890324, 2041, -25.5683, -25.0033, 4960,  -999.00,    722.6,   5.4120,  34.3800, 2,  34.3798, 2,   -999.0, 9,    209.0, 2,    21.41, 2,    28.16, 2,     0.00, 2,     1.93, 2, -999.000, 9, -999.000, 9,   2168.3, 2,   -999.0, 9,   -999.0, 9,   5.3511,   -999.0, 9, -999.000, 9
318MHYDROS4, A16C, 325, 1, 13, 13, 2, 19890324, 2041, -25.5683, -25.0033, 4960,  -999.00,    824.5,   4.3226,  34.3271, 2,  34.3262, 2,   -999.0, 9,    214.1, 2,    27.57, 2,    29.92, 2,     0.00, 2,     2.03, 2, -999.000, 9, -999.000, 9,   2175.9, 2,   -999.0, 9,   -999.0, 9,   4.2595,   -999.0, 9, -999.000, 9
318MHYDROS4, A16C, 325, 1, 14, 14, 2, 19890324, 2041, -25.5683, -25.0033, 4960,  -999.00,    926.8,   3.7716,  34.3621, 2,  34.3592, 2,   -999.0, 9,    202.6, 2,    36.96, 2,    31.77, 2,     0.00, 2,     2.16, 2, -999.000, 9, -999.000, 9,   -999.0, 9,   -999.0, 9,   -999.0, 9,   3.7039,   -999.0, 9, -999.000, 9
318MHYDROS4, A16C, 325, 1, 15, 15, 2, 19890324, 2041, -25.5683, -25.0033, 4960,  -999.00,   1029.3,   3.3703,  34.4189, 2,  34.4169, 2,   -999.0, 9,    193.1, 2,    45.17, 2,    32.55, 2,     0.00, 2,     2.22, 2, -999.000, 9, -999.000, 9,   2199.7, 2,   -999.0, 9,   -999.0, 9,   3.2974,   -999.0, 9, -999.000, 9
318MHYDROS4, A16C, 325, 1, 16, 16, 2, 19890324, 2041, -25.5683, -25.0033, 4960,  -999.00,   1131.3,   3.2276,  34.5028, 2,  34.5013, 2,   -999.0, 9,    186.3, 2,    50.15, 2,    32.45, 2,     0.00, 2,     2.22, 2, -999.000, 9, -999.000, 9,   -999.0, 9,   -999.0, 9,   -999.0, 9,   3.1477,   -999.0, 9, -999.000, 9
318MHYDROS4, A16C, 325, 1, 17, 17, 2, 19890324, 2041, -25.5683, -25.0033, 4960,  -999.00,   1233.2,   3.1210,  34.5763, 2,  34.5763, 2,   -999.0, 9,    186.8, 2,    52.10, 2,    31.67, 2,     0.00, 2,     2.16, 2, -999.000, 9, -999.000, 9,   2220.9, 2,   -999.0, 9,   -999.0, 9,   3.0337,   -999.0, 9, -999.000, 9
318MHYDROS4, A16C, 325, 1, 18, 18, 2, 19890324, 2041, -25.5683, -25.0033, 4960,  -999.00,   1436.7,   3.0371,  34.6884, 2, -999.0000, 9,   -999.0, 9,    196.2, 2,    50.53, 2,    29.52, 2,     0.00, 2,     1.99, 2, -999.000, 9, -999.000, 9,   -999.0, 9,   -999.0, 9,   -999.0, 9,   2.9338,   -999.0, 9, -999.000, 9
318MHYDROS4, A16C, 325, 1, 19, 19, 2, 19890324, 2041, -25.5683, -25.0033, 4960,  -999.00,   1640.7,   2.9987,  34.7829, 2,  34.7826, 2,   -999.0, 9,    213.4, 2,    45.35, 2,    26.58, 2,     0.00, 2,     1.79, 2, -999.000, 9, -999.000, 9,   -999.0, 9,   -999.0, 9,   -999.0, 9,   2.8784,   -999.0, 9, -999.000, 9
318MHYDROS4, A16C, 325, 1, 20, 20, 2, 19890324, 2041, -25.5683, -25.0033, 4960,  -999.00,   1847.5,   2.9584,  34.8376, 2,  34.8367, 2,   -999.0, 9,    227.1, 2,    41.24, 2,    24.63, 2,     0.00, 2,     1.65, 2, -999.000, 9, -999.000, 9,   2198.3, 2,   -999.0, 9,   -999.0, 9,   2.8205,   -999.0, 9, -999.000, 9
318MHYDROS4, A16C, 325, 1, 21, 21, 2, 19890324, 2041, -25.5683, -25.0033, 4960,  -999.00,   2053.2,   2.9349,  34.8816, 2,  34.8835, 2,   -999.0, 9,    239.7, 2,    36.45, 2,    22.77, 2,     0.00, 2,     1.51, 2, -999.000, 9, -999.000, 9,   -999.0, 9,   -999.0, 9,   -999.0, 9,   2.7786,   -999.0, 9, -999.000, 9
318MHYDROS4, A16C, 325, 1, 22, 22, 2, 19890324, 2041, -25.5683, -25.0033, 4960,  -999.00,   2261.0,   2.9398,  34.9071, 2,  34.9073, 2,   -999.0, 9,    246.8, 2,    32.84, 2,    21.50, 2,     0.00, 2,     1.43, 2, -999.000, 9, -999.000, 9,   2179.5, 2,   -999.0, 9,   -999.0, 9,   2.7640,   -999.0, 9, -999.000, 9
318MHYDROS4, A16C, 325, 1, 23, 23, 2, 19890324, 2041, -25.5683, -25.0033, 4960,  -999.00,   2467.7,   2.9088,  34.9203, 2,  34.9204, 2,   -999.0, 9,    251.7, 2,    31.27, 2,    20.72, 2,     0.00, 2,     1.39, 2, -999.000, 9, -999.000, 9,   -999.0, 9,   -999.0, 9,   -999.0, 9,   2.7137,   -999.0, 9, -999.000, 9
318MHYDROS4, A16C, 325, 1, 24, 24, 2, 19890324, 2041, -25.5683, -25.0033, 4960,  -999.00,   2675.4,   2.8270,  34.9218, 2,  34.9210, 2,   -999.0, 9,    253.0, 2,    31.96, 2,    20.72, 2,     0.00, 2,     1.37, 2, -999.000, 9, -999.000, 9,   -999.0, 9,   -999.0, 9,   -999.0, 9,   2.6131,   -999.0, 9, -999.000, 9
318MHYDROS4, A16C, 325, 1, 25, 25, 2, 19890324, 2041, -25.5683, -25.0033, 4960,  -999.00,   2883.5,   2.7330,  34.9175, 2,  34.9177, 2,   -999.0, 9,    253.3, 2,    33.32, 2,    20.62, 2,     0.00, 2,     1.37, 2, -999.000, 9, -999.000, 9,   -999.0, 9,   -999.0, 9,   -999.0, 9,   2.5001,   -999.0, 9, -999.000, 9
318MHYDROS4, A16C, 325, 1, 26, 26, 2, 19890324, 2041, -25.5683, -25.0033, 4960,  -999.00,   3090.6,   2.6258,  34.9108, 2,  34.9102, 2,   -999.0, 9,    253.9, 2,    35.18, 2,    20.72, 2,     0.00, 2,     1.37, 2, -999.000, 9, -999.000, 9,   2171.1, 2,   -999.0, 9,   -999.0, 9,   2.3739,   -999.0, 9, -999.000, 9
318MHYDROS4, A16C, 325, 1, 27, 27, 2, 19890324, 2041, -25.5683, -25.0033, 4960,  -999.00,   3298.7,   2.4829,  34.8985, 2,  34.8978, 2,   -999.0, 9,    254.3, 2,    39.77, 2,    21.11, 2,     0.00, 2,     1.40, 2, -999.000, 9, -999.000, 9,   -999.0, 9,   -999.0, 9,   -999.0, 9,   2.2126,   -999.0, 9, -999.000, 9
318MHYDROS4, A16C, 325, 1, 28, 28, 2, 19890324, 2041, -25.5683, -25.0033, 4960,  -999.00,   3505.4,   2.2873,  34.8796, 2,  34.8793, 2,   -999.0, 9,    250.5, 2,    46.71, 2,    22.09, 2,     0.00, 2,     1.47, 2, -999.000, 9, -999.000, 9,   2178.3, 2,   -999.0, 9,   -999.0, 9,   1.9998,   -999.0, 9, -999.000, 9
318MHYDROS4, A16C, 325, 1, 29, 29, 2, 19890324, 2041, -25.5683, -25.0033, 4960,  -999.00,   3713.4,   2.0088,  34.8496, 2,  34.8490, 2,   -999.0, 9,    245.6, 2,    57.56, 2,    23.75, 2,     0.00, 2,     1.58, 2, -999.000, 9, -999.000, 9,   -999.0, 9,   -999.0, 9,   -999.0, 9,   1.7062,   -999.0, 9, -999.000, 9
318MHYDROS4, A16C, 325, 1, 30, 30, 2, 19890324, 2041, -25.5683, -25.0033, 4960,  -999.00,   3920.6,   1.7082,  34.8172, 2,  34.8164, 2,   -999.0, 9,    240.4, 2,    72.03, 2,    25.51, 2,     0.00, 2,     1.72, 2, -999.000, 9, -999.000, 9,   2196.0, 2,   -999.0, 9,   -999.0, 9,   1.3913,   -999.0, 9, -999.000, 9
318MHYDROS4, A16C, 325, 1, 31, 31, 2, 19890324, 2041, -25.5683, -25.0033, 4960,  -999.00,   4128.2,   1.4587,  34.7904, 2,  34.7902, 2,   -999.0, 9,    235.9, 2,    82.00, 2,    26.88, 2,     0.00, 2,     1.84, 2, -999.000, 9, -999.000, 9,   -999.0, 9,   -999.0, 9,   -999.0, 9,   1.1262,   -999.0, 9, -999.000, 9
318MHYDROS4, A16C, 325, 1, 32, 32, 2, 19890324, 2041, -25.5683, -25.0033, 4960,  -999.00,   4335.0,   1.2248,  34.7661, 2,  34.7656, 2,   -999.0, 9,    233.5, 2,    91.68, 2,    28.25, 2,     0.00, 2,     1.91, 2, -999.000, 9, -999.000, 9,   -999.0, 9,   -999.0, 9,   -999.0, 9,   0.8764,   -999.0, 9, -999.000, 9
318MHYDROS4, A16C, 325, 1, 33, 33, 2, 19890324, 2041, -25.5683, -25.0033, 4960,  -999.00,   4542.3,   1.1509,  34.7567, 2,  34.7562, 2,   -999.0, 9,    231.0, 2,    94.51, 2,    28.54, 2,     0.00, 2,     1.94, 2, -999.000, 9, -999.000, 9,   -999.0, 9,   -999.0, 9,   -999.0, 9,   0.7815,   -999.0, 9, -999.000, 9
318MHYDROS4, A16C, 325, 1, 34, 34, 2, 19890324, 2041, -25.5683, -25.0033, 4960,  -999.00,   4749.3,   1.0981,  34.7499, 2,  34.7487, 2,   -999.0, 9,    230.5, 2,    97.64, 2,    28.93, 2,     0.00, 2,     1.95, 2, -999.000, 9, -999.000, 9,   2237.1, 2,   -999.0, 9,   -999.0, 9,   0.7066,   -999.0, 9, -999.000, 9
318MHYDROS4, A16C, 325, 1, 35, 35, 2, 19890324, 2041, -25.5683, -25.0033, 4960,  -999.00,   4956.8,   1.0219,  34.7404, 2,  34.7397, 2,   -999.0, 9,    229.1, 2,   100.47, 2,    29.42, 2,     0.00, 2,     1.99, 2, -999.000, 9, -999.000, 9,   -999.0, 9,   -999.0, 9,   -999.0, 9,   0.6086,   4957.0, 2,    1.018, 2
318MHYDROS4, A16C, 325, 1, 36, 36, 2, 19890324, 2041, -25.5683, -25.0033, 4960,  -999.00,   5085.6,   0.9880,  34.7358, 2,  34.7345, 2,   -999.0, 9,    228.3, 2,   102.04, 2,    29.71, 2,     0.00, 2,     2.01, 2, -999.000, 9, -999.000, 9,   2238.7, 2,   -999.0, 9,   -999.0, 9,   0.5605,   -999.0, 9, -999.000, 9