BOTTLE,20110318CCHDOSIODM
EXPOCODE,SECT_ID,STNNBR,CASTNO,SAMPNO,BTLNBR,BTLNBR_FLAG_W,DATE,TIME,LATITUDE,LONGITUDE,DEPTH,CTDRAW,CTDPRS,CTDTMP,CTDSAL,CTDSAL_FLAG_W,SALNTY,SALNTY_FLAG_W,CTDOXY,CTDOXY_FLAG_W,OXYGEN,OXYGEN_FLAG_W,SILCAT,SILCAT_FLAG_W,NITRAT,NITRAT_FLAG_W,NITRIT,NITRIT_FLAG_W,PHSPHT,PHSPHT_FLAG_W,CFC-11,CFC-11_FLAG_W,CFC-12,CFC-12_FLAG_W,TCARBN,TCARBN_FLAG_W,ALKALI,ALKALI_FLAG_W,PCO2,PCO2_FLAG_W,THETA,REVPRS,REVPRS_FLAG_W,REVTMP,REVTMP_FLAG_W
,,,,,,,,,,,METERS,DBAR,DBAR,ITS-90,PSS-78,,PSS-78,,UMOL/KG,,UMOL/KG,,UMOL/KG,,UMOL/KG,,UMOL/KG,,UMOL/KG,,PMOL/KG,,PMOL/KG,,UMOL/KG,,UMOL/KG,,UATM,,DEG C,DBAR,,ITS-90,
318MHYDROS4, A16C, 332, 2, 1, 1, 2, 19890327, 0258, -21.5083, -25.0133, 5323,  -999.00,      1.3,  27.6906,  37.2010, 2,  37.2020, 2,   -999.0, 9,    203.6, 2,     2.63, 2,     0.00, 2,     0.00, 2,     0.17, 2,    1.501, 2,    0.777, 2,   2070.4, 2,   2447.0, 2,    283.2, 2,  27.6903,   -999.0, 9, -999.000, 9
318MHYDROS4, A16C, 332, 2, 2, 2, 2, 19890327, 0258, -21.5083, -25.0133, 5323,  -999.00,     36.9,  27.5587,  37.1804, 2,  37.1800, 2,   -999.0, 9,    210.2, 2,     2.63, 2,     0.00, 2,     0.00, 2,     0.17, 2, -999.000, 9, -999.000, 9,   2070.7, 2,   2440.9, 2,    289.4, 2,  27.5501,   -999.0, 9, -999.000, 9
318MHYDROS4, A16C, 332, 2, 3, 3, 2, 19890327, 0258, -21.5083, -25.0133, 5323,  -999.00,     68.1,  23.7882,  36.8033, 2,  36.7990, 2,   -999.0, 9,    227.4, 2,     2.83, 2,     0.00, 2,     0.00, 2,     0.17, 2,    1.755, 2,    0.898, 2,   2065.1, 2,   2418.2, 2,    302.4, 2,  23.7738,   -999.0, 9, -999.000, 9
318MHYDROS4, A16C, 332, 2, 71, 71, 2, 19890327, 0258, -21.5083, -25.0133, 5323,  -999.00,    109.3,  21.9044,  36.6490, 2,  36.6460, 2,   -999.0, 9,    217.6, 2,     2.83, 2,     0.00, 2,     0.00, 2,     0.18, 2, -999.000, 9, -999.000, 9,   2070.7, 2,   2408.4, 2,    319.7, 2,  21.8827,   -999.0, 9, -999.000, 9
318MHYDROS4, A16C, 332, 2, 5, 5, 2, 19890327, 0258, -21.5083, -25.0133, 5323,  -999.00,    160.4,  18.9758,  36.0972, 2,  36.0650, 2,   -999.0, 9,    205.8, 2,     2.83, 2,     0.68, 2,     0.09, 2,     0.30, 2, -999.000, 9, -999.000, 9,   2077.9, 2,   2363.6, 2,    386.4, 2,  18.9470,   -999.0, 9, -999.000, 9
318MHYDROS4, A16C, 332, 2, 6, 6, 2, 19890327, 0258, -21.5083, -25.0133, 5323,  -999.00,    211.6,  16.2981,  35.6109, 2,  35.5880, 2,   -999.0, 9,    206.3, 2,     3.03, 2,     3.81, 2,     0.01, 2,     0.47, 2,    2.017, 2,    0.993, 2,   2086.2, 2,   2341.9, 2,    435.5, 2,  16.2640,   -999.0, 9, -999.000, 9
318MHYDROS4, A16C, 332, 2, 7, 7, 2, 19890327, 0258, -21.5083, -25.0133, 5323,  -999.00,    313.6,  13.2188,  35.1708, 2,  35.1690, 2,   -999.0, 9,    201.5, 2,     4.59, 2,    10.06, 2,     0.00, 2,     0.81, 2,    1.754, 2,    0.850, 2,   2102.3, 2,   2316.2, 2,    528.6, 2,  13.1750,   -999.0, 9, -999.000, 9
318MHYDROS4, A16C, 332, 2, 8, 8, 2, 19890327, 0258, -21.5083, -25.0133, 5323,  -999.00,    415.8,  10.6118,  34.8799, 2,  34.8830, 2,   -999.0, 9,    187.8, 2,     8.21, 2,    17.49, 2,     0.00, 2,     1.24, 2,    1.236, 2,    0.589, 2,   2133.0, 2,   2304.4, 2,    667.8, 2,  10.5613,   -999.0, 9, -999.000, 9
318MHYDROS4, A16C, 332, 2, 9, 9, 2, 19890327, 0258, -21.5083, -25.0133, 5323,  -999.00,    517.7,   8.5791,  34.6654, 2,  34.6690, 2,   -999.0, 9,    180.3, 2,    12.90, 2,    23.26, 2,     0.00, 2,     1.60, 2,    0.856, 2,    0.396, 2,   2155.2, 2,   2297.5, 2,    796.7, 2,   8.5237,   -999.0, 9, -999.000, 9
318MHYDROS4, A16C, 332, 2, 10, 10, 2, 19890327, 0258, -21.5083, -25.0133, 5323,  -999.00,    619.7,   6.3801,  34.4745, 2, -999.0000, 9,   -999.0, 9,    185.6, 2,    18.18, 2,    26.98, 2,     0.00, 2,     1.85, 2,    0.593, 2,    0.288, 2,   2170.2, 2,   2297.3, 2,    879.1, 2,   6.3237,   -999.0, 9, -999.000, 9
318MHYDROS4, A16C, 332, 2, 11, 11, 2, 19890327, 0258, -21.5083, -25.0133, 5323,  -999.00,    722.0,   4.9334,  34.3878, 2,  34.3900, 2,   -999.0, 9,    192.9, 2,    26.69, 2,    30.60, 2,     0.00, 2,     2.09, 2,    0.312, 2,    0.161, 2,   2186.0, 2,   2299.4, 2,    968.1, 2,   4.8752,   -999.0, 9, -999.000, 9
318MHYDROS4, A16C, 332, 2, 12, 12, 2, 19890327, 0258, -21.5083, -25.0133, 5323,  -999.00,    824.0,   4.1603,  34.4042, 2,  34.4030, 2,   -999.0, 9,    185.1, 2,    35.00, 2,    32.55, 2,     0.00, 2,     2.23, 2,    0.124, 2,    0.071, 2,   2199.6, 2,   2307.7, 2,   1012.9, 2,   4.0982,   -999.0, 9, -999.000, 9
318MHYDROS4, A16C, 332, 2, 13, 13, 2, 19890327, 0258, -21.5083, -25.0133, 5323,  -999.00,    926.3,   3.7436,  34.4599, 2,  34.4570, 2,   -999.0, 9,    181.4, 2,    40.86, 2,    32.85, 2,     0.00, 2,     2.23, 2,    0.034, 2,    0.018, 2,   2207.6, 2,   2310.9, 2,   1051.3, 2,   3.6760,   -999.0, 9, -999.000, 9
318MHYDROS4, A16C, 332, 2, 14, 14, 2, 19890327, 0258, -21.5083, -25.0133, 5323,  -999.00,   1028.1,   3.5506,  34.5243, 2,  34.5220, 2,   -999.0, 9,    184.1, 2,    42.91, 2,    32.06, 2,     0.00, 2,     2.18, 2,    0.011, 2,    0.002, 2,   2209.6, 2,   2316.3, 2,   1031.6, 2,   3.4761,   -999.0, 9, -999.000, 9
318MHYDROS4, A16C, 332, 2, 15, 15, 2, 19890327, 0258, -21.5083, -25.0133, 5323,  -999.00,   1232.2,   3.6444,  34.6960, 2,  34.6980, 2,   -999.0, 9,    192.3, 2,    38.80, 2,    29.13, 2,     0.00, 2,     1.97, 2,    0.002, 2,    0.000, 2,   2204.0, 2,   2319.6, 2,    973.2, 2,   3.5520,   -999.0, 9, -999.000, 9
318MHYDROS4, A16C, 332, 2, 16, 16, 2, 19890327, 0258, -21.5083, -25.0133, 5323,  -999.00,   1438.3,   3.6570,  34.8356, 2,  34.8350, 2,   -999.0, 9,    212.7, 2,    32.45, 2,    25.41, 2,     0.00, 2,     1.71, 2,    0.000, 2,    0.000, 2,   2191.5, 2,   2324.9, 2,    867.0, 2,   3.5464,   -999.0, 9, -999.000, 9
318MHYDROS4, A16C, 332, 2, 17, 17, 2, 19890327, 0258, -21.5083, -25.0133, 5323,  -999.00,   1644.4,   3.5076,  34.9054, 2,  34.9050, 2,   -999.0, 9,    233.4, 2,    28.73, 2,    22.48, 2,     0.00, 2,     1.51, 2,    0.002, 2,    0.008, 2,   2176.3, 2,   2322.0, 2,    798.5, 2,   3.3804,   -999.0, 9, -999.000, 9
318MHYDROS4, A16C, 332, 2, 18, 18, 2, 19890327, 0258, -21.5083, -25.0133, 5323,  -999.00,   1850.6,   3.3652,  34.9344, 2,  34.9360, 2,   -999.0, 9,    245.9, 2,    26.19, 2,    20.91, 2,     0.00, 2,     1.40, 2,    0.002, 2,    0.001, 2,   2170.5, 2,   2326.7, 2,    749.4, 2,   3.2211,   -999.0, 9, -999.000, 9
318MHYDROS4, A16C, 332, 2, 19, 19, 2, 19890327, 0258, -21.5083, -25.0133, 5323,  -999.00,   2057.5,   3.2271,  34.9380, 2,  34.9390, 2,   -999.0, 9,    250.0, 2,    26.48, 2,    20.42, 2,     0.00, 2,     1.37, 2, -999.000, 9, -999.000, 9,   2166.0, 2,   2322.8, 2,    744.6, 2,   3.0658,   -999.0, 9, -999.000, 9
318MHYDROS4, A16C, 332, 2, 20, 20, 2, 19890327, 0258, -21.5083, -25.0133, 5323,  -999.00,   2264.3,   3.0932,  34.9353, 2,  34.9350, 2,   -999.0, 9,    251.2, 2,    28.34, 2,    20.33, 2,     0.00, 2,     1.37, 2,    0.001, 2,    0.000, 2,   2162.7, 2,   2319.8, 2,    741.9, 2,   2.9145,   -999.0, 9, -999.000, 9
318MHYDROS4, A16C, 332, 2, 21, 21, 2, 19890327, 0258, -21.5083, -25.0133, 5323,  -999.00,   2471.5,   2.9788,  34.9311, 2,  34.9310, 2,   -999.0, 9,    251.9, 2,    30.10, 2,    20.42, 2,     0.00, 2,     1.36, 2, -999.000, 9, -999.000, 9,   2171.0, 2,   2329.4, 2,    741.1, 2,   2.7821,   -999.0, 9, -999.000, 9
318MHYDROS4, A16C, 332, 2, 22, 22, 2, 19890327, 0258, -21.5083, -25.0133, 5323,  -999.00,   2678.1,   2.8535,  34.9244, 2,  34.9250, 2,   -999.0, 9,    252.0, 2,    32.15, 2,    20.52, 2,     0.00, 2,     1.38, 2, -999.000, 9,    0.002, 2,   2170.8, 2,   2327.6, 2,    747.9, 2,   2.6388,   -999.0, 9, -999.000, 9
318MHYDROS4, A16C, 332, 2, 23, 23, 2, 19890327, 0258, -21.5083, -25.0133, 5323,  -999.00,   2885.0,   2.7548,  34.9193, 2,  34.9190, 2,   -999.0, 9,    252.0, 2,    33.42, 2,    20.62, 2,     0.00, 2,     1.39, 2, -999.000, 9, -999.000, 9,   2173.5, 2,   2330.5, 2,    748.5, 2,   2.5212,   -999.0, 9, -999.000, 9
318MHYDROS4, A16C, 332, 2, 24, 24, 2, 19890327, 0258, -21.5083, -25.0133, 5323,  -999.00,   3092.1,   2.6913,  34.9156, 2,  34.9150, 2,   -999.0, 9,    253.0, 2,    34.79, 2,    20.62, 2,     0.00, 2,     1.39, 2,    0.003, 2,    0.002, 2,   2175.6, 2,   2332.6, 2,    749.5, 2,   2.4377,   -999.0, 9, -999.000, 9
318MHYDROS4, A16C, 332, 2, 25, 25, 2, 19890327, 0258, -21.5083, -25.0133, 5323,  -999.00,   3299.8,   2.5918,  34.9089, 2,  34.9100, 2,   -999.0, 9,    253.2, 2,    36.74, 2,    20.72, 2,     0.00, 2,     1.40, 2, -999.000, 9, -999.000, 9,   2172.5, 2,   2329.4, 2,    748.8, 2,   2.3187,   -999.0, 9, -999.000, 9
318MHYDROS4, A16C, 332, 2, 26, 26, 2, 19890327, 0258, -21.5083, -25.0133, 5323,  -999.00,   3507.4,   2.4219,  34.8940, 2,  34.8950, 2,   -999.0, 9,    252.3, 2,    42.41, 2,    21.30, 2,     0.00, 2,     1.44, 2,    0.000, 2,    0.000, 2,   -999.0, 9,   -999.0, 9,    758.1, 2,   2.1307,   -999.0, 9, -999.000, 9
318MHYDROS4, A16C, 332, 2, 27, 27, 2, 19890327, 0258, -21.5083, -25.0133, 5323,  -999.00,   3715.1,   2.1991,  34.8714, 2,  34.8720, 2,   -999.0, 9,    249.6, 2,    50.72, 2,    22.48, 2,     0.00, 2,     1.52, 2, -999.000, 9, -999.000, 9,   2185.7, 2,   2338.0, 2,    777.4, 2,   1.8911,   -999.0, 9, -999.000, 9
318MHYDROS4, A16C, 332, 2, 28, 28, 2, 19890327, 0258, -21.5083, -25.0133, 5323,  -999.00,   3923.2,   1.8857,  34.8386, 2,  34.8380, 2,   -999.0, 9,    243.9, 2,    63.82, 2,    24.24, 2,     0.00, 2,     1.65, 2,    0.002, 2,    0.002, 2,   2200.0, 2,   2348.8, 2,    803.0, 2,   1.5635,   -999.0, 9, -999.000, 9
318MHYDROS4, A16C, 332, 2, 29, 29, 2, 19890327, 0258, -21.5083, -25.0133, 5323,  -999.00,   4131.2,   1.6091,  34.8091, 2,  34.8080, 2,   -999.0, 9,    239.4, 2,    75.55, 2,    25.90, 2,     0.00, 2,     1.76, 2, -999.000, 9, -999.000, 9,   2210.1, 2,   2353.6, 2,    834.9, 2,   1.2718,   -999.0, 9, -999.000, 9
318MHYDROS4, A16C, 332, 2, 30, 30, 2, 19890327, 0258, -21.5083, -25.0133, 5323,  -999.00,   4339.5,   1.3229,  34.7782, 2,  34.7800, 2,   -999.0, 9,    234.6, 2,    87.47, 2,    27.46, 2,     0.00, 2,     1.89, 2,    0.001, 2,    0.001, 2,   2229.6, 2,   2364.7, 2,    889.8, 2,   0.9710,   -999.0, 9, -999.000, 9
318MHYDROS4, A16C, 332, 2, 31, 31, 2, 19890327, 0258, -21.5083, -25.0133, 5323,  -999.00,   4548.2,   1.1168,  34.7558, 2,  34.7550, 2,   -999.0, 9,    231.4, 2,    96.17, 2,    28.64, 2,     0.00, 2,     1.97, 2, -999.000, 9, -999.000, 9,   2231.1, 2,   2364.7, 2,    900.0, 2,   0.7478,   -999.0, 9, -999.000, 9
318MHYDROS4, A16C, 332, 2, 32, 32, 2, 19890327, 0258, -21.5083, -25.0133, 5323,  -999.00,   4756.7,   0.9566,  34.7384, 2,  34.7380, 2,   -999.0, 9,    228.3, 2,   102.62, 2,    29.61, 2,     0.00, 2,     2.04, 2,    0.003, 2,    0.000, 2,   2237.0, 2,   2363.5, 2,    942.9, 2,   0.5690,   -999.0, 9, -999.000, 9
318MHYDROS4, A16C, 332, 2, 33, 33, 2, 19890327, 0258, -21.5083, -25.0133, 5323,  -999.00,   4965.2,   0.8490,  34.7254, 2,  34.7230, 2,   -999.0, 9,    226.4, 2,   108.59, 2,    30.20, 2,     0.00, 2,     2.07, 2, -999.000, 9, -999.000, 9,   2238.8, 2,   2363.3, 2,    955.6, 2,   0.4407,   -999.0, 9, -999.000, 9
318MHYDROS4, A16C, 332, 2, 34, 34, 2, 19890327, 0258, -21.5083, -25.0133, 5323,  -999.00,   5174.3,   0.8021,  34.7179, 2,  34.7170, 2,   -999.0, 9,    226.2, 2,   110.84, 2,    30.59, 2,     0.00, 2,     2.12, 2,    0.012, 2,    0.002, 2,   2244.4, 2,   2366.9, 2,    971.4, 2,   0.3706,   -999.0, 9, -999.000, 9
318MHYDROS4, A16C, 332, 2, 35, 35, 2, 19890327, 0258, -21.5083, -25.0133, 5323,  -999.00,   5331.4,   0.7840,  34.7146, 2,  34.7140, 2,   -999.0, 9,    225.2, 2,   113.18, 2,    30.79, 2,     0.00, 2,     2.11, 2,    0.007, 2,    0.005, 2,   2250.9, 2,   2373.9, 2,    972.7, 2,   0.3342,   5330.0, 2,    0.777, 2
318MHYDROS4, A16C, 332, 2, 36, 36, 2, 19890327, 0258, -21.5083, -25.0133, 5323,  -999.00,   5449.9,   0.7460,  34.7094, 2,  34.7100, 2,   -999.0, 9,    224.4, 2,   114.06, 2,    31.08, 2,     0.00, 2,     2.14, 2,    0.010, 2,    0.006, 2,   2244.4, 2,   2365.7, 2,    978.8, 2,   0.2831,   -999.0, 9, -999.000, 9