BOTTLE,20110318CCHDOSIODM
EXPOCODE,SECT_ID,STNNBR,CASTNO,SAMPNO,BTLNBR,BTLNBR_FLAG_W,DATE,TIME,LATITUDE,LONGITUDE,DEPTH,CTDRAW,CTDPRS,CTDTMP,CTDSAL,CTDSAL_FLAG_W,SALNTY,SALNTY_FLAG_W,CTDOXY,CTDOXY_FLAG_W,OXYGEN,OXYGEN_FLAG_W,SILCAT,SILCAT_FLAG_W,NITRAT,NITRAT_FLAG_W,NITRIT,NITRIT_FLAG_W,PHSPHT,PHSPHT_FLAG_W,CFC-11,CFC-11_FLAG_W,CFC-12,CFC-12_FLAG_W,TCARBN,TCARBN_FLAG_W,ALKALI,ALKALI_FLAG_W,PCO2,PCO2_FLAG_W,THETA,REVPRS,REVPRS_FLAG_W,REVTMP,REVTMP_FLAG_W
,,,,,,,,,,,METERS,DBAR,DBAR,ITS-90,PSS-78,,PSS-78,,UMOL/KG,,UMOL/KG,,UMOL/KG,,UMOL/KG,,UMOL/KG,,UMOL/KG,,PMOL/KG,,PMOL/KG,,UMOL/KG,,UMOL/KG,,UATM,,DEG C,DBAR,,ITS-90,
318MHYDROS4, A16C, 375, 1, 1, 1, 2, 19890411, 1540, -0.3400, -36.5300, 4486,  -999.00,      0.2,  27.5700,  36.2469, 2,  36.2470, 2,   -999.0, 9,    202.1, 2,     2.22, 2,     0.03, 2,     0.00, 2,     0.07, 2,    1.566, 2,    0.800, 2,   2018.7, 2,   2374.7, 2,    282.5, 2,  27.5700,   -999.0, 9, -999.000, 9
318MHYDROS4, A16C, 375, 1, 2, 2, 2, 19890411, 1540, -0.3400, -36.5300, 4486,  -999.00,     50.6,  27.2830,  36.2937, 2,  36.2930, 2,   -999.0, 9,    203.3, 2,     2.41, 2,     0.03, 2,     0.00, 2,     0.07, 2, -999.000, 9, -999.000, 9,   2018.4, 2,   2372.0, 2,    285.3, 2,  27.2712,   -999.0, 9, -999.000, 9
318MHYDROS4, A16C, 375, 1, 3, 3, 2, 19890411, 1540, -0.3400, -36.5300, 4486,  -999.00,     71.5,  22.6606,  36.5024, 2,  36.5040, 2,   -999.0, 9,    187.7, 2,     2.96, 2,     2.42, 2,     0.12, 2,     0.36, 2, -999.000, 9, -999.000, 9,   2022.8, 2,   -999.0, 9,   -999.0, 9,  22.6460,   -999.0, 9, -999.000, 9
318MHYDROS4, A16C, 375, 1, 71, 71, 2, 19890411, 1540, -0.3400, -36.5300, 4486,  -999.00,     91.8,  19.6767,  36.1972, 2,  36.1910, 2,   -999.0, 9,    176.4, 2,     3.90, 2,     6.23, 2,     0.14, 2,     0.58, 2, -999.000, 9, -999.000, 9,   2092.5, 2,   -999.0, 9,   -999.0, 9,  19.6598,   -999.0, 9, -999.000, 9
318MHYDROS4, A16C, 375, 1, 5, 5, 2, 19890411, 1540, -0.3400, -36.5300, 4486,  -999.00,    105.3,  17.2895,  35.8967, 2,  35.8920, 2,   -999.0, 9,    168.0, 2,     4.83, 2,     9.79, 2,     0.04, 2,     0.79, 2, -999.000, 9, -999.000, 9,   2109.5, 2,   -999.0, 9,   -999.0, 9,  17.2719,   -999.0, 9, -999.000, 9
318MHYDROS4, A16C, 375, 1, 6, 6, 2, 19890411, 1540, -0.3400, -36.5300, 4486,  -999.00,    118.9,  16.4848,  35.7602, 2,  35.7350, 2,   -999.0, 9,    166.3, 2,     5.20, 2,    11.06, 2,     0.03, 2,     0.87, 2,    1.362, 2,    0.684, 2,   2119.2, 2,   -999.0, 9,   -999.0, 9,  16.4655,   -999.0, 9, -999.000, 9
318MHYDROS4, A16C, 375, 1, 7, 7, 2, 19890411, 1540, -0.3400, -36.5300, 4486,  -999.00,    144.4,  14.1828,  35.4217, 2,  35.4220, 2,   -999.0, 9,    146.6, 2,     6.69, 2,    15.97, 2,     0.01, 2,     1.14, 2, -999.000, 9, -999.000, 9,   2162.0, 2,   -999.0, 9,   -999.0, 9,  14.1617,   -999.0, 9, -999.000, 9
318MHYDROS4, A16C, 375, 1, 8, 8, 2, 19890411, 1540, -0.3400, -36.5300, 4486,  -999.00,    170.3,  12.4979,  35.2000, 2,  35.1830, 2,   -999.0, 9,    140.5, 2,     8.75, 2,    19.86, 2,     0.01, 2,     1.38, 2, -999.000, 9, -999.000, 9,   2175.2, 2,   -999.0, 9,   -999.0, 9,  12.4750,   -999.0, 9, -999.000, 9
318MHYDROS4, A16C, 375, 1, 9, 9, 2, 19890411, 1540, -0.3400, -36.5300, 4486,  -999.00,    200.6,  11.1994,  35.0379, 2,  35.0370, 2,   -999.0, 9,    146.0, 2,    10.24, 2,    21.41, 2,     0.01, 2,     1.47, 2,    0.785, 2,    0.401, 2,   2188.5, 2,   -999.0, 9,   -999.0, 9,  11.1744,   -999.0, 9, -999.000, 9
318MHYDROS4, A16C, 375, 1, 10, 10, 2, 19890411, 1540, -0.3400, -36.5300, 4486,  -999.00,    249.6,  11.0305,  35.0227, 2,  35.0210, 2,   -999.0, 9,    131.9, 2,    10.79, 2,    23.49, 2,     0.00, 2,     1.57, 2, -999.000, 9, -999.000, 9,   2198.3, 2,   -999.0, 9,   -999.0, 9,  10.9996,   -999.0, 9, -999.000, 9
318MHYDROS4, A16C, 375, 1, 11, 11, 2, 19890411, 1540, -0.3400, -36.5300, 4486,  -999.00,    297.3,  10.5698,  34.9784, 2,  34.9920, 2,   -999.0, 9,    108.0, 2,    12.28, 2,    26.98, 2,     0.00, 2,     1.76, 2,    0.438, 2,    0.231, 2,   2188.7, 2,   -999.0, 9,   -999.0, 9,  10.5340,   -999.0, 9, -999.000, 9
318MHYDROS4, A16C, 375, 1, 12, 12, 2, 19890411, 1540, -0.3400, -36.5300, 4486,  -999.00,    415.1,   7.6404,  34.6716, 2,  34.6720, 2,   -999.0, 9,    130.4, 2,    18.26, 2,    30.88, 2,     0.00, 2,     2.05, 2, -999.000, 9, -999.000, 9,   2203.3, 2,   -999.0, 9,   -999.0, 9,   7.5991,   -999.0, 9, -999.000, 9
318MHYDROS4, A16C, 375, 1, 13, 13, 2, 19890411, 1540, -0.3400, -36.5300, 4486,  -999.00,    516.9,   6.7357,  34.5751, 2,  34.5760, 2,   -999.0, 9,    153.6, 2,    20.68, 2,    30.40, 2,     0.00, 2,     2.06, 2,    0.242, 2,    0.135, 2,   2209.4, 2,   -999.0, 9,   -999.0, 9,   6.6875,   -999.0, 9, -999.000, 9
318MHYDROS4, A16C, 375, 1, 14, 14, 2, 19890411, 1540, -0.3400, -36.5300, 4486,  -999.00,    618.4,   5.5955,  34.4882, 2,  34.4890, 2,   -999.0, 9,    160.5, 2,    25.34, 2,    32.21, 2,     0.00, 2,     2.20, 2,    0.156, 2,    0.084, 2,   2220.6, 2,   -999.0, 9,   -999.0, 9,   5.5428,   -999.0, 9, -999.000, 9
318MHYDROS4, A16C, 375, 1, 15, 15, 2, 19890411, 1540, -0.3400, -36.5300, 4486,  -999.00,    719.4,   5.2740,  34.5079, 2,  34.5070, 2,   -999.0, 9,    146.6, 2,    28.68, 2,    34.20, 2,     0.00, 2,     2.35, 2,    0.038, 2,    0.030, 2,   2244.2, 3,   -999.0, 9,   -999.0, 9,   5.2140,   -999.0, 9, -999.000, 9
318MHYDROS4, A16C, 375, 1, 16, 16, 2, 19890411, 1540, -0.3400, -36.5300, 4486,  -999.00,    823.2,   4.6746,  34.5263, 2,  34.5270, 2,   -999.0, 9,    152.1, 2,    31.65, 2,    34.11, 2,     0.00, 2,     2.37, 2, -999.000, 9, -999.000, 9,   2226.4, 2,   -999.0, 9,   -999.0, 9,   4.6091,   -999.0, 9, -999.000, 9
318MHYDROS4, A16C, 375, 1, 17, 17, 2, 19890411, 1540, -0.3400, -36.5300, 4486,  -999.00,    926.2,   4.4885,  34.5578, 2,  34.5540, 2,   -999.0, 9,    159.2, 2,    32.57, 2,    33.45, 2,     0.00, 2,     2.31, 2,    0.012, 2,    0.013, 2,   2212.6, 2,   -999.0, 9,   -999.0, 9,   4.4153,   -999.0, 9, -999.000, 9
318MHYDROS4, A16C, 375, 1, 18, 18, 2, 19890411, 1540, -0.3400, -36.5300, 4486,  -999.00,   1027.8,   4.5384,  34.6167, 2,  34.6150, 2,   -999.0, 9,    157.8, 2,    31.42, 2,    32.89, 2,     0.00, 2,     2.28, 2, -999.000, 9, -999.000, 9,   2186.5, 2,   -999.0, 9,   -999.0, 9,   4.4560,   -999.0, 9, -999.000, 9
318MHYDROS4, A16C, 375, 1, 19, 19, 2, 19890411, 1540, -0.3400, -36.5300, 4486,  -999.00,   1129.1,   4.5078,  34.7280, 2,  34.7280, 2,   -999.0, 9,    170.8, 2,    28.79, 2,    30.33, 2,     0.00, 2,     2.11, 2,    0.003, 2,    0.008, 2,   2171.4, 2,   -999.0, 9,   -999.0, 9,   4.4165,   -999.0, 9, -999.000, 9
318MHYDROS4, A16C, 375, 1, 20, 20, 2, 19890411, 1540, -0.3400, -36.5300, 4486,  -999.00,   1333.7,   4.4762,  34.9614, 2,  34.9600, 2,   -999.0, 9,    222.8, 2,    18.90, 2,    22.20, 2,     0.00, 2,     1.52, 2,    0.044, 2,    0.028, 2,   2158.6, 2,   -999.0, 9,   -999.0, 9,   4.3661,   -999.0, 9, -999.000, 9
318MHYDROS4, A16C, 375, 1, 21, 21, 2, 19890411, 1540, -0.3400, -36.5300, 4486,  -999.00,   1540.1,   4.1758,  34.9643, 2,  34.9630, 2,   -999.0, 9,    233.9, 2,    18.33, 2,    21.24, 2,     0.00, 2,     1.46, 2,    0.015, 2,    0.014, 2,   2167.1, 2,   -999.0, 9,   -999.0, 9,   4.0499,   -999.0, 9, -999.000, 9
318MHYDROS4, A16C, 375, 1, 22, 22, 2, 19890411, 1540, -0.3400, -36.5300, 4486,  -999.00,   1745.6,   3.9613,  34.9841, 2,  34.9830, 2,   -999.0, 9,    250.1, 2,    16.82, 2,    19.47, 2,     0.00, 2,     1.33, 2,    0.020, 2,    0.013, 2,   2170.4, 2,   -999.0, 9,   -999.0, 9,   3.8187,   -999.0, 9, -999.000, 9
318MHYDROS4, A16C, 375, 1, 23, 23, 2, 19890411, 1540, -0.3400, -36.5300, 4486,  -999.00,   1951.7,   3.6855,  34.9802, 2,  34.9790, 2,   -999.0, 9,   -999.0, 9,    17.74, 2,    18.82, 2,     0.00, 2,     1.29, 2,    0.041, 2,    0.024, 2,   2158.5, 2,   -999.0, 9,   -999.0, 9,   3.5272,   -999.0, 9, -999.000, 9
318MHYDROS4, A16C, 375, 1, 24, 24, 2, 19890411, 1540, -0.3400, -36.5300, 4486,  -999.00,   2158.0,   3.3073,  34.9559, 2,  34.9560, 2,   -999.0, 9,    254.4, 2,    22.94, 2,    19.68, 2,     0.00, 2,     1.35, 2, -999.000, 9, -999.000, 9,   2167.5, 2,   -999.0, 9,   -999.0, 9,   3.1351,   -999.0, 9, -999.000, 9
318MHYDROS4, A16C, 375, 1, 25, 25, 2, 19890411, 1540, -0.3400, -36.5300, 4486,  -999.00,   2364.8,   3.1218,  34.9542, 2,  34.9550, 2,   -999.0, 9,    260.7, 2,    22.92, 2,    18.94, 2,     0.00, 2,     1.31, 2, -999.000, 9, -999.000, 9,   2160.0, 2,   -999.0, 9,   -999.0, 9,   2.9329,   -999.0, 9, -999.000, 9
318MHYDROS4, A16C, 375, 1, 26, 26, 2, 19890411, 1540, -0.3400, -36.5300, 4486,  -999.00,   2571.7,   2.9825,  34.9406, 2, -999.0000, 9,   -999.0, 9,    257.3, 2,    26.99, 2,    19.67, 2,     0.00, 2,     1.36, 2,    0.004, 2,    0.008, 2,   2172.3, 2,   -999.0, 9,   -999.0, 9,   2.7758,   -999.0, 9, -999.000, 9
318MHYDROS4, A16C, 375, 1, 27, 27, 2, 19890411, 1540, -0.3400, -36.5300, 4486,  -999.00,   2778.8,   2.8264,  34.9334, 2,  34.9330, 2,   -999.0, 9,    259.1, 2,    28.46, 2,    19.58, 2,     0.00, 2,     1.35, 2, -999.000, 9, -999.000, 9,   2172.6, 2,   -999.0, 9,   -999.0, 9,   2.6021,   -999.0, 9, -999.000, 9
318MHYDROS4, A16C, 375, 1, 28, 28, 2, 19890411, 1540, -0.3400, -36.5300, 4486,  -999.00,   2985.2,   2.7079,  34.9269, 2,  34.9260, 2,   -999.0, 9,    260.5, 2,    29.00, 2,    19.49, 2,     0.00, 2,     1.35, 2,    0.011, 2,    0.011, 2,   2172.3, 2,   -999.0, 9,   -999.0, 9,   2.4651,   -999.0, 9, -999.000, 9
318MHYDROS4, A16C, 375, 1, 29, 29, 2, 19890411, 1540, -0.3400, -36.5300, 4486,  -999.00,   3193.1,   2.6575,  34.9196, 2,  34.9180, 2,   -999.0, 9,    258.5, 2,    31.76, 2,    19.92, 2,     0.00, 2,     1.38, 2, -999.000, 9, -999.000, 9,   2174.4, 2,   -999.0, 9,   -999.0, 9,   2.3941,   3190.6, 2,    2.646, 2
318MHYDROS4, A16C, 375, 1, 30, 30, 2, 19890411, 1540, -0.3400, -36.5300, 4486,  -999.00,   3401.5,   2.5213,  34.9101, 2,  34.9090, 2,   -999.0, 9,    258.8, 2,    33.97, 2,    20.05, 2,     0.00, 2,     1.39, 2,    0.008, 2,    0.008, 2,   2224.2, 4,   -999.0, 9,   -999.0, 9,   2.2390,   -999.0, 9, -999.000, 9
318MHYDROS4, A16C, 375, 1, 31, 31, 2, 19890411, 1540, -0.3400, -36.5300, 4486,  -999.00,   3608.3,   2.3932,  34.9060, 2,  34.9060, 2,   -999.0, 9,    264.5, 2,    31.35, 2,    19.14, 2,     0.00, 2,     1.34, 2,    0.036, 2,    0.022, 2,   2176.0, 2,   -999.0, 9,   -999.0, 9,   2.0917,   -999.0, 9, -999.000, 9
318MHYDROS4, A16C, 375, 1, 32, 32, 2, 19890411, 1540, -0.3400, -36.5300, 4486,  -999.00,   3816.3,   2.3546,  34.9010, 2,  34.9010, 2,   -999.0, 9,    264.1, 2,    33.00, 2,    19.39, 2,     0.00, 2,     1.35, 2,    0.031, 2,    0.022, 2,   2171.4, 2,   -999.0, 9,   -999.0, 9,   2.0312,   -999.0, 9, -999.000, 9
318MHYDROS4, A16C, 375, 1, 33, 33, 2, 19890411, 1540, -0.3400, -36.5300, 4486,  -999.00,   4023.7,   2.2494,  34.8890, 2,  34.8910, 2,   -999.0, 9,    262.3, 2,    36.68, 2,    19.86, 2,     0.00, 2,     1.39, 2, -999.000, 9, -999.000, 9,   2175.3, 2,   -999.0, 9,   -999.0, 9,   1.9055,   -999.0, 9, -999.000, 9
318MHYDROS4, A16C, 375, 1, 34, 34, 2, 19890411, 1540, -0.3400, -36.5300, 4486,  -999.00,   4231.3,   1.3448,  34.7833, 2,  34.7840, 2,   -999.0, 9,    237.4, 2,    82.35, 2,    26.85, 2,     0.00, 2,     1.86, 2, -999.000, 9, -999.000, 9,   2215.4, 2,   -999.0, 9,   -999.0, 9,   1.0043,   -999.0, 9, -999.000, 9
318MHYDROS4, A16C, 375, 1, 35, 35, 2, 19890411, 1540, -0.3400, -36.5300, 4486,  -999.00,   4439.2,   1.0684,  34.7528, 2,  34.7510, 2,   -999.0, 9,    231.0, 2,    95.62, 2,    28.79, 2,     0.00, 2,     2.00, 2, -999.000, 9, -999.000, 9,   2235.2, 2,   -999.0, 9,   -999.0, 9,   0.7133,   4428.4, 2,    1.068, 2
318MHYDROS4, A16C, 375, 1, 36, 36, 2, 19890411, 1540, -0.3400, -36.5300, 4486,  -999.00,   4567.1,   1.0002,  34.7441, 2,  34.7430, 2,   -999.0, 9,    229.4, 2,    98.90, 2,    29.17, 2,     0.00, 2,     2.04, 2,    0.002, 2,    0.007, 2,   2249.6, 2,   -999.0, 9,   -999.0, 9,   0.6328,   -999.0, 9, -999.000, 9