BOTTLE,20110318CCHDOSIODM
EXPOCODE,SECT_ID,STNNBR,CASTNO,SAMPNO,BTLNBR,BTLNBR_FLAG_W,DATE,TIME,LATITUDE,LONGITUDE,DEPTH,CTDRAW,CTDPRS,CTDTMP,CTDSAL,CTDSAL_FLAG_W,SALNTY,SALNTY_FLAG_W,CTDOXY,CTDOXY_FLAG_W,OXYGEN,OXYGEN_FLAG_W,SILCAT,SILCAT_FLAG_W,NITRAT,NITRAT_FLAG_W,NITRIT,NITRIT_FLAG_W,PHSPHT,PHSPHT_FLAG_W,CFC-11,CFC-11_FLAG_W,CFC-12,CFC-12_FLAG_W,TCARBN,TCARBN_FLAG_W,ALKALI,ALKALI_FLAG_W,PCO2,PCO2_FLAG_W,THETA,REVPRS,REVPRS_FLAG_W,REVTMP,REVTMP_FLAG_W
,,,,,,,,,,,METERS,DBAR,DBAR,ITS-90,PSS-78,,PSS-78,,UMOL/KG,,UMOL/KG,,UMOL/KG,,UMOL/KG,,UMOL/KG,,UMOL/KG,,PMOL/KG,,PMOL/KG,,UMOL/KG,,UMOL/KG,,UATM,,DEG C,DBAR,,ITS-90,
318MHYDROS4, A16C, 349, 2, 1, 1, 2, 19890401, 1943, -11.5650, -25.0050, 5318,  -999.00,      1.7,  27.9156,  36.9625, 2,  36.9660, 2,   -999.0, 9,    205.9, 2,     2.15, 2,     0.00, 2,     0.00, 2,     0.09, 2, -999.000, 9, -999.000, 9,   2041.4, 2,   2413.0, 2,    278.6, 2,  27.9152,   -999.0, 9, -999.000, 9
318MHYDROS4, A16C, 349, 2, 2, 2, 2, 19890401, 1943, -11.5650, -25.0050, 5318,  -999.00,     38.0,  27.8671,  36.9620, 2,  36.9650, 2,   -999.0, 9,    209.8, 2,     2.34, 2,     0.00, 2,     0.00, 2,     0.08, 2, -999.000, 9, -999.000, 9,   -999.0, 9,   -999.0, 9,    276.8, 2,  27.8581,   -999.0, 9, -999.000, 9
318MHYDROS4, A16C, 349, 2, 3, 3, 2, 19890401, 1943, -11.5650, -25.0050, 5318,  -999.00,     69.6,  23.5256,  36.8421, 2,  36.8460, 2,   -999.0, 9,    229.1, 2,     2.34, 2,     0.00, 2,     0.00, 2,     0.19, 2, -999.000, 9, -999.000, 9,   2070.1, 2,   2424.6, 2,    302.6, 2,  23.5110,   -999.0, 9, -999.000, 9
318MHYDROS4, A16C, 349, 2, 71, 71, 2, 19890401, 1943, -11.5650, -25.0050, 5318,  -999.00,    110.8,  21.9296,  36.6481, 2,  36.6560, 2,   -999.0, 9,    213.0, 2,     2.34, 2,     0.00, 2,     0.00, 2,     0.25, 2, -999.000, 9, -999.000, 9,   2078.0, 2,   2399.2, 2,    342.1, 2,  21.9075,   -999.0, 9, -999.000, 9
318MHYDROS4, A16C, 349, 2, 5, 5, 2, 19890401, 1943, -11.5650, -25.0050, 5318,  -999.00,    162.0,  15.8939,  35.6429, 2,  35.6320, 2,   -999.0, 9,    154.0, 2,     5.08, 2,    12.31, 2,     0.01, 2,     0.97, 2, -999.000, 9, -999.000, 9,   2126.2, 2,   2334.1, 2,    561.5, 2,  15.8683,   -999.0, 9, -999.000, 9
318MHYDROS4, A16C, 349, 2, 6, 6, 2, 19890401, 1943, -11.5650, -25.0050, 5318,  -999.00,    213.0,  13.3756,  35.2900, 2,  35.2850, 2,   -999.0, 9,    128.3, 2,     7.52, 2,    18.86, 2,     0.00, 2,     1.32, 2, -999.000, 9, -999.000, 9,   2151.8, 2,   2315.8, 2,    711.7, 2,  13.3456,   -999.0, 9, -999.000, 9
318MHYDROS4, A16C, 349, 2, 7, 7, 2, 19890401, 1943, -11.5650, -25.0050, 5318,  -999.00,    263.9,  11.4618,  35.0564, 2,  35.0600, 2,   -999.0, 9,    113.1, 2,    10.46, 2,    24.33, 2,     0.00, 2,     1.62, 2, -999.000, 9, -999.000, 9,   2182.0, 2,   2314.0, 2,    868.8, 2,  11.4282,   -999.0, 9, -999.000, 9
318MHYDROS4, A16C, 349, 2, 8, 8, 2, 19890401, 1943, -11.5650, -25.0050, 5318,  -999.00,    314.8,   9.8179,  34.8935, 2,  34.8940, 2,   -999.0, 9,     98.3, 2,    14.07, 2,    29.51, 2,     0.00, 2,     1.93, 2, -999.000, 9, -999.000, 9,   2194.6, 2,   2300.7, 2,   1026.5, 2,   9.7816,   -999.0, 9, -999.000, 9
318MHYDROS4, A16C, 349, 2, 9, 9, 2, 19890401, 1943, -11.5650, -25.0050, 5318,  -999.00,    416.9,   7.3723,  34.6218, 2,  34.6210, 2,   -999.0, 9,    133.5, 2,    19.06, 2,    31.38, 2,     0.00, 2,     2.08, 2, -999.000, 9, -999.000, 9,   2198.9, 2,   2302.1, 2,   1044.5, 2,   7.3317,   -999.0, 9, -999.000, 9
318MHYDROS4, A16C, 349, 2, 10, 10, 2, 19890401, 1943, -11.5650, -25.0050, 5318,  -999.00,    518.8,   6.1620,  34.5180, 2,  34.5180, 2,   -999.0, 9,    141.7, 2,    23.17, 2,    33.14, 2,     0.00, 2,     2.21, 2, -999.000, 9, -999.000, 9,   2203.9, 2,   2302.6, 2,   1078.5, 2,   6.1159,   -999.0, 9, -999.000, 9
318MHYDROS4, A16C, 349, 2, 11, 11, 2, 19890401, 1943, -11.5650, -25.0050, 5318,  -999.00,    621.0,   5.2900,  34.4587, 2,  34.4610, 2,   -999.0, 9,    154.8, 2,    26.98, 2,    33.73, 2,     0.00, 2,     2.28, 2, -999.000, 9, -999.000, 9,   2201.9, 2,   2300.4, 2,   1078.6, 2,   5.2386,   -999.0, 9, -999.000, 9
318MHYDROS4, A16C, 349, 2, 12, 12, 2, 19890401, 1943, -11.5650, -25.0050, 5318,  -999.00,    723.1,   4.6758,  34.4397, 2, -999.0000, 9,   -999.0, 9,   -999.0, 9,  -999.00, 9,  -999.00, 9,  -999.00, 9,  -999.00, 9, -999.000, 9, -999.000, 9,   2145.3, 4,   -999.0, 9,    589.2, 2,   4.6189,   -999.0, 9, -999.000, 9
318MHYDROS4, A16C, 349, 2, 13, 13, 2, 19890401, 1943, -11.5650, -25.0050, 5318,  -999.00,    825.3,   4.2024,  34.4478, 2,  34.4480, 2,   -999.0, 9,    167.8, 2,    35.29, 2,    34.02, 2,     0.00, 2,     2.32, 2, -999.000, 9, -999.000, 9,   2209.9, 2,   2307.0, 2,   1095.4, 2,   4.1398,   -999.0, 9, -999.000, 9
318MHYDROS4, A16C, 349, 2, 14, 14, 2, 19890401, 1943, -11.5650, -25.0050, 5318,  -999.00,    927.5,   4.0584,  34.5135, 2,  34.5120, 2,   -999.0, 9,    162.1, 2,    36.85, 2,    34.02, 2,     0.00, 2,     2.33, 2, -999.000, 9, -999.000, 9,   2224.3, 2,   2320.8, 2,   1111.1, 2,   3.9883,   -999.0, 9, -999.000, 9
318MHYDROS4, A16C, 349, 2, 15, 15, 2, 19890401, 1943, -11.5650, -25.0050, 5318,  -999.00,   1132.7,   3.9086,  34.6507, 2,  34.6500, 2,   -999.0, 9,    176.9, 2,    35.58, 2,    31.08, 2,     0.00, 2,     2.13, 2, -999.000, 9, -999.000, 9,   2203.2, 2,   2311.1, 2,   1020.8, 2,   3.8223,   -999.0, 9, -999.000, 9
318MHYDROS4, A16C, 349, 2, 16, 16, 2, 19890401, 1943, -11.5650, -25.0050, 5318,  -999.00,   1338.3,   4.0521,  34.8245, 2, -999.0000, 9,   -999.0, 9,    198.6, 2,    28.54, 2,    26.78, 2,     0.00, 2,     1.84, 2, -999.000, 9, -999.000, 9,   2195.9, 2,   2319.9, 2,    920.0, 2,   3.9462,   -999.0, 9, -999.000, 9
318MHYDROS4, A16C, 349, 2, 17, 17, 2, 19890401, 1943, -11.5650, -25.0050, 5318,  -999.00,   1543.7,   3.9005,  34.9032, 2,  34.9040, 2,   -999.0, 9,    221.2, 2,    24.82, 2,    23.55, 2,     0.00, 2,     1.60, 2, -999.000, 9, -999.000, 9,   2177.2, 2,   2317.1, 2,    826.1, 2,   3.7776,   -999.0, 9, -999.000, 9
318MHYDROS4, A16C, 349, 2, 18, 18, 2, 19890401, 1943, -11.5650, -25.0050, 5318,  -999.00,   1749.5,   3.6906,  34.9402, 2,  34.9410, 2,   -999.0, 9,    239.4, 2,    23.16, 2,    21.40, 2,     0.00, 2,     1.46, 2, -999.000, 9, -999.000, 9,   2169.7, 2,   2320.7, 2,    771.0, 2,   3.5513,   -999.0, 9, -999.000, 9
318MHYDROS4, A16C, 349, 2, 19, 19, 2, 19890401, 1943, -11.5650, -25.0050, 5318,  -999.00,   1956.1,   3.4454,  34.9461, 2,  34.9480, 2,   -999.0, 9,    248.1, 2,    24.43, 2,    20.33, 2,     0.00, 2,     1.40, 2, -999.000, 9, -999.000, 9,   2164.9, 2,   2322.9, 2,    739.2, 2,   3.2903,   -999.0, 9, -999.000, 9
318MHYDROS4, A16C, 349, 2, 20, 20, 2, 19890401, 1943, -11.5650, -25.0050, 5318,  -999.00,   2162.3,   3.1843,  34.9368, 2,  34.9380, 2,   -999.0, 9,    249.8, 2,    28.05, 2,    20.42, 2,     0.00, 2,     1.40, 2, -999.000, 9, -999.000, 9,   2168.6, 2,   2325.3, 2,    746.9, 2,   3.0138,   -999.0, 9, -999.000, 9
318MHYDROS4, A16C, 349, 2, 21, 21, 2, 19890401, 1943, -11.5650, -25.0050, 5318,  -999.00,   2368.9,   2.9824,  34.9236, 2,  34.9260, 2,   -999.0, 9,    248.1, 2,    31.96, 2,    21.40, 2,     0.00, 2,     1.43, 2, -999.000, 9, -999.000, 9,   2177.3, 2,   2333.3, 2,    755.0, 2,   2.7956,   -999.0, 9, -999.000, 9
318MHYDROS4, A16C, 349, 2, 22, 22, 2, 19890401, 1943, -11.5650, -25.0050, 5318,  -999.00,   2575.4,   2.8405,  34.9136, 2,  34.9150, 2,   -999.0, 9,    246.8, 2,    35.38, 2,    21.89, 2,     0.00, 2,     1.46, 2, -999.000, 9, -999.000, 9,   2183.6, 2,   2337.9, 2,    765.6, 2,   2.6363,   -999.0, 9, -999.000, 9
318MHYDROS4, A16C, 349, 2, 23, 23, 2, 19890401, 1943, -11.5650, -25.0050, 5318,  -999.00,   2781.7,   2.7288,  34.9058, 2,  34.9070, 2,   -999.0, 9,    245.5, 2,    38.60, 2,    22.18, 2,     0.00, 2,     1.48, 2, -999.000, 9, -999.000, 9,   2180.1, 2,   2333.9, 2,    766.4, 2,   2.5063,   -999.0, 9, -999.000, 9
318MHYDROS4, A16C, 349, 2, 24, 24, 2, 19890401, 1943, -11.5650, -25.0050, 5318,  -999.00,   2989.3,   2.6737,  34.9043, 2,  34.9050, 2,   -999.0, 9,    246.4, 2,    40.56, 2,    22.09, 2,     0.00, 2,     1.48, 2, -999.000, 9, -999.000, 9,   2179.0, 2,   2332.9, 2,    766.0, 2,   2.4312,   -999.0, 9, -999.000, 9
318MHYDROS4, A16C, 349, 2, 25, 25, 2, 19890401, 1943, -11.5650, -25.0050, 5318,  -999.00,   3196.4,   2.6012,  34.9013, 2,  34.9050, 2,   -999.0, 9,    247.7, 2,    40.95, 2,    21.50, 2,     0.00, 2,     1.47, 2, -999.000, 9, -999.000, 9,   2181.3, 2,   2336.0, 2,    763.8, 2,   2.3389,   -999.0, 9, -999.000, 9
318MHYDROS4, A16C, 349, 2, 26, 26, 2, 19890401, 1943, -11.5650, -25.0050, 5318,  -999.00,   3403.7,   2.5011,  34.8973, 2,  34.8990, 2,   -999.0, 9,    250.7, 2,    40.75, 2,    21.50, 2,     0.00, 2,     1.46, 2, -999.000, 9, -999.000, 9,   2181.0, 2,   2336.2, 2,    761.2, 2,   2.2191,   -999.0, 9, -999.000, 9
318MHYDROS4, A16C, 349, 2, 27, 27, 2, 19890401, 1943, -11.5650, -25.0050, 5318,  -999.00,   3611.2,   2.3351,  34.8842, 2,  34.8880, 2,   -999.0, 9,    250.7, 2,    45.25, 2,    22.28, 2,     0.00, 2,     1.50, 2, -999.000, 9, -999.000, 9,   -999.0, 9,   -999.0, 9,    770.5, 2,   2.0349,   -999.0, 9, -999.000, 9
318MHYDROS4, A16C, 349, 2, 28, 28, 2, 19890401, 1943, -11.5650, -25.0050, 5318,  -999.00,   3819.3,   2.0253,  34.8533, 2,  34.8570, 2,   -999.0, 9,    247.2, 2,    57.07, 2,    23.75, 2,     0.00, 2,     1.60, 2, -999.000, 9, -999.000, 9,   2196.0, 2,   2345.1, 2,    798.3, 2,   1.7106,   -999.0, 9, -999.000, 9
318MHYDROS4, A16C, 349, 2, 29, 29, 2, 19890401, 1943, -11.5650, -25.0050, 5318,  -999.00,   4027.3,   1.6739,  34.8150, 2,  34.8160, 2,   -999.0, 9,    239.8, 2,    73.01, 2,    26.09, 2,     0.00, 2,     1.77, 2, -999.000, 9, -999.000, 9,   2213.2, 2,   2355.1, 2,    844.0, 2,   1.3463,   -999.0, 9, -999.000, 9
318MHYDROS4, A16C, 349, 2, 30, 30, 2, 19890401, 1943, -11.5650, -25.0050, 5318,  -999.00,   4234.5,   1.3049,  34.7766, 2,  34.7790, 2,   -999.0, 9,    234.2, 2,    88.94, 2,    28.15, 2,     0.00, 2,     1.93, 2, -999.000, 9, -999.000, 9,   2225.5, 2,   2358.8, 2,    897.0, 2,   0.9653,   -999.0, 9, -999.000, 9
318MHYDROS4, A16C, 349, 2, 31, 31, 2, 19890401, 1943, -11.5650, -25.0050, 5318,  -999.00,   4443.1,   1.0157,  34.7465, 2,  34.7490, 2,   -999.0, 9,    229.8, 2,   100.67, 2,    29.81, 2,     0.00, 2,     2.03, 2, -999.000, 9, -999.000, 9,   -999.0, 9,   -999.0, 9,    931.3, 2,   0.6618,   -999.0, 9, -999.000, 9
318MHYDROS4, A16C, 349, 2, 32, 32, 2, 19890401, 1943, -11.5650, -25.0050, 5318,  -999.00,   4651.4,   0.8652,  34.7303, 2,  34.7330, 2,   -999.0, 9,    227.7, 2,   107.22, 2,    30.59, 2,     0.00, 2,     2.10, 2, -999.000, 9, -999.000, 9,   2242.7, 2,   2367.7, 2,    956.0, 2,   0.4926,   -999.0, 9, -999.000, 9
318MHYDROS4, A16C, 349, 2, 33, 33, 2, 19890401, 1943, -11.5650, -25.0050, 5318,  -999.00,   4860.1,   0.8071,  34.7224, 2,  34.7240, 2,   -999.0, 9,    225.9, 2,   109.96, 2,    30.69, 2,     0.00, 2,     2.12, 2, -999.000, 9, -999.000, 9,   2248.2, 2,   2372.7, 2,    962.4, 2,   0.4126,   -999.0, 9, -999.000, 9
318MHYDROS4, A16C, 349, 2, 34, 34, 2, 19890401, 1943, -11.5650, -25.0050, 5318,  -999.00,   5069.4,   0.7502,  34.7144, 2,  34.7150, 2,   -999.0, 9,    225.1, 2,   112.79, 2,    31.18, 2,     0.00, 2,     2.16, 2, -999.000, 9, -999.000, 9,   2250.8, 2,   2374.5, 2,    969.3, 2,   0.3331,   -999.0, 9, -999.000, 9
318MHYDROS4, A16C, 349, 2, 35, 35, 2, 19890401, 1943, -11.5650, -25.0050, 5318,  -999.00,   5278.6,   0.7490,  34.7113, 2,  34.7110, 2,   -999.0, 9,    225.5, 2,   113.96, 2,    31.57, 2,     0.00, 2,     2.17, 2, -999.000, 9, -999.000, 9,   2249.9, 2,   2371.8, 2,    979.5, 2,   0.3069,   5273.3, 2,    0.739, 2
318MHYDROS4, A16C, 349, 2, 36, 36, 2, 19890401, 1943, -11.5650, -25.0050, 5318,  -999.00,   5530.0,   0.7340,  34.7072, 2,  34.7060, 2,   -999.0, 9,    224.2, 2,   115.82, 2,    31.67, 2,     0.00, 2,     2.18, 2, -999.000, 9, -999.000, 9,   2250.2, 2,   2370.1, 2,    991.4, 2,   0.2617,   -999.0, 9, -999.000, 9