BOTTLE,20110318CCHDOSIODM
EXPOCODE,SECT_ID,STNNBR,CASTNO,SAMPNO,BTLNBR,BTLNBR_FLAG_W,DATE,TIME,LATITUDE,LONGITUDE,DEPTH,CTDRAW,CTDPRS,CTDTMP,CTDSAL,CTDSAL_FLAG_W,SALNTY,SALNTY_FLAG_W,CTDOXY,CTDOXY_FLAG_W,OXYGEN,OXYGEN_FLAG_W,SILCAT,SILCAT_FLAG_W,NITRAT,NITRAT_FLAG_W,NITRIT,NITRIT_FLAG_W,PHSPHT,PHSPHT_FLAG_W,CFC-11,CFC-11_FLAG_W,CFC-12,CFC-12_FLAG_W,TCARBN,TCARBN_FLAG_W,ALKALI,ALKALI_FLAG_W,PCO2,PCO2_FLAG_W,THETA,REVPRS,REVPRS_FLAG_W,REVTMP,REVTMP_FLAG_W
,,,,,,,,,,,METERS,DBAR,DBAR,ITS-90,PSS-78,,PSS-78,,UMOL/KG,,UMOL/KG,,UMOL/KG,,UMOL/KG,,UMOL/KG,,UMOL/KG,,PMOL/KG,,PMOL/KG,,UMOL/KG,,UMOL/KG,,UATM,,DEG C,DBAR,,ITS-90,
318MHYDROS4, A16C, 358, 1, 1, 1, 2, 19890404, 1958, -6.3200, -25.0067, 5611,  -999.00,      0.9,  28.7130,  36.1891, 2, -999.0000, 9,   -999.0, 9,   -999.0, 9,  -999.00, 9,  -999.00, 9,  -999.00, 9,  -999.00, 9, -999.000, 9, -999.000, 9,   2226.3, 2,   -999.0, 9,   -999.0, 9,  28.7128,   -999.0, 9, -999.000, 9
318MHYDROS4, A16C, 358, 1, 2, 2, 2, 19890404, 1958, -6.3200, -25.0067, 5611,  -999.00,     27.2,  28.5050,  36.2225, 2,  36.2240, 2,   -999.0, 9,    200.8, 2,     1.76, 2,     0.00, 2,     0.00, 2,     0.09, 2, -999.000, 9, -999.000, 9,   -999.0, 9,   -999.0, 9,   -999.0, 9,  28.4985,   -999.0, 9, -999.000, 9
318MHYDROS4, A16C, 358, 1, 3, 3, 2, 19890404, 1958, -6.3200, -25.0067, 5611,  -999.00,     48.1,  27.9870,  36.3547, 2,  36.3570, 2,   -999.0, 9,    209.9, 2,     2.15, 2,     0.10, 2,     0.00, 2,     0.13, 2,    1.559, 2,    0.799, 2,   2032.2, 2,   2383.8, 2,    291.5, 2,  27.9757,   -999.0, 9, -999.000, 9
318MHYDROS4, A16C, 358, 1, 71, 71, 2, 19890404, 1958, -6.3200, -25.0067, 5611,  -999.00,     84.6,  23.5084,  36.3117, 2,  36.3290, 2,   -999.0, 9,    193.9, 2,     2.34, 2,     0.29, 2,     0.04, 2,     0.25, 2, -999.000, 9, -999.000, 9,   -999.0, 9,   -999.0, 9,   -999.0, 9,  23.4908,   -999.0, 9, -999.000, 9
318MHYDROS4, A16C, 358, 1, 5, 5, 2, 19890404, 1958, -6.3200, -25.0067, 5611,  -999.00,    110.5,  19.5117,  36.0163, 2,  36.0060, 2,   -999.0, 9,    134.1, 2,     4.30, 2,    11.23, 2,     0.30, 2,     0.90, 2,    1.300, 2,    0.659, 2,   2136.1, 2,   2366.4, 2,    514.5, 2,  19.4916,   -999.0, 9, -999.000, 9
318MHYDROS4, A16C, 358, 1, 6, 6, 2, 19890404, 1958, -6.3200, -25.0067, 5611,  -999.00,    136.0,  16.3487,  35.6993, 2,  35.7050, 2,   -999.0, 9,    107.9, 2,     6.06, 2,    18.17, 2,     0.03, 2,     1.26, 2, -999.000, 9, -999.000, 9,   -999.0, 9,   -999.0, 9,   -999.0, 9,  16.3268,   -999.0, 9, -999.000, 9
318MHYDROS4, A16C, 358, 1, 7, 7, 2, 19890404, 1958, -6.3200, -25.0067, 5611,  -999.00,    161.1,  13.4644,  35.3581, 2,  35.3540, 2,   -999.0, 9,     97.9, 2,     8.50, 2,    23.45, 2,     0.01, 2,     1.54, 2,    0.764, 2,    0.380, 2,   2184.6, 2,   2330.0, 2,    810.2, 2,  13.4417,   -999.0, 9, -999.000, 9
318MHYDROS4, A16C, 358, 1, 8, 8, 2, 19890404, 1958, -6.3200, -25.0067, 5611,  -999.00,    260.3,   9.9531,  34.9128, 2,  34.9130, 2,   -999.0, 9,     93.1, 2,    13.49, 2,    30.29, 2,     0.00, 2,     1.94, 2,    0.279, 2,    0.157, 2,   -999.0, 9,   -999.0, 9,   1049.1, 2,   9.9229,   -999.0, 9, -999.000, 9
318MHYDROS4, A16C, 358, 1, 9, 9, 2, 19890404, 1958, -6.3200, -25.0067, 5611,  -999.00,    375.4,   8.5877,  34.7714, 2,  34.7740, 2,   -999.0, 9,     78.3, 2,    17.20, 2,    35.09, 2,     0.00, 2,     2.22, 2,    0.097, 2,    0.063, 2,   2226.4, 2,   2304.9, 2,   1253.8, 2,   8.5477,   -999.0, 9, -999.000, 9
318MHYDROS4, A16C, 358, 1, 10, 10, 2, 19890404, 1958, -6.3200, -25.0067, 5611,  -999.00,    497.9,   7.0816,  34.6272, 2,  34.6280, 2,   -999.0, 9,     93.9, 2,    21.21, 2,    36.85, 2,     0.00, 2,     2.36, 2,    0.036, 2,    0.024, 2,   2229.2, 2,   2302.9, 2,   1295.9, 2,   7.0340,   -999.0, 9, -999.000, 9
318MHYDROS4, A16C, 358, 1, 11, 11, 2, 19890404, 1958, -6.3200, -25.0067, 5611,  -999.00,    620.4,   5.5037,  34.5056, 2,  34.5100, 2,   -999.0, 9,    123.5, 2,    27.08, 2,    36.95, 2,     0.00, 2,     2.43, 2,    0.013, 2,    0.016, 2,   2228.4, 2,   2309.5, 2,   1232.1, 2,   5.4513,   -999.0, 9, -999.000, 9
318MHYDROS4, A16C, 358, 1, 12, 12, 2, 19890404, 1958, -6.3200, -25.0067, 5611,  -999.00,    722.4,   4.8673,  34.4824, 2,  34.4840, 2,   -999.0, 9,    137.8, 2,    30.40, 2,    36.56, 2,     0.00, 2,     2.44, 2,    0.004, 2, -999.000, 9,   -999.0, 9,   -999.0, 9,   -999.0, 9,   4.8093,   -999.0, 9, -999.000, 9
318MHYDROS4, A16C, 358, 1, 13, 13, 2, 19890404, 1958, -6.3200, -25.0067, 5611,  -999.00,    824.5,   4.4249,  34.4845, 2,  34.4830, 2,   -999.0, 9,    153.0, 2,    33.43, 2,    35.49, 2,     0.00, 2,     2.40, 2,    0.004, 2,    0.004, 2,   2222.1, 2,   2313.3, 2,   1148.1, 2,   4.3609,   -999.0, 9, -999.000, 9
318MHYDROS4, A16C, 358, 1, 14, 14, 2, 19890404, 1958, -6.3200, -25.0067, 5611,  -999.00,    927.1,   4.1734,  34.5290, 2,  34.5280, 2,   -999.0, 9,    161.7, 2,    35.39, 2,    34.41, 2,     0.00, 2,     2.33, 2,    0.003, 2,    0.002, 2,   -999.0, 9,   -999.0, 9,   -999.0, 9,   4.1025,   -999.0, 9, -999.000, 9
318MHYDROS4, A16C, 358, 1, 15, 15, 2, 19890404, 1958, -6.3200, -25.0067, 5611,  -999.00,   1132.3,   4.1165,  34.7033, 2,  34.7020, 2,   -999.0, 9,    176.9, 2,    31.77, 2,    30.89, 2,     0.00, 2,     2.09, 2,    0.000, 2,    0.000, 2,   2207.1, 2,   2318.1, 2,   1003.5, 2,   4.0284,   -999.0, 9, -999.000, 9
318MHYDROS4, A16C, 358, 1, 16, 16, 2, 19890404, 1958, -6.3200, -25.0067, 5611,  -999.00,   1337.9,   4.3066,  34.8859, 2,  34.8830, 2,   -999.0, 9,    206.0, 2,    23.36, 2,    25.41, 2,     0.00, 2,     1.71, 2,    0.002, 2, -999.000, 9,   -999.0, 9,   -999.0, 9,   -999.0, 9,   4.1981,   -999.0, 9, -999.000, 9
318MHYDROS4, A16C, 358, 1, 17, 17, 2, 19890404, 1958, -6.3200, -25.0067, 5611,  -999.00,   1543.8,   4.1077,  34.9492, 2,  34.9450, 2,   -999.0, 9,    230.7, 2,    19.94, 2,    22.09, 2,     0.00, 2,     1.48, 2,    0.007, 2,    0.007, 2,   2171.3, 2,   2320.9, 2,    777.8, 2,   3.9823,   -999.0, 9, -999.000, 9
318MHYDROS4, A16C, 358, 1, 18, 18, 2, 19890404, 1958, -6.3200, -25.0067, 5611,  -999.00,   1749.9,   3.7846,  34.9605, 2,  34.9610, 2,   -999.0, 9,    245.1, 2,    19.94, 2,    20.72, 2,     0.00, 2,     1.38, 2,    0.003, 2,    0.003, 2,   -999.0, 9,   -999.0, 9,    741.7, 2,   3.6440,   -999.0, 9, -999.000, 9
318MHYDROS4, A16C, 358, 1, 19, 19, 2, 19890404, 1958, -6.3200, -25.0067, 5611,  -999.00,   1955.7,   3.4341,  34.9456, 2,  34.9460, 2,   -999.0, 9,    246.8, 2,    24.14, 2,    20.81, 2,     0.00, 2,     1.40, 2,    0.000, 2,    0.000, 2,   -999.0, 9,   -999.0, 9,   -999.0, 9,   3.2792,   -999.0, 9, -999.000, 9
318MHYDROS4, A16C, 358, 1, 20, 20, 2, 19890404, 1958, -6.3200, -25.0067, 5611,  -999.00,   2162.1,   3.1367,  34.9287, 2,  34.9300, 2,   -999.0, 9,    245.1, 2,    30.00, 2,    21.40, 2,     0.00, 2,     1.43, 2, -999.000, 9, -999.000, 9,   -999.0, 9,   -999.0, 9,   -999.0, 9,   2.9670,   -999.0, 9, -999.000, 9
318MHYDROS4, A16C, 358, 1, 21, 21, 2, 19890404, 1958, -6.3200, -25.0067, 5611,  -999.00,   2368.4,   2.9264,  34.9171, 2,  34.9170, 2,   -999.0, 9,    244.6, 2,    34.50, 2,    21.89, 2,     0.00, 2,     1.46, 2,    0.000, 2,    0.000, 2,   2183.8, 2,   2336.8, 2,    771.4, 2,   2.7406,   -999.0, 9, -999.000, 9
318MHYDROS4, A16C, 358, 1, 22, 22, 2, 19890404, 1958, -6.3200, -25.0067, 5611,  -999.00,   2575.0,   2.8021,  34.9108, 2,  34.9100, 2,   -999.0, 9,    245.1, 2,    37.14, 2,    21.99, 2,     0.00, 2,     1.47, 2, -999.000, 9, -999.000, 9,   -999.0, 9,   -999.0, 9,   -999.0, 9,   2.5986,   -999.0, 9, -999.000, 9
318MHYDROS4, A16C, 358, 1, 23, 23, 2, 19890404, 1958, -6.3200, -25.0067, 5611,  -999.00,   2781.7,   2.7290,  34.9100, 2,  34.9100, 2,   -999.0, 9,    245.9, 2,    37.72, 2,    21.89, 2,     0.00, 2,     1.46, 2,    0.000, 2,    0.000, 2,   -999.0, 9,   -999.0, 9,   -999.0, 9,   2.5065,   -999.0, 9, -999.000, 9
318MHYDROS4, A16C, 358, 1, 24, 24, 2, 19890404, 1958, -6.3200, -25.0067, 5611,  -999.00,   2988.6,   2.6628,  34.9075, 2,  34.9070, 2,   -999.0, 9,    248.1, 2,    38.02, 2,    21.70, 2,     0.00, 2,     1.46, 2, -999.000, 9, -999.000, 9,   2186.4, 2,   2339.0, 2,    774.6, 2,   2.4206,   -999.0, 9, -999.000, 9
318MHYDROS4, A16C, 358, 1, 25, 25, 2, 19890404, 1958, -6.3200, -25.0067, 5611,  -999.00,   3195.8,   2.6210,  34.9124, 2,  34.9130, 2,   -999.0, 9,    254.6, 2,    34.99, 2,    20.82, 2,     0.00, 2,     1.40, 2,    0.000, 2,    0.002, 2,   -999.0, 9,   -999.0, 9,   -999.0, 9,   2.3582,   -999.0, 9, -999.000, 9
318MHYDROS4, A16C, 358, 1, 26, 26, 2, 19890404, 1958, -6.3200, -25.0067, 5611,  -999.00,   3402.9,   2.5861,  34.9136, 2,  34.9130, 2,   -999.0, 9,    259.4, 2,    32.74, 2,    20.13, 2,     0.00, 2,     1.36, 2, -999.000, 9, -999.000, 9,   -999.0, 9,   -999.0, 9,   -999.0, 9,   2.3021,   -999.0, 9, -999.000, 9
318MHYDROS4, A16C, 358, 1, 27, 27, 2, 19890404, 1958, -6.3200, -25.0067, 5611,  -999.00,   3610.6,   2.5058,  34.9083, 2,  34.9100, 2,   -999.0, 9,    259.8, 2,    33.52, 2,    20.03, 2,     0.00, 2,     1.36, 2, -999.000, 9, -999.000, 9,   2173.4, 2,   2332.9, 2,    738.0, 2,   2.2012,   -999.0, 9, -999.000, 9
318MHYDROS4, A16C, 358, 1, 28, 28, 2, 19890404, 1958, -6.3200, -25.0067, 5611,  -999.00,   3818.4,   2.3048,  34.8896, 2,  34.8880, 2,   -999.0, 9,    258.9, 2,    39.68, 2,    20.82, 2,     0.00, 2,     1.41, 2,    0.004, 2,    0.003, 2,   -999.0, 9,   -999.0, 9,   -999.0, 9,   1.9825,   -999.0, 9, -999.000, 9
318MHYDROS4, A16C, 358, 1, 29, 29, 2, 19890404, 1958, -6.3200, -25.0067, 5611,  -999.00,   4026.2,   1.9124,  34.8462, 2,  34.8470, 2,   -999.0, 9,    250.3, 2,    57.76, 2,    23.46, 2,     0.00, 2,     1.59, 2, -999.000, 9, -999.000, 9,   -999.0, 9,   -999.0, 9,   -999.0, 9,   1.5780,   -999.0, 9, -999.000, 9
318MHYDROS4, A16C, 358, 1, 30, 30, 2, 19890404, 1958, -6.3200, -25.0067, 5611,  -999.00,   4234.1,   1.3815,  34.7889, 2,  34.7910, 2,   -999.0, 9,    238.1, 2,    80.24, 2,    26.88, 2,     0.00, 2,     1.82, 2,    0.001, 2,    0.004, 2,   2226.2, 2,   2370.4, 2,    841.5, 2,   1.0396,   -999.0, 9, -999.000, 9
318MHYDROS4, A16C, 358, 1, 31, 31, 2, 19890404, 1958, -6.3200, -25.0067, 5611,  -999.00,   4442.2,   1.0315,  34.7505, 2,  34.7500, 2,   -999.0, 9,    231.1, 2,    96.47, 2,    29.03, 2,     0.00, 2,     1.98, 2, -999.000, 9, -999.000, 9,   -999.0, 9,   -999.0, 9,   -999.0, 9,   0.6771,   -999.0, 9, -999.000, 9
318MHYDROS4, A16C, 358, 1, 32, 32, 2, 19890404, 1958, -6.3200, -25.0067, 5611,  -999.00,   4650.5,   0.8858,  34.7338, 2,  34.7330, 2,   -999.0, 9,    228.5, 2,   103.11, 2,    30.01, 2,     0.00, 2,     2.05, 2, -999.000, 9, -999.000, 9,   -999.0, 9,   -999.0, 9,   -999.0, 9,   0.5126,   -999.0, 9, -999.000, 9
318MHYDROS4, A16C, 358, 1, 33, 33, 2, 19890404, 1958, -6.3200, -25.0067, 5611,  -999.00,   4859.2,   0.7861,  34.7206, 2,  34.7190, 2,   -999.0, 9,    226.4, 2,   107.51, 2,    30.69, 2,     0.00, 2,     2.10, 2,    0.000, 2,    0.002, 2,   2248.6, 2,   2375.1, 2,    950.5, 2,   0.3923,   -999.0, 9, -999.000, 9
318MHYDROS4, A16C, 358, 1, 34, 34, 2, 19890404, 1958, -6.3200, -25.0067, 5611,  -999.00,   5172.4,   0.7182,  34.7096, 2,  34.7090, 2,   -999.0, 9,    224.6, 2,   112.01, 2,    31.28, 2,     0.00, 2,     2.14, 2, -999.000, 9, -999.000, 9,   -999.0, 9,   -999.0, 9,   -999.0, 9,   0.2900,   -999.0, 9, -999.000, 9
318MHYDROS4, A16C, 358, 1, 35, 35, 2, 19890404, 1958, -6.3200, -25.0067, 5611,  -999.00,   5486.7,   0.6919,  34.7031, 2,  34.7030, 2,   -999.0, 9,    224.2, 2,   114.94, 2,    31.67, 2,     0.00, 2,     2.18, 2,    0.002, 2,    0.000, 2,   -999.0, 9,   -999.0, 9,   -999.0, 9,   0.2265,   5483.6, 2,    0.680, 2
318MHYDROS4, A16C, 358, 1, 36, 36, 2, 19890404, 1958, -6.3200, -25.0067, 5611,  -999.00,   5765.3,   0.7022,  34.7002, 2,  34.7000, 2,   -999.0, 9,    223.3, 2,   116.21, 2,    31.67, 2,     0.00, 2,     2.19, 2,    0.001, 2,    0.002, 2,   2254.4, 2,   2378.3, 2,    970.8, 2,   0.2016,   -999.0, 9, -999.000, 9