BOTTLE,20110318CCHDOSIODM
EXPOCODE,SECT_ID,STNNBR,CASTNO,SAMPNO,BTLNBR,BTLNBR_FLAG_W,DATE,TIME,LATITUDE,LONGITUDE,DEPTH,CTDRAW,CTDPRS,CTDTMP,CTDSAL,CTDSAL_FLAG_W,SALNTY,SALNTY_FLAG_W,CTDOXY,CTDOXY_FLAG_W,OXYGEN,OXYGEN_FLAG_W,SILCAT,SILCAT_FLAG_W,NITRAT,NITRAT_FLAG_W,NITRIT,NITRIT_FLAG_W,PHSPHT,PHSPHT_FLAG_W,CFC-11,CFC-11_FLAG_W,CFC-12,CFC-12_FLAG_W,TCARBN,TCARBN_FLAG_W,ALKALI,ALKALI_FLAG_W,PCO2,PCO2_FLAG_W,THETA,REVPRS,REVPRS_FLAG_W,REVTMP,REVTMP_FLAG_W
,,,,,,,,,,,METERS,DBAR,DBAR,ITS-90,PSS-78,,PSS-78,,UMOL/KG,,UMOL/KG,,UMOL/KG,,UMOL/KG,,UMOL/KG,,UMOL/KG,,PMOL/KG,,PMOL/KG,,UMOL/KG,,UMOL/KG,,UATM,,DEG C,DBAR,,ITS-90,
318MHYDROS4, A16C, 337, 1, 1, 1, 2, 19890328, 1717, -18.5317, -25.0067, 5369,  -999.00,      1.6,  27.8935,  37.1229, 2,  37.1306, 2,   -999.0, 9,    199.6, 2,     2.24, 2,     0.00, 2,     0.00, 2,     0.20, 2,    1.490, 2,    0.802, 2,   2075.1, 2,   2441.5, 2,    293.9, 2,  27.8931,   -999.0, 9, -999.000, 9
318MHYDROS4, A16C, 337, 1, 2, 2, 2, 19890328, 1717, -18.5317, -25.0067, 5369,  -999.00,     38.0,  27.7049,  37.1751, 2,  37.1682, 2,   -999.0, 9,    205.5, 2,     2.34, 2,     0.00, 2,     0.00, 2,     0.19, 2, -999.000, 9, -999.000, 9,   2068.4, 2,   2432.3, 2,    295.0, 2,  27.6960,   -999.0, 9, -999.000, 9
318MHYDROS4, A16C, 337, 1, 3, 3, 2, 19890328, 1717, -18.5317, -25.0067, 5369,  -999.00,     68.8,  24.7456,  36.9679, 2,  36.9579, 2,   -999.0, 9,    223.6, 2,     2.34, 2,     0.00, 2,     0.00, 2,     0.18, 2, -999.000, 9, -999.000, 9,   -999.0, 9,   -999.0, 9,   -999.0, 9,  24.7307,   -999.0, 9, -999.000, 9
318MHYDROS4, A16C, 337, 1, 71, 71, 2, 19890328, 1717, -18.5317, -25.0067, 5369,  -999.00,    109.2,  22.7958,  36.8140, 2,  36.8271, 2,   -999.0, 9,    217.0, 2,     2.34, 2,     0.00, 2,     0.00, 2,     0.19, 2,    1.760, 2,    0.924, 2,   2073.2, 2,   -999.0, 9,   -999.0, 9,  22.7734,   -999.0, 9, -999.000, 9
318MHYDROS4, A16C, 337, 1, 5, 5, 2, 19890328, 1717, -18.5317, -25.0067, 5369,  -999.00,    161.6,  20.8095,  36.4474, 2,  36.4256, 2,   -999.0, 9,    207.1, 2,     2.34, 2,     0.10, 2,     0.09, 2,     0.24, 2, -999.000, 9, -999.000, 9,   -999.0, 9,   -999.0, 9,   -999.0, 9,  20.7785,   -999.0, 9, -999.000, 9
318MHYDROS4, A16C, 337, 1, 6, 6, 2, 19890328, 1717, -18.5317, -25.0067, 5369,  -999.00,    212.7,  17.0596,  35.7444, 2,  35.7686, 2,   -999.0, 9,    201.0, 2,     3.13, 2,     3.42, 2,     0.01, 2,     0.46, 2,    1.909, 2,    0.984, 2,   2087.1, 2,   -999.0, 9,   -999.0, 9,  17.0242,   -999.0, 9, -999.000, 9
318MHYDROS4, A16C, 337, 1, 7, 7, 2, 19890328, 1717, -18.5317, -25.0067, 5369,  -999.00,    314.6,  13.4871,  35.2252, 2,  35.2212, 2,   -999.0, 9,    177.5, 2,     5.57, 2,    12.70, 2,     0.01, 2,     0.96, 2,    1.590, 2,    0.810, 2,   -999.0, 9,   -999.0, 9,   -999.0, 9,  13.4425,   -999.0, 9, -999.000, 9
318MHYDROS4, A16C, 337, 1, 8, 8, 2, 19890328, 1717, -18.5317, -25.0067, 5369,  -999.00,    416.4,  10.2282,  34.8570, 2,  34.8605, 2,   -999.0, 9,    159.1, 2,    10.85, 2,    21.60, 2,     0.00, 2,     1.50, 2,    0.864, 2,    0.458, 2,   2117.5, 2,   -999.0, 9,   -999.0, 9,  10.1788,   -999.0, 9, -999.000, 9
318MHYDROS4, A16C, 337, 1, 9, 9, 2, 19890328, 1717, -18.5317, -25.0067, 5369,  -999.00,    516.9,   7.6083,  34.6131, 2,  34.6136, 2,   -999.0, 9,    151.7, 2,    17.59, 2,    28.44, 2,     0.00, 2,     1.92, 2, -999.000, 9, -999.000, 9,   -999.0, 9,   -999.0, 9,   -999.0, 9,   7.5567,   -999.0, 9, -999.000, 9
318MHYDROS4, A16C, 337, 1, 10, 10, 2, 19890328, 1717, -18.5317, -25.0067, 5369,  -999.00,    618.2,   5.7272,  34.4729, 2,  34.4732, 2,   -999.0, 9,    162.2, 2,    24.63, 2,    31.48, 2,     0.00, 2,     2.13, 2,    0.114, 2,    0.093, 2,   2151.2, 2,   -999.0, 9,   -999.0, 9,   5.6739,   -999.0, 9, -999.000, 9
318MHYDROS4, A16C, 337, 1, 11, 11, 2, 19890328, 1717, -18.5317, -25.0067, 5369,  -999.00,    720.3,   4.6422,  34.4182, 2,  34.4189, 2,   -999.0, 9,    175.2, 2,    30.79, 2,    32.36, 2,     0.00, 2,     2.20, 2, -999.000, 9, -999.000, 9,   2181.8, 2,   -999.0, 9,   -999.0, 9,   4.5858,   -999.0, 9, -999.000, 9
318MHYDROS4, A16C, 337, 1, 12, 12, 2, 19890328, 1717, -18.5317, -25.0067, 5369,  -999.00,    825.2,   4.0380,  34.4243, 2,  34.4235, 2,   -999.0, 9,    181.2, 2,    36.07, 2,    32.75, 2,     0.00, 2,     2.24, 2,    0.037, 2,    0.029, 2,   2196.4, 2,   -999.0, 9,   -999.0, 9,   3.9765,   -999.0, 9, -999.000, 9
318MHYDROS4, A16C, 337, 1, 13, 13, 2, 19890328, 1717, -18.5317, -25.0067, 5369,  -999.00,    926.7,   3.7735,  34.4697, 2,  34.4669, 2,   -999.0, 9,    181.1, 2,    39.49, 2,    32.65, 2,     0.00, 2,     2.23, 2,    0.017, 2,    0.018, 2,   2199.8, 2,   -999.0, 9,   -999.0, 9,   3.7056,   -999.0, 9, -999.000, 9
318MHYDROS4, A16C, 337, 1, 14, 14, 2, 19890328, 1717, -18.5317, -25.0067, 5369,  -999.00,   1028.8,   3.6926,  34.5224, 2,  34.5208, 2,   -999.0, 9,    181.2, 2,    40.08, 2,    31.97, 2,     0.00, 2,     2.19, 2, -999.000, 9, -999.000, 9,   2202.4, 2,   -999.0, 9,   -999.0, 9,   3.6169,   -999.0, 9, -999.000, 9
318MHYDROS4, A16C, 337, 1, 15, 15, 2, 19890328, 1717, -18.5317, -25.0067, 5369,  -999.00,   1233.7,   3.7710,  34.6898, 2,  34.6899, 2,   -999.0, 9,    189.1, 2,    35.87, 2,    29.32, 2,     0.00, 2,     1.99, 2,    0.000, 2,    0.005, 2,   -999.0, 9,   -999.0, 9,   -999.0, 9,   3.6773,   -999.0, 9, -999.000, 9
318MHYDROS4, A16C, 337, 1, 16, 16, 2, 19890328, 1717, -18.5317, -25.0067, 5369,  -999.00,   1438.2,   3.8028,  34.8262, 2,  34.8267, 2,   -999.0, 9,    207.8, 2,    30.39, 2,    25.61, 2,     0.00, 2,     1.74, 2, -999.000, 9, -999.000, 9,   2212.8, 2,   -999.0, 9,   -999.0, 9,   3.6907,   -999.0, 9, -999.000, 9
318MHYDROS4, A16C, 337, 1, 17, 17, 2, 19890328, 1717, -18.5317, -25.0067, 5369,  -999.00,   1641.0,   3.5829,  34.8908, 2,  34.8909, 2,   -999.0, 9,    228.1, 2,    28.83, 2,    22.97, 2,     0.00, 2,     1.55, 2, -999.000, 9, -999.000, 9,   2206.7, 2,   -999.0, 9,   -999.0, 9,   3.4551,   -999.0, 9, -999.000, 9
318MHYDROS4, A16C, 337, 1, 18, 18, 2, 19890328, 1717, -18.5317, -25.0067, 5369,  -999.00,   1848.9,   3.3885,  34.9222, 2,  34.9219, 2,   -999.0, 9,    241.4, 2,    27.75, 2,    21.40, 2,     0.00, 2,     1.45, 2, -999.000, 9, -999.000, 9,   2193.4, 2,   -999.0, 9,   -999.0, 9,   3.2442,   -999.0, 9, -999.000, 9
318MHYDROS4, A16C, 337, 1, 19, 19, 2, 19890328, 1717, -18.5317, -25.0067, 5369,  -999.00,   2055.0,   3.2183,  34.9300, 2,  34.9307, 2,   -999.0, 9,    247.4, 2,    27.95, 2,    20.62, 2,     0.00, 2,     1.40, 2, -999.000, 9, -999.000, 9,   2183.2, 2,   -999.0, 9,   -999.0, 9,   3.0574,   -999.0, 9, -999.000, 9
318MHYDROS4, A16C, 337, 1, 20, 20, 2, 19890328, 1717, -18.5317, -25.0067, 5369,  -999.00,   2260.6,   3.1082,  34.9363, 2,  34.9372, 2,   -999.0, 9,    251.4, 2,    27.75, 2,    20.13, 2,     0.00, 2,     1.36, 2, -999.000, 9, -999.000, 9,   -999.0, 9,   -999.0, 9,   -999.0, 9,   2.9296,   -999.0, 9, -999.000, 9
318MHYDROS4, A16C, 337, 1, 21, 21, 2, 19890328, 1717, -18.5317, -25.0067, 5369,  -999.00,   2467.1,   2.8927,  34.9174, 2,  34.9183, 2,   -999.0, 9,    247.9, 2,    33.52, 2,    20.91, 2,     0.00, 2,     1.42, 2, -999.000, 9, -999.000, 9,   2166.1, 2,   -999.0, 9,   -999.0, 9,   2.6980,   -999.0, 9, -999.000, 9
318MHYDROS4, A16C, 337, 1, 22, 22, 2, 19890328, 1717, -18.5317, -25.0067, 5369,  -999.00,   2675.7,   2.7967,  34.9108, 2,  34.9114, 2,   -999.0, 9,    246.4, 2,    36.35, 2,    21.30, 2,     0.00, 2,     1.44, 2, -999.000, 9, -999.000, 9,   -999.0, 9,   -999.0, 9,   -999.0, 9,   2.5834,   -999.0, 9, -999.000, 9
318MHYDROS4, A16C, 337, 1, 23, 23, 2, 19890328, 1717, -18.5317, -25.0067, 5369,  -999.00,   2885.9,   2.7594,  34.9160, 2,  34.9155, 2,   -999.0, 9,    250.7, 2,    35.28, 2,    20.91, 2,     0.00, 2,     1.41, 2, -999.000, 9, -999.000, 9,   2169.8, 2,   -999.0, 9,   -999.0, 9,   2.5257,   -999.0, 9, -999.000, 9
318MHYDROS4, A16C, 337, 1, 24, 24, 2, 19890328, 1717, -18.5317, -25.0067, 5369,  -999.00,   3092.9,   2.6497,  34.9072, 2,  34.9073, 2,   -999.0, 9,    250.3, 2,    37.53, 2,    21.11, 2,     0.00, 2,     1.43, 2, -999.000, 9, -999.000, 9,   -999.0, 9,   -999.0, 9,   -999.0, 9,   2.3970,   -999.0, 9, -999.000, 9
318MHYDROS4, A16C, 337, 1, 25, 25, 2, 19890328, 1717, -18.5317, -25.0067, 5369,  -999.00,   3299.4,   2.5336,  34.8938, 2,  34.8948, 2,   -999.0, 9,    248.4, 2,    35.08, 2,    20.82, 2,     0.00, 2,     1.41, 2, -999.000, 9, -999.000, 9,   2171.1, 2,   -999.0, 9,   -999.0, 9,   2.2620,   -999.0, 9, -999.000, 9
318MHYDROS4, A16C, 337, 1, 26, 26, 2, 19890328, 1717, -18.5317, -25.0067, 5369,  -999.00,   3507.0,   2.4290,  34.8930, 2,  34.8931, 2,   -999.0, 9,    251.2, 2,    42.22, 2,    21.30, 2,     0.00, 2,     1.45, 2, -999.000, 9, -999.000, 9,   -999.0, 9,   -999.0, 9,   -999.0, 9,   2.1377,   -999.0, 9, -999.000, 9
318MHYDROS4, A16C, 337, 1, 27, 27, 2, 19890328, 1717, -18.5317, -25.0067, 5369,  -999.00,   3714.8,   2.1978,  34.8713, 2,  34.8716, 2,   -999.0, 9,    249.2, 2,    50.53, 2,    22.48, 2,     0.00, 2,     1.52, 2, -999.000, 9, -999.000, 9,   2176.2, 2,   -999.0, 9,   -999.0, 9,   1.8899,   -999.0, 9, -999.000, 9
318MHYDROS4, A16C, 337, 1, 28, 28, 2, 19890328, 1717, -18.5317, -25.0067, 5369,  -999.00,   3922.5,   1.9149,  34.8423, 2,  34.8422, 2,   -999.0, 9,    244.3, 2,    61.86, 2,    24.04, 2,     0.00, 2,     1.63, 2, -999.000, 9, -999.000, 9,   -999.0, 9,   -999.0, 9,   -999.0, 9,   1.5919,   -999.0, 9, -999.000, 9
318MHYDROS4, A16C, 337, 1, 29, 29, 2, 19890328, 1717, -18.5317, -25.0067, 5369,  -999.00,   4131.1,   1.5918,  34.8074, 2,  34.8082, 2,   -999.0, 9,    238.7, 2,    75.74, 2,    25.90, 2,     0.00, 2,     1.77, 2, -999.000, 9, -999.000, 9,   2185.9, 2,   -999.0, 9,   -999.0, 9,   1.2550,   -999.0, 9, -999.000, 9
318MHYDROS4, A16C, 337, 1, 30, 30, 2, 19890328, 1717, -18.5317, -25.0067, 5369,  -999.00,   4339.3,   1.3354,  34.7800, 2,  34.7810, 2,   -999.0, 9,    234.4, 2,    86.50, 2,    27.27, 2,     0.00, 2,     1.88, 2, -999.000, 9, -999.000, 9,   -999.0, 9,   -999.0, 9,   -999.0, 9,   0.9831,   -999.0, 9, -999.000, 9
318MHYDROS4, A16C, 337, 1, 31, 31, 2, 19890328, 1717, -18.5317, -25.0067, 5369,  -999.00,   4547.5,   1.1291,  34.7573, 2, -999.0000, 9,   -999.0, 9,    232.0, 2,    95.59, 2,    28.54, 2,     0.00, 2,     1.96, 2, -999.000, 9, -999.000, 9,   2213.7, 2,   -999.0, 9,   -999.0, 9,   0.7597,   -999.0, 9, -999.000, 9
318MHYDROS4, A16C, 337, 1, 32, 32, 2, 19890328, 1717, -18.5317, -25.0067, 5369,  -999.00,   4756.0,   0.9726,  34.7400, 2,  34.7396, 2,   -999.0, 9,    228.5, 2,   101.84, 2,    29.32, 2,     0.00, 2,     2.02, 2, -999.000, 9, -999.000, 9,   -999.0, 9,   -999.0, 9,   -999.0, 9,   0.5845,   -999.0, 9, -999.000, 9
318MHYDROS4, A16C, 337, 1, 33, 33, 2, 19890328, 1717, -18.5317, -25.0067, 5369,  -999.00,   4965.6,   0.8098,  34.7220, 2,  34.7201, 2,   -999.0, 9,    226.2, 2,   107.81, 2,    30.20, 2,     0.00, 2,     2.09, 2, -999.000, 9, -999.000, 9,   2234.8, 2,   -999.0, 9,   -999.0, 9,   0.4029,   -999.0, 9, -999.000, 9
318MHYDROS4, A16C, 337, 1, 34, 34, 2, 19890328, 1717, -18.5317, -25.0067, 5369,  -999.00,   5174.3,   0.7348,  34.7124, 2,  34.7107, 2,   -999.0, 9,    225.2, 2,   112.60, 2,    30.79, 2,     0.00, 2,     2.13, 2, -999.000, 9, -999.000, 9,   -999.0, 9,   -999.0, 9,   -999.0, 9,   0.3057,   -999.0, 9, -999.000, 9
318MHYDROS4, A16C, 337, 1, 35, 35, 2, 19890328, 1717, -18.5317, -25.0067, 5369,  -999.00,   5382.4,   0.6769,  34.7044, 2,  34.7036, 2,   -999.0, 9,    223.8, 2,   115.53, 2,    31.18, 2,     0.00, 2,     2.16, 2,    0.009, 2,    0.009, 2,   2250.1, 2,   -999.0, 9,   -999.0, 9,   0.2248,   -999.0, 9, -999.000, 9
318MHYDROS4, A16C, 337, 1, 36, 36, 2, 19890328, 1717, -18.5317, -25.0067, 5369,  -999.00,   5519.9,   0.6054,  34.6954, 2,  34.6953, 2,   -999.0, 9,    224.5, 2,   119.93, 2,    31.77, 2,     0.00, 2,     2.19, 2,    0.013, 2,    0.010, 2,   2251.5, 2,   -999.0, 9,   -999.0, 9,   0.1392,   -999.0, 9, -999.000, 9