BOTTLE,20110318CCHDOSIODM
EXPOCODE,SECT_ID,STNNBR,CASTNO,SAMPNO,BTLNBR,BTLNBR_FLAG_W,DATE,TIME,LATITUDE,LONGITUDE,DEPTH,CTDRAW,CTDPRS,CTDTMP,CTDSAL,CTDSAL_FLAG_W,SALNTY,SALNTY_FLAG_W,CTDOXY,CTDOXY_FLAG_W,OXYGEN,OXYGEN_FLAG_W,SILCAT,SILCAT_FLAG_W,NITRAT,NITRAT_FLAG_W,NITRIT,NITRIT_FLAG_W,PHSPHT,PHSPHT_FLAG_W,CFC-11,CFC-11_FLAG_W,CFC-12,CFC-12_FLAG_W,TCARBN,TCARBN_FLAG_W,ALKALI,ALKALI_FLAG_W,PCO2,PCO2_FLAG_W,THETA,REVPRS,REVPRS_FLAG_W,REVTMP,REVTMP_FLAG_W
,,,,,,,,,,,METERS,DBAR,DBAR,ITS-90,PSS-78,,PSS-78,,UMOL/KG,,UMOL/KG,,UMOL/KG,,UMOL/KG,,UMOL/KG,,UMOL/KG,,PMOL/KG,,PMOL/KG,,UMOL/KG,,UMOL/KG,,UATM,,DEG C,DBAR,,ITS-90,
318MHYDROS4, A16C, 354, 1, 1, 1, 2, 19890403, 1537, -8.6467, -24.9833, 5687,  -999.00,      0.8,  28.3390,  36.5395, 2,  36.5430, 2,   -999.0, 9,    201.2, 2,     1.76, 2,     0.00, 2,     0.00, 2,     0.10, 2,    1.517, 2,    0.779, 2,   2032.8, 2,   2403.0, 2,    274.6, 2,  28.3388,   -999.0, 9, -999.000, 9
318MHYDROS4, A16C, 354, 1, 2, 2, 2, 19890403, 1537, -8.6467, -24.9833, 5687,  -999.00,     58.3,  28.1099,  36.5818, 2,  36.5760, 2,   -999.0, 9,    202.9, 2,     1.95, 2,     0.00, 2,     0.00, 2,     0.09, 2, -999.000, 9, -999.000, 9,   2032.1, 2,   2398.3, 2,    278.5, 2,  28.0961,   -999.0, 9, -999.000, 9
318MHYDROS4, A16C, 354, 1, 3, 3, 2, 19890403, 1537, -8.6467, -24.9833, 5687,  -999.00,    110.2,  23.1945,  36.7155, 2,  36.7090, 2,   -999.0, 9,    203.0, 2,     1.76, 2,     0.00, 2,     0.00, 2,     0.21, 2,    1.735, 2,    0.868, 2,   2079.0, 2,   2409.7, 2,    330.9, 2,  23.1717,   -999.0, 9, -999.000, 9
318MHYDROS4, A16C, 354, 1, 71, 71, 2, 19890403, 1537, -8.6467, -24.9833, 5687,  -999.00,    140.9,  19.3312,  36.1728, 2,  36.1270, 2,   -999.0, 9,    163.3, 2,     3.12, 2,     6.54, 2,     0.13, 2,     0.67, 2, -999.000, 9, -999.000, 9,   2078.7, 2,   -999.0, 9,   -999.0, 9,  19.3056,   -999.0, 9, -999.000, 9
318MHYDROS4, A16C, 354, 1, 5, 5, 2, 19890403, 1537, -8.6467, -24.9833, 5687,  -999.00,    171.6,  15.1766,  35.5562, 2,  35.5600, 2,   -999.0, 9,    135.3, 2,     5.57, 2,    15.14, 2,     0.02, 2,     1.11, 2,    1.318, 2,    0.672, 2,   -999.0, 9,   -999.0, 9,   -999.0, 9,  15.1503,   -999.0, 9, -999.000, 9
318MHYDROS4, A16C, 354, 1, 6, 6, 2, 19890403, 1537, -8.6467, -24.9833, 5687,  -999.00,    202.2,  13.0905,  35.2889, 2,  35.2830, 2,   -999.0, 9,    109.2, 2,     8.21, 2,    21.49, 2,     0.01, 2,     1.48, 2, -999.000, 9, -999.000, 9,   2177.3, 2,   2326.7, 2,    786.6, 2,  13.0625,   -999.0, 9, -999.000, 9
318MHYDROS4, A16C, 354, 1, 7, 7, 2, 19890403, 1537, -8.6467, -24.9833, 5687,  -999.00,    243.2,  11.0237,  35.0550, 2,  35.0540, 2,   -999.0, 9,     90.0, 2,    11.63, 2,    27.36, 2,     0.00, 2,     1.80, 2,    0.406, 2,    0.216, 2,   -999.0, 9,   -999.0, 9,   -999.0, 9,  10.9936,   -999.0, 9, -999.000, 9
318MHYDROS4, A16C, 354, 1, 8, 8, 2, 19890403, 1537, -8.6467, -24.9833, 5687,  -999.00,    314.5,   8.8333,  34.7988, 2,  34.7960, 2,   -999.0, 9,     93.9, 2,    15.64, 2,    31.67, 2,     0.00, 2,     2.05, 2,    0.148, 2,    0.085, 2,   2213.5, 2,   2307.7, 2,   1119.5, 2,   8.7994,   -999.0, 9, -999.000, 9
318MHYDROS4, A16C, 354, 1, 9, 9, 2, 19890403, 1537, -8.6467, -24.9833, 5687,  -999.00,    416.5,   7.4807,  34.6577, 2,  34.6590, 2,   -999.0, 9,     96.1, 2,    19.45, 2,    34.80, 2,     0.00, 2,     2.25, 2,    0.060, 2,    0.033, 2,   2223.9, 2,   2307.3, 2,   1209.9, 2,   7.4398,   -999.0, 9, -999.000, 9
318MHYDROS4, A16C, 354, 1, 10, 10, 2, 19890403, 1537, -8.6467, -24.9833, 5687,  -999.00,    569.5,   6.0525,  34.5415, 2,  34.5440, 2,   -999.0, 9,    110.4, 2,    24.54, 2,    36.46, 2,     0.00, 2,     2.40, 2, -999.000, 9, -999.000, 9,   2229.8, 2,   2306.1, 2,   1273.2, 2,   6.0022,   -999.0, 9, -999.000, 9
318MHYDROS4, A16C, 354, 1, 11, 11, 2, 19890403, 1537, -8.6467, -24.9833, 5687,  -999.00,    722.6,   4.7207,  34.4594, 2,  34.4650, 2,   -999.0, 9,    148.7, 2,    30.99, 2,    34.70, 2,     0.00, 2,     2.38, 2,    0.021, 2,    0.016, 2,   -999.0, 9,   -999.0, 9,   1133.5, 2,   4.6635,   -999.0, 9, -999.000, 9
318MHYDROS4, A16C, 354, 1, 12, 12, 2, 19890403, 1537, -8.6467, -24.9833, 5687,  -999.00,    875.8,   4.2093,  34.4808, 2,  34.4810, 2,   -999.0, 9,    162.1, 2,    35.00, 2,    34.21, 2,     0.00, 2,     2.33, 2,    0.015, 2,    0.011, 2,   2218.4, 2,   2317.4, 2,   1088.7, 2,   4.1424,   -999.0, 9, -999.000, 9
318MHYDROS4, A16C, 354, 1, 13, 13, 2, 19890403, 1537, -8.6467, -24.9833, 5687,  -999.00,   1029.8,   4.0374,  34.6082, 2,  34.6070, 2,   -999.0, 9,    166.5, 2,    34.80, 2,    32.65, 2,     0.00, 2,     2.22, 2,    0.000, 2,    0.000, 2,   2216.8, 2,   2316.4, 2,   1085.0, 2,   3.9588,   -999.0, 9, -999.000, 9
318MHYDROS4, A16C, 354, 1, 14, 14, 2, 19890403, 1537, -8.6467, -24.9833, 5687,  -999.00,   1235.2,   4.1383,  34.7764, 2,  34.7770, 2,   -999.0, 9,    186.4, 2,    28.54, 2,    28.64, 2,     0.00, 2,     1.92, 2,    0.001, 2,    0.005, 2,   2201.9, 2,   2322.4, 2,    943.0, 2,   4.0408,   -999.0, 9, -999.000, 9
318MHYDROS4, A16C, 354, 1, 15, 15, 2, 19890403, 1537, -8.6467, -24.9833, 5687,  -999.00,   1440.7,   4.1818,  34.9065, 2,  34.9070, 2,   -999.0, 9,    215.1, 2,    22.09, 2,    24.04, 2,     0.00, 2,     1.60, 2,    0.002, 2,    0.003, 2,   2182.9, 2,   2322.8, 2,    829.3, 2,   4.0651,   -999.0, 9, -999.000, 9
318MHYDROS4, A16C, 354, 1, 16, 16, 2, 19890403, 1537, -8.6467, -24.9833, 5687,  -999.00,   1646.9,   3.8731,  34.9486, 2,  34.9500, 2,   -999.0, 9,    237.2, 2,    20.23, 2,    21.30, 2,     0.00, 2,     1.43, 2,    0.004, 2,    0.006, 2,   -999.0, 9,   -999.0, 9,   -999.0, 9,   3.7410,   -999.0, 9, -999.000, 9
318MHYDROS4, A16C, 354, 1, 17, 17, 2, 19890403, 1537, -8.6467, -24.9833, 5687,  -999.00,   1852.8,   3.5539,  34.9510, 2,  34.9510, 2,   -999.0, 9,    246.4, 2,    22.48, 2,    20.72, 2,     0.00, 2,     1.36, 2,    0.001, 2,    0.003, 2,   2166.2, 2,   2322.3, 2,    747.1, 2,   3.4069,   -999.0, 9, -999.000, 9
318MHYDROS4, A16C, 354, 1, 18, 18, 2, 19890403, 1537, -8.6467, -24.9833, 5687,  -999.00,   2059.2,   3.2973,  34.9429, 2,  34.9450, 2,   -999.0, 9,    249.4, 2,    25.11, 2,    20.62, 2,     0.00, 2,     1.37, 2,    0.000, 2,    0.000, 2,   -999.0, 9,   -999.0, 9,   -999.0, 9,   3.1347,   -999.0, 9, -999.000, 9
318MHYDROS4, A16C, 354, 1, 19, 19, 2, 19890403, 1537, -8.6467, -24.9833, 5687,  -999.00,   2265.0,   3.0910,  34.9305, 2,  34.9320, 2,   -999.0, 9,    247.2, 2,    29.61, 2,    21.01, 2,     0.00, 2,     1.41, 2,    0.000, 2,    0.000, 2,   2177.8, 2,   2334.8, 2,    750.8, 2,   2.9123,   -999.0, 9, -999.000, 9
318MHYDROS4, A16C, 354, 1, 20, 20, 2, 19890403, 1537, -8.6467, -24.9833, 5687,  -999.00,   2470.1,   2.9361,  34.9222, 2,  34.9240, 2,   -999.0, 9,    246.8, 2,    32.25, 2,    21.11, 2,     0.00, 2,     1.42, 2,    0.000, 2,    0.002, 2,   -999.0, 9,   -999.0, 9,   -999.0, 9,   2.7403,   -999.0, 9, -999.000, 9
318MHYDROS4, A16C, 354, 1, 21, 21, 2, 19890403, 1537, -8.6467, -24.9833, 5687,  -999.00,   2675.8,   2.8301,  34.9170, 2,  34.9180, 2,   -999.0, 9,    247.2, 2,    34.69, 2,    21.11, 2,     0.00, 2,     1.44, 2, -999.000, 9, -999.000, 9,   2184.9, 2,   2340.8, 2,    759.7, 2,   2.6161,   -999.0, 9, -999.000, 9
318MHYDROS4, A16C, 354, 1, 22, 22, 2, 19890403, 1537, -8.6467, -24.9833, 5687,  -999.00,   2880.9,   2.7450,  34.9136, 2,  34.9150, 2,   -999.0, 9,    248.5, 2,    35.38, 2,    21.01, 2,     0.00, 2,     1.43, 2,    0.000, 2,    0.000, 2,   -999.0, 9,   -999.0, 9,   -999.0, 9,   2.5121,   -999.0, 9, -999.000, 9
318MHYDROS4, A16C, 354, 1, 23, 23, 2, 19890403, 1537, -8.6467, -24.9833, 5687,  -999.00,   3084.3,   2.6796,  34.9132, 2,  34.9150, 2,   -999.0, 9,    252.4, 2,    34.99, 2,    20.91, 2,     0.00, 2,     1.40, 2, -999.000, 9, -999.000, 9,   2181.8, 2,   2339.1, 2,    751.7, 2,   2.4271,   -999.0, 9, -999.000, 9
318MHYDROS4, A16C, 354, 1, 24, 24, 2, 19890403, 1537, -8.6467, -24.9833, 5687,  -999.00,   3286.6,   2.6157,  34.9111, 2,  34.9120, 2,   -999.0, 9,    255.0, 2,    34.89, 2,    20.62, 2,     0.00, 2,     1.40, 2, -999.000, 9, -999.000, 9,   -999.0, 9,   -999.0, 9,   -999.0, 9,   2.3434,   -999.0, 9, -999.000, 9
318MHYDROS4, A16C, 354, 1, 25, 25, 2, 19890403, 1537, -8.6467, -24.9833, 5687,  -999.00,   3492.9,   2.5167,  34.9053, 2,  34.9080, 2,   -999.0, 9,    256.3, 2,    35.87, 2,    20.42, 2,     0.00, 2,     1.40, 2,    0.003, 2,    0.002, 2,   2179.8, 2,   2344.2, 2,    722.6, 2,   2.2247,   -999.0, 9, -999.000, 9
318MHYDROS4, A16C, 354, 1, 26, 26, 2, 19890403, 1537, -8.6467, -24.9833, 5687,  -999.00,   3701.7,   2.3348,  34.8883, 2,  34.8900, 2,   -999.0, 9,    255.9, 2,    42.32, 2,    21.40, 2,     0.00, 2,     1.45, 2, -999.000, 9, -999.000, 9,   -999.0, 9,   -999.0, 9,   -999.0, 9,   2.0247,   -999.0, 9, -999.000, 9
318MHYDROS4, A16C, 354, 1, 27, 27, 2, 19890403, 1537, -8.6467, -24.9833, 5687,  -999.00,   3909.1,   2.0653,  34.8588, 2,  34.8600, 2,   -999.0, 9,    249.0, 2,    54.44, 2,    23.16, 2,     0.00, 2,     1.56, 2, -999.000, 9, -999.000, 9,   2197.5, 2,   2347.8, 2,    792.9, 2,   1.7396,   -999.0, 9, -999.000, 9
318MHYDROS4, A16C, 354, 1, 28, 28, 2, 19890403, 1537, -8.6467, -24.9833, 5687,  -999.00,   4118.1,   1.6918,  34.8187, 2,  34.8190, 2,   -999.0, 9,    242.4, 2,    70.46, 2,    25.21, 2,     0.00, 2,     1.74, 2,    0.000, 2,    0.001, 2,   -999.0, 9,   -999.0, 9,   -999.0, 9,   1.3535,   -999.0, 9, -999.000, 9
318MHYDROS4, A16C, 354, 1, 29, 29, 2, 19890403, 1537, -8.6467, -24.9833, 5687,  -999.00,   4326.2,   1.2632,  34.7731, 2,  34.7740, 2,   -999.0, 9,    235.1, 2,    88.94, 2,    27.76, 2,     0.00, 2,     1.91, 2, -999.000, 9, -999.000, 9,   2231.6, 2,   2368.5, 2,    882.0, 2,   0.9146,   -999.0, 9, -999.000, 9
318MHYDROS4, A16C, 354, 1, 30, 30, 2, 19890403, 1537, -8.6467, -24.9833, 5687,  -999.00,   4534.8,   0.9652,  34.7411, 2,  34.7430, 2,   -999.0, 9,    229.4, 2,   101.65, 2,    29.42, 2,     0.00, 2,     2.03, 2,    0.000, 2,    0.000, 2,   -999.0, 9,   -999.0, 9,   -999.0, 9,   0.6026,   -999.0, 9, -999.000, 9
318MHYDROS4, A16C, 354, 1, 31, 31, 2, 19890403, 1537, -8.6467, -24.9833, 5687,  -999.00,   4743.0,   0.8361,  34.7261, 2,  34.7270, 2,   -999.0, 9,    227.7, 2,   107.12, 2,    30.20, 2,     0.00, 2,     2.09, 2, -999.000, 9, -999.000, 9,   2252.1, 2,   2376.8, 2,    962.8, 2,   0.4541,   -999.0, 9, -999.000, 9
318MHYDROS4, A16C, 354, 1, 32, 32, 2, 19890403, 1537, -8.6467, -24.9833, 5687,  -999.00,   4950.0,   0.7817,  34.7186, 2,  34.7190, 2,   -999.0, 9,    225.5, 2,   110.74, 2,    30.59, 2,     0.00, 2,     2.13, 2, -999.000, 9, -999.000, 9,   -999.0, 9,   -999.0, 9,   -999.0, 9,   0.3775,   -999.0, 9, -999.000, 9
318MHYDROS4, A16C, 354, 1, 33, 33, 2, 19890403, 1537, -8.6467, -24.9833, 5687,  -999.00,   5157.5,   0.7363,  34.7119, 2,  34.7140, 2,   -999.0, 9,    224.6, 2,   112.69, 2,    30.89, 2,     0.00, 2,     2.16, 2,    0.005, 2,    0.000, 2,   2257.5, 2,   2379.9, 2,    980.9, 2,   0.3092,   -999.0, 9, -999.000, 9
318MHYDROS4, A16C, 354, 1, 34, 34, 2, 19890403, 1537, -8.6467, -24.9833, 5687,  -999.00,   5366.3,   0.7142,  34.7067, 2,  34.7070, 2,   -999.0, 9,    223.8, 2,   114.26, 2,    31.08, 2,     0.00, 2,     2.18, 2, -999.000, 9, -999.000, 9,   -999.0, 9,   -999.0, 9,   -999.0, 9,   0.2627,   -999.0, 9, -999.000, 9
318MHYDROS4, A16C, 354, 1, 35, 35, 2, 19890403, 1537, -8.6467, -24.9833, 5687,  -999.00,   5574.8,   0.7050,  34.7030, 2,  34.7050, 2,   -999.0, 9,    223.3, 2,   116.02, 2,    31.08, 2,     0.00, 2,     2.18, 2,    0.003, 2,    0.003, 2,   2255.6, 2,   2379.2, 2,    973.2, 2,   0.2282,   5575.7, 2,    0.695, 2
318MHYDROS4, A16C, 354, 1, 36, 36, 2, 19890403, 1537, -8.6467, -24.9833, 5687,  -999.00,   5837.8,   0.6683,  34.6957, 2,  34.6980, 2,   -999.0, 9,    222.5, 2,   118.66, 2,    31.37, 2,     0.00, 2,     2.21, 2,    0.004, 2,    0.003, 2,   2260.1, 2,   2376.9, 2,   1016.9, 2,   0.1598,   -999.0, 9, -999.000, 9