BOTTLE,20110318CCHDOSIODM
EXPOCODE,SECT_ID,STNNBR,CASTNO,SAMPNO,BTLNBR,BTLNBR_FLAG_W,DATE,TIME,LATITUDE,LONGITUDE,DEPTH,CTDRAW,CTDPRS,CTDTMP,CTDSAL,CTDSAL_FLAG_W,SALNTY,SALNTY_FLAG_W,CTDOXY,CTDOXY_FLAG_W,OXYGEN,OXYGEN_FLAG_W,SILCAT,SILCAT_FLAG_W,NITRAT,NITRAT_FLAG_W,NITRIT,NITRIT_FLAG_W,PHSPHT,PHSPHT_FLAG_W,CFC-11,CFC-11_FLAG_W,CFC-12,CFC-12_FLAG_W,TCARBN,TCARBN_FLAG_W,ALKALI,ALKALI_FLAG_W,PCO2,PCO2_FLAG_W,THETA,REVPRS,REVPRS_FLAG_W,REVTMP,REVTMP_FLAG_W
,,,,,,,,,,,METERS,DBAR,DBAR,ITS-90,PSS-78,,PSS-78,,UMOL/KG,,UMOL/KG,,UMOL/KG,,UMOL/KG,,UMOL/KG,,UMOL/KG,,PMOL/KG,,PMOL/KG,,UMOL/KG,,UMOL/KG,,UATM,,DEG C,DBAR,,ITS-90,
318MHYDROS4, A16C, 348, 1, 1, 1, 2, 19890401, 0848, -12.1467, -25.0100, 5509,  -999.00,      1.4,  27.6445,  37.0406, 2,  37.0440, 2,   -999.0, 9,    206.7, 2,     2.24, 2,     0.00, 2,     0.00, 2,     0.09, 2,    1.558, 2,    0.794, 2,   2046.5, 2,   2424.3, 2,    274.7, 2,  27.6442,   -999.0, 9, -999.000, 9
318MHYDROS4, A16C, 348, 1, 2, 2, 2, 19890401, 0848, -12.1467, -25.0100, 5509,  -999.00,     37.3,  27.5452,  37.0355, 2,  37.0400, 2,   -999.0, 9,    204.5, 2,     2.44, 2,     0.00, 2,     0.00, 2,     0.09, 2, -999.000, 9, -999.000, 9,   2045.9, 2,   2415.0, 2,    282.8, 2,  27.5365,   -999.0, 9, -999.000, 9
318MHYDROS4, A16C, 348, 1, 3, 3, 2, 19890401, 0848, -12.1467, -25.0100, 5509,  -999.00,     68.8,  23.9118,  36.8855, 2,  36.8760, 2,   -999.0, 9,    223.1, 2,     2.44, 2,     0.00, 2,     0.00, 2,     0.14, 2,    1.792, 2,    0.891, 2,   -999.0, 9,   -999.0, 9,   -999.0, 9,  23.8972,   -999.0, 9, -999.000, 9
318MHYDROS4, A16C, 348, 1, 71, 71, 2, 19890401, 0848, -12.1467, -25.0100, 5509,  -999.00,    109.9,  21.5951,  36.5589, 2,  36.5340, 2,   -999.0, 9,    200.3, 2,     2.44, 2,     0.20, 2,     0.03, 2,     0.30, 2,    1.823, 2,    0.910, 2,   2083.4, 2,   2392.4, 2,    358.9, 2,  21.5735,   -999.0, 9, -999.000, 9
318MHYDROS4, A16C, 348, 1, 5, 5, 2, 19890401, 0848, -12.1467, -25.0100, 5509,  -999.00,    161.3,  16.4176,  35.6933, 2,  35.6920, 2,   -999.0, 9,    173.6, 2,     4.20, 2,     8.99, 2,     0.02, 2,     0.79, 2, -999.000, 9, -999.000, 9,   -999.0, 9,   -999.0, 9,   -999.0, 9,  16.3915,   -999.0, 9, -999.000, 9
318MHYDROS4, A16C, 348, 1, 6, 6, 2, 19890401, 0848, -12.1467, -25.0100, 5509,  -999.00,    212.0,  13.0773,  35.2250, 2,  35.2200, 2,   -999.0, 9,    137.5, 2,     7.43, 2,    17.98, 2,     0.01, 2,     1.28, 2,    1.280, 2,    0.616, 2,   2148.9, 2,   2316.1, 2,    697.0, 2,  13.0480,   -999.0, 9, -999.000, 9
318MHYDROS4, A16C, 348, 1, 7, 7, 2, 19890401, 0848, -12.1467, -25.0100, 5509,  -999.00,    288.2,  10.4784,  34.9612, 2,  34.9600, 2,   -999.0, 9,    103.1, 2,    12.80, 2,    27.07, 2,     0.00, 2,     1.81, 2, -999.000, 9, -999.000, 9,   -999.0, 9,   -999.0, 9,   -999.0, 9,  10.4438,   -999.0, 9, -999.000, 9
318MHYDROS4, A16C, 348, 1, 8, 8, 2, 19890401, 0848, -12.1467, -25.0100, 5509,  -999.00,    364.7,   8.8338,  34.7817, 2,  34.7820, 2,   -999.0, 9,    108.3, 2,    15.93, 2,    29.91, 2,     0.00, 2,     1.99, 2,    0.181, 2,    0.104, 2,   2196.8, 2,   2298.1, 2,   1058.2, 2,   8.7944,   -999.0, 9, -999.000, 9
318MHYDROS4, A16C, 348, 1, 9, 9, 2, 19890401, 0848, -12.1467, -25.0100, 5509,  -999.00,    466.4,   6.8655,  34.5805, 2,  34.5820, 2,   -999.0, 9,    130.9, 2,    20.92, 2,    32.16, 2,     0.00, 2,     2.15, 2,    0.126, 2,    0.083, 2,   2196.7, 2,   2291.7, 2,   1099.9, 2,   6.8217,   -999.0, 9, -999.000, 9
318MHYDROS4, A16C, 348, 1, 10, 10, 2, 19890401, 0848, -12.1467, -25.0100, 5509,  -999.00,    568.6,   5.8162,  34.4933, 2,  34.4930, 2,   -999.0, 9,    146.5, 2,    24.54, 2,    33.04, 2,     0.00, 2,     2.23, 2,    0.104, 2,    0.058, 2,   2200.7, 2,   -999.0, 9,   -999.0, 9,   5.7670,   -999.0, 9, -999.000, 9
318MHYDROS4, A16C, 348, 1, 11, 11, 2, 19890401, 0848, -12.1467, -25.0100, 5509,  -999.00,    670.9,   5.1553,  34.4604, 2,  34.4620, 2,   -999.0, 9,    150.9, 2,    27.96, 2,    34.02, 2,     0.00, 2,     2.31, 2,    0.042, 2,    0.023, 2,   2205.9, 2,   2297.7, 2,   1130.4, 2,   5.1002,   -999.0, 9, -999.000, 9
318MHYDROS4, A16C, 348, 1, 12, 12, 2, 19890401, 0848, -12.1467, -25.0100, 5509,  -999.00,    772.7,   4.5668,  34.4503, 2,  34.4510, 2,   -999.0, 9,    156.5, 2,    32.65, 2,    34.41, 2,     0.00, 2,     2.35, 2,    0.021, 2,    0.010, 2,   2209.5, 2,   2302.4, 2,   1125.9, 2,   4.5063,   -999.0, 9, -999.000, 9
318MHYDROS4, A16C, 348, 1, 13, 13, 2, 19890401, 0848, -12.1467, -25.0100, 5509,  -999.00,    925.7,   4.0898,  34.4910, 2,  34.4900, 2,   -999.0, 9,    163.4, 2,    36.76, 2,    33.82, 2,     0.00, 2,     2.33, 2,    0.004, 2,    0.003, 2,   2211.9, 2,   2310.3, 2,   1089.0, 2,   4.0196,   -999.0, 9, -999.000, 9
318MHYDROS4, A16C, 348, 1, 14, 14, 2, 19890401, 0848, -12.1467, -25.0100, 5509,  -999.00,   1078.7,   3.9178,  34.6108, 2,  34.6090, 2,   -999.0, 9,    172.6, 2,    36.36, 2,    31.67, 2,     0.00, 2,     2.20, 2,    0.000, 2,    0.000, 2,   2210.2, 2,   2315.2, 2,   1043.9, 2,   3.8360,   -999.0, 9, -999.000, 9
318MHYDROS4, A16C, 348, 1, 15, 15, 2, 19890401, 0848, -12.1467, -25.0100, 5509,  -999.00,   1233.0,   3.9756,  34.7455, 2,  34.7440, 2,   -999.0, 9,    186.4, 2,    31.67, 2,    28.54, 2,     0.00, 2,     1.97, 2,    0.000, 2,    0.000, 2,   2196.2, 2,   2312.4, 2,    964.9, 2,   3.8799,   -999.0, 9, -999.000, 9
318MHYDROS4, A16C, 348, 1, 16, 16, 2, 19890401, 0848, -12.1467, -25.0100, 5509,  -999.00,   1437.2,   4.0012,  34.8599, 2,  34.8590, 2,   -999.0, 9,    207.7, 2,    26.58, 2,    25.02, 2,     0.00, 2,     1.71, 2,    0.000, 2,    0.004, 2,   -999.0, 9,   -999.0, 9,   -999.0, 9,   3.8870,   -999.0, 9, -999.000, 9
318MHYDROS4, A16C, 348, 1, 17, 17, 2, 19890401, 0848, -12.1467, -25.0100, 5509,  -999.00,   1642.8,   3.8158,  34.9176, 2,  34.9180, 2,   -999.0, 9,    229.4, 2,    24.14, 2,    22.38, 2,     0.00, 2,     1.51, 2,    0.001, 2,    0.003, 2,   -999.0, 9,   -999.0, 9,   -999.0, 9,   3.6848,   -999.0, 9, -999.000, 9
318MHYDROS4, A16C, 348, 1, 18, 18, 2, 19890401, 0848, -12.1467, -25.0100, 5509,  -999.00,   1849.2,   3.5791,  34.9366, 2,  34.9360, 2,   -999.0, 9,    240.7, 2,    24.82, 2,    21.01, 2,     0.00, 2,     1.43, 2,    0.000, 2,    0.000, 2,   -999.0, 9,   -999.0, 9,   -999.0, 9,   3.4321,   -999.0, 9, -999.000, 9
318MHYDROS4, A16C, 348, 1, 19, 19, 2, 19890401, 0848, -12.1467, -25.0100, 5509,  -999.00,   2054.9,   3.2459,  34.9260, 2,  34.9260, 2,   -999.0, 9,    244.2, 2,    28.93, 2,    20.91, 2,     0.00, 2,     1.44, 2, -999.000, 9, -999.000, 9,   -999.0, 9,   -999.0, 9,   -999.0, 9,   3.0846,   -999.0, 9, -999.000, 9
318MHYDROS4, A16C, 348, 1, 20, 20, 2, 19890401, 0848, -12.1467, -25.0100, 5509,  -999.00,   2260.4,   2.9757,  34.9094, 2,  34.9100, 2,   -999.0, 9,    242.4, 2,    35.08, 2,    21.50, 2,     0.00, 2,     1.48, 2,    0.000, 2,    0.003, 2,   -999.0, 9,   -999.0, 9,   -999.0, 9,   2.7995,   -999.0, 9, -999.000, 9
318MHYDROS4, A16C, 348, 1, 21, 21, 2, 19890401, 0848, -12.1467, -25.0100, 5509,  -999.00,   2466.4,   2.8554,  34.9051, 2,  34.9040, 2,   -999.0, 9,    243.3, 2,    37.53, 2,    21.50, 2,     0.00, 2,     1.49, 2, -999.000, 9, -999.000, 9,   -999.0, 9,   -999.0, 9,   -999.0, 9,   2.6615,   -999.0, 9, -999.000, 9
318MHYDROS4, A16C, 348, 1, 22, 22, 2, 19890401, 0848, -12.1467, -25.0100, 5509,  -999.00,   2673.5,   2.7617,  34.9015, 2,  34.9010, 2,   -999.0, 9,    243.3, 2,    39.38, 2,    21.60, 2,     0.00, 2,     1.50, 2,    0.000, 2,    0.001, 2,   -999.0, 9,   -999.0, 9,   -999.0, 9,   2.5493,   -999.0, 9, -999.000, 9
318MHYDROS4, A16C, 348, 1, 23, 23, 2, 19890401, 0848, -12.1467, -25.0100, 5509,  -999.00,   2881.7,   2.6871,  34.8988, 2,  34.8990, 2,   -999.0, 9,    243.3, 2,    41.53, 2,    21.79, 2,     0.00, 2,     1.50, 2, -999.000, 9, -999.000, 9,   -999.0, 9,   -999.0, 9,   -999.0, 9,   2.4553,   -999.0, 9, -999.000, 9
318MHYDROS4, A16C, 348, 1, 24, 24, 2, 19890401, 0848, -12.1467, -25.0100, 5509,  -999.00,   3089.7,   2.6292,  34.8965, 2,  34.8970, 2,   -999.0, 9,    246.4, 2,    42.22, 2,    21.60, 2,     0.00, 2,     1.50, 2,    0.000, 2,    0.000, 2,   -999.0, 9,   -999.0, 9,   -999.0, 9,   2.3774,   -999.0, 9, -999.000, 9
318MHYDROS4, A16C, 348, 1, 25, 25, 2, 19890401, 0848, -12.1467, -25.0100, 5509,  -999.00,   3297.7,   2.5580,  34.8945, 2,  34.8960, 2,   -999.0, 9,    246.4, 2,    42.71, 2,    21.50, 2,     0.00, 2,     1.49, 2, -999.000, 9, -999.000, 9,   -999.0, 9,   -999.0, 9,   -999.0, 9,   2.2860,   -999.0, 9, -999.000, 9
318MHYDROS4, A16C, 348, 1, 26, 26, 2, 19890401, 0848, -12.1467, -25.0100, 5509,  -999.00,   3505.4,   2.4425,  34.8878, 2,  34.8870, 2,   -999.0, 9,    248.1, 2,    44.76, 2,    21.60, 2,     0.00, 2,     1.50, 2,    0.000, 2,    0.003, 2,   -999.0, 9,   -999.0, 9,   -999.0, 9,   2.1510,   -999.0, 9, -999.000, 9
318MHYDROS4, A16C, 348, 1, 27, 27, 2, 19890401, 0848, -12.1467, -25.0100, 5509,  -999.00,   3765.5,   2.1223,  34.8614, 2,  34.8610, 2,   -999.0, 9,    248.1, 2,    54.04, 2,    22.58, 2,     0.00, 2,     1.56, 2, -999.000, 9, -999.000, 9,   -999.0, 9,   -999.0, 9,   -999.0, 9,   1.8109,   -999.0, 9, -999.000, 9
318MHYDROS4, A16C, 348, 1, 28, 28, 2, 19890401, 0848, -12.1467, -25.0100, 5509,  -999.00,   4025.9,   1.6714,  34.8145, 2,  34.8150, 2,   -999.0, 9,    241.6, 2,    71.54, 2,    25.02, 2,     0.00, 2,     1.75, 2,    0.000, 2,    0.004, 2,   -999.0, 9,   -999.0, 9,   -999.0, 9,   1.3440,   -999.0, 9, -999.000, 9
318MHYDROS4, A16C, 348, 1, 29, 29, 2, 19890401, 0848, -12.1467, -25.0100, 5509,  -999.00,   4233.8,   1.2277,  34.7688, 2,  34.7690, 2,   -999.0, 9,    233.8, 2,    89.62, 2,    27.37, 2,     0.00, 2,     1.93, 2, -999.000, 9, -999.000, 9,   -999.0, 9,   -999.0, 9,   -999.0, 9,   0.8905,   -999.0, 9, -999.000, 9
318MHYDROS4, A16C, 348, 1, 30, 30, 2, 19890401, 0848, -12.1467, -25.0100, 5509,  -999.00,   4441.2,   0.9905,  34.7442, 2,  34.7440, 2,   -999.0, 9,    230.3, 2,    99.50, 2,    28.54, 2,     0.00, 2,     2.02, 2,    0.000, 2,    0.002, 2,   -999.0, 9,   -999.0, 9,   -999.0, 9,   0.6376,   -999.0, 9, -999.000, 9
318MHYDROS4, A16C, 348, 1, 31, 31, 2, 19890401, 0848, -12.1467, -25.0100, 5509,  -999.00,   4649.1,   0.8681,  34.7306, 2,  34.7300, 2,   -999.0, 9,    228.5, 2,   105.46, 2,    29.91, 2,     0.00, 2,     2.08, 2, -999.000, 9, -999.000, 9,   -999.0, 9,   -999.0, 9,   -999.0, 9,   0.4957,   -999.0, 9, -999.000, 9
318MHYDROS4, A16C, 348, 1, 32, 32, 2, 19890401, 0848, -12.1467, -25.0100, 5509,  -999.00,   4858.4,   0.7937,  34.7210, 2,  34.7200, 2,   -999.0, 9,    227.7, 2,   110.05, 2,    30.40, 2,     0.00, 2,     2.13, 2,    0.001, 2,    0.003, 2,   -999.0, 9,   -999.0, 9,   -999.0, 9,   0.3997,   -999.0, 9, -999.000, 9
318MHYDROS4, A16C, 348, 1, 33, 33, 2, 19890401, 0848, -12.1467, -25.0100, 5509,  -999.00,   5067.3,   0.7570,  34.7148, 2,  34.7140, 2,   -999.0, 9,    225.5, 2,   112.99, 2,    30.79, 2,     0.00, 2,     2.16, 2, -999.000, 9, -999.000, 9,   -999.0, 9,   -999.0, 9,   -999.0, 9,   0.3399,   -999.0, 9, -999.000, 9
318MHYDROS4, A16C, 348, 1, 34, 34, 2, 19890401, 0848, -12.1467, -25.0100, 5509,  -999.00,   5276.2,   0.7291,  34.7091, 2,  34.7080, 2,   -999.0, 9,    225.1, 2,   114.75, 2,    31.67, 2,     0.00, 2,     2.18, 2,    0.000, 2,    0.000, 2,   -999.0, 9,   -999.0, 9,   -999.0, 9,   0.2880,   -999.0, 9, -999.000, 9
318MHYDROS4, A16C, 348, 1, 35, 35, 2, 19890401, 0848, -12.1467, -25.0100, 5509,  -999.00,   5484.5,   0.7236,  34.7060, 2,  34.7050, 2,   -999.0, 9,    224.6, 2,   115.63, 2,    31.86, 2,     0.00, 2,     2.19, 2,    0.000, 2,    0.002, 2,   -999.0, 9,   -999.0, 9,   -999.0, 9,   0.2573,   5481.3, 2,    0.715, 2
318MHYDROS4, A16C, 348, 1, 36, 36, 2, 19890401, 0848, -12.1467, -25.0100, 5509,  -999.00,   5672.0,   0.7300,  34.7042, 2,  34.7030, 2,   -999.0, 9,    224.2, 2,   116.51, 2,    31.86, 2,     0.00, 2,     2.20, 2,    0.002, 2,    0.004, 2,   -999.0, 9,   -999.0, 9,   -999.0, 9,   0.2401,   -999.0, 9, -999.000, 9