BOTTLE,20110318CCHDOSIODM
EXPOCODE,SECT_ID,STNNBR,CASTNO,SAMPNO,BTLNBR,BTLNBR_FLAG_W,DATE,TIME,LATITUDE,LONGITUDE,DEPTH,CTDRAW,CTDPRS,CTDTMP,CTDSAL,CTDSAL_FLAG_W,SALNTY,SALNTY_FLAG_W,CTDOXY,CTDOXY_FLAG_W,OXYGEN,OXYGEN_FLAG_W,SILCAT,SILCAT_FLAG_W,NITRAT,NITRAT_FLAG_W,NITRIT,NITRIT_FLAG_W,PHSPHT,PHSPHT_FLAG_W,CFC-11,CFC-11_FLAG_W,CFC-12,CFC-12_FLAG_W,TCARBN,TCARBN_FLAG_W,ALKALI,ALKALI_FLAG_W,PCO2,PCO2_FLAG_W,THETA,REVPRS,REVPRS_FLAG_W,REVTMP,REVTMP_FLAG_W
,,,,,,,,,,,METERS,DBAR,DBAR,ITS-90,PSS-78,,PSS-78,,UMOL/KG,,UMOL/KG,,UMOL/KG,,UMOL/KG,,UMOL/KG,,UMOL/KG,,PMOL/KG,,PMOL/KG,,UMOL/KG,,UMOL/KG,,UATM,,DEG C,DBAR,,ITS-90,
318MHYDROS4, A16C, 363, 1, 1, 1, 2, 19890406, 0510, -3.4867, -25.0050, 5509,  -999.00,      3.7,  28.7294,  35.9936, 2,  35.9964, 2,   -999.0, 9,   -999.0, 9,  -999.00, 9,  -999.00, 9,  -999.00, 9,  -999.00, 9, -999.000, 9, -999.000, 9,   2004.0, 2,   -999.0, 9,    274.6, 2,  28.7285,   -999.0, 9, -999.000, 9
318MHYDROS4, A16C, 363, 1, 2, 2, 2, 19890406, 0510, -3.4867, -25.0050, 5509,  -999.00,      3.7,  28.7298,  35.9935, 2,  35.9954, 2,   -999.0, 9,    202.1, 2,     1.46, 2,     0.00, 2,     0.00, 2,     0.09, 2,    1.466, 2,    0.775, 2,   -999.0, 9,   -999.0, 9,   -999.0, 9,  28.7289,   -999.0, 9, -999.000, 9
318MHYDROS4, A16C, 363, 1, 3, 3, 2, 19890406, 0510, -3.4867, -25.0050, 5509,  -999.00,     21.1,  28.4502,  36.0797, 2,  36.0836, 2,   -999.0, 9,    209.0, 2,     1.46, 2,     0.00, 2,     0.00, 2,     0.09, 2, -999.000, 9, -999.000, 9,   2015.3, 2,   2376.0, 2,    275.8, 2,  28.4451,   -999.0, 9, -999.000, 9
318MHYDROS4, A16C, 363, 1, 71, 71, 2, 19890406, 0510, -3.4867, -25.0050, 5509,  -999.00,     52.4,  27.3524,  36.2207, 2,  36.2240, 2,   -999.0, 9,    210.5, 2,     1.56, 2,     0.00, 2,     0.00, 2,     0.11, 2,    1.554, 2,    0.837, 2,   2151.2, 3,   -999.0, 9,   -999.0, 9,  27.3402,   -999.0, 9, -999.000, 9
318MHYDROS4, A16C, 363, 1, 5, 5, 2, 19890406, 0510, -3.4867, -25.0050, 5509,  -999.00,     68.3,  23.4012,  36.2523, 2,  36.2383, 2,   -999.0, 9,    194.2, 2,     2.15, 2,     0.20, 2,     0.02, 2,     0.24, 2, -999.000, 9, -999.000, 9,   2176.2, 3,   -999.0, 9,   -999.0, 9,  23.3870,   -999.0, 9, -999.000, 9
318MHYDROS4, A16C, 363, 1, 6, 6, 2, 19890406, 0510, -3.4867, -25.0050, 5509,  -999.00,    103.4,  14.0078,  35.4099, 2,  35.4233, 2,   -999.0, 9,    100.4, 2,     7.91, 2,    21.78, 2,     0.02, 2,     1.44, 2,    0.823, 2,    0.438, 2,   2192.3, 2,   -999.0, 9,   -999.0, 9,  13.9928,   -999.0, 9, -999.000, 9
318MHYDROS4, A16C, 363, 1, 7, 7, 2, 19890406, 0510, -3.4867, -25.0050, 5509,  -999.00,    139.1,  13.4285,  35.3337, 2,  35.3323, 2,   -999.0, 9,    105.2, 2,     8.21, 2,    22.27, 2,     0.01, 2,     1.46, 2, -999.000, 9, -999.000, 9,   2187.0, 2,   -999.0, 9,   -999.0, 9,  13.4089,   -999.0, 9, -999.000, 9
318MHYDROS4, A16C, 363, 1, 8, 8, 2, 19890406, 0510, -3.4867, -25.0050, 5509,  -999.00,    220.4,  12.5311,  35.2158, 2,  35.2117, 2,   -999.0, 9,     89.5, 2,     9.87, 2,    25.60, 2,     0.01, 2,     1.64, 2,    0.553, 2,    0.297, 2,   2198.6, 2,   -999.0, 9,   -999.0, 9,  12.5014,   -999.0, 9, -999.000, 9
318MHYDROS4, A16C, 363, 1, 9, 9, 2, 19890406, 0510, -3.4867, -25.0050, 5509,  -999.00,    337.4,  10.2789,  34.9482, 2,  34.9462, 2,   -999.0, 9,     85.2, 2,    13.39, 2,    30.49, 2,     0.00, 2,     1.91, 2,    0.275, 2,    0.161, 2,   -999.0, 9,   -999.0, 9,   -999.0, 9,  10.2388,   -999.0, 9, -999.000, 9
318MHYDROS4, A16C, 363, 1, 10, 10, 2, 19890406, 0510, -3.4867, -25.0050, 5509,  -999.00,    439.2,   8.2445,  34.7393, 2, -999.0000, 9,   -999.0, 9,   -999.0, 9,  -999.00, 9,  -999.00, 9,  -999.00, 9,  -999.00, 9, -999.000, 9, -999.000, 9,   2220.7, 2,   -999.0, 9,   -999.0, 9,   8.1987,   -999.0, 9, -999.000, 9
318MHYDROS4, A16C, 363, 1, 11, 11, 2, 19890406, 0510, -3.4867, -25.0050, 5509,  -999.00,    566.0,   6.3034,  34.5544, 2, -999.0000, 9,   -999.0, 9,    125.5, 2,    22.78, 2,    34.80, 2,     0.00, 2,     2.26, 2,    0.070, 2,    0.049, 2,   2217.5, 2,   -999.0, 9,   -999.0, 9,   6.2523,   -999.0, 9, -999.000, 9
318MHYDROS4, A16C, 363, 1, 12, 12, 2, 19890406, 0510, -3.4867, -25.0050, 5509,  -999.00,    719.1,   4.8830,  34.4766, 2,  34.4751, 2,   -999.0, 9,    146.2, 2,    30.11, 2,    35.58, 2,     0.00, 2,     2.36, 2,    0.013, 2,    0.013, 2,   2220.7, 2,   -999.0, 9,   -999.0, 9,   4.8252,   -999.0, 9, -999.000, 9
318MHYDROS4, A16C, 363, 1, 13, 13, 2, 19890406, 0510, -3.4867, -25.0050, 5509,  -999.00,    873.0,   4.4163,  34.5230, 2,  34.5203, 2,   -999.0, 9,    155.6, 2,    32.94, 2,    34.60, 2,     0.00, 2,     2.33, 2,    0.006, 2,    0.005, 2,   2225.9, 2,   -999.0, 9,   -999.0, 9,   4.3483,   -999.0, 9, -999.000, 9
318MHYDROS4, A16C, 363, 1, 14, 14, 2, 19890406, 0510, -3.4867, -25.0050, 5509,  -999.00,   1026.6,   4.3038,  34.6216, 2,  34.6189, 2,   -999.0, 9,    162.0, 2,    32.55, 2,    33.04, 2,     0.00, 2,     2.22, 2, -999.000, 9,    0.000, 2,   2216.0, 2,   -999.0, 9,   -999.0, 9,   4.2233,   -999.0, 9, -999.000, 9
318MHYDROS4, A16C, 363, 1, 15, 15, 2, 19890406, 0510, -3.4867, -25.0050, 5509,  -999.00,   1180.0,   4.3305,  34.7575, 2,  34.7527, 2,   -999.0, 9,    176.4, 2,    28.83, 2,    30.01, 2,     0.00, 2,     2.01, 2, -999.000, 9, -999.000, 9,   -999.0, 9,   -999.0, 9,   -999.0, 9,   4.2361,   -999.0, 9, -999.000, 9
318MHYDROS4, A16C, 363, 1, 16, 16, 2, 19890406, 0510, -3.4867, -25.0050, 5509,  -999.00,   1333.5,   4.3785,  34.8842, 2,  34.8829, 2,   -999.0, 9,    203.0, 2,    23.06, 2,    25.60, 2,     0.00, 2,     1.70, 2,    0.005, 2,    0.003, 2,   -999.0, 9,   -999.0, 9,   -999.0, 9,   4.2697,   -999.0, 9, -999.000, 9
318MHYDROS4, A16C, 363, 1, 17, 17, 2, 19890406, 0510, -3.4867, -25.0050, 5509,  -999.00,   1538.0,   4.1648,  34.9680, 2,  34.9672, 2,   -999.0, 9,    236.4, 2,    18.27, 2,    21.01, 2,     0.00, 2,     1.40, 2,    0.027, 2,    0.022, 2,   2193.5, 2,   -999.0, 9,   -999.0, 9,   4.0392,   -999.0, 9, -999.000, 9
318MHYDROS4, A16C, 363, 1, 18, 18, 2, 19890406, 0510, -3.4867, -25.0050, 5509,  -999.00,   1742.8,   3.7782,  34.9787, 2,  34.9781, 2,   -999.0, 9,    253.5, 2,    17.88, 2,    19.45, 2,     0.00, 2,     1.28, 2,    0.026, 2,    0.017, 2,   -999.0, 9,   -999.0, 9,   -999.0, 9,   3.6383,   -999.0, 9, -999.000, 9
318MHYDROS4, A16C, 363, 1, 19, 19, 2, 19890406, 0510, -3.4867, -25.0050, 5509,  -999.00,   1947.6,   3.5900,  34.9684, 2,  34.9681, 2,   -999.0, 9,    253.3, 2,    20.03, 2,    19.54, 2,     0.00, 2,     1.30, 2,    0.010, 2,    0.013, 2,   2165.8, 2,   -999.0, 9,   -999.0, 9,   3.4336,   -999.0, 9, -999.000, 9
318MHYDROS4, A16C, 363, 1, 20, 20, 2, 19890406, 0510, -3.4867, -25.0050, 5509,  -999.00,   2150.9,   3.3668,  34.9568, 2,  34.9567, 2,   -999.0, 9,    253.8, 2,    22.87, 2,    19.84, 2,     0.00, 2,     1.32, 2,    0.009, 2,    0.006, 2,   2171.2, 2,   -999.0, 9,   -999.0, 9,   3.1944,   -999.0, 9, -999.000, 9
318MHYDROS4, A16C, 363, 1, 21, 21, 2, 19890406, 0510, -3.4867, -25.0050, 5509,  -999.00,   2353.7,   3.1131,  34.9403, 2,  34.9394, 2,   -999.0, 9,    251.9, 2,    27.95, 2,    20.42, 2,     0.00, 2,     1.36, 2, -999.000, 9,    0.004, 2,   -999.0, 9,   -999.0, 9,   -999.0, 9,   2.9254,   -999.0, 9, -999.000, 9
318MHYDROS4, A16C, 363, 1, 22, 22, 2, 19890406, 0510, -3.4867, -25.0050, 5509,  -999.00,   2561.5,   2.8908,  34.9240, 2,  34.9234, 2,   -999.0, 9,    248.0, 2,    33.42, 2,    21.21, 2,     0.00, 2,     1.42, 2, -999.000, 9, -999.000, 9,   -999.0, 9,   -999.0, 9,   -999.0, 9,   2.6869,   -999.0, 9, -999.000, 9
318MHYDROS4, A16C, 363, 1, 23, 23, 2, 19890406, 0510, -3.4867, -25.0050, 5509,  -999.00,   2802.6,   2.7423,  34.9142, 2,  34.9130, 2,   -999.0, 9,    248.0, 2,    37.04, 2,    21.60, 2,     0.00, 2,     1.45, 2, -999.000, 9, -999.000, 9,   2181.6, 2,   -999.0, 9,   -999.0, 9,   2.5174,   -999.0, 9, -999.000, 9
318MHYDROS4, A16C, 363, 1, 24, 24, 2, 19890406, 0510, -3.4867, -25.0050, 5509,  -999.00,   3030.2,   2.6636,  34.9160, 2,  34.9158, 2,   -999.0, 9,    253.2, 2,    34.89, 2,    20.72, 2,     0.00, 2,     1.39, 2, -999.000, 9, -999.000, 9,   -999.0, 9,   -999.0, 9,   -999.0, 9,   2.4171,   -999.0, 9, -999.000, 9
318MHYDROS4, A16C, 363, 1, 25, 25, 2, 19890406, 0510, -3.4867, -25.0050, 5509,  -999.00,   3228.4,   2.5705,  34.9061, 2,  34.9071, 2,   -999.0, 9,    250.3, 2,    38.31, 2,    21.30, 2,     0.00, 2,     1.42, 2, -999.000, 9, -999.000, 9,   -999.0, 9,   -999.0, 9,   -999.0, 9,   2.3054,   -999.0, 9, -999.000, 9
318MHYDROS4, A16C, 363, 1, 26, 26, 2, 19890406, 0510, -3.4867, -25.0050, 5509,  -999.00,   3398.2,   2.5394,  34.9079, 2,  34.9068, 2,   -999.0, 9,    255.0, 2,    35.77, 2,    20.62, 2,     0.00, 2,     1.39, 2, -999.000, 9, -999.000, 9,   2173.3, 2,   -999.0, 9,   -999.0, 9,   2.2570,   -999.0, 9, -999.000, 9
318MHYDROS4, A16C, 363, 1, 27, 27, 2, 19890406, 0510, -3.4867, -25.0050, 5509,  -999.00,   3608.0,   2.4845,  34.9083, 2,  34.9070, 2,   -999.0, 9,    260.6, 2,    33.23, 2,    19.84, 2,     0.00, 2,     1.34, 2, -999.000, 9, -999.000, 9,   -999.0, 9,   -999.0, 9,   -999.0, 9,   2.1807,   -999.0, 9, -999.000, 9
318MHYDROS4, A16C, 363, 1, 28, 28, 2, 19890406, 0510, -3.4867, -25.0050, 5509,  -999.00,   3816.3,   2.3536,  34.8995, 2,  34.8977, 2,   -999.0, 9,    263.7, 2,    34.20, 2,    19.64, 2,     0.00, 2,     1.32, 2, -999.000, 9, -999.000, 9,   -999.0, 9,   -999.0, 9,   -999.0, 9,   2.0302,   -999.0, 9, -999.000, 9
318MHYDROS4, A16C, 363, 1, 29, 29, 2, 19890406, 0510, -3.4867, -25.0050, 5509,  -999.00,   4075.4,   1.7736,  34.8338, 2,  34.8324, 2,   -999.0, 9,    249.2, 2,    62.06, 2,    23.94, 2,     0.00, 2,     1.61, 2, -999.000, 9, -999.000, 9,   2176.4, 2,   -999.0, 9,   -999.0, 9,   1.4377,   -999.0, 9, -999.000, 9
318MHYDROS4, A16C, 363, 1, 30, 30, 2, 19890406, 0510, -3.4867, -25.0050, 5509,  -999.00,   4335.1,   1.1976,  34.7700, 2,  34.7690, 2,   -999.0, 9,    234.9, 2,    88.74, 2,    27.95, 2,     0.00, 2,     1.89, 2, -999.000, 9, -999.000, 9,   -999.0, 9,   -999.0, 9,   -999.0, 9,   0.8500,   -999.0, 9, -999.000, 9
318MHYDROS4, A16C, 363, 1, 31, 31, 2, 19890406, 0510, -3.4867, -25.0050, 5509,  -999.00,   4543.1,   0.9120,  34.7381, 2,  34.7363, 2,   -999.0, 9,    228.8, 2,   101.55, 2,    30.01, 2,     0.00, 2,     2.03, 2, -999.000, 9, -999.000, 9,   -999.0, 9,   -999.0, 9,   -999.0, 9,   0.5501,   -999.0, 9, -999.000, 9
318MHYDROS4, A16C, 363, 1, 32, 32, 2, 19890406, 0510, -3.4867, -25.0050, 5509,  -999.00,   4752.1,   0.8167,  34.7253, 2,  34.7230, 2,   -999.0, 9,    226.5, 2,   106.54, 2,    30.49, 2,     0.00, 2,     2.08, 2, -999.000, 9, -999.000, 9,   2242.1, 2,   -999.0, 9,   -999.0, 9,   0.4343,   -999.0, 9, -999.000, 9
318MHYDROS4, A16C, 363, 1, 33, 33, 2, 19890406, 0510, -3.4867, -25.0050, 5509,  -999.00,   4961.3,   0.7484,  34.7158, 2,  34.7159, 2,   -999.0, 9,    225.3, 2,   110.35, 2,    30.98, 2,     0.00, 2,     2.12, 2, -999.000, 9, -999.000, 9,   -999.0, 9,   -999.0, 9,   -999.0, 9,   0.3440,   -999.0, 9, -999.000, 9
318MHYDROS4, A16C, 363, 1, 34, 34, 2, 19890406, 0510, -3.4867, -25.0050, 5509,  -999.00,   5222.6,   0.7213,  34.7098, 2,  34.7075, 2,   -999.0, 9,    224.0, 2,   112.50, 2,    31.37, 2,     0.00, 2,     2.13, 2, -999.000, 9, -999.000, 9,   -999.0, 9,   -999.0, 9,   -999.0, 9,   0.2869,   -999.0, 9, -999.000, 9
318MHYDROS4, A16C, 363, 1, 35, 35, 2, 19890406, 0510, -3.4867, -25.0050, 5509,  -999.00,   5484.7,   0.6991,  34.7035, 2,  34.7018, 2,   -999.0, 9,    223.8, 2,   114.75, 2,    31.37, 2,     0.00, 2,     2.15, 2, -999.000, 9, -999.000, 9,   2260.4, 2,   -999.0, 9,   -999.0, 9,   0.2337,   5478.7, 2,    0.687, 2
318MHYDROS4, A16C, 363, 1, 36, 36, 2, 19890406, 0510, -3.4867, -25.0050, 5509,  -999.00,   5648.7,   0.7070,  34.7024, 2,  34.7010, 2,   -999.0, 9,    223.2, 2,   115.53, 2,    31.57, 2,     0.00, 2,     2.18, 2, -999.000, 9, -999.000, 9,   2261.9, 2,   -999.0, 9,   -999.0, 9,   0.2209,   -999.0, 9, -999.000, 9