BOTTLE,20110318CCHDOSIODM
EXPOCODE,SECT_ID,STNNBR,CASTNO,SAMPNO,BTLNBR,BTLNBR_FLAG_W,DATE,TIME,LATITUDE,LONGITUDE,DEPTH,CTDRAW,CTDPRS,CTDTMP,CTDSAL,CTDSAL_FLAG_W,SALNTY,SALNTY_FLAG_W,CTDOXY,CTDOXY_FLAG_W,OXYGEN,OXYGEN_FLAG_W,SILCAT,SILCAT_FLAG_W,NITRAT,NITRAT_FLAG_W,NITRIT,NITRIT_FLAG_W,PHSPHT,PHSPHT_FLAG_W,CFC-11,CFC-11_FLAG_W,CFC-12,CFC-12_FLAG_W,TCARBN,TCARBN_FLAG_W,ALKALI,ALKALI_FLAG_W,PCO2,PCO2_FLAG_W,THETA,REVPRS,REVPRS_FLAG_W,REVTMP,REVTMP_FLAG_W
,,,,,,,,,,,METERS,DBAR,DBAR,ITS-90,PSS-78,,PSS-78,,UMOL/KG,,UMOL/KG,,UMOL/KG,,UMOL/KG,,UMOL/KG,,UMOL/KG,,PMOL/KG,,PMOL/KG,,UMOL/KG,,UMOL/KG,,UATM,,DEG C,DBAR,,ITS-90,
318MHYDROS4, A16C, 328, 2, 1, 1, 2, 19890325, 1835, -23.8133, -25.0000, 5526,  -999.00,      0.8,  27.5588,  37.0365, 2,  37.0390, 2,   -999.0, 9,    201.2, 2,     1.95, 2,     0.00, 2,     0.00, 2,     0.10, 2,    1.539, 2,    0.795, 2,   2066.6, 2,   2432.4, 2,    291.4, 2,  27.5586,   -999.0, 9, -999.000, 9
318MHYDROS4, A16C, 328, 2, 2, 2, 2, 19890325, 1835, -23.8133, -25.0000, 5526,  -999.00,     36.8,  27.3884,  37.0140, 2,  36.9920, 2,   -999.0, 9,    204.6, 2,     2.05, 2,     0.00, 2,     0.00, 2,     0.09, 2, -999.000, 9, -999.000, 9,   2059.5, 2,   2424.7, 2,    289.7, 2,  27.3798,   -999.0, 9, -999.000, 9
318MHYDROS4, A16C, 328, 2, 3, 3, 2, 19890325, 1835, -23.8133, -25.0000, 5526,  -999.00,     67.8,  22.7598,  36.6262, 2,  36.6350, 2,   -999.0, 9,    228.4, 2,     2.24, 2,     0.00, 2,     0.00, 2,     0.10, 2, -999.000, 9, -999.000, 9,   -999.0, 9,   -999.0, 9,   -999.0, 9,  22.7459,   -999.0, 9, -999.000, 9
318MHYDROS4, A16C, 328, 2, 71, 71, 2, 19890325, 1835, -23.8133, -25.0000, 5526,  -999.00,    108.8,  20.7637,  36.4303, 2,  36.4180, 2,   -999.0, 9,    222.0, 2,     2.25, 2,     0.00, 2,     0.00, 2,     0.14, 2,    1.945, 2,    0.981, 2,   2062.1, 2,   2387.7, 2,    329.5, 2,  20.7429,   -999.0, 9, -999.000, 9
318MHYDROS4, A16C, 328, 2, 5, 5, 2, 19890325, 1835, -23.8133, -25.0000, 5526,  -999.00,    159.9,  18.5917,  36.0191, 2,  35.9880, 2,   -999.0, 9,    213.7, 2,     2.25, 2,     0.39, 2,     0.06, 2,     0.24, 2, -999.000, 9, -999.000, 9,   -999.0, 9,   -999.0, 9,   -999.0, 9,  18.5634,   -999.0, 9, -999.000, 9
318MHYDROS4, A16C, 328, 2, 6, 6, 2, 19890325, 1835, -23.8133, -25.0000, 5526,  -999.00,    210.9,  16.3376,  35.6173, 2,  35.6140, 2,   -999.0, 9,    209.6, 2,     2.54, 2,     3.03, 2,     0.01, 2,     0.42, 2,    2.020, 2,    1.004, 2,   2085.6, 2,   -999.0, 9,   -999.0, 9,  16.3036,   -999.0, 9, -999.000, 9
318MHYDROS4, A16C, 328, 2, 7, 7, 2, 19890325, 1835, -23.8133, -25.0000, 5526,  -999.00,    312.9,  13.7558,  35.2644, 2,  35.2560, 2,   -999.0, 9,    207.4, 2,     3.91, 2,     8.11, 2,     0.00, 2,     0.70, 2,    1.886, 2,    0.931, 2,   2079.5, 2,   2306.0, 2,    489.9, 2,  13.7108,   -999.0, 9, -999.000, 9
318MHYDROS4, A16C, 328, 2, 8, 8, 2, 19890325, 1835, -23.8133, -25.0000, 5526,  -999.00,    415.2,  11.7736,  35.0188, 2,  35.0130, 2,   -999.0, 9,    199.1, 2,     5.96, 2,    13.58, 2,     0.00, 2,     1.02, 2,    1.517, 2,    0.738, 2,   2115.7, 2,   2309.3, 2,    588.5, 2,  11.7196,   -999.0, 9, -999.000, 9
318MHYDROS4, A16C, 328, 2, 9, 9, 2, 19890325, 1835, -23.8133, -25.0000, 5526,  -999.00,    517.3,   9.2404,  34.7293, 2,  34.7360, 2,   -999.0, 9,    188.2, 2,    10.95, 2,    20.82, 2,     0.00, 2,     1.46, 2,    1.016, 2,    0.496, 2,   2144.2, 2,   2300.5, 2,    730.3, 2,   9.1824,   -999.0, 9, -999.000, 9
318MHYDROS4, A16C, 328, 2, 10, 10, 2, 19890325, 1835, -23.8133, -25.0000, 5526,  -999.00,    619.2,   7.2585,  34.5392, 2,  34.5420, 2,   -999.0, 9,    191.6, 2,    15.93, 2,    25.32, 2,     0.00, 2,     1.76, 2,    0.769, 2,    0.370, 2,   2162.8, 2,   2299.9, 2,    824.8, 2,   7.1980,   -999.0, 9, -999.000, 9
318MHYDROS4, A16C, 328, 2, 11, 11, 2, 19890325, 1835, -23.8133, -25.0000, 5526,  -999.00,    721.6,   5.4627,  34.4070, 2,  34.4110, 2,   -999.0, 9,    194.1, 2,    23.17, 2,    29.23, 2,     0.00, 2,     2.02, 2,    0.436, 2,    0.219, 2,   2182.7, 2,   2305.3, 2,    912.3, 2,   5.4016,   -999.0, 9, -999.000, 9
318MHYDROS4, A16C, 328, 2, 12, 12, 2, 19890325, 1835, -23.8133, -25.0000, 5526,  -999.00,    823.5,   4.4961,  34.3662, 2,  34.3670, 2,   -999.0, 9,    198.1, 2,    30.11, 2,    30.99, 2,     0.00, 2,     2.15, 2,    0.335, 2,    0.175, 2,   2192.2, 2,   2306.4, 2,    967.9, 2,   4.4319,   -999.0, 9, -999.000, 9
318MHYDROS4, A16C, 328, 2, 13, 13, 2, 19890325, 1835, -23.8133, -25.0000, 5526,  -999.00,    924.5,   3.9300,  34.3987, 2,  34.3980, 2,   -999.0, 9,    189.6, 2,    37.54, 2,    32.26, 2,     0.00, 2,     2.24, 2,    0.143, 2,    0.077, 2,   2206.9, 2,   2315.1, 2,   1017.3, 2,   3.8612,   -999.0, 9, -999.000, 9
318MHYDROS4, A16C, 328, 2, 14, 14, 2, 19890325, 1835, -23.8133, -25.0000, 5526,  -999.00,   1025.2,   3.5614,  34.4497, 2,  34.4500, 2,   -999.0, 9,    186.6, 2,    43.50, 2,    32.55, 2,     0.00, 2,     2.26, 2,    0.056, 2,    0.037, 2,   2214.0, 2,   2318.5, 2,   1048.3, 2,   3.4872,   -999.0, 9, -999.000, 9
318MHYDROS4, A16C, 328, 2, 15, 15, 2, 19890325, 1835, -23.8133, -25.0000, 5526,  -999.00,   1229.6,   3.1980,  34.5908, 2,  34.5900, 2,   -999.0, 9,    188.3, 2,    49.75, 2,    31.08, 2,     0.00, 2,     2.16, 2,    0.012, 2,    0.011, 2,   2220.1, 2,   2330.5, 2,   1017.0, 2,   3.1102,   -999.0, 9, -999.000, 9
318MHYDROS4, A16C, 328, 2, 16, 16, 2, 19890325, 1835, -23.8133, -25.0000, 5526,  -999.00,   1435.9,   3.1187,  34.7197, 2,  34.7190, 2,   -999.0, 9,    200.4, 2,    47.21, 2,    28.34, 2,     0.00, 2,     1.95, 2,    0.016, 2,    0.022, 2,   -999.0, 9,   -999.0, 9,   -999.0, 9,   3.0145,   -999.0, 9, -999.000, 9
318MHYDROS4, A16C, 328, 2, 17, 17, 2, 19890325, 1835, -23.8133, -25.0000, 5526,  -999.00,   1643.5,   3.1047,  34.8156, 2,  34.8160, 2,   -999.0, 9,    219.1, 2,    41.05, 2,    25.21, 2,     0.00, 2,     1.73, 2,    0.003, 2,    0.000, 2,   2198.0, 2,   2351.6, 3,    778.0, 2,   2.9828,   -999.0, 9, -999.000, 9
318MHYDROS4, A16C, 328, 2, 18, 18, 2, 19890325, 1835, -23.8133, -25.0000, 5526,  -999.00,   1850.9,   3.1682,  34.8948, 2,  34.8960, 2,   -999.0, 9,    239.0, 2,    32.45, 2,    22.09, 2,     0.00, 2,     1.50, 2, -999.000, 9, -999.000, 9,   -999.0, 9,   -999.0, 9,   -999.0, 9,   3.0269,   -999.0, 9, -999.000, 9
318MHYDROS4, A16C, 328, 2, 19, 19, 2, 19890325, 1835, -23.8133, -25.0000, 5526,  -999.00,   2058.0,   3.1500,  34.9271, 2,  34.9280, 2,   -999.0, 9,    248.8, 2,    27.56, 2,    20.62, 2,     0.00, 2,     1.40, 2,    0.002, 2,    0.000, 2,   2171.3, 2,   2327.1, 2,    751.8, 2,   2.9899,   -999.0, 9, -999.000, 9
318MHYDROS4, A16C, 328, 2, 20, 20, 2, 19890325, 1835, -23.8133, -25.0000, 5526,  -999.00,   2264.5,   3.0286,  34.9319, 2,  34.9340, 2,   -999.0, 9,    251.7, 2,    27.95, 2,    20.23, 2,     0.00, 2,     1.37, 2, -999.000, 9, -999.000, 9,   -999.0, 9,   -999.0, 9,   -999.0, 9,   2.8510,   -999.0, 9, -999.000, 9
318MHYDROS4, A16C, 328, 2, 21, 21, 2, 19890325, 1835, -23.8133, -25.0000, 5526,  -999.00,   2471.4,   2.9354,  34.9282, 2,  34.9280, 2,   -999.0, 9,    252.0, 2,    29.22, 2,    20.23, 2,     0.00, 2,     1.37, 2,    0.003, 2,    0.000, 2,   2172.2, 2,   2330.0, 2,    743.8, 2,   2.7395,   -999.0, 9, -999.000, 9
318MHYDROS4, A16C, 328, 2, 22, 22, 2, 19890325, 1835, -23.8133, -25.0000, 5526,  -999.00,   2678.3,   2.8360,  34.9227, 2,  34.9230, 2,   -999.0, 9,    252.6, 2,    30.88, 2,    20.33, 2,     0.00, 2,     1.38, 2, -999.000, 9, -999.000, 9,   -999.0, 9,   -999.0, 9,   -999.0, 9,   2.6216,   -999.0, 9, -999.000, 9
318MHYDROS4, A16C, 328, 2, 23, 23, 2, 19890325, 1835, -23.8133, -25.0000, 5526,  -999.00,   2885.1,   2.7522,  34.9177, 2,  34.9180, 2,   -999.0, 9,    252.5, 2,    32.64, 2,    20.52, 2,     0.00, 2,     1.39, 2,    0.007, 2,    0.003, 2,   2177.7, 2,   2336.4, 2,    743.7, 2,   2.5187,   -999.0, 9, -999.000, 9
318MHYDROS4, A16C, 328, 2, 24, 24, 2, 19890325, 1835, -23.8133, -25.0000, 5526,  -999.00,   3091.6,   2.6544,  34.9094, 2,  34.9100, 2,   -999.0, 9,    252.2, 2,    35.47, 2,    20.91, 2,     0.00, 2,     1.42, 2, -999.000, 9, -999.000, 9,   -999.0, 9,   -999.0, 9,   -999.0, 9,   2.4018,   -999.0, 9, -999.000, 9
318MHYDROS4, A16C, 328, 2, 25, 25, 2, 19890325, 1835, -23.8133, -25.0000, 5526,  -999.00,   3298.2,   2.5167,  34.8982, 2,  34.8990, 2,   -999.0, 9,    251.0, 2,    40.75, 2,    21.30, 2,     0.00, 2,     1.46, 2,    0.004, 2,    0.000, 2,   2183.8, 2,   2339.5, 2,    760.7, 2,   2.2456,   -999.0, 9, -999.000, 9
318MHYDROS4, A16C, 328, 2, 26, 26, 2, 19890325, 1835, -23.8133, -25.0000, 5526,  -999.00,   3505.2,   2.2964,  34.8771, 2,  34.8770, 2,   -999.0, 9,    248.8, 2,    49.35, 2,    22.38, 2,     0.00, 2,     1.53, 2, -999.000, 9, -999.000, 9,   -999.0, 9,   -999.0, 9,   -999.0, 9,   2.0087,   -999.0, 9, -999.000, 9
318MHYDROS4, A16C, 328, 2, 27, 27, 2, 19890325, 1835, -23.8133, -25.0000, 5526,  -999.00,   3711.7,   2.0396,  34.8512, 2,  34.8520, 2,   -999.0, 9,    245.1, 2,    59.13, 2,    23.65, 2,     0.00, 2,     1.62, 2,    0.003, 2,    0.000, 2,   2197.1, 2,   2344.8, 2,    805.6, 2,   1.7363,   -999.0, 9, -999.000, 9
318MHYDROS4, A16C, 328, 2, 28, 28, 2, 19890325, 1835, -23.8133, -25.0000, 5526,  -999.00,   3917.5,   1.7243,  34.8186, 2,  34.8190, 2,   -999.0, 9,    239.6, 2,    71.15, 2,    25.41, 2,     0.00, 2,     1.75, 2, -999.000, 9, -999.000, 9,   -999.0, 9,   -999.0, 9,   -999.0, 9,   1.4073,   -999.0, 9, -999.000, 9
318MHYDROS4, A16C, 328, 2, 29, 29, 2, 19890325, 1835, -23.8133, -25.0000, 5526,  -999.00,   4124.6,   1.4751,  34.7927, 2,  34.7940, 2,   -999.0, 9,    236.2, 2,    80.43, 2,    26.58, 2,     0.00, 2,     1.84, 2,    0.004, 2,    0.005, 2,   2223.1, 2,   2360.7, 2,    872.0, 2,   1.1425,   -999.0, 9, -999.000, 9
318MHYDROS4, A16C, 328, 2, 30, 30, 2, 19890325, 1835, -23.8133, -25.0000, 5526,  -999.00,   4329.8,   1.2630,  34.7701, 2,  34.7700, 2,   -999.0, 9,    232.8, 2,    89.82, 2,    27.76, 2,     0.00, 2,     1.92, 2, -999.000, 9, -999.000, 9,   -999.0, 9,   -999.0, 9,   -999.0, 9,   0.9140,   -999.0, 9, -999.000, 9
318MHYDROS4, A16C, 328, 2, 31, 31, 2, 19890325, 1835, -23.8133, -25.0000, 5526,  -999.00,   4536.4,   1.1006,  34.7539, 2,  34.7540, 2,   -999.0, 9,    231.0, 2,    96.27, 2,    28.64, 2,     0.00, 2,     1.97, 2,    0.006, 2,    0.000, 2,   2233.6, 2,   2362.3, 2,    927.0, 2,   0.7335,   -999.0, 9, -999.000, 9
318MHYDROS4, A16C, 328, 2, 32, 32, 2, 19890325, 1835, -23.8133, -25.0000, 5526,  -999.00,   4742.4,   0.9830,  34.7397, 2,  34.7390, 2,   -999.0, 9,    228.5, 2,   101.35, 2,    29.32, 2,     0.00, 2,     2.02, 2, -999.000, 9, -999.000, 9,   -999.0, 9,   -999.0, 9,   -999.0, 9,   0.5961,   -999.0, 9, -999.000, 9
318MHYDROS4, A16C, 328, 2, 33, 33, 2, 19890325, 1835, -23.8133, -25.0000, 5526,  -999.00,   4950.6,   0.8588,  34.7254, 2,  34.7280, 2,   -999.0, 9,    226.6, 2,   106.63, 2,    30.01, 2,     0.00, 2,     2.08, 2,    0.005, 2,    0.006, 2,   2235.6, 2,   2361.7, 2,    945.0, 2,   0.4519,   -999.0, 9, -999.000, 9
318MHYDROS4, A16C, 328, 2, 34, 34, 2, 19890325, 1835, -23.8133, -25.0000, 5526,  -999.00,   5162.9,   0.7759,  34.7153, 2,  34.7140, 2,   -999.0, 9,    226.2, 2,   110.84, 2,    30.59, 2,     0.00, 2,     2.12, 2, -999.000, 9, -999.000, 9,   -999.0, 9,   -999.0, 9,   -999.0, 9,   0.3467,   -999.0, 9, -999.000, 9
318MHYDROS4, A16C, 328, 2, 35, 35, 2, 19890325, 1835, -23.8133, -25.0000, 5526,  -999.00,   5377.4,   0.7421,  34.7092, 2,  34.7100, 2,   -999.0, 9,    225.2, 2,   112.89, 2,    30.98, 2,     0.00, 2,     2.15, 2,    0.005, 2,    0.005, 2,   2254.0, 2,   2377.3, 2,    973.1, 2,   0.2882,   5375.4, 2,    0.736, 2
318MHYDROS4, A16C, 328, 2, 36, 36, 2, 19890325, 1835, -23.8133, -25.0000, 5526,  -999.00,   5662.1,   0.5905,  34.6914, 2,  34.6930, 2,   -999.0, 9,    222.7, 2,   121.59, 2,    31.86, 2,     0.00, 2,     2.23, 2,    0.014, 2,    0.011, 2,   2258.1, 2,   2375.3, 2,   1013.7, 2,   0.1072,   -999.0, 9, -999.000, 9