BOTTLE,20110318CCHDOSIODM
EXPOCODE,SECT_ID,STNNBR,CASTNO,SAMPNO,BTLNBR,BTLNBR_FLAG_W,DATE,TIME,LATITUDE,LONGITUDE,DEPTH,CTDRAW,CTDPRS,CTDTMP,CTDSAL,CTDSAL_FLAG_W,SALNTY,SALNTY_FLAG_W,CTDOXY,CTDOXY_FLAG_W,OXYGEN,OXYGEN_FLAG_W,SILCAT,SILCAT_FLAG_W,NITRAT,NITRAT_FLAG_W,NITRIT,NITRIT_FLAG_W,PHSPHT,PHSPHT_FLAG_W,CFC-11,CFC-11_FLAG_W,CFC-12,CFC-12_FLAG_W,TCARBN,TCARBN_FLAG_W,ALKALI,ALKALI_FLAG_W,PCO2,PCO2_FLAG_W,THETA,REVPRS,REVPRS_FLAG_W,REVTMP,REVTMP_FLAG_W
,,,,,,,,,,,METERS,DBAR,DBAR,ITS-90,PSS-78,,PSS-78,,UMOL/KG,,UMOL/KG,,UMOL/KG,,UMOL/KG,,UMOL/KG,,UMOL/KG,,PMOL/KG,,PMOL/KG,,UMOL/KG,,UMOL/KG,,UATM,,DEG C,DBAR,,ITS-90,
318MHYDROS4, A16C, 341, 1, 1, 1, 2, 19890330, 0806, -16.2283, -25.0167, 5124,  -999.00,      2.0,  27.6432,  37.2396, 2,  37.2420, 2,   -999.0, 9,    208.4, 2,     2.93, 2,     0.00, 2,     0.00, 2,     0.18, 2, -999.000, 9, -999.000, 9,   2072.7, 2,   2437.2, 2,    296.1, 2,  27.6427,   -999.0, 9, -999.000, 9
318MHYDROS4, A16C, 341, 1, 2, 2, 2, 19890330, 0806, -16.2283, -25.0167, 5124,  -999.00,     36.1,  27.6309,  37.2401, 2,  37.2390, 2,   -999.0, 9,    208.6, 2,     2.93, 2,     0.00, 2,     0.00, 2,     0.18, 2, -999.000, 9, -999.000, 9,   2074.3, 2,   2442.2, 2,    293.0, 2,  27.6224,   -999.0, 9, -999.000, 9
318MHYDROS4, A16C, 341, 1, 3, 3, 2, 19890330, 0806, -16.2283, -25.0167, 5124,  -999.00,     67.3,  25.1472,  36.9227, 2,  36.9340, 2,   -999.0, 9,    225.8, 2,     2.73, 2,     0.00, 2,     0.00, 2,     0.19, 2, -999.000, 9, -999.000, 9,   -999.0, 9,   -999.0, 9,   -999.0, 9,  25.1324,   -999.0, 9, -999.000, 9
318MHYDROS4, A16C, 341, 1, 71, 71, 2, 19890330, 0806, -16.2283, -25.0167, 5124,  -999.00,    108.0,  22.9731,  36.7733, 2,  36.7760, 2,   -999.0, 9,    223.1, 2,     2.73, 2,     0.00, 2,     0.00, 2,     0.21, 2, -999.000, 9, -999.000, 9,   -999.0, 9,   -999.0, 9,   -999.0, 9,  22.9509,   -999.0, 9, -999.000, 9
318MHYDROS4, A16C, 341, 1, 5, 5, 2, 19890330, 0806, -16.2283, -25.0167, 5124,  -999.00,    159.7,  21.4798,  36.5350, 2,  36.5340, 2,   -999.0, 9,    210.0, 2,     2.73, 2,     0.10, 2,     0.04, 2,     0.26, 2, -999.000, 9, -999.000, 9,   -999.0, 9,   -999.0, 9,   -999.0, 9,  21.4485,   -999.0, 9, -999.000, 9
318MHYDROS4, A16C, 341, 1, 6, 6, 2, 19890330, 0806, -16.2283, -25.0167, 5124,  -999.00,    210.5,  16.4298,  35.6672, 2,  35.6510, 2,   -999.0, 9,    177.7, 2,     4.30, 2,     8.50, 2,     0.01, 2,     0.74, 2, -999.000, 9, -999.000, 9,   -999.0, 9,   -999.0, 9,   -999.0, 9,  16.3957,   -999.0, 9, -999.000, 9
318MHYDROS4, A16C, 341, 1, 7, 7, 2, 19890330, 0806, -16.2283, -25.0167, 5124,  -999.00,    261.4,  13.5788,  35.2570, 2,  35.2620, 2,   -999.0, 9,    158.7, 2,     6.45, 2,    14.36, 2,     0.00, 2,     1.07, 2, -999.000, 9, -999.000, 9,   -999.0, 9,   -999.0, 9,   -999.0, 9,  13.5416,   -999.0, 9, -999.000, 9
318MHYDROS4, A16C, 341, 1, 8, 8, 2, 19890330, 0806, -16.2283, -25.0167, 5124,  -999.00,    312.6,  11.9861,  35.0774, 2,  35.0750, 2,   -999.0, 9,    138.9, 2,     8.79, 2,    19.64, 2,     0.00, 2,     1.38, 2, -999.000, 9, -999.000, 9,   -999.0, 9,   -999.0, 9,   -999.0, 9,  11.9451,   -999.0, 9, -999.000, 9
318MHYDROS4, A16C, 341, 1, 9, 9, 2, 19890330, 0806, -16.2283, -25.0167, 5124,  -999.00,    414.8,   9.0478,  34.7624, 2,  34.7610, 2,   -999.0, 9,    130.2, 2,    14.86, 2,    26.98, 2,     0.00, 2,     1.83, 2, -999.000, 9, -999.000, 9,   -999.0, 9,   -999.0, 9,   -999.0, 9,   9.0022,   -999.0, 9, -999.000, 9
318MHYDROS4, A16C, 341, 1, 10, 10, 2, 19890330, 0806, -16.2283, -25.0167, 5124,  -999.00,    516.6,   6.8902,  34.5647, 2,  34.5640, 2,   -999.0, 9,    145.5, 2,    20.72, 2,    30.69, 2,     0.00, 2,     2.06, 2, -999.000, 9, -999.000, 9,   -999.0, 9,   -999.0, 9,   -999.0, 9,   6.8414,   -999.0, 9, -999.000, 9
318MHYDROS4, A16C, 341, 1, 11, 11, 2, 19890330, 0806, -16.2283, -25.0167, 5124,  -999.00,    618.8,   5.4623,  34.4531, 2,  34.4580, 2,   -999.0, 9,    164.9, 2,    25.81, 2,    31.87, 2,     0.00, 2,     2.13, 2, -999.000, 9, -999.000, 9,   -999.0, 9,   -999.0, 9,   -999.0, 9,   5.4104,   -999.0, 9, -999.000, 9
318MHYDROS4, A16C, 341, 1, 12, 12, 2, 19890330, 0806, -16.2283, -25.0167, 5124,  -999.00,    720.7,   4.4562,  34.4056, 2,  34.4060, 2,   -999.0, 9,    180.7, 2,    32.26, 2,    32.26, 2,     0.00, 2,     2.21, 2, -999.000, 9, -999.000, 9,   -999.0, 9,   -999.0, 9,   -999.0, 9,   4.4007,   -999.0, 9, -999.000, 9
318MHYDROS4, A16C, 341, 1, 13, 13, 2, 19890330, 0806, -16.2283, -25.0167, 5124,  -999.00,    823.2,   4.0035,  34.4295, 2,  34.4260, 2,   -999.0, 9,    180.2, 2,    36.66, 2,    32.85, 2,     0.00, 2,     2.24, 2, -999.000, 9, -999.000, 9,   -999.0, 9,   -999.0, 9,   -999.0, 9,   3.9424,   -999.0, 9, -999.000, 9
318MHYDROS4, A16C, 341, 1, 14, 14, 2, 19890330, 0806, -16.2283, -25.0167, 5124,  -999.00,    925.3,   3.7949,  34.4796, 2,  34.4750, 2,   -999.0, 9,    178.9, 2,    39.79, 2,    32.65, 2,     0.00, 2,     2.24, 2, -999.000, 9, -999.000, 9,   -999.0, 9,   -999.0, 9,   -999.0, 9,   3.7269,   -999.0, 9, -999.000, 9
318MHYDROS4, A16C, 341, 1, 15, 15, 2, 19890330, 0806, -16.2283, -25.0167, 5124,  -999.00,   1027.8,   3.7454,  34.5457, 2,  34.5410, 2,   -999.0, 9,    178.6, 2,    39.88, 2,    32.16, 2,     0.00, 2,     2.18, 2, -999.000, 9, -999.000, 9,   -999.0, 9,   -999.0, 9,   -999.0, 9,   3.6694,   -999.0, 9, -999.000, 9
318MHYDROS4, A16C, 341, 1, 16, 16, 2, 19890330, 0806, -16.2283, -25.0167, 5124,  -999.00,   1130.3,   3.7906,  34.6408, 2,  34.6390, 2,   -999.0, 9,    181.2, 2,    37.34, 2,    30.11, 2,     0.00, 2,     2.08, 2, -999.000, 9, -999.000, 9,   -999.0, 9,   -999.0, 9,   -999.0, 9,   3.7055,   -999.0, 9, -999.000, 9
318MHYDROS4, A16C, 341, 1, 17, 17, 2, 19890330, 0806, -16.2283, -25.0167, 5124,  -999.00,   1336.0,   3.7852,  34.7696, 2,  34.7680, 2,   -999.0, 9,    197.0, 2,    33.13, 2,    26.98, 2,     0.00, 2,     1.86, 2, -999.000, 9, -999.000, 9,   -999.0, 9,   -999.0, 9,   -999.0, 9,   3.6824,   -999.0, 9, -999.000, 9
318MHYDROS4, A16C, 341, 1, 18, 18, 2, 19890330, 0806, -16.2283, -25.0167, 5124,  -999.00,   1541.8,   3.6376,  34.8503, 2,  34.8500, 2,   -999.0, 9,    215.9, 2,    30.78, 2,    24.24, 2,     0.00, 2,     1.66, 2, -999.000, 9, -999.000, 9,   -999.0, 9,   -999.0, 9,   -999.0, 9,   3.5181,   -999.0, 9, -999.000, 9
318MHYDROS4, A16C, 341, 1, 19, 19, 2, 19890330, 0806, -16.2283, -25.0167, 5124,  -999.00,   1747.6,   3.3855,  34.8957, 2,  34.8950, 2,   -999.0, 9,    232.2, 2,    30.39, 2,    22.87, 2,     0.00, 2,     1.51, 2, -999.000, 9, -999.000, 9,   -999.0, 9,   -999.0, 9,   -999.0, 9,   3.2506,   -999.0, 9, -999.000, 9
318MHYDROS4, A16C, 341, 1, 20, 20, 2, 19890330, 0806, -16.2283, -25.0167, 5124,  -999.00,   1954.0,   3.1230,  34.9049, 2,  34.9040, 2,   -999.0, 9,    239.2, 2,    33.42, 2,    22.28, 2,     0.00, 2,     1.47, 2, -999.000, 9, -999.000, 9,   -999.0, 9,   -999.0, 9,   -999.0, 9,   2.9729,   -999.0, 9, -999.000, 9
318MHYDROS4, A16C, 341, 1, 21, 21, 2, 19890330, 0806, -16.2283, -25.0167, 5124,  -999.00,   2160.2,   2.9559,  34.9058, 2,  34.9050, 2,   -999.0, 9,    241.6, 2,    35.67, 2,    22.09, 2,     0.00, 2,     1.46, 2, -999.000, 9, -999.000, 9,   -999.0, 9,   -999.0, 9,   -999.0, 9,   2.7894,   -999.0, 9, -999.000, 9
318MHYDROS4, A16C, 341, 1, 22, 22, 2, 19890330, 0806, -16.2283, -25.0167, 5124,  -999.00,   2366.5,   2.8388,  34.9023, 2,  34.9010, 2,   -999.0, 9,    242.8, 2,    38.31, 2,    22.09, 2,     0.00, 2,     1.48, 2, -999.000, 9, -999.000, 9,   -999.0, 9,   -999.0, 9,   -999.0, 9,   2.6549,   -999.0, 9, -999.000, 9
318MHYDROS4, A16C, 341, 1, 23, 23, 2, 19890330, 0806, -16.2283, -25.0167, 5124,  -999.00,   2572.9,   2.7704,  34.8996, 2,  34.8990, 2,   -999.0, 9,    242.2, 2,    40.36, 2,    22.18, 2,     0.00, 2,     1.47, 2, -999.000, 9, -999.000, 9,   -999.0, 9,   -999.0, 9,   -999.0, 9,   2.5678,   -999.0, 9, -999.000, 9
318MHYDROS4, A16C, 341, 1, 24, 24, 2, 19890330, 0806, -16.2283, -25.0167, 5124,  -999.00,   2779.6,   2.7154,  34.8976, 2,  34.8970, 2,   -999.0, 9,    242.8, 2,    41.83, 2,    22.28, 2,     0.00, 2,     1.49, 2, -999.000, 9, -999.000, 9,   -999.0, 9,   -999.0, 9,   -999.0, 9,   2.4934,   -999.0, 9, -999.000, 9
318MHYDROS4, A16C, 341, 1, 25, 25, 2, 19890330, 0806, -16.2283, -25.0167, 5124,  -999.00,   2987.0,   2.6662,  34.8961, 2,  34.8970, 2,   -999.0, 9,    243.1, 2,    42.61, 2,    22.28, 2,     0.00, 2,     1.49, 2, -999.000, 9, -999.000, 9,   -999.0, 9,   -999.0, 9,   -999.0, 9,   2.4242,   -999.0, 9, -999.000, 9
318MHYDROS4, A16C, 341, 1, 26, 26, 2, 19890330, 0806, -16.2283, -25.0167, 5124,  -999.00,   3194.3,   2.6068,  34.8970, 2,  34.8960, 2,   -999.0, 9,    245.8, 2,    42.71, 2,    21.99, 2,     0.00, 2,     1.47, 2, -999.000, 9, -999.000, 9,   -999.0, 9,   -999.0, 9,   -999.0, 9,   2.3446,   -999.0, 9, -999.000, 9
318MHYDROS4, A16C, 341, 1, 27, 27, 2, 19890330, 0806, -16.2283, -25.0167, 5124,  -999.00,   3401.7,   2.5047,  34.8927, 2,  34.8930, 2,   -999.0, 9,    248.1, 2,    43.78, 2,    21.21, 2,     0.00, 2,     1.46, 2, -999.000, 9, -999.000, 9,   -999.0, 9,   -999.0, 9,   -999.0, 9,   2.2229,   -999.0, 9, -999.000, 9
318MHYDROS4, A16C, 341, 1, 28, 28, 2, 19890330, 0806, -16.2283, -25.0167, 5124,  -999.00,   3609.5,   2.3123,  34.8783, 2,  34.8790, 2,   -999.0, 9,    248.3, 2,    49.06, 2,    21.89, 2,     0.00, 2,     1.51, 2, -999.000, 9, -999.000, 9,   -999.0, 9,   -999.0, 9,   -999.0, 9,   2.0129,   -999.0, 9, -999.000, 9
318MHYDROS4, A16C, 341, 1, 29, 29, 2, 19890330, 0806, -16.2283, -25.0167, 5124,  -999.00,   3817.5,   1.9546,  34.8437, 2,  34.8430, 2,   -999.0, 9,    244.3, 2,    62.65, 2,    24.24, 2,     0.00, 2,     1.62, 2, -999.000, 9, -999.000, 9,   -999.0, 9,   -999.0, 9,   -999.0, 9,   1.6421,   -999.0, 9, -999.000, 9
318MHYDROS4, A16C, 341, 1, 30, 30, 2, 19890330, 0806, -16.2283, -25.0167, 5124,  -999.00,   4025.4,   1.6341,  34.8114, 2,  34.8110, 2,   -999.0, 9,    237.9, 2,    75.55, 2,    25.90, 2,     0.00, 2,     1.75, 2, -999.000, 9, -999.000, 9,   -999.0, 9,   -999.0, 9,   -999.0, 9,   1.3079,   -999.0, 9, -999.000, 9
318MHYDROS4, A16C, 341, 1, 31, 31, 2, 19890330, 0806, -16.2283, -25.0167, 5124,  -999.00,   4233.0,   1.2969,  34.7769, 2,  34.7780, 2,   -999.0, 9,    234.8, 2,    88.74, 2,    27.56, 2,     0.00, 2,     1.88, 2, -999.000, 9, -999.000, 9,   -999.0, 9,   -999.0, 9,   -999.0, 9,   0.9577,   -999.0, 9, -999.000, 9
318MHYDROS4, A16C, 341, 1, 32, 32, 2, 19890330, 0806, -16.2283, -25.0167, 5124,  -999.00,   4441.5,   1.0528,  34.7506, 2,  34.7500, 2,   -999.0, 9,    230.5, 2,    98.71, 2,    28.93, 2,     0.00, 2,     1.96, 2, -999.000, 9, -999.000, 9,   -999.0, 9,   -999.0, 9,   -999.0, 9,   0.6979,   -999.0, 9, -999.000, 9
318MHYDROS4, A16C, 341, 1, 33, 33, 2, 19890330, 0806, -16.2283, -25.0167, 5124,  -999.00,   4649.9,   0.9137,  34.7353, 2,  34.7340, 2,   -999.0, 9,    228.5, 2,   105.26, 2,    29.61, 2,     0.00, 2,     2.02, 2, -999.000, 9, -999.000, 9,   -999.0, 9,   -999.0, 9,   -999.0, 9,   0.5397,   -999.0, 9, -999.000, 9
318MHYDROS4, A16C, 341, 1, 34, 34, 2, 19890330, 0806, -16.2283, -25.0167, 5124,  -999.00,   4858.8,   0.8386,  34.7252, 2,  34.7240, 2,   -999.0, 9,    227.1, 2,   109.08, 2,    30.20, 2,     0.00, 2,     2.05, 2, -999.000, 9, -999.000, 9,   -999.0, 9,   -999.0, 9,   -999.0, 9,   0.4431,   -999.0, 9, -999.000, 9
318MHYDROS4, A16C, 341, 1, 35, 35, 2, 19890330, 0806, -16.2283, -25.0167, 5124,  -999.00,   5067.5,   0.7847,  34.7180, 2,  34.7160, 2,   -999.0, 9,    225.6, 2,   112.01, 2,    30.49, 2,     0.00, 2,     2.08, 2, -999.000, 9, -999.000, 9,   -999.0, 9,   -999.0, 9,   -999.0, 9,   0.3665,   5063.8, 2,    0.777, 2
318MHYDROS4, A16C, 341, 1, 36, 36, 2, 19890330, 0806, -16.2283, -25.0167, 5124,  -999.00,   5233.7,   0.7603,  34.7136, 2,  34.7110, 2,   -999.0, 9,    224.7, 2,   113.57, 2,    30.79, 2,     0.00, 2,     2.09, 2, -999.000, 9, -999.000, 9,   -999.0, 9,   -999.0, 9,   -999.0, 9,   0.3232,   -999.0, 9, -999.000, 9