BOTTLE,20110318CCHDOSIODM
EXPOCODE,SECT_ID,STNNBR,CASTNO,SAMPNO,BTLNBR,BTLNBR_FLAG_W,DATE,TIME,LATITUDE,LONGITUDE,DEPTH,CTDRAW,CTDPRS,CTDTMP,CTDSAL,CTDSAL_FLAG_W,SALNTY,SALNTY_FLAG_W,CTDOXY,CTDOXY_FLAG_W,OXYGEN,OXYGEN_FLAG_W,SILCAT,SILCAT_FLAG_W,NITRAT,NITRAT_FLAG_W,NITRIT,NITRIT_FLAG_W,PHSPHT,PHSPHT_FLAG_W,CFC-11,CFC-11_FLAG_W,CFC-12,CFC-12_FLAG_W,TCARBN,TCARBN_FLAG_W,ALKALI,ALKALI_FLAG_W,PCO2,PCO2_FLAG_W,THETA,REVPRS,REVPRS_FLAG_W,REVTMP,REVTMP_FLAG_W
,,,,,,,,,,,METERS,DBAR,DBAR,ITS-90,PSS-78,,PSS-78,,UMOL/KG,,UMOL/KG,,UMOL/KG,,UMOL/KG,,UMOL/KG,,UMOL/KG,,PMOL/KG,,PMOL/KG,,UMOL/KG,,UMOL/KG,,UATM,,DEG C,DBAR,,ITS-90,
318MHYDROS4, A16C, 350, 1, 1, 1, 2, 19890402, 1141, -10.9867, -24.9867, 5528,  -999.00,      1.3,  28.1440,  36.8176, 2,  36.8220, 2,   -999.0, 9,    197.2, 2,     2.54, 2,     0.10, 2,     0.00, 2,     0.07, 2,    1.509, 2,    0.779, 2,   2033.4, 2,   2402.5, 2,    278.0, 2,  28.1437,   -999.0, 9, -999.000, 9
318MHYDROS4, A16C, 350, 1, 2, 2, 2, 19890402, 1141, -10.9867, -24.9867, 5528,  -999.00,     38.0,  28.0540,  36.8177, 2,  36.8220, 2,   -999.0, 9,    201.1, 2,     2.54, 2,     0.00, 2,     0.00, 2,     0.06, 2, -999.000, 9, -999.000, 9,   2035.0, 2,   2407.8, 2,    274.8, 2,  28.0450,   -999.0, 9, -999.000, 9
318MHYDROS4, A16C, 350, 1, 3, 3, 2, 19890402, 1141, -10.9867, -24.9867, 5528,  -999.00,     68.2,  25.0790,  36.9890, 2,  36.9900, 2,   -999.0, 9,    221.4, 2,     2.44, 2,     0.00, 2,     0.00, 2,     0.11, 2,    1.768, 2,    0.899, 2,   -999.0, 9,   -999.0, 9,   -999.0, 9,  25.0641,   -999.0, 9, -999.000, 9
318MHYDROS4, A16C, 350, 1, 71, 71, 2, 19890402, 1141, -10.9867, -24.9867, 5528,  -999.00,    110.0,  22.2712,  36.7072, 2,  36.7210, 2,   -999.0, 9,    209.9, 2,     2.44, 2,     0.10, 2,     0.02, 2,     0.23, 2,    1.801, 2,    0.922, 2,   2080.5, 2,   2410.2, 2,    332.8, 2,  22.2491,   -999.0, 9, -999.000, 9
318MHYDROS4, A16C, 350, 1, 5, 5, 2, 19890402, 1141, -10.9867, -24.9867, 5528,  -999.00,    161.0,  17.4463,  35.8928, 2,  35.9060, 2,   -999.0, 9,    155.4, 2,     4.30, 2,     9.96, 2,     0.03, 2,     0.83, 2,    1.546, 2,    0.794, 2,   -999.0, 9,   -999.0, 9,   -999.0, 9,  17.4191,   -999.0, 9, -999.000, 9
318MHYDROS4, A16C, 350, 1, 6, 6, 2, 19890402, 1141, -10.9867, -24.9867, 5528,  -999.00,    187.0,  15.3700,  35.5696, 2,  35.5450, 2,   -999.0, 9,    156.2, 2,     5.08, 2,    12.70, 2,     0.02, 2,     0.97, 2, -999.000, 9, -999.000, 9,   -999.0, 9,   -999.0, 9,   -999.0, 9,  15.3410,   -999.0, 9, -999.000, 9
318MHYDROS4, A16C, 350, 1, 7, 7, 2, 19890402, 1141, -10.9867, -24.9867, 5528,  -999.00,    212.1,  13.8536,  35.3740, 2,  35.3700, 2,   -999.0, 9,    130.1, 2,     6.84, 2,    18.07, 2,     0.01, 2,     1.26, 2,    1.179, 2,    0.579, 2,   2153.7, 2,   2322.6, 2,    695.2, 2,  13.8230,   -999.0, 9, -999.000, 9
318MHYDROS4, A16C, 350, 1, 8, 8, 2, 19890402, 1141, -10.9867, -24.9867, 5528,  -999.00,    313.7,   9.9935,  34.9178, 2,  34.9170, 2,   -999.0, 9,     99.2, 2,    13.68, 2,    28.83, 2,     0.01, 2,     1.89, 2,    0.269, 2,    0.145, 2,   2197.4, 2,   2309.5, 2,    990.0, 2,   9.9569,   -999.0, 9, -999.000, 9
318MHYDROS4, A16C, 350, 1, 9, 9, 2, 19890402, 1141, -10.9867, -24.9867, 5528,  -999.00,    415.4,   7.2981,  34.6223, 2,  34.6220, 2,   -999.0, 9,    126.5, 2,    19.35, 2,    32.06, 2,     0.01, 2,     2.11, 2,    0.147, 2,    0.075, 2,   2197.9, 2,   2294.4, 2,   1090.4, 2,   7.2579,   -999.0, 9, -999.000, 9
318MHYDROS4, A16C, 350, 1, 10, 10, 2, 19890402, 1141, -10.9867, -24.9867, 5528,  -999.00,    516.9,   6.0939,  34.5190, 2,  34.5210, 2,   -999.0, 9,    140.0, 2,    23.56, 2,    33.63, 2,     0.01, 2,     2.22, 2,    0.108, 2,    0.051, 2,   2203.0, 2,   -999.0, 9,   -999.0, 9,   6.0483,   -999.0, 9, -999.000, 9
318MHYDROS4, A16C, 350, 1, 11, 11, 2, 19890402, 1141, -10.9867, -24.9867, 5528,  -999.00,    668.3,   5.0916,  34.4663, 2,  34.4690, 2,   -999.0, 9,    146.1, 2,    29.03, 2,    34.31, 2,     0.01, 2,     2.33, 2,    0.052, 2,    0.029, 2,   2211.6, 2,   2303.4, 2,   1134.9, 2,   5.0371,   -999.0, 9, -999.000, 9
318MHYDROS4, A16C, 350, 1, 12, 12, 2, 19890402, 1141, -10.9867, -24.9867, 5528,  -999.00,    819.9,   4.3951,  34.4566, 2,  34.4570, 2,   -999.0, 9,    161.3, 2,    34.02, 2,    34.31, 2,     0.00, 2,     2.35, 2,    0.019, 2,    0.012, 2,   2209.4, 2,   2304.9, 2,   1107.5, 2,   4.3318,   -999.0, 9, -999.000, 9
318MHYDROS4, A16C, 350, 1, 13, 13, 2, 19890402, 1141, -10.9867, -24.9867, 5528,  -999.00,    972.4,   4.0064,  34.5120, 2,  34.5120, 2,   -999.0, 9,    167.8, 2,    37.24, 2,    33.04, 2,     0.00, 2,     2.30, 2,    0.011, 2,    0.000, 2,   2216.6, 2,   2313.5, 2,   1102.9, 2,   3.9330,   -999.0, 9, -999.000, 9
318MHYDROS4, A16C, 350, 1, 14, 14, 2, 19890402, 1141, -10.9867, -24.9867, 5528,  -999.00,   1126.0,   3.9345,  34.6384, 2,  34.6380, 2,   -999.0, 9,    178.6, 2,    35.38, 2,    30.99, 2,     0.00, 2,     2.13, 2,    0.001, 2,    0.000, 2,   2207.8, 2,   2316.2, 2,   1020.5, 2,   3.8485,   -999.0, 9, -999.000, 9
318MHYDROS4, A16C, 350, 1, 15, 15, 2, 19890402, 1141, -10.9867, -24.9867, 5528,  -999.00,   1331.5,   4.1163,  34.8224, 2,  34.8220, 2,   -999.0, 9,    199.5, 2,    27.46, 2,    26.78, 2,     0.00, 2,     1.82, 2,    0.000, 2,    0.000, 2,   2189.8, 2,   2314.7, 2,    911.1, 2,   4.0104,   -999.0, 9, -999.000, 9
318MHYDROS4, A16C, 350, 1, 16, 16, 2, 19890402, 1141, -10.9867, -24.9867, 5528,  -999.00,   1538.9,   4.0554,  34.9341, 2,  34.9360, 2,   -999.0, 9,    229.0, 2,    21.21, 2,    22.28, 2,     0.00, 2,     1.50, 2,    0.010, 2,    0.008, 2,   -999.0, 9,   -999.0, 9,   -999.0, 9,   3.9311,   -999.0, 9, -999.000, 9
318MHYDROS4, A16C, 350, 1, 17, 17, 2, 19890402, 1141, -10.9867, -24.9867, 5528,  -999.00,   1745.8,   3.6657,  34.9548, 2,  34.9550, 2,   -999.0, 9,    246.4, 2,    21.21, 2,    20.33, 2,     0.00, 2,     1.37, 2,    0.006, 2,    0.005, 2,   -999.0, 9,   -999.0, 9,   -999.0, 9,   3.5271,   -999.0, 9, -999.000, 9
318MHYDROS4, A16C, 350, 1, 18, 18, 2, 19890402, 1141, -10.9867, -24.9867, 5528,  -999.00,   1953.0,   3.4209,  34.9558, 2,  34.9560, 2,   -999.0, 9,    253.3, 2,    22.48, 2,    19.84, 2,     0.00, 2,     1.34, 2,    0.004, 2,    0.006, 2,   -999.0, 9,   -999.0, 9,   -999.0, 9,   3.2664,   -999.0, 9, -999.000, 9
318MHYDROS4, A16C, 350, 1, 19, 19, 2, 19890402, 1141, -10.9867, -24.9867, 5528,  -999.00,   2158.9,   3.2090,  34.9442, 2,  34.9480, 2,   -999.0, 9,    254.2, 2,    25.51, 2,    20.13, 2,     0.00, 2,     1.35, 2,    0.005, 2,    0.002, 2,   -999.0, 9,   -999.0, 9,   -999.0, 9,   3.0384,   -999.0, 9, -999.000, 9
318MHYDROS4, A16C, 350, 1, 20, 20, 2, 19890402, 1141, -10.9867, -24.9867, 5528,  -999.00,   2366.2,   3.0352,  34.9345, 2,  34.9360, 2,   -999.0, 9,    252.0, 2,    29.02, 2,    20.42, 2,     0.00, 2,     1.38, 2, -999.000, 9, -999.000, 9,   -999.0, 9,   -999.0, 9,   -999.0, 9,   2.8477,   -999.0, 9, -999.000, 9
318MHYDROS4, A16C, 350, 1, 21, 21, 2, 19890402, 1141, -10.9867, -24.9867, 5528,  -999.00,   2572.9,   2.8783,  34.9241, 2,  34.9240, 2,   -999.0, 9,    250.7, 2,    32.74, 2,    20.82, 2,     0.00, 2,     1.41, 2,    0.001, 2,    0.002, 2,   -999.0, 9,   -999.0, 9,   -999.0, 9,   2.6735,   -999.0, 9, -999.000, 9
318MHYDROS4, A16C, 350, 1, 22, 22, 2, 19890402, 1141, -10.9867, -24.9867, 5528,  -999.00,   2780.2,   2.8054,  34.9208, 2,  34.9210, 2,   -999.0, 9,    250.7, 2,    33.52, 2,    20.62, 2,     0.00, 2,     1.40, 2, -999.000, 9, -999.000, 9,   -999.0, 9,   -999.0, 9,   -999.0, 9,   2.5814,   -999.0, 9, -999.000, 9
318MHYDROS4, A16C, 350, 1, 23, 23, 2, 19890402, 1141, -10.9867, -24.9867, 5528,  -999.00,   3039.6,   2.7015,  34.9172, 2,  34.9170, 2,   -999.0, 9,   -999.0, 9,    34.40, 2,    20.72, 2,     0.00, 2,     1.39, 2,    0.007, 2,    0.004, 2,   -999.0, 9,   -999.0, 9,   -999.0, 9,   2.4531,   -999.0, 9, -999.000, 9
318MHYDROS4, A16C, 350, 1, 24, 24, 2, 19890402, 1141, -10.9867, -24.9867, 5528,  -999.00,   3298.3,   2.6085,  34.9118, 2,  34.9120, 2,   -999.0, 9,   -999.0, 9,    34.89, 2,    20.52, 2,     0.00, 2,     1.39, 2, -999.000, 9, -999.000, 9,   -999.0, 9,   -999.0, 9,   -999.0, 9,   2.3352,   -999.0, 9, -999.000, 9
318MHYDROS4, A16C, 350, 1, 25, 25, 2, 19890402, 1141, -10.9867, -24.9867, 5528,  -999.00,   3535.7,   2.5046,  34.9034, 2,  34.9070, 2,   -999.0, 9,    256.3, 2,    36.84, 2,    20.42, 2,     0.00, 2,     1.39, 2,    0.003, 2,    0.000, 2,   -999.0, 9,   -999.0, 9,   -999.0, 9,   2.2082,   -999.0, 9, -999.000, 9
318MHYDROS4, A16C, 350, 1, 26, 26, 2, 19890402, 1141, -10.9867, -24.9867, 5528,  -999.00,   3709.7,   2.3158,  34.8870, 2,  34.8870, 2,   -999.0, 9,    255.0, 2,    42.61, 2,    21.11, 2,     0.00, 2,     1.45, 2, -999.000, 9, -999.000, 9,   -999.0, 9,   -999.0, 9,   -999.0, 9,   2.0052,   -999.0, 9, -999.000, 9
318MHYDROS4, A16C, 350, 1, 27, 27, 2, 19890402, 1141, -10.9867, -24.9867, 5528,  -999.00,   3911.8,   2.0000,  34.8528, 2,  34.8560, 2,   -999.0, 9,    249.4, 2,    55.90, 2,    23.36, 2,     0.00, 2,     1.57, 2,    0.005, 2,    0.000, 2,   -999.0, 9,   -999.0, 9,   -999.0, 9,   1.6758,   -999.0, 9, -999.000, 9
318MHYDROS4, A16C, 350, 1, 28, 28, 2, 19890402, 1141, -10.9867, -24.9867, 5528,  -999.00,   4117.7,   1.5744,  34.8064, 2,  34.8070, 2,   -999.0, 9,    239.4, 2,    75.06, 2,    26.09, 2,     0.00, 2,     1.79, 2, -999.000, 9, -999.000, 9,   -999.0, 9,   -999.0, 9,   -999.0, 9,   1.2396,   -999.0, 9, -999.000, 9
318MHYDROS4, A16C, 350, 1, 29, 29, 2, 19890402, 1141, -10.9867, -24.9867, 5528,  -999.00,   4322.9,   1.2057,  34.7680, 2,  34.7680, 2,   -999.0, 9,    234.6, 2,    90.50, 2,    28.34, 2,     0.00, 2,     1.93, 2,    0.003, 2,    0.010, 2,   -999.0, 9,   -999.0, 9,   -999.0, 9,   0.8593,   -999.0, 9, -999.000, 9
318MHYDROS4, A16C, 350, 1, 30, 30, 2, 19890402, 1141, -10.9867, -24.9867, 5528,  -999.00,   4526.8,   0.9549,  34.7413, 2,  34.7410, 2,   -999.0, 9,    231.6, 2,   100.77, 2,    29.71, 2,     0.00, 2,     2.04, 2, -999.000, 9, -999.000, 9,   -999.0, 9,   -999.0, 9,   -999.0, 9,   0.5935,   -999.0, 9, -999.000, 9
318MHYDROS4, A16C, 350, 1, 31, 31, 2, 19890402, 1141, -10.9867, -24.9867, 5528,  -999.00,   4734.8,   0.8430,  34.7274, 2,  34.7270, 2,   -999.0, 9,    228.1, 2,   105.75, 2,    30.59, 2,     0.00, 2,     2.08, 2,    0.000, 2,    0.000, 2,   -999.0, 9,   -999.0, 9,   -999.0, 9,   0.4617,   -999.0, 9, -999.000, 9
318MHYDROS4, A16C, 350, 1, 32, 32, 2, 19890402, 1141, -10.9867, -24.9867, 5528,  -999.00,   4947.3,   0.7611,  34.7168, 2,  34.7170, 2,   -999.0, 9,    225.5, 2,   109.86, 2,    31.08, 2,     0.00, 2,     2.12, 2, -999.000, 9, -999.000, 9,   -999.0, 9,   -999.0, 9,   -999.0, 9,   0.3579,   -999.0, 9, -999.000, 9
318MHYDROS4, A16C, 350, 1, 33, 33, 2, 19890402, 1141, -10.9867, -24.9867, 5528,  -999.00,   5159.6,   0.7431,  34.7124, 2,  34.7110, 2,   -999.0, 9,    225.1, 2,   111.23, 2,    31.37, 2,     0.00, 2,     2.14, 2,    0.002, 2,    0.004, 2,   -999.0, 9,   -999.0, 9,   -999.0, 9,   0.3155,   -999.0, 9, -999.000, 9
318MHYDROS4, A16C, 350, 1, 34, 34, 2, 19890402, 1141, -10.9867, -24.9867, 5528,  -999.00,   5371.1,   0.7211,  34.7076, 2,  34.7070, 2,   -999.0, 9,    223.3, 2,   112.79, 2,    31.77, 2,     0.00, 2,     2.16, 2, -999.000, 9, -999.000, 9,   -999.0, 9,   -999.0, 9,   -999.0, 9,   0.2688,   -999.0, 9, -999.000, 9
318MHYDROS4, A16C, 350, 1, 35, 35, 2, 19890402, 1141, -10.9867, -24.9867, 5528,  -999.00,   5581.9,   0.7131,  34.7037, 2,  34.7040, 2,   -999.0, 9,    223.8, 2,   114.36, 2,    31.77, 2,     0.00, 2,     2.17, 2,    0.001, 2,    0.000, 2,   -999.0, 9,   -999.0, 9,   -999.0, 9,   0.2351,   5580.3, 2,    0.703, 2
318MHYDROS4, A16C, 350, 1, 36, 36, 2, 19890402, 1141, -10.9867, -24.9867, 5528,  -999.00,   5719.6,   0.7121,  34.7018, 2,  34.7020, 2,   -999.0, 9,    224.2, 2,   114.75, 2,    31.47, 2,     0.00, 2,     2.17, 2,    0.000, 2,    0.000, 2,   -999.0, 9,   -999.0, 9,   -999.0, 9,   0.2169,   -999.0, 9, -999.000, 9