BOTTLE,20110318CCHDOSIODM
EXPOCODE,SECT_ID,STNNBR,CASTNO,SAMPNO,BTLNBR,BTLNBR_FLAG_W,DATE,TIME,LATITUDE,LONGITUDE,DEPTH,CTDRAW,CTDPRS,CTDTMP,CTDSAL,CTDSAL_FLAG_W,SALNTY,SALNTY_FLAG_W,CTDOXY,CTDOXY_FLAG_W,OXYGEN,OXYGEN_FLAG_W,SILCAT,SILCAT_FLAG_W,NITRAT,NITRAT_FLAG_W,NITRIT,NITRIT_FLAG_W,PHSPHT,PHSPHT_FLAG_W,CFC-11,CFC-11_FLAG_W,CFC-12,CFC-12_FLAG_W,TCARBN,TCARBN_FLAG_W,ALKALI,ALKALI_FLAG_W,PCO2,PCO2_FLAG_W,THETA,REVPRS,REVPRS_FLAG_W,REVTMP,REVTMP_FLAG_W
,,,,,,,,,,,METERS,DBAR,DBAR,ITS-90,PSS-78,,PSS-78,,UMOL/KG,,UMOL/KG,,UMOL/KG,,UMOL/KG,,UMOL/KG,,UMOL/KG,,PMOL/KG,,PMOL/KG,,UMOL/KG,,UMOL/KG,,UATM,,DEG C,DBAR,,ITS-90,
318MHYDROS4, A16C, 316, 2, 1, 1, 2, 19890322, 0116, -30.7967, -24.9533, 4625,  -999.00,      1.4,  23.9831,  36.1613, 2,  36.1620, 2,   -999.0, 9,    205.3, 2,     2.15, 2,     0.00, 2,     0.00, 2,     0.06, 2,    1.741, 2,    0.900, 2,   2029.7, 2,   2367.1, 2,    304.3, 2,  23.9829,   -999.0, 9, -999.000, 9
318MHYDROS4, A16C, 316, 2, 2, 2, 2, 19890322, 0116, -30.7967, -24.9533, 4625,  -999.00,     26.5,  23.9993,  36.1640, 2,  36.1630, 2,   -999.0, 9,    213.2, 2,     2.15, 2,     0.00, 2,     0.00, 2,     0.05, 2, -999.000, 9, -999.000, 9,   2035.2, 2,   2379.0, 2,    298.8, 2,  23.9937,   -999.0, 9, -999.000, 9
318MHYDROS4, A16C, 316, 2, 3, 3, 2, 19890322, 0116, -30.7967, -24.9533, 4625,  -999.00,     57.8,  20.7002,  36.0872, 2,  36.0890, 2,   -999.0, 9,    238.2, 2,     2.34, 2,     0.00, 2,     0.00, 2,     0.09, 2,    2.052, 2,    1.053, 2,   2041.7, 2,   2371.0, 2,    316.3, 2,  20.6892,   -999.0, 9, -999.000, 9
318MHYDROS4, A16C, 316, 2, 71, 71, 2, 19890322, 0116, -30.7967, -24.9533, 4625,  -999.00,     98.6,  18.6093,  35.9659, 2,  35.9680, 2,   -999.0, 9,    230.7, 2,     2.54, 2,     0.00, 2,     0.00, 2,     0.13, 2, -999.000, 9, -999.000, 9,   2057.2, 2,   2368.2, 2,    342.4, 2,  18.5919,   -999.0, 9, -999.000, 9
318MHYDROS4, A16C, 316, 2, 5, 5, 2, 19890322, 0116, -30.7967, -24.9533, 4625,  -999.00,    144.2,  16.8772,  35.7107, 2,  35.7050, 2,   -999.0, 9,    219.4, 2,     2.54, 2,     1.07, 2,     0.02, 2,     0.26, 2, -999.000, 9, -999.000, 9,   -999.0, 9,   -999.0, 9,    385.3, 2,  16.8535,   -999.0, 9, -999.000, 9
318MHYDROS4, A16C, 316, 2, 6, 6, 2, 19890322, 0116, -30.7967, -24.9533, 4625,  -999.00,    190.0,  15.8473,  35.5474, 2,  35.5460, 2,   -999.0, 9,    218.9, 2,     2.64, 2,     2.44, 2,     0.02, 2,     0.34, 2, -999.000, 9, -999.000, 9,   2077.0, 2,   2345.0, 2,    409.3, 2,  15.8173,   -999.0, 9, -999.000, 9
318MHYDROS4, A16C, 316, 2, 7, 7, 2, 19890322, 0116, -30.7967, -24.9533, 4625,  -999.00,    241.0,  14.6127,  35.3880, 2,  35.3870, 2,   -999.0, 9,    211.9, 2,     3.42, 2,     5.57, 2,     0.01, 2,     0.53, 2, -999.000, 9, -999.000, 9,   2084.5, 2,   2329.2, 2,    454.0, 2,  14.5766,   -999.0, 9, -999.000, 9
318MHYDROS4, A16C, 316, 2, 8, 8, 2, 19890322, 0116, -30.7967, -24.9533, 4625,  -999.00,    292.5,  13.9412,  35.3217, 2,  35.3210, 2,   -999.0, 9,    213.2, 2,     4.20, 2,     6.94, 2,     0.00, 2,     0.61, 2,    1.985, 2,    0.994, 2,   2093.3, 2,   2331.8, 2,    469.7, 2,  13.8988,   -999.0, 9, -999.000, 9
318MHYDROS4, A16C, 316, 2, 9, 9, 2, 19890322, 0116, -30.7967, -24.9533, 4625,  -999.00,    363.9,  12.5351,  35.1282, 2,  35.1350, 2,   -999.0, 9,    208.4, 2,     5.37, 2,    10.55, 2,     0.00, 2,     0.83, 2, -999.000, 9, -999.000, 9,   2105.2, 2,   2317.4, 2,    533.8, 2,  12.4858,   -999.0, 9, -999.000, 9
318MHYDROS4, A16C, 316, 2, 10, 10, 2, 19890322, 0116, -30.7967, -24.9533, 4625,  -999.00,    445.1,  11.2120,  34.9551, 2,  34.9550, 2,   -999.0, 9,    204.4, 2,     7.23, 2,    14.17, 2,     0.00, 2,     1.06, 2,    1.659, 2,    0.819, 2,   2117.5, 2,   2312.1, 2,    585.9, 2,  11.1559,   -999.0, 9, -999.000, 9
318MHYDROS4, A16C, 316, 2, 11, 11, 2, 19890322, 0116, -30.7967, -24.9533, 4625,  -999.00,    547.2,   9.1839,  34.7155, 2,  34.7160, 2,   -999.0, 9,    196.1, 2,    11.14, 2,    20.23, 2,     0.00, 2,     1.43, 2,    1.291, 2,    0.622, 2,   2144.7, 2,   2305.0, 2,    714.1, 2,   9.1228,   -999.0, 9, -999.000, 9
318MHYDROS4, A16C, 316, 2, 12, 12, 2, 19890322, 0116, -30.7967, -24.9533, 4625,  -999.00,    644.0,   7.4906,  34.5464, 2,  34.5460, 2,   -999.0, 9,    195.2, 2,    15.54, 2,    24.63, 2,     0.00, 2,     1.72, 2,    1.060, 2,    0.511, 2,   2154.3, 2,   2296.8, 2,    794.5, 2,   7.4264,   -999.0, 9, -999.000, 9
318MHYDROS4, A16C, 316, 2, 13, 13, 2, 19890322, 0116, -30.7967, -24.9533, 4625,  -999.00,    746.4,   5.7464,  34.3751, 2,  34.3750, 2,   -999.0, 9,    220.0, 2,    18.28, 2,    26.69, 2,     0.00, 2,     1.85, 2, -999.000, 9, -999.000, 9,   2157.9, 2,   2295.9, 2,    815.9, 2,   5.6815,   -999.0, 9, -999.000, 9
318MHYDROS4, A16C, 316, 2, 14, 14, 2, 19890322, 0116, -30.7967, -24.9533, 4625,  -999.00,    852.0,   4.6751,  34.3060, 2,  34.3050, 2,   -999.0, 9,    225.6, 2,    23.27, 2,    28.84, 2,     0.00, 2,     1.98, 2,    1.002, 2,    0.484, 2,   2171.1, 2,   -999.0, 9,   -999.0, 9,   4.6074,   -999.0, 9, -999.000, 9
318MHYDROS4, A16C, 316, 2, 15, 15, 2, 19890322, 0116, -30.7967, -24.9533, 4625,  -999.00,    945.3,   3.9942,  34.2954, 2,  34.2940, 2,   -999.0, 9,    223.0, 2,    29.82, 2,    30.21, 2,     0.00, 2,     2.09, 2,    0.739, 2,    0.323, 2,   2176.9, 2,   2298.0, 2,    916.5, 2,   3.9235,   -999.0, 9, -999.000, 9
318MHYDROS4, A16C, 316, 2, 16, 16, 2, 19890322, 0116, -30.7967, -24.9533, 4625,  -999.00,   1051.2,   3.5606,  34.3292, 2,  34.3260, 2,   -999.0, 9,    212.1, 2,    37.84, 2,    31.58, 2,     0.00, 2,     2.19, 2,    0.462, 2,    0.220, 2,   2194.2, 2,   2311.0, 2,    954.6, 2,   3.4845,   -999.0, 9, -999.000, 9
318MHYDROS4, A16C, 316, 2, 17, 17, 2, 19890322, 0116, -30.7967, -24.9533, 4625,  -999.00,   1146.7,   3.2756,  34.3868, 2,  34.3860, 2,   -999.0, 9,    200.4, 2,    46.14, 2,    32.56, 2,     0.00, 2,     2.28, 2,    0.260, 2,    0.129, 2,   2208.7, 2,   2320.0, 2,   1000.6, 2,   3.1942,   -999.0, 9, -999.000, 9
318MHYDROS4, A16C, 316, 2, 18, 18, 2, 19890322, 0116, -30.7967, -24.9533, 4625,  -999.00,   1245.7,   3.1191,  34.4538, 2,  34.4530, 2,   -999.0, 9,    191.7, 2,    52.79, 2,    33.14, 2,     0.00, 2,     2.29, 2,    0.162, 2,    0.095, 2,   2225.5, 2,   2333.6, 2,   1034.2, 2,   3.0311,   -999.0, 9, -999.000, 9
318MHYDROS4, A16C, 316, 2, 19, 19, 2, 19890322, 0116, -30.7967, -24.9533, 4625,  -999.00,   1396.2,   2.9864,  34.5556, 2,  34.5540, 2,   -999.0, 9,    186.9, 2,    57.48, 2,    32.55, 2,     0.00, 2,     2.27, 2,    0.049, 2,    0.027, 2,   2223.2, 2,   2329.7, 2,   1045.8, 2,   2.8874,   -999.0, 9, -999.000, 9
318MHYDROS4, A16C, 316, 2, 20, 20, 2, 19890322, 0116, -30.7967, -24.9533, 4625,  -999.00,   1603.0,   2.8762,  34.6634, 2,  34.6630, 2,   -999.0, 9,    193.4, 2,    57.47, 2,    30.40, 2,     0.00, 2,     2.12, 2,    0.013, 2,    0.008, 2,   2226.6, 2,   2340.2, 2,   1003.8, 2,   2.7610,   -999.0, 9, -999.000, 9
318MHYDROS4, A16C, 316, 2, 21, 21, 2, 19890322, 0116, -30.7967, -24.9533, 4625,  -999.00,   1798.2,   2.7616,  34.7383, 2,  34.7370, 2,   -999.0, 9,    204.7, 2,    56.59, 2,    28.44, 2,     0.00, 2,     1.97, 2,    0.000, 2,    0.007, 2,   -999.0, 9,   -999.0, 9,    948.0, 2,   2.6310,   -999.0, 9, -999.000, 9
318MHYDROS4, A16C, 316, 2, 22, 22, 2, 19890322, 0116, -30.7967, -24.9533, 4625,  -999.00,   1995.0,   2.7096,  34.7934, 2,  34.7930, 2,   -999.0, 9,    216.8, 2,    53.66, 2,    26.19, 2,     0.00, 2,     1.83, 2,    0.005, 2,    0.004, 2,   2204.5, 2,   2338.1, 2,    877.4, 2,   2.5624,   -999.0, 9, -999.000, 9
318MHYDROS4, A16C, 316, 2, 23, 23, 2, 19890322, 0116, -30.7967, -24.9533, 4625,  -999.00,   2197.7,   2.6831,  34.8274, 2,  34.8260, 2,   -999.0, 9,    225.1, 2,    50.62, 2,    24.82, 2,     0.00, 2,     1.73, 2, -999.000, 9, -999.000, 9,   2200.8, 2,   2340.0, 2,    846.7, 2,   2.5178,   -999.0, 9, -999.000, 9
318MHYDROS4, A16C, 316, 2, 24, 24, 2, 19890322, 0116, -30.7967, -24.9533, 4625,  -999.00,   2400.2,   2.7133,  34.8589, 2,  34.8570, 2,   -999.0, 9,    233.8, 2,    46.52, 2,    23.55, 2,     0.00, 2,     1.64, 2,    0.008, 2,    0.004, 2,   2192.9, 2,   2337.7, 2,    814.6, 2,   2.5285,   -999.0, 9, -999.000, 9
318MHYDROS4, A16C, 316, 2, 25, 25, 2, 19890322, 0116, -30.7967, -24.9533, 4625,  -999.00,   2600.9,   2.7312,  34.8821, 2,  34.8810, 2,   -999.0, 9,    240.3, 2,    42.90, 2,    22.48, 2,     0.00, 2,     1.55, 2, -999.000, 9, -999.000, 9,   2186.5, 2,   2336.3, 2,    787.9, 2,   2.5267,   -999.0, 9, -999.000, 9
318MHYDROS4, A16C, 316, 2, 26, 26, 2, 19890322, 0116, -30.7967, -24.9533, 4625,  -999.00,   2799.6,   2.7192,  34.8951, 2,  34.8940, 2,   -999.0, 9,    245.1, 2,    38.50, 2,    21.99, 2,     0.00, 2,     1.49, 2,    0.002, 2,    0.006, 2,   2183.0, 2,   2336.5, 2,    769.2, 2,   2.4952,   -999.0, 9, -999.000, 9
318MHYDROS4, A16C, 316, 2, 27, 27, 2, 19890322, 0116, -30.7967, -24.9533, 4625,  -999.00,   2994.9,   2.6698,  34.9007, 2,  34.9000, 2,   -999.0, 9,    248.1, 2,    38.31, 2,    21.60, 2,     0.00, 2,     1.45, 2,    0.000, 2,    0.003, 2,   2177.4, 2,   2330.9, 2,    766.2, 2,   2.4269,   -999.0, 9, -999.000, 9
318MHYDROS4, A16C, 316, 2, 28, 28, 2, 19890322, 0116, -30.7967, -24.9533, 4625,  -999.00,   3207.5,   2.5422,  34.8949, 2,  34.8940, 2,   -999.0, 9,    249.0, 2,    41.53, 2,    21.99, 2,     0.00, 2,     1.50, 2,    0.005, 2,    0.007, 2,   2182.8, 2,   2337.5, 2,    764.7, 2,   2.2801,   -999.0, 9, -999.000, 9
318MHYDROS4, A16C, 316, 2, 29, 29, 2, 19890322, 0116, -30.7967, -24.9533, 4625,  -999.00,   3391.3,   2.3512,  34.8795, 2,  34.8790, 2,   -999.0, 9,    247.2, 2,    47.50, 2,    22.48, 2,     0.00, 2,     1.53, 2,    0.004, 2,    0.000, 2,   2185.9, 2,   2341.1, 2,    764.9, 2,   2.0743,   -999.0, 9, -999.000, 9
318MHYDROS4, A16C, 316, 2, 30, 30, 2, 19890322, 0116, -30.7967, -24.9533, 4625,  -999.00,   3588.1,   2.0582,  34.8487, 2,  34.8470, 2,   -999.0, 9,    241.6, 2,    59.32, 2,    23.94, 2,     0.00, 2,     1.66, 2,    0.006, 2,    0.001, 2,   2200.7, 2,   2347.6, 2,    811.3, 2,   1.7677,   -999.0, 9, -999.000, 9
318MHYDROS4, A16C, 316, 2, 31, 31, 2, 19890322, 0116, -30.7967, -24.9533, 4625,  -999.00,   3796.6,   1.7177,  34.8142, 2,  34.8150, 2,   -999.0, 9,    235.9, 2,    72.71, 2,    26.00, 2,     0.00, 2,     1.79, 2,    0.008, 2,    0.003, 2,   2218.3, 2,   2362.9, 2,    834.4, 2,   1.4140,   -999.0, 9, -999.000, 9
318MHYDROS4, A16C, 316, 2, 32, 32, 2, 19890322, 0116, -30.7967, -24.9533, 4625,  -999.00,   3994.1,   1.4038,  34.7798, 2,  34.7790, 2,   -999.0, 9,    230.3, 2,    87.08, 2,    27.95, 2,     0.00, 2,     1.94, 2,    0.005, 2,    0.000, 2,   2225.5, 2,   2358.6, 2,    898.0, 2,   1.0877,   -999.0, 9, -999.000, 9
318MHYDROS4, A16C, 316, 2, 33, 33, 2, 19890322, 0116, -30.7967, -24.9533, 4625,  -999.00,   4182.1,   1.2590,  34.7629, 2,  34.7620, 2,   -999.0, 9,    226.8, 2,    94.80, 2,    29.03, 2,     0.00, 2,     1.98, 2,    0.011, 2,    0.002, 2,   2217.1, 2,   2345.2, 2,    920.9, 2,   0.9266,   -999.0, 9, -999.000, 9
318MHYDROS4, A16C, 316, 2, 34, 34, 2, 19890322, 0116, -30.7967, -24.9533, 4625,  -999.00,   4391.2,   1.1990,  34.7537, 2,  34.7530, 2,   -999.0, 9,    225.5, 2,    98.23, 2,    29.52, 2,     0.00, 2,     2.03, 2,    0.000, 2,    0.000, 2,   2237.5, 2,   -999.0, 9,   -999.0, 9,   0.8452,   -999.0, 9, -999.000, 9
318MHYDROS4, A16C, 316, 2, 35, 35, 2, 19890322, 0116, -30.7967, -24.9533, 4625,  -999.00,   4559.5,   1.1711,  34.7488, 2,  34.7510, 2,   -999.0, 9,    224.2, 2,   100.08, 2,    29.61, 2,     0.00, 2,     2.04, 2,    0.011, 2,    0.005, 2,   2228.0, 2,   2355.0, 2,    934.6, 2,   0.7992,   4557.5, 2,    1.171, 2
318MHYDROS4, A16C, 316, 2, 36, 36, 2, 19890322, 0116, -30.7967, -24.9533, 4625,  -999.00,   4771.3,   1.1659,  34.7456, 2,  34.7440, 2,   -999.0, 9,    223.3, 2,   101.55, 2,    30.10, 2,     0.00, 2,     2.04, 2,    0.010, 2,    0.002, 2,   2241.3, 2,   -999.0, 9,   -999.0, 9,   0.7697,   -999.0, 9, -999.000, 9