BOTTLE,20110318CCHDOSIODM
EXPOCODE,SECT_ID,STNNBR,CASTNO,SAMPNO,BTLNBR,BTLNBR_FLAG_W,DATE,TIME,LATITUDE,LONGITUDE,DEPTH,CTDRAW,CTDPRS,CTDTMP,CTDSAL,CTDSAL_FLAG_W,SALNTY,SALNTY_FLAG_W,CTDOXY,CTDOXY_FLAG_W,OXYGEN,OXYGEN_FLAG_W,SILCAT,SILCAT_FLAG_W,NITRAT,NITRAT_FLAG_W,NITRIT,NITRIT_FLAG_W,PHSPHT,PHSPHT_FLAG_W,CFC-11,CFC-11_FLAG_W,CFC-12,CFC-12_FLAG_W,TCARBN,TCARBN_FLAG_W,ALKALI,ALKALI_FLAG_W,PCO2,PCO2_FLAG_W,THETA,REVPRS,REVPRS_FLAG_W,REVTMP,REVTMP_FLAG_W
,,,,,,,,,,,METERS,DBAR,DBAR,ITS-90,PSS-78,,PSS-78,,UMOL/KG,,UMOL/KG,,UMOL/KG,,UMOL/KG,,UMOL/KG,,UMOL/KG,,PMOL/KG,,PMOL/KG,,UMOL/KG,,UMOL/KG,,UATM,,DEG C,DBAR,,ITS-90,
318MHYDROS4, A16C, 344, 1, 1, 1, 2, 19890331, 0434, -14.4900, -24.9850, 5529,  -999.00,      1.2,  27.6223,  37.1766, 2,  37.1800, 2,   -999.0, 9,    210.6, 2,     2.15, 2,     0.00, 2,     0.00, 2,     0.11, 2,    1.501, 2,    0.777, 2,   2059.4, 2,   2433.1, 2,    282.9, 2,  27.6220,   -999.0, 9, -999.000, 9
318MHYDROS4, A16C, 344, 1, 2, 2, 2, 19890331, 0434, -14.4900, -24.9850, 5529,  -999.00,     36.9,  27.6200,  37.1757, 2,  37.1790, 2,   -999.0, 9,    211.9, 2,     2.34, 2,     0.00, 2,     0.00, 2,     0.12, 2, -999.000, 9, -999.000, 9,   2061.7, 2,   2436.4, 2,    282.5, 2,  27.6113,   -999.0, 9, -999.000, 9
318MHYDROS4, A16C, 344, 1, 3, 3, 2, 19890331, 0434, -14.4900, -24.9850, 5529,  -999.00,     68.1,  24.6364,  36.8628, 2,  36.8610, 2,   -999.0, 9,    229.6, 2,     2.34, 2,     0.00, 2,     0.00, 2,     0.20, 2,    1.726, 2,    0.923, 2,   -999.0, 9,   -999.0, 9,   -999.0, 9,  24.6217,   -999.0, 9, -999.000, 9
318MHYDROS4, A16C, 344, 1, 71, 71, 2, 19890331, 0434, -14.4900, -24.9850, 5529,  -999.00,    109.1,  23.0030,  36.7729, 2,  36.7760, 2,   -999.0, 9,    223.4, 2,     2.24, 2,     0.00, 2,     0.00, 2,     0.22, 2,    1.746, 2,    0.900, 2,   2065.7, 2,   2406.7, 2,    315.7, 2,  22.9806,   -999.0, 9, -999.000, 9
318MHYDROS4, A16C, 344, 1, 5, 5, 2, 19890331, 0434, -14.4900, -24.9850, 5529,  -999.00,    160.1,  20.4722,  36.3756, 2,  36.3670, 2,   -999.0, 9,    196.8, 2,     2.44, 2,     1.56, 2,     0.24, 2,     0.42, 2, -999.000, 9, -999.000, 9,   -999.0, 9,   -999.0, 9,   -999.0, 9,  20.4419,   -999.0, 9, -999.000, 9
318MHYDROS4, A16C, 344, 1, 6, 6, 2, 19890331, 0434, -14.4900, -24.9850, 5529,  -999.00,    211.0,  15.5687,  35.5151, 2,  35.5060, 2,   -999.0, 9,    185.4, 2,     3.91, 2,     8.21, 2,     0.02, 2,     0.74, 2,    1.791, 2,    0.923, 2,   2098.2, 2,   2331.0, 2,    486.6, 2,  15.5358,   -999.0, 9, -999.000, 9
318MHYDROS4, A16C, 344, 1, 7, 7, 2, 19890331, 0434, -14.4900, -24.9850, 5529,  -999.00,    262.0,  13.2128,  35.1965, 2,  35.1970, 2,   -999.0, 9,    167.9, 2,     5.96, 2,    14.17, 2,     0.01, 2,     1.06, 2, -999.000, 9, -999.000, 9,   -999.0, 9,   -999.0, 9,   -999.0, 9,  13.1763,   -999.0, 9, -999.000, 9
318MHYDROS4, A16C, 344, 1, 8, 8, 2, 19890331, 0434, -14.4900, -24.9850, 5529,  -999.00,    312.7,  11.6773,  35.0587, 2,  35.0520, 2,   -999.0, 9,    128.3, 2,     9.38, 2,    21.99, 2,     0.01, 2,     1.51, 2,    0.861, 2,    0.421, 2,   2165.2, 2,   2309.4, 2,    799.2, 2,  11.6370,   -999.0, 9, -999.000, 9
318MHYDROS4, A16C, 344, 1, 9, 9, 2, 19890331, 0434, -14.4900, -24.9850, 5529,  -999.00,    364.3,  10.0008,  34.8862, 2,  34.8870, 2,   -999.0, 9,    113.5, 2,    13.00, 2,    26.87, 2,     0.00, 2,     1.83, 2, -999.000, 9, -999.000, 9,   -999.0, 9,   -999.0, 9,   -999.0, 9,   9.9582,   -999.0, 9, -999.000, 9
318MHYDROS4, A16C, 344, 1, 10, 10, 2, 19890331, 0434, -14.4900, -24.9850, 5529,  -999.00,    415.1,   8.3911,  34.7149, 2,  34.7140, 2,   -999.0, 9,    128.7, 2,    16.52, 2,    28.83, 2,     0.00, 2,     1.95, 2,    0.227, 2,    0.213, 2,   2186.2, 2,   2296.1, 2,    993.7, 2,   8.3475,   -999.0, 9, -999.000, 9
318MHYDROS4, A16C, 344, 1, 11, 11, 2, 19890331, 0434, -14.4900, -24.9850, 5529,  -999.00,    517.0,   6.1925,  34.5097, 2,  34.5130, 2,   -999.0, 9,    157.4, 2,    21.99, 2,    30.89, 2,     0.00, 2,     2.10, 2,    0.132, 2,    0.065, 2,   2187.1, 2,   2294.1, 2,   1010.7, 2,   6.1465,   -999.0, 9, -999.000, 9
318MHYDROS4, A16C, 344, 1, 12, 12, 2, 19890331, 0434, -14.4900, -24.9850, 5529,  -999.00,    670.6,   4.7304,  34.4245, 2,  34.4240, 2,   -999.0, 9,    169.5, 2,    30.01, 2,    32.85, 2,     0.00, 2,     2.27, 2,    0.059, 2,    0.029, 2,   2199.5, 2,   2302.2, 2,   1048.4, 2,   4.6776,   -999.0, 9, -999.000, 9
318MHYDROS4, A16C, 344, 1, 13, 13, 2, 19890331, 0434, -14.4900, -24.9850, 5529,  -999.00,    823.5,   4.0921,  34.4299, 2,  34.4300, 2,   -999.0, 9,    176.9, 2,    35.98, 2,    32.95, 2,     0.00, 2,     2.30, 2,    0.044, 2,    0.016, 2,   2204.5, 2,   -999.0, 9,   -999.0, 9,   4.0304,   -999.0, 9, -999.000, 9
318MHYDROS4, A16C, 344, 1, 14, 14, 2, 19890331, 0434, -14.4900, -24.9850, 5529,  -999.00,    976.5,   3.8197,  34.5124, 2,  34.5120, 2,   -999.0, 9,    174.7, 2,    39.10, 2,    32.65, 2,     0.00, 2,     2.28, 2,    0.008, 2,    0.000, 2,   2209.3, 2,   2311.9, 2,   1058.8, 2,   3.7473,   -999.0, 9, -999.000, 9
318MHYDROS4, A16C, 344, 1, 15, 15, 2, 19890331, 0434, -14.4900, -24.9850, 5529,  -999.00,   1129.3,   3.8460,  34.6302, 2,  34.6270, 2,   -999.0, 9,    180.4, 2,    36.85, 2,    30.79, 2,     0.00, 2,     2.14, 2,    0.002, 2,    0.000, 2,   2210.6, 2,   2319.6, 2,   1018.0, 2,   3.7606,   -999.0, 9, -999.000, 9
318MHYDROS4, A16C, 344, 1, 16, 16, 2, 19890331, 0434, -14.4900, -24.9850, 5529,  -999.00,   1335.4,   4.0585,  34.8104, 2,  34.8080, 2,   -999.0, 9,    197.3, 2,    28.83, 2,    26.68, 2,     0.00, 2,     1.84, 2,    0.001, 2,    0.005, 2,   2188.1, 2,   2314.2, 2,    903.6, 2,   3.9528,   -999.0, 9, -999.000, 9
318MHYDROS4, A16C, 344, 1, 17, 17, 2, 19890331, 0434, -14.4900, -24.9850, 5529,  -999.00,   1541.5,   3.9414,  34.9058, 2,  34.9060, 2,   -999.0, 9,    225.1, 2,    24.24, 2,    23.16, 2,     0.00, 2,     1.58, 2,    0.000, 2,    0.000, 2,   2174.8, 2,   2316.6, 2,    815.8, 2,   3.8182,   -999.0, 9, -999.000, 9
318MHYDROS4, A16C, 344, 1, 18, 18, 2, 19890331, 0434, -14.4900, -24.9850, 5529,  -999.00,   1747.2,   3.6264,  34.9317, 2,  34.9330, 2,   -999.0, 9,    238.1, 2,    24.43, 2,    21.40, 2,     0.00, 2,     1.46, 2,    0.000, 2,    0.000, 2,   2166.1, 2,   2317.6, 2,    767.1, 2,   3.4882,   -999.0, 9, -999.000, 9
318MHYDROS4, A16C, 344, 1, 19, 19, 2, 19890331, 0434, -14.4900, -24.9850, 5529,  -999.00,   1953.1,   3.2875,  34.9238, 2,  34.9240, 2,   -999.0, 9,    242.5, 2,    28.54, 2,    21.30, 2,     0.00, 2,     1.46, 2, -999.000, 9, -999.000, 9,   2167.6, 2,   2317.6, 2,    774.8, 2,   3.1350,   -999.0, 9, -999.000, 9
318MHYDROS4, A16C, 344, 1, 20, 20, 2, 19890331, 0434, -14.4900, -24.9850, 5529,  -999.00,   2159.2,   3.0452,  34.9126, 2,  34.9130, 2,   -999.0, 9,    242.0, 2,    33.32, 2,    21.60, 2,     0.00, 2,     1.47, 2, -999.000, 9, -999.000, 9,   -999.0, 9,   -999.0, 9,   -999.0, 9,   2.8773,   -999.0, 9, -999.000, 9
318MHYDROS4, A16C, 344, 1, 21, 21, 2, 19890331, 0434, -14.4900, -24.9850, 5529,  -999.00,   2417.0,   2.8680,  34.9061, 2,  34.9070, 2,   -999.0, 9,    242.9, 2,    36.94, 2,    21.79, 2,     0.00, 2,     1.48, 2, -999.000, 9, -999.000, 9,   2180.0, 2,   2333.0, 2,    769.8, 2,   2.6787,   -999.0, 9, -999.000, 9
318MHYDROS4, A16C, 344, 1, 22, 22, 2, 19890331, 0434, -14.4900, -24.9850, 5529,  -999.00,   2674.7,   2.7556,  34.9023, 2,  34.9020, 2,   -999.0, 9,    242.9, 2,    39.58, 2,    21.99, 2,     0.00, 2,     1.49, 2,    0.000, 2,    0.000, 2,   -999.0, 9,   -999.0, 9,   -999.0, 9,   2.5432,   -999.0, 9, -999.000, 9
318MHYDROS4, A16C, 344, 1, 23, 23, 2, 19890331, 0434, -14.4900, -24.9850, 5529,  -999.00,   2934.0,   2.6782,  34.8993, 2,  34.8990, 2,   -999.0, 9,    243.3, 2,    41.24, 2,    21.99, 2,     0.00, 2,     1.50, 2, -999.000, 9, -999.000, 9,   2181.1, 2,   2332.8, 2,    776.5, 2,   2.4413,   -999.0, 9, -999.000, 9
318MHYDROS4, A16C, 344, 1, 24, 24, 2, 19890331, 0434, -14.4900, -24.9850, 5529,  -999.00,   3193.6,   2.5948,  34.8960, 2,  34.8950, 2,   -999.0, 9,    244.2, 2,    42.51, 2,    21.99, 2,     0.00, 2,     1.50, 2,    0.000, 2,    0.000, 2,   -999.0, 9,   -999.0, 9,   -999.0, 9,   2.3330,   -999.0, 9, -999.000, 9
318MHYDROS4, A16C, 344, 1, 25, 25, 2, 19890331, 0434, -14.4900, -24.9850, 5529,  -999.00,   3401.4,   2.5017,  34.8915, 2,  34.8930, 2,   -999.0, 9,    245.9, 2,    43.78, 2,    21.99, 2,     0.00, 2,     1.49, 2, -999.000, 9, -999.000, 9,   2179.7, 2,   2334.4, 2,    763.3, 2,   2.2200,   -999.0, 9, -999.000, 9
318MHYDROS4, A16C, 344, 1, 26, 26, 2, 19890331, 0434, -14.4900, -24.9850, 5529,  -999.00,   3609.0,   2.3239,  34.8786, 2,  34.8790, 2,   -999.0, 9,    247.2, 2,    48.86, 2,    22.28, 2,     0.00, 2,     1.52, 2,    0.000, 2,    0.000, 2,   -999.0, 9,   -999.0, 9,   -999.0, 9,   2.0242,   -999.0, 9, -999.000, 9
318MHYDROS4, A16C, 344, 1, 27, 27, 2, 19890331, 0434, -14.4900, -24.9850, 5529,  -999.00,   3816.7,   2.0548,  34.8531, 2,  34.8550, 2,   -999.0, 9,    244.6, 2,    58.05, 2,    23.55, 2,     0.00, 2,     1.61, 2, -999.000, 9, -999.000, 9,   2204.7, 2,   2353.1, 2,    806.1, 2,   1.7396,   -999.0, 9, -999.000, 9
318MHYDROS4, A16C, 344, 1, 28, 28, 2, 19890331, 0434, -14.4900, -24.9850, 5529,  -999.00,   4024.3,   1.6600,  34.8138, 2,  34.8130, 2,   -999.0, 9,    239.4, 2,    72.91, 2,    25.61, 2,     0.00, 2,     1.76, 2,    0.001, 2,    0.000, 2,   -999.0, 9,   -999.0, 9,   -999.0, 9,   1.3331,   -999.0, 9, -999.000, 9
318MHYDROS4, A16C, 344, 1, 29, 29, 2, 19890331, 0434, -14.4900, -24.9850, 5529,  -999.00,   4232.5,   1.3321,  34.7803, 2,  34.7800, 2,   -999.0, 9,    234.6, 2,    86.30, 2,    27.27, 2,     0.00, 2,     1.89, 2, -999.000, 9, -999.000, 9,   2223.4, 2,   2357.1, 2,    892.9, 2,   0.9919,   -999.0, 9, -999.000, 9
318MHYDROS4, A16C, 344, 1, 30, 30, 2, 19890331, 0434, -14.4900, -24.9850, 5529,  -999.00,   4441.3,   1.1175,  34.7572, 2,  34.7570, 2,   -999.0, 9,    231.1, 2,    94.80, 2,    28.54, 2,     0.00, 2,     1.97, 2,    0.002, 2,    0.000, 2,   -999.0, 9,   -999.0, 9,   -999.0, 9,   0.7605,   -999.0, 9, -999.000, 9
318MHYDROS4, A16C, 344, 1, 31, 31, 2, 19890331, 0434, -14.4900, -24.9850, 5529,  -999.00,   4649.7,   0.9265,  34.7366, 2,  34.7370, 2,   -999.0, 9,    228.1, 2,   102.04, 2,    29.52, 2,     0.00, 2,     2.05, 2, -999.000, 9, -999.000, 9,   2238.4, 2,   2364.4, 2,    946.4, 2,   0.5522,   -999.0, 9, -999.000, 9
318MHYDROS4, A16C, 344, 1, 32, 32, 2, 19890331, 0434, -14.4900, -24.9850, 5529,  -999.00,   4858.4,   0.8133,  34.7234, 2, -999.0000, 9,   -999.0, 9,    226.8, 2,   107.61, 2,    30.40, 2,     0.00, 2,     2.11, 2,    0.004, 2,    0.000, 2,   -999.0, 9,   -999.0, 9,   -999.0, 9,   0.4187,   -999.0, 9, -999.000, 9
318MHYDROS4, A16C, 344, 1, 33, 33, 2, 19890331, 0434, -14.4900, -24.9850, 5529,  -999.00,   5067.1,   0.7509,  34.7149, 2,  34.7120, 2,   -999.0, 9,    225.1, 2,   110.15, 2,    30.79, 2,     0.00, 2,     2.14, 2, -999.000, 9, -999.000, 9,   2244.8, 2,   2365.1, 2,    984.4, 2,   0.3340,   -999.0, 9, -999.000, 9
318MHYDROS4, A16C, 344, 1, 34, 34, 2, 19890331, 0434, -14.4900, -24.9850, 5529,  -999.00,   5276.0,   0.7031,  34.7078, 2,  34.7070, 2,   -999.0, 9,    224.6, 2,   113.18, 2,    31.08, 2,     0.00, 2,     2.16, 2,    0.004, 2,    0.005, 2,   -999.0, 9,   -999.0, 9,   -999.0, 9,   0.2630,   -999.0, 9, -999.000, 9
318MHYDROS4, A16C, 344, 1, 35, 35, 2, 19890331, 0434, -14.4900, -24.9850, 5529,  -999.00,   5484.8,   0.6780,  34.7025, 2,  34.7020, 2,   -999.0, 9,    223.3, 2,   115.72, 2,    31.37, 2,     0.00, 2,     2.18, 2,    0.008, 2,    0.005, 2,   2248.1, 2,   2365.4, 2,   1005.5, 2,   0.2133,   5482.7, 2,    0.671, 2
318MHYDROS4, A16C, 344, 1, 36, 36, 2, 19890331, 0434, -14.4900, -24.9850, 5529,  -999.00,   5675.8,   0.6671,  34.6988, 2,  34.6980, 2,   -999.0, 9,    222.9, 2,   117.58, 2,    31.77, 2,     0.00, 2,     2.19, 2,    0.007, 2,    0.011, 2,   2257.4, 2,   2374.8, 2,   1010.8, 2,   0.1791,   -999.0, 9, -999.000, 9