BOTTLE,20110318CCHDOSIODM
EXPOCODE,SECT_ID,STNNBR,CASTNO,SAMPNO,BTLNBR,BTLNBR_FLAG_W,DATE,TIME,LATITUDE,LONGITUDE,DEPTH,CTDRAW,CTDPRS,CTDTMP,CTDSAL,CTDSAL_FLAG_W,SALNTY,SALNTY_FLAG_W,CTDOXY,CTDOXY_FLAG_W,OXYGEN,OXYGEN_FLAG_W,SILCAT,SILCAT_FLAG_W,NITRAT,NITRAT_FLAG_W,NITRIT,NITRIT_FLAG_W,PHSPHT,PHSPHT_FLAG_W,CFC-11,CFC-11_FLAG_W,CFC-12,CFC-12_FLAG_W,TCARBN,TCARBN_FLAG_W,ALKALI,ALKALI_FLAG_W,PCO2,PCO2_FLAG_W,THETA,REVPRS,REVPRS_FLAG_W,REVTMP,REVTMP_FLAG_W
,,,,,,,,,,,METERS,DBAR,DBAR,ITS-90,PSS-78,,PSS-78,,UMOL/KG,,UMOL/KG,,UMOL/KG,,UMOL/KG,,UMOL/KG,,UMOL/KG,,PMOL/KG,,PMOL/KG,,UMOL/KG,,UMOL/KG,,UATM,,DEG C,DBAR,,ITS-90,
318MHYDROS4, A16C, 317, 1, 1, 1, 2, 19890322, 1112, -30.2200, -25.0467, 4339,  -999.00,      0.2,  24.1697,  36.2157, 2,  36.2317, 2,   -999.0, 9,    218.3, 2,     1.67, 2,     0.01, 2,     0.00, 2,     0.08, 2, -999.000, 9, -999.000, 9,   2035.7, 2,   2378.3, 2,    300.8, 2,  24.1697,   -999.0, 9, -999.000, 9
318MHYDROS4, A16C, 317, 1, 2, 2, 2, 19890322, 1112, -30.2200, -25.0467, 4339,  -999.00,     30.1,  24.1742,  36.2161, 2,  36.2170, 2,   -999.0, 9,    212.4, 2,     1.66, 2,     0.01, 2,     0.00, 2,     0.06, 2, -999.000, 9, -999.000, 9,   2029.2, 2,   -999.0, 9,   -999.0, 9,  24.1678,   -999.0, 9, -999.000, 9
318MHYDROS4, A16C, 317, 1, 3, 3, 2, 19890322, 1112, -30.2200, -25.0467, 4339,  -999.00,     61.2,  21.5118,  36.1865, 2,  36.1813, 2,   -999.0, 9,    233.2, 2,     1.65, 2,     0.01, 2,     0.00, 2,     0.09, 2, -999.000, 9, -999.000, 9,   -999.0, 9,   -999.0, 9,   -999.0, 9,  21.4999,   -999.0, 9, -999.000, 9
318MHYDROS4, A16C, 317, 1, 71, 71, 2, 19890322, 1112, -30.2200, -25.0467, 4339,  -999.00,     97.0,  18.9693,  36.0555, 2,  36.0533, 2,   -999.0, 9,    223.2, 2,     1.64, 2,     0.01, 2,     0.00, 2,     0.13, 2, -999.000, 9, -999.000, 9,   -999.0, 9,   -999.0, 9,   -999.0, 9,  18.9519,   -999.0, 9, -999.000, 9
318MHYDROS4, A16C, 317, 1, 5, 5, 2, 19890322, 1112, -30.2200, -25.0467, 4339,  -999.00,    153.6,  16.9280,  35.7104, 2,  35.6951, 2,   -999.0, 9,    218.3, 2,     1.83, 2,     0.78, 2,     0.02, 2,     0.27, 2, -999.000, 9, -999.000, 9,   -999.0, 9,   -999.0, 9,   -999.0, 9,  16.9027,   -999.0, 9, -999.000, 9
318MHYDROS4, A16C, 317, 1, 6, 6, 2, 19890322, 1112, -30.2200, -25.0467, 4339,  -999.00,    199.7,  15.3849,  35.4787, 2,  35.4742, 2,   -999.0, 9,    213.1, 2,     2.59, 2,     3.65, 2,     0.01, 2,     0.44, 2, -999.000, 9, -999.000, 9,   -999.0, 9,   -999.0, 9,   -999.0, 9,  15.3540,   -999.0, 9, -999.000, 9
318MHYDROS4, A16C, 317, 1, 7, 7, 2, 19890322, 1112, -30.2200, -25.0467, 4339,  -999.00,    245.3,  14.6245,  35.4200, 2,  35.4185, 2,   -999.0, 9,    216.7, 2,     2.78, 2,     4.89, 2,     0.00, 2,     0.49, 2, -999.000, 9, -999.000, 9,   -999.0, 9,   -999.0, 9,   -999.0, 9,  14.5878,   -999.0, 9, -999.000, 9
318MHYDROS4, A16C, 317, 1, 8, 8, 2, 19890322, 1112, -30.2200, -25.0467, 4339,  -999.00,    296.8,  14.3138,  35.4272, 2,  35.4246, 2,   -999.0, 9,    220.9, 2,     2.77, 2,     5.29, 2,     0.00, 2,     0.50, 2, -999.000, 9, -999.000, 9,   -999.0, 9,   -999.0, 9,   -999.0, 9,  14.2699,   -999.0, 9, -999.000, 9
318MHYDROS4, A16C, 317, 1, 9, 9, 2, 19890322, 1112, -30.2200, -25.0467, 4339,  -999.00,    347.2,  13.6544,  35.3308, 2,  35.3343, 2,   -999.0, 9,    220.1, 2,     3.15, 2,     6.77, 2,     0.00, 2,     0.60, 2, -999.000, 9, -999.000, 9,   -999.0, 9,   -999.0, 9,   -999.0, 9,  13.6046,   -999.0, 9, -999.000, 9
318MHYDROS4, A16C, 317, 1, 10, 10, 2, 19890322, 1112, -30.2200, -25.0467, 4339,  -999.00,    396.2,  12.4804,  35.1234, 2,  35.1226, 2,   -999.0, 9,    209.3, 2,     4.68, 2,    10.73, 2,     0.00, 2,     0.84, 2, -999.000, 9, -999.000, 9,   -999.0, 9,   -999.0, 9,   -999.0, 9,  12.4269,   -999.0, 9, -999.000, 9
318MHYDROS4, A16C, 317, 1, 11, 11, 2, 19890322, 1112, -30.2200, -25.0467, 4339,  -999.00,    496.3,  10.7380,  34.8954, 2,  34.8989, 2,   -999.0, 9,    204.9, 2,     6.60, 2,    15.28, 2,     0.00, 2,     1.11, 2, -999.000, 9, -999.000, 9,   -999.0, 9,   -999.0, 9,   -999.0, 9,  10.6769,   -999.0, 9, -999.000, 9
318MHYDROS4, A16C, 317, 1, 12, 12, 2, 19890322, 1112, -30.2200, -25.0467, 4339,  -999.00,    595.6,   8.5492,  34.6415, 2,  34.6437, 2,   -999.0, 9,    204.0, 2,    10.45, 2,    21.17, 2,     0.00, 2,     1.45, 2, -999.000, 9, -999.000, 9,   -999.0, 9,   -999.0, 9,   -999.0, 9,   8.4853,   -999.0, 9, -999.000, 9
318MHYDROS4, A16C, 317, 1, 13, 13, 2, 19890322, 1112, -30.2200, -25.0467, 4339,  -999.00,    694.9,   6.8103,  34.4696, 2,  34.4702, 2,   -999.0, 9,    210.5, 2,    14.29, 2,    25.10, 2,     0.00, 2,     1.71, 2, -999.000, 9, -999.000, 9,   -999.0, 9,   -999.0, 9,   -999.0, 9,   6.7444,   -999.0, 9, -999.000, 9
318MHYDROS4, A16C, 317, 1, 14, 14, 2, 19890322, 1112, -30.2200, -25.0467, 4339,  -999.00,    796.6,   5.3185,  34.3430, 2,  34.3448, 2,   -999.0, 9,    224.2, 2,    18.33, 2,    27.20, 2,     0.00, 2,     1.86, 2, -999.000, 9, -999.000, 9,   -999.0, 9,   -999.0, 9,   -999.0, 9,   5.2516,   -999.0, 9, -999.000, 9
318MHYDROS4, A16C, 317, 1, 15, 15, 2, 19890322, 1112, -30.2200, -25.0467, 4339,  -999.00,    894.7,   4.4135,  34.3021, 2,  34.3008, 2,   -999.0, 9,    224.5, 2,    24.30, 2,    29.60, 2,     0.00, 2,     1.99, 2, -999.000, 9, -999.000, 9,   -999.0, 9,   -999.0, 9,   -999.0, 9,   4.3440,   -999.0, 9, -999.000, 9
318MHYDROS4, A16C, 317, 1, 16, 16, 2, 19890322, 1112, -30.2200, -25.0467, 4339,  -999.00,    996.7,   3.7900,  34.3104, 2,  34.3092, 2,   -999.0, 9,    217.3, 2,    32.00, 2,    31.10, 2,     0.00, 2,     2.12, 2, -999.000, 9, -999.000, 9,   -999.0, 9,   -999.0, 9,   -999.0, 9,   3.7165,   -999.0, 9, -999.000, 9
318MHYDROS4, A16C, 317, 1, 17, 17, 2, 19890322, 1112, -30.2200, -25.0467, 4339,  -999.00,   1093.6,   3.3752,  34.3522, 2,  34.3522, 2,   -999.0, 9,    206.7, 2,    41.05, 2,    32.36, 2,     0.00, 2,     2.20, 2, -999.000, 9, -999.000, 9,   -999.0, 9,   -999.0, 9,   -999.0, 9,   3.2973,   -999.0, 9, -999.000, 9
318MHYDROS4, A16C, 317, 1, 18, 18, 2, 19890322, 1112, -30.2200, -25.0467, 4339,  -999.00,   1193.3,   3.1948,  34.4117, 2,  34.4115, 2,   -999.0, 9,    196.9, 2,    47.41, 2,    32.83, 2,     0.00, 2,     2.27, 2, -999.000, 9, -999.000, 9,   -999.0, 9,   -999.0, 9,   -999.0, 9,   3.1103,   -999.0, 9, -999.000, 9
318MHYDROS4, A16C, 317, 1, 19, 19, 2, 19890322, 1112, -30.2200, -25.0467, 4339,  -999.00,   1295.4,   3.1063,  34.4892, 2,  34.4898, 2,   -999.0, 9,    188.1, 2,    52.60, 2,    33.09, 2,     0.00, 2,     2.27, 2, -999.000, 9, -999.000, 9,   -999.0, 9,   -999.0, 9,   -999.0, 9,   3.0144,   -999.0, 9, -999.000, 9
318MHYDROS4, A16C, 317, 1, 20, 20, 2, 19890322, 1112, -30.2200, -25.0467, 4339,  -999.00,   1393.5,   3.0136,  34.5512, 2,  34.5499, 2,   -999.0, 9,    186.8, 2,    54.91, 2,    32.66, 2,     0.00, 2,     2.22, 2, -999.000, 9, -999.000, 9,   -999.0, 9,   -999.0, 9,   -999.0, 9,   2.9145,   -999.0, 9, -999.000, 9
318MHYDROS4, A16C, 317, 1, 21, 21, 2, 19890322, 1112, -30.2200, -25.0467, 4339,  -999.00,   1486.0,   2.9731,  34.5991, 2,  34.5987, 2,   -999.0, 9,    189.2, 2,    55.10, 2,    31.83, 2,     0.00, 2,     2.15, 2, -999.000, 9, -999.000, 9,   -999.0, 9,   -999.0, 9,   -999.0, 9,   2.8667,   -999.0, 9, -999.000, 9
318MHYDROS4, A16C, 317, 1, 22, 22, 2, 19890322, 1112, -30.2200, -25.0467, 4339,  -999.00,   1594.0,   2.8740,  34.6518, 2,  34.6518, 2,   -999.0, 9,    192.5, 2,    55.67, 2,    30.95, 2,     0.00, 2,     2.10, 2, -999.000, 9, -999.000, 9,   -999.0, 9,   -999.0, 9,   -999.0, 9,   2.7596,   -999.0, 9, -999.000, 9
318MHYDROS4, A16C, 317, 1, 23, 23, 2, 19890322, 1112, -30.2200, -25.0467, 4339,  -999.00,   1789.8,   2.7832,  34.7337, 2,  34.7330, 2,   -999.0, 9,    204.2, 2,    54.50, 2,    28.77, 2,     0.00, 2,     1.96, 2, -999.000, 9, -999.000, 9,   -999.0, 9,   -999.0, 9,   -999.0, 9,   2.6530,   -999.0, 9, -999.000, 9
318MHYDROS4, A16C, 317, 1, 24, 24, 2, 19890322, 1112, -30.2200, -25.0467, 4339,  -999.00,   2014.5,   2.7162,  34.7986, 2,  34.7974, 2,   -999.0, 9,    217.8, 2,    51.03, 2,    26.49, 2,     0.00, 2,     1.81, 2, -999.000, 9, -999.000, 9,   -999.0, 9,   -999.0, 9,   -999.0, 9,   2.5671,   -999.0, 9, -999.000, 9
318MHYDROS4, A16C, 317, 1, 25, 25, 2, 19890322, 1112, -30.2200, -25.0467, 4339,  -999.00,   2189.5,   2.7145,  34.8329, 2,  34.8332, 2,   -999.0, 9,    226.9, 2,    46.97, 2,    24.86, 2,     0.00, 2,     1.70, 2, -999.000, 9, -999.000, 9,   -999.0, 9,   -999.0, 9,   -999.0, 9,   2.5495,   -999.0, 9, -999.000, 9
318MHYDROS4, A16C, 317, 1, 26, 26, 2, 19890322, 1112, -30.2200, -25.0467, 4339,  -999.00,   2399.5,   2.7502,  34.8662, 2,  34.8661, 2,   -999.0, 9,    236.2, 2,    42.15, 2,    23.38, 2,     0.00, 2,     1.59, 2, -999.000, 9, -999.000, 9,   -999.0, 9,   -999.0, 9,   -999.0, 9,   2.5648,   -999.0, 9, -999.000, 9
318MHYDROS4, A16C, 317, 1, 27, 27, 2, 19890322, 1112, -30.2200, -25.0467, 4339,  -999.00,   2600.3,   2.7283,  34.8823, 2,  34.8828, 2,   -999.0, 9,    241.8, 2,    40.79, 2,    22.69, 2,     0.00, 2,     1.53, 2, -999.000, 9, -999.000, 9,   -999.0, 9,   -999.0, 9,   -999.0, 9,   2.5239,   -999.0, 9, -999.000, 9
318MHYDROS4, A16C, 317, 1, 28, 28, 2, 19890322, 1112, -30.2200, -25.0467, 4339,  -999.00,   2798.8,   2.7395,  34.9031, 2,  34.9029, 2,   -999.0, 9,    248.1, 2,    36.16, 2,    21.41, 2,     0.00, 2,     1.45, 2, -999.000, 9, -999.000, 9,   -999.0, 9,   -999.0, 9,   -999.0, 9,   2.5151,   -999.0, 9, -999.000, 9
318MHYDROS4, A16C, 317, 1, 29, 29, 2, 19890322, 1112, -30.2200, -25.0467, 4339,  -999.00,   3001.9,   2.6894,  34.9048, 2,  34.9046, 2,   -999.0, 9,    249.3, 2,    37.31, 2,    21.52, 2,     0.00, 2,     1.44, 2, -999.000, 9, -999.000, 9,   -999.0, 9,   -999.0, 9,   -999.0, 9,   2.4453,   -999.0, 9, -999.000, 9
318MHYDROS4, A16C, 317, 1, 30, 30, 2, 19890322, 1112, -30.2200, -25.0467, 4339,  -999.00,   3199.4,   2.5674,  34.8976, 2,  34.8973, 2,   -999.0, 9,    249.7, 2,    40.58, 2,    21.83, 2,     0.00, 2,     1.47, 2, -999.000, 9, -999.000, 9,   -999.0, 9,   -999.0, 9,   -999.0, 9,   2.3055,   -999.0, 9, -999.000, 9
318MHYDROS4, A16C, 317, 1, 31, 31, 2, 19890322, 1112, -30.2200, -25.0467, 4339,  -999.00,   3397.5,   2.3636,  34.8800, 2,  34.8799, 2,   -999.0, 9,    247.5, 2,    47.52, 2,    22.64, 2,     0.00, 2,     1.53, 2, -999.000, 9, -999.000, 9,   -999.0, 9,   -999.0, 9,   -999.0, 9,   2.0857,   -999.0, 9, -999.000, 9
318MHYDROS4, A16C, 317, 1, 32, 32, 2, 19890322, 1112, -30.2200, -25.0467, 4339,  -999.00,   3598.4,   2.0766,  34.8531, 2,  34.8523, 2,   -999.0, 9,    243.5, 2,    58.51, 2,    24.30, 2,     0.00, 2,     1.63, 2, -999.000, 9, -999.000, 9,   -999.0, 9,   -999.0, 9,   -999.0, 9,   1.7845,   -999.0, 9, -999.000, 9
318MHYDROS4, A16C, 317, 1, 33, 33, 2, 19890322, 1112, -30.2200, -25.0467, 4339,  -999.00,   3799.0,   1.7259,  34.8160, 2,  34.8153, 2,   -999.0, 9,    237.0, 2,    72.39, 2,    26.07, 2,     0.00, 2,     1.77, 2, -999.000, 9, -999.000, 9,   -999.0, 9,   -999.0, 9,   -999.0, 9,   1.4217,   -999.0, 9, -999.000, 9
318MHYDROS4, A16C, 317, 1, 34, 34, 2, 19890322, 1112, -30.2200, -25.0467, 4339,  -999.00,   3995.1,   1.4454,  34.7864, 2,  34.7854, 2,   -999.0, 9,    232.3, 2,    84.35, 2,    27.78, 2,     0.00, 2,     1.86, 2, -999.000, 9, -999.000, 9,   -999.0, 9,   -999.0, 9,   -999.0, 9,   1.1279,   -999.0, 9, -999.000, 9
318MHYDROS4, A16C, 317, 1, 35, 35, 2, 19890322, 1112, -30.2200, -25.0467, 4339,  -999.00,   4183.8,   1.3132,  34.7696, 2,  34.7680, 2,   -999.0, 9,    229.0, 2,    90.90, 2,    28.95, 2,     0.00, 2,     1.96, 2, -999.000, 9, -999.000, 9,   -999.0, 9,   -999.0, 9,   -999.0, 9,   0.9790,   4178.9, 2,    1.309, 2
318MHYDROS4, A16C, 317, 1, 36, 36, 2, 19890322, 1112, -30.2200, -25.0467, 4339,  -999.00,   4382.4,   1.2627,  34.7615, 2,  34.7597, 2,   -999.0, 9,    226.9, 2,    93.79, 2,    29.17, 2,     0.00, 2,     1.98, 2, -999.000, 9, -999.000, 9,   -999.0, 9,   -999.0, 9,   -999.0, 9,   0.9079,   -999.0, 9, -999.000, 9