BOTTLE,20110318CCHDOSIODM
EXPOCODE,SECT_ID,STNNBR,CASTNO,SAMPNO,BTLNBR,BTLNBR_FLAG_W,DATE,TIME,LATITUDE,LONGITUDE,DEPTH,CTDRAW,CTDPRS,CTDTMP,CTDSAL,CTDSAL_FLAG_W,SALNTY,SALNTY_FLAG_W,CTDOXY,CTDOXY_FLAG_W,OXYGEN,OXYGEN_FLAG_W,SILCAT,SILCAT_FLAG_W,NITRAT,NITRAT_FLAG_W,NITRIT,NITRIT_FLAG_W,PHSPHT,PHSPHT_FLAG_W,CFC-11,CFC-11_FLAG_W,CFC-12,CFC-12_FLAG_W,TCARBN,TCARBN_FLAG_W,ALKALI,ALKALI_FLAG_W,PCO2,PCO2_FLAG_W,THETA,REVPRS,REVPRS_FLAG_W,REVTMP,REVTMP_FLAG_W
,,,,,,,,,,,METERS,DBAR,DBAR,ITS-90,PSS-78,,PSS-78,,UMOL/KG,,UMOL/KG,,UMOL/KG,,UMOL/KG,,UMOL/KG,,UMOL/KG,,PMOL/KG,,PMOL/KG,,UMOL/KG,,UMOL/KG,,UATM,,DEG C,DBAR,,ITS-90,
318MHYDROS4, A16C, 334, 1, 1, 1, 2, 19890327, 2008, -20.3183, -25.0283, 5147,  -999.00,      0.8,  27.9472,  37.2000, 2,  37.2040, 2,   -999.0, 9,    205.4, 2,     1.95, 2,     0.00, 2,     0.00, 2,     0.19, 2,    1.514, 2,    0.767, 2,   2069.2, 2,   2438.4, 2,    290.1, 2,  27.9470,   -999.0, 9, -999.000, 9
318MHYDROS4, A16C, 334, 1, 2, 2, 2, 19890327, 2008, -20.3183, -25.0283, 5147,  -999.00,     35.7,  27.6251,  37.2134, 2,  37.2340, 2,   -999.0, 9,    209.3, 2,     2.34, 2,     0.00, 2,     0.00, 2,     0.17, 2, -999.000, 9, -999.000, 9,   2070.8, 2,   2446.7, 2,    284.2, 2,  27.6167,   -999.0, 9, -999.000, 9
318MHYDROS4, A16C, 334, 1, 3, 3, 2, 19890327, 2008, -20.3183, -25.0283, 5147,  -999.00,     66.5,  24.3456,  36.9211, 2,  36.9250, 2,   -999.0, 9,    225.7, 2,     2.34, 2,     0.00, 2,     0.00, 2,     0.19, 2,    1.777, 2,    0.892, 2,   -999.0, 9,   -999.0, 9,   -999.0, 9,  24.3314,   -999.0, 9, -999.000, 9
318MHYDROS4, A16C, 334, 1, 71, 71, 2, 19890327, 2008, -20.3183, -25.0283, 5147,  -999.00,    107.5,  22.9062,  36.7926, 2,  36.7950, 2,   -999.0, 9,    220.0, 2,     2.34, 2,     0.00, 2,     0.00, 2,     0.20, 2,    1.796, 2,    0.904, 2,   2076.5, 2,   2420.5, 2,    315.5, 2,  22.8842,   -999.0, 9, -999.000, 9
318MHYDROS4, A16C, 334, 1, 5, 5, 2, 19890327, 2008, -20.3183, -25.0283, 5147,  -999.00,    158.6,  21.7724,  36.6643, 2,  36.6240, 2,   -999.0, 9,    213.4, 2,     2.34, 2,     0.00, 2,     0.05, 2,     0.20, 2, -999.000, 9, -999.000, 9,   -999.0, 9,   -999.0, 9,   -999.0, 9,  21.7410,   -999.0, 9, -999.000, 9
318MHYDROS4, A16C, 334, 1, 6, 6, 2, 19890327, 2008, -20.3183, -25.0283, 5147,  -999.00,    209.6,  18.0125,  35.9182, 2,  35.9040, 2,   -999.0, 9,    201.5, 2,     2.64, 2,     2.25, 2,     0.01, 2,     0.39, 2,    1.909, 2,    0.964, 2,   2086.2, 2,   2362.6, 2,    402.5, 2,  17.9763,   -999.0, 9, -999.000, 9
318MHYDROS4, A16C, 334, 1, 7, 7, 2, 19890327, 2008, -20.3183, -25.0283, 5147,  -999.00,    261.0,  15.3969,  35.4787, 2,  35.4730, 2,   -999.0, 9,    202.8, 2,     3.22, 2,     5.67, 2,     0.00, 2,     0.57, 2, -999.000, 9, -999.000, 9,   2086.9, 2,   2333.3, 2,    452.6, 2,  15.3564,   -999.0, 9, -999.000, 9
318MHYDROS4, A16C, 334, 1, 8, 8, 2, 19890327, 2008, -20.3183, -25.0283, 5147,  -999.00,    312.0,  13.7937,  35.2544, 2,  35.2510, 2,   -999.0, 9,    200.6, 2,     4.20, 2,     8.89, 2,     0.00, 2,     0.74, 2,    1.806, 2,    0.885, 2,   2099.9, 2,   2324.6, 2,    502.2, 2,  13.7488,   -999.0, 9, -999.000, 9
318MHYDROS4, A16C, 334, 1, 9, 9, 2, 19890327, 2008, -20.3183, -25.0283, 5147,  -999.00,    414.1,  11.1840,  34.9579, 2,  34.9460, 2,   -999.0, 9,    175.7, 2,     8.31, 2,    17.69, 2,     0.00, 2,     1.27, 2,    1.175, 2,    0.562, 2,   2133.0, 2,   2301.8, 2,    678.7, 2,  11.1319,   -999.0, 9, -999.000, 9
318MHYDROS4, A16C, 334, 1, 10, 10, 2, 19890327, 2008, -20.3183, -25.0283, 5147,  -999.00,    516.1,   8.4398,  34.6674, 2,  34.6670, 2,   -999.0, 9,    173.5, 2,    13.98, 2,    24.24, 2,     0.00, 2,     1.67, 2,    0.694, 2,    0.337, 2,   2160.4, 2,   2300.1, 2,    812.2, 2,   8.3850,   -999.0, 9, -999.000, 9
318MHYDROS4, A16C, 334, 1, 11, 11, 2, 19890327, 2008, -20.3183, -25.0283, 5147,  -999.00,    618.1,   6.3148,  34.4836, 2,  34.4890, 2,   -999.0, 9,    177.4, 2,    20.72, 2,    28.94, 2,     0.00, 2,     1.98, 2,    0.379, 2,    0.189, 2,   2181.0, 2,   2301.0, 2,    926.5, 2,   6.2589,   -999.0, 9, -999.000, 9
318MHYDROS4, A16C, 334, 1, 12, 12, 2, 19890327, 2008, -20.3183, -25.0283, 5147,  -999.00,    720.0,   5.1025,  34.4131, 2,  34.4130, 2,   -999.0, 9,    181.3, 2,    26.79, 2,    31.28, 2,     0.00, 2,     2.13, 2,    0.188, 2,    0.093, 2,   2191.2, 2,   2303.6, 2,    978.7, 2,   5.0435,   -999.0, 9, -999.000, 9
318MHYDROS4, A16C, 334, 1, 13, 13, 2, 19890327, 2008, -20.3183, -25.0283, 5147,  -999.00,    820.9,   4.1618,  34.4048, 2,  34.4050, 2,   -999.0, 9,    183.9, 2,    35.19, 2,    32.46, 2,     0.00, 2,     2.23, 2, -999.000, 9,    0.033, 2,   2201.5, 2,   2306.9, 2,   1031.8, 2,   4.0999,   -999.0, 9, -999.000, 9
318MHYDROS4, A16C, 334, 1, 14, 14, 2, 19890327, 2008, -20.3183, -25.0283, 5147,  -999.00,    923.7,   3.7227,  34.4451, 2,  34.4450, 2,   -999.0, 9,    185.2, 2,    40.47, 2,    32.65, 2,     0.00, 2,     2.25, 2,    0.039, 2,    0.018, 2,   2207.9, 2,   2312.1, 2,   1046.0, 2,   3.6555,   -999.0, 9, -999.000, 9
318MHYDROS4, A16C, 334, 1, 15, 15, 2, 19890327, 2008, -20.3183, -25.0283, 5147,  -999.00,   1026.0,   3.5591,  34.5069, 2,  34.5050, 2,   -999.0, 9,    185.2, 2,    43.21, 2,    32.26, 2,     0.00, 2,     2.22, 2,    0.016, 2,    0.011, 2,   2206.0, 2,   2310.7, 2,   1042.8, 2,   3.4847,   -999.0, 9, -999.000, 9
318MHYDROS4, A16C, 334, 1, 16, 16, 2, 19890327, 2008, -20.3183, -25.0283, 5147,  -999.00,   1128.5,   3.5719,  34.5926, 2,  34.5910, 2,   -999.0, 9,    186.9, 2,    42.62, 2,    31.18, 2,     0.00, 2,     2.13, 2, -999.000, 9, -999.000, 9,   -999.0, 9,   -999.0, 9,   -999.0, 9,   3.4889,   -999.0, 9, -999.000, 9
318MHYDROS4, A16C, 334, 1, 17, 17, 2, 19890327, 2008, -20.3183, -25.0283, 5147,  -999.00,   1333.1,   3.7350,  34.7650, 2,  34.7630, 2,   -999.0, 9,    199.5, 2,    35.58, 2,    27.66, 2,     0.00, 2,     1.89, 2,    0.002, 2,    0.000, 2,   2197.4, 2,   2320.4, 2,    926.9, 2,   3.6330,   -999.0, 9, -999.000, 9
318MHYDROS4, A16C, 334, 1, 18, 18, 2, 19890327, 2008, -20.3183, -25.0283, 5147,  -999.00,   1538.5,   3.4813,  34.8396, 2,  34.8380, 2,   -999.0, 9,    219.0, 2,    35.57, 2,    25.12, 2,     0.00, 2,     1.71, 2, -999.000, 9, -999.000, 9,   -999.0, 9,   -999.0, 9,   -999.0, 9,   3.3640,   -999.0, 9, -999.000, 9
318MHYDROS4, A16C, 334, 1, 19, 19, 2, 19890327, 2008, -20.3183, -25.0283, 5147,  -999.00,   1745.1,   3.4882,  34.9192, 2,  34.9200, 2,   -999.0, 9,    239.0, 2,    27.46, 2,    21.79, 2,     0.00, 2,     1.47, 2,    0.003, 2,    0.000, 2,   2174.1, 2,   2323.8, 2,    779.3, 2,   3.3521,   -999.0, 9, -999.000, 9
318MHYDROS4, A16C, 334, 1, 20, 20, 2, 19890327, 2008, -20.3183, -25.0283, 5147,  -999.00,   1951.5,   3.3332,  34.9368, 2,  34.9380, 2,   -999.0, 9,    248.1, 2,    25.80, 2,    20.72, 2,     0.00, 2,     1.39, 2, -999.000, 9, -999.000, 9,   -999.0, 9,   -999.0, 9,   -999.0, 9,   3.1802,   -999.0, 9, -999.000, 9
318MHYDROS4, A16C, 334, 1, 21, 21, 2, 19890327, 2008, -20.3183, -25.0283, 5147,  -999.00,   2157.8,   3.1723,  34.9382, 2,  34.9380, 2,   -999.0, 9,    251.6, 2,    26.87, 2,    20.33, 2,     0.00, 2,     1.36, 2,    0.007, 2,    0.000, 2,   2170.8, 2,   2328.5, 2,    743.4, 2,   3.0024,   -999.0, 9, -999.000, 9
318MHYDROS4, A16C, 334, 1, 22, 22, 2, 19890327, 2008, -20.3183, -25.0283, 5147,  -999.00,   2364.3,   3.0252,  34.9323, 2,  34.9320, 2,   -999.0, 9,    252.0, 2,    29.51, 2,    20.42, 2,     0.00, 2,     1.37, 2,    0.000, 2,    0.000, 2,   -999.0, 9,   -999.0, 9,   -999.0, 9,   2.8380,   -999.0, 9, -999.000, 9
318MHYDROS4, A16C, 334, 1, 23, 23, 2, 19890327, 2008, -20.3183, -25.0283, 5147,  -999.00,   2570.5,   2.9234,  34.9279, 2,  34.9280, 2,   -999.0, 9,    252.0, 2,    30.78, 2,    20.62, 2,     0.00, 2,     1.38, 2,    0.002, 2,    0.000, 2,   2172.5, 2,   2329.3, 2,    748.6, 2,   2.7180,   -999.0, 9, -999.000, 9
318MHYDROS4, A16C, 334, 1, 24, 24, 2, 19890327, 2008, -20.3183, -25.0283, 5147,  -999.00,   2777.4,   2.8219,  34.9228, 2,  34.9240, 2,   -999.0, 9,    252.4, 2,    32.54, 2,    20.62, 2,     0.00, 2,     1.39, 2, -999.000, 9, -999.000, 9,   -999.0, 9,   -999.0, 9,   -999.0, 9,   2.5978,   -999.0, 9, -999.000, 9
318MHYDROS4, A16C, 334, 1, 25, 25, 2, 19890327, 2008, -20.3183, -25.0283, 5147,  -999.00,   2984.7,   2.7394,  34.9182, 2,  34.9200, 2,   -999.0, 9,    252.9, 2,    34.01, 2,    20.62, 2,     0.00, 2,     1.38, 2,    0.010, 2,    0.004, 2,   2168.8, 2,   2325.1, 2,    748.9, 2,   2.4960,   -999.0, 9, -999.000, 9
318MHYDROS4, A16C, 334, 1, 26, 26, 2, 19890327, 2008, -20.3183, -25.0283, 5147,  -999.00,   3191.5,   2.6396,  34.9126, 2,  34.9130, 2,   -999.0, 9,    253.7, 2,    35.38, 2,    20.72, 2,     0.00, 2,     1.38, 2, -999.000, 9, -999.000, 9,   -999.0, 9,   -999.0, 9,   -999.0, 9,   2.3768,   -999.0, 9, -999.000, 9
318MHYDROS4, A16C, 334, 1, 27, 27, 2, 19890327, 2008, -20.3183, -25.0283, 5147,  -999.00,   3398.8,   2.4988,  34.9012, 2,  34.9020, 2,   -999.0, 9,    253.3, 2,    38.89, 2,    21.01, 2,     0.00, 2,     1.42, 2, -999.000, 9, -999.000, 9,   2175.2, 2,   2330.7, 2,    756.3, 2,   2.2174,   -999.0, 9, -999.000, 9
318MHYDROS4, A16C, 334, 1, 28, 28, 2, 19890327, 2008, -20.3183, -25.0283, 5147,  -999.00,   3606.6,   2.2504,  34.8775, 2,  34.8790, 2,   -999.0, 9,    250.3, 2,    47.79, 2,    22.09, 2,     0.00, 2,     1.51, 2, -999.000, 9, -999.000, 9,   -999.0, 9,   -999.0, 9,   -999.0, 9,   1.9529,   -999.0, 9, -999.000, 9
318MHYDROS4, A16C, 334, 1, 29, 29, 2, 19890327, 2008, -20.3183, -25.0283, 5147,  -999.00,   3813.5,   2.0147,  34.8529, 2,  34.8530, 2,   -999.0, 9,    246.3, 2,    57.46, 2,    23.46, 2,     0.00, 2,     1.58, 2,    0.001, 2,    0.000, 2,   2193.3, 2,   2340.6, 2,    804.5, 2,   1.7010,   -999.0, 9, -999.000, 9
318MHYDROS4, A16C, 334, 1, 30, 30, 2, 19890327, 2008, -20.3183, -25.0283, 5147,  -999.00,   4021.5,   1.7399,  34.8232, 2,  34.8240, 2,   -999.0, 9,    242.4, 2,    68.61, 2,    25.02, 2,     0.00, 2,     1.70, 2, -999.000, 9, -999.000, 9,   -999.0, 9,   -999.0, 9,   -999.0, 9,   1.4110,   -999.0, 9, -999.000, 9
318MHYDROS4, A16C, 334, 1, 31, 31, 2, 19890327, 2008, -20.3183, -25.0283, 5147,  -999.00,   4229.1,   1.4329,  34.7897, 2,  34.7900, 2,   -999.0, 9,    236.8, 2,    81.41, 2,    26.88, 2,     0.00, 2,     1.83, 2,    0.006, 2,    0.000, 2,   2220.8, 2,   2358.2, 2,    871.3, 2,   1.0900,   -999.0, 9, -999.000, 9
318MHYDROS4, A16C, 334, 1, 32, 32, 2, 19890327, 2008, -20.3183, -25.0283, 5147,  -999.00,   4437.5,   1.1863,  34.7638, 2,  34.7640, 2,   -999.0, 9,    232.0, 2,    91.29, 2,    28.25, 2,     0.00, 2,     1.93, 2, -999.000, 9, -999.000, 9,   -999.0, 9,   -999.0, 9,   -999.0, 9,   0.8276,   -999.0, 9, -999.000, 9
318MHYDROS4, A16C, 334, 1, 33, 33, 2, 19890327, 2008, -20.3183, -25.0283, 5147,  -999.00,   4645.3,   0.9835,  34.7422, 2,  34.7410, 2,   -999.0, 9,    229.4, 2,    99.79, 2,    29.32, 2,     0.00, 2,     2.01, 2,    0.001, 2,    0.000, 2,   2239.3, 2,   2367.2, 2,    935.8, 2,   0.6077,   -999.0, 9, -999.000, 9
318MHYDROS4, A16C, 334, 1, 34, 34, 2, 19890327, 2008, -20.3183, -25.0283, 5147,  -999.00,   4854.6,   0.8497,  34.7267, 2,  34.7260, 2,   -999.0, 9,    227.7, 2,   105.26, 2,    30.20, 2,     0.00, 2,     2.06, 2, -999.000, 9, -999.000, 9,   -999.0, 9,   -999.0, 9,   -999.0, 9,   0.4543,   -999.0, 9, -999.000, 9
318MHYDROS4, A16C, 334, 1, 35, 35, 2, 19890327, 2008, -20.3183, -25.0283, 5147,  -999.00,   5063.1,   0.8041,  34.7199, 2,  34.7200, 2,   -999.0, 9,    225.9, 2,   108.39, 2,    30.49, 2,     0.00, 2,     2.09, 2, -999.000, 9, -999.000, 9,   2247.7, 2,   2373.0, 2,    957.0, 2,   0.3859,   5065.3, 2,    0.793, 2
318MHYDROS4, A16C, 334, 1, 36, 36, 2, 19890327, 2008, -20.3183, -25.0283, 5147,  -999.00,   5279.9,   0.7443,  34.7116, 2,  34.7110, 2,   -999.0, 9,    225.5, 2,   112.01, 2,    30.98, 2,     0.00, 2,     2.13, 2,    0.006, 2,    0.006, 2,   2247.5, 2,   2368.3, 2,    983.3, 2,   0.3022,   -999.0, 9, -999.000, 9