BOTTLE,20110318CCHDOSIODM
EXPOCODE,SECT_ID,STNNBR,CASTNO,SAMPNO,BTLNBR,BTLNBR_FLAG_W,DATE,TIME,LATITUDE,LONGITUDE,DEPTH,CTDRAW,CTDPRS,CTDTMP,CTDSAL,CTDSAL_FLAG_W,SALNTY,SALNTY_FLAG_W,CTDOXY,CTDOXY_FLAG_W,OXYGEN,OXYGEN_FLAG_W,SILCAT,SILCAT_FLAG_W,NITRAT,NITRAT_FLAG_W,NITRIT,NITRIT_FLAG_W,PHSPHT,PHSPHT_FLAG_W,CFC-11,CFC-11_FLAG_W,CFC-12,CFC-12_FLAG_W,TCARBN,TCARBN_FLAG_W,ALKALI,ALKALI_FLAG_W,PCO2,PCO2_FLAG_W,THETA,REVPRS,REVPRS_FLAG_W,REVTMP,REVTMP_FLAG_W
,,,,,,,,,,,METERS,DBAR,DBAR,ITS-90,PSS-78,,PSS-78,,UMOL/KG,,UMOL/KG,,UMOL/KG,,UMOL/KG,,UMOL/KG,,UMOL/KG,,PMOL/KG,,PMOL/KG,,UMOL/KG,,UMOL/KG,,UATM,,DEG C,DBAR,,ITS-90,
318MHYDROS4, A16C, 357, 1, 1, 1, 2, 19890404, 1244, -6.9200, -24.9850, 5780,  -999.00,      9.2,  28.4056,  36.2155, 2,  36.2210, 2,   -999.0, 9,    205.6, 2,     1.85, 2,     0.00, 2,     0.00, 2,     0.10, 2,    1.459, 2,    0.763, 2,   2013.1, 2,   2367.3, 2,    282.8, 2,  28.4034,   -999.0, 9, -999.000, 9
318MHYDROS4, A16C, 357, 1, 2, 2, 2, 19890404, 1244, -6.9200, -24.9850, 5780,  -999.00,     37.3,  28.1071,  36.3518, 2,  36.3570, 2,   -999.0, 9,    212.5, 2,     1.85, 2,     0.10, 2,     0.00, 2,     0.12, 2,    1.495, 2,    0.799, 2,   2035.6, 2,   -999.0, 9,   -999.0, 9,  28.0983,   -999.0, 9, -999.000, 9
318MHYDROS4, A16C, 357, 1, 3, 3, 2, 19890404, 1244, -6.9200, -24.9850, 5780,  -999.00,     79.0,  24.0721,  36.3667, 2,  36.4080, 2,   -999.0, 9,    204.8, 2,     1.95, 2,     0.29, 2,     0.03, 2,     0.20, 2, -999.000, 9, -999.000, 9,   -999.0, 9,   -999.0, 9,   -999.0, 9,  24.0554,   -999.0, 9, -999.000, 9
318MHYDROS4, A16C, 357, 1, 71, 71, 2, 19890404, 1244, -6.9200, -24.9850, 5780,  -999.00,    110.1,  19.7189,  36.0255, 2,  36.0220, 2,   -999.0, 9,    132.4, 2,     3.91, 2,    10.74, 2,     0.30, 2,     0.89, 2, -999.000, 9, -999.000, 9,   2130.3, 2,   -999.0, 9,   -999.0, 9,  19.6986,   -999.0, 9, -999.000, 9
318MHYDROS4, A16C, 357, 1, 5, 5, 2, 19890404, 1244, -6.9200, -24.9850, 5780,  -999.00,    135.7,  15.1389,  35.5567, 2,  35.5240, 2,   -999.0, 9,     99.2, 2,     7.03, 2,    20.61, 2,     0.02, 2,     1.40, 2,    1.284, 2,    0.680, 2,   -999.0, 9,   -999.0, 9,   -999.0, 9,  15.1181,   -999.0, 9, -999.000, 9
318MHYDROS4, A16C, 357, 1, 6, 6, 2, 19890404, 1244, -6.9200, -24.9850, 5780,  -999.00,    161.3,  12.0035,  35.1740, 2,  35.1690, 2,   -999.0, 9,     95.7, 2,    10.06, 2,    25.70, 2,     0.01, 2,     1.65, 2,    0.543, 2,    0.290, 2,   -999.0, 9,   -999.0, 9,   -999.0, 9,  11.9825,   -999.0, 9, -999.000, 9
318MHYDROS4, A16C, 357, 1, 7, 7, 2, 19890404, 1244, -6.9200, -24.9850, 5780,  -999.00,    262.9,   9.7774,  34.8953, 2,  34.8970, 2,   -999.0, 9,     86.1, 2,    13.88, 2,    31.47, 2,     0.00, 2,     1.97, 2,    0.217, 2,    0.137, 2,   2201.6, 2,   -999.0, 9,   -999.0, 9,   9.7472,   -999.0, 9, -999.000, 9
318MHYDROS4, A16C, 357, 1, 8, 8, 2, 19890404, 1244, -6.9200, -24.9850, 5780,  -999.00,    314.1,   9.2886,  34.8424, 2,  34.8390, 2,   -999.0, 9,     83.9, 2,    15.15, 2,    33.03, 2,     0.00, 2,     2.05, 2,    0.155, 2,    0.096, 2,   2212.3, 2,   -999.0, 9,   -999.0, 9,   9.2536,   -999.0, 9, -999.000, 9
318MHYDROS4, A16C, 357, 1, 9, 9, 2, 19890404, 1244, -6.9200, -24.9850, 5780,  -999.00,    416.1,   8.1062,  34.7224, 2,  34.7230, 2,   -999.0, 9,     79.6, 2,    18.28, 2,    35.77, 2,     0.00, 2,     2.25, 2,    0.075, 2,    0.050, 2,   2227.1, 2,   -999.0, 9,   -999.0, 9,   8.0633,   -999.0, 9, -999.000, 9
318MHYDROS4, A16C, 357, 1, 10, 10, 2, 19890404, 1244, -6.9200, -24.9850, 5780,  -999.00,    568.6,   6.1694,  34.5516, 2,  34.5540, 2,   -999.0, 9,    106.1, 2,    24.05, 2,    37.05, 2,     0.00, 2,     2.40, 2,    0.016, 2,    0.013, 2,   -999.0, 9,   -999.0, 9,   -999.0, 9,   6.1186,   -999.0, 9, -999.000, 9
318MHYDROS4, A16C, 357, 1, 11, 11, 2, 19890404, 1244, -6.9200, -24.9850, 5780,  -999.00,    671.2,   5.3656,  34.5000, 2,  34.5020, 2,   -999.0, 9,    125.2, 2,    27.57, 2,    36.76, 2,     0.00, 2,     2.42, 2,    0.009, 2,    0.012, 2,   2232.2, 2,   -999.0, 9,   -999.0, 9,   5.3094,   -999.0, 9, -999.000, 9
318MHYDROS4, A16C, 357, 1, 12, 12, 2, 19890404, 1244, -6.9200, -24.9850, 5780,  -999.00,    824.3,   4.5549,  34.4850, 2,  34.4860, 2,   -999.0, 9,    145.2, 2,    32.36, 2,    35.88, 2,     0.00, 2,     2.40, 2,    0.002, 2,    0.007, 2,   -999.0, 9,   -999.0, 9,   -999.0, 9,   4.4901,   -999.0, 9, -999.000, 9
318MHYDROS4, A16C, 357, 1, 13, 13, 2, 19890404, 1244, -6.9200, -24.9850, 5780,  -999.00,    978.1,   4.1477,  34.5464, 2,  34.5440, 2,   -999.0, 9,    160.4, 2,    34.80, 2,    33.82, 2,     0.00, 2,     2.30, 2,    0.000, 2,    0.008, 2,   2221.0, 2,   -999.0, 9,   -999.0, 9,   4.0727,   -999.0, 9, -999.000, 9
318MHYDROS4, A16C, 357, 1, 14, 14, 2, 19890404, 1244, -6.9200, -24.9850, 5780,  -999.00,   1131.9,   4.1439,  34.6990, 2,  34.6930, 2,   -999.0, 9,    175.2, 2,    31.57, 2,    30.89, 2,     0.00, 2,     2.08, 2,    0.000, 2,    0.001, 2,   -999.0, 9,   -999.0, 9,   -999.0, 9,   4.0555,   -999.0, 9, -999.000, 9
318MHYDROS4, A16C, 357, 1, 15, 15, 2, 19890404, 1244, -6.9200, -24.9850, 5780,  -999.00,   1337.0,   4.1761,  34.8597, 2,  34.8570, 2,   -999.0, 9,    200.8, 2,    24.92, 2,    26.00, 2,     0.00, 2,     1.76, 2, -999.000, 9, -999.000, 9,   2201.5, 2,   -999.0, 9,   -999.0, 9,   4.0690,   -999.0, 9, -999.000, 9
318MHYDROS4, A16C, 357, 1, 16, 16, 2, 19890404, 1244, -6.9200, -24.9850, 5780,  -999.00,   1542.9,   4.0730,  34.9347, 2,  34.9330, 2,   -999.0, 9,    225.1, 2,    21.01, 2,    22.18, 2,     0.00, 2,     1.51, 2,    0.002, 2,    0.006, 2,   -999.0, 9,   -999.0, 9,   -999.0, 9,   3.9481,   -999.0, 9, -999.000, 9
318MHYDROS4, A16C, 357, 1, 17, 17, 2, 19890404, 1244, -6.9200, -24.9850, 5780,  -999.00,   1749.1,   3.7478,  34.9530, 2,  34.9540, 2,   -999.0, 9,    241.6, 2,    21.01, 2,    20.62, 2,     0.00, 2,     1.40, 2,    0.003, 2,    0.011, 2,   -999.0, 9,   -999.0, 9,   -999.0, 9,   3.6078,   -999.0, 9, -999.000, 9
318MHYDROS4, A16C, 357, 1, 18, 18, 2, 19890404, 1244, -6.9200, -24.9850, 5780,  -999.00,   1955.1,   3.4536,  34.9422, 2,  34.9430, 2,   -999.0, 9,    243.8, 2,    24.63, 2,    20.72, 2,     0.00, 2,     1.41, 2, -999.000, 9, -999.000, 9,   2178.0, 2,   -999.0, 9,   -999.0, 9,   3.2984,   -999.0, 9, -999.000, 9
318MHYDROS4, A16C, 357, 1, 19, 19, 2, 19890404, 1244, -6.9200, -24.9850, 5780,  -999.00,   2161.2,   3.1494,  34.9274, 2,  34.9280, 2,   -999.0, 9,    243.8, 2,    30.10, 2,    20.82, 2,     0.00, 2,     1.44, 2,    0.002, 2,    0.002, 2,   -999.0, 9,   -999.0, 9,   -999.0, 9,   2.9796,   -999.0, 9, -999.000, 9
318MHYDROS4, A16C, 357, 1, 20, 20, 2, 19890404, 1244, -6.9200, -24.9850, 5780,  -999.00,   2419.1,   2.9318,  34.9169, 2,  34.9180, 2,   -999.0, 9,    243.3, 2,    34.30, 2,    21.69, 2,     0.00, 2,     1.46, 2, -999.000, 9,    0.005, 2,   -999.0, 9,   -999.0, 9,   -999.0, 9,   2.7410,   -999.0, 9, -999.000, 9
318MHYDROS4, A16C, 357, 1, 21, 21, 2, 19890404, 1244, -6.9200, -24.9850, 5780,  -999.00,   2676.0,   2.7740,  34.9089, 2,  34.9100, 2,   -999.0, 9,    242.4, 2,    38.02, 2,    22.09, 2,     0.00, 2,     1.48, 2, -999.000, 9, -999.000, 9,   2187.8, 2,   -999.0, 9,   -999.0, 9,   2.5611,   -999.0, 9, -999.000, 9
318MHYDROS4, A16C, 357, 1, 22, 22, 2, 19890404, 1244, -6.9200, -24.9850, 5780,  -999.00,   2931.9,   2.6859,  34.9073, 2,  34.9080, 2,   -999.0, 9,    245.0, 2,    38.31, 2,    21.70, 2,     0.00, 2,     1.47, 2, -999.000, 9, -999.000, 9,   -999.0, 9,   -999.0, 9,   -999.0, 9,   2.4490,   -999.0, 9, -999.000, 9
318MHYDROS4, A16C, 357, 1, 23, 23, 2, 19890404, 1244, -6.9200, -24.9850, 5780,  -999.00,   3189.3,   2.6091,  34.9077, 2,  34.9080, 2,   -999.0, 9,    249.8, 2,    36.74, 2,    21.50, 2,     0.00, 2,     1.43, 2, -999.000, 9, -999.000, 9,   -999.0, 9,   -999.0, 9,   -999.0, 9,   2.3473,   -999.0, 9, -999.000, 9
318MHYDROS4, A16C, 357, 1, 24, 24, 2, 19890404, 1244, -6.9200, -24.9850, 5780,  -999.00,   3396.2,   2.5503,  34.9067, 2,  34.9080, 2,   -999.0, 9,    253.7, 2,    35.96, 2,    20.91, 2,     0.00, 2,     1.40, 2, -999.000, 9, -999.000, 9,   2178.6, 2,   -999.0, 9,   -999.0, 9,   2.2679,   -999.0, 9, -999.000, 9
318MHYDROS4, A16C, 357, 1, 25, 25, 2, 19890404, 1244, -6.9200, -24.9850, 5780,  -999.00,   3604.3,   2.4648,  34.9052, 2,  34.9070, 2,   -999.0, 9,    258.5, 2,    34.40, 2,    19.84, 2,     0.00, 2,     1.37, 2, -999.000, 9, -999.000, 9,   -999.0, 9,   -999.0, 9,   -999.0, 9,   2.1620,   -999.0, 9, -999.000, 9
318MHYDROS4, A16C, 357, 1, 26, 26, 2, 19890404, 1244, -6.9200, -24.9850, 5780,  -999.00,   3812.1,   2.2775,  34.8876, 2,  34.8880, 2,   -999.0, 9,    257.2, 2,    40.17, 2,    20.72, 2,     0.00, 2,     1.42, 2, -999.000, 9, -999.000, 9,   -999.0, 9,   -999.0, 9,   -999.0, 9,   1.9567,   -999.0, 9, -999.000, 9
318MHYDROS4, A16C, 357, 1, 27, 27, 2, 19890404, 1244, -6.9200, -24.9850, 5780,  -999.00,   4019.6,   1.9014,  34.8441, 2,  34.8450, 2,   -999.0, 9,    247.2, 2,    58.34, 2,    23.65, 2,     0.00, 2,     1.61, 2, -999.000, 9, -999.000, 9,   2198.7, 2,   -999.0, 9,   -999.0, 9,   1.5680,   -999.0, 9, -999.000, 9
318MHYDROS4, A16C, 357, 1, 28, 28, 2, 19890404, 1244, -6.9200, -24.9850, 5780,  -999.00,   4228.4,   1.4474,  34.7945, 2,  34.7960, 2,   -999.0, 9,    238.1, 2,    78.58, 2,    26.58, 2,     0.00, 2,     1.82, 2, -999.000, 9, -999.000, 9,   -999.0, 9,   -999.0, 9,   -999.0, 9,   1.1041,   -999.0, 9, -999.000, 9
318MHYDROS4, A16C, 357, 1, 29, 29, 2, 19890404, 1244, -6.9200, -24.9850, 5780,  -999.00,   4436.5,   1.0372,  34.7511, 2,  34.7530, 2,   -999.0, 9,    230.7, 2,    96.27, 2,    29.13, 2,     0.00, 2,     1.98, 2, -999.000, 9, -999.000, 9,   -999.0, 9,   -999.0, 9,   -999.0, 9,   0.6834,   -999.0, 9, -999.000, 9
318MHYDROS4, A16C, 357, 1, 30, 30, 2, 19890404, 1244, -6.9200, -24.9850, 5780,  -999.00,   4645.7,   0.8824,  34.7334, 2,  34.7340, 2,   -999.0, 9,    227.7, 2,   102.43, 2,    30.20, 2,     0.00, 2,     2.07, 2, -999.000, 9, -999.000, 9,   2249.8, 2,   -999.0, 9,   -999.0, 9,   0.5099,   -999.0, 9, -999.000, 9
318MHYDROS4, A16C, 357, 1, 31, 31, 2, 19890404, 1244, -6.9200, -24.9850, 5780,  -999.00,   4854.6,   0.8056,  34.7224, 2,  34.7230, 2,   -999.0, 9,    225.5, 2,   107.32, 2,    30.98, 2,     0.00, 2,     2.10, 2, -999.000, 9, -999.000, 9,   -999.0, 9,   -999.0, 9,   -999.0, 9,   0.4118,   -999.0, 9, -999.000, 9
318MHYDROS4, A16C, 357, 1, 32, 32, 2, 19890404, 1244, -6.9200, -24.9850, 5780,  -999.00,   5064.9,   0.7622,  34.7156, 2,  34.7160, 2,   -999.0, 9,    224.6, 2,   110.35, 2,    31.28, 2,     0.00, 2,     2.13, 2, -999.000, 9, -999.000, 9,   -999.0, 9,   -999.0, 9,   -999.0, 9,   0.3452,   -999.0, 9, -999.000, 9
318MHYDROS4, A16C, 357, 1, 33, 33, 2, 19890404, 1244, -6.9200, -24.9850, 5780,  -999.00,   5273.5,   0.7161,  34.7082, 2,  34.7100, 2,   -999.0, 9,    223.8, 2,   112.79, 2,    31.47, 2,     0.00, 2,     2.17, 2, -999.000, 9, -999.000, 9,   2258.5, 2,   -999.0, 9,   -999.0, 9,   0.2758,   -999.0, 9, -999.000, 9
318MHYDROS4, A16C, 357, 1, 34, 34, 2, 19890404, 1244, -6.9200, -24.9850, 5780,  -999.00,   5482.6,   0.6792,  34.7024, 2,  34.7020, 2,   -999.0, 9,    223.3, 2,   113.97, 2,    31.67, 2,     0.00, 2,     2.17, 2, -999.000, 9, -999.000, 9,   -999.0, 9,   -999.0, 9,   -999.0, 9,   0.2147,   -999.0, 9, -999.000, 9
318MHYDROS4, A16C, 357, 1, 35, 35, 2, 19890404, 1244, -6.9200, -24.9850, 5780,  -999.00,   5745.1,   0.6937,  34.7001, 2,  34.7000, 2,   -999.0, 9,    223.3, 2,   115.72, 2,    31.96, 2,     0.00, 2,     2.18, 2,    0.006, 2,    0.009, 2,   -999.0, 9,   -999.0, 9,   -999.0, 9,   0.1960,   -999.0, 9, -999.000, 9
318MHYDROS4, A16C, 357, 1, 36, 36, 2, 19890404, 1244, -6.9200, -24.9850, 5780,  -999.00,   5947.8,   0.7177,  34.6999, 2,  34.7000, 2,   -999.0, 9,    222.5, 2,   115.92, 2,    31.77, 2,     0.00, 2,     2.18, 2,    0.003, 2,    0.012, 2,   2262.2, 2,   -999.0, 9,   -999.0, 9,   0.1932,   -999.0, 9, -999.000, 9