BOTTLE,20110318CCHDOSIODM
EXPOCODE,SECT_ID,STNNBR,CASTNO,SAMPNO,BTLNBR,BTLNBR_FLAG_W,DATE,TIME,LATITUDE,LONGITUDE,DEPTH,CTDRAW,CTDPRS,CTDTMP,CTDSAL,CTDSAL_FLAG_W,SALNTY,SALNTY_FLAG_W,CTDOXY,CTDOXY_FLAG_W,OXYGEN,OXYGEN_FLAG_W,SILCAT,SILCAT_FLAG_W,NITRAT,NITRAT_FLAG_W,NITRIT,NITRIT_FLAG_W,PHSPHT,PHSPHT_FLAG_W,CFC-11,CFC-11_FLAG_W,CFC-12,CFC-12_FLAG_W,TCARBN,TCARBN_FLAG_W,ALKALI,ALKALI_FLAG_W,PCO2,PCO2_FLAG_W,THETA,REVPRS,REVPRS_FLAG_W,REVTMP,REVTMP_FLAG_W
,,,,,,,,,,,METERS,DBAR,DBAR,ITS-90,PSS-78,,PSS-78,,UMOL/KG,,UMOL/KG,,UMOL/KG,,UMOL/KG,,UMOL/KG,,UMOL/KG,,PMOL/KG,,PMOL/KG,,UMOL/KG,,UMOL/KG,,UATM,,DEG C,DBAR,,ITS-90,
318MHYDROS4, A16C, 326, 1, 1, 1, 2, 19890325, 0339, -24.9950, -24.9767, 5359,  -999.00,      1.3,  26.4490,  36.5466, 2,  36.5490, 2,   -999.0, 9,    208.5, 2,     1.56, 2,     0.00, 2,     0.00, 2,     0.09, 2,    1.647, 2,    0.834, 2,   2048.0, 2,   2401.6, 2,    295.0, 2,  26.4487,   -999.0, 9, -999.000, 9
318MHYDROS4, A16C, 326, 1, 2, 2, 2, 19890325, 0339, -24.9950, -24.9767, 5359,  -999.00,     31.0,  26.4210,  36.5429, 2,  36.5470, 2,   -999.0, 9,    210.6, 2,     1.66, 2,     0.00, 2,     0.00, 2,     0.09, 2, -999.000, 9, -999.000, 9,   2050.2, 2,   2399.4, 2,    300.3, 2,  26.4139,   -999.0, 9, -999.000, 9
318MHYDROS4, A16C, 326, 1, 3, 3, 2, 19890325, 0339, -24.9950, -24.9767, 5359,  -999.00,     57.1,  22.5232,  36.1666, 2,  36.1700, 2,   -999.0, 9,    238.8, 2,     1.86, 2,     0.00, 2,     0.00, 2,     0.08, 2,    1.973, 2,    1.001, 2,   -999.0, 9,   -999.0, 9,   -999.0, 9,  22.5117,   -999.0, 9, -999.000, 9
318MHYDROS4, A16C, 326, 1, 71, 71, 2, 19890325, 0339, -24.9950, -24.9767, 5359,  -999.00,     97.7,  18.4850,  35.9175, 2,  35.9210, 2,     91.0, 2,    232.9, 2,     1.86, 2,     0.00, 2,     0.00, 2,     0.14, 2,    2.179, 2,    1.101, 2,   2056.2, 2,   2358.4, 2,    353.4, 2,  18.4678,   -999.0, 9, -999.000, 9
318MHYDROS4, A16C, 326, 1, 5, 5, 2, 19890325, 0339, -24.9950, -24.9767, 5359,  -999.00,    149.1,  16.8724,  35.7033, 2,  35.6920, 2,   -999.0, 9,    221.1, 2,     2.25, 2,     0.88, 2,     0.06, 2,     0.25, 2, -999.000, 9, -999.000, 9,   -999.0, 9,   -999.0, 9,   -999.0, 9,  16.8479,   -999.0, 9, -999.000, 9
318MHYDROS4, A16C, 326, 1, 6, 6, 2, 19890325, 0339, -24.9950, -24.9767, 5359,  -999.00,    200.2,  15.6509,  35.5333, 2,  35.5320, 2,   -999.0, 9,    219.8, 2,     2.44, 2,     2.74, 2,     0.01, 2,     0.36, 2,    2.307, 2,    1.136, 2,   2080.4, 2,   2347.4, 2,    412.2, 2,  15.6195,   -999.0, 9, -999.000, 9
318MHYDROS4, A16C, 326, 1, 7, 7, 2, 19890325, 0339, -24.9950, -24.9767, 5359,  -999.00,    251.2,  14.6382,  35.4036, 2,  35.4050, 2,   -999.0, 9,    215.4, 2,     2.83, 2,     5.18, 2,     0.00, 2,     0.51, 2, -999.000, 9, -999.000, 9,   -999.0, 9,   -999.0, 9,   -999.0, 9,  14.6006,   -999.0, 9, -999.000, 9
318MHYDROS4, A16C, 326, 1, 8, 8, 2, 19890325, 0339, -24.9950, -24.9767, 5359,  -999.00,    297.0,  14.0325,  35.3354, 2,  35.3370, 2,   -999.0, 9,    214.5, 2,     3.22, 2,     6.74, 2,     0.00, 2,     0.59, 2,    2.165, 2,    1.050, 2,   2093.5, 2,   2329.8, 2,    474.3, 2,  13.9892,   -999.0, 9, -999.000, 9
318MHYDROS4, A16C, 326, 1, 9, 9, 2, 19890325, 0339, -24.9950, -24.9767, 5359,  -999.00,    394.2,  12.0104,  35.0573, 2,  35.0510, 2,   -999.0, 9,    204.9, 2,     5.37, 2,    12.41, 2,     0.00, 2,     0.94, 2,    1.708, 2,    0.819, 2,   2108.6, 2,   2309.5, 2,    564.5, 2,  11.9585,   -999.0, 9, -999.000, 9
318MHYDROS4, A16C, 326, 1, 10, 10, 2, 19890325, 0339, -24.9950, -24.9767, 5359,  -999.00,    496.2,   9.5587,  34.7528, 2,  34.7580, 2,   -999.0, 9,    199.6, 2,     9.28, 2,    18.77, 2,     0.00, 2,     1.32, 2,    1.351, 2,    0.636, 2,   2133.0, 2,   2299.5, 2,    684.3, 2,   9.5020,   -999.0, 9, -999.000, 9
318MHYDROS4, A16C, 326, 1, 11, 11, 2, 19890325, 0339, -24.9950, -24.9767, 5359,  -999.00,    598.3,   7.2821,  34.5223, 2,  34.5310, 2,   -999.0, 9,    200.9, 2,    14.47, 2,    24.34, 2,     0.00, 2,     1.66, 2,    1.086, 2,    0.523, 2,   2151.2, 2,   2292.3, 2,    798.1, 2,   7.2236,   -999.0, 9, -999.000, 9
318MHYDROS4, A16C, 326, 1, 12, 12, 2, 19890325, 0339, -24.9950, -24.9767, 5359,  -999.00,    700.6,   5.6272,  34.3900, 2,  34.3920, 2,   -999.0, 9,    208.7, 2,    19.94, 2,    27.76, 2,     0.00, 2,     1.89, 2,    0.845, 2,    0.402, 2,   2162.6, 2,   2291.1, 2,    866.7, 2,   5.5671,   -999.0, 9, -999.000, 9
318MHYDROS4, A16C, 326, 1, 13, 13, 2, 19890325, 0339, -24.9950, -24.9767, 5359,  -999.00,    802.7,   4.4071,  34.3346, 2,  34.3310, 2,   -999.0, 9,    211.7, 2,    27.86, 2,    30.21, 2,     0.00, 2,     2.06, 2,    0.660, 2,    0.315, 2,   2179.1, 2,   2299.1, 2,    924.4, 2,   4.3453,   -999.0, 9, -999.000, 9
318MHYDROS4, A16C, 326, 1, 14, 14, 2, 19890325, 0339, -24.9950, -24.9767, 5359,  -999.00,    904.8,   3.8106,  34.3696, 2,  34.3610, 2,   -999.0, 9,    201.3, 2,    36.86, 2,    31.87, 2,     0.00, 2,     2.18, 2,    0.347, 2,    0.166, 2,   2199.2, 2,   2309.3, 2,    999.1, 2,   3.7443,   -999.0, 9, -999.000, 9
318MHYDROS4, A16C, 326, 1, 15, 15, 2, 19890325, 0339, -24.9950, -24.9767, 5359,  -999.00,   1099.7,   3.3389,  34.4911, 2,  34.4870, 2,   -999.0, 9,    185.6, 2,    48.10, 2,    32.55, 2,     0.00, 2,     2.22, 2,    0.063, 2,    0.039, 2,   2218.3, 2,   2323.3, 2,   1048.6, 2,   3.2605,   -999.0, 9, -999.000, 9
318MHYDROS4, A16C, 326, 1, 16, 16, 2, 19890325, 0339, -24.9950, -24.9767, 5359,  -999.00,   1294.8,   3.1571,  34.6171, 2,  34.6170, 2,   -999.0, 9,    189.1, 2,    50.44, 2,    30.79, 2,     0.00, 2,     2.11, 2, -999.000, 9, -999.000, 9,   2224.1, 2,   2337.6, 2,   1000.1, 2,   3.0644,   -999.0, 9, -999.000, 9
318MHYDROS4, A16C, 326, 1, 17, 17, 2, 19890325, 0339, -24.9950, -24.9767, 5359,  -999.00,   1490.4,   3.1021,  34.7276, 2,  34.7260, 2,   -999.0, 9,    202.1, 2,    47.11, 2,    28.34, 2,     0.00, 2,     1.92, 2, -999.000, 9, -999.000, 9,   2212.6, 2,   2337.4, 2,    926.9, 2,   2.9935,   -999.0, 9, -999.000, 9
318MHYDROS4, A16C, 326, 1, 18, 18, 2, 19890325, 0339, -24.9950, -24.9767, 5359,  -999.00,   1701.4,   3.0362,  34.8126, 2,  34.8130, 2,   -999.0, 9,    219.0, 2,    42.12, 2,    25.51, 2,     0.00, 2,     1.73, 2,    0.013, 2,    0.001, 2,   -999.0, 9,   -999.0, 9,   -999.0, 9,   2.9101,   -999.0, 9, -999.000, 9
318MHYDROS4, A16C, 326, 1, 19, 19, 2, 19890325, 0339, -24.9950, -24.9767, 5359,  -999.00,   1902.2,   3.0532,  34.8728, 2,  34.8730, 2,   -999.0, 9,    234.2, 2,    36.65, 2,    23.16, 2,     0.00, 2,     1.55, 2, -999.000, 9, -999.000, 9,   2184.1, 2,   2328.1, 2,    811.6, 2,   2.9089,   -999.0, 9, -999.000, 9
318MHYDROS4, A16C, 326, 1, 20, 20, 2, 19890325, 0339, -24.9950, -24.9767, 5359,  -999.00,   2108.9,   3.0392,  34.9075, 2,  34.9080, 2,   -999.0, 9,    244.6, 2,    32.54, 2,    21.50, 2,     0.00, 2,     1.46, 2,    0.001, 2,    0.001, 2,   -999.0, 9,   -999.0, 9,   -999.0, 9,   2.8761,   -999.0, 9, -999.000, 9
318MHYDROS4, A16C, 326, 1, 21, 21, 2, 19890325, 0339, -24.9950, -24.9767, 5359,  -999.00,   2305.0,   3.0072,  34.9221, 2,  34.9220, 2,   -999.0, 9,    249.4, 2,    30.98, 2,    20.82, 2,     0.00, 2,     1.41, 2, -999.000, 9, -999.000, 9,   2172.3, 2,   2327.6, 2,    754.9, 2,   2.8261,   -999.0, 9, -999.000, 9
318MHYDROS4, A16C, 326, 1, 22, 22, 2, 19890325, 0339, -24.9950, -24.9767, 5359,  -999.00,   2496.2,   2.9293,  34.9262, 2,  34.9260, 2,   -999.0, 9,    251.6, 2,    31.37, 2,    20.62, 2,     0.00, 2,     1.38, 2,    0.003, 2,    0.000, 2,   -999.0, 9,   -999.0, 9,   -999.0, 9,   2.7311,   -999.0, 9, -999.000, 9
318MHYDROS4, A16C, 326, 1, 23, 23, 2, 19890325, 0339, -24.9950, -24.9767, 5359,  -999.00,   2703.2,   2.8313,  34.9230, 2,  34.9240, 2,   -999.0, 9,    252.4, 2,    32.35, 2,    20.52, 2,     0.00, 2,     1.37, 2, -999.000, 9, -999.000, 9,   2182.1, 2,   2331.5, 2,    784.7, 2,   2.6146,   -999.0, 9, -999.000, 9
318MHYDROS4, A16C, 326, 1, 24, 24, 2, 19890325, 0339, -24.9950, -24.9767, 5359,  -999.00,   2951.5,   2.7164,  34.9169, 2,  34.9170, 2,   -999.0, 9,    252.9, 2,    34.11, 2,    20.62, 2,     0.00, 2,     1.38, 2,    0.000, 2,    0.001, 2,   -999.0, 9,   -999.0, 9,   -999.0, 9,   2.4769,   -999.0, 9, -999.000, 9
318MHYDROS4, A16C, 326, 1, 25, 25, 2, 19890325, 0339, -24.9950, -24.9767, 5359,  -999.00,   3206.2,   2.5815,  34.9062, 2,  34.9080, 2,   -999.0, 9,    253.7, 2,    37.62, 2,    20.82, 2,     0.00, 2,     1.41, 2, -999.000, 9, -999.000, 9,   2180.8, 2,   2341.6, 2,    737.6, 2,   2.3186,   -999.0, 9, -999.000, 9
318MHYDROS4, A16C, 326, 1, 26, 26, 2, 19890325, 0339, -24.9950, -24.9767, 5359,  -999.00,   3403.0,   2.3997,  34.8906, 2,  34.8910, 2,   -999.0, 9,    251.6, 2,    43.29, 2,    21.60, 2,     0.00, 2,     1.46, 2,    0.002, 2,    0.003, 2,   -999.0, 9,   -999.0, 9,   -999.0, 9,   2.1203,   -999.0, 9, -999.000, 9
318MHYDROS4, A16C, 326, 1, 27, 27, 2, 19890325, 0339, -24.9950, -24.9767, 5359,  -999.00,   3599.9,   2.1739,  34.8663, 2,  34.8660, 2,   -999.0, 9,    247.7, 2,    52.58, 2,    22.87, 2,     0.00, 2,     1.54, 2, -999.000, 9, -999.000, 9,   2190.9, 2,   2350.7, 2,    749.1, 2,   1.8791,   -999.0, 9, -999.000, 9
318MHYDROS4, A16C, 326, 1, 28, 28, 2, 19890325, 0339, -24.9950, -24.9767, 5359,  -999.00,   3797.7,   1.9081,  34.8370, 2,  34.8380, 2,   -999.0, 9,    242.9, 2,    64.11, 2,    24.53, 2,     0.00, 2,     1.65, 2,    0.003, 2,    0.000, 2,   2201.1, 2,   2350.9, 2,    798.9, 2,   1.5990,   -999.0, 9, -999.000, 9
318MHYDROS4, A16C, 326, 1, 29, 29, 2, 19890325, 0339, -24.9950, -24.9767, 5359,  -999.00,   4000.5,   1.6673,  34.8131, 2, -999.0000, 9,   -999.0, 9,   -999.0, 9,  -999.00, 9,  -999.00, 9,  -999.00, 9,  -999.00, 9, -999.000, 9, -999.000, 9,   -999.0, 9,   -999.0, 9,   -999.0, 9,   1.3428,   -999.0, 9, -999.000, 9
318MHYDROS4, A16C, 326, 1, 30, 30, 2, 19890325, 0339, -24.9950, -24.9767, 5359,  -999.00,   4198.3,   1.4145,  34.7869, 2,  34.7860, 2,   -999.0, 9,    235.5, 2,    83.95, 2,    27.07, 2,     0.00, 2,     1.85, 2,    0.002, 2,    0.000, 2,   -999.0, 9,   -999.0, 9,   -999.0, 9,   1.0756,   -999.0, 9, -999.000, 9
318MHYDROS4, A16C, 326, 1, 31, 31, 2, 19890325, 0339, -24.9950, -24.9767, 5359,  -999.00,   4396.1,   1.2407,  34.7670, 2,  34.7670, 2,   -999.0, 9,    232.9, 2,    91.19, 2,    28.05, 2,     0.00, 2,     1.93, 2, -999.000, 9, -999.000, 9,   2224.4, 2,   2360.8, 2,    880.6, 2,   0.8850,   -999.0, 9, -999.000, 9
318MHYDROS4, A16C, 326, 1, 32, 32, 2, 19890325, 0339, -24.9950, -24.9767, 5359,  -999.00,   4598.8,   1.0668,  34.7485, 2,  34.7480, 2,   -999.0, 9,    229.0, 2,    98.42, 2,    29.03, 2,     0.00, 2,     1.99, 2,    0.006, 2,    0.003, 2,   -999.0, 9,   -999.0, 9,   -999.0, 9,   0.6937,   -999.0, 9, -999.000, 9
318MHYDROS4, A16C, 326, 1, 33, 33, 2, 19890325, 0339, -24.9950, -24.9767, 5359,  -999.00,   4802.1,   0.9779,  34.7382, 2,  34.7370, 2,   -999.0, 9,    228.1, 2,   102.72, 2,    29.52, 2,     0.00, 2,     2.03, 2, -999.000, 9, -999.000, 9,   2242.3, 2,   2369.2, 2,    943.7, 2,   0.5843,   -999.0, 9, -999.000, 9
318MHYDROS4, A16C, 326, 1, 34, 34, 2, 19890325, 0339, -24.9950, -24.9767, 5359,  -999.00,   5000.2,   0.9189,  34.7298, 2,  34.7290, 2,   -999.0, 9,    227.2, 2,   105.07, 2,    30.01, 2,     0.00, 2,     2.05, 2,    0.015, 2,    0.006, 2,   -999.0, 9,   -999.0, 9,   -999.0, 9,   0.5041,   -999.0, 9, -999.000, 9
318MHYDROS4, A16C, 326, 1, 35, 35, 2, 19890325, 0339, -24.9950, -24.9767, 5359,  -999.00,   5204.0,   0.7991,  34.7166, 2,  34.7160, 2,   -999.0, 9,   -999.0, 9,   110.15, 2,    30.69, 2,     0.00, 2,     2.12, 2, -999.000, 9, -999.000, 9,   2245.8, 2,   2375.0, 2,    935.0, 2,   0.3641,   5206.1, 2,    0.788, 2
318MHYDROS4, A16C, 326, 1, 36, 36, 2, 19890325, 0339, -24.9950, -24.9767, 5359,  -999.00,   5504.8,   0.7311,  34.7055, 2,  34.7080, 2,   -999.0, 9,    224.2, 2,   114.65, 2,    31.08, 2,     0.00, 2,     2.15, 2,    0.007, 2,    0.003, 2,   2256.7, 2,   2379.3, 2,    979.1, 2,   0.2620,   -999.0, 9, -999.000, 9