BOTTLE,20110318CCHDOSIODM
EXPOCODE,SECT_ID,STNNBR,CASTNO,SAMPNO,BTLNBR,BTLNBR_FLAG_W,DATE,TIME,LATITUDE,LONGITUDE,DEPTH,CTDRAW,CTDPRS,CTDTMP,CTDSAL,CTDSAL_FLAG_W,SALNTY,SALNTY_FLAG_W,CTDOXY,CTDOXY_FLAG_W,OXYGEN,OXYGEN_FLAG_W,SILCAT,SILCAT_FLAG_W,NITRAT,NITRAT_FLAG_W,NITRIT,NITRIT_FLAG_W,PHSPHT,PHSPHT_FLAG_W,CFC-11,CFC-11_FLAG_W,CFC-12,CFC-12_FLAG_W,TCARBN,TCARBN_FLAG_W,ALKALI,ALKALI_FLAG_W,PCO2,PCO2_FLAG_W,THETA,REVPRS,REVPRS_FLAG_W,REVTMP,REVTMP_FLAG_W
,,,,,,,,,,,METERS,DBAR,DBAR,ITS-90,PSS-78,,PSS-78,,UMOL/KG,,UMOL/KG,,UMOL/KG,,UMOL/KG,,UMOL/KG,,UMOL/KG,,PMOL/KG,,PMOL/KG,,UMOL/KG,,UMOL/KG,,UATM,,DEG C,DBAR,,ITS-90,
318MHYDROS4, A16C, 365, 1, 1, 1, 2, 19890406, 1746, -2.4817, -24.9817, 5574,  -999.00,      0.3,  29.3664,  35.8734, 2,  35.8750, 2,   -999.0, 9,    199.6, 2,     1.46, 2,     0.00, 2,     0.00, 2,     0.04, 2, -999.000, 9, -999.000, 9,   1996.5, 2,   2354.7, 2,    271.8, 2,  29.3664,   -999.0, 9, -999.000, 9
318MHYDROS4, A16C, 365, 1, 2, 2, 2, 19890406, 1746, -2.4817, -24.9817, 5574,  -999.00,     19.8,  28.4645,  36.0379, 2,  36.0423, 2,   -999.0, 9,    205.6, 2,     1.46, 2,     0.00, 2,     0.00, 2,     0.05, 2, -999.000, 9, -999.000, 9,   -999.0, 9,   -999.0, 9,   -999.0, 9,  28.4597,   -999.0, 9, -999.000, 9
318MHYDROS4, A16C, 365, 1, 3, 3, 2, 19890406, 1746, -2.4817, -24.9817, 5574,  -999.00,     40.1,  28.0330,  36.1049, 2,  36.1055, 2,   -999.0, 9,    207.3, 2,     1.46, 2,     0.00, 2,     0.00, 2,     0.05, 2, -999.000, 9, -999.000, 9,   2012.9, 2,   2363.3, 2,    285.5, 2,  28.0235,   -999.0, 9, -999.000, 9
318MHYDROS4, A16C, 365, 1, 71, 71, 2, 19890406, 1746, -2.4817, -24.9817, 5574,  -999.00,     60.1,  24.0025,  36.0896, 2,  36.0890, 2,   -999.0, 9,    191.8, 2,     2.15, 2,     0.98, 2,     0.05, 2,     0.27, 2, -999.000, 9, -999.000, 9,   -999.0, 9,   -999.0, 9,   -999.0, 9,  23.9898,   -999.0, 9, -999.000, 9
318MHYDROS4, A16C, 365, 1, 5, 5, 2, 19890406, 1746, -2.4817, -24.9817, 5574,  -999.00,     90.8,  14.7598,  35.4792, 2,  35.4575, 2,   -999.0, 9,    120.5, 2,     6.94, 2,    18.66, 2,     0.05, 2,     1.28, 2, -999.000, 9, -999.000, 9,   -999.0, 9,   -999.0, 9,   -999.0, 9,  14.7462,   -999.0, 9, -999.000, 9
318MHYDROS4, A16C, 365, 1, 6, 6, 2, 19890406, 1746, -2.4817, -24.9817, 5574,  -999.00,    119.6,  13.5525,  35.3482, 2,  35.3493, 2,   -999.0, 9,    120.9, 2,     7.82, 2,    19.93, 2,     0.01, 2,     1.35, 2, -999.000, 9, -999.000, 9,   2161.5, 2,   -999.0, 9,   -999.0, 9,  13.5356,   -999.0, 9, -999.000, 9
318MHYDROS4, A16C, 365, 1, 7, 7, 2, 19890406, 1746, -2.4817, -24.9817, 5574,  -999.00,    160.3,  13.2814,  35.3110, 2,  35.3124, 2,   -999.0, 9,    112.2, 2,     8.21, 2,    21.40, 2,     0.00, 2,     1.44, 2, -999.000, 9, -999.000, 9,   -999.0, 9,   -999.0, 9,   -999.0, 9,  13.2590,   -999.0, 9, -999.000, 9
318MHYDROS4, A16C, 365, 1, 8, 8, 2, 19890406, 1746, -2.4817, -24.9817, 5574,  -999.00,    210.3,  12.7986,  35.2511, 2,  35.2514, 2,   -999.0, 9,     95.3, 2,     9.38, 2,    24.13, 2,     0.00, 2,     1.58, 2, -999.000, 9, -999.000, 9,   2181.1, 2,   -999.0, 9,   -999.0, 9,  12.7699,   -999.0, 9, -999.000, 9
318MHYDROS4, A16C, 365, 1, 9, 9, 2, 19890406, 1746, -2.4817, -24.9817, 5574,  -999.00,    262.6,  12.1896,  35.1790, 2,  35.1796, 2,   -999.0, 9,     94.4, 2,    10.16, 2,    25.40, 2,     0.00, 2,     1.65, 2, -999.000, 9, -999.000, 9,   -999.0, 9,   -999.0, 9,   -999.0, 9,  12.1549,   -999.0, 9, -999.000, 9
318MHYDROS4, A16C, 365, 1, 10, 10, 2, 19890406, 1746, -2.4817, -24.9817, 5574,  -999.00,    344.0,  10.4020,  34.9686, 2,  34.9690, 2,   -999.0, 9,     77.4, 2,    13.29, 2,    30.49, 2,     0.00, 2,     1.94, 2, -999.000, 9, -999.000, 9,   2231.3, 2,   -999.0, 9,   -999.0, 9,  10.3608,   -999.0, 9, -999.000, 9
318MHYDROS4, A16C, 365, 1, 11, 11, 2, 19890406, 1746, -2.4817, -24.9817, 5574,  -999.00,    405.4,   8.9226,  34.8029, 2,  34.8104, 2,   -999.0, 9,     75.2, 2,    16.71, 2,    33.82, 2,     0.00, 2,     2.16, 2, -999.000, 9, -999.000, 9,   -999.0, 9,   -999.0, 9,   -999.0, 9,   8.8783,   -999.0, 9, -999.000, 9
318MHYDROS4, A16C, 365, 1, 12, 12, 2, 19890406, 1746, -2.4817, -24.9817, 5574,  -999.00,    538.0,   5.9273,  34.5005, 2,  34.5033, 2,   -999.0, 9,    157.4, 2,    22.97, 2,    31.57, 2,     0.00, 2,     2.15, 2, -999.000, 9, -999.000, 9,   2205.3, 2,   -999.0, 9,   -999.0, 9,   5.8805,   -999.0, 9, -999.000, 9
318MHYDROS4, A16C, 365, 1, 13, 13, 2, 19890406, 1746, -2.4817, -24.9817, 5574,  -999.00,    619.7,   5.4202,  34.4783, 2,  34.4787, 2,   -999.0, 9,    153.9, 2,    25.61, 2,    32.94, 2,     0.00, 2,     2.25, 2, -999.000, 9, -999.000, 9,   2044.1, 4,   -999.0, 9,   -999.0, 9,   5.3683,   -999.0, 9, -999.000, 9
318MHYDROS4, A16C, 365, 1, 14, 14, 2, 19890406, 1746, -2.4817, -24.9817, 5574,  -999.00,    721.9,   4.6840,  34.4506, 2,  34.4470, 2,   -999.0, 9,    167.8, 2,    30.01, 2,    33.04, 2,     0.00, 2,     2.26, 2, -999.000, 9, -999.000, 9,   -999.0, 9,   -999.0, 9,   -999.0, 9,   4.6271,   -999.0, 9, -999.000, 9
318MHYDROS4, A16C, 365, 1, 15, 15, 2, 19890406, 1746, -2.4817, -24.9817, 5574,  -999.00,    823.9,   4.3688,  34.4794, 2,  34.4812, 2,   -999.0, 9,    167.8, 2,    32.94, 2,    33.24, 2,     0.00, 2,     2.28, 2, -999.000, 9, -999.000, 9,   2220.7, 2,   -999.0, 9,   -999.0, 9,   4.3053,   -999.0, 9, -999.000, 9
318MHYDROS4, A16C, 365, 1, 16, 16, 2, 19890406, 1746, -2.4817, -24.9817, 5574,  -999.00,   1028.4,   4.3161,  34.6586, 2,  34.6573, 2,   -999.0, 9,    168.6, 2,    31.08, 2,    31.28, 2,     0.00, 2,     2.15, 2, -999.000, 9, -999.000, 9,   -999.0, 9,   -999.0, 9,   -999.0, 9,   4.2353,   -999.0, 9, -999.000, 9
318MHYDROS4, A16C, 365, 1, 17, 17, 2, 19890406, 1746, -2.4817, -24.9817, 5574,  -999.00,   1234.0,   4.4339,  34.7942, 2,  34.7950, 2,   -999.0, 9,    183.8, 2,    26.09, 2,    28.15, 2,     0.00, 2,     1.91, 2, -999.000, 9, -999.000, 9,   -999.0, 9,   -999.0, 9,   -999.0, 9,   4.3337,   -999.0, 9, -999.000, 9
318MHYDROS4, A16C, 365, 1, 18, 18, 2, 19890406, 1746, -2.4817, -24.9817, 5574,  -999.00,   1439.3,   4.3209,  34.9485, 2,  34.9489, 2,   -999.0, 9,    224.7, 2,    19.25, 2,    22.09, 2,     0.00, 2,     1.49, 2,    0.033, 2,    0.022, 2,   2162.6, 2,   -999.0, 9,   -999.0, 9,   4.2028,   -999.0, 9, -999.000, 9
318MHYDROS4, A16C, 365, 1, 19, 19, 2, 19890406, 1746, -2.4817, -24.9817, 5574,  -999.00,   1645.6,   3.9960,  34.9790, 2,  34.9784, 2,   -999.0, 9,    246.8, 2,    17.30, 2,    19.93, 2,     0.00, 2,     1.33, 2,    0.046, 2,    0.023, 2,   2167.2, 2,   -999.0, 9,   -999.0, 9,   3.8624,   -999.0, 9, -999.000, 9
318MHYDROS4, A16C, 365, 1, 20, 20, 2, 19890406, 1746, -2.4817, -24.9817, 5574,  -999.00,   1851.5,   3.6280,  34.9731, 2,  34.9741, 2,   -999.0, 9,    261.6, 2,    18.66, 2,    19.15, 2,     0.00, 2,     1.28, 2,    0.025, 2,    0.013, 2,   2167.2, 2,   -999.0, 9,   -999.0, 9,   3.4800,   -999.0, 9, -999.000, 9
318MHYDROS4, A16C, 365, 1, 21, 21, 2, 19890406, 1746, -2.4817, -24.9817, 5574,  -999.00,   2058.0,   3.4110,  34.9610, 2,  34.9619, 2,   -999.0, 9,    255.5, 2,    21.69, 2,    19.45, 2,     0.00, 2,     1.30, 2, -999.000, 9, -999.000, 9,   -999.0, 9,   -999.0, 9,   -999.0, 9,   3.2467,   -999.0, 9, -999.000, 9
318MHYDROS4, A16C, 365, 1, 22, 22, 2, 19890406, 1746, -2.4817, -24.9817, 5574,  -999.00,   2263.7,   3.1948,  34.9485, 2,  34.9490, 2,   -999.0, 9,    254.2, 2,    25.11, 2,    19.84, 2,     0.00, 2,     1.34, 2, -999.000, 9, -999.000, 9,   2175.5, 2,   -999.0, 9,   -999.0, 9,   3.0144,   -999.0, 9, -999.000, 9
318MHYDROS4, A16C, 365, 1, 23, 23, 2, 19890406, 1746, -2.4817, -24.9817, 5574,  -999.00,   2470.0,   2.9778,  34.9290, 2,  34.9301, 2,   -999.0, 9,    248.1, 2,    31.47, 2,    20.91, 2,     0.00, 2,     1.41, 2, -999.000, 9, -999.000, 9,   -999.0, 9,   -999.0, 9,   -999.0, 9,   2.7813,   -999.0, 9, -999.000, 9
318MHYDROS4, A16C, 365, 1, 24, 24, 2, 19890406, 1746, -2.4817, -24.9817, 5574,  -999.00,   2676.4,   2.7615,  34.9147, 2,  34.9157, 2,   -999.0, 9,    246.8, 2,    36.45, 2,    21.50, 2,     0.00, 2,     1.44, 2, -999.000, 9, -999.000, 9,   2189.0, 2,   -999.0, 9,   -999.0, 9,   2.5488,   -999.0, 9, -999.000, 9
318MHYDROS4, A16C, 365, 1, 25, 25, 2, 19890406, 1746, -2.4817, -24.9817, 5574,  -999.00,   2883.4,   2.6671,  34.9123, 2,  34.9153, 2,   -999.0, 9,    249.4, 2,    36.45, 2,    21.21, 2,     0.00, 2,     1.42, 2, -999.000, 9, -999.000, 9,   -999.0, 9,   -999.0, 9,   -999.0, 9,   2.4355,   -999.0, 9, -999.000, 9
318MHYDROS4, A16C, 365, 1, 26, 26, 2, 19890406, 1746, -2.4817, -24.9817, 5574,  -999.00,   3089.9,   2.6060,  34.9106, 2, -999.0000, 9,   -999.0, 9,    252.9, 2,    35.77, 2,    20.82, 2,     0.00, 2,     1.39, 2, -999.000, 9, -999.000, 9,   -999.0, 9,   -999.0, 9,   -999.0, 9,   2.3546,   -999.0, 9, -999.000, 9
318MHYDROS4, A16C, 365, 1, 27, 27, 2, 19890406, 1746, -2.4817, -24.9817, 5574,  -999.00,   3296.7,   2.5665,  34.9084, 2,  34.9102, 2,   -999.0, 9,    258.1, 2,    35.96, 2,    20.72, 2,     0.00, 2,     1.38, 2, -999.000, 9, -999.000, 9,   2176.2, 2,   -999.0, 9,   -999.0, 9,   2.2943,   -999.0, 9, -999.000, 9
318MHYDROS4, A16C, 365, 1, 28, 28, 2, 19890406, 1746, -2.4817, -24.9817, 5574,  -999.00,   3503.2,   2.5227,  34.9076, 2,  34.9080, 2,   -999.0, 9,    259.8, 2,    34.59, 2,    20.23, 2,     0.00, 2,     1.36, 2, -999.000, 9, -999.000, 9,   -999.0, 9,   -999.0, 9,   -999.0, 9,   2.2294,   -999.0, 9, -999.000, 9
318MHYDROS4, A16C, 365, 1, 29, 29, 2, 19890406, 1746, -2.4817, -24.9817, 5574,  -999.00,   3710.3,   2.4655,  34.9077, 2,  34.9078, 2,   -999.0, 9,    265.0, 2,    31.37, 2,    19.45, 2,     0.00, 2,     1.30, 2, -999.000, 9, -999.000, 9,   -999.0, 9,   -999.0, 9,   -999.0, 9,   2.1509,   -999.0, 9, -999.000, 9
318MHYDROS4, A16C, 365, 1, 30, 30, 2, 19890406, 1746, -2.4817, -24.9817, 5574,  -999.00,   3917.7,   2.2092,  34.8847, 2,  34.8860, 2,   -999.0, 9,    262.0, 2,    38.80, 2,    20.33, 2,     0.00, 2,     1.38, 2, -999.000, 9, -999.000, 9,   2204.8, 2,   -999.0, 9,   -999.0, 9,   1.8784,   -999.0, 9, -999.000, 9
318MHYDROS4, A16C, 365, 1, 31, 31, 2, 19890406, 1746, -2.4817, -24.9817, 5574,  -999.00,   4124.6,   1.7820,  34.8344, 2,  34.8377, 2,   -999.0, 9,    249.8, 2,    60.10, 2,    23.55, 2,     0.00, 2,     1.59, 2, -999.000, 9, -999.000, 9,   -999.0, 9,   -999.0, 9,   -999.0, 9,   1.4403,   -999.0, 9, -999.000, 9
318MHYDROS4, A16C, 365, 1, 32, 32, 2, 19890406, 1746, -2.4817, -24.9817, 5574,  -999.00,   4435.8,   0.9833,  34.7458, 2,  34.7473, 2,   -999.0, 9,    231.1, 2,    97.54, 2,    28.93, 2,     0.00, 2,     1.99, 2, -999.000, 9, -999.000, 9,   -999.0, 9,   -999.0, 9,   -999.0, 9,   0.6312,   -999.0, 9, -999.000, 9
318MHYDROS4, A16C, 365, 1, 33, 33, 2, 19890406, 1746, -2.4817, -24.9817, 5574,  -999.00,   4747.4,   0.8096,  34.7233, 2,  34.7253, 2,   -999.0, 9,    226.8, 2,   107.12, 2,    30.20, 2,     0.00, 2,     2.09, 2, -999.000, 9, -999.000, 9,   2253.1, 2,   -999.0, 9,   -999.0, 9,   0.4280,   -999.0, 9, -999.000, 9
318MHYDROS4, A16C, 365, 1, 34, 34, 2, 19890406, 1746, -2.4817, -24.9817, 5574,  -999.00,   5059.5,   0.7448,  34.7130, 2,  34.7133, 2,   -999.0, 9,    225.1, 2,   111.62, 2,    30.98, 2,     0.00, 2,     2.14, 2, -999.000, 9, -999.000, 9,   -999.0, 9,   -999.0, 9,   -999.0, 9,   0.3290,   -999.0, 9, -999.000, 9
318MHYDROS4, A16C, 365, 1, 35, 35, 2, 19890406, 1746, -2.4817, -24.9817, 5574,  -999.00,   5371.2,   0.6923,  34.7040, 2,  34.7040, 2,   -999.0, 9,    224.2, 2,   116.51, 2,    31.47, 2,     0.00, 2,     2.18, 2, -999.000, 9, -999.000, 9,   -999.0, 9,   -999.0, 9,   -999.0, 9,   0.2411,   5372.5, 2,    0.681, 2
318MHYDROS4, A16C, 365, 1, 36, 36, 2, 19890406, 1746, -2.4817, -24.9817, 5574,  -999.00,   5714.9,   0.7265,  34.7025, 2,  34.7022, 2,   -999.0, 9,    223.3, 2,   117.19, 2,    31.47, 2,     0.00, 2,     2.19, 2, -999.000, 9, -999.000, 9,   2256.7, 2,   -999.0, 9,   -999.0, 9,   0.2313,   -999.0, 9, -999.000, 9