BOTTLE,20110318CCHDOSIODM
EXPOCODE,SECT_ID,STNNBR,CASTNO,SAMPNO,BTLNBR,BTLNBR_FLAG_W,DATE,TIME,LATITUDE,LONGITUDE,DEPTH,CTDRAW,CTDPRS,CTDTMP,CTDSAL,CTDSAL_FLAG_W,SALNTY,SALNTY_FLAG_W,CTDOXY,CTDOXY_FLAG_W,OXYGEN,OXYGEN_FLAG_W,SILCAT,SILCAT_FLAG_W,NITRAT,NITRAT_FLAG_W,NITRIT,NITRIT_FLAG_W,PHSPHT,PHSPHT_FLAG_W,CFC-11,CFC-11_FLAG_W,CFC-12,CFC-12_FLAG_W,TCARBN,TCARBN_FLAG_W,ALKALI,ALKALI_FLAG_W,PCO2,PCO2_FLAG_W,THETA,REVPRS,REVPRS_FLAG_W,REVTMP,REVTMP_FLAG_W
,,,,,,,,,,,METERS,DBAR,DBAR,ITS-90,PSS-78,,PSS-78,,UMOL/KG,,UMOL/KG,,UMOL/KG,,UMOL/KG,,UMOL/KG,,UMOL/KG,,PMOL/KG,,PMOL/KG,,UMOL/KG,,UMOL/KG,,UATM,,DEG C,DBAR,,ITS-90,
318MHYDROS4, A16C, 330, 1, 1, 1, 2, 19890326, 0758, -22.6417, -25.0067, 5459,  -999.00,      1.4,  27.5106,  37.0980, 2,  37.1040, 2,   -999.0, 9,    205.4, 2,     1.76, 2,     0.00, 2,     0.00, 2,     0.13, 2,    1.528, 2,    0.781, 2,   2062.1, 2,   2435.0, 2,    283.8, 2,  27.5103,   -999.0, 9, -999.000, 9
318MHYDROS4, A16C, 330, 1, 2, 2, 2, 19890326, 0758, -22.6417, -25.0067, 5459,  -999.00,     36.8,  27.3508,  37.0679, 2,  37.0310, 2,   -999.0, 9,    212.8, 2,     1.95, 2,     0.00, 2,     0.00, 2,     0.11, 2, -999.000, 9, -999.000, 9,   2061.8, 2,   2433.3, 2,    284.5, 2,  27.3422,   -999.0, 9, -999.000, 9
318MHYDROS4, A16C, 330, 1, 3, 3, 2, 19890326, 0758, -22.6417, -25.0067, 5459,  -999.00,     67.4,  23.2253,  36.7239, 2,  36.7250, 2,   -999.0, 9,    230.0, 2,     2.34, 2,     0.00, 2,     0.00, 2,     0.12, 2, -999.000, 9, -999.000, 9,   -999.0, 9,   -999.0, 9,   -999.0, 9,  23.2114,   -999.0, 9, -999.000, 9
318MHYDROS4, A16C, 330, 1, 71, 71, 2, 19890326, 0758, -22.6417, -25.0067, 5459,  -999.00,    108.7,  21.6294,  36.6113, 2,  36.6130, 2,   -999.0, 9,    220.8, 2,     2.24, 2,     0.00, 2,     0.00, 2,     0.14, 2,    1.881, 2,    0.923, 2,   2064.5, 2,   -999.0, 9,   -999.0, 9,  21.6080,   -999.0, 9, -999.000, 9
318MHYDROS4, A16C, 330, 1, 5, 5, 2, 19890326, 0758, -22.6417, -25.0067, 5459,  -999.00,    159.8,  20.0405,  36.3210, 2,  36.3070, 2,   -999.0, 9,    211.6, 2,     2.25, 2,     0.00, 2,     0.12, 2,     0.20, 2, -999.000, 9, -999.000, 9,   -999.0, 9,   -999.0, 9,   -999.0, 9,  20.0107,   -999.0, 9, -999.000, 9
318MHYDROS4, A16C, 330, 1, 6, 6, 2, 19890326, 0758, -22.6417, -25.0067, 5459,  -999.00,    210.9,  16.7751,  35.6925, 2,  35.6640, 2,   -999.0, 9,    208.5, 2,     2.83, 2,     2.93, 2,     0.01, 2,     0.40, 2,    1.977, 2,    0.994, 2,   2080.9, 2,   -999.0, 9,   -999.0, 9,  16.7404,   -999.0, 9, -999.000, 9
318MHYDROS4, A16C, 330, 1, 7, 7, 2, 19890326, 0758, -22.6417, -25.0067, 5459,  -999.00,    261.9,  14.7433,  35.3779, 2,  35.3690, 2,   -999.0, 9,    208.0, 2,     3.42, 2,     6.15, 2,     0.01, 2,     0.58, 2, -999.000, 9, -999.000, 9,   -999.0, 9,   -999.0, 9,   -999.0, 9,  14.7039,   -999.0, 9, -999.000, 9
318MHYDROS4, A16C, 330, 1, 8, 8, 2, 19890326, 0758, -22.6417, -25.0067, 5459,  -999.00,    313.0,  13.5135,  35.2189, 2,  35.2220, 2,   -999.0, 9,    205.4, 2,     4.20, 2,     8.89, 2,     0.01, 2,     0.72, 2,    1.866, 2,    0.916, 2,   2095.7, 2,   -999.0, 9,   -999.0, 9,  13.4691,   -999.0, 9, -999.000, 9
318MHYDROS4, A16C, 330, 1, 9, 9, 2, 19890326, 0758, -22.6417, -25.0067, 5459,  -999.00,    414.9,  11.4230,  34.9710, 2,  34.9700, 2,   -999.0, 9,    194.9, 2,     6.74, 2,    14.95, 2,     0.01, 2,     1.07, 2,    1.413, 2,    0.678, 2,   2119.2, 2,   -999.0, 9,   -999.0, 9,  11.3701,   -999.0, 9, -999.000, 9
318MHYDROS4, A16C, 330, 1, 10, 10, 2, 19890326, 0758, -22.6417, -25.0067, 5459,  -999.00,    516.9,   9.0220,  34.7093, 2,  34.7100, 2,   -999.0, 9,    184.8, 2,    12.02, 2,    21.70, 2,     0.00, 2,     1.50, 2,    0.973, 2,    0.478, 2,   2146.3, 2,   -999.0, 9,   -999.0, 9,   8.9650,   -999.0, 9, -999.000, 9
318MHYDROS4, A16C, 330, 1, 11, 11, 2, 19890326, 0758, -22.6417, -25.0067, 5459,  -999.00,    618.7,   6.8543,  34.5082, 2,  34.5130, 2,   -999.0, 9,    188.7, 2,    17.89, 2,    26.49, 2,     0.00, 2,     1.80, 2,    0.653, 2,    0.311, 2,   2168.3, 2,   -999.0, 9,   -999.0, 9,   6.7957,   -999.0, 9, -999.000, 9
318MHYDROS4, A16C, 330, 1, 12, 12, 2, 19890326, 0758, -22.6417, -25.0067, 5459,  -999.00,    720.1,   5.2640,  34.3969, 2,  34.3980, 2,   -999.0, 9,    194.8, 2,    24.54, 2,    29.52, 2,     0.00, 2,     2.00, 2,    0.407, 2,    0.217, 2,   2179.6, 2,   -999.0, 9,   -999.0, 9,   5.2041,   -999.0, 9, -999.000, 9
318MHYDROS4, A16C, 330, 1, 13, 13, 2, 19890326, 0758, -22.6417, -25.0067, 5459,  -999.00,    821.7,   4.3981,  34.3983, 2,  34.3990, 2,   -999.0, 9,    183.5, 2,    32.95, 2,    32.16, 2,     0.00, 2,     2.19, 2,    0.109, 2,    0.057, 2,   2190.4, 2,   -999.0, 9,   -999.0, 9,   4.3347,   -999.0, 9, -999.000, 9
318MHYDROS4, A16C, 330, 1, 14, 14, 2, 19890326, 0758, -22.6417, -25.0067, 5459,  -999.00,    923.5,   3.9002,  34.4299, 2,  34.4300, 2,   -999.0, 9,    181.7, 2,    39.01, 2,    32.55, 2,     0.00, 2,     2.22, 2,    0.042, 2,    0.025, 2,   2205.7, 2,   -999.0, 9,   -999.0, 9,   3.8317,   -999.0, 9, -999.000, 9
318MHYDROS4, A16C, 330, 1, 15, 15, 2, 19890326, 0758, -22.6417, -25.0067, 5459,  -999.00,   1025.5,   3.6184,  34.4844, 2,  34.4840, 2,   -999.0, 9,    183.9, 2,    42.91, 2,    32.26, 2,     0.00, 2,     2.20, 2,    0.017, 2,    0.011, 2,   2210.8, 2,   -999.0, 9,   -999.0, 9,   3.5437,   -999.0, 9, -999.000, 9
318MHYDROS4, A16C, 330, 1, 16, 16, 2, 19890326, 0758, -22.6417, -25.0067, 5459,  -999.00,   1229.7,   3.1556,  34.5941, 2,  34.5950, 2,   -999.0, 9,    187.8, 2,    51.32, 2,    30.89, 2,     0.00, 2,     2.12, 2,    0.016, 2,    0.006, 2,   2220.9, 2,   -999.0, 9,   -999.0, 9,   3.0682,   -999.0, 9, -999.000, 9
318MHYDROS4, A16C, 330, 1, 17, 17, 2, 19890326, 0758, -22.6417, -25.0067, 5459,  -999.00,   1435.1,   3.1214,  34.7285, 2,  34.7280, 2,   -999.0, 9,    201.2, 2,    47.99, 2,    28.05, 2,     0.00, 2,     1.91, 2,    0.000, 2,    0.000, 2,   2210.8, 2,   -999.0, 9,   -999.0, 9,   3.0173,   -999.0, 9, -999.000, 9
318MHYDROS4, A16C, 330, 1, 18, 18, 2, 19890326, 0758, -22.6417, -25.0067, 5459,  -999.00,   1640.8,   3.2740,  34.8518, 2,  34.8530, 2,   -999.0, 9,    224.7, 2,    36.65, 2,    24.04, 2,     0.00, 2,     1.61, 2,    0.004, 2,    0.006, 2,   2192.2, 2,   -999.0, 9,   -999.0, 9,   3.1501,   -999.0, 9, -999.000, 9
318MHYDROS4, A16C, 330, 1, 19, 19, 2, 19890326, 0758, -22.6417, -25.0067, 5459,  -999.00,   1790.5,   3.3568,  34.9079, 2,  34.9080, 2,   -999.0, 9,    239.0, 2,    29.81, 2,    21.79, 2,     0.00, 2,     1.46, 2,    0.005, 2,    0.010, 2,   -999.0, 9,   -999.0, 9,   -999.0, 9,   3.2183,   -999.0, 9, -999.000, 9
318MHYDROS4, A16C, 330, 1, 20, 20, 2, 19890326, 0758, -22.6417, -25.0067, 5459,  -999.00,   2052.2,   3.2532,  34.9424, 2,  34.9430, 2,   -999.0, 9,    251.6, 2,    25.70, 2,    20.03, 2,     0.00, 2,     1.33, 2, -999.000, 9, -999.000, 9,   2157.8, 2,   -999.0, 9,   -999.0, 9,   3.0920,   -999.0, 9, -999.000, 9
318MHYDROS4, A16C, 330, 1, 21, 21, 2, 19890326, 0758, -22.6417, -25.0067, 5459,  -999.00,   2258.2,   3.0844,  34.9331, 2,  34.9340, 2,   -999.0, 9,    251.6, 2,    28.24, 2,    20.13, 2,     0.00, 2,     1.35, 2,    0.000, 2,    0.002, 2,   -999.0, 9,   -999.0, 9,   -999.0, 9,   2.9065,   -999.0, 9, -999.000, 9
318MHYDROS4, A16C, 330, 1, 22, 22, 2, 19890326, 0758, -22.6417, -25.0067, 5459,  -999.00,   2464.1,   2.9500,  34.9281, 2,  34.9280, 2,   -999.0, 9,    251.6, 2,    30.59, 2,    20.33, 2,     0.00, 2,     1.35, 2, -999.000, 9, -999.000, 9,   2172.9, 2,   -999.0, 9,   -999.0, 9,   2.7546,   -999.0, 9, -999.000, 9
318MHYDROS4, A16C, 330, 1, 23, 23, 2, 19890326, 0758, -22.6417, -25.0067, 5459,  -999.00,   2722.3,   2.7709,  34.9182, 2,  34.9180, 2,   -999.0, 9,    251.6, 2,    33.81, 2,    20.62, 2,     0.00, 2,     1.38, 2,    0.017, 2,    0.007, 2,   -999.0, 9,   -999.0, 9,   -999.0, 9,   2.5534,   -999.0, 9, -999.000, 9
318MHYDROS4, A16C, 330, 1, 24, 24, 2, 19890326, 0758, -22.6417, -25.0067, 5459,  -999.00,   2982.1,   2.6729,  34.9137, 2,  34.9150, 2,   -999.0, 9,    252.9, 2,    35.57, 2,    20.52, 2,     0.00, 2,     1.38, 2, -999.000, 9, -999.000, 9,   2179.7, 2,   -999.0, 9,   -999.0, 9,   2.4311,   -999.0, 9, -999.000, 9
318MHYDROS4, A16C, 330, 1, 25, 25, 2, 19890326, 0758, -22.6417, -25.0067, 5459,  -999.00,   3252.4,   2.5382,  34.9038, 2,  34.9060, 2,   -999.0, 9,    253.3, 2,    38.31, 2,    20.72, 2,     0.00, 2,     1.44, 2,    0.002, 2,    0.004, 2,   -999.0, 9,   -999.0, 9,   -999.0, 9,   2.2714,   -999.0, 9, -999.000, 9
318MHYDROS4, A16C, 330, 1, 26, 26, 2, 19890326, 0758, -22.6417, -25.0067, 5459,  -999.00,   3501.3,   2.3303,  34.8846, 2,  34.8850, 2,   -999.0, 9,    252.0, 2,    45.35, 2,    21.70, 2,     0.00, 2,     1.47, 2, -999.000, 9, -999.000, 9,   2182.6, 2,   -999.0, 9,   -999.0, 9,   2.0421,   -999.0, 9, -999.000, 9
318MHYDROS4, A16C, 330, 1, 27, 27, 2, 19890326, 0758, -22.6417, -25.0067, 5459,  -999.00,   3709.1,   2.0500,  34.8561, 2,  34.8570, 2,   -999.0, 9,    247.7, 2,    56.29, 2,    23.16, 2,     0.00, 2,     1.57, 2,    0.001, 2,    0.000, 2,   -999.0, 9,   -999.0, 9,   -999.0, 9,   1.7467,   -999.0, 9, -999.000, 9
318MHYDROS4, A16C, 330, 1, 28, 28, 2, 19890326, 0758, -22.6417, -25.0067, 5459,  -999.00,   3916.6,   1.8017,  34.8292, 2,  34.8290, 2,   -999.0, 9,    242.9, 2,    67.34, 2,    24.63, 2,     0.00, 2,     1.67, 2, -999.000, 9, -999.000, 9,   2204.9, 2,   -999.0, 9,   -999.0, 9,   1.4826,   -999.0, 9, -999.000, 9
318MHYDROS4, A16C, 330, 1, 29, 29, 2, 19890326, 0758, -22.6417, -25.0067, 5459,  -999.00,   4124.9,   1.5384,  34.8005, 2,  34.8010, 2,   -999.0, 9,    238.5, 2,    78.19, 2,    26.19, 2,     0.00, 2,     1.79, 2,    0.000, 2,    0.000, 2,   -999.0, 9,   -999.0, 9,   -999.0, 9,   1.2039,   -999.0, 9, -999.000, 9
318MHYDROS4, A16C, 330, 1, 30, 30, 2, 19890326, 0758, -22.6417, -25.0067, 5459,  -999.00,   4332.7,   1.3060,  34.7755, 2,  34.7760, 2,   -999.0, 9,    234.2, 2,    88.74, 2,    27.46, 2,     0.00, 2,     1.89, 2, -999.000, 9, -999.000, 9,   2227.7, 2,   -999.0, 9,   -999.0, 9,   0.9554,   -999.0, 9, -999.000, 9
318MHYDROS4, A16C, 330, 1, 31, 31, 2, 19890326, 0758, -22.6417, -25.0067, 5459,  -999.00,   4539.8,   1.1139,  34.7538, 2,  34.7550, 2,   -999.0, 9,    231.1, 2,    97.05, 2,    28.64, 2,     0.00, 2,     1.97, 2,    0.001, 2,    0.000, 2,   -999.0, 9,   -999.0, 9,   -999.0, 9,   0.7459,   -999.0, 9, -999.000, 9
318MHYDROS4, A16C, 330, 1, 32, 32, 2, 19890326, 0758, -22.6417, -25.0067, 5459,  -999.00,   4747.0,   0.9771,  34.7380, 2,  34.7380, 2,   -999.0, 9,    228.5, 2,   102.72, 2,    29.52, 2,     0.00, 2,     2.03, 2, -999.000, 9, -999.000, 9,   2240.8, 2,   -999.0, 9,   -999.0, 9,   0.5899,   -999.0, 9, -999.000, 9
318MHYDROS4, A16C, 330, 1, 33, 33, 2, 19890326, 0758, -22.6417, -25.0067, 5459,  -999.00,   4954.6,   0.8371,  34.7225, 2,  34.7220, 2,   -999.0, 9,    225.9, 2,   108.88, 2,    30.10, 2,     0.00, 2,     2.08, 2,    0.008, 2,    0.002, 2,   -999.0, 9,   -999.0, 9,   -999.0, 9,   0.4305,   -999.0, 9, -999.000, 9
318MHYDROS4, A16C, 330, 1, 34, 34, 2, 19890326, 0758, -22.6417, -25.0067, 5459,  -999.00,   5163.2,   0.7459,  34.7116, 2,  34.7110, 2,   -999.0, 9,    225.1, 2,   113.57, 2,    30.79, 2,     0.00, 2,     2.12, 2, -999.000, 9, -999.000, 9,   2243.3, 2,   -999.0, 9,   -999.0, 9,   0.3178,   -999.0, 9, -999.000, 9
318MHYDROS4, A16C, 330, 1, 35, 35, 2, 19890326, 0758, -22.6417, -25.0067, 5459,  -999.00,   5372.9,   0.7137,  34.7059, 2,  34.7060, 2,   -999.0, 9,    224.2, 2,   115.43, 2,    31.08, 2,     0.00, 2,     2.16, 2,    0.008, 2,    0.007, 2,   -999.0, 9,   -999.0, 9,   -999.0, 9,   0.2615,   5370.8, 2,    0.709, 2
318MHYDROS4, A16C, 330, 1, 36, 36, 2, 19890326, 0758, -22.6417, -25.0067, 5459,  -999.00,   5556.2,   0.5997,  34.6932, 2,  34.6920, 2,   -999.0, 9,    223.3, 2,   120.51, 2,    31.67, 2,     0.00, 2,     2.21, 2,    0.024, 2,    0.016, 2,   2256.3, 2,   -999.0, 9,   -999.0, 9,   0.1292,   -999.0, 9, -999.000, 9