BOTTLE,20110318CCHDOSIODM
EXPOCODE,SECT_ID,STNNBR,CASTNO,SAMPNO,BTLNBR,BTLNBR_FLAG_W,DATE,TIME,LATITUDE,LONGITUDE,DEPTH,CTDRAW,CTDPRS,CTDTMP,CTDSAL,CTDSAL_FLAG_W,SALNTY,SALNTY_FLAG_W,CTDOXY,CTDOXY_FLAG_W,OXYGEN,OXYGEN_FLAG_W,SILCAT,SILCAT_FLAG_W,NITRAT,NITRAT_FLAG_W,NITRIT,NITRIT_FLAG_W,PHSPHT,PHSPHT_FLAG_W,CFC-11,CFC-11_FLAG_W,CFC-12,CFC-12_FLAG_W,TCARBN,TCARBN_FLAG_W,ALKALI,ALKALI_FLAG_W,PCO2,PCO2_FLAG_W,THETA,REVPRS,REVPRS_FLAG_W,REVTMP,REVTMP_FLAG_W
,,,,,,,,,,,METERS,DBAR,DBAR,ITS-90,PSS-78,,PSS-78,,UMOL/KG,,UMOL/KG,,UMOL/KG,,UMOL/KG,,UMOL/KG,,UMOL/KG,,PMOL/KG,,PMOL/KG,,UMOL/KG,,UMOL/KG,,UATM,,DEG C,DBAR,,ITS-90,
318MHYDROS4, A16C, 367, 1, 1, 1, 2, 19890407, 0624, -1.4933, -24.9900, 4691,  -999.00,      1.2,  28.6349,  35.7514, 2,  35.7530, 2,   -999.0, 9,    210.5, 2,     2.05, 2,     0.00, 2,     0.00, 2,     0.05, 2, -999.000, 9, -999.000, 9,   1989.1, 2,   -999.0, 9,   -999.0, 9,  28.6346,   -999.0, 9, -999.000, 9
318MHYDROS4, A16C, 367, 1, 2, 2, 2, 19890407, 0624, -1.4933, -24.9900, 4691,  -999.00,     40.9,  28.1663,  35.8850, 2,  35.9220, 2,   -999.0, 9,    214.8, 2,     2.15, 2,     0.00, 2,     0.00, 2,     0.05, 2, -999.000, 9, -999.000, 9,   2001.2, 2,   -999.0, 9,   -999.0, 9,  28.1566,   -999.0, 9, -999.000, 9
318MHYDROS4, A16C, 367, 1, 3, 3, 2, 19890407, 0624, -1.4933, -24.9900, 4691,  -999.00,     62.0,  25.7713,  36.1922, 2,  36.1830, 2,   -999.0, 9,    204.5, 2,     2.34, 2,     0.10, 2,     0.01, 2,     0.19, 2, -999.000, 9, -999.000, 9,   -999.0, 9,   -999.0, 9,   -999.0, 9,  25.7575,   -999.0, 9, -999.000, 9
318MHYDROS4, A16C, 367, 1, 71, 71, 2, 19890407, 0624, -1.4933, -24.9900, 4691,  -999.00,     77.7,  20.3006,  35.9474, 2,  35.9570, 2,   -999.0, 9,    141.5, 2,     4.30, 2,     8.50, 2,     0.60, 2,     0.78, 2, -999.000, 9, -999.000, 9,   -999.0, 9,   -999.0, 9,   -999.0, 9,  20.2860,   -999.0, 9, -999.000, 9
318MHYDROS4, A16C, 367, 1, 5, 5, 2, 19890407, 0624, -1.4933, -24.9900, 4691,  -999.00,     93.0,  16.4404,  35.6819, 2,  35.6850, 2,   -999.0, 9,    132.7, 2,     5.96, 2,    14.46, 2,     0.11, 2,     1.07, 2, -999.000, 9, -999.000, 9,   -999.0, 9,   -999.0, 9,   -999.0, 9,  16.4254,   -999.0, 9, -999.000, 9
318MHYDROS4, A16C, 367, 1, 6, 6, 2, 19890407, 0624, -1.4933, -24.9900, 4691,  -999.00,    115.4,  14.4854,  35.4731, 2,  35.4710, 2,   -999.0, 9,    129.2, 2,     6.94, 2,    17.49, 2,     0.02, 2,     1.22, 2, -999.000, 9, -999.000, 9,   -999.0, 9,   -999.0, 9,   -999.0, 9,  14.4683,   -999.0, 9, -999.000, 9
318MHYDROS4, A16C, 367, 1, 7, 7, 2, 19890407, 0624, -1.4933, -24.9900, 4691,  -999.00,    148.9,  13.4957,  35.3382, 2,  35.3370, 2,   -999.0, 9,    128.3, 2,     8.01, 2,    19.15, 2,     0.01, 2,     1.33, 2, -999.000, 9, -999.000, 9,   -999.0, 9,   -999.0, 9,   -999.0, 9,  13.4747,   -999.0, 9, -999.000, 9
318MHYDROS4, A16C, 367, 1, 8, 8, 2, 19890407, 0624, -1.4933, -24.9900, 4691,  -999.00,    199.6,  13.0853,  35.2861, 2,  35.2850, 2,   -999.0, 9,    108.3, 2,     9.48, 2,    22.18, 2,     0.00, 2,     1.49, 2, -999.000, 9, -999.000, 9,   -999.0, 9,   -999.0, 9,   -999.0, 9,  13.0577,   -999.0, 9, -999.000, 9
318MHYDROS4, A16C, 367, 1, 9, 9, 2, 19890407, 0624, -1.4933, -24.9900, 4691,  -999.00,    245.9,  12.5527,  35.2202, 2,  35.2190, 2,   -999.0, 9,     92.2, 2,    10.16, 2,    24.82, 2,     0.00, 2,     1.62, 2, -999.000, 9, -999.000, 9,   -999.0, 9,   -999.0, 9,   -999.0, 9,  12.5195,   -999.0, 9, -999.000, 9
318MHYDROS4, A16C, 367, 1, 10, 10, 2, 19890407, 0624, -1.4933, -24.9900, 4691,  -999.00,    348.0,   9.7845,  34.8893, 2,  34.8930, 2,   -999.0, 9,     88.3, 2,    14.85, 2,    30.69, 2,     0.00, 2,     1.97, 2, -999.000, 9, -999.000, 9,   -999.0, 9,   -999.0, 9,   -999.0, 9,   9.7444,   -999.0, 9, -999.000, 9
318MHYDROS4, A16C, 367, 1, 11, 11, 2, 19890407, 0624, -1.4933, -24.9900, 4691,  -999.00,    399.3,   8.0506,  34.6919, 2,  34.6940, 2,   -999.0, 9,    143.1, 2,    16.62, 2,    28.25, 2,     0.00, 2,     1.91, 2, -999.000, 9, -999.000, 9,   -999.0, 9,   -999.0, 9,   -999.0, 9,   8.0097,   -999.0, 9, -999.000, 9
318MHYDROS4, A16C, 367, 1, 12, 12, 2, 19890407, 0624, -1.4933, -24.9900, 4691,  -999.00,    516.4,   6.4899,  34.5451, 2,  34.5480, 2,   -999.0, 9,    155.7, 2,    21.60, 2,    30.60, 2,     0.00, 2,     2.08, 2, -999.000, 9, -999.000, 9,   -999.0, 9,   -999.0, 9,   -999.0, 9,   6.4428,   -999.0, 9, -999.000, 9
318MHYDROS4, A16C, 367, 1, 13, 13, 2, 19890407, 0624, -1.4933, -24.9900, 4691,  -999.00,    618.3,   5.3638,  34.4840, 2,  34.4840, 2,   -999.0, 9,    158.2, 2,    27.47, 2,    32.75, 2,     0.00, 2,     2.26, 2, -999.000, 9, -999.000, 9,   -999.0, 9,   -999.0, 9,   -999.0, 9,   5.3123,   -999.0, 9, -999.000, 9
318MHYDROS4, A16C, 367, 1, 14, 14, 2, 19890407, 0624, -1.4933, -24.9900, 4691,  -999.00,    771.6,   4.7668,  34.5054, 2,  34.5040, 2,   -999.0, 9,    152.6, 2,    31.48, 2,    34.12, 2,     0.00, 2,     2.36, 2, -999.000, 9, -999.000, 9,   -999.0, 9,   -999.0, 9,   -999.0, 9,   4.7051,   -999.0, 9, -999.000, 9
318MHYDROS4, A16C, 367, 1, 15, 15, 2, 19890407, 0624, -1.4933, -24.9900, 4691,  -999.00,    924.4,   4.4271,  34.5627, 2,  34.5620, 2,   -999.0, 9,    160.0, 2,    32.84, 2,    33.24, 2,     0.00, 2,     2.29, 2, -999.000, 9, -999.000, 9,   -999.0, 9,   -999.0, 9,   -999.0, 9,   4.3546,   -999.0, 9, -999.000, 9
318MHYDROS4, A16C, 367, 1, 16, 16, 2, 19890407, 0624, -1.4933, -24.9900, 4691,  -999.00,   1026.7,   4.3529,  34.6524, 2,  34.6500, 2,   -999.0, 9,    167.3, 2,    31.77, 2,    31.47, 2,     0.00, 2,     2.17, 2, -999.000, 9, -999.000, 9,   -999.0, 9,   -999.0, 9,   -999.0, 9,   4.2719,   -999.0, 9, -999.000, 9
318MHYDROS4, A16C, 367, 1, 17, 17, 2, 19890407, 0624, -1.4933, -24.9900, 4691,  -999.00,   1232.0,   4.4828,  34.8173, 2,  34.8160, 2,   -999.0, 9,    184.7, 2,    25.80, 2,    27.66, 2,     0.00, 2,     1.90, 2, -999.000, 9, -999.000, 9,   -999.0, 9,   -999.0, 9,   -999.0, 9,   4.3823,   -999.0, 9, -999.000, 9
318MHYDROS4, A16C, 367, 1, 18, 18, 2, 19890407, 0624, -1.4933, -24.9900, 4691,  -999.00,   1437.8,   4.2774,  34.9635, 2,  34.9620, 2,   -999.0, 9,    230.7, 2,    18.57, 2,    21.30, 2,     0.00, 2,     1.45, 2,    0.033, 2,    0.019, 2,   2169.0, 2,   -999.0, 9,   -999.0, 9,   4.1599,   -999.0, 9, -999.000, 9
318MHYDROS4, A16C, 367, 1, 19, 19, 2, 19890407, 0624, -1.4933, -24.9900, 4691,  -999.00,   1540.9,   4.2043,  34.9711, 2,  34.9710, 2,   -999.0, 9,    236.4, 2,    18.08, 2,    20.72, 2,     0.00, 2,     1.39, 2,    0.037, 2,    0.022, 2,   2170.6, 2,   -999.0, 9,   -999.0, 9,   4.0780,   -999.0, 9, -999.000, 9
318MHYDROS4, A16C, 367, 1, 20, 20, 2, 19890407, 0624, -1.4933, -24.9900, 4691,  -999.00,   1644.2,   4.1221,  34.9778, 2,  34.9770, 2,   -999.0, 9,    242.9, 2,    17.49, 2,    20.03, 2,     0.00, 2,     1.36, 2,    0.042, 2,    0.027, 2,   2169.6, 2,   -999.0, 9,   -999.0, 9,   3.9871,   -999.0, 9, -999.000, 9
318MHYDROS4, A16C, 367, 1, 21, 21, 2, 19890407, 0624, -1.4933, -24.9900, 4691,  -999.00,   1747.3,   3.9731,  34.9828, 2,  34.9820, 2,   -999.0, 9,    249.8, 2,    17.10, 2,    19.35, 2,     0.00, 2,     1.31, 2,    0.042, 2,    0.023, 2,   -999.0, 9,   -999.0, 9,   -999.0, 9,   3.8303,   -999.0, 9, -999.000, 9
318MHYDROS4, A16C, 367, 1, 22, 22, 2, 19890407, 0624, -1.4933, -24.9900, 4691,  -999.00,   1850.0,   3.8127,  34.9791, 2,  34.9780, 2,   -999.0, 9,    253.3, 2,    18.18, 2,    19.15, 2,     0.00, 2,     1.29, 2, -999.000, 9, -999.000, 9,   -999.0, 9,   -999.0, 9,   -999.0, 9,   3.6623,   -999.0, 9, -999.000, 9
318MHYDROS4, A16C, 367, 1, 23, 23, 2, 19890407, 0624, -1.4933, -24.9900, 4691,  -999.00,   2056.2,   3.4474,  34.9601, 2,  34.9600, 2,   -999.0, 9,    252.9, 2,    22.48, 2,    19.64, 2,     0.00, 2,     1.32, 2, -999.000, 9, -999.000, 9,   -999.0, 9,   -999.0, 9,   -999.0, 9,   3.2827,   -999.0, 9, -999.000, 9
318MHYDROS4, A16C, 367, 1, 24, 24, 2, 19890407, 0624, -1.4933, -24.9900, 4691,  -999.00,   2260.8,   3.1665,  34.9462, 2,  34.9460, 2,   -999.0, 9,    253.3, 2,    26.39, 2,    19.94, 2,     0.00, 2,     1.34, 2, -999.000, 9, -999.000, 9,   -999.0, 9,   -999.0, 9,   -999.0, 9,   2.9868,   -999.0, 9, -999.000, 9
318MHYDROS4, A16C, 367, 1, 25, 25, 2, 19890407, 0624, -1.4933, -24.9900, 4691,  -999.00,   2465.8,   3.0732,  34.9453, 2,  34.9470, 2,   -999.0, 9,    256.8, 2,    25.60, 2,    19.45, 2,     0.00, 2,     1.31, 2, -999.000, 9, -999.000, 9,   -999.0, 9,   -999.0, 9,   -999.0, 9,   2.8752,   -999.0, 9, -999.000, 9
318MHYDROS4, A16C, 367, 1, 26, 26, 2, 19890407, 0624, -1.4933, -24.9900, 4691,  -999.00,   2725.5,   2.8325,  34.9275, 2,  34.9280, 2,   -999.0, 9,    254.2, 2,    30.98, 2,    20.23, 2,     0.00, 2,     1.36, 2, -999.000, 9, -999.000, 9,   -999.0, 9,   -999.0, 9,   -999.0, 9,   2.6135,   -999.0, 9, -999.000, 9
318MHYDROS4, A16C, 367, 1, 27, 27, 2, 19890407, 0624, -1.4933, -24.9900, 4691,  -999.00,   2983.0,   2.7060,  34.9177, 2,  34.9170, 2,   -999.0, 9,    252.9, 2,    34.30, 2,    20.42, 2,     0.00, 2,     1.37, 2, -999.000, 9, -999.000, 9,   -999.0, 9,   -999.0, 9,   -999.0, 9,   2.4635,   -999.0, 9, -999.000, 9
318MHYDROS4, A16C, 367, 1, 28, 28, 2, 19890407, 0624, -1.4933, -24.9900, 4691,  -999.00,   3235.7,   2.5666,  34.9062, 2,  34.9050, 2,   -999.0, 9,    250.7, 2,    37.82, 2,    20.91, 2,     0.00, 2,     1.42, 2, -999.000, 9, -999.000, 9,   -999.0, 9,   -999.0, 9,   -999.0, 9,   2.3008,   -999.0, 9, -999.000, 9
318MHYDROS4, A16C, 367, 1, 29, 29, 2, 19890407, 0624, -1.4933, -24.9900, 4691,  -999.00,   3443.5,   2.5065,  34.9064, 2,  34.9060, 2,   -999.0, 9,    257.2, 2,    35.28, 2,    20.23, 2,     0.00, 2,     1.38, 2, -999.000, 9, -999.000, 9,   -999.0, 9,   -999.0, 9,   -999.0, 9,   2.2201,   3441.8, 2,    2.497, 2
318MHYDROS4, A16C, 367, 1, 30, 30, 2, 19890407, 0624, -1.4933, -24.9900, 4691,  -999.00,   3651.4,   2.3903,  34.9033, 2,  34.9030, 2,   -999.0, 9,    263.7, 2,    32.64, 2,    19.25, 2,     0.00, 2,     1.31, 2, -999.000, 9, -999.000, 9,   -999.0, 9,   -999.0, 9,   -999.0, 9,   2.0842,   -999.0, 9, -999.000, 9
318MHYDROS4, A16C, 367, 1, 31, 31, 2, 19890407, 0624, -1.4933, -24.9900, 4691,  -999.00,   3807.0,   2.3431,  34.8991, 2,  34.8980, 2,   -999.0, 9,    263.7, 2,    33.62, 2,    19.35, 2,     0.00, 2,     1.32, 2, -999.000, 9, -999.000, 9,   -999.0, 9,   -999.0, 9,   -999.0, 9,   2.0210,   -999.0, 9, -999.000, 9
318MHYDROS4, A16C, 367, 1, 32, 32, 2, 19890407, 0624, -1.4933, -24.9900, 4691,  -999.00,   4015.1,   2.2259,  34.8854, 2,  34.8850, 2,   -999.0, 9,    262.0, 2,    39.29, 2,    20.23, 2,     0.00, 2,     1.37, 2, -999.000, 9, -999.000, 9,   -999.0, 9,   -999.0, 9,   -999.0, 9,   1.8837,   -999.0, 9, -999.000, 9
318MHYDROS4, A16C, 367, 1, 33, 33, 2, 19890407, 0624, -1.4933, -24.9900, 4691,  -999.00,   4223.5,   1.6366,  34.8182, 2,  34.8200, 2,   -999.0, 9,    246.3, 2,    67.83, 2,    24.34, 2,     0.00, 2,     1.67, 2, -999.000, 9, -999.000, 9,   -999.0, 9,   -999.0, 9,   -999.0, 9,   1.2882,   -999.0, 9, -999.000, 9
318MHYDROS4, A16C, 367, 1, 34, 34, 2, 19890407, 0624, -1.4933, -24.9900, 4691,  -999.00,   4432.1,   0.9983,  34.7472, 2,  34.7470, 2,   -999.0, 9,    230.7, 2,    99.11, 2,    28.83, 2,     0.00, 2,     1.98, 2, -999.000, 9, -999.000, 9,   -999.0, 9,   -999.0, 9,   -999.0, 9,   0.6461,   -999.0, 9, -999.000, 9
318MHYDROS4, A16C, 367, 1, 35, 35, 2, 19890407, 0624, -1.4933, -24.9900, 4691,  -999.00,   4641.4,   0.8437,  34.7289, 2,  34.7270, 2,   -999.0, 9,    227.2, 2,   107.02, 2,    30.01, 2,     0.00, 2,     2.06, 2, -999.000, 9, -999.000, 9,   -999.0, 9,   -999.0, 9,   -999.0, 9,   0.4730,   4626.1, 2,    0.841, 2
318MHYDROS4, A16C, 367, 1, 36, 36, 2, 19890407, 0624, -1.4933, -24.9900, 4691,  -999.00,   4843.4,   0.7843,  34.7196, 2,  34.7180, 2,   -999.0, 9,    225.5, 2,   110.74, 2,    30.49, 2,     0.00, 2,     2.12, 2, -999.000, 9, -999.000, 9,   -999.0, 9,   -999.0, 9,   -999.0, 9,   0.3924,   -999.0, 9, -999.000, 9