BOTTLE,20110318CCHDOSIODM
EXPOCODE,SECT_ID,STNNBR,CASTNO,SAMPNO,BTLNBR,BTLNBR_FLAG_W,DATE,TIME,LATITUDE,LONGITUDE,DEPTH,CTDRAW,CTDPRS,CTDTMP,CTDSAL,CTDSAL_FLAG_W,SALNTY,SALNTY_FLAG_W,CTDOXY,CTDOXY_FLAG_W,OXYGEN,OXYGEN_FLAG_W,SILCAT,SILCAT_FLAG_W,NITRAT,NITRAT_FLAG_W,NITRIT,NITRIT_FLAG_W,PHSPHT,PHSPHT_FLAG_W,CFC-11,CFC-11_FLAG_W,CFC-12,CFC-12_FLAG_W,TCARBN,TCARBN_FLAG_W,ALKALI,ALKALI_FLAG_W,PCO2,PCO2_FLAG_W,THETA,REVPRS,REVPRS_FLAG_W,REVTMP,REVTMP_FLAG_W
,,,,,,,,,,,METERS,DBAR,DBAR,ITS-90,PSS-78,,PSS-78,,UMOL/KG,,UMOL/KG,,UMOL/KG,,UMOL/KG,,UMOL/KG,,UMOL/KG,,PMOL/KG,,PMOL/KG,,UMOL/KG,,UMOL/KG,,UATM,,DEG C,DBAR,,ITS-90,
318MHYDROS4, A16C, 345, 1, 1, 1, 2, 19890331, 1144, -13.8883, -25.0000, -999,  -999.00,      1.1,  27.6494,  37.1654, 2,  37.1655, 2,   -999.0, 9,    205.2, 2,     2.45, 2,     0.00, 2,     0.00, 2,     0.10, 2, -999.000, 9, -999.000, 9,   2055.0, 2,   2426.7, 2,    283.6, 2,  27.6492,   -999.0, 9, -999.000, 9
318MHYDROS4, A16C, 345, 1, 2, 2, 2, 19890331, 1144, -13.8883, -25.0000, -999,  -999.00,     38.7,  27.5338,  37.1557, 2,  37.1611, 2,   -999.0, 9,    201.8, 2,     2.41, 2,     0.00, 2,     0.00, 2,     0.09, 2, -999.000, 9, -999.000, 9,   2057.5, 2,   2431.7, 2,    281.7, 2,  27.5247,   -999.0, 9, -999.000, 9
318MHYDROS4, A16C, 345, 1, 3, 3, 2, 19890331, 1144, -13.8883, -25.0000, -999,  -999.00,     70.0,  24.9142,  36.9530, 2,  36.9511, 2,   -999.0, 9,    224.4, 2,     2.37, 2,     0.00, 2,     0.00, 2,     0.14, 2, -999.000, 9, -999.000, 9,   -999.0, 9,   -999.0, 9,   -999.0, 9,  24.8989,   -999.0, 9, -999.000, 9
318MHYDROS4, A16C, 345, 1, 71, 71, 2, 19890331, 1144, -13.8883, -25.0000, -999,  -999.00,    110.8,  23.1470,  36.8496, 2,  36.8413, 2,   -999.0, 9,    217.7, 2,     2.14, 2,     0.00, 2,     0.00, 2,     0.19, 2, -999.000, 9, -999.000, 9,   2065.6, 2,   -999.0, 9,   -999.0, 9,  23.1241,   -999.0, 9, -999.000, 9
318MHYDROS4, A16C, 345, 1, 5, 5, 2, 19890331, 1144, -13.8883, -25.0000, -999,  -999.00,    162.4,  18.8797,  36.0789, 2,  36.0704, 2,   -999.0, 9,    186.3, 2,     2.85, 2,     4.65, 2,     0.06, 2,     0.55, 2, -999.000, 9, -999.000, 9,   -999.0, 9,   -999.0, 9,   -999.0, 9,  18.8507,   -999.0, 9, -999.000, 9
318MHYDROS4, A16C, 345, 1, 6, 6, 2, 19890331, 1144, -13.8883, -25.0000, -999,  -999.00,    213.1,  14.4587,  35.3746, 2,  35.3765, 2,   -999.0, 9,    167.6, 2,     5.04, 2,    12.15, 2,     0.01, 2,     0.94, 2, -999.000, 9, -999.000, 9,   2098.4, 2,   -999.0, 9,   -999.0, 9,  14.4271,   -999.0, 9, -999.000, 9
318MHYDROS4, A16C, 345, 1, 7, 7, 2, 19890331, 1144, -13.8883, -25.0000, -999,  -999.00,    264.3,  12.3286,  35.1086, 2,  35.1026, 2,   -999.0, 9,    153.0, 2,     7.61, 2,    17.85, 2,     0.00, 2,     1.27, 2, -999.000, 9, -999.000, 9,   -999.0, 9,   -999.0, 9,   -999.0, 9,  12.2933,   -999.0, 9, -999.000, 9
318MHYDROS4, A16C, 345, 1, 8, 8, 2, 19890331, 1144, -13.8883, -25.0000, -999,  -999.00,    366.0,   9.3687,  34.8260, 2,  34.8255, 2,   -999.0, 9,    108.9, 2,    14.85, 2,    28.91, 2,     0.00, 2,     1.91, 2, -999.000, 9, -999.000, 9,   2165.5, 2,   -999.0, 9,   -999.0, 9,   9.3277,   -999.0, 9, -999.000, 9
318MHYDROS4, A16C, 345, 1, 9, 9, 2, 19890331, 1144, -13.8883, -25.0000, -999,  -999.00,    467.8,   7.2929,  34.6203, 2,  34.6216, 2,   -999.0, 9,    127.9, 2,    19.48, 2,    31.48, 2,     0.00, 2,     2.09, 2, -999.000, 9, -999.000, 9,   -999.0, 9,   -999.0, 9,   -999.0, 9,   7.2475,   -999.0, 9, -999.000, 9
318MHYDROS4, A16C, 345, 1, 10, 10, 2, 19890331, 1144, -13.8883, -25.0000, -999,  -999.00,    569.8,   5.9265,  34.5007, 2,  34.5024, 2,   -999.0, 9,    147.3, 2,    23.93, 2,    32.59, 2,     0.00, 2,     2.18, 2, -999.000, 9, -999.000, 9,   2186.6, 2,   -999.0, 9,   -999.0, 9,   5.8768,   -999.0, 9, -999.000, 9
318MHYDROS4, A16C, 345, 1, 11, 11, 2, 19890331, 1144, -13.8883, -25.0000, -999,  -999.00,    722.5,   4.6747,  34.4431, 2,  34.4454, 2,   -999.0, 9,    160.1, 2,    31.55, 2,    33.92, 2,     0.00, 2,     2.30, 2, -999.000, 9, -999.000, 9,   2187.2, 2,   -999.0, 9,   -999.0, 9,   4.6179,   -999.0, 9, -999.000, 9
318MHYDROS4, A16C, 345, 1, 12, 12, 2, 19890331, 1144, -13.8883, -25.0000, -999,  -999.00,    927.4,   4.0390,  34.5082, 2,  34.5084, 2,   -999.0, 9,    164.9, 2,    36.94, 2,    33.59, 2,     0.00, 2,     2.30, 2, -999.000, 9, -999.000, 9,   2199.4, 2,   -999.0, 9,   -999.0, 9,   3.9691,   -999.0, 9, -999.000, 9
318MHYDROS4, A16C, 345, 1, 13, 13, 2, 19890331, 1144, -13.8883, -25.0000, -999,  -999.00,   1132.3,   3.8856,  34.6338, 2,  34.6323, 2,   -999.0, 9,    174.9, 2,    35.79, 2,    31.16, 2,     0.00, 2,     2.14, 2, -999.000, 9, -999.000, 9,   2204.2, 2,   -999.0, 9,   -999.0, 9,   3.7996,   -999.0, 9, -999.000, 9
318MHYDROS4, A16C, 345, 1, 14, 14, 2, 19890331, 1144, -13.8883, -25.0000, -999,  -999.00,   1337.4,   3.9466,  34.8011, 2,  34.7993, 2,   -999.0, 9,    197.6, 2,    29.59, 2,    26.94, 2,     0.00, 2,     1.83, 2, -999.000, 9, -999.000, 9,   2208.8, 2,   -999.0, 9,   -999.0, 9,   3.8419,   -999.0, 9, -999.000, 9
318MHYDROS4, A16C, 345, 1, 15, 15, 2, 19890331, 1144, -13.8883, -25.0000, -999,  -999.00,   1543.1,   3.8382,  34.8982, 2,  34.8989, 2,   -999.0, 9,    221.9, 2,    24.89, 2,    23.27, 2,     0.00, 2,     1.58, 2, -999.000, 9, -999.000, 9,   2210.2, 2,   -999.0, 9,   -999.0, 9,   3.7161,   -999.0, 9, -999.000, 9
318MHYDROS4, A16C, 345, 1, 16, 16, 2, 19890331, 1144, -13.8883, -25.0000, -999,  -999.00,   1749.8,   3.5529,  34.9214, 2,  34.9223, 2,   -999.0, 9,    236.1, 2,    25.61, 2,    21.82, 2,     0.00, 2,     1.47, 2, -999.000, 9, -999.000, 9,   2187.9, 2,   -999.0, 9,   -999.0, 9,   3.4155,   -999.0, 9, -999.000, 9
318MHYDROS4, A16C, 345, 1, 17, 17, 2, 19890331, 1144, -13.8883, -25.0000, -999,  -999.00,   1955.2,   3.2476,  34.9170, 2,  34.9189, 2,   -999.0, 9,    240.3, 2,    29.69, 2,    21.57, 2,     0.00, 2,     1.46, 2, -999.000, 9, -999.000, 9,   2174.8, 2,   -999.0, 9,   -999.0, 9,   3.0956,   -999.0, 9, -999.000, 9
318MHYDROS4, A16C, 345, 1, 18, 18, 2, 19890331, 1144, -13.8883, -25.0000, -999,  -999.00,   2161.6,   3.0136,  34.9093, 2,  34.9128, 2,   -999.0, 9,    242.1, 2,    33.60, 2,    21.70, 2,     0.00, 2,     1.47, 2, -999.000, 9, -999.000, 9,   2166.1, 2,   -999.0, 9,   -999.0, 9,   2.8460,   -999.0, 9, -999.000, 9
318MHYDROS4, A16C, 345, 1, 19, 19, 2, 19890331, 1144, -13.8883, -25.0000, -999,  -999.00,   2367.1,   2.8787,  34.9054, 2,  34.9074, 2,   -999.0, 9,    243.2, 2,    36.01, 2,    21.92, 2,     0.00, 2,     1.48, 2, -999.000, 9, -999.000, 9,   2167.6, 2,   -999.0, 9,   -999.0, 9,   2.6940,   -999.0, 9, -999.000, 9
318MHYDROS4, A16C, 345, 1, 20, 20, 2, 19890331, 1144, -13.8883, -25.0000, -999,  -999.00,   2625.4,   2.7695,  34.9010, 2,  34.9024, 2,   -999.0, 9,    242.9, 2,    38.98, 2,    22.01, 2,     0.00, 2,     1.49, 2, -999.000, 9, -999.000, 9,   -999.0, 9,   -999.0, 9,   -999.0, 9,   2.5617,   -999.0, 9, -999.000, 9
318MHYDROS4, A16C, 345, 1, 21, 21, 2, 19890331, 1144, -13.8883, -25.0000, -999,  -999.00,   2884.3,   2.7002,  34.8993, 2,  34.8998, 2,   -999.0, 9,    243.4, 2,    41.02, 2,    22.01, 2,     0.00, 2,     1.50, 2, -999.000, 9, -999.000, 9,   2180.0, 2,   -999.0, 9,   -999.0, 9,   2.4679,   -999.0, 9, -999.000, 9
318MHYDROS4, A16C, 345, 1, 22, 22, 2, 19890331, 1144, -13.8883, -25.0000, -999,  -999.00,   3091.8,   2.6377,  34.8983, 2,  34.8984, 2,   -999.0, 9,    244.1, 2,    41.94, 2,    21.98, 2,     0.00, 2,     1.49, 2, -999.000, 9, -999.000, 9,   -999.0, 9,   -999.0, 9,   -999.0, 9,   2.3855,   -999.0, 9, -999.000, 9
318MHYDROS4, A16C, 345, 1, 23, 23, 2, 19890331, 1144, -13.8883, -25.0000, -999,  -999.00,   3299.4,   2.5760,  34.8957, 2,  34.8964, 2,   -999.0, 9,    246.2, 2,    42.66, 2,    21.89, 2,     0.00, 2,     1.49, 2, -999.000, 9, -999.000, 9,   2181.1, 2,   -999.0, 9,   -999.0, 9,   2.3033,   -999.0, 9, -999.000, 9
318MHYDROS4, A16C, 345, 1, 24, 24, 2, 19890331, 1144, -13.8883, -25.0000, -999,  -999.00,   3506.6,   2.4500,  34.8884, 2,  34.8887, 2,   -999.0, 9,    247.9, 2,    44.71, 2,    21.94, 2,     0.00, 2,     1.50, 2, -999.000, 9, -999.000, 9,   -999.0, 9,   -999.0, 9,   -999.0, 9,   2.1582,   -999.0, 9, -999.000, 9
318MHYDROS4, A16C, 345, 1, 25, 25, 2, 19890331, 1144, -13.8883, -25.0000, -999,  -999.00,   3714.6,   2.1990,  34.8696, 2,  34.8731, 2,   -999.0, 9,    249.0, 2,    50.70, 2,    22.46, 2,     0.00, 2,     1.54, 2, -999.000, 9, -999.000, 9,   2179.7, 2,   -999.0, 9,   -999.0, 9,   1.8911,   -999.0, 9, -999.000, 9
318MHYDROS4, A16C, 345, 1, 26, 26, 2, 19890331, 1144, -13.8883, -25.0000, -999,  -999.00,   3922.8,   1.8808,  34.8367, 2,  34.8372, 2,   -999.0, 9,    243.6, 2,    64.40, 2,    24.22, 2,     0.00, 2,     1.67, 2, -999.000, 9, -999.000, 9,   -999.0, 9,   -999.0, 9,   -999.0, 9,   1.5588,   -999.0, 9, -999.000, 9
318MHYDROS4, A16C, 345, 1, 27, 27, 2, 19890331, 1144, -13.8883, -25.0000, -999,  -999.00,   4130.9,   1.4895,  34.7969, 2,  34.8000, 2,   -999.0, 9,    237.4, 2,    79.44, 2,    26.29, 2,     0.00, 2,     1.82, 2, -999.000, 9, -999.000, 9,   2204.8, 2,   -999.0, 9,   -999.0, 9,   1.1558,   -999.0, 9, -999.000, 9
318MHYDROS4, A16C, 345, 1, 28, 28, 2, 19890331, 1144, -13.8883, -25.0000, -999,  -999.00,   4338.8,   1.1540,  34.7611, 2,  34.7622, 2,   -999.0, 9,    231.9, 2,    94.11, 2,    28.26, 2,     0.00, 2,     1.95, 2, -999.000, 9, -999.000, 9,   -999.0, 9,   -999.0, 9,   -999.0, 9,   0.8074,   -999.0, 9, -999.000, 9
318MHYDROS4, A16C, 345, 1, 29, 29, 2, 19890331, 1144, -13.8883, -25.0000, -999,  -999.00,   4546.5,   1.0034,  34.7440, 2,  34.7459, 2,   -999.0, 9,    229.9, 2,   101.08, 2,    29.13, 2,     0.00, 2,     2.02, 2, -999.000, 9, -999.000, 9,   2223.5, 2,   -999.0, 9,   -999.0, 9,   0.6382,   -999.0, 9, -999.000, 9
318MHYDROS4, A16C, 345, 1, 30, 30, 2, 19890331, 1144, -13.8883, -25.0000, -999,  -999.00,   4755.6,   0.8616,  34.7283, 2,  34.7279, 2,   -999.0, 9,    226.8, 2,   107.49, 2,    29.95, 2,     0.00, 2,     2.09, 2, -999.000, 9, -999.000, 9,   -999.0, 9,   -999.0, 9,   -999.0, 9,   0.4773,   -999.0, 9, -999.000, 9
318MHYDROS4, A16C, 345, 1, 31, 31, 2, 19890331, 1144, -13.8883, -25.0000, -999,  -999.00,   4964.0,   0.7568,  34.7158, 2,  34.7155, 2,   -999.0, 9,    224.9, 2,   112.40, 2,    30.55, 2,     0.00, 2,     2.13, 2, -999.000, 9, -999.000, 9,   2238.5, 2,   -999.0, 9,   -999.0, 9,   0.3518,   -999.0, 9, -999.000, 9
318MHYDROS4, A16C, 345, 1, 32, 32, 2, 19890331, 1144, -13.8883, -25.0000, -999,  -999.00,   5173.2,   0.7193,  34.7094, 2,  34.7084, 2,   -999.0, 9,    224.5, 2,   114.10, 2,    30.99, 2,     0.00, 2,     2.15, 2, -999.000, 9, -999.000, 9,   -999.0, 9,   -999.0, 9,   -999.0, 9,   0.2909,   -999.0, 9, -999.000, 9
318MHYDROS4, A16C, 345, 1, 33, 33, 2, 19890331, 1144, -13.8883, -25.0000, -999,  -999.00,   5382.2,   0.7070,  34.7059, 2,  34.7046, 2,   -999.0, 9,    223.9, 2,   115.43, 2,    31.08, 2,     0.00, 2,     2.18, 2, -999.000, 9, -999.000, 9,   2244.9, 2,   -999.0, 9,   -999.0, 9,   0.2539,   -999.0, 9, -999.000, 9
318MHYDROS4, A16C, 345, 1, 34, 34, 2, 19890331, 1144, -13.8883, -25.0000, -999,  -999.00,   5591.6,   0.7014,  34.7023, 2,  34.7020, 2,   -999.0, 9,    223.3, 2,   116.95, 2,    31.26, 2,     0.00, 2,     2.18, 2, -999.000, 9, -999.000, 9,   -999.0, 9,   -999.0, 9,   -999.0, 9,   0.2227,   -999.0, 9, -999.000, 9
318MHYDROS4, A16C, 345, 1, 35, 35, 2, 19890331, 1144, -13.8883, -25.0000, -999,  -999.00,   5800.7,   0.7192,  34.7015, 2,  34.7017, 2,   -999.0, 9,    223.4, 2,   117.91, 2,    31.31, 2,     0.00, 2,     2.18, 2, -999.000, 9, -999.000, 9,   2248.1, 2,   -999.0, 9,   -999.0, 9,   0.2135,   5803.7, 2,    0.707, 2
318MHYDROS4, A16C, 345, 1, 36, 36, 2, 19890331, 1144, -13.8883, -25.0000, -999,  -999.00,   5968.6,   0.7389,  34.7008, 2,  34.7013, 2,   -999.0, 9,    223.6, 2,   117.35, 2,    31.40, 2,     0.00, 2,     2.18, 2, -999.000, 9, -999.000, 9,   2257.4, 2,   -999.0, 9,   -999.0, 9,   0.2108,   -999.0, 9, -999.000, 9