BOTTLE,20110318CCHDOSIODM
EXPOCODE,SECT_ID,STNNBR,CASTNO,SAMPNO,BTLNBR,BTLNBR_FLAG_W,DATE,TIME,LATITUDE,LONGITUDE,DEPTH,CTDRAW,CTDPRS,CTDTMP,CTDSAL,CTDSAL_FLAG_W,SALNTY,SALNTY_FLAG_W,CTDOXY,CTDOXY_FLAG_W,OXYGEN,OXYGEN_FLAG_W,SILCAT,SILCAT_FLAG_W,NITRAT,NITRAT_FLAG_W,NITRIT,NITRIT_FLAG_W,PHSPHT,PHSPHT_FLAG_W,CFC-11,CFC-11_FLAG_W,CFC-12,CFC-12_FLAG_W,TCARBN,TCARBN_FLAG_W,ALKALI,ALKALI_FLAG_W,PCO2,PCO2_FLAG_W,THETA,REVPRS,REVPRS_FLAG_W,REVTMP,REVTMP_FLAG_W
,,,,,,,,,,,METERS,DBAR,DBAR,ITS-90,PSS-78,,PSS-78,,UMOL/KG,,UMOL/KG,,UMOL/KG,,UMOL/KG,,UMOL/KG,,UMOL/KG,,PMOL/KG,,PMOL/KG,,UMOL/KG,,UMOL/KG,,UATM,,DEG C,DBAR,,ITS-90,
318MHYDROS4, A16C, 314, 1, 1, 1, 2, 19890321, 0609, -32.0000, -24.9933, 4290,  -999.00,      1.6,  22.1208,  35.6488, 2,  35.6500, 2,   -999.0, 9,    220.1, 2,     3.13, 2,     0.00, 2,     0.00, 2,     0.09, 2,    1.927, 2,    1.004, 2,   2027.8, 2,   2337.4, 2,    332.6, 2,  22.1205,   -999.0, 9, -999.000, 9
318MHYDROS4, A16C, 314, 1, 2, 2, 2, 19890321, 0609, -32.0000, -24.9933, 4290,  -999.00,     31.0,  21.8409,  35.6592, 2,  35.6590, 2,   -999.0, 9,    222.7, 2,     3.13, 2,     0.00, 2,     0.00, 2,     0.08, 2, -999.000, 9, -999.000, 9,   2029.1, 2,   2344.3, 2,    326.0, 2,  21.8348,   -999.0, 9, -999.000, 9
318MHYDROS4, A16C, 314, 1, 3, 3, 2, 19890321, 0609, -32.0000, -24.9933, 4290,  -999.00,     61.9,  16.9177,  35.6133, 2,  35.6160, 2,   -999.0, 9,    249.8, 2,     3.03, 2,     0.00, 2,     0.00, 2,     0.14, 2,    2.347, 2,    1.175, 2,   -999.0, 9,   -999.0, 9,   -999.0, 9,  16.9075,   -999.0, 9, -999.000, 9
318MHYDROS4, A16C, 314, 1, 71, 71, 2, 19890321, 0609, -32.0000, -24.9933, 4290,  -999.00,     98.4,  15.5412,  35.5082, 2,  35.5090, 2,   -999.0, 9,    231.1, 2,     3.42, 2,     0.49, 2,     0.20, 2,     0.27, 2,    2.306, 2,    1.153, 2,   2070.3, 2,   2341.1, 2,    401.8, 2,  15.5259,   -999.0, 9, -999.000, 9
318MHYDROS4, A16C, 314, 1, 5, 5, 2, 19890321, 0609, -32.0000, -24.9933, 4290,  -999.00,    153.9,  14.6904,  35.4514, 2,  35.4530, 2,   -999.0, 9,    224.1, 2,     3.52, 2,     3.61, 2,     0.01, 2,     0.43, 2, -999.000, 9, -999.000, 9,   -999.0, 9,   -999.0, 9,   -999.0, 9,  14.6674,   -999.0, 9, -999.000, 9
318MHYDROS4, A16C, 314, 1, 6, 6, 2, 19890321, 0609, -32.0000, -24.9933, 4290,  -999.00,    200.1,  14.3329,  35.4237, 2,  35.4220, 2,   -999.0, 9,    223.6, 2,     4.10, 2,     4.79, 2,     0.01, 2,     0.48, 2,    2.284, 2,    1.138, 2,   -999.0, 9,   -999.0, 9,    445.1, 2,  14.3034,   -999.0, 9, -999.000, 9
318MHYDROS4, A16C, 314, 1, 7, 7, 2, 19890321, 0609, -32.0000, -24.9933, 4290,  -999.00,    255.9,  13.7556,  35.3605, 2,  35.3570, 2,   -999.0, 9,    225.8, 2,     4.10, 2,     5.96, 2,     0.00, 2,     0.55, 2, -999.000, 9, -999.000, 9,   -999.0, 9,   -999.0, 9,   -999.0, 9,  13.7189,   -999.0, 9, -999.000, 9
318MHYDROS4, A16C, 314, 1, 8, 8, 2, 19890321, 0609, -32.0000, -24.9933, 4290,  -999.00,    302.3,  13.1610,  35.2690, 2,  35.2690, 2,   -999.0, 9,    224.0, 2,     4.20, 2,     7.52, 2,     0.00, 2,     0.64, 2,    2.227, 2,    1.115, 2,   2096.0, 2,   2331.3, 2,    476.9, 2,  13.1188,   -999.0, 9, -999.000, 9
318MHYDROS4, A16C, 314, 1, 9, 9, 2, 19890321, 0609, -32.0000, -24.9933, 4290,  -999.00,    353.4,  12.5275,  35.1634, 2,  35.1660, 2,   -999.0, 9,    220.1, 2,     4.59, 2,     9.48, 2,     0.00, 2,     0.76, 2, -999.000, 9, -999.000, 9,   -999.0, 9,   -999.0, 9,   -999.0, 9,  12.4797,   -999.0, 9, -999.000, 9
318MHYDROS4, A16C, 314, 1, 10, 10, 2, 19890321, 0609, -32.0000, -24.9933, 4290,  -999.00,    394.8,  11.8445,  35.0583, 2,  35.0590, 2,   -999.0, 9,    213.6, 2,     5.37, 2,    11.92, 2,     0.00, 2,     0.91, 2,    1.929, 2,    0.931, 2,   2102.6, 2,   2308.6, 2,    548.0, 2,  11.7930,   -999.0, 9, -999.000, 9
318MHYDROS4, A16C, 314, 1, 11, 11, 2, 19890321, 0609, -32.0000, -24.9933, 4290,  -999.00,    517.4,   9.0573,  34.6916, 2,  34.6920, 2,   -999.0, 9,    210.5, 2,     9.19, 2,    19.74, 2,     0.00, 2,     1.37, 2,    1.610, 2,    0.773, 2,   2130.2, 2,   2300.7, 2,    667.6, 2,   9.0001,   -999.0, 9, -999.000, 9
318MHYDROS4, A16C, 314, 1, 12, 12, 2, 19890321, 0609, -32.0000, -24.9933, 4290,  -999.00,    594.2,   7.5930,  34.5308, 2,  34.5310, 2,   -999.0, 9,    214.4, 2,    12.22, 2,    23.27, 2,     0.00, 2,     1.58, 2,    1.486, 2,    0.711, 2,   2141.3, 2,   2293.8, 2,    741.9, 2,   7.5335,   -999.0, 9, -999.000, 9
318MHYDROS4, A16C, 314, 1, 13, 13, 2, 19890321, 0609, -32.0000, -24.9933, 4290,  -999.00,    696.8,   5.6943,  34.3505, 2,  34.3530, 2,   -999.0, 9,   -999.0, 9,    16.62, 2,    26.79, 2,     0.00, 2,     1.83, 2,    1.434, 2,    0.666, 2,   2150.1, 2,   2288.5, 2,    808.8, 2,   5.6342,   -999.0, 9, -999.000, 9
318MHYDROS4, A16C, 314, 1, 14, 14, 2, 19890321, 0609, -32.0000, -24.9933, 4290,  -999.00,    799.0,   4.6365,  34.2879, 2,  34.2880, 2,   -999.0, 9,    232.6, 2,    21.71, 2,    28.74, 2,     0.00, 2,     1.97, 2,    1.180, 2,    0.545, 2,   2161.1, 2,   2292.2, 2,    851.5, 2,   4.5737,   -999.0, 9, -999.000, 9
318MHYDROS4, A16C, 314, 1, 15, 15, 2, 19890321, 0609, -32.0000, -24.9933, 4290,  -999.00,    896.0,   3.9333,  34.2775, 2,  34.2780, 2,   -999.0, 9,    227.8, 2,    28.35, 2,    30.41, 2,     0.00, 2,     2.07, 2,    0.866, 2,    0.396, 2,   2172.2, 2,   2294.3, 2,    907.6, 2,   3.8670,   -999.0, 9, -999.000, 9
318MHYDROS4, A16C, 314, 1, 16, 16, 2, 19890321, 0609, -32.0000, -24.9933, 4290,  -999.00,    998.9,   3.4400,  34.2896, 2,  34.2900, 2,   -999.0, 9,    222.1, 2,    35.30, 2,    31.68, 2,     0.00, 2,     2.16, 2,    0.685, 2,    0.322, 2,   2189.5, 2,   2304.8, 2,    959.0, 2,   3.3691,   -999.0, 9, -999.000, 9
318MHYDROS4, A16C, 314, 1, 17, 17, 2, 19890321, 0609, -32.0000, -24.9933, 4290,  -999.00,   1102.0,   3.1791,  34.3339, 2,  34.3340, 2,   -999.0, 9,    210.8, 2,    42.53, 2,    33.14, 2,     0.00, 2,     2.24, 2,    0.448, 2,    0.217, 2,   2199.8, 2,   2312.2, 2,    985.9, 2,   3.1021,   -999.0, 9, -999.000, 9
318MHYDROS4, A16C, 314, 1, 18, 18, 2, 19890321, 0609, -32.0000, -24.9933, 4290,  -999.00,   1199.4,   3.0213,  34.3895, 2,  34.3910, 2,   -999.0, 9,    200.4, 2,    49.17, 2,    33.73, 2,     0.00, 2,     2.29, 2,    0.262, 2,    0.116, 2,   -999.0, 9,   -999.0, 9,   -999.0, 9,   2.9380,   -999.0, 9, -999.000, 9
318MHYDROS4, A16C, 314, 1, 19, 19, 2, 19890321, 0609, -32.0000, -24.9933, 4290,  -999.00,   1302.5,   2.9178,  34.4589, 2,  34.4590, 2,   -999.0, 9,    192.1, 2,    54.35, 2,    33.73, 2,     0.00, 2,     2.29, 2,    0.133, 2,    0.070, 2,   2217.5, 2,   2321.7, 2,   1055.0, 2,   2.8272,   -999.0, 9, -999.000, 9
318MHYDROS4, A16C, 314, 1, 20, 20, 2, 19890321, 0609, -32.0000, -24.9933, 4290,  -999.00,   1400.3,   2.8438,  34.5098, 2,  34.5110, 2,   -999.0, 9,    188.6, 2,    58.26, 2,    33.53, 2,     0.00, 2,     2.29, 2,    0.097, 2,    0.041, 2,   2224.5, 2,   2327.0, 2,   1073.1, 2,   2.7461,   -999.0, 9, -999.000, 9
318MHYDROS4, A16C, 314, 1, 21, 21, 2, 19890321, 0609, -32.0000, -24.9933, 4290,  -999.00,   1498.2,   2.8000,  34.5714, 2,  34.5710, 2,   -999.0, 9,    186.9, 2,    60.90, 2,    33.14, 2,     0.00, 2,     2.27, 2,    0.045, 2,    0.022, 2,   2225.3, 2,   2330.0, 2,   1060.4, 2,   2.6946,   -999.0, 9, -999.000, 9
318MHYDROS4, A16C, 314, 1, 22, 22, 2, 19890321, 0609, -32.0000, -24.9933, 4290,  -999.00,   1647.9,   2.7939,  34.6563, 2,  34.6590, 2,   -999.0, 9,    191.6, 2,    60.80, 2,    31.38, 2,     0.00, 2,     2.14, 2,    0.019, 2,    0.007, 2,   2222.1, 2,   2338.4, 2,    985.1, 2,   2.6759,   -999.0, 9, -999.000, 9
318MHYDROS4, A16C, 314, 1, 23, 23, 2, 19890321, 0609, -32.0000, -24.9933, 4290,  -999.00,   1797.0,   2.7986,  34.7266, 2,  34.7270, 2,   -999.0, 9,    200.8, 2,    58.06, 2,    29.32, 2,     0.00, 2,     2.01, 2,    0.012, 2,    0.007, 2,   -999.0, 9,   -999.0, 9,   -999.0, 9,   2.6676,   -999.0, 9, -999.000, 9
318MHYDROS4, A16C, 314, 1, 24, 24, 2, 19890321, 0609, -32.0000, -24.9933, 4290,  -999.00,   1998.4,   2.7933,  34.7843, 2,  34.7850, 2,   -999.0, 9,    212.9, 2,    52.87, 2,    27.27, 2,     0.00, 2,     1.87, 2,    0.001, 2,    0.000, 2,   2205.7, 2,   2339.3, 2,    878.1, 2,   2.6445,   -999.0, 9, -999.000, 9
318MHYDROS4, A16C, 314, 1, 25, 25, 2, 19890321, 0609, -32.0000, -24.9933, 4290,  -999.00,   2199.4,   2.7663,  34.8315, 2,  34.8320, 2,   -999.0, 9,    225.5, 2,    47.89, 2,    25.12, 2,     0.00, 2,     1.72, 2, -999.000, 9, -999.000, 9,   -999.0, 9,   -999.0, 9,   -999.0, 9,   2.5995,   -999.0, 9, -999.000, 9
318MHYDROS4, A16C, 314, 1, 26, 26, 2, 19890321, 0609, -32.0000, -24.9933, 4290,  -999.00,   2400.9,   2.7362,  34.8574, 2,  34.8590, 2,   -999.0, 9,    233.3, 2,    44.96, 2,    24.04, 2,     0.00, 2,     1.62, 2,    0.003, 2,    0.000, 2,   2188.3, 2,   2334.0, 2,    808.0, 2,   2.5510,   -999.0, 9, -999.000, 9
318MHYDROS4, A16C, 314, 1, 27, 27, 2, 19890321, 0609, -32.0000, -24.9933, 4290,  -999.00,   2602.5,   2.7376,  34.8790, 2,  34.8790, 2,   -999.0, 9,    240.3, 2,    41.44, 2,    23.06, 2,     0.00, 2,     1.54, 2, -999.000, 9, -999.000, 9,   -999.0, 9,   -999.0, 9,   -999.0, 9,   2.5328,   -999.0, 9, -999.000, 9
318MHYDROS4, A16C, 314, 1, 28, 28, 2, 19890321, 0609, -32.0000, -24.9933, 4290,  -999.00,   2804.0,   2.7244,  34.8922, 2, -999.0000, 9,   -999.0, 9,    244.6, 2,    39.58, 2,    22.48, 2,     0.00, 2,     1.50, 2,    0.005, 2,    0.001, 2,   2179.3, 2,   2333.7, 2,    763.8, 2,   2.4998,   -999.0, 9, -999.000, 9
318MHYDROS4, A16C, 314, 1, 29, 29, 2, 19890321, 0609, -32.0000, -24.9933, 4290,  -999.00,   3000.9,   2.6798,  34.8968, 2,  34.8980, 2,   -999.0, 9,    247.2, 2,    39.87, 2,    21.99, 2,     0.00, 2,     1.49, 2,    0.004, 2,    0.000, 2,   2178.1, 2,   2332.1, 2,    764.7, 2,   2.4360,   -999.0, 9, -999.000, 9
318MHYDROS4, A16C, 314, 1, 30, 30, 2, 19890321, 0609, -32.0000, -24.9933, 4290,  -999.00,   3203.7,   2.5642,  34.8918, 2,  34.8940, 2,   -999.0, 9,    248.1, 2,    43.20, 2,    22.09, 2,     0.00, 2,     1.50, 2,    0.002, 2,    0.000, 2,   2179.0, 2,   2333.4, 2,    763.9, 2,   2.3019,   -999.0, 9, -999.000, 9
318MHYDROS4, A16C, 314, 1, 31, 31, 2, 19890321, 0609, -32.0000, -24.9933, 4290,  -999.00,   3395.1,   2.3709,  34.8761, 2,  34.8800, 2,   -999.0, 9,    246.4, 2,    49.35, 2,    22.97, 2,     0.00, 2,     1.54, 2,    0.010, 2,    0.002, 2,   2187.3, 2,   2339.7, 2,    778.1, 2,   2.0931,   -999.0, 9, -999.000, 9
318MHYDROS4, A16C, 314, 1, 32, 32, 2, 19890321, 0609, -32.0000, -24.9933, 4290,  -999.00,   3597.2,   2.0046,  34.8389, 2,  34.8390, 2,   -999.0, 9,    239.8, 2,    63.62, 2,    24.92, 2,     0.00, 2,     1.69, 2,    0.003, 2,    0.001, 2,   -999.0, 9,   -999.0, 9,   -999.0, 9,   1.7146,   -999.0, 9, -999.000, 9
318MHYDROS4, A16C, 314, 1, 33, 33, 2, 19890321, 0609, -32.0000, -24.9933, 4290,  -999.00,   3795.1,   1.6901,  34.8089, 2,  34.8090, 2,   -999.0, 9,    235.9, 2,    75.55, 2,    26.39, 2,     0.00, 2,     1.79, 2,    0.006, 2,    0.003, 2,   2215.6, 2,   2355.9, 2,    853.3, 2,   1.3873,   -999.0, 9, -999.000, 9
318MHYDROS4, A16C, 314, 1, 34, 34, 2, 19890321, 0609, -32.0000, -24.9933, 4290,  -999.00,   3998.1,   1.4611,  34.7836, 2,  34.7830, 2,   -999.0, 9,    231.1, 2,    85.22, 2,    27.66, 2,     0.00, 2,     1.88, 2,    0.002, 2,    0.000, 2,   -999.0, 9,   -999.0, 9,   -999.0, 9,   1.1429,   -999.0, 9, -999.000, 9
318MHYDROS4, A16C, 314, 1, 35, 35, 2, 19890321, 0609, -32.0000, -24.9933, 4290,  -999.00,   4237.7,   1.2722,  34.7608, 2,  34.7600, 2,   -999.0, 9,    226.8, 2,    94.41, 2,    28.73, 2,     0.00, 2,     1.95, 2,    0.010, 2,    0.002, 2,   -999.0, 9,   -999.0, 9,   -999.0, 9,   0.9333,   4232.3, 2,    1.268, 2
318MHYDROS4, A16C, 314, 1, 36, 36, 2, 19890321, 0609, -32.0000, -24.9933, 4290,  -999.00,   4380.1,   1.1499,  34.7466, 2,  34.7460, 2,   -999.0, 9,    223.8, 2,   100.86, 2,    29.61, 2,     0.00, 2,     2.01, 2,    0.011, 2,    0.003, 2,   2234.6, 2,   2361.3, 2,    939.7, 2,   0.7990,   -999.0, 9, -999.000, 9