BOTTLE,20110318CCHDOSIODM
EXPOCODE,SECT_ID,STNNBR,CASTNO,SAMPNO,BTLNBR,BTLNBR_FLAG_W,DATE,TIME,LATITUDE,LONGITUDE,DEPTH,CTDRAW,CTDPRS,CTDTMP,CTDSAL,CTDSAL_FLAG_W,SALNTY,SALNTY_FLAG_W,CTDOXY,CTDOXY_FLAG_W,OXYGEN,OXYGEN_FLAG_W,SILCAT,SILCAT_FLAG_W,NITRAT,NITRAT_FLAG_W,NITRIT,NITRIT_FLAG_W,PHSPHT,PHSPHT_FLAG_W,CFC-11,CFC-11_FLAG_W,CFC-12,CFC-12_FLAG_W,TCARBN,TCARBN_FLAG_W,ALKALI,ALKALI_FLAG_W,PCO2,PCO2_FLAG_W,THETA,REVPRS,REVPRS_FLAG_W,REVTMP,REVTMP_FLAG_W
,,,,,,,,,,,METERS,DBAR,DBAR,ITS-90,PSS-78,,PSS-78,,UMOL/KG,,UMOL/KG,,UMOL/KG,,UMOL/KG,,UMOL/KG,,UMOL/KG,,PMOL/KG,,PMOL/KG,,UMOL/KG,,UMOL/KG,,UATM,,DEG C,DBAR,,ITS-90,
318MHYDROS4, A16C, 373, 1, 71, 71, 2, 19890408, 1130, 0.6600, -25.0017, 4259,  -999.00,      3.7,  27.8746,  35.6760, 2,  35.6000, 2,   -999.0, 9,   -999.0, 9,     1.37, 2,     0.10, 2,     0.00, 2,     0.04, 2, -999.000, 9, -999.000, 9,   1974.9, 2,   2330.8, 2,    266.5, 2,  27.8738,   -999.0, 9, -999.000, 9
318MHYDROS4, A16C, 373, 1, 5, 5, 2, 19890408, 1130, 0.6600, -25.0017, 4259,  -999.00,      3.9,  27.8412,  35.6112, 2,  35.5460, 2,   -999.0, 9,    207.0, 2,     1.37, 2,     0.10, 2,     0.00, 2,     0.03, 2, -999.000, 9, -999.000, 9,   -999.0, 9,   -999.0, 9,   -999.0, 9,  27.8403,   -999.0, 9, -999.000, 9
318MHYDROS4, A16C, 373, 1, 6, 6, 2, 19890408, 1130, 0.6600, -25.0017, 4259,  -999.00,     30.7,  27.4587,  36.0468, 2,  36.0540, 2,   -999.0, 9,    204.2, 2,     1.37, 2,     0.10, 2,     0.00, 2,     0.05, 2, -999.000, 9, -999.000, 9,   2001.3, 2,   2359.2, 2,    274.7, 2,  27.4516,   -999.0, 9, -999.000, 9
318MHYDROS4, A16C, 373, 1, 7, 7, 2, 19890408, 1130, 0.6600, -25.0017, 4259,  -999.00,     51.1,  26.4974,  36.3555, 2,  36.3520, 2,   -999.0, 9,    205.9, 2,     1.37, 2,     0.10, 2,     0.00, 2,     0.10, 2,    1.556, 2,    0.819, 2,   -999.0, 9,   -999.0, 9,   -999.0, 9,  26.4858,   -999.0, 9, -999.000, 9
318MHYDROS4, A16C, 373, 1, 8, 8, 2, 19890408, 1130, 0.6600, -25.0017, 4259,  -999.00,     76.6,  22.5396,  36.4377, 2,  36.4470, 2,   -999.0, 9,    179.5, 2,     2.44, 2,     2.93, 2,     0.24, 2,     0.36, 2, -999.000, 9, -999.000, 9,   -999.0, 9,   -999.0, 9,   -999.0, 9,  22.5241,   -999.0, 9, -999.000, 9
318MHYDROS4, A16C, 373, 1, 9, 9, 2, 19890408, 1130, 0.6600, -25.0017, 4259,  -999.00,    101.2,  16.9857,  35.8108, 2,  35.8030, 2,   -999.0, 9,    152.8, 2,     4.79, 2,    12.21, 2,     0.06, 2,     0.91, 2,    1.242, 2,    0.634, 2,   2132.6, 2,   2354.8, 2,    529.7, 2,  16.9690,   -999.0, 9, -999.000, 9
318MHYDROS4, A16C, 373, 1, 10, 10, 2, 19890408, 1130, 0.6600, -25.0017, 4259,  -999.00,    128.9,  14.2631,  35.4413, 2,  35.4290, 2,   -999.0, 9,    140.5, 2,     6.74, 2,    17.00, 2,     0.02, 2,     1.19, 2, -999.000, 9, -999.000, 9,   -999.0, 9,   -999.0, 9,   -999.0, 9,  14.2442,   -999.0, 9, -999.000, 9
318MHYDROS4, A16C, 373, 1, 11, 11, 2, 19890408, 1130, 0.6600, -25.0017, 4259,  -999.00,    169.9,  13.5781,  35.3480, 2,  35.3480, 2,   -999.0, 9,    138.8, 2,     7.23, 2,    17.98, 2,     0.01, 2,     1.25, 2, -999.000, 9, -999.000, 9,   -999.0, 9,   -999.0, 9,   -999.0, 9,  13.5540,   -999.0, 9, -999.000, 9
318MHYDROS4, A16C, 373, 1, 12, 12, 2, 19890408, 1130, 0.6600, -25.0017, 4259,  -999.00,    210.7,  13.4313,  35.3286, 2,  35.3280, 2,   -999.0, 9,    132.2, 2,     7.52, 2,    18.95, 2,     0.01, 2,     1.31, 2,    0.965, 2,    0.487, 2,   2156.7, 2,   2325.9, 2,    695.5, 2,  13.4015,   -999.0, 9, -999.000, 9
318MHYDROS4, A16C, 373, 1, 1, 1, 2, 19890408, 1130, 0.6600, -25.0017, 4259,  -999.00,    271.6,  11.4243,  35.0887, 2,  35.0900, 2,   -999.0, 9,     94.8, 2,    11.14, 2,    26.77, 2,     0.01, 2,     1.74, 2, -999.000, 9, -999.000, 9,   -999.0, 9,   -999.0, 9,   -999.0, 9,  11.3898,   -999.0, 9, -999.000, 9
318MHYDROS4, A16C, 373, 1, 2, 2, 2, 19890408, 1130, 0.6600, -25.0017, 4259,  -999.00,    368.5,   8.7947,  34.7854, 2,  34.7850, 2,   -999.0, 9,    137.0, 2,    14.76, 2,    27.56, 2,     0.01, 2,     1.83, 2,    0.398, 2,    0.202, 2,   2184.9, 2,   2305.2, 2,    930.5, 2,   8.7549,   -999.0, 9, -999.000, 9
318MHYDROS4, A16C, 373, 1, 3, 3, 2, 19890408, 1130, 0.6600, -25.0017, 4259,  -999.00,    404.8,   8.5165,  34.7629, 2,  34.7640, 2,   -999.0, 9,    113.5, 2,    16.52, 2,    30.79, 2,     0.01, 2,     2.02, 2,    0.228, 2,    0.127, 2,   -999.0, 9,   -999.0, 9,   -999.0, 9,   8.4736,   -999.0, 9, -999.000, 9
318MHYDROS4, A16C, 373, 1, 13, 13, 2, 19890408, 1130, 0.6600, -25.0017, 4259,  -999.00,    568.1,   6.4043,  34.5674, 2,  34.5690, 2,   -999.0, 9,    140.9, 2,    21.99, 2,    32.45, 2,     0.00, 2,     2.17, 2,    0.133, 2,    0.071, 2,   2153.2, 4,   2250.8, 3,   1053.9, 2,   6.3526,   -999.0, 9, -999.000, 9
318MHYDROS4, A16C, 373, 1, 14, 14, 2, 19890408, 1130, 0.6600, -25.0017, 4259,  -999.00,    670.1,   5.5117,  34.5140, 2,  34.5190, 2,   -999.0, 9,    143.9, 2,    26.20, 2,    33.82, 2,     0.00, 2,     2.29, 2,    0.053, 2,    0.033, 2,   2223.0, 2,   -999.0, 9,   -999.0, 9,   5.4548,   -999.0, 9, -999.000, 9
318MHYDROS4, A16C, 373, 1, 15, 15, 2, 19890408, 1130, 0.6600, -25.0017, 4259,  -999.00,    772.7,   4.9268,  34.5033, 2,  34.5020, 2,   -999.0, 9,    149.5, 2,    29.91, 2,    34.21, 2,     0.00, 2,     2.34, 2,    0.023, 2,    0.020, 2,   2217.2, 2,   2310.2, 2,   1130.9, 2,   4.8642,   -999.0, 9, -999.000, 9
318MHYDROS4, A16C, 373, 1, 16, 16, 2, 19890408, 1130, 0.6600, -25.0017, 4259,  -999.00,    925.9,   4.5177,  34.5665, 2,  34.5660, 2,   -999.0, 9,    156.1, 2,    32.16, 2,    33.33, 2,     0.00, 2,     2.29, 2,    0.004, 2,    0.004, 2,   2218.6, 2,   2314.8, 2,   1109.9, 2,   4.4444,   -999.0, 9, -999.000, 9
318MHYDROS4, A16C, 373, 1, 17, 17, 2, 19890408, 1130, 0.6600, -25.0017, 4259,  -999.00,   1028.4,   4.5841,  34.6557, 2,  34.6540, 2,   -999.0, 9,    159.5, 2,    30.30, 2,    32.06, 2,     0.00, 2,     2.19, 2,    0.000, 2,    0.002, 2,   -999.0, 9,   -999.0, 9,   -999.0, 9,   4.5012,   -999.0, 9, -999.000, 9
318MHYDROS4, A16C, 373, 1, 18, 18, 2, 19890408, 1130, 0.6600, -25.0017, 4259,  -999.00,   1131.1,   4.4849,  34.7123, 2,  34.7120, 2,   -999.0, 9,    167.8, 2,    28.93, 2,    30.69, 2,     0.00, 2,     2.09, 2, -999.000, 9, -999.000, 9,   2207.3, 2,   -999.0, 9,   -999.0, 9,   4.3936,   -999.0, 9, -999.000, 9
318MHYDROS4, A16C, 373, 1, 19, 19, 2, 19890408, 1130, 0.6600, -25.0017, 4259,  -999.00,   1234.2,   4.5380,  34.8230, 2,  34.8220, 2,   -999.0, 9,    184.7, 2,    25.31, 2,    27.66, 2,     0.00, 2,     1.89, 2,    0.004, 2,    0.006, 2,   -999.0, 9,   -999.0, 9,   1025.9, 2,   4.4368,   -999.0, 9, -999.000, 9
318MHYDROS4, A16C, 373, 1, 20, 20, 2, 19890408, 1130, 0.6600, -25.0017, 4259,  -999.00,   1336.3,   4.5432,  34.9289, 2,  34.9280, 2,   -999.0, 9,    209.5, 2,    20.33, 2,    23.84, 2,     0.00, 2,     1.60, 2,    0.026, 2,    0.017, 2,   -999.0, 9,   -999.0, 9,    842.8, 2,   4.4323,   -999.0, 9, -999.000, 9
318MHYDROS4, A16C, 373, 1, 21, 21, 2, 19890408, 1130, 0.6600, -25.0017, 4259,  -999.00,   1542.6,   4.1508,  34.9669, 2,  34.9680, 2,   -999.0, 9,    235.5, 2,    18.27, 2,    21.01, 2,     0.00, 2,     1.41, 2,    0.021, 2,    0.014, 2,   -999.0, 9,   -999.0, 9,   -999.0, 9,   4.0250,   -999.0, 9, -999.000, 9
318MHYDROS4, A16C, 373, 1, 22, 22, 2, 19890408, 1130, 0.6600, -25.0017, 4259,  -999.00,   1630.2,   4.0890,  34.9714, 2,  34.9720, 2,   -999.0, 9,    239.9, 2,    18.08, 2,    20.52, 2,     0.00, 2,     1.38, 2,    0.020, 2,    0.018, 2,   2167.8, 2,   2321.3, 2,    758.6, 2,   3.9557,   -999.0, 9, -999.000, 9
318MHYDROS4, A16C, 373, 1, 23, 23, 2, 19890408, 1130, 0.6600, -25.0017, 4259,  -999.00,   1748.1,   3.8851,  34.9764, 2,  34.9770, 2,   -999.0, 9,    249.0, 2,    18.08, 2,    19.74, 2,     0.00, 2,     1.34, 2,    0.024, 2,    0.025, 2,   2160.7, 2,   2317.4, 2,    741.6, 2,   3.7433,   -999.0, 9, -999.000, 9
318MHYDROS4, A16C, 373, 1, 24, 24, 2, 19890408, 1130, 0.6600, -25.0017, 4259,  -999.00,   1850.2,   3.7360,  34.9788, 2,  34.9790, 2,   -999.0, 9,    254.6, 2,    18.27, 2,    19.15, 2,     0.00, 2,     1.30, 2,    0.030, 2,    0.021, 2,   2159.6, 2,   2321.2, 2,    721.2, 2,   3.5867,   -999.0, 9, -999.000, 9
318MHYDROS4, A16C, 373, 1, 25, 25, 2, 19890408, 1130, 0.6600, -25.0017, 4259,  -999.00,   2055.7,   3.3757,  34.9563, 2,  34.9580, 2,   -999.0, 9,    251.1, 2,    23.45, 2,    20.03, 2,     0.00, 2,     1.35, 2,    0.004, 2,    0.008, 2,   -999.0, 9,   -999.0, 9,   -999.0, 9,   3.2122,   -999.0, 9, -999.000, 9
318MHYDROS4, A16C, 373, 1, 26, 26, 2, 19890408, 1130, 0.6600, -25.0017, 4259,  -999.00,   2261.9,   3.1512,  34.9448, 2,  34.9450, 2,   -999.0, 9,    252.0, 2,    26.87, 2,    20.23, 2,     0.00, 2,     1.37, 2, -999.000, 9, -999.000, 9,   2174.0, 2,   2331.9, 2,    744.6, 2,   2.9717,   -999.0, 9, -999.000, 9
318MHYDROS4, A16C, 373, 1, 27, 27, 2, 19890408, 1130, 0.6600, -25.0017, 4259,  -999.00,   2468.5,   2.9883,  34.9342, 2,  34.9330, 2,   -999.0, 9,    249.8, 2,    30.20, 2,    20.52, 2,     0.00, 2,     1.40, 2,    0.001, 2,    0.002, 2,   -999.0, 9,   -999.0, 9,   -999.0, 9,   2.7917,   -999.0, 9, -999.000, 9
318MHYDROS4, A16C, 373, 1, 28, 28, 2, 19890408, 1130, 0.6600, -25.0017, 4259,  -999.00,   2674.8,   2.8180,  34.9240, 2,  34.9230, 2,   -999.0, 9,    249.8, 2,    32.93, 2,    20.91, 2,     0.00, 2,     1.41, 2, -999.000, 9, -999.000, 9,   2173.0, 2,   2330.0, 2,    748.4, 2,   2.6043,   -999.0, 9, -999.000, 9
318MHYDROS4, A16C, 373, 1, 29, 29, 2, 19890408, 1130, 0.6600, -25.0017, 4259,  -999.00,   2882.4,   2.6886,  34.9160, 2,  34.9170, 2,   -999.0, 9,    250.7, 2,    35.67, 2,    21.01, 2,     0.00, 2,     1.43, 2, -999.000, 9, -999.000, 9,   -999.0, 9,   -999.0, 9,   -999.0, 9,   2.4567,   2882.6, 2,    2.686, 2
318MHYDROS4, A16C, 373, 1, 30, 30, 2, 19890408, 1130, 0.6600, -25.0017, 4259,  -999.00,   3089.3,   2.6117,  34.9105, 2,  34.9100, 2,   -999.0, 9,    250.7, 2,    36.55, 2,    21.01, 2,     0.00, 2,     1.43, 2,    0.001, 2,    0.002, 2,   2181.2, 2,   2338.2, 2,    753.1, 2,   2.3603,   -999.0, 9, -999.000, 9
318MHYDROS4, A16C, 373, 1, 31, 31, 2, 19890408, 1130, 0.6600, -25.0017, 4259,  -999.00,   3296.3,   2.5274,  34.9046, 2,  34.9050, 2,   -999.0, 9,    251.1, 2,    37.92, 2,    21.01, 2,     0.00, 2,     1.43, 2, -999.000, 9, -999.000, 9,   -999.0, 9,   -999.0, 9,   -999.0, 9,   2.2562,   -999.0, 9, -999.000, 9
318MHYDROS4, A16C, 373, 1, 32, 32, 2, 19890408, 1130, 0.6600, -25.0017, 4259,  -999.00,   3503.5,   2.4626,  34.9003, 2,  34.8990, 2,   -999.0, 9,    252.9, 2,    38.60, 2,    21.01, 2,     0.00, 2,     1.42, 2,    0.001, 2,    0.003, 2,   2186.3, 2,   2344.4, 2,    751.3, 2,   2.1708,   -999.0, 9, -999.000, 9
318MHYDROS4, A16C, 373, 1, 33, 33, 2, 19890408, 1130, 0.6600, -25.0017, 4259,  -999.00,   3711.6,   2.4193,  34.8966, 2,  34.8970, 2,   -999.0, 9,    254.6, 2,    39.09, 2,    20.82, 2,     0.00, 2,     1.42, 2,    0.006, 2,    0.007, 2,   -999.0, 9,   -999.0, 9,   -999.0, 9,   2.1058,   -999.0, 9, -999.000, 9
318MHYDROS4, A16C, 373, 1, 34, 34, 2, 19890408, 1130, 0.6600, -25.0017, 4259,  -999.00,   3919.5,   2.3966,  34.8941, 2,  34.8940, 2,   -999.0, 9,    255.5, 2,    39.87, 2,    20.91, 2,     0.00, 2,     1.41, 2,    0.004, 2,    0.007, 2,   2186.2, 2,   2343.9, 2,    753.1, 2,   2.0604,   -999.0, 9, -999.000, 9
318MHYDROS4, A16C, 373, 1, 35, 35, 2, 19890408, 1130, 0.6600, -25.0017, 4259,  -999.00,   4178.8,   2.3884,  34.8921, 2,  34.8910, 2,   -999.0, 9,    257.2, 2,    40.36, 2,    20.82, 2,     0.00, 2,     1.42, 2, -999.000, 9, -999.000, 9,   -999.0, 9,   -999.0, 9,   -999.0, 9,   2.0227,   4169.3, 2,    2.380, 2
318MHYDROS4, A16C, 373, 1, 36, 36, 2, 19890408, 1130, 0.6600, -25.0017, 4259,  -999.00,   4386.3,   2.3997,  34.8918, 2,  34.8920, 2,   -999.0, 9,    256.8, 2,    40.36, 2,    20.82, 2,     0.00, 2,     1.43, 2,    0.009, 2,    0.010, 2,   2185.1, 4,   2342.8, 2,    752.7, 2,   2.0092,   -999.0, 9, -999.000, 9