BOTTLE,20110318CCHDOSIODM
EXPOCODE,SECT_ID,STNNBR,CASTNO,SAMPNO,BTLNBR,BTLNBR_FLAG_W,DATE,TIME,LATITUDE,LONGITUDE,DEPTH,CTDRAW,CTDPRS,CTDTMP,CTDSAL,CTDSAL_FLAG_W,SALNTY,SALNTY_FLAG_W,CTDOXY,CTDOXY_FLAG_W,OXYGEN,OXYGEN_FLAG_W,SILCAT,SILCAT_FLAG_W,NITRAT,NITRAT_FLAG_W,NITRIT,NITRIT_FLAG_W,PHSPHT,PHSPHT_FLAG_W,CFC-11,CFC-11_FLAG_W,CFC-12,CFC-12_FLAG_W,TCARBN,TCARBN_FLAG_W,ALKALI,ALKALI_FLAG_W,PCO2,PCO2_FLAG_W,THETA,REVPRS,REVPRS_FLAG_W,REVTMP,REVTMP_FLAG_W
,,,,,,,,,,,METERS,DBAR,DBAR,ITS-90,PSS-78,,PSS-78,,UMOL/KG,,UMOL/KG,,UMOL/KG,,UMOL/KG,,UMOL/KG,,UMOL/KG,,PMOL/KG,,PMOL/KG,,UMOL/KG,,UMOL/KG,,UATM,,DEG C,DBAR,,ITS-90,
318MHYDROS4, A16C, 377, 1, 1, 1, 2, 19890412, 1055, 0.3283, -36.5000, 4506,  -999.00,      1.7,  27.2611,  36.2437, 2,  36.2460, 2,   -999.0, 9,    205.9, 2,     2.34, 2,     0.00, 2,     0.00, 2,     0.08, 2,    1.579, 2,    0.827, 2,   2015.2, 2,   2383.0, 2,    270.2, 2,  27.2607,   -999.0, 9, -999.000, 9
318MHYDROS4, A16C, 377, 1, 2, 2, 2, 19890412, 1055, 0.3283, -36.5000, 4506,  -999.00,     30.6,  27.1852,  36.2718, 2,  36.2790, 2,   -999.0, 9,    204.2, 2,     2.44, 2,     0.00, 2,     0.00, 2,     0.09, 2, -999.000, 9, -999.000, 9,   2017.8, 2,   2382.1, 2,    274.5, 2,  27.1781,   -999.0, 9, -999.000, 9
318MHYDROS4, A16C, 377, 1, 3, 3, 2, 19890412, 1055, 0.3283, -36.5000, 4506,  -999.00,     51.2,  25.8099,  36.4756, 2,  36.4770, 2,   -999.0, 9,    205.8, 2,     2.64, 2,     0.10, 2,     0.02, 2,     0.14, 2,    1.578, 2,    0.824, 2,   -999.0, 9,   -999.0, 9,   -999.0, 9,  25.7985,   -999.0, 9, -999.000, 9
318MHYDROS4, A16C, 377, 1, 71, 71, 2, 19890412, 1055, 0.3283, -36.5000, 4506,  -999.00,     66.8,  23.6228,  36.5585, 2,  36.5600, 2,   -999.0, 9,    193.0, 2,     3.03, 2,     1.66, 2,     0.24, 2,     0.29, 2, -999.000, 9, -999.000, 9,   -999.0, 9,   -999.0, 9,   -999.0, 9,  23.6088,   -999.0, 9, -999.000, 9
318MHYDROS4, A16C, 377, 1, 5, 5, 2, 19890412, 1055, 0.3283, -36.5000, 4506,  -999.00,     76.8,  22.9856,  36.4767, 2,  36.4780, 2,   -999.0, 9,    189.5, 2,     3.03, 2,     2.44, 2,     0.28, 2,     0.34, 2, -999.000, 9, -999.000, 9,   -999.0, 9,   -999.0, 9,   -999.0, 9,  22.9699,   -999.0, 9, -999.000, 9
318MHYDROS4, A16C, 377, 1, 6, 6, 2, 19890412, 1055, 0.3283, -36.5000, 4506,  -999.00,    108.0,  15.9874,  35.6976, 2,  35.6980, 2,   -999.0, 9,    164.9, 2,     5.57, 2,    11.72, 2,     0.03, 2,     0.88, 2,    1.335, 2,    0.674, 2,   -999.0, 9,   -999.0, 9,   -999.0, 9,  15.9703,   -999.0, 9, -999.000, 9
318MHYDROS4, A16C, 377, 1, 7, 7, 2, 19890412, 1055, 0.3283, -36.5000, 4506,  -999.00,    173.9,  12.9711,  35.2801, 2,  35.2830, 2,   -999.0, 9,    141.8, 2,     8.30, 2,    18.66, 2,     0.01, 2,     1.27, 2, -999.000, 9, -999.000, 9,   -999.0, 9,   -999.0, 9,   -999.0, 9,  12.9471,   -999.0, 9, -999.000, 9
318MHYDROS4, A16C, 377, 1, 8, 8, 2, 19890412, 1055, 0.3283, -36.5000, 4506,  -999.00,    210.5,  11.6547,  35.1074, 2,  35.1080, 2,   -999.0, 9,    134.8, 2,    10.06, 2,    21.79, 2,     0.01, 2,     1.47, 2,    0.736, 2,    0.389, 2,   -999.0, 9,   -999.0, 9,   -999.0, 9,  11.6277,   -999.0, 9, -999.000, 9
318MHYDROS4, A16C, 377, 1, 9, 9, 2, 19890412, 1055, 0.3283, -36.5000, 4506,  -999.00,    302.3,  10.2523,  34.9484, 2,  34.9470, 2,   -999.0, 9,    117.0, 2,    12.80, 2,    26.78, 2,     0.00, 2,     1.73, 2, -999.000, 9, -999.000, 9,   -999.0, 9,   -999.0, 9,   -999.0, 9,  10.2165,   -999.0, 9, -999.000, 9
318MHYDROS4, A16C, 377, 1, 10, 10, 2, 19890412, 1055, 0.3283, -36.5000, 4506,  -999.00,    368.3,   9.2755,  34.8462, 2,  34.8460, 2,   -999.0, 9,    105.7, 2,    15.34, 2,    30.20, 2,     0.00, 2,     1.93, 2,    0.263, 2,    0.153, 2,   -999.0, 9,   -999.0, 9,   -999.0, 9,   9.2344,   -999.0, 9, -999.000, 9
318MHYDROS4, A16C, 377, 1, 11, 11, 2, 19890412, 1055, 0.3283, -36.5000, 4506,  -999.00,    476.0,   7.6303,  34.6643, 2,  34.6690, 2,   -999.0, 9,    137.8, 2,    18.67, 2,    30.20, 2,     0.00, 2,     2.00, 2,    0.253, 2,    0.139, 2,   -999.0, 9,   -999.0, 9,   -999.0, 9,   7.5828,   -999.0, 9, -999.000, 9
318MHYDROS4, A16C, 377, 1, 12, 12, 2, 19890412, 1055, 0.3283, -36.5000, 4506,  -999.00,    536.8,   6.9050,  34.5943, 2,  34.5980, 2,   -999.0, 9,    151.3, 2,    20.43, 2,    30.30, 2,     0.00, 2,     2.01, 2,    0.253, 2,    0.147, 2,   -999.0, 9,   -999.0, 9,   -999.0, 9,   6.8542,   -999.0, 9, -999.000, 9
318MHYDROS4, A16C, 377, 1, 13, 13, 2, 19890412, 1055, 0.3283, -36.5000, 4506,  -999.00,    649.4,   5.5219,  34.5238, 2,  34.5280, 2,   -999.0, 9,    143.0, 2,    26.69, 2,    33.92, 2,     0.00, 2,     2.28, 2,    0.053, 2,    0.032, 2,   -999.0, 9,   -999.0, 9,   -999.0, 9,   5.4668,   -999.0, 9, -999.000, 9
318MHYDROS4, A16C, 377, 1, 14, 14, 2, 19890412, 1055, 0.3283, -36.5000, 4506,  -999.00,    771.6,   4.8702,  34.5140, 2,  34.5140, 2,   -999.0, 9,    150.0, 2,    30.30, 2,    34.21, 2,     0.00, 2,     2.31, 2,    0.019, 2,    0.025, 2,   -999.0, 9,   -999.0, 9,   -999.0, 9,   4.8079,   -999.0, 9, -999.000, 9
318MHYDROS4, A16C, 377, 1, 15, 15, 2, 19890412, 1055, 0.3283, -36.5000, 4506,  -999.00,    924.4,   4.5944,  34.5563, 2,  34.5560, 2,   -999.0, 9,    156.5, 2,    31.77, 2,    33.43, 2,     0.00, 2,     2.26, 2,    0.011, 2,    0.013, 2,   -999.0, 9,   -999.0, 9,   -999.0, 9,   4.5207,   -999.0, 9, -999.000, 9
318MHYDROS4, A16C, 377, 1, 16, 16, 2, 19890412, 1055, 0.3283, -36.5000, 4506,  -999.00,   1079.5,   4.4992,  34.6985, 2,  34.6970, 2,   -999.0, 9,    166.9, 2,    29.32, 2,    30.89, 2,     0.00, 2,     2.08, 2, -999.000, 9, -999.000, 9,   -999.0, 9,   -999.0, 9,   -999.0, 9,   4.4124,   -999.0, 9, -999.000, 9
318MHYDROS4, A16C, 377, 1, 17, 17, 2, 19890412, 1055, 0.3283, -36.5000, 4506,  -999.00,   1233.9,   4.6342,  34.8990, 2,  34.8980, 2,   -999.0, 9,    197.7, 2,    22.18, 2,    25.31, 2,     0.00, 2,     1.70, 2,    0.027, 2,    0.016, 2,   -999.0, 9,   -999.0, 9,   -999.0, 9,   4.5320,   -999.0, 9, -999.000, 9
318MHYDROS4, A16C, 377, 1, 18, 18, 2, 19890412, 1055, 0.3283, -36.5000, 4506,  -999.00,   1387.6,   4.4224,  34.9601, 2, -999.0000, 9,   -999.0, 9,    224.2, 2,    18.76, 2,    21.99, 2,     0.00, 2,     1.49, 2,    0.039, 2,    0.030, 2,   -999.0, 9,   -999.0, 9,   -999.0, 9,   4.3080,   -999.0, 9, -999.000, 9
318MHYDROS4, A16C, 377, 1, 19, 19, 2, 19890412, 1055, 0.3283, -36.5000, 4506,  -999.00,   1541.8,   4.1833,  34.9643, 2,  34.9650, 2,   -999.0, 9,    233.3, 2,    18.57, 2,    21.21, 2,     0.00, 2,     1.42, 2,    0.018, 2,    0.016, 2,   -999.0, 9,   -999.0, 9,   -999.0, 9,   4.0572,   -999.0, 9, -999.000, 9
318MHYDROS4, A16C, 377, 1, 20, 20, 2, 19890412, 1055, 0.3283, -36.5000, 4506,  -999.00,   1645.4,   4.0068,  34.9809, 2,  34.9810, 2,   -999.0, 9,    246.8, 2,    17.49, 2,    19.84, 2,     0.00, 2,     1.31, 2,    0.034, 2,    0.025, 2,   -999.0, 9,   -999.0, 9,   -999.0, 9,   3.8731,   -999.0, 9, -999.000, 9
318MHYDROS4, A16C, 377, 1, 21, 21, 2, 19890412, 1055, 0.3283, -36.5000, 4506,  -999.00,   1747.8,   3.9627,  34.9906, 2,  34.9910, 2,   -999.0, 9,    253.8, 2,    16.51, 2,    18.96, 2,     0.00, 2,     1.25, 2,    0.067, 2,    0.046, 2,   -999.0, 9,   -999.0, 9,   -999.0, 9,   3.8199,   -999.0, 9, -999.000, 9
318MHYDROS4, A16C, 377, 1, 22, 22, 2, 19890412, 1055, 0.3283, -36.5000, 4506,  -999.00,   1850.7,   3.8396,  34.9864, 2,  34.9870, 2,   -999.0, 9,    255.5, 2,    16.91, 2,    18.86, 2,     0.00, 2,     1.24, 2,    0.060, 2,    0.039, 2,   -999.0, 9,   -999.0, 9,   -999.0, 9,   3.6887,   -999.0, 9, -999.000, 9
318MHYDROS4, A16C, 377, 1, 23, 23, 2, 19890412, 1055, 0.3283, -36.5000, 4506,  -999.00,   1954.0,   3.7379,  34.9832, 2,  34.9830, 2,   -999.0, 9,    257.2, 2,    17.49, 2,    18.66, 2,     0.00, 2,     1.24, 2,    0.050, 2,    0.031, 2,   -999.0, 9,   -999.0, 9,   -999.0, 9,   3.5787,   -999.0, 9, -999.000, 9
318MHYDROS4, A16C, 377, 1, 24, 24, 2, 19890412, 1055, 0.3283, -36.5000, 4506,  -999.00,   2109.2,   3.3754,  34.9592, 2,  34.9600, 2,   -999.0, 9,    254.6, 2,    22.57, 2,    19.54, 2,     0.00, 2,     1.30, 2, -999.000, 9, -999.000, 9,   -999.0, 9,   -999.0, 9,   -999.0, 9,   3.2069,   -999.0, 9, -999.000, 9
318MHYDROS4, A16C, 377, 1, 25, 25, 2, 19890412, 1055, 0.3283, -36.5000, 4506,  -999.00,   2315.2,   3.1492,  34.9567, 2,  34.9580, 2,   -999.0, 9,    261.6, 2,    21.99, 2,    18.66, 2,     0.00, 2,     1.24, 2,    0.023, 2,    0.022, 2,   -999.0, 9,   -999.0, 9,   -999.0, 9,   2.9646,   -999.0, 9, -999.000, 9
318MHYDROS4, A16C, 377, 1, 26, 26, 2, 19890412, 1055, 0.3283, -36.5000, 4506,  -999.00,   2521.9,   3.0345,  34.9465, 2,  34.9470, 2,   -999.0, 9,    259.0, 2,    24.92, 2,    19.15, 2,     0.00, 2,     1.28, 2, -999.000, 9, -999.000, 9,   -999.0, 9,   -999.0, 9,   -999.0, 9,   2.8317,   -999.0, 9, -999.000, 9
318MHYDROS4, A16C, 377, 1, 27, 27, 2, 19890412, 1055, 0.3283, -36.5000, 4506,  -999.00,   2780.2,   2.8571,  34.9326, 2,  34.9340, 2,   -999.0, 9,    256.8, 2,    28.93, 2,    19.74, 2,     0.00, 2,     1.32, 2, -999.000, 9, -999.000, 9,   -999.0, 9,   -999.0, 9,   -999.0, 9,   2.6320,   -999.0, 9, -999.000, 9
318MHYDROS4, A16C, 377, 1, 28, 28, 2, 19890412, 1055, 0.3283, -36.5000, 4506,  -999.00,   2987.3,   2.6926,  34.9221, 2,  34.9220, 2,   -999.0, 9,    257.2, 2,    31.47, 2,    19.94, 2,     0.00, 2,     1.34, 2,    0.002, 2,    0.004, 2,   -999.0, 9,   -999.0, 9,   -999.0, 9,   2.4498,   -999.0, 9, -999.000, 9
318MHYDROS4, A16C, 377, 1, 29, 29, 2, 19890412, 1055, 0.3283, -36.5000, 4506,  -999.00,   3194.2,   2.6556,  34.9181, 2,  34.9170, 2,   -999.0, 9,    256.8, 2,    32.54, 2,    20.13, 2,     0.00, 2,     1.35, 2, -999.000, 9, -999.000, 9,   -999.0, 9,   -999.0, 9,   -999.0, 9,   2.3921,   3195.9, 2,    2.645, 2
318MHYDROS4, A16C, 377, 1, 30, 30, 2, 19890412, 1055, 0.3283, -36.5000, 4506,  -999.00,   3401.7,   2.5269,  34.9097, 2,  34.9100, 2,   -999.0, 9,    258.1, 2,    34.01, 2,    20.13, 2,     0.00, 2,     1.36, 2,    0.004, 2,    0.007, 2,   -999.0, 9,   -999.0, 9,   -999.0, 9,   2.2444,   -999.0, 9, -999.000, 9
318MHYDROS4, A16C, 377, 1, 31, 31, 2, 19890412, 1055, 0.3283, -36.5000, 4506,  -999.00,   3609.3,   2.4197,  34.9073, 2,  34.9080, 2,   -999.0, 9,    264.6, 2,    31.76, 2,    19.15, 2,     0.00, 2,     1.30, 2,    0.035, 2,    0.022, 2,   -999.0, 9,   -999.0, 9,   -999.0, 9,   2.1174,   -999.0, 9, -999.000, 9
318MHYDROS4, A16C, 377, 1, 32, 32, 2, 19890412, 1055, 0.3283, -36.5000, 4506,  -999.00,   3816.9,   2.3665,  34.9024, 2,  34.9030, 2,   -999.0, 9,    265.5, 2,    33.23, 2,    19.35, 2,     0.00, 2,     1.31, 2,    0.034, 2,    0.023, 2,   -999.0, 9,   -999.0, 9,   -999.0, 9,   2.0427,   -999.0, 9, -999.000, 9
318MHYDROS4, A16C, 377, 1, 33, 33, 2, 19890412, 1055, 0.3283, -36.5000, 4506,  -999.00,   4024.3,   2.2564,  34.8907, 2,  34.8930, 2,   -999.0, 9,   -999.0, 9,    36.65, 2,    19.74, 2,     0.00, 2,     1.34, 2,    0.033, 2,    0.022, 2,   -999.0, 9,   -999.0, 9,   -999.0, 9,   1.9122,   -999.0, 9, -999.000, 9
318MHYDROS4, A16C, 377, 1, 34, 34, 2, 19890412, 1055, 0.3283, -36.5000, 4506,  -999.00,   4232.3,   1.3525,  34.7860, 2,  34.7850, 2,   -999.0, 9,    238.1, 2,    82.19, 2,    26.68, 2,     0.00, 2,     1.85, 2, -999.000, 9, -999.000, 9,   -999.0, 9,   -999.0, 9,   -999.0, 9,   1.0116,   -999.0, 9, -999.000, 9
318MHYDROS4, A16C, 377, 1, 35, 35, 2, 19890412, 1055, 0.3283, -36.5000, 4506,  -999.00,   4439.9,   1.0487,  34.7511, 2,  34.7510, 2,   -999.0, 9,    231.1, 2,    96.37, 2,    28.83, 2,     0.00, 2,     1.96, 2, -999.000, 9, -999.000, 9,   -999.0, 9,   -999.0, 9,   -999.0, 9,   0.6941,   4426.3, 2,    1.043, 2
318MHYDROS4, A16C, 377, 1, 36, 36, 2, 19890412, 1055, 0.3283, -36.5000, 4506,  -999.00,   4585.9,   0.9833,  34.7426, 2,  34.7450, 2,   -999.0, 9,    229.4, 2,    99.89, 2,    29.22, 2,     0.00, 2,     2.00, 2,    0.002, 2,    0.000, 2,   -999.0, 9,   -999.0, 9,   -999.0, 9,   0.6143,   -999.0, 9, -999.000, 9