BOTTLE,20110318CCHDOSIODM
EXPOCODE,SECT_ID,STNNBR,CASTNO,SAMPNO,BTLNBR,BTLNBR_FLAG_W,DATE,TIME,LATITUDE,LONGITUDE,DEPTH,CTDRAW,CTDPRS,CTDTMP,CTDSAL,CTDSAL_FLAG_W,SALNTY,SALNTY_FLAG_W,CTDOXY,CTDOXY_FLAG_W,OXYGEN,OXYGEN_FLAG_W,SILCAT,SILCAT_FLAG_W,NITRAT,NITRAT_FLAG_W,NITRIT,NITRIT_FLAG_W,PHSPHT,PHSPHT_FLAG_W,CFC-11,CFC-11_FLAG_W,CFC-12,CFC-12_FLAG_W,TCARBN,TCARBN_FLAG_W,ALKALI,ALKALI_FLAG_W,PCO2,PCO2_FLAG_W,THETA,REVPRS,REVPRS_FLAG_W,REVTMP,REVTMP_FLAG_W
,,,,,,,,,,,METERS,DBAR,DBAR,ITS-90,PSS-78,,PSS-78,,UMOL/KG,,UMOL/KG,,UMOL/KG,,UMOL/KG,,UMOL/KG,,UMOL/KG,,PMOL/KG,,PMOL/KG,,UMOL/KG,,UMOL/KG,,UATM,,DEG C,DBAR,,ITS-90,
318MHYDROS4, A16C, 362, 1, 1, 1, 2, 19890405, 2309, -3.9667, -24.9733, 5302,  -999.00,      1.0,  28.7490,  36.0565, 2,  36.0590, 2,   -999.0, 9,    209.6, 2,     2.34, 2,     0.10, 2,     0.00, 2,     0.08, 2,    1.526, 2,    0.772, 2,   2011.8, 2,   2360.0, 2,    287.3, 2,  28.7487,   -999.0, 9, -999.000, 9
318MHYDROS4, A16C, 362, 1, 2, 2, 2, 19890405, 2309, -3.9667, -24.9733, 5302,  -999.00,     40.2,  27.7561,  36.1764, 2,  36.1800, 2,   -999.0, 9,    220.8, 2,     2.54, 2,     0.10, 2,     0.00, 2,     0.10, 2, -999.000, 9, -999.000, 9,   2022.5, 2,   2382.4, 2,    279.2, 2,  27.7467,   -999.0, 9, -999.000, 9
318MHYDROS4, A16C, 362, 1, 3, 3, 2, 19890405, 2309, -3.9667, -24.9733, 5302,  -999.00,     65.2,  24.3224,  36.1696, 2,  36.2000, 2,   -999.0, 9,    198.8, 2,     3.12, 2,     0.59, 2,     0.03, 2,     0.26, 2,    1.552, 2,    0.811, 2,   -999.0, 9,   -999.0, 9,   -999.0, 9,  24.3085,   -999.0, 9, -999.000, 9
318MHYDROS4, A16C, 362, 1, 71, 71, 2, 19890405, 2309, -3.9667, -24.9733, 5302,  -999.00,     89.8,  17.3455,  35.8385, 2,  35.8460, 2,   -999.0, 9,   -999.0, 9,     5.66, 2,    13.97, 2,     0.09, 2,     1.05, 2, -999.000, 9, -999.000, 9,   2151.8, 2,   2354.3, 2,    591.3, 2,  17.3304,   -999.0, 9, -999.000, 9
318MHYDROS4, A16C, 362, 1, 5, 5, 2, 19890405, 2309, -3.9667, -24.9733, 5302,  -999.00,    109.5,  14.6687,  35.4909, 2,  35.4830, 2,   -999.0, 9,     98.3, 2,     7.81, 2,    21.00, 2,     0.04, 2,     1.41, 2,    0.910, 2,    0.455, 2,   2177.4, 2,   2335.4, 2,    753.2, 2,  14.6524,   -999.0, 9, -999.000, 9
318MHYDROS4, A16C, 362, 1, 6, 6, 2, 19890405, 2309, -3.9667, -24.9733, 5302,  -999.00,    200.2,  12.4663,  35.2093, 2,  35.2060, 2,   -999.0, 9,     92.2, 2,    10.16, 2,    25.11, 2,     0.00, 2,     1.63, 2,    0.610, 2,    0.304, 2,   2192.6, 2,   2325.6, 2,    872.7, 2,  12.4395,   -999.0, 9, -999.000, 9
318MHYDROS4, A16C, 362, 1, 7, 7, 2, 19890405, 2309, -3.9667, -24.9733, 5302,  -999.00,    261.9,  11.4504,  35.0798, 2,  35.0760, 2,   -999.0, 9,    109.6, 2,    11.04, 2,    25.11, 2,     0.00, 2,     1.64, 2, -999.000, 9, -999.000, 9,   2187.4, 2,   2323.5, 2,    852.1, 2,  11.4171,   -999.0, 9, -999.000, 9
318MHYDROS4, A16C, 362, 1, 8, 8, 2, 19890405, 2309, -3.9667, -24.9733, 5302,  -999.00,    322.7,  10.1859,  34.9326, 2,  34.9330, 2,   -999.0, 9,    107.0, 2,    13.09, 2,    27.95, 2,     0.00, 2,     1.80, 2,    0.395, 2,    0.192, 2,   2199.0, 2,   2311.3, 2,    989.2, 2,  10.1478,   -999.0, 9, -999.000, 9
318MHYDROS4, A16C, 362, 1, 9, 9, 2, 19890405, 2309, -3.9667, -24.9733, 5302,  -999.00,    374.6,   9.0245,  34.7992, 2,  34.8000, 2,   -999.0, 9,    110.5, 2,    15.44, 2,    29.91, 2,     0.00, 2,     1.94, 2, -999.000, 9, -999.000, 9,   -999.0, 9,   -999.0, 9,   -999.0, 9,   8.9834,   -999.0, 9, -999.000, 9
318MHYDROS4, A16C, 362, 1, 10, 10, 2, 19890405, 2309, -3.9667, -24.9733, 5302,  -999.00,    420.5,   8.1659,  34.7264, 2,  34.7330, 2,   -999.0, 9,     87.8, 2,    18.28, 2,    34.50, 2,     0.00, 2,     2.19, 2,    0.119, 2,    0.051, 2,   2220.7, 2,   2312.8, 2,   1140.9, 2,   8.1224,   -999.0, 9, -999.000, 9
318MHYDROS4, A16C, 362, 1, 11, 11, 2, 19890405, 2309, -3.9667, -24.9733, 5302,  -999.00,    501.7,   7.0073,  34.6180, 2,  34.6200, 2,   -999.0, 9,    109.6, 2,    21.02, 2,    34.60, 2,     0.00, 2,     2.24, 2,    0.096, 2,    0.046, 2,   2217.4, 2,   2299.9, 2,   1211.5, 2,   6.9595,   -999.0, 9, -999.000, 9
318MHYDROS4, A16C, 362, 1, 12, 12, 2, 19890405, 2309, -3.9667, -24.9733, 5302,  -999.00,    603.9,   5.8951,  34.5229, 2,  34.5250, 2,   -999.0, 9,    129.6, 2,    25.02, 2,    34.90, 2,     0.00, 2,     2.32, 2,    0.062, 2,    0.036, 2,   2220.6, 2,   2304.3, 2,   1203.7, 2,   5.8424,   -999.0, 9, -999.000, 9
318MHYDROS4, A16C, 362, 1, 13, 13, 2, 19890405, 2309, -3.9667, -24.9733, 5302,  -999.00,    701.3,   5.0473,  34.4809, 2,  34.4820, 2,   -999.0, 9,    138.7, 2,    29.52, 2,    35.78, 2,     0.00, 2,     2.39, 2,    0.030, 2,    0.013, 2,   2225.9, 2,   2312.3, 2,   1186.7, 2,   4.9902,   -999.0, 9, -999.000, 9
318MHYDROS4, A16C, 362, 1, 14, 14, 2, 19890405, 2309, -3.9667, -24.9733, 5302,  -999.00,    834.1,   4.3500,  34.4867, 2,  34.4830, 2,   -999.0, 9,    159.5, 2,    34.02, 2,    34.51, 2,     0.00, 2,     2.32, 2,    0.018, 2,    0.012, 2,   2216.3, 2,   2310.0, 2,   1124.7, 2,   4.2857,   -999.0, 9, -999.000, 9
318MHYDROS4, A16C, 362, 1, 15, 15, 2, 19890405, 2309, -3.9667, -24.9733, 5302,  -999.00,    950.8,   4.3034,  34.5748, 2,  34.5720, 2,   -999.0, 9,    158.7, 2,    33.63, 2,    33.43, 2,     0.00, 2,     2.28, 2,    0.001, 2,    0.003, 2,   -999.0, 9,   -999.0, 9,   -999.0, 9,   4.2295,   -999.0, 9, -999.000, 9
318MHYDROS4, A16C, 362, 1, 16, 16, 2, 19890405, 2309, -3.9667, -24.9733, 5302,  -999.00,   1130.8,   4.2964,  34.7130, 2,  34.7090, 2,   -999.0, 9,    169.1, 2,    30.79, 2,    30.49, 2,     0.00, 2,     2.08, 2,    0.000, 2,    0.000, 2,   -999.0, 9,   -999.0, 9,   -999.0, 9,   4.2068,   -999.0, 9, -999.000, 9
318MHYDROS4, A16C, 362, 1, 17, 17, 2, 19890405, 2309, -3.9667, -24.9733, 5302,  -999.00,   1336.1,   4.4019,  34.8906, 2,  34.8890, 2,   -999.0, 9,    203.4, 2,    22.97, 2,    25.31, 2,     0.00, 2,     1.69, 2,    0.014, 2,    0.016, 2,   2193.6, 2,   2325.9, 2,    873.5, 2,   4.2926,   -999.0, 9, -999.000, 9
318MHYDROS4, A16C, 362, 1, 18, 18, 2, 19890405, 2309, -3.9667, -24.9733, 5302,  -999.00,   1542.4,   4.1551,  34.9704, 2,  34.9700, 2,   -999.0, 9,    237.3, 2,    18.27, 2,    21.01, 2,     0.00, 2,     1.40, 2,    0.040, 2,    0.020, 2,   -999.0, 9,   -999.0, 9,   -999.0, 9,   4.0292,   -999.0, 9, -999.000, 9
318MHYDROS4, A16C, 362, 1, 19, 19, 2, 19890405, 2309, -3.9667, -24.9733, 5302,  -999.00,   1747.7,   3.8025,  34.9766, 2,  34.9780, 2,   -999.0, 9,    250.7, 2,    18.27, 2,    19.74, 2,     0.00, 2,     1.31, 2,    0.027, 2,    0.018, 2,   2165.8, 2,   2334.1, 2,    698.8, 2,   3.6618,   -999.0, 9, -999.000, 9
318MHYDROS4, A16C, 362, 1, 20, 20, 2, 19890405, 2309, -3.9667, -24.9733, 5302,  -999.00,   1953.9,   3.5776,  34.9665, 2,  34.9680, 2,   -999.0, 9,    252.4, 2,    20.62, 2,    19.74, 2,     0.00, 2,     1.31, 2,    0.009, 2,    0.009, 2,   2171.1, 2,   2329.6, 2,    739.5, 2,   3.4207,   -999.0, 9, -999.000, 9
318MHYDROS4, A16C, 362, 1, 21, 21, 2, 19890405, 2309, -3.9667, -24.9733, 5302,  -999.00,   2160.1,   3.3797,  34.9552, 2,  34.9550, 2,   -999.0, 9,    252.0, 2,    23.65, 2,    19.94, 2,     0.00, 2,     1.33, 2,    0.004, 2,    0.006, 2,   -999.0, 9,   -999.0, 9,   -999.0, 9,   3.2062,   -999.0, 9, -999.000, 9
318MHYDROS4, A16C, 362, 1, 22, 22, 2, 19890405, 2309, -3.9667, -24.9733, 5302,  -999.00,   2366.0,   3.1741,  34.9442, 2,  34.9440, 2,   -999.0, 9,    252.4, 2,    26.48, 2,    20.33, 2,     0.00, 2,     1.35, 2,    0.002, 2,    0.002, 2,   -999.0, 9,   -999.0, 9,   -999.0, 9,   2.9841,   -999.0, 9, -999.000, 9
318MHYDROS4, A16C, 362, 1, 23, 23, 2, 19890405, 2309, -3.9667, -24.9733, 5302,  -999.00,   2573.4,   2.9492,  34.9279, 2,  34.9280, 2,   -999.0, 9,    249.0, 2,    31.86, 2,    20.52, 2,     0.00, 2,     1.41, 2, -999.000, 9, -999.000, 9,   2181.5, 2,   2338.4, 2,    753.3, 2,   2.7430,   -999.0, 9, -999.000, 9
318MHYDROS4, A16C, 362, 1, 24, 24, 2, 19890405, 2309, -3.9667, -24.9733, 5302,  -999.00,   2779.9,   2.8145,  34.9205, 2,  34.9210, 2,   -999.0, 9,    249.0, 2,    34.40, 2,    21.11, 2,     0.00, 2,     1.41, 2, -999.000, 9, -999.000, 9,   -999.0, 9,   -999.0, 9,   -999.0, 9,   2.5903,   -999.0, 9, -999.000, 9
318MHYDROS4, A16C, 362, 1, 25, 25, 2, 19890405, 2309, -3.9667, -24.9733, 5302,  -999.00,   2986.7,   2.7090,  34.9193, 2,  34.9210, 2,   -999.0, 9,    253.3, 2,    33.72, 2,    20.62, 2,     0.00, 2,     1.38, 2, -999.000, 9, -999.000, 9,   -999.0, 9,   -999.0, 9,   -999.0, 9,   2.4660,   -999.0, 9, -999.000, 9
318MHYDROS4, A16C, 362, 1, 26, 26, 2, 19890405, 2309, -3.9667, -24.9733, 5302,  -999.00,   3194.7,   2.6317,  34.9168, 2,  34.9140, 2,   -999.0, 9,    256.8, 2,    33.32, 2,    20.13, 2,     0.00, 2,     1.37, 2, -999.000, 9, -999.000, 9,   2173.3, 2,   2331.9, 2,    741.4, 2,   2.3688,   -999.0, 9, -999.000, 9
318MHYDROS4, A16C, 362, 1, 27, 27, 2, 19890405, 2309, -3.9667, -24.9733, 5302,  -999.00,   3401.8,   2.5707,  34.9132, 2,  34.9140, 2,   -999.0, 9,    258.9, 2,    33.42, 2,    19.94, 2,     0.00, 2,     1.35, 2, -999.000, 9, -999.000, 9,   -999.0, 9,   -999.0, 9,   -999.0, 9,   2.2871,   -999.0, 9, -999.000, 9
318MHYDROS4, A16C, 362, 1, 28, 28, 2, 19890405, 2309, -3.9667, -24.9733, 5302,  -999.00,   3609.2,   2.4900,  34.9091, 2,  34.9090, 2,   -999.0, 9,   -999.0, 9,    32.93, 2,    19.55, 2,     0.00, 2,     1.35, 2, -999.000, 9, -999.000, 9,   -999.0, 9,   -999.0, 9,   -999.0, 9,   2.1859,   -999.0, 9, -999.000, 9
318MHYDROS4, A16C, 362, 1, 29, 29, 2, 19890405, 2309, -3.9667, -24.9733, 5302,  -999.00,   3816.9,   2.2840,  34.8925, 2,  34.8930, 2,   -999.0, 9,    262.4, 2,    37.23, 2,    20.13, 2,     0.00, 2,     1.35, 2, -999.000, 9, -999.000, 9,   2176.3, 2,   2353.2, 2,    674.4, 2,   1.9624,   -999.0, 9, -999.000, 9
318MHYDROS4, A16C, 362, 1, 30, 30, 2, 19890405, 2309, -3.9667, -24.9733, 5302,  -999.00,   4024.5,   1.9263,  34.8508, 2,  34.8520, 2,   -999.0, 9,    252.4, 2,    55.02, 2,    22.67, 2,     0.00, 2,     1.55, 2, -999.000, 9, -999.000, 9,   -999.0, 9,   -999.0, 9,   -999.0, 9,   1.5916,   -999.0, 9, -999.000, 9
318MHYDROS4, A16C, 362, 1, 31, 31, 2, 19890405, 2309, -3.9667, -24.9733, 5302,  -999.00,   4232.9,   1.5027,  34.8030, 2,  34.8040, 2,   -999.0, 9,    242.0, 2,    75.74, 2,    25.31, 2,     0.00, 2,     1.75, 2, -999.000, 9, -999.000, 9,   -999.0, 9,   -999.0, 9,   -999.0, 9,   1.1573,   -999.0, 9, -999.000, 9
318MHYDROS4, A16C, 362, 1, 32, 32, 2, 19890405, 2309, -3.9667, -24.9733, 5302,  -999.00,   4440.8,   1.0604,  34.7544, 2,  34.7540, 2,   -999.0, 9,    231.6, 2,    96.56, 2,    28.54, 2,     0.00, 2,     1.97, 2, -999.000, 9, -999.000, 9,   2242.1, 2,   2372.3, 2,    924.4, 2,   0.7053,   -999.0, 9, -999.000, 9
318MHYDROS4, A16C, 362, 1, 33, 33, 2, 19890405, 2309, -3.9667, -24.9733, 5302,  -999.00,   4649.4,   0.8565,  34.7309, 2,  34.7320, 2,   -999.0, 9,    227.2, 2,   106.24, 2,    29.71, 2,     0.00, 2,     2.06, 2, -999.000, 9, -999.000, 9,   -999.0, 9,   -999.0, 9,   -999.0, 9,   0.4845,   -999.0, 9, -999.000, 9
318MHYDROS4, A16C, 362, 1, 34, 34, 2, 19890405, 2309, -3.9667, -24.9733, 5302,  -999.00,   4909.4,   0.7661,  34.7184, 2,  34.7180, 2,   -999.0, 9,    225.9, 2,   110.84, 2,    30.89, 2,     0.00, 2,     2.12, 2, -999.000, 9, -999.000, 9,   -999.0, 9,   -999.0, 9,   -999.0, 9,   0.3672,   -999.0, 9, -999.000, 9
318MHYDROS4, A16C, 362, 1, 35, 35, 2, 19890405, 2309, -3.9667, -24.9733, 5302,  -999.00,   5170.3,   0.7178,  34.7099, 2,  34.7080, 2,   -999.0, 9,    224.6, 2,   114.75, 2,    31.08, 2,     0.00, 2,     2.17, 2, -999.000, 9, -999.000, 9,   2260.4, 2,   2384.7, 2,    971.6, 2,   0.2898,   5170.2, 2,    0.709, 2
318MHYDROS4, A16C, 362, 1, 36, 36, 2, 19890405, 2309, -3.9667, -24.9733, 5302,  -999.00,   5421.6,   0.7212,  34.7068, 2,  34.7060, 2,   -999.0, 9,    223.8, 2,   115.43, 2,    31.28, 2,     0.00, 2,     2.16, 2, -999.000, 9, -999.000, 9,   2261.9, 2,   2385.7, 2,    975.3, 2,   0.2627,   -999.0, 9, -999.000, 9