BOTTLE,20110318CCHDOSIODM
EXPOCODE,SECT_ID,STNNBR,CASTNO,SAMPNO,BTLNBR,BTLNBR_FLAG_W,DATE,TIME,LATITUDE,LONGITUDE,DEPTH,CTDRAW,CTDPRS,CTDTMP,CTDSAL,CTDSAL_FLAG_W,SALNTY,SALNTY_FLAG_W,CTDOXY,CTDOXY_FLAG_W,OXYGEN,OXYGEN_FLAG_W,SILCAT,SILCAT_FLAG_W,NITRAT,NITRAT_FLAG_W,NITRIT,NITRIT_FLAG_W,PHSPHT,PHSPHT_FLAG_W,CFC-11,CFC-11_FLAG_W,CFC-12,CFC-12_FLAG_W,TCARBN,TCARBN_FLAG_W,ALKALI,ALKALI_FLAG_W,PCO2,PCO2_FLAG_W,THETA,REVPRS,REVPRS_FLAG_W,REVTMP,REVTMP_FLAG_W
,,,,,,,,,,,METERS,DBAR,DBAR,ITS-90,PSS-78,,PSS-78,,UMOL/KG,,UMOL/KG,,UMOL/KG,,UMOL/KG,,UMOL/KG,,UMOL/KG,,PMOL/KG,,PMOL/KG,,UMOL/KG,,UMOL/KG,,UATM,,DEG C,DBAR,,ITS-90,
318MHYDROS4, A16C, 343, 1, 1, 1, 2, 19890330, 2203, -15.0567, -24.9950, 4978,  -999.00,      9.1,  27.7225,  37.2006, 2,  37.2023, 2,   -999.0, 9,    207.7, 2,     2.65, 2,     0.01, 2,     0.00, 2,     0.11, 2, -999.000, 9, -999.000, 9,   -999.0, 9,   -999.0, 9,   -999.0, 9,  27.7204,   -999.0, 9, -999.000, 9
318MHYDROS4, A16C, 343, 1, 2, 2, 2, 19890330, 2203, -15.0567, -24.9950, 4978,  -999.00,      9.3,  27.7223,  37.2011, 2, -999.0000, 9,   -999.0, 9,   -999.0, 9,  -999.00, 9,  -999.00, 9,  -999.00, 9,  -999.00, 9, -999.000, 9, -999.000, 9,   2059.9, 2,   -999.0, 9,    285.4, 2,  27.7201,   -999.0, 9, -999.000, 9
318MHYDROS4, A16C, 343, 1, 3, 3, 2, 19890330, 2203, -15.0567, -24.9950, 4978,  -999.00,     36.3,  27.7034,  37.1983, 2,  37.2003, 2,   -999.0, 9,    208.5, 2,     2.65, 2,     0.01, 2,     0.00, 2,     0.10, 2, -999.000, 9, -999.000, 9,   2060.3, 2,   2432.9, 2,    284.4, 2,  27.6949,   -999.0, 9, -999.000, 9
318MHYDROS4, A16C, 343, 1, 71, 71, 2, 19890330, 2203, -15.0567, -24.9950, 4978,  -999.00,     67.3,  25.7148,  36.9667, 2,  36.9472, 2,   -999.0, 9,    225.7, 2,     2.64, 2,     0.01, 2,     0.00, 2,     0.17, 2, -999.000, 9, -999.000, 9,   2066.3, 2,   -999.0, 9,   -999.0, 9,  25.6998,   -999.0, 9, -999.000, 9
318MHYDROS4, A16C, 343, 1, 5, 5, 2, 19890330, 2203, -15.0567, -24.9950, 4978,  -999.00,    108.6,  22.7951,  36.7356, 2,  36.7211, 2,   -999.0, 9,    225.0, 2,     2.44, 2,     0.01, 2,     0.00, 2,     0.22, 2, -999.000, 9, -999.000, 9,   -999.0, 9,   -999.0, 9,   -999.0, 9,  22.7729,   -999.0, 9, -999.000, 9
318MHYDROS4, A16C, 343, 1, 6, 6, 2, 19890330, 2203, -15.0567, -24.9950, 4978,  -999.00,    160.2,  20.0461,  36.3244, 2,  36.2286, 2,   -999.0, 9,    199.1, 2,     2.82, 2,     1.77, 2,     0.15, 2,     0.40, 2, -999.000, 9, -999.000, 9,   2096.0, 2,   -999.0, 9,   -999.0, 9,  20.0162,   -999.0, 9, -999.000, 9
318MHYDROS4, A16C, 343, 1, 7, 7, 2, 19890330, 2203, -15.0567, -24.9950, 4978,  -999.00,    211.0,  15.7784,  35.5582, 2,  35.5440, 2,   -999.0, 9,    179.0, 2,     4.34, 2,     8.88, 2,     0.01, 2,     0.76, 2, -999.000, 9, -999.000, 9,   2127.6, 2,   -999.0, 9,   -999.0, 9,  15.7452,   -999.0, 9, -999.000, 9
318MHYDROS4, A16C, 343, 1, 8, 8, 2, 19890330, 2203, -15.0567, -24.9950, 4978,  -999.00,    261.5,  13.3722,  35.2456, 2,  35.2417, 2,   -999.0, 9,    150.8, 2,     6.81, 2,    16.27, 2,     0.00, 2,     1.16, 2, -999.000, 9, -999.000, 9,   2157.0, 2,   -999.0, 9,   -999.0, 9,  13.3354,   -999.0, 9, -999.000, 9
318MHYDROS4, A16C, 343, 1, 9, 9, 2, 19890330, 2203, -15.0567, -24.9950, 4978,  -999.00,    312.8,  11.4534,  35.0173, 2,  35.0144, 2,   -999.0, 9,    141.9, 2,     9.28, 2,    20.67, 2,     0.00, 2,     1.43, 2, -999.000, 9, -999.000, 9,   2181.8, 2,   -999.0, 9,   -999.0, 9,  11.4136,   -999.0, 9, -999.000, 9
318MHYDROS4, A16C, 343, 1, 10, 10, 2, 19890330, 2203, -15.0567, -24.9950, 4978,  -999.00,    414.7,   8.6036,  34.7225, 2,  34.7243, 2,   -999.0, 9,    136.4, 2,    15.36, 2,    27.48, 2,     0.00, 2,     1.86, 2, -999.000, 9, -999.000, 9,   2187.9, 2,   -999.0, 9,   -999.0, 9,   8.5593,   -999.0, 9, -999.000, 9
318MHYDROS4, A16C, 343, 1, 11, 11, 2, 19890330, 2203, -15.0567, -24.9950, 4978,  -999.00,    516.7,   6.3008,  34.5136, 2,  34.5187, 2,   -999.0, 9,    160.8, 2,    21.42, 2,    30.15, 2,     0.00, 2,     2.04, 2, -999.000, 9, -999.000, 9,   2187.1, 2,   -999.0, 9,   -999.0, 9,   6.2544,   -999.0, 9, -999.000, 9
318MHYDROS4, A16C, 343, 1, 12, 12, 2, 19890330, 2203, -15.0567, -24.9950, 4978,  -999.00,    618.8,   4.9592,  34.4174, 2,  34.4181, 2,   -999.0, 9,    177.9, 2,    27.47, 2,    31.48, 2,     0.00, 2,     2.15, 2, -999.000, 9, -999.000, 9,   2196.8, 2,   -999.0, 9,   -999.0, 9,   4.9097,   -999.0, 9, -999.000, 9
318MHYDROS4, A16C, 343, 1, 13, 13, 2, 19890330, 2203, -15.0567, -24.9950, 4978,  -999.00,    720.8,   4.2712,  34.4110, 2,  34.4090, 2,   -999.0, 9,    179.7, 2,    33.70, 2,    32.43, 2,     0.00, 2,     2.24, 2, -999.000, 9, -999.000, 9,   2204.7, 2,   -999.0, 9,   -999.0, 9,   4.2168,   -999.0, 9, -999.000, 9
318MHYDROS4, A16C, 343, 1, 14, 14, 2, 19890330, 2203, -15.0567, -24.9950, 4978,  -999.00,    822.7,   3.9959,  34.4395, 2,  34.4374, 2,   -999.0, 9,    177.4, 2,    37.06, 2,    32.90, 2,     0.00, 2,     2.26, 2, -999.000, 9, -999.000, 9,   2209.0, 2,   -999.0, 9,   -999.0, 9,   3.9349,   -999.0, 9, -999.000, 9
318MHYDROS4, A16C, 343, 1, 15, 15, 2, 19890330, 2203, -15.0567, -24.9950, 4978,  -999.00,    924.7,   3.8436,  34.4919, 2,  34.4901, 2,   -999.0, 9,    175.6, 2,    39.47, 2,    32.77, 2,     0.00, 2,     2.25, 2, -999.000, 9, -999.000, 9,   2202.0, 2,   -999.0, 9,   -999.0, 9,   3.7753,   -999.0, 9, -999.000, 9
318MHYDROS4, A16C, 343, 1, 16, 16, 2, 19890330, 2203, -15.0567, -24.9950, 4978,  -999.00,   1027.7,   3.8041,  34.5671, 2,  34.5642, 2,   -999.0, 9,    177.1, 2,    39.23, 2,    31.99, 2,     0.00, 2,     2.19, 2, -999.000, 9, -999.000, 9,   -999.0, 9,   -999.0, 9,   -999.0, 9,   3.7276,   -999.0, 9, -999.000, 9
318MHYDROS4, A16C, 343, 1, 17, 17, 2, 19890330, 2203, -15.0567, -24.9950, 4978,  -999.00,   1233.2,   3.9874,  34.7429, 2,  34.7392, 2,   -999.0, 9,    188.4, 2,    32.56, 2,    28.59, 2,     0.00, 2,     1.95, 2, -999.000, 9, -999.000, 9,   2180.3, 2,   -999.0, 9,   -999.0, 9,   3.8916,   -999.0, 9, -999.000, 9
318MHYDROS4, A16C, 343, 1, 18, 18, 2, 19890330, 2203, -15.0567, -24.9950, 4978,  -999.00,   1438.3,   4.0122,  34.8673, 2,  34.8664, 2,   -999.0, 9,    210.2, 2,    26.67, 2,    24.76, 2,     0.00, 2,     1.69, 2, -999.000, 9, -999.000, 9,   -999.0, 9,   -999.0, 9,   -999.0, 9,   3.8977,   -999.0, 9, -999.000, 9
318MHYDROS4, A16C, 343, 1, 19, 19, 2, 19890330, 2203, -15.0567, -24.9950, 4978,  -999.00,   1644.9,   3.7642,  34.9209, 2,  34.9206, 2,   -999.0, 9,    231.2, 2,    24.56, 2,    22.14, 2,     0.00, 2,     1.49, 2, -999.000, 9, -999.000, 9,   2175.2, 2,   -999.0, 9,   -999.0, 9,   3.6337,   -999.0, 9, -999.000, 9
318MHYDROS4, A16C, 343, 1, 20, 20, 2, 19890330, 2203, -15.0567, -24.9950, 4978,  -999.00,   1850.5,   3.4503,  34.9277, 2,  34.9275, 2,   -999.0, 9,    240.8, 2,    26.79, 2,    21.32, 2,     0.00, 2,     1.44, 2, -999.000, 9, -999.000, 9,   -999.0, 9,   -999.0, 9,   -999.0, 9,   3.3050,   -999.0, 9, -999.000, 9
318MHYDROS4, A16C, 343, 1, 21, 21, 2, 19890330, 2203, -15.0567, -24.9950, 4978,  -999.00,   2056.5,   3.1777,  34.9215, 2,  34.9222, 2,   -999.0, 9,    243.6, 2,    30.32, 2,    21.27, 2,     0.00, 2,     1.44, 2, -999.000, 9, -999.000, 9,   2179.0, 2,   -999.0, 9,   -999.0, 9,   3.0173,   -999.0, 9, -999.000, 9
318MHYDROS4, A16C, 343, 1, 22, 22, 2, 19890330, 2203, -15.0567, -24.9950, 4978,  -999.00,   2263.2,   2.9563,  34.9103, 2,  34.9110, 2,   -999.0, 9,    243.7, 2,    35.15, 2,    21.62, 2,     0.00, 2,     1.46, 2, -999.000, 9, -999.000, 9,   -999.0, 9,   -999.0, 9,   -999.0, 9,   2.7801,   -999.0, 9, -999.000, 9
318MHYDROS4, A16C, 343, 1, 23, 23, 2, 19890330, 2203, -15.0567, -24.9950, 4978,  -999.00,   2469.8,   2.8367,  34.9053, 2,  34.9051, 2,   -999.0, 9,    242.9, 2,    37.73, 2,    21.75, 2,     0.00, 2,     1.47, 2, -999.000, 9, -999.000, 9,   2181.9, 2,   -999.0, 9,   -999.0, 9,   2.6429,   -999.0, 9, -999.000, 9
318MHYDROS4, A16C, 343, 1, 24, 24, 2, 19890330, 2203, -15.0567, -24.9950, 4978,  -999.00,   2676.7,   2.7660,  34.9044, 2,  34.9043, 2,   -999.0, 9,    243.7, 2,    38.99, 2,    21.79, 2,     0.00, 2,     1.46, 2, -999.000, 9, -999.000, 9,   -999.0, 9,   -999.0, 9,   -999.0, 9,   2.5532,   -999.0, 9, -999.000, 9
318MHYDROS4, A16C, 343, 1, 25, 25, 2, 19890330, 2203, -15.0567, -24.9950, 4978,  -999.00,   2883.5,   2.6954,  34.9007, 2,  34.9018, 2,   -999.0, 9,    243.3, 2,    40.99, 2,    21.83, 2,     0.00, 2,     1.49, 2, -999.000, 9, -999.000, 9,   2184.9, 2,   -999.0, 9,   -999.0, 9,   2.4633,   -999.0, 9, -999.000, 9
318MHYDROS4, A16C, 343, 1, 26, 26, 2, 19890330, 2203, -15.0567, -24.9950, 4978,  -999.00,   3090.6,   2.6534,  34.9005, 2,  34.8997, 2,   -999.0, 9,    244.8, 2,    41.12, 2,    21.75, 2,     0.00, 2,     1.47, 2, -999.000, 9, -999.000, 9,   -999.0, 9,   -999.0, 9,   -999.0, 9,   2.4009,   -999.0, 9, -999.000, 9
318MHYDROS4, A16C, 343, 1, 27, 27, 2, 19890330, 2203, -15.0567, -24.9950, 4978,  -999.00,   3297.8,   2.5994,  34.8978, 2,  34.8989, 2,   -999.0, 9,    246.7, 2,    42.00, 2,    21.70, 2,     0.00, 2,     1.47, 2, -999.000, 9, -999.000, 9,   2190.6, 2,   -999.0, 9,   -999.0, 9,   2.3264,   -999.0, 9, -999.000, 9
318MHYDROS4, A16C, 343, 1, 28, 28, 2, 19890330, 2203, -15.0567, -24.9950, 4978,  -999.00,   3505.0,   2.4761,  34.8904, 2,  34.8899, 2,   -999.0, 9,    247.3, 2,    44.55, 2,    21.88, 2,     0.00, 2,     1.49, 2, -999.000, 9, -999.000, 9,   -999.0, 9,   -999.0, 9,   -999.0, 9,   2.1839,   -999.0, 9, -999.000, 9
318MHYDROS4, A16C, 343, 1, 29, 29, 2, 19890330, 2203, -15.0567, -24.9950, 4978,  -999.00,   3713.1,   2.2653,  34.8727, 2,  34.8757, 2,   -999.0, 9,    247.7, 2,    50.26, 2,    22.57, 2,     0.00, 2,     1.53, 2, -999.000, 9, -999.000, 9,   2209.3, 2,   -999.0, 9,   -999.0, 9,   1.9558,   -999.0, 9, -999.000, 9
318MHYDROS4, A16C, 343, 1, 30, 30, 2, 19890330, 2203, -15.0567, -24.9950, 4978,  -999.00,   3920.6,   1.9455,  34.8416, 2,  34.8424, 2,   -999.0, 9,    242.5, 2,    62.82, 2,    24.07, 2,     0.00, 2,     1.65, 2, -999.000, 9, -999.000, 9,   -999.0, 9,   -999.0, 9,   -999.0, 9,   1.6219,   -999.0, 9, -999.000, 9
318MHYDROS4, A16C, 343, 1, 31, 31, 2, 19890330, 2203, -15.0567, -24.9950, 4978,  -999.00,   4128.9,   1.5476,  34.8022, 2,  34.8029, 2,   -999.0, 9,    237.9, 2,    77.95, 2,    26.05, 2,     0.00, 2,     1.79, 2, -999.000, 9, -999.000, 9,   2235.5, 2,   -999.0, 9,   -999.0, 9,   1.2124,   -999.0, 9, -999.000, 9
318MHYDROS4, A16C, 343, 1, 32, 32, 2, 19890330, 2203, -15.0567, -24.9950, 4978,  -999.00,   4336.8,   1.2238,  34.7684, 2,  34.7671, 2,   -999.0, 9,    232.7, 2,    91.19, 2,    27.81, 2,     0.00, 2,     1.93, 2, -999.000, 9, -999.000, 9,   -999.0, 9,   -999.0, 9,   -999.0, 9,   0.8752,   -999.0, 9, -999.000, 9
318MHYDROS4, A16C, 343, 1, 33, 33, 2, 19890330, 2203, -15.0567, -24.9950, 4978,  -999.00,   4545.3,   1.0008,  34.7446, 2,  34.7450, 2,   -999.0, 9,    229.0, 2,   100.51, 2,    29.10, 2,     0.00, 2,     2.02, 2, -999.000, 9, -999.000, 9,   2242.6, 2,   -999.0, 9,   -999.0, 9,   0.6358,   -999.0, 9, -999.000, 9
318MHYDROS4, A16C, 343, 1, 34, 34, 2, 19890330, 2203, -15.0567, -24.9950, 4978,  -999.00,   4753.8,   0.8523,  34.7282, 2,  34.7268, 2,   -999.0, 9,    226.2, 2,   107.78, 2,    29.92, 2,     0.00, 2,     2.07, 2, -999.000, 9, -999.000, 9,   -999.0, 9,   -999.0, 9,   -999.0, 9,   0.4685,   -999.0, 9, -999.000, 9
318MHYDROS4, A16C, 343, 1, 35, 35, 2, 19890330, 2203, -15.0567, -24.9950, 4978,  -999.00,   4962.7,   0.7811,  34.7190, 2,  34.7169, 2,   -999.0, 9,    225.2, 2,   112.07, 2,    30.47, 2,     0.00, 2,     2.10, 2, -999.000, 9, -999.000, 9,   2247.5, 2,   -999.0, 9,   -999.0, 9,   0.3754,   4958.4, 2,    0.774, 2
318MHYDROS4, A16C, 343, 1, 36, 36, 2, 19890330, 2203, -15.0567, -24.9950, 4978,  -999.00,   5166.4,   0.7206,  34.7106, 2,  34.7091, 2,   -999.0, 9,    222.9, 2,   114.14, 2,    30.94, 2,     0.00, 2,     2.15, 2, -999.000, 9, -999.000, 9,   2251.7, 2,   -999.0, 9,   -999.0, 9,   0.2930,   -999.0, 9, -999.000, 9