BOTTLE,20110318CCHDOSIODM
EXPOCODE,SECT_ID,STNNBR,CASTNO,SAMPNO,BTLNBR,BTLNBR_FLAG_W,DATE,TIME,LATITUDE,LONGITUDE,DEPTH,CTDRAW,CTDPRS,CTDTMP,CTDSAL,CTDSAL_FLAG_W,SALNTY,SALNTY_FLAG_W,CTDOXY,CTDOXY_FLAG_W,OXYGEN,OXYGEN_FLAG_W,SILCAT,SILCAT_FLAG_W,NITRAT,NITRAT_FLAG_W,NITRIT,NITRIT_FLAG_W,PHSPHT,PHSPHT_FLAG_W,CFC-11,CFC-11_FLAG_W,CFC-12,CFC-12_FLAG_W,TCARBN,TCARBN_FLAG_W,ALKALI,ALKALI_FLAG_W,PCO2,PCO2_FLAG_W,THETA,REVPRS,REVPRS_FLAG_W,REVTMP,REVTMP_FLAG_W
,,,,,,,,,,,METERS,DBAR,DBAR,ITS-90,PSS-78,,PSS-78,,UMOL/KG,,UMOL/KG,,UMOL/KG,,UMOL/KG,,UMOL/KG,,UMOL/KG,,PMOL/KG,,PMOL/KG,,UMOL/KG,,UMOL/KG,,UATM,,DEG C,DBAR,,ITS-90,
318MHYDROS4, A16C, 364, 1, 1, 1, 2, 19890406, 1116, -3.0067, -24.9917, 5329,  -999.00,      1.1,  28.9226,  35.9845, 2,  35.9880, 2,   -999.0, 9,    201.3, 2,     1.46, 2,     0.00, 2,     0.00, 2,     0.09, 2,    1.530, 2,    0.788, 2,   2004.9, 2,   -999.0, 9,   -999.0, 9,  28.9223,   -999.0, 9, -999.000, 9
318MHYDROS4, A16C, 364, 1, 2, 2, 2, 19890406, 1116, -3.0067, -24.9917, 5329,  -999.00,     36.1,  28.4167,  36.0551, 2,  36.0670, 2,   -999.0, 9,    206.9, 2,     1.46, 2,     0.00, 2,     0.00, 2,     0.09, 2, -999.000, 9, -999.000, 9,   2013.6, 2,   -999.0, 9,   -999.0, 9,  28.4080,   -999.0, 9, -999.000, 9
318MHYDROS4, A16C, 364, 1, 3, 3, 2, 19890406, 1116, -3.0067, -24.9917, 5329,  -999.00,     51.7,  26.8802,  36.1905, 2,  36.2090, 2,   -999.0, 9,    214.6, 2,     1.66, 2,     0.00, 2,     0.00, 2,     0.11, 2,    1.673, 2,    0.853, 2,   -999.0, 9,   -999.0, 9,   -999.0, 9,  26.8683,   -999.0, 9, -999.000, 9
318MHYDROS4, A16C, 364, 1, 71, 71, 2, 19890406, 1116, -3.0067, -24.9917, 5329,  -999.00,     67.6,  22.0680,  36.1353, 2,  36.1470, 2,   -999.0, 9,    180.4, 2,     2.73, 2,     1.76, 2,     0.08, 2,     0.39, 2, -999.000, 9, -999.000, 9,   -999.0, 9,   -999.0, 9,   -999.0, 9,  22.0545,   -999.0, 9, -999.000, 9
318MHYDROS4, A16C, 364, 1, 5, 5, 2, 19890406, 1116, -3.0067, -24.9917, 5329,  -999.00,     83.0,  16.2973,  35.6769, 2,  35.6350, 2,   -999.0, 9,    114.0, 2,     6.15, 2,    17.29, 2,     0.17, 2,     1.22, 2, -999.000, 9, -999.000, 9,   -999.0, 9,   -999.0, 9,   -999.0, 9,  16.2840,   -999.0, 9, -999.000, 9
318MHYDROS4, A16C, 364, 1, 6, 6, 2, 19890406, 1116, -3.0067, -24.9917, 5329,  -999.00,    102.8,  14.1750,  35.4309, 2,  35.4280, 2,   -999.0, 9,    124.0, 2,     7.23, 2,    18.66, 2,     0.05, 2,     1.29, 2,    1.025, 2,    0.505, 2,   2161.4, 2,   -999.0, 9,   -999.0, 9,  14.1600,   -999.0, 9, -999.000, 9
318MHYDROS4, A16C, 364, 1, 7, 7, 2, 19890406, 1116, -3.0067, -24.9917, 5329,  -999.00,    148.8,  13.3452,  35.3253, 2,  35.3210, 2,   -999.0, 9,    119.2, 2,     8.30, 2,    20.52, 2,     0.01, 2,     1.40, 2, -999.000, 9, -999.000, 9,   -999.0, 9,   -999.0, 9,   -999.0, 9,  13.3243,   -999.0, 9, -999.000, 9
318MHYDROS4, A16C, 364, 1, 8, 8, 2, 19890406, 1116, -3.0067, -24.9917, 5329,  -999.00,    210.7,  12.8207,  35.2535, 2,  35.2510, 2,   -999.0, 9,    100.9, 2,     9.77, 2,    23.64, 2,     0.01, 2,     1.57, 2,    0.707, 2,    0.350, 2,   2181.1, 2,   -999.0, 9,   -999.0, 9,  12.7919,   -999.0, 9, -999.000, 9
318MHYDROS4, A16C, 364, 1, 9, 9, 2, 19890406, 1116, -3.0067, -24.9917, 5329,  -999.00,    348.0,  10.2424,  34.9505, 2,  34.9490, 2,   -999.0, 9,     76.1, 2,    14.07, 2,    31.27, 2,     0.01, 2,     1.98, 2,    0.274, 2,    0.132, 2,   -999.0, 9,   -999.0, 9,   -999.0, 9,  10.2011,   -999.0, 9, -999.000, 9
318MHYDROS4, A16C, 364, 1, 10, 10, 2, 19890406, 1116, -3.0067, -24.9917, 5329,  -999.00,    425.1,   8.6951,  34.7829, 2,  34.7720, 2,   -999.0, 9,     73.5, 2,  -999.00, 9,  -999.00, 9,  -999.00, 9,  -999.00, 9,    0.105, 2,    0.067, 2,   2231.7, 2,   -999.0, 9,   -999.0, 9,   8.6494,   -999.0, 9, -999.000, 9
318MHYDROS4, A16C, 364, 1, 11, 11, 2, 19890406, 1116, -3.0067, -24.9917, 5329,  -999.00,    567.9,   6.1245,  34.5336, 2,  34.5380, 2,   -999.0, 9,    139.6, 2,  -999.00, 9,  -999.00, 9,  -999.00, 9,  -999.00, 9,    0.115, 2,    0.053, 2,   -999.0, 9,   -999.0, 9,   -999.0, 9,   6.0740,   -999.0, 9, -999.000, 9
318MHYDROS4, A16C, 364, 1, 12, 12, 2, 19890406, 1116, -3.0067, -24.9917, 5329,  -999.00,    649.4,   5.2513,  34.4678, 2,  34.4680, 2,   -999.0, 9,    160.0, 2,  -999.00, 9,  -999.00, 9,  -999.00, 9,  -999.00, 9,    0.130, 2,    0.059, 2,   2205.4, 2,   -999.0, 9,   -999.0, 9,   5.1976,   -999.0, 9, -999.000, 9
318MHYDROS4, A16C, 364, 1, 13, 13, 2, 19890406, 1116, -3.0067, -24.9917, 5329,  -999.00,    823.5,   4.5127,  34.4891, 2,  34.4890, 2,   -999.0, 9,    153.5, 2,    32.94, 2,    34.70, 2,     0.00, 2,     2.37, 2,    0.013, 2,    0.005, 2,   2044.1, 4,   -999.0, 9,   -999.0, 9,   4.4483,   -999.0, 9, -999.000, 9
318MHYDROS4, A16C, 364, 1, 14, 14, 2, 19890406, 1116, -3.0067, -24.9917, 5329,  -999.00,    925.8,   4.2064,  34.5250, 2,  34.5240, 2,   -999.0, 9,    168.2, 2,    34.70, 2,    33.24, 2,     0.00, 2,     2.27, 2,    0.021, 2,    0.007, 2,   -999.0, 9,   -999.0, 9,   -999.0, 9,   4.1353,   -999.0, 9, -999.000, 9
318MHYDROS4, A16C, 364, 1, 15, 15, 2, 19890406, 1116, -3.0067, -24.9917, 5329,  -999.00,   1028.6,   4.2763,  34.6230, 2,  34.6210, 2,   -999.0, 9,    163.4, 2,    33.04, 2,    32.45, 2,     0.00, 2,     2.23, 2,    0.001, 2,    0.007, 2,   2220.5, 2,   -999.0, 9,   -999.0, 9,   4.1959,   -999.0, 9, -999.000, 9
318MHYDROS4, A16C, 364, 1, 16, 16, 2, 19890406, 1116, -3.0067, -24.9917, 5329,  -999.00,   1182.2,   4.3209,  34.7532, 2,  34.7490, 2,   -999.0, 9,    175.6, 2,    29.13, 2,    29.81, 2,     0.00, 2,     2.03, 2,    0.000, 2,    0.000, 2,   -999.0, 9,   -999.0, 9,   -999.0, 9,   4.2264,   -999.0, 9, -999.000, 9
318MHYDROS4, A16C, 364, 1, 17, 17, 2, 19890406, 1116, -3.0067, -24.9917, 5329,  -999.00,   1336.6,   4.3743,  34.8888, 2,  34.8900, 2,   -999.0, 9,    204.2, 2,    22.77, 2,    25.02, 2,     0.00, 2,     1.69, 2,    0.009, 2,    0.004, 2,   -999.0, 9,   -999.0, 9,   -999.0, 9,   4.2652,   -999.0, 9, -999.000, 9
318MHYDROS4, A16C, 364, 1, 18, 18, 2, 19890406, 1116, -3.0067, -24.9917, 5329,  -999.00,   1542.5,   4.1078,  34.9775, 2,  34.9780, 2,   -999.0, 9,    242.0, 2,    17.39, 2,    20.13, 2,     0.00, 2,     1.35, 2,    0.053, 2,    0.029, 2,   2162.5, 2,   -999.0, 9,   -999.0, 9,   3.9825,   -999.0, 9, -999.000, 9
318MHYDROS4, A16C, 364, 1, 19, 19, 2, 19890406, 1116, -3.0067, -24.9917, 5329,  -999.00,   1747.7,   3.7654,  34.9704, 2,  34.9710, 2,   -999.0, 9,    249.8, 2,    19.15, 2,    19.84, 2,     0.00, 2,     1.33, 2,    0.015, 2,    0.008, 2,   2167.2, 2,   2325.9, 2,    736.7, 2,   3.6253,   -999.0, 9, -999.000, 9
318MHYDROS4, A16C, 364, 1, 20, 20, 2, 19890406, 1116, -3.0067, -24.9917, 5329,  -999.00,   2010.3,   3.5185,  34.9645, 2,  34.9650, 2,   -999.0, 9,    254.2, 2,    20.81, 2,    19.54, 2,     0.00, 2,     1.31, 2,    0.008, 2,    0.011, 2,   2167.2, 2,   -999.0, 9,   -999.0, 9,   3.3572,   -999.0, 9, -999.000, 9
318MHYDROS4, A16C, 364, 1, 21, 21, 2, 19890406, 1116, -3.0067, -24.9917, 5329,  -999.00,   2211.1,   3.2411,  34.9490, 2,  34.9480, 2,   -999.0, 9,    252.4, 2,    25.31, 2,    19.94, 2,     0.00, 2,     1.35, 2,    0.001, 2, -999.000, 9,   -999.0, 9,   -999.0, 9,   -999.0, 9,   3.0650,   -999.0, 9, -999.000, 9
318MHYDROS4, A16C, 364, 1, 22, 22, 2, 19890406, 1116, -3.0067, -24.9917, 5329,  -999.00,   2418.3,   3.0244,  34.9329, 2,  34.9380, 2,   -999.0, 9,    250.7, 2,    28.34, 2,    20.42, 2,     0.00, 2,     1.37, 2, -999.000, 9, -999.000, 9,   2175.5, 2,   2334.3, 2,    741.6, 2,   2.8320,   -999.0, 9, -999.000, 9
318MHYDROS4, A16C, 364, 1, 23, 23, 2, 19890406, 1116, -3.0067, -24.9917, 5329,  -999.00,   2624.5,   2.8571,  34.9217, 2,  34.9210, 2,   -999.0, 9,    247.7, 2,    33.62, 2,    21.21, 2,     0.00, 2,     1.42, 2, -999.000, 9, -999.000, 9,   -999.0, 9,   -999.0, 9,   -999.0, 9,   2.6477,   -999.0, 9, -999.000, 9
318MHYDROS4, A16C, 364, 1, 24, 24, 2, 19890406, 1116, -3.0067, -24.9917, 5329,  -999.00,   2831.4,   2.6870,  34.9104, 2,  34.9100, 2,   -999.0, 9,    246.4, 2,    38.02, 2,    21.60, 2,     0.00, 2,     1.45, 2, -999.000, 9, -999.000, 9,   2189.0, 2,   2343.3, 2,    768.7, 2,   2.4603,   -999.0, 9, -999.000, 9
318MHYDROS4, A16C, 364, 1, 25, 25, 2, 19890406, 1116, -3.0067, -24.9917, 5329,  -999.00,   3090.3,   2.5841,  34.9062, 2,  34.9090, 2,   -999.0, 9,    249.0, 2,    39.09, 2,    21.21, 2,     0.00, 2,     1.44, 2, -999.000, 9, -999.000, 9,   -999.0, 9,   -999.0, 9,   -999.0, 9,   2.3332,   -999.0, 9, -999.000, 9
318MHYDROS4, A16C, 364, 1, 26, 26, 2, 19890406, 1116, -3.0067, -24.9917, 5329,  -999.00,   3296.8,   2.5454,  34.9084, 2,  34.9080, 2,   -999.0, 9,    254.2, 2,    36.16, 2,    20.72, 2,     0.00, 2,     1.40, 2, -999.000, 9, -999.000, 9,   -999.0, 9,   -999.0, 9,   -999.0, 9,   2.2737,   -999.0, 9, -999.000, 9
318MHYDROS4, A16C, 364, 1, 27, 27, 2, 19890406, 1116, -3.0067, -24.9917, 5329,  -999.00,   3503.0,   2.5041,  34.9091, 2,  34.9090, 2,   -999.0, 9,   -999.0, 9,    33.81, 2,    19.94, 2,     0.00, 2,     1.35, 2,    0.010, 2,    0.003, 2,   2176.2, 2,   -999.0, 9,   -999.0, 9,   2.2113,   -999.0, 9, -999.000, 9
318MHYDROS4, A16C, 364, 1, 28, 28, 2, 19890406, 1116, -3.0067, -24.9917, 5329,  -999.00,   3760.5,   2.4012,  34.9036, 2,  34.9030, 2,   -999.0, 9,    263.7, 2,    33.42, 2,    19.45, 2,     0.00, 2,     1.32, 2, -999.000, 9, -999.000, 9,   -999.0, 9,   -999.0, 9,   -999.0, 9,   2.0827,   -999.0, 9, -999.000, 9
318MHYDROS4, A16C, 364, 1, 29, 29, 2, 19890406, 1116, -3.0067, -24.9917, 5329,  -999.00,   3916.3,   2.1438,  34.8777, 2,  34.8780, 2,   -999.0, 9,    259.4, 2,    43.20, 2,    20.82, 2,     0.00, 2,     1.42, 2, -999.000, 9, -999.000, 9,   -999.0, 9,   -999.0, 9,   -999.0, 9,   1.8150,   -999.0, 9, -999.000, 9
318MHYDROS4, A16C, 364, 1, 30, 30, 2, 19890406, 1116, -3.0067, -24.9917, 5329,  -999.00,   4125.3,   1.7550,  34.8318, 2,  34.8330, 2,   -999.0, 9,    248.5, 2,    63.33, 2,    23.85, 2,     0.00, 2,     1.63, 2,    0.010, 2,    0.002, 2,   2204.9, 2,   2352.5, 2,    810.6, 2,   1.4141,   -999.0, 9, -999.000, 9
318MHYDROS4, A16C, 364, 1, 31, 31, 2, 19890406, 1116, -3.0067, -24.9917, 5329,  -999.00,   4333.6,   1.1822,  34.7682, 2,  34.7680, 2,   -999.0, 9,    235.1, 2,    91.19, 2,    27.85, 2,     0.00, 2,     1.91, 2, -999.000, 9, -999.000, 9,   -999.0, 9,   -999.0, 9,    955.2, 2,   0.8353,   -999.0, 9, -999.000, 9
318MHYDROS4, A16C, 364, 1, 32, 32, 2, 19890406, 1116, -3.0067, -24.9917, 5329,  -999.00,   4542.8,   0.9336,  34.7399, 2,  34.7400, 2,   -999.0, 9,    229.8, 2,   102.43, 2,    29.61, 2,     0.00, 2,     2.03, 2, -999.000, 9, -999.000, 9,   -999.0, 9,   -999.0, 9,   -999.0, 9,   0.5711,   -999.0, 9, -999.000, 9
318MHYDROS4, A16C, 364, 1, 33, 33, 2, 19890406, 1116, -3.0067, -24.9917, 5329,  -999.00,   4751.5,   0.8004,  34.7230, 2,  34.7220, 2,   -999.0, 9,    225.9, 2,   108.39, 2,    30.49, 2,     0.00, 2,     2.09, 2,    0.005, 2,    0.005, 2,   2253.1, 2,   -999.0, 9,   -999.0, 9,   0.4185,   -999.0, 9, -999.000, 9
318MHYDROS4, A16C, 364, 1, 34, 34, 2, 19890406, 1116, -3.0067, -24.9917, 5329,  -999.00,   5012.6,   0.7287,  34.7127, 2,  34.7120, 2,   -999.0, 9,    224.2, 2,   113.08, 2,    31.18, 2,     0.00, 2,     2.14, 2, -999.000, 9, -999.000, 9,   -999.0, 9,   -999.0, 9,   -999.0, 9,   0.3190,   -999.0, 9, -999.000, 9
318MHYDROS4, A16C, 364, 1, 35, 35, 2, 19890406, 1116, -3.0067, -24.9917, 5329,  -999.00,   5273.9,   0.7028,  34.7068, 2,  34.7060, 2,   -999.0, 9,    224.2, 2,   114.75, 2,    31.28, 2,     0.00, 2,     2.15, 2, -999.000, 9, -999.000, 9,   -999.0, 9,   -999.0, 9,   -999.0, 9,   0.2630,   -999.0, 9, -999.000, 9
318MHYDROS4, A16C, 364, 1, 36, 36, 2, 19890406, 1116, -3.0067, -24.9917, 5329,  -999.00,   5457.7,   0.6914,  34.7035, 2,  34.7020, 2,   -999.0, 9,    223.3, 2,   116.41, 2,    31.57, 2,     0.00, 2,     2.17, 2,    0.000, 2,    0.001, 2,   2256.7, 2,   -999.0, 9,   -999.0, 9,   0.2296,   -999.0, 9, -999.000, 9