BOTTLE,20110318CCHDOSIODM
EXPOCODE,SECT_ID,STNNBR,CASTNO,SAMPNO,BTLNBR,BTLNBR_FLAG_W,DATE,TIME,LATITUDE,LONGITUDE,DEPTH,CTDRAW,CTDPRS,CTDTMP,CTDSAL,CTDSAL_FLAG_W,SALNTY,SALNTY_FLAG_W,CTDOXY,CTDOXY_FLAG_W,OXYGEN,OXYGEN_FLAG_W,SILCAT,SILCAT_FLAG_W,NITRAT,NITRAT_FLAG_W,NITRIT,NITRIT_FLAG_W,PHSPHT,PHSPHT_FLAG_W,CFC-11,CFC-11_FLAG_W,CFC-12,CFC-12_FLAG_W,TCARBN,TCARBN_FLAG_W,ALKALI,ALKALI_FLAG_W,PCO2,PCO2_FLAG_W,THETA,REVPRS,REVPRS_FLAG_W,REVTMP,REVTMP_FLAG_W
,,,,,,,,,,,METERS,DBAR,DBAR,ITS-90,PSS-78,,PSS-78,,UMOL/KG,,UMOL/KG,,UMOL/KG,,UMOL/KG,,UMOL/KG,,UMOL/KG,,PMOL/KG,,PMOL/KG,,UMOL/KG,,UMOL/KG,,UATM,,DEG C,DBAR,,ITS-90,
318MHYDROS4, A16C, 360, 1, 1, 1, 2, 19890405, 0946, -5.1517, -25.0133, 5484,  -999.00,      1.2,  28.5170,  35.8777, 2,  35.8730, 2,   -999.0, 9,    212.2, 2,     2.34, 2,     0.10, 2,     0.00, 2,     0.08, 2,    1.534, 2,    0.791, 2,   2002.2, 2,   2350.7, 2,    282.9, 2,  28.5167,   -999.0, 9, -999.000, 9
318MHYDROS4, A16C, 360, 1, 2, 2, 2, 19890405, 0946, -5.1517, -25.0133, 5484,  -999.00,     37.2,  28.0642,  36.1429, 2,  36.1440, 2,   -999.0, 9,    216.5, 2,     2.44, 2,     0.10, 2,     0.00, 2,     0.08, 2, -999.000, 9, -999.000, 9,   2017.1, 2,   2373.5, 2,    281.0, 2,  28.0554,   -999.0, 9, -999.000, 9
318MHYDROS4, A16C, 360, 1, 3, 3, 2, 19890405, 0946, -5.1517, -25.0133, 5484,  -999.00,     94.0,  20.2380,  36.1360, 2,  36.1670, 2,   -999.0, 9,    152.8, 2,     3.91, 2,     6.83, 2,     0.35, 2,     0.68, 2,    1.449, 2,    0.740, 2,   -999.0, 9,   -999.0, 9,   -999.0, 9,  20.2204,   -999.0, 9, -999.000, 9
318MHYDROS4, A16C, 360, 1, 71, 71, 2, 19890405, 0946, -5.1517, -25.0133, 5484,  -999.00,    115.0,  18.0392,  35.8979, 2,  35.8760, 2,   -999.0, 9,    122.8, 2,     5.37, 2,    14.55, 2,     0.06, 2,     1.06, 2, -999.000, 9, -999.000, 9,   2155.4, 2,   -999.0, 9,   -999.0, 9,  18.0193,   -999.0, 9, -999.000, 9
318MHYDROS4, A16C, 360, 1, 5, 5, 2, 19890405, 0946, -5.1517, -25.0133, 5484,  -999.00,    139.8,  14.1636,  35.4530, 2,  35.4090, 2,   -999.0, 9,    111.8, 2,     8.11, 2,    20.81, 2,     0.02, 2,     1.41, 2,    0.913, 2,    0.464, 2,   -999.0, 9,   -999.0, 9,   -999.0, 9,  14.1432,   -999.0, 9, -999.000, 9
318MHYDROS4, A16C, 360, 1, 6, 6, 2, 19890405, 0946, -5.1517, -25.0133, 5484,  -999.00,    170.8,  11.5472,  35.1014, 2,  35.0910, 2,   -999.0, 9,    116.1, 2,    10.26, 2,    24.23, 2,     0.01, 2,     1.60, 2, -999.000, 9, -999.000, 9,   2181.9, 2,   2327.9, 2,    802.1, 2,  11.5255,   -999.0, 9, -999.000, 9
318MHYDROS4, A16C, 360, 1, 7, 7, 2, 19890405, 0946, -5.1517, -25.0133, 5484,  -999.00,    262.7,   9.7469,  34.8904, 2,  34.8890, 2,   -999.0, 9,     89.2, 2,    14.46, 2,    30.88, 2,     0.00, 2,     1.98, 2,    0.225, 2,    0.145, 2,   -999.0, 9,   -999.0, 9,   -999.0, 9,   9.7168,   -999.0, 9, -999.000, 9
318MHYDROS4, A16C, 360, 1, 8, 8, 2, 19890405, 0946, -5.1517, -25.0133, 5484,  -999.00,    313.8,   9.0172,  34.8140, 2,  34.8130, 2,   -999.0, 9,     80.9, 2,    16.61, 2,    33.23, 2,     0.00, 2,     2.13, 2,    0.133, 2,    0.084, 2,   2227.9, 2,   2313.9, 2,   1192.7, 2,   8.9829,   -999.0, 9, -999.000, 9
318MHYDROS4, A16C, 360, 1, 9, 9, 2, 19890405, 0946, -5.1517, -25.0133, 5484,  -999.00,    466.7,   6.9986,  34.6204, 2,  34.6210, 2,   -999.0, 9,     93.9, 2,    22.09, 2,    36.17, 2,     0.00, 2,     2.37, 2,    0.036, 2,    0.029, 2,   2231.0, 2,   2311.7, 2,   1237.7, 2,   6.9543,   -999.0, 9, -999.000, 9
318MHYDROS4, A16C, 360, 1, 10, 10, 2, 19890405, 0946, -5.1517, -25.0133, 5484,  -999.00,    566.5,   5.8021,  34.5169, 2,  34.5160, 2,   -999.0, 9,    131.3, 2,    25.32, 2,    34.51, 2,     0.00, 2,     2.34, 2,    0.054, 2,    0.035, 2,   2221.8, 2,   2316.1, 2,   1124.0, 2,   5.7532,   -999.0, 9, -999.000, 9
318MHYDROS4, A16C, 360, 1, 11, 11, 2, 19890405, 0946, -5.1517, -25.0133, 5484,  -999.00,    718.0,   4.8442,  34.4738, 2,  34.4740, 2,   -999.0, 9,    150.0, 2,    30.79, 2,    34.61, 2,     0.00, 2,     2.38, 2,    0.023, 2,    0.023, 2,   2216.4, 2,   2307.9, 2,   1141.1, 2,   4.7867,   -999.0, 9, -999.000, 9
318MHYDROS4, A16C, 360, 1, 12, 12, 2, 19890405, 0946, -5.1517, -25.0133, 5484,  -999.00,    870.7,   4.3084,  34.5045, 2,  34.5040, 2,   -999.0, 9,    162.1, 2,    34.41, 2,    33.82, 2,     0.00, 2,     2.32, 2,    0.013, 2,    0.014, 2,   2218.0, 2,   2316.7, 2,   1090.8, 2,   4.2413,   -999.0, 9, -999.000, 9
318MHYDROS4, A16C, 360, 1, 13, 13, 2, 19890405, 0946, -5.1517, -25.0133, 5484,  -999.00,   1023.4,   4.1665,  34.6182, 2,  34.6190, 2,   -999.0, 9,    166.5, 2,    33.62, 2,    32.35, 2,     0.00, 2,     2.22, 2,    0.001, 2,    0.005, 2,   2216.1, 2,   2319.2, 2,   1060.9, 2,   4.0874,   -999.0, 9, -999.000, 9
318MHYDROS4, A16C, 360, 1, 14, 14, 2, 19890405, 0946, -5.1517, -25.0133, 5484,  -999.00,   1175.5,   4.2816,  34.7694, 2,  34.7670, 2,   -999.0, 9,    180.8, 2,    28.34, 2,    29.03, 2,     0.00, 2,     1.97, 2,    0.000, 2,    0.003, 2,   2208.5, 2,   2324.1, 2,    976.0, 2,   4.1881,   -999.0, 9, -999.000, 9
318MHYDROS4, A16C, 360, 1, 15, 15, 2, 19890405, 0946, -5.1517, -25.0133, 5484,  -999.00,   1324.6,   4.3294,  34.8707, 2,  34.8700, 2,   -999.0, 9,    200.8, 2,    24.14, 2,    25.80, 2,     0.00, 2,     1.74, 2,    0.002, 2,    0.004, 2,   2196.2, 2,   2327.6, 2,    879.7, 2,   4.2218,   -999.0, 9, -999.000, 9
318MHYDROS4, A16C, 360, 1, 16, 16, 2, 19890405, 0946, -5.1517, -25.0133, 5484,  -999.00,   1473.4,   4.2550,  34.9336, 2,  34.9330, 2,   -999.0, 9,    220.7, 2,    20.72, 2,    23.06, 2,     0.00, 2,     1.54, 2,    0.012, 2,    0.018, 2,   -999.0, 9,   -999.0, 9,   -999.0, 9,   4.1345,   -999.0, 9, -999.000, 9
318MHYDROS4, A16C, 360, 1, 17, 17, 2, 19890405, 0946, -5.1517, -25.0133, 5484,  -999.00,   1628.4,   4.0606,  34.9672, 2,  34.9670, 2,   -999.0, 9,    239.4, 2,    18.66, 2,    20.62, 2,     0.00, 2,     1.39, 2,    0.021, 2,    0.017, 2,   -999.0, 9,   -999.0, 9,   -999.0, 9,   3.9278,   -999.0, 9, -999.000, 9
318MHYDROS4, A16C, 360, 1, 18, 18, 2, 19890405, 0946, -5.1517, -25.0133, 5484,  -999.00,   1785.3,   3.8610,  34.9797, 2,  34.9790, 2,   -999.0, 9,    251.1, 2,    17.59, 2,    19.35, 2,     0.00, 2,     1.29, 2,    0.048, 2,    0.029, 2,   -999.0, 9,   -999.0, 9,   -999.0, 9,   3.7161,   -999.0, 9, -999.000, 9
318MHYDROS4, A16C, 360, 1, 19, 19, 2, 19890405, 0946, -5.1517, -25.0133, 5484,  -999.00,   1995.2,   3.5972,  34.9697, 2,  34.9700, 2,   -999.0, 9,    254.6, 2,    19.54, 2,    19.35, 2,     0.00, 2,     1.30, 2,    0.022, 2,    0.023, 2,   -999.0, 9,   -999.0, 9,   -999.0, 9,   3.4361,   -999.0, 9, -999.000, 9
318MHYDROS4, A16C, 360, 1, 20, 20, 2, 19890405, 0946, -5.1517, -25.0133, 5484,  -999.00,   2203.0,   3.2071,  34.9391, 2,  34.9390, 2,   -999.0, 9,    248.5, 2,    27.36, 2,    20.72, 2,     0.00, 2,     1.39, 2,    0.002, 2,    0.005, 2,   -999.0, 9,   -999.0, 9,   -999.0, 9,   3.0324,   -999.0, 9, -999.000, 9
318MHYDROS4, A16C, 360, 1, 21, 21, 2, 19890405, 0946, -5.1517, -25.0133, 5484,  -999.00,   2411.5,   2.9843,  34.9289, 2,  34.9280, 2,   -999.0, 9,    249.4, 2,    30.78, 2,    20.82, 2,     0.00, 2,     1.39, 2, -999.000, 9, -999.000, 9,   -999.0, 9,   -999.0, 9,   -999.0, 9,   2.7933,   -999.0, 9, -999.000, 9
318MHYDROS4, A16C, 360, 1, 22, 22, 2, 19890405, 0946, -5.1517, -25.0133, 5484,  -999.00,   2619.8,   2.8465,  34.9238, 2,  34.9230, 2,   -999.0, 9,    250.3, 2,    33.13, 2,    20.82, 2,     0.00, 2,     1.41, 2,    0.003, 2,    0.002, 2,   -999.0, 9,   -999.0, 9,   -999.0, 9,   2.6377,   -999.0, 9, -999.000, 9
318MHYDROS4, A16C, 360, 1, 23, 23, 2, 19890405, 0946, -5.1517, -25.0133, 5484,  -999.00,   2826.9,   2.7279,  34.9171, 2,  34.9150, 2,   -999.0, 9,    250.7, 2,    35.08, 2,    21.11, 2,     0.00, 2,     1.42, 2, -999.000, 9, -999.000, 9,   -999.0, 9,   -999.0, 9,   -999.0, 9,   2.5008,   -999.0, 9, -999.000, 9
318MHYDROS4, A16C, 360, 1, 24, 24, 2, 19890405, 0946, -5.1517, -25.0133, 5484,  -999.00,   3034.2,   2.6713,  34.9168, 2,  34.9160, 2,   -999.0, 9,    253.7, 2,    33.91, 2,    20.72, 2,     0.00, 2,     1.38, 2,    0.000, 2,    0.004, 2,   -999.0, 9,   -999.0, 9,   -999.0, 9,   2.4242,   -999.0, 9, -999.000, 9
318MHYDROS4, A16C, 360, 1, 25, 25, 2, 19890405, 0946, -5.1517, -25.0133, 5484,  -999.00,   3242.1,   2.6146,  34.9153, 2,  34.9170, 2,   -999.0, 9,    256.8, 2,    33.42, 2,    20.13, 2,     0.00, 2,     1.37, 2, -999.000, 9, -999.000, 9,   -999.0, 9,   -999.0, 9,   -999.0, 9,   2.3471,   -999.0, 9, -999.000, 9
318MHYDROS4, A16C, 360, 1, 26, 26, 2, 19890405, 0946, -5.1517, -25.0133, 5484,  -999.00,   3396.8,   2.5687,  34.9130, 2,  34.9120, 2,   -999.0, 9,    258.1, 2,    33.32, 2,    20.03, 2,     0.00, 2,     1.36, 2, -999.000, 9, -999.000, 9,   -999.0, 9,   -999.0, 9,   -999.0, 9,   2.2857,   -999.0, 9, -999.000, 9
318MHYDROS4, A16C, 360, 1, 27, 27, 2, 19890405, 0946, -5.1517, -25.0133, 5484,  -999.00,   3605.2,   2.4887,  34.9074, 2,  34.9080, 2,   -999.0, 9,    259.8, 2,    33.72, 2,    19.94, 2,     0.00, 2,     1.36, 2,    0.008, 2,    0.006, 2,   -999.0, 9,   -999.0, 9,   -999.0, 9,   2.1851,   -999.0, 9, -999.000, 9
318MHYDROS4, A16C, 360, 1, 28, 28, 2, 19890405, 0946, -5.1517, -25.0133, 5484,  -999.00,   3813.7,   2.3214,  34.8926, 2,  34.8920, 2,   -999.0, 9,    259.8, 2,    38.21, 2,    20.42, 2,     0.00, 2,     1.38, 2, -999.000, 9, -999.000, 9,   -999.0, 9,   -999.0, 9,   -999.0, 9,   1.9991,   -999.0, 9, -999.000, 9
318MHYDROS4, A16C, 360, 1, 29, 29, 2, 19890405, 0946, -5.1517, -25.0133, 5484,  -999.00,   4022.1,   1.9872,  34.8543, 2,  34.8550, 2,   -999.0, 9,    251.1, 2,    54.44, 2,    22.77, 2,     0.00, 2,     1.55, 2,    0.004, 2,    0.000, 2,   -999.0, 9,   -999.0, 9,   -999.0, 9,   1.6511,   -999.0, 9, -999.000, 9
318MHYDROS4, A16C, 360, 1, 30, 30, 2, 19890405, 0946, -5.1517, -25.0133, 5484,  -999.00,   4230.3,   1.3917,  34.7904, 2,  34.7900, 2,   -999.0, 9,    238.1, 2,    80.24, 2,    26.39, 2,     0.00, 2,     1.81, 2, -999.000, 9, -999.000, 9,   -999.0, 9,   -999.0, 9,   -999.0, 9,   1.0499,   -999.0, 9, -999.000, 9
318MHYDROS4, A16C, 360, 1, 31, 31, 2, 19890405, 0946, -5.1517, -25.0133, 5484,  -999.00,   4439.1,   1.0805,  34.7561, 2,  34.7570, 2,   -999.0, 9,    232.4, 2,    93.53, 2,    28.15, 2,     0.00, 2,     1.96, 2,    0.000, 2,    0.000, 2,   -999.0, 9,   -999.0, 9,   -999.0, 9,   0.7250,   -999.0, 9, -999.000, 9
318MHYDROS4, A16C, 360, 1, 32, 32, 2, 19890405, 0946, -5.1517, -25.0133, 5484,  -999.00,   4648.1,   0.8683,  34.7320, 2,  34.7310, 2,   -999.0, 9,    227.7, 2,   103.60, 2,    29.81, 2,     0.00, 2,     2.06, 2, -999.000, 9, -999.000, 9,   -999.0, 9,   -999.0, 9,   -999.0, 9,   0.4960,   -999.0, 9, -999.000, 9
318MHYDROS4, A16C, 360, 1, 33, 33, 2, 19890405, 0946, -5.1517, -25.0133, 5484,  -999.00,   4908.9,   0.7676,  34.7183, 2,  34.7190, 2,   -999.0, 9,    225.5, 2,   108.98, 2,    30.59, 2,     0.00, 2,     2.11, 2, -999.000, 9, -999.000, 9,   -999.0, 9,   -999.0, 9,   -999.0, 9,   0.3687,   -999.0, 9, -999.000, 9
318MHYDROS4, A16C, 360, 1, 34, 34, 2, 19890405, 0946, -5.1517, -25.0133, 5484,  -999.00,   5170.6,   0.7216,  34.7103, 2,  34.7090, 2,   -999.0, 9,    224.6, 2,   112.21, 2,    31.08, 2,     0.00, 2,     2.15, 2, -999.000, 9, -999.000, 9,   -999.0, 9,   -999.0, 9,   -999.0, 9,   0.2935,   -999.0, 9, -999.000, 9
318MHYDROS4, A16C, 360, 1, 35, 35, 2, 19890405, 0946, -5.1517, -25.0133, 5484,  -999.00,   5431.9,   0.7205,  34.7066, 2,  34.7050, 2,   -999.0, 9,    224.2, 2,   113.77, 2,    31.28, 2,     0.00, 2,     2.18, 2,    0.003, 2,    0.000, 2,   -999.0, 9,   -999.0, 9,   -999.0, 9,   0.2608,   5428.6, 2,    0.714, 2
318MHYDROS4, A16C, 360, 1, 36, 36, 2, 19890405, 0946, -5.1517, -25.0133, 5484,  -999.00,   5636.7,   0.7362,  34.7059, 2,  34.7050, 2,   -999.0, 9,    223.8, 2,   115.53, 2,    31.37, 2,     0.00, 2,     2.20, 2,    0.000, 2, -999.000, 9,   -999.0, 9,   -999.0, 9,   -999.0, 9,   0.2505,   -999.0, 9, -999.000, 9