BOTTLE,20110318CCHDOSIODM
EXPOCODE,SECT_ID,STNNBR,CASTNO,SAMPNO,BTLNBR,BTLNBR_FLAG_W,DATE,TIME,LATITUDE,LONGITUDE,DEPTH,CTDRAW,CTDPRS,CTDTMP,CTDSAL,CTDSAL_FLAG_W,SALNTY,SALNTY_FLAG_W,CTDOXY,CTDOXY_FLAG_W,OXYGEN,OXYGEN_FLAG_W,SILCAT,SILCAT_FLAG_W,NITRAT,NITRAT_FLAG_W,NITRIT,NITRIT_FLAG_W,PHSPHT,PHSPHT_FLAG_W,CFC-11,CFC-11_FLAG_W,CFC-12,CFC-12_FLAG_W,TCARBN,TCARBN_FLAG_W,ALKALI,ALKALI_FLAG_W,PCO2,PCO2_FLAG_W,THETA,REVPRS,REVPRS_FLAG_W,REVTMP,REVTMP_FLAG_W
,,,,,,,,,,,METERS,DBAR,DBAR,ITS-90,PSS-78,,PSS-78,,UMOL/KG,,UMOL/KG,,UMOL/KG,,UMOL/KG,,UMOL/KG,,UMOL/KG,,PMOL/KG,,PMOL/KG,,UMOL/KG,,UMOL/KG,,UATM,,DEG C,DBAR,,ITS-90,
318MHYDROS4, A16C, 353, 1, 1, 1, 2, 19890403, 0846, -9.2217, -24.9850, 5699,  -999.00,      1.1,  28.3140,  36.5805, 2,  36.5834, 2,   -999.0, 9,    213.6, 2,     2.39, 2,     0.07, 2,     0.00, 2,     0.10, 2, -999.000, 9, -999.000, 9,   2022.6, 2,   2386.2, 2,    278.8, 2,  28.3138,   -999.0, 9, -999.000, 9
318MHYDROS4, A16C, 353, 1, 2, 2, 2, 19890403, 0846, -9.2217, -24.9850, 5699,  -999.00,     47.8,  28.2893,  36.6075, 2,  36.6946, 2,   -999.0, 9,    214.3, 2,     2.56, 2,     0.07, 2,     0.00, 2,     0.09, 2, -999.000, 9, -999.000, 9,   2026.6, 2,   2400.7, 2,    270.6, 2,  28.2779,   -999.0, 9, -999.000, 9
318MHYDROS4, A16C, 353, 1, 3, 3, 2, 19890403, 0846, -9.2217, -24.9850, 5699,  -999.00,     88.7,  25.1682,  36.8715, 2,  36.8695, 2,   -999.0, 9,    225.0, 2,     2.55, 2,     0.07, 2,     0.00, 2,     0.10, 2, -999.000, 9, -999.000, 9,   -999.0, 9,   -999.0, 9,   -999.0, 9,  25.1487,   -999.0, 9, -999.000, 9
318MHYDROS4, A16C, 353, 1, 71, 71, 2, 19890403, 0846, -9.2217, -24.9850, 5699,  -999.00,    109.9,  23.2812,  36.7692, 2,  36.7489, 2,   -999.0, 9,    212.9, 2,     2.54, 2,     0.06, 2,     0.01, 2,     0.22, 2, -999.000, 9, -999.000, 9,   2077.8, 2,   -999.0, 9,   -999.0, 9,  23.2584,   -999.0, 9, -999.000, 9
318MHYDROS4, A16C, 353, 1, 5, 5, 2, 19890403, 0846, -9.2217, -24.9850, 5699,  -999.00,    134.9,  20.5235,  36.3428, 2,  36.2825, 2,   -999.0, 9,    167.8, 2,     3.06, 2,     4.39, 2,     0.24, 2,     0.58, 2, -999.000, 9, -999.000, 9,   -999.0, 9,   -999.0, 9,   -999.0, 9,  20.4979,   -999.0, 9, -999.000, 9
318MHYDROS4, A16C, 353, 1, 6, 6, 2, 19890403, 0846, -9.2217, -24.9850, 5699,  -999.00,    161.3,  16.6357,  35.7731, 2,  35.7578, 2,   -999.0, 9,    135.4, 2,     5.33, 2,    14.20, 2,     0.02, 2,     1.05, 2, -999.000, 9, -999.000, 9,   2145.6, 2,   -999.0, 9,   -999.0, 9,  16.6094,   -999.0, 9, -999.000, 9
318MHYDROS4, A16C, 353, 1, 7, 7, 2, 19890403, 0846, -9.2217, -24.9850, 5699,  -999.00,    186.6,  14.4398,  35.4818, 2,  35.4880, 2,   -999.0, 9,    115.7, 2,     7.25, 2,    19.19, 2,     0.01, 2,     1.33, 2, -999.000, 9, -999.000, 9,   -999.0, 9,   -999.0, 9,   -999.0, 9,  14.4122,   -999.0, 9, -999.000, 9
318MHYDROS4, A16C, 353, 1, 8, 8, 2, 19890403, 0846, -9.2217, -24.9850, 5699,  -999.00,    211.6,  12.7219,  35.2671, 2,  35.2705, 2,   -999.0, 9,     98.0, 2,     9.35, 2,    23.82, 2,     0.01, 2,     1.59, 2, -999.000, 9, -999.000, 9,   2192.0, 2,   -999.0, 9,   -999.0, 9,  12.6931,   -999.0, 9, -999.000, 9
318MHYDROS4, A16C, 353, 1, 9, 9, 2, 19890403, 0846, -9.2217, -24.9850, 5699,  -999.00,    247.6,  11.1694,  35.0733, 2,  35.0710, 2,   -999.0, 9,     90.7, 2,    11.45, 2,    27.33, 2,     0.01, 2,     1.79, 2, -999.000, 9, -999.000, 9,   2212.6, 2,   -999.0, 9,   -999.0, 9,  11.1385,   -999.0, 9, -999.000, 9
318MHYDROS4, A16C, 353, 1, 10, 10, 2, 19890403, 0846, -9.2217, -24.9850, 5699,  -999.00,    365.1,   8.3153,  34.7410, 2,  34.7370, 2,   -999.0, 9,     91.5, 2,    17.76, 2,    33.29, 2,     0.01, 2,     2.16, 2, -999.000, 9, -999.000, 9,   2219.2, 2,   -999.0, 9,   -999.0, 9,   8.2773,   -999.0, 9, -999.000, 9
318MHYDROS4, A16C, 353, 1, 11, 11, 2, 19890403, 0846, -9.2217, -24.9850, 5699,  -999.00,    517.5,   6.7624,  34.5982, 2,  34.5988, 2,   -999.0, 9,     96.6, 2,    22.31, 2,    36.27, 2,     0.00, 2,     2.37, 2, -999.000, 9, -999.000, 9,   2221.8, 2,   -999.0, 9,   -999.0, 9,   6.7141,   -999.0, 9, -999.000, 9
318MHYDROS4, A16C, 353, 1, 12, 12, 2, 19890403, 0846, -9.2217, -24.9850, 5699,  -999.00,    671.0,   5.3993,  34.5069, 2,  34.5068, 2,   -999.0, 9,    118.4, 2,    28.10, 2,    36.79, 2,     0.00, 2,     2.46, 2, -999.000, 9, -999.000, 9,   2229.6, 2,   -999.0, 9,   -999.0, 9,   5.3429,   -999.0, 9, -999.000, 9
318MHYDROS4, A16C, 353, 1, 13, 13, 2, 19890403, 0846, -9.2217, -24.9850, 5699,  -999.00,    772.9,   4.7977,  34.4885, 2,  34.4897, 2,   -999.0, 9,    135.1, 2,    31.43, 2,    35.89, 2,     0.00, 2,     2.43, 2, -999.000, 9, -999.000, 9,   2228.5, 2,   -999.0, 9,   -999.0, 9,   4.7358,   -999.0, 9, -999.000, 9
318MHYDROS4, A16C, 353, 1, 14, 14, 2, 19890403, 0846, -9.2217, -24.9850, 5699,  -999.00,    926.7,   4.2260,  34.5293, 2,  34.5253, 2,   -999.0, 9,    153.3, 2,    34.76, 2,    34.20, 2,     0.00, 2,     2.35, 2, -999.000, 9, -999.000, 9,   2215.4, 2,   -999.0, 9,   -999.0, 9,   4.1547,   -999.0, 9, -999.000, 9
318MHYDROS4, A16C, 353, 1, 15, 15, 2, 19890403, 0846, -9.2217, -24.9850, 5699,  -999.00,   1131.7,   4.0554,  34.6878, 2,  34.6849, 2,   -999.0, 9,    175.2, 2,    32.65, 2,    30.36, 2,     0.00, 2,     2.10, 2, -999.000, 9, -999.000, 9,   2212.4, 2,   -999.0, 9,   -999.0, 9,   3.9678,   -999.0, 9, -999.000, 9
318MHYDROS4, A16C, 353, 1, 16, 16, 2, 19890403, 0846, -9.2217, -24.9850, 5699,  -999.00,   1336.1,   4.1362,  34.8491, 2,  34.8475, 2,   -999.0, 9,    201.4, 2,    25.81, 2,    25.64, 2,     0.00, 2,     1.77, 2, -999.000, 9, -999.000, 9,   2190.2, 2,   -999.0, 9,   -999.0, 9,   4.0296,   -999.0, 9, -999.000, 9
318MHYDROS4, A16C, 353, 1, 17, 17, 2, 19890403, 0846, -9.2217, -24.9850, 5699,  -999.00,   1542.3,   4.0015,  34.9444, 2,  34.9413, 2,   -999.0, 9,    230.9, 2,    20.71, 2,    21.70, 2,     0.00, 2,     1.48, 2, -999.000, 9, -999.000, 9,   2178.1, 2,   -999.0, 9,   -999.0, 9,   3.8775,   -999.0, 9, -999.000, 9
318MHYDROS4, A16C, 353, 1, 18, 18, 2, 19890403, 0846, -9.2217, -24.9850, 5699,  -999.00,   1748.1,   3.6998,  34.9567, 2,  34.9560, 2,   -999.0, 9,    245.1, 2,    20.71, 2,    20.36, 2,     0.00, 2,     1.38, 2, -999.000, 9, -999.000, 9,   -999.0, 9,   -999.0, 9,   -999.0, 9,   3.5605,   -999.0, 9, -999.000, 9
318MHYDROS4, A16C, 353, 1, 19, 19, 2, 19890403, 0846, -9.2217, -24.9850, 5699,  -999.00,   1954.1,   3.3914,  34.9433, 2,  34.9429, 2,   -999.0, 9,    246.5, 2,    25.27, 2,    20.57, 2,     0.00, 2,     1.40, 2, -999.000, 9, -999.000, 9,   2167.0, 2,   -999.0, 9,   -999.0, 9,   3.2373,   -999.0, 9, -999.000, 9
318MHYDROS4, A16C, 353, 1, 20, 20, 2, 19890403, 0846, -9.2217, -24.9850, 5699,  -999.00,   2160.3,   3.1862,  34.9383, 2,  34.9395, 2,   -999.0, 9,    249.0, 2,    27.20, 2,    20.40, 2,     0.00, 2,     1.39, 2, -999.000, 9, -999.000, 9,   -999.0, 9,   -999.0, 9,   -999.0, 9,   3.0158,   -999.0, 9, -999.000, 9
318MHYDROS4, A16C, 353, 1, 21, 21, 2, 19890403, 0846, -9.2217, -24.9850, 5699,  -999.00,   2418.9,   2.9716,  34.9244, 2,  34.9240, 2,   -999.0, 9,    247.2, 2,    31.94, 2,    20.87, 2,     0.00, 2,     1.42, 2, -999.000, 9, -999.000, 9,   2177.4, 2,   -999.0, 9,   -999.0, 9,   2.7802,   -999.0, 9, -999.000, 9
318MHYDROS4, A16C, 353, 1, 22, 22, 2, 19890403, 0846, -9.2217, -24.9850, 5699,  -999.00,   2677.6,   2.8291,  34.9180, 2,  34.9177, 2,   -999.0, 9,    247.4, 2,    34.40, 2,    21.09, 2,     0.00, 2,     1.44, 2, -999.000, 9, -999.000, 9,   -999.0, 9,   -999.0, 9,   -999.0, 9,   2.6150,   -999.0, 9, -999.000, 9
318MHYDROS4, A16C, 353, 1, 23, 23, 2, 19890403, 0846, -9.2217, -24.9850, 5699,  -999.00,   2936.3,   2.7424,  34.9163, 2,  34.9169, 2,   -999.0, 9,    250.5, 2,    34.58, 2,    20.74, 2,     0.00, 2,     1.42, 2, -999.000, 9, -999.000, 9,   2178.1, 2,   -999.0, 9,   -999.0, 9,   2.5039,   -999.0, 9, -999.000, 9
318MHYDROS4, A16C, 353, 1, 24, 24, 2, 19890403, 0846, -9.2217, -24.9850, 5699,  -999.00,   3195.1,   2.6727,  34.9157, 2,  34.9157, 2,   -999.0, 9,    254.7, 2,    33.87, 2,    20.39, 2,     0.00, 2,     1.39, 2, -999.000, 9, -999.000, 9,   -999.0, 9,   -999.0, 9,   -999.0, 9,   2.4088,   -999.0, 9, -999.000, 9
318MHYDROS4, A16C, 353, 1, 25, 25, 2, 19890403, 0846, -9.2217, -24.9850, 5699,  -999.00,   3454.4,   2.5545,  34.9093, 2,  34.9106, 2,   -999.0, 9,    256.0, 2,    34.75, 2,    20.04, 2,     0.00, 2,     1.38, 2, -999.000, 9, -999.000, 9,   2181.4, 2,   -999.0, 9,   -999.0, 9,   2.2657,   -999.0, 9, -999.000, 9
318MHYDROS4, A16C, 353, 1, 26, 26, 2, 19890403, 0846, -9.2217, -24.9850, 5699,  -999.00,   3713.7,   2.3497,  34.8910, 2,  34.8899, 2,   -999.0, 9,    256.1, 2,    40.91, 2,    20.39, 2,     0.00, 2,     1.44, 2, -999.000, 9, -999.000, 9,   -999.0, 9,   -999.0, 9,   -999.0, 9,   2.0379,   -999.0, 9, -999.000, 9
318MHYDROS4, A16C, 353, 1, 27, 27, 2, 19890403, 0846, -9.2217, -24.9850, 5699,  -999.00,   3973.7,   1.9192,  34.8443, 2,  34.8445, 2,   -999.0, 9,    246.4, 2,    59.55, 2,    23.50, 2,     0.00, 2,     1.63, 2, -999.000, 9, -999.000, 9,   2197.4, 2,   -999.0, 9,   -999.0, 9,   1.5904,   -999.0, 9, -999.000, 9
318MHYDROS4, A16C, 353, 1, 28, 28, 2, 19890403, 0846, -9.2217, -24.9850, 5699,  -999.00,   4233.6,   1.4198,  34.7901, 2,  34.7905, 2,   -999.0, 9,    236.8, 2,    81.20, 2,    26.79, 2,     0.00, 2,     1.85, 2, -999.000, 9, -999.000, 9,   -999.0, 9,   -999.0, 9,   -999.0, 9,   1.0768,   -999.0, 9, -999.000, 9
318MHYDROS4, A16C, 353, 1, 29, 29, 2, 19890403, 0846, -9.2217, -24.9850, 5699,  -999.00,   4440.9,   1.0590,  34.7519, 2,  34.7511, 2,   -999.0, 9,    231.0, 2,    95.99, 2,    28.73, 2,     0.00, 2,     2.00, 2, -999.000, 9, -999.000, 9,   2242.9, 2,   -999.0, 9,   -999.0, 9,   0.7040,   -999.0, 9, -999.000, 9
318MHYDROS4, A16C, 353, 1, 30, 30, 2, 19890403, 0846, -9.2217, -24.9850, 5699,  -999.00,   4649.3,   0.8741,  34.7311, 2,  34.7307, 2,   -999.0, 9,    227.7, 2,   104.81, 2,    29.90, 2,     0.00, 2,     2.07, 2, -999.000, 9, -999.000, 9,   -999.0, 9,   -999.0, 9,   -999.0, 9,   0.5015,   -999.0, 9, -999.000, 9
318MHYDROS4, A16C, 353, 1, 31, 31, 2, 19890403, 0846, -9.2217, -24.9850, 5699,  -999.00,   4858.1,   0.7961,  34.7214, 2,  34.7210, 2,   -999.0, 9,    226.0, 2,   108.87, 2,    30.37, 2,     0.00, 2,     2.11, 2, -999.000, 9, -999.000, 9,   2252.6, 2,   -999.0, 9,   -999.0, 9,   0.4021,   -999.0, 9, -999.000, 9
318MHYDROS4, A16C, 353, 1, 32, 32, 2, 19890403, 0846, -9.2217, -24.9850, 5699,  -999.00,   5066.9,   0.7569,  34.7152, 2,  34.7132, 2,   -999.0, 9,    225.1, 2,   111.17, 2,    30.71, 2,     0.00, 2,     2.13, 2, -999.000, 9, -999.000, 9,   -999.0, 9,   -999.0, 9,   -999.0, 9,   0.3398,   -999.0, 9, -999.000, 9
318MHYDROS4, A16C, 353, 1, 33, 33, 2, 19890403, 0846, -9.2217, -24.9850, 5699,  -999.00,   5276.6,   0.7309,  34.7099, 2,  34.7099, 2,   -999.0, 9,    224.1, 2,   113.65, 2,    30.93, 2,     0.00, 2,     2.14, 2, -999.000, 9, -999.000, 9,   2256.7, 2,   -999.0, 9,   -999.0, 9,   0.2897,   -999.0, 9, -999.000, 9
318MHYDROS4, A16C, 353, 1, 34, 34, 2, 19890403, 0846, -9.2217, -24.9850, 5699,  -999.00,   5485.8,   0.7202,  34.7059, 2,  34.7047, 2,   -999.0, 9,    223.8, 2,   115.08, 2,    31.19, 2,     0.00, 2,     2.16, 2, -999.000, 9, -999.000, 9,   -999.0, 9,   -999.0, 9,   -999.0, 9,   0.2539,   -999.0, 9, -999.000, 9
318MHYDROS4, A16C, 353, 1, 35, 35, 2, 19890403, 0846, -9.2217, -24.9850, 5699,  -999.00,   5695.7,   0.7184,  34.7030, 2,  34.7014, 2,   -999.0, 9,    223.6, 2,   115.45, 2,    31.23, 2,     0.00, 2,     2.19, 2, -999.000, 9, -999.000, 9,   2256.8, 2,   -999.0, 9,   -999.0, 9,   0.2260,   5695.4, 2,    0.710, 2
318MHYDROS4, A16C, 353, 1, 36, 36, 2, 19890403, 0846, -9.2217, -24.9850, 5699,  -999.00,   5846.5,   0.7129,  34.7002, 2,  34.6987, 2,   -999.0, 9,    222.7, 2,   117.40, 2,    31.48, 2,     0.00, 2,     2.19, 2, -999.000, 9, -999.000, 9,   2257.8, 2,   -999.0, 9,   -999.0, 9,   0.2016,   -999.0, 9, -999.000, 9