BOTTLE,20110318CCHDOSIODM
EXPOCODE,SECT_ID,STNNBR,CASTNO,SAMPNO,BTLNBR,BTLNBR_FLAG_W,DATE,TIME,LATITUDE,LONGITUDE,DEPTH,CTDRAW,CTDPRS,CTDTMP,CTDSAL,CTDSAL_FLAG_W,SALNTY,SALNTY_FLAG_W,CTDOXY,CTDOXY_FLAG_W,OXYGEN,OXYGEN_FLAG_W,SILCAT,SILCAT_FLAG_W,NITRAT,NITRAT_FLAG_W,NITRIT,NITRIT_FLAG_W,PHSPHT,PHSPHT_FLAG_W,CFC-11,CFC-11_FLAG_W,CFC-12,CFC-12_FLAG_W,TCARBN,TCARBN_FLAG_W,ALKALI,ALKALI_FLAG_W,PCO2,PCO2_FLAG_W,THETA,REVPRS,REVPRS_FLAG_W,REVTMP,REVTMP_FLAG_W
,,,,,,,,,,,METERS,DBAR,DBAR,ITS-90,PSS-78,,PSS-78,,UMOL/KG,,UMOL/KG,,UMOL/KG,,UMOL/KG,,UMOL/KG,,UMOL/KG,,PMOL/KG,,PMOL/KG,,UMOL/KG,,UMOL/KG,,UATM,,DEG C,DBAR,,ITS-90,
318MHYDROS4, A16C, 338, 1, 1, 1, 2, 19890329, 0015, -17.9417, -25.0283, 5459,  -999.00,      0.5,  27.6849,  37.0795, 2,  37.0700, 2,   -999.0, 9,    203.7, 2,     2.93, 2,     0.00, 2,     0.00, 2,     0.20, 2,    1.510, 2,    0.762, 2,   2070.2, 2,   2435.9, 2,    292.9, 2,  27.6848,   -999.0, 9, -999.000, 9
318MHYDROS4, A16C, 338, 1, 2, 2, 2, 19890329, 0015, -17.9417, -25.0283, 5459,  -999.00,     37.2,  27.6098,  37.1584, 2,  37.1680, 2,   -999.0, 9,    204.5, 2,     3.12, 2,     0.00, 2,     0.00, 2,     0.20, 2, -999.000, 9, -999.000, 9,   2077.3, 2,   2442.7, 2,    295.8, 2,  27.6011,   -999.0, 9, -999.000, 9
318MHYDROS4, A16C, 338, 1, 3, 3, 2, 19890329, 0015, -17.9417, -25.0283, 5459,  -999.00,     68.3,  24.3887,  36.8601, 2,  36.8650, 2,   -999.0, 9,    225.3, 2,     3.12, 2,     0.00, 2,     0.00, 2,     0.20, 2,    1.738, 2,    0.879, 2,   -999.0, 9,   -999.0, 9,   -999.0, 9,  24.3741,   -999.0, 9, -999.000, 9
318MHYDROS4, A16C, 338, 1, 71, 71, 2, 19890329, 0015, -17.9417, -25.0283, 5459,  -999.00,    109.5,  22.7606,  36.8072, 2,  36.8130, 2,   -999.0, 9,    216.5, 2,     3.12, 2,     0.00, 2,     0.00, 2,     0.19, 2,    1.756, 2,    0.907, 2,   2077.3, 2,   2421.2, 2,    316.0, 2,  22.7382,   -999.0, 9, -999.000, 9
318MHYDROS4, A16C, 338, 1, 5, 5, 2, 19890329, 0015, -17.9417, -25.0283, 5459,  -999.00,    161.0,  19.7926,  36.2493, 2,  36.2390, 2,   -999.0, 9,    203.8, 2,     3.12, 2,     0.59, 2,     0.13, 2,     0.31, 2,    1.855, 2,    0.939, 2,   2090.9, 2,   2394.2, 2,    366.2, 2,  19.7628,   -999.0, 9, -999.000, 9
318MHYDROS4, A16C, 338, 1, 6, 6, 2, 19890329, 0015, -17.9417, -25.0283, 5459,  -999.00,    212.0,  16.0239,  35.5760, 2,  35.5730, 2,   -999.0, 9,    195.4, 2,     3.71, 2,     5.86, 2,     0.01, 2,     0.59, 2,    1.872, 2,    0.933, 2,   2094.8, 2,   2339.8, 2,    459.8, 2,  15.9902,   -999.0, 9, -999.000, 9
318MHYDROS4, A16C, 338, 1, 7, 7, 2, 19890329, 0015, -17.9417, -25.0283, 5459,  -999.00,    313.8,  12.6272,  35.1205, 2,  35.1210, 2,   -999.0, 9,    169.7, 2,     6.84, 2,    15.34, 2,     0.01, 2,     1.09, 2,    1.435, 2,    0.701, 2,   2130.5, 2,   2311.7, 2,    636.0, 2,  12.5846,   -999.0, 9, -999.000, 9
318MHYDROS4, A16C, 338, 1, 8, 8, 2, 19890329, 0015, -17.9417, -25.0283, 5459,  -999.00,    416.0,   9.5442,  34.7901, 2,  34.7880, 2,   -999.0, 9,    153.5, 2,    12.71, 2,    23.75, 2,     0.00, 2,     1.63, 2,    0.701, 2,    0.349, 2,   2162.0, 2,   2298.6, 2,    829.7, 2,   9.4969,   -999.0, 9, -999.000, 9
318MHYDROS4, A16C, 338, 1, 9, 9, 2, 19890329, 0015, -17.9417, -25.0283, 5459,  -999.00,    517.3,   7.3025,  34.5851, 2,  34.5860, 2,   -999.0, 9,    151.3, 2,    18.96, 2,    29.23, 2,     0.00, 2,     1.98, 2,    0.290, 2,    0.156, 2,   2192.4, 2,   2305.9, 2,    973.4, 2,   7.2521,   -999.0, 9, -999.000, 9
318MHYDROS4, A16C, 338, 1, 10, 10, 2, 19890329, 0015, -17.9417, -25.0283, 5459,  -999.00,    619.9,   5.6819,  34.4720, 2,  34.4750, 2,   -999.0, 9,    158.3, 2,    25.51, 2,    31.97, 2,     0.00, 2,     2.17, 2,    0.100, 2,    0.061, 2,   2198.2, 2,   2300.2, 2,   1051.1, 2,   5.6287,   -999.0, 9, -999.000, 9
318MHYDROS4, A16C, 338, 1, 11, 11, 2, 19890329, 0015, -17.9417, -25.0283, 5459,  -999.00,    721.9,   4.6575,  34.4252, 2,  34.4290, 2,   -999.0, 9,    169.5, 2,    31.58, 2,    32.95, 2,     0.00, 2,     2.24, 2,    0.046, 2,    0.027, 2,   2207.4, 2,   2308.5, 2,   1064.0, 2,   4.6008,   -999.0, 9, -999.000, 9
318MHYDROS4, A16C, 338, 1, 12, 12, 2, 19890329, 0015, -17.9417, -25.0283, 5459,  -999.00,    824.0,   4.0595,  34.4286, 2, -999.0000, 9,   -999.0, 9,   -999.0, 9,  -999.00, 9,  -999.00, 9,  -999.00, 9,  -999.00, 9, -999.000, 9, -999.000, 9,   -999.0, 9,   -999.0, 9,   -999.0, 9,   3.9980,   -999.0, 9, -999.000, 9
318MHYDROS4, A16C, 338, 1, 13, 13, 2, 19890329, 0015, -17.9417, -25.0283, 5459,  -999.00,    926.0,   3.7851,  34.4671, 2,  34.4660, 2,   -999.0, 9,    180.8, 2,    40.18, 2,    32.75, 2,     0.00, 2,     2.25, 2,    0.019, 2,    0.015, 2,   2212.2, 2,   2315.2, 2,   1057.1, 2,   3.7171,   -999.0, 9, -999.000, 9
318MHYDROS4, A16C, 338, 1, 14, 14, 2, 19890329, 0015, -17.9417, -25.0283, 5459,  -999.00,   1028.0,   3.6524,  34.5190, 2,  34.5210, 2,   -999.0, 9,    183.0, 2,    41.74, 2,    32.16, 2,     0.00, 2,     2.22, 2,    0.016, 2,    0.006, 2,   2218.0, 2,   2324.6, 2,   1037.7, 2,   3.5771,   -999.0, 9, -999.000, 9
318MHYDROS4, A16C, 338, 1, 15, 15, 2, 19890329, 0015, -17.9417, -25.0283, 5459,  -999.00,   1233.7,   3.7673,  34.6941, 2,  34.6930, 2,   -999.0, 9,    189.1, 2,    36.75, 2,    29.32, 2,     0.00, 2,     2.01, 2,    0.001, 2,    0.002, 2,   2208.3, 2,   2324.5, 2,    972.3, 2,   3.6736,   -999.0, 9, -999.000, 9
318MHYDROS4, A16C, 338, 1, 16, 16, 2, 19890329, 0015, -17.9417, -25.0283, 5459,  -999.00,   1439.1,   3.7313,  34.8330, 2,  34.8330, 2,   -999.0, 9,    210.3, 2,    31.08, 2,    25.41, 2,     0.00, 2,     1.73, 2,    0.002, 2,    0.000, 2,   -999.0, 9,   -999.0, 9,   -999.0, 9,   3.6199,   -999.0, 9, -999.000, 9
318MHYDROS4, A16C, 338, 1, 17, 17, 2, 19890329, 0015, -17.9417, -25.0283, 5459,  -999.00,   1644.1,   3.5036,  34.8841, 2,  34.8840, 2,   -999.0, 9,    226.8, 2,    29.71, 2,    23.45, 2,     0.00, 2,     1.57, 2,    0.001, 2,    0.003, 2,   2180.9, 2,   2326.1, 2,    803.5, 2,   3.3765,   -999.0, 9, -999.000, 9
318MHYDROS4, A16C, 338, 1, 18, 18, 2, 19890329, 0015, -17.9417, -25.0283, 5459,  -999.00,   1849.7,   3.2996,  34.9052, 2,  34.9060, 2,   -999.0, 9,    236.8, 2,    30.49, 2,    22.18, 2,     0.00, 2,     1.50, 2,    0.001, 2,    0.006, 2,   -999.0, 9,   -999.0, 9,   -999.0, 9,   3.1565,   -999.0, 9, -999.000, 9
318MHYDROS4, A16C, 338, 1, 19, 19, 2, 19890329, 0015, -17.9417, -25.0283, 5459,  -999.00,   2055.7,   3.1701,  34.9274, 2,  34.9270, 2,   -999.0, 9,    246.8, 2,    29.12, 2,    20.91, 2,     0.00, 2,     1.42, 2, -999.000, 9, -999.000, 9,   2176.2, 2,   2331.7, 2,    756.0, 2,   3.0098,   -999.0, 9, -999.000, 9
318MHYDROS4, A16C, 338, 1, 20, 20, 2, 19890329, 0015, -17.9417, -25.0283, 5459,  -999.00,   2262.6,   3.0661,  34.9325, 2,  34.9340, 2,   -999.0, 9,    251.1, 2,    29.02, 2,    20.23, 2,     0.00, 2,     1.38, 2,    0.000, 2,    0.004, 2,   -999.0, 9,   -999.0, 9,   -999.0, 9,   2.8880,   -999.0, 9, -999.000, 9
318MHYDROS4, A16C, 338, 1, 21, 21, 2, 19890329, 0015, -17.9417, -25.0283, 5459,  -999.00,   2470.0,   2.9447,  34.9246, 2,  34.9270, 2,   -999.0, 9,    249.8, 2,    31.56, 2,    20.33, 2,     0.00, 2,     1.40, 2, -999.000, 9, -999.000, 9,   2177.6, 2,   2334.7, 2,    750.3, 2,   2.7487,   -999.0, 9, -999.000, 9
318MHYDROS4, A16C, 338, 1, 22, 22, 2, 19890329, 0015, -17.9417, -25.0283, 5459,  -999.00,   2677.3,   2.8120,  34.9144, 2,  34.9150, 2,   -999.0, 9,    247.7, 2,    35.67, 2,    21.01, 2,     0.00, 2,     1.43, 2,    0.008, 2,    0.002, 2,   -999.0, 9,   -999.0, 9,   -999.0, 9,   2.5982,   -999.0, 9, -999.000, 9
318MHYDROS4, A16C, 338, 1, 23, 23, 2, 19890329, 0015, -17.9417, -25.0283, 5459,  -999.00,   2883.7,   2.7396,  34.9110, 2,  34.9120, 2,   -999.0, 9,    248.5, 2,    37.04, 2,    21.11, 2,     0.00, 2,     1.44, 2, -999.000, 9, -999.000, 9,   2178.5, 2,   2334.2, 2,    757.2, 2,   2.5065,   -999.0, 9, -999.000, 9
318MHYDROS4, A16C, 338, 1, 24, 24, 2, 19890329, 0015, -17.9417, -25.0283, 5459,  -999.00,   3090.5,   2.6743,  34.9099, 2,  34.9110, 2,   -999.0, 9,    249.8, 2,    37.23, 2,    20.91, 2,     0.00, 2,     1.43, 2,    0.001, 2,    0.002, 2,   -999.0, 9,   -999.0, 9,   -999.0, 9,   2.4213,   -999.0, 9, -999.000, 9
318MHYDROS4, A16C, 338, 1, 25, 25, 2, 19890329, 0015, -17.9417, -25.0283, 5459,  -999.00,   3297.1,   2.5614,  34.9002, 2,  34.9010, 2,   -999.0, 9,    249.4, 2,    40.75, 2,    21.60, 2,     0.00, 2,     1.45, 2, -999.000, 9, -999.000, 9,   2183.8, 2,   2342.4, 2,    748.5, 2,   2.2893,   -999.0, 9, -999.000, 9
318MHYDROS4, A16C, 338, 1, 26, 26, 2, 19890329, 0015, -17.9417, -25.0283, 5459,  -999.00,   3505.5,   2.4037,  34.8890, 2,  34.8890, 2,   -999.0, 9,    250.7, 2,    44.27, 2,    21.89, 2,     0.00, 2,     1.48, 2,    0.002, 2,    0.003, 2,   -999.0, 9,   -999.0, 9,   -999.0, 9,   2.1132,   -999.0, 9, -999.000, 9
318MHYDROS4, A16C, 338, 1, 27, 27, 2, 19890329, 0015, -17.9417, -25.0283, 5459,  -999.00,   3713.0,   2.1655,  34.8658, 2,  34.8660, 2,   -999.0, 9,    247.2, 2,    53.16, 2,    22.97, 2,     0.00, 2,     1.56, 2, -999.000, 9, -999.000, 9,   2192.6, 2,   2345.4, 2,    779.7, 2,   1.8587,   -999.0, 9, -999.000, 9
318MHYDROS4, A16C, 338, 1, 28, 28, 2, 19890329, 0015, -17.9417, -25.0283, 5459,  -999.00,   3921.6,   1.8003,  34.8285, 2,  34.8290, 2,   -999.0, 9,    242.0, 2,    67.83, 2,    24.92, 2,     0.00, 2,     1.70, 2,    0.001, 2,    0.003, 2,   -999.0, 9,   -999.0, 9,   -999.0, 9,   1.4807,   -999.0, 9, -999.000, 9
318MHYDROS4, A16C, 338, 1, 29, 29, 2, 19890329, 0015, -17.9417, -25.0283, 5459,  -999.00,   4129.8,   1.4435,  34.7923, 2,  34.7920, 2,   -999.0, 9,    236.4, 2,    82.29, 2,    26.97, 2,     0.00, 2,     1.85, 2, -999.000, 9, -999.000, 9,   2218.1, 2,   2356.7, 2,    864.6, 2,   1.1113,   -999.0, 9, -999.000, 9
318MHYDROS4, A16C, 338, 1, 30, 30, 2, 19890329, 0015, -17.9417, -25.0283, 5459,  -999.00,   4338.3,   1.1960,  34.7661, 2,  34.7660, 2,   -999.0, 9,    232.4, 2,    92.16, 2,    28.25, 2,     0.00, 2,     1.94, 2,    0.003, 2,    0.003, 2,   -999.0, 9,   -999.0, 9,   -999.0, 9,   0.8482,   -999.0, 9, -999.000, 9
318MHYDROS4, A16C, 338, 1, 31, 31, 2, 19890329, 0015, -17.9417, -25.0283, 5459,  -999.00,   4546.5,   0.9932,  34.7437, 2,  34.7450, 2,   -999.0, 9,    229.4, 2,   101.16, 2,    29.22, 2,     0.00, 2,     2.04, 2, -999.000, 9, -999.000, 9,   2239.7, 2,   2370.4, 2,    921.6, 2,   0.6284,   -999.0, 9, -999.000, 9
318MHYDROS4, A16C, 338, 1, 32, 32, 2, 19890329, 0015, -17.9417, -25.0283, 5459,  -999.00,   4754.4,   0.8484,  34.7275, 2,  34.7280, 2,   -999.0, 9,    227.2, 2,   107.71, 2,    30.20, 2,     0.00, 2,     2.10, 2,    0.002, 2,    0.004, 2,   -999.0, 9,   -999.0, 9,   -999.0, 9,   0.4646,   -999.0, 9, -999.000, 9
318MHYDROS4, A16C, 338, 1, 33, 33, 2, 19890329, 0015, -17.9417, -25.0283, 5459,  -999.00,   4963.0,   0.7623,  34.7167, 2,  34.7140, 2,   -999.0, 9,    225.5, 2,   112.01, 2,    30.59, 2,     0.00, 2,     2.13, 2, -999.000, 9, -999.000, 9,   2250.7, 2,   2376.2, 2,    958.5, 2,   0.3573,   -999.0, 9, -999.000, 9
318MHYDROS4, A16C, 338, 1, 34, 34, 2, 19890329, 0015, -17.9417, -25.0283, 5459,  -999.00,   5171.5,   0.7139,  34.7095, 2,  34.7090, 2,   -999.0, 9,    224.6, 2,   114.65, 2,    31.08, 2,     0.00, 2,     2.15, 2,    0.007, 2,    0.006, 2,   -999.0, 9,   -999.0, 9,   -999.0, 9,   0.2859,   -999.0, 9, -999.000, 9
318MHYDROS4, A16C, 338, 1, 35, 35, 2, 19890329, 0015, -17.9417, -25.0283, 5459,  -999.00,   5380.4,   0.7087,  34.7062, 2,  34.7070, 2,   -999.0, 9,    224.2, 2,   115.63, 2,    31.18, 2,     0.00, 2,     2.16, 2,    0.008, 2,    0.006, 2,   2258.3, 2,   2378.1, 2,    996.8, 2,   0.2557,   5379.6, 2,    0.702, 2
318MHYDROS4, A16C, 338, 1, 36, 36, 2, 19890329, 0015, -17.9417, -25.0283, 5459,  -999.00,   5641.4,   0.6902,  34.7011, 2,  34.7010, 2,   -999.0, 9,    223.3, 2,   117.48, 2,    31.37, 2,     0.00, 2,     2.18, 2,    0.009, 2,    0.008, 2,   2254.9, 2,   2373.3, 2,   1003.7, 2,   0.2057,   -999.0, 9, -999.000, 9