BOTTLE,20110318CCHDOSIODM
EXPOCODE,SECT_ID,STNNBR,CASTNO,SAMPNO,BTLNBR,BTLNBR_FLAG_W,DATE,TIME,LATITUDE,LONGITUDE,DEPTH,CTDRAW,CTDPRS,CTDTMP,CTDSAL,CTDSAL_FLAG_W,SALNTY,SALNTY_FLAG_W,CTDOXY,CTDOXY_FLAG_W,OXYGEN,OXYGEN_FLAG_W,SILCAT,SILCAT_FLAG_W,NITRAT,NITRAT_FLAG_W,NITRIT,NITRIT_FLAG_W,PHSPHT,PHSPHT_FLAG_W,CFC-11,CFC-11_FLAG_W,CFC-12,CFC-12_FLAG_W,TCARBN,TCARBN_FLAG_W,ALKALI,ALKALI_FLAG_W,PCO2,PCO2_FLAG_W,THETA,REVPRS,REVPRS_FLAG_W,REVTMP,REVTMP_FLAG_W
,,,,,,,,,,,METERS,DBAR,DBAR,ITS-90,PSS-78,,PSS-78,,UMOL/KG,,UMOL/KG,,UMOL/KG,,UMOL/KG,,UMOL/KG,,UMOL/KG,,PMOL/KG,,PMOL/KG,,UMOL/KG,,UMOL/KG,,UATM,,DEG C,DBAR,,ITS-90,
318MHYDROS4, A16C, 329, 1, 1, 1, 2, 19890326, 0112, -23.2383, -25.0133, 4997,  -999.00,      0.7,  27.4770,  37.1020, 2,  37.1048, 2,   -999.0, 9,    204.5, 2,     1.56, 2,     0.00, 2,     0.00, 2,     0.14, 2, -999.000, 9, -999.000, 9,   2060.6, 2,   2435.2, 2,    281.8, 2,  27.4768,   -999.0, 9, -999.000, 9
318MHYDROS4, A16C, 329, 1, 2, 2, 2, 19890326, 0112, -23.2383, -25.0133, 4997,  -999.00,     38.6,  27.2920,  37.0751, 2,  37.0902, 2,   -999.0, 9,    206.2, 2,     1.95, 2,     0.00, 2,     0.00, 2,     0.14, 2, -999.000, 9, -999.000, 9,   2065.2, 2,   2438.4, 2,    284.2, 2,  27.2830,   -999.0, 9, -999.000, 9
318MHYDROS4, A16C, 329, 1, 3, 3, 2, 19890326, 0112, -23.2383, -25.0133, 4997,  -999.00,     69.7,  23.5671,  36.7172, 2,  36.7259, 2,   -999.0, 9,    231.3, 2,     2.34, 2,     0.00, 2,     0.00, 2,     0.11, 2, -999.000, 9, -999.000, 9,   -999.0, 9,   -999.0, 9,   -999.0, 9,  23.5525,   -999.0, 9, -999.000, 9
318MHYDROS4, A16C, 329, 1, 71, 71, 2, 19890326, 0112, -23.2383, -25.0133, 4997,  -999.00,    110.6,  21.5573,  36.5573, 2,  36.5491, 2,   -999.0, 9,    224.7, 2,     2.34, 2,     0.00, 2,     0.00, 2,     0.13, 2, -999.000, 9, -999.000, 9,   -999.0, 9,   -999.0, 9,   -999.0, 9,  21.5356,   -999.0, 9, -999.000, 9
318MHYDROS4, A16C, 329, 1, 5, 5, 2, 19890326, 0112, -23.2383, -25.0133, 4997,  -999.00,    162.0,  19.8726,  36.2670, 2,  36.2556, 2,   -999.0, 9,    215.1, 2,     2.34, 2,     0.00, 2,     0.07, 2,     0.18, 2, -999.000, 9, -999.000, 9,   -999.0, 9,   -999.0, 9,   -999.0, 9,  19.8426,   -999.0, 9, -999.000, 9
318MHYDROS4, A16C, 329, 1, 6, 6, 2, 19890326, 0112, -23.2383, -25.0133, 4997,  -999.00,    212.6,  17.3043,  35.7953, 2,  35.7947, 2,   -999.0, 9,    206.7, 2,     2.54, 2,     1.95, 2,     0.01, 2,     0.35, 2, -999.000, 9, -999.000, 9,   -999.0, 9,   -999.0, 9,   -999.0, 9,  17.2686,   -999.0, 9, -999.000, 9
318MHYDROS4, A16C, 329, 1, 7, 7, 2, 19890326, 0112, -23.2383, -25.0133, 4997,  -999.00,    314.7,  13.7226,  35.2538, 2,  35.2535, 2,   -999.0, 9,    205.8, 2,     3.91, 2,     8.30, 2,     0.00, 2,     0.71, 2, -999.000, 9, -999.000, 9,   -999.0, 9,   -999.0, 9,   -999.0, 9,  13.6775,   -999.0, 9, -999.000, 9
318MHYDROS4, A16C, 329, 1, 8, 8, 2, 19890326, 0112, -23.2383, -25.0133, 4997,  -999.00,    416.5,  11.3697,  34.9702, 2,  34.9681, 2,   -999.0, 9,    194.4, 2,     6.65, 2,    15.05, 2,     0.00, 2,     1.11, 2, -999.000, 9, -999.000, 9,   -999.0, 9,   -999.0, 9,   -999.0, 9,  11.3168,   -999.0, 9, -999.000, 9
318MHYDROS4, A16C, 329, 1, 9, 9, 2, 19890326, 0112, -23.2383, -25.0133, 4997,  -999.00,    518.8,   9.1280,  34.7226, 2,  34.7199, 2,   -999.0, 9,    185.7, 2,    11.34, 2,    21.60, 2,     0.00, 2,     1.51, 2, -999.000, 9, -999.000, 9,   -999.0, 9,   -999.0, 9,   -999.0, 9,   9.0703,   -999.0, 9, -999.000, 9
318MHYDROS4, A16C, 329, 1, 10, 10, 2, 19890326, 0112, -23.2383, -25.0133, 4997,  -999.00,    620.8,   6.7125,  34.4982, 2,  34.4992, 2,   -999.0, 9,    188.7, 2,    17.99, 2,    26.98, 2,     0.00, 2,     1.86, 2, -999.000, 9, -999.000, 9,   -999.0, 9,   -999.0, 9,   -999.0, 9,   6.6544,   -999.0, 9, -999.000, 9
318MHYDROS4, A16C, 329, 1, 11, 11, 2, 19890326, 0112, -23.2383, -25.0133, 4997,  -999.00,    723.0,   5.4014,  34.4088, 2,  34.4107, 2,   -999.0, 9,    192.2, 2,    23.66, 2,    29.72, 2,     0.00, 2,     2.03, 2, -999.000, 9, -999.000, 9,   -999.0, 9,   -999.0, 9,   -999.0, 9,   5.3405,   -999.0, 9, -999.000, 9
318MHYDROS4, A16C, 329, 1, 12, 12, 2, 19890326, 0112, -23.2383, -25.0133, 4997,  -999.00,    824.8,   4.4351,  34.3978, 2,  34.3970, 2,   -999.0, 9,    183.9, 2,    32.07, 2,    32.26, 2,     0.00, 2,     2.22, 2, -999.000, 9, -999.000, 9,   -999.0, 9,   -999.0, 9,   -999.0, 9,   4.3712,   -999.0, 9, -999.000, 9
318MHYDROS4, A16C, 329, 1, 13, 13, 2, 19890326, 0112, -23.2383, -25.0133, 4997,  -999.00,    926.9,   3.9854,  34.4291, 2, -999.0000, 9,   -999.0, 9,    180.8, 2,    37.83, 2,    32.85, 2,     0.00, 2,     2.27, 2, -999.000, 9, -999.000, 9,   -999.0, 9,   -999.0, 9,   -999.0, 9,   3.9160,   -999.0, 9, -999.000, 9
318MHYDROS4, A16C, 329, 1, 14, 14, 2, 19890326, 0112, -23.2383, -25.0133, 4997,  -999.00,   1029.3,   3.5088,  34.4628, 2, -999.0000, 9,   -999.0, 9,    185.6, 2,    44.09, 2,    32.65, 2,     0.00, 2,     2.26, 2, -999.000, 9, -999.000, 9,   -999.0, 9,   -999.0, 9,   -999.0, 9,   3.4347,   -999.0, 9, -999.000, 9
318MHYDROS4, A16C, 329, 1, 15, 15, 2, 19890326, 0112, -23.2383, -25.0133, 4997,  -999.00,   1131.9,   3.2420,  34.5213, 2, -999.0000, 9,   -999.0, 9,    186.5, 2,    49.56, 2,    32.26, 2,     0.00, 2,     2.24, 2, -999.000, 9, -999.000, 9,   -999.0, 9,   -999.0, 9,   -999.0, 9,   3.1618,   -999.0, 9, -999.000, 9
318MHYDROS4, A16C, 329, 1, 16, 16, 2, 19890326, 0112, -23.2383, -25.0133, 4997,  -999.00,   1234.3,   3.1311,  34.5887, 2, -999.0000, 9,   -999.0, 9,    188.2, 2,    51.42, 2,    31.48, 2,     0.00, 2,     2.18, 2, -999.000, 9, -999.000, 9,   -999.0, 9,   -999.0, 9,   -999.0, 9,   3.0436,   -999.0, 9, -999.000, 9
318MHYDROS4, A16C, 329, 1, 17, 17, 2, 19890326, 0112, -23.2383, -25.0133, 4997,  -999.00,   1337.2,   3.1411,  34.6645, 2, -999.0000, 9,   -999.0, 9,    193.4, 2,    50.24, 2,    30.01, 2,     0.00, 2,     2.07, 2, -999.000, 9, -999.000, 9,   -999.0, 9,   -999.0, 9,   -999.0, 9,   3.0450,   -999.0, 9, -999.000, 9
318MHYDROS4, A16C, 329, 1, 18, 18, 2, 19890326, 0112, -23.2383, -25.0133, 4997,  -999.00,   1440.1,   3.1471,  34.7324, 2, -999.0000, 9,   -999.0, 9,    202.1, 2,    47.11, 2,    28.25, 2,     0.00, 2,     1.94, 2, -999.000, 9, -999.000, 9,   -999.0, 9,   -999.0, 9,   -999.0, 9,   3.0422,   -999.0, 9, -999.000, 9
318MHYDROS4, A16C, 329, 1, 19, 19, 2, 19890326, 0112, -23.2383, -25.0133, 4997,  -999.00,   1645.9,   3.1191,  34.8250, 2, -999.0000, 9,   -999.0, 9,    220.7, 2,    41.05, 2,    25.21, 2,     0.00, 2,     1.72, 2, -999.000, 9, -999.000, 9,   -999.0, 9,   -999.0, 9,   -999.0, 9,   2.9968,   -999.0, 9, -999.000, 9
318MHYDROS4, A16C, 329, 1, 20, 20, 2, 19890326, 0112, -23.2383, -25.0133, 4997,  -999.00,   1851.9,   3.1991,  34.8942, 2, -999.0000, 9,   -999.0, 9,    237.7, 2,    32.45, 2,    22.38, 2,     0.00, 2,     1.51, 2, -999.000, 9, -999.000, 9,   -999.0, 9,   -999.0, 9,   -999.0, 9,   3.0572,   -999.0, 9, -999.000, 9
318MHYDROS4, A16C, 329, 1, 21, 21, 2, 19890326, 0112, -23.2383, -25.0133, 4997,  -999.00,   2058.6,   3.1991,  34.9321, 2, -999.0000, 9,   -999.0, 9,    249.8, 2,    27.07, 2,    20.62, 2,     0.00, 2,     1.39, 2, -999.000, 9, -999.000, 9,   -999.0, 9,   -999.0, 9,   -999.0, 9,   3.0381,   -999.0, 9, -999.000, 9
318MHYDROS4, A16C, 329, 1, 22, 22, 2, 19890326, 0112, -23.2383, -25.0133, 4997,  -999.00,   2264.7,   3.0881,  34.9355, 2, -999.0000, 9,   -999.0, 9,    252.0, 2,    27.56, 2,    20.33, 2,     0.00, 2,     1.37, 2, -999.000, 9, -999.000, 9,   -999.0, 9,   -999.0, 9,   -999.0, 9,   2.9095,   -999.0, 9, -999.000, 9
318MHYDROS4, A16C, 329, 1, 23, 23, 2, 19890326, 0112, -23.2383, -25.0133, 4997,  -999.00,   2471.3,   2.9942,  34.9318, 2, -999.0000, 9,   -999.0, 9,    252.4, 2,    28.93, 2,    20.33, 2,     0.00, 2,     1.38, 2, -999.000, 9, -999.000, 9,   -999.0, 9,   -999.0, 9,   -999.0, 9,   2.7972,   -999.0, 9, -999.000, 9
318MHYDROS4, A16C, 329, 1, 24, 24, 2, 19890326, 0112, -23.2383, -25.0133, 4997,  -999.00,   2678.6,   2.8863,  34.9255, 2, -999.0000, 9,   -999.0, 9,    252.4, 2,    31.08, 2,    20.52, 2,     0.00, 2,     1.38, 2, -999.000, 9, -999.000, 9,   -999.0, 9,   -999.0, 9,   -999.0, 9,   2.6709,   -999.0, 9, -999.000, 9
318MHYDROS4, A16C, 329, 1, 25, 25, 2, 19890326, 0112, -23.2383, -25.0133, 4997,  -999.00,   2886.2,   2.7714,  34.9203, 2, -999.0000, 9,   -999.0, 9,    252.4, 2,    33.03, 2,    20.62, 2,     0.00, 2,     1.39, 2, -999.000, 9, -999.000, 9,   -999.0, 9,   -999.0, 9,   -999.0, 9,   2.5374,   -999.0, 9, -999.000, 9
318MHYDROS4, A16C, 329, 1, 26, 26, 2, 19890326, 0112, -23.2383, -25.0133, 4997,  -999.00,   3093.9,   2.6865,  34.9144, 2, -999.0000, 9,   -999.0, 9,    253.3, 2,    34.30, 2,    20.62, 2,     0.00, 2,     1.40, 2, -999.000, 9, -999.000, 9,   -999.0, 9,   -999.0, 9,   -999.0, 9,   2.4329,   -999.0, 9, -999.000, 9
318MHYDROS4, A16C, 329, 1, 27, 27, 2, 19890326, 0112, -23.2383, -25.0133, 4997,  -999.00,   3301.7,   2.5566,  34.9041, 2, -999.0000, 9,   -999.0, 9,    253.3, 2,    37.43, 2,    20.82, 2,     0.00, 2,     1.42, 2, -999.000, 9, -999.000, 9,   -999.0, 9,   -999.0, 9,   -999.0, 9,   2.2841,   -999.0, 9, -999.000, 9
318MHYDROS4, A16C, 329, 1, 28, 28, 2, 19890326, 0112, -23.2383, -25.0133, 4997,  -999.00,   3509.3,   2.3847,  34.8887, 2, -999.0000, 9,   -999.0, 9,    252.0, 2,    43.20, 2,    21.50, 2,     0.00, 2,     1.46, 2, -999.000, 9, -999.000, 9,   -999.0, 9,   -999.0, 9,   -999.0, 9,   2.0943,   -999.0, 9, -999.000, 9
318MHYDROS4, A16C, 329, 1, 29, 29, 2, 19890326, 0112, -23.2383, -25.0133, 4997,  -999.00,   3717.2,   2.0460,  34.8565, 2, -999.0000, 9,   -999.0, 9,    247.2, 2,    55.80, 2,    23.26, 2,     0.00, 2,     1.58, 2, -999.000, 9, -999.000, 9,   -999.0, 9,   -999.0, 9,   -999.0, 9,   1.7419,   -999.0, 9, -999.000, 9
318MHYDROS4, A16C, 329, 1, 30, 30, 2, 19890326, 0112, -23.2383, -25.0133, 4997,  -999.00,   3925.2,   1.7562,  34.8260, 2, -999.0000, 9,   -999.0, 9,    242.4, 2,    68.22, 2,    24.92, 2,     0.00, 2,     1.71, 2, -999.000, 9, -999.000, 9,   -999.0, 9,   -999.0, 9,   -999.0, 9,   1.4375,   -999.0, 9, -999.000, 9
318MHYDROS4, A16C, 329, 1, 31, 31, 2, 19890326, 0112, -23.2383, -25.0133, 4997,  -999.00,   4133.3,   1.5104,  34.7980, 2, -999.0000, 9,   -999.0, 9,    237.7, 2,    78.97, 2,    26.39, 2,     0.00, 2,     1.82, 2, -999.000, 9, -999.000, 9,   -999.0, 9,   -999.0, 9,   -999.0, 9,   1.1759,   -999.0, 9, -999.000, 9
318MHYDROS4, A16C, 329, 1, 32, 32, 2, 19890326, 0112, -23.2383, -25.0133, 4997,  -999.00,   4341.5,   1.3166,  34.7772, 2, -999.0000, 9,   -999.0, 9,    234.2, 2,    87.47, 2,    27.56, 2,     0.00, 2,     1.90, 2, -999.000, 9, -999.000, 9,   -999.0, 9,   -999.0, 9,   -999.0, 9,   0.9647,   -999.0, 9, -999.000, 9
318MHYDROS4, A16C, 329, 1, 33, 33, 2, 19890326, 0112, -23.2383, -25.0133, 4997,  -999.00,   4549.9,   1.1158,  34.7544, 2, -999.0000, 9,   -999.0, 9,    231.6, 2,    96.37, 2,    28.73, 2,     0.00, 2,     1.99, 2, -999.000, 9, -999.000, 9,   -999.0, 9,   -999.0, 9,   -999.0, 9,   0.7466,   -999.0, 9, -999.000, 9
318MHYDROS4, A16C, 329, 1, 34, 34, 2, 19890326, 0112, -23.2383, -25.0133, 4997,  -999.00,   4758.4,   0.9399,  34.7351, 2, -999.0000, 9,   -999.0, 9,    228.5, 2,   104.38, 2,    29.71, 2,     0.00, 2,     2.05, 2, -999.000, 9, -999.000, 9,   -999.0, 9,   -999.0, 9,   -999.0, 9,   0.5526,   -999.0, 9, -999.000, 9
318MHYDROS4, A16C, 329, 1, 35, 35, 2, 19890326, 0112, -23.2383, -25.0133, 4997,  -999.00,   4967.0,   0.7911,  34.7199, 2, -999.0000, 9,   -999.0, 9,    225.9, 2,   110.54, 2,    30.59, 2,     0.00, 2,     2.12, 2, -999.000, 9, -999.000, 9,   -999.0, 9,   -999.0, 9,   -999.0, 9,   0.3846,   4964.7, 2,    0.790, 2
318MHYDROS4, A16C, 329, 1, 36, 36, 2, 19890326, 0112, -23.2383, -25.0133, 4997,  -999.00,   5134.5,   0.7651,  34.7148, 2, -999.0000, 9,   -999.0, 9,    225.5, 2,   112.20, 2,    30.79, 2,     0.00, 2,     2.14, 2, -999.000, 9, -999.000, 9,   -999.0, 9,   -999.0, 9,   -999.0, 9,   0.3397,   -999.0, 9, -999.000, 9