BOTTLE,20110318CCHDOSIODM
EXPOCODE,SECT_ID,STNNBR,CASTNO,SAMPNO,BTLNBR,BTLNBR_FLAG_W,DATE,TIME,LATITUDE,LONGITUDE,DEPTH,CTDRAW,CTDPRS,CTDTMP,CTDSAL,CTDSAL_FLAG_W,SALNTY,SALNTY_FLAG_W,CTDOXY,CTDOXY_FLAG_W,OXYGEN,OXYGEN_FLAG_W,SILCAT,SILCAT_FLAG_W,NITRAT,NITRAT_FLAG_W,NITRIT,NITRIT_FLAG_W,PHSPHT,PHSPHT_FLAG_W,CFC-11,CFC-11_FLAG_W,CFC-12,CFC-12_FLAG_W,TCARBN,TCARBN_FLAG_W,ALKALI,ALKALI_FLAG_W,PCO2,PCO2_FLAG_W,THETA,REVPRS,REVPRS_FLAG_W,REVTMP,REVTMP_FLAG_W
,,,,,,,,,,,METERS,DBAR,DBAR,ITS-90,PSS-78,,PSS-78,,UMOL/KG,,UMOL/KG,,UMOL/KG,,UMOL/KG,,UMOL/KG,,UMOL/KG,,PMOL/KG,,PMOL/KG,,UMOL/KG,,UMOL/KG,,UATM,,DEG C,DBAR,,ITS-90,
318MHYDROS4, A16C, 374, 1, 1, 1, 2, 19890411, 1025, -0.6567, -36.4817, 4464,  -999.00,      1.3,  27.4431,  36.2777, 2,  36.2810, 2,   -999.0, 9,    202.0, 2,     2.15, 2,     0.00, 2,     0.00, 2,     0.07, 2,    1.564, 2,    0.808, 2,   2019.9, 2,   2380.2, 2,    278.9, 2,  27.4428,   -999.0, 9, -999.000, 9
318MHYDROS4, A16C, 374, 1, 2, 2, 2, 19890411, 1025, -0.6567, -36.4817, 4464,  -999.00,     30.0,  27.3949,  36.2798, 2,  36.2910, 2,   -999.0, 9,    203.3, 2,     2.15, 2,     0.00, 2,     0.00, 2,     0.07, 2, -999.000, 9, -999.000, 9,   2018.8, 2,   -999.0, 9,   -999.0, 9,  27.3879,   -999.0, 9, -999.000, 9
318MHYDROS4, A16C, 374, 1, 3, 3, 2, 19890411, 1025, -0.6567, -36.4817, 4464,  -999.00,     61.0,  27.2355,  36.3098, 2,  36.3100, 2,   -999.0, 9,    202.9, 2,     2.05, 2,     0.00, 2,     0.00, 2,     0.08, 2,    1.582, 2,    0.798, 2,   2023.1, 2,   -999.0, 9,   -999.0, 9,  27.2214,   -999.0, 9, -999.000, 9
318MHYDROS4, A16C, 374, 1, 71, 71, 2, 19890411, 1025, -0.6567, -36.4817, 4464,  -999.00,     81.3,  21.9699,  36.4322, 2,  36.4300, 2,   -999.0, 9,    182.9, 2,     3.03, 2,     2.93, 2,     0.13, 2,     0.41, 2, -999.000, 9, -999.000, 9,   2092.1, 2,   2394.4, 2,    370.3, 2,  21.9537,   -999.0, 9, -999.000, 9
318MHYDROS4, A16C, 374, 1, 5, 5, 2, 19890411, 1025, -0.6567, -36.4817, 4464,  -999.00,    101.3,  19.1611,  36.1391, 2,  36.1110, 2,   -999.0, 9,    175.0, 2,     4.00, 2,     6.93, 2,     0.12, 2,     0.62, 2,    1.485, 2,    0.731, 2,   2109.2, 2,   -999.0, 9,   -999.0, 9,  19.1428,   -999.0, 9, -999.000, 9
318MHYDROS4, A16C, 374, 1, 6, 6, 2, 19890411, 1025, -0.6567, -36.4817, 4464,  -999.00,    127.1,  17.0528,  35.8542, 2,  35.8220, 2,   -999.0, 9,    165.8, 2,     4.98, 2,    10.25, 2,     0.03, 2,     0.81, 2, -999.000, 9, -999.000, 9,   2119.0, 2,   -999.0, 9,   -999.0, 9,  17.0317,   -999.0, 9, -999.000, 9
318MHYDROS4, A16C, 374, 1, 7, 7, 2, 19890411, 1025, -0.6567, -36.4817, 4464,  -999.00,    164.1,  12.2645,  35.1700, 2,  35.1690, 2,   -999.0, 9,    134.8, 2,     8.99, 2,    20.62, 2,     0.01, 2,     1.38, 2, -999.000, 9, -999.000, 9,   2162.4, 2,   2327.2, 2,    713.0, 2,  12.2428,   -999.0, 9, -999.000, 9
318MHYDROS4, A16C, 374, 1, 8, 8, 2, 19890411, 1025, -0.6567, -36.4817, 4464,  -999.00,    240.5,  10.9888,  35.0199, 2,  35.0200, 2,   -999.0, 9,    127.4, 2,    11.04, 2,    24.04, 2,     0.00, 2,     1.57, 2,    0.655, 2,    0.325, 2,   2175.4, 2,   -999.0, 9,   -999.0, 9,  10.9591,   -999.0, 9, -999.000, 9
318MHYDROS4, A16C, 374, 1, 9, 9, 2, 19890411, 1025, -0.6567, -36.4817, 4464,  -999.00,    296.8,  10.0163,  34.9195, 2,  34.9230, 2,   -999.0, 9,    117.4, 2,    13.10, 2,    27.27, 2,     0.00, 2,     1.75, 2,    0.446, 2,    0.219, 2,   2188.7, 2,   -999.0, 9,   -999.0, 9,   9.9816,   -999.0, 9, -999.000, 9
318MHYDROS4, A16C, 374, 1, 10, 10, 2, 19890411, 1025, -0.6567, -36.4817, 4464,  -999.00,    409.3,   7.6129,  34.6653, 2,  34.6690, 2,   -999.0, 9,    132.2, 2,    18.47, 2,    30.89, 2,     0.00, 2,     2.00, 2,    0.248, 2,    0.118, 2,   2198.9, 2,   -999.0, 9,   -999.0, 9,   7.5723,   -999.0, 9, -999.000, 9
318MHYDROS4, A16C, 374, 1, 11, 11, 2, 19890411, 1025, -0.6567, -36.4817, 4464,  -999.00,    506.3,   6.8170,  34.5807, 2,  34.5820, 2,   -999.0, 9,    155.7, 2,    20.33, 2,    30.30, 2,     0.00, 2,     2.01, 2,    0.284, 2,    0.141, 2,   2189.3, 2,   -999.0, 9,   -999.0, 9,   6.7695,   -999.0, 9, -999.000, 9
318MHYDROS4, A16C, 374, 1, 12, 12, 2, 19890411, 1025, -0.6567, -36.4817, 4464,  -999.00,    572.6,   5.9294,  34.5071, 2,  34.5130, 2,   -999.0, 9,    154.8, 2,    24.34, 2,    32.45, 2,     0.00, 2,     2.15, 2, -999.000, 9, -999.000, 9,   2203.6, 2,   -999.0, 9,   -999.0, 9,   5.8794,   -999.0, 9, -999.000, 9
318MHYDROS4, A16C, 374, 1, 13, 13, 2, 19890411, 1025, -0.6567, -36.4817, 4464,  -999.00,    608.1,   5.3116,  34.4869, 2,  34.4870, 2,   -999.0, 9,    155.2, 2,    27.76, 2,    33.63, 2,     0.00, 2,     2.24, 2,    0.101, 2,    0.053, 2,   2209.6, 2,   -999.0, 9,   -999.0, 9,   5.2612,   -999.0, 9, -999.000, 9
318MHYDROS4, A16C, 374, 1, 14, 14, 2, 19890411, 1025, -0.6567, -36.4817, 4464,  -999.00,    750.8,   4.9624,  34.5085, 2,  34.5080, 2,   -999.0, 9,    146.1, 2,    30.40, 2,    34.51, 2,     0.00, 2,     2.33, 2,    0.027, 2,    0.004, 2,   2220.5, 2,   -999.0, 9,   -999.0, 9,   4.9014,   -999.0, 9, -999.000, 9
318MHYDROS4, A16C, 374, 1, 15, 15, 2, 19890411, 1025, -0.6567, -36.4817, 4464,  -999.00,    874.2,   4.5695,  34.5303, 2,  34.5300, 2,   -999.0, 9,    156.5, 2,    32.84, 2,    34.02, 2,     0.00, 2,     2.29, 2,    0.015, 2,    0.013, 2,   2244.1, 3,   -999.0, 9,   -999.0, 9,   4.5003,   -999.0, 9, -999.000, 9
318MHYDROS4, A16C, 374, 1, 16, 16, 2, 19890411, 1025, -0.6567, -36.4817, 4464,  -999.00,    976.1,   4.5176,  34.6039, 2,  34.6030, 2,   -999.0, 9,    158.7, 2,    31.67, 2,    33.04, 2,     0.00, 2,     2.22, 2,    0.009, 2,    0.009, 2,   2226.3, 2,   -999.0, 9,   -999.0, 9,   4.4399,   -999.0, 9, -999.000, 9
318MHYDROS4, A16C, 374, 1, 17, 17, 2, 19890411, 1025, -0.6567, -36.4817, 4464,  -999.00,   1130.8,   4.4795,  34.6922, 2,  34.6920, 2,   -999.0, 9,    167.3, 2,    30.10, 2,    31.18, 2,     0.00, 2,     2.10, 2,    0.004, 2,    0.004, 2,   2212.3, 2,   2331.4, 3,    958.2, 2,   4.3883,   -999.0, 9, -999.000, 9
318MHYDROS4, A16C, 374, 1, 18, 18, 2, 19890411, 1025, -0.6567, -36.4817, 4464,  -999.00,   1284.9,   4.6325,  34.9331, 2,  34.9350, 2,   -999.0, 9,    210.3, 2,    21.01, 2,    23.75, 2,     0.00, 2,     1.57, 2,    0.049, 2,    0.027, 2,   2186.0, 2,   -999.0, 9,   -999.0, 9,   4.5254,   -999.0, 9, -999.000, 9
318MHYDROS4, A16C, 374, 1, 19, 19, 2, 19890411, 1025, -0.6567, -36.4817, 4464,  -999.00,   1439.3,   4.2757,  34.9546, 2,  34.9560, 2,   -999.0, 9,    227.3, 2,    19.64, 2,    21.99, 2,     0.00, 2,     1.47, 2,    0.030, 2,    0.017, 2,   2171.1, 2,   -999.0, 9,   -999.0, 9,   4.1581,   -999.0, 9, -999.000, 9
318MHYDROS4, A16C, 374, 1, 20, 20, 2, 19890411, 1025, -0.6567, -36.4817, 4464,  -999.00,   1542.3,   4.1317,  34.9676, 2,  34.9680, 2,   -999.0, 9,    235.5, 2,    18.96, 2,    21.11, 2,     0.00, 2,     1.41, 2,    0.022, 2,    0.017, 2,   2158.6, 2,   -999.0, 9,   -999.0, 9,   4.0061,   -999.0, 9, -999.000, 9
318MHYDROS4, A16C, 374, 1, 21, 21, 2, 19890411, 1025, -0.6567, -36.4817, 4464,  -999.00,   1645.2,   3.9930,  34.9805, 2,  34.9810, 2,   -999.0, 9,    247.2, 2,    17.79, 2,    19.74, 2,     0.00, 2,     1.32, 2,    0.040, 2,    0.032, 2,   2167.1, 2,   -999.0, 9,   -999.0, 9,   3.8595,   -999.0, 9, -999.000, 9
318MHYDROS4, A16C, 374, 1, 22, 22, 2, 19890411, 1025, -0.6567, -36.4817, 4464,  -999.00,   1748.0,   3.9199,  34.9834, 2,  34.9840, 2,   -999.0, 9,    251.1, 2,    17.98, 2,    19.54, 2,     0.00, 2,     1.29, 2,    0.048, 2,    0.034, 2,   2170.4, 2,   2333.4, 2,    721.3, 2,   3.7777,   -999.0, 9, -999.000, 9
318MHYDROS4, A16C, 374, 1, 23, 23, 2, 19890411, 1025, -0.6567, -36.4817, 4464,  -999.00,   1953.6,   3.6193,  34.9756, 2,  34.9770, 2,   -999.0, 9,    256.8, 2,    18.86, 2,    19.15, 2,     0.00, 2,     1.27, 2,    0.034, 2,    0.016, 2,   2158.5, 2,   -999.0, 9,   -999.0, 9,   3.4618,   -999.0, 9, -999.000, 9
318MHYDROS4, A16C, 374, 1, 24, 24, 2, 19890411, 1025, -0.6567, -36.4817, 4464,  -999.00,   2160.1,   3.3016,  34.9552, 2,  34.9550, 2,   -999.0, 9,    253.3, 2,    23.94, 2,    19.84, 2,     0.00, 2,     1.32, 2,    0.005, 2,    0.004, 2,   2167.5, 2,   -999.0, 9,   -999.0, 9,   3.1293,   -999.0, 9, -999.000, 9
318MHYDROS4, A16C, 374, 1, 25, 25, 2, 19890411, 1025, -0.6567, -36.4817, 4464,  -999.00,   2314.8,   3.1596,  34.9550, 2,  34.9570, 2,   -999.0, 9,    259.8, 2,    23.55, 2,    19.15, 2,     0.00, 2,     1.28, 2,    0.018, 2,    0.013, 2,   2160.0, 2,   -999.0, 9,   -999.0, 9,   2.9748,   -999.0, 9, -999.000, 9
318MHYDROS4, A16C, 374, 1, 26, 26, 2, 19890411, 1025, -0.6567, -36.4817, 4464,  -999.00,   2521.6,   2.9979,  34.9440, 2,  34.9460, 2,   -999.0, 9,    258.5, 2,    26.19, 2,    19.54, 2,     0.00, 2,     1.30, 2, -999.000, 9, -999.000, 9,   2172.3, 2,   -999.0, 9,   -999.0, 9,   2.7959,   -999.0, 9, -999.000, 9
318MHYDROS4, A16C, 374, 1, 27, 27, 2, 19890411, 1025, -0.6567, -36.4817, 4464,  -999.00,   2728.2,   2.8623,  34.9348, 2,  34.9370, 2,   -999.0, 9,    258.1, 2,    28.24, 2,    19.74, 2,     0.00, 2,     1.32, 2,    0.013, 2,    0.010, 2,   2172.6, 2,   -999.0, 9,   -999.0, 9,   2.6424,   -999.0, 9, -999.000, 9
318MHYDROS4, A16C, 374, 1, 28, 28, 2, 19890411, 1025, -0.6567, -36.4817, 4464,  -999.00,   2935.0,   2.7665,  34.9301, 2,  34.9300, 2,   -999.0, 9,    260.3, 2,    29.22, 2,    19.54, 2,     0.00, 2,     1.31, 2,    0.019, 2,    0.013, 2,   2172.3, 2,   -999.0, 9,   -999.0, 9,   2.5275,   -999.0, 9, -999.000, 9
318MHYDROS4, A16C, 374, 1, 29, 29, 2, 19890411, 1025, -0.6567, -36.4817, 4464,  -999.00,   3142.3,   2.6686,  34.9230, 2,  34.9230, 2,   -999.0, 9,    260.3, 2,    31.08, 2,    19.64, 2,     0.00, 2,     1.32, 2, -999.000, 9, -999.000, 9,   2174.4, 2,   -999.0, 9,   -999.0, 9,   2.4103,   3140.2, 2,    2.652, 2
318MHYDROS4, A16C, 374, 1, 30, 30, 2, 19890411, 1025, -0.6567, -36.4817, 4464,  -999.00,   3348.9,   2.5494,  34.9124, 2,  34.9120, 2,   -999.0, 9,    258.1, 2,    34.01, 2,    20.13, 2,     0.00, 2,     1.36, 2,    0.014, 2,    0.012, 2,   2224.2, 4,   -999.0, 9,   -999.0, 9,   2.2720,   -999.0, 9, -999.000, 9
318MHYDROS4, A16C, 374, 1, 31, 31, 2, 19890411, 1025, -0.6567, -36.4817, 4464,  -999.00,   3556.4,   2.4257,  34.9085, 2,  34.9080, 2,   -999.0, 9,    264.2, 2,    31.57, 2,    19.25, 2,     0.00, 2,     1.30, 2,    0.040, 2,    0.026, 2,   2176.0, 2,   -999.0, 9,   -999.0, 9,   2.1290,   -999.0, 9, -999.000, 9
318MHYDROS4, A16C, 374, 1, 32, 32, 2, 19890411, 1025, -0.6567, -36.4817, 4464,  -999.00,   3763.0,   2.3338,  34.9008, 2,  34.9000, 2,   -999.0, 9,    265.0, 2,    33.23, 2,    19.35, 2,     0.00, 2,     1.31, 2,    0.048, 2,    0.027, 2,   2171.4, 2,   -999.0, 9,   -999.0, 9,   2.0168,   -999.0, 9, -999.000, 9
318MHYDROS4, A16C, 374, 1, 33, 33, 2, 19890411, 1025, -0.6567, -36.4817, 4464,  -999.00,   3969.9,   2.2990,  34.8958, 2,  34.8970, 2,   -999.0, 9,    264.2, 2,    34.89, 2,    19.55, 2,     0.00, 2,     1.33, 2,    0.046, 2,    0.028, 2,   2175.3, 2,   -999.0, 9,   -999.0, 9,   1.9598,   -999.0, 9, -999.000, 9
318MHYDROS4, A16C, 374, 1, 34, 34, 2, 19890411, 1025, -0.6567, -36.4817, 4464,  -999.00,   4176.6,   1.6772,  34.8213, 2,  34.8220, 2,   -999.0, 9,    245.5, 2,    67.73, 2,    24.73, 2,     0.00, 2,     1.68, 2, -999.000, 9, -999.000, 9,   2215.4, 2,   -999.0, 9,   -999.0, 9,   1.3328,   -999.0, 9, -999.000, 9
318MHYDROS4, A16C, 374, 1, 35, 35, 2, 19890411, 1025, -0.6567, -36.4817, 4464,  -999.00,   4383.8,   1.1181,  34.7587, 2,  34.7590, 2,   -999.0, 9,    232.4, 2,    93.63, 2,    28.54, 2,     0.00, 2,     1.94, 2,    0.004, 2,    0.006, 2,   2235.2, 2,   -999.0, 9,   -999.0, 9,   0.7676,   4372.6, 2,    1.117, 2
318MHYDROS4, A16C, 374, 1, 36, 36, 2, 19890411, 1025, -0.6567, -36.4817, 4464,  -999.00,   4542.2,   1.0187,  34.7467, 2,  34.7480, 2,   -999.0, 9,    229.8, 2,    99.40, 2,    29.32, 2,     0.00, 2,     2.00, 2,    0.002, 2,    0.004, 2,   2249.6, 2,   -999.0, 9,   -999.0, 9,   0.6535,   -999.0, 9, -999.000, 9