BOTTLE,20110318CCHDOSIODM
EXPOCODE,SECT_ID,STNNBR,CASTNO,SAMPNO,BTLNBR,BTLNBR_FLAG_W,DATE,TIME,LATITUDE,LONGITUDE,DEPTH,CTDRAW,CTDPRS,CTDTMP,CTDSAL,CTDSAL_FLAG_W,SALNTY,SALNTY_FLAG_W,CTDOXY,CTDOXY_FLAG_W,OXYGEN,OXYGEN_FLAG_W,SILCAT,SILCAT_FLAG_W,NITRAT,NITRAT_FLAG_W,NITRIT,NITRIT_FLAG_W,PHSPHT,PHSPHT_FLAG_W,CFC-11,CFC-11_FLAG_W,CFC-12,CFC-12_FLAG_W,TCARBN,TCARBN_FLAG_W,ALKALI,ALKALI_FLAG_W,PCO2,PCO2_FLAG_W,THETA,REVPRS,REVPRS_FLAG_W,REVTMP,REVTMP_FLAG_W
,,,,,,,,,,,METERS,DBAR,DBAR,ITS-90,PSS-78,,PSS-78,,UMOL/KG,,UMOL/KG,,UMOL/KG,,UMOL/KG,,UMOL/KG,,UMOL/KG,,PMOL/KG,,PMOL/KG,,UMOL/KG,,UMOL/KG,,UATM,,DEG C,DBAR,,ITS-90,
318MHYDROS4, A16C, 379, 1, 1, 1, 2, 19890412, 2254, 1.1800, -36.4850, 3944,  -999.00,      1.7,  27.1350,  35.6201, 2,  35.6480, 2,   -999.0, 9,    209.6, 2,     2.15, 2,     0.00, 2,     0.00, 2,     0.07, 2,    1.608, 2,    0.789, 2,   1984.8, 2,   2342.0, 2,    268.2, 2,  27.1346,   -999.0, 9, -999.000, 9
318MHYDROS4, A16C, 379, 1, 2, 2, 2, 19890412, 2254, 1.1800, -36.4850, 3944,  -999.00,     25.3,  27.2130,  36.2216, 2,  36.2410, 2,   -999.0, 9,    209.7, 2,     2.34, 2,     0.00, 2,     0.00, 2,     0.08, 2, -999.000, 9, -999.000, 9,   2017.8, 2,   2376.2, 2,    279.9, 2,  27.2071,   -999.0, 9, -999.000, 9
318MHYDROS4, A16C, 379, 1, 3, 3, 2, 19890412, 2254, 1.1800, -36.4850, 3944,  -999.00,     66.1,  25.4290,  36.4341, 2,  36.4360, 2,   -999.0, 9,    199.9, 2,     2.34, 2,     0.00, 2,     0.01, 2,     0.10, 2,    1.597, 2,    0.801, 2,   2041.9, 2,   -999.0, 9,   -999.0, 9,  25.4144,   -999.0, 9, -999.000, 9
318MHYDROS4, A16C, 379, 1, 71, 71, 2, 19890412, 2254, 1.1800, -36.4850, 3944,  -999.00,    113.5,  15.4050,  35.5975, 2,  35.6000, 2,   -999.0, 9,    124.9, 2,     7.13, 2,    16.90, 2,     0.13, 2,     1.15, 2, -999.000, 9, -999.000, 9,   2158.5, 2,   -999.0, 9,   -999.0, 9,  15.3874,   -999.0, 9, -999.000, 9
318MHYDROS4, A16C, 379, 1, 5, 5, 2, 19890412, 2254, 1.1800, -36.4850, 3944,  -999.00,    148.9,  13.6127,  35.3591, 2,  35.3530, 2,   -999.0, 9,    131.5, 2,     8.40, 2,    18.95, 2,     0.02, 2,     1.28, 2,    0.962, 2,    0.467, 2,   2159.9, 2,   -999.0, 9,   -999.0, 9,  13.5915,   -999.0, 9, -999.000, 9
318MHYDROS4, A16C, 379, 1, 6, 6, 2, 19890412, 2254, 1.1800, -36.4850, 3944,  -999.00,    200.2,  12.0104,  35.1608, 2,  35.1580, 2,   -999.0, 9,    131.3, 2,     9.87, 2,    21.59, 2,     0.01, 2,     1.45, 2, -999.000, 9, -999.000, 9,   2167.0, 2,   -999.0, 9,   -999.0, 9,  11.9842,   -999.0, 9, -999.000, 9
318MHYDROS4, A16C, 379, 1, 7, 7, 2, 19890412, 2254, 1.1800, -36.4850, 3944,  -999.00,    250.7,  10.8640,  35.0235, 2,  35.0200, 2,   -999.0, 9,    132.6, 2,    11.53, 2,    23.75, 2,     0.01, 2,     1.57, 2,    0.626, 2,    0.310, 2,   2175.6, 2,   -999.0, 9,   -999.0, 9,  10.8332,   -999.0, 9, -999.000, 9
318MHYDROS4, A16C, 379, 1, 8, 8, 2, 19890412, 2254, 1.1800, -36.4850, 3944,  -999.00,    291.7,  10.0694,  34.9249, 2,  34.9230, 2,   -999.0, 9,    117.4, 2,    13.49, 2,    27.36, 2,     0.01, 2,     1.76, 2, -999.000, 9, -999.000, 9,   2191.1, 2,   -999.0, 9,   -999.0, 9,  10.0353,   -999.0, 9, -999.000, 9
318MHYDROS4, A16C, 379, 1, 9, 9, 2, 19890412, 2254, 1.1800, -36.4850, 3944,  -999.00,    393.7,   9.1100,  34.8269, 2,  34.8230, 2,   -999.0, 9,    104.2, 2,    16.03, 2,    30.88, 2,     0.00, 2,     1.95, 2,    0.243, 2,    0.137, 2,   2209.3, 2,   -999.0, 9,   -999.0, 9,   9.0665,   -999.0, 9, -999.000, 9
318MHYDROS4, A16C, 379, 1, 10, 10, 2, 19890412, 2254, 1.1800, -36.4850, 3944,  -999.00,    484.7,   7.5429,  34.6614, 2,  34.6600, 2,   -999.0, 9,    135.8, 2,    18.86, 2,    30.79, 2,     0.00, 2,     2.00, 2,    0.309, 2,    0.114, 2,   2199.4, 2,   -999.0, 9,   -999.0, 9,   7.4949,   -999.0, 9, -999.000, 9
318MHYDROS4, A16C, 379, 1, 11, 11, 2, 19890412, 2254, 1.1800, -36.4850, 3944,  -999.00,    619.0,   5.8111,  34.5404, 2,  34.5430, 2,   -999.0, 9,   -999.0, 9,    25.42, 2,    33.43, 2,     0.00, 2,     2.22, 2,    0.083, 2,    0.049, 2,   2209.3, 2,   -999.0, 9,   -999.0, 9,   5.7574,   -999.0, 9, -999.000, 9
318MHYDROS4, A16C, 379, 1, 12, 12, 2, 19890412, 2254, 1.1800, -36.4850, 3944,  -999.00,    721.2,   5.1476,  34.5040, 2,  34.5040, 2,   -999.0, 9,    147.6, 2,    28.94, 2,    34.51, 2,     0.00, 2,     2.31, 2,    0.038, 2,    0.026, 2,   2214.3, 2,   -999.0, 9,   -999.0, 9,   5.0881,   -999.0, 9, -999.000, 9
318MHYDROS4, A16C, 379, 1, 13, 13, 2, 19890412, 2254, 1.1800, -36.4850, 3944,  -999.00,    822.8,   4.8598,  34.5113, 2,  34.5110, 2,   -999.0, 9,    151.4, 2,    30.79, 2,    34.31, 2,     0.00, 2,     2.30, 2,    0.025, 2,    0.026, 2,   2218.6, 2,   -999.0, 9,   -999.0, 9,   4.7932,   -999.0, 9, -999.000, 9
318MHYDROS4, A16C, 379, 1, 14, 14, 2, 19890412, 2254, 1.1800, -36.4850, 3944,  -999.00,    925.0,   4.5810,  34.5755, 2,  34.5720, 2,   -999.0, 9,    154.9, 2,    32.45, 2,    33.82, 2,     0.00, 2,     2.28, 2, -999.000, 9, -999.000, 9,   2218.2, 2,   -999.0, 9,   -999.0, 9,   4.5073,   -999.0, 9, -999.000, 9
318MHYDROS4, A16C, 379, 1, 15, 15, 2, 19890412, 2254, 1.1800, -36.4850, 3944,  -999.00,   1028.2,   4.5200,  34.6685, 2,  34.6660, 2,   -999.0, 9,    163.0, 2,    31.38, 2,    31.96, 2,     0.00, 2,     2.18, 2,    0.010, 2,    0.004, 2,   2209.6, 2,   -999.0, 9,   -999.0, 9,   4.4376,   -999.0, 9, -999.000, 9
318MHYDROS4, A16C, 379, 1, 16, 16, 2, 19890412, 2254, 1.1800, -36.4850, 3944,  -999.00,   1129.8,   4.5590,  34.7437, 2,  34.7380, 2,   -999.0, 9,    170.1, 2,    29.13, 2,    30.30, 2,     0.00, 2,     2.04, 2,    0.002, 2,    0.008, 2,   2210.5, 2,   -999.0, 9,   -999.0, 9,   4.4672,   -999.0, 9, -999.000, 9
318MHYDROS4, A16C, 379, 1, 17, 17, 2, 19890412, 2254, 1.1800, -36.4850, 3944,  -999.00,   1232.8,   4.6150,  34.8579, 2,  34.8560, 2,   -999.0, 9,    190.7, 2,    24.33, 2,    26.78, 2,     0.00, 2,     1.79, 2, -999.000, 9, -999.000, 9,   2195.8, 2,   -999.0, 9,   -999.0, 9,   4.5131,   -999.0, 9, -999.000, 9
318MHYDROS4, A16C, 379, 1, 18, 18, 2, 19890412, 2254, 1.1800, -36.4850, 3944,  -999.00,   1334.9,   4.4021,  34.9508, 2,  34.9510, 2,   -999.0, 9,    222.1, 2,    19.74, 2,    22.38, 2,     0.00, 2,     1.50, 2, -999.000, 9, -999.000, 9,   2183.2, 2,   -999.0, 9,   -999.0, 9,   4.2928,   -999.0, 9, -999.000, 9
318MHYDROS4, A16C, 379, 1, 19, 19, 2, 19890412, 2254, 1.1800, -36.4850, 3944,  -999.00,   1438.8,   4.2333,  34.9687, 2,  34.9680, 2,   -999.0, 9,    234.4, 2,    18.37, 2,    21.21, 2,     0.00, 2,     1.41, 2,    0.034, 2, -999.000, 9,   2171.5, 2,   -999.0, 9,   -999.0, 9,   4.1161,   -999.0, 9, -999.000, 9
318MHYDROS4, A16C, 379, 1, 20, 20, 2, 19890412, 2254, 1.1800, -36.4850, 3944,  -999.00,   1542.2,   4.1163,  34.9686, 2,  34.9690, 2,   -999.0, 9,    238.0, 2,    18.57, 2,    20.91, 2,     0.00, 2,     1.40, 2,    0.024, 2, -999.000, 9,   -999.0, 9,   -999.0, 9,   -999.0, 9,   3.9909,   -999.0, 9, -999.000, 9
318MHYDROS4, A16C, 379, 1, 21, 21, 2, 19890412, 2254, 1.1800, -36.4850, 3944,  -999.00,   1644.4,   4.0594,  34.9775, 2,  34.9760, 2,   -999.0, 9,    245.0, 2,    17.69, 2,    20.23, 2,     0.00, 2,     1.33, 2,    0.033, 2, -999.000, 9,   2167.8, 2,   -999.0, 9,   -999.0, 9,   3.9251,   -999.0, 9, -999.000, 9
318MHYDROS4, A16C, 379, 1, 22, 22, 2, 19890412, 2254, 1.1800, -36.4850, 3944,  -999.00,   1747.0,   3.9994,  34.9885, 2,  34.9870, 2,   -999.0, 9,    251.7, 2,    16.71, 2,    19.35, 2,     0.00, 2,     1.31, 2,    0.064, 2, -999.000, 9,   2161.2, 2,   -999.0, 9,   -999.0, 9,   3.8562,   -999.0, 9, -999.000, 9
318MHYDROS4, A16C, 379, 1, 23, 23, 2, 19890412, 2254, 1.1800, -36.4850, 3944,  -999.00,   1849.0,   3.8815,  34.9873, 2,  34.9860, 2,   -999.0, 9,    255.4, 2,    16.91, 2,    18.96, 2,     0.01, 2,     1.27, 2,    0.070, 2, -999.000, 9,   2162.9, 2,   -999.0, 9,   -999.0, 9,   3.7302,   -999.0, 9, -999.000, 9
318MHYDROS4, A16C, 379, 1, 24, 24, 2, 19890412, 2254, 1.1800, -36.4850, 3944,  -999.00,   1952.5,   3.6007,  34.9773, 2,  34.9770, 2,   -999.0, 9,    259.7, 2,    18.76, 2,    18.86, 2,     0.01, 2,     1.26, 2,    0.041, 2, -999.000, 9,   2154.4, 2,   -999.0, 9,   -999.0, 9,   3.4436,   -999.0, 9, -999.000, 9
318MHYDROS4, A16C, 379, 1, 25, 25, 2, 19890412, 2254, 1.1800, -36.4850, 3944,  -999.00,   2055.3,   3.4039,  34.9688, 2,  34.9690, 2,   -999.0, 9,    260.3, 2,    20.62, 2,    18.86, 2,     0.01, 2,     1.27, 2, -999.000, 9, -999.000, 9,   2161.9, 2,   -999.0, 9,   -999.0, 9,   3.2400,   -999.0, 9, -999.000, 9
318MHYDROS4, A16C, 379, 1, 26, 26, 2, 19890412, 2254, 1.1800, -36.4850, 3944,  -999.00,   2262.4,   3.2300,  34.9577, 2,  34.9550, 2,   -999.0, 9,    259.7, 2,    22.96, 2,    19.15, 2,     0.01, 2,     1.30, 2,    0.023, 2, -999.000, 9,   2164.8, 2,   -999.0, 9,   -999.0, 9,   3.0491,   -999.0, 9, -999.000, 9
318MHYDROS4, A16C, 379, 1, 27, 27, 2, 19890412, 2254, 1.1800, -36.4850, 3944,  -999.00,   2467.0,   3.0632,  34.9488, 2,  34.9490, 2,   -999.0, 9,    260.1, 2,    24.43, 2,    19.25, 2,     0.01, 2,     1.30, 2, -999.000, 9, -999.000, 9,   2162.5, 2,   -999.0, 9,   -999.0, 9,   2.8653,   -999.0, 9, -999.000, 9
318MHYDROS4, A16C, 379, 1, 28, 28, 2, 19890412, 2254, 1.1800, -36.4850, 3944,  -999.00,   2674.4,   2.8933,  34.9366, 2,  34.9380, 2,   -999.0, 9,    259.4, 2,    27.75, 2,    19.54, 2,     0.00, 2,     1.33, 2,    0.012, 2, -999.000, 9,   2168.8, 2,   -999.0, 9,   -999.0, 9,   2.6781,   -999.0, 9, -999.000, 9
318MHYDROS4, A16C, 379, 1, 29, 29, 2, 19890412, 2254, 1.1800, -36.4850, 3944,  -999.00,   2880.2,   2.7764,  34.9270, 2,  34.9270, 2,   -999.0, 9,    256.9, 2,    31.08, 2,    20.13, 2,     0.00, 2,     1.35, 2, -999.000, 9, -999.000, 9,   2174.9, 2,   -999.0, 9,   -999.0, 9,   2.5428,   2880.2, 2,    2.769, 2
318MHYDROS4, A16C, 379, 1, 30, 30, 2, 19890412, 2254, 1.1800, -36.4850, 3944,  -999.00,   3088.2,   2.6535,  34.9190, 2,  34.9180, 2,   -999.0, 9,    256.9, 2,    33.23, 2,    20.42, 2,     0.00, 2,     1.36, 2,    0.006, 2, -999.000, 9,   2179.4, 2,   -999.0, 9,   -999.0, 9,   2.4012,   -999.0, 9, -999.000, 9
318MHYDROS4, A16C, 379, 1, 31, 31, 2, 19890412, 2254, 1.1800, -36.4850, 3944,  -999.00,   3295.0,   2.6025,  34.9171, 2,  34.9170, 2,   -999.0, 9,    260.0, 2,    32.15, 2,    20.03, 2,     0.00, 2,     1.35, 2, -999.000, 9, -999.000, 9,   2172.6, 2,   -999.0, 9,   -999.0, 9,   2.3296,   -999.0, 9, -999.000, 9
318MHYDROS4, A16C, 379, 1, 32, 32, 2, 19890412, 2254, 1.1800, -36.4850, 3944,  -999.00,   3502.7,   2.5096,  34.9111, 2,  34.9110, 2,   -999.0, 9,    262.2, 2,    32.35, 2,    19.74, 2,     0.00, 2,     1.33, 2,    0.023, 2, -999.000, 9,   2173.9, 2,   -999.0, 9,   -999.0, 9,   2.2167,   -999.0, 9, -999.000, 9
318MHYDROS4, A16C, 379, 1, 33, 33, 2, 19890412, 2254, 1.1800, -36.4850, 3944,  -999.00,   3711.3,   2.4187,  34.9064, 2,  34.9030, 2,   -999.0, 9,    263.4, 2,    33.03, 2,    19.55, 2,     0.00, 2,     1.32, 2,    0.026, 2, -999.000, 9,   2171.9, 2,   -999.0, 9,   -999.0, 9,   2.1052,   -999.0, 9, -999.000, 9
318MHYDROS4, A16C, 379, 1, 34, 34, 2, 19890412, 2254, 1.1800, -36.4850, 3944,  -999.00,   3815.7,   2.3507,  34.9004, 2,  34.9000, 2,   -999.0, 9,    263.9, 2,    34.01, 2,    19.64, 2,     0.00, 2,     1.33, 2,    0.031, 2, -999.000, 9,   2173.4, 2,   -999.0, 9,   -999.0, 9,   2.0275,   -999.0, 9, -999.000, 9
318MHYDROS4, A16C, 379, 1, 35, 35, 2, 19890412, 2254, 1.1800, -36.4850, 3944,  -999.00,   3918.8,   2.2458,  34.8885, 2,  34.8880, 2,   -999.0, 9,    261.8, 2,    38.99, 2,    20.33, 2,     0.00, 2,     1.37, 2,    0.032, 2, -999.000, 9,   2179.7, 2,   -999.0, 9,   -999.0, 9,   1.9139,   3907.9, 2,    2.246, 2
318MHYDROS4, A16C, 379, 1, 36, 36, 2, 19890412, 2254, 1.1800, -36.4850, 3944,  -999.00,   4005.0,   2.1069,  34.8736, 2,  34.8710, 2,   -999.0, 9,    258.0, 2,    46.13, 2,    21.30, 2,     0.00, 2,     1.45, 2,    0.023, 2, -999.000, 9,   2187.8, 2,   -999.0, 9,   -999.0, 9,   1.7692,   -999.0, 9, -999.000, 9