BOTTLE,20110318CCHDOSIODM
EXPOCODE,SECT_ID,STNNBR,CASTNO,SAMPNO,BTLNBR,BTLNBR_FLAG_W,DATE,TIME,LATITUDE,LONGITUDE,DEPTH,CTDRAW,CTDPRS,CTDTMP,CTDSAL,CTDSAL_FLAG_W,SALNTY,SALNTY_FLAG_W,CTDOXY,CTDOXY_FLAG_W,OXYGEN,OXYGEN_FLAG_W,SILCAT,SILCAT_FLAG_W,NITRAT,NITRAT_FLAG_W,NITRIT,NITRIT_FLAG_W,PHSPHT,PHSPHT_FLAG_W,CFC-11,CFC-11_FLAG_W,CFC-12,CFC-12_FLAG_W,TCARBN,TCARBN_FLAG_W,ALKALI,ALKALI_FLAG_W,PCO2,PCO2_FLAG_W,THETA,REVPRS,REVPRS_FLAG_W,REVTMP,REVTMP_FLAG_W
,,,,,,,,,,,METERS,DBAR,DBAR,ITS-90,PSS-78,,PSS-78,,UMOL/KG,,UMOL/KG,,UMOL/KG,,UMOL/KG,,UMOL/KG,,UMOL/KG,,PMOL/KG,,PMOL/KG,,UMOL/KG,,UMOL/KG,,UATM,,DEG C,DBAR,,ITS-90,
318MHYDROS4, A16C, 370, 1, 71, 71, 2, 19890407, 2133, -0.3333, -24.9933, 3300,  -999.00,      1.3,  27.6655,  35.7058, 2,  35.7020, 2,   -999.0, 9,    216.5, 2,     2.34, 2,     0.10, 2,     0.00, 2,     0.05, 2, -999.000, 9, -999.000, 9,   1984.4, 2,   -999.0, 9,   -999.0, 9,  27.6652,   -999.0, 9, -999.000, 9
318MHYDROS4, A16C, 370, 1, 5, 5, 2, 19890407, 2133, -0.3333, -24.9933, 3300,  -999.00,     29.3,  27.6582,  35.9535, 2,  35.9620, 2,   -999.0, 9,    216.0, 2,     2.34, 2,     0.10, 2,     0.00, 2,     0.04, 2, -999.000, 9, -999.000, 9,   2004.5, 2,   -999.0, 9,   -999.0, 9,  27.6514,   -999.0, 9, -999.000, 9
318MHYDROS4, A16C, 370, 1, 6, 6, 2, 19890407, 2133, -0.3333, -24.9933, 3300,  -999.00,     49.7,  27.6235,  35.9975, 2,  35.9990, 2,   -999.0, 9,    215.2, 2,     2.34, 2,     0.10, 2,     0.00, 2,     0.04, 2, -999.000, 9, -999.000, 9,   -999.0, 9,   -999.0, 9,   -999.0, 9,  27.6119,   -999.0, 9, -999.000, 9
318MHYDROS4, A16C, 370, 1, 7, 7, 2, 19890407, 2133, -0.3333, -24.9933, 3300,  -999.00,     80.1,  24.2176,  36.4236, 2,  36.3950, 2,   -999.0, 9,    193.1, 2,     2.54, 2,     0.68, 2,     0.14, 2,     0.26, 2, -999.000, 9, -999.000, 9,   -999.0, 9,   -999.0, 9,   -999.0, 9,  24.2006,   -999.0, 9, -999.000, 9
318MHYDROS4, A16C, 370, 1, 8, 8, 2, 19890407, 2133, -0.3333, -24.9933, 3300,  -999.00,    109.8,  16.9012,  35.7964, 2,  35.7940, 2,   -999.0, 9,    153.6, 2,     5.18, 2,    11.62, 2,     0.03, 2,     0.90, 2, -999.000, 9, -999.000, 9,   -999.0, 9,   -999.0, 9,   -999.0, 9,  16.8831,   -999.0, 9, -999.000, 9
318MHYDROS4, A16C, 370, 1, 9, 9, 2, 19890407, 2133, -0.3333, -24.9933, 3300,  -999.00,    139.4,  14.7636,  35.5092, 2,  35.5080, 2,   -999.0, 9,    154.0, 2,     6.45, 2,    14.46, 2,     0.01, 2,     1.05, 2, -999.000, 9, -999.000, 9,   -999.0, 9,   -999.0, 9,   -999.0, 9,  14.7427,   -999.0, 9, -999.000, 9
318MHYDROS4, A16C, 370, 1, 10, 10, 2, 19890407, 2133, -0.3333, -24.9933, 3300,  -999.00,    158.6,  13.8150,  35.3763, 2,  35.3760, 2,   -999.0, 9,    148.8, 2,     7.13, 2,    16.41, 2,     0.01, 2,     1.17, 2, -999.000, 9, -999.000, 9,   -999.0, 9,   -999.0, 9,   -999.0, 9,  13.7922,   -999.0, 9, -999.000, 9
318MHYDROS4, A16C, 370, 1, 11, 11, 2, 19890407, 2133, -0.3333, -24.9933, 3300,  -999.00,    189.5,  13.6231,  35.3512, 2,  35.3520, 2,   -999.0, 9,    145.7, 2,     7.42, 2,    17.00, 2,     0.01, 2,     1.20, 2, -999.000, 9, -999.000, 9,   -999.0, 9,   -999.0, 9,   -999.0, 9,  13.5961,   -999.0, 9, -999.000, 9
318MHYDROS4, A16C, 370, 1, 12, 12, 2, 19890407, 2133, -0.3333, -24.9933, 3300,  -999.00,    260.6,  11.7131,  35.1243, 2,  35.1290, 2,   -999.0, 9,     92.2, 2,    11.14, 2,    26.67, 2,     0.01, 2,     1.72, 2, -999.000, 9, -999.000, 9,   -999.0, 9,   -999.0, 9,   -999.0, 9,  11.6795,   -999.0, 9, -999.000, 9
318MHYDROS4, A16C, 370, 1, 13, 13, 2, 19890407, 2133, -0.3333, -24.9933, 3300,  -999.00,    327.0,  10.1785,  34.9451, 2,  34.9540, 2,   -999.0, 9,     90.5, 2,    13.68, 2,    29.81, 2,     0.01, 2,     1.89, 2, -999.000, 9, -999.000, 9,   -999.0, 9,   -999.0, 9,   -999.0, 9,  10.1399,   -999.0, 9, -999.000, 9
318MHYDROS4, A16C, 370, 1, 14, 14, 2, 19890407, 2133, -0.3333, -24.9933, 3300,  -999.00,    393.3,   8.5494,  34.7642, 2,  34.7660, 2,   -999.0, 9,    113.1, 2,    16.52, 2,    30.98, 2,     0.00, 2,     2.00, 2, -999.000, 9, -999.000, 9,   -999.0, 9,   -999.0, 9,   -999.0, 9,   8.5076,   -999.0, 9, -999.000, 9
318MHYDROS4, A16C, 370, 1, 15, 15, 2, 19890407, 2133, -0.3333, -24.9933, 3300,  -999.00,    495.7,   6.7141,  34.5905, 2,  34.5910, 2,   -999.0, 9,    133.5, 2,    21.80, 2,    32.94, 2,     0.00, 2,     2.17, 2, -999.000, 9, -999.000, 9,   -999.0, 9,   -999.0, 9,   -999.0, 9,   6.6680,   -999.0, 9, -999.000, 9
318MHYDROS4, A16C, 370, 1, 16, 16, 2, 19890407, 2133, -0.3333, -24.9933, 3300,  -999.00,    617.6,   5.7960,  34.5209, 2,  34.5240, 2,   -999.0, 9,    144.8, 2,    25.32, 2,    33.53, 2,     0.00, 2,     2.24, 2, -999.000, 9, -999.000, 9,   -999.0, 9,   -999.0, 9,   -999.0, 9,   5.7425,   -999.0, 9, -999.000, 9
318MHYDROS4, A16C, 370, 1, 17, 17, 2, 19890407, 2133, -0.3333, -24.9933, 3300,  -999.00,    720.1,   5.0161,  34.4957, 2,  34.4960, 2,   -999.0, 9,    149.5, 2,    29.33, 2,    34.41, 2,     0.00, 2,     2.32, 2, -999.000, 9, -999.000, 9,   -999.0, 9,   -999.0, 9,   -999.0, 9,   4.9575,   -999.0, 9, -999.000, 9
318MHYDROS4, A16C, 370, 1, 18, 18, 2, 19890407, 2133, -0.3333, -24.9933, 3300,  -999.00,    822.8,   4.7123,  34.5056, 2,  34.5060, 2,   -999.0, 9,    154.3, 2,    31.28, 2,    34.31, 2,     0.00, 2,     2.32, 2, -999.000, 9, -999.000, 9,   -999.0, 9,   -999.0, 9,   -999.0, 9,   4.6466,   -999.0, 9, -999.000, 9
318MHYDROS4, A16C, 370, 1, 19, 19, 2, 19890407, 2133, -0.3333, -24.9933, 3300,  -999.00,    925.1,   4.5268,  34.5577, 2,  34.5590, 2,   -999.0, 9,    155.6, 2,    32.36, 2,    33.82, 2,     0.00, 2,     2.30, 2, -999.000, 9, -999.000, 9,   -999.0, 9,   -999.0, 9,   -999.0, 9,   4.4535,   -999.0, 9, -999.000, 9
318MHYDROS4, A16C, 370, 1, 20, 20, 2, 19890407, 2133, -0.3333, -24.9933, 3300,  -999.00,   1027.6,   4.3294,  34.5848, 2,  34.5850, 2,   -999.0, 9,    165.6, 2,    33.04, 2,    32.55, 2,     0.00, 2,     2.24, 2, -999.000, 9, -999.000, 9,   -999.0, 9,   -999.0, 9,   -999.0, 9,   4.2487,   -999.0, 9, -999.000, 9
318MHYDROS4, A16C, 370, 1, 21, 21, 2, 19890407, 2133, -0.3333, -24.9933, 3300,  -999.00,   1130.0,   4.4667,  34.7022, 2,  34.7030, 2,   -999.0, 9,    167.8, 2,    30.01, 2,    30.98, 2,     0.00, 2,     2.10, 2, -999.000, 9, -999.000, 9,   -999.0, 9,   -999.0, 9,   -999.0, 9,   4.3757,   -999.0, 9, -999.000, 9
318MHYDROS4, A16C, 370, 1, 22, 22, 2, 19890407, 2133, -0.3333, -24.9933, 3300,  -999.00,   1233.0,   4.4830,  34.8189, 2,  34.8230, 2,   -999.0, 9,    186.4, 2,    25.51, 2,    27.66, 2,     0.00, 2,     1.87, 2, -999.000, 9, -999.000, 9,   -999.0, 9,   -999.0, 9,   -999.0, 9,   4.3824,   -999.0, 9, -999.000, 9
318MHYDROS4, A16C, 370, 1, 23, 23, 2, 19890407, 2133, -0.3333, -24.9933, 3300,  -999.00,   1335.8,   4.4157,  34.9266, 2,  34.9240, 2,   -999.0, 9,    213.8, 2,    20.91, 2,    23.65, 2,     0.00, 2,     1.59, 2, -999.000, 9, -999.000, 9,   -999.0, 9,   -999.0, 9,   -999.0, 9,   4.3062,   -999.0, 9, -999.000, 9
318MHYDROS4, A16C, 370, 1, 24, 24, 2, 19890407, 2133, -0.3333, -24.9933, 3300,  -999.00,   1438.9,   4.2834,  34.9504, 2,  34.9510, 2,   -999.0, 9,    226.4, 2,    19.64, 2,    22.18, 2,     0.00, 2,     1.49, 2,    0.016, 2,    0.006, 2,   -999.0, 9,   -999.0, 9,   -999.0, 9,   4.1657,   -999.0, 9, -999.000, 9
318MHYDROS4, A16C, 370, 1, 25, 25, 2, 19890407, 2133, -0.3333, -24.9933, 3300,  -999.00,   1541.4,   4.1652,  34.9673, 2,  34.9700, 2,   -999.0, 9,    236.4, 2,    18.18, 2,    21.01, 2,     0.00, 2,     1.40, 2,    0.051, 2,    0.026, 2,   -999.0, 9,   -999.0, 9,   -999.0, 9,   4.0393,   -999.0, 9, -999.000, 9
318MHYDROS4, A16C, 370, 1, 26, 26, 2, 19890407, 2133, -0.3333, -24.9933, 3300,  -999.00,   1644.2,   4.0591,  34.9767, 2,  34.9780, 2,   -999.0, 9,    243.8, 2,    17.69, 2,    20.13, 2,     0.00, 2,     1.35, 2,    0.033, 2,    0.015, 2,   -999.0, 9,   -999.0, 9,   -999.0, 9,   3.9248,   -999.0, 9, -999.000, 9
318MHYDROS4, A16C, 370, 1, 27, 27, 2, 19890407, 2133, -0.3333, -24.9933, 3300,  -999.00,   1747.4,   3.9312,  34.9768, 2,  34.9770, 2,   -999.0, 9,    248.5, 2,    17.98, 2,    19.74, 2,     0.00, 2,     1.32, 2,    0.027, 2,    0.017, 2,   -999.0, 9,   -999.0, 9,   -999.0, 9,   3.7889,   -999.0, 9, -999.000, 9
318MHYDROS4, A16C, 370, 1, 28, 28, 2, 19890407, 2133, -0.3333, -24.9933, 3300,  -999.00,   1846.3,   3.7511,  34.9778, 2,  34.9790, 2,   -999.0, 9,    255.1, 2,    17.98, 2,    19.25, 2,     0.00, 2,     1.28, 2,    0.032, 2,    0.019, 2,   -999.0, 9,   -999.0, 9,   -999.0, 9,   3.6019,   -999.0, 9, -999.000, 9
318MHYDROS4, A16C, 370, 1, 29, 29, 2, 19890407, 2133, -0.3333, -24.9933, 3300,  -999.00,   1953.2,   3.6672,  34.9728, 2,  34.9740, 2,   -999.0, 9,    255.1, 2,    19.35, 2,    19.35, 2,     0.00, 2,     1.29, 2, -999.000, 9, -999.000, 9,   -999.0, 9,   -999.0, 9,   -999.0, 9,   3.5090,   1948.4, 2,    3.655, 2
318MHYDROS4, A16C, 370, 1, 30, 30, 2, 19890407, 2133, -0.3333, -24.9933, 3300,  -999.00,   2158.9,   3.2387,  34.9476, 2,  34.9500, 2,   -999.0, 9,    252.0, 2,    26.19, 2,    20.13, 2,     0.00, 2,     1.36, 2, -999.000, 9, -999.000, 9,   -999.0, 9,   -999.0, 9,   -999.0, 9,   3.0676,   -999.0, 9, -999.000, 9
318MHYDROS4, A16C, 370, 1, 31, 31, 2, 19890407, 2133, -0.3333, -24.9933, 3300,  -999.00,   2365.4,   3.0879,  34.9396, 2,  34.9410, 2,   -999.0, 9,    251.6, 2,    28.44, 2,    20.33, 2,     0.00, 2,     1.37, 2, -999.000, 9, -999.000, 9,   -999.0, 9,   -999.0, 9,   -999.0, 9,   2.8996,   -999.0, 9, -999.000, 9
318MHYDROS4, A16C, 370, 1, 32, 32, 2, 19890407, 2133, -0.3333, -24.9933, 3300,  -999.00,   2571.8,   2.9555,  34.9329, 2,  34.9330, 2,   -999.0, 9,    253.3, 2,    30.20, 2,    20.42, 2,     0.00, 2,     1.37, 2, -999.000, 9, -999.000, 9,   -999.0, 9,   -999.0, 9,   -999.0, 9,   2.7494,   -999.0, 9, -999.000, 9
318MHYDROS4, A16C, 370, 1, 33, 33, 2, 19890407, 2133, -0.3333, -24.9933, 3300,  -999.00,   2779.0,   2.8129,  34.9242, 2,  34.9260, 2,   -999.0, 9,    253.3, 2,    32.44, 2,    20.52, 2,     0.00, 2,     1.38, 2, -999.000, 9, -999.000, 9,   -999.0, 9,   -999.0, 9,   -999.0, 9,   2.5888,   -999.0, 9, -999.000, 9
318MHYDROS4, A16C, 370, 1, 34, 34, 2, 19890407, 2133, -0.3333, -24.9933, 3300,  -999.00,   2985.6,   2.7445,  34.9193, 2,  34.9190, 2,   -999.0, 9,    252.9, 2,    33.81, 2,    20.52, 2,     0.00, 2,     1.39, 2, -999.000, 9, -999.000, 9,   -999.0, 9,   -999.0, 9,   -999.0, 9,   2.5008,   -999.0, 9, -999.000, 9
318MHYDROS4, A16C, 370, 1, 35, 35, 2, 19890407, 2133, -0.3333, -24.9933, 3300,  -999.00,   3192.2,   2.7168,  34.9166, 2,  34.9170, 2,   -999.0, 9,    252.4, 2,    34.30, 2,    20.52, 2,     0.00, 2,     1.39, 2, -999.000, 9, -999.000, 9,   -999.0, 9,   -999.0, 9,   -999.0, 9,   2.4522,   3180.6, 2,    2.710, 2
318MHYDROS4, A16C, 370, 1, 36, 36, 2, 19890407, 2133, -0.3333, -24.9933, 3300,  -999.00,   3338.6,   2.7250,  34.9166, 2,  34.9160, 2,   -999.0, 9,    253.7, 2,    34.59, 2,    20.52, 2,     0.00, 2,     1.40, 2, -999.000, 9, -999.000, 9,   -999.0, 9,   -999.0, 9,   -999.0, 9,   2.4446,   -999.0, 9, -999.000, 9