BOTTLE,20110318CCHDOSIODM
EXPOCODE,SECT_ID,STNNBR,CASTNO,SAMPNO,BTLNBR,BTLNBR_FLAG_W,DATE,TIME,LATITUDE,LONGITUDE,DEPTH,CTDRAW,CTDPRS,CTDTMP,CTDSAL,CTDSAL_FLAG_W,SALNTY,SALNTY_FLAG_W,CTDOXY,CTDOXY_FLAG_W,OXYGEN,OXYGEN_FLAG_W,SILCAT,SILCAT_FLAG_W,NITRAT,NITRAT_FLAG_W,NITRIT,NITRIT_FLAG_W,PHSPHT,PHSPHT_FLAG_W,CFC-11,CFC-11_FLAG_W,CFC-12,CFC-12_FLAG_W,TCARBN,TCARBN_FLAG_W,ALKALI,ALKALI_FLAG_W,PCO2,PCO2_FLAG_W,THETA,REVPRS,REVPRS_FLAG_W,REVTMP,REVTMP_FLAG_W
,,,,,,,,,,,METERS,DBAR,DBAR,ITS-90,PSS-78,,PSS-78,,UMOL/KG,,UMOL/KG,,UMOL/KG,,UMOL/KG,,UMOL/KG,,UMOL/KG,,PMOL/KG,,PMOL/KG,,UMOL/KG,,UMOL/KG,,UATM,,DEG C,DBAR,,ITS-90,
318MHYDROS4, A16C, 318, 1, 1, 1, 2, 19890322, 1819, -29.6400, -25.0350, 5323,  -999.00,      1.4,  24.4161,  36.2219, 2,  36.2230, 2,   -999.0, 9,    210.6, 2,     1.85, 2,     0.00, 2,     0.00, 2,     0.10, 2,    1.744, 2,    0.873, 2,   2027.4, 2,   -999.0, 9,   -999.0, 9,  24.4158,   -999.0, 9, -999.000, 9
318MHYDROS4, A16C, 318, 1, 2, 2, 2, 19890322, 1819, -29.6400, -25.0350, 5323,  -999.00,     36.9,  24.3951,  36.2222, 2,  36.2210, 2,   -999.0, 9,    211.0, 2,     1.85, 2,     0.00, 2,     0.00, 2,     0.08, 2, -999.000, 9, -999.000, 9,   2026.9, 2,   2365.5, 2,    302.7, 2,  24.3872,   -999.0, 9, -999.000, 9
318MHYDROS4, A16C, 318, 1, 3, 3, 2, 19890322, 1819, -29.6400, -25.0350, 5323,  -999.00,     68.2,  19.9859,  36.0590, 2,  36.0600, 2,   -999.0, 9,    241.2, 2,     2.34, 2,     0.00, 2,     0.00, 2,     0.12, 2,    2.133, 2,    1.066, 2,   -999.0, 9,   -999.0, 9,   -999.0, 9,  19.9733,   -999.0, 9, -999.000, 9
318MHYDROS4, A16C, 318, 1, 71, 71, 2, 19890322, 1819, -29.6400, -25.0350, 5323,  -999.00,    109.0,  18.3777,  35.9201, 2, -999.0000, 9,   -999.0, 9,   -999.0, 9,  -999.00, 9,  -999.00, 9,  -999.00, 9,  -999.00, 9,    2.208, 2,    1.086, 2,   -999.0, 9,   -999.0, 9,   -999.0, 9,  18.3586,   -999.0, 9, -999.000, 9
318MHYDROS4, A16C, 318, 1, 5, 5, 2, 19890322, 1819, -29.6400, -25.0350, 5323,  -999.00,    160.2,  17.0898,  35.7422, 2,  35.7400, 2,   -999.0, 9,    222.4, 2,     2.34, 2,     0.49, 2,     0.08, 2,     0.23, 2, -999.000, 9, -999.000, 9,   -999.0, 9,   -999.0, 9,   -999.0, 9,  17.0631,   -999.0, 9, -999.000, 9
318MHYDROS4, A16C, 318, 1, 6, 6, 2, 19890322, 1819, -29.6400, -25.0350, 5323,  -999.00,    211.5,  15.5732,  35.5070, 2,  35.5020, 2,   -999.0, 9,    212.8, 2,     2.93, 2,     3.71, 2,     0.01, 2,     0.44, 2,    2.110, 2,    1.037, 2,   2076.3, 2,   2330.3, 2,    434.1, 2,  15.5402,   -999.0, 9, -999.000, 9
318MHYDROS4, A16C, 318, 1, 7, 7, 2, 19890322, 1819, -29.6400, -25.0350, 5323,  -999.00,    262.3,  14.4147,  35.3566, 2,  35.3540, 2,   -999.0, 9,    211.5, 2,     3.52, 2,     5.76, 2,     0.00, 2,     0.57, 2, -999.000, 9, -999.000, 9,   -999.0, 9,   -999.0, 9,   -999.0, 9,  14.3759,   -999.0, 9, -999.000, 9
318MHYDROS4, A16C, 318, 1, 8, 8, 2, 19890322, 1819, -29.6400, -25.0350, 5323,  -999.00,    313.0,  13.6106,  35.2719, 2,  35.2690, 2,   -999.0, 9,    211.4, 2,     4.30, 2,     7.43, 2,     0.00, 2,     0.67, 2,    1.982, 2,    0.961, 2,   2089.3, 2,   2315.6, 2,    494.3, 2,  13.5659,   -999.0, 9, -999.000, 9
318MHYDROS4, A16C, 318, 1, 9, 9, 2, 19890322, 1819, -29.6400, -25.0350, 5323,  -999.00,    415.1,  11.6773,  35.0215, 2,  35.0190, 2,   -999.0, 9,    207.1, 2,     5.96, 2,    12.70, 2,     0.00, 2,     0.96, 2,    1.735, 2,    0.841, 2,   2108.9, 2,   2312.2, 2,    557.8, 2,  11.6236,   -999.0, 9, -999.000, 9
318MHYDROS4, A16C, 318, 1, 10, 10, 2, 19890322, 1819, -29.6400, -25.0350, 5323,  -999.00,    517.7,   9.8767,  34.7927, 2,  34.8050, 2,   -999.0, 9,    203.1, 2,     8.50, 2,    17.79, 2,     0.00, 2,     1.24, 2,    1.486, 2,    0.706, 2,   2144.9, 2,   2321.1, 2,    655.8, 2,   9.8163,   -999.0, 9, -999.000, 9
318MHYDROS4, A16C, 318, 1, 11, 11, 2, 19890322, 1819, -29.6400, -25.0350, 5323,  -999.00,    619.8,   7.7801,  34.5662, 2,  34.5720, 2,   -999.0, 9,    202.6, 2,    12.71, 2,    23.56, 2,     0.00, 2,     1.59, 2,    1.200, 2,    0.574, 2,   2150.8, 2,   2299.7, 2,    763.1, 2,   7.7171,   -999.0, 9, -999.000, 9
318MHYDROS4, A16C, 318, 1, 12, 12, 2, 19890322, 1819, -29.6400, -25.0350, 5323,  -999.00,    722.4,   6.0087,  34.3984, 2,  34.4020, 2,   -999.0, 9,    215.7, 2,    16.82, 2,    26.79, 2,     0.00, 2,     1.80, 2,    1.139, 2,    0.509, 2,   2158.3, 2,   2294.2, 2,    825.7, 2,   5.9445,   -999.0, 9, -999.000, 9
318MHYDROS4, A16C, 318, 1, 13, 13, 2, 19890322, 1819, -29.6400, -25.0350, 5323,  -999.00,    824.3,   4.7527,  34.3169, 2, -999.0000, 9,   -999.0, 9,    222.6, 2,    22.19, 2,    28.35, 2,     0.00, 2,     1.96, 2,    0.967, 2,    0.442, 2,   2165.0, 2,   2290.9, 2,    881.2, 2,   4.6869,   -999.0, 9, -999.000, 9
318MHYDROS4, A16C, 318, 1, 14, 14, 2, 19890322, 1819, -29.6400, -25.0350, 5323,  -999.00,    926.8,   4.0801,  34.3042, 2,  34.3040, 2,   -999.0, 9,    219.5, 2,    29.33, 2,    30.31, 2,     0.00, 2,     2.08, 2,    0.673, 2,    0.315, 2,   2175.9, 2,   2296.0, 2,    921.8, 2,   4.0102,   -999.0, 9, -999.000, 9
318MHYDROS4, A16C, 318, 1, 15, 15, 2, 19890322, 1819, -29.6400, -25.0350, 5323,  -999.00,   1132.6,   3.3488,  34.3792, 2,  34.3770, 2,   -999.0, 9,    200.8, 2,    43.50, 2,    32.85, 2,     0.00, 2,     2.21, 2,    0.279, 2,    0.137, 2,   -999.0, 9,   -999.0, 9,   -999.0, 9,   3.2679,   -999.0, 9, -999.000, 9
318MHYDROS4, A16C, 318, 1, 16, 16, 2, 19890322, 1819, -29.6400, -25.0350, 5323,  -999.00,   1338.0,   3.0641,  34.5077, 2,  34.5060, 2,   -999.0, 9,    187.8, 2,    54.06, 2,    32.16, 2,     0.00, 2,     2.25, 2,    0.075, 2,    0.036, 2,   2220.9, 2,   2327.8, 2,   1040.0, 2,   2.9690,   -999.0, 9, -999.000, 9
318MHYDROS4, A16C, 318, 1, 17, 17, 2, 19890322, 1819, -29.6400, -25.0350, 5323,  -999.00,   1543.9,   2.9299,  34.6411, 2,  34.6400, 2,   -999.0, 9,    191.2, 2,    56.59, 2,    31.18, 2,     0.00, 2,     2.12, 2,    0.021, 2,    0.010, 2,   2220.2, 2,   2333.7, 2,    999.8, 2,   2.8190,   -999.0, 9, -999.000, 9
318MHYDROS4, A16C, 318, 1, 18, 18, 2, 19890322, 1819, -29.6400, -25.0350, 5323,  -999.00,   1749.4,   2.8151,  34.7197, 2,  34.7190, 2,   -999.0, 9,    201.2, 2,    56.20, 2,    29.42, 2,     0.00, 2,     2.00, 2,    0.010, 2,    0.003, 2,   2213.4, 2,   2333.2, 2,    958.2, 2,   2.6880,   -999.0, 9, -999.000, 9
318MHYDROS4, A16C, 318, 1, 19, 19, 2, 19890322, 1819, -29.6400, -25.0350, 5323,  -999.00,   1956.0,   2.7530,  34.7819, 2,  34.7830, 2,   -999.0, 9,    213.8, 2,    52.09, 2,    27.46, 2,     0.00, 2,     1.84, 2,    0.003, 2,    0.000, 2,   -999.0, 9,   -999.0, 9,   -999.0, 9,   2.6086,   -999.0, 9, -999.000, 9
318MHYDROS4, A16C, 318, 1, 20, 20, 2, 19890322, 1819, -29.6400, -25.0350, 5323,  -999.00,   2161.7,   2.7266,  34.8335, 2,  34.8340, 2,   -999.0, 9,    227.2, 2,    47.20, 2,    25.41, 2,     0.00, 2,     1.69, 2,    0.000, 2,    0.000, 2,   2193.1, 2,   2330.8, 2,    848.7, 2,   2.5639,   -999.0, 9, -999.000, 9
318MHYDROS4, A16C, 318, 1, 21, 21, 2, 19890322, 1819, -29.6400, -25.0350, 5323,  -999.00,   2368.8,   2.7298,  34.8637, 2,  34.8630, 2,   -999.0, 9,    235.5, 2,    43.59, 2,    23.94, 2,     0.00, 2,     1.59, 2,    0.000, 2,    0.000, 2,   -999.0, 9,   -999.0, 9,   -999.0, 9,   2.5477,   -999.0, 9, -999.000, 9
318MHYDROS4, A16C, 318, 1, 22, 22, 2, 19890322, 1819, -29.6400, -25.0350, 5323,  -999.00,   2575.8,   2.7584,  34.8872, 2,  34.8870, 2,   -999.0, 9,    242.4, 2,    39.68, 2,    22.38, 2,     0.00, 2,     1.53, 2,    0.000, 2,    0.000, 2,   2181.7, 2,   2333.1, 2,    777.9, 2,   2.5558,   -999.0, 9, -999.000, 9
318MHYDROS4, A16C, 318, 1, 23, 23, 2, 19890322, 1819, -29.6400, -25.0350, 5323,  -999.00,   2782.5,   2.7539,  34.9020, 2,  34.9020, 2,   -999.0, 9,    247.2, 2,    37.53, 2,    21.89, 2,     0.00, 2,     1.49, 2, -999.000, 9, -999.000, 9,   -999.0, 9,   -999.0, 9,   -999.0, 9,   2.5308,   -999.0, 9, -999.000, 9
318MHYDROS4, A16C, 318, 1, 24, 24, 2, 19890322, 1819, -29.6400, -25.0350, 5323,  -999.00,   2990.7,   2.7156,  34.9086, 2,  34.9090, 2,   -999.0, 9,    250.3, 2,    37.14, 2,  -999.00, 9,     0.00, 2,     1.47, 2,    0.000, 2,    0.000, 2,   2172.3, 2,   2328.2, 2,    753.4, 2,   2.4721,   -999.0, 9, -999.000, 9
318MHYDROS4, A16C, 318, 1, 25, 25, 2, 19890322, 1819, -29.6400, -25.0350, 5323,  -999.00,   3197.1,   2.5804,  34.9001, 2,  34.9000, 2,   -999.0, 9,    250.3, 2,    40.75, 2,    21.89, 2,     0.00, 2,     1.49, 2, -999.000, 9, -999.000, 9,   2176.5, 2,   2331.2, 2,    761.3, 2,   2.3185,   -999.0, 9, -999.000, 9
318MHYDROS4, A16C, 318, 1, 26, 26, 2, 19890322, 1819, -29.6400, -25.0350, 5323,  -999.00,   3405.1,   2.3945,  34.8840, 2,  34.8840, 2,   -999.0, 9,    248.5, 2,    47.01, 2,    22.77, 2,     0.00, 2,     1.53, 2,    0.006, 2,    0.001, 2,   2184.4, 2,   2341.1, 2,    758.0, 2,   2.1150,   -999.0, 9, -999.000, 9
318MHYDROS4, A16C, 318, 1, 27, 27, 2, 19890322, 1819, -29.6400, -25.0350, 5323,  -999.00,   3612.7,   2.0681,  34.8529, 2,  34.8550, 2,   -999.0, 9,    244.2, 2,    58.74, 2,  -999.00, 9,     0.00, 2,     1.63, 2, -999.000, 9, -999.000, 9,   -999.0, 9,   -999.0, 9,   -999.0, 9,   1.7747,   -999.0, 9, -999.000, 9
318MHYDROS4, A16C, 318, 1, 28, 28, 2, 19890322, 1819, -29.6400, -25.0350, 5323,  -999.00,   3820.7,   1.7353,  34.8182, 2,  34.8180, 2,   -999.0, 9,    238.5, 2,    71.74, 2,    25.90, 2,     0.00, 2,     1.76, 2,    0.001, 2,    0.000, 2,   2206.5, 2,   2347.1, 2,    846.3, 2,   1.4286,   -999.0, 9, -999.000, 9
318MHYDROS4, A16C, 318, 1, 29, 29, 2, 19890322, 1819, -29.6400, -25.0350, 5323,  -999.00,   4029.5,   1.4727,  34.7888, 2,  34.7890, 2,   -999.0, 9,    232.9, 2,    82.49, 2,  -999.00, 9,     0.00, 2,     1.89, 2, -999.000, 9, -999.000, 9,   -999.0, 9,   -999.0, 9,   -999.0, 9,   1.1507,   -999.0, 9, -999.000, 9
318MHYDROS4, A16C, 318, 1, 30, 30, 2, 19890322, 1819, -29.6400, -25.0350, 5323,  -999.00,   4237.4,   1.3172,  34.7712, 2,  34.7720, 2,   -999.0, 9,    229.4, 2,    90.21, 2,  -999.00, 9,     0.00, 2,     1.94, 2,    0.005, 2,    0.001, 2,   2229.1, 2,   2360.8, 2,    907.6, 2,   0.9769,   -999.0, 9, -999.000, 9
318MHYDROS4, A16C, 318, 1, 31, 31, 2, 19890322, 1819, -29.6400, -25.0350, 5323,  -999.00,   4444.9,   1.2602,  34.7623, 2,  34.7620, 2,   -999.0, 9,    228.5, 2,    94.32, 2,  -999.00, 9,     0.00, 2,     1.98, 2,    0.005, 2,    0.004, 2,   -999.0, 9,   -999.0, 9,   -999.0, 9,   0.8984,   -999.0, 9, -999.000, 9
318MHYDROS4, A16C, 318, 1, 32, 32, 2, 19890322, 1819, -29.6400, -25.0350, 5323,  -999.00,   4654.2,   1.2159,  34.7547, 2, -999.0000, 9,   -999.0, 9,    226.8, 2,    97.54, 2,  -999.00, 9,     0.00, 2,     2.02, 2,    0.006, 2,    0.002, 2,   2237.8, 2,   2366.7, 2,    929.2, 2,   0.8316,   -999.0, 9, -999.000, 9
318MHYDROS4, A16C, 318, 1, 33, 33, 2, 19890322, 1819, -29.6400, -25.0350, 5323,  -999.00,   4863.2,   1.1933,  34.7508, 2,  34.7490, 2,   -999.0, 9,    227.2, 2,    99.11, 2,  -999.00, 9,     0.00, 2,     2.03, 2,    0.004, 2,    0.000, 2,   -999.0, 9,   -999.0, 9,   -999.0, 9,   0.7853,   -999.0, 9, -999.000, 9
318MHYDROS4, A16C, 318, 1, 34, 34, 2, 19890322, 1819, -29.6400, -25.0350, 5323,  -999.00,   5072.1,   1.2024,  34.7509, 2,  34.7490, 2,   -999.0, 9,    226.8, 2,    99.30, 2,    29.61, 2,     0.00, 2,     2.03, 2,    0.009, 2,    0.000, 2,   2238.8, 2,   2367.4, 2,    931.7, 2,   0.7691,   -999.0, 9, -999.000, 9
318MHYDROS4, A16C, 318, 1, 35, 35, 2, 19890322, 1819, -29.6400, -25.0350, 5323,  -999.00,   5229.1,   1.2210,  34.7513, 2,  34.7500, 2,   -999.0, 9,    226.4, 2,    98.62, 2,    29.71, 2,     0.00, 2,     2.02, 2,    0.003, 2,    0.001, 2,   -999.0, 9,   -999.0, 9,   -999.0, 9,   0.7679,   5226.9, 2,    1.216, 2
318MHYDROS4, A16C, 318, 1, 36, 36, 2, 19890322, 1819, -29.6400, -25.0350, 5323,  -999.00,   5459.6,   1.2511,  34.7508, 2,  34.7520, 2,   -999.0, 9,    225.9, 2,    97.83, 2,    29.91, 2,     0.00, 2,     1.99, 2,    0.001, 2,    0.001, 2,   2237.0, 2,   2367.3, 2,    921.3, 2,   0.7682,   -999.0, 9, -999.000, 9