BOTTLE,20110318CCHDOSIODM
EXPOCODE,SECT_ID,STNNBR,CASTNO,SAMPNO,BTLNBR,BTLNBR_FLAG_W,DATE,TIME,LATITUDE,LONGITUDE,DEPTH,CTDRAW,CTDPRS,CTDTMP,CTDSAL,CTDSAL_FLAG_W,SALNTY,SALNTY_FLAG_W,CTDOXY,CTDOXY_FLAG_W,OXYGEN,OXYGEN_FLAG_W,SILCAT,SILCAT_FLAG_W,NITRAT,NITRAT_FLAG_W,NITRIT,NITRIT_FLAG_W,PHSPHT,PHSPHT_FLAG_W,CFC-11,CFC-11_FLAG_W,CFC-12,CFC-12_FLAG_W,TCARBN,TCARBN_FLAG_W,ALKALI,ALKALI_FLAG_W,PCO2,PCO2_FLAG_W,THETA,REVPRS,REVPRS_FLAG_W,REVTMP,REVTMP_FLAG_W
,,,,,,,,,,,METERS,DBAR,DBAR,ITS-90,PSS-78,,PSS-78,,UMOL/KG,,UMOL/KG,,UMOL/KG,,UMOL/KG,,UMOL/KG,,UMOL/KG,,PMOL/KG,,PMOL/KG,,UMOL/KG,,UMOL/KG,,UATM,,DEG C,DBAR,,ITS-90,
318MHYDROS4, A16C, 351, 1, 1, 1, 2, 19890402, 1826, -10.4000, -24.9933, 5200,  -999.00,     11.3,  28.2625,  36.7444, 2,  36.7508, 2,   -999.0, 9,   -999.0, 9,  -999.00, 9,  -999.00, 9,  -999.00, 9,  -999.00, 9, -999.000, 9, -999.000, 9,   2025.8, 2,   -999.0, 9,    269.4, 2,  28.2599,   -999.0, 9, -999.000, 9
318MHYDROS4, A16C, 351, 1, 2, 2, 2, 19890402, 1826, -10.4000, -24.9933, 5200,  -999.00,     11.4,  28.2381,  36.7428, 2,  36.7464, 2,   -999.0, 9,    198.5, 2,     2.22, 2,     0.13, 2,     0.00, 2,     0.08, 2, -999.000, 9, -999.000, 9,   -999.0, 9,   -999.0, 9,   -999.0, 9,  28.2354,   -999.0, 9, -999.000, 9
318MHYDROS4, A16C, 351, 1, 3, 3, 2, 19890402, 1826, -10.4000, -24.9933, 5200,  -999.00,     38.5,  28.1780,  36.7425, 2,  36.7456, 2,   -999.0, 9,    201.7, 2,     2.21, 2,     0.13, 2,     0.00, 2,     0.07, 2, -999.000, 9, -999.000, 9,   2021.9, 2,   -999.0, 9,   -999.0, 9,  28.1689,   -999.0, 9, -999.000, 9
318MHYDROS4, A16C, 351, 1, 71, 71, 2, 19890402, 1826, -10.4000, -24.9933, 5200,  -999.00,     69.4,  25.4826,  36.8990, 2,  36.9022, 2,   -999.0, 9,    217.6, 2,     2.20, 2,     0.12, 2,     0.00, 2,     0.13, 2, -999.000, 9, -999.000, 9,   2080.2, 2,   -999.0, 9,   -999.0, 9,  25.4672,   -999.0, 9, -999.000, 9
318MHYDROS4, A16C, 351, 1, 5, 5, 2, 19890402, 1826, -10.4000, -24.9933, 5200,  -999.00,    110.7,  23.0479,  36.8213, 2,  36.7993, 2,   -999.0, 9,    214.7, 2,     2.19, 2,     0.07, 2,     0.01, 2,     0.20, 2, -999.000, 9, -999.000, 9,   -999.0, 9,   -999.0, 9,   -999.0, 9,  23.0251,   -999.0, 9, -999.000, 9
318MHYDROS4, A16C, 351, 1, 6, 6, 2, 19890402, 1826, -10.4000, -24.9933, 5200,  -999.00,    162.2,  16.8220,  35.7852, 2,  35.7728, 2,   -999.0, 9,    160.9, 2,     4.31, 2,     9.88, 2,     0.03, 2,     0.82, 2, -999.000, 9, -999.000, 9,   -999.0, 9,   -999.0, 9,   -999.0, 9,  16.7953,   -999.0, 9, -999.000, 9
318MHYDROS4, A16C, 351, 1, 7, 7, 2, 19890402, 1826, -10.4000, -24.9933, 5200,  -999.00,    213.3,  12.3902,  35.1923, 2,  35.1920, 2,   -999.0, 9,    113.2, 2,     8.92, 2,    22.42, 2,     0.01, 2,     1.50, 2, -999.000, 9, -999.000, 9,   2154.0, 2,   -999.0, 9,   -999.0, 9,  12.3617,   -999.0, 9, -999.000, 9
318MHYDROS4, A16C, 351, 1, 8, 8, 2, 19890402, 1826, -10.4000, -24.9933, 5200,  -999.00,    314.5,   9.4492,  34.8549, 2,  34.8546, 2,   -999.0, 9,    105.2, 2,    14.06, 2,    29.47, 2,     0.00, 2,     1.92, 2, -999.000, 9, -999.000, 9,   2197.5, 2,   -999.0, 9,   -999.0, 9,   9.4138,   -999.0, 9, -999.000, 9
318MHYDROS4, A16C, 351, 1, 9, 9, 2, 19890402, 1826, -10.4000, -24.9933, 5200,  -999.00,    416.6,   7.7504,  34.6683, 2,  34.6688, 2,   -999.0, 9,    121.0, 2,    17.95, 2,    31.68, 2,     0.00, 2,     2.07, 2, -999.000, 9, -999.000, 9,   2197.9, 2,   -999.0, 9,   -999.0, 9,   7.7086,   -999.0, 9, -999.000, 9
318MHYDROS4, A16C, 351, 1, 10, 10, 2, 19890402, 1826, -10.4000, -24.9933, 5200,  -999.00,    518.0,   6.5129,  34.5504, 2,  34.5511, 2,   -999.0, 9,    134.5, 2,    21.67, 2,    33.37, 2,     0.00, 2,     2.19, 2, -999.000, 9, -999.000, 9,   2202.9, 2,   -999.0, 9,   -999.0, 9,   6.4655,   -999.0, 9, -999.000, 9
318MHYDROS4, A16C, 351, 1, 11, 11, 2, 19890402, 1826, -10.4000, -24.9933, 5200,  -999.00,    620.2,   5.5343,  34.4811, 2,  34.4850, 2,   -999.0, 9,    144.6, 2,    25.92, 2,    34.35, 2,     0.00, 2,     2.28, 2, -999.000, 9, -999.000, 9,   2211.6, 2,   -999.0, 9,   -999.0, 9,   5.4818,   -999.0, 9, -999.000, 9
318MHYDROS4, A16C, 351, 1, 12, 12, 2, 19890402, 1826, -10.4000, -24.9933, 5200,  -999.00,    722.2,   4.8877,  34.4586, 2,  34.4589, 2,   -999.0, 9,    149.6, 2,    29.81, 2,    35.02, 2,     0.00, 2,     2.35, 2, -999.000, 9, -999.000, 9,   2209.4, 2,   -999.0, 9,   -999.0, 9,   4.8296,   -999.0, 9, -999.000, 9
318MHYDROS4, A16C, 351, 1, 13, 13, 2, 19890402, 1826, -10.4000, -24.9933, 5200,  -999.00,    824.1,   4.4393,  34.4746, 2,  34.4731, 2,   -999.0, 9,    151.8, 2,    33.34, 2,    35.29, 2,     0.00, 2,     2.38, 2, -999.000, 9, -999.000, 9,   2216.7, 2,   -999.0, 9,   -999.0, 9,   4.3753,   -999.0, 9, -999.000, 9
318MHYDROS4, A16C, 351, 1, 14, 14, 2, 19890402, 1826, -10.4000, -24.9933, 5200,  -999.00,    926.4,   4.1139,  34.5058, 2,  34.5045, 2,   -999.0, 9,    161.4, 2,    35.80, 2,    34.36, 2,     0.00, 2,     2.33, 2, -999.000, 9, -999.000, 9,   2208.0, 2,   -999.0, 9,   -999.0, 9,   4.0435,   -999.0, 9, -999.000, 9
318MHYDROS4, A16C, 351, 1, 15, 15, 2, 19890402, 1826, -10.4000, -24.9933, 5200,  -999.00,   1029.0,   4.0045,  34.5667, 2,  34.5645, 2,   -999.0, 9,    166.5, 2,    35.96, 2,    33.22, 2,     0.00, 2,     2.26, 2, -999.000, 9, -999.000, 9,   2190.2, 2,   -999.0, 9,   -999.0, 9,   3.9263,   -999.0, 9, -999.000, 9
318MHYDROS4, A16C, 351, 1, 16, 16, 2, 19890402, 1826, -10.4000, -24.9933, 5200,  -999.00,   1234.8,   4.1617,  34.7730, 2,  34.7715, 2,   -999.0, 9,    186.9, 2,    29.37, 2,    28.57, 2,     0.00, 2,     1.93, 2, -999.000, 9, -999.000, 9,   -999.0, 9,   -999.0, 9,   -999.0, 9,   4.0640,   -999.0, 9, -999.000, 9
318MHYDROS4, A16C, 351, 1, 17, 17, 2, 19890402, 1826, -10.4000, -24.9933, 5200,  -999.00,   1440.5,   4.1583,  34.9081, 2,  34.9080, 2,   -999.0, 9,    216.6, 2,    22.61, 2,    23.78, 2,     0.00, 2,     1.60, 2, -999.000, 9, -999.000, 9,   -999.0, 9,   -999.0, 9,   -999.0, 9,   4.0419,   -999.0, 9, -999.000, 9
318MHYDROS4, A16C, 351, 1, 18, 18, 2, 19890402, 1826, -10.4000, -24.9933, 5200,  -999.00,   1646.0,   3.8765,  34.9581, 2,  34.9586, 2,   -999.0, 9,    240.9, 2,    19.58, 2,    20.72, 2,     0.00, 2,     1.39, 2, -999.000, 9, -999.000, 9,   -999.0, 9,   -999.0, 9,   -999.0, 9,   3.7444,   -999.0, 9, -999.000, 9
318MHYDROS4, A16C, 351, 1, 19, 19, 2, 19890402, 1826, -10.4000, -24.9933, 5200,  -999.00,   1851.6,   3.5843,  34.9597, 2,  34.9598, 2,   -999.0, 9,    249.4, 2,    20.81, 2,    20.10, 2,     0.00, 2,     1.34, 2, -999.000, 9, -999.000, 9,   -999.0, 9,   -999.0, 9,   -999.0, 9,   3.4370,   -999.0, 9, -999.000, 9
318MHYDROS4, A16C, 351, 1, 20, 20, 2, 19890402, 1826, -10.4000, -24.9933, 5200,  -999.00,   2058.2,   3.2883,  34.9453, 2,  34.9448, 2,   -999.0, 9,    249.9, 2,    25.04, 2,    20.37, 2,     0.00, 2,     1.36, 2, -999.000, 9, -999.000, 9,   -999.0, 9,   -999.0, 9,   -999.0, 9,   3.1260,   -999.0, 9, -999.000, 9
318MHYDROS4, A16C, 351, 1, 21, 21, 2, 19890402, 1826, -10.4000, -24.9933, 5200,  -999.00,   2264.7,   3.1186,  34.9352, 2,  34.9360, 2,   -999.0, 9,    250.0, 2,    28.21, 2,    20.64, 2,     0.00, 2,     1.39, 2, -999.000, 9, -999.000, 9,   -999.0, 9,   -999.0, 9,   -999.0, 9,   2.9394,   -999.0, 9, -999.000, 9
318MHYDROS4, A16C, 351, 1, 22, 22, 2, 19890402, 1826, -10.4000, -24.9933, 5200,  -999.00,   2470.2,   2.9569,  34.9260, 2,  34.9257, 2,   -999.0, 9,    248.4, 2,    31.73, 2,    21.00, 2,     0.00, 2,     1.42, 2, -999.000, 9, -999.000, 9,   -999.0, 9,   -999.0, 9,   -999.0, 9,   2.7608,   -999.0, 9, -999.000, 9
318MHYDROS4, A16C, 351, 1, 23, 23, 2, 19890402, 1826, -10.4000, -24.9933, 5200,  -999.00,   2676.8,   2.8533,  34.9178, 2,  34.9174, 2,   -999.0, 9,    247.7, 2,    34.55, 2,    21.27, 2,     0.00, 2,     1.44, 2, -999.000, 9, -999.000, 9,   -999.0, 9,   -999.0, 9,   -999.0, 9,   2.6388,   -999.0, 9, -999.000, 9
318MHYDROS4, A16C, 351, 1, 24, 24, 2, 19890402, 1826, -10.4000, -24.9933, 5200,  -999.00,   2882.8,   2.7537,  34.9120, 2,  34.9121, 2,   -999.0, 9,    248.0, 2,    36.30, 2,    21.53, 2,     0.00, 2,     1.45, 2, -999.000, 9, -999.000, 9,   -999.0, 9,   -999.0, 9,   -999.0, 9,   2.5204,   -999.0, 9, -999.000, 9
318MHYDROS4, A16C, 351, 1, 25, 25, 2, 19890402, 1826, -10.4000, -24.9933, 5200,  -999.00,   3090.5,   2.6911,  34.9151, 2,  34.9172, 2,   -999.0, 9,    252.0, 2,    34.86, 2,    21.00, 2,     0.00, 2,     1.41, 2, -999.000, 9, -999.000, 9,   -999.0, 9,   -999.0, 9,   -999.0, 9,   2.4377,   -999.0, 9, -999.000, 9
318MHYDROS4, A16C, 351, 1, 26, 26, 2, 19890402, 1826, -10.4000, -24.9933, 5200,  -999.00,   3297.9,   2.6257,  34.9131, 2,  34.9125, 2,   -999.0, 9,    254.4, 2,    34.49, 2,    20.61, 2,     0.00, 2,     1.39, 2, -999.000, 9, -999.000, 9,   -999.0, 9,   -999.0, 9,   -999.0, 9,   2.3520,   -999.0, 9, -999.000, 9
318MHYDROS4, A16C, 351, 1, 27, 27, 2, 19890402, 1826, -10.4000, -24.9933, 5200,  -999.00,   3505.6,   2.5450,  34.9077, 2,  34.9092, 2,   -999.0, 9,    255.5, 2,    35.35, 2,    20.61, 2,     0.00, 2,     1.39, 2, -999.000, 9, -999.000, 9,   -999.0, 9,   -999.0, 9,   -999.0, 9,   2.2509,   -999.0, 9, -999.000, 9
318MHYDROS4, A16C, 351, 1, 28, 28, 2, 19890402, 1826, -10.4000, -24.9933, 5200,  -999.00,   3714.0,   2.3870,  34.8938, 2,  34.8944, 2,   -999.0, 9,    256.2, 2,    39.75, 2,    20.97, 2,     0.00, 2,     1.43, 2, -999.000, 9, -999.000, 9,   -999.0, 9,   -999.0, 9,   -999.0, 9,   2.0741,   -999.0, 9, -999.000, 9
318MHYDROS4, A16C, 351, 1, 29, 29, 2, 19890402, 1826, -10.4000, -24.9933, 5200,  -999.00,   3921.6,   2.0876,  34.8613, 2,  34.8613, 2,   -999.0, 9,    250.4, 2,    52.64, 2,    22.75, 2,     0.00, 2,     1.56, 2, -999.000, 9, -999.000, 9,   -999.0, 9,   -999.0, 9,   -999.0, 9,   1.7598,   -999.0, 9, -999.000, 9
318MHYDROS4, A16C, 351, 1, 30, 30, 2, 19890402, 1826, -10.4000, -24.9933, 5200,  -999.00,   4130.1,   1.6720,  34.8158, 2,  34.8146, 2,   -999.0, 9,    240.9, 2,    71.87, 2,    25.55, 2,     0.00, 2,     1.76, 2, -999.000, 9, -999.000, 9,   -999.0, 9,   -999.0, 9,   -999.0, 9,   1.3330,   -999.0, 9, -999.000, 9
318MHYDROS4, A16C, 351, 1, 31, 31, 2, 19890402, 1826, -10.4000, -24.9933, 5200,  -999.00,   4338.2,   1.2430,  34.7706, 2,  34.7715, 2,   -999.0, 9,    233.5, 2,    88.45, 2,    27.82, 2,     0.00, 2,     1.93, 2, -999.000, 9, -999.000, 9,   -999.0, 9,   -999.0, 9,   -999.0, 9,   0.8937,   -999.0, 9, -999.000, 9
318MHYDROS4, A16C, 351, 1, 32, 32, 2, 19890402, 1826, -10.4000, -24.9933, 5200,  -999.00,   4547.0,   0.9392,  34.7390, 2,  34.7382, 2,   -999.0, 9,    228.7, 2,   101.49, 2,    29.55, 2,     0.00, 2,     2.06, 2, -999.000, 9, -999.000, 9,   -999.0, 9,   -999.0, 9,   -999.0, 9,   0.5761,   -999.0, 9, -999.000, 9
318MHYDROS4, A16C, 351, 1, 33, 33, 2, 19890402, 1826, -10.4000, -24.9933, 5200,  -999.00,   4755.4,   0.8506,  34.7282, 2,  34.7258, 2,   -999.0, 9,    227.0, 2,   105.34, 2,    30.27, 2,     0.00, 2,     2.10, 2, -999.000, 9, -999.000, 9,   -999.0, 9,   -999.0, 9,   -999.0, 9,   0.4666,   -999.0, 9, -999.000, 9
318MHYDROS4, A16C, 351, 1, 34, 34, 2, 19890402, 1826, -10.4000, -24.9933, 5200,  -999.00,   4964.7,   0.7666,  34.7177, 2,  34.7166, 2,   -999.0, 9,    225.5, 2,   108.84, 2,    30.76, 2,     0.00, 2,     2.13, 2, -999.000, 9, -999.000, 9,   -999.0, 9,   -999.0, 9,   -999.0, 9,   0.3612,   -999.0, 9, -999.000, 9
318MHYDROS4, A16C, 351, 1, 35, 35, 2, 19890402, 1826, -10.4000, -24.9933, 5200,  -999.00,   5173.6,   0.7309,  34.7116, 2,  34.7103, 2,   -999.0, 9,    224.5, 2,   111.27, 2,    30.76, 2,     0.00, 2,     2.16, 2, -999.000, 9, -999.000, 9,   -999.0, 9,   -999.0, 9,   -999.0, 9,   0.3021,   5170.1, 2,    0.722, 2
318MHYDROS4, A16C, 351, 1, 36, 36, 2, 19890402, 1826, -10.4000, -24.9933, 5200,  -999.00,   5331.5,   0.7310,  34.7096, 2,  34.7077, 2,   -999.0, 9,    223.9, 2,   112.29, 2,    31.03, 2,     0.00, 2,     2.17, 2, -999.000, 9, -999.000, 9,   -999.0, 9,   -999.0, 9,   -999.0, 9,   0.2831,   -999.0, 9, -999.000, 9