BOTTLE,20110318CCHDOSIODM
EXPOCODE,SECT_ID,STNNBR,CASTNO,SAMPNO,BTLNBR,BTLNBR_FLAG_W,DATE,TIME,LATITUDE,LONGITUDE,DEPTH,CTDRAW,CTDPRS,CTDTMP,CTDSAL,CTDSAL_FLAG_W,SALNTY,SALNTY_FLAG_W,CTDOXY,CTDOXY_FLAG_W,OXYGEN,OXYGEN_FLAG_W,SILCAT,SILCAT_FLAG_W,NITRAT,NITRAT_FLAG_W,NITRIT,NITRIT_FLAG_W,PHSPHT,PHSPHT_FLAG_W,CFC-11,CFC-11_FLAG_W,CFC-12,CFC-12_FLAG_W,TCARBN,TCARBN_FLAG_W,ALKALI,ALKALI_FLAG_W,PCO2,PCO2_FLAG_W,THETA,REVPRS,REVPRS_FLAG_W,REVTMP,REVTMP_FLAG_W
,,,,,,,,,,,METERS,DBAR,DBAR,ITS-90,PSS-78,,PSS-78,,UMOL/KG,,UMOL/KG,,UMOL/KG,,UMOL/KG,,UMOL/KG,,UMOL/KG,,PMOL/KG,,PMOL/KG,,UMOL/KG,,UMOL/KG,,UATM,,DEG C,DBAR,,ITS-90,
318MHYDROS4, A16C, 321, 1, 1, 1, 2, 19890323, 1655, -27.9000, -25.0467, 5288,  -999.00,      2.1,  24.9594,  36.3052, 2,  36.3070, 2,   -999.0, 9,    209.1, 2,     1.37, 2,     0.00, 2,     0.00, 2,     0.10, 2,    1.676, 2,    0.875, 2,   2031.6, 2,   2375.5, 2,    299.0, 2,  24.9589,   -999.0, 9, -999.000, 9
318MHYDROS4, A16C, 321, 1, 2, 2, 2, 19890323, 1655, -27.9000, -25.0467, 5288,  -999.00,     37.1,  24.5648,  36.3031, 2,  36.3110, 2,   -999.0, 9,    214.4, 2,     1.37, 2,     0.00, 2,     0.00, 2,     0.08, 2, -999.000, 9, -999.000, 9,   2031.2, 2,   -999.0, 9,   -999.0, 9,  24.5568,   -999.0, 9, -999.000, 9
318MHYDROS4, A16C, 321, 1, 3, 3, 2, 19890323, 1655, -27.9000, -25.0467, 5288,  -999.00,     67.9,  20.8162,  36.3424, 2,  36.3460, 2,   -999.0, 9,    231.3, 2,     1.27, 2,     0.00, 2,     0.00, 2,     0.13, 2, -999.000, 9, -999.000, 9,   -999.0, 9,   -999.0, 9,   -999.0, 9,  20.8032,   -999.0, 9, -999.000, 9
318MHYDROS4, A16C, 321, 1, 71, 71, 2, 19890323, 1655, -27.9000, -25.0467, 5288,  -999.00,    108.9,  18.7724,  35.9832, 2,  35.9830, 2,   -999.0, 9,    230.4, 2,     1.46, 2,     0.00, 2,     0.01, 2,     0.16, 2,    2.092, 2,    1.067, 2,   2050.1, 2,   -999.0, 9,   -999.0, 9,  18.7531,   -999.0, 9, -999.000, 9
318MHYDROS4, A16C, 321, 1, 5, 5, 2, 19890323, 1655, -27.9000, -25.0467, 5288,  -999.00,    159.9,  17.2963,  35.7864, 2,  35.7770, 2,   -999.0, 9,    225.8, 2,     1.46, 2,     0.39, 2,     0.01, 2,     0.21, 2, -999.000, 9, -999.000, 9,   -999.0, 9,   -999.0, 9,   -999.0, 9,  17.2695,   -999.0, 9, -999.000, 9
318MHYDROS4, A16C, 321, 1, 6, 6, 2, 19890323, 1655, -27.9000, -25.0467, 5288,  -999.00,    211.0,  15.9514,  35.5593, 2,  35.5560, 2,   -999.0, 9,    218.0, 2,     2.05, 2,     2.64, 2,     0.01, 2,     0.35, 2,    2.135, 2,    1.080, 2,   2063.7, 2,   -999.0, 9,   -999.0, 9,  15.9179,   -999.0, 9, -999.000, 9
318MHYDROS4, A16C, 321, 1, 7, 7, 2, 19890323, 1655, -27.9000, -25.0467, 5288,  -999.00,    312.5,  14.0818,  35.3142, 2,  35.3120, 2,   -999.0, 9,    211.3, 2,     3.13, 2,     7.13, 2,     0.00, 2,     0.62, 2, -999.000, 9, -999.000, 9,   -999.0, 9,   -999.0, 9,   -999.0, 9,  14.0361,   -999.0, 9, -999.000, 9
318MHYDROS4, A16C, 321, 1, 8, 8, 2, 19890323, 1655, -27.9000, -25.0467, 5288,  -999.00,    415.0,  12.5194,  35.1291, 2,  35.1280, 2,   -999.0, 9,    208.4, 2,     4.49, 2,    10.85, 2,     0.00, 2,     0.83, 2,    1.751, 2,    0.886, 2,   2065.2, 3,   -999.0, 9,   -999.0, 9,  12.4632,   -999.0, 9, -999.000, 9
318MHYDROS4, A16C, 321, 1, 9, 9, 2, 19890323, 1655, -27.9000, -25.0467, 5288,  -999.00,    517.1,  10.3149,  34.8452, 2,  34.8450, 2,   -999.0, 9,    204.6, 2,     7.23, 2,    16.61, 2,     0.00, 2,     1.18, 2, -999.000, 9, -999.000, 9,   2068.6, 3,   -999.0, 9,   -999.0, 9,  10.2528,   -999.0, 9, -999.000, 9
318MHYDROS4, A16C, 321, 1, 10, 10, 2, 19890323, 1655, -27.9000, -25.0467, 5288,  -999.00,    619.2,   8.1307,  34.5894, 2,  34.5910, 2,   -999.0, 9,    207.6, 2,    10.85, 2,    21.99, 2,     0.00, 2,     1.52, 2,    1.337, 2,    0.665, 2,   2099.1, 3,   -999.0, 9,   -999.0, 9,   8.0661,   -999.0, 9, -999.000, 9
318MHYDROS4, A16C, 321, 1, 11, 11, 2, 19890323, 1655, -27.9000, -25.0467, 5288,  -999.00,    721.4,   6.1696,  34.4159, 2,  34.4200, 2,   -999.0, 9,    211.9, 2,    16.62, 2,    26.30, 2,     0.00, 2,     1.81, 2,    1.048, 2,    0.524, 2,   2136.0, 2,   -999.0, 9,   -999.0, 9,   6.1047,   -999.0, 9, -999.000, 9
318MHYDROS4, A16C, 321, 1, 12, 12, 2, 19890323, 1655, -27.9000, -25.0467, 5288,  -999.00,    823.7,   4.8633,  34.3253, 2,  34.3260, 2,   -999.0, 9,    219.6, 2,    22.39, 2,    28.74, 2,     0.00, 2,     1.97, 2,    0.878, 2,    0.446, 2,   2132.3, 2,   -999.0, 9,   -999.0, 9,   4.7968,   -999.0, 9, -999.000, 9
318MHYDROS4, A16C, 321, 1, 13, 13, 2, 19890323, 1655, -27.9000, -25.0467, 5288,  -999.00,    926.4,   4.0272,  34.3144, 2,  34.3140, 2,   -999.0, 9,    215.8, 2,    30.21, 2,    30.60, 2,     0.00, 2,     2.09, 2,    0.614, 2,    0.308, 2,   2154.0, 2,   -999.0, 9,   -999.0, 9,   3.9577,   -999.0, 9, -999.000, 9
318MHYDROS4, A16C, 321, 1, 14, 14, 2, 19890323, 1655, -27.9000, -25.0467, 5288,  -999.00,   1028.6,   3.5783,  34.3375, 2,  34.3350, 2,   -999.0, 9,    209.4, 2,    37.35, 2,    31.68, 2,     0.00, 2,     2.19, 2,    0.411, 2,    0.213, 2,   2161.3, 2,   -999.0, 9,   -999.0, 9,   3.5038,   -999.0, 9, -999.000, 9
318MHYDROS4, A16C, 321, 1, 15, 15, 2, 19890323, 1655, -27.9000, -25.0467, 5288,  -999.00,   1131.8,   3.2021,  34.3930, 2,  34.3910, 2,   -999.0, 9,    199.8, 2,    46.14, 2,    32.65, 2,     0.00, 2,     2.25, 2,    0.227, 2,    0.124, 2,   -999.0, 9,   -999.0, 9,   -999.0, 9,   3.1226,   -999.0, 9, -999.000, 9
318MHYDROS4, A16C, 321, 1, 16, 16, 2, 19890323, 1655, -27.9000, -25.0467, 5288,  -999.00,   1337.4,   3.0317,  34.5397, 2,  34.5390, 2,   -999.0, 9,    187.2, 2,    54.94, 2,    32.36, 2,     0.00, 2,     2.23, 2, -999.000, 9, -999.000, 9,   2210.4, 2,   -999.0, 9,   -999.0, 9,   2.9370,   -999.0, 9, -999.000, 9
318MHYDROS4, A16C, 321, 1, 17, 17, 2, 19890323, 1655, -27.9000, -25.0467, 5288,  -999.00,   1543.0,   2.9188,  34.6685, 2, -999.0000, 9,   -999.0, 9,    193.3, 2,    55.71, 2,    30.30, 2,     0.00, 2,     2.09, 2, -999.000, 9, -999.000, 9,   2221.7, 2,   -999.0, 9,   -999.0, 9,   2.8081,   -999.0, 9, -999.000, 9
318MHYDROS4, A16C, 321, 1, 18, 18, 2, 19890323, 1655, -27.9000, -25.0467, 5288,  -999.00,   1749.0,   2.8435,  34.7552, 2,  34.7560, 2,   -999.0, 9,    208.1, 2,    52.09, 2,    27.76, 2,     0.00, 2,     1.91, 2, -999.000, 9, -999.000, 9,   2217.0, 2,   -999.0, 9,   -999.0, 9,   2.7160,   -999.0, 9, -999.000, 9
318MHYDROS4, A16C, 321, 1, 19, 19, 2, 19890323, 1655, -27.9000, -25.0467, 5288,  -999.00,   1955.7,   2.8390,  34.8211, 2,  34.8220, 2,   -999.0, 9,    223.4, 2,    46.13, 2,    25.31, 2,     0.00, 2,     1.73, 2, -999.000, 9, -999.000, 9,   -999.0, 9,   -999.0, 9,   -999.0, 9,   2.6933,   -999.0, 9, -999.000, 9
318MHYDROS4, A16C, 321, 1, 20, 20, 2, 19890323, 1655, -27.9000, -25.0467, 5288,  -999.00,   2161.8,   2.8236,  34.8586, 2,  34.8590, 2,   -999.0, 9,    234.1, 2,    41.93, 2,    23.65, 2,     0.00, 2,     1.60, 2, -999.000, 9, -999.000, 9,   2199.4, 2,   -999.0, 9,   -999.0, 9,   2.6592,   -999.0, 9, -999.000, 9
318MHYDROS4, A16C, 321, 1, 21, 21, 2, 19890323, 1655, -27.9000, -25.0467, 5288,  -999.00,   2368.6,   2.8605,  34.8918, 2,  34.8910, 2,   -999.0, 9,    242.5, 2,    36.55, 2,    22.18, 2,     0.00, 2,     1.50, 2, -999.000, 9, -999.000, 9,   -999.0, 9,   -999.0, 9,   -999.0, 9,   2.6760,   -999.0, 9, -999.000, 9
318MHYDROS4, A16C, 321, 1, 22, 22, 2, 19890323, 1655, -27.9000, -25.0467, 5288,  -999.00,   2575.0,   2.8415,  34.9065, 2,  34.9070, 2,   -999.0, 9,    248.4, 2,    34.50, 2,    21.40, 2,     0.00, 2,  -999.00, 9, -999.000, 9, -999.000, 9,   2178.5, 2,   -999.0, 9,   -999.0, 9,   2.6373,   -999.0, 9, -999.000, 9
318MHYDROS4, A16C, 321, 1, 23, 23, 2, 19890323, 1655, -27.9000, -25.0467, 5288,  -999.00,   2781.9,   2.7721,  34.9109, 2,  34.9110, 2,   -999.0, 9,    250.1, 2,    34.89, 2,    21.01, 2,     0.00, 2,     1.43, 2, -999.000, 9, -999.000, 9,   -999.0, 9,   -999.0, 9,   -999.0, 9,   2.5486,   -999.0, 9, -999.000, 9
318MHYDROS4, A16C, 321, 1, 24, 24, 2, 19890323, 1655, -27.9000, -25.0467, 5288,  -999.00,   2989.1,   2.6803,  34.9093, 2,  34.9090, 2,   -999.0, 9,    251.2, 2,    35.87, 2,    21.01, 2,     0.00, 2,     1.42, 2, -999.000, 9, -999.000, 9,   2171.2, 2,   -999.0, 9,   -999.0, 9,   2.4377,   -999.0, 9, -999.000, 9
318MHYDROS4, A16C, 321, 1, 25, 25, 2, 19890323, 1655, -27.9000, -25.0467, 5288,  -999.00,   3196.6,   2.5550,  34.9006, 2, -999.0000, 9,   -999.0, 9,    251.3, 2,    38.11, 2,    21.21, 2,     0.00, 2,     1.44, 2, -999.000, 9, -999.000, 9,   2173.6, 2,   -999.0, 9,   -999.0, 9,   2.2937,   -999.0, 9, -999.000, 9
318MHYDROS4, A16C, 321, 1, 26, 26, 2, 19890323, 1655, -27.9000, -25.0467, 5288,  -999.00,   3403.4,   2.3807,  34.8857, 2,  34.8860, 2,   -999.0, 9,    250.7, 2,    45.44, 2,    21.99, 2,     0.00, 2,     1.50, 2, -999.000, 9, -999.000, 9,   2180.6, 2,   -999.0, 9,   -999.0, 9,   2.1017,   -999.0, 9, -999.000, 9
318MHYDROS4, A16C, 321, 1, 27, 27, 2, 19890323, 1655, -27.9000, -25.0467, 5288,  -999.00,   3610.8,   2.1206,  34.8596, 2,  34.8600, 2,   -999.0, 9,    246.7, 2,    55.80, 2,    23.36, 2,     0.00, 2,     1.59, 2, -999.000, 9, -999.000, 9,   -999.0, 9,   -999.0, 9,   -999.0, 9,   1.8261,   -999.0, 9, -999.000, 9
318MHYDROS4, A16C, 321, 1, 28, 28, 2, 19890323, 1655, -27.9000, -25.0467, 5288,  -999.00,   3817.9,   1.8382,  34.8294, 2,  34.8310, 2,   -999.0, 9,    241.8, 2,    67.04, 2,    24.92, 2,     0.00, 2,     1.71, 2, -999.000, 9, -999.000, 9,   2190.2, 2,   -999.0, 9,   -999.0, 9,   1.5288,   -999.0, 9, -999.000, 9
318MHYDROS4, A16C, 321, 1, 29, 29, 2, 19890323, 1655, -27.9000, -25.0467, 5288,  -999.00,   4025.7,   1.5632,  34.7993, 2,  34.8000, 2,   -999.0, 9,    236.4, 2,    78.38, 2,    26.49, 2,     0.00, 2,     1.82, 2, -999.000, 9, -999.000, 9,   -999.0, 9,   -999.0, 9,   -999.0, 9,   1.2390,   -999.0, 9, -999.000, 9
318MHYDROS4, A16C, 321, 1, 30, 30, 2, 19890323, 1655, -27.9000, -25.0467, 5288,  -999.00,   4233.0,   1.3656,  34.7768, 2,  34.7770, 2,   -999.0, 9,    232.0, 2,    87.57, 2,    27.76, 2,     0.00, 2,     1.91, 2, -999.000, 9, -999.000, 9,   2214.5, 2,   -999.0, 9,   -999.0, 9,   1.0243,   -999.0, 9, -999.000, 9
318MHYDROS4, A16C, 321, 1, 31, 31, 2, 19890323, 1655, -27.9000, -25.0467, 5288,  -999.00,   4440.0,   1.2819,  34.7674, 2,  34.7670, 2,   -999.0, 9,    230.7, 2,    90.60, 2,    28.15, 2,     0.00, 2,     1.94, 2, -999.000, 9, -999.000, 9,   -999.0, 9,   -999.0, 9,   -999.0, 9,   0.9200,   -999.0, 9, -999.000, 9
318MHYDROS4, A16C, 321, 1, 32, 32, 2, 19890323, 1655, -27.9000, -25.0467, 5288,  -999.00,   4647.5,   1.2439,  34.7614, 2,  34.7610, 2,   -999.0, 9,    229.7, 2,    93.14, 2,    28.44, 2,     0.00, 2,     1.95, 2, -999.000, 9, -999.000, 9,   2227.6, 2,   -999.0, 9,   -999.0, 9,   0.8594,   -999.0, 9, -999.000, 9
318MHYDROS4, A16C, 321, 1, 33, 33, 2, 19890323, 1655, -27.9000, -25.0467, 5288,  -999.00,   4854.6,   1.2221,  34.7575, 2,  34.7570, 2,   -999.0, 9,    229.1, 2,    95.00, 2,    28.83, 2,     0.00, 2,     1.99, 2, -999.000, 9, -999.000, 9,   -999.0, 9,   -999.0, 9,   -999.0, 9,   0.8141,   -999.0, 9, -999.000, 9
318MHYDROS4, A16C, 321, 1, 34, 34, 2, 19890323, 1655, -27.9000, -25.0467, 5288,  -999.00,   5063.0,   1.2007,  34.7531, 2,  34.7520, 2,   -999.0, 9,    229.5, 2,    97.93, 2,    28.93, 2,     0.00, 2,     2.01, 2, -999.000, 9, -999.000, 9,   2232.5, 2,   -999.0, 9,   -999.0, 9,   0.7685,   -999.0, 9, -999.000, 9
318MHYDROS4, A16C, 321, 1, 35, 35, 2, 19890323, 1655, -27.9000, -25.0467, 5288,  -999.00,   5270.4,   1.1601,  34.7477, 2,  34.7470, 2,   -999.0, 9,    228.8, 2,    99.99, 2,    29.32, 2,     0.00, 2,     2.04, 2,    0.004, 2,    0.004, 2,   -999.0, 9,   -999.0, 9,   -999.0, 9,   0.7041,   5271.4, 2,    1.154, 2
318MHYDROS4, A16C, 321, 1, 36, 36, 2, 19890323, 1655, -27.9000, -25.0467, 5288,  -999.00,   5422.9,   1.1352,  34.7444, 2,  34.7440, 2,   -999.0, 9,    229.1, 2,   101.55, 2,    29.42, 2,     0.00, 2,     2.04, 2,    0.003, 2,    0.005, 2,   2231.0, 2,   -999.0, 9,   -999.0, 9,   0.6611,   -999.0, 9, -999.000, 9