BOTTLE,20110318CCHDOSIODM
EXPOCODE,SECT_ID,STNNBR,CASTNO,SAMPNO,BTLNBR,BTLNBR_FLAG_W,DATE,TIME,LATITUDE,LONGITUDE,DEPTH,CTDRAW,CTDPRS,CTDTMP,CTDSAL,CTDSAL_FLAG_W,SALNTY,SALNTY_FLAG_W,CTDOXY,CTDOXY_FLAG_W,OXYGEN,OXYGEN_FLAG_W,SILCAT,SILCAT_FLAG_W,NITRAT,NITRAT_FLAG_W,NITRIT,NITRIT_FLAG_W,PHSPHT,PHSPHT_FLAG_W,CFC-11,CFC-11_FLAG_W,CFC-12,CFC-12_FLAG_W,TCARBN,TCARBN_FLAG_W,ALKALI,ALKALI_FLAG_W,PCO2,PCO2_FLAG_W,THETA,REVPRS,REVPRS_FLAG_W,REVTMP,REVTMP_FLAG_W
,,,,,,,,,,,METERS,DBAR,DBAR,ITS-90,PSS-78,,PSS-78,,UMOL/KG,,UMOL/KG,,UMOL/KG,,UMOL/KG,,UMOL/KG,,UMOL/KG,,PMOL/KG,,PMOL/KG,,UMOL/KG,,UMOL/KG,,UATM,,DEG C,DBAR,,ITS-90,
318MHYDROS4, A16C, 323, 1, 2, 2, 2, 19890324, 0708, -26.7183, -25.0000, 4839,  -999.00,      4.2,  25.4577,  36.4343, 2,  36.4360, 2,   -999.0, 9,    208.8, 2,     1.27, 2,     0.00, 2,     0.00, 2,     0.05, 2,    1.600, 2,    0.848, 2,   -999.0, 9,   -999.0, 9,   -999.0, 9,  25.4568,   -999.0, 9, -999.000, 9
318MHYDROS4, A16C, 323, 1, 1, 1, 2, 19890324, 0708, -26.7183, -25.0000, 4839,  -999.00,      4.2,  25.4601,  36.4352, 2,  36.4360, 2,   -999.0, 9,   -999.0, 9,  -999.00, 9,  -999.00, 9,  -999.00, 9,  -999.00, 9, -999.000, 9, -999.000, 9,   2024.4, 2,   -999.0, 9,    291.2, 2,  25.4592,   -999.0, 9, -999.000, 9
318MHYDROS4, A16C, 323, 1, 3, 3, 2, 19890324, 0708, -26.7183, -25.0000, 4839,  -999.00,     30.3,  25.6986,  36.6626, 2,  36.6560, 2,   -999.0, 9,    211.1, 2,     1.27, 2,     0.00, 2,     0.00, 2,     0.03, 2, -999.000, 9, -999.000, 9,   2037.9, 2,   2400.0, 2,    284.5, 2,  25.6918,   -999.0, 9, -999.000, 9
318MHYDROS4, A16C, 323, 1, 71, 71, 2, 19890324, 0708, -26.7183, -25.0000, 4839,  -999.00,     61.0,  21.1934,  36.2688, 2,  36.3010, 2,   -999.0, 9,    234.2, 2,     1.46, 2,     0.00, 2,     0.00, 2,     0.10, 2,    1.977, 2,    1.031, 2,   2061.1, 2,   -999.0, 9,   -999.0, 9,  21.1816,   -999.0, 9, -999.000, 9
318MHYDROS4, A16C, 323, 1, 5, 5, 2, 19890324, 0708, -26.7183, -25.0000, 4839,  -999.00,     97.0,  19.9640,  36.2381, 2,  36.2300, 2,   -999.0, 9,    225.4, 2,     1.56, 2,     0.00, 2,     0.00, 2,     0.14, 2,    1.988, 2,    1.038, 2,   -999.0, 9,   -999.0, 9,   -999.0, 9,  19.9460,   -999.0, 9, -999.000, 9
318MHYDROS4, A16C, 323, 1, 6, 6, 2, 19890324, 0708, -26.7183, -25.0000, 4839,  -999.00,    148.1,  17.9004,  35.8675, 2,  35.8630, 2,   -999.0, 9,    221.9, 2,     1.76, 2,     0.20, 2,     0.07, 2,     0.21, 2, -999.000, 9, -999.000, 9,   2072.4, 2,   -999.0, 9,   -999.0, 9,  17.8750,   -999.0, 9, -999.000, 9
318MHYDROS4, A16C, 323, 1, 7, 7, 2, 19890324, 0708, -26.7183, -25.0000, 4839,  -999.00,    194.0,  16.4677,  35.6324, 2,  35.6260, 2,   -999.0, 9,    212.4, 2,     2.15, 2,     2.34, 2,     0.01, 2,     0.36, 2,    2.059, 2,    1.076, 2,   -999.0, 9,   -999.0, 9,   -999.0, 9,  16.4362,   -999.0, 9, -999.000, 9
318MHYDROS4, A16C, 323, 1, 8, 8, 2, 19890324, 0708, -26.7183, -25.0000, 4839,  -999.00,    244.8,  14.8361,  35.3995, 2,  35.3960, 2,   -999.0, 9,    212.7, 2,     2.74, 2,     5.18, 2,     0.00, 2,     0.51, 2, -999.000, 9, -999.000, 9,   2086.5, 2,   -999.0, 9,   -999.0, 9,  14.7991,   -999.0, 9, -999.000, 9
318MHYDROS4, A16C, 323, 1, 9, 9, 2, 19890324, 0708, -26.7183, -25.0000, 4839,  -999.00,    296.0,  13.8243,  35.2830, 2,  35.2810, 2,   -999.0, 9,    209.7, 2,     3.32, 2,     7.52, 2,     0.00, 2,     0.65, 2,    1.952, 2,    0.996, 2,   2108.8, 2,   -999.0, 9,   -999.0, 9,  13.7816,   -999.0, 9, -999.000, 9
318MHYDROS4, A16C, 323, 1, 10, 10, 2, 19890324, 0708, -26.7183, -25.0000, 4839,  -999.00,    398.3,  12.0316,  35.0558, 2,  35.0630, 2,   -999.0, 9,    204.5, 2,     4.98, 2,    12.02, 2,     0.00, 2,     0.92, 2,    1.658, 2,    0.837, 2,   2131.9, 2,   -999.0, 9,   -999.0, 9,  11.9791,   -999.0, 9, -999.000, 9
318MHYDROS4, A16C, 323, 1, 11, 11, 2, 19890324, 0708, -26.7183, -25.0000, 4839,  -999.00,    500.2,  10.0158,  34.8126, 2,  34.8150, 2,   -999.0, 9,    199.8, 2,     8.31, 2,    17.49, 2,     0.00, 2,     1.25, 2,    1.337, 2,    0.683, 2,   2149.3, 2,   -999.0, 9,   -999.0, 9,   9.9569,   -999.0, 9, -999.000, 9
318MHYDROS4, A16C, 323, 1, 12, 12, 2, 19890324, 0708, -26.7183, -25.0000, 4839,  -999.00,    602.5,   7.5141,  34.5427, 2,  34.5470, 2,   -999.0, 9,    202.9, 2,    13.10, 2,    23.46, 2,     0.00, 2,     1.63, 2,    1.073, 2,    0.536, 2,   2141.6, 2,   -999.0, 9,   -999.0, 9,   7.4541,   -999.0, 9, -999.000, 9
318MHYDROS4, A16C, 323, 1, 13, 13, 2, 19890324, 0708, -26.7183, -25.0000, 4839,  -999.00,    699.7,   5.7867,  34.3940, 2,  34.4010, 2,   -999.0, 9,    211.6, 2,    18.18, 2,    26.88, 2,     0.00, 2,     1.84, 2,    0.900, 2,    0.457, 2,   2171.6, 2,   -999.0, 9,   -999.0, 9,   5.7259,   -999.0, 9, -999.000, 9
318MHYDROS4, A16C, 323, 1, 14, 14, 2, 19890324, 0708, -26.7183, -25.0000, 4839,  -999.00,    801.6,   4.8149,  34.3427, 2,  34.3420, 2,   -999.0, 9,    212.8, 2,    23.95, 2,    28.94, 2,     0.00, 2,     1.98, 2,    0.666, 2,    0.346, 2,   2193.3, 2,   -999.0, 9,   -999.0, 9,   4.7506,   -999.0, 9, -999.000, 9
318MHYDROS4, A16C, 323, 1, 15, 15, 2, 19890324, 0708, -26.7183, -25.0000, 4839,  -999.00,    898.9,   3.9987,  34.3356, 2,  34.3330, 2,   -999.0, 9,    208.9, 2,    32.07, 2,    30.80, 2,     0.00, 2,     2.11, 2,    0.462, 2,    0.240, 2,   2204.9, 2,   -999.0, 9,   -999.0, 9,   3.9317,   -999.0, 9, -999.000, 9
318MHYDROS4, A16C, 323, 1, 16, 16, 2, 19890324, 0708, -26.7183, -25.0000, 4839,  -999.00,    996.2,   3.6407,  34.3787, 2,  34.3760, 2,   -999.0, 9,    197.8, 2,    39.79, 2,    32.07, 2,     0.00, 2,     2.20, 2,    0.244, 2,    0.145, 2,   2214.2, 2,   -999.0, 9,   -999.0, 9,   3.5683,   -999.0, 9, -999.000, 9
318MHYDROS4, A16C, 323, 1, 17, 17, 2, 19890324, 0708, -26.7183, -25.0000, 4839,  -999.00,   1191.4,   3.2233,  34.5062, 2,  34.5040, 2,   -999.0, 9,    185.6, 2,    50.25, 2,    32.36, 2,     0.00, 2,     2.24, 2,    0.053, 2,    0.030, 2,   2226.6, 2,   -999.0, 9,   -999.0, 9,   3.1386,   -999.0, 9, -999.000, 9
318MHYDROS4, A16C, 323, 1, 18, 18, 2, 19890324, 0708, -26.7183, -25.0000, 4839,  -999.00,   1392.1,   3.0479,  34.6316, 2,  34.6300, 2,   -999.0, 9,    189.7, 2,    52.78, 2,    30.59, 2,     0.00, 2,     2.09, 2,    0.011, 2,    0.008, 2,   2219.7, 2,   -999.0, 9,   -999.0, 9,   2.9483,   -999.0, 9, -999.000, 9
318MHYDROS4, A16C, 323, 1, 19, 19, 2, 19890324, 0708, -26.7183, -25.0000, 4839,  -999.00,   1593.1,   2.9745,  34.7221, 2,  34.7220, 2,   -999.0, 9,    201.9, 2,    50.04, 2,    28.34, 2,     0.00, 2,     1.94, 2,    0.004, 2,    0.002, 2,   2221.3, 2,   -999.0, 9,   -999.0, 9,   2.8588,   -999.0, 9, -999.000, 9
318MHYDROS4, A16C, 323, 1, 20, 20, 2, 19890324, 0708, -26.7183, -25.0000, 4839,  -999.00,   1793.9,   2.8827,  34.7905, 2,  34.7900, 2,   -999.0, 9,    215.5, 2,    47.40, 2,    26.19, 2,     0.00, 2,     1.79, 2, -999.000, 9, -999.000, 9,   2212.8, 2,   -999.0, 9,   -999.0, 9,   2.7507,   -999.0, 9, -999.000, 9
318MHYDROS4, A16C, 323, 1, 21, 21, 2, 19890324, 0708, -26.7183, -25.0000, 4839,  -999.00,   1994.9,   2.8673,  34.8501, 2,  34.8490, 2,   -999.0, 9,    230.1, 2,    41.73, 2,    23.94, 2,     0.00, 2,     1.61, 2, -999.000, 9, -999.000, 9,   2199.0, 2,   -999.0, 9,   -999.0, 9,   2.7175,   -999.0, 9, -999.000, 9
318MHYDROS4, A16C, 323, 1, 22, 22, 2, 19890324, 0708, -26.7183, -25.0000, 4839,  -999.00,   2196.3,   2.9076,  34.8948, 2,  34.8950, 2,   -999.0, 9,    242.7, 2,    35.57, 2,    21.99, 2,     0.00, 2,     1.49, 2, -999.000, 9, -999.000, 9,   2173.0, 2,   -999.0, 9,   -999.0, 9,   2.7385,   -999.0, 9, -999.000, 9
318MHYDROS4, A16C, 323, 1, 23, 23, 2, 19890324, 0708, -26.7183, -25.0000, 4839,  -999.00,   2397.7,   2.8975,  34.9142, 2,  34.9140, 2,   -999.0, 9,    248.1, 2,    32.84, 2,    21.01, 2,     0.00, 2,     1.42, 2, -999.000, 9, -999.000, 9,   2159.9, 2,   -999.0, 9,   -999.0, 9,   2.7094,   -999.0, 9, -999.000, 9
318MHYDROS4, A16C, 323, 1, 24, 24, 2, 19890324, 0708, -26.7183, -25.0000, 4839,  -999.00,   2594.1,   2.8490,  34.9184, 2,  34.9180, 2,   -999.0, 9,    250.3, 2,    32.64, 2,    20.82, 2,     0.00, 2,     1.40, 2, -999.000, 9, -999.000, 9,   2173.5, 2,   -999.0, 9,   -999.0, 9,   2.6427,   -999.0, 9, -999.000, 9
318MHYDROS4, A16C, 323, 1, 25, 25, 2, 19890324, 0708, -26.7183, -25.0000, 4839,  -999.00,   2796.1,   2.7792,  34.9191, 2,  34.9200, 2,   -999.0, 9,    251.8, 2,    33.42, 2,    20.52, 2,     0.00, 2,     1.39, 2, -999.000, 9, -999.000, 9,   2175.2, 2,   -999.0, 9,   -999.0, 9,   2.5541,   -999.0, 9, -999.000, 9
318MHYDROS4, A16C, 323, 1, 26, 26, 2, 19890324, 0708, -26.7183, -25.0000, 4839,  -999.00,   2998.0,   2.6785,  34.9145, 2,  34.9140, 2,   -999.0, 9,    253.0, 2,    34.59, 2,    20.42, 2,     0.00, 2,     1.39, 2, -999.000, 9, -999.000, 9,   2175.7, 2,   -999.0, 9,   -999.0, 9,   2.4350,   -999.0, 9, -999.000, 9
318MHYDROS4, A16C, 323, 1, 27, 27, 2, 19890324, 0708, -26.7183, -25.0000, 4839,  -999.00,   3195.1,   2.5628,  34.9065, 2,  34.9060, 2,   -999.0, 9,    253.4, 2,    37.14, 2,    20.82, 2,     0.00, 2,     1.40, 2, -999.000, 9, -999.000, 9,   2174.3, 2,   -999.0, 9,   -999.0, 9,   2.3014,   -999.0, 9, -999.000, 9
318MHYDROS4, A16C, 323, 1, 28, 28, 2, 19890324, 0708, -26.7183, -25.0000, 4839,  -999.00,   3402.7,   2.3953,  34.8915, 2,  34.8920, 2,   -999.0, 9,    252.1, 2,    42.51, 2,    21.30, 2,     0.00, 2,     1.45, 2, -999.000, 9, -999.000, 9,   2179.9, 2,   -999.0, 9,   -999.0, 9,   2.1160,   -999.0, 9, -999.000, 9
318MHYDROS4, A16C, 323, 1, 29, 29, 2, 19890324, 0708, -26.7183, -25.0000, 4839,  -999.00,   3605.0,   2.1769,  34.8688, 2,  34.8690, 2,   -999.0, 9,    248.5, 2,    51.31, 2,    22.67, 2,     0.00, 2,     1.53, 2, -999.000, 9, -999.000, 9,   2183.6, 2,   -999.0, 9,   -999.0, 9,   1.8815,   -999.0, 9, -999.000, 9
318MHYDROS4, A16C, 323, 1, 30, 30, 2, 19890324, 0708, -26.7183, -25.0000, 4839,  -999.00,   3801.9,   1.9500,  34.8444, 2,  34.8450, 2,   -999.0, 9,    244.5, 2,    60.79, 2,    23.94, 2,     0.00, 2,     1.62, 2, -999.000, 9, -999.000, 9,   -999.0, 9,   -999.0, 9,   -999.0, 9,   1.6393,   -999.0, 9, -999.000, 9
318MHYDROS4, A16C, 323, 1, 31, 31, 2, 19890324, 0708, -26.7183, -25.0000, 4839,  -999.00,   4004.2,   1.6878,  34.8158, 2,  34.8150, 2,   -999.0, 9,    240.0, 2,    71.74, 2,    25.61, 2,     0.00, 2,     1.74, 2, -999.000, 9, -999.000, 9,   2192.3, 2,   -999.0, 9,   -999.0, 9,   1.3623,   -999.0, 9, -999.000, 9
318MHYDROS4, A16C, 323, 1, 32, 32, 2, 19890324, 0708, -26.7183, -25.0000, 4839,  -999.00,   4201.5,   1.4309,  34.7888, 2, -999.0000, 9,   -999.0, 9,    235.7, 2,    82.88, 2,    27.07, 2,     0.00, 2,     1.85, 2, -999.000, 9, -999.000, 9,   -999.0, 9,   -999.0, 9,   -999.0, 9,   1.0911,   -999.0, 9, -999.000, 9
318MHYDROS4, A16C, 323, 1, 33, 33, 2, 19890324, 0708, -26.7183, -25.0000, 4839,  -999.00,   4398.7,   1.2111,  34.7658, 2,  34.7640, 2,   -999.0, 9,    232.2, 2,    92.95, 2,    28.34, 2,     0.00, 2,     1.94, 2, -999.000, 9, -999.000, 9,   2225.5, 2,   -999.0, 9,   -999.0, 9,   0.8560,   -999.0, 9, -999.000, 9
318MHYDROS4, A16C, 323, 1, 34, 34, 2, 19890324, 0708, -26.7183, -25.0000, 4839,  -999.00,   4601.6,   1.1264,  34.7549, 2,  34.7540, 2,   -999.0, 9,    230.7, 2,    97.83, 2,    28.83, 2,     0.00, 2,     1.96, 2, -999.000, 9, -999.000, 9,   -999.0, 9,   -999.0, 9,   -999.0, 9,   0.7510,   -999.0, 9, -999.000, 9
318MHYDROS4, A16C, 323, 1, 35, 35, 2, 19890324, 0708, -26.7183, -25.0000, 4839,  -999.00,   4751.9,   1.0697,  34.7476, 2,  34.7460, 2,   -999.0, 9,    229.4, 2,   100.18, 2,    29.22, 2,     0.00, 2,     2.00, 2,    0.002, 2, -999.000, 9,   2237.0, 2,   -999.0, 9,   -999.0, 9,   0.6788,   4750.3, 2,    1.063, 2
318MHYDROS4, A16C, 323, 1, 36, 36, 2, 19890324, 0708, -26.7183, -25.0000, 4839,  -999.00,   4948.5,   1.0154,  34.7406, 2,  34.7390, 2,   -999.0, 9,    228.8, 2,   102.62, 2,    29.52, 2,     0.00, 2,     2.02, 2,    0.001, 2, -999.000, 9,   2241.3, 2,   -999.0, 9,   -999.0, 9,   0.6033,   -999.0, 9, -999.000, 9