BOTTLE,20110318CCHDOSIODM
EXPOCODE,SECT_ID,STNNBR,CASTNO,SAMPNO,BTLNBR,BTLNBR_FLAG_W,DATE,TIME,LATITUDE,LONGITUDE,DEPTH,CTDRAW,CTDPRS,CTDTMP,CTDSAL,CTDSAL_FLAG_W,SALNTY,SALNTY_FLAG_W,CTDOXY,CTDOXY_FLAG_W,OXYGEN,OXYGEN_FLAG_W,SILCAT,SILCAT_FLAG_W,NITRAT,NITRAT_FLAG_W,NITRIT,NITRIT_FLAG_W,PHSPHT,PHSPHT_FLAG_W,CFC-11,CFC-11_FLAG_W,CFC-12,CFC-12_FLAG_W,TCARBN,TCARBN_FLAG_W,ALKALI,ALKALI_FLAG_W,PCO2,PCO2_FLAG_W,THETA,REVPRS,REVPRS_FLAG_W,REVTMP,REVTMP_FLAG_W
,,,,,,,,,,,METERS,DBAR,DBAR,ITS-90,PSS-78,,PSS-78,,UMOL/KG,,UMOL/KG,,UMOL/KG,,UMOL/KG,,UMOL/KG,,UMOL/KG,,PMOL/KG,,PMOL/KG,,UMOL/KG,,UMOL/KG,,UATM,,DEG C,DBAR,,ITS-90,
318MHYDROS4, A16C, 352, 1, 1, 1, 2, 19890403, 0133, -9.8233, -24.9983, 5830,  -999.00,      0.3,  28.2988,  36.6398, 2,  36.6420, 2,   -999.0, 9,    206.8, 2,     2.44, 2,     0.00, 2,     0.00, 2,     0.09, 2,    1.550, 2,    0.786, 2,   2026.8, 2,   2392.3, 2,    278.4, 2,  28.2988,   -999.0, 9, -999.000, 9
318MHYDROS4, A16C, 352, 1, 2, 2, 2, 19890403, 0133, -9.8233, -24.9983, 5830,  -999.00,     36.3,  28.2621,  36.6452, 2,  36.6500, 2,   -999.0, 9,    211.2, 2,     2.44, 2,     0.00, 2,     0.00, 2,     0.09, 2, -999.000, 9, -999.000, 9,   2029.9, 2,   2389.5, 2,    285.1, 2,  28.2535,   -999.0, 9, -999.000, 9
318MHYDROS4, A16C, 352, 1, 3, 3, 2, 19890403, 0133, -9.8233, -24.9983, 5830,  -999.00,     67.4,  25.7050,  36.8815, 2,  36.8790, 2,   -999.0, 9,    227.1, 2,     2.44, 2,     0.00, 2,     0.00, 2,     0.09, 2,    1.701, 2,    0.864, 2,   -999.0, 9,   -999.0, 9,   -999.0, 9,  25.6900,   -999.0, 9, -999.000, 9
318MHYDROS4, A16C, 352, 1, 71, 71, 2, 19890403, 0133, -9.8233, -24.9983, 5830,  -999.00,    103.7,  23.4607,  36.8714, 2,  36.8880, 2,   -999.0, 9,    222.2, 2,     2.44, 2,     0.00, 2,     0.00, 2,     0.18, 2,    1.765, 2,    0.899, 2,   2077.5, 2,   2426.2, 2,    311.2, 2,  23.4390,   -999.0, 9, -999.000, 9
318MHYDROS4, A16C, 352, 1, 5, 5, 2, 19890403, 0133, -9.8233, -24.9983, 5830,  -999.00,    134.9,  19.2648,  36.1547, 2,  36.1330, 2,   -999.0, 9,    164.1, 2,     3.51, 2,     6.44, 2,     0.16, 2,     0.66, 2, -999.000, 9, -999.000, 9,   -999.0, 9,   -999.0, 9,   -999.0, 9,  19.2403,   -999.0, 9, -999.000, 9
318MHYDROS4, A16C, 352, 1, 6, 6, 2, 19890403, 0133, -9.8233, -24.9983, 5830,  -999.00,    160.3,  15.3765,  35.5947, 2,  35.5720, 2,   -999.0, 9,    134.0, 2,     5.86, 2,    15.34, 2,     0.02, 2,     1.11, 2,    1.328, 2,    0.664, 2,   2145.9, 2,   2336.7, 2,    619.7, 2,  15.3517,   -999.0, 9, -999.000, 9
318MHYDROS4, A16C, 352, 1, 7, 7, 2, 19890403, 0133, -9.8233, -24.9983, 5830,  -999.00,    185.8,  13.2742,  35.3319, 2,  35.3340, 2,   -999.0, 9,    102.7, 2,     8.50, 2,    22.18, 2,     0.01, 2,     1.49, 2, -999.000, 9, -999.000, 9,   -999.0, 9,   -999.0, 9,   -999.0, 9,  13.2482,   -999.0, 9, -999.000, 9
318MHYDROS4, A16C, 352, 1, 8, 8, 2, 19890403, 0133, -9.8233, -24.9983, 5830,  -999.00,    211.5,  11.6849,  35.1343, 2,  35.1290, 2,   -999.0, 9,     90.9, 2,    10.85, 2,    26.87, 2,     0.01, 2,     1.74, 2,    0.540, 2,    0.276, 2,   2192.2, 2,   2313.5, 2,    935.2, 2,  11.6577,   -999.0, 9, -999.000, 9
318MHYDROS4, A16C, 352, 1, 9, 9, 2, 19890403, 0133, -9.8233, -24.9983, 5830,  -999.00,    282.9,   9.6607,  34.8900, 2,  34.8900, 2,   -999.0, 9,     89.6, 2,    14.46, 2,    30.88, 2,     0.00, 2,     1.98, 2,    0.218, 2,    0.123, 2,   2212.9, 2,   2315.8, 2,   1059.7, 2,   9.6284,   -999.0, 9, -999.000, 9
318MHYDROS4, A16C, 352, 1, 10, 10, 2, 19890403, 0133, -9.8233, -24.9983, 5830,  -999.00,    414.8,   7.7793,  34.6886, 2,  34.6890, 2,   -999.0, 9,     91.3, 2,    19.06, 2,    34.89, 2,     0.00, 2,     2.23, 2,    0.068, 2,    0.037, 2,   2219.3, 2,   2300.3, 2,   1226.5, 2,   7.7376,   -999.0, 9, -999.000, 9
318MHYDROS4, A16C, 352, 1, 11, 11, 2, 19890403, 0133, -9.8233, -24.9983, 5830,  -999.00,    517.1,   6.8746,  34.6047, 2,  34.6090, 2,   -999.0, 9,    100.4, 2,    21.99, 2,    35.87, 2,     0.00, 2,     2.32, 2,    0.044, 2,    0.023, 2,   2221.8, 2,   2303.6, 2,   1221.2, 2,   6.8258,   -999.0, 9, -999.000, 9
318MHYDROS4, A16C, 352, 1, 12, 12, 2, 19890403, 0133, -9.8233, -24.9983, 5830,  -999.00,    670.2,   5.4874,  34.5064, 2,  34.5110, 2,   -999.0, 9,    119.6, 2,    27.47, 2,    36.76, 2,     0.00, 2,     2.42, 2,    0.007, 2,    0.010, 2,   2229.6, 2,   2313.5, 2,   1210.0, 2,   5.4307,   -999.0, 9, -999.000, 9
318MHYDROS4, A16C, 352, 1, 13, 13, 2, 19890403, 0133, -9.8233, -24.9983, 5830,  -999.00,    823.8,   4.4922,  34.4905, 2,  34.4890, 2,   -999.0, 9,    145.2, 2,    33.04, 2,    35.68, 2,     0.00, 2,     2.40, 2,    0.001, 2,    0.000, 2,   2228.5, 2,   2317.0, 2,   1172.9, 2,   4.4278,   -999.0, 9, -999.000, 9
318MHYDROS4, A16C, 352, 1, 14, 14, 2, 19890403, 0133, -9.8233, -24.9983, 5830,  -999.00,    976.8,   4.1250,  34.5615, 2,  34.5610, 2,   -999.0, 9,    159.1, 2,    35.29, 2,    33.82, 2,     0.00, 2,     2.30, 2,    0.000, 2,    0.000, 2,   2215.4, 2,   2314.0, 2,   1090.9, 2,   4.0503,   -999.0, 9, -999.000, 9
318MHYDROS4, A16C, 352, 1, 15, 15, 2, 19890403, 0133, -9.8233, -24.9983, 5830,  -999.00,   1131.5,   4.0671,  34.6975, 2,  34.6940, 2,   -999.0, 9,    176.0, 2,    32.25, 2,    30.50, 2,     0.00, 2,     2.08, 2,    0.001, 2,    0.000, 2,   2212.4, 2,   2326.9, 2,    985.5, 2,   3.9794,   -999.0, 9, -999.000, 9
318MHYDROS4, A16C, 352, 1, 16, 16, 2, 19890403, 0133, -9.8233, -24.9983, 5830,  -999.00,   1336.1,   4.2230,  34.8735, 2,  34.8660, 2,   -999.0, 9,    203.4, 2,    24.53, 2,    25.41, 2,     0.00, 2,     1.72, 2,    0.005, 2,    0.004, 2,   2190.2, 2,   2319.8, 2,    885.4, 2,   4.1155,   -999.0, 9, -999.000, 9
318MHYDROS4, A16C, 352, 1, 17, 17, 2, 19890403, 0133, -9.8233, -24.9983, 5830,  -999.00,   1542.2,   4.0388,  34.9483, 2,  34.9480, 2,   -999.0, 9,    232.5, 2,    20.13, 2,    21.30, 2,     0.00, 2,     1.46, 2,    0.008, 2,    0.004, 2,   2178.1, 2,   2325.3, 2,    792.2, 2,   3.9143,   -999.0, 9, -999.000, 9
318MHYDROS4, A16C, 352, 1, 18, 18, 2, 19890403, 0133, -9.8233, -24.9983, 5830,  -999.00,   1747.8,   3.7716,  34.9618, 2,  34.9620, 2,   -999.0, 9,    245.5, 2,    19.94, 2,    20.03, 2,     0.00, 2,     1.36, 2,    0.006, 2,    0.002, 2,   -999.0, 9,   -999.0, 9,   -999.0, 9,   3.6314,   -999.0, 9, -999.000, 9
318MHYDROS4, A16C, 352, 1, 19, 19, 2, 19890403, 0133, -9.8233, -24.9983, 5830,  -999.00,   1953.8,   3.4936,  34.9552, 2,  34.9560, 2,   -999.0, 9,    249.8, 2,    21.99, 2,    19.84, 2,     0.00, 2,     1.35, 2,    0.005, 2,    0.003, 2,   2166.9, 2,   2323.1, 2,    746.8, 2,   3.3380,   -999.0, 9, -999.000, 9
318MHYDROS4, A16C, 352, 1, 20, 20, 2, 19890403, 0133, -9.8233, -24.9983, 5830,  -999.00,   2160.0,   3.2724,  34.9455, 2,  34.9470, 2,   -999.0, 9,    251.1, 2,    25.21, 2,    19.84, 2,     0.00, 2,     1.36, 2, -999.000, 9, -999.000, 9,   -999.0, 9,   -999.0, 9,   -999.0, 9,   3.1007,   -999.0, 9, -999.000, 9
318MHYDROS4, A16C, 352, 1, 21, 21, 2, 19890403, 0133, -9.8233, -24.9983, 5830,  -999.00,   2418.3,   3.0367,  34.9309, 2,  34.9320, 2,   -999.0, 9,    249.4, 2,    29.61, 2,    20.52, 2,     0.00, 2,     1.40, 2, -999.000, 9, -999.000, 9,   2177.4, 2,   2335.0, 2,    747.9, 2,   2.8441,   -999.0, 9, -999.000, 9
318MHYDROS4, A16C, 352, 1, 22, 22, 2, 19890403, 0133, -9.8233, -24.9983, 5830,  -999.00,   2676.8,   2.8630,  34.9211, 2,  34.9210, 2,   -999.0, 9,    249.0, 2,    33.13, 2,    20.72, 2,     0.00, 2,     1.41, 2, -999.000, 9, -999.000, 9,   -999.0, 9,   -999.0, 9,   -999.0, 9,   2.6483,   -999.0, 9, -999.000, 9
318MHYDROS4, A16C, 352, 1, 23, 23, 2, 19890403, 0133, -9.8233, -24.9983, 5830,  -999.00,   2935.0,   2.7623,  34.9187, 2,  34.9190, 2,   -999.0, 9,    250.7, 2,    33.81, 2,    20.52, 2,     0.00, 2,     1.40, 2,    0.004, 2,    0.000, 2,   2178.1, 2,   2334.4, 2,    753.7, 2,   2.5235,   -999.0, 9, -999.000, 9
318MHYDROS4, A16C, 352, 1, 24, 24, 2, 19890403, 0133, -9.8233, -24.9983, 5830,  -999.00,   3194.7,   2.6740,  34.9145, 2,  34.9150, 2,   -999.0, 9,    253.3, 2,    34.30, 2,    20.23, 2,     0.00, 2,     1.39, 2, -999.000, 9, -999.000, 9,   -999.0, 9,   -999.0, 9,   -999.0, 9,   2.4101,   -999.0, 9, -999.000, 9
318MHYDROS4, A16C, 352, 1, 25, 25, 2, 19890403, 0133, -9.8233, -24.9983, 5830,  -999.00,   3454.3,   2.5804,  34.9105, 2,  34.9110, 2,   -999.0, 9,    255.9, 2,    34.30, 2,    20.03, 2,     0.00, 2,     1.38, 2,    0.001, 2,    0.002, 2,   2181.4, 2,   2342.4, 2,    736.3, 2,   2.2910,   -999.0, 9, -999.000, 9
318MHYDROS4, A16C, 352, 1, 26, 26, 2, 19890403, 0133, -9.8233, -24.9983, 5830,  -999.00,   3713.5,   2.3319,  34.8892, 2,  34.8890, 2,   -999.0, 9,    254.6, 2,    41.34, 2,    20.82, 2,     0.00, 2,     1.44, 2, -999.000, 9, -999.000, 9,   -999.0, 9,   -999.0, 9,   -999.0, 9,   2.0205,   -999.0, 9, -999.000, 9
318MHYDROS4, A16C, 352, 1, 27, 27, 2, 19890403, 0133, -9.8233, -24.9983, 5830,  -999.00,   3973.1,   1.9121,  34.8429, 2,  34.8440, 2,   -999.0, 9,    245.9, 2,    59.81, 2,    23.55, 2,     0.00, 2,     1.63, 2, -999.000, 9, -999.000, 9,   2197.4, 2,   2346.8, 2,    798.2, 2,   1.5836,   -999.0, 9, -999.000, 9
318MHYDROS4, A16C, 352, 1, 28, 28, 2, 19890403, 0133, -9.8233, -24.9983, 5830,  -999.00,   4232.6,   1.4136,  34.7890, 2,  34.7900, 2,   -999.0, 9,    236.4, 2,    81.61, 2,    26.78, 2,     0.00, 2,     1.85, 2,    0.000, 2,    0.000, 2,   -999.0, 9,   -999.0, 9,   -999.0, 9,   1.0709,   -999.0, 9, -999.000, 9
318MHYDROS4, A16C, 352, 1, 29, 29, 2, 19890403, 0133, -9.8233, -24.9983, 5830,  -999.00,   4491.9,   1.0247,  34.7478, 2,  34.7470, 2,   -999.0, 9,    229.8, 2,    98.23, 2,    29.03, 2,     0.00, 2,     2.01, 2, -999.000, 9, -999.000, 9,   2242.9, 2,   2372.2, 2,    930.0, 2,   0.6650,   -999.0, 9, -999.000, 9
318MHYDROS4, A16C, 352, 1, 30, 30, 2, 19890403, 0133, -9.8233, -24.9983, 5830,  -999.00,   4752.6,   0.8251,  34.7255, 2,  34.7250, 2,   -999.0, 9,    225.9, 2,   106.93, 2,    29.91, 2,     0.00, 2,     2.10, 2, -999.000, 9, -999.000, 9,   -999.0, 9,   -999.0, 9,   -999.0, 9,   0.4423,   -999.0, 9, -999.000, 9
318MHYDROS4, A16C, 352, 1, 31, 31, 2, 19890403, 0133, -9.8233, -24.9983, 5830,  -999.00,   4961.8,   0.7733,  34.7180, 2,  34.7180, 2,   -999.0, 9,    225.1, 2,   109.27, 2,    30.49, 2,     0.00, 2,     2.12, 2,    0.000, 2,    0.000, 2,   2252.6, 2,   2379.9, 2,    948.9, 2,   0.3680,   -999.0, 9, -999.000, 9
318MHYDROS4, A16C, 352, 1, 32, 32, 2, 19890403, 0133, -9.8233, -24.9983, 5830,  -999.00,   5170.7,   0.7508,  34.7133, 2,  34.7130, 2,   -999.0, 9,    224.6, 2,   110.74, 2,    30.79, 2,     0.00, 2,     2.15, 2, -999.000, 9, -999.000, 9,   -999.0, 9,   -999.0, 9,   -999.0, 9,   0.3216,   -999.0, 9, -999.000, 9
318MHYDROS4, A16C, 352, 1, 33, 33, 2, 19890403, 0133, -9.8233, -24.9983, 5830,  -999.00,   5380.1,   0.7327,  34.7087, 2,  34.7070, 2,   -999.0, 9,    223.8, 2,   113.28, 2,    31.18, 2,     0.01, 2,     2.16, 2,    0.002, 2,    0.000, 2,   2256.7, 2,   2379.0, 2,    980.5, 2,   0.2788,   -999.0, 9, -999.000, 9
318MHYDROS4, A16C, 352, 1, 34, 34, 2, 19890403, 0133, -9.8233, -24.9983, 5830,  -999.00,   5589.3,   0.7231,  34.7047, 2,  34.7050, 2,   -999.0, 9,    223.3, 2,   114.36, 2,    31.47, 2,     0.00, 2,     2.19, 2, -999.000, 9, -999.000, 9,   -999.0, 9,   -999.0, 9,   -999.0, 9,   0.2438,   -999.0, 9, -999.000, 9
318MHYDROS4, A16C, 352, 1, 35, 35, 2, 19890403, 0133, -9.8233, -24.9983, 5830,  -999.00,   5798.7,   0.7284,  34.7026, 2,  34.7020, 2,   -999.0, 9,    223.3, 2,   116.02, 2,    31.57, 2,     0.00, 2,     2.20, 2,    0.006, 2,    0.001, 2,   2256.8, 2,   2379.4, 2,    980.2, 2,   0.2225,   5797.2, 2,    0.719, 2
318MHYDROS4, A16C, 352, 1, 36, 36, 2, 19890403, 0133, -9.8233, -24.9983, 5830,  -999.00,   5986.5,   0.7484,  34.7020, 2,  34.7010, 2,   -999.0, 9,    222.9, 2,   116.31, 2,    31.47, 2,     0.00, 2,     2.22, 2,    0.002, 2,    0.000, 2,   2257.8, 2,   2386.5, 2,    946.6, 2,   0.2176,   -999.0, 9, -999.000, 9