BOTTLE,20110318CCHDOSIODM
EXPOCODE,SECT_ID,STNNBR,CASTNO,SAMPNO,BTLNBR,BTLNBR_FLAG_W,DATE,TIME,LATITUDE,LONGITUDE,DEPTH,CTDRAW,CTDPRS,CTDTMP,CTDSAL,CTDSAL_FLAG_W,SALNTY,SALNTY_FLAG_W,CTDOXY,CTDOXY_FLAG_W,OXYGEN,OXYGEN_FLAG_W,SILCAT,SILCAT_FLAG_W,NITRAT,NITRAT_FLAG_W,NITRIT,NITRIT_FLAG_W,PHSPHT,PHSPHT_FLAG_W,CFC-11,CFC-11_FLAG_W,CFC-12,CFC-12_FLAG_W,TCARBN,TCARBN_FLAG_W,ALKALI,ALKALI_FLAG_W,PCO2,PCO2_FLAG_W,THETA,REVPRS,REVPRS_FLAG_W,REVTMP,REVTMP_FLAG_W
,,,,,,,,,,,METERS,DBAR,DBAR,ITS-90,PSS-78,,PSS-78,,UMOL/KG,,UMOL/KG,,UMOL/KG,,UMOL/KG,,UMOL/KG,,UMOL/KG,,PMOL/KG,,PMOL/KG,,UMOL/KG,,UMOL/KG,,UATM,,DEG C,DBAR,,ITS-90,
318MHYDROS4, A16C, 340, 2, 1, 1, 2, 19890329, 1841, -16.7800, -25.0067, 5704,  -999.00,      1.3,  27.8583,  37.2001, 2,  37.2020, 2,   -999.0, 9,    196.2, 2,     2.63, 2,     0.00, 2,     0.00, 2,     0.16, 2,    1.508, 2,    0.771, 2,   2068.8, 2,   2431.9, 2,    296.2, 2,  27.8580,   -999.0, 9, -999.000, 9
318MHYDROS4, A16C, 340, 2, 2, 2, 2, 19890329, 1841, -16.7800, -25.0067, 5704,  -999.00,     38.7,  27.1755,  37.1292, 2,  37.1370, 2,   -999.0, 9,    204.9, 2,     2.83, 2,     0.00, 2,     0.00, 2,     0.17, 2, -999.000, 9, -999.000, 9,   2070.0, 2,   2434.4, 2,    294.7, 2,  27.1665,   -999.0, 9, -999.000, 9
318MHYDROS4, A16C, 340, 2, 3, 3, 2, 19890329, 1841, -16.7800, -25.0067, 5704,  -999.00,     69.4,  24.3379,  36.8362, 2,  36.8400, 2,   -999.0, 9,    224.8, 2,     2.83, 2,     0.00, 2,     0.00, 2,     0.20, 2,    1.812, 2,    0.901, 2,   2065.5, 2,   2412.5, 2,    309.5, 2,  24.3231,   -999.0, 9, -999.000, 9
318MHYDROS4, A16C, 340, 2, 71, 71, 2, 19890329, 1841, -16.7800, -25.0067, 5704,  -999.00,    131.0,  22.2812,  36.6960, 2,  36.6910, 2,   -999.0, 9,    212.5, 2,     2.54, 2,     0.00, 2,     0.00, 2,     0.24, 2,    1.842, 2,    0.926, 2,   2078.9, 2,   2413.2, 2,    326.5, 2,  22.2549,   -999.0, 9, -999.000, 9
318MHYDROS4, A16C, 340, 2, 5, 5, 2, 19890329, 1841, -16.7800, -25.0067, 5704,  -999.00,    212.9,  17.4946,  35.8306, 2,  35.7820, 2,   -999.0, 9,    192.0, 2,     3.32, 2,     5.08, 2,     0.01, 2,     0.56, 2,    1.903, 2,    0.936, 2,   2092.4, 2,   2344.0, 2,    448.1, 2,  17.4585,   -999.0, 9, -999.000, 9
318MHYDROS4, A16C, 340, 2, 6, 6, 2, 19890329, 1841, -16.7800, -25.0067, 5704,  -999.00,    314.6,  11.8231,  35.0370, 2,  35.0330, 2,   -999.0, 9,    156.6, 2,     8.21, 2,    18.37, 2,     0.00, 2,     1.29, 2,    1.192, 2,    0.584, 2,   2149.8, 2,   2317.7, 2,    691.9, 2,  11.7822,   -999.0, 9, -999.000, 9
318MHYDROS4, A16C, 340, 2, 7, 7, 2, 19890329, 1841, -16.7800, -25.0067, 5704,  -999.00,    416.6,   9.4153,  34.7864, 2,  34.7870, 2,   -999.0, 9,    135.7, 2,    13.49, 2,    26.10, 2,     0.00, 2,     1.75, 2,    0.511, 2,    0.263, 2,   2175.4, 2,   2297.5, 2,    914.0, 2,   9.3683,   -999.0, 9, -999.000, 9
318MHYDROS4, A16C, 340, 2, 8, 8, 2, 19890329, 1841, -16.7800, -25.0067, 5704,  -999.00,    518.7,   7.4729,  34.6126, 2,  34.6110, 2,   -999.0, 9,    138.3, 2,    18.57, 2,    30.30, 2,     0.00, 2,     2.01, 2,    0.233, 2,    0.129, 2,   2191.2, 2,   2297.4, 2,   1018.7, 2,   7.4216,   -999.0, 9, -999.000, 9
318MHYDROS4, A16C, 340, 2, 9, 9, 2, 19890329, 1841, -16.7800, -25.0067, 5704,  -999.00,    620.9,   5.7027,  34.4831, 2,  34.4840, 2,   -999.0, 9,    148.7, 2,    25.51, 2,    33.33, 2,     0.00, 2,     2.23, 2,    0.065, 2,    0.039, 2,   2194.7, 2,   2291.7, 2,   1084.4, 2,   5.6493,   -999.0, 9, -999.000, 9
318MHYDROS4, A16C, 340, 2, 10, 10, 2, 19890329, 1841, -16.7800, -25.0067, 5704,  -999.00,    722.8,   4.6670,  34.4148, 2,  34.4150, 2,   -999.0, 9,    175.2, 2,    30.60, 2,    32.85, 2,     0.00, 2,     2.21, 2,    0.066, 2,    0.048, 2,   2193.9, 2,   2296.8, 2,   1042.3, 2,   4.6102,   -999.0, 9, -999.000, 9
318MHYDROS4, A16C, 340, 2, 11, 11, 2, 19890329, 1841, -16.7800, -25.0067, 5704,  -999.00,    824.9,   4.0349,  34.4262, 2,  34.4260, 2,   -999.0, 9,    180.0, 2,    35.98, 2,    32.95, 2,     0.00, 2,     2.25, 2,    0.037, 2,    0.029, 2,   2200.5, 2,   2302.7, 2,   1053.2, 2,   3.9735,   -999.0, 9, -999.000, 9
318MHYDROS4, A16C, 340, 2, 12, 12, 2, 19890329, 1841, -16.7800, -25.0067, 5704,  -999.00,    927.1,   3.7863,  34.4716, 2,  34.4700, 2,   -999.0, 9,    181.7, 2,    39.40, 2,    32.85, 2,     0.00, 2,     2.24, 2, -999.000, 9, -999.000, 9,   2212.1, 2,   2318.3, 2,   1035.7, 2,   3.7182,   -999.0, 9, -999.000, 9
318MHYDROS4, A16C, 340, 2, 13, 13, 2, 19890329, 1841, -16.7800, -25.0067, 5704,  -999.00,   1029.2,   3.7334,  34.5503, 2,  34.5470, 2,   -999.0, 9,    179.1, 2,    39.20, 2,    32.26, 2,     0.00, 2,     2.19, 2, -999.000, 9, -999.000, 9,   2211.0, 2,   2317.0, 2,   1037.2, 2,   3.6574,   -999.0, 9, -999.000, 9
318MHYDROS4, A16C, 340, 2, 14, 14, 2, 19890329, 1841, -16.7800, -25.0067, 5704,  -999.00,   1234.9,   3.8106,  34.7074, 2,  34.7050, 2,   -999.0, 9,    188.2, 2,    34.80, 2,    29.42, 2,     0.00, 2,     2.00, 2, -999.000, 9, -999.000, 9,   2200.3, 2,   2314.7, 2,    978.0, 2,   3.7163,   -999.0, 9, -999.000, 9
318MHYDROS4, A16C, 340, 2, 15, 15, 2, 19890329, 1841, -16.7800, -25.0067, 5704,  -999.00,   1440.6,   3.7118,  34.8245, 2,  34.8210, 2,   -999.0, 9,    208.2, 2,    31.18, 2,    26.00, 2,     0.00, 2,     1.77, 2, -999.000, 9, -999.000, 9,   2188.0, 2,   2317.3, 2,    886.2, 2,   3.6005,   -999.0, 9, -999.000, 9
318MHYDROS4, A16C, 340, 2, 16, 16, 2, 19890329, 1841, -16.7800, -25.0067, 5704,  -999.00,   1645.9,   3.4971,  34.8777, 2,  34.8770, 2,   -999.0, 9,    225.1, 2,    30.00, 2,    23.85, 2,     0.00, 2,     1.59, 2, -999.000, 9, -999.000, 9,   2181.2, 2,   2322.7, 2,    821.0, 2,   3.3699,   -999.0, 9, -999.000, 9
318MHYDROS4, A16C, 340, 2, 17, 17, 2, 19890329, 1841, -16.7800, -25.0067, 5704,  -999.00,   1852.6,   3.2642,  34.9056, 2,  34.9050, 2,   -999.0, 9,    236.8, 2,    30.59, 2,    22.38, 2,     0.00, 2,     1.50, 2, -999.000, 9, -999.000, 9,   2178.2, 2,   2327.4, 2,    784.2, 2,   3.1214,   -999.0, 9, -999.000, 9
318MHYDROS4, A16C, 340, 2, 18, 18, 2, 19890329, 1841, -16.7800, -25.0067, 5704,  -999.00,   2058.5,   3.0332,  34.9061, 2,  34.9060, 2,   -999.0, 9,    241.1, 2,    33.81, 2,    22.09, 2,     0.00, 2,     1.49, 2, -999.000, 9, -999.000, 9,   2180.1, 2,   2330.1, 2,    782.0, 2,   2.8749,   -999.0, 9, -999.000, 9
318MHYDROS4, A16C, 340, 2, 19, 19, 2, 19890329, 1841, -16.7800, -25.0067, 5704,  -999.00,   2264.6,   2.8779,  34.9032, 2,  34.9030, 2,   -999.0, 9,    242.0, 2,    36.74, 2,    22.18, 2,     0.00, 2,     1.50, 2, -999.000, 9, -999.000, 9,   2183.0, 2,   2336.1, 2,    770.7, 2,   2.7029,   -999.0, 9, -999.000, 9
318MHYDROS4, A16C, 340, 2, 20, 20, 2, 19890329, 1841, -16.7800, -25.0067, 5704,  -999.00,   2471.6,   2.7807,  34.8998, 2,  34.8990, 2,   -999.0, 9,    242.0, 2,    39.19, 2,    22.18, 2,     0.00, 2,     1.50, 2, -999.000, 9, -999.000, 9,   2183.5, 2,   2337.7, 2,    766.6, 2,   2.5877,   -999.0, 9, -999.000, 9
318MHYDROS4, A16C, 340, 2, 21, 21, 2, 19890329, 1841, -16.7800, -25.0067, 5704,  -999.00,   2678.2,   2.7225,  34.8978, 2,  34.8970, 2,   -999.0, 9,    242.4, 2,    40.46, 2,    22.38, 2,     0.00, 2,     1.50, 2, -999.000, 9, -999.000, 9,   2180.6, 2,   2331.6, 2,    779.2, 2,   2.5105,   -999.0, 9, -999.000, 9
318MHYDROS4, A16C, 340, 2, 22, 22, 2, 19890329, 1841, -16.7800, -25.0067, 5704,  -999.00,   2885.4,   2.6746,  34.8960, 2,  34.8950, 2,   -999.0, 9,    242.4, 2,    41.44, 2,    22.28, 2,     0.00, 2,     1.50, 2, -999.000, 9, -999.000, 9,   2187.3, 2,   2341.8, 2,    767.9, 2,   2.4428,   -999.0, 9, -999.000, 9
318MHYDROS4, A16C, 340, 2, 23, 23, 2, 19890329, 1841, -16.7800, -25.0067, 5704,  -999.00,   3092.9,   2.6186,  34.8926, 2,  34.8920, 2,   -999.0, 9,    242.4, 2,    43.10, 2,    22.48, 2,     0.00, 2,     1.50, 2, -999.000, 9, -999.000, 9,   2188.4, 2,   2340.4, 2,    779.1, 2,   2.3667,   -999.0, 9, -999.000, 9
318MHYDROS4, A16C, 340, 2, 24, 24, 2, 19890329, 1841, -16.7800, -25.0067, 5704,  -999.00,   3299.9,   2.5523,  34.8920, 2,  34.8910, 2,   -999.0, 9,    245.0, 2,    43.49, 2,    22.28, 2,     0.00, 2,     1.50, 2, -999.000, 9, -999.000, 9,   2186.1, 2,   2339.1, 2,    773.9, 2,   2.2802,   -999.0, 9, -999.000, 9
318MHYDROS4, A16C, 340, 2, 25, 25, 2, 19890329, 1841, -16.7800, -25.0067, 5704,  -999.00,   3506.7,   2.4554,  34.8897, 2,  34.8880, 2,   -999.0, 9,    248.5, 2,    43.98, 2,    21.89, 2,     0.00, 2,     1.48, 2, -999.000, 9, -999.000, 9,   2182.1, 2,   2335.6, 2,    769.2, 2,   2.1634,   -999.0, 9, -999.000, 9
318MHYDROS4, A16C, 340, 2, 26, 26, 2, 19890329, 1841, -16.7800, -25.0067, 5704,  -999.00,   3714.5,   2.1994,  34.8666, 2,  34.8660, 2,   -999.0, 9,    246.8, 2,    52.87, 2,    22.97, 2,     0.00, 2,     1.56, 2, -999.000, 9, -999.000, 9,   2195.6, 2,   2351.3, 2,    768.9, 2,   1.8915,   -999.0, 9, -999.000, 9
318MHYDROS4, A16C, 340, 2, 27, 27, 2, 19890329, 1841, -16.7800, -25.0067, 5704,  -999.00,   3921.5,   1.8947,  34.8372, 2,  34.8370, 2,   -999.0, 9,    243.3, 2,    64.31, 2,    24.33, 2,     0.00, 2,     1.67, 2, -999.000, 9, -999.000, 9,   2202.8, 2,   2355.3, 2,    788.2, 2,   1.5725,   -999.0, 9, -999.000, 9
318MHYDROS4, A16C, 340, 2, 28, 28, 2, 19890329, 1841, -16.7800, -25.0067, 5704,  -999.00,   4129.5,   1.4928,  34.7968, 2,  34.7970, 2,   -999.0, 9,    237.2, 2,    80.14, 2,    26.49, 2,     0.00, 2,     1.81, 2, -999.000, 9, -999.000, 9,   2203.5, 2,   2349.5, 2,    820.6, 2,   1.1591,   -999.0, 9, -999.000, 9
318MHYDROS4, A16C, 340, 2, 29, 29, 2, 19890329, 1841, -16.7800, -25.0067, 5704,  -999.00,   4336.2,   1.2246,  34.7686, 2, -999.0000, 9,   -999.0, 9,    232.9, 2,    91.29, 2,    28.05, 2,     0.00, 2,     1.92, 2, -999.000, 9, -999.000, 9,   2224.7, 2,   2363.1, 2,    870.7, 2,   0.8761,   -999.0, 9, -999.000, 9
318MHYDROS4, A16C, 340, 2, 30, 30, 2, 19890329, 1841, -16.7800, -25.0067, 5704,  -999.00,   4541.5,   1.0129,  34.7460, 2,  34.7450, 2,   -999.0, 9,    229.4, 2,   100.08, 2,    29.32, 2,     0.00, 2,     2.00, 2, -999.000, 9, -999.000, 9,   2235.8, 2,   2364.5, 2,    929.5, 2,   0.6480,   -999.0, 9, -999.000, 9
318MHYDROS4, A16C, 340, 2, 31, 31, 2, 19890329, 1841, -16.7800, -25.0067, 5704,  -999.00,   4750.8,   0.8849,  34.7314, 2,  34.7310, 2,   -999.0, 9,    227.7, 2,   105.75, 2,    29.91, 2,     0.00, 2,     2.05, 2, -999.000, 9, -999.000, 9,   2241.5, 2,   2368.2, 2,    944.8, 2,   0.5003,   -999.0, 9, -999.000, 9
318MHYDROS4, A16C, 340, 2, 32, 32, 2, 19890329, 1841, -16.7800, -25.0067, 5704,  -999.00,   4959.7,   0.8073,  34.7216, 2,  34.7200, 2,   -999.0, 9,    225.9, 2,   109.47, 2,    30.30, 2,     0.00, 2,     2.09, 2, -999.000, 9, -999.000, 9,   2243.8, 2,   2370.8, 2,    945.2, 2,   0.4011,   -999.0, 9, -999.000, 9
318MHYDROS4, A16C, 340, 2, 33, 33, 2, 19890329, 1841, -16.7800, -25.0067, 5704,  -999.00,   5167.2,   0.7448,  34.7131, 2,  34.7130, 2,   -999.0, 9,    225.1, 2,   111.72, 2,    30.79, 2,     0.00, 2,     2.13, 2, -999.000, 9, -999.000, 9,   2247.0, 2,   2372.0, 2,    958.8, 2,   0.3162,   -999.0, 9, -999.000, 9
318MHYDROS4, A16C, 340, 2, 34, 34, 2, 19890329, 1841, -16.7800, -25.0067, 5704,  -999.00,   5375.4,   0.7110,  34.7073, 2,  34.7060, 2,   -999.0, 9,    224.6, 2,   114.55, 2,    31.08, 2,     0.00, 2,     2.14, 2, -999.000, 9, -999.000, 9,   2251.0, 2,   2373.8, 2,    974.6, 2,   0.2585,   -999.0, 9, -999.000, 9
318MHYDROS4, A16C, 340, 2, 35, 35, 2, 19890329, 1841, -16.7800, -25.0067, 5704,  -999.00,   5584.5,   0.6862,  34.7021, 2,  34.7020, 2,   -999.0, 9,    223.8, 2,   115.63, 2,    31.37, 2,     0.00, 2,     2.16, 2, -999.000, 9, -999.000, 9,   2250.9, 2,   2369.1, 2,   1001.7, 2,   0.2088,   5585.0, 2,    0.673, 2
318MHYDROS4, A16C, 340, 2, 36, 36, 2, 19890329, 1841, -16.7800, -25.0067, 5704,  -999.00,   5860.9,   0.6727,  34.6968, 2,  34.6960, 2,   -999.0, 9,    222.9, 2,   118.85, 2,    31.57, 2,     0.00, 2,     2.19, 2, -999.000, 9, -999.000, 9,   2251.0, 2,   2367.5, 2,   1012.6, 2,   0.1611,   -999.0, 9, -999.000, 9