BOTTLE,20110318CCHDOSIODM
EXPOCODE,SECT_ID,STNNBR,CASTNO,SAMPNO,BTLNBR,BTLNBR_FLAG_W,DATE,TIME,LATITUDE,LONGITUDE,DEPTH,CTDRAW,CTDPRS,CTDTMP,CTDSAL,CTDSAL_FLAG_W,SALNTY,SALNTY_FLAG_W,CTDOXY,CTDOXY_FLAG_W,OXYGEN,OXYGEN_FLAG_W,SILCAT,SILCAT_FLAG_W,NITRAT,NITRAT_FLAG_W,NITRIT,NITRIT_FLAG_W,PHSPHT,PHSPHT_FLAG_W,CFC-11,CFC-11_FLAG_W,CFC-12,CFC-12_FLAG_W,TCARBN,TCARBN_FLAG_W,ALKALI,ALKALI_FLAG_W,PCO2,PCO2_FLAG_W,THETA,REVPRS,REVPRS_FLAG_W,REVTMP,REVTMP_FLAG_W
,,,,,,,,,,,METERS,DBAR,DBAR,ITS-90,PSS-78,,PSS-78,,UMOL/KG,,UMOL/KG,,UMOL/KG,,UMOL/KG,,UMOL/KG,,UMOL/KG,,PMOL/KG,,PMOL/KG,,UMOL/KG,,UMOL/KG,,UATM,,DEG C,DBAR,,ITS-90,
318MHYDROS4, A16C, 361, 1, 1, 1, 2, 19890405, 1641, -4.5350, -25.0100, 5424,  -999.00,      0.3,  28.8251,  36.0440, 2,  36.0470, 2,   -999.0, 9,    202.1, 2,     1.76, 2,     0.00, 2,     0.00, 2,     0.08, 2,    1.461, 2,    0.771, 2,   2006.7, 2,   2356.9, 2,    283.7, 2,  28.8250,   -999.0, 9, -999.000, 9
318MHYDROS4, A16C, 361, 1, 2, 2, 2, 19890405, 1641, -4.5350, -25.0100, 5424,  -999.00,     46.6,  27.3840,  36.1352, 2,  36.1390, 2,   -999.0, 9,    211.6, 2,     1.95, 2,     0.00, 2,     0.00, 2,     0.10, 2,    1.536, 2,    0.810, 2,   2016.2, 2,   2367.9, 2,    285.4, 2,  27.3732,   -999.0, 9, -999.000, 9
318MHYDROS4, A16C, 361, 1, 3, 3, 2, 19890405, 1641, -4.5350, -25.0100, 5424,  -999.00,     77.9,  24.7480,  36.5243, 2,  36.5260, 2,   -999.0, 9,    209.7, 2,     2.15, 2,     0.00, 2,     0.00, 2,     0.11, 2,    1.373, 2,    0.708, 2,   -999.0, 9,   -999.0, 9,   -999.0, 9,  24.7311,   -999.0, 9, -999.000, 9
318MHYDROS4, A16C, 361, 1, 71, 71, 2, 19890405, 1641, -4.5350, -25.0100, 5424,  -999.00,     98.8,  20.1706,  36.1771, 2,  36.1800, 2,   -999.0, 9,    148.0, 2,     3.61, 2,     7.13, 2,     0.23, 2,     0.73, 2, -999.000, 9, -999.000, 9,   2155.0, 2,   -999.0, 9,   -999.0, 9,  20.1521,   -999.0, 9, -999.000, 9
318MHYDROS4, A16C, 361, 1, 5, 5, 2, 19890405, 1641, -4.5350, -25.0100, 5424,  -999.00,    129.3,  16.6775,  35.7540, 2,  35.7530, 2,   -999.0, 9,    112.3, 2,     5.96, 2,    16.70, 2,     0.03, 2,     1.20, 2, -999.000, 9, -999.000, 9,   -999.0, 9,   -999.0, 9,   -999.0, 9,  16.6564,   -999.0, 9, -999.000, 9
318MHYDROS4, A16C, 361, 1, 6, 6, 2, 19890405, 1641, -4.5350, -25.0100, 5424,  -999.00,    159.6,  13.2778,  35.3303, 2,  35.3340, 2,   -999.0, 9,    111.4, 2,     7.91, 2,    21.30, 2,     0.01, 2,     1.45, 2,    0.795, 2,    0.423, 2,   2181.5, 2,   -999.0, 9,   -999.0, 9,  13.2555,   -999.0, 9, -999.000, 9
318MHYDROS4, A16C, 361, 1, 7, 7, 2, 19890405, 1641, -4.5350, -25.0100, 5424,  -999.00,    241.4,  10.1484,  34.9263, 2,  34.9280, 2,   -999.0, 9,    116.1, 2,    12.22, 2,    27.07, 2,     0.00, 2,     1.76, 2,    0.417, 2,    0.220, 2,   -999.0, 9,   -999.0, 9,   -999.0, 9,  10.1201,   -999.0, 9, -999.000, 9
318MHYDROS4, A16C, 361, 1, 8, 8, 2, 19890405, 1641, -4.5350, -25.0100, 5424,  -999.00,    320.5,   9.1390,  34.8207, 2,  34.8200, 2,   -999.0, 9,     92.6, 2,    15.44, 2,    32.45, 2,     0.00, 2,     2.05, 2, -999.000, 9, -999.000, 9,   2227.9, 2,   -999.0, 9,   -999.0, 9,   9.1036,   -999.0, 9, -999.000, 9
318MHYDROS4, A16C, 361, 1, 9, 9, 2, 19890405, 1641, -4.5350, -25.0100, 5424,  -999.00,    378.7,   8.3015,  34.7314, 2,  34.7290, 2,   -999.0, 9,    105.2, 2,    16.91, 2,    32.94, 2,     0.00, 2,     2.10, 2,    0.170, 2,    0.101, 2,   2230.8, 2,   -999.0, 9,   -999.0, 9,   8.2620,   -999.0, 9, -999.000, 9
318MHYDROS4, A16C, 361, 1, 10, 10, 2, 19890405, 1641, -4.5350, -25.0100, 5424,  -999.00,    427.1,   7.6109,  34.6759, 2,  34.6750, 2,   -999.0, 9,     87.4, 2,    19.84, 2,    36.65, 2,     0.00, 2,     2.29, 2,    0.048, 2,    0.040, 2,   2221.6, 2,   -999.0, 9,   -999.0, 9,   7.5685,   -999.0, 9, -999.000, 9
318MHYDROS4, A16C, 361, 1, 11, 11, 2, 19890405, 1641, -4.5350, -25.0100, 5424,  -999.00,    515.7,   6.4407,  34.5665, 2,  34.5700, 2,   -999.0, 9,    117.4, 2,    22.48, 2,    35.97, 2,     0.00, 2,     2.30, 2,    0.055, 2,    0.046, 2,   2216.2, 2,   -999.0, 9,   -999.0, 9,   6.3938,   -999.0, 9, -999.000, 9
318MHYDROS4, A16C, 361, 1, 12, 12, 2, 19890405, 1641, -4.5350, -25.0100, 5424,  -999.00,    618.0,   5.5653,  34.5037, 2,  34.5050, 2,   -999.0, 9,    131.7, 2,    26.30, 2,    35.09, 2,     0.00, 2,     2.37, 2,    0.032, 2,    0.023, 2,   2218.0, 2,   -999.0, 9,   -999.0, 9,   5.5128,   -999.0, 9, -999.000, 9
318MHYDROS4, A16C, 361, 1, 13, 13, 2, 19890405, 1641, -4.5350, -25.0100, 5424,  -999.00,    720.1,   4.7679,  34.4697, 2,  34.4690, 2,   -999.0, 9,    150.8, 2,    30.99, 2,    34.90, 2,     0.00, 2,     2.35, 2,    0.020, 2,    0.018, 2,   2216.4, 2,   -999.0, 9,   -999.0, 9,   4.7106,   -999.0, 9, -999.000, 9
318MHYDROS4, A16C, 361, 1, 14, 14, 2, 19890405, 1641, -4.5350, -25.0100, 5424,  -999.00,    822.0,   4.4391,  34.4844, 2,  34.4850, 2,   -999.0, 9,    157.4, 2,    33.14, 2,    34.70, 2,     0.00, 2,     2.35, 2,    0.013, 2,    0.009, 2,   2209.0, 2,   -999.0, 9,   -999.0, 9,   4.3752,   -999.0, 9, -999.000, 9
318MHYDROS4, A16C, 361, 1, 15, 15, 2, 19890405, 1641, -4.5350, -25.0100, 5424,  -999.00,   1026.6,   4.2392,  34.6312, 2,  34.6300, 2,   -999.0, 9,    163.9, 2,    33.14, 2,    32.55, 2,     0.00, 2,     2.21, 2,    0.000, 2, -999.000, 9,   2196.6, 2,   -999.0, 9,   -999.0, 9,   4.1593,   -999.0, 9, -999.000, 9
318MHYDROS4, A16C, 361, 1, 16, 16, 2, 19890405, 1641, -4.5350, -25.0100, 5424,  -999.00,   1232.2,   4.3492,  34.7966, 2,  34.7950, 2,   -999.0, 9,    182.5, 2,    27.56, 2,    28.64, 2,     0.00, 2,     1.95, 2, -999.000, 9,    0.000, 2,   -999.0, 9,   -999.0, 9,   -999.0, 9,   4.2499,   -999.0, 9, -999.000, 9
318MHYDROS4, A16C, 361, 1, 17, 17, 2, 19890405, 1641, -4.5350, -25.0100, 5424,  -999.00,   1438.4,   4.3482,  34.9231, 2,  34.9220, 2,   -999.0, 9,    214.7, 2,    21.60, 2,    24.04, 2,     0.00, 2,     1.60, 2,    0.015, 2,    0.012, 2,   -999.0, 9,   -999.0, 9,   -999.0, 9,   4.2299,   -999.0, 9, -999.000, 9
318MHYDROS4, A16C, 361, 1, 18, 18, 2, 19890405, 1641, -4.5350, -25.0100, 5424,  -999.00,   1644.0,   4.0464,  34.9720, 2,  34.9730, 2,   -999.0, 9,    241.6, 2,    18.66, 2,    20.72, 2,     0.00, 2,     1.38, 2,    0.022, 2,    0.016, 2,   -999.0, 9,   -999.0, 9,   -999.0, 9,   3.9123,   -999.0, 9, -999.000, 9
318MHYDROS4, A16C, 361, 1, 19, 19, 2, 19890405, 1641, -4.5350, -25.0100, 5424,  -999.00,   1849.7,   3.7146,  34.9698, 2,  34.9700, 2,   -999.0, 9,    250.3, 2,    19.74, 2,    19.54, 2,     0.00, 2,     1.33, 2,    0.011, 2,    0.012, 2,   -999.0, 9,   -999.0, 9,   -999.0, 9,   3.5656,   -999.0, 9, -999.000, 9
318MHYDROS4, A16C, 361, 1, 20, 20, 2, 19890405, 1641, -4.5350, -25.0100, 5424,  -999.00,   2055.0,   3.5328,  34.9648, 2,  34.9660, 2,   -999.0, 9,    253.3, 2,    21.21, 2,    19.35, 2,     0.00, 2,     1.32, 2,    0.012, 2,    0.006, 2,   -999.0, 9,   -999.0, 9,   -999.0, 9,   3.3670,   -999.0, 9, -999.000, 9
318MHYDROS4, A16C, 361, 1, 21, 21, 2, 19890405, 1641, -4.5350, -25.0100, 5424,  -999.00,   2260.2,   3.3020,  34.9538, 2,  34.9530, 2,   -999.0, 9,    253.3, 2,    24.24, 2,    19.54, 2,     0.00, 2,     1.33, 2,    0.003, 2,    0.007, 2,   -999.0, 9,   -999.0, 9,   -999.0, 9,   3.1201,   -999.0, 9, -999.000, 9
318MHYDROS4, A16C, 361, 1, 22, 22, 2, 19890405, 1641, -4.5350, -25.0100, 5424,  -999.00,   2465.9,   3.0761,  34.9368, 2,  34.9370, 2,   -999.0, 9,    250.7, 2,    29.32, 2,    20.33, 2,     0.00, 2,     1.38, 2, -999.000, 9, -999.000, 9,   -999.0, 9,   -999.0, 9,   -999.0, 9,   2.8782,   -999.0, 9, -999.000, 9
318MHYDROS4, A16C, 361, 1, 23, 23, 2, 19890405, 1641, -4.5350, -25.0100, 5424,  -999.00,   2671.8,   2.9093,  34.9271, 2,  34.9270, 2,   -999.0, 9,    250.3, 2,    32.54, 2,    20.82, 2,     0.00, 2,     1.41, 2, -999.000, 9, -999.000, 9,   -999.0, 9,   -999.0, 9,   -999.0, 9,   2.6941,   -999.0, 9, -999.000, 9
318MHYDROS4, A16C, 361, 1, 24, 24, 2, 19890405, 1641, -4.5350, -25.0100, 5424,  -999.00,   2877.2,   2.7704,  34.9211, 2,  34.9230, 2,   -999.0, 9,    252.0, 2,    33.62, 2,    20.72, 2,     0.00, 2,     1.40, 2, -999.000, 9, -999.000, 9,   -999.0, 9,   -999.0, 9,   -999.0, 9,   2.5373,   -999.0, 9, -999.000, 9
318MHYDROS4, A16C, 361, 1, 25, 25, 2, 19890405, 1641, -4.5350, -25.0100, 5424,  -999.00,   3083.6,   2.6825,  34.9188, 2,  34.9200, 2,   -999.0, 9,    255.0, 2,    33.32, 2,  -999.00, 9,     0.00, 2,     1.38, 2, -999.000, 9, -999.000, 9,   -999.0, 9,   -999.0, 9,   -999.0, 9,   2.4300,   -999.0, 9, -999.000, 9
318MHYDROS4, A16C, 361, 1, 26, 26, 2, 19890405, 1641, -4.5350, -25.0100, 5424,  -999.00,   3290.1,   2.6125,  34.9161, 2,  34.9140, 2,   -999.0, 9,    257.6, 2,    33.32, 2,    19.94, 2,     0.00, 2,     1.37, 2, -999.000, 9, -999.000, 9,   -999.0, 9,   -999.0, 9,   -999.0, 9,   2.3399,   -999.0, 9, -999.000, 9
318MHYDROS4, A16C, 361, 1, 27, 27, 2, 19890405, 1641, -4.5350, -25.0100, 5424,  -999.00,   3496.4,   2.5586,  34.9128, 2,  34.9140, 2,   -999.0, 9,    258.9, 2,    33.13, 2,    19.64, 2,     0.00, 2,     1.35, 2, -999.000, 9, -999.000, 9,   -999.0, 9,   -999.0, 9,   -999.0, 9,   2.2651,   -999.0, 9, -999.000, 9
318MHYDROS4, A16C, 361, 1, 28, 28, 2, 19890405, 1641, -4.5350, -25.0100, 5424,  -999.00,   3704.3,   2.4317,  34.9031, 2,  34.9030, 2,   -999.0, 9,    260.2, 2,    35.67, 2,    19.64, 2,     0.00, 2,     1.37, 2, -999.000, 9, -999.000, 9,   -999.0, 9,   -999.0, 9,   -999.0, 9,   2.1186,   -999.0, 9, -999.000, 9
318MHYDROS4, A16C, 361, 1, 29, 29, 2, 19890405, 1641, -4.5350, -25.0100, 5424,  -999.00,   3911.9,   2.1939,  34.8792, 2,  34.8810, 2,   -999.0, 9,    258.5, 2,    43.59, 2,    20.62, 2,     0.00, 2,     1.44, 2, -999.000, 9, -999.000, 9,   -999.0, 9,   -999.0, 9,   -999.0, 9,   1.8642,   -999.0, 9, -999.000, 9
318MHYDROS4, A16C, 361, 1, 30, 30, 2, 19890405, 1641, -4.5350, -25.0100, 5424,  -999.00,   4119.4,   1.7173,  34.8262, 2,  34.8270, 2,   -999.0, 9,    245.5, 2,    67.24, 2,    24.63, 2,     0.00, 2,     1.67, 2, -999.000, 9, -999.000, 9,   -999.0, 9,   -999.0, 9,   -999.0, 9,   1.3781,   -999.0, 9, -999.000, 9
318MHYDROS4, A16C, 361, 1, 31, 31, 2, 19890405, 1641, -4.5350, -25.0100, 5424,  -999.00,   4326.5,   1.1807,  34.7677, 2,  34.7690, 2,   -999.0, 9,    233.7, 2,    90.50, 2,    28.05, 2,     0.00, 2,     1.92, 2, -999.000, 9, -999.000, 9,   -999.0, 9,   -999.0, 9,   -999.0, 9,   0.8346,   -999.0, 9, -999.000, 9
318MHYDROS4, A16C, 361, 1, 32, 32, 2, 19890405, 1641, -4.5350, -25.0100, 5424,  -999.00,   4534.0,   0.9349,  34.7405, 2,  34.7400, 2,   -999.0, 9,    229.0, 2,   102.23, 2,    29.13, 2,     0.00, 2,     2.04, 2, -999.000, 9, -999.000, 9,   -999.0, 9,   -999.0, 9,   -999.0, 9,   0.5734,   -999.0, 9, -999.000, 9
318MHYDROS4, A16C, 361, 1, 33, 33, 2, 19890405, 1641, -4.5350, -25.0100, 5424,  -999.00,   4741.7,   0.8110,  34.7255, 2,  34.7250, 2,   -999.0, 9,    226.8, 2,   108.10, 2,    30.59, 2,     0.00, 2,     2.10, 2, -999.000, 9, -999.000, 9,   -999.0, 9,   -999.0, 9,   -999.0, 9,   0.4300,   -999.0, 9, -999.000, 9
318MHYDROS4, A16C, 361, 1, 34, 34, 2, 19890405, 1641, -4.5350, -25.0100, 5424,  -999.00,   5054.3,   0.7271,  34.7120, 2,  34.7110, 2,   -999.0, 9,    224.6, 2,   113.08, 2,    31.28, 2,     0.00, 2,     2.14, 2, -999.000, 9, -999.000, 9,   -999.0, 9,   -999.0, 9,   -999.0, 9,   0.3126,   -999.0, 9, -999.000, 9
318MHYDROS4, A16C, 361, 1, 35, 35, 2, 19890405, 1641, -4.5350, -25.0100, 5424,  -999.00,   5367.4,   0.7181,  34.7071, 2,  34.7070, 2,   -999.0, 9,    224.2, 2,   114.55, 2,    31.37, 2,     0.00, 2,     2.17, 2, -999.000, 9, -999.000, 9,   -999.0, 9,   -999.0, 9,   -999.0, 9,   0.2664,   5369.8, 2,    0.706, 2
318MHYDROS4, A16C, 361, 1, 36, 36, 2, 19890405, 1641, -4.5350, -25.0100, 5424,  -999.00,   5572.4,   0.7271,  34.7052, 2,  34.7050, 2,   -999.0, 9,    222.9, 2,   115.63, 2,    31.77, 2,     0.00, 2,     2.18, 2, -999.000, 9, -999.000, 9,   -999.0, 9,   -999.0, 9,   -999.0, 9,   0.2498,   -999.0, 9, -999.000, 9