BOTTLE,20110318CCHDOSIODM
EXPOCODE,SECT_ID,STNNBR,CASTNO,SAMPNO,BTLNBR,BTLNBR_FLAG_W,DATE,TIME,LATITUDE,LONGITUDE,DEPTH,CTDRAW,CTDPRS,CTDTMP,CTDSAL,CTDSAL_FLAG_W,SALNTY,SALNTY_FLAG_W,CTDOXY,CTDOXY_FLAG_W,OXYGEN,OXYGEN_FLAG_W,SILCAT,SILCAT_FLAG_W,NITRAT,NITRAT_FLAG_W,NITRIT,NITRIT_FLAG_W,PHSPHT,PHSPHT_FLAG_W,CFC-11,CFC-11_FLAG_W,CFC-12,CFC-12_FLAG_W,TCARBN,TCARBN_FLAG_W,ALKALI,ALKALI_FLAG_W,PCO2,PCO2_FLAG_W,THETA,REVPRS,REVPRS_FLAG_W,REVTMP,REVTMP_FLAG_W
,,,,,,,,,,,METERS,DBAR,DBAR,ITS-90,PSS-78,,PSS-78,,UMOL/KG,,UMOL/KG,,UMOL/KG,,UMOL/KG,,UMOL/KG,,UMOL/KG,,PMOL/KG,,PMOL/KG,,UMOL/KG,,UMOL/KG,,UATM,,DEG C,DBAR,,ITS-90,
318MHYDROS4, A16C, 366, 1, 1, 1, 2, 19890407, 0008, -1.9700, -24.9833, 4915,  -999.00,      1.1,  28.6310,  35.9552, 2,  35.9620, 2,   -999.0, 9,    217.4, 2,     2.34, 2,     0.00, 2,     0.00, 2,     0.05, 2,    1.514, 2,    0.783, 2,   2000.2, 2,   -999.0, 9,   -999.0, 9,  28.6307,   -999.0, 9, -999.000, 9
318MHYDROS4, A16C, 366, 1, 2, 2, 2, 19890407, 0008, -1.9700, -24.9833, 4915,  -999.00,     30.5,  28.4592,  35.9717, 2,  35.9830, 2,   -999.0, 9,    214.3, 2,     2.25, 2,     0.00, 2,     0.00, 2,     0.05, 2, -999.000, 9, -999.000, 9,   1999.4, 2,   -999.0, 9,   -999.0, 9,  28.4519,   -999.0, 9, -999.000, 9
318MHYDROS4, A16C, 366, 1, 3, 3, 2, 19890407, 0008, -1.9700, -24.9833, 4915,  -999.00,     61.9,  23.7975,  36.0951, 2,  36.0290, 2,   -999.0, 9,    180.9, 2,     3.32, 2,     2.54, 2,     0.13, 2,     0.40, 2, -999.000, 9, -999.000, 9,   -999.0, 9,   -999.0, 9,   -999.0, 9,  23.7845,   -999.0, 9, -999.000, 9
318MHYDROS4, A16C, 366, 1, 71, 71, 2, 19890407, 0008, -1.9700, -24.9833, 4915,  -999.00,     82.4,  16.7908,  35.7269, 2,  35.7240, 2,   -999.0, 9,    130.1, 2,     5.47, 2,    14.16, 2,     0.13, 2,     1.04, 2,    1.197, 2,    0.602, 2,   2148.8, 2,   -999.0, 9,   -999.0, 9,  16.7773,   -999.0, 9, -999.000, 9
318MHYDROS4, A16C, 366, 1, 5, 5, 2, 19890407, 0008, -1.9700, -24.9833, 4915,  -999.00,    108.1,  13.7800,  35.3781, 2,  35.3790, 2,   -999.0, 9,    121.4, 2,     7.91, 2,    19.64, 2,     0.02, 2,     1.32, 2, -999.000, 9, -999.000, 9,   -999.0, 9,   -999.0, 9,   -999.0, 9,  13.7645,   -999.0, 9, -999.000, 9
318MHYDROS4, A16C, 366, 1, 6, 6, 2, 19890407, 0008, -1.9700, -24.9833, 4915,  -999.00,    158.7,  13.3427,  35.3208, 2,  35.3190, 2,   -999.0, 9,    116.2, 2,     8.60, 2,    20.81, 2,     0.00, 2,     1.39, 2,    0.874, 2,    0.439, 2,   2172.8, 2,   2333.2, 2,    738.2, 2,  13.3204,   -999.0, 9, -999.000, 9
318MHYDROS4, A16C, 366, 1, 7, 7, 2, 19890407, 0008, -1.9700, -24.9833, 4915,  -999.00,    219.7,  12.6715,  35.2355, 2,  35.2360, 2,   -999.0, 9,     95.3, 2,     9.87, 2,    24.33, 2,     0.00, 2,     1.58, 2, -999.000, 9, -999.000, 9,   -999.0, 9,   -999.0, 9,   -999.0, 9,  12.6417,   -999.0, 9, -999.000, 9
318MHYDROS4, A16C, 366, 1, 8, 8, 2, 19890407, 0008, -1.9700, -24.9833, 4915,  -999.00,    296.1,  11.5689,  35.1065, 2,  35.1040, 2,   -999.0, 9,     89.2, 2,    11.63, 2,    27.26, 2,     0.00, 2,     1.75, 2,    0.481, 2,    0.242, 2,   2201.7, 2,   2317.1, 2,    974.6, 2,  11.5310,   -999.0, 9, -999.000, 9
318MHYDROS4, A16C, 366, 1, 9, 9, 2, 19890407, 0008, -1.9700, -24.9833, 4915,  -999.00,    347.6,   9.8547,  34.9093, 2,  34.8950, 2,   -999.0, 9,     87.0, 2,    14.85, 2,    30.88, 2,     0.00, 2,     1.97, 2, -999.000, 9, -999.000, 9,   -999.0, 9,   -999.0, 9,   -999.0, 9,   9.8145,   -999.0, 9, -999.000, 9
318MHYDROS4, A16C, 366, 1, 10, 10, 2, 19890407, 0008, -1.9700, -24.9833, 4915,  -999.00,    398.4,   8.3528,  34.7344, 2,  34.7330, 2,   -999.0, 9,    106.5, 2,    17.50, 2,    31.86, 2,     0.00, 2,     2.07, 2,    0.217, 2,    0.108, 2,   2210.4, 2,   2307.7, 2,   1094.5, 2,   8.3111,   -999.0, 9, -999.000, 9
318MHYDROS4, A16C, 366, 1, 11, 11, 2, 19890407, 0008, -1.9700, -24.9833, 4915,  -999.00,    464.6,   7.0406,  34.6000, 2,  34.6030, 2,   -999.0, 9,    133.0, 2,    19.94, 2,    31.67, 2,     0.00, 2,     2.10, 2, -999.000, 9, -999.000, 9,   -999.0, 9,   -999.0, 9,   -999.0, 9,   6.9963,   -999.0, 9, -999.000, 9
318MHYDROS4, A16C, 366, 1, 12, 12, 2, 19890407, 0008, -1.9700, -24.9833, 4915,  -999.00,    515.6,   6.2489,  34.5287, 2,  34.5280, 2,   -999.0, 9,    148.3, 2,    22.78, 2,    32.16, 2,     0.00, 2,     2.15, 2,    0.201, 2,    0.098, 2,   2203.1, 2,   -999.0, 9,   -999.0, 9,   6.2028,   -999.0, 9, -999.000, 9
318MHYDROS4, A16C, 366, 1, 13, 13, 2, 19890407, 0008, -1.9700, -24.9833, 4915,  -999.00,    617.0,   5.2221,  34.4610, 2,  34.4630, 2,   -999.0, 9,    163.5, 2,    26.69, 2,    32.65, 2,     0.00, 2,     2.21, 2,    0.153, 2,    0.081, 2,   2206.2, 2,   -999.0, 9,   -999.0, 9,   5.1714,   -999.0, 9, -999.000, 9
318MHYDROS4, A16C, 366, 1, 14, 14, 2, 19890407, 0008, -1.9700, -24.9833, 4915,  -999.00,    719.8,   4.9197,  34.4960, 2,  34.4950, 2,   -999.0, 9,    150.8, 2,    30.21, 2,    34.21, 2,     0.00, 2,     2.33, 2,    0.032, 2,    0.017, 2,   2220.2, 2,   2316.0, 2,   1112.1, 2,   4.8617,   -999.0, 9, -999.000, 9
318MHYDROS4, A16C, 366, 1, 15, 15, 2, 19890407, 0008, -1.9700, -24.9833, 4915,  -999.00,    821.6,   4.5901,  34.4889, 2,  34.4860, 2,   -999.0, 9,    160.0, 2,    31.77, 2,    33.73, 2,     0.00, 2,     2.29, 2,    0.040, 2,    0.020, 2,   -999.0, 9,   -999.0, 9,   -999.0, 9,   4.5253,   -999.0, 9, -999.000, 9
318MHYDROS4, A16C, 366, 1, 16, 16, 2, 19890407, 0008, -1.9700, -24.9833, 4915,  -999.00,    924.2,   4.2941,  34.5274, 2,  34.5270, 2,   -999.0, 9,    164.3, 2,    33.92, 2,    33.33, 2,     0.00, 2,     2.27, 2,    0.018, 2,    0.009, 2,   2222.1, 2,   2322.4, 2,   1082.3, 2,   4.2226,   -999.0, 9, -999.000, 9
318MHYDROS4, A16C, 366, 1, 17, 17, 2, 19890407, 0008, -1.9700, -24.9833, 4915,  -999.00,   1027.2,   4.3765,  34.6611, 2,  34.6530, 2,   -999.0, 9,    166.5, 2,    31.57, 2,    31.57, 2,     0.00, 2,     2.15, 2,    0.002, 2,    0.001, 2,   -999.0, 9,   -999.0, 9,   -999.0, 9,   4.2954,   -999.0, 9, -999.000, 9
318MHYDROS4, A16C, 366, 1, 18, 18, 2, 19890407, 0008, -1.9700, -24.9833, 4915,  -999.00,   1232.9,   4.5231,  34.8041, 2,  34.8030, 2,   -999.0, 9,    181.7, 2,    26.39, 2,    28.34, 2,     0.00, 2,     1.91, 2,    0.007, 2,    0.005, 2,   2203.7, 2,   -999.0, 9,   -999.0, 9,   4.4222,   -999.0, 9, -999.000, 9
318MHYDROS4, A16C, 366, 1, 19, 19, 2, 19890407, 0008, -1.9700, -24.9833, 4915,  -999.00,   1438.5,   4.3531,  34.9552, 2,  34.9550, 2,   -999.0, 9,    226.0, 2,    19.06, 2,    21.89, 2,     0.00, 2,     1.47, 2,    0.040, 2,    0.021, 2,   -999.0, 9,   -999.0, 9,   -999.0, 9,   4.2346,   -999.0, 9, -999.000, 9
318MHYDROS4, A16C, 366, 1, 20, 20, 2, 19890407, 0008, -1.9700, -24.9833, 4915,  -999.00,   1644.4,   4.0123,  34.9843, 2,  34.9850, 2,   -999.0, 9,    248.1, 2,    17.00, 2,    19.54, 2,     0.00, 2,     1.31, 2,    0.055, 2,    0.028, 2,   2171.1, 2,   2326.3, 2,    752.8, 2,   3.8786,   -999.0, 9, -999.000, 9
318MHYDROS4, A16C, 366, 1, 21, 21, 2, 19890407, 0008, -1.9700, -24.9833, 4915,  -999.00,   1850.6,   3.7358,  34.9770, 2,  34.9770, 2,   -999.0, 9,    254.2, 2,    18.37, 2,    19.25, 2,     0.00, 2,     1.29, 2,    0.034, 2,    0.018, 2,   -999.0, 9,   -999.0, 9,   -999.0, 9,   3.5864,   -999.0, 9, -999.000, 9
318MHYDROS4, A16C, 366, 1, 22, 22, 2, 19890407, 0008, -1.9700, -24.9833, 4915,  -999.00,   2056.5,   3.4617,  34.9639, 2,  34.9640, 2,   -999.0, 9,    255.0, 2,    21.01, 2,    19.35, 2,     0.00, 2,     1.29, 2,    0.011, 2,    0.009, 2,   2164.9, 2,   2324.4, 2,    732.1, 2,   3.2969,   -999.0, 9, -999.000, 9
318MHYDROS4, A16C, 366, 1, 23, 23, 2, 19890407, 0008, -1.9700, -24.9833, 4915,  -999.00,   2262.3,   3.1796,  34.9494, 2,  34.9500, 2,   -999.0, 9,    254.6, 2,    24.72, 2,    19.64, 2,     0.00, 2,     1.32, 2,    0.014, 2,    0.008, 2,   -999.0, 9,   -999.0, 9,   -999.0, 9,   2.9996,   -999.0, 9, -999.000, 9
318MHYDROS4, A16C, 366, 1, 24, 24, 2, 19890407, 0008, -1.9700, -24.9833, 4915,  -999.00,   2469.5,   3.0180,  34.9400, 2,  34.9420, 2,   -999.0, 9,    255.0, 2,    27.07, 2,    19.94, 2,     0.00, 2,     1.33, 2,    0.005, 2,    0.005, 2,   2168.0, 2,   -999.0, 9,   -999.0, 9,   2.8207,   -999.0, 9, -999.000, 9
318MHYDROS4, A16C, 366, 1, 25, 25, 2, 19890407, 0008, -1.9700, -24.9833, 4915,  -999.00,   2675.6,   2.8315,  34.9259, 2,  34.9270, 2,   -999.0, 9,    251.1, 2,    32.15, 2,    20.52, 2,     0.00, 2,     1.37, 2, -999.000, 9, -999.000, 9,   2180.2, 2,   -999.0, 9,   -999.0, 9,   2.6175,   -999.0, 9, -999.000, 9
318MHYDROS4, A16C, 366, 1, 26, 26, 2, 19890407, 0008, -1.9700, -24.9833, 4915,  -999.00,   2882.6,   2.6837,  34.9158, 2,  34.9150, 2,   -999.0, 9,    251.1, 2,    34.99, 2,    20.82, 2,     0.00, 2,     1.40, 2, -999.000, 9, -999.000, 9,   -999.0, 9,   -999.0, 9,   -999.0, 9,   2.4518,   -999.0, 9, -999.000, 9
318MHYDROS4, A16C, 366, 1, 27, 27, 2, 19890407, 0008, -1.9700, -24.9833, 4915,  -999.00,   3089.8,   2.6098,  34.9114, 2,  34.9120, 2,   -999.0, 9,    253.3, 2,    35.47, 2,    20.72, 2,     0.00, 2,     1.39, 2, -999.000, 9, -999.000, 9,   -999.0, 9,   -999.0, 9,   -999.0, 9,   2.3584,   -999.0, 9, -999.000, 9
318MHYDROS4, A16C, 366, 1, 28, 28, 2, 19890407, 0008, -1.9700, -24.9833, 4915,  -999.00,   3297.4,   2.5399,  34.9075, 2,  34.9060, 2,   -999.0, 9,    253.7, 2,    36.35, 2,    20.72, 2,     0.00, 2,     1.40, 2,    0.003, 2,    0.004, 2,   2174.4, 2,   2329.0, 2,    759.1, 2,   2.2683,   -999.0, 9, -999.000, 9
318MHYDROS4, A16C, 366, 1, 29, 29, 2, 19890407, 0008, -1.9700, -24.9833, 4915,  -999.00,   3504.7,   2.4608,  34.9092, 2,  34.9100, 2,   -999.0, 9,    262.9, 2,    31.57, 2,    19.45, 2,     0.00, 2,     1.31, 2, -999.000, 9, -999.000, 9,   -999.0, 9,   -999.0, 9,   -999.0, 9,   2.1689,   -999.0, 9, -999.000, 9
318MHYDROS4, A16C, 366, 1, 30, 30, 2, 19890407, 0008, -1.9700, -24.9833, 4915,  -999.00,   3712.5,   2.3809,  34.9034, 2,  34.9040, 2,   -999.0, 9,    264.6, 2,    32.54, 2,    19.25, 2,     0.00, 2,     1.30, 2, -999.000, 9, -999.000, 9,   -999.0, 9,   -999.0, 9,   -999.0, 9,   2.0683,   -999.0, 9, -999.000, 9
318MHYDROS4, A16C, 366, 1, 31, 31, 2, 19890407, 0008, -1.9700, -24.9833, 4915,  -999.00,   3920.2,   2.2499,  34.8894, 2,  34.8890, 2,   -999.0, 9,    262.4, 2,    37.33, 2,    19.94, 2,     0.00, 2,     1.36, 2, -999.000, 9, -999.000, 9,   2181.2, 2,   -999.0, 9,   -999.0, 9,   1.9177,   -999.0, 9, -999.000, 9
318MHYDROS4, A16C, 366, 1, 32, 32, 2, 19890407, 0008, -1.9700, -24.9833, 4915,  -999.00,   4128.3,   2.0000,  34.8590, 2,  34.8590, 2,   -999.0, 9,    255.5, 2,    49.84, 2,    21.99, 2,     0.00, 2,     1.50, 2,    0.016, 2,    0.008, 2,   -999.0, 9,   -999.0, 9,   -999.0, 9,   1.6515,   -999.0, 9, -999.000, 9
318MHYDROS4, A16C, 366, 1, 33, 33, 2, 19890407, 0008, -1.9700, -24.9833, 4915,  -999.00,   4336.1,   1.2503,  34.7752, 2,  34.7760, 2,   -999.0, 9,    236.4, 2,    84.93, 2,    27.27, 2,     0.00, 2,     1.87, 2, -999.000, 9, -999.000, 9,   2234.6, 2,   2370.5, 2,    887.9, 2,   0.9010,   -999.0, 9, -999.000, 9
318MHYDROS4, A16C, 366, 1, 34, 34, 2, 19890407, 0008, -1.9700, -24.9833, 4915,  -999.00,   4544.8,   0.8896,  34.7351, 2,  34.7350, 2,   -999.0, 9,    228.5, 2,   102.33, 2,    29.71, 2,     0.00, 2,     2.04, 2, -999.000, 9, -999.000, 9,   -999.0, 9,   -999.0, 9,   -999.0, 9,   0.5283,   -999.0, 9, -999.000, 9
318MHYDROS4, A16C, 366, 1, 35, 35, 2, 19890407, 0008, -1.9700, -24.9833, 4915,  -999.00,   4753.2,   0.7904,  34.7221, 2,  34.7210, 2,   -999.0, 9,    225.9, 2,   108.10, 2,    30.40, 2,     0.00, 2,     2.09, 2, -999.000, 9, -999.000, 9,   -999.0, 9,   -999.0, 9,   -999.0, 9,   0.4087,   4751.1, 2,    0.778, 2
318MHYDROS4, A16C, 366, 1, 36, 36, 2, 19890407, 0008, -1.9700, -24.9833, 4915,  -999.00,   5015.3,   0.7398,  34.7136, 2,  34.7130, 2,   -999.0, 9,    224.2, 2,   111.03, 2,    30.89, 2,     0.00, 2,     2.15, 2,    0.000, 2,    0.000, 2,   2256.1, 2,   2378.2, 2,    981.3, 2,   0.3294,   -999.0, 9, -999.000, 9