BOTTLE,20110318CCHDOSIODM
EXPOCODE,SECT_ID,STNNBR,CASTNO,SAMPNO,BTLNBR,BTLNBR_FLAG_W,DATE,TIME,LATITUDE,LONGITUDE,DEPTH,CTDRAW,CTDPRS,CTDTMP,CTDSAL,CTDSAL_FLAG_W,SALNTY,SALNTY_FLAG_W,CTDOXY,CTDOXY_FLAG_W,OXYGEN,OXYGEN_FLAG_W,SILCAT,SILCAT_FLAG_W,NITRAT,NITRAT_FLAG_W,NITRIT,NITRIT_FLAG_W,PHSPHT,PHSPHT_FLAG_W,CFC-11,CFC-11_FLAG_W,CFC-12,CFC-12_FLAG_W,TCARBN,TCARBN_FLAG_W,ALKALI,ALKALI_FLAG_W,PCO2,PCO2_FLAG_W,THETA,REVPRS,REVPRS_FLAG_W,REVTMP,REVTMP_FLAG_W
,,,,,,,,,,,METERS,DBAR,DBAR,ITS-90,PSS-78,,PSS-78,,UMOL/KG,,UMOL/KG,,UMOL/KG,,UMOL/KG,,UMOL/KG,,UMOL/KG,,PMOL/KG,,PMOL/KG,,UMOL/KG,,UMOL/KG,,UATM,,DEG C,DBAR,,ITS-90,
318MHYDROS4, A16C, 376, 2, 1, 1, 2, 19890412, 0209, 0.0100, -36.4933, 4505,  -999.00,      0.8,  27.2594,  36.3036, 2,  36.3050, 2,   -999.0, 9,    205.1, 2,     2.05, 2,     0.00, 2,     0.00, 2,     0.07, 2,    1.586, 2,    0.776, 2,   2014.1, 2,   2370.6, 2,    281.4, 2,  27.2592,   -999.0, 9, -999.000, 9
318MHYDROS4, A16C, 376, 2, 2, 2, 2, 19890412, 0209, 0.0100, -36.4933, 4505,  -999.00,     42.2,  27.1315,  36.3241, 2,  36.3250, 2,   -999.0, 9,    205.9, 2,     2.05, 2,     0.00, 2,     0.00, 2,     0.07, 2, -999.000, 9, -999.000, 9,   2026.0, 2,   2379.4, 2,    287.7, 2,  27.1217,   -999.0, 9, -999.000, 9
318MHYDROS4, A16C, 376, 2, 3, 3, 2, 19890412, 0209, 0.0100, -36.4933, 4505,  -999.00,     66.7,  23.0063,  36.5370, 2,  36.5460, 2,   -999.0, 9,    189.1, 2,     2.73, 2,     1.95, 2,     0.18, 2,     0.32, 2,    1.601, 2,    0.797, 2,   2080.0, 2,   2398.0, 2,    346.0, 2,  22.9926,   -999.0, 9, -999.000, 9
318MHYDROS4, A16C, 376, 2, 71, 71, 2, 19890412, 0209, 0.0100, -36.4933, 4505,  -999.00,     87.1,  19.7877,  36.2125, 2,  36.2170, 2,   -999.0, 9,    175.0, 2,     3.91, 2,     6.15, 2,     0.18, 2,     0.56, 2, -999.000, 9, -999.000, 9,   2108.4, 2,   2382.6, 2,    417.9, 2,  19.7716,   -999.0, 9, -999.000, 9
318MHYDROS4, A16C, 376, 2, 5, 5, 2, 19890412, 0209, 0.0100, -36.4933, 4505,  -999.00,    112.5,  16.7451,  35.8074, 2,  35.8110, 2,   -999.0, 9,    167.5, 2,     4.98, 2,    10.45, 2,     0.03, 2,     0.81, 2,    1.416, 2,    0.689, 2,   2123.1, 2,   2356.4, 2,    499.5, 2,  16.7266,   -999.0, 9, -999.000, 9
318MHYDROS4, A16C, 376, 2, 6, 6, 2, 19890412, 0209, 0.0100, -36.4933, 4505,  -999.00,    128.0,  14.6955,  35.5244, 2,  35.5320, 2,   -999.0, 9,    164.0, 2,     6.25, 2,    13.19, 2,     0.01, 2,     0.97, 2, -999.000, 9, -999.000, 9,   2130.6, 2,   2343.6, 2,    548.7, 2,  14.6764,   -999.0, 9, -999.000, 9
318MHYDROS4, A16C, 376, 2, 7, 7, 2, 19890412, 0209, 0.0100, -36.4933, 4505,  -999.00,    179.7,  12.5728,  35.2113, 2,  35.2110, 2,   -999.0, 9,    152.7, 2,     8.30, 2,    18.17, 2,     0.01, 2,     1.25, 2,    1.034, 2,    0.504, 2,   2150.2, 2,   2327.2, 2,    662.1, 2,  12.5486,   -999.0, 9, -999.000, 9
318MHYDROS4, A16C, 376, 2, 8, 8, 2, 19890412, 0209, 0.0100, -36.4933, 4505,  -999.00,    261.9,  10.9607,  35.0253, 2,  35.0220, 2,   -999.0, 9,    120.9, 2,    11.82, 2,    25.21, 2,     0.00, 2,     1.63, 2, -999.000, 9, -999.000, 9,   2179.1, 2,   2313.1, 2,    856.8, 2,  10.9284,   -999.0, 9, -999.000, 9
318MHYDROS4, A16C, 376, 2, 9, 9, 2, 19890412, 0209, 0.0100, -36.4933, 4505,  -999.00,    298.2,  10.0930,  34.9303, 2,  34.9290, 2,   -999.0, 9,    114.4, 2,    13.68, 2,    27.85, 2,     0.00, 2,     1.78, 2,    0.431, 2,    0.217, 2,   2191.4, 2,   2312.2, 2,    934.1, 2,  10.0581,   -999.0, 9, -999.000, 9
318MHYDROS4, A16C, 376, 2, 10, 10, 2, 19890412, 0209, 0.0100, -36.4933, 4505,  -999.00,    379.8,   8.7695,  34.7894, 2,  34.7920, 2,   -999.0, 9,    106.1, 2,    16.52, 2,    31.47, 2,     0.00, 2,     2.00, 2,    0.228, 2,    0.118, 2,   2210.4, 2,   2314.3, 2,   1049.9, 2,   8.7285,   -999.0, 9, -999.000, 9
318MHYDROS4, A16C, 376, 2, 11, 11, 2, 19890412, 0209, 0.0100, -36.4933, 4505,  -999.00,    497.0,   7.1104,  34.6088, 2,  34.6160, 2,   -999.0, 9,    150.0, 2,    19.65, 2,    30.40, 2,     0.00, 2,     1.98, 2,    0.284, 2,    0.149, 2,   2191.9, 2,   2305.1, 2,    975.5, 2,   7.0627,   -999.0, 9, -999.000, 9
318MHYDROS4, A16C, 376, 2, 12, 12, 2, 19890412, 0209, 0.0100, -36.4933, 4505,  -999.00,    568.7,   6.2778,  34.5461, 2,  34.5460, 2,   -999.0, 9,    147.8, 2,    22.78, 2,    32.36, 2,     0.00, 2,     2.13, 2,    0.160, 2,    0.085, 2,   2200.8, 2,   2305.1, 2,   1038.4, 2,   6.2266,   -999.0, 9, -999.000, 9
318MHYDROS4, A16C, 376, 2, 13, 13, 2, 19890412, 0209, 0.0100, -36.4933, 4505,  -999.00,    640.1,   5.5709,  34.5056, 2,  34.5050, 2,   -999.0, 9,    150.9, 2,    26.10, 2,    33.53, 2,     0.00, 2,     2.22, 2,    0.100, 2,    0.059, 2,   2205.3, 2,   2304.5, 2,   1076.4, 2,   5.5164,   -999.0, 9, -999.000, 9
318MHYDROS4, A16C, 376, 2, 14, 14, 2, 19890412, 0209, 0.0100, -36.4933, 4505,  -999.00,    721.4,   5.3027,  34.5109, 2,  34.5120, 2,   -999.0, 9,    147.4, 2,    27.76, 2,    34.41, 2,     0.00, 2,     2.28, 2,    0.051, 2,    0.031, 2,   2211.8, 2,   2307.2, 2,   1108.7, 2,   5.2423,   -999.0, 9, -999.000, 9
318MHYDROS4, A16C, 376, 2, 15, 15, 2, 19890412, 0209, 0.0100, -36.4933, 4505,  -999.00,    874.2,   4.5957,  34.5428, 2,  34.5420, 2,   -999.0, 9,    155.2, 2,    32.06, 2,    34.31, 2,     0.00, 2,     2.28, 2,    0.013, 2,    0.009, 2,   2217.9, 2,   2315.3, 2,   1099.5, 2,   4.5263,   -999.0, 9, -999.000, 9
318MHYDROS4, A16C, 376, 2, 16, 16, 2, 19890412, 0209, 0.0100, -36.4933, 4505,  -999.00,   1027.7,   4.5416,  34.6633, 2,  34.6610, 2,   -999.0, 9,    161.7, 2,    30.59, 2,    32.26, 2,     0.00, 2,     2.15, 2,    0.006, 2,    0.003, 2,   2211.1, 2,   2314.9, 2,   1052.2, 2,   4.4591,   -999.0, 9, -999.000, 9
318MHYDROS4, A16C, 376, 2, 17, 17, 2, 19890412, 0209, 0.0100, -36.4933, 4505,  -999.00,   1181.5,   4.5241,  34.7785, 2,  34.7760, 2,   -999.0, 9,    176.5, 2,    27.27, 2,    29.52, 2,     0.00, 2,     1.95, 2,    0.003, 2,    0.007, 2,   2203.5, 2,   2319.2, 2,    972.0, 2,   4.4279,   -999.0, 9, -999.000, 9
318MHYDROS4, A16C, 376, 2, 18, 18, 2, 19890412, 0209, 0.0100, -36.4933, 4505,  -999.00,   1335.2,   4.5474,  34.9539, 2,  34.9540, 2,   -999.0, 9,    217.7, 2,    19.45, 2,    22.77, 2,     0.00, 2,     1.50, 2,    0.053, 2,    0.033, 2,   2178.2, 2,   2320.6, 2,    814.2, 2,   4.4365,   -999.0, 9, -999.000, 9
318MHYDROS4, A16C, 376, 2, 19, 19, 2, 19890412, 0209, 0.0100, -36.4933, 4505,  -999.00,   1438.6,   4.3613,  34.9559, 2,  34.9550, 2,   -999.0, 9,    224.7, 2,    19.25, 2,    22.18, 2,     0.00, 2,     1.47, 2,    0.039, 2,    0.037, 2,   2175.2, 2,   2328.9, 2,    762.3, 2,   4.2427,   -999.0, 9, -999.000, 9
318MHYDROS4, A16C, 376, 2, 20, 20, 2, 19890412, 0209, 0.0100, -36.4933, 4505,  -999.00,   1540.9,   4.1486,  34.9690, 2,  34.9690, 2,   -999.0, 9,    235.9, 2,    18.27, 2,    21.01, 2,     0.00, 2,     1.39, 2,    0.022, 2,    0.014, 2,   2168.7, 2,   2325.4, 2,    746.0, 2,   4.0230,   -999.0, 9, -999.000, 9
318MHYDROS4, A16C, 376, 2, 21, 21, 2, 19890412, 0209, 0.0100, -36.4933, 4505,  -999.00,   1644.7,   4.0057,  34.9828, 2,  34.9830, 2,   -999.0, 9,    247.7, 2,    17.20, 2,    19.74, 2,     0.00, 2,     1.29, 2,    0.041, 2,    0.030, 2,   2142.5, 3,   2303.6, 3,    714.3, 2,   3.8721,   -999.0, 9, -999.000, 9
318MHYDROS4, A16C, 376, 2, 22, 22, 2, 19890412, 0209, 0.0100, -36.4933, 4505,  -999.00,   1746.7,   3.9671,  34.9890, 2, -999.0000, 9,   -999.0, 9,    252.5, 2,    16.61, 2,    19.15, 2,     0.00, 2,     1.26, 2,    0.075, 2,    0.044, 2,   2163.3, 2,   2331.0, 2,    699.4, 2,   3.8243,   -999.0, 9, -999.000, 9
318MHYDROS4, A16C, 376, 2, 23, 23, 2, 19890412, 0209, 0.0100, -36.4933, 4505,  -999.00,   1900.6,   3.7345,  34.9832, 2,  34.9840, 2,   -999.0, 9,    257.7, 2,    17.49, 2,    18.76, 2,     0.00, 2,     1.24, 2,    0.056, 2,    0.032, 2,   2159.7, 2,   2324.2, 2,    709.4, 2,   3.5804,   -999.0, 9, -999.000, 9
318MHYDROS4, A16C, 376, 2, 24, 24, 2, 19890412, 0209, 0.0100, -36.4933, 4505,  -999.00,   2054.9,   3.5142,  34.9675, 2,  34.9670, 2,   -999.0, 9,    254.6, 2,    20.81, 2,    19.54, 2,     0.00, 2,     1.28, 2,    0.009, 2,    0.009, 2,   2163.2, 2,   2323.6, 2,    727.7, 2,   3.3487,   -999.0, 9, -999.000, 9
318MHYDROS4, A16C, 376, 2, 25, 25, 2, 19890412, 0209, 0.0100, -36.4933, 4505,  -999.00,   2261.7,   3.1929,  34.9556, 2,  34.9560, 2,   -999.0, 9,    258.5, 2,    23.65, 2,    19.54, 2,     0.00, 2,     1.28, 2,    0.015, 2,    0.016, 2,   -999.0, 9,   -999.0, 9,    706.5, 2,   3.0127,   -999.0, 9, -999.000, 9
318MHYDROS4, A16C, 376, 2, 26, 26, 2, 19890412, 0209, 0.0100, -36.4933, 4505,  -999.00,   2467.2,   3.0469,  34.9497, 2,  34.9500, 2,   -999.0, 9,    260.3, 2,    24.53, 2,    19.25, 2,     0.00, 2,     1.27, 2,    0.017, 2,    0.013, 2,   2161.1, 2,   2328.5, 2,    700.0, 2,   2.8493,   -999.0, 9, -999.000, 9
318MHYDROS4, A16C, 376, 2, 27, 27, 2, 19890412, 0209, 0.0100, -36.4933, 4505,  -999.00,   2724.6,   2.9145,  34.9368, 2,  34.9370, 2,   -999.0, 9,    256.8, 2,    28.44, 2,    20.03, 2,     0.00, 2,     1.31, 2,    0.007, 2,    0.004, 2,   2169.4, 2,   2334.3, 2,    713.9, 2,   2.6938,   -999.0, 9, -999.000, 9
318MHYDROS4, A16C, 376, 2, 28, 28, 2, 19890412, 0209, 0.0100, -36.4933, 4505,  -999.00,   2982.6,   2.7216,  34.9267, 2,  34.9300, 2,   -999.0, 9,    258.9, 2,    30.29, 2,    19.94, 2,     0.00, 2,     1.30, 2,    0.012, 2,    0.009, 2,   2172.1, 2,   2334.1, 2,    726.7, 2,   2.4787,   -999.0, 9, -999.000, 9
318MHYDROS4, A16C, 376, 2, 29, 29, 2, 19890412, 0209, 0.0100, -36.4933, 4505,  -999.00,   3189.6,   2.6675,  34.9209, 2,  34.9210, 2,   -999.0, 9,    258.5, 2,    31.96, 2,    20.13, 2,     0.00, 2,     1.31, 2, -999.000, 9, -999.000, 9,   2167.4, 2,   2326.5, 2,    736.0, 2,   2.4042,   3188.1, 2,    2.660, 2
318MHYDROS4, A16C, 376, 2, 30, 30, 2, 19890412, 0209, 0.0100, -36.4933, 4505,  -999.00,   3394.9,   2.5670,  34.9134, 2,  34.9130, 2,   -999.0, 9,    258.5, 2,    33.23, 2,    20.13, 2,     0.00, 2,     1.34, 2,    0.010, 2,    0.007, 2,   2174.0, 2,   2333.4, 2,    738.3, 2,   2.2842,   -999.0, 9, -999.000, 9
318MHYDROS4, A16C, 376, 2, 31, 31, 2, 19890412, 0209, 0.0100, -36.4933, 4505,  -999.00,   3602.7,   2.4514,  34.9100, 2,  34.9110, 2,   -999.0, 9,    263.7, 2,    30.98, 2,    19.35, 2,     0.00, 2,     1.29, 2,    0.038, 2,    0.020, 2,   2162.6, 2,   2325.1, 2,    719.7, 2,   2.1490,   -999.0, 9, -999.000, 9
318MHYDROS4, A16C, 376, 2, 32, 32, 2, 19890412, 0209, 0.0100, -36.4933, 4505,  -999.00,   3810.7,   2.3965,  34.9041, 2,  34.9040, 2,   -999.0, 9,    265.0, 2,    32.44, 2,    19.55, 2,     0.00, 2,     1.30, 2,    0.033, 2,    0.019, 2,   2172.4, 2,   2334.1, 2,    728.1, 2,   2.0725,   -999.0, 9, -999.000, 9
318MHYDROS4, A16C, 376, 2, 33, 33, 2, 19890412, 0209, 0.0100, -36.4933, 4505,  -999.00,   4020.0,   2.2726,  34.8933, 2,  34.8930, 2,   -999.0, 9,    263.7, 2,    36.16, 2,    19.84, 2,     0.00, 2,     1.34, 2,    0.041, 2,    0.024, 2,   2166.6, 2,   2325.5, 2,    736.8, 2,   1.9285,   -999.0, 9, -999.000, 9
318MHYDROS4, A16C, 376, 2, 34, 34, 2, 19890412, 0209, 0.0100, -36.4933, 4505,  -999.00,   4229.1,   1.5097,  34.8032, 2,  34.8030, 2,   -999.0, 9,    241.1, 2,    77.11, 2,    26.09, 2,     0.00, 2,     1.77, 2,    0.000, 2,    0.007, 2,   2214.7, 2,   2358.9, 2,    834.5, 2,   1.1645,   -999.0, 9, -999.000, 9
318MHYDROS4, A16C, 376, 2, 35, 35, 2, 19890412, 0209, 0.0100, -36.4933, 4505,  -999.00,   4437.8,   1.0541,  34.7519, 2,  34.7510, 2,   -999.0, 9,    231.1, 2,    98.03, 2,    29.13, 2,     0.00, 2,     1.97, 2,    0.003, 2,    0.005, 2,   2238.7, 2,   -999.0, 9,   -999.0, 9,   0.6996,   4428.0, 2,    1.050, 2
318MHYDROS4, A16C, 376, 2, 36, 36, 2, 19890412, 0209, 0.0100, -36.4933, 4505,  -999.00,   4583.0,   0.9804,  34.7428, 2,  34.7420, 2,   -999.0, 9,    229.0, 2,   102.33, 2,    29.61, 2,     0.00, 2,     2.02, 2,    0.000, 2,    0.007, 2,   2234.5, 2,   2364.3, 2,    922.9, 2,   0.6118,   -999.0, 9, -999.000, 9