BOTTLE,20110318CCHDOSIODM
EXPOCODE,SECT_ID,STNNBR,CASTNO,SAMPNO,BTLNBR,BTLNBR_FLAG_W,DATE,TIME,LATITUDE,LONGITUDE,DEPTH,CTDRAW,CTDPRS,CTDTMP,CTDSAL,CTDSAL_FLAG_W,SALNTY,SALNTY_FLAG_W,CTDOXY,CTDOXY_FLAG_W,OXYGEN,OXYGEN_FLAG_W,SILCAT,SILCAT_FLAG_W,NITRAT,NITRAT_FLAG_W,NITRIT,NITRIT_FLAG_W,PHSPHT,PHSPHT_FLAG_W,CFC-11,CFC-11_FLAG_W,CFC-12,CFC-12_FLAG_W,TCARBN,TCARBN_FLAG_W,ALKALI,ALKALI_FLAG_W,PCO2,PCO2_FLAG_W,THETA,REVPRS,REVPRS_FLAG_W,REVTMP,REVTMP_FLAG_W
,,,,,,,,,,,METERS,DBAR,DBAR,ITS-90,PSS-78,,PSS-78,,UMOL/KG,,UMOL/KG,,UMOL/KG,,UMOL/KG,,UMOL/KG,,UMOL/KG,,PMOL/KG,,PMOL/KG,,UMOL/KG,,UMOL/KG,,UATM,,DEG C,DBAR,,ITS-90,
318MHYDROS4, A16C, 327, 1, 1, 1, 2, 19890325, 1104, -24.4000, -25.0017, 5666,  -999.00,      2.8,  27.2375,  36.9630, 2,  36.9710, 2,   -999.0, 9,   -999.0, 9,  -999.00, 9,  -999.00, 9,  -999.00, 9,  -999.00, 9, -999.000, 9, -999.000, 9,   2057.8, 2,   -999.0, 9,    284.7, 2,  27.2368,   -999.0, 9, -999.000, 9
318MHYDROS4, A16C, 327, 1, 2, 2, 2, 19890325, 1104, -24.4000, -25.0017, 5666,  -999.00,      3.6,  27.2417,  36.9629, 2,  36.9660, 2,   -999.0, 9,    203.0, 2,     1.56, 2,     0.00, 2,     0.00, 2,     0.10, 2,    1.538, 2,    0.814, 2,   -999.0, 9,   -999.0, 9,   -999.0, 9,  27.2409,   -999.0, 9, -999.000, 9
318MHYDROS4, A16C, 327, 1, 3, 3, 2, 19890325, 1104, -24.4000, -25.0017, 5666,  -999.00,     31.9,  27.1513,  36.9607, 2,  36.9600, 2,   -999.0, 9,    203.7, 2,     1.76, 2,     0.00, 2,     0.00, 2,     0.10, 2,    1.538, 2,    0.882, 2,   2058.5, 2,   2424.6, 2,    288.3, 2,  27.1439,   -999.0, 9, -999.000, 9
318MHYDROS4, A16C, 327, 1, 71, 71, 2, 19890325, 1104, -24.4000, -25.0017, 5666,  -999.00,     62.8,  23.0105,  36.6493, 2,  36.6490, 2,   -999.0, 9,    232.6, 2,     2.15, 2,     0.00, 2,     0.00, 2,     0.12, 2,    1.835, 2,    0.999, 2,   2055.1, 2,   -999.0, 9,   -999.0, 9,  22.9976,   -999.0, 9, -999.000, 9
318MHYDROS4, A16C, 327, 1, 5, 5, 2, 19890325, 1104, -24.4000, -25.0017, 5666,  -999.00,     99.5,  21.4336,  36.5786, 2,  36.5590, 2,   -999.0, 9,    222.9, 2,     2.15, 2,     0.00, 2,     0.00, 2,     0.14, 2, -999.000, 9, -999.000, 9,   -999.0, 9,   -999.0, 9,   -999.0, 9,  21.4142,   -999.0, 9, -999.000, 9
318MHYDROS4, A16C, 327, 1, 6, 6, 2, 19890325, 1104, -24.4000, -25.0017, 5666,  -999.00,    150.2,  19.5112,  36.2267, 2,  36.1840, 2,   -999.0, 9,    216.4, 2,     2.15, 2,     0.20, 2,     0.07, 2,     0.21, 2, -999.000, 9, -999.000, 9,   2079.4, 2,   -999.0, 9,   -999.0, 9,  19.4838,   -999.0, 9, -999.000, 9
318MHYDROS4, A16C, 327, 1, 7, 7, 2, 19890325, 1104, -24.4000, -25.0017, 5666,  -999.00,    201.6,  16.4312,  35.6290, 2,  35.6230, 2,   -999.0, 9,    211.5, 2,     2.44, 2,     2.73, 2,     0.01, 2,     0.45, 2,    2.018, 2,    1.107, 2,   -999.0, 9,   -999.0, 9,   -999.0, 9,  16.3985,   -999.0, 9, -999.000, 9
318MHYDROS4, A16C, 327, 1, 8, 8, 2, 19890325, 1104, -24.4000, -25.0017, 5666,  -999.00,    247.9,  14.8192,  35.3909, 2,  35.3860, 2,   -999.0, 9,    210.2, 2,     2.83, 2,     5.67, 2,     0.00, 2,     0.56, 2, -999.000, 9, -999.000, 9,   2093.4, 2,   -999.0, 9,   -999.0, 9,  14.7818,   -999.0, 9, -999.000, 9
318MHYDROS4, A16C, 327, 1, 9, 9, 2, 19890325, 1104, -24.4000, -25.0017, 5666,  -999.00,    298.3,  13.7699,  35.2702, 2,  35.2700, 2,   -999.0, 9,    210.5, 2,     3.42, 2,     7.82, 2,     0.00, 2,     0.67, 2, -999.000, 9, -999.000, 9,   2108.2, 2,   -999.0, 9,   -999.0, 9,  13.7270,   -999.0, 9, -999.000, 9
318MHYDROS4, A16C, 327, 1, 10, 10, 2, 19890325, 1104, -24.4000, -25.0017, 5666,  -999.00,    400.9,  11.5792,  34.9982, 2,  34.9920, 2,   -999.0, 9,    202.0, 2,     6.16, 2,    13.97, 2,     0.00, 2,     1.04, 2,    1.492, 2,    0.798, 2,   2132.6, 2,   -999.0, 9,   -999.0, 9,  11.5277,   -999.0, 9, -999.000, 9
318MHYDROS4, A16C, 327, 1, 11, 11, 2, 19890325, 1104, -24.4000, -25.0017, 5666,  -999.00,    497.9,   9.3988,  34.7464, 2,  34.7520, 2,   -999.0, 9,    190.5, 2,    10.16, 2,    20.23, 2,     0.00, 2,     1.42, 2,    1.077, 2,    0.580, 2,   2150.9, 2,   -999.0, 9,   -999.0, 9,   9.3425,   -999.0, 9, -999.000, 9
318MHYDROS4, A16C, 327, 1, 12, 12, 2, 19890325, 1104, -24.4000, -25.0017, 5666,  -999.00,    600.0,   7.4615,  34.5547, 2,  34.5590, 2,   -999.0, 9,    188.5, 2,    15.54, 2,    25.32, 2,     0.00, 2,     1.74, 2,    0.763, 2,    0.419, 2,   2162.3, 2,   -999.0, 9,   -999.0, 9,   7.4020,   -999.0, 9, -999.000, 9
318MHYDROS4, A16C, 327, 1, 13, 13, 2, 19890325, 1104, -24.4000, -25.0017, 5666,  -999.00,    803.2,   4.7110,  34.3752, 2,  34.3770, 2,   -999.0, 9,    196.9, 2,    28.16, 2,    30.89, 2,     0.00, 2,     2.12, 2,    0.321, 2,    0.203, 2,   2179.0, 2,   -999.0, 9,   -999.0, 9,   4.6472,   -999.0, 9, -999.000, 9
318MHYDROS4, A16C, 327, 1, 14, 14, 2, 19890325, 1104, -24.4000, -25.0017, 5666,  -999.00,    996.8,   3.5984,  34.4402, 2,  34.4390, 2,   -999.0, 9,    187.7, 2,    42.53, 2,    32.75, 2,     0.00, 2,     2.26, 2,    0.064, 2,    0.054, 2,   2199.1, 2,   -999.0, 9,   -999.0, 9,   3.5262,   -999.0, 9, -999.000, 9
318MHYDROS4, A16C, 327, 1, 15, 15, 2, 19890325, 1104, -24.4000, -25.0017, 5666,  -999.00,   1197.9,   3.2470,  34.5868, 2,  34.5870, 2,   -999.0, 9,    187.7, 2,    48.48, 2,    31.38, 2,     0.00, 2,     2.15, 2,    0.007, 2,    0.009, 2,   2218.1, 2,   -999.0, 9,   -999.0, 9,   3.1614,   -999.0, 9, -999.000, 9
318MHYDROS4, A16C, 327, 1, 16, 16, 2, 19890325, 1104, -24.4000, -25.0017, 5666,  -999.00,   1399.4,   3.1514,  34.6943, 2,  34.6950, 2,   -999.0, 9,    197.8, 2,    47.60, 2,    29.22, 2,     0.00, 2,     1.98, 2, -999.000, 9,    0.008, 2,   2224.0, 2,   -999.0, 9,   -999.0, 9,   3.0500,   -999.0, 9, -999.000, 9
318MHYDROS4, A16C, 327, 1, 17, 17, 2, 19890325, 1104, -24.4000, -25.0017, 5666,  -999.00,   1589.9,   3.0846,  34.7825, 2,  34.7820, 2,   -999.0, 9,    212.1, 2,    43.49, 2,    26.58, 2,     0.00, 2,     1.81, 2,    0.003, 2,    0.001, 2,   2212.5, 2,   -999.0, 9,   -999.0, 9,   2.9677,   -999.0, 9, -999.000, 9
318MHYDROS4, A16C, 327, 1, 18, 18, 2, 19890325, 1104, -24.4000, -25.0017, 5666,  -999.00,   1801.4,   3.1161,  34.8650, 2,  34.8670, 2,   -999.0, 9,    231.2, 2,    35.87, 2,    23.55, 2,     0.00, 2,     1.57, 2,    0.005, 2,    0.006, 2,   -999.0, 9,   -999.0, 9,   -999.0, 9,   2.9800,   -999.0, 9, -999.000, 9
318MHYDROS4, A16C, 327, 1, 19, 19, 2, 19890325, 1104, -24.4000, -25.0017, 5666,  -999.00,   2002.4,   3.1621,  34.9180, 2,  34.9190, 2,   -999.0, 9,    246.9, 2,    29.12, 2,    21.11, 2,     0.00, 2,     1.43, 2,    0.002, 2,    0.007, 2,   2184.0, 2,   -999.0, 9,   -999.0, 9,   3.0070,   -999.0, 9, -999.000, 9
318MHYDROS4, A16C, 327, 1, 20, 20, 2, 19890325, 1104, -24.4000, -25.0017, 5666,  -999.00,   2203.4,   3.0715,  34.9321, 2,  34.9330, 2,   -999.0, 9,    250.9, 2,    27.85, 2,    20.52, 2,     0.00, 2,     1.37, 2, -999.000, 9, -999.000, 9,   -999.0, 9,   -999.0, 9,   -999.0, 9,   2.8989,   -999.0, 9, -999.000, 9
318MHYDROS4, A16C, 327, 1, 21, 21, 2, 19890325, 1104, -24.4000, -25.0017, 5666,  -999.00,   2405.0,   2.9903,  34.9306, 2,  34.9310, 2,   -999.0, 9,    252.5, 2,    29.12, 2,    20.52, 2,     0.00, 2,     1.37, 2, -999.000, 9, -999.000, 9,   2172.3, 2,   -999.0, 9,   -999.0, 9,   2.7999,   -999.0, 9, -999.000, 9
318MHYDROS4, A16C, 327, 1, 22, 22, 2, 19890325, 1104, -24.4000, -25.0017, 5666,  -999.00,   2652.9,   2.8617,  34.9241, 2,  34.9250, 2,   -999.0, 9,    252.5, 2,    31.66, 2,    20.62, 2,     0.00, 2,     1.39, 2, -999.000, 9, -999.000, 9,   -999.0, 9,   -999.0, 9,   -999.0, 9,   2.6493,   -999.0, 9, -999.000, 9
318MHYDROS4, A16C, 327, 1, 23, 23, 2, 19890325, 1104, -24.4000, -25.0017, 5666,  -999.00,   2906.5,   2.7400,  34.9170, 2,  34.9170, 2,   -999.0, 9,    252.5, 2,    34.01, 2,    20.82, 2,     0.00, 2,     1.39, 2,    0.000, 2,    0.005, 2,   2182.2, 2,   -999.0, 9,   -999.0, 9,   2.5046,   -999.0, 9, -999.000, 9
318MHYDROS4, A16C, 327, 1, 24, 24, 2, 19890325, 1104, -24.4000, -25.0017, 5666,  -999.00,   3155.5,   2.6090,  34.9073, 2,  34.9080, 2,   -999.0, 9,    253.1, 2,    37.04, 2,    21.01, 2,     0.00, 2,     1.42, 2, -999.000, 9, -999.000, 9,   -999.0, 9,   -999.0, 9,   -999.0, 9,   2.3508,   -999.0, 9, -999.000, 9
318MHYDROS4, A16C, 327, 1, 25, 25, 2, 19890325, 1104, -24.4000, -25.0017, 5666,  -999.00,   3404.5,   2.4214,  34.8895, 2,  34.8910, 2,   -999.0, 9,    250.8, 2,    43.39, 2,    21.79, 2,     0.00, 2,     1.47, 2, -999.000, 9, -999.000, 9,   2180.8, 2,   -999.0, 9,   -999.0, 9,   2.1413,   -999.0, 9, -999.000, 9
318MHYDROS4, A16C, 327, 1, 26, 26, 2, 19890325, 1104, -24.4000, -25.0017, 5666,  -999.00,   3601.5,   2.2066,  34.8674, 2,  34.8680, 2,   -999.0, 9,    247.6, 2,    51.70, 2,    22.97, 2,     0.00, 2,     1.55, 2, -999.000, 9, -999.000, 9,   -999.0, 9,   -999.0, 9,   -999.0, 9,   1.9108,   -999.0, 9, -999.000, 9
318MHYDROS4, A16C, 327, 1, 27, 27, 2, 19890325, 1104, -24.4000, -25.0017, 5666,  -999.00,   3798.6,   1.9362,  34.8395, 2,  34.8410, 2,   -999.0, 9,    243.9, 2,    61.86, 2,    24.43, 2,     0.00, 2,     1.66, 2, -999.000, 9, -999.000, 9,   2190.9, 2,   -999.0, 9,   -999.0, 9,   1.6263,   -999.0, 9, -999.000, 9
318MHYDROS4, A16C, 327, 1, 28, 28, 2, 19890325, 1104, -24.4000, -25.0017, 5666,  -999.00,   3991.1,   1.7128,  34.8165, 2,  34.8160, 2,   -999.0, 9,    240.7, 2,    70.86, 2,    25.80, 2,     0.00, 2,     1.74, 2, -999.000, 9,    0.003, 2,   2201.2, 2,   -999.0, 9,   -999.0, 9,   1.3880,   -999.0, 9, -999.000, 9
318MHYDROS4, A16C, 327, 1, 29, 29, 2, 19890325, 1104, -24.4000, -25.0017, 5666,  -999.00,   4204.4,   1.4292,  34.7871, 2,  34.7880, 2,   -999.0, 9,    235.6, 2,    81.80, 2,    27.17, 2,     0.00, 2,     1.86, 2, -999.000, 9, -999.000, 9,   -999.0, 9,   -999.0, 9,   -999.0, 9,   1.0892,   -999.0, 9, -999.000, 9
318MHYDROS4, A16C, 327, 1, 30, 30, 2, 19890325, 1104, -24.4000, -25.0017, 5666,  -999.00,   4401.5,   1.2251,  34.7654, 2,  34.7660, 2,   -999.0, 9,    232.9, 2,    90.70, 2,    28.34, 2,     0.00, 2,     1.94, 2, -999.000, 9, -999.000, 9,   -999.0, 9,   -999.0, 9,   -999.0, 9,   0.8693,   -999.0, 9, -999.000, 9
318MHYDROS4, A16C, 327, 1, 31, 31, 2, 19890325, 1104, -24.4000, -25.0017, 5666,  -999.00,   4589.6,   1.0928,  34.7511, 2,  34.7520, 2,   -999.0, 9,    230.0, 2,    95.88, 2,    28.93, 2,     0.00, 2,     1.99, 2, -999.000, 9, -999.000, 9,   2224.4, 2,   -999.0, 9,   -999.0, 9,   0.7199,   -999.0, 9, -999.000, 9
318MHYDROS4, A16C, 327, 1, 32, 32, 2, 19890325, 1104, -24.4000, -25.0017, 5666,  -999.00,   4787.0,   1.0073,  34.7409, 2,  34.7410, 2,   -999.0, 9,    229.5, 2,    99.59, 2,    29.52, 2,     0.00, 2,     2.03, 2,    0.002, 2, -999.000, 9,   -999.0, 9,   -999.0, 9,   -999.0, 9,   0.6144,   -999.0, 9, -999.000, 9
318MHYDROS4, A16C, 327, 1, 33, 33, 2, 19890325, 1104, -24.4000, -25.0017, 5666,  -999.00,   5046.3,   0.8689,  34.7249, 2,  34.7260, 2,   -999.0, 9,    226.9, 2,   106.34, 2,    30.40, 2,     0.00, 2,     2.08, 2, -999.000, 9, -999.000, 9,   2242.3, 2,   -999.0, 9,   -999.0, 9,   0.4503,   -999.0, 9, -999.000, 9
318MHYDROS4, A16C, 327, 1, 34, 34, 2, 19890325, 1104, -24.4000, -25.0017, 5666,  -999.00,   5326.5,   0.7859,  34.7134, 2,  34.7140, 2,   -999.0, 9,    226.1, 2,   110.93, 2,    30.98, 2,     0.00, 2,     2.15, 2, -999.000, 9, -999.000, 9,   -999.0, 9,   -999.0, 9,   -999.0, 9,   0.3366,   -999.0, 9, -999.000, 9
318MHYDROS4, A16C, 327, 1, 35, 35, 2, 19890325, 1104, -24.4000, -25.0017, 5666,  -999.00,   5639.0,   0.7482,  34.7058, 2,  34.7050, 2,   -999.0, 9,    224.6, 2,   113.28, 2,    31.37, 2,     0.00, 2,     2.16, 2,    0.007, 2,    0.004, 2,   2245.8, 2,   -999.0, 9,   -999.0, 9,   0.2617,   5642.2, 2,    0.742, 2
318MHYDROS4, A16C, 327, 1, 36, 36, 2, 19890325, 1104, -24.4000, -25.0017, 5666,  -999.00,   5824.1,   0.7538,  34.7041, 2,  34.7040, 2,   -999.0, 9,    224.0, 2,   114.65, 2,    31.37, 2,     0.00, 2,     2.17, 2,    0.008, 2,    0.004, 2,   2256.7, 2,   -999.0, 9,   -999.0, 9,   0.2437,   -999.0, 9, -999.000, 9