BOTTLE,20110318CCHDOSIODM
EXPOCODE,SECT_ID,STNNBR,CASTNO,SAMPNO,BTLNBR,BTLNBR_FLAG_W,DATE,TIME,LATITUDE,LONGITUDE,DEPTH,CTDRAW,CTDPRS,CTDTMP,CTDSAL,CTDSAL_FLAG_W,SALNTY,SALNTY_FLAG_W,CTDOXY,CTDOXY_FLAG_W,OXYGEN,OXYGEN_FLAG_W,SILCAT,SILCAT_FLAG_W,NITRAT,NITRAT_FLAG_W,NITRIT,NITRIT_FLAG_W,PHSPHT,PHSPHT_FLAG_W,CFC-11,CFC-11_FLAG_W,CFC-12,CFC-12_FLAG_W,TCARBN,TCARBN_FLAG_W,ALKALI,ALKALI_FLAG_W,PCO2,PCO2_FLAG_W,THETA,REVPRS,REVPRS_FLAG_W,REVTMP,REVTMP_FLAG_W
,,,,,,,,,,,METERS,DBAR,DBAR,ITS-90,PSS-78,,PSS-78,,UMOL/KG,,UMOL/KG,,UMOL/KG,,UMOL/KG,,UMOL/KG,,UMOL/KG,,PMOL/KG,,PMOL/KG,,UMOL/KG,,UMOL/KG,,UATM,,DEG C,DBAR,,ITS-90,
318MHYDROS4, A16C, 312, 1, 17, 17, 2, 19890315, 0659, -35.1667, -51.4500, 2344,  -999.00,      1.3,  24.8730,  36.6973, 2,  36.6980, 2,   -999.0, 9,    213.6, 2,     1.46, 2,     0.00, 2,     0.00, 2,     0.05, 2,    1.681, 2,    0.859, 2,   2037.1, 2,   2387.6, 2,    296.5, 2,  24.8727,   -999.0, 9, -999.000, 9
318MHYDROS4, A16C, 312, 1, 18, 18, 2, 19890315, 0659, -35.1667, -51.4500, 2344,  -999.00,     44.8,  23.9171,  36.9338, 2,  36.9330, 2,   -999.0, 9,    225.2, 2,     1.85, 2,     0.00, 2,     0.00, 2,     0.04, 2, -999.000, 9, -999.000, 9,   2054.3, 2,   2413.6, 2,    293.8, 2,  23.9076,   -999.0, 9, -999.000, 9
318MHYDROS4, A16C, 312, 1, 19, 19, 2, 19890315, 0659, -35.1667, -51.4500, 2344,  -999.00,     81.0,  22.0343,  36.7760, 2,  36.7840, 2,   -999.0, 9,    214.7, 2,     1.85, 2,     0.00, 2,     0.01, 2,     0.09, 2,    1.870, 2,    0.931, 2,   2063.8, 2,   -999.0, 9,   -999.0, 9,  22.0181,   -999.0, 9, -999.000, 9
318MHYDROS4, A16C, 312, 1, 20, 20, 2, 19890315, 0659, -35.1667, -51.4500, 2344,  -999.00,    119.6,  21.2354,  36.6734, 2,  36.6680, 2,   -999.0, 9,    206.8, 2,     1.56, 2,     0.20, 2,     0.05, 2,     0.13, 2,    1.906, 2,    0.959, 2,   -999.0, 9,   -999.0, 9,   -999.0, 9,  21.2121,   -999.0, 9, -999.000, 9
318MHYDROS4, A16C, 312, 1, 21, 21, 2, 19890315, 0659, -35.1667, -51.4500, 2344,  -999.00,    159.8,  20.2416,  36.4735, 2,  36.4650, 2,   -999.0, 9,    205.0, 2,     1.56, 2,     0.78, 2,     0.02, 2,     0.17, 2,    1.959, 2,    0.972, 2,   2070.5, 2,   2376.6, 2,    357.7, 2,  20.2115,   -999.0, 9, -999.000, 9
318MHYDROS4, A16C, 312, 1, 22, 22, 2, 19890315, 0659, -35.1667, -51.4500, 2344,  -999.00,    198.5,  19.3148,  36.2989, 2,  36.2950, 2,   -999.0, 9,    206.3, 2,     1.56, 2,     1.07, 2,     0.01, 2,     0.20, 2,    1.988, 2,    0.977, 2,   -999.0, 9,   -999.0, 9,   -999.0, 9,  19.2787,   -999.0, 9, -999.000, 9
318MHYDROS4, A16C, 312, 1, 23, 23, 2, 19890315, 0659, -35.1667, -51.4500, 2344,  -999.00,    249.3,  17.3453,  35.8875, 2,  35.8820, 2,   -999.0, 9,    206.3, 2,     1.76, 2,     2.34, 2,     0.01, 2,     0.31, 2, -999.000, 9, -999.000, 9,   2074.3, 2,   2349.2, 2,    400.3, 2,  17.3033,   -999.0, 9, -999.000, 9
318MHYDROS4, A16C, 312, 1, 24, 24, 2, 19890315, 0659, -35.1667, -51.4500, 2344,  -999.00,    297.4,  16.3616,  35.7631, 2,  35.7600, 2,   -999.0, 9,    210.6, 2,     1.76, 2,     2.93, 2,     0.01, 2,     0.35, 2,    2.106, 2,    1.029, 2,   -999.0, 9,   -999.0, 9,   -999.0, 9,  16.3134,   -999.0, 9, -999.000, 9
318MHYDROS4, A16C, 312, 1, 25, 25, 2, 19890315, 0659, -35.1667, -51.4500, 2344,  -999.00,    397.8,  14.2044,  35.3829, 2,  35.3840, 2,   -999.0, 9,    203.6, 2,     3.71, 2,     7.23, 2,     0.00, 2,     0.65, 2,    1.842, 2,    0.897, 2,   2094.6, 2,   2326.4, 2,    485.3, 2,  14.1458,   -999.0, 9, -999.000, 9
318MHYDROS4, A16C, 312, 1, 26, 26, 2, 19890315, 0659, -35.1667, -51.4500, 2344,  -999.00,    492.9,  12.4972,  35.1417, 2,  35.1390, 2,   -999.0, 9,    202.7, 2,     4.20, 2,    11.24, 2,     0.00, 2,     0.89, 2,    1.644, 2,    0.776, 2,   -999.0, 9,   -999.0, 9,   -999.0, 9,  12.4303,   -999.0, 9, -999.000, 9
318MHYDROS4, A16C, 312, 1, 27, 27, 2, 19890315, 0659, -35.1667, -51.4500, 2344,  -999.00,    643.6,   8.4044,  34.6489, 2,  34.6510, 2,   -999.0, 9,    199.2, 2,    10.95, 2,    21.70, 2,     0.00, 2,     1.52, 2,    1.044, 2,    0.488, 2,   2142.9, 2,   2300.2, 2,    724.7, 2,   8.3358,   -999.0, 9, -999.000, 9
318MHYDROS4, A16C, 312, 1, 28, 28, 2, 19890315, 0659, -35.1667, -51.4500, 2344,  -999.00,    797.1,   5.4204,  34.3384, 2,  34.3370, 2,   -999.0, 9,    231.7, 2,    16.03, 2,    26.49, 2,     0.00, 2,     1.81, 2,    1.395, 2,    0.627, 2,   -999.0, 9,   -999.0, 9,   -999.0, 9,   5.3528,   -999.0, 9, -999.000, 9
318MHYDROS4, A16C, 312, 1, 29, 29, 2, 19890315, 0659, -35.1667, -51.4500, 2344,  -999.00,    946.1,   4.3771,  34.2978, 2,  34.2980, 2,   -999.0, 9,    227.8, 2,    23.66, 2,    29.33, 2,     0.00, 2,     1.97, 2, -999.000, 9, -999.000, 9,   2169.6, 2,   2300.4, 2,    858.2, 2,   4.3035,   -999.0, 9, -999.000, 9
318MHYDROS4, A16C, 312, 1, 30, 30, 2, 19890315, 0659, -35.1667, -51.4500, 2344,  -999.00,   1095.0,   3.8096,  34.3385, 2,  34.3360, 2,   -999.0, 9,    209.1, 2,    34.12, 2,    31.97, 2,     0.00, 2,     2.16, 2,    0.340, 2,    0.162, 2,   -999.0, 9,   -999.0, 9,   -999.0, 9,   3.7279,   -999.0, 9, -999.000, 9
318MHYDROS4, A16C, 312, 1, 31, 31, 2, 19890315, 0659, -35.1667, -51.4500, 2344,  -999.00,   1244.2,   3.4499,  34.3921, 2,  34.3900, 2,   -999.0, 9,    199.1, 2,    42.53, 2,    32.95, 2,     0.00, 2,     2.25, 2,    0.163, 2,    0.080, 2,   2200.1, 2,   2308.4, 2,   1013.1, 2,   3.3589,   -999.0, 9, -999.000, 9
318MHYDROS4, A16C, 312, 1, 32, 32, 2, 19890315, 0659, -35.1667, -51.4500, 2344,  -999.00,   1491.5,   3.3140,  34.5647, 2,  34.5620, 2,   -999.0, 9,    189.5, 2,    47.90, 2,    32.26, 2,     0.00, 2,     2.20, 2,    0.023, 2,    0.008, 2,   -999.0, 9,   -999.0, 9,   -999.0, 9,   3.2033,   -999.0, 9, -999.000, 9
318MHYDROS4, A16C, 312, 1, 33, 33, 2, 19890315, 0659, -35.1667, -51.4500, 2344,  -999.00,   1743.8,   3.5368,  34.7103, 2,  34.7080, 2,   -999.0, 9,    196.9, 2,    41.93, 2,    29.13, 2,     0.00, 2,     1.98, 2, -999.000, 9, -999.000, 9,   2212.8, 2,   2332.0, 2,    958.2, 2,   3.4007,   -999.0, 9, -999.000, 9
318MHYDROS4, A16C, 312, 1, 34, 34, 2, 19890315, 0659, -35.1667, -51.4500, 2344,  -999.00,   1996.5,   3.7586,  34.8490, 2,  34.8480, 2,   -999.0, 9,    216.0, 2,    31.08, 2,    25.02, 2,     0.00, 2,     1.70, 2,    0.007, 2,    0.008, 2,   2188.0, 2,   2323.7, 2,    853.8, 2,   3.5954,   -999.0, 9, -999.000, 9
318MHYDROS4, A16C, 312, 1, 35, 35, 2, 19890315, 0659, -35.1667, -51.4500, 2344,  -999.00,   2150.7,   3.6117,  34.8999, 2,  34.8990, 2,   -999.0, 9,    230.7, 2,    28.63, 2,    22.57, 2,     0.00, 2,     1.54, 2,    0.011, 2,    0.006, 2,   2173.9, 2,   2319.6, 2,    797.6, 2,   3.4357,   2146.7, 2,    3.609, 2
318MHYDROS4, A16C, 312, 1, 36, 36, 2, 19890315, 0659, -35.1667, -51.4500, 2344,  -999.00,   2363.0,   2.9622,  34.9208, 2,  34.9210, 2,   -999.0, 9,    247.2, 2,    33.23, 2,    20.82, 2,     0.00, 2,     1.44, 2,    0.004, 2,    0.000, 2,   2173.6, 2,   2327.3, 2,    762.7, 2,   2.7764,   -999.0, 9, -999.000, 9
318MHYDROS4, A16C, 313, 2, 13, 13, 2, 19890315, 1715, -35.2150, -50.8000, 3135,  -999.00,      1.4,  25.0324,  36.7971, 2,  36.7990, 2,   -999.0, 9,    208.8, 2,     2.05, 2,     0.00, 2,     0.00, 2,     0.06, 2,    1.668, 2,    0.842, 2,   2046.0, 2,   2410.3, 2,    285.6, 2,  25.0321,   -999.0, 9, -999.000, 9
318MHYDROS4, A16C, 313, 2, 14, 14, 2, 19890315, 1715, -35.2150, -50.8000, 3135,  -999.00,     56.5,  22.7246,  36.8915, 2,  36.8970, 2,   -999.0, 9,    219.5, 2,     2.05, 2,     0.00, 2,     0.00, 2,     0.08, 2,    1.846, 2,    0.954, 2,   2063.0, 2,   2414.9, 2,    303.6, 2,  22.7130,   -999.0, 9, -999.000, 9
318MHYDROS4, A16C, 313, 2, 15, 15, 2, 19890315, 1715, -35.2150, -50.8000, 3135,  -999.00,    107.3,  21.2479,  36.6977, 2,  36.6990, 2,   -999.0, 9,    208.1, 2,     1.95, 2,     0.20, 2,     0.07, 2,     0.12, 2,    1.880, 2,    0.957, 2,   2066.6, 2,   2397.7, 2,    326.6, 2,  21.2270,   -999.0, 9, -999.000, 9
318MHYDROS4, A16C, 313, 2, 16, 16, 2, 19890315, 1715, -35.2150, -50.8000, 3135,  -999.00,    158.7,  19.5910,  36.3254, 2,  36.3270, 2,   -999.0, 9,    204.2, 2,     1.95, 2,     1.07, 2,     0.01, 2,     0.20, 2, -999.000, 9, -999.000, 9,   2075.2, 2,   2377.3, 2,    363.5, 2,  19.5619,   -999.0, 9, -999.000, 9
318MHYDROS4, A16C, 313, 2, 17, 17, 2, 19890315, 1715, -35.2150, -50.8000, 3135,  -999.00,    209.8,  17.4086,  35.9071, 2,  35.9080, 2,   -999.0, 9,    207.6, 2,     2.54, 2,     2.15, 2,     0.01, 2,     0.29, 2, -999.000, 9, -999.000, 9,   2072.6, 2,   2350.1, 2,    395.8, 2,  17.3731,   -999.0, 9, -999.000, 9
318MHYDROS4, A16C, 313, 2, 18, 18, 2, 19890315, 1715, -35.2150, -50.8000, 3135,  -999.00,    311.9,  15.2036,  35.5738, 2,  35.5740, 2,   -999.0, 9,    212.8, 2,     2.93, 2,     4.59, 2,     0.01, 2,     0.47, 2,    2.056, 2,    1.008, 2,   2085.1, 2,   2343.3, 2,    430.4, 2,  15.1556,   -999.0, 9, -999.000, 9
318MHYDROS4, A16C, 313, 2, 19, 19, 2, 19890315, 1715, -35.2150, -50.8000, 3135,  -999.00,    414.6,  12.6959,  35.1740, 2,  35.1780, 2,   -999.0, 9,    204.9, 2,     4.89, 2,    10.65, 2,     0.01, 2,     0.82, 2,    1.700, 2,    0.836, 2,   2107.0, 2,   2319.5, 2,    534.2, 2,  12.6392,   -999.0, 9, -999.000, 9
318MHYDROS4, A16C, 313, 2, 20, 20, 2, 19890315, 1715, -35.2150, -50.8000, 3135,  -999.00,    516.6,   9.7905,  34.7900, 2,  34.7890, 2,   -999.0, 9,    202.7, 2,     8.41, 2,    17.98, 2,     0.00, 2,     1.27, 2,    1.357, 2,    0.654, 2,   2124.2, 2,   2297.9, 2,    654.5, 2,   9.7305,   -999.0, 9, -999.000, 9
318MHYDROS4, A16C, 313, 2, 21, 21, 2, 19890315, 1715, -35.2150, -50.8000, 3135,  -999.00,    618.9,   7.5520,  34.5317, 2,  34.5310, 2,   -999.0, 9,    213.9, 2,    11.73, 2,    22.78, 2,     0.00, 2,     1.56, 2,    1.367, 2,    0.635, 2,   2138.8, 2,   2294.2, 2,    728.2, 2,   7.4902,   -999.0, 9, -999.000, 9
318MHYDROS4, A16C, 313, 2, 22, 22, 2, 19890315, 1715, -35.2150, -50.8000, 3135,  -999.00,    721.0,   5.5540,  34.3408, 2,  34.3400, 2,   -999.0, 9,    234.8, 2,    15.84, 2,    26.01, 2,     0.00, 2,     1.78, 2,    1.595, 2,    0.739, 2,   2154.6, 2,   2296.9, 2,    792.3, 2,   5.4925,   -999.0, 9, -999.000, 9
318MHYDROS4, A16C, 313, 2, 23, 23, 2, 19890315, 1715, -35.2150, -50.8000, 3135,  -999.00,    821.7,   4.6048,  34.2706, 2,  34.2710, 2,   -999.0, 9,    245.2, 2,    19.07, 2,    27.38, 2,     0.00, 2,     1.87, 2,    1.783, 2,    0.808, 2,   2146.5, 2,   2285.4, 2,    803.7, 2,   4.5402,   -999.0, 9, -999.000, 9
318MHYDROS4, A16C, 313, 2, 24, 24, 2, 19890315, 1715, -35.2150, -50.8000, 3135,  -999.00,    922.2,   4.0949,  34.2714, 2,  34.2700, 2,   -999.0, 9,    235.6, 2,    25.13, 2,    29.23, 2,     0.00, 2,     2.01, 2,    1.241, 2,    0.578, 2,   2171.1, 2,   2298.4, 2,    877.5, 2,   4.0253,   -999.0, 9, -999.000, 9
318MHYDROS4, A16C, 313, 2, 25, 25, 2, 19890315, 1715, -35.2150, -50.8000, 3135,  -999.00,   1022.5,   3.6896,  34.3016, 2,  34.3020, 2,   -999.0, 9,    221.3, 2,    32.85, 2,    31.29, 2,     0.00, 2,     2.14, 2,    0.719, 2,    0.332, 2,   2184.0, 2,   2306.4, 2,    915.1, 2,   3.6148,   -999.0, 9, -999.000, 9
318MHYDROS4, A16C, 313, 2, 26, 26, 2, 19890315, 1715, -35.2150, -50.8000, 3135,  -999.00,   1222.5,   3.2032,  34.3817, 2,  34.3800, 2,   -999.0, 9,    202.6, 2,    45.75, 2,    32.75, 2,     0.00, 2,     2.24, 2,    0.298, 2,    0.147, 2,   2208.2, 2,   2321.7, 2,    986.2, 2,   3.1165,   -999.0, 9, -999.000, 9
318MHYDROS4, A16C, 313, 2, 27, 27, 2, 19890315, 1715, -35.2150, -50.8000, 3135,  -999.00,   1418.1,   3.0456,  34.4921, 2,  34.4940, 2,   -999.0, 9,    191.7, 2,    53.77, 2,    33.14, 2,     0.00, 2,     2.25, 2,    0.092, 2,    0.042, 2,   2221.4, 2,   2329.2, 2,   1034.0, 2,   2.9442,   -999.0, 9, -999.000, 9
318MHYDROS4, A16C, 313, 2, 28, 28, 2, 19890315, 1715, -35.2150, -50.8000, 3135,  -999.00,   1615.9,   3.3771,  34.6733, 2,  34.6720, 2,   -999.0, 9,    194.7, 2,    46.13, 2,    29.91, 2,     0.00, 2,     2.04, 2,    0.016, 2,    0.010, 2,   2209.3, 2,   2325.9, 2,    972.4, 2,   3.2546,   -999.0, 9, -999.000, 9
318MHYDROS4, A16C, 313, 2, 29, 29, 2, 19890315, 1715, -35.2150, -50.8000, 3135,  -999.00,   1816.0,   3.4362,  34.7781, 2,  34.7780, 2,   -999.0, 9,    206.4, 2,    41.73, 2,    27.17, 2,     0.00, 2,     1.85, 2,    0.014, 2,    0.000, 2,   2197.1, 2,   2322.1, 2,    916.3, 2,   3.2947,   -999.0, 9, -999.000, 9
318MHYDROS4, A16C, 313, 2, 30, 30, 2, 19890315, 1715, -35.2150, -50.8000, 3135,  -999.00,   2024.6,   3.6265,  34.8885, 2,  34.8880, 2,   -999.0, 9,    227.3, 2,    30.39, 2,    23.16, 2,     0.00, 2,     1.57, 2,    0.009, 2,    0.002, 2,   2181.3, 2,   2323.4, 2,    818.5, 2,   3.4624,   -999.0, 9, -999.000, 9
318MHYDROS4, A16C, 313, 2, 31, 31, 2, 19890315, 1715, -35.2150, -50.8000, 3135,  -999.00,   2230.2,   3.5485,  34.9305, 2,  34.9310, 2,   -999.0, 9,    242.9, 2,    26.29, 2,    21.21, 2,     0.00, 2,     1.44, 2,    0.013, 2,    0.015, 2,   2169.2, 2,   2321.6, 2,    765.2, 2,   3.3655,   -999.0, 9, -999.000, 9
318MHYDROS4, A16C, 313, 2, 32, 32, 2, 19890315, 1715, -35.2150, -50.8000, 3135,  -999.00,   2435.0,   3.4104,  34.9429, 2,  34.9440, 2,   -999.0, 9,    249.0, 2,    25.90, 2,    20.52, 2,     0.00, 2,     1.38, 2,    0.014, 2,    0.013, 2,   2169.0, 2,   2324.3, 2,    752.3, 2,   3.2095,   -999.0, 9, -999.000, 9
318MHYDROS4, A16C, 313, 2, 33, 33, 2, 19890315, 1715, -35.2150, -50.8000, 3135,  -999.00,   2641.1,   3.1200,  34.9351, 2,  34.9360, 2,   -999.0, 9,    251.6, 2,    29.22, 2,    20.62, 2,     0.00, 2,     1.38, 2,    0.005, 2,    0.008, 2,   2169.9, 2,   2326.1, 2,    749.4, 2,   2.9038,   -999.0, 9, -999.000, 9
318MHYDROS4, A16C, 313, 2, 34, 34, 2, 19890315, 1715, -35.2150, -50.8000, 3135,  -999.00,   2844.3,   2.4089,  34.8593, 2,  34.8590, 2,   -999.0, 9,    234.2, 2,    56.19, 2,    24.53, 2,     0.00, 2,     1.65, 2, -999.000, 9, -999.000, 9,   2195.9, 2,   2337.0, 2,    835.4, 2,   2.1869,   -999.0, 9, -999.000, 9
318MHYDROS4, A16C, 313, 2, 35, 35, 2, 19890315, 1715, -35.2150, -50.8000, 3135,  -999.00,   3053.4,   1.4892,  34.7622, 2,  34.7630, 2,   -999.0, 9,    214.6, 2,    95.29, 2,    29.91, 2,     0.00, 2,     2.03, 2,    0.028, 2,    0.011, 2,   2237.7, 4,   2361.2, 2,    959.0, 2,   1.2671,   3048.8, 2,    1.489, 2
318MHYDROS4, A16C, 313, 2, 36, 36, 2, 19890315, 1715, -35.2150, -50.8000, 3135,  -999.00,   3171.1,   1.1349,  34.7317, 2,  34.7310, 2,   -999.0, 9,    210.7, 2,   107.02, 2,    31.47, 2,     0.00, 2,     2.14, 2,    0.042, 2,    0.020, 2,   2250.3, 4,   2369.3, 2,    995.4, 2,   0.9098,   -999.0, 9, -999.000, 9