BOTTLE,20110318CCHDOSIODM
EXPOCODE,SECT_ID,STNNBR,CASTNO,SAMPNO,BTLNBR,BTLNBR_FLAG_W,DATE,TIME,LATITUDE,LONGITUDE,DEPTH,CTDRAW,CTDPRS,CTDTMP,CTDSAL,CTDSAL_FLAG_W,SALNTY,SALNTY_FLAG_W,CTDOXY,CTDOXY_FLAG_W,OXYGEN,OXYGEN_FLAG_W,SILCAT,SILCAT_FLAG_W,NITRAT,NITRAT_FLAG_W,NITRIT,NITRIT_FLAG_W,PHSPHT,PHSPHT_FLAG_W,CFC-11,CFC-11_FLAG_W,CFC-12,CFC-12_FLAG_W,TCARBN,TCARBN_FLAG_W,ALKALI,ALKALI_FLAG_W,PCO2,PCO2_FLAG_W,THETA,REVPRS,REVPRS_FLAG_W,REVTMP,REVTMP_FLAG_W
,,,,,,,,,,,METERS,DBAR,DBAR,ITS-90,PSS-78,,PSS-78,,UMOL/KG,,UMOL/KG,,UMOL/KG,,UMOL/KG,,UMOL/KG,,UMOL/KG,,PMOL/KG,,PMOL/KG,,UMOL/KG,,UMOL/KG,,UATM,,DEG C,DBAR,,ITS-90,
318MHYDROS4, A16C, 324, 1, 1, 1, 2, 19890324, 1356, -26.1433, -25.0400, 4886,  -999.00,      1.4,  26.1920,  36.6621, 2,  36.6640, 2,   -999.0, 9,    204.9, 2,     1.20, 2,     0.08, 2,     0.00, 2,     0.06, 2,    1.653, 2,    0.844, 2,   2043.0, 2,   2400.0, 2,    291.0, 2,  26.1917,   -999.0, 9, -999.000, 9
318MHYDROS4, A16C, 324, 1, 2, 2, 2, 19890324, 1356, -26.1433, -25.0400, 4886,  -999.00,     36.2,  25.5460,  36.6434, 2,  36.6210, 2,   -999.0, 9,    211.0, 2,     1.18, 2,     0.10, 2,     0.00, 2,     0.06, 2,    1.644, 2,    0.829, 2,   2030.0, 2,   -999.0, 9,   -999.0, 9,  25.5380,   -999.0, 9, -999.000, 9
318MHYDROS4, A16C, 324, 1, 3, 3, 2, 19890324, 1356, -26.1433, -25.0400, 4886,  -999.00,     66.9,  20.8964,  36.3634, 2,  36.3650, 2,   -999.0, 9,    230.8, 2,     1.16, 2,     0.11, 2,     0.00, 2,     0.11, 2, -999.000, 9, -999.000, 9,   -999.0, 9,   -999.0, 9,   -999.0, 9,  20.8836,   -999.0, 9, -999.000, 9
318MHYDROS4, A16C, 324, 1, 71, 71, 2, 19890324, 1356, -26.1433, -25.0400, 4886,  -999.00,    108.0,  19.3148,  36.1276, 2,  36.1180, 2,   -999.0, 9,    222.9, 2,     1.14, 2,     0.09, 2,     0.02, 2,     0.14, 2,    2.036, 2,    1.020, 2,   2056.5, 2,   2363.4, 2,    348.9, 2,  19.2952,   -999.0, 9, -999.000, 9
318MHYDROS4, A16C, 324, 1, 5, 5, 2, 19890324, 1356, -26.1433, -25.0400, 4886,  -999.00,    158.9,  17.5612,  35.8165, 2,  35.8110, 2,   -999.0, 9,    216.8, 2,     1.51, 2,     0.90, 2,     0.02, 2,     0.25, 2, -999.000, 9, -999.000, 9,   -999.0, 9,   -999.0, 9,   -999.0, 9,  17.5343,   -999.0, 9, -999.000, 9
318MHYDROS4, A16C, 324, 1, 6, 6, 2, 19890324, 1356, -26.1433, -25.0400, 4886,  -999.00,    209.7,  16.1477,  35.5938, 2,  35.5870, 2,   -999.0, 9,    215.9, 2,     1.87, 2,     2.64, 2,     0.01, 2,     0.36, 2,    2.163, 2,    1.052, 2,   2078.9, 2,   2341.5, 2,    419.9, 2,  16.1141,   -999.0, 9, -999.000, 9
318MHYDROS4, A16C, 324, 1, 7, 7, 2, 19890324, 1356, -26.1433, -25.0400, 4886,  -999.00,    260.8,  14.8232,  35.4430, 2,  35.4420, 2,   -999.0, 9,    221.0, 2,     2.05, 2,     3.66, 2,     0.01, 2,     0.43, 2, -999.000, 9, -999.000, 9,   -999.0, 9,   -999.0, 9,   -999.0, 9,  14.7838,   -999.0, 9, -999.000, 9
318MHYDROS4, A16C, 324, 1, 8, 8, 2, 19890324, 1356, -26.1433, -25.0400, 4886,  -999.00,    312.1,  14.1954,  35.3847, 2,  35.3810, 2,   -999.0, 9,    218.4, 2,     2.42, 2,     5.49, 2,     0.00, 2,     0.54, 2,    2.192, 2,    1.070, 2,   -999.0, 9,   -999.0, 9,   -999.0, 9,  14.1496,   -999.0, 9, -999.000, 9
318MHYDROS4, A16C, 324, 1, 9, 9, 2, 19890324, 1356, -26.1433, -25.0400, 4886,  -999.00,    414.1,  12.2253,  35.1035, 2,  35.1030, 2,   -999.0, 9,    211.0, 2,     4.33, 2,    10.73, 2,     0.00, 2,     0.85, 2,    1.842, 2,    0.914, 2,   2100.2, 2,   2310.9, 2,    534.9, 2,  12.1701,   -999.0, 9, -999.000, 9
318MHYDROS4, A16C, 324, 1, 10, 10, 2, 19890324, 1356, -26.1433, -25.0400, 4886,  -999.00,    516.4,   9.6387,  34.7682, 2,  34.7610, 2,   -999.0, 9,    204.8, 2,     7.99, 2,    17.86, 2,     0.00, 2,     1.29, 2,    1.493, 2,    0.710, 2,   2126.8, 2,   -999.0, 9,   -999.0, 9,   9.5793,   -999.0, 9, -999.000, 9
318MHYDROS4, A16C, 324, 1, 11, 11, 2, 19890324, 1356, -26.1433, -25.0400, 4886,  -999.00,    618.5,   7.6249,  34.5575, 2,  34.5550, 2,   -999.0, 9,    200.5, 2,    13.59, 2,    23.45, 2,     0.00, 2,     1.62, 2,    1.069, 2,    0.496, 2,   2152.8, 2,   2298.6, 2,    777.8, 2,   7.5627,   -999.0, 9, -999.000, 9
318MHYDROS4, A16C, 324, 1, 12, 12, 2, 19890324, 1356, -26.1433, -25.0400, 4886,  -999.00,    721.0,   5.7461,  34.4048, 2,  34.4100, 2,   -999.0, 9,    203.9, 2,    19.78, 2,    27.44, 2,     0.00, 2,     1.89, 2,    0.752, 2,    0.343, 2,   2168.2, 2,   2296.7, 2,    870.0, 2,   5.6835,   -999.0, 9, -999.000, 9
318MHYDROS4, A16C, 324, 1, 13, 13, 2, 19890324, 1356, -26.1433, -25.0400, 4886,  -999.00,    823.1,   4.6429,  34.3423, 2,  34.3460, 2,   -999.0, 9,    209.1, 2,    25.58, 2,    29.29, 2,     0.00, 2,     2.01, 2,    0.614, 2,    0.292, 2,   2175.9, 2,   2295.5, 2,    924.0, 2,   4.5779,   -999.0, 9, -999.000, 9
318MHYDROS4, A16C, 324, 1, 14, 14, 2, 19890324, 1356, -26.1433, -25.0400, 4886,  -999.00,    925.4,   3.9355,  34.3544, 2, -999.0000, 9,   -999.0, 9,    200.4, 2,  -999.00, 9,    30.70, 2,     0.00, 2,     2.10, 2, -999.000, 9, -999.000, 9,   -999.0, 9,   -999.0, 9,   -999.0, 9,   3.8667,   -999.0, 9, -999.000, 9
318MHYDROS4, A16C, 324, 1, 15, 15, 2, 19890324, 1356, -26.1433, -25.0400, 4886,  -999.00,   1027.9,   3.5298,  34.4035, 2, -999.0000, 9,   -999.0, 9,    197.8, 2,    39.31, 2,    31.67, 2,     0.00, 2,     2.18, 2,    0.262, 2,    0.128, 2,   2199.8, 2,   2307.9, 2,   1012.9, 2,   3.4557,   -999.0, 9, -999.000, 9
318MHYDROS4, A16C, 324, 1, 16, 16, 2, 19890324, 1356, -26.1433, -25.0400, 4886,  -999.00,   1130.6,   3.2950,  34.4834, 2,  34.4840, 2,   -999.0, 9,    186.5, 2,    48.80, 2,    32.15, 2,     0.00, 2,     2.22, 2,    0.075, 2,    0.031, 2,   -999.0, 9,   -999.0, 9,   -999.0, 9,   3.2145,   -999.0, 9, -999.000, 9
318MHYDROS4, A16C, 324, 1, 17, 17, 2, 19890324, 1356, -26.1433, -25.0400, 4886,  -999.00,   1233.5,   3.1691,  34.5490, 2,  34.5490, 2,   -999.0, 9,    185.6, 2,    51.32, 2,    31.81, 2,     0.00, 2,     2.18, 2,    0.035, 2,    0.012, 2,   2220.9, 2,   2325.6, 2,   1053.8, 2,   3.0814,   -999.0, 9, -999.000, 9
318MHYDROS4, A16C, 324, 1, 18, 18, 2, 19890324, 1356, -26.1433, -25.0400, 4886,  -999.00,   1336.4,   3.0831,  34.6112, 2,  34.6150, 2,   -999.0, 9,    188.6, 2,    52.28, 2,    30.81, 2,     0.00, 2,     2.10, 2,    0.014, 2,    0.005, 2,   -999.0, 9,   -999.0, 9,   -999.0, 9,   2.9878,   -999.0, 9, -999.000, 9
318MHYDROS4, A16C, 324, 1, 19, 19, 2, 19890324, 1356, -26.1433, -25.0400, 4886,  -999.00,   1541.3,   2.9782,  34.7159, 2,  34.7150, 2,   -999.0, 9,    200.3, 2,    50.52, 2,    28.45, 2,     0.00, 2,     1.94, 2,    0.000, 2,    0.000, 2,   -999.0, 9,   -999.0, 9,   -999.0, 9,   2.8668,   -999.0, 9, -999.000, 9
318MHYDROS4, A16C, 324, 1, 20, 20, 2, 19890324, 1356, -26.1433, -25.0400, 4886,  -999.00,   1745.2,   2.9353,  34.7966, 2,  34.7980, 2,   -999.0, 9,    216.8, 2,    45.85, 2,    25.79, 2,     0.00, 2,     1.76, 2,    0.001, 2,    0.000, 2,   2198.3, 2,   2328.8, 2,    887.6, 2,   2.8068,   -999.0, 9, -999.000, 9
318MHYDROS4, A16C, 324, 1, 21, 21, 2, 19890324, 1356, -26.1433, -25.0400, 4886,  -999.00,   1950.3,   2.9183,  34.8492, 2,  34.8490, 2,   -999.0, 9,    230.7, 2,    40.80, 2,    23.74, 2,     0.00, 2,     1.61, 2,    0.000, 2,    0.000, 2,   -999.0, 9,   -999.0, 9,   -999.0, 9,   2.7717,   -999.0, 9, -999.000, 9
318MHYDROS4, A16C, 324, 1, 22, 22, 2, 19890324, 1356, -26.1433, -25.0400, 4886,  -999.00,   2156.0,   2.9163,  34.8833, 2,  34.8850, 2,   -999.0, 9,    240.7, 2,    36.32, 2,    22.35, 2,     0.00, 2,     1.50, 2, -999.000, 9, -999.000, 9,   2179.6, 2,   2327.1, 2,    792.8, 2,   2.7509,   -999.0, 9, -999.000, 9
318MHYDROS4, A16C, 324, 1, 23, 23, 2, 19890324, 1356, -26.1433, -25.0400, 4886,  -999.00,   2361.6,   2.8913,  34.9036, 2,  34.9040, 2,   -999.0, 9,    246.8, 2,    33.79, 2,    21.40, 2,     0.00, 2,     1.43, 2,    0.000, 2,    0.002, 2,   -999.0, 9,   -999.0, 9,   -999.0, 9,   2.7069,   -999.0, 9, -999.000, 9
318MHYDROS4, A16C, 324, 1, 24, 24, 2, 19890324, 1356, -26.1433, -25.0400, 4886,  -999.00,   2568.0,   2.8393,  34.9152, 2,  34.9160, 2,   -999.0, 9,    249.8, 2,    33.00, 2,    20.66, 2,     0.00, 2,     1.39, 2, -999.000, 9, -999.000, 9,   -999.0, 9,   -999.0, 9,   -999.0, 9,   2.6358,   -999.0, 9, -999.000, 9
318MHYDROS4, A16C, 324, 1, 25, 25, 2, 19890324, 1356, -26.1433, -25.0400, 4886,  -999.00,   2772.5,   2.7614,  34.9172, 2,  34.9190, 2,   -999.0, 9,    252.4, 2,    32.99, 2,    20.54, 2,     0.00, 2,     1.37, 2,    0.001, 2,    0.000, 2,   -999.0, 9,   -999.0, 9,   -999.0, 9,   2.5391,   -999.0, 9, -999.000, 9
318MHYDROS4, A16C, 324, 1, 26, 26, 2, 19890324, 1356, -26.1433, -25.0400, 4886,  -999.00,   2975.5,   2.6905,  34.9138, 2,  34.9140, 2,   -999.0, 9,    252.9, 2,    33.95, 2,    20.55, 2,     0.00, 2,     1.38, 2,    0.002, 2,    0.000, 2,   2171.1, 2,   2327.6, 2,    749.0, 2,   2.4490,   -999.0, 9, -999.000, 9
318MHYDROS4, A16C, 324, 1, 27, 27, 2, 19890324, 1356, -26.1433, -25.0400, 4886,  -999.00,   3178.2,   2.5616,  34.9064, 2,  34.9080, 2,   -999.0, 9,    253.3, 2,    36.86, 2,    20.73, 2,     0.00, 2,     1.39, 2,    0.002, 2,    0.000, 2,   -999.0, 9,   -999.0, 9,   -999.0, 9,   2.3020,   -999.0, 9, -999.000, 9
318MHYDROS4, A16C, 324, 1, 28, 28, 2, 19890324, 1356, -26.1433, -25.0400, 4886,  -999.00,   3384.1,   2.4017,  34.8918, 2,  34.8920, 2,   -999.0, 9,    252.0, 2,    41.51, 2,    21.26, 2,     0.00, 2,     1.43, 2,    0.001, 2,    0.002, 2,   2178.3, 2,   2333.3, 2,    760.4, 2,   2.1242,   -999.0, 9, -999.000, 9
318MHYDROS4, A16C, 324, 1, 29, 29, 2, 19890324, 1356, -26.1433, -25.0400, 4886,  -999.00,   3596.1,   2.1759,  34.8683, 2, -999.0000, 9,   -999.0, 9,    249.0, 2,    50.65, 2,    22.50, 2,     0.00, 2,     1.51, 2,    0.002, 2,    0.000, 2,   -999.0, 9,   -999.0, 9,   -999.0, 9,   1.8815,   -999.0, 9, -999.000, 9
318MHYDROS4, A16C, 324, 1, 30, 30, 2, 19890324, 1356, -26.1433, -25.0400, 4886,  -999.00,   3810.2,   1.9311,  34.8423, 2,  34.8440, 2,   -999.0, 9,   -999.0, 9,    60.37, 2,    23.86, 2,     0.00, 2,     1.61, 2, -999.000, 9, -999.000, 9,   2196.0, 2,   2341.7, 2,    813.8, 2,   1.6200,   -999.0, 9, -999.000, 9
318MHYDROS4, A16C, 324, 1, 31, 31, 2, 19890324, 1356, -26.1433, -25.0400, 4886,  -999.00,   4022.3,   1.5744,  34.8045, 2,  34.8050, 2,   -999.0, 9,    239.4, 2,    75.55, 2,    25.93, 2,     0.00, 2,     1.74, 2,    0.000, 2,    0.000, 2,   -999.0, 9,   -999.0, 9,   -999.0, 9,   1.2502,   -999.0, 9, -999.000, 9
318MHYDROS4, A16C, 324, 1, 32, 32, 2, 19890324, 1356, -26.1433, -25.0400, 4886,  -999.00,   4232.0,   1.3146,  34.7767, 2,  34.7770, 2,   -999.0, 9,    234.6, 2,    85.87, 2,    27.51, 2,     0.00, 2,     1.85, 2, -999.000, 9, -999.000, 9,   -999.0, 9,   -999.0, 9,   -999.0, 9,   0.9750,   -999.0, 9, -999.000, 9
318MHYDROS4, A16C, 324, 1, 33, 33, 2, 19890324, 1356, -26.1433, -25.0400, 4886,  -999.00,   4440.7,   1.1507,  34.7581, 2,  34.7590, 2,   -999.0, 9,    231.1, 2,    93.66, 2,    28.48, 2,     0.00, 2,     1.93, 2,    0.010, 2,    0.000, 2,   -999.0, 9,   -999.0, 9,   -999.0, 9,   0.7929,   -999.0, 9, -999.000, 9
318MHYDROS4, A16C, 324, 1, 34, 34, 2, 19890324, 1356, -26.1433, -25.0400, 4886,  -999.00,   4649.1,   1.0378,  34.7462, 2,  34.7450, 2,   -999.0, 9,    230.3, 2,    98.93, 2,    29.27, 2,     0.00, 2,     1.99, 2, -999.000, 9, -999.000, 9,   2237.1, 2,   2365.0, 2,    934.3, 2,   0.6599,   -999.0, 9, -999.000, 9
318MHYDROS4, A16C, 324, 1, 35, 35, 2, 19890324, 1356, -26.1433, -25.0400, 4886,  -999.00,   4857.7,   0.9789,  34.7378, 2,  34.7370, 2,   -999.0, 9,    228.5, 2,   103.03, 2,    29.59, 2,     0.00, 2,     2.02, 2,    0.002, 2,    0.002, 2,   -999.0, 9,   -999.0, 9,   -999.0, 9,   0.5788,   4858.7, 2,    0.970, 2
318MHYDROS4, A16C, 324, 1, 36, 36, 2, 19890324, 1356, -26.1433, -25.0400, 4886,  -999.00,   5006.9,   0.9449,  34.7326, 2,  34.7330, 2,   -999.0, 9,    228.5, 2,   104.79, 2,    29.90, 2,     0.00, 2,     2.04, 2,    0.000, 2,    0.000, 2,   2238.7, 2,   2363.4, 2,    953.8, 2,   0.5284,   -999.0, 9, -999.000, 9