BOTTLE,20110318CCHDOSIODM
EXPOCODE,SECT_ID,STNNBR,CASTNO,SAMPNO,BTLNBR,BTLNBR_FLAG_W,DATE,TIME,LATITUDE,LONGITUDE,DEPTH,CTDRAW,CTDPRS,CTDTMP,CTDSAL,CTDSAL_FLAG_W,SALNTY,SALNTY_FLAG_W,CTDOXY,CTDOXY_FLAG_W,OXYGEN,OXYGEN_FLAG_W,SILCAT,SILCAT_FLAG_W,NITRAT,NITRAT_FLAG_W,NITRIT,NITRIT_FLAG_W,PHSPHT,PHSPHT_FLAG_W,CFC-11,CFC-11_FLAG_W,CFC-12,CFC-12_FLAG_W,TCARBN,TCARBN_FLAG_W,ALKALI,ALKALI_FLAG_W,PCO2,PCO2_FLAG_W,THETA,REVPRS,REVPRS_FLAG_W,REVTMP,REVTMP_FLAG_W
,,,,,,,,,,,METERS,DBAR,DBAR,ITS-90,PSS-78,,PSS-78,,UMOL/KG,,UMOL/KG,,UMOL/KG,,UMOL/KG,,UMOL/KG,,UMOL/KG,,PMOL/KG,,PMOL/KG,,UMOL/KG,,UMOL/KG,,UATM,,DEG C,DBAR,,ITS-90,
318MHYDROS4, A16C, 369, 1, 71, 71, 2, 19890407, 1700, -0.6517, -24.9933, 3359,  -999.00,      1.3,  28.2494,  35.9285, 2,  35.9320, 2,   -999.0, 9,    205.6, 2,     1.37, 2,     0.10, 2,     0.00, 2,     0.05, 2,    1.544, 2,    0.799, 2,   -999.0, 9,   -999.0, 9,   -999.0, 9,  28.2491,   -999.0, 9, -999.000, 9
318MHYDROS4, A16C, 369, 1, 5, 5, 2, 19890407, 1700, -0.6517, -24.9933, 3359,  -999.00,     19.3,  27.7413,  35.9270, 2,  35.9330, 2,   -999.0, 9,    206.5, 2,     1.56, 2,     0.10, 2,     0.00, 2,     0.05, 2, -999.000, 9, -999.000, 9,   1995.6, 2,   2345.8, 2,    279.9, 2,  27.7368,   -999.0, 9, -999.000, 9
318MHYDROS4, A16C, 369, 1, 6, 6, 2, 19890407, 1700, -0.6517, -24.9933, 3359,  -999.00,     49.5,  27.6363,  36.0183, 2,  36.0580, 2,   -999.0, 9,    207.3, 2,     1.56, 2,     0.10, 2,     0.00, 2,     0.05, 2, -999.000, 9, -999.000, 9,   -999.0, 9,   -999.0, 9,   -999.0, 9,  27.6247,   -999.0, 9, -999.000, 9
318MHYDROS4, A16C, 369, 1, 7, 7, 2, 19890407, 1700, -0.6517, -24.9933, 3359,  -999.00,     88.7,  20.8792,  36.1765, 2,  36.1700, 2,   -999.0, 9,    156.4, 2,     3.12, 2,     6.05, 2,     0.10, 2,     0.63, 2,    1.411, 2,    0.711, 2,   -999.0, 9,   -999.0, 9,   -999.0, 9,  20.8623,   -999.0, 9, -999.000, 9
318MHYDROS4, A16C, 369, 1, 8, 8, 2, 19890407, 1700, -0.6517, -24.9933, 3359,  -999.00,    108.6,  16.6610,  35.7555, 2,  35.7340, 2,   -999.0, 9,    146.2, 2,     5.08, 2,    12.79, 2,     0.03, 2,     0.97, 2, -999.000, 9, -999.000, 9,   -999.0, 9,   -999.0, 9,   -999.0, 9,  16.6433,   -999.0, 9, -999.000, 9
318MHYDROS4, A16C, 369, 1, 9, 9, 2, 19890407, 1700, -0.6517, -24.9933, 3359,  -999.00,    138.4,  13.9184,  35.3863, 2,  35.3920, 2,   -999.0, 9,    151.0, 2,     6.74, 2,    16.02, 2,     0.01, 2,     1.14, 2, -999.000, 9, -999.000, 9,   2143.6, 2,   2331.8, 2,    624.3, 2,  13.8985,   -999.0, 9, -999.000, 9
318MHYDROS4, A16C, 369, 1, 10, 10, 2, 19890407, 1700, -0.6517, -24.9933, 3359,  -999.00,    179.3,  13.5529,  35.3423, 2,  35.3430, 2,   -999.0, 9,    139.6, 2,     7.03, 2,    17.88, 2,     0.01, 2,     1.25, 2,    1.061, 2,    0.514, 2,   -999.0, 9,   -999.0, 9,   -999.0, 9,  13.5275,   -999.0, 9, -999.000, 9
318MHYDROS4, A16C, 369, 1, 11, 11, 2, 19890407, 1700, -0.6517, -24.9933, 3359,  -999.00,    229.9,  12.1211,  35.1728, 2,  35.1780, 2,   -999.0, 9,     94.0, 2,    10.45, 2,    25.50, 2,     0.00, 2,     1.67, 2, -999.000, 9, -999.000, 9,   2193.4, 2,   2319.5, 2,    909.5, 2,  12.0908,   -999.0, 9, -999.000, 9
318MHYDROS4, A16C, 369, 1, 12, 12, 2, 19890407, 1700, -0.6517, -24.9933, 3359,  -999.00,    281.2,  11.1608,  35.0571, 2,  35.0580, 2,   -999.0, 9,     91.3, 2,    11.82, 2,    27.65, 2,     0.00, 2,     1.79, 2,    0.431, 2,    0.223, 2,   -999.0, 9,   -999.0, 9,   -999.0, 9,  11.1257,   -999.0, 9, -999.000, 9
318MHYDROS4, A16C, 369, 1, 13, 13, 2, 19890407, 1700, -0.6517, -24.9933, 3359,  -999.00,    332.3,   9.2791,  34.8401, 2,  34.8470, 2,   -999.0, 9,    101.8, 2,    14.66, 2,    30.20, 2,     0.00, 2,     1.94, 2, -999.000, 9, -999.000, 9,   2203.9, 2,   2307.5, 2,   1047.9, 2,   9.2421,   -999.0, 9, -999.000, 9
318MHYDROS4, A16C, 369, 1, 14, 14, 2, 19890407, 1700, -0.6517, -24.9933, 3359,  -999.00,    417.7,   8.1961,  34.7293, 2,  34.7300, 2,   -999.0, 9,    111.8, 2,    17.40, 2,    31.67, 2,     0.00, 2,     2.06, 2,    0.192, 2,    0.104, 2,   2212.9, 2,   -999.0, 9,   -999.0, 9,   8.1528,   -999.0, 9, -999.000, 9
318MHYDROS4, A16C, 369, 1, 15, 15, 2, 19890407, 1700, -0.6517, -24.9933, 3359,  -999.00,    518.1,   6.6776,  34.5843, 2,  34.5960, 2,   -999.0, 9,    131.3, 2,    21.11, 2,    32.65, 2,     0.00, 2,     2.17, 2,    0.126, 2,    0.062, 2,   2205.1, 2,   2301.7, 2,   1094.9, 2,   6.6295,   -999.0, 9, -999.000, 9
318MHYDROS4, A16C, 369, 1, 16, 16, 2, 19890407, 1700, -0.6517, -24.9933, 3359,  -999.00,    618.4,   5.6071,  34.5098, 2,  34.5130, 2,   -999.0, 9,    146.5, 2,    25.03, 2,    33.24, 2,     0.00, 2,     2.25, 2,    0.085, 2,    0.045, 2,   2209.1, 2,   2303.6, 2,   1112.2, 2,   5.5544,   -999.0, 9, -999.000, 9
318MHYDROS4, A16C, 369, 1, 17, 17, 2, 19890407, 1700, -0.6517, -24.9933, 3359,  -999.00,    719.9,   5.0019,  34.4900, 2,  34.4880, 2,   -999.0, 9,    152.6, 2,    28.74, 2,    33.92, 2,     0.00, 2,     2.32, 2,    0.048, 2,    0.024, 2,   2207.6, 2,   2300.3, 2,   1125.4, 2,   4.9434,   -999.0, 9, -999.000, 9
318MHYDROS4, A16C, 369, 1, 18, 18, 2, 19890407, 1700, -0.6517, -24.9933, 3359,  -999.00,    822.5,   4.6286,  34.5038, 2,  34.5050, 2,   -999.0, 9,    155.6, 2,    31.67, 2,    33.82, 2,     0.00, 2,     2.33, 2,    0.028, 2,    0.015, 2,   2216.4, 2,   2310.7, 2,   1121.2, 2,   4.5634,   -999.0, 9, -999.000, 9
318MHYDROS4, A16C, 369, 1, 19, 19, 2, 19890407, 1700, -0.6517, -24.9933, 3359,  -999.00,    925.0,   4.5123,  34.5569, 2,  34.5580, 2,   -999.0, 9,    155.2, 2,    32.36, 2,    33.53, 2,     0.00, 2,     2.32, 2,    0.007, 2,    0.003, 2,   -999.0, 9,   -999.0, 9,   -999.0, 9,   4.4391,   -999.0, 9, -999.000, 9
318MHYDROS4, A16C, 369, 1, 20, 20, 2, 19890407, 1700, -0.6517, -24.9933, 3359,  -999.00,   1026.9,   4.4267,  34.5815, 2,  34.5830, 2,   -999.0, 9,    160.4, 2,    32.55, 2,    33.04, 2,     0.00, 2,     2.27, 2,    0.010, 2,    0.008, 2,   2215.9, 2,   2317.1, 2,   1073.4, 2,   4.3453,   -999.0, 9, -999.000, 9
318MHYDROS4, A16C, 369, 1, 21, 21, 2, 19890407, 1700, -0.6517, -24.9933, 3359,  -999.00,   1129.2,   4.4509,  34.7244, 2,  34.7240, 2,   -999.0, 9,    172.5, 2,    29.32, 2,    30.20, 2,     0.00, 2,     2.07, 2, -999.000, 9, -999.000, 9,   -999.0, 9,   -999.0, 9,   -999.0, 9,   4.3601,   -999.0, 9, -999.000, 9
318MHYDROS4, A16C, 369, 1, 22, 22, 2, 19890407, 1700, -0.6517, -24.9933, 3359,  -999.00,   1231.9,   4.4832,  34.8188, 2,  34.8200, 2,   -999.0, 9,    185.1, 2,    25.90, 2,    27.66, 2,     0.00, 2,     1.89, 2,    0.005, 2,    0.004, 2,   -999.0, 9,   -999.0, 9,   -999.0, 9,   4.3827,   -999.0, 9, -999.000, 9
318MHYDROS4, A16C, 369, 1, 23, 23, 2, 19890407, 1700, -0.6517, -24.9933, 3359,  -999.00,   1334.5,   4.4320,  34.9265, 2,  34.9290, 2,   -999.0, 9,    215.1, 2,    20.72, 2,    23.55, 2,     0.00, 2,     1.58, 2,    0.027, 2,    0.012, 2,   -999.0, 9,   -999.0, 9,   -999.0, 9,   4.3224,   -999.0, 9, -999.000, 9
318MHYDROS4, A16C, 369, 1, 24, 24, 2, 19890407, 1700, -0.6517, -24.9933, 3359,  -999.00,   1437.2,   4.2779,  34.9492, 2,  34.9520, 2,   -999.0, 9,    225.5, 2,    19.35, 2,    22.18, 2,     0.00, 2,     1.49, 2,    0.021, 2,    0.012, 2,   -999.0, 9,   -999.0, 9,   -999.0, 9,   4.1604,   -999.0, 9, -999.000, 9
318MHYDROS4, A16C, 369, 1, 25, 25, 2, 19890407, 1700, -0.6517, -24.9933, 3359,  -999.00,   1539.6,   4.1216,  34.9686, 2,  34.9710, 2,   -999.0, 9,    237.3, 2,    17.88, 2,    20.72, 2,     0.00, 2,     1.39, 2,    0.025, 2,    0.017, 2,   2167.8, 2,   -999.0, 9,   -999.0, 9,   3.9964,   -999.0, 9, -999.000, 9
318MHYDROS4, A16C, 369, 1, 26, 26, 2, 19890407, 1700, -0.6517, -24.9933, 3359,  -999.00,   1642.0,   4.0388,  34.9741, 2,  34.9760, 2,   -999.0, 9,    244.6, 2,    17.59, 2,    20.23, 2,     0.00, 2,     1.35, 2,    0.028, 2,    0.017, 2,   2168.1, 2,   -999.0, 9,   -999.0, 9,   3.9050,   -999.0, 9, -999.000, 9
318MHYDROS4, A16C, 369, 1, 27, 27, 2, 19890407, 1700, -0.6517, -24.9933, 3359,  -999.00,   1744.5,   3.7650,  34.9754, 2,  34.9780, 2,   -999.0, 9,    252.0, 2,    17.88, 2,    19.35, 2,     0.00, 2,     1.30, 2,    0.026, 2,    0.011, 2,   2163.3, 2,   -999.0, 9,   -999.0, 9,   3.6251,   -999.0, 9, -999.000, 9
318MHYDROS4, A16C, 369, 1, 28, 28, 2, 19890407, 1700, -0.6517, -24.9933, 3359,  -999.00,   1845.9,   3.6772,  34.9718, 2,  34.9740, 2,   -999.0, 9,    253.3, 2,    18.96, 2,    19.35, 2,     0.00, 2,     1.30, 2,    0.028, 2,    0.010, 2,   -999.0, 9,   -999.0, 9,   -999.0, 9,   3.5290,   -999.0, 9, -999.000, 9
318MHYDROS4, A16C, 369, 1, 29, 29, 2, 19890407, 1700, -0.6517, -24.9933, 3359,  -999.00,   1947.8,   3.5692,  34.9663, 2,  34.9680, 2,   -999.0, 9,    252.9, 2,    20.23, 2,    19.45, 2,     0.00, 2,     1.31, 2,    0.017, 2,    0.013, 2,   2162.9, 2,   -999.0, 9,   -999.0, 9,   3.4130,   1951.0, 2,    3.561, 2
318MHYDROS4, A16C, 369, 1, 30, 30, 2, 19890407, 1700, -0.6517, -24.9933, 3359,  -999.00,   2153.8,   3.3673,  34.9546, 2,  34.9570, 2,   -999.0, 9,    252.0, 2,    23.65, 2,    19.84, 2,     0.00, 2,     1.33, 2, -999.000, 9, -999.000, 9,   -999.0, 9,   -999.0, 9,   -999.0, 9,   3.1946,   -999.0, 9, -999.000, 9
318MHYDROS4, A16C, 369, 1, 31, 31, 2, 19890407, 1700, -0.6517, -24.9933, 3359,  -999.00,   2361.4,   3.0985,  34.9410, 2,  34.9410, 2,   -999.0, 9,    252.0, 2,    28.05, 2,    20.23, 2,     0.00, 2,     1.35, 2, -999.000, 9, -999.000, 9,   -999.0, 9,   -999.0, 9,   -999.0, 9,   2.9104,   -999.0, 9, -999.000, 9
318MHYDROS4, A16C, 369, 1, 32, 32, 2, 19890407, 1700, -0.6517, -24.9933, 3359,  -999.00,   2568.5,   2.9429,  34.9324, 2,  34.9330, 2,   -999.0, 9,    252.9, 2,    30.00, 2,    20.23, 2,     0.00, 2,     1.36, 2,    0.004, 2,    0.003, 2,   2170.5, 2,   -999.0, 9,   -999.0, 9,   2.7373,   -999.0, 9, -999.000, 9
318MHYDROS4, A16C, 369, 1, 33, 33, 2, 19890407, 1700, -0.6517, -24.9933, 3359,  -999.00,   2775.4,   2.7925,  34.9231, 2,  34.9260, 2,   -999.0, 9,    252.0, 2,    32.54, 2,    20.52, 2,     0.00, 2,     1.39, 2, -999.000, 9, -999.000, 9,   -999.0, 9,   -999.0, 9,   -999.0, 9,   2.5692,   -999.0, 9, -999.000, 9
318MHYDROS4, A16C, 369, 1, 34, 34, 2, 19890407, 1700, -0.6517, -24.9933, 3359,  -999.00,   2982.2,   2.7208,  34.9180, 2,  34.9180, 2,   -999.0, 9,    252.9, 2,    33.81, 2,    20.62, 2,     0.00, 2,     1.39, 2, -999.000, 9, -999.000, 9,   -999.0, 9,   -999.0, 9,   -999.0, 9,   2.4780,   -999.0, 9, -999.000, 9
318MHYDROS4, A16C, 369, 1, 35, 35, 2, 19890407, 1700, -0.6517, -24.9933, 3359,  -999.00,   3189.8,   2.6559,  34.9133, 2,  34.9140, 2,   -999.0, 9,    253.3, 2,    34.89, 2,    20.62, 2,     0.00, 2,     1.39, 2,    0.004, 2,    0.003, 2,   2181.8, 2,   -999.0, 9,   -999.0, 9,   2.3929,   3181.4, 2,    2.651, 2
318MHYDROS4, A16C, 369, 1, 36, 36, 2, 19890407, 1700, -0.6517, -24.9933, 3359,  -999.00,   3368.3,   2.6522,  34.9127, 2,  34.9130, 2,   -999.0, 9,    253.7, 2,    35.18, 2,    20.62, 2,     0.00, 2,     1.39, 2,    0.004, 2,    0.004, 2,   2176.8, 2,   -999.0, 9,   -999.0, 9,   2.3703,   -999.0, 9, -999.000, 9