BOTTLE,20110318CCHDOSIODM
EXPOCODE,SECT_ID,STNNBR,CASTNO,SAMPNO,BTLNBR,BTLNBR_FLAG_W,DATE,TIME,LATITUDE,LONGITUDE,DEPTH,CTDRAW,CTDPRS,CTDTMP,CTDSAL,CTDSAL_FLAG_W,SALNTY,SALNTY_FLAG_W,CTDOXY,CTDOXY_FLAG_W,OXYGEN,OXYGEN_FLAG_W,SILCAT,SILCAT_FLAG_W,NITRAT,NITRAT_FLAG_W,NITRIT,NITRIT_FLAG_W,PHSPHT,PHSPHT_FLAG_W,CFC-11,CFC-11_FLAG_W,CFC-12,CFC-12_FLAG_W,TCARBN,TCARBN_FLAG_W,ALKALI,ALKALI_FLAG_W,PCO2,PCO2_FLAG_W,THETA,REVPRS,REVPRS_FLAG_W,REVTMP,REVTMP_FLAG_W
,,,,,,,,,,,METERS,DBAR,DBAR,ITS-90,PSS-78,,PSS-78,,UMOL/KG,,UMOL/KG,,UMOL/KG,,UMOL/KG,,UMOL/KG,,UMOL/KG,,PMOL/KG,,PMOL/KG,,UMOL/KG,,UMOL/KG,,UATM,,DEG C,DBAR,,ITS-90,
318MHYDROS4, A16C, 336, 1, 1, 1, 2, 19890328, 1025, -19.1617, -25.0067, 5024,  -999.00,      1.5,  27.7815,  37.1690, 2,  37.1716, 2,   -999.0, 9,    207.8, 2,     2.44, 2,     0.00, 2,     0.00, 2,     0.19, 2,    1.490, 2,    0.745, 2,   2071.3, 2,   2438.7, 2,    292.3, 2,  27.7812,   -999.0, 9, -999.000, 9
318MHYDROS4, A16C, 336, 1, 2, 2, 2, 19890328, 1025, -19.1617, -25.0067, 5024,  -999.00,     37.4,  27.5945,  37.1763, 2,  37.1764, 2,   -999.0, 9,    210.9, 2,     2.44, 2,     0.00, 2,     0.00, 2,     0.19, 2, -999.000, 9, -999.000, 9,   2071.6, 2,   -999.0, 9,   -999.0, 9,  27.5857,   -999.0, 9, -999.000, 9
318MHYDROS4, A16C, 336, 1, 3, 3, 2, 19890328, 1025, -19.1617, -25.0067, 5024,  -999.00,     68.1,  24.1369,  36.9445, 2,  36.9472, 2,   -999.0, 9,    227.8, 2,     2.63, 2,     0.00, 2,     0.00, 2,     0.19, 2,    1.792, 2,    0.895, 2,   -999.0, 9,   -999.0, 9,   -999.0, 9,  24.1224,   -999.0, 9, -999.000, 9
318MHYDROS4, A16C, 336, 1, 71, 71, 2, 19890328, 1025, -19.1617, -25.0067, 5024,  -999.00,    109.3,  22.7042,  36.8418, 2,  36.8337, 2,   -999.0, 9,    219.4, 2,     2.63, 2,     0.00, 2,     0.00, 2,     0.18, 2,    1.783, 2,    0.895, 2,   2073.2, 2,   2416.2, 2,    316.0, 2,  22.6819,   -999.0, 9, -999.000, 9
318MHYDROS4, A16C, 336, 1, 5, 5, 2, 19890328, 1025, -19.1617, -25.0067, 5024,  -999.00,    160.0,  20.9464,  36.5056, 2,  36.4991, 2,   -999.0, 9,    212.3, 2,     2.64, 2,     0.00, 2,     0.09, 2,     0.20, 2, -999.000, 9, -999.000, 9,   -999.0, 9,   -999.0, 9,   -999.0, 9,  20.9156,   -999.0, 9, -999.000, 9
318MHYDROS4, A16C, 336, 1, 6, 6, 2, 19890328, 1025, -19.1617, -25.0067, 5024,  -999.00,    211.6,  16.9942,  35.7391, 2,  35.7393, 2,   -999.0, 9,    202.2, 2,     3.13, 2,     3.13, 2,     0.01, 2,     0.45, 2,    1.961, 2,    0.982, 2,   2087.1, 2,   2347.9, 2,    428.2, 2,  16.9591,   -999.0, 9, -999.000, 9
318MHYDROS4, A16C, 336, 1, 7, 7, 2, 19890328, 1025, -19.1617, -25.0067, 5024,  -999.00,    263.0,  14.6620,  35.3708, 2,  35.3668, 2,   -999.0, 9,    202.5, 2,     3.91, 2,     7.03, 2,     0.01, 2,     0.65, 2, -999.000, 9, -999.000, 9,   -999.0, 9,   -999.0, 9,   -999.0, 9,  14.6226,   -999.0, 9, -999.000, 9
318MHYDROS4, A16C, 336, 1, 8, 8, 2, 19890328, 1025, -19.1617, -25.0067, 5024,  -999.00,    313.9,  13.2293,  35.1865, 2,  35.1835, 2,   -999.0, 9,    180.6, 2,     5.86, 2,    12.80, 2,     0.01, 2,     0.97, 2,    1.578, 2,    0.761, 2,   2117.0, 2,   2315.9, 2,    576.1, 2,  13.1854,   -999.0, 9, -999.000, 9
318MHYDROS4, A16C, 336, 1, 9, 9, 2, 19890328, 1025, -19.1617, -25.0067, 5024,  -999.00,    365.2,  11.5538,  34.9958, 2,  34.9957, 2,   -999.0, 9,    177.9, 2,     7.52, 2,    16.51, 2,     0.01, 2,     1.19, 2, -999.000, 9, -999.000, 9,   -999.0, 9,   -999.0, 9,   -999.0, 9,  11.5070,   -999.0, 9, -999.000, 9
318MHYDROS4, A16C, 336, 1, 10, 10, 2, 19890328, 1025, -19.1617, -25.0067, 5024,  -999.00,    416.4,   9.9973,  34.8325, 2,  34.8367, 2,   -999.0, 9,    165.3, 2,    10.75, 2,    21.31, 2,     0.00, 2,     1.49, 2,    0.875, 2,    0.410, 2,   2150.6, 2,   2300.4, 2,    762.5, 2,   9.9485,   -999.0, 9, -999.000, 9
318MHYDROS4, A16C, 336, 1, 11, 11, 2, 19890328, 1025, -19.1617, -25.0067, 5024,  -999.00,    518.3,   7.6484,  34.6153, 2,  34.6194, 2,   -999.0, 9,    153.5, 2,    17.89, 2,    28.25, 2,     0.00, 2,     1.91, 2,    0.358, 2,    0.173, 2,   2181.5, 2,   2299.0, 2,    942.4, 2,   7.5965,   -999.0, 9, -999.000, 9
318MHYDROS4, A16C, 336, 1, 12, 12, 2, 19890328, 1025, -19.1617, -25.0067, 5024,  -999.00,    619.8,   5.9877,  34.4849, 2,  34.4835, 2,   -999.0, 9,    162.9, 2,    23.46, 2,    30.99, 2,     0.00, 2,     2.10, 2, -999.000, 9,    0.096, 2,   2196.3, 2,   2303.9, 2,   1012.1, 2,   5.9331,   -999.0, 9, -999.000, 9
318MHYDROS4, A16C, 336, 1, 13, 13, 2, 19890328, 1025, -19.1617, -25.0067, 5024,  -999.00,    722.1,   4.6946,  34.4148, 2,  34.4128, 2,   -999.0, 9,    177.7, 2,    30.31, 2,    32.26, 2,     0.00, 2,     2.20, 2,    0.091, 2,    0.045, 2,   2199.9, 2,   2306.4, 2,   1022.7, 2,   4.6377,   -999.0, 9, -999.000, 9
318MHYDROS4, A16C, 336, 1, 14, 14, 2, 19890328, 1025, -19.1617, -25.0067, 5024,  -999.00,    824.6,   4.1027,  34.4205, 2,  34.4209, 2,   -999.0, 9,    180.2, 2,    35.68, 2,    32.85, 2,     0.00, 2,     2.25, 2,    0.033, 2,    0.020, 2,   2202.6, 2,   2305.0, 2,   1052.8, 2,   4.0409,   -999.0, 9, -999.000, 9
318MHYDROS4, A16C, 336, 1, 15, 15, 2, 19890328, 1025, -19.1617, -25.0067, 5024,  -999.00,    927.0,   3.8445,  34.4524, 2,  34.4516, 2,   -999.0, 9,    180.5, 2,    38.71, 2,    32.36, 2,     0.00, 2,     2.26, 2,    0.018, 2,    0.010, 2,   -999.0, 9,   -999.0, 9,   1040.1, 2,   3.7761,   -999.0, 9, -999.000, 9
318MHYDROS4, A16C, 336, 1, 16, 16, 2, 19890328, 1025, -19.1617, -25.0067, 5024,  -999.00,   1029.4,   3.6816,  34.5183, 2, -999.0000, 9,   -999.0, 9,    181.8, 2,    41.06, 2,    31.87, 2,     0.00, 2,     2.22, 2,    0.009, 2,    0.006, 2,   2213.3, 2,   2321.0, 2,   1027.4, 2,   3.6060,   -999.0, 9, -999.000, 9
318MHYDROS4, A16C, 336, 1, 17, 17, 2, 19890328, 1025, -19.1617, -25.0067, 5024,  -999.00,   1234.9,   3.7832,  34.6901, 2,  34.6933, 2,   -999.0, 9,    188.9, 2,    36.26, 2,    29.52, 2,     0.00, 2,     2.01, 2,    0.000, 2,    0.002, 2,   2207.0, 2,   2323.6, 2,    969.0, 2,   3.6893,   -999.0, 9, -999.000, 9
318MHYDROS4, A16C, 336, 1, 18, 18, 2, 19890328, 1025, -19.1617, -25.0067, 5024,  -999.00,   1439.9,   3.8027,  34.8216, 2,  34.8243, 2,   -999.0, 9,    207.2, 2,    31.08, 2,    26.09, 2,     0.00, 2,     1.76, 2,    0.000, 2,    0.003, 2,   2193.6, 2,   2323.6, 2,    885.7, 2,   3.6904,   -999.0, 9, -999.000, 9
318MHYDROS4, A16C, 336, 1, 19, 19, 2, 19890328, 1025, -19.1617, -25.0067, 5024,  -999.00,   1646.3,   3.5732,  34.8879, 2,  34.8889, 2,   -999.0, 9,    227.2, 2,    28.93, 2,    23.26, 2,     0.00, 2,     1.56, 2,    0.000, 2,    0.010, 2,   2183.3, 2,   2325.3, 2,    819.8, 2,   3.4450,   -999.0, 9, -999.000, 9
318MHYDROS4, A16C, 336, 1, 20, 20, 2, 19890328, 1025, -19.1617, -25.0067, 5024,  -999.00,   1852.3,   3.3694,  34.9141, 2,  34.9153, 2,   -999.0, 9,    239.2, 2,    28.54, 2,    21.89, 2,     0.00, 2,     1.47, 2,    0.000, 2,    0.000, 2,   -999.0, 9,   -999.0, 9,   -999.0, 9,   3.2251,   -999.0, 9, -999.000, 9
318MHYDROS4, A16C, 336, 1, 21, 21, 2, 19890328, 1025, -19.1617, -25.0067, 5024,  -999.00,   2058.7,   3.2873,  34.9386, 2,  34.9382, 2,   -999.0, 9,    248.9, 2,    25.99, 2,    20.52, 2,     0.00, 2,     1.38, 2,    0.000, 2,    0.001, 2,   2166.1, 2,   2322.0, 2,    748.4, 2,   3.1249,   -999.0, 9, -999.000, 9
318MHYDROS4, A16C, 336, 1, 22, 22, 2, 19890328, 1025, -19.1617, -25.0067, 5024,  -999.00,   2264.7,   3.1376,  34.9393, 2,  34.9394, 2,   -999.0, 9,    252.3, 2,    26.97, 2,    20.23, 2,     0.00, 2,     1.36, 2,    0.003, 2,    0.005, 2,   -999.0, 9,   -999.0, 9,   -999.0, 9,   2.9581,   -999.0, 9, -999.000, 9
318MHYDROS4, A16C, 336, 1, 23, 23, 2, 19890328, 1025, -19.1617, -25.0067, 5024,  -999.00,   2471.2,   2.9995,  34.9329, 2,  34.9337, 2,   -999.0, 9,    252.0, 2,    29.12, 2,    20.52, 2,     0.00, 2,     1.37, 2, -999.000, 9, -999.000, 9,   2169.8, 2,   2327.6, 2,    742.9, 2,   2.8024,   -999.0, 9, -999.000, 9
318MHYDROS4, A16C, 336, 1, 24, 24, 2, 19890328, 1025, -19.1617, -25.0067, 5024,  -999.00,   2677.5,   2.8617,  34.9230, 2,  34.9237, 2,   -999.0, 9,    251.2, 2,    32.35, 2,    20.82, 2,     0.00, 2,     1.40, 2,    0.003, 2,    0.010, 2,   -999.0, 9,   -999.0, 9,   -999.0, 9,   2.6469,   -999.0, 9, -999.000, 9
318MHYDROS4, A16C, 336, 1, 25, 25, 2, 19890328, 1025, -19.1617, -25.0067, 5024,  -999.00,   2884.4,   2.7707,  34.9170, 2,  34.9197, 2,   -999.0, 9,    251.9, 2,    34.40, 2,    20.91, 2,     0.00, 2,     1.41, 2, -999.000, 9, -999.000, 9,   2171.1, 2,   2326.2, 2,    755.3, 2,   2.5369,   -999.0, 9, -999.000, 9
318MHYDROS4, A16C, 336, 1, 26, 26, 2, 19890328, 1025, -19.1617, -25.0067, 5024,  -999.00,   3091.7,   2.6892,  34.9127, 2,  34.9139, 2,   -999.0, 9,    251.7, 2,    35.57, 2,    20.91, 2,     0.00, 2,     1.41, 2,    0.002, 2,    0.001, 2,   -999.0, 9,   -999.0, 9,   -999.0, 9,   2.4357,   -999.0, 9, -999.000, 9
318MHYDROS4, A16C, 336, 1, 27, 27, 2, 19890328, 1025, -19.1617, -25.0067, 5024,  -999.00,   3298.4,   2.5953,  34.9067, 2,  34.9084, 2,   -999.0, 9,    253.2, 2,    37.33, 2,    21.01, 2,     0.00, 2,     1.41, 2, -999.000, 9, -999.000, 9,   2176.2, 2,   2337.4, 2,    733.6, 2,   2.3223,   -999.0, 9, -999.000, 9
318MHYDROS4, A16C, 336, 1, 28, 28, 2, 19890328, 1025, -19.1617, -25.0067, 5024,  -999.00,   3506.2,   2.4120,  34.8916, 2,  34.8926, 2,   -999.0, 9,    251.6, 2,    42.32, 2,    21.50, 2,     0.00, 2,     1.45, 2,    0.001, 2,    0.001, 2,   -999.0, 9,   -999.0, 9,   -999.0, 9,   2.1212,   -999.0, 9, -999.000, 9
318MHYDROS4, A16C, 336, 1, 29, 29, 2, 19890328, 1025, -19.1617, -25.0067, 5024,  -999.00,   3714.1,   2.2176,  34.8731, 2,  34.8745, 2,   -999.0, 9,    250.2, 2,    48.96, 2,    22.38, 2,     0.00, 2,     1.51, 2, -999.000, 9, -999.000, 9,   2185.7, 2,   2337.2, 2,    780.5, 2,   1.9093,   -999.0, 9, -999.000, 9
318MHYDROS4, A16C, 336, 1, 30, 30, 2, 19890328, 1025, -19.1617, -25.0067, 5024,  -999.00,   3922.5,   1.9233,  34.8419, 2,  34.8438, 2,   -999.0, 9,    244.8, 2,    61.28, 2,    24.04, 2,     0.00, 2,     1.63, 2,    0.000, 2,    0.008, 2,   -999.0, 9,   -999.0, 9,   -999.0, 9,   1.6001,   -999.0, 9, -999.000, 9
318MHYDROS4, A16C, 336, 1, 31, 31, 2, 19890328, 1025, -19.1617, -25.0067, 5024,  -999.00,   4129.8,   1.6462,  34.8124, 2,  34.8131, 2,   -999.0, 9,    239.7, 2,    73.10, 2,    25.70, 2,     0.00, 2,     1.75, 2, -999.000, 9, -999.000, 9,   2213.6, 2,   2354.6, 2,    848.1, 2,   1.3080,   -999.0, 9, -999.000, 9
318MHYDROS4, A16C, 336, 1, 32, 32, 2, 19890328, 1025, -19.1617, -25.0067, 5024,  -999.00,   4337.5,   1.3297,  34.7782, 2,  34.7793, 2,   -999.0, 9,    234.6, 2,    86.69, 2,    27.37, 2,     0.00, 2,     1.88, 2,    0.001, 2,    0.001, 2,   -999.0, 9,   -999.0, 9,   -999.0, 9,   0.9778,   -999.0, 9, -999.000, 9
318MHYDROS4, A16C, 336, 1, 33, 33, 2, 19890328, 1025, -19.1617, -25.0067, 5024,  -999.00,   4545.9,   1.1080,  34.7549, 2,  34.7521, 2,   -999.0, 9,    231.2, 2,    96.66, 2,    28.73, 2,     0.00, 2,     1.99, 2, -999.000, 9, -999.000, 9,   2234.7, 2,   2364.8, 2,    920.4, 2,   0.7395,   -999.0, 9, -999.000, 9
318MHYDROS4, A16C, 336, 1, 34, 34, 2, 19890328, 1025, -19.1617, -25.0067, 5024,  -999.00,   4754.9,   0.9397,  34.7361, 2,  34.7362, 2,   -999.0, 9,    228.2, 2,   105.07, 2,    29.61, 2,     0.00, 2,     2.06, 2,    0.000, 2,    0.001, 2,   -999.0, 9,   -999.0, 9,   -999.0, 9,   0.5528,   -999.0, 9, -999.000, 9
318MHYDROS4, A16C, 336, 1, 35, 35, 2, 19890328, 1025, -19.1617, -25.0067, 5024,  -999.00,   4963.3,   0.7989,  34.7197, 2,  34.7197, 2,   -999.0, 9,    225.9, 2,   111.03, 2,    30.59, 2,     0.00, 2,     2.12, 2,    0.002, 2,    0.002, 2,   2250.0, 2,   2373.2, 2,    971.0, 2,   0.3925,   4957.8, 2,    0.791, 2
318MHYDROS4, A16C, 336, 1, 36, 36, 2, 19890328, 1025, -19.1617, -25.0067, 5024,  -999.00,   5151.2,   0.7685,  34.7150, 2,  34.7158, 2,   -999.0, 9,    225.5, 2,   112.79, 2,    30.79, 2,     0.00, 2,     2.14, 2,    0.005, 2,    0.004, 2,   2251.5, 2,   2373.0, 2,    982.3, 2,   0.3410,   -999.0, 9, -999.000, 9