BOTTLE,20110318CCHDOSIODM
EXPOCODE,SECT_ID,STNNBR,CASTNO,SAMPNO,BTLNBR,BTLNBR_FLAG_W,DATE,TIME,LATITUDE,LONGITUDE,DEPTH,CTDRAW,CTDPRS,CTDTMP,CTDSAL,CTDSAL_FLAG_W,SALNTY,SALNTY_FLAG_W,CTDOXY,CTDOXY_FLAG_W,OXYGEN,OXYGEN_FLAG_W,SILCAT,SILCAT_FLAG_W,NITRAT,NITRAT_FLAG_W,NITRIT,NITRIT_FLAG_W,PHSPHT,PHSPHT_FLAG_W,CFC-11,CFC-11_FLAG_W,CFC-12,CFC-12_FLAG_W,TCARBN,TCARBN_FLAG_W,ALKALI,ALKALI_FLAG_W,PCO2,PCO2_FLAG_W,THETA,REVPRS,REVPRS_FLAG_W,REVTMP,REVTMP_FLAG_W
,,,,,,,,,,,METERS,DBAR,DBAR,ITS-90,PSS-78,,PSS-78,,UMOL/KG,,UMOL/KG,,UMOL/KG,,UMOL/KG,,UMOL/KG,,UMOL/KG,,PMOL/KG,,PMOL/KG,,UMOL/KG,,UMOL/KG,,UATM,,DEG C,DBAR,,ITS-90,
318MHYDROS4, A16C, 346, 1, 1, 1, 2, 19890331, 1841, -13.3133, -25.0167, 5484,  -999.00,      1.2,  27.9286,  36.9330, 2,  36.9370, 2,   -999.0, 9,    206.3, 2,     2.44, 2,     0.10, 2,     0.00, 2,     0.10, 2,    1.498, 2,    0.773, 2,   2033.6, 2,   2407.0, 2,    274.9, 2,  27.9283,   -999.0, 9, -999.000, 9
318MHYDROS4, A16C, 346, 1, 2, 2, 2, 19890331, 1841, -13.3133, -25.0167, 5484,  -999.00,     39.0,  27.7663,  36.9614, 2,  36.9700, 2,   -999.0, 9,    208.0, 2,     2.63, 2,     0.10, 2,     0.00, 2,     0.09, 2, -999.000, 9, -999.000, 9,   2045.8, 2,   2420.1, 2,    277.3, 2,  27.7571,   -999.0, 9, -999.000, 9
318MHYDROS4, A16C, 346, 1, 3, 3, 2, 19890331, 1841, -13.3133, -25.0167, 5484,  -999.00,     69.7,  25.3751,  37.0027, 2,  37.0040, 2,   -999.0, 9,    228.8, 2,     2.44, 2,     0.00, 2,     0.00, 2,     0.14, 2,    1.665, 2,    0.875, 2,   -999.0, 9,   -999.0, 9,   -999.0, 9,  25.3597,   -999.0, 9, -999.000, 9
318MHYDROS4, A16C, 346, 1, 71, 71, 2, 19890331, 1841, -13.3133, -25.0167, 5484,  -999.00,    110.7,  23.4500,  36.8686, 2,  36.8700, 2,   -999.0, 9,    225.6, 2,     2.44, 2,     0.00, 2,     0.00, 2,     0.19, 2,    1.761, 2,    0.909, 2,   2067.1, 2,   2415.2, 2,    308.9, 2,  23.4269,   -999.0, 9, -999.000, 9
318MHYDROS4, A16C, 346, 1, 5, 5, 2, 19890331, 1841, -13.3133, -25.0167, 5484,  -999.00,    162.4,  20.6551,  36.4191, 2,  36.3720, 2,   -999.0, 9,    189.8, 2,     2.83, 2,     2.34, 2,     0.25, 2,     0.45, 2, -999.000, 9, -999.000, 9,   -999.0, 9,   -999.0, 9,   -999.0, 9,  20.6241,   -999.0, 9, -999.000, 9
318MHYDROS4, A16C, 346, 1, 6, 6, 2, 19890331, 1841, -13.3133, -25.0167, 5484,  -999.00,    213.2,  15.1479,  35.5212, 2,  35.5260, 2,   -999.0, 9,   -999.0, 9,  -999.00, 9,  -999.00, 9,  -999.00, 9,  -999.00, 9, -999.000, 9, -999.000, 9,   -999.0, 9,   -999.0, 9,   -999.0, 9,  15.1152,   -999.0, 9, -999.000, 9
318MHYDROS4, A16C, 346, 1, 7, 7, 2, 19890331, 1841, -13.3133, -25.0167, 5484,  -999.00,    213.6,  15.0873,  35.5109, 2,  35.5060, 2,   -999.0, 9,    151.9, 2,     5.67, 2,    13.38, 2,     0.01, 2,     1.02, 2,    1.488, 2,    0.754, 2,   2130.9, 2,   2330.7, 2,    584.5, 2,  15.0546,   -999.0, 9, -999.000, 9
318MHYDROS4, A16C, 346, 1, 8, 8, 2, 19890331, 1841, -13.3133, -25.0167, 5484,  -999.00,    315.0,  10.5991,  34.9570, 2,  34.9580, 2,   -999.0, 9,    113.5, 2,    11.92, 2,    25.70, 2,     0.00, 2,     1.72, 2,    0.509, 2,    0.248, 2,   2182.5, 2,   2306.3, 2,    912.0, 2,  10.5610,   -999.0, 9, -999.000, 9
318MHYDROS4, A16C, 346, 1, 9, 9, 2, 19890331, 1841, -13.3133, -25.0167, 5484,  -999.00,    416.4,   7.8608,  34.6625, 2,  34.6630, 2,   -999.0, 9,    135.2, 2,    17.30, 2,    29.52, 2,     0.00, 2,     1.98, 2,    0.248, 2,    0.115, 2,   2183.7, 2,   2292.7, 2,    996.7, 2,   7.8187,   -999.0, 9, -999.000, 9
318MHYDROS4, A16C, 346, 1, 10, 10, 2, 19890331, 1841, -13.3133, -25.0167, 5484,  -999.00,    518.5,   5.8763,  34.4769, 2, -999.0000, 9,   -999.0, 9,   -999.0, 9,  -999.00, 9,  -999.00, 9,  -999.00, 9,  -999.00, 9, -999.000, 9, -999.000, 9,   -999.0, 9,   -999.0, 9,   -999.0, 9,   5.8314,   -999.0, 9, -999.000, 9
318MHYDROS4, A16C, 346, 1, 11, 11, 2, 19890331, 1841, -13.3133, -25.0167, 5484,  -999.00,    620.4,   5.0921,  34.4441, 2,  34.4460, 2,   -999.0, 9,    161.7, 2,    27.96, 2,    33.14, 2,     0.00, 2,     2.26, 2,    0.064, 2,    0.038, 2,   2198.8, 2,   2298.6, 2,   1067.8, 2,   5.0418,   -999.0, 9, -999.000, 9
318MHYDROS4, A16C, 346, 1, 12, 12, 2, 19890331, 1841, -13.3133, -25.0167, 5484,  -999.00,    723.1,   4.5056,  34.4253, 2, -999.0000, 9,   -999.0, 9,    170.4, 2,    32.46, 2,    33.34, 2,     0.00, 2,     2.30, 2,    0.066, 2,    0.035, 2,   2200.5, 2,   2300.7, 2,   1066.5, 2,   4.4497,   -999.0, 9, -999.000, 9
318MHYDROS4, A16C, 346, 1, 13, 13, 2, 19890331, 1841, -13.3133, -25.0167, 5484,  -999.00,    825.1,   4.2143,  34.4515, 2,  34.4500, 2,   -999.0, 9,    166.5, 2,    36.17, 2,    34.12, 2,     0.44, 2,     2.35, 2,    0.031, 2,    0.020, 2,   2205.5, 2,   2301.8, 2,   1098.9, 2,   4.1516,   -999.0, 9, -999.000, 9
318MHYDROS4, A16C, 346, 1, 14, 14, 2, 19890331, 1841, -13.3133, -25.0167, 5484,  -999.00,   1028.9,   3.8376,  34.5594, 2,  34.5580, 2,   -999.0, 9,    176.0, 2,    39.10, 2,    32.45, 2,     0.00, 2,     2.24, 2,    0.005, 2,    0.004, 2,   2207.5, 2,   2313.4, 2,   1036.5, 2,   3.7607,   -999.0, 9, -999.000, 9
318MHYDROS4, A16C, 346, 1, 15, 15, 2, 19890331, 1841, -13.3133, -25.0167, 5484,  -999.00,   1234.0,   4.0018,  34.7372, 2,  34.7350, 2,   -999.0, 9,    185.6, 2,    32.55, 2,    29.13, 2,     0.00, 2,     2.00, 2,    0.000, 2,    0.000, 2,   2197.5, 2,   2313.9, 2,    964.8, 2,   3.9058,   -999.0, 9, -999.000, 9
318MHYDROS4, A16C, 346, 1, 16, 16, 2, 19890331, 1841, -13.3133, -25.0167, 5484,  -999.00,   1440.4,   3.9995,  34.8658, 2,  34.8620, 2,   -999.0, 9,   -999.0, 9,    26.48, 2,    25.31, 2,     0.00, 2,     1.72, 2,    0.002, 2,    0.000, 2,   2186.7, 2,   2318.0, 2,    875.0, 2,   3.8850,   -999.0, 9, -999.000, 9
318MHYDROS4, A16C, 346, 1, 17, 17, 2, 19890331, 1841, -13.3133, -25.0167, 5484,  -999.00,   1647.4,   3.8039,  34.9228, 2,  34.9210, 2,   -999.0, 9,    228.6, 2,    23.94, 2,    22.57, 2,     0.00, 2,     1.53, 2,    0.000, 2,    0.000, 2,   2168.8, 2,   2316.6, 2,    785.1, 2,   3.6726,   -999.0, 9, -999.000, 9
318MHYDROS4, A16C, 346, 1, 18, 18, 2, 19890331, 1841, -13.3133, -25.0167, 5484,  -999.00,   1852.8,   3.4714,  34.9344, 2,  34.9340, 2,   -999.0, 9,    241.6, 2,    25.70, 2,    21.30, 2,     0.00, 2,     1.45, 2,    0.000, 2,    0.001, 2,   -999.0, 9,   -999.0, 9,   -999.0, 9,   3.3256,   -999.0, 9, -999.000, 9
318MHYDROS4, A16C, 346, 1, 19, 19, 2, 19890331, 1841, -13.3133, -25.0167, 5484,  -999.00,   2058.4,   3.2243,  34.9275, 2,  34.9270, 2,   -999.0, 9,    244.2, 2,    28.93, 2,    21.30, 2,     0.00, 2,     1.45, 2,    0.000, 2,    0.000, 2,   2168.8, 2,   2320.5, 2,    768.2, 2,   3.0630,   -999.0, 9, -999.000, 9
318MHYDROS4, A16C, 346, 1, 20, 20, 2, 19890331, 1841, -13.3133, -25.0167, 5484,  -999.00,   2262.9,   3.0153,  34.9168, 2,  34.9160, 2,   -999.0, 9,    243.8, 2,    33.03, 2,    21.69, 2,     0.00, 2,     1.47, 2, -999.000, 9, -999.000, 9,   -999.0, 9,   -999.0, 9,   -999.0, 9,   2.8381,   -999.0, 9, -999.000, 9
318MHYDROS4, A16C, 346, 1, 21, 21, 2, 19890331, 1841, -13.3133, -25.0167, 5484,  -999.00,   2466.7,   2.8477,  34.9075, 2,  34.9080, 2,   -999.0, 9,    242.9, 2,    36.94, 2,    21.99, 2,     0.00, 2,     1.49, 2,    0.000, 2,    0.000, 2,   2175.9, 2,   2327.1, 2,    775.1, 2,   2.6540,   -999.0, 9, -999.000, 9
318MHYDROS4, A16C, 346, 1, 22, 22, 2, 19890331, 1841, -13.3133, -25.0167, 5484,  -999.00,   2670.0,   2.7591,  34.9039, 2,  34.9030, 2,   -999.0, 9,    242.9, 2,    39.09, 2,    22.18, 2,     0.00, 2,     1.50, 2, -999.000, 9, -999.000, 9,   -999.0, 9,   -999.0, 9,   -999.0, 9,   2.5471,   -999.0, 9, -999.000, 9
318MHYDROS4, A16C, 346, 1, 23, 23, 2, 19890331, 1841, -13.3133, -25.0167, 5484,  -999.00,   2871.5,   2.7005,  34.9020, 2,  34.9010, 2,   -999.0, 9,    243.7, 2,    39.97, 2,    22.18, 2,     0.00, 2,     1.50, 2,    0.000, 2,    0.000, 2,   2179.5, 2,   2332.3, 2,    770.7, 2,   2.4695,   -999.0, 9, -999.000, 9
318MHYDROS4, A16C, 346, 1, 24, 24, 2, 19890331, 1841, -13.3133, -25.0167, 5484,  -999.00,   3072.3,   2.6450,  34.9022, 2,  34.9020, 2,   -999.0, 9,    245.5, 2,    40.17, 2,    21.89, 2,     0.00, 2,     1.50, 2, -999.000, 9, -999.000, 9,   -999.0, 9,   -999.0, 9,   -999.0, 9,   2.3946,   -999.0, 9, -999.000, 9
318MHYDROS4, A16C, 346, 1, 25, 25, 2, 19890331, 1841, -13.3133, -25.0167, 5484,  -999.00,   3279.9,   2.5715,  34.9010, 2,  34.9010, 2,   -999.0, 9,    248.5, 2,    40.36, 2,    21.60, 2,     0.00, 2,     1.48, 2,    0.000, 2,    0.000, 2,   2181.3, 2,   2335.5, 2,    765.6, 2,   2.3010,   -999.0, 9, -999.000, 9
318MHYDROS4, A16C, 346, 1, 26, 26, 2, 19890331, 1841, -13.3133, -25.0167, 5484,  -999.00,   3487.7,   2.4473,  34.8925, 2,  34.8920, 2,   -999.0, 9,    249.0, 2,    43.00, 2,    21.89, 2,     0.00, 2,     1.50, 2, -999.000, 9, -999.000, 9,   -999.0, 9,   -999.0, 9,   -999.0, 9,   2.1576,   -999.0, 9, -999.000, 9
318MHYDROS4, A16C, 346, 1, 27, 27, 2, 19890331, 1841, -13.3133, -25.0167, 5484,  -999.00,   3694.4,   2.2613,  34.8761, 2,  34.8760, 2,   -999.0, 9,    248.5, 2,    48.96, 2,    22.38, 2,     0.00, 2,     1.53, 2,    0.001, 2,    0.002, 2,   2186.0, 2,   2337.9, 2,    779.0, 2,   1.9540,   -999.0, 9, -999.000, 9
318MHYDROS4, A16C, 346, 1, 28, 28, 2, 19890331, 1841, -13.3133, -25.0167, 5484,  -999.00,   3902.4,   1.9872,  34.8489, 2,  34.8480, 2,   -999.0, 9,    245.0, 2,    59.32, 2,    23.85, 2,     0.00, 2,     1.64, 2, -999.000, 9, -999.000, 9,   -999.0, 9,   -999.0, 9,   -999.0, 9,   1.6645,   -999.0, 9, -999.000, 9
318MHYDROS4, A16C, 346, 1, 29, 29, 2, 19890331, 1841, -13.3133, -25.0167, 5484,  -999.00,   4112.0,   1.5816,  34.8066, 2,  34.8060, 2,   -999.0, 9,    238.5, 2,    75.25, 2,    26.09, 2,     0.00, 2,     1.81, 2, -999.000, 9, -999.000, 9,   2213.5, 2,   2352.0, 2,    861.3, 2,   1.2473,   -999.0, 9, -999.000, 9
318MHYDROS4, A16C, 346, 1, 30, 30, 2, 19890331, 1841, -13.3133, -25.0167, 5484,  -999.00,   4321.2,   1.2572,  34.7721, 2,  34.7710, 2,   -999.0, 9,    232.9, 2,    89.43, 2,    27.95, 2,     0.00, 2,     1.94, 2, -999.000, 9, -999.000, 9,   -999.0, 9,   -999.0, 9,   -999.0, 9,   0.9093,   -999.0, 9, -999.000, 9
318MHYDROS4, A16C, 346, 1, 31, 31, 2, 19890331, 1841, -13.3133, -25.0167, 5484,  -999.00,   4530.2,   1.0433,  34.7492, 2,  34.7490, 2,   -999.0, 9,    229.8, 2,    99.11, 2,    29.32, 2,     0.00, 2,     2.04, 2, -999.000, 9,    0.000, 2,   2235.3, 2,   2364.3, 2,    927.6, 2,   0.6787,   -999.0, 9, -999.000, 9
318MHYDROS4, A16C, 346, 1, 32, 32, 2, 19890331, 1841, -13.3133, -25.0167, 5484,  -999.00,   4739.8,   0.8955,  34.7328, 2,  34.7310, 2,   -999.0, 9,    227.2, 2,   106.24, 2,    30.20, 2,     0.00, 2,     2.10, 2, -999.000, 9, -999.000, 9,   -999.0, 9,   -999.0, 9,   -999.0, 9,   0.5118,   -999.0, 9, -999.000, 9
318MHYDROS4, A16C, 346, 1, 33, 33, 2, 19890331, 1841, -13.3133, -25.0167, 5484,  -999.00,   4949.6,   0.8052,  34.7212, 2,  34.7230, 2,   -999.0, 9,    225.5, 2,   110.35, 2,    30.79, 2,     0.00, 2,     2.14, 2,    0.001, 2,    0.004, 2,   2244.3, 2,   2367.0, 2,    970.6, 2,   0.4003,   -999.0, 9, -999.000, 9
318MHYDROS4, A16C, 346, 1, 34, 34, 2, 19890331, 1841, -13.3133, -25.0167, 5484,  -999.00,   5212.5,   0.7503,  34.7126, 2,  34.7110, 2,   -999.0, 9,    224.6, 2,   113.57, 2,    31.28, 2,     0.00, 2,     2.18, 2, -999.000, 9, -999.000, 9,   -999.0, 9,   -999.0, 9,   -999.0, 9,   0.3161,   -999.0, 9, -999.000, 9
318MHYDROS4, A16C, 346, 1, 35, 35, 2, 19890331, 1841, -13.3133, -25.0167, 5484,  -999.00,   5476.7,   0.7252,  34.7070, 2,  34.7060, 2,   -999.0, 9,    224.2, 2,   115.53, 2,    31.57, 2,     0.00, 2,     2.19, 2,    0.001, 2,    0.000, 2,   2246.8, 2,   2366.5, 2,    990.5, 2,   0.2598,   -999.0, 9, -999.000, 9
318MHYDROS4, A16C, 346, 1, 36, 36, 2, 19890331, 1841, -13.3133, -25.0167, 5484,  -999.00,   5721.5,   0.7503,  34.7061, 2, -999.0000, 9,   -999.0, 9,    224.2, 2,   115.14, 2,    31.57, 2,     0.00, 2,     2.20, 2,    0.002, 2,    0.004, 2,   2247.2, 2,   2369.4, 2,    976.1, 2,   0.2534,   -999.0, 9, -999.000, 9