BOTTLE,20110318CCHDOSIODM
#code : Justin Fields merge_exchange.rb 
#original files copied from HTML directory: 2011-03-18
#original HYD file: /Users/dave/CCHD11/SAVE/LEG6_HYD4/hyd4odfdmsv71_merged_hy1.csv  2011-03-18
EXPOCODE,SECT_ID,STNNBR,CASTNO,SAMPNO,BTLNBR,BTLNBR_FLAG_W,DATE,TIME,LATITUDE,LONGITUDE,DEPTH,CTDRAW,CTDPRS,CTDTMP,CTDSAL,CTDSAL_FLAG_W,SALNTY,SALNTY_FLAG_W,CTDOXY,CTDOXY_FLAG_W,OXYGEN,OXYGEN_FLAG_W,SILCAT,SILCAT_FLAG_W,NITRAT,NITRAT_FLAG_W,NITRIT,NITRIT_FLAG_W,PHSPHT,PHSPHT_FLAG_W,CFC-11,CFC-11_FLAG_W,CFC-12,CFC-12_FLAG_W,TCARBN,TCARBN_FLAG_W,ALKALI,ALKALI_FLAG_W,PCO2,PCO2_FLAG_W,THETA,REVPRS,REVPRS_FLAG_W,REVTMP,REVTMP_FLAG_W
,,,,,,,,,,,METERS,DBAR,DBAR,ITS-90,PSS-78,,PSS-78,,UMOL/KG,,UMOL/KG,,UMOL/KG,,UMOL/KG,,UMOL/KG,,UMOL/KG,,PMOL/KG,,PMOL/KG,,UMOL/KG,,UMOL/KG,,UATM,,DEG C,DBAR,,ITS-90,
318MHYDROS4, A16C, 309, 1, 25, 25, 2, 19890314, 1747, -34.7283, -52.0150, 256,  -999.00,      2.0,  25.0695,  35.6470, 2,  35.6490, 2,   -999.0, 9,    209.8, 2,     1.95, 2,     0.00, 2,     0.00, 2,     0.10, 2, -999.000, 9, -999.000, 9,   2003.8, 2,   2337.1, 2,    297.7, 2,  25.0691,   -999.0, 9, -999.000, 9
318MHYDROS4, A16C, 309, 1, 26, 26, 2, 19890314, 1747, -34.7283, -52.0150, 256,  -999.00,     22.8,  24.9242,  36.2535, 2,  36.1920, 2,   -999.0, 9,    219.7, 2,     1.95, 2,     0.00, 2,     0.00, 2,     0.07, 2,    1.679, 2,    0.871, 2,   2022.1, 2,   2364.6, 2,    297.0, 2,  24.9192,   -999.0, 9, -999.000, 9
318MHYDROS4, A16C, 309, 1, 27, 27, 2, 19890314, 1747, -34.7283, -52.0150, 256,  -999.00,     43.4,  25.1229,  36.7218, 2,  36.7010, 2,   -999.0, 9,    217.5, 2,     1.95, 2,     0.00, 2,     0.00, 2,     0.04, 2, -999.000, 9, -999.000, 9,   -999.0, 9,   -999.0, 9,   -999.0, 9,  25.1134,   -999.0, 9, -999.000, 9
318MHYDROS4, A16C, 309, 1, 28, 28, 2, 19890314, 1747, -34.7283, -52.0150, 256,  -999.00,     64.1,  25.1468,  36.7934, 2,  36.7950, 2,   -999.0, 9,    221.0, 2,     1.95, 2,     0.00, 2,     0.00, 2,     0.04, 2,    1.690, 2,    0.864, 2,   2041.5, 2,   2379.2, 3,    312.5, 2,  25.1327,   -999.0, 9, -999.000, 9
318MHYDROS4, A16C, 309, 1, 29, 29, 2, 19890314, 1747, -34.7283, -52.0150, 256,  -999.00,     85.1,  23.7850,  36.7069, 2,  36.7050, 2,   -999.0, 9,    221.8, 2,     1.95, 2,     0.00, 2,     0.00, 2,     0.05, 2, -999.000, 9, -999.000, 9,   -999.0, 9,   -999.0, 9,   -999.0, 9,  23.7670,   -999.0, 9, -999.000, 9
318MHYDROS4, A16C, 309, 1, 30, 30, 2, 19890314, 1747, -34.7283, -52.0150, 256,  -999.00,    105.6,  21.0318,  36.3942, 2,  36.4640, 2,   -999.0, 9,    236.0, 2,     1.85, 2,     0.00, 2,     0.00, 2,     0.06, 2,    1.942, 2,    0.985, 2,   -999.0, 9,   -999.0, 9,   -999.0, 9,  21.0115,   -999.0, 9, -999.000, 9
318MHYDROS4, A16C, 309, 1, 31, 31, 2, 19890314, 1747, -34.7283, -52.0150, 256,  -999.00,    126.6,  19.7682,  36.2432, 2,  36.2820, 2,   -999.0, 9,    221.2, 2,     1.85, 2,     0.10, 2,     0.04, 2,     0.12, 2, -999.000, 9, -999.000, 9,   2059.5, 2,   2376.2, 2,    338.6, 2,  19.7448,   -999.0, 9, -999.000, 9
318MHYDROS4, A16C, 309, 1, 32, 32, 2, 19890314, 1747, -34.7283, -52.0150, 256,  -999.00,    147.1,  18.4063,  35.9877, 2,  36.0250, 2,   -999.0, 9,    195.9, 2,     4.69, 2,     2.25, 2,     0.08, 2,     0.33, 2,    1.936, 2,    0.963, 2,   -999.0, 9,   -999.0, 9,   -999.0, 9,  18.3805,   -999.0, 9, -999.000, 9
318MHYDROS4, A16C, 309, 1, 33, 33, 2, 19890314, 1747, -34.7283, -52.0150, 256,  -999.00,    182.4,  17.3901,  35.8576, 2,  35.8570, 2,   -999.0, 9,    192.8, 2,     4.69, 2,     3.61, 2,     0.05, 2,     0.44, 2, -999.000, 9, -999.000, 9,   2091.0, 2,   2362.9, 2,    411.4, 2,  17.3593,   -999.0, 9, -999.000, 9
318MHYDROS4, A16C, 309, 1, 34, 34, 2, 19890314, 1747, -34.7283, -52.0150, 256,  -999.00,    207.7,  17.1549,  35.8343, 2,  35.8320, 2,   -999.0, 9,    195.4, 2,     4.00, 2,     3.71, 2,     0.04, 2,     0.43, 2,    1.952, 2,    0.981, 2,   -999.0, 9,   -999.0, 9,   -999.0, 9,  17.1202,   -999.0, 9, -999.000, 9
318MHYDROS4, A16C, 309, 1, 35, 35, 2, 19890314, 1747, -34.7283, -52.0150, 256,  -999.00,    233.3,  17.0653,  35.8247, 2,  35.8220, 2,   -999.0, 9,    195.0, 2,     4.00, 2,     3.81, 2,     0.04, 2,     0.44, 2, -999.000, 9, -999.000, 9,   2083.8, 2,   2338.1, 2,    440.0, 2,  17.0264,   -999.0, 9, -999.000, 9
318MHYDROS4, A16C, 309, 1, 36, 36, 2, 19890314, 1747, -34.7283, -52.0150, 256,  -999.00,    256.4,  10.0325,  34.8348, 2,  34.8270, 2,   -999.0, 9,    204.0, 2,     8.80, 2,    17.59, 2,     0.03, 2,     1.27, 2,    1.424, 2,    0.684, 2,   2133.3, 2,   2310.2, 2,    648.3, 2,  10.0027,   -999.0, 9, -999.000, 9
318MHYDROS4, A16C, 310, 1, 20, 20, 2, 19890314, 1958, -34.8567, -51.9233, 1019,  -999.00,      3.2,  24.5214,  36.3670, 2,  36.3660, 2,   -999.0, 9,    216.6, 2,     1.85, 2,     0.00, 2,     0.00, 2,     0.05, 2,    1.725, 2,    0.882, 2,   2029.5, 2,   2384.9, 2,    286.8, 2,  24.5207,   -999.0, 9, -999.000, 9
318MHYDROS4, A16C, 310, 1, 21, 21, 2, 19890314, 1958, -34.8567, -51.9233, 1019,  -999.00,     34.4,  24.8571,  36.6185, 2,  36.6010, 2,   -999.0, 9,    217.5, 2,     1.85, 2,     0.00, 2,     0.00, 2,     0.04, 2, -999.000, 9, -999.000, 9,   2036.5, 2,   2396.2, 2,    286.1, 2,  24.8496,   -999.0, 9, -999.000, 9
318MHYDROS4, A16C, 310, 1, 22, 22, 2, 19890314, 1958, -34.8567, -51.9233, 1019,  -999.00,     65.2,  24.0537,  36.8414, 2,  36.8420, 2,   -999.0, 9,    229.2, 2,     1.66, 2,     0.00, 2,     0.00, 2,     0.03, 2,    1.793, 2,    0.903, 2,   2047.0, 2,   2407.0, 2,    290.4, 2,  24.0399,   -999.0, 9, -999.000, 9
318MHYDROS4, A16C, 310, 1, 23, 23, 2, 19890314, 1958, -34.8567, -51.9233, 1019,  -999.00,     85.9,  22.3586,  36.8401, 2,  36.8430, 2,   -999.0, 9,    223.4, 2,     1.66, 2,     0.00, 2,     0.00, 2,     0.04, 2, -999.000, 9, -999.000, 9,   2065.8, 2,   2419.0, 2,    302.4, 2,  22.3413,   -999.0, 9, -999.000, 9
318MHYDROS4, A16C, 310, 1, 24, 24, 2, 19890314, 1958, -34.8567, -51.9233, 1019,  -999.00,    106.0,  21.5664,  36.7345, 2,  36.7250, 2,   -999.0, 9,    219.0, 2,     1.66, 2,     0.00, 2,     0.06, 2,     0.08, 2,    1.891, 2,    0.956, 2,   2070.0, 2,   2408.4, 2,    319.1, 2,  21.5456,   -999.0, 9, -999.000, 9
318MHYDROS4, A16C, 310, 1, 25, 25, 2, 19890314, 1958, -34.8567, -51.9233, 1019,  -999.00,    157.8,  20.2180,  36.4576, 2,  36.4730, 2,   -999.0, 9,    209.0, 2,     1.66, 2,     0.88, 2,     0.02, 2,     0.15, 2,    1.927, 2,    0.954, 2,   2071.3, 2,   2383.9, 2,    349.2, 2,  20.1883,   -999.0, 9, -999.000, 9
318MHYDROS4, A16C, 310, 1, 26, 26, 2, 19890314, 1958, -34.8567, -51.9233, 1019,  -999.00,    208.6,  16.7339,  35.8383, 2,  35.8370, 2,   -999.0, 9,    211.1, 2,     2.05, 2,     2.73, 2,     0.02, 2,     0.32, 2,    2.148, 2,    1.054, 2,   2082.2, 2,   2359.8, 2,    398.2, 2,  16.6996,   -999.0, 9, -999.000, 9
318MHYDROS4, A16C, 310, 1, 27, 27, 2, 19890314, 1958, -34.8567, -51.9233, 1019,  -999.00,    259.8,  15.2244,  35.5588, 2,  35.5620, 2,   -999.0, 9,    208.4, 2,     2.64, 2,     5.27, 2,     0.01, 2,     0.48, 2,    1.973, 2,    0.963, 2,   2088.2, 2,   2333.4, 2,    456.2, 2,  15.1844,   -999.0, 9, -999.000, 9
318MHYDROS4, A16C, 310, 1, 28, 28, 2, 19890314, 1958, -34.8567, -51.9233, 1019,  -999.00,    310.8,  14.0970,  35.3879, 2,  35.3890, 2,   -999.0, 9,    208.8, 2,     3.22, 2,     7.52, 2,     0.01, 2,     0.62, 2,    1.953, 2,    0.947, 2,   2096.0, 2,   2335.1, 2,    470.3, 2,  14.0515,   -999.0, 9, -999.000, 9
318MHYDROS4, A16C, 310, 1, 29, 29, 2, 19890314, 1958, -34.8567, -51.9233, 1019,  -999.00,    410.4,  11.6630,  35.0506, 2,  35.0490, 2,   -999.0, 9,    206.2, 2,     5.77, 2,    13.00, 2,     0.01, 2,     1.00, 2,    1.646, 2,    0.790, 2,   2114.6, 2,   2314.0, 2,    571.8, 2,  11.6099,   -999.0, 9, -999.000, 9
318MHYDROS4, A16C, 310, 1, 30, 30, 2, 19890314, 1958, -34.8567, -51.9233, 1019,  -999.00,    459.9,   8.6657,  34.6673, 2,  34.6670, 2,   -999.0, 9,    205.7, 2,     9.87, 2,    20.23, 2,     0.01, 2,     1.45, 2, -999.000, 9, -999.000, 9,   2140.9, 2,   2302.0, 2,    708.3, 2,   8.6164,   -999.0, 9, -999.000, 9
318MHYDROS4, A16C, 310, 1, 31, 31, 2, 19890314, 1958, -34.8567, -51.9233, 1019,  -999.00,    510.8,   7.5562,  34.5511, 2,  34.5540, 2,   -999.0, 9,    208.7, 2,    12.22, 2,    22.87, 2,     0.01, 2,     1.59, 2,    1.162, 2,    0.548, 2,   2141.1, 2,   2289.6, 2,    759.1, 2,   7.5055,   -999.0, 9, -999.000, 9
318MHYDROS4, A16C, 310, 1, 32, 32, 2, 19890314, 1958, -34.8567, -51.9233, 1019,  -999.00,    612.5,   5.8291,  34.3658, 2,  34.3700, 2,   -999.0, 9,    229.6, 2,    14.57, 2,    25.32, 2,     0.00, 2,     1.75, 2, -999.000, 9, -999.000, 9,   2147.9, 2,   2291.0, 2,    785.1, 2,   5.7760,   -999.0, 9, -999.000, 9
318MHYDROS4, A16C, 310, 1, 33, 33, 2, 19890314, 1958, -34.8567, -51.9233, 1019,  -999.00,    713.1,   4.7155,  34.2371, 2,  34.2360, 2,   -999.0, 9,    256.5, 2,    15.74, 2,    25.81, 2,     0.00, 2,     1.80, 2,    2.570, 2,    1.157, 2,   2149.6, 2,   2292.4, 2,    785.5, 2,   4.6594,   -999.0, 9, -999.000, 9
318MHYDROS4, A16C, 310, 1, 34, 34, 2, 19890314, 1958, -34.8567, -51.9233, 1019,  -999.00,    811.8,   4.2541,  34.2429, 2,  34.2400, 2,   -999.0, 9,    247.0, 2,    21.22, 2,    27.96, 2,     0.00, 2,     1.96, 2,    2.037, 2,    0.921, 2,   2161.4, 2,   2305.3, 2,    789.4, 2,   4.1926,   -999.0, 9, -999.000, 9
318MHYDROS4, A16C, 310, 1, 35, 35, 2, 19890314, 1958, -34.8567, -51.9233, 1019,  -999.00,    927.7,   3.9564,  34.2548, 2,  34.2520, 2,   -999.0, 9,    239.1, 2,    25.42, 2,    29.33, 2,     0.00, 2,     2.05, 2,    1.672, 2,    0.750, 2,   2174.5, 2,   2302.0, 2,    878.4, 2,   3.8874,   -999.0, 9, -999.000, 9
318MHYDROS4, A16C, 310, 1, 36, 36, 2, 19890314, 1958, -34.8567, -51.9233, 1019,  -999.00,   1023.2,   3.8112,  34.2679, 2,  34.2640, 2,   -999.0, 9,    233.5, 2,    28.16, 2,    29.92, 2,     0.00, 2,     2.09, 2,    1.416, 2,    0.632, 2,   2174.1, 2,   2300.5, 2,    885.2, 2,   3.7355,   -999.0, 9, -999.000, 9
318MHYDROS4, A16C, 311, 1, 20, 20, 2, 19890315, 0245, -35.0650, -51.7067, 1809,  -999.00,     10.3,  25.1032,  36.7705, 2,  36.7710, 2,   -999.0, 9,    207.0, 2,     1.37, 2,     0.00, 2,     0.00, 2,     0.04, 2,    1.672, 2,    0.862, 2,   2045.4, 2,   2408.1, 2,    286.7, 2,  25.1009,   -999.0, 9, -999.000, 9
318MHYDROS4, A16C, 311, 1, 21, 21, 2, 19890315, 0245, -35.0650, -51.7067, 1809,  -999.00,     43.1,  24.4230,  36.8866, 2,  36.8860, 2,   -999.0, 9,    224.0, 2,     1.37, 2,     0.00, 2,     0.00, 2,     0.03, 2,    1.804, 2,    0.911, 2,   2051.2, 2,   2405.8, 2,    297.3, 2,  24.4138,   -999.0, 9, -999.000, 9
318MHYDROS4, A16C, 311, 1, 22, 22, 2, 19890315, 0245, -35.0650, -51.7067, 1809,  -999.00,     82.0,  22.3227,  36.8262, 2,  36.8240, 2,   -999.0, 9,    214.3, 2,     1.46, 2,     0.00, 2,     0.00, 2,     0.06, 2,    1.876, 2,    0.934, 2,   -999.0, 9,   -999.0, 9,   -999.0, 9,  22.3062,   -999.0, 9, -999.000, 9
318MHYDROS4, A16C, 311, 1, 23, 23, 2, 19890315, 0245, -35.0650, -51.7067, 1809,  -999.00,    122.3,  21.3520,  36.6888, 2,  36.6890, 2,   -999.0, 9,    209.0, 2,     1.46, 2,     0.00, 2,     0.11, 2,     0.08, 2,    1.959, 2,    0.965, 2,   2066.1, 2,   2389.3, 2,    335.9, 2,  21.3281,   -999.0, 9, -999.000, 9
318MHYDROS4, A16C, 311, 1, 24, 24, 2, 19890315, 0245, -35.0650, -51.7067, 1809,  -999.00,    201.4,  18.2709,  36.0548, 2,  36.0560, 2,   -999.0, 9,    208.1, 2,     1.86, 2,     0.68, 2,     0.02, 2,     0.21, 2,    2.096, 2,    1.035, 2,   2071.7, 2,   -999.0, 9,   -999.0, 9,  18.2357,   -999.0, 9, -999.000, 9
318MHYDROS4, A16C, 311, 1, 25, 25, 2, 19890315, 0245, -35.0650, -51.7067, 1809,  -999.00,    250.4,  16.5969,  35.7971, 2,  35.8030, 2,   -999.0, 9,    210.2, 2,     1.86, 2,     2.34, 2,     0.01, 2,     0.32, 2, -999.000, 9, -999.000, 9,   2077.9, 2,   2351.1, 2,    403.6, 2,  16.5560,   -999.0, 9, -999.000, 9
318MHYDROS4, A16C, 311, 1, 26, 26, 2, 19890315, 0245, -35.0650, -51.7067, 1809,  -999.00,    301.6,  15.4574,  35.5909, 2,  35.6060, 2,   -999.0, 9,    209.3, 2,     2.25, 2,     3.91, 2,     0.01, 2,     0.46, 2,    2.028, 2,    1.005, 2,   -999.0, 9,   -999.0, 9,    426.9, 2,  15.4105,   -999.0, 9, -999.000, 9
318MHYDROS4, A16C, 311, 1, 27, 27, 2, 19890315, 0245, -35.0650, -51.7067, 1809,  -999.00,    398.9,  14.0014,  35.3772, 2,  35.3830, 2,   -999.0, 9,    209.7, 2,     3.22, 2,     6.74, 2,     0.00, 2,     0.62, 2,    1.959, 2,    0.952, 2,   2092.8, 2,   2325.9, 2,    481.6, 2,  13.9432,   -999.0, 9, -999.000, 9
318MHYDROS4, A16C, 311, 1, 28, 28, 2, 19890315, 0245, -35.0650, -51.7067, 1809,  -999.00,    496.3,  12.3272,  35.1268, 2,  35.1340, 2,   -999.0, 9,    204.9, 2,     4.59, 2,    10.85, 2,     0.00, 2,     0.87, 2, -999.000, 9, -999.000, 9,   -999.0, 9,   -999.0, 9,   -999.0, 9,  12.2604,   -999.0, 9, -999.000, 9
318MHYDROS4, A16C, 311, 1, 29, 29, 2, 19890315, 0245, -35.0650, -51.7067, 1809,  -999.00,    646.5,   8.0098,  34.6017, 2,  34.6020, 2,   -999.0, 9,    200.9, 2,    12.12, 2,    22.58, 2,     0.00, 2,     1.57, 2,    1.006, 2,    0.479, 2,   2146.0, 2,   2299.4, 2,    741.8, 2,   7.9429,   -999.0, 9, -999.000, 9
318MHYDROS4, A16C, 311, 1, 30, 30, 2, 19890315, 0245, -35.0650, -51.7067, 1809,  -999.00,    798.2,   5.3472,  34.3273, 2,  34.3280, 2,   -999.0, 9,    234.4, 2,    16.03, 2,    26.10, 2,     0.00, 2,     1.81, 2,    1.527, 2,    0.704, 2,   2150.9, 2,   2295.9, 2,    778.3, 2,   5.2800,   -999.0, 9, -999.000, 9
318MHYDROS4, A16C, 311, 1, 31, 31, 2, 19890315, 0245, -35.0650, -51.7067, 1809,  -999.00,    950.7,   4.1674,  34.2759, 2,  34.2760, 2,   -999.0, 9,    234.8, 2,    23.76, 2,    29.04, 2,     0.00, 2,     2.00, 2,    1.192, 2,    0.553, 2,   2165.2, 2,   2294.7, 2,    862.4, 2,   4.0950,   -999.0, 9, -999.000, 9
318MHYDROS4, A16C, 311, 1, 32, 32, 2, 19890315, 0245, -35.0650, -51.7067, 1809,  -999.00,   1099.9,   3.5182,  34.2908, 2,  34.2900, 2,   -999.0, 9,    224.3, 2,    33.24, 2,    30.99, 2,     0.00, 2,     2.16, 2,    0.827, 2,    0.375, 2,   -999.0, 9,   -999.0, 9,   -999.0, 9,   3.4386,   -999.0, 9, -999.000, 9
318MHYDROS4, A16C, 311, 1, 33, 33, 2, 19890315, 0245, -35.0650, -51.7067, 1809,  -999.00,   1246.3,   3.3462,  34.3916, 2,  34.3910, 2,   -999.0, 9,    200.0, 2,    44.09, 2,    32.46, 2,     0.00, 2,     2.26, 2,    0.203, 2,    0.101, 2,   2204.5, 2,   -999.0, 9,   -999.0, 9,   3.2561,   -999.0, 9, -999.000, 9
318MHYDROS4, A16C, 311, 1, 34, 34, 2, 19890315, 0245, -35.0650, -51.7067, 1809,  -999.00,   1495.2,   3.1652,  34.5280, 2,  34.5280, 2,   -999.0, 9,    190.4, 2,    51.42, 2,    32.16, 2,     0.00, 2,     2.24, 2,    0.071, 2,    0.031, 2,   2217.5, 2,   2327.5, 2,   1017.8, 2,   3.0560,   -999.0, 9, -999.000, 9
318MHYDROS4, A16C, 311, 1, 35, 35, 2, 19890315, 0245, -35.0650, -51.7067, 1809,  -999.00,   1700.6,   3.5105,  34.7500, 2,  34.7510, 2,   -999.0, 9,    202.5, 2,    40.56, 2,    27.76, 2,     0.00, 2,     1.91, 2,    0.015, 2,    0.005, 2,   -999.0, 9,   -999.0, 9,   -999.0, 9,   3.3786,   1695.6, 2,    3.507, 2
318MHYDROS4, A16C, 311, 1, 36, 36, 2, 19890315, 0245, -35.0650, -51.7067, 1809,  -999.00,   1819.2,   3.5999,  34.8934, 2,  34.8940, 2,   -999.0, 9,    228.6, 2,    29.51, 2,    22.87, 2,     0.00, 2,     1.58, 2,    0.009, 2,    0.002, 2,   2186.1, 2,   2333.7, 2,    796.0, 2,   3.4556,   -999.0, 9, -999.000, 9